BOTTLE,20230922CCHSIOCBG
EXPOCODE,SECT_ID,STNNBR,CASTNO,SAMPNO,BTLNBR,BTLNBR_FLAG_W,DATE,TIME,LATITUDE,LONGITUDE,DEPTH,CTDPRS,CTDTMP,CTDSAL,CTDSAL_FLAG_W,SALNTY,SALNTY_FLAG_W,CTDOXY,CTDOXY_FLAG_W,OXYGEN,OXYGEN_FLAG_W,SILCAT,SILCAT_FLAG_W,NITRAT,NITRAT_FLAG_W,NITRIT,NITRIT_FLAG_W,PHSPHT,PHSPHT_FLAG_W,CFC-11,CFC-11_FLAG_W,CFC-12,CFC-12_FLAG_W,SF6,SF6_FLAG_W,TCARBN,TCARBN_FLAG_W,ALKALI,ALKALI_FLAG_W,PH_TOT,PH_TOT_FLAG_W,DELC13,DELC13_FLAG_W,DELC14,DELC14_FLAG_W,C14ERR,DOC,DOC_FLAG_W,TDN,TDN_FLAG_W,TON,TON_FLAG_W,D15N_NO3,D15N_NO3_FLAG_W,BTL_DATE,BTL_TIME,BTL_LAT,BTL_LON,CTDRINKO,CTDRINKO_FLAG_W,CTDFLUOR,CTDFLUOR_FLAG_W,CTDXMISS,CTDXMISS_FLAG_W,CTDBACKSCATTER,CTDBACKSCATTER_FLAG_W,PH_TMP,D18O_NO3,D18O_NO3_FLAG_W,DOP,DOP_FLAG_W,HPLC,HPLC_FLAG_W,POC,POC_FLAG_W,REFTMP,REFTMP_FLAG_W,TDP,TDP_FLAG_W
,,,,,,,,,,,METERS,DBAR,ITS-90,PSS-78,,PSS-78,,UMOL/KG,,UMOL/KG,,UMOL/KG,,UMOL/KG,,UMOL/KG,,UMOL/KG,,PMOL/KG,,PMOL/KG,,FMOL/KG,,UMOL/KG,,UMOL/KG,,,,/MILLE,,/MILLE,,/MILLE,UMOL/KG,,UMOL/KG,,UMOL/KG,,/MILLE,,,,,,VOLTS,,VOLTS,,VOLTS,,VOLTS,,DEGC,/MILLE,,UMOL/KG,,,,UG/L,,ITS-90,,UMOL/KG,
320620170703,        P06,     104,          1,         33,         33,2,20170730,       1312,   -32.5003,  -172.4188,       5738,    65.7,  17.5695,  35.6867,2,  35.6840,2, 232.1334,2, 231.7884,2,     0.2,2,    0.04,2,    0.03,2,    0.10,2,-999.000,9,-999.000,9,-999.0000,9,  2070.5,2, 2338.24,2,   7.9795,2, -999.00,9, -999.00,9, -999.00,  -999.0,9, -999.00,9,     -999.0,9,  -999.0,9, 20170730,     1307, -32.5001,-172.4192,        0.0,1,      0.181,1,      4.633,1,      0.201,1,      25.04,     -999.0,9,     -999.0,9,     -999.0,9,     -999.0,9,    17.5491,2,     -999.0,9
320620170703,        P06,     104,          1,         34,         34,2,20170730,       1312,   -32.5003,  -172.4188,       5738,    40.5,  17.5678,  35.6868,2,  35.6840,2, 231.7000,2, 231.8135,2,     0.2,2,    0.03,2,    0.04,2,    0.11,2,   2.235,2,   1.286,2,   1.4460,2,  -999.0,9, -999.00,9,-999.0000,9, -999.00,9, -999.00,9, -999.00,  -999.0,9, -999.00,9,     -999.0,9,  -999.0,9, 20170730,     1309, -32.5002,-172.4191,        0.0,1,      0.182,1,      4.634,1,      0.197,1,     -999.0,     -999.0,9,     -999.0,9,     -999.0,9,     -999.0,9,    17.5411,2,     -999.0,9
320620170703,        P06,     104,          1,         35,         35,2,20170730,       1312,   -32.5003,  -172.4188,       5738,    20.5,  17.5609,  35.6858,2,  35.6840,2, 232.5512,2, 231.8235,2,     0.3,2,    0.04,2,    0.03,2,    0.11,2,-999.000,9,-999.000,9,-999.0000,9,  2069.0,2, 2339.53,2,   7.9788,2, -999.00,9, -999.00,9, -999.00,  -999.0,9, -999.00,9,     -999.0,9,  -999.0,9, 20170730,     1311, -32.5002,-172.4189,        0.0,1,      0.188,1,      4.635,1,      0.199,1,      25.04,     -999.0,9,     -999.0,9,     -999.0,9,     -999.0,9,    17.5392,2,     -999.0,9
320620170703,        P06,     104,          1,         36,         36,2,20170730,       1312,   -32.5003,  -172.4188,       5738,     4.9,  17.5567,  35.6862,2,  35.6840,2, 232.3137,2, 231.9462,2,     0.3,2,    0.02,2,    0.04,2,    0.12,2,   2.240,2,   1.290,2,   1.4070,2,  2070.9,6, 2344.27,2,   7.9787,2, -999.00,9, -999.00,9, -999.00,  -999.0,9, -999.00,9,     -999.0,9,  -999.0,9, 20170730,     1312, -32.5003,-172.4188,        0.0,1,      0.189,1,      4.627,1,      0.190,1,      25.01,     -999.0,9,     -999.0,9,     -999.0,9,     -999.0,9,    17.5338,2,     -999.0,9