BOTTLE,20230922CCHSIOCBG
EXPOCODE,SECT_ID,STNNBR,CASTNO,SAMPNO,BTLNBR,BTLNBR_FLAG_W,DATE,TIME,LATITUDE,LONGITUDE,DEPTH,CTDPRS,CTDTMP,CTDSAL,CTDSAL_FLAG_W,SALNTY,SALNTY_FLAG_W,CTDOXY,CTDOXY_FLAG_W,OXYGEN,OXYGEN_FLAG_W,SILCAT,SILCAT_FLAG_W,NITRAT,NITRAT_FLAG_W,NITRIT,NITRIT_FLAG_W,PHSPHT,PHSPHT_FLAG_W,CFC-11,CFC-11_FLAG_W,CFC-12,CFC-12_FLAG_W,SF6,SF6_FLAG_W,TCARBN,TCARBN_FLAG_W,ALKALI,ALKALI_FLAG_W,PH_TOT,PH_TOT_FLAG_W,DELC13,DELC13_FLAG_W,DELC14,DELC14_FLAG_W,C14ERR,DOC,DOC_FLAG_W,TDN,TDN_FLAG_W,TON,TON_FLAG_W,D15N_NO3,D15N_NO3_FLAG_W,BTL_DATE,BTL_TIME,BTL_LAT,BTL_LON,CTDRINKO,CTDRINKO_FLAG_W,CTDFLUOR,CTDFLUOR_FLAG_W,CTDXMISS,CTDXMISS_FLAG_W,CTDBACKSCATTER,CTDBACKSCATTER_FLAG_W,PH_TMP,D18O_NO3,D18O_NO3_FLAG_W,DOP,DOP_FLAG_W,HPLC,HPLC_FLAG_W,POC,POC_FLAG_W,REFTMP,REFTMP_FLAG_W,TDP,TDP_FLAG_W
,,,,,,,,,,,METERS,DBAR,ITS-90,PSS-78,,PSS-78,,UMOL/KG,,UMOL/KG,,UMOL/KG,,UMOL/KG,,UMOL/KG,,UMOL/KG,,PMOL/KG,,PMOL/KG,,FMOL/KG,,UMOL/KG,,UMOL/KG,,,,/MILLE,,/MILLE,,/MILLE,UMOL/KG,,UMOL/KG,,UMOL/KG,,/MILLE,,,,,,VOLTS,,VOLTS,,VOLTS,,VOLTS,,DEGC,/MILLE,,UMOL/KG,,,,UG/L,,ITS-90,,UMOL/KG,
320620170703,        P06,     119,          1,         33,         33,2,20170803,       2223,   -32.5005,  -165.1636,       6365,    65.8,  18.4022,  35.6902,2,  35.7306,2, 228.2179,2, 228.0486,2,     0.2,2,    0.03,2,    0.01,2,    0.03,2,   2.024,2,   1.237,2,   1.3490,2,  2061.5,2, 2339.62,2,   8.0029,2, -999.00,9, -999.00,9, -999.00,  -999.0,9, -999.00,9,     -999.0,9,  -999.0,9, 20170803,     2218, -32.5001,-165.1641,        0.0,1,      0.167,1,      4.634,1,      0.197,1,      25.02,     -999.0,9,     -999.0,9,     -999.0,9,     -999.0,9,    18.6171,2,     -999.0,9
320620170703,        P06,     119,          1,         34,         34,2,20170803,       2223,   -32.5005,  -165.1636,       6365,    40.6,  18.4046,  35.6914,2,  35.7233,2, 228.2179,2, 228.5308,2,     0.2,2,    0.03,2,    0.02,2,    0.04,2,   1.979,2,   1.235,2,   1.2970,2,  -999.0,9, -999.00,9,-999.0000,9, -999.00,9, -999.00,9, -999.00,  -999.0,9, -999.00,9,     -999.0,9,  -999.0,9, 20170803,     2220, -32.5003,-165.1639,        0.0,1,      0.162,1,      4.635,1,      0.193,1,     -999.0,     -999.0,9,     -999.0,9,     -999.0,9,     -999.0,9,    18.6179,2,     -999.0,9
320620170703,        P06,     119,          1,         35,         35,2,20170803,       2223,   -32.5005,  -165.1636,       6365,    19.4,  18.4715,  35.7090,2,  35.7171,2, 228.2179,2, 228.1101,2,     0.2,2,    0.05,2,    0.02,2,    0.04,2,   2.042,2,   1.234,2,   1.4310,2,  2058.9,2, 2340.87,2,   8.0022,2, -999.00,9, -999.00,9, -999.00,  -999.0,9, -999.00,9,     -999.0,9,  -999.0,9, 20170803,     2222, -32.5004,-165.1637,        0.0,1,      0.146,1,      4.635,1,      0.189,1,      25.06,     -999.0,9,     -999.0,9,     -999.0,9,     -999.0,9,    18.6041,2,     -999.0,9
320620170703,        P06,     119,          1,         36,         36,2,20170803,       2223,   -32.5005,  -165.1636,       6365,     5.1,  18.4702,  35.7088,2,  35.7144,2, 228.2179,2, 228.0409,2,     0.3,2,    0.06,2,    0.02,2,    0.05,2,   2.046,2,   1.241,2,   1.4380,2,  2059.8,6, 2337.48,2,   8.0023,2, -999.00,9, -999.00,9, -999.00,    61.8,2,    4.20,2,     -999.0,1,  -999.0,9, 20170803,     2223, -32.5005,-165.1636,        0.0,1,      0.149,1,      4.636,1,      0.189,1,      25.02,     -999.0,9,     -999.0,9,     -999.0,9,     -999.0,9,    18.5991,2,     -999.0,9