BOTTLE,20230922CCHSIOCBG
EXPOCODE,SECT_ID,STNNBR,CASTNO,SAMPNO,BTLNBR,BTLNBR_FLAG_W,DATE,TIME,LATITUDE,LONGITUDE,DEPTH,CTDPRS,CTDTMP,CTDSAL,CTDSAL_FLAG_W,SALNTY,SALNTY_FLAG_W,CTDOXY,CTDOXY_FLAG_W,OXYGEN,OXYGEN_FLAG_W,SILCAT,SILCAT_FLAG_W,NITRAT,NITRAT_FLAG_W,NITRIT,NITRIT_FLAG_W,PHSPHT,PHSPHT_FLAG_W,CFC-11,CFC-11_FLAG_W,CFC-12,CFC-12_FLAG_W,SF6,SF6_FLAG_W,TCARBN,TCARBN_FLAG_W,ALKALI,ALKALI_FLAG_W,PH_TOT,PH_TOT_FLAG_W,DELC13,DELC13_FLAG_W,DELC14,DELC14_FLAG_W,C14ERR,DOC,DOC_FLAG_W,TDN,TDN_FLAG_W,TON,TON_FLAG_W,D15N_NO3,D15N_NO3_FLAG_W,BTL_DATE,BTL_TIME,BTL_LAT,BTL_LON,CTDRINKO,CTDRINKO_FLAG_W,CTDFLUOR,CTDFLUOR_FLAG_W,CTDXMISS,CTDXMISS_FLAG_W,CTDBACKSCATTER,CTDBACKSCATTER_FLAG_W,PH_TMP,D18O_NO3,D18O_NO3_FLAG_W,DOP,DOP_FLAG_W,HPLC,HPLC_FLAG_W,POC,POC_FLAG_W,REFTMP,REFTMP_FLAG_W,TDP,TDP_FLAG_W
,,,,,,,,,,,METERS,DBAR,ITS-90,PSS-78,,PSS-78,,UMOL/KG,,UMOL/KG,,UMOL/KG,,UMOL/KG,,UMOL/KG,,UMOL/KG,,PMOL/KG,,PMOL/KG,,FMOL/KG,,UMOL/KG,,UMOL/KG,,,,/MILLE,,/MILLE,,/MILLE,UMOL/KG,,UMOL/KG,,UMOL/KG,,/MILLE,,,,,,VOLTS,,VOLTS,,VOLTS,,VOLTS,,DEGC,/MILLE,,UMOL/KG,,,,UG/L,,ITS-90,,UMOL/KG,
320620170703,        P06,     130,          2,          1,          1,2,20170809,       1019,   -32.4999,  -157.6164,       5065,  5153.9,   1.1075,  34.7099,2,  34.7085,2, 203.0424,3, 205.2131,2,   120.7,2,   32.23,2,    0.00,2,    2.21,2,   0.103,2,   0.057,2,   0.0000,2,  2264.0,6, 2365.95,2,   7.6068,2, -999.00,9, -999.00,9, -999.00,  -999.0,9, -999.00,9,     -999.0,1,  -999.0,9, 20170809,      759, -32.4999,-157.6165,        0.0,1,      0.060,1,      4.696,1,      0.124,1,      25.05,     -999.0,9,     -999.0,9,     -999.0,9,     -999.0,9,     1.1081,2,     -999.0,9
320620170703,        P06,     130,          2,          2,          2,2,20170809,       1019,   -32.4999,  -157.6164,       5065,  4941.5,   1.0898,  34.7103,2,  34.7083,2, 203.0424,2, 204.9949,2,   120.6,2,   32.22,2,    0.00,2,    2.21,2,   0.094,2,   0.058,2,   0.0000,2,  2265.1,2, 2373.19,2,   7.6076,2, -999.00,9, -999.00,9, -999.00,  -999.0,9, -999.00,9,     -999.0,9,  -999.0,9, 20170809,      809, -32.5000,-157.6164,        0.0,1,      0.061,1,      4.697,1,      0.125,1,      25.04,     -999.0,9,     -999.0,9,     -999.0,9,     -999.0,9,     1.0866,2,     -999.0,9
320620170703,        P06,     130,          2,          3,          3,2,20170809,       1019,   -32.4999,  -157.6164,       5065,  4681.2,   1.1017,  34.7115,2,  34.7091,2, 203.9535,2, 204.1890,2,   119.4,2,   32.18,2,    0.00,2,    2.23,2,   0.075,2,   0.047,2,   0.0000,2,  2263.1,2, 2371.09,2,   7.6058,2, -999.00,9, -999.00,9, -999.00,    41.7,2, -999.00,9,     -999.0,1,  -999.0,9, 20170809,      817, -32.5000,-157.6164,        0.0,1,      0.061,1,      4.698,1,      0.123,1,      25.05,     -999.0,9,     -999.0,9,     -999.0,9,     -999.0,9,     1.1005,2,     -999.0,9
320620170703,        P06,     130,          2,          4,          4,2,20170809,       1019,   -32.4999,  -157.6164,       5065,  4374.3,   1.2205,  34.7142,2,  34.7107,2, 203.5977,3, 200.5691,2,   116.4,2,   32.13,2,    0.00,2,    2.21,2,   0.052,2,   0.036,2,   0.0000,2,  2263.2,2, 2378.81,2,   7.6059,2, -999.00,9, -999.00,9, -999.00,  -999.0,9, -999.00,9,     -999.0,9,  -999.0,9, 20170809,      825, -32.5000,-157.6165,        0.0,1,      0.061,1,      4.699,1,      0.123,1,      25.04,     -999.0,9,     -999.0,9,     -999.0,9,     -999.0,9,     1.2051,2,     -999.0,9
320620170703,        P06,     130,          2,          5,          5,2,20170809,       1019,   -32.4999,  -157.6164,       5065,  4066.1,   1.3746,  34.7141,2,  34.7123,2, 194.5670,2, 194.4555,2,   114.7,2,   32.33,2,    0.00,2,    2.24,2,   0.041,2,   0.027,2,   0.0000,2,  2267.1,2, 2371.82,2,   7.6035,2, -999.00,9, -999.00,9, -999.00,    42.4,2, -999.00,9,     -999.0,1,  -999.0,9, 20170809,      831, -32.4999,-157.6166,        0.0,1,      0.061,1,      4.699,1,      0.124,1,      25.04,     -999.0,9,     -999.0,9,     -999.0,9,     -999.0,9,     1.3552,2,     -999.0,9
320620170703,        P06,     130,          2,          6,          6,2,20170809,       1019,   -32.4999,  -157.6164,       5065,  3757.2,   1.5222,  34.7052,2,  34.7036,2, 184.2199,2, 183.2212,2,   116.9,2,   33.07,2,    0.00,2,    2.29,2,   0.031,2,   0.026,2,   0.0000,2,  2278.4,2, 2386.64,2,   7.5951,2, -999.00,9, -999.00,9, -999.00,    41.2,2, -999.00,9,     -999.0,1,  -999.0,9, 20170809,      838, -32.4999,-157.6167,        0.0,1,      0.062,1,      4.699,1,      0.124,1,      25.04,     -999.0,9,     -999.0,9,     -999.0,9,     -999.0,9,     1.5006,2,     -999.0,9
320620170703,        P06,     130,          2,          7,          7,2,20170809,       1019,   -32.4999,  -157.6164,       5065,  3452.0,   1.6259,  34.6905,2,  34.6899,2, 170.1244,3, 168.1304,2,   124.5,2,   34.36,2,    0.00,2,    2.40,2,   0.028,6,   0.023,6,   0.0000,6,  2296.9,2, 2396.76,2,   7.5845,2, -999.00,9, -999.00,9, -999.00,  -999.0,9, -999.00,9,     -999.0,9,  -999.0,9, 20170809,      844, -32.5000,-157.6165,        0.0,1,      0.061,1,      4.699,1,      0.127,1,      25.04,     -999.0,9,     -999.0,9,     -999.0,9,     -999.0,9,     1.6141,2,     -999.0,9
320620170703,        P06,     130,          2,          8,          8,2,20170809,       1019,   -32.4999,  -157.6164,       5065,  3145.8,   1.7287,  34.6758,2,  34.6743,2, 156.8523,3, 154.9177,2,   130.1,2,   35.48,2,    0.00,2,    2.47,2,   0.025,2,   0.017,2,   0.0000,2,  2311.3,2, 2407.92,2,   7.5739,2, -999.00,9, -999.00,9, -999.00,    38.2,2, -999.00,9,     -999.0,1,  -999.0,9, 20170809,      851, -32.5000,-157.6165,        0.0,1,      0.062,1,      4.699,1,      0.129,1,      25.04,     -999.0,9,     -999.0,9,     -999.0,9,     -999.0,9,     1.7259,2,     -999.0,9
320620170703,        P06,     130,          2,          9,          9,2,20170809,       1019,   -32.4999,  -157.6164,       5065,  2874.7,   1.8095,  34.6671,2,  34.6647,2, 150.9029,2, 150.0343,2,   129.8,2,   35.87,2,    0.00,2,    2.51,2,   0.026,2,   0.022,2,   0.0000,2,  2314.5,2, 2406.10,2,   7.5681,2, -999.00,9, -999.00,9, -999.00,  -999.0,9, -999.00,9,     -999.0,9,  -999.0,9, 20170809,      856, -32.5000,-157.6165,        0.0,1,      0.062,1,      4.699,1,      0.127,1,      25.04,     -999.0,9,     -999.0,9,     -999.0,9,     -999.0,9,     1.8151,2,     -999.0,9
320620170703,        P06,     130,          2,         10,         10,2,20170809,       1019,   -32.4999,  -157.6164,       5065,  2618.7,   1.8840,  34.6600,2,  34.6578,2, 148.0813,2, 148.0919,2,   127.0,2,   35.92,2,    0.00,2,    2.51,2,   0.028,2,   0.023,2,   0.0000,2,  2313.6,6, 2405.70,2,   7.5668,2, -999.00,9, -999.00,9, -999.00,    36.0,2, -999.00,9,     -999.0,1,  -999.0,9, 20170809,      902, -32.4999,-157.6168,        0.0,1,      0.061,1,      4.700,1,      0.128,1,      25.03,     -999.0,9,     -999.0,9,     -999.0,9,     -999.0,9,     1.8987,2,     -999.0,9
320620170703,        P06,     130,          2,         11,         11,2,20170809,       1019,   -32.4999,  -157.6164,       5065,  2365.1,   1.9982,  34.6505,2,  34.6482,2, 146.9346,2, 148.1400,2,   122.5,2,   35.87,2,    0.00,2,    2.51,2,   0.022,2,   0.017,2,   0.0000,2,  2310.2,2, 2402.17,2,   7.5649,2, -999.00,9, -999.00,9, -999.00,    36.9,2, -999.00,9,     -999.0,1,  -999.0,9, 20170809,      907, -32.5000,-157.6166,        0.0,1,      0.061,1,      4.700,1,      0.131,1,      25.02,     -999.0,9,     -999.0,9,     -999.0,9,     -999.0,9,     2.0088,2,     -999.0,9
320620170703,        P06,     130,          2,         12,         12,2,20170809,       1019,   -32.4999,  -157.6164,       5065,  2109.4,   2.1413,  34.6379,2,  34.6356,2, 148.1591,3, 150.8064,2,   114.8,2,   35.61,2,    0.00,2,    2.48,2,   0.024,2,   0.020,2,   0.0000,2,  2301.3,2, 2394.88,2,   7.5664,2, -999.00,9, -999.00,9, -999.00,  -999.0,9, -999.00,9,     -999.0,1,  -999.0,9, 20170809,      912, -32.4999,-157.6168,        0.0,1,      0.061,1,      4.700,1,      0.130,1,      25.03,     -999.0,9,     -999.0,9,     -999.0,9,     -999.0,9,     2.1544,2,     -999.0,9
320620170703,        P06,     130,          2,         13,         13,2,20170809,       1019,   -32.4999,  -157.6164,       5065,  1885.7,   2.3262,  34.6171,2,  34.6111,2, 151.9512,3, 153.5327,2,   103.4,2,   35.27,2,    0.00,2,    2.45,2,   0.025,2,   0.019,2,   0.0000,2,  2289.4,2, 2376.61,2,   7.5669,2, -999.00,9, -999.00,9, -999.00,  -999.0,9, -999.00,9,     -999.0,9,  -999.0,9, 20170809,      917, -32.4999,-157.6167,        0.0,1,      0.061,1,      4.700,1,      0.131,1,      25.03,     -999.0,9,     -999.0,9,     -999.0,9,     -999.0,9,     2.3570,2,     -999.0,9
320620170703,        P06,     130,          2,         14,         14,2,20170809,       1019,   -32.4999,  -157.6164,       5065,  1682.4,   2.5769,  34.5732,2,  34.5684,2, 158.2453,2, 159.5325,2,    87.9,2,   34.90,2,    0.00,2,    2.42,2,   0.041,2,   0.029,2,   0.0000,2,  2271.2,2, 2356.55,2,   7.5666,2, -999.00,9, -999.00,9, -999.00,    37.1,2, -999.00,9,     -999.0,1,  -999.0,9, 20170809,      921, -32.4999,-157.6165,        0.0,1,      0.060,1,      4.700,1,      0.131,1,      25.04,     -999.0,9,     -999.0,9,     -999.0,9,     -999.0,9,     2.6092,2,     -999.0,9
320620170703,        P06,     130,          2,         15,         15,2,20170809,       1019,   -32.4999,  -157.6164,       5065,  1550.4,   2.7902,  34.5246,2,  34.5170,2, 164.3644,2, 165.3571,2,    75.5,2,   34.65,2,    0.00,2,    2.39,2,   0.082,2,   0.052,2,   0.0000,2,  2257.2,2, 2344.79,6,   7.5664,2, -999.00,9, -999.00,9, -999.00,  -999.0,9, -999.00,9,     -999.0,9,  -999.0,9, 20170809,      924, -32.5000,-157.6163,        0.0,1,      0.061,1,      4.700,1,      0.131,1,      25.04,     -999.0,9,     -999.0,9,     -999.0,9,     -999.0,9,     2.8139,2,     -999.0,9
320620170703,        P06,     130,          2,         16,         16,2,20170809,       1019,   -32.4999,  -157.6164,       5065,  1448.7,   3.0061,  34.4775,2,  34.4724,2, 170.3592,2, 170.6815,2,    66.1,2,   34.35,2,    0.00,2,    2.37,2,   0.158,2,   0.087,2,   0.0000,2,  2245.0,2, 2332.05,2,   7.5698,2, -999.00,9, -999.00,9, -999.00,    38.2,2, -999.00,9,     -999.0,1,  -999.0,9, 20170809,      927, -32.4999,-157.6165,        0.0,1,      0.061,1,      4.700,1,      0.132,1,      25.03,     -999.0,9,     -999.0,9,     -999.0,9,     -999.0,9,     3.0190,2,     -999.0,9
320620170703,        P06,     130,          2,         17,         17,2,20170809,       1019,   -32.4999,  -157.6164,       5065,  1349.2,   3.2892,  34.4275,2,  34.4200,2, 177.4763,2, 177.7959,2,    55.6,2,   33.83,2,    0.00,2,    2.34,2,   0.329,2,   0.166,2,   0.0000,2,  2232.2,2, 2322.65,2,   7.5764,2, -999.00,9, -999.00,9, -999.00,  -999.0,9, -999.00,9,     -999.0,9,  -999.0,9, 20170809,      930, -32.4999,-157.6166,        0.0,1,      0.061,1,      4.700,1,      0.131,1,      25.04,     -999.0,9,     -999.0,9,     -999.0,9,     -999.0,9,     3.3221,2,     -999.0,9
320620170703,        P06,     130,          2,         18,         18,2,20170809,       1019,   -32.4999,  -157.6164,       5065,  1245.1,   3.6928,  34.3808,2,  34.3725,3, 186.8946,2, 186.4905,2,    44.6,2,   32.88,2,    0.00,2,    2.26,2,   0.585,2,   0.282,2,   0.0000,2,  2217.0,2, 2311.90,2,   7.5915,2, -999.00,9, -999.00,9, -999.00,    40.4,2, -999.00,9,     -999.0,1,  -999.0,9, 20170809,      933, -32.5000,-157.6165,        0.0,1,      0.060,1,      4.700,1,      0.130,1,      25.05,     -999.0,9,     -999.0,9,     -999.0,9,     -999.0,9,     3.7642,2,     -999.0,9
320620170703,        P06,     130,          2,         19,         19,2,20170809,       1019,   -32.4999,  -157.6164,       5065,  1146.3,   4.1599,  34.3447,2,  34.3384,2, 196.9998,2, 195.6567,2,    34.5,2,   31.57,2,    0.00,2,    2.16,2,   0.928,2,   0.416,2,   0.1800,2,  2201.6,2, 2302.66,2,   7.6103,2, -999.00,9, -999.00,9, -999.00,  -999.0,9, -999.00,9,     -999.0,9,  -999.0,9, 20170809,      936, -32.4999,-157.6166,        0.0,1,      0.060,1,      4.699,1,      0.134,1,      25.05,     -999.0,9,     -999.0,9,     -999.0,9,     -999.0,9,     4.3065,2,     -999.0,9
320620170703,        P06,     130,          2,         20,         20,2,20170809,       1019,   -32.4999,  -157.6164,       5065,  1044.3,   4.7065,  34.3211,2,  34.3144,2, 208.7490,2, 207.8046,2,    24.3,2,   29.60,2,    0.00,2,    2.01,2,   1.520,2,   0.684,2,   0.1900,2,  2182.3,2, 2291.20,2,   7.6361,2, -999.00,9, -999.00,9, -999.00,    41.1,2, -999.00,9,     -999.0,1,  -999.0,9, 20170809,      939, -32.4999,-157.6168,        0.0,1,      0.060,1,      4.699,1,      0.133,1,      25.04,     -999.0,9,     -999.0,9,     -999.0,9,     -999.0,9,     4.9219,2,     -999.0,9
320620170703,        P06,     130,          2,         21,         21,2,20170809,       1019,   -32.4999,  -157.6164,       5065,   942.5,   5.3516,  34.3082,2,  34.3056,2, 220.4530,2, 219.0952,2,    17.1,2,   27.53,2,    0.00,2,    1.88,2,   2.056,2,   0.949,2,   0.2800,2,  2167.9,2, 2287.69,2,   7.6618,2, -999.00,9, -999.00,9, -999.00,  -999.0,9, -999.00,9,     -999.0,9,  -999.0,9, 20170809,      941, -32.4999,-157.6167,        0.0,1,      0.060,1,      4.698,1,      0.133,1,      25.04,     -999.0,9,     -999.0,9,     -999.0,9,     -999.0,9,     5.4760,2,     -999.0,9
320620170703,        P06,     130,          2,         22,         22,2,20170809,       1019,   -32.4999,  -157.6164,       5065,   842.5,   6.0020,  34.3160,2,  34.3136,2, 229.6807,2, 230.2127,2,    12.2,2,   25.63,2,    0.00,2,    1.74,2,   2.648,2,   1.231,2,   0.3850,2,  2157.5,2, 2281.21,2,   7.6825,2, -999.00,9, -999.00,9, -999.00,    41.5,2, -999.00,9,     -999.0,1,  -999.0,9, 20170809,      944, -32.4999,-157.6167,        0.0,1,      0.059,1,      4.698,1,      0.133,1,      25.05,     -999.0,9,     -999.0,9,     -999.0,9,     -999.0,9,     5.9568,2,     -999.0,9
320620170703,        P06,     130,          2,         23,         23,2,20170809,       1019,   -32.4999,  -157.6164,       5065,   741.0,   6.5434,  34.3405,2,  34.3333,2, 235.3078,2, 236.8795,2,     9.0,2,   23.89,2,    0.00,2,    1.61,2,   3.270,2,   1.528,2,   0.5190,2,  2149.6,2, 2281.52,2,   7.6980,2, -999.00,9, -999.00,9, -999.00,    44.6,2, -999.00,9,     -999.0,1,  -999.0,9, 20170809,      948, -32.4999,-157.6169,        0.0,1,      0.058,1,      4.697,1,      0.134,1,      25.05,     -999.0,9,     -999.0,9,     -999.0,9,     -999.0,9,     6.4327,2,     -999.0,9
320620170703,        P06,     130,          2,         24,         24,2,20170809,       1019,   -32.4999,  -157.6164,       5065,   640.4,   6.9818,  34.3725,2,  34.3737,2, 240.0410,2, 240.3499,2,     6.6,2,   22.02,2,    0.00,2,    1.50,2,   3.718,2,   1.794,2,   0.6900,2,  2144.8,6, 2278.88,2,   7.7090,2, -999.00,9, -999.00,9, -999.00,    43.1,2, -999.00,9,     -999.0,1,  -999.0,9, 20170809,      951, -32.4999,-157.6168,        0.0,1,      0.058,1,      4.696,1,      0.134,1,      25.04,     -999.0,9,     -999.0,9,     -999.0,9,     -999.0,9,     7.0339,2,     -999.0,9
320620170703,        P06,     130,          2,         25,         25,2,20170809,       1019,   -32.4999,  -157.6164,       5065,   539.7,   7.7058,  34.4295,2,  34.4249,2, 238.7125,2, 238.4159,2,     5.2,2,   20.20,2,    0.00,2,    1.39,2,   3.702,2,   1.853,2,   0.7680,2,  2143.0,2, 2280.69,6,   7.7195,2, -999.00,9, -999.00,9, -999.00,    44.6,2, -999.00,9,     -999.0,1,  -999.0,9, 20170809,      954, -32.4999,-157.6165,        0.0,1,      0.060,1,      4.696,1,      0.136,1,      25.04,     -999.0,9,     -999.0,9,     -999.0,9,     -999.0,9,     7.6677,2,     -999.0,9
320620170703,        P06,     130,          2,         26,         26,2,20170809,       1019,   -32.4999,  -157.6164,       5065,   437.8,   9.2429,  34.5619,2,  34.5286,2, 223.9317,2, 223.7289,2,     3.9,2,   17.72,2,    0.00,2,    1.22,2,   3.483,2,   1.746,2,   0.8000,2,  2138.0,2, 2285.19,2,   7.7356,2, -999.00,9, -999.00,9, -999.00,    44.2,2, -999.00,9,     -999.0,1,  -999.0,9, 20170809,      957, -32.4999,-157.6168,        0.0,1,      0.059,1,      4.694,1,      0.135,1,      25.04,     -999.0,9,     -999.0,9,     -999.0,9,     -999.0,9,     8.8941,2,     -999.0,9
320620170703,        P06,     130,          2,         27,         27,2,20170809,       1019,   -32.4999,  -157.6164,       5065,   367.9,  10.7784,  34.7250,2,  34.6757,2, 213.3546,2, 212.5299,2,     2.9,2,   14.77,2,    0.00,2,    1.05,2,   3.210,2,   1.650,2,   0.8600,2,  2131.4,2, -999.00,9,   7.7628,2, -999.00,9, -999.00,9, -999.00,  -999.0,9, -999.00,9,     -999.0,9,  -999.0,9, 20170809,     1000, -32.4999,-157.6170,        0.0,1,      0.059,1,      4.692,1,      0.134,1,      25.05,     -999.0,9,     -999.0,9,     -999.0,9,     -999.0,9,    10.3744,2,     -999.0,9
320620170703,        P06,     130,          2,         28,         28,2,20170809,       1019,   -32.4999,  -157.6164,       5065,   317.6,  12.8813,  35.0067,2,  34.8969,2, 208.6443,2, 208.3522,2,     2.1,2,   11.15,2,    0.00,2,    0.81,2,   2.939,2,   1.567,2,   0.9510,2,  2120.0,2, 2303.38,2,   7.8012,2, -999.00,9, -999.00,9, -999.00,    48.6,2, -999.00,9,     -999.0,1,  -999.0,9, 20170809,     1002, -32.4999,-157.6167,        0.0,1,      0.059,1,      4.690,1,      0.133,1,      25.05,     -999.0,9,     -999.0,9,     -999.0,9,     -999.0,9,    12.0879,2,     -999.0,9
320620170703,        P06,     130,          2,         29,         29,2,20170809,       1019,   -32.4999,  -157.6164,       5065,   266.0,  13.9401,  35.1316,2,  35.0913,2, 208.8714,2, 210.6081,2,     1.4,2,    7.46,2,    0.00,2,    0.58,2,   2.724,2,   1.516,2,   1.0490,2,  2108.6,2, -999.00,9,   7.8452,2, -999.00,9, -999.00,9, -999.00,    46.8,2,   10.20,2,     -999.0,1,  -999.0,9, 20170809,     1005, -32.4999,-157.6164,        0.0,1,      0.061,1,      4.689,1,      0.134,1,      25.03,     -999.0,9,     -999.0,9,     -999.0,9,     -999.0,9,    13.6984,2,     -999.0,9
320620170703,        P06,     130,          2,         30,         30,2,20170809,       1019,   -32.4999,  -157.6164,       5065,   217.4,  15.0930,  35.2772,2,  35.2294,2, 211.6491,2, 212.6899,2,     0.8,2,    5.09,2,    0.00,2,    0.43,2,   2.628,2,   1.468,2,   0.9340,2,  2098.3,2, 2313.10,2,   7.8774,2, -999.00,9, -999.00,9, -999.00,    51.0,2,    7.80,2,     -999.0,1,  -999.0,9, 20170809,     1007, -32.4999,-157.6163,        0.0,1,      0.064,1,      4.686,1,      0.135,1,      25.04,     -999.0,9,     -999.0,9,     -999.0,9,     -999.0,9,    14.8666,2,     -999.0,9
320620170703,        P06,     130,          2,         31,         31,2,20170809,       1019,   -32.4999,  -157.6164,       5065,   165.8,  16.6855,  35.4651,2,  35.4210,3, 221.7193,3, 218.4893,2,     0.3,2,    2.24,2,    0.04,2,    0.24,2,   2.407,2,   1.365,2,   1.0400,2,  2084.6,2, -999.00,9,   7.9243,2, -999.00,9, -999.00,9, -999.00,    52.8,2,    5.50,2,     -999.0,1,  -999.0,9, 20170809,     1009, -32.4999,-157.6163,        0.0,1,      0.113,1,      4.665,1,      0.155,1,      25.04,     -999.0,9,     -999.0,9,     -999.0,9,     -999.0,9,    16.1993,2,     -999.0,9
320620170703,        P06,     130,          2,         32,         32,2,20170809,       1019,   -32.4999,  -157.6164,       5065,   115.4,  17.4490,  35.5787,2,  35.5807,2, 233.2630,2, 233.5756,2,     0.1,2,    0.12,2,    0.02,2,    0.08,2,   2.237,2,   1.269,2,   1.1270,2,  2063.5,2, 2335.58,2,   7.9776,2, -999.00,9, -999.00,9, -999.00,  -999.0,5,    5.50,2,     -999.0,1,  -999.0,9, 20170809,     1012, -32.4999,-157.6165,        0.0,1,      0.161,1,      4.642,1,      0.172,1,      25.04,     -999.0,9,     -999.0,9,     -999.0,9,     -999.0,9,    17.4481,2,     -999.0,9