BOTTLE,20230922CCHSIOCBG
EXPOCODE,SECT_ID,STNNBR,CASTNO,SAMPNO,BTLNBR,BTLNBR_FLAG_W,DATE,TIME,LATITUDE,LONGITUDE,DEPTH,CTDPRS,CTDTMP,CTDSAL,CTDSAL_FLAG_W,SALNTY,SALNTY_FLAG_W,CTDOXY,CTDOXY_FLAG_W,OXYGEN,OXYGEN_FLAG_W,SILCAT,SILCAT_FLAG_W,NITRAT,NITRAT_FLAG_W,NITRIT,NITRIT_FLAG_W,PHSPHT,PHSPHT_FLAG_W,CFC-11,CFC-11_FLAG_W,CFC-12,CFC-12_FLAG_W,SF6,SF6_FLAG_W,TCARBN,TCARBN_FLAG_W,ALKALI,ALKALI_FLAG_W,PH_TOT,PH_TOT_FLAG_W,DELC13,DELC13_FLAG_W,DELC14,DELC14_FLAG_W,C14ERR,DOC,DOC_FLAG_W,TDN,TDN_FLAG_W,TON,TON_FLAG_W,D15N_NO3,D15N_NO3_FLAG_W,BTL_DATE,BTL_TIME,BTL_LAT,BTL_LON,CTDRINKO,CTDRINKO_FLAG_W,CTDFLUOR,CTDFLUOR_FLAG_W,CTDXMISS,CTDXMISS_FLAG_W,CTDBACKSCATTER,CTDBACKSCATTER_FLAG_W,PH_TMP,D18O_NO3,D18O_NO3_FLAG_W,DOP,DOP_FLAG_W,HPLC,HPLC_FLAG_W,POC,POC_FLAG_W,REFTMP,REFTMP_FLAG_W,TDP,TDP_FLAG_W
,,,,,,,,,,,METERS,DBAR,ITS-90,PSS-78,,PSS-78,,UMOL/KG,,UMOL/KG,,UMOL/KG,,UMOL/KG,,UMOL/KG,,UMOL/KG,,PMOL/KG,,PMOL/KG,,FMOL/KG,,UMOL/KG,,UMOL/KG,,,,/MILLE,,/MILLE,,/MILLE,UMOL/KG,,UMOL/KG,,UMOL/KG,,/MILLE,,,,,,VOLTS,,VOLTS,,VOLTS,,VOLTS,,DEGC,/MILLE,,UMOL/KG,,,,UG/L,,ITS-90,,UMOL/KG,
320620170703,        P06,     133,          1,         33,         33,2,20170810,       0932,   -32.5000,  -155.6065,       5142,    86.5,  16.5009,  35.4686,2,  35.4628,2, 240.0271,2, 240.2487,2,     0.1,2,    0.19,2,    0.03,2,    0.11,2,   2.315,2,   1.342,2,   1.3300,2,  2070.9,2, 2332.68,2,   7.9589,2, -999.00,9, -999.00,9, -999.00,  -999.0,9, -999.00,9,     -999.0,9,  -999.0,9, 20170810,      927, -32.4999,-155.6068,        0.0,1,      0.190,1,      4.633,1,      0.183,1,      25.02,     -999.0,9,     -999.0,9,     -999.0,9,     -999.0,9,    16.4806,2,     -999.0,9
320620170703,        P06,     133,          1,         34,         34,2,20170810,       0932,   -32.5000,  -155.6065,       5142,    58.5,  16.5074,  35.4706,2,  35.4632,2, 240.4907,2, 240.3677,2,     0.1,2,    0.20,2,    0.03,2,    0.10,2,   2.339,2,   1.345,2,   1.5580,2,  -999.0,9, -999.00,9,-999.0000,9, -999.00,9, -999.00,9, -999.00,  -999.0,9, -999.00,9,     -999.0,9,  -999.0,9, 20170810,      929, -32.4999,-155.6067,        0.0,1,      0.194,1,      4.629,1,      0.182,1,     -999.0,     -999.0,9,     -999.0,9,     -999.0,9,     -999.0,9,    16.4702,2,     -999.0,9
320620170703,        P06,     133,          1,         35,         35,2,20170810,       0932,   -32.5000,  -155.6065,       5142,    35.6,  16.5151,  35.4723,2,  35.4628,2, 240.4843,2, 240.6345,2,     0.1,2,    0.19,2,    0.03,2,    0.11,2,   2.340,2,   1.343,2,   1.4600,2,  2068.2,2, 2329.20,2,   7.9594,2, -999.00,9, -999.00,9, -999.00,  -999.0,9, -999.00,9,     -999.0,9,  -999.0,9, 20170810,      930, -32.5000,-155.6066,        0.0,1,      0.196,1,      4.624,1,      0.188,1,      25.01,     -999.0,9,     -999.0,9,     -999.0,9,     -999.0,9,    16.4642,2,     -999.0,9
320620170703,        P06,     133,          1,         36,         36,2,20170810,       0932,   -32.5000,  -155.6065,       5142,     4.9,  16.5107,  35.4721,2,  35.4630,2, 240.0393,2, 240.5099,2,     0.1,2,    0.19,2,    0.03,2,    0.12,2,   2.305,2,   1.339,2,   1.4530,2,  2069.3,6, 2331.50,2,   7.9595,2, -999.00,9, -999.00,9, -999.00,  -999.0,9, -999.00,9,     -999.0,9,  -999.0,9, 20170810,      932, -32.5000,-155.6065,        0.0,1,      0.186,1,      4.617,1,      0.179,1,      25.02,     -999.0,9,     -999.0,9,     -999.0,9,     -999.0,9,    16.4678,2,     -999.0,9