BOTTLE,20230922CCHSIOCBG
EXPOCODE,SECT_ID,STNNBR,CASTNO,SAMPNO,BTLNBR,BTLNBR_FLAG_W,DATE,TIME,LATITUDE,LONGITUDE,DEPTH,CTDPRS,CTDTMP,CTDSAL,CTDSAL_FLAG_W,SALNTY,SALNTY_FLAG_W,CTDOXY,CTDOXY_FLAG_W,OXYGEN,OXYGEN_FLAG_W,SILCAT,SILCAT_FLAG_W,NITRAT,NITRAT_FLAG_W,NITRIT,NITRIT_FLAG_W,PHSPHT,PHSPHT_FLAG_W,CFC-11,CFC-11_FLAG_W,CFC-12,CFC-12_FLAG_W,SF6,SF6_FLAG_W,TCARBN,TCARBN_FLAG_W,ALKALI,ALKALI_FLAG_W,PH_TOT,PH_TOT_FLAG_W,DELC13,DELC13_FLAG_W,DELC14,DELC14_FLAG_W,C14ERR,DOC,DOC_FLAG_W,TDN,TDN_FLAG_W,TON,TON_FLAG_W,D15N_NO3,D15N_NO3_FLAG_W,BTL_DATE,BTL_TIME,BTL_LAT,BTL_LON,CTDRINKO,CTDRINKO_FLAG_W,CTDFLUOR,CTDFLUOR_FLAG_W,CTDXMISS,CTDXMISS_FLAG_W,CTDBACKSCATTER,CTDBACKSCATTER_FLAG_W,PH_TMP,D18O_NO3,D18O_NO3_FLAG_W,DOP,DOP_FLAG_W,HPLC,HPLC_FLAG_W,POC,POC_FLAG_W,REFTMP,REFTMP_FLAG_W,TDP,TDP_FLAG_W
,,,,,,,,,,,METERS,DBAR,ITS-90,PSS-78,,PSS-78,,UMOL/KG,,UMOL/KG,,UMOL/KG,,UMOL/KG,,UMOL/KG,,UMOL/KG,,PMOL/KG,,PMOL/KG,,FMOL/KG,,UMOL/KG,,UMOL/KG,,,,/MILLE,,/MILLE,,/MILLE,UMOL/KG,,UMOL/KG,,UMOL/KG,,/MILLE,,,,,,VOLTS,,VOLTS,,VOLTS,,VOLTS,,DEGC,/MILLE,,UMOL/KG,,,,UG/L,,ITS-90,,UMOL/KG,
320620170703,        P06,      71,          1,         33,         33,2,20170718,       1548,   -30.0798,   174.0005,       3357,    74.7,  18.9995,  35.8064,2,  35.8082,2, 225.4085,2, 225.4826,2,     0.0,2,    0.25,2,    0.04,2,    0.07,2,   1.920,2,   1.274,2,-999.0000,5,  2062.5,2, 2344.20,2,   8.0043,2, -999.00,9, -999.00,9, -999.00,  -999.0,9, -999.00,9,     -999.0,9,  -999.0,1, 20170718,     1543, -30.0798, 174.0005,        0.0,1,      0.166,1,      4.634,1,      0.201,1,      25.04,     -999.0,1,     -999.0,1,     -999.0,9,     -999.0,9,    18.9971,2,     -999.0,9
320620170703,        P06,      71,          1,         34,         34,2,20170718,       1548,   -30.0798,   174.0005,       3357,    49.6,  18.9969,  35.8064,2,  35.8076,2, 225.5141,2, 226.2488,2,     0.0,2,    0.26,2,    0.04,2,    0.07,2,   1.935,2,   1.281,2,-999.0000,5,  2060.9,2, 2344.50,2,   8.0041,2, -999.00,9, -999.00,9, -999.00,  -999.0,9, -999.00,9,     -999.0,9,  -999.0,1, 20170718,     1544, -30.0798, 174.0005,        0.0,1,      0.170,1,      4.633,1,      0.203,1,      25.03,     -999.0,1,     -999.0,1,     -999.0,9,     -999.0,9,    18.9952,2,     -999.0,9
320620170703,        P06,      71,          1,         35,         35,2,20170718,       1548,   -30.0798,   174.0005,       3357,    24.6,  18.9948,  35.8060,2,  35.8072,2, 224.9373,2, 225.5577,2,     0.0,2,    0.25,2,    0.04,2,    0.08,2,   1.952,2,   1.277,2,-999.0000,5,  2059.7,2, 2343.10,2,   8.0042,2, -999.00,9, -999.00,9, -999.00,  -999.0,9, -999.00,9,     -999.0,9,  -999.0,1, 20170718,     1546, -30.0798, 174.0005,        0.0,1,      0.165,1,      4.632,1,      0.203,1,      25.03,     -999.0,1,     -999.0,1,     -999.0,9,     -999.0,9,    18.9952,2,     -999.0,9
320620170703,        P06,      71,          1,         36,         36,2,20170718,       1548,   -30.0798,   174.0005,       3357,     4.8,  18.9753,  35.7906,2,  35.8303,2, 225.6781,2, 225.7857,2,     0.0,2,    0.27,2,    0.04,2,    0.10,2,   1.492,4,   1.235,2,-999.0000,5,  2061.8,6, 2346.40,2,   8.0041,2, -999.00,9, -999.00,9, -999.00,  -999.0,9, -999.00,9,     -999.0,9,  -999.0,1, 20170718,     1548, -30.0798, 174.0005,        0.0,1,      0.170,1,      4.538,1,      0.193,1,      25.03,     -999.0,1,     -999.0,1,     -999.0,9,     -999.0,9,    18.9788,2,     -999.0,9