BOTTLE,20230922CCHSIOCBG
EXPOCODE,SECT_ID,STNNBR,CASTNO,SAMPNO,BTLNBR,BTLNBR_FLAG_W,DATE,TIME,LATITUDE,LONGITUDE,DEPTH,CTDPRS,CTDTMP,CTDSAL,CTDSAL_FLAG_W,SALNTY,SALNTY_FLAG_W,CTDOXY,CTDOXY_FLAG_W,OXYGEN,OXYGEN_FLAG_W,SILCAT,SILCAT_FLAG_W,NITRAT,NITRAT_FLAG_W,NITRIT,NITRIT_FLAG_W,PHSPHT,PHSPHT_FLAG_W,CFC-11,CFC-11_FLAG_W,CFC-12,CFC-12_FLAG_W,SF6,SF6_FLAG_W,TCARBN,TCARBN_FLAG_W,ALKALI,ALKALI_FLAG_W,PH_TOT,PH_TOT_FLAG_W,DELC13,DELC13_FLAG_W,DELC14,DELC14_FLAG_W,C14ERR,DOC,DOC_FLAG_W,TDN,TDN_FLAG_W,TON,TON_FLAG_W,D15N_NO3,D15N_NO3_FLAG_W,BTL_DATE,BTL_TIME,BTL_LAT,BTL_LON,CTDRINKO,CTDRINKO_FLAG_W,CTDFLUOR,CTDFLUOR_FLAG_W,CTDXMISS,CTDXMISS_FLAG_W,CTDBACKSCATTER,CTDBACKSCATTER_FLAG_W,PH_TMP,D18O_NO3,D18O_NO3_FLAG_W,DOP,DOP_FLAG_W,HPLC,HPLC_FLAG_W,POC,POC_FLAG_W,REFTMP,REFTMP_FLAG_W,TDP,TDP_FLAG_W
,,,,,,,,,,,METERS,DBAR,ITS-90,PSS-78,,PSS-78,,UMOL/KG,,UMOL/KG,,UMOL/KG,,UMOL/KG,,UMOL/KG,,UMOL/KG,,PMOL/KG,,PMOL/KG,,FMOL/KG,,UMOL/KG,,UMOL/KG,,,,/MILLE,,/MILLE,,/MILLE,UMOL/KG,,UMOL/KG,,UMOL/KG,,/MILLE,,,,,,VOLTS,,VOLTS,,VOLTS,,VOLTS,,DEGC,/MILLE,,UMOL/KG,,,,UG/L,,ITS-90,,UMOL/KG,
320620170703,        P06,     116,          1,         33,         33,2,20170802,       2258,   -32.4999,  -167.1415,       5358,    65.2,  18.2643,  35.7088,2,  35.7150,2, 227.8632,2, 229.9305,2,     0.2,2,    0.06,2,    0.00,2,    0.05,2,   2.205,2,   1.240,2,   1.3250,2,  2061.8,2, 2339.62,2,   7.9971,2, -999.00,9, -999.00,9, -999.00,    59.5,2,    3.80,2,     -999.0,1,  -999.0,9, 20170802,     2254, -32.4999,-167.1415,        0.0,1,      0.138,1,      4.643,1,      0.194,1,      25.03,     -999.0,9,     -999.0,9,     -999.0,9,     -999.0,9,    18.2743,2,     -999.0,9
320620170703,        P06,     116,          1,         34,         34,2,20170802,       2258,   -32.4999,  -167.1415,       5358,    39.6,  18.2604,  35.7080,2,  35.7146,2, 230.1774,2, 230.2464,2,     0.2,2,    0.06,2,    0.00,2,    0.05,2,   2.129,2,   1.249,2,   1.3280,2,  2062.2,2, 2338.72,2,   7.9969,2, -999.00,9, -999.00,9, -999.00,    59.9,2,    3.80,2,     -999.0,1,  -999.0,9, 20170802,     2256, -32.4999,-167.1415,        0.0,1,      0.135,1,      4.643,1,      0.183,1,      25.02,     -999.0,9,     -999.0,9,     -999.0,9,     -999.0,9,    18.2694,2,     -999.0,9
320620170703,        P06,     116,          1,         35,         35,2,20170802,       2258,   -32.4999,  -167.1415,       5358,    18.4,  18.2568,  35.7073,2,  35.7118,2, 238.8872,4, 230.5871,2,     0.2,2,    0.05,2,    0.00,2,    0.06,2,   2.116,2,   1.230,2,   1.4160,2,  2061.3,2, 2338.43,2,   7.9965,2, -999.00,9, -999.00,9, -999.00,    61.5,2,    4.20,2,     -999.0,1,  -999.0,9, 20170802,     2257, -32.4999,-167.1415,        0.0,1,      0.133,1,      4.643,1,      0.182,1,      25.03,     -999.0,9,     -999.0,9,     -999.0,9,     -999.0,9,    18.2665,2,     -999.0,9
320620170703,        P06,     116,          1,         36,         36,2,20170802,       2258,   -32.4999,  -167.1415,       5358,     3.9,  18.2525,  35.7071,2,  35.7120,2, 237.0532,4, 230.3480,2,     0.2,2,    0.05,2,    0.00,2,    0.06,2,   2.163,2,   1.253,2,   1.5000,2,  2062.7,6, 2340.38,2,   7.9966,2, -999.00,9, -999.00,9, -999.00,    61.5,2,    4.30,2,     -999.0,1,  -999.0,9, 20170802,     2258, -32.4999,-167.1415,        0.0,1,      0.131,1,      4.643,1,      0.181,1,      25.03,     -999.0,9,     -999.0,9,     -999.0,9,     -999.0,9,    18.2683,2,     -999.0,9