BOTTLE,20230922CCHSIOCBG
EXPOCODE,SECT_ID,STNNBR,CASTNO,SAMPNO,BTLNBR,BTLNBR_FLAG_W,DATE,TIME,LATITUDE,LONGITUDE,DEPTH,CTDPRS,CTDTMP,CTDSAL,CTDSAL_FLAG_W,SALNTY,SALNTY_FLAG_W,CTDOXY,CTDOXY_FLAG_W,OXYGEN,OXYGEN_FLAG_W,SILCAT,SILCAT_FLAG_W,NITRAT,NITRAT_FLAG_W,NITRIT,NITRIT_FLAG_W,PHSPHT,PHSPHT_FLAG_W,CFC-11,CFC-11_FLAG_W,CFC-12,CFC-12_FLAG_W,SF6,SF6_FLAG_W,TCARBN,TCARBN_FLAG_W,ALKALI,ALKALI_FLAG_W,PH_TOT,PH_TOT_FLAG_W,DELC13,DELC13_FLAG_W,DELC14,DELC14_FLAG_W,C14ERR,DOC,DOC_FLAG_W,TDN,TDN_FLAG_W,TON,TON_FLAG_W,D15N_NO3,D15N_NO3_FLAG_W,BTL_DATE,BTL_TIME,BTL_LAT,BTL_LON,CTDRINKO,CTDRINKO_FLAG_W,CTDFLUOR,CTDFLUOR_FLAG_W,CTDXMISS,CTDXMISS_FLAG_W,CTDBACKSCATTER,CTDBACKSCATTER_FLAG_W,PH_TMP,D18O_NO3,D18O_NO3_FLAG_W,DOP,DOP_FLAG_W,HPLC,HPLC_FLAG_W,POC,POC_FLAG_W,REFTMP,REFTMP_FLAG_W,TDP,TDP_FLAG_W
,,,,,,,,,,,METERS,DBAR,ITS-90,PSS-78,,PSS-78,,UMOL/KG,,UMOL/KG,,UMOL/KG,,UMOL/KG,,UMOL/KG,,UMOL/KG,,PMOL/KG,,PMOL/KG,,FMOL/KG,,UMOL/KG,,UMOL/KG,,,,/MILLE,,/MILLE,,/MILLE,UMOL/KG,,UMOL/KG,,UMOL/KG,,/MILLE,,,,,,VOLTS,,VOLTS,,VOLTS,,VOLTS,,DEGC,/MILLE,,UMOL/KG,,,,UG/L,,ITS-90,,UMOL/KG,
320620170703,        P06,     142,          1,         33,         33,2,20170813,       0742,   -32.4999,  -149.5785,       5308,    87.1,  16.3311,  35.4040,2,  35.3092,2, 240.5623,2, 249.4100,4,     0.0,2,    0.10,2,    0.03,2,    0.09,2,   2.393,2,   1.352,2,   1.2250,2,  2064.4,2, -999.00,9,   7.9518,2, -999.00,9, -999.00,9, -999.00,    59.2,2,    3.90,2,     -999.0,1,  -999.0,9, 20170813,      737, -32.4999,-149.5786,        0.0,1,      0.056,1,      4.634,1,      0.072,1,      25.02,     -999.0,9,     -999.0,9,     -999.0,9,     -999.0,9,    16.1203,2,     -999.0,9
320620170703,        P06,     142,          1,         34,         34,2,20170813,       0742,   -32.4999,  -149.5785,       5308,    58.8,  16.1819,  35.3427,2,  35.3155,2, 240.6266,2, 242.3902,2,     0.0,2,    0.11,2,    0.03,2,    0.11,2,   2.372,2,   1.333,2,   1.4030,2,  2065.0,2, 2324.71,2,   7.9529,2, -999.00,9, -999.00,9, -999.00,    60.2,2,    3.50,2,     -999.0,1,  -999.0,9, 20170813,      739, -32.4998,-149.5787,        0.0,1,      0.056,1,      4.637,1,      0.070,1,      25.01,     -999.0,9,     -999.0,9,     -999.0,9,     -999.0,9,    16.1404,2,     -999.0,9
320620170703,        P06,     142,          1,         35,         35,2,20170813,       0742,   -32.4999,  -149.5785,       5308,    34.7,  16.1302,  35.3211,2,  35.3171,2, 240.6689,2, 241.6774,2,     0.0,2,    0.11,2,    0.03,2,    0.11,2,   2.388,2,   1.335,2,   1.2370,2,  2066.0,2, -999.00,9,   7.9526,2, -999.00,9, -999.00,9, -999.00,    61.1,2,    4.00,2,     -999.0,1,  -999.0,9, 20170813,      741, -32.4999,-149.5786,        0.0,1,      0.056,1,      4.631,1,      0.072,1,      25.04,     -999.0,9,     -999.0,9,     -999.0,9,     -999.0,9,    16.1410,2,     -999.0,9
320620170703,        P06,     142,          1,         36,         36,2,20170813,       0742,   -32.4999,  -149.5785,       5308,     4.4,  16.1560,  35.3303,2,  35.3159,2, 247.6495,3, 241.6717,2,     0.0,2,    0.10,2,    0.03,2,    0.12,2,   2.402,6,   1.329,6,   1.4710,6,  2067.4,6, 2320.25,2,   7.9529,2, -999.00,9, -999.00,9, -999.00,    64.1,2,    3.80,2,     -999.0,1,  -999.0,9, 20170813,      742, -32.4999,-149.5785,        0.0,1,      0.057,1,      4.628,1,      0.071,1,      25.04,     -999.0,9,     -999.0,9,     -999.0,9,     -999.0,9,    16.1256,2,     -999.0,9