BOTTLE,20230922CCHSIOCBG
EXPOCODE,SECT_ID,STNNBR,CASTNO,SAMPNO,BTLNBR,BTLNBR_FLAG_W,DATE,TIME,LATITUDE,LONGITUDE,DEPTH,CTDPRS,CTDTMP,CTDSAL,CTDSAL_FLAG_W,SALNTY,SALNTY_FLAG_W,CTDOXY,CTDOXY_FLAG_W,OXYGEN,OXYGEN_FLAG_W,SILCAT,SILCAT_FLAG_W,NITRAT,NITRAT_FLAG_W,NITRIT,NITRIT_FLAG_W,PHSPHT,PHSPHT_FLAG_W,CFC-11,CFC-11_FLAG_W,CFC-12,CFC-12_FLAG_W,SF6,SF6_FLAG_W,TCARBN,TCARBN_FLAG_W,ALKALI,ALKALI_FLAG_W,PH_TOT,PH_TOT_FLAG_W,DELC13,DELC13_FLAG_W,DELC14,DELC14_FLAG_W,C14ERR,DOC,DOC_FLAG_W,TDN,TDN_FLAG_W,TON,TON_FLAG_W,D15N_NO3,D15N_NO3_FLAG_W,BTL_DATE,BTL_TIME,BTL_LAT,BTL_LON,CTDRINKO,CTDRINKO_FLAG_W,CTDFLUOR,CTDFLUOR_FLAG_W,CTDXMISS,CTDXMISS_FLAG_W,CTDBACKSCATTER,CTDBACKSCATTER_FLAG_W,PH_TMP,D18O_NO3,D18O_NO3_FLAG_W,DOP,DOP_FLAG_W,HPLC,HPLC_FLAG_W,POC,POC_FLAG_W,REFTMP,REFTMP_FLAG_W,TDP,TDP_FLAG_W
,,,,,,,,,,,METERS,DBAR,ITS-90,PSS-78,,PSS-78,,UMOL/KG,,UMOL/KG,,UMOL/KG,,UMOL/KG,,UMOL/KG,,UMOL/KG,,PMOL/KG,,PMOL/KG,,FMOL/KG,,UMOL/KG,,UMOL/KG,,,,/MILLE,,/MILLE,,/MILLE,UMOL/KG,,UMOL/KG,,UMOL/KG,,/MILLE,,,,,,VOLTS,,VOLTS,,VOLTS,,VOLTS,,DEGC,/MILLE,,UMOL/KG,,,,UG/L,,ITS-90,,UMOL/KG,
320620170703,        P06,      52,          1,          1,         37,2,20170714,       2210,   -30.0800,   168.2522,       3178,  3214.1,   1.9421,  34.6720,2,  34.6710,2, 154.1031,2, 154.2024,2,   123.6,2,   35.22,2,    0.00,2,    2.47,2,   0.031,2,   0.022,2,   0.0000,2,  2309.6,2, 2398.43,2,   7.5799,2, -999.00,9, -999.00,9, -999.00,  -999.0,9, -999.00,9,     -999.0,9,  -999.0,9, 20170714,     2024, -30.0800, 168.2521,        0.0,1,      0.061,1,      4.698,1,      0.152,1,      25.01,     -999.0,9,     -999.0,9,     -999.0,9,     -999.0,9,     1.9423,2,     -999.0,9
320620170703,        P06,      52,          1,          2,          2,2,20170714,       2210,   -30.0800,   168.2522,       3178,  3101.9,   1.9379,  34.6716,2,  34.6704,2, 154.1031,2, 154.1164,2,   123.4,2,   35.23,2,    0.00,2,    2.46,2,-999.000,9,-999.000,9,-999.0000,9,  -999.0,9, -999.00,9,-999.0000,9, -999.00,9, -999.00,9, -999.00,  -999.0,9, -999.00,9,     -999.0,9,  -999.0,9, 20170714,     2027, -30.0800, 168.2519,        0.0,1,      0.062,1,      4.699,1,      0.145,1,     -999.0,     -999.0,9,     -999.0,9,     -999.0,9,     -999.0,9,     1.9385,2,     -999.0,9
320620170703,        P06,      52,          1,          3,         38,2,20170714,       2210,   -30.0800,   168.2522,       3178,  2973.8,   1.9329,  34.6711,2,  34.6698,2, 154.3503,2, 154.2284,2,   123.3,2,   35.16,2,    0.00,2,    2.47,2,   0.032,2,   0.025,2,   0.0000,2,  -999.0,9, -999.00,9,-999.0000,9, -999.00,9, -999.00,9, -999.00,  -999.0,9, -999.00,9,     -999.0,9,  -999.0,9, 20170714,     2031, -30.0800, 168.2520,        0.0,1,      0.062,1,      4.699,1,      0.148,1,     -999.0,     -999.0,9,     -999.0,9,     -999.0,9,     -999.0,9,     1.9343,2,     -999.0,9
320620170703,        P06,      52,          1,          4,          4,2,20170714,       2210,   -30.0800,   168.2522,       3178,  2773.2,   1.9632,  34.6672,2,  34.6665,2, 154.3696,2, 154.2612,2,   121.9,2,   35.11,2,    0.00,2,    2.47,2,-999.000,9,-999.000,9,-999.0000,9,  -999.0,9, -999.00,9,-999.0000,9, -999.00,9, -999.00,9, -999.00,  -999.0,9, -999.00,9,     -999.0,9,  -999.0,9, 20170714,     2035, -30.0800, 168.2522,        0.0,1,      0.062,1,      4.700,1,      0.143,1,     -999.0,     -999.0,9,     -999.0,9,     -999.0,9,     -999.0,9,     1.9616,2,     -999.0,9
320620170703,        P06,      52,          1,          5,         39,2,20170714,       2210,   -30.0800,   168.2522,       3178,  2567.6,   1.9949,  34.6632,2,  34.6624,2, 154.2492,2, 154.0055,2,   120.5,2,   35.05,2,    0.00,2,    2.45,2,   0.035,2,   0.026,2,   0.0000,2,  -999.0,9, -999.00,9,-999.0000,9, -999.00,9, -999.00,9, -999.00,  -999.0,9, -999.00,9,     -999.0,9,  -999.0,9, 20170714,     2041, -30.0800, 168.2523,        0.0,1,      0.061,1,      4.700,1,      0.162,1,     -999.0,     -999.0,9,     -999.0,9,     -999.0,9,     -999.0,9,     1.9943,2,     -999.0,9
320620170703,        P06,      52,          1,          6,          6,2,20170714,       2210,   -30.0800,   168.2522,       3178,  2363.0,   2.0724,  34.6555,2,  34.6527,2, 154.2347,2, 154.7706,2,   117.9,2,   34.94,2,    0.00,2,    2.45,2,-999.000,9,-999.000,9,-999.0000,9,  -999.0,9, -999.00,9,-999.0000,9, -999.00,9, -999.00,9, -999.00,  -999.0,9, -999.00,9,     -999.0,9,  -999.0,9, 20170714,     2046, -30.0800, 168.2523,        0.0,1,      0.061,1,      4.702,1,      0.145,1,     -999.0,     -999.0,9,     -999.0,9,     -999.0,9,     -999.0,9,     2.0820,2,     -999.0,9
320620170703,        P06,      52,          1,          7,         40,2,20170714,       2210,   -30.0800,   168.2522,       3178,  2159.8,   2.2822,  34.6367,2,  34.6386,2, 154.8837,2, 154.8350,2,   112.4,2,   34.83,2,    0.00,2,    2.44,2,   0.057,2,   0.040,2,   0.0000,2,  2295.4,2, 2382.04,6,   7.5778,2, -999.00,9, -999.00,9, -999.00,  -999.0,9, -999.00,9,     -999.0,9,  -999.0,9, 20170714,     2051, -30.0800, 168.2524,        0.0,1,      0.061,1,      4.700,1,      0.149,1,      25.00,     -999.0,9,     -999.0,9,     -999.0,9,     -999.0,9,     2.2649,2,     -999.0,9
320620170703,        P06,      52,          1,          8,          8,2,20170714,       2210,   -30.0800,   168.2522,       3178,  1956.9,   2.4334,  34.6234,2,  34.6215,2, 155.7114,2, 155.7995,2,   107.3,2,   34.52,2,    0.00,2,    2.40,2,-999.000,9,-999.000,9,-999.0000,9,  -999.0,9, -999.00,9,-999.0000,9, -999.00,9, -999.00,9, -999.00,  -999.0,9, -999.00,9,     -999.0,9,  -999.0,9, 20170714,     2056, -30.0800, 168.2522,        0.0,1,      0.061,1,      4.702,1,      0.143,1,     -999.0,     -999.0,9,     -999.0,9,     -999.0,9,     -999.0,9,     2.4322,2,     -999.0,9
320620170703,        P06,      52,          1,          9,         41,2,20170714,       2210,   -30.0800,   168.2522,       3178,  1786.6,   2.6111,  34.6067,2,  34.6067,2, 157.1823,2, 156.8625,2,   102.6,2,   34.37,2,    0.00,2,    2.40,2,   0.089,2,   0.059,2,   0.0000,2,  -999.0,9, -999.00,9,-999.0000,9, -999.00,9, -999.00,9, -999.00,  -999.0,9, -999.00,9,     -999.0,9,  -999.0,9, 20170714,     2100, -30.0800, 168.2522,        0.0,1,      0.061,1,      4.703,1,      0.148,1,     -999.0,     -999.0,9,     -999.0,9,     -999.0,9,     -999.0,9,     2.5969,2,     -999.0,9
320620170703,        P06,      52,          1,         10,         10,2,20170714,       2210,   -30.0800,   168.2522,       3178,  1684.9,   2.7522,  34.5957,2,  34.5912,2, 158.6070,2, 159.2397,2,    97.2,2,   34.14,2,    0.00,2,    2.37,2,-999.000,9,-999.000,9,-999.0000,9,  -999.0,9, -999.00,9,-999.0000,9, -999.00,9, -999.00,9, -999.00,  -999.0,9, -999.00,9,     -999.0,9,  -999.0,9, 20170714,     2104, -30.0800, 168.2522,        0.0,1,      0.060,1,      4.702,1,      0.146,1,     -999.0,     -999.0,9,     -999.0,9,     -999.0,9,     -999.0,9,     2.7821,2,     -999.0,9
320620170703,        P06,      52,          1,         11,         42,2,20170714,       2210,   -30.0800,   168.2522,       3178,  1581.5,   3.0683,  34.5696,2,  34.5671,2, 161.5337,2, 161.7243,2,    89.1,2,   33.74,2,    0.00,2,    2.35,2,   0.183,2,   0.110,2,  -0.0010,2,  -999.0,9, -999.00,9,-999.0000,9, -999.00,9, -999.00,9, -999.00,  -999.0,9, -999.00,9,     -999.0,9,  -999.0,9, 20170714,     2107, -30.0799, 168.2521,        0.0,1,      0.061,1,      4.702,1,      0.145,1,     -999.0,     -999.0,9,     -999.0,9,     -999.0,9,     -999.0,9,     3.0648,2,     -999.0,9
320620170703,        P06,      52,          1,         12,         12,2,20170714,       2210,   -30.0800,   168.2522,       3178,  1480.0,   3.2417,  34.5567,2,  34.5451,2, 165.4840,2, 165.5113,2,    81.0,2,   33.22,2,    0.00,2,    2.32,2,-999.000,9,-999.000,9,-999.0000,9,  -999.0,9, -999.00,9,-999.0000,9, -999.00,9, -999.00,9, -999.00,  -999.0,9, -999.00,9,     -999.0,9,  -999.0,9, 20170714,     2110, -30.0800, 168.2521,        0.0,1,      0.061,1,      4.703,1,      0.144,1,     -999.0,     -999.0,9,     -999.0,9,     -999.0,9,     -999.0,9,     3.3494,2,     -999.0,9
320620170703,        P06,      52,          1,         13,         43,2,20170714,       2210,   -30.0800,   168.2522,       3178,  1377.6,   3.5159,  34.5343,2,  34.5133,2, 171.4943,2, 170.8938,2,    69.9,2,   32.55,2,    0.00,2,    2.27,2,   0.350,2,   0.199,2,  -0.0010,2,  2244.9,2, 2334.90,6,   7.5988,2, -999.00,9, -999.00,9, -999.00,  -999.0,9, -999.00,9,     -999.0,9,  -999.0,9, 20170714,     2113, -30.0800, 168.2522,        0.0,1,      0.061,1,      4.703,1,      0.143,1,      25.00,     -999.0,9,     -999.0,9,     -999.0,9,     -999.0,9,     3.7431,2,     -999.0,9
320620170703,        P06,      52,          1,         14,         14,2,20170714,       2210,   -30.0800,   168.2522,       3178,  1277.4,   4.1323,  34.4838,2,  34.4836,2, 176.2933,2, 175.6276,2,    59.6,2,   31.75,2,    0.00,2,    2.19,2,-999.000,9,-999.000,9,-999.0000,9,  -999.0,9, -999.00,9,-999.0000,9, -999.00,9, -999.00,9, -999.00,  -999.0,9, -999.00,9,     -999.0,9,  -999.0,9, 20170714,     2116, -30.0800, 168.2522,        0.0,1,      0.060,1,      4.702,1,      0.142,1,     -999.0,     -999.0,9,     -999.0,9,     -999.0,9,     -999.0,9,     4.1272,2,     -999.0,9
320620170703,        P06,      52,          1,         15,         15,2,20170714,       2210,   -30.0800,   168.2522,       3178,  1176.7,   4.7445,  34.4624,2,  34.4655,2, 182.2267,2, 181.7370,2,    48.8,2,   30.49,2,    0.00,2,    2.09,2,   0.646,2,   0.352,2,   0.1030,2,  -999.0,9, -999.00,9,-999.0000,9, -999.00,9, -999.00,9, -999.00,  -999.0,9, -999.00,9,     -999.0,9,  -999.0,9, 20170714,     2120, -30.0800, 168.2521,        0.0,1,      0.060,1,      4.701,1,      0.140,1,     -999.0,     -999.0,9,     -999.0,9,     -999.0,9,     -999.0,9,     4.6809,2,     -999.0,9
320620170703,        P06,      52,          1,         16,         16,2,20170714,       2210,   -30.0800,   168.2522,       3178,  1074.3,   5.4340,  34.4535,2,  34.4551,2, 187.8154,2, 187.7947,2,    39.3,2,   29.25,2,    0.00,2,    2.01,2,-999.000,9,-999.000,9,-999.0000,9,  -999.0,9, -999.00,9,-999.0000,9, -999.00,9, -999.00,9, -999.00,  -999.0,9, -999.00,9,     -999.0,9,  -999.0,9, 20170714,     2123, -30.0799, 168.2521,        0.0,1,      0.060,1,      4.701,1,      0.139,1,     -999.0,     -999.0,9,     -999.0,9,     -999.0,9,     -999.0,9,     5.2299,2,     -999.0,9
320620170703,        P06,      52,          1,         17,         17,2,20170714,       2210,   -30.0800,   168.2522,       3178,   973.1,   5.9611,  34.4591,2,  34.4524,2, 192.5645,2, 193.1343,2,    32.4,2,   28.03,2,    0.00,2,    1.92,2,   1.105,2,   0.583,2,   0.1660,2,  -999.0,9, -999.00,9,-999.0000,9, -999.00,9, -999.00,9, -999.00,  -999.0,9, -999.00,9,     -999.0,9,  -999.0,9, 20170714,     2126, -30.0799, 168.2520,        0.0,1,      0.059,1,      4.698,1,      0.141,1,     -999.0,     -999.0,9,     -999.0,9,     -999.0,9,     -999.0,9,     5.6770,2,     -999.0,9
320620170703,        P06,      52,          1,         18,         18,2,20170714,       2210,   -30.0800,   168.2522,       3178,   871.8,   6.6953,  34.4782,2,  34.4738,3, 200.1345,2, 200.1959,2,    22.3,2,   25.69,2,    0.00,2,    1.77,2,-999.000,9,-999.000,9,-999.0000,9,  -999.0,9, -999.00,9,-999.0000,9, -999.00,9, -999.00,9, -999.00,  -999.0,9, -999.00,9,     -999.0,9,  -999.0,9, 20170714,     2129, -30.0799, 168.2519,        0.0,1,      0.060,1,      4.702,1,      0.144,1,     -999.0,     -999.0,9,     -999.0,9,     -999.0,9,     -999.0,9,     6.5920,2,     -999.0,9
320620170703,        P06,      52,          1,         19,         19,2,20170714,       2210,   -30.0800,   168.2522,       3178,   769.4,   7.5374,  34.5388,2,  34.5327,2, 202.3020,2, 203.4385,2,    15.8,2,   23.44,2,    0.00,2,    1.60,2,   1.934,2,   1.018,2,   0.4070,2,  2163.5,2, 2287.02,2,   7.6917,2, -999.00,9, -999.00,9, -999.00,  -999.0,9, -999.00,9,     -999.0,9,  -999.0,9, 20170714,     2132, -30.0799, 168.2518,        0.0,1,      0.060,1,      4.701,1,      0.141,1,      25.02,     -999.0,9,     -999.0,9,     -999.0,9,     -999.0,9,     7.5290,2,     -999.0,9
320620170703,        P06,      52,          1,         20,         20,2,20170714,       2210,   -30.0800,   168.2522,       3178,   671.0,   8.4624,  34.6186,2,  34.6555,2, 201.7930,2, 201.4492,2,    11.1,2,   20.57,2,    0.00,2,    1.42,2,-999.000,9,-999.000,9,-999.0000,9,  -999.0,9, -999.00,9,-999.0000,9, -999.00,9, -999.00,9, -999.00,  -999.0,9, -999.00,9,     -999.0,9,  -999.0,9, 20170714,     2136, -30.0799, 168.2518,        0.0,1,      0.060,1,      4.700,1,      0.141,1,     -999.0,     -999.0,9,     -999.0,9,     -999.0,9,     -999.0,9,     8.8405,2,     -999.0,9
320620170703,        P06,      52,          1,         21,         21,2,20170714,       2210,   -30.0800,   168.2522,       3178,   568.8,  10.2078,  34.7998,2,  34.7366,2, 201.0881,2, 200.9024,2,     8.7,2,   18.70,2,    0.00,2,    1.28,2,   2.375,2,   1.281,2,   0.5870,2,  -999.0,9, -999.00,9,-999.0000,9, -999.00,9, -999.00,9, -999.00,  -999.0,9, -999.00,9,     -999.0,9,  -999.0,9, 20170714,     2139, -30.0799, 168.2520,        0.0,1,      0.059,1,      4.697,1,      0.145,1,     -999.0,     -999.0,9,     -999.0,9,     -999.0,9,     -999.0,9,     9.6751,2,     -999.0,9
320620170703,        P06,      52,          1,         22,         22,2,20170714,       2210,   -30.0800,   168.2522,       3178,   488.7,  11.8267,  34.9857,2,  34.9140,2, 198.5310,2, 198.4959,2,     6.4,2,   15.57,2,    0.00,2,    1.09,2,-999.000,9,-999.000,9,-999.0000,9,  -999.0,9, -999.00,9,-999.0000,9, -999.00,9, -999.00,9, -999.00,  -999.0,9, -999.00,9,     -999.0,9,  -999.0,9, 20170714,     2142, -30.0799, 168.2519,        0.0,1,      0.059,1,      4.695,1,      0.144,1,     -999.0,     -999.0,9,     -999.0,9,     -999.0,9,     -999.0,9,    11.2540,2,     -999.0,9
320620170703,        P06,      52,          1,         23,         23,2,20170714,       2210,   -30.0800,   168.2522,       3178,   438.3,  12.1113,  35.0203,2,  35.0028,2, 197.6715,2, 197.6394,2,     5.2,2,   13.93,2,    0.00,2,    0.98,2,   2.359,2,   1.350,2,   0.8200,2,  -999.0,9, -999.00,9,-999.0000,9, -999.00,9, -999.00,9, -999.00,  -999.0,9, -999.00,9,     -999.0,9,  -999.0,9, 20170714,     2144, -30.0799, 168.2519,        0.0,1,      0.059,1,      4.691,1,      0.147,1,     -999.0,     -999.0,9,     -999.0,9,     -999.0,9,     -999.0,9,    11.9990,2,     -999.0,9
320620170703,        P06,      52,          1,         24,         24,2,20170714,       2210,   -30.0800,   168.2522,       3178,   386.7,  13.0366,  35.1194,2,  35.0933,2, 197.4734,2, 197.4834,2,     4.0,2,   12.06,2,    0.00,2,    0.86,2,-999.000,9,-999.000,9,-999.0000,9,  -999.0,9, -999.00,9,-999.0000,9, -999.00,9, -999.00,9, -999.00,  -999.0,9, -999.00,9,     -999.0,9,  -999.0,9, 20170714,     2147, -30.0799, 168.2518,        0.0,1,      0.060,1,      4.684,1,      0.144,1,     -999.0,     -999.0,9,     -999.0,9,     -999.0,9,     -999.0,9,    12.8606,2,     -999.0,9
320620170703,        P06,      52,          1,         25,         25,2,20170714,       2210,   -30.0800,   168.2522,       3178,   339.4,  14.0873,  35.2383,2,  35.2258,2, 197.9685,2, 196.6569,2,     3.0,2,    9.91,2,    0.00,2,    0.71,2,   2.256,2,   1.348,2,   0.8850,2,  -999.0,9, -999.00,9,-999.0000,9, -999.00,9, -999.00,9, -999.00,  -999.0,9, -999.00,9,     -999.0,9,  -999.0,9, 20170714,     2149, -30.0799, 168.2518,        0.0,1,      0.060,1,      4.693,1,      0.153,1,     -999.0,     -999.0,9,     -999.0,9,     -999.0,9,     -999.0,9,    14.0370,2,     -999.0,9
320620170703,        P06,      52,          1,         26,         26,2,20170714,       2210,   -30.0800,   168.2522,       3178,   285.6,  15.5726,  35.3997,2,  35.3216,2, 198.4466,2, 199.3375,2,     2.4,2,    8.46,2,    0.00,2,    0.63,2,-999.000,9,-999.000,9,-999.0000,9,  -999.0,9, -999.00,9,-999.0000,9, -999.00,9, -999.00,9, -999.00,  -999.0,9, -999.00,9,     -999.0,9,  -999.0,9, 20170714,     2152, -30.0799, 168.2518,        0.0,1,      0.059,1,      4.691,1,      0.149,1,     -999.0,     -999.0,9,     -999.0,9,     -999.0,9,     -999.0,9,    14.8438,2,     -999.0,9
320620170703,        P06,      52,          1,         27,         27,2,20170714,       2210,   -30.0800,   168.2522,       3178,   237.2,  16.2369,  35.4650,2,  35.4663,2, 197.1870,2, 197.7660,2,     1.8,2,    6.57,2,    0.00,2,    0.49,2,   2.138,2,   1.278,2,   0.9370,2,  2101.6,2, 2320.68,2,   7.8993,2, -999.00,9, -999.00,9, -999.00,  -999.0,9, -999.00,9,     -999.0,9,  -999.0,9, 20170714,     2154, -30.0799, 168.2519,        0.0,1,      0.060,1,      4.690,1,      0.148,1,      25.01,     -999.0,9,     -999.0,9,     -999.0,9,     -999.0,9,    16.2716,2,     -999.0,9
320620170703,        P06,      52,          1,         28,         28,2,20170714,       2210,   -30.0800,   168.2522,       3178,   191.0,  17.3081,  35.5597,2,  35.5571,2, 198.2149,2, 198.0513,2,     1.3,2,    5.23,2,    0.02,2,    0.41,2,-999.000,9,-999.000,9,-999.0000,9,  -999.0,9, -999.00,9,-999.0000,9, -999.00,9, -999.00,9, -999.00,  -999.0,9, -999.00,9,     -999.0,9,  -999.0,9, 20170714,     2156, -30.0799, 168.2519,        0.0,1,      0.061,1,      4.686,1,      0.149,1,     -999.0,     -999.0,9,     -999.0,9,     -999.0,9,     -999.0,9,    17.2934,2,     -999.0,9
320620170703,        P06,      52,          1,         29,         29,2,20170714,       2210,   -30.0800,   168.2522,       3178,   166.3,  17.9049,  35.6065,2,  35.5969,2, 200.0420,2, 199.0727,2,     1.1,2,    4.54,2,    0.02,2,    0.35,2,   1.994,2,   1.233,2,   0.9920,2,  -999.0,9, -999.00,9,-999.0000,9, -999.00,9, -999.00,9, -999.00,  -999.0,9, -999.00,9,     -999.0,9,  -999.0,9, 20170714,     2158, -30.0799, 168.2520,        0.0,1,      0.063,1,      4.684,1,      0.152,1,     -999.0,     -999.0,9,     -999.0,9,     -999.0,9,     -999.0,9,    17.8188,2,     -999.0,9
320620170703,        P06,      52,          1,         30,         30,2,20170714,       2210,   -30.0800,   168.2522,       3178,   141.3,  19.5282,  35.8469,2,  35.6508,2, 220.1236,2, 220.8800,2,     0.8,2,    3.70,2,    0.03,2,    0.31,2,-999.000,9,-999.000,9,-999.0000,9,  -999.0,9, -999.00,9,-999.0000,9, -999.00,9, -999.00,9, -999.00,  -999.0,9, -999.00,9,     -999.0,9,  -999.0,9, 20170714,     2200, -30.0800, 168.2520,        0.0,1,      0.161,1,      4.629,1,      0.210,1,     -999.0,     -999.0,9,     -999.0,9,     -999.0,9,     -999.0,9,    18.4043,2,     -999.0,9
320620170703,        P06,      52,          1,         31,         31,2,20170714,       2210,   -30.0800,   168.2522,       3178,   115.9,  19.5414,  35.8509,2,  35.8481,2, 221.8533,2, 221.9407,2,     0.2,2,    0.46,2,    0.08,2,    0.11,2,   1.820,2,   1.140,2,   1.0960,2,  2062.1,2, 2342.30,2,   8.0031,2, -999.00,9, -999.00,9, -999.00,  -999.0,9, -999.00,9,     -999.0,9,  -999.0,9, 20170714,     2202, -30.0799, 168.2520,        0.0,1,      0.162,1,      4.628,1,      0.211,1,      25.02,     -999.0,9,     -999.0,9,     -999.0,9,     -999.0,9,    19.5346,2,     -999.0,9
320620170703,        P06,      52,          1,         32,         32,2,20170714,       2210,   -30.0800,   168.2522,       3178,    89.4,  19.5351,  35.8511,2,  35.8728,2, 221.7903,2, 221.3478,2,     0.2,2,    0.43,2,    0.08,2,    0.10,2,-999.000,9,-999.000,9,-999.0000,9,  -999.0,9, -999.00,9,-999.0000,9, -999.00,9, -999.00,9, -999.00,  -999.0,9, -999.00,9,     -999.0,9,  -999.0,9, 20170714,     2203, -30.0799, 168.2520,        0.0,1,      0.164,1,      4.629,1,      0.218,1,     -999.0,     -999.0,9,     -999.0,9,     -999.0,9,     -999.0,9,    19.5379,2,     -999.0,9