BOTTLE,20230922CCHSIOCBG
EXPOCODE,SECT_ID,STNNBR,CASTNO,SAMPNO,BTLNBR,BTLNBR_FLAG_W,DATE,TIME,LATITUDE,LONGITUDE,DEPTH,CTDPRS,CTDTMP,CTDSAL,CTDSAL_FLAG_W,SALNTY,SALNTY_FLAG_W,CTDOXY,CTDOXY_FLAG_W,OXYGEN,OXYGEN_FLAG_W,SILCAT,SILCAT_FLAG_W,NITRAT,NITRAT_FLAG_W,NITRIT,NITRIT_FLAG_W,PHSPHT,PHSPHT_FLAG_W,CFC-11,CFC-11_FLAG_W,CFC-12,CFC-12_FLAG_W,SF6,SF6_FLAG_W,TCARBN,TCARBN_FLAG_W,ALKALI,ALKALI_FLAG_W,PH_TOT,PH_TOT_FLAG_W,DELC13,DELC13_FLAG_W,DELC14,DELC14_FLAG_W,C14ERR,DOC,DOC_FLAG_W,TDN,TDN_FLAG_W,TON,TON_FLAG_W,D15N_NO3,D15N_NO3_FLAG_W,BTL_DATE,BTL_TIME,BTL_LAT,BTL_LON,CTDRINKO,CTDRINKO_FLAG_W,CTDFLUOR,CTDFLUOR_FLAG_W,CTDXMISS,CTDXMISS_FLAG_W,CTDBACKSCATTER,CTDBACKSCATTER_FLAG_W,PH_TMP,D18O_NO3,D18O_NO3_FLAG_W,DOP,DOP_FLAG_W,HPLC,HPLC_FLAG_W,POC,POC_FLAG_W,REFTMP,REFTMP_FLAG_W,TDP,TDP_FLAG_W
,,,,,,,,,,,METERS,DBAR,ITS-90,PSS-78,,PSS-78,,UMOL/KG,,UMOL/KG,,UMOL/KG,,UMOL/KG,,UMOL/KG,,UMOL/KG,,PMOL/KG,,PMOL/KG,,FMOL/KG,,UMOL/KG,,UMOL/KG,,,,/MILLE,,/MILLE,,/MILLE,UMOL/KG,,UMOL/KG,,UMOL/KG,,/MILLE,,,,,,VOLTS,,VOLTS,,VOLTS,,VOLTS,,DEGC,/MILLE,,UMOL/KG,,,,UG/L,,ITS-90,,UMOL/KG,
320620170703,        P06,      18,          1,         33,         33,2,20170708,       1124,   -30.0799,   156.9200,       4862,    85.9,  20.5932,  35.7840,2,  35.7801,2, 226.0830,3, 221.3013,2,     0.0,2,    0.11,2,    0.14,2,    0.08,2,   1.841,2,   1.109,2,   1.0680,2,  2041.9,2, 2340.05,2,   8.0336,2, -999.00,9, -999.00,9, -999.00,    57.0,2,    4.10,2,     -999.0,1,  -999.0,9, 20170708,     1119, -30.0799, 156.9200,        0.0,1,      0.208,1,      4.617,1,      0.218,1,      25.00,     -999.0,9,     -999.0,9,     -999.0,9,     -999.0,9,    20.5975,2,     -999.0,9
320620170703,        P06,      18,          1,         34,         34,2,20170708,       1124,   -30.0799,   156.9200,       4862,    61.1,  20.6434,  35.7705,2,  35.7665,2, 225.7868,3, 220.9102,2,     0.0,2,    0.17,2,    0.14,2,    0.09,2,   1.847,2,   1.117,2,   1.1510,2,  2040.9,2, 2341.57,2,   8.0342,2, -999.00,9, -999.00,9, -999.00,    59.6,2,    4.90,2,     -999.0,1,  -999.0,9, 20170708,     1121, -30.0799, 156.9199,        0.0,1,      0.242,1,      4.591,1,      0.229,1,      25.00,     -999.0,9,     -999.0,9,     -999.0,9,     -999.0,9,    20.6178,2,     -999.0,9
320620170703,        P06,      18,          1,         35,         35,2,20170708,       1124,   -30.0799,   156.9200,       4862,    35.7,  20.7301,  35.7612,2,  35.7549,2, 226.2180,3, 221.5862,2,     0.0,2,    0.11,2,    0.11,2,    0.09,2,   1.841,2,   1.110,2,   1.0850,2,  2037.3,2, 2338.75,2,   8.0380,2, -999.00,9, -999.00,9, -999.00,    60.8,2,    4.30,2,     -999.0,1,  -999.0,9, 20170708,     1123, -30.0799, 156.9200,        0.0,1,      0.235,1,      4.595,1,      0.222,1,      25.01,     -999.0,9,     -999.0,9,     -999.0,9,     -999.0,9,    20.6922,2,     -999.0,9
320620170703,        P06,      18,          1,         36,         36,2,20170708,       1124,   -30.0799,   156.9200,       4862,     4.2,  20.7148,  35.7337,2,  35.7539,2, 226.5692,3, 221.6884,2,     0.0,2,    0.10,2,    0.11,2,    0.08,2,   1.839,2,   1.104,2,   1.0650,2,  2037.0,6, 2337.98,2,   8.0389,2, -999.00,9, -999.00,9, -999.00,    63.1,2,    4.30,2,     -999.0,1,  -999.0,9, 20170708,     1124, -30.0799, 156.9200,        0.0,1,      0.228,1,      4.545,1,      0.232,1,      25.01,     -999.0,9,     -999.0,9,     -999.0,9,     -999.0,9,    20.6744,2,     -999.0,9