BOTTLE,20230922CCHSIOCBG
EXPOCODE,SECT_ID,STNNBR,CASTNO,SAMPNO,BTLNBR,BTLNBR_FLAG_W,DATE,TIME,LATITUDE,LONGITUDE,DEPTH,CTDPRS,CTDTMP,CTDSAL,CTDSAL_FLAG_W,SALNTY,SALNTY_FLAG_W,CTDOXY,CTDOXY_FLAG_W,OXYGEN,OXYGEN_FLAG_W,SILCAT,SILCAT_FLAG_W,NITRAT,NITRAT_FLAG_W,NITRIT,NITRIT_FLAG_W,PHSPHT,PHSPHT_FLAG_W,CFC-11,CFC-11_FLAG_W,CFC-12,CFC-12_FLAG_W,SF6,SF6_FLAG_W,TCARBN,TCARBN_FLAG_W,ALKALI,ALKALI_FLAG_W,PH_TOT,PH_TOT_FLAG_W,DELC13,DELC13_FLAG_W,DELC14,DELC14_FLAG_W,C14ERR,DOC,DOC_FLAG_W,TDN,TDN_FLAG_W,TON,TON_FLAG_W,D15N_NO3,D15N_NO3_FLAG_W,BTL_DATE,BTL_TIME,BTL_LAT,BTL_LON,CTDRINKO,CTDRINKO_FLAG_W,CTDFLUOR,CTDFLUOR_FLAG_W,CTDXMISS,CTDXMISS_FLAG_W,CTDBACKSCATTER,CTDBACKSCATTER_FLAG_W,PH_TMP,D18O_NO3,D18O_NO3_FLAG_W,DOP,DOP_FLAG_W,HPLC,HPLC_FLAG_W,POC,POC_FLAG_W,REFTMP,REFTMP_FLAG_W,TDP,TDP_FLAG_W
,,,,,,,,,,,METERS,DBAR,ITS-90,PSS-78,,PSS-78,,UMOL/KG,,UMOL/KG,,UMOL/KG,,UMOL/KG,,UMOL/KG,,UMOL/KG,,PMOL/KG,,PMOL/KG,,FMOL/KG,,UMOL/KG,,UMOL/KG,,,,/MILLE,,/MILLE,,/MILLE,UMOL/KG,,UMOL/KG,,UMOL/KG,,/MILLE,,,,,,VOLTS,,VOLTS,,VOLTS,,VOLTS,,DEGC,/MILLE,,UMOL/KG,,,,UG/L,,ITS-90,,UMOL/KG,
320620170703,        P06,      37,          1,          1,         37,2,20170712,       0110,   -30.0802,   163.9215,       1954,  1969.0,   2.3425,  34.6439,2,  34.6456,2, 153.0098,2, 152.7037,2,   108.0,2,   34.91,2,    0.00,2,    2.42,2,   0.040,2,   0.038,2,   0.0000,2,  2297.0,6, 2381.34,2,   7.5754,2, -999.00,9, -999.00,9, -999.00,    45.1,2, -999.00,9,     -999.0,1,  -999.0,1, 20170711,     2353, -30.0800, 163.9206,        0.0,1,      0.062,1,      4.699,1,      0.158,1,      25.02,     -999.0,1,     -999.0,9,     -999.0,9,     -999.0,9,     2.3447,2,     -999.0,9
320620170703,        P06,      37,          1,          2,          2,2,20170712,       0110,   -30.0802,   163.9215,       1954,  1886.8,   2.4677,  34.6330,2,  34.6313,2, 153.3715,2, 153.6559,2,   105.3,2,   34.80,2,    0.00,2,    2.43,2,-999.000,9,-999.000,9,-999.0000,9,  -999.0,9, -999.00,9,-999.0000,9, -999.00,9, -999.00,9, -999.00,  -999.0,9, -999.00,9,     -999.0,9,  -999.0,1, 20170711,     2356, -30.0800, 163.9208,        0.0,1,      0.061,1,      4.701,1,      0.153,1,     -999.0,     -999.0,1,     -999.0,9,     -999.0,9,     -999.0,9,     2.4667,2,     -999.0,9
320620170703,        P06,      37,          1,          3,         38,2,20170712,       0110,   -30.0802,   163.9215,       1954,  1784.3,   2.6884,  34.6150,2,  34.6126,2, 154.3852,2, 154.7969,2,   100.1,2,   34.65,2,    0.00,2,    2.43,2,   0.054,2,   0.047,2,   0.0000,2,  -999.0,9, -999.00,9,-999.0000,9, -999.00,9, -999.00,9, -999.00,  -999.0,9, -999.00,9,     -999.0,9,  -999.0,1, 20170712,        0, -30.0800, 163.9207,        0.0,1,      0.061,1,      4.702,1,      0.152,1,     -999.0,     -999.0,1,     -999.0,9,     -999.0,9,     -999.0,9,     2.7063,2,     -999.0,9
320620170703,        P06,      37,          1,          4,          4,2,20170712,       0110,   -30.0802,   163.9215,       1954,  1682.9,   2.9834,  34.5912,2,  34.5859,2, 156.3594,2, 156.1856,2,    92.0,2,   34.27,2,    0.00,2,    2.39,2,-999.000,9,-999.000,9,-999.0000,9,  2276.4,2, 2360.53,6,   7.5788,2, -999.00,9, -999.00,9, -999.00,    38.4,2, -999.00,9,     -999.0,1,  -999.0,1, 20170712,        3, -30.0800, 163.9206,        0.0,1,      0.061,1,      4.703,1,      0.149,1,      25.02,     -999.0,1,     -999.0,9,     -999.0,9,     -999.0,9,     3.0358,2,     -999.0,9
320620170703,        P06,      37,          1,          5,         39,2,20170712,       0110,   -30.0802,   163.9215,       1954,  1581.9,   3.2415,  34.5707,2,  34.5669,2, 158.8631,2, 158.3981,2,    86.0,2,   33.89,2,    0.00,2,    2.36,2,   0.130,2,   0.095,2,   0.0290,2,  -999.0,9, -999.00,9,-999.0000,9, -999.00,9, -999.00,9, -999.00,    40.8,2, -999.00,9,     -999.0,1,  -999.0,1, 20170712,        6, -30.0800, 163.9204,        0.0,1,      0.061,1,      4.704,1,      0.144,1,     -999.0,     -999.0,1,     -999.0,9,     -999.0,9,     -999.0,9,     3.2599,2,     -999.0,9
320620170703,        P06,      37,          1,          6,          6,2,20170712,       0110,   -30.0802,   163.9215,       1954,  1479.8,   3.5619,  34.5447,2,  34.5411,2, 163.4287,2, 163.2729,2,    77.2,2,   33.23,2,    0.00,2,    2.31,2,-999.000,9,-999.000,9,-999.0000,9,  -999.0,9, -999.00,9,-999.0000,9, -999.00,9, -999.00,9, -999.00,  -999.0,9, -999.00,9,     -999.0,9,  -999.0,1, 20170712,        9, -30.0800, 163.9204,        0.0,1,      0.061,1,      4.705,1,      0.145,1,     -999.0,     -999.0,1,     -999.0,9,     -999.0,9,     -999.0,9,     3.5801,2,     -999.0,9
320620170703,        P06,      37,          1,          7,         40,2,20170712,       0110,   -30.0802,   163.9215,       1954,  1378.3,   3.9411,  34.5173,2,-999.0000,5, 169.6891,2, 169.9902,2,    66.2,2,   32.35,2,    0.00,2,    2.25,2,   0.329,2,   0.204,2,   0.2150,2,  2244.1,2, 2333.45,2,   7.5981,2, -999.00,9, -999.00,9, -999.00,    42.0,2, -999.00,9,     -999.0,1,  -999.0,1, 20170712,       12, -30.0800, 163.9205,        0.0,1,      0.060,1,      4.704,1,      0.143,1,      25.01,     -999.0,1,     -999.0,9,     -999.0,9,     -999.0,9,     3.9987,2,     -999.0,9
320620170703,        P06,      37,          1,          8,          8,2,20170712,       0110,   -30.0802,   163.9215,       1954,  1276.9,   4.3807,  34.4896,2,  34.4842,2, 176.4844,2, 176.3037,2,    55.5,2,   31.36,2,    0.00,2,    2.16,2,-999.000,9,-999.000,9,-999.0000,9,  -999.0,9, -999.00,9,-999.0000,9, -999.00,9, -999.00,9, -999.00,  -999.0,9, -999.00,9,     -999.0,9,  -999.0,1, 20170712,       16, -30.0800, 163.9204,        0.0,1,      0.060,1,      4.706,1,      0.145,1,     -999.0,     -999.0,1,     -999.0,9,     -999.0,9,     -999.0,9,     4.4377,2,     -999.0,9
320620170703,        P06,      37,          1,          9,         41,2,20170712,       0110,   -30.0802,   163.9215,       1954,  1176.2,   4.9235,  34.4597,2,  34.4559,2, 183.2191,2, 184.3192,2,    44.7,2,   30.25,2,    0.00,2,    2.07,2,   0.672,2,   0.380,2,   0.2790,2,  -999.0,9, -999.00,9,-999.0000,9, -999.00,9, -999.00,9, -999.00,    43.1,2, -999.00,9,     -999.0,1,  -999.0,1, 20170712,       19, -30.0800, 163.9203,        0.0,1,      0.060,1,      4.706,1,      0.140,1,     -999.0,     -999.0,1,     -999.0,9,     -999.0,9,     -999.0,9,     4.9472,2,     -999.0,9
320620170703,        P06,      37,          1,         10,         10,2,20170712,       0110,   -30.0802,   163.9215,       1954,  1075.0,   5.4426,  34.4422,2,  34.4426,3, 190.2442,2, 189.9461,2,    34.5,2,   28.78,2,    0.00,2,    1.97,2,-999.000,9,-999.000,9,-999.0000,9,  -999.0,9, -999.00,9,-999.0000,9, -999.00,9, -999.00,9, -999.00,    46.8,3, -999.00,9,     -999.0,1,  -999.0,1, 20170712,       22, -30.0800, 163.9205,        0.0,1,      0.060,1,      4.706,1,      0.139,1,     -999.0,     -999.0,1,     -999.0,9,     -999.0,9,     -999.0,9,     5.5074,2,     -999.0,9
320620170703,        P06,      37,          1,         11,         42,2,20170712,       0110,   -30.0802,   163.9215,       1954,   973.3,   6.1669,  34.4566,2,  34.4514,2, 196.2334,2, 195.4818,2,    26.3,2,   27.15,2,    0.00,2,    1.86,2,   1.211,2,   0.664,2,   0.3380,2,  2182.7,2, 2291.61,2,   7.6563,2, -999.00,9, -999.00,9, -999.00,    41.8,2, -999.00,9,     -999.0,1,  -999.0,1, 20170712,       25, -30.0800, 163.9207,        0.0,1,      0.061,1,      4.705,1,      0.139,1,      25.02,     -999.0,1,     -999.0,9,     -999.0,9,     -999.0,9,     6.1443,2,     -999.0,9
320620170703,        P06,      37,          1,         12,         12,2,20170712,       0110,   -30.0802,   163.9215,       1954,   872.9,   6.8044,  34.4628,2,  34.4606,2, 202.2172,2, 201.4542,2,    19.1,2,   25.57,2,    0.01,2,    1.72,2,-999.000,9,-999.000,9,-999.0000,9,  -999.0,9, -999.00,9,-999.0000,9, -999.00,9, -999.00,9, -999.00,    46.4,3, -999.00,9,     -999.0,1,  -999.0,1, 20170712,       28, -30.0800, 163.9206,        0.0,1,      0.060,1,      4.705,1,      0.140,1,     -999.0,     -999.0,1,     -999.0,9,     -999.0,9,     -999.0,9,     6.7646,2,     -999.0,9
320620170703,        P06,      37,          1,         13,         43,2,20170712,       0110,   -30.0802,   163.9215,       1954,   771.6,   7.6926,  34.5266,2,  34.5262,2, 202.2830,2, 203.2394,2,    13.4,2,   23.22,2,    0.01,2,    1.57,2,   1.954,2,   1.103,2,   0.5440,2,  2159.6,2, 2283.54,2,   7.6946,2, -999.00,9, -999.00,9, -999.00,    42.2,2, -999.00,9,     -999.0,1,  -999.0,1, 20170712,       31, -30.0800, 163.9206,        0.0,1,      0.060,1,      4.703,1,      0.141,1,      25.01,     -999.0,1,     -999.0,9,     -999.0,9,     -999.0,9,     7.7434,2,     -999.0,9
320620170703,        P06,      37,          1,         14,         14,2,20170712,       0110,   -30.0802,   163.9215,       1954,   670.3,   8.7660,  34.6248,2,  34.6109,2, 201.7557,2, 202.4837,2,     9.9,2,   21.14,2,    0.01,2,    1.43,2,-999.000,9,-999.000,9,-999.0000,9,  -999.0,9, -999.00,9,-999.0000,9, -999.00,9, -999.00,9, -999.00,    42.3,2, -999.00,9,     -999.0,1,  -999.0,1, 20170712,       34, -30.0800, 163.9205,        0.0,1,      0.059,1,      4.702,1,      0.141,1,     -999.0,     -999.0,1,     -999.0,9,     -999.0,9,     -999.0,9,     8.7478,2,     -999.0,9
320620170703,        P06,      37,          1,         15,         15,2,20170712,       0110,   -30.0802,   163.9215,       1954,   568.8,  10.1317,  34.7793,2,  34.7801,2, 198.9891,2, 198.7480,2,     6.9,2,   17.91,2,    0.01,2,    1.20,2,   2.410,2,   1.396,2,   0.7300,2,  2145.5,2, 2288.00,2,   7.7458,2, -999.00,9, -999.00,9, -999.00,    43.7,2, -999.00,9,     -999.0,1,  -999.0,1, 20170712,       37, -30.0800, 163.9203,        0.0,1,      0.059,1,      4.699,1,      0.143,1,      25.01,     -999.0,1,     -999.0,9,     -999.0,9,     -999.0,9,    10.2482,2,     -999.0,9
320620170703,        P06,      37,          1,         16,         16,2,20170712,       0110,   -30.0802,   163.9215,       1954,   489.5,  11.5711,  34.9484,2,  34.9943,2, 196.6153,2, 196.2042,2,     5.0,2,   14.69,2,    0.01,2,    0.99,2,-999.000,9,-999.000,9,-999.0000,9,  -999.0,9, -999.00,9,-999.0000,9, -999.00,9, -999.00,9, -999.00,    44.9,2,   16.20,2,     -999.0,1,  -999.0,1, 20170712,       40, -30.0800, 163.9202,        0.0,1,      0.060,1,      4.698,1,      0.143,1,     -999.0,     -999.0,1,     -999.0,9,     -999.0,9,     -999.0,9,    11.9527,2,     -999.0,9
320620170703,        P06,      37,          1,         17,         17,2,20170712,       0110,   -30.0802,   163.9215,       1954,   438.0,  12.7102,  35.0825,2,  35.1035,2, 197.4031,2, 196.8022,2,     4.0,2,   12.65,2,    0.01,2,    0.85,2,   2.339,2,   1.446,2,   0.8970,2,  2121.8,2, 2301.46,2,   7.8115,2, -999.00,9, -999.00,9, -999.00,    45.9,2,   13.60,2,     -999.0,1,  -999.0,1, 20170712,       42, -30.0800, 163.9201,        0.0,1,      0.059,1,      4.696,1,      0.142,1,      25.02,     -999.0,1,     -999.0,9,     -999.0,9,     -999.0,9,    12.9015,2,     -999.0,9
320620170703,        P06,      37,          1,         18,         18,2,20170712,       0110,   -30.0802,   163.9215,       1954,   387.3,  14.3220,  35.2936,2,  35.2879,3, 197.0553,2, 196.6054,2,     2.9,2,    9.96,2,    0.01,2,    0.69,2,-999.000,9,-999.000,9,-999.0000,9,  -999.0,9, -999.00,9,-999.0000,9, -999.00,9, -999.00,9, -999.00,    47.8,2,   12.70,2,     -999.0,1,  -999.0,1, 20170712,       44, -30.0800, 163.9203,        0.0,1,      0.059,1,      4.693,1,      0.146,1,     -999.0,     -999.0,1,     -999.0,1,     -999.0,9,     -999.0,9,    14.3166,2,     -999.0,9
320620170703,        P06,      37,          1,         19,         19,2,20170712,       0110,   -30.0802,   163.9215,       1954,   337.1,  15.5197,  35.4077,2,  35.3910,3, 195.6521,2, 196.3777,2,     2.2,2,    8.43,2,    0.01,2,    0.59,2,   2.186,2,   1.384,2,   0.9500,2,  2108.2,2, 2315.85,2,   7.8759,2, -999.00,9, -999.00,9, -999.00,    46.8,2,   10.90,2,     -999.0,1,  -999.0,1, 20170712,       46, -30.0800, 163.9204,        0.0,1,      0.060,1,      4.692,1,      0.145,1,      25.03,     -999.0,1,     -999.0,1,     -999.0,9,     -999.0,9,    15.4728,2,     -999.0,9
320620170703,        P06,      37,          1,         20,         20,2,20170712,       0110,   -30.0802,   163.9215,       1954,   287.1,  16.4632,  35.4854,2,  35.4979,2, 193.3759,2, 193.9577,2,     1.5,2,    6.70,2,    0.01,2,    0.49,2,-999.000,9,-999.000,9,-999.0000,9,  -999.0,9, -999.00,9,-999.0000,9, -999.00,9, -999.00,9, -999.00,    50.1,2,    9.10,2,     -999.0,1,  -999.0,1, 20170712,       49, -30.0800, 163.9204,        0.0,1,      0.059,1,      4.692,1,      0.145,1,     -999.0,     -999.0,1,     -999.0,1,     -999.0,9,     -999.0,9,    16.7422,2,     -999.0,9
320620170703,        P06,      37,          1,         21,         21,2,20170712,       0110,   -30.0802,   163.9215,       1954,   242.0,  17.6882,  35.5837,2,  35.5802,2, 193.5585,2, 194.5155,2,     1.2,2,    5.68,2,    0.01,2,    0.41,2,   1.958,2,   1.315,2,   0.9540,2,  -999.0,9, -999.00,9,-999.0000,9, -999.00,9, -999.00,9, -999.00,  -999.0,9, -999.00,9,     -999.0,9,  -999.0,1, 20170712,       51, -30.0800, 163.9204,        0.0,1,      0.059,1,      4.689,1,      0.152,1,     -999.0,     -999.0,1,     -999.0,1,     -999.0,9,     -999.0,9,    17.7067,2,     -999.0,9
320620170703,        P06,      37,          1,         22,         22,2,20170712,       0110,   -30.0802,   163.9215,       1954,   215.9,  18.2424,  35.6279,2,  35.6133,2, 194.0468,2, 195.0917,2,     1.0,2,    5.05,2,    0.02,2,    0.37,2,-999.000,9,-999.000,9,-999.0000,9,  2084.5,2, 2328.46,2,   7.9394,2, -999.00,9, -999.00,9, -999.00,    49.8,2,    8.50,2,     -999.0,1,  -999.0,1, 20170712,       53, -30.0800, 163.9205,        0.0,1,      0.060,1,      4.686,1,      0.153,1,      25.02,     -999.0,1,     -999.0,1,     -999.0,9,     -999.0,9,    18.1360,2,     -999.0,9
320620170703,        P06,      37,          1,         23,         23,2,20170712,       0110,   -30.0802,   163.9215,       1954,   191.3,  18.6104,  35.6573,2,  35.6492,2, 193.6547,2, 194.3839,2,     0.8,2,    4.62,2,    0.02,2,    0.34,2,   1.943,2,   1.271,2,   1.0380,2,  -999.0,9, -999.00,9,-999.0000,9, -999.00,9, -999.00,9, -999.00,    46.8,2,    7.50,2,     -999.0,1,  -999.0,1, 20170712,       55, -30.0800, 163.9206,        0.0,1,      0.061,1,      4.686,1,      0.153,1,     -999.0,     -999.0,1,     -999.0,1,     -999.0,9,     -999.0,9,    18.6147,2,     -999.0,9
320620170703,        P06,      37,          1,         24,         24,2,20170712,       0110,   -30.0802,   163.9215,       1954,   165.6,  19.4210,  35.7222,2,  35.7134,2, 204.5340,3, 199.7591,2,     0.6,2,    3.11,2,    0.07,2,    0.25,2,-999.000,9,-999.000,9,-999.0000,9,  2072.5,2, 2334.82,2,   7.9709,2, -999.00,9, -999.00,9, -999.00,    50.9,2,    7.00,2,     -999.0,1,  -999.0,1, 20170712,       57, -30.0800, 163.9208,        0.0,1,      0.066,1,      4.681,1,      0.157,1,      25.02,     -999.0,1,     -999.0,1,     -999.0,9,     -999.0,9,    19.4935,2,     -999.0,9
320620170703,        P06,      37,          1,         25,         25,2,20170712,       0110,   -30.0802,   163.9215,       1954,   140.1,  20.0450,  35.8279,2,  35.8175,2, 218.2216,2, 219.2240,2,     0.3,2,    0.54,2,    0.30,2,    0.11,2,   1.814,2,   1.217,2,   1.0590,2,  -999.0,9, -999.00,9,-999.0000,9, -999.00,9, -999.00,9, -999.00,    58.7,2,    4.00,2,     -999.0,1,  -999.0,1, 20170712,       59, -30.0800, 163.9211,        0.0,1,      0.122,1,      4.656,1,      0.182,1,     -999.0,     -999.0,1,     -999.0,1,     -999.0,9,     -999.0,9,    19.9005,2,     -999.0,9
320620170703,        P06,      37,          1,         26,         26,2,20170712,       0110,   -30.0802,   163.9215,       1954,   117.0,  20.1173,  35.8433,2,  35.8396,2, 219.5913,2, 220.1603,2,     0.2,2,    0.40,2,    0.16,2,    0.09,2,-999.000,9,-999.000,9,-999.0000,9,  2053.1,2, 2341.36,2,   8.0189,2, -999.00,9, -999.00,9, -999.00,    59.0,2,    4.50,2,     -999.0,1,  -999.0,1, 20170712,      101, -30.0800, 163.9213,        0.0,1,      0.147,1,      4.644,1,      0.194,1,      25.02,     -999.0,1,     -999.0,1,     -999.0,9,     -999.0,9,    20.1128,2,     -999.0,9
320620170703,        P06,      37,          1,         27,         27,2,20170712,       0110,   -30.0802,   163.9215,       1954,    89.7,  20.1191,  35.8440,2,  35.8396,2, 219.5288,2, 206.6289,3,     0.2,2,    0.33,2,    0.15,2,    0.13,2,   1.766,2,   1.189,2,   1.0250,2,  -999.0,9, -999.00,9,-999.0000,9, -999.00,9, -999.00,9, -999.00,    57.8,2,    4.80,2,     -999.0,1,  -999.0,1, 20170712,      103, -30.0801, 163.9214,        0.0,1,      0.150,1,      4.644,1,      0.192,1,     -999.0,     -999.0,1,     -999.0,1,     -999.0,9,     -999.0,9,    20.1111,2,     -999.0,9
320620170703,        P06,      37,          1,         28,         28,2,20170712,       0110,   -30.0802,   163.9215,       1954,    64.8,  20.1145,  35.8439,2,  35.8530,2, 219.6722,2, 220.5472,2,     0.2,2,    0.29,2,    0.13,2,    0.09,2,-999.000,9,-999.000,9,-999.0000,9,  2051.3,2, 2344.09,2,   8.0197,2, -999.00,9, -999.00,9, -999.00,    58.7,2,    4.60,2,     -999.0,1,  -999.0,1, 20170712,      105, -30.0801, 163.9215,        0.0,1,      0.155,1,      4.642,1,      0.191,1,      25.02,     -999.0,1,     -999.0,1,     -999.0,9,     -999.0,9,    20.1201,2,     -999.0,9
320620170703,        P06,      37,          1,         29,         29,2,20170712,       0110,   -30.0802,   163.9215,       1954,    39.8,  20.1068,  35.8431,2,  35.8420,2, 219.9565,2, 220.4570,2,     0.2,2,    0.41,2,    0.13,2,    0.09,2,   1.786,2,   1.198,2,   0.9800,2,  2053.0,2, 2344.33,2,   8.0212,2, -999.00,9, -999.00,9, -999.00,  -999.0,9, -999.00,9,     -999.0,1,  -999.0,1, 20170712,      107, -30.0801, 163.9216,        0.0,1,      0.147,1,      4.641,1,      0.191,1,      25.02,     -999.0,1,     -999.0,1,     -999.0,9,     -999.0,9,    20.1159,2,     -999.0,9
320620170703,        P06,      37,          1,         30,         30,2,20170712,       0110,   -30.0802,   163.9215,       1954,    19.9,  20.1059,  35.8436,2,  35.8443,2, 220.5407,2, 220.4141,2,     0.2,2,    0.35,2,    0.12,2,    0.10,2,-999.000,9,-999.000,9,-999.0000,9,  -999.0,9, -999.00,9,-999.0000,9, -999.00,9, -999.00,9, -999.00,    60.1,2, -999.00,5,     -999.0,1,  -999.0,1, 20170712,      108, -30.0802, 163.9216,        0.0,1,      0.125,1,      4.640,1,      0.191,1,     -999.0,     -999.0,1,     -999.0,1,     -999.0,9,     -999.0,9,    20.1163,2,     -999.0,9
320620170703,        P06,      37,          1,         31,         31,2,20170712,       0110,   -30.0802,   163.9215,       1954,     5.2,  20.1039,  35.8428,2,  35.8447,2, 220.3547,2, 220.9944,2,     0.2,2,    0.35,2,    0.12,2,    0.12,2,   1.821,2,   1.194,2,   1.1450,2,  2053.7,6, 2345.72,2,   8.0210,2, -999.00,9, -999.00,9, -999.00,    58.9,2,    4.40,2,     -999.0,1,  -999.0,1, 20170712,      110, -30.0802, 163.9215,        0.0,1,      0.106,1,      4.638,1,      0.183,1,      25.01,     -999.0,1,     -999.0,1,     -999.0,9,     -999.0,9,    20.1172,2,     -999.0,9