BOTTLE,20230922CCHSIOCBG
EXPOCODE,SECT_ID,STNNBR,CASTNO,SAMPNO,BTLNBR,BTLNBR_FLAG_W,DATE,TIME,LATITUDE,LONGITUDE,DEPTH,CTDPRS,CTDTMP,CTDSAL,CTDSAL_FLAG_W,SALNTY,SALNTY_FLAG_W,CTDOXY,CTDOXY_FLAG_W,OXYGEN,OXYGEN_FLAG_W,SILCAT,SILCAT_FLAG_W,NITRAT,NITRAT_FLAG_W,NITRIT,NITRIT_FLAG_W,PHSPHT,PHSPHT_FLAG_W,CFC-11,CFC-11_FLAG_W,CFC-12,CFC-12_FLAG_W,SF6,SF6_FLAG_W,TCARBN,TCARBN_FLAG_W,ALKALI,ALKALI_FLAG_W,PH_TOT,PH_TOT_FLAG_W,DELC13,DELC13_FLAG_W,DELC14,DELC14_FLAG_W,C14ERR,DOC,DOC_FLAG_W,TDN,TDN_FLAG_W,TON,TON_FLAG_W,D15N_NO3,D15N_NO3_FLAG_W,BTL_DATE,BTL_TIME,BTL_LAT,BTL_LON,CTDRINKO,CTDRINKO_FLAG_W,CTDFLUOR,CTDFLUOR_FLAG_W,CTDXMISS,CTDXMISS_FLAG_W,CTDBACKSCATTER,CTDBACKSCATTER_FLAG_W,PH_TMP,D18O_NO3,D18O_NO3_FLAG_W,DOP,DOP_FLAG_W,HPLC,HPLC_FLAG_W,POC,POC_FLAG_W,REFTMP,REFTMP_FLAG_W,TDP,TDP_FLAG_W
,,,,,,,,,,,METERS,DBAR,ITS-90,PSS-78,,PSS-78,,UMOL/KG,,UMOL/KG,,UMOL/KG,,UMOL/KG,,UMOL/KG,,UMOL/KG,,PMOL/KG,,PMOL/KG,,FMOL/KG,,UMOL/KG,,UMOL/KG,,,,/MILLE,,/MILLE,,/MILLE,UMOL/KG,,UMOL/KG,,UMOL/KG,,/MILLE,,,,,,VOLTS,,VOLTS,,VOLTS,,VOLTS,,DEGC,/MILLE,,UMOL/KG,,,,UG/L,,ITS-90,,UMOL/KG,
320620170703,        P06,     138,          1,         33,         33,2,20170811,       2342,   -32.4997,  -152.2584,       5128,    75.5,  17.0815,  35.4534,2,  35.4559,2, 234.3458,2, 235.9626,2,     0.0,2,    0.10,2,    0.02,2,    0.09,2,   2.366,2,   1.320,2,   1.1510,2,  2063.7,2, -999.00,9,   7.9698,2, -999.00,9, -999.00,9, -999.00,    57.6,2,    5.00,2,     -999.0,1,  -999.0,1, 20170811,     2338, -32.4999,-152.2585,        0.0,1,      0.149,1,      4.640,1,      0.180,1,      25.04,     -999.0,1,     -999.0,1,     -999.0,9,     -999.0,9,    17.1053,2,     -999.0,9
320620170703,        P06,     138,          1,         34,         34,2,20170811,       2342,   -32.4997,  -152.2584,       5128,    49.5,  17.0764,  35.4522,2,  35.4563,2, 240.7343,3, 236.7967,2,     0.0,2,    0.07,2,    0.02,2,    0.08,2,   2.355,2,   1.326,2,   1.3690,2,  2062.5,2, 2331.39,2,   7.9723,2, -999.00,9, -999.00,9, -999.00,    59.5,2,    3.90,2,     -999.0,1,  -999.0,1, 20170811,     2339, -32.4998,-152.2585,        0.0,1,      0.146,1,      4.640,1,      0.180,1,      25.05,     -999.0,1,     -999.0,1,     -999.0,9,     -999.0,9,    17.1200,2,     -999.0,9
320620170703,        P06,     138,          1,         35,         35,2,20170811,       2342,   -32.4997,  -152.2584,       5128,    26.3,  17.0750,  35.4527,2,  35.4578,2, 240.2455,3, 236.5002,2,     0.0,2,    0.04,2,    0.02,2,    0.08,2,   2.401,2,   1.324,2,   1.2460,2,  2062.3,2, -999.00,9,   7.9726,2, -999.00,9, -999.00,9, -999.00,    58.2,2,    4.00,2,     -999.0,1,  -999.0,1, 20170811,     2341, -32.4998,-152.2584,        0.0,1,      0.143,1,      4.640,1,      0.178,1,      25.03,     -999.0,1,     -999.0,1,     -999.0,9,     -999.0,9,    17.1385,2,     -999.0,9
320620170703,        P06,     138,          1,         36,         36,2,20170811,       2342,   -32.4997,  -152.2584,       5128,     5.0,  17.0637,  35.4538,2,  35.4565,2, 240.2455,2, 239.3218,2,     0.0,2,    0.04,2,    0.02,2,    0.09,2,   2.381,2,   1.347,2,   1.4220,2,  2062.1,6, 2332.40,2,   7.9728,2, -999.00,9, -999.00,9, -999.00,    59.6,2,    4.10,2,     -999.0,1,  -999.0,1, 20170811,     2342, -32.4997,-152.2584,        0.0,1,      0.134,1,      4.639,1,      0.172,1,      25.03,     -999.0,1,     -999.0,1,     -999.0,9,     -999.0,9,    15.5939,2,     -999.0,9