BOTTLE,20230922CCHSIOCBG
EXPOCODE,SECT_ID,STNNBR,CASTNO,SAMPNO,BTLNBR,BTLNBR_FLAG_W,DATE,TIME,LATITUDE,LONGITUDE,DEPTH,CTDPRS,CTDTMP,CTDSAL,CTDSAL_FLAG_W,SALNTY,SALNTY_FLAG_W,CTDOXY,CTDOXY_FLAG_W,OXYGEN,OXYGEN_FLAG_W,SILCAT,SILCAT_FLAG_W,NITRAT,NITRAT_FLAG_W,NITRIT,NITRIT_FLAG_W,PHSPHT,PHSPHT_FLAG_W,CFC-11,CFC-11_FLAG_W,CFC-12,CFC-12_FLAG_W,SF6,SF6_FLAG_W,TCARBN,TCARBN_FLAG_W,ALKALI,ALKALI_FLAG_W,PH_TOT,PH_TOT_FLAG_W,DELC13,DELC13_FLAG_W,DELC14,DELC14_FLAG_W,C14ERR,DOC,DOC_FLAG_W,TDN,TDN_FLAG_W,TON,TON_FLAG_W,D15N_NO3,D15N_NO3_FLAG_W,BTL_DATE,BTL_TIME,BTL_LAT,BTL_LON,CTDRINKO,CTDRINKO_FLAG_W,CTDFLUOR,CTDFLUOR_FLAG_W,CTDXMISS,CTDXMISS_FLAG_W,CTDBACKSCATTER,CTDBACKSCATTER_FLAG_W,PH_TMP,D18O_NO3,D18O_NO3_FLAG_W,DOP,DOP_FLAG_W,HPLC,HPLC_FLAG_W,POC,POC_FLAG_W,REFTMP,REFTMP_FLAG_W,TDP,TDP_FLAG_W
,,,,,,,,,,,METERS,DBAR,ITS-90,PSS-78,,PSS-78,,UMOL/KG,,UMOL/KG,,UMOL/KG,,UMOL/KG,,UMOL/KG,,UMOL/KG,,PMOL/KG,,PMOL/KG,,FMOL/KG,,UMOL/KG,,UMOL/KG,,,,/MILLE,,/MILLE,,/MILLE,UMOL/KG,,UMOL/KG,,UMOL/KG,,/MILLE,,,,,,VOLTS,,VOLTS,,VOLTS,,VOLTS,,DEGC,/MILLE,,UMOL/KG,,,,UG/L,,ITS-90,,UMOL/KG,
320620170703,        P06,      27,          1,          1,         37,2,20170710,       0637,   -30.0797,   159.5004,       2689,  2715.6,   1.6618,  34.7179,2,  34.7180,2, 185.2817,2, 185.3285,2,   104.1,2,   32.45,2,    0.00,2,    2.24,2,   0.041,2,   0.029,2,   0.0000,2,  2269.7,6, 2374.28,2,   7.6033,2, -999.00,9, -999.00,9, -999.00,    42.9,2, -999.00,9,     -999.0,1,  -999.0,9, 20170710,      510, -30.0797, 159.5001,        0.0,1,      0.061,1,      4.703,1,      0.149,1,      24.99,     -999.0,9,     -999.0,9,     -999.0,9,     -999.0,9,     1.6624,2,     -999.0,9
320620170703,        P06,      27,          1,          2,          2,2,20170710,       0637,   -30.0797,   159.5004,       2689,  2599.3,   1.8206,  34.7140,2,  34.7133,2, 183.0386,2, 183.2400,2,   100.8,2,   32.52,2,    0.00,2,    2.25,2,-999.000,9,-999.000,9,-999.0000,9,  -999.0,9, -999.00,9,-999.0000,9, -999.00,9, -999.00,9, -999.00,  -999.0,9, -999.00,9,     -999.0,9,  -999.0,9, 20170710,      514, -30.0797, 159.5001,        0.0,1,      0.061,1,      4.705,1,      0.142,1,     -999.0,     -999.0,9,     -999.0,9,     -999.0,9,     -999.0,9,     1.8200,2,     -999.0,9
320620170703,        P06,      27,          1,          3,         38,2,20170710,       0637,   -30.0797,   159.5004,       2689,  2495.3,   1.9789,  34.7043,2,  34.7038,2, 178.4633,2, 178.2208,2,    98.2,2,   32.77,2,    0.00,2,    2.27,2,-999.000,9,-999.000,9,-999.0000,9,  -999.0,9, -999.00,9,-999.0000,9, -999.00,9, -999.00,9, -999.00,    39.8,2, -999.00,9,     -999.0,1,  -999.0,9, 20170710,      517, -30.0797, 159.5001,        0.0,1,      0.061,1,      4.705,1,      0.143,1,     -999.0,     -999.0,9,     -999.0,9,     -999.0,9,     -999.0,9,     1.9766,2,     -999.0,9
320620170703,        P06,      27,          1,          4,          4,2,20170710,       0637,   -30.0797,   159.5004,       2689,  2292.4,   2.1960,  34.6811,2,  34.6802,2, 169.2471,2, 169.1299,2,    97.4,2,   33.45,2,    0.00,2,    2.32,2,-999.000,9,-999.000,9,-999.0000,9,  -999.0,9, -999.00,9,-999.0000,9, -999.00,9, -999.00,9, -999.00,    39.0,2, -999.00,9,     -999.0,1,  -999.0,9, 20170710,      521, -30.0797, 159.5002,        0.0,1,      0.061,1,      4.705,1,      0.144,1,     -999.0,     -999.0,9,     -999.0,9,     -999.0,9,     -999.0,9,     2.2007,2,     -999.0,9
320620170703,        P06,      27,          1,          5,         39,2,20170710,       0637,   -30.0797,   159.5004,       2689,  2089.9,   2.3062,  34.6654,2,  34.6651,2, 164.4023,2, 164.3134,2,    97.9,2,   33.93,2,    0.00,2,    2.35,2,   0.033,2,   0.043,2,   0.0000,2,  2277.4,2, 2374.76,2,   7.5789,2, -999.00,9, -999.00,9, -999.00,    38.8,2, -999.00,9,     -999.0,1,  -999.0,9, 20170710,      525, -30.0797, 159.5001,        0.0,1,      0.061,1,      4.705,1,      0.151,1,      25.01,     -999.0,9,     -999.0,9,     -999.0,9,     -999.0,9,     2.3066,2,     -999.0,9
320620170703,        P06,      27,          1,          6,          6,2,20170710,       0637,   -30.0797,   159.5004,       2689,  1956.4,   2.4393,  34.6471,2,  34.6464,2, 157.9906,2, 158.0418,2,    99.0,2,   34.42,2,    0.00,2,    2.38,2,-999.000,9,-999.000,9,-999.0000,9,  -999.0,9, -999.00,9,-999.0000,9, -999.00,9, -999.00,9, -999.00,  -999.0,9, -999.00,9,     -999.0,9,  -999.0,9, 20170710,      529, -30.0797, 159.5001,        0.0,1,      0.061,1,      4.706,1,      0.143,1,     -999.0,     -999.0,9,     -999.0,9,     -999.0,9,     -999.0,9,     2.4432,2,     -999.0,9
320620170703,        P06,      27,          1,          7,         40,2,20170710,       0637,   -30.0797,   159.5004,       2689,  1855.6,   2.5566,  34.6324,2,  34.6325,2, 154.1659,2, 154.1662,2,    99.5,2,   34.73,2,    0.00,2,    2.42,2,   0.010,2,   0.018,2,   0.0000,2,  2283.2,2, 2380.26,3,   7.5713,2, -999.00,9, -999.00,9, -999.00,    38.7,2, -999.00,9,     -999.0,1,  -999.0,9, 20170710,      532, -30.0797, 159.5001,        0.0,1,      0.061,1,      4.705,1,      0.147,1,      25.01,     -999.0,9,     -999.0,9,     -999.0,9,     -999.0,9,     2.5547,2,     -999.0,9
320620170703,        P06,      27,          1,          8,          8,2,20170710,       0637,   -30.0797,   159.5004,       2689,  1753.3,   2.7275,  34.6143,2,  34.6119,2, 151.8054,2, 152.4918,2,    97.3,2,   34.88,2,    0.00,2,    2.40,2,-999.000,9,-999.000,9,-999.0000,9,  -999.0,9, -999.00,9,-999.0000,9, -999.00,9, -999.00,9, -999.00,  -999.0,9, -999.00,9,     -999.0,9,  -999.0,9, 20170710,      534, -30.0797, 159.5002,        0.0,1,      0.061,1,      4.704,1,      0.150,1,     -999.0,     -999.0,9,     -999.0,9,     -999.0,9,     -999.0,9,     2.7234,2,     -999.0,9
320620170703,        P06,      27,          1,          9,         41,2,20170710,       0637,   -30.0797,   159.5004,       2689,  1652.0,   2.9453,  34.5941,2,  34.5938,2, 152.1504,2, 151.8414,2,    93.3,2,   34.76,2,    0.00,2,    2.42,2,   0.049,2,   0.047,2,   0.0000,2,  2278.2,6, 2364.20,3,   7.5724,2, -999.00,9, -999.00,9, -999.00,    37.5,2, -999.00,9,     -999.0,1,  -999.0,9, 20170710,      537, -30.0797, 159.5001,        0.0,1,      0.061,1,      4.702,1,      0.152,1,      25.00,     -999.0,9,     -999.0,9,     -999.0,9,     -999.0,9,     2.9333,2,     -999.0,9
320620170703,        P06,      27,          1,         10,         10,2,20170710,       0637,   -30.0797,   159.5004,       2689,  1550.6,   3.2273,  34.5703,2,  34.5712,2, 154.9023,2, 154.7506,2,    86.6,2,   34.32,2,    0.00,2,    2.38,2,-999.000,9,-999.000,9,-999.0000,9,  -999.0,9, -999.00,9,-999.0000,9, -999.00,9, -999.00,9, -999.00,  -999.0,9, -999.00,9,     -999.0,9,  -999.0,9, 20170710,      540, -30.0797, 159.5002,        0.0,1,      0.062,1,      4.701,1,      0.159,1,     -999.0,     -999.0,9,     -999.0,9,     -999.0,9,     -999.0,9,     3.2193,2,     -999.0,9
320620170703,        P06,      27,          1,         11,         42,2,20170710,       0637,   -30.0797,   159.5004,       2689,  1449.7,   3.6423,  34.5375,2,  34.5504,2, 160.8201,2, 160.7004,2,    76.9,2,   33.59,2,    0.00,2,    2.31,2,   0.173,2,   0.118,2,   0.1090,2,  2255.6,2, 2347.87,2,   7.5872,2, -999.00,9, -999.00,9, -999.00,    37.3,2, -999.00,9,     -999.0,1,  -999.0,9, 20170710,      542, -30.0797, 159.5003,        0.0,1,      0.061,1,      4.702,1,      0.151,1,      25.00,     -999.0,9,     -999.0,9,     -999.0,9,     -999.0,9,     3.5845,2,     -999.0,9
320620170703,        P06,      27,          1,         12,         12,2,20170710,       0637,   -30.0797,   159.5004,       2689,  1348.6,   4.0333,  34.5095,2,  34.5101,2, 168.4042,2, 167.6830,2,    66.0,2,   32.67,2,    0.00,2,    2.24,2,-999.000,9,-999.000,9,-999.0000,9,  -999.0,9, -999.00,9,-999.0000,9, -999.00,9, -999.00,9, -999.00,  -999.0,9, -999.00,9,     -999.0,9,  -999.0,9, 20170710,      545, -30.0797, 159.5002,        0.0,1,      0.060,1,      4.704,1,      0.148,1,     -999.0,     -999.0,9,     -999.0,9,     -999.0,9,     -999.0,9,     4.0119,2,     -999.0,9
320620170703,        P06,      27,          1,         13,         43,2,20170710,       0637,   -30.0797,   159.5004,       2689,  1246.2,   4.4143,  34.4873,2,  34.4854,2, 174.8790,2, 176.0958,2,    55.8,2,   31.65,2,    0.00,2,    2.16,2,   0.448,2,   0.262,2,   0.1250,2,  2228.2,2, 2338.33,2,   7.6100,2, -999.00,9, -999.00,9, -999.00,    42.5,2, -999.00,9,     -999.0,1,  -999.0,9, 20170710,      548, -30.0797, 159.5002,        0.0,1,      0.062,1,      4.705,1,      0.145,1,      25.00,     -999.0,9,     -999.0,9,     -999.0,9,     -999.0,9,     4.4373,2,     -999.0,9
320620170703,        P06,      27,          1,         14,         14,2,20170710,       0637,   -30.0797,   159.5004,       2689,  1145.6,   4.9438,  34.4568,2,  34.4553,2, 184.0230,2, 183.3482,2,    43.8,2,   30.34,2,    0.00,2,    2.05,2,   0.673,2,   0.365,2,   0.2040,2,  -999.0,9, -999.00,9,-999.0000,9, -999.00,9, -999.00,9, -999.00,  -999.0,9, -999.00,9,     -999.0,9,  -999.0,9, 20170710,      551, -30.0797, 159.5001,        0.0,1,      0.060,1,      4.706,1,      0.143,1,     -999.0,     -999.0,9,     -999.0,9,     -999.0,9,     -999.0,9,     4.9753,2,     -999.0,9
320620170703,        P06,      27,          1,         15,         15,2,20170710,       0637,   -30.0797,   159.5004,       2689,  1044.7,   5.5441,  34.4446,2,  34.4442,2, 190.4484,2, 190.1644,2,    34.0,2,   28.93,2,    0.00,2,    1.94,2,   0.951,2,   0.490,2,   0.2090,2,  2195.9,2, 2299.70,2,   7.6406,2, -999.00,9, -999.00,9, -999.00,    42.7,2, -999.00,9,     -999.0,1,  -999.0,9, 20170710,      553, -30.0797, 159.5001,        0.0,1,      0.060,1,      4.706,1,      0.141,1,      25.00,     -999.0,9,     -999.0,9,     -999.0,9,     -999.0,9,     5.5252,2,     -999.0,9
320620170703,        P06,      27,          1,         16,         16,2,20170710,       0637,   -30.0797,   159.5004,       2689,   942.3,   6.2316,  34.4475,2,  34.4471,2, 197.8664,2, 198.1617,2,    24.4,2,   27.02,2,    0.00,2,    1.81,2,   1.337,2,   0.689,2,   0.2430,2,  -999.0,9, -999.00,9,-999.0000,9, -999.00,9, -999.00,9, -999.00,    43.0,2, -999.00,9,     -999.0,1,  -999.0,9, 20170710,      556, -30.0797, 159.5000,        0.0,1,      0.061,1,      4.705,1,      0.141,1,     -999.0,     -999.0,9,     -999.0,9,     -999.0,9,     -999.0,9,     6.2240,2,     -999.0,9
320620170703,        P06,      27,          1,         17,         17,2,20170710,       0637,   -30.0797,   159.5004,       2689,   842.5,   7.0404,  34.4850,2,  34.4850,2, 199.7883,2, 199.7129,2,    17.8,2,   25.17,2,    0.00,2,    1.70,2,   1.670,2,   0.870,2,   0.3340,2,  2168.8,2, 2286.07,2,   7.6771,2, -999.00,9, -999.00,9, -999.00,    43.3,2, -999.00,9,     -999.0,1,  -999.0,9, 20170710,      559, -30.0797, 159.5000,        0.0,1,      0.058,1,      4.704,1,      0.142,1,      24.99,     -999.0,9,     -999.0,9,     -999.0,9,     -999.0,9,     7.0748,2,     -999.0,9
320620170703,        P06,      27,          1,         18,         18,2,20170710,       0637,   -30.0797,   159.5004,       2689,   741.8,   7.9634,  34.5561,2,  34.5547,2, 199.3854,2, 201.0443,2,    12.6,2,   23.02,2,    0.00,2,    1.53,2,   2.039,2,   1.088,2,   0.3980,2,  -999.0,9, -999.00,9,-999.0000,9, -999.00,9, -999.00,9, -999.00,    42.2,2, -999.00,9,     -999.0,1,  -999.0,9, 20170710,      602, -30.0797, 159.5000,        0.0,1,      0.060,1,      4.701,1,      0.143,1,     -999.0,     -999.0,9,     -999.0,9,     -999.0,9,     -999.0,9,     7.9819,2,     -999.0,9
320620170703,        P06,      27,          1,         19,         19,2,20170710,       0637,   -30.0797,   159.5004,       2689,   640.6,   9.1699,  34.6757,2,  34.6789,2, 204.9029,2, 204.0315,2,     8.2,2,   19.91,2,    0.00,2,    1.34,2,   2.481,2,   1.345,2,   0.6370,2,  2150.1,2, 2292.78,2,   7.7256,2, -999.00,9, -999.00,9, -999.00,    44.6,2, -999.00,9,     -999.0,1,  -999.0,9, 20170710,      605, -30.0797, 159.4999,        0.0,1,      0.059,1,      4.700,1,      0.145,1,      25.00,     -999.0,9,     -999.0,9,     -999.0,9,     -999.0,9,     9.2423,2,     -999.0,9
320620170703,        P06,      27,          1,         20,         20,2,20170710,       0637,   -30.0797,   159.5004,       2689,   538.9,  11.3826,  34.9687,2,  34.9288,2, 204.2449,2, 203.3520,2,     5.2,2,   15.41,2,    0.00,2,    1.03,2,   2.656,2,   1.449,2,   0.8530,2,  -999.0,9, -999.00,9,-999.0000,9, -999.00,9, -999.00,9, -999.00,  -999.0,9, -999.00,9,     -999.0,9,  -999.0,9, 20170710,      607, -30.0797, 159.4999,        0.0,1,      0.060,1,      4.697,1,      0.145,1,     -999.0,     -999.0,9,     -999.0,9,     -999.0,9,     -999.0,9,    11.2829,2,     -999.0,9
320620170703,        P06,      27,          1,         21,         21,2,20170710,       0637,   -30.0797,   159.5004,       2689,   468.6,  12.5077,  35.0946,2,  35.0827,2, 198.4592,2, 198.7231,2,     4.2,2,   13.11,2,    0.00,2,    0.89,2,   2.543,2,   1.410,2,   0.8200,2,  2131.5,2, 2388.11,4,   7.8030,2, -999.00,9, -999.00,9, -999.00,    47.7,2,   15.40,2,     -999.0,1,  -999.0,9, 20170710,      610, -30.0797, 159.4999,        0.0,1,      0.060,1,      4.695,1,      0.146,1,      25.00,     -999.0,9,     -999.0,9,     -999.0,9,     -999.0,9,    12.4761,2,     -999.0,9
320620170703,        P06,      27,          1,         22,         22,2,20170710,       0637,   -30.0797,   159.5004,       2689,   420.0,  13.8279,  35.2435,2,  35.2121,2, 197.6124,2, 202.2134,3,     3.3,2,   11.12,2,    0.00,2,    0.76,2,   2.471,6,   1.389,6,   0.8555,6,  -999.0,9, -999.00,9,-999.0000,9, -999.00,9, -999.00,9, -999.00,    47.5,2,   13.60,2,     -999.0,1,  -999.0,9, 20170710,      612, -30.0797, 159.4999,        0.0,1,      0.059,1,      4.692,1,      0.147,1,     -999.0,     -999.0,9,     -999.0,9,     -999.0,9,     -999.0,9,    13.5447,2,     -999.0,9
320620170703,        P06,      27,          1,         23,         23,2,20170710,       0637,   -30.0797,   159.5004,       2689,   367.9,  14.9993,  35.3467,2,  35.3295,2, 194.4998,2, 195.0850,2,     2.6,2,    9.35,2,    0.00,2,    0.64,2,   2.390,2,   1.363,2,   0.8940,2,  2112.0,2, 2315.11,2,   7.8609,2, -999.00,9, -999.00,9, -999.00,    52.4,2,   12.30,2,     -999.0,1,  -999.0,9, 20170710,      614, -30.0797, 159.4999,        0.0,1,      0.059,1,      4.693,1,      0.148,1,      24.99,     -999.0,9,     -999.0,9,     -999.0,9,     -999.0,9,    14.9108,2,     -999.0,9
320620170703,        P06,      27,          1,         24,         24,2,20170710,       0637,   -30.0797,   159.5004,       2689,   317.2,  16.1654,  35.4435,2,  35.4131,2, 191.4326,2, 190.9243,2,     2.1,2,    8.18,2,    0.00,2,    0.59,2,   2.302,2,   1.326,2,   0.9160,2,  -999.0,9, -999.00,9,-999.0000,9, -999.00,9, -999.00,9, -999.00,    48.2,2,   10.40,2,     -999.0,1,  -999.0,9, 20170710,      616, -30.0797, 159.4999,        0.0,1,      0.060,1,      4.678,1,      0.149,1,     -999.0,     -999.0,9,     -999.0,9,     -999.0,9,     -999.0,9,    15.9972,2,     -999.0,9
320620170703,        P06,      27,          1,         25,         25,2,20170710,       0637,   -30.0797,   159.5004,       2689,   267.7,  17.4207,  35.5480,2,  35.5302,2, 190.5590,2, 190.5008,2,     1.6,2,    6.36,2,    0.00,2,    0.47,2,   2.212,2,   1.287,2,   0.9910,2,  2093.9,2, 2326.25,3,   7.9146,2, -999.00,9, -999.00,9, -999.00,    49.6,2,    9.80,2,     -999.0,1,  -999.0,9, 20170710,      618, -30.0797, 159.5000,        0.0,1,      0.060,1,      4.688,1,      0.149,1,      25.00,     -999.0,9,     -999.0,9,     -999.0,9,     -999.0,9,    17.3240,2,     -999.0,9
320620170703,        P06,      27,          1,         26,         26,2,20170710,       0637,   -30.0797,   159.5004,       2689,   236.6,  18.2688,  35.6237,2,  35.5875,2, 191.7031,2, 191.1536,2,     1.2,2,    5.56,2,    0.00,2,    0.42,2,-999.000,9,-999.000,9,-999.0000,9,  -999.0,9, -999.00,9,-999.0000,9, -999.00,9, -999.00,9, -999.00,  -999.0,9, -999.00,9,     -999.0,9,  -999.0,9, 20170710,      620, -30.0797, 159.5001,        0.0,1,      0.059,1,      4.680,1,      0.152,1,     -999.0,     -999.0,9,     -999.0,9,     -999.0,9,     -999.0,9,    17.9178,2,     -999.0,9
320620170703,        P06,      27,          1,         27,         27,2,20170710,       0637,   -30.0797,   159.5004,       2689,   212.5,  18.7024,  35.6588,2,  35.6305,2, 194.2374,2, 194.7561,2,     1.1,2,    4.80,2,    0.00,2,    0.37,2,-999.000,9,-999.000,9,-999.0000,9,  -999.0,9, -999.00,9,-999.0000,9, -999.00,9, -999.00,9, -999.00,    50.6,2,    7.80,2,     -999.0,1,  -999.0,9, 20170710,      622, -30.0797, 159.5001,        0.0,1,      0.060,1,      4.680,1,      0.152,1,     -999.0,     -999.0,9,     -999.0,9,     -999.0,9,     -999.0,9,    18.3983,2,     -999.0,9
320620170703,        P06,      27,          1,         28,         28,2,20170710,       0637,   -30.0797,   159.5004,       2689,   186.3,  19.3055,  35.7148,2,  35.6919,2, 197.4856,2, 196.4182,2,     0.7,2,    3.80,2,    0.02,2,    0.31,2,   2.054,2,   1.225,2,   0.8890,2,  2076.2,2, 2342.97,2,   7.9632,2, -999.00,9, -999.00,9, -999.00,    52.6,2,    6.40,2,     -999.0,1,  -999.0,9, 20170710,      624, -30.0797, 159.5001,        0.0,1,      0.064,1,      4.682,1,      0.161,1,      25.00,     -999.0,9,     -999.0,9,     -999.0,9,     -999.0,9,    19.1455,2,     -999.0,9
320620170703,        P06,      27,          1,         29,         29,2,20170710,       0637,   -30.0797,   159.5004,       2689,   161.9,  19.8277,  35.7607,2,  35.7590,2, 209.3675,2, 209.9927,2,     0.3,2,    1.78,2,    0.19,2,    0.18,2,-999.000,9,-999.000,9,-999.0000,9,  -999.0,9, -999.00,9,-999.0000,9, -999.00,9, -999.00,9, -999.00,  -999.0,9, -999.00,9,     -999.0,9,  -999.0,9, 20170710,      625, -30.0797, 159.5002,        0.0,1,      0.073,1,      4.678,1,      0.167,1,     -999.0,     -999.0,9,     -999.0,9,     -999.0,9,     -999.0,9,    19.7579,2,     -999.0,9
320620170703,        P06,      27,          1,         30,         30,2,20170710,       0637,   -30.0797,   159.5004,       2689,   136.6,  20.0422,  35.7657,2,  35.7803,2, 214.0589,2, 215.0574,2,     0.3,2,    1.00,2,    0.30,2,    0.15,2,   1.928,2,   1.167,2,   1.0640,2,  2053.5,2, 2346.03,2,   8.0117,2, -999.00,9, -999.00,9, -999.00,    59.4,2,    4.80,2,     -999.0,1,  -999.0,9, 20170710,      627, -30.0797, 159.5002,        0.0,1,      0.070,1,      4.679,1,      0.164,1,      25.00,     -999.0,9,     -999.0,9,     -999.0,9,     -999.0,9,    20.0316,2,     -999.0,9
320620170703,        P06,      27,          1,         31,         31,2,20170710,       0637,   -30.0797,   159.5004,       2689,   111.1,  20.1886,  35.7833,2,  35.7760,2, 209.8930,2, 211.7124,2,     0.3,2,    1.21,2,    0.26,2,    0.16,2,-999.000,9,-999.000,9,-999.0000,9,  -999.0,9, -999.00,9,-999.0000,9, -999.00,9, -999.00,9, -999.00,    59.0,2,    5.00,2,     -999.0,1,  -999.0,9, 20170710,      629, -30.0797, 159.5003,        0.0,1,      0.102,1,      4.666,1,      0.184,1,     -999.0,     -999.0,9,     -999.0,9,     -999.0,9,     -999.0,9,    20.0961,2,     -999.0,9
320620170703,        P06,      27,          1,         32,         32,2,20170710,       0637,   -30.0797,   159.5004,       2689,    80.3,  20.2352,  35.7844,2,  35.7920,2, 220.1091,2, 219.2261,2,     0.1,2,    0.49,2,    0.21,2,    0.10,2,   1.903,2,   1.156,2,   1.0450,2,  -999.0,9, -999.00,9,-999.0000,9, -999.00,9, -999.00,9, -999.00,    60.6,2,    4.50,2,     -999.0,1,  -999.0,9, 20170710,      631, -30.0797, 159.5003,        0.0,1,      0.181,1,      4.631,1,      0.233,1,     -999.0,     -999.0,9,     -999.0,9,     -999.0,9,     -999.0,9,    20.2662,2,     -999.0,9