BOTTLE,20230922CCHSIOCBG
EXPOCODE,SECT_ID,STNNBR,CASTNO,SAMPNO,BTLNBR,BTLNBR_FLAG_W,DATE,TIME,LATITUDE,LONGITUDE,DEPTH,CTDPRS,CTDTMP,CTDSAL,CTDSAL_FLAG_W,SALNTY,SALNTY_FLAG_W,CTDOXY,CTDOXY_FLAG_W,OXYGEN,OXYGEN_FLAG_W,SILCAT,SILCAT_FLAG_W,NITRAT,NITRAT_FLAG_W,NITRIT,NITRIT_FLAG_W,PHSPHT,PHSPHT_FLAG_W,CFC-11,CFC-11_FLAG_W,CFC-12,CFC-12_FLAG_W,SF6,SF6_FLAG_W,TCARBN,TCARBN_FLAG_W,ALKALI,ALKALI_FLAG_W,PH_TOT,PH_TOT_FLAG_W,DELC13,DELC13_FLAG_W,DELC14,DELC14_FLAG_W,C14ERR,DOC,DOC_FLAG_W,TDN,TDN_FLAG_W,TON,TON_FLAG_W,D15N_NO3,D15N_NO3_FLAG_W,BTL_DATE,BTL_TIME,BTL_LAT,BTL_LON,CTDRINKO,CTDRINKO_FLAG_W,CTDFLUOR,CTDFLUOR_FLAG_W,CTDXMISS,CTDXMISS_FLAG_W,CTDBACKSCATTER,CTDBACKSCATTER_FLAG_W,PH_TMP,D18O_NO3,D18O_NO3_FLAG_W,DOP,DOP_FLAG_W,HPLC,HPLC_FLAG_W,POC,POC_FLAG_W,REFTMP,REFTMP_FLAG_W,TDP,TDP_FLAG_W
,,,,,,,,,,,METERS,DBAR,ITS-90,PSS-78,,PSS-78,,UMOL/KG,,UMOL/KG,,UMOL/KG,,UMOL/KG,,UMOL/KG,,UMOL/KG,,PMOL/KG,,PMOL/KG,,FMOL/KG,,UMOL/KG,,UMOL/KG,,,,/MILLE,,/MILLE,,/MILLE,UMOL/KG,,UMOL/KG,,UMOL/KG,,/MILLE,,,,,,VOLTS,,VOLTS,,VOLTS,,VOLTS,,DEGC,/MILLE,,UMOL/KG,,,,UG/L,,ITS-90,,UMOL/KG,
320620170703,        P06,      81,          1,          1,          1,2,20170724,       1759,   -32.2280,   178.6386,       2723,  2751.9,   1.7969,  34.6799,2,  34.6816,2, 154.2016,2, 154.4550,2,   125.7,2,   35.28,2,    0.00,2,    2.45,2,   0.032,2,   0.017,2,   0.0000,2,  2312.5,2, 2403.96,6,   7.5816,2, -999.00,9, -999.00,9, -999.00,  -999.0,9, -999.00,9,     -999.0,9,  -999.0,9, 20170724,     1630, -32.2284, 178.6385,        0.0,1,      0.061,1,      4.699,1,      0.145,1,      25.00,     -999.0,9,     -999.0,9,     -999.0,9,     -999.0,9,     1.7977,2,     -999.0,9
320620170703,        P06,      81,          1,          2,          2,2,20170724,       1759,   -32.2280,   178.6386,       2723,  2664.7,   1.7906,  34.6800,2,  34.6804,2, 154.2016,2, 154.0590,2,   125.7,2,   35.24,2,    0.00,2,    2.46,2,   0.027,2,   0.019,2,   0.0000,2,  2311.3,2, -999.00,9,   7.5817,2, -999.00,9, -999.00,9, -999.00,  -999.0,9, -999.00,9,     -999.0,9,  -999.0,9, 20170724,     1633, -32.2284, 178.6385,        0.0,1,      0.061,1,      4.702,1,      0.138,1,      25.00,     -999.0,9,     -999.0,9,     -999.0,9,     -999.0,9,     1.7909,2,     -999.0,9
320620170703,        P06,      81,          1,          3,          3,2,20170724,       1759,   -32.2280,   178.6386,       2723,  2583.6,   1.7933,  34.6791,2,  34.6794,2, 154.0606,2, 154.0239,2,   125.4,2,   35.22,2,    0.00,2,    2.45,2,   0.025,2,   0.018,2,   0.0000,2,  2310.7,2, 2403.24,2,   7.5813,2, -999.00,9, -999.00,9, -999.00,  -999.0,9, -999.00,9,     -999.0,9,  -999.0,9, 20170724,     1635, -32.2285, 178.6385,        0.0,1,      0.062,1,      4.701,1,      0.142,1,      25.01,     -999.0,9,     -999.0,9,     -999.0,9,     -999.0,9,     1.7933,2,     -999.0,9
320620170703,        P06,      81,          1,          4,          4,2,20170724,       1759,   -32.2280,   178.6386,       2723,  2430.8,   1.8354,  34.6751,2,  34.6755,2, 154.0799,2, 153.8956,2,   124.3,2,   35.22,2,    0.00,2,    2.45,2,   0.027,2,   0.018,2,   0.0000,2,  -999.0,9, -999.00,9,-999.0000,9, -999.00,9, -999.00,9, -999.00,  -999.0,9, -999.00,9,     -999.0,9,  -999.0,9, 20170724,     1639, -32.2284, 178.6385,        0.0,1,      0.062,1,      4.697,1,      0.153,1,     -999.0,     -999.0,9,     -999.0,9,     -999.0,9,     -999.0,9,     1.8315,2,     -999.0,9
320620170703,        P06,      81,          1,          5,          5,2,20170724,       1759,   -32.2280,   178.6386,       2723,  2225.6,   2.0671,  34.6557,2,  34.6596,2, 154.2143,2, 154.5697,2,   119.1,2,   35.11,2,    0.00,2,    2.43,2,   0.040,2,   0.026,2,   0.0000,2,  2301.3,2, 2392.02,2,   7.5786,2, -999.00,9, -999.00,9, -999.00,  -999.0,9, -999.00,9,     -999.0,9,  -999.0,9, 20170724,     1644, -32.2282, 178.6385,        0.0,1,      0.061,1,      4.701,1,      0.144,1,      25.01,     -999.0,9,     -999.0,9,     -999.0,9,     -999.0,9,     2.0113,2,     -999.0,9
320620170703,        P06,      81,          1,          6,          6,2,20170724,       1759,   -32.2280,   178.6386,       2723,  2022.0,   2.3530,  34.6295,2,  34.6339,2, 155.0187,2, 154.7206,2,   110.9,2,   34.88,2,    0.00,2,    2.42,2,-999.000,9,-999.000,9,-999.0000,9,  -999.0,9, -999.00,9,-999.0000,9, -999.00,9, -999.00,9, -999.00,  -999.0,9, -999.00,9,     -999.0,9,  -999.0,9, 20170724,     1648, -32.2280, 178.6385,        0.0,1,      0.062,1,      4.701,1,      0.145,1,     -999.0,     -999.0,9,     -999.0,9,     -999.0,9,     -999.0,9,     2.3030,2,     -999.0,9
320620170703,        P06,      81,          1,          7,          7,2,20170724,       1759,   -32.2280,   178.6386,       2723,  1921.7,   2.4658,  34.6174,2,  34.6203,2, 155.6080,2, 155.4296,2,   107.0,2,   34.77,2,    0.00,2,    2.42,2,   0.067,2,   0.041,2,   0.0000,2,  2289.1,2, 2380.77,2,   7.5781,2, -999.00,9, -999.00,9, -999.00,  -999.0,9, -999.00,9,     -999.0,9,  -999.0,9, 20170724,     1651, -32.2278, 178.6385,        0.0,1,      0.061,1,      4.702,1,      0.145,1,      25.00,     -999.0,9,     -999.0,9,     -999.0,9,     -999.0,9,     2.4362,2,     -999.0,9
320620170703,        P06,      81,          1,          8,          8,2,20170724,       1759,   -32.2280,   178.6386,       2723,  1819.6,   2.5409,  34.6066,2,  34.6095,2, 156.3257,2, 156.2958,2,   103.6,2,   34.67,2,    0.00,2,    2.41,2,-999.000,9,-999.000,9,-999.0000,9,  -999.0,9, -999.00,9,-999.0000,9, -999.00,9, -999.00,9, -999.00,  -999.0,9, -999.00,9,     -999.0,9,  -999.0,9, 20170724,     1654, -32.2278, 178.6385,        0.0,1,      0.061,1,      4.701,1,      0.144,1,     -999.0,     -999.0,9,     -999.0,9,     -999.0,9,     -999.0,9,     2.5159,2,     -999.0,9
320620170703,        P06,      81,          1,          9,          9,2,20170724,       1759,   -32.2280,   178.6386,       2723,  1718.6,   2.6886,  34.5847,2,  34.5877,2, 158.7917,2, 159.2905,2,    97.2,2,   34.46,2,    0.00,2,    2.39,2,   0.102,2,   0.059,2,   0.0000,2,  2276.8,2, 2368.73,2,   7.5789,2, -999.00,9, -999.00,9, -999.00,  -999.0,9, -999.00,9,     -999.0,9,  -999.0,9, 20170724,     1657, -32.2279, 178.6385,        0.0,1,      0.061,1,      4.701,1,      0.150,1,      25.01,     -999.0,9,     -999.0,9,     -999.0,9,     -999.0,9,     2.6722,2,     -999.0,9
320620170703,        P06,      81,          1,         10,         10,2,20170724,       1759,   -32.2280,   178.6386,       2723,  1617.3,   2.8944,  34.5555,2,  34.5572,2, 162.2498,2, 161.8976,2,    88.7,2,   34.24,2,    0.00,2,    2.38,2,-999.000,9,-999.000,9,-999.0000,9,  -999.0,9, -999.00,9,-999.0000,9, -999.00,9, -999.00,9, -999.00,  -999.0,9, -999.00,9,     -999.0,9,  -999.0,9, 20170724,     1700, -32.2282, 178.6386,        0.0,1,      0.062,1,      4.703,1,      0.142,1,     -999.0,     -999.0,9,     -999.0,9,     -999.0,9,     -999.0,9,     2.8843,2,     -999.0,9
320620170703,        P06,      81,          1,         11,         11,2,20170724,       1759,   -32.2280,   178.6386,       2723,  1514.2,   3.0924,  34.5268,2,  34.5376,2, 164.6671,2, 164.4733,2,    82.6,2,   33.97,2,    0.00,2,    2.36,2,   0.169,2,   0.094,2,   0.0000,2,  2260.3,2, 2353.32,2,   7.5832,2, -999.00,9, -999.00,9, -999.00,  -999.0,9, -999.00,9,     -999.0,9,  -999.0,9, 20170724,     1703, -32.2285, 178.6386,        0.0,1,      0.061,1,      4.703,1,      0.140,1,      25.01,     -999.0,9,     -999.0,9,     -999.0,9,     -999.0,9,     3.0523,2,     -999.0,9
320620170703,        P06,      81,          1,         12,         12,2,20170724,       1759,   -32.2280,   178.6386,       2723,  1414.4,   3.3838,  34.4888,2,  34.4924,2, 169.3618,2, 169.8058,2,    70.4,2,   33.66,2,    0.00,2,    2.34,2,-999.000,9,-999.000,9,-999.0000,9,  -999.0,9, -999.00,9,-999.0000,9, -999.00,9, -999.00,9, -999.00,  -999.0,9, -999.00,9,     -999.0,9,  -999.0,9, 20170724,     1706, -32.2285, 178.6386,        0.0,1,      0.061,1,      4.703,1,      0.150,1,     -999.0,     -999.0,9,     -999.0,9,     -999.0,9,     -999.0,9,     3.3328,2,     -999.0,9
320620170703,        P06,      81,          1,         13,         13,2,20170724,       1759,   -32.2280,   178.6386,       2723,  1312.7,   3.8092,  34.4417,2,  34.4479,2, 176.8732,2, 176.3069,2,    57.5,2,   32.88,2,    0.00,2,    2.27,2,   0.346,2,   0.180,2,   0.0000,2,  2229.6,2, 2321.87,2,   7.5931,2, -999.00,9, -999.00,9, -999.00,  -999.0,9, -999.00,9,     -999.0,9,  -999.0,9, 20170724,     1709, -32.2285, 178.6386,        0.0,1,      0.061,1,      4.703,1,      0.139,1,      25.01,     -999.0,9,     -999.0,9,     -999.0,9,     -999.0,9,     3.7554,2,     -999.0,9
320620170703,        P06,      81,          1,         14,         14,2,20170724,       1759,   -32.2280,   178.6386,       2723,  1211.6,   4.3184,  34.4204,2,  34.4210,2, 184.6401,2, 185.2413,2,    46.2,2,   31.45,2,    0.00,2,    2.17,2,-999.000,9,-999.000,9,-999.0000,9,  -999.0,9, -999.00,9,-999.0000,9, -999.00,9, -999.00,9, -999.00,  -999.0,9, -999.00,9,     -999.0,9,  -999.0,9, 20170724,     1712, -32.2284, 178.6386,        0.0,1,      0.060,1,      4.703,1,      0.139,1,     -999.0,     -999.0,9,     -999.0,9,     -999.0,9,     -999.0,9,     4.3391,2,     -999.0,9
320620170703,        P06,      81,          1,         15,         15,2,20170724,       1759,   -32.2280,   178.6386,       2723,  1110.7,   4.6985,  34.3863,2,  34.3821,2, 193.2203,2, 193.5950,2,    35.2,2,   30.30,2,    0.00,2,    2.08,2,   0.916,2,   0.435,2,   0.1060,2,  2197.2,2, 2298.54,2,   7.6251,2, -999.00,9, -999.00,9, -999.00,  -999.0,9, -999.00,9,     -999.0,9,  -999.0,9, 20170724,     1715, -32.2281, 178.6386,        0.0,1,      0.060,1,      4.703,1,      0.139,1,      25.00,     -999.0,9,     -999.0,9,     -999.0,9,     -999.0,9,     4.7823,2,     -999.0,9
320620170703,        P06,      81,          1,         16,         16,2,20170724,       1759,   -32.2280,   178.6386,       2723,  1009.3,   5.1179,  34.3648,2,  34.3519,2, 203.5026,2, 203.1715,2,    25.2,2,   28.89,2,    0.00,2,    1.98,2,-999.000,9,-999.000,9,-999.0000,9,  -999.0,9, -999.00,9,-999.0000,9, -999.00,9, -999.00,9, -999.00,  -999.0,9, -999.00,9,     -999.0,9,  -999.0,9, 20170724,     1718, -32.2280, 178.6386,        0.0,1,      0.060,1,      4.703,1,      0.142,1,     -999.0,     -999.0,9,     -999.0,9,     -999.0,9,     -999.0,9,     5.2706,2,     -999.0,9
320620170703,        P06,      81,          1,         17,         17,2,20170724,       1759,   -32.2280,   178.6386,       2723,   907.8,   5.6875,  34.3480,2,  34.3523,2, 214.1154,2, 214.0651,2,    17.8,2,   26.89,2,    0.00,2,    1.84,2,   1.866,2,   0.868,2,   0.3470,2,  2166.7,2, 2283.72,2,   7.6659,2, -999.00,9, -999.00,9, -999.00,  -999.0,9, -999.00,9,     -999.0,9,  -999.0,9, 20170724,     1721, -32.2280, 178.6386,        0.0,1,      0.059,1,      4.702,1,      0.140,1,      25.01,     -999.0,9,     -999.0,9,     -999.0,9,     -999.0,9,     5.8291,2,     -999.0,9
320620170703,        P06,      81,          1,         18,         18,2,20170724,       1759,   -32.2280,   178.6386,       2723,   806.1,   6.5028,  34.3922,2,  34.3978,2, 220.0563,2, 219.4117,2,    13.1,2,   24.53,2,    0.00,2,    1.67,2,-999.000,9,-999.000,9,-999.0000,9,  -999.0,9, -999.00,9,-999.0000,9, -999.00,9, -999.00,9, -999.00,  -999.0,9, -999.00,9,     -999.0,9,  -999.0,9, 20170724,     1724, -32.2281, 178.6386,        0.0,1,      0.060,1,      4.701,1,      0.143,1,     -999.0,     -999.0,9,     -999.0,9,     -999.0,9,     -999.0,9,     6.6244,2,     -999.0,9
320620170703,        P06,      81,          1,         19,         19,2,20170724,       1759,   -32.2280,   178.6386,       2723,   704.8,   7.1852,  34.4304,2,  34.4367,2, 222.7138,2, 223.0093,2,     9.7,2,   22.80,2,    0.00,2,    1.55,2,   2.920,2,   1.441,2,   0.5440,2,  2150.4,6, 2281.81,2,   7.7019,2, -999.00,9, -999.00,9, -999.00,  -999.0,9, -999.00,9,     -999.0,9,  -999.0,9, 20170724,     1727, -32.2282, 178.6386,        0.0,1,      0.059,1,      4.700,1,      0.142,1,      24.99,     -999.0,9,     -999.0,9,     -999.0,9,     -999.0,9,     7.2316,2,     -999.0,9
320620170703,        P06,      81,          1,         20,         20,2,20170724,       1759,   -32.2280,   178.6386,       2723,   604.8,   7.9219,  34.4914,2,  34.4891,2, 220.0079,2, 219.9493,2,     7.5,2,   21.18,2,    0.00,2,    1.47,2,-999.000,9,-999.000,9,-999.0000,9,  -999.0,9, -999.00,9,-999.0000,9, -999.00,9, -999.00,9, -999.00,  -999.0,9, -999.00,9,     -999.0,9,  -999.0,9, 20170724,     1729, -32.2281, 178.6386,        0.0,1,      0.059,1,      4.698,1,      0.145,1,     -999.0,     -999.0,9,     -999.0,9,     -999.0,9,     -999.0,9,     7.9185,2,     -999.0,9
320620170703,        P06,      81,          1,         21,         21,2,20170724,       1759,   -32.2280,   178.6386,       2723,   502.9,   9.2544,  34.6385,2,  34.6403,2, 211.0212,2, 212.2378,2,     6.0,2,   18.48,2,    0.00,2,    1.29,2,   3.011,2,   1.559,2,   0.8910,2,  2143.0,2, 2285.21,2,   7.7352,2, -999.00,9, -999.00,9, -999.00,  -999.0,9, -999.00,9,     -999.0,9,  -999.0,9, 20170724,     1732, -32.2280, 178.6386,        0.0,1,      0.059,1,      4.696,1,      0.144,1,      25.02,     -999.0,9,     -999.0,9,     -999.0,9,     -999.0,9,     9.2771,2,     -999.0,9
320620170703,        P06,      81,          1,         22,         22,2,20170724,       1759,   -32.2280,   178.6386,       2723,   453.0,  10.2280,  34.7696,2,  34.7644,2, 209.2865,2, 208.8641,2,     5.4,2,   16.54,2,    0.00,2,    1.15,2,-999.000,9,-999.000,9,-999.0000,9,  -999.0,9, -999.00,9,-999.0000,9, -999.00,9, -999.00,9, -999.00,  -999.0,9, -999.00,9,     -999.0,9,  -999.0,9, 20170724,     1734, -32.2279, 178.6386,        0.0,1,      0.059,1,      4.694,1,      0.147,1,     -999.0,     -999.0,9,     -999.0,9,     -999.0,9,     -999.0,9,    10.2101,2,     -999.0,9
320620170703,        P06,      81,          1,         23,         23,2,20170724,       1759,   -32.2280,   178.6386,       2723,   402.4,  10.8068,  34.8510,2,  34.8794,2, 203.9566,2, 203.0823,2,     5.2,2,   15.16,2,    0.00,2,    1.06,2,   2.761,2,   1.481,2,   0.9340,2,  2134.7,2, 2294.88,2,   7.7706,2, -999.00,9, -999.00,9, -999.00,  -999.0,9, -999.00,9,     -999.0,9,  -999.0,9, 20170724,     1737, -32.2279, 178.6386,        0.0,1,      0.059,1,      4.694,1,      0.147,1,      25.00,     -999.0,9,     -999.0,9,     -999.0,9,     -999.0,9,    11.1490,2,     -999.0,9
320620170703,        P06,      81,          1,         24,         24,2,20170724,       1759,   -32.2280,   178.6386,       2723,   352.1,  12.0147,  34.9906,2,  34.9996,2, 203.6296,2, 203.2490,2,     4.0,2,   12.85,2,    0.00,2,    0.92,2,-999.000,9,-999.000,9,-999.0000,9,  -999.0,9, -999.00,9,-999.0000,9, -999.00,9, -999.00,9, -999.00,  -999.0,9, -999.00,9,     -999.0,9,  -999.0,9, 20170724,     1739, -32.2280, 178.6386,        0.0,1,      0.059,1,      4.693,1,      0.144,1,     -999.0,     -999.0,9,     -999.0,9,     -999.0,9,     -999.0,9,    12.1287,2,     -999.0,9
320620170703,        P06,      81,          1,         25,         25,2,20170724,       1759,   -32.2280,   178.6386,       2723,   301.6,  12.9887,  35.1271,2,  35.0994,2, 201.5206,2, 202.0179,2,     3.6,2,   11.48,2,    0.00,2,    0.82,2,   2.650,2,   1.448,2,   1.0930,2,  2122.2,2, 2304.28,2,   7.8164,2, -999.00,9, -999.00,9, -999.00,  -999.0,9, -999.00,9,     -999.0,9,  -999.0,9, 20170724,     1741, -32.2281, 178.6386,        0.0,1,      0.059,1,      4.692,1,      0.152,1,      25.02,     -999.0,9,     -999.0,9,     -999.0,9,     -999.0,9,    12.8680,2,     -999.0,9
320620170703,        P06,      81,          1,         26,         26,2,20170724,       1759,   -32.2280,   178.6386,       2723,   250.1,  14.0764,  35.2621,2,  35.2343,2, 202.1187,2, 202.6960,2,     3.1,2,    9.75,2,    0.00,2,    0.71,2,-999.000,9,-999.000,9,-999.0000,9,  -999.0,9, -999.00,9,-999.0000,9, -999.00,9, -999.00,9, -999.00,  -999.0,9, -999.00,9,     -999.0,9,  -999.0,9, 20170724,     1743, -32.2283, 178.6386,        0.0,1,      0.059,1,      4.691,1,      0.151,1,     -999.0,     -999.0,9,     -999.0,9,     -999.0,9,     -999.0,9,    13.8736,2,     -999.0,9
320620170703,        P06,      81,          1,         27,         27,2,20170724,       1759,   -32.2280,   178.6386,       2723,   226.2,  14.5291,  35.3188,2,  35.2948,2, 204.8214,2, 204.3847,2,     2.8,2,    8.66,2,    0.00,2,    0.64,2,   2.571,2,   1.444,2,   1.1550,2,  2112.3,2, 2330.67,2,   7.8565,2, -999.00,9, -999.00,9, -999.00,  -999.0,9, -999.00,9,     -999.0,9,  -999.0,9, 20170724,     1744, -32.2283, 178.6386,        0.0,1,      0.060,1,      4.690,1,      0.149,1,      25.02,     -999.0,9,     -999.0,9,     -999.0,9,     -999.0,9,    14.3690,2,     -999.0,9
320620170703,        P06,      81,          1,         28,         28,2,20170724,       1759,   -32.2280,   178.6386,       2723,   200.6,  15.0194,  35.3683,2,  35.3480,2, 203.8547,2, 204.6146,2,     2.4,2,    7.89,2,    0.00,2,    0.60,2,-999.000,9,-999.000,9,-999.0000,9,  -999.0,9, -999.00,9,-999.0000,9, -999.00,9, -999.00,9, -999.00,  -999.0,9, -999.00,9,     -999.0,9,  -999.0,9, 20170724,     1746, -32.2283, 178.6386,        0.0,1,      0.060,1,      4.689,1,      0.151,1,     -999.0,     -999.0,9,     -999.0,9,     -999.0,9,     -999.0,9,    14.8605,2,     -999.0,9
320620170703,        P06,      81,          1,         29,         29,2,20170724,       1759,   -32.2280,   178.6386,       2723,   175.5,  15.4896,  35.4099,2,  35.4095,2, 201.6642,2, 202.3233,2,     2.1,2,    7.29,2,    0.00,2,    0.56,2,   2.473,2,   1.385,2,   1.1920,2,  2102.3,2, 2319.12,2,   7.8822,2, -999.00,9, -999.00,9, -999.00,  -999.0,9, -999.00,9,     -999.0,9,  -999.0,9, 20170724,     1747, -32.2283, 178.6386,        0.0,1,      0.061,1,      4.688,1,      0.151,1,      25.02,     -999.0,9,     -999.0,9,     -999.0,9,     -999.0,9,    15.5088,2,     -999.0,9
320620170703,        P06,      81,          1,         30,         30,2,20170724,       1759,   -32.2280,   178.6386,       2723,   149.9,  15.9184,  35.4483,2,  35.4740,2, 202.4254,2, 200.9860,2,     1.8,2,    6.40,2,    0.02,2,    0.50,2,-999.000,9,-999.000,9,-999.0000,9,  -999.0,9, -999.00,9,-999.0000,9, -999.00,9, -999.00,9, -999.00,  -999.0,9, -999.00,9,     -999.0,9,  -999.0,9, 20170724,     1749, -32.2282, 178.6386,        0.0,1,      0.061,1,      4.686,1,      0.153,1,     -999.0,     -999.0,9,     -999.0,9,     -999.0,9,     -999.0,9,    16.4252,2,     -999.0,9
320620170703,        P06,      81,          1,         31,         31,2,20170724,       1759,   -32.2280,   178.6386,       2723,   124.9,  16.8596,  35.5444,2,  35.5805,2, 213.9660,3, 211.5497,2,     1.2,2,    3.95,2,    0.10,2,    0.35,2,   2.313,2,   1.306,2,   1.3870,2,  2083.8,2, 2329.53,2,   7.9370,2, -999.00,9, -999.00,9, -999.00,  -999.0,9, -999.00,9,     -999.0,9,  -999.0,9, 20170724,     1751, -32.2281, 178.6386,        0.0,1,      0.070,1,      4.676,1,      0.170,1,      25.00,     -999.0,9,     -999.0,9,     -999.0,9,     -999.0,9,    17.1801,2,     -999.0,9
320620170703,        P06,      81,          1,         32,         32,2,20170724,       1759,   -32.2280,   178.6386,       2723,   100.6,  17.7307,  35.6770,2,  35.6737,2, 230.0432,2, 229.3902,2,     0.5,2,    1.06,2,    0.15,2,    0.18,2,-999.000,9,-999.000,9,-999.0000,9,  2069.2,2, -999.00,9,   7.9766,2, -999.00,9, -999.00,9, -999.00,  -999.0,9, -999.00,9,     -999.0,9,  -999.0,9, 20170724,     1752, -32.2280, 178.6386,        0.0,1,      0.180,1,      4.613,1,      0.245,1,      25.01,     -999.0,9,     -999.0,9,     -999.0,9,     -999.0,9,    17.7124,2,     -999.0,9