BOTTLE,20230922CCHSIOCBG
EXPOCODE,SECT_ID,STNNBR,CASTNO,SAMPNO,BTLNBR,BTLNBR_FLAG_W,DATE,TIME,LATITUDE,LONGITUDE,DEPTH,CTDPRS,CTDTMP,CTDSAL,CTDSAL_FLAG_W,SALNTY,SALNTY_FLAG_W,CTDOXY,CTDOXY_FLAG_W,OXYGEN,OXYGEN_FLAG_W,SILCAT,SILCAT_FLAG_W,NITRAT,NITRAT_FLAG_W,NITRIT,NITRIT_FLAG_W,PHSPHT,PHSPHT_FLAG_W,CFC-11,CFC-11_FLAG_W,CFC-12,CFC-12_FLAG_W,SF6,SF6_FLAG_W,TCARBN,TCARBN_FLAG_W,ALKALI,ALKALI_FLAG_W,PH_TOT,PH_TOT_FLAG_W,DELC13,DELC13_FLAG_W,DELC14,DELC14_FLAG_W,C14ERR,DOC,DOC_FLAG_W,TDN,TDN_FLAG_W,TON,TON_FLAG_W,D15N_NO3,D15N_NO3_FLAG_W,BTL_DATE,BTL_TIME,BTL_LAT,BTL_LON,CTDRINKO,CTDRINKO_FLAG_W,CTDFLUOR,CTDFLUOR_FLAG_W,CTDXMISS,CTDXMISS_FLAG_W,CTDBACKSCATTER,CTDBACKSCATTER_FLAG_W,PH_TMP,D18O_NO3,D18O_NO3_FLAG_W,DOP,DOP_FLAG_W,HPLC,HPLC_FLAG_W,POC,POC_FLAG_W,REFTMP,REFTMP_FLAG_W,TDP,TDP_FLAG_W
,,,,,,,,,,,METERS,DBAR,ITS-90,PSS-78,,PSS-78,,UMOL/KG,,UMOL/KG,,UMOL/KG,,UMOL/KG,,UMOL/KG,,UMOL/KG,,PMOL/KG,,PMOL/KG,,FMOL/KG,,UMOL/KG,,UMOL/KG,,,,/MILLE,,/MILLE,,/MILLE,UMOL/KG,,UMOL/KG,,UMOL/KG,,/MILLE,,,,,,VOLTS,,VOLTS,,VOLTS,,VOLTS,,DEGC,/MILLE,,UMOL/KG,,,,UG/L,,ITS-90,,UMOL/KG,
320620170703,        P06,      80,          1,          1,          1,2,20170724,       1235,   -31.8962,   178.3099,       3492,  3536.1,   1.8409,  34.6820,2,  34.3929,2, 154.4010,2, 154.0946,2,   126.3,2,   35.19,2,    0.00,2,    2.47,2,   0.027,2,   0.017,2,   0.0000,2,  2312.7,6, 2404.91,2,   7.5840,2, -999.00,9, -999.00,9, -999.00,    38.7,2, -999.00,9,     -999.0,1,  -999.0,9, 20170724,     1045, -31.8967, 178.3104,        0.0,1,      0.062,1,      4.695,1,      0.147,1,      25.01,     -999.0,9,     -999.0,9,     -999.0,9,     -999.0,9,     1.8419,2,     -999.0,9
320620170703,        P06,      80,          1,          2,          2,2,20170724,       1235,   -31.8962,   178.3099,       3492,  3401.2,   1.8351,  34.6818,2,  34.6814,2, 154.4010,2, 154.3023,2,   126.0,2,   35.14,2,    0.00,2,    2.46,2,   0.025,2,   0.019,2,   0.0000,2,  2311.7,2, 2404.28,2,   7.5826,2, -999.00,9, -999.00,9, -999.00,  -999.0,9, -999.00,9,     -999.0,9,  -999.0,9, 20170724,     1049, -31.8968, 178.3103,        0.0,1,      0.061,1,      4.702,1,      0.133,1,      25.01,     -999.0,9,     -999.0,9,     -999.0,9,     -999.0,9,     1.8356,2,     -999.0,9
320620170703,        P06,      80,          1,          3,          3,2,20170724,       1235,   -31.8962,   178.3099,       3492,  3247.5,   1.8280,  34.6812,2,  34.6791,2, 154.4010,2, 155.0097,2,   125.8,2,   35.13,2,    0.00,2,    2.47,2,   0.023,2,   0.016,2,   0.0000,2,  2310.9,2, 2405.75,2,   7.5821,2, -999.00,9, -999.00,9, -999.00,    41.5,2, -999.00,9,     -999.0,1,  -999.0,9, 20170724,     1053, -31.8968, 178.3103,        0.0,1,      0.062,1,      4.703,1,      0.133,1,      25.00,     -999.0,9,     -999.0,9,     -999.0,9,     -999.0,9,     1.8285,2,     -999.0,9
320620170703,        P06,      80,          1,          4,          4,2,20170724,       1235,   -31.8962,   178.3099,       3492,  2975.4,   1.8253,  34.6795,2,  34.6779,2, 154.0345,2, 153.8149,2,   125.6,2,   35.08,2,    0.00,2,    2.47,2,   0.024,2,   0.020,2,   0.0000,2,  2311.2,2, -999.00,9,   7.5809,2, -999.00,9, -999.00,9, -999.00,  -999.0,9, -999.00,9,     -999.0,9,  -999.0,9, 20170724,     1059, -31.8967, 178.3103,        0.0,1,      0.061,1,      4.703,1,      0.133,1,      25.03,     -999.0,9,     -999.0,9,     -999.0,9,     -999.0,9,     1.8256,2,     -999.0,9
320620170703,        P06,      80,          1,          5,          5,2,20170724,       1235,   -31.8962,   178.3099,       3492,  2772.1,   1.8428,  34.6767,2,  34.6767,2, 153.9249,2, 154.0237,2,   124.5,2,   35.08,2,    0.00,2,    2.46,2,   0.025,2,   0.018,2,   0.0000,2,  2307.9,2, 2425.14,3,   7.5792,2, -999.00,9, -999.00,9, -999.00,    40.7,2, -999.00,9,     -999.0,1,  -999.0,9, 20170724,     1104, -31.8966, 178.3102,        0.0,1,      0.063,1,      4.705,1,      0.133,1,      25.01,     -999.0,9,     -999.0,9,     -999.0,9,     -999.0,9,     1.8426,2,     -999.0,9
320620170703,        P06,      80,          1,          6,          6,2,20170724,       1235,   -31.8962,   178.3099,       3492,  2569.3,   1.8872,  34.6719,2,  34.6700,2, 153.8139,2, 153.8775,2,   122.9,2,   35.03,2,    0.00,2,    2.46,2,   0.028,2,   0.020,2,   0.0000,2,  2306.5,2, -999.00,9,   7.5779,2, -999.00,9, -999.00,9, -999.00,  -999.0,9, -999.00,9,     -999.0,9,  -999.0,9, 20170724,     1109, -31.8968, 178.3103,        0.0,1,      0.062,1,      4.704,1,      0.135,1,      25.00,     -999.0,9,     -999.0,9,     -999.0,9,     -999.0,9,     1.8866,2,     -999.0,9
320620170703,        P06,      80,          1,          7,          7,2,20170724,       1235,   -31.8962,   178.3099,       3492,  2364.9,   1.9805,  34.6632,2,  34.6635,2, 153.6996,2, 153.1916,2,   120.4,2,   35.03,2,    0.00,2,    2.46,2,   0.029,2,   0.021,2,   0.0000,2,  2304.9,2, 2394.05,2,   7.5779,2, -999.00,9, -999.00,9, -999.00,    41.5,2, -999.00,9,     -999.0,1,  -999.0,9, 20170724,     1114, -31.8967, 178.3102,        0.0,1,      0.062,1,      4.703,1,      0.138,1,      25.03,     -999.0,9,     -999.0,9,     -999.0,9,     -999.0,9,     1.9725,2,     -999.0,9
320620170703,        P06,      80,          1,          8,          8,2,20170724,       1235,   -31.8962,   178.3099,       3492,  2160.4,   2.1465,  34.6489,2,  34.6474,3, 153.6091,2, 153.7782,2,   116.2,2,   34.89,2,    0.00,2,    2.46,2,   0.042,2,   0.027,2,   0.0000,2,  2300.5,2, -999.00,9,   7.5774,2, -999.00,9, -999.00,9, -999.00,  -999.0,9, -999.00,9,     -999.0,9,  -999.0,9, 20170724,     1119, -31.8965, 178.3101,        0.0,1,      0.061,1,      4.703,1,      0.138,1,      25.00,     -999.0,9,     -999.0,9,     -999.0,9,     -999.0,9,     2.1252,2,     -999.0,9
320620170703,        P06,      80,          1,          9,          9,2,20170724,       1235,   -31.8962,   178.3099,       3492,  1957.3,   2.4084,  34.6262,2,  34.6278,2, 154.8664,2, 155.3595,2,   108.7,2,   34.59,2,    0.00,2,    2.43,2,   0.071,2,   0.043,2,   0.0000,2,  2293.0,2, 2381.50,2,   7.5783,2, -999.00,9, -999.00,9, -999.00,    38.4,2, -999.00,9,     -999.0,1,  -999.0,9, 20170724,     1123, -31.8964, 178.3101,        0.0,1,      0.061,1,      4.703,1,      0.140,1,      25.00,     -999.0,9,     -999.0,9,     -999.0,9,     -999.0,9,     2.3847,2,     -999.0,9
320620170703,        P06,      80,          1,         10,         10,2,20170724,       1235,   -31.8962,   178.3099,       3492,  1784.3,   2.6660,  34.6035,2,  34.6048,2, 156.9375,2, 156.5106,2,   101.3,2,   34.31,2,    0.00,2,    2.41,2,   0.098,2,   0.059,2,   0.0000,2,  2284.1,6, -999.00,9,   7.5806,2, -999.00,9, -999.00,9, -999.00,  -999.0,9, -999.00,9,     -999.0,9,  -999.0,9, 20170724,     1128, -31.8966, 178.3102,        0.0,1,      0.060,1,      4.703,1,      0.141,1,      25.00,     -999.0,9,     -999.0,9,     -999.0,9,     -999.0,9,     2.6151,2,     -999.0,9
320620170703,        P06,      80,          1,         11,         11,2,20170724,       1235,   -31.8962,   178.3099,       3492,  1683.2,   2.8594,  34.5867,2,  34.5875,2, 158.8986,2, 159.0845,2,    95.8,2,   34.00,2,    0.00,2,    2.40,2,   0.134,2,   0.075,2,   0.0000,2,  2276.6,2, 2365.64,2,   7.5822,2, -999.00,9, -999.00,9, -999.00,    45.0,3, -999.00,9,     -999.0,1,  -999.0,9, 20170724,     1131, -31.8967, 178.3103,        0.0,1,      0.061,1,      4.703,1,      0.142,1,      25.00,     -999.0,9,     -999.0,9,     -999.0,9,     -999.0,9,     2.7963,2,     -999.0,9
320620170703,        P06,      80,          1,         12,         12,2,20170724,       1235,   -31.8962,   178.3099,       3492,  1582.5,   3.0840,  34.5699,2,  34.5712,2, 161.4555,2, 161.3362,2,    88.5,2,   33.55,2,    0.00,2,    2.36,2,   0.194,2,   0.107,2,   0.0000,2,  2267.8,2, -999.00,9,   7.5868,2, -999.00,9, -999.00,9, -999.00,  -999.0,9, -999.00,9,     -999.0,9,  -999.0,9, 20170724,     1135, -31.8969, 178.3104,        0.0,1,      0.061,1,      4.702,1,      0.143,1,      25.02,     -999.0,9,     -999.0,9,     -999.0,9,     -999.0,9,     3.0693,2,     -999.0,9
320620170703,        P06,      80,          1,         13,         13,2,20170724,       1235,   -31.8962,   178.3099,       3492,  1481.3,   3.3795,  34.5439,2,  34.5470,2, 164.7976,2, 164.8369,2,    80.3,2,   33.26,2,    0.00,2,    2.34,2,   0.254,2,   0.138,2,   0.0000,2,  2257.2,2, 2350.30,2,   7.5902,2, -999.00,9, -999.00,9, -999.00,    41.3,2, -999.00,9,     -999.0,1,  -999.0,9, 20170724,     1138, -31.8970, 178.3105,        0.0,1,      0.061,1,      4.703,1,      0.143,1,      25.03,     -999.0,9,     -999.0,9,     -999.0,9,     -999.0,9,     3.3411,2,     -999.0,9
320620170703,        P06,      80,          1,         14,         14,2,20170724,       1235,   -31.8962,   178.3099,       3492,  1379.1,   3.6245,  34.5128,2,  34.5030,2, 170.2741,2, 170.1136,2,    68.6,2,   32.72,2,    0.00,2,    2.29,2,   0.326,2,   0.171,2,   0.1050,2,  2243.5,2, 2336.32,6,   7.5931,2, -999.00,9, -999.00,9, -999.00,  -999.0,9, -999.00,9,     -999.0,9,  -999.0,9, 20170724,     1141, -31.8971, 178.3105,        0.0,1,      0.061,1,      4.702,1,      0.144,1,      25.01,     -999.0,9,     -999.0,9,     -999.0,9,     -999.0,9,     3.6473,2,     -999.0,9
320620170703,        P06,      80,          1,         15,         15,2,20170724,       1235,   -31.8962,   178.3099,       3492,  1278.0,   3.8810,  34.4432,2,  34.4432,3, 178.3029,2, 178.6211,2,    54.4,2,   32.10,2,    0.00,2,    2.23,2,   0.453,2,   0.230,2,   0.1230,2,  2225.9,2, 2319.05,2,   7.6006,2, -999.00,9, -999.00,9, -999.00,  -999.0,5, -999.00,9,     -999.0,1,  -999.0,9, 20170724,     1144, -31.8972, 178.3106,        0.0,1,      0.060,1,      4.704,1,      0.139,1,      25.00,     -999.0,9,     -999.0,9,     -999.0,9,     -999.0,9,     3.9826,2,     -999.0,9
320620170703,        P06,      80,          1,         16,         16,2,20170724,       1235,   -31.8962,   178.3099,       3492,  1176.5,   4.3908,  34.4090,2,  34.4025,2, 187.8470,2, 187.9277,2,    41.9,2,   30.83,2,    0.00,2,    2.14,2,   0.710,2,   0.344,2,   0.1300,2,  2207.6,2, 2304.75,2,   7.6153,2, -999.00,9, -999.00,9, -999.00,  -999.0,9, -999.00,9,     -999.0,9,  -999.0,9, 20170724,     1147, -31.8973, 178.3106,        0.0,1,      0.060,1,      4.703,1,      0.141,1,      25.01,     -999.0,9,     -999.0,9,     -999.0,9,     -999.0,9,     4.4920,2,     -999.0,9
320620170703,        P06,      80,          1,         17,         17,2,20170724,       1235,   -31.8962,   178.3099,       3492,  1074.6,   4.9231,  34.3828,2,  34.3835,2, 197.2433,2, 197.2175,2,    31.8,2,   29.29,2,    0.00,2,    2.02,2,   1.090,2,   0.507,2,   0.1760,2,  2192.9,2, 2294.49,2,   7.6323,2, -999.00,9, -999.00,9, -999.00,    42.6,2, -999.00,9,     -999.0,1,  -999.0,9, 20170724,     1150, -31.8973, 178.3106,        0.0,1,      0.060,1,      4.703,1,      0.140,1,      25.01,     -999.0,9,     -999.0,9,     -999.0,9,     -999.0,9,     5.0242,2,     -999.0,9
320620170703,        P06,      80,          1,         18,         18,2,20170724,       1235,   -31.8962,   178.3099,       3492,   972.5,   5.7221,  34.3975,2,-999.0000,5, 203.4296,2, 203.6571,2,    24.8,2,   27.46,2,    0.00,2,    1.91,2,   1.480,2,   0.692,2,   0.2720,2,  2180.3,2, 2290.72,2,   7.6528,2, -999.00,9, -999.00,9, -999.00,    41.2,2, -999.00,9,     -999.0,1,  -999.0,9, 20170724,     1153, -31.8972, 178.3105,        0.0,1,      0.059,1,      4.702,1,      0.139,1,      25.01,     -999.0,9,     -999.0,9,     -999.0,9,     -999.0,9,     5.6796,2,     -999.0,9
320620170703,        P06,      80,          1,         19,         19,2,20170724,       1235,   -31.8962,   178.3099,       3492,   872.7,   6.3967,  34.4259,2,  34.4212,2, 207.4649,2, 207.5056,2,    19.5,2,   25.70,2,    0.00,2,    1.79,2,   1.875,2,   0.880,2,   0.3910,2,  2169.3,2, 2288.93,2,   7.6713,2, -999.00,9, -999.00,9, -999.00,    44.2,2, -999.00,9,     -999.0,1,  -999.0,9, 20170724,     1157, -31.8970, 178.3104,        0.0,1,      0.060,1,      4.702,1,      0.140,1,      25.01,     -999.0,9,     -999.0,9,     -999.0,9,     -999.0,9,     6.3107,2,     -999.0,9
320620170703,        P06,      80,          1,         20,         20,2,20170724,       1235,   -31.8962,   178.3099,       3492,   771.7,   7.1255,  34.4682,2,  34.4591,2, 212.4025,2, 211.9779,2,    14.2,2,   23.70,2,    0.00,2,    1.65,2,   2.382,2,   1.131,2,   0.4630,2,  2159.9,6, 2283.84,2,   7.6903,2, -999.00,9, -999.00,9, -999.00,    45.5,2, -999.00,9,     -999.0,1,  -999.0,9, 20170724,     1200, -31.8968, 178.3103,        0.0,1,      0.059,1,      4.701,1,      0.142,1,      25.01,     -999.0,9,     -999.0,9,     -999.0,9,     -999.0,9,     7.0451,2,     -999.0,9
320620170703,        P06,      80,          1,         21,         21,2,20170724,       1235,   -31.8962,   178.3099,       3492,   669.9,   8.0145,  34.5611,2,  34.5643,2, 206.8914,2, 205.9692,2,    12.3,2,   21.75,2,    0.00,2,    1.52,2,   2.535,2,   1.224,2,   0.5780,2,  2156.7,2, 2284.28,2,   7.7044,2, -999.00,9, -999.00,9, -999.00,    45.8,2, -999.00,9,     -999.0,1,  -999.0,9, 20170724,     1203, -31.8967, 178.3103,        0.0,1,      0.059,1,      4.699,1,      0.146,1,      25.00,     -999.0,9,     -999.0,9,     -999.0,9,     -999.0,9,     8.0723,2,     -999.0,9
320620170703,        P06,      80,          1,         22,         22,2,20170724,       1235,   -31.8962,   178.3099,       3492,   569.4,   9.1163,  34.6785,2,  34.7217,2, 200.5220,2, 200.7339,2,     9.0,2,   18.69,2,    0.00,2,    1.32,2,   2.725,2,   1.357,2,   0.7640,2,  2149.2,2, 2288.53,2,   7.7320,2, -999.00,9, -999.00,9, -999.00,    46.3,2, -999.00,9,     -999.0,1,  -999.0,9, 20170724,     1206, -31.8966, 178.3102,        0.0,1,      0.061,1,      4.697,1,      0.143,1,      25.00,     -999.0,9,     -999.0,9,     -999.0,9,     -999.0,9,     9.5487,2,     -999.0,9
320620170703,        P06,      80,          1,         23,         23,2,20170724,       1235,   -31.8962,   178.3099,       3492,   489.5,  10.0642,  34.7813,2,  34.8279,2, 201.7560,2, 202.3485,2,     6.2,2,   15.84,2,    0.00,2,    1.13,2,   2.846,2,   1.482,2,   0.8980,2,  2139.8,2, 2292.65,6,   7.7583,2, -999.00,9, -999.00,9, -999.00,    46.8,2,   18.60,2,     -999.0,1,  -999.0,9, 20170724,     1209, -31.8966, 178.3102,        0.0,1,      0.061,1,      4.695,1,      0.145,1,      25.00,     -999.0,9,     -999.0,9,     -999.0,9,     -999.0,9,    10.6260,2,     -999.0,9
320620170703,        P06,      80,          1,         24,         24,2,20170724,       1235,   -31.8962,   178.3099,       3492,   438.5,  10.6343,  34.8332,2,  34.9475,2, 203.9278,2, 204.3997,2,     4.8,2,   13.27,2,    0.00,2,    0.97,2,   2.865,2,   1.526,2,   1.0080,2,  2134.1,2, 2293.70,2,   7.7831,2, -999.00,9, -999.00,9, -999.00,  -999.0,9, -999.00,9,     -999.0,9,  -999.0,9, 20170724,     1211, -31.8966, 178.3102,        0.0,1,      0.060,1,      4.694,1,      0.147,1,      25.01,     -999.0,9,     -999.0,9,     -999.0,9,     -999.0,9,    11.5925,2,     -999.0,9
320620170703,        P06,      80,          1,         25,         25,2,20170724,       1235,   -31.8962,   178.3099,       3492,   389.1,  11.8216,  34.9851,2,  35.1274,2, 202.5336,2, 202.8311,2,     4.4,2,   11.19,2,    0.00,2,    0.84,2,   2.681,6,   1.453,6,   1.2235,6,  2127.1,2, 2302.03,2,   7.8146,2, -999.00,9, -999.00,9, -999.00,    51.2,2,   14.00,2,     -999.0,1,  -999.0,9, 20170724,     1214, -31.8966, 178.3102,        0.0,1,      0.060,1,      4.692,1,      0.147,1,      25.01,     -999.0,9,     -999.0,9,     -999.0,9,     -999.0,9,    12.8054,2,     -999.0,9
320620170703,        P06,      80,          1,         26,         26,2,20170724,       1235,   -31.8962,   178.3099,       3492,   336.8,  12.8769,  35.1304,2,  35.1748,2, 202.8385,2, 202.8400,2,     4.0,2,   10.11,2,    0.00,2,    0.77,2,   2.642,2,   1.429,2,   1.1100,2,  2121.6,2, 2308.81,2,   7.8289,2, -999.00,9, -999.00,9, -999.00,    51.4,2,   13.40,2,     -999.0,1,  -999.0,9, 20170724,     1216, -31.8966, 178.3102,        0.0,1,      0.060,1,      4.691,1,      0.149,1,      25.03,     -999.0,9,     -999.0,9,     -999.0,9,     -999.0,9,    13.4063,2,     -999.0,9
320620170703,        P06,      80,          1,         27,         27,2,20170724,       1235,   -31.8962,   178.3099,       3492,   286.4,  13.9083,  35.2401,2,  35.2962,2, 202.1279,2, 202.4436,2,     3.1,2,    8.42,2,    0.00,2,    0.66,2,   2.593,2,   1.419,2,   1.2130,2,  2114.1,2, 2312.46,2,   7.8557,2, -999.00,9, -999.00,9, -999.00,    53.4,2,   12.20,2,     -999.0,1,  -999.0,9, 20170724,     1218, -31.8966, 178.3102,        0.0,1,      0.059,1,      4.690,1,      0.143,1,      25.00,     -999.0,9,     -999.0,9,     -999.0,9,     -999.0,9,    14.3977,2,     -999.0,9
320620170703,        P06,      80,          1,         28,         28,2,20170724,       1235,   -31.8962,   178.3099,       3492,   237.0,  14.9258,  35.3549,2,  35.3766,2, 202.8449,2, 201.0968,2,     2.2,2,    6.87,2,    0.00,2,    0.57,2,   2.539,2,   1.389,2,   1.1840,2,  2105.1,2, 2319.13,2,   7.8778,2, -999.00,9, -999.00,9, -999.00,    54.1,2,    9.90,2,     -999.0,1,  -999.0,9, 20170724,     1220, -31.8966, 178.3102,        0.0,1,      0.061,1,      4.688,1,      0.154,1,      25.00,     -999.0,9,     -999.0,9,     -999.0,9,     -999.0,9,    15.3356,2,     -999.0,9
320620170703,        P06,      80,          1,         29,         29,2,20170724,       1235,   -31.8962,   178.3099,       3492,   186.9,  16.2387,  35.4726,2,  35.5089,2, 210.3745,4, 203.6347,2,     1.6,2,    4.77,2,    0.04,2,    0.43,2,   2.433,2,   1.349,2,   1.2390,2,  2095.4,2, 2325.15,2,   7.9116,3, -999.00,9, -999.00,9, -999.00,  -999.0,9, -999.00,9,     -999.0,9,  -999.0,9, 20170724,     1223, -31.8966, 178.3101,        0.0,1,      0.063,1,      4.686,1,      0.150,1,      25.00,     -999.0,9,     -999.0,9,     -999.0,9,     -999.0,9,    16.6504,2,     -999.0,9
320620170703,        P06,      80,          1,         30,         30,2,20170724,       1235,   -31.8962,   178.3099,       3492,   141.4,  17.3659,  35.6228,2,  35.5729,2, 210.3161,2, 210.7494,2,     1.3,2,    3.36,2,    0.07,2,    0.34,2,   2.356,2,   1.312,2,   1.2150,2,  2085.8,2, 2330.30,2,   7.9363,2, -999.00,9, -999.00,9, -999.00,    56.3,2,    7.40,2,     -999.0,1,  -999.0,9, 20170724,     1225, -31.8964, 178.3100,        0.0,1,      0.082,1,      4.667,1,      0.182,1,      25.01,     -999.0,9,     -999.0,9,     -999.0,9,     -999.0,9,    17.1807,2,     -999.0,9
320620170703,        P06,      80,          1,         31,         31,2,20170724,       1235,   -31.8962,   178.3099,       3492,   115.2,  17.6529,  35.6534,2,  35.6621,2, 227.6498,2, 225.5781,2,     0.8,2,    1.26,2,    0.14,2,    0.21,2,   2.292,2,   1.288,2,   1.4060,2,  2072.8,2, 2336.25,2,   7.9697,2, -999.00,9, -999.00,9, -999.00,    56.9,2,    5.50,2,     -999.0,1,  -999.0,9, 20170724,     1227, -31.8964, 178.3100,        0.0,1,      0.136,1,      4.640,1,      0.213,1,      25.01,     -999.0,9,     -999.0,9,     -999.0,9,     -999.0,9,    17.6943,2,     -999.0,9
320620170703,        P06,      80,          1,         32,         32,2,20170724,       1235,   -31.8962,   178.3099,       3492,    89.9,  17.7184,  35.6633,2,  35.6694,2, 228.9476,2, 226.9825,2,     0.7,2,    1.20,2,    0.13,2,    0.20,2,   2.305,2,   1.284,2,   1.3590,2,  2073.5,2, 2335.67,6,   7.9723,2, -999.00,9, -999.00,9, -999.00,    56.1,2,    5.70,2,     -999.0,1,  -999.0,9, 20170724,     1229, -31.8963, 178.3100,        0.0,1,      0.152,1,      4.289,1,      0.217,1,      25.01,     -999.0,9,     -999.0,9,     -999.0,9,     -999.0,9,    17.7336,2,     -999.0,9