BOTTLE,20230922CCHSIOCBG
EXPOCODE,SECT_ID,STNNBR,CASTNO,SAMPNO,BTLNBR,BTLNBR_FLAG_W,DATE,TIME,LATITUDE,LONGITUDE,DEPTH,CTDPRS,CTDTMP,CTDSAL,CTDSAL_FLAG_W,SALNTY,SALNTY_FLAG_W,CTDOXY,CTDOXY_FLAG_W,OXYGEN,OXYGEN_FLAG_W,SILCAT,SILCAT_FLAG_W,NITRAT,NITRAT_FLAG_W,NITRIT,NITRIT_FLAG_W,PHSPHT,PHSPHT_FLAG_W,CFC-11,CFC-11_FLAG_W,CFC-12,CFC-12_FLAG_W,SF6,SF6_FLAG_W,TCARBN,TCARBN_FLAG_W,ALKALI,ALKALI_FLAG_W,PH_TOT,PH_TOT_FLAG_W,DELC13,DELC13_FLAG_W,DELC14,DELC14_FLAG_W,C14ERR,DOC,DOC_FLAG_W,TDN,TDN_FLAG_W,TON,TON_FLAG_W,D15N_NO3,D15N_NO3_FLAG_W,BTL_DATE,BTL_TIME,BTL_LAT,BTL_LON,CTDRINKO,CTDRINKO_FLAG_W,CTDFLUOR,CTDFLUOR_FLAG_W,CTDXMISS,CTDXMISS_FLAG_W,CTDBACKSCATTER,CTDBACKSCATTER_FLAG_W,PH_TMP,D18O_NO3,D18O_NO3_FLAG_W,DOP,DOP_FLAG_W,HPLC,HPLC_FLAG_W,POC,POC_FLAG_W,REFTMP,REFTMP_FLAG_W,TDP,TDP_FLAG_W
,,,,,,,,,,,METERS,DBAR,ITS-90,PSS-78,,PSS-78,,UMOL/KG,,UMOL/KG,,UMOL/KG,,UMOL/KG,,UMOL/KG,,UMOL/KG,,PMOL/KG,,PMOL/KG,,FMOL/KG,,UMOL/KG,,UMOL/KG,,,,/MILLE,,/MILLE,,/MILLE,UMOL/KG,,UMOL/KG,,UMOL/KG,,/MILLE,,,,,,VOLTS,,VOLTS,,VOLTS,,VOLTS,,DEGC,/MILLE,,UMOL/KG,,,,UG/L,,ITS-90,,UMOL/KG,
320620170703,        P06,     101,          1,          1,          1,2,20170729,       1440,   -32.5015,  -173.8548,       5751,  5856.5,   1.1481,  34.7076,2,  34.7085,2, 206.5489,2, 206.6462,2,   123.2,2,   32.05,2,    0.00,2,    2.22,2,   0.165,2,   0.089,2,   0.0000,2,  2266.3,6, 2363.60,2,   7.6053,2, -999.00,9, -999.00,9, -999.00,  -999.0,9, -999.00,9,     -999.0,9,  -999.0,1, 20170729,     1158, -32.5015,-173.8548,        0.0,1,      0.061,1,      4.696,1,      0.129,1,      25.03,     -999.0,1,     -999.0,9,     -999.0,9,     -999.0,9,     1.1485,2,     -999.0,9
320620170703,        P06,     101,          1,          2,          2,2,20170729,       1440,   -32.5015,  -173.8548,       5751,  5713.3,   1.1290,  34.7079,2,  34.7072,2, 206.5489,2, 207.3371,2,   123.3,2,   32.08,2,    0.00,2,    2.21,2,   0.157,2,   0.089,2,   0.0000,2,  2266.3,2, -999.00,9,   7.6052,2, -999.00,9, -999.00,9, -999.00,  -999.0,9, -999.00,9,     -999.0,9,  -999.0,1, 20170729,     1206, -32.5015,-173.8548,        0.0,1,      0.061,1,      4.697,1,      0.127,1,      25.03,     -999.0,1,     -999.0,9,     -999.0,9,     -999.0,9,     1.1298,2,     -999.0,9
320620170703,        P06,     101,          1,          3,          3,2,20170729,       1440,   -32.5015,  -173.8548,       5751,  5471.4,   1.0985,  34.7081,2,  34.7079,2, 206.5489,2, 206.5032,2,   123.1,2,   32.09,2,    0.00,2,    2.21,2,   0.144,2,   0.084,2,   0.0000,2,  2266.3,2, -999.00,9,   7.6053,2, -999.00,9, -999.00,9, -999.00,  -999.0,9, -999.00,9,     -999.0,9,  -999.0,1, 20170729,     1217, -32.5015,-173.8548,        0.0,1,      0.061,1,      4.698,1,      0.124,1,      25.03,     -999.0,1,     -999.0,9,     -999.0,9,     -999.0,9,     1.0993,2,     -999.0,9
320620170703,        P06,     101,          1,          4,          4,2,20170729,       1440,   -32.5015,  -173.8548,       5751,  5161.1,   1.0661,  34.7085,2,  34.7076,2, 206.5489,2, 207.0222,2,   122.6,2,   32.02,2,    0.00,2,    2.22,2,   0.152,2,   0.090,2,   0.0000,2,  2265.6,2, 2359.09,2,   7.6052,2, -999.00,9, -999.00,9, -999.00,  -999.0,9, -999.00,9,     -999.0,9,  -999.0,1, 20170729,     1228, -32.5015,-173.8548,        0.0,1,      0.060,1,      4.700,1,      0.125,1,      25.01,     -999.0,1,     -999.0,9,     -999.0,9,     -999.0,9,     1.0665,2,     -999.0,9
320620170703,        P06,     101,          1,          5,          5,2,20170729,       1440,   -32.5015,  -173.8548,       5751,  4851.9,   1.0527,  34.7094,2,  34.7093,2, 206.5489,2, 207.0940,2,   122.0,2,   31.97,2,    0.00,2,    2.22,2,   0.147,2,   0.086,2,   0.0000,2,  2264.6,2, -999.00,9,   7.6060,2, -999.00,9, -999.00,9, -999.00,  -999.0,9, -999.00,9,     -999.0,9,  -999.0,1, 20170729,     1236, -32.5015,-173.8548,        0.0,1,      0.060,1,      4.701,1,      0.135,1,      25.05,     -999.0,1,     -999.0,9,     -999.0,9,     -999.0,9,     1.0527,2,     -999.0,9
320620170703,        P06,     101,          1,          6,          6,2,20170729,       1440,   -32.5015,  -173.8548,       5751,  4544.5,   1.0694,  34.7112,2,  34.7107,2, 206.5489,2, 206.3427,2,   120.6,2,   31.88,2,    0.00,2,    2.21,2,   0.144,2,   0.083,2,   0.0000,2,  2265.2,2, -999.00,9,   7.6058,2, -999.00,9, -999.00,9, -999.00,  -999.0,9, -999.00,9,     -999.0,9,  -999.0,1, 20170729,     1244, -32.5015,-173.8548,        0.0,1,      0.061,1,      4.701,1,      0.127,1,      25.02,     -999.0,1,     -999.0,9,     -999.0,9,     -999.0,9,     1.0694,2,     -999.0,9
320620170703,        P06,     101,          1,          7,          7,2,20170729,       1440,   -32.5015,  -173.8548,       5751,  4236.3,   1.1267,  34.7144,2,  34.7150,2, 206.3808,2, 204.9459,2,   118.5,2,   31.84,2,    0.00,2,    2.22,2,   0.128,2,   0.074,2,   0.0000,2,  2264.3,2, 2358.81,2,   7.6062,2, -999.00,9, -999.00,9, -999.00,  -999.0,9, -999.00,9,     -999.0,9,  -999.0,1, 20170729,     1251, -32.5015,-173.8548,        0.0,1,      0.061,1,      4.701,1,      0.129,1,      25.02,     -999.0,1,     -999.0,9,     -999.0,9,     -999.0,9,     1.1195,2,     -999.0,9
320620170703,        P06,     101,          1,          8,          8,2,20170729,       1440,   -32.5015,  -173.8548,       5751,  3928.3,   1.2645,  34.7184,2,  34.7180,2, 200.6846,2, 201.1413,2,   114.4,2,   31.66,2,    0.00,2,    2.20,2,   0.099,2,   0.061,2,   0.0000,2,  2262.3,2, -999.00,9,   7.6084,3, -999.00,9, -999.00,9, -999.00,  -999.0,9, -999.00,9,     -999.0,9,  -999.0,1, 20170729,     1258, -32.5015,-173.8548,        0.0,1,      0.061,1,      4.701,1,      0.129,1,      25.02,     -999.0,1,     -999.0,9,     -999.0,9,     -999.0,9,     1.2645,2,     -999.0,9
320620170703,        P06,     101,          1,          9,          9,2,20170729,       1440,   -32.5015,  -173.8548,       5751,  3621.4,   1.4782,  34.7160,2,  34.7156,2, 191.7393,2, 191.1888,2,   112.5,2,   32.07,2,    0.00,2,    2.23,2,   0.061,2,   0.041,2,   0.0000,2,  2271.5,2, -999.00,9,   7.6001,2, -999.00,9, -999.00,9, -999.00,  -999.0,9, -999.00,9,     -999.0,9,  -999.0,1, 20170729,     1304, -32.5015,-173.8548,        0.0,1,      0.061,1,      4.702,1,      0.127,1,      25.02,     -999.0,1,     -999.0,9,     -999.0,9,     -999.0,9,     1.4821,2,     -999.0,9
320620170703,        P06,     101,          1,         10,         10,2,20170729,       1440,   -32.5015,  -173.8548,       5751,  3313.5,   1.6471,  34.7007,2,  34.7001,2, 176.3499,2, 175.4363,2,   118.0,2,   33.26,2,    0.00,2,    2.32,2,   0.101,4,   0.092,4,   0.0000,4,  2285.8,2, 2378.96,2,   7.5881,2, -999.00,9, -999.00,9, -999.00,  -999.0,9, -999.00,9,     -999.0,9,  -999.0,1, 20170729,     1310, -32.5015,-173.8548,        0.0,1,      0.060,1,      4.702,1,      0.129,1,      25.03,     -999.0,1,     -999.0,9,     -999.0,9,     -999.0,9,     1.6459,2,     -999.0,9
320620170703,        P06,     101,          1,         11,         11,2,20170729,       1440,   -32.5015,  -173.8548,       5751,  3058.8,   1.7549,  34.6781,2,  34.6867,2, 159.4568,3, 157.6906,2,   128.0,2,   34.89,2,    0.00,2,    2.44,2,   0.032,2,   0.026,2,   0.0000,2,  2308.7,2, -999.00,9,   7.5754,2, -999.00,9, -999.00,9, -999.00,  -999.0,9, -999.00,9,     -999.0,9,  -999.0,1, 20170729,     1316, -32.5015,-173.8548,        0.0,1,      0.060,1,      4.702,1,      0.131,1,      25.04,     -999.0,1,     -999.0,9,     -999.0,9,     -999.0,9,     1.7511,2,     -999.0,9
320620170703,        P06,     101,          1,         12,         12,2,20170729,       1440,   -32.5015,  -173.8548,       5751,  2804.0,   1.8776,  34.6644,2,  34.6643,2, 151.2750,2, 151.2966,2,   128.4,2,   35.47,2,    0.00,2,    2.49,2,   0.028,2,   0.023,2,   0.0000,2,  2314.9,2, -999.00,9,   7.5682,2, -999.00,9, -999.00,9, -999.00,  -999.0,9, -999.00,9,     -999.0,9,  -999.0,1, 20170729,     1321, -32.5015,-173.8548,        0.0,1,      0.061,1,      4.702,1,      0.131,1,      25.03,     -999.0,1,     -999.0,9,     -999.0,9,     -999.0,9,     1.8733,2,     -999.0,9
320620170703,        P06,     101,          1,         13,         13,2,20170729,       1440,   -32.5015,  -173.8548,       5751,  2548.4,   1.9938,  34.6528,2,  34.6523,2, 147.4810,2, 148.3947,2,   125.3,2,   35.67,2,    0.00,2,    2.49,2,   0.027,2,   0.022,2,   0.0000,2,  2312.3,6, 2396.87,2,   7.5651,2, -999.00,9, -999.00,9, -999.00,  -999.0,9, -999.00,9,     -999.0,9,  -999.0,1, 20170729,     1327, -32.5015,-173.8548,        0.0,1,      0.061,1,      4.702,1,      0.133,1,      25.02,     -999.0,1,     -999.0,9,     -999.0,9,     -999.0,9,     1.9972,2,     -999.0,9
320620170703,        P06,     101,          1,         14,         14,2,20170729,       1440,   -32.5015,  -173.8548,       5751,  2294.9,   2.1153,  34.6420,2,  34.6409,2, 147.2309,2, 148.2188,2,   120.1,2,   35.57,2,    0.00,2,    2.49,2,   0.029,2,   0.025,2,   0.0000,2,  2308.2,2, -999.00,9,   7.5648,2, -999.00,9, -999.00,9, -999.00,  -999.0,9, -999.00,9,     -999.0,9,  -999.0,1, 20170729,     1333, -32.5015,-173.8548,        0.0,1,      0.061,1,      4.702,1,      0.133,1,      25.04,     -999.0,1,     -999.0,9,     -999.0,9,     -999.0,9,     2.1251,2,     -999.0,9
320620170703,        P06,     101,          1,         15,         15,2,20170729,       1440,   -32.5015,  -173.8548,       5751,  2039.7,   2.2933,  34.6247,2,  34.6242,2, 148.9065,2, 149.8418,2,   111.9,2,   35.34,2,    0.00,2,    2.47,2,   0.039,2,   0.028,2,   0.0000,2,  2300.0,2, -999.00,9,   7.5655,2, -999.00,9, -999.00,9, -999.00,  -999.0,9, -999.00,9,     -999.0,9,  -999.0,1, 20170729,     1339, -32.5015,-173.8548,        0.0,1,      0.061,1,      4.702,1,      0.135,1,      25.05,     -999.0,1,     -999.0,9,     -999.0,9,     -999.0,9,     2.2834,2,     -999.0,9
320620170703,        P06,     101,          1,         16,         16,2,20170729,       1440,   -32.5015,  -173.8548,       5751,  1784.4,   2.5208,  34.5945,2,  34.5971,2, 153.2131,2, 154.1774,2,   100.1,2,   34.94,2,    0.00,2,    2.44,2,   0.039,2,   0.031,2,   0.0000,2,  2284.9,2, 2366.91,2,   7.5667,2, -999.00,9, -999.00,9, -999.00,  -999.0,9, -999.00,9,     -999.0,9,  -999.0,1, 20170729,     1344, -32.5015,-173.8548,        0.0,1,      0.061,1,      4.702,1,      0.137,1,      25.00,     -999.0,1,     -999.0,9,     -999.0,9,     -999.0,9,     2.4954,2,     -999.0,9
320620170703,        P06,     101,          1,         17,         17,2,20170729,       1440,   -32.5015,  -173.8548,       5751,  1549.6,   2.8992,  34.5258,2,  34.5307,2, 162.6327,2, 163.3582,2,    79.9,2,   34.41,2,    0.00,2,    2.38,2,   0.074,2,   0.054,2,   0.0000,2,  2262.1,2, -999.00,9,   7.5691,2, -999.00,9, -999.00,9, -999.00,  -999.0,9, -999.00,9,     -999.0,9,  -999.0,1, 20170729,     1349, -32.5015,-173.8548,        0.0,1,      0.061,1,      4.702,1,      0.139,1,      25.01,     -999.0,1,     -999.0,9,     -999.0,9,     -999.0,9,     2.8436,2,     -999.0,9
320620170703,        P06,     101,          1,         18,         18,2,20170729,       1440,   -32.5015,  -173.8548,       5751,  1346.9,   3.3601,  34.4365,2,  34.4379,2, 176.8556,2, 177.9142,2,    58.2,2,   33.57,2,    0.00,2,    2.33,2,   0.335,2,   0.178,2,   0.0000,2,  2233.4,2, -999.00,9,   7.5778,2, -999.00,9, -999.00,9, -999.00,  -999.0,9, -999.00,9,     -999.0,9,  -999.0,1, 20170729,     1354, -32.5015,-173.8548,        0.0,1,      0.061,1,      4.699,1,      0.135,1,      25.01,     -999.0,1,     -999.0,9,     -999.0,9,     -999.0,9,     3.3176,2,     -999.0,9
320620170703,        P06,     101,          1,         19,         19,2,20170729,       1440,   -32.5015,  -173.8548,       5751,  1176.1,   4.1492,  34.3621,2,  34.3611,2, 191.2276,2, 191.5478,2,    39.0,2,   31.81,2,    0.00,2,    2.18,2,   0.576,2,   0.297,2,   0.0860,2,  2206.4,2, 2299.62,2,   7.6057,2, -999.00,9, -999.00,9, -999.00,  -999.0,9, -999.00,9,     -999.0,9,  -999.0,1, 20170729,     1358, -32.5015,-173.8548,        0.0,1,      0.061,1,      4.691,1,      0.136,1,      25.01,     -999.0,1,     -999.0,9,     -999.0,9,     -999.0,9,     4.1562,2,     -999.0,9
320620170703,        P06,     101,          1,         20,         20,2,20170729,       1440,   -32.5015,  -173.8548,       5751,  1076.6,   4.6604,  34.3429,2,  34.3411,2, 200.3172,2, 199.9370,2,    30.1,2,   30.30,2,    0.00,2,    2.08,2,-999.000,9,-999.000,9,-999.0000,9,  2192.6,2, -999.00,9,   7.6253,2, -999.00,9, -999.00,9, -999.00,  -999.0,9, -999.00,9,     -999.0,9,  -999.0,1, 20170729,     1401, -32.5015,-173.8548,        0.0,1,      0.059,1,      4.664,1,      0.136,1,      25.02,     -999.0,1,     -999.0,9,     -999.0,9,     -999.0,9,     4.6976,2,     -999.0,9
320620170703,        P06,     101,          1,         21,         21,2,20170729,       1440,   -32.5015,  -173.8548,       5751,   974.4,   5.2904,  34.3294,2,  34.3278,2, 211.6499,2, 211.0895,2,    24.5,2,   28.69,2,    0.00,2,    1.96,2,   1.432,2,   0.689,2,   0.2950,2,  2175.6,2, -999.00,9,   7.6507,2, -999.00,9, -999.00,9, -999.00,  -999.0,9, -999.00,9,     -999.0,9,  -999.0,1, 20170729,     1404, -32.5015,-173.8548,        0.0,1,      0.060,1,      4.696,1,      0.140,1,      24.99,     -999.0,1,     -999.0,9,     -999.0,9,     -999.0,9,     5.3275,2,     -999.0,9
320620170703,        P06,     101,          1,         22,         22,2,20170729,       1440,   -32.5015,  -173.8548,       5751,   873.9,   5.8529,  34.3320,2,  34.3293,2, 221.7158,2, 220.8935,2,    15.1,2,   26.42,2,    0.00,2,    1.80,2,-999.000,9,-999.000,9,-999.0000,9,  2164.5,2, 2282.02,2,   7.6734,2, -999.00,9, -999.00,9, -999.00,  -999.0,9, -999.00,9,     -999.0,9,  -999.0,1, 20170729,     1407, -32.5015,-173.8548,        0.0,1,      0.059,1,      4.701,1,      0.140,1,      25.00,     -999.0,1,     -999.0,9,     -999.0,9,     -999.0,9,     5.8413,2,     -999.0,9
320620170703,        P06,     101,          1,         23,         23,2,20170729,       1440,   -32.5015,  -173.8548,       5751,   771.9,   6.4467,  34.3526,2,  34.3478,2, 230.6336,2, 230.3329,2,    10.6,2,   24.42,2,    0.00,2,    1.65,2,   2.623,2,   1.294,2,   0.5440,2,  2154.6,6, -999.00,9,   7.6923,2, -999.00,9, -999.00,9, -999.00,  -999.0,9, -999.00,9,     -999.0,9,  -999.0,1, 20170729,     1410, -32.5015,-173.8548,        0.0,1,      0.060,1,      4.700,1,      0.141,1,      25.02,     -999.0,1,     -999.0,9,     -999.0,9,     -999.0,9,     6.3886,2,     -999.0,9
320620170703,        P06,     101,          1,         24,         24,2,20170729,       1440,   -32.5015,  -173.8548,       5751,   670.7,   7.0890,  34.3974,2,  34.3861,2, 231.7463,2,-999.0000,9,     8.1,2,   22.77,2,    0.00,2,    1.54,2,-999.000,9,-999.000,9,-999.0000,9,  2149.6,2, -999.00,9,   7.7036,2, -999.00,9, -999.00,9, -999.00,  -999.0,9, -999.00,9,     -999.0,9,  -999.0,1, 20170729,     1413, -32.5015,-173.8548,        0.0,1,      0.059,1,      4.137,1,      0.139,1,      25.01,     -999.0,1,     -999.0,9,     -999.0,9,     -999.0,9,     6.9567,2,     -999.0,9
320620170703,        P06,     101,          1,         25,         25,2,20170729,       1440,   -32.5015,  -173.8548,       5751,   568.7,   7.8238,  34.4660,2,  34.4359,2, 230.1292,2, 230.1870,2,     6.5,2,   21.21,2,    0.00,2,    1.45,2,   3.335,2,   1.735,2,   0.8950,2,  2147.5,2, 2277.76,2,   7.7109,2, -999.00,9, -999.00,9, -999.00,  -999.0,9, -999.00,9,     -999.0,9,  -999.0,1, 20170729,     1416, -32.5015,-173.8548,        0.0,1,      0.059,1,      4.693,1,      0.144,1,      25.02,     -999.0,1,     -999.0,9,     -999.0,9,     -999.0,9,     7.5532,2,     -999.0,9
320620170703,        P06,     101,          1,         26,         26,2,20170729,       1440,   -32.5015,  -173.8548,       5751,   467.6,   9.0233,  34.6014,2,  34.5594,2, 220.6308,2, 221.4792,2,     5.3,2,   18.83,2,    0.00,2,    1.28,2,-999.000,9,-999.000,9,-999.0000,9,  2144.6,2, -999.00,9,   7.7256,2, -999.00,9, -999.00,9, -999.00,  -999.0,9, -999.00,9,     -999.0,9,  -999.0,1, 20170729,     1419, -32.5015,-173.8548,        0.0,1,      0.059,1,      4.694,1,      0.146,1,      25.01,     -999.0,1,     -999.0,9,     -999.0,9,     -999.0,9,     8.6722,2,     -999.0,9
320620170703,        P06,     101,          1,         27,         27,2,20170729,       1440,   -32.5015,  -173.8548,       5751,   365.7,  10.8441,  34.8357,2,  34.7575,2, 210.9806,2, 209.4100,2,     4.5,2,   15.74,2,    0.00,2,    1.09,2,   2.937,2,   1.610,2,   1.1130,2,  2137.7,2, -999.00,9,   7.7542,2, -999.00,9, -999.00,9, -999.00,  -999.0,9, -999.00,9,     -999.0,9,  -999.0,1, 20170729,     1422, -32.5015,-173.8548,        0.0,1,      0.060,1,      4.692,1,      0.146,1,      25.02,     -999.0,1,     -999.0,1,     -999.0,9,     -999.0,9,    10.2801,2,     -999.0,9
320620170703,        P06,     101,          1,         28,         28,2,20170729,       1440,   -32.5015,  -173.8548,       5751,   285.4,  12.2680,  35.0154,2,-999.0000,9, 206.0317,2,-999.0000,9,  -999.0,9, -999.00,9, -999.00,9, -999.00,9,-999.000,9,-999.000,9,-999.0000,9,  -999.0,9, -999.00,9,-999.0000,9, -999.00,9, -999.00,9, -999.00,  -999.0,9, -999.00,9,     -999.0,9,  -999.0,9, 20170729,     1424, -32.5015,-173.8548,        0.0,1,      0.060,1,      4.691,1,      0.141,1,     -999.0,     -999.0,9,     -999.0,9,     -999.0,9,     -999.0,9,    12.2176,2,     -999.0,9
320620170703,        P06,     101,          1,         29,         29,2,20170729,       1440,   -32.5015,  -173.8548,       5751,   236.1,  13.6386,  35.2132,2,  35.1723,2, 208.5815,3, 211.1160,2,     2.5,2,    8.74,2,    0.00,2,    0.64,2,   2.647,2,   1.534,2,   1.4460,2,  2120.2,2, 2309.85,2,   7.8349,2, -999.00,9, -999.00,9, -999.00,  -999.0,9, -999.00,9,     -999.0,9,  -999.0,1, 20170729,     1427, -32.5015,-173.8548,        0.0,1,      0.061,1,      4.689,1,      0.148,1,      25.01,     -999.0,1,     -999.0,1,     -999.0,9,     -999.0,9,    13.4356,2,     -999.0,9
320620170703,        P06,     101,          1,         30,         30,2,20170729,       1440,   -32.5015,  -173.8548,       5751,   187.6,  14.3587,  35.2839,2,  35.2729,2, 205.8175,2, 206.8622,2,     2.1,2,    7.69,2,    0.00,2,    0.58,2,-999.000,9,-999.000,9,-999.0000,9,  2112.2,2, -999.00,9,   7.8563,2, -999.00,9, -999.00,9, -999.00,  -999.0,9, -999.00,9,     -999.0,9,  -999.0,1, 20170729,     1429, -32.5015,-173.8548,        0.0,1,      0.061,1,      4.689,1,      0.144,1,      25.01,     -999.0,1,     -999.0,1,     -999.0,9,     -999.0,9,    14.2807,2,     -999.0,9
320620170703,        P06,     101,          1,         31,         31,2,20170729,       1440,   -32.5015,  -173.8548,       5751,   135.4,  15.4943,  35.4125,2,  35.3849,2, 206.7697,2, 207.9672,2,     1.9,2,    6.20,2,    0.02,2,    0.48,2,   2.415,2,   1.415,2,   1.3360,2,  2105.3,2, 2321.10,6,   7.8810,2, -999.00,9, -999.00,9, -999.00,  -999.0,9, -999.00,9,     -999.0,9,  -999.0,1, 20170729,     1431, -32.5015,-173.8548,        0.0,1,      0.066,1,      4.681,1,      0.159,1,      25.00,     -999.0,1,     -999.0,1,     -999.0,9,     -999.0,9,    15.2318,2,     -999.0,9
320620170703,        P06,     101,          1,         32,         32,2,20170729,       1440,   -32.5015,  -173.8548,       5751,    90.5,  17.0718,  35.5919,2,  35.5800,2, 232.4094,2, 231.5755,2,     0.7,2,    0.98,2,    0.04,2,    0.16,2,-999.000,9,-999.000,9,-999.0000,9,  2074.4,2, -999.00,9,   7.9626,2, -999.00,9, -999.00,9, -999.00,  -999.0,9, -999.00,9,     -999.0,9,  -999.0,1, 20170729,     1434, -32.5015,-173.8548,        0.0,1,      0.209,1,      4.593,1,      0.273,1,      25.00,     -999.0,1,     -999.0,1,     -999.0,9,     -999.0,9,    16.9796,2,     -999.0,9