BOTTLE,20230922CCHSIOCBG
EXPOCODE,SECT_ID,STNNBR,CASTNO,SAMPNO,BTLNBR,BTLNBR_FLAG_W,DATE,TIME,LATITUDE,LONGITUDE,DEPTH,CTDPRS,CTDTMP,CTDSAL,CTDSAL_FLAG_W,SALNTY,SALNTY_FLAG_W,CTDOXY,CTDOXY_FLAG_W,OXYGEN,OXYGEN_FLAG_W,SILCAT,SILCAT_FLAG_W,NITRAT,NITRAT_FLAG_W,NITRIT,NITRIT_FLAG_W,PHSPHT,PHSPHT_FLAG_W,CFC-11,CFC-11_FLAG_W,CFC-12,CFC-12_FLAG_W,SF6,SF6_FLAG_W,TCARBN,TCARBN_FLAG_W,ALKALI,ALKALI_FLAG_W,PH_TOT,PH_TOT_FLAG_W,DELC13,DELC13_FLAG_W,DELC14,DELC14_FLAG_W,C14ERR,DOC,DOC_FLAG_W,TDN,TDN_FLAG_W,TON,TON_FLAG_W,D15N_NO3,D15N_NO3_FLAG_W,BTL_DATE,BTL_TIME,BTL_LAT,BTL_LON,CTDRINKO,CTDRINKO_FLAG_W,CTDFLUOR,CTDFLUOR_FLAG_W,CTDXMISS,CTDXMISS_FLAG_W,CTDBACKSCATTER,CTDBACKSCATTER_FLAG_W,PH_TMP,D18O_NO3,D18O_NO3_FLAG_W,DOP,DOP_FLAG_W,HPLC,HPLC_FLAG_W,POC,POC_FLAG_W,REFTMP,REFTMP_FLAG_W,TDP,TDP_FLAG_W
,,,,,,,,,,,METERS,DBAR,ITS-90,PSS-78,,PSS-78,,UMOL/KG,,UMOL/KG,,UMOL/KG,,UMOL/KG,,UMOL/KG,,UMOL/KG,,PMOL/KG,,PMOL/KG,,FMOL/KG,,UMOL/KG,,UMOL/KG,,,,/MILLE,,/MILLE,,/MILLE,UMOL/KG,,UMOL/KG,,UMOL/KG,,/MILLE,,,,,,VOLTS,,VOLTS,,VOLTS,,VOLTS,,DEGC,/MILLE,,UMOL/KG,,,,UG/L,,ITS-90,,UMOL/KG,
320620170703,        P06,      93,          1,         33,         33,2,20170727,       0501,   -32.4997,  -177.6699,       7301,    74.9,  16.8836,  35.5775,2,  35.5906,2, 235.7994,2, 235.0840,2,     0.5,2,    0.88,2,    0.18,2,    0.16,2,   2.224,2,   1.331,2,   1.4510,2,  2074.5,2, 2332.60,2,   7.9643,2, -999.00,9, -999.00,9, -999.00,  -999.0,9, -999.00,9,     -999.0,9,  -999.0,9, 20170727,      456, -32.4998,-177.6699,        0.0,1,      0.182,1,      4.613,1,      0.280,1,      25.02,     -999.0,9,     -999.0,9,     -999.0,9,     -999.0,9,    16.8770,2,     -999.0,9
320620170703,        P06,      93,          1,         34,         34,2,20170727,       0501,   -32.4997,  -177.6699,       7301,    49.3,  17.2250,  35.6291,2,  35.6242,2, 237.1894,2, 237.0482,2,     0.3,2,    0.37,2,    0.06,2,    0.13,2,   2.202,2,   1.324,2,   1.3960,2,  -999.0,9, -999.00,9,-999.0000,9, -999.00,9, -999.00,9, -999.00,  -999.0,9, -999.00,9,     -999.0,9,  -999.0,9, 20170727,      457, -32.4998,-177.6699,        0.0,1,      0.225,1,      4.586,1,      0.286,1,     -999.0,     -999.0,9,     -999.0,9,     -999.0,9,     -999.0,9,    17.0898,2,     -999.0,9
320620170703,        P06,      93,          1,         35,         35,2,20170727,       0501,   -32.4997,  -177.6699,       7301,    24.2,  17.2434,  35.6318,2,  35.6344,2, 238.4647,3, 235.8517,2,     0.3,2,    0.26,2,    0.04,2,    0.11,2,   2.169,2,   1.306,2,   1.4120,2,  2069.3,2, -999.00,9,   7.9768,2, -999.00,9, -999.00,9, -999.00,  -999.0,9, -999.00,9,     -999.0,9,  -999.0,9, 20170727,      459, -32.4997,-177.6699,        0.0,1,      0.178,1,      4.583,1,      0.284,1,      25.02,     -999.0,9,     -999.0,9,     -999.0,9,     -999.0,9,    17.2773,2,     -999.0,9
320620170703,        P06,      93,          1,         36,         36,2,20170727,       0501,   -32.4997,  -177.6699,       7301,     4.8,  17.2791,  35.6333,2,  35.6354,2, 238.6764,3, 236.1298,2,     0.3,2,    0.25,2,    0.04,2,    0.12,2,   2.211,2,   1.314,2,   1.3630,2,  2069.0,6, 2334.74,2,   7.9759,2, -999.00,9, -999.00,9, -999.00,  -999.0,9, -999.00,9,     -999.0,9,  -999.0,9, 20170727,      501, -32.4997,-177.6699,        0.0,1,      0.094,1,      4.584,1,      0.257,1,      25.01,     -999.0,9,     -999.0,9,     -999.0,9,     -999.0,9,    17.2967,2,     -999.0,9