BOTTLE,20230922CCHSIOCBG
EXPOCODE,SECT_ID,STNNBR,CASTNO,SAMPNO,BTLNBR,BTLNBR_FLAG_W,DATE,TIME,LATITUDE,LONGITUDE,DEPTH,CTDPRS,CTDTMP,CTDSAL,CTDSAL_FLAG_W,SALNTY,SALNTY_FLAG_W,CTDOXY,CTDOXY_FLAG_W,OXYGEN,OXYGEN_FLAG_W,SILCAT,SILCAT_FLAG_W,NITRAT,NITRAT_FLAG_W,NITRIT,NITRIT_FLAG_W,PHSPHT,PHSPHT_FLAG_W,CFC-11,CFC-11_FLAG_W,CFC-12,CFC-12_FLAG_W,SF6,SF6_FLAG_W,TCARBN,TCARBN_FLAG_W,ALKALI,ALKALI_FLAG_W,PH_TOT,PH_TOT_FLAG_W,DELC13,DELC13_FLAG_W,DELC14,DELC14_FLAG_W,C14ERR,DOC,DOC_FLAG_W,TDN,TDN_FLAG_W,TON,TON_FLAG_W,D15N_NO3,D15N_NO3_FLAG_W,BTL_DATE,BTL_TIME,BTL_LAT,BTL_LON,CTDRINKO,CTDRINKO_FLAG_W,CTDFLUOR,CTDFLUOR_FLAG_W,CTDXMISS,CTDXMISS_FLAG_W,CTDBACKSCATTER,CTDBACKSCATTER_FLAG_W,PH_TMP,D18O_NO3,D18O_NO3_FLAG_W,DOP,DOP_FLAG_W,HPLC,HPLC_FLAG_W,POC,POC_FLAG_W,REFTMP,REFTMP_FLAG_W,TDP,TDP_FLAG_W
,,,,,,,,,,,METERS,DBAR,ITS-90,PSS-78,,PSS-78,,UMOL/KG,,UMOL/KG,,UMOL/KG,,UMOL/KG,,UMOL/KG,,UMOL/KG,,PMOL/KG,,PMOL/KG,,FMOL/KG,,UMOL/KG,,UMOL/KG,,,,/MILLE,,/MILLE,,/MILLE,UMOL/KG,,UMOL/KG,,UMOL/KG,,/MILLE,,,,,,VOLTS,,VOLTS,,VOLTS,,VOLTS,,DEGC,/MILLE,,UMOL/KG,,,,UG/L,,ITS-90,,UMOL/KG,
320620170703,        P06,     110,          1,         33,         33,2,20170801,       0200,   -32.4997,  -170.7493,       5722,    64.6,  17.0457,  35.5992,2,  35.5983,2, 236.1012,2, 235.7938,2,     0.1,2,    0.20,2,    0.03,2,    0.10,2,   2.265,2,   1.299,2,   1.4400,2,  2072.6,2, -999.00,9,   7.9708,2, -999.00,9, -999.00,9, -999.00,    56.1,2,    3.80,2,     -999.0,1,  -999.0,9, 20170801,      156, -32.4998,-170.7492,        0.0,1,      0.186,1,      4.624,1,      0.214,1,      25.02,     -999.0,9,     -999.0,9,     -999.0,9,     -999.0,9,    17.0198,2,     -999.0,9
320620170703,        P06,     110,          1,         34,         34,2,20170801,       0200,   -32.4997,  -170.7493,       5722,    38.9,  17.0788,  35.6069,2,  35.6011,2, 236.0288,2, 236.2158,2,     0.1,2,    0.18,2,    0.03,2,    0.11,2,   2.283,2,   1.323,2,   1.3750,2,  2070.7,2, 2335.61,2,   7.9722,2, -999.00,9, -999.00,9, -999.00,    56.2,2,    4.20,2,     -999.0,1,  -999.0,9, 20170801,      158, -32.4998,-170.7493,        0.0,1,      0.185,1,      4.615,1,      0.223,1,      25.03,     -999.0,9,     -999.0,9,     -999.0,9,     -999.0,9,    17.0468,2,     -999.0,9
320620170703,        P06,     110,          1,         35,         35,2,20170801,       0200,   -32.4997,  -170.7493,       5722,    19.5,  17.0775,  35.6065,2,  35.6060,2, 236.1543,2, 236.6668,2,     0.1,2,    0.17,2,    0.03,2,    0.10,2,   2.254,2,   1.301,2,   1.4830,2,  2071.2,2, -999.00,9,   7.9732,2, -999.00,9, -999.00,9, -999.00,    59.5,2,    3.90,2,     -999.0,1,  -999.0,9, 20170801,      159, -32.4997,-170.7493,        0.0,1,      0.137,1,      4.614,1,      0.223,1,      25.03,     -999.0,9,     -999.0,9,     -999.0,9,     -999.0,9,    17.0959,2,     -999.0,9
320620170703,        P06,     110,          1,         36,         36,2,20170801,       0200,   -32.4997,  -170.7493,       5722,     4.2,  17.0859,  35.6069,2,  35.6019,2, 236.1543,2, 236.0807,2,     0.1,2,    0.17,2,    0.03,2,    0.12,2,   2.255,2,   1.298,2,   1.4290,2,  2070.7,6, 2333.03,2,   7.9713,2, -999.00,9, -999.00,9, -999.00,    59.6,2,    4.00,2,     -999.0,1,  -999.0,9, 20170801,      200, -32.4997,-170.7493,        0.0,1,      0.099,1,      4.614,1,      0.213,1,      25.04,     -999.0,9,     -999.0,9,     -999.0,9,     -999.0,9,    17.2114,2,     -999.0,9