BOTTLE,20230922CCHSIOCBG
EXPOCODE,SECT_ID,STNNBR,CASTNO,SAMPNO,BTLNBR,BTLNBR_FLAG_W,DATE,TIME,LATITUDE,LONGITUDE,DEPTH,CTDPRS,CTDTMP,CTDSAL,CTDSAL_FLAG_W,SALNTY,SALNTY_FLAG_W,CTDOXY,CTDOXY_FLAG_W,OXYGEN,OXYGEN_FLAG_W,SILCAT,SILCAT_FLAG_W,NITRAT,NITRAT_FLAG_W,NITRIT,NITRIT_FLAG_W,PHSPHT,PHSPHT_FLAG_W,CFC-11,CFC-11_FLAG_W,CFC-12,CFC-12_FLAG_W,SF6,SF6_FLAG_W,TCARBN,TCARBN_FLAG_W,ALKALI,ALKALI_FLAG_W,PH_TOT,PH_TOT_FLAG_W,DELC13,DELC13_FLAG_W,DELC14,DELC14_FLAG_W,C14ERR,DOC,DOC_FLAG_W,TDN,TDN_FLAG_W,TON,TON_FLAG_W,D15N_NO3,D15N_NO3_FLAG_W,BTL_DATE,BTL_TIME,BTL_LAT,BTL_LON,CTDRINKO,CTDRINKO_FLAG_W,CTDFLUOR,CTDFLUOR_FLAG_W,CTDXMISS,CTDXMISS_FLAG_W,CTDBACKSCATTER,CTDBACKSCATTER_FLAG_W,PH_TMP,D18O_NO3,D18O_NO3_FLAG_W,DOP,DOP_FLAG_W,HPLC,HPLC_FLAG_W,POC,POC_FLAG_W,REFTMP,REFTMP_FLAG_W,TDP,TDP_FLAG_W
,,,,,,,,,,,METERS,DBAR,ITS-90,PSS-78,,PSS-78,,UMOL/KG,,UMOL/KG,,UMOL/KG,,UMOL/KG,,UMOL/KG,,UMOL/KG,,PMOL/KG,,PMOL/KG,,FMOL/KG,,UMOL/KG,,UMOL/KG,,,,/MILLE,,/MILLE,,/MILLE,UMOL/KG,,UMOL/KG,,UMOL/KG,,/MILLE,,,,,,VOLTS,,VOLTS,,VOLTS,,VOLTS,,DEGC,/MILLE,,UMOL/KG,,,,UG/L,,ITS-90,,UMOL/KG,
320620170703,        P06,      10,          1,          1,         37,2,20170706,       0822,   -30.0801,   154.1603,       4606,  4679.2,   1.2079,  34.7130,2,  34.7099,3, 196.1480,2, 195.9798,2,   118.8,2,   32.55,2,    0.00,2,    2.29,2,   0.061,2,   0.053,2,   0.0000,4,  2279.8,6, 2294.51,3,   7.6153,2, -999.00,9, -999.00,9, -999.00,    40.6,2, -999.00,9,     -999.0,1,  -999.0,9, 20170706,      603, -30.0801, 154.1602,        0.0,1,      0.056,1,      4.667,1,      0.667,1,      24.98,     -999.0,9,     -999.0,9,     -999.0,9,     -999.0,9,     1.2083,2,     -999.0,9
320620170703,        P06,      10,          1,          2,          2,2,20170706,       0822,   -30.0801,   154.1603,       4606,  4579.4,   1.1960,  34.7131,2,  34.7093,3, 196.1480,2, 196.5379,2,   118.7,2,   32.57,2,    0.00,2,    2.24,2,   0.069,2,   0.058,2,   0.0000,4,  2278.9,2, 2384.41,2,   7.6163,2, -999.00,9, -999.00,9, -999.00,    39.2,2, -999.00,9,     -999.0,1,  -999.0,9, 20170706,      608, -30.0801, 154.1602,        0.0,1,      0.057,1,      4.671,1,      0.666,1,      24.98,     -999.0,9,     -999.0,9,     -999.0,9,     -999.0,9,     1.1962,2,     -999.0,9
320620170703,        P06,      10,          1,          3,         38,2,20170706,       0822,   -30.0801,   154.1603,       4606,  4477.1,   1.1863,  34.7134,2,-999.0000,9, 227.3150,4,-999.0000,9,  -999.0,9, -999.00,9, -999.00,9, -999.00,9,-999.000,9,-999.000,9,-999.0000,9,  -999.0,9, -999.00,9,-999.0000,9, -999.00,9, -999.00,9, -999.00,  -999.0,9, -999.00,9,     -999.0,9,  -999.0,9, 20170706,      612, -30.0801, 154.1602,        0.0,1,      0.058,1,      4.681,1,      0.667,1,     -999.0,     -999.0,9,     -999.0,9,     -999.0,9,     -999.0,9,     1.1859,2,     -999.0,9
320620170703,        P06,      10,          1,          4,          4,2,20170706,       0822,   -30.0801,   154.1603,       4606,  4320.5,   1.1772,  34.7136,2,-999.0000,9, 225.0309,4,-999.0000,9,  -999.0,9, -999.00,9, -999.00,9, -999.00,9,-999.000,9,-999.000,9,-999.0000,9,  -999.0,9, -999.00,9,-999.0000,9, -999.00,9, -999.00,9, -999.00,  -999.0,9, -999.00,9,     -999.0,9,  -999.0,9, 20170706,      617, -30.0801, 154.1602,        0.0,1,      0.057,1,      4.693,1,      0.664,1,     -999.0,     -999.0,9,     -999.0,9,     -999.0,9,     -999.0,9,     1.1778,2,     -999.0,9
320620170703,        P06,      10,          1,          5,         39,2,20170706,       0822,   -30.0801,   154.1603,       4606,  4193.7,   1.1814,  34.7142,2,  34.7103,3, 196.1480,2, 196.1733,2,   117.9,2,   32.48,2,    0.00,2,    2.26,2,   0.056,2,   0.053,2,   0.0000,4,  2277.8,2, 2379.11,2,   7.6150,2, -999.00,9, -999.00,9, -999.00,    41.7,2, -999.00,9,     -999.0,1,  -999.0,9, 20170706,      621, -30.0800, 154.1600,        0.0,1,      0.057,1,      4.701,1,      0.664,1,      24.98,     -999.0,9,     -999.0,9,     -999.0,9,     -999.0,9,     1.1820,2,     -999.0,9
320620170703,        P06,      10,          1,          6,          6,2,20170706,       0822,   -30.0801,   154.1603,       4606,  4066.1,   1.1826,  34.7146,2,  34.7111,3, 196.1480,2, 196.1734,2,   117.4,2,   32.46,2,    0.00,2,    2.25,2,   0.053,2,   0.051,2,   0.0000,4,  -999.0,9, -999.00,9,-999.0000,9, -999.00,9, -999.00,9, -999.00,  -999.0,9, -999.00,9,     -999.0,9,  -999.0,9, 20170706,      625, -30.0800, 154.1599,        0.0,1,      0.057,1,      4.703,1,      0.663,1,     -999.0,     -999.0,9,     -999.0,9,     -999.0,9,     -999.0,9,     1.1861,2,     -999.0,9
320620170703,        P06,      10,          1,          7,         40,2,20170706,       0822,   -30.0801,   154.1603,       4606,  3858.8,   1.1982,  34.7156,2,  34.7113,3, 195.6482,2, 195.5736,2,   116.4,2,   32.42,2,    0.00,2,    2.25,2,   0.047,2,   0.051,2,   0.0000,4,  2277.2,2, 2378.03,2,   7.6145,2, -999.00,9, -999.00,9, -999.00,  -999.0,9, -999.00,9,     -999.0,9,  -999.0,9, 20170706,      631, -30.0799, 154.1598,        0.0,1,      0.057,1,      4.706,1,      0.661,1,      24.98,     -999.0,9,     -999.0,9,     -999.0,9,     -999.0,9,     1.2012,2,     -999.0,9
320620170703,        P06,      10,          1,          8,          8,2,20170706,       0822,   -30.0801,   154.1603,       4606,  3552.6,   1.2568,  34.7176,2,  34.7134,3, 195.1899,2, 194.9196,2,   114.2,2,   32.34,2,    0.00,2,    2.23,2,   0.042,2,   0.054,2,   0.0000,4,  -999.0,9, -999.00,9,-999.0000,9, -999.00,9, -999.00,9, -999.00,    39.9,2, -999.00,9,     -999.0,1,  -999.0,9, 20170706,      640, -30.0798, 154.1595,        0.0,1,      0.055,1,      4.708,1,      0.658,1,     -999.0,     -999.0,9,     -999.0,9,     -999.0,9,     -999.0,9,     1.2629,2,     -999.0,9
320620170703,        P06,      10,          1,          9,         41,2,20170706,       0822,   -30.0801,   154.1603,       4606,  3246.3,   1.3751,  34.7205,2,  34.7166,3, 192.8376,2, 192.8814,2,   110.5,2,   32.20,2,    0.00,2,    2.22,2,   0.036,2,   0.050,2,   0.0000,4,  2272.3,2, 2371.59,2,   7.6110,2, -999.00,9, -999.00,9, -999.00,  -999.0,9, -999.00,9,     -999.0,9,  -999.0,9, 20170706,      647, -30.0799, 154.1594,        0.0,1,      0.058,1,      4.709,1,      0.655,1,      24.98,     -999.0,9,     -999.0,9,     -999.0,9,     -999.0,9,     1.3789,2,     -999.0,9
320620170703,        P06,      10,          1,         10,         10,2,20170706,       0822,   -30.0801,   154.1603,       4606,  2953.4,   1.5535,  34.7229,2,  34.7170,2, 189.2154,2, 189.4684,2,   105.6,2,   32.05,2,    0.00,2,    2.21,2,   0.038,2,   0.056,2,   0.0000,4,  -999.0,9, -999.00,9,-999.0000,9, -999.00,9, -999.00,9, -999.00,  -999.0,9, -999.00,9,     -999.0,9,  -999.0,9, 20170706,      655, -30.0799, 154.1595,        0.0,1,      0.056,1,      4.708,1,      0.653,1,     -999.0,     -999.0,9,     -999.0,9,     -999.0,9,     -999.0,9,     1.5776,2,     -999.0,9
320620170703,        P06,      10,          1,         11,         42,2,20170706,       0822,   -30.0801,   154.1603,       4606,  2700.6,   1.7463,  34.7204,2,  34.7160,2, 185.3406,2, 185.3956,2,    30.2,4,   28.44,4,    0.00,4,    1.94,4,   0.037,2,   0.051,2,   0.0000,4,  2267.8,2, 2357.57,2,   7.6025,2, -999.00,9, -999.00,9, -999.00,    40.8,2, -999.00,9,     -999.0,1,  -999.0,9, 20170706,      701, -30.0800, 154.1597,        0.0,1,      0.057,1,      4.709,1,      0.650,1,      24.99,     -999.0,9,     -999.0,9,     -999.0,9,     -999.0,9,     1.7558,2,     -999.0,9
320620170703,        P06,      10,          1,         12,         12,2,20170706,       0822,   -30.0801,   154.1603,       4606,  2444.0,   1.9493,  34.7102,2,  34.7060,2, 180.1739,2, 179.8890,2,    97.3,2,   32.34,2,    0.00,2,    2.24,2,   0.041,2,   0.068,2,   0.0000,4,  -999.0,9, -999.00,9,-999.0000,9, -999.00,9, -999.00,9, -999.00,  -999.0,9, -999.00,9,     -999.0,9,  -999.0,9, 20170706,      707, -30.0800, 154.1599,        0.0,1,      0.057,1,      4.709,1,      0.647,1,     -999.0,     -999.0,9,     -999.0,9,     -999.0,9,     -999.0,9,     1.9514,2,     -999.0,9
320620170703,        P06,      10,          1,         13,         43,2,20170706,       0822,   -30.0801,   154.1603,       4606,  2191.2,   2.1310,  34.6925,2,  34.6853,2, 173.8803,2, 174.0725,2,    94.5,2,   32.78,2,    0.00,2,    2.28,2,   0.045,2,   0.066,2,   0.0000,4,  2269.3,2, 2358.96,2,   7.5877,2, -999.00,9, -999.00,9, -999.00,    41.4,2, -999.00,9,     -999.0,1,  -999.0,9, 20170706,      714, -30.0801, 154.1602,        0.0,1,      0.056,1,      4.709,1,      0.643,1,      24.98,     -999.0,9,     -999.0,9,     -999.0,9,     -999.0,9,     2.1377,2,     -999.0,9
320620170703,        P06,      10,          1,         14,         14,2,20170706,       0822,   -30.0801,   154.1603,       4606,  1958.4,   2.3092,  34.6663,2,  34.6590,2, 165.5217,2, 164.6402,2,    96.0,2,   33.63,2,    0.00,2,    2.34,2,   0.041,2,   0.056,2,   0.0000,4,  2275.9,2, 2364.03,2,   7.5782,2, -999.00,9, -999.00,9, -999.00,  -999.0,9, -999.00,9,     -999.0,9,  -999.0,9, 20170706,      719, -30.0801, 154.1602,        0.0,1,      0.057,1,      4.708,1,      0.641,1,      25.00,     -999.0,9,     -999.0,9,     -999.0,9,     -999.0,9,     2.3177,2,     -999.0,9
320620170703,        P06,      10,          1,         15,         15,2,20170706,       0822,   -30.0801,   154.1603,       4606,  1756.1,   2.5237,  34.6365,2,  34.6299,2, 158.8362,2, 158.7465,2,    94.4,2,   34.23,2,    0.00,2,    2.38,2,   0.048,2,   0.065,2,   0.0000,4,  2279.3,2, 2364.03,2,   7.5718,2, -999.00,9, -999.00,9, -999.00,    40.8,2, -999.00,9,     -999.0,1,  -999.0,9, 20170706,      724, -30.0800, 154.1601,        0.0,1,      0.056,1,      4.709,1,      0.637,1,      24.97,     -999.0,9,     -999.0,9,     -999.0,9,     -999.0,9,     2.5326,2,     -999.0,9
320620170703,        P06,      10,          1,         16,         16,2,20170706,       0822,   -30.0801,   154.1603,       4606,  1552.9,   2.8757,  34.5970,2,  34.5879,2, 152.3861,2, 152.5134,2,    92.1,2,   34.65,2,    0.00,2,    2.41,2,   0.061,2,   0.087,2,   0.0000,4,  -999.0,9, -999.00,9,-999.0000,9, -999.00,9, -999.00,9, -999.00,  -999.0,9, -999.00,9,     -999.0,9,  -999.0,9, 20170706,      729, -30.0800, 154.1600,        0.0,1,      0.058,1,      4.708,1,      0.632,1,     -999.0,     -999.0,9,     -999.0,9,     -999.0,9,     -999.0,9,     2.9118,2,     -999.0,9
320620170703,        P06,      10,          1,         17,         17,2,20170706,       0822,   -30.0801,   154.1603,       4606,  1350.8,   3.4144,  34.5474,2,  34.5433,2, 155.9361,2, 157.4358,2,    81.0,2,   34.05,2,    0.00,2,    2.37,2,   0.109,2,   0.110,2,   0.4170,4,  2264.9,6, 2364.42,3,   7.5785,2, -999.00,9, -999.00,9, -999.00,    36.6,3, -999.00,9,     -999.0,1,  -999.0,9, 20170706,      734, -30.0800, 154.1599,        0.0,1,      0.057,1,      4.709,1,      0.627,1,      24.98,     -999.0,9,     -999.0,9,     -999.0,9,     -999.0,9,     3.3959,2,     -999.0,9
320620170703,        P06,      10,          1,         18,         18,2,20170706,       0822,   -30.0801,   154.1603,       4606,  1176.1,   4.1173,  34.4921,2,  34.4879,2, 168.2988,2, 167.8716,2,    62.1,2,   32.58,2,    0.00,2,    2.26,2,   0.292,2,   0.209,2,   0.3760,4,  -999.0,9, -999.00,9,-999.0000,9, -999.00,9, -999.00,9, -999.00,  -999.0,9, -999.00,9,     -999.0,9,  -999.0,9, 20170706,      738, -30.0800, 154.1599,        0.0,1,      0.056,1,      4.708,1,      0.624,1,     -999.0,     -999.0,9,     -999.0,9,     -999.0,9,     -999.0,9,     4.0921,2,     -999.0,9
320620170703,        P06,      10,          1,         19,         19,2,20170706,       0822,   -30.0801,   154.1603,       4606,  1076.2,   4.6286,  34.4653,2,  34.4644,2, 174.0554,2, 174.4587,2,    52.2,2,   31.64,2,    0.00,2,    2.18,2,   0.481,2,   0.293,2,   0.4440,2,  2223.6,2, 2317.63,2,   7.6083,2, -999.00,9, -999.00,9, -999.00,    38.7,2, -999.00,9,     -999.0,1,  -999.0,9, 20170706,      741, -30.0800, 154.1599,        0.0,1,      0.056,1,      4.708,1,      0.623,1,      25.02,     -999.0,9,     -999.0,9,     -999.0,9,     -999.0,9,     4.5109,2,     -999.0,9
320620170703,        P06,      10,          1,         20,         20,2,20170706,       0822,   -30.0801,   154.1603,       4606,   974.4,   5.3651,  34.4519,2,  34.4487,2, 182.5796,2, 181.9222,2,    41.7,2,   30.15,2,    0.00,2,    2.08,2,   0.708,2,   0.402,2,   0.4410,2,  -999.0,9, -999.00,9,-999.0000,9, -999.00,9, -999.00,9, -999.00,    41.0,2, -999.00,9,     -999.0,1,  -999.0,9, 20170706,      744, -30.0800, 154.1600,        0.0,1,      0.057,1,      4.708,1,      0.619,1,     -999.0,     -999.0,9,     -999.0,9,     -999.0,9,     -999.0,9,     5.0635,2,     -999.0,9
320620170703,        P06,      10,          1,         21,         21,2,20170706,       0822,   -30.0801,   154.1603,       4606,   874.2,   5.9479,  34.4484,2,  34.4410,2, 188.8608,2, 189.2716,2,    29.9,2,   28.41,2,    0.00,2,    1.94,2,   1.017,2,   0.575,2,   0.5250,2,  2191.1,2, 2297.43,2,   7.6440,2, -999.00,9, -999.00,9, -999.00,    40.1,2, -999.00,9,     -999.0,1,  -999.0,9, 20170706,      748, -30.0800, 154.1600,        0.0,1,      0.057,1,      4.704,1,      0.617,1,      25.00,     -999.0,9,     -999.0,9,     -999.0,9,     -999.0,9,     5.8071,2,     -999.0,9
320620170703,        P06,      10,          1,         22,         22,2,20170706,       0822,   -30.0801,   154.1603,       4606,   773.2,   6.8211,  34.4752,2,  34.4614,2, 198.5488,2, 198.1929,2,    20.8,2,   26.05,2,    0.00,2,    1.76,2,   1.513,2,   0.824,2,   0.4680,2,  -999.0,9, -999.00,9,-999.0000,9, -999.00,9, -999.00,9, -999.00,    41.7,2, -999.00,9,     -999.0,1,  -999.0,9, 20170706,      751, -30.0800, 154.1601,        0.0,1,      0.057,1,      4.707,1,      0.616,1,     -999.0,     -999.0,9,     -999.0,9,     -999.0,9,     -999.0,9,     6.6339,2,     -999.0,9
320620170703,        P06,      10,          1,         23,         23,2,20170706,       0822,   -30.0801,   154.1603,       4606,   670.5,   7.5953,  34.5249,2,  34.5195,2, 200.5200,2, 200.3048,2,    14.3,2,   23.79,2,    0.00,2,    1.59,2,   1.959,2,   1.069,2,   0.5980,2,  2164.4,2, 2292.33,2,   7.6898,2, -999.00,9, -999.00,9, -999.00,    43.2,2, -999.00,9,     -999.0,1,  -999.0,9, 20170706,      754, -30.0801, 154.1602,        0.0,1,      0.058,1,      4.704,1,      0.615,1,      25.01,     -999.0,9,     -999.0,9,     -999.0,9,     -999.0,9,     7.5898,2,     -999.0,9
320620170703,        P06,      10,          1,         24,         24,2,20170706,       0822,   -30.0801,   154.1603,       4606,   570.3,   8.7169,  34.6297,2,  34.6284,2, 199.7728,2, 199.8386,2,     9.9,2,   21.11,2,    0.00,2,    1.43,2,   2.330,2,   1.286,2,   0.7880,2,  -999.0,9, -999.00,9,-999.0000,9, -999.00,9, -999.00,9, -999.00,    45.9,2, -999.00,9,     -999.0,1,  -999.0,9, 20170706,      757, -30.0801, 154.1603,        0.0,1,      0.056,1,      4.703,1,      0.615,1,     -999.0,     -999.0,9,     -999.0,9,     -999.0,9,     -999.0,9,     8.7904,2,     -999.0,9
320620170703,        P06,      10,          1,         25,         25,2,20170706,       0822,   -30.0801,   154.1603,       4606,   469.3,   9.9708,  34.7673,2,  34.7675,2, 197.4319,2, 197.2847,2,     7.3,2,   18.44,2,    0.00,2,    1.24,2,   2.524,2,   1.400,2,   0.8990,2,  2146.8,2, 2289.53,2,   7.7413,2, -999.00,9, -999.00,9, -999.00,    45.3,2,   20.80,2,     -999.0,1,  -999.0,9, 20170706,      759, -30.0801, 154.1603,        0.0,1,      0.058,1,      4.700,1,      0.616,1,      25.01,     -999.0,9,     -999.0,9,     -999.0,9,     -999.0,9,    10.0658,2,     -999.0,9
320620170703,        P06,      10,          1,         26,         26,2,20170706,       0822,   -30.0801,   154.1603,       4606,   369.2,  11.8376,  34.9736,2,  34.9756,2, 188.9771,2, 190.3922,2,     5.1,2,   14.96,2,    0.00,2,    1.03,2,   2.534,2,   1.428,2,   0.9400,2,  -999.0,9, -999.00,9,-999.0000,9, -999.00,9, -999.00,9, -999.00,    45.0,2,   16.80,2,     -999.0,1,  -999.0,9, 20170706,      802, -30.0801, 154.1603,        0.0,1,      0.055,1,      4.698,1,      0.622,1,     -999.0,     -999.0,9,     -999.0,9,     -999.0,9,     -999.0,9,    11.9641,2,     -999.0,9
320620170703,        P06,      10,          1,         27,         27,2,20170706,       0822,   -30.0801,   154.1603,       4606,   267.2,  14.5488,  35.2428,2,  35.2243,2, 184.3668,2, 190.8139,3,     3.3,2,   11.12,2,    0.00,2,    0.78,2,   2.387,2,   1.402,2,   0.9950,2,  2119.8,2, 2309.71,2,   7.8378,2, -999.00,9, -999.00,9, -999.00,    43.8,2,   12.90,2,     -999.0,1,  -999.0,9, 20170706,      805, -30.0801, 154.1603,        0.0,1,      0.056,1,      4.695,1,      0.633,1,      24.96,     -999.0,9,     -999.0,9,     -999.0,9,     -999.0,9,    14.5232,2,     -999.0,9
320620170703,        P06,      10,          1,         28,         28,2,20170706,       0822,   -30.0801,   154.1603,       4606,   238.2,  15.3939,  35.3064,2,  35.2830,2, 180.5569,2, 178.7558,2,     3.0,2,   10.28,2,    0.00,2,    0.73,2,   2.428,2,   1.371,2,   1.0000,2,  -999.0,9, -999.00,9,-999.0000,9, -999.00,9, -999.00,9, -999.00,    49.5,2,   11.70,2,     -999.0,1,  -999.0,9, 20170706,      807, -30.0801, 154.1603,        0.0,1,      0.056,1,      4.693,1,      0.638,1,     -999.0,     -999.0,9,     -999.0,9,     -999.0,9,     -999.0,9,    15.2967,2,     -999.0,9
320620170703,        P06,      10,          1,         29,         29,2,20170706,       0822,   -30.0801,   154.1603,       4606,   188.7,  16.6922,  35.4446,2,  35.4580,2, 183.9690,2, 183.1689,2,     1.8,2,    7.56,2,    0.00,2,    0.57,2,   2.328,2,   1.380,2,   1.1010,2,  2101.4,2, 2320.20,2,   7.8966,2, -999.00,9, -999.00,9, -999.00,    51.5,2,    9.90,2,     -999.0,1,  -999.0,9, 20170706,      809, -30.0801, 154.1603,        0.0,1,      0.057,1,      4.696,1,      0.650,1,      24.99,     -999.0,9,     -999.0,9,     -999.0,9,     -999.0,9,    16.9286,2,     -999.0,9
320620170703,        P06,      10,          1,         30,         30,2,20170706,       0822,   -30.0801,   154.1603,       4606,   134.7,  18.0834,  35.5748,2,  35.5950,2, 182.4254,2, 183.9895,2,     1.1,2,    5.62,2,    0.02,2,    0.43,2,   2.192,2,   1.323,2,   1.1230,2,  -999.0,9, -999.00,9,-999.0000,9, -999.00,9, -999.00,9, -999.00,    50.5,2,    8.50,2,     -999.0,1,  -999.0,9, 20170706,      812, -30.0801, 154.1603,        0.0,1,      0.057,1,      4.686,1,      0.667,1,     -999.0,     -999.0,9,     -999.0,9,     -999.0,9,     -999.0,9,    18.4557,2,     -999.0,9
320620170703,        P06,      10,          1,         31,         31,2,20170706,       0822,   -30.0801,   154.1603,       4606,    91.4,  20.4048,  35.7056,2,  35.6992,2, 183.6268,2, 185.0170,2,     0.6,2,    4.08,2,    0.02,2,    0.33,2,   2.105,2,   1.272,2,   1.0460,2,  2077.6,2, 2335.05,2,   7.9629,2, -999.00,9, -999.00,9, -999.00,    54.4,2,    7.10,2,     -999.0,1,  -999.0,9, 20170706,      814, -30.0801, 154.1603,        0.0,1,      0.056,1,      4.680,1,      0.685,1,      25.01,     -999.0,9,     -999.0,9,     -999.0,9,     -999.0,9,    19.9232,2,     -999.0,9
320620170703,        P06,      10,          1,         32,         32,2,20170706,       0822,   -30.0801,   154.1603,       4606,    75.9,  21.1145,  35.6973,2,  35.7191,2, 187.4976,2, 188.3753,2,     0.4,2,    3.12,2,    0.06,2,    0.28,2,   2.051,2,   1.239,2,   1.1180,2,  -999.0,9, -999.00,9,-999.0000,9, -999.00,9, -999.00,9, -999.00,    55.8,2,    7.70,2,     -999.0,1,  -999.0,9, 20170706,      815, -30.0801, 154.1603,        0.0,1,      0.057,1,      4.635,1,      0.702,1,     -999.0,     -999.0,9,     -999.0,9,     -999.0,9,     -999.0,9,    20.7297,2,     -999.0,9