BOTTLE,20230922CCHSIOCBG
EXPOCODE,SECT_ID,STNNBR,CASTNO,SAMPNO,BTLNBR,BTLNBR_FLAG_W,DATE,TIME,LATITUDE,LONGITUDE,DEPTH,CTDPRS,CTDTMP,CTDSAL,CTDSAL_FLAG_W,SALNTY,SALNTY_FLAG_W,CTDOXY,CTDOXY_FLAG_W,OXYGEN,OXYGEN_FLAG_W,SILCAT,SILCAT_FLAG_W,NITRAT,NITRAT_FLAG_W,NITRIT,NITRIT_FLAG_W,PHSPHT,PHSPHT_FLAG_W,CFC-11,CFC-11_FLAG_W,CFC-12,CFC-12_FLAG_W,SF6,SF6_FLAG_W,TCARBN,TCARBN_FLAG_W,ALKALI,ALKALI_FLAG_W,PH_TOT,PH_TOT_FLAG_W,DELC13,DELC13_FLAG_W,DELC14,DELC14_FLAG_W,C14ERR,DOC,DOC_FLAG_W,TDN,TDN_FLAG_W,TON,TON_FLAG_W,D15N_NO3,D15N_NO3_FLAG_W,BTL_DATE,BTL_TIME,BTL_LAT,BTL_LON,CTDRINKO,CTDRINKO_FLAG_W,CTDFLUOR,CTDFLUOR_FLAG_W,CTDXMISS,CTDXMISS_FLAG_W,CTDBACKSCATTER,CTDBACKSCATTER_FLAG_W,PH_TMP,D18O_NO3,D18O_NO3_FLAG_W,DOP,DOP_FLAG_W,HPLC,HPLC_FLAG_W,POC,POC_FLAG_W,REFTMP,REFTMP_FLAG_W,TDP,TDP_FLAG_W
,,,,,,,,,,,METERS,DBAR,ITS-90,PSS-78,,PSS-78,,UMOL/KG,,UMOL/KG,,UMOL/KG,,UMOL/KG,,UMOL/KG,,UMOL/KG,,PMOL/KG,,PMOL/KG,,FMOL/KG,,UMOL/KG,,UMOL/KG,,,,/MILLE,,/MILLE,,/MILLE,UMOL/KG,,UMOL/KG,,UMOL/KG,,/MILLE,,,,,,VOLTS,,VOLTS,,VOLTS,,VOLTS,,DEGC,/MILLE,,UMOL/KG,,,,UG/L,,ITS-90,,UMOL/KG,
320620170703,        P06,     115,          1,          1,          1,2,20170802,       1503,   -32.5003,  -167.7931,       5519,  5621.5,   1.1296,  34.7085,2,  34.7093,2, 206.0037,2, 206.8015,2,   121.9,2,   31.99,2,    0.00,2,    2.21,2,   0.137,6,   0.076,6,   0.0000,6,  2263.6,6, 2365.51,2,   7.6067,2, -999.00,9, -999.00,9, -999.00,  -999.0,9, -999.00,9,     -999.0,9,  -999.0,1, 20170802,     1244, -32.4998,-167.7939,        0.0,1,      0.061,1,      4.696,1,      0.128,1,      25.02,     -999.0,1,     -999.0,9,     -999.0,9,     -999.0,9,     1.1299,2,     -999.0,9
320620170703,        P06,     115,          1,          2,          2,2,20170802,       1503,   -32.5003,  -167.7931,       5519,  5352.9,   1.0948,  34.7088,2,  34.7087,2, 206.0037,2, 206.4879,2,   122.0,2,   31.99,2,    0.00,2,    2.21,2,   0.134,2,   0.078,2,   0.0000,2,  2262.8,2, 2361.26,2,   7.6057,2, -999.00,9, -999.00,9, -999.00,  -999.0,9, -999.00,9,     -999.0,9,  -999.0,1, 20170802,     1251, -32.5000,-167.7936,        0.0,1,      0.061,1,      4.696,1,      0.129,1,      25.01,     -999.0,1,     -999.0,9,     -999.0,9,     -999.0,9,     1.0951,2,     -999.0,9
320620170703,        P06,     115,          1,          3,          3,2,20170802,       1503,   -32.5003,  -167.7931,       5519,  5131.1,   1.0702,  34.7089,2,  34.7083,2, 206.0037,2, 206.2805,2,   121.9,2,   31.96,2,    0.00,2,    2.21,2,   0.135,2,   0.080,2,   0.0000,2,  2260.2,2, 2363.01,6,   7.6064,2, -999.00,9, -999.00,9, -999.00,  -999.0,9, -999.00,9,     -999.0,9,  -999.0,1, 20170802,     1256, -32.5000,-167.7935,        0.0,1,      0.060,1,      4.698,1,      0.143,1,      25.01,     -999.0,1,     -999.0,9,     -999.0,9,     -999.0,9,     1.0708,2,     -999.0,9
320620170703,        P06,     115,          1,          4,          4,2,20170802,       1503,   -32.5003,  -167.7931,       5519,  4744.8,   1.0684,  34.7106,2,  34.7109,2, 206.3772,2, 205.7534,2,   120.6,2,   31.91,2,    0.00,2,    2.21,2,-999.000,9,-999.000,9,-999.0000,9,  -999.0,9, -999.00,9,-999.0000,9, -999.00,9, -999.00,9, -999.00,  -999.0,9, -999.00,9,     -999.0,9,  -999.0,1, 20170802,     1304, -32.5001,-167.7934,        0.0,1,      0.061,1,      4.700,1,      0.127,1,     -999.0,     -999.0,1,     -999.0,9,     -999.0,9,     -999.0,9,     1.0688,2,     -999.0,9
320620170703,        P06,     115,          1,          5,          5,2,20170802,       1503,   -32.5003,  -167.7931,       5519,  4375.1,   1.1775,  34.7154,2,  34.7146,2, 204.9886,2, 204.2870,2,   116.8,2,   31.80,2,    0.00,2,    2.20,2,   0.086,2,   0.056,2,   0.0000,2,  2258.7,2, 2361.54,2,   7.6066,2, -999.00,9, -999.00,9, -999.00,  -999.0,9, -999.00,9,     -999.0,9,  -999.0,1, 20170802,     1311, -32.5001,-167.7934,        0.0,1,      0.061,1,      4.700,1,      0.125,1,      25.05,     -999.0,1,     -999.0,9,     -999.0,9,     -999.0,9,     1.1649,2,     -999.0,9
320620170703,        P06,     115,          1,          6,          6,2,20170802,       1503,   -32.5003,  -167.7931,       5519,  4066.3,   1.3622,  34.7190,2,  34.7188,2, 198.9108,2, 198.8850,2,   112.6,2,   31.75,2,    0.00,2,    2.20,2,-999.000,9,-999.000,9,-999.0000,9,  -999.0,9, -999.00,9,-999.0000,9, -999.00,9, -999.00,9, -999.00,  -999.0,9, -999.00,9,     -999.0,9,  -999.0,1, 20170802,     1317, -32.5000,-167.7935,        0.0,1,      0.061,1,      4.700,1,      0.127,1,     -999.0,     -999.0,1,     -999.0,9,     -999.0,9,     -999.0,9,     1.3321,2,     -999.0,9
320620170703,        P06,     115,          1,          7,          7,2,20170802,       1503,   -32.5003,  -167.7931,       5519,  3759.4,   1.5439,  34.7116,2,  34.7136,2, 188.6201,2, 188.7027,2,   113.2,2,   32.39,2,    0.00,2,    2.25,2,   0.049,2,   0.038,2,   0.0000,2,  2268.7,2, 2726.46,4,   7.5993,2, -999.00,9, -999.00,9, -999.00,  -999.0,9, -999.00,9,     -999.0,9,  -999.0,1, 20170802,     1323, -32.5003,-167.7932,        0.0,1,      0.061,1,      4.700,1,      0.127,1,      25.02,     -999.0,1,     -999.0,9,     -999.0,9,     -999.0,9,     1.5180,2,     -999.0,9
320620170703,        P06,     115,          1,          8,          8,2,20170802,       1503,   -32.5003,  -167.7931,       5519,  3451.7,   1.6753,  34.6920,2,  34.6946,2, 171.3257,2, 169.7863,2,   121.7,2,   33.89,2,    0.00,2,    2.36,2,-999.000,9,-999.000,9,-999.0000,9,  -999.0,9, -999.00,9,-999.0000,9, -999.00,9, -999.00,9, -999.00,  -999.0,9, -999.00,9,     -999.0,9,  -999.0,1, 20170802,     1330, -32.5004,-167.7932,        0.0,1,      0.061,1,      4.700,1,      0.127,1,     -999.0,     -999.0,1,     -999.0,9,     -999.0,9,     -999.0,9,     1.6586,2,     -999.0,9
320620170703,        P06,     115,          1,          9,          9,2,20170802,       1503,   -32.5003,  -167.7931,       5519,  3145.3,   1.7865,  34.6734,2,  34.6761,2, 156.3739,2, 155.8192,2,   129.1,2,   35.24,2,    0.00,2,    2.46,2,   0.024,2,   0.024,2,   0.0000,2,  2309.1,2, 2400.61,2,   7.5729,2, -999.00,9, -999.00,9, -999.00,  -999.0,9, -999.00,9,     -999.0,9,  -999.0,1, 20170802,     1336, -32.5005,-167.7932,        0.0,1,      0.061,1,      4.701,1,      0.129,1,      25.04,     -999.0,1,     -999.0,9,     -999.0,9,     -999.0,9,     1.7618,2,     -999.0,9
320620170703,        P06,     115,          1,         10,         10,2,20170802,       1503,   -32.5003,  -167.7931,       5519,  2874.2,   1.8796,  34.6631,2,  34.6645,2, 149.9347,2, 149.2122,2,   129.8,2,   35.76,2,    0.00,2,    2.50,2,-999.000,9,-999.000,9,-999.0000,9,  -999.0,9, -999.00,9,-999.0000,9, -999.00,9, -999.00,9, -999.00,  -999.0,9, -999.00,9,     -999.0,9,  -999.0,1, 20170802,     1342, -32.5006,-167.7933,        0.0,1,      0.062,1,      4.701,1,      0.131,1,     -999.0,     -999.0,1,     -999.0,9,     -999.0,9,     -999.0,9,     1.8559,2,     -999.0,9
320620170703,        P06,     115,          1,         11,         11,2,20170802,       1503,   -32.5003,  -167.7931,       5519,  2618.9,   1.9645,  34.6550,2,  34.6561,2, 147.3193,2, 147.4507,2,   126.5,2,   35.80,2,    0.00,2,    2.50,2,   0.024,2,   0.023,2,   0.0000,2,  2311.8,6, 2396.75,2,   7.5653,2, -999.00,9, -999.00,9, -999.00,  -999.0,9, -999.00,9,     -999.0,9,  -999.0,1, 20170802,     1347, -32.5006,-167.7933,        0.0,1,      0.061,1,      4.701,1,      0.131,1,      25.01,     -999.0,1,     -999.0,9,     -999.0,9,     -999.0,9,     1.9538,2,     -999.0,9
320620170703,        P06,     115,          1,         12,         12,2,20170802,       1503,   -32.5003,  -167.7931,       5519,  2363.2,   2.0745,  34.6451,2,  34.6458,2, 146.5216,2, 147.6063,2,   122.0,2,   35.78,2,    0.00,2,    2.50,2,-999.000,9,-999.000,9,-999.0000,9,  -999.0,9, -999.00,9,-999.0000,9, -999.00,9, -999.00,9, -999.00,  -999.0,9, -999.00,9,     -999.0,9,  -999.0,1, 20170802,     1353, -32.5006,-167.7933,        0.0,1,      0.061,1,      4.701,1,      0.132,1,     -999.0,     -999.0,1,     -999.0,9,     -999.0,9,     -999.0,9,     2.0616,2,     -999.0,9
320620170703,        P06,     115,          1,         13,         13,2,20170802,       1503,   -32.5003,  -167.7931,       5519,  2109.2,   2.2119,  34.6338,2,  34.6327,2, 148.7793,2, 150.0855,2,   113.6,2,   35.41,2,    0.00,2,    2.45,2,   0.026,2,   0.023,2,   0.0000,2,  2299.7,2, 2383.64,2,   7.5665,2, -999.00,9, -999.00,9, -999.00,  -999.0,9, -999.00,9,     -999.0,9,  -999.0,1, 20170802,     1358, -32.5003,-167.7932,        0.0,1,      0.060,1,      4.701,1,      0.133,1,      25.02,     -999.0,1,     -999.0,9,     -999.0,9,     -999.0,9,     2.2204,2,     -999.0,9
320620170703,        P06,     115,          1,         14,         14,2,20170802,       1503,   -32.5003,  -167.7931,       5519,  1886.3,   2.3805,  34.6116,2,  34.6097,2, 151.6932,2, 153.0619,2,   103.7,2,   35.18,2,    0.00,2,    2.44,2,-999.000,9,-999.000,9,-999.0000,9,  -999.0,9, -999.00,9,-999.0000,9, -999.00,9, -999.00,9, -999.00,  -999.0,9, -999.00,9,     -999.0,9,  -999.0,1, 20170802,     1403, -32.5002,-167.7931,        0.0,1,      0.061,1,      4.702,1,      0.133,1,     -999.0,     -999.0,1,     -999.0,9,     -999.0,9,     -999.0,9,     2.3944,2,     -999.0,9
320620170703,        P06,     115,          1,         15,         15,2,20170802,       1503,   -32.5003,  -167.7931,       5519,  1684.1,   2.5827,  34.5762,2,  34.5706,2, 157.6722,3, 159.5495,2,    89.8,2,   34.85,2,    0.00,2,    2.41,2,   0.036,2,   0.030,2,   0.0000,2,  2270.8,2, 2370.40,3,   7.5677,2, -999.00,9, -999.00,9, -999.00,  -999.0,9, -999.00,9,     -999.0,9,  -999.0,1, 20170802,     1408, -32.5001,-167.7931,        0.0,1,      0.061,1,      4.702,1,      0.133,1,      25.03,     -999.0,1,     -999.0,9,     -999.0,9,     -999.0,9,     2.6195,2,     -999.0,9
320620170703,        P06,     115,          1,         16,         16,2,20170802,       1503,   -32.5003,  -167.7931,       5519,  1479.7,   2.9218,  34.5023,2,  34.4952,2, 167.9733,2, 168.0789,2,    70.6,2,   34.32,2,    0.00,2,    2.37,2,-999.000,9,-999.000,9,-999.0000,9,  -999.0,9, -999.00,9,-999.0000,9, -999.00,9, -999.00,9, -999.00,  -999.0,9, -999.00,9,     -999.0,9,  -999.0,1, 20170802,     1412, -32.5002,-167.7931,        0.0,1,      0.061,1,      4.702,1,      0.133,1,     -999.0,     -999.0,1,     -999.0,9,     -999.0,9,     -999.0,9,     2.9518,2,     -999.0,9
320620170703,        P06,     115,          1,         17,         17,2,20170802,       1503,   -32.5003,  -167.7931,       5519,  1348.1,   3.2440,  34.4429,2,  34.4343,2, 176.4893,2, 177.4284,2,    57.8,2,   33.75,2,    0.00,2,    2.32,2,   0.219,2,   0.123,2,   0.0000,2,  2232.1,2, 2317.08,2,   7.5784,2, -999.00,9, -999.00,9, -999.00,  -999.0,9, -999.00,9,     -999.0,9,  -999.0,1, 20170802,     1416, -32.5002,-167.7931,        0.0,1,      0.061,1,      4.701,1,      0.136,1,      25.03,     -999.0,1,     -999.0,9,     -999.0,9,     -999.0,9,     3.3033,2,     -999.0,9
320620170703,        P06,     115,          1,         18,         18,2,20170802,       1503,   -32.5003,  -167.7931,       5519,  1246.9,   3.5753,  34.4004,2,  34.3884,2, 184.5484,2, 184.8079,2,    47.5,2,   32.98,2,    0.00,2,    2.28,2,-999.000,9,-999.000,9,-999.0000,9,  -999.0,9, -999.00,9,-999.0000,9, -999.00,9, -999.00,9, -999.00,  -999.0,9, -999.00,9,     -999.0,9,  -999.0,1, 20170802,     1419, -32.5003,-167.7932,        0.0,1,      0.061,1,      4.702,1,      0.137,1,     -999.0,     -999.0,1,     -999.0,9,     -999.0,9,     -999.0,9,     3.6729,2,     -999.0,9
320620170703,        P06,     115,          1,         19,         19,2,20170802,       1503,   -32.5003,  -167.7931,       5519,  1146.0,   4.0274,  34.3615,2,  34.3474,3, 194.8236,2, 193.6933,2,    36.4,2,   31.66,2,    0.00,2,    2.15,2,   0.731,2,   0.356,2,   0.0690,2,  2199.6,2, 2295.55,3,   7.6086,2, -999.00,9, -999.00,9, -999.00,  -999.0,9, -999.00,9,     -999.0,9,  -999.0,1, 20170802,     1422, -32.5003,-167.7932,        0.0,1,      0.060,1,      4.701,1,      0.134,1,      25.02,     -999.0,1,     -999.0,9,     -999.0,9,     -999.0,9,     4.1885,2,     -999.0,9
320620170703,        P06,     115,          1,         20,         20,2,20170802,       1503,   -32.5003,  -167.7931,       5519,  1044.3,   4.6029,  34.3287,2,  34.3205,2, 207.0241,3, 204.8669,2,    26.2,2,   29.85,2,    0.00,2,    2.01,2,-999.000,9,-999.000,9,-999.0000,9,  -999.0,9, -999.00,9,-999.0000,9, -999.00,9, -999.00,9, -999.00,  -999.0,9, -999.00,9,     -999.0,9,  -999.0,1, 20170802,     1425, -32.5003,-167.7932,        0.0,1,      0.060,1,      4.701,1,      0.134,1,     -999.0,     -999.0,1,     -999.0,9,     -999.0,9,     -999.0,9,     4.8130,2,     -999.0,9
320620170703,        P06,     115,          1,         21,         21,2,20170802,       1503,   -32.5003,  -167.7931,       5519,   943.4,   5.2937,  34.3147,2,  34.3121,2, 218.4775,2, 218.0959,2,    18.0,2,   27.69,2,    0.00,2,    1.87,2,   1.752,2,   0.838,2,   0.3070,2,  2166.4,2, 2288.72,2,   7.6602,2, -999.00,9, -999.00,9, -999.00,  -999.0,9, -999.00,9,     -999.0,9,  -999.0,1, 20170802,     1428, -32.5003,-167.7932,        0.0,1,      0.059,1,      4.700,1,      0.135,1,      25.02,     -999.0,1,     -999.0,9,     -999.0,9,     -999.0,9,     5.4191,2,     -999.0,9
320620170703,        P06,     115,          1,         22,         22,2,20170802,       1503,   -32.5003,  -167.7931,       5519,   842.0,   5.8786,  34.3202,2,  34.3207,2, 228.8852,2, 227.4792,2,    12.3,2,   25.53,2,    0.00,2,    1.73,2,-999.000,9,-999.000,9,-999.0000,9,  2154.3,2, 2281.15,2,   7.6822,2, -999.00,9, -999.00,9, -999.00,  -999.0,9, -999.00,9,     -999.0,9,  -999.0,1, 20170802,     1431, -32.5004,-167.7932,        0.0,1,      0.060,1,      4.700,1,      0.136,1,      25.03,     -999.0,1,     -999.0,9,     -999.0,9,     -999.0,9,     5.9940,2,     -999.0,9
320620170703,        P06,     115,          1,         23,         23,2,20170802,       1503,   -32.5003,  -167.7931,       5519,   741.5,   6.4587,  34.3430,2,  34.3448,2, 235.7783,2, 234.7538,2,     8.8,2,   23.61,2,    0.00,2,    1.58,2,   3.098,2,   1.509,2,   0.6570,2,  2147.4,2, 2279.34,2,   7.6991,2, -999.00,9, -999.00,9, -999.00,  -999.0,9, -999.00,9,     -999.0,9,  -999.0,1, 20170802,     1434, -32.5004,-167.7932,        0.0,1,      0.060,1,      4.699,1,      0.137,1,      25.02,     -999.0,1,     -999.0,9,     -999.0,9,     -999.0,9,     6.5423,2,     -999.0,9
320620170703,        P06,     115,          1,         24,         24,2,20170802,       1503,   -32.5003,  -167.7931,       5519,   640.2,   7.1273,  34.3897,2,  34.3815,2, 236.3355,2, 236.3100,2,     6.8,2,   22.06,2,    0.00,2,    1.49,2,-999.000,9,-999.000,9,-999.0000,9,  2143.4,2, 2275.72,2,   7.7082,2, -999.00,9, -999.00,9, -999.00,  -999.0,9, -999.00,9,     -999.0,9,  -999.0,1, 20170802,     1437, -32.5005,-167.7932,        0.0,1,      0.059,1,      4.697,1,      0.139,1,      25.03,     -999.0,1,     -999.0,9,     -999.0,9,     -999.0,9,     7.0600,2,     -999.0,9
320620170703,        P06,     115,          1,         25,         25,2,20170802,       1503,   -32.5003,  -167.7931,       5519,   538.9,   7.8762,  34.4539,2,  34.4461,2, 231.4287,2, 230.9556,2,     5.5,2,   20.19,2,    0.00,2,    1.37,2,   3.516,2,   1.788,2,   0.9320,2,  2141.7,2, 2278.40,2,   7.7176,2, -999.00,9, -999.00,9, -999.00,  -999.0,9, -999.00,9,     -999.0,9,  -999.0,1, 20170802,     1439, -32.5006,-167.7933,        0.0,1,      0.060,1,      4.696,1,      0.143,1,      25.05,     -999.0,1,     -999.0,9,     -999.0,9,     -999.0,9,     7.7888,2,     -999.0,9
320620170703,        P06,     115,          1,         26,         26,2,20170802,       1503,   -32.5003,  -167.7931,       5519,   438.7,   9.3901,  34.6053,2,  34.5525,2, 220.5626,2, 221.0649,2,     4.3,2,   17.81,2,    0.00,2,    1.22,2,-999.000,9,-999.000,9,-999.0000,9,  2139.0,2, 2281.99,2,   7.7335,2, -999.00,9, -999.00,9, -999.00,  -999.0,9, -999.00,9,     -999.0,9,  -999.0,1, 20170802,     1443, -32.5006,-167.7934,        0.0,1,      0.059,1,      4.694,1,      0.143,1,      25.03,     -999.0,1,     -999.0,9,     -999.0,9,     -999.0,9,     8.9283,2,     -999.0,9
320620170703,        P06,     115,          1,         27,         27,2,20170802,       1503,   -32.5003,  -167.7931,       5519,   368.7,  11.2771,  34.8414,2,  34.7779,2, 206.6104,2, 208.1442,2,     3.3,2,   14.20,2,    0.00,2,    0.99,2,   2.974,2,   1.632,2,   1.0100,2,  -999.0,9, -999.00,9,-999.0000,9, -999.00,9, -999.00,9, -999.00,  -999.0,9, -999.00,9,     -999.0,9,  -999.0,1, 20170802,     1445, -32.5006,-167.7933,        0.0,1,      0.059,1,      4.691,1,      0.141,1,     -999.0,     -999.0,1,     -999.0,1,     -999.0,9,     -999.0,9,    10.8202,2,     -999.0,9
320620170703,        P06,     115,          1,         28,         28,2,20170802,       1503,   -32.5003,  -167.7931,       5519,   316.9,  12.6258,  35.0063,2,  34.9355,2, 204.9667,2, 206.7305,2,     2.4,2,   11.12,2,    0.00,2,    0.80,2,-999.000,9,-999.000,9,-999.0000,9,  2123.9,2, 2296.04,2,   7.8020,2, -999.00,9, -999.00,9, -999.00,  -999.0,9, -999.00,9,     -999.0,9,  -999.0,1, 20170802,     1447, -32.5005,-167.7933,        0.0,1,      0.059,1,      4.692,1,      0.139,1,      25.03,     -999.0,1,     -999.0,1,     -999.0,9,     -999.0,9,    12.1303,2,       0.87,2
320620170703,        P06,     115,          1,         29,         29,2,20170802,       1503,   -32.5003,  -167.7931,       5519,   267.1,  13.6692,  35.1449,2,  35.1291,2, 202.7853,3, 205.0990,2,     1.9,2,    8.40,2,    0.00,2,    0.63,2,   2.676,2,   1.518,2,   1.2450,2,  -999.0,9, -999.00,9,-999.0000,9, -999.00,9, -999.00,9, -999.00,  -999.0,9, -999.00,9,     -999.0,9,  -999.0,1, 20170802,     1449, -32.5005,-167.7932,        0.0,1,      0.059,1,      4.691,1,      0.139,1,     -999.0,     -999.0,1,     -999.0,1,     -999.0,9,     -999.0,9,    13.6115,2,     -999.0,9
320620170703,        P06,     115,          1,         30,         30,2,20170802,       1503,   -32.5003,  -167.7931,       5519,   217.6,  14.6282,  35.2753,2,  35.3086,2, 207.8344,2, 208.4626,2,     1.2,2,    5.56,2,    0.00,2,    0.45,2,-999.000,9,-999.000,9,-999.0000,9,  2101.9,2, 2314.26,2,   7.8752,2, -999.00,9, -999.00,9, -999.00,  -999.0,9, -999.00,9,     -999.0,9,  -999.0,1, 20170802,     1452, -32.5005,-167.7932,        0.0,1,      0.061,1,      4.690,1,      0.138,1,      25.04,     -999.0,1,     -999.0,1,     -999.0,9,     -999.0,9,    14.9291,2,     -999.0,9
320620170703,        P06,     115,          1,         31,         31,2,20170802,       1503,   -32.5003,  -167.7931,       5519,   165.7,  15.8909,  35.4351,2,  35.4364,2, 212.2451,2, 211.1245,2,     0.8,2,    3.70,2,    0.02,2,    0.32,2,   2.444,2,   1.418,2,   1.3100,2,  2096.0,2, 2326.09,2,   7.9031,2, -999.00,9, -999.00,9, -999.00,  -999.0,9, -999.00,9,     -999.0,9,  -999.0,1, 20170802,     1454, -32.5005,-167.7932,        0.0,1,      0.077,1,      4.683,1,      0.142,1,      25.03,     -999.0,1,     -999.0,1,     -999.0,9,     -999.0,9,    15.9636,2,     -999.0,9
320620170703,        P06,     115,          1,         32,         32,2,20170802,       1503,   -32.5003,  -167.7931,       5519,   115.6,  17.6090,  35.6560,2,  35.6579,2, 237.6978,3, 232.4103,2,     0.2,2,    0.05,2,    0.02,2,    0.05,2,-999.000,9,-999.000,9,-999.0000,9,  2065.2,2, 2337.02,2,   7.9845,2, -999.00,9, -999.00,9, -999.00,  -999.0,9, -999.00,9,     -999.0,9,  -999.0,1, 20170802,     1456, -32.5004,-167.7931,        0.0,1,      0.153,1,      4.641,1,      0.186,1,      25.04,     -999.0,1,     -999.0,1,     -999.0,9,     -999.0,9,    17.6258,2,     -999.0,9