BOTTLE,20230922CCHSIOCBG
EXPOCODE,SECT_ID,STNNBR,CASTNO,SAMPNO,BTLNBR,BTLNBR_FLAG_W,DATE,TIME,LATITUDE,LONGITUDE,DEPTH,CTDPRS,CTDTMP,CTDSAL,CTDSAL_FLAG_W,SALNTY,SALNTY_FLAG_W,CTDOXY,CTDOXY_FLAG_W,OXYGEN,OXYGEN_FLAG_W,SILCAT,SILCAT_FLAG_W,NITRAT,NITRAT_FLAG_W,NITRIT,NITRIT_FLAG_W,PHSPHT,PHSPHT_FLAG_W,CFC-11,CFC-11_FLAG_W,CFC-12,CFC-12_FLAG_W,SF6,SF6_FLAG_W,TCARBN,TCARBN_FLAG_W,ALKALI,ALKALI_FLAG_W,PH_TOT,PH_TOT_FLAG_W,DELC13,DELC13_FLAG_W,DELC14,DELC14_FLAG_W,C14ERR,DOC,DOC_FLAG_W,TDN,TDN_FLAG_W,TON,TON_FLAG_W,D15N_NO3,D15N_NO3_FLAG_W,BTL_DATE,BTL_TIME,BTL_LAT,BTL_LON,CTDRINKO,CTDRINKO_FLAG_W,CTDFLUOR,CTDFLUOR_FLAG_W,CTDXMISS,CTDXMISS_FLAG_W,CTDBACKSCATTER,CTDBACKSCATTER_FLAG_W,PH_TMP,D18O_NO3,D18O_NO3_FLAG_W,DOP,DOP_FLAG_W,HPLC,HPLC_FLAG_W,POC,POC_FLAG_W,REFTMP,REFTMP_FLAG_W,TDP,TDP_FLAG_W
,,,,,,,,,,,METERS,DBAR,ITS-90,PSS-78,,PSS-78,,UMOL/KG,,UMOL/KG,,UMOL/KG,,UMOL/KG,,UMOL/KG,,UMOL/KG,,PMOL/KG,,PMOL/KG,,FMOL/KG,,UMOL/KG,,UMOL/KG,,,,/MILLE,,/MILLE,,/MILLE,UMOL/KG,,UMOL/KG,,UMOL/KG,,/MILLE,,,,,,VOLTS,,VOLTS,,VOLTS,,VOLTS,,DEGC,/MILLE,,UMOL/KG,,,,UG/L,,ITS-90,,UMOL/KG,
320620170703,        P06,      73,          1,         33,         33,2,20170719,       0345,   -30.0798,   174.9982,       3907,    64.4,  18.1188,  35.7131,2,  35.6932,2, 224.0678,3, 231.0229,2,     0.5,2,    0.83,2,    0.15,2,    0.14,2,-999.000,9,-999.000,9,-999.0000,9,  2068.0,2, 2398.42,2,   7.9818,2, -999.00,9, -999.00,9, -999.00,  -999.0,9, -999.00,9,     -999.0,9,  -999.0,9, 20170719,      341, -30.0796, 174.9981,        0.0,1,      0.213,1,      0.905,1,      0.208,1,      25.01,     -999.0,9,     -999.0,9,     -999.0,9,     -999.0,9,    17.9637,2,     -999.0,9
320620170703,        P06,      73,          1,         34,         34,2,20170719,       0345,   -30.0798,   174.9982,       3907,    39.7,  18.1482,  35.7141,2,  35.6992,2, 224.8940,3, 231.7152,2,     0.4,2,    0.83,2,    0.13,2,    0.14,2,   2.704,4,   1.287,2,-999.0000,5,  2067.5,2, 2338.75,2,   7.9838,2, -999.00,9, -999.00,9, -999.00,  -999.0,9, -999.00,9,     -999.0,9,  -999.0,9, 20170719,      343, -30.0796, 174.9982,        0.0,1,      0.295,1,      1.158,1,      0.226,1,      25.02,     -999.0,9,     -999.0,9,     -999.0,9,     -999.0,9,    18.0139,2,     -999.0,9
320620170703,        P06,      73,          1,         35,         35,2,20170719,       0345,   -30.0798,   174.9982,       3907,    20.3,  18.2969,  35.7284,2,  35.6978,2, 230.2932,3, 233.0425,2,     0.3,2,    0.80,2,    0.12,2,    0.14,2,-999.000,9,-999.000,9,-999.0000,9,  2067.1,2, 2339.41,2,   7.9863,2, -999.00,9, -999.00,9, -999.00,  -999.0,9, -999.00,9,     -999.0,9,  -999.0,9, 20170719,      344, -30.0797, 174.9982,        0.0,1,      0.280,1,      3.845,1,      0.233,1,      25.01,     -999.0,9,     -999.0,9,     -999.0,9,     -999.0,9,    18.0276,2,     -999.0,9
320620170703,        P06,      73,          1,         36,         36,2,20170719,       0345,   -30.0798,   174.9982,       3907,     5.0,  18.5758,  35.7396,2,  35.6670,2, 222.0372,3, 229.6651,2,     0.2,2,    1.04,2,    0.12,2,    0.16,2,   1.725,4,   1.255,2,-999.0000,5,  2062.1,6, 2339.43,2,   7.9916,2, -999.00,9, -999.00,9, -999.00,  -999.0,9, -999.00,9,     -999.0,9,  -999.0,9, 20170719,      345, -30.0798, 174.9982,        0.0,1,      0.209,1,      4.346,1,      0.223,1,      25.02,     -999.0,9,     -999.0,9,     -999.0,9,     -999.0,9,    18.7255,2,     -999.0,9