BOTTLE,20230922CCHSIOCBG
EXPOCODE,SECT_ID,STNNBR,CASTNO,SAMPNO,BTLNBR,BTLNBR_FLAG_W,DATE,TIME,LATITUDE,LONGITUDE,DEPTH,CTDPRS,CTDTMP,CTDSAL,CTDSAL_FLAG_W,SALNTY,SALNTY_FLAG_W,CTDOXY,CTDOXY_FLAG_W,OXYGEN,OXYGEN_FLAG_W,SILCAT,SILCAT_FLAG_W,NITRAT,NITRAT_FLAG_W,NITRIT,NITRIT_FLAG_W,PHSPHT,PHSPHT_FLAG_W,CFC-11,CFC-11_FLAG_W,CFC-12,CFC-12_FLAG_W,SF6,SF6_FLAG_W,TCARBN,TCARBN_FLAG_W,ALKALI,ALKALI_FLAG_W,PH_TOT,PH_TOT_FLAG_W,DELC13,DELC13_FLAG_W,DELC14,DELC14_FLAG_W,C14ERR,DOC,DOC_FLAG_W,TDN,TDN_FLAG_W,TON,TON_FLAG_W,D15N_NO3,D15N_NO3_FLAG_W,BTL_DATE,BTL_TIME,BTL_LAT,BTL_LON,CTDRINKO,CTDRINKO_FLAG_W,CTDFLUOR,CTDFLUOR_FLAG_W,CTDXMISS,CTDXMISS_FLAG_W,CTDBACKSCATTER,CTDBACKSCATTER_FLAG_W,PH_TMP,D18O_NO3,D18O_NO3_FLAG_W,DOP,DOP_FLAG_W,HPLC,HPLC_FLAG_W,POC,POC_FLAG_W,REFTMP,REFTMP_FLAG_W,TDP,TDP_FLAG_W
,,,,,,,,,,,METERS,DBAR,ITS-90,PSS-78,,PSS-78,,UMOL/KG,,UMOL/KG,,UMOL/KG,,UMOL/KG,,UMOL/KG,,UMOL/KG,,PMOL/KG,,PMOL/KG,,FMOL/KG,,UMOL/KG,,UMOL/KG,,,,/MILLE,,/MILLE,,/MILLE,UMOL/KG,,UMOL/KG,,UMOL/KG,,/MILLE,,,,,,VOLTS,,VOLTS,,VOLTS,,VOLTS,,DEGC,/MILLE,,UMOL/KG,,,,UG/L,,ITS-90,,UMOL/KG,
320620170703,        P06,      19,          1,          1,         37,2,20170708,       1646,   -30.0795,   157.1204,       4008,  4065.2,   1.1797,  34.7148,2,  34.7136,2, 195.8293,2, 196.5145,2,   117.1,2,   32.46,2,    0.00,2,    2.26,2,   0.038,2,   0.035,2,   0.0000,2,  2278.1,6, 2379.00,2,   7.6158,2, -999.00,9, -999.00,9, -999.00,  -999.0,9, -999.00,9,     -999.0,9,  -999.0,9, 20170708,     1450, -30.0795, 157.1202,        0.0,1,      0.061,1,      4.702,1,      0.144,1,      25.04,     -999.0,9,     -999.0,9,     -999.0,9,     -999.0,9,     1.1801,2,     -999.0,9
320620170703,        P06,      19,          1,          2,          2,2,20170708,       1646,   -30.0795,   157.1204,       4008,  4003.9,   1.1829,  34.7150,2,  34.7131,2, 195.8293,2, 196.0902,2,   117.0,2,   32.47,2,    0.00,2,    2.26,2,-999.000,9,-999.000,9,-999.0000,9,  -999.0,9, -999.00,9,-999.0000,9, -999.00,9, -999.00,9, -999.00,  -999.0,9, -999.00,9,     -999.0,9,  -999.0,9, 20170708,     1453, -30.0795, 157.1202,        0.0,1,      0.061,1,      4.704,1,      0.138,1,     -999.0,     -999.0,9,     -999.0,9,     -999.0,9,     -999.0,9,     1.1828,2,     -999.0,9
320620170703,        P06,      19,          1,          3,         38,2,20170708,       1646,   -30.0795,   157.1204,       4008,  3860.3,   1.1955,  34.7160,2,  34.7142,2, 195.8293,2, 195.5166,2,   116.5,2,   32.42,2,    0.00,2,    2.26,2,   0.039,2,   0.035,2,   0.0000,2,  -999.0,9, -999.00,9,-999.0000,9, -999.00,9, -999.00,9, -999.00,  -999.0,9, -999.00,9,     -999.0,9,  -999.0,9, 20170708,     1457, -30.0795, 157.1202,        0.0,1,      0.061,1,      4.706,1,      0.137,1,     -999.0,     -999.0,9,     -999.0,9,     -999.0,9,     -999.0,9,     1.1959,2,     -999.0,9
320620170703,        P06,      19,          1,          4,          4,2,20170708,       1646,   -30.0795,   157.1204,       4008,  3656.2,   1.2194,  34.7170,2,  34.7148,2, 195.8614,2, 195.0203,2,   115.5,2,   32.38,2,    0.00,2,    2.25,2,-999.000,9,-999.000,9,-999.0000,9,  -999.0,9, -999.00,9,-999.0000,9, -999.00,9, -999.00,9, -999.00,  -999.0,9, -999.00,9,     -999.0,9,  -999.0,9, 20170708,     1502, -30.0795, 157.1202,        0.0,1,      0.060,1,      4.706,1,      0.135,1,     -999.0,     -999.0,9,     -999.0,9,     -999.0,9,     -999.0,9,     1.2168,2,     -999.0,9
320620170703,        P06,      19,          1,          5,         39,2,20170708,       1646,   -30.0795,   157.1204,       4008,  3297.4,   1.3672,  34.7204,2,  34.7186,2, 194.8286,2, 195.1462,2,   111.2,2,   32.21,2,    0.00,2,    2.23,2,   0.032,2,   0.030,2,   0.0000,2,  2271.7,2, 2371.83,2,   7.6113,2, -999.00,9, -999.00,9, -999.00,  -999.0,9, -999.00,9,     -999.0,9,  -999.0,9, 20170708,     1509, -30.0796, 157.1203,        0.0,1,      0.059,1,      4.707,1,      0.137,1,      25.04,     -999.0,9,     -999.0,9,     -999.0,9,     -999.0,9,     1.3650,2,     -999.0,9
320620170703,        P06,      19,          1,          6,          6,2,20170708,       1646,   -30.0795,   157.1204,       4008,  2955.0,   1.6240,  34.7246,2,  34.7290,2, 190.4090,2, 191.4194,2,   105.1,2,   32.06,2,    0.00,2,    2.22,2,-999.000,9,-999.000,9,-999.0000,9,  -999.0,9, -999.00,9,-999.0000,9, -999.00,9, -999.00,9, -999.00,  -999.0,9, -999.00,9,     -999.0,9,  -999.0,9, 20170708,     1516, -30.0797, 157.1204,        0.0,1,      0.062,1,      4.706,1,      0.137,1,     -999.0,     -999.0,9,     -999.0,9,     -999.0,9,     -999.0,9,     1.6106,2,     -999.0,9
320620170703,        P06,      19,          1,          7,         40,2,20170708,       1646,   -30.0795,   157.1204,       4008,  2700.1,   1.8314,  34.7207,2,  34.7178,2, 185.4377,2, 184.2851,2,    99.9,2,   32.10,2,    0.00,2,    2.23,2,   0.033,2,   0.030,2,   0.0000,2,  -999.0,9, -999.00,9,-999.0000,9, -999.00,9, -999.00,9, -999.00,  -999.0,9, -999.00,9,     -999.0,9,  -999.0,9, 20170708,     1522, -30.0793, 157.1201,        0.0,1,      0.061,1,      4.706,1,      0.136,1,     -999.0,     -999.0,9,     -999.0,9,     -999.0,9,     -999.0,9,     1.8200,2,     -999.0,9
320620170703,        P06,      19,          1,          8,          8,2,20170708,       1646,   -30.0795,   157.1204,       4008,  2446.3,   2.0512,  34.7035,2,  34.7011,2, 177.1356,2, 176.8540,2,    95.7,2,   32.54,2,    0.00,2,    2.26,2,-999.000,9,-999.000,9,-999.0000,9,  2265.9,2, 2358.14,2,   7.5915,2, -999.00,9, -999.00,9, -999.00,  -999.0,9, -999.00,9,     -999.0,9,  -999.0,9, 20170708,     1528, -30.0793, 157.1200,        0.0,1,      0.061,1,      4.706,1,      0.139,1,      25.04,     -999.0,9,     -999.0,9,     -999.0,9,     -999.0,9,     2.0548,2,     -999.0,9
320620170703,        P06,      19,          1,          9,         41,2,20170708,       1646,   -30.0795,   157.1204,       4008,  2190.7,   2.2841,  34.6720,2,  34.6714,2, 167.4758,2, 166.6231,2,    95.6,2,   33.38,2,    0.00,2,    2.34,2,   0.035,2,   0.033,2,   0.0000,2,  -999.0,9, -999.00,9,-999.0000,9, -999.00,9, -999.00,9, -999.00,  -999.0,9, -999.00,9,     -999.0,9,  -999.0,9, 20170708,     1533, -30.0792, 157.1199,        0.0,1,      0.062,1,      4.706,1,      0.138,1,     -999.0,     -999.0,9,     -999.0,9,     -999.0,9,     -999.0,9,     2.2735,2,     -999.0,9
320620170703,        P06,      19,          1,         10,         10,2,20170708,       1646,   -30.0795,   157.1204,       4008,  1957.3,   2.4775,  34.6439,2,  34.6392,2, 157.1840,2, 157.4453,2,    96.8,2,   34.20,2,    0.00,2,    2.39,2,-999.000,9,-999.000,9,-999.0000,9,  2277.1,2, 2363.24,2,   7.5738,2, -999.00,9, -999.00,9, -999.00,  -999.0,9, -999.00,9,     -999.0,9,  -999.0,9, 20170708,     1538, -30.0793, 157.1200,        0.0,1,      0.062,1,      4.707,1,      0.140,1,      25.04,     -999.0,9,     -999.0,9,     -999.0,9,     -999.0,9,     2.5024,2,     -999.0,9
320620170703,        P06,      19,          1,         11,         42,2,20170708,       1646,   -30.0795,   157.1204,       4008,  1752.7,   2.7823,  34.6079,2,  34.6075,2, 150.0261,2, 150.6946,2,    94.7,2,   34.69,2,    0.00,2,    2.41,2,   0.047,2,   0.039,2,   0.0000,2,  2280.4,2, 2363.44,2,   7.5696,2, -999.00,9, -999.00,9, -999.00,  -999.0,9, -999.00,9,     -999.0,9,  -999.0,9, 20170708,     1543, -30.0795, 157.1202,        0.0,1,      0.061,1,      4.707,1,      0.141,1,      25.04,     -999.0,9,     -999.0,9,     -999.0,9,     -999.0,9,     2.8347,2,     -999.0,9
320620170703,        P06,      19,          1,         12,         12,2,20170708,       1646,   -30.0795,   157.1204,       4008,  1580.9,   3.1819,  34.5700,2,  34.5675,2, 151.4859,2, 152.7180,2,    87.5,2,   34.44,2,    0.00,2,    2.40,2,-999.000,9,-999.000,9,-999.0000,9,  2273.8,2, 2357.15,2,   7.5724,2, -999.00,9, -999.00,9, -999.00,  -999.0,9, -999.00,9,     -999.0,9,  -999.0,9, 20170708,     1547, -30.0795, 157.1202,        0.0,1,      0.062,1,      4.707,1,      0.142,1,      25.04,     -999.0,9,     -999.0,9,     -999.0,9,     -999.0,9,     3.1823,2,     -999.0,9
320620170703,        P06,      19,          1,         13,         43,2,20170708,       1646,   -30.0795,   157.1204,       4008,  1479.7,   3.4545,  34.5460,2,  34.5506,2, 155.9962,2, 156.6572,2,    79.3,2,   33.92,2,    0.00,2,    2.36,2,   0.129,2,   0.086,2,   0.1640,2,  -999.0,9, -999.00,9,-999.0000,9, -999.00,9, -999.00,9, -999.00,  -999.0,9, -999.00,9,     -999.0,9,  -999.0,9, 20170708,     1550, -30.0794, 157.1202,        0.0,1,      0.062,1,      4.706,1,      0.141,1,     -999.0,     -999.0,9,     -999.0,9,     -999.0,9,     -999.0,9,     3.4798,2,     -999.0,9
320620170703,        P06,      19,          1,         14,         14,2,20170708,       1646,   -30.0795,   157.1204,       4008,  1378.6,   3.7841,  34.5210,2,  34.5221,2, 162.7878,2, 162.1534,2,    70.4,2,   33.20,2,    0.00,2,    2.32,2,-999.000,9,-999.000,9,-999.0000,9,  -999.0,9, -999.00,9,-999.0000,9, -999.00,9, -999.00,9, -999.00,  -999.0,9, -999.00,9,     -999.0,9,  -999.0,9, 20170708,     1553, -30.0793, 157.1200,        0.0,1,      0.061,1,      4.706,1,      0.141,1,     -999.0,     -999.0,9,     -999.0,9,     -999.0,9,     -999.0,9,     3.8199,2,     -999.0,9
320620170703,        P06,      19,          1,         15,         15,4,20170708,       1646,   -30.0795,   157.1204,       4008,  1277.8,   4.2855,  34.4875,3,  34.5459,3, 170.2705,3, 167.7153,2,    73.0,3,   32.75,3,    0.00,3,    2.26,3,   0.244,3,   0.147,3,   0.1820,3,  2248.4,4, 2349.93,3,   7.6975,3, -999.00,9, -999.00,9, -999.00,  -999.0,9, -999.00,9,     -999.0,9,  -999.0,9, 20170708,     1556, -30.0793, 157.1200,        0.0,1,      0.060,1,      4.707,1,      0.142,1,      25.05,     -999.0,9,     -999.0,9,     -999.0,9,     -999.0,9,     4.3132,3,     -999.0,9
320620170703,        P06,      19,          1,         16,         16,2,20170708,       1646,   -30.0795,   157.1204,       4008,  1176.7,   4.7575,  34.4642,2,  34.4602,2, 177.6347,2, 178.1015,2,    47.0,2,   30.75,2,    0.00,2,    2.12,2,-999.000,9,-999.000,9,-999.0000,9,  -999.0,9, -999.00,9,-999.0000,9, -999.00,9, -999.00,9, -999.00,  -999.0,9, -999.00,9,     -999.0,9,  -999.0,9, 20170708,     1559, -30.0793, 157.1200,        0.0,1,      0.060,1,      4.706,1,      0.140,1,     -999.0,     -999.0,9,     -999.0,9,     -999.0,9,     -999.0,9,     4.7940,2,     -999.0,9
320620170703,        P06,      19,          1,         17,         17,2,20170708,       1646,   -30.0795,   157.1204,       4008,  1074.4,   5.3614,  34.4447,2,  34.4426,3, 185.9389,2, 186.2751,2,    36.3,2,   29.32,2,    0.00,2,    2.00,2,   0.794,2,   0.427,2,   0.1990,2,  -999.0,9, -999.00,9,-999.0000,9, -999.00,9, -999.00,9, -999.00,  -999.0,9, -999.00,9,     -999.0,9,  -999.0,9, 20170708,     1602, -30.0793, 157.1200,        0.0,1,      0.061,1,      4.706,1,      0.140,1,     -999.0,     -999.0,9,     -999.0,9,     -999.0,9,     -999.0,9,     5.3775,2,     -999.0,9
320620170703,        P06,      19,          1,         18,         18,2,20170708,       1646,   -30.0795,   157.1204,       4008,   973.3,   6.1427,  34.4499,2,  34.4465,3, 192.0035,2, 192.5386,2,    26.8,2,   27.55,2,    0.00,2,    1.89,2,-999.000,9,-999.000,9,-999.0000,9,  -999.0,9, -999.00,9,-999.0000,9, -999.00,9, -999.00,9, -999.00,  -999.0,9, -999.00,9,     -999.0,9,  -999.0,9, 20170708,     1605, -30.0793, 157.1200,        0.0,1,      0.059,1,      4.705,1,      0.141,1,     -999.0,     -999.0,9,     -999.0,9,     -999.0,9,     -999.0,9,     6.0633,2,     -999.0,9
320620170703,        P06,      19,          1,         19,         19,2,20170708,       1646,   -30.0795,   157.1204,       4008,   873.3,   6.8938,  34.4733,2,  34.4661,3, 200.1194,2, 200.8939,2,    18.5,2,   25.42,2,    0.00,2,    1.74,2,   1.655,2,   0.845,2,   0.3720,2,  -999.0,9, -999.00,9,-999.0000,9, -999.00,9, -999.00,9, -999.00,  -999.0,9, -999.00,9,     -999.0,9,  -999.0,9, 20170708,     1608, -30.0793, 157.1200,        0.0,1,      0.060,1,      4.705,1,      0.141,1,     -999.0,     -999.0,9,     -999.0,9,     -999.0,9,     -999.0,9,     6.8324,2,     -999.0,9
320620170703,        P06,      19,          1,         20,         20,2,20170708,       1646,   -30.0795,   157.1204,       4008,   772.4,   7.9078,  34.5467,2,  34.5284,2, 200.8977,2, 201.9407,2,    13.1,2,   23.25,2,    0.00,2,    1.57,2,-999.000,9,-999.000,9,-999.0000,9,  2163.3,2, 2284.62,2,   7.6949,2, -999.00,9, -999.00,9, -999.00,  -999.0,9, -999.00,9,     -999.0,9,  -999.0,9, 20170708,     1611, -30.0793, 157.1200,        0.0,1,      0.060,1,      4.704,1,      0.142,1,      25.05,     -999.0,9,     -999.0,9,     -999.0,9,     -999.0,9,     7.7478,2,     -999.0,9
320620170703,        P06,      19,          1,         21,         21,2,20170708,       1646,   -30.0795,   157.1204,       4008,   670.0,   9.1125,  34.6715,2,  34.6637,2, 201.2473,2, 202.1344,2,     8.7,2,   20.22,2,    0.00,2,    1.36,2,   2.388,2,   1.304,2,   0.6920,2,  -999.0,9, -999.00,9,-999.0000,9, -999.00,9, -999.00,9, -999.00,  -999.0,9, -999.00,9,     -999.0,9,  -999.0,9, 20170708,     1614, -30.0792, 157.1199,        0.0,1,      0.059,1,      4.701,1,      0.144,1,     -999.0,     -999.0,9,     -999.0,9,     -999.0,9,     -999.0,9,     9.0749,2,     -999.0,9
320620170703,        P06,      19,          1,         22,         22,2,20170708,       1646,   -30.0795,   157.1204,       4008,   568.5,  10.9092,  34.8772,2,  34.8707,3, 198.5861,2, 197.0637,2,     6.0,2,   16.49,2,    0.00,2,    1.13,2,-999.000,9,-999.000,9,-999.0000,9,  -999.0,9, -999.00,9,-999.0000,9, -999.00,9, -999.00,9, -999.00,  -999.0,9, -999.00,9,     -999.0,9,  -999.0,9, 20170708,     1617, -30.0792, 157.1199,        0.0,1,      0.060,1,      4.699,1,      0.143,1,     -999.0,     -999.0,9,     -999.0,9,     -999.0,9,     -999.0,9,    10.9883,2,     -999.0,9
320620170703,        P06,      19,          1,         23,         23,2,20170708,       1646,   -30.0795,   157.1204,       4008,   487.9,  12.5929,  35.0853,2,  35.0659,2, 195.5141,2, 195.0632,2,     4.2,2,   13.45,2,    0.00,2,    0.93,2,   2.383,2,   1.371,2,   0.8470,2,  2130.9,2, 2302.11,2,   7.7992,2, -999.00,9, -999.00,9, -999.00,  -999.0,9, -999.00,9,     -999.0,9,  -999.0,9, 20170708,     1620, -30.0792, 157.1199,        0.0,1,      0.059,1,      4.697,1,      0.145,1,      25.04,     -999.0,9,     -999.0,9,     -999.0,9,     -999.0,9,    12.3672,2,     -999.0,9
320620170703,        P06,      19,          1,         24,         24,2,20170708,       1646,   -30.0795,   157.1204,       4008,   439.0,  13.7668,  35.2184,2,  35.1987,2, 195.6652,2, 195.2548,2,     3.2,2,   11.34,2,    0.00,2,    0.80,2,-999.000,9,-999.000,9,-999.0000,9,  -999.0,9, -999.00,9,-999.0000,9, -999.00,9, -999.00,9, -999.00,  -999.0,9, -999.00,9,     -999.0,9,  -999.0,9, 20170708,     1622, -30.0793, 157.1200,        0.0,1,      0.059,1,      4.696,1,      0.145,1,     -999.0,     -999.0,9,     -999.0,9,     -999.0,9,     -999.0,9,    13.5794,2,     -999.0,9
320620170703,        P06,      19,          1,         25,         25,2,20170708,       1646,   -30.0795,   157.1204,       4008,   388.1,  14.8506,  35.3256,2,  35.3222,2, 193.9116,2, 192.8136,2,     2.4,2,    9.40,2,    0.00,2,    0.66,2,   2.248,2,   1.326,2,   0.9030,2,  -999.0,9, -999.00,9,-999.0000,9, -999.00,9, -999.00,9, -999.00,  -999.0,9, -999.00,9,     -999.0,9,  -999.0,9, 20170708,     1624, -30.0793, 157.1200,        0.0,1,      0.059,1,      4.695,1,      0.145,1,     -999.0,     -999.0,9,     -999.0,9,     -999.0,9,     -999.0,9,    14.8819,2,     -999.0,9
320620170703,        P06,      19,          1,         26,         26,2,20170708,       1646,   -30.0795,   157.1204,       4008,   337.7,  16.6454,  35.4848,2,  35.4259,3, 191.5420,2, 190.6321,2,     1.9,2,    7.95,2,    0.00,2,    0.58,2,-999.000,9,-999.000,9,-999.0000,9,  -999.0,9, -999.00,9,-999.0000,9, -999.00,9, -999.00,9, -999.00,  -999.0,9, -999.00,9,     -999.0,9,  -999.0,9, 20170708,     1627, -30.0792, 157.1199,        0.0,1,      0.059,1,      4.692,1,      0.146,1,     -999.0,     -999.0,9,     -999.0,9,     -999.0,9,     -999.0,9,    15.9992,2,     -999.0,9
320620170703,        P06,      19,          1,         27,         27,2,20170708,       1646,   -30.0795,   157.1204,       4008,   286.6,  18.1562,  35.6366,2,  35.5823,2, 192.6116,2, 193.4701,2,     1.2,2,    5.56,2,    0.00,2,    0.42,2,   2.085,2,   1.252,2,   1.0270,2,  2089.4,2, 2329.09,3,   7.9288,2, -999.00,9, -999.00,9, -999.00,  -999.0,9, -999.00,9,     -999.0,9,  -999.0,9, 20170708,     1629, -30.0792, 157.1199,        0.0,1,      0.061,1,      4.691,1,      0.172,1,      25.04,     -999.0,9,     -999.0,9,     -999.0,9,     -999.0,9,    17.7481,2,     -999.0,9
320620170703,        P06,      19,          1,         28,         28,2,20170708,       1646,   -30.0795,   157.1204,       4008,   237.7,  19.1247,  35.6800,2,-999.0000,9, 185.9018,2,-999.0000,9,  -999.0,9, -999.00,9, -999.00,9, -999.00,9,-999.000,9,-999.000,9,-999.0000,9,  -999.0,9, -999.00,9,-999.0000,9, -999.00,9, -999.00,9, -999.00,  -999.0,9, -999.00,9,     -999.0,9,  -999.0,9, 20170708,     1631, -30.0792, 157.1199,        0.0,1,      0.060,1,      4.687,1,      0.153,1,     -999.0,     -999.0,9,     -999.0,9,     -999.0,9,     -999.0,9,    18.7458,2,     -999.0,9
320620170703,        P06,      19,          1,         29,         29,2,20170708,       1646,   -30.0795,   157.1204,       4008,   186.5,  20.3829,  35.8169,2,  35.7373,2, 201.9774,4, 194.4186,2,     0.5,2,    3.09,2,    0.04,2,    0.26,2,   1.876,2,   1.151,2,   0.9140,2,  -999.0,9, -999.00,9,-999.0000,9, -999.00,9, -999.00,9, -999.00,  -999.0,9, -999.00,9,     -999.0,9,  -999.0,9, 20170708,     1633, -30.0793, 157.1200,        0.0,1,      0.087,1,      4.671,1,      0.172,1,     -999.0,     -999.0,9,     -999.0,9,     -999.0,9,     -999.0,9,    20.0470,2,     -999.0,9
320620170703,        P06,      19,          1,         30,         30,2,20170708,       1646,   -30.0795,   157.1204,       4008,   141.1,  20.4915,  35.8069,2,  35.8147,2, 212.1037,2, 213.2790,2,     0.1,2,    0.75,2,    0.21,2,    0.13,2,-999.000,9,-999.000,9,-999.0000,9,  2049.8,2, 2336.50,2,   8.0187,2, -999.00,9, -999.00,9, -999.00,  -999.0,9, -999.00,9,     -999.0,9,  -999.0,9, 20170708,     1635, -30.0793, 157.1201,        0.0,1,      0.101,1,      4.667,1,      0.178,1,      25.03,     -999.0,9,     -999.0,9,     -999.0,9,     -999.0,9,    20.5186,2,     -999.0,9
320620170703,        P06,      19,          1,         31,         31,2,20170708,       1646,   -30.0795,   157.1204,       4008,   115.9,  20.6087,  35.8221,2,  35.8161,2, 212.4891,2, 214.6096,2,     0.1,2,    0.54,2,    0.34,2,    0.12,2,   1.844,2,   1.136,2,   1.0170,2,  -999.0,9, -999.00,9,-999.0000,9, -999.00,9, -999.00,9, -999.00,  -999.0,9, -999.00,9,     -999.0,9,  -999.0,9, 20170708,     1637, -30.0793, 157.1201,        0.0,1,      0.068,1,      4.681,1,      0.158,1,     -999.0,     -999.0,9,     -999.0,9,     -999.0,9,     -999.0,9,    20.5853,2,     -999.0,9
320620170703,        P06,      19,          1,         32,         32,2,20170708,       1646,   -30.0795,   157.1204,       4008,    90.3,  20.6558,  35.8199,2,  35.8070,2, 212.0581,2, 213.7522,2,     0.1,2,    0.61,2,    0.28,2,    0.12,2,-999.000,9,-999.000,9,-999.0000,9,  2049.1,2, 2341.78,2,   8.0218,2, -999.00,9, -999.00,9, -999.00,  -999.0,9, -999.00,9,     -999.0,9,  -999.0,9, 20170708,     1639, -30.0794, 157.1202,        0.0,1,      0.074,1,      4.680,1,      0.162,1,      25.04,     -999.0,9,     -999.0,9,     -999.0,9,     -999.0,9,    20.6388,2,     -999.0,9