BOTTLE,20230922CCHSIOCBG
EXPOCODE,SECT_ID,STNNBR,CASTNO,SAMPNO,BTLNBR,BTLNBR_FLAG_W,DATE,TIME,LATITUDE,LONGITUDE,DEPTH,CTDPRS,CTDTMP,CTDSAL,CTDSAL_FLAG_W,SALNTY,SALNTY_FLAG_W,CTDOXY,CTDOXY_FLAG_W,OXYGEN,OXYGEN_FLAG_W,SILCAT,SILCAT_FLAG_W,NITRAT,NITRAT_FLAG_W,NITRIT,NITRIT_FLAG_W,PHSPHT,PHSPHT_FLAG_W,CFC-11,CFC-11_FLAG_W,CFC-12,CFC-12_FLAG_W,SF6,SF6_FLAG_W,TCARBN,TCARBN_FLAG_W,ALKALI,ALKALI_FLAG_W,PH_TOT,PH_TOT_FLAG_W,DELC13,DELC13_FLAG_W,DELC14,DELC14_FLAG_W,C14ERR,DOC,DOC_FLAG_W,TDN,TDN_FLAG_W,TON,TON_FLAG_W,D15N_NO3,D15N_NO3_FLAG_W,BTL_DATE,BTL_TIME,BTL_LAT,BTL_LON,CTDRINKO,CTDRINKO_FLAG_W,CTDFLUOR,CTDFLUOR_FLAG_W,CTDXMISS,CTDXMISS_FLAG_W,CTDBACKSCATTER,CTDBACKSCATTER_FLAG_W,PH_TMP,D18O_NO3,D18O_NO3_FLAG_W,DOP,DOP_FLAG_W,HPLC,HPLC_FLAG_W,POC,POC_FLAG_W,REFTMP,REFTMP_FLAG_W,TDP,TDP_FLAG_W
,,,,,,,,,,,METERS,DBAR,ITS-90,PSS-78,,PSS-78,,UMOL/KG,,UMOL/KG,,UMOL/KG,,UMOL/KG,,UMOL/KG,,UMOL/KG,,PMOL/KG,,PMOL/KG,,FMOL/KG,,UMOL/KG,,UMOL/KG,,,,/MILLE,,/MILLE,,/MILLE,UMOL/KG,,UMOL/KG,,UMOL/KG,,/MILLE,,,,,,VOLTS,,VOLTS,,VOLTS,,VOLTS,,DEGC,/MILLE,,UMOL/KG,,,,UG/L,,ITS-90,,UMOL/KG,
320620170703,        P06,      83,          1,         33,         33,2,20170725,       0214,   -32.4998,   179.1036,       2428,    39.9,  17.6435,  35.6734,2,  35.6713,2, 232.3055,2, 232.8145,2,     0.4,2,    0.75,2,    0.12,2,    0.16,2,-999.000,9,-999.000,9,-999.0000,9,  -999.0,9, -999.00,9,-999.0000,9, -999.00,9, -999.00,9, -999.00,  -999.0,9, -999.00,9,     -999.0,9,  -999.0,9, 20170725,      212, -32.4999, 179.1035,        0.0,1,      0.230,1,      4.584,1,      0.289,1,     -999.0,     -999.0,9,     -999.0,9,     -999.0,9,     -999.0,9,    17.6092,2,     -999.0,9
320620170703,        P06,      83,          1,         34,         34,2,20170725,       0214,   -32.4998,   179.1036,       2428,    19.1,  17.6733,  35.6753,2,  35.6788,2, 231.9922,2, 232.9309,2,     0.5,2,    0.77,2,    0.12,2,    0.15,2,-999.000,9,-999.000,9,-999.0000,9,  -999.0,9, -999.00,9,-999.0000,9, -999.00,9, -999.00,9, -999.00,  -999.0,9, -999.00,9,     -999.0,9,  -999.0,9, 20170725,      213, -32.4999, 179.1036,        0.0,1,      0.195,1,      4.575,1,      0.277,1,     -999.0,     -999.0,9,     -999.0,9,     -999.0,9,     -999.0,9,    17.6703,2,     -999.0,9
320620170703,        P06,      83,          1,         35,         35,2,20170725,       0214,   -32.4998,   179.1036,       2428,     5.3,  17.6919,  35.6765,2,  35.6784,2, 232.1323,2, 233.1321,2,     0.4,2,    0.80,2,    0.12,2,    0.17,2,-999.000,9,-999.000,9,-999.0000,9,  2066.3,6, 2336.78,2,   7.9803,2, -999.00,9, -999.00,9, -999.00,  -999.0,9, -999.00,9,     -999.0,9,  -999.0,9, 20170725,      214, -32.4998, 179.1036,        0.0,1,      0.165,1,      4.579,1,      0.262,1,      24.99,     -999.0,9,     -999.0,9,     -999.0,9,     -999.0,9,    17.6728,2,     -999.0,9