BOTTLE,20230922CCHSIOCBG
EXPOCODE,SECT_ID,STNNBR,CASTNO,SAMPNO,BTLNBR,BTLNBR_FLAG_W,DATE,TIME,LATITUDE,LONGITUDE,DEPTH,CTDPRS,CTDTMP,CTDSAL,CTDSAL_FLAG_W,SALNTY,SALNTY_FLAG_W,CTDOXY,CTDOXY_FLAG_W,OXYGEN,OXYGEN_FLAG_W,SILCAT,SILCAT_FLAG_W,NITRAT,NITRAT_FLAG_W,NITRIT,NITRIT_FLAG_W,PHSPHT,PHSPHT_FLAG_W,CFC-11,CFC-11_FLAG_W,CFC-12,CFC-12_FLAG_W,SF6,SF6_FLAG_W,TCARBN,TCARBN_FLAG_W,ALKALI,ALKALI_FLAG_W,PH_TOT,PH_TOT_FLAG_W,DELC13,DELC13_FLAG_W,DELC14,DELC14_FLAG_W,C14ERR,DOC,DOC_FLAG_W,TDN,TDN_FLAG_W,TON,TON_FLAG_W,D15N_NO3,D15N_NO3_FLAG_W,BTL_DATE,BTL_TIME,BTL_LAT,BTL_LON,CTDRINKO,CTDRINKO_FLAG_W,CTDFLUOR,CTDFLUOR_FLAG_W,CTDXMISS,CTDXMISS_FLAG_W,CTDBACKSCATTER,CTDBACKSCATTER_FLAG_W,PH_TMP,D18O_NO3,D18O_NO3_FLAG_W,DOP,DOP_FLAG_W,HPLC,HPLC_FLAG_W,POC,POC_FLAG_W,REFTMP,REFTMP_FLAG_W,TDP,TDP_FLAG_W
,,,,,,,,,,,METERS,DBAR,ITS-90,PSS-78,,PSS-78,,UMOL/KG,,UMOL/KG,,UMOL/KG,,UMOL/KG,,UMOL/KG,,UMOL/KG,,PMOL/KG,,PMOL/KG,,FMOL/KG,,UMOL/KG,,UMOL/KG,,,,/MILLE,,/MILLE,,/MILLE,UMOL/KG,,UMOL/KG,,UMOL/KG,,/MILLE,,,,,,VOLTS,,VOLTS,,VOLTS,,VOLTS,,DEGC,/MILLE,,UMOL/KG,,,,UG/L,,ITS-90,,UMOL/KG,
320620170703,        P06,      70,          1,          1,         37,2,20170718,       0951,   -30.0800,   173.4991,       2505,  2525.6,   1.8517,  34.6738,2,  34.6734,2, 153.8904,2, 153.9299,2,   123.4,2,   35.36,2,    0.00,2,    2.45,2,-999.000,9,-999.000,9,-999.0000,9,  2309.4,6, 2399.65,6,   7.5793,2, -999.00,9, -999.00,9, -999.00,  -999.0,9, -999.00,9,     -999.0,1,  -999.0,9, 20170718,      818, -30.0802, 173.4995,        0.0,1,      0.062,1,      4.092,1,      0.138,1,      25.04,     -999.0,9,     -999.0,9,     -999.0,9,     -999.0,9,     1.8530,2,     -999.0,9
320620170703,        P06,      70,          1,          2,          2,2,20170718,       0951,   -30.0800,   173.4991,       2505,  2467.6,   1.8850,  34.6709,2,  34.6708,2, 154.2357,2, 154.0542,2,   122.5,2,   35.28,2,    0.00,2,    2.44,2,-999.000,9,-999.000,9,-999.0000,9,  -999.0,9, -999.00,9,-999.0000,9, -999.00,9, -999.00,9, -999.00,  -999.0,9, -999.00,9,     -999.0,9,  -999.0,9, 20170718,      820, -30.0801, 173.4994,        0.0,1,      0.061,1,      4.118,1,      0.148,1,     -999.0,     -999.0,9,     -999.0,9,     -999.0,9,     -999.0,9,     1.8857,2,     -999.0,9
320620170703,        P06,      70,          1,          3,         38,2,20170718,       0951,   -30.0800,   173.4991,       2505,  2364.6,   1.9478,  34.6653,2,  34.6710,2, 153.9553,2, 154.1107,2,   120.8,2,   35.27,2,    0.00,2,    2.44,2,-999.000,9,-999.000,9,-999.0000,9,  2309.1,2, 2395.43,2,   7.5771,2, -999.00,9, -999.00,9, -999.00,    38.0,2, -999.00,9,     -999.0,1,  -999.0,9, 20170718,      823, -30.0801, 173.4993,        0.0,1,      0.061,1,      4.088,1,      0.143,1,      25.04,     -999.0,9,     -999.0,9,     -999.0,9,     -999.0,9,     1.9458,2,     -999.0,9
320620170703,        P06,      70,          1,          4,          4,2,20170718,       0951,   -30.0800,   173.4991,       2505,  2162.8,   2.1562,  34.6472,2,  34.6460,2, 153.2873,2, 153.4148,2,   115.5,2,   35.15,2,    0.00,2,    2.44,2,-999.000,9,-999.000,9,-999.0000,9,  -999.0,9, -999.00,9,-999.0000,9, -999.00,9, -999.00,9, -999.00,  -999.0,9, -999.00,9,     -999.0,9,  -999.0,9, 20170718,      828, -30.0800, 173.4992,        0.0,1,      0.062,1,      0.422,1,      0.139,1,     -999.0,     -999.0,9,     -999.0,9,     -999.0,9,     -999.0,9,     2.1580,2,     -999.0,9
320620170703,        P06,      70,          1,          5,         39,2,20170718,       0951,   -30.0800,   173.4991,       2505,  1988.5,   2.3792,  34.6277,2,  34.6270,2, 154.0880,2, 153.7168,2,   109.4,2,   34.92,2,    0.00,2,    2.44,2,-999.000,9,-999.000,9,-999.0000,9,  2293.4,2, 2382.35,2,   7.5756,2, -999.00,9, -999.00,9, -999.00,    40.8,2, -999.00,9,     -999.0,1,  -999.0,9, 20170718,      832, -30.0800, 173.4995,        0.0,1,      0.062,1,      3.226,1,      0.139,1,      25.02,     -999.0,9,     -999.0,9,     -999.0,9,     -999.0,9,     2.3714,2,     -999.0,9
320620170703,        P06,      70,          1,          6,          6,2,20170718,       0951,   -30.0800,   173.4991,       2505,  1887.4,   2.5299,  34.6145,2,  34.6160,2, 155.1844,2, 155.3701,2,   104.7,2,   34.74,2,    0.00,2,    2.41,2,-999.000,9,-999.000,9,-999.0000,9,  -999.0,9, -999.00,9,-999.0000,9, -999.00,9, -999.00,9, -999.00,  -999.0,9, -999.00,9,     -999.0,9,  -999.0,9, 20170718,      835, -30.0800, 173.4996,        0.0,1,      0.062,1,      0.543,1,      0.140,1,     -999.0,     -999.0,9,     -999.0,9,     -999.0,9,     -999.0,9,     2.5335,2,     -999.0,9
320620170703,        P06,      70,          1,          7,         40,2,20170718,       0951,   -30.0800,   173.4991,       2505,  1785.9,   2.6806,  34.6019,2,  34.6054,2, 156.4899,2, 156.7879,2,   100.3,2,   34.53,2,    0.00,2,    2.40,2,-999.000,9,-999.000,9,-999.0000,9,  2283.9,2, 2376.17,2,   7.5804,2, -999.00,9, -999.00,9, -999.00,    41.6,2, -999.00,9,     -999.0,1,  -999.0,9, 20170718,      838, -30.0800, 173.4996,        0.0,1,      0.061,1,      1.436,1,      0.143,1,      25.03,     -999.0,9,     -999.0,9,     -999.0,9,     -999.0,9,     2.6715,2,     -999.0,9
320620170703,        P06,      70,          1,          8,          8,2,20170718,       0951,   -30.0800,   173.4991,       2505,  1683.1,   2.8559,  34.5884,2,  34.5881,2, 158.8900,2, 158.7247,2,    95.1,2,   34.15,2,    0.00,2,    2.39,2,-999.000,9,-999.000,9,-999.0000,9,  -999.0,9, -999.00,9,-999.0000,9, -999.00,9, -999.00,9, -999.00,  -999.0,9, -999.00,9,     -999.0,9,  -999.0,9, 20170718,      842, -30.0800, 173.4996,        0.0,1,      0.061,1,      4.230,1,      0.142,1,     -999.0,     -999.0,9,     -999.0,9,     -999.0,9,     -999.0,9,     2.8476,2,     -999.0,9
320620170703,        P06,      70,          1,          9,         41,2,20170718,       0951,   -30.0800,   173.4991,       2505,  1581.8,   3.0479,  34.5652,2,  34.5639,2, 161.8076,2, 161.9866,2,    87.4,2,   33.91,2,    0.00,2,    2.34,2,-999.000,9,-999.000,9,-999.0000,9,  2270.0,2, 2356.76,2,   7.5845,2, -999.00,9, -999.00,9, -999.00,    40.2,2, -999.00,9,     -999.0,1,  -999.0,9, 20170718,      845, -30.0800, 173.4998,        0.0,1,      0.061,1,      4.387,1,      0.143,1,      25.05,     -999.0,9,     -999.0,9,     -999.0,9,     -999.0,9,     3.0807,2,     -999.0,9
320620170703,        P06,      70,          1,         10,         10,2,20170718,       0951,   -30.0800,   173.4991,       2505,  1481.4,   3.3402,  34.5406,2,  34.5400,2, 165.2914,2, 165.2458,2,    79.0,2,   33.40,2,    0.00,2,    2.31,2,-999.000,9,-999.000,9,-999.0000,9,  -999.0,9, -999.00,9,-999.0000,9, -999.00,9, -999.00,9, -999.00,  -999.0,9, -999.00,9,     -999.0,9,  -999.0,9, 20170718,      848, -30.0799, 173.4999,        0.0,1,      0.061,1,      0.254,1,      0.143,1,     -999.0,     -999.0,9,     -999.0,9,     -999.0,9,     -999.0,9,     3.3771,2,     -999.0,9
320620170703,        P06,      70,          1,         11,         42,2,20170718,       0951,   -30.0800,   173.4991,       2505,  1378.0,   3.6914,  34.5158,2,  34.5188,3, 169.7457,2, 169.1733,2,    70.0,2,   32.63,2,    0.00,2,    2.25,2,-999.000,9,-999.000,9,-999.0000,9,  2246.1,2, 2336.66,2,   7.5968,2, -999.00,9, -999.00,9, -999.00,    41.5,2, -999.00,9,     -999.0,1,  -999.0,9, 20170718,      851, -30.0799, 173.5000,        0.0,1,      0.061,1,      0.117,1,      0.141,1,      25.03,     -999.0,9,     -999.0,9,     -999.0,9,     -999.0,9,     3.7672,2,     -999.0,9
320620170703,        P06,      70,          1,         12,         12,2,20170718,       0951,   -30.0800,   173.4991,       2505,  1277.4,   4.1950,  34.4898,2,  34.4893,3, 175.7856,2, 175.6441,2,    59.2,2,   31.89,2,    0.00,2,    2.18,2,-999.000,9,-999.000,9,-999.0000,9,  -999.0,9, -999.00,9,-999.0000,9, -999.00,9, -999.00,9, -999.00,  -999.0,9, -999.00,9,     -999.0,9,  -999.0,9, 20170718,      854, -30.0799, 173.4999,        0.0,1,      0.060,1,      2.588,1,      0.148,1,     -999.0,     -999.0,9,     -999.0,9,     -999.0,9,     -999.0,9,     4.1962,2,     -999.0,9
320620170703,        P06,      70,          1,         13,         43,2,20170718,       0951,   -30.0800,   173.4991,       2505,  1174.9,   4.6913,  34.4836,2,  34.4850,2, 180.2515,2, 180.8421,2,    51.8,2,   30.70,2,    0.00,2,    2.10,2,-999.000,9,-999.000,9,-999.0000,9,  2221.4,2, 2318.77,2,   7.6190,2, -999.00,9, -999.00,9, -999.00,    38.1,3, -999.00,9,     -999.0,1,  -999.0,9, 20170718,      858, -30.0799, 173.4998,        0.0,1,      0.061,1,      2.375,1,      0.143,1,      25.03,     -999.0,9,     -999.0,9,     -999.0,9,     -999.0,9,     4.6607,2,     -999.0,9
320620170703,        P06,      70,          1,         14,         14,2,20170718,       0951,   -30.0800,   173.4991,       2505,  1074.5,   5.1840,  34.4708,2,  34.4714,2, 186.3375,2, 186.0331,2,    42.0,2,   29.48,2,    0.00,2,    2.01,2,-999.000,9,-999.000,9,-999.0000,9,  -999.0,9, -999.00,9,-999.0000,9, -999.00,9, -999.00,9, -999.00,    44.2,2, -999.00,9,     -999.0,1,  -999.0,9, 20170718,      901, -30.0800, 173.4998,        0.0,1,      0.061,1,      2.665,1,      0.143,1,     -999.0,     -999.0,9,     -999.0,9,     -999.0,9,     -999.0,9,     5.1960,2,     -999.0,9
320620170703,        P06,      70,          1,         15,         15,2,20170718,       0951,   -30.0800,   173.4991,       2505,   973.2,   5.7456,  34.4703,2,  34.4718,2, 192.1386,2, 192.1922,2,    32.9,2,   27.85,2,    0.00,2,    1.88,2,-999.000,9,-999.000,9,-999.0000,9,  2191.8,2, 2299.85,2,   7.6497,2, -999.00,9, -999.00,9, -999.00,    44.0,2, -999.00,9,     -999.0,1,  -999.0,9, 20170718,      904, -30.0799, 173.5000,        0.0,1,      0.060,1,      0.006,1,      0.145,1,      25.03,     -999.0,9,     -999.0,9,     -999.0,9,     -999.0,9,     5.8121,2,     -999.0,9
320620170703,        P06,      70,          1,         16,         16,2,20170718,       0951,   -30.0800,   173.4991,       2505,   871.2,   6.3572,  34.4801,2,  34.4877,2, 198.3315,2, 198.6743,2,    23.8,2,   26.04,2,    0.00,2,    1.76,2,-999.000,9,-999.000,9,-999.0000,9,  -999.0,9, -999.00,9,-999.0000,9, -999.00,9, -999.00,9, -999.00,    43.0,2, -999.00,9,     -999.0,1,  -999.0,9, 20170718,      908, -30.0799, 173.5001,        0.0,1,      0.060,1,      1.061,1,      0.141,1,     -999.0,     -999.0,9,     -999.0,9,     -999.0,9,     -999.0,9,     6.5868,2,     -999.0,9
320620170703,        P06,      70,          1,         17,         17,2,20170718,       0951,   -30.0800,   173.4991,       2505,   770.3,   6.8908,  34.4575,2,  34.4553,2, 210.5418,2, 210.2532,2,    15.4,2,   24.42,2,    0.00,2,    1.65,2,-999.000,9,-999.000,9,-999.0000,9,  2164.9,2, 2283.44,2,   7.6858,2, -999.00,9, -999.00,9, -999.00,    42.2,2, -999.00,9,     -999.0,1,  -999.0,9, 20170718,      911, -30.0799, 173.4998,        0.0,1,      0.060,1,      3.079,1,      0.142,1,      25.03,     -999.0,9,     -999.0,9,     -999.0,9,     -999.0,9,     6.9296,2,     -999.0,9
320620170703,        P06,      70,          1,         18,         18,2,20170718,       0951,   -30.0800,   173.4991,       2505,   670.0,   7.6340,  34.5028,2,  34.4909,2, 216.2388,2, 216.8690,2,     9.6,2,   22.21,2,    0.00,2,    1.48,2,-999.000,9,-999.000,9,-999.0000,9,  2152.2,2, -999.00,9,   7.7047,2, -999.00,9, -999.00,9, -999.00,    44.8,2, -999.00,9,     -999.0,1,  -999.0,9, 20170718,      914, -30.0800, 173.4995,        0.0,1,      0.060,1,      4.699,1,      0.143,1,      25.02,     -999.0,9,     -999.0,9,     -999.0,9,     -999.0,9,     7.6933,2,     -999.0,9
320620170703,        P06,      70,          1,         19,         19,2,20170718,       0951,   -30.0800,   173.4991,       2505,   570.4,   8.7979,  34.6096,2,  34.6225,2, 211.0713,2, 210.6862,2,     7.3,2,   19.68,2,    0.00,2,    1.32,2,-999.000,9,-999.000,9,-999.0000,9,  2149.2,2, 2282.60,2,   7.7247,2, -999.00,9, -999.00,9, -999.00,    45.0,2, -999.00,9,     -999.0,1,  -999.0,9, 20170718,      918, -30.0800, 173.4995,        0.0,1,      0.059,1,      0.006,1,      0.147,1,      25.03,     -999.0,9,     -999.0,9,     -999.0,9,     -999.0,9,     8.9328,2,     -999.0,9
320620170703,        P06,      70,          1,         20,         20,2,20170718,       0951,   -30.0800,   173.4991,       2505,   488.7,  10.6224,  34.8372,2,  34.8180,2, 203.5622,2, 203.1780,2,     6.2,2,   16.64,2,    0.00,2,    1.11,2,-999.000,9,-999.000,9,-999.0000,9,  -999.0,9, -999.00,9,-999.0000,9, -999.00,9, -999.00,9, -999.00,    44.9,2, -999.00,9,     -999.0,1,  -999.0,9, 20170718,      921, -30.0800, 173.4995,        0.0,1,      0.059,1,      0.006,1,      0.147,1,     -999.0,     -999.0,9,     -999.0,9,     -999.0,9,     -999.0,9,    10.4953,2,     -999.0,9
320620170703,        P06,      70,          1,         21,         21,2,20170718,       0951,   -30.0800,   173.4991,       2505,   438.7,  11.7042,  34.9905,2,  34.9097,2, 199.8172,2, 200.1213,2,     6.1,2,   15.63,2,    0.00,2,    1.06,2,-999.000,9,-999.000,9,-999.0000,9,  2139.5,2, 2295.59,2,   7.7713,2, -999.00,9, -999.00,9, -999.00,    46.5,2, -999.00,9,     -999.0,1,  -999.0,9, 20170718,      923, -30.0800, 173.4995,        0.0,1,      0.060,1,      0.007,1,      0.147,1,      25.04,     -999.0,9,     -999.0,9,     -999.0,9,     -999.0,9,    11.1127,2,     -999.0,9
320620170703,        P06,      70,          1,         22,         22,2,20170718,       0951,   -30.0800,   173.4991,       2505,   387.6,  12.5408,  35.0898,2,  35.0581,2, 200.6502,2, 200.5844,2,     5.0,2,   13.22,2,    0.00,2,    0.89,2,-999.000,9,-999.000,9,-999.0000,9,  -999.0,9, -999.00,9,-999.0000,9, -999.00,9, -999.00,9, -999.00,  -999.0,9, -999.00,9,     -999.0,9,  -999.0,9, 20170718,      925, -30.0800, 173.4994,        0.0,1,      0.059,1,      0.919,1,      0.145,1,     -999.0,     -999.0,9,     -999.0,9,     -999.0,9,     -999.0,9,    12.2223,2,     -999.0,9
320620170703,        P06,      70,          1,         23,         23,2,20170718,       0951,   -30.0800,   173.4991,       2505,   337.1,  13.3684,  35.1937,2,  35.1488,2, 202.3255,2, 202.3229,2,     4.2,2,   11.49,2,    0.00,2,    0.79,2,-999.000,9,-999.000,9,-999.0000,9,  2125.7,2, 2304.91,2,   7.8220,2, -999.00,9, -999.00,9, -999.00,    50.4,2, -999.00,9,     -999.0,1,  -999.0,9, 20170718,      928, -30.0800, 173.4993,        0.0,1,      0.060,1,      3.814,1,      0.147,1,      25.03,     -999.0,9,     -999.0,9,     -999.0,9,     -999.0,9,    13.0220,2,     -999.0,9
320620170703,        P06,      70,          1,         24,         24,2,20170718,       0951,   -30.0800,   173.4991,       2505,   286.3,  14.3721,  35.2955,2,  35.2808,2, 203.5216,2, 203.7933,2,     3.0,2,    9.18,2,    0.00,2,    0.64,2,-999.000,9,-999.000,9,-999.0000,9,  2114.8,2, -999.00,9,   7.8529,2, -999.00,9, -999.00,9, -999.00,    51.9,2, -999.00,9,     -999.0,1,  -999.0,9, 20170718,      930, -30.0800, 173.4993,        0.0,1,      0.060,1,      0.043,1,      0.149,1,      25.05,     -999.0,9,     -999.0,9,     -999.0,9,     -999.0,9,    14.2543,2,     -999.0,9
320620170703,        P06,      70,          1,         25,         25,2,20170718,       0951,   -30.0800,   173.4991,       2505,   241.4,  15.4073,  35.3918,2,  35.3756,2, 196.9918,2, 197.2678,2,     2.4,2,    8.39,2,    0.00,2,    0.58,2,-999.000,9,-999.000,9,-999.0000,9,  2110.0,2, 2316.57,2,   7.8739,2, -999.00,9, -999.00,9, -999.00,    52.4,2,   11.50,2,     -999.0,1,  -999.0,9, 20170718,      932, -30.0800, 173.4993,        0.0,1,      0.059,1,      1.917,1,      0.163,1,      25.02,     -999.0,9,     -999.0,9,     -999.0,9,     -999.0,9,    15.2739,2,     -999.0,9
320620170703,        P06,      70,          1,         26,         26,2,20170718,       0951,   -30.0800,   173.4991,       2505,   216.3,  16.0225,  35.4485,2,  35.4312,2, 196.4600,2, 196.0308,2,     2.1,2,    7.67,2,    0.00,2,    0.53,2,-999.000,9,-999.000,9,-999.0000,9,  2102.5,2, -999.00,9,   7.8887,2, -999.00,9, -999.00,9, -999.00,  -999.0,9, -999.00,9,     -999.0,9,  -999.0,9, 20170718,      934, -30.0800, 173.4993,        0.0,1,      0.059,1,      1.366,1,      0.150,1,      25.01,     -999.0,9,     -999.0,9,     -999.0,9,     -999.0,9,    15.8593,2,     -999.0,9
320620170703,        P06,      70,          1,         27,         27,2,20170718,       0951,   -30.0800,   173.4991,       2505,   190.6,  16.4145,  35.4856,2,  35.4849,2, 196.2138,2, 196.5868,2,     2.0,2,    6.77,2,    0.02,2,    0.47,2,-999.000,9,-999.000,9,-999.0000,9,  2097.6,2, 2321.05,2,   7.9031,2, -999.00,9, -999.00,9, -999.00,    49.1,3,   10.00,2,     -999.0,1,  -999.0,9, 20170718,      936, -30.0800, 173.4994,        0.0,1,      0.060,1,      0.199,1,      0.150,1,      25.02,     -999.0,9,     -999.0,9,     -999.0,9,     -999.0,9,    16.4591,2,     -999.0,9
320620170703,        P06,      70,          1,         28,         28,2,20170718,       0951,   -30.0800,   173.4991,       2505,   166.5,  16.9890,  35.5309,2,  35.5358,2, 202.1539,2, 202.0326,2,     1.4,2,    5.22,2,    0.02,2,    0.37,2,-999.000,9,-999.000,9,-999.0000,9,  2092.5,2, -999.00,9,   7.9209,2, -999.00,9, -999.00,9, -999.00,  -999.0,9, -999.00,9,     -999.0,9,  -999.0,9, 20170718,      938, -30.0800, 173.4992,        0.0,1,      0.062,1,      0.911,1,      0.153,1,      24.99,     -999.0,9,     -999.0,9,     -999.0,9,     -999.0,9,    17.1092,2,     -999.0,9
320620170703,        P06,      70,          1,         29,         29,2,20170718,       0951,   -30.0800,   173.4991,       2505,   141.4,  17.6501,  35.5861,2,  35.7031,2, 230.9733,3, 225.1784,2,     0.6,2,    1.13,2,    0.18,2,    0.14,2,-999.000,9,-999.000,9,-999.0000,9,  2069.5,2, 2334.61,2,   7.9811,2, -999.00,9, -999.00,9, -999.00,    61.3,2,    5.40,2,     -999.0,1,  -999.0,9, 20170718,      940, -30.0800, 173.4991,        0.0,1,      0.076,1,      0.293,1,      0.161,1,      25.02,     -999.0,9,     -999.0,9,     -999.0,9,     -999.0,9,    18.2587,2,     -999.0,9
320620170703,        P06,      70,          1,         30,         30,2,20170718,       0951,   -30.0800,   173.4991,       2505,   115.7,  18.4366,  35.7120,2,  35.7173,2, 220.8479,3, 226.2777,2,     0.5,2,    0.85,2,    0.19,2,    0.12,2,-999.000,9,-999.000,9,-999.0000,9,  -999.0,9, -999.00,9,-999.0000,9, -999.00,9, -999.00,9, -999.00,    63.1,2,    5.30,2,     -999.0,1,  -999.0,9, 20170718,      942, -30.0800, 173.4991,        0.0,1,      0.116,1,      0.534,1,      0.187,1,     -999.0,     -999.0,9,     -999.0,9,     -999.0,9,     -999.0,9,    18.3294,2,     -999.0,9
320620170703,        P06,      70,          1,         31,         31,2,20170718,       0951,   -30.0800,   173.4991,       2505,    91.0,  18.8081,  35.7919,2,  35.7720,2, 227.6889,2, 225.9690,2,     0.4,2,    0.52,2,    0.10,2,    0.09,2,-999.000,9,-999.000,9,-999.0000,9,  2064.2,2, 2341.37,2,   7.9970,2, -999.00,9, -999.00,9, -999.00,    58.5,3,    5.30,2,     -999.0,1,  -999.0,9, 20170718,      944, -30.0800, 173.4991,        0.0,1,      0.186,1,      4.383,1,      0.214,1,      25.12,     -999.0,9,     -999.0,9,     -999.0,9,     -999.0,9,    18.7572,2,     -999.0,9
320620170703,        P06,      70,          1,         32,         32,2,20170718,       0951,   -30.0800,   173.4991,       2505,    64.9,  18.8829,  35.7965,2,  35.7979,2, 229.1964,2, 227.1116,2,     0.3,2,    0.26,2,    0.04,2,    0.06,2,-999.000,9,-999.000,9,-999.0000,9,  -999.0,9, -999.00,9,-999.0000,9, -999.00,9, -999.00,9, -999.00,    62.2,2,    5.10,2,     -999.0,1,  -999.0,9, 20170718,      946, -30.0800, 173.4991,        0.0,1,      0.194,1,      4.623,1,      0.208,1,     -999.0,     -999.0,9,     -999.0,9,     -999.0,9,     -999.0,9,    18.9589,2,     -999.0,9