BOTTLE,20230922CCHSIOCBG
EXPOCODE,SECT_ID,STNNBR,CASTNO,SAMPNO,BTLNBR,BTLNBR_FLAG_W,DATE,TIME,LATITUDE,LONGITUDE,DEPTH,CTDPRS,CTDTMP,CTDSAL,CTDSAL_FLAG_W,SALNTY,SALNTY_FLAG_W,CTDOXY,CTDOXY_FLAG_W,OXYGEN,OXYGEN_FLAG_W,SILCAT,SILCAT_FLAG_W,NITRAT,NITRAT_FLAG_W,NITRIT,NITRIT_FLAG_W,PHSPHT,PHSPHT_FLAG_W,CFC-11,CFC-11_FLAG_W,CFC-12,CFC-12_FLAG_W,SF6,SF6_FLAG_W,TCARBN,TCARBN_FLAG_W,ALKALI,ALKALI_FLAG_W,PH_TOT,PH_TOT_FLAG_W,DELC13,DELC13_FLAG_W,DELC14,DELC14_FLAG_W,C14ERR,DOC,DOC_FLAG_W,TDN,TDN_FLAG_W,TON,TON_FLAG_W,D15N_NO3,D15N_NO3_FLAG_W,BTL_DATE,BTL_TIME,BTL_LAT,BTL_LON,CTDRINKO,CTDRINKO_FLAG_W,CTDFLUOR,CTDFLUOR_FLAG_W,CTDXMISS,CTDXMISS_FLAG_W,CTDBACKSCATTER,CTDBACKSCATTER_FLAG_W,PH_TMP,D18O_NO3,D18O_NO3_FLAG_W,DOP,DOP_FLAG_W,HPLC,HPLC_FLAG_W,POC,POC_FLAG_W,REFTMP,REFTMP_FLAG_W,TDP,TDP_FLAG_W
,,,,,,,,,,,METERS,DBAR,ITS-90,PSS-78,,PSS-78,,UMOL/KG,,UMOL/KG,,UMOL/KG,,UMOL/KG,,UMOL/KG,,UMOL/KG,,PMOL/KG,,PMOL/KG,,FMOL/KG,,UMOL/KG,,UMOL/KG,,,,/MILLE,,/MILLE,,/MILLE,UMOL/KG,,UMOL/KG,,UMOL/KG,,/MILLE,,,,,,VOLTS,,VOLTS,,VOLTS,,VOLTS,,DEGC,/MILLE,,UMOL/KG,,,,UG/L,,ITS-90,,UMOL/KG,
320620170703,        P06,      91,          1,          1,          1,2,20170726,       1604,   -32.4992,  -178.2789,       5157,  5245.8,   1.0791,  34.7076,2,  34.7089,2, 206.5689,2, 206.6844,2,   122.5,2,   32.02,2,    0.00,2,    2.21,2,   0.205,6,   0.113,6,   0.0000,6,  2263.8,6, 2360.94,2,   7.6061,2, -999.00,9, -999.00,9, -999.00,  -999.0,9, -999.00,9,     -999.0,9,  -999.0,9, 20170726,     1347, -32.4999,-178.2784,        0.0,1,      0.061,1,      4.695,1,      0.137,1,      25.04,     -999.0,9,     -999.0,9,     -999.0,9,     -999.0,9,     1.0801,2,     -999.0,9
320620170703,        P06,      91,          1,          2,          2,2,20170726,       1604,   -32.4992,  -178.2789,       5157,  4965.3,   1.0536,  34.7082,2,  34.7077,2, 206.5689,2, 207.0337,2,   121.9,2,   32.00,2,    0.00,2,    2.22,2,   0.205,2,   0.117,2,   0.0000,2,  2263.0,2, 2359.44,2,   7.6057,2, -999.00,9, -999.00,9, -999.00,  -999.0,9, -999.00,9,     -999.0,9,  -999.0,9, 20170726,     1357, -32.4997,-178.2786,        0.0,1,      0.061,1,      4.696,1,      0.139,1,      25.03,     -999.0,9,     -999.0,9,     -999.0,9,     -999.0,9,     1.0536,2,     -999.0,9
320620170703,        P06,      91,          1,          3,          3,2,20170726,       1604,   -32.4992,  -178.2789,       5157,  4683.2,   1.0268,  34.7084,2,  34.7089,2, 206.5689,2, 206.5773,2,   121.7,2,   32.02,2,    0.00,2,    2.22,2,   0.205,2,   0.115,2,   0.0000,2,  2263.5,2, 2361.64,2,   7.6059,2, -999.00,9, -999.00,9, -999.00,  -999.0,9, -999.00,9,     -999.0,9,  -999.0,9, 20170726,     1405, -32.4997,-178.2787,        0.0,1,      0.061,1,      4.696,1,      0.138,1,      25.02,     -999.0,9,     -999.0,9,     -999.0,9,     -999.0,9,     1.0279,2,     -999.0,9
320620170703,        P06,      91,          1,          4,          4,2,20170726,       1604,   -32.4992,  -178.2789,       5157,  4374.1,   1.0121,  34.7096,2,  34.7097,2, 206.5689,2, 206.4943,2,   121.2,2,   31.99,2,    0.00,2,    2.22,2,   0.199,2,   0.110,2,   0.0000,2,  2262.8,2, 2356.89,2,   7.6062,2, -999.00,9, -999.00,9, -999.00,  -999.0,9, -999.00,9,     -999.0,9,  -999.0,9, 20170726,     1412, -32.4998,-178.2785,        0.0,1,      0.061,1,      4.698,1,      0.136,1,      25.03,     -999.0,9,     -999.0,9,     -999.0,9,     -999.0,9,     1.0111,2,     -999.0,9
320620170703,        P06,      91,          1,          5,          5,2,20170726,       1604,   -32.4992,  -178.2789,       5157,  4065.4,   1.0523,  34.7123,2,  34.7138,2, 206.4187,2, 205.9360,2,   119.2,2,   31.87,2,    0.00,2,    2.21,2,   0.172,2,   0.099,2,   0.0000,2,  2261.5,2, 2358.95,2,   7.6074,2, -999.00,9, -999.00,9, -999.00,  -999.0,9, -999.00,9,     -999.0,9,  -999.0,9, 20170726,     1419, -32.4999,-178.2783,        0.0,1,      0.061,1,      4.702,1,      0.132,1,      25.05,     -999.0,9,     -999.0,9,     -999.0,9,     -999.0,9,     1.0538,2,     -999.0,9
320620170703,        P06,      91,          1,          6,          6,2,20170726,       1604,   -32.4992,  -178.2789,       5157,  3758.5,   1.2078,  34.7188,2,  34.7195,2, 202.5873,2, 202.7538,2,   114.3,2,   31.66,2,    0.00,2,    2.20,2,   0.140,2,   0.082,2,   0.0000,2,  2260.9,2, 2362.26,6,   7.6072,2, -999.00,9, -999.00,9, -999.00,  -999.0,9, -999.00,9,     -999.0,9,  -999.0,9, 20170726,     1425, -32.4999,-178.2783,        0.0,1,      0.060,1,      4.702,1,      0.130,1,      25.05,     -999.0,9,     -999.0,9,     -999.0,9,     -999.0,9,     1.2032,2,     -999.0,9
320620170703,        P06,      91,          1,          7,          7,2,20170726,       1604,   -32.4992,  -178.2789,       5157,  3452.1,   1.4137,  34.7236,2,  34.7248,2, 196.6708,2, 196.5210,2,   108.4,2,   31.59,2,    0.00,2,    2.20,2,   0.104,2,   0.063,2,   0.0000,2,  2261.6,2, -999.00,9,   7.6057,2, -999.00,9, -999.00,9, -999.00,  -999.0,9, -999.00,9,     -999.0,9,  -999.0,9, 20170726,     1431, -32.5000,-178.2783,        0.0,1,      0.061,1,      4.702,1,      0.132,1,      25.03,     -999.0,9,     -999.0,9,     -999.0,9,     -999.0,9,     1.4436,2,     -999.0,9
320620170703,        P06,      91,          1,          8,          8,2,20170726,       1604,   -32.4992,  -178.2789,       5157,  3144.8,   1.6372,  34.7174,2,  34.7142,2, 185.0534,2, 185.0942,2,   106.4,2,   32.16,2,    0.00,2,    2.26,2,   0.083,2,   0.051,2,   0.0000,2,  2268.5,2, 2363.96,2,   7.5973,2, -999.00,9, -999.00,9, -999.00,  -999.0,9, -999.00,9,     -999.0,9,  -999.0,9, 20170726,     1437, -32.5002,-178.2781,        0.0,1,      0.061,1,      4.701,1,      0.142,1,      25.04,     -999.0,9,     -999.0,9,     -999.0,9,     -999.0,9,     1.6992,2,     -999.0,9
320620170703,        P06,      91,          1,          9,          9,2,20170726,       1604,   -32.4992,  -178.2789,       5157,  2874.3,   1.8304,  34.6924,2,  34.6906,2, 171.1415,2, 170.5277,2,   112.4,2,   33.49,2,    0.00,2,    2.34,2,   0.058,2,   0.040,2,   0.0000,2,  2285.2,2, 2371.85,2,   7.5851,2, -999.00,9, -999.00,9, -999.00,  -999.0,9, -999.00,9,     -999.0,9,  -999.0,9, 20170726,     1443, -32.5002,-178.2781,        0.0,1,      0.061,1,      4.700,1,      0.136,1,      25.04,     -999.0,9,     -999.0,9,     -999.0,9,     -999.0,9,     1.8402,2,     -999.0,9
320620170703,        P06,      91,          1,         10,         10,2,20170726,       1604,   -32.4992,  -178.2789,       5157,  2618.1,   2.0323,  34.6551,2,  34.6553,2, 152.4550,2, 151.5269,2,   121.3,2,   35.27,2,    0.00,2,    2.47,2,   0.034,2,   0.026,2,   0.0000,2,  2307.1,2, 2394.33,2,   7.5716,2, -999.00,9, -999.00,9, -999.00,  -999.0,9, -999.00,9,     -999.0,9,  -999.0,9, 20170726,     1448, -32.4998,-178.2784,        0.0,1,      0.061,1,      4.700,1,      0.138,1,      25.05,     -999.0,9,     -999.0,9,     -999.0,9,     -999.0,9,     2.0268,2,     -999.0,9
320620170703,        P06,      91,          1,         11,         11,2,20170726,       1604,   -32.4992,  -178.2789,       5157,  2363.2,   2.1816,  34.6389,2,  34.6401,2, 149.0485,2, 149.8475,2,   116.9,2,   35.42,2,    0.00,2,    2.48,2,   0.033,2,   0.026,2,   0.0000,2,  2303.7,6, 2389.13,2,   7.5684,2, -999.00,9, -999.00,9, -999.00,  -999.0,9, -999.00,9,     -999.0,9,  -999.0,9, 20170726,     1454, -32.4995,-178.2787,        0.0,1,      0.061,1,      4.702,1,      0.134,1,      25.03,     -999.0,9,     -999.0,9,     -999.0,9,     -999.0,9,     2.1936,2,     -999.0,9
320620170703,        P06,      91,          1,         12,         12,2,20170726,       1604,   -32.4992,  -178.2789,       5157,  2109.1,   2.3015,  34.6261,2,  34.6278,2, 150.2525,2, 150.6898,2,   112.5,2,   35.24,2,    0.00,2,    2.46,2,   0.039,2,   0.030,2,   0.0000,2,  2299.1,2, 2380.89,2,   7.5691,2, -999.00,9, -999.00,9, -999.00,  -999.0,9, -999.00,9,     -999.0,9,  -999.0,9, 20170726,     1459, -32.4996,-178.2787,        0.0,1,      0.061,1,      4.702,1,      0.137,1,      25.03,     -999.0,9,     -999.0,9,     -999.0,9,     -999.0,9,     2.2980,2,     -999.0,9
320620170703,        P06,      91,          1,         13,         13,2,20170726,       1604,   -32.4992,  -178.2789,       5157,  1886.5,   2.4556,  34.6070,2,  34.6073,2, 151.2299,2, 151.7917,2,   105.7,2,   35.22,2,    0.00,2,    2.45,2,   0.038,2,   0.028,2,   0.0000,2,  2292.2,2, -999.00,9,   7.5674,2, -999.00,9, -999.00,9, -999.00,  -999.0,9, -999.00,9,     -999.0,9,  -999.0,9, 20170726,     1504, -32.5000,-178.2782,        0.0,1,      0.061,1,      4.703,1,      0.138,1,      25.03,     -999.0,9,     -999.0,9,     -999.0,9,     -999.0,9,     2.4469,2,     -999.0,9
320620170703,        P06,      91,          1,         14,         14,2,20170726,       1604,   -32.4992,  -178.2789,       5157,  1683.0,   2.6610,  34.5776,2,  34.5842,2, 155.8200,2, 155.7673,2,    95.1,2,   34.84,2,    0.00,2,    2.43,2,   0.051,2,   0.035,2,   0.0000,2,  2280.2,2, 2363.28,2,   7.5699,2, -999.00,9, -999.00,9, -999.00,  -999.0,9, -999.00,9,     -999.0,9,  -999.0,9, 20170726,     1509, -32.5001,-178.2781,        0.0,1,      0.061,1,      4.702,1,      0.141,1,      25.02,     -999.0,9,     -999.0,9,     -999.0,9,     -999.0,9,     2.6357,2,     -999.0,9
320620170703,        P06,      91,          1,         15,         15,2,20170726,       1604,   -32.4992,  -178.2789,       5157,  1550.8,   2.8896,  34.5388,2,  34.5433,2, 161.3509,2, 161.8390,2,    83.1,2,   34.43,2,    0.00,2,    2.39,2,   0.081,2,   0.056,2,   0.0000,2,  2264.5,2, -999.00,9,   7.5732,2, -999.00,9, -999.00,9, -999.00,  -999.0,9, -999.00,9,     -999.0,9,  -999.0,9, 20170726,     1512, -32.4999,-178.2782,        0.0,1,      0.061,1,      4.703,1,      0.138,1,      25.04,     -999.0,9,     -999.0,9,     -999.0,9,     -999.0,9,     2.8679,2,     -999.0,9
320620170703,        P06,      91,          1,         16,         16,2,20170726,       1604,   -32.4992,  -178.2789,       5157,  1449.7,   3.1078,  34.4951,2,  34.5029,2, 166.4236,2, 166.8268,2,    72.9,2,   34.22,2,    0.00,2,    2.37,2,   0.102,2,   0.066,2,   0.0000,2,  2254.7,2, 2337.02,2,   7.5739,2, -999.00,9, -999.00,9, -999.00,  -999.0,9, -999.00,9,     -999.0,9,  -999.0,9, 20170726,     1515, -32.4999,-178.2783,        0.0,1,      0.060,1,      4.703,1,      0.138,1,      25.04,     -999.0,9,     -999.0,9,     -999.0,9,     -999.0,9,     3.0557,2,     -999.0,9
320620170703,        P06,      91,          1,         17,         17,2,20170726,       1604,   -32.4992,  -178.2789,       5157,  1348.0,   3.4341,  34.4563,2,  34.4522,2, 173.8999,2, 174.0160,2,    60.9,2,   33.56,2,    0.00,2,    2.32,2,   0.202,2,   0.118,2,   0.0000,2,  2236.3,2, 2320.77,2,   7.5809,2, -999.00,9, -999.00,9, -999.00,  -999.0,9, -999.00,9,     -999.0,9,  -999.0,9, 20170726,     1518, -32.4997,-178.2784,        0.0,1,      0.061,1,      4.703,1,      0.137,1,      25.04,     -999.0,9,     -999.0,9,     -999.0,9,     -999.0,9,     3.3600,2,     -999.0,9
320620170703,        P06,      91,          1,         18,         18,2,20170726,       1604,   -32.4992,  -178.2789,       5157,  1248.0,   3.8113,  34.4009,2,  34.4006,2, 182.9321,2, 182.3642,2,    48.5,2,   32.72,2,    0.00,2,    2.26,2,   0.371,2,   0.201,2,   0.0000,2,  2219.7,2, 2310.64,2,   7.5926,2, -999.00,9, -999.00,9, -999.00,  -999.0,9, -999.00,9,     -999.0,9,  -999.0,9, 20170726,     1521, -32.4995,-178.2785,        0.0,1,      0.060,1,      4.703,1,      0.138,1,      25.05,     -999.0,9,     -999.0,9,     -999.0,9,     -999.0,9,     3.8086,2,     -999.0,9
320620170703,        P06,      91,          1,         19,         19,2,20170726,       1604,   -32.4992,  -178.2789,       5157,  1146.0,   4.3163,  34.3637,2,  34.3615,2, 193.3837,2, 192.7085,2,    36.9,2,   31.37,2,    0.00,2,    2.14,2,   0.699,2,   0.344,2,   0.0750,2,  2202.8,2, 2266.67,4,   7.6123,2, -999.00,9, -999.00,9, -999.00,  -999.0,9, -999.00,9,     -999.0,9,  -999.0,9, 20170726,     1524, -32.4993,-178.2787,        0.0,1,      0.060,1,      4.703,1,      0.138,1,      25.03,     -999.0,9,     -999.0,9,     -999.0,9,     -999.0,9,     4.3483,2,     -999.0,9
320620170703,        P06,      91,          1,         20,         20,2,20170726,       1604,   -32.4992,  -178.2789,       5157,  1045.4,   4.9116,  34.3445,2,  34.3437,2, 201.3488,2, 201.7221,2,    28.1,2,   29.79,2,    0.00,2,    2.03,2,   1.055,2,   0.516,2,   0.1530,2,  2188.1,2, 2296.30,2,   7.6317,2, -999.00,9, -999.00,9, -999.00,  -999.0,9, -999.00,9,     -999.0,9,  -999.0,9, 20170726,     1526, -32.4993,-178.2787,        0.0,1,      0.060,1,      4.702,1,      0.138,1,      25.05,     -999.0,9,     -999.0,9,     -999.0,9,     -999.0,9,     4.8935,2,     -999.0,9
320620170703,        P06,      91,          1,         21,         21,2,20170726,       1604,   -32.4992,  -178.2789,       5157,   943.4,   5.5284,  34.3407,2,  34.3399,2, 211.5384,2, 211.8111,2,    19.6,2,   27.67,2,    0.00,2,    1.88,2,   1.557,2,   0.762,2,   0.1870,2,  2172.3,6, 2281.86,2,   7.6592,2, -999.00,9, -999.00,9, -999.00,  -999.0,9, -999.00,9,     -999.0,9,  -999.0,9, 20170726,     1529, -32.4994,-178.2787,        0.0,1,      0.059,1,      4.702,1,      0.143,1,      25.03,     -999.0,9,     -999.0,9,     -999.0,9,     -999.0,9,     5.5440,2,     -999.0,9
320620170703,        P06,      91,          1,         22,         22,2,20170726,       1604,   -32.4992,  -178.2789,       5157,   842.4,   6.1541,  34.3506,2,  34.3498,2, 221.3638,2, 221.3983,2,    14.0,2,   25.72,2,    0.00,2,    1.74,2,   2.149,2,   1.060,2,   0.3480,2,  2159.3,2, -999.00,9,   7.6806,2, -999.00,9, -999.00,9, -999.00,  -999.0,9, -999.00,9,     -999.0,9,  -999.0,9, 20170726,     1532, -32.4993,-178.2787,        0.0,1,      0.060,1,      4.701,1,      0.140,1,      25.04,     -999.0,9,     -999.0,9,     -999.0,9,     -999.0,9,     6.1186,2,     -999.0,9
320620170703,        P06,      91,          1,         23,         23,2,20170726,       1604,   -32.4992,  -178.2789,       5157,   741.4,   6.7619,  34.3804,2,  34.3709,2, 227.8330,2, 228.0879,2,    10.2,2,   23.91,2,    0.00,2,    1.61,2,   2.707,2,   1.359,2,   0.5460,2,  2153.4,2, 2274.79,2,   7.6966,2, -999.00,9, -999.00,9, -999.00,  -999.0,9, -999.00,9,     -999.0,9,  -999.0,9, 20170726,     1535, -32.4991,-178.2789,        0.0,1,      0.059,1,      4.700,1,      0.142,1,      25.04,     -999.0,9,     -999.0,9,     -999.0,9,     -999.0,9,     6.6462,2,     -999.0,9
320620170703,        P06,      91,          1,         24,         24,2,20170726,       1604,   -32.4992,  -178.2789,       5157,   639.2,   7.3686,  34.4291,2,  34.4163,2, 229.0965,2, 228.6612,2,     7.7,2,   22.26,2,    0.00,2,    1.50,2,   3.193,2,   1.636,2,   0.6620,2,  2148.6,2, 2277.01,2,   7.7056,2, -999.00,9, -999.00,9, -999.00,  -999.0,9, -999.00,9,     -999.0,9,  -999.0,9, 20170726,     1538, -32.4991,-178.2789,        0.0,1,      0.059,1,      4.698,1,      0.150,1,      25.04,     -999.0,9,     -999.0,9,     -999.0,9,     -999.0,9,     7.2503,2,     -999.0,9
320620170703,        P06,      91,          1,         25,         25,2,20170726,       1604,   -32.4992,  -178.2789,       5157,   538.9,   8.2529,  34.5298,2,  34.5311,3, 219.3244,2, 218.9200,2,     6.7,2,   20.25,2,    0.00,2,    1.36,2,   3.091,2,   1.649,2,   0.8240,2,  2147.2,2, 2282.28,2,   7.7182,2, -999.00,9, -999.00,9, -999.00,  -999.0,9, -999.00,9,     -999.0,9,  -999.0,9, 20170726,     1541, -32.4991,-178.2789,        0.0,1,      0.060,1,      4.695,1,      0.146,1,      25.04,     -999.0,9,     -999.0,9,     -999.0,9,     -999.0,9,     8.3822,2,     -999.0,9
320620170703,        P06,      91,          1,         26,         26,2,20170726,       1604,   -32.4992,  -178.2789,       5157,   438.4,   9.7612,  34.7181,2,  34.7378,2, 209.7769,2, 210.0502,2,     6.0,2,   17.03,2,    0.00,2,    1.16,2,   2.818,2,   1.538,2,   1.0030,2,  2139.8,2, 2287.42,2,   7.7503,2, -999.00,9, -999.00,9, -999.00,  -999.0,9, -999.00,9,     -999.0,9,  -999.0,9, 20170726,     1544, -32.4991,-178.2789,        0.0,1,      0.060,1,      4.694,1,      0.149,1,      25.05,     -999.0,9,     -999.0,9,     -999.0,9,     -999.0,9,     9.9549,2,     -999.0,9
320620170703,        P06,      91,          1,         27,         27,2,20170726,       1604,   -32.4992,  -178.2789,       5157,   368.3,  10.7386,  34.8409,2,  34.8552,2, 207.8550,2, 208.1883,2,     5.0,2,   14.92,2,    0.00,2,    1.04,2,   2.770,2,   1.553,2,   1.0330,2,  2134.7,2, 2293.72,6,   7.7690,2, -999.00,9, -999.00,9, -999.00,  -999.0,9, -999.00,9,     -999.0,9,  -999.0,9, 20170726,     1547, -32.4991,-178.2789,        0.0,1,      0.059,1,      4.691,1,      0.149,1,      25.05,     -999.0,9,     -999.0,9,     -999.0,9,     -999.0,9,    10.8268,2,     -999.0,9
320620170703,        P06,      91,          1,         28,         28,2,20170726,       1604,   -32.4992,  -178.2789,       5157,   318.2,  11.6705,  34.9667,2,  34.9756,3, 212.5287,2, 211.3244,2,     3.8,2,   12.28,2,    0.00,2,    0.87,2,-999.000,9,-999.000,9,-999.0000,9,  2129.0,2, -999.00,9,   7.7944,2, -999.00,9, -999.00,9, -999.00,  -999.0,9, -999.00,9,     -999.0,9,  -999.0,9, 20170726,     1549, -32.4992,-178.2789,        0.0,1,      0.060,1,      4.690,1,      0.151,1,      25.05,     -999.0,9,     -999.0,9,     -999.0,9,     -999.0,9,    11.7590,2,     -999.0,9
320620170703,        P06,      91,          1,         29,         29,2,20170726,       1604,   -32.4992,  -178.2789,       5157,   266.7,  12.5262,  35.0696,2,  35.0653,2, 208.1726,2, 207.3262,2,     3.6,2,   11.40,2,    0.00,2,    0.81,2,   2.627,2,   1.514,2,   1.2310,2,  2124.4,2, 2302.17,2,   7.8114,2, -999.00,9, -999.00,9, -999.00,  -999.0,9, -999.00,9,     -999.0,9,  -999.0,9, 20170726,     1551, -32.4992,-178.2788,        0.0,1,      0.060,1,      4.690,1,      0.151,1,      25.04,     -999.0,9,     -999.0,9,     -999.0,9,     -999.0,9,    12.5006,2,     -999.0,9
320620170703,        P06,      91,          1,         30,         30,2,20170726,       1604,   -32.4992,  -178.2789,       5157,   216.1,  13.4297,  35.1855,2,  35.1918,2, 206.5569,2, 206.7056,2,     3.0,2,    9.58,2,    0.00,2,    0.70,2,-999.000,9,-999.000,9,-999.0000,9,  2118.4,2, 2312.17,2,   7.8366,2, -999.00,9, -999.00,9, -999.00,  -999.0,9, -999.00,9,     -999.0,9,  -999.0,9, 20170726,     1553, -32.4992,-178.2788,        0.0,1,      0.060,1,      4.689,1,      0.149,1,      25.04,     -999.0,9,     -999.0,9,     -999.0,9,     -999.0,9,    13.4966,2,     -999.0,9
320620170703,        P06,      91,          1,         31,         31,2,20170726,       1604,   -32.4992,  -178.2789,       5157,   166.0,  14.8706,  35.3520,2,  35.3468,3, 206.2150,2, 207.0297,2,     2.3,2,    7.27,2,    0.02,2,    0.55,2,   2.429,2,   1.418,2,   1.2680,2,  2107.9,2, 2292.63,2,   7.8711,2, -999.00,9, -999.00,9, -999.00,  -999.0,9, -999.00,9,     -999.0,9,  -999.0,9, 20170726,     1555, -32.4992,-178.2788,        0.0,1,      0.062,1,      4.683,1,      0.169,1,      25.04,     -999.0,9,     -999.0,9,     -999.0,9,     -999.0,9,    14.8617,2,     -999.0,9
320620170703,        P06,      91,          1,         32,         32,2,20170726,       1604,   -32.4992,  -178.2789,       5157,   114.7,  16.8624,  35.5748,2,  35.5788,2, 235.6193,2, 235.5826,2,     0.7,2,    0.77,2,    0.13,2,    0.15,2,-999.000,9,-999.000,9,-999.0000,9,  2071.3,2, 2334.49,2,   7.9648,2, -999.00,9, -999.00,9, -999.00,  -999.0,9, -999.00,9,     -999.0,9,  -999.0,9, 20170726,     1557, -32.4992,-178.2788,        0.0,1,      0.176,1,      4.613,1,      0.266,1,      25.04,     -999.0,9,     -999.0,9,     -999.0,9,     -999.0,9,    16.8355,2,     -999.0,9