BOTTLE,20230922CCHSIOCBG
EXPOCODE,SECT_ID,STNNBR,CASTNO,SAMPNO,BTLNBR,BTLNBR_FLAG_W,DATE,TIME,LATITUDE,LONGITUDE,DEPTH,CTDPRS,CTDTMP,CTDSAL,CTDSAL_FLAG_W,SALNTY,SALNTY_FLAG_W,CTDOXY,CTDOXY_FLAG_W,OXYGEN,OXYGEN_FLAG_W,SILCAT,SILCAT_FLAG_W,NITRAT,NITRAT_FLAG_W,NITRIT,NITRIT_FLAG_W,PHSPHT,PHSPHT_FLAG_W,CFC-11,CFC-11_FLAG_W,CFC-12,CFC-12_FLAG_W,SF6,SF6_FLAG_W,TCARBN,TCARBN_FLAG_W,ALKALI,ALKALI_FLAG_W,PH_TOT,PH_TOT_FLAG_W,DELC13,DELC13_FLAG_W,DELC14,DELC14_FLAG_W,C14ERR,DOC,DOC_FLAG_W,TDN,TDN_FLAG_W,TON,TON_FLAG_W,D15N_NO3,D15N_NO3_FLAG_W,BTL_DATE,BTL_TIME,BTL_LAT,BTL_LON,CTDRINKO,CTDRINKO_FLAG_W,CTDFLUOR,CTDFLUOR_FLAG_W,CTDXMISS,CTDXMISS_FLAG_W,CTDBACKSCATTER,CTDBACKSCATTER_FLAG_W,PH_TMP,D18O_NO3,D18O_NO3_FLAG_W,DOP,DOP_FLAG_W,HPLC,HPLC_FLAG_W,POC,POC_FLAG_W,REFTMP,REFTMP_FLAG_W,TDP,TDP_FLAG_W
,,,,,,,,,,,METERS,DBAR,ITS-90,PSS-78,,PSS-78,,UMOL/KG,,UMOL/KG,,UMOL/KG,,UMOL/KG,,UMOL/KG,,UMOL/KG,,PMOL/KG,,PMOL/KG,,FMOL/KG,,UMOL/KG,,UMOL/KG,,,,/MILLE,,/MILLE,,/MILLE,UMOL/KG,,UMOL/KG,,UMOL/KG,,/MILLE,,,,,,VOLTS,,VOLTS,,VOLTS,,VOLTS,,DEGC,/MILLE,,UMOL/KG,,,,UG/L,,ITS-90,,UMOL/KG,
320620170703,        P06,     112,          1,          1,          1,2,20170801,       1600,   -32.4996,  -169.7504,       5516,  5618.6,   1.1264,  34.7084,2,  34.7091,2, 205.9989,2, 206.3560,2,   121.6,2,   32.03,2,    0.00,2,    2.21,2,   0.138,2,   0.074,2,   0.0000,2,  2266.4,6, 2365.12,2,   7.6055,2, -999.00,9, -999.00,9, -999.00,    41.2,2, -999.00,9,     -999.0,1,  -999.0,1, 20170801,     1340, -32.4996,-169.7503,        0.0,1,      0.061,1,      4.695,1,      0.128,1,      25.02,     -999.0,1,     -999.0,9,     -999.0,9,     -999.0,9,     1.1267,2,     -999.0,9
320620170703,        P06,     112,          1,          2,          2,2,20170801,       1600,   -32.4996,  -169.7504,       5516,  5476.2,   1.1077,  34.7085,2,  34.7083,2, 205.9989,2, 206.3256,2,   121.6,2,   32.03,2,    0.00,2,    2.21,2,   0.130,2,   0.077,2,   0.0000,2,  2265.9,2, 2362.26,2,   7.6060,2, -999.00,9, -999.00,9, -999.00,  -999.0,9, -999.00,9,     -999.0,9,  -999.0,1, 20170801,     1345, -32.4996,-169.7502,        0.0,1,      0.061,1,      4.696,1,      0.127,1,      25.03,     -999.0,1,     -999.0,9,     -999.0,9,     -999.0,9,     1.1078,2,     -999.0,9
320620170703,        P06,     112,          1,          3,          3,2,20170801,       1600,   -32.4996,  -169.7504,       5516,  5336.5,   1.0909,  34.7085,2,  34.7087,2, 205.9989,2, 206.1730,2,   122.0,2,   32.03,2,    0.00,2,    2.22,2,   0.137,2,   0.080,2,   0.0000,2,  2267.9,2, 2657.34,4,   7.6055,2, -999.00,9, -999.00,9, -999.00,    40.7,2, -999.00,9,     -999.0,1,  -999.0,1, 20170801,     1349, -32.4996,-169.7502,        0.0,1,      0.061,1,      4.697,1,      0.127,1,      25.02,     -999.0,1,     -999.0,9,     -999.0,9,     -999.0,9,     1.0910,2,     -999.0,9
320620170703,        P06,     112,          1,          4,          4,2,20170801,       1600,   -32.4996,  -169.7504,       5516,  4925.0,   1.0549,  34.7093,2,  34.7089,2, 205.9989,2, 206.5837,2,   121.6,2,   32.00,2,    0.00,2,    2.22,2,   0.130,2,   0.076,2,   0.0000,2,  2265.4,2, 2361.46,2,   7.6060,2, -999.00,9, -999.00,9, -999.00,    40.6,2, -999.00,9,     -999.0,1,  -999.0,1, 20170801,     1357, -32.4996,-169.7501,        0.0,1,      0.061,1,      4.699,1,      0.125,1,      25.04,     -999.0,1,     -999.0,9,     -999.0,9,     -999.0,9,     1.0554,2,     -999.0,9
320620170703,        P06,     112,          1,          5,          5,2,20170801,       1600,   -32.4996,  -169.7504,       5516,  4514.0,   1.0813,  34.7120,2,  34.7117,2, 206.3309,2, 205.1836,2,   119.5,2,   31.91,2,    0.00,2,    2.21,2,   0.110,2,   0.065,2,   0.0000,2,  2264.6,2, 2359.22,2,   7.6068,2, -999.00,9, -999.00,9, -999.00,  -999.0,9, -999.00,9,     -999.0,9,  -999.0,1, 20170801,     1406, -32.4996,-169.7502,        0.0,1,      0.061,1,      4.701,1,      0.125,1,      25.04,     -999.0,1,     -999.0,9,     -999.0,9,     -999.0,9,     1.0799,2,     -999.0,9
320620170703,        P06,     112,          1,          6,          6,2,20170801,       1600,   -32.4996,  -169.7504,       5516,  4101.8,   1.2401,  34.7173,2,  34.7164,2, 201.6495,2, 201.6195,2,   114.6,2,   31.81,2,    0.00,2,    2.20,2,   0.083,2,   0.052,2,   0.0000,2,  2264.1,2, 2361.27,2,   7.6064,2, -999.00,9, -999.00,9, -999.00,    42.8,2, -999.00,9,     -999.0,1,  -999.0,1, 20170801,     1413, -32.4996,-169.7503,        0.0,1,      0.061,1,      4.701,1,      0.127,1,      25.03,     -999.0,1,     -999.0,9,     -999.0,9,     -999.0,9,     1.2384,2,     -999.0,9
320620170703,        P06,     112,          1,          7,          7,2,20170801,       1600,   -32.4996,  -169.7504,       5516,  3758.3,   1.4627,  34.7182,2,  34.7174,2, 193.6572,2, 193.7732,2,   110.8,2,   31.99,2,    0.00,2,    2.22,2,   0.063,2,   0.040,2,   0.0000,2,  2267.1,2, 2363.77,2,   7.6027,2, -999.00,9, -999.00,9, -999.00,  -999.0,9, -999.00,9,     -999.0,9,  -999.0,1, 20170801,     1420, -32.4996,-169.7501,        0.0,1,      0.061,1,      4.700,1,      0.128,1,      25.02,     -999.0,1,     -999.0,9,     -999.0,9,     -999.0,9,     1.4558,2,     -999.0,9
320620170703,        P06,     112,          1,          8,          8,2,20170801,       1600,   -32.4996,  -169.7504,       5516,  3452.1,   1.6338,  34.7036,2,  34.7050,2, 180.4433,2, 179.7192,2,   114.9,2,   33.01,2,    0.00,2,    2.30,2,   0.046,2,   0.032,2,   0.0000,2,  2282.7,2, 2369.46,2,   7.5923,2, -999.00,9, -999.00,9, -999.00,    39.3,2, -999.00,9,     -999.0,1,  -999.0,1, 20170801,     1427, -32.4996,-169.7499,        0.0,1,      0.061,1,      4.700,1,      0.130,1,      25.02,     -999.0,1,     -999.0,9,     -999.0,9,     -999.0,9,     1.6212,2,     -999.0,9
320620170703,        P06,     112,          1,          9,          9,2,20170801,       1600,   -32.4996,  -169.7504,       5516,  3145.0,   1.7564,  34.6776,2,  34.6808,2, 161.1482,2, 159.5426,2,   126.2,2,   34.88,2,    0.00,2,    2.43,2,   0.031,2,   0.023,2,   0.0000,2,  2308.3,2, 2392.37,2,   7.5768,2, -999.00,9, -999.00,9, -999.00,    39.3,2, -999.00,9,     -999.0,1,  -999.0,1, 20170801,     1433, -32.4996,-169.7498,        0.0,1,      0.061,1,      4.701,1,      0.131,1,      25.03,     -999.0,1,     -999.0,9,     -999.0,9,     -999.0,9,     1.7405,2,     -999.0,9
320620170703,        P06,     112,          1,         10,         10,2,20170801,       1600,   -32.4996,  -169.7504,       5516,  2872.6,   1.8678,  34.6646,2,  34.6657,2, 150.6355,2, 150.5925,2,   129.2,2,   35.69,2,    0.00,2,    2.49,2,   0.022,2,   0.019,2,   0.0000,2,  2315.5,2, -999.00,9,   7.5688,2, -999.00,9, -999.00,9, -999.00,  -999.0,9, -999.00,9,     -999.0,9,  -999.0,1, 20170801,     1439, -32.4996,-169.7499,        0.0,1,      0.062,1,      4.701,1,      0.132,1,      25.05,     -999.0,1,     -999.0,9,     -999.0,9,     -999.0,9,     1.8462,2,     -999.0,9
320620170703,        P06,     112,          1,         11,         11,2,20170801,       1600,   -32.4996,  -169.7504,       5516,  2619.6,   1.9710,  34.6546,2,  34.6559,2, 147.5397,2, 147.1815,2,   126.4,2,   35.88,2,    0.00,2,    2.50,2,   0.022,2,   0.022,2,   0.0000,2,  2314.1,6, 2396.36,2,   7.5666,2, -999.00,9, -999.00,9, -999.00,    36.8,2, -999.00,9,     -999.0,1,  -999.0,1, 20170801,     1444, -32.4996,-169.7501,        0.0,1,      0.061,1,      4.701,1,      0.132,1,      25.02,     -999.0,1,     -999.0,9,     -999.0,9,     -999.0,9,     1.9488,2,     -999.0,9
320620170703,        P06,     112,          1,         12,         12,2,20170801,       1600,   -32.4996,  -169.7504,       5516,  2363.9,   2.0901,  34.6442,2,  34.6455,2, 146.9243,2, 148.3324,2,   121.6,2,   35.82,2,    0.00,2,    2.51,2,   0.023,2,   0.022,2,   0.0000,2,  2311.7,2, 2388.68,2,   7.5646,2, -999.00,9, -999.00,9, -999.00,  -999.0,9, -999.00,9,     -999.0,9,  -999.0,1, 20170801,     1450, -32.4996,-169.7501,        0.0,1,      0.061,1,      4.701,1,      0.132,1,      25.02,     -999.0,1,     -999.0,9,     -999.0,9,     -999.0,9,     2.0664,2,     -999.0,9
320620170703,        P06,     112,          1,         13,         13,2,20170801,       1600,   -32.4996,  -169.7504,       5516,  2110.0,   2.2362,  34.6309,2,  34.6325,2, 148.6111,2, 149.7359,2,   113.2,2,   35.52,2,    0.00,2,    2.47,2,   0.028,2,   0.020,2,   0.0000,2,  2302.9,2, 2382.82,6,   7.5657,2, -999.00,9, -999.00,9, -999.00,    37.2,2, -999.00,9,     -999.0,1,  -999.0,1, 20170801,     1455, -32.4996,-169.7502,        0.0,1,      0.061,1,      4.701,1,      0.133,1,      25.01,     -999.0,1,     -999.0,9,     -999.0,9,     -999.0,9,     2.2307,2,     -999.0,9
320620170703,        P06,     112,          1,         14,         14,2,20170801,       1600,   -32.4996,  -169.7504,       5516,  1886.1,   2.4127,  34.6090,2,  34.6091,2, 151.9139,2, 153.0801,2,   103.3,2,   35.21,2,    0.00,2,    2.45,2,   0.031,2,   0.023,2,   0.0000,2,  2292.2,2, -999.00,9,   7.5667,2, -999.00,9, -999.00,9, -999.00,  -999.0,9, -999.00,9,     -999.0,9,  -999.0,1, 20170801,     1500, -32.4996,-169.7500,        0.0,1,      0.060,1,      4.702,1,      0.134,1,      25.01,     -999.0,1,     -999.0,9,     -999.0,9,     -999.0,9,     2.4077,2,     -999.0,9
320620170703,        P06,     112,          1,         15,         15,2,20170801,       1600,   -32.4996,  -169.7504,       5516,  1683.4,   2.6325,  34.5687,2,  34.5694,2, 158.3509,2, 159.1046,2,    88.6,2,   34.84,2,    0.00,2,    2.40,2,   0.042,2,   0.035,2,   0.0000,2,  2271.6,2, 2353.41,2,   7.5672,2, -999.00,9, -999.00,9, -999.00,    39.3,2, -999.00,9,     -999.0,1,  -999.0,1, 20170801,     1505, -32.4996,-169.7498,        0.0,1,      0.061,1,      4.702,1,      0.133,1,      25.03,     -999.0,1,     -999.0,9,     -999.0,9,     -999.0,9,     2.6399,2,     -999.0,9
320620170703,        P06,     112,          1,         16,         16,2,20170801,       1600,   -32.4996,  -169.7504,       5516,  1480.3,   2.9998,  34.4956,2,  34.4913,2, 168.6104,2, 169.6754,2,    69.3,2,   34.29,2,    0.00,2,    2.36,2,   0.125,2,   0.076,2,   0.0000,2,  2247.9,2, -999.00,5,   7.5707,2, -999.00,9, -999.00,9, -999.00,  -999.0,9, -999.00,9,     -999.0,9,  -999.0,1, 20170801,     1510, -32.4996,-169.7498,        0.0,1,      0.061,1,      4.702,1,      0.134,1,      25.02,     -999.0,1,     -999.0,9,     -999.0,9,     -999.0,9,     3.0177,2,     -999.0,9
320620170703,        P06,     112,          1,         17,         17,2,20170801,       1600,   -32.4996,  -169.7504,       5516,  1349.2,   3.3624,  34.4271,2,  34.4261,2, 178.9591,2, 178.5091,2,    55.6,2,   33.63,2,    0.00,2,    2.31,2,   0.289,2,   0.157,2,   0.0000,2,  2231.1,2, 2333.61,2,   7.5797,2, -999.00,9, -999.00,9, -999.00,  -999.0,9, -999.00,9,     -999.0,9,  -999.0,1, 20170801,     1513, -32.4996,-169.7499,        0.0,1,      0.060,1,      4.702,1,      0.135,1,      25.04,     -999.0,1,     -999.0,9,     -999.0,9,     -999.0,9,     3.3812,2,     -999.0,9
320620170703,        P06,     112,          1,         18,         18,2,20170801,       1600,   -32.4996,  -169.7504,       5516,  1247.5,   3.7655,  34.3773,2,  34.3751,3, 187.5978,2, 187.2341,2,    44.5,2,   32.73,2,    0.00,2,    2.24,2,   0.541,2,   0.269,2,   0.0000,2,  2214.8,2, -999.00,9,   7.5933,2, -999.00,9, -999.00,9, -999.00,    42.1,2, -999.00,9,     -999.0,1,  -999.0,1, 20170801,     1516, -32.4996,-169.7500,        0.0,1,      0.060,1,      4.702,1,      0.137,1,      25.02,     -999.0,1,     -999.0,9,     -999.0,9,     -999.0,9,     3.7815,2,     -999.0,9
320620170703,        P06,     112,          1,         19,         19,2,20170801,       1600,   -32.4996,  -169.7504,       5516,  1145.1,   4.3174,  34.3418,2,  34.3421,2, 196.0831,2, 195.9833,2,    35.0,2,   31.49,2,    0.00,2,    2.14,2,   0.830,2,   0.397,2,   0.0740,2,  2199.1,2, 2292.69,2,   7.6108,2, -999.00,9, -999.00,9, -999.00,    42.0,2, -999.00,9,     -999.0,1,  -999.0,1, 20170801,     1519, -32.4996,-169.7500,        0.0,1,      0.060,1,      4.701,1,      0.134,1,      25.02,     -999.0,1,     -999.0,9,     -999.0,9,     -999.0,9,     4.2865,2,     -999.0,9
320620170703,        P06,     112,          1,         20,         20,2,20170801,       1600,   -32.4996,  -169.7504,       5516,  1044.0,   4.9481,  34.3203,2,  34.3219,3, 206.0502,2, 205.7391,2,    25.7,2,   29.77,2,    0.00,2,    2.01,2,   1.248,2,   0.580,2,   0.1340,2,  2184.4,2, 2286.74,2,   7.6344,2, -999.00,9, -999.00,9, -999.00,    42.7,2, -999.00,9,     -999.0,1,  -999.0,1, 20170801,     1522, -32.4996,-169.7500,        0.0,1,      0.061,1,      4.701,1,      0.137,1,      25.01,     -999.0,1,     -999.0,9,     -999.0,9,     -999.0,9,     4.8327,2,     -999.0,9
320620170703,        P06,     112,          1,         21,         21,2,20170801,       1600,   -32.4996,  -169.7504,       5516,   943.7,   5.5405,  34.3182,2,  34.3150,2, 217.9624,2, 217.2797,2,    17.9,2,   27.57,2,    0.00,2,    1.87,2,   1.848,2,   0.893,2,   0.2950,2,  2167.6,2, 2285.21,2,   7.6609,2, -999.00,9, -999.00,9, -999.00,  -999.0,9, -999.00,9,     -999.0,9,  -999.0,1, 20170801,     1524, -32.4996,-169.7500,        0.0,1,      0.060,1,      4.700,1,      0.137,1,      25.03,     -999.0,1,     -999.0,9,     -999.0,9,     -999.0,9,     5.4669,2,     -999.0,9
320620170703,        P06,     112,          1,         22,         22,2,20170801,       1600,   -32.4996,  -169.7504,       5516,   841.5,   6.1409,  34.3312,2,  34.3258,2, 227.5473,2, 226.9708,2,    12.6,2,   25.59,2,    0.00,2,    1.73,2,   2.400,2,   1.183,2,   0.4150,2,  2156.9,2, -999.00,9,   7.6832,2, -999.00,9, -999.00,9, -999.00,    42.1,2, -999.00,9,     -999.0,1,  -999.0,1, 20170801,     1527, -32.4996,-169.7500,        0.0,1,      0.058,1,      4.699,1,      0.138,1,      25.02,     -999.0,1,     -999.0,9,     -999.0,9,     -999.0,9,     6.0123,2,     -999.0,9
320620170703,        P06,     112,          1,         23,         23,2,20170801,       1600,   -32.4996,  -169.7504,       5516,   740.4,   6.6160,  34.3569,2,  34.3521,2, 233.0887,2, 233.4295,2,     9.3,2,   23.79,2,    0.00,2,    1.60,2,   3.007,2,   1.510,2,   0.5770,2,  2149.1,2, 2275.23,2,   7.6977,2, -999.00,9, -999.00,9, -999.00,    43.1,2, -999.00,9,     -999.0,1,  -999.0,1, 20170801,     1530, -32.4996,-169.7500,        0.0,1,      0.059,1,      4.698,1,      0.138,1,      25.02,     -999.0,1,     -999.0,9,     -999.0,9,     -999.0,9,     6.5074,2,     -999.0,9
320620170703,        P06,     112,          1,         24,         24,2,20170801,       1600,   -32.4996,  -169.7504,       5516,   639.6,   7.1488,  34.3956,2,  34.3827,2, 235.6701,2, 235.7052,2,     7.2,2,   22.32,2,    0.00,2,    1.50,2,   3.325,2,   1.722,2,   0.6980,2,  2145.0,2, 2274.24,2,-999.0000,5, -999.00,9, -999.00,9, -999.00,    43.8,2, -999.00,9,     -999.0,1,  -999.0,1, 20170801,     1533, -32.4996,-169.7499,        0.0,1,      0.058,1,      4.697,1,      0.140,1,     -999.0,     -999.0,1,     -999.0,9,     -999.0,9,     -999.0,9,     7.0032,2,     -999.0,9
320620170703,        P06,     112,          1,         25,         25,2,20170801,       1600,   -32.4996,  -169.7504,       5516,   539.3,   7.7586,  34.4507,2,  34.4428,2, 233.9419,2, 234.4578,2,     5.4,2,   20.31,2,    0.00,2,    1.38,2,   3.533,2,   1.885,2,   0.9470,2,  2143.3,6, 2275.28,6,   7.7173,2, -999.00,9, -999.00,9, -999.00,    46.6,2, -999.00,9,     -999.0,1,  -999.0,1, 20170801,     1536, -32.4996,-169.7499,        0.0,1,      0.058,1,      4.695,1,      0.138,1,      25.02,     -999.0,1,     -999.0,9,     -999.0,9,     -999.0,9,     7.7630,2,     -999.0,9
320620170703,        P06,     112,          1,         26,         26,2,20170801,       1600,   -32.4996,  -169.7504,       5516,   438.4,   9.1066,  34.5916,2,  34.5663,2, 222.7791,2, 224.2661,2,     4.0,2,   17.50,2,    0.00,2,    1.19,2,   3.349,2,   1.808,2,   1.0570,2,  2139.8,2, -999.00,9,   7.7350,2, -999.00,9, -999.00,9, -999.00,    46.3,2,   19.50,2,     -999.0,1,  -999.0,1, 20170801,     1539, -32.4996,-169.7500,        0.0,1,      0.060,1,      4.694,1,      0.140,1,      25.02,     -999.0,1,     -999.0,9,     -999.0,9,     -999.0,9,     9.0404,2,     -999.0,9
320620170703,        P06,     112,          1,         27,         27,2,20170801,       1600,   -32.4996,  -169.7504,       5516,   367.5,  10.5684,  34.7748,2,  34.7577,2, 217.1044,2, 217.0983,2,     3.1,2,   14.06,2,    0.00,2,    0.99,2,   3.068,2,   1.711,2,   1.1630,2,  2132.0,2, 2289.93,2,   7.7664,2, -999.00,9, -999.00,9, -999.00,  -999.0,9, -999.00,9,     -999.0,9,  -999.0,1, 20170801,     1541, -32.4996,-169.7501,        0.0,1,      0.059,1,      4.692,1,      0.141,1,      25.00,     -999.0,1,     -999.0,1,     -999.0,9,     -999.0,9,    10.5451,2,     -999.0,9
320620170703,        P06,     112,          1,         28,         28,2,20170801,       1600,   -32.4996,  -169.7504,       5516,   316.1,  11.7220,  34.9140,2,  34.8719,2, 210.1479,2, 209.7714,2,     2.7,2,   12.43,2,    0.00,2,    0.89,2,   2.856,2,   1.633,2,   1.0570,2,  2127.7,2, 2291.87,2,   7.7852,2, -999.00,9, -999.00,9, -999.00,    48.9,2,   14.30,2,     -999.0,1,  -999.0,1, 20170801,     1543, -32.4996,-169.7501,        0.0,1,      0.059,1,      4.691,1,      0.140,1,      25.02,     -999.0,1,     -999.0,1,     -999.0,9,     -999.0,9,    11.4712,2,     -999.0,9
320620170703,        P06,     112,          1,         29,         29,2,20170801,       1600,   -32.4996,  -169.7504,       5516,   267.1,  13.0807,  35.0835,2,  35.0069,2, 208.6279,2, 207.2404,2,     2.2,2,   10.22,2,    0.00,2,    0.73,2,   2.732,2,   1.587,2,   1.2110,2,  2121.6,2, 2297.47,2,   7.8110,2, -999.00,9, -999.00,9, -999.00,    49.0,2,   12.30,2,     -999.0,1,  -999.0,1, 20170801,     1546, -32.4996,-169.7502,        0.0,1,      0.059,1,      4.691,1,      0.139,1,      25.02,     -999.0,1,     -999.0,1,     -999.0,9,     -999.0,9,    12.5455,2,     -999.0,9
320620170703,        P06,     112,          1,         30,         30,2,20170801,       1600,   -32.4996,  -169.7504,       5516,   216.3,  14.2120,  35.2362,2,  35.1859,3, 211.5565,2, 210.4992,2,     1.5,2,    7.20,2,    0.00,2,    0.55,2,   2.591,2,   1.529,2,   1.3020,2,  2112.1,2, 2305.69,2,   7.8477,2, -999.00,9, -999.00,9, -999.00,    52.2,2,   11.00,2,     -999.0,1,  -999.0,1, 20170801,     1548, -32.4996,-169.7502,        0.0,1,      0.061,1,      4.689,1,      0.137,1,      25.02,     -999.0,1,     -999.0,1,     -999.0,9,     -999.0,9,    13.8133,2,     -999.0,9
320620170703,        P06,     112,          1,         31,         31,2,20170801,       1600,   -32.4996,  -169.7504,       5516,   166.0,  15.4822,  35.4011,2,  35.3396,2, 211.2600,2, 212.2038,2,     1.1,2,    5.25,2,    0.02,2,    0.43,2,   2.414,2,   1.464,2,   1.3920,2,  2104.2,2, 2314.69,2,   7.8785,2, -999.00,9, -999.00,9, -999.00,    52.4,2,    7.90,2,     -999.0,1,  -999.0,1, 20170801,     1550, -32.4996,-169.7503,        0.0,1,      0.079,1,      4.681,1,      0.149,1,      25.01,     -999.0,1,     -999.0,1,     -999.0,9,     -999.0,9,    14.9696,2,     -999.0,9
320620170703,        P06,     112,          1,         32,         32,2,20170801,       1600,   -32.4996,  -169.7504,       5516,   115.5,  17.6691,  35.6828,2,  35.4756,3, 212.3722,3, 209.8316,2,     1.0,2,    4.11,2,    0.03,2,    0.36,2,   2.328,2,   1.413,2,   1.3450,2,  2096.6,2, 2322.56,2,   7.9046,2, -999.00,9, -999.00,9, -999.00,    53.2,2,    7.80,2,     -999.0,1,  -999.0,1, 20170801,     1552, -32.4996,-169.7503,        0.0,1,      0.170,1,      4.634,1,      0.203,1,      25.01,     -999.0,1,     -999.0,1,     -999.0,9,     -999.0,9,    16.1179,2,     -999.0,9