BOTTLE,20230922CCHSIOCBG
EXPOCODE,SECT_ID,STNNBR,CASTNO,SAMPNO,BTLNBR,BTLNBR_FLAG_W,DATE,TIME,LATITUDE,LONGITUDE,DEPTH,CTDPRS,CTDTMP,CTDSAL,CTDSAL_FLAG_W,SALNTY,SALNTY_FLAG_W,CTDOXY,CTDOXY_FLAG_W,OXYGEN,OXYGEN_FLAG_W,SILCAT,SILCAT_FLAG_W,NITRAT,NITRAT_FLAG_W,NITRIT,NITRIT_FLAG_W,PHSPHT,PHSPHT_FLAG_W,CFC-11,CFC-11_FLAG_W,CFC-12,CFC-12_FLAG_W,SF6,SF6_FLAG_W,TCARBN,TCARBN_FLAG_W,ALKALI,ALKALI_FLAG_W,PH_TOT,PH_TOT_FLAG_W,DELC13,DELC13_FLAG_W,DELC14,DELC14_FLAG_W,C14ERR,DOC,DOC_FLAG_W,TDN,TDN_FLAG_W,TON,TON_FLAG_W,D15N_NO3,D15N_NO3_FLAG_W,BTL_DATE,BTL_TIME,BTL_LAT,BTL_LON,CTDRINKO,CTDRINKO_FLAG_W,CTDFLUOR,CTDFLUOR_FLAG_W,CTDXMISS,CTDXMISS_FLAG_W,CTDBACKSCATTER,CTDBACKSCATTER_FLAG_W,PH_TMP,D18O_NO3,D18O_NO3_FLAG_W,DOP,DOP_FLAG_W,HPLC,HPLC_FLAG_W,POC,POC_FLAG_W,REFTMP,REFTMP_FLAG_W,TDP,TDP_FLAG_W
,,,,,,,,,,,METERS,DBAR,ITS-90,PSS-78,,PSS-78,,UMOL/KG,,UMOL/KG,,UMOL/KG,,UMOL/KG,,UMOL/KG,,UMOL/KG,,PMOL/KG,,PMOL/KG,,FMOL/KG,,UMOL/KG,,UMOL/KG,,,,/MILLE,,/MILLE,,/MILLE,UMOL/KG,,UMOL/KG,,UMOL/KG,,/MILLE,,,,,,VOLTS,,VOLTS,,VOLTS,,VOLTS,,DEGC,/MILLE,,UMOL/KG,,,,UG/L,,ITS-90,,UMOL/KG,
320620170703,        P06,     117,          1,         33,         33,2,20170803,       0621,   -32.4998,  -166.4916,       5292,    74.0,  17.4668,  35.6450,2,  35.6431,2, 234.6537,2, 234.6152,2,     0.1,2,    0.05,2,    0.00,2,    0.04,2,   2.205,2,   1.282,2,   1.3900,2,  2067.6,2, 2336.49,2,   7.9832,2, -999.00,9, -999.00,9, -999.00,  -999.0,9, -999.00,9,     -999.0,9,  -999.0,9, 20170803,      617, -32.4998,-166.4916,        0.0,1,      0.180,1,      4.629,1,      0.194,1,      25.03,     -999.0,9,     -999.0,9,     -999.0,9,     -999.0,9,    17.4451,2,     -999.0,9
320620170703,        P06,     117,          1,         34,         34,2,20170803,       0621,   -32.4998,  -166.4916,       5292,    49.3,  17.4671,  35.6449,2,  35.6441,2, 234.6395,2, 234.3887,2,     0.0,2,    0.04,2,    0.00,2,    0.05,2,   2.196,2,   1.285,2,   1.5330,4,  -999.0,9, -999.00,9,-999.0000,9, -999.00,9, -999.00,9, -999.00,  -999.0,9, -999.00,9,     -999.0,9,  -999.0,9, 20170803,      618, -32.4998,-166.4916,        0.0,1,      0.178,1,      4.626,1,      0.194,1,     -999.0,     -999.0,9,     -999.0,9,     -999.0,9,     -999.0,9,    17.4513,2,     -999.0,9
320620170703,        P06,     117,          1,         35,         35,2,20170803,       0621,   -32.4998,  -166.4916,       5292,    24.9,  17.4901,  35.6462,2,  35.6461,2, 234.3411,2, 234.4604,2,     0.1,2,    0.04,2,    0.00,2,    0.06,2,   2.203,2,   1.287,2,   1.4920,2,  2066.1,2, 2338.72,2,   7.9834,2, -999.00,9, -999.00,9, -999.00,  -999.0,9, -999.00,9,     -999.0,9,  -999.0,9, 20170803,      620, -32.4998,-166.4916,        0.0,1,      0.154,1,      4.623,1,      0.192,1,      25.02,     -999.0,9,     -999.0,9,     -999.0,9,     -999.0,9,    17.4616,2,     -999.0,9
320620170703,        P06,     117,          1,         36,         36,2,20170803,       0621,   -32.4998,  -166.4916,       5292,     4.3,  17.5341,  35.6475,2,  35.6461,2, 234.4930,2, 235.6430,2,     0.1,2,    0.04,2,    0.00,2,    0.07,2,   2.234,2,   1.279,2,   1.4100,2,  2067.1,6, 2339.97,2,   7.9831,2,    0.91,2,   53.53,2,    2.13,  -999.0,9, -999.00,9,     -999.0,9,  -999.0,9, 20170803,      621, -32.4998,-166.4916,        0.0,1,      0.126,1,      4.623,1,      0.188,1,      25.01,     -999.0,9,     -999.0,9,     -999.0,9,     -999.0,9,    17.4615,2,     -999.0,9