BOTTLE,20230922CCHSIOCBG
EXPOCODE,SECT_ID,STNNBR,CASTNO,SAMPNO,BTLNBR,BTLNBR_FLAG_W,DATE,TIME,LATITUDE,LONGITUDE,DEPTH,CTDPRS,CTDTMP,CTDSAL,CTDSAL_FLAG_W,SALNTY,SALNTY_FLAG_W,CTDOXY,CTDOXY_FLAG_W,OXYGEN,OXYGEN_FLAG_W,SILCAT,SILCAT_FLAG_W,NITRAT,NITRAT_FLAG_W,NITRIT,NITRIT_FLAG_W,PHSPHT,PHSPHT_FLAG_W,CFC-11,CFC-11_FLAG_W,CFC-12,CFC-12_FLAG_W,SF6,SF6_FLAG_W,TCARBN,TCARBN_FLAG_W,ALKALI,ALKALI_FLAG_W,PH_TOT,PH_TOT_FLAG_W,DELC13,DELC13_FLAG_W,DELC14,DELC14_FLAG_W,C14ERR,DOC,DOC_FLAG_W,TDN,TDN_FLAG_W,TON,TON_FLAG_W,D15N_NO3,D15N_NO3_FLAG_W,BTL_DATE,BTL_TIME,BTL_LAT,BTL_LON,CTDRINKO,CTDRINKO_FLAG_W,CTDFLUOR,CTDFLUOR_FLAG_W,CTDXMISS,CTDXMISS_FLAG_W,CTDBACKSCATTER,CTDBACKSCATTER_FLAG_W,PH_TMP,D18O_NO3,D18O_NO3_FLAG_W,DOP,DOP_FLAG_W,HPLC,HPLC_FLAG_W,POC,POC_FLAG_W,REFTMP,REFTMP_FLAG_W,TDP,TDP_FLAG_W
,,,,,,,,,,,METERS,DBAR,ITS-90,PSS-78,,PSS-78,,UMOL/KG,,UMOL/KG,,UMOL/KG,,UMOL/KG,,UMOL/KG,,UMOL/KG,,PMOL/KG,,PMOL/KG,,FMOL/KG,,UMOL/KG,,UMOL/KG,,,,/MILLE,,/MILLE,,/MILLE,UMOL/KG,,UMOL/KG,,UMOL/KG,,/MILLE,,,,,,VOLTS,,VOLTS,,VOLTS,,VOLTS,,DEGC,/MILLE,,UMOL/KG,,,,UG/L,,ITS-90,,UMOL/KG,
320620170703,        P06,      19,          1,         33,         33,2,20170708,       1646,   -30.0795,   157.1204,       4008,    65.0,  20.6346,  35.7753,2,  35.7811,2, 216.2740,3, 218.9941,2,     0.0,2,    0.25,2,    0.21,2,    0.12,2,   1.817,2,   1.133,2,   1.0680,2,  -999.0,9, -999.00,9,-999.0000,9, -999.00,9, -999.00,9, -999.00,  -999.0,9, -999.00,9,     -999.0,9,  -999.0,9, 20170708,     1640, -30.0794, 157.1202,        0.0,1,      0.170,1,      4.635,1,      0.211,1,     -999.0,     -999.0,9,     -999.0,9,     -999.0,9,     -999.0,9,    20.6230,2,     -999.0,9
320620170703,        P06,      19,          1,         34,         34,2,20170708,       1646,   -30.0795,   157.1204,       4008,    39.8,  20.7006,  35.7511,2,  35.7418,2, 218.6460,2, 219.5607,2,     0.0,2,    0.18,2,    0.10,2,    0.09,2,-999.000,9,-999.000,9,-999.0000,9,  2038.8,2, 2340.97,2,   8.0342,2, -999.00,9, -999.00,9, -999.00,  -999.0,9, -999.00,9,     -999.0,9,  -999.0,9, 20170708,     1642, -30.0794, 157.1203,        0.0,1,      0.204,1,      4.600,1,      0.231,1,      25.03,     -999.0,9,     -999.0,9,     -999.0,9,     -999.0,9,    20.7013,2,     -999.0,9
320620170703,        P06,      19,          1,         35,         35,2,20170708,       1646,   -30.0795,   157.1204,       4008,    18.9,  20.7528,  35.7145,2,  35.6820,2, 215.7441,3, 219.3445,2,     0.0,2,    0.25,2,    0.05,2,    0.11,2,   1.797,2,   1.130,2,   1.0440,2,  -999.0,9, -999.00,9,-999.0000,9, -999.00,9, -999.00,9, -999.00,  -999.0,9, -999.00,9,     -999.0,9,  -999.0,9, 20170708,     1644, -30.0795, 157.1204,        0.0,1,      0.228,1,      4.557,1,      0.253,1,     -999.0,     -999.0,9,     -999.0,9,     -999.0,9,     -999.0,9,    20.7189,2,     -999.0,9
320620170703,        P06,      19,          1,         36,         36,2,20170708,       1646,   -30.0795,   157.1204,       4008,     5.9,  20.8081,  35.6728,2,  35.6723,2, 215.8090,3, 219.2679,2,     0.0,2,    0.26,2,    0.04,2,    0.12,2,   1.814,2,   1.127,2,   1.1130,2,  2035.3,2, 2335.42,2,   8.0353,2, -999.00,9, -999.00,9, -999.00,  -999.0,9, -999.00,9,     -999.0,9,  -999.0,9, 20170708,     1646, -30.0795, 157.1204,        0.0,1,      0.234,1,      4.537,1,      0.261,1,      25.04,     -999.0,9,     -999.0,9,     -999.0,9,     -999.0,9,    20.7084,2,     -999.0,9