BOTTLE,20230922CCHSIOCBG
EXPOCODE,SECT_ID,STNNBR,CASTNO,SAMPNO,BTLNBR,BTLNBR_FLAG_W,DATE,TIME,LATITUDE,LONGITUDE,DEPTH,CTDPRS,CTDTMP,CTDSAL,CTDSAL_FLAG_W,SALNTY,SALNTY_FLAG_W,CTDOXY,CTDOXY_FLAG_W,OXYGEN,OXYGEN_FLAG_W,SILCAT,SILCAT_FLAG_W,NITRAT,NITRAT_FLAG_W,NITRIT,NITRIT_FLAG_W,PHSPHT,PHSPHT_FLAG_W,CFC-11,CFC-11_FLAG_W,CFC-12,CFC-12_FLAG_W,SF6,SF6_FLAG_W,TCARBN,TCARBN_FLAG_W,ALKALI,ALKALI_FLAG_W,PH_TOT,PH_TOT_FLAG_W,DELC13,DELC13_FLAG_W,DELC14,DELC14_FLAG_W,C14ERR,DOC,DOC_FLAG_W,TDN,TDN_FLAG_W,TON,TON_FLAG_W,D15N_NO3,D15N_NO3_FLAG_W,BTL_DATE,BTL_TIME,BTL_LAT,BTL_LON,CTDRINKO,CTDRINKO_FLAG_W,CTDFLUOR,CTDFLUOR_FLAG_W,CTDXMISS,CTDXMISS_FLAG_W,CTDBACKSCATTER,CTDBACKSCATTER_FLAG_W,PH_TMP,D18O_NO3,D18O_NO3_FLAG_W,DOP,DOP_FLAG_W,HPLC,HPLC_FLAG_W,POC,POC_FLAG_W,REFTMP,REFTMP_FLAG_W,TDP,TDP_FLAG_W
,,,,,,,,,,,METERS,DBAR,ITS-90,PSS-78,,PSS-78,,UMOL/KG,,UMOL/KG,,UMOL/KG,,UMOL/KG,,UMOL/KG,,UMOL/KG,,PMOL/KG,,PMOL/KG,,FMOL/KG,,UMOL/KG,,UMOL/KG,,,,/MILLE,,/MILLE,,/MILLE,UMOL/KG,,UMOL/KG,,UMOL/KG,,/MILLE,,,,,,VOLTS,,VOLTS,,VOLTS,,VOLTS,,DEGC,/MILLE,,UMOL/KG,,,,UG/L,,ITS-90,,UMOL/KG,
320620170703,        P06,     139,          1,          1,          1,2,20170812,       0758,   -32.4999,  -151.5885,       5233,  5325.6,   1.1572,  34.7096,2,  34.7089,2, 203.1421,2, 203.8253,2,   120.0,2,   32.26,2,    0.00,2,    2.21,2,   0.079,2,   0.051,2,   0.0000,2,  2264.2,6, 2375.87,2,   7.6070,2, -999.00,9, -999.00,9, -999.00,  -999.0,9, -999.00,9,     -999.0,9,  -999.0,9, 20170812,      540, -32.5000,-151.5884,        0.0,1,      0.061,1,      4.694,1,      0.124,1,      25.02,     -999.0,9,     -999.0,9,     -999.0,9,     -999.0,9,     1.1579,2,     -999.0,9
320620170703,        P06,     139,          1,          2,          2,2,20170812,       0758,   -32.4999,  -151.5885,       5233,  5145.6,   1.1460,  34.7096,2,  34.7083,2, 203.1421,2, 204.3061,2,   119.9,2,   32.30,2,    0.00,2,    2.22,2,   0.071,2,   0.048,2,   0.0000,2,  -999.0,9, -999.00,9,-999.0000,9, -999.00,9, -999.00,9, -999.00,  -999.0,9, -999.00,9,     -999.0,9,  -999.0,9, 20170812,      547, -32.5001,-151.5884,        0.0,1,      0.061,1,      4.695,1,      0.126,1,     -999.0,     -999.0,9,     -999.0,9,     -999.0,9,     -999.0,9,     1.1464,2,     -999.0,9
320620170703,        P06,     139,          1,          3,          3,2,20170812,       0758,   -32.4999,  -151.5885,       5233,  4941.4,   1.1386,  34.7100,2,  34.7091,2, 203.1421,2, 203.6550,2,   119.4,2,   32.27,2,    0.00,2,    2.23,2,   0.060,2,   0.042,2,   0.0000,2,  2265.2,2, 2370.87,2,   7.6077,2, -999.00,9, -999.00,9, -999.00,  -999.0,9, -999.00,9,     -999.0,9,  -999.0,9, 20170812,      553, -32.5000,-151.5884,        0.0,1,      0.061,1,      4.695,1,      0.124,1,      25.03,     -999.0,9,     -999.0,9,     -999.0,9,     -999.0,9,     1.1390,2,     -999.0,9
320620170703,        P06,     139,          1,          4,          4,2,20170812,       0758,   -32.4999,  -151.5885,       5233,  4682.2,   1.1556,  34.7101,2,  34.7087,2, 203.4790,2, 201.8207,2,   118.7,2,   32.28,2,    0.00,2,    2.23,2,   0.046,2,   0.038,2,   0.0000,2,  -999.0,9, -999.00,9,-999.0000,9, -999.00,9, -999.00,9, -999.00,  -999.0,9, -999.00,9,     -999.0,9,  -999.0,9, 20170812,      559, -32.5001,-151.5884,        0.0,1,      0.061,1,      4.696,1,      0.123,1,     -999.0,     -999.0,9,     -999.0,9,     -999.0,9,     -999.0,9,     1.1628,2,     -999.0,9
320620170703,        P06,     139,          1,          5,          5,2,20170812,       0758,   -32.4999,  -151.5885,       5233,  4372.6,   1.2346,  34.7104,2,  34.7091,2, 198.8801,2, 198.2635,2,   117.4,2,   32.37,2,    0.00,2,    2.23,2,   0.037,2,   0.031,2,   0.0000,2,  2268.9,2, 2374.91,2,   7.6043,2, -999.00,9, -999.00,9, -999.00,  -999.0,9, -999.00,9,     -999.0,9,  -999.0,9, 20170812,      605, -32.5001,-151.5884,        0.0,1,      0.061,1,      4.697,1,      0.123,1,      25.00,     -999.0,9,     -999.0,9,     -999.0,9,     -999.0,9,     1.2332,2,     -999.0,9
320620170703,        P06,     139,          1,          6,          6,2,20170812,       0758,   -32.4999,  -151.5885,       5233,  4067.6,   1.3501,  34.7096,2,  34.7087,2, 192.3700,2, 193.3016,2,   116.4,2,   32.55,2,    0.00,2,    2.26,2,   0.036,2,   0.031,2,   0.0000,2,  -999.0,9, -999.00,9,-999.0000,9, -999.00,9, -999.00,9, -999.00,  -999.0,9, -999.00,9,     -999.0,9,  -999.0,9, 20170812,      611, -32.4998,-151.5885,        0.0,1,      0.061,1,      4.697,1,      0.123,1,     -999.0,     -999.0,9,     -999.0,9,     -999.0,9,     -999.0,9,     1.3396,2,     -999.0,9
320620170703,        P06,     139,          1,          7,          7,2,20170812,       0758,   -32.4999,  -151.5885,       5233,  3756.5,   1.4812,  34.7034,2,  34.7046,2, 184.4433,2, 183.8231,2,   117.7,2,   33.14,2,    0.00,2,    2.30,2,   0.028,2,   0.027,2,   0.0000,2,  2279.2,2, 2382.98,2,   7.5965,2, -999.00,9, -999.00,9, -999.00,  -999.0,9, -999.00,9,     -999.0,9,  -999.0,9, 20170812,      618, -32.4997,-151.5885,        0.0,1,      0.061,1,      4.697,1,      0.124,1,      25.02,     -999.0,9,     -999.0,9,     -999.0,9,     -999.0,9,     1.4711,2,     -999.0,9
320620170703,        P06,     139,          1,          8,          8,2,20170812,       0758,   -32.4999,  -151.5885,       5233,  3450.2,   1.5980,  34.6900,2,  34.6906,2, 171.5318,2, 170.1272,2,   123.9,2,   34.23,2,    0.00,2,    2.38,2,   0.027,6,   0.028,6,   0.0000,6,  -999.0,9, -999.00,9,-999.0000,9, -999.00,9, -999.00,9, -999.00,  -999.0,9, -999.00,9,     -999.0,9,  -999.0,9, 20170812,      624, -32.4999,-151.5885,        0.0,1,      0.061,1,      4.697,1,      0.126,1,     -999.0,     -999.0,9,     -999.0,9,     -999.0,9,     -999.0,9,     1.5799,2,     -999.0,9
320620170703,        P06,     139,          1,          9,          9,2,20170812,       0758,   -32.4999,  -151.5885,       5233,  3143.3,   1.7110,  34.6763,2,  34.6769,2, 159.5896,3, 157.3573,2,   129.0,2,   35.28,2,    0.00,2,    2.46,2,   0.024,2,   0.023,2,   0.0000,2,  2309.4,2, 2402.62,2,   7.5765,2, -999.00,9, -999.00,9, -999.00,  -999.0,9, -999.00,9,     -999.0,9,  -999.0,9, 20170812,      631, -32.5002,-151.5884,        0.0,1,      0.061,1,      4.697,1,      0.127,1,      25.00,     -999.0,9,     -999.0,9,     -999.0,9,     -999.0,9,     1.6911,2,     -999.0,9
320620170703,        P06,     139,          1,         10,         10,2,20170812,       0758,   -32.4999,  -151.5885,       5233,  2873.7,   1.8023,  34.6673,2,  34.6673,2, 152.1908,2, 151.6636,2,   129.4,2,   35.75,2,    0.00,2,    2.50,2,   0.023,2,   0.026,2,   0.0000,2,  -999.0,9, -999.00,9,-999.0000,9, -999.00,9, -999.00,9, -999.00,  -999.0,9, -999.00,9,     -999.0,9,  -999.0,9, 20170812,      636, -32.5001,-151.5884,        0.0,1,      0.061,1,      4.697,1,      0.128,1,     -999.0,     -999.0,9,     -999.0,9,     -999.0,9,     -999.0,9,     1.7918,2,     -999.0,9
320620170703,        P06,     139,          1,         11,         11,2,20170812,       0758,   -32.4999,  -151.5885,       5233,  2619.7,   1.8792,  34.6600,2,  34.6594,3, 148.6112,2, 148.8859,2,   127.4,2,   35.94,2,    0.00,2,    2.52,2,   0.020,2,   0.021,2,   0.0000,2,  2315.7,6, 2396.56,2,   7.5680,2, -999.00,9, -999.00,9, -999.00,  -999.0,9, -999.00,9,     -999.0,9,  -999.0,9, 20170812,      642, -32.4998,-151.5884,        0.0,1,      0.061,1,      4.697,1,      0.129,1,      24.99,     -999.0,9,     -999.0,9,     -999.0,9,     -999.0,9,     1.8739,2,     -999.0,9
320620170703,        P06,     139,          1,         12,         12,2,20170812,       0758,   -32.4999,  -151.5885,       5233,  2365.2,   1.9879,  34.6507,2,  34.6500,3, 147.4240,2, 148.6294,2,   122.4,2,   35.87,2,    0.00,2,    2.51,2,   0.023,2,   0.022,2,   0.0000,2,  -999.0,9, -999.00,9,-999.0000,9, -999.00,9, -999.00,9, -999.00,  -999.0,9, -999.00,9,     -999.0,9,  -999.0,9, 20170812,      647, -32.5000,-151.5884,        0.0,1,      0.062,1,      4.698,1,      0.129,1,     -999.0,     -999.0,9,     -999.0,9,     -999.0,9,     -999.0,9,     1.9816,2,     -999.0,9
320620170703,        P06,     139,          1,         13,         13,2,20170812,       0758,   -32.4999,  -151.5885,       5233,  2112.1,   2.1287,  34.6368,2,  34.6350,2, 148.6098,3, 151.1618,2,   113.6,2,   35.60,2,    0.00,2,    2.49,2,   0.023,2,   0.022,2,   0.0000,2,  2300.3,2, 2391.83,2,   7.5665,2, -999.00,9, -999.00,9, -999.00,  -999.0,9, -999.00,9,     -999.0,9,  -999.0,9, 20170812,      653, -32.4999,-151.5884,        0.0,1,      0.062,1,      4.698,1,      0.132,1,      25.04,     -999.0,9,     -999.0,9,     -999.0,9,     -999.0,9,     2.1400,2,     -999.0,9
320620170703,        P06,     139,          1,         14,         14,2,20170812,       0758,   -32.4999,  -151.5885,       5233,  1888.6,   2.3242,  34.6161,2,  34.6154,2, 151.1883,3, 153.1072,2,   104.5,2,   35.35,2,    0.00,2,    2.47,2,   0.025,2,   0.024,2,   0.0000,2,  -999.0,9, -999.00,9,-999.0000,9, -999.00,9, -999.00,9, -999.00,  -999.0,9, -999.00,9,     -999.0,9,  -999.0,9, 20170812,      658, -32.5002,-151.5883,        0.0,1,      0.061,1,      4.698,1,      0.133,1,     -999.0,     -999.0,9,     -999.0,9,     -999.0,9,     -999.0,9,     2.3212,2,     -999.0,9
320620170703,        P06,     139,          1,         15,         15,2,20170812,       0758,   -32.4999,  -151.5885,       5233,  1681.9,   2.5541,  34.5733,2,  34.5775,2, 156.6765,3, 158.9848,2,    90.8,2,   35.03,2,    0.00,2,    2.45,2,   0.039,2,   0.029,2,   0.0000,2,  2273.9,2, 2364.38,2,   7.5655,2, -999.00,9, -999.00,9, -999.00,  -999.0,9, -999.00,9,     -999.0,9,  -999.0,9, 20170812,      703, -32.5003,-151.5882,        0.0,1,      0.062,1,      4.699,1,      0.130,1,      24.98,     -999.0,9,     -999.0,9,     -999.0,9,     -999.0,9,     2.5279,2,     -999.0,9
320620170703,        P06,     139,          1,         16,         16,2,20170812,       0758,   -32.4999,  -151.5885,       5233,  1479.5,   2.8715,  34.5014,2,  34.5085,2, 166.2564,2, 173.2833,3,    73.6,2,   34.66,2,    0.00,2,    2.39,2,   0.114,2,   0.071,2,   0.0000,2,  -999.0,9, -999.00,9,-999.0000,9, -999.00,9, -999.00,9, -999.00,  -999.0,9, -999.00,9,     -999.0,9,  -999.0,9, 20170812,      708, -32.5002,-151.5883,        0.0,1,      0.061,1,      4.698,1,      0.130,1,     -999.0,     -999.0,9,     -999.0,9,     -999.0,9,     -999.0,9,     2.8324,2,     -999.0,9
320620170703,        P06,     139,          1,         17,         17,2,20170812,       0758,   -32.4999,  -151.5885,       5233,  1349.9,   3.1506,  34.4479,2,  34.4538,2, 172.4958,2, 173.7799,2,    62.0,2,   34.29,2,    0.00,2,    2.36,2,   0.243,2,   0.134,2,   0.0000,2,  2241.4,2, 2309.99,2,   7.5707,2, -999.00,9, -999.00,9, -999.00,  -999.0,9, -999.00,9,     -999.0,9,  -999.0,9, 20170812,      711, -32.5001,-151.5883,        0.0,1,      0.061,1,      4.699,1,      0.131,1,      25.02,     -999.0,9,     -999.0,9,     -999.0,9,     -999.0,9,     3.1134,2,     -999.0,9
320620170703,        P06,     139,          1,         18,         18,2,20170812,       0758,   -32.4999,  -151.5885,       5233,  1245.7,   3.4687,  34.3985,2,  34.3915,2, 182.9249,2, 183.7779,2,    49.3,2,   33.47,2,    0.00,2,    2.31,2,   0.578,2,   0.276,2,   0.0000,2,  -999.0,9, -999.00,9,-999.0000,9, -999.00,9, -999.00,9, -999.00,  -999.0,9, -999.00,9,     -999.0,9,  -999.0,9, 20170812,      714, -32.5001,-151.5883,        0.0,1,      0.061,1,      4.698,1,      0.132,1,     -999.0,     -999.0,9,     -999.0,9,     -999.0,9,     -999.0,9,     3.5104,2,     -999.0,9
320620170703,        P06,     139,          1,         19,         19,2,20170812,       0758,   -32.4999,  -151.5885,       5233,  1146.1,   4.0364,  34.3482,2,  34.3462,2, 194.0138,2, 193.4335,2,    37.9,2,   32.19,2,    0.00,2,    2.20,2,   0.970,2,   0.449,2,   0.0000,2,  2206.5,2, 2301.17,2,   7.6012,2, -999.00,9, -999.00,9, -999.00,  -999.0,9, -999.00,9,     -999.0,9,  -999.0,9, 20170812,      717, -32.5001,-151.5883,        0.0,1,      0.060,1,      4.698,1,      0.129,1,      25.02,     -999.0,9,     -999.0,9,     -999.0,9,     -999.0,9,     4.0432,2,     -999.0,9
320620170703,        P06,     139,          1,         20,         20,2,20170812,       0758,   -32.4999,  -151.5885,       5233,  1045.6,   4.6988,  34.3169,2,  34.3219,2, 202.3605,2, 201.9375,2,    29.5,2,   30.77,2,    0.00,2,    2.09,2,   1.340,2,   0.624,2,   0.1660,2,  -999.0,9, -999.00,9,-999.0000,9, -999.00,9, -999.00,9, -999.00,  -999.0,9, -999.00,9,     -999.0,9,  -999.0,9, 20170812,      720, -32.5001,-151.5883,        0.0,1,      0.060,1,      4.697,1,      0.129,1,     -999.0,     -999.0,9,     -999.0,9,     -999.0,9,     -999.0,9,     4.5442,2,     -999.0,9
320620170703,        P06,     139,          1,         21,         21,2,20170812,       0758,   -32.4999,  -151.5885,       5233,   943.3,   5.1254,  34.3056,2,  34.3036,2, 214.7254,2, 213.3215,2,    21.0,2,   28.83,2,    0.00,2,    1.95,2,   1.821,2,   0.860,2,   0.2760,2,  2176.3,2, 2289.10,2,   7.6462,2, -999.00,9, -999.00,9, -999.00,  -999.0,9, -999.00,9,     -999.0,9,  -999.0,9, 20170812,      723, -32.5001,-151.5883,        0.0,1,      0.059,1,      4.697,1,      0.131,1,      25.02,     -999.0,9,     -999.0,9,     -999.0,9,     -999.0,9,     5.1077,2,     -999.0,9
320620170703,        P06,     139,          1,         22,         22,2,20170812,       0758,   -32.4999,  -151.5885,       5233,   842.2,   5.7803,  34.3059,2,  34.3033,2, 228.2091,2, 226.9762,2,    13.9,2,   26.44,2,    0.00,2,    1.79,2,   2.503,2,   1.193,2,   0.4150,2,  2161.9,2, 2281.48,2,   7.6736,2, -999.00,9, -999.00,9, -999.00,  -999.0,9, -999.00,9,     -999.0,9,  -999.0,9, 20170812,      726, -32.5001,-151.5884,        0.0,1,      0.059,1,      4.697,1,      0.129,1,      25.03,     -999.0,9,     -999.0,9,     -999.0,9,     -999.0,9,     5.7257,2,     -999.0,9
320620170703,        P06,     139,          1,         23,         23,2,20170812,       0758,   -32.4999,  -151.5885,       5233,   740.5,   6.2564,  34.3222,2,  34.3217,2, 238.2626,2, 236.4363,2,     9.8,2,   24.40,2,    0.00,2,    1.65,2,   3.164,2,   1.519,2,   0.4470,2,  2153.0,2, 2280.90,2,   7.6953,2, -999.00,9, -999.00,9, -999.00,  -999.0,9, -999.00,9,     -999.0,9,  -999.0,9, 20170812,      728, -32.5000,-151.5884,        0.0,1,      0.058,1,      4.696,1,      0.133,1,      25.02,     -999.0,9,     -999.0,9,     -999.0,9,     -999.0,9,     6.2627,2,     -999.0,9
320620170703,        P06,     139,          1,         24,         24,2,20170812,       0758,   -32.4999,  -151.5885,       5233,   641.3,   6.7663,  34.3520,2,  34.3576,2, 241.8135,2, 240.5346,2,     7.0,2,   22.52,2,    0.00,2,    1.52,2,   3.588,2,   1.787,2,   0.7300,2,  -999.0,9, -999.00,9,-999.0000,9, -999.00,9, -999.00,9, -999.00,  -999.0,9, -999.00,9,     -999.0,9,  -999.0,9, 20170812,      731, -32.5000,-151.5884,        0.0,1,      0.059,1,      4.696,1,      0.133,1,     -999.0,     -999.0,9,     -999.0,9,     -999.0,9,     -999.0,9,     6.8611,2,     -999.0,9
320620170703,        P06,     139,          1,         25,         25,2,20170812,       0758,   -32.4999,  -151.5885,       5233,   539.8,   7.4219,  34.3978,2,  34.4004,2, 242.3268,2, 240.3681,2,     5.4,2,   20.56,2,    0.00,2,    1.40,2,   3.659,2,   1.870,2,   0.8950,2,  2143.0,2, 2279.00,2,   7.7190,2, -999.00,9, -999.00,9, -999.00,  -999.0,9, -999.00,9,     -999.0,9,  -999.0,9, 20170812,      734, -32.5000,-151.5884,        0.0,1,      0.059,1,      4.695,1,      0.133,1,      25.03,     -999.0,9,     -999.0,9,     -999.0,9,     -999.0,9,     7.5041,2,     -999.0,9
320620170703,        P06,     139,          1,         26,         26,2,20170812,       0758,   -32.4999,  -151.5885,       5233,   438.6,   8.5779,  34.4745,2,  34.4781,2, 228.5332,3, 231.0888,2,     4.0,2,   18.20,2,    0.00,2,    1.26,2,   3.464,2,   1.801,2,   1.1430,2,  2139.3,2, 2280.90,2,   7.7308,2, -999.00,9, -999.00,9, -999.00,  -999.0,9, -999.00,9,     -999.0,9,  -999.0,9, 20170812,      737, -32.5000,-151.5884,        0.0,1,      0.058,1,      4.694,1,      0.135,1,      24.99,     -999.0,9,     -999.0,9,     -999.0,9,     -999.0,9,     8.6578,2,     -999.0,9
320620170703,        P06,     139,          1,         27,         27,2,20170812,       0758,   -32.4999,  -151.5885,       5233,   368.7,  10.0011,  34.6063,2,  34.6046,2, 214.6572,2, 216.0409,2,     2.9,2,   15.42,2,    0.00,2,    1.08,2,   3.280,2,   1.693,2,   0.9560,2,  2130.2,2, 2284.26,2,   7.7565,2, -999.00,9, -999.00,9, -999.00,  -999.0,9, -999.00,9,     -999.0,9,  -999.0,9, 20170812,      740, -32.4999,-151.5884,        0.0,1,      0.059,1,      4.691,1,      0.137,1,      25.02,     -999.0,9,     -999.0,9,     -999.0,9,     -999.0,9,    10.0490,2,     -999.0,9
320620170703,        P06,     139,          1,         28,         28,2,20170812,       0758,   -32.4999,  -151.5885,       5233,   316.0,  12.0175,  34.8541,2,  34.7905,2, 208.1998,2, 208.7126,2,     2.2,2,   12.26,2,    0.00,2,    0.89,2,   3.013,2,   1.602,2,   1.0720,2,  2122.8,2, 2297.86,2,   7.7899,2, -999.00,9, -999.00,9, -999.00,  -999.0,9, -999.00,9,     -999.0,9,  -999.0,9, 20170812,      742, -32.5000,-151.5884,        0.0,1,      0.059,1,      4.690,1,      0.137,1,      25.01,     -999.0,9,     -999.0,9,     -999.0,9,     -999.0,9,    11.5838,2,     -999.0,9
320620170703,        P06,     139,          1,         29,         29,2,20170812,       0758,   -32.4999,  -151.5885,       5233,   267.8,  13.5129,  35.0334,2,  35.0319,2, 209.2624,2, 208.1247,2,     1.5,2,    8.12,2,    0.00,2,    0.63,2,   2.789,2,   1.523,2,   1.1630,2,  2110.2,2, 2306.60,2,   7.8404,2, -999.00,9, -999.00,9, -999.00,  -999.0,9, -999.00,9,     -999.0,9,  -999.0,9, 20170812,      744, -32.5000,-151.5884,        0.0,1,      0.060,1,      4.689,1,      0.134,1,      25.00,     -999.0,9,     -999.0,9,     -999.0,9,     -999.0,9,    13.5064,2,     -999.0,9
320620170703,        P06,     139,          1,         30,         30,2,20170812,       0758,   -32.4999,  -151.5885,       5233,   215.1,  14.5436,  35.1195,2,  35.2018,2, 213.3451,2, 214.6099,2,     0.6,2,    4.54,2,    0.02,2,    0.39,2,   2.575,2,   1.458,2,   1.1470,2,  2097.7,2, 2313.27,2,   7.8836,2, -999.00,9, -999.00,9, -999.00,  -999.0,9, -999.00,9,     -999.0,9,  -999.0,9, 20170812,      747, -32.5001,-151.5883,        0.0,1,      0.066,1,      4.685,1,      0.135,1,      25.02,     -999.0,9,     -999.0,9,     -999.0,9,     -999.0,9,    14.9187,2,     -999.0,9
320620170703,        P06,     139,          1,         31,         31,2,20170812,       0758,   -32.4999,  -151.5885,       5233,   167.2,  15.8075,  35.2924,2,  35.2314,2, 222.1004,2, 221.6747,2,     0.3,2,    2.41,2,    0.09,2,    0.28,2,   2.504,2,   1.438,2,   1.3810,2,  2086.7,2, 2316.37,6,   7.9052,2, -999.00,9, -999.00,9, -999.00,  -999.0,9, -999.00,9,     -999.0,9,  -999.0,9, 20170812,      749, -32.4999,-151.5884,        0.0,1,      0.096,1,      4.675,1,      0.149,1,      25.02,     -999.0,9,     -999.0,9,     -999.0,9,     -999.0,9,    15.5755,2,     -999.0,9
320620170703,        P06,     139,          1,         32,         32,2,20170812,       0758,   -32.4999,  -151.5885,       5233,   116.1,  17.3355,  35.4858,2,  35.4872,2, 236.5190,2, 234.8096,2,     0.1,2,    0.07,2,    0.02,2,    0.08,2,   2.285,2,   1.304,2,   1.2410,2,  2064.6,2, 2332.22,2,   7.9747,2, -999.00,9, -999.00,9, -999.00,  -999.0,9, -999.00,9,     -999.0,9,  -999.0,9, 20170812,      751, -32.4999,-151.5885,        0.0,1,      0.153,1,      4.641,1,      0.173,1,      25.03,     -999.0,9,     -999.0,9,     -999.0,9,     -999.0,9,    17.3494,2,     -999.0,9