BOTTLE,20230922CCHSIOCBG
EXPOCODE,SECT_ID,STNNBR,CASTNO,SAMPNO,BTLNBR,BTLNBR_FLAG_W,DATE,TIME,LATITUDE,LONGITUDE,DEPTH,CTDPRS,CTDTMP,CTDSAL,CTDSAL_FLAG_W,SALNTY,SALNTY_FLAG_W,CTDOXY,CTDOXY_FLAG_W,OXYGEN,OXYGEN_FLAG_W,SILCAT,SILCAT_FLAG_W,NITRAT,NITRAT_FLAG_W,NITRIT,NITRIT_FLAG_W,PHSPHT,PHSPHT_FLAG_W,CFC-11,CFC-11_FLAG_W,CFC-12,CFC-12_FLAG_W,SF6,SF6_FLAG_W,TCARBN,TCARBN_FLAG_W,ALKALI,ALKALI_FLAG_W,PH_TOT,PH_TOT_FLAG_W,DELC13,DELC13_FLAG_W,DELC14,DELC14_FLAG_W,C14ERR,DOC,DOC_FLAG_W,TDN,TDN_FLAG_W,TON,TON_FLAG_W,D15N_NO3,D15N_NO3_FLAG_W,BTL_DATE,BTL_TIME,BTL_LAT,BTL_LON,CTDRINKO,CTDRINKO_FLAG_W,CTDFLUOR,CTDFLUOR_FLAG_W,CTDXMISS,CTDXMISS_FLAG_W,CTDBACKSCATTER,CTDBACKSCATTER_FLAG_W,PH_TMP,D18O_NO3,D18O_NO3_FLAG_W,DOP,DOP_FLAG_W,HPLC,HPLC_FLAG_W,POC,POC_FLAG_W,REFTMP,REFTMP_FLAG_W,TDP,TDP_FLAG_W
,,,,,,,,,,,METERS,DBAR,ITS-90,PSS-78,,PSS-78,,UMOL/KG,,UMOL/KG,,UMOL/KG,,UMOL/KG,,UMOL/KG,,UMOL/KG,,PMOL/KG,,PMOL/KG,,FMOL/KG,,UMOL/KG,,UMOL/KG,,,,/MILLE,,/MILLE,,/MILLE,UMOL/KG,,UMOL/KG,,UMOL/KG,,/MILLE,,,,,,VOLTS,,VOLTS,,VOLTS,,VOLTS,,DEGC,/MILLE,,UMOL/KG,,,,UG/L,,ITS-90,,UMOL/KG,
320620170703,        P06,     122,          1,         33,         33,2,20170805,       1411,   -32.4994,  -163.1627,       5303,    64.0,  16.7138,  35.5092,2,  35.5131,2, 238.3250,2, 237.1942,2,     0.2,2,    0.18,2,    0.02,2,    0.07,2,   2.328,6,   1.346,6,   1.4115,6,  2071.5,2, 2332.62,2,   7.9677,2, -999.00,9, -999.00,9, -999.00,    59.3,2,    4.10,2,     -999.0,1,  -999.0,1, 20170805,     1407, -32.4993,-163.1629,        0.0,1,      0.188,1,      4.627,1,      0.208,1,      25.00,     -999.0,1,     -999.0,9,     -999.0,9,     -999.0,9,    16.7271,2,     -999.0,9
320620170703,        P06,     122,          1,         34,         34,2,20170805,       1411,   -32.4994,  -163.1627,       5303,    40.5,  16.7099,  35.5093,2,  35.5139,2, 238.4026,2, 237.5121,2,     0.2,2,    0.17,2,    0.02,2,    0.07,2,   2.382,2,   1.355,2,   1.3120,2,  -999.0,9, -999.00,9,-999.0000,9, -999.00,9, -999.00,9, -999.00,    64.0,2,    3.90,2,     -999.0,1,  -999.0,1, 20170805,     1408, -32.4994,-163.1627,        0.0,1,      0.187,1,      4.627,1,      0.203,1,     -999.0,     -999.0,1,     -999.0,9,     -999.0,9,     -999.0,9,    16.7292,2,     -999.0,9
320620170703,        P06,     122,          1,         35,         35,2,20170805,       1411,   -32.4994,  -163.1627,       5303,    19.4,  16.7081,  35.5094,2,  35.5137,2, 238.3669,2, 237.7413,2,     0.3,2,    0.14,2,    0.03,2,    0.07,2,   2.307,2,   1.338,2,   1.4770,2,  2072.2,2, 2332.63,2,   7.9674,2, -999.00,9, -999.00,9, -999.00,    70.2,2,    3.50,2,     -999.0,1,  -999.0,1, 20170805,     1410, -32.4994,-163.1627,        0.0,1,      0.186,1,      4.627,1,      0.212,1,      25.00,     -999.0,1,     -999.0,9,     -999.0,9,     -999.0,9,    16.7225,2,     -999.0,9
320620170703,        P06,     122,          1,         36,         36,2,20170805,       1411,   -32.4994,  -163.1627,       5303,     3.4,  16.7079,  35.5090,2,  35.5133,2, 238.3873,2, 237.7998,2,     0.3,2,    0.14,2,    0.02,2,    0.11,2,   2.345,2,   1.344,2,   1.4180,2,  2072.1,6, 2328.60,2,   7.9672,2, -999.00,9, -999.00,9, -999.00,    59.9,2,    4.30,2,     -999.0,1,  -999.0,1, 20170805,     1411, -32.4994,-163.1627,        0.0,1,      0.198,1,      4.628,1,      0.192,1,      25.01,     -999.0,1,     -999.0,9,     -999.0,9,     -999.0,9,    16.7107,2,     -999.0,9