BOTTLE,20230922CCHSIOCBG
EXPOCODE,SECT_ID,STNNBR,CASTNO,SAMPNO,BTLNBR,BTLNBR_FLAG_W,DATE,TIME,LATITUDE,LONGITUDE,DEPTH,CTDPRS,CTDTMP,CTDSAL,CTDSAL_FLAG_W,SALNTY,SALNTY_FLAG_W,CTDOXY,CTDOXY_FLAG_W,OXYGEN,OXYGEN_FLAG_W,SILCAT,SILCAT_FLAG_W,NITRAT,NITRAT_FLAG_W,NITRIT,NITRIT_FLAG_W,PHSPHT,PHSPHT_FLAG_W,CFC-11,CFC-11_FLAG_W,CFC-12,CFC-12_FLAG_W,SF6,SF6_FLAG_W,TCARBN,TCARBN_FLAG_W,ALKALI,ALKALI_FLAG_W,PH_TOT,PH_TOT_FLAG_W,DELC13,DELC13_FLAG_W,DELC14,DELC14_FLAG_W,C14ERR,DOC,DOC_FLAG_W,TDN,TDN_FLAG_W,TON,TON_FLAG_W,D15N_NO3,D15N_NO3_FLAG_W,BTL_DATE,BTL_TIME,BTL_LAT,BTL_LON,CTDRINKO,CTDRINKO_FLAG_W,CTDFLUOR,CTDFLUOR_FLAG_W,CTDXMISS,CTDXMISS_FLAG_W,CTDBACKSCATTER,CTDBACKSCATTER_FLAG_W,PH_TMP,D18O_NO3,D18O_NO3_FLAG_W,DOP,DOP_FLAG_W,HPLC,HPLC_FLAG_W,POC,POC_FLAG_W,REFTMP,REFTMP_FLAG_W,TDP,TDP_FLAG_W
,,,,,,,,,,,METERS,DBAR,ITS-90,PSS-78,,PSS-78,,UMOL/KG,,UMOL/KG,,UMOL/KG,,UMOL/KG,,UMOL/KG,,UMOL/KG,,PMOL/KG,,PMOL/KG,,FMOL/KG,,UMOL/KG,,UMOL/KG,,,,/MILLE,,/MILLE,,/MILLE,UMOL/KG,,UMOL/KG,,UMOL/KG,,/MILLE,,,,,,VOLTS,,VOLTS,,VOLTS,,VOLTS,,DEGC,/MILLE,,UMOL/KG,,,,UG/L,,ITS-90,,UMOL/KG,
320620170703,        P06,      72,          1,         33,         33,2,20170718,       2141,   -30.0800,   174.4998,       3609,    84.2,  17.8386,  35.6830,2,  35.6743,2, 227.8969,2, 227.8388,2,     0.2,2,    1.21,2,    0.13,2,    0.16,2,   1.900,2,   1.343,2,-999.0000,5,  2070.2,2, -999.00,9,   7.9734,2, -999.00,9, -999.00,9, -999.00,    56.7,2,    5.10,2,     -999.0,1,  -999.0,9, 20170718,     2135, -30.0800, 174.4998,        0.0,1,      0.229,1,      3.344,1,      0.206,1,      25.01,     -999.0,9,     -999.0,9,     -999.0,9,     -999.0,9,    17.8424,2,     -999.0,9
320620170703,        P06,      72,          1,         34,         34,2,20170718,       2141,   -30.0800,   174.4998,       3609,    60.9,  17.8649,  35.6854,2,  35.6972,2, 230.1951,2, 231.2702,2,     0.0,2,    0.82,2,    0.11,2,    0.14,2,-999.000,9,-999.000,9,-999.0000,9,  2067.4,2, -999.00,9,   7.9823,2, -999.00,9, -999.00,9, -999.00,    57.7,2,    4.50,2,     -999.0,1,  -999.0,9, 20170718,     2137, -30.0800, 174.4998,        0.0,1,      0.226,1,      0.148,1,      0.208,1,      25.02,     -999.0,9,     -999.0,9,     -999.0,9,     -999.0,9,    17.9617,2,     -999.0,9
320620170703,        P06,      72,          1,         35,         35,2,20170718,       2141,   -30.0800,   174.4998,       3609,    35.1,  17.9102,  35.6879,2,  35.6974,2, 229.9802,2, 230.9762,2,     0.0,2,    0.84,2,    0.12,2,    0.13,2,   1.975,2,   1.338,2,-999.0000,5,  2068.0,2, -999.00,9,   7.9818,2, -999.00,9, -999.00,9, -999.00,    55.7,2,    4.70,2,     -999.0,1,  -999.0,9, 20170718,     2139, -30.0800, 174.4998,        0.0,1,      0.190,1,      3.471,1,      0.202,1,      25.02,     -999.0,9,     -999.0,9,     -999.0,9,     -999.0,9,    17.9713,2,     -999.0,9
320620170703,        P06,      72,          1,         36,         36,2,20170718,       2141,   -30.0800,   174.4998,       3609,     3.9,  17.9873,  35.6899,2,  35.6972,2, 230.1975,2, 231.3077,2,     0.2,2,    0.83,2,    0.11,2,    0.14,2,   1.573,2,   1.309,2,-999.0000,5,  2070.5,6, -999.00,9,   7.9816,2,    0.93,2,   49.76,2,    4.31,    59.6,2,    4.60,2,     -999.0,1,  -999.0,9, 20170718,     2141, -30.0800, 174.4998,        0.0,1,      0.242,1,      3.419,1,      0.212,1,      25.02,     -999.0,9,     -999.0,9,     -999.0,9,     -999.0,9,    17.9817,2,     -999.0,9