BOTTLE,20230922CCHSIOCBG
EXPOCODE,SECT_ID,STNNBR,CASTNO,SAMPNO,BTLNBR,BTLNBR_FLAG_W,DATE,TIME,LATITUDE,LONGITUDE,DEPTH,CTDPRS,CTDTMP,CTDSAL,CTDSAL_FLAG_W,SALNTY,SALNTY_FLAG_W,CTDOXY,CTDOXY_FLAG_W,OXYGEN,OXYGEN_FLAG_W,SILCAT,SILCAT_FLAG_W,NITRAT,NITRAT_FLAG_W,NITRIT,NITRIT_FLAG_W,PHSPHT,PHSPHT_FLAG_W,CFC-11,CFC-11_FLAG_W,CFC-12,CFC-12_FLAG_W,SF6,SF6_FLAG_W,TCARBN,TCARBN_FLAG_W,ALKALI,ALKALI_FLAG_W,PH_TOT,PH_TOT_FLAG_W,DELC13,DELC13_FLAG_W,DELC14,DELC14_FLAG_W,C14ERR,DOC,DOC_FLAG_W,TDN,TDN_FLAG_W,TON,TON_FLAG_W,D15N_NO3,D15N_NO3_FLAG_W,BTL_DATE,BTL_TIME,BTL_LAT,BTL_LON,CTDRINKO,CTDRINKO_FLAG_W,CTDFLUOR,CTDFLUOR_FLAG_W,CTDXMISS,CTDXMISS_FLAG_W,CTDBACKSCATTER,CTDBACKSCATTER_FLAG_W,PH_TMP,D18O_NO3,D18O_NO3_FLAG_W,DOP,DOP_FLAG_W,HPLC,HPLC_FLAG_W,POC,POC_FLAG_W,REFTMP,REFTMP_FLAG_W,TDP,TDP_FLAG_W
,,,,,,,,,,,METERS,DBAR,ITS-90,PSS-78,,PSS-78,,UMOL/KG,,UMOL/KG,,UMOL/KG,,UMOL/KG,,UMOL/KG,,UMOL/KG,,PMOL/KG,,PMOL/KG,,FMOL/KG,,UMOL/KG,,UMOL/KG,,,,/MILLE,,/MILLE,,/MILLE,UMOL/KG,,UMOL/KG,,UMOL/KG,,/MILLE,,,,,,VOLTS,,VOLTS,,VOLTS,,VOLTS,,DEGC,/MILLE,,UMOL/KG,,,,UG/L,,ITS-90,,UMOL/KG,
320620170703,        P06,     108,          1,         33,         33,2,20170731,       1247,   -32.4998,  -171.5896,       4829,    75.4,  17.4817,  35.6781,2,  35.6771,2, 231.1469,2, 231.2996,2,     0.2,2,    0.32,2,    0.04,2,    0.11,2,-999.000,9,-999.000,9,-999.0000,9,  2069.2,2, 2337.46,2,   7.9766,2, -999.00,9, -999.00,9, -999.00,    62.8,2,    4.20,2,     -999.0,1,  -999.0,9, 20170731,     1242, -32.4998,-171.5895,        0.0,1,      0.174,1,      4.637,1,      0.204,1,      25.05,     -999.0,9,     -999.0,9,     -999.0,9,     -999.0,9,    17.4808,2,     -999.0,9
320620170703,        P06,     108,          1,         34,         34,2,20170731,       1247,   -32.4998,  -171.5896,       4829,    49.7,  17.4826,  35.6788,2,  35.6753,2, 231.1350,2, 231.8734,2,     0.2,2,    0.33,2,    0.04,2,    0.10,2,   2.249,2,   1.307,2,   1.3310,2,  -999.0,9, -999.00,9,-999.0000,9, -999.00,9, -999.00,9, -999.00,    65.8,3,    5.00,2,     -999.0,1,  -999.0,9, 20170731,     1243, -32.4998,-171.5895,        0.0,1,      0.192,1,      4.630,1,      0.206,1,     -999.0,     -999.0,9,     -999.0,9,     -999.0,9,     -999.0,9,    17.4763,2,     -999.0,9
320620170703,        P06,     108,          1,         35,         35,2,20170731,       1247,   -32.4998,  -171.5896,       4829,    25.0,  17.4798,  35.6783,2,  35.6761,2, 231.0636,2, 231.4902,2,     0.2,2,    0.32,2,    0.04,2,    0.11,2,-999.000,9,-999.000,9,-999.0000,9,  -999.0,9, -999.00,9,-999.0000,9, -999.00,9, -999.00,9, -999.00,    60.5,2,    4.30,2,     -999.0,1,  -999.0,9, 20170731,     1245, -32.4998,-171.5896,        0.0,1,      0.195,1,      4.627,1,      0.210,1,     -999.0,     -999.0,9,     -999.0,9,     -999.0,9,     -999.0,9,    17.4747,2,     -999.0,9
320620170703,        P06,     108,          1,         36,         36,2,20170731,       1247,   -32.4998,  -171.5896,       4829,     4.3,  17.4760,  35.6777,2,  35.6759,2, 230.9496,2, 231.5848,2,     0.3,2,    0.31,2,    0.04,2,    0.12,2,   2.213,2,   1.296,2,   1.4300,2,  2069.1,6, 2338.26,2,   7.9764,2, -999.00,9, -999.00,9, -999.00,    60.3,2,    4.00,2,     -999.0,1,  -999.0,9, 20170731,     1247, -32.4998,-171.5896,        0.0,1,      0.200,1,      4.624,1,      0.200,1,      25.05,     -999.0,9,     -999.0,9,     -999.0,9,     -999.0,9,    17.4614,2,     -999.0,9