BOTTLE,20230922CCHSIOCBG
EXPOCODE,SECT_ID,STNNBR,CASTNO,SAMPNO,BTLNBR,BTLNBR_FLAG_W,DATE,TIME,LATITUDE,LONGITUDE,DEPTH,CTDPRS,CTDTMP,CTDSAL,CTDSAL_FLAG_W,SALNTY,SALNTY_FLAG_W,CTDOXY,CTDOXY_FLAG_W,OXYGEN,OXYGEN_FLAG_W,SILCAT,SILCAT_FLAG_W,NITRAT,NITRAT_FLAG_W,NITRIT,NITRIT_FLAG_W,PHSPHT,PHSPHT_FLAG_W,CFC-11,CFC-11_FLAG_W,CFC-12,CFC-12_FLAG_W,SF6,SF6_FLAG_W,TCARBN,TCARBN_FLAG_W,ALKALI,ALKALI_FLAG_W,PH_TOT,PH_TOT_FLAG_W,DELC13,DELC13_FLAG_W,DELC14,DELC14_FLAG_W,C14ERR,DOC,DOC_FLAG_W,TDN,TDN_FLAG_W,TON,TON_FLAG_W,D15N_NO3,D15N_NO3_FLAG_W,BTL_DATE,BTL_TIME,BTL_LAT,BTL_LON,CTDRINKO,CTDRINKO_FLAG_W,CTDFLUOR,CTDFLUOR_FLAG_W,CTDXMISS,CTDXMISS_FLAG_W,CTDBACKSCATTER,CTDBACKSCATTER_FLAG_W,PH_TMP,D18O_NO3,D18O_NO3_FLAG_W,DOP,DOP_FLAG_W,HPLC,HPLC_FLAG_W,POC,POC_FLAG_W,REFTMP,REFTMP_FLAG_W,TDP,TDP_FLAG_W
,,,,,,,,,,,METERS,DBAR,ITS-90,PSS-78,,PSS-78,,UMOL/KG,,UMOL/KG,,UMOL/KG,,UMOL/KG,,UMOL/KG,,UMOL/KG,,PMOL/KG,,PMOL/KG,,FMOL/KG,,UMOL/KG,,UMOL/KG,,,,/MILLE,,/MILLE,,/MILLE,UMOL/KG,,UMOL/KG,,UMOL/KG,,/MILLE,,,,,,VOLTS,,VOLTS,,VOLTS,,VOLTS,,DEGC,/MILLE,,UMOL/KG,,,,UG/L,,ITS-90,,UMOL/KG,
320620170703,        P06,      75,          1,          1,          1,2,20170719,       1713,   -30.0803,   175.9992,       4262,  4324.7,   1.9160,  34.6825,2,  34.6836,2, 155.4825,2, 155.8803,2,   126.3,2,   35.11,2,    0.00,2,    2.45,2,   0.049,2,   0.026,2,-999.0000,5,  2311.8,6, 2403.65,2,   7.5814,2, -999.00,9, -999.00,9, -999.00,  -999.0,9, -999.00,9,     -999.0,9,  -999.0,1, 20170719,     1516, -30.0803, 175.9991,        0.0,1,      0.061,1,      0.009,1,      0.136,1,      24.99,     -999.0,1,     -999.0,9,     -999.0,9,     -999.0,9,     1.9165,2,     -999.0,9
320620170703,        P06,      75,          1,          2,          2,2,20170719,       1713,   -30.0803,   175.9992,       4262,  4250.8,   1.9087,  34.6824,2,  34.6824,2, 155.4825,2, 155.9860,2,   126.6,2,   35.13,2,    0.00,2,    2.45,2,   0.045,2,   0.030,2,-999.0000,5,  2311.6,2, 2404.64,2,   7.5819,2, -999.00,9, -999.00,9, -999.00,  -999.0,9, -999.00,9,     -999.0,9,  -999.0,1, 20170719,     1519, -30.0803, 175.9992,        0.0,1,      0.061,1,      0.360,1,      0.131,1,      24.99,     -999.0,1,     -999.0,9,     -999.0,9,     -999.0,9,     1.9093,2,     -999.0,9
320620170703,        P06,      75,          1,          3,          3,2,20170719,       1713,   -30.0803,   175.9992,       4262,  4167.6,   1.9024,  34.6824,2,  34.6826,2, 155.4825,2, 155.6679,2,   126.4,2,   35.19,2,    0.00,2,    2.46,2,   0.046,2,   0.030,2,-999.0000,5,  2310.7,2, 2338.69,3,   7.5824,2, -999.00,9, -999.00,9, -999.00,  -999.0,9, -999.00,9,     -999.0,9,  -999.0,1, 20170719,     1521, -30.0803, 175.9993,        0.0,1,      0.061,1,      0.006,1,      0.132,1,      24.99,     -999.0,1,     -999.0,9,     -999.0,9,     -999.0,9,     1.9028,2,     -999.0,9
320620170703,        P06,      75,          1,          4,          4,2,20170719,       1713,   -30.0803,   175.9992,       4262,  3860.2,   1.8738,  34.6822,2,  34.6824,2, 155.4825,2, 155.5131,2,   126.3,2,   35.18,2,    0.00,2,    2.46,2,   0.059,2,   0.027,2,-999.0000,5,  2311.7,2, 2408.15,3,   7.5822,2, -999.00,9, -999.00,9, -999.00,  -999.0,9, -999.00,9,     -999.0,9,  -999.0,1, 20170719,     1528, -30.0804, 175.9996,        0.0,1,      0.061,1,      0.006,1,      0.134,1,      25.00,     -999.0,1,     -999.0,9,     -999.0,9,     -999.0,9,     1.8742,2,     -999.0,9
320620170703,        P06,      75,          1,          5,          5,2,20170719,       1713,   -30.0803,   175.9992,       4262,  3553.0,   1.8505,  34.6814,2,  34.6824,2, 155.4074,2, 154.8248,2,   126.2,2,   35.18,2,    0.00,2,    2.45,2,   0.049,2,   0.030,2,-999.0000,5,  2311.4,2, 2404.00,2,   7.5824,2, -999.00,9, -999.00,9, -999.00,  -999.0,9, -999.00,9,     -999.0,9,  -999.0,1, 20170719,     1534, -30.0804, 175.9997,        0.0,1,      0.062,1,      2.041,1,      0.134,1,      25.02,     -999.0,1,     -999.0,9,     -999.0,9,     -999.0,9,     1.8507,2,     -999.0,9
320620170703,        P06,      75,          1,          6,          6,2,20170719,       1713,   -30.0803,   175.9992,       4262,  3246.2,   1.8451,  34.6798,2,  34.6791,2, 155.5334,2, 154.9392,2,   125.7,2,   35.16,2,    0.00,2,    2.46,2,-999.000,9,-999.000,9,-999.0000,9,  2310.2,2, 2401.12,2,   7.5810,2, -999.00,9, -999.00,9, -999.00,  -999.0,9, -999.00,9,     -999.0,9,  -999.0,1, 20170719,     1540, -30.0803, 175.9995,        0.0,1,      0.061,1,      0.018,1,      0.131,1,      24.99,     -999.0,1,     -999.0,9,     -999.0,9,     -999.0,9,     1.8434,2,     -999.0,9
320620170703,        P06,      75,          1,          7,          7,2,20170719,       1713,   -30.0803,   175.9992,       4262,  2953.9,   1.8638,  34.6763,2,  34.6761,2, 154.2974,2, 154.6056,2,   124.7,2,   35.22,2,    0.00,2,    2.46,2,   0.063,2,   0.036,2,-999.0000,5,  2310.1,2, 2399.17,6,   7.5796,2, -999.00,9, -999.00,9, -999.00,  -999.0,9, -999.00,9,     -999.0,9,  -999.0,1, 20170719,     1546, -30.0803, 175.9994,        0.0,1,      0.062,1,      0.012,1,      0.132,1,      25.01,     -999.0,1,     -999.0,9,     -999.0,9,     -999.0,9,     1.8577,2,     -999.0,9
320620170703,        P06,      75,          1,          8,          8,2,20170719,       1713,   -30.0803,   175.9992,       4262,  2698.5,   1.9045,  34.6714,2,  34.6716,2, 153.9491,2, 153.7954,2,   123.1,2,   35.08,2,    0.00,2,    2.47,2,-999.000,9,-999.000,9,-999.0000,9,  2308.8,2, -999.00,5,   7.5788,2, -999.00,9, -999.00,9, -999.00,  -999.0,9, -999.00,9,     -999.0,9,  -999.0,1, 20170719,     1552, -30.0803, 175.9993,        0.0,1,      0.061,1,      2.558,1,      0.132,1,      25.01,     -999.0,1,     -999.0,9,     -999.0,9,     -999.0,9,     1.8968,2,     -999.0,9
320620170703,        P06,      75,          1,          9,          9,2,20170719,       1713,   -30.0803,   175.9992,       4262,  2445.1,   1.9850,  34.6634,2,  34.6629,2, 153.4778,2, 153.4692,2,   120.8,2,   35.09,2,    0.00,2,    2.47,2,   0.057,2,   0.028,2,-999.0000,5,  2307.0,6, -999.00,5,   7.5770,2, -999.00,9, -999.00,9, -999.00,  -999.0,9, -999.00,9,     -999.0,9,  -999.0,1, 20170719,     1557, -30.0803, 175.9991,        0.0,1,      0.061,1,      0.006,1,      0.132,1,      24.96,     -999.0,1,     -999.0,9,     -999.0,9,     -999.0,9,     1.9793,2,     -999.0,9
320620170703,        P06,      75,          1,         10,         10,2,20170719,       1713,   -30.0803,   175.9992,       4262,  2191.3,   2.1122,  34.6513,2,  34.6517,2, 153.0751,2, 152.8281,2,   117.0,2,   35.09,2,    0.00,2,    2.46,2,-999.000,9,-999.000,9,-999.0000,9,  2303.1,2, 2393.71,2,   7.5752,2, -999.00,9, -999.00,9, -999.00,  -999.0,9, -999.00,9,     -999.0,9,  -999.0,1, 20170719,     1603, -30.0803, 175.9992,        0.0,1,      0.062,1,      0.711,1,      0.134,1,      25.01,     -999.0,1,     -999.0,9,     -999.0,9,     -999.0,9,     2.1015,2,     -999.0,9
320620170703,        P06,      75,          1,         11,         11,2,20170719,       1713,   -30.0803,   175.9992,       4262,  1955.5,   2.2891,  34.6346,2,  34.6358,2, 152.9914,2, 152.6322,2,   112.4,2,   34.97,2,    0.00,2,    2.45,2,   0.065,2,   0.027,2,-999.0000,5,  2298.4,2, 2384.71,2,   7.5758,2, -999.00,9, -999.00,9, -999.00,  -999.0,9, -999.00,9,     -999.0,9,  -999.0,1, 20170719,     1608, -30.0803, 175.9992,        0.0,1,      0.062,1,      3.596,1,      0.134,1,      24.99,     -999.0,1,     -999.0,9,     -999.0,9,     -999.0,9,     2.2719,2,     -999.0,9
320620170703,        P06,      75,          1,         12,         12,2,20170719,       1713,   -30.0803,   175.9992,       4262,  1754.6,   2.4957,  34.6156,2,  34.6148,2, 154.8481,2, 154.8983,2,   105.1,2,   34.72,2,    0.00,2,    2.43,2,-999.000,9,-999.000,9,-999.0000,9,  2289.7,2, 2381.08,2,   7.5769,2, -999.00,9, -999.00,9, -999.00,  -999.0,9, -999.00,9,     -999.0,9,  -999.0,1, 20170719,     1612, -30.0803, 175.9992,        0.0,1,      0.061,1,      3.058,1,      0.136,1,      24.98,     -999.0,1,     -999.0,9,     -999.0,9,     -999.0,9,     2.4993,2,     -999.0,9
320620170703,        P06,      75,          1,         13,         13,2,20170719,       1713,   -30.0803,   175.9992,       4262,  1580.1,   2.7591,  34.5893,2,  34.5873,2, 157.6553,2, 157.6120,2,    96.3,2,   34.38,2,    0.00,2,    2.40,2,   0.115,2,   0.044,2,-999.0000,5,  2280.3,2, 2367.96,2,   7.5803,2, -999.00,9, -999.00,9, -999.00,  -999.0,9, -999.00,9,     -999.0,9,  -999.0,1, 20170719,     1617, -30.0803, 175.9992,        0.0,1,      0.061,1,      0.006,1,      0.138,1,      24.98,     -999.0,1,     -999.0,9,     -999.0,9,     -999.0,9,     2.7681,2,     -999.0,9
320620170703,        P06,      75,          1,         14,         14,2,20170719,       1713,   -30.0803,   175.9992,       4262,  1479.9,   2.9378,  34.5655,2,  34.5596,2, 160.3474,2, 160.5836,2,    88.8,2,   34.17,2,    0.00,2,    2.39,2,-999.000,9,-999.000,9,-999.0000,9,  2270.7,2, 2356.42,2,   7.5814,2, -999.00,9, -999.00,9, -999.00,  -999.0,9, -999.00,9,     -999.0,9,  -999.0,1, 20170719,     1619, -30.0803, 175.9994,        0.0,1,      0.061,1,      0.962,1,      0.139,1,      24.99,     -999.0,1,     -999.0,9,     -999.0,9,     -999.0,9,     2.9641,2,     -999.0,9
320620170703,        P06,      75,          1,         15,         15,2,20170719,       1713,   -30.0803,   175.9992,       4262,  1378.1,   3.2974,  34.5117,2,  34.5095,2, 166.5541,2, 167.3813,2,    74.5,2,   33.66,2,    0.00,2,    2.34,2,   0.207,2,   0.099,2,-999.0000,5,  2252.5,2, 2340.57,2,   7.5854,2, -999.00,9, -999.00,9, -999.00,  -999.0,9, -999.00,9,     -999.0,9,  -999.0,1, 20170719,     1622, -30.0804, 175.9995,        0.0,1,      0.061,1,      0.522,1,      0.138,1,      24.99,     -999.0,1,     -999.0,9,     -999.0,9,     -999.0,9,     3.3123,2,     -999.0,9
320620170703,        P06,      75,          1,         16,         16,2,20170719,       1713,   -30.0803,   175.9992,       4262,  1277.8,   3.6643,  34.4618,2,  34.4693,2, 173.2291,2, 172.3655,2,    63.6,2,   33.12,2,    0.00,2,    2.29,2,-999.000,9,-999.000,9,-999.0000,9,  2239.4,2, 2329.83,2,   7.5905,2, -999.00,9, -999.00,9, -999.00,  -999.0,9, -999.00,9,     -999.0,9,  -999.0,1, 20170719,     1625, -30.0803, 175.9994,        0.0,1,      0.060,1,      0.006,1,      0.140,1,      25.00,     -999.0,1,     -999.0,9,     -999.0,9,     -999.0,9,     3.6118,2,     -999.0,9
320620170703,        P06,      75,          1,         17,         17,2,20170719,       1713,   -30.0803,   175.9992,       4262,  1175.6,   4.0493,  34.4102,2,  34.4102,2, 180.8145,2, 182.1327,2,    48.0,2,   32.15,2,    0.00,2,    2.21,2,   0.427,2,   0.216,2,-999.0000,5,  2219.7,2, 2311.12,2,   7.6014,2, -999.00,9, -999.00,9, -999.00,  -999.0,9, -999.00,9,     -999.0,9,  -999.0,1, 20170719,     1628, -30.0803, 175.9992,        0.0,1,      0.060,1,      0.006,1,      0.139,1,      24.99,     -999.0,1,     -999.0,9,     -999.0,9,     -999.0,9,     4.0768,2,     -999.0,9
320620170703,        P06,      75,          1,         18,         18,2,20170719,       1713,   -30.0803,   175.9992,       4262,  1074.9,   4.6211,  34.3913,2,  34.3929,2, 190.2790,2, 189.6864,2,    39.4,2,   30.85,2,    0.00,2,    2.12,2,-999.000,9,-999.000,9,-999.0000,9,  2205.9,2, 2303.31,2,   7.6181,2, -999.00,9, -999.00,9, -999.00,  -999.0,9, -999.00,9,     -999.0,9,  -999.0,1, 20170719,     1631, -30.0803, 175.9993,        0.0,1,      0.060,1,      1.556,1,      0.138,1,      25.02,     -999.0,1,     -999.0,9,     -999.0,9,     -999.0,9,     4.5918,2,     -999.0,9
320620170703,        P06,      75,          1,         19,         19,2,20170719,       1713,   -30.0803,   175.9992,       4262,   972.2,   5.2878,  34.3813,2,  34.3786,2, 200.2255,2, 199.5595,2,    29.0,2,   29.08,2,    0.00,2,    1.99,2,   0.962,2,   0.517,2,-999.0000,5,  2188.6,2, 2293.14,2,   7.6399,2, -999.00,9, -999.00,9, -999.00,  -999.0,9, -999.00,9,     -999.0,9,  -999.0,1, 20170719,     1634, -30.0804, 175.9994,        0.0,1,      0.061,1,      3.983,1,      0.139,1,      24.99,     -999.0,1,     -999.0,9,     -999.0,9,     -999.0,9,     5.2139,2,     -999.0,9
320620170703,        P06,      75,          1,         20,         20,2,20170719,       1713,   -30.0803,   175.9992,       4262,   870.7,   6.0585,  34.4009,2,  34.3898,2, 207.7283,2, 208.2468,2,    20.8,2,   26.88,2,    0.00,2,    1.82,2,-999.000,9,-999.000,9,-999.0000,9,  2174.7,2, 2286.49,2,   7.6638,2, -999.00,9, -999.00,9, -999.00,  -999.0,9, -999.00,9,     -999.0,9,  -999.0,1, 20170719,     1637, -30.0804, 175.9995,        0.0,1,      0.059,1,      0.017,1,      0.141,1,      24.98,     -999.0,1,     -999.0,9,     -999.0,9,     -999.0,9,     5.9474,2,     -999.0,9
320620170703,        P06,      75,          1,         21,         21,2,20170719,       1713,   -30.0803,   175.9992,       4262,   771.4,   6.7096,  34.4145,2,  34.4069,2, 217.3439,2, 217.9373,2,    13.4,2,   24.51,2,    0.00,2,    1.67,2,   2.029,2,   1.136,2,-999.0000,5,  2159.0,6, 2282.27,2,   7.6880,2, -999.00,9, -999.00,9, -999.00,  -999.0,9, -999.00,9,     -999.0,9,  -999.0,1, 20170719,     1640, -30.0804, 175.9995,        0.0,1,      0.059,1,      0.006,1,      0.140,1,      25.00,     -999.0,1,     -999.0,9,     -999.0,9,     -999.0,9,     6.6932,2,     -999.0,9
320620170703,        P06,      75,          1,         22,         22,2,20170719,       1713,   -30.0803,   175.9992,       4262,   670.1,   7.5651,  34.4798,2,  34.4742,2, 218.0657,2, 217.4824,2,    10.0,2,   22.56,2,    0.00,2,    1.53,2,-999.000,9,-999.000,9,-999.0000,9,  2151.0,2, 2281.75,2,   7.7026,2, -999.00,9, -999.00,9, -999.00,  -999.0,9, -999.00,9,     -999.0,9,  -999.0,1, 20170719,     1643, -30.0804, 175.9996,        0.0,1,      0.059,1,      0.006,1,      0.144,1,      25.02,     -999.0,1,     -999.0,9,     -999.0,9,     -999.0,9,     7.5338,2,     -999.0,9
320620170703,        P06,      75,          1,         23,         23,2,20170719,       1713,   -30.0803,   175.9992,       4262,   568.8,   8.5572,  34.5886,2,  34.6044,2, 209.2611,2, 208.5320,2,     8.7,2,   20.47,2,    0.00,2,    1.41,2,   2.408,2,   1.376,2,-999.0000,5,  2150.9,2, 2284.72,2,   7.7201,2, -999.00,9, -999.00,9, -999.00,  -999.0,9, -999.00,9,     -999.0,9,  -999.0,1, 20170719,     1645, -30.0804, 175.9995,        0.0,1,      0.059,1,      1.158,1,      0.146,1,      25.02,     -999.0,1,     -999.0,9,     -999.0,9,     -999.0,9,     8.7023,2,     -999.0,9
320620170703,        P06,      75,          1,         24,         24,2,20170719,       1713,   -30.0803,   175.9992,       4262,   487.5,   9.6243,  34.7116,2,  34.7357,2, 204.0198,2, 203.6915,2,     6.9,2,   18.08,2,    0.00,2,    1.23,2,-999.000,9,-999.000,9,-999.0000,9,  2145.0,2, 2287.47,2,   7.7412,2, -999.00,9, -999.00,9, -999.00,  -999.0,9, -999.00,9,     -999.0,9,  -999.0,1, 20170719,     1648, -30.0804, 175.9996,        0.0,1,      0.059,1,      4.439,1,      0.146,1,      25.01,     -999.0,1,     -999.0,9,     -999.0,9,     -999.0,9,     9.9196,2,     -999.0,9
320620170703,        P06,      75,          1,         25,         25,2,20170719,       1713,   -30.0803,   175.9992,       4262,   438.6,  10.7429,  34.8633,2,  34.8469,2, 199.8074,2, 200.5793,2,     6.2,2,   16.40,2,    0.00,2,    1.11,2,   2.388,2,   1.391,2,-999.0000,5,  2140.4,2, 2293.65,2,   7.7605,2, -999.00,9, -999.00,9, -999.00,  -999.0,9, -999.00,9,     -999.0,9,  -999.0,1, 20170719,     1650, -30.0804, 175.9996,        0.0,1,      0.060,1,      4.672,1,      0.144,1,      25.02,     -999.0,1,     -999.0,9,     -999.0,9,     -999.0,9,    10.7434,2,     -999.0,9
320620170703,        P06,      75,          1,         26,         26,2,20170719,       1713,   -30.0803,   175.9992,       4262,   387.9,  11.6961,  34.9802,2,  35.0189,2, 200.3508,2, 199.7547,2,     5.2,2,   13.91,2,    0.00,2,    0.94,2,-999.000,9,-999.000,9,-999.0000,9,  2135.9,2, 2302.35,2,   7.7908,2, -999.00,9, -999.00,9, -999.00,  -999.0,9, -999.00,9,     -999.0,9,  -999.0,1, 20170719,     1653, -30.0804, 175.9995,        0.0,1,      0.059,1,      0.006,1,      0.147,1,      25.02,     -999.0,1,     -999.0,1,     -999.0,9,     -999.0,9,    11.9709,2,       1.01,2
320620170703,        P06,      75,          1,         27,         27,2,20170719,       1713,   -30.0803,   175.9992,       4262,   337.5,  13.0373,  35.1589,2,  35.1599,2, 203.1029,2, 203.4597,2,     4.1,2,   11.14,2,    0.00,2,    0.77,2,   2.227,2,   1.391,2,-999.0000,5,  2124.7,2, 2306.54,2,   7.8234,2, -999.00,9, -999.00,9, -999.00,  -999.0,9, -999.00,9,     -999.0,9,  -999.0,1, 20170719,     1655, -30.0803, 175.9991,        0.0,1,      0.059,1,      0.006,1,      0.148,1,      25.02,     -999.0,1,     -999.0,1,     -999.0,9,     -999.0,9,    13.0692,2,       0.84,2
320620170703,        P06,      75,          1,         28,         28,2,20170719,       1713,   -30.0803,   175.9992,       4262,   285.9,  13.8559,  35.2423,2,  35.2385,2, 200.5636,2, 200.8430,2,     3.3,2,   10.11,2,    0.00,2,    0.71,2,-999.000,9,-999.000,9,-999.0000,9,  2121.2,2, 2307.57,2,   7.8406,2, -999.00,9, -999.00,9, -999.00,  -999.0,9, -999.00,9,     -999.0,9,  -999.0,1, 20170719,     1658, -30.0803, 175.9991,        0.0,1,      0.060,1,      0.006,1,      0.146,1,      25.02,     -999.0,1,     -999.0,1,     -999.0,9,     -999.0,9,    13.8548,2,        0.8,2
320620170703,        P06,      75,          1,         29,         29,2,20170719,       1713,   -30.0803,   175.9992,       4262,   236.4,  14.5595,  35.3133,2,  35.3108,2, 202.2727,2, 202.7040,2,     2.6,2,    8.64,2,    0.00,2,    0.62,2,   2.150,2,   1.387,2,-999.0000,5,  2113.5,2, 2314.27,2,   7.8590,2, -999.00,9, -999.00,9, -999.00,  -999.0,9, -999.00,9,     -999.0,9,  -999.0,1, 20170719,     1700, -30.0803, 175.9992,        0.0,1,      0.060,1,      0.006,1,      0.146,1,      25.05,     -999.0,1,     -999.0,1,     -999.0,9,     -999.0,9,    14.6015,2,     -999.0,9
320620170703,        P06,      75,          1,         30,         30,2,20170719,       1713,   -30.0803,   175.9992,       4262,   185.4,  16.0298,  35.4601,2,  35.4484,2, 202.0489,2, 202.0545,2,     1.8,2,    6.56,2,    0.00,2,    0.48,2,-999.000,9,-999.000,9,-999.0000,9,  2113.4,2, 2322.25,6,   7.8943,2, -999.00,9, -999.00,9, -999.00,  -999.0,9, -999.00,9,     -999.0,9,  -999.0,1, 20170719,     1703, -30.0803, 175.9993,        0.0,1,      0.062,1,      1.423,1,      0.161,1,      25.03,     -999.0,1,     -999.0,1,     -999.0,9,     -999.0,9,    15.9126,2,       0.68,2
320620170703,        P06,      75,          1,         31,         31,2,20170719,       1713,   -30.0803,   175.9992,       4262,   135.2,  17.0901,  35.5414,2,  35.5316,2, 201.5255,2, 201.6026,2,     1.4,2,    5.26,2,    0.02,2,    0.40,2,   1.934,2,   1.292,2,-999.0000,5,  2092.1,2, 2323.46,2,   7.9184,2, -999.00,9, -999.00,9, -999.00,  -999.0,9, -999.00,9,     -999.0,9,  -999.0,1, 20170719,     1705, -30.0803, 175.9992,        0.0,1,      0.069,1,      3.950,1,      0.157,1,      25.03,     -999.0,1,     -999.0,1,     -999.0,9,     -999.0,9,    17.0241,2,       0.54,2
320620170703,        P06,      75,          1,         32,         32,2,20170719,       1713,   -30.0803,   175.9992,       4262,    89.7,  18.6523,  35.7742,2,  35.7736,2, 226.3917,2, 227.5293,2,     0.3,2,    0.49,2,    0.08,2,    0.10,2,-999.000,9,-999.000,9,-999.0000,9,  2069.8,2, 2339.66,2,   7.9945,2, -999.00,9, -999.00,9, -999.00,  -999.0,9, -999.00,9,     -999.0,9,  -999.0,1, 20170719,     1707, -30.0803, 175.9991,        0.0,1,      0.189,1,      0.540,1,      0.225,1,      25.04,     -999.0,1,     -999.0,1,     -999.0,9,     -999.0,9,    18.6338,2,       0.21,2