BOTTLE,20230922CCHSIOCBG
EXPOCODE,SECT_ID,STNNBR,CASTNO,SAMPNO,BTLNBR,BTLNBR_FLAG_W,DATE,TIME,LATITUDE,LONGITUDE,DEPTH,CTDPRS,CTDTMP,CTDSAL,CTDSAL_FLAG_W,SALNTY,SALNTY_FLAG_W,CTDOXY,CTDOXY_FLAG_W,OXYGEN,OXYGEN_FLAG_W,SILCAT,SILCAT_FLAG_W,NITRAT,NITRAT_FLAG_W,NITRIT,NITRIT_FLAG_W,PHSPHT,PHSPHT_FLAG_W,CFC-11,CFC-11_FLAG_W,CFC-12,CFC-12_FLAG_W,SF6,SF6_FLAG_W,TCARBN,TCARBN_FLAG_W,ALKALI,ALKALI_FLAG_W,PH_TOT,PH_TOT_FLAG_W,DELC13,DELC13_FLAG_W,DELC14,DELC14_FLAG_W,C14ERR,DOC,DOC_FLAG_W,TDN,TDN_FLAG_W,TON,TON_FLAG_W,D15N_NO3,D15N_NO3_FLAG_W,BTL_DATE,BTL_TIME,BTL_LAT,BTL_LON,CTDRINKO,CTDRINKO_FLAG_W,CTDFLUOR,CTDFLUOR_FLAG_W,CTDXMISS,CTDXMISS_FLAG_W,CTDBACKSCATTER,CTDBACKSCATTER_FLAG_W,PH_TMP,D18O_NO3,D18O_NO3_FLAG_W,DOP,DOP_FLAG_W,HPLC,HPLC_FLAG_W,POC,POC_FLAG_W,REFTMP,REFTMP_FLAG_W,TDP,TDP_FLAG_W
,,,,,,,,,,,METERS,DBAR,ITS-90,PSS-78,,PSS-78,,UMOL/KG,,UMOL/KG,,UMOL/KG,,UMOL/KG,,UMOL/KG,,UMOL/KG,,PMOL/KG,,PMOL/KG,,FMOL/KG,,UMOL/KG,,UMOL/KG,,,,/MILLE,,/MILLE,,/MILLE,UMOL/KG,,UMOL/KG,,UMOL/KG,,/MILLE,,,,,,VOLTS,,VOLTS,,VOLTS,,VOLTS,,DEGC,/MILLE,,UMOL/KG,,,,UG/L,,ITS-90,,UMOL/KG,
320620170703,        P06,      62,          1,          1,         37,2,20170716,       1948,   -30.0801,   171.3800,       1728,  1739.5,   2.8370,  34.5929,2,  34.5908,2, 159.0139,2, 158.6636,2,    95.5,2,   34.28,2,    0.00,2,    2.39,2,-999.000,9,-999.000,9,-999.0000,9,  2276.9,6, 2365.97,2,   7.5848,2, -999.00,9, -999.00,9, -999.00,    35.6,2, -999.00,9,     -999.0,1,  -999.0,9, 20170716,     1840, -30.0801, 171.3799,        0.0,1,      0.061,1,      3.950,1,      0.146,1,      25.04,     -999.0,9,     -999.0,9,     -999.0,9,     -999.0,9,     2.8472,2,     -999.0,9
320620170703,        P06,      62,          1,          2,          2,2,20170716,       1948,   -30.0801,   171.3800,       1728,  1678.2,   3.0148,  34.5784,2,  34.5800,3, 160.4710,2, 160.7426,2,    92.1,2,   34.05,2,    0.00,2,    2.36,2,-999.000,9,-999.000,9,-999.0000,9,  -999.0,9, -999.00,9,-999.0000,9, -999.00,9, -999.00,9, -999.00,    37.5,2, -999.00,9,     -999.0,1,  -999.0,9, 20170716,     1843, -30.0801, 171.3799,        0.0,1,      0.061,1,      1.196,1,      0.142,1,     -999.0,     -999.0,9,     -999.0,9,     -999.0,9,     -999.0,9,     2.9800,2,     -999.0,9
320620170703,        P06,      62,          1,          3,         38,2,20170716,       1948,   -30.0801,   171.3800,       1728,  1618.2,   3.1856,  34.5644,2,  34.5651,2, 162.0952,2, 162.2171,2,    86.9,2,   33.78,2,    0.00,2,    2.35,2,-999.000,9,-999.000,9,-999.0000,9,  2266.1,2, 2353.42,2,   7.5886,2, -999.00,9, -999.00,9, -999.00,    37.7,2, -999.00,9,     -999.0,1,  -999.0,9, 20170716,     1846, -30.0801, 171.3799,        0.0,1,      0.061,1,      1.147,1,      0.150,1,      25.05,     -999.0,9,     -999.0,9,     -999.0,9,     -999.0,9,     3.1703,2,     -999.0,9
320620170703,        P06,      62,          1,          4,          4,2,20170716,       1948,   -30.0801,   171.3800,       1728,  1515.3,   3.6306,  34.5247,2,  34.5378,2, 165.6972,2, 165.8662,2,    78.2,2,   33.31,2,    0.00,2,    2.31,2,-999.000,9,-999.000,9,-999.0000,9,  -999.0,9, -999.00,9,-999.0000,9, -999.00,9, -999.00,9, -999.00,    38.3,2, -999.00,9,     -999.0,1,  -999.0,9, 20170716,     1849, -30.0800, 171.3799,        0.0,1,      0.061,1,      1.121,1,      0.143,1,     -999.0,     -999.0,9,     -999.0,9,     -999.0,9,     -999.0,9,     3.4561,2,     -999.0,9
320620170703,        P06,      62,          1,          5,         39,2,20170716,       1948,   -30.0801,   171.3800,       1728,  1414.7,   3.8355,  34.5076,2,  34.5101,2, 170.8782,2, 170.9156,2,    68.0,2,   32.59,2,    0.00,2,    2.26,2,-999.000,9,-999.000,9,-999.0000,9,  2241.8,2, 2338.28,2,   7.6002,2, -999.00,9, -999.00,9, -999.00,    37.2,2, -999.00,9,     -999.0,1,  -999.0,9, 20170716,     1852, -30.0800, 171.3799,        0.0,1,      0.060,1,      1.888,1,      0.143,1,      25.04,     -999.0,9,     -999.0,9,     -999.0,9,     -999.0,9,     3.8188,2,     -999.0,9
320620170703,        P06,      62,          1,          6,          6,2,20170716,       1948,   -30.0801,   171.3800,       1728,  1314.6,   4.1538,  34.4892,2,  34.4891,2, 175.5516,2, 175.4010,2,    60.1,2,   31.95,2,    0.00,2,    2.21,2,-999.000,9,-999.000,9,-999.0000,9,  -999.0,9, -999.00,9,-999.0000,9, -999.00,9, -999.00,9, -999.00,    38.1,2, -999.00,9,     -999.0,1,  -999.0,9, 20170716,     1856, -30.0800, 171.3799,        0.0,1,      0.061,1,      1.876,1,      0.140,1,     -999.0,     -999.0,9,     -999.0,9,     -999.0,9,     -999.0,9,     4.1448,2,     -999.0,9
320620170703,        P06,      62,          1,          7,         40,2,20170716,       1948,   -30.0801,   171.3800,       1728,  1211.9,   4.8503,  34.4677,2,  34.4667,2, 182.3564,2, 182.1894,2,    47.7,2,   30.63,2,    0.00,2,    2.10,2,-999.000,9,-999.000,9,-999.0000,9,  2214.0,2, 2312.39,2,   7.6227,2, -999.00,9, -999.00,9, -999.00,    38.8,2, -999.00,9,     -999.0,1,  -999.0,9, 20170716,     1859, -30.0800, 171.3799,        0.0,1,      0.060,1,      2.089,1,      0.142,1,      25.04,     -999.0,9,     -999.0,9,     -999.0,9,     -999.0,9,     4.7779,2,     -999.0,9
320620170703,        P06,      62,          1,          8,          8,2,20170716,       1948,   -30.0801,   171.3800,       1728,  1111.1,   5.3043,  34.4699,2,  34.4699,2, 185.1671,2, 185.2424,2,    40.5,2,   29.48,2,    0.00,2,    2.02,2,-999.000,9,-999.000,9,-999.0000,9,  -999.0,9, -999.00,9,-999.0000,9, -999.00,9, -999.00,9, -999.00,    39.9,2, -999.00,9,     -999.0,1,  -999.0,9, 20170716,     1902, -30.0800, 171.3799,        0.0,1,      0.061,1,      2.620,1,      0.143,1,     -999.0,     -999.0,9,     -999.0,9,     -999.0,9,     -999.0,9,     5.2886,2,     -999.0,9
320620170703,        P06,      62,          1,          9,         41,2,20170716,       1948,   -30.0801,   171.3800,       1728,  1008.8,   5.8962,  34.4593,2,  34.4614,3, 194.4326,2, 194.1106,2,    29.3,2,   27.65,2,    0.00,2,    1.88,2,-999.000,9,-999.000,9,-999.0000,9,  2187.5,2, 2296.38,2,   7.6530,2, -999.00,9, -999.00,9, -999.00,    38.1,2, -999.00,9,     -999.0,1,  -999.0,9, 20170716,     1905, -30.0801, 171.3799,        0.0,1,      0.060,1,      1.422,1,      0.142,1,      25.03,     -999.0,9,     -999.0,9,     -999.0,9,     -999.0,9,     5.9594,2,     -999.0,9
320620170703,        P06,      62,          1,         10,         10,2,20170716,       1948,   -30.0801,   171.3800,       1728,   908.0,   6.7346,  34.5138,2,  34.5027,2, 195.3108,2, 195.5494,2,    24.3,2,   26.10,2,    0.00,2,    1.77,2,-999.000,9,-999.000,9,-999.0000,9,  -999.0,9, -999.00,9,-999.0000,9, -999.00,9, -999.00,9, -999.00,    40.7,2, -999.00,9,     -999.0,1,  -999.0,9, 20170716,     1908, -30.0801, 171.3800,        0.0,1,      0.059,1,      1.844,1,      0.142,1,     -999.0,     -999.0,9,     -999.0,9,     -999.0,9,     -999.0,9,     6.6690,2,     -999.0,9
320620170703,        P06,      62,          1,         11,         42,2,20170716,       1948,   -30.0801,   171.3800,       1728,   807.7,   7.8392,  34.5860,2,  34.5679,2, 198.4012,2, 198.5052,2,    17.2,2,   23.69,2,    0.00,2,    1.61,2,-999.000,9,-999.000,9,-999.0000,9,  2167.1,2, 2289.80,2,   7.6920,2, -999.00,9, -999.00,9, -999.00,    40.2,2, -999.00,9,     -999.0,1,  -999.0,9, 20170716,     1911, -30.0802, 171.3800,        0.0,1,      0.061,1,      1.357,1,      0.144,1,      25.03,     -999.0,9,     -999.0,9,     -999.0,9,     -999.0,9,     7.6953,2,     -999.0,9
320620170703,        P06,      62,          1,         12,         12,2,20170716,       1948,   -30.0801,   171.3800,       1728,   707.3,   8.8460,  34.6459,2,  34.6126,2, 203.8088,2, 203.9448,2,    10.7,2,   21.23,2,    0.00,2,    1.44,2,-999.000,9,-999.000,9,-999.0000,9,  -999.0,9, -999.00,9,-999.0000,9, -999.00,9, -999.00,9, -999.00,    41.6,2, -999.00,9,     -999.0,1,  -999.0,9, 20170716,     1914, -30.0801, 171.3799,        0.0,1,      0.058,1,      4.698,1,      0.143,1,     -999.0,     -999.0,9,     -999.0,9,     -999.0,9,     -999.0,9,     8.5556,2,     -999.0,9
320620170703,        P06,      62,          1,         13,         43,2,20170716,       1948,   -30.0801,   171.3800,       1728,   605.5,  10.0269,  34.7774,2,  34.7730,2, 200.4802,2, 200.2727,2,     8.0,2,   18.47,2,    0.00,2,    1.25,2,-999.000,9,-999.000,9,-999.0000,9,  2145.5,2, 2290.14,6,   7.7422,2, -999.00,9, -999.00,9, -999.00,    41.6,2, -999.00,9,     -999.0,1,  -999.0,9, 20170716,     1917, -30.0798, 171.3798,        0.0,1,      0.060,1,      1.071,1,      0.146,1,      25.03,     -999.0,9,     -999.0,9,     -999.0,9,     -999.0,9,     9.9205,2,     -999.0,9
320620170703,        P06,      62,          1,         14,         14,2,20170716,       1948,   -30.0801,   171.3800,       1728,   504.8,  11.0781,  34.9085,2,  34.9904,2, 198.1984,2, 197.7643,2,     5.2,2,   14.69,2,    0.00,2,    1.00,2,-999.000,9,-999.000,9,-999.0000,9,  -999.0,9, -999.00,9,-999.0000,9, -999.00,9, -999.00,9, -999.00,    45.3,2, -999.00,9,     -999.0,1,  -999.0,9, 20170716,     1920, -30.0799, 171.3798,        0.0,1,      0.059,1,      3.893,1,      0.144,1,     -999.0,     -999.0,9,     -999.0,9,     -999.0,9,     -999.0,9,    11.8038,2,     -999.0,9
320620170703,        P06,      62,          1,         15,         15,2,20170716,       1948,   -30.0801,   171.3800,       1728,   454.5,  12.3142,  35.0669,2,  35.0961,2, 198.2965,2, 198.6505,2,     4.3,2,   12.94,2,    0.00,2,    0.88,2,-999.000,9,-999.000,9,-999.0000,9,  2128.0,2, 2262.04,3,   7.8059,2, -999.00,9, -999.00,9, -999.00,    44.8,2, -999.00,9,     -999.0,1,  -999.0,9, 20170716,     1923, -30.0800, 171.3799,        0.0,1,      0.060,1,      4.694,1,      0.147,1,      25.06,     -999.0,9,     -999.0,9,     -999.0,9,     -999.0,9,    12.5578,2,     -999.0,9
320620170703,        P06,      62,          1,         16,         16,2,20170716,       1948,   -30.0801,   171.3800,       1728,   404.9,  13.6376,  35.2130,2,  35.2176,2, 196.3628,2, 196.5173,2,     3.2,2,   10.78,2,    0.00,2,    0.75,2,-999.000,9,-999.000,9,-999.0000,9,  -999.0,9, -999.00,9,-999.0000,9, -999.00,9, -999.00,9, -999.00,  -999.0,9, -999.00,9,     -999.0,9,  -999.0,9, 20170716,     1925, -30.0801, 171.3800,        0.0,1,      0.059,1,      4.692,1,      0.144,1,     -999.0,     -999.0,9,     -999.0,9,     -999.0,9,     -999.0,9,    13.7878,2,     -999.0,9
320620170703,        P06,      62,          1,         17,         17,2,20170716,       1948,   -30.0801,   171.3800,       1728,   352.1,  14.6628,  35.3074,2,  35.3250,2, 196.2323,2, 196.8107,2,     2.5,2,    9.04,2,    0.00,2,    0.64,2,-999.000,9,-999.000,9,-999.0000,9,  2111.1,2, 2315.00,2,   7.8625,2, -999.00,9, -999.00,9, -999.00,    45.7,2, -999.00,9,     -999.0,1,  -999.0,9, 20170716,     1927, -30.0801, 171.3800,        0.0,1,      0.060,1,      4.691,1,      0.147,1,      25.02,     -999.0,9,     -999.0,9,     -999.0,9,     -999.0,9,    14.9045,2,     -999.0,9
320620170703,        P06,      62,          1,         18,         18,2,20170716,       1948,   -30.0801,   171.3800,       1728,   302.0,  15.8545,  35.4243,2,  35.4285,2, 196.0139,2, 196.2329,2,     1.9,2,    7.50,2,    0.00,2,    0.54,2,-999.000,9,-999.000,9,-999.0000,9,  -999.0,9, -999.00,9,-999.0000,9, -999.00,9, -999.00,9, -999.00,  -999.0,9, -999.00,9,     -999.0,9,  -999.0,9, 20170716,     1930, -30.0801, 171.3800,        0.0,1,      0.059,1,      4.691,1,      0.146,1,     -999.0,     -999.0,9,     -999.0,9,     -999.0,9,     -999.0,9,    15.9920,2,     -999.0,9
320620170703,        P06,      62,          1,         19,         19,2,20170716,       1948,   -30.0801,   171.3800,       1728,   251.9,  16.5818,  35.4954,2,  35.5085,2, 196.4175,2, 196.1500,2,     1.5,2,    6.38,2,    0.00,2,    0.46,2,-999.000,9,-999.000,9,-999.0000,9,  2093.4,2, 2322.54,2,   7.9089,2, -999.00,9, -999.00,9, -999.00,    47.4,2,    8.80,2,     -999.0,1,  -999.0,9, 20170716,     1932, -30.0802, 171.3800,        0.0,1,      0.059,1,      4.690,1,      0.149,1,      25.04,     -999.0,9,     -999.0,9,     -999.0,9,     -999.0,9,    16.7474,2,     -999.0,9
320620170703,        P06,      62,          1,         20,         20,2,20170716,       1948,   -30.0801,   171.3800,       1728,   200.8,  17.3979,  35.5709,2,  35.5882,2, 198.6454,2, 197.6530,2,     1.0,2,    5.05,2,    0.02,2,    0.39,2,-999.000,9,-999.000,9,-999.0000,9,  -999.0,9, -999.00,9,-999.0000,9, -999.00,9, -999.00,9, -999.00,    49.9,2,    8.20,2,     -999.0,1,  -999.0,9, 20170716,     1934, -30.0801, 171.3800,        0.0,1,      0.060,1,      4.688,1,      0.148,1,     -999.0,     -999.0,9,     -999.0,9,     -999.0,9,     -999.0,9,    17.6040,2,     -999.0,9
320620170703,        P06,      62,          1,         21,         21,2,20170716,       1948,   -30.0801,   171.3800,       1728,   175.7,  17.7806,  35.6037,2,  35.6084,2, 198.0221,2, 197.5797,2,     0.9,2,    4.78,2,    0.02,2,    0.37,2,-999.000,9,-999.000,9,-999.0000,9,  2085.7,2, 2329.23,2,   7.9369,2, -999.00,9, -999.00,9, -999.00,    49.5,2,    8.50,2,     -999.0,1,  -999.0,9, 20170716,     1936, -30.0800, 171.3800,        0.0,1,      0.061,1,      4.685,1,      0.153,1,      25.04,     -999.0,9,     -999.0,9,     -999.0,9,     -999.0,9,    17.8841,2,     -999.0,9
320620170703,        P06,      62,          1,         22,         22,2,20170716,       1948,   -30.0801,   171.3800,       1728,   152.0,  17.9927,  35.6220,2,  35.6504,2, 203.8318,2, 202.3728,2,     0.7,2,    3.82,2,    0.07,2,    0.32,2,-999.000,9,-999.000,9,-999.0000,9,  -999.0,9, -999.00,9,-999.0000,9, -999.00,9, -999.00,9, -999.00,    49.2,2,    7.50,2,     -999.0,1,  -999.0,9, 20170716,     1938, -30.0799, 171.3799,        0.0,1,      0.061,1,      4.683,1,      0.153,1,     -999.0,     -999.0,9,     -999.0,9,     -999.0,9,     -999.0,9,    18.2704,2,     -999.0,9
320620170703,        P06,      62,          1,         23,         23,2,20170716,       1948,   -30.0801,   171.3800,       1728,   126.4,  18.7080,  35.7400,2,  35.7049,2, 213.7997,3, 211.4452,2,     0.5,2,    2.43,2,    0.16,2,    0.22,2,-999.000,9,-999.000,9,-999.0000,9,  2070.3,2, 2333.44,2,   7.9743,2, -999.00,9, -999.00,9, -999.00,    54.3,2,    5.80,2,     -999.0,1,  -999.0,9, 20170716,     1939, -30.0798, 171.3799,        0.0,1,      0.104,1,      4.660,1,      0.175,1,      25.04,     -999.0,9,     -999.0,9,     -999.0,9,     -999.0,9,    18.5824,2,     -999.0,9
320620170703,        P06,      62,          1,         24,         24,2,20170716,       1948,   -30.0801,   171.3800,       1728,   102.6,  18.7108,  35.7408,2,  35.7722,2, 220.3644,2, 218.8537,2,     0.3,2,    1.42,2,    0.18,2,    0.17,2,-999.000,9,-999.000,9,-999.0000,9,  -999.0,9, -999.00,9,-999.0000,9, -999.00,9, -999.00,9, -999.00,    55.7,2,    5.70,2,     -999.0,1,  -999.0,9, 20170716,     1941, -30.0798, 171.3799,        0.0,1,      0.103,1,      4.660,1,      0.174,1,     -999.0,     -999.0,9,     -999.0,9,     -999.0,9,     -999.0,9,    18.8674,2,     -999.0,9
320620170703,        P06,      62,          1,         25,         25,2,20170716,       1948,   -30.0801,   171.3800,       1728,    77.2,  18.8615,  35.7659,2,  35.8155,2, 218.5979,3, 222.0387,2,     0.2,2,    0.96,2,    0.14,2,    0.14,2,-999.000,9,-999.000,9,-999.0000,9,  2061.8,2, 2342.30,2,   8.0002,2, -999.00,9, -999.00,9, -999.00,    55.3,2,    6.20,2,     -999.0,1,  -999.0,9, 20170716,     1943, -30.0799, 171.3800,        0.0,1,      0.115,1,      4.654,1,      0.179,1,      25.05,     -999.0,9,     -999.0,9,     -999.0,9,     -999.0,9,    19.0441,2,     -999.0,9
320620170703,        P06,      62,          1,         26,         26,2,20170716,       1948,   -30.0801,   171.3800,       1728,    50.0,  18.9844,  35.7936,2,  35.8157,2, 221.1343,2, 221.9290,2,     0.2,2,    0.98,2,    0.14,2,    0.13,2,-999.000,9,-999.000,9,-999.0000,9,  -999.0,9, -999.00,9,-999.0000,9, -999.00,9, -999.00,9, -999.00,    57.1,2,    5.30,2,     -999.0,1,  -999.0,9, 20170716,     1945, -30.0799, 171.3800,        0.0,1,      0.154,1,      4.635,1,      0.196,1,     -999.0,     -999.0,9,     -999.0,9,     -999.0,9,     -999.0,9,    19.0428,2,     -999.0,9
320620170703,        P06,      62,          1,         27,         27,2,20170716,       1948,   -30.0801,   171.3800,       1728,    25.8,  19.0577,  35.8184,2,  35.8133,2, 218.7775,3, 221.8649,2,     0.3,2,    0.97,2,    0.14,2,    0.14,2,-999.000,9,-999.000,9,-999.0000,9,  2062.1,2, 2343.16,2,   8.0002,2, -999.00,9, -999.00,9, -999.00,    56.3,2,    5.40,2,     -999.0,1,  -999.0,9, 20170716,     1947, -30.0800, 171.3800,        0.0,1,      0.192,1,      4.611,1,      0.217,1,      25.04,     -999.0,9,     -999.0,9,     -999.0,9,     -999.0,9,    19.0373,2,     -999.0,9
320620170703,        P06,      62,          1,         28,         28,2,20170716,       1948,   -30.0801,   171.3800,       1728,     4.9,  19.0524,  35.8186,2,  35.8151,2, 218.6155,3, 221.8777,2,     0.2,2,    0.96,2,    0.14,2,    0.14,2,-999.000,9,-999.000,9,-999.0000,9,  2063.0,6, 2341.83,2,   7.9998,2, -999.00,9, -999.00,9, -999.00,    55.5,2,    5.30,2,     -999.0,1,  -999.0,9, 20170716,     1948, -30.0801, 171.3800,        0.0,1,      0.195,1,      4.611,1,      0.208,1,      25.04,     -999.0,9,     -999.0,9,     -999.0,9,     -999.0,9,    19.0256,2,     -999.0,9