BOTTLE,20230922CCHSIOCBG
EXPOCODE,SECT_ID,STNNBR,CASTNO,SAMPNO,BTLNBR,BTLNBR_FLAG_W,DATE,TIME,LATITUDE,LONGITUDE,DEPTH,CTDPRS,CTDTMP,CTDSAL,CTDSAL_FLAG_W,SALNTY,SALNTY_FLAG_W,CTDOXY,CTDOXY_FLAG_W,OXYGEN,OXYGEN_FLAG_W,SILCAT,SILCAT_FLAG_W,NITRAT,NITRAT_FLAG_W,NITRIT,NITRIT_FLAG_W,PHSPHT,PHSPHT_FLAG_W,CFC-11,CFC-11_FLAG_W,CFC-12,CFC-12_FLAG_W,SF6,SF6_FLAG_W,TCARBN,TCARBN_FLAG_W,ALKALI,ALKALI_FLAG_W,PH_TOT,PH_TOT_FLAG_W,DELC13,DELC13_FLAG_W,DELC14,DELC14_FLAG_W,C14ERR,DOC,DOC_FLAG_W,TDN,TDN_FLAG_W,TON,TON_FLAG_W,D15N_NO3,D15N_NO3_FLAG_W,BTL_DATE,BTL_TIME,BTL_LAT,BTL_LON,CTDRINKO,CTDRINKO_FLAG_W,CTDFLUOR,CTDFLUOR_FLAG_W,CTDXMISS,CTDXMISS_FLAG_W,CTDBACKSCATTER,CTDBACKSCATTER_FLAG_W,PH_TMP,D18O_NO3,D18O_NO3_FLAG_W,DOP,DOP_FLAG_W,HPLC,HPLC_FLAG_W,POC,POC_FLAG_W,REFTMP,REFTMP_FLAG_W,TDP,TDP_FLAG_W
,,,,,,,,,,,METERS,DBAR,ITS-90,PSS-78,,PSS-78,,UMOL/KG,,UMOL/KG,,UMOL/KG,,UMOL/KG,,UMOL/KG,,UMOL/KG,,PMOL/KG,,PMOL/KG,,FMOL/KG,,UMOL/KG,,UMOL/KG,,,,/MILLE,,/MILLE,,/MILLE,UMOL/KG,,UMOL/KG,,UMOL/KG,,/MILLE,,,,,,VOLTS,,VOLTS,,VOLTS,,VOLTS,,DEGC,/MILLE,,UMOL/KG,,,,UG/L,,ITS-90,,UMOL/KG,
320620170703,        P06,     115,          1,         33,         33,2,20170802,       1503,   -32.5003,  -167.7931,       5519,    84.9,  17.6179,  35.6571,2,  35.6589,2, 237.9298,3, 232.6436,2,     0.2,2,    0.05,2,    0.00,2,    0.05,2,   2.242,2,   1.292,2,   1.3730,2,  2063.5,2, 2336.64,2,   7.9860,2, -999.00,9, -999.00,9, -999.00,  -999.0,9, -999.00,9,     -999.0,9,  -999.0,1, 20170802,     1458, -32.5003,-167.7931,        0.0,1,      0.161,1,      4.638,1,      0.191,1,      25.03,     -999.0,1,     -999.0,1,     -999.0,9,     -999.0,9,    17.6440,2,     -999.0,9
320620170703,        P06,     115,          1,         34,         34,2,20170802,       1503,   -32.5003,  -167.7931,       5519,    60.1,  17.6336,  35.6542,2,  35.6662,2, 238.0971,3, 233.4230,2,     0.2,2,    0.03,2,    0.00,2,    0.06,2,-999.000,9,-999.000,9,-999.0000,9,  -999.0,9, -999.00,9,-999.0000,9, -999.00,9, -999.00,9, -999.00,  -999.0,9, -999.00,9,     -999.0,9,  -999.0,1, 20170802,     1500, -32.5003,-167.7930,        0.0,1,      0.173,1,      4.630,1,      0.195,1,     -999.0,     -999.0,1,     -999.0,1,     -999.0,9,     -999.0,9,    17.7972,2,     -999.0,9
320620170703,        P06,     115,          1,         35,         35,2,20170802,       1503,   -32.5003,  -167.7931,       5519,    34.9,  17.6899,  35.6572,2,  35.6907,2, 238.0971,3, 232.2726,2,     0.2,2,    0.02,2,    0.00,2,    0.05,2,   2.193,2,   1.265,2,   1.4660,2,  2058.3,2, 2341.19,2,   7.9944,2, -999.00,9, -999.00,9, -999.00,  -999.0,9, -999.00,9,     -999.0,9,  -999.0,1, 20170802,     1502, -32.5003,-167.7930,        0.0,1,      0.164,1,      4.631,1,      0.191,1,      25.01,     -999.0,1,     -999.0,1,     -999.0,9,     -999.0,9,    17.9690,2,     -999.0,9
320620170703,        P06,     115,          1,         36,         36,2,20170802,       1503,   -32.5003,  -167.7931,       5519,     3.8,  17.6874,  35.6585,2,  35.6919,2, 238.0971,3, 232.2482,2,     0.2,2,    0.02,2,    0.00,2,    0.06,2,   2.168,2,   1.259,2,   1.4610,2,  2062.2,6, 2336.38,2,   7.9943,2, -999.00,9, -999.00,9, -999.00,  -999.0,9, -999.00,9,     -999.0,9,  -999.0,1, 20170802,     1503, -32.5003,-167.7931,        0.0,1,      0.167,1,      4.633,1,      0.180,1,      25.06,     -999.0,1,     -999.0,1,     -999.0,9,     -999.0,9,    17.9575,2,     -999.0,9