BOTTLE,20230922CCHSIOCBG
EXPOCODE,SECT_ID,STNNBR,CASTNO,SAMPNO,BTLNBR,BTLNBR_FLAG_W,DATE,TIME,LATITUDE,LONGITUDE,DEPTH,CTDPRS,CTDTMP,CTDSAL,CTDSAL_FLAG_W,SALNTY,SALNTY_FLAG_W,CTDOXY,CTDOXY_FLAG_W,OXYGEN,OXYGEN_FLAG_W,SILCAT,SILCAT_FLAG_W,NITRAT,NITRAT_FLAG_W,NITRIT,NITRIT_FLAG_W,PHSPHT,PHSPHT_FLAG_W,CFC-11,CFC-11_FLAG_W,CFC-12,CFC-12_FLAG_W,SF6,SF6_FLAG_W,TCARBN,TCARBN_FLAG_W,ALKALI,ALKALI_FLAG_W,PH_TOT,PH_TOT_FLAG_W,DELC13,DELC13_FLAG_W,DELC14,DELC14_FLAG_W,C14ERR,DOC,DOC_FLAG_W,TDN,TDN_FLAG_W,TON,TON_FLAG_W,D15N_NO3,D15N_NO3_FLAG_W,BTL_DATE,BTL_TIME,BTL_LAT,BTL_LON,CTDRINKO,CTDRINKO_FLAG_W,CTDFLUOR,CTDFLUOR_FLAG_W,CTDXMISS,CTDXMISS_FLAG_W,CTDBACKSCATTER,CTDBACKSCATTER_FLAG_W,PH_TMP,D18O_NO3,D18O_NO3_FLAG_W,DOP,DOP_FLAG_W,HPLC,HPLC_FLAG_W,POC,POC_FLAG_W,REFTMP,REFTMP_FLAG_W,TDP,TDP_FLAG_W
,,,,,,,,,,,METERS,DBAR,ITS-90,PSS-78,,PSS-78,,UMOL/KG,,UMOL/KG,,UMOL/KG,,UMOL/KG,,UMOL/KG,,UMOL/KG,,PMOL/KG,,PMOL/KG,,FMOL/KG,,UMOL/KG,,UMOL/KG,,,,/MILLE,,/MILLE,,/MILLE,UMOL/KG,,UMOL/KG,,UMOL/KG,,/MILLE,,,,,,VOLTS,,VOLTS,,VOLTS,,VOLTS,,DEGC,/MILLE,,UMOL/KG,,,,UG/L,,ITS-90,,UMOL/KG,
320620170703,        P06,     112,          1,         33,         33,2,20170801,       1600,   -32.4996,  -169.7504,       5516,    84.0,  17.7251,  35.6905,2,  35.6857,2, 232.2519,2, 232.7799,2,     0.2,2,    0.09,2,    0.02,2,    0.07,2,   2.142,2,   1.296,2,   1.4460,2,  2066.3,2, 2330.90,2,   7.9846,2, -999.00,9, -999.00,9, -999.00,    60.9,2,    4.00,2,     -999.0,1,  -999.0,1, 20170801,     1554, -32.4996,-169.7504,        0.0,1,      0.190,1,      4.630,1,      0.207,1,      25.01,     -999.0,1,     -999.0,1,     -999.0,9,     -999.0,9,    17.6827,2,     -999.0,9
320620170703,        P06,     112,          1,         34,         34,2,20170801,       1600,   -32.4996,  -169.7504,       5516,    60.0,  17.7281,  35.6914,2,  35.6863,2, 232.0426,2, 232.5147,2,     0.2,2,    0.11,2,    0.02,2,    0.07,2,   2.138,2,   1.301,2,   1.4330,2,  2066.1,2, 2336.48,2,   7.9847,2, -999.00,9, -999.00,9, -999.00,    60.6,2,    4.90,2,     -999.0,1,  -999.0,1, 20170801,     1556, -32.4996,-169.7504,        0.0,1,      0.203,1,      4.624,1,      0.215,1,      25.01,     -999.0,1,     -999.0,1,     -999.0,9,     -999.0,9,    17.6826,2,     -999.0,9
320620170703,        P06,     112,          1,         35,         35,2,20170801,       1600,   -32.4996,  -169.7504,       5516,    34.2,  17.7326,  35.6929,2,  35.6923,2, 232.2544,2, 232.7784,2,     0.2,2,    0.07,2,    0.02,2,    0.08,2,   2.119,2,   1.301,2,   1.4210,2,  2069.0,2, 2334.61,2,   7.9857,2, -999.00,9, -999.00,9, -999.00,    62.4,2,    3.60,2,     -999.0,1,  -999.0,1, 20170801,     1558, -32.4996,-169.7504,        0.0,1,      0.206,1,      4.619,1,      0.208,1,      25.00,     -999.0,1,     -999.0,1,     -999.0,9,     -999.0,9,    17.7288,2,     -999.0,9
320620170703,        P06,     112,          1,         36,         36,2,20170801,       1600,   -32.4996,  -169.7504,       5516,     4.5,  17.7763,  35.6951,2,  35.6936,2, 232.1899,2, 232.8987,2,     0.2,2,    0.06,2,    0.02,2,    0.08,2,   2.116,2,   1.294,2,   1.3740,2,  2066.1,6, 2336.64,2,   7.9856,2, -999.00,9, -999.00,9, -999.00,    62.3,2,    3.70,2,     -999.0,1,  -999.0,1, 20170801,     1600, -32.4996,-169.7504,        0.0,1,      0.188,1,      4.620,1,      0.204,1,      25.03,     -999.0,1,     -999.0,1,     -999.0,9,     -999.0,9,    17.7340,2,     -999.0,9