BOTTLE,20230922CCHSIOCBG
EXPOCODE,SECT_ID,STNNBR,CASTNO,SAMPNO,BTLNBR,BTLNBR_FLAG_W,DATE,TIME,LATITUDE,LONGITUDE,DEPTH,CTDPRS,CTDTMP,CTDSAL,CTDSAL_FLAG_W,SALNTY,SALNTY_FLAG_W,CTDOXY,CTDOXY_FLAG_W,OXYGEN,OXYGEN_FLAG_W,SILCAT,SILCAT_FLAG_W,NITRAT,NITRAT_FLAG_W,NITRIT,NITRIT_FLAG_W,PHSPHT,PHSPHT_FLAG_W,CFC-11,CFC-11_FLAG_W,CFC-12,CFC-12_FLAG_W,SF6,SF6_FLAG_W,TCARBN,TCARBN_FLAG_W,ALKALI,ALKALI_FLAG_W,PH_TOT,PH_TOT_FLAG_W,DELC13,DELC13_FLAG_W,DELC14,DELC14_FLAG_W,C14ERR,DOC,DOC_FLAG_W,TDN,TDN_FLAG_W,TON,TON_FLAG_W,D15N_NO3,D15N_NO3_FLAG_W,BTL_DATE,BTL_TIME,BTL_LAT,BTL_LON,CTDRINKO,CTDRINKO_FLAG_W,CTDFLUOR,CTDFLUOR_FLAG_W,CTDXMISS,CTDXMISS_FLAG_W,CTDBACKSCATTER,CTDBACKSCATTER_FLAG_W,PH_TMP,D18O_NO3,D18O_NO3_FLAG_W,DOP,DOP_FLAG_W,HPLC,HPLC_FLAG_W,POC,POC_FLAG_W,REFTMP,REFTMP_FLAG_W,TDP,TDP_FLAG_W
,,,,,,,,,,,METERS,DBAR,ITS-90,PSS-78,,PSS-78,,UMOL/KG,,UMOL/KG,,UMOL/KG,,UMOL/KG,,UMOL/KG,,UMOL/KG,,PMOL/KG,,PMOL/KG,,FMOL/KG,,UMOL/KG,,UMOL/KG,,,,/MILLE,,/MILLE,,/MILLE,UMOL/KG,,UMOL/KG,,UMOL/KG,,/MILLE,,,,,,VOLTS,,VOLTS,,VOLTS,,VOLTS,,DEGC,/MILLE,,UMOL/KG,,,,UG/L,,ITS-90,,UMOL/KG,
320620170703,        P06,     106,          1,         33,         33,2,20170731,       0059,   -32.4994,  -171.9197,       4293,    83.6,  17.5537,  35.6954,2,  35.6919,2, 230.9027,2, 231.4501,2,     0.1,2,    0.32,2,    0.04,2,    0.10,2,   2.272,2,   1.291,2,   1.3680,2,  2070.1,2, -999.00,9,   7.9776,2, -999.00,9, -999.00,9, -999.00,    58.8,2,    4.50,2,     -999.0,1,  -999.0,1, 20170731,       54, -32.4994,-171.9196,        0.0,1,      0.170,1,      4.635,1,      0.206,1,      25.03,     -999.0,1,     -999.0,1,     -999.0,9,     -999.0,9,    17.5392,2,     -999.0,9
320620170703,        P06,     106,          1,         34,         34,2,20170731,       0059,   -32.4994,  -171.9197,       4293,    59.9,  17.5459,  35.6944,2,  35.6909,2, 230.8208,2, 231.8145,2,     0.1,2,    0.32,2,    0.04,2,    0.11,2,   2.266,2,   1.305,2,   1.4410,2,  2072.1,2, 2337.04,2,   7.9770,2, -999.00,9, -999.00,9, -999.00,    61.8,2,    4.70,2,     -999.0,1,  -999.0,1, 20170731,       56, -32.4994,-171.9197,        0.0,1,      0.166,1,      4.636,1,      0.198,1,      25.02,     -999.0,1,     -999.0,1,     -999.0,9,     -999.0,9,    17.5368,2,       0.24,2
320620170703,        P06,     106,          1,         35,         35,2,20170731,       0059,   -32.4994,  -171.9197,       4293,    35.1,  17.5416,  35.6934,2,  35.6907,2, 230.8034,2, 231.2262,2,     0.1,2,    0.32,2,    0.04,2,    0.12,2,   2.292,2,   1.297,2,   1.4180,2,  2071.0,2, -999.00,9,   7.9773,2, -999.00,9, -999.00,9, -999.00,    57.4,2,    4.10,2,     -999.0,1,  -999.0,1, 20170731,       58, -32.4994,-171.9197,        0.0,1,      0.170,1,      4.633,1,      0.198,1,      25.03,     -999.0,1,     -999.0,1,     -999.0,9,     -999.0,9,    17.5320,2,     -999.0,9
320620170703,        P06,     106,          1,         36,         36,2,20170731,       0059,   -32.4994,  -171.9197,       4293,     4.2,  17.5417,  35.6930,2,  35.6909,2, 231.6406,2, 232.3880,2,     0.1,2,    0.32,2,    0.04,2,    0.12,2,   2.296,2,   1.294,2,   1.4200,2,  2072.0,6, 2338.16,2,   7.9774,2, -999.00,9, -999.00,9, -999.00,    63.1,2,    4.50,2,     -999.0,1,  -999.0,1, 20170731,       59, -32.4994,-171.9197,        0.0,1,      0.114,1,      4.632,1,      0.192,1,      25.03,     -999.0,1,     -999.0,1,     -999.0,9,     -999.0,9,    17.5478,2,     -999.0,9