BOTTLE,20230922CCHSIOCBG
EXPOCODE,SECT_ID,STNNBR,CASTNO,SAMPNO,BTLNBR,BTLNBR_FLAG_W,DATE,TIME,LATITUDE,LONGITUDE,DEPTH,CTDPRS,CTDTMP,CTDSAL,CTDSAL_FLAG_W,SALNTY,SALNTY_FLAG_W,CTDOXY,CTDOXY_FLAG_W,OXYGEN,OXYGEN_FLAG_W,SILCAT,SILCAT_FLAG_W,NITRAT,NITRAT_FLAG_W,NITRIT,NITRIT_FLAG_W,PHSPHT,PHSPHT_FLAG_W,CFC-11,CFC-11_FLAG_W,CFC-12,CFC-12_FLAG_W,SF6,SF6_FLAG_W,TCARBN,TCARBN_FLAG_W,ALKALI,ALKALI_FLAG_W,PH_TOT,PH_TOT_FLAG_W,DELC13,DELC13_FLAG_W,DELC14,DELC14_FLAG_W,C14ERR,DOC,DOC_FLAG_W,TDN,TDN_FLAG_W,TON,TON_FLAG_W,D15N_NO3,D15N_NO3_FLAG_W,BTL_DATE,BTL_TIME,BTL_LAT,BTL_LON,CTDRINKO,CTDRINKO_FLAG_W,CTDFLUOR,CTDFLUOR_FLAG_W,CTDXMISS,CTDXMISS_FLAG_W,CTDBACKSCATTER,CTDBACKSCATTER_FLAG_W,PH_TMP,D18O_NO3,D18O_NO3_FLAG_W,DOP,DOP_FLAG_W,HPLC,HPLC_FLAG_W,POC,POC_FLAG_W,REFTMP,REFTMP_FLAG_W,TDP,TDP_FLAG_W
,,,,,,,,,,,METERS,DBAR,ITS-90,PSS-78,,PSS-78,,UMOL/KG,,UMOL/KG,,UMOL/KG,,UMOL/KG,,UMOL/KG,,UMOL/KG,,PMOL/KG,,PMOL/KG,,FMOL/KG,,UMOL/KG,,UMOL/KG,,,,/MILLE,,/MILLE,,/MILLE,UMOL/KG,,UMOL/KG,,UMOL/KG,,/MILLE,,,,,,VOLTS,,VOLTS,,VOLTS,,VOLTS,,DEGC,/MILLE,,UMOL/KG,,,,UG/L,,ITS-90,,UMOL/KG,
320620170703,        P06,     113,          1,          1,          1,2,20170801,       2336,   -32.4998,  -169.0982,       5352,  5448.2,   1.1042,  34.7083,2,  34.7097,2, 206.1092,2, 207.3724,2,   121.6,2,   32.03,2,    0.00,2,    2.25,2,   0.127,2,   0.073,2,   0.0000,2,  2264.3,6, 2361.87,2,   7.6063,2, -999.00,9, -999.00,9, -999.00,  -999.0,9, -999.00,9,     -999.0,9,  -999.0,9, 20170801,     2110, -32.5000,-169.0981,        0.0,1,      0.061,1,      4.696,1,      0.127,1,      25.03,     -999.0,9,     -999.0,9,     -999.0,9,     -999.0,9,     1.1046,2,     -999.0,9
320620170703,        P06,     113,          1,          2,          2,2,20170801,       2336,   -32.4998,  -169.0982,       5352,  5269.4,   1.0822,  34.7084,2,  34.7089,2, 206.1092,2, 207.1909,2,   121.7,2,   32.06,2,    0.00,2,    2.23,2,   0.123,2,   0.073,2,   0.0000,2,  2263.5,2, 2363.38,2,   7.6050,2, -999.00,9, -999.00,9, -999.00,  -999.0,9, -999.00,9,     -999.0,9,  -999.0,9, 20170801,     2117, -32.4999,-169.0983,        0.0,1,      0.061,1,      4.697,1,      0.126,1,      25.03,     -999.0,9,     -999.0,9,     -999.0,9,     -999.0,9,     1.0825,2,     -999.0,9
320620170703,        P06,     113,          1,          3,          3,2,20170801,       2336,   -32.4998,  -169.0982,       5352,  5094.4,   1.0642,  34.7088,2,  34.7091,2, 206.1092,2, 206.8909,2,   121.9,2,   32.04,2,    0.00,2,    2.22,2,   0.128,2,   0.080,2,   0.0000,2,  2263.0,2, 2362.97,2,   7.6063,2, -999.00,9, -999.00,9, -999.00,  -999.0,9, -999.00,9,     -999.0,9,  -999.0,9, 20170801,     2122, -32.4999,-169.0982,        0.0,1,      0.061,1,      4.698,1,      0.127,1,      25.03,     -999.0,9,     -999.0,9,     -999.0,9,     -999.0,9,     1.0641,2,     -999.0,9
320620170703,        P06,     113,          1,          4,          4,2,20170801,       2336,   -32.4998,  -169.0982,       5352,  4682.4,   1.0460,  34.7099,2,  34.7119,2, 206.2625,2, 206.2004,2,   120.8,2,   31.99,2,    0.00,2,    2.22,2,   0.128,2,   0.081,2,   0.0000,2,  -999.0,9, -999.00,9,-999.0000,9, -999.00,9, -999.00,9, -999.00,  -999.0,9, -999.00,9,     -999.0,9,  -999.0,9, 20170801,     2132, -32.4999,-169.0983,        0.0,1,      0.060,1,      4.700,1,      0.125,1,     -999.0,     -999.0,9,     -999.0,9,     -999.0,9,     -999.0,9,     1.0444,2,     -999.0,9
320620170703,        P06,     113,          1,          5,          5,2,20170801,       2336,   -32.4998,  -169.0982,       5352,  4271.8,   1.1460,  34.7148,2,  34.7154,2, 206.4220,3, 204.1440,2,   117.4,2,   31.86,2,    0.00,2,    2.21,2,   0.098,2,   0.064,2,   0.0000,2,  2261.2,2, 2358.41,2,   7.6069,2, -999.00,9, -999.00,9, -999.00,  -999.0,9, -999.00,9,     -999.0,9,  -999.0,9, 20170801,     2140, -32.4999,-169.0986,        0.0,1,      0.060,1,      4.700,1,      0.124,1,      25.02,     -999.0,9,     -999.0,9,     -999.0,9,     -999.0,9,     1.1345,2,     -999.0,9
320620170703,        P06,     113,          1,          6,          6,2,20170801,       2336,   -32.4998,  -169.0982,       5352,  3861.4,   1.3959,  34.7190,2,  34.7193,2, 197.1088,2, 196.8907,2,   111.8,2,   31.87,2,    0.00,2,    2.22,2,   0.064,2,   0.045,2,   0.0000,2,  -999.0,9, -999.00,9,-999.0000,9, -999.00,9, -999.00,9, -999.00,  -999.0,9, -999.00,9,     -999.0,9,  -999.0,9, 20170801,     2148, -32.4999,-169.0984,        0.0,1,      0.061,1,      4.700,1,      0.128,1,     -999.0,     -999.0,9,     -999.0,9,     -999.0,9,     -999.0,9,     1.3871,2,     -999.0,9
320620170703,        P06,     113,          1,          7,          7,2,20170801,       2336,   -32.4998,  -169.0982,       5352,  3555.4,   1.5994,  34.7113,2,  34.7093,2, 184.5697,2, 183.9797,2,   112.1,2,   32.61,2,    0.00,2,    2.28,2,   0.045,2,   0.034,2,   0.0000,2,  2272.9,2, 2366.76,6,   7.5955,2, -999.00,9, -999.00,9, -999.00,  -999.0,9, -999.00,9,     -999.0,9,  -999.0,9, 20170801,     2155, -32.4999,-169.0985,        0.0,1,      0.061,1,      4.700,1,      0.128,1,      25.00,     -999.0,9,     -999.0,9,     -999.0,9,     -999.0,9,     1.6012,2,     -999.0,9
320620170703,        P06,     113,          1,          8,          8,2,20170801,       2336,   -32.4998,  -169.0982,       5352,  3247.0,   1.7313,  34.6855,2,  34.6885,2, 164.1081,3, 162.3164,2,   124.1,2,   34.59,2,    0.00,2,    2.42,2,   0.028,2,   0.027,2,   0.0000,2,  -999.0,9, -999.00,9,-999.0000,9, -999.00,9, -999.00,9, -999.00,  -999.0,9, -999.00,9,     -999.0,9,  -999.0,9, 20170801,     2202, -32.4999,-169.0984,        0.0,1,      0.061,1,      4.700,1,      0.130,1,     -999.0,     -999.0,9,     -999.0,9,     -999.0,9,     -999.0,9,     1.7345,2,     -999.0,9
320620170703,        P06,     113,          1,          9,          9,2,20170801,       2336,   -32.4998,  -169.0982,       5352,  2956.6,   1.8356,  34.6679,2,  34.6684,2, 152.7952,2, 151.4247,2,   128.6,2,   35.59,2,    0.00,2,    2.49,2,   0.023,2,   0.026,2,   0.0000,2,  2313.5,2, 2396.12,2,   7.5697,2, -999.00,9, -999.00,9, -999.00,  -999.0,9, -999.00,9,     -999.0,9,  -999.0,9, 20170801,     2208, -32.4999,-169.0985,        0.0,1,      0.061,1,      4.700,1,      0.130,1,      25.03,     -999.0,9,     -999.0,9,     -999.0,9,     -999.0,9,     1.8320,2,     -999.0,9
320620170703,        P06,     113,          1,         10,         10,2,20170801,       2336,   -32.4998,  -169.0982,       5352,  2700.4,   1.9356,  34.6579,2,  34.6584,2, 147.9424,2, 148.1625,2,   126.8,2,   35.84,2,    0.00,2,    2.51,2,   0.024,2,   0.023,2,   0.0000,2,  -999.0,9, -999.00,9,-999.0000,9, -999.00,9, -999.00,9, -999.00,  -999.0,9, -999.00,9,     -999.0,9,  -999.0,9, 20170801,     2214, -32.4999,-169.0985,        0.0,1,      0.061,1,      4.700,1,      0.132,1,     -999.0,     -999.0,9,     -999.0,9,     -999.0,9,     -999.0,9,     1.9316,2,     -999.0,9
320620170703,        P06,     113,          1,         11,         11,2,20170801,       2336,   -32.4998,  -169.0982,       5352,  2446.2,   2.0451,  34.6481,2,  34.6537,2, 146.7341,2, 148.0088,2,   122.3,2,   35.84,2,    0.00,2,    2.51,2,   0.030,2,   0.027,2,   0.0000,2,  2309.9,6, 2392.87,2,   7.5655,2, -999.00,9, -999.00,9, -999.00,  -999.0,9, -999.00,9,     -999.0,9,  -999.0,9, 20170801,     2220, -32.4999,-169.0986,        0.0,1,      0.061,1,      4.701,1,      0.133,1,      25.03,     -999.0,9,     -999.0,9,     -999.0,9,     -999.0,9,     2.0494,2,     -999.0,9
320620170703,        P06,     113,          1,         12,         12,2,20170801,       2336,   -32.4998,  -169.0982,       5352,  2191.1,   2.1931,  34.6352,2,  34.6366,2, 147.7644,2, 148.4964,2,   116.4,2,   35.65,2,    0.00,2,    2.50,2,   0.027,2,   0.026,2,   0.0000,2,  -999.0,9, -999.00,9,-999.0000,9, -999.00,9, -999.00,9, -999.00,  -999.0,9, -999.00,9,     -999.0,9,  -999.0,9, 20170801,     2226, -32.4999,-169.0986,        0.0,1,      0.062,1,      4.701,1,      0.134,1,     -999.0,     -999.0,9,     -999.0,9,     -999.0,9,     -999.0,9,     2.1734,2,     -999.0,9
320620170703,        P06,     113,          1,         13,         13,2,20170801,       2336,   -32.4998,  -169.0982,       5352,  1957.7,   2.3614,  34.6164,2,  34.6178,2, 150.4072,2, 151.6444,2,   106.9,2,   35.29,2,    0.00,2,    2.47,2,   0.029,2,   0.028,2,   0.0000,2,  2294.6,2, 2374.85,2,   7.5667,2, -999.00,9, -999.00,9, -999.00,  -999.0,9, -999.00,9,     -999.0,9,  -999.0,9, 20170801,     2231, -32.4999,-169.0986,        0.0,1,      0.061,1,      4.701,1,      0.135,1,      25.02,     -999.0,9,     -999.0,9,     -999.0,9,     -999.0,9,     2.3476,2,     -999.0,9
320620170703,        P06,     113,          1,         14,         14,2,20170801,       2336,   -32.4998,  -169.0982,       5352,  1755.9,   2.5593,  34.5868,2,  34.5893,2, 154.8759,2, 155.7244,2,    95.6,2,   34.98,2,    0.00,2,    2.44,2,   0.035,2,   0.029,2,   0.0000,2,  -999.0,9, -999.00,9,-999.0000,9, -999.00,9, -999.00,9, -999.00,  -999.0,9, -999.00,9,     -999.0,9,  -999.0,9, 20170801,     2236, -32.4999,-169.0985,        0.0,1,      0.061,1,      4.701,1,      0.133,1,     -999.0,     -999.0,9,     -999.0,9,     -999.0,9,     -999.0,9,     2.5432,2,     -999.0,9
320620170703,        P06,     113,          1,         15,         15,2,20170801,       2336,   -32.4998,  -169.0982,       5352,  1549.5,   2.8670,  34.5246,2,  34.5274,2, 163.7062,2, 164.0501,2,    77.8,2,   34.53,2,    0.00,2,    2.39,2,   0.070,2,   0.049,2,   0.0000,2,  2258.2,2, 2340.87,2,   7.5690,2, -999.00,9, -999.00,9, -999.00,  -999.0,9, -999.00,9,     -999.0,9,  -999.0,9, 20170801,     2241, -32.4999,-169.0985,        0.0,1,      0.061,1,      4.702,1,      0.135,1,      25.03,     -999.0,9,     -999.0,9,     -999.0,9,     -999.0,9,     2.8414,2,     -999.0,9
320620170703,        P06,     113,          1,         16,         16,2,20170801,       2336,   -32.4998,  -169.0982,       5352,  1378.6,   3.2296,  34.4450,2,  34.4465,3, 175.2880,2, 175.3786,2,    60.0,2,   33.87,2,    0.00,2,    2.35,2,   0.218,2,   0.130,2,   0.0000,2,  -999.0,9, -999.00,9,-999.0000,9, -999.00,9, -999.00,9, -999.00,  -999.0,9, -999.00,9,     -999.0,9,  -999.0,9, 20170801,     2245, -32.4999,-169.0986,        0.0,1,      0.061,1,      4.702,1,      0.135,1,     -999.0,     -999.0,9,     -999.0,9,     -999.0,9,     -999.0,9,     3.2222,2,     -999.0,9
320620170703,        P06,     113,          1,         17,         17,2,20170801,       2336,   -32.4998,  -169.0982,       5352,  1277.9,   3.5891,  34.3941,2,  34.3986,2, 183.0097,2, 182.8719,2,    49.9,2,   33.19,2,    0.00,2,    2.29,2,   0.399,2,   0.214,2,   0.0000,2,  2222.6,2, 2309.17,2,   7.5859,2, -999.00,9, -999.00,9, -999.00,  -999.0,9, -999.00,9,     -999.0,9,  -999.0,9, 20170801,     2248, -32.4999,-169.0986,        0.0,1,      0.060,1,      4.702,1,      0.135,1,      25.03,     -999.0,9,     -999.0,9,     -999.0,9,     -999.0,9,     3.5529,2,     -999.0,9
320620170703,        P06,     113,          1,         18,         18,2,20170801,       2336,   -32.4998,  -169.0982,       5352,  1176.0,   4.1463,  34.3514,2,  34.3605,2, 191.8694,2, 191.3704,2,    39.8,2,   32.04,2,    0.00,2,    2.19,2,   0.685,2,   0.342,2,   0.0900,2,  -999.0,9, -999.00,9,-999.0000,9, -999.00,9, -999.00,9, -999.00,  -999.0,9, -999.00,9,     -999.0,9,  -999.0,9, 20170801,     2251, -32.4999,-169.0987,        0.0,1,      0.060,1,      4.701,1,      0.135,1,     -999.0,     -999.0,9,     -999.0,9,     -999.0,9,     -999.0,9,     4.0441,2,     -999.0,9
320620170703,        P06,     113,          1,         19,         19,2,20170801,       2336,   -32.4998,  -169.0982,       5352,  1075.3,   4.7504,  34.3264,2,  34.3290,2, 201.4774,2, 201.6608,2,    28.9,2,   30.33,2,    0.00,2,    2.06,2,   1.131,2,   0.543,2,   0.2010,2,  2189.5,2, 2289.10,2,   7.6254,2, -999.00,9, -999.00,9, -999.00,  -999.0,9, -999.00,9,     -999.0,9,  -999.0,9, 20170801,     2254, -32.4999,-169.0987,        0.0,1,      0.060,1,      4.701,1,      0.135,1,      25.02,     -999.0,9,     -999.0,9,     -999.0,9,     -999.0,9,     4.6374,2,     -999.0,9
320620170703,        P06,     113,          1,         20,         20,2,20170801,       2336,   -32.4998,  -169.0982,       5352,   973.3,   5.3781,  34.3173,2,  34.3166,2, 214.5246,2, 214.2158,2,    19.5,2,   28.08,2,    0.00,2,    1.91,2,   1.713,2,   0.816,2,   0.2620,2,  2171.6,2, 2280.44,2,   7.6539,2, -999.00,9, -999.00,9, -999.00,  -999.0,9, -999.00,9,     -999.0,9,  -999.0,9, 20170801,     2258, -32.4999,-169.0986,        0.0,1,      0.059,1,      4.700,1,      0.135,1,      25.02,     -999.0,9,     -999.0,9,     -999.0,9,     -999.0,9,     5.3260,2,     -999.0,9
320620170703,        P06,     113,          1,         21,         21,2,20170801,       2336,   -32.4998,  -169.0982,       5352,   872.3,   5.9836,  34.3270,2,  34.3272,2, 228.2331,2, 227.6087,2,    12.2,2,   25.41,2,    0.00,2,    1.71,2,   2.481,2,   1.208,2,   0.4600,2,  2158.5,2, 2276.40,2,   7.6838,2, -999.00,9, -999.00,9, -999.00,  -999.0,9, -999.00,9,     -999.0,9,  -999.0,9, 20170801,     2301, -32.4999,-169.0986,        0.0,1,      0.060,1,      4.699,1,      0.137,1,      25.02,     -999.0,9,     -999.0,9,     -999.0,9,     -999.0,9,     6.0480,2,     -999.0,9
320620170703,        P06,     113,          1,         22,         22,2,20170801,       2336,   -32.4998,  -169.0982,       5352,   770.5,   6.5048,  34.3485,2,  34.3539,2, 234.8968,2, 235.2304,2,     8.6,2,   23.42,2,    0.00,2,    1.58,2,   3.095,2,   1.544,2,   0.6420,2,  2148.4,2, 2276.02,2,   7.7006,2, -999.00,9, -999.00,9, -999.00,  -999.0,9, -999.00,9,     -999.0,9,  -999.0,9, 20170801,     2304, -32.4998,-169.0984,        0.0,1,      0.059,1,      4.699,1,      0.138,1,      24.99,     -999.0,9,     -999.0,9,     -999.0,9,     -999.0,9,     6.6224,2,     -999.0,9
320620170703,        P06,     113,          1,         23,         23,2,20170801,       2336,   -32.4998,  -169.0982,       5352,   670.4,   7.0545,  34.3886,2,  34.3980,2, 235.8807,2, 235.9549,2,     6.6,2,   21.85,2,    0.00,2,    1.47,2,   3.459,2,   1.774,2,   0.8910,2,  2145.5,2, 2274.02,2,   7.7091,2, -999.00,9, -999.00,9, -999.00,  -999.0,9, -999.00,9,     -999.0,9,  -999.0,9, 20170801,     2307, -32.4998,-169.0983,        0.0,1,      0.059,1,      4.697,1,      0.138,1,      25.02,     -999.0,9,     -999.0,9,     -999.0,9,     -999.0,9,     7.1761,2,     -999.0,9
320620170703,        P06,     113,          1,         24,         24,2,20170801,       2336,   -32.4998,  -169.0982,       5352,   569.2,   7.8143,  34.4606,2,  34.4644,2, 230.8091,2, 230.9545,2,     5.4,2,   20.14,2,    0.00,2,    1.36,2,   3.399,2,   1.800,2,   0.9550,2,  2144.3,2, 2276.29,2,   7.7177,2, -999.00,9, -999.00,9, -999.00,  -999.0,9, -999.00,9,     -999.0,9,  -999.0,9, 20170801,     2310, -32.4998,-169.0982,        0.0,1,      0.060,1,      4.696,1,      0.140,1,      25.03,     -999.0,9,     -999.0,9,     -999.0,9,     -999.0,9,     7.9077,2,     -999.0,9
320620170703,        P06,     113,          1,         25,         25,2,20170801,       2336,   -32.4998,  -169.0982,       5352,   468.0,   9.0370,  34.5932,2,  34.5879,2, 220.3223,2, 220.6936,2,     4.2,2,   17.62,2,    0.00,2,    1.20,2,   3.246,2,   1.752,2,   1.0290,2,  2143.1,2, 2280.24,2,   7.7343,2, -999.00,9, -999.00,9, -999.00,  -999.0,9, -999.00,9,     -999.0,9,  -999.0,9, 20170801,     2313, -32.4998,-169.0981,        0.0,1,      0.060,1,      4.694,1,      0.144,1,      25.02,     -999.0,9,     -999.0,9,     -999.0,9,     -999.0,9,     9.0592,2,     -999.0,9
320620170703,        P06,     113,          1,         26,         26,2,20170801,       2336,   -32.4998,  -169.0982,       5352,   387.7,  10.5412,  34.7721,2,  34.7644,2, 217.1607,2, 218.6812,2,     3.0,2,   13.94,2,    0.00,2,    0.98,2,   3.074,6,   1.698,6,   1.1650,6,  -999.0,9, -999.00,9,-999.0000,9, -999.00,9, -999.00,9, -999.00,  -999.0,9, -999.00,9,     -999.0,9,  -999.0,9, 20170801,     2316, -32.4998,-169.0981,        0.0,1,      0.060,1,      4.692,1,      0.142,1,     -999.0,     -999.0,9,     -999.0,9,     -999.0,9,     -999.0,9,    10.5528,2,     -999.0,9
320620170703,        P06,     113,          1,         27,         27,2,20170801,       2336,   -32.4998,  -169.0982,       5352,   337.3,  11.8322,  34.9314,2,  34.9359,3, 211.6506,2, 210.2557,2,     2.5,2,   11.29,2,    0.00,2,    0.81,2,   2.838,2,   1.629,2,   1.2620,2,  2126.0,2, 2294.97,2,   7.7967,2, -999.00,9, -999.00,9, -999.00,  -999.0,9, -999.00,9,     -999.0,9,  -999.0,9, 20170801,     2319, -32.4998,-169.0981,        0.0,1,      0.059,1,      4.691,1,      0.141,1,      25.03,     -999.0,9,     -999.0,9,     -999.0,9,     -999.0,9,    11.8054,2,     -999.0,9
320620170703,        P06,     113,          1,         28,         28,2,20170801,       2336,   -32.4998,  -169.0982,       5352,   286.2,  13.1264,  35.0870,2,  35.0624,2, 208.8506,2, 208.5364,2,     2.0,2,    9.10,2,    0.00,2,    0.67,2,   2.701,2,   1.556,2,   1.3050,2,  -999.0,9, -999.00,9,-999.0000,9, -999.00,9, -999.00,9, -999.00,  -999.0,9, -999.00,9,     -999.0,9,  -999.0,9, 20170801,     2321, -32.4998,-169.0981,        0.0,1,      0.059,1,      4.691,1,      0.140,1,     -999.0,     -999.0,9,     -999.0,9,     -999.0,9,     -999.0,9,    12.9211,2,     -999.0,9
320620170703,        P06,     113,          1,         29,         29,2,20170801,       2336,   -32.4998,  -169.0982,       5352,   235.6,  14.4441,  35.2616,2,  35.2499,2, 211.4684,2, 211.1799,2,     1.2,2,    6.09,2,    0.00,2,    0.49,2,   2.575,2,   1.492,2,   1.3390,2,  2106.5,2, 2312.27,2,   7.8641,2, -999.00,9, -999.00,9, -999.00,  -999.0,9, -999.00,9,     -999.0,9,  -999.0,9, 20170801,     2323, -32.4998,-169.0981,        0.0,1,      0.063,1,      4.689,1,      0.138,1,      25.03,     -999.0,9,     -999.0,9,     -999.0,9,     -999.0,9,    14.4063,2,     -999.0,9
320620170703,        P06,     113,          1,         30,         30,2,20170801,       2336,   -32.4998,  -169.0982,       5352,   185.6,  15.5534,  35.4027,2,  35.4054,2, 212.0046,2, 211.6190,2,     0.8,2,    4.17,2,    0.02,2,    0.35,2,   2.457,2,   1.436,2,   1.3800,2,  2100.0,2, 2319.51,2,   7.8942,2, -999.00,9, -999.00,9, -999.00,  -999.0,9, -999.00,9,     -999.0,9,  -999.0,9, 20170801,     2326, -32.4998,-169.0981,        0.0,1,      0.080,1,      4.683,1,      0.144,1,      25.03,     -999.0,9,     -999.0,9,     -999.0,9,     -999.0,9,    15.6400,2,     -999.0,9
320620170703,        P06,     113,          1,         31,         31,2,20170801,       2336,   -32.4998,  -169.0982,       5352,   136.3,  17.6618,  35.6518,2,  35.6761,2, 232.4513,2, 232.0413,2,     0.1,2,    0.06,2,    0.02,2,    0.05,2,   2.171,2,   1.285,2,   1.4370,2,  2062.8,2, 2336.99,2,   7.9865,2, -999.00,9, -999.00,9, -999.00,  -999.0,9, -999.00,9,     -999.0,9,  -999.0,9, 20170801,     2328, -32.4998,-169.0981,        0.0,1,      0.133,1,      4.653,1,      0.171,1,      25.02,     -999.0,9,     -999.0,9,     -999.0,9,     -999.0,9,    17.7556,2,     -999.0,9
320620170703,        P06,     113,          1,         32,         32,2,20170801,       2336,   -32.4998,  -169.0982,       5352,    90.3,  17.7532,  35.6689,2,  35.6733,2, 231.5390,2, 232.1679,2,     0.1,2,    0.05,2,    0.02,2,    0.06,2,   2.146,2,   1.283,2,   1.3380,2,  -999.0,9, -999.00,9,-999.0000,9, -999.00,9, -999.00,9, -999.00,  -999.0,9, -999.00,9,     -999.0,9,  -999.0,9, 20170801,     2330, -32.4998,-169.0980,        0.0,1,      0.149,1,      4.646,1,      0.183,1,     -999.0,     -999.0,9,     -999.0,9,     -999.0,9,     -999.0,9,    17.7556,2,     -999.0,9