BOTTLE,20230922CCHSIOCBG
EXPOCODE,SECT_ID,STNNBR,CASTNO,SAMPNO,BTLNBR,BTLNBR_FLAG_W,DATE,TIME,LATITUDE,LONGITUDE,DEPTH,CTDPRS,CTDTMP,CTDSAL,CTDSAL_FLAG_W,SALNTY,SALNTY_FLAG_W,CTDOXY,CTDOXY_FLAG_W,OXYGEN,OXYGEN_FLAG_W,SILCAT,SILCAT_FLAG_W,NITRAT,NITRAT_FLAG_W,NITRIT,NITRIT_FLAG_W,PHSPHT,PHSPHT_FLAG_W,CFC-11,CFC-11_FLAG_W,CFC-12,CFC-12_FLAG_W,SF6,SF6_FLAG_W,TCARBN,TCARBN_FLAG_W,ALKALI,ALKALI_FLAG_W,PH_TOT,PH_TOT_FLAG_W,DELC13,DELC13_FLAG_W,DELC14,DELC14_FLAG_W,C14ERR,DOC,DOC_FLAG_W,TDN,TDN_FLAG_W,TON,TON_FLAG_W,D15N_NO3,D15N_NO3_FLAG_W,BTL_DATE,BTL_TIME,BTL_LAT,BTL_LON,CTDRINKO,CTDRINKO_FLAG_W,CTDFLUOR,CTDFLUOR_FLAG_W,CTDXMISS,CTDXMISS_FLAG_W,CTDBACKSCATTER,CTDBACKSCATTER_FLAG_W,PH_TMP,D18O_NO3,D18O_NO3_FLAG_W,DOP,DOP_FLAG_W,HPLC,HPLC_FLAG_W,POC,POC_FLAG_W,REFTMP,REFTMP_FLAG_W,TDP,TDP_FLAG_W
,,,,,,,,,,,METERS,DBAR,ITS-90,PSS-78,,PSS-78,,UMOL/KG,,UMOL/KG,,UMOL/KG,,UMOL/KG,,UMOL/KG,,UMOL/KG,,PMOL/KG,,PMOL/KG,,FMOL/KG,,UMOL/KG,,UMOL/KG,,,,/MILLE,,/MILLE,,/MILLE,UMOL/KG,,UMOL/KG,,UMOL/KG,,/MILLE,,,,,,VOLTS,,VOLTS,,VOLTS,,VOLTS,,DEGC,/MILLE,,UMOL/KG,,,,UG/L,,ITS-90,,UMOL/KG,
320620170703,        P06,     123,          1,          1,          1,2,20170805,       2220,   -32.4998,  -162.4887,       5060,  5146.6,   1.0896,  34.7085,2,  34.7105,2, 204.4498,2, 205.6471,2,   121.4,2,   32.24,2,    0.00,2,    2.23,2,   0.135,2,   0.071,2,   0.0000,2,  2265.5,6, 2366.59,2,   7.6067,2, -999.00,9, -999.00,9, -999.00,  -999.0,9, -999.00,9,     -999.0,9,  -999.0,9, 20170805,     1951, -32.5001,-162.4887,        0.0,1,      0.061,1,      4.696,1,      0.130,1,      25.00,     -999.0,9,     -999.0,9,     -999.0,9,     -999.0,9,     1.0900,2,     -999.0,9
320620170703,        P06,     123,          1,          2,          2,2,20170805,       2220,   -32.4998,  -162.4887,       5060,  5074.8,   1.0809,  34.7086,2,  34.7107,2, 204.4498,2, 206.3494,2,   120.9,2,   32.22,2,    0.00,2,    2.23,2,   0.130,2,   0.072,2,   0.0000,2,  2263.9,2, 2366.56,2,   7.6065,2, -999.00,9, -999.00,9, -999.00,  -999.0,9, -999.00,9,     -999.0,9,  -999.0,9, 20170805,     1955, -32.5001,-162.4887,        0.0,1,      0.062,1,      4.696,1,      0.128,1,      25.03,     -999.0,9,     -999.0,9,     -999.0,9,     -999.0,9,     1.0814,2,     -999.0,9
320620170703,        P06,     123,          1,          3,          3,2,20170805,       2220,   -32.4998,  -162.4887,       5060,  4889.1,   1.0678,  34.7089,2,  34.7097,2, 204.4498,2, 205.5502,2,   120.6,2,   32.22,2,    0.00,2,    2.23,2,   0.117,2,   0.070,2,   0.0000,2,  2265.7,2, 2363.29,2,   7.6059,2, -999.00,9, -999.00,9, -999.00,  -999.0,9, -999.00,9,     -999.0,9,  -999.0,9, 20170805,     2002, -32.5000,-162.4883,        0.0,1,      0.061,1,      4.698,1,      0.124,1,      25.01,     -999.0,9,     -999.0,9,     -999.0,9,     -999.0,9,     1.0682,2,     -999.0,9
320620170703,        P06,     123,          1,          4,          4,2,20170805,       2220,   -32.4998,  -162.4887,       5060,  4578.7,   1.0786,  34.7107,2,  34.7119,2, 205.2756,2, 205.3510,2,   119.8,2,   32.13,2,    0.00,2,    2.24,2,   0.107,2,   0.065,2,   0.0000,2,  2262.9,2, 2361.99,2,   7.6070,2, -999.00,9, -999.00,9, -999.00,  -999.0,9, -999.00,9,     -999.0,9,  -999.0,9, 20170805,     2012, -32.4999,-162.4883,        0.0,1,      0.061,1,      4.699,1,      0.124,1,      25.00,     -999.0,9,     -999.0,9,     -999.0,9,     -999.0,9,     1.0810,2,     -999.0,9
320620170703,        P06,     123,          1,          5,          5,2,20170805,       2220,   -32.4998,  -162.4887,       5060,  4270.4,   1.1749,  34.7144,2,  34.7156,2, 205.8449,3, 202.8750,2,   115.8,2,   32.04,2,    0.00,2,    2.22,2,   0.073,2,   0.044,2,   0.0000,2,  2271.8,3, 2369.70,2,   7.6065,2, -999.00,9, -999.00,9, -999.00,  -999.0,9, -999.00,9,     -999.0,9,  -999.0,9, 20170805,     2020, -32.5000,-162.4887,        0.0,1,      0.060,1,      4.700,1,      0.125,1,      25.00,     -999.0,9,     -999.0,9,     -999.0,9,     -999.0,9,     1.2042,2,     -999.0,9
320620170703,        P06,     123,          1,          6,          6,2,20170805,       2220,   -32.4998,  -162.4887,       5060,  3963.4,   1.3826,  34.7155,2,  34.7158,2, 194.9581,2, 193.9580,2,   113.2,2,   32.32,2,    0.00,2,    2.24,2,   0.046,2,   0.032,2,   0.0000,2,  2269.4,2, 2369.26,2,   7.6026,2, -999.00,9, -999.00,9, -999.00,  -999.0,9, -999.00,9,     -999.0,9,  -999.0,9, 20170805,     2028, -32.4999,-162.4882,        0.0,1,      0.061,1,      4.700,1,      0.127,1,      25.00,     -999.0,9,     -999.0,9,     -999.0,9,     -999.0,9,     1.4112,2,     -999.0,9
320620170703,        P06,     123,          1,          7,          7,2,20170805,       2220,   -32.4998,  -162.4887,       5060,  3655.9,   1.5420,  34.7061,2,  34.7056,2, 182.4873,2, 181.2658,2,   116.3,2,   33.21,2,    0.00,2,    2.31,2,   0.035,2,   0.026,2,   0.0000,2,  2284.6,2, 2376.54,2,   7.5924,2, -999.00,9, -999.00,9, -999.00,  -999.0,9, -999.00,9,     -999.0,9,  -999.0,9, 20170805,     2035, -32.4999,-162.4884,        0.0,1,      0.061,1,      4.700,1,      0.127,1,      24.99,     -999.0,9,     -999.0,9,     -999.0,9,     -999.0,9,     1.5554,2,     -999.0,9
320620170703,        P06,     123,          1,          8,          8,2,20170805,       2220,   -32.4998,  -162.4887,       5060,  3349.2,   1.6831,  34.6844,2,  34.6899,2, 164.0667,2, 162.4970,2,   126.7,2,   34.85,2,    0.00,2,    2.44,2,   0.029,2,   0.019,2,   0.0000,2,  2305.8,2, 2392.73,2,   7.5796,2, -999.00,9, -999.00,9, -999.00,  -999.0,9, -999.00,9,     -999.0,9,  -999.0,9, 20170805,     2042, -32.4999,-162.4883,        0.0,1,      0.062,1,      4.700,1,      0.127,1,      25.00,     -999.0,9,     -999.0,9,     -999.0,9,     -999.0,9,     1.6807,2,     -999.0,9
320620170703,        P06,     123,          1,          9,          9,2,20170805,       2220,   -32.4998,  -162.4887,       5060,  3042.3,   1.7917,  34.6698,2,  34.6712,2, 153.7055,3, 152.1583,2,   130.5,2,   35.71,2,    0.00,2,    2.51,2,   0.022,2,   0.021,2,   0.0000,2,  2315.8,2, 2403.10,6,   7.5706,2, -999.00,9, -999.00,9, -999.00,  -999.0,9, -999.00,9,     -999.0,9,  -999.0,9, 20170805,     2048, -32.4999,-162.4883,        0.0,1,      0.061,1,      4.700,1,      0.129,1,      24.99,     -999.0,9,     -999.0,9,     -999.0,9,     -999.0,9,     1.7791,2,     -999.0,9
320620170703,        P06,     123,          1,         10,         10,2,20170805,       2220,   -32.4998,  -162.4887,       5060,  2789.1,   1.8617,  34.6623,2,  34.6635,2, 149.6380,2, 149.4949,2,   129.6,2,   35.99,2,    0.00,2,    2.52,2,   0.020,2,   0.017,2,   0.0000,2,  2318.8,2, -999.00,9,   7.5677,2, -999.00,9, -999.00,9, -999.00,  -999.0,9, -999.00,9,     -999.0,9,  -999.0,9, 20170805,     2054, -32.5000,-162.4885,        0.0,1,      0.062,1,      4.700,1,      0.131,1,      24.99,     -999.0,9,     -999.0,9,     -999.0,9,     -999.0,9,     1.8454,2,     -999.0,9
320620170703,        P06,     123,          1,         11,         11,2,20170805,       2220,   -32.4998,  -162.4887,       5060,  2533.6,   1.9627,  34.6534,2,  34.6557,2, 147.1446,3, 149.0545,2,   126.3,2,   35.99,2,    0.00,2,    2.53,2,   0.023,2,   0.018,2,   0.0000,2,  2316.7,6, 2397.04,2,   7.5663,2, -999.00,9, -999.00,9, -999.00,  -999.0,9, -999.00,9,     -999.0,9,  -999.0,9, 20170805,     2100, -32.4999,-162.4884,        0.0,1,      0.062,1,      4.700,1,      0.130,1,      24.99,     -999.0,9,     -999.0,9,     -999.0,9,     -999.0,9,     1.9378,2,     -999.0,9
320620170703,        P06,     123,          1,         12,         12,2,20170805,       2220,   -32.4998,  -162.4887,       5060,  2279.2,   2.0901,  34.6425,2,  34.6447,2, 147.0333,3, 148.6591,2,   120.3,2,   35.88,2,    0.00,2,    2.52,2,   0.019,2,   0.016,2,   0.0000,2,  2308.5,2, 2391.81,2,   7.5646,2, -999.00,9, -999.00,9, -999.00,  -999.0,9, -999.00,9,     -999.0,9,  -999.0,9, 20170805,     2106, -32.4998,-162.4880,        0.0,1,      0.061,1,      4.701,1,      0.130,1,      24.99,     -999.0,9,     -999.0,9,     -999.0,9,     -999.0,9,     2.0605,2,     -999.0,9
320620170703,        P06,     123,          1,         13,         13,2,20170805,       2220,   -32.4998,  -162.4887,       5060,  2025.3,   2.2371,  34.6275,2,  34.6286,2, 149.5300,3, 151.1541,2,   111.0,2,   35.54,2,    0.00,2,    2.49,2,   0.030,2,   0.018,2,   0.0000,2,  2300.2,2, 2383.98,2,   7.5659,2, -999.00,9, -999.00,9, -999.00,  -999.0,9, -999.00,9,     -999.0,9,  -999.0,9, 20170805,     2112, -32.5000,-162.4888,        0.0,1,      0.061,1,      4.701,1,      0.130,1,      25.00,     -999.0,9,     -999.0,9,     -999.0,9,     -999.0,9,     2.2274,2,     -999.0,9
320620170703,        P06,     123,          1,         14,         14,2,20170805,       2220,   -32.4998,  -162.4887,       5060,  1820.2,   2.4064,  34.6048,2,  34.6050,2, 153.2103,3, 154.9178,2,   101.0,2,   35.26,2,    0.00,2,    2.47,2,   0.028,2,   0.020,2,   0.0000,2,  2289.4,2, -999.00,9,   7.5661,2, -999.00,9, -999.00,9, -999.00,  -999.0,9, -999.00,9,     -999.0,9,  -999.0,9, 20170805,     2116, -32.4998,-162.4884,        0.0,1,      0.059,1,      4.701,1,      0.132,1,      25.00,     -999.0,9,     -999.0,9,     -999.0,9,     -999.0,9,     2.4047,2,     -999.0,9
320620170703,        P06,     123,          1,         15,         15,2,20170805,       2220,   -32.4998,  -162.4887,       5060,  1616.7,   2.6631,  34.5556,2,  34.5561,2, 160.0013,2, 160.8895,2,    85.1,2,   34.92,2,    0.00,2,    2.43,2,   0.040,2,   0.026,2,   0.0000,2,  2269.4,2, 2346.20,2,   7.5657,2, -999.00,9, -999.00,9, -999.00,  -999.0,9, -999.00,9,     -999.0,9,  -999.0,9, 20170805,     2121, -32.4998,-162.4884,        0.0,1,      0.061,1,      4.701,1,      0.132,1,      25.00,     -999.0,9,     -999.0,9,     -999.0,9,     -999.0,9,     2.6612,2,     -999.0,9
320620170703,        P06,     123,          1,         16,         16,2,20170805,       2220,   -32.4998,  -162.4887,       5060,  1416.1,   3.1181,  34.4591,2,  34.4675,2, 171.7049,2, 171.9742,2,    65.0,2,   34.34,2,    0.00,2,    2.37,2,   0.141,2,   0.084,2,   0.0000,2,  2245.1,2, 2328.84,2,   7.5706,2, -999.00,9, -999.00,9, -999.00,  -999.0,9, -999.00,9,     -999.0,9,  -999.0,9, 20170805,     2126, -32.4999,-162.4887,        0.0,1,      0.061,1,      4.701,1,      0.133,1,      25.00,     -999.0,9,     -999.0,9,     -999.0,9,     -999.0,9,     3.0672,2,     -999.0,9
320620170703,        P06,     123,          1,         17,         17,2,20170805,       2220,   -32.4998,  -162.4887,       5060,  1314.6,   3.4171,  34.4152,2,  34.4239,2, 177.9002,2, 177.8595,2,    55.9,2,   33.83,2,    0.00,2,    2.34,2,   0.242,2,   0.137,2,   0.0000,2,  2232.6,2, 2317.13,2,   7.5779,2, -999.00,9, -999.00,9, -999.00,  -999.0,9, -999.00,9,     -999.0,9,  -999.0,9, 20170805,     2130, -32.4998,-162.4884,        0.0,1,      0.060,1,      4.701,1,      0.133,1,      25.00,     -999.0,9,     -999.0,9,     -999.0,9,     -999.0,9,     3.3443,2,     -999.0,9
320620170703,        P06,     123,          1,         18,         18,2,20170805,       2220,   -32.4998,  -162.4887,       5060,  1211.3,   3.8759,  34.3676,2,  34.3790,2, 186.3538,2, 185.7612,2,    45.4,2,   33.01,2,    0.00,2,    2.28,2,   0.480,2,   0.249,2,   0.0000,2,  2217.7,2, -999.00,9,   7.5904,2, -999.00,9, -999.00,9, -999.00,  -999.0,9, -999.00,9,     -999.0,9,  -999.0,9, 20170805,     2133, -32.4998,-162.4889,        0.0,1,      0.060,1,      4.701,1,      0.133,1,      24.99,     -999.0,9,     -999.0,9,     -999.0,9,     -999.0,9,     3.7308,2,     -999.0,9
320620170703,        P06,     123,          1,         19,         19,2,20170805,       2220,   -32.4998,  -162.4887,       5060,  1108.2,   4.4006,  34.3329,2,  34.3384,2, 196.9599,2, 196.0878,2,    34.6,2,   31.58,2,    0.00,2,    2.16,2,   0.899,2,   0.444,2,   0.0680,2,  2201.8,2, 2301.88,2,   7.6103,2, -999.00,9, -999.00,9, -999.00,  -999.0,9, -999.00,9,     -999.0,9,  -999.0,9, 20170805,     2136, -32.4998,-162.4887,        0.0,1,      0.058,1,      4.701,1,      0.133,1,      25.00,     -999.0,9,     -999.0,9,     -999.0,9,     -999.0,9,     4.2614,2,     -999.0,9
320620170703,        P06,     123,          1,         20,         20,2,20170805,       2220,   -32.4998,  -162.4887,       5060,  1011.2,   4.9318,  34.3167,2,  34.3197,2, 203.7694,2, 204.7302,2,    26.9,2,   30.09,2,    0.00,2,    2.06,2,   1.286,2,   0.625,2,   0.1630,2,  2187.1,2, 2289.48,2,   7.6301,2, -999.00,9, -999.00,9, -999.00,  -999.0,9, -999.00,9,     -999.0,9,  -999.0,9, 20170805,     2139, -32.4998,-162.4886,        0.0,1,      0.060,1,      4.700,1,      0.135,1,      24.98,     -999.0,9,     -999.0,9,     -999.0,9,     -999.0,9,     4.7459,2,     -999.0,9
320620170703,        P06,     123,          1,         21,         21,2,20170805,       2220,   -32.4998,  -162.4887,       5060,   908.1,   5.6180,  34.3159,2,  34.3123,2, 217.6827,2, 218.1850,2,    17.6,2,   27.63,2,    0.00,2,    1.89,2,   1.798,2,   0.913,2,   0.4380,2,  2167.8,2, 2283.08,2,   7.6603,2, -999.00,9, -999.00,9, -999.00,  -999.0,9, -999.00,9,     -999.0,9,  -999.0,9, 20170805,     2143, -32.4998,-162.4886,        0.0,1,      0.058,1,      4.699,1,      0.142,1,      25.00,     -999.0,9,     -999.0,9,     -999.0,9,     -999.0,9,     5.4611,2,     -999.0,9
320620170703,        P06,     123,          1,         22,         22,2,20170805,       2220,   -32.4998,  -162.4887,       5060,   806.7,   6.1923,  34.3260,2,  34.3242,2, 231.6692,2, 232.1264,2,    11.0,2,   25.00,2,    0.00,2,    1.70,2,   2.574,2,   1.323,2,   0.5560,2,  2155.2,2, -999.00,9,   7.6893,2, -999.00,9, -999.00,9, -999.00,  -999.0,9, -999.00,9,     -999.0,9,  -999.0,9, 20170805,     2146, -32.4998,-162.4886,        0.0,1,      0.059,1,      4.698,1,      0.137,1,      24.98,     -999.0,9,     -999.0,9,     -999.0,9,     -999.0,9,     6.1455,2,     -999.0,9
320620170703,        P06,     123,          1,         23,         23,2,20170805,       2220,   -32.4998,  -162.4887,       5060,   708.3,   6.7590,  34.3598,2,  34.3558,2, 236.4664,2, 237.3697,2,     8.1,2,   23.14,2,    0.00,2,    1.57,2,   3.204,2,   1.673,2,   0.8140,2,  2147.8,6, 2276.53,2,   7.7048,2, -999.00,9, -999.00,9, -999.00,  -999.0,9, -999.00,9,     -999.0,9,  -999.0,9, 20170805,     2149, -32.4998,-162.4888,        0.0,1,      0.059,1,      4.698,1,      0.136,1,      25.00,     -999.0,9,     -999.0,9,     -999.0,9,     -999.0,9,     6.7016,2,     -999.0,9
320620170703,        P06,     123,          1,         24,         24,4,20170805,       2220,   -32.4998,  -162.4887,       5060,   606.0,   7.4008,  34.4112,3,  34.3876,3, 237.2879,2, 226.9628,3,    18.5,3,   25.22,3,    0.00,3,    1.72,3,   2.817,3,   1.491,3,   0.7040,3,  2161.5,4, 2284.04,3,   7.6842,4, -999.00,9, -999.00,9, -999.00,  -999.0,9, -999.00,9,     -999.0,9,  -999.0,9, 20170805,     2152, -32.4998,-162.4887,        0.0,1,      0.059,1,      4.696,1,      0.139,1,      25.00,     -999.0,9,     -999.0,9,     -999.0,9,     -999.0,9,     7.3671,3,     -999.0,9
320620170703,        P06,     123,          1,         25,         25,2,20170805,       2220,   -32.4998,  -162.4887,       5060,   504.2,   8.2418,  34.4870,2,  34.4893,2, 232.1280,2, 231.1423,2,     4.8,2,   19.02,2,    0.00,2,    1.31,2,   3.357,2,   1.830,2,   1.0150,2,  2139.7,2, 2281.86,6,   7.7249,2, -999.00,9, -999.00,9, -999.00,  -999.0,9, -999.00,9,     -999.0,9,  -999.0,9, 20170805,     2155, -32.4997,-162.4885,        0.0,1,      0.060,1,      4.696,1,      0.140,1,      25.01,     -999.0,9,     -999.0,9,     -999.0,9,     -999.0,9,     8.2440,2,     -999.0,9
320620170703,        P06,     123,          1,         26,         26,2,20170805,       2220,   -32.4998,  -162.4887,       5060,   404.7,   9.7529,  34.6392,2,  34.6250,2, 217.8147,2, 216.5938,2,     3.8,2,   16.39,2,    0.00,2,    1.14,2,   3.127,2,   1.741,2,   1.2280,2,  2136.6,2, -999.00,9,   7.7474,2, -999.00,9, -999.00,9, -999.00,  -999.0,9, -999.00,9,     -999.0,9,  -999.0,9, 20170805,     2159, -32.4998,-162.4888,        0.0,1,      0.059,1,      4.694,1,      0.142,1,      25.00,     -999.0,9,     -999.0,9,     -999.0,9,     -999.0,9,     9.6359,2,     -999.0,9
320620170703,        P06,     123,          1,         27,         27,2,20170805,       2220,   -32.4998,  -162.4887,       5060,   350.7,  10.8797,  34.7727,2,  34.7734,2, 209.4218,2, 207.8394,2,     3.3,2,   14.13,2,    0.00,2,    1.00,2,   2.969,2,   1.629,2,   1.0820,2,  2130.7,2, 2290.28,2,   7.7715,2, -999.00,9, -999.00,9, -999.00,  -999.0,9, -999.00,9,     -999.0,9,  -999.0,9, 20170805,     2201, -32.4998,-162.4889,        0.0,1,      0.059,1,      4.692,1,      0.140,1,      25.00,     -999.0,9,     -999.0,9,     -999.0,9,     -999.0,9,    10.8962,2,     -999.0,9
320620170703,        P06,     123,          1,         28,         28,2,20170805,       2220,   -32.4998,  -162.4887,       5060,   303.4,  12.4922,  34.9800,2,  34.9648,3, 206.6297,3, 204.5630,2,     2.5,2,   11.05,2,    0.00,2,    0.80,2,-999.000,5,-999.000,5,-999.0000,5,  2123.3,2, 2298.21,2,   7.8063,2, -999.00,9, -999.00,9, -999.00,  -999.0,9, -999.00,9,     -999.0,9,  -999.0,9, 20170805,     2204, -32.4998,-162.4890,        0.0,1,      0.058,1,      4.691,1,      0.138,1,      25.00,     -999.0,9,     -999.0,9,     -999.0,9,     -999.0,9,    12.3940,2,     -999.0,9
320620170703,        P06,     123,          1,         29,         29,2,20170805,       2220,   -32.4998,  -162.4887,       5060,   254.2,  13.6778,  35.1427,2,  35.1366,2, 208.5241,3, 206.4198,2,     2.0,2,    8.29,2,    0.00,2,    0.62,2,   2.406,2,   1.393,2,   1.0250,2,  2115.4,2, 2309.67,2,   7.8409,2, -999.00,9, -999.00,9, -999.00,  -999.0,9, -999.00,9,     -999.0,9,  -999.0,9, 20170805,     2206, -32.4999,-162.4890,        0.0,1,      0.059,1,      4.690,1,      0.136,1,      24.99,     -999.0,9,     -999.0,9,     -999.0,9,     -999.0,9,    13.6682,2,     -999.0,9
320620170703,        P06,     123,          1,         30,         30,2,20170805,       2220,   -32.4998,  -162.4887,       5060,   200.8,  14.7919,  35.2870,2,  35.2982,2, 207.7517,2, 207.1315,2,     1.4,2,    5.99,2,    0.00,2,    0.48,2,   2.443,2,   1.436,2,   1.2530,2,  2104.6,2, 2315.33,2,   7.8754,2, -999.00,9, -999.00,9, -999.00,  -999.0,9, -999.00,9,     -999.0,9,  -999.0,9, 20170805,     2209, -32.4997,-162.4888,        0.0,1,      0.060,1,      4.689,1,      0.135,1,      25.01,     -999.0,9,     -999.0,9,     -999.0,9,     -999.0,9,    14.9314,2,     -999.0,9
320620170703,        P06,     123,          1,         31,         31,4,20170805,       2220,   -32.4998,  -162.4887,       5060,   150.5,  16.0992,  35.4387,3,  35.2406,3, 210.9682,2, 211.3970,2,     1.9,3,    7.38,3,    0.02,3,    0.56,3,   2.551,3,   1.506,3,   1.3880,3,  2105.8,4, 2311.39,3,   7.8713,4, -999.00,9, -999.00,9, -999.00,  -999.0,9, -999.00,9,     -999.0,9,  -999.0,9, 20170805,     2211, -32.4996,-162.4885,        0.0,1,      0.077,1,      4.682,1,      0.141,1,      25.02,     -999.0,9,     -999.0,9,     -999.0,9,     -999.0,9,    16.1201,3,     -999.0,9
320620170703,        P06,     123,          1,         32,         32,2,20170805,       2220,   -32.4998,  -162.4887,       5060,   101.5,  18.0372,  35.6328,2,  35.6476,2, 229.4493,2, 229.5557,2,     0.4,2,    0.14,2,    0.02,2,    0.07,2,   2.126,2,   1.275,2,   1.4590,2,  2062.2,2, 2335.49,2,   7.9898,2, -999.00,9, -999.00,9, -999.00,  -999.0,9, -999.00,9,     -999.0,9,  -999.0,9, 20170805,     2213, -32.4997,-162.4885,        0.0,1,      0.133,1,      4.652,1,      0.175,1,      25.00,     -999.0,9,     -999.0,9,     -999.0,9,     -999.0,9,    18.0370,2,     -999.0,9