BOTTLE,20230922CCHSIOCBG
EXPOCODE,SECT_ID,STNNBR,CASTNO,SAMPNO,BTLNBR,BTLNBR_FLAG_W,DATE,TIME,LATITUDE,LONGITUDE,DEPTH,CTDPRS,CTDTMP,CTDSAL,CTDSAL_FLAG_W,SALNTY,SALNTY_FLAG_W,CTDOXY,CTDOXY_FLAG_W,OXYGEN,OXYGEN_FLAG_W,SILCAT,SILCAT_FLAG_W,NITRAT,NITRAT_FLAG_W,NITRIT,NITRIT_FLAG_W,PHSPHT,PHSPHT_FLAG_W,CFC-11,CFC-11_FLAG_W,CFC-12,CFC-12_FLAG_W,SF6,SF6_FLAG_W,TCARBN,TCARBN_FLAG_W,ALKALI,ALKALI_FLAG_W,PH_TOT,PH_TOT_FLAG_W,DELC13,DELC13_FLAG_W,DELC14,DELC14_FLAG_W,C14ERR,DOC,DOC_FLAG_W,TDN,TDN_FLAG_W,TON,TON_FLAG_W,D15N_NO3,D15N_NO3_FLAG_W,BTL_DATE,BTL_TIME,BTL_LAT,BTL_LON,CTDRINKO,CTDRINKO_FLAG_W,CTDFLUOR,CTDFLUOR_FLAG_W,CTDXMISS,CTDXMISS_FLAG_W,CTDBACKSCATTER,CTDBACKSCATTER_FLAG_W,PH_TMP,D18O_NO3,D18O_NO3_FLAG_W,DOP,DOP_FLAG_W,HPLC,HPLC_FLAG_W,POC,POC_FLAG_W,REFTMP,REFTMP_FLAG_W,TDP,TDP_FLAG_W
,,,,,,,,,,,METERS,DBAR,ITS-90,PSS-78,,PSS-78,,UMOL/KG,,UMOL/KG,,UMOL/KG,,UMOL/KG,,UMOL/KG,,UMOL/KG,,PMOL/KG,,PMOL/KG,,FMOL/KG,,UMOL/KG,,UMOL/KG,,,,/MILLE,,/MILLE,,/MILLE,UMOL/KG,,UMOL/KG,,UMOL/KG,,/MILLE,,,,,,VOLTS,,VOLTS,,VOLTS,,VOLTS,,DEGC,/MILLE,,UMOL/KG,,,,UG/L,,ITS-90,,UMOL/KG,
320620170703,        P06,      85,          1,         33,         33,2,20170725,       1156,   -32.4998,   179.9220,       2713,    59.1,  17.7367,  35.6797,2,  35.6812,2, 228.8888,2, 229.6093,2,     0.6,2,    1.06,2,    0.14,2,    0.15,2,-999.000,9,-999.000,9,-999.0000,9,  2069.3,2, 2338.67,6,   7.9763,2, -999.00,9, -999.00,9, -999.00,  -999.0,9, -999.00,9,     -999.0,9,  -999.0,1, 20170725,     1152, -32.4997, 179.9219,        0.0,1,      0.179,1,      4.613,1,      0.260,1,      25.00,     -999.0,1,     -999.0,1,     -999.0,9,     -999.0,9,    17.7334,2,       0.29,2
320620170703,        P06,      85,          1,         34,         34,2,20170725,       1156,   -32.4998,   179.9220,       2713,    34.7,  17.7305,  35.6799,2,  35.6822,2, 229.2175,2, 229.0391,2,     0.6,2,    1.04,2,    0.14,2,    0.16,2,-999.000,9,-999.000,9,-999.0000,9,  2070.7,2, 2336.50,2,   7.9775,2, -999.00,9, -999.00,9, -999.00,  -999.0,9, -999.00,9,     -999.0,9,  -999.0,1, 20170725,     1154, -32.4997, 179.9219,        0.0,1,      0.193,1,      4.603,1,      0.263,1,      24.98,     -999.0,1,     -999.0,1,     -999.0,9,     -999.0,9,    17.7293,2,       0.31,2
320620170703,        P06,      85,          1,         35,         35,2,20170725,       1156,   -32.4998,   179.9220,       2713,     4.1,  17.7274,  35.6705,2,  35.6678,2, 229.6441,2, 229.7458,2,     0.6,2,    1.05,2,    0.14,2,    0.17,2,   2.309,2,   1.273,2,   1.4090,2,  2068.8,6, 2336.24,2,   7.9771,2, -999.00,9, -999.00,9, -999.00,  -999.0,9, -999.00,9,     -999.0,9,  -999.0,1, 20170725,     1156, -32.4998, 179.9220,        0.0,1,      0.186,1,      4.603,1,      0.246,1,      25.00,     -999.0,1,     -999.0,1,     -999.0,9,     -999.0,9,    17.6954,2,       0.34,2