BOTTLE,20230922CCHSIOCBG
EXPOCODE,SECT_ID,STNNBR,CASTNO,SAMPNO,BTLNBR,BTLNBR_FLAG_W,DATE,TIME,LATITUDE,LONGITUDE,DEPTH,CTDPRS,CTDTMP,CTDSAL,CTDSAL_FLAG_W,SALNTY,SALNTY_FLAG_W,CTDOXY,CTDOXY_FLAG_W,OXYGEN,OXYGEN_FLAG_W,SILCAT,SILCAT_FLAG_W,NITRAT,NITRAT_FLAG_W,NITRIT,NITRIT_FLAG_W,PHSPHT,PHSPHT_FLAG_W,CFC-11,CFC-11_FLAG_W,CFC-12,CFC-12_FLAG_W,SF6,SF6_FLAG_W,TCARBN,TCARBN_FLAG_W,ALKALI,ALKALI_FLAG_W,PH_TOT,PH_TOT_FLAG_W,DELC13,DELC13_FLAG_W,DELC14,DELC14_FLAG_W,C14ERR,DOC,DOC_FLAG_W,TDN,TDN_FLAG_W,TON,TON_FLAG_W,D15N_NO3,D15N_NO3_FLAG_W,BTL_DATE,BTL_TIME,BTL_LAT,BTL_LON,CTDRINKO,CTDRINKO_FLAG_W,CTDFLUOR,CTDFLUOR_FLAG_W,CTDXMISS,CTDXMISS_FLAG_W,CTDBACKSCATTER,CTDBACKSCATTER_FLAG_W,PH_TMP,D18O_NO3,D18O_NO3_FLAG_W,DOP,DOP_FLAG_W,HPLC,HPLC_FLAG_W,POC,POC_FLAG_W,REFTMP,REFTMP_FLAG_W,TDP,TDP_FLAG_W
,,,,,,,,,,,METERS,DBAR,ITS-90,PSS-78,,PSS-78,,UMOL/KG,,UMOL/KG,,UMOL/KG,,UMOL/KG,,UMOL/KG,,UMOL/KG,,PMOL/KG,,PMOL/KG,,FMOL/KG,,UMOL/KG,,UMOL/KG,,,,/MILLE,,/MILLE,,/MILLE,UMOL/KG,,UMOL/KG,,UMOL/KG,,/MILLE,,,,,,VOLTS,,VOLTS,,VOLTS,,VOLTS,,DEGC,/MILLE,,UMOL/KG,,,,UG/L,,ITS-90,,UMOL/KG,
320620170703,        P06,      36,          1,          1,         37,2,20170711,       2033,   -30.0797,   163.5000,       1440,  1446.5,   3.6756,  34.5364,2,  34.5374,2, 163.6730,2, 163.9810,2,    74.6,2,   33.08,2,    0.01,2,    2.30,2,   0.238,2,   0.151,2,   0.0500,2,  2255.6,6, 2338.92,2,   7.5914,2, -999.00,9, -999.00,9, -999.00,  -999.0,9, -999.00,9,     -999.0,9,  -999.0,9, 20170711,     1933, -30.0799, 163.5001,        0.0,1,      0.061,1,      4.698,1,      0.161,1,      25.02,     -999.0,9,     -999.0,9,     -999.0,9,     -999.0,9,     3.6796,2,     -999.0,9
320620170703,        P06,      36,          1,          2,          2,2,20170711,       2033,   -30.0797,   163.5000,       1440,  1401.0,   3.8945,  34.5166,2,  34.5166,2, 168.0365,2, 168.0071,2,    68.7,2,   32.57,2,    0.01,2,    2.25,2,-999.000,9,-999.000,9,-999.0000,9,  -999.0,9, -999.00,9,-999.0000,9, -999.00,9, -999.00,9, -999.00,  -999.0,9, -999.00,9,     -999.0,9,  -999.0,9, 20170711,     1935, -30.0799, 163.5003,        0.0,1,      0.061,1,      4.705,1,      0.142,1,     -999.0,     -999.0,9,     -999.0,9,     -999.0,9,     -999.0,9,     3.8950,2,     -999.0,9
320620170703,        P06,      36,          1,          3,         38,2,20170711,       2033,   -30.0797,   163.5000,       1440,  1349.0,   4.1507,  34.5013,2,  34.5011,2, 171.3926,2, 171.0638,2,    62.6,2,   32.05,2,    0.00,2,    2.22,2,   0.369,2,   0.221,2,   0.1250,2,  2237.6,2, 2329.23,2,   7.6031,2, -999.00,9, -999.00,9, -999.00,  -999.0,9, -999.00,9,     -999.0,9,  -999.0,9, 20170711,     1938, -30.0799, 163.5005,        0.0,1,      0.061,1,      4.705,1,      0.143,1,      25.02,     -999.0,9,     -999.0,9,     -999.0,9,     -999.0,9,     4.1441,2,     -999.0,9
320620170703,        P06,      36,          1,          4,          4,2,20170711,       2033,   -30.0797,   163.5000,       1440,  1245.5,   4.6200,  34.4812,2,  34.4801,2, 177.5287,2, 177.3832,2,    52.8,2,   31.05,2,    0.00,2,    2.11,2,-999.000,9,-999.000,9,-999.0000,9,  -999.0,9, -999.00,9,-999.0000,9, -999.00,9, -999.00,9, -999.00,  -999.0,9, -999.00,9,     -999.0,9,  -999.0,9, 20170711,     1941, -30.0799, 163.5004,        0.0,1,      0.061,1,      4.705,1,      0.145,1,     -999.0,     -999.0,9,     -999.0,9,     -999.0,9,     -999.0,9,     4.5952,2,     -999.0,9
320620170703,        P06,      36,          1,          5,         39,2,20170711,       2033,   -30.0797,   163.5000,       1440,  1144.8,   5.1565,  34.4430,2,  34.4426,2, 188.4566,2, 188.1484,2,    39.3,2,   29.60,2,    0.01,2,    2.02,2,   0.786,2,   0.444,2,   0.2810,2,  2205.0,2, -999.00,5,   7.6310,2, -999.00,9, -999.00,9, -999.00,  -999.0,9, -999.00,9,     -999.0,9,  -999.0,9, 20170711,     1944, -30.0798, 163.5001,        0.0,1,      0.059,1,      4.705,1,      0.140,1,      25.02,     -999.0,9,     -999.0,9,     -999.0,9,     -999.0,9,     5.1529,2,     -999.0,9
320620170703,        P06,      36,          1,          6,          6,2,20170711,       2033,   -30.0797,   163.5000,       1440,  1044.8,   5.7401,  34.4300,2,  34.4292,2, 196.4646,2, 197.2348,2,    29.2,2,   27.95,2,    0.00,2,    1.89,2,-999.000,9,-999.000,9,-999.0000,9,  -999.0,9, -999.00,9,-999.0000,9, -999.00,9, -999.00,9, -999.00,  -999.0,9, -999.00,9,     -999.0,9,  -999.0,9, 20170711,     1947, -30.0797, 163.4998,        0.0,1,      0.060,1,      4.705,1,      0.140,1,     -999.0,     -999.0,9,     -999.0,9,     -999.0,9,     -999.0,9,     5.7353,2,     -999.0,9
320620170703,        P06,      36,          1,          7,         40,2,20170711,       2033,   -30.0797,   163.5000,       1440,   942.2,   6.5030,  34.4472,2,  34.4589,2, 202.8615,2, 202.8547,2,    21.2,2,   26.01,2,    0.01,2,    1.75,2,   1.508,6,   0.816,6,   0.4055,6,  2175.6,2, 2279.19,6,   7.6688,2, -999.00,9, -999.00,9, -999.00,  -999.0,9, -999.00,9,     -999.0,9,  -999.0,9, 20170711,     1950, -30.0798, 163.4998,        0.0,1,      0.059,1,      4.705,1,      0.140,1,      25.01,     -999.0,9,     -999.0,9,     -999.0,9,     -999.0,9,     6.4740,2,     -999.0,9
320620170703,        P06,      36,          1,          8,          8,2,20170711,       2033,   -30.0797,   163.5000,       1440,   841.4,   7.1185,  34.4672,2,  34.4667,3, 209.2645,2, 209.0094,2,    14.6,2,   24.07,2,    0.01,2,    1.62,2,-999.000,9,-999.000,9,-999.0000,9,  -999.0,9, -999.00,9,-999.0000,9, -999.00,9, -999.00,9, -999.00,  -999.0,9, -999.00,9,     -999.0,9,  -999.0,9, 20170711,     1953, -30.0798, 163.4999,        0.0,1,      0.059,1,      4.705,1,      0.139,1,     -999.0,     -999.0,9,     -999.0,9,     -999.0,9,     -999.0,9,     7.1417,2,     -999.0,9
320620170703,        P06,      36,          1,          9,         41,2,20170711,       2033,   -30.0797,   163.5000,       1440,   758.0,   7.7632,  34.5321,2,  34.5356,2, 204.9022,2, 204.8745,2,    12.6,2,   22.83,2,    0.01,2,    1.53,2,   2.041,2,   1.163,2,   0.4460,2,  2159.8,2, 2283.64,2,   7.6985,2, -999.00,9, -999.00,9, -999.00,  -999.0,9, -999.00,9,     -999.0,9,  -999.0,9, 20170711,     1956, -30.0798, 163.5003,        0.0,1,      0.060,1,      4.703,1,      0.142,1,      25.02,     -999.0,9,     -999.0,9,     -999.0,9,     -999.0,9,     7.8389,2,     -999.0,9
320620170703,        P06,      36,          1,         10,         10,2,20170711,       2033,   -30.0797,   163.5000,       1440,   642.2,   9.2196,  34.6754,2,  34.6751,2, 202.2107,2, 202.2267,2,     8.6,2,   19.77,2,    0.01,2,    1.33,2,-999.000,9,-999.000,9,-999.0000,9,  -999.0,9, -999.00,9,-999.0000,9, -999.00,9, -999.00,9, -999.00,  -999.0,9, -999.00,9,     -999.0,9,  -999.0,9, 20170711,     1959, -30.0798, 163.5007,        0.0,1,      0.059,1,      4.700,1,      0.146,1,     -999.0,     -999.0,9,     -999.0,9,     -999.0,9,     -999.0,9,     9.2347,2,     -999.0,9
320620170703,        P06,      36,          1,         11,         42,2,20170711,       2033,   -30.0797,   163.5000,       1440,   537.1,  11.4212,  34.9484,2,  34.9500,2, 197.3176,2, 197.4252,2,     5.5,2,   15.33,2,    0.01,2,    1.02,2,   2.414,2,   1.409,2,   0.8340,2,  2139.9,2, 2297.17,2,   7.7748,2, -999.00,9, -999.00,9, -999.00,  -999.0,9, -999.00,9,     -999.0,9,  -999.0,9, 20170711,     2002, -30.0799, 163.5008,        0.0,1,      0.059,1,      4.697,1,      0.145,1,      25.02,     -999.0,9,     -999.0,9,     -999.0,9,     -999.0,9,    11.4660,2,     -999.0,9
320620170703,        P06,      36,          1,         12,         12,2,20170711,       2033,   -30.0797,   163.5000,       1440,   468.9,  12.9523,  35.1397,2,  35.1459,2, 197.6734,2, 197.1843,2,     3.8,2,   12.10,2,    0.01,2,    0.82,2,-999.000,9,-999.000,9,-999.0000,9,  -999.0,9, -999.00,9,-999.0000,9, -999.00,9, -999.00,9, -999.00,  -999.0,9, -999.00,9,     -999.0,9,  -999.0,9, 20170711,     2005, -30.0799, 163.5009,        0.0,1,      0.060,1,      4.695,1,      0.144,1,     -999.0,     -999.0,9,     -999.0,9,     -999.0,9,     -999.0,9,    13.0316,2,     -999.0,9
320620170703,        P06,      36,          1,         13,         43,2,20170711,       2033,   -30.0797,   163.5000,       1440,   419.3,  14.0302,  35.2586,2,  35.2558,2, 197.6350,2, 198.1392,2,     3.0,2,   10.35,2,    0.01,2,    0.71,2,   2.272,2,   1.414,2,   0.9790,2,  2120.5,2, 2309.35,2,   7.8420,2, -999.00,9, -999.00,9, -999.00,  -999.0,9, -999.00,9,     -999.0,9,  -999.0,9, 20170711,     2007, -30.0799, 163.5008,        0.0,1,      0.059,1,      4.694,1,      0.146,1,      25.01,     -999.0,9,     -999.0,9,     -999.0,9,     -999.0,9,    14.0231,2,     -999.0,9
320620170703,        P06,      36,          1,         14,         14,2,20170711,       2033,   -30.0797,   163.5000,       1440,   369.2,  15.0125,  35.3637,2,  35.3656,2, 196.8425,2, 196.3259,2,     2.4,2,    8.74,2,    0.01,2,    0.62,2,-999.000,9,-999.000,9,-999.0000,9,  -999.0,9, -999.00,9,-999.0000,9, -999.00,9, -999.00,9, -999.00,  -999.0,9, -999.00,9,     -999.0,9,  -999.0,9, 20170711,     2009, -30.0799, 163.5008,        0.0,1,      0.060,1,      4.692,1,      0.146,1,     -999.0,     -999.0,9,     -999.0,9,     -999.0,9,     -999.0,9,    15.0932,2,     -999.0,9
320620170703,        P06,      36,          1,         15,         15,2,20170711,       2033,   -30.0797,   163.5000,       1440,   318.8,  16.5682,  35.4715,2,  35.4667,2, 193.0789,2, 194.0780,2,     1.9,2,    7.17,2,    0.01,2,    0.50,2,   2.114,2,   1.329,2,   1.0120,2,  2100.9,2, 2319.82,2,   7.8978,2, -999.00,9, -999.00,9, -999.00,  -999.0,9, -999.00,9,     -999.0,9,  -999.0,9, 20170711,     2011, -30.0799, 163.5008,        0.0,1,      0.059,1,      4.693,1,      0.146,1,      25.01,     -999.0,9,     -999.0,9,     -999.0,9,     -999.0,9,    16.4714,2,     -999.0,9
320620170703,        P06,      36,          1,         16,         16,2,20170711,       2033,   -30.0797,   163.5000,       1440,   268.4,  17.6640,  35.5883,2,  35.5969,2, 195.0925,2, 194.5102,2,     1.2,2,    5.29,2,    0.02,2,    0.39,2,-999.000,9,-999.000,9,-999.0000,9,  -999.0,9, -999.00,9,-999.0000,9, -999.00,9, -999.00,9, -999.00,  -999.0,9, -999.00,9,     -999.0,9,  -999.0,9, 20170711,     2013, -30.0799, 163.5008,        0.0,1,      0.059,1,      4.690,1,      0.149,1,     -999.0,     -999.0,9,     -999.0,9,     -999.0,9,     -999.0,9,    17.8133,2,     -999.0,9
320620170703,        P06,      36,          1,         17,         17,2,20170711,       2033,   -30.0797,   163.5000,       1440,   238.3,  18.2252,  35.6284,2,  35.6437,2, 196.4479,2, 195.2316,2,     1.0,2,    4.53,2,    0.02,2,    0.34,2,   1.922,2,   1.261,2,   0.9900,2,  2084.5,2, 2330.38,2,   7.9465,2, -999.00,9, -999.00,9, -999.00,  -999.0,9, -999.00,9,     -999.0,9,  -999.0,9, 20170711,     2015, -30.0799, 163.5008,        0.0,1,      0.061,1,      4.688,1,      0.154,1,      25.02,     -999.0,9,     -999.0,9,     -999.0,9,     -999.0,9,    18.4542,2,     -999.0,9
320620170703,        P06,      36,          1,         18,         18,2,20170711,       2033,   -30.0797,   163.5000,       1440,   212.8,  18.8077,  35.6794,2,  35.6919,2, 196.0187,2, 197.2757,2,     0.8,2,    3.80,2,    0.03,2,    0.30,2,-999.000,9,-999.000,9,-999.0000,9,  -999.0,9, -999.00,9,-999.0000,9, -999.00,9, -999.00,9, -999.00,  -999.0,9, -999.00,9,     -999.0,9,  -999.0,9, 20170711,     2017, -30.0799, 163.5009,        0.0,1,      0.061,1,      4.683,1,      0.157,1,     -999.0,     -999.0,9,     -999.0,9,     -999.0,9,     -999.0,9,    19.1435,2,     -999.0,9
320620170703,        P06,      36,          1,         19,         19,2,20170711,       2033,   -30.0797,   163.5000,       1440,   187.8,  19.5311,  35.7373,2,  35.7521,2, 207.4685,3, 203.1493,2,     0.5,2,    2.55,2,    0.09,2,    0.21,2,   1.835,2,   1.209,2,   1.0420,2,  2069.3,2, 2336.76,2,   7.9843,2, -999.00,9, -999.00,9, -999.00,  -999.0,9, -999.00,9,     -999.0,9,  -999.0,9, 20170711,     2019, -30.0799, 163.5008,        0.0,1,      0.066,1,      4.680,1,      0.159,1,      25.02,     -999.0,9,     -999.0,9,     -999.0,9,     -999.0,9,    19.7345,2,     -999.0,9
320620170703,        P06,      36,          1,         20,         20,2,20170711,       2033,   -30.0797,   163.5000,       1440,   163.6,  20.1650,  35.8432,2,  35.8471,2, 220.3677,2, 219.9092,2,     0.3,2,    0.34,2,    0.17,2,    0.09,2,-999.000,9,-999.000,9,-999.0000,9,  -999.0,9, -999.00,9,-999.0000,9, -999.00,9, -999.00,9, -999.00,  -999.0,9, -999.00,9,     -999.0,9,  -999.0,9, 20170711,     2021, -30.0798, 163.5006,        0.0,1,      0.155,1,      4.641,1,      0.193,1,     -999.0,     -999.0,9,     -999.0,9,     -999.0,9,     -999.0,9,    20.1867,2,     -999.0,9
320620170703,        P06,      36,          1,         21,         21,2,20170711,       2033,   -30.0797,   163.5000,       1440,   138.0,  20.1884,  35.8481,2,  35.8497,2, 220.5141,2, 220.4301,2,     0.2,2,    0.28,2,    0.17,2,    0.09,2,   1.754,2,   1.186,2,   1.0930,2,  2052.2,2, 2344.48,2,   8.0212,2, -999.00,9, -999.00,9, -999.00,  -999.0,9, -999.00,9,     -999.0,9,  -999.0,9, 20170711,     2023, -30.0797, 163.5004,        0.0,1,      0.157,1,      4.639,1,      0.191,1,      25.02,     -999.0,9,     -999.0,9,     -999.0,9,     -999.0,9,    20.1903,2,     -999.0,9
320620170703,        P06,      36,          1,         22,         22,2,20170711,       2033,   -30.0797,   163.5000,       1440,   113.1,  20.1966,  35.8502,2,  35.8510,2, 220.5600,2, 221.3244,2,     0.2,2,    0.23,2,    0.17,2,    0.07,2,-999.000,9,-999.000,9,-999.0000,9,  -999.0,9, -999.00,9,-999.0000,9, -999.00,9, -999.00,9, -999.00,  -999.0,9, -999.00,9,     -999.0,9,  -999.0,9, 20170711,     2025, -30.0796, 163.5001,        0.0,1,      0.162,1,      4.637,1,      0.194,1,     -999.0,     -999.0,9,     -999.0,9,     -999.0,9,     -999.0,9,    20.1924,2,     -999.0,9
320620170703,        P06,      36,          1,         23,         23,2,20170711,       2033,   -30.0797,   163.5000,       1440,    85.2,  20.1926,  35.8499,2,  35.8507,2, 220.4246,2, 220.5654,2,     0.2,2,    0.27,2,    0.17,2,    0.09,2,   1.794,2,   1.174,2,   1.0770,2,  2052.9,2, 2345.19,2,   8.0218,2, -999.00,9, -999.00,9, -999.00,  -999.0,9, -999.00,9,     -999.0,9,  -999.0,9, 20170711,     2027, -30.0796, 163.4998,        0.0,1,      0.166,1,      4.638,1,      0.199,1,      25.01,     -999.0,9,     -999.0,9,     -999.0,9,     -999.0,9,    20.1872,2,     -999.0,9
320620170703,        P06,      36,          1,         24,         24,2,20170711,       2033,   -30.0797,   163.5000,       1440,    61.8,  20.1907,  35.8496,2,  35.8501,2, 220.3592,2, 220.0177,2,     0.2,2,    0.26,2,    0.17,2,    0.09,2,-999.000,9,-999.000,9,-999.0000,9,  -999.0,9, -999.00,9,-999.0000,9, -999.00,9, -999.00,9, -999.00,  -999.0,9, -999.00,9,     -999.0,9,  -999.0,9, 20170711,     2029, -30.0796, 163.4998,        0.0,1,      0.162,1,      4.638,1,      0.194,1,     -999.0,     -999.0,9,     -999.0,9,     -999.0,9,     -999.0,9,    20.1824,2,     -999.0,9
320620170703,        P06,      36,          1,         25,         25,2,20170711,       2033,   -30.0797,   163.5000,       1440,    36.9,  20.1757,  35.8496,2,  35.8505,2, 220.2258,2, 219.7401,2,     0.2,2,    0.24,2,    0.17,2,    0.09,2,   1.772,2,   1.183,2,   1.0960,2,  2053.4,2, 2345.21,2,   8.0227,2, -999.00,9, -999.00,9, -999.00,  -999.0,9, -999.00,9,     -999.0,9,  -999.0,9, 20170711,     2031, -30.0796, 163.4999,        0.0,1,      0.168,1,      4.638,1,      0.191,1,      25.02,     -999.0,9,     -999.0,9,     -999.0,9,     -999.0,9,    20.1808,2,     -999.0,9
320620170703,        P06,      36,          1,         26,         26,2,20170711,       2033,   -30.0797,   163.5000,       1440,     5.3,  20.1762,  35.8486,2,  35.8507,2, 220.2010,2, 220.5338,2,     0.2,2,    0.24,2,    0.17,2,    0.10,2,   1.774,2,   1.178,2,   1.1350,2,  2052.7,6, 2342.88,2,   8.0220,2,    0.84,2,   46.50,2,    4.29,  -999.0,9, -999.00,9,     -999.0,9,  -999.0,9, 20170711,     2033, -30.0797, 163.5000,        0.0,1,      0.166,1,      4.640,1,      0.196,1,      25.01,     -999.0,9,     -999.0,9,     -999.0,9,     -999.0,9,    20.1754,2,     -999.0,9