BOTTLE,20230922CCHSIOCBG
EXPOCODE,SECT_ID,STNNBR,CASTNO,SAMPNO,BTLNBR,BTLNBR_FLAG_W,DATE,TIME,LATITUDE,LONGITUDE,DEPTH,CTDPRS,CTDTMP,CTDSAL,CTDSAL_FLAG_W,SALNTY,SALNTY_FLAG_W,CTDOXY,CTDOXY_FLAG_W,OXYGEN,OXYGEN_FLAG_W,SILCAT,SILCAT_FLAG_W,NITRAT,NITRAT_FLAG_W,NITRIT,NITRIT_FLAG_W,PHSPHT,PHSPHT_FLAG_W,CFC-11,CFC-11_FLAG_W,CFC-12,CFC-12_FLAG_W,SF6,SF6_FLAG_W,TCARBN,TCARBN_FLAG_W,ALKALI,ALKALI_FLAG_W,PH_TOT,PH_TOT_FLAG_W,DELC13,DELC13_FLAG_W,DELC14,DELC14_FLAG_W,C14ERR,DOC,DOC_FLAG_W,TDN,TDN_FLAG_W,TON,TON_FLAG_W,D15N_NO3,D15N_NO3_FLAG_W,BTL_DATE,BTL_TIME,BTL_LAT,BTL_LON,CTDRINKO,CTDRINKO_FLAG_W,CTDFLUOR,CTDFLUOR_FLAG_W,CTDXMISS,CTDXMISS_FLAG_W,CTDBACKSCATTER,CTDBACKSCATTER_FLAG_W,PH_TMP,D18O_NO3,D18O_NO3_FLAG_W,DOP,DOP_FLAG_W,HPLC,HPLC_FLAG_W,POC,POC_FLAG_W,REFTMP,REFTMP_FLAG_W,TDP,TDP_FLAG_W
,,,,,,,,,,,METERS,DBAR,ITS-90,PSS-78,,PSS-78,,UMOL/KG,,UMOL/KG,,UMOL/KG,,UMOL/KG,,UMOL/KG,,UMOL/KG,,PMOL/KG,,PMOL/KG,,FMOL/KG,,UMOL/KG,,UMOL/KG,,,,/MILLE,,/MILLE,,/MILLE,UMOL/KG,,UMOL/KG,,UMOL/KG,,/MILLE,,,,,,VOLTS,,VOLTS,,VOLTS,,VOLTS,,DEGC,/MILLE,,UMOL/KG,,,,UG/L,,ITS-90,,UMOL/KG,
320620170703,        P06,     107,          1,         33,         33,2,20170731,       0747,   -32.4998,  -171.7600,       2889,    66.0,  17.5091,  35.6880,2,  35.6905,2, 231.6577,2, 231.5284,2,     0.4,2,    0.31,2,    0.04,2,    0.13,2,-999.000,9,-999.000,9,-999.0000,9,  2067.5,2, 2334.50,2,   7.9793,2, -999.00,9, -999.00,9, -999.00,  -999.0,9, -999.00,9,     -999.0,9,  -999.0,9, 20170731,      743, -32.4998,-171.7599,        0.0,1,      0.188,1,      4.631,1,      0.208,1,      25.02,     -999.0,9,     -999.0,9,     -999.0,9,     -999.0,9,    17.5265,2,     -999.0,9
320620170703,        P06,     107,          1,         34,         34,2,20170731,       0747,   -32.4998,  -171.7600,       2889,    40.9,  17.5115,  35.6876,2,  35.6909,2, 232.4674,2, 231.7915,2,     0.4,2,    0.33,2,    0.04,2,    0.12,2,-999.000,9,-999.000,9,-999.0000,9,  -999.0,9, -999.00,9,-999.0000,9, -999.00,9, -999.00,9, -999.00,  -999.0,9, -999.00,9,     -999.0,9,  -999.0,9, 20170731,      744, -32.4998,-171.7600,        0.0,1,      0.191,1,      4.619,1,      0.210,1,     -999.0,     -999.0,9,     -999.0,9,     -999.0,9,     -999.0,9,    17.5366,2,     -999.0,9
320620170703,        P06,     107,          1,         35,         35,2,20170731,       0747,   -32.4998,  -171.7600,       2889,    20.1,  17.5168,  35.6879,2,  35.6909,2, 232.4590,2, 231.8332,2,     0.5,2,    0.33,2,    0.04,2,    0.13,2,-999.000,9,-999.000,9,-999.0000,9,  2070.8,2, -999.00,9,   7.9801,2, -999.00,9, -999.00,9, -999.00,  -999.0,9, -999.00,9,     -999.0,9,  -999.0,9, 20170731,      746, -32.4998,-171.7600,        0.0,1,      0.184,1,      4.617,1,      0.212,1,      25.03,     -999.0,9,     -999.0,9,     -999.0,9,     -999.0,9,    17.5341,2,     -999.0,9
320620170703,        P06,     107,          1,         36,         36,2,20170731,       0747,   -32.4998,  -171.7600,       2889,     5.0,  17.5173,  35.6897,2,  35.6909,2, 231.8110,2, 231.8011,2,     0.5,2,    0.35,2,    0.04,2,    0.14,2,   2.240,2,   1.310,2,   1.3740,2,  2068.6,6, 2339.68,2,   7.9794,2, -999.00,9, -999.00,9, -999.00,  -999.0,9, -999.00,9,     -999.0,9,  -999.0,9, 20170731,      747, -32.4998,-171.7600,        0.0,1,      0.178,1,      4.613,1,      0.253,1,      25.01,     -999.0,9,     -999.0,9,     -999.0,9,     -999.0,9,    17.5203,2,     -999.0,9