BOTTLE,20230922CCHSIOCBG
EXPOCODE,SECT_ID,STNNBR,CASTNO,SAMPNO,BTLNBR,BTLNBR_FLAG_W,DATE,TIME,LATITUDE,LONGITUDE,DEPTH,CTDPRS,CTDTMP,CTDSAL,CTDSAL_FLAG_W,SALNTY,SALNTY_FLAG_W,CTDOXY,CTDOXY_FLAG_W,OXYGEN,OXYGEN_FLAG_W,SILCAT,SILCAT_FLAG_W,NITRAT,NITRAT_FLAG_W,NITRIT,NITRIT_FLAG_W,PHSPHT,PHSPHT_FLAG_W,CFC-11,CFC-11_FLAG_W,CFC-12,CFC-12_FLAG_W,SF6,SF6_FLAG_W,TCARBN,TCARBN_FLAG_W,ALKALI,ALKALI_FLAG_W,PH_TOT,PH_TOT_FLAG_W,DELC13,DELC13_FLAG_W,DELC14,DELC14_FLAG_W,C14ERR,DOC,DOC_FLAG_W,TDN,TDN_FLAG_W,TON,TON_FLAG_W,D15N_NO3,D15N_NO3_FLAG_W,BTL_DATE,BTL_TIME,BTL_LAT,BTL_LON,CTDRINKO,CTDRINKO_FLAG_W,CTDFLUOR,CTDFLUOR_FLAG_W,CTDXMISS,CTDXMISS_FLAG_W,CTDBACKSCATTER,CTDBACKSCATTER_FLAG_W,PH_TMP,D18O_NO3,D18O_NO3_FLAG_W,DOP,DOP_FLAG_W,HPLC,HPLC_FLAG_W,POC,POC_FLAG_W,REFTMP,REFTMP_FLAG_W,TDP,TDP_FLAG_W
,,,,,,,,,,,METERS,DBAR,ITS-90,PSS-78,,PSS-78,,UMOL/KG,,UMOL/KG,,UMOL/KG,,UMOL/KG,,UMOL/KG,,UMOL/KG,,PMOL/KG,,PMOL/KG,,FMOL/KG,,UMOL/KG,,UMOL/KG,,,,/MILLE,,/MILLE,,/MILLE,UMOL/KG,,UMOL/KG,,UMOL/KG,,/MILLE,,,,,,VOLTS,,VOLTS,,VOLTS,,VOLTS,,DEGC,/MILLE,,UMOL/KG,,,,UG/L,,ITS-90,,UMOL/KG,
320620170703,        P06,       6,          1,          1,         37,2,20170705,       0631,   -30.0801,   153.8334,       1973,  1985.4,   2.2142,  34.6787,2,  34.6789,2, 169.1759,2, 169.2775,2,    94.6,2,   33.25,2,    0.00,2,    2.31,2,   0.015,2,   0.015,2,   0.0000,4,  2270.7,6, 2362.84,2,   7.5836,2, -999.00,9, -999.00,9, -999.00,  -999.0,9, -999.00,9,     -999.0,9,  -999.0,9, 20170705,      432, -30.0798, 153.8338,        0.0,1,      0.061,1,      0.006,1,      0.142,1,      25.02,     -999.0,9,     -999.0,9,     -999.0,9,     -999.0,9,     2.2143,2,     -999.0,9
320620170703,        P06,       6,          1,          3,         38,2,20170705,       0631,   -30.0801,   153.8334,       1973,  1917.4,   2.2572,  34.6723,2,  34.6730,2, 167.7106,2, 167.7948,2,    94.9,2,   33.42,2,    0.00,2,    2.33,2,   0.040,2,   0.079,2,   0.0000,4,  -999.0,9, -999.00,9,-999.0000,9, -999.00,9, -999.00,9, -999.00,  -999.0,9, -999.00,9,     -999.0,9,  -999.0,9, 20170705,      437, -30.0798, 153.8338,        0.0,1,      0.061,1,      0.006,1,      0.141,1,     -999.0,     -999.0,9,     -999.0,9,     -999.0,9,     -999.0,9,     2.2592,2,     -999.0,9
320620170703,        P06,       6,          1,          2,          2,2,20170705,       0631,   -30.0801,   153.8334,       1973,  1917.4,   2.2572,  34.6723,2,  34.6728,2, 167.9676,2, 167.8137,2,    94.8,2,   33.40,2,    0.00,2,    2.33,2,   0.018,2,   0.017,2,   0.0000,4,  -999.0,9, -999.00,9,-999.0000,9, -999.00,9, -999.00,9, -999.00,  -999.0,9, -999.00,9,     -999.0,9,  -999.0,9, 20170705,      437, -30.0798, 153.8338,        0.0,1,      0.061,1,      0.006,1,      0.141,1,     -999.0,     -999.0,9,     -999.0,9,     -999.0,9,     -999.0,9,     2.2590,2,     -999.0,9
320620170703,        P06,       6,          1,          4,          4,2,20170705,       0631,   -30.0801,   153.8334,       1973,  1834.7,   2.3765,  34.6560,2,  34.6547,2, 162.5354,2, 162.3803,2,    95.4,2,   33.87,2,    0.00,2,    2.35,2,   0.043,2,   0.085,2,   0.0000,4,  2274.7,2, 2362.54,2,   7.5763,2, -999.00,9, -999.00,9, -999.00,  -999.0,9, -999.00,9,     -999.0,9,  -999.0,9, 20170705,      442, -30.0798, 153.8338,        0.0,1,      0.063,1,      0.006,1,      0.143,1,      25.03,     -999.0,9,     -999.0,9,     -999.0,9,     -999.0,9,     2.3812,2,     -999.0,9
320620170703,        P06,       6,          1,          5,         39,2,20170705,       0631,   -30.0801,   153.8334,       1973,  1734.2,   2.5451,  34.6327,2,  34.6323,2, 156.3534,2, 156.5043,2,    96.3,2,   34.42,2,    0.00,2,    2.41,2,-999.000,9,-999.000,9,-999.0000,9,  -999.0,9, -999.00,9,-999.0000,9, -999.00,9, -999.00,9, -999.00,  -999.0,9, -999.00,9,     -999.0,9,  -999.0,9, 20170705,      447, -30.0798, 153.8338,        0.0,1,      0.062,1,      0.006,1,      0.142,1,     -999.0,     -999.0,9,     -999.0,9,     -999.0,9,     -999.0,9,     2.5467,2,     -999.0,9
320620170703,        P06,       6,          1,          6,          6,2,20170705,       0631,   -30.0801,   153.8334,       1973,  1632.2,   2.7116,  34.6141,2,  34.6113,2, 152.2480,2, 152.3265,2,    95.4,2,   34.74,2,    0.00,2,    2.43,2,   0.048,2,   0.097,2,   0.0000,4,  -999.0,9, -999.00,9,-999.0000,9, -999.00,9, -999.00,9, -999.00,  -999.0,9, -999.00,9,     -999.0,9,  -999.0,9, 20170705,      451, -30.0798, 153.8338,        0.0,1,      0.062,1,      0.006,1,      0.147,1,     -999.0,     -999.0,9,     -999.0,9,     -999.0,9,     -999.0,9,     2.7334,2,     -999.0,9
320620170703,        P06,       6,          1,          7,         40,2,20170705,       0631,   -30.0801,   153.8334,       1973,  1530.9,   2.9682,  34.5882,2,  34.5861,2, 150.6226,2, 150.5289,2,    92.4,2,   34.84,2,    0.00,2,    2.43,2,-999.000,9,-999.000,9,-999.0000,9,  2277.9,2, 2362.42,2,   7.5697,2, -999.00,9, -999.00,9, -999.00,  -999.0,9, -999.00,9,     -999.0,9,  -999.0,9, 20170705,      456, -30.0798, 153.8338,        0.0,1,      0.061,1,      0.006,1,      0.143,1,      25.01,     -999.0,9,     -999.0,9,     -999.0,9,     -999.0,9,     2.9832,2,     -999.0,9
320620170703,        P06,       6,          1,          8,          8,2,20170705,       0631,   -30.0801,   153.8334,       1973,  1429.8,   3.2109,  34.5659,2,  34.5584,2, 153.4022,2, 153.2163,2,    85.1,2,   34.46,2,    0.00,2,    2.42,2,   0.074,2,   0.098,2,   0.0000,4,  -999.0,9, -999.00,9,-999.0000,9, -999.00,9, -999.00,9, -999.00,  -999.0,9, -999.00,9,     -999.0,9,  -999.0,9, 20170705,      501, -30.0798, 153.8338,        0.0,1,      0.061,1,      0.006,1,      0.142,1,     -999.0,     -999.0,9,     -999.0,9,     -999.0,9,     -999.0,9,     3.2765,2,     -999.0,9
320620170703,        P06,       6,          1,          9,         41,2,20170705,       0631,   -30.0801,   153.8334,       1973,  1345.6,   3.4405,  34.5453,2,  34.5402,2, 156.8464,2, 156.9866,2,    78.5,2,   33.93,2,    0.00,2,    2.37,2,-999.000,9,-999.000,9,-999.0000,9,  2259.4,2, 2347.77,2,   7.5811,2, -999.00,9, -999.00,9, -999.00,  -999.0,9, -999.00,9,     -999.0,9,  -999.0,9, 20170705,      507, -30.0798, 153.8338,        0.0,1,      0.061,1,      0.006,1,      0.141,1,      25.04,     -999.0,9,     -999.0,9,     -999.0,9,     -999.0,9,     3.4918,2,     -999.0,9
320620170703,        P06,       6,          1,         10,         10,2,20170705,       0631,   -30.0801,   153.8334,       1973,  1272.8,   3.6262,  34.5299,2,  34.5250,2, 160.1951,2, 160.1898,2,    73.5,2,   33.58,2,    0.00,2,    2.34,2,   0.144,2,   0.126,2,   0.7730,4,  -999.0,9, -999.00,9,-999.0000,9, -999.00,9, -999.00,9, -999.00,  -999.0,9, -999.00,9,     -999.0,9,  -999.0,9, 20170705,      511, -30.0798, 153.8337,        0.0,1,      0.060,1,      0.006,1,      0.141,1,     -999.0,     -999.0,9,     -999.0,9,     -999.0,9,     -999.0,9,     3.6772,2,     -999.0,9
320620170703,        P06,       6,          1,         11,         42,2,20170705,       0631,   -30.0801,   153.8334,       1973,  1197.4,   3.9130,  34.5078,2,  34.5011,2, 165.5726,2, 165.5223,2,    64.8,2,   32.88,2,    0.00,2,    2.28,2,-999.000,9,-999.000,9,-999.0000,9,  -999.0,9, -999.00,9,-999.0000,9, -999.00,9, -999.00,9, -999.00,  -999.0,9, -999.00,9,     -999.0,9,  -999.0,9, 20170705,      516, -30.0798, 153.8337,        0.0,1,      0.061,1,      0.006,1,      0.144,1,     -999.0,     -999.0,9,     -999.0,9,     -999.0,9,     -999.0,9,     3.9674,2,     -999.0,9
320620170703,        P06,       6,          1,         12,         12,2,20170705,       0631,   -30.0801,   153.8334,       1973,  1120.8,   4.2649,  34.4823,2,  34.4783,2, 171.4968,2, 171.0822,2,    56.3,2,   32.13,2,    0.00,2,    2.23,2,   0.349,2,   0.226,2,   0.5560,4,  2228.8,2, 2323.70,2,   7.6034,2, -999.00,9, -999.00,9, -999.00,  -999.0,9, -999.00,9,     -999.0,9,  -999.0,9, 20170705,      520, -30.0798, 153.8338,        0.0,1,      0.060,1,      0.006,1,      0.144,1,      25.03,     -999.0,9,     -999.0,9,     -999.0,9,     -999.0,9,     4.3095,2,     -999.0,9
320620170703,        P06,       6,          1,         13,         43,2,20170705,       0631,   -30.0801,   153.8334,       1973,  1044.6,   4.7296,  34.4610,2,  34.4591,2, 177.1256,2, 177.8685,2,    47.2,2,   31.05,2,    0.00,2,    2.14,2,-999.000,9,-999.000,9,-999.0000,9,  -999.0,9, -999.00,9,-999.0000,9, -999.00,9, -999.00,9, -999.00,  -999.0,9, -999.00,9,     -999.0,9,  -999.0,9, 20170705,      524, -30.0798, 153.8337,        0.0,1,      0.060,1,      0.006,1,      0.139,1,     -999.0,     -999.0,9,     -999.0,9,     -999.0,9,     -999.0,9,     4.7333,2,     -999.0,9
320620170703,        P06,       6,          1,         14,         14,2,20170705,       0631,   -30.0801,   153.8334,       1973,   968.5,   5.1525,  34.4500,2,  34.4477,2, 182.4133,2, 182.4445,2,    39.4,2,   30.06,2,    0.00,2,    2.06,2,   0.667,2,   0.384,2,   0.5880,4,  2205.5,2, 2305.51,2,   7.6277,2, -999.00,9, -999.00,9, -999.00,  -999.0,9, -999.00,9,     -999.0,9,  -999.0,9, 20170705,      528, -30.0798, 153.8337,        0.0,1,      0.061,1,      0.006,1,      0.142,1,      25.03,     -999.0,9,     -999.0,9,     -999.0,9,     -999.0,9,     5.1670,2,     -999.0,9
320620170703,        P06,       6,          1,         15,         15,2,20170705,       0631,   -30.0801,   153.8334,       1973,   893.2,   5.5818,  34.4465,2,  34.4453,2, 187.0977,2, 187.2902,2,    32.4,2,   28.98,2,    0.00,2,    1.99,2,-999.000,9,-999.000,9,-999.0000,9,  -999.0,9, -999.00,9,-999.0000,9, -999.00,9, -999.00,9, -999.00,  -999.0,9, -999.00,9,     -999.0,9,  -999.0,9, 20170705,      533, -30.0798, 153.8337,        0.0,1,      0.060,1,      0.006,1,      0.141,1,     -999.0,     -999.0,9,     -999.0,9,     -999.0,9,     -999.0,9,     5.6182,2,     -999.0,9
320620170703,        P06,       6,          1,         16,         16,2,20170705,       0631,   -30.0801,   153.8334,       1973,   817.1,   6.2747,  34.4575,2,  34.4567,2, 192.5740,2, 192.6471,2,    24.0,2,   27.23,2,    0.00,2,    1.86,2,   1.260,2,   0.655,2,   0.6680,4,  2180.0,2, 2291.94,2,   7.6573,2, -999.00,9, -999.00,9, -999.00,  -999.0,9, -999.00,9,     -999.0,9,  -999.0,9, 20170705,      537, -30.0798, 153.8338,        0.0,1,      0.060,1,      0.006,1,      0.143,1,      25.04,     -999.0,9,     -999.0,9,     -999.0,9,     -999.0,9,     6.3108,2,     -999.0,9
320620170703,        P06,       6,          1,         17,         17,2,20170705,       0631,   -30.0801,   153.8334,       1973,   741.1,   7.0581,  34.4898,2,  34.4903,2, 196.8789,2, 196.0390,2,    17.8,2,   25.39,2,    0.00,2,    1.72,2,-999.000,9,-999.000,9,-999.0000,9,  -999.0,9, -999.00,9,-999.0000,9, -999.00,9, -999.00,9, -999.00,  -999.0,9, -999.00,9,     -999.0,9,  -999.0,9, 20170705,      541, -30.0797, 153.8338,        0.0,1,      0.060,1,      0.006,1,      0.145,1,     -999.0,     -999.0,9,     -999.0,9,     -999.0,9,     -999.0,9,     7.0160,2,     -999.0,9
320620170703,        P06,       6,          1,         18,         18,2,20170705,       0631,   -30.0801,   153.8334,       1973,   671.1,   7.7302,  34.5428,2,  34.5398,2, 199.2878,2, 198.5412,2,    13.7,2,   23.65,2,    0.00,2,    1.59,2,   1.983,2,   1.009,2,   0.8260,4,  -999.0,9, -999.00,9,-999.0000,9, -999.00,9, -999.00,9, -999.00,  -999.0,9, -999.00,9,     -999.0,9,  -999.0,9, 20170705,      546, -30.0797, 153.8339,        0.0,1,      0.060,1,      0.006,1,      0.145,1,     -999.0,     -999.0,9,     -999.0,9,     -999.0,9,     -999.0,9,     7.7428,2,     -999.0,9
320620170703,        P06,       6,          1,         19,         19,2,20170705,       0631,   -30.0801,   153.8334,       1973,   619.7,   8.4809,  34.6027,2,  34.5936,2, 199.7090,2, 200.2334,2,    10.7,2,   21.91,2,    0.00,2,    1.48,2,-999.000,9,-999.000,9,-999.0000,9,  2154.3,2, 2287.69,2,   7.7069,2, -999.00,9, -999.00,9, -999.00,  -999.0,9, -999.00,9,     -999.0,9,  -999.0,9, 20170705,      549, -30.0797, 153.8339,        0.0,1,      0.060,1,      0.006,1,      0.146,1,      25.04,     -999.0,9,     -999.0,9,     -999.0,9,     -999.0,9,     8.4235,2,     -999.0,9
320620170703,        P06,       6,          1,         20,         20,2,20170705,       0631,   -30.0801,   153.8334,       1973,   568.9,   8.9943,  34.6587,2,  34.6553,2, 200.8987,2, 201.1690,2,     8.8,2,   20.47,2,    0.00,2,    1.39,2,   2.395,2,   1.256,2,   0.9670,4,  -999.0,9, -999.00,9,-999.0000,9, -999.00,9, -999.00,9, -999.00,  -999.0,9, -999.00,9,     -999.0,9,  -999.0,9, 20170705,      552, -30.0797, 153.8339,        0.0,1,      0.060,1,      0.006,1,      0.145,1,     -999.0,     -999.0,9,     -999.0,9,     -999.0,9,     -999.0,9,     9.0040,2,     -999.0,9
320620170703,        P06,       6,          1,         21,         21,4,20170705,       0631,   -30.0801,   153.8334,       1973,   520.7,   9.2856,  34.6913,3,-999.0000,9, 200.6017,2,-999.0000,9,  -999.0,9, -999.00,9, -999.00,9, -999.00,9,-999.000,9,-999.000,9,-999.0000,9,  -999.0,9, -999.00,9,-999.0000,9, -999.00,9, -999.00,9, -999.00,  -999.0,9, -999.00,9,     -999.0,9,  -999.0,9, 20170705,      555, -30.0797, 153.8339,        0.0,1,      0.059,1,      0.006,1,      0.146,1,     -999.0,     -999.0,9,     -999.0,9,     -999.0,9,     -999.0,9,     9.4704,3,     -999.0,9
320620170703,        P06,       6,          1,         22,         22,2,20170705,       0631,   -30.0801,   153.8334,       1973,   469.1,  10.4797,  34.8364,2,  34.8318,2, 197.3715,3, 199.6649,2,     6.1,2,   17.24,2,    0.00,2,    1.17,2,   2.555,2,   1.369,2,   1.0460,4,  2143.0,2, 2293.36,2,   7.7522,2, -999.00,9, -999.00,9, -999.00,  -999.0,9, -999.00,9,     -999.0,9,  -999.0,9, 20170705,      558, -30.0797, 153.8339,        0.0,1,      0.060,1,      0.006,1,      0.145,1,      25.02,     -999.0,9,     -999.0,9,     -999.0,9,     -999.0,9,    10.4597,2,     -999.0,9
320620170703,        P06,       6,          1,         23,         23,2,20170705,       0631,   -30.0801,   153.8334,       1973,   418.9,  11.5223,  34.9601,2,  34.9368,2, 197.0522,3, 194.6629,2,     5.1,2,   15.57,2,    0.00,2,    1.06,2,-999.000,9,-999.000,9,-999.0000,9,  2137.4,2, 2297.45,2,   7.7739,2, -999.00,9, -999.00,9, -999.00,  -999.0,9, -999.00,9,     -999.0,9,  -999.0,9, 20170705,      601, -30.0797, 153.8338,        0.0,1,      0.060,1,      0.006,1,      0.148,1,      25.04,     -999.0,9,     -999.0,9,     -999.0,9,     -999.0,9,    11.4803,2,     -999.0,9
320620170703,        P06,       6,          1,         24,         24,2,20170705,       0631,   -30.0801,   153.8334,       1973,   367.6,  13.0005,  35.1144,2,  35.1110,2, 186.6508,2, 179.4388,3,     3.8,2,   12.85,2,    0.00,2,    0.89,2,   2.516,2,   1.370,2,   1.1080,4,  -999.0,9, -999.00,9,-999.0000,9, -999.00,9, -999.00,9, -999.00,  -999.0,9, -999.00,9,     -999.0,9,  -999.0,9, 20170705,      604, -30.0797, 153.8338,        0.0,1,      0.060,1,      0.006,1,      0.161,1,     -999.0,     -999.0,9,     -999.0,9,     -999.0,9,     -999.0,9,    13.0552,2,     -999.0,9
320620170703,        P06,       6,          1,         25,         25,2,20170705,       0631,   -30.0801,   153.8334,       1973,   317.8,  14.1380,  35.2117,2,  35.2434,2, 187.1780,2, 186.7330,2,     2.9,2,   10.82,2,    0.00,2,    0.76,2,-999.000,9,-999.000,9,-999.0000,9,  2117.3,2, 2310.38,2,   7.8411,2, -999.00,9, -999.00,9, -999.00,  -999.0,9, -999.00,9,     -999.0,9,  -999.0,9, 20170705,      606, -30.0798, 153.8338,        0.0,1,      0.058,1,      0.006,1,      0.155,1,      25.04,     -999.0,9,     -999.0,9,     -999.0,9,     -999.0,9,    14.5242,2,     -999.0,9
320620170703,        P06,       6,          1,         26,         26,2,20170705,       0631,   -30.0801,   153.8334,       1973,   266.5,  15.3141,  35.3255,2,  35.3902,2, 183.5226,2, 185.1641,2,     2.1,2,    8.63,2,    0.00,2,    0.62,2,   2.400,2,   1.318,2,   1.0900,4,  -999.0,9, -999.00,9,-999.0000,9, -999.00,9, -999.00,9, -999.00,  -999.0,9, -999.00,9,     -999.0,9,  -999.0,9, 20170705,      609, -30.0798, 153.8337,        0.0,1,      0.060,1,      0.006,1,      0.147,1,     -999.0,     -999.0,9,     -999.0,9,     -999.0,9,     -999.0,9,    15.9897,2,     -999.0,9
320620170703,        P06,       6,          1,         27,         27,2,20170705,       0631,   -30.0801,   153.8334,       1973,   237.6,  16.4817,  35.4374,2,  35.4488,2, 182.9577,2, 182.2425,2,     1.8,2,    7.87,2,    0.00,2,    0.58,2,-999.000,9,-999.000,9,-999.0000,9,  -999.0,9, -999.00,9,-999.0000,9, -999.00,9, -999.00,9, -999.00,  -999.0,9, -999.00,9,     -999.0,9,  -999.0,9, 20170705,      611, -30.0798, 153.8336,        0.0,1,      0.060,1,      0.006,1,      0.147,1,     -999.0,     -999.0,9,     -999.0,9,     -999.0,9,     -999.0,9,     -999.0,5,     -999.0,9
320620170703,        P06,       6,          1,         28,         28,2,20170705,       0631,   -30.0801,   153.8334,       1973,   213.0,  17.2416,  35.5138,2,  35.5362,2, 184.9041,2, 185.3011,2,     1.2,2,    6.56,2,    0.00,2,    0.48,2,   2.213,2,   1.251,2,   1.0980,2,  2094.9,2, 2325.66,2,   7.9141,2, -999.00,9, -999.00,9, -999.00,  -999.0,9, -999.00,9,     -999.0,9,  -999.0,9, 20170705,      614, -30.0799, 153.8336,        0.0,1,      0.061,1,      0.006,1,      0.145,1,      25.04,     -999.0,9,     -999.0,9,     -999.0,9,     -999.0,9,     -999.0,5,     -999.0,9
320620170703,        P06,       6,          1,         29,         29,2,20170705,       0631,   -30.0801,   153.8334,       1973,   187.3,  18.0989,  35.5771,2,  35.5798,2, 182.7409,2, 183.2230,2,     1.0,2,    5.95,2,    0.00,2,    0.44,2,-999.000,9,-999.000,9,-999.0000,9,  -999.0,9, -999.00,9,-999.0000,9, -999.00,9, -999.00,9, -999.00,  -999.0,9, -999.00,9,     -999.0,9,  -999.0,9, 20170705,      617, -30.0799, 153.8335,        0.0,1,      0.059,1,      0.006,1,      0.144,1,     -999.0,     -999.0,9,     -999.0,9,     -999.0,9,     -999.0,9,     -999.0,5,     -999.0,9
320620170703,        P06,       6,          1,         30,         30,2,20170705,       0631,   -30.0801,   153.8334,       1973,   162.0,  19.0171,  35.6608,2,  35.6644,2, 187.0938,2, 187.4105,2,     0.5,2,    4.53,2,    0.02,2,    0.35,2,   2.110,2,   1.222,2,   1.0870,2,  2080.8,2, 2332.87,2,   7.9522,2, -999.00,9, -999.00,9, -999.00,  -999.0,9, -999.00,9,     -999.0,9,  -999.0,9, 20170705,      619, -30.0800, 153.8334,        0.0,1,      0.060,1,      0.006,1,      0.144,1,      25.03,     -999.0,9,     -999.0,9,     -999.0,9,     -999.0,9,     -999.0,5,     -999.0,9
320620170703,        P06,       6,          1,         31,         31,2,20170705,       0631,   -30.0801,   153.8334,       1973,   135.8,  19.8736,  35.7166,2,  35.7002,2, 192.6988,4, 186.3693,2,     0.4,2,    4.09,2,    0.02,2,    0.32,2,-999.000,9,-999.000,9,-999.0000,9,  -999.0,9, -999.00,9,-999.0000,9, -999.00,9, -999.00,9, -999.00,  -999.0,9, -999.00,9,     -999.0,9,  -999.0,9, 20170705,      621, -30.0800, 153.8334,        0.0,1,      0.072,1,      0.006,1,      0.172,1,     -999.0,     -999.0,9,     -999.0,9,     -999.0,9,     -999.0,9,     -999.0,5,     -999.0,9
320620170703,        P06,       6,          1,         32,         32,2,20170705,       0631,   -30.0801,   153.8334,       1973,   112.1,  20.6648,  35.8205,2,  35.8046,2, 210.8811,3, 208.5687,2,     0.1,2,    1.19,2,    0.16,2,    0.15,2,   1.979,2,   1.154,2,   1.1190,2,  2055.9,2, 2342.41,2,   8.0111,2, -999.00,9, -999.00,9, -999.00,  -999.0,9, -999.00,9,     -999.0,9,  -999.0,9, 20170705,      623, -30.0800, 153.8334,        0.0,1,      0.087,1,      0.006,1,      0.176,1,      25.03,     -999.0,9,     -999.0,9,     -999.0,9,     -999.0,9,     -999.0,5,     -999.0,9