BOTTLE,20230922CCHSIOCBG
EXPOCODE,SECT_ID,STNNBR,CASTNO,SAMPNO,BTLNBR,BTLNBR_FLAG_W,DATE,TIME,LATITUDE,LONGITUDE,DEPTH,CTDPRS,CTDTMP,CTDSAL,CTDSAL_FLAG_W,SALNTY,SALNTY_FLAG_W,CTDOXY,CTDOXY_FLAG_W,OXYGEN,OXYGEN_FLAG_W,SILCAT,SILCAT_FLAG_W,NITRAT,NITRAT_FLAG_W,NITRIT,NITRIT_FLAG_W,PHSPHT,PHSPHT_FLAG_W,CFC-11,CFC-11_FLAG_W,CFC-12,CFC-12_FLAG_W,SF6,SF6_FLAG_W,TCARBN,TCARBN_FLAG_W,ALKALI,ALKALI_FLAG_W,PH_TOT,PH_TOT_FLAG_W,DELC13,DELC13_FLAG_W,DELC14,DELC14_FLAG_W,C14ERR,DOC,DOC_FLAG_W,TDN,TDN_FLAG_W,TON,TON_FLAG_W,D15N_NO3,D15N_NO3_FLAG_W,BTL_DATE,BTL_TIME,BTL_LAT,BTL_LON,CTDRINKO,CTDRINKO_FLAG_W,CTDFLUOR,CTDFLUOR_FLAG_W,CTDXMISS,CTDXMISS_FLAG_W,CTDBACKSCATTER,CTDBACKSCATTER_FLAG_W,PH_TMP,D18O_NO3,D18O_NO3_FLAG_W,DOP,DOP_FLAG_W,HPLC,HPLC_FLAG_W,POC,POC_FLAG_W,REFTMP,REFTMP_FLAG_W,TDP,TDP_FLAG_W
,,,,,,,,,,,METERS,DBAR,ITS-90,PSS-78,,PSS-78,,UMOL/KG,,UMOL/KG,,UMOL/KG,,UMOL/KG,,UMOL/KG,,UMOL/KG,,PMOL/KG,,PMOL/KG,,FMOL/KG,,UMOL/KG,,UMOL/KG,,,,/MILLE,,/MILLE,,/MILLE,UMOL/KG,,UMOL/KG,,UMOL/KG,,/MILLE,,,,,,VOLTS,,VOLTS,,VOLTS,,VOLTS,,DEGC,/MILLE,,UMOL/KG,,,,UG/L,,ITS-90,,UMOL/KG,
320620170703,        P06,      83,          1,          1,          1,2,20170725,       0214,   -32.4998,   179.1036,       2428,  2450.3,   2.2047,  34.6433,2,-999.0000,5, 154.2176,2, 153.5617,2,   114.4,2,   35.08,2,    0.00,2,    2.46,2,   0.050,2,   0.029,2,   0.0000,2,  2299.1,6, 2388.35,2,   7.5768,2, -999.00,9, -999.00,9, -999.00,  -999.0,9, -999.00,9,     -999.0,9,  -999.0,9, 20170725,       54, -32.4995, 179.1034,        0.0,1,      0.061,1,      4.696,1,      0.158,1,      25.00,     -999.0,9,     -999.0,9,     -999.0,9,     -999.0,9,     2.2050,2,     -999.0,9
320620170703,        P06,      83,          1,          2,          2,2,20170725,       0214,   -32.4998,   179.1036,       2428,  2363.9,   2.2097,  34.6420,2,-999.0000,5, 154.1762,2, 154.6454,2,   113.9,2,   35.00,2,    0.00,2,    2.45,2,-999.000,9,-999.000,9,-999.0000,9,  -999.0,9, -999.00,9,-999.0000,9, -999.00,9, -999.00,9, -999.00,  -999.0,9, -999.00,9,     -999.0,9,  -999.0,9, 20170725,       56, -32.4999, 179.1034,        0.0,1,      0.062,1,      4.697,1,      0.155,1,     -999.0,     -999.0,9,     -999.0,9,     -999.0,9,     -999.0,9,     2.2112,2,     -999.0,9
320620170703,        P06,      83,          1,          3,          3,2,20170725,       0214,   -32.4998,   179.1036,       2428,  2263.2,   2.2542,  34.6371,2,  34.6372,2, 154.5332,2, 154.5554,2,   112.4,2,   35.04,2,    0.00,2,    2.44,2,   0.051,2,   0.033,2,   0.0000,2,  -999.0,9, -999.00,9,-999.0000,9, -999.00,9, -999.00,9, -999.00,  -999.0,9, -999.00,9,     -999.0,9,  -999.0,9, 20170725,       59, -32.5002, 179.1035,        0.0,1,      0.061,1,      4.700,1,      0.146,1,     -999.0,     -999.0,9,     -999.0,9,     -999.0,9,     -999.0,9,     2.2546,2,     -999.0,9
320620170703,        P06,      83,          1,          4,          4,2,20170725,       0214,   -32.4998,   179.1036,       2428,  2161.0,   2.3487,  34.6260,2,  34.6260,2, 155.1933,2, 155.2399,2,   109.0,2,   34.91,2,    0.00,2,    2.44,2,-999.000,9,-999.000,9,-999.0000,9,  -999.0,9, -999.00,9,-999.0000,9, -999.00,9, -999.00,9, -999.00,  -999.0,9, -999.00,9,     -999.0,9,  -999.0,9, 20170725,      102, -32.5004, 179.1034,        0.0,1,      0.061,1,      4.701,1,      0.144,1,     -999.0,     -999.0,9,     -999.0,9,     -999.0,9,     -999.0,9,     2.3489,2,     -999.0,9
320620170703,        P06,      83,          1,          5,          5,2,20170725,       0214,   -32.4998,   179.1036,       2428,  1987.9,   2.5129,  34.6040,2,  34.6028,2, 156.6165,2, 156.9045,2,   102.3,2,   34.79,2,    0.00,2,    2.43,2,-999.000,9,-999.000,9,-999.0000,9,  -999.0,9, -999.00,9,-999.0000,9, -999.00,9, -999.00,9, -999.00,  -999.0,9, -999.00,9,     -999.0,9,  -999.0,9, 20170725,      106, -32.5004, 179.1034,        0.0,1,      0.061,1,      4.701,1,      0.142,1,     -999.0,     -999.0,9,     -999.0,9,     -999.0,9,     -999.0,9,     2.5197,2,     -999.0,9
320620170703,        P06,      83,          1,          6,          6,2,20170725,       0214,   -32.4998,   179.1036,       2428,  1886.0,   2.6029,  34.5905,2,  34.5873,2, 157.8368,2, 157.9615,2,    98.0,2,   34.72,2,    0.00,2,    2.42,2,-999.000,9,-999.000,9,-999.0000,9,  -999.0,9, -999.00,9,-999.0000,9, -999.00,9, -999.00,9, -999.00,  -999.0,9, -999.00,9,     -999.0,9,  -999.0,9, 20170725,      109, -32.5003, 179.1034,        0.0,1,      0.061,1,      4.702,1,      0.142,1,     -999.0,     -999.0,9,     -999.0,9,     -999.0,9,     -999.0,9,     2.6238,2,     -999.0,9
320620170703,        P06,      83,          1,          7,          7,2,20170725,       0214,   -32.4998,   179.1036,       2428,  1785.0,   2.6749,  34.5756,2,  34.5736,2, 158.9983,2, 159.2996,2,    94.4,2,   34.66,2,    0.00,2,    2.41,2,-999.000,9,-999.000,9,-999.0000,9,  -999.0,9, -999.00,9,-999.0000,9, -999.00,9, -999.00,9, -999.00,  -999.0,9, -999.00,9,     -999.0,9,  -999.0,9, 20170725,      112, -32.5001, 179.1035,        0.0,1,      0.061,1,      4.702,1,      0.141,1,     -999.0,     -999.0,9,     -999.0,9,     -999.0,9,     -999.0,9,     2.6903,2,     -999.0,9
320620170703,        P06,      83,          1,          8,          8,2,20170725,       0214,   -32.4998,   179.1036,       2428,  1683.1,   2.7869,  34.5580,2,  34.5578,2, 160.6211,2, 160.4433,2,    89.9,2,   34.53,2,    0.00,2,    2.41,2,-999.000,9,-999.000,9,-999.0000,9,  -999.0,9, -999.00,9,-999.0000,9, -999.00,9, -999.00,9, -999.00,  -999.0,9, -999.00,9,     -999.0,9,  -999.0,9, 20170725,      115, -32.4999, 179.1035,        0.0,1,      0.061,1,      4.703,1,      0.142,1,     -999.0,     -999.0,9,     -999.0,9,     -999.0,9,     -999.0,9,     2.7903,2,     -999.0,9
320620170703,        P06,      83,          1,          9,          9,2,20170725,       0214,   -32.4998,   179.1036,       2428,  1580.6,   2.9750,  34.5307,2,  34.5300,2, 163.7272,2, 163.2905,2,    82.1,2,   34.29,2,    0.00,2,    2.38,2,-999.000,9,-999.000,9,-999.0000,9,  -999.0,9, -999.00,9,-999.0000,9, -999.00,9, -999.00,9, -999.00,  -999.0,9, -999.00,9,     -999.0,9,  -999.0,9, 20170725,      118, -32.4998, 179.1035,        0.0,1,      0.059,1,      4.702,1,      0.140,1,     -999.0,     -999.0,9,     -999.0,9,     -999.0,9,     -999.0,9,     2.9816,2,     -999.0,9
320620170703,        P06,      83,          1,         10,         10,2,20170725,       0214,   -32.4998,   179.1036,       2428,  1480.1,   3.2237,  34.4958,2,  34.4981,2, 167.2765,2, 167.5249,2,    73.5,2,   34.02,2,    0.00,2,    2.38,2,-999.000,9,-999.000,9,-999.0000,9,  -999.0,9, -999.00,9,-999.0000,9, -999.00,9, -999.00,9, -999.00,  -999.0,9, -999.00,9,     -999.0,9,  -999.0,9, 20170725,      121, -32.4998, 179.1035,        0.0,1,      0.062,1,      4.703,1,      0.141,1,     -999.0,     -999.0,9,     -999.0,9,     -999.0,9,     -999.0,9,     3.1993,2,     -999.0,9
320620170703,        P06,      83,          1,         11,         11,2,20170725,       0214,   -32.4998,   179.1036,       2428,  1378.3,   3.4811,  34.4640,2,  34.4644,2, 171.9210,2, 171.3831,2,    63.9,2,   33.56,2,    0.00,2,    2.34,2,-999.000,9,-999.000,9,-999.0000,9,  -999.0,9, -999.00,9,-999.0000,9, -999.00,9, -999.00,9, -999.00,  -999.0,9, -999.00,9,     -999.0,9,  -999.0,9, 20170725,      124, -32.4999, 179.1035,        0.0,1,      0.060,1,      4.704,1,      0.140,1,     -999.0,     -999.0,9,     -999.0,9,     -999.0,9,     -999.0,9,     3.4747,2,     -999.0,9
320620170703,        P06,      83,          1,         12,         12,2,20170725,       0214,   -32.4998,   179.1036,       2428,  1277.5,   4.0063,  34.4287,2,  34.4273,2, 181.6110,2, 181.7323,2,    51.3,2,   32.16,2,    0.00,2,    2.23,2,-999.000,9,-999.000,9,-999.0000,9,  -999.0,9, -999.00,9,-999.0000,9, -999.00,9, -999.00,9, -999.00,  -999.0,9, -999.00,9,     -999.0,9,  -999.0,9, 20170725,      127, -32.4999, 179.1035,        0.0,1,      0.060,1,      4.703,1,      0.139,1,     -999.0,     -999.0,9,     -999.0,9,     -999.0,9,     -999.0,9,     4.0219,2,     -999.0,9
320620170703,        P06,      83,          1,         13,         13,2,20170725,       0214,   -32.4998,   179.1036,       2428,  1176.9,   4.8726,  34.3823,2,  34.3833,2, 195.5872,2, 195.7069,2,    34.2,2,   30.00,2,    0.00,2,    2.06,2,-999.000,9,-999.000,9,-999.0000,9,  -999.0,9, -999.00,9,-999.0000,9, -999.00,9, -999.00,9, -999.00,  -999.0,9, -999.00,9,     -999.0,9,  -999.0,9, 20170725,      129, -32.5000, 179.1035,        0.0,1,      0.059,1,      4.702,1,      0.141,1,     -999.0,     -999.0,9,     -999.0,9,     -999.0,9,     -999.0,9,     4.8599,2,     -999.0,9
320620170703,        P06,      83,          1,         14,         14,2,20170725,       0214,   -32.4998,   179.1036,       2428,  1075.2,   5.2189,  34.3727,2,  34.3676,2, 205.7210,2, 205.1468,2,    25.1,2,   28.38,2,    0.00,2,    1.95,2,-999.000,9,-999.000,9,-999.0000,9,  2181.3,2, 2290.36,2,   7.6485,2, -999.00,9, -999.00,9, -999.00,  -999.0,9, -999.00,9,     -999.0,9,  -999.0,9, 20170725,      132, -32.5000, 179.1034,        0.0,1,      0.060,1,      4.702,1,      0.141,1,      24.99,     -999.0,9,     -999.0,9,     -999.0,9,     -999.0,9,     5.4053,2,     -999.0,9
320620170703,        P06,      83,          1,         15,         15,2,20170725,       0214,   -32.4998,   179.1036,       2428,   974.0,   5.7610,  34.3660,2,  34.3660,2, 211.5852,2, 211.9148,2,    19.7,2,   27.02,2,    0.00,2,    1.86,2,-999.000,9,-999.000,9,-999.0000,9,  -999.0,9, -999.00,9,-999.0000,9, -999.00,9, -999.00,9, -999.00,  -999.0,9, -999.00,9,     -999.0,9,  -999.0,9, 20170725,      135, -32.5000, 179.1035,        0.0,1,      0.059,1,      4.701,1,      0.143,1,     -999.0,     -999.0,9,     -999.0,9,     -999.0,9,     -999.0,9,     5.8142,2,     -999.0,9
320620170703,        P06,      83,          1,         16,         16,2,20170725,       0214,   -32.4998,   179.1036,       2428,   873.4,   6.1888,  34.3740,2,  34.3802,2, 219.1291,2, 219.1100,2,    14.4,2,   25.23,2,    0.00,2,    1.72,2,-999.000,9,-999.000,9,-999.0000,9,  -999.0,9, -999.00,9,-999.0000,9, -999.00,9, -999.00,9, -999.00,  -999.0,9, -999.00,9,     -999.0,9,  -999.0,9, 20170725,      138, -32.4999, 179.1035,        0.0,1,      0.060,1,      4.700,1,      0.142,1,     -999.0,     -999.0,9,     -999.0,9,     -999.0,9,     -999.0,9,     6.3647,2,     -999.0,9
320620170703,        P06,      83,          1,         17,         17,2,20170725,       0214,   -32.4998,   179.1036,       2428,   771.5,   6.9106,  34.4131,2,  34.4135,2, 222.0455,2, 222.5112,2,    11.1,2,   23.65,2,    0.00,2,    1.61,2,-999.000,9,-999.000,9,-999.0000,9,  2153.1,2, 2281.35,2,   7.6952,2, -999.00,9, -999.00,9, -999.00,  -999.0,9, -999.00,9,     -999.0,9,  -999.0,9, 20170725,      141, -32.4999, 179.1035,        0.0,1,      0.060,1,      4.700,1,      0.143,1,      25.01,     -999.0,9,     -999.0,9,     -999.0,9,     -999.0,9,     6.9169,2,     -999.0,9
320620170703,        P06,      83,          1,         18,         18,2,20170725,       0214,   -32.4998,   179.1036,       2428,   670.7,   7.7216,  34.4823,2,  34.4697,2, 221.7950,2, 222.2733,2,     8.7,2,   21.97,2,    0.00,2,    1.51,2,-999.000,9,-999.000,9,-999.0000,9,  -999.0,9, -999.00,9,-999.0000,9, -999.00,9, -999.00,9, -999.00,  -999.0,9, -999.00,9,     -999.0,9,  -999.0,9, 20170725,      144, -32.5000, 179.1035,        0.0,1,      0.060,1,      4.698,1,      0.144,1,     -999.0,     -999.0,9,     -999.0,9,     -999.0,9,     -999.0,9,     7.6008,2,     -999.0,9
320620170703,        P06,      83,          1,         19,         19,2,20170725,       0214,   -32.4998,   179.1036,       2428,   569.1,   8.6116,  34.5774,2,  34.5792,2, 216.1539,2, 215.8614,2,     6.9,2,   19.79,2,    0.00,2,    1.35,2,-999.000,9,-999.000,9,-999.0000,9,  -999.0,9, -999.00,9,-999.0000,9, -999.00,9, -999.00,9, -999.00,  -999.0,9, -999.00,9,     -999.0,9,  -999.0,9, 20170725,      146, -32.4999, 179.1035,        0.0,1,      0.060,1,      4.697,1,      0.148,1,     -999.0,     -999.0,9,     -999.0,9,     -999.0,9,     -999.0,9,     8.6376,2,     -999.0,9
320620170703,        P06,      83,          1,         20,         20,2,20170725,       0214,   -32.4998,   179.1036,       2428,   488.4,   9.8986,  34.7272,2,  34.6806,2, 211.6660,2, 211.3365,2,     5.9,2,   17.93,2,    0.00,2,    1.23,2,-999.000,9,-999.000,9,-999.0000,9,  -999.0,9, -999.00,9,-999.0000,9, -999.00,9, -999.00,9, -999.00,  -999.0,9, -999.00,9,     -999.0,9,  -999.0,9, 20170725,      149, -32.5000, 179.1035,        0.0,1,      0.059,1,      4.695,1,      0.150,1,     -999.0,     -999.0,9,     -999.0,9,     -999.0,9,     -999.0,9,     9.5329,2,     -999.0,9
320620170703,        P06,      83,          1,         21,         21,2,20170725,       0214,   -32.4998,   179.1036,       2428,   438.2,  10.6850,  34.8261,2,  34.7948,2, 208.8089,2, 208.3706,2,     5.1,2,   15.97,2,    0.00,2,    1.11,2,-999.000,9,-999.000,9,-999.0000,9,  -999.0,9, -999.00,9,-999.0000,9, -999.00,9, -999.00,9, -999.00,  -999.0,9, -999.00,9,     -999.0,9,  -999.0,9, 20170725,      151, -32.5000, 179.1035,        0.0,1,      0.059,1,      4.694,1,      0.146,1,     -999.0,     -999.0,9,     -999.0,9,     -999.0,9,     -999.0,9,    10.4616,2,     -999.0,9
320620170703,        P06,      83,          1,         22,         22,2,20170725,       0214,   -32.4998,   179.1036,       2428,   387.7,  11.4027,  34.9170,2,  34.8999,2, 207.2271,2, 207.1637,2,     4.4,2,   14.20,2,    0.00,2,    1.00,2,-999.000,9,-999.000,9,-999.0000,9,  -999.0,9, -999.00,9,-999.0000,9, -999.00,9, -999.00,9, -999.00,  -999.0,9, -999.00,9,     -999.0,9,  -999.0,9, 20170725,      153, -32.5001, 179.1034,        0.0,1,      0.060,1,      4.694,1,      0.150,1,     -999.0,     -999.0,9,     -999.0,9,     -999.0,9,     -999.0,9,    11.2935,2,     -999.0,9
320620170703,        P06,      83,          1,         23,         23,2,20170725,       0214,   -32.4998,   179.1036,       2428,   338.2,  12.1159,  35.0080,2,  34.9805,2, 205.5159,2, 205.8366,2,     4.0,2,   12.93,2,    0.00,2,    0.92,2,-999.000,9,-999.000,9,-999.0000,9,  2127.4,2, 2300.22,2,   7.7944,2, -999.00,9, -999.00,9, -999.00,  -999.0,9, -999.00,9,     -999.0,9,  -999.0,9, 20170725,      155, -32.5001, 179.1034,        0.0,1,      0.059,1,      4.693,1,      0.147,1,      25.00,     -999.0,9,     -999.0,9,     -999.0,9,     -999.0,9,    12.0639,2,     -999.0,9
320620170703,        P06,      83,          1,         24,         24,2,20170725,       0214,   -32.4998,   179.1036,       2428,   286.0,  13.0232,  35.1228,2,  35.1451,2, 204.7770,2, 205.0032,2,     3.1,2,   10.46,2,    0.00,2,    0.76,2,-999.000,9,-999.000,9,-999.0000,9,  -999.0,9, -999.00,9,-999.0000,9, -999.00,9, -999.00,9, -999.00,  -999.0,9, -999.00,9,     -999.0,9,  -999.0,9, 20170725,      157, -32.5002, 179.1034,        0.0,1,      0.059,1,      4.692,1,      0.143,1,     -999.0,     -999.0,9,     -999.0,9,     -999.0,9,     -999.0,9,    13.2600,2,     -999.0,9
320620170703,        P06,      83,          1,         25,         25,2,20170725,       0214,   -32.4998,   179.1036,       2428,   241.2,  13.7424,  35.2238,2,  35.2422,2, 206.2875,2, 206.1795,2,     2.7,2,    9.00,2,    0.00,2,    0.66,2,-999.000,9,-999.000,9,-999.0000,9,  -999.0,9, -999.00,9,-999.0000,9, -999.00,9, -999.00,9, -999.00,  -999.0,9, -999.00,9,     -999.0,9,  -999.0,9, 20170725,      159, -32.5002, 179.1034,        0.0,1,      0.060,1,      4.689,1,      0.149,1,     -999.0,     -999.0,9,     -999.0,9,     -999.0,9,     -999.0,9,    13.9335,2,     -999.0,9
320620170703,        P06,      83,          1,         26,         26,2,20170725,       0214,   -32.4998,   179.1036,       2428,   216.0,  14.4234,  35.2985,2,  35.3013,2, 205.0168,2, 204.6119,2,     2.4,2,    8.30,2,    0.00,2,    0.63,2,-999.000,9,-999.000,9,-999.0000,9,  -999.0,9, -999.00,9,-999.0000,9, -999.00,9, -999.00,9, -999.00,  -999.0,9, -999.00,9,     -999.0,9,  -999.0,9, 20170725,      201, -32.5002, 179.1034,        0.0,1,      0.060,1,      4.689,1,      0.153,1,     -999.0,     -999.0,9,     -999.0,9,     -999.0,9,     -999.0,9,    14.4711,2,     -999.0,9
320620170703,        P06,      83,          1,         27,         27,2,20170725,       0214,   -32.4998,   179.1036,       2428,   190.7,  14.7912,  35.3381,2,  35.3368,2, 205.6474,2, 204.7486,2,     2.3,2,    7.80,2,    0.02,2,    0.60,2,-999.000,9,-999.000,9,-999.0000,9,  2107.2,2, 2317.85,2,   7.8676,2, -999.00,9, -999.00,9, -999.00,  -999.0,9, -999.00,9,     -999.0,9,  -999.0,9, 20170725,      202, -32.5002, 179.1034,        0.0,1,      0.060,1,      4.687,1,      0.154,1,      24.99,     -999.0,9,     -999.0,9,     -999.0,9,     -999.0,9,    14.8605,2,     -999.0,9
320620170703,        P06,      83,          1,         28,         28,2,20170725,       0214,   -32.4998,   179.1036,       2428,   167.2,  15.5772,  35.4188,2,  35.3804,3, 206.4314,2, 206.4271,2,     2.1,2,    6.92,2,    0.02,2,    0.53,2,-999.000,9,-999.000,9,-999.0000,9,  -999.0,9, -999.00,9,-999.0000,9, -999.00,9, -999.00,9, -999.00,  -999.0,9, -999.00,9,     -999.0,9,  -999.0,9, 20170725,      204, -32.5002, 179.1034,        0.0,1,      0.061,1,      4.682,1,      0.159,1,     -999.0,     -999.0,9,     -999.0,9,     -999.0,9,     -999.0,9,    15.2295,2,     -999.0,9
320620170703,        P06,      83,          1,         29,         29,2,20170725,       0214,   -32.4998,   179.1036,       2428,   140.9,  16.2557,  35.4870,2,  35.4835,3, 212.8403,2, 214.1332,2,     1.4,2,    4.41,2,    0.03,2,    0.39,2,-999.000,9,-999.000,9,-999.0000,9,  -999.0,9, -999.00,9,-999.0000,9, -999.00,9, -999.00,9, -999.00,  -999.0,9, -999.00,9,     -999.0,9,  -999.0,9, 20170725,      205, -32.5001, 179.1035,        0.0,1,      0.067,1,      4.678,1,      0.169,1,     -999.0,     -999.0,9,     -999.0,9,     -999.0,9,     -999.0,9,    16.2848,2,     -999.0,9
320620170703,        P06,      83,          1,         30,         30,2,20170725,       0214,   -32.4998,   179.1036,       2428,   115.5,  17.1773,  35.6099,2,  35.5391,3, 222.2042,3, 218.8263,2,     1.0,2,    3.16,2,    0.07,2,    0.30,2,-999.000,9,-999.000,9,-999.0000,9,  -999.0,9, -999.00,9,-999.0000,9, -999.00,9, -999.00,9, -999.00,  -999.0,9, -999.00,9,     -999.0,9,  -999.0,9, 20170725,      207, -32.5000, 179.1035,        0.0,1,      0.087,1,      4.664,1,      0.200,1,     -999.0,     -999.0,9,     -999.0,9,     -999.0,9,     -999.0,9,    16.8609,2,     -999.0,9
320620170703,        P06,      83,          1,         31,         31,2,20170725,       0214,   -32.4998,   179.1036,       2428,    89.7,  17.4386,  35.6419,2,  35.6372,2, 229.6444,2, 230.0059,2,     0.5,2,    0.89,2,    0.27,2,    0.17,2,-999.000,9,-999.000,9,-999.0000,9,  -999.0,9, -999.00,9,-999.0000,9, -999.00,9, -999.00,9, -999.00,  -999.0,9, -999.00,9,     -999.0,9,  -999.0,9, 20170725,      208, -32.5000, 179.1035,        0.0,1,      0.155,1,      4.628,1,      0.249,1,     -999.0,     -999.0,9,     -999.0,9,     -999.0,9,     -999.0,9,    17.3397,2,     -999.0,9
320620170703,        P06,      83,          1,         32,         32,2,20170725,       0214,   -32.4998,   179.1036,       2428,    64.6,  17.5057,  35.6512,2,  35.6415,2, 231.7887,2, 231.5719,2,     0.5,2,    0.92,2,    0.19,2,    0.17,2,-999.000,9,-999.000,9,-999.0000,9,  2067.9,2, 2335.02,2,   7.9731,2, -999.00,9, -999.00,9, -999.00,  -999.0,9, -999.00,9,     -999.0,9,  -999.0,9, 20170725,      210, -32.5000, 179.1035,        0.0,1,      0.203,1,      4.606,1,      0.271,1,      25.00,     -999.0,9,     -999.0,9,     -999.0,9,     -999.0,9,    17.4477,2,     -999.0,9