BOTTLE,20230922CCHSIOCBG
EXPOCODE,SECT_ID,STNNBR,CASTNO,SAMPNO,BTLNBR,BTLNBR_FLAG_W,DATE,TIME,LATITUDE,LONGITUDE,DEPTH,CTDPRS,CTDTMP,CTDSAL,CTDSAL_FLAG_W,SALNTY,SALNTY_FLAG_W,CTDOXY,CTDOXY_FLAG_W,OXYGEN,OXYGEN_FLAG_W,SILCAT,SILCAT_FLAG_W,NITRAT,NITRAT_FLAG_W,NITRIT,NITRIT_FLAG_W,PHSPHT,PHSPHT_FLAG_W,CFC-11,CFC-11_FLAG_W,CFC-12,CFC-12_FLAG_W,SF6,SF6_FLAG_W,TCARBN,TCARBN_FLAG_W,ALKALI,ALKALI_FLAG_W,PH_TOT,PH_TOT_FLAG_W,DELC13,DELC13_FLAG_W,DELC14,DELC14_FLAG_W,C14ERR,DOC,DOC_FLAG_W,TDN,TDN_FLAG_W,TON,TON_FLAG_W,D15N_NO3,D15N_NO3_FLAG_W,BTL_DATE,BTL_TIME,BTL_LAT,BTL_LON,CTDRINKO,CTDRINKO_FLAG_W,CTDFLUOR,CTDFLUOR_FLAG_W,CTDXMISS,CTDXMISS_FLAG_W,CTDBACKSCATTER,CTDBACKSCATTER_FLAG_W,PH_TMP,D18O_NO3,D18O_NO3_FLAG_W,DOP,DOP_FLAG_W,HPLC,HPLC_FLAG_W,POC,POC_FLAG_W,REFTMP,REFTMP_FLAG_W,TDP,TDP_FLAG_W
,,,,,,,,,,,METERS,DBAR,ITS-90,PSS-78,,PSS-78,,UMOL/KG,,UMOL/KG,,UMOL/KG,,UMOL/KG,,UMOL/KG,,UMOL/KG,,PMOL/KG,,PMOL/KG,,FMOL/KG,,UMOL/KG,,UMOL/KG,,,,/MILLE,,/MILLE,,/MILLE,UMOL/KG,,UMOL/KG,,UMOL/KG,,/MILLE,,,,,,VOLTS,,VOLTS,,VOLTS,,VOLTS,,DEGC,/MILLE,,UMOL/KG,,,,UG/L,,ITS-90,,UMOL/KG,
320620170703,        P06,      85,          1,          1,          1,2,20170725,       1156,   -32.4998,   179.9220,       2713,  2740.5,   2.2208,  34.6441,2,  34.6449,2, 154.4178,2, 153.9799,2,   114.6,2,   35.06,2,    0.00,2,    2.46,2,   0.052,2,   0.036,2,   0.0000,2,  2300.9,6, 2390.02,2,   7.5772,2, -999.00,9, -999.00,9, -999.00,  -999.0,9, -999.00,9,     -999.0,9,  -999.0,1, 20170725,     1026, -32.4989, 179.9220,        0.0,1,      0.060,1,      4.694,1,      0.155,1,      25.00,     -999.0,1,     -999.0,9,     -999.0,9,     -999.0,9,     2.2215,2,     -999.0,9
320620170703,        P06,      85,          1,          2,          2,2,20170725,       1156,   -32.4998,   179.9220,       2713,  2675.2,   2.2180,  34.6439,2,  34.6441,2, 154.4178,2, 154.4278,2,   114.5,2,   35.06,2,    0.00,2,    2.45,2,-999.000,9,-999.000,9,-999.0000,9,  2299.3,2, 2387.50,2,   7.5772,2, -999.00,9, -999.00,9, -999.00,  -999.0,9, -999.00,9,     -999.0,9,  -999.0,1, 20170725,     1028, -32.4991, 179.9221,        0.0,1,      0.062,1,      4.694,1,      0.158,1,      25.00,     -999.0,1,     -999.0,9,     -999.0,9,     -999.0,9,     2.2185,2,     -999.0,9
320620170703,        P06,      85,          1,          3,          3,2,20170725,       1156,   -32.4998,   179.9220,       2713,  2496.9,   2.2253,  34.6416,2,  34.6415,2, 154.2968,2, 154.5794,2,   113.7,2,   34.99,2,    0.00,2,    2.45,2,-999.000,9,-999.000,9,-999.0000,9,  2298.3,2, 2383.68,3,   7.5764,2, -999.00,9, -999.00,9, -999.00,  -999.0,9, -999.00,9,     -999.0,9,  -999.0,1, 20170725,     1033, -32.4992, 179.9222,        0.0,1,      0.062,1,      4.696,1,      0.149,1,      25.00,     -999.0,1,     -999.0,9,     -999.0,9,     -999.0,9,     2.2264,2,     -999.0,9
320620170703,        P06,      85,          1,          4,          4,2,20170725,       1156,   -32.4998,   179.9220,       2713,  2292.9,   2.2557,  34.6366,2,  34.6366,2, 154.3413,2, 154.4217,2,   112.5,2,   34.99,2,    0.00,2,    2.45,2,   0.053,2,   0.038,2,   0.0000,2,  2297.1,2, 2389.16,2,   7.5771,2, -999.00,9, -999.00,9, -999.00,  -999.0,9, -999.00,9,     -999.0,9,  -999.0,1, 20170725,     1038, -32.4992, 179.9222,        0.0,1,      0.061,1,      4.697,1,      0.147,1,      25.00,     -999.0,1,     -999.0,9,     -999.0,9,     -999.0,9,     2.2556,2,     -999.0,9
320620170703,        P06,      85,          1,          5,          5,2,20170725,       1156,   -32.4998,   179.9220,       2713,  2089.8,   2.3649,  34.6229,2,  34.6231,2, 155.3282,2, 155.4109,2,   108.5,2,   34.84,2,    0.00,2,    2.43,2,-999.000,9,-999.000,9,-999.0000,9,  2291.9,2, 2388.41,2,   7.5777,2, -999.00,9, -999.00,9, -999.00,  -999.0,9, -999.00,9,     -999.0,9,  -999.0,1, 20170725,     1043, -32.4991, 179.9220,        0.0,1,      0.061,1,      4.699,1,      0.144,1,      24.99,     -999.0,1,     -999.0,9,     -999.0,9,     -999.0,9,     2.3605,2,     -999.0,9
320620170703,        P06,      85,          1,          6,          6,2,20170725,       1156,   -32.4998,   179.9220,       2713,  1957.6,   2.4407,  34.6125,2,  34.6113,2, 156.1057,2, 156.4158,2,   104.9,2,   34.74,2,    0.00,2,    2.43,2,-999.000,9,-999.000,9,-999.0000,9,  2289.3,2, 2377.94,2,   7.5771,2, -999.00,9, -999.00,9, -999.00,  -999.0,9, -999.00,9,     -999.0,9,  -999.0,1, 20170725,     1046, -32.4988, 179.9217,        0.0,1,      0.061,1,      4.699,1,      0.145,1,      25.00,     -999.0,1,     -999.0,9,     -999.0,9,     -999.0,9,     2.4492,2,     -999.0,9
320620170703,        P06,      85,          1,          7,          7,2,20170725,       1156,   -32.4998,   179.9220,       2713,  1855.8,   2.5258,  34.6009,2,  34.5995,2, 156.9975,2, 157.1816,2,   101.6,2,   34.68,2,    0.00,2,    2.42,2,   0.082,2,   0.053,2,   0.0000,2,  2284.8,2, 2374.60,2,   7.5773,2, -999.00,9, -999.00,9, -999.00,  -999.0,9, -999.00,9,     -999.0,9,  -999.0,1, 20170725,     1049, -32.4988, 179.9216,        0.0,1,      0.061,1,      4.699,1,      0.145,1,      25.00,     -999.0,1,     -999.0,9,     -999.0,9,     -999.0,9,     2.5399,2,     -999.0,9
320620170703,        P06,      85,          1,          8,          8,2,20170725,       1156,   -32.4998,   179.9220,       2713,  1754.0,   2.6433,  34.5841,2,  34.5887,2, 158.2690,2, 157.9225,2,    98.5,2,   34.58,2,    0.00,2,    2.41,2,-999.000,9,-999.000,9,-999.0000,9,  2280.8,6, 2368.91,2,   7.5768,2, -999.00,9, -999.00,9, -999.00,  -999.0,9, -999.00,9,     -999.0,9,  -999.0,1, 20170725,     1052, -32.4988, 179.9216,        0.0,1,      0.060,1,      4.699,1,      0.144,1,      24.99,     -999.0,1,     -999.0,9,     -999.0,9,     -999.0,9,     2.6167,2,     -999.0,9
320620170703,        P06,      85,          1,          9,          9,2,20170725,       1156,   -32.4998,   179.9220,       2713,  1652.2,   2.8333,  34.5582,2,  34.5645,2, 160.3821,2, 160.3477,2,    91.4,2,   34.34,2,    0.00,2,    2.39,2,-999.000,9,-999.000,9,-999.0000,9,  2271.5,2, 2360.40,2,   7.5784,2, -999.00,9, -999.00,9, -999.00,  -999.0,9, -999.00,9,     -999.0,9,  -999.0,1, 20170725,     1055, -32.4990, 179.9217,        0.0,1,      0.061,1,      4.700,1,      0.142,1,      25.01,     -999.0,1,     -999.0,9,     -999.0,9,     -999.0,9,     2.7892,2,     -999.0,9
320620170703,        P06,      85,          1,         10,         10,2,20170725,       1156,   -32.4998,   179.9220,       2713,  1551.2,   3.0489,  34.5299,2,  34.5417,2, 163.3103,2, 163.1234,2,    84.9,2,   34.07,2,    0.00,2,    2.36,2,   0.144,2,   0.086,2,   0.0000,2,  2265.2,2, 2351.65,6,   7.5802,2, -999.00,9, -999.00,9, -999.00,  -999.0,9, -999.00,9,     -999.0,9,  -999.0,1, 20170725,     1058, -32.4990, 179.9217,        0.0,1,      0.061,1,      4.701,1,      0.140,1,      25.01,     -999.0,1,     -999.0,9,     -999.0,9,     -999.0,9,     2.9565,2,     -999.0,9
320620170703,        P06,      85,          1,         11,         11,2,20170725,       1156,   -32.4998,   179.9220,       2713,  1448.7,   3.2318,  34.4994,2,  34.5133,2, 166.4602,2, 166.5866,2,    76.7,2,   33.74,2,    0.00,2,    2.36,2,-999.000,9,-999.000,9,-999.0000,9,  2256.0,2, 2348.46,2,   7.5826,2, -999.00,9, -999.00,9, -999.00,  -999.0,9, -999.00,9,     -999.0,9,  -999.0,1, 20170725,     1101, -32.4990, 179.9216,        0.0,1,      0.061,1,      4.701,1,      0.140,1,      24.99,     -999.0,1,     -999.0,9,     -999.0,9,     -999.0,9,     3.1642,2,     -999.0,9
320620170703,        P06,      85,          1,         12,         12,2,20170725,       1156,   -32.4998,   179.9220,       2713,  1348.6,   3.5879,  34.4630,2,  34.4667,2, 173.5925,2, 172.9151,2,    64.0,2,   33.10,2,    0.00,2,    2.30,2,-999.000,9,-999.000,9,-999.0000,9,  2238.4,2, 2326.92,2,   7.5884,2, -999.00,9, -999.00,9, -999.00,  -999.0,9, -999.00,9,     -999.0,9,  -999.0,1, 20170725,     1104, -32.4991, 179.9217,        0.0,1,      0.060,1,      4.701,1,      0.140,1,      25.00,     -999.0,1,     -999.0,9,     -999.0,9,     -999.0,9,     3.5395,2,     -999.0,9
320620170703,        P06,      85,          1,         13,         13,2,20170725,       1156,   -32.4998,   179.9220,       2713,  1247.6,   4.0029,  34.4301,2,  34.4267,2, 181.3768,2, 181.9348,2,    50.7,2,   31.95,2,    0.00,2,    2.20,2,   0.520,2,   0.265,2,   0.1130,2,  2220.8,2, 2316.06,2,   7.6029,2, -999.00,9, -999.00,9, -999.00,  -999.0,9, -999.00,9,     -999.0,9,  -999.0,1, 20170725,     1107, -32.4993, 179.9217,        0.0,1,      0.060,1,      4.701,1,      0.140,1,      25.00,     -999.0,1,     -999.0,9,     -999.0,9,     -999.0,9,     4.0612,2,     -999.0,9
320620170703,        P06,      85,          1,         14,         14,2,20170725,       1156,   -32.4998,   179.9220,       2713,  1145.2,   4.6272,  34.3935,2,  34.3843,2, 194.5473,2, 194.6378,2,    35.1,2,   30.03,2,    0.00,2,    2.06,2,-999.000,9,-999.000,9,-999.0000,9,  2197.5,2, 2302.34,2,   7.6268,2, -999.00,9, -999.00,9, -999.00,  -999.0,9, -999.00,9,     -999.0,9,  -999.0,1, 20170725,     1110, -32.4991, 179.9215,        0.0,1,      0.060,1,      4.700,1,      0.141,1,      25.01,     -999.0,1,     -999.0,9,     -999.0,9,     -999.0,9,     4.8050,2,     -999.0,9
320620170703,        P06,      85,          1,         15,         15,2,20170725,       1156,   -32.4998,   179.9220,       2713,  1043.8,   5.3642,  34.3719,2,  34.3698,2, 205.0206,2, 205.3055,2,    24.7,2,   28.05,2,    0.00,2,    1.93,2,-999.000,9,-999.000,9,-999.0000,9,  2180.1,2, 2293.98,2,   7.6497,2, -999.00,9, -999.00,9, -999.00,  -999.0,9, -999.00,9,     -999.0,9,  -999.0,1, 20170725,     1113, -32.4991, 179.9214,        0.0,1,      0.060,1,      4.699,1,      0.142,1,      25.00,     -999.0,1,     -999.0,9,     -999.0,9,     -999.0,9,     5.4637,2,     -999.0,9
320620170703,        P06,      85,          1,         16,         16,2,20170725,       1156,   -32.4998,   179.9220,       2713,   943.1,   6.0105,  34.3712,2,  34.3733,2, 215.7507,2, 215.7524,2,    16.6,2,   25.93,2,    0.00,2,    1.77,2,   2.107,2,   0.985,2,   0.3870,2,  2164.9,2, 2278.43,2,   7.6732,2, -999.00,9, -999.00,9, -999.00,  -999.0,9, -999.00,9,     -999.0,9,  -999.0,1, 20170725,     1116, -32.4992, 179.9214,        0.0,1,      0.059,1,      4.670,1,      0.143,1,      24.99,     -999.0,1,     -999.0,9,     -999.0,9,     -999.0,9,     6.1260,2,     -999.0,9
320620170703,        P06,      85,          1,         17,         17,2,20170725,       1156,   -32.4998,   179.9220,       2713,   842.0,   6.6506,  34.4011,2,  34.4049,2, 220.8046,2, 220.4524,2,    12.6,2,   24.10,2,    0.00,2,    1.64,2,-999.000,9,-999.000,9,-999.0000,9,  2157.0,6, 2281.75,2,   7.6901,2, -999.00,9, -999.00,9, -999.00,  -999.0,9, -999.00,9,     -999.0,9,  -999.0,1, 20170725,     1119, -32.4994, 179.9218,        0.0,1,      0.060,1,      4.443,1,      0.145,1,      25.00,     -999.0,1,     -999.0,9,     -999.0,9,     -999.0,9,     6.7350,2,     -999.0,9
320620170703,        P06,      85,          1,         18,         18,2,20170725,       1156,   -32.4998,   179.9220,       2713,   740.3,   7.4272,  34.4535,2,  34.4559,2, 221.9814,2, 222.0305,2,     9.2,2,   22.19,2,    0.00,2,    1.50,2,-999.000,9,-999.000,9,-999.0000,9,  2150.4,2, 2283.72,2,   7.7043,2, -999.00,9, -999.00,9, -999.00,  -999.0,9, -999.00,9,     -999.0,9,  -999.0,1, 20170725,     1122, -32.4996, 179.9220,        0.0,1,      0.059,1,      4.696,1,      0.144,1,      24.98,     -999.0,1,     -999.0,9,     -999.0,9,     -999.0,9,     7.4590,2,     -999.0,9
320620170703,        P06,      85,          1,         19,         19,2,20170725,       1156,   -32.4998,   179.9220,       2713,   640.2,   8.1946,  34.5351,2,  34.5290,2, 218.7218,2, 218.4204,2,     8.0,2,   20.73,2,    0.00,2,    1.41,2,   3.097,2,   1.552,2,   0.7430,2,  2146.8,2, 2284.23,2,   7.7150,2, -999.00,9, -999.00,9, -999.00,  -999.0,9, -999.00,9,     -999.0,9,  -999.0,1, 20170725,     1125, -32.4997, 179.9221,        0.0,1,      0.060,1,      4.695,1,      0.145,1,      25.00,     -999.0,1,     -999.0,9,     -999.0,9,     -999.0,9,     8.1477,2,     -999.0,9
320620170703,        P06,      85,          1,         20,         20,2,20170725,       1156,   -32.4998,   179.9220,       2713,   540.4,   9.1035,  34.6367,2,  34.6225,2, 214.1744,2, 214.0409,2,     6.7,2,   18.96,2,    0.00,2,    1.29,2,-999.000,9,-999.000,9,-999.0000,9,  2145.4,2, 2286.17,2,   7.7303,2, -999.00,9, -999.00,9, -999.00,  -999.0,9, -999.00,9,     -999.0,9,  -999.0,1, 20170725,     1128, -32.4998, 179.9221,        0.0,1,      0.059,1,      4.692,1,      0.147,1,      25.00,     -999.0,1,     -999.0,9,     -999.0,9,     -999.0,9,     9.0012,2,     -999.0,9
320620170703,        P06,      85,          1,         21,         21,2,20170725,       1156,   -32.4998,   179.9220,       2713,   468.6,  10.4916,  34.7976,2,  34.7604,2, 208.9699,2, 209.1016,2,     5.4,2,   16.48,2,    0.00,2,    1.13,2,-999.000,9,-999.000,9,-999.0000,9,  2137.9,2, 2295.53,2,   7.7543,2, -999.00,9, -999.00,9, -999.00,  -999.0,9, -999.00,9,     -999.0,9,  -999.0,1, 20170725,     1130, -32.4998, 179.9221,        0.0,1,      0.060,1,      4.692,1,      0.147,1,      25.00,     -999.0,1,     -999.0,9,     -999.0,9,     -999.0,9,    10.1889,2,     -999.0,9
320620170703,        P06,      85,          1,         22,         22,2,20170725,       1156,   -32.4998,   179.9220,       2713,   418.3,  11.3276,  34.9051,2,  34.8601,2, 208.3876,2, 208.3052,2,     4.8,2,   14.78,2,    0.00,2,    1.02,2,   2.930,2,   1.544,2,   1.0650,2,  2135.4,2, 2294.62,6,   7.7739,2, -999.00,9, -999.00,9, -999.00,  -999.0,9, -999.00,9,     -999.0,9,  -999.0,1, 20170725,     1132, -32.4997, 179.9220,        0.0,1,      0.060,1,      4.691,1,      0.147,1,      25.00,     -999.0,1,     -999.0,9,     -999.0,9,     -999.0,9,    11.0019,2,     -999.0,9
320620170703,        P06,      85,          1,         23,         23,2,20170725,       1156,   -32.4998,   179.9220,       2713,   367.3,  12.1028,  35.0065,2,  35.0031,2, 206.0906,2, 207.2658,2,     3.9,2,   12.44,2,    0.00,2,    0.87,2,-999.000,9,-999.000,9,-999.0000,9,  2127.7,2, 2300.44,2,   7.8007,2, -999.00,9, -999.00,9, -999.00,  -999.0,9, -999.00,9,     -999.0,9,  -999.0,1, 20170725,     1134, -32.4997, 179.9219,        0.0,1,      0.059,1,      4.690,1,      0.147,1,      25.00,     -999.0,1,     -999.0,1,     -999.0,9,     -999.0,9,    12.1281,2,       0.94,2
320620170703,        P06,      85,          1,         24,         24,2,20170725,       1156,   -32.4998,   179.9220,       2713,   317.7,  12.8608,  35.1003,2,  35.1252,3, 203.7430,2, 203.5635,2,     3.4,2,   10.82,2,    0.00,2,    0.76,2,-999.000,9,-999.000,9,-999.0000,9,  2121.8,2, 2305.13,2,   7.8234,2, -999.00,9, -999.00,9, -999.00,  -999.0,9, -999.00,9,     -999.0,9,  -999.0,1, 20170725,     1136, -32.4996, 179.9218,        0.0,1,      0.060,1,      4.561,1,      0.147,1,      25.00,     -999.0,1,     -999.0,1,     -999.0,9,     -999.0,9,    13.1247,2,       0.81,2
320620170703,        P06,      85,          1,         25,         25,2,20170725,       1156,   -32.4998,   179.9220,       2713,   267.7,  13.7617,  35.2113,2,  35.2619,2, 202.7197,2, 202.4091,2,     2.7,2,    8.97,2,    0.00,2,    0.63,2,   2.643,2,   1.428,2,   1.1710,2,  2115.4,2, 2314.14,2,   7.8516,2, -999.00,9, -999.00,9, -999.00,  -999.0,9, -999.00,9,     -999.0,9,  -999.0,1, 20170725,     1138, -32.4997, 179.9219,        0.0,1,      0.060,1,      4.474,1,      0.147,1,      25.00,     -999.0,1,     -999.0,1,     -999.0,9,     -999.0,9,    14.2872,2,     -999.0,9
320620170703,        P06,      85,          1,         26,         26,2,20170725,       1156,   -32.4998,   179.9220,       2713,   236.3,  14.6072,  35.3075,2,  35.3260,2, 202.7688,2, 203.3626,2,     2.4,2,    8.06,2,    0.00,2,    0.59,2,-999.000,9,-999.000,9,-999.0000,9,  2110.4,2, 2318.32,2,   7.8659,2, -999.00,9, -999.00,9, -999.00,  -999.0,9, -999.00,9,     -999.0,9,  -999.0,1, 20170725,     1140, -32.4997, 179.9219,        0.0,1,      0.060,1,      4.631,1,      0.149,1,      24.99,     -999.0,1,     -999.0,1,     -999.0,9,     -999.0,9,    14.7808,2,       0.65,2
320620170703,        P06,      85,          1,         27,         27,2,20170725,       1156,   -32.4998,   179.9220,       2713,   212.8,  15.0631,  35.3600,2,  35.3516,2, 202.6366,2, 202.6379,2,     2.3,2,    7.71,2,    0.00,2,    0.57,2,-999.000,9,-999.000,9,-999.0000,9,  2109.0,2, 2317.04,2,   7.8719,2, -999.00,9, -999.00,9, -999.00,  -999.0,9, -999.00,9,     -999.0,9,  -999.0,1, 20170725,     1142, -32.4997, 179.9220,        0.0,1,      0.061,1,      4.686,1,      0.150,1,      25.00,     -999.0,1,     -999.0,1,     -999.0,9,     -999.0,9,    15.0201,2,       0.65,2
320620170703,        P06,      85,          1,         28,         28,2,20170725,       1156,   -32.4998,   179.9220,       2713,   186.4,  15.7319,  35.4262,2,  35.4251,2, 204.1527,2, 202.8352,2,     1.9,2,    6.59,2,    0.02,2,    0.49,2,   2.513,2,   1.383,2,   1.1980,2,  2102.6,2, 2319.93,2,   7.8892,2, -999.00,9, -999.00,9, -999.00,  -999.0,9, -999.00,9,     -999.0,9,  -999.0,1, 20170725,     1143, -32.4997, 179.9219,        0.0,1,      0.061,1,      4.576,1,      0.154,1,      25.00,     -999.0,1,     -999.0,1,     -999.0,9,     -999.0,9,    15.8092,2,       0.56,2
320620170703,        P06,      85,          1,         29,         29,2,20170725,       1156,   -32.4998,   179.9220,       2713,   161.5,  16.0937,  35.4611,2,  35.4746,2, 204.4149,2, 203.4789,2,     1.7,2,    5.78,2,    0.02,2,    0.43,2,-999.000,9,-999.000,9,-999.0000,9,  2097.9,2, 2326.63,2,   7.9029,2, -999.00,9, -999.00,9, -999.00,  -999.0,9, -999.00,9,     -999.0,9,  -999.0,1, 20170725,     1145, -32.4997, 179.9219,        0.0,1,      0.064,1,      4.545,1,      0.157,1,      24.99,     -999.0,1,     -999.0,1,     -999.0,9,     -999.0,9,    16.3081,2,       0.53,2
320620170703,        P06,      85,          1,         30,         30,2,20170725,       1156,   -32.4998,   179.9220,       2713,   135.0,  17.4942,  35.6389,2,  35.6250,2, 221.9269,2, 220.9822,2,     0.9,2,    2.36,2,    0.13,2,    0.23,2,-999.000,9,-999.000,9,-999.0000,9,  2078.5,2, 2336.52,2,   7.9563,2, -999.00,9, -999.00,9, -999.00,  -999.0,9, -999.00,9,     -999.0,9,  -999.0,1, 20170725,     1147, -32.4997, 179.9219,        0.0,1,      0.117,1,      4.586,1,      0.227,1,      25.00,     -999.0,1,     -999.0,1,     -999.0,9,     -999.0,9,    17.4027,2,       0.43,2
320620170703,        P06,      85,          1,         31,         31,2,20170725,       1156,   -32.4998,   179.9220,       2713,   110.1,  17.7306,  35.6772,2,  35.6784,2, 228.4265,2, 229.3325,2,     0.6,2,    1.06,2,    0.15,2,    0.15,2,   2.291,2,   1.287,2,   1.4450,2,  2071.6,2, 2332.00,3,   7.9768,2, -999.00,9, -999.00,9, -999.00,  -999.0,9, -999.00,9,     -999.0,9,  -999.0,1, 20170725,     1149, -32.4997, 179.9219,        0.0,1,      0.158,1,      4.511,1,      0.245,1,      25.00,     -999.0,1,     -999.0,1,     -999.0,9,     -999.0,9,    17.7288,2,       0.37,2
320620170703,        P06,      85,          1,         32,         32,2,20170725,       1156,   -32.4998,   179.9220,       2713,    85.5,  17.7353,  35.6784,2,  35.6810,2, 229.0653,2, 229.6089,2,     0.5,2,    1.04,2,    0.14,2,    0.15,2,-999.000,9,-999.000,9,-999.0000,9,  2070.6,2, -131.23,4,   7.9775,2, -999.00,9, -999.00,9, -999.00,  -999.0,9, -999.00,9,     -999.0,9,  -999.0,1, 20170725,     1151, -32.4997, 179.9218,        0.0,1,      0.159,1,      4.620,1,      0.252,1,      24.98,     -999.0,1,     -999.0,1,     -999.0,9,     -999.0,9,    17.7346,2,       0.44,2