BOTTLE,20230922CCHSIOCBG
EXPOCODE,SECT_ID,STNNBR,CASTNO,SAMPNO,BTLNBR,BTLNBR_FLAG_W,DATE,TIME,LATITUDE,LONGITUDE,DEPTH,CTDPRS,CTDTMP,CTDSAL,CTDSAL_FLAG_W,SALNTY,SALNTY_FLAG_W,CTDOXY,CTDOXY_FLAG_W,OXYGEN,OXYGEN_FLAG_W,SILCAT,SILCAT_FLAG_W,NITRAT,NITRAT_FLAG_W,NITRIT,NITRIT_FLAG_W,PHSPHT,PHSPHT_FLAG_W,CFC-11,CFC-11_FLAG_W,CFC-12,CFC-12_FLAG_W,SF6,SF6_FLAG_W,TCARBN,TCARBN_FLAG_W,ALKALI,ALKALI_FLAG_W,PH_TOT,PH_TOT_FLAG_W,DELC13,DELC13_FLAG_W,DELC14,DELC14_FLAG_W,C14ERR,DOC,DOC_FLAG_W,TDN,TDN_FLAG_W,TON,TON_FLAG_W,D15N_NO3,D15N_NO3_FLAG_W,BTL_DATE,BTL_TIME,BTL_LAT,BTL_LON,CTDRINKO,CTDRINKO_FLAG_W,CTDFLUOR,CTDFLUOR_FLAG_W,CTDXMISS,CTDXMISS_FLAG_W,CTDBACKSCATTER,CTDBACKSCATTER_FLAG_W,PH_TMP,D18O_NO3,D18O_NO3_FLAG_W,DOP,DOP_FLAG_W,HPLC,HPLC_FLAG_W,POC,POC_FLAG_W,REFTMP,REFTMP_FLAG_W,TDP,TDP_FLAG_W
,,,,,,,,,,,METERS,DBAR,ITS-90,PSS-78,,PSS-78,,UMOL/KG,,UMOL/KG,,UMOL/KG,,UMOL/KG,,UMOL/KG,,UMOL/KG,,PMOL/KG,,PMOL/KG,,FMOL/KG,,UMOL/KG,,UMOL/KG,,,,/MILLE,,/MILLE,,/MILLE,UMOL/KG,,UMOL/KG,,UMOL/KG,,/MILLE,,,,,,VOLTS,,VOLTS,,VOLTS,,VOLTS,,DEGC,/MILLE,,UMOL/KG,,,,UG/L,,ITS-90,,UMOL/KG,
320620170703,        P06,     108,          1,          1,          1,2,20170731,       1247,   -32.4998,  -171.5896,       4829,  4910.5,   1.0401,  34.7086,2,  34.7079,2, 205.6433,2, 206.3505,2,   121.8,2,   32.03,2,    0.00,2,    2.23,2,   0.151,2,   0.081,2,   0.0000,2,  2263.2,6, 2363.98,2,   7.6057,2, -999.00,9, -999.00,9, -999.00,    37.5,2, -999.00,9,     -999.0,1,  -999.0,9, 20170731,     1034, -32.4998,-171.5898,        0.0,1,      0.061,1,      4.697,1,      0.128,1,      25.05,     -999.0,9,     -999.0,9,     -999.0,9,     -999.0,9,     1.0400,2,     -999.0,9
320620170703,        P06,     108,          1,          2,          2,2,20170731,       1247,   -32.4998,  -171.5896,       4829,  4733.2,   1.0356,  34.7094,2,  34.7077,2, 205.6433,2, 206.2633,2,   121.4,2,   31.96,2,    0.00,2,    2.23,2,   0.140,2,   0.079,2,   0.0000,2,  -999.0,9, -999.00,9,-999.0000,9, -999.00,9, -999.00,9, -999.00,  -999.0,9, -999.00,9,     -999.0,9,  -999.0,9, 20170731,     1040, -32.4998,-171.5897,        0.0,1,      0.061,1,      4.699,1,      0.127,1,     -999.0,     -999.0,9,     -999.0,9,     -999.0,9,     -999.0,9,     1.0359,2,     -999.0,9
320620170703,        P06,     108,          1,          3,          3,2,20170731,       1247,   -32.4998,  -171.5896,       4829,  4580.0,   1.0532,  34.7107,2,  34.7101,2, 205.6433,2, 205.8898,2,   120.2,2,   31.91,2,    0.00,2,    2.22,2,   0.131,2,   0.075,2,   0.0000,2,  -999.0,9, -999.00,9,-999.0000,9, -999.00,9, -999.00,9, -999.00,    37.9,2, -999.00,9,     -999.0,1,  -999.0,9, 20170731,     1045, -32.4999,-171.5897,        0.0,1,      0.060,1,      4.700,1,      0.127,1,     -999.0,     -999.0,9,     -999.0,9,     -999.0,9,     -999.0,9,     1.0532,2,     -999.0,9
320620170703,        P06,     108,          1,          4,          4,2,20170731,       1247,   -32.4998,  -171.5896,       4829,  4272.2,   1.1270,  34.7144,2,  34.7136,2, 205.9333,2, 204.6901,2,   117.4,2,   31.82,2,    0.00,2,    2.22,2,   0.116,2,   0.062,2,   0.0000,2,  -999.0,9, -999.00,9,-999.0000,9, -999.00,9, -999.00,9, -999.00,    43.7,3, -999.00,9,     -999.0,1,  -999.0,9, 20170731,     1053, -32.4998,-171.5898,        0.0,1,      0.061,1,      4.701,1,      0.127,1,     -999.0,     -999.0,9,     -999.0,9,     -999.0,9,     -999.0,9,     1.1255,2,     -999.0,9
320620170703,        P06,     108,          1,          5,          5,2,20170731,       1247,   -32.4998,  -171.5896,       4829,  3963.9,   1.2455,  34.7175,2,  34.7164,2, 201.7389,2, 201.8022,2,   114.2,2,   31.77,2,    0.00,2,    2.22,2,   0.091,2,   0.054,2,   0.0000,2,  -999.0,9, -999.00,9,-999.0000,9, -999.00,9, -999.00,9, -999.00,  -999.0,9, -999.00,9,     -999.0,9,  -999.0,9, 20170731,     1100, -32.4998,-171.5899,        0.0,1,      0.061,1,      4.701,1,      0.128,1,     -999.0,     -999.0,9,     -999.0,9,     -999.0,9,     -999.0,9,     1.2387,2,     -999.0,9
320620170703,        P06,     108,          1,          6,          6,2,20170731,       1247,   -32.4998,  -171.5896,       4829,  3656.3,   1.4721,  34.7184,2,  34.7170,2, 193.0853,2, 192.9589,2,   110.6,2,   31.96,2,    0.00,2,    2.23,2,   0.070,2,   0.043,2,   0.0000,2,  2265.5,2, 2340.92,2,   7.6019,2, -999.00,9, -999.00,9, -999.00,    38.2,2, -999.00,9,     -999.0,1,  -999.0,9, 20170731,     1106, -32.4999,-171.5896,        0.0,1,      0.061,1,      4.701,1,      0.129,1,      25.06,     -999.0,9,     -999.0,9,     -999.0,9,     -999.0,9,     1.4645,2,     -999.0,9
320620170703,        P06,     108,          1,          7,          7,2,20170731,       1247,   -32.4998,  -171.5896,       4829,  3349.7,   1.6575,  34.7004,2,  34.7066,2, 178.1417,2, 177.1108,2,   115.7,2,   33.21,2,    0.00,2,    2.33,2,   0.047,2,   0.032,2,   0.0000,2,  -999.0,9, -999.00,9,-999.0000,9, -999.00,9, -999.00,9, -999.00,    36.1,2, -999.00,9,     -999.0,1,  -999.0,9, 20170731,     1113, -32.4997,-171.5900,        0.0,1,      0.061,1,      4.701,1,      0.133,1,     -999.0,     -999.0,9,     -999.0,9,     -999.0,9,     -999.0,9,     1.6422,2,     -999.0,9
320620170703,        P06,     108,          1,          8,          8,2,20170731,       1247,   -32.4998,  -171.5896,       4829,  3042.2,   1.7570,  34.6820,2,  34.6793,2, 160.6908,2, 159.9096,2,   124.3,2,   34.73,2,    0.00,2,    2.44,2,   0.029,2,   0.025,2,   0.0000,2,  -999.0,9, -999.00,9,-999.0000,9, -999.00,9, -999.00,9, -999.00,    37.3,2, -999.00,9,     -999.0,1,  -999.0,9, 20170731,     1119, -32.4999,-171.5896,        0.0,1,      0.061,1,      4.701,1,      0.132,1,     -999.0,     -999.0,9,     -999.0,9,     -999.0,9,     -999.0,9,     1.7680,2,     -999.0,9
320620170703,        P06,     108,          1,          9,          9,2,20170731,       1247,   -32.4998,  -171.5896,       4829,  2788.9,   1.8805,  34.6645,2,  34.6639,2, 150.8303,2, 150.4656,2,   126.9,2,   35.57,2,    0.00,2,    2.49,2,   0.030,2,   0.022,2,   0.0000,2,  -999.0,9, -999.00,9,-999.0000,9, -999.00,9, -999.00,9, -999.00,  -999.0,9, -999.00,9,     -999.0,9,  -999.0,9, 20170731,     1125, -32.4998,-171.5896,        0.0,1,      0.061,1,      4.701,1,      0.132,1,     -999.0,     -999.0,9,     -999.0,9,     -999.0,9,     -999.0,9,     1.8744,2,     -999.0,9
320620170703,        P06,     108,          1,         10,         10,2,20170731,       1247,   -32.4998,  -171.5896,       4829,  2534.4,   2.0056,  34.6526,2,  34.6508,2, 147.8182,2, 148.1902,2,   123.3,2,   35.69,2,    0.00,2,    2.50,2,   0.026,2,   0.020,2,   0.0000,2,  2307.9,2, 2393.50,6,   7.5658,2, -999.00,9, -999.00,9, -999.00,  -999.0,9, -999.00,9,     -999.0,1,  -999.0,9, 20170731,     1131, -32.4998,-171.5898,        0.0,1,      0.061,1,      4.701,1,      0.134,1,      25.04,     -999.0,9,     -999.0,9,     -999.0,9,     -999.0,9,     2.0138,2,     -999.0,9
320620170703,        P06,     108,          1,         11,         11,2,20170731,       1247,   -32.4998,  -171.5896,       4829,  2278.3,   2.1432,  34.6396,2,  34.6396,2, 147.1578,2, 148.2686,2,   118.0,2,   35.64,2,    0.00,2,    2.50,2,   0.027,2,   0.022,2,   0.0000,2,  -999.0,9, -999.00,9,-999.0000,9, -999.00,9, -999.00,9, -999.00,  -999.0,9, -999.00,9,     -999.0,9,  -999.0,9, 20170731,     1137, -32.4999,-171.5895,        0.0,1,      0.062,1,      4.701,1,      0.133,1,     -999.0,     -999.0,9,     -999.0,9,     -999.0,9,     -999.0,9,     2.1438,2,     -999.0,9
320620170703,        P06,     108,          1,         12,         12,2,20170731,       1247,   -32.4998,  -171.5896,       4829,  2023.9,   2.3231,  34.6220,2,  34.6248,2, 149.2548,2, 152.0505,3,   109.2,2,   35.33,2,    0.00,2,    2.47,2,   0.031,2,   0.023,2,   0.0000,2,  -999.0,9, -999.00,9,-999.0000,9, -999.00,9, -999.00,9, -999.00,    38.3,2, -999.00,9,     -999.0,1,  -999.0,9, 20170731,     1143, -32.4999,-171.5894,        0.0,1,      0.062,1,      4.701,1,      0.135,1,     -999.0,     -999.0,9,     -999.0,9,     -999.0,9,     -999.0,9,     2.3306,2,     -999.0,9
320620170703,        P06,     108,          1,         13,         13,2,20170731,       1247,   -32.4998,  -171.5896,       4829,  1821.1,   2.4918,  34.5979,2,  34.5965,2, 152.8468,2, 154.3082,2,    99.5,2,   35.04,2,    0.00,2,    2.44,2,   0.036,2,   0.026,2,   0.0000,2,  -999.0,9, -999.00,9,-999.0000,9, -999.00,9, -999.00,9, -999.00,  -999.0,9, -999.00,9,     -999.0,9,  -999.0,9, 20170731,     1148, -32.4998,-171.5896,        0.0,1,      0.061,1,      4.701,1,      0.135,1,     -999.0,     -999.0,9,     -999.0,9,     -999.0,9,     -999.0,9,     2.4964,2,     -999.0,9
320620170703,        P06,     108,          1,         14,         14,2,20170731,       1247,   -32.4998,  -171.5896,       4829,  1616.5,   2.7460,  34.5522,2,  34.5468,2, 160.4647,2, 161.3302,2,    83.8,2,   34.62,2,    0.00,2,    2.40,2,   0.058,2,   0.041,2,   0.0000,2,  2266.9,2, 2351.53,2,   7.5688,2, -999.00,9, -999.00,9, -999.00,    41.9,2, -999.00,9,     -999.0,1,  -999.0,9, 20170731,     1153, -32.4998,-171.5896,        0.0,1,      0.061,1,      4.702,1,      0.135,1,      25.04,     -999.0,9,     -999.0,9,     -999.0,9,     -999.0,9,     2.7730,2,     -999.0,9
320620170703,        P06,     108,          1,         15,         15,2,20170731,       1247,   -32.4998,  -171.5896,       4829,  1517.3,   2.9407,  34.5131,2,  34.5036,2, 166.4742,2, 166.8697,2,    72.5,2,   34.32,2,    0.00,2,    2.37,2,   0.104,2,   0.064,2,   0.0000,2,  -999.0,9, -999.00,9,-999.0000,9, -999.00,9, -999.00,9, -999.00,  -999.0,9, -999.00,9,     -999.0,9,  -999.0,9, 20170731,     1156, -32.4999,-171.5894,        0.0,1,      0.061,1,      4.702,1,      0.135,1,     -999.0,     -999.0,9,     -999.0,9,     -999.0,9,     -999.0,9,     2.9774,2,     -999.0,9
320620170703,        P06,     108,          1,         16,         16,2,20170731,       1247,   -32.4998,  -171.5896,       4829,  1413.5,   3.1319,  34.4704,2,  34.4573,2, 172.7455,2, 173.0828,2,    62.5,2,   33.96,2,    0.00,2,    2.35,2,   0.170,2,   0.100,2,   0.0000,2,  -999.0,9, -999.00,9,-999.0000,9, -999.00,9, -999.00,9, -999.00,    40.1,2, -999.00,9,     -999.0,1,  -999.0,9, 20170731,     1159, -32.4999,-171.5895,        0.0,1,      0.060,1,      4.702,1,      0.135,1,     -999.0,     -999.0,9,     -999.0,9,     -999.0,9,     -999.0,9,     3.1871,2,     -999.0,9
320620170703,        P06,     108,          1,         17,         17,2,20170731,       1247,   -32.4998,  -171.5896,       4829,  1313.6,   3.5552,  34.4073,2,  34.4057,2, 181.2563,2, 180.9578,2,    51.3,2,   33.26,2,    0.00,2,    2.30,2,   0.370,2,   0.221,2,   0.0000,2,  -999.0,9, -999.00,9,-999.0000,9, -999.00,9, -999.00,9, -999.00,  -999.0,9, -999.00,9,     -999.0,9,  -999.0,9, 20170731,     1202, -32.4998,-171.5896,        0.0,1,      0.060,1,      4.702,1,      0.136,1,     -999.0,     -999.0,9,     -999.0,9,     -999.0,9,     -999.0,9,     3.5525,2,     -999.0,9
320620170703,        P06,     108,          1,         18,         18,2,20170731,       1247,   -32.4998,  -171.5896,       4829,  1211.0,   4.0625,  34.3629,2,  34.3670,2, 189.6113,2, 189.5428,2,    40.8,2,   32.15,2,    0.00,2,    2.21,2,-999.000,9,-999.000,9,-999.0000,9,  2209.1,2, 2303.24,2,   7.6009,2, -999.00,9, -999.00,9, -999.00,    37.1,3, -999.00,9,     -999.0,1,  -999.0,9, 20170731,     1205, -32.4998,-171.5896,        0.0,1,      0.060,1,      4.702,1,      0.135,1,      25.04,     -999.0,9,     -999.0,9,     -999.0,9,     -999.0,9,     4.0166,2,     -999.0,9
320620170703,        P06,     108,          1,         19,         19,2,20170731,       1247,   -32.4998,  -171.5896,       4829,  1109.9,   4.7441,  34.3284,2,  34.3260,3, 203.2020,2, 202.5935,2,    27.7,2,   30.14,2,    0.00,2,    2.06,2,   1.192,2,   0.543,2,   0.1440,2,  -999.0,9, -999.00,9,-999.0000,9, -999.00,9, -999.00,9, -999.00,    42.0,2, -999.00,9,     -999.0,1,  -999.0,9, 20170731,     1208, -32.4998,-171.5896,        0.0,1,      0.060,1,      4.701,1,      0.137,1,     -999.0,     -999.0,9,     -999.0,9,     -999.0,9,     -999.0,9,     4.7218,2,     -999.0,9
320620170703,        P06,     108,          1,         20,         20,2,20170731,       1247,   -32.4998,  -171.5896,       4829,  1009.2,   5.3140,  34.3181,2,  34.3176,2, 215.1142,2, 214.9935,2,    19.0,2,   27.93,2,    0.00,2,    1.92,2,   1.722,2,   0.800,2,   0.2050,2,  -999.0,9, -999.00,9,-999.0000,9, -999.00,9, -999.00,9, -999.00,  -999.0,9, -999.00,9,     -999.0,9,  -999.0,9, 20170731,     1211, -32.4998,-171.5897,        0.0,1,      0.059,1,      4.701,1,      0.137,1,     -999.0,     -999.0,9,     -999.0,9,     -999.0,9,     -999.0,9,     5.3632,2,     -999.0,9
320620170703,        P06,     108,          1,         21,         21,2,20170731,       1247,   -32.4998,  -171.5896,       4829,   905.1,   6.0209,  34.3281,2,  34.3233,2, 224.7793,2, 224.5779,2,    13.4,2,   25.93,2,    0.00,2,    1.77,2,   2.240,2,   1.066,2,   0.3300,2,  2159.2,2, 2277.96,2,   7.6783,2, -999.00,9, -999.00,9, -999.00,    46.5,3, -999.00,9,     -999.0,1,  -999.0,9, 20170731,     1214, -32.4997,-171.5897,        0.0,1,      0.059,1,      4.699,1,      0.138,1,      25.04,     -999.0,9,     -999.0,9,     -999.0,9,     -999.0,9,     5.9103,2,     -999.0,9
320620170703,        P06,     108,          1,         22,         22,2,20170731,       1247,   -32.4998,  -171.5896,       4829,   806.2,   6.5204,  34.3511,2,  34.3448,2, 232.2464,2, 232.6101,2,     9.4,2,   23.99,2,    0.00,2,    1.63,2,   2.909,2,   1.417,2,   0.4450,2,  -999.0,9, -999.00,9,-999.0000,9, -999.00,9, -999.00,9, -999.00,  -999.0,9, -999.00,9,     -999.0,9,  -999.0,9, 20170731,     1217, -32.4997,-171.5898,        0.0,1,      0.059,1,      4.699,1,      0.138,1,     -999.0,     -999.0,9,     -999.0,9,     -999.0,9,     -999.0,9,     6.4579,2,     -999.0,9
320620170703,        P06,     108,          1,         23,         23,2,20170731,       1247,   -32.4998,  -171.5896,       4829,   706.4,   7.1231,  34.3957,2,  34.3859,2, 234.4589,2, 234.8330,2,     7.0,2,   22.25,2,    0.00,2,    1.51,2,   3.453,2,   1.726,2,   0.6920,2,  2144.5,2, 2278.15,2,   7.7064,2, -999.00,9, -999.00,9, -999.00,    40.2,2, -999.00,9,     -999.0,1,  -999.0,9, 20170731,     1220, -32.4997,-171.5898,        0.0,1,      0.059,1,      4.697,1,      0.141,1,      25.05,     -999.0,9,     -999.0,9,     -999.0,9,     -999.0,9,     7.0301,2,     -999.0,9
320620170703,        P06,     108,          1,         24,         24,2,20170731,       1247,   -32.4998,  -171.5896,       4829,   604.0,   7.7491,  34.4525,2,  34.4434,2, 232.7004,2, 232.1935,2,     5.7,2,   20.61,2,    0.00,2,    1.41,2,-999.000,9,-999.000,9,-999.0000,9,  -999.0,9, -999.00,9,-999.0000,9, -999.00,9, -999.00,9, -999.00,    45.3,2, -999.00,9,     -999.0,1,  -999.0,9, 20170731,     1223, -32.4997,-171.5898,        0.0,1,      0.058,1,      4.696,1,      0.143,1,     -999.0,     -999.0,9,     -999.0,9,     -999.0,9,     -999.0,9,     7.6541,2,     -999.0,9
320620170703,        P06,     108,          1,         25,         25,2,20170731,       1247,   -32.4998,  -171.5896,       4829,   503.1,   9.1893,  34.6114,2,  34.5484,3, 222.4006,2, 222.4044,2,     4.5,2,   18.42,2,    0.00,2,    1.27,2,   3.506,2,   1.765,2,   0.7650,2,  2141.1,2, 2283.91,2,   7.7282,2, -999.00,9, -999.00,9, -999.00,    44.8,2, -999.00,9,     -999.0,1,  -999.0,9, 20170731,     1225, -32.4997,-171.5897,        0.0,1,      0.059,1,      4.694,1,      0.146,1,      25.04,     -999.0,9,     -999.0,9,     -999.0,9,     -999.0,9,     8.6680,2,     -999.0,9
320620170703,        P06,     108,          1,         26,         26,2,20170731,       1247,   -32.4998,  -171.5896,       4829,   403.0,  11.2892,  34.8757,2,  34.8204,2, 215.6561,2, 215.7214,2,     2.9,2,   13.14,2,    0.00,2,    0.93,2,   3.125,2,   1.688,2,   1.1700,2,  -999.0,9, -999.00,9,-999.0000,9, -999.00,9, -999.00,9, -999.00,    45.4,2, -999.00,9,     -999.0,1,  -999.0,9, 20170731,     1228, -32.4998,-171.5896,        0.0,1,      0.059,1,      4.692,1,      0.142,1,     -999.0,     -999.0,9,     -999.0,9,     -999.0,9,     -999.0,9,    10.9277,2,     -999.0,9
320620170703,        P06,     108,          1,         27,         27,2,20170731,       1247,   -32.4998,  -171.5896,       4829,   353.6,  12.3580,  35.0034,2,  34.9425,2, 209.5300,2, 209.5209,2,     2.6,2,   11.44,2,    0.00,2,    0.83,2,-999.000,9,-999.000,9,-999.0000,9,  -999.0,9, -999.00,9,-999.0000,9, -999.00,9, -999.00,9, -999.00,  -999.0,9, -999.00,9,     -999.0,9,  -999.0,9, 20170731,     1230, -32.4999,-171.5894,        0.0,1,      0.060,1,      4.692,1,      0.140,1,     -999.0,     -999.0,9,     -999.0,9,     -999.0,9,     -999.0,9,    11.9090,2,     -999.0,9
320620170703,        P06,     108,          1,         28,         28,2,20170731,       1247,   -32.4998,  -171.5896,       4829,   302.9,  13.3452,  35.1320,2,  35.0661,2, 208.2962,2, 207.6084,2,     2.1,2,    9.43,2,    0.00,2,    0.71,2,   2.797,2,   1.563,2,   1.0960,2,  2117.8,2, 2302.36,2,   7.8221,2, -999.00,9, -999.00,9, -999.00,    46.4,2, -999.00,9,     -999.0,1,  -999.0,9, 20170731,     1232, -32.4999,-171.5894,        0.0,1,      0.060,1,      4.691,1,      0.139,1,      25.03,     -999.0,9,     -999.0,9,     -999.0,9,     -999.0,9,    12.8743,2,     -999.0,9
320620170703,        P06,     108,          1,         29,         29,2,20170731,       1247,   -32.4998,  -171.5896,       4829,   251.1,  14.6999,  35.3047,2,  35.2627,2, 208.2849,2, 208.0627,2,     1.7,2,    7.10,2,    0.00,2,    0.56,2,-999.000,9,-999.000,9,-999.0000,9,  -999.0,9, -999.00,9,-999.0000,9, -999.00,9, -999.00,9, -999.00,    51.2,2,    9.90,2,     -999.0,1,  -999.0,9, 20170731,     1234, -32.4999,-171.5894,        0.0,1,      0.061,1,      4.690,1,      0.138,1,     -999.0,     -999.0,9,     -999.0,9,     -999.0,9,     -999.0,9,    14.2197,2,     -999.0,9
320620170703,        P06,     108,          1,         30,         30,2,20170731,       1247,   -32.4998,  -171.5896,       4829,   201.6,  15.7222,  35.4285,2,  35.3689,2, 209.7966,2, 209.2604,2,     1.1,2,    5.33,2,    0.02,2,    0.45,2,   2.485,2,   1.441,2,   1.1590,2,  2103.2,2, 2316.53,2,   7.8817,2, -999.00,9, -999.00,9, -999.00,    51.0,2,    8.10,2,     -999.0,1,  -999.0,9, 20170731,     1236, -32.4999,-171.5894,        0.0,1,      0.067,1,      4.686,1,      0.139,1,      25.04,     -999.0,9,     -999.0,9,     -999.0,9,     -999.0,9,    15.1838,2,     -999.0,9
320620170703,        P06,     108,          1,         31,         31,2,20170731,       1247,   -32.4998,  -171.5896,       4829,   150.8,  17.4712,  35.6750,2,  35.5267,2, 221.3598,4, 212.2010,2,     0.6,2,    3.12,2,    0.04,2,    0.29,2,-999.000,9,-999.000,9,-999.0000,9,  -999.0,9, -999.00,9,-999.0000,9, -999.00,9, -999.00,9, -999.00,    50.0,2,    5.90,2,     -999.0,1,  -999.0,9, 20170731,     1238, -32.4999,-171.5894,        0.0,1,      0.156,1,      4.641,1,      0.197,1,     -999.0,     -999.0,9,     -999.0,9,     -999.0,9,     -999.0,9,    16.5615,2,     -999.0,9
320620170703,        P06,     108,          1,         32,         32,2,20170731,       1247,   -32.4998,  -171.5896,       4829,   101.2,  17.4888,  35.6792,2,  35.6763,2, 231.1350,2, 231.4725,2,     0.2,2,    0.33,2,    0.04,2,    0.10,2,   2.225,2,   1.310,2,   1.2340,2,  -999.0,9, -999.00,9,-999.0000,9, -999.00,9, -999.00,9, -999.00,    56.0,2,    4.30,2,     -999.0,1,  -999.0,9, 20170731,     1240, -32.4999,-171.5894,        0.0,1,      0.167,1,      4.638,1,      0.196,1,     -999.0,     -999.0,9,     -999.0,9,     -999.0,9,     -999.0,9,    17.4817,2,     -999.0,9