BOTTLE,20230922CCHSIOCBG
EXPOCODE,SECT_ID,STNNBR,CASTNO,SAMPNO,BTLNBR,BTLNBR_FLAG_W,DATE,TIME,LATITUDE,LONGITUDE,DEPTH,CTDPRS,CTDTMP,CTDSAL,CTDSAL_FLAG_W,SALNTY,SALNTY_FLAG_W,CTDOXY,CTDOXY_FLAG_W,OXYGEN,OXYGEN_FLAG_W,SILCAT,SILCAT_FLAG_W,NITRAT,NITRAT_FLAG_W,NITRIT,NITRIT_FLAG_W,PHSPHT,PHSPHT_FLAG_W,CFC-11,CFC-11_FLAG_W,CFC-12,CFC-12_FLAG_W,SF6,SF6_FLAG_W,TCARBN,TCARBN_FLAG_W,ALKALI,ALKALI_FLAG_W,PH_TOT,PH_TOT_FLAG_W,DELC13,DELC13_FLAG_W,DELC14,DELC14_FLAG_W,C14ERR,DOC,DOC_FLAG_W,TDN,TDN_FLAG_W,TON,TON_FLAG_W,D15N_NO3,D15N_NO3_FLAG_W,BTL_DATE,BTL_TIME,BTL_LAT,BTL_LON,CTDRINKO,CTDRINKO_FLAG_W,CTDFLUOR,CTDFLUOR_FLAG_W,CTDXMISS,CTDXMISS_FLAG_W,CTDBACKSCATTER,CTDBACKSCATTER_FLAG_W,PH_TMP,D18O_NO3,D18O_NO3_FLAG_W,DOP,DOP_FLAG_W,HPLC,HPLC_FLAG_W,POC,POC_FLAG_W,REFTMP,REFTMP_FLAG_W,TDP,TDP_FLAG_W
,,,,,,,,,,,METERS,DBAR,ITS-90,PSS-78,,PSS-78,,UMOL/KG,,UMOL/KG,,UMOL/KG,,UMOL/KG,,UMOL/KG,,UMOL/KG,,PMOL/KG,,PMOL/KG,,FMOL/KG,,UMOL/KG,,UMOL/KG,,,,/MILLE,,/MILLE,,/MILLE,UMOL/KG,,UMOL/KG,,UMOL/KG,,/MILLE,,,,,,VOLTS,,VOLTS,,VOLTS,,VOLTS,,DEGC,/MILLE,,UMOL/KG,,,,UG/L,,ITS-90,,UMOL/KG,
320620170703,        P06,      77,          1,         33,         33,2,20170721,       0538,   -30.5270,   176.9411,       4275,    63.1,  19.1220,  35.8042,2,  35.8040,2, 224.5864,2, 224.6033,2,     0.3,2,    0.36,2,    0.06,2,    0.07,2,   2.229,2,   1.210,2,   0.8510,2,  2061.5,2, 2340.28,2,   8.0045,2, -999.00,9, -999.00,9, -999.00,  -999.0,9, -999.00,9,     -999.0,9,  -999.0,9, 20170721,      536, -30.5270, 176.9413,        0.0,1,      0.160,1,      4.632,1,      0.196,1,      25.05,     -999.0,9,     -999.0,9,     -999.0,9,     -999.0,9,    19.1190,2,     -999.0,9
320620170703,        P06,      77,          1,         34,         34,2,20170721,       0538,   -30.5270,   176.9411,       4275,    40.4,  19.1258,  35.8044,2,  35.8098,2, 224.3509,2, 224.9801,2,     0.3,2,    0.35,2,    0.06,2,    0.08,2,   2.213,2,   1.198,2,   0.9640,2,  -999.0,9, -999.00,9,-999.0000,9, -999.00,9, -999.00,9, -999.00,  -999.0,9, -999.00,9,     -999.0,9,  -999.0,9, 20170721,      537, -30.5270, 176.9412,        0.0,1,      0.156,1,      4.630,1,      0.199,1,     -999.0,     -999.0,9,     -999.0,9,     -999.0,9,     -999.0,9,    19.1120,2,     -999.0,9
320620170703,        P06,      77,          1,         35,         35,2,20170721,       0538,   -30.5270,   176.9411,       4275,    18.4,  19.1230,  35.8050,2,  35.8007,2, 224.1642,2, 224.7129,2,     0.3,2,    0.35,2,    0.06,2,    0.08,2,   2.170,2,   1.198,2,   1.0940,2,  2064.3,2, 2338.30,2,   8.0044,2, -999.00,9, -999.00,9, -999.00,  -999.0,9, -999.00,9,     -999.0,9,  -999.0,9, 20170721,      537, -30.5270, 176.9411,        0.0,1,      0.130,1,      4.628,1,      0.193,1,      25.05,     -999.0,9,     -999.0,9,     -999.0,9,     -999.0,9,    19.1045,2,     -999.0,9
320620170703,        P06,      77,          1,         36,         36,2,20170721,       0538,   -30.5270,   176.9411,       4275,     7.7,  19.1226,  35.8045,2,  35.7997,2, 224.3096,2, 224.9167,2,     0.3,2,    0.36,2,    0.06,2,    0.09,2,   2.253,2,   1.196,2,   1.0870,2,  2063.2,6, 2346.31,2,   8.0048,2, -999.00,9, -999.00,9, -999.00,  -999.0,9, -999.00,9,     -999.0,9,  -999.0,9, 20170721,      538, -30.5270, 176.9411,        0.0,1,      0.101,1,      4.593,1,      0.190,1,      25.04,     -999.0,9,     -999.0,9,     -999.0,9,     -999.0,9,    19.0997,2,     -999.0,9