BOTTLE,20230922CCHSIOCBG
EXPOCODE,SECT_ID,STNNBR,CASTNO,SAMPNO,BTLNBR,BTLNBR_FLAG_W,DATE,TIME,LATITUDE,LONGITUDE,DEPTH,CTDPRS,CTDTMP,CTDSAL,CTDSAL_FLAG_W,SALNTY,SALNTY_FLAG_W,CTDOXY,CTDOXY_FLAG_W,OXYGEN,OXYGEN_FLAG_W,SILCAT,SILCAT_FLAG_W,NITRAT,NITRAT_FLAG_W,NITRIT,NITRIT_FLAG_W,PHSPHT,PHSPHT_FLAG_W,CFC-11,CFC-11_FLAG_W,CFC-12,CFC-12_FLAG_W,SF6,SF6_FLAG_W,TCARBN,TCARBN_FLAG_W,ALKALI,ALKALI_FLAG_W,PH_TOT,PH_TOT_FLAG_W,DELC13,DELC13_FLAG_W,DELC14,DELC14_FLAG_W,C14ERR,DOC,DOC_FLAG_W,TDN,TDN_FLAG_W,TON,TON_FLAG_W,D15N_NO3,D15N_NO3_FLAG_W,BTL_DATE,BTL_TIME,BTL_LAT,BTL_LON,CTDRINKO,CTDRINKO_FLAG_W,CTDFLUOR,CTDFLUOR_FLAG_W,CTDXMISS,CTDXMISS_FLAG_W,CTDBACKSCATTER,CTDBACKSCATTER_FLAG_W,PH_TMP,D18O_NO3,D18O_NO3_FLAG_W,DOP,DOP_FLAG_W,HPLC,HPLC_FLAG_W,POC,POC_FLAG_W,REFTMP,REFTMP_FLAG_W,TDP,TDP_FLAG_W
,,,,,,,,,,,METERS,DBAR,ITS-90,PSS-78,,PSS-78,,UMOL/KG,,UMOL/KG,,UMOL/KG,,UMOL/KG,,UMOL/KG,,UMOL/KG,,PMOL/KG,,PMOL/KG,,FMOL/KG,,UMOL/KG,,UMOL/KG,,,,/MILLE,,/MILLE,,/MILLE,UMOL/KG,,UMOL/KG,,UMOL/KG,,/MILLE,,,,,,VOLTS,,VOLTS,,VOLTS,,VOLTS,,DEGC,/MILLE,,UMOL/KG,,,,UG/L,,ITS-90,,UMOL/KG,
320620170703,        P06,      49,          1,          1,         37,2,20170714,       1015,   -30.0801,   167.7505,        988,   986.7,   5.9309,  34.4612,2,  34.4612,2, 193.9981,2, 193.9520,2,    29.9,2,   27.46,2,    0.00,2,    1.89,2,-999.000,9,-999.000,9,-999.0000,9,  2188.6,2, 2295.76,2,   7.6536,2, -999.00,9, -999.00,9, -999.00,    41.0,2, -999.00,9,     -999.0,1,  -999.0,9, 20170714,      928, -30.0800, 167.7501,        0.0,1,      0.060,1,      2.040,1,      0.148,1,      25.00,     -999.0,9,     -999.0,9,     -999.0,9,     -999.0,9,     5.9261,2,     -999.0,9
320620170703,        P06,      49,          1,          2,          2,2,20170714,       1015,   -30.0801,   167.7505,        988,   910.9,   6.3582,  34.4669,2,  34.4640,2, 198.5010,2, 198.6776,2,    24.3,2,   26.30,2,    0.00,2,    1.80,2,-999.000,9,-999.000,9,-999.0000,9,  -999.0,9, -999.00,9,-999.0000,9, -999.00,9, -999.00,9, -999.00,    40.8,2, -999.00,9,     -999.0,1,  -999.0,9, 20170714,      931, -30.0799, 167.7498,        0.0,1,      0.059,1,      0.729,1,      0.141,1,     -999.0,     -999.0,9,     -999.0,9,     -999.0,9,     -999.0,9,     6.3654,2,     -999.0,9
320620170703,        P06,      49,          1,          3,         38,2,20170714,       1015,   -30.0801,   167.7505,        988,   872.9,   6.8185,  34.4847,2,  34.4813,2, 201.7578,2, 201.5751,2,    20.4,2,   25.23,2,    0.00,2,    1.72,2,-999.000,9,-999.000,9,-999.0000,9,  2171.4,2, 2287.10,2,   7.6766,2, -999.00,9, -999.00,9, -999.00,    38.6,2, -999.00,9,     -999.0,1,  -999.0,9, 20170714,      934, -30.0799, 167.7497,        0.0,1,      0.060,1,      3.681,1,      0.140,1,      25.02,     -999.0,9,     -999.0,9,     -999.0,9,     -999.0,9,     6.7669,2,     -999.0,9
320620170703,        P06,      49,          1,          4,          4,2,20170714,       1015,   -30.0801,   167.7505,        988,   770.1,   7.4711,  34.5336,2,  34.5264,2, 202.3631,2, 202.5158,2,    16.9,2,   23.79,2,    0.00,2,    1.63,2,-999.000,9,-999.000,9,-999.0000,9,  -999.0,9, -999.00,9,-999.0000,9, -999.00,9, -999.00,9, -999.00,    38.4,2, -999.00,9,     -999.0,1,  -999.0,9, 20170714,      937, -30.0799, 167.7496,        0.0,1,      0.059,1,      4.135,1,      0.141,1,     -999.0,     -999.0,9,     -999.0,9,     -999.0,9,     -999.0,9,     7.3953,2,     -999.0,9
320620170703,        P06,      49,          1,          5,         39,2,20170714,       1015,   -30.0801,   167.7505,        988,   668.2,   8.6917,  34.6337,2,  34.6121,2, 202.9194,2, 202.6374,2,    11.9,2,   21.30,2,    0.00,2,    1.47,2,-999.000,9,-999.000,9,-999.0000,9,  2155.4,2, 2284.76,2,   7.7109,2, -999.00,9, -999.00,9, -999.00,    41.2,2, -999.00,9,     -999.0,1,  -999.0,9, 20170714,      940, -30.0799, 167.7496,        0.0,1,      0.060,1,      0.012,1,      0.143,1,      25.01,     -999.0,9,     -999.0,9,     -999.0,9,     -999.0,9,     8.4316,2,     -999.0,9
320620170703,        P06,      49,          1,          6,          6,2,20170714,       1015,   -30.0801,   167.7505,        988,   569.4,   9.9021,  34.7566,2,  34.7376,2, 201.7421,2, 201.9903,2,     8.2,2,   18.44,2,    0.00,2,    1.26,2,-999.000,9,-999.000,9,-999.0000,9,  -999.0,9, -999.00,9,-999.0000,9, -999.00,9, -999.00,9, -999.00,    41.0,2, -999.00,9,     -999.0,1,  -999.0,9, 20170714,      943, -30.0799, 167.7500,        0.0,1,      0.060,1,      0.006,1,      0.144,1,     -999.0,     -999.0,9,     -999.0,9,     -999.0,9,     -999.0,9,     9.7627,2,     -999.0,9
320620170703,        P06,      49,          1,          7,         40,2,20170714,       1015,   -30.0801,   167.7505,        988,   488.9,  11.0291,  34.8876,2,  34.8770,2, 199.4353,2, 199.3343,2,     6.3,2,   15.93,2,    0.00,2,    1.09,2,-999.000,9,-999.000,9,-999.0000,9,  2137.4,2, 2287.60,2,   7.7672,2, -999.00,9, -999.00,9, -999.00,    42.5,2,   18.50,2,     -999.0,1,  -999.0,9, 20170714,      946, -30.0800, 167.7502,        0.0,1,      0.060,1,      0.006,1,      0.147,1,      25.00,     -999.0,9,     -999.0,9,     -999.0,9,     -999.0,9,    10.9919,2,     -999.0,9
320620170703,        P06,      49,          1,          8,          8,2,20170714,       1015,   -30.0801,   167.7505,        988,   439.0,  11.9631,  35.0013,2,  34.9864,2, 197.6845,2, 197.7039,2,     5.3,2,   14.27,2,    0.00,2,    0.99,2,-999.000,9,-999.000,9,-999.0000,9,  -999.0,9, -999.00,9,-999.0000,9, -999.00,9, -999.00,9, -999.00,  -999.0,9, -999.00,9,     -999.0,9,  -999.0,9, 20170714,      949, -30.0800, 167.7504,        0.0,1,      0.060,1,      0.006,1,      0.145,1,     -999.0,     -999.0,9,     -999.0,9,     -999.0,9,     -999.0,9,    11.8543,2,     -999.0,9
320620170703,        P06,      49,          1,          9,         41,2,20170714,       1015,   -30.0801,   167.7505,        988,   388.4,  12.8815,  35.1019,2,  35.0921,2, 197.2017,2, 197.2352,2,     4.2,2,   12.35,2,    0.00,2,    0.87,2,-999.000,9,-999.000,9,-999.0000,9,  2127.2,2, 2301.93,2,   7.8118,2, -999.00,9, -999.00,9, -999.00,    40.1,3,   15.20,2,     -999.0,1,  -999.0,9, 20170714,      951, -30.0800, 167.7504,        0.0,1,      0.060,1,      0.006,1,      0.147,1,      25.03,     -999.0,9,     -999.0,9,     -999.0,9,     -999.0,9,    12.7684,2,     -999.0,9
320620170703,        P06,      49,          1,         10,         10,2,20170714,       1015,   -30.0801,   167.7505,        988,   336.4,  13.9096,  35.2125,2,  35.2331,2, 198.2951,2, 198.6830,2,     3.0,2,    9.91,2,    0.00,2,    0.70,2,-999.000,9,-999.000,9,-999.0000,9,  -999.0,9, -999.00,9,-999.0000,9, -999.00,9, -999.00,9, -999.00,    44.6,2,   12.70,2,     -999.0,1,  -999.0,9, 20170714,      953, -30.0800, 167.7503,        0.0,1,      0.059,1,      0.933,1,      0.142,1,     -999.0,     -999.0,9,     -999.0,9,     -999.0,9,     -999.0,9,    14.0275,2,     -999.0,9
320620170703,        P06,      49,          1,         11,         42,2,20170714,       1015,   -30.0801,   167.7505,        988,   286.3,  14.8778,  35.3280,2,  35.3437,2, 197.4677,2, 197.1788,2,     2.3,2,    8.45,2,    0.00,2,    0.62,2,-999.000,9,-999.000,9,-999.0000,9,  2109.3,2, 2312.88,2,   7.8697,2, -999.00,9, -999.00,9, -999.00,    49.0,2,   12.00,2,     -999.0,1,  -999.0,9, 20170714,      956, -30.0799, 167.7501,        0.0,1,      0.059,1,      1.823,1,      0.151,1,      25.02,     -999.0,9,     -999.0,9,     -999.0,9,     -999.0,9,    15.0678,2,     -999.0,9
320620170703,        P06,      49,          1,         12,         12,2,20170714,       1015,   -30.0801,   167.7505,        988,   240.4,  16.1909,  35.4588,2,  35.4713,2, 200.5101,2, 200.0289,2,     1.6,2,    6.20,2,    0.00,2,    0.47,2,-999.000,9,-999.000,9,-999.0000,9,  -999.0,9, -999.00,9,-999.0000,9, -999.00,9, -999.00,9, -999.00,    50.7,2,    9.70,2,     -999.0,1,  -999.0,9, 20170714,      958, -30.0799, 167.7499,        0.0,1,      0.059,1,      4.689,1,      0.151,1,     -999.0,     -999.0,9,     -999.0,9,     -999.0,9,     -999.0,9,    16.3308,2,     -999.0,9
320620170703,        P06,      49,          1,         13,         43,2,20170714,       1015,   -30.0801,   167.7505,        988,   216.4,  16.6070,  35.4934,2,  35.4969,2, 198.9198,2, 199.2960,2,     1.5,2,    5.99,2,    0.00,2,    0.46,2,-999.000,9,-999.000,9,-999.0000,9,  2096.3,2, 2321.21,2,   7.9091,2, -999.00,9, -999.00,9, -999.00,    49.0,2,    8.70,2,     -999.0,1,  -999.0,9, 20170714,     1000, -30.0799, 167.7498,        0.0,1,      0.060,1,      4.683,1,      0.149,1,      25.05,     -999.0,9,     -999.0,9,     -999.0,9,     -999.0,9,    16.6671,2,     -999.0,9
320620170703,        P06,      49,          1,         14,         14,2,20170714,       1015,   -30.0801,   167.7505,        988,   190.8,  17.5137,  35.5810,2,  35.5634,2, 198.5072,2, 198.3525,2,     1.2,2,    5.11,2,    0.02,2,    0.40,2,-999.000,9,-999.000,9,-999.0000,9,  -999.0,9, -999.00,9,-999.0000,9, -999.00,9, -999.00,9, -999.00,    50.8,2,    8.60,2,     -999.0,1,  -999.0,9, 20170714,     1002, -30.0799, 167.7497,        0.0,1,      0.061,1,      4.684,1,      0.167,1,     -999.0,     -999.0,9,     -999.0,9,     -999.0,9,     -999.0,9,    17.3488,2,     -999.0,9
320620170703,        P06,      49,          1,         15,         15,2,20170714,       1015,   -30.0801,   167.7505,        988,   166.7,  18.3096,  35.6422,2,  35.6121,2, 198.1132,2, 197.9428,2,     1.0,2,    4.49,2,    0.02,2,    0.37,2,-999.000,9,-999.000,9,-999.0000,9,  2085.2,2, 2324.84,2,   7.9395,2, -999.00,9, -999.00,9, -999.00,    50.3,2,    8.10,2,     -999.0,1,  -999.0,9, 20170714,     1003, -30.0799, 167.7496,        0.0,1,      0.064,1,      4.663,1,      0.154,1,      25.02,     -999.0,9,     -999.0,9,     -999.0,9,     -999.0,9,    17.9536,2,     -999.0,9
320620170703,        P06,      49,          1,         16,         16,2,20170714,       1015,   -30.0801,   167.7505,        988,   140.6,  19.2308,  35.7798,2,  35.6917,3, 203.3980,2, 202.6462,2,     0.6,2,    3.07,2,    0.05,2,    0.27,2,-999.000,9,-999.000,9,-999.0000,9,  -999.0,9, -999.00,9,-999.0000,9, -999.00,9, -999.00,9, -999.00,    53.3,2,    6.40,2,     -999.0,1,  -999.0,9, 20170714,     1005, -30.0799, 167.7496,        0.0,1,      0.110,1,      4.651,1,      0.191,1,     -999.0,     -999.0,9,     -999.0,9,     -999.0,9,     -999.0,9,    18.7364,2,     -999.0,9
320620170703,        P06,      49,          1,         17,         17,2,20170714,       1015,   -30.0801,   167.7505,        988,   116.1,  19.5800,  35.8526,2,  35.8289,2, 221.1571,2, 221.6846,2,     0.4,2,    0.43,2,    0.13,2,    0.11,2,-999.000,9,-999.000,9,-999.0000,9,  2056.6,2, 2335.52,2,   8.0096,2, -999.00,9, -999.00,9, -999.00,    60.8,2,    4.50,2,     -999.0,1,  -999.0,9, 20170714,     1007, -30.0799, 167.7496,        0.0,1,      0.155,1,      4.602,1,      0.211,1,      24.89,     -999.0,9,     -999.0,9,     -999.0,9,     -999.0,9,    19.4941,2,     -999.0,9
320620170703,        P06,      49,          1,         18,         18,2,20170714,       1015,   -30.0801,   167.7505,        988,    91.7,  19.6125,  35.8614,2,  35.8542,2, 221.3902,2, 221.4419,2,     0.2,2,    0.39,2,    0.10,2,    0.10,2,-999.000,9,-999.000,9,-999.0000,9,  -999.0,9, -999.00,9,-999.0000,9, -999.00,9, -999.00,9, -999.00,    57.7,2,    5.40,2,     -999.0,1,  -999.0,9, 20170714,     1008, -30.0799, 167.7499,        0.0,1,      0.172,1,      4.628,1,      0.211,1,     -999.0,     -999.0,9,     -999.0,9,     -999.0,9,     -999.0,9,    19.5961,2,     -999.0,9
320620170703,        P06,      49,          1,         19,         19,2,20170714,       1015,   -30.0801,   167.7505,        988,    65.3,  19.6448,  35.8687,2,  35.8663,2, 222.2128,2, 222.4054,2,     0.3,2,    0.34,2,    0.08,2,    0.10,2,-999.000,9,-999.000,9,-999.0000,9,  2060.0,2, 2346.25,2,   8.0097,2, -999.00,9, -999.00,9, -999.00,    59.7,2,    4.60,2,     -999.0,1,  -999.0,9, 20170714,     1010, -30.0800, 167.7501,        0.0,1,      0.180,1,      4.615,1,      0.213,1,      25.01,     -999.0,9,     -999.0,9,     -999.0,9,     -999.0,9,    19.6374,2,     -999.0,9
320620170703,        P06,      49,          1,         20,         20,2,20170714,       1015,   -30.0801,   167.7505,        988,    39.5,  19.6277,  35.8691,2,  35.8667,2, 222.0226,2, 221.8438,2,     0.2,2,    0.35,2,    0.07,2,    0.09,2,-999.000,9,-999.000,9,-999.0000,9,  -999.0,9, -999.00,9,-999.0000,9, -999.00,9, -999.00,9, -999.00,    59.5,2,    4.30,2,     -999.0,1,  -999.0,9, 20170714,     1012, -30.0800, 167.7503,        0.0,1,      0.184,1,      4.615,1,      0.221,1,     -999.0,     -999.0,9,     -999.0,9,     -999.0,9,     -999.0,9,    19.6408,2,     -999.0,9
320620170703,        P06,      49,          1,         21,         21,2,20170714,       1015,   -30.0801,   167.7505,        988,    19.4,  19.6277,  35.8687,2,  35.8672,2, 222.1906,2, 221.8708,2,     0.2,2,    0.35,2,    0.08,2,    0.10,2,-999.000,9,-999.000,9,-999.0000,9,  2059.3,2, 2346.86,2,   8.0100,2, -999.00,9, -999.00,9, -999.00,    58.3,2,    5.00,2,     -999.0,1,  -999.0,9, 20170714,     1013, -30.0801, 167.7505,        0.0,1,      0.175,1,      4.616,1,      0.219,1,      24.95,     -999.0,9,     -999.0,9,     -999.0,9,     -999.0,9,    19.6328,2,     -999.0,9
320620170703,        P06,      49,          1,         22,         22,2,20170714,       1015,   -30.0801,   167.7505,        988,     4.3,  19.6252,  35.8684,2,  35.8684,2, 221.1625,2, 221.9992,2,     0.2,2,    0.36,2,    0.08,2,    0.10,2,-999.000,9,-999.000,9,-999.0000,9,  2059.9,6, 2344.25,2,   8.0097,2, -999.00,9, -999.00,9, -999.00,    58.5,2,    4.30,2,     -999.0,1,  -999.0,9, 20170714,     1015, -30.0801, 167.7505,        0.0,1,      0.185,1,      4.614,1,      0.207,1,      25.05,     -999.0,9,     -999.0,9,     -999.0,9,     -999.0,9,    19.6165,2,     -999.0,9