BOTTLE,20230922CCHSIOCBG
EXPOCODE,SECT_ID,STNNBR,CASTNO,SAMPNO,BTLNBR,BTLNBR_FLAG_W,DATE,TIME,LATITUDE,LONGITUDE,DEPTH,CTDPRS,CTDTMP,CTDSAL,CTDSAL_FLAG_W,SALNTY,SALNTY_FLAG_W,CTDOXY,CTDOXY_FLAG_W,OXYGEN,OXYGEN_FLAG_W,SILCAT,SILCAT_FLAG_W,NITRAT,NITRAT_FLAG_W,NITRIT,NITRIT_FLAG_W,PHSPHT,PHSPHT_FLAG_W,CFC-11,CFC-11_FLAG_W,CFC-12,CFC-12_FLAG_W,SF6,SF6_FLAG_W,TCARBN,TCARBN_FLAG_W,ALKALI,ALKALI_FLAG_W,PH_TOT,PH_TOT_FLAG_W,DELC13,DELC13_FLAG_W,DELC14,DELC14_FLAG_W,C14ERR,DOC,DOC_FLAG_W,TDN,TDN_FLAG_W,TON,TON_FLAG_W,D15N_NO3,D15N_NO3_FLAG_W,BTL_DATE,BTL_TIME,BTL_LAT,BTL_LON,CTDRINKO,CTDRINKO_FLAG_W,CTDFLUOR,CTDFLUOR_FLAG_W,CTDXMISS,CTDXMISS_FLAG_W,CTDBACKSCATTER,CTDBACKSCATTER_FLAG_W,PH_TMP,D18O_NO3,D18O_NO3_FLAG_W,DOP,DOP_FLAG_W,HPLC,HPLC_FLAG_W,POC,POC_FLAG_W,REFTMP,REFTMP_FLAG_W,TDP,TDP_FLAG_W
,,,,,,,,,,,METERS,DBAR,ITS-90,PSS-78,,PSS-78,,UMOL/KG,,UMOL/KG,,UMOL/KG,,UMOL/KG,,UMOL/KG,,UMOL/KG,,PMOL/KG,,PMOL/KG,,FMOL/KG,,UMOL/KG,,UMOL/KG,,,,/MILLE,,/MILLE,,/MILLE,UMOL/KG,,UMOL/KG,,UMOL/KG,,/MILLE,,,,,,VOLTS,,VOLTS,,VOLTS,,VOLTS,,DEGC,/MILLE,,UMOL/KG,,,,UG/L,,ITS-90,,UMOL/KG,
320620170703,        P06,     121,          2,         33,         33,2,20170805,       0552,   -32.5001,  -163.8247,       5514,    84.4,  17.4137,  35.5956,2,  35.6090,2, 235.0713,2, 233.6293,2,     0.0,2,    0.09,2,    0.02,2,    0.03,2,   2.211,2,   1.316,2,   1.4550,2,  2063.6,2, 2335.15,2,   7.9828,2, -999.00,9, -999.00,9, -999.00,  -999.0,9, -999.00,9,     -999.0,9,  -999.0,1, 20170805,      546, -32.5001,-163.8245,        0.0,1,      0.154,1,      4.633,1,      0.194,1,      25.00,     -999.0,1,     -999.0,1,     -999.0,9,     -999.0,9,    17.4719,2,       0.16,2
320620170703,        P06,     121,          2,         34,         34,2,20170805,       0552,   -32.5001,  -163.8247,       5514,    59.4,  17.4166,  35.5964,2,  35.6096,2, 235.1189,2, 233.5951,2,     0.0,2,    0.09,2,    0.02,2,    0.04,2,   2.238,2,   1.329,2,   1.4300,2,  2065.3,2, 2335.81,2,   7.9827,2, -999.00,9, -999.00,9, -999.00,  -999.0,9, -999.00,9,     -999.0,9,  -999.0,1, 20170805,      548, -32.5001,-163.8246,        0.0,1,      0.148,1,      4.631,1,      0.192,1,      24.96,     -999.0,1,     -999.0,1,     -999.0,9,     -999.0,9,    17.4694,2,       0.17,2
320620170703,        P06,     121,          2,         35,         35,2,20170805,       0552,   -32.5001,  -163.8247,       5514,    33.6,  17.4149,  35.5966,2,  35.6098,2, 235.2708,2, 233.5757,2,     0.1,2,    0.08,2,    0.02,2,    0.05,2,   2.196,2,   1.342,2,   1.4170,2,  2065.5,2, 2336.22,2,   7.9827,2, -999.00,9, -999.00,9, -999.00,  -999.0,9, -999.00,9,     -999.0,9,  -999.0,1, 20170805,      549, -32.5001,-163.8246,        0.0,1,      0.125,1,      4.630,1,      0.189,1,      24.99,     -999.0,1,     -999.0,1,     -999.0,9,     -999.0,9,    17.4627,2,       0.13,2
320620170703,        P06,     121,          2,         36,         36,2,20170805,       0552,   -32.5001,  -163.8247,       5514,     7.7,  17.4098,  35.5966,2,  35.6100,2, 235.2297,2, 233.4023,2,     0.1,2,    0.09,2,    0.02,2,    0.06,2,   2.240,6,   1.324,6,   1.3860,6,  2064.9,6, 2336.02,2,   7.9828,2,    0.90,2,   53.29,2,    2.40,  -999.0,9, -999.00,9,     -999.0,9,  -999.0,1, 20170805,      552, -32.5001,-163.8247,        0.0,1,      0.093,1,      4.630,1,      0.178,1,      25.00,     -999.0,1,     -999.0,1,     -999.0,9,     -999.0,9,    17.1665,2,       0.09,2