BOTTLE,20230922CCHSIOCBG
EXPOCODE,SECT_ID,STNNBR,CASTNO,SAMPNO,BTLNBR,BTLNBR_FLAG_W,DATE,TIME,LATITUDE,LONGITUDE,DEPTH,CTDPRS,CTDTMP,CTDSAL,CTDSAL_FLAG_W,SALNTY,SALNTY_FLAG_W,CTDOXY,CTDOXY_FLAG_W,OXYGEN,OXYGEN_FLAG_W,SILCAT,SILCAT_FLAG_W,NITRAT,NITRAT_FLAG_W,NITRIT,NITRIT_FLAG_W,PHSPHT,PHSPHT_FLAG_W,CFC-11,CFC-11_FLAG_W,CFC-12,CFC-12_FLAG_W,SF6,SF6_FLAG_W,TCARBN,TCARBN_FLAG_W,ALKALI,ALKALI_FLAG_W,PH_TOT,PH_TOT_FLAG_W,DELC13,DELC13_FLAG_W,DELC14,DELC14_FLAG_W,C14ERR,DOC,DOC_FLAG_W,TDN,TDN_FLAG_W,TON,TON_FLAG_W,D15N_NO3,D15N_NO3_FLAG_W,BTL_DATE,BTL_TIME,BTL_LAT,BTL_LON,CTDRINKO,CTDRINKO_FLAG_W,CTDFLUOR,CTDFLUOR_FLAG_W,CTDXMISS,CTDXMISS_FLAG_W,CTDBACKSCATTER,CTDBACKSCATTER_FLAG_W,PH_TMP,D18O_NO3,D18O_NO3_FLAG_W,DOP,DOP_FLAG_W,HPLC,HPLC_FLAG_W,POC,POC_FLAG_W,REFTMP,REFTMP_FLAG_W,TDP,TDP_FLAG_W
,,,,,,,,,,,METERS,DBAR,ITS-90,PSS-78,,PSS-78,,UMOL/KG,,UMOL/KG,,UMOL/KG,,UMOL/KG,,UMOL/KG,,UMOL/KG,,PMOL/KG,,PMOL/KG,,FMOL/KG,,UMOL/KG,,UMOL/KG,,,,/MILLE,,/MILLE,,/MILLE,UMOL/KG,,UMOL/KG,,UMOL/KG,,/MILLE,,,,,,VOLTS,,VOLTS,,VOLTS,,VOLTS,,DEGC,/MILLE,,UMOL/KG,,,,UG/L,,ITS-90,,UMOL/KG,
320620170703,        P06,     141,          1,          1,          1,2,20170812,       2340,   -32.5000,  -150.2485,       5155,  5242.5,   1.1549,  34.7101,2,  34.7077,2, 202.5706,2, 203.9563,2,   120.7,2,   32.17,2,    0.00,2,    2.21,2,   0.070,2,   0.041,2,   0.0000,2,  2265.0,6, 2373.29,2,   7.6070,2, -999.00,9, -999.00,9, -999.00,  -999.0,9, -999.00,9,     -999.0,9,  -999.0,1, 20170812,     2115, -32.5002,-150.2483,        0.0,1,      0.061,1,      4.695,1,      0.125,1,      25.00,     -999.0,1,     -999.0,9,     -999.0,9,     -999.0,9,     1.1557,2,     -999.0,9
320620170703,        P06,     141,          1,          2,          2,2,20170812,       2340,   -32.5000,  -150.2485,       5155,  5065.4,   1.1417,  34.7100,2,  34.7089,2, 202.5706,2, 203.9503,2,   120.3,2,   32.13,2,    0.00,2,    2.22,2,   0.064,2,   0.039,2,   0.0000,2,  -999.0,9, -999.00,9,-999.0000,9, -999.00,9, -999.00,9, -999.00,  -999.0,9, -999.00,9,     -999.0,9,  -999.0,1, 20170812,     2124, -32.5000,-150.2484,        0.0,1,      0.061,1,      4.696,1,      0.124,1,     -999.0,     -999.0,1,     -999.0,9,     -999.0,9,     -999.0,9,     1.1417,2,     -999.0,9
320620170703,        P06,     141,          1,          3,          3,2,20170812,       2340,   -32.5000,  -150.2485,       5155,  4892.0,   1.1506,  34.7103,2,  34.7089,2, 202.5706,2, 202.7865,2,   120.0,2,   32.16,2,    0.00,2,    2.22,2,   0.049,2,   0.033,2,   0.0000,2,  2264.2,2, 2374.27,2,   7.6079,2, -999.00,9, -999.00,9, -999.00,  -999.0,9, -999.00,9,     -999.0,9,  -999.0,1, 20170812,     2131, -32.5001,-150.2483,        0.0,1,      0.061,1,      4.696,1,      0.122,1,      25.02,     -999.0,1,     -999.0,9,     -999.0,9,     -999.0,9,     1.1519,2,     -999.0,9
320620170703,        P06,     141,          1,          4,          4,2,20170812,       2340,   -32.5000,  -150.2485,       5155,  4579.2,   1.1826,  34.7105,2,  34.7091,2, 202.9035,3, 200.6519,2,   119.4,2,   32.21,2,    0.00,2,    2.21,2,   0.041,2,   0.031,2,   0.0000,2,  -999.0,9, -999.00,9,-999.0000,9, -999.00,9, -999.00,9, -999.00,  -999.0,9, -999.00,9,     -999.0,9,  -999.0,1, 20170812,     2141, -32.5000,-150.2483,        0.0,1,      0.061,1,      4.697,1,      0.122,1,     -999.0,     -999.0,1,     -999.0,9,     -999.0,9,     -999.0,9,     1.1793,2,     -999.0,9
320620170703,        P06,     141,          1,          5,          5,2,20170812,       2340,   -32.5000,  -150.2485,       5155,  4272.3,   1.2849,  34.7103,2,  34.7081,2, 196.4078,2, 196.5577,2,   118.0,2,   32.38,2,    0.00,2,    2.23,2,   0.033,2,   0.025,2,   0.0000,2,  2271.0,2, 2375.91,2,   7.6028,2, -999.00,9, -999.00,9, -999.00,  -999.0,9, -999.00,9,     -999.0,9,  -999.0,1, 20170812,     2150, -32.4999,-150.2484,        0.0,1,      0.061,1,      4.697,1,      0.122,1,      25.02,     -999.0,1,     -999.0,9,     -999.0,9,     -999.0,9,     1.2832,2,     -999.0,9
320620170703,        P06,     141,          1,          6,          6,2,20170812,       2340,   -32.5000,  -150.2485,       5155,  3964.3,   1.4034,  34.7059,2,  34.7044,2, 188.0478,2, 187.9519,2,   118.9,2,   32.82,2,    0.00,2,    2.26,2,   0.031,2,   0.023,2,   0.0000,2,  -999.0,9, -999.00,9,-999.0000,9, -999.00,9, -999.00,9, -999.00,  -999.0,9, -999.00,9,     -999.0,9,  -999.0,1, 20170812,     2157, -32.5000,-150.2484,        0.0,1,      0.061,1,      4.697,1,      0.127,1,     -999.0,     -999.0,1,     -999.0,9,     -999.0,9,     -999.0,9,     1.4004,2,     -999.0,9
320620170703,        P06,     141,          1,          7,          7,2,20170812,       2340,   -32.5000,  -150.2485,       5155,  3656.4,   1.5131,  34.6974,2,  34.6962,2, 178.5023,2, 177.0415,2,   122.7,2,   33.63,2,    0.00,2,    2.32,2,   0.025,2,   0.019,2,   0.0000,2,  2287.3,2, 2393.43,2,   7.5908,2, -999.00,9, -999.00,9, -999.00,  -999.0,9, -999.00,9,     -999.0,9,  -999.0,1, 20170812,     2205, -32.5002,-150.2483,        0.0,1,      0.061,1,      4.697,1,      0.126,1,      25.02,     -999.0,1,     -999.0,9,     -999.0,9,     -999.0,9,     1.5087,2,     -999.0,9
320620170703,        P06,     141,          1,          8,          8,2,20170812,       2340,   -32.5000,  -150.2485,       5155,  3350.4,   1.6306,  34.6861,2,  34.6846,2, 166.1960,2, 164.7900,2,   127.3,2,   34.62,2,    0.00,2,    2.39,2,   0.023,2,   0.019,2,   0.0000,2,  -999.0,9, -999.00,9,-999.0000,9, -999.00,9, -999.00,9, -999.00,  -999.0,9, -999.00,9,     -999.0,9,  -999.0,1, 20170812,     2211, -32.5001,-150.2484,        0.0,1,      0.061,1,      4.697,1,      0.124,1,     -999.0,     -999.0,1,     -999.0,9,     -999.0,9,     -999.0,9,     1.6352,2,     -999.0,9
320620170703,        P06,     141,          1,          9,          9,2,20170812,       2340,   -32.5000,  -150.2485,       5155,  3044.2,   1.7345,  34.6736,2,  34.6726,3, 157.3852,3, 155.4338,2,   130.0,2,   35.35,2,    0.00,2,    2.44,2,   0.021,2,   0.018,2,   0.0000,2,  2310.4,2, 2405.58,2,   7.5738,2, -999.00,9, -999.00,9, -999.00,  -999.0,9, -999.00,9,     -999.0,9,  -999.0,1, 20170812,     2217, -32.4999,-150.2484,        0.0,1,      0.062,1,      4.697,1,      0.127,1,      25.03,     -999.0,1,     -999.0,9,     -999.0,9,     -999.0,9,     1.7289,2,     -999.0,9
320620170703,        P06,     141,          1,         10,         10,2,20170812,       2340,   -32.5000,  -150.2485,       5155,  2787.0,   1.8115,  34.6664,2,  34.6651,2, 151.7386,2, 150.9322,2,   128.7,2,   35.72,2,    0.00,2,    2.47,2,-999.000,5,-999.000,5,-999.0000,5,  -999.0,9, -999.00,9,-999.0000,9, -999.00,9, -999.00,9, -999.00,  -999.0,9, -999.00,9,     -999.0,9,  -999.0,1, 20170812,     2223, -32.4997,-150.2485,        0.0,1,      0.061,1,      4.697,1,      0.128,1,     -999.0,     -999.0,1,     -999.0,9,     -999.0,9,     -999.0,9,     1.8018,2,     -999.0,9
320620170703,        P06,     141,          1,         11,         11,2,20170812,       2340,   -32.5000,  -150.2485,       5155,  2533.6,   1.8972,  34.6588,2,  34.6567,2, 148.3120,3, 149.8398,2,   126.7,2,   35.79,2,    0.00,2,    2.49,2,   0.032,2,   0.023,2,   0.0000,2,  2313.0,6, 2405.71,2,   7.5660,2, -999.00,9, -999.00,9, -999.00,  -999.0,9, -999.00,9,     -999.0,9,  -999.0,1, 20170812,     2228, -32.5000,-150.2484,        0.0,1,      0.061,1,      4.697,1,      0.128,1,      25.02,     -999.0,1,     -999.0,9,     -999.0,9,     -999.0,9,     1.8999,2,     -999.0,9
320620170703,        P06,     141,          1,         12,         12,2,20170812,       2340,   -32.5000,  -150.2485,       5155,  2280.3,   2.0013,  34.6502,2,  34.6458,2, 148.7279,3, 151.0777,2,   118.3,2,   35.47,2,    0.00,2,    2.47,2,   0.025,2,   0.021,2,   0.0000,2,  2305.2,2, 2396.77,2,   7.5672,2, -999.00,9, -999.00,9, -999.00,  -999.0,9, -999.00,9,     -999.0,9,  -999.0,1, 20170812,     2234, -32.5003,-150.2483,        0.0,1,      0.061,1,      4.698,1,      0.128,1,      25.02,     -999.0,1,     -999.0,9,     -999.0,9,     -999.0,9,     2.0299,2,     -999.0,9
320620170703,        P06,     141,          1,         13,         13,2,20170812,       2340,   -32.5000,  -150.2485,       5155,  2025.0,   2.2048,  34.6305,2,  34.6289,2, 150.6296,3, 153.0855,2,   109.4,2,   35.24,2,    0.00,2,    2.44,2,   0.024,6,   0.018,6,   0.0000,6,  2294.3,2, 2385.48,2,   7.5666,2, -999.00,9, -999.00,9, -999.00,  -999.0,9, -999.00,9,     -999.0,9,  -999.0,1, 20170812,     2239, -32.5004,-150.2483,        0.0,1,      0.061,1,      4.698,1,      0.130,1,      25.02,     -999.0,1,     -999.0,9,     -999.0,9,     -999.0,9,     2.2102,2,     -999.0,9
320620170703,        P06,     141,          1,         14,         14,2,20170812,       2340,   -32.5000,  -150.2485,       5155,  1820.1,   2.3760,  34.6082,2,  34.6036,2, 153.6080,3, 155.6259,2,    99.3,2,   35.03,2,    0.00,2,    2.42,2,   0.031,2,   0.025,2,   0.0000,2,  -999.0,9, -999.00,9,-999.0000,9, -999.00,9, -999.00,9, -999.00,  -999.0,9, -999.00,9,     -999.0,9,  -999.0,1, 20170812,     2244, -32.5002,-150.2484,        0.0,1,      0.062,1,      4.698,1,      0.129,1,     -999.0,     -999.0,1,     -999.0,9,     -999.0,9,     -999.0,9,     2.3979,2,     -999.0,9
320620170703,        P06,     141,          1,         15,         15,2,20170812,       2340,   -32.5000,  -150.2485,       5155,  1617.6,   2.6234,  34.5591,2,  34.5582,2, 159.3455,3, 161.2767,2,    85.0,2,   34.80,2,    0.00,2,    2.39,2,   0.063,2,   0.038,2,   0.0000,2,  2266.4,2, 2357.50,2,   7.5649,2, -999.00,9, -999.00,9, -999.00,  -999.0,9, -999.00,9,     -999.0,9,  -999.0,1, 20170812,     2248, -32.5000,-150.2485,        0.0,1,      0.061,1,      4.698,1,      0.133,1,      25.02,     -999.0,1,     -999.0,9,     -999.0,9,     -999.0,9,     2.6244,2,     -999.0,9
320620170703,        P06,     141,          1,         16,         16,2,20170812,       2340,   -32.5000,  -150.2485,       5155,  1413.9,   3.0412,  34.4682,2,  34.4675,2, 170.9523,2, 171.9837,2,    65.0,2,   34.27,2,    0.00,2,    2.34,2,   0.213,2,   0.117,2,   0.0000,2,  -999.0,9, -999.00,9,-999.0000,9, -999.00,9, -999.00,9, -999.00,  -999.0,9, -999.00,9,     -999.0,9,  -999.0,1, 20170812,     2253, -32.4998,-150.2486,        0.0,1,      0.060,1,      4.698,1,      0.130,1,     -999.0,     -999.0,1,     -999.0,9,     -999.0,9,     -999.0,9,     3.0394,2,     -999.0,9
320620170703,        P06,     141,          1,         17,         17,2,20170812,       2340,   -32.5000,  -150.2485,       5155,  1313.2,   3.3444,  34.4166,2,  34.4135,2, 179.1336,2, 179.6275,2,    54.1,2,   33.73,2,    0.00,2,    2.31,2,   0.444,2,   0.216,2,   0.0760,2,  2229.6,2, 2320.78,6,   7.5760,2, -999.00,9, -999.00,9, -999.00,  -999.0,9, -999.00,9,     -999.0,9,  -999.0,1, 20170812,     2256, -32.4997,-150.2486,        0.0,1,      0.060,1,      4.698,1,      0.131,1,      25.03,     -999.0,1,     -999.0,9,     -999.0,9,     -999.0,9,     3.3588,2,     -999.0,9
320620170703,        P06,     141,          1,         18,         18,2,20170812,       2340,   -32.5000,  -150.2485,       5155,  1211.2,   3.7319,  34.3698,2,  34.3704,3, 188.0788,2, 187.8229,2,    44.9,2,   32.89,2,    0.00,2,    2.23,2,   0.771,2,   0.348,2,   0.0000,2,  -999.0,9, -999.00,9,-999.0000,9, -999.00,9, -999.00,9, -999.00,  -999.0,9, -999.00,9,     -999.0,9,  -999.0,1, 20170812,     2259, -32.4998,-150.2486,        0.0,1,      0.061,1,      4.698,1,      0.131,1,     -999.0,     -999.0,1,     -999.0,9,     -999.0,9,     -999.0,9,     3.6817,2,     -999.0,9
320620170703,        P06,     141,          1,         19,         19,2,20170812,       2340,   -32.5000,  -150.2485,       5155,  1110.4,   4.3124,  34.3329,2,  34.3313,2, 198.9098,2, 198.0893,2,    33.6,2,   31.38,2,    0.00,2,    2.12,2,   1.199,2,   0.536,2,   0.0010,2,  2200.4,2, 2305.54,2,   7.6100,2, -999.00,9, -999.00,9, -999.00,  -999.0,9, -999.00,9,     -999.0,9,  -999.0,1, 20170812,     2302, -32.4999,-150.2485,        0.0,1,      0.059,1,      4.698,1,      0.130,1,      25.03,     -999.0,1,     -999.0,9,     -999.0,9,     -999.0,9,     4.2847,2,     -999.0,9
320620170703,        P06,     141,          1,         20,         20,2,20170812,       2340,   -32.5000,  -150.2485,       5155,  1012.3,   4.8522,  34.3135,2,  34.3109,2, 210.2412,2, 208.4934,2,    24.4,2,   29.53,2,    0.00,2,    1.99,2,   1.695,2,   0.777,2,   0.1230,2,  -999.0,9, -999.00,9,-999.0000,9, -999.00,9, -999.00,9, -999.00,  -999.0,9, -999.00,9,     -999.0,9,  -999.0,1, 20170812,     2304, -32.5001,-150.2485,        0.0,1,      0.060,1,      4.697,1,      0.130,1,     -999.0,     -999.0,1,     -999.0,9,     -999.0,9,     -999.0,9,     4.8865,2,     -999.0,9
320620170703,        P06,     141,          1,         21,         21,2,20170812,       2340,   -32.5000,  -150.2485,       5155,   911.0,   5.4681,  34.3044,2,  34.3023,2, 224.1901,2, 222.6250,2,    16.1,2,   27.14,2,    0.00,2,    1.82,2,   2.337,2,   1.103,2,   0.3410,2,  2166.2,2, 2290.84,2,   7.6629,2, -999.00,9, -999.00,9, -999.00,  -999.0,9, -999.00,9,     -999.0,9,  -999.0,1, 20170812,     2309, -32.5003,-150.2483,        0.0,1,      0.059,1,      4.697,1,      0.130,1,      25.02,     -999.0,1,     -999.0,9,     -999.0,9,     -999.0,9,     5.5235,2,     -999.0,9
320620170703,        P06,     141,          1,         22,         22,2,20170812,       2340,   -32.5000,  -150.2485,       5155,   809.8,   5.9999,  34.3118,2,  34.3107,2, 235.3687,2, 243.1923,4,    11.2,2,   25.14,2,    0.00,2,    1.69,2,   3.035,2,   1.431,2,   0.4580,2,  -999.0,9, -999.00,9,-999.0000,9, -999.00,9, -999.00,9, -999.00,  -999.0,9, -999.00,9,     -999.0,9,  -999.0,1, 20170812,     2312, -32.5003,-150.2484,        0.0,1,      0.059,1,      4.697,1,      0.131,1,     -999.0,     -999.0,1,     -999.0,9,     -999.0,9,     -999.0,9,     6.0288,2,     -999.0,9
320620170703,        P06,     141,          1,         23,         23,2,20170812,       2340,   -32.5000,  -150.2485,       5155,   706.4,   6.5510,  34.3385,2,  34.3411,2, 242.0723,2, 241.2913,2,     8.1,2,   23.17,2,    0.00,2,    1.54,2,   3.582,2,   1.731,2,   0.8140,2,  2146.3,2, 2282.15,2,   7.7016,2, -999.00,9, -999.00,9, -999.00,  -999.0,9, -999.00,9,     -999.0,9,  -999.0,1, 20170812,     2315, -32.5002,-150.2484,        0.0,1,      0.059,1,      4.696,1,      0.130,1,      25.02,     -999.0,1,     -999.0,9,     -999.0,9,     -999.0,9,     6.5957,2,     -999.0,9
320620170703,        P06,     141,          1,         24,         24,2,20170812,       2340,   -32.5000,  -150.2485,       5155,   605.2,   7.1170,  34.3842,2,  34.3810,2, 243.5338,2, 242.5163,2,     6.2,2,   21.43,2,    0.00,2,    1.44,2,   3.804,2,   1.875,2,   1.0270,2,  2145.3,2, 2280.90,2,   7.7137,2, -999.00,9, -999.00,9, -999.00,  -999.0,9, -999.00,9,     -999.0,9,  -999.0,1, 20170812,     2317, -32.5001,-150.2485,        0.0,1,      0.058,1,      4.695,1,      0.132,1,      25.02,     -999.0,1,     -999.0,9,     -999.0,9,     -999.0,9,     7.1539,2,     -999.0,9
320620170703,        P06,     141,          1,         25,         25,2,20170812,       2340,   -32.5000,  -150.2485,       5155,   504.2,   7.7228,  34.4310,2,  34.4247,2, 243.8392,2, 243.9853,2,     4.7,2,   19.58,2,    0.00,2,    1.31,2,   3.786,2,   1.939,2,   1.3000,2,  2139.6,2, 2289.87,3,   7.7249,2, -999.00,9, -999.00,9, -999.00,  -999.0,9, -999.00,9,     -999.0,9,  -999.0,1, 20170812,     2320, -32.5000,-150.2485,        0.0,1,      0.059,1,      4.694,1,      0.136,1,      25.02,     -999.0,1,     -999.0,9,     -999.0,9,     -999.0,9,     7.6971,2,     -999.0,9
320620170703,        P06,     141,          1,         26,         26,2,20170812,       2340,   -32.5000,  -150.2485,       5155,   403.2,   8.7089,  34.4992,2,  34.4807,2, 234.0392,2, 233.7626,2,     3.6,2,   17.87,2,    0.00,2,    1.22,2,   3.611,2,   1.848,2,   1.2460,2,  2137.5,2, 2284.52,2,   7.7330,2, -999.00,9, -999.00,9, -999.00,  -999.0,9, -999.00,9,     -999.0,9,  -999.0,1, 20170812,     2323, -32.4999,-150.2486,        0.0,1,      0.058,1,      4.692,1,      0.136,1,      25.01,     -999.0,1,     -999.0,1,     -999.0,9,     -999.0,9,     8.4916,2,     -999.0,9
320620170703,        P06,     141,          1,         27,         27,2,20170812,       2340,   -32.5000,  -150.2485,       5155,   351.5,   9.6701,  34.5802,2,  34.5582,2, 222.2681,2, 222.0657,2,     3.0,2,   16.03,2,    0.00,2,    1.11,2,   3.503,2,   1.746,2,   0.8650,2,  2132.8,2, 2287.66,2,   7.7479,2, -999.00,9, -999.00,9, -999.00,  -999.0,9, -999.00,9,     -999.0,9,  -999.0,1, 20170812,     2325, -32.4999,-150.2486,        0.0,1,      0.060,1,      4.690,1,      0.137,1,      25.03,     -999.0,1,     -999.0,1,     -999.0,9,     -999.0,9,     9.4990,2,     -999.0,9
320620170703,        P06,     141,          1,         28,         28,2,20170812,       2340,   -32.5000,  -150.2485,       5155,   302.2,  11.3065,  34.7680,2,  34.7646,2, 212.9476,2, 211.8961,2,     2.1,2,   12.12,2,    0.00,2,    0.86,2,   3.171,2,   1.655,2,   1.1130,2,  2127.5,2, 2295.62,2,   7.7857,2, -999.00,9, -999.00,9, -999.00,  -999.0,9, -999.00,9,     -999.0,9,  -999.0,1, 20170812,     2327, -32.4999,-150.2486,        0.0,1,      0.060,1,      4.690,1,      0.135,1,      25.04,     -999.0,1,     -999.0,1,     -999.0,9,     -999.0,9,    11.4007,2,       0.96,2
320620170703,        P06,     141,          1,         29,         29,2,20170812,       2340,   -32.5000,  -150.2485,       5155,   251.5,  13.1395,  34.9805,2,  35.0059,2, 217.6379,2, 216.0561,2,     0.9,2,    6.79,2,    0.00,2,    0.53,2,   2.930,2,   1.565,2,   1.2130,2,  2106.8,2, 2307.47,2,   7.8444,2, -999.00,9, -999.00,9, -999.00,  -999.0,9, -999.00,9,     -999.0,9,  -999.0,1, 20170812,     2329, -32.5000,-150.2486,        0.0,1,      0.061,1,      4.688,1,      0.136,1,      25.01,     -999.0,1,     -999.0,1,     -999.0,9,     -999.0,9,    13.3579,2,     -999.0,9
320620170703,        P06,     141,          1,         30,         30,2,20170812,       2340,   -32.5000,  -150.2485,       5155,   200.5,  14.9962,  35.2420,2,  35.2160,2, 218.4085,2, 218.9324,2,     0.4,2,    4.05,2,    0.02,2,    0.34,2,   2.633,2,   1.476,2,   1.2120,2,  2097.6,2, 2313.59,2,   7.8841,2, -999.00,9, -999.00,9, -999.00,  -999.0,9, -999.00,9,     -999.0,9,  -999.0,1, 20170812,     2331, -32.5001,-150.2485,        0.0,1,      0.072,1,      4.681,1,      0.139,1,      25.02,     -999.0,1,     -999.0,1,     -999.0,9,     -999.0,9,    14.8220,2,       0.51,2
320620170703,        P06,     141,          1,         31,         31,2,20170812,       2340,   -32.5000,  -150.2485,       5155,   150.8,  16.7558,  35.4903,2,  35.3764,2, 222.5899,3, 225.2952,2,     0.1,2,    1.84,2,    0.07,2,    0.21,2,   2.443,2,   1.371,2,   1.5140,2,  2083.2,2, 2323.60,2,   7.9285,2, -999.00,9, -999.00,9, -999.00,  -999.0,9, -999.00,9,     -999.0,9,  -999.0,1, 20170812,     2333, -32.5001,-150.2485,        0.0,1,      0.152,1,      4.643,1,      0.181,1,      25.02,     -999.0,1,     -999.0,1,     -999.0,9,     -999.0,9,    16.0862,2,     -999.0,9
320620170703,        P06,     141,          1,         32,         32,2,20170812,       2340,   -32.5000,  -150.2485,       5155,    98.7,  16.7472,  35.4909,2,  35.4862,2, 237.2813,2, 237.1289,2,    -0.1,2,    0.17,2,    0.03,2,    0.09,2,   2.359,2,   1.310,2,   1.4230,2,  -999.0,9, -999.00,9,-999.0000,9, -999.00,9, -999.00,9, -999.00,  -999.0,9, -999.00,9,     -999.0,9,  -999.0,1, 20170812,     2335, -32.5002,-150.2484,        0.0,1,      0.147,1,      4.643,1,      0.173,1,     -999.0,     -999.0,1,     -999.0,1,     -999.0,9,     -999.0,9,    16.7329,2,       0.28,2