BOTTLE,20230922CCHSIOCBG
EXPOCODE,SECT_ID,STNNBR,CASTNO,SAMPNO,BTLNBR,BTLNBR_FLAG_W,DATE,TIME,LATITUDE,LONGITUDE,DEPTH,CTDPRS,CTDTMP,CTDSAL,CTDSAL_FLAG_W,SALNTY,SALNTY_FLAG_W,CTDOXY,CTDOXY_FLAG_W,OXYGEN,OXYGEN_FLAG_W,SILCAT,SILCAT_FLAG_W,NITRAT,NITRAT_FLAG_W,NITRIT,NITRIT_FLAG_W,PHSPHT,PHSPHT_FLAG_W,CFC-11,CFC-11_FLAG_W,CFC-12,CFC-12_FLAG_W,SF6,SF6_FLAG_W,TCARBN,TCARBN_FLAG_W,ALKALI,ALKALI_FLAG_W,PH_TOT,PH_TOT_FLAG_W,DELC13,DELC13_FLAG_W,DELC14,DELC14_FLAG_W,C14ERR,DOC,DOC_FLAG_W,TDN,TDN_FLAG_W,TON,TON_FLAG_W,D15N_NO3,D15N_NO3_FLAG_W,BTL_DATE,BTL_TIME,BTL_LAT,BTL_LON,CTDRINKO,CTDRINKO_FLAG_W,CTDFLUOR,CTDFLUOR_FLAG_W,CTDXMISS,CTDXMISS_FLAG_W,CTDBACKSCATTER,CTDBACKSCATTER_FLAG_W,PH_TMP,D18O_NO3,D18O_NO3_FLAG_W,DOP,DOP_FLAG_W,HPLC,HPLC_FLAG_W,POC,POC_FLAG_W,REFTMP,REFTMP_FLAG_W,TDP,TDP_FLAG_W
,,,,,,,,,,,METERS,DBAR,ITS-90,PSS-78,,PSS-78,,UMOL/KG,,UMOL/KG,,UMOL/KG,,UMOL/KG,,UMOL/KG,,UMOL/KG,,PMOL/KG,,PMOL/KG,,FMOL/KG,,UMOL/KG,,UMOL/KG,,,,/MILLE,,/MILLE,,/MILLE,UMOL/KG,,UMOL/KG,,UMOL/KG,,/MILLE,,,,,,VOLTS,,VOLTS,,VOLTS,,VOLTS,,DEGC,/MILLE,,UMOL/KG,,,,UG/L,,ITS-90,,UMOL/KG,
320620170703,        P06,     105,          1,         33,         33,2,20170730,       1926,   -32.4999,  -172.0870,       5228,    76.6,  17.5925,  35.7011,2,  35.6950,2, 232.9164,2, 230.6622,2,     0.4,2,    0.26,2,    0.04,2,    0.11,2,-999.000,9,-999.000,9,-999.0000,9,  -999.0,9, -999.00,9,-999.0000,9, -999.00,9, -999.00,9, -999.00,  -999.0,9, -999.00,9,     -999.0,9,  -999.0,9, 20170730,     1921, -32.5000,-172.0868,        0.0,1,      0.176,1,      4.635,1,      0.203,1,     -999.0,     -999.0,9,     -999.0,9,     -999.0,9,     -999.0,9,    17.5665,2,     -999.0,9
320620170703,        P06,     105,          1,         34,         34,2,20170730,       1926,   -32.4999,  -172.0870,       5228,    49.5,  17.5905,  35.7014,2,  35.6950,2, 233.0007,3, 230.6392,2,     0.3,2,    0.25,2,    0.04,2,    0.10,2,   2.206,2,   1.291,2,   1.4070,2,  -999.0,9, -999.00,9,-999.0000,9, -999.00,9, -999.00,9, -999.00,  -999.0,9, -999.00,9,     -999.0,9,  -999.0,9, 20170730,     1923, -32.5000,-172.0869,        0.0,1,      0.176,1,      4.635,1,      0.198,1,     -999.0,     -999.0,9,     -999.0,9,     -999.0,9,     -999.0,9,    17.5597,2,     -999.0,9
320620170703,        P06,     105,          1,         35,         35,2,20170730,       1926,   -32.4999,  -172.0870,       5228,    24.0,  17.5883,  35.7026,2,  35.6936,2, 233.1198,2, 231.0859,2,     0.4,2,    0.25,2,    0.04,2,    0.11,2,-999.000,9,-999.000,9,-999.0000,9,  -999.0,9, -999.00,9,-999.0000,9, -999.00,9, -999.00,9, -999.00,  -999.0,9, -999.00,9,     -999.0,9,  -999.0,9, 20170730,     1924, -32.5000,-172.0869,        0.0,1,      0.175,1,      4.636,1,      0.197,1,     -999.0,     -999.0,9,     -999.0,9,     -999.0,9,     -999.0,9,    17.5509,2,     -999.0,9
320620170703,        P06,     105,          1,         36,         36,2,20170730,       1926,   -32.4999,  -172.0870,       5228,     3.6,  17.5852,  35.7020,2,  35.6950,2, 233.1488,3, 230.7540,2,     0.3,2,    0.23,2,    0.04,2,    0.12,2,   2.239,2,   1.290,2,   1.3490,2,  2069.4,6, 2337.93,2,   7.9784,2,    0.89,2,   49.78,2,    2.16,  -999.0,9, -999.00,9,     -999.0,9,  -999.0,9, 20170730,     1926, -32.4999,-172.0870,        0.0,1,      0.178,1,      4.627,1,      0.190,1,      25.03,     -999.0,9,     -999.0,9,     -999.0,9,     -999.0,9,    17.5427,2,     -999.0,9