BOTTLE,20230922CCHSIOCBG
EXPOCODE,SECT_ID,STNNBR,CASTNO,SAMPNO,BTLNBR,BTLNBR_FLAG_W,DATE,TIME,LATITUDE,LONGITUDE,DEPTH,CTDPRS,CTDTMP,CTDSAL,CTDSAL_FLAG_W,SALNTY,SALNTY_FLAG_W,CTDOXY,CTDOXY_FLAG_W,OXYGEN,OXYGEN_FLAG_W,SILCAT,SILCAT_FLAG_W,NITRAT,NITRAT_FLAG_W,NITRIT,NITRIT_FLAG_W,PHSPHT,PHSPHT_FLAG_W,CFC-11,CFC-11_FLAG_W,CFC-12,CFC-12_FLAG_W,SF6,SF6_FLAG_W,TCARBN,TCARBN_FLAG_W,ALKALI,ALKALI_FLAG_W,PH_TOT,PH_TOT_FLAG_W,DELC13,DELC13_FLAG_W,DELC14,DELC14_FLAG_W,C14ERR,DOC,DOC_FLAG_W,TDN,TDN_FLAG_W,TON,TON_FLAG_W,D15N_NO3,D15N_NO3_FLAG_W,BTL_DATE,BTL_TIME,BTL_LAT,BTL_LON,CTDRINKO,CTDRINKO_FLAG_W,CTDFLUOR,CTDFLUOR_FLAG_W,CTDXMISS,CTDXMISS_FLAG_W,CTDBACKSCATTER,CTDBACKSCATTER_FLAG_W,PH_TMP,D18O_NO3,D18O_NO3_FLAG_W,DOP,DOP_FLAG_W,HPLC,HPLC_FLAG_W,POC,POC_FLAG_W,REFTMP,REFTMP_FLAG_W,TDP,TDP_FLAG_W
,,,,,,,,,,,METERS,DBAR,ITS-90,PSS-78,,PSS-78,,UMOL/KG,,UMOL/KG,,UMOL/KG,,UMOL/KG,,UMOL/KG,,UMOL/KG,,PMOL/KG,,PMOL/KG,,FMOL/KG,,UMOL/KG,,UMOL/KG,,,,/MILLE,,/MILLE,,/MILLE,UMOL/KG,,UMOL/KG,,UMOL/KG,,/MILLE,,,,,,VOLTS,,VOLTS,,VOLTS,,VOLTS,,DEGC,/MILLE,,UMOL/KG,,,,UG/L,,ITS-90,,UMOL/KG,
320620170703,        P06,       4,          1,         33,         33,2,20170704,       2102,   -30.0798,   153.6799,       2554,    65.9,  20.9310,  35.7710,2,  35.7793,2, 218.3142,2, 217.0674,2,     0.0,2,    0.21,2,    0.16,2,    0.10,2,   1.886,2,   1.175,2,   1.2160,4,  2042.0,2, 2343.87,2,   8.0312,2, -999.00,9, -999.00,9, -999.00,    64.9,2,    4.90,2,     -999.0,1,  -999.0,9, 20170704,     2055, -30.0798, 153.6799,        0.0,1,      0.120,1,      4.650,1,      0.187,1,      25.06,     -999.0,9,     -999.0,9,     -999.0,9,     -999.0,9,    20.8890,2,     -999.0,9
320620170703,        P06,       4,          1,         34,         34,2,20170704,       2102,   -30.0798,   153.6799,       2554,    39.3,  22.0599,  35.7466,2,  35.7501,2, 212.0294,2, 211.6546,2,     0.1,2,    0.37,2,    0.02,2,    0.09,2,   1.788,2,   1.124,2,   1.2900,4,  2031.9,2, 2343.87,2,   8.0459,2, -999.00,9, -999.00,9, -999.00,    65.8,2,    4.90,2,     -999.0,1,  -999.0,9, 20170704,     2057, -30.0798, 153.6799,        0.0,1,      0.178,1,      4.605,1,      0.220,1,      25.05,     -999.0,9,     -999.0,9,     -999.0,9,     -999.0,9,    21.9922,2,     -999.0,9
320620170703,        P06,       4,          1,         35,         35,2,20170704,       2102,   -30.0798,   153.6799,       2554,    19.4,  22.0568,  35.7468,2,  35.7501,2, 212.2169,2, 212.7143,2,     0.1,2,    0.26,2,    0.02,2,    0.10,2,   1.787,2,   1.129,2,   1.3410,4,  2029.1,2, 2345.60,2,   8.0486,2, -999.00,9, -999.00,9, -999.00,    68.5,3,    4.40,2,     -999.0,1,  -999.0,9, 20170704,     2100, -30.0798, 153.6799,        0.0,1,      0.181,1,      4.604,1,      0.218,1,      25.02,     -999.0,9,     -999.0,9,     -999.0,9,     -999.0,9,    22.0169,2,     -999.0,9
320620170703,        P06,       4,          1,         36,         36,2,20170704,       2102,   -30.0798,   153.6799,       2554,     5.0,  22.0507,  35.7470,2,  35.7493,2, 211.7320,2, 212.6516,2,     0.0,2,    0.27,2,    0.02,2,    0.09,2,   1.801,2,   1.127,2,   1.4000,4,  2031.7,6, 2342.83,3,   8.0670,2, -999.00,9, -999.00,9, -999.00,    66.8,2,    4.70,2,     -999.0,1,  -999.0,9, 20170704,     2102, -30.0798, 153.6799,        0.0,1,      0.182,1,      4.606,1,      0.210,1,      25.02,     -999.0,9,     -999.0,9,     -999.0,9,     -999.0,9,    21.9997,2,     -999.0,9