BOTTLE,20230922CCHSIOCBG
EXPOCODE,SECT_ID,STNNBR,CASTNO,SAMPNO,BTLNBR,BTLNBR_FLAG_W,DATE,TIME,LATITUDE,LONGITUDE,DEPTH,CTDPRS,CTDTMP,CTDSAL,CTDSAL_FLAG_W,SALNTY,SALNTY_FLAG_W,CTDOXY,CTDOXY_FLAG_W,OXYGEN,OXYGEN_FLAG_W,SILCAT,SILCAT_FLAG_W,NITRAT,NITRAT_FLAG_W,NITRIT,NITRIT_FLAG_W,PHSPHT,PHSPHT_FLAG_W,CFC-11,CFC-11_FLAG_W,CFC-12,CFC-12_FLAG_W,SF6,SF6_FLAG_W,TCARBN,TCARBN_FLAG_W,ALKALI,ALKALI_FLAG_W,PH_TOT,PH_TOT_FLAG_W,DELC13,DELC13_FLAG_W,DELC14,DELC14_FLAG_W,C14ERR,DOC,DOC_FLAG_W,TDN,TDN_FLAG_W,TON,TON_FLAG_W,D15N_NO3,D15N_NO3_FLAG_W,BTL_DATE,BTL_TIME,BTL_LAT,BTL_LON,CTDRINKO,CTDRINKO_FLAG_W,CTDFLUOR,CTDFLUOR_FLAG_W,CTDXMISS,CTDXMISS_FLAG_W,CTDBACKSCATTER,CTDBACKSCATTER_FLAG_W,PH_TMP,D18O_NO3,D18O_NO3_FLAG_W,DOP,DOP_FLAG_W,HPLC,HPLC_FLAG_W,POC,POC_FLAG_W,REFTMP,REFTMP_FLAG_W,TDP,TDP_FLAG_W
,,,,,,,,,,,METERS,DBAR,ITS-90,PSS-78,,PSS-78,,UMOL/KG,,UMOL/KG,,UMOL/KG,,UMOL/KG,,UMOL/KG,,UMOL/KG,,PMOL/KG,,PMOL/KG,,FMOL/KG,,UMOL/KG,,UMOL/KG,,,,/MILLE,,/MILLE,,/MILLE,UMOL/KG,,UMOL/KG,,UMOL/KG,,/MILLE,,,,,,VOLTS,,VOLTS,,VOLTS,,VOLTS,,DEGC,/MILLE,,UMOL/KG,,,,UG/L,,ITS-90,,UMOL/KG,
320620170703,        P06,      41,          1,          1,         37,2,20170712,       2103,   -30.0800,   165.1200,       3366,  3406.2,   1.9268,  34.6858,2,  34.6869,2, 159.5256,2, 159.8360,2,   117.2,2,   35.01,2,    0.00,2,    2.42,2,   0.030,2,   0.034,2,   0.0000,2,  2304.4,6, 2392.48,2,   7.5865,2, -999.00,9, -999.00,9, -999.00,  -999.0,9, -999.00,9,     -999.0,9,  -999.0,9, 20170712,     1917, -30.0800, 165.1207,        0.0,1,      0.062,1,      4.696,1,      0.152,1,      25.02,     -999.0,9,     -999.0,9,     -999.0,9,     -999.0,9,     1.9273,2,     -999.0,9
320620170703,        P06,      41,          1,          2,          2,2,20170712,       2103,   -30.0800,   165.1200,       3366,  3329.8,   1.9192,  34.6859,2,  34.6861,2, 159.5256,2, 159.5153,2,   118.8,2,   34.93,2,    0.00,2,    2.41,2,-999.000,9,-999.000,9,-999.0000,9,  2304.1,2, 2399.28,3,   7.5864,2, -999.00,9, -999.00,9, -999.00,  -999.0,9, -999.00,9,     -999.0,9,  -999.0,9, 20170712,     1920, -30.0800, 165.1206,        0.0,1,      0.061,1,      4.697,1,      0.153,1,      25.05,     -999.0,9,     -999.0,9,     -999.0,9,     -999.0,9,     1.9193,2,     -999.0,9
320620170703,        P06,      41,          1,          3,         38,2,20170712,       2103,   -30.0800,   165.1200,       3366,  3248.0,   1.9218,  34.6851,2,  34.6849,2, 159.2115,2, 159.5812,2,   118.1,2,   34.93,2,    0.00,2,    2.40,2,   0.030,2,   0.034,2,   0.0000,2,  2305.0,2, 2387.33,2,   7.5857,2, -999.00,9, -999.00,9, -999.00,  -999.0,9, -999.00,9,     -999.0,9,  -999.0,9, 20170712,     1923, -30.0800, 165.1204,        0.0,1,      0.062,1,      4.701,1,      0.139,1,      24.98,     -999.0,9,     -999.0,9,     -999.0,9,     -999.0,9,     1.9218,2,     -999.0,9
320620170703,        P06,      41,          1,          4,          4,2,20170712,       2103,   -30.0800,   165.1200,       3366,  3045.1,   1.9339,  34.6830,2,  34.6834,2, 159.1168,2, 158.7898,2,   116.6,2,   34.91,2,    0.00,2,    2.42,2,-999.000,9,-999.000,9,-999.0000,9,  2303.9,2, 2386.87,6,   7.5839,2, -999.00,9, -999.00,9, -999.00,  -999.0,9, -999.00,9,     -999.0,9,  -999.0,9, 20170712,     1928, -30.0800, 165.1204,        0.0,1,      0.062,1,      4.694,1,      0.133,1,      25.00,     -999.0,9,     -999.0,9,     -999.0,9,     -999.0,9,     1.9327,2,     -999.0,9
320620170703,        P06,      41,          1,          5,         39,2,20170712,       2103,   -30.0800,   165.1200,       3366,  2836.2,   1.9559,  34.6801,2,  34.6806,2, 157.6286,2, 156.9245,2,   116.4,2,   34.94,2,    0.00,2,    2.42,2,   0.027,2,   0.030,2,   0.0000,2,  2304.1,2, 2393.62,2,   7.5813,2, -999.00,9, -999.00,9, -999.00,  -999.0,9, -999.00,9,     -999.0,9,  -999.0,9, 20170712,     1933, -30.0800, 165.1209,        0.0,1,      0.061,1,      4.690,1,      0.136,1,      25.04,     -999.0,9,     -999.0,9,     -999.0,9,     -999.0,9,     1.9561,2,     -999.0,9
320620170703,        P06,      41,          1,          6,          6,2,20170712,       2103,   -30.0800,   165.1200,       3366,  2636.3,   2.0006,  34.6755,2,  34.6757,2, 155.8083,2, 155.8008,2,   115.7,2,   34.97,2,    0.00,2,    2.44,2,-999.000,9,-999.000,9,-999.0000,9,  2304.5,2, 2388.26,3,   7.5799,2, -999.00,9, -999.00,9, -999.00,  -999.0,9, -999.00,9,     -999.0,9,  -999.0,9, 20170712,     1937, -30.0800, 165.1205,        0.0,1,      0.061,1,      4.700,1,      0.136,1,      25.01,     -999.0,9,     -999.0,9,     -999.0,9,     -999.0,9,     1.9971,2,     -999.0,9
320620170703,        P06,      41,          1,          7,         40,2,20170712,       2103,   -30.0800,   165.1200,       3366,  2432.8,   2.0670,  34.6692,2,  34.6688,2, 154.6833,2, 155.2262,2,   112.9,2,   35.02,2,    0.00,2,    2.44,2,   0.034,2,   0.035,2,   0.0000,2,  2303.3,2, 2385.60,2,   7.5782,2, -999.00,9, -999.00,9, -999.00,  -999.0,9, -999.00,9,     -999.0,9,  -999.0,9, 20170712,     1942, -30.0800, 165.1201,        0.0,1,      0.062,1,      4.702,1,      0.137,1,      25.03,     -999.0,9,     -999.0,9,     -999.0,9,     -999.0,9,     2.0657,2,     -999.0,9
320620170703,        P06,      41,          1,          8,          8,2,20170712,       2103,   -30.0800,   165.1200,       3366,  2224.8,   2.1686,  34.6595,2,  34.6582,2, 153.7340,2, 153.6680,2,   111.5,2,   34.87,2,    0.00,2,    2.44,2,-999.000,9,-999.000,9,-999.0000,9,  2300.6,2, 2382.25,2,   7.5772,2, -999.00,9, -999.00,9, -999.00,  -999.0,9, -999.00,9,     -999.0,9,  -999.0,9, 20170712,     1947, -30.0800, 165.1200,        0.0,1,      0.061,1,      4.697,1,      0.138,1,      24.98,     -999.0,9,     -999.0,9,     -999.0,9,     -999.0,9,     2.1623,2,     -999.0,9
320620170703,        P06,      41,          1,          9,         41,2,20170712,       2103,   -30.0800,   165.1200,       3366,  2025.5,   2.3241,  34.6456,2,  34.6445,2, 152.8225,2, 152.8930,2,   108.1,2,   35.07,2,    0.00,2,    2.43,2,   0.033,2,   0.034,2,   0.0000,2,  2297.2,2, 2379.39,2,   7.5754,2, -999.00,9, -999.00,9, -999.00,  -999.0,9, -999.00,9,     -999.0,9,  -999.0,9, 20170712,     1951, -30.0800, 165.1203,        0.0,1,      0.062,1,      4.693,1,      0.139,1,      25.03,     -999.0,9,     -999.0,9,     -999.0,9,     -999.0,9,     2.3352,2,     -999.0,9
320620170703,        P06,      41,          1,         10,         10,2,20170712,       2103,   -30.0800,   165.1200,       3366,  1824.6,   2.6212,  34.6200,2,  34.6160,2, 153.0688,2, 152.8901,2,   100.9,2,   34.78,2,    0.00,2,    2.43,2,-999.000,9,-999.000,9,-999.0000,9,  2288.7,2, 2368.52,2,   7.5745,2, -999.00,9, -999.00,9, -999.00,  -999.0,9, -999.00,9,     -999.0,9,  -999.0,9, 20170712,     1956, -30.0800, 165.1201,        0.0,1,      0.061,1,      4.697,1,      0.142,1,      25.03,     -999.0,9,     -999.0,9,     -999.0,9,     -999.0,9,     2.6519,2,     -999.0,9
320620170703,        P06,      41,          1,         11,         42,2,20170712,       2103,   -30.0800,   165.1200,       3366,  1720.1,   2.8023,  34.6048,2,  34.6014,2, 153.8610,2, 153.4735,2,    96.8,2,   34.63,2,    0.00,2,    2.41,2,   0.061,2,   0.049,2,   0.0000,2,  2284.0,6, 2366.36,2,   7.5762,2, -999.00,9, -999.00,9, -999.00,  -999.0,9, -999.00,9,     -999.0,9,  -999.0,9, 20170712,     1959, -30.0800, 165.1200,        0.0,1,      0.061,1,      4.703,1,      0.142,1,      24.92,     -999.0,9,     -999.0,9,     -999.0,9,     -999.0,9,     2.8280,2,     -999.0,9
320620170703,        P06,      41,          1,         12,         12,2,20170712,       2103,   -30.0800,   165.1200,       3366,  1617.2,   3.0457,  34.5862,2,  34.5846,2, 155.4903,2, 155.0929,2,    91.0,2,   34.38,2,    0.00,2,    2.38,2,-999.000,9,-999.000,9,-999.0000,9,  2276.5,2, 2357.43,2,   7.5789,2, -999.00,9, -999.00,9, -999.00,  -999.0,9, -999.00,9,     -999.0,9,  -999.0,9, 20170712,     2002, -30.0800, 165.1201,        0.0,1,      0.062,1,      4.703,1,      0.146,1,      24.99,     -999.0,9,     -999.0,9,     -999.0,9,     -999.0,9,     3.0618,2,     -999.0,9
320620170703,        P06,      41,          1,         13,         43,2,20170712,       2103,   -30.0800,   165.1200,       3366,  1516.2,   3.3363,  34.5661,2,  34.5624,2, 159.4683,2, 160.0126,2,    82.8,2,   33.71,2,    0.00,2,    2.34,2,   0.185,2,   0.127,2,   0.0000,2,  2265.7,2, 2353.43,2,   7.5855,2, -999.00,9, -999.00,9, -999.00,  -999.0,9, -999.00,9,     -999.0,9,  -999.0,9, 20170712,     2005, -30.0800, 165.1200,        0.0,1,      0.061,1,      4.702,1,      0.143,1,      24.99,     -999.0,9,     -999.0,9,     -999.0,9,     -999.0,9,     3.3799,2,     -999.0,9
320620170703,        P06,      41,          1,         14,         14,2,20170712,       2103,   -30.0800,   165.1200,       3366,  1414.5,   3.7560,  34.5397,2,  34.5335,2, 165.7248,2, 166.1388,2,    71.9,2,   32.81,2,    0.00,2,    2.27,2,-999.000,9,-999.000,9,-999.0000,9,  2252.3,2, 2340.95,2,   7.5956,2, -999.00,9, -999.00,9, -999.00,  -999.0,9, -999.00,9,     -999.0,9,  -999.0,9, 20170712,     2008, -30.0800, 165.1199,        0.0,1,      0.060,1,      4.702,1,      0.160,1,      25.00,     -999.0,9,     -999.0,9,     -999.0,9,     -999.0,9,     3.8273,2,     -999.0,9
320620170703,        P06,      41,          1,         15,         15,2,20170712,       2103,   -30.0800,   165.1200,       3366,  1313.4,   4.1948,  34.5068,2,  34.5046,2, 171.4291,2, 171.7835,2,    61.9,2,   32.06,2,    0.00,2,    2.21,2,   0.428,2,   0.257,2,   0.2020,2,  2236.8,2, 2324.79,2,   7.6052,2, -999.00,9, -999.00,9, -999.00,  -999.0,9, -999.00,9,     -999.0,9,  -999.0,9, 20170712,     2011, -30.0800, 165.1198,        0.0,1,      0.060,1,      4.702,1,      0.142,1,      25.02,     -999.0,9,     -999.0,9,     -999.0,9,     -999.0,9,     4.2216,2,     -999.0,9
320620170703,        P06,      41,          1,         16,         16,2,20170712,       2103,   -30.0800,   165.1200,       3366,  1213.6,   4.7257,  34.4857,2,  34.4842,2, 178.1556,2, 178.1435,2,    51.1,2,   30.86,2,    0.00,2,    2.11,2,-999.000,9,-999.000,9,-999.0000,9,  2221.1,2, 2313.80,2,   7.6179,2, -999.00,9, -999.00,9, -999.00,  -999.0,9, -999.00,9,     -999.0,9,  -999.0,9, 20170712,     2014, -30.0799, 165.1201,        0.0,1,      0.061,1,      4.702,1,      0.142,1,      25.01,     -999.0,9,     -999.0,9,     -999.0,9,     -999.0,9,     4.7384,2,     -999.0,9
320620170703,        P06,      41,          1,         17,         17,2,20170712,       2103,   -30.0800,   165.1200,       3366,  1109.9,   5.3900,  34.4735,2,  34.4762,2, 185.2505,2, 185.2995,2,    40.0,2,   29.26,2,    0.00,2,    1.99,2,   0.880,2,   0.497,2,   0.3980,2,  2203.8,2, 2305.82,2,   7.6342,2, -999.00,9, -999.00,9, -999.00,  -999.0,9, -999.00,9,     -999.0,9,  -999.0,9, 20170712,     2017, -30.0800, 165.1204,        0.0,1,      0.061,1,      4.702,1,      0.141,1,      25.03,     -999.0,9,     -999.0,9,     -999.0,9,     -999.0,9,     5.3989,2,     -999.0,9
320620170703,        P06,      41,          1,         18,         18,2,20170712,       2103,   -30.0800,   165.1200,       3366,  1009.2,   6.0049,  34.4640,2,  34.4691,2, 191.7982,2, 191.8394,2,    31.7,2,   28.00,2,    0.00,2,    1.90,2,-999.000,9,-999.000,9,-999.0000,9,  2192.4,2, 2294.24,2,   7.6491,2, -999.00,9, -999.00,9, -999.00,  -999.0,9, -999.00,9,     -999.0,9,  -999.0,9, 20170712,     2020, -30.0800, 165.1202,        0.0,1,      0.060,1,      4.702,1,      0.142,1,      24.99,     -999.0,9,     -999.0,9,     -999.0,9,     -999.0,9,     5.9372,2,     -999.0,9
320620170703,        P06,      41,          1,         19,         19,2,20170712,       2103,   -30.0800,   165.1200,       3366,   909.1,   6.6296,  34.4805,2,  34.4773,2, 198.9385,2, 198.7369,2,    22.7,2,   26.05,2,    0.00,2,    1.76,2,   1.462,2,   0.825,2,   0.4560,2,  2178.6,2, 2290.46,6,   7.6695,2, -999.00,9, -999.00,9, -999.00,  -999.0,9, -999.00,9,     -999.0,9,  -999.0,9, 20170712,     2023, -30.0800, 165.1200,        0.0,1,      0.059,1,      4.701,1,      0.143,1,      24.99,     -999.0,9,     -999.0,9,     -999.0,9,     -999.0,9,     6.6201,2,     -999.0,9
320620170703,        P06,      41,          1,         20,         20,2,20170712,       2103,   -30.0800,   165.1200,       3366,   807.4,   7.7773,  34.5647,2,  34.5555,3, 201.2425,2, 200.5581,2,    16.4,2,   23.63,2,    0.00,2,    1.58,2,-999.000,9,-999.000,9,-999.0000,9,  2166.3,2, 2290.07,2,   7.7067,3, -999.00,9, -999.00,9, -999.00,  -999.0,9, -999.00,9,     -999.0,9,  -999.0,9, 20170712,     2026, -30.0800, 165.1200,        0.0,1,      0.060,1,      4.701,1,      0.147,1,      24.99,     -999.0,9,     -999.0,9,     -999.0,9,     -999.0,9,     7.7094,2,     -999.0,9
320620170703,        P06,      41,          1,         21,         21,2,20170712,       2103,   -30.0800,   165.1200,       3366,   707.5,   8.6208,  34.6383,2,  34.6191,2, 200.6254,2, 200.3380,2,    13.5,2,   22.06,2,    0.00,2,    1.48,2,   2.042,2,   1.173,2,   0.6070,2,  2159.7,6, 2287.29,2,   7.7074,2, -999.00,9, -999.00,9, -999.00,  -999.0,9, -999.00,9,     -999.0,9,  -999.0,9, 20170712,     2029, -30.0799, 165.1198,        0.0,1,      0.059,1,      4.700,1,      0.144,1,      25.00,     -999.0,9,     -999.0,9,     -999.0,9,     -999.0,9,     8.4366,2,     -999.0,9
320620170703,        P06,      41,          1,         22,         22,2,20170712,       2103,   -30.0800,   165.1200,       3366,   605.4,   9.7561,  34.7513,2,  34.7465,2, 199.6147,2, 199.4453,2,     8.6,2,   19.24,2,    0.00,2,    1.29,2,-999.000,9,-999.000,9,-999.0000,9,  2150.3,2, 2289.97,2,   7.7332,2, -999.00,9, -999.00,9, -999.00,  -999.0,9, -999.00,9,     -999.0,9,  -999.0,9, 20170712,     2032, -30.0800, 165.1195,        0.0,1,      0.061,1,      4.697,1,      0.144,1,      24.98,     -999.0,9,     -999.0,9,     -999.0,9,     -999.0,9,     9.7458,2,     -999.0,9
320620170703,        P06,      41,          1,         23,         23,2,20170712,       2103,   -30.0800,   165.1200,       3366,   504.9,  11.5039,  34.9509,2,  34.9581,2, 196.7319,2, 196.7870,2,     5.8,2,   15.14,2,    0.00,2,    1.04,2,   2.402,2,   1.412,2,   0.8910,2,  2137.7,2, 2296.48,2,   7.7784,2, -999.00,9, -999.00,9, -999.00,  -999.0,9, -999.00,9,     -999.0,9,  -999.0,9, 20170712,     2035, -30.0800, 165.1196,        0.0,1,      0.060,1,      4.694,1,      0.146,1,      25.02,     -999.0,9,     -999.0,9,     -999.0,9,     -999.0,9,    11.6094,2,     -999.0,9
320620170703,        P06,      41,          1,         24,         24,2,20170712,       2103,   -30.0800,   165.1200,       3366,   453.4,  12.8813,  35.1232,2,  35.1209,2, 195.8982,2, 196.3596,2,     4.4,2,   12.57,2,    0.00,2,    0.87,2,-999.000,9,-999.000,9,-999.0000,9,  2129.6,2, 2302.95,2,   7.8110,2, -999.00,9, -999.00,9, -999.00,  -999.0,9, -999.00,9,     -999.0,9,  -999.0,9, 20170712,     2038, -30.0800, 165.1198,        0.0,1,      0.059,1,      4.694,1,      0.145,1,      25.00,     -999.0,9,     -999.0,9,     -999.0,9,     -999.0,9,    12.8844,2,     -999.0,9
320620170703,        P06,      41,          1,         25,         25,2,20170712,       2103,   -30.0800,   165.1200,       3366,   404.9,  13.7339,  35.2077,2,  35.1935,3, 194.5888,2, 194.8127,2,     3.7,2,   11.21,2,    0.00,2,    0.78,2,   2.357,2,   1.405,2,   0.8860,2,  2124.9,2, 2308.41,2,   7.8302,2, -999.00,9, -999.00,9, -999.00,  -999.0,9, -999.00,9,     -999.0,9,  -999.0,9, 20170712,     2040, -30.0800, 165.1199,        0.0,1,      0.059,1,      4.693,1,      0.141,1,      24.98,     -999.0,9,     -999.0,9,     -999.0,9,     -999.0,9,    13.6790,2,     -999.0,9
320620170703,        P06,      41,          1,         26,         26,2,20170712,       2103,   -30.0800,   165.1200,       3366,   352.2,  15.1655,  35.3764,2,  35.3551,2, 195.3535,2, 195.9348,2,     2.7,2,    8.89,2,    0.00,2,    0.64,2,-999.000,9,-999.000,9,-999.0000,9,  2111.4,2, 2323.37,2,   7.8669,2, -999.00,9, -999.00,9, -999.00,  -999.0,9, -999.00,9,     -999.0,9,  -999.0,9, 20170712,     2042, -30.0800, 165.1199,        0.0,1,      0.060,1,      4.692,1,      0.144,1,      24.99,     -999.0,9,     -999.0,9,     -999.0,9,     -999.0,9,    15.1332,2,     -999.0,9
320620170703,        P06,      41,          1,         27,         27,2,20170712,       2103,   -30.0800,   165.1200,       3366,   303.3,  16.4112,  35.4808,2,  35.4506,2, 194.4667,2, 195.4652,2,     2.1,2,    7.37,2,    0.00,2,    0.54,2,   2.137,2,   1.360,2,   1.0610,2,  2102.8,2, 2315.92,2,   7.8920,2, -999.00,9, -999.00,9, -999.00,  -999.0,9, -999.00,9,     -999.0,9,  -999.0,9, 20170712,     2045, -30.0800, 165.1202,        0.0,1,      0.059,1,      4.691,1,      0.147,1,      25.00,     -999.0,9,     -999.0,9,     -999.0,9,     -999.0,9,    16.0761,2,     -999.0,9
320620170703,        P06,      41,          1,         28,         28,2,20170712,       2103,   -30.0800,   165.1200,       3366,   253.3,  17.6950,  35.5936,2,  35.5888,2, 195.8641,2, 195.9135,2,     1.6,2,    5.26,2,    0.00,2,    0.40,2,-999.000,9,-999.000,9,-999.0000,9,  2088.1,2, 2338.17,2,   7.9311,2, -999.00,9, -999.00,9, -999.00,  -999.0,9, -999.00,9,     -999.0,9,  -999.0,9, 20170712,     2047, -30.0800, 165.1203,        0.0,1,      0.059,1,      4.689,1,      0.148,1,      24.99,     -999.0,9,     -999.0,9,     -999.0,9,     -999.0,9,    17.6934,2,     -999.0,9
320620170703,        P06,      41,          1,         29,         29,2,20170712,       2103,   -30.0800,   165.1200,       3366,   200.4,  18.4811,  35.6574,2,  35.6516,3, 195.6561,2, 195.5893,2,     1.2,2,    4.34,2,    0.02,2,    0.35,2,   1.945,2,   1.261,2,   1.1130,2,  2082.0,2, 2341.94,2,   7.9480,2, -999.00,9, -999.00,9, -999.00,  -999.0,9, -999.00,9,     -999.0,9,  -999.0,9, 20170712,     2050, -30.0800, 165.1201,        0.0,1,      0.062,1,      4.686,1,      0.152,1,      25.00,     -999.0,9,     -999.0,9,     -999.0,9,     -999.0,9,    18.5214,2,     -999.0,9
320620170703,        P06,      41,          1,         30,         30,2,20170712,       2103,   -30.0800,   165.1200,       3366,   151.3,  19.5245,  35.7998,2,  35.7969,2, 221.3232,2, 220.0892,2,     0.7,2,    0.75,2,    0.35,2,    0.14,2,-999.000,9,-999.000,9,-999.0000,9,  2057.2,2, 2339.92,2,   8.0074,2, -999.00,9, -999.00,9, -999.00,  -999.0,9, -999.00,9,     -999.0,9,  -999.0,9, 20170712,     2052, -30.0800, 165.1199,        0.0,1,      0.095,1,      4.669,1,      0.167,1,      24.97,     -999.0,9,     -999.0,9,     -999.0,9,     -999.0,9,    19.4874,2,     -999.0,9
320620170703,        P06,      41,          1,         31,         31,2,20170712,       2103,   -30.0800,   165.1200,       3366,   127.0,  19.8279,  35.8297,2,  35.8186,2, 220.7982,3, 218.0713,2,     0.5,2,    0.76,2,    0.17,2,    0.13,2,   1.805,2,   1.186,2,   1.1070,2,  2057.9,2, 2339.94,2,   8.0083,2, -999.00,9, -999.00,9, -999.00,  -999.0,9, -999.00,9,     -999.0,9,  -999.0,9, 20170712,     2054, -30.0800, 165.1199,        0.0,1,      0.145,1,      4.643,1,      0.191,1,      24.98,     -999.0,9,     -999.0,9,     -999.0,9,     -999.0,9,    19.7665,2,     -999.0,9
320620170703,        P06,      41,          1,         32,         32,2,20170712,       2103,   -30.0800,   165.1200,       3366,   102.6,  19.8375,  35.8328,2,  35.8372,2, 221.9851,2, 219.8390,2,     0.5,2,    0.54,2,    0.14,2,    0.12,2,-999.000,9,-999.000,9,-999.0000,9,  2056.3,2, 2342.59,2,   8.0126,2, -999.00,9, -999.00,9, -999.00,  -999.0,9, -999.00,9,     -999.0,9,  -999.0,9, 20170712,     2055, -30.0800, 165.1201,        0.0,1,      0.153,1,      4.640,1,      0.196,1,      24.98,     -999.0,9,     -999.0,9,     -999.0,9,     -999.0,9,    19.8295,2,     -999.0,9