BOTTLE,20230922CCHSIOCBG
EXPOCODE,SECT_ID,STNNBR,CASTNO,SAMPNO,BTLNBR,BTLNBR_FLAG_W,DATE,TIME,LATITUDE,LONGITUDE,DEPTH,CTDPRS,CTDTMP,CTDSAL,CTDSAL_FLAG_W,SALNTY,SALNTY_FLAG_W,CTDOXY,CTDOXY_FLAG_W,OXYGEN,OXYGEN_FLAG_W,SILCAT,SILCAT_FLAG_W,NITRAT,NITRAT_FLAG_W,NITRIT,NITRIT_FLAG_W,PHSPHT,PHSPHT_FLAG_W,CFC-11,CFC-11_FLAG_W,CFC-12,CFC-12_FLAG_W,SF6,SF6_FLAG_W,TCARBN,TCARBN_FLAG_W,ALKALI,ALKALI_FLAG_W,PH_TOT,PH_TOT_FLAG_W,DELC13,DELC13_FLAG_W,DELC14,DELC14_FLAG_W,C14ERR,DOC,DOC_FLAG_W,TDN,TDN_FLAG_W,TON,TON_FLAG_W,D15N_NO3,D15N_NO3_FLAG_W,BTL_DATE,BTL_TIME,BTL_LAT,BTL_LON,CTDRINKO,CTDRINKO_FLAG_W,CTDFLUOR,CTDFLUOR_FLAG_W,CTDXMISS,CTDXMISS_FLAG_W,CTDBACKSCATTER,CTDBACKSCATTER_FLAG_W,PH_TMP,D18O_NO3,D18O_NO3_FLAG_W,DOP,DOP_FLAG_W,HPLC,HPLC_FLAG_W,POC,POC_FLAG_W,REFTMP,REFTMP_FLAG_W,TDP,TDP_FLAG_W
,,,,,,,,,,,METERS,DBAR,ITS-90,PSS-78,,PSS-78,,UMOL/KG,,UMOL/KG,,UMOL/KG,,UMOL/KG,,UMOL/KG,,UMOL/KG,,PMOL/KG,,PMOL/KG,,FMOL/KG,,UMOL/KG,,UMOL/KG,,,,/MILLE,,/MILLE,,/MILLE,UMOL/KG,,UMOL/KG,,UMOL/KG,,/MILLE,,,,,,VOLTS,,VOLTS,,VOLTS,,VOLTS,,DEGC,/MILLE,,UMOL/KG,,,,UG/L,,ITS-90,,UMOL/KG,
320620170703,        P06,      61,          1,          1,         37,2,20170716,       1553,   -30.0809,   171.2695,        583,   578.4,  10.0557,  34.7812,2,  34.7801,2, 199.7905,2, 199.6749,2,     7.9,2,   18.12,2,    0.00,2,    1.22,2,   2.371,2,   1.378,2,-999.0000,5,  2146.3,6, 2293.33,2,   7.7457,2, -999.00,9, -999.00,9, -999.00,  -999.0,9, -999.00,9,     -999.0,9,  -999.0,9, 20170716,     1522, -30.0811, 171.2698,        0.0,1,      0.059,1,      4.697,1,      0.142,1,      25.04,     -999.0,9,     -999.0,9,     -999.0,9,     -999.0,9,    10.0572,2,     -999.0,9
320620170703,        P06,      61,          1,          2,          2,2,20170716,       1553,   -30.0809,   171.2695,        583,   543.4,  10.1787,  34.7984,2,  34.7976,2, 199.4244,2, 199.5914,2,     7.6,2,   17.79,2,    0.00,2,    1.20,2,-999.000,9,-999.000,9,-999.0000,9,  2146.4,2, 2293.87,6,   7.7499,2, -999.00,9, -999.00,9, -999.00,  -999.0,9, -999.00,9,     -999.0,9,  -999.0,9, 20170716,     1524, -30.0810, 171.2697,        0.0,1,      0.059,1,      4.694,1,      0.145,1,      25.04,     -999.0,9,     -999.0,9,     -999.0,9,     -999.0,9,    10.2174,2,     -999.0,9
320620170703,        P06,      61,          1,          3,         38,2,20170716,       1553,   -30.0809,   171.2695,        583,   488.2,  12.1643,  35.0408,2,  35.0734,2, 197.7119,2, 197.4981,2,     4.4,2,   13.21,2,    0.00,2,    0.90,2,   2.319,2,   1.476,2,-999.0000,5,  2131.0,2, 2302.28,2,   7.8017,2, -999.00,9, -999.00,9, -999.00,  -999.0,9, -999.00,9,     -999.0,9,  -999.0,9, 20170716,     1527, -30.0810, 171.2697,        0.0,1,      0.060,1,      4.692,1,      0.145,1,      25.03,     -999.0,9,     -999.0,9,     -999.0,9,     -999.0,9,    12.3907,2,     -999.0,9
320620170703,        P06,      61,          1,          4,          4,2,20170716,       1553,   -30.0809,   171.2695,        583,   437.7,  13.3400,  35.1825,2,  35.1719,2, 197.0894,2, 197.4373,2,     3.5,2,   11.64,2,    0.00,2,    0.79,2,-999.000,9,-999.000,9,-999.0000,9,  2126.8,2, 2306.97,2,   7.8242,2, -999.00,9, -999.00,9, -999.00,  -999.0,9, -999.00,9,     -999.0,9,  -999.0,9, 20170716,     1529, -30.0810, 171.2696,        0.0,1,      0.059,1,      4.341,1,      0.148,1,      25.05,     -999.0,9,     -999.0,9,     -999.0,9,     -999.0,9,    13.2871,2,     -999.0,9
320620170703,        P06,      61,          1,          5,         39,2,20170716,       1553,   -30.0809,   171.2695,        583,   387.0,  14.2413,  35.2629,2,  35.2359,2, 196.2421,2, 195.8847,2,     2.9,2,   10.45,2,    0.00,2,    0.71,2,   2.317,2,   1.453,2,-999.0000,5,  2118.5,2, 2314.72,2,   7.8415,2, -999.00,9, -999.00,9, -999.00,  -999.0,9, -999.00,9,     -999.0,9,  -999.0,9, 20170716,     1531, -30.0809, 171.2695,        0.0,1,      0.059,1,      1.956,1,      0.146,1,      25.05,     -999.0,9,     -999.0,9,     -999.0,9,     -999.0,9,    14.0230,2,     -999.0,9
320620170703,        P06,      61,          1,          6,          6,2,20170716,       1553,   -30.0809,   171.2695,        583,   337.5,  15.3118,  35.3715,2,  35.3571,2, 195.1745,2, 195.6222,2,     2.2,2,    8.60,2,    0.00,2,    0.60,2,-999.000,9,-999.000,9,-999.0000,9,  2112.5,2, 2314.71,2,   7.8711,2, -999.00,9, -999.00,9, -999.00,  -999.0,9, -999.00,9,     -999.0,9,  -999.0,9, 20170716,     1533, -30.0808, 171.2694,        0.0,1,      0.060,1,      4.174,1,      0.145,1,      25.01,     -999.0,9,     -999.0,9,     -999.0,9,     -999.0,9,    15.2100,2,     -999.0,9
320620170703,        P06,      61,          1,          7,         40,2,20170716,       1553,   -30.0809,   171.2695,        583,   287.1,  16.5010,  35.4917,2,  35.4677,2, 196.5593,2, 196.3464,2,     1.7,2,    6.98,2,    0.00,2,    0.50,2,   2.049,2,   1.403,2,-999.0000,5,  2101.0,2, 2320.13,2,   7.8991,2, -999.00,9, -999.00,9, -999.00,  -999.0,9, -999.00,9,     -999.0,9,  -999.0,9, 20170716,     1535, -30.0807, 171.2693,        0.0,1,      0.060,1,      4.599,1,      0.144,1,      25.04,     -999.0,9,     -999.0,9,     -999.0,9,     -999.0,9,    16.2729,2,     -999.0,9
320620170703,        P06,      61,          1,          8,          8,2,20170716,       1553,   -30.0809,   171.2695,        583,   242.0,  17.3620,  35.5689,2,  35.5555,2, 197.1820,2, 196.8993,2,     1.2,2,    5.61,2,    0.00,2,    0.39,2,-999.000,9,-999.000,9,-999.0000,9,  2094.8,2, 2325.86,2,   7.9228,2, -999.00,9, -999.00,9, -999.00,  -999.0,9, -999.00,9,     -999.0,9,  -999.0,9, 20170716,     1537, -30.0806, 171.2692,        0.0,1,      0.059,1,      4.607,1,      0.150,1,      25.03,     -999.0,9,     -999.0,9,     -999.0,9,     -999.0,9,    17.2521,2,     -999.0,9
320620170703,        P06,      61,          1,          9,         41,2,20170716,       1553,   -30.0809,   171.2695,        583,   216.6,  18.2219,  35.6416,2,  35.6019,2, 196.9144,2, 197.1335,2,     1.0,2,    4.89,2,    0.02,2,    0.36,2,   2.032,2,   1.356,2,-999.0000,5,  2086.9,2, 2330.76,2,   7.9350,2, -999.00,9, -999.00,9, -999.00,  -999.0,9, -999.00,9,     -999.0,9,  -999.0,9, 20170716,     1538, -30.0806, 171.2692,        0.0,1,      0.063,1,      3.822,1,      0.158,1,      25.00,     -999.0,9,     -999.0,9,     -999.0,9,     -999.0,9,    17.8029,2,     -999.0,9
320620170703,        P06,      61,          1,         10,         10,2,20170716,       1553,   -30.0809,   171.2695,        583,   191.7,  19.0031,  35.7917,2,  35.7308,2, 216.9597,2, 216.1364,2,     0.4,2,    1.78,2,    0.20,2,    0.16,2,-999.000,9,-999.000,9,-999.0000,9,  2066.5,2, 2335.68,2,   7.9853,2, -999.00,9, -999.00,9, -999.00,  -999.0,9, -999.00,9,     -999.0,9,  -999.0,9, 20170716,     1540, -30.0806, 171.2692,        0.0,1,      0.124,1,      3.354,1,      0.196,1,      25.03,     -999.0,9,     -999.0,9,     -999.0,9,     -999.0,9,    18.7221,2,     -999.0,9
320620170703,        P06,      61,          1,         11,         42,2,20170716,       1553,   -30.0809,   171.2695,        583,   165.8,  19.0599,  35.8081,2,  35.8076,2, 221.3906,2, 222.0601,2,     0.2,2,    0.85,2,    0.18,2,    0.11,2,   1.896,2,   1.294,2,-999.0000,5,  2061.3,2, 2343.78,2,   8.0012,2, -999.00,9, -999.00,9, -999.00,  -999.0,9, -999.00,9,     -999.0,9,  -999.0,9, 20170716,     1542, -30.0807, 171.2693,        0.0,1,      0.136,1,      3.366,1,      0.201,1,      25.02,     -999.0,9,     -999.0,9,     -999.0,9,     -999.0,9,    19.0598,2,     -999.0,9
320620170703,        P06,      61,          1,         12,         12,2,20170716,       1553,   -30.0809,   171.2695,        583,   140.5,  19.0586,  35.8087,2,  35.8092,2, 221.9756,2, 223.5192,2,     0.2,2,    0.83,2,    0.18,2,    0.12,2,-999.000,9,-999.000,9,-999.0000,9,  2062.5,2, 2339.71,2,   8.0010,2, -999.00,9, -999.00,9, -999.00,  -999.0,9, -999.00,9,     -999.0,9,  -999.0,9, 20170716,     1544, -30.0807, 171.2693,        0.0,1,      0.140,1,      4.321,1,      0.198,1,      25.03,     -999.0,9,     -999.0,9,     -999.0,9,     -999.0,9,    19.0590,2,     -999.0,9
320620170703,        P06,      61,          1,         13,         43,2,20170716,       1553,   -30.0809,   171.2695,        583,   115.1,  19.1650,  35.8250,2,  35.8100,2, 222.3499,2, 222.7887,2,     0.3,2,    0.80,2,    0.18,2,    0.11,2,   1.917,2,   1.291,2,-999.0000,5,  2062.2,2, 2340.06,2,   8.0024,2, -999.00,9, -999.00,9, -999.00,  -999.0,9, -999.00,9,     -999.0,9,  -999.0,9, 20170716,     1545, -30.0808, 171.2693,        0.0,1,      0.157,1,      4.107,1,      0.203,1,      25.00,     -999.0,9,     -999.0,9,     -999.0,9,     -999.0,9,    19.0637,2,     -999.0,9
320620170703,        P06,      61,          1,         14,         14,2,20170716,       1553,   -30.0809,   171.2695,        583,    90.8,  19.2528,  35.8315,2,  35.8289,2, 222.4274,2, 222.5452,2,     0.2,2,    0.76,2,    0.16,2,    0.10,2,-999.000,9,-999.000,9,-999.0000,9,  2061.3,2, 2343.01,2,   8.0040,2, -999.00,9, -999.00,9, -999.00,  -999.0,9, -999.00,9,     -999.0,9,  -999.0,9, 20170716,     1547, -30.0809, 171.2694,        0.0,1,      0.153,1,      3.819,1,      0.201,1,      25.03,     -999.0,9,     -999.0,9,     -999.0,9,     -999.0,9,    19.1953,2,     -999.0,9
320620170703,        P06,      61,          1,         15,         15,2,20170716,       1553,   -30.0809,   171.2695,        583,    65.0,  19.2716,  35.8335,2,  35.8343,2, 222.4915,2, 221.8416,2,     0.3,2,    0.79,2,    0.15,2,    0.11,2,   1.906,2,   1.282,2,-999.0000,5,  2060.3,2, 2344.03,2,   8.0046,2, -999.00,9, -999.00,9, -999.00,  -999.0,9, -999.00,9,     -999.0,9,  -999.0,9, 20170716,     1549, -30.0809, 171.2694,        0.0,1,      0.159,1,      3.280,1,      0.200,1,      25.05,     -999.0,9,     -999.0,9,     -999.0,9,     -999.0,9,    19.2674,2,     -999.0,9
320620170703,        P06,      61,          1,         16,         16,2,20170716,       1553,   -30.0809,   171.2695,        583,    40.5,  19.2673,  35.8332,2,  35.8339,2, 222.1083,2, 221.8896,2,     0.3,2,    0.78,2,    0.15,2,    0.11,2,-999.000,9,-999.000,9,-999.0000,9,  2061.0,2, 2343.40,2,   8.0044,2, -999.00,9, -999.00,9, -999.00,  -999.0,9, -999.00,9,     -999.0,9,  -999.0,9, 20170716,     1550, -30.0809, 171.2695,        0.0,1,      0.160,1,      3.461,1,      0.199,1,      25.04,     -999.0,9,     -999.0,9,     -999.0,9,     -999.0,9,    19.2660,2,     -999.0,9
320620170703,        P06,      61,          1,         17,         17,2,20170716,       1553,   -30.0809,   171.2695,        583,    19.1,  19.2657,  35.8328,2,  35.8341,2, 223.6765,2, 221.8098,2,     0.3,2,    0.79,2,    0.15,2,    0.12,2,   1.925,2,   1.278,2,-999.0000,5,  2062.1,2, 2343.14,2,   8.0043,2, -999.00,9, -999.00,9, -999.00,  -999.0,9, -999.00,9,     -999.0,9,  -999.0,9, 20170716,     1552, -30.0809, 171.2695,        0.0,1,      0.163,1,      2.458,1,      0.207,1,      25.03,     -999.0,9,     -999.0,9,     -999.0,9,     -999.0,9,    19.2626,2,     -999.0,9
320620170703,        P06,      61,          1,         18,         18,2,20170716,       1553,   -30.0809,   171.2695,        583,     5.4,  19.2489,  35.8327,2,  35.8345,2, 222.1431,2, 221.8890,2,     0.2,2,    0.80,2,    0.15,2,    0.11,2,   1.641,4,   1.233,2,-999.0000,5,  2062.2,6, 2343.69,2,   8.0040,2, -999.00,9, -999.00,9, -999.00,  -999.0,9, -999.00,9,     -999.0,9,  -999.0,9, 20170716,     1553, -30.0809, 171.2695,        0.0,1,      0.164,1,      2.534,1,      0.201,1,      25.05,     -999.0,9,     -999.0,9,     -999.0,9,     -999.0,9,    19.2529,2,     -999.0,9