BOTTLE,20230922CCHSIOCBG
EXPOCODE,SECT_ID,STNNBR,CASTNO,SAMPNO,BTLNBR,BTLNBR_FLAG_W,DATE,TIME,LATITUDE,LONGITUDE,DEPTH,CTDPRS,CTDTMP,CTDSAL,CTDSAL_FLAG_W,SALNTY,SALNTY_FLAG_W,CTDOXY,CTDOXY_FLAG_W,OXYGEN,OXYGEN_FLAG_W,SILCAT,SILCAT_FLAG_W,NITRAT,NITRAT_FLAG_W,NITRIT,NITRIT_FLAG_W,PHSPHT,PHSPHT_FLAG_W,CFC-11,CFC-11_FLAG_W,CFC-12,CFC-12_FLAG_W,SF6,SF6_FLAG_W,TCARBN,TCARBN_FLAG_W,ALKALI,ALKALI_FLAG_W,PH_TOT,PH_TOT_FLAG_W,DELC13,DELC13_FLAG_W,DELC14,DELC14_FLAG_W,C14ERR,DOC,DOC_FLAG_W,TDN,TDN_FLAG_W,TON,TON_FLAG_W,D15N_NO3,D15N_NO3_FLAG_W,BTL_DATE,BTL_TIME,BTL_LAT,BTL_LON,CTDRINKO,CTDRINKO_FLAG_W,CTDFLUOR,CTDFLUOR_FLAG_W,CTDXMISS,CTDXMISS_FLAG_W,CTDBACKSCATTER,CTDBACKSCATTER_FLAG_W,PH_TMP,D18O_NO3,D18O_NO3_FLAG_W,DOP,DOP_FLAG_W,HPLC,HPLC_FLAG_W,POC,POC_FLAG_W,REFTMP,REFTMP_FLAG_W,TDP,TDP_FLAG_W
,,,,,,,,,,,METERS,DBAR,ITS-90,PSS-78,,PSS-78,,UMOL/KG,,UMOL/KG,,UMOL/KG,,UMOL/KG,,UMOL/KG,,UMOL/KG,,PMOL/KG,,PMOL/KG,,FMOL/KG,,UMOL/KG,,UMOL/KG,,,,/MILLE,,/MILLE,,/MILLE,UMOL/KG,,UMOL/KG,,UMOL/KG,,/MILLE,,,,,,VOLTS,,VOLTS,,VOLTS,,VOLTS,,DEGC,/MILLE,,UMOL/KG,,,,UG/L,,ITS-90,,UMOL/KG,
320620170703,        P06,       9,          1,          1,         37,2,20170706,       0128,   -30.0795,   153.9994,       4438,  4505.3,   1.1872,  34.7130,2,  34.7111,3, 196.2038,2, 196.6577,2,   118.5,2,   32.57,2,    0.00,2,    2.29,2,   0.056,2,   0.059,2,   0.0000,2,  2279.3,6, 2380.53,2,   7.6156,2, -999.00,9, -999.00,9, -999.00,  -999.0,9, -999.00,9,     -999.0,9,  -999.0,1, 20170705,     2248, -30.0797, 154.0000,        0.0,1,      0.061,1,      4.682,1,      0.194,1,      25.01,     -999.0,1,     -999.0,9,     -999.0,9,     -999.0,9,     1.1877,2,     -999.0,9
320620170703,        P06,       9,          1,          2,          2,2,20170706,       0128,   -30.0795,   153.9994,       4438,  4437.9,   1.1792,  34.7131,2,  34.7099,2, 196.2038,2, 196.2596,2,   118.7,2,   32.59,2,    0.00,2,    2.28,2,   0.068,2,   0.075,2,   0.0000,2,  2278.5,2, 2377.31,3,   7.6163,2, -999.00,9, -999.00,9, -999.00,  -999.0,9, -999.00,9,     -999.0,9,  -999.0,1, 20170705,     2251, -30.0797, 154.0001,        0.0,1,      0.061,1,      4.684,1,      0.195,1,      25.01,     -999.0,1,     -999.0,9,     -999.0,9,     -999.0,9,     1.1782,2,     -999.0,9
320620170703,        P06,       9,          1,          3,         38,4,20170706,       0128,   -30.0795,   153.9994,       4438,  4372.9,   1.1716,  34.7133,3,-999.0000,9, 226.6896,4,-999.0000,9,  -999.0,9, -999.00,9, -999.00,9, -999.00,9,-999.000,9,-999.000,9,-999.0000,9,  -999.0,9, -999.00,9,-999.0000,9, -999.00,9, -999.00,9, -999.00,  -999.0,9, -999.00,9,     -999.0,9,  -999.0,9, 20170705,     2254, -30.0796, 154.0000,        0.0,1,      0.061,1,      4.684,1,      0.194,1,     -999.0,     -999.0,9,     -999.0,9,     -999.0,9,     -999.0,9,     1.1710,3,     -999.0,9
320620170703,        P06,       9,          1,          4,          4,4,20170706,       0128,   -30.0795,   153.9994,       4438,  4067.3,   1.1790,  34.7144,3,-999.0000,9, 222.7000,4,-999.0000,9,  -999.0,9, -999.00,9, -999.00,9, -999.00,9,-999.000,9,-999.000,9,-999.0000,9,  -999.0,9, -999.00,9,-999.0000,9, -999.00,9, -999.00,9, -999.00,  -999.0,9, -999.00,9,     -999.0,9,  -999.0,9, 20170705,     2302, -30.0796, 153.9997,        0.0,1,      0.062,1,      4.705,1,      0.142,1,     -999.0,     -999.0,9,     -999.0,9,     -999.0,9,     -999.0,9,     1.1722,3,     -999.0,9
320620170703,        P06,       9,          1,          5,         39,2,20170706,       0128,   -30.0795,   153.9994,       4438,  3758.8,   1.1789,  34.7153,2,  34.7117,3, 196.2038,2, 196.0052,2,   116.7,2,   32.47,2,    0.00,2,    2.26,2,   0.046,2,   0.047,2,   0.0000,2,  2276.3,2, 2386.85,3,   7.6146,2, -999.00,9, -999.00,9, -999.00,  -999.0,9, -999.00,9,     -999.0,9,  -999.0,1, 20170705,     2310, -30.0796, 153.9996,        0.0,1,      0.061,1,      4.707,1,      0.138,1,      25.02,     -999.0,1,     -999.0,9,     -999.0,9,     -999.0,9,     1.1783,2,     -999.0,9
320620170703,        P06,       9,          1,          6,          6,2,20170706,       0128,   -30.0795,   153.9994,       4438,  3451.7,   1.2462,  34.7176,2,  34.7131,3, 195.1112,2, 194.8230,2,   114.5,2,   32.36,2,    0.00,2,    2.26,2,-999.000,9,-999.000,9,-999.0000,9,  2274.4,2, 1972.77,4,   7.6128,2, -999.00,9, -999.00,9, -999.00,  -999.0,9, -999.00,9,     -999.0,9,  -999.0,1, 20170705,     2319, -30.0796, 153.9997,        0.0,1,      0.061,1,      4.709,1,      0.137,1,      25.00,     -999.0,1,     -999.0,9,     -999.0,9,     -999.0,9,     1.2398,2,     -999.0,9
320620170703,        P06,       9,          1,          7,         40,2,20170706,       0128,   -30.0795,   153.9994,       4438,  3144.8,   1.4477,  34.7216,2,  34.7142,3, 192.5480,2, 192.1417,2,   110.1,2,   32.24,2,    0.00,2,    2.24,2,   0.036,2,   0.045,2,   0.0000,2,  2271.1,2, 2316.54,3,   7.6103,2, -999.00,9, -999.00,9, -999.00,  -999.0,9, -999.00,9,     -999.0,9,  -999.0,1, 20170705,     2328, -30.0796, 153.9997,        0.0,1,      0.061,1,      4.709,1,      0.135,1,      25.00,     -999.0,1,     -999.0,9,     -999.0,9,     -999.0,9,     1.4118,2,     -999.0,9
320620170703,        P06,       9,          1,          8,          8,2,20170706,       0128,   -30.0795,   153.9994,       4438,  2874.5,   1.6090,  34.7239,2,  34.7180,2, 188.7954,2, 189.2309,2,   105.7,2,   32.08,2,    0.00,2,    2.25,2,-999.000,9,-999.000,9,-999.0000,9,  2267.7,2, 2179.46,3,   7.6052,2, -999.00,9, -999.00,9, -999.00,  -999.0,9, -999.00,9,     -999.0,9,  -999.0,1, 20170705,     2335, -30.0796, 153.9997,        0.0,1,      0.061,1,      4.709,1,      0.137,1,      24.98,     -999.0,1,     -999.0,9,     -999.0,9,     -999.0,9,     1.5848,2,     -999.0,9
320620170703,        P06,       9,          1,          9,         41,2,20170706,       0128,   -30.0795,   153.9994,       4438,  2619.5,   1.8231,  34.7186,2,  34.7193,2, 184.1066,2, 184.7500,2,   100.6,2,   32.10,2,    0.00,2,    2.25,2,   0.036,2,   0.042,2,   0.0000,2,  2267.1,2, 2346.32,2,   7.6019,2, -999.00,9, -999.00,9, -999.00,  -999.0,9, -999.00,9,     -999.0,9,  -999.0,1, 20170705,     2343, -30.0796, 153.9998,        0.0,1,      0.061,1,      4.709,1,      0.137,1,      25.03,     -999.0,1,     -999.0,9,     -999.0,9,     -999.0,9,     1.7891,2,     -999.0,9
320620170703,        P06,       9,          1,         10,         10,2,20170706,       0128,   -30.0795,   153.9994,       4438,  2365.2,   2.0113,  34.7059,2,  34.7158,2, 179.1083,2, 178.9356,2,    96.5,2,   32.43,2,    0.00,2,    2.26,2,-999.000,9,-999.000,9,-999.0000,9,  2267.2,2, 2361.45,2,   7.5941,2, -999.00,9, -999.00,9, -999.00,  -999.0,9, -999.00,9,     -999.0,9,  -999.0,1, 20170705,     2350, -30.0796, 153.9998,        0.0,1,      0.063,1,      4.709,1,      0.138,1,      25.02,     -999.0,1,     -999.0,9,     -999.0,9,     -999.0,9,     1.9985,2,     -999.0,9
320620170703,        P06,       9,          1,         11,         42,2,20170706,       0128,   -30.0795,   153.9994,       4438,  2109.7,   2.2204,  34.6819,2,  34.7026,2, 172.3065,2, 171.3320,2,    93.5,2,   32.96,2,    0.00,2,    2.30,2,   0.047,2,   0.054,2,   0.0000,2,  2268.1,2, 2365.05,2,   7.5860,2, -999.00,9, -999.00,9, -999.00,  -999.0,9, -999.00,9,     -999.0,9,  -999.0,1, 20170705,     2358, -30.0797, 153.9995,        0.0,1,      0.062,1,      4.708,1,      0.140,1,      24.99,     -999.0,1,     -999.0,9,     -999.0,9,     -999.0,9,     2.2009,2,     -999.0,9
320620170703,        P06,       9,          1,         12,         12,2,20170706,       0128,   -30.0795,   153.9994,       4438,  1887.2,   2.3692,  34.6574,2,  34.6903,2, 163.2563,2, 163.4177,2,    95.3,2,   33.84,2,    0.00,2,    2.38,2,-999.000,9,-999.000,9,-999.0000,9,  2275.0,2, 2162.39,3,   7.5781,2, -999.00,9, -999.00,9, -999.00,  -999.0,9, -999.00,9,     -999.0,9,  -999.0,1, 20170706,        4, -30.0797, 153.9995,        0.0,1,      0.062,1,      4.709,1,      0.139,1,      24.98,     -999.0,1,     -999.0,9,     -999.0,9,     -999.0,9,     2.3639,2,     -999.0,9
320620170703,        P06,       9,          1,         13,         43,2,20170706,       0128,   -30.0795,   153.9994,       4438,  1683.5,   2.6152,  34.6247,2,  34.6543,2, 154.5894,2, 153.9784,2,    96.1,2,   34.62,2,    0.00,2,    2.43,2,   0.051,2,   0.068,2,   0.0000,2,  2283.3,2, 2366.00,2,   7.5696,2, -999.00,9, -999.00,9, -999.00,  -999.0,9, -999.00,9,     -999.0,9,  -999.0,1, 20170706,       11, -30.0797, 153.9996,        0.0,1,      0.061,1,      4.709,1,      0.141,1,      25.00,     -999.0,1,     -999.0,9,     -999.0,9,     -999.0,9,     2.6620,2,     -999.0,9
320620170703,        P06,       9,          1,         14,         14,2,20170706,       0128,   -30.0795,   153.9994,       4438,  1551.9,   2.8179,  34.6026,2,  34.6170,2, 151.6655,2, 151.8696,2,    93.3,2,   34.71,2,    0.00,2,    2.44,2,-999.000,9,-999.000,9,-999.0000,9,  2281.0,6, 2359.60,2,   7.5692,2, -999.00,9, -999.00,9, -999.00,  -999.0,9, -999.00,9,     -999.0,9,  -999.0,1, 20170706,       16, -30.0797, 153.9996,        0.0,1,      0.061,1,      4.709,1,      0.142,1,      25.01,     -999.0,1,     -999.0,9,     -999.0,9,     -999.0,9,     2.8725,2,     -999.0,9
320620170703,        P06,       9,          1,         15,         15,2,20170706,       0128,   -30.0795,   153.9994,       4438,  1449.9,   3.1203,  34.5733,2,  34.5928,2, 153.5314,2, 153.6610,2,    86.5,2,   34.44,2,    0.00,2,    2.42,2,   0.088,2,   0.083,2,   0.0000,2,  2270.3,2, 2292.09,2,   7.5730,2, -999.00,9, -999.00,9, -999.00,  -999.0,9, -999.00,9,     -999.0,9,  -999.0,1, 20170706,       20, -30.0797, 153.9997,        0.0,1,      0.061,1,      4.708,1,      0.141,1,      24.99,     -999.0,1,     -999.0,9,     -999.0,9,     -999.0,9,     3.1529,2,     -999.0,9
320620170703,        P06,       9,          1,         16,         16,2,20170706,       0128,   -30.0795,   153.9994,       4438,  1348.6,   3.4555,  34.5422,2,  34.5651,2, 156.2740,2, 157.2340,2,    79.8,2,   34.03,2,    0.00,2,    2.37,2,-999.000,9,-999.000,9,-999.0000,9,  2263.0,2, 2280.00,2,   7.5790,2, -999.00,9, -999.00,9, -999.00,  -999.0,9, -999.00,9,     -999.0,9,  -999.0,1, 20170706,       24, -30.0797, 153.9999,        0.0,1,      0.060,1,      4.709,1,      0.141,1,      25.02,     -999.0,1,     -999.0,9,     -999.0,9,     -999.0,9,     3.4273,2,     -999.0,9
320620170703,        P06,       9,          1,         17,         17,2,20170706,       0128,   -30.0795,   153.9994,       4438,  1247.1,   3.8506,  34.5098,2,  34.5400,2, 163.9227,2, 164.0918,2,    67.5,2,   33.11,2,    0.00,2,    2.32,2,   0.237,2,   0.172,2,   0.3360,2,  2244.6,2, 2157.09,3,   7.5901,2, -999.00,9, -999.00,9, -999.00,  -999.0,9, -999.00,9,     -999.0,9,  -999.0,1, 20170706,       29, -30.0797, 154.0001,        0.0,1,      0.061,1,      4.709,1,      0.147,1,      25.02,     -999.0,1,     -999.0,9,     -999.0,9,     -999.0,9,     3.8726,2,     -999.0,9
320620170703,        P06,       9,          1,         18,         18,2,20170706,       0128,   -30.0795,   153.9994,       4438,  1145.8,   4.2214,  34.4854,2,  34.5042,2, 168.3649,2, 168.7693,2,    59.8,2,   32.38,2,    0.00,2,    2.26,2,-999.000,9,-999.000,9,-999.0000,9,  2235.3,2, 4301.85,4,   7.5986,2, -999.00,9, -999.00,9, -999.00,  -999.0,9, -999.00,9,     -999.0,9,  -999.0,1, 20170706,       33, -30.0796, 154.0001,        0.0,1,      0.061,1,      4.708,1,      0.143,1,      25.02,     -999.0,1,     -999.0,9,     -999.0,9,     -999.0,9,     4.1826,2,     -999.0,9
320620170703,        P06,       9,          1,         19,         19,2,20170706,       0128,   -30.0795,   153.9994,       4438,  1043.7,   4.8223,  34.4556,2,  34.4852,2, 180.6018,2, 180.3800,2,    44.0,2,   30.58,2,    0.00,2,    2.11,2,   0.633,2,   0.467,2,   0.4790,2,  2213.1,2, 2311.04,2,   7.6194,2, -999.00,9, -999.00,9, -999.00,  -999.0,9, -999.00,9,     -999.0,9,  -999.0,1, 20170706,       37, -30.0796, 154.0001,        0.0,1,      0.061,1,      4.708,1,      0.142,1,      25.01,     -999.0,1,     -999.0,9,     -999.0,9,     -999.0,9,     4.9293,2,     -999.0,9
320620170703,        P06,       9,          1,         20,         20,2,20170706,       0128,   -30.0795,   153.9994,       4438,   943.1,   5.4702,  34.4482,2,  34.4498,2, 186.1541,2, 186.3136,2,    33.8,2,   29.10,2,    0.00,2,    1.99,2,-999.000,9,-999.000,9,-999.0000,9,  2196.8,2, 2301.03,2,   7.6360,2, -999.00,9, -999.00,9, -999.00,  -999.0,9, -999.00,9,     -999.0,9,  -999.0,1, 20170706,       41, -30.0796, 154.0001,        0.0,1,      0.060,1,      4.707,1,      0.142,1,      25.00,     -999.0,1,     -999.0,9,     -999.0,9,     -999.0,9,     5.5523,2,     -999.0,9
320620170703,        P06,       9,          1,         21,         21,2,20170706,       0128,   -30.0795,   153.9994,       4438,   842.1,   6.1520,  34.4485,2,  34.4426,2, 196.1512,2, 195.0053,2,    24.9,2,   27.19,2,    0.00,2,    1.86,2,   1.242,2,   0.684,2,   0.4490,2,  2181.2,2, 2292.24,2,   7.6574,2, -999.00,9, -999.00,9, -999.00,  -999.0,9, -999.00,9,     -999.0,9,  -999.0,1, 20170706,       44, -30.0796, 154.0001,        0.0,1,      0.058,1,      4.707,1,      0.143,1,      25.01,     -999.0,1,     -999.0,9,     -999.0,9,     -999.0,9,     6.1873,2,     -999.0,9
320620170703,        P06,       9,          1,         22,         22,4,20170706,       0128,   -30.0795,   153.9994,       4438,   741.0,   6.9606,  34.4824,3,-999.0000,9, 199.5682,2,-999.0000,9,  -999.0,9, -999.00,9, -999.00,9, -999.00,9,-999.000,9,-999.000,9,-999.0000,9,  -999.0,9, -999.00,9,-999.0000,9, -999.00,9, -999.00,9, -999.00,  -999.0,9, -999.00,9,     -999.0,9,  -999.0,9, 20170706,       48, -30.0796, 154.0001,        0.0,1,      0.060,1,      4.706,1,      0.142,1,     -999.0,     -999.0,9,     -999.0,9,     -999.0,9,     -999.0,9,     7.0042,3,     -999.0,9
320620170703,        P06,       9,          1,         23,         23,2,20170706,       0128,   -30.0795,   153.9994,       4438,   640.5,   8.1216,  34.5712,2,  34.4438,2, 199.7862,2, 198.7389,2,    12.5,2,   22.95,2,    0.00,2,    1.56,2,   2.004,2,   1.138,2,   0.6610,2,  2161.1,2, 2285.96,2,   7.6964,2, -999.00,9, -999.00,9, -999.00,  -999.0,9, -999.00,9,     -999.0,9,  -999.0,1, 20170706,       52, -30.0796, 154.0001,        0.0,1,      0.060,1,      4.705,1,      0.144,1,      25.01,     -999.0,1,     -999.0,9,     -999.0,9,     -999.0,9,     8.0240,2,     -999.0,9
320620170703,        P06,       9,          1,         24,         24,2,20170706,       0128,   -30.0795,   153.9994,       4438,   540.1,   9.2047,  34.6810,2,  34.5594,2, 198.3596,2, 198.2321,2,     9.0,2,   20.32,2,    0.00,2,    1.39,2,-999.000,9,-999.000,9,-999.0000,9,  2153.8,2, 2286.81,2,   7.7208,2, -999.00,9, -999.00,9, -999.00,  -999.0,9, -999.00,9,     -999.0,9,  -999.0,1, 20170706,       56, -30.0796, 154.0001,        0.0,1,      0.060,1,      4.703,1,      0.149,1,      25.01,     -999.0,1,     -999.0,1,     -999.0,9,     -999.0,9,     9.1837,2,     -999.0,9
320620170703,        P06,       9,          1,         25,         25,2,20170706,       0128,   -30.0795,   153.9994,       4438,   468.1,  10.6382,  34.8467,2,  34.6677,2, 194.3768,2, 196.1220,2,     6.4,2,   17.23,2,    0.00,2,    1.18,2,   2.454,2,   1.414,2,   0.9380,2,  2145.3,6, 2301.53,2,   7.7536,3, -999.00,9, -999.00,9, -999.00,  -999.0,9, -999.00,9,     -999.0,9,  -999.0,1, 20170706,      100, -30.0796, 154.0000,        0.0,1,      0.059,1,      4.699,1,      0.152,1,      25.00,     -999.0,1,     -999.0,1,     -999.0,9,     -999.0,9,    10.6353,2,     -999.0,9
320620170703,        P06,       9,          1,         26,         26,2,20170706,       0128,   -30.0795,   153.9994,       4438,   418.9,  11.2646,  34.9120,2,  34.8389,2, 192.9820,2, 193.6568,2,     5.9,2,   16.19,2,    0.00,2,    1.11,2,-999.000,9,-999.000,9,-999.0000,9,  2141.4,2, 2294.91,2,   7.7660,2, -999.00,9, -999.00,9, -999.00,  -999.0,9, -999.00,9,     -999.0,9,  -999.0,1, 20170706,      102, -30.0796, 154.0000,        0.0,1,      0.059,1,      4.698,1,      0.150,1,      25.01,     -999.0,1,     -999.0,1,     -999.0,9,     -999.0,9,    11.2387,2,     -999.0,9
320620170703,        P06,       9,          1,         27,         27,2,20170706,       0128,   -30.0795,   153.9994,       4438,   368.2,  12.0835,  35.0011,2,  34.9000,2, 194.4466,3, 192.1316,2,     5.5,2,   15.54,2,    0.00,2,    1.07,2,   2.444,2,   1.402,2,   0.8330,2,  2136.6,2, 2296.99,2,   7.7750,2, -999.00,9, -999.00,9, -999.00,  -999.0,9, -999.00,9,     -999.0,9,  -999.0,1, 20170706,      105, -30.0796, 153.9999,        0.0,1,      0.058,1,      4.698,1,      0.150,1,      25.01,     -999.0,1,     -999.0,1,     -999.0,9,     -999.0,9,    12.3261,2,     -999.0,9
320620170703,        P06,       9,          1,         28,         28,2,20170706,       0128,   -30.0795,   153.9994,       4438,   316.8,  13.8034,  35.1867,2,  34.9416,2, 187.6208,2, 187.9079,2,     3.6,2,   11.90,2,    0.00,2,    0.84,2,-999.000,9,-999.000,9,-999.0000,9,  2122.4,2, 2307.14,2,   7.8244,2, -999.00,9, -999.00,9, -999.00,  -999.0,9, -999.00,9,     -999.0,9,  -999.0,1, 20170706,      108, -30.0796, 153.9998,        0.0,1,      0.059,1,      4.696,1,      0.150,1,      25.02,     -999.0,1,     -999.0,1,     -999.0,9,     -999.0,9,    13.7591,2,       0.97,2
320620170703,        P06,       9,          1,         29,         29,2,20170706,       0128,   -30.0795,   153.9994,       4438,   266.8,  15.3522,  35.3360,2,  35.1725,2, 184.9807,2, 185.3719,2,     2.7,2,    9.83,2,    0.00,2,    0.69,2,   2.334,2,   1.377,2,   1.0450,2,  2115.9,2, 2313.18,2,   7.8561,2, -999.00,9, -999.00,9, -999.00,  -999.0,9, -999.00,9,     -999.0,9,  -999.0,1, 20170706,      111, -30.0796, 153.9998,        0.0,1,      0.060,1,      4.696,1,      0.149,1,      25.01,     -999.0,1,     -999.0,1,     -999.0,9,     -999.0,9,    15.1593,2,       0.75,2
320620170703,        P06,       9,          1,         30,         30,2,20170706,       0128,   -30.0795,   153.9994,       4438,   216.6,  16.7929,  35.4617,2,  35.3041,2, 186.7579,2, 185.5724,2,     1.8,2,    7.73,2,    0.00,2,    0.57,2,-999.000,9,-999.000,9,-999.0000,9,  2104.9,2, 2321.99,2,   7.8904,2, -999.00,9, -999.00,9, -999.00,  -999.0,9, -999.00,9,     -999.0,9,  -999.0,1, 20170706,      114, -30.0796, 153.9997,        0.0,1,      0.060,1,      4.695,1,      0.153,1,      25.02,     -999.0,1,     -999.0,1,     -999.0,9,     -999.0,9,    16.5504,2,       0.63,2
320620170703,        P06,       9,          1,         31,         31,2,20170706,       0128,   -30.0795,   153.9994,       4438,   166.2,  18.1374,  35.5575,2,  35.4436,2, 182.7269,2, 181.7404,2,     1.4,2,    6.41,2,    0.00,2,    0.49,2,   2.118,2,   1.315,2,   1.0020,2,  2094.9,2, 2325.57,2,   7.9181,2, -999.00,9, -999.00,9, -999.00,  -999.0,9, -999.00,9,     -999.0,9,  -999.0,1, 20170706,      117, -30.0796, 153.9997,        0.0,1,      0.061,1,      4.691,1,      0.153,1,      25.00,     -999.0,1,     -999.0,1,     -999.0,9,     -999.0,9,    18.0202,2,       0.56,2
320620170703,        P06,       9,          1,         32,         32,2,20170706,       0128,   -30.0795,   153.9994,       4438,   116.1,  19.3246,  35.6706,2,  35.5506,2, 202.5444,3, 190.3631,2,     0.6,2,    4.03,2,    0.02,2,    0.33,2,-999.000,9,-999.000,9,-999.0000,9,  2080.6,2, 2334.74,2,   7.9592,2, -999.00,9, -999.00,9, -999.00,  -999.0,9, -999.00,9,     -999.0,9,  -999.0,1, 20170706,      119, -30.0796, 153.9996,        0.0,1,      0.061,1,      4.692,1,      0.151,1,      25.01,     -999.0,1,     -999.0,1,     -999.0,9,     -999.0,9,    19.4365,2,       0.43,2