BOTTLE,20230922CCHSIOCBG
EXPOCODE,SECT_ID,STNNBR,CASTNO,SAMPNO,BTLNBR,BTLNBR_FLAG_W,DATE,TIME,LATITUDE,LONGITUDE,DEPTH,CTDPRS,CTDTMP,CTDSAL,CTDSAL_FLAG_W,SALNTY,SALNTY_FLAG_W,CTDOXY,CTDOXY_FLAG_W,OXYGEN,OXYGEN_FLAG_W,SILCAT,SILCAT_FLAG_W,NITRAT,NITRAT_FLAG_W,NITRIT,NITRIT_FLAG_W,PHSPHT,PHSPHT_FLAG_W,CFC-11,CFC-11_FLAG_W,CFC-12,CFC-12_FLAG_W,SF6,SF6_FLAG_W,TCARBN,TCARBN_FLAG_W,ALKALI,ALKALI_FLAG_W,PH_TOT,PH_TOT_FLAG_W,DELC13,DELC13_FLAG_W,DELC14,DELC14_FLAG_W,C14ERR,DOC,DOC_FLAG_W,TDN,TDN_FLAG_W,TON,TON_FLAG_W,D15N_NO3,D15N_NO3_FLAG_W,BTL_DATE,BTL_TIME,BTL_LAT,BTL_LON,CTDRINKO,CTDRINKO_FLAG_W,CTDFLUOR,CTDFLUOR_FLAG_W,CTDXMISS,CTDXMISS_FLAG_W,CTDBACKSCATTER,CTDBACKSCATTER_FLAG_W,PH_TMP,D18O_NO3,D18O_NO3_FLAG_W,DOP,DOP_FLAG_W,HPLC,HPLC_FLAG_W,POC,POC_FLAG_W,REFTMP,REFTMP_FLAG_W,TDP,TDP_FLAG_W
,,,,,,,,,,,METERS,DBAR,ITS-90,PSS-78,,PSS-78,,UMOL/KG,,UMOL/KG,,UMOL/KG,,UMOL/KG,,UMOL/KG,,UMOL/KG,,PMOL/KG,,PMOL/KG,,FMOL/KG,,UMOL/KG,,UMOL/KG,,,,/MILLE,,/MILLE,,/MILLE,UMOL/KG,,UMOL/KG,,UMOL/KG,,/MILLE,,,,,,VOLTS,,VOLTS,,VOLTS,,VOLTS,,DEGC,/MILLE,,UMOL/KG,,,,UG/L,,ITS-90,,UMOL/KG,
320620170703,        P06,      42,          1,          1,         37,2,20170713,       0215,   -30.0800,   165.4100,       3369,  3413.8,   1.9288,  34.6857,2,  34.6869,2, 159.1704,2, 159.2784,2,   118.1,2,   34.58,2,    0.00,2,    2.41,2,   0.026,2,   0.030,2,   0.0000,2,  2305.0,6, 2397.02,2,   7.5858,2, -999.00,9, -999.00,9, -999.00,    35.5,2, -999.00,9,     -999.0,1,  -999.0,9, 20170713,       24, -30.0801, 165.4090,        0.0,1,      0.061,1,      4.696,1,      0.148,1,      25.02,     -999.0,9,     -999.0,9,     -999.0,9,     -999.0,9,     1.9294,2,     -999.0,9
320620170703,        P06,      42,          1,          2,          2,2,20170713,       0215,   -30.0800,   165.4100,       3369,  3262.6,   1.9298,  34.6846,2,  34.6846,2, 159.1704,2, 159.4427,2,   117.7,2,   34.67,2,    0.00,2,    2.41,2,-999.000,9,-999.000,9,-999.0000,9,  -999.0,9, -999.00,9,-999.0000,9, -999.00,9, -999.00,9, -999.00,  -999.0,9, -999.00,9,     -999.0,9,  -999.0,9, 20170713,       30, -30.0801, 165.4090,        0.0,1,      0.062,1,      4.701,1,      0.138,1,     -999.0,     -999.0,9,     -999.0,9,     -999.0,9,     -999.0,9,     1.9300,2,     -999.0,9
320620170703,        P06,      42,          1,          3,         38,2,20170713,       0215,   -30.0800,   165.4100,       3369,  3109.1,   1.9405,  34.6831,2,  34.6842,2, 158.6214,2, 158.3887,2,   117.8,2,   34.64,2,    0.00,2,    2.41,2,   0.025,2,   0.033,2,   0.0000,2,  -999.0,9, -999.00,9,-999.0000,9, -999.00,9, -999.00,9, -999.00,  -999.0,9, -999.00,9,     -999.0,9,  -999.0,9, 20170713,       34, -30.0800, 165.4091,        0.0,1,      0.061,1,      4.702,1,      0.138,1,     -999.0,     -999.0,9,     -999.0,9,     -999.0,9,     -999.0,9,     1.9405,2,     -999.0,9
320620170703,        P06,      42,          1,          4,          4,2,20170713,       0215,   -30.0800,   165.4100,       3369,  2903.8,   1.9678,  34.6798,2,  34.6798,2, 157.5159,2, 157.1375,2,   116.9,2,   34.78,2,    0.00,2,    2.41,2,-999.000,9,-999.000,9,-999.0000,9,  -999.0,9, -999.00,9,-999.0000,9, -999.00,9, -999.00,9, -999.00,  -999.0,9, -999.00,9,     -999.0,9,  -999.0,9, 20170713,       39, -30.0800, 165.4088,        0.0,1,      0.061,1,      4.703,1,      0.139,1,     -999.0,     -999.0,9,     -999.0,9,     -999.0,9,     -999.0,9,     1.9671,2,     -999.0,9
320620170703,        P06,      42,          1,          5,         39,2,20170713,       0215,   -30.0800,   165.4100,       3369,  2700.0,   2.0071,  34.6755,2,  34.6716,2, 155.9348,2, 156.0416,2,   115.8,2,   34.75,2,    0.00,2,    2.42,2,   0.029,2,   0.035,2,   0.0000,2,  2303.0,2, 2401.43,2,   7.5815,2, -999.00,9, -999.00,9, -999.00,    35.8,2, -999.00,9,     -999.0,1,  -999.0,9, 20170713,       44, -30.0801, 165.4089,        0.0,1,      0.061,1,      4.703,1,      0.135,1,      25.00,     -999.0,9,     -999.0,9,     -999.0,9,     -999.0,9,     2.0016,2,     -999.0,9
320620170703,        P06,      42,          1,          6,          6,2,20170713,       0215,   -30.0800,   165.4100,       3369,  2496.5,   2.0546,  34.6706,2,  34.6814,2, 155.0320,2, 155.2145,2,   114.4,2,   34.87,2,    0.00,2,    2.43,2,-999.000,9,-999.000,9,-999.0000,9,  -999.0,9, -999.00,9,-999.0000,9, -999.00,9, -999.00,9, -999.00,  -999.0,9, -999.00,9,     -999.0,9,  -999.0,9, 20170713,       49, -30.0801, 165.4088,        0.0,1,      0.062,1,      4.703,1,      0.138,1,     -999.0,     -999.0,9,     -999.0,9,     -999.0,9,     -999.0,9,     2.0538,2,     -999.0,9
320620170703,        P06,      42,          1,          7,         40,2,20170713,       0215,   -30.0800,   165.4100,       3369,  2293.6,   2.1518,  34.6612,2,  34.6618,2, 154.2062,2, 154.2004,2,   112.3,2,   34.88,2,    0.00,2,    2.43,2,   0.029,2,   0.036,2,   0.0000,2,  -999.0,9, -999.00,9,-999.0000,9, -999.00,9, -999.00,9, -999.00,    35.7,2, -999.00,9,     -999.0,1,  -999.0,9, 20170713,       54, -30.0801, 165.4087,        0.0,1,      0.062,1,      4.704,1,      0.137,1,     -999.0,     -999.0,9,     -999.0,9,     -999.0,9,     -999.0,9,     2.1530,2,     -999.0,9
320620170703,        P06,      42,          1,          8,          8,2,20170713,       0215,   -30.0800,   165.4100,       3369,  2090.1,   2.2988,  34.6480,2,  34.6504,2, 153.2434,2, 153.2889,2,   109.5,2,   34.85,2,    0.00,2,    2.43,2,-999.000,9,-999.000,9,-999.0000,9,  -999.0,9, -999.00,9,-999.0000,9, -999.00,9, -999.00,9, -999.00,  -999.0,9, -999.00,9,     -999.0,9,  -999.0,9, 20170713,       59, -30.0801, 165.4086,        0.0,1,      0.061,1,      4.703,1,      0.140,1,     -999.0,     -999.0,9,     -999.0,9,     -999.0,9,     -999.0,9,     2.2840,2,     -999.0,9
320620170703,        P06,      42,          1,          9,         41,2,20170713,       0215,   -30.0800,   165.4100,       3369,  1886.0,   2.5556,  34.6259,2,  34.6242,2, 152.4709,2, 151.8287,2,   103.2,2,   34.75,2,    0.00,2,    2.43,2,   0.045,2,   0.049,2,   0.0000,2,  2289.6,2, 2384.76,3,   7.5755,3, -999.00,9, -999.00,9, -999.00,    36.5,2, -999.00,9,     -999.0,1,  -999.0,9, 20170713,      104, -30.0801, 165.4086,        0.0,1,      0.061,1,      4.703,1,      0.144,1,      25.01,     -999.0,9,     -999.0,9,     -999.0,9,     -999.0,9,     2.5783,2,     -999.0,9
320620170703,        P06,      42,          1,         10,         10,2,20170713,       0215,   -30.0800,   165.4100,       3369,  1752.4,   2.8223,  34.6038,2,  34.6036,2, 153.2210,2, 153.8008,2,    97.2,2,   34.48,2,    0.00,2,    2.40,2,-999.000,9,-999.000,9,-999.0000,9,  -999.0,9, -999.00,9,-999.0000,9, -999.00,9, -999.00,9, -999.00,  -999.0,9, -999.00,9,     -999.0,9,  -999.0,9, 20170713,      108, -30.0801, 165.4089,        0.0,1,      0.061,1,      4.702,1,      0.143,1,     -999.0,     -999.0,9,     -999.0,9,     -999.0,9,     -999.0,9,     2.8309,2,     -999.0,9
320620170703,        P06,      42,          1,         11,         42,2,20170713,       0215,   -30.0800,   165.4100,       3369,  1652.7,   3.0707,  34.5844,2,  34.5879,2, 154.7994,2, 154.3281,2,    92.2,2,   34.16,2,    0.00,2,    2.37,2,   0.088,2,   0.073,2,   0.0000,2,  -999.0,9, -999.00,9,-999.0000,9, -999.00,9, -999.00,9, -999.00,    36.6,2, -999.00,9,     -999.0,1,  -999.0,9, 20170713,      111, -30.0800, 165.4091,        0.0,1,      0.061,1,      4.702,1,      0.142,1,     -999.0,     -999.0,9,     -999.0,9,     -999.0,9,     -999.0,9,     3.0258,2,     -999.0,9
320620170703,        P06,      42,          1,         12,         12,2,20170713,       0215,   -30.0800,   165.4100,       3369,  1549.9,   3.3554,  34.5654,2,  34.5651,2, 158.9155,2, 158.8446,2,    83.4,2,   33.55,2,    0.00,2,    2.33,2,-999.000,9,-999.000,9,-999.0000,9,  -999.0,9, -999.00,9,-999.0000,9, -999.00,9, -999.00,9, -999.00,  -999.0,9, -999.00,9,     -999.0,9,  -999.0,9, 20170713,      115, -30.0801, 165.4093,        0.0,1,      0.061,1,      4.702,1,      0.145,1,     -999.0,     -999.0,9,     -999.0,9,     -999.0,9,     -999.0,9,     3.3451,2,     -999.0,9
320620170703,        P06,      42,          1,         13,         43,2,20170713,       0215,   -30.0800,   165.4100,       3369,  1450.1,   3.7746,  34.5369,2,  34.5394,2, 164.5424,2, 165.0531,2,    73.8,2,   32.74,2,    0.00,2,    2.28,2,   0.287,2,   0.187,2,   0.2520,2,  2250.1,2, 2339.72,2,   7.5942,2, -999.00,9, -999.00,9, -999.00,    36.7,2, -999.00,9,     -999.0,1,  -999.0,9, 20170713,      118, -30.0800, 165.4094,        0.0,1,      0.061,1,      4.702,1,      0.144,1,      25.00,     -999.0,9,     -999.0,9,     -999.0,9,     -999.0,9,     3.7425,2,     -999.0,9
320620170703,        P06,      42,          1,         14,         14,2,20170713,       0215,   -30.0800,   165.4100,       3369,  1348.2,   4.1419,  34.5011,2,  34.5019,2, 171.7002,2, 171.9420,2,    62.4,2,   31.89,2,    0.00,2,    2.20,2,-999.000,9,-999.000,9,-999.0000,9,  -999.0,9, -999.00,9,-999.0000,9, -999.00,9, -999.00,9, -999.00,  -999.0,9, -999.00,9,     -999.0,9,  -999.0,9, 20170713,      121, -30.0800, 165.4095,        0.0,1,      0.060,1,      4.702,1,      0.139,1,     -999.0,     -999.0,9,     -999.0,9,     -999.0,9,     -999.0,9,     4.1378,2,     -999.0,9
320620170703,        P06,      42,          1,         15,         15,2,20170713,       0215,   -30.0800,   165.4100,       3369,  1248.3,   4.5295,  34.4614,2,  34.4642,2, 179.7383,2, 180.1174,2,    51.2,2,   30.97,2,    0.00,2,    2.13,2,   0.548,2,   0.329,2,   0.2890,2,  -999.0,9, -999.00,9,-999.0000,9, -999.00,9, -999.00,9, -999.00,    38.1,2, -999.00,9,     -999.0,1,  -999.0,9, 20170713,      124, -30.0800, 165.4096,        0.0,1,      0.061,1,      4.702,1,      0.141,1,     -999.0,     -999.0,9,     -999.0,9,     -999.0,9,     -999.0,9,     4.5360,2,     -999.0,9
320620170703,        P06,      42,          1,         16,         16,2,20170713,       0215,   -30.0800,   165.4100,       3369,  1145.6,   5.0992,  34.4509,2,  34.4542,2, 185.2475,2, 185.7306,2,    41.5,2,   29.79,2,    0.00,2,    2.03,2,-999.000,9,-999.000,9,-999.0000,9,  -999.0,9, -999.00,9,-999.0000,9, -999.00,9, -999.00,9, -999.00,  -999.0,9, -999.00,9,     -999.0,9,  -999.0,9, 20170713,      128, -30.0800, 165.4096,        0.0,1,      0.059,1,      4.703,1,      0.144,1,     -999.0,     -999.0,9,     -999.0,9,     -999.0,9,     -999.0,9,     5.0574,2,     -999.0,9
320620170703,        P06,      42,          1,         17,         17,2,20170713,       0215,   -30.0800,   165.4100,       3369,  1044.8,   5.6686,  34.4416,2,  34.4432,2, 193.3517,2, 193.2967,2,    31.6,2,   28.22,2,    0.00,2,    1.92,2,   1.034,2,   0.587,2,   0.3490,2,  2190.7,2, 2297.02,2,   7.6459,2, -999.00,9, -999.00,9, -999.00,    38.6,2, -999.00,9,     -999.0,1,  -999.0,9, 20170713,      131, -30.0800, 165.4097,        0.0,1,      0.060,1,      4.702,1,      0.145,1,      25.00,     -999.0,9,     -999.0,9,     -999.0,9,     -999.0,9,     5.6682,2,     -999.0,9
320620170703,        P06,      42,          1,         18,         18,2,20170713,       0215,   -30.0800,   165.4100,       3369,   945.2,   6.3597,  34.4592,2,  34.4593,2, 198.9388,2, 198.4728,2,    24.2,2,   26.61,2,    0.00,2,    1.80,2,-999.000,9,-999.000,9,-999.0000,9,  -999.0,9, -999.00,9,-999.0000,9, -999.00,9, -999.00,9, -999.00,    38.9,2, -999.00,9,     -999.0,1,  -999.0,9, 20170713,      134, -30.0800, 165.4096,        0.0,1,      0.058,1,      4.702,1,      0.141,1,     -999.0,     -999.0,9,     -999.0,9,     -999.0,9,     -999.0,9,     6.3122,2,     -999.0,9
320620170703,        P06,      42,          1,         19,         19,2,20170713,       0215,   -30.0800,   165.4100,       3369,   842.5,   7.1016,  34.4934,2,  34.4982,2, 204.7033,2, 203.3504,2,    17.4,2,   24.47,2,    0.00,2,    1.65,2,   1.720,6,   0.985,6,   0.4915,6,  2167.1,2, 2298.44,2,   7.6837,2, -999.00,9, -999.00,9, -999.00,    39.9,2, -999.00,9,     -999.0,1,  -999.0,9, 20170713,      137, -30.0800, 165.4097,        0.0,1,      0.059,1,      4.701,1,      0.142,1,      25.00,     -999.0,9,     -999.0,9,     -999.0,9,     -999.0,9,     7.1390,2,     -999.0,9
320620170703,        P06,      42,          1,         20,         20,2,20170713,       0215,   -30.0800,   165.4100,       3369,   740.1,   8.1868,  34.5863,2,  34.5814,2, 202.2567,2, 202.2650,2,    12.6,2,   22.22,2,    0.00,2,    1.49,2,-999.000,9,-999.000,9,-999.0000,9,  -999.0,9, -999.00,9,-999.0000,9, -999.00,9, -999.00,9, -999.00,    40.5,2, -999.00,9,     -999.0,1,  -999.0,9, 20170713,      141, -30.0800, 165.4098,        0.0,1,      0.060,1,      4.700,1,      0.142,1,     -999.0,     -999.0,9,     -999.0,9,     -999.0,9,     -999.0,9,     8.1656,2,     -999.0,9
320620170703,        P06,      42,          1,         21,         21,2,20170713,       0215,   -30.0800,   165.4100,       3369,   642.8,   9.4175,  34.7037,2,  34.6963,2, 200.9146,2, 200.5383,2,     8.9,2,   19.69,2,    0.00,2,    1.32,2,   2.279,2,   1.336,2,   0.6040,2,  -999.0,9, -999.00,9,-999.0000,9, -999.00,9, -999.00,9, -999.00,    41.0,2, -999.00,9,     -999.0,1,  -999.0,9, 20170713,      144, -30.0800, 165.4099,        0.0,1,      0.060,1,      4.698,1,      0.145,1,     -999.0,     -999.0,9,     -999.0,9,     -999.0,9,     -999.0,9,     9.3523,2,     -999.0,9
320620170703,        P06,      42,          1,         22,         22,2,20170713,       0215,   -30.0800,   165.4100,       3369,   539.6,  11.0271,  34.8742,2,  34.8902,2, 197.0362,2, 197.7616,2,     5.6,2,   15.85,2,    0.00,2,    1.06,2,-999.000,9,-999.000,9,-999.0000,9,  2140.7,2, 2301.08,2,   7.7683,2, -999.00,9, -999.00,9, -999.00,    43.4,2, -999.00,9,     -999.0,1,  -999.0,9, 20170713,      147, -30.0800, 165.4101,        0.0,1,      0.059,1,      4.696,1,      0.140,1,      25.00,     -999.0,9,     -999.0,9,     -999.0,9,     -999.0,9,    11.1972,2,     -999.0,9
320620170703,        P06,      42,          1,         23,         23,2,20170713,       0215,   -30.0800,   165.4100,       3369,   469.1,  12.8221,  35.1286,2,  35.0864,2, 196.6954,2, 197.1561,2,     4.3,2,   12.95,2,    0.00,2,    0.89,2,   2.314,2,   1.424,2,   0.9040,2,  -999.0,9, -999.00,9,-999.0000,9, -999.00,9, -999.00,9, -999.00,  -999.0,9, -999.00,9,     -999.0,9,  -999.0,9, 20170713,      149, -30.0800, 165.4103,        0.0,1,      0.060,1,      4.692,1,      0.153,1,     -999.0,     -999.0,9,     -999.0,9,     -999.0,9,     -999.0,9,    12.5512,2,     -999.0,9
320620170703,        P06,      42,          1,         24,         24,2,20170713,       0215,   -30.0800,   165.4100,       3369,   419.4,  13.7228,  35.2310,2,  35.2172,2, 196.1240,2, 196.9703,2,     3.3,2,   11.06,2,    0.00,2,    0.76,2,-999.000,9,-999.000,9,-999.0000,9,  -999.0,9, -999.00,9,-999.0000,9, -999.00,9, -999.00,9, -999.00,    45.3,2,   13.20,2,     -999.0,1,  -999.0,9, 20170713,      151, -30.0800, 165.4103,        0.0,1,      0.060,1,      4.692,1,      0.148,1,     -999.0,     -999.0,9,     -999.0,9,     -999.0,9,     -999.0,9,    13.6618,2,     -999.0,9
320620170703,        P06,      42,          1,         25,         25,2,20170713,       0215,   -30.0800,   165.4100,       3369,   366.8,  15.0385,  35.3427,2,  35.3124,2, 195.8602,2, 195.7729,2,     2.7,2,    9.37,2,    0.00,2,    0.65,2,   2.216,2,   1.400,2,   1.0250,2,  2112.2,2, 2326.25,2,   7.8564,2, -999.00,9, -999.00,9, -999.00,    47.1,2,   12.90,2,     -999.0,1,  -999.0,9, 20170713,      153, -30.0800, 165.4101,        0.0,1,      0.059,1,      4.693,1,      0.143,1,      25.00,     -999.0,9,     -999.0,9,     -999.0,9,     -999.0,9,    14.6805,2,     -999.0,9
320620170703,        P06,      42,          1,         26,         26,2,20170713,       0215,   -30.0800,   165.4100,       3369,   317.6,  16.1755,  35.4578,2,  35.4362,2, 196.8111,2, 197.4690,2,     1.8,2,    7.11,2,    0.00,2,    0.52,2,-999.000,9,-999.000,9,-999.0000,9,  -999.0,9, -999.00,9,-999.0000,9, -999.00,9, -999.00,9, -999.00,    46.9,2,   10.20,2,     -999.0,1,  -999.0,9, 20170713,      156, -30.0800, 165.4100,        0.0,1,      0.059,1,      4.692,1,      0.139,1,     -999.0,     -999.0,9,     -999.0,9,     -999.0,9,     -999.0,9,    15.9858,2,     -999.0,9
320620170703,        P06,      42,          1,         27,         27,2,20170713,       0215,   -30.0800,   165.4100,       3369,   264.1,  17.0243,  35.5353,2,  35.5210,2, 193.7495,3, 185.8340,3,     1.6,2,    5.97,2,    0.00,2,    0.43,2,   2.023,2,   1.344,2,   0.9770,2,  2094.0,2, 2333.37,2,   7.9123,2, -999.00,9, -999.00,9, -999.00,    47.8,2,    8.60,2,     -999.0,1,  -999.0,9, 20170713,      158, -30.0800, 165.4099,        0.0,1,      0.059,1,      4.690,1,      0.141,1,      25.00,     -999.0,9,     -999.0,9,     -999.0,9,     -999.0,9,    16.8480,2,     -999.0,9
320620170703,        P06,      42,          1,         28,         28,2,20170713,       0215,   -30.0800,   165.4100,       3369,   216.4,  18.0083,  35.6205,2,  35.6030,2, 197.7275,2, 195.9850,2,     1.1,2,    4.92,2,    0.00,2,    0.36,2,-999.000,9,-999.000,9,-999.0000,9,  -999.0,9, -999.00,9,-999.0000,9, -999.00,9, -999.00,9, -999.00,    48.5,2,    8.50,2,     -999.0,1,  -999.0,9, 20170713,      200, -30.0800, 165.4099,        0.0,1,      0.061,1,      4.688,1,      0.148,1,     -999.0,     -999.0,9,     -999.0,9,     -999.0,9,     -999.0,9,    17.8913,2,     -999.0,9
320620170703,        P06,      42,          1,         29,         29,2,20170713,       0215,   -30.0800,   165.4100,       3369,   185.5,  18.5189,  35.6589,2,  35.6463,2, 196.8910,2, 196.0752,2,     0.8,2,    4.28,2,    0.02,2,    0.34,2,   1.928,2,   1.288,2,   1.0390,2,  2084.2,2, 2340.43,2,   7.9462,2, -999.00,9, -999.00,9, -999.00,    48.9,2,    8.00,2,     -999.0,1,  -999.0,9, 20170713,      202, -30.0800, 165.4099,        0.0,1,      0.061,1,      4.686,1,      0.148,1,      25.01,     -999.0,9,     -999.0,9,     -999.0,9,     -999.0,9,    18.4003,2,     -999.0,9
320620170703,        P06,      42,          1,         30,         30,2,20170713,       0215,   -30.0800,   165.4100,       3369,   160.7,  18.8871,  35.6970,2,  35.6788,2, 199.2454,3, 196.9858,2,     0.6,2,    3.70,2,    0.02,2,    0.29,2,-999.000,9,-999.000,9,-999.0000,9,  -999.0,9, -999.00,9,-999.0000,9, -999.00,9, -999.00,9, -999.00,    50.5,2,    7.40,2,     -999.0,1,  -999.0,9, 20170713,      204, -30.0800, 165.4099,        0.0,1,      0.064,1,      4.681,1,      0.155,1,     -999.0,     -999.0,9,     -999.0,9,     -999.0,9,     -999.0,9,    18.8095,2,     -999.0,9
320620170703,        P06,      42,          1,         31,         31,2,20170713,       0215,   -30.0800,   165.4100,       3369,   137.1,  19.3801,  35.7723,2,  35.7233,2, 203.3989,2, 202.5768,2,     0.5,2,    2.73,2,    0.08,2,    0.23,2,   1.821,2,   1.235,2,   1.0960,2,  2072.7,2, 2350.27,2,   7.9730,2, -999.00,9, -999.00,9, -999.00,    55.2,2,    5.80,2,     -999.0,1,  -999.0,9, 20170713,      205, -30.0800, 165.4099,        0.0,1,      0.080,1,      4.674,1,      0.167,1,      25.00,     -999.0,9,     -999.0,9,     -999.0,9,     -999.0,9,    19.1944,2,     -999.0,9
320620170703,        P06,      42,          1,         32,         32,2,20170713,       0215,   -30.0800,   165.4100,       3369,   110.1,  19.6849,  35.8199,2,  35.8161,2, 224.3637,3, 219.5148,2,     0.3,2,    0.68,2,    0.14,2,    0.12,2,-999.000,9,-999.000,9,-999.0000,9,  -999.0,9, -999.00,9,-999.0000,9, -999.00,9, -999.00,9, -999.00,    59.5,2,    5.00,2,     -999.0,1,  -999.0,9, 20170713,      207, -30.0800, 165.4098,        0.0,1,      0.159,1,      4.636,1,      0.192,1,     -999.0,     -999.0,9,     -999.0,9,     -999.0,9,     -999.0,9,    19.6876,2,     -999.0,9