BOTTLE,20230922CCHSIOCBG
EXPOCODE,SECT_ID,STNNBR,CASTNO,SAMPNO,BTLNBR,BTLNBR_FLAG_W,DATE,TIME,LATITUDE,LONGITUDE,DEPTH,CTDPRS,CTDTMP,CTDSAL,CTDSAL_FLAG_W,SALNTY,SALNTY_FLAG_W,CTDOXY,CTDOXY_FLAG_W,OXYGEN,OXYGEN_FLAG_W,SILCAT,SILCAT_FLAG_W,NITRAT,NITRAT_FLAG_W,NITRIT,NITRIT_FLAG_W,PHSPHT,PHSPHT_FLAG_W,CFC-11,CFC-11_FLAG_W,CFC-12,CFC-12_FLAG_W,SF6,SF6_FLAG_W,TCARBN,TCARBN_FLAG_W,ALKALI,ALKALI_FLAG_W,PH_TOT,PH_TOT_FLAG_W,DELC13,DELC13_FLAG_W,DELC14,DELC14_FLAG_W,C14ERR,DOC,DOC_FLAG_W,TDN,TDN_FLAG_W,TON,TON_FLAG_W,D15N_NO3,D15N_NO3_FLAG_W,BTL_DATE,BTL_TIME,BTL_LAT,BTL_LON,CTDRINKO,CTDRINKO_FLAG_W,CTDFLUOR,CTDFLUOR_FLAG_W,CTDXMISS,CTDXMISS_FLAG_W,CTDBACKSCATTER,CTDBACKSCATTER_FLAG_W,PH_TMP,D18O_NO3,D18O_NO3_FLAG_W,DOP,DOP_FLAG_W,HPLC,HPLC_FLAG_W,POC,POC_FLAG_W,REFTMP,REFTMP_FLAG_W,TDP,TDP_FLAG_W
,,,,,,,,,,,METERS,DBAR,ITS-90,PSS-78,,PSS-78,,UMOL/KG,,UMOL/KG,,UMOL/KG,,UMOL/KG,,UMOL/KG,,UMOL/KG,,PMOL/KG,,PMOL/KG,,FMOL/KG,,UMOL/KG,,UMOL/KG,,,,/MILLE,,/MILLE,,/MILLE,UMOL/KG,,UMOL/KG,,UMOL/KG,,/MILLE,,,,,,VOLTS,,VOLTS,,VOLTS,,VOLTS,,DEGC,/MILLE,,UMOL/KG,,,,UG/L,,ITS-90,,UMOL/KG,
320620170703,        P06,      14,          1,          1,         37,2,20170707,       1144,   -30.0803,   155.9901,       4554,  4627.0,   1.2182,  34.7135,2,  34.7134,2, 200.8318,3, 195.8492,2,   118.3,2,   32.59,2,    0.00,2,    2.27,2,   0.064,2,   0.029,2,   0.0000,2,  2278.9,6, 2380.71,2,   7.6169,2, -999.00,9, -999.00,9, -999.00,    42.7,2, -999.00,9,     -999.0,1,  -999.0,1, 20170707,      942, -30.0801, 155.9904,        0.0,1,      0.061,1,      4.694,1,      0.159,1,      25.03,     -999.0,1,     -999.0,9,     -999.0,9,     -999.0,9,     1.2189,2,     -999.0,9
320620170703,        P06,      14,          1,          2,          2,2,20170707,       1144,   -30.0803,   155.9901,       4554,  4529.7,   1.2078,  34.7138,2,  34.7127,2, 200.8318,2, 199.5016,2,   118.3,2,   32.55,2,    0.00,2,    2.26,2,   0.075,2,   0.031,2,   0.0000,2,  -999.0,9, -999.00,9,-999.0000,9, -999.00,9, -999.00,9, -999.00,    42.8,2, -999.00,9,     -999.0,1,  -999.0,1, 20170707,      946, -30.0801, 155.9904,        0.0,1,      0.061,1,      4.695,1,      0.158,1,     -999.0,     -999.0,1,     -999.0,9,     -999.0,9,     -999.0,9,     1.2085,2,     -999.0,9
320620170703,        P06,      14,          1,          3,         38,2,20170707,       1144,   -30.0803,   155.9901,       4554,  4401.2,   1.1986,  34.7141,2,  34.7125,2, 200.8318,3, 205.2604,2,   118.1,2,   32.53,2,    0.00,2,    2.26,2,   0.041,2,   0.024,2,   0.0000,2,  2278.6,2, 2381.85,2,   7.6163,2, -999.00,9, -999.00,9, -999.00,  -999.0,9, -999.00,9,     -999.0,9,  -999.0,1, 20170707,      950, -30.0802, 155.9902,        0.0,1,      0.061,1,      4.698,1,      0.154,1,      25.02,     -999.0,1,     -999.0,9,     -999.0,9,     -999.0,9,     1.1991,2,     -999.0,9
320620170703,        P06,      14,          1,          4,          4,2,20170707,       1144,   -30.0803,   155.9901,       4554,  4275.3,   1.1922,  34.7142,2,  34.7127,2, 205.7195,3, 226.7905,3,   117.9,2,   32.53,2,    0.00,2,    2.27,2,   0.039,2,   0.026,2,   0.0000,2,  -999.0,9, -999.00,9,-999.0000,9, -999.00,9, -999.00,9, -999.00,    39.6,2, -999.00,9,     -999.0,1,  -999.0,1, 20170707,      955, -30.0801, 155.9903,        0.0,1,      0.061,1,      4.701,1,      0.146,1,     -999.0,     -999.0,1,     -999.0,9,     -999.0,9,     -999.0,9,     1.1929,2,     -999.0,9
320620170703,        P06,      14,          1,          5,         39,2,20170707,       1144,   -30.0803,   155.9901,       4554,  3962.8,   1.1835,  34.7150,2,  34.7125,2, 200.8318,2, 198.8959,2,   117.1,2,   32.53,2,    0.00,2,    2.26,2,   0.033,2,   0.023,2,   0.0000,2,  2276.9,2, 2377.94,2,   7.6149,2, -999.00,9, -999.00,9, -999.00,  -999.0,9, -999.00,9,     -999.0,9,  -999.0,1, 20170707,     1001, -30.0801, 155.9902,        0.0,1,      0.061,1,      4.705,1,      0.142,1,      25.02,     -999.0,1,     -999.0,9,     -999.0,9,     -999.0,9,     1.1817,2,     -999.0,9
320620170703,        P06,      14,          1,          6,          6,2,20170707,       1144,   -30.0803,   155.9901,       4554,  3656.3,   1.2219,  34.7167,2,  34.7148,2, 205.4169,3, 209.4902,3,   115.6,2,   32.43,2,    0.00,2,    2.25,2,   0.028,2,   0.020,2,   0.0000,2,  -999.0,9, -999.00,9,-999.0000,9, -999.00,9, -999.00,9, -999.00,    43.4,2, -999.00,9,     -999.0,1,  -999.0,1, 20170707,     1008, -30.0801, 155.9903,        0.0,1,      0.062,1,      4.707,1,      0.136,1,     -999.0,     -999.0,1,     -999.0,9,     -999.0,9,     -999.0,9,     1.2152,2,     -999.0,9
320620170703,        P06,      14,          1,          7,         40,2,20170707,       1144,   -30.0803,   155.9901,       4554,  3348.0,   1.3314,  34.7194,2,  34.7164,2, 198.3034,2, 196.6779,2,   112.5,2,   32.30,2,    0.00,2,    2.25,2,   0.020,2,   0.016,2,   0.0000,2,  2273.2,2, 2373.87,3,   7.6115,2, -999.00,9, -999.00,9, -999.00,    41.6,2, -999.00,9,     -999.0,1,  -999.0,1, 20170707,     1015, -30.0801, 155.9902,        0.0,1,      0.061,1,      4.708,1,      0.135,1,      25.03,     -999.0,1,     -999.0,9,     -999.0,9,     -999.0,9,     1.3187,2,     -999.0,9
320620170703,        P06,      14,          1,          8,          8,2,20170707,       1144,   -30.0803,   155.9901,       4554,  3041.1,   1.5662,  34.7225,2,  34.7199,2, 190.8871,2, 189.7328,2,   106.3,2,   32.12,2,    0.00,2,    2.23,2,   0.021,2,   0.016,2,   0.0000,2,  -999.0,9, -999.00,9,-999.0000,9, -999.00,9, -999.00,9, -999.00,  -999.0,9, -999.00,9,     -999.0,9,  -999.0,1, 20170707,     1021, -30.0801, 155.9903,        0.0,1,      0.061,1,      4.708,1,      0.135,1,     -999.0,     -999.0,1,     -999.0,9,     -999.0,9,     -999.0,9,     1.5597,2,     -999.0,9
320620170703,        P06,      14,          1,          9,         41,2,20170707,       1144,   -30.0803,   155.9901,       4554,  2787.2,   1.8131,  34.7203,2,  34.7193,2, 184.6565,2, 184.9841,2,   101.0,2,   32.06,2,    0.00,2,    2.23,2,   0.022,2,   0.015,2,   0.0000,2,  2265.7,2, 2363.42,2,   7.6028,2, -999.00,9, -999.00,9, -999.00,  -999.0,9, -999.00,9,     -999.0,9,  -999.0,1, 20170707,     1026, -30.0801, 155.9902,        0.0,1,      0.061,1,      4.707,1,      0.139,1,      25.02,     -999.0,1,     -999.0,9,     -999.0,9,     -999.0,9,     1.7819,2,     -999.0,9
320620170703,        P06,      14,          1,         10,         10,2,20170707,       1144,   -30.0803,   155.9901,       4554,  2531.7,   2.0241,  34.7090,2,  34.7070,2, 176.5794,3, 179.1806,2,    95.8,2,   32.34,2,    0.00,2,    2.25,2,   0.029,2,   0.019,2,   0.0000,2,  -999.0,9, -999.00,9,-999.0000,9, -999.00,9, -999.00,9, -999.00,    39.9,2, -999.00,9,     -999.0,1,  -999.0,1, 20170707,     1032, -30.0801, 155.9902,        0.0,1,      0.062,1,      4.707,1,      0.139,1,     -999.0,     -999.0,1,     -999.0,9,     -999.0,9,     -999.0,9,     2.0152,2,     -999.0,9
320620170703,        P06,      14,          1,         11,         42,2,20170707,       1144,   -30.0803,   155.9901,       4554,  2276.4,   2.2646,  34.6781,2,  34.6785,2, 165.3352,3, 170.3345,2,    93.8,2,   33.11,2,    0.00,2,    2.29,2,   0.034,2,   0.023,2,   0.0000,2,  2270.4,2, 2360.11,2,   7.5852,2, -999.00,9, -999.00,9, -999.00,  -999.0,9, -999.00,9,     -999.0,9,  -999.0,1, 20170707,     1037, -30.0802, 155.9901,        0.0,1,      0.061,1,      4.707,1,      0.139,1,      25.03,     -999.0,1,     -999.0,9,     -999.0,9,     -999.0,9,     2.2463,2,     -999.0,9
320620170703,        P06,      14,          1,         12,         12,2,20170707,       1144,   -30.0803,   155.9901,       4554,  2022.2,   2.4678,  34.6427,2,  34.6398,2, 153.8341,3, 155.8402,2,    99.6,2,   34.51,2,    0.00,2,    2.42,2,   0.019,2,   0.013,2,   0.0000,2,  -999.0,9, -999.00,9,-999.0000,9, -999.00,9, -999.00,9, -999.00,    39.1,2, -999.00,9,     -999.0,1,  -999.0,1, 20170707,     1043, -30.0801, 155.9903,        0.0,1,      0.062,1,      4.708,1,      0.138,1,     -999.0,     -999.0,1,     -999.0,9,     -999.0,9,     -999.0,9,     2.4726,2,     -999.0,9
320620170703,        P06,      14,          1,         13,         43,2,20170707,       1144,   -30.0803,   155.9901,       4554,  1818.1,   2.7688,  34.6088,2,  34.6071,2, 150.9501,2, 150.3823,2,    97.4,2,   34.89,2,    0.00,2,    2.44,2,   0.027,2,   0.021,2,   0.0000,2,  2285.6,6, 2370.85,2,   7.5682,2, -999.00,9, -999.00,9, -999.00,  -999.0,9, -999.00,9,     -999.0,9,  -999.0,1, 20170707,     1047, -30.0802, 155.9902,        0.0,1,      0.062,1,      4.707,1,      0.140,1,      25.02,     -999.0,1,     -999.0,9,     -999.0,9,     -999.0,9,     2.7576,2,     -999.0,9
320620170703,        P06,      14,          1,         14,         14,2,20170707,       1144,   -30.0803,   155.9901,       4554,  1616.3,   3.1813,  34.5699,2,  34.5669,2, 152.9582,2, 151.4727,2,    88.7,2,   34.61,2,    0.00,2,    2.43,2,   0.049,2,   0.032,2,   0.0000,2,  -999.0,9, -999.00,9,-999.0000,9, -999.00,9, -999.00,9, -999.00,    39.0,2, -999.00,9,     -999.0,1,  -999.0,1, 20170707,     1052, -30.0802, 155.9902,        0.0,1,      0.061,1,      4.707,1,      0.141,1,     -999.0,     -999.0,1,     -999.0,9,     -999.0,9,     -999.0,9,     3.1823,2,     -999.0,9
320620170703,        P06,      14,          1,         15,         15,2,20170707,       1144,   -30.0803,   155.9901,       4554,  1515.6,   3.3710,  34.5527,2,  34.5468,2, 157.8436,3, 154.2828,2,    82.7,2,   34.25,2,    0.00,2,    2.40,2,   0.077,2,   0.047,2,   0.0000,2,  2266.1,2, 2352.52,2,   7.5777,2, -999.00,9, -999.00,9, -999.00,  -999.0,9, -999.00,9,     -999.0,9,  -999.0,1, 20170707,     1055, -30.0802, 155.9902,        0.0,1,      0.062,1,      4.707,1,      0.141,1,      25.01,     -999.0,1,     -999.0,9,     -999.0,9,     -999.0,9,     3.4036,2,     -999.0,9
320620170703,        P06,      14,          1,         16,         16,2,20170707,       1144,   -30.0803,   155.9901,       4554,  1413.6,   3.6689,  34.5273,2,  34.5219,2, 162.0653,3, 159.3239,2,    74.7,2,   33.55,2,    0.00,2,    2.35,2,   0.137,2,   0.076,2,   0.0000,2,  -999.0,9, -999.00,9,-999.0000,9, -999.00,9, -999.00,9, -999.00,    40.4,2, -999.00,9,     -999.0,1,  -999.0,1, 20170707,     1058, -30.0801, 155.9903,        0.0,1,      0.061,1,      4.707,1,      0.142,1,     -999.0,     -999.0,1,     -999.0,9,     -999.0,9,     -999.0,9,     3.6918,2,     -999.0,9
320620170703,        P06,      14,          1,         17,         17,2,20170707,       1144,   -30.0803,   155.9901,       4554,  1311.5,   3.9074,  34.5101,2,  34.5019,2, 168.8128,3, 164.9347,2,    66.9,2,   32.90,2,    0.00,2,    2.29,2,   0.223,2,   0.119,2,   0.0000,2,  2244.3,2, 2335.82,2,   7.5940,2, -999.00,9, -999.00,9, -999.00,  -999.0,9, -999.00,9,     -999.0,9,  -999.0,1, 20170707,     1101, -30.0801, 155.9904,        0.0,1,      0.061,1,      4.707,1,      0.142,1,      25.01,     -999.0,1,     -999.0,9,     -999.0,9,     -999.0,9,     3.9675,2,     -999.0,9
320620170703,        P06,      14,          1,         18,         18,2,20170707,       1144,   -30.0803,   155.9901,       4554,  1210.9,   4.3427,  34.4815,2,  34.4750,2, 175.0535,3, 172.2444,2,    56.6,2,   31.93,2,    0.00,2,    2.20,2,   0.374,2,   0.185,2,   0.4560,4,  -999.0,9, -999.00,9,-999.0000,9, -999.00,9, -999.00,9, -999.00,    42.8,2, -999.00,9,     -999.0,1,  -999.0,1, 20170707,     1104, -30.0800, 155.9904,        0.0,1,      0.061,1,      4.707,1,      0.143,1,     -999.0,     -999.0,1,     -999.0,9,     -999.0,9,     -999.0,9,     4.3810,2,     -999.0,9
320620170703,        P06,      14,          1,         19,         19,2,20170707,       1144,   -30.0803,   155.9901,       4554,  1109.6,   4.8430,  34.4585,2,  34.4522,2, 182.3760,3, 179.7171,2,    45.3,2,   30.64,2,    0.00,2,    2.10,2,   0.608,2,   0.288,2,   0.2600,4,  2212.5,2, 2313.63,2,   7.6201,2, -999.00,9, -999.00,9, -999.00,  -999.0,9, -999.00,9,     -999.0,9,  -999.0,1, 20170707,     1107, -30.0801, 155.9903,        0.0,1,      0.060,1,      4.707,1,      0.142,1,      25.01,     -999.0,1,     -999.0,9,     -999.0,9,     -999.0,9,     4.8923,2,     -999.0,9
320620170703,        P06,      14,          1,         20,         20,2,20170707,       1144,   -30.0803,   155.9901,       4554,  1008.9,   5.5957,  34.4443,2,  34.4400,2, 187.1074,2, 188.1234,2,    34.0,2,   28.96,2,    0.00,2,    1.98,2,   0.922,6,   0.424,6,   0.1775,6,  -999.0,9, -999.00,9,-999.0000,9, -999.00,9, -999.00,9, -999.00,    41.6,2, -999.00,9,     -999.0,1,  -999.0,1, 20170707,     1110, -30.0802, 155.9902,        0.0,1,      0.061,1,      4.706,1,      0.143,1,     -999.0,     -999.0,1,     -999.0,9,     -999.0,9,     -999.0,9,     5.5569,2,     -999.0,9
320620170703,        P06,      14,          1,         21,         21,2,20170707,       1144,   -30.0803,   155.9901,       4554,   908.2,   6.1223,  34.4457,2,  34.4416,2, 193.1454,2, 194.2146,2,    25.8,2,   27.42,2,    0.00,2,    1.88,2,   1.291,2,   0.574,2,   0.2330,2,  2182.8,2, 2297.53,2,   7.6547,2, -999.00,9, -999.00,9, -999.00,    45.5,3, -999.00,9,     -999.0,1,  -999.0,1, 20170707,     1112, -30.0802, 155.9901,        0.0,1,      0.060,1,      4.705,1,      0.144,1,      25.02,     -999.0,1,     -999.0,9,     -999.0,9,     -999.0,9,     6.1055,2,     -999.0,9
320620170703,        P06,      14,          1,         22,         22,2,20170707,       1144,   -30.0803,   155.9901,       4554,   806.1,   6.9725,  34.4824,2,  34.4740,2, 195.8747,3, 198.6569,2,    18.8,2,   25.44,2,    0.00,2,    1.73,2,   1.674,2,   0.757,2,   0.3320,2,  2170.2,2, 2288.65,2,   7.6744,2, -999.00,9, -999.00,9, -999.00,    44.2,2, -999.00,9,     -999.0,1,  -999.0,1, 20170707,     1115, -30.0801, 155.9903,        0.0,1,      0.059,1,      4.704,1,      0.144,1,      25.01,     -999.0,1,     -999.0,9,     -999.0,9,     -999.0,9,     6.8873,2,     -999.0,9
320620170703,        P06,      14,          1,         23,         23,2,20170707,       1144,   -30.0803,   155.9901,       4554,   705.0,   8.1266,  34.5688,2,  34.5525,2, 196.3670,3, 200.1314,2,    12.3,2,   22.81,2,    0.00,2,    1.54,2,   2.155,2,   1.010,2,   0.4170,2,  2157.2,2, 2286.39,2,   7.6976,2, -999.00,9, -999.00,9, -999.00,    48.0,3, -999.00,9,     -999.0,1,  -999.0,1, 20170707,     1118, -30.0800, 155.9904,        0.0,1,      0.059,1,      4.703,1,      0.144,1,      25.03,     -999.0,1,     -999.0,9,     -999.0,9,     -999.0,9,     8.0321,2,     -999.0,9
320620170703,        P06,      14,          1,         24,         24,2,20170707,       1144,   -30.0803,   155.9901,       4554,   605.0,   9.7452,  34.7342,2,  34.7044,2, 194.5602,2, 196.0713,2,     8.7,2,   19.68,2,    0.00,2,    1.33,2,   2.446,2,   1.161,2,   0.7510,2,  2148.8,2, 2289.89,2,   7.7275,2, -999.00,9, -999.00,9, -999.00,    46.3,2, -999.00,9,     -999.0,1,  -999.0,1, 20170707,     1121, -30.0801, 155.9903,        0.0,1,      0.061,1,      4.700,1,      0.147,1,      25.01,     -999.0,1,     -999.0,9,     -999.0,9,     -999.0,9,     9.6232,2,     -999.0,9
320620170703,        P06,      14,          1,         25,         25,2,20170707,       1144,   -30.0803,   155.9901,       4554,   504.7,  11.9138,  34.9824,2,  34.9410,2, 193.3133,2, 192.7102,2,     5.7,2,   15.57,2,    0.00,2,    1.06,2,   2.632,2,   1.263,2,   0.7550,2,  2138.5,2, 2301.28,2,   7.7736,2, -999.00,9, -999.00,9, -999.00,    48.2,2, -999.00,9,     -999.0,1,  -999.0,1, 20170707,     1124, -30.0800, 155.9904,        0.0,1,      0.059,1,      4.693,1,      0.155,1,      25.01,     -999.0,1,     -999.0,1,     -999.0,9,     -999.0,9,    11.5374,2,       1.08,2
320620170703,        P06,      14,          1,         26,         26,2,20170707,       1144,   -30.0803,   155.9901,       4554,   402.6,  14.1856,  35.2314,2,  35.2168,2, 188.6186,2, 188.2477,2,     3.4,2,   11.21,2,    0.00,2,    0.78,2,   2.413,2,   1.246,2,   0.7740,2,  -999.0,9, -999.00,9,-999.0000,9, -999.00,9, -999.00,9, -999.00,    49.4,2,   13.20,2,     -999.0,1,  -999.0,1, 20170707,     1127, -30.0800, 155.9904,        0.0,1,      0.059,1,      4.696,1,      0.144,1,     -999.0,     -999.0,1,     -999.0,1,     -999.0,9,     -999.0,9,    14.0641,2,       0.85,2
320620170703,        P06,      14,          1,         27,         27,2,20170707,       1144,   -30.0803,   155.9901,       4554,   350.9,  15.8160,  35.3719,2,  35.3248,3, 186.4839,2, 186.4867,2,     2.7,2,    9.46,2,    0.00,2,    0.66,2,   2.420,2,   1.249,2,   0.8350,2,  2112.8,2, 2316.05,2,   7.8613,2, -999.00,9, -999.00,9, -999.00,  -999.0,9, -999.00,9,     -999.0,9,  -999.0,1, 20170707,     1129, -30.0801, 155.9903,        0.0,1,      0.059,1,      4.694,1,      0.147,1,      25.02,     -999.0,1,     -999.0,1,     -999.0,9,     -999.0,9,    15.2145,2,       0.75,2
320620170703,        P06,      14,          1,         28,         28,2,20170707,       1144,   -30.0803,   155.9901,       4554,   300.3,  17.0459,  35.4767,2,  35.4519,2, 188.3487,3, 182.9072,2,     2.1,2,    7.73,2,    0.00,2,    0.57,2,   2.301,2,   1.213,2,   0.8700,2,  -999.0,9, -999.00,9,-999.0000,9, -999.00,9, -999.00,9, -999.00,    49.4,2,    9.20,2,     -999.0,1,  -999.0,1, 20170707,     1131, -30.0803, 155.9900,        0.0,1,      0.060,1,      4.695,1,      0.144,1,     -999.0,     -999.0,1,     -999.0,1,     -999.0,9,     -999.0,9,    16.8462,2,       0.62,2
320620170703,        P06,      14,          1,         29,         29,2,20170707,       1144,   -30.0803,   155.9901,       4554,   250.3,  18.4982,  35.6055,2,  35.6007,2, 185.9125,2, 187.5297,2,     1.2,2,    5.53,2,    0.00,2,    0.41,2,   2.295,2,   1.195,2,   1.0090,2,  2088.6,2, 2330.17,2,   7.9332,2, -999.00,9, -999.00,9, -999.00,    50.3,2,    8.30,2,     -999.0,1,  -999.0,1, 20170707,     1133, -30.0803, 155.9900,        0.0,1,      0.060,1,      4.695,1,      0.145,1,      25.02,     -999.0,1,     -999.0,1,     -999.0,9,     -999.0,9,    18.2718,2,        0.5,2
320620170703,        P06,      14,          1,         30,         30,2,20170707,       1144,   -30.0803,   155.9901,       4554,   201.0,  19.5691,  35.6950,2,  35.6715,2, 183.6201,3, 185.4761,2,     0.9,2,    4.56,2,    0.00,2,    0.36,2,   2.144,2,   1.150,2,   1.0390,2,  2082.3,2, 2333.03,2,   7.9528,2, -999.00,9, -999.00,9, -999.00,    50.1,2,    7.10,2,     -999.0,1,  -999.0,1, 20170707,     1135, -30.0803, 155.9901,        0.0,1,      0.060,1,      4.693,1,      0.146,1,      25.03,     -999.0,1,     -999.0,1,     -999.0,9,     -999.0,9,    19.3001,2,       0.46,2
320620170703,        P06,      14,          1,         31,         31,2,20170707,       1144,   -30.0803,   155.9901,       4554,   149.1,  20.2280,  35.7235,2,  35.7223,2, 182.3433,3, 184.2162,2,     0.7,2,    3.76,2,    0.02,2,    0.30,2,   2.048,2,   1.115,2,   1.0420,2,  2074.9,2, 2337.41,2,   7.9694,2, -999.00,9, -999.00,9, -999.00,    57.3,2,    6.40,2,     -999.0,1,  -999.0,1, 20170707,     1137, -30.0802, 155.9902,        0.0,1,      0.062,1,      4.691,1,      0.145,1,      25.01,     -999.0,1,     -999.0,1,     -999.0,9,     -999.0,9,    20.3074,2,       0.41,2
320620170703,        P06,      14,          1,         32,         32,2,20170707,       1144,   -30.0803,   155.9901,       4554,   100.3,  21.2385,  35.7548,2,  35.7586,2, 185.5400,2, 187.2395,2,     0.5,2,    2.56,2,    0.03,2,    0.23,2,   2.001,2,   1.092,2,   1.1010,2,  2066.4,2, 2340.80,2,   7.9904,2, -999.00,9, -999.00,9, -999.00,    56.0,2,    6.80,2,     -999.0,1,  -999.0,1, 20170707,     1139, -30.0800, 155.9903,        0.0,1,      0.082,1,      4.683,1,      0.156,1,      25.01,     -999.0,1,     -999.0,1,     -999.0,9,     -999.0,9,    21.3774,2,       0.33,2