BOTTLE,20230922CCHSIOCBG
EXPOCODE,SECT_ID,STNNBR,CASTNO,SAMPNO,BTLNBR,BTLNBR_FLAG_W,DATE,TIME,LATITUDE,LONGITUDE,DEPTH,CTDPRS,CTDTMP,CTDSAL,CTDSAL_FLAG_W,SALNTY,SALNTY_FLAG_W,CTDOXY,CTDOXY_FLAG_W,OXYGEN,OXYGEN_FLAG_W,SILCAT,SILCAT_FLAG_W,NITRAT,NITRAT_FLAG_W,NITRIT,NITRIT_FLAG_W,PHSPHT,PHSPHT_FLAG_W,CFC-11,CFC-11_FLAG_W,CFC-12,CFC-12_FLAG_W,SF6,SF6_FLAG_W,TCARBN,TCARBN_FLAG_W,ALKALI,ALKALI_FLAG_W,PH_TOT,PH_TOT_FLAG_W,DELC13,DELC13_FLAG_W,DELC14,DELC14_FLAG_W,C14ERR,DOC,DOC_FLAG_W,TDN,TDN_FLAG_W,TON,TON_FLAG_W,D15N_NO3,D15N_NO3_FLAG_W,BTL_DATE,BTL_TIME,BTL_LAT,BTL_LON,CTDRINKO,CTDRINKO_FLAG_W,CTDFLUOR,CTDFLUOR_FLAG_W,CTDXMISS,CTDXMISS_FLAG_W,CTDBACKSCATTER,CTDBACKSCATTER_FLAG_W,PH_TMP,D18O_NO3,D18O_NO3_FLAG_W,DOP,DOP_FLAG_W,HPLC,HPLC_FLAG_W,POC,POC_FLAG_W,REFTMP,REFTMP_FLAG_W,TDP,TDP_FLAG_W
,,,,,,,,,,,METERS,DBAR,ITS-90,PSS-78,,PSS-78,,UMOL/KG,,UMOL/KG,,UMOL/KG,,UMOL/KG,,UMOL/KG,,UMOL/KG,,PMOL/KG,,PMOL/KG,,FMOL/KG,,UMOL/KG,,UMOL/KG,,,,/MILLE,,/MILLE,,/MILLE,UMOL/KG,,UMOL/KG,,UMOL/KG,,/MILLE,,,,,,VOLTS,,VOLTS,,VOLTS,,VOLTS,,DEGC,/MILLE,,UMOL/KG,,,,UG/L,,ITS-90,,UMOL/KG,
320620170703,        P06,      79,          1,         33,         33,2,20170724,       0550,   -31.4404,   177.8542,       3943,    85.6,  18.7317,  35.7700,2,  35.7669,2, 223.5086,2, 224.6128,2,     0.5,2,    0.50,2,    0.08,2,    0.12,2,   2.200,2,   1.231,2,   1.2458,2,  2063.7,2, 2340.31,2,   7.9971,2, -999.00,9, -999.00,9, -999.00,  -999.0,9, -999.00,9,     -999.0,9,  -999.0,1, 20170724,      545, -31.4405, 177.8543,        0.0,1,      0.167,1,      4.627,1,      0.214,1,      25.03,     -999.0,1,     -999.0,1,     -999.0,9,     -999.0,9,    18.7348,2,     -999.0,9
320620170703,        P06,      79,          1,         34,         34,2,20170724,       0550,   -31.4404,   177.8542,       3943,    59.7,  18.7348,  35.7688,2,  35.7659,2, 223.1742,2, 224.7740,2,     0.6,2,    0.49,2,    0.08,2,    0.12,2,-999.000,9,-999.000,9,-999.0000,9,  -999.0,9, -999.00,9,-999.0000,9, -999.00,9, -999.00,9, -999.00,  -999.0,9, -999.00,9,     -999.0,9,  -999.0,1, 20170724,      547, -31.4405, 177.8542,        0.0,1,      0.170,1,      4.626,1,      0.211,1,     -999.0,     -999.0,1,     -999.0,1,     -999.0,9,     -999.0,9,    18.7326,2,     -999.0,9
320620170703,        P06,      79,          1,         35,         35,2,20170724,       0550,   -31.4404,   177.8542,       3943,    34.5,  18.7453,  35.7699,2,  35.7667,2, 223.5287,2, 225.0965,2,     0.5,2,    0.51,2,    0.08,2,    0.12,2,   2.186,6,   1.236,6,   1.2894,6,  2062.9,2, 2344.00,2,   7.9967,2, -999.00,9, -999.00,9, -999.00,  -999.0,9, -999.00,9,     -999.0,9,  -999.0,1, 20170724,      548, -31.4404, 177.8542,        0.0,1,      0.174,1,      4.614,1,      0.214,1,      25.02,     -999.0,1,     -999.0,1,     -999.0,9,     -999.0,9,    18.7240,2,     -999.0,9
320620170703,        P06,      79,          1,         36,         36,2,20170724,       0550,   -31.4404,   177.8542,       3943,     4.5,  18.7418,  35.7704,2,  35.7661,2, 223.2616,2, 225.0689,2,     0.6,2,    0.51,2,    0.08,2,    0.13,2,   2.194,2,   1.233,2,   1.3620,2,  2062.9,6, 2339.30,2,   7.9979,2, -999.00,9, -999.00,9, -999.00,  -999.0,9, -999.00,9,     -999.0,9,  -999.0,1, 20170724,      550, -31.4404, 177.8542,        0.0,1,      0.136,1,      4.608,1,      0.208,1,      25.03,     -999.0,1,     -999.0,1,     -999.0,9,     -999.0,9,    18.7075,2,     -999.0,9