BOTTLE,20230922CCHSIOCBG
EXPOCODE,SECT_ID,STNNBR,CASTNO,SAMPNO,BTLNBR,BTLNBR_FLAG_W,DATE,TIME,LATITUDE,LONGITUDE,DEPTH,CTDPRS,CTDTMP,CTDSAL,CTDSAL_FLAG_W,SALNTY,SALNTY_FLAG_W,CTDOXY,CTDOXY_FLAG_W,OXYGEN,OXYGEN_FLAG_W,SILCAT,SILCAT_FLAG_W,NITRAT,NITRAT_FLAG_W,NITRIT,NITRIT_FLAG_W,PHSPHT,PHSPHT_FLAG_W,CFC-11,CFC-11_FLAG_W,CFC-12,CFC-12_FLAG_W,SF6,SF6_FLAG_W,TCARBN,TCARBN_FLAG_W,ALKALI,ALKALI_FLAG_W,PH_TOT,PH_TOT_FLAG_W,DELC13,DELC13_FLAG_W,DELC14,DELC14_FLAG_W,C14ERR,DOC,DOC_FLAG_W,TDN,TDN_FLAG_W,TON,TON_FLAG_W,D15N_NO3,D15N_NO3_FLAG_W,BTL_DATE,BTL_TIME,BTL_LAT,BTL_LON,CTDRINKO,CTDRINKO_FLAG_W,CTDFLUOR,CTDFLUOR_FLAG_W,CTDXMISS,CTDXMISS_FLAG_W,CTDBACKSCATTER,CTDBACKSCATTER_FLAG_W,PH_TMP,D18O_NO3,D18O_NO3_FLAG_W,DOP,DOP_FLAG_W,HPLC,HPLC_FLAG_W,POC,POC_FLAG_W,REFTMP,REFTMP_FLAG_W,TDP,TDP_FLAG_W
,,,,,,,,,,,METERS,DBAR,ITS-90,PSS-78,,PSS-78,,UMOL/KG,,UMOL/KG,,UMOL/KG,,UMOL/KG,,UMOL/KG,,UMOL/KG,,PMOL/KG,,PMOL/KG,,FMOL/KG,,UMOL/KG,,UMOL/KG,,,,/MILLE,,/MILLE,,/MILLE,UMOL/KG,,UMOL/KG,,UMOL/KG,,/MILLE,,,,,,VOLTS,,VOLTS,,VOLTS,,VOLTS,,DEGC,/MILLE,,UMOL/KG,,,,UG/L,,ITS-90,,UMOL/KG,
320620170703,        P06,     118,          1,         33,         33,2,20170803,       1404,   -32.5007,  -165.8159,       5406,    84.6,  18.2901,  35.6891,2,  35.6986,2, 231.2581,2, 229.8983,2,     0.1,2,    0.03,2,    0.00,2,    0.05,2,   2.080,2,   1.258,2,   1.3860,2,  2058.7,2, 2343.98,2,   7.9972,2, -999.00,9, -999.00,9, -999.00,    64.0,2,    3.80,2,     -999.0,1,  -999.0,1, 20170803,     1359, -32.5004,-165.8159,        0.0,1,      0.140,1,      4.651,1,      0.171,1,      25.01,     -999.0,1,     -999.0,1,     -999.0,9,     -999.0,9,    18.3117,2,     -999.0,9
320620170703,        P06,     118,          1,         34,         34,2,20170803,       1404,   -32.5007,  -165.8159,       5406,    60.9,  18.3182,  35.6925,2,  35.6970,2, 231.0766,2, 230.3408,2,     0.1,2,    0.03,2,    0.00,2,    0.05,2,   2.103,2,   1.256,2,   1.4020,2,  2058.5,2, 2345.73,2,   7.9972,2, -999.00,9, -999.00,9, -999.00,    66.1,2,    4.40,2,     -999.0,1,  -999.0,1, 20170803,     1401, -32.5005,-165.8159,        0.0,1,      0.151,1,      4.647,1,      0.177,1,      25.00,     -999.0,1,     -999.0,1,     -999.0,9,     -999.0,9,    18.3115,2,     -999.0,9
320620170703,        P06,     118,          1,         35,         35,2,20170803,       1404,   -32.5007,  -165.8159,       5406,    35.0,  18.3972,  35.7116,2,  35.7059,2, 232.7728,3, 230.3940,2,     0.1,2,    0.01,2,    0.00,2,    0.05,2,   2.106,2,   1.263,2,   1.4220,2,  2057.1,2, 2343.55,2,   7.9978,2, -999.00,9, -999.00,9, -999.00,    62.9,2,    3.60,2,     -999.0,1,  -999.0,1, 20170803,     1402, -32.5006,-165.8160,        0.0,1,      0.154,1,      4.628,1,      0.194,1,      24.98,     -999.0,1,     -999.0,1,     -999.0,9,     -999.0,9,    18.3593,2,     -999.0,9
320620170703,        P06,     118,          1,         36,         36,2,20170803,       1404,   -32.5007,  -165.8159,       5406,     4.8,  18.3920,  35.7138,2,  35.7059,2, 232.6838,3, 230.1494,2,     0.1,2,    0.00,2,    0.00,2,    0.06,2,   2.109,2,   1.250,2,   1.3750,2,  2057.2,6, 2358.45,2,   7.9991,2, -999.00,9, -999.00,9, -999.00,    63.6,2,    4.00,2,     -999.0,1,  -999.0,1, 20170803,     1404, -32.5007,-165.8159,        0.0,1,      0.155,1,      4.627,1,      0.192,1,      25.06,     -999.0,1,     -999.0,1,     -999.0,9,     -999.0,9,    18.3629,2,     -999.0,9