BOTTLE,20230922CCHSIOCBG
EXPOCODE,SECT_ID,STNNBR,CASTNO,SAMPNO,BTLNBR,BTLNBR_FLAG_W,DATE,TIME,LATITUDE,LONGITUDE,DEPTH,CTDPRS,CTDTMP,CTDSAL,CTDSAL_FLAG_W,SALNTY,SALNTY_FLAG_W,CTDOXY,CTDOXY_FLAG_W,OXYGEN,OXYGEN_FLAG_W,SILCAT,SILCAT_FLAG_W,NITRAT,NITRAT_FLAG_W,NITRIT,NITRIT_FLAG_W,PHSPHT,PHSPHT_FLAG_W,CFC-11,CFC-11_FLAG_W,CFC-12,CFC-12_FLAG_W,SF6,SF6_FLAG_W,TCARBN,TCARBN_FLAG_W,ALKALI,ALKALI_FLAG_W,PH_TOT,PH_TOT_FLAG_W,DELC13,DELC13_FLAG_W,DELC14,DELC14_FLAG_W,C14ERR,DOC,DOC_FLAG_W,TDN,TDN_FLAG_W,TON,TON_FLAG_W,D15N_NO3,D15N_NO3_FLAG_W,BTL_DATE,BTL_TIME,BTL_LAT,BTL_LON,CTDRINKO,CTDRINKO_FLAG_W,CTDFLUOR,CTDFLUOR_FLAG_W,CTDXMISS,CTDXMISS_FLAG_W,CTDBACKSCATTER,CTDBACKSCATTER_FLAG_W,PH_TMP,D18O_NO3,D18O_NO3_FLAG_W,DOP,DOP_FLAG_W,HPLC,HPLC_FLAG_W,POC,POC_FLAG_W,REFTMP,REFTMP_FLAG_W,TDP,TDP_FLAG_W
,,,,,,,,,,,METERS,DBAR,ITS-90,PSS-78,,PSS-78,,UMOL/KG,,UMOL/KG,,UMOL/KG,,UMOL/KG,,UMOL/KG,,UMOL/KG,,PMOL/KG,,PMOL/KG,,FMOL/KG,,UMOL/KG,,UMOL/KG,,,,/MILLE,,/MILLE,,/MILLE,UMOL/KG,,UMOL/KG,,UMOL/KG,,/MILLE,,,,,,VOLTS,,VOLTS,,VOLTS,,VOLTS,,DEGC,/MILLE,,UMOL/KG,,,,UG/L,,ITS-90,,UMOL/KG,
320620170703,        P06,      55,          1,          1,         37,2,20170715,       1352,   -30.0805,   169.4980,       2714,  2739.2,   1.9788,  34.6654,2,  34.6647,2, 155.1703,2,-999.0000,9,   121.5,2,   35.05,2,    0.00,2,    2.44,2,   0.031,2,   0.023,2,   0.0000,2,  2303.9,6, 2394.52,2,   7.5781,2, -999.00,9, -999.00,9, -999.00,    36.6,2, -999.00,9,     -999.0,1,  -999.0,9, 20170715,     1219, -30.0802, 169.4986,        0.0,1,      0.061,1,      4.371,1,      0.151,1,      25.01,     -999.0,9,     -999.0,9,     -999.0,9,     -999.0,9,     1.9795,2,     -999.0,9
320620170703,        P06,      55,          1,          2,          2,2,20170715,       1352,   -30.0805,   169.4980,       2714,  2659.7,   1.9890,  34.6641,2,  34.6616,2, 155.1848,2,-999.0000,9,   121.1,2,   35.07,2,    0.00,2,    2.44,2,-999.000,9,-999.000,9,-999.0000,9,  -999.0,9, -999.00,9,-999.0000,9, -999.00,9, -999.00,9, -999.00,  -999.0,9, -999.00,9,     -999.0,9,  -999.0,9, 20170715,     1222, -30.0801, 169.4986,        0.0,1,      0.061,1,      0.197,1,      0.149,1,     -999.0,     -999.0,9,     -999.0,9,     -999.0,9,     -999.0,9,     1.9890,2,     -999.0,9
320620170703,        P06,      55,          1,          3,         38,2,20170715,       1352,   -30.0805,   169.4980,       2714,  2566.0,   2.0265,  34.6606,2,  34.6576,2, 154.7743,2, 154.6661,2,   120.0,2,   35.01,2,    0.00,2,    2.44,2,   0.032,2,   0.024,2,   0.0000,2,  2301.6,2, 2391.26,2,   7.5778,2, -999.00,9, -999.00,9, -999.00,    37.1,2, -999.00,9,     -999.0,1,  -999.0,9, 20170715,     1225, -30.0801, 169.4987,        0.0,1,      0.061,1,      1.709,1,      0.142,1,      25.01,     -999.0,9,     -999.0,9,     -999.0,9,     -999.0,9,     2.0204,2,     -999.0,9
320620170703,        P06,      55,          1,          4,          4,2,20170715,       1352,   -30.0805,   169.4980,       2714,  2362.9,   2.1501,  34.6497,2,  34.6470,2, 154.6205,2, 154.8026,2,   116.4,2,   34.94,2,    0.00,2,    2.42,2,-999.000,9,-999.000,9,-999.0000,9,  -999.0,9, -999.00,9,-999.0000,9, -999.00,9, -999.00,9, -999.00,  -999.0,9, -999.00,9,     -999.0,9,  -999.0,9, 20170715,     1230, -30.0801, 169.4987,        0.0,1,      0.061,1,      3.773,1,      0.141,1,     -999.0,     -999.0,9,     -999.0,9,     -999.0,9,     -999.0,9,     2.1474,2,     -999.0,9
320620170703,        P06,      55,          1,          5,         39,2,20170715,       1352,   -30.0805,   169.4980,       2714,  2158.6,   2.3042,  34.6364,2,  34.6346,2, 155.1301,2, 155.1421,2,   111.8,2,   34.76,2,    0.00,2,    2.38,2,   0.060,2,   0.041,2,   0.0000,2,  2292.3,2, 2382.50,2,   7.5796,2, -999.00,9, -999.00,9, -999.00,    37.6,2, -999.00,9,     -999.0,1,  -999.0,9, 20170715,     1235, -30.0802, 169.4986,        0.0,1,      0.062,1,      4.281,1,      0.140,1,      25.01,     -999.0,9,     -999.0,9,     -999.0,9,     -999.0,9,     2.3048,2,     -999.0,9
320620170703,        P06,      55,          1,          6,          6,2,20170715,       1352,   -30.0805,   169.4980,       2714,  1988.1,   2.4624,  34.6233,2,  34.6219,2, 155.9818,2, 156.0300,2,   107.3,2,   34.59,2,    0.00,2,    2.40,2,-999.000,9,-999.000,9,-999.0000,9,  -999.0,9, -999.00,9,-999.0000,9, -999.00,9, -999.00,9, -999.00,  -999.0,9, -999.00,9,     -999.0,9,  -999.0,9, 20170715,     1240, -30.0806, 169.4982,        0.0,1,      0.061,1,      2.538,1,      0.143,1,     -999.0,     -999.0,9,     -999.0,9,     -999.0,9,     -999.0,9,     2.4563,2,     -999.0,9
320620170703,        P06,      55,          1,          7,         40,2,20170715,       1352,   -30.0805,   169.4980,       2714,  1886.6,   2.6161,  34.6101,2,  34.6077,2, 157.3793,2, 157.2248,2,   102.8,2,   34.36,2,    0.00,2,    2.36,2,   0.098,2,   0.061,2,   0.0000,2,  2282.1,2, 2371.87,2,   7.5815,2, -999.00,9, -999.00,9, -999.00,    37.6,2, -999.00,9,     -999.0,1,  -999.0,9, 20170715,     1243, -30.0809, 169.4981,        0.0,1,      0.061,1,      3.610,1,      0.144,1,      25.01,     -999.0,9,     -999.0,9,     -999.0,9,     -999.0,9,     2.6216,2,     -999.0,9
320620170703,        P06,      55,          1,          8,          8,2,20170715,       1352,   -30.0805,   169.4980,       2714,  1784.0,   2.8412,  34.5910,2,  34.5899,2, 158.6582,2, 158.5192,2,    96.3,2,   34.09,2,    0.00,2,    2.35,2,-999.000,9,-999.000,9,-999.0000,9,  -999.0,9, -999.00,9,-999.0000,9, -999.00,9, -999.00,9, -999.00,  -999.0,9, -999.00,9,     -999.0,9,  -999.0,9, 20170715,     1246, -30.0811, 169.4981,        0.0,1,      0.061,1,      1.894,1,      0.141,1,     -999.0,     -999.0,9,     -999.0,9,     -999.0,9,     -999.0,9,     2.8259,2,     -999.0,9
320620170703,        P06,      55,          1,          9,         41,2,20170715,       1352,   -30.0805,   169.4980,       2714,  1682.8,   3.0594,  34.5730,2,  34.5710,2, 160.8413,2, 160.8052,2,    89.8,2,   33.78,2,    0.00,2,    2.34,2,   0.161,2,   0.098,2,   0.0000,2,  2267.3,2, 2363.65,2,   7.5856,2, -999.00,9, -999.00,9, -999.00,    37.5,2, -999.00,9,     -999.0,1,  -999.0,9, 20170715,     1250, -30.0810, 169.4981,        0.0,1,      0.060,1,      1.194,1,      0.142,1,      25.01,     -999.0,9,     -999.0,9,     -999.0,9,     -999.0,9,     3.0560,2,     -999.0,9
320620170703,        P06,      55,          1,         10,         10,2,20170715,       1352,   -30.0805,   169.4980,       2714,  1580.7,   3.2713,  34.5524,2,  34.5496,2, 163.5213,2, 163.8009,2,    83.2,2,   33.43,2,    0.00,2,    2.32,2,-999.000,9,-999.000,9,-999.0000,9,  -999.0,9, -999.00,9,-999.0000,9, -999.00,9, -999.00,9, -999.00,  -999.0,9, -999.00,9,     -999.0,9,  -999.0,9, 20170715,     1253, -30.0809, 169.4981,        0.0,1,      0.061,1,      4.286,1,      0.144,1,     -999.0,     -999.0,9,     -999.0,9,     -999.0,9,     -999.0,9,     3.2723,2,     -999.0,9
320620170703,        P06,      55,          1,         11,         42,2,20170715,       1352,   -30.0805,   169.4980,       2714,  1479.9,   3.5163,  34.5293,2,  34.5227,2, 167.2966,2, 167.4798,2,    74.6,2,   32.96,2,    0.00,2,    2.29,2,   0.262,2,   0.151,2,   0.0000,2,  2249.4,2, 2342.56,2,   7.5935,2, -999.00,9, -999.00,9, -999.00,    38.2,2, -999.00,9,     -999.0,1,  -999.0,9, 20170715,     1256, -30.0807, 169.4981,        0.0,1,      0.061,1,      2.125,1,      0.141,1,      25.01,     -999.0,9,     -999.0,9,     -999.0,9,     -999.0,9,     3.5578,2,     -999.0,9
320620170703,        P06,      55,          1,         12,         12,2,20170715,       1352,   -30.0805,   169.4980,       2714,  1379.2,   3.8384,  34.5003,2,  34.4940,3, 173.0828,2, 172.6315,2,    64.4,2,   32.23,2,    0.00,2,    2.22,2,-999.000,9,-999.000,9,-999.0000,9,  -999.0,9, -999.00,9,-999.0000,9, -999.00,9, -999.00,9, -999.00,  -999.0,9, -999.00,9,     -999.0,9,  -999.0,9, 20170715,     1259, -30.0805, 169.4981,        0.0,1,      0.060,1,      4.625,1,      0.139,1,     -999.0,     -999.0,9,     -999.0,9,     -999.0,9,     -999.0,9,     3.9418,2,     -999.0,9
320620170703,        P06,      55,          1,         13,         43,2,20170715,       1352,   -30.0805,   169.4980,       2714,  1275.8,   4.1595,  34.4740,2,  34.4602,2, 179.1106,2, 179.3635,2,    53.6,2,   31.48,2,    0.00,2,    2.15,2,   0.527,2,   0.303,2,   0.0790,2,  2222.5,2, 2318.06,6,   7.6096,2, -999.00,9, -999.00,9, -999.00,    38.0,2, -999.00,9,     -999.0,1,  -999.0,9, 20170715,     1301, -30.0804, 169.4981,        0.0,1,      0.061,1,      4.705,1,      0.139,1,      25.00,     -999.0,9,     -999.0,9,     -999.0,9,     -999.0,9,     4.3029,2,     -999.0,9
320620170703,        P06,      55,          1,         14,         14,2,20170715,       1352,   -30.0805,   169.4980,       2714,  1176.3,   4.8124,  34.4327,2,  34.4267,2, 188.0217,2, 187.8859,2,    40.8,2,   30.10,2,    0.00,2,    2.04,2,-999.000,9,-999.000,9,-999.0000,9,  -999.0,9, -999.00,9,-999.0000,9, -999.00,9, -999.00,9, -999.00,  -999.0,9, -999.00,9,     -999.0,9,  -999.0,9, 20170715,     1304, -30.0804, 169.4982,        0.0,1,      0.060,1,      4.644,1,      0.144,1,     -999.0,     -999.0,9,     -999.0,9,     -999.0,9,     -999.0,9,     4.8968,2,     -999.0,9
320620170703,        P06,      55,          1,         15,         15,2,20170715,       1352,   -30.0805,   169.4980,       2714,  1074.6,   5.3902,  34.4219,2,  34.4241,2, 196.0509,2, 195.8274,2,    31.0,2,   28.29,2,    0.00,2,    1.91,2,   1.065,2,   0.567,2,   0.1040,2,  2187.1,2, 2295.58,2,   7.6469,2, -999.00,9, -999.00,9, -999.00,    39.6,2, -999.00,9,     -999.0,1,  -999.0,9, 20170715,     1307, -30.0803, 169.4982,        0.0,1,      0.060,1,      4.552,1,      0.140,1,      24.99,     -999.0,9,     -999.0,9,     -999.0,9,     -999.0,9,     5.5858,2,     -999.0,9
320620170703,        P06,      55,          1,         16,         16,2,20170715,       1352,   -30.0805,   169.4980,       2714,   974.2,   6.1226,  34.4244,2,  34.4243,2, 203.3576,2, 203.7373,2,    22.5,2,   26.57,2,    0.00,2,    1.80,2,-999.000,9,-999.000,9,-999.0000,9,  2174.0,2, -999.00,9,-999.0000,9, -999.00,9, -999.00,9, -999.00,    39.1,2, -999.00,9,     -999.0,1,  -999.0,9, 20170715,     1310, -30.0802, 169.4982,        0.0,1,      0.060,1,      4.697,1,      0.139,1,     -999.0,     -999.0,9,     -999.0,9,     -999.0,9,     -999.0,9,     6.1672,2,     -999.0,9
320620170703,        P06,      55,          1,         17,         17,2,20170715,       1352,   -30.0805,   169.4980,       2714,   871.8,   6.6507,  34.4247,2,  34.4249,2, 210.8667,2, 211.2895,2,    16.5,2,   25.06,2,    0.00,2,    1.68,2,   1.841,2,   0.972,2,   0.2830,2,  2164.1,6, 2285.22,2,   7.6803,2, -999.00,9, -999.00,9, -999.00,    41.3,2, -999.00,9,     -999.0,1,  -999.0,9, 20170715,     1313, -30.0801, 169.4982,        0.0,1,      0.059,1,      4.550,1,      0.142,1,      25.01,     -999.0,9,     -999.0,9,     -999.0,9,     -999.0,9,     6.6220,2,     -999.0,9
320620170703,        P06,      55,          1,         18,         18,2,20170715,       1352,   -30.0805,   169.4980,       2714,   770.0,   7.6396,  34.5050,2,  34.4993,2, 210.3796,2, 209.8085,2,    13.3,2,   23.16,2,    0.00,2,    1.56,2,-999.000,9,-999.000,9,-999.0000,9,  2157.0,2, -999.00,9,-999.0000,9, -999.00,9, -999.00,9, -999.00,    40.9,2, -999.00,9,     -999.0,1,  -999.0,9, 20170715,     1316, -30.0800, 169.4983,        0.0,1,      0.059,1,      4.702,1,      0.141,1,     -999.0,     -999.0,9,     -999.0,9,     -999.0,9,     -999.0,9,     7.4821,2,     -999.0,9
320620170703,        P06,      55,          1,         19,         19,2,20170715,       1352,   -30.0805,   169.4980,       2714,   671.7,   8.8691,  34.6130,2,  34.6099,2, 209.3269,2, 208.8694,2,     8.3,2,   20.03,2,    0.00,2,    1.34,2,   2.539,2,   1.349,2,   0.5300,2,  2146.3,2, 2286.07,2,   7.7237,2, -999.00,9, -999.00,9, -999.00,    42.7,2, -999.00,9,     -999.0,1,  -999.0,9, 20170715,     1319, -30.0799, 169.4983,        0.0,1,      0.061,1,      4.699,1,      0.146,1,      25.00,     -999.0,9,     -999.0,9,     -999.0,9,     -999.0,9,     8.8174,2,     -999.0,9
320620170703,        P06,      55,          1,         20,         20,2,20170715,       1352,   -30.0805,   169.4980,       2714,   569.4,  10.4233,  34.8042,2,  34.7803,2, 202.2905,2, 203.0638,2,     6.3,2,   16.97,2,    0.00,2,    1.15,2,-999.000,9,-999.000,9,-999.0000,9,  -999.0,9, -999.00,9,-999.0000,9, -999.00,9, -999.00,9, -999.00,    43.8,2, -999.00,9,     -999.0,1,  -999.0,9, 20170715,     1322, -30.0799, 169.4984,        0.0,1,      0.060,1,      2.234,1,      0.145,1,     -999.0,     -999.0,9,     -999.0,9,     -999.0,9,     -999.0,9,    10.3295,2,     -999.0,9
320620170703,        P06,      55,          1,         21,         21,2,20170715,       1352,   -30.0805,   169.4980,       2714,   489.1,  12.1925,  35.0163,2,  35.0138,2, 199.2739,2, 199.0202,2,     4.9,2,   13.48,2,    0.00,2,    0.93,2,   2.399,2,   1.365,2,   0.8240,2,  2129.1,2, 2300.40,2,   7.7978,2, -999.00,9, -999.00,9, -999.00,    44.7,2,   15.40,2,     -999.0,1,  -999.0,9, 20170715,     1324, -30.0799, 169.4984,        0.0,1,      0.059,1,      4.554,1,      0.144,1,      25.01,     -999.0,9,     -999.0,9,     -999.0,9,     -999.0,9,    12.2008,2,     -999.0,9
320620170703,        P06,      55,          1,         22,         22,2,20170715,       1352,   -30.0805,   169.4980,       2714,   438.7,  13.4200,  35.1582,2,  35.1547,2, 198.1367,2, 198.2374,2,     3.7,2,   11.21,2,    0.00,2,    0.78,2,-999.000,9,-999.000,9,-999.0000,9,  -999.0,9, -999.00,9,-999.0000,9, -999.00,9, -999.00,9, -999.00,  -999.0,9, -999.00,9,     -999.0,9,  -999.0,9, 20170715,     1326, -30.0798, 169.4984,        0.0,1,      0.059,1,      4.336,1,      0.144,1,     -999.0,     -999.0,9,     -999.0,9,     -999.0,9,     -999.0,9,    13.4734,2,     -999.0,9
320620170703,        P06,      55,          1,         23,         23,2,20170715,       1352,   -30.0805,   169.4980,       2714,   388.6,  14.5390,  35.2839,2,  35.2883,2, 196.8128,2, 196.8653,2,     2.8,2,    9.32,2,    0.00,2,    0.63,2,   2.250,2,   1.323,2,   0.8550,2,  2112.3,2, 2313.70,6,   7.8563,2, -999.00,9, -999.00,9, -999.00,    48.0,2,   11.50,2,     -999.0,1,  -999.0,9, 20170715,     1328, -30.0798, 169.4984,        0.0,1,      0.060,1,      2.836,1,      0.144,1,      25.01,     -999.0,9,     -999.0,9,     -999.0,9,     -999.0,9,    14.6228,2,     -999.0,9
320620170703,        P06,      55,          1,         24,         24,2,20170715,       1352,   -30.0805,   169.4980,       2714,   337.6,  15.7139,  35.4096,2,  35.3514,2, 196.4657,2, 196.5459,2,     2.4,2,    8.46,2,    0.00,2,    0.61,2,-999.000,9,-999.000,9,-999.0000,9,  2107.1,2, -999.00,9,-999.0000,9, -999.00,9, -999.00,9, -999.00,  -999.0,9, -999.00,9,     -999.0,9,  -999.0,9, 20170715,     1330, -30.0798, 169.4985,        0.0,1,      0.059,1,      0.992,1,      0.142,1,     -999.0,     -999.0,9,     -999.0,9,     -999.0,9,     -999.0,9,    15.1909,2,     -999.0,9
320620170703,        P06,      55,          1,         25,         25,2,20170715,       1352,   -30.0805,   169.4980,       2714,   287.1,  17.0672,  35.5389,2,  35.5395,2, 197.7309,2, 197.0071,2,     1.5,2,    5.76,2,    0.00,2,    0.41,2,   2.046,2,   1.250,2,   0.9770,2,  2093.0,2, 2324.71,2,   7.9180,2, -999.00,9, -999.00,9, -999.00,    49.3,2,    8.90,2,     -999.0,1,  -999.0,9, 20170715,     1332, -30.0798, 169.4985,        0.0,1,      0.060,1,      4.690,1,      0.144,1,      25.01,     -999.0,9,     -999.0,9,     -999.0,9,     -999.0,9,    17.0884,2,     -999.0,9
320620170703,        P06,      55,          1,         26,         26,2,20170715,       1352,   -30.0805,   169.4980,       2714,   242.3,  18.1048,  35.6261,2,  35.5695,2, 197.7429,2, 197.7891,2,     1.4,2,    5.32,2,    0.00,2,    0.39,2,-999.000,9,-999.000,9,-999.0000,9,  -999.0,9, -999.00,9,-999.0000,9, -999.00,9, -999.00,9, -999.00,  -999.0,9, -999.00,9,     -999.0,9,  -999.0,9, 20170715,     1334, -30.0798, 169.4985,        0.0,1,      0.061,1,      4.685,1,      0.151,1,     -999.0,     -999.0,9,     -999.0,9,     -999.0,9,     -999.0,9,    17.4176,2,     -999.0,9
320620170703,        P06,      55,          1,         27,         27,2,20170715,       1352,   -30.0805,   169.4980,       2714,   215.6,  18.9428,  35.7442,2,  35.6005,2, 197.6394,2, 198.1237,2,     1.4,2,    4.66,2,    0.02,2,    0.35,2,   1.996,2,   1.227,2,   0.9930,2,  2086.0,2, 2326.20,2,   7.9352,2, -999.00,9, -999.00,9, -999.00,    50.6,2,    7.30,2,     -999.0,1,  -999.0,9, 20170715,     1336, -30.0798, 169.4985,        0.0,1,      0.099,1,      4.666,1,      0.180,1,      24.99,     -999.0,9,     -999.0,9,     -999.0,9,     -999.0,9,    17.7836,2,     -999.0,9
320620170703,        P06,      55,          1,         28,         28,2,20170715,       1352,   -30.0805,   169.4980,       2714,   190.8,  19.5525,  35.8521,2,  35.6319,2, 197.7976,2, 197.5978,2,     1.1,2,    4.37,2,    0.02,2,    0.33,2,-999.000,9,-999.000,9,-999.0000,9,  2082.6,2, -999.00,9,-999.0000,9, -999.00,9, -999.00,9, -999.00,    49.5,2,    6.60,2,     -999.0,1,  -999.0,9, 20170715,     1338, -30.0798, 169.4984,        0.0,1,      0.135,1,      4.648,1,      0.192,1,     -999.0,     -999.0,9,     -999.0,9,     -999.0,9,     -999.0,9,    18.1950,2,     -999.0,9
320620170703,        P06,      55,          1,         29,         29,2,20170715,       1352,   -30.0805,   169.4980,       2714,   165.7,  19.5505,  35.8525,2,  35.8439,2, 220.7724,2, 220.0595,2,     0.4,2,    0.81,2,    0.14,2,    0.11,2,   1.852,2,   1.149,2,   1.0660,2,  2059.7,2, 2346.12,2,   8.0041,2, -999.00,9, -999.00,9, -999.00,    59.0,2,    5.20,2,     -999.0,1,  -999.0,9, 20170715,     1340, -30.0799, 169.4984,        0.0,1,      0.133,1,      4.489,1,      0.198,1,      25.02,     -999.0,9,     -999.0,9,     -999.0,9,     -999.0,9,    19.5281,2,     -999.0,9
320620170703,        P06,      55,          1,         30,         30,2,20170715,       1352,   -30.0805,   169.4980,       2714,   140.4,  19.5482,  35.8530,2,  35.8546,2, 220.7116,2, 220.5345,2,     0.4,2,    0.65,2,    0.14,2,    0.11,2,-999.000,9,-999.000,9,-999.0000,9,  2058.4,2, -999.00,9,-999.0000,9, -999.00,9, -999.00,9, -999.00,    59.8,2,    4.80,2,     -999.0,1,  -999.0,9, 20170715,     1341, -30.0800, 169.4983,        0.0,1,      0.134,1,      4.469,1,      0.192,1,     -999.0,     -999.0,9,     -999.0,9,     -999.0,9,     -999.0,9,    19.5494,2,     -999.0,9
320620170703,        P06,      55,          1,         31,         31,2,20170715,       1352,   -30.0805,   169.4980,       2714,   116.7,  19.5459,  35.8534,2,  35.8560,2, 220.6879,2, 220.5549,2,     0.4,2,    0.65,2,    0.14,2,    0.10,2,   1.794,2,   1.149,2,   1.0970,2,  2060.2,2, 2344.74,2,   8.0063,2, -999.00,9, -999.00,9, -999.00,    58.2,2,    4.50,2,     -999.0,1,  -999.0,9, 20170715,     1343, -30.0801, 169.4982,        0.0,1,      0.135,1,      3.247,1,      0.192,1,      25.01,     -999.0,9,     -999.0,9,     -999.0,9,     -999.0,9,    19.5472,2,     -999.0,9
320620170703,        P06,      55,          1,         32,         32,2,20170715,       1352,   -30.0805,   169.4980,       2714,    92.6,  19.5465,  35.8549,2,  35.8572,2, 220.4060,2, 221.1138,2,     0.3,2,    0.62,2,    0.14,2,    0.11,2,-999.000,9,-999.000,9,-999.0000,9,  -999.0,9, -999.00,9,-999.0000,9, -999.00,9, -999.00,9, -999.00,    61.7,2,    4.10,2,     -999.0,1,  -999.0,9, 20170715,     1345, -30.0801, 169.4982,        0.0,1,      0.139,1,      4.552,1,      0.191,1,     -999.0,     -999.0,9,     -999.0,9,     -999.0,9,     -999.0,9,    19.5450,2,     -999.0,9