BOTTLE,20230922CCHSIOCBG
EXPOCODE,SECT_ID,STNNBR,CASTNO,SAMPNO,BTLNBR,BTLNBR_FLAG_W,DATE,TIME,LATITUDE,LONGITUDE,DEPTH,CTDPRS,CTDTMP,CTDSAL,CTDSAL_FLAG_W,SALNTY,SALNTY_FLAG_W,CTDOXY,CTDOXY_FLAG_W,OXYGEN,OXYGEN_FLAG_W,SILCAT,SILCAT_FLAG_W,NITRAT,NITRAT_FLAG_W,NITRIT,NITRIT_FLAG_W,PHSPHT,PHSPHT_FLAG_W,CFC-11,CFC-11_FLAG_W,CFC-12,CFC-12_FLAG_W,SF6,SF6_FLAG_W,TCARBN,TCARBN_FLAG_W,ALKALI,ALKALI_FLAG_W,PH_TOT,PH_TOT_FLAG_W,DELC13,DELC13_FLAG_W,DELC14,DELC14_FLAG_W,C14ERR,DOC,DOC_FLAG_W,TDN,TDN_FLAG_W,TON,TON_FLAG_W,D15N_NO3,D15N_NO3_FLAG_W,BTL_DATE,BTL_TIME,BTL_LAT,BTL_LON,CTDRINKO,CTDRINKO_FLAG_W,CTDFLUOR,CTDFLUOR_FLAG_W,CTDXMISS,CTDXMISS_FLAG_W,CTDBACKSCATTER,CTDBACKSCATTER_FLAG_W,PH_TMP,D18O_NO3,D18O_NO3_FLAG_W,DOP,DOP_FLAG_W,HPLC,HPLC_FLAG_W,POC,POC_FLAG_W,REFTMP,REFTMP_FLAG_W,TDP,TDP_FLAG_W
,,,,,,,,,,,METERS,DBAR,ITS-90,PSS-78,,PSS-78,,UMOL/KG,,UMOL/KG,,UMOL/KG,,UMOL/KG,,UMOL/KG,,UMOL/KG,,PMOL/KG,,PMOL/KG,,FMOL/KG,,UMOL/KG,,UMOL/KG,,,,/MILLE,,/MILLE,,/MILLE,UMOL/KG,,UMOL/KG,,UMOL/KG,,/MILLE,,,,,,VOLTS,,VOLTS,,VOLTS,,VOLTS,,DEGC,/MILLE,,UMOL/KG,,,,UG/L,,ITS-90,,UMOL/KG,
320620170703,        P06,       5,          1,          1,         37,2,20170705,       0140,   -30.0800,   153.7500,       1863,  1877.9,   2.3628,  34.6581,2,  34.6567,2, 162.8634,2, 162.7402,2,    95.2,2,   34.05,2,    0.00,2,    2.35,2,   0.034,2,   0.053,2,   0.0000,4,  2276.3,6, 2367.11,2,   7.5782,2, -999.00,9, -999.00,9, -999.00,  -999.0,9, -999.00,9,     -999.0,9,  -999.0,9, 20170704,     2350, -30.0800, 153.7500,        0.0,1,      0.061,1,      4.708,1,      0.149,1,      25.03,     -999.0,9,     -999.0,9,     -999.0,9,     -999.0,9,     2.3642,2,     -999.0,9
320620170703,        P06,       5,          1,          3,         38,2,20170705,       0140,   -30.0800,   153.7500,       1863,  1844.9,   2.3980,  34.6530,2,  34.6515,2, 162.1030,2, 162.1433,2,    95.6,2,   34.07,2,    0.00,2,    2.36,2,   0.034,2,   0.053,2,   0.0000,4,  -999.0,9, -999.00,9,-999.0000,9, -999.00,9, -999.00,9, -999.00,  -999.0,9, -999.00,9,     -999.0,9,  -999.0,9, 20170704,     2354, -30.0800, 153.7500,        0.0,1,      0.061,1,      4.709,1,      0.146,1,     -999.0,     -999.0,9,     -999.0,9,     -999.0,9,     -999.0,9,     2.3955,2,     -999.0,9
320620170703,        P06,       5,          1,          2,          2,2,20170705,       0140,   -30.0800,   153.7500,       1863,  1844.6,   2.3980,  34.6530,2,  34.6515,2, 162.2449,2, 162.4305,2,    95.4,2,   34.07,2,    0.00,2,    2.36,2,   0.034,2,   0.054,2,   0.0000,4,  -999.0,9, -999.00,9,-999.0000,9, -999.00,9, -999.00,9, -999.00,  -999.0,9, -999.00,9,     -999.0,9,  -999.0,9, 20170704,     2353, -30.0800, 153.7500,        0.0,1,      0.061,1,      4.709,1,      0.146,1,     -999.0,     -999.0,9,     -999.0,9,     -999.0,9,     -999.0,9,     2.3956,2,     -999.0,9
320620170703,        P06,       5,          1,          4,          4,4,20170705,       0140,   -30.0800,   153.7500,       1863,  1794.0,   2.4488,  34.6460,3,-999.0000,9, 159.7087,2,-999.0000,9,  -999.0,9, -999.00,9, -999.00,9, -999.00,9,-999.000,9,-999.000,9,-999.0000,9,  -999.0,9, -999.00,9,-999.0000,9, -999.00,9, -999.00,9, -999.00,  -999.0,9, -999.00,9,     -999.0,9,  -999.0,9, 20170704,     2357, -30.0800, 153.7501,        0.0,1,      0.061,1,      4.709,1,      0.144,1,     -999.0,     -999.0,9,     -999.0,9,     -999.0,9,     -999.0,9,     2.4237,3,     -999.0,9
320620170703,        P06,       5,          1,          5,         39,2,20170705,       0140,   -30.0800,   153.7500,       1863,  1693.4,   2.7010,  34.6159,2,  34.6136,2, 153.1773,2, 152.9556,2,    95.9,2,   34.77,2,    0.00,2,    2.40,2,   0.035,2,   0.059,2,   0.0000,4,  2281.9,2, 2372.94,2,   7.5695,2, -999.00,9, -999.00,9, -999.00,  -999.0,9, -999.00,9,     -999.0,9,  -999.0,9, 20170705,        2, -30.0800, 153.7500,        0.0,1,      0.061,1,      4.710,1,      0.145,1,      25.04,     -999.0,9,     -999.0,9,     -999.0,9,     -999.0,9,     2.7048,2,     -999.0,9
320620170703,        P06,       5,          1,          6,          6,2,20170705,       0140,   -30.0800,   153.7500,       1863,  1591.2,   2.8813,  34.5969,2,  34.5934,2, 150.8047,2, 150.8097,2,    94.1,2,   34.95,2,    0.00,2,    2.43,2,   0.043,2,   0.099,2,   0.0000,4,  2281.4,2, 2368.54,2,   7.5692,2, -999.00,9, -999.00,9, -999.00,  -999.0,9, -999.00,9,     -999.0,9,  -999.0,9, 20170705,        6, -30.0800, 153.7500,        0.0,1,      0.061,1,      4.709,1,      0.148,1,      25.04,     -999.0,9,     -999.0,9,     -999.0,9,     -999.0,9,     2.8848,2,     -999.0,9
320620170703,        P06,       5,          1,          7,         40,2,20170705,       0140,   -30.0800,   153.7500,       1863,  1489.9,   3.1274,  34.5736,2,  34.5686,2, 152.0029,2, 152.1290,2,    88.3,2,   34.74,2,    0.00,2,    2.40,2,   0.064,2,   0.110,2,   1.1130,4,  -999.0,9, -999.00,9,-999.0000,9, -999.00,9, -999.00,9, -999.00,  -999.0,9, -999.00,9,     -999.0,9,  -999.0,9, 20170705,       11, -30.0799, 153.7499,        0.0,1,      0.060,1,      4.709,1,      0.146,1,     -999.0,     -999.0,9,     -999.0,9,     -999.0,9,     -999.0,9,     3.1575,2,     -999.0,9
320620170703,        P06,       5,          1,          8,          8,2,20170705,       0140,   -30.0800,   153.7500,       1863,  1414.0,   3.3121,  34.5573,2,  34.5535,2, 153.9964,2, 153.8103,2,    84.2,2,   34.49,2,    0.00,2,    2.39,2,   0.090,2,   0.123,2,   1.9810,4,  -999.0,9, -999.00,9,-999.0000,9, -999.00,9, -999.00,9, -999.00,  -999.0,9, -999.00,9,     -999.0,9,  -999.0,9, 20170705,       15, -30.0798, 153.7498,        0.0,1,      0.061,1,      4.710,1,      0.144,1,     -999.0,     -999.0,9,     -999.0,9,     -999.0,9,     -999.0,9,     3.3189,2,     -999.0,9
320620170703,        P06,       5,          1,          9,         41,2,20170705,       0140,   -30.0800,   153.7500,       1863,  1337.6,   3.4777,  34.5428,2,  34.5374,2, 156.2374,2, 156.1957,2,    79.1,2,   34.11,2,    0.00,2,    2.37,2,   0.114,2,   0.121,2,   2.2622,4,  2263.4,2, 2353.69,3,   7.5816,2, -999.00,9, -999.00,9, -999.00,  -999.0,9, -999.00,9,     -999.0,9,  -999.0,9, 20170705,       19, -30.0798, 153.7497,        0.0,1,      0.061,1,      4.709,1,      0.145,1,      25.04,     -999.0,9,     -999.0,9,     -999.0,9,     -999.0,9,     3.4927,2,     -999.0,9
320620170703,        P06,       5,          1,         10,         10,2,20170705,       0140,   -30.0800,   153.7500,       1863,  1261.6,   3.7851,  34.5200,2,  34.5138,2, 162.9217,2, 163.5236,2,    69.5,2,   33.29,2,    0.00,2,    2.30,2,   0.210,2,   0.186,2,   0.8990,4,  -999.0,9, -999.00,9,-999.0000,9, -999.00,9, -999.00,9, -999.00,  -999.0,9, -999.00,9,     -999.0,9,  -999.0,9, 20170705,       23, -30.0798, 153.7496,        0.0,1,      0.061,1,      4.710,1,      0.142,1,     -999.0,     -999.0,9,     -999.0,9,     -999.0,9,     -999.0,9,     3.8403,2,     -999.0,9
320620170703,        P06,       5,          1,         11,         42,2,20170705,       0140,   -30.0800,   153.7500,       1863,  1185.3,   4.0842,  34.4974,2,  34.4956,2, 167.1377,2, 166.9331,2,    63.2,2,   32.73,2,    0.00,2,    2.25,2,   0.264,2,   0.197,2,   0.6616,4,  -999.0,9, -999.00,9,-999.0000,9, -999.00,9, -999.00,9, -999.00,  -999.0,9, -999.00,9,     -999.0,9,  -999.0,9, 20170705,       27, -30.0797, 153.7495,        0.0,1,      0.061,1,      4.710,1,      0.140,1,     -999.0,     -999.0,9,     -999.0,9,     -999.0,9,     -999.0,9,     4.0787,2,     -999.0,9
320620170703,        P06,       5,          1,         12,         12,2,20170705,       0140,   -30.0800,   153.7500,       1863,  1110.9,   4.4205,  34.4780,2,  34.4722,2, 173.4727,2, 172.9473,2,    53.8,2,   31.94,2,    0.00,2,    2.20,2,   0.408,2,   0.251,2,   0.6668,4,  2226.8,2, 2320.43,2,   7.6066,2, -999.00,9, -999.00,9, -999.00,  -999.0,9, -999.00,9,     -999.0,9,  -999.0,9, 20170705,       31, -30.0797, 153.7493,        0.0,1,      0.060,1,      4.710,1,      0.142,1,      25.03,     -999.0,9,     -999.0,9,     -999.0,9,     -999.0,9,     4.4386,2,     -999.0,9
320620170703,        P06,       5,          1,         13,         43,2,20170705,       0140,   -30.0800,   153.7500,       1863,  1033.4,   4.8780,  34.4555,2,  34.4551,2, 177.9676,2, 178.7668,2,    45.8,2,   31.06,2,    0.00,2,    2.12,2,   0.566,2,   0.326,2,   0.6449,4,  -999.0,9, -999.00,9,-999.0000,9, -999.00,9, -999.00,9, -999.00,  -999.0,9, -999.00,9,     -999.0,9,  -999.0,9, 20170705,       34, -30.0799, 153.7491,        0.0,1,      0.060,1,      4.709,1,      0.141,1,     -999.0,     -999.0,9,     -999.0,9,     -999.0,9,     -999.0,9,     4.8143,2,     -999.0,9
320620170703,        P06,       5,          1,         14,         14,2,20170705,       0140,   -30.0800,   153.7500,       1863,   957.8,   5.3361,  34.4461,2,  34.4422,2, 183.7412,2, 183.7324,2,    37.3,2,   29.88,2,    0.00,2,    2.03,2,   0.801,2,   0.417,2,   0.6591,4,  -999.0,9, -999.00,9,-999.0000,9, -999.00,9, -999.00,9, -999.00,  -999.0,9, -999.00,9,     -999.0,9,  -999.0,9, 20170705,       38, -30.0801, 153.7490,        0.0,1,      0.060,1,      4.709,1,      0.171,1,     -999.0,     -999.0,9,     -999.0,9,     -999.0,9,     -999.0,9,     5.2837,2,     -999.0,9
320620170703,        P06,       5,          1,         15,         15,2,20170705,       0140,   -30.0800,   153.7500,       1863,   882.5,   5.9897,  34.4466,2,  34.4408,2, 190.8380,2, 190.2891,2,    28.7,2,   28.32,2,    0.00,2,    1.93,2,   1.053,2,   0.537,2,   0.7661,4,  2188.9,2, 2298.73,2,   7.6465,2, -999.00,9, -999.00,9, -999.00,  -999.0,9, -999.00,9,     -999.0,9,  -999.0,9, 20170705,       42, -30.0801, 153.7491,        0.0,1,      0.060,1,      4.708,1,      0.142,1,      25.03,     -999.0,9,     -999.0,9,     -999.0,9,     -999.0,9,     5.8743,2,     -999.0,9
320620170703,        P06,       5,          1,         16,         16,2,20170705,       0140,   -30.0800,   153.7500,       1863,   807.5,   6.6404,  34.4632,2,  34.4573,2, 197.3824,2, 196.3283,2,    21.2,2,   26.55,2,    0.00,2,    1.79,2,   1.417,2,   0.711,2,   0.8835,4,  -999.0,9, -999.00,9,-999.0000,9, -999.00,9, -999.00,9, -999.00,  -999.0,9, -999.00,9,     -999.0,9,  -999.0,9, 20170705,       46, -30.0800, 153.7494,        0.0,1,      0.060,1,      4.708,1,      0.145,1,     -999.0,     -999.0,9,     -999.0,9,     -999.0,9,     -999.0,9,     6.5225,2,     -999.0,9
320620170703,        P06,       5,          1,         17,         17,2,20170705,       0140,   -30.0800,   153.7500,       1863,   715.5,   7.4616,  34.5203,2,  34.5109,2, 197.0510,2, 198.4026,2,    15.6,2,   24.66,2,    0.00,2,    1.67,2,   1.790,2,   0.909,2,   1.0292,4,  -999.0,9, -999.00,9,-999.0000,9, -999.00,9, -999.00,9, -999.00,  -999.0,9, -999.00,9,     -999.0,9,  -999.0,9, 20170705,       50, -30.0800, 153.7499,        0.0,1,      0.060,1,      4.706,1,      0.144,1,     -999.0,     -999.0,9,     -999.0,9,     -999.0,9,     -999.0,9,     7.3751,2,     -999.0,9
320620170703,        P06,       5,          1,         18,         18,2,20170705,       0140,   -30.0800,   153.7500,       1863,   655.4,   8.0631,  34.5698,2,  34.5586,2, 198.5271,2, 198.6308,2,    12.6,2,   23.24,2,    0.00,2,    1.56,2,   2.012,2,   1.059,2,   4.4612,4,  2163.3,2, 2292.49,2,   7.6937,2, -999.00,9, -999.00,9, -999.00,  -999.0,9, -999.00,9,     -999.0,9,  -999.0,9, 20170705,       53, -30.0800, 153.7500,        0.0,1,      0.059,1,      4.705,1,      0.147,1,      25.04,     -999.0,9,     -999.0,9,     -999.0,9,     -999.0,9,     7.9795,2,     -999.0,9
320620170703,        P06,       5,          1,         19,         19,2,20170705,       0140,   -30.0800,   153.7500,       1863,   605.5,   8.4751,  34.6038,2,  34.5912,2, 200.1084,2, 200.5977,2,    10.8,2,   22.06,2,    0.00,2,    1.49,2,   2.172,2,   1.120,2,   1.0060,4,  -999.0,9, -999.00,9,-999.0000,9, -999.00,9, -999.00,9, -999.00,  -999.0,9, -999.00,9,     -999.0,9,  -999.0,9, 20170705,       57, -30.0800, 153.7500,        0.0,1,      0.060,1,      4.706,1,      0.144,1,     -999.0,     -999.0,9,     -999.0,9,     -999.0,9,     -999.0,9,     8.3827,2,     -999.0,9
320620170703,        P06,       5,          1,         20,         20,2,20170705,       0140,   -30.0800,   153.7500,       1863,   554.3,   9.1375,  34.6686,2,  34.6686,2, 199.1560,2, 198.7471,2,     8.5,2,   20.32,2,    0.00,2,    1.38,2,   1.931,2,   1.177,2,   1.1570,4,  -999.0,9, -999.00,9,-999.0000,9, -999.00,9, -999.00,9, -999.00,  -999.0,9, -999.00,9,     -999.0,9,  -999.0,9, 20170705,       59, -30.0800, 153.7500,        0.0,1,      0.059,1,      4.705,1,      0.144,1,     -999.0,     -999.0,9,     -999.0,9,     -999.0,9,     -999.0,9,     9.2113,2,     -999.0,9
320620170703,        P06,       5,          1,         21,         21,2,20170705,       0140,   -30.0800,   153.7500,       1863,   504.8,  10.0132,  34.7716,2,  34.7883,2, 200.0012,2, 199.4462,2,     6.4,2,   18.07,2,    0.00,2,    1.22,2,   2.789,2,   1.722,2,   1.3560,4,  2147.0,2, 2301.17,2,   7.7445,2, -999.00,9, -999.00,9, -999.00,  -999.0,9, -999.00,9,     -999.0,9,  -999.0,9, 20170705,      102, -30.0800, 153.7500,        0.0,1,      0.061,1,      4.703,1,      0.146,1,      25.03,     -999.0,9,     -999.0,9,     -999.0,9,     -999.0,9,    10.1870,2,     -999.0,9
320620170703,        P06,       5,          1,         22,         22,2,20170705,       0140,   -30.0800,   153.7500,       1863,   452.7,  10.9462,  34.8781,2,  34.8766,2, 194.6163,2, 194.5595,2,     5.8,2,   16.61,2,    0.00,2,    1.13,2,   2.774,2,   1.667,2,   1.2010,4,  -999.0,9, -999.00,9,-999.0000,9, -999.00,9, -999.00,9, -999.00,  -999.0,9, -999.00,9,     -999.0,9,  -999.0,9, 20170705,      105, -30.0800, 153.7500,        0.0,1,      0.061,1,      4.703,1,      0.146,1,     -999.0,     -999.0,9,     -999.0,9,     -999.0,9,     -999.0,9,    11.0089,2,     -999.0,9
320620170703,        P06,       5,          1,         23,         23,2,20170705,       0140,   -30.0800,   153.7500,       1863,   402.6,  12.0179,  34.9913,2,  34.9785,2, 192.1858,2, 192.3111,2,     4.9,2,   14.87,2,    0.00,2,    1.02,2,   2.774,2,   1.627,2,   1.5140,4,  -999.0,9, -999.00,9,-999.0000,9, -999.00,9, -999.00,9, -999.00,  -999.0,9, -999.00,9,     -999.0,9,  -999.0,9, 20170705,      108, -30.0800, 153.7500,        0.0,1,      0.059,1,      4.701,1,      0.147,1,     -999.0,     -999.0,9,     -999.0,9,     -999.0,9,     -999.0,9,    12.0154,2,     -999.0,9
320620170703,        P06,       5,          1,         24,         24,2,20170705,       0140,   -30.0800,   153.7500,       1863,   351.9,  13.3332,  35.1450,2,  35.1282,2, 190.7236,2, 190.7358,2,     3.6,2,   12.55,2,    0.00,2,    0.87,2,   2.677,2,   1.607,2,   1.1990,4,  2126.2,2, 1867.79,3,   7.8148,2, -999.00,9, -999.00,9, -999.00,  -999.0,9, -999.00,9,     -999.0,9,  -999.0,9, 20170705,      111, -30.0800, 153.7500,        0.0,1,      0.060,1,      4.699,1,      0.153,1,      25.03,     -999.0,9,     -999.0,9,     -999.0,9,     -999.0,9,    13.2087,2,     -999.0,9
320620170703,        P06,       5,          1,         25,         25,2,20170705,       0140,   -30.0800,   153.7500,       1863,   301.2,  14.7289,  35.2560,2,  35.2318,2, 185.3837,2, 185.2632,2,     2.9,2,   11.02,2,    0.00,2,    0.78,2,   2.551,2,   1.509,2,   1.3170,4,  -999.0,9, -999.00,9,-999.0000,9, -999.00,9, -999.00,9, -999.00,  -999.0,9, -999.00,9,     -999.0,9,  -999.0,9, 20170705,      114, -30.0799, 153.7501,        0.0,1,      0.059,1,      4.692,1,      0.159,1,     -999.0,     -999.0,9,     -999.0,9,     -999.0,9,     -999.0,9,    14.3867,2,     -999.0,9
320620170703,        P06,       5,          1,         26,         26,2,20170705,       0140,   -30.0800,   153.7500,       1863,   255.8,  16.1922,  35.4094,2,  35.3646,2, 184.3908,2, 184.8345,2,     2.1,2,    8.98,2,    0.00,2,    0.65,2,   2.516,2,   1.494,2,   1.2300,4,  2109.5,2, 2243.63,2,   7.8705,2, -999.00,9, -999.00,9, -999.00,  -999.0,9, -999.00,9,     -999.0,9,  -999.0,9, 20170705,      117, -30.0799, 153.7501,        0.0,1,      0.060,1,      4.697,1,      0.144,1,      25.04,     -999.0,9,     -999.0,9,     -999.0,9,     -999.0,9,    15.7660,2,     -999.0,9
320620170703,        P06,       5,          1,         27,         27,2,20170705,       0140,   -30.0800,   153.7500,       1863,   226.6,  16.9782,  35.4861,2,  35.4488,2, 184.4520,2, 183.8087,2,     1.7,2,    7.82,2,    0.00,2,    0.57,2,   2.432,2,   1.446,2,   1.2690,4,  -999.0,9, -999.00,9,-999.0000,9, -999.00,9, -999.00,9, -999.00,  -999.0,9, -999.00,9,     -999.0,9,  -999.0,9, 20170705,      120, -30.0800, 153.7500,        0.0,1,      0.060,1,      4.697,1,      0.141,1,     -999.0,     -999.0,9,     -999.0,9,     -999.0,9,     -999.0,9,    16.6942,2,     -999.0,9
320620170703,        P06,       5,          1,         28,         28,2,20170705,       0140,   -30.0800,   153.7500,       1863,   201.0,  17.9898,  35.5749,2,  35.5362,2, 184.5733,2, 185.3588,2,     1.2,2,    6.54,2,    0.00,2,    0.48,2,   2.331,2,   1.429,2,   1.1030,2,  2094.4,2, 2274.91,4,   7.9147,2, -999.00,9, -999.00,9, -999.00,  -999.0,9, -999.00,9,     -999.0,9,  -999.0,9, 20170705,      122, -30.0800, 153.7500,        0.0,1,      0.060,1,      4.696,1,      0.143,1,      25.04,     -999.0,9,     -999.0,9,     -999.0,9,     -999.0,9,    17.6427,2,     -999.0,9
320620170703,        P06,       5,          1,         29,         29,2,20170705,       0140,   -30.0800,   153.7500,       1863,   175.6,  18.4883,  35.6068,2,  35.5918,2, 183.3301,2, 183.1559,2,     0.9,2,    5.82,2,    0.00,2,    0.44,2,   2.253,2,   1.358,2,   1.1010,2,  -999.0,9, -999.00,9,-999.0000,9, -999.00,9, -999.00,9, -999.00,  -999.0,9, -999.00,9,     -999.0,9,  -999.0,9, 20170705,      125, -30.0800, 153.7500,        0.0,1,      0.061,1,      4.694,1,      0.147,1,     -999.0,     -999.0,9,     -999.0,9,     -999.0,9,     -999.0,9,    18.4041,2,     -999.0,9
320620170703,        P06,       5,          1,         30,         30,2,20170705,       0140,   -30.0800,   153.7500,       1863,   150.7,  19.9396,  35.7216,2,  35.6700,3, 189.0739,3, 185.2093,2,     0.0,2,    0.15,2,    0.12,2,    0.08,2,   2.205,2,   1.303,2,   1.1100,2,  2082.1,2, 2337.31,2,   7.9535,2, -999.00,9, -999.00,9, -999.00,  -999.0,9, -999.00,9,     -999.0,9,  -999.0,9, 20170705,      127, -30.0800, 153.7500,        0.0,1,      0.075,1,      4.682,1,      0.166,1,      25.03,     -999.0,9,     -999.0,9,     -999.0,9,     -999.0,9,    19.5622,2,     -999.0,9
320620170703,        P06,       5,          1,         31,         31,2,20170705,       0140,   -30.0800,   153.7500,       1863,   124.8,  20.7021,  35.8295,2,  35.8202,2, 213.6053,2, 212.4951,2,     0.0,2,    0.77,2,    0.21,2,    0.14,2,   2.083,2,   1.232,2,   1.1340,2,  -999.0,9, -999.00,9,-999.0000,9, -999.00,9, -999.00,9, -999.00,  -999.0,9, -999.00,9,     -999.0,9,  -999.0,9, 20170705,      129, -30.0800, 153.7500,        0.0,1,      0.091,1,      4.670,1,      0.175,1,     -999.0,     -999.0,9,     -999.0,9,     -999.0,9,     -999.0,9,    20.6460,2,     -999.0,9
320620170703,        P06,       5,          1,         32,         32,2,20170705,       0140,   -30.0800,   153.7500,       1863,    99.6,  20.7393,  35.8018,2,  35.8086,2, 217.6102,2, 218.2730,2,     0.0,2,    0.15,2,    0.12,2,    0.08,2,   1.968,2,   1.206,2,   1.1020,2,  2045.8,2, 2342.71,2,   8.0294,2, -999.00,9, -999.00,9, -999.00,  -999.0,9, -999.00,9,     -999.0,9,  -999.0,9, 20170705,      131, -30.0800, 153.7500,        0.0,1,      0.128,1,      4.654,1,      0.206,1,      25.03,     -999.0,9,     -999.0,9,     -999.0,9,     -999.0,9,    20.7434,2,     -999.0,9