BOTTLE,20230922CCHSIOCBG
EXPOCODE,SECT_ID,STNNBR,CASTNO,SAMPNO,BTLNBR,BTLNBR_FLAG_W,DATE,TIME,LATITUDE,LONGITUDE,DEPTH,CTDPRS,CTDTMP,CTDSAL,CTDSAL_FLAG_W,SALNTY,SALNTY_FLAG_W,CTDOXY,CTDOXY_FLAG_W,OXYGEN,OXYGEN_FLAG_W,SILCAT,SILCAT_FLAG_W,NITRAT,NITRAT_FLAG_W,NITRIT,NITRIT_FLAG_W,PHSPHT,PHSPHT_FLAG_W,CFC-11,CFC-11_FLAG_W,CFC-12,CFC-12_FLAG_W,SF6,SF6_FLAG_W,TCARBN,TCARBN_FLAG_W,ALKALI,ALKALI_FLAG_W,PH_TOT,PH_TOT_FLAG_W,DELC13,DELC13_FLAG_W,DELC14,DELC14_FLAG_W,C14ERR,DOC,DOC_FLAG_W,TDN,TDN_FLAG_W,TON,TON_FLAG_W,D15N_NO3,D15N_NO3_FLAG_W,BTL_DATE,BTL_TIME,BTL_LAT,BTL_LON,CTDRINKO,CTDRINKO_FLAG_W,CTDFLUOR,CTDFLUOR_FLAG_W,CTDXMISS,CTDXMISS_FLAG_W,CTDBACKSCATTER,CTDBACKSCATTER_FLAG_W,PH_TMP,D18O_NO3,D18O_NO3_FLAG_W,DOP,DOP_FLAG_W,HPLC,HPLC_FLAG_W,POC,POC_FLAG_W,REFTMP,REFTMP_FLAG_W,TDP,TDP_FLAG_W
,,,,,,,,,,,METERS,DBAR,ITS-90,PSS-78,,PSS-78,,UMOL/KG,,UMOL/KG,,UMOL/KG,,UMOL/KG,,UMOL/KG,,UMOL/KG,,PMOL/KG,,PMOL/KG,,FMOL/KG,,UMOL/KG,,UMOL/KG,,,,/MILLE,,/MILLE,,/MILLE,UMOL/KG,,UMOL/KG,,UMOL/KG,,/MILLE,,,,,,VOLTS,,VOLTS,,VOLTS,,VOLTS,,DEGC,/MILLE,,UMOL/KG,,,,UG/L,,ITS-90,,UMOL/KG,
320620170703,        P06,     101,          1,         33,         33,2,20170729,       1440,   -32.5015,  -173.8548,       5751,    67.1,  17.0799,  35.5935,2,  35.5975,2, 237.0350,2, 235.8513,2,     0.5,2,    0.31,2,    0.04,2,    0.11,2,   2.222,2,   1.315,2,   1.3760,2,  2070.2,2, -999.00,9,   7.9719,2, -999.00,9, -999.00,9, -999.00,  -999.0,9, -999.00,9,     -999.0,9,  -999.0,1, 20170729,     1436, -32.5015,-173.8548,        0.0,1,      0.211,1,      4.592,1,      0.266,1,      25.01,     -999.0,1,     -999.0,1,     -999.0,9,     -999.0,9,    17.0800,2,     -999.0,9
320620170703,        P06,     101,          1,         34,         34,2,20170729,       1440,   -32.5015,  -173.8548,       5751,    41.6,  17.0744,  35.5933,2,  35.5971,2, 237.2351,2, 236.2355,2,     0.5,2,    0.33,2,    0.04,2,    0.12,2,-999.000,9,-999.000,9,-999.0000,9,  2072.8,2, -999.00,9,   7.9719,2, -999.00,9, -999.00,9, -999.00,  -999.0,9, -999.00,9,     -999.0,9,  -999.0,1, 20170729,     1438, -32.5015,-173.8548,        0.0,1,      0.214,1,      3.992,1,      0.273,1,      25.05,     -999.0,1,     -999.0,1,     -999.0,9,     -999.0,9,    17.0698,2,     -999.0,9
320620170703,        P06,     101,          1,         35,         35,2,20170729,       1440,   -32.5015,  -173.8548,       5751,    19.9,  17.0702,  35.5936,2,  35.5979,2, 237.1810,2, 235.9534,2,     0.5,2,    0.30,2,    0.04,2,    0.13,2,   2.242,2,   1.342,2,   1.5140,2,  2069.2,2, -999.00,9,   7.9721,2, -999.00,9, -999.00,9, -999.00,  -999.0,9, -999.00,9,     -999.0,9,  -999.0,1, 20170729,     1439, -32.5015,-173.8548,        0.0,1,      0.208,1,      4.593,1,      0.267,1,      25.02,     -999.0,1,     -999.0,1,     -999.0,9,     -999.0,9,    17.0789,2,     -999.0,9
320620170703,        P06,     101,          1,         36,         36,2,20170729,       1440,   -32.5015,  -173.8548,       5751,     3.6,  17.0554,  35.5938,2,  35.5983,2, 237.1902,2, 235.8268,2,     0.6,2,    0.31,2,    0.04,2,    0.14,2,   2.224,2,   1.315,2,   1.5710,2,  2070.8,6, 2332.97,2,   7.9711,2, -999.00,9, -999.00,9, -999.00,  -999.0,9, -999.00,9,     -999.0,9,  -999.0,1, 20170729,     1440, -32.5015,-173.8548,        0.0,1,      0.229,1,      4.564,1,      0.237,1,      25.01,     -999.0,1,     -999.0,1,     -999.0,9,     -999.0,9,    16.5490,2,     -999.0,9