BOTTLE,20230922CCHSIOCBG
EXPOCODE,SECT_ID,STNNBR,CASTNO,SAMPNO,BTLNBR,BTLNBR_FLAG_W,DATE,TIME,LATITUDE,LONGITUDE,DEPTH,CTDPRS,CTDTMP,CTDSAL,CTDSAL_FLAG_W,SALNTY,SALNTY_FLAG_W,CTDOXY,CTDOXY_FLAG_W,OXYGEN,OXYGEN_FLAG_W,SILCAT,SILCAT_FLAG_W,NITRAT,NITRAT_FLAG_W,NITRIT,NITRIT_FLAG_W,PHSPHT,PHSPHT_FLAG_W,CFC-11,CFC-11_FLAG_W,CFC-12,CFC-12_FLAG_W,SF6,SF6_FLAG_W,TCARBN,TCARBN_FLAG_W,ALKALI,ALKALI_FLAG_W,PH_TOT,PH_TOT_FLAG_W,DELC13,DELC13_FLAG_W,DELC14,DELC14_FLAG_W,C14ERR,DOC,DOC_FLAG_W,TDN,TDN_FLAG_W,TON,TON_FLAG_W,D15N_NO3,D15N_NO3_FLAG_W,BTL_DATE,BTL_TIME,BTL_LAT,BTL_LON,CTDRINKO,CTDRINKO_FLAG_W,CTDFLUOR,CTDFLUOR_FLAG_W,CTDXMISS,CTDXMISS_FLAG_W,CTDBACKSCATTER,CTDBACKSCATTER_FLAG_W,PH_TMP,D18O_NO3,D18O_NO3_FLAG_W,DOP,DOP_FLAG_W,HPLC,HPLC_FLAG_W,POC,POC_FLAG_W,REFTMP,REFTMP_FLAG_W,TDP,TDP_FLAG_W
,,,,,,,,,,,METERS,DBAR,ITS-90,PSS-78,,PSS-78,,UMOL/KG,,UMOL/KG,,UMOL/KG,,UMOL/KG,,UMOL/KG,,UMOL/KG,,PMOL/KG,,PMOL/KG,,FMOL/KG,,UMOL/KG,,UMOL/KG,,,,/MILLE,,/MILLE,,/MILLE,UMOL/KG,,UMOL/KG,,UMOL/KG,,/MILLE,,,,,,VOLTS,,VOLTS,,VOLTS,,VOLTS,,DEGC,/MILLE,,UMOL/KG,,,,UG/L,,ITS-90,,UMOL/KG,
320620170703,        P06,      14,          1,         33,         33,2,20170707,       1144,   -30.0803,   155.9901,       4554,    73.7,  21.9316,  35.7665,2,  35.7554,2, 191.8580,3, 188.2390,2,     0.5,2,    2.30,2,    0.04,2,    0.21,2,   1.929,2,   1.071,2,   1.0890,2,  2059.9,2, 2339.29,2,   8.0005,2, -999.00,9, -999.00,9, -999.00,  -999.0,5,    6.20,2,     -999.0,1,  -999.0,1, 20170707,     1140, -30.0801, 155.9903,        0.0,1,      0.090,1,      4.677,1,      0.167,1,      25.02,     -999.0,1,     -999.0,1,     -999.0,9,     -999.0,9,    21.8191,2,       0.33,2
320620170703,        P06,      14,          1,         34,         34,2,20170707,       1144,   -30.0803,   155.9901,       4554,    50.9,  22.4954,  35.7325,2,  35.7314,2, 207.0878,3, 212.0026,2,     0.2,2,    0.06,2,    0.01,2,    0.06,2,  -0.003,4,  -0.003,4,  -0.0010,4,  2026.2,2, 2336.81,2,   8.0578,2, -999.00,9, -999.00,9, -999.00,  -999.0,5,    4.50,2,     -999.0,1,  -999.0,1, 20170707,     1142, -30.0802, 155.9902,        0.0,1,      0.151,1,      4.630,1,      0.189,1,      25.04,     -999.0,1,     -999.0,1,     -999.0,9,     -999.0,9,    22.5215,2,       0.29,2
320620170703,        P06,      14,          1,         35,         35,2,20170707,       1144,   -30.0803,   155.9901,       4554,    22.9,  22.5322,  35.7371,2,  35.7329,2, 208.0328,3, 212.9040,2,     0.2,2,    0.00,2,    0.01,2,    0.04,2,   1.609,2,   1.011,2,   1.1010,2,  2024.0,2, 2337.57,2,   8.0599,2, -999.00,9, -999.00,9, -999.00,    67.9,2,    4.20,2,     -999.0,1,  -999.0,1, 20170707,     1143, -30.0802, 155.9901,        0.0,1,      0.144,1,      4.627,1,      0.190,1,      25.02,     -999.0,1,     -999.0,1,     -999.0,9,     -999.0,9,    22.5469,2,       0.21,2
320620170703,        P06,      14,          1,         36,         36,2,20170707,       1144,   -30.0803,   155.9901,       4554,     2.8,  22.5280,  35.7388,2,  35.7325,2, 207.4844,3, 212.9948,2,     0.2,2,    0.00,2,    0.01,2,    0.05,2,   1.829,2,   1.054,2,   1.1030,2,  2023.9,6, 2339.63,2,   8.0600,2, -999.00,9, -999.00,9, -999.00,    66.3,2,    4.50,2,     -999.0,1,  -999.0,1, 20170707,     1144, -30.0803, 155.9901,        0.0,1,      0.143,1,      4.627,1,      0.183,1,      25.01,     -999.0,1,     -999.0,1,     -999.0,9,     -999.0,9,    22.5382,2,       0.14,2