BOTTLE,20230922CCHSIOCBG
EXPOCODE,SECT_ID,STNNBR,CASTNO,SAMPNO,BTLNBR,BTLNBR_FLAG_W,DATE,TIME,LATITUDE,LONGITUDE,DEPTH,CTDPRS,CTDTMP,CTDSAL,CTDSAL_FLAG_W,SALNTY,SALNTY_FLAG_W,CTDOXY,CTDOXY_FLAG_W,OXYGEN,OXYGEN_FLAG_W,SILCAT,SILCAT_FLAG_W,NITRAT,NITRAT_FLAG_W,NITRIT,NITRIT_FLAG_W,PHSPHT,PHSPHT_FLAG_W,CFC-11,CFC-11_FLAG_W,CFC-12,CFC-12_FLAG_W,SF6,SF6_FLAG_W,TCARBN,TCARBN_FLAG_W,ALKALI,ALKALI_FLAG_W,PH_TOT,PH_TOT_FLAG_W,DELC13,DELC13_FLAG_W,DELC14,DELC14_FLAG_W,C14ERR,DOC,DOC_FLAG_W,TDN,TDN_FLAG_W,TON,TON_FLAG_W,D15N_NO3,D15N_NO3_FLAG_W,BTL_DATE,BTL_TIME,BTL_LAT,BTL_LON,CTDRINKO,CTDRINKO_FLAG_W,CTDFLUOR,CTDFLUOR_FLAG_W,CTDXMISS,CTDXMISS_FLAG_W,CTDBACKSCATTER,CTDBACKSCATTER_FLAG_W,PH_TMP,D18O_NO3,D18O_NO3_FLAG_W,DOP,DOP_FLAG_W,HPLC,HPLC_FLAG_W,POC,POC_FLAG_W,REFTMP,REFTMP_FLAG_W,TDP,TDP_FLAG_W
,,,,,,,,,,,METERS,DBAR,ITS-90,PSS-78,,PSS-78,,UMOL/KG,,UMOL/KG,,UMOL/KG,,UMOL/KG,,UMOL/KG,,UMOL/KG,,PMOL/KG,,PMOL/KG,,FMOL/KG,,UMOL/KG,,UMOL/KG,,,,/MILLE,,/MILLE,,/MILLE,UMOL/KG,,UMOL/KG,,UMOL/KG,,/MILLE,,,,,,VOLTS,,VOLTS,,VOLTS,,VOLTS,,DEGC,/MILLE,,UMOL/KG,,,,UG/L,,ITS-90,,UMOL/KG,
320620170703,        P06,      97,          1,         33,         33,2,20170728,       0941,   -32.5000,  -175.7500,       5870,    84.3,  17.4113,  35.6423,2,  35.6445,2, 229.9371,3, 232.3633,2,     0.5,2,    0.66,2,    0.14,2,    0.13,2,   2.232,2,   1.305,2,   1.3270,2,  2068.2,2, 2335.08,2,   7.9729,2, -999.00,9, -999.00,9, -999.00,  -999.0,9, -999.00,9,     -999.0,9,  -999.0,1, 20170728,      936, -32.5001,-175.7500,        0.0,1,      0.130,1,      4.628,1,      0.251,1,      24.99,     -999.0,1,     -999.0,1,     -999.0,9,     -999.0,9,    17.4440,2,       0.32,2
320620170703,        P06,      97,          1,         34,         34,2,20170728,       0941,   -32.5000,  -175.7500,       5870,    61.0,  17.6982,  35.6729,2,  35.6688,2, 231.9073,2, 230.4468,2,     0.4,2,    0.70,2,    0.09,2,    0.12,2,   2.195,2,   1.277,2,   1.3090,2,  -999.0,9, -999.00,9,-999.0000,9, -999.00,9, -999.00,9, -999.00,  -999.0,9, -999.00,9,     -999.0,9,  -999.0,1, 20170728,      937, -32.5000,-175.7499,        0.0,1,      0.184,1,      4.589,1,      0.284,1,     -999.0,     -999.0,1,     -999.0,1,     -999.0,9,     -999.0,9,    17.6905,2,       0.31,2
320620170703,        P06,      97,          1,         35,         35,2,20170728,       0941,   -32.5000,  -175.7500,       5870,    34.1,  17.7923,  35.6831,2,  35.6932,2, 233.0641,2, 231.5037,2,     0.3,2,    0.39,2,    0.06,2,    0.10,2,   2.204,6,   1.288,6,   1.3805,6,  2066.0,2, -999.00,9,   7.9857,2, -999.00,9, -999.00,9, -999.00,  -999.0,9, -999.00,9,     -999.0,9,  -999.0,1, 20170728,      939, -32.5000,-175.7499,        0.0,1,      0.213,1,      4.564,1,      0.290,1,      25.00,     -999.0,1,     -999.0,1,     -999.0,9,     -999.0,9,    17.9152,2,       0.28,2
320620170703,        P06,      97,          1,         36,         36,2,20170728,       0941,   -32.5000,  -175.7500,       5870,     2.9,  17.8034,  35.6805,2,  35.6956,2, 233.0641,2, 231.2823,2,     0.3,2,    0.37,2,    0.06,2,    0.11,2,   2.210,2,   1.273,2,   1.3450,2,  2065.3,6, 2334.95,2,   7.9852,2, -999.00,9, -999.00,9, -999.00,  -999.0,9, -999.00,9,     -999.0,9,  -999.0,1, 20170728,      941, -32.5000,-175.7500,        0.0,1,      0.234,1,      4.555,1,      0.268,1,      25.01,     -999.0,1,     -999.0,1,     -999.0,9,     -999.0,9,    17.8663,2,       0.26,2