BOTTLE,20230922CCHSIOCBG
EXPOCODE,SECT_ID,STNNBR,CASTNO,SAMPNO,BTLNBR,BTLNBR_FLAG_W,DATE,TIME,LATITUDE,LONGITUDE,DEPTH,CTDPRS,CTDTMP,CTDSAL,CTDSAL_FLAG_W,SALNTY,SALNTY_FLAG_W,CTDOXY,CTDOXY_FLAG_W,OXYGEN,OXYGEN_FLAG_W,SILCAT,SILCAT_FLAG_W,NITRAT,NITRAT_FLAG_W,NITRIT,NITRIT_FLAG_W,PHSPHT,PHSPHT_FLAG_W,CFC-11,CFC-11_FLAG_W,CFC-12,CFC-12_FLAG_W,SF6,SF6_FLAG_W,TCARBN,TCARBN_FLAG_W,ALKALI,ALKALI_FLAG_W,PH_TOT,PH_TOT_FLAG_W,DELC13,DELC13_FLAG_W,DELC14,DELC14_FLAG_W,C14ERR,DOC,DOC_FLAG_W,TDN,TDN_FLAG_W,TON,TON_FLAG_W,D15N_NO3,D15N_NO3_FLAG_W,BTL_DATE,BTL_TIME,BTL_LAT,BTL_LON,CTDRINKO,CTDRINKO_FLAG_W,CTDFLUOR,CTDFLUOR_FLAG_W,CTDXMISS,CTDXMISS_FLAG_W,CTDBACKSCATTER,CTDBACKSCATTER_FLAG_W,PH_TMP,D18O_NO3,D18O_NO3_FLAG_W,DOP,DOP_FLAG_W,HPLC,HPLC_FLAG_W,POC,POC_FLAG_W,REFTMP,REFTMP_FLAG_W,TDP,TDP_FLAG_W
,,,,,,,,,,,METERS,DBAR,ITS-90,PSS-78,,PSS-78,,UMOL/KG,,UMOL/KG,,UMOL/KG,,UMOL/KG,,UMOL/KG,,UMOL/KG,,PMOL/KG,,PMOL/KG,,FMOL/KG,,UMOL/KG,,UMOL/KG,,,,/MILLE,,/MILLE,,/MILLE,UMOL/KG,,UMOL/KG,,UMOL/KG,,/MILLE,,,,,,VOLTS,,VOLTS,,VOLTS,,VOLTS,,DEGC,/MILLE,,UMOL/KG,,,,UG/L,,ITS-90,,UMOL/KG,
320620170703,        P06,     126,          2,          1,          1,2,20170807,       2243,   -32.4999,  -160.4581,       5520,  5619.1,   1.1531,  34.7097,2,  34.7079,3, 205.2221,2, 205.7423,2,   120.8,2,   32.22,2,    0.00,2,    2.25,2,   0.116,2,   0.072,2,   0.0000,2,  2265.5,6, 2362.25,2,   7.6066,2, -999.00,9, -999.00,9, -999.00,    41.7,2, -999.00,9,     -999.0,1,  -999.0,9, 20170807,     2005, -32.4999,-160.4583,        0.0,1,      0.061,1,      4.695,1,      0.128,1,      25.02,     -999.0,9,     -999.0,9,     -999.0,9,     -999.0,9,     1.1535,2,     -999.0,9
320620170703,        P06,     126,          2,          2,          2,2,20170807,       2243,   -32.4999,  -160.4581,       5520,  5466.3,   1.1328,  34.7099,2,  34.7058,3, 205.2221,2, 205.8355,2,   121.1,2,   32.21,2,    0.00,2,    2.23,2,   0.112,2,   0.068,2,   0.0000,2,  2265.2,2, 2364.61,2,   7.6061,2, -999.00,9, -999.00,9, -999.00,  -999.0,9, -999.00,9,     -999.0,9,  -999.0,9, 20170807,     2012, -32.5000,-160.4582,        0.0,1,      0.061,1,      4.696,1,      0.126,1,      25.01,     -999.0,9,     -999.0,9,     -999.0,9,     -999.0,9,     1.1333,2,     -999.0,9
320620170703,        P06,     126,          2,          3,          3,2,20170807,       2243,   -32.4999,  -160.4581,       5520,  5301.8,   1.1118,  34.7099,2,  34.7048,3, 205.2221,2, 205.8630,2,   122.2,2,   32.24,2,    0.00,2,    2.24,2,   0.112,2,   0.066,2,   0.0000,2,  2266.3,2, 2364.80,2,   7.6061,2, -999.00,9, -999.00,9, -999.00,  -999.0,9, -999.00,9,     -999.0,1,  -999.0,9, 20170807,     2019, -32.5000,-160.4583,        0.0,1,      0.061,1,      4.696,1,      0.128,1,      25.02,     -999.0,9,     -999.0,9,     -999.0,9,     -999.0,9,     1.1125,2,     -999.0,9
320620170703,        P06,     126,          2,          4,          4,2,20170807,       2243,   -32.4999,  -160.4581,       5520,  4889.0,   1.0835,  34.7108,2,  34.7050,2, 205.2221,2, 205.6465,2,   120.3,2,   32.22,2,    0.00,2,    2.24,2,   0.099,2,   0.063,2,   0.0000,2,  2265.5,2, 2364.94,2,   7.6066,2, -999.00,9, -999.00,9, -999.00,    42.5,2, -999.00,9,     -999.0,9,  -999.0,9, 20170807,     2032, -32.5000,-160.4582,        0.0,1,      0.061,1,      4.698,1,      0.123,1,      25.02,     -999.0,9,     -999.0,9,     -999.0,9,     -999.0,9,     1.0829,2,     -999.0,9
320620170703,        P06,     126,          2,          5,          5,2,20170807,       2243,   -32.4999,  -160.4581,       5520,  4478.8,   1.1357,  34.7140,2,  34.7093,2, 206.3729,2, 204.7100,2,   117.8,2,   32.16,2,    0.00,2,    2.24,2,   0.078,2,   0.053,2,   0.0000,2,  2263.4,2, 2362.55,2,   7.6066,2, -999.00,9, -999.00,9, -999.00,    44.1,3, -999.00,9,     -999.0,1,  -999.0,9, 20170807,     2043, -32.4999,-160.4584,        0.0,1,      0.061,1,      4.699,1,      0.124,1,      25.02,     -999.0,9,     -999.0,9,     -999.0,9,     -999.0,9,     1.1339,2,     -999.0,9
320620170703,        P06,     126,          2,          6,          6,2,20170807,       2243,   -32.4999,  -160.4581,       5520,  4065.5,   1.3485,  34.7166,2,  34.7136,2, 196.5808,2, 196.7602,2,   113.5,2,   32.21,2,    0.00,2,    2.24,2,   0.050,2,   0.035,2,   0.0000,2,  2265.9,2, 2364.31,2,   7.6036,2, -999.00,9, -999.00,9, -999.00,    38.4,2, -999.00,9,     -999.0,9,  -999.0,9, 20170807,     2051, -32.4999,-160.4579,        0.0,1,      0.061,1,      4.700,1,      0.125,1,      25.02,     -999.0,9,     -999.0,9,     -999.0,9,     -999.0,9,     1.3436,2,     -999.0,9
320620170703,        P06,     126,          2,          7,          7,2,20170807,       2243,   -32.4999,  -160.4581,       5520,  3655.1,   1.5688,  34.7030,2,  34.6965,2, 178.7542,2, 177.4022,2,   119.0,2,   33.62,2,    0.00,2,    2.34,2,   0.032,2,   0.027,2,   0.0000,2,  2287.4,2, 2379.79,2,   7.5906,2, -999.00,9, -999.00,9, -999.00,  -999.0,9, -999.00,9,     -999.0,1,  -999.0,9, 20170807,     2100, -32.4999,-160.4580,        0.0,1,      0.062,1,      4.700,1,      0.126,1,      25.01,     -999.0,9,     -999.0,9,     -999.0,9,     -999.0,9,     1.5714,2,     -999.0,9
320620170703,        P06,     126,          2,          8,          8,2,20170807,       2243,   -32.4999,  -160.4581,       5520,  3350.8,   1.6819,  34.6841,2,  34.6814,2, 163.4680,3, 161.6802,2,   127.2,2,   34.96,2,    0.00,2,    2.44,2,   0.025,2,   0.022,2,   0.0000,2,  2306.2,2, 2395.47,2,   7.5776,2, -999.00,9, -999.00,9, -999.00,    35.6,2, -999.00,9,     -999.0,1,  -999.0,9, 20170807,     2106, -32.4999,-160.4583,        0.0,1,      0.061,1,      4.700,1,      0.125,1,      25.02,     -999.0,9,     -999.0,9,     -999.0,9,     -999.0,9,     1.6772,2,     -999.0,9
320620170703,        P06,     126,          2,          9,          9,2,20170807,       2243,   -32.4999,  -160.4581,       5520,  3043.3,   1.7754,  34.6717,2,  34.6702,2, 153.2887,3, 151.6208,2,   130.7,2,   35.78,2,    0.00,2,    2.51,2,   0.026,2,   0.021,2,   0.0000,2,  2315.6,2, 2402.75,2,   7.5705,2, -999.00,9, -999.00,9, -999.00,  -999.0,9, -999.00,9,     -999.0,1,  -999.0,9, 20170807,     2113, -32.4999,-160.4578,        0.0,1,      0.061,1,      4.699,1,      0.129,1,      25.02,     -999.0,9,     -999.0,9,     -999.0,9,     -999.0,9,     1.7774,2,     -999.0,9
320620170703,        P06,     126,          2,         10,         10,2,20170807,       2243,   -32.4999,  -160.4581,       5520,  2785.0,   1.8527,  34.6638,2,  34.6614,2, 148.8754,2, 148.9478,2,   128.8,2,   36.01,2,    0.00,2,    2.52,2,   0.020,2,   0.018,2,   0.0000,2,  2317.5,2, 2400.49,6,   7.5671,2, -999.00,9, -999.00,9, -999.00,    37.2,2, -999.00,9,     -999.0,9,  -999.0,9, 20170807,     2119, -32.4999,-160.4580,        0.0,1,      0.061,1,      4.700,1,      0.130,1,      25.01,     -999.0,9,     -999.0,9,     -999.0,9,     -999.0,9,     1.8571,2,     -999.0,9
320620170703,        P06,     126,          2,         11,         11,2,20170807,       2243,   -32.4999,  -160.4581,       5520,  2532.7,   1.9373,  34.6560,2,  34.6545,2, 146.4069,2, 147.8573,2,   125.3,2,   36.05,2,    0.00,2,    2.52,2,   0.019,2,   0.020,2,   0.0000,2,  2314.7,6, 2397.48,2,   7.5649,2, -999.00,9, -999.00,9, -999.00,  -999.0,9, -999.00,9,     -999.0,1,  -999.0,9, 20170807,     2125, -32.4999,-160.4581,        0.0,1,      0.061,1,      4.700,1,      0.130,1,      25.01,     -999.0,9,     -999.0,9,     -999.0,9,     -999.0,9,     1.9588,2,     -999.0,9
320620170703,        P06,     126,          2,         12,         12,2,20170807,       2243,   -32.4999,  -160.4581,       5520,  2276.7,   2.0540,  34.6456,2,  34.6425,2, 146.0392,3, 148.0034,2,   119.9,2,   35.95,2,    0.00,2,    2.52,2,   0.020,2,   0.018,2,   0.0000,2,  2310.3,2, 2392.53,2,   7.5648,2, -999.00,9, -999.00,9, -999.00,    38.7,2, -999.00,9,     -999.0,9,  -999.0,9, 20170807,     2131, -32.4999,-160.4585,        0.0,1,      0.061,1,      4.700,1,      0.132,1,      25.02,     -999.0,9,     -999.0,9,     -999.0,9,     -999.0,9,     2.0693,2,     -999.0,9
320620170703,        P06,     126,          2,         13,         13,2,20170807,       2243,   -32.4999,  -160.4581,       5520,  2025.5,   2.2266,  34.6290,2,  34.6248,2, 148.9967,3, 151.0107,2,   110.2,2,   35.53,2,    0.00,2,    2.49,2,   0.025,2,   0.020,2,   0.0000,2,  2297.8,2, 2382.68,2,   7.5664,2, -999.00,9, -999.00,9, -999.00,    41.8,2, -999.00,9,     -999.0,1,  -999.0,9, 20170807,     2136, -32.5000,-160.4580,        0.0,1,      0.061,1,      4.700,1,      0.129,1,      25.02,     -999.0,9,     -999.0,9,     -999.0,9,     -999.0,9,     2.2450,2,     -999.0,9
320620170703,        P06,     126,          2,         14,         14,2,20170807,       2243,   -32.4999,  -160.4581,       5520,  1821.4,   2.3998,  34.6058,2,  34.6020,2, 153.0006,2, 154.4875,2,   100.2,2,   35.28,2,    0.00,2,    2.46,2,   0.022,2,   0.021,2,   0.0000,2,  2286.6,2, 2371.05,2,   7.5663,2, -999.00,9, -999.00,9, -999.00,    39.8,2, -999.00,9,     -999.0,9,  -999.0,9, 20170807,     2142, -32.5000,-160.4580,        0.0,1,      0.061,1,      4.701,1,      0.133,1,      25.02,     -999.0,9,     -999.0,9,     -999.0,9,     -999.0,9,     2.4138,2,     -999.0,9
320620170703,        P06,     126,          2,         15,         15,2,20170807,       2243,   -32.4999,  -160.4581,       5520,  1618.3,   2.6560,  34.5563,2,  34.5531,2, 159.5881,2, 161.0441,2,    84.6,2,   34.90,2,    0.00,2,    2.43,2,   0.046,2,   0.035,2,   0.0000,2,  2267.1,2, 2352.41,2,   7.5670,2, -999.00,9, -999.00,9, -999.00,    43.2,3, -999.00,9,     -999.0,1,  -999.0,9, 20170807,     2147, -32.4999,-160.4583,        0.0,1,      0.061,1,      4.701,1,      0.132,1,      25.02,     -999.0,9,     -999.0,9,     -999.0,9,     -999.0,9,     2.6638,2,     -999.0,9
320620170703,        P06,     126,          2,         16,         16,2,20170807,       2243,   -32.4999,  -160.4581,       5520,  1414.3,   3.0069,  34.4784,2,  34.4618,2, 171.4026,2, 172.4165,2,    63.8,2,   34.31,2,    0.00,2,    2.37,2,   0.156,2,   0.095,2,   0.0000,2,  2244.9,2, 2327.07,2,   7.5707,2, -999.00,9, -999.00,9, -999.00,    38.1,2, -999.00,9,     -999.0,1,  -999.0,9, 20170807,     2151, -32.4999,-160.4583,        0.0,1,      0.060,1,      4.701,1,      0.132,1,      25.03,     -999.0,9,     -999.0,9,     -999.0,9,     -999.0,9,     3.0931,2,     -999.0,9
320620170703,        P06,     126,          2,         17,         17,2,20170807,       2243,   -32.4999,  -160.4581,       5520,  1316.2,   3.3370,  34.4253,2,  34.4141,2, 179.3000,2, 178.7008,2,    54.0,2,   33.78,2,    0.00,2,    2.34,2,   0.275,2,   0.153,2,   0.0000,2,  2230.8,2, 2318.93,2,   7.5797,2, -999.00,9, -999.00,9, -999.00,    42.2,2, -999.00,9,     -999.0,9,  -999.0,9, 20170807,     2155, -32.4999,-160.4582,        0.0,1,      0.061,1,      4.701,1,      0.133,1,      25.02,     -999.0,9,     -999.0,9,     -999.0,9,     -999.0,9,     3.4076,2,     -999.0,9
320620170703,        P06,     126,          2,         18,         18,2,20170807,       2243,   -32.4999,  -160.4581,       5520,  1213.0,   3.7882,  34.3720,2,  34.3770,2, 186.6205,3, 189.5456,2,    45.7,2,   33.06,2,    0.00,2,    2.28,2,   0.482,2,   0.254,2,   0.0000,2,  2220.5,2, 2308.66,2,   7.5893,2, -999.00,9, -999.00,9, -999.00,    45.1,2, -999.00,9,     -999.0,1,  -999.0,9, 20170807,     2158, -32.4999,-160.4576,        0.0,1,      0.061,1,      4.701,1,      0.133,1,      25.03,     -999.0,9,     -999.0,9,     -999.0,9,     -999.0,9,     3.7063,2,     -999.0,9
320620170703,        P06,     126,          2,         19,         19,2,20170807,       2243,   -32.4999,  -160.4581,       5520,  1110.9,   4.3786,  34.3346,2,  34.3356,2, 199.2201,3, 197.0716,2,    33.3,2,   31.39,2,    0.00,2,    2.15,2,   0.854,2,   0.431,2,   0.0380,2,  2202.7,2, 2295.92,2,   7.6133,2, -999.00,9, -999.00,9, -999.00,    42.9,2, -999.00,9,     -999.0,9,  -999.0,9, 20170807,     2201, -32.5000,-160.4575,        0.0,1,      0.060,1,      4.700,1,      0.132,1,      25.03,     -999.0,9,     -999.0,9,     -999.0,9,     -999.0,9,     4.3399,2,     -999.0,9
320620170703,        P06,     126,          2,         20,         20,2,20170807,       2243,   -32.4999,  -160.4581,       5520,  1010.6,   4.9735,  34.3158,2,  34.3154,2, 208.2499,2, 206.7784,2,    24.7,2,   29.73,2,    0.00,2,    2.03,2,   1.280,2,   0.633,2,   0.1880,2,  2186.4,2, 2293.00,2,   7.6350,2, -999.00,9, -999.00,9, -999.00,    46.6,2, -999.00,9,     -999.0,1,  -999.0,9, 20170807,     2204, -32.5000,-160.4578,        0.0,1,      0.059,1,      4.699,1,      0.135,1,      25.03,     -999.0,9,     -999.0,9,     -999.0,9,     -999.0,9,     4.8704,2,     -999.0,9
320620170703,        P06,     126,          2,         21,         21,2,20170807,       2243,   -32.4999,  -160.4581,       5520,   907.6,   5.4913,  34.3107,2,  34.3082,2, 221.1861,2, 219.5037,2,    16.8,2,   27.49,2,    0.00,2,    1.87,2,   1.829,2,   0.919,2,   0.4010,2,  2170.9,2, 2284.35,2,   7.6619,2, -999.00,9, -999.00,9, -999.00,  -999.0,9, -999.00,9,     -999.0,9,  -999.0,9, 20170807,     2208, -32.4999,-160.4581,        0.0,1,      0.058,1,      4.699,1,      0.134,1,      25.02,     -999.0,9,     -999.0,9,     -999.0,9,     -999.0,9,     5.4868,2,     -999.0,9
320620170703,        P06,     126,          2,         22,         22,2,20170807,       2243,   -32.4999,  -160.4581,       5520,   807.8,   6.0892,  34.3236,2,  34.3235,2, 231.7758,2, 231.6019,2,    10.8,2,   25.05,2,    0.00,2,    1.70,2,   2.551,2,   1.350,2,   0.5920,2,  2155.1,2, 2279.27,2,   7.6903,2, -999.00,9, -999.00,9, -999.00,    45.8,2, -999.00,9,     -999.0,1,  -999.0,9, 20170807,     2211, -32.4999,-160.4581,        0.0,1,      0.060,1,      4.698,1,      0.135,1,      25.04,     -999.0,9,     -999.0,9,     -999.0,9,     -999.0,9,     6.1456,2,     -999.0,9
320620170703,        P06,     126,          2,         23,         23,2,20170807,       2243,   -32.4999,  -160.4581,       5520,   706.3,   6.5860,  34.3493,2,  34.3529,2, 237.1258,2, 237.0105,2,     7.9,2,   23.31,2,    0.00,2,    1.57,2,   3.075,2,   1.628,2,   0.7900,2,  2149.4,2, 2280.48,6,   7.7025,2, -999.00,9, -999.00,9, -999.00,  -999.0,9, -999.00,9,     -999.0,1,  -999.0,9, 20170807,     2215, -32.4999,-160.4580,        0.0,1,      0.059,1,      4.697,1,      0.136,1,      25.03,     -999.0,9,     -999.0,9,     -999.0,9,     -999.0,9,     6.6803,2,     -999.0,9
320620170703,        P06,     126,          2,         24,         24,2,20170807,       2243,   -32.4999,  -160.4581,       5520,   605.0,   7.1292,  34.3875,2,  34.3925,2, 239.1351,2, 238.7939,2,     6.1,2,   21.59,2,    0.00,2,    1.47,2,   3.405,2,   1.857,2,   1.3580,2,  2145.6,2, 2280.46,2,   7.7124,2, -999.00,9, -999.00,9, -999.00,    46.3,2, -999.00,9,     -999.0,1,  -999.0,9, 20170807,     2218, -32.4999,-160.4579,        0.0,1,      0.059,1,      4.697,1,      0.137,1,      25.02,     -999.0,9,     -999.0,9,     -999.0,9,     -999.0,9,     7.2098,2,     -999.0,9
320620170703,        P06,     126,          2,         25,         25,2,20170807,       2243,   -32.4999,  -160.4581,       5520,   505.0,   7.9089,  34.4588,2,  34.4496,2, 236.5933,2, 236.7564,2,     4.8,2,   19.93,2,    0.00,2,    1.37,2,   3.442,2,   1.922,2,   1.0580,2,  2142.6,6, 2280.35,2,   7.7210,2, -999.00,9, -999.00,9, -999.00,    49.0,2, -999.00,9,     -999.0,1,  -999.0,9, 20170807,     2222, -32.4999,-160.4581,        0.0,1,      0.059,1,      4.696,1,      0.134,1,      25.02,     -999.0,9,     -999.0,9,     -999.0,9,     -999.0,9,     7.8317,2,     -999.0,9
320620170703,        P06,     126,          2,         26,         26,2,20170807,       2243,   -32.4999,  -160.4581,       5520,   401.7,   9.0120,  34.5705,2,  34.5669,2, 224.2503,2, 225.4069,2,     3.5,2,   17.29,2,    0.00,2,    1.19,2,   3.179,2,   1.787,2,   1.1840,2,  2140.6,2, 2287.38,2,   7.7389,2, -999.00,9, -999.00,9, -999.00,    44.7,3, -999.00,5,     -999.0,1,  -999.0,9, 20170807,     2225, -32.4999,-160.4583,        0.0,1,      0.059,1,      4.694,1,      0.138,1,      25.01,     -999.0,9,     -999.0,9,     -999.0,9,     -999.0,9,     9.0327,2,     -999.0,9
320620170703,        P06,     126,          2,         27,         27,2,20170807,       2243,   -32.4999,  -160.4581,       5520,   354.1,  10.1233,  34.7031,2,  34.6826,2, 215.4422,2, 217.1509,2,     3.0,2,   15.33,2,    0.00,2,    1.07,2,   3.008,2,   1.744,2,   1.1960,2,  2133.8,2, 2290.09,2,   7.7557,2, -999.00,9, -999.00,9, -999.00,  -999.0,9, -999.00,9,     -999.0,9,  -999.0,9, 20170807,     2227, -32.4999,-160.4580,        0.0,1,      0.059,1,      4.692,1,      0.141,1,      25.02,     -999.0,9,     -999.0,9,     -999.0,9,     -999.0,9,    10.0909,2,     -999.0,9
320620170703,        P06,     126,          2,         28,         28,2,20170807,       2243,   -32.4999,  -160.4581,       5520,   302.0,  11.1772,  34.7974,2,  34.7587,2, 207.7465,2, 209.3246,2,     2.5,2,   13.46,2,    0.00,2,    0.97,2,   2.950,2,   1.636,2,   1.1980,2,  2120.1,2, 2293.66,2,   7.7768,2, -999.00,9, -999.00,9, -999.00,    51.8,2, -999.00,5,     -999.0,1,  -999.0,9, 20170807,     2230, -32.5000,-160.4579,        0.0,1,      0.059,1,      4.692,1,      0.137,1,      25.01,     -999.0,9,     -999.0,9,     -999.0,9,     -999.0,9,    11.0971,2,     -999.0,9
320620170703,        P06,     126,          2,         29,         29,2,20170807,       2243,   -32.4999,  -160.4581,       5520,   251.7,  12.5636,  35.0001,2,  35.0892,2, 209.1189,2, 210.8420,2,     1.6,2,    8.38,2,    0.00,2,    0.63,2,   2.587,6,   1.544,6,   1.3800,6,  2115.4,2, 2310.80,2,   7.8348,2, -999.00,9, -999.00,9, -999.00,  -999.0,9, -999.00,9,     -999.0,1,  -999.0,9, 20170807,     2232, -32.5000,-160.4579,        0.0,1,      0.060,1,      4.690,1,      0.138,1,      25.01,     -999.0,9,     -999.0,9,     -999.0,9,     -999.0,9,    13.2625,2,     -999.0,9
320620170703,        P06,     126,          2,         30,         30,2,20170807,       2243,   -32.4999,  -160.4581,       5520,   201.2,  14.2207,  35.2114,2,  35.2105,2, 210.5480,2, 210.6643,2,     1.2,2,    6.53,2,    0.02,2,    0.53,2,   2.432,2,   1.492,2,   1.4110,2,  2107.4,2, 2313.91,2,   7.8614,2, -999.00,9, -999.00,9, -999.00,    52.8,2,    9.10,2,     -999.0,1,  -999.0,9, 20170807,     2234, -32.5000,-160.4579,        0.0,1,      0.065,1,      4.687,1,      0.139,1,      25.02,     -999.0,9,     -999.0,9,     -999.0,9,     -999.0,9,    14.2408,2,     -999.0,9
320620170703,        P06,     126,          2,         31,         31,2,20170807,       2243,   -32.4999,  -160.4581,       5520,   149.3,  15.4743,  35.3417,2,  35.4281,2, 224.6436,2, 222.6994,2,     0.3,2,    2.32,2,    0.04,2,    0.24,2,   2.244,2,   1.398,2,   1.5120,2,  2085.1,2, 2327.15,2,   7.9262,2, -999.00,9, -999.00,9, -999.00,  -999.0,9, -999.00,9,     -999.0,1,  -999.0,9, 20170807,     2237, -32.4999,-160.4580,        0.0,1,      0.084,1,      4.673,1,      0.148,1,      25.02,     -999.0,9,     -999.0,9,     -999.0,9,     -999.0,9,    16.0677,2,     -999.0,9
320620170703,        P06,     126,          2,         32,         32,2,20170807,       2243,   -32.4999,  -160.4581,       5520,   101.0,  16.5768,  35.4766,2,  35.5141,2, 237.8006,3, 234.5431,2,     0.1,2,    0.42,2,    0.03,2,    0.12,2,   2.161,2,   1.344,2,   1.5780,2,  2070.3,2, 2332.49,2,   7.9633,2, -999.00,9, -999.00,9, -999.00,    54.1,2,    5.80,2,     -999.0,1,  -999.0,9, 20170807,     2239, -32.4999,-160.4581,        0.0,1,      0.150,1,      4.641,1,      0.183,1,      25.03,     -999.0,9,     -999.0,9,     -999.0,9,     -999.0,9,    16.7726,2,     -999.0,9