BOTTLE,20230922CCHSIOCBG
EXPOCODE,SECT_ID,STNNBR,CASTNO,SAMPNO,BTLNBR,BTLNBR_FLAG_W,DATE,TIME,LATITUDE,LONGITUDE,DEPTH,CTDPRS,CTDTMP,CTDSAL,CTDSAL_FLAG_W,SALNTY,SALNTY_FLAG_W,CTDOXY,CTDOXY_FLAG_W,OXYGEN,OXYGEN_FLAG_W,SILCAT,SILCAT_FLAG_W,NITRAT,NITRAT_FLAG_W,NITRIT,NITRIT_FLAG_W,PHSPHT,PHSPHT_FLAG_W,CFC-11,CFC-11_FLAG_W,CFC-12,CFC-12_FLAG_W,SF6,SF6_FLAG_W,TCARBN,TCARBN_FLAG_W,ALKALI,ALKALI_FLAG_W,PH_TOT,PH_TOT_FLAG_W,DELC13,DELC13_FLAG_W,DELC14,DELC14_FLAG_W,C14ERR,DOC,DOC_FLAG_W,TDN,TDN_FLAG_W,TON,TON_FLAG_W,D15N_NO3,D15N_NO3_FLAG_W,BTL_DATE,BTL_TIME,BTL_LAT,BTL_LON,CTDRINKO,CTDRINKO_FLAG_W,CTDFLUOR,CTDFLUOR_FLAG_W,CTDXMISS,CTDXMISS_FLAG_W,CTDBACKSCATTER,CTDBACKSCATTER_FLAG_W,PH_TMP,D18O_NO3,D18O_NO3_FLAG_W,DOP,DOP_FLAG_W,HPLC,HPLC_FLAG_W,POC,POC_FLAG_W,REFTMP,REFTMP_FLAG_W,TDP,TDP_FLAG_W
,,,,,,,,,,,METERS,DBAR,ITS-90,PSS-78,,PSS-78,,UMOL/KG,,UMOL/KG,,UMOL/KG,,UMOL/KG,,UMOL/KG,,UMOL/KG,,PMOL/KG,,PMOL/KG,,FMOL/KG,,UMOL/KG,,UMOL/KG,,,,/MILLE,,/MILLE,,/MILLE,UMOL/KG,,UMOL/KG,,UMOL/KG,,/MILLE,,,,,,VOLTS,,VOLTS,,VOLTS,,VOLTS,,DEGC,/MILLE,,UMOL/KG,,,,UG/L,,ITS-90,,UMOL/KG,
320620170703,        P06,      34,          1,          1,         37,2,20170711,       1148,   -30.0800,   162.4998,       1127,  1128.3,   5.0097,  34.4670,2,  34.4667,2, 179.1575,2, 178.8502,2,    45.0,2,   30.39,2,    0.00,2,    2.09,2,   0.658,2,   0.373,2,   0.2310,2,  2215.4,2, 2311.79,2,   7.6218,2, -999.00,9, -999.00,9, -999.00,  -999.0,9, -999.00,9,     -999.0,9,  -999.0,9, 20170711,     1101, -30.0799, 162.4998,        0.0,1,      0.061,1,      4.690,1,      0.178,1,      25.03,     -999.0,9,     -999.0,9,     -999.0,9,     -999.0,9,     5.0102,2,     -999.0,9
320620170703,        P06,      34,          1,          2,          2,2,20170711,       1148,   -30.0800,   162.4998,       1127,  1076.4,   5.3367,  34.4585,2,  34.4577,2, 184.8387,2, 185.1851,2,    38.9,2,   29.53,2,    0.00,2,    2.01,2,-999.000,9,-999.000,9,-999.0000,9,  -999.0,9, -999.00,9,-999.0000,9, -999.00,9, -999.00,9, -999.00,  -999.0,9, -999.00,9,     -999.0,9,  -999.0,9, 20170711,     1103, -30.0799, 162.4996,        0.0,1,      0.059,1,      4.705,1,      0.137,1,     -999.0,     -999.0,9,     -999.0,9,     -999.0,9,     -999.0,9,     5.3292,2,     -999.0,9
320620170703,        P06,      34,          1,          3,         38,2,20170711,       1148,   -30.0800,   162.4998,       1127,   974.8,   5.8337,  34.4551,2,  34.4532,2, 191.0726,2, 190.9053,2,    30.6,2,   28.13,2,    0.00,2,    1.93,2,   1.011,2,   0.565,2,   0.2820,2,  2191.8,2, 2299.15,2,   7.6476,2, -999.00,9, -999.00,9, -999.00,  -999.0,9, -999.00,9,     -999.0,9,  -999.0,9, 20170711,     1106, -30.0800, 162.4996,        0.0,1,      0.060,1,      4.705,1,      0.139,1,      25.03,     -999.0,9,     -999.0,9,     -999.0,9,     -999.0,9,     5.8437,2,     -999.0,9
320620170703,        P06,      34,          1,          4,          4,2,20170711,       1148,   -30.0800,   162.4998,       1127,   872.5,   6.6488,  34.4741,2,  34.4726,2, 196.9889,2, 197.3473,2,    21.4,2,   26.04,2,    0.00,2,    1.76,2,-999.000,9,-999.000,9,-999.0000,9,  -999.0,9, -999.00,9,-999.0000,9, -999.00,9, -999.00,9, -999.00,  -999.0,9, -999.00,9,     -999.0,9,  -999.0,9, 20170711,     1109, -30.0800, 162.4996,        0.0,1,      0.060,1,      4.705,1,      0.141,1,     -999.0,     -999.0,9,     -999.0,9,     -999.0,9,     -999.0,9,     6.6700,2,     -999.0,9
320620170703,        P06,      34,          1,          5,         39,2,20170711,       1148,   -30.0800,   162.4998,       1127,   770.6,   7.5237,  34.5255,2,  34.5241,2, 199.8731,2, 199.5875,2,    15.2,2,   23.93,2,    0.00,2,    1.61,2,   1.774,2,   0.987,2,   0.3970,2,  2166.4,2, 2287.25,2,   7.6871,2, -999.00,9, -999.00,9, -999.00,  -999.0,9, -999.00,9,     -999.0,9,  -999.0,9, 20170711,     1112, -30.0800, 162.4995,        0.0,1,      0.059,1,      4.703,1,      0.141,1,      25.03,     -999.0,9,     -999.0,9,     -999.0,9,     -999.0,9,     7.5499,2,     -999.0,9
320620170703,        P06,      34,          1,          6,          6,2,20170711,       1148,   -30.0800,   162.4998,       1127,   670.2,   9.1089,  34.6759,2,  34.6696,2, 200.1505,2, 200.1445,2,     9.7,2,   20.46,2,    0.01,2,    1.37,2,-999.000,9,-999.000,9,-999.0000,9,  -999.0,9, -999.00,9,-999.0000,9, -999.00,9, -999.00,9, -999.00,  -999.0,9, -999.00,9,     -999.0,9,  -999.0,9, 20170711,     1115, -30.0800, 162.4996,        0.0,1,      0.060,1,      4.701,1,      0.140,1,     -999.0,     -999.0,9,     -999.0,9,     -999.0,9,     -999.0,9,     9.1108,2,     -999.0,9
320620170703,        P06,      34,          1,          7,         40,2,20170711,       1148,   -30.0800,   162.4998,       1127,   570.5,  10.3900,  34.7996,2,  34.7885,2, 198.9262,2, 199.1962,2,     6.6,2,   17.55,2,    0.01,2,    1.19,2,   2.462,2,   1.412,2,   0.7120,2,  2143.7,2, 2287.47,2,   7.7495,2, -999.00,9, -999.00,9, -999.00,  -999.0,9, -999.00,9,     -999.0,9,  -999.0,9, 20170711,     1118, -30.0800, 162.4997,        0.0,1,      0.059,1,      4.700,1,      0.144,1,      25.03,     -999.0,9,     -999.0,9,     -999.0,9,     -999.0,9,    10.4046,2,     -999.0,9
320620170703,        P06,      34,          1,          8,          8,2,20170711,       1148,   -30.0800,   162.4998,       1127,   489.0,  12.1660,  35.0044,2,  34.9665,2, 195.3680,2, 195.5051,2,     5.0,2,   14.58,2,    0.01,2,    0.98,2,-999.000,9,-999.000,9,-999.0000,9,  -999.0,9, -999.00,9,-999.0000,9, -999.00,9, -999.00,9, -999.00,  -999.0,9, -999.00,9,     -999.0,9,  -999.0,9, 20170711,     1121, -30.0800, 162.4998,        0.0,1,      0.059,1,      4.697,1,      0.142,1,     -999.0,     -999.0,9,     -999.0,9,     -999.0,9,     -999.0,9,    11.8728,2,     -999.0,9
320620170703,        P06,      34,          1,          9,         41,2,20170711,       1148,   -30.0800,   162.4998,       1127,   437.7,  13.8168,  35.2103,2,  35.1610,2, 194.9566,2, 193.9572,2,     3.5,2,   11.57,2,    0.01,2,    0.80,2,   2.300,2,   1.402,2,   0.9540,2,  2124.0,2, 2306.15,2,   7.8254,2, -999.00,9, -999.00,9, -999.00,  -999.0,9, -999.00,9,     -999.0,9,  -999.0,9, 20170711,     1123, -30.0799, 162.4999,        0.0,1,      0.061,1,      4.696,1,      0.145,1,      25.03,     -999.0,9,     -999.0,9,     -999.0,9,     -999.0,9,    13.4812,2,     -999.0,9
320620170703,        P06,      34,          1,         10,         10,2,20170711,       1148,   -30.0800,   162.4998,       1127,   387.2,  14.8314,  35.2968,2,  35.2623,2, 192.3074,2, 192.9341,2,     2.8,2,    9.88,2,    0.01,2,    0.68,2,-999.000,9,-999.000,9,-999.0000,9,  -999.0,9, -999.00,9,-999.0000,9, -999.00,9, -999.00,9, -999.00,  -999.0,9, -999.00,9,     -999.0,9,  -999.0,9, 20170711,     1126, -30.0799, 162.4999,        0.0,1,      0.059,1,      4.695,1,      0.141,1,     -999.0,     -999.0,9,     -999.0,9,     -999.0,9,     -999.0,9,    14.5419,2,     -999.0,9
320620170703,        P06,      34,          1,         11,         42,2,20170711,       1148,   -30.0800,   162.4998,       1127,   336.9,  15.8957,  35.4130,2,  35.3871,2, 193.1732,2, 192.8190,2,     2.1,2,    8.22,2,    0.01,2,    0.59,2,   2.159,2,   1.396,2,   0.9390,2,  2108.3,2, 2313.42,2,   7.8784,2, -999.00,9, -999.00,9, -999.00,  -999.0,9, -999.00,9,     -999.0,9,  -999.0,9, 20170711,     1128, -30.0800, 162.5000,        0.0,1,      0.060,1,      4.694,1,      0.143,1,      25.02,     -999.0,9,     -999.0,9,     -999.0,9,     -999.0,9,    15.6442,2,     -999.0,9
320620170703,        P06,      34,          1,         12,         12,2,20170711,       1148,   -30.0800,   162.4998,       1127,   286.4,  16.8566,  35.5048,2,  35.4965,2, 193.7035,2, 193.5682,2,     1.6,2,    6.51,2,    0.01,2,    0.47,2,-999.000,9,-999.000,9,-999.0000,9,  -999.0,9, -999.00,9,-999.0000,9, -999.00,9, -999.00,9, -999.00,  -999.0,9, -999.00,9,     -999.0,9,  -999.0,9, 20170711,     1130, -30.0800, 162.5001,        0.0,1,      0.060,1,      4.694,1,      0.144,1,     -999.0,     -999.0,9,     -999.0,9,     -999.0,9,     -999.0,9,    16.7699,2,     -999.0,9
320620170703,        P06,      34,          1,         13,         43,2,20170711,       1148,   -30.0800,   162.4998,       1127,   241.2,  18.1134,  35.6158,2,  35.6182,2, 194.4547,2, 195.7878,2,     0.9,2,    4.69,2,    0.02,2,    0.35,2,   1.939,2,   1.286,2,   1.0270,2,  2086.1,2, 2326.53,2,   7.9401,2, -999.00,9, -999.00,9, -999.00,  -999.0,9, -999.00,9,     -999.0,9,  -999.0,9, 20170711,     1132, -30.0800, 162.5002,        0.0,1,      0.059,1,      4.691,1,      0.144,1,      25.04,     -999.0,9,     -999.0,9,     -999.0,9,     -999.0,9,    18.1337,2,     -999.0,9
320620170703,        P06,      34,          1,         14,         14,2,20170711,       1148,   -30.0800,   162.4998,       1127,   216.2,  18.3836,  35.6374,2,  35.6455,2, 194.1593,2, 194.1389,2,     0.8,2,    4.50,2,    0.02,2,    0.33,2,-999.000,9,-999.000,9,-999.0000,9,  -999.0,9, -999.00,9,-999.0000,9, -999.00,9, -999.00,9, -999.00,  -999.0,9, -999.00,9,     -999.0,9,  -999.0,9, 20170711,     1134, -30.0800, 162.5002,        0.0,1,      0.060,1,      4.689,1,      0.147,1,     -999.0,     -999.0,9,     -999.0,9,     -999.0,9,     -999.0,9,    18.5102,2,     -999.0,9
320620170703,        P06,      34,          1,         15,         15,2,20170711,       1148,   -30.0800,   162.4998,       1127,   190.8,  18.9852,  35.6870,2,  35.8090,2, 216.9706,2, 216.5640,2,     0.2,2,    0.80,2,    0.23,2,    0.12,2,   1.767,2,   1.210,2,   1.1120,2,  2056.9,2, 2330.72,2,   8.0099,2, -999.00,9, -999.00,9, -999.00,  -999.0,9, -999.00,9,     -999.0,9,  -999.0,9, 20170711,     1136, -30.0800, 162.5002,        0.0,1,      0.062,1,      4.684,1,      0.154,1,      25.02,     -999.0,9,     -999.0,9,     -999.0,9,     -999.0,9,    19.9128,2,     -999.0,9
320620170703,        P06,      34,          1,         16,         16,2,20170711,       1148,   -30.0800,   162.4998,       1127,   165.5,  20.0331,  35.8257,2,  35.8386,2, 220.5105,2, 220.2849,2,     0.2,2,    0.33,2,    0.21,2,    0.08,2,-999.000,9,-999.000,9,-999.0000,9,  -999.0,9, -999.00,9,-999.0000,9, -999.00,9, -999.00,9, -999.00,  -999.0,9, -999.00,9,     -999.0,9,  -999.0,9, 20170711,     1137, -30.0800, 162.5001,        0.0,1,      0.110,1,      4.660,1,      0.179,1,     -999.0,     -999.0,9,     -999.0,9,     -999.0,9,     -999.0,9,    20.1360,2,     -999.0,9
320620170703,        P06,      34,          1,         17,         17,2,20170711,       1148,   -30.0800,   162.4998,       1127,   140.1,  20.1361,  35.8394,2,  35.8396,2, 220.7035,2, 220.4418,2,     0.4,2,    0.32,2,    0.21,2,    0.07,2,   1.752,2,   1.196,2,   1.0550,2,  2052.6,2, 2337.04,2,   8.0202,2, -999.00,9, -999.00,9, -999.00,  -999.0,9, -999.00,9,     -999.0,9,  -999.0,9, 20170711,     1139, -30.0800, 162.5000,        0.0,1,      0.154,1,      4.643,1,      0.199,1,      25.03,     -999.0,9,     -999.0,9,     -999.0,9,     -999.0,9,    20.1351,2,     -999.0,9
320620170703,        P06,      34,          1,         18,         18,2,20170711,       1148,   -30.0800,   162.4998,       1127,   115.3,  20.1453,  35.8419,2,  35.8406,2, 220.6454,2, 221.0425,2,     0.2,2,    0.30,2,    0.20,2,    0.09,2,-999.000,9,-999.000,9,-999.0000,9,  -999.0,9, -999.00,9,-999.0000,9, -999.00,9, -999.00,9, -999.00,  -999.0,9, -999.00,9,     -999.0,9,  -999.0,9, 20170711,     1141, -30.0800, 162.5000,        0.0,1,      0.167,1,      4.632,1,      0.229,1,     -999.0,     -999.0,9,     -999.0,9,     -999.0,9,     -999.0,9,    20.1332,2,     -999.0,9
320620170703,        P06,      34,          1,         19,         19,2,20170711,       1148,   -30.0800,   162.4998,       1127,    90.5,  20.1493,  35.8436,2,  35.8453,2, 220.6588,2, 220.8895,2,     0.2,2,    0.29,2,    0.19,2,    0.09,2,   1.790,2,   1.175,2,   1.1280,2,  2052.4,2, 2340.27,2,   8.0217,2, -999.00,9, -999.00,9, -999.00,  -999.0,9, -999.00,9,     -999.0,9,  -999.0,9, 20170711,     1142, -30.0800, 162.4999,        0.0,1,      0.176,1,      4.626,1,      0.199,1,      25.07,     -999.0,9,     -999.0,9,     -999.0,9,     -999.0,9,    20.1318,2,     -999.0,9
320620170703,        P06,      34,          1,         20,         20,2,20170711,       1148,   -30.0800,   162.4998,       1127,    64.7,  20.1618,  35.8464,2,  35.8483,2, 222.0105,2, 221.4926,2,     0.2,2,    0.23,2,    0.15,2,    0.07,2,-999.000,9,-999.000,9,-999.0000,9,  -999.0,9, -999.00,9,-999.0000,9, -999.00,9, -999.00,9, -999.00,  -999.0,9, -999.00,9,     -999.0,9,  -999.0,9, 20170711,     1144, -30.0800, 162.4999,        0.0,1,      0.195,1,      4.620,1,      0.201,1,     -999.0,     -999.0,9,     -999.0,9,     -999.0,9,     -999.0,9,    20.1801,2,     -999.0,9
320620170703,        P06,      34,          1,         21,         21,2,20170711,       1148,   -30.0800,   162.4998,       1127,    40.4,  20.2002,  35.8525,2,  35.8512,2, 221.9920,2, 221.8813,2,     0.2,2,    0.22,2,    0.13,2,    0.08,2,   1.748,2,   1.184,2,   1.0680,2,  2051.1,2, 2334.54,3,   8.0238,2, -999.00,9, -999.00,9, -999.00,  -999.0,9, -999.00,9,     -999.0,9,  -999.0,9, 20170711,     1145, -30.0800, 162.4999,        0.0,1,      0.199,1,      4.609,1,      0.206,1,      25.15,     -999.0,9,     -999.0,9,     -999.0,9,     -999.0,9,    20.1992,2,     -999.0,9
320620170703,        P06,      34,          1,         22,         22,2,20170711,       1148,   -30.0800,   162.4998,       1127,    20.9,  20.2322,  35.8557,2,  35.8574,2, 222.2038,2, 221.7184,2,     0.2,2,    0.20,2,    0.10,2,    0.08,2,-999.000,9,-999.000,9,-999.0000,9,  -999.0,9, -999.00,9,-999.0000,9, -999.00,9, -999.00,9, -999.00,  -999.0,9, -999.00,9,     -999.0,9,  -999.0,9, 20170711,     1147, -30.0800, 162.4998,        0.0,1,      0.194,1,      4.609,1,      0.207,1,     -999.0,     -999.0,9,     -999.0,9,     -999.0,9,     -999.0,9,    20.2294,2,     -999.0,9
320620170703,        P06,      34,          1,         23,         23,2,20170711,       1148,   -30.0800,   162.4998,       1127,     4.2,  20.2270,  35.8560,2,  35.8568,2, 222.6739,2, 221.8469,2,     0.2,2,    0.20,2,    0.10,2,    0.10,2,   1.775,2,   1.174,2,   1.1570,2,  2051.3,6, 2381.53,2,   8.0241,2, -999.00,9, -999.00,9, -999.00,  -999.0,9, -999.00,9,     -999.0,9,  -999.0,9, 20170711,     1148, -30.0800, 162.4998,        0.0,1,      0.204,1,      4.611,1,      0.199,1,      24.93,     -999.0,9,     -999.0,9,     -999.0,9,     -999.0,9,    20.2143,2,     -999.0,9