BOTTLE,20230922CCHSIOCBG
EXPOCODE,SECT_ID,STNNBR,CASTNO,SAMPNO,BTLNBR,BTLNBR_FLAG_W,DATE,TIME,LATITUDE,LONGITUDE,DEPTH,CTDPRS,CTDTMP,CTDSAL,CTDSAL_FLAG_W,SALNTY,SALNTY_FLAG_W,CTDOXY,CTDOXY_FLAG_W,OXYGEN,OXYGEN_FLAG_W,SILCAT,SILCAT_FLAG_W,NITRAT,NITRAT_FLAG_W,NITRIT,NITRIT_FLAG_W,PHSPHT,PHSPHT_FLAG_W,CFC-11,CFC-11_FLAG_W,CFC-12,CFC-12_FLAG_W,SF6,SF6_FLAG_W,TCARBN,TCARBN_FLAG_W,ALKALI,ALKALI_FLAG_W,PH_TOT,PH_TOT_FLAG_W,DELC13,DELC13_FLAG_W,DELC14,DELC14_FLAG_W,C14ERR,DOC,DOC_FLAG_W,TDN,TDN_FLAG_W,TON,TON_FLAG_W,D15N_NO3,D15N_NO3_FLAG_W,BTL_DATE,BTL_TIME,BTL_LAT,BTL_LON,CTDRINKO,CTDRINKO_FLAG_W,CTDFLUOR,CTDFLUOR_FLAG_W,CTDXMISS,CTDXMISS_FLAG_W,CTDBACKSCATTER,CTDBACKSCATTER_FLAG_W,PH_TMP,D18O_NO3,D18O_NO3_FLAG_W,DOP,DOP_FLAG_W,HPLC,HPLC_FLAG_W,POC,POC_FLAG_W,REFTMP,REFTMP_FLAG_W,TDP,TDP_FLAG_W
,,,,,,,,,,,METERS,DBAR,ITS-90,PSS-78,,PSS-78,,UMOL/KG,,UMOL/KG,,UMOL/KG,,UMOL/KG,,UMOL/KG,,UMOL/KG,,PMOL/KG,,PMOL/KG,,FMOL/KG,,UMOL/KG,,UMOL/KG,,,,/MILLE,,/MILLE,,/MILLE,UMOL/KG,,UMOL/KG,,UMOL/KG,,/MILLE,,,,,,VOLTS,,VOLTS,,VOLTS,,VOLTS,,DEGC,/MILLE,,UMOL/KG,,,,UG/L,,ITS-90,,UMOL/KG,
320620170703,        P06,      86,          1,         33,         33,2,20170725,       1801,   -32.5003,  -179.4984,       3150,    64.5,  16.8467,  35.5782,2,  35.5843,2, 234.6908,2, 234.1376,2,     0.7,2,    0.71,2,    0.18,2,    0.15,2,   2.391,2,   1.349,2,   1.4260,2,  2071.4,2, 2332.49,2,   7.9649,2, -999.00,9, -999.00,9, -999.00,    62.5,3,    4.80,2,     -999.0,1,  -999.0,9, 20170725,     1756, -32.5001,-179.4986,        0.0,1,      0.141,1,      4.632,1,      0.229,1,      25.00,     -999.0,9,     -999.0,9,     -999.0,9,     -999.0,9,    16.8904,2,     -999.0,9
320620170703,        P06,      86,          1,         34,         34,2,20170725,       1801,   -32.5003,  -179.4984,       3150,    39.5,  16.9699,  35.5987,2,  35.6032,2, 234.5982,2, 234.7297,2,     0.6,2,    0.76,2,    0.18,2,    0.16,2,-999.000,9,-999.000,9,-999.0000,9,  -999.0,9, -999.00,9,-999.0000,9, -999.00,9, -999.00,9, -999.00,    56.7,2,    5.10,2,     -999.0,1,  -999.0,9, 20170725,     1758, -32.5002,-179.4985,        0.0,1,      0.196,1,      4.605,1,      0.250,1,     -999.0,     -999.0,9,     -999.0,9,     -999.0,9,     -999.0,9,    16.9867,2,     -999.0,9
320620170703,        P06,      86,          1,         35,         35,2,20170725,       1801,   -32.5003,  -179.4984,       3150,    19.6,  16.9453,  35.5872,2,  35.5973,2, 234.1210,2, 235.4041,2,     0.7,2,    0.74,2,    0.17,2,    0.16,2,   2.338,2,   1.318,2,   1.5260,2,  2070.1,2, 2336.16,2,   7.9689,2, -999.00,9, -999.00,9, -999.00,    58.2,2,    4.80,2,     -999.0,1,  -999.0,9, 20170725,     1759, -32.5003,-179.4984,        0.0,1,      0.197,1,      4.596,1,      0.252,1,      25.00,     -999.0,9,     -999.0,9,     -999.0,9,     -999.0,9,    16.9542,2,     -999.0,9
320620170703,        P06,      86,          1,         36,         36,2,20170725,       1801,   -32.5003,  -179.4984,       3150,     4.8,  16.9440,  35.5880,2,  35.5969,2, 234.7091,2, 235.3087,2,     0.7,2,    0.74,2,    0.17,2,    0.16,2,   2.343,2,   1.314,2,   1.4860,2,  2071.8,6, 2333.39,2,   7.9681,2, -999.00,9, -999.00,9, -999.00,    58.6,2,    5.70,2,     -999.0,1,  -999.0,9, 20170725,     1801, -32.5003,-179.4984,        0.0,1,      0.198,1,      4.593,1,      0.246,1,      25.00,     -999.0,9,     -999.0,9,     -999.0,9,     -999.0,9,    16.9519,2,     -999.0,9
320620170703,        P06,      87,          1,          1,          1,2,20170725,       2047,   -32.4999,  -179.2502,        624,   620.4,   7.9584,  34.5140,2,  34.5168,2, 217.7515,2, 217.8147,2,     8.7,2,   21.29,2,    0.00,2,    1.46,2,   2.951,2,   1.458,2,   0.7520,2,  2149.8,2, 2283.56,6,   7.7123,2, -999.00,9, -999.00,9, -999.00,  -999.0,9, -999.00,9,     -999.0,9,  -999.0,9, 20170725,     2015, -32.5000,-179.2501,        0.0,1,      0.059,1,      4.696,1,      0.146,1,      25.00,     -999.0,9,     -999.0,9,     -999.0,9,     -999.0,9,     7.9634,2,     -999.0,9
320620170703,        P06,      87,          1,          2,          2,2,20170725,       2047,   -32.4999,  -179.2502,        624,   559.4,   8.6173,  34.5864,2,  34.5842,2, 215.2356,2, 215.3946,2,     7.6,2,   19.96,2,    0.00,2,    1.37,2,-999.000,9,-999.000,9,-999.0000,9,  -999.0,9, -999.00,9,-999.0000,9, -999.00,9, -999.00,9, -999.00,  -999.0,9, -999.00,9,     -999.0,9,  -999.0,9, 20170725,     2017, -32.5000,-179.2500,        0.0,1,      0.060,1,      4.696,1,      0.150,1,     -999.0,     -999.0,9,     -999.0,9,     -999.0,9,     -999.0,9,     8.6164,2,     -999.0,9
320620170703,        P06,      87,          1,          3,          3,2,20170725,       2047,   -32.4999,  -179.2502,        624,   504.9,   8.8636,  34.6143,2,  34.6221,2, 214.2328,2, 213.6412,2,     7.1,2,   19.25,2,    0.00,2,    1.33,2,-999.000,9,-999.000,9,-999.0000,9,  2146.0,2, 2287.38,2,   7.7303,2, -999.00,9, -999.00,9, -999.00,  -999.0,9, -999.00,9,     -999.0,9,  -999.0,9, 20170725,     2019, -32.5000,-179.2500,        0.0,1,      0.059,1,      4.695,1,      0.148,1,      24.99,     -999.0,9,     -999.0,9,     -999.0,9,     -999.0,9,     8.9312,2,     -999.0,9
320620170703,        P06,      87,          1,          4,          4,2,20170725,       2047,   -32.4999,  -179.2502,        624,   452.8,   9.4586,  34.6855,2,  34.6704,2, 211.6661,2, 212.0077,2,     6.5,2,   18.39,2,    0.00,2,    1.27,2,   3.011,2,   1.549,2,   0.8380,2,  -999.0,9, -999.00,9,-999.0000,9, -999.00,9, -999.00,9, -999.00,  -999.0,9, -999.00,9,     -999.0,9,  -999.0,9, 20170725,     2021, -32.5000,-179.2500,        0.0,1,      0.059,1,      4.693,1,      0.149,1,     -999.0,     -999.0,9,     -999.0,9,     -999.0,9,     -999.0,9,     9.3528,2,     -999.0,9
320620170703,        P06,      87,          1,          5,          5,2,20170725,       2047,   -32.4999,  -179.2502,        624,   402.3,  11.3213,  34.9151,2,  34.9166,2, 209.2520,2, 209.0975,2,     4.5,2,   13.91,2,    0.00,2,    0.99,2,-999.000,9,-999.000,9,-999.0000,9,  2132.9,2, 2298.48,2,   7.7841,2, -999.00,9, -999.00,9, -999.00,  -999.0,9, -999.00,9,     -999.0,9,  -999.0,9, 20170725,     2023, -32.5000,-179.2500,        0.0,1,      0.061,1,      4.690,1,      0.147,1,      25.00,     -999.0,9,     -999.0,9,     -999.0,9,     -999.0,9,    11.3223,2,     -999.0,9
320620170703,        P06,      87,          1,          6,          6,2,20170725,       2047,   -32.4999,  -179.2502,        624,   351.8,  11.3351,  34.9186,2,  34.9231,2, 209.1795,2, 209.1539,2,     4.5,2,   13.77,2,    0.00,2,    0.97,2,-999.000,9,-999.000,9,-999.0000,9,  -999.0,9, -999.00,9,-999.0000,9, -999.00,9, -999.00,9, -999.00,  -999.0,9, -999.00,9,     -999.0,9,  -999.0,9, 20170725,     2025, -32.5000,-179.2500,        0.0,1,      0.060,1,      4.691,1,      0.151,1,     -999.0,     -999.0,9,     -999.0,9,     -999.0,9,     -999.0,9,    11.3618,2,     -999.0,9
320620170703,        P06,      87,          1,          7,          7,2,20170725,       2047,   -32.4999,  -179.2502,        624,   303.2,  11.6055,  34.9553,2,  34.9581,2, 209.1401,2, 209.6774,2,     4.0,2,   12.99,2,    0.00,2,    0.92,2,   2.852,2,   1.556,2,   1.2380,2,  2130.7,2, 2294.21,2,   7.7901,2, -999.00,9, -999.00,9, -999.00,  -999.0,9, -999.00,9,     -999.0,9,  -999.0,9, 20170725,     2027, -32.5001,-179.2499,        0.0,1,      0.059,1,      4.690,1,      0.146,1,      24.99,     -999.0,9,     -999.0,9,     -999.0,9,     -999.0,9,    11.6313,2,     -999.0,9
320620170703,        P06,      87,          1,          8,          8,2,20170725,       2047,   -32.4999,  -179.2502,        624,   251.1,  12.1592,  35.0325,2,  34.9994,2, 210.4389,2, 210.4855,2,     3.7,2,   12.11,2,    0.00,2,    0.86,2,-999.000,9,-999.000,9,-999.0000,9,  -999.0,9, -999.00,9,-999.0000,9, -999.00,9, -999.00,9, -999.00,  -999.0,9, -999.00,9,     -999.0,9,  -999.0,9, 20170725,     2029, -32.5001,-179.2499,        0.0,1,      0.061,1,      4.689,1,      0.152,1,     -999.0,     -999.0,9,     -999.0,9,     -999.0,9,     -999.0,9,    11.9279,2,     -999.0,9
320620170703,        P06,      87,          1,          9,          9,2,20170725,       2047,   -32.4999,  -179.2502,        624,   226.5,  13.1319,  35.1452,2,  35.0693,2, 210.3302,2, 209.7818,2,     3.5,2,   11.20,2,    0.00,2,    0.80,2,-999.000,9,-999.000,9,-999.0000,9,  2124.7,2, 2303.78,2,   7.8151,2, -999.00,9, -999.00,9, -999.00,  -999.0,9, -999.00,9,     -999.0,9,  -999.0,9, 20170725,     2031, -32.5001,-179.2499,        0.0,1,      0.062,1,      4.687,1,      0.153,1,      24.99,     -999.0,9,     -999.0,9,     -999.0,9,     -999.0,9,    12.4413,2,     -999.0,9
320620170703,        P06,      87,          1,         10,         10,2,20170725,       2047,   -32.4999,  -179.2502,        624,   201.3,  13.4645,  35.1914,2,  35.1224,2, 209.4858,2, 209.5463,2,     3.2,2,   10.37,2,    0.02,2,    0.74,2,   2.776,2,   1.521,2,   1.2570,2,  -999.0,9, -999.00,9,-999.0000,9, -999.00,9, -999.00,9, -999.00,  -999.0,9, -999.00,9,     -999.0,9,  -999.0,9, 20170725,     2032, -32.5000,-179.2500,        0.0,1,      0.061,1,      4.687,1,      0.154,1,     -999.0,     -999.0,9,     -999.0,9,     -999.0,9,     -999.0,9,    12.9873,2,     -999.0,9
320620170703,        P06,      87,          1,         11,         11,2,20170725,       2047,   -32.4999,  -179.2502,        624,   175.4,  14.1696,  35.2742,2,  35.1715,2, 208.8134,2, 208.6601,2,     2.8,2,    9.51,2,    0.01,2,    0.69,2,-999.000,9,-999.000,9,-999.0000,9,  2120.8,2, 2310.85,2,   7.8342,2, -999.00,9, -999.00,9, -999.00,  -999.0,9, -999.00,9,     -999.0,9,  -999.0,9, 20170725,     2034, -32.5000,-179.2500,        0.0,1,      0.065,1,      4.684,1,      0.158,1,      25.00,     -999.0,9,     -999.0,9,     -999.0,9,     -999.0,9,    13.3109,2,     -999.0,9
320620170703,        P06,      87,          1,         12,         12,2,20170725,       2047,   -32.4999,  -179.2502,        624,   150.4,  15.0707,  35.3698,2,  35.2420,2, 210.1632,2, 210.5864,2,     2.3,2,    8.18,2,    0.02,2,    0.61,2,-999.000,9,-999.000,9,-999.0000,9,  -999.0,9, -999.00,9,-999.0000,9, -999.00,9, -999.00,9, -999.00,  -999.0,9, -999.00,9,     -999.0,9,  -999.0,9, 20170725,     2036, -32.5000,-179.2501,        0.0,1,      0.068,1,      4.678,1,      0.170,1,     -999.0,     -999.0,9,     -999.0,9,     -999.0,9,     -999.0,9,    13.9130,2,     -999.0,9
320620170703,        P06,      87,          1,         13,         13,2,20170725,       2047,   -32.4999,  -179.2502,        624,   126.4,  15.4540,  35.4118,2,  35.3928,2, 211.4200,2, 211.7847,2,     1.8,2,    5.96,2,    0.04,2,    0.47,2,   2.587,2,   1.443,2,   1.4410,2,  2103.3,2, 2321.51,2,   7.8884,2, -999.00,9, -999.00,9, -999.00,  -999.0,9, -999.00,9,     -999.0,9,  -999.0,9, 20170725,     2037, -32.4999,-179.2502,        0.0,1,      0.073,1,      4.677,1,      0.171,1,      24.99,     -999.0,9,     -999.0,9,     -999.0,9,     -999.0,9,    15.2943,2,     -999.0,9
320620170703,        P06,      87,          1,         14,         14,2,20170725,       2047,   -32.4999,  -179.2502,        624,   101.3,  16.0248,  35.4770,2,  35.4748,2, 220.3508,2, 218.8993,2,     1.2,2,    3.94,2,    0.10,2,    0.33,2,-999.000,9,-999.000,9,-999.0000,9,  -999.0,9, -999.00,9,-999.0000,9, -999.00,9, -999.00,9, -999.00,  -999.0,9, -999.00,9,     -999.0,9,  -999.0,9, 20170725,     2039, -32.4999,-179.2502,        0.0,1,      0.092,1,      4.663,1,      0.188,1,     -999.0,     -999.0,9,     -999.0,9,     -999.0,9,     -999.0,9,    16.0670,2,     -999.0,9
320620170703,        P06,      87,          1,         15,         15,2,20170725,       2047,   -32.4999,  -179.2502,        624,    74.4,  16.5030,  35.5350,2,  35.5480,2, 231.7121,2, 231.2001,2,     0.7,2,    1.70,2,    0.14,2,    0.21,2,-999.000,9,-999.000,9,-999.0000,9,  2079.3,2, 2330.45,2,   7.9523,2, -999.00,9, -999.00,9, -999.00,  -999.0,9, -999.00,9,     -999.0,9,  -999.0,9, 20170725,     2041, -32.4999,-179.2502,        0.0,1,      0.141,1,      4.633,1,      0.229,1,      24.99,     -999.0,9,     -999.0,9,     -999.0,9,     -999.0,9,    16.5852,2,     -999.0,9
320620170703,        P06,      87,          1,         16,         16,2,20170725,       2047,   -32.4999,  -179.2502,        624,    49.9,  16.6933,  35.5588,2,  35.5628,2, 233.9255,2, 234.5444,2,     0.6,2,    1.19,2,    0.13,2,    0.17,2,   2.434,2,   1.357,2,   1.5030,2,  -999.0,9, -999.00,9,-999.0000,9, -999.00,9, -999.00,9, -999.00,  -999.0,9, -999.00,9,     -999.0,9,  -999.0,9, 20170725,     2043, -32.4999,-179.2502,        0.0,1,      0.191,1,      4.598,1,      0.259,1,     -999.0,     -999.0,9,     -999.0,9,     -999.0,9,     -999.0,9,    16.7086,2,     -999.0,9
320620170703,        P06,      87,          1,         17,         17,2,20170725,       2047,   -32.4999,  -179.2502,        624,    24.9,  16.7274,  35.5633,2,  35.5652,2, 234.1078,2, 235.1367,2,     0.6,2,    1.03,2,    0.13,2,    0.18,2,-999.000,9,-999.000,9,-999.0000,9,  2075.9,2, 2331.77,2,   7.9616,2, -999.00,9, -999.00,9, -999.00,  -999.0,9, -999.00,9,     -999.0,9,  -999.0,9, 20170725,     2045, -32.4999,-179.2502,        0.0,1,      0.208,1,      4.587,1,      0.265,1,      24.99,     -999.0,9,     -999.0,9,     -999.0,9,     -999.0,9,    16.7220,2,     -999.0,9
320620170703,        P06,      87,          1,         18,         18,2,20170725,       2047,   -32.4999,  -179.2502,        624,     5.8,  16.7353,  35.5639,2,  35.5663,2, 234.5256,2, 235.3296,2,     0.6,2,    1.03,2,    0.12,2,    0.18,2,   2.435,2,   1.353,2,   1.4780,2,  2076.4,6, 2331.83,2,   7.9617,2,    0.78,2,   49.77,2,    4.35,  -999.0,9, -999.00,9,     -999.0,9,  -999.0,9, 20170725,     2047, -32.4999,-179.2502,        0.0,1,      0.194,1,      4.579,1,      0.269,1,      24.98,     -999.0,9,     -999.0,9,     -999.0,9,     -999.0,9,    16.7223,2,     -999.0,9