BOTTLE,20230922CCHSIOCBG
EXPOCODE,SECT_ID,STNNBR,CASTNO,SAMPNO,BTLNBR,BTLNBR_FLAG_W,DATE,TIME,LATITUDE,LONGITUDE,DEPTH,CTDPRS,CTDTMP,CTDSAL,CTDSAL_FLAG_W,SALNTY,SALNTY_FLAG_W,CTDOXY,CTDOXY_FLAG_W,OXYGEN,OXYGEN_FLAG_W,SILCAT,SILCAT_FLAG_W,NITRAT,NITRAT_FLAG_W,NITRIT,NITRIT_FLAG_W,PHSPHT,PHSPHT_FLAG_W,CFC-11,CFC-11_FLAG_W,CFC-12,CFC-12_FLAG_W,SF6,SF6_FLAG_W,TCARBN,TCARBN_FLAG_W,ALKALI,ALKALI_FLAG_W,PH_TOT,PH_TOT_FLAG_W,DELC13,DELC13_FLAG_W,DELC14,DELC14_FLAG_W,C14ERR,DOC,DOC_FLAG_W,TDN,TDN_FLAG_W,TON,TON_FLAG_W,D15N_NO3,D15N_NO3_FLAG_W,BTL_DATE,BTL_TIME,BTL_LAT,BTL_LON,CTDRINKO,CTDRINKO_FLAG_W,CTDFLUOR,CTDFLUOR_FLAG_W,CTDXMISS,CTDXMISS_FLAG_W,CTDBACKSCATTER,CTDBACKSCATTER_FLAG_W,PH_TMP,D18O_NO3,D18O_NO3_FLAG_W,DOP,DOP_FLAG_W,HPLC,HPLC_FLAG_W,POC,POC_FLAG_W,REFTMP,REFTMP_FLAG_W,TDP,TDP_FLAG_W
,,,,,,,,,,,METERS,DBAR,ITS-90,PSS-78,,PSS-78,,UMOL/KG,,UMOL/KG,,UMOL/KG,,UMOL/KG,,UMOL/KG,,UMOL/KG,,PMOL/KG,,PMOL/KG,,FMOL/KG,,UMOL/KG,,UMOL/KG,,,,/MILLE,,/MILLE,,/MILLE,UMOL/KG,,UMOL/KG,,UMOL/KG,,/MILLE,,,,,,VOLTS,,VOLTS,,VOLTS,,VOLTS,,DEGC,/MILLE,,UMOL/KG,,,,UG/L,,ITS-90,,UMOL/KG,
320620170703,        P06,      18,          1,          1,         37,2,20170708,       1124,   -30.0799,   156.9200,       4862,  4941.4,   1.2512,  34.7136,2,  34.7131,2, 195.9913,2, 195.6485,2,   118.3,2,   32.57,2,    0.00,2,    2.25,2,   0.072,4,   0.040,2,   0.0000,2,  2279.2,6, 2382.35,2,   7.6174,2, -999.00,9, -999.00,9, -999.00,    41.7,2, -999.00,9,     -999.0,1,  -999.0,9, 20170708,      911, -30.0800, 156.9201,        0.0,1,      0.061,1,      4.695,1,      0.152,1,      25.03,     -999.0,9,     -999.0,9,     -999.0,9,     -999.0,9,     1.2515,2,     -999.0,9
320620170703,        P06,      18,          1,          2,          2,2,20170708,       1124,   -30.0799,   156.9200,       4862,  4816.2,   1.2379,  34.7138,2,  34.7125,2, 195.9913,2, 196.3220,2,   118.0,2,   32.60,2,    0.00,2,    2.26,2,   0.042,2,   0.042,2,   0.0000,2,  2279.5,2, 2382.61,2,   7.6166,2, -999.00,9, -999.00,9, -999.00,  -999.0,9, -999.00,9,     -999.0,9,  -999.0,9, 20170708,      916, -30.0800, 156.9201,        0.0,1,      0.061,1,      4.698,1,      0.147,1,      25.03,     -999.0,9,     -999.0,9,     -999.0,9,     -999.0,9,     1.2380,2,     -999.0,9
320620170703,        P06,      18,          1,          3,         38,2,20170708,       1124,   -30.0799,   156.9200,       4862,  4683.1,   1.2259,  34.7142,2,  34.7131,2, 195.9913,2, 196.0147,2,   117.9,2,   32.56,2,    0.00,2,    2.24,2,   0.036,2,   0.041,2,   0.0000,2,  2279.5,2, 2378.91,2,   7.6165,2, -999.00,9, -999.00,9, -999.00,    39.4,2, -999.00,9,     -999.0,1,  -999.0,9, 20170708,      921, -30.0800, 156.9201,        0.0,1,      0.061,1,      4.701,1,      0.142,1,      25.02,     -999.0,9,     -999.0,9,     -999.0,9,     -999.0,9,     1.2264,2,     -999.0,9
320620170703,        P06,      18,          1,          4,          4,2,20170708,       1124,   -30.0799,   156.9200,       4862,  4373.2,   1.2040,  34.7146,2,  34.7136,2, 195.9913,2, 195.8218,2,   117.7,2,   32.52,2,    0.00,2,    2.25,2,   0.029,2,   0.036,2,   0.0000,2,  2279.1,2, 2380.06,2,   7.6156,2, -999.00,9, -999.00,9, -999.00,  -999.0,9, -999.00,9,     -999.0,9,  -999.0,9, 20170708,      929, -30.0801, 156.9202,        0.0,1,      0.063,1,      4.703,1,      0.137,1,      25.04,     -999.0,9,     -999.0,9,     -999.0,9,     -999.0,9,     1.2040,2,     -999.0,9
320620170703,        P06,      18,          1,          5,         39,2,20170708,       1124,   -30.0799,   156.9200,       4862,  4066.4,   1.1948,  34.7153,2,  34.7142,2, 195.9913,2, 196.3724,2,   116.8,2,   32.43,2,    0.00,2,    2.23,2,   0.026,2,   0.037,2,   0.0000,2,  2278.3,2, 2377.65,2,   7.6143,2, -999.00,9, -999.00,9, -999.00,  -999.0,9, -999.00,9,     -999.0,9,  -999.0,9, 20170708,      936, -30.0802, 156.9203,        0.0,1,      0.061,1,      4.705,1,      0.136,1,      25.03,     -999.0,9,     -999.0,9,     -999.0,9,     -999.0,9,     1.1942,2,     -999.0,9
320620170703,        P06,      18,          1,          6,          6,2,20170708,       1124,   -30.0799,   156.9200,       4862,  3757.6,   1.2245,  34.7168,2,  34.7156,2, 195.5827,2, 195.3835,2,   115.4,2,   32.41,2,    0.00,2,    2.21,2,   0.023,2,   0.035,2,   0.0000,2,  2276.8,2, 2379.95,2,   7.6142,2, -999.00,9, -999.00,9, -999.00,    40.7,2, -999.00,9,     -999.0,1,  -999.0,9, 20170708,      943, -30.0803, 156.9204,        0.0,1,      0.061,1,      4.706,1,      0.135,1,      25.02,     -999.0,9,     -999.0,9,     -999.0,9,     -999.0,9,     1.2205,2,     -999.0,9
320620170703,        P06,      18,          1,          7,         40,2,20170708,       1124,   -30.0799,   156.9200,       4862,  3450.9,   1.3033,  34.7190,2,  34.7174,2, 193.9761,2, 193.6970,2,   112.6,2,   32.26,2,    0.00,2,    2.19,2,   0.019,2,   0.029,2,   0.0000,2,  2272.7,2, 2377.99,2,   7.6126,2, -999.00,9, -999.00,9, -999.00,    39.1,2, -999.00,9,     -999.0,1,  -999.0,9, 20170708,      950, -30.0803, 156.9203,        0.0,1,      0.061,1,      4.707,1,      0.135,1,      25.05,     -999.0,9,     -999.0,9,     -999.0,9,     -999.0,9,     1.3088,2,     -999.0,9
320620170703,        P06,      18,          1,          8,          8,2,20170708,       1124,   -30.0799,   156.9200,       4862,  3145.4,   1.5285,  34.7229,2,  34.7209,2, 190.4119,2, 190.8394,2,   107.2,2,   32.17,2,    0.00,2,    2.23,2,   0.027,2,   0.032,2,   0.0000,2,  2269.5,2, 2369.92,2,   7.6090,2, -999.00,9, -999.00,9, -999.00,  -999.0,9, -999.00,9,     -999.0,9,  -999.0,9, 20170708,      956, -30.0798, 156.9199,        0.0,1,      0.060,1,      4.706,1,      0.137,1,      25.04,     -999.0,9,     -999.0,9,     -999.0,9,     -999.0,9,     1.5159,2,     -999.0,9
320620170703,        P06,      18,          1,          9,         41,2,20170708,       1124,   -30.0799,   156.9200,       4862,  2874.3,   1.7426,  34.7216,2,  34.7191,2, 185.6163,2, 185.6315,2,   101.8,2,   32.12,2,    0.00,2,    2.23,2,   0.026,2,   0.030,2,   0.0000,2,  2267.3,2, 2364.04,2,   7.6039,2, -999.00,9, -999.00,9, -999.00,    37.7,2, -999.00,9,     -999.0,1,  -999.0,9, 20170708,     1002, -30.0800, 156.9201,        0.0,1,      0.061,1,      4.707,1,      0.136,1,      25.05,     -999.0,9,     -999.0,9,     -999.0,9,     -999.0,9,     1.7431,2,     -999.0,9
320620170703,        P06,      18,          1,         10,         10,2,20170708,       1124,   -30.0799,   156.9200,       4862,  2617.1,   1.9535,  34.7120,2,  34.7103,2, 180.3263,2, 180.4280,2,    96.8,2,   32.31,2,    0.00,2,    2.24,2,   0.030,2,   0.034,2,   0.0000,2,  2266.7,2, 2364.01,3,   7.5968,2, -999.00,9, -999.00,9, -999.00,  -999.0,9, -999.00,9,     -999.0,9,  -999.0,9, 20170708,     1008, -30.0798, 156.9200,        0.0,1,      0.061,1,      4.707,1,      0.138,1,      25.03,     -999.0,9,     -999.0,9,     -999.0,9,     -999.0,9,     1.9518,2,     -999.0,9
320620170703,        P06,      18,          1,         11,         42,2,20170708,       1124,   -30.0799,   156.9200,       4862,  2364.4,   2.1498,  34.6918,2,  34.6901,2, 173.2974,2, 173.3756,2,    94.6,2,   32.85,2,    0.00,2,    2.30,2,   0.032,2,   0.035,2,   0.0000,2,  2268.9,2, 2360.39,2,   7.5882,2, -999.00,9, -999.00,9, -999.00,    38.2,2, -999.00,9,     -999.0,1,  -999.0,9, 20170708,     1013, -30.0798, 156.9199,        0.0,1,      0.062,1,      4.706,1,      0.138,1,      25.04,     -999.0,9,     -999.0,9,     -999.0,9,     -999.0,9,     2.1494,2,     -999.0,9
320620170703,        P06,      18,          1,         12,         12,2,20170708,       1124,   -30.0799,   156.9200,       4862,  2109.9,   2.3368,  34.6633,2,  34.6600,2, 163.3758,2, 162.4462,2,    97.6,2,   33.88,2,    0.00,2,    2.37,2,   0.026,2,   0.031,2,   0.0000,2,  2279.2,2, 2367.56,2,   7.5775,2, -999.00,9, -999.00,9, -999.00,  -999.0,9, -999.00,9,     -999.0,9,  -999.0,9, 20170708,     1018, -30.0799, 156.9201,        0.0,1,      0.061,1,      4.707,1,      0.139,1,      25.04,     -999.0,9,     -999.0,9,     -999.0,9,     -999.0,9,     2.3379,2,     -999.0,9
320620170703,        P06,      18,          1,         13,         43,2,20170708,       1124,   -30.0799,   156.9200,       4862,  1887.0,   2.5541,  34.6318,2,  34.6288,2, 153.8771,2, 153.2518,2,    99.8,2,   34.73,2,    0.00,2,    2.43,2,   0.024,6,   0.031,6,   0.0000,6,  2286.0,2, 2369.24,2,   7.5702,2, -999.00,9, -999.00,9, -999.00,    36.0,2, -999.00,9,     -999.0,1,  -999.0,9, 20170708,     1024, -30.0799, 156.9200,        0.0,1,      0.061,1,      4.707,1,      0.141,1,      25.04,     -999.0,9,     -999.0,9,     -999.0,9,     -999.0,9,     2.5646,2,     -999.0,9
320620170703,        P06,      18,          1,         14,         14,2,20170708,       1124,   -30.0799,   156.9200,       4862,  1681.9,   2.9220,  34.5941,2,  34.5940,2, 150.4633,2, 151.2792,2,    93.8,2,   34.79,2,    0.00,2,    2.41,2,   0.044,2,   0.044,2,   0.0000,2,  2281.7,6, 2363.37,2,   7.5696,2, -999.00,9, -999.00,9, -999.00,  -999.0,9, -999.00,9,     -999.0,9,  -999.0,9, 20170708,     1028, -30.0797, 156.9196,        0.0,1,      0.062,1,      4.706,1,      0.237,1,      25.04,     -999.0,9,     -999.0,9,     -999.0,9,     -999.0,9,     2.8920,2,     -999.0,9
320620170703,        P06,      18,          1,         15,         15,2,20170708,       1124,   -30.0799,   156.9200,       4862,  1551.5,   3.2691,  34.5619,2,  34.5580,2, 153.1039,2, 153.7569,2,    85.1,2,   34.36,2,    0.00,2,    2.39,2,   0.077,2,   0.061,2,   0.0000,2,  2268.6,2, 2356.23,2,   7.5755,2, -999.00,9, -999.00,9, -999.00,    34.1,3, -999.00,9,     -999.0,1,  -999.0,9, 20170708,     1032, -30.0799, 156.9199,        0.0,1,      0.061,1,      4.706,1,      0.142,1,      25.04,     -999.0,9,     -999.0,9,     -999.0,9,     -999.0,9,     3.2825,2,     -999.0,9
320620170703,        P06,      18,          1,         16,         16,2,20170708,       1124,   -30.0799,   156.9200,       4862,  1448.5,   3.6070,  34.5332,2,  34.5331,2, 158.5614,2, 158.7442,2,    76.4,2,   33.74,2,    0.00,2,    2.35,2,   0.143,2,   0.093,2,   0.0730,2,  2258.1,2, 2343.79,2,   7.5829,2, -999.00,9, -999.00,9, -999.00,  -999.0,9, -999.00,9,     -999.0,9,  -999.0,9, 20170708,     1035, -30.0799, 156.9201,        0.0,1,      0.061,1,      4.706,1,      0.142,1,      25.04,     -999.0,9,     -999.0,9,     -999.0,9,     -999.0,9,     3.5708,2,     -999.0,9
320620170703,        P06,      18,          1,         17,         17,2,20170708,       1124,   -30.0799,   156.9200,       4862,  1349.4,   3.9631,  34.5085,2,  34.5066,2, 165.1335,2, 165.8063,2,    66.3,2,   32.69,2,    0.00,2,    2.28,2,   0.248,2,   0.150,2,   0.1350,2,  2242.8,2, 2333.19,3,   7.5952,2, -999.00,9, -999.00,9, -999.00,  -999.0,9, -999.00,9,     -999.0,9,  -999.0,9, 20170708,     1038, -30.0799, 156.9200,        0.0,1,      0.061,1,      4.707,1,      0.141,1,      25.04,     -999.0,9,     -999.0,9,     -999.0,9,     -999.0,9,     3.9708,2,     -999.0,9
320620170703,        P06,      18,          1,         18,         18,2,20170708,       1124,   -30.0799,   156.9200,       4862,  1247.4,   4.4637,  34.4776,2,  34.4750,2, 173.8218,2, 173.1756,2,    54.2,2,   31.65,2,    0.00,2,    2.18,2,   0.412,2,   0.223,2,   0.1440,2,  2226.4,2, 2323.47,2,   7.6076,2, -999.00,9, -999.00,9, -999.00,    38.3,2, -999.00,9,     -999.0,1,  -999.0,9, 20170708,     1041, -30.0798, 156.9198,        0.0,1,      0.061,1,      4.707,1,      0.141,1,      25.03,     -999.0,9,     -999.0,9,     -999.0,9,     -999.0,9,     4.4654,2,     -999.0,9
320620170703,        P06,      18,          1,         19,         19,2,20170708,       1124,   -30.0799,   156.9200,       4862,  1145.5,   5.0004,  34.4522,2,  34.4532,3, 180.7019,2, 180.6654,2,    44.0,2,   30.44,2,    0.00,2,    2.08,2,   0.604,2,   0.320,2,   0.1600,2,  2210.8,2, 2310.26,2,   7.6221,2, -999.00,9, -999.00,9, -999.00,  -999.0,9, -999.00,9,     -999.0,9,  -999.0,9, 20170708,     1044, -30.0799, 156.9199,        0.0,1,      0.061,1,      4.706,1,      0.142,1,      25.03,     -999.0,9,     -999.0,9,     -999.0,9,     -999.0,9,     4.9424,2,     -999.0,9
320620170703,        P06,      18,          1,         20,         20,2,20170708,       1124,   -30.0799,   156.9200,       4862,  1044.4,   5.6363,  34.4437,2,  34.4418,2, 188.6627,2, 188.4207,2,    34.2,2,   28.97,2,    0.00,2,    1.97,2,   0.897,2,   0.453,2,   0.1830,2,  2195.6,2, 2302.39,2,   7.6380,4, -999.00,9, -999.00,9, -999.00,    36.8,2, -999.00,9,     -999.0,1,  -999.0,9, 20170708,     1047, -30.0799, 156.9200,        0.0,1,      0.060,1,      4.706,1,      0.141,1,      25.03,     -999.0,9,     -999.0,9,     -999.0,9,     -999.0,9,     5.5084,2,     -999.0,9
320620170703,        P06,      18,          1,         21,         21,2,20170708,       1124,   -30.0799,   156.9200,       4862,   942.2,   6.3577,  34.4535,2,  34.4496,2, 195.7875,2, 195.3893,2,    24.3,2,   27.01,2,    0.00,2,    1.82,2,   1.355,2,   0.654,2,   0.2120,2,  2180.9,2, 2294.38,2,   7.6597,2, -999.00,9, -999.00,9, -999.00,    39.2,2, -999.00,9,     -999.0,1,  -999.0,9, 20170708,     1050, -30.0800, 156.9202,        0.0,1,      0.060,1,      4.705,1,      0.141,1,      25.00,     -999.0,9,     -999.0,9,     -999.0,9,     -999.0,9,     6.2645,2,     -999.0,9
320620170703,        P06,      18,          1,         22,         22,2,20170708,       1124,   -30.0799,   156.9200,       4862,   842.3,   7.0125,  34.4736,2,  34.4740,2, 200.6982,2, 200.7078,2,    17.4,2,   25.09,2,    0.00,2,    1.70,2,   1.745,2,   0.852,2,   0.2760,2,  2167.3,2, 2290.17,2,   7.6788,2, -999.00,9, -999.00,9, -999.00,    40.5,2, -999.00,9,     -999.0,1,  -999.0,9, 20170708,     1053, -30.0801, 156.9203,        0.0,1,      0.059,1,      4.704,1,      0.141,1,      24.98,     -999.0,9,     -999.0,9,     -999.0,9,     -999.0,9,     6.9801,2,     -999.0,9
320620170703,        P06,      18,          1,         23,         23,2,20170708,       1124,   -30.0799,   156.9200,       4862,   741.1,   8.1190,  34.5649,2,  34.5431,2, 202.8632,2, 202.7023,2,    11.9,2,   22.64,2,    0.00,2,    1.52,2,   2.079,2,   1.067,2,   0.4280,2,  2156.2,6, 2284.89,2,   7.7008,2, -999.00,9, -999.00,9, -999.00,    41.1,2, -999.00,9,     -999.0,1,  -999.0,9, 20170708,     1055, -30.0800, 156.9201,        0.0,1,      0.060,1,      4.704,1,      0.142,1,      24.98,     -999.0,9,     -999.0,9,     -999.0,9,     -999.0,9,     8.0078,2,     -999.0,9
320620170703,        P06,      18,          1,         24,         24,2,20170708,       1124,   -30.0799,   156.9200,       4862,   639.7,   9.5082,  34.7101,2,  34.6934,3, 200.1816,2, 200.7050,2,     8.1,2,   19.59,2,    0.00,2,    1.32,2,   2.415,2,   1.289,2,   0.6080,2,  2149.3,2, 2286.58,2,   7.7286,2, -999.00,9, -999.00,9, -999.00,    43.7,2, -999.00,9,     -999.0,1,  -999.0,9, 20170708,     1058, -30.0799, 156.9201,        0.0,1,      0.059,1,      4.702,1,      0.143,1,      24.98,     -999.0,9,     -999.0,9,     -999.0,9,     -999.0,9,     9.3657,2,     -999.0,9
320620170703,        P06,      18,          1,         25,         25,2,20170708,       1124,   -30.0799,   156.9200,       4862,   537.4,  11.1059,  34.8899,2,  34.9146,2, 195.1927,2, 195.2908,2,     5.5,2,   15.77,2,    0.00,2,    1.06,2,   2.474,2,   1.333,2,   0.6730,2,  2137.6,2, 2297.91,2,   7.7710,2, -999.00,9, -999.00,9, -999.00,    43.3,2, -999.00,9,     -999.0,1,  -999.0,9, 20170708,     1101, -30.0800, 156.9201,        0.0,1,      0.060,1,      4.699,1,      0.145,1,      24.99,     -999.0,9,     -999.0,9,     -999.0,9,     -999.0,9,    11.2945,2,     -999.0,9
320620170703,        P06,      18,          1,         26,         26,2,20170708,       1124,   -30.0799,   156.9200,       4862,   438.3,  13.3569,  35.1800,2,  35.2018,2, 196.9471,2, 196.1773,2,     3.2,2,   11.29,2,    0.00,2,    0.78,2,   2.354,2,   1.343,2,   0.8790,2,  2121.7,2, 2307.47,2,   7.8300,2, -999.00,9, -999.00,9, -999.00,    42.1,2,   13.80,2,     -999.0,1,  -999.0,9, 20170708,     1104, -30.0800, 156.9201,        0.0,1,      0.059,1,      4.697,1,      0.141,1,      25.00,     -999.0,9,     -999.0,9,     -999.0,9,     -999.0,9,    13.6079,2,     -999.0,9
320620170703,        P06,      18,          1,         27,         27,2,20170708,       1124,   -30.0799,   156.9200,       4862,   367.5,  14.9874,  35.3355,2,  35.3378,3, 191.3934,2, 192.8153,2,     2.3,2,    9.23,2,    0.00,2,    0.64,2,   2.348,2,   1.312,2,   0.9150,2,  2110.9,2, 2313.44,2,   7.8633,2, -999.00,9, -999.00,9, -999.00,    48.3,2,   11.70,2,     -999.0,1,  -999.0,9, 20170708,     1107, -30.0800, 156.9201,        0.0,1,      0.059,1,      4.695,1,      0.145,1,      25.00,     -999.0,9,     -999.0,9,     -999.0,9,     -999.0,9,    15.0918,2,     -999.0,9
320620170703,        P06,      18,          1,         28,         28,4,20170708,       1124,   -30.0799,   156.9200,       4862,   317.2,  16.4531,  35.4795,3,  35.6996,3, 194.5710,2, 207.9966,3,     0.4,4,    2.53,4,    0.12,4,    0.22,4,   1.977,3,   1.176,3,   0.9750,3,  2064.1,4, 2335.87,3,   7.9879,3, -999.00,9, -999.00,9, -999.00,  -999.0,5,    5.90,3,     -999.0,1,  -999.0,9, 20170708,     1109, -30.0800, 156.9201,        0.0,1,      0.060,1,      4.694,1,      0.144,1,      25.00,     -999.0,9,     -999.0,9,     -999.0,9,     -999.0,9,    17.0053,3,     -999.0,9
320620170703,        P06,      18,          1,         29,         29,2,20170708,       1124,   -30.0799,   156.9200,       4862,   266.5,  18.1723,  35.6079,2,  35.6396,2, 193.2957,2, 192.5846,2,     0.8,2,    4.71,2,    0.02,2,    0.36,2,   2.019,2,   1.208,2,   0.9400,2,  2083.5,2, 2329.22,2,   7.9447,2, -999.00,9, -999.00,9, -999.00,    48.8,2,    7.70,2,     -999.0,1,  -999.0,9, 20170708,     1111, -30.0800, 156.9202,        0.0,1,      0.060,1,      4.692,1,      0.145,1,      25.00,     -999.0,9,     -999.0,9,     -999.0,9,     -999.0,9,    18.4892,2,     -999.0,9
320620170703,        P06,      18,          1,         30,         30,2,20170708,       1124,   -30.0799,   156.9200,       4862,   216.3,  19.4415,  35.7447,2,  35.7197,2, 199.5885,2, 199.3512,2,     0.5,2,    3.12,2,    0.02,2,    0.24,2,   1.974,2,   1.186,2,   1.0090,2,  2070.8,2, 2336.73,2,   7.9756,2, -999.00,9, -999.00,9, -999.00,    52.5,2,    6.20,2,     -999.0,1,  -999.0,9, 20170708,     1114, -30.0800, 156.9202,        0.0,1,      0.059,1,      4.686,1,      0.152,1,      24.99,     -999.0,9,     -999.0,9,     -999.0,9,     -999.0,9,    19.4772,2,     -999.0,9
320620170703,        P06,      18,          1,         31,         31,2,20170708,       1124,   -30.0799,   156.9200,       4862,   165.8,  20.4490,  35.8081,2,  35.7932,2, 218.9127,3, 213.8146,2,     0.1,2,    0.82,2,    0.25,2,    0.11,2,   1.897,2,   1.131,2,   1.0340,2,  2051.4,2, 2339.75,2,   8.0176,2, -999.00,9, -999.00,9, -999.00,    54.7,2,    4.90,2,     -999.0,1,  -999.0,9, 20170708,     1116, -30.0800, 156.9201,        0.0,1,      0.101,1,      4.665,1,      0.178,1,      24.99,     -999.0,9,     -999.0,9,     -999.0,9,     -999.0,9,    20.4100,2,     -999.0,9
320620170703,        P06,      18,          1,         32,         32,2,20170708,       1124,   -30.0799,   156.9200,       4862,   116.5,  20.5332,  35.7885,2,  35.7835,2, 224.5985,3, 219.4843,2,     0.0,2,    0.20,2,    0.21,2,    0.09,2,   1.867,2,   1.117,2,   1.0540,2,  2042.8,2, 2341.66,2,   8.0296,2, -999.00,9, -999.00,9, -999.00,    59.9,2,    4.30,2,     -999.0,1,  -999.0,9, 20170708,     1118, -30.0799, 156.9200,        0.0,1,      0.155,1,      4.641,1,      0.199,1,      24.99,     -999.0,9,     -999.0,9,     -999.0,9,     -999.0,9,    20.5792,2,     -999.0,9