BOTTLE,20230922CCHSIOCBG
EXPOCODE,SECT_ID,STNNBR,CASTNO,SAMPNO,BTLNBR,BTLNBR_FLAG_W,DATE,TIME,LATITUDE,LONGITUDE,DEPTH,CTDPRS,CTDTMP,CTDSAL,CTDSAL_FLAG_W,SALNTY,SALNTY_FLAG_W,CTDOXY,CTDOXY_FLAG_W,OXYGEN,OXYGEN_FLAG_W,SILCAT,SILCAT_FLAG_W,NITRAT,NITRAT_FLAG_W,NITRIT,NITRIT_FLAG_W,PHSPHT,PHSPHT_FLAG_W,CFC-11,CFC-11_FLAG_W,CFC-12,CFC-12_FLAG_W,SF6,SF6_FLAG_W,TCARBN,TCARBN_FLAG_W,ALKALI,ALKALI_FLAG_W,PH_TOT,PH_TOT_FLAG_W,DELC13,DELC13_FLAG_W,DELC14,DELC14_FLAG_W,C14ERR,DOC,DOC_FLAG_W,TDN,TDN_FLAG_W,TON,TON_FLAG_W,D15N_NO3,D15N_NO3_FLAG_W,BTL_DATE,BTL_TIME,BTL_LAT,BTL_LON,CTDRINKO,CTDRINKO_FLAG_W,CTDFLUOR,CTDFLUOR_FLAG_W,CTDXMISS,CTDXMISS_FLAG_W,CTDBACKSCATTER,CTDBACKSCATTER_FLAG_W,PH_TMP,D18O_NO3,D18O_NO3_FLAG_W,DOP,DOP_FLAG_W,HPLC,HPLC_FLAG_W,POC,POC_FLAG_W,REFTMP,REFTMP_FLAG_W,TDP,TDP_FLAG_W
,,,,,,,,,,,METERS,DBAR,ITS-90,PSS-78,,PSS-78,,UMOL/KG,,UMOL/KG,,UMOL/KG,,UMOL/KG,,UMOL/KG,,UMOL/KG,,PMOL/KG,,PMOL/KG,,FMOL/KG,,UMOL/KG,,UMOL/KG,,,,/MILLE,,/MILLE,,/MILLE,UMOL/KG,,UMOL/KG,,UMOL/KG,,/MILLE,,,,,,VOLTS,,VOLTS,,VOLTS,,VOLTS,,DEGC,/MILLE,,UMOL/KG,,,,UG/L,,ITS-90,,UMOL/KG,
320620170703,        P06,     125,          1,          1,          1,2,20170807,       0824,   -32.4997,  -161.1497,       5133,  5219.5,   1.0961,  34.7097,2,  34.7077,3, 204.7909,3, 207.3733,2,   121.4,2,   32.28,2,    0.00,2,    2.21,2,   0.125,2,   0.070,2,   0.0000,2,  2264.3,6, 2362.15,2,   7.6061,2, -999.00,9, -999.00,9, -999.00,  -999.0,9, -999.00,9,     -999.0,9,  -999.0,9, 20170807,      611, -32.5000,-161.1496,        0.0,1,      0.060,1,      4.696,1,      0.127,1,      25.03,     -999.0,9,     -999.0,9,     -999.0,9,     -999.0,9,     1.0967,2,     -999.0,9
320620170703,        P06,     125,          1,          2,          2,2,20170807,       0824,   -32.4997,  -161.1497,       5133,  4991.3,   1.0720,  34.7101,2,  34.7070,3, 204.7909,2, 205.7165,2,   121.3,2,   32.26,2,    0.00,2,    2.21,2,   0.116,2,   0.068,2,   0.0000,2,  -999.0,9, -999.00,9,-999.0000,9, -999.00,9, -999.00,9, -999.00,  -999.0,9, -999.00,9,     -999.0,9,  -999.0,9, 20170807,      618, -32.5000,-161.1499,        0.0,1,      0.061,1,      4.697,1,      0.127,1,     -999.0,     -999.0,9,     -999.0,9,     -999.0,9,     -999.0,9,     1.0725,2,     -999.0,9
320620170703,        P06,     125,          1,          3,          3,2,20170807,       0824,   -32.4997,  -161.1497,       5133,  4786.5,   1.0633,  34.7108,2,  34.7079,3, 204.7909,2, 205.6912,2,   120.8,2,   32.20,2,    0.00,2,    2.23,2,   0.106,2,   0.066,2,   0.0000,2,  2263.0,2, 2361.72,2,   7.6066,2, -999.00,9, -999.00,9, -999.00,  -999.0,9, -999.00,9,     -999.0,9,  -999.0,9, 20170807,      624, -32.5000,-161.1495,        0.0,1,      0.061,1,      4.699,1,      0.124,1,      25.02,     -999.0,9,     -999.0,9,     -999.0,9,     -999.0,9,     1.0637,2,     -999.0,9
320620170703,        P06,     125,          1,          4,          4,2,20170807,       0824,   -32.4997,  -161.1497,       5133,  4477.6,   1.1153,  34.7135,2,  34.7115,2, 206.4921,3, 204.0029,2,   118.3,2,   32.11,2,    0.00,2,    2.22,2,   0.086,2,   0.053,2,   0.0000,2,  -999.0,9, -999.00,9,-999.0000,9, -999.00,9, -999.00,9, -999.00,  -999.0,9, -999.00,9,     -999.0,9,  -999.0,9, 20170807,      631, -32.5000,-161.1498,        0.0,1,      0.062,1,      4.699,1,      0.126,1,     -999.0,     -999.0,9,     -999.0,9,     -999.0,9,     -999.0,9,     1.1141,2,     -999.0,9
320620170703,        P06,     125,          1,          5,          5,2,20170807,       0824,   -32.4997,  -161.1497,       5133,  4169.4,   1.2703,  34.7174,2,  34.7144,2, 201.2051,2, 200.0552,2,   114.4,2,   32.06,2,    0.00,2,    2.22,2,   0.062,2,   0.043,2,   0.0000,2,  2263.1,2, 2365.05,2,   7.6056,2, -999.00,9, -999.00,9, -999.00,  -999.0,9, -999.00,9,     -999.0,9,  -999.0,9, 20170807,      637, -32.5000,-161.1499,        0.0,1,      0.061,1,      4.700,1,      0.123,1,      25.01,     -999.0,9,     -999.0,9,     -999.0,9,     -999.0,9,     1.2678,2,     -999.0,9
320620170703,        P06,     125,          1,          6,          6,2,20170807,       0824,   -32.4997,  -161.1497,       5133,  3860.3,   1.4463,  34.7146,2,  34.7117,2, 191.7762,2, 191.4772,2,   113.4,2,   32.43,2,    0.00,2,    2.25,2,   0.035,2,   0.025,2,   0.0000,2,  -999.0,9, -999.00,9,-999.0000,9, -999.00,9, -999.00,9, -999.00,  -999.0,9, -999.00,9,     -999.0,9,  -999.0,9, 20170807,      644, -32.5000,-161.1499,        0.0,1,      0.061,1,      4.700,1,      0.127,1,     -999.0,     -999.0,9,     -999.0,9,     -999.0,9,     -999.0,9,     1.4407,2,     -999.0,9
320620170703,        P06,     125,          1,          7,          7,2,20170807,       0824,   -32.4997,  -161.1497,       5133,  3553.5,   1.6045,  34.6990,2,  34.6954,2, 174.7932,2, 173.9791,2,   120.6,2,   33.84,2,    0.00,2,    2.35,2,   0.024,2,   0.020,2,   0.0000,2,  2289.3,2, 2382.04,2,   7.5881,2, -999.00,9, -999.00,9, -999.00,  -999.0,9, -999.00,9,     -999.0,9,  -999.0,9, 20170807,      650, -32.5000,-161.1500,        0.0,1,      0.062,1,      4.700,1,      0.127,1,      25.01,     -999.0,9,     -999.0,9,     -999.0,9,     -999.0,9,     1.6085,2,     -999.0,9
320620170703,        P06,     125,          1,          8,          8,2,20170807,       0824,   -32.4997,  -161.1497,       5133,  3248.2,   1.7144,  34.6808,2,  34.6804,2, 161.6285,3, 159.1594,2,   128.0,2,   35.13,2,    0.00,2,    2.44,2,   0.025,2,   0.021,2,   0.0000,2,  -999.0,9, -999.00,9,-999.0000,9, -999.00,9, -999.00,9, -999.00,  -999.0,9, -999.00,9,     -999.0,9,  -999.0,9, 20170807,      657, -32.4999,-161.1498,        0.0,1,      0.062,1,      4.699,1,      0.128,1,     -999.0,     -999.0,9,     -999.0,9,     -999.0,9,     -999.0,9,     1.7067,2,     -999.0,9
320620170703,        P06,     125,          1,          9,          9,2,20170807,       0824,   -32.4997,  -161.1497,       5133,  2957.3,   1.8068,  34.6697,2,  34.6651,2, 152.0274,2, 150.7023,2,   129.4,2,   35.80,2,    0.00,2,    2.49,2,   0.020,2,   0.017,2,   0.0000,2,  2315.4,2, 2402.11,2,   7.5692,2, -999.00,9, -999.00,9, -999.00,  -999.0,9, -999.00,9,     -999.0,9,  -999.0,9, 20170807,      703, -32.4999,-161.1497,        0.0,1,      0.062,1,      4.699,1,      0.130,1,      25.01,     -999.0,9,     -999.0,9,     -999.0,9,     -999.0,9,     1.8187,2,     -999.0,9
320620170703,        P06,     125,          1,         10,         10,2,20170807,       0824,   -32.4997,  -161.1497,       5133,  2699.6,   1.8913,  34.6607,2,  34.6580,2, 148.8901,2, 148.3985,2,   128.1,2,   35.98,2,    0.00,2,    2.51,2,   0.023,2,   0.020,2,   0.0000,2,  2313.9,6, 2398.81,2,   7.5663,2, -999.00,9, -999.00,9, -999.00,  -999.0,9, -999.00,9,     -999.0,9,  -999.0,9, 20170807,      708, -32.5000,-161.1499,        0.0,1,      0.061,1,      4.700,1,      0.129,1,      25.01,     -999.0,9,     -999.0,9,     -999.0,9,     -999.0,9,     1.8943,2,     -999.0,9
320620170703,        P06,     125,          1,         11,         11,2,20170807,       0824,   -32.4997,  -161.1497,       5133,  2445.5,   1.9772,  34.6528,2,  34.6484,2, 146.8995,2, 147.7727,2,   123.8,2,   35.97,2,    0.00,2,    2.52,2,   0.023,2,   0.021,2,   0.0000,2,  2309.7,2, 2393.58,2,   7.5647,2, -999.00,9, -999.00,9, -999.00,  -999.0,9, -999.00,9,     -999.0,9,  -999.0,9, 20170807,      714, -32.4999,-161.1496,        0.0,1,      0.061,1,      4.700,1,      0.129,1,      25.00,     -999.0,9,     -999.0,9,     -999.0,9,     -999.0,9,     2.0012,2,     -999.0,9
320620170703,        P06,     125,          1,         12,         12,2,20170807,       0824,   -32.4997,  -161.1497,       5133,  2194.1,   2.1174,  34.6411,2,  34.6370,2, 147.7199,2, 149.0572,2,   116.5,2,   35.75,2,    0.00,2,    2.50,2,   0.022,2,   0.019,2,   0.0000,2,  -999.0,9, -999.00,9,-999.0000,9, -999.00,9, -999.00,9, -999.00,  -999.0,9, -999.00,9,     -999.0,9,  -999.0,9, 20170807,      720, -32.4999,-161.1500,        0.0,1,      0.061,1,      4.700,1,      0.132,1,     -999.0,     -999.0,9,     -999.0,9,     -999.0,9,     -999.0,9,     2.1408,2,     -999.0,9
320620170703,        P06,     125,          1,         13,         13,2,20170807,       0824,   -32.4997,  -161.1497,       5133,  1954.8,   2.3126,  34.6207,2,  34.6199,2, 150.2864,3, 151.9958,2,   107.4,2,   35.40,2,    0.00,2,    2.46,2,   0.024,2,   0.020,2,   0.0000,2,  2292.5,2, 2378.10,2,   7.5671,2, -999.00,9, -999.00,9, -999.00,  -999.0,9, -999.00,9,     -999.0,9,  -999.0,9, 20170807,      725, -32.4999,-161.1498,        0.0,1,      0.061,1,      4.700,1,      0.131,1,      25.01,     -999.0,9,     -999.0,9,     -999.0,9,     -999.0,9,     2.3048,2,     -999.0,9
320620170703,        P06,     125,          1,         14,         14,2,20170807,       0824,   -32.4997,  -161.1497,       5133,  1757.5,   2.4926,  34.5914,2,  34.5922,2, 154.1291,3, 155.7879,2,    96.7,2,   35.10,2,    0.00,2,    2.43,2,   0.026,2,   0.017,2,   0.0000,2,  -999.0,9, -999.00,9,-999.0000,9, -999.00,9, -999.00,9, -999.00,  -999.0,9, -999.00,9,     -999.0,9,  -999.0,9, 20170807,      729, -32.4999,-161.1495,        0.0,1,      0.061,1,      4.701,1,      0.132,1,     -999.0,     -999.0,9,     -999.0,9,     -999.0,9,     -999.0,9,     2.4697,2,     -999.0,9
320620170703,        P06,     125,          1,         15,         15,2,20170807,       0824,   -32.4997,  -161.1497,       5133,  1553.0,   2.7760,  34.5279,2,  34.5349,2, 162.4489,2, 163.4441,2,    80.1,2,   34.76,2,    0.00,2,    2.40,2,   0.055,2,   0.037,2,   0.0000,2,  2261.9,2, 2344.57,2,   7.5673,2, -999.00,9, -999.00,9, -999.00,  -999.0,9, -999.00,9,     -999.0,9,  -999.0,9, 20170807,      734, -32.4999,-161.1497,        0.0,1,      0.061,1,      4.701,1,      0.132,1,      24.96,     -999.0,9,     -999.0,9,     -999.0,9,     -999.0,9,     2.7315,2,     -999.0,9
320620170703,        P06,     125,          1,         16,         16,2,20170807,       0824,   -32.4997,  -161.1497,       5133,  1379.6,   3.2370,  34.4416,2,  34.4375,2, 174.6948,2, 175.3548,2,    59.0,2,   34.02,2,    0.00,2,    2.35,2,   0.208,2,   0.119,2,   0.0000,2,  -999.0,9, -999.00,9,-999.0000,9, -999.00,9, -999.00,9, -999.00,  -999.0,9, -999.00,9,     -999.0,9,  -999.0,9, 20170807,      738, -32.4999,-161.1497,        0.0,1,      0.061,1,      4.701,1,      0.131,1,     -999.0,     -999.0,9,     -999.0,9,     -999.0,9,     -999.0,9,     3.2500,2,     -999.0,9
320620170703,        P06,     125,          1,         17,         17,2,20170807,       0824,   -32.4997,  -161.1497,       5133,  1277.2,   3.6077,  34.3905,2,  34.3947,2, 181.5991,3, 183.4157,2,    49.7,2,   33.42,2,    0.00,2,    2.31,2,   0.379,2,   0.203,2,   0.0000,2,  2223.4,2, 2315.19,2,   7.5843,2, -999.00,9, -999.00,9, -999.00,  -999.0,9, -999.00,9,     -999.0,9,  -999.0,9, 20170807,      741, -32.4999,-161.1495,        0.0,1,      0.060,1,      4.701,1,      0.133,1,      25.00,     -999.0,9,     -999.0,9,     -999.0,9,     -999.0,9,     3.5545,2,     -999.0,9
320620170703,        P06,     125,          1,         18,         18,2,20170807,       0824,   -32.4997,  -161.1497,       5133,  1176.2,   4.0529,  34.3512,2,  34.3490,2, 193.0614,2, 192.4200,2,    38.6,2,   32.20,2,    0.00,2,    2.20,2,   0.727,2,   0.362,2,   0.0520,2,  -999.0,9, -999.00,9,-999.0000,9, -999.00,9, -999.00,9, -999.00,  -999.0,9, -999.00,9,     -999.0,9,  -999.0,9, 20170807,      744, -32.4999,-161.1495,        0.0,1,      0.059,1,      4.700,1,      0.131,1,     -999.0,     -999.0,9,     -999.0,9,     -999.0,9,     -999.0,9,     4.0420,2,     -999.0,9
320620170703,        P06,     125,          1,         19,         19,2,20170807,       0824,   -32.4997,  -161.1497,       5133,  1074.5,   4.6614,  34.3211,2,  34.3201,2, 204.0021,2, 202.5766,2,    28.6,2,   30.53,2,    0.00,2,    2.07,2,   1.133,2,   0.553,2,   0.1260,2,  2190.1,2, 2293.95,2,   7.6248,2, -999.00,9, -999.00,9, -999.00,  -999.0,9, -999.00,9,     -999.0,9,  -999.0,9, 20170807,      747, -32.4999,-161.1498,        0.0,1,      0.060,1,      4.700,1,      0.132,1,      25.01,     -999.0,9,     -999.0,9,     -999.0,9,     -999.0,9,     4.6200,2,     -999.0,9
320620170703,        P06,     125,          1,         20,         20,2,20170807,       0824,   -32.4997,  -161.1497,       5133,   971.5,   5.2746,  34.3150,2,  34.3127,2, 215.4586,2, 214.5076,2,    19.6,2,   28.28,2,    0.00,2,    1.92,2,   1.644,2,   0.799,2,   0.4040,2,  -999.0,9, -999.00,9,-999.0000,9, -999.00,9, -999.00,9, -999.00,  -999.0,9, -999.00,9,     -999.0,9,  -999.0,9, 20170807,      750, -32.4998,-161.1500,        0.0,1,      0.059,1,      4.699,1,      0.136,1,     -999.0,     -999.0,9,     -999.0,9,     -999.0,9,     -999.0,9,     5.3077,2,     -999.0,9
320620170703,        P06,     125,          1,         21,         21,2,20170807,       0824,   -32.4997,  -161.1497,       5133,   873.8,   5.8343,  34.3188,2,  34.3170,2, 224.7682,2, 225.5874,2,    13.6,2,   26.15,2,    0.00,2,    1.77,2,   2.179,2,   1.112,2,   0.5190,2,  2159.3,2, 2284.57,2,   7.6778,2, -999.00,9, -999.00,9, -999.00,  -999.0,9, -999.00,9,     -999.0,9,  -999.0,9, 20170807,      753, -32.4998,-161.1499,        0.0,1,      0.060,1,      4.698,1,      0.135,1,      25.01,     -999.0,9,     -999.0,9,     -999.0,9,     -999.0,9,     5.8639,2,     -999.0,9
320620170703,        P06,     125,          1,         22,         22,2,20170807,       0824,   -32.4997,  -161.1497,       5133,   772.1,   6.4370,  34.3386,2,  34.3360,2, 235.5400,2, 235.3482,2,     9.4,2,   24.10,2,    0.00,2,    1.63,2,   2.859,2,   1.473,2,   0.6830,2,  -999.0,9, -999.00,9,-999.0000,9, -999.00,9, -999.00,9, -999.00,  -999.0,9, -999.00,9,     -999.0,9,  -999.0,9, 20170807,      756, -32.4998,-161.1499,        0.0,1,      0.059,1,      4.698,1,      0.135,1,     -999.0,     -999.0,9,     -999.0,9,     -999.0,9,     -999.0,9,     6.4083,2,     -999.0,9
320620170703,        P06,     125,          1,         23,         23,2,20170807,       0824,   -32.4997,  -161.1497,       5133,   667.7,   6.8597,  34.3667,2,  34.3625,2, 239.0380,2, 239.1538,2,     7.4,2,   22.67,2,    0.00,2,    1.53,2,   3.239,2,   1.695,2,   0.9570,2,  2145.6,2, 2279.24,6,   7.7076,2, -999.00,9, -999.00,9, -999.00,  -999.0,9, -999.00,9,     -999.0,9,  -999.0,9, 20170807,      759, -32.4997,-161.1494,        0.0,1,      0.059,1,      4.697,1,      0.138,1,      25.01,     -999.0,9,     -999.0,9,     -999.0,9,     -999.0,9,     6.8371,2,     -999.0,9
320620170703,        P06,     125,          1,         24,         24,2,20170807,       0824,   -32.4997,  -161.1497,       5133,   569.8,   7.5890,  34.4312,2,  34.4173,2, 237.5419,2, 237.0862,2,     5.8,2,   21.06,2,    0.00,2,    1.43,2,   3.407,2,   1.849,2,   1.0820,2,  2143.8,2, 2276.97,2,   7.7140,2, -999.00,9, -999.00,9, -999.00,  -999.0,9, -999.00,9,     -999.0,9,  -999.0,9, 20170807,      802, -32.4997,-161.1491,        0.0,1,      0.059,1,      4.696,1,      0.138,1,      25.00,     -999.0,9,     -999.0,9,     -999.0,9,     -999.0,9,     7.4648,2,     -999.0,9
320620170703,        P06,     125,          1,         25,         25,2,20170807,       0824,   -32.4997,  -161.1497,       5133,   467.4,   8.6047,  34.5307,2,  34.5019,2, 231.3536,2, 229.3610,2,     4.5,2,   18.76,2,    0.00,2,    1.28,2,   3.243,2,   1.789,2,   1.3170,2,  2139.0,2, 2281.09,2,   7.7282,2, -999.00,9, -999.00,9, -999.00,  -999.0,9, -999.00,9,     -999.0,9,  -999.0,9, 20170807,      805, -32.4997,-161.1494,        0.0,1,      0.059,1,      4.695,1,      0.141,1,      25.00,     -999.0,9,     -999.0,9,     -999.0,9,     -999.0,9,     8.3721,2,     -999.0,9
320620170703,        P06,     125,          1,         26,         26,2,20170807,       0824,   -32.4997,  -161.1497,       5133,   385.8,   9.7777,  34.6612,2,  34.6486,2, 217.2843,2, 217.9136,2,     3.5,2,   15.99,2,    0.00,2,    1.12,2,   3.065,6,   1.718,6,   1.3025,6,  2137.5,2, 2289.98,2,   7.7504,2, -999.00,9, -999.00,9, -999.00,  -999.0,9, -999.00,9,     -999.0,9,  -999.0,9, 20170807,      807, -32.4997,-161.1496,        0.0,1,      0.059,1,      4.693,1,      0.141,1,      25.01,     -999.0,9,     -999.0,9,     -999.0,9,     -999.0,9,     9.7399,2,     -999.0,9
320620170703,        P06,     125,          1,         27,         27,2,20170807,       0824,   -32.4997,  -161.1497,       5133,   336.4,  10.6086,  34.7189,2,  34.8528,2, 212.4075,2, 213.4459,2,     2.6,2,   12.38,2,    0.00,2,    0.87,2,   2.811,2,   1.615,2,   1.3450,2,  2129.0,2, 2296.03,2,   7.7875,2, -999.00,9, -999.00,9, -999.00,  -999.0,9, -999.00,9,     -999.0,9,  -999.0,9, 20170807,      809, -32.4997,-161.1499,        0.0,1,      0.058,1,      4.692,1,      0.138,1,      25.02,     -999.0,9,     -999.0,9,     -999.0,9,     -999.0,9,    11.4051,2,     -999.0,9
320620170703,        P06,     125,          1,         28,         28,2,20170807,       0824,   -32.4997,  -161.1497,       5133,   288.1,  12.2158,  34.9458,2,  34.9626,2, 208.6844,2, 209.3953,2,     2.0,2,    9.92,2,    0.00,2,    0.73,2,   2.653,2,   1.563,2,   1.2800,2,  2118.6,2, 2301.14,2,   7.8134,2, -999.00,9, -999.00,9, -999.00,  -999.0,9, -999.00,9,     -999.0,9,  -999.0,9, 20170807,      811, -32.4997,-161.1500,        0.0,1,      0.060,1,      4.690,1,      0.138,1,      24.99,     -999.0,9,     -999.0,9,     -999.0,9,     -999.0,9,    12.4740,2,     -999.0,9
320620170703,        P06,     125,          1,         29,         29,2,20170807,       0824,   -32.4997,  -161.1497,       5133,   236.4,  13.7468,  35.1505,2,  35.1731,2, 210.3473,2, 211.6690,2,     1.5,2,    6.99,2,    0.00,2,    0.55,2,   2.476,2,   1.484,2,   1.4490,2,  2109.2,2, 2313.09,2,   7.8536,2, -999.00,9, -999.00,9, -999.00,  -999.0,9, -999.00,9,     -999.0,9,  -999.0,9, 20170807,      813, -32.4997,-161.1500,        0.0,1,      0.062,1,      4.689,1,      0.137,1,      25.00,     -999.0,9,     -999.0,9,     -999.0,9,     -999.0,9,    13.8886,2,     -999.0,9
320620170703,        P06,     125,          1,         30,         30,2,20170807,       0824,   -32.4997,  -161.1497,       5133,   186.5,  14.7173,  35.2616,2,  35.2993,2, 210.3613,2, 211.4082,2,     0.9,2,    5.13,2,    0.02,2,    0.42,2,   2.375,2,   1.432,2,   1.3340,2,  2100.1,2, 2323.28,2,   7.8822,2, -999.00,9, -999.00,9, -999.00,  -999.0,9, -999.00,9,     -999.0,9,  -999.0,9, 20170807,      815, -32.4998,-161.1501,        0.0,1,      0.064,1,      4.688,1,      0.136,1,      25.01,     -999.0,9,     -999.0,9,     -999.0,9,     -999.0,9,    15.0442,2,     -999.0,9
320620170703,        P06,     125,          1,         31,         31,2,20170807,       0824,   -32.4997,  -161.1497,       5133,   133.6,  16.2776,  35.4579,2,  35.4346,2, 218.9122,3, 215.5874,2,     0.6,2,    3.04,2,    0.05,2,    0.29,2,   2.264,2,   1.386,2,   1.4150,2,  2088.2,2, 2332.19,2,   7.9164,2, -999.00,9, -999.00,9, -999.00,  -999.0,9, -999.00,9,     -999.0,9,  -999.0,9, 20170807,      817, -32.4996,-161.1499,        0.0,1,      0.087,1,      4.673,1,      0.151,1,      25.00,     -999.0,9,     -999.0,9,     -999.0,9,     -999.0,9,    16.1508,2,     -999.0,9
320620170703,        P06,     125,          1,         32,         32,2,20170807,       0824,   -32.4997,  -161.1497,       5133,    90.9,  16.8387,  35.5274,2,  35.5429,2, 235.0157,2, 233.9294,2,     0.3,2,    0.31,2,    0.04,2,    0.10,2,   2.151,2,   1.320,2,   1.5430,2,  -999.0,9, -999.00,9,-999.0000,9, -999.00,9, -999.00,9, -999.00,  -999.0,9, -999.00,9,     -999.0,9,  -999.0,9, 20170807,      819, -32.4996,-161.1496,        0.0,1,      0.156,1,      4.639,1,      0.191,1,     -999.0,     -999.0,9,     -999.0,9,     -999.0,9,     -999.0,9,    16.9363,2,     -999.0,9