BOTTLE,20230922CCHSIOCBG
EXPOCODE,SECT_ID,STNNBR,CASTNO,SAMPNO,BTLNBR,BTLNBR_FLAG_W,DATE,TIME,LATITUDE,LONGITUDE,DEPTH,CTDPRS,CTDTMP,CTDSAL,CTDSAL_FLAG_W,SALNTY,SALNTY_FLAG_W,CTDOXY,CTDOXY_FLAG_W,OXYGEN,OXYGEN_FLAG_W,SILCAT,SILCAT_FLAG_W,NITRAT,NITRAT_FLAG_W,NITRIT,NITRIT_FLAG_W,PHSPHT,PHSPHT_FLAG_W,CFC-11,CFC-11_FLAG_W,CFC-12,CFC-12_FLAG_W,SF6,SF6_FLAG_W,TCARBN,TCARBN_FLAG_W,ALKALI,ALKALI_FLAG_W,PH_TOT,PH_TOT_FLAG_W,DELC13,DELC13_FLAG_W,DELC14,DELC14_FLAG_W,C14ERR,DOC,DOC_FLAG_W,TDN,TDN_FLAG_W,TON,TON_FLAG_W,D15N_NO3,D15N_NO3_FLAG_W,BTL_DATE,BTL_TIME,BTL_LAT,BTL_LON,CTDRINKO,CTDRINKO_FLAG_W,CTDFLUOR,CTDFLUOR_FLAG_W,CTDXMISS,CTDXMISS_FLAG_W,CTDBACKSCATTER,CTDBACKSCATTER_FLAG_W,PH_TMP,D18O_NO3,D18O_NO3_FLAG_W,DOP,DOP_FLAG_W,HPLC,HPLC_FLAG_W,POC,POC_FLAG_W,REFTMP,REFTMP_FLAG_W,TDP,TDP_FLAG_W
,,,,,,,,,,,METERS,DBAR,ITS-90,PSS-78,,PSS-78,,UMOL/KG,,UMOL/KG,,UMOL/KG,,UMOL/KG,,UMOL/KG,,UMOL/KG,,PMOL/KG,,PMOL/KG,,FMOL/KG,,UMOL/KG,,UMOL/KG,,,,/MILLE,,/MILLE,,/MILLE,UMOL/KG,,UMOL/KG,,UMOL/KG,,/MILLE,,,,,,VOLTS,,VOLTS,,VOLTS,,VOLTS,,DEGC,/MILLE,,UMOL/KG,,,,UG/L,,ITS-90,,UMOL/KG,
320620170703,        P06,      38,          1,          1,         37,2,20170712,       0522,   -30.0797,   164.1209,       2496,  2519.9,   1.9465,  34.6787,2,  34.6793,2, 157.7720,2, 158.8855,2,   116.6,2,   34.77,2,    0.00,2,    2.45,2,-999.000,9,-999.000,9,-999.0000,9,  2302.8,6, 2399.94,2,   7.5813,2, -999.00,9, -999.00,9, -999.00,  -999.0,9, -999.00,9,     -999.0,9,  -999.0,9, 20170712,      403, -30.0799, 164.1209,        0.0,1,      0.062,1,      4.705,1,      0.143,1,      25.00,     -999.0,9,     -999.0,9,     -999.0,9,     -999.0,9,     1.9492,2,     -999.0,9
320620170703,        P06,      38,          1,          2,          2,2,20170712,       0522,   -30.0797,   164.1209,       2496,  2430.4,   1.9884,  34.6751,2,  34.6728,2, 157.5240,2, 156.5715,2,   115.8,2,   34.79,2,    0.00,2,    2.45,2,-999.000,9,-999.000,9,-999.0000,9,  -999.0,9, -999.00,9,-999.0000,9, -999.00,9, -999.00,9, -999.00,  -999.0,9, -999.00,9,     -999.0,9,  -999.0,9, 20170712,      406, -30.0799, 164.1208,        0.0,1,      0.061,1,      4.704,1,      0.157,1,     -999.0,     -999.0,9,     -999.0,9,     -999.0,9,     -999.0,9,     1.9878,2,     -999.0,9
320620170703,        P06,      38,          1,          3,         38,2,20170712,       0522,   -30.0797,   164.1209,       2496,  2226.9,   2.1368,  34.6620,2,  34.6586,2, 155.1122,2, 154.7321,2,   112.5,2,   34.79,2,    0.00,2,    2.45,2,-999.000,9,-999.000,9,-999.0000,9,  2298.8,2, 2385.77,2,   7.5774,2, -999.00,9, -999.00,9, -999.00,  -999.0,9, -999.00,9,     -999.0,9,  -999.0,9, 20170712,      410, -30.0799, 164.1210,        0.0,1,      0.061,1,      4.706,1,      0.142,1,      24.97,     -999.0,9,     -999.0,9,     -999.0,9,     -999.0,9,     2.1413,2,     -999.0,9
320620170703,        P06,      38,          1,          4,          4,2,20170712,       0522,   -30.0797,   164.1209,       2496,  2024.7,   2.3995,  34.6390,2,  34.6364,2, 153.2845,2, 153.2813,2,   107.1,2,   34.76,2,    0.00,2,    2.45,2,-999.000,9,-999.000,9,-999.0000,9,  -999.0,9, -999.00,9,-999.0000,9, -999.00,9, -999.00,9, -999.00,  -999.0,9, -999.00,9,     -999.0,9,  -999.0,9, 20170712,      414, -30.0800, 164.1214,        0.0,1,      0.062,1,      4.705,1,      0.146,1,     -999.0,     -999.0,9,     -999.0,9,     -999.0,9,     -999.0,9,     2.3997,2,     -999.0,9
320620170703,        P06,      38,          1,          5,         39,2,20170712,       0522,   -30.0797,   164.1209,       2496,  1922.0,   2.5040,  34.6300,2,  34.6266,2, 152.8318,2, 152.8781,2,   104.9,2,   34.68,2,    0.00,2,    2.45,2,-999.000,9,-999.000,9,-999.0000,9,  2290.8,2, 2376.11,2,   7.5750,2, -999.00,9, -999.00,9, -999.00,  -999.0,9, -999.00,9,     -999.0,9,  -999.0,9, 20170712,      417, -30.0800, 164.1214,        0.0,1,      0.061,1,      4.706,1,      0.145,1,      25.01,     -999.0,9,     -999.0,9,     -999.0,9,     -999.0,9,     2.5040,2,     -999.0,9
320620170703,        P06,      38,          1,          6,          6,2,20170712,       0522,   -30.0797,   164.1209,       2496,  1819.6,   2.6867,  34.6146,2,  34.6124,2, 153.0406,2, 153.0296,2,   101.2,2,   34.55,2,    0.00,2,    2.44,2,-999.000,9,-999.000,9,-999.0000,9,  -999.0,9, -999.00,9,-999.0000,9, -999.00,9, -999.00,9, -999.00,  -999.0,9, -999.00,9,     -999.0,9,  -999.0,9, 20170712,      419, -30.0799, 164.1211,        0.0,1,      0.061,1,      4.704,1,      0.146,1,     -999.0,     -999.0,9,     -999.0,9,     -999.0,9,     -999.0,9,     2.6673,2,     -999.0,9
320620170703,        P06,      38,          1,          7,         40,2,20170712,       0522,   -30.0797,   164.1209,       2496,  1717.9,   2.8915,  34.5980,2,  34.5952,2, 154.0335,2, 154.0866,2,    96.1,2,   34.33,2,    0.00,2,    2.42,2,-999.000,9,-999.000,9,-999.0000,9,  2278.6,2, 2365.54,2,   7.5776,2, -999.00,9, -999.00,9, -999.00,  -999.0,9, -999.00,9,     -999.0,9,  -999.0,9, 20170712,      422, -30.0798, 164.1207,        0.0,1,      0.061,1,      4.705,1,      0.146,1,      24.99,     -999.0,9,     -999.0,9,     -999.0,9,     -999.0,9,     2.8663,2,     -999.0,9
320620170703,        P06,      38,          1,          8,          8,2,20170712,       0522,   -30.0797,   164.1209,       2496,  1616.9,   3.1444,  34.5784,2,  34.5732,2, 156.2414,2, 156.4386,2,    89.4,2,   33.98,2,    0.00,2,    2.39,2,-999.000,9,-999.000,9,-999.0000,9,  -999.0,9, -999.00,9,-999.0000,9, -999.00,9, -999.00,9, -999.00,  -999.0,9, -999.00,9,     -999.0,9,  -999.0,9, 20170712,      425, -30.0798, 164.1202,        0.0,1,      0.061,1,      4.705,1,      0.144,1,     -999.0,     -999.0,9,     -999.0,9,     -999.0,9,     -999.0,9,     3.1346,2,     -999.0,9
320620170703,        P06,      38,          1,          9,         41,2,20170712,       0522,   -30.0797,   164.1209,       2496,  1515.0,   3.3787,  34.5594,2,  34.5523,2, 159.9878,2, 159.5398,2,    81.8,2,   33.53,2,    0.00,2,    2.34,2,-999.000,9,-999.000,9,-999.0000,9,  2262.1,2, 2352.95,2,   7.5863,2, -999.00,9, -999.00,9, -999.00,  -999.0,9, -999.00,9,     -999.0,9,  -999.0,9, 20170712,      428, -30.0798, 164.1200,        0.0,1,      0.061,1,      4.705,1,      0.144,1,      25.01,     -999.0,9,     -999.0,9,     -999.0,9,     -999.0,9,     3.4071,2,     -999.0,9
320620170703,        P06,      38,          1,         10,         10,2,20170712,       0522,   -30.0797,   164.1209,       2496,  1416.1,   3.7788,  34.5279,2,  34.5215,2, 165.4462,2, 166.0224,2,    71.3,2,   32.76,2,    0.00,2,    2.28,2,-999.000,9,-999.000,9,-999.0000,9,  2245.9,2, 2337.57,2,   7.5942,2, -999.00,9, -999.00,9, -999.00,  -999.0,9, -999.00,9,     -999.0,9,  -999.0,9, 20170712,      431, -30.0798, 164.1200,        0.0,1,      0.060,1,      4.705,1,      0.143,1,      25.00,     -999.0,9,     -999.0,9,     -999.0,9,     -999.0,9,     3.7946,2,     -999.0,9
320620170703,        P06,      38,          1,         11,         42,2,20170712,       0522,   -30.0797,   164.1209,       2496,  1314.7,   4.2176,  34.4859,2,  34.4787,2, 174.1779,2, 174.2261,2,    58.6,2,   31.72,2,    0.00,2,    2.19,2,-999.000,9,-999.000,9,-999.0000,9,  2228.4,2, 2325.06,2,   7.6064,2, -999.00,9, -999.00,9, -999.00,  -999.0,9, -999.00,9,     -999.0,9,  -999.0,9, 20170712,      433, -30.0798, 164.1202,        0.0,1,      0.061,1,      4.706,1,      0.143,1,      25.00,     -999.0,9,     -999.0,9,     -999.0,9,     -999.0,9,     4.2361,2,     -999.0,9
320620170703,        P06,      38,          1,         12,         12,2,20170712,       0522,   -30.0797,   164.1209,       2496,  1211.7,   4.6510,  34.4535,2,  34.4495,2, 180.8493,2, 181.2109,2,    48.7,2,   30.86,2,    0.00,2,    2.13,2,-999.000,9,-999.000,9,-999.0000,9,  -999.0,9, -999.00,9,-999.0000,9, -999.00,9, -999.00,9, -999.00,  -999.0,9, -999.00,9,     -999.0,9,  -999.0,9, 20170712,      436, -30.0798, 164.1203,        0.0,1,      0.061,1,      4.706,1,      0.145,1,     -999.0,     -999.0,9,     -999.0,9,     -999.0,9,     -999.0,9,     4.6140,2,     -999.0,9
320620170703,        P06,      38,          1,         13,         43,2,20170712,       0522,   -30.0797,   164.1209,       2496,  1109.9,   5.2875,  34.4418,2,  34.4396,3, 188.5600,2, 188.4291,2,    37.4,2,   29.23,2,    0.00,2,    2.00,2,-999.000,9,-999.000,9,-999.0000,9,  2198.4,6, 2302.05,2,   7.6338,2, -999.00,9, -999.00,9, -999.00,  -999.0,9, -999.00,9,     -999.0,9,  -999.0,9, 20170712,      439, -30.0797, 164.1205,        0.0,1,      0.061,1,      4.705,1,      0.149,1,      25.01,     -999.0,9,     -999.0,9,     -999.0,9,     -999.0,9,     5.3449,2,     -999.0,9
320620170703,        P06,      38,          1,         14,         14,2,20170712,       0522,   -30.0797,   164.1209,       2496,  1008.9,   5.9808,  34.4519,2,  34.4479,2, 194.4538,2, 194.0437,2,    28.7,2,   27.63,2,    0.00,2,    1.90,2,-999.000,9,-999.000,9,-999.0000,9,  -999.0,9, -999.00,9,-999.0000,9, -999.00,9, -999.00,9, -999.00,  -999.0,9, -999.00,9,     -999.0,9,  -999.0,9, 20170712,      442, -30.0797, 164.1206,        0.0,1,      0.060,1,      4.705,1,      0.139,1,     -999.0,     -999.0,9,     -999.0,9,     -999.0,9,     -999.0,9,     5.9743,2,     -999.0,9
320620170703,        P06,      38,          1,         15,         15,2,20170712,       0522,   -30.0797,   164.1209,       2496,   908.1,   6.7022,  34.4666,2,  34.4642,2, 200.2101,2, 200.4406,2,    20.2,2,   25.68,2,    0.00,2,    1.76,2,-999.000,9,-999.000,9,-999.0000,9,  2169.8,2, 2289.94,6,   7.6717,2, -999.00,9, -999.00,9, -999.00,  -999.0,9, -999.00,9,     -999.0,9,  -999.0,9, 20170712,      444, -30.0797, 164.1204,        0.0,1,      0.061,1,      4.704,1,      0.141,1,      25.02,     -999.0,9,     -999.0,9,     -999.0,9,     -999.0,9,     6.7136,2,     -999.0,9
320620170703,        P06,      38,          1,         16,         16,2,20170712,       0522,   -30.0797,   164.1209,       2496,   807.2,   7.5182,  34.5294,2,  34.5307,2, 202.7362,2, 202.2347,2,    15.2,2,   23.55,2,    0.00,2,    1.59,2,-999.000,9,-999.000,9,-999.0000,9,  -999.0,9, -999.00,9,-999.0000,9, -999.00,9, -999.00,9, -999.00,  -999.0,9, -999.00,9,     -999.0,9,  -999.0,9, 20170712,      447, -30.0797, 164.1201,        0.0,1,      0.059,1,      4.704,1,      0.141,1,     -999.0,     -999.0,9,     -999.0,9,     -999.0,9,     -999.0,9,     7.5975,2,     -999.0,9
320620170703,        P06,      38,          1,         17,         17,2,20170712,       0522,   -30.0797,   164.1209,       2496,   705.7,   8.6789,  34.6278,2,  34.6346,2, 202.0670,2, 201.8879,2,    10.7,2,   21.02,2,    0.00,2,    1.41,2,-999.000,9,-999.000,9,-999.0000,9,  2151.7,2, 2284.31,2,   7.7147,2, -999.00,9, -999.00,9, -999.00,  -999.0,9, -999.00,9,     -999.0,9,  -999.0,9, 20170712,      450, -30.0797, 164.1201,        0.0,1,      0.060,1,      4.702,1,      0.140,1,      25.00,     -999.0,9,     -999.0,9,     -999.0,9,     -999.0,9,     8.7560,2,     -999.0,9
320620170703,        P06,      38,          1,         18,         18,2,20170712,       0522,   -30.0797,   164.1209,       2496,   605.4,   9.9879,  34.7697,2,  34.7738,2, 198.9618,2, 198.9289,2,     7.5,2,   18.34,2,    0.00,2,    1.21,2,-999.000,9,-999.000,9,-999.0000,9,  -999.0,9, -999.00,9,-999.0000,9, -999.00,9, -999.00,9, -999.00,  -999.0,9, -999.00,9,     -999.0,9,  -999.0,9, 20170712,      453, -30.0797, 164.1201,        0.0,1,      0.059,1,      4.700,1,      0.144,1,     -999.0,     -999.0,9,     -999.0,9,     -999.0,9,     -999.0,9,    10.0506,2,     -999.0,9
320620170703,        P06,      38,          1,         19,         19,2,20170712,       0522,   -30.0797,   164.1209,       2496,   504.1,  11.9912,  35.0012,2,  34.9982,2, 196.6049,2, 196.4010,2,     5.0,2,   14.20,2,    0.00,2,    0.97,2,-999.000,9,-999.000,9,-999.0000,9,  2131.2,2, 2299.90,2,   7.7891,2, -999.00,9, -999.00,9, -999.00,  -999.0,9, -999.00,9,     -999.0,9,  -999.0,9, 20170712,      455, -30.0797, 164.1201,        0.0,1,      0.060,1,      4.698,1,      0.141,1,      25.01,     -999.0,9,     -999.0,9,     -999.0,9,     -999.0,9,    12.0208,2,     -999.0,9
320620170703,        P06,      38,          1,         20,         20,2,20170712,       0522,   -30.0797,   164.1209,       2496,   454.6,  12.8433,  35.0799,2,  35.0819,2, 195.2313,2, 195.5626,2,     4.1,2,   12.59,2,    0.00,2,    0.84,2,-999.000,9,-999.000,9,-999.0000,9,  2126.4,2, 2300.62,2,   7.8091,2, -999.00,9, -999.00,9, -999.00,  -999.0,9, -999.00,9,     -999.0,9,  -999.0,9, 20170712,      457, -30.0797, 164.1201,        0.0,1,      0.060,1,      4.696,1,      0.141,1,      25.00,     -999.0,9,     -999.0,9,     -999.0,9,     -999.0,9,    12.9009,2,     -999.0,9
320620170703,        P06,      38,          1,         21,         21,2,20170712,       0522,   -30.0797,   164.1209,       2496,   402.9,  13.9527,  35.2074,2,  35.2398,3, 193.9552,2, 194.4509,2,     3.0,2,   10.14,2,    0.00,2,    0.70,2,-999.000,9,-999.000,9,-999.0000,9,  2115.5,2, 2310.02,2,   7.8449,2, -999.00,9, -999.00,9, -999.00,  -999.0,9, -999.00,9,     -999.0,9,  -999.0,9, 20170712,      459, -30.0797, 164.1202,        0.0,1,      0.059,1,      4.696,1,      0.144,1,      24.96,     -999.0,9,     -999.0,9,     -999.0,9,     -999.0,9,    14.2005,2,     -999.0,9
320620170703,        P06,      38,          1,         22,         22,2,20170712,       0522,   -30.0797,   164.1209,       2496,   351.4,  15.4197,  35.3821,2,  35.3693,2, 194.7131,2, 195.1047,2,     2.3,2,    8.46,2,    0.00,2,    0.60,2,-999.000,9,-999.000,9,-999.0000,9,  2107.2,2, 2313.46,2,   7.8724,2, -999.00,9, -999.00,9, -999.00,  -999.0,9, -999.00,9,     -999.0,9,  -999.0,9, 20170712,      501, -30.0798, 164.1203,        0.0,1,      0.060,1,      4.695,1,      0.142,1,      25.00,     -999.0,9,     -999.0,9,     -999.0,9,     -999.0,9,    15.3223,2,     -999.0,9
320620170703,        P06,      38,          1,         23,         23,2,20170712,       0522,   -30.0797,   164.1209,       2496,   303.3,  16.5328,  35.4910,2,  35.4866,2, 195.0476,2, 195.8310,2,     1.8,2,    6.72,2,    0.00,2,    0.49,2,-999.000,9,-999.000,9,-999.0000,9,  2095.6,2, 2318.66,2,   7.9028,2, -999.00,9, -999.00,9, -999.00,  -999.0,9, -999.00,9,     -999.0,9,  -999.0,9, 20170712,      503, -30.0797, 164.1202,        0.0,1,      0.060,1,      4.695,1,      0.140,1,      25.01,     -999.0,9,     -999.0,9,     -999.0,9,     -999.0,9,    16.4926,2,     -999.0,9
320620170703,        P06,      38,          1,         24,         24,2,20170712,       0522,   -30.0797,   164.1209,       2496,   251.3,  17.6538,  35.5863,2,  35.5829,2, 196.3621,2, 195.7172,2,     1.2,2,    5.31,2,    0.00,2,    0.39,2,-999.000,9,-999.000,9,-999.0000,9,  2086.6,2, 2330.82,2,   7.9293,2, -999.00,9, -999.00,9, -999.00,  -999.0,9, -999.00,9,     -999.0,9,  -999.0,9, 20170712,      505, -30.0797, 164.1202,        0.0,1,      0.060,1,      4.693,1,      0.141,1,      25.00,     -999.0,9,     -999.0,9,     -999.0,9,     -999.0,9,    17.6580,2,     -999.0,9
320620170703,        P06,      38,          1,         25,         25,2,20170712,       0522,   -30.0797,   164.1209,       2496,   205.9,  18.4922,  35.6545,2,  35.6524,2, 197.6607,2, 197.2649,2,     1.0,2,    4.13,2,    0.02,2,    0.31,2,-999.000,9,-999.000,9,-999.0000,9,  2080.7,2, 2331.21,6,   7.9491,2, -999.00,9, -999.00,9, -999.00,  -999.0,9, -999.00,9,     -999.0,9,  -999.0,9, 20170712,      507, -30.0797, 164.1201,        0.0,1,      0.065,1,      4.689,1,      0.147,1,      25.01,     -999.0,9,     -999.0,9,     -999.0,9,     -999.0,9,    18.4466,2,     -999.0,9
320620170703,        P06,      38,          1,         26,         26,2,20170712,       0522,   -30.0797,   164.1209,       2496,   177.3,  19.0481,  35.6918,2,  35.6877,2, 198.6429,2, 199.1493,2,     0.8,2,    3.27,2,    0.02,2,    0.27,2,-999.000,9,-999.000,9,-999.0000,9,  2075.4,2, 2330.92,2,   7.9607,2, -999.00,9, -999.00,9, -999.00,  -999.0,9, -999.00,9,     -999.0,9,  -999.0,9, 20170712,      510, -30.0798, 164.1200,        0.0,1,      0.069,1,      4.686,1,      0.151,1,      25.00,     -999.0,9,     -999.0,9,     -999.0,9,     -999.0,9,    19.0319,2,     -999.0,9
320620170703,        P06,      38,          1,         27,         27,2,20170712,       0522,   -30.0797,   164.1209,       2496,   150.3,  19.6685,  35.7518,2,  35.7187,2, 200.8215,3, 197.9383,2,     0.8,2,    3.22,2,    0.04,2,    0.26,2,-999.000,9,-999.000,9,-999.0000,9,  2072.9,2, 2334.77,2,   7.9717,2, -999.00,9, -999.00,9, -999.00,  -999.0,9, -999.00,9,     -999.0,9,  -999.0,9, 20170712,      512, -30.0797, 164.1203,        0.0,1,      0.073,1,      4.680,1,      0.161,1,      25.00,     -999.0,9,     -999.0,9,     -999.0,9,     -999.0,9,    19.4961,2,     -999.0,9
320620170703,        P06,      38,          1,         28,         28,2,20170712,       0522,   -30.0797,   164.1209,       2496,   125.4,  20.1779,  35.8346,2,  35.8021,2, 213.4023,2, 212.8637,2,     0.5,2,    1.23,2,    0.18,2,    0.14,2,-999.000,9,-999.000,9,-999.0000,9,  2056.3,2, 2338.10,2,   8.0058,2, -999.00,9, -999.00,9, -999.00,  -999.0,9, -999.00,9,     -999.0,9,  -999.0,9, 20170712,      514, -30.0797, 164.1205,        0.0,1,      0.155,1,      4.641,1,      0.195,1,      25.01,     -999.0,9,     -999.0,9,     -999.0,9,     -999.0,9,    19.9842,2,     -999.0,9
320620170703,        P06,      38,          1,         29,         29,2,20170712,       0522,   -30.0797,   164.1209,       2496,   101.0,  20.2038,  35.8402,2,  35.8388,2, 220.9120,2, 219.7000,2,     0.4,2,    0.38,2,    0.14,2,    0.09,2,-999.000,9,-999.000,9,-999.0000,9,  2051.1,2, 2342.84,2,   8.0210,2, -999.00,9, -999.00,9, -999.00,  -999.0,9, -999.00,9,     -999.0,9,  -999.0,9, 20170712,      515, -30.0797, 164.1208,        0.0,1,      0.177,1,      4.632,1,      0.203,1,      25.00,     -999.0,9,     -999.0,9,     -999.0,9,     -999.0,9,    20.1904,2,     -999.0,9
320620170703,        P06,      38,          1,         30,         30,2,20170712,       0522,   -30.0797,   164.1209,       2496,    75.0,  20.1970,  35.8393,2,  35.8416,2, 220.9120,2, 220.1765,2,     0.4,2,    0.34,2,    0.14,2,    0.09,2,-999.000,9,-999.000,9,-999.0000,9,  2050.7,2, 2348.58,2,   8.0216,2, -999.00,9, -999.00,9, -999.00,  -999.0,9, -999.00,9,     -999.0,9,  -999.0,9, 20170712,      517, -30.0797, 164.1210,        0.0,1,      0.173,1,      4.633,1,      0.204,1,      25.00,     -999.0,9,     -999.0,9,     -999.0,9,     -999.0,9,    20.1905,2,     -999.0,9
320620170703,        P06,      38,          1,         31,         31,2,20170712,       0522,   -30.0797,   164.1209,       2496,    50.8,  20.1959,  35.8395,2,  35.8418,2, 220.9010,2, 220.5696,2,     0.3,2,    0.32,2,    0.14,2,    0.09,2,-999.000,9,-999.000,9,-999.0000,9,  2050.4,2, 2340.61,2,   8.0215,2, -999.00,9, -999.00,9, -999.00,  -999.0,9, -999.00,9,     -999.0,9,  -999.0,9, 20170712,      519, -30.0797, 164.1210,        0.0,1,      0.173,1,      4.630,1,      0.202,1,      25.01,     -999.0,9,     -999.0,9,     -999.0,9,     -999.0,9,    20.1879,2,     -999.0,9
320620170703,        P06,      38,          1,         32,         32,2,20170712,       0522,   -30.0797,   164.1209,       2496,    25.2,  20.1978,  35.8396,2,  35.8416,2, 220.9010,2, 220.3574,2,     0.3,2,    0.32,2,    0.14,2,    0.09,2,-999.000,9,-999.000,9,-999.0000,9,  2049.5,2, 2343.60,2,   8.0210,2, -999.00,9, -999.00,9, -999.00,  -999.0,9, -999.00,9,     -999.0,9,  -999.0,9, 20170712,      520, -30.0797, 164.1210,        0.0,1,      0.148,1,      4.622,1,      0.197,1,      25.00,     -999.0,9,     -999.0,9,     -999.0,9,     -999.0,9,    20.1851,2,     -999.0,9