BOTTLE,20230922CCHSIOCBG
EXPOCODE,SECT_ID,STNNBR,CASTNO,SAMPNO,BTLNBR,BTLNBR_FLAG_W,DATE,TIME,LATITUDE,LONGITUDE,DEPTH,CTDPRS,CTDTMP,CTDSAL,CTDSAL_FLAG_W,SALNTY,SALNTY_FLAG_W,CTDOXY,CTDOXY_FLAG_W,OXYGEN,OXYGEN_FLAG_W,SILCAT,SILCAT_FLAG_W,NITRAT,NITRAT_FLAG_W,NITRIT,NITRIT_FLAG_W,PHSPHT,PHSPHT_FLAG_W,CFC-11,CFC-11_FLAG_W,CFC-12,CFC-12_FLAG_W,SF6,SF6_FLAG_W,TCARBN,TCARBN_FLAG_W,ALKALI,ALKALI_FLAG_W,PH_TOT,PH_TOT_FLAG_W,DELC13,DELC13_FLAG_W,DELC14,DELC14_FLAG_W,C14ERR,DOC,DOC_FLAG_W,TDN,TDN_FLAG_W,TON,TON_FLAG_W,D15N_NO3,D15N_NO3_FLAG_W,BTL_DATE,BTL_TIME,BTL_LAT,BTL_LON,CTDRINKO,CTDRINKO_FLAG_W,CTDFLUOR,CTDFLUOR_FLAG_W,CTDXMISS,CTDXMISS_FLAG_W,CTDBACKSCATTER,CTDBACKSCATTER_FLAG_W,PH_TMP,D18O_NO3,D18O_NO3_FLAG_W,DOP,DOP_FLAG_W,HPLC,HPLC_FLAG_W,POC,POC_FLAG_W,REFTMP,REFTMP_FLAG_W,TDP,TDP_FLAG_W
,,,,,,,,,,,METERS,DBAR,ITS-90,PSS-78,,PSS-78,,UMOL/KG,,UMOL/KG,,UMOL/KG,,UMOL/KG,,UMOL/KG,,UMOL/KG,,PMOL/KG,,PMOL/KG,,FMOL/KG,,UMOL/KG,,UMOL/KG,,,,/MILLE,,/MILLE,,/MILLE,UMOL/KG,,UMOL/KG,,UMOL/KG,,/MILLE,,,,,,VOLTS,,VOLTS,,VOLTS,,VOLTS,,DEGC,/MILLE,,UMOL/KG,,,,UG/L,,ITS-90,,UMOL/KG,
320620170703,        P06,     131,          1,         33,         33,2,20170809,       1818,   -32.5001,  -156.9462,       5425,    65.8,  16.7356,  35.5072,2,  35.5458,2, 233.0543,3, 235.6139,2,     0.1,2,    0.10,2,    0.02,2,    0.09,2,   2.285,2,   1.319,2,   1.2350,2,  2066.3,2, 2334.46,2,   7.9730,2, -999.00,9, -999.00,9, -999.00,  -999.0,9, -999.00,9,     -999.0,9,  -999.0,9, 20170809,     1813, -32.5000,-156.9469,        0.0,1,      0.164,1,      4.636,1,      0.182,1,      25.05,     -999.0,9,     -999.0,9,     -999.0,9,     -999.0,9,    17.0770,2,     -999.0,9
320620170703,        P06,     131,          1,         34,         34,2,20170809,       1818,   -32.5001,  -156.9462,       5425,    40.3,  17.0092,  35.5350,2,  35.5444,2, 231.5501,3, 235.9877,2,     0.1,2,    0.11,2,    0.02,2,    0.10,2,   2.230,2,   1.321,2,   1.6370,4,  -999.0,9, -999.00,9,-999.0000,9, -999.00,9, -999.00,9, -999.00,  -999.0,9, -999.00,9,     -999.0,9,  -999.0,9, 20170809,     1815, -32.5000,-156.9467,        0.0,1,      0.156,1,      4.639,1,      0.181,1,     -999.0,     -999.0,9,     -999.0,9,     -999.0,9,     -999.0,9,    17.0702,2,     -999.0,9
320620170703,        P06,     131,          1,         35,         35,2,20170809,       1818,   -32.5001,  -156.9462,       5425,    19.1,  17.0402,  35.5408,2,  35.5442,2, 231.2782,3, 235.7412,2,     0.1,2,    0.12,2,    0.02,2,    0.11,2,   2.269,2,   1.343,2,   1.4660,2,  2068.9,2, 2335.17,2,   7.9734,2, -999.00,9, -999.00,9, -999.00,  -999.0,9, -999.00,9,     -999.0,9,  -999.0,9, 20170809,     1817, -32.5000,-156.9464,        0.0,1,      0.155,1,      4.639,1,      0.174,1,      25.02,     -999.0,9,     -999.0,9,     -999.0,9,     -999.0,9,    17.0668,2,     -999.0,9
320620170703,        P06,     131,          1,         36,         36,2,20170809,       1818,   -32.5001,  -156.9462,       5425,     4.4,  17.0348,  35.5403,2,  35.5460,2, 231.6867,3, 235.5654,2,     0.2,2,    0.11,2,    0.02,2,    0.12,2,   2.203,6,   1.292,6,   1.4200,6,  2067.4,6, 2336.25,2,   7.9736,2,    0.89,2,   54.14,2,    2.34,  -999.0,9, -999.00,9,     -999.0,9,  -999.0,9, 20170809,     1818, -32.5001,-156.9462,        0.0,1,      0.159,1,      4.639,1,      0.174,1,      25.05,     -999.0,9,     -999.0,9,     -999.0,9,     -999.0,9,    17.0783,2,     -999.0,9