BOTTLE,20230922CCHSIOCBG
EXPOCODE,SECT_ID,STNNBR,CASTNO,SAMPNO,BTLNBR,BTLNBR_FLAG_W,DATE,TIME,LATITUDE,LONGITUDE,DEPTH,CTDPRS,CTDTMP,CTDSAL,CTDSAL_FLAG_W,SALNTY,SALNTY_FLAG_W,CTDOXY,CTDOXY_FLAG_W,OXYGEN,OXYGEN_FLAG_W,SILCAT,SILCAT_FLAG_W,NITRAT,NITRAT_FLAG_W,NITRIT,NITRIT_FLAG_W,PHSPHT,PHSPHT_FLAG_W,CFC-11,CFC-11_FLAG_W,CFC-12,CFC-12_FLAG_W,SF6,SF6_FLAG_W,TCARBN,TCARBN_FLAG_W,ALKALI,ALKALI_FLAG_W,PH_TOT,PH_TOT_FLAG_W,DELC13,DELC13_FLAG_W,DELC14,DELC14_FLAG_W,C14ERR,DOC,DOC_FLAG_W,TDN,TDN_FLAG_W,TON,TON_FLAG_W,D15N_NO3,D15N_NO3_FLAG_W,BTL_DATE,BTL_TIME,BTL_LAT,BTL_LON,CTDRINKO,CTDRINKO_FLAG_W,CTDFLUOR,CTDFLUOR_FLAG_W,CTDXMISS,CTDXMISS_FLAG_W,CTDBACKSCATTER,CTDBACKSCATTER_FLAG_W,PH_TMP,D18O_NO3,D18O_NO3_FLAG_W,DOP,DOP_FLAG_W,HPLC,HPLC_FLAG_W,POC,POC_FLAG_W,REFTMP,REFTMP_FLAG_W,TDP,TDP_FLAG_W
,,,,,,,,,,,METERS,DBAR,ITS-90,PSS-78,,PSS-78,,UMOL/KG,,UMOL/KG,,UMOL/KG,,UMOL/KG,,UMOL/KG,,UMOL/KG,,PMOL/KG,,PMOL/KG,,FMOL/KG,,UMOL/KG,,UMOL/KG,,,,/MILLE,,/MILLE,,/MILLE,UMOL/KG,,UMOL/KG,,UMOL/KG,,/MILLE,,,,,,VOLTS,,VOLTS,,VOLTS,,VOLTS,,DEGC,/MILLE,,UMOL/KG,,,,UG/L,,ITS-90,,UMOL/KG,
320620170703,        P06,     129,          1,         33,         33,2,20170809,       0153,   -32.4998,  -158.2078,       5658,    74.2,  17.6367,  35.5840,2,  35.5888,2, 230.8776,2, 232.4710,2,     0.1,2,    0.10,2,    0.02,2,    0.08,2,   2.234,2,   1.280,2,   1.3330,2,  2064.3,2, 2334.75,2,   7.9825,2, -999.00,9, -999.00,9, -999.00,  -999.0,9, -999.00,9,     -999.0,9,  -999.0,1, 20170809,      148, -32.4997,-158.2083,        0.0,1,      0.134,1,      4.651,1,      0.164,1,      25.03,     -999.0,1,     -999.0,1,     -999.0,9,     -999.0,9,    17.6680,2,     -999.0,9
320620170703,        P06,     129,          1,         34,         34,2,20170809,       0153,   -32.4998,  -158.2078,       5658,    49.7,  17.6605,  35.5891,2,  35.5908,2, 231.5516,2, 232.1272,2,     0.1,2,    0.11,2,    0.02,2,    0.09,2,   2.220,2,   1.281,2,   1.2480,2,  -999.0,9, -999.00,9,-999.0000,9, -999.00,9, -999.00,9, -999.00,  -999.0,9, -999.00,9,     -999.0,9,  -999.0,1, 20170809,      150, -32.4998,-158.2080,        0.0,1,      0.127,1,      4.650,1,      0.164,1,     -999.0,     -999.0,1,     -999.0,1,     -999.0,9,     -999.0,9,    17.7025,2,       0.24,2
320620170703,        P06,     129,          1,         35,         35,2,20170809,       0153,   -32.4998,  -158.2078,       5658,    23.1,  17.6579,  35.5894,2,  35.5841,2, 231.5516,2, 231.9818,2,     0.1,2,    0.12,2,    0.02,2,    0.09,2,   2.217,2,   1.279,2,   1.5440,2,  2062.2,2, 2336.99,2,   7.9823,2, -999.00,9, -999.00,9, -999.00,  -999.0,9, -999.00,9,     -999.0,9,  -999.0,1, 20170809,      151, -32.4998,-158.2079,        0.0,1,      0.103,1,      4.650,1,      0.163,1,      25.04,     -999.0,1,     -999.0,1,     -999.0,9,     -999.0,9,    17.7005,2,     -999.0,9
320620170703,        P06,     129,          1,         36,         36,2,20170809,       0153,   -32.4998,  -158.2078,       5658,     9.1,  17.6455,  35.5876,2,  35.5841,2, 231.5516,2, 233.1952,2,     0.1,2,    0.11,2,    0.02,2,    0.10,2,   2.240,2,   1.279,2,   1.3760,2,  2061.9,6, 2343.48,2,   7.9819,2, -999.00,9, -999.00,9, -999.00,  -999.0,9, -999.00,9,     -999.0,9,  -999.0,1, 20170809,      153, -32.4998,-158.2078,        0.0,1,      0.090,1,      4.650,1,      0.161,1,      25.03,     -999.0,1,     -999.0,1,     -999.0,9,     -999.0,9,    17.6931,2,       0.25,2