BOTTLE,20230922CCHSIOCBG
EXPOCODE,SECT_ID,STNNBR,CASTNO,SAMPNO,BTLNBR,BTLNBR_FLAG_W,DATE,TIME,LATITUDE,LONGITUDE,DEPTH,CTDPRS,CTDTMP,CTDSAL,CTDSAL_FLAG_W,SALNTY,SALNTY_FLAG_W,CTDOXY,CTDOXY_FLAG_W,OXYGEN,OXYGEN_FLAG_W,SILCAT,SILCAT_FLAG_W,NITRAT,NITRAT_FLAG_W,NITRIT,NITRIT_FLAG_W,PHSPHT,PHSPHT_FLAG_W,CFC-11,CFC-11_FLAG_W,CFC-12,CFC-12_FLAG_W,SF6,SF6_FLAG_W,TCARBN,TCARBN_FLAG_W,ALKALI,ALKALI_FLAG_W,PH_TOT,PH_TOT_FLAG_W,DELC13,DELC13_FLAG_W,DELC14,DELC14_FLAG_W,C14ERR,DOC,DOC_FLAG_W,TDN,TDN_FLAG_W,TON,TON_FLAG_W,D15N_NO3,D15N_NO3_FLAG_W,BTL_DATE,BTL_TIME,BTL_LAT,BTL_LON,CTDRINKO,CTDRINKO_FLAG_W,CTDFLUOR,CTDFLUOR_FLAG_W,CTDXMISS,CTDXMISS_FLAG_W,CTDBACKSCATTER,CTDBACKSCATTER_FLAG_W,PH_TMP,D18O_NO3,D18O_NO3_FLAG_W,DOP,DOP_FLAG_W,HPLC,HPLC_FLAG_W,POC,POC_FLAG_W,REFTMP,REFTMP_FLAG_W,TDP,TDP_FLAG_W
,,,,,,,,,,,METERS,DBAR,ITS-90,PSS-78,,PSS-78,,UMOL/KG,,UMOL/KG,,UMOL/KG,,UMOL/KG,,UMOL/KG,,UMOL/KG,,PMOL/KG,,PMOL/KG,,FMOL/KG,,UMOL/KG,,UMOL/KG,,,,/MILLE,,/MILLE,,/MILLE,UMOL/KG,,UMOL/KG,,UMOL/KG,,/MILLE,,,,,,VOLTS,,VOLTS,,VOLTS,,VOLTS,,DEGC,/MILLE,,UMOL/KG,,,,UG/L,,ITS-90,,UMOL/KG,
320620170703,        P06,      96,          1,          1,          1,2,20170728,       0216,   -32.4996,  -176.2493,       5692,  5801.1,   1.1435,  34.7075,2,  34.7072,2, 206.2101,2, 206.4961,2,   122.9,2,   32.06,2,    0.00,2,    2.23,2,   0.152,2,   0.080,2,   0.0000,2,  2263.7,6, 2365.92,2,   7.6064,2, -999.00,9, -999.00,9, -999.00,  -999.0,5, -999.00,9,     -999.0,1,  -999.0,9, 20170727,     2359, -32.5001,-176.2501,        0.0,1,      0.061,1,      4.697,1,      0.127,1,      25.02,     -999.0,9,     -999.0,9,     -999.0,9,     -999.0,9,     1.1440,2,     -999.0,9
320620170703,        P06,      96,          1,          2,          2,2,20170728,       0216,   -32.4996,  -176.2493,       5692,  5573.8,   1.1157,  34.7078,2,  34.7074,2, 206.2101,2, 206.1884,2,   122.9,2,   32.05,2,    0.00,2,    2.21,2,   0.151,2,   0.083,2,   0.0000,2,  2264.5,2, 2363.01,2,   7.6064,2, -999.00,9, -999.00,9, -999.00,  -999.0,9, -999.00,9,     -999.0,9,  -999.0,9, 20170728,        6, -32.5000,-176.2500,        0.0,1,      0.060,1,      4.699,1,      0.125,1,      25.02,     -999.0,9,     -999.0,9,     -999.0,9,     -999.0,9,     1.1161,2,     -999.0,9
320620170703,        P06,      96,          1,          3,          3,2,20170728,       0216,   -32.4996,  -176.2493,       5692,  5264.7,   1.0828,  34.7082,2,  34.7074,2, 206.2101,2, 206.6104,2,   122.4,2,   32.04,2,    0.00,2,    2.21,2,   0.145,2,   0.084,2,   0.0000,2,  2264.4,2, 3140.58,4,   7.6062,2, -999.00,9, -999.00,9, -999.00,  -999.0,5, -999.00,9,     -999.0,1,  -999.0,9, 20170728,       14, -32.4998,-176.2497,        0.0,1,      0.061,1,      4.700,1,      0.126,1,      25.00,     -999.0,9,     -999.0,9,     -999.0,9,     -999.0,9,     1.0835,2,     -999.0,9
320620170703,        P06,      96,          1,          4,          4,2,20170728,       0216,   -32.4996,  -176.2493,       5692,  4955.1,   1.0643,  34.7091,2,  34.7085,2, 206.2101,2, 206.1504,2,   121.8,2,   32.07,2,    0.00,2,    2.21,2,   0.153,2,   0.087,2,   0.0000,2,  2262.8,2, 2364.05,2,   7.6065,2, -999.00,9, -999.00,9, -999.00,  -999.0,9, -999.00,9,     -999.0,9,  -999.0,9, 20170728,       21, -32.4999,-176.2498,        0.0,1,      0.061,1,      4.701,1,      0.128,1,      25.00,     -999.0,9,     -999.0,9,     -999.0,9,     -999.0,9,     1.0653,2,     -999.0,9
320620170703,        P06,      96,          1,          5,          5,2,20170728,       0216,   -32.4996,  -176.2493,       5692,  4646.7,   1.0645,  34.7103,2,  34.7097,2, 206.2101,2, 206.2870,2,   120.8,2,   31.92,2,    0.00,2,    2.21,2,   0.161,2,   0.088,2,   0.0000,2,  2262.7,2, 2361.16,6,   7.6061,2, -999.00,9, -999.00,9, -999.00,  -999.0,5, -999.00,9,     -999.0,1,  -999.0,9, 20170728,       28, -32.5000,-176.2500,        0.0,1,      0.061,1,      4.701,1,      0.128,1,      25.00,     -999.0,9,     -999.0,9,     -999.0,9,     -999.0,9,     1.0647,2,     -999.0,9
320620170703,        P06,      96,          1,          6,          6,2,20170728,       0216,   -32.4996,  -176.2493,       5692,  4337.2,   1.0949,  34.7128,2,  34.7117,2, 205.7253,2, 205.0961,2,   119.3,2,   31.81,2,    0.00,2,    2.21,2,   0.152,2,   0.084,2,   0.0000,2,  2262.1,2, 2369.21,2,   7.6064,2, -999.00,9, -999.00,9, -999.00,  -999.0,9, -999.00,9,     -999.0,9,  -999.0,9, 20170728,       34, -32.5000,-176.2500,        0.0,1,      0.061,1,      4.701,1,      0.130,1,      25.01,     -999.0,9,     -999.0,9,     -999.0,9,     -999.0,9,     1.0896,2,     -999.0,9
320620170703,        P06,      96,          1,          7,          7,2,20170728,       0216,   -32.4996,  -176.2493,       5692,  4030.6,   1.1715,  34.7162,2,  34.7154,2, 203.5498,2, 203.5334,2,   116.2,2,   31.73,2,    0.00,2,    2.20,2,   0.134,2,   0.076,2,   0.0000,2,  2261.3,2, 2361.29,2,   7.6069,2, -999.00,9, -999.00,9, -999.00,  -999.0,5, -999.00,9,     -999.0,1,  -999.0,9, 20170728,       40, -32.4998,-176.2497,        0.0,1,      0.061,1,      4.701,1,      0.130,1,      25.02,     -999.0,9,     -999.0,9,     -999.0,9,     -999.0,9,     1.1640,2,     -999.0,9
320620170703,        P06,      96,          1,          8,          8,2,20170728,       0216,   -32.4996,  -176.2493,       5692,  3722.4,   1.3461,  34.7209,2,  34.7199,2, 199.2351,2, 199.3789,2,   111.7,2,   31.65,2,    0.00,2,    2.20,2,   0.111,2,   0.064,2,   0.0000,2,  2262.1,2, 2363.59,2,   7.6064,2, -999.00,9, -999.00,9, -999.00,  -999.0,5, -999.00,9,     -999.0,1,  -999.0,9, 20170728,       46, -32.4999,-176.2498,        0.0,1,      0.060,1,      4.701,1,      0.132,1,      25.00,     -999.0,9,     -999.0,9,     -999.0,9,     -999.0,9,     1.3309,2,     -999.0,9
320620170703,        P06,      96,          1,          9,          9,2,20170728,       0216,   -32.4996,  -176.2493,       5692,  3415.3,   1.5819,  34.7214,2,  34.7207,2, 192.2306,2, 192.5020,2,   106.9,2,   31.75,2,    0.00,2,    2.20,2,   0.098,2,   0.056,2,   0.0000,2,  2264.2,2, 2359.28,2,   7.6024,2, -999.00,9, -999.00,9, -999.00,  -999.0,9, -999.00,9,     -999.0,9,  -999.0,9, 20170728,       52, -32.4998,-176.2497,        0.0,1,      0.061,1,      4.700,1,      0.133,1,      25.00,     -999.0,9,     -999.0,9,     -999.0,9,     -999.0,9,     1.5738,2,     -999.0,9
320620170703,        P06,      96,          1,         10,         10,2,20170728,       0216,   -32.4996,  -176.2493,       5692,  3140.4,   1.7488,  34.6964,2,  34.6958,2, 173.4786,2, 172.2967,2,   115.1,2,   33.41,2,    0.00,2,    2.35,2,   0.064,2,   0.038,2,   0.0000,2,  2286.7,2, 2376.50,2,   7.5869,2, -999.00,9, -999.00,9, -999.00,  -999.0,5, -999.00,9,     -999.0,1,  -999.0,9, 20170728,       58, -32.4998,-176.2497,        0.0,1,      0.061,1,      4.701,1,      0.133,1,      25.01,     -999.0,9,     -999.0,9,     -999.0,9,     -999.0,9,     1.7478,2,     -999.0,9
320620170703,        P06,      96,          1,         11,         11,2,20170728,       0216,   -32.4996,  -176.2493,       5692,  2904.2,   1.8927,  34.6679,2,  34.6659,2, 154.3005,2, 153.4214,2,   124.9,2,   35.21,2,    0.00,2,    2.48,2,   0.040,2,   0.026,2,   0.0000,2,  2309.4,2, 2390.90,2,   7.5713,2, -999.00,9, -999.00,9, -999.00,  -999.0,9, -999.00,9,     -999.0,9,  -999.0,9, 20170728,      103, -32.4999,-176.2498,        0.0,1,      0.062,1,      4.701,1,      0.134,1,      25.01,     -999.0,9,     -999.0,9,     -999.0,9,     -999.0,9,     1.9026,2,     -999.0,9
320620170703,        P06,      96,          1,         12,         12,2,20170728,       0216,   -32.4996,  -176.2493,       5692,  2630.1,   2.0576,  34.6489,2,  34.6482,2, 147.6757,2, 147.6768,2,   123.3,2,   35.64,2,    0.00,2,    2.51,2,   0.032,2,   0.021,2,   0.0000,2,  2311.1,6, 2394.93,2,   7.5644,2, -999.00,9, -999.00,9, -999.00,  -999.0,5, -999.00,9,     -999.0,1,  -999.0,9, 20170728,      109, -32.5000,-176.2499,        0.0,1,      0.061,1,      4.702,1,      0.135,1,      25.02,     -999.0,9,     -999.0,9,     -999.0,9,     -999.0,9,     2.0606,2,     -999.0,9
320620170703,        P06,      96,          1,         13,         13,2,20170728,       0216,   -32.4996,  -176.2493,       5692,  2373.3,   2.2140,  34.6352,2,  34.6345,2, 147.3364,2, 147.9094,2,   117.4,2,   35.54,2,    0.00,2,    2.50,2,   0.034,2,   0.020,2,   0.0000,2,  2303.6,2, 2391.54,2,   7.5651,2, -999.00,9, -999.00,9, -999.00,  -999.0,9, -999.00,9,     -999.0,9,  -999.0,9, 20170728,      114, -32.4998,-176.2497,        0.0,1,      0.061,1,      4.702,1,      0.135,1,      25.00,     -999.0,9,     -999.0,9,     -999.0,9,     -999.0,9,     2.2039,2,     -999.0,9
320620170703,        P06,      96,          1,         14,         14,2,20170728,       0216,   -32.4996,  -176.2493,       5692,  2119.2,   2.3696,  34.6187,2,  34.6191,2, 148.2721,2, 149.4162,2,   110.8,2,   35.46,2,    0.00,2,    2.48,2,   0.037,2,   0.025,2,   0.0000,2,  2298.1,2, 2386.88,2,   7.5649,2, -999.00,9, -999.00,9, -999.00,  -999.0,5, -999.00,9,     -999.0,1,  -999.0,9, 20170728,      119, -32.4998,-176.2496,        0.0,1,      0.061,1,      4.702,1,      0.137,1,      25.01,     -999.0,9,     -999.0,9,     -999.0,9,     -999.0,9,     2.3565,2,     -999.0,9
320620170703,        P06,      96,          1,         15,         15,2,20170728,       0216,   -32.4996,  -176.2493,       5692,  1865.2,   2.5562,  34.5939,2,  34.5946,2, 152.9828,2, 154.0820,2,   100.0,2,   34.98,2,    0.00,2,    2.45,2,   0.042,2,   0.026,2,   0.0000,2,  2285.7,2, 2368.97,2,   7.5682,2, -999.00,9, -999.00,9, -999.00,  -999.0,9, -999.00,9,     -999.0,9,  -999.0,9, 20170728,      124, -32.4999,-176.2498,        0.0,1,      0.060,1,      4.702,1,      0.137,1,      25.02,     -999.0,9,     -999.0,9,     -999.0,9,     -999.0,9,     2.5342,2,     -999.0,9
320620170703,        P06,      96,          1,         16,         16,2,20170728,       0216,   -32.4996,  -176.2493,       5692,  1617.1,   2.8517,  34.5438,2,  34.5427,2, 159.8447,2, 160.6773,2,    84.1,2,   34.47,2,    0.00,2,    2.41,2,   0.078,2,   0.047,2,   0.0000,2,  2266.3,2, 2348.14,2,   7.5714,2, -999.00,9, -999.00,9, -999.00,  -999.0,5, -999.00,9,     -999.0,1,  -999.0,9, 20170728,      129, -32.5000,-176.2499,        0.0,1,      0.061,1,      4.702,1,      0.138,1,      25.01,     -999.0,9,     -999.0,9,     -999.0,9,     -999.0,9,     2.8647,2,     -999.0,9
320620170703,        P06,      96,          1,         17,         17,2,20170728,       0216,   -32.4996,  -176.2493,       5692,  1416.0,   3.2757,  34.4778,2,  34.4785,2, 170.4652,2, 170.2779,2,    66.8,2,   33.68,2,    0.00,2,    2.35,2,   0.175,2,   0.099,2,   0.0000,2,  2243.5,2, 2331.21,2,   7.5788,2, -999.00,9, -999.00,9, -999.00,  -999.0,5, -999.00,9,     -999.0,1,  -999.0,9, 20170728,      134, -32.5001,-176.2500,        0.0,1,      0.061,1,      4.702,1,      0.137,1,      25.01,     -999.0,9,     -999.0,9,     -999.0,9,     -999.0,9,     3.2702,2,     -999.0,9
320620170703,        P06,      96,          1,         18,         18,2,20170728,       0216,   -32.4996,  -176.2493,       5692,  1311.8,   3.6035,  34.4297,2,  34.4365,2, 177.3025,2, 176.4877,2,    57.0,2,   33.25,2,    0.00,2,    2.30,2,   0.264,2,   0.141,2,   0.0000,2,  2230.7,2, 2317.42,2,   7.5833,2, -999.00,9, -999.00,9, -999.00,  -999.0,9, -999.00,9,     -999.0,9,  -999.0,9, 20170728,      136, -32.5000,-176.2499,        0.0,1,      0.061,1,      4.702,1,      0.136,1,      25.01,     -999.0,9,     -999.0,9,     -999.0,9,     -999.0,9,     3.5517,2,     -999.0,9
320620170703,        P06,      96,          1,         19,         19,2,20170728,       0216,   -32.4996,  -176.2493,       5692,  1211.3,   4.0070,  34.3918,2,  34.3990,2, 185.3320,2, 185.4888,2,    46.4,2,   32.33,2,    0.00,2,    2.23,2,   0.468,2,   0.237,2,   0.0000,2,  2217.8,2, 2311.23,2,   7.5969,2, -999.00,9, -999.00,9, -999.00,  -999.0,5, -999.00,9,     -999.0,1,  -999.0,9, 20170728,      139, -32.5001,-176.2500,        0.0,1,      0.060,1,      4.702,1,      0.137,1,      25.00,     -999.0,9,     -999.0,9,     -999.0,9,     -999.0,9,     3.9396,2,     -999.0,9
320620170703,        P06,      96,          1,         20,         20,2,20170728,       0216,   -32.4996,  -176.2493,       5692,  1109.9,   4.6231,  34.3657,2,  34.3600,2, 193.4955,2, 193.0270,2,    35.9,2,   31.18,2,    0.00,2,    2.13,2,   0.710,2,   0.346,2,   0.1360,2,  2200.5,2, 2297.61,2,   7.6144,2, -999.00,9, -999.00,9, -999.00,  -999.0,9, -999.00,9,     -999.0,9,  -999.0,9, 20170728,      142, -32.5000,-176.2498,        0.0,1,      0.059,1,      4.702,1,      0.138,1,      25.02,     -999.0,9,     -999.0,9,     -999.0,9,     -999.0,9,     4.4329,2,     -999.0,9
320620170703,        P06,      96,          1,         21,         21,2,20170728,       0216,   -32.4996,  -176.2493,       5692,  1008.6,   5.2342,  34.3504,2,  34.3466,2, 202.0800,2, 202.1126,2,    27.4,2,   29.47,2,    0.00,2,    2.01,2,   1.174,2,   0.535,2,   0.2290,2,  2185.8,2, 2290.94,2,   7.6347,2, -999.00,9, -999.00,9, -999.00,  -999.0,5, -999.00,9,     -999.0,1,  -999.0,9, 20170728,      145, -32.4999,-176.2496,        0.0,1,      0.060,1,      4.701,1,      0.138,1,      25.02,     -999.0,9,     -999.0,9,     -999.0,9,     -999.0,9,     5.0133,2,     -999.0,9
320620170703,        P06,      96,          1,         22,         22,2,20170728,       0216,   -32.4996,  -176.2493,       5692,   908.7,   5.8617,  34.3575,2,  34.3476,2, 212.3574,2, 212.6965,2,    19.1,2,   27.32,2,    0.00,2,    1.88,2,   1.719,2,   0.802,2,   0.2910,2,  2169.7,2, 2280.68,2,   7.6614,2, -999.00,9, -999.00,9, -999.00,  -999.0,9, -999.00,9,     -999.0,9,  -999.0,9, 20170728,      147, -32.4998,-176.2496,        0.0,1,      0.059,1,      4.701,1,      0.139,1,      25.01,     -999.0,9,     -999.0,9,     -999.0,9,     -999.0,9,     5.7109,2,     -999.0,9
320620170703,        P06,      96,          1,         23,         23,2,20170728,       0216,   -32.4996,  -176.2493,       5692,   807.3,   6.4618,  34.3694,2,  34.3560,2, 223.2005,2, 222.6241,2,    13.2,2,   25.30,2,    0.00,2,    1.72,2,   2.347,2,   1.099,2,   0.4940,2,  2158.5,6, 2280.38,2,   7.6833,2, -999.00,9, -999.00,9, -999.00,  -999.0,5, -999.00,9,     -999.0,1,  -999.0,9, 20170728,      150, -32.4997,-176.2494,        0.0,1,      0.059,1,      4.700,1,      0.141,1,      25.02,     -999.0,9,     -999.0,9,     -999.0,9,     -999.0,9,     6.2989,2,     -999.0,9
320620170703,        P06,      96,          1,         24,         24,2,20170728,       0216,   -32.4996,  -176.2493,       5692,   705.9,   7.0813,  34.4192,2,  34.4328,2, 221.5225,2, 220.6951,2,    10.8,2,   23.22,2,    0.00,2,    1.56,2,   2.752,2,   1.351,2,   0.5790,2,  2154.6,2, 2278.69,2,   7.6973,2, -999.00,9, -999.00,9, -999.00,  -999.0,5, -999.00,9,     -999.0,1,  -999.0,9, 20170728,      153, -32.4996,-176.2494,        0.0,1,      0.060,1,      4.698,1,      0.142,1,      25.02,     -999.0,9,     -999.0,9,     -999.0,9,     -999.0,9,     7.1378,2,     -999.0,9
320620170703,        P06,      96,          1,         25,         25,2,20170728,       0216,   -32.4996,  -176.2493,       5692,   604.7,   7.9947,  34.5110,2,  34.5034,2, 219.7388,2, 218.9943,2,     8.3,2,   21.29,2,    0.00,2,    1.44,2,   3.036,6,   1.542,6,   0.7430,6,  2149.1,2, 2282.62,2,   7.7096,2, -999.00,9, -999.00,9, -999.00,  -999.0,5, -999.00,9,     -999.0,1,  -999.0,9, 20170728,      155, -32.4997,-176.2494,        0.0,1,      0.060,1,      4.696,1,      0.145,1,      25.01,     -999.0,9,     -999.0,9,     -999.0,9,     -999.0,9,     7.9383,2,     -999.0,9
320620170703,        P06,      96,          1,         26,         26,2,20170728,       0216,   -32.4996,  -176.2493,       5692,   504.3,   9.1694,  34.6369,2,  34.6168,2, 215.1804,2, 215.0083,2,     6.2,2,   18.68,2,    0.00,2,    1.26,2,   3.168,2,   1.588,2,   0.7740,2,  2143.5,2, 2284.41,2,   7.7319,2, -999.00,9, -999.00,9, -999.00,  -999.0,5, -999.00,9,     -999.0,1,  -999.0,9, 20170728,      158, -32.4997,-176.2494,        0.0,1,      0.060,1,      4.694,1,      0.147,1,      25.00,     -999.0,9,     -999.0,9,     -999.0,9,     -999.0,9,     9.0639,2,     -999.0,9
320620170703,        P06,      96,          1,         27,         27,2,20170728,       0216,   -32.4996,  -176.2493,       5692,   403.5,  11.0020,  34.8616,2,  34.8340,2, 206.6604,2, 207.8023,2,     4.6,2,   14.91,2,    0.00,2,    1.02,2,   2.907,2,   1.571,2,   1.0770,2,  2134.5,2, -999.00,9,   7.7679,2, -999.00,9, -999.00,9, -999.00,  -999.0,5, -999.00,9,     -999.0,1,  -999.0,9, 20170728,      201, -32.4997,-176.2494,        0.0,1,      0.059,1,      4.692,1,      0.142,1,      25.01,     -999.0,9,     -999.0,9,     -999.0,9,     -999.0,9,    10.8394,2,     -999.0,9
320620170703,        P06,      96,          1,         28,         28,2,20170728,       0216,   -32.4996,  -176.2493,       5692,   301.5,  12.8439,  35.0889,2,  35.0646,2, 205.0581,2, 206.5041,2,     2.8,2,   10.53,2,    0.00,2,    0.75,2,   2.822,2,   1.543,2,   1.1500,2,  2123.8,2, 2299.60,2,   7.8138,2, -999.00,9, -999.00,9, -999.00,  -999.0,5, -999.00,9,     -999.0,1,  -999.0,9, 20170728,      204, -32.4997,-176.2494,        0.0,1,      0.060,1,      4.692,1,      0.143,1,      25.02,     -999.0,9,     -999.0,9,     -999.0,9,     -999.0,9,    12.6764,2,     -999.0,9
320620170703,        P06,      96,          1,         29,         29,2,20170728,       0216,   -32.4996,  -176.2493,       5692,   252.2,  14.1464,  35.2655,2,  35.2154,2, 205.4795,2, 205.9275,2,     2.3,2,    8.60,2,    0.00,2,    0.62,2,   2.688,2,   1.496,2,   1.1690,2,  2115.2,2, -999.00,9,   7.8436,2, -999.00,9, -999.00,9, -999.00,  -999.0,5,   11.30,2,     -999.0,1,  -999.0,9, 20170728,      206, -32.4997,-176.2494,        0.0,1,      0.059,1,      4.690,1,      0.144,1,      25.01,     -999.0,9,     -999.0,9,     -999.0,9,     -999.0,9,    13.8261,2,     -999.0,9
320620170703,        P06,      96,          1,         30,         30,2,20170728,       0216,   -32.4996,  -176.2493,       5692,   201.4,  15.2752,  35.3878,2,  35.3577,2, 207.6251,2, 207.0163,2,     1.9,2,    6.75,2,    0.02,2,    0.50,2,   2.539,2,   1.430,2,   1.2410,2,  2107.9,2, 2315.84,2,   7.8733,2, -999.00,9, -999.00,9, -999.00,  -999.0,5,   10.10,2,     -999.0,1,  -999.0,9, 20170728,      207, -32.4997,-176.2494,        0.0,1,      0.062,1,      4.684,1,      0.153,1,      25.01,     -999.0,9,     -999.0,9,     -999.0,9,     -999.0,9,    14.9395,2,     -999.0,9
320620170703,        P06,      96,          1,         31,         31,2,20170728,       0216,   -32.4996,  -176.2493,       5692,   151.5,  17.4971,  35.6402,2,  35.4626,2, 206.6829,3, 204.3822,2,     1.6,2,    5.60,2,    0.03,2,    0.42,2,   2.446,2,   1.387,2,   1.1360,2,  2098.3,2, -999.00,9,   7.9010,2, -999.00,9, -999.00,9, -999.00,  -999.0,5,    9.10,2,     -999.0,1,  -999.0,9, 20170728,      209, -32.4997,-176.2494,        0.0,1,      0.133,1,      4.616,1,      0.271,1,      25.01,     -999.0,9,     -999.0,9,     -999.0,9,     -999.0,9,    16.1841,2,     -999.0,9
320620170703,        P06,      96,          1,         32,         32,2,20170728,       0216,   -32.4996,  -176.2493,       5692,   100.5,  17.6398,  35.6679,2,  35.6603,2, 235.6041,3, 231.1646,2,     0.5,2,    0.73,2,    0.11,2,    0.13,2,   2.247,2,   1.286,2,   1.3790,2,  2071.1,2, 2335.75,2,   7.9749,2, -999.00,9, -999.00,9, -999.00,  -999.0,5,    4.40,2,     -999.0,1,  -999.0,9, 20170728,      211, -32.4996,-176.2493,        0.0,1,      0.189,1,      4.579,1,      0.314,1,      25.02,     -999.0,9,     -999.0,9,     -999.0,9,     -999.0,9,    17.6381,2,     -999.0,9