BOTTLE,20230922CCHSIOCBG
EXPOCODE,SECT_ID,STNNBR,CASTNO,SAMPNO,BTLNBR,BTLNBR_FLAG_W,DATE,TIME,LATITUDE,LONGITUDE,DEPTH,CTDPRS,CTDTMP,CTDSAL,CTDSAL_FLAG_W,SALNTY,SALNTY_FLAG_W,CTDOXY,CTDOXY_FLAG_W,OXYGEN,OXYGEN_FLAG_W,SILCAT,SILCAT_FLAG_W,NITRAT,NITRAT_FLAG_W,NITRIT,NITRIT_FLAG_W,PHSPHT,PHSPHT_FLAG_W,CFC-11,CFC-11_FLAG_W,CFC-12,CFC-12_FLAG_W,SF6,SF6_FLAG_W,TCARBN,TCARBN_FLAG_W,ALKALI,ALKALI_FLAG_W,PH_TOT,PH_TOT_FLAG_W,DELC13,DELC13_FLAG_W,DELC14,DELC14_FLAG_W,C14ERR,DOC,DOC_FLAG_W,TDN,TDN_FLAG_W,TON,TON_FLAG_W,D15N_NO3,D15N_NO3_FLAG_W,BTL_DATE,BTL_TIME,BTL_LAT,BTL_LON,CTDRINKO,CTDRINKO_FLAG_W,CTDFLUOR,CTDFLUOR_FLAG_W,CTDXMISS,CTDXMISS_FLAG_W,CTDBACKSCATTER,CTDBACKSCATTER_FLAG_W,PH_TMP,D18O_NO3,D18O_NO3_FLAG_W,DOP,DOP_FLAG_W,HPLC,HPLC_FLAG_W,POC,POC_FLAG_W,REFTMP,REFTMP_FLAG_W,TDP,TDP_FLAG_W
,,,,,,,,,,,METERS,DBAR,ITS-90,PSS-78,,PSS-78,,UMOL/KG,,UMOL/KG,,UMOL/KG,,UMOL/KG,,UMOL/KG,,UMOL/KG,,PMOL/KG,,PMOL/KG,,FMOL/KG,,UMOL/KG,,UMOL/KG,,,,/MILLE,,/MILLE,,/MILLE,UMOL/KG,,UMOL/KG,,UMOL/KG,,/MILLE,,,,,,VOLTS,,VOLTS,,VOLTS,,VOLTS,,DEGC,/MILLE,,UMOL/KG,,,,UG/L,,ITS-90,,UMOL/KG,
320620170703,        P06,     128,          1,         33,         33,2,20170808,       1711,   -32.4997,  -158.9765,       5277,    66.1,  17.4920,  35.5952,2,  35.5924,2, 233.8496,2, 232.9036,2,     0.1,2,    0.15,2,    0.03,2,    0.08,2,   2.293,2,   1.317,2,   1.2690,2,  2065.3,2, 2339.14,2,   7.9779,2, -999.00,9, -999.00,9, -999.00,    60.9,2,    3.90,2,     -999.0,1,  -999.0,9, 20170808,     1707, -32.4997,-158.9764,        0.0,1,      0.151,1,      4.646,1,      0.171,1,      25.01,     -999.0,9,     -999.0,9,     -999.0,9,     -999.0,9,    17.4426,2,     -999.0,9
320620170703,        P06,     128,          1,         34,         34,2,20170808,       1711,   -32.4997,  -158.9765,       5277,    38.7,  17.4870,  35.5948,2,  35.5948,2, 233.7475,2, 232.8238,2,     0.1,2,    0.14,2,    0.03,2,    0.08,2,   2.274,2,   1.325,2,   1.2360,2,  2065.4,2, 2340.91,2,   7.9783,2, -999.00,9, -999.00,9, -999.00,    60.6,2,    4.10,2,     -999.0,1,  -999.0,9, 20170808,     1709, -32.4998,-158.9764,        0.0,1,      0.155,1,      4.646,1,      0.172,1,      25.01,     -999.0,9,     -999.0,9,     -999.0,9,     -999.0,9,    17.4721,2,     -999.0,9
320620170703,        P06,     128,          1,         35,         35,2,20170808,       1711,   -32.4997,  -158.9765,       5277,    19.2,  17.4779,  35.5956,2,  35.5952,2, 233.8630,2, 232.7228,2,     0.1,2,    0.14,2,    0.03,2,    0.08,2,   2.304,2,   1.335,2,   1.3550,2,  2064.8,2, 2336.22,2,   7.9791,2, -999.00,9, -999.00,9, -999.00,    60.4,2,    4.00,2,     -999.0,1,  -999.0,9, 20170808,     1710, -32.4997,-158.9765,        0.0,1,      0.155,1,      4.646,1,      0.173,1,      25.02,     -999.0,9,     -999.0,9,     -999.0,9,     -999.0,9,    17.4721,2,     -999.0,9
320620170703,        P06,     128,          1,         36,         36,2,20170808,       1711,   -32.4997,  -158.9765,       5277,     3.8,  17.4864,  35.5945,2,  35.5936,2, 234.0124,2, 232.6400,2,     0.1,2,    0.14,2,    0.03,2,    0.10,2,   2.284,2,   1.313,2,   1.3130,2,  2066.1,6, 2336.90,2,   7.9787,2, -999.00,9, -999.00,9, -999.00,    60.9,2,    4.30,2,     -999.0,1,  -999.0,9, 20170808,     1711, -32.4997,-158.9765,        0.0,1,      0.156,1,      4.647,1,      0.164,1,      24.99,     -999.0,9,     -999.0,9,     -999.0,9,     -999.0,9,    17.2528,2,     -999.0,9