BOTTLE,20230922CCHSIOCBG
EXPOCODE,SECT_ID,STNNBR,CASTNO,SAMPNO,BTLNBR,BTLNBR_FLAG_W,DATE,TIME,LATITUDE,LONGITUDE,DEPTH,CTDPRS,CTDTMP,CTDSAL,CTDSAL_FLAG_W,SALNTY,SALNTY_FLAG_W,CTDOXY,CTDOXY_FLAG_W,OXYGEN,OXYGEN_FLAG_W,SILCAT,SILCAT_FLAG_W,NITRAT,NITRAT_FLAG_W,NITRIT,NITRIT_FLAG_W,PHSPHT,PHSPHT_FLAG_W,CFC-11,CFC-11_FLAG_W,CFC-12,CFC-12_FLAG_W,SF6,SF6_FLAG_W,TCARBN,TCARBN_FLAG_W,ALKALI,ALKALI_FLAG_W,PH_TOT,PH_TOT_FLAG_W,DELC13,DELC13_FLAG_W,DELC14,DELC14_FLAG_W,C14ERR,DOC,DOC_FLAG_W,TDN,TDN_FLAG_W,TON,TON_FLAG_W,D15N_NO3,D15N_NO3_FLAG_W,BTL_DATE,BTL_TIME,BTL_LAT,BTL_LON,CTDRINKO,CTDRINKO_FLAG_W,CTDFLUOR,CTDFLUOR_FLAG_W,CTDXMISS,CTDXMISS_FLAG_W,CTDBACKSCATTER,CTDBACKSCATTER_FLAG_W,PH_TMP,D18O_NO3,D18O_NO3_FLAG_W,DOP,DOP_FLAG_W,HPLC,HPLC_FLAG_W,POC,POC_FLAG_W,REFTMP,REFTMP_FLAG_W,TDP,TDP_FLAG_W
,,,,,,,,,,,METERS,DBAR,ITS-90,PSS-78,,PSS-78,,UMOL/KG,,UMOL/KG,,UMOL/KG,,UMOL/KG,,UMOL/KG,,UMOL/KG,,PMOL/KG,,PMOL/KG,,FMOL/KG,,UMOL/KG,,UMOL/KG,,,,/MILLE,,/MILLE,,/MILLE,UMOL/KG,,UMOL/KG,,UMOL/KG,,/MILLE,,,,,,VOLTS,,VOLTS,,VOLTS,,VOLTS,,DEGC,/MILLE,,UMOL/KG,,,,UG/L,,ITS-90,,UMOL/KG,
320620170703,        P06,      16,          1,          1,         37,2,20170708,       0034,   -30.0799,   156.5000,       4815,  4894.1,   1.2455,  34.7133,2,  34.7186,2, 195.8207,2, 195.7874,2,   118.3,2,   32.65,2,    0.00,2,    2.26,2,   0.032,2,   0.036,2,   0.0000,2,  2280.6,6, -999.00,9,   7.6173,2, -999.00,9, -999.00,9, -999.00,    40.0,2, -999.00,9,     -999.0,1,  -999.0,9, 20170707,     2215, -30.0801, 156.5002,        0.0,1,      0.061,1,      4.638,1,      0.163,1,      25.03,     -999.0,9,     -999.0,9,     -999.0,9,     -999.0,9,     1.2454,2,     -999.0,9
320620170703,        P06,      16,          1,          2,          2,2,20170708,       0034,   -30.0799,   156.5000,       4815,  4847.2,   1.2410,  34.7136,2,  34.7150,2, 195.8207,2, 196.2500,2,   118.4,2,   32.68,2,    0.00,2,    2.25,2,   0.029,2,   0.037,2,   0.0000,2,  2279.0,2, -999.00,9,   7.6168,2, -999.00,9, -999.00,9, -999.00,  -999.0,9, -999.00,9,     -999.0,9,  -999.0,9, 20170707,     2217, -30.0801, 156.5002,        0.0,1,      0.061,1,      4.649,1,      0.161,1,      25.03,     -999.0,9,     -999.0,9,     -999.0,9,     -999.0,9,     1.2410,2,     -999.0,9
320620170703,        P06,      16,          1,          3,         38,2,20170708,       0034,   -30.0799,   156.5000,       4815,  4786.4,   1.2344,  34.7137,2,  34.7148,2, 195.8207,2, 195.6367,2,   118.4,2,   32.66,2,    0.00,2,    2.27,2,   0.031,2,   0.042,2,   0.0000,2,  2278.8,2, -999.00,9,   7.6166,2, -999.00,9, -999.00,9, -999.00,    38.5,2, -999.00,9,     -999.0,1,  -999.0,9, 20170707,     2220, -30.0802, 156.5002,        0.0,1,      0.061,1,      4.593,1,      0.158,1,      25.04,     -999.0,9,     -999.0,9,     -999.0,9,     -999.0,9,     1.2349,2,     -999.0,9
320620170703,        P06,      16,          1,          4,          4,2,20170708,       0034,   -30.0799,   156.5000,       4815,  4476.8,   1.2064,  34.7142,2,  34.7140,2, 195.8207,2, 195.9437,2,   118.1,2,   32.62,2,    0.00,2,    2.25,2,   0.021,2,   0.032,2,   0.0000,2,  2278.9,2, -999.00,9,   7.6153,2, -999.00,9, -999.00,9, -999.00,  -999.0,5, -999.00,9,     -999.0,1,  -999.0,9, 20170707,     2227, -30.0803, 156.5002,        0.0,1,      0.062,1,      4.633,1,      0.145,1,      25.02,     -999.0,9,     -999.0,9,     -999.0,9,     -999.0,9,     1.2064,2,     -999.0,9
320620170703,        P06,      16,          1,          5,         39,2,20170708,       0034,   -30.0799,   156.5000,       4815,  4167.5,   1.1874,  34.7147,2,  34.7156,2, 195.8207,2, 195.5518,2,   117.8,2,   32.61,2,    0.00,2,    2.25,2,   0.027,2,   0.037,2,   0.0000,2,  2279.2,2, -999.00,9,   7.6138,2, -999.00,9, -999.00,9, -999.00,  -999.0,9, -999.00,9,     -999.0,9,  -999.0,9, 20170707,     2233, -30.0806, 156.5003,        0.0,1,      0.061,1,      4.635,1,      0.139,1,      25.03,     -999.0,9,     -999.0,9,     -999.0,9,     -999.0,9,     1.1876,2,     -999.0,9
320620170703,        P06,      16,          1,          6,          6,2,20170708,       0034,   -30.0799,   156.5000,       4815,  3861.3,   1.2004,  34.7160,2,  34.7197,2, 195.3727,2, 195.4437,2,   117.0,2,   32.54,2,    0.00,2,    2.25,2,   0.020,2,   0.033,2,   0.0000,2,  2276.4,2, -999.00,9,   7.6135,2, -999.00,9, -999.00,9, -999.00,    39.0,2, -999.00,9,     -999.0,1,  -999.0,9, 20170707,     2239, -30.0805, 156.5003,        0.0,1,      0.061,1,      4.663,1,      0.135,1,      25.03,     -999.0,9,     -999.0,9,     -999.0,9,     -999.0,9,     1.1934,2,     -999.0,9
320620170703,        P06,      16,          1,          7,         40,2,20170708,       0034,   -30.0799,   156.5000,       4815,  3554.1,   1.2650,  34.7182,2,  34.7180,2, 194.7899,2, 194.4620,2,   114.9,2,   32.48,2,    0.00,2,    2.24,2,   0.020,2,   0.034,2,   0.0000,2,  2274.8,2, -999.00,9,   7.6119,2, -999.00,9, -999.00,9, -999.00,    44.1,3, -999.00,9,     -999.0,1,  -999.0,9, 20170707,     2246, -30.0801, 156.5002,        0.0,1,      0.061,1,      4.359,1,      0.135,1,      25.02,     -999.0,9,     -999.0,9,     -999.0,9,     -999.0,9,     1.2428,2,     -999.0,9
320620170703,        P06,      16,          1,          8,          8,2,20170708,       0034,   -30.0799,   156.5000,       4815,  3245.6,   1.4011,  34.7209,2,  34.7203,2, 192.1654,2, 192.1337,2,   111.0,2,   32.26,2,    0.00,2,    2.23,2,   0.017,2,   0.035,2,   0.0000,2,  2271.0,2, -999.00,9,   7.6100,2, -999.00,9, -999.00,9, -999.00,  -999.0,9, -999.00,9,     -999.0,9,  -999.0,9, 20170707,     2253, -30.0799, 156.5001,        0.0,1,      0.061,1,      4.699,1,      0.137,1,      25.03,     -999.0,9,     -999.0,9,     -999.0,9,     -999.0,9,     1.3861,2,     -999.0,9
320620170703,        P06,      16,          1,          9,         41,2,20170708,       0034,   -30.0799,   156.5000,       4815,  2953.5,   1.6354,  34.7240,2,  34.7241,2, 187.8260,2, 188.3700,2,   104.9,2,   32.05,2,    0.00,2,    2.22,2,   0.016,2,   0.035,2,   0.0000,2,  2267.7,2, -999.00,9,   7.6071,2, -999.00,9, -999.00,9, -999.00,    42.0,2, -999.00,9,     -999.0,1,  -999.0,9, 20170707,     2307, -30.0799, 156.5001,        0.0,1,      0.061,1,      4.672,1,      0.141,1,      25.02,     -999.0,9,     -999.0,9,     -999.0,9,     -999.0,9,     1.6263,2,     -999.0,9
320620170703,        P06,      16,          1,         10,         10,4,20170708,       0034,   -30.0799,   156.5000,       4815,  2700.1,   1.8220,  34.7188,3,  34.7191,3, 183.2430,2, 187.1020,3,   104.6,3,   32.18,3,    0.00,3,    2.23,3,   0.022,3,   0.041,3,   0.0000,3,  2269.6,4, -999.00,9,   7.6055,3, -999.00,9, -999.00,9, -999.00,  -999.0,9, -999.00,9,     -999.0,9,  -999.0,9, 20170707,     2313, -30.0799, 156.5001,        0.0,1,      0.061,1,      4.417,1,      0.148,1,      25.02,     -999.0,9,     -999.0,9,     -999.0,9,     -999.0,9,     1.8221,3,     -999.0,9
320620170703,        P06,      16,          1,         11,         42,2,20170708,       0034,   -30.0799,   156.5000,       4815,  2446.2,   2.0552,  34.7029,2,  34.7028,2, 176.7166,2, 176.7009,2,    95.8,2,   32.55,2,    0.00,2,    2.27,2,   0.014,2,   0.033,2,   0.0000,2,  2268.0,2, -999.00,9,   7.5913,2, -999.00,9, -999.00,9, -999.00,    42.4,2, -999.00,9,     -999.0,1,  -999.0,9, 20170707,     2319, -30.0800, 156.5001,        0.0,1,      0.062,1,      4.609,1,      0.137,1,      25.02,     -999.0,9,     -999.0,9,     -999.0,9,     -999.0,9,     2.0501,2,     -999.0,9
320620170703,        P06,      16,          1,         12,         12,2,20170708,       0034,   -30.0799,   156.5000,       4815,  2191.0,   2.2569,  34.6753,2,  34.6742,2, 167.8435,2, 167.2162,2,    96.1,2,   33.47,2,    0.00,2,    2.33,2,   0.961,4,   0.696,4,   0.0000,4,  2274.4,2, -999.00,9,   7.5816,2, -999.00,9, -999.00,9, -999.00,  -999.0,9, -999.00,9,     -999.0,9,  -999.0,9, 20170707,     2324, -30.0801, 156.5002,        0.0,1,      0.061,1,      3.357,1,      0.139,1,      25.03,     -999.0,9,     -999.0,9,     -999.0,9,     -999.0,9,     2.2588,2,     -999.0,9
320620170703,        P06,      16,          1,         13,         43,2,20170708,       0034,   -30.0799,   156.5000,       4815,  1956.5,   2.4601,  34.6443,2,  34.6411,2, 156.6440,2, 157.1523,2,    98.8,2,   34.46,2,    0.00,2,    2.41,2,   0.097,2,   0.050,2,   0.0000,2,  2282.3,2, -999.00,9,   7.5720,2, -999.00,9, -999.00,9, -999.00,  -999.0,5, -999.00,9,     -999.0,1,  -999.0,9, 20170707,     2330, -30.0804, 156.5003,        0.0,1,      0.061,1,      4.571,1,      0.141,1,      25.03,     -999.0,9,     -999.0,9,     -999.0,9,     -999.0,9,     2.4866,2,     -999.0,9
320620170703,        P06,      16,          1,         14,         14,2,20170708,       0034,   -30.0799,   156.5000,       4815,  1753.9,   2.7246,  34.6134,2,  34.6105,2, 151.3320,2, 150.6729,2,    97.3,2,   34.88,2,    0.00,2,    2.45,2,   0.029,4,   0.034,4,   0.0000,2,  2284.0,6, -999.00,9,   7.5689,2, -999.00,9, -999.00,9, -999.00,  -999.0,9, -999.00,9,     -999.0,9,  -999.0,9, 20170707,     2334, -30.0804, 156.5003,        0.0,1,      0.062,1,      4.693,1,      0.141,1,      25.02,     -999.0,9,     -999.0,9,     -999.0,9,     -999.0,9,     2.7419,2,     -999.0,9
320620170703,        P06,      16,          1,         15,         15,2,20170708,       0034,   -30.0799,   156.5000,       4815,  1550.6,   3.2072,  34.5682,2,  34.5637,2, 152.9510,2, 153.6614,2,    86.0,2,   34.44,2,    0.00,2,    2.41,2,   0.064,4,   0.065,4,   0.0000,2,  2271.1,2, -999.00,9,   7.5757,2, -999.00,9, -999.00,9, -999.00,    42.4,2, -999.00,9,     -999.0,1,  -999.0,9, 20170707,     2339, -30.0805, 156.5003,        0.0,1,      0.061,1,      4.529,1,      0.142,1,      25.02,     -999.0,9,     -999.0,9,     -999.0,9,     -999.0,9,     3.2609,2,     -999.0,9
320620170703,        P06,      16,          1,         16,         16,2,20170708,       0034,   -30.0799,   156.5000,       4815,  1379.1,   3.7480,  34.5240,2,  34.5156,2, 162.9789,2, 162.8620,2,    69.8,2,   33.18,2,    0.00,2,    2.31,2,   0.191,2,   0.132,2,   0.1210,2,  2250.2,2, -999.00,9,   7.5898,2, -999.00,9, -999.00,9, -999.00,  -999.0,9, -999.00,9,     -999.0,9,  -999.0,9, 20170707,     2343, -30.0806, 156.5003,        0.0,1,      0.061,1,      4.511,1,      0.141,1,      25.02,     -999.0,9,     -999.0,9,     -999.0,9,     -999.0,9,     3.8437,2,     -999.0,9
320620170703,        P06,      16,          1,         17,         17,4,20170708,       0034,   -30.0799,   156.5000,       4815,  1276.5,   4.2105,  34.4920,3,  34.5223,3, 171.4245,2, 165.1477,3,    69.3,4,   32.88,4,    0.00,4,    2.29,4,-999.000,9,-999.000,9,-999.0000,9,  2248.6,4, -999.00,9,   7.5931,3, -999.00,9, -999.00,9, -999.00,    41.9,2, -999.00,9,     -999.0,1,  -999.0,9, 20170707,     2347, -30.0805, 156.5002,        0.0,1,      0.060,1,      3.866,1,      0.141,1,      25.02,     -999.0,9,     -999.0,9,     -999.0,9,     -999.0,9,     4.3182,3,     -999.0,9
320620170703,        P06,      16,          1,         18,         18,2,20170708,       0034,   -30.0799,   156.5000,       4815,  1175.6,   4.7467,  34.4620,2,  34.4622,3, 178.1657,2, 178.3785,2,    48.0,2,   30.98,2,    0.00,2,    2.13,2,   0.488,2,   0.275,2,   0.1760,2,  2219.0,2, -999.00,9,   7.6160,2, -999.00,9, -999.00,9, -999.00,  -999.0,9, -999.00,9,     -999.0,9,  -999.0,9, 20170707,     2350, -30.0804, 156.5002,        0.0,1,      0.060,1,      4.403,1,      0.142,1,      25.02,     -999.0,9,     -999.0,9,     -999.0,9,     -999.0,9,     4.7328,2,     -999.0,9
320620170703,        P06,      16,          1,         19,         19,2,20170708,       0034,   -30.0799,   156.5000,       4815,  1075.6,   5.3191,  34.4440,2,  34.4428,2, 186.6709,2, 186.3622,2,    36.8,2,   29.49,2,    0.00,2,    2.01,2,-999.000,9,-999.000,9,-999.0000,9,  2200.4,2, -999.00,9,   7.6325,3, -999.00,9, -999.00,9, -999.00,    40.3,2, -999.00,9,     -999.0,1,  -999.0,9, 20170707,     2352, -30.0802, 156.5001,        0.0,1,      0.060,1,      4.663,1,      0.142,1,      25.02,     -999.0,9,     -999.0,9,     -999.0,9,     -999.0,9,     5.3062,2,     -999.0,9
320620170703,        P06,      16,          1,         20,         20,2,20170708,       0034,   -30.0799,   156.5000,       4815,   975.1,   5.9168,  34.4407,2,  34.4389,2, 193.5432,2, 193.2800,2,    28.5,2,   28.07,2,    0.00,2,    1.92,2,   1.132,2,   0.565,2,   0.2110,2,  2187.4,2, -999.00,9,   7.6497,2, -999.00,9, -999.00,9, -999.00,    41.6,2, -999.00,9,     -999.0,1,  -999.0,9, 20170707,     2355, -30.0801, 156.5001,        0.0,1,      0.059,1,      4.603,1,      0.142,1,      25.02,     -999.0,9,     -999.0,9,     -999.0,9,     -999.0,9,     5.8850,2,     -999.0,9
320620170703,        P06,      16,          1,         21,         21,2,20170708,       0034,   -30.0799,   156.5000,       4815,   871.9,   6.7807,  34.4701,2,  34.4669,2, 198.8922,2, 199.0577,2,    19.8,2,   25.90,2,    0.00,2,    1.75,2,-999.000,9,-999.000,9,-999.0000,9,  2174.5,2, -999.00,9,   7.6704,2, -999.00,9, -999.00,9, -999.00,  -999.0,9, -999.00,9,     -999.0,9,  -999.0,9, 20170707,     2359, -30.0800, 156.5001,        0.0,1,      0.060,1,      3.720,1,      0.139,1,      25.02,     -999.0,9,     -999.0,9,     -999.0,9,     -999.0,9,     6.6624,2,     -999.0,9
320620170703,        P06,      16,          1,         22,         22,4,20170708,       0034,   -30.0799,   156.5000,       4815,   770.7,   7.6798,  34.5246,3,  34.5358,3, 203.9086,2, 194.8673,3,    37.9,4,   27.09,4,    0.00,4,    1.83,4,   1.435,3,   0.743,3,   0.3170,3,  2189.5,4, -999.00,9,   7.6592,3, -999.00,9, -999.00,9, -999.00,    41.4,2, -999.00,9,     -999.0,1,  -999.0,9, 20170708,        1, -30.0799, 156.5001,        0.0,1,      0.060,1,      4.640,1,      0.142,1,      25.03,     -999.0,9,     -999.0,9,     -999.0,9,     -999.0,9,     7.6972,3,     -999.0,9
320620170703,        P06,      16,          1,         23,         23,2,20170708,       0034,   -30.0799,   156.5000,       4815,   670.7,   8.7252,  34.6206,2,  34.6119,2, 203.0990,2, 202.9119,2,     9.8,2,   21.16,2,    0.00,2,    1.42,2,-999.000,9,-999.000,9,-999.0000,9,  2152.8,2, -999.00,9,   7.7133,2, -999.00,9, -999.00,9, -999.00,    47.5,2, -999.00,9,     -999.0,1,  -999.0,9, 20170708,        4, -30.0800, 156.5001,        0.0,1,      0.059,1,      4.497,1,      0.143,1,      25.03,     -999.0,9,     -999.0,9,     -999.0,9,     -999.0,9,     8.6263,2,     -999.0,9
320620170703,        P06,      16,          1,         24,         24,4,20170708,       0034,   -30.0799,   156.5000,       4815,   570.0,  10.8141,  34.8688,3,  34.7085,3, 199.1688,2, 179.1211,4,    22.3,4,   21.59,4,    0.00,4,    1.47,4,   1.287,3,   0.653,3,   0.3280,3,  2179.8,4, -999.00,9,   7.7070,3, -999.00,9, -999.00,9, -999.00,    49.6,2, -999.00,9,     -999.0,1,  -999.0,9, 20170708,        7, -30.0800, 156.5001,        0.0,1,      0.060,1,      4.380,1,      0.142,1,      25.03,     -999.0,9,     -999.0,9,     -999.0,9,     -999.0,9,    10.6942,3,     -999.0,9
320620170703,        P06,      16,          1,         25,         25,2,20170708,       0034,   -30.0799,   156.5000,       4815,   468.8,  12.9992,  35.1321,2,  35.1319,2, 194.7231,2, 194.7045,2,     3.7,2,   12.39,2,    0.00,2,    0.85,2,   2.399,2,   1.339,2,   0.8250,2,  2127.7,2, -999.00,9,   7.8139,2, -999.00,9, -999.00,9, -999.00,    49.8,2, -999.00,9,     -999.0,1,  -999.0,9, 20170708,       10, -30.0800, 156.5001,        0.0,1,      0.060,1,      3.327,1,      0.144,1,      25.01,     -999.0,9,     -999.0,9,     -999.0,9,     -999.0,9,    13.0100,2,     -999.0,9
320620170703,        P06,      16,          1,         26,         26,2,20170708,       0034,   -30.0799,   156.5000,       4815,   388.0,  15.1173,  35.3546,2,  35.3427,2, 193.0961,2, 194.1403,2,     2.4,2,    9.20,2,    0.00,2,    0.65,2,   2.348,2,   1.305,2,   1.0090,2,  2111.3,2, -999.00,9,   7.8631,2, -999.00,9, -999.00,9, -999.00,    51.0,2, -999.00,9,     -999.0,1,  -999.0,9, 20170708,       13, -30.0798, 156.5000,        0.0,1,      0.060,1,      3.456,1,      0.156,1,      25.02,     -999.0,9,     -999.0,9,     -999.0,9,     -999.0,9,    15.0262,2,     -999.0,9
320620170703,        P06,      16,          1,         27,         27,2,20170708,       0034,   -30.0799,   156.5000,       4815,   337.6,  16.2186,  35.4496,2,  35.4596,2, 191.4867,2, 191.5940,2,     1.9,2,    7.45,2,    0.00,2,    0.55,2,   2.307,2,   1.270,2,   0.9760,2,  2101.1,6, -999.00,9,   7.8945,2, -999.00,9, -999.00,9, -999.00,  -999.0,9, -999.00,9,     -999.0,9,  -999.0,9, 20170708,       16, -30.0795, 156.4999,        0.0,1,      0.060,1,      3.433,1,      0.144,1,      25.02,     -999.0,9,     -999.0,9,     -999.0,9,     -999.0,9,    16.3778,2,     -999.0,9
320620170703,        P06,      16,          1,         28,         28,2,20170708,       0034,   -30.0799,   156.5000,       4815,   286.6,  17.4792,  35.5649,2,  35.5654,2, 193.0231,2, 191.9853,2,     1.3,2,    5.93,2,    0.00,2,    0.44,2,   2.145,2,   1.210,2,   1.0400,2,  2091.5,2, -999.00,9,   7.9224,2, -999.00,9, -999.00,9, -999.00,  -999.0,5,    8.50,2,     -999.0,1,  -999.0,9, 20170708,       18, -30.0794, 156.4998,        0.0,1,      0.059,1,      0.850,1,      0.144,1,      25.01,     -999.0,9,     -999.0,9,     -999.0,9,     -999.0,9,    17.5729,2,     -999.0,9
320620170703,        P06,      16,          1,         29,         29,2,20170708,       0034,   -30.0799,   156.5000,       4815,   237.4,  18.3974,  35.5974,2,  35.5983,2, 183.2055,2, 183.6928,2,     1.2,2,    5.74,2,    0.00,2,    0.42,2,   2.119,2,   1.175,2,   0.8900,2,  2089.9,2, -999.00,9,   7.9293,2, -999.00,9, -999.00,9, -999.00,    51.9,2,    8.20,2,     -999.0,1,  -999.0,9, 20170708,       20, -30.0795, 156.4998,        0.0,1,      0.061,1,      3.818,1,      0.143,1,      25.02,     -999.0,9,     -999.0,9,     -999.0,9,     -999.0,9,    18.3993,2,     -999.0,9
320620170703,        P06,      16,          1,         30,         30,2,20170708,       0034,   -30.0799,   156.5000,       4815,   185.4,  19.4489,  35.6878,2,  35.6832,2, 188.6013,2, 187.2025,2,     0.7,2,    4.36,2,    0.00,2,    0.33,2,   2.047,2,   1.161,2,   0.9370,2,  2080.5,2, -999.00,9,   7.9571,2, -999.00,9, -999.00,9, -999.00,    54.7,2,    7.10,2,     -999.0,1,  -999.0,9, 20170708,       22, -30.0796, 156.4998,        0.0,1,      0.060,1,      2.317,1,      0.145,1,      25.02,     -999.0,9,     -999.0,9,     -999.0,9,     -999.0,9,    19.3945,2,     -999.0,9
320620170703,        P06,      16,          1,         31,         31,2,20170708,       0034,   -30.0799,   156.5000,       4815,   136.1,  20.2771,  35.7584,2,  35.7612,2, 201.1440,2, 201.9135,2,     0.3,2,    2.15,2,    0.13,2,    0.21,2,   1.916,2,   1.117,2,   1.0720,2,  2062.0,2, -999.00,9,   7.9948,2, -999.00,9, -999.00,9, -999.00,    55.5,2,    5.50,2,     -999.0,1,  -999.0,9, 20170708,       24, -30.0796, 156.4999,        0.0,1,      0.096,1,      4.131,1,      0.177,1,      25.01,     -999.0,9,     -999.0,9,     -999.0,9,     -999.0,9,    20.2261,2,     -999.0,9
320620170703,        P06,      16,          1,         32,         32,2,20170708,       0034,   -30.0799,   156.5000,       4815,    90.6,  20.7130,  35.7411,2,  35.7770,2, 220.6412,3, 217.7927,2,     0.1,2,    0.42,2,    0.21,2,    0.10,2,   1.919,2,   1.107,2,   1.0540,2,  2045.1,2, -999.00,9,   8.0258,2, -999.00,9, -999.00,9, -999.00,    57.9,2,    3.70,2,     -999.0,1,  -999.0,9, 20170708,       27, -30.0797, 156.4999,        0.0,1,      0.150,1,      2.595,1,      0.204,1,      25.02,     -999.0,9,     -999.0,9,     -999.0,9,     -999.0,9,    20.4828,2,     -999.0,9