BOTTLE,20230922CCHSIOCBG
EXPOCODE,SECT_ID,STNNBR,CASTNO,SAMPNO,BTLNBR,BTLNBR_FLAG_W,DATE,TIME,LATITUDE,LONGITUDE,DEPTH,CTDPRS,CTDTMP,CTDSAL,CTDSAL_FLAG_W,SALNTY,SALNTY_FLAG_W,CTDOXY,CTDOXY_FLAG_W,OXYGEN,OXYGEN_FLAG_W,SILCAT,SILCAT_FLAG_W,NITRAT,NITRAT_FLAG_W,NITRIT,NITRIT_FLAG_W,PHSPHT,PHSPHT_FLAG_W,CFC-11,CFC-11_FLAG_W,CFC-12,CFC-12_FLAG_W,SF6,SF6_FLAG_W,TCARBN,TCARBN_FLAG_W,ALKALI,ALKALI_FLAG_W,PH_TOT,PH_TOT_FLAG_W,DELC13,DELC13_FLAG_W,DELC14,DELC14_FLAG_W,C14ERR,DOC,DOC_FLAG_W,TDN,TDN_FLAG_W,TON,TON_FLAG_W,D15N_NO3,D15N_NO3_FLAG_W,BTL_DATE,BTL_TIME,BTL_LAT,BTL_LON,CTDRINKO,CTDRINKO_FLAG_W,CTDFLUOR,CTDFLUOR_FLAG_W,CTDXMISS,CTDXMISS_FLAG_W,CTDBACKSCATTER,CTDBACKSCATTER_FLAG_W,PH_TMP,D18O_NO3,D18O_NO3_FLAG_W,DOP,DOP_FLAG_W,HPLC,HPLC_FLAG_W,POC,POC_FLAG_W,REFTMP,REFTMP_FLAG_W,TDP,TDP_FLAG_W
,,,,,,,,,,,METERS,DBAR,ITS-90,PSS-78,,PSS-78,,UMOL/KG,,UMOL/KG,,UMOL/KG,,UMOL/KG,,UMOL/KG,,UMOL/KG,,PMOL/KG,,PMOL/KG,,FMOL/KG,,UMOL/KG,,UMOL/KG,,,,/MILLE,,/MILLE,,/MILLE,UMOL/KG,,UMOL/KG,,UMOL/KG,,/MILLE,,,,,,VOLTS,,VOLTS,,VOLTS,,VOLTS,,DEGC,/MILLE,,UMOL/KG,,,,UG/L,,ITS-90,,UMOL/KG,
320620170703,        P06,      93,          1,          1,          1,2,20170727,       0501,   -32.4997,  -177.6699,       7301,  6128.3,   1.1800,  34.7070,2,  34.7076,2, 206.4190,2, 206.0271,2,   122.5,2,   32.06,2,    0.00,2,    2.23,2,   0.155,2,   0.081,2,   0.0000,2,  2264.7,6, 2364.41,2,   7.6069,2, -999.00,9, -999.00,9, -999.00,  -999.0,9, -999.00,9,     -999.0,9,  -999.0,9, 20170727,      230, -32.4987,-177.6700,        0.0,1,      0.061,1,      4.699,1,      0.124,1,      25.01,     -999.0,9,     -999.0,9,     -999.0,9,     -999.0,9,     1.1801,2,     -999.0,9
320620170703,        P06,      93,          1,          2,          2,2,20170727,       0501,   -32.4997,  -177.6699,       7301,  5869.4,   1.1473,  34.7074,2,  34.7076,2, 206.4190,2, 206.8246,2,   122.6,2,   32.09,2,    0.00,2,    2.24,2,   0.171,2,   0.099,2,   0.0000,2,  2262.8,2, 2359.29,2,   7.6062,2, -999.00,9, -999.00,9, -999.00,  -999.0,9, -999.00,9,     -999.0,9,  -999.0,9, 20170727,      240, -32.4993,-177.6698,        0.0,1,      0.061,1,      4.700,1,      0.124,1,      25.02,     -999.0,9,     -999.0,9,     -999.0,9,     -999.0,9,     1.1477,2,     -999.0,9
320620170703,        P06,      93,          1,          3,          3,2,20170727,       0501,   -32.4997,  -177.6699,       7301,  5574.6,   1.1132,  34.7076,2,  34.7081,2, 206.4190,2, 206.8125,2,   122.3,2,   32.04,2,    0.00,2,    2.24,2,   0.152,2,   0.084,2,   0.0000,2,  2263.1,2, 2362.48,2,   7.6055,2, -999.00,9, -999.00,9, -999.00,  -999.0,9, -999.00,9,     -999.0,9,  -999.0,9, 20170727,      247, -32.4995,-177.6698,        0.0,1,      0.061,1,      4.700,1,      0.126,1,      25.02,     -999.0,9,     -999.0,9,     -999.0,9,     -999.0,9,     1.1135,2,     -999.0,9
320620170703,        P06,      93,          1,          4,          4,2,20170727,       0501,   -32.4997,  -177.6699,       7301,  5265.0,   1.0798,  34.7080,2,  34.7083,2, 206.4190,2, 206.8339,2,   122.3,2,   32.08,2,    0.00,2,    2.23,2,   0.158,2,   0.084,2,   0.0000,2,  2262.6,2, -999.00,9,   7.6055,2, -999.00,9, -999.00,9, -999.00,  -999.0,9, -999.00,9,     -999.0,9,  -999.0,9, 20170727,      253, -32.4998,-177.6699,        0.0,1,      0.061,1,      4.701,1,      0.126,1,      25.01,     -999.0,9,     -999.0,9,     -999.0,9,     -999.0,9,     1.0805,2,     -999.0,9
320620170703,        P06,      93,          1,          5,          5,2,20170727,       0501,   -32.4997,  -177.6699,       7301,  4955.2,   1.0539,  34.7085,2,  34.7095,2, 206.4190,2, 206.7800,2,   122.0,2,   31.99,2,    0.00,2,    2.24,2,   0.166,2,   0.094,2,   0.0000,2,  2263.4,2, 2361.15,2,   7.6064,2, -999.00,9, -999.00,9, -999.00,  -999.0,9, -999.00,9,     -999.0,9,  -999.0,9, 20170727,      300, -32.4999,-177.6699,        0.0,1,      0.061,1,      4.701,1,      0.129,1,      25.03,     -999.0,9,     -999.0,9,     -999.0,9,     -999.0,9,     1.0545,2,     -999.0,9
320620170703,        P06,      93,          1,          6,          6,2,20170727,       0501,   -32.4997,  -177.6699,       7301,  4647.1,   1.0423,  34.7094,2,  34.7101,2, 206.4190,2, 206.5892,2,   121.4,2,   31.96,2,    0.00,2,    2.23,2,   0.171,2,   0.096,2,   0.0000,2,  -999.0,9, -999.00,9,-999.0000,9, -999.00,9, -999.00,9, -999.00,  -999.0,9, -999.00,9,     -999.0,9,  -999.0,9, 20170727,      306, -32.4999,-177.6699,        0.0,1,      0.060,1,      4.701,1,      0.129,1,     -999.0,     -999.0,9,     -999.0,9,     -999.0,9,     -999.0,9,     1.0416,2,     -999.0,9
320620170703,        P06,      93,          1,          7,          7,2,20170727,       0501,   -32.4997,  -177.6699,       7301,  4336.9,   1.0479,  34.7110,2,  34.7107,2, 205.9727,2, 206.3307,2,   120.4,2,   31.91,2,    0.00,2,    2.22,2,   0.183,2,   0.102,2,   0.0000,2,  2264.0,2, 2361.03,6,   7.6065,2, -999.00,9, -999.00,9, -999.00,  -999.0,9, -999.00,9,     -999.0,9,  -999.0,9, 20170727,      313, -32.4998,-177.6699,        0.0,1,      0.061,1,      4.699,1,      0.132,1,      25.02,     -999.0,9,     -999.0,9,     -999.0,9,     -999.0,9,     1.0423,2,     -999.0,9
320620170703,        P06,      93,          1,          8,          8,2,20170727,       0501,   -32.4997,  -177.6699,       7301,  4031.1,   1.1358,  34.7154,2,  34.7144,2, 206.1461,2, 204.6530,2,   117.6,2,   31.77,2,    0.00,2,    2.21,2,   0.169,2,   0.095,2,   0.0000,2,  2261.7,2, 2356.53,2,   7.6071,2, -999.00,9, -999.00,9, -999.00,  -999.0,9, -999.00,9,     -999.0,9,  -999.0,9, 20170727,      319, -32.4997,-177.6699,        0.0,1,      0.060,1,      4.701,1,      0.132,1,      25.02,     -999.0,9,     -999.0,9,     -999.0,9,     -999.0,9,     1.1070,2,     -999.0,9
320620170703,        P06,      93,          1,          9,          9,2,20170727,       0501,   -32.4997,  -177.6699,       7301,  3723.0,   1.3774,  34.7229,2,-999.0000,9, 200.9070,2,-999.0000,9,  -999.0,9, -999.00,9, -999.00,9, -999.00,9,-999.000,9,-999.000,9,-999.0000,9,  -999.0,9, -999.00,9,-999.0000,9, -999.00,9, -999.00,9, -999.00,  -999.0,9, -999.00,9,     -999.0,9,  -999.0,9, 20170727,      325, -32.4998,-177.6699,        0.0,1,      0.061,1,      4.700,1,      0.134,1,     -999.0,     -999.0,9,     -999.0,9,     -999.0,9,     -999.0,9,     1.3394,2,     -999.0,9
320620170703,        P06,      93,          1,         10,         10,2,20170727,       0501,   -32.4997,  -177.6699,       7301,  3415.5,   1.6154,  34.7171,2,  34.7189,2, 191.2402,2, 191.5079,2,   107.4,2,   31.81,2,    0.00,2,    2.22,2,   0.089,2,   0.053,2,   0.0000,2,  2264.5,2, -999.00,9,   7.6009,2, -999.00,9, -999.00,9, -999.00,  -999.0,9, -999.00,9,     -999.0,9,  -999.0,9, 20170727,      332, -32.4999,-177.6699,        0.0,1,      0.061,1,      4.701,1,      0.133,1,      25.02,     -999.0,9,     -999.0,9,     -999.0,9,     -999.0,9,     1.5840,2,     -999.0,9
320620170703,        P06,      93,          1,         11,         11,2,20170727,       0501,   -32.4997,  -177.6699,       7301,  3138.8,   1.7444,  34.6927,2,  34.6991,2, 175.6380,2, 174.5925,2,   114.0,2,   33.21,2,    0.00,2,    2.33,2,   0.061,2,   0.041,2,   0.0000,2,  2282.3,2, 2379.56,2,   7.5884,2, -999.00,9, -999.00,9, -999.00,  -999.0,9, -999.00,9,     -999.0,9,  -999.0,9, 20170727,      338, -32.4999,-177.6699,        0.0,1,      0.060,1,      4.702,1,      0.132,1,      25.02,     -999.0,9,     -999.0,9,     -999.0,9,     -999.0,9,     1.7315,2,     -999.0,9
320620170703,        P06,      93,          1,         12,         12,2,20170727,       0501,   -32.4997,  -177.6699,       7301,  2884.9,   1.8766,  34.6681,2,  34.6696,2, 155.4437,2, 154.5879,2,   125.2,2,   35.16,2,    0.00,2,    2.47,2,   0.036,2,   0.026,2,   0.0000,2,  -999.0,9, -999.00,9,-999.0000,9, -999.00,9, -999.00,9, -999.00,  -999.0,9, -999.00,9,     -999.0,9,  -999.0,9, 20170727,      343, -32.4999,-177.6699,        0.0,1,      0.061,1,      4.702,1,      0.130,1,     -999.0,     -999.0,9,     -999.0,9,     -999.0,9,     -999.0,9,     1.8654,2,     -999.0,9
320620170703,        P06,      93,          1,         13,         13,2,20170727,       0501,   -32.4997,  -177.6699,       7301,  2629.6,   2.0136,  34.6521,2,  34.6523,2, 148.1526,2, 147.8964,2,   124.0,2,   35.70,2,    0.00,2,    2.51,2,   0.028,2,   0.021,2,   0.0000,2,  2310.6,6, 2391.83,2,   7.5667,2, -999.00,9, -999.00,9, -999.00,  -999.0,9, -999.00,9,     -999.0,9,  -999.0,9, 20170727,      349, -32.4997,-177.6699,        0.0,1,      0.061,1,      4.703,1,      0.143,1,      25.01,     -999.0,9,     -999.0,9,     -999.0,9,     -999.0,9,     2.0159,2,     -999.0,9
320620170703,        P06,      93,          1,         14,         14,2,20170727,       0501,   -32.4997,  -177.6699,       7301,  2374.2,   2.1641,  34.6392,2,  34.6400,2, 147.6302,2, 147.7930,2,   118.6,2,   35.59,2,    0.00,2,    2.50,2,   0.034,2,   0.030,2,   0.0000,2,  -999.0,9, -999.00,9,-999.0000,9, -999.00,9, -999.00,9, -999.00,  -999.0,9, -999.00,9,     -999.0,9,  -999.0,9, 20170727,      354, -32.4998,-177.6699,        0.0,1,      0.061,1,      4.702,1,      0.141,1,     -999.0,     -999.0,9,     -999.0,9,     -999.0,9,     -999.0,9,     2.1587,2,     -999.0,9
320620170703,        P06,      93,          1,         15,         15,2,20170727,       0501,   -32.4997,  -177.6699,       7301,  2120.8,   2.2912,  34.6257,2,  34.6252,2, 147.9262,2, 148.5862,2,   113.4,2,   35.58,2,    0.00,2,    2.49,2,   0.033,2,   0.023,2,   0.0000,2,  2299.4,2, 2394.24,2,   7.5640,2, -999.00,9, -999.00,9, -999.00,  -999.0,9, -999.00,9,     -999.0,9,  -999.0,9, 20170727,      400, -32.4999,-177.6699,        0.0,1,      0.061,1,      4.703,1,      0.135,1,      25.01,     -999.0,9,     -999.0,9,     -999.0,9,     -999.0,9,     2.2879,2,     -999.0,9
320620170703,        P06,      93,          1,         16,         16,2,20170727,       0501,   -32.4997,  -177.6699,       7301,  1866.0,   2.4963,  34.6002,2,  34.6024,2, 151.8161,2, 152.6323,2,   102.6,2,   35.11,2,    0.00,2,    2.46,2,   0.036,2,   0.027,2,   0.0000,2,  -999.0,9, -999.00,9,-999.0000,9, -999.00,9, -999.00,9, -999.00,  -999.0,9, -999.00,9,     -999.0,9,  -999.0,9, 20170727,      405, -32.5001,-177.6699,        0.0,1,      0.061,1,      4.703,1,      0.137,1,     -999.0,     -999.0,9,     -999.0,9,     -999.0,9,     -999.0,9,     2.4737,2,     -999.0,9
320620170703,        P06,      93,          1,         17,         17,2,20170727,       0501,   -32.4997,  -177.6699,       7301,  1618.1,   2.8045,  34.5479,2,  34.5508,2, 159.9515,2, 160.5165,2,    85.4,2,   34.55,2,    0.00,2,    2.41,2,   0.061,2,   0.040,2,   0.0000,2,  2268.3,2, 2354.16,2,   7.5702,2, -999.00,9, -999.00,9, -999.00,  -999.0,9, -999.00,9,     -999.0,9,  -999.0,9, 20170727,      411, -32.5001,-177.6699,        0.0,1,      0.061,1,      4.703,1,      0.137,1,      25.02,     -999.0,9,     -999.0,9,     -999.0,9,     -999.0,9,     2.7824,2,     -999.0,9
320620170703,        P06,      93,          1,         18,         18,2,20170727,       0501,   -32.4997,  -177.6699,       7301,  1414.0,   3.2613,  34.4730,2,  34.4856,2, 168.1593,2, 169.0077,2,    69.2,2,   34.02,2,    0.00,2,    2.38,2,   0.123,2,   0.077,2,   0.0000,2,  -999.0,9, -999.00,9,-999.0000,9, -999.00,9, -999.00,9, -999.00,  -999.0,9, -999.00,9,     -999.0,9,  -999.0,9, 20170727,      416, -32.5000,-177.6699,        0.0,1,      0.061,1,      4.703,1,      0.138,1,     -999.0,     -999.0,9,     -999.0,9,     -999.0,9,     -999.0,9,     3.1775,2,     -999.0,9
320620170703,        P06,      93,          1,         19,         19,2,20170727,       0501,   -32.4997,  -177.6699,       7301,  1211.4,   3.9953,  34.3918,2,  34.4033,2, 181.0904,2, 180.5582,2,    49.5,2,   32.94,2,    0.00,2,    2.27,2,   0.309,2,   0.168,2,   0.0000,2,  2222.8,2, 2311.35,2,   7.5906,2, -999.00,9, -999.00,9, -999.00,  -999.0,9, -999.00,9,     -999.0,9,  -999.0,9, 20170727,      420, -32.4998,-177.6699,        0.0,1,      0.061,1,      4.702,1,      0.140,1,      25.02,     -999.0,9,     -999.0,9,     -999.0,9,     -999.0,9,     3.7743,2,     -999.0,9
320620170703,        P06,      93,          1,         20,         20,2,20170727,       0501,   -32.4997,  -177.6699,       7301,  1110.8,   4.4452,  34.3583,2,  34.3658,2, 189.6512,2, 189.9996,2,    38.1,2,   31.57,2,    0.00,2,    2.18,2,   0.581,2,   0.287,2,   0.1220,2,  -999.0,9, -999.00,9,-999.0000,9, -999.00,9, -999.00,9, -999.00,  -999.0,9, -999.00,9,     -999.0,9,  -999.0,9, 20170727,      423, -32.4998,-177.6699,        0.0,1,      0.059,1,      4.703,1,      0.139,1,     -999.0,     -999.0,9,     -999.0,9,     -999.0,9,     -999.0,9,     4.2996,2,     -999.0,9
320620170703,        P06,      93,          1,         21,         21,2,20170727,       0501,   -32.4997,  -177.6699,       7301,  1008.3,   5.1265,  34.3433,2,  34.3413,2, 202.8376,2, 202.8549,2,    26.5,2,   29.46,2,    0.00,2,    2.01,2,   1.084,2,   0.530,2,   0.1350,2,  2186.7,2, 2289.05,2,   7.6366,2, -999.00,9, -999.00,9, -999.00,  -999.0,9, -999.00,9,     -999.0,9,  -999.0,9, 20170727,      426, -32.4999,-177.6699,        0.0,1,      0.060,1,      4.702,1,      0.139,1,      25.01,     -999.0,9,     -999.0,9,     -999.0,9,     -999.0,9,     4.9926,2,     -999.0,9
320620170703,        P06,      93,          1,         22,         22,2,20170727,       0501,   -32.4997,  -177.6699,       7301,   907.1,   5.6997,  34.3344,2,  34.3450,2, 214.9966,2, 214.2957,2,    18.1,2,   27.13,2,    0.00,2,    1.84,2,   1.726,2,   0.837,2,   0.2680,2,  2169.3,2, -999.00,9,   7.6645,2, -999.00,9, -999.00,9, -999.00,  -999.0,9, -999.00,9,     -999.0,9,  -999.0,9, 20170727,      429, -32.5000,-177.6698,        0.0,1,      0.058,1,      4.702,1,      0.140,1,      25.01,     -999.0,9,     -999.0,9,     -999.0,9,     -999.0,9,     5.7204,2,     -999.0,9
320620170703,        P06,      93,          1,         23,         23,2,20170727,       0501,   -32.4997,  -177.6699,       7301,   806.4,   6.3110,  34.3566,2,  34.3562,2, 224.2756,2, 223.6135,2,    12.5,2,   25.14,2,    0.00,2,    1.70,2,   2.341,2,   1.151,2,   0.4110,2,  2157.7,2, 2278.47,2,   7.6854,2, -999.00,9, -999.00,9, -999.00,  -999.0,9, -999.00,9,     -999.0,9,  -999.0,9, 20170727,      432, -32.5000,-177.6698,        0.0,1,      0.058,1,      4.700,1,      0.140,1,      25.02,     -999.0,9,     -999.0,9,     -999.0,9,     -999.0,9,     6.2953,2,     -999.0,9
320620170703,        P06,      93,          1,         24,         24,2,20170727,       0501,   -32.4997,  -177.6699,       7301,   705.0,   6.8769,  34.3993,2,  34.3967,2, 226.4006,2, 226.5825,2,     9.6,2,   23.40,2,    0.00,2,    1.58,2,   2.811,2,   1.429,2,   0.5510,2,  -999.0,9, -999.00,9,-999.0000,9, -999.00,9, -999.00,9, -999.00,  -999.0,9, -999.00,9,     -999.0,9,  -999.0,9, 20170727,      435, -32.5000,-177.6699,        0.0,1,      0.058,1,      4.699,1,      0.142,1,     -999.0,     -999.0,9,     -999.0,9,     -999.0,9,     -999.0,9,     6.8990,2,     -999.0,9
320620170703,        P06,      93,          1,         25,         25,2,20170727,       0501,   -32.4997,  -177.6699,       7301,   604.3,   7.5172,  34.4510,2,  34.4420,3, 226.4657,2, 225.9215,2,     7.4,2,   21.90,2,    0.00,2,    1.48,2,   3.079,2,   1.606,2,   0.7640,2,  2150.3,2, 2277.76,2,   7.7075,2, -999.00,9, -999.00,9, -999.00,  -999.0,9, -999.00,9,     -999.0,9,  -999.0,9, 20170727,      438, -32.4999,-177.6699,        0.0,1,      0.060,1,      4.696,1,      0.145,1,      25.01,     -999.0,9,     -999.0,9,     -999.0,9,     -999.0,9,     7.4653,2,     -999.0,9
320620170703,        P06,      93,          1,         26,         26,2,20170727,       0501,   -32.4997,  -177.6699,       7301,   503.9,   8.4434,  34.5484,2,  34.5266,3, 218.8477,2, 219.8442,2,     6.3,2,   20.19,2,    0.00,2,    1.36,2,   3.150,2,   1.680,2,   0.7620,2,  2146.6,2, -999.00,9,   7.7162,2, -999.00,9, -999.00,9, -999.00,  -999.0,9, -999.00,9,     -999.0,9,  -999.0,9, 20170727,      441, -32.4998,-177.6699,        0.0,1,      0.059,1,      4.695,1,      0.145,1,      25.01,     -999.0,9,     -999.0,9,     -999.0,9,     -999.0,9,     8.3102,2,     -999.0,9
320620170703,        P06,      93,          1,         27,         27,2,20170727,       0501,   -32.4997,  -177.6699,       7301,   403.4,   9.9385,  34.7163,2,  34.7307,2, 208.1132,2, 208.8672,2,     4.5,2,   16.30,2,    0.00,2,    1.11,2,   2.944,6,   1.636,6,   1.0050,6,  2139.8,2, 2287.88,2,   7.7504,2, -999.00,9, -999.00,9, -999.00,  -999.0,9, -999.00,9,     -999.0,9,  -999.0,9, 20170727,      443, -32.4998,-177.6699,        0.0,1,      0.059,1,      4.693,1,      0.146,1,      25.02,     -999.0,9,     -999.0,9,     -999.0,9,     -999.0,9,    10.1415,2,     -999.0,9
320620170703,        P06,      93,          1,         28,         28,2,20170727,       0501,   -32.4997,  -177.6699,       7301,   301.8,  11.8912,  34.9794,2,  35.0144,2, 220.6191,2, 221.4911,2,     2.3,2,    9.83,2,    0.00,2,    0.72,2,   2.787,2,   1.637,2,   1.4820,3,  -999.0,9, -999.00,9,-999.0000,9, -999.00,9, -999.00,9, -999.00,  -999.0,9, -999.00,9,     -999.0,9,  -999.0,9, 20170727,      446, -32.5000,-177.6699,        0.0,1,      0.059,1,      4.691,1,      0.147,1,     -999.0,     -999.0,9,     -999.0,9,     -999.0,9,     -999.0,9,    12.1322,2,     -999.0,9
320620170703,        P06,      93,          1,         29,         29,2,20170727,       0501,   -32.4997,  -177.6699,       7301,   250.4,  12.7851,  35.0965,2,  35.0909,2, 204.7635,2, 203.8838,2,     3.4,2,   11.35,2,    0.00,2,    0.81,2,   2.611,2,   1.495,2,   1.1660,2,  2124.7,2, 2304.63,2,   7.8140,2, -999.00,9, -999.00,9, -999.00,  -999.0,9, -999.00,9,     -999.0,9,  -999.0,9, 20170727,      448, -32.5000,-177.6699,        0.0,1,      0.058,1,      4.690,1,      0.152,1,      25.02,     -999.0,9,     -999.0,9,     -999.0,9,     -999.0,9,    12.7704,2,     -999.0,9
320620170703,        P06,      93,          1,         30,         30,2,20170727,       0501,   -32.4997,  -177.6699,       7301,   199.9,  13.9211,  35.2490,2,  35.2154,2, 208.6156,2, 207.7077,2,     2.6,2,    8.96,2,    0.02,2,    0.66,2,   2.535,2,   1.487,2,   1.2560,2,  -999.0,9, -999.00,9,-999.0000,9, -999.00,9, -999.00,9, -999.00,  -999.0,9, -999.00,9,     -999.0,9,  -999.0,9, 20170727,      450, -32.5000,-177.6700,        0.0,1,      0.059,1,      4.687,1,      0.155,1,     -999.0,     -999.0,9,     -999.0,9,     -999.0,9,     -999.0,9,    13.6772,2,     -999.0,9
320620170703,        P06,      93,          1,         31,         31,2,20170727,       0501,   -32.4997,  -177.6699,       7301,   150.6,  14.9419,  35.3551,2,  35.2954,2, 204.9655,2, 204.4055,2,     2.3,2,    8.34,2,    0.02,2,    0.61,2,   2.452,2,   1.441,2,   1.2910,2,  2112.8,2, 2314.30,2,   7.8579,2, -999.00,9, -999.00,9, -999.00,  -999.0,9, -999.00,9,     -999.0,9,  -999.0,9, 20170727,      452, -32.5000,-177.6699,        0.0,1,      0.064,1,      4.682,1,      0.160,1,      25.01,     -999.0,9,     -999.0,9,     -999.0,9,     -999.0,9,    14.4595,2,     -999.0,9
320620170703,        P06,      93,          1,         32,         32,2,20170727,       0501,   -32.4997,  -177.6699,       7301,    99.6,  16.5128,  35.5322,2,  35.5774,3, 231.3076,3, 233.6444,2,     0.5,2,    1.10,2,    0.17,2,    0.17,2,   2.235,2,   1.338,2,   1.3830,2,  -999.0,9, -999.00,9,-999.0000,9, -999.00,9, -999.00,9, -999.00,  -999.0,9, -999.00,9,     -999.0,9,  -999.0,9, 20170727,      454, -32.4999,-177.6699,        0.0,1,      0.104,1,      4.650,1,      0.221,1,     -999.0,     -999.0,9,     -999.0,9,     -999.0,9,     -999.0,9,    16.7598,2,     -999.0,9