BOTTLE,20230922CCHSIOCBG
EXPOCODE,SECT_ID,STNNBR,CASTNO,SAMPNO,BTLNBR,BTLNBR_FLAG_W,DATE,TIME,LATITUDE,LONGITUDE,DEPTH,CTDPRS,CTDTMP,CTDSAL,CTDSAL_FLAG_W,SALNTY,SALNTY_FLAG_W,CTDOXY,CTDOXY_FLAG_W,OXYGEN,OXYGEN_FLAG_W,SILCAT,SILCAT_FLAG_W,NITRAT,NITRAT_FLAG_W,NITRIT,NITRIT_FLAG_W,PHSPHT,PHSPHT_FLAG_W,CFC-11,CFC-11_FLAG_W,CFC-12,CFC-12_FLAG_W,SF6,SF6_FLAG_W,TCARBN,TCARBN_FLAG_W,ALKALI,ALKALI_FLAG_W,PH_TOT,PH_TOT_FLAG_W,DELC13,DELC13_FLAG_W,DELC14,DELC14_FLAG_W,C14ERR,DOC,DOC_FLAG_W,TDN,TDN_FLAG_W,TON,TON_FLAG_W,D15N_NO3,D15N_NO3_FLAG_W,BTL_DATE,BTL_TIME,BTL_LAT,BTL_LON,CTDRINKO,CTDRINKO_FLAG_W,CTDFLUOR,CTDFLUOR_FLAG_W,CTDXMISS,CTDXMISS_FLAG_W,CTDBACKSCATTER,CTDBACKSCATTER_FLAG_W,PH_TMP,D18O_NO3,D18O_NO3_FLAG_W,DOP,DOP_FLAG_W,HPLC,HPLC_FLAG_W,POC,POC_FLAG_W,REFTMP,REFTMP_FLAG_W,TDP,TDP_FLAG_W
,,,,,,,,,,,METERS,DBAR,ITS-90,PSS-78,,PSS-78,,UMOL/KG,,UMOL/KG,,UMOL/KG,,UMOL/KG,,UMOL/KG,,UMOL/KG,,PMOL/KG,,PMOL/KG,,FMOL/KG,,UMOL/KG,,UMOL/KG,,,,/MILLE,,/MILLE,,/MILLE,UMOL/KG,,UMOL/KG,,UMOL/KG,,/MILLE,,,,,,VOLTS,,VOLTS,,VOLTS,,VOLTS,,DEGC,/MILLE,,UMOL/KG,,,,UG/L,,ITS-90,,UMOL/KG,
320620170703,        P06,      53,          1,          1,         37,2,20170715,       0246,   -30.0801,   168.4993,       3342,  3383.4,   1.9536,  34.6724,2,  34.6741,2, 153.8604,2, 153.4962,2,   123.6,2,   35.31,2,    0.00,2,    2.47,2,   0.031,2,   0.024,2,   0.0000,2,  2312.4,6, 2395.50,2,   7.5790,2, -999.00,9, -999.00,9, -999.00,    36.8,2, -999.00,9,     -999.0,1,  -999.0,9, 20170715,      107, -30.0802, 168.4993,        0.0,1,      0.061,1,      1.364,1,      0.152,1,      25.03,     -999.0,9,     -999.0,9,     -999.0,9,     -999.0,9,     1.9542,2,     -999.0,9
320620170703,        P06,      53,          1,          2,          2,2,20170715,       0246,   -30.0801,   168.4993,       3342,  3321.8,   1.9481,  34.6726,2,  34.6724,2, 153.8604,2, 153.9893,2,   123.7,2,   35.31,2,    0.00,2,    2.49,2,   0.032,2,   0.024,2,   0.0000,2,  -999.0,9, -999.00,9,-999.0000,9, -999.00,9, -999.00,9, -999.00,  -999.0,9, -999.00,9,     -999.0,9,  -999.0,9, 20170715,      109, -30.0801, 168.4994,        0.0,1,      0.061,1,      0.012,1,      0.153,1,     -999.0,     -999.0,9,     -999.0,9,     -999.0,9,     -999.0,9,     1.9485,2,     -999.0,9
320620170703,        P06,      53,          1,          3,         38,2,20170715,       0246,   -30.0801,   168.4993,       3342,  3246.1,   1.9466,  34.6721,2,  34.6722,2, 153.8604,2, 153.9629,2,   123.4,2,   35.15,2,    0.00,2,    2.47,2,   0.034,2,   0.025,2,   0.0000,2,  2310.4,2, 2396.57,2,   7.5787,2, -999.00,9, -999.00,9, -999.00,  -999.0,9, -999.00,9,     -999.0,9,  -999.0,9, 20170715,      112, -30.0801, 168.4995,        0.0,1,      0.062,1,      0.006,1,      0.148,1,      25.00,     -999.0,9,     -999.0,9,     -999.0,9,     -999.0,9,     1.9469,2,     -999.0,9
320620170703,        P06,      53,          1,          4,          4,2,20170715,       0246,   -30.0801,   168.4993,       3342,  3041.5,   1.9397,  34.6711,2,  34.6714,2, 153.8044,2, 154.0214,2,   123.0,2,   35.17,2,    0.00,2,    2.47,2,   0.031,2,   0.025,2,   0.0000,2,  -999.0,9, -999.00,9,-999.0000,9, -999.00,9, -999.00,9, -999.00,    36.9,2, -999.00,9,     -999.0,1,  -999.0,9, 20170715,      116, -30.0801, 168.4995,        0.0,1,      0.062,1,      0.006,1,      0.140,1,     -999.0,     -999.0,9,     -999.0,9,     -999.0,9,     -999.0,9,     1.9393,2,     -999.0,9
320620170703,        P06,      53,          1,          5,         39,2,20170715,       0246,   -30.0801,   168.4993,       3342,  2836.1,   1.9600,  34.6678,2,  34.6698,2, 154.2087,2, 154.1308,2,   121.9,2,   35.22,2,    0.00,2,    2.45,2,   0.033,2,   0.024,2,   0.0000,2,  2307.4,2, 2392.46,2,   7.5781,2, -999.00,9, -999.00,9, -999.00,    35.5,2, -999.00,9,     -999.0,1,  -999.0,9, 20170715,      121, -30.0801, 168.4995,        0.0,1,      0.062,1,      0.006,1,      0.142,1,      25.01,     -999.0,9,     -999.0,9,     -999.0,9,     -999.0,9,     1.9616,2,     -999.0,9
320620170703,        P06,      53,          1,          6,          6,2,20170715,       0246,   -30.0801,   168.4993,       3342,  2632.9,   1.9932,  34.6637,2,  34.6639,2, 154.2722,2, 154.1613,2,   120.5,2,   35.13,2,    0.00,2,    2.47,2,   0.045,2,   0.032,2,   0.0000,2,  -999.0,9, -999.00,9,-999.0000,9, -999.00,9, -999.00,9, -999.00,  -999.0,9, -999.00,9,     -999.0,9,  -999.0,9, 20170715,      126, -30.0800, 168.4996,        0.0,1,      0.061,1,      0.006,1,      0.143,1,     -999.0,     -999.0,9,     -999.0,9,     -999.0,9,     -999.0,9,     1.9936,2,     -999.0,9
320620170703,        P06,      53,          1,          7,         40,2,20170715,       0246,   -30.0801,   168.4993,       3342,  2431.7,   2.0788,  34.6555,2,  34.6559,2, 154.4186,2, 154.0545,2,   117.9,2,   35.16,2,    0.00,2,    2.45,2,   0.045,2,   0.033,2,   0.0000,2,  2303.7,2, 2387.11,2,   7.5767,2, -999.00,9, -999.00,9, -999.00,    35.6,2, -999.00,9,     -999.0,1,  -999.0,9, 20170715,      130, -30.0800, 168.4997,        0.0,1,      0.062,1,      0.036,1,      0.145,1,      24.99,     -999.0,9,     -999.0,9,     -999.0,9,     -999.0,9,     2.0809,2,     -999.0,9
320620170703,        P06,      53,          1,          8,          8,2,20170715,       0246,   -30.0801,   168.4993,       3342,  2227.2,   2.1506,  34.6484,2,  34.6429,2, 154.6309,2, 155.7027,2,   114.2,2,   34.94,2,    0.00,2,    2.44,2,   0.056,2,   0.038,2,   0.0000,2,  -999.0,9, -999.00,9,-999.0000,9, -999.00,9, -999.00,9, -999.00,  -999.0,9, -999.00,9,     -999.0,9,  -999.0,9, 20170715,      135, -30.0801, 168.4995,        0.0,1,      0.062,1,      0.006,1,      0.143,1,     -999.0,     -999.0,9,     -999.0,9,     -999.0,9,     -999.0,9,     2.2094,2,     -999.0,9
320620170703,        P06,      53,          1,          9,         41,2,20170715,       0246,   -30.0801,   168.4993,       3342,  2022.2,   2.3963,  34.6263,2,  34.6252,2, 155.2657,2, 154.9685,2,   108.3,2,   34.81,2,    0.00,2,    2.44,2,   0.066,2,   0.044,2,   0.0000,2,  2292.0,2, 2379.01,2,   7.5772,2, -999.00,9, -999.00,9, -999.00,    35.4,2, -999.00,9,     -999.0,1,  -999.0,9, 20170715,      140, -30.0801, 168.4993,        0.0,1,      0.061,1,      0.006,1,      0.143,1,      25.01,     -999.0,9,     -999.0,9,     -999.0,9,     -999.0,9,     2.4120,2,     -999.0,9
320620170703,        P06,      53,          1,         10,         10,2,20170715,       0246,   -30.0801,   168.4993,       3342,  1819.8,   2.7304,  34.5969,2,  34.5975,2, 158.0506,2, 157.7597,2,    99.2,2,   34.33,2,    0.00,2,    2.40,2,   0.110,2,   0.070,2,   0.0000,2,  -999.0,9, -999.00,9,-999.0000,9, -999.00,9, -999.00,9, -999.00,  -999.0,9, -999.00,9,     -999.0,9,  -999.0,9, 20170715,      144, -30.0801, 168.4994,        0.0,1,      0.062,1,      0.006,1,      0.143,1,     -999.0,     -999.0,9,     -999.0,9,     -999.0,9,     -999.0,9,     2.7141,2,     -999.0,9
320620170703,        P06,      53,          1,         11,         42,2,20170715,       0246,   -30.0801,   168.4993,       3342,  1719.1,   2.8755,  34.5839,2,  34.5842,2, 159.6600,2, 159.5300,2,    94.6,2,   34.09,2,    0.00,2,    2.37,2,   0.128,2,   0.078,2,   0.0000,2,  2276.1,2, 2366.50,2,   7.5829,2, -999.00,9, -999.00,9, -999.00,    37.0,2, -999.00,9,     -999.0,1,  -999.0,9, 20170715,      147, -30.0800, 168.4995,        0.0,1,      0.061,1,      0.006,1,      0.142,1,      25.01,     -999.0,9,     -999.0,9,     -999.0,9,     -999.0,9,     2.8703,2,     -999.0,9
320620170703,        P06,      53,          1,         12,         12,2,20170715,       0246,   -30.0801,   168.4993,       3342,  1615.5,   3.1206,  34.5629,2,  34.5675,2, 161.5846,2, 161.6441,2,    88.8,2,   33.81,2,    0.00,2,    2.35,2,   0.167,2,   0.098,2,   0.0000,2,  -999.0,9, -999.00,9,-999.0000,9, -999.00,9, -999.00,9, -999.00,  -999.0,9, -999.00,9,     -999.0,9,  -999.0,9, 20170715,      150, -30.0800, 168.4996,        0.0,1,      0.061,1,      0.006,1,      0.143,1,     -999.0,     -999.0,9,     -999.0,9,     -999.0,9,     -999.0,9,     3.0594,2,     -999.0,9
320620170703,        P06,      53,          1,         13,         43,2,20170715,       0246,   -30.0801,   168.4993,       3342,  1514.4,   3.3136,  34.5455,2,  34.5457,2, 164.8891,2, 164.9527,2,    81.5,2,   33.36,2,    0.00,2,    2.32,2,   0.227,2,   0.132,2,   0.0000,2,  2260.7,2, 2346.35,2,   7.5899,2, -999.00,9, -999.00,9, -999.00,    37.1,2, -999.00,9,     -999.0,1,  -999.0,9, 20170715,      153, -30.0800, 168.4996,        0.0,1,      0.062,1,      0.006,1,      0.143,1,      25.01,     -999.0,9,     -999.0,9,     -999.0,9,     -999.0,9,     3.3194,2,     -999.0,9
320620170703,        P06,      53,          1,         14,         14,2,20170715,       0246,   -30.0801,   168.4993,       3342,  1414.4,   3.5886,  34.5220,2,  34.5217,2, 168.4816,2, 168.6051,2,    73.2,2,   32.83,2,    0.00,2,    2.28,2,   0.280,2,   0.166,2,   0.0000,2,  -999.0,9, -999.00,9,-999.0000,9, -999.00,9, -999.00,9, -999.00,  -999.0,9, -999.00,9,     -999.0,9,  -999.0,9, 20170715,      156, -30.0800, 168.4997,        0.0,1,      0.061,1,      0.910,1,      0.141,1,     -999.0,     -999.0,9,     -999.0,9,     -999.0,9,     -999.0,9,     3.5997,2,     -999.0,9
320620170703,        P06,      53,          1,         15,         15,2,20170715,       0246,   -30.0801,   168.4993,       3342,  1312.6,   3.9148,  34.5033,2,  34.4958,2, 173.8361,2, 173.5043,2,    62.7,2,   32.09,2,    0.00,2,    2.22,2,   0.407,2,   0.224,2,   0.0670,2,  2238.5,2, 2326.96,2,   7.6030,2, -999.00,9, -999.00,9, -999.00,    37.9,2, -999.00,9,     -999.0,1,  -999.0,9, 20170715,      159, -30.0799, 168.4998,        0.0,1,      0.061,1,      0.059,1,      0.139,1,      24.99,     -999.0,9,     -999.0,9,     -999.0,9,     -999.0,9,     4.0147,2,     -999.0,9
320620170703,        P06,      53,          1,         16,         16,2,20170715,       0246,   -30.0801,   168.4993,       3342,  1210.5,   4.4280,  34.4717,2,  34.4697,2, 180.3103,2, 180.1442,2,    52.1,2,   30.95,2,    0.00,2,    2.14,2,   0.587,2,   0.313,2,   0.0530,2,  -999.0,9, -999.00,9,-999.0000,9, -999.00,9, -999.00,9, -999.00,  -999.0,9, -999.00,9,     -999.0,9,  -999.0,9, 20170715,      202, -30.0799, 168.4998,        0.0,1,      0.060,1,      0.006,1,      0.142,1,     -999.0,     -999.0,9,     -999.0,9,     -999.0,9,     -999.0,9,     4.4855,2,     -999.0,9
320620170703,        P06,      53,          1,         17,         17,2,20170715,       0246,   -30.0801,   168.4993,       3342,  1109.6,   5.3149,  34.4524,2,  34.4516,2, 189.9285,2, 190.0445,2,    37.6,2,   28.86,2,    0.00,2,    1.97,2,   0.940,2,   0.500,2,   0.1260,2,  2199.8,2, 2301.33,2,   7.6359,2, -999.00,9, -999.00,9, -999.00,    39.6,2, -999.00,9,     -999.0,1,  -999.0,9, 20170715,      204, -30.0799, 168.4998,        0.0,1,      0.060,1,      0.006,1,      0.144,1,      25.00,     -999.0,9,     -999.0,9,     -999.0,9,     -999.0,9,     5.3309,2,     -999.0,9
320620170703,        P06,      53,          1,         18,         18,2,20170715,       0246,   -30.0801,   168.4993,       3342,  1010.5,   5.7562,  34.4364,2,  34.4373,2, 196.3373,2, 196.5194,2,    30.0,2,   27.80,2,    0.00,2,    1.91,2,   1.175,2,   0.614,2,   0.1580,2,  -999.0,9, -999.00,9,-999.0000,9, -999.00,9, -999.00,9, -999.00,    40.1,2, -999.00,9,     -999.0,1,  -999.0,9, 20170715,      207, -30.0799, 168.4998,        0.0,1,      0.060,1,      0.006,1,      0.143,1,     -999.0,     -999.0,9,     -999.0,9,     -999.0,9,     -999.0,9,     5.7287,2,     -999.0,9
320620170703,        P06,      53,          1,         19,         19,2,20170715,       0246,   -30.0801,   168.4993,       3342,   908.1,   6.6026,  34.4691,2,  34.4640,2, 202.3668,2, 202.1136,2,    22.0,2,   25.78,2,    0.00,2,    1.76,2,   1.546,2,   0.826,2,   0.2310,2,  2176.6,2, 2288.55,2,   7.6699,2, -999.00,9, -999.00,9, -999.00,    41.9,2, -999.00,9,     -999.0,1,  -999.0,9, 20170715,      210, -30.0800, 168.4997,        0.0,1,      0.060,1,      0.033,1,      0.145,1,      25.01,     -999.0,9,     -999.0,9,     -999.0,9,     -999.0,9,     6.5693,2,     -999.0,9
320620170703,        P06,      53,          1,         20,         20,2,20170715,       0246,   -30.0801,   168.4993,       3342,   806.5,   7.2499,  34.5085,2,  34.4977,2, 204.8877,2, 205.6449,2,    16.6,2,   24.01,2,    0.00,2,    1.64,2,   1.896,2,   0.994,2,   0.2930,2,  -999.0,9, -999.00,9,-999.0000,9, -999.00,9, -999.00,9, -999.00,    40.8,2, -999.00,9,     -999.0,1,  -999.0,9, 20170715,      213, -30.0800, 168.4997,        0.0,1,      0.061,1,      0.006,1,      0.150,1,     -999.0,     -999.0,9,     -999.0,9,     -999.0,9,     -999.0,9,     7.2080,2,     -999.0,9
320620170703,        P06,      53,          1,         21,         21,2,20170715,       0246,   -30.0801,   168.4993,       3342,   706.6,   8.4966,  34.6205,2,  34.6231,2, 202.7214,2, 202.5505,2,    12.1,2,   21.37,2,    0.00,2,    1.45,2,   2.149,2,   1.159,2,   0.4690,2,  2156.3,2, 2286.61,2,   7.7118,2, -999.00,9, -999.00,9, -999.00,    42.0,2, -999.00,9,     -999.0,1,  -999.0,9, 20170715,      216, -30.0799, 168.4997,        0.0,1,      0.060,1,      0.006,1,      0.148,1,      25.02,     -999.0,9,     -999.0,9,     -999.0,9,     -999.0,9,     8.5202,2,     -999.0,9
320620170703,        P06,      53,          1,         22,         22,2,20170715,       0246,   -30.0801,   168.4993,       3342,   605.0,   9.6549,  34.7421,2,  34.7496,2, 200.2251,2, 200.1966,2,     9.0,2,   18.79,2,    0.00,2,    1.27,2,   2.329,2,   1.276,2,   0.5930,2,  -999.0,9, -999.00,9,-999.0000,9, -999.00,9, -999.00,9, -999.00,    42.6,2, -999.00,9,     -999.0,1,  -999.0,9, 20170715,      219, -30.0799, 168.4998,        0.0,1,      0.059,1,      0.034,1,      0.144,1,     -999.0,     -999.0,9,     -999.0,9,     -999.0,9,     -999.0,9,     9.7275,2,     -999.0,9
320620170703,        P06,      53,          1,         23,         23,2,20170715,       0246,   -30.0801,   168.4993,       3342,   504.1,  10.9020,  34.8809,2,  34.8833,2, 199.0386,2, 199.0707,2,     6.5,2,   16.17,2,    0.00,2,    1.10,2,   2.408,2,   1.320,2,   0.6560,2,  2140.7,2, 2292.79,2,   7.7651,2, -999.00,9, -999.00,9, -999.00,    43.6,2, -999.00,9,     -999.0,1,  -999.0,9, 20170715,      221, -30.0799, 168.4997,        0.0,1,      0.060,1,      0.006,1,      0.147,1,      25.00,     -999.0,9,     -999.0,9,     -999.0,9,     -999.0,9,    10.9661,2,     -999.0,9
320620170703,        P06,      53,          1,         24,         24,2,20170715,       0246,   -30.0801,   168.4993,       3342,   454.7,  12.0818,  35.0148,2,  35.0299,2, 197.6041,2, 197.4301,2,     5.0,2,   13.64,2,    0.00,2,    0.94,2,   2.366,2,   1.339,2,   0.7430,2,  -999.0,9, -999.00,9,-999.0000,9, -999.00,9, -999.00,9, -999.00,  -999.0,9, -999.00,9,     -999.0,9,  -999.0,9, 20170715,      224, -30.0800, 168.4997,        0.0,1,      0.060,1,      1.277,1,      0.147,1,     -999.0,     -999.0,9,     -999.0,9,     -999.0,9,     -999.0,9,    12.2356,2,     -999.0,9
320620170703,        P06,      53,          1,         25,         25,2,20170715,       0246,   -30.0801,   168.4993,       3342,   402.2,  13.0583,  35.1237,2,  35.0297,2, 197.6856,2, 196.9105,2,     4.0,2,   11.64,2,    0.00,2,    0.81,2,   2.341,2,   1.333,2,   0.7930,2,  2124.1,2, 2304.06,2,   7.8223,2, -999.00,9, -999.00,9, -999.00,    46.5,2,   14.50,2,     -999.0,1,  -999.0,9, 20170715,      226, -30.0800, 168.4996,        0.0,1,      0.061,1,      0.107,1,      0.151,1,      25.00,     -999.0,9,     -999.0,9,     -999.0,9,     -999.0,9,    13.3027,2,     -999.0,9
320620170703,        P06,      53,          1,         27,         27,2,20170715,       0246,   -30.0801,   168.4993,       3342,   301.5,  15.0674,  35.3402,2,  35.4009,2, 195.0817,4, 185.1627,3,     2.2,2,    7.69,2,    0.00,2,    0.56,2,   2.156,2,   1.281,2,   0.9050,2,  2105.8,2, 2314.74,2,   7.8828,2, -999.00,9, -999.00,9, -999.00,    49.4,2,   10.80,2,     -999.0,1,  -999.0,9, 20170715,      230, -30.0800, 168.4995,        0.0,1,      0.060,1,      4.487,1,      0.152,1,      25.00,     -999.0,9,     -999.0,9,     -999.0,9,     -999.0,9,    15.7036,2,     -999.0,9
320620170703,        P06,      53,          1,         26,         26,2,20170715,       0246,   -30.0801,   168.4993,       3342,   301.1,  15.0674,  35.3402,2,  35.3922,2, 197.0835,2, 197.5244,2,     2.1,2,    7.74,2,    0.00,2,    0.57,2,   2.164,2,   1.283,2,   0.8910,2,  -999.0,9, -999.00,9,-999.0000,9, -999.00,9, -999.00,9, -999.00,  -999.0,9, -999.00,9,     -999.0,9,  -999.0,9, 20170715,      230, -30.0800, 168.4995,        0.0,1,      0.060,1,      4.487,1,      0.152,1,     -999.0,     -999.0,9,     -999.0,9,     -999.0,9,     -999.0,9,    15.6936,2,     -999.0,9
320620170703,        P06,      53,          1,         28,         28,2,20170715,       0246,   -30.0801,   168.4993,       3342,   251.9,  16.2172,  35.4585,2,  35.4884,2, 198.0898,2, 198.0208,2,     1.7,2,    6.37,2,    0.02,2,    0.47,2,   2.082,2,   1.260,2,   0.8830,2,  -999.0,9, -999.00,9,-999.0000,9, -999.00,9, -999.00,9, -999.00,    51.0,2,    9.10,2,     -999.0,1,  -999.0,9, 20170715,      232, -30.0800, 168.4995,        0.0,1,      0.060,1,      0.063,1,      0.158,1,     -999.0,     -999.0,9,     -999.0,9,     -999.0,9,     -999.0,9,    16.5763,2,     -999.0,9
320620170703,        P06,      53,          1,         29,         29,2,20170715,       0246,   -30.0801,   168.4993,       3342,   201.5,  17.8645,  35.6116,2,  35.5983,2, 198.2018,2, 198.7826,2,     1.2,2,    4.73,2,    0.02,2,    0.37,2,   1.988,2,   1.223,2,   0.9290,2,  2087.9,2, 2325.03,2,   7.9339,2, -999.00,9, -999.00,9, -999.00,    50.1,2,    7.40,2,     -999.0,1,  -999.0,9, 20170715,      234, -30.0800, 168.4995,        0.0,1,      0.062,1,      0.006,1,      0.156,1,      25.01,     -999.0,9,     -999.0,9,     -999.0,9,     -999.0,9,    17.8166,2,     -999.0,9
320620170703,        P06,      53,          1,         30,         30,2,20170715,       0246,   -30.0801,   168.4993,       3342,   151.1,  19.6288,  35.8575,2,  35.8609,2, 221.7157,2, 221.1644,2,     0.3,2,    0.47,2,    0.09,2,    0.10,2,   1.833,2,   1.124,2,   1.0040,2,  -999.0,9, -999.00,9,-999.0000,9, -999.00,9, -999.00,9, -999.00,    59.4,2,    4.40,2,     -999.0,1,  -999.0,9, 20170715,      236, -30.0800, 168.4995,        0.0,1,      0.164,1,      0.006,1,      0.212,1,     -999.0,     -999.0,9,     -999.0,9,     -999.0,9,     -999.0,9,    19.6271,2,     -999.0,9
320620170703,        P06,      53,          1,         31,         31,2,20170715,       0246,   -30.0801,   168.4993,       3342,   126.4,  19.6250,  35.8574,2,  35.8615,2, 221.7157,2, 221.4996,2,     0.3,2,    0.41,2,    0.09,2,    0.10,2,   1.838,2,   1.127,2,   1.0270,2,  2061.4,2, 2341.64,2,   8.0075,2, -999.00,9, -999.00,9, -999.00,    59.7,2,    4.60,2,     -999.0,1,  -999.0,9, 20170715,      238, -30.0800, 168.4995,        0.0,1,      0.164,1,      4.618,1,      0.210,1,      25.00,     -999.0,9,     -999.0,9,     -999.0,9,     -999.0,9,    19.6245,2,     -999.0,9
320620170703,        P06,      53,          1,         32,         32,2,20170715,       0246,   -30.0801,   168.4993,       3342,   100.3,  19.6177,  35.8567,2,  35.8595,2, 221.5796,2, 221.5160,2,     0.3,2,    0.42,2,    0.10,2,    0.09,2,   1.798,2,   1.139,2,   1.0270,2,  -999.0,9, -999.00,9,-999.0000,9, -999.00,9, -999.00,9, -999.00,    59.0,2,    4.40,2,     -999.0,1,  -999.0,9, 20170715,      239, -30.0800, 168.4995,        0.0,1,      0.168,1,      4.629,1,      0.231,1,     -999.0,     -999.0,9,     -999.0,9,     -999.0,9,     -999.0,9,    19.6210,2,     -999.0,9