BOTTLE,20230922CCHSIOCBG
EXPOCODE,SECT_ID,STNNBR,CASTNO,SAMPNO,BTLNBR,BTLNBR_FLAG_W,DATE,TIME,LATITUDE,LONGITUDE,DEPTH,CTDPRS,CTDTMP,CTDSAL,CTDSAL_FLAG_W,SALNTY,SALNTY_FLAG_W,CTDOXY,CTDOXY_FLAG_W,OXYGEN,OXYGEN_FLAG_W,SILCAT,SILCAT_FLAG_W,NITRAT,NITRAT_FLAG_W,NITRIT,NITRIT_FLAG_W,PHSPHT,PHSPHT_FLAG_W,CFC-11,CFC-11_FLAG_W,CFC-12,CFC-12_FLAG_W,SF6,SF6_FLAG_W,TCARBN,TCARBN_FLAG_W,ALKALI,ALKALI_FLAG_W,PH_TOT,PH_TOT_FLAG_W,DELC13,DELC13_FLAG_W,DELC14,DELC14_FLAG_W,C14ERR,DOC,DOC_FLAG_W,TDN,TDN_FLAG_W,TON,TON_FLAG_W,D15N_NO3,D15N_NO3_FLAG_W,BTL_DATE,BTL_TIME,BTL_LAT,BTL_LON,CTDRINKO,CTDRINKO_FLAG_W,CTDFLUOR,CTDFLUOR_FLAG_W,CTDXMISS,CTDXMISS_FLAG_W,CTDBACKSCATTER,CTDBACKSCATTER_FLAG_W,PH_TMP,D18O_NO3,D18O_NO3_FLAG_W,DOP,DOP_FLAG_W,HPLC,HPLC_FLAG_W,POC,POC_FLAG_W,REFTMP,REFTMP_FLAG_W,TDP,TDP_FLAG_W
,,,,,,,,,,,METERS,DBAR,ITS-90,PSS-78,,PSS-78,,UMOL/KG,,UMOL/KG,,UMOL/KG,,UMOL/KG,,UMOL/KG,,UMOL/KG,,PMOL/KG,,PMOL/KG,,FMOL/KG,,UMOL/KG,,UMOL/KG,,,,/MILLE,,/MILLE,,/MILLE,UMOL/KG,,UMOL/KG,,UMOL/KG,,/MILLE,,,,,,VOLTS,,VOLTS,,VOLTS,,VOLTS,,DEGC,/MILLE,,UMOL/KG,,,,UG/L,,ITS-90,,UMOL/KG,
320620170703,        P06,      56,          1,         33,         33,2,20170715,       1930,   -30.0800,   170.0000,       2940,    76.6,  19.6047,  35.8653,2,  35.8674,2, 220.3002,2, 220.3179,2,     0.4,2,    0.59,2,    0.10,2,    0.12,2,   1.781,2,   1.132,2,   1.0430,2,  2060.8,2, -999.00,9,   8.0067,2, -999.00,9, -999.00,9, -999.00,  -999.0,9, -999.00,9,     -999.0,9,  -999.0,1, 20170715,     1924, -30.0799, 170.0001,        0.0,1,      0.152,1,      1.859,1,      0.195,1,      25.00,     -999.0,1,     -999.0,1,     -999.0,9,     -999.0,9,    19.6063,2,       0.27,2
320620170703,        P06,      56,          1,         34,         34,2,20170715,       1930,   -30.0800,   170.0000,       2940,    50.6,  19.5985,  35.8652,2,  35.8663,2, 221.4036,2, 221.1330,2,     0.4,2,    0.60,2,    0.10,2,    0.11,2,-999.000,9,-999.000,9,-999.0000,9,  2062.7,2, -999.00,9,   8.0061,2, -999.00,9, -999.00,9, -999.00,  -999.0,9, -999.00,9,     -999.0,9,  -999.0,1, 20170715,     1926, -30.0799, 170.0001,        0.0,1,      0.149,1,      2.114,1,      0.196,1,      24.99,     -999.0,1,     -999.0,1,     -999.0,9,     -999.0,9,    19.6040,2,       0.31,2
320620170703,        P06,      56,          1,         35,         35,2,20170715,       1930,   -30.0800,   170.0000,       2940,    23.7,  19.5936,  35.8646,2,  35.8665,2, 219.9494,2, 220.3747,2,     0.4,2,    0.61,2,    0.10,2,    0.12,2,   1.808,2,   1.136,2,   1.0570,2,  2062.5,2, -999.00,9,   8.0069,2, -999.00,9, -999.00,9, -999.00,  -999.0,9, -999.00,9,     -999.0,9,  -999.0,1, 20170715,     1928, -30.0799, 170.0001,        0.0,1,      0.151,1,      4.032,1,      0.195,1,      25.06,     -999.0,1,     -999.0,1,     -999.0,9,     -999.0,9,    19.5999,2,       0.23,2
320620170703,        P06,      56,          1,         36,         36,2,20170715,       1930,   -30.0800,   170.0000,       2940,     4.0,  19.5878,  35.8637,2,  35.8671,2, 221.4200,2, 220.5014,2,     0.4,2,    0.61,2,    0.10,2,    0.12,2,   1.824,2,   1.137,2,   1.0430,2,  2062.3,6, -999.00,9,   8.0060,2,    0.81,2,   58.19,2,    4.87,  -999.0,9, -999.00,9,     -999.0,9,  -999.0,1, 20170715,     1930, -30.0800, 170.0000,        0.0,1,      0.165,1,      4.386,1,      0.194,1,      25.02,     -999.0,1,     -999.0,1,     -999.0,9,     -999.0,9,    19.5892,2,       0.29,2