BOTTLE,20230922CCHSIOCBG
EXPOCODE,SECT_ID,STNNBR,CASTNO,SAMPNO,BTLNBR,BTLNBR_FLAG_W,DATE,TIME,LATITUDE,LONGITUDE,DEPTH,CTDPRS,CTDTMP,CTDSAL,CTDSAL_FLAG_W,SALNTY,SALNTY_FLAG_W,CTDOXY,CTDOXY_FLAG_W,OXYGEN,OXYGEN_FLAG_W,SILCAT,SILCAT_FLAG_W,NITRAT,NITRAT_FLAG_W,NITRIT,NITRIT_FLAG_W,PHSPHT,PHSPHT_FLAG_W,CFC-11,CFC-11_FLAG_W,CFC-12,CFC-12_FLAG_W,SF6,SF6_FLAG_W,TCARBN,TCARBN_FLAG_W,ALKALI,ALKALI_FLAG_W,PH_TOT,PH_TOT_FLAG_W,DELC13,DELC13_FLAG_W,DELC14,DELC14_FLAG_W,C14ERR,DOC,DOC_FLAG_W,TDN,TDN_FLAG_W,TON,TON_FLAG_W,D15N_NO3,D15N_NO3_FLAG_W,BTL_DATE,BTL_TIME,BTL_LAT,BTL_LON,CTDRINKO,CTDRINKO_FLAG_W,CTDFLUOR,CTDFLUOR_FLAG_W,CTDXMISS,CTDXMISS_FLAG_W,CTDBACKSCATTER,CTDBACKSCATTER_FLAG_W,PH_TMP,D18O_NO3,D18O_NO3_FLAG_W,DOP,DOP_FLAG_W,HPLC,HPLC_FLAG_W,POC,POC_FLAG_W,REFTMP,REFTMP_FLAG_W,TDP,TDP_FLAG_W
,,,,,,,,,,,METERS,DBAR,ITS-90,PSS-78,,PSS-78,,UMOL/KG,,UMOL/KG,,UMOL/KG,,UMOL/KG,,UMOL/KG,,UMOL/KG,,PMOL/KG,,PMOL/KG,,FMOL/KG,,UMOL/KG,,UMOL/KG,,,,/MILLE,,/MILLE,,/MILLE,UMOL/KG,,UMOL/KG,,UMOL/KG,,/MILLE,,,,,,VOLTS,,VOLTS,,VOLTS,,VOLTS,,DEGC,/MILLE,,UMOL/KG,,,,UG/L,,ITS-90,,UMOL/KG,
320620170703,        P06,      84,          1,         33,         33,2,20170725,       0634,   -32.4991,   179.4210,       3035,    74.5,  17.4159,  35.6485,2,  35.6496,2, 231.9541,2, 232.6673,2,     0.4,2,    0.83,2,    0.17,2,    0.14,2,   2.288,2,   1.289,2,   1.4500,2,  2069.3,2, 2334.55,2,   7.9752,2, -999.00,9, -999.00,9, -999.00,    56.2,2,    5.50,2,     -999.0,1,  -999.0,9, 20170725,      630, -32.4990, 179.4210,        0.0,1,      0.199,1,      4.600,1,      0.265,1,      24.99,     -999.0,9,     -999.0,9,     -999.0,9,     -999.0,9,    17.4334,2,     -999.0,9
320620170703,        P06,      84,          1,         34,         34,2,20170725,       0634,   -32.4991,   179.4210,       3035,    49.3,  17.4290,  35.6478,2,  35.6465,2, 232.5160,2, 233.1643,2,     0.4,2,    0.80,2,    0.17,2,    0.14,2,   2.291,2,   1.294,2,   1.4410,2,  -999.0,9, -999.00,9,-999.0000,9, -999.00,9, -999.00,9, -999.00,    57.1,2,    5.10,2,     -999.0,1,  -999.0,9, 20170725,      631, -32.4990, 179.4209,        0.0,1,      0.199,1,      4.586,1,      0.255,1,     -999.0,     -999.0,9,     -999.0,9,     -999.0,9,     -999.0,9,    17.4256,2,     -999.0,9
320620170703,        P06,      84,          1,         35,         35,2,20170725,       0634,   -32.4991,   179.4210,       3035,    24.6,  17.4271,  35.6452,2,  35.6459,2, 232.4936,2, 232.9555,2,     0.5,2,    0.79,2,    0.17,2,    0.15,2,   2.298,2,   1.296,2,   1.4030,2,  2068.8,2, 2336.40,2,   7.9759,2, -999.00,9, -999.00,9, -999.00,    55.7,2,    4.90,2,     -999.0,1,  -999.0,9, 20170725,      633, -32.4990, 179.4210,        0.0,1,      0.193,1,      4.584,1,      0.263,1,      24.99,     -999.0,9,     -999.0,9,     -999.0,9,     -999.0,9,    17.4215,2,     -999.0,9
320620170703,        P06,      84,          1,         36,         36,2,20170725,       0634,   -32.4991,   179.4210,       3035,     4.3,  17.4245,  35.6446,2,  35.6457,2, 233.5552,2, 234.0158,2,     0.5,2,    0.80,2,    0.18,2,    0.15,2,   2.327,2,   1.274,2,   1.3860,2,  2068.7,6, 2332.53,2,   7.9744,2, -999.00,9, -999.00,9, -999.00,    58.7,2,    4.90,2,     -999.0,1,  -999.0,9, 20170725,      634, -32.4991, 179.4210,        0.0,1,      0.186,1,      4.583,1,      0.257,1,      25.01,     -999.0,9,     -999.0,9,     -999.0,9,     -999.0,9,    17.4131,2,     -999.0,9