BOTTLE,20230922CCHSIOCBG
EXPOCODE,SECT_ID,STNNBR,CASTNO,SAMPNO,BTLNBR,BTLNBR_FLAG_W,DATE,TIME,LATITUDE,LONGITUDE,DEPTH,CTDPRS,CTDTMP,CTDSAL,CTDSAL_FLAG_W,SALNTY,SALNTY_FLAG_W,CTDOXY,CTDOXY_FLAG_W,OXYGEN,OXYGEN_FLAG_W,SILCAT,SILCAT_FLAG_W,NITRAT,NITRAT_FLAG_W,NITRIT,NITRIT_FLAG_W,PHSPHT,PHSPHT_FLAG_W,CFC-11,CFC-11_FLAG_W,CFC-12,CFC-12_FLAG_W,SF6,SF6_FLAG_W,TCARBN,TCARBN_FLAG_W,ALKALI,ALKALI_FLAG_W,PH_TOT,PH_TOT_FLAG_W,DELC13,DELC13_FLAG_W,DELC14,DELC14_FLAG_W,C14ERR,DOC,DOC_FLAG_W,TDN,TDN_FLAG_W,TON,TON_FLAG_W,D15N_NO3,D15N_NO3_FLAG_W,BTL_DATE,BTL_TIME,BTL_LAT,BTL_LON,CTDRINKO,CTDRINKO_FLAG_W,CTDFLUOR,CTDFLUOR_FLAG_W,CTDXMISS,CTDXMISS_FLAG_W,CTDBACKSCATTER,CTDBACKSCATTER_FLAG_W,PH_TMP,D18O_NO3,D18O_NO3_FLAG_W,DOP,DOP_FLAG_W,HPLC,HPLC_FLAG_W,POC,POC_FLAG_W,REFTMP,REFTMP_FLAG_W,TDP,TDP_FLAG_W
,,,,,,,,,,,METERS,DBAR,ITS-90,PSS-78,,PSS-78,,UMOL/KG,,UMOL/KG,,UMOL/KG,,UMOL/KG,,UMOL/KG,,UMOL/KG,,PMOL/KG,,PMOL/KG,,FMOL/KG,,UMOL/KG,,UMOL/KG,,,,/MILLE,,/MILLE,,/MILLE,UMOL/KG,,UMOL/KG,,UMOL/KG,,/MILLE,,,,,,VOLTS,,VOLTS,,VOLTS,,VOLTS,,DEGC,/MILLE,,UMOL/KG,,,,UG/L,,ITS-90,,UMOL/KG,
320620170703,        P06,     105,          1,          1,          1,2,20170730,       1926,   -32.4999,  -172.0870,       5228,  5319.9,   1.0882,  34.7082,2,  34.7079,2, 205.9253,2, 206.3249,2,   121.5,2,   31.88,2,    0.00,2,    2.23,2,   0.144,2,   0.079,2,   0.0000,2,  2264.9,2, 2362.31,2,   7.6059,2, -999.00,9, -999.00,9, -999.00,  -999.0,9, -999.00,9,     -999.0,9,  -999.0,9, 20170730,     1709, -32.5001,-172.0865,        0.0,1,      0.061,1,      4.694,1,      0.132,1,      25.03,     -999.0,9,     -999.0,9,     -999.0,9,     -999.0,9,     1.0887,2,     -999.0,9
320620170703,        P06,     105,          1,          2,          2,2,20170730,       1926,   -32.4999,  -172.0870,       5228,  5145.4,   1.0757,  34.7089,2,  34.7089,2, 205.9253,2, 206.8032,2,   121.0,2,   31.88,2,    0.00,2,    2.23,2,-999.000,9,-999.000,9,-999.0000,9,  -999.0,9, -999.00,9,-999.0000,9, -999.00,9, -999.00,9, -999.00,  -999.0,9, -999.00,9,     -999.0,9,  -999.0,9, 20170730,     1716, -32.5002,-172.0864,        0.0,1,      0.061,1,      4.698,1,      0.128,1,     -999.0,     -999.0,9,     -999.0,9,     -999.0,9,     -999.0,9,     1.0776,2,     -999.0,9
320620170703,        P06,     105,          1,          3,          3,2,20170730,       1926,   -32.4999,  -172.0870,       5228,  4992.7,   1.0718,  34.7093,2,  34.7091,2, 205.9253,2, 205.9999,2,   120.7,2,   31.84,2,    0.00,2,    2.23,2,   0.141,2,   0.084,2,   0.0000,2,  -999.0,9, -999.00,9,-999.0000,9, -999.00,9, -999.00,9, -999.00,  -999.0,9, -999.00,9,     -999.0,9,  -999.0,9, 20170730,     1721, -32.5002,-172.0864,        0.0,1,      0.061,1,      4.699,1,      0.126,1,     -999.0,     -999.0,9,     -999.0,9,     -999.0,9,     -999.0,9,     1.0724,2,     -999.0,9
320620170703,        P06,     105,          1,          4,          4,2,20170730,       1926,   -32.4999,  -172.0870,       5228,  4580.5,   1.0797,  34.7114,2,  34.7111,2, 205.9480,2, 205.6245,2,   119.4,2,   31.81,2,    0.00,2,    2.22,2,-999.000,9,-999.000,9,-999.0000,9,  -999.0,9, -999.00,9,-999.0000,9, -999.00,9, -999.00,9, -999.00,  -999.0,9, -999.00,9,     -999.0,9,  -999.0,9, 20170730,     1731, -32.5001,-172.0866,        0.0,1,      0.060,1,      4.701,1,      0.127,1,     -999.0,     -999.0,9,     -999.0,9,     -999.0,9,     -999.0,9,     1.0795,2,     -999.0,9
320620170703,        P06,     105,          1,          5,          5,2,20170730,       1926,   -32.4999,  -172.0870,       5228,  4272.5,   1.1477,  34.7147,2,  34.7146,2, 205.4665,2, 204.5303,2,   116.5,2,   31.67,2,    0.00,2,    2.21,2,   0.111,2,   0.066,2,   0.0000,2,  -999.0,9, -999.00,9,-999.0000,9, -999.00,9, -999.00,9, -999.00,  -999.0,9, -999.00,9,     -999.0,9,  -999.0,9, 20170730,     1737, -32.5002,-172.0865,        0.0,1,      0.061,1,      4.701,1,      0.127,1,     -999.0,     -999.0,9,     -999.0,9,     -999.0,9,     -999.0,9,     1.1492,2,     -999.0,9
320620170703,        P06,     105,          1,          6,          6,2,20170730,       1926,   -32.4999,  -172.0870,       5228,  3963.8,   1.3108,  34.7187,2,  34.7191,2, 199.2770,2, 199.6930,2,   112.4,2,   31.64,2,    0.00,2,    2.21,2,-999.000,9,-999.000,9,-999.0000,9,  2263.3,2, 2365.48,6,   7.6052,2, -999.00,9, -999.00,9, -999.00,  -999.0,9, -999.00,9,     -999.0,9,  -999.0,9, 20170730,     1744, -32.5002,-172.0864,        0.0,1,      0.060,1,      4.701,1,      0.126,1,      25.07,     -999.0,9,     -999.0,9,     -999.0,9,     -999.0,9,     1.3149,2,     -999.0,9
320620170703,        P06,     105,          1,          7,          7,2,20170730,       1926,   -32.4999,  -172.0870,       5228,  3657.0,   1.4957,  34.7150,2,  34.7152,2, 190.1380,2, 189.8613,2,   111.7,2,   32.11,2,    0.00,2,    2.24,2,   0.060,2,   0.038,2,   0.0000,2,  -999.0,9, -999.00,9,-999.0000,9, -999.00,9, -999.00,9, -999.00,  -999.0,9, -999.00,9,     -999.0,9,  -999.0,9, 20170730,     1750, -32.5003,-172.0864,        0.0,1,      0.061,1,      4.701,1,      0.128,1,     -999.0,     -999.0,9,     -999.0,9,     -999.0,9,     -999.0,9,     1.4997,2,     -999.0,9
320620170703,        P06,     105,          1,          8,          8,2,20170730,       1926,   -32.4999,  -172.0870,       5228,  3349.7,   1.6683,  34.6968,2,  34.6973,2, 173.5960,2, 172.7663,2,   118.6,2,   33.51,2,    0.00,2,    2.35,2,-999.000,9,-999.000,9,-999.0000,9,  -999.0,9, -999.00,9,-999.0000,9, -999.00,9, -999.00,9, -999.00,  -999.0,9, -999.00,9,     -999.0,9,  -999.0,9, 20170730,     1757, -32.5002,-172.0864,        0.0,1,      0.062,1,      4.701,1,      0.129,1,     -999.0,     -999.0,9,     -999.0,9,     -999.0,9,     -999.0,9,     1.6670,2,     -999.0,9
320620170703,        P06,     105,          1,          9,          9,2,20170730,       1926,   -32.4999,  -172.0870,       5228,  3042.7,   1.7807,  34.6766,2,  34.6751,2, 158.0587,3, 156.0959,2,   126.4,2,   34.91,2,    0.00,2,    2.45,2,   0.034,2,   0.025,2,   0.0000,2,  2307.4,2, 2408.84,2,   7.5737,2, -999.00,9, -999.00,9, -999.00,  -999.0,9, -999.00,9,     -999.0,9,  -999.0,9, 20170730,     1803, -32.5000,-172.0867,        0.0,1,      0.061,1,      4.701,1,      0.130,1,      25.04,     -999.0,9,     -999.0,9,     -999.0,9,     -999.0,9,     1.7863,2,     -999.0,9
320620170703,        P06,     105,          1,         10,         10,2,20170730,       1926,   -32.4999,  -172.0870,       5228,  2788.0,   1.9088,  34.6616,2,  34.6598,2, 149.5962,2, 149.7527,2,   126.7,2,   35.55,2,    0.00,2,    2.50,2,-999.000,9,-999.000,9,-999.0000,9,  -999.0,9, -999.00,9,-999.0000,9, -999.00,9, -999.00,9, -999.00,  -999.0,9, -999.00,9,     -999.0,9,  -999.0,9, 20170730,     1809, -32.4999,-172.0869,        0.0,1,      0.061,1,      4.701,1,      0.131,1,     -999.0,     -999.0,9,     -999.0,9,     -999.0,9,     -999.0,9,     1.9189,2,     -999.0,9
320620170703,        P06,     105,          1,         11,         11,2,20170730,       1926,   -32.4999,  -172.0870,       5228,  2534.4,   2.0124,  34.6513,2,  34.6484,2, 147.2133,2, 148.2342,2,   123.3,2,   35.70,2,    0.00,2,    2.50,2,   0.030,2,   0.021,2,   0.0000,2,  2311.2,2, 2395.97,2,   7.5647,2, -999.00,9, -999.00,9, -999.00,  -999.0,9, -999.00,9,     -999.0,9,  -999.0,9, 20170730,     1814, -32.4998,-172.0871,        0.0,1,      0.060,1,      4.701,1,      0.134,1,      25.03,     -999.0,9,     -999.0,9,     -999.0,9,     -999.0,9,     2.0289,2,     -999.0,9
320620170703,        P06,     105,          1,         12,         12,2,20170730,       1926,   -32.4999,  -172.0870,       5228,  2278.5,   2.1523,  34.6386,2,  34.6413,2, 147.5745,2, 148.4181,2,   117.6,2,   35.48,2,    0.00,2,    2.49,2,-999.000,9,-999.000,9,-999.0000,9,  -999.0,9, -999.00,9,-999.0000,9, -999.00,9, -999.00,9, -999.00,  -999.0,9, -999.00,9,     -999.0,9,  -999.0,9, 20170730,     1819, -32.5002,-172.0862,        0.0,1,      0.061,1,      4.702,1,      0.132,1,     -999.0,     -999.0,9,     -999.0,9,     -999.0,9,     -999.0,9,     2.1481,2,     -999.0,9
320620170703,        P06,     105,          1,         13,         13,2,20170730,       1926,   -32.4999,  -172.0870,       5228,  2025.5,   2.3273,  34.6203,2,  34.6207,2, 150.2684,2, 151.6364,2,   108.1,2,   35.16,2,    0.00,2,    2.47,2,   0.030,2,   0.021,2,   0.0000,2,  -999.0,9, -999.00,9,-999.0000,9, -999.00,9, -999.00,9, -999.00,  -999.0,9, -999.00,9,     -999.0,9,  -999.0,9, 20170730,     1825, -32.5004,-172.0859,        0.0,1,      0.061,1,      4.702,1,      0.133,1,     -999.0,     -999.0,9,     -999.0,9,     -999.0,9,     -999.0,9,     2.3233,2,     -999.0,9
320620170703,        P06,     105,          1,         14,         14,2,20170730,       1926,   -32.4999,  -172.0870,       5228,  1818.1,   2.5225,  34.5915,2,  34.5908,2, 154.6291,2, 155.2835,2,    96.9,2,   34.86,2,    0.00,2,    2.43,2,-999.000,9,-999.000,9,-999.0000,9,  2281.1,2, 2368.91,2,   7.5676,2, -999.00,9, -999.00,9, -999.00,  -999.0,9, -999.00,9,     -999.0,9,  -999.0,9, 20170730,     1829, -32.5002,-172.0863,        0.0,1,      0.061,1,      4.702,1,      0.135,1,      25.04,     -999.0,9,     -999.0,9,     -999.0,9,     -999.0,9,     2.5237,2,     -999.0,9
320620170703,        P06,     105,          1,         15,         15,2,20170730,       1926,   -32.4999,  -172.0870,       5228,  1617.4,   2.7783,  34.5423,2,  34.5372,2, 161.4890,2, 162.1733,2,    81.1,2,   34.46,2,    0.00,2,    2.41,2,   0.060,2,   0.039,2,   0.0000,2,  -999.0,9, -999.00,9,-999.0000,9, -999.00,9, -999.00,9, -999.00,  -999.0,9, -999.00,9,     -999.0,9,  -999.0,9, 20170730,     1834, -32.5001,-172.0864,        0.0,1,      0.061,1,      4.702,1,      0.135,1,     -999.0,     -999.0,9,     -999.0,9,     -999.0,9,     -999.0,9,     2.7872,2,     -999.0,9
320620170703,        P06,     105,          1,         16,         16,2,20170730,       1926,   -32.4999,  -172.0870,       5228,  1412.6,   3.2159,  34.4544,2,  34.4389,2, 175.4860,2, 175.8056,2,    58.7,2,   33.67,2,    0.00,2,    2.33,2,-999.000,9,-999.000,9,-999.0000,9,  -999.0,9, -999.00,9,-999.0000,9, -999.00,9, -999.00,9, -999.00,  -999.0,9, -999.00,9,     -999.0,9,  -999.0,9, 20170730,     1839, -32.5001,-172.0864,        0.0,1,      0.061,1,      4.702,1,      0.136,1,     -999.0,     -999.0,9,     -999.0,9,     -999.0,9,     -999.0,9,     3.3026,2,     -999.0,9
320620170703,        P06,     105,          1,         17,         17,2,20170730,       1926,   -32.4999,  -172.0870,       5228,  1315.5,   3.4694,  34.4105,2,  34.3892,2, 183.3263,2, 183.9982,2,    48.3,2,   32.92,2,    0.00,2,    2.27,2,   0.447,2,   0.230,2,   0.0000,2,  -999.0,9, -999.00,9,-999.0000,9, -999.00,9, -999.00,9, -999.00,  -999.0,9, -999.00,9,     -999.0,9,  -999.0,9, 20170730,     1841, -32.5001,-172.0865,        0.0,1,      0.061,1,      4.702,1,      0.135,1,     -999.0,     -999.0,9,     -999.0,9,     -999.0,9,     -999.0,9,     3.6293,2,     -999.0,9
320620170703,        P06,     105,          1,         18,         18,2,20170730,       1926,   -32.4999,  -172.0870,       5228,  1212.5,   3.9711,  34.3714,2,  34.3619,2, 190.8181,2, 190.4864,2,    39.9,2,   31.84,2,    0.00,2,    2.19,2,-999.000,9,-999.000,9,-999.0000,9,  -999.0,9, -999.00,9,-999.0000,9, -999.00,9, -999.00,9, -999.00,  -999.0,9, -999.00,9,     -999.0,9,  -999.0,9, 20170730,     1844, -32.5000,-172.0865,        0.0,1,      0.060,1,      4.702,1,      0.136,1,     -999.0,     -999.0,9,     -999.0,9,     -999.0,9,     -999.0,9,     4.0843,2,     -999.0,9
320620170703,        P06,     105,          1,         19,         19,2,20170730,       1926,   -32.4999,  -172.0870,       5228,  1111.8,   4.6305,  34.3376,2,  34.3346,2, 200.6634,2, 200.0214,2,    29.8,2,   30.31,2,    0.00,2,    2.08,2,-999.000,9,-999.000,9,-999.0000,9,  -999.0,9, -999.00,9,-999.0000,9, -999.00,9, -999.00,9, -999.00,  -999.0,9, -999.00,9,     -999.0,9,  -999.0,9, 20170730,     1847, -32.5001,-172.0865,        0.0,1,      0.060,1,      4.701,1,      0.135,1,     -999.0,     -999.0,9,     -999.0,9,     -999.0,9,     -999.0,9,     4.6480,2,     -999.0,9
320620170703,        P06,     105,          1,         20,         20,2,20170730,       1926,   -32.4999,  -172.0870,       5228,  1009.3,   5.2372,  34.3180,2,  34.3162,2, 215.7205,2, 214.6740,2,    19.0,2,   27.76,2,    0.00,2,    1.90,2,   1.644,2,   0.791,2,   0.2370,2,  -999.0,9, -999.00,9,-999.0000,9, -999.00,9, -999.00,9, -999.00,  -999.0,9, -999.00,9,     -999.0,9,  -999.0,9, 20170730,     1850, -32.5002,-172.0863,        0.0,1,      0.060,1,      4.701,1,      0.137,1,     -999.0,     -999.0,9,     -999.0,9,     -999.0,9,     -999.0,9,     5.3884,2,     -999.0,9
320620170703,        P06,     105,          1,         21,         21,2,20170730,       1926,   -32.4999,  -172.0870,       5228,   908.3,   5.8837,  34.3268,2,  34.3282,2, 224.8593,2, 224.7730,2,    13.1,2,   25.57,2,    0.00,2,    1.75,2,-999.000,9,-999.000,9,-999.0000,9,  -999.0,9, -999.00,9,-999.0000,9, -999.00,9, -999.00,9, -999.00,  -999.0,9, -999.00,9,     -999.0,9,  -999.0,9, 20170730,     1853, -32.5003,-172.0861,        0.0,1,      0.060,1,      4.700,1,      0.138,1,     -999.0,     -999.0,9,     -999.0,9,     -999.0,9,     -999.0,9,     6.0079,2,     -999.0,9
320620170703,        P06,     105,          1,         22,         22,2,20170730,       1926,   -32.4999,  -172.0870,       5228,   806.3,   6.3238,  34.3443,2,  34.3545,2, 232.2815,2, 232.2373,2,     9.4,2,   23.67,2,    0.00,2,    1.62,2,-999.000,9,-999.000,9,-999.0000,9,  -999.0,9, -999.00,9,-999.0000,9, -999.00,9, -999.00,9, -999.00,  -999.0,9, -999.00,9,     -999.0,9,  -999.0,9, 20170730,     1856, -32.5004,-172.0860,        0.0,1,      0.060,1,      4.699,1,      0.138,1,     -999.0,     -999.0,9,     -999.0,9,     -999.0,9,     -999.0,9,     6.5562,2,     -999.0,9
320620170703,        P06,     105,          1,         23,         23,2,20170730,       1926,   -32.4999,  -172.0870,       5228,   706.2,   7.0484,  34.3943,2,  34.4037,2, 231.8766,2, 231.3449,2,     7.4,2,   22.14,2,    0.00,2,    1.51,2,   3.350,2,   1.700,2,   0.7260,2,  2147.3,2, 2280.44,2,   7.7052,2, -999.00,9, -999.00,9, -999.00,  -999.0,9, -999.00,9,     -999.0,9,  -999.0,9, 20170730,     1858, -32.5004,-172.0860,        0.0,1,      0.058,1,      4.698,1,      0.142,1,      25.04,     -999.0,9,     -999.0,9,     -999.0,9,     -999.0,9,     7.1687,2,     -999.0,9
320620170703,        P06,     105,          1,         24,         24,2,20170730,       1926,   -32.4999,  -172.0870,       5228,   604.5,   7.7917,  34.4658,2,  34.4565,2, 228.7859,2, 229.4408,2,     6.0,2,   20.45,2,    0.00,2,    1.41,2,-999.000,9,-999.000,9,-999.0000,9,  -999.0,9, -999.00,9,-999.0000,9, -999.00,9, -999.00,9, -999.00,  -999.0,9, -999.00,9,     -999.0,9,  -999.0,9, 20170730,     1901, -32.5004,-172.0860,        0.0,1,      0.059,1,      4.696,1,      0.143,1,     -999.0,     -999.0,9,     -999.0,9,     -999.0,9,     -999.0,9,     7.7566,2,     -999.0,9
320620170703,        P06,     105,          1,         25,         25,2,20170730,       1926,   -32.4999,  -172.0870,       5228,   502.8,   9.0894,  34.6001,2,  34.5730,2, 222.0503,2, 222.5211,2,     4.5,2,   17.63,2,    0.00,2,    1.24,2,-999.000,9,-999.000,9,-999.0000,9,  -999.0,9, -999.00,9,-999.0000,9, -999.00,9, -999.00,9, -999.00,  -999.0,9, -999.00,9,     -999.0,9,  -999.0,9, 20170730,     1904, -32.5002,-172.0862,        0.0,1,      0.060,1,      4.694,1,      0.143,1,     -999.0,     -999.0,9,     -999.0,9,     -999.0,9,     -999.0,9,     8.8900,2,     -999.0,9
320620170703,        P06,     105,          1,         26,         26,2,20170730,       1926,   -32.4999,  -172.0870,       5228,   401.6,  11.6228,  34.9168,2,  34.7620,2, 210.7225,2, 210.2113,2,     3.6,2,   14.37,2,    0.00,2,    1.03,2,   3.034,2,   1.663,2,   1.1060,2,  -999.0,9, -999.00,9,-999.0000,9, -999.00,9, -999.00,9, -999.00,  -999.0,9, -999.00,9,     -999.0,9,  -999.0,9, 20170730,     1907, -32.5000,-172.0867,        0.0,1,      0.059,1,      4.692,1,      0.144,1,     -999.0,     -999.0,9,     -999.0,9,     -999.0,9,     -999.0,9,    10.5428,2,     -999.0,9
320620170703,        P06,     105,          1,         27,         27,2,20170730,       1926,   -32.4999,  -172.0870,       5228,   355.1,  12.7862,  35.0605,2,  34.9221,2, 209.1895,2, 208.9575,2,     2.9,2,   11.91,2,    0.00,2,    0.87,2,-999.000,9,-999.000,9,-999.0000,9,  -999.0,9, -999.00,9,-999.0000,9, -999.00,9, -999.00,9, -999.00,  -999.0,9, -999.00,9,     -999.0,9,  -999.0,9, 20170730,     1909, -32.5000,-172.0868,        0.0,1,      0.059,1,      4.692,1,      0.138,1,     -999.0,     -999.0,9,     -999.0,9,     -999.0,9,     -999.0,9,    11.6551,2,     -999.0,9
320620170703,        P06,     105,          1,         28,         28,2,20170730,       1926,   -32.4999,  -172.0870,       5228,   300.9,  13.7900,  35.1795,2,  35.0579,2, 206.0130,2, 207.0496,2,     2.2,2,    9.41,2,    0.00,2,    0.72,2,-999.000,9,-999.000,9,-999.0000,9,  2120.2,2, 2300.39,2,   7.8197,2, -999.00,9, -999.00,9, -999.00,  -999.0,9, -999.00,9,     -999.0,9,  -999.0,9, 20170730,     1911, -32.5000,-172.0868,        0.0,1,      0.059,1,      4.691,1,      0.137,1,      25.03,     -999.0,9,     -999.0,9,     -999.0,9,     -999.0,9,    12.8830,2,     -999.0,9
320620170703,        P06,     105,          1,         29,         29,2,20170730,       1926,   -32.4999,  -172.0870,       5228,   250.9,  14.7261,  35.2986,2,  35.1983,3, 206.5086,2, 207.3544,2,     1.8,2,    7.37,2,    0.00,2,    0.59,2,   2.668,2,   1.527,2,   1.2480,2,  -999.0,9, -999.00,9,-999.0000,9, -999.00,9, -999.00,9, -999.00,  -999.0,9, -999.00,9,     -999.0,9,  -999.0,9, 20170730,     1913, -32.5000,-172.0867,        0.0,1,      0.061,1,      4.690,1,      0.136,1,     -999.0,     -999.0,9,     -999.0,9,     -999.0,9,     -999.0,9,    13.9032,2,     -999.0,9
320620170703,        P06,     105,          1,         30,         30,2,20170730,       1926,   -32.4999,  -172.0870,       5228,   199.8,  15.6004,  35.4085,2,  35.3399,2, 207.8392,2, 208.5055,2,     1.3,2,    5.36,2,    0.02,2,    0.46,2,-999.000,9,-999.000,9,-999.0000,9,  -999.0,9, -999.00,9,-999.0000,9, -999.00,9, -999.00,9, -999.00,  -999.0,9, -999.00,9,     -999.0,9,  -999.0,9, 20170730,     1915, -32.5001,-172.0865,        0.0,1,      0.062,1,      4.688,1,      0.139,1,     -999.0,     -999.0,9,     -999.0,9,     -999.0,9,     -999.0,9,    15.0559,2,     -999.0,9
320620170703,        P06,     105,          1,         31,         31,2,20170730,       1926,   -32.4999,  -172.0870,       5228,   148.0,  17.4987,  35.6851,2,  35.4821,2, 208.4007,2, 208.6765,2,     0.8,2,    3.69,2,    0.03,2,    0.36,2,-999.000,9,-999.000,9,-999.0000,9,  -999.0,9, -999.00,9,-999.0000,9, -999.00,9, -999.00,9, -999.00,  -999.0,9, -999.00,9,     -999.0,9,  -999.0,9, 20170730,     1917, -32.5002,-172.0865,        0.0,1,      0.159,1,      4.638,1,      0.201,1,     -999.0,     -999.0,9,     -999.0,9,     -999.0,9,     -999.0,9,    16.1924,2,     -999.0,9
320620170703,        P06,     105,          1,         32,         32,2,20170730,       1926,   -32.4999,  -172.0870,       5228,    99.7,  17.5936,  35.7003,2,  35.6946,2, 232.9995,2, 230.8403,2,     0.3,2,    0.26,2,    0.04,2,    0.10,2,   2.232,2,   1.316,2,   1.3970,2,  -999.0,9, -999.00,9,-999.0000,9, -999.00,9, -999.00,9, -999.00,  -999.0,9, -999.00,9,     -999.0,9,  -999.0,9, 20170730,     1919, -32.5001,-172.0867,        0.0,1,      0.171,1,      4.636,1,      0.202,1,     -999.0,     -999.0,9,     -999.0,9,     -999.0,9,     -999.0,9,    17.5752,2,     -999.0,9