BOTTLE,20230922CCHSIOCBG
EXPOCODE,SECT_ID,STNNBR,CASTNO,SAMPNO,BTLNBR,BTLNBR_FLAG_W,DATE,TIME,LATITUDE,LONGITUDE,DEPTH,CTDPRS,CTDTMP,CTDSAL,CTDSAL_FLAG_W,SALNTY,SALNTY_FLAG_W,CTDOXY,CTDOXY_FLAG_W,OXYGEN,OXYGEN_FLAG_W,SILCAT,SILCAT_FLAG_W,NITRAT,NITRAT_FLAG_W,NITRIT,NITRIT_FLAG_W,PHSPHT,PHSPHT_FLAG_W,CFC-11,CFC-11_FLAG_W,CFC-12,CFC-12_FLAG_W,SF6,SF6_FLAG_W,TCARBN,TCARBN_FLAG_W,ALKALI,ALKALI_FLAG_W,PH_TOT,PH_TOT_FLAG_W,DELC13,DELC13_FLAG_W,DELC14,DELC14_FLAG_W,C14ERR,DOC,DOC_FLAG_W,TDN,TDN_FLAG_W,TON,TON_FLAG_W,D15N_NO3,D15N_NO3_FLAG_W,BTL_DATE,BTL_TIME,BTL_LAT,BTL_LON,CTDRINKO,CTDRINKO_FLAG_W,CTDFLUOR,CTDFLUOR_FLAG_W,CTDXMISS,CTDXMISS_FLAG_W,CTDBACKSCATTER,CTDBACKSCATTER_FLAG_W,PH_TMP,D18O_NO3,D18O_NO3_FLAG_W,DOP,DOP_FLAG_W,HPLC,HPLC_FLAG_W,POC,POC_FLAG_W,REFTMP,REFTMP_FLAG_W,TDP,TDP_FLAG_W
,,,,,,,,,,,METERS,DBAR,ITS-90,PSS-78,,PSS-78,,UMOL/KG,,UMOL/KG,,UMOL/KG,,UMOL/KG,,UMOL/KG,,UMOL/KG,,PMOL/KG,,PMOL/KG,,FMOL/KG,,UMOL/KG,,UMOL/KG,,,,/MILLE,,/MILLE,,/MILLE,UMOL/KG,,UMOL/KG,,UMOL/KG,,/MILLE,,,,,,VOLTS,,VOLTS,,VOLTS,,VOLTS,,DEGC,/MILLE,,UMOL/KG,,,,UG/L,,ITS-90,,UMOL/KG,
320620170703,        P06,      74,          1,         33,         33,2,20170719,       1042,   -30.0800,   175.4998,       4236,    75.3,  18.1690,  35.7139,2,  35.7201,2, 232.1700,3, 228.4048,2,     0.6,2,    0.88,2,    0.18,2,    0.13,2,   1.971,2,   1.232,2,-999.0000,5,  2066.7,2, 2338.58,2,   7.9855,2, -999.00,9, -999.00,9, -999.00,  -999.0,5,    4.40,2,     -999.0,1,  -999.0,9, 20170719,     1036, -30.0798, 175.4994,        0.0,1,      0.211,1,      0.006,1,      0.202,1,      25.01,     -999.0,9,     -999.0,9,     -999.0,9,     -999.0,9,    18.1739,2,     -999.0,9
320620170703,        P06,      74,          1,         34,         34,2,20170719,       1042,   -30.0800,   175.4998,       4236,    50.6,  18.2411,  35.7232,2,  35.7227,2, 233.5659,3, 230.1270,2,     0.5,2,    0.71,2,    0.14,2,    0.12,2,-999.000,9,-999.000,9,-999.0000,9,  -999.0,9, -999.00,9,-999.0000,9, -999.00,9, -999.00,9, -999.00,    59.4,2,    4.50,2,     -999.0,1,  -999.0,9, 20170719,     1038, -30.0798, 175.4995,        0.0,1,      0.314,1,      2.200,1,      0.224,1,     -999.0,     -999.0,9,     -999.0,9,     -999.0,9,     -999.0,9,    18.2504,2,     -999.0,9
320620170703,        P06,      74,          1,         35,         35,2,20170719,       1042,   -30.0800,   175.4998,       4236,    25.7,  18.4520,  35.7496,2,  35.7377,2, 231.7714,3, 228.5321,2,     0.5,2,    0.65,2,    0.10,2,    0.11,2,   1.936,2,   1.234,2,-999.0000,5,  2063.4,2, -999.00,9,   7.9919,2, -999.00,9, -999.00,9, -999.00,    58.7,2,    5.00,2,     -999.0,1,  -999.0,9, 20170719,     1040, -30.0799, 175.4996,        0.0,1,      0.291,1,      0.515,1,      0.235,1,      25.00,     -999.0,9,     -999.0,9,     -999.0,9,     -999.0,9,    18.3953,2,     -999.0,9
320620170703,        P06,      74,          1,         36,         36,2,20170719,       1042,   -30.0800,   175.4998,       4236,     4.8,  18.5960,  35.7318,2,  35.6919,2, 233.8956,3, 230.6895,2,     0.5,2,    0.51,2,    0.08,2,    0.11,2,   1.903,2,   1.203,6,-999.0000,5,  2059.7,6, 2335.22,2,   7.9945,2, -999.00,9, -999.00,9, -999.00,    57.3,2,    5.20,2,     -999.0,1,  -999.0,9, 20170719,     1042, -30.0800, 175.4998,        0.0,1,      0.262,1,      2.294,1,      0.240,1,      25.01,     -999.0,9,     -999.0,9,     -999.0,9,     -999.0,9,    18.5051,2,     -999.0,9