BOTTLE,20230922CCHSIOCBG
EXPOCODE,SECT_ID,STNNBR,CASTNO,SAMPNO,BTLNBR,BTLNBR_FLAG_W,DATE,TIME,LATITUDE,LONGITUDE,DEPTH,CTDPRS,CTDTMP,CTDSAL,CTDSAL_FLAG_W,SALNTY,SALNTY_FLAG_W,CTDOXY,CTDOXY_FLAG_W,OXYGEN,OXYGEN_FLAG_W,SILCAT,SILCAT_FLAG_W,NITRAT,NITRAT_FLAG_W,NITRIT,NITRIT_FLAG_W,PHSPHT,PHSPHT_FLAG_W,CFC-11,CFC-11_FLAG_W,CFC-12,CFC-12_FLAG_W,SF6,SF6_FLAG_W,TCARBN,TCARBN_FLAG_W,ALKALI,ALKALI_FLAG_W,PH_TOT,PH_TOT_FLAG_W,DELC13,DELC13_FLAG_W,DELC14,DELC14_FLAG_W,C14ERR,DOC,DOC_FLAG_W,TDN,TDN_FLAG_W,TON,TON_FLAG_W,D15N_NO3,D15N_NO3_FLAG_W,BTL_DATE,BTL_TIME,BTL_LAT,BTL_LON,CTDRINKO,CTDRINKO_FLAG_W,CTDFLUOR,CTDFLUOR_FLAG_W,CTDXMISS,CTDXMISS_FLAG_W,CTDBACKSCATTER,CTDBACKSCATTER_FLAG_W,PH_TMP,D18O_NO3,D18O_NO3_FLAG_W,DOP,DOP_FLAG_W,HPLC,HPLC_FLAG_W,POC,POC_FLAG_W,REFTMP,REFTMP_FLAG_W,TDP,TDP_FLAG_W
,,,,,,,,,,,METERS,DBAR,ITS-90,PSS-78,,PSS-78,,UMOL/KG,,UMOL/KG,,UMOL/KG,,UMOL/KG,,UMOL/KG,,UMOL/KG,,PMOL/KG,,PMOL/KG,,FMOL/KG,,UMOL/KG,,UMOL/KG,,,,/MILLE,,/MILLE,,/MILLE,UMOL/KG,,UMOL/KG,,UMOL/KG,,/MILLE,,,,,,VOLTS,,VOLTS,,VOLTS,,VOLTS,,DEGC,/MILLE,,UMOL/KG,,,,UG/L,,ITS-90,,UMOL/KG,
320620170703,        P06,       9,          1,         33,         33,4,20170706,       0128,   -30.0795,   153.9994,       4438,    86.1,  19.9758,  35.6942,3,-999.0000,9, 225.0491,3,-999.0000,9,  -999.0,9, -999.00,9, -999.00,9, -999.00,9,-999.000,9,-999.000,9,-999.0000,9,  -999.0,9, -999.00,9,-999.0000,9, -999.00,9, -999.00,9, -999.00,  -999.0,9, -999.00,9,     -999.0,9,  -999.0,9, 20170706,      121, -30.0795, 153.9996,        0.0,1,      0.075,1,      4.679,1,      0.165,1,     -999.0,     -999.0,9,     -999.0,9,     -999.0,9,     -999.0,9,    20.6815,3,     -999.0,9
320620170703,        P06,       9,          1,         34,         34,2,20170706,       0128,   -30.0795,   153.9994,       4438,    61.1,  20.8322,  35.7520,2,  35.6907,2, 211.1501,3, 217.8466,2,     0.0,2,    0.27,2,    0.16,2,    0.11,2,   1.940,2,   1.184,2,   1.1820,2,  2042.8,2, 2338.00,3,   8.0327,2, -999.00,9, -999.00,9, -999.00,  -999.0,9, -999.00,9,     -999.0,9,  -999.0,1, 20170706,      124, -30.0795, 153.9995,        0.0,1,      0.119,1,      4.651,1,      0.198,1,      25.00,     -999.0,1,     -999.0,1,     -999.0,9,     -999.0,9,    20.8121,2,       0.27,2
320620170703,        P06,       9,          1,         35,         35,2,20170706,       0128,   -30.0795,   153.9994,       4438,    34.6,  21.3238,  35.7345,2,  35.7505,2, 229.6138,3, 217.8280,2,     0.0,2,    0.18,2,    0.07,2,    0.09,2,   1.845,2,   1.160,2,   1.1470,2,  2039.0,2, 2339.18,2,   8.0389,2, -999.00,9, -999.00,9, -999.00,  -999.0,9, -999.00,9,     -999.0,9,  -999.0,1, 20170706,      126, -30.0795, 153.9994,        0.0,1,      0.139,1,      4.617,1,      0.223,1,      25.00,     -999.0,1,     -999.0,1,     -999.0,9,     -999.0,9,    21.0825,2,       0.25,2
320620170703,        P06,       9,          1,         36,         36,2,20170706,       0128,   -30.0795,   153.9994,       4438,     5.4,  21.3231,  35.7333,2,  35.7562,2, 231.5067,3, 219.3160,2,     0.0,2,    0.12,2,    0.03,2,    0.09,2,   1.901,2,   1.168,2,   1.1650,2,  2037.1,6, 2339.48,2,   8.0417,2, -999.00,9, -999.00,9, -999.00,  -999.0,9, -999.00,9,     -999.0,9,  -999.0,1, 20170706,      128, -30.0795, 153.9994,        0.0,1,      0.132,1,      4.619,1,      0.221,1,      25.01,     -999.0,1,     -999.0,1,     -999.0,9,     -999.0,9,    21.1741,2,       0.24,2