BOTTLE,20230922CCHSIOCBG
EXPOCODE,SECT_ID,STNNBR,CASTNO,SAMPNO,BTLNBR,BTLNBR_FLAG_W,DATE,TIME,LATITUDE,LONGITUDE,DEPTH,CTDPRS,CTDTMP,CTDSAL,CTDSAL_FLAG_W,SALNTY,SALNTY_FLAG_W,CTDOXY,CTDOXY_FLAG_W,OXYGEN,OXYGEN_FLAG_W,SILCAT,SILCAT_FLAG_W,NITRAT,NITRAT_FLAG_W,NITRIT,NITRIT_FLAG_W,PHSPHT,PHSPHT_FLAG_W,CFC-11,CFC-11_FLAG_W,CFC-12,CFC-12_FLAG_W,SF6,SF6_FLAG_W,TCARBN,TCARBN_FLAG_W,ALKALI,ALKALI_FLAG_W,PH_TOT,PH_TOT_FLAG_W,DELC13,DELC13_FLAG_W,DELC14,DELC14_FLAG_W,C14ERR,DOC,DOC_FLAG_W,TDN,TDN_FLAG_W,TON,TON_FLAG_W,D15N_NO3,D15N_NO3_FLAG_W,BTL_DATE,BTL_TIME,BTL_LAT,BTL_LON,CTDRINKO,CTDRINKO_FLAG_W,CTDFLUOR,CTDFLUOR_FLAG_W,CTDXMISS,CTDXMISS_FLAG_W,CTDBACKSCATTER,CTDBACKSCATTER_FLAG_W,PH_TMP,D18O_NO3,D18O_NO3_FLAG_W,DOP,DOP_FLAG_W,HPLC,HPLC_FLAG_W,POC,POC_FLAG_W,REFTMP,REFTMP_FLAG_W,TDP,TDP_FLAG_W
,,,,,,,,,,,METERS,DBAR,ITS-90,PSS-78,,PSS-78,,UMOL/KG,,UMOL/KG,,UMOL/KG,,UMOL/KG,,UMOL/KG,,UMOL/KG,,PMOL/KG,,PMOL/KG,,FMOL/KG,,UMOL/KG,,UMOL/KG,,,,/MILLE,,/MILLE,,/MILLE,UMOL/KG,,UMOL/KG,,UMOL/KG,,/MILLE,,,,,,VOLTS,,VOLTS,,VOLTS,,VOLTS,,DEGC,/MILLE,,UMOL/KG,,,,UG/L,,ITS-90,,UMOL/KG,
320620170703,        P06,       5,          1,         33,         33,2,20170705,       0140,   -30.0800,   153.7500,       1863,    75.4,  20.9812,  35.7384,2,  35.7734,2, 214.6909,2, 215.4367,2,     0.0,2,    0.30,2,    0.12,2,    0.10,2,   1.924,2,   1.188,2,   1.1590,2,  -999.0,9, -999.00,9,-999.0000,9, -999.00,9, -999.00,9, -999.00,  -999.0,9, -999.00,9,     -999.0,9,  -999.0,9, 20170705,      134, -30.0800, 153.7500,        0.0,1,      0.140,1,      4.648,1,      0.194,1,     -999.0,     -999.0,9,     -999.0,9,     -999.0,9,     -999.0,9,    21.0226,2,     -999.0,9
320620170703,        P06,       5,          1,         34,         34,2,20170705,       0140,   -30.0800,   153.7500,       1863,    50.0,  21.4007,  35.7177,2,  35.7432,2, 212.5972,2, 213.0267,2,     0.0,2,    0.27,2,    0.03,2,    0.09,2,   1.820,2,   1.145,2,   1.1810,2,  2031.4,2, 2339.03,2,   8.0470,2, -999.00,9, -999.00,9, -999.00,  -999.0,9, -999.00,9,     -999.0,9,  -999.0,9, 20170705,      136, -30.0800, 153.7500,        0.0,1,      0.151,1,      4.638,1,      0.201,1,      25.04,     -999.0,9,     -999.0,9,     -999.0,9,     -999.0,9,    22.0125,2,     -999.0,9
320620170703,        P06,       5,          1,         35,         35,2,20170705,       0140,   -30.0800,   153.7500,       1863,    24.1,  22.0351,  35.7514,2,  35.7458,2, 212.8902,2, 213.4644,2,     0.0,2,    0.21,2,    0.02,2,    0.08,2,   1.784,2,   1.234,2,   1.0190,2,  -999.0,9, -999.00,9,-999.0000,9, -999.00,9, -999.00,9, -999.00,  -999.0,9, -999.00,9,     -999.0,9,  -999.0,9, 20170705,      138, -30.0800, 153.7500,        0.0,1,      0.168,1,      4.619,1,      0.217,1,     -999.0,     -999.0,9,     -999.0,9,     -999.0,9,     -999.0,9,    22.0299,2,     -999.0,9
320620170703,        P06,       5,          1,         36,         36,2,20170705,       0140,   -30.0800,   153.7500,       1863,     4.5,  22.0362,  35.7511,2,  35.7475,2, 210.9950,2, 214.8229,3,     0.0,2,    0.22,2,    0.02,2,    0.08,2,   1.800,2,   1.127,2,   1.0140,2,  2030.8,6, 2343.13,2,   8.0491,2, -999.00,9, -999.00,9, -999.00,  -999.0,9, -999.00,9,     -999.0,9,  -999.0,9, 20170705,      140, -30.0800, 153.7500,        0.0,1,      0.130,1,      4.614,1,      0.209,1,      25.03,     -999.0,9,     -999.0,9,     -999.0,9,     -999.0,9,    22.0456,2,     -999.0,9