BOTTLE,20230922CCHSIOCBG
EXPOCODE,SECT_ID,STNNBR,CASTNO,SAMPNO,BTLNBR,BTLNBR_FLAG_W,DATE,TIME,LATITUDE,LONGITUDE,DEPTH,CTDPRS,CTDTMP,CTDSAL,CTDSAL_FLAG_W,SALNTY,SALNTY_FLAG_W,CTDOXY,CTDOXY_FLAG_W,OXYGEN,OXYGEN_FLAG_W,SILCAT,SILCAT_FLAG_W,NITRAT,NITRAT_FLAG_W,NITRIT,NITRIT_FLAG_W,PHSPHT,PHSPHT_FLAG_W,CFC-11,CFC-11_FLAG_W,CFC-12,CFC-12_FLAG_W,SF6,SF6_FLAG_W,TCARBN,TCARBN_FLAG_W,ALKALI,ALKALI_FLAG_W,PH_TOT,PH_TOT_FLAG_W,DELC13,DELC13_FLAG_W,DELC14,DELC14_FLAG_W,C14ERR,DOC,DOC_FLAG_W,TDN,TDN_FLAG_W,TON,TON_FLAG_W,D15N_NO3,D15N_NO3_FLAG_W,BTL_DATE,BTL_TIME,BTL_LAT,BTL_LON,CTDRINKO,CTDRINKO_FLAG_W,CTDFLUOR,CTDFLUOR_FLAG_W,CTDXMISS,CTDXMISS_FLAG_W,CTDBACKSCATTER,CTDBACKSCATTER_FLAG_W,PH_TMP,D18O_NO3,D18O_NO3_FLAG_W,DOP,DOP_FLAG_W,HPLC,HPLC_FLAG_W,POC,POC_FLAG_W,REFTMP,REFTMP_FLAG_W,TDP,TDP_FLAG_W
,,,,,,,,,,,METERS,DBAR,ITS-90,PSS-78,,PSS-78,,UMOL/KG,,UMOL/KG,,UMOL/KG,,UMOL/KG,,UMOL/KG,,UMOL/KG,,PMOL/KG,,PMOL/KG,,FMOL/KG,,UMOL/KG,,UMOL/KG,,,,/MILLE,,/MILLE,,/MILLE,UMOL/KG,,UMOL/KG,,UMOL/KG,,/MILLE,,,,,,VOLTS,,VOLTS,,VOLTS,,VOLTS,,DEGC,/MILLE,,UMOL/KG,,,,UG/L,,ITS-90,,UMOL/KG,
320620170703,        P06,      69,          1,          1,         37,2,20170718,       0444,   -30.0799,   173.3001,       1662,  1666.8,   2.8699,  34.5835,2,  34.5822,3, 158.8434,2, 158.4484,2,    94.1,2,   34.19,2,    0.00,2,    2.40,2,-999.000,9,-999.000,9,-999.0000,9,  2275.6,6, -999.00,9,   7.5836,2, -999.00,9, -999.00,9, -999.00,  -999.0,9, -999.00,9,     -999.0,9,  -999.0,9, 20170718,      345, -30.0800, 173.2998,        0.0,1,      0.061,1,      3.142,1,      0.150,1,      25.01,     -999.0,9,     -999.0,9,     -999.0,9,     -999.0,9,     2.8694,2,     -999.0,9
320620170703,        P06,      69,          1,          2,          2,2,20170718,       0444,   -30.0799,   173.3001,       1662,  1637.3,   2.9668,  34.5759,2,  34.5753,2, 160.1421,2, 160.5498,2,    91.6,2,   34.11,2,    0.00,2,    2.39,2,-999.000,9,-999.000,9,-999.0000,9,  -999.0,9, -999.00,9,-999.0000,9, -999.00,9, -999.00,9, -999.00,  -999.0,9, -999.00,9,     -999.0,9,  -999.0,9, 20170718,      347, -30.0800, 173.2997,        0.0,1,      0.061,1,      3.035,1,      0.144,1,     -999.0,     -999.0,9,     -999.0,9,     -999.0,9,     -999.0,9,     2.9674,2,     -999.0,9
320620170703,        P06,      69,          1,          3,         38,2,20170718,       0444,   -30.0799,   173.3001,       1662,  1551.0,   3.0792,  34.5668,2,  34.5661,2, 162.2220,3, 165.0502,3,    88.2,2,   33.90,2,    0.00,2,    2.34,2,-999.000,9,-999.000,9,-999.0000,9,  2267.2,2, -999.00,9,   7.5864,2, -999.00,9, -999.00,9, -999.00,  -999.0,9, -999.00,9,     -999.0,9,  -999.0,9, 20170718,      349, -30.0800, 173.2998,        0.0,1,      0.061,1,      3.222,1,      0.144,1,      25.02,     -999.0,9,     -999.0,9,     -999.0,9,     -999.0,9,     3.0736,2,     -999.0,9
320620170703,        P06,      69,          1,          4,          4,2,20170718,       0444,   -30.0799,   173.3001,       1662,  1450.7,   3.4508,  34.5350,2,  34.5372,2, 166.2607,2, 166.2243,2,    78.0,2,   33.32,2,    0.00,2,    2.32,2,-999.000,9,-999.000,9,-999.0000,9,  -999.0,9, -999.00,9,-999.0000,9, -999.00,9, -999.00,9, -999.00,  -999.0,9, -999.00,9,     -999.0,9,  -999.0,9, 20170718,      352, -30.0799, 173.2999,        0.0,1,      0.061,1,      2.272,1,      0.141,1,     -999.0,     -999.0,9,     -999.0,9,     -999.0,9,     -999.0,9,     3.4430,2,     -999.0,9
320620170703,        P06,      69,          1,          5,         39,2,20170718,       0444,   -30.0799,   173.3001,       1662,  1347.5,   3.7991,  34.5032,2,  34.5030,2, 171.1764,2, 171.0977,2,    67.1,2,   32.65,2,    0.00,2,    2.26,2,-999.000,9,-999.000,9,-999.0000,9,  2241.6,2, -999.00,9,   7.5990,2, -999.00,9, -999.00,9, -999.00,  -999.0,9, -999.00,9,     -999.0,9,  -999.0,9, 20170718,      355, -30.0799, 173.2999,        0.0,1,      0.061,1,      0.034,1,      0.148,1,      25.02,     -999.0,9,     -999.0,9,     -999.0,9,     -999.0,9,     3.7960,2,     -999.0,9
320620170703,        P06,      69,          1,          6,          6,2,20170718,       0444,   -30.0799,   173.3001,       1662,  1245.5,   4.4383,  34.4786,2,  34.4762,2, 179.0200,2, 178.9376,2,    53.7,2,   31.25,2,    0.00,2,    2.16,2,-999.000,9,-999.000,9,-999.0000,9,  -999.0,9, -999.00,9,-999.0000,9, -999.00,9, -999.00,9, -999.00,  -999.0,9, -999.00,9,     -999.0,9,  -999.0,9, 20170718,      358, -30.0799, 173.3001,        0.0,1,      0.060,1,      0.805,1,      0.142,1,     -999.0,     -999.0,9,     -999.0,9,     -999.0,9,     -999.0,9,     4.4493,2,     -999.0,9
320620170703,        P06,      69,          1,          7,         40,2,20170718,       0444,   -30.0799,   173.3001,       1662,  1145.9,   4.9704,  34.4747,2,  34.4707,2, 183.2990,2, 183.5259,2,    46.4,2,   30.13,2,    0.00,2,    2.07,2,-999.000,9,-999.000,9,-999.0000,9,  2212.0,2, -999.00,9,   7.6258,2, -999.00,9, -999.00,9, -999.00,  -999.0,9, -999.00,9,     -999.0,9,  -999.0,9, 20170718,      400, -30.0799, 173.3000,        0.0,1,      0.059,1,      1.544,1,      0.142,1,      25.01,     -999.0,9,     -999.0,9,     -999.0,9,     -999.0,9,     4.8973,2,     -999.0,9
320620170703,        P06,      69,          1,          8,          8,2,20170718,       0444,   -30.0799,   173.3001,       1662,  1043.4,   5.5627,  34.4635,2,  34.4628,2, 189.6497,2, 190.2161,2,    36.3,2,   28.61,2,    0.00,2,    1.96,2,-999.000,9,-999.000,9,-999.0000,9,  -999.0,9, -999.00,9,-999.0000,9, -999.00,9, -999.00,9, -999.00,  -999.0,9, -999.00,9,     -999.0,9,  -999.0,9, 20170718,      403, -30.0799, 173.2999,        0.0,1,      0.060,1,      1.117,1,      0.140,1,     -999.0,     -999.0,9,     -999.0,9,     -999.0,9,     -999.0,9,     5.5133,2,     -999.0,9
320620170703,        P06,      69,          1,          9,         41,2,20170718,       0444,   -30.0799,   173.3001,       1662,   943.5,   6.3523,  34.4754,2,  34.4738,2, 198.1508,2, 197.3823,2,    26.8,2,   26.68,2,    0.00,2,    1.81,2,-999.000,9,-999.000,9,-999.0000,9,  2181.4,2, -999.00,9,   7.6631,2, -999.00,9, -999.00,9, -999.00,  -999.0,9, -999.00,9,     -999.0,9,  -999.0,9, 20170718,      406, -30.0800, 173.2998,        0.0,1,      0.059,1,      1.557,1,      0.143,1,      25.00,     -999.0,9,     -999.0,9,     -999.0,9,     -999.0,9,     6.2475,2,     -999.0,9
320620170703,        P06,      69,          1,         10,         10,2,20170718,       0444,   -30.0799,   173.3001,       1662,   842.4,   7.0269,  34.5003,2,  34.5001,2, 203.1168,2, 203.5163,2,    19.0,2,   24.63,2,    0.00,2,    1.68,2,-999.000,9,-999.000,9,-999.0000,9,  -999.0,9, -999.00,9,-999.0000,9, -999.00,9, -999.00,9, -999.00,  -999.0,9, -999.00,9,     -999.0,9,  -999.0,9, 20170718,      408, -30.0800, 173.2999,        0.0,1,      0.060,1,      3.072,1,      0.141,1,     -999.0,     -999.0,9,     -999.0,9,     -999.0,9,     -999.0,9,     7.0487,2,     -999.0,9
320620170703,        P06,      69,          1,         11,         42,2,20170718,       0444,   -30.0799,   173.3001,       1662,   739.7,   8.0120,  34.5694,2,  34.5651,2, 204.6069,2, 204.2277,2,    13.5,2,   22.54,2,    0.00,2,    1.53,2,-999.000,9,-999.000,9,-999.0000,9,  2159.1,2, -999.00,9,   7.7022,2, -999.00,9, -999.00,9, -999.00,  -999.0,9, -999.00,9,     -999.0,9,  -999.0,9, 20170718,      411, -30.0800, 173.2998,        0.0,1,      0.060,1,      3.198,1,      0.139,1,      25.01,     -999.0,9,     -999.0,9,     -999.0,9,     -999.0,9,     7.9632,2,     -999.0,9
320620170703,        P06,      69,          1,         12,         12,2,20170718,       0444,   -30.0799,   173.3001,       1662,   639.8,   9.0317,  34.6736,2,  34.6643,2, 202.2673,2, 201.7966,2,    10.3,2,   20.37,2,    0.00,2,    1.38,2,-999.000,9,-999.000,9,-999.0000,9,  -999.0,9, -999.00,9,-999.0000,9, -999.00,9, -999.00,9, -999.00,  -999.0,9, -999.00,9,     -999.0,9,  -999.0,9, 20170718,      414, -30.0800, 173.2998,        0.0,1,      0.059,1,      0.472,1,      0.147,1,     -999.0,     -999.0,9,     -999.0,9,     -999.0,9,     -999.0,9,     8.9820,2,     -999.0,9
320620170703,        P06,      69,          1,         13,         43,2,20170718,       0444,   -30.0799,   173.3001,       1662,   538.7,  10.5681,  34.8521,2,  34.8251,2, 198.3181,2, 198.8436,2,     8.0,2,   17.71,2,    0.00,2,    1.18,2,-999.000,9,-999.000,9,-999.0000,9,  2144.9,2, -999.00,9,   7.7492,2, -999.00,9, -999.00,9, -999.00,  -999.0,9, -999.00,9,     -999.0,9,  -999.0,9, 20170718,      417, -30.0800, 173.2997,        0.0,1,      0.060,1,      0.025,1,      0.147,1,      25.01,     -999.0,9,     -999.0,9,     -999.0,9,     -999.0,9,    10.3438,2,     -999.0,9
320620170703,        P06,      69,          1,         14,         14,2,20170718,       0444,   -30.0799,   173.3001,       1662,   468.5,  11.1532,  34.9090,2,  34.8930,2, 201.2826,2, 201.4300,2,     5.8,2,   15.51,2,    0.00,2,    1.06,2,-999.000,9,-999.000,9,-999.0000,9,  -999.0,9, -999.00,9,-999.0000,9, -999.00,9, -999.00,9, -999.00,  -999.0,9, -999.00,9,     -999.0,9,  -999.0,9, 20170718,      419, -30.0800, 173.2997,        0.0,1,      0.060,1,      3.446,1,      0.147,1,     -999.0,     -999.0,9,     -999.0,9,     -999.0,9,     -999.0,9,    11.0712,2,     -999.0,9
320620170703,        P06,      69,          1,         15,         15,2,20170718,       0444,   -30.0799,   173.3001,       1662,   418.9,  12.0691,  35.0380,2,  35.0268,2, 199.6826,2, 200.1145,2,     5.3,2,   13.84,2,    0.00,2,    0.94,2,-999.000,9,-999.000,9,-999.0000,9,  2132.0,2, -999.00,9,   7.7930,2, -999.00,9, -999.00,9, -999.00,  -999.0,9, -999.00,9,     -999.0,9,  -999.0,9, 20170718,      421, -30.0800, 173.2997,        0.0,1,      0.060,1,      3.715,1,      0.146,1,      25.02,     -999.0,9,     -999.0,9,     -999.0,9,     -999.0,9,    12.0401,2,     -999.0,9
320620170703,        P06,      69,          1,         16,         16,2,20170718,       0444,   -30.0799,   173.3001,       1662,   366.6,  13.3949,  35.1791,2,  35.1945,2, 199.0796,2, 198.4963,2,     3.7,2,   11.07,2,    0.00,2,    0.76,2,-999.000,9,-999.000,9,-999.0000,9,  -999.0,9, -999.00,9,-999.0000,9, -999.00,9, -999.00,9, -999.00,  -999.0,9, -999.00,9,     -999.0,9,  -999.0,9, 20170718,      423, -30.0800, 173.2998,        0.0,1,      0.060,1,      4.274,1,      0.146,1,     -999.0,     -999.0,9,     -999.0,9,     -999.0,9,     -999.0,9,    13.5684,2,     -999.0,9
320620170703,        P06,      69,          1,         17,         17,2,20170718,       0444,   -30.0799,   173.3001,       1662,   315.5,  14.7862,  35.3256,2,  35.3382,2, 196.7931,2, 197.0087,2,     2.7,2,    8.95,2,    0.00,2,    0.63,2,-999.000,9,-999.000,9,-999.0000,9,  2111.0,2, -999.00,9,   7.8645,2, -999.00,9, -999.00,9, -999.00,  -999.0,9, -999.00,9,     -999.0,9,  -999.0,9, 20170718,      425, -30.0800, 173.2998,        0.0,1,      0.060,1,      4.320,1,      0.143,1,      25.01,     -999.0,9,     -999.0,9,     -999.0,9,     -999.0,9,    14.8941,2,     -999.0,9
320620170703,        P06,      69,          1,         18,         18,2,20170718,       0444,   -30.0799,   173.3001,       1662,   266.8,  16.0552,  35.4529,2,  35.4649,2, 196.1197,2, 196.3622,2,     1.9,2,    7.08,2,    0.00,2,    0.50,2,-999.000,9,-999.000,9,-999.0000,9,  -999.0,9, -999.00,9,-999.0000,9, -999.00,9, -999.00,9, -999.00,  -999.0,9, -999.00,9,     -999.0,9,  -999.0,9, 20170718,      427, -30.0799, 173.2999,        0.0,1,      0.061,1,      4.492,1,      0.147,1,     -999.0,     -999.0,9,     -999.0,9,     -999.0,9,     -999.0,9,    16.2200,2,     -999.0,9
320620170703,        P06,      69,          1,         19,         19,2,20170718,       0444,   -30.0799,   173.3001,       1662,   238.0,  16.7165,  35.5090,2,  35.5150,2, 196.9751,2, 196.4738,2,     1.6,2,    6.24,2,    0.02,2,    0.45,2,-999.000,9,-999.000,9,-999.0000,9,  2093.6,2, -999.00,9,   7.9120,2, -999.00,9, -999.00,9, -999.00,  -999.0,9, -999.00,9,     -999.0,9,  -999.0,9, 20170718,      429, -30.0799, 173.3000,        0.0,1,      0.060,1,      4.576,1,      0.148,1,      25.00,     -999.0,9,     -999.0,9,     -999.0,9,     -999.0,9,    16.8028,2,     -999.0,9
320620170703,        P06,      69,          1,         20,         20,2,20170718,       0444,   -30.0799,   173.3001,       1662,   211.7,  17.1423,  35.5490,2,  35.5768,2, 197.8746,2, 198.8056,2,     1.3,2,    5.17,2,    0.03,2,    0.37,2,-999.000,9,-999.000,9,-999.0000,9,  -999.0,9, -999.00,9,-999.0000,9, -999.00,9, -999.00,9, -999.00,  -999.0,9, -999.00,9,     -999.0,9,  -999.0,9, 20170718,      431, -30.0799, 173.3000,        0.0,1,      0.061,1,      4.611,1,      0.149,1,     -999.0,     -999.0,9,     -999.0,9,     -999.0,9,     -999.0,9,    17.4281,2,     -999.0,9
320620170703,        P06,      69,          1,         21,         21,2,20170718,       0444,   -30.0799,   173.3001,       1662,   186.2,  17.8641,  35.6210,2,  35.6469,2, 207.9466,2, 207.3484,2,     0.8,2,    3.45,2,    0.11,2,    0.28,2,-999.000,9,-999.000,9,-999.0000,9,  2078.4,2, -999.00,9,   7.9568,2, -999.00,9, -999.00,9, -999.00,  -999.0,9, -999.00,9,     -999.0,9,  -999.0,9, 20170718,      432, -30.0799, 173.3000,        0.0,1,      0.062,1,      4.677,1,      0.152,1,      25.02,     -999.0,9,     -999.0,9,     -999.0,9,     -999.0,9,    18.0224,2,     -999.0,9
320620170703,        P06,      69,          1,         22,         22,2,20170718,       0444,   -30.0799,   173.3001,       1662,   160.8,  18.7993,  35.7643,2,  35.7835,2, 227.0943,3, 223.3946,2,     0.3,2,    0.84,2,    0.23,2,    0.11,2,-999.000,9,-999.000,9,-999.0000,9,  -999.0,9, -999.00,9,-999.0000,9, -999.00,9, -999.00,9, -999.00,  -999.0,9, -999.00,9,     -999.0,9,  -999.0,9, 20170718,      434, -30.0799, 173.3000,        0.0,1,      0.115,1,      4.441,1,      0.176,1,     -999.0,     -999.0,9,     -999.0,9,     -999.0,9,     -999.0,9,    18.8943,2,     -999.0,9
320620170703,        P06,      69,          1,         23,         23,2,20170718,       0444,   -30.0799,   173.3001,       1662,   136.3,  18.9057,  35.7873,2,  35.7892,2, 224.3317,2, 224.1274,2,     0.3,2,    0.74,2,    0.24,2,    0.12,2,-999.000,9,-999.000,9,-999.0000,9,  2061.1,2, -999.00,9,   8.0005,2, -999.00,9, -999.00,9, -999.00,  -999.0,9, -999.00,9,     -999.0,9,  -999.0,9, 20170718,      435, -30.0799, 173.3000,        0.0,1,      0.138,1,      4.441,1,      0.182,1,      25.02,     -999.0,9,     -999.0,9,     -999.0,9,     -999.0,9,    18.9103,2,     -999.0,9
320620170703,        P06,      69,          1,         24,         24,2,20170718,       0444,   -30.0799,   173.3001,       1662,   110.2,  18.9101,  35.7887,2,  35.7904,2, 224.0594,2, 224.4871,2,     0.3,2,    0.73,2,    0.24,2,    0.12,2,-999.000,9,-999.000,9,-999.0000,9,  -999.0,9, -999.00,9,-999.0000,9, -999.00,9, -999.00,9, -999.00,  -999.0,9, -999.00,9,     -999.0,9,  -999.0,9, 20170718,      437, -30.0799, 173.3001,        0.0,1,      0.148,1,      4.472,1,      0.185,1,     -999.0,     -999.0,9,     -999.0,9,     -999.0,9,     -999.0,9,    18.9095,2,     -999.0,9
320620170703,        P06,      69,          1,         25,         25,2,20170718,       0444,   -30.0799,   173.3001,       1662,    85.3,  18.9052,  35.7884,2,  35.7904,2, 224.8917,2, 224.5827,2,     0.3,2,    0.73,2,    0.23,2,    0.11,2,-999.000,9,-999.000,9,-999.0000,9,  2060.2,2, -999.00,9,   8.0015,2, -999.00,9, -999.00,9, -999.00,  -999.0,9, -999.00,9,     -999.0,9,  -999.0,9, 20170718,      439, -30.0799, 173.3001,        0.0,1,      0.148,1,      4.227,1,      0.185,1,      25.02,     -999.0,9,     -999.0,9,     -999.0,9,     -999.0,9,    18.9087,2,     -999.0,9
320620170703,        P06,      69,          1,         26,         26,2,20170718,       0444,   -30.0799,   173.3001,       1662,    60.1,  18.9041,  35.7882,2,  35.7876,2, 225.5441,2, 225.1605,2,     0.3,2,    0.74,2,    0.22,2,    0.13,2,-999.000,9,-999.000,9,-999.0000,9,  -999.0,9, -999.00,9,-999.0000,9, -999.00,9, -999.00,9, -999.00,  -999.0,9, -999.00,9,     -999.0,9,  -999.0,9, 20170718,      440, -30.0799, 173.3001,        0.0,1,      0.172,1,      4.572,1,      0.188,1,     -999.0,     -999.0,9,     -999.0,9,     -999.0,9,     -999.0,9,    18.9035,2,     -999.0,9
320620170703,        P06,      69,          1,         27,         27,2,20170718,       0444,   -30.0799,   173.3001,       1662,    31.0,  18.9117,  35.7831,2,  35.7855,2, 227.6528,2, 225.6931,2,     0.3,2,    0.75,2,    0.22,2,    0.13,2,-999.000,9,-999.000,9,-999.0000,9,  2060.2,2, -999.00,9,   8.0016,2, -999.00,9, -999.00,9, -999.00,  -999.0,9, -999.00,9,     -999.0,9,  -999.0,9, 20170718,      442, -30.0799, 173.3001,        0.0,1,      0.177,1,      4.612,1,      0.192,1,      25.02,     -999.0,9,     -999.0,9,     -999.0,9,     -999.0,9,    18.9149,2,     -999.0,9
320620170703,        P06,      69,          1,         28,         28,2,20170718,       0444,   -30.0799,   173.3001,       1662,     5.8,  18.9308,  35.7806,2,  35.7851,2, 227.3402,2, 225.9711,2,     0.3,2,    0.76,2,    0.22,2,    0.13,2,-999.000,9,-999.000,9,-999.0000,9,  2059.2,2, -999.00,9,   8.0020,2, -999.00,9, -999.00,9, -999.00,  -999.0,9, -999.00,9,     -999.0,9,  -999.0,9, 20170718,      444, -30.0799, 173.3001,        0.0,1,      0.144,1,      2.164,1,      0.184,1,      25.02,     -999.0,9,     -999.0,9,     -999.0,9,     -999.0,9,    18.9315,2,     -999.0,9