BOTTLE,20230922CCHSIOCBG
EXPOCODE,SECT_ID,STNNBR,CASTNO,SAMPNO,BTLNBR,BTLNBR_FLAG_W,DATE,TIME,LATITUDE,LONGITUDE,DEPTH,CTDPRS,CTDTMP,CTDSAL,CTDSAL_FLAG_W,SALNTY,SALNTY_FLAG_W,CTDOXY,CTDOXY_FLAG_W,OXYGEN,OXYGEN_FLAG_W,SILCAT,SILCAT_FLAG_W,NITRAT,NITRAT_FLAG_W,NITRIT,NITRIT_FLAG_W,PHSPHT,PHSPHT_FLAG_W,CFC-11,CFC-11_FLAG_W,CFC-12,CFC-12_FLAG_W,SF6,SF6_FLAG_W,TCARBN,TCARBN_FLAG_W,ALKALI,ALKALI_FLAG_W,PH_TOT,PH_TOT_FLAG_W,DELC13,DELC13_FLAG_W,DELC14,DELC14_FLAG_W,C14ERR,DOC,DOC_FLAG_W,TDN,TDN_FLAG_W,TON,TON_FLAG_W,D15N_NO3,D15N_NO3_FLAG_W,BTL_DATE,BTL_TIME,BTL_LAT,BTL_LON,CTDRINKO,CTDRINKO_FLAG_W,CTDFLUOR,CTDFLUOR_FLAG_W,CTDXMISS,CTDXMISS_FLAG_W,CTDBACKSCATTER,CTDBACKSCATTER_FLAG_W,PH_TMP,D18O_NO3,D18O_NO3_FLAG_W,DOP,DOP_FLAG_W,HPLC,HPLC_FLAG_W,POC,POC_FLAG_W,REFTMP,REFTMP_FLAG_W,TDP,TDP_FLAG_W
,,,,,,,,,,,METERS,DBAR,ITS-90,PSS-78,,PSS-78,,UMOL/KG,,UMOL/KG,,UMOL/KG,,UMOL/KG,,UMOL/KG,,UMOL/KG,,PMOL/KG,,PMOL/KG,,FMOL/KG,,UMOL/KG,,UMOL/KG,,,,/MILLE,,/MILLE,,/MILLE,UMOL/KG,,UMOL/KG,,UMOL/KG,,/MILLE,,,,,,VOLTS,,VOLTS,,VOLTS,,VOLTS,,DEGC,/MILLE,,UMOL/KG,,,,UG/L,,ITS-90,,UMOL/KG,
320620170703,        P06,      46,          1,         33,         33,2,20170713,       2326,   -30.0799,   167.0001,       2852,    65.6,  19.3619,  35.8110,2,  35.8096,2, 221.2175,2, 221.9882,2,     0.2,2,    0.72,2,    0.18,2,    0.14,2,   1.792,2,   1.154,2,   1.1630,2,  2056.9,2, 2341.60,2,   8.0092,2, -999.00,9, -999.00,9, -999.00,    55.0,2,    4.80,2,     -999.0,1,  -999.0,9, 20170713,     2321, -30.0799, 167.0000,        0.0,1,      0.168,1,      4.628,1,      0.197,1,      25.00,     -999.0,9,     -999.0,9,     -999.0,9,     -999.0,9,    19.3657,2,     -999.0,9
320620170703,        P06,      46,          1,         34,         34,2,20170713,       2326,   -30.0799,   167.0001,       2852,    40.6,  19.4456,  35.8178,2,  35.8129,2, 221.3062,2, 222.9238,2,     0.4,2,    0.69,2,    0.17,2,    0.14,2,-999.000,9,-999.000,9,-999.0000,9,  2058.6,2, 2342.30,2,   8.0101,2, -999.00,9, -999.00,9, -999.00,    57.7,2,    5.10,2,     -999.0,1,  -999.0,9, 20170713,     2323, -30.0799, 167.0000,        0.0,1,      0.169,1,      4.629,1,      0.201,1,      25.02,     -999.0,9,     -999.0,9,     -999.0,9,     -999.0,9,    19.3905,2,     -999.0,9
320620170703,        P06,      46,          1,         35,         35,2,20170713,       2326,   -30.0799,   167.0001,       2852,    19.7,  19.4487,  35.8185,2,  35.8141,2, 221.1748,2, 222.5836,2,     0.1,2,    0.68,2,    0.17,2,    0.13,2,   1.823,2,   1.159,2,   1.1490,2,  2057.9,2, 2343.51,2,   8.0102,2, -999.00,9, -999.00,9, -999.00,    58.6,2,    6.70,2,     -999.0,1,  -999.0,9, 20170713,     2324, -30.0799, 167.0000,        0.0,1,      0.170,1,      4.629,1,      0.197,1,      25.00,     -999.0,9,     -999.0,9,     -999.0,9,     -999.0,9,    19.4005,2,     -999.0,9
320620170703,        P06,      46,          1,         36,         36,2,20170713,       2326,   -30.0799,   167.0001,       2852,     5.3,  19.4361,  35.8183,2,  35.8141,2, 221.1726,2, 222.6779,2,     0.1,2,    0.68,2,    0.17,2,    0.14,2,   1.812,2,   1.158,2,   1.0890,2,  2057.4,6, 2341.28,2,   8.0099,2, -999.00,9, -999.00,9, -999.00,    57.6,2,    5.50,2,     -999.0,1,  -999.0,9, 20170713,     2326, -30.0799, 167.0001,        0.0,1,      0.173,1,      4.626,1,      0.194,1,      24.99,     -999.0,9,     -999.0,9,     -999.0,9,     -999.0,9,    19.3996,2,     -999.0,9