BOTTLE,20230922CCHSIOCBG
EXPOCODE,SECT_ID,STNNBR,CASTNO,SAMPNO,BTLNBR,BTLNBR_FLAG_W,DATE,TIME,LATITUDE,LONGITUDE,DEPTH,CTDPRS,CTDTMP,CTDSAL,CTDSAL_FLAG_W,SALNTY,SALNTY_FLAG_W,CTDOXY,CTDOXY_FLAG_W,OXYGEN,OXYGEN_FLAG_W,SILCAT,SILCAT_FLAG_W,NITRAT,NITRAT_FLAG_W,NITRIT,NITRIT_FLAG_W,PHSPHT,PHSPHT_FLAG_W,CFC-11,CFC-11_FLAG_W,CFC-12,CFC-12_FLAG_W,SF6,SF6_FLAG_W,TCARBN,TCARBN_FLAG_W,ALKALI,ALKALI_FLAG_W,PH_TOT,PH_TOT_FLAG_W,DELC13,DELC13_FLAG_W,DELC14,DELC14_FLAG_W,C14ERR,DOC,DOC_FLAG_W,TDN,TDN_FLAG_W,TON,TON_FLAG_W,D15N_NO3,D15N_NO3_FLAG_W,BTL_DATE,BTL_TIME,BTL_LAT,BTL_LON,CTDRINKO,CTDRINKO_FLAG_W,CTDFLUOR,CTDFLUOR_FLAG_W,CTDXMISS,CTDXMISS_FLAG_W,CTDBACKSCATTER,CTDBACKSCATTER_FLAG_W,PH_TMP,D18O_NO3,D18O_NO3_FLAG_W,DOP,DOP_FLAG_W,HPLC,HPLC_FLAG_W,POC,POC_FLAG_W,REFTMP,REFTMP_FLAG_W,TDP,TDP_FLAG_W
,,,,,,,,,,,METERS,DBAR,ITS-90,PSS-78,,PSS-78,,UMOL/KG,,UMOL/KG,,UMOL/KG,,UMOL/KG,,UMOL/KG,,UMOL/KG,,PMOL/KG,,PMOL/KG,,FMOL/KG,,UMOL/KG,,UMOL/KG,,,,/MILLE,,/MILLE,,/MILLE,UMOL/KG,,UMOL/KG,,UMOL/KG,,/MILLE,,,,,,VOLTS,,VOLTS,,VOLTS,,VOLTS,,DEGC,/MILLE,,UMOL/KG,,,,UG/L,,ITS-90,,UMOL/KG,
320620170703,        P06,       4,          1,          1,         37,2,20170704,       2102,   -30.0798,   153.6799,       2554,  2577.2,   1.8703,  34.7149,2,  34.7164,2, 181.7935,2, 182.2420,2,    98.9,2,   32.33,2,    0.00,2,    2.22,2,   0.032,2,   0.034,2,   0.0000,4,  2267.5,6, 2364.76,2,   7.6019,2, -999.00,9, -999.00,9, -999.00,    39.4,2, -999.00,9,     -999.0,1,  -999.0,9, 20170704,     1908, -30.0799, 153.6799,        0.0,1,      0.061,1,      4.707,1,      0.167,1,      25.00,     -999.0,9,     -999.0,9,     -999.0,9,     -999.0,9,     1.8713,2,     -999.0,9
320620170703,        P06,       4,          1,          2,          2,2,20170704,       2102,   -30.0798,   153.6799,       2554,  2491.0,   1.9167,  34.7127,2,  34.7131,2, 181.6525,2, 181.3856,2,    97.7,2,   32.38,2,    0.00,2,    2.23,2,   0.060,2,   0.062,2,   0.0000,4,  2267.1,2, 2364.61,2,   7.5968,2, -999.00,9, -999.00,9, -999.00,  -999.0,9, -999.00,9,     -999.0,9,  -999.0,9, 20170704,     1912, -30.0800, 153.6798,        0.0,1,      0.061,1,      4.709,1,      0.146,1,      25.02,     -999.0,9,     -999.0,9,     -999.0,9,     -999.0,9,     1.9215,2,     -999.0,9
320620170703,        P06,       4,          1,          3,         38,2,20170704,       2102,   -30.0798,   153.6799,       2554,  2490.3,   1.9167,  34.7127,2,  34.7123,2, 181.6843,2, 181.5199,2,    97.9,2,   32.40,2,    0.00,2,    2.22,2,   0.032,2,   0.035,2,   0.0000,4,  -999.0,9, -999.00,9,-999.0000,9, -999.00,9, -999.00,9, -999.00,  -999.0,9, -999.00,9,     -999.0,9,  -999.0,9, 20170704,     1913, -30.0800, 153.6798,        0.0,1,      0.061,1,      4.709,1,      0.146,1,     -999.0,     -999.0,9,     -999.0,9,     -999.0,9,     -999.0,9,     1.9219,2,     -999.0,9
320620170703,        P06,       4,          1,          4,          4,2,20170704,       2102,   -30.0798,   153.6799,       2554,  2364.0,   2.0150,  34.7042,2,  34.7046,2, 178.3482,2, 178.2954,2,    96.4,2,   32.61,2,    0.00,2,    2.24,2,   0.051,2,   0.058,2,   0.0000,4,  2267.0,2, 2362.59,2,   7.5937,2, -999.00,9, -999.00,9, -999.00,    38.6,2, -999.00,9,     -999.0,1,  -999.0,9, 20170704,     1920, -30.0801, 153.6798,        0.0,1,      0.061,1,      4.709,1,      0.162,1,      25.03,     -999.0,9,     -999.0,9,     -999.0,9,     -999.0,9,     2.0190,2,     -999.0,9
320620170703,        P06,       4,          1,          5,         39,2,20170704,       2102,   -30.0798,   153.6799,       2554,  2157.0,   2.1741,  34.6861,2,  34.6881,2, 172.7362,2, 172.6716,2,    95.1,2,   33.05,2,    0.00,2,    2.28,2,   0.068,2,   0.081,2,   0.0000,4,  2269.6,2, 2362.98,2,   7.5870,2, -999.00,9, -999.00,9, -999.00,    38.2,2, -999.00,9,     -999.0,1,  -999.0,9, 20170704,     1926, -30.0801, 153.6797,        0.0,1,      0.061,1,      4.710,1,      0.142,1,      25.03,     -999.0,9,     -999.0,9,     -999.0,9,     -999.0,9,     2.1666,2,     -999.0,9
320620170703,        P06,       4,          1,          6,          6,2,20170704,       2102,   -30.0798,   153.6799,       2554,  1985.7,   2.3306,  34.6636,2,  34.6651,2, 165.6349,2, 165.7254,2,    95.5,2,   33.71,2,    0.00,2,    2.32,2,   0.069,2,   0.077,2,   0.0000,4,  2273.6,2, 2365.65,2,   7.5804,2, -999.00,9, -999.00,9, -999.00,    39.8,2, -999.00,9,     -999.0,1,  -999.0,9, 20170704,     1931, -30.0800, 153.6798,        0.0,1,      0.061,1,      4.711,1,      0.150,1,      25.02,     -999.0,9,     -999.0,9,     -999.0,9,     -999.0,9,     2.3241,2,     -999.0,9
320620170703,        P06,       4,          1,          7,         40,2,20170704,       2102,   -30.0798,   153.6799,       2554,  1884.7,   2.4033,  34.6528,2,  34.6535,2, 162.3703,2, 162.3547,2,    96.2,2,   33.95,2,    0.00,2,    2.36,2,   0.066,2,   0.071,2,   0.0000,4,  2276.3,2, 2301.10,6,   7.5774,2, -999.00,9, -999.00,9, -999.00,  -999.0,9, -999.00,9,     -999.0,9,  -999.0,9, 20170704,     1935, -30.0801, 153.6797,        0.0,1,      0.062,1,      4.710,1,      0.149,1,      25.04,     -999.0,9,     -999.0,9,     -999.0,9,     -999.0,9,     2.3991,2,     -999.0,9
320620170703,        P06,       4,          1,          8,          8,2,20170704,       2102,   -30.0798,   153.6799,       2554,  1783.9,   2.5141,  34.6371,2,  34.6382,2, 157.7330,2, 157.9761,2,    97.1,2,   34.41,2,    0.00,2,    2.39,2,   0.075,2,   0.085,2,   0.0000,4,  2278.8,2, 2369.06,2,   7.5732,2, -999.00,9, -999.00,9, -999.00,    41.0,2, -999.00,9,     -999.0,1,  -999.0,9, 20170704,     1939, -30.0801, 153.6797,        0.0,1,      0.061,1,      4.711,1,      0.144,1,      25.02,     -999.0,9,     -999.0,9,     -999.0,9,     -999.0,9,     2.5052,2,     -999.0,9
320620170703,        P06,       4,          1,          9,         41,2,20170704,       2102,   -30.0798,   153.6799,       2554,  1682.1,   2.6893,  34.6166,2,  34.6148,2, 153.3512,2, 153.2081,2,    96.4,2,   34.78,2,    0.00,2,    2.41,2,   0.054,2,   0.052,2,   0.0000,4,  2279.0,2, 2372.16,2,   7.5697,2, -999.00,9, -999.00,9, -999.00,  -999.0,9, -999.00,9,     -999.0,9,  -999.0,9, 20170704,     1942, -30.0800, 153.6798,        0.0,1,      0.063,1,      4.711,1,      0.147,1,      25.04,     -999.0,9,     -999.0,9,     -999.0,9,     -999.0,9,     2.7079,2,     -999.0,9
320620170703,        P06,       4,          1,         10,         10,2,20170704,       2102,   -30.0798,   153.6799,       2554,  1580.3,   2.9181,  34.5932,2,  34.5873,2, 150.0696,2, 150.1887,2,    93.4,2,   34.91,2,    0.00,2,    2.43,2,   0.062,2,   0.060,2,   0.0000,4,  2279.6,6, 2367.57,2,   7.5699,2, -999.00,9, -999.00,9, -999.00,    39.9,2, -999.00,9,     -999.0,1,  -999.0,9, 20170704,     1946, -30.0800, 153.6798,        0.0,1,      0.062,1,      4.712,1,      0.143,1,      25.02,     -999.0,9,     -999.0,9,     -999.0,9,     -999.0,9,     2.9742,2,     -999.0,9
320620170703,        P06,       4,          1,         11,         42,2,20170704,       2102,   -30.0798,   153.6799,       2554,  1482.3,   3.2241,  34.5647,2,  34.5645,2, 152.4342,2, 152.2783,2,    87.1,2,   34.59,2,    0.00,2,    2.40,2,   0.080,2,   0.073,2,   2.5890,4,  2270.8,2, 2361.87,2,   7.5741,2, -999.00,9, -999.00,9, -999.00,  -999.0,9, -999.00,9,     -999.0,9,  -999.0,9, 20170704,     1949, -30.0799, 153.6799,        0.0,1,      0.061,1,      4.711,1,      0.144,1,      25.04,     -999.0,9,     -999.0,9,     -999.0,9,     -999.0,9,     3.2333,2,     -999.0,9
320620170703,        P06,       4,          1,         12,         12,2,20170704,       2102,   -30.0798,   153.6799,       2554,  1378.8,   3.4942,  34.5416,2,  34.5366,2, 157.7430,2, 157.3992,2,    78.4,2,   33.97,2,    0.00,2,    2.36,2,   0.124,2,   0.099,2,   9.5790,4,  2260.3,2, 2278.97,2,   7.5818,2, -999.00,9, -999.00,9, -999.00,    38.9,2, -999.00,9,     -999.0,1,  -999.0,9, 20170704,     1953, -30.0798, 153.6800,        0.0,1,      0.062,1,      4.711,1,      0.143,1,      25.03,     -999.0,9,     -999.0,9,     -999.0,9,     -999.0,9,     3.5537,2,     -999.0,9
320620170703,        P06,       4,          1,         13,         43,2,20170704,       2102,   -30.0798,   153.6799,       2554,  1279.9,   3.7850,  34.5194,2,  34.5152,2, 162.5022,2, 163.0498,2,    70.6,2,   33.27,2,    0.00,2,    2.31,2,   0.184,2,   0.142,2,  10.5090,4,  2248.6,2, 2344.46,2,   7.5902,2, -999.00,9, -999.00,9, -999.00,    38.9,2, -999.00,9,     -999.0,1,  -999.0,9, 20170704,     1957, -30.0797, 153.6800,        0.0,1,      0.061,1,      4.711,1,      0.142,1,      25.03,     -999.0,9,     -999.0,9,     -999.0,9,     -999.0,9,     3.8207,2,     -999.0,9
320620170703,        P06,       4,          1,         14,         14,2,20170704,       2102,   -30.0798,   153.6799,       2554,  1177.5,   4.1581,  34.4934,2,  34.4897,2, 169.8248,2, 169.1880,2,    60.5,2,   32.39,2,    0.00,2,    2.23,2,   0.279,2,   0.186,2,  10.4710,4,  2235.2,2, 2334.22,2,   7.6008,2, -999.00,9, -999.00,9, -999.00,    40.6,2, -999.00,9,     -999.0,1,  -999.0,9, 20170704,     2001, -30.0796, 153.6800,        0.0,1,      0.061,1,      4.710,1,      0.150,1,      25.04,     -999.0,9,     -999.0,9,     -999.0,9,     -999.0,9,     4.2014,2,     -999.0,9
320620170703,        P06,       4,          1,         15,         15,2,20170704,       2102,   -30.0798,   153.6799,       2554,  1076.7,   4.7315,  34.4639,2,  34.4614,2, 178.2322,2, 178.2476,2,    48.0,2,   30.96,2,    0.00,2,    2.11,2,   0.461,2,   0.280,2,  11.0980,4,  2216.3,2, 2320.93,2,   7.6165,2, -999.00,9, -999.00,9, -999.00,    38.4,2, -999.00,9,     -999.0,1,  -999.0,9, 20170704,     2005, -30.0796, 153.6800,        0.0,1,      0.061,1,      4.711,1,      0.141,1,      25.04,     -999.0,9,     -999.0,9,     -999.0,9,     -999.0,9,     4.7534,2,     -999.0,9
320620170703,        P06,       4,          1,         16,         16,2,20170704,       2102,   -30.0798,   153.6799,       2554,   972.9,   5.2183,  34.4485,2,  34.4463,2, 184.2548,2, 184.6163,2,    38.1,2,   29.72,2,    0.00,2,    2.03,2,   0.653,2,   0.380,2,  10.0230,4,  2202.1,2, 2311.19,6,   7.6305,2, -999.00,9, -999.00,9, -999.00,    41.6,2, -999.00,9,     -999.0,1,  -999.0,9, 20170704,     2009, -30.0797, 153.6800,        0.0,1,      0.059,1,      4.710,1,      0.142,1,      25.03,     -999.0,9,     -999.0,9,     -999.0,9,     -999.0,9,     5.2695,2,     -999.0,9
320620170703,        P06,       4,          1,         17,         17,2,20170704,       2102,   -30.0798,   153.6799,       2554,   874.2,   5.8865,  34.4476,2,  34.4445,2, 190.5238,2, 190.7352,2,    28.4,2,   28.17,2,    0.00,2,    1.91,2,   0.967,2,   0.530,2,  10.3390,4,  2186.4,2, 2302.32,2,   7.6473,2, -999.00,9, -999.00,9, -999.00,    41.9,2, -999.00,9,     -999.0,1,  -999.0,9, 20170704,     2012, -30.0797, 153.6800,        0.0,1,      0.060,1,      4.709,1,      0.142,1,      25.05,     -999.0,9,     -999.0,9,     -999.0,9,     -999.0,9,     5.9210,2,     -999.0,9
320620170703,        P06,       4,          1,         18,         18,2,20170704,       2102,   -30.0798,   153.6799,       2554,   774.3,   6.7550,  34.4725,2,  34.4738,2, 196.8164,2, 196.7266,2,    19.4,2,   25.87,2,    0.00,2,    1.75,2,   1.392,2,   0.764,2,   9.5400,4,  2173.5,2, 2294.82,2,   7.6700,2, -999.00,9, -999.00,9, -999.00,    41.7,2, -999.00,9,     -999.0,1,  -999.0,9, 20170704,     2016, -30.0798, 153.6799,        0.0,1,      0.059,1,      4.708,1,      0.145,1,      25.04,     -999.0,9,     -999.0,9,     -999.0,9,     -999.0,9,     6.8025,2,     -999.0,9
320620170703,        P06,       4,          1,         19,         19,2,20170704,       2102,   -30.0798,   153.6799,       2554,   673.1,   7.6426,  34.5257,2,  34.5197,2, 200.9999,2, 201.1185,2,    13.8,2,   23.72,2,    0.00,2,    1.61,2,   1.748,2,   0.958,2,  10.6470,4,  2162.0,2, 2293.23,2,   7.6914,2, -999.00,9, -999.00,9, -999.00,    41.9,2, -999.00,9,     -999.0,1,  -999.0,9, 20170704,     2019, -30.0799, 153.6799,        0.0,1,      0.060,1,      4.708,1,      0.144,1,      25.05,     -999.0,9,     -999.0,9,     -999.0,9,     -999.0,9,     7.5912,2,     -999.0,9
320620170703,        P06,       4,          1,         20,         20,2,20170704,       2102,   -30.0798,   153.6799,       2554,   571.8,   9.1052,  34.6704,2,  34.6885,2, 205.4444,2, 205.1741,2,     7.7,2,   19.57,2,    0.00,2,    1.32,2,   2.282,2,   1.321,2,   9.2490,4,  2148.3,2, 2294.31,2,   7.7272,2, -999.00,9, -999.00,9, -999.00,    46.1,2, -999.00,9,     -999.0,1,  -999.0,9, 20170704,     2023, -30.0799, 153.6799,        0.0,1,      0.059,1,      4.704,1,      0.148,1,      25.04,     -999.0,9,     -999.0,9,     -999.0,9,     -999.0,9,     9.2788,2,     -999.0,9
320620170703,        P06,       4,          1,         21,         21,2,20170704,       2102,   -30.0798,   153.6799,       2554,   492.0,  10.1161,  34.7840,2,  34.7870,2, 197.6179,2, 197.9670,2,     6.8,2,   18.13,2,    0.00,2,    1.23,2,   2.214,2,   1.272,2,  10.1630,4,  2145.5,2, 2304.21,3,   7.7439,2, -999.00,9, -999.00,9, -999.00,  -999.0,9, -999.00,9,     -999.0,9,  -999.0,9, 20170704,     2026, -30.0799, 153.6799,        0.0,1,      0.061,1,      4.703,1,      0.146,1,      25.06,     -999.0,9,     -999.0,9,     -999.0,9,     -999.0,9,    10.1623,2,     -999.0,9
320620170703,        P06,       4,          1,         22,         22,2,20170704,       2102,   -30.0798,   153.6799,       2554,   437.7,  11.1483,  34.9198,2,  34.9280,2, 198.1533,2, 197.4762,2,     5.4,2,   15.68,2,    0.00,2,    1.07,2,   2.227,2,   1.314,2,   8.8260,4,  2137.3,2, 2137.73,3,   7.7708,2, -999.00,9, -999.00,9, -999.00,    48.7,2,   17.70,2,     -999.0,1,  -999.0,9, 20170704,     2029, -30.0799, 153.6799,        0.0,1,      0.059,1,      4.702,1,      0.146,1,      25.04,     -999.0,9,     -999.0,9,     -999.0,9,     -999.0,9,    11.2551,2,     -999.0,9
320620170703,        P06,       4,          1,         23,         23,2,20170704,       2102,   -30.0798,   153.6799,       2554,   386.4,  12.1845,  35.0245,2,  35.0409,2, 191.6099,2, 191.9192,2,     4.5,2,   13.97,2,    0.00,2,    0.96,2,   2.181,2,   1.311,2,   8.9380,4,  2131.2,2, 2306.40,6,   7.7947,2, -999.00,9, -999.00,9, -999.00,  -999.0,9, -999.00,9,     -999.0,9,  -999.0,9, 20170704,     2032, -30.0799, 153.6799,        0.0,1,      0.060,1,      4.701,1,      0.147,1,      25.05,     -999.0,9,     -999.0,9,     -999.0,9,     -999.0,9,    12.4240,2,     -999.0,9
320620170703,        P06,       4,          1,         24,         24,2,20170704,       2102,   -30.0798,   153.6799,       2554,   339.1,  13.2926,  35.1331,2,  35.1358,3, 189.3854,2, 188.8577,2,     3.7,2,   12.46,2,    0.00,2,    0.87,2,   2.118,2,   1.272,2,   9.0440,4,  2127.4,2, 2310.08,2,   7.8161,2, -999.00,9, -999.00,9, -999.00,    48.4,2,   14.70,2,     -999.0,1,  -999.0,9, 20170704,     2034, -30.0799, 153.6799,        0.0,1,      0.060,1,      4.699,1,      0.149,1,      25.05,     -999.0,9,     -999.0,9,     -999.0,9,     -999.0,9,    13.3639,2,     -999.0,9
320620170703,        P06,       4,          1,         25,         25,2,20170704,       2102,   -30.0798,   153.6799,       2554,   285.3,  14.6431,  35.2572,2,  35.2887,2, 183.5186,2, 184.3650,2,     2.8,2,   10.22,2,    0.00,2,    0.73,2,   2.251,2,   1.345,2,   1.8080,4,  2116.1,6, 2317.46,2,   7.8508,2, -999.00,9, -999.00,9, -999.00,    51.0,2,   12.90,2,     -999.0,1,  -999.0,9, 20170704,     2037, -30.0799, 153.6799,        0.0,1,      0.060,1,      4.694,1,      0.157,1,      25.05,     -999.0,9,     -999.0,9,     -999.0,9,     -999.0,9,    14.9694,2,     -999.0,9
320620170703,        P06,       4,          1,         26,         26,2,20170704,       2102,   -30.0798,   153.6799,       2554,   242.7,  16.3621,  35.4508,2,  35.4032,2, 183.1195,2, 183.0331,2,     2.1,2,    8.52,2,    0.00,2,    0.62,2,   2.267,2,   1.321,2,   1.2300,4,  2105.3,2, 2017.51,3,   7.8792,2, -999.00,9, -999.00,9, -999.00,    52.2,2,   10.90,2,     -999.0,1,  -999.0,9, 20170704,     2040, -30.0798, 153.6799,        0.0,1,      0.059,1,      4.698,1,      0.145,1,      25.05,     -999.0,9,     -999.0,9,     -999.0,9,     -999.0,9,    16.2871,2,     -999.0,9
320620170703,        P06,       4,          1,         27,         27,2,20170704,       2102,   -30.0798,   153.6799,       2554,   215.7,  17.1339,  35.4986,2,  35.5174,2, 185.0175,2, 185.1749,2,     1.6,2,    6.89,2,    0.00,2,    0.53,2,   2.205,2,   1.325,2,   1.2090,4,  2096.7,2, 2328.47,2,   7.9087,2, -999.00,9, -999.00,9, -999.00,  -999.0,9, -999.00,9,     -999.0,9,  -999.0,9, 20170704,     2042, -30.0798, 153.6799,        0.0,1,      0.059,1,      4.694,1,      0.156,1,      25.05,     -999.0,9,     -999.0,9,     -999.0,9,     -999.0,9,    17.4400,2,     -999.0,9
320620170703,        P06,       4,          1,         28,         28,2,20170704,       2102,   -30.0798,   153.6799,       2554,   190.3,  18.1900,  35.5850,2,  35.5930,2, 184.2844,2, 183.5241,2,     1.1,2,    5.81,2,    0.00,2,    0.44,2,   2.130,2,   1.294,2,   1.2310,4,  2089.5,2, 2332.70,2,   7.9297,2, -999.00,9, -999.00,9, -999.00,    57.0,2,    8.40,2,     -999.0,1,  -999.0,9, 20170704,     2044, -30.0798, 153.6799,        0.0,1,      0.060,1,      4.696,1,      0.142,1,      25.03,     -999.0,9,     -999.0,9,     -999.0,9,     -999.0,9,    18.4882,2,     -999.0,9
320620170703,        P06,       4,          1,         29,         29,2,20170704,       2102,   -30.0798,   153.6799,       2554,   166.3,  18.8857,  35.6431,2,  35.6771,2, 185.8990,2, 186.8364,2,     0.7,2,    4.43,2,    0.02,2,    0.35,2,   2.049,2,   1.240,2,   1.1180,4,  2080.9,2, 2337.62,2,   7.9546,2, -999.00,9, -999.00,9, -999.00,  -999.0,9, -999.00,9,     -999.0,9,  -999.0,9, 20170704,     2046, -30.0798, 153.6799,        0.0,1,      0.060,1,      4.695,1,      0.145,1,      25.05,     -999.0,9,     -999.0,9,     -999.0,9,     -999.0,9,    19.3783,2,     -999.0,9
320620170703,        P06,       4,          1,         30,         30,2,20170704,       2102,   -30.0798,   153.6799,       2554,   140.0,  19.7783,  35.7243,2,  35.8269,2, 214.1801,2, 212.7331,2,     0.0,2,    0.80,2,    0.17,2,    0.16,2,   1.910,2,   1.167,2,   1.1910,4,  2052.6,2, 1978.91,2,   8.0159,2, -999.00,9, -999.00,9, -999.00,    63.1,3,    4.40,2,     -999.0,1,  -999.0,9, 20170704,     2048, -30.0798, 153.6799,        0.0,1,      0.067,1,      4.687,1,      0.159,1,      25.05,     -999.0,9,     -999.0,9,     -999.0,9,     -999.0,9,    20.5307,2,     -999.0,9
320620170703,        P06,       4,          1,         31,         31,2,20170704,       2102,   -30.0798,   153.6799,       2554,   115.8,  20.7986,  35.8327,2,  35.8264,2, 218.0617,2, 217.7196,2,     0.0,2,    0.21,2,    0.15,2,    0.09,2,   1.889,2,   1.151,2,   1.2510,4,  2045.5,2, 2068.56,2,   8.0289,2, -999.00,9, -999.00,9, -999.00,  -999.0,9, -999.00,9,     -999.0,1,  -999.0,9, 20170704,     2051, -30.0799, 153.6799,        0.0,1,      0.094,1,      4.668,1,      0.180,1,      25.05,     -999.0,9,     -999.0,9,     -999.0,9,     -999.0,9,    20.7836,2,     -999.0,9
320620170703,        P06,       4,          1,         32,         32,4,20170704,       2102,   -30.0798,   153.6799,       2554,    91.0,  20.7872,  35.8042,3,  35.4985,3, 218.6139,2, 204.6890,3,     4.1,3,    6.42,3,    0.10,3,    0.50,3,   1.994,3,   1.161,3,   1.1940,4,  2086.4,4, -999.00,5,-999.0000,5, -999.00,9, -999.00,9, -999.00,    57.4,2, -999.00,5,     -999.0,1,  -999.0,9, 20170704,     2052, -30.0799, 153.6799,        0.0,1,      0.114,1,      4.654,1,      0.194,1,     -999.0,     -999.0,9,     -999.0,9,     -999.0,9,     -999.0,9,    20.8139,3,     -999.0,9