BOTTLE,20230922CCHSIOCBG
EXPOCODE,SECT_ID,STNNBR,CASTNO,SAMPNO,BTLNBR,BTLNBR_FLAG_W,DATE,TIME,LATITUDE,LONGITUDE,DEPTH,CTDPRS,CTDTMP,CTDSAL,CTDSAL_FLAG_W,SALNTY,SALNTY_FLAG_W,CTDOXY,CTDOXY_FLAG_W,OXYGEN,OXYGEN_FLAG_W,SILCAT,SILCAT_FLAG_W,NITRAT,NITRAT_FLAG_W,NITRIT,NITRIT_FLAG_W,PHSPHT,PHSPHT_FLAG_W,CFC-11,CFC-11_FLAG_W,CFC-12,CFC-12_FLAG_W,SF6,SF6_FLAG_W,TCARBN,TCARBN_FLAG_W,ALKALI,ALKALI_FLAG_W,PH_TOT,PH_TOT_FLAG_W,DELC13,DELC13_FLAG_W,DELC14,DELC14_FLAG_W,C14ERR,DOC,DOC_FLAG_W,TDN,TDN_FLAG_W,TON,TON_FLAG_W,D15N_NO3,D15N_NO3_FLAG_W,BTL_DATE,BTL_TIME,BTL_LAT,BTL_LON,CTDRINKO,CTDRINKO_FLAG_W,CTDFLUOR,CTDFLUOR_FLAG_W,CTDXMISS,CTDXMISS_FLAG_W,CTDBACKSCATTER,CTDBACKSCATTER_FLAG_W,PH_TMP,D18O_NO3,D18O_NO3_FLAG_W,DOP,DOP_FLAG_W,HPLC,HPLC_FLAG_W,POC,POC_FLAG_W,REFTMP,REFTMP_FLAG_W,TDP,TDP_FLAG_W
,,,,,,,,,,,METERS,DBAR,ITS-90,PSS-78,,PSS-78,,UMOL/KG,,UMOL/KG,,UMOL/KG,,UMOL/KG,,UMOL/KG,,UMOL/KG,,PMOL/KG,,PMOL/KG,,FMOL/KG,,UMOL/KG,,UMOL/KG,,,,/MILLE,,/MILLE,,/MILLE,UMOL/KG,,UMOL/KG,,UMOL/KG,,/MILLE,,,,,,VOLTS,,VOLTS,,VOLTS,,VOLTS,,DEGC,/MILLE,,UMOL/KG,,,,UG/L,,ITS-90,,UMOL/KG,
320620170703,        P06,     103,          1,          1,          1,2,20170730,       0545,   -32.4998,  -172.9102,       5969,  6088.5,   1.1825,  34.7078,2,  34.7064,2, 206.1687,2, 206.3466,2,   122.5,2,   32.24,2,    0.00,2,    2.24,2,   0.148,2,   0.083,2,   0.0000,2,  2265.1,6, 2368.21,2,   7.6061,2, -999.00,9, -999.00,9, -999.00,    42.2,2, -999.00,9,     -999.0,1,  -999.0,9, 20170730,      310, -32.5001,-172.9102,        0.0,1,      0.061,1,      4.697,1,      0.128,1,      25.00,     -999.0,9,     -999.0,9,     -999.0,9,     -999.0,9,     1.1828,2,     -999.0,9
320620170703,        P06,     103,          1,          2,          2,2,20170730,       0545,   -32.4998,  -172.9102,       5969,  5870.5,   1.1521,  34.7081,2,  34.7056,2, 206.1687,2, 206.3053,2,   122.5,2,   32.20,2,    0.00,2,    2.24,2,   0.144,2,   0.086,2,   0.0000,2,  2264.9,2, 2366.71,2,   7.6061,2, -999.00,9, -999.00,9, -999.00,  -999.0,9, -999.00,9,     -999.0,9,  -999.0,9, 20170730,      320, -32.5001,-172.9103,        0.0,1,      0.061,1,      4.697,1,      0.127,1,      25.02,     -999.0,9,     -999.0,9,     -999.0,9,     -999.0,9,     1.1528,2,     -999.0,9
320620170703,        P06,     103,          1,          3,          3,2,20170730,       0545,   -32.4998,  -172.9102,       5969,  5678.2,   1.1263,  34.7083,2,  34.7056,2, 206.1687,2, 206.3112,2,   122.7,2,   32.18,2,    0.00,2,    2.24,2,   0.145,2,   0.089,2,   0.0000,2,  2264.9,2, 2368.46,2,   7.6063,2, -999.00,9, -999.00,9, -999.00,    38.8,2, -999.00,9,     -999.0,1,  -999.0,9, 20170730,      329, -32.5000,-172.9104,        0.0,1,      0.061,1,      4.697,1,      0.126,1,      25.01,     -999.0,9,     -999.0,9,     -999.0,9,     -999.0,9,     1.1267,2,     -999.0,9
320620170703,        P06,     103,          1,          4,          4,2,20170730,       0545,   -32.4998,  -172.9102,       5969,  5369.1,   1.0921,  34.7085,2,  34.7064,2, 206.1687,2, 206.8631,2,   122.3,2,   32.10,2,    0.00,2,    2.23,2,   0.136,2,   0.084,2,   0.0000,2,  2263.4,2, 2366.88,6,   7.6059,2, -999.00,9, -999.00,9, -999.00,  -999.0,9, -999.00,9,     -999.0,9,  -999.0,9, 20170730,      339, -32.5000,-172.9104,        0.0,1,      0.061,1,      4.699,1,      0.124,1,      25.01,     -999.0,9,     -999.0,9,     -999.0,9,     -999.0,9,     1.0923,2,     -999.0,9
320620170703,        P06,     103,          1,          5,          5,2,20170730,       0545,   -32.4998,  -172.9102,       5969,  5058.9,   1.0732,  34.7092,2,  34.7079,2, 206.1687,2, 206.5420,2,   121.7,2,   32.04,2,    0.00,2,    2.24,2,   0.136,2,   0.087,2,   0.0000,2,  2263.7,2, 2364.52,2,   7.6059,2, -999.00,9, -999.00,9, -999.00,    41.1,2, -999.00,9,     -999.0,1,  -999.0,9, 20170730,      346, -32.5001,-172.9103,        0.0,1,      0.060,1,      4.700,1,      0.124,1,      25.01,     -999.0,9,     -999.0,9,     -999.0,9,     -999.0,9,     1.0734,2,     -999.0,9
320620170703,        P06,     103,          1,          6,          6,2,20170730,       0545,   -32.4998,  -172.9102,       5969,  4749.4,   1.0869,  34.7111,2,  34.7087,2, 206.1687,2, 206.1487,2,   120.3,2,   31.92,2,    0.00,2,    2.22,2,   0.132,2,   0.082,2,   0.0000,2,  2263.6,2, 2366.48,2,   7.6061,2, -999.00,9, -999.00,9, -999.00,  -999.0,9, -999.00,9,     -999.0,9,  -999.0,9, 20170730,      352, -32.5002,-172.9102,        0.0,1,      0.061,1,      4.701,1,      0.126,1,      25.00,     -999.0,9,     -999.0,9,     -999.0,9,     -999.0,9,     1.0841,2,     -999.0,9
320620170703,        P06,     103,          1,          7,          7,2,20170730,       0545,   -32.4998,  -172.9102,       5969,  4440.0,   1.1311,  34.7138,2,  34.7115,2, 206.4140,2, 205.0271,2,   118.2,2,   31.85,2,    0.00,2,    2.21,2,   0.117,2,   0.078,2,   0.0000,2,  2263.4,2, 2366.35,2,   7.6068,2, -999.00,9, -999.00,9, -999.00,    39.0,2, -999.00,9,     -999.0,1,  -999.0,9, 20170730,      359, -32.5003,-172.9100,        0.0,1,      0.061,1,      4.701,1,      0.128,1,      25.01,     -999.0,9,     -999.0,9,     -999.0,9,     -999.0,9,     1.1267,2,     -999.0,9
320620170703,        P06,     103,          1,          8,          8,2,20170730,       0545,   -32.4998,  -172.9102,       5969,  4132.6,   1.2327,  34.7175,2,  34.7150,2, 202.2162,2, 202.3567,2,   114.9,2,   31.72,2,    0.00,2,    2.21,2,   0.096,2,   0.066,2,   0.0000,2,  2262.2,2, 2360.55,2,   7.6063,2, -999.00,9, -999.00,9, -999.00,    41.2,2, -999.00,9,     -999.0,1,  -999.0,9, 20170730,      405, -32.5003,-172.9100,        0.0,1,      0.060,1,      4.701,1,      0.128,1,      25.02,     -999.0,9,     -999.0,9,     -999.0,9,     -999.0,9,     1.2325,2,     -999.0,9
320620170703,        P06,     103,          1,          9,          9,2,20170730,       0545,   -32.4998,  -172.9102,       5969,  3826.1,   1.3982,  34.7192,2,  34.7170,2, 196.0595,2, 196.5952,2,   111.6,2,   31.81,2,    0.00,2,    2.21,2,   0.071,2,   0.052,2,   0.0000,2,  2266.0,2, 2364.09,2,   7.6040,2, -999.00,9, -999.00,9, -999.00,    37.7,2, -999.00,9,     -999.0,1,  -999.0,9, 20170730,      411, -32.4998,-172.9104,        0.0,1,      0.060,1,      4.701,1,      0.128,1,      25.01,     -999.0,9,     -999.0,9,     -999.0,9,     -999.0,9,     1.4023,2,     -999.0,9
320620170703,        P06,     103,          1,         10,         10,2,20170730,       0545,   -32.4998,  -172.9102,       5969,  3516.1,   1.5884,  34.7097,2,  34.7070,2, 183.7914,2, 183.1799,2,   113.8,2,   32.71,2,    0.00,2,    2.29,2,   0.051,2,   0.043,2,   0.0000,2,  2278.4,2, 2367.95,2,   7.5947,2, -999.00,9, -999.00,9, -999.00,  -999.0,9, -999.00,9,     -999.0,9,  -999.0,9, 20170730,      417, -32.5000,-172.9102,        0.0,1,      0.061,1,      4.701,1,      0.129,1,      25.00,     -999.0,9,     -999.0,9,     -999.0,9,     -999.0,9,     1.5922,2,     -999.0,9
320620170703,        P06,     103,          1,         11,         11,2,20170730,       0545,   -32.4998,  -172.9102,       5969,  3210.7,   1.7147,  34.6891,2,  34.6857,2, 166.3581,3, 164.6802,2,   123.0,2,   34.40,2,    0.00,2,    2.41,2,   0.033,2,   0.033,2,   0.0000,2,  2299.7,2, 2389.86,2,   7.5808,2, -999.00,9, -999.00,9, -999.00,    38.2,2, -999.00,9,     -999.0,1,  -999.0,9, 20170730,      423, -32.5000,-172.9101,        0.0,1,      0.061,1,      4.701,1,      0.130,1,      25.01,     -999.0,9,     -999.0,9,     -999.0,9,     -999.0,9,     1.7208,2,     -999.0,9
320620170703,        P06,     103,          1,         12,         12,2,20170730,       0545,   -32.4998,  -172.9102,       5969,  2964.5,   1.8159,  34.6710,2,  34.6679,2, 153.6800,2, 153.0709,2,   128.7,2,   35.59,2,    0.00,2,    2.49,2,   0.027,2,   0.031,2,   0.0000,2,  2313.0,2, 2398.43,2,   7.5709,2, -999.00,9, -999.00,9, -999.00,  -999.0,9, -999.00,9,     -999.0,9,  -999.0,9, 20170730,      428, -32.4999,-172.9103,        0.0,1,      0.061,1,      4.701,1,      0.131,1,      25.02,     -999.0,9,     -999.0,9,     -999.0,9,     -999.0,9,     1.8241,2,     -999.0,9
320620170703,        P06,     103,          1,         13,         13,2,20170730,       0545,   -32.4998,  -172.9102,       5969,  2710.4,   1.9164,  34.6605,2,  34.6582,2, 148.7367,2, 149.3671,2,   127.0,2,   35.84,2,    0.00,2,    2.52,2,   0.025,2,   0.028,2,   0.0000,2,  2314.7,6, 2398.79,2,   7.5672,2, -999.00,9, -999.00,9, -999.00,    39.4,2, -999.00,9,     -999.0,1,  -999.0,9, 20170730,      434, -32.5001,-172.9100,        0.0,1,      0.061,1,      4.702,1,      0.132,1,      25.01,     -999.0,9,     -999.0,9,     -999.0,9,     -999.0,9,     1.9191,2,     -999.0,9
320620170703,        P06,     103,          1,         14,         14,2,20170730,       0545,   -32.4998,  -172.9102,       5969,  2459.5,   2.0415,  34.6487,2,  34.6553,2, 147.5470,2, 147.8939,2,   122.5,2,   35.86,2,    0.00,2,    2.52,2,   0.026,2,   0.030,2,   0.0000,2,  2311.2,2, 2392.22,2,   7.5653,2, -999.00,9, -999.00,9, -999.00,  -999.0,9, -999.00,9,     -999.0,9,  -999.0,9, 20170730,      439, -32.5001,-172.9100,        0.0,1,      0.061,1,      4.702,1,      0.133,1,      25.00,     -999.0,9,     -999.0,9,     -999.0,9,     -999.0,9,     2.0475,2,     -999.0,9
320620170703,        P06,     103,          1,         15,         15,2,20170730,       0545,   -32.4998,  -172.9102,       5969,  2207.7,   2.1868,  34.6356,2,  34.6325,2, 148.2601,2, 149.2047,2,   115.7,2,   35.67,2,    0.00,2,    2.50,2,   0.025,2,   0.030,2,   0.0000,2,  2304.3,2, 2386.93,2,   7.5655,2, -999.00,9, -999.00,9, -999.00,    36.9,2, -999.00,9,     -999.0,1,  -999.0,9, 20170730,      444, -32.5002,-172.9099,        0.0,1,      0.062,1,      4.702,1,      0.134,1,      25.01,     -999.0,9,     -999.0,9,     -999.0,9,     -999.0,9,     2.1924,2,     -999.0,9
320620170703,        P06,     103,          1,         16,         16,2,20170730,       0545,   -32.4998,  -172.9102,       5969,  1953.5,   2.3685,  34.6148,2,  34.6138,2, 151.4131,2, 152.0426,2,   106.2,2,   35.31,2,    0.00,2,    2.46,2,   0.026,2,   0.030,2,   0.0000,2,  2293.1,2, 2375.13,2,   7.5654,2, -999.00,9, -999.00,9, -999.00,  -999.0,9, -999.00,9,     -999.0,9,  -999.0,9, 20170730,      449, -32.4999,-172.9103,        0.0,1,      0.061,1,      4.702,1,      0.143,1,      25.01,     -999.0,9,     -999.0,9,     -999.0,9,     -999.0,9,     2.3597,2,     -999.0,9
320620170703,        P06,     103,          1,         17,         17,2,20170730,       0545,   -32.4998,  -172.9102,       5969,  1697.1,   2.6673,  34.5643,2,  34.5684,2, 158.2926,2, 158.4648,2,    90.1,2,   34.81,2,    0.00,2,    2.43,2,   0.037,2,   0.036,2,   0.0000,2,  2275.2,2, -999.00,9,   7.5665,2, -999.00,9, -999.00,9, -999.00,    39.4,2, -999.00,9,     -999.0,1,  -999.0,9, 20170730,      455, -32.4999,-172.9103,        0.0,1,      0.061,1,      4.702,1,      0.135,1,      25.00,     -999.0,9,     -999.0,9,     -999.0,9,     -999.0,9,     2.6245,2,     -999.0,9
320620170703,        P06,     103,          1,         18,         18,2,20170730,       0545,   -32.4998,  -172.9102,       5969,  1443.4,   3.1897,  34.4589,2,  34.4816,2, 169.8016,2, 169.6832,2,    68.3,2,   34.08,2,    0.00,2,    2.39,2,   0.120,2,   0.084,2,   0.0000,2,  2249.5,2, 2333.25,2,   7.5719,2, -999.00,9, -999.00,9, -999.00,  -999.0,9, -999.00,9,     -999.0,9,  -999.0,9, 20170730,      500, -32.4999,-172.9102,        0.0,1,      0.061,1,      4.702,1,      0.137,1,      25.00,     -999.0,9,     -999.0,9,     -999.0,9,     -999.0,9,     3.0579,2,     -999.0,9
320620170703,        P06,     103,          1,         19,         19,2,20170730,       0545,   -32.4998,  -172.9102,       5969,  1248.1,   3.8778,  34.3827,2,  34.3831,2, 185.7433,2, 186.0318,2,    45.6,2,   32.51,2,    0.00,2,    2.26,2,   0.443,2,   0.235,2,   0.0000,2,  2220.1,2, 2308.22,2,   7.5952,2, -999.00,9, -999.00,9, -999.00,    42.8,2, -999.00,9,     -999.0,1,  -999.0,9, 20170730,      504, -32.4999,-172.9102,        0.0,1,      0.060,1,      4.702,1,      0.141,1,      25.02,     -999.0,9,     -999.0,9,     -999.0,9,     -999.0,9,     3.8221,2,     -999.0,9
320620170703,        P06,     103,          1,         20,         20,2,20170730,       0545,   -32.4998,  -172.9102,       5969,  1144.0,   4.4010,  34.3497,2,  34.3509,2, 194.3915,2, 193.7690,2,    35.8,2,   31.18,2,    0.00,2,    2.16,2,   0.711,2,   0.357,2,   0.0000,2,  2204.3,2, 2301.41,2,   7.6113,2, -999.00,9, -999.00,9, -999.00,  -999.0,9, -999.00,9,     -999.0,9,  -999.0,9, 20170730,      507, -32.5000,-172.9102,        0.0,1,      0.060,1,      4.702,1,      0.139,1,      25.01,     -999.0,9,     -999.0,9,     -999.0,9,     -999.0,9,     4.3108,2,     -999.0,9
320620170703,        P06,     103,          1,         21,         21,2,20170730,       0545,   -32.4998,  -172.9102,       5969,  1044.0,   5.0031,  34.3297,2,  34.3278,2, 204.2577,2, 204.8037,2,    25.6,2,   29.20,2,    0.00,2,    2.02,2,   1.124,2,   0.568,2,   0.1540,2,  2186.7,2, -999.00,9,   7.6371,2, -999.00,9, -999.00,9, -999.00,    41.7,2, -999.00,9,     -999.0,1,  -999.0,9, 20170730,      510, -32.5002,-172.9100,        0.0,1,      0.060,1,      4.701,1,      0.138,1,      25.01,     -999.0,9,     -999.0,9,     -999.0,9,     -999.0,9,     4.9438,2,     -999.0,9
320620170703,        P06,     103,          1,         22,         22,2,20170730,       0545,   -32.4998,  -172.9102,       5969,   941.1,   5.6875,  34.3262,2,  34.3217,2, 216.8162,2, 216.3831,2,    17.6,2,   26.89,2,    0.00,2,    1.88,2,   1.655,2,   0.810,2,   0.2080,2,  2171.0,2, 2283.21,6,   7.6638,2, -999.00,9, -999.00,9, -999.00,  -999.0,9, -999.00,9,     -999.0,9,  -999.0,9, 20170730,      513, -32.5002,-172.9100,        0.0,1,      0.059,1,      4.700,1,      0.139,1,      25.00,     -999.0,9,     -999.0,9,     -999.0,9,     -999.0,9,     5.5564,2,     -999.0,9
320620170703,        P06,     103,          1,         23,         23,2,20170730,       0545,   -32.4998,  -172.9102,       5969,   840.7,   6.2565,  34.3490,2,  34.3480,2, 224.8412,2, 225.7575,2,    11.9,2,   24.28,2,    0.00,2,    1.70,2,   2.410,2,   1.205,2,   0.3810,2,  2159.8,2, 2284.11,2,   7.6874,2, -999.00,9, -999.00,9, -999.00,    46.7,3, -999.00,9,     -999.0,1,  -999.0,9, 20170730,      515, -32.4999,-172.9101,        0.0,1,      0.059,1,      4.699,1,      0.139,1,      25.00,     -999.0,9,     -999.0,9,     -999.0,9,     -999.0,9,     6.2560,2,     -999.0,9
320620170703,        P06,     103,          1,         24,         24,2,20170730,       0545,   -32.4998,  -172.9102,       5969,   740.8,   6.7625,  34.3781,2,  34.3823,2, 229.5207,2, 229.1773,2,     9.0,2,   22.51,2,    0.00,2,    1.58,2,   2.928,2,   1.483,2,   0.5960,2,  2151.4,6, 2280.86,2,   7.6998,2, -999.00,9, -999.00,9, -999.00,    42.0,2, -999.00,9,     -999.0,1,  -999.0,9, 20170730,      518, -32.4998,-172.9103,        0.0,1,      0.059,1,      4.606,1,      0.137,1,      25.02,     -999.0,9,     -999.0,9,     -999.0,9,     -999.0,9,     6.8411,2,     -999.0,9
320620170703,        P06,     103,          1,         25,         25,2,20170730,       0545,   -32.4998,  -172.9102,       5969,   639.7,   7.3058,  34.4153,2,  34.4322,2, 230.0202,2, 230.0454,2,     6.4,2,   20.51,2,    0.00,2,    1.46,2,   3.378,2,   1.757,2,   0.8180,2,  2149.4,2, 2279.88,2,   7.7101,2, -999.00,9, -999.00,9, -999.00,    41.6,2, -999.00,9,     -999.0,1,  -999.0,9, 20170730,      520, -32.5001,-172.9101,        0.0,1,      0.057,1,      4.697,1,      0.145,1,      25.00,     -999.0,9,     -999.0,9,     -999.0,9,     -999.0,9,     7.4990,2,     -999.0,9
320620170703,        P06,     103,          1,         26,         26,2,20170730,       0545,   -32.4998,  -172.9102,       5969,   539.6,   8.4053,  34.5433,2,  34.5620,2, 217.4255,2, 216.5621,2,     6.1,2,   18.70,2,    0.00,2,    1.34,2,   3.109,2,   1.661,2,   0.8810,2,  2148.6,2, -999.00,9,   7.7212,2, -999.00,9, -999.00,9, -999.00,    48.9,2, -999.00,9,     -999.0,1,  -999.0,9, 20170730,      523, -32.5002,-172.9099,        0.0,1,      0.059,1,      4.695,1,      0.144,1,      25.01,     -999.0,9,     -999.0,9,     -999.0,9,     -999.0,9,     8.6187,2,     -999.0,9
320620170703,        P06,     103,          1,         27,         27,2,20170730,       0545,   -32.4998,  -172.9102,       5969,   438.8,   9.7687,  34.7070,2,  34.7439,2, 209.3328,2, 208.7711,2,     4.8,2,   15.28,2,    0.00,2,    1.13,2,   2.917,6,   1.629,6,   1.0400,6,  2138.4,2, 2293.87,2,   7.7497,2, -999.00,9, -999.00,9, -999.00,    47.0,2,   17.80,2,     -999.0,1,  -999.0,9, 20170730,      526, -32.5004,-172.9098,        0.0,1,      0.060,1,      4.692,1,      0.146,1,      25.02,     -999.0,9,     -999.0,9,     -999.0,9,     -999.0,9,    10.1267,2,     -999.0,9
320620170703,        P06,     103,          1,         28,         28,2,20170730,       0545,   -32.4998,  -172.9102,       5969,   336.9,  11.8363,  34.9602,2,  34.9545,2, 207.2508,2, 208.0104,2,     3.1,2,   10.96,2,    0.00,2,    0.86,2,   2.813,2,   1.587,2,   1.1400,2,  2126.2,2, 2294.53,2,   7.7937,2, -999.00,9, -999.00,9, -999.00,    50.6,2,   14.00,2,     -999.0,1,  -999.0,9, 20170730,      529, -32.5005,-172.9098,        0.0,1,      0.059,1,      4.673,1,      0.145,1,      25.00,     -999.0,9,     -999.0,9,     -999.0,9,     -999.0,9,    11.8373,2,     -999.0,9
320620170703,        P06,     103,          1,         29,         29,2,20170730,       0545,   -32.4998,  -172.9102,       5969,   267.0,  13.3797,  35.1606,2,  35.0937,2, 205.2854,2, 204.8596,2,     2.5,2,    8.85,2,    0.00,2,    0.73,2,   2.701,2,   1.535,2,   1.1640,2,  2119.7,2, 2306.98,2,   7.8194,2, -999.00,9, -999.00,9, -999.00,    46.0,2,   12.50,2,     -999.0,1,  -999.0,9, 20170730,      531, -32.5001,-172.9099,        0.0,1,      0.061,1,      4.639,1,      0.147,1,      25.01,     -999.0,9,     -999.0,9,     -999.0,9,     -999.0,9,    12.9530,2,     -999.0,9
320620170703,        P06,     103,          1,         30,         30,2,20170730,       0545,   -32.4998,  -172.9102,       5969,   216.6,  14.3168,  35.2853,2,  35.2615,2, 207.5989,2, 209.5407,2,     1.8,2,    5.94,2,    0.02,2,    0.56,2,   2.563,2,   1.488,2,   1.2000,2,  2110.3,2, -999.00,9,   7.8565,2, -999.00,9, -999.00,9, -999.00,    48.1,2,    9.80,2,     -999.0,1,  -999.0,9, 20170730,      533, -32.5000,-172.9100,        0.0,1,      0.063,1,      4.588,1,      0.140,1,      25.02,     -999.0,9,     -999.0,9,     -999.0,9,     -999.0,9,    14.1471,2,     -999.0,9
320620170703,        P06,     103,          1,         31,         31,2,20170730,       0545,   -32.4998,  -172.9102,       5969,   165.9,  15.4074,  35.4103,2,  35.4060,2, 212.4267,2, 210.9621,2,     1.3,2,    3.86,2,    0.03,2,    0.43,2,   2.430,2,   1.436,2,   1.3050,2,  2100.8,2, 2321.07,2,   7.8872,2, -999.00,9, -999.00,9, -999.00,    49.4,2,    8.20,2,     -999.0,1,  -999.0,9, 20170730,      536, -32.4999,-172.9101,        0.0,1,      0.079,1,      4.631,1,      0.154,1,      25.02,     -999.0,9,     -999.0,9,     -999.0,9,     -999.0,9,    15.3847,2,     -999.0,9
320620170703,        P06,     103,          1,         32,         32,2,20170730,       0545,   -32.4998,  -172.9102,       5969,   115.6,  17.5854,  35.6612,2,  35.6654,2, 232.7231,2, 234.2131,2,     0.2,2,    0.00,2,    0.02,2,    0.07,2,   2.223,2,   1.294,2,   1.3570,2,  2065.1,2, 2336.97,2,   7.9829,2, -999.00,9, -999.00,9, -999.00,    59.5,2,    3.90,2,     -999.0,1,  -999.0,9, 20170730,      538, -32.4997,-172.9102,        0.0,1,      0.189,1,      4.590,1,      0.220,1,      25.01,     -999.0,9,     -999.0,9,     -999.0,9,     -999.0,9,    17.6154,2,     -999.0,9