BOTTLE,20230922CCHSIOCBG
EXPOCODE,SECT_ID,STNNBR,CASTNO,SAMPNO,BTLNBR,BTLNBR_FLAG_W,DATE,TIME,LATITUDE,LONGITUDE,DEPTH,CTDPRS,CTDTMP,CTDSAL,CTDSAL_FLAG_W,SALNTY,SALNTY_FLAG_W,CTDOXY,CTDOXY_FLAG_W,OXYGEN,OXYGEN_FLAG_W,SILCAT,SILCAT_FLAG_W,NITRAT,NITRAT_FLAG_W,NITRIT,NITRIT_FLAG_W,PHSPHT,PHSPHT_FLAG_W,CFC-11,CFC-11_FLAG_W,CFC-12,CFC-12_FLAG_W,SF6,SF6_FLAG_W,TCARBN,TCARBN_FLAG_W,ALKALI,ALKALI_FLAG_W,PH_TOT,PH_TOT_FLAG_W,DELC13,DELC13_FLAG_W,DELC14,DELC14_FLAG_W,C14ERR,DOC,DOC_FLAG_W,TDN,TDN_FLAG_W,TON,TON_FLAG_W,D15N_NO3,D15N_NO3_FLAG_W,BTL_DATE,BTL_TIME,BTL_LAT,BTL_LON,CTDRINKO,CTDRINKO_FLAG_W,CTDFLUOR,CTDFLUOR_FLAG_W,CTDXMISS,CTDXMISS_FLAG_W,CTDBACKSCATTER,CTDBACKSCATTER_FLAG_W,PH_TMP,D18O_NO3,D18O_NO3_FLAG_W,DOP,DOP_FLAG_W,HPLC,HPLC_FLAG_W,POC,POC_FLAG_W,REFTMP,REFTMP_FLAG_W,TDP,TDP_FLAG_W
,,,,,,,,,,,METERS,DBAR,ITS-90,PSS-78,,PSS-78,,UMOL/KG,,UMOL/KG,,UMOL/KG,,UMOL/KG,,UMOL/KG,,UMOL/KG,,PMOL/KG,,PMOL/KG,,FMOL/KG,,UMOL/KG,,UMOL/KG,,,,/MILLE,,/MILLE,,/MILLE,UMOL/KG,,UMOL/KG,,UMOL/KG,,/MILLE,,,,,,VOLTS,,VOLTS,,VOLTS,,VOLTS,,DEGC,/MILLE,,UMOL/KG,,,,UG/L,,ITS-90,,UMOL/KG,
320620170703,        P06,      90,          1,         33,         33,2,20170726,       1022,   -32.4997,  -178.4699,       4361,    75.0,  16.9484,  35.5840,2,  35.5738,2, 238.8528,3, 229.5321,3,     0.6,2,    0.76,2,    0.14,2,    0.14,2,-999.000,9,-999.000,9,-999.0000,9,  2072.7,2, 2330.77,2,   7.9643,2, -999.00,9, -999.00,9, -999.00,    59.5,2,    5.10,2,     -999.0,1,  -999.0,9, 20170726,     1017, -32.4998,-178.4697,        0.0,1,      0.203,1,      4.595,1,      0.281,1,      25.01,     -999.0,9,     -999.0,9,     -999.0,9,     -999.0,9,    16.8524,2,     -999.0,9
320620170703,        P06,      90,          1,         34,         34,2,20170726,       1022,   -32.4997,  -178.4699,       4361,    50.0,  17.2130,  35.6182,2,  35.5863,2, 240.1263,3, 242.3320,3,     0.6,2,    0.84,2,    0.11,2,    0.15,2,   2.236,2,   1.343,2,   1.3620,2,  -999.0,9, -999.00,9,-999.0000,9, -999.00,9, -999.00,9, -999.00,    62.0,2,    5.00,2,     -999.0,1,  -999.0,9, 20170726,     1019, -32.4998,-178.4698,        0.0,1,      0.218,1,      4.569,1,      0.301,1,     -999.0,     -999.0,9,     -999.0,9,     -999.0,9,     -999.0,9,    16.9485,2,     -999.0,9
320620170703,        P06,      90,          1,         35,         35,2,20170726,       1022,   -32.4997,  -178.4699,       4361,    25.5,  17.2091,  35.6183,2,  35.5920,2, 239.8724,3, 230.3534,3,     0.6,2,    0.90,2,    0.11,2,    0.16,2,-999.000,9,-999.000,9,-999.0000,9,  2069.4,2, 2333.24,2,   7.9680,2, -999.00,9, -999.00,9, -999.00,    60.1,2,    5.60,2,     -999.0,1,  -999.0,9, 20170726,     1020, -32.4997,-178.4698,        0.0,1,      0.215,1,      4.568,1,      0.302,1,      25.01,     -999.0,9,     -999.0,9,     -999.0,9,     -999.0,9,    16.9944,2,     -999.0,9
320620170703,        P06,      90,          1,         36,         36,2,20170726,       1022,   -32.4997,  -178.4699,       4361,     5.4,  17.1945,  35.6177,2,  35.5922,2, 232.7838,3, 205.2389,3,     0.7,2,    0.90,2,    0.11,2,    0.16,2,   2.212,6,   1.328,6,   1.3940,6,  2071.6,6, 2334.46,2,   7.9676,2, -999.00,9, -999.00,9, -999.00,    66.1,2,    5.30,2,     -999.0,1,  -999.0,9, 20170726,     1022, -32.4997,-178.4699,        0.0,1,      0.217,1,      4.568,1,      0.286,1,      25.01,     -999.0,9,     -999.0,9,     -999.0,9,     -999.0,9,    16.9884,2,     -999.0,9