BOTTLE,20230922CCHSIOCBG
EXPOCODE,SECT_ID,STNNBR,CASTNO,SAMPNO,BTLNBR,BTLNBR_FLAG_W,DATE,TIME,LATITUDE,LONGITUDE,DEPTH,CTDPRS,CTDTMP,CTDSAL,CTDSAL_FLAG_W,SALNTY,SALNTY_FLAG_W,CTDOXY,CTDOXY_FLAG_W,OXYGEN,OXYGEN_FLAG_W,SILCAT,SILCAT_FLAG_W,NITRAT,NITRAT_FLAG_W,NITRIT,NITRIT_FLAG_W,PHSPHT,PHSPHT_FLAG_W,CFC-11,CFC-11_FLAG_W,CFC-12,CFC-12_FLAG_W,SF6,SF6_FLAG_W,TCARBN,TCARBN_FLAG_W,ALKALI,ALKALI_FLAG_W,PH_TOT,PH_TOT_FLAG_W,DELC13,DELC13_FLAG_W,DELC14,DELC14_FLAG_W,C14ERR,DOC,DOC_FLAG_W,TDN,TDN_FLAG_W,TON,TON_FLAG_W,D15N_NO3,D15N_NO3_FLAG_W,BTL_DATE,BTL_TIME,BTL_LAT,BTL_LON,CTDRINKO,CTDRINKO_FLAG_W,CTDFLUOR,CTDFLUOR_FLAG_W,CTDXMISS,CTDXMISS_FLAG_W,CTDBACKSCATTER,CTDBACKSCATTER_FLAG_W,PH_TMP,D18O_NO3,D18O_NO3_FLAG_W,DOP,DOP_FLAG_W,HPLC,HPLC_FLAG_W,POC,POC_FLAG_W,REFTMP,REFTMP_FLAG_W,TDP,TDP_FLAG_W
,,,,,,,,,,,METERS,DBAR,ITS-90,PSS-78,,PSS-78,,UMOL/KG,,UMOL/KG,,UMOL/KG,,UMOL/KG,,UMOL/KG,,UMOL/KG,,PMOL/KG,,PMOL/KG,,FMOL/KG,,UMOL/KG,,UMOL/KG,,,,/MILLE,,/MILLE,,/MILLE,UMOL/KG,,UMOL/KG,,UMOL/KG,,/MILLE,,,,,,VOLTS,,VOLTS,,VOLTS,,VOLTS,,DEGC,/MILLE,,UMOL/KG,,,,UG/L,,ITS-90,,UMOL/KG,
320620170703,        P06,     103,          1,         33,         33,2,20170730,       0545,   -32.4998,  -172.9102,       5969,    86.4,  17.6478,  35.6732,2,  35.6585,2, 234.6513,2, 233.5193,2,     0.2,2,    0.00,2,    0.02,2,    0.09,2,   2.220,2,   1.313,2,   1.3240,2,  2065.7,2, 2341.14,2,   7.9816,2, -999.00,9, -999.00,9, -999.00,    63.2,3,    4.40,2,     -999.0,1,  -999.0,9, 20170730,      540, -32.4996,-172.9103,        0.0,1,      0.198,1,      4.076,1,      0.243,1,      25.01,     -999.0,9,     -999.0,9,     -999.0,9,     -999.0,9,    17.6165,2,     -999.0,9
320620170703,        P06,     103,          1,         34,         34,2,20170730,       0545,   -32.4998,  -172.9102,       5969,    60.2,  17.6433,  35.6731,2,  35.6579,2, 234.2556,2, 233.2463,2,     0.2,2,    0.01,2,    0.02,2,    0.09,2,   2.198,2,   1.300,2,   1.3230,2,  2066.7,2, 2339.34,2,   7.9820,2, -999.00,9, -999.00,9, -999.00,    61.6,2,    4.50,2,     -999.0,1,  -999.0,9, 20170730,      541, -32.4997,-172.9103,        0.0,1,      0.199,1,      4.606,1,      0.231,1,      25.01,     -999.0,9,     -999.0,9,     -999.0,9,     -999.0,9,    17.6115,2,     -999.0,9
320620170703,        P06,     103,          1,         35,         35,2,20170730,       0545,   -32.4998,  -172.9102,       5969,    34.0,  17.6361,  35.6718,2,  35.6567,2, 234.5684,2, 233.3932,2,     0.2,2,   -0.01,2,    0.03,2,    0.10,2,   2.215,2,   1.302,2,   1.4500,2,  2066.4,2, -999.00,9,   7.9814,2, -999.00,9, -999.00,9, -999.00,    58.8,2,    4.80,2,     -999.0,1,  -999.0,9, 20170730,      543, -32.4997,-172.9102,        0.0,1,      0.194,1,      4.608,1,      0.233,1,      25.02,     -999.0,9,     -999.0,9,     -999.0,9,     -999.0,9,    17.6049,2,     -999.0,9
320620170703,        P06,     103,          1,         36,         36,2,20170730,       0545,   -32.4998,  -172.9102,       5969,     7.0,  17.6358,  35.6719,2,  35.6557,2, 234.7487,2, 233.0565,2,     0.3,2,    0.00,2,    0.03,2,    0.10,2,   2.219,2,   1.298,2,   1.4000,2,  2067.8,6, 2341.61,2,   7.9812,2, -999.00,9, -999.00,9, -999.00,    60.4,2,    4.10,2,     -999.0,1,  -999.0,9, 20170730,      545, -32.4998,-172.9102,        0.0,1,      0.129,1,      4.594,1,      0.224,1,      25.03,     -999.0,9,     -999.0,9,     -999.0,9,     -999.0,9,    17.6019,2,     -999.0,9