BOTTLE,20230922CCHSIOCBG
EXPOCODE,SECT_ID,STNNBR,CASTNO,SAMPNO,BTLNBR,BTLNBR_FLAG_W,DATE,TIME,LATITUDE,LONGITUDE,DEPTH,CTDPRS,CTDTMP,CTDSAL,CTDSAL_FLAG_W,SALNTY,SALNTY_FLAG_W,CTDOXY,CTDOXY_FLAG_W,OXYGEN,OXYGEN_FLAG_W,SILCAT,SILCAT_FLAG_W,NITRAT,NITRAT_FLAG_W,NITRIT,NITRIT_FLAG_W,PHSPHT,PHSPHT_FLAG_W,CFC-11,CFC-11_FLAG_W,CFC-12,CFC-12_FLAG_W,SF6,SF6_FLAG_W,TCARBN,TCARBN_FLAG_W,ALKALI,ALKALI_FLAG_W,PH_TOT,PH_TOT_FLAG_W,DELC13,DELC13_FLAG_W,DELC14,DELC14_FLAG_W,C14ERR,DOC,DOC_FLAG_W,TDN,TDN_FLAG_W,TON,TON_FLAG_W,D15N_NO3,D15N_NO3_FLAG_W,BTL_DATE,BTL_TIME,BTL_LAT,BTL_LON,CTDRINKO,CTDRINKO_FLAG_W,CTDFLUOR,CTDFLUOR_FLAG_W,CTDXMISS,CTDXMISS_FLAG_W,CTDBACKSCATTER,CTDBACKSCATTER_FLAG_W,PH_TMP,D18O_NO3,D18O_NO3_FLAG_W,DOP,DOP_FLAG_W,HPLC,HPLC_FLAG_W,POC,POC_FLAG_W,REFTMP,REFTMP_FLAG_W,TDP,TDP_FLAG_W
,,,,,,,,,,,METERS,DBAR,ITS-90,PSS-78,,PSS-78,,UMOL/KG,,UMOL/KG,,UMOL/KG,,UMOL/KG,,UMOL/KG,,UMOL/KG,,PMOL/KG,,PMOL/KG,,FMOL/KG,,UMOL/KG,,UMOL/KG,,,,/MILLE,,/MILLE,,/MILLE,UMOL/KG,,UMOL/KG,,UMOL/KG,,/MILLE,,,,,,VOLTS,,VOLTS,,VOLTS,,VOLTS,,DEGC,/MILLE,,UMOL/KG,,,,UG/L,,ITS-90,,UMOL/KG,
320620170703,        P06,      66,          1,          1,         37,2,20170717,       1544,   -30.0803,   172.7992,       1767,  1780.2,   2.7030,  34.6031,2,  34.6036,2, 157.7855,2, 157.5718,2,    99.7,2,   34.57,2,    0.00,2,    2.38,2,-999.000,9,-999.000,9,-999.0000,9,  2282.1,2, 2369.67,6,   7.5830,2, -999.00,9, -999.00,9, -999.00,    45.4,2, -999.00,9,     -999.0,1,  -999.0,9, 20170717,     1445, -30.0802, 172.7993,        0.0,1,      0.062,1,      2.456,1,      0.174,1,      25.04,     -999.0,9,     -999.0,9,     -999.0,9,     -999.0,9,     2.7153,2,     -999.0,9
320620170703,        P06,      66,          1,          2,          2,2,20170717,       1544,   -30.0803,   172.7992,       1767,  1662.5,   3.1287,  34.5654,2,  34.5661,2, 162.3911,2, 162.3035,2,    87.3,2,   33.95,2,    0.00,2,    2.34,2,-999.000,9,-999.000,9,-999.0000,9,  -999.0,9, -999.00,9,-999.0000,9, -999.00,9, -999.00,9, -999.00,  -999.0,9, -999.00,9,     -999.0,9,  -999.0,9, 20170717,     1448, -30.0802, 172.7990,        0.0,1,      0.061,1,      4.496,1,      0.155,1,     -999.0,     -999.0,9,     -999.0,9,     -999.0,9,     -999.0,9,     3.1275,2,     -999.0,9
320620170703,        P06,      66,          1,          3,         38,2,20170717,       1544,   -30.0803,   172.7992,       1767,  1550.1,   3.3750,  34.5461,2,  34.5443,2, 165.0700,2, 165.3639,2,    80.4,2,   33.50,2,    0.00,2,    2.31,2,-999.000,9,-999.000,9,-999.0000,9,  -999.0,9, -999.00,9,-999.0000,9, -999.00,9, -999.00,9, -999.00,    45.7,2, -999.00,9,     -999.0,1,  -999.0,9, 20170717,     1451, -30.0801, 172.7990,        0.0,1,      0.060,1,      4.484,1,      0.158,1,     -999.0,     -999.0,9,     -999.0,9,     -999.0,9,     -999.0,9,     3.3636,2,     -999.0,9
320620170703,        P06,      66,          1,          4,          4,2,20170717,       1544,   -30.0803,   172.7992,       1767,  1447.6,   3.8140,  34.5166,2,  34.5182,2, 170.7921,2, 170.9461,2,    69.2,2,   32.60,2,    0.00,2,    2.24,2,-999.000,9,-999.000,9,-999.0000,9,  2243.3,2, 2337.19,2,   7.6010,2, -999.00,9, -999.00,9, -999.00,    40.5,2, -999.00,9,     -999.0,1,  -999.0,9, 20170717,     1454, -30.0802, 172.7992,        0.0,1,      0.060,1,      4.570,1,      0.146,1,      25.03,     -999.0,9,     -999.0,9,     -999.0,9,     -999.0,9,     3.8129,2,     -999.0,9
320620170703,        P06,      66,          1,          5,         39,2,20170717,       1544,   -30.0803,   172.7992,       1767,  1347.2,   4.0060,  34.5062,2,  34.5066,2, 172.7273,2, 172.7849,2,    64.8,2,   32.23,2,    0.00,2,    2.21,2,-999.000,9,-999.000,9,-999.0000,9,  -999.0,9, -999.00,9,-999.0000,9, -999.00,9, -999.00,9, -999.00,    42.7,2, -999.00,9,     -999.0,1,  -999.0,9, 20170717,     1457, -30.0803, 172.7993,        0.0,1,      0.060,1,      4.561,1,      0.143,1,     -999.0,     -999.0,9,     -999.0,9,     -999.0,9,     -999.0,9,     4.0049,2,     -999.0,9
320620170703,        P06,      66,          1,          6,          6,2,20170717,       1544,   -30.0803,   172.7992,       1767,  1246.7,   4.5118,  34.4812,2,  34.4811,2, 179.2250,2, 179.2728,2,    53.2,2,   31.14,2,    0.00,2,    2.11,2,-999.000,9,-999.000,9,-999.0000,9,  -999.0,9, -999.00,9,-999.0000,9, -999.00,9, -999.00,9, -999.00,    44.7,2, -999.00,9,     -999.0,1,  -999.0,9, 20170717,     1500, -30.0803, 172.7993,        0.0,1,      0.060,1,      4.522,1,      0.142,1,     -999.0,     -999.0,9,     -999.0,9,     -999.0,9,     -999.0,9,     4.5173,2,     -999.0,9
320620170703,        P06,      66,          1,          7,         40,2,20170717,       1544,   -30.0803,   172.7992,       1767,  1146.6,   4.8985,  34.4784,2,  34.4773,2, 183.0414,2, 182.7791,2,    47.8,2,   30.21,2,    0.00,2,    2.06,2,-999.000,9,-999.000,9,-999.0000,9,  -999.0,9, -999.00,9,-999.0000,9, -999.00,9, -999.00,9, -999.00,    42.6,2, -999.00,9,     -999.0,1,  -999.0,9, 20170717,     1502, -30.0803, 172.7994,        0.0,1,      0.061,1,      4.434,1,      0.143,1,     -999.0,     -999.0,9,     -999.0,9,     -999.0,9,     -999.0,9,     4.8597,2,     -999.0,9
320620170703,        P06,      66,          1,          8,          8,2,20170717,       1544,   -30.0803,   172.7992,       1767,  1044.3,   5.7210,  34.4699,2,  34.4687,2, 192.5133,2, 192.0359,2,    34.2,2,   28.17,2,    0.00,2,    1.91,2,-999.000,9,-999.000,9,-999.0000,9,  -999.0,9, -999.00,9,-999.0000,9, -999.00,9, -999.00,9, -999.00,    43.1,2, -999.00,9,     -999.0,1,  -999.0,9, 20170717,     1505, -30.0803, 172.7995,        0.0,1,      0.059,1,      4.597,1,      0.141,1,     -999.0,     -999.0,9,     -999.0,9,     -999.0,9,     -999.0,9,     5.7065,2,     -999.0,9
320620170703,        P06,      66,          1,          9,         41,2,20170717,       1544,   -30.0803,   172.7992,       1767,   944.0,   6.4358,  34.4734,2,  34.4695,2, 198.6837,2, 198.9156,2,    25.6,2,   26.63,2,    0.00,2,    1.79,2,-999.000,9,-999.000,9,-999.0000,9,  -999.0,9, -999.00,9,-999.0000,9, -999.00,9, -999.00,9, -999.00,    41.8,2, -999.00,9,     -999.0,1,  -999.0,9, 20170717,     1508, -30.0803, 172.7995,        0.0,1,      0.059,1,      4.678,1,      0.141,1,     -999.0,     -999.0,9,     -999.0,9,     -999.0,9,     -999.0,9,     6.2937,2,     -999.0,9
320620170703,        P06,      66,          1,         10,         10,2,20170717,       1544,   -30.0803,   172.7992,       1767,   842.1,   7.0682,  34.4943,2,  34.4864,2, 204.4669,2, 205.1736,2,    18.5,2,   24.79,2,    0.00,2,    1.65,2,-999.000,9,-999.000,9,-999.0000,9,  2165.5,2, 2287.22,2,   7.6826,2, -999.00,9, -999.00,9, -999.00,    43.7,2, -999.00,9,     -999.0,1,  -999.0,9, 20170717,     1511, -30.0803, 172.7993,        0.0,1,      0.059,1,      4.546,1,      0.140,1,      25.03,     -999.0,9,     -999.0,9,     -999.0,9,     -999.0,9,     6.9466,2,     -999.0,9
320620170703,        P06,      66,          1,         11,         42,2,20170717,       1544,   -30.0803,   172.7992,       1767,   741.4,   8.0011,  34.5601,2,  34.5563,2, 206.8671,2, 206.3191,2,    12.6,2,   22.38,2,    0.00,2,    1.50,2,-999.000,9,-999.000,9,-999.0000,9,  -999.0,9, -999.00,9,-999.0000,9, -999.00,9, -999.00,9, -999.00,    45.8,2, -999.00,9,     -999.0,1,  -999.0,9, 20170717,     1514, -30.0802, 172.7991,        0.0,1,      0.059,1,      2.136,1,      0.144,1,     -999.0,     -999.0,9,     -999.0,9,     -999.0,9,     -999.0,9,     7.9626,2,     -999.0,9
320620170703,        P06,      66,          1,         12,         12,2,20170717,       1544,   -30.0803,   172.7992,       1767,   640.3,   9.0597,  34.6568,2,  34.6684,2, 205.5031,2, 205.3284,2,     9.4,2,   20.23,2,    0.00,2,    1.36,2,-999.000,9,-999.000,9,-999.0000,9,  2151.4,2, 2289.14,2,   7.7246,2, -999.00,9, -999.00,9, -999.00,    42.9,2, -999.00,9,     -999.0,1,  -999.0,9, 20170717,     1516, -30.0801, 172.7988,        0.0,1,      0.061,1,      4.683,1,      0.145,1,      25.04,     -999.0,9,     -999.0,9,     -999.0,9,     -999.0,9,     8.9332,2,     -999.0,9
320620170703,        P06,      66,          1,         13,         43,2,20170717,       1544,   -30.0803,   172.7992,       1767,   539.9,  10.7674,  34.8637,2,  34.8747,2, 201.0286,2, 200.4359,2,     6.7,2,   16.51,2,    0.00,2,    1.09,2,-999.000,9,-999.000,9,-999.0000,9,  -999.0,9, -999.00,9,-999.0000,9, -999.00,9, -999.00,9, -999.00,    45.2,2, -999.00,9,     -999.0,1,  -999.0,9, 20170717,     1519, -30.0801, 172.7988,        0.0,1,      0.060,1,      3.788,1,      0.144,1,     -999.0,     -999.0,9,     -999.0,9,     -999.0,9,     -999.0,9,    10.8348,2,     -999.0,9
320620170703,        P06,      66,          1,         14,         14,2,20170717,       1544,   -30.0803,   172.7992,       1767,   468.0,  12.1391,  35.0277,2,  35.0313,2, 199.9228,2, 199.9497,2,     5.0,2,   13.66,2,    0.00,2,    0.93,2,-999.000,9,-999.000,9,-999.0000,9,  -999.0,9, -999.00,9,-999.0000,9, -999.00,9, -999.00,9, -999.00,    47.8,2, -999.00,9,     -999.0,1,  -999.0,9, 20170717,     1521, -30.0801, 172.7989,        0.0,1,      0.060,1,      4.185,1,      0.146,1,     -999.0,     -999.0,9,     -999.0,9,     -999.0,9,     -999.0,9,    12.1743,2,     -999.0,9
320620170703,        P06,      66,          1,         15,         15,2,20170717,       1544,   -30.0803,   172.7992,       1767,   417.2,  13.0989,  35.1423,2,  35.1394,2, 199.0069,2, 199.6302,2,     3.9,2,   11.82,2,    0.00,2,    0.81,2,-999.000,9,-999.000,9,-999.0000,9,  -999.0,9, -999.00,9,-999.0000,9, -999.00,9, -999.00,9, -999.00,    50.3,3, -999.00,9,     -999.0,1,  -999.0,9, 20170717,     1523, -30.0802, 172.7991,        0.0,1,      0.061,1,      4.007,1,      0.149,1,     -999.0,     -999.0,9,     -999.0,9,     -999.0,9,     -999.0,9,    13.0856,2,     -999.0,9
320620170703,        P06,      66,          1,         16,         16,2,20170717,       1544,   -30.0803,   172.7992,       1767,   367.1,  13.9549,  35.2318,2,  35.2296,2, 196.8282,2, 197.3650,2,     3.1,2,   10.52,2,    0.00,2,    0.72,2,-999.000,9,-999.000,9,-999.0000,9,  -999.0,9, -999.00,9,-999.0000,9, -999.00,9, -999.00,9, -999.00,    46.3,2, -999.00,9,     -999.0,1,  -999.0,9, 20170717,     1525, -30.0803, 172.7992,        0.0,1,      0.059,1,      1.954,1,      0.144,1,     -999.0,     -999.0,9,     -999.0,9,     -999.0,9,     -999.0,9,    13.9393,2,     -999.0,9
320620170703,        P06,      66,          1,         17,         17,2,20170717,       1544,   -30.0803,   172.7992,       1767,   316.8,  14.4134,  35.2908,2,  35.2822,2, 196.3508,2, 197.2440,2,     3.0,2,    9.92,2,    0.00,2,    0.68,2,-999.000,9,-999.000,9,-999.0000,9,  2115.0,2, 2310.50,2,   7.8485,2, -999.00,9, -999.00,9, -999.00,    45.4,2, -999.00,9,     -999.0,1,  -999.0,9, 20170717,     1527, -30.0803, 172.7992,        0.0,1,      0.059,1,      4.022,1,      0.146,1,      25.03,     -999.0,9,     -999.0,9,     -999.0,9,     -999.0,9,    14.3034,2,     -999.0,9
320620170703,        P06,      66,          1,         18,         18,2,20170717,       1544,   -30.0803,   172.7992,       1767,   267.1,  16.1708,  35.4598,2,  35.4054,2, 195.4408,2, 195.2468,2,     2.1,2,    7.98,2,    0.00,2,    0.55,2,-999.000,9,-999.000,9,-999.0000,9,  -999.0,9, -999.00,9,-999.0000,9, -999.00,9, -999.00,9, -999.00,    48.0,2,   10.00,2,     -999.0,1,  -999.0,9, 20170717,     1529, -30.0804, 172.7993,        0.0,1,      0.060,1,      0.450,1,      0.146,1,     -999.0,     -999.0,9,     -999.0,9,     -999.0,9,     -999.0,9,    15.6516,2,     -999.0,9
320620170703,        P06,      66,          1,         19,         19,2,20170717,       1544,   -30.0803,   172.7992,       1767,   215.2,  17.8259,  35.6151,2,  35.5046,2, 197.7445,2, 196.4477,2,     1.5,2,    6.47,2,    0.00,2,    0.45,2,-999.000,9,-999.000,9,-999.0000,9,  -999.0,9, -999.00,9,-999.0000,9, -999.00,9, -999.00,9, -999.00,    50.2,2,    9.90,2,     -999.0,1,  -999.0,9, 20170717,     1531, -30.0804, 172.7994,        0.0,1,      0.067,1,      4.672,1,      0.159,1,     -999.0,     -999.0,9,     -999.0,9,     -999.0,9,     -999.0,9,    16.6701,2,     -999.0,9
320620170703,        P06,      66,          1,         20,         20,2,20170717,       1544,   -30.0803,   172.7992,       1767,   186.6,  18.3847,  35.7194,2,  35.6617,2, 218.7863,3, 215.7979,2,     0.5,2,    2.53,2,    0.17,2,    0.22,2,-999.000,9,-999.000,9,-999.0000,9,  -999.0,9, -999.00,9,-999.0000,9, -999.00,9, -999.00,9, -999.00,    55.3,2,    6.10,2,     -999.0,1,  -999.0,9, 20170717,     1533, -30.0804, 172.7994,        0.0,1,      0.127,1,      4.645,1,      0.189,1,     -999.0,     -999.0,9,     -999.0,9,     -999.0,9,     -999.0,9,    18.2251,2,     -999.0,9
320620170703,        P06,      66,          1,         21,         21,2,20170717,       1544,   -30.0803,   172.7992,       1767,   160.8,  18.5867,  35.7572,2,  35.7167,2, 223.2953,2, 223.2822,2,     0.3,2,    1.29,2,    0.22,2,    0.15,2,-999.000,9,-999.000,9,-999.0000,9,  -999.0,9, -999.00,9,-999.0000,9, -999.00,9, -999.00,9, -999.00,    58.3,2,    5.10,2,     -999.0,1,  -999.0,9, 20170717,     1534, -30.0803, 172.7993,        0.0,1,      0.180,1,      4.617,1,      0.208,1,     -999.0,     -999.0,9,     -999.0,9,     -999.0,9,     -999.0,9,    18.3700,2,     -999.0,9
320620170703,        P06,      66,          1,         22,         22,2,20170717,       1544,   -30.0803,   172.7992,       1767,   135.7,  18.9270,  35.7973,2,  35.7756,2, 224.8548,2, 225.2034,2,     0.3,2,    0.99,2,    0.17,2,    0.12,2,-999.000,9,-999.000,9,-999.0000,9,  2064.0,2, 2352.88,2,   7.9952,2, -999.00,9, -999.00,9, -999.00,    60.0,2,    4.80,2,     -999.0,1,  -999.0,9, 20170717,     1536, -30.0803, 172.7992,        0.0,1,      0.170,1,      3.530,1,      0.205,1,      25.04,     -999.0,9,     -999.0,9,     -999.0,9,     -999.0,9,    18.6708,2,     -999.0,9
320620170703,        P06,      66,          1,         23,         23,2,20170717,       1544,   -30.0803,   172.7992,       1767,   110.1,  18.9250,  35.7965,2,  35.7942,2, 224.8446,2, 224.1140,2,     0.2,2,    0.88,2,    0.17,2,    0.12,2,-999.000,9,-999.000,9,-999.0000,9,  -999.0,9, -999.00,9,-999.0000,9, -999.00,9, -999.00,9, -999.00,    56.5,2,    5.80,2,     -999.0,1,  -999.0,9, 20170717,     1538, -30.0803, 172.7992,        0.0,1,      0.146,1,      4.202,1,      0.198,1,     -999.0,     -999.0,9,     -999.0,9,     -999.0,9,     -999.0,9,    18.8909,2,     -999.0,9
320620170703,        P06,      66,          1,         24,         24,2,20170717,       1544,   -30.0803,   172.7992,       1767,    86.1,  18.9980,  35.8022,2,  35.8013,2, 222.7098,2, 223.1577,2,     0.2,2,    0.84,2,    0.20,2,    0.11,2,-999.000,9,-999.000,9,-999.0000,9,  -999.0,9, -999.00,9,-999.0000,9, -999.00,9, -999.00,9, -999.00,    57.8,2,    5.00,2,     -999.0,1,  -999.0,9, 20170717,     1539, -30.0803, 172.7992,        0.0,1,      0.160,1,      3.758,1,      0.201,1,     -999.0,     -999.0,9,     -999.0,9,     -999.0,9,     -999.0,9,    18.9721,2,     -999.0,9
320620170703,        P06,      66,          1,         25,         25,2,20170717,       1544,   -30.0803,   172.7992,       1767,    59.5,  18.9976,  35.8035,2,  35.8040,2, 222.7260,2, 222.9099,2,     0.2,2,    0.88,2,    0.19,2,    0.11,2,-999.000,9,-999.000,9,-999.0000,9,  -999.0,9, -999.00,9,-999.0000,9, -999.00,9, -999.00,9, -999.00,    59.8,2,    4.70,2,     -999.0,1,  -999.0,9, 20170717,     1541, -30.0803, 172.7992,        0.0,1,      0.165,1,      4.630,1,      0.199,1,     -999.0,     -999.0,9,     -999.0,9,     -999.0,9,     -999.0,9,    18.9925,2,     -999.0,9
320620170703,        P06,      66,          1,         26,         26,2,20170717,       1544,   -30.0803,   172.7992,       1767,    34.9,  18.9955,  35.8039,2,  35.8030,2, 223.2531,2, 222.7950,2,     0.2,2,    0.91,2,    0.19,2,    0.14,2,-999.000,9,-999.000,9,-999.0000,9,  -999.0,9, -999.00,9,-999.0000,9, -999.00,9, -999.00,9, -999.00,    59.5,2,    6.10,2,     -999.0,1,  -999.0,9, 20170717,     1542, -30.0803, 172.7992,        0.0,1,      0.165,1,      4.630,1,      0.196,1,     -999.0,     -999.0,9,     -999.0,9,     -999.0,9,     -999.0,9,    18.9903,2,     -999.0,9
320620170703,        P06,      66,          1,         27,         27,2,20170717,       1544,   -30.0803,   172.7992,       1767,     5.1,  18.9899,  35.8028,2,  35.8040,2, 223.8294,2, 223.0376,2,     0.3,2,    0.90,2,    0.19,2,    0.14,2,-999.000,9,-999.000,9,-999.0000,9,  2062.5,6, 2338.18,2,   7.9984,2, -999.00,9, -999.00,9, -999.00,    60.6,2,    4.70,2,     -999.0,1,  -999.0,9, 20170717,     1544, -30.0803, 172.7992,        0.0,1,      0.177,1,      3.679,1,      0.197,1,      25.04,     -999.0,9,     -999.0,9,     -999.0,9,     -999.0,9,    18.9989,2,     -999.0,9