BOTTLE,20230922CCHSIOCBG
EXPOCODE,SECT_ID,STNNBR,CASTNO,SAMPNO,BTLNBR,BTLNBR_FLAG_W,DATE,TIME,LATITUDE,LONGITUDE,DEPTH,CTDPRS,CTDTMP,CTDSAL,CTDSAL_FLAG_W,SALNTY,SALNTY_FLAG_W,CTDOXY,CTDOXY_FLAG_W,OXYGEN,OXYGEN_FLAG_W,SILCAT,SILCAT_FLAG_W,NITRAT,NITRAT_FLAG_W,NITRIT,NITRIT_FLAG_W,PHSPHT,PHSPHT_FLAG_W,CFC-11,CFC-11_FLAG_W,CFC-12,CFC-12_FLAG_W,SF6,SF6_FLAG_W,TCARBN,TCARBN_FLAG_W,ALKALI,ALKALI_FLAG_W,PH_TOT,PH_TOT_FLAG_W,DELC13,DELC13_FLAG_W,DELC14,DELC14_FLAG_W,C14ERR,DOC,DOC_FLAG_W,TDN,TDN_FLAG_W,TON,TON_FLAG_W,D15N_NO3,D15N_NO3_FLAG_W,BTL_DATE,BTL_TIME,BTL_LAT,BTL_LON,CTDRINKO,CTDRINKO_FLAG_W,CTDFLUOR,CTDFLUOR_FLAG_W,CTDXMISS,CTDXMISS_FLAG_W,CTDBACKSCATTER,CTDBACKSCATTER_FLAG_W,PH_TMP,D18O_NO3,D18O_NO3_FLAG_W,DOP,DOP_FLAG_W,HPLC,HPLC_FLAG_W,POC,POC_FLAG_W,REFTMP,REFTMP_FLAG_W,TDP,TDP_FLAG_W
,,,,,,,,,,,METERS,DBAR,ITS-90,PSS-78,,PSS-78,,UMOL/KG,,UMOL/KG,,UMOL/KG,,UMOL/KG,,UMOL/KG,,UMOL/KG,,PMOL/KG,,PMOL/KG,,FMOL/KG,,UMOL/KG,,UMOL/KG,,,,/MILLE,,/MILLE,,/MILLE,UMOL/KG,,UMOL/KG,,UMOL/KG,,/MILLE,,,,,,VOLTS,,VOLTS,,VOLTS,,VOLTS,,DEGC,/MILLE,,UMOL/KG,,,,UG/L,,ITS-90,,UMOL/KG,
320620170703,        P06,      15,          1,         33,         33,2,20170707,       1748,   -30.0797,   156.2325,       4743,    86.4,  20.3549,  35.7970,2,  35.7993,2, 217.3840,2, 217.8313,2,     0.2,2,    0.50,2,    0.29,2,    0.12,2,-999.000,9,-999.000,9,-999.0000,9,  2046.1,2, 2341.70,2,   8.0239,2, -999.00,9, -999.00,9, -999.00,  -999.0,9, -999.00,9,     -999.0,9,  -999.0,9, 20170707,     1741, -30.0797, 156.2326,        0.0,1,      0.155,1,      4.638,1,      0.198,1,      25.00,     -999.0,9,     -999.0,9,     -999.0,9,     -999.0,9,    20.3497,2,     -999.0,9
320620170703,        P06,      15,          1,         34,         34,2,20170707,       1748,   -30.0797,   156.2325,       4743,    61.6,  20.3658,  35.7928,2,  35.7961,2, 219.1481,2, 219.0088,2,     0.2,2,    0.40,2,    0.23,2,    0.10,2,-999.000,9,-999.000,9,-999.0000,9,  2047.9,2, 2344.38,2,   8.0251,2, -999.00,9, -999.00,9, -999.00,  -999.0,9, -999.00,9,     -999.0,9,  -999.0,9, 20170707,     1744, -30.0798, 156.2326,        0.0,1,      0.208,1,      4.614,1,      0.219,1,      25.01,     -999.0,9,     -999.0,9,     -999.0,9,     -999.0,9,    20.3687,2,     -999.0,9
320620170703,        P06,      15,          1,         35,         35,2,20170707,       1748,   -30.0797,   156.2325,       4743,    34.9,  20.3629,  35.7900,2,  35.7957,2, 219.1425,2, 219.0751,2,     0.2,2,    0.40,2,    0.21,2,    0.12,2,-999.000,9,-999.000,9,-999.0000,9,  2044.7,2, 2342.37,2,   8.0247,2, -999.00,9, -999.00,9, -999.00,  -999.0,9, -999.00,9,     -999.0,9,  -999.0,9, 20170707,     1746, -30.0797, 156.2326,        0.0,1,      0.212,1,      4.615,1,      0.211,1,      25.00,     -999.0,9,     -999.0,9,     -999.0,9,     -999.0,9,    20.3839,2,     -999.0,9
320620170703,        P06,      15,          1,         36,         36,2,20170707,       1748,   -30.0797,   156.2325,       4743,     5.7,  20.3601,  35.7885,2,  35.8001,2, 217.8840,2, 217.8884,2,     0.2,2,    0.35,2,    0.26,2,    0.12,2,-999.000,9,-999.000,9,-999.0000,9,  2047.8,6, 2342.57,2,   8.0224,2, -999.00,9, -999.00,9, -999.00,  -999.0,9, -999.00,9,     -999.0,9,  -999.0,9, 20170707,     1748, -30.0797, 156.2325,        0.0,1,      0.206,1,      4.616,1,      0.203,1,      25.04,     -999.0,9,     -999.0,9,     -999.0,9,     -999.0,9,    20.4143,2,     -999.0,9