BOTTLE,20230922CCHSIOCBG
EXPOCODE,SECT_ID,STNNBR,CASTNO,SAMPNO,BTLNBR,BTLNBR_FLAG_W,DATE,TIME,LATITUDE,LONGITUDE,DEPTH,CTDPRS,CTDTMP,CTDSAL,CTDSAL_FLAG_W,SALNTY,SALNTY_FLAG_W,CTDOXY,CTDOXY_FLAG_W,OXYGEN,OXYGEN_FLAG_W,SILCAT,SILCAT_FLAG_W,NITRAT,NITRAT_FLAG_W,NITRIT,NITRIT_FLAG_W,PHSPHT,PHSPHT_FLAG_W,CFC-11,CFC-11_FLAG_W,CFC-12,CFC-12_FLAG_W,SF6,SF6_FLAG_W,TCARBN,TCARBN_FLAG_W,ALKALI,ALKALI_FLAG_W,PH_TOT,PH_TOT_FLAG_W,DELC13,DELC13_FLAG_W,DELC14,DELC14_FLAG_W,C14ERR,DOC,DOC_FLAG_W,TDN,TDN_FLAG_W,TON,TON_FLAG_W,D15N_NO3,D15N_NO3_FLAG_W,BTL_DATE,BTL_TIME,BTL_LAT,BTL_LON,CTDRINKO,CTDRINKO_FLAG_W,CTDFLUOR,CTDFLUOR_FLAG_W,CTDXMISS,CTDXMISS_FLAG_W,CTDBACKSCATTER,CTDBACKSCATTER_FLAG_W,PH_TMP,D18O_NO3,D18O_NO3_FLAG_W,DOP,DOP_FLAG_W,HPLC,HPLC_FLAG_W,POC,POC_FLAG_W,REFTMP,REFTMP_FLAG_W,TDP,TDP_FLAG_W
,,,,,,,,,,,METERS,DBAR,ITS-90,PSS-78,,PSS-78,,UMOL/KG,,UMOL/KG,,UMOL/KG,,UMOL/KG,,UMOL/KG,,UMOL/KG,,PMOL/KG,,PMOL/KG,,FMOL/KG,,UMOL/KG,,UMOL/KG,,,,/MILLE,,/MILLE,,/MILLE,UMOL/KG,,UMOL/KG,,UMOL/KG,,/MILLE,,,,,,VOLTS,,VOLTS,,VOLTS,,VOLTS,,DEGC,/MILLE,,UMOL/KG,,,,UG/L,,ITS-90,,UMOL/KG,
320620170703,        P06,      64,          1,          1,         37,2,20170717,       0550,   -30.0798,   171.9994,       2754,  2782.3,   1.8897,  34.6728,2,  34.6726,2, 154.2991,2, 153.9650,2,   122.7,2,   35.10,2,    0.00,2,    2.43,2,   0.043,2,   0.024,2,-999.0000,5,  2307.5,6, 2395.58,2,   7.5778,2, -999.00,9, -999.00,9, -999.00,    38.0,2, -999.00,9,     -999.0,1,  -999.0,1, 20170717,      419, -30.0798, 171.9994,        0.0,1,      0.062,1,      2.402,1,      0.150,1,      25.05,     -999.0,1,     -999.0,9,     -999.0,9,     -999.0,9,     1.8912,2,     -999.0,9
320620170703,        P06,      64,          1,          2,          2,2,20170717,       0550,   -30.0798,   171.9994,       2754,  2669.4,   1.9496,  34.6676,2,  34.6673,2, 154.3875,2, 154.6803,2,   121.0,2,   35.09,2,    0.00,2,    2.43,2,-999.000,9,-999.000,9,-999.0000,9,  2304.6,2, 2391.92,2,   7.5783,2, -999.00,9, -999.00,9, -999.00,  -999.0,9, -999.00,9,     -999.0,9,  -999.0,1, 20170717,      423, -30.0797, 171.9993,        0.0,1,      0.061,1,      0.059,1,      0.153,1,      25.02,     -999.0,1,     -999.0,9,     -999.0,9,     -999.0,9,     1.9475,2,     -999.0,9
320620170703,        P06,      64,          1,          3,         38,2,20170717,       0550,   -30.0798,   171.9994,       2754,  2568.4,   1.9967,  34.6634,2,  34.6627,2, 154.5916,2, 158.1372,3,   120.0,2,   35.07,2,    0.00,2,    2.43,2,   0.043,2,   0.028,2,-999.0000,5,  2303.6,2, 2392.40,2,   7.5773,2, -999.00,9, -999.00,9, -999.00,    37.1,2, -999.00,9,     -999.0,1,  -999.0,1, 20170717,      425, -30.0797, 171.9994,        0.0,1,      0.062,1,      0.057,1,      0.147,1,      25.04,     -999.0,1,     -999.0,9,     -999.0,9,     -999.0,9,     1.9963,2,     -999.0,9
320620170703,        P06,      64,          1,          4,          4,2,20170717,       0550,   -30.0798,   171.9994,       2754,  2364.4,   2.0681,  34.6566,2,  34.6567,2, 154.3471,2, 154.5223,2,   118.1,2,   35.03,2,    0.00,2,    2.42,2,-999.000,9,-999.000,9,-999.0000,9,  2301.6,2, 2388.76,2,   7.5772,2, -999.00,9, -999.00,9, -999.00,  -999.0,9, -999.00,9,     -999.0,9,  -999.0,1, 20170717,      430, -30.0798, 171.9994,        0.0,1,      0.061,1,      0.050,1,      0.147,1,      25.03,     -999.0,1,     -999.0,9,     -999.0,9,     -999.0,9,     2.0650,2,     -999.0,9
320620170703,        P06,      64,          1,          5,         39,2,20170717,       0550,   -30.0798,   171.9994,       2754,  2159.6,   2.2406,  34.6425,2,  34.6419,2, 155.0611,2, 155.0164,2,   112.7,2,   34.85,2,    0.00,2,    2.41,2,   0.072,2,   0.041,2,-999.0000,5,  2296.0,2, 2383.63,2,   7.5796,2, -999.00,9, -999.00,9, -999.00,    40.2,2, -999.00,9,     -999.0,1,  -999.0,1, 20170717,      435, -30.0798, 171.9994,        0.0,1,      0.061,1,      0.032,1,      0.150,1,      25.03,     -999.0,1,     -999.0,9,     -999.0,9,     -999.0,9,     2.2437,2,     -999.0,9
320620170703,        P06,      64,          1,          6,          6,2,20170717,       0550,   -30.0798,   171.9994,       2754,  1987.4,   2.3978,  34.6302,2,  34.6291,2, 155.9609,2, 155.9845,2,   108.2,2,   34.64,2,    0.00,2,    2.39,2,-999.000,9,-999.000,9,-999.0000,9,  2291.9,2, 2380.83,2,   7.5797,2, -999.00,9, -999.00,9, -999.00,    38.6,2, -999.00,9,     -999.0,1,  -999.0,1, 20170717,      439, -30.0798, 171.9994,        0.0,1,      0.061,1,      0.050,1,      0.149,1,      25.02,     -999.0,1,     -999.0,9,     -999.0,9,     -999.0,9,     2.4056,2,     -999.0,9
320620170703,        P06,      64,          1,          7,         40,2,20170717,       0550,   -30.0798,   171.9994,       2754,  1886.1,   2.6122,  34.6128,2,  34.6109,2, 157.2922,2, 156.9933,2,   101.7,2,   34.40,2,    0.00,2,    2.38,2,   0.117,2,   0.071,2,-999.0000,5,  2284.8,2, 2372.22,6,   7.5816,2, -999.00,9, -999.00,9, -999.00,  -999.0,9, -999.00,9,     -999.0,9,  -999.0,1, 20170717,      442, -30.0799, 171.9995,        0.0,1,      0.061,1,      0.032,1,      0.147,1,      25.04,     -999.0,1,     -999.0,9,     -999.0,9,     -999.0,9,     2.6341,2,     -999.0,9
320620170703,        P06,      64,          1,          8,          8,2,20170717,       0550,   -30.0798,   171.9994,       2754,  1782.8,   2.7294,  34.6027,2,  34.5977,2, 158.4297,2, 158.3959,2,    97.4,2,   34.15,2,    0.00,2,    2.36,2,-999.000,9,-999.000,9,-999.0000,9,  2279.6,2, 2365.16,2,   7.5824,2, -999.00,9, -999.00,9, -999.00,    38.5,2, -999.00,9,     -999.0,1,  -999.0,1, 20170717,      445, -30.0799, 171.9995,        0.0,1,      0.061,1,      0.070,1,      0.145,1,      25.04,     -999.0,1,     -999.0,9,     -999.0,9,     -999.0,9,     2.7814,2,     -999.0,9
320620170703,        P06,      64,          1,          9,         41,2,20170717,       0550,   -30.0798,   171.9994,       2754,  1682.1,   2.9073,  34.5865,2,  34.5855,2, 159.9925,2, 160.0692,2,    93.4,2,   33.97,2,    0.00,2,    2.35,2,   0.188,2,   0.135,2,-999.0000,5,  2274.9,2, 2361.18,2,   7.5839,2, -999.00,9, -999.00,9, -999.00,  -999.0,9, -999.00,9,     -999.0,9,  -999.0,1, 20170717,      447, -30.0799, 171.9995,        0.0,1,      0.062,1,      0.057,1,      0.144,1,      25.02,     -999.0,1,     -999.0,9,     -999.0,9,     -999.0,9,     2.9249,2,     -999.0,9
320620170703,        P06,      64,          1,         10,         10,2,20170717,       0550,   -30.0798,   171.9994,       2754,  1581.9,   3.2040,  34.5610,2,  34.5580,2, 162.9724,2, 163.8566,2,    84.4,2,   33.54,2,    0.00,2,    2.31,2,-999.000,9,-999.000,9,-999.0000,9,  2264.1,2, 2355.06,2,   7.5878,2, -999.00,9, -999.00,9, -999.00,    38.7,2, -999.00,9,     -999.0,1,  -999.0,1, 20170717,      450, -30.0800, 171.9996,        0.0,1,      0.061,1,      0.075,1,      0.143,1,      25.03,     -999.0,1,     -999.0,9,     -999.0,9,     -999.0,9,     3.2150,2,     -999.0,9
320620170703,        P06,      64,          1,         11,         42,2,20170717,       0550,   -30.0798,   171.9994,       2754,  1481.4,   3.4486,  34.5403,2,  34.5358,3, 166.3262,2, 165.6391,2,    76.3,2,   33.11,2,    0.00,2,    2.28,2,   0.286,2,   0.148,2,-999.0000,5,  2253.5,6, 2346.65,2,   7.5921,2, -999.00,9, -999.00,9, -999.00,  -999.0,9, -999.00,9,     -999.0,9,  -999.0,1, 20170717,      453, -30.0799, 171.9995,        0.0,1,      0.061,1,      0.053,1,      0.145,1,      25.03,     -999.0,1,     -999.0,9,     -999.0,9,     -999.0,9,     3.5135,2,     -999.0,9
320620170703,        P06,      64,          1,         12,         12,2,20170717,       0550,   -30.0798,   171.9994,       2754,  1378.6,   3.8480,  34.5136,2,  34.5125,2, 170.5811,2, 170.2213,2,    67.2,2,   32.41,2,    0.00,2,    2.22,2,-999.000,9,-999.000,9,-999.0000,9,  2242.7,2, 2332.36,2,   7.5978,2, -999.00,9, -999.00,9, -999.00,    39.8,2, -999.00,9,     -999.0,1,  -999.0,1, 20170717,      456, -30.0799, 171.9995,        0.0,1,      0.061,1,      0.073,1,      0.142,1,      25.02,     -999.0,1,     -999.0,9,     -999.0,9,     -999.0,9,     3.8887,2,     -999.0,9
320620170703,        P06,      64,          1,         13,         43,2,20170717,       0550,   -30.0798,   171.9994,       2754,  1276.8,   4.3548,  34.4925,2,  34.4926,2, 175.6185,2, 175.7216,2,    56.8,2,   31.40,2,    0.00,2,    2.14,2,   0.526,2,   0.287,2,-999.0000,5,  2228.1,2, 2322.02,2,   7.6092,2, -999.00,9, -999.00,9, -999.00,  -999.0,9, -999.00,9,     -999.0,9,  -999.0,1, 20170717,      459, -30.0797, 171.9993,        0.0,1,      0.060,1,      0.126,1,      0.143,1,      25.02,     -999.0,1,     -999.0,9,     -999.0,9,     -999.0,9,     4.3654,2,     -999.0,9
320620170703,        P06,      64,          1,         14,         14,2,20170717,       0550,   -30.0798,   171.9994,       2754,  1176.4,   4.9219,  34.4717,2,  34.4681,2, 182.1538,2, 182.1789,2,    46.0,2,   30.23,2,    0.00,2,    2.06,2,-999.000,9,-999.000,9,-999.0000,9,  2212.0,2, 2313.34,2,   7.6219,2, -999.00,9, -999.00,9, -999.00,    39.5,2, -999.00,9,     -999.0,1,  -999.0,1, 20170717,      502, -30.0798, 171.9994,        0.0,1,      0.060,1,      0.287,1,      0.142,1,      25.03,     -999.0,1,     -999.0,9,     -999.0,9,     -999.0,9,     4.8711,2,     -999.0,9
320620170703,        P06,      64,          1,         15,         15,2,20170717,       0550,   -30.0798,   171.9994,       2754,  1076.2,   5.7244,  34.4936,2,  34.4893,2, 185.7319,2, 185.7643,2,    38.0,2,   28.62,2,    0.00,2,    1.94,2,   0.980,2,   0.547,2,-999.0000,5,  2201.0,2, 2304.71,2,   7.6391,2, -999.00,9, -999.00,9, -999.00,    41.0,2, -999.00,9,     -999.0,1,  -999.0,1, 20170717,      505, -30.0800, 171.9995,        0.0,1,      0.060,1,      0.268,1,      0.144,1,      25.02,     -999.0,1,     -999.0,9,     -999.0,9,     -999.0,9,     5.6362,2,     -999.0,9
320620170703,        P06,      64,          1,         16,         16,2,20170717,       0550,   -30.0798,   171.9994,       2754,   973.8,   6.3524,  34.5047,2,  34.5034,2, 191.4860,2, 191.3513,2,    29.2,2,   26.83,2,    0.00,2,    1.81,2,-999.000,9,-999.000,9,-999.0000,9,  2185.5,2, 2297.06,2,   7.6579,2, -999.00,9, -999.00,9, -999.00,  -999.0,9, -999.00,9,     -999.0,9,  -999.0,1, 20170717,      508, -30.0799, 171.9995,        0.0,1,      0.061,1,      2.357,1,      0.145,1,      25.02,     -999.0,1,     -999.0,9,     -999.0,9,     -999.0,9,     6.3472,2,     -999.0,9
320620170703,        P06,      64,          1,         17,         17,2,20170717,       0550,   -30.0798,   171.9994,       2754,   872.3,   7.1256,  34.5392,2,  34.5355,2, 194.5985,2, 194.9548,2,    22.3,2,   25.10,2,    0.00,2,    1.68,2,   1.542,2,   0.882,2,-999.0000,5,  2174.4,2, 2294.03,2,   7.6745,2, -999.00,9, -999.00,9, -999.00,    42.5,2, -999.00,9,     -999.0,1,  -999.0,1, 20170717,      511, -30.0798, 171.9994,        0.0,1,      0.060,1,      1.860,1,      0.144,1,      25.03,     -999.0,1,     -999.0,9,     -999.0,9,     -999.0,9,     7.0916,2,     -999.0,9
320620170703,        P06,      64,          1,         18,         18,2,20170717,       0550,   -30.0798,   171.9994,       2754,   772.2,   7.9874,  34.6032,2,  34.6001,2, 197.2771,2, 197.4989,2,    16.8,2,   23.05,2,    0.00,2,    1.54,2,-999.000,9,-999.000,9,-999.0000,9,  2165.7,2, 2292.10,2,   7.6956,2, -999.00,9, -999.00,9, -999.00,    44.0,2, -999.00,9,     -999.0,1,  -999.0,1, 20170717,      514, -30.0798, 171.9994,        0.0,1,      0.060,1,      2.257,1,      0.147,1,      25.02,     -999.0,1,     -999.0,9,     -999.0,9,     -999.0,9,     7.9776,2,     -999.0,9
320620170703,        P06,      64,          1,         19,         19,2,20170717,       0550,   -30.0798,   171.9994,       2754,   670.3,   9.0203,  34.6980,2,  34.6938,2, 197.1415,2, 196.9629,2,    12.6,2,   20.89,2,    0.00,2,    1.39,2,   2.133,2,   1.229,2,-999.0000,5,  2155.6,6, 2292.13,2,   7.7158,2, -999.00,9, -999.00,9, -999.00,    44.4,2, -999.00,9,     -999.0,1,  -999.0,1, 20170717,      517, -30.0798, 171.9994,        0.0,1,      0.058,1,      1.458,1,      0.144,1,      25.04,     -999.0,1,     -999.0,9,     -999.0,9,     -999.0,9,     8.9769,2,     -999.0,9
320620170703,        P06,      64,          1,         20,         20,2,20170717,       0550,   -30.0798,   171.9994,       2754,   569.4,  10.3084,  34.8232,2,  34.8184,2, 198.0287,2, 198.0557,2,     8.3,2,   17.90,2,    0.00,2,    1.20,2,-999.000,9,-999.000,9,-999.0000,9,  2145.1,2, 2293.83,2,   7.7466,2, -999.00,9, -999.00,9, -999.00,    45.2,2, -999.00,9,     -999.0,1,  -999.0,1, 20170717,      519, -30.0798, 171.9994,        0.0,1,      0.060,1,      1.724,1,      0.143,1,      25.03,     -999.0,1,     -999.0,9,     -999.0,9,     -999.0,9,    10.2601,2,     -999.0,9
320620170703,        P06,      64,          1,         21,         21,2,20170717,       0550,   -30.0798,   171.9994,       2754,   488.2,  11.5695,  34.9528,2,  34.9089,2, 197.9882,2, 197.8213,2,     6.0,2,   15.75,2,    0.00,2,    1.06,2,   2.445,2,   1.442,2,-999.0000,5,  2136.7,2, 2296.22,2,   7.7717,2, -999.00,9, -999.00,9, -999.00,    46.5,2,   17.40,2,     -999.0,1,  -999.0,1, 20170717,      522, -30.0798, 171.9994,        0.0,1,      0.060,1,      0.968,1,      0.144,1,      25.04,     -999.0,1,     -999.0,9,     -999.0,9,     -999.0,9,    11.2208,2,     -999.0,9
320620170703,        P06,      64,          1,         22,         22,2,20170717,       0550,   -30.0798,   171.9994,       2754,   438.8,  12.4353,  35.0666,2,  35.0476,2, 198.0147,2, 197.9309,2,     4.8,2,   13.48,2,    0.00,2,    0.92,2,-999.000,9,-999.000,9,-999.0000,9,  2129.5,2, 2301.74,2,   7.7986,2, -999.00,9, -999.00,9, -999.00,  -999.0,9, -999.00,9,     -999.0,9,  -999.0,1, 20170717,      524, -30.0797, 171.9993,        0.0,1,      0.059,1,      0.787,1,      0.145,1,      25.03,     -999.0,1,     -999.0,9,     -999.0,9,     -999.0,9,    12.3871,2,     -999.0,9
320620170703,        P06,      64,          1,         23,         23,2,20170717,       0550,   -30.0798,   171.9994,       2754,   387.9,  13.5101,  35.1919,2,  35.1991,2, 197.4031,2, 197.2420,2,     3.4,2,   11.14,2,    0.00,2,    0.75,2,   2.315,2,   1.468,2,-999.0000,5,  2118.5,2, 2307.70,2,   7.8312,2, -999.00,9, -999.00,9, -999.00,    48.1,2,   12.90,2,     -999.0,1,  -999.0,1, 20170717,      526, -30.0797, 171.9993,        0.0,1,      0.060,1,      2.613,1,      0.145,1,      25.03,     -999.0,1,     -999.0,1,     -999.0,9,     -999.0,9,    13.7005,2,     -999.0,9
320620170703,        P06,      64,          1,         24,         24,2,20170717,       0550,   -30.0798,   171.9994,       2754,   337.0,  14.3147,  35.2686,2,  35.2763,2, 196.5534,2, 196.6379,2,     2.8,2,    9.73,2,    0.00,2,    0.66,2,-999.000,9,-999.000,9,-999.0000,9,  2113.2,2, 2311.40,2,   7.8509,2, -999.00,9, -999.00,9, -999.00,  -999.0,9, -999.00,9,     -999.0,9,  -999.0,1, 20170717,      528, -30.0797, 171.9993,        0.0,1,      0.060,1,      1.037,1,      0.149,1,      25.04,     -999.0,1,     -999.0,1,     -999.0,9,     -999.0,9,    14.4450,2,     -999.0,9
320620170703,        P06,      64,          1,         25,         25,2,20170717,       0550,   -30.0798,   171.9994,       2754,   286.0,  15.6121,  35.4003,2,  35.3855,2, 196.2613,2, 195.8237,2,     2.1,2,    8.13,2,    0.00,2,    0.56,2,   2.137,2,   1.442,2,-999.0000,5,  2104.9,2, 2317.07,2,   7.8774,2, -999.00,9, -999.00,9, -999.00,    49.9,2,   10.80,2,     -999.0,1,  -999.0,1, 20170717,      531, -30.0797, 171.9993,        0.0,1,      0.059,1,      1.817,1,      0.147,1,      25.02,     -999.0,1,     -999.0,1,     -999.0,9,     -999.0,9,    15.4905,2,     -999.0,9
320620170703,        P06,      64,          1,         26,         26,2,20170717,       0550,   -30.0798,   171.9994,       2754,   241.5,  16.3623,  35.4744,2,  35.4665,2, 196.2093,2, 196.3283,2,     1.7,2,    6.95,2,    0.00,2,    0.49,2,-999.000,9,-999.000,9,-999.0000,9,  2099.0,2, 2322.91,2,   7.8973,2, -999.00,9, -999.00,9, -999.00,    49.9,2,    9.40,2,     -999.0,1,  -999.0,1, 20170717,      533, -30.0798, 171.9994,        0.0,1,      0.060,1,      4.578,1,      0.146,1,      25.02,     -999.0,1,     -999.0,1,     -999.0,9,     -999.0,9,    16.3249,2,     -999.0,9
320620170703,        P06,      64,          1,         27,         27,2,20170717,       0550,   -30.0798,   171.9994,       2754,   216.2,  16.9063,  35.5246,2,  35.5016,2, 196.0938,2, 196.0073,2,     1.7,2,    6.41,2,    0.02,2,    0.46,2,   2.130,2,   1.404,2,-999.0000,5,  2095.6,2, 2322.16,2,   7.9072,2, -999.00,9, -999.00,9, -999.00,  -999.0,9, -999.00,9,     -999.0,9,  -999.0,1, 20170717,      534, -30.0798, 171.9994,        0.0,1,      0.059,1,      4.677,1,      0.145,1,      25.02,     -999.0,1,     -999.0,1,     -999.0,9,     -999.0,9,    16.6791,2,       0.65,2
320620170703,        P06,      64,          1,         28,         28,2,20170717,       0550,   -30.0798,   171.9994,       2754,   191.2,  17.3384,  35.5645,2,  35.5454,2, 196.9291,2, 197.1315,2,     1.3,2,    5.65,2,    0.02,2,    0.41,2,-999.000,9,-999.000,9,-999.0000,9,  2090.4,2, 2325.62,6,   7.9188,2, -999.00,9, -999.00,9, -999.00,    48.3,2,    9.20,2,     -999.0,1,  -999.0,1, 20170717,      536, -30.0798, 171.9994,        0.0,1,      0.059,1,      4.676,1,      0.153,1,      25.03,     -999.0,1,     -999.0,1,     -999.0,9,     -999.0,9,    17.1555,2,     -999.0,9
320620170703,        P06,      64,          1,         29,         29,2,20170717,       0550,   -30.0798,   171.9994,       2754,   166.1,  17.6752,  35.5918,2,  35.5882,2, 196.7760,2, 197.6801,2,     1.1,2,    5.12,2,    0.02,2,    0.37,2,   2.068,2,   1.372,2,-999.0000,5,  2086.1,2, 2328.34,6,   7.9309,2, -999.00,9, -999.00,9, -999.00,    47.8,2,    8.10,2,     -999.0,1,  -999.0,1, 20170717,      538, -30.0798, 171.9994,        0.0,1,      0.060,1,      4.672,1,      0.151,1,      25.03,     -999.0,1,     -999.0,1,     -999.0,9,     -999.0,9,    17.6237,2,       0.56,2
320620170703,        P06,      64,          1,         30,         30,2,20170717,       0550,   -30.0798,   171.9994,       2754,   141.4,  18.2664,  35.6613,2,  35.7641,2, 223.7491,2, 222.2402,2,     0.3,2,    1.15,2,    0.21,2,    0.15,2,-999.000,9,-999.000,9,-999.0000,9,  2062.6,2, 2338.55,2,   7.9915,2, -999.00,9, -999.00,9, -999.00,    58.2,2,    5.50,2,     -999.0,1,  -999.0,1, 20170717,      539, -30.0798, 171.9994,        0.0,1,      0.074,1,      4.648,1,      0.161,1,      25.03,     -999.0,1,     -999.0,1,     -999.0,9,     -999.0,9,    18.6957,2,     -999.0,9
320620170703,        P06,      64,          1,         31,         31,2,20170717,       0550,   -30.0798,   171.9994,       2754,   116.6,  18.7642,  35.7535,2,  35.7752,2, 222.3372,2, 222.9886,2,     0.2,2,    1.04,2,    0.20,2,    0.15,2,   1.918,2,   1.320,2,-999.0000,5,  2061.0,2, 2339.88,2,   7.9942,2, -999.00,9, -999.00,9, -999.00,    60.9,2,    4.70,2,     -999.0,1,  -999.0,1, 20170717,      541, -30.0798, 171.9994,        0.0,1,      0.120,1,      4.166,1,      0.188,1,      25.02,     -999.0,1,     -999.0,1,     -999.0,9,     -999.0,9,    18.7548,2,       0.34,2
320620170703,        P06,      64,          1,         32,         32,2,20170717,       0550,   -30.0798,   171.9994,       2754,    89.9,  18.9178,  35.7893,2,  35.7886,2, 221.5460,2, 222.6532,2,     0.3,2,    1.06,2,    0.18,2,    0.14,2,-999.000,9,-999.000,9,-999.0000,9,  2062.1,2, 2341.02,2,   7.9961,2, -999.00,9, -999.00,9, -999.00,    62.0,2,    4.90,2,     -999.0,1,  -999.0,1, 20170717,      543, -30.0798, 171.9994,        0.0,1,      0.160,1,      3.904,1,      0.199,1,      25.01,     -999.0,1,     -999.0,1,     -999.0,9,     -999.0,9,    18.8380,2,     -999.0,9