BOTTLE,20230922CCHSIOCBG
EXPOCODE,SECT_ID,STNNBR,CASTNO,SAMPNO,BTLNBR,BTLNBR_FLAG_W,DATE,TIME,LATITUDE,LONGITUDE,DEPTH,CTDPRS,CTDTMP,CTDSAL,CTDSAL_FLAG_W,SALNTY,SALNTY_FLAG_W,CTDOXY,CTDOXY_FLAG_W,OXYGEN,OXYGEN_FLAG_W,SILCAT,SILCAT_FLAG_W,NITRAT,NITRAT_FLAG_W,NITRIT,NITRIT_FLAG_W,PHSPHT,PHSPHT_FLAG_W,CFC-11,CFC-11_FLAG_W,CFC-12,CFC-12_FLAG_W,SF6,SF6_FLAG_W,TCARBN,TCARBN_FLAG_W,ALKALI,ALKALI_FLAG_W,PH_TOT,PH_TOT_FLAG_W,DELC13,DELC13_FLAG_W,DELC14,DELC14_FLAG_W,C14ERR,DOC,DOC_FLAG_W,TDN,TDN_FLAG_W,TON,TON_FLAG_W,D15N_NO3,D15N_NO3_FLAG_W,BTL_DATE,BTL_TIME,BTL_LAT,BTL_LON,CTDRINKO,CTDRINKO_FLAG_W,CTDFLUOR,CTDFLUOR_FLAG_W,CTDXMISS,CTDXMISS_FLAG_W,CTDBACKSCATTER,CTDBACKSCATTER_FLAG_W,PH_TMP,D18O_NO3,D18O_NO3_FLAG_W,DOP,DOP_FLAG_W,HPLC,HPLC_FLAG_W,POC,POC_FLAG_W,REFTMP,REFTMP_FLAG_W,TDP,TDP_FLAG_W
,,,,,,,,,,,METERS,DBAR,ITS-90,PSS-78,,PSS-78,,UMOL/KG,,UMOL/KG,,UMOL/KG,,UMOL/KG,,UMOL/KG,,UMOL/KG,,PMOL/KG,,PMOL/KG,,FMOL/KG,,UMOL/KG,,UMOL/KG,,,,/MILLE,,/MILLE,,/MILLE,UMOL/KG,,UMOL/KG,,UMOL/KG,,/MILLE,,,,,,VOLTS,,VOLTS,,VOLTS,,VOLTS,,DEGC,/MILLE,,UMOL/KG,,,,UG/L,,ITS-90,,UMOL/KG,
320620170703,        P06,     125,          1,         33,         33,2,20170807,       0824,   -32.4997,  -161.1497,       5133,    62.7,  16.8519,  35.5298,2,  35.5419,2, 235.0157,2, 238.8799,3,     0.3,2,    0.29,2,    0.03,2,    0.10,2,   2.138,2,   1.315,2,   1.6110,2,  2068.0,2, 2306.24,3,   7.9700,2, -999.00,9, -999.00,9, -999.00,  -999.0,9, -999.00,9,     -999.0,9,  -999.0,9, 20170807,      820, -32.4996,-161.1497,        0.0,1,      0.160,1,      4.632,1,      0.194,1,      25.00,     -999.0,9,     -999.0,9,     -999.0,9,     -999.0,9,    16.9363,2,     -999.0,9
320620170703,        P06,     125,          1,         34,         34,2,20170807,       0824,   -32.4997,  -161.1497,       5133,    38.9,  16.8499,  35.5308,2,  35.5413,2, 235.0157,2, 234.9887,2,     0.3,2,    0.28,2,    0.03,2,    0.11,2,   2.160,2,   1.319,2,   1.5440,2,  -999.0,9, -999.00,9,-999.0000,9, -999.00,9, -999.00,9, -999.00,  -999.0,9, -999.00,9,     -999.0,9,  -999.0,9, 20170807,      822, -32.4997,-161.1497,        0.0,1,      0.155,1,      4.632,1,      0.189,1,     -999.0,     -999.0,9,     -999.0,9,     -999.0,9,     -999.0,9,    16.9280,2,     -999.0,9
320620170703,        P06,     125,          1,         35,         35,2,20170807,       0824,   -32.4997,  -161.1497,       5133,    22.4,  16.8538,  35.5311,2,  35.5413,2, 234.9394,2, 234.6581,2,     0.3,2,    0.28,2,    0.03,2,    0.11,2,   2.145,2,   1.300,2,   1.5890,2,  2068.1,2, 2332.57,2,   7.9696,2, -999.00,9, -999.00,9, -999.00,  -999.0,9, -999.00,9,     -999.0,9,  -999.0,9, 20170807,      823, -32.4996,-161.1497,        0.0,1,      0.156,1,      4.632,1,      0.188,1,      25.00,     -999.0,9,     -999.0,9,     -999.0,9,     -999.0,9,    16.9222,2,     -999.0,9
320620170703,        P06,     125,          1,         36,         36,2,20170807,       0824,   -32.4997,  -161.1497,       5133,     8.0,  16.8471,  35.5313,2,  35.5403,2, 234.9024,2, 234.5401,2,     0.3,2,    0.27,2,    0.03,2,    0.12,2,   2.135,2,   1.293,2,   1.4880,2,  2068.5,6, 2334.67,2,   7.9697,2, -999.00,9, -999.00,9, -999.00,  -999.0,9, -999.00,9,     -999.0,9,  -999.0,9, 20170807,      824, -32.4997,-161.1497,        0.0,1,      0.157,1,      4.630,1,      0.181,1,      25.00,     -999.0,9,     -999.0,9,     -999.0,9,     -999.0,9,    16.9160,2,     -999.0,9