BOTTLE,20230922CCHSIOCBG
EXPOCODE,SECT_ID,STNNBR,CASTNO,SAMPNO,BTLNBR,BTLNBR_FLAG_W,DATE,TIME,LATITUDE,LONGITUDE,DEPTH,CTDPRS,CTDTMP,CTDSAL,CTDSAL_FLAG_W,SALNTY,SALNTY_FLAG_W,CTDOXY,CTDOXY_FLAG_W,OXYGEN,OXYGEN_FLAG_W,SILCAT,SILCAT_FLAG_W,NITRAT,NITRAT_FLAG_W,NITRIT,NITRIT_FLAG_W,PHSPHT,PHSPHT_FLAG_W,CFC-11,CFC-11_FLAG_W,CFC-12,CFC-12_FLAG_W,SF6,SF6_FLAG_W,TCARBN,TCARBN_FLAG_W,ALKALI,ALKALI_FLAG_W,PH_TOT,PH_TOT_FLAG_W,DELC13,DELC13_FLAG_W,DELC14,DELC14_FLAG_W,C14ERR,DOC,DOC_FLAG_W,TDN,TDN_FLAG_W,TON,TON_FLAG_W,D15N_NO3,D15N_NO3_FLAG_W,BTL_DATE,BTL_TIME,BTL_LAT,BTL_LON,CTDRINKO,CTDRINKO_FLAG_W,CTDFLUOR,CTDFLUOR_FLAG_W,CTDXMISS,CTDXMISS_FLAG_W,CTDBACKSCATTER,CTDBACKSCATTER_FLAG_W,PH_TMP,D18O_NO3,D18O_NO3_FLAG_W,DOP,DOP_FLAG_W,HPLC,HPLC_FLAG_W,POC,POC_FLAG_W,REFTMP,REFTMP_FLAG_W,TDP,TDP_FLAG_W
,,,,,,,,,,,METERS,DBAR,ITS-90,PSS-78,,PSS-78,,UMOL/KG,,UMOL/KG,,UMOL/KG,,UMOL/KG,,UMOL/KG,,UMOL/KG,,PMOL/KG,,PMOL/KG,,FMOL/KG,,UMOL/KG,,UMOL/KG,,,,/MILLE,,/MILLE,,/MILLE,UMOL/KG,,UMOL/KG,,UMOL/KG,,/MILLE,,,,,,VOLTS,,VOLTS,,VOLTS,,VOLTS,,DEGC,/MILLE,,UMOL/KG,,,,UG/L,,ITS-90,,UMOL/KG,
320620170703,        P06,     113,          1,         33,         33,2,20170801,       2336,   -32.4998,  -169.0982,       5352,    64.8,  17.7503,  35.6684,2,  35.6719,2, 232.2605,2, 232.2393,2,     0.1,2,    0.05,2,    0.01,2,    0.06,2,   2.185,2,   1.289,2,   1.4090,2,  2065.5,2, 2339.42,2,   7.9870,2, -999.00,9, -999.00,9, -999.00,  -999.0,9, -999.00,9,     -999.0,9,  -999.0,9, 20170801,     2332, -32.4998,-169.0981,        0.0,1,      0.146,1,      4.646,1,      0.180,1,      25.04,     -999.0,9,     -999.0,9,     -999.0,9,     -999.0,9,    17.7581,2,     -999.0,9
320620170703,        P06,     113,          1,         34,         34,2,20170801,       2336,   -32.4998,  -169.0982,       5352,    39.9,  17.7421,  35.6679,2,  35.6769,2, 232.1504,2, 232.6298,2,     0.1,2,    0.05,2,    0.01,2,    0.07,2,   2.187,2,   1.282,2,   1.3480,2,  -999.0,9, -999.00,9,-999.0000,9, -999.00,9, -999.00,9, -999.00,  -999.0,9, -999.00,9,     -999.0,9,  -999.0,9, 20170801,     2333, -32.4998,-169.0981,        0.0,1,      0.144,1,      4.646,1,      0.177,1,     -999.0,     -999.0,9,     -999.0,9,     -999.0,9,     -999.0,9,    17.7601,2,     -999.0,9
320620170703,        P06,     113,          1,         35,         35,2,20170801,       2336,   -32.4998,  -169.0982,       5352,    18.8,  17.7398,  35.6674,2,  35.6721,2, 232.2628,2, 232.5219,2,     0.1,2,    0.05,2,    0.01,2,    0.07,2,   2.200,2,   1.295,2,   1.4700,2,  2064.3,2, 2334.94,2,   7.9871,2, -999.00,9, -999.00,9, -999.00,  -999.0,9, -999.00,9,     -999.0,9,  -999.0,9, 20170801,     2335, -32.4998,-169.0981,        0.0,1,      0.136,1,      4.646,1,      0.177,1,      25.04,     -999.0,9,     -999.0,9,     -999.0,9,     -999.0,9,    17.7631,2,     -999.0,9
320620170703,        P06,     113,          1,         36,         36,2,20170801,       2336,   -32.4998,  -169.0982,       5352,     3.0,  17.7367,  35.6663,2,  35.6715,2, 232.3841,2, 232.5898,2,     0.2,2,    0.04,2,    0.01,2,    0.07,2,   2.211,2,   1.276,2,   1.4240,2,  2064.2,6, 2337.72,2,   7.9867,2,    0.92,2,   59.52,2,    2.18,  -999.0,9, -999.00,9,     -999.0,9,  -999.0,9, 20170801,     2336, -32.4998,-169.0982,        0.0,1,      0.130,1,      4.645,1,      0.174,1,      25.02,     -999.0,9,     -999.0,9,     -999.0,9,     -999.0,9,    17.7660,2,     -999.0,9