BOTTLE,20230922CCHSIOCBG
EXPOCODE,SECT_ID,STNNBR,CASTNO,SAMPNO,BTLNBR,BTLNBR_FLAG_W,DATE,TIME,LATITUDE,LONGITUDE,DEPTH,CTDPRS,CTDTMP,CTDSAL,CTDSAL_FLAG_W,SALNTY,SALNTY_FLAG_W,CTDOXY,CTDOXY_FLAG_W,OXYGEN,OXYGEN_FLAG_W,SILCAT,SILCAT_FLAG_W,NITRAT,NITRAT_FLAG_W,NITRIT,NITRIT_FLAG_W,PHSPHT,PHSPHT_FLAG_W,CFC-11,CFC-11_FLAG_W,CFC-12,CFC-12_FLAG_W,SF6,SF6_FLAG_W,TCARBN,TCARBN_FLAG_W,ALKALI,ALKALI_FLAG_W,PH_TOT,PH_TOT_FLAG_W,DELC13,DELC13_FLAG_W,DELC14,DELC14_FLAG_W,C14ERR,DOC,DOC_FLAG_W,TDN,TDN_FLAG_W,TON,TON_FLAG_W,D15N_NO3,D15N_NO3_FLAG_W,BTL_DATE,BTL_TIME,BTL_LAT,BTL_LON,CTDRINKO,CTDRINKO_FLAG_W,CTDFLUOR,CTDFLUOR_FLAG_W,CTDXMISS,CTDXMISS_FLAG_W,CTDBACKSCATTER,CTDBACKSCATTER_FLAG_W,PH_TMP,D18O_NO3,D18O_NO3_FLAG_W,DOP,DOP_FLAG_W,HPLC,HPLC_FLAG_W,POC,POC_FLAG_W,REFTMP,REFTMP_FLAG_W,TDP,TDP_FLAG_W
,,,,,,,,,,,METERS,DBAR,ITS-90,PSS-78,,PSS-78,,UMOL/KG,,UMOL/KG,,UMOL/KG,,UMOL/KG,,UMOL/KG,,UMOL/KG,,PMOL/KG,,PMOL/KG,,FMOL/KG,,UMOL/KG,,UMOL/KG,,,,/MILLE,,/MILLE,,/MILLE,UMOL/KG,,UMOL/KG,,UMOL/KG,,/MILLE,,,,,,VOLTS,,VOLTS,,VOLTS,,VOLTS,,DEGC,/MILLE,,UMOL/KG,,,,UG/L,,ITS-90,,UMOL/KG,
320620170703,        P06,      89,          1,         33,         33,2,20170726,       0519,   -32.4997,  -178.6495,       3437,    66.4,  16.9283,  35.5904,2,  35.5869,2, 238.1845,3, 235.2773,2,     0.6,2,    0.87,2,    0.13,2,    0.15,2,-999.000,9,-999.000,9,-999.0000,9,  2071.8,2, 2310.56,2,   7.9664,2, -999.00,9, -999.00,9, -999.00,  -999.0,9, -999.00,9,     -999.0,9,  -999.0,9, 20170726,      515, -32.4998,-178.6494,        0.0,1,      0.202,1,      4.601,1,      0.265,1,      25.03,     -999.0,9,     -999.0,9,     -999.0,9,     -999.0,9,    16.8931,2,     -999.0,9
320620170703,        P06,      89,          1,         34,         34,2,20170726,       0519,   -32.4997,  -178.6495,       3437,    39.6,  16.9387,  35.5919,2,  35.5892,2, 240.3772,3, 236.4538,2,     0.6,2,    0.79,2,    0.11,2,    0.16,2,   2.340,2,   1.341,2,   1.3980,2,  2070.3,2, 2298.37,2,   7.9685,2, -999.00,9, -999.00,9, -999.00,  -999.0,9, -999.00,9,     -999.0,9,  -999.0,9, 20170726,      516, -32.4997,-178.6495,        0.0,1,      0.222,1,      4.584,1,      0.250,1,      24.95,     -999.0,9,     -999.0,9,     -999.0,9,     -999.0,9,    16.9118,2,     -999.0,9
320620170703,        P06,      89,          1,         35,         35,2,20170726,       0519,   -32.4997,  -178.6495,       3437,    19.4,  16.9521,  35.5904,2,  35.5904,2, 240.7959,3, 236.8850,2,     0.6,2,    0.77,2,    0.11,2,    0.19,2,-999.000,9,-999.000,9,-999.0000,9,  2070.2,2, 2290.08,2,   7.9688,2, -999.00,9, -999.00,9, -999.00,  -999.0,9, -999.00,9,     -999.0,9,  -999.0,9, 20170726,      518, -32.4997,-178.6495,        0.0,1,      0.190,1,      4.576,1,      0.253,1,      24.99,     -999.0,9,     -999.0,9,     -999.0,9,     -999.0,9,    16.9039,2,     -999.0,9
320620170703,        P06,      89,          1,         36,         36,2,20170726,       0519,   -32.4997,  -178.6495,       3437,     4.2,  16.9539,  35.5901,2,  35.5922,2, 240.4246,3, 236.5841,2,     0.6,2,    0.75,2,    0.11,2,    0.16,2,   2.338,2,   1.331,2,   1.4690,2,  2071.5,6, 2282.38,2,   7.9685,2, -999.00,9, -999.00,9, -999.00,  -999.0,9, -999.00,9,     -999.0,9,  -999.0,9, 20170726,      519, -32.4997,-178.6495,        0.0,1,      0.154,1,      4.576,1,      0.242,1,      25.01,     -999.0,9,     -999.0,9,     -999.0,9,     -999.0,9,    16.9119,2,     -999.0,9