BOTTLE,20230922CCHSIOCBG
EXPOCODE,SECT_ID,STNNBR,CASTNO,SAMPNO,BTLNBR,BTLNBR_FLAG_W,DATE,TIME,LATITUDE,LONGITUDE,DEPTH,CTDPRS,CTDTMP,CTDSAL,CTDSAL_FLAG_W,SALNTY,SALNTY_FLAG_W,CTDOXY,CTDOXY_FLAG_W,OXYGEN,OXYGEN_FLAG_W,SILCAT,SILCAT_FLAG_W,NITRAT,NITRAT_FLAG_W,NITRIT,NITRIT_FLAG_W,PHSPHT,PHSPHT_FLAG_W,CFC-11,CFC-11_FLAG_W,CFC-12,CFC-12_FLAG_W,SF6,SF6_FLAG_W,TCARBN,TCARBN_FLAG_W,ALKALI,ALKALI_FLAG_W,PH_TOT,PH_TOT_FLAG_W,DELC13,DELC13_FLAG_W,DELC14,DELC14_FLAG_W,C14ERR,DOC,DOC_FLAG_W,TDN,TDN_FLAG_W,TON,TON_FLAG_W,D15N_NO3,D15N_NO3_FLAG_W,BTL_DATE,BTL_TIME,BTL_LAT,BTL_LON,CTDRINKO,CTDRINKO_FLAG_W,CTDFLUOR,CTDFLUOR_FLAG_W,CTDXMISS,CTDXMISS_FLAG_W,CTDBACKSCATTER,CTDBACKSCATTER_FLAG_W,PH_TMP,D18O_NO3,D18O_NO3_FLAG_W,DOP,DOP_FLAG_W,HPLC,HPLC_FLAG_W,POC,POC_FLAG_W,REFTMP,REFTMP_FLAG_W,TDP,TDP_FLAG_W
,,,,,,,,,,,METERS,DBAR,ITS-90,PSS-78,,PSS-78,,UMOL/KG,,UMOL/KG,,UMOL/KG,,UMOL/KG,,UMOL/KG,,UMOL/KG,,PMOL/KG,,PMOL/KG,,FMOL/KG,,UMOL/KG,,UMOL/KG,,,,/MILLE,,/MILLE,,/MILLE,UMOL/KG,,UMOL/KG,,UMOL/KG,,/MILLE,,,,,,VOLTS,,VOLTS,,VOLTS,,VOLTS,,DEGC,/MILLE,,UMOL/KG,,,,UG/L,,ITS-90,,UMOL/KG,
320620170703,        P06,      72,          1,          1,         37,2,20170718,       2141,   -30.0800,   174.4998,       3609,  3658.8,   1.8469,  34.6822,2,  34.6830,2, 154.9901,2, 154.7281,2,   125.1,2,   35.06,2,    0.00,2,    2.46,2,   0.003,4,   0.020,2,-999.0000,5,  2312.9,6, -999.00,9,   7.5822,2, -999.00,9, -999.00,9, -999.00,    37.3,2, -999.00,9,     -999.0,1,  -999.0,9, 20170718,     1949, -30.0806, 174.4996,        0.0,1,      0.061,1,      3.485,1,      0.140,1,      25.02,     -999.0,9,     -999.0,9,     -999.0,9,     -999.0,9,     1.8475,2,     -999.0,9
320620170703,        P06,      72,          1,          2,          2,2,20170718,       2141,   -30.0800,   174.4998,       3609,  3556.4,   1.8403,  34.6821,2,  34.6836,2, 154.9901,2, 155.3217,2,   125.3,2,   35.13,2,    0.00,2,    2.46,2,   0.005,4,   0.018,2,-999.0000,5,  2312.7,2, -999.00,9,   7.5829,2, -999.00,9, -999.00,9, -999.00,  -999.0,9, -999.00,9,     -999.0,9,  -999.0,9, 20170718,     1952, -30.0806, 174.4995,        0.0,1,      0.062,1,      2.106,1,      0.144,1,      25.02,     -999.0,9,     -999.0,9,     -999.0,9,     -999.0,9,     1.8408,2,     -999.0,9
320620170703,        P06,      72,          1,          3,         38,2,20170718,       2141,   -30.0800,   174.4998,       3609,  3451.5,   1.8380,  34.6815,2,  34.6818,2, 154.9902,2, 154.8156,2,   124.9,2,   35.19,2,    0.00,2,    2.46,2,  -0.002,4,   0.019,2,-999.0000,5,  2313.7,2, -999.00,9,   7.5826,2, -999.00,9, -999.00,9, -999.00,    37.6,2, -999.00,9,     -999.0,1,  -999.0,9, 20170718,     1955, -30.0805, 174.4996,        0.0,1,      0.061,1,      3.779,1,      0.134,1,      25.03,     -999.0,9,     -999.0,9,     -999.0,9,     -999.0,9,     1.8393,2,     -999.0,9
320620170703,        P06,      72,          1,          4,          4,2,20170718,       2141,   -30.0800,   174.4998,       3609,  3148.2,   1.8359,  34.6795,2,  34.6794,2, 155.0269,2, 155.2446,2,   124.1,2,   35.15,2,    0.00,2,    2.45,2,   0.001,4,   0.024,2,-999.0000,5,  -999.0,9, -999.00,9,-999.0000,9, -999.00,9, -999.00,9, -999.00,    38.9,2, -999.00,9,     -999.0,1,  -999.0,9, 20170718,     2002, -30.0803, 174.4996,        0.0,1,      0.061,1,      0.053,1,      0.133,1,     -999.0,     -999.0,9,     -999.0,9,     -999.0,9,     -999.0,9,     1.8373,2,     -999.0,9
320620170703,        P06,      72,          1,          5,         39,2,20170718,       2141,   -30.0800,   174.4998,       3609,  2904.3,   1.8567,  34.6763,2,  34.6759,2, 154.3398,2, 154.1068,2,   123.2,2,   35.07,2,    0.00,2,    2.45,2,  -0.005,4,   0.020,2,-999.0000,5,  2308.8,2, -999.00,9,   7.5802,2, -999.00,9, -999.00,9, -999.00,    36.6,2, -999.00,9,     -999.0,1,  -999.0,9, 20170718,     2007, -30.0802, 174.4998,        0.0,1,      0.061,1,      4.080,1,      0.132,1,      25.02,     -999.0,9,     -999.0,9,     -999.0,9,     -999.0,9,     1.8538,2,     -999.0,9
320620170703,        P06,      72,          1,          6,          6,2,20170718,       2141,   -30.0800,   174.4998,       3609,  2700.0,   1.9058,  34.6712,2,  34.6706,2, 154.0212,2, 154.0093,2,   121.3,2,   35.09,2,    0.00,2,    2.45,2,-999.000,9,-999.000,9,-999.0000,9,  -999.0,9, -999.00,9,-999.0000,9, -999.00,9, -999.00,9, -999.00,  -999.0,9, -999.00,9,     -999.0,9,  -999.0,9, 20170718,     2012, -30.0802, 174.4999,        0.0,1,      0.060,1,      0.007,1,      0.135,1,     -999.0,     -999.0,9,     -999.0,9,     -999.0,9,     -999.0,9,     1.9054,2,     -999.0,9
320620170703,        P06,      72,          1,          7,         40,2,20170718,       2141,   -30.0800,   174.4998,       3609,  2494.9,   1.9802,  34.6641,2,  34.6635,2, 153.8488,2, 153.8196,2,   119.7,2,   35.07,2,    0.00,2,    2.45,2,   0.016,4,   0.023,2,-999.0000,5,  -999.0,9, -999.00,9,-999.0000,9, -999.00,9, -999.00,9, -999.00,    38.0,2, -999.00,9,     -999.0,1,  -999.0,9, 20170718,     2017, -30.0801, 174.4999,        0.0,1,      0.061,1,      2.183,1,      0.134,1,     -999.0,     -999.0,9,     -999.0,9,     -999.0,9,     -999.0,9,     1.9780,2,     -999.0,9
320620170703,        P06,      72,          1,          8,          8,2,20170718,       2141,   -30.0800,   174.4998,       3609,  2292.7,   2.0941,  34.6534,2,  34.6531,2, 153.0394,2, 153.1406,2,   116.2,2,   34.99,2,    0.00,2,    2.44,2,-999.000,9,-999.000,9,-999.0000,9,  -999.0,9, -999.00,9,-999.0000,9, -999.00,9, -999.00,9, -999.00,  -999.0,9, -999.00,9,     -999.0,9,  -999.0,9, 20170718,     2022, -30.0800, 174.4999,        0.0,1,      0.062,1,      0.006,1,      0.134,1,     -999.0,     -999.0,9,     -999.0,9,     -999.0,9,     -999.0,9,     2.0960,2,     -999.0,9
320620170703,        P06,      72,          1,          9,         41,2,20170718,       2141,   -30.0800,   174.4998,       3609,  2088.7,   2.2420,  34.6398,2,  34.6380,2, 153.1133,2, 153.2321,2,   111.7,2,   34.85,2,    0.00,2,    2.44,2,   0.006,4,   0.026,2,-999.0000,5,  2299.4,2, -999.00,9,   7.5767,2, -999.00,9, -999.00,9, -999.00,    37.2,2, -999.00,9,     -999.0,1,  -999.0,9, 20170718,     2026, -30.0800, 174.5000,        0.0,1,      0.062,1,      0.050,1,      0.137,1,      25.02,     -999.0,9,     -999.0,9,     -999.0,9,     -999.0,9,     2.2534,2,     -999.0,9
320620170703,        P06,      72,          1,         10,         10,2,20170718,       2141,   -30.0800,   174.4998,       3609,  1885.7,   2.4273,  34.6230,2,  34.6211,2, 154.2056,2, 154.3120,2,   106.2,2,   34.71,2,    0.00,2,    2.41,2,-999.000,9,-999.000,9,-999.0000,9,  -999.0,9, -999.00,9,-999.0000,9, -999.00,9, -999.00,9, -999.00,  -999.0,9, -999.00,9,     -999.0,9,  -999.0,9, 20170718,     2031, -30.0800, 174.5001,        0.0,1,      0.060,1,      1.686,1,      0.136,1,     -999.0,     -999.0,9,     -999.0,9,     -999.0,9,     -999.0,9,     2.4432,2,     -999.0,9
320620170703,        P06,      72,          1,         11,         42,2,20170718,       2141,   -30.0800,   174.4998,       3609,  1755.7,   2.6371,  34.6058,2,  34.6062,2, 156.3703,2, 156.3202,2,   100.6,2,   34.40,2,    0.00,2,    2.40,2,   0.056,4,   0.055,2,-999.0000,5,  2284.4,2, -999.00,9,   7.5810,2, -999.00,9, -999.00,9, -999.00,    40.0,2, -999.00,9,     -999.0,1,  -999.0,9, 20170718,     2034, -30.0800, 174.5002,        0.0,1,      0.061,1,      0.006,1,      0.141,1,      25.02,     -999.0,9,     -999.0,9,     -999.0,9,     -999.0,9,     2.6264,2,     -999.0,9
320620170703,        P06,      72,          1,         12,         12,2,20170718,       2141,   -30.0800,   174.4998,       3609,  1652.4,   2.7762,  34.5940,2,  34.5944,2, 158.0653,2, 157.8698,2,    96.3,2,   34.22,2,    0.00,2,    2.39,2,-999.000,9,-999.000,9,-999.0000,9,  -999.0,9, -999.00,9,-999.0000,9, -999.00,9, -999.00,9, -999.00,  -999.0,9, -999.00,9,     -999.0,9,  -999.0,9, 20170718,     2038, -30.0800, 174.5003,        0.0,1,      0.061,1,      0.182,1,      0.140,1,     -999.0,     -999.0,9,     -999.0,9,     -999.0,9,     -999.0,9,     2.7654,2,     -999.0,9
320620170703,        P06,      72,          1,         13,         43,2,20170718,       2141,   -30.0800,   174.4998,       3609,  1550.4,   3.0329,  34.5757,2,  34.5779,2, 160.2304,2, 160.8464,2,    90.0,2,   33.82,2,    0.00,2,    2.35,2,   0.115,4,   0.094,2,-999.0000,5,  2272.4,2, -999.00,9,   7.5846,2, -999.00,9, -999.00,9, -999.00,    38.6,2, -999.00,9,     -999.0,1,  -999.0,9, 20170718,     2041, -30.0800, 174.5002,        0.0,1,      0.061,1,      0.045,1,      0.147,1,      25.02,     -999.0,9,     -999.0,9,     -999.0,9,     -999.0,9,     2.9872,2,     -999.0,9
320620170703,        P06,      72,          1,         14,         14,2,20170718,       2141,   -30.0800,   174.4998,       3609,  1448.0,   3.3137,  34.5585,2,  34.5606,2, 163.2750,2, 163.1951,2,    82.3,2,   33.22,2,    0.00,2,    2.30,2,-999.000,9,-999.000,9,-999.0000,9,  -999.0,9, -999.00,9,-999.0000,9, -999.00,9, -999.00,9, -999.00,  -999.0,9, -999.00,9,     -999.0,9,  -999.0,9, 20170718,     2044, -30.0800, 174.5000,        0.0,1,      0.061,1,      0.024,1,      0.146,1,     -999.0,     -999.0,9,     -999.0,9,     -999.0,9,     -999.0,9,     3.2756,2,     -999.0,9
320620170703,        P06,      72,          1,         15,         15,2,20170718,       2141,   -30.0800,   174.4998,       3609,  1349.1,   3.5884,  34.5414,2,  34.5402,2, 167.2015,2, 166.9811,2,    74.4,2,   32.69,2,    0.00,2,    2.25,2,   0.322,2,   0.183,2,-999.0000,5,  2250.6,2, -999.00,9,   7.5959,2, -999.00,9, -999.00,9, -999.00,    39.5,2, -999.00,9,     -999.0,1,  -999.0,9, 20170718,     2047, -30.0800, 174.4999,        0.0,1,      0.061,1,      3.158,1,      0.144,1,      25.02,     -999.0,9,     -999.0,9,     -999.0,9,     -999.0,9,     3.5975,2,     -999.0,9
320620170703,        P06,      72,          1,         16,         16,2,20170718,       2141,   -30.0800,   174.4998,       3609,  1246.4,   3.9991,  34.5158,2,  34.5135,3, 172.7582,2, 172.1547,2,    64.2,2,   31.89,2,    0.00,2,    2.20,2,-999.000,9,-999.000,9,-999.0000,9,  -999.0,9, -999.00,9,-999.0000,9, -999.00,9, -999.00,9, -999.00,  -999.0,9, -999.00,9,     -999.0,9,  -999.0,9, 20170718,     2050, -30.0800, 174.4998,        0.0,1,      0.060,1,      2.931,1,      0.147,1,     -999.0,     -999.0,9,     -999.0,9,     -999.0,9,     -999.0,9,     4.0373,2,     -999.0,9
320620170703,        P06,      72,          1,         17,         17,2,20170718,       2141,   -30.0800,   174.4998,       3609,  1145.5,   4.4560,  34.4951,2,  34.4991,2, 178.0163,2, 178.1088,2,    55.0,2,   30.89,2,    0.00,2,    2.12,2,   0.621,2,   0.334,2,-999.0000,5,  2224.9,2, -999.00,9,   7.6164,2, -999.00,9, -999.00,9, -999.00,    39.5,2, -999.00,9,     -999.0,1,  -999.0,9, 20170718,     2053, -30.0800, 174.4997,        0.0,1,      0.061,1,      0.006,1,      0.144,1,      25.01,     -999.0,9,     -999.0,9,     -999.0,9,     -999.0,9,     4.4742,2,     -999.0,9
320620170703,        P06,      72,          1,         18,         18,2,20170718,       2141,   -30.0800,   174.4998,       3609,  1044.7,   4.9702,  34.4786,2,  34.4746,2, 184.4110,2, 184.1873,2,    44.8,2,   29.72,2,    0.00,2,    2.03,2,-999.000,9,-999.000,9,-999.0000,9,  -999.0,9, -999.00,9,-999.0000,9, -999.00,9, -999.00,9, -999.00,  -999.0,9, -999.00,9,     -999.0,9,  -999.0,9, 20170718,     2056, -30.0800, 174.4997,        0.0,1,      0.060,1,      4.143,1,      0.142,1,     -999.0,     -999.0,9,     -999.0,9,     -999.0,9,     -999.0,9,     4.9995,2,     -999.0,9
320620170703,        P06,      72,          1,         19,         19,2,20170718,       2141,   -30.0800,   174.4998,       3609,   943.7,   5.4059,  34.4573,2,  34.4559,2, 191.4702,2, 191.3854,2,    33.5,2,   28.42,2,    0.00,2,    1.93,2,   1.050,2,   0.559,2,-999.0000,5,  2194.1,2, -999.00,9,   7.6425,2, -999.00,9, -999.00,9, -999.00,    40.0,2, -999.00,9,     -999.0,1,  -999.0,9, 20170718,     2059, -30.0800, 174.4997,        0.0,1,      0.060,1,      3.969,1,      0.150,1,      25.01,     -999.0,9,     -999.0,9,     -999.0,9,     -999.0,9,     5.5363,2,     -999.0,9
320620170703,        P06,      72,          1,         20,         20,2,20170718,       2141,   -30.0800,   174.4998,       3609,   842.0,   5.8713,  34.3926,2,  34.3837,2, 207.0758,2, 207.6253,2,    21.1,2,   27.10,2,    0.00,2,    1.83,2,-999.000,9,-999.000,9,-999.0000,9,  -999.0,9, -999.00,9,-999.0000,9, -999.00,9, -999.00,9, -999.00,  -999.0,9, -999.00,9,     -999.0,9,  -999.0,9, 20170718,     2102, -30.0800, 174.4998,        0.0,1,      0.060,1,      0.006,1,      0.143,1,     -999.0,     -999.0,9,     -999.0,9,     -999.0,9,     -999.0,9,     5.8174,2,     -999.0,9
320620170703,        P06,      72,          1,         21,         21,2,20170718,       2141,   -30.0800,   174.4998,       3609,   740.4,   6.4336,  34.3858,2,  34.3676,2, 217.7165,2, 217.8613,2,    13.9,2,   25.48,2,    0.00,2,    1.72,2,   1.802,2,   1.013,2,-999.0000,5,  2160.2,2, -999.00,9,   7.6800,2, -999.00,9, -999.00,9, -999.00,    43.2,2, -999.00,9,     -999.0,1,  -999.0,9, 20170718,     2106, -30.0800, 174.4998,        0.0,1,      0.060,1,      0.006,1,      0.142,1,      25.02,     -999.0,9,     -999.0,9,     -999.0,9,     -999.0,9,     6.2371,2,     -999.0,9
320620170703,        P06,      72,          1,         22,         22,2,20170718,       2141,   -30.0800,   174.4998,       3609,   639.2,   7.1096,  34.4259,2,  34.4253,2, 220.6038,2, 220.7741,2,    10.0,2,   23.24,2,    0.00,2,    1.55,2,-999.000,9,-999.000,9,-999.0000,9,  -999.0,9, -999.00,9,-999.0000,9, -999.00,9, -999.00,9, -999.00,    43.7,2, -999.00,9,     -999.0,1,  -999.0,9, 20170718,     2109, -30.0800, 174.4997,        0.0,1,      0.060,1,      4.339,1,      0.145,1,     -999.0,     -999.0,9,     -999.0,9,     -999.0,9,     -999.0,9,     7.0854,2,     -999.0,9
320620170703,        P06,      72,          1,         23,         23,2,20170718,       2141,   -30.0800,   174.4998,       3609,   538.0,   8.6144,  34.6229,2,  34.5934,2, 208.4088,2, 208.4160,2,     9.0,2,   20.86,2,    0.00,2,    1.40,2,   2.375,6,   1.390,6,-999.0000,5,  2150.5,2, -999.00,9,   7.7164,2, -999.00,9, -999.00,9, -999.00,    45.1,2, -999.00,9,     -999.0,1,  -999.0,9, 20170718,     2112, -30.0800, 174.4997,        0.0,1,      0.059,1,      4.247,1,      0.143,1,      25.01,     -999.0,9,     -999.0,9,     -999.0,9,     -999.0,9,     8.5058,2,     -999.0,9
320620170703,        P06,      72,          1,         24,         24,2,20170718,       2141,   -30.0800,   174.4998,       3609,   468.8,   9.6549,  34.7304,2,  34.7498,2, 201.3351,2, 201.3526,2,     7.4,2,   18.42,2,    0.00,2,    1.22,2,-999.000,9,-999.000,9,-999.0000,9,  -999.0,9, -999.00,9,-999.0000,9, -999.00,9, -999.00,9, -999.00,  -999.0,9, -999.00,9,     -999.0,9,  -999.0,9, 20170718,     2115, -30.0800, 174.4996,        0.0,1,      0.059,1,      0.006,1,      0.143,1,     -999.0,     -999.0,9,     -999.0,9,     -999.0,9,     -999.0,9,     9.8798,2,     -999.0,9
320620170703,        P06,      72,          1,         25,         25,2,20170718,       2141,   -30.0800,   174.4998,       3609,   417.2,  10.5778,  34.8470,2,  34.8694,2, 199.0668,2, 198.8047,2,     6.4,2,   16.57,2,    0.00,2,    1.10,2,   2.360,2,   1.422,2,-999.0000,5,  2139.3,2, -999.00,9,   7.7609,2, -999.00,9, -999.00,9, -999.00,    45.5,2,   19.10,2,     -999.0,1,  -999.0,9, 20170718,     2117, -30.0800, 174.4996,        0.0,1,      0.060,1,      0.006,1,      0.149,1,      25.02,     -999.0,9,     -999.0,9,     -999.0,9,     -999.0,9,    10.8270,2,     -999.0,9
320620170703,        P06,      72,          1,         26,         26,2,20170718,       2141,   -30.0800,   174.4998,       3609,   368.0,  11.4280,  34.9568,2,  34.9687,2, 199.0707,2, 199.0948,2,     5.4,2,   14.91,2,    0.00,2,    0.99,2,-999.000,9,-999.000,9,-999.0000,9,  -999.0,9, -999.00,9,-999.0000,9, -999.00,9, -999.00,9, -999.00,    45.2,2,   16.40,2,     -999.0,1,  -999.0,9, 20170718,     2120, -30.0800, 174.4995,        0.0,1,      0.060,1,      0.006,1,      0.149,1,     -999.0,     -999.0,9,     -999.0,9,     -999.0,9,     -999.0,9,    11.5553,2,     -999.0,9
320620170703,        P06,      72,          1,         27,         27,2,20170718,       2141,   -30.0800,   174.4998,       3609,   316.6,  12.5675,  35.0957,2,  35.0862,3, 200.3609,2, 200.0731,2,     4.3,2,   12.77,2,    0.00,2,    0.87,2,   2.297,2,   1.524,2,-999.0000,5,  2128.2,2, -999.00,9,   7.8060,2, -999.00,9, -999.00,9, -999.00,    47.9,2,   14.50,2,     -999.0,1,  -999.0,9, 20170718,     2122, -30.0800, 174.4996,        0.0,1,      0.060,1,      0.007,1,      0.147,1,      25.01,     -999.0,9,     -999.0,9,     -999.0,9,     -999.0,9,    12.4864,2,     -999.0,9
320620170703,        P06,      72,          1,         28,         28,2,20170718,       2141,   -30.0800,   174.4998,       3609,   267.7,  13.3333,  35.1884,2,  35.1746,2, 204.0115,2, 203.4239,2,     3.0,2,   10.75,2,    0.00,2,    0.73,2,-999.000,9,-999.000,9,-999.0000,9,  -999.0,9, -999.00,9,-999.0000,9, -999.00,9, -999.00,9, -999.00,    50.6,2,   13.80,2,     -999.0,1,  -999.0,9, 20170718,     2125, -30.0800, 174.4996,        0.0,1,      0.059,1,      0.013,1,      0.148,1,     -999.0,     -999.0,9,     -999.0,9,     -999.0,9,     -999.0,9,    13.2254,2,     -999.0,9
320620170703,        P06,      72,          1,         29,         29,2,20170718,       2141,   -30.0800,   174.4998,       3609,   216.7,  14.0453,  35.2564,2,  35.2755,2, 202.9181,2, 203.7993,2,     2.4,2,    9.09,2,    0.00,2,    0.64,2,   2.272,2,   1.461,2,-999.0000,5,  2115.8,2, -999.00,9,   7.8510,2, -999.00,9, -999.00,9, -999.00,    50.1,2,   11.60,2,     -999.0,1,  -999.0,9, 20170718,     2128, -30.0800, 174.4997,        0.0,1,      0.060,1,      0.010,1,      0.150,1,      25.01,     -999.0,9,     -999.0,9,     -999.0,9,     -999.0,9,    14.2731,2,     -999.0,9
320620170703,        P06,      72,          1,         30,         30,2,20170718,       2141,   -30.0800,   174.4998,       3609,   165.1,  15.3501,  35.3882,2,  35.3786,2, 200.9776,2, 201.3793,2,     1.8,2,    7.74,2,    0.02,2,    0.55,2,-999.000,9,-999.000,9,-999.0000,9,  2106.3,2, -999.00,9,   7.8769,2, -999.00,9, -999.00,9, -999.00,    48.0,3,   10.30,2,     -999.0,1,  -999.0,9, 20170718,     2130, -30.0800, 174.4997,        0.0,1,      0.061,1,      0.006,1,      0.155,1,      25.01,     -999.0,9,     -999.0,9,     -999.0,9,     -999.0,9,    15.2695,2,     -999.0,9
320620170703,        P06,      72,          1,         31,         31,2,20170718,       2141,   -30.0800,   174.4998,       3609,   135.6,  15.9592,  35.4421,2,  35.4340,2, 198.5881,2, 199.8821,2,     1.4,2,    7.05,2,    0.02,2,    0.49,2,   2.130,2,   1.411,2,-999.0000,5,  2101.2,2, -999.00,9,   7.8907,2, -999.00,9, -999.00,9, -999.00,    52.7,2,    9.10,2,     -999.0,1,  -999.0,9, 20170718,     2132, -30.0800, 174.4998,        0.0,1,      0.061,1,      2.676,1,      0.159,1,      25.02,     -999.0,9,     -999.0,9,     -999.0,9,     -999.0,9,    15.8595,2,     -999.0,9
320620170703,        P06,      72,          1,         32,         32,2,20170718,       2141,   -30.0800,   174.4998,       3609,   111.2,  17.0277,  35.5535,2,  35.5306,3, 209.2266,2, 209.7455,2,     0.8,2,    4.52,2,    0.07,2,    0.36,2,-999.000,9,-999.000,9,-999.0000,9,  2089.4,2, -999.00,9,   7.9258,2, -999.00,9, -999.00,9, -999.00,    52.4,2,    7.50,2,     -999.0,1,  -999.0,9, 20170718,     2134, -30.0800, 174.4998,        0.0,1,      0.095,1,      0.197,1,      0.171,1,      25.02,     -999.0,9,     -999.0,9,     -999.0,9,     -999.0,9,    16.9553,2,     -999.0,9