BOTTLE,20230922CCHSIOCBG
EXPOCODE,SECT_ID,STNNBR,CASTNO,SAMPNO,BTLNBR,BTLNBR_FLAG_W,DATE,TIME,LATITUDE,LONGITUDE,DEPTH,CTDPRS,CTDTMP,CTDSAL,CTDSAL_FLAG_W,SALNTY,SALNTY_FLAG_W,CTDOXY,CTDOXY_FLAG_W,OXYGEN,OXYGEN_FLAG_W,SILCAT,SILCAT_FLAG_W,NITRAT,NITRAT_FLAG_W,NITRIT,NITRIT_FLAG_W,PHSPHT,PHSPHT_FLAG_W,CFC-11,CFC-11_FLAG_W,CFC-12,CFC-12_FLAG_W,SF6,SF6_FLAG_W,TCARBN,TCARBN_FLAG_W,ALKALI,ALKALI_FLAG_W,PH_TOT,PH_TOT_FLAG_W,DELC13,DELC13_FLAG_W,DELC14,DELC14_FLAG_W,C14ERR,DOC,DOC_FLAG_W,TDN,TDN_FLAG_W,TON,TON_FLAG_W,D15N_NO3,D15N_NO3_FLAG_W,BTL_DATE,BTL_TIME,BTL_LAT,BTL_LON,CTDRINKO,CTDRINKO_FLAG_W,CTDFLUOR,CTDFLUOR_FLAG_W,CTDXMISS,CTDXMISS_FLAG_W,CTDBACKSCATTER,CTDBACKSCATTER_FLAG_W,PH_TMP,D18O_NO3,D18O_NO3_FLAG_W,DOP,DOP_FLAG_W,HPLC,HPLC_FLAG_W,POC,POC_FLAG_W,REFTMP,REFTMP_FLAG_W,TDP,TDP_FLAG_W
,,,,,,,,,,,METERS,DBAR,ITS-90,PSS-78,,PSS-78,,UMOL/KG,,UMOL/KG,,UMOL/KG,,UMOL/KG,,UMOL/KG,,UMOL/KG,,PMOL/KG,,PMOL/KG,,FMOL/KG,,UMOL/KG,,UMOL/KG,,,,/MILLE,,/MILLE,,/MILLE,UMOL/KG,,UMOL/KG,,UMOL/KG,,/MILLE,,,,,,VOLTS,,VOLTS,,VOLTS,,VOLTS,,DEGC,/MILLE,,UMOL/KG,,,,UG/L,,ITS-90,,UMOL/KG,
320620170703,        P06,      67,          1,          1,         37,2,20170717,       1956,   -30.0800,   173.0002,       1414,  1419.4,   3.6371,  34.5320,2,  34.5343,2, 168.2995,2, 168.2766,2,    73.9,2,   32.72,2,    0.00,2,    2.25,2,   0.328,2,   0.197,2,-999.0000,5,  2251.1,6, 2343.70,2,   7.5986,2, -999.00,9, -999.00,9, -999.00,    39.7,2, -999.00,9,     -999.0,1,  -999.0,9, 20170717,     1855, -30.0799, 172.9997,        0.0,1,      0.061,1,      0.009,1,      0.142,1,      25.02,     -999.0,9,     -999.0,9,     -999.0,9,     -999.0,9,     3.6236,2,     -999.0,9
320620170703,        P06,      67,          1,          2,          2,2,20170717,       1956,   -30.0800,   173.0002,       1414,  1381.0,   3.8258,  34.5203,2,  34.5211,2, 170.3395,2, 170.4063,2,    69.4,2,   32.33,2,    0.00,2,    2.23,2,-999.000,9,-999.000,9,-999.0000,9,  2242.6,2, 2338.10,2,   7.6015,2, -999.00,9, -999.00,9, -999.00,    39.6,2, -999.00,9,     -999.0,1,  -999.0,9, 20170717,     1858, -30.0799, 172.9997,        0.0,1,      0.061,1,      0.006,1,      0.144,1,      25.03,     -999.0,9,     -999.0,9,     -999.0,9,     -999.0,9,     3.8176,2,     -999.0,9
320620170703,        P06,      67,          1,          3,         38,2,20170717,       1956,   -30.0800,   173.0002,       1414,  1278.2,   4.3404,  34.4992,2,  34.4987,2, 176.5066,2, 176.5423,2,    58.6,2,   31.28,2,    0.00,2,    2.14,2,   0.561,2,   0.320,2,-999.0000,5,  2229.0,2, 2333.02,2,   7.6132,2, -999.00,9, -999.00,9, -999.00,    39.1,2, -999.00,9,     -999.0,1,  -999.0,9, 20170717,     1901, -30.0799, 172.9996,        0.0,1,      0.061,1,      0.100,1,      0.145,1,      25.03,     -999.0,9,     -999.0,9,     -999.0,9,     -999.0,9,     4.3473,2,     -999.0,9
320620170703,        P06,      67,          1,          4,          4,2,20170717,       1956,   -30.0800,   173.0002,       1414,  1177.0,   5.0438,  34.4777,2,  34.4787,2, 184.7825,2, 184.6053,2,    45.3,2,   29.67,2,    0.00,2,    2.02,2,-999.000,9,-999.000,9,-999.0000,9,  2209.5,2, 2313.42,2,   7.6306,2, -999.00,9, -999.00,9, -999.00,    40.5,2, -999.00,9,     -999.0,1,  -999.0,9, 20170717,     1904, -30.0799, 172.9996,        0.0,1,      0.060,1,      1.305,1,      0.145,1,      25.02,     -999.0,9,     -999.0,9,     -999.0,9,     -999.0,9,     5.0413,2,     -999.0,9
320620170703,        P06,      67,          1,          5,         39,2,20170717,       1956,   -30.0800,   173.0002,       1414,  1075.8,   5.5601,  34.4722,2,  34.4720,2, 190.4386,2, 190.1521,2,    36.8,2,   28.39,2,    0.00,2,    1.94,2,   1.059,2,   0.583,2,-999.0000,5,  2197.2,2, 2307.15,2,   7.6443,2, -999.00,9, -999.00,9, -999.00,    39.2,2, -999.00,9,     -999.0,1,  -999.0,9, 20170717,     1907, -30.0799, 172.9997,        0.0,1,      0.059,1,      0.194,1,      0.145,1,      25.02,     -999.0,9,     -999.0,9,     -999.0,9,     -999.0,9,     5.5588,2,     -999.0,9
320620170703,        P06,      67,          1,          6,          6,2,20170717,       1956,   -30.0800,   173.0002,       1414,   973.4,   5.8743,  34.4671,2,  34.4671,2, 193.6192,2, 194.1941,2,    31.6,2,   27.61,2,    0.00,2,    1.86,2,-999.000,9,-999.000,9,-999.0000,9,  2188.5,2, 2298.67,2,   7.6530,2, -999.00,9, -999.00,9, -999.00,    42.2,2, -999.00,9,     -999.0,1,  -999.0,9, 20170717,     1910, -30.0799, 172.9998,        0.0,1,      0.060,1,      0.411,1,      0.144,1,      25.04,     -999.0,9,     -999.0,9,     -999.0,9,     -999.0,9,     5.8662,2,     -999.0,9
320620170703,        P06,      67,          1,          7,         40,2,20170717,       1956,   -30.0800,   173.0002,       1414,   871.4,   6.6789,  34.4771,2,  34.4760,2, 202.6621,2, 202.0981,2,    21.5,2,   25.58,2,    0.00,2,    1.72,2,   1.578,2,   0.879,2,-999.0000,5,  2170.9,2, 2289.47,6,   7.6740,2, -999.00,9, -999.00,9, -999.00,  -999.0,5, -999.00,9,     -999.0,1,  -999.0,9, 20170717,     1913, -30.0799, 172.9997,        0.0,1,      0.060,1,      1.214,1,      0.140,1,      25.03,     -999.0,9,     -999.0,9,     -999.0,9,     -999.0,9,     6.6241,2,     -999.0,9
320620170703,        P06,      67,          1,          8,          8,2,20170717,       1956,   -30.0800,   173.0002,       1414,   771.9,   7.3653,  34.5129,2,  34.5123,2, 205.3633,2, 205.9988,2,    15.6,2,   23.72,2,    0.00,2,    1.59,2,-999.000,9,-999.000,9,-999.0000,9,  2163.5,2, 2288.89,2,   7.6919,2, -999.00,9, -999.00,9, -999.00,    43.9,2, -999.00,9,     -999.0,1,  -999.0,9, 20170717,     1916, -30.0799, 172.9997,        0.0,1,      0.060,1,      0.028,1,      0.145,1,      25.02,     -999.0,9,     -999.0,9,     -999.0,9,     -999.0,9,     7.3545,2,     -999.0,9
320620170703,        P06,      67,          1,          9,         41,2,20170717,       1956,   -30.0800,   173.0002,       1414,   670.2,   8.3048,  34.5939,2,  34.5991,2, 204.7442,2, 204.5246,2,    11.6,2,   21.55,2,    0.00,2,    1.43,2,   2.207,2,   1.255,2,-999.0000,5,  2155.3,6, 2292.48,2,   7.7115,2, -999.00,9, -999.00,9, -999.00,    44.5,2, -999.00,9,     -999.0,1,  -999.0,9, 20170717,     1919, -30.0799, 172.9999,        0.0,1,      0.059,1,      3.446,1,      0.145,1,      25.02,     -999.0,9,     -999.0,9,     -999.0,9,     -999.0,9,     8.3648,2,     -999.0,9
320620170703,        P06,      67,          1,         10,         10,2,20170717,       1956,   -30.0800,   173.0002,       1414,   569.1,   9.5300,  34.7209,2,  34.7304,3, 201.9188,2, 201.8996,2,     8.2,2,   18.82,2,    0.00,2,    1.26,2,-999.000,9,-999.000,9,-999.0000,9,  2146.5,2, 2291.54,2,   7.7375,2, -999.00,9, -999.00,9, -999.00,    42.4,2, -999.00,9,     -999.0,1,  -999.0,9, 20170717,     1922, -30.0799, 172.9999,        0.0,1,      0.060,1,      2.904,1,      0.146,1,      25.03,     -999.0,9,     -999.0,9,     -999.0,9,     -999.0,9,     9.6575,2,     -999.0,9
320620170703,        P06,      67,          1,         11,         42,2,20170717,       1956,   -30.0800,   173.0002,       1414,   489.7,  11.2336,  34.9261,2,  34.9319,2, 199.2317,2, 198.8890,2,     6.1,2,   15.40,2,    0.00,2,    1.03,2,   2.404,2,   1.431,2,-999.0000,5,  2137.8,2, 2295.48,2,   7.7764,2, -999.00,9, -999.00,9, -999.00,    42.2,2,   17.30,2,     -999.0,1,  -999.0,9, 20170717,     1925, -30.0799, 172.9998,        0.0,1,      0.059,1,      2.723,1,      0.147,1,      25.02,     -999.0,9,     -999.0,9,     -999.0,9,     -999.0,9,    11.3209,2,     -999.0,9
320620170703,        P06,      67,          1,         12,         12,2,20170717,       1956,   -30.0800,   173.0002,       1414,   438.1,  12.3235,  35.0567,2,  35.0970,2, 200.0344,2, 200.4527,2,     4.5,2,   12.59,2,    0.00,2,    0.85,2,-999.000,9,-999.000,9,-999.0000,9,  2128.6,2, 2303.71,2,   7.8107,2, -999.00,9, -999.00,9, -999.00,    46.8,2,   14.30,2,     -999.0,1,  -999.0,9, 20170717,     1927, -30.0799, 172.9998,        0.0,1,      0.061,1,      4.318,1,      0.147,1,      25.02,     -999.0,9,     -999.0,9,     -999.0,9,     -999.0,9,    12.6635,2,     -999.0,9
320620170703,        P06,      67,          1,         13,         43,2,20170717,       1956,   -30.0800,   173.0002,       1414,   388.1,  13.7529,  35.2160,2,  35.2302,2, 198.6679,2, 198.5345,2,     3.2,2,   10.48,2,    0.00,2,    0.70,2,   2.301,2,   1.457,2,-999.0000,5,  2117.8,2, 2312.33,2,   7.8404,2, -999.00,9, -999.00,9, -999.00,    48.7,2,   12.20,2,     -999.0,1,  -999.0,9, 20170717,     1930, -30.0800, 172.9999,        0.0,1,      0.060,1,      0.825,1,      0.147,1,      25.02,     -999.0,9,     -999.0,9,     -999.0,9,     -999.0,9,    13.8831,2,     -999.0,9
320620170703,        P06,      67,          1,         14,         14,2,20170717,       1956,   -30.0800,   173.0002,       1414,   337.5,  14.2684,  35.2765,2,  35.2893,2, 197.9819,2, 197.7913,2,     2.7,2,    9.61,2,    0.00,2,    0.65,2,-999.000,9,-999.000,9,-999.0000,9,  2114.6,2, 2310.35,2,   7.8542,2, -999.00,9, -999.00,9, -999.00,    48.8,2,   12.90,2,     -999.0,1,  -999.0,9, 20170717,     1932, -30.0800, 173.0001,        0.0,1,      0.060,1,      0.006,1,      0.146,1,      25.03,     -999.0,9,     -999.0,9,     -999.0,9,     -999.0,9,    14.4457,2,     -999.0,9
320620170703,        P06,      67,          1,         15,         15,2,20170717,       1956,   -30.0800,   173.0002,       1414,   288.2,  15.4222,  35.3913,2,  35.3843,2, 196.7030,2, 197.1695,2,     2.1,2,    8.16,2,    0.00,2,    0.56,2,   2.244,2,   1.420,2,-999.0000,5,  2107.2,2, 2320.93,2,   7.8775,2, -999.00,9, -999.00,9, -999.00,    49.7,2,   10.60,2,     -999.0,1,  -999.0,9, 20170717,     1934, -30.0800, 173.0001,        0.0,1,      0.059,1,      2.086,1,      0.152,1,      25.03,     -999.0,9,     -999.0,9,     -999.0,9,     -999.0,9,    15.4096,2,     -999.0,9
320620170703,        P06,      67,          1,         16,         16,2,20170717,       1956,   -30.0800,   173.0002,       1414,   242.1,  17.2863,  35.5575,2,  35.5089,2, 196.3795,2, 196.2945,2,     1.4,2,    6.41,2,    0.02,2,    0.45,2,-999.000,9,-999.000,9,-999.0000,9,  2096.2,2, 2326.10,2,   7.9090,2, -999.00,9, -999.00,9, -999.00,    46.4,2,    9.40,2,     -999.0,1,  -999.0,9, 20170717,     1937, -30.0800, 173.0002,        0.0,1,      0.060,1,      3.044,1,      0.151,1,      25.02,     -999.0,9,     -999.0,9,     -999.0,9,     -999.0,9,    16.7520,2,     -999.0,9
320620170703,        P06,      67,          1,         17,         17,2,20170717,       1956,   -30.0800,   173.0002,       1414,   216.0,  17.7316,  35.6006,2,  35.5669,2, 197.3585,2, 196.4783,2,     1.2,2,    5.54,2,    0.02,2,    0.40,2,   2.072,2,   1.355,2,-999.0000,5,  2091.0,2, 2329.45,2,   7.9245,2, -999.00,9, -999.00,9, -999.00,    49.8,2,    8.60,2,     -999.0,1,  -999.0,9, 20170717,     1938, -30.0800, 173.0003,        0.0,1,      0.061,1,      3.169,1,      0.152,1,      25.02,     -999.0,9,     -999.0,9,     -999.0,9,     -999.0,9,    17.3835,2,     -999.0,9
320620170703,        P06,      67,          1,         18,         18,2,20170717,       1956,   -30.0800,   173.0002,       1414,   191.3,  18.8596,  35.7813,2,  35.6098,2, 196.8866,2, 197.3859,2,     0.9,2,    4.85,2,    0.02,2,    0.34,2,-999.000,9,-999.000,9,-999.0000,9,  2088.0,2, 2331.91,2,   7.9366,2, -999.00,9, -999.00,9, -999.00,    50.5,2,    8.80,2,     -999.0,1,  -999.0,9, 20170717,     1940, -30.0799, 173.0005,        0.0,1,      0.132,1,      0.524,1,      0.190,1,      25.03,     -999.0,9,     -999.0,9,     -999.0,9,     -999.0,9,    17.8590,2,     -999.0,9
320620170703,        P06,      67,          1,         19,         19,2,20170717,       1956,   -30.0800,   173.0002,       1414,   164.5,  18.9191,  35.7945,2,  35.7837,2, 224.7213,2, 223.2664,2,     0.2,2,    0.96,2,    0.21,2,    0.12,2,   1.984,2,   1.280,2,-999.0000,5,  2062.8,2, 2342.80,2,   7.9975,2, -999.00,9, -999.00,9, -999.00,    52.7,2,    4.80,2,     -999.0,1,  -999.0,9, 20170717,     1942, -30.0799, 173.0006,        0.0,1,      0.176,1,      1.587,1,      0.206,1,      25.04,     -999.0,9,     -999.0,9,     -999.0,9,     -999.0,9,    18.9030,2,     -999.0,9
320620170703,        P06,      67,          1,         20,         20,2,20170717,       1956,   -30.0800,   173.0002,       1414,   140.8,  18.9478,  35.7971,2,  35.7987,2, 225.0416,2, 225.1527,2,     0.1,2,    0.77,2,    0.19,2,    0.11,2,-999.000,9,-999.000,9,-999.0000,9,  2057.3,2, 2343.90,2,   8.0015,2, -999.00,9, -999.00,9, -999.00,    57.1,2,    4.90,2,     -999.0,1,  -999.0,9, 20170717,     1944, -30.0799, 173.0005,        0.0,1,      0.185,1,      4.242,1,      0.206,1,      25.03,     -999.0,9,     -999.0,9,     -999.0,9,     -999.0,9,    18.9325,2,     -999.0,9
320620170703,        P06,      67,          1,         21,         21,2,20170717,       1956,   -30.0800,   173.0002,       1414,   118.1,  18.9844,  35.7982,2,  35.7983,2, 225.2921,2, 224.7313,2,     0.1,2,    0.77,2,    0.19,2,    0.10,2,   1.917,2,   1.280,2,-999.0000,5,  2061.1,2, 2344.83,2,   8.0010,2, -999.00,9, -999.00,9, -999.00,    56.6,2,    5.10,2,     -999.0,1,  -999.0,9, 20170717,     1946, -30.0800, 173.0003,        0.0,1,      0.168,1,      4.563,1,      0.199,1,      25.02,     -999.0,9,     -999.0,9,     -999.0,9,     -999.0,9,    18.9309,2,     -999.0,9
320620170703,        P06,      67,          1,         22,         22,2,20170717,       1956,   -30.0800,   173.0002,       1414,    91.3,  19.0397,  35.8046,2,  35.8007,2, 224.0176,2, 224.1044,2,     0.1,2,    0.79,2,    0.19,2,    0.12,2,-999.000,9,-999.000,9,-999.0000,9,  2061.9,2, 2345.61,6,   8.0016,2, -999.00,9, -999.00,9, -999.00,    57.2,2,    4.50,2,     -999.0,1,  -999.0,9, 20170717,     1948, -30.0800, 173.0002,        0.0,1,      0.162,1,      3.265,1,      0.197,1,      25.02,     -999.0,9,     -999.0,9,     -999.0,9,     -999.0,9,    18.9750,2,     -999.0,9
320620170703,        P06,      67,          1,         23,         23,2,20170717,       1956,   -30.0800,   173.0002,       1414,    65.4,  19.0529,  35.8069,2,  35.8028,2, 222.9234,2, 223.2563,2,     0.1,2,    0.85,2,    0.19,2,    0.12,2,   1.927,2,   1.279,2,-999.0000,5,  2061.8,2, 2344.75,2,   7.9998,2, -999.00,9, -999.00,9, -999.00,    60.0,3,    4.60,2,     -999.0,1,  -999.0,9, 20170717,     1951, -30.0800, 173.0002,        0.0,1,      0.161,1,      4.204,1,      0.199,1,      25.03,     -999.0,9,     -999.0,9,     -999.0,9,     -999.0,9,    19.0023,2,     -999.0,9
320620170703,        P06,      67,          1,         24,         24,2,20170717,       1956,   -30.0800,   173.0002,       1414,    39.4,  19.0513,  35.8068,2,  35.8062,2, 222.4902,2, 222.6315,2,     0.1,2,    0.86,2,    0.19,2,    0.12,2,-999.000,9,-999.000,9,-999.0000,9,  2062.1,2, 2344.12,2,   8.0012,2, -999.00,9, -999.00,9, -999.00,    55.8,2,    5.00,2,     -999.0,1,  -999.0,9, 20170717,     1953, -30.0800, 173.0002,        0.0,1,      0.158,1,      2.073,1,      0.196,1,      25.02,     -999.0,9,     -999.0,9,     -999.0,9,     -999.0,9,    19.0256,2,     -999.0,9
320620170703,        P06,      67,          1,         25,         25,2,20170717,       1956,   -30.0800,   173.0002,       1414,    21.4,  19.0452,  35.8066,2,  35.8058,2, 222.3677,2, 222.6251,2,     0.2,2,    0.87,2,    0.19,2,    0.13,2,-999.000,9,-999.000,9,-999.0000,9,  2061.1,2, 2339.29,2,   8.0002,2, -999.00,9, -999.00,9, -999.00,    57.4,2,    4.80,2,     -999.0,1,  -999.0,9, 20170717,     1955, -30.0800, 173.0002,        0.0,1,      0.152,1,      3.956,1,      0.195,1,      25.02,     -999.0,9,     -999.0,9,     -999.0,9,     -999.0,9,    19.0276,2,     -999.0,9
320620170703,        P06,      67,          1,         26,         26,2,20170717,       1956,   -30.0800,   173.0002,       1414,     5.5,  19.0481,  35.8053,2,  35.8052,2, 222.6567,2, 223.5017,2,     0.1,2,    0.87,2,    0.19,2,    0.13,2,   1.677,4,   1.242,2,-999.0000,5,  2061.5,6, 2342.75,2,   7.9998,2, -999.00,9, -999.00,9, -999.00,  -999.0,9, -999.00,9,     -999.0,1,  -999.0,9, 20170717,     1956, -30.0800, 173.0002,        0.0,1,      0.157,1,      2.890,1,      0.188,1,      25.02,     -999.0,9,     -999.0,9,     -999.0,9,     -999.0,9,    19.0247,2,     -999.0,9