BOTTLE,20230922CCHSIOCBG
EXPOCODE,SECT_ID,STNNBR,CASTNO,SAMPNO,BTLNBR,BTLNBR_FLAG_W,DATE,TIME,LATITUDE,LONGITUDE,DEPTH,CTDPRS,CTDTMP,CTDSAL,CTDSAL_FLAG_W,SALNTY,SALNTY_FLAG_W,CTDOXY,CTDOXY_FLAG_W,OXYGEN,OXYGEN_FLAG_W,SILCAT,SILCAT_FLAG_W,NITRAT,NITRAT_FLAG_W,NITRIT,NITRIT_FLAG_W,PHSPHT,PHSPHT_FLAG_W,CFC-11,CFC-11_FLAG_W,CFC-12,CFC-12_FLAG_W,SF6,SF6_FLAG_W,TCARBN,TCARBN_FLAG_W,ALKALI,ALKALI_FLAG_W,PH_TOT,PH_TOT_FLAG_W,DELC13,DELC13_FLAG_W,DELC14,DELC14_FLAG_W,C14ERR,DOC,DOC_FLAG_W,TDN,TDN_FLAG_W,TON,TON_FLAG_W,D15N_NO3,D15N_NO3_FLAG_W,BTL_DATE,BTL_TIME,BTL_LAT,BTL_LON,CTDRINKO,CTDRINKO_FLAG_W,CTDFLUOR,CTDFLUOR_FLAG_W,CTDXMISS,CTDXMISS_FLAG_W,CTDBACKSCATTER,CTDBACKSCATTER_FLAG_W,PH_TMP,D18O_NO3,D18O_NO3_FLAG_W,DOP,DOP_FLAG_W,HPLC,HPLC_FLAG_W,POC,POC_FLAG_W,REFTMP,REFTMP_FLAG_W,TDP,TDP_FLAG_W
,,,,,,,,,,,METERS,DBAR,ITS-90,PSS-78,,PSS-78,,UMOL/KG,,UMOL/KG,,UMOL/KG,,UMOL/KG,,UMOL/KG,,UMOL/KG,,PMOL/KG,,PMOL/KG,,FMOL/KG,,UMOL/KG,,UMOL/KG,,,,/MILLE,,/MILLE,,/MILLE,UMOL/KG,,UMOL/KG,,UMOL/KG,,/MILLE,,,,,,VOLTS,,VOLTS,,VOLTS,,VOLTS,,DEGC,/MILLE,,UMOL/KG,,,,UG/L,,ITS-90,,UMOL/KG,
320620170703,        P06,      21,          1,          1,         37,2,20170709,       0206,   -30.0794,   157.3992,       2895,  2925.0,   1.4967,  34.7205,2,  34.7209,2, 188.8868,2, 189.6662,2,   107.1,2,   32.09,2,    0.00,2,    2.21,2,  -0.018,4,  -0.004,4,   0.0000,4,  2272.0,6, 2368.35,2,   7.6079,2, -999.00,9, -999.00,9, -999.00,  -999.0,9, -999.00,9,     -999.0,9,  -999.0,9, 20170709,       25, -30.0796, 157.3997,        0.0,1,      0.061,1,      4.705,1,      0.139,1,      25.01,     -999.0,9,     -999.0,9,     -999.0,9,     -999.0,9,     1.4976,2,     -999.0,9
320620170703,        P06,      21,          1,          2,          2,2,20170709,       0206,   -30.0794,   157.3992,       2895,  2812.2,   1.6546,  34.7202,2,  34.7193,2, 187.1844,2, 186.7651,2,   103.8,2,   32.11,2,    0.00,2,    2.23,2,   0.043,2,   0.036,2,   0.0000,2,  -999.0,9, -999.00,9,-999.0000,9, -999.00,9, -999.00,9, -999.00,  -999.0,9, -999.00,9,     -999.0,9,  -999.0,9, 20170709,       29, -30.0798, 157.3998,        0.0,1,      0.061,1,      4.704,1,      0.141,1,     -999.0,     -999.0,9,     -999.0,9,     -999.0,9,     -999.0,9,     1.6555,2,     -999.0,9
320620170703,        P06,      21,          1,          3,         38,2,20170709,       0206,   -30.0794,   157.3992,       2895,  2699.9,   1.7999,  34.7189,2,  34.7184,2, 184.3750,2, 183.9860,2,   100.2,2,   32.11,2,    0.00,2,    2.22,2,   0.036,2,   0.045,2,   0.0000,2,  2267.9,2, 2361.41,2,   7.6016,2, -999.00,9, -999.00,9, -999.00,  -999.0,9, -999.00,9,     -999.0,9,  -999.0,9, 20170709,       32, -30.0799, 157.3998,        0.0,1,      0.060,1,      4.706,1,      0.137,1,      25.01,     -999.0,9,     -999.0,9,     -999.0,9,     -999.0,9,     1.7985,2,     -999.0,9
320620170703,        P06,      21,          1,          4,          4,2,20170709,       0206,   -30.0794,   157.3992,       2895,  2495.3,   1.9960,  34.7083,2,  34.7085,2, 179.0924,2, 178.8544,2,    96.2,2,   32.33,2,    0.00,2,    2.26,2,   0.040,2,   0.049,2,   0.0000,2,  -999.0,9, -999.00,9,-999.0000,9, -999.00,9, -999.00,9, -999.00,  -999.0,9, -999.00,9,     -999.0,9,  -999.0,9, 20170709,       37, -30.0799, 157.3998,        0.0,1,      0.061,1,      4.705,1,      0.137,1,     -999.0,     -999.0,9,     -999.0,9,     -999.0,9,     -999.0,9,     1.9933,2,     -999.0,9
320620170703,        P06,      21,          1,          5,         39,2,20170709,       0206,   -30.0794,   157.3992,       2895,  2292.9,   2.1678,  34.6886,2,  34.6885,2, 172.3754,2, 172.3262,2,    94.6,2,   32.82,2,    0.00,2,    2.28,2,   0.044,2,   0.052,2,   0.0000,2,  2270.9,2, 2359.99,2,   7.5874,2, -999.00,9, -999.00,9, -999.00,  -999.0,9, -999.00,9,     -999.0,9,  -999.0,9, 20170709,       42, -30.0797, 157.3996,        0.0,1,      0.061,1,      4.706,1,      0.139,1,      25.01,     -999.0,9,     -999.0,9,     -999.0,9,     -999.0,9,     2.1706,2,     -999.0,9
320620170703,        P06,      21,          1,          6,          6,2,20170709,       0206,   -30.0794,   157.3992,       2895,  2088.8,   2.3702,  34.6589,2,  34.6580,2, 162.2613,2, 162.6117,2,    96.0,2,   33.74,2,    0.00,2,    2.36,2,   0.044,2,   0.054,2,   0.0000,2,  -999.0,9, -999.00,9,-999.0000,9, -999.00,9, -999.00,9, -999.00,  -999.0,9, -999.00,9,     -999.0,9,  -999.0,9, 20170709,       47, -30.0796, 157.3995,        0.0,1,      0.062,1,      4.706,1,      0.139,1,     -999.0,     -999.0,9,     -999.0,9,     -999.0,9,     -999.0,9,     2.3750,2,     -999.0,9
320620170703,        P06,      21,          1,          7,         40,2,20170709,       0206,   -30.0794,   157.3992,       2895,  1957.6,   2.4895,  34.6418,2,  34.6403,2, 157.3044,2, 156.8842,2,    97.3,2,   34.24,2,    0.00,2,    2.39,2,   0.091,2,   0.137,2,   0.0000,2,  2282.4,2, 2364.40,2,   7.5733,2, -999.00,9, -999.00,9, -999.00,  -999.0,9, -999.00,9,     -999.0,9,  -999.0,9, 20170709,       50, -30.0795, 157.3995,        0.0,1,      0.061,1,      4.706,1,      0.141,1,      24.99,     -999.0,9,     -999.0,9,     -999.0,9,     -999.0,9,     2.4983,2,     -999.0,9
320620170703,        P06,      21,          1,          8,          8,2,20170709,       0206,   -30.0794,   157.3992,       2895,  1854.9,   2.6531,  34.6220,2,  34.6205,2, 152.9477,2, 153.1638,2,    96.8,2,   34.53,2,    0.00,2,    2.41,2,   0.044,2,   0.046,2,   0.0000,2,  -999.0,9, -999.00,9,-999.0000,9, -999.00,9, -999.00,9, -999.00,  -999.0,9, -999.00,9,     -999.0,9,  -999.0,9, 20170709,       54, -30.0794, 157.3994,        0.0,1,      0.061,1,      4.705,1,      0.144,1,     -999.0,     -999.0,9,     -999.0,9,     -999.0,9,     -999.0,9,     2.6558,2,     -999.0,9
320620170703,        P06,      21,          1,          9,         41,2,20170709,       0206,   -30.0794,   157.3992,       2895,  1754.4,   2.8672,  34.5993,2,  34.6014,2, 150.5893,2, 150.8261,2,    95.2,2,   34.68,2,    0.00,2,    2.39,2,   0.040,2,   0.042,2,   0.0000,2,  2282.6,6, 2363.27,2,   7.5675,2, -999.00,9, -999.00,9, -999.00,  -999.0,9, -999.00,9,     -999.0,9,  -999.0,9, 20170709,       57, -30.0793, 157.3993,        0.0,1,      0.061,1,      4.705,1,      0.143,1,      25.00,     -999.0,9,     -999.0,9,     -999.0,9,     -999.0,9,     2.8341,2,     -999.0,9
320620170703,        P06,      21,          1,         10,         10,2,20170709,       0206,   -30.0794,   157.3992,       2895,  1652.5,   3.0471,  34.5820,2,  34.5820,2, 151.7126,2, 152.0273,2,    90.5,2,   34.53,2,    0.00,2,    2.41,2,   0.067,2,   0.063,2,   0.0000,2,  -999.0,9, -999.00,9,-999.0000,9, -999.00,9, -999.00,9, -999.00,  -999.0,9, -999.00,9,     -999.0,9,  -999.0,9, 20170709,      100, -30.0791, 157.3992,        0.0,1,      0.061,1,      4.705,1,      0.139,1,     -999.0,     -999.0,9,     -999.0,9,     -999.0,9,     -999.0,9,     3.0334,2,     -999.0,9
320620170703,        P06,      21,          1,         11,         42,2,20170709,       0206,   -30.0794,   157.3992,       2895,  1551.8,   3.3283,  34.5569,2,  34.5574,2, 154.0824,2, 153.4213,2,    84.4,2,   34.20,2,    0.00,2,    2.39,2,   0.087,2,   0.073,2,   0.0000,2,  2270.3,2, 2356.03,2,   7.5760,2, -999.00,9, -999.00,9, -999.00,  -999.0,9, -999.00,9,     -999.0,9,  -999.0,9, 20170709,      103, -30.0791, 157.3991,        0.0,1,      0.061,1,      4.705,1,      0.149,1,      25.00,     -999.0,9,     -999.0,9,     -999.0,9,     -999.0,9,     3.3023,2,     -999.0,9
320620170703,        P06,      21,          1,         12,         12,2,20170709,       0206,   -30.0794,   157.3992,       2895,  1449.1,   3.6732,  34.5304,2,  34.5325,2, 159.5784,2, 159.8730,2,    75.1,2,   33.41,2,    0.00,2,    2.34,2,   0.161,2,   0.114,2,   0.1180,2,  -999.0,9, -999.00,9,-999.0000,9, -999.00,9, -999.00,9, -999.00,  -999.0,9, -999.00,9,     -999.0,9,  -999.0,9, 20170709,      106, -30.0791, 157.3991,        0.0,1,      0.060,1,      4.705,1,      0.142,1,     -999.0,     -999.0,9,     -999.0,9,     -999.0,9,     -999.0,9,     3.6311,2,     -999.0,9
320620170703,        P06,      21,          1,         13,         43,2,20170709,       0206,   -30.0794,   157.3992,       2895,  1348.2,   4.0212,  34.5047,2,  34.5033,2, 166.0025,2, 166.0862,2,    65.1,2,   32.60,2,    0.00,2,    2.27,2,   0.252,2,   0.164,2,   0.1780,2,  2244.1,2, 2333.10,2,   7.5985,2, -999.00,9, -999.00,9, -999.00,  -999.0,9, -999.00,9,     -999.0,9,  -999.0,9, 20170709,      109, -30.0791, 157.3990,        0.0,1,      0.060,1,      4.705,1,      0.141,1,      25.00,     -999.0,9,     -999.0,9,     -999.0,9,     -999.0,9,     4.0053,2,     -999.0,9
320620170703,        P06,      21,          1,         14,         14,2,20170709,       0206,   -30.0794,   157.3992,       2895,  1247.4,   4.5529,  34.4734,2,  34.4744,2, 174.2419,2, 173.9394,2,    53.0,2,   31.45,2,    0.00,2,    2.17,2,   0.422,2,   0.245,2,   0.1950,2,  -999.0,9, -999.00,9,-999.0000,9, -999.00,9, -999.00,9, -999.00,  -999.0,9, -999.00,9,     -999.0,9,  -999.0,9, 20170709,      112, -30.0791, 157.3991,        0.0,1,      0.060,1,      4.705,1,      0.143,1,     -999.0,     -999.0,9,     -999.0,9,     -999.0,9,     -999.0,9,     4.5160,2,     -999.0,9
320620170703,        P06,      21,          1,         15,         15,2,20170709,       0206,   -30.0794,   157.3992,       2895,  1145.9,   5.1145,  34.4525,2,  34.4475,2, 184.3764,2, 184.4337,2,    39.9,2,   29.80,2,    0.00,2,    2.04,2,   0.694,2,   0.386,2,   0.2080,2,  -999.0,9, -999.00,9,-999.0000,9, -999.00,9, -999.00,9, -999.00,  -999.0,9, -999.00,9,     -999.0,9,  -999.0,9, 20170709,      115, -30.0792, 157.3991,        0.0,1,      0.060,1,      4.705,1,      0.142,1,     -999.0,     -999.0,9,     -999.0,9,     -999.0,9,     -999.0,9,     5.1289,2,     -999.0,9
320620170703,        P06,      21,          1,         16,         16,2,20170709,       0206,   -30.0794,   157.3992,       2895,  1044.4,   5.6438,  34.4435,2,  34.4428,2, 188.7496,2, 189.3696,2,    32.4,2,   28.58,2,    0.00,2,    1.96,2,   0.948,6,   0.489,6,   0.2435,6,  2196.1,2, 2298.06,2,   7.6412,2, -999.00,9, -999.00,9, -999.00,  -999.0,9, -999.00,9,     -999.0,9,  -999.0,9, 20170709,      118, -30.0792, 157.3991,        0.0,1,      0.059,1,      4.704,1,      0.141,1,      25.00,     -999.0,9,     -999.0,9,     -999.0,9,     -999.0,9,     5.6358,2,     -999.0,9
320620170703,        P06,      21,          1,         17,         17,2,20170709,       0206,   -30.0794,   157.3992,       2895,   942.3,   6.3307,  34.4468,2,  34.4449,2, 197.4534,2, 196.8272,2,    24.1,2,   26.92,2,    0.00,2,    1.84,2,   1.374,2,   0.671,2,   0.3190,2,  2180.5,2, 2291.07,2,-999.0000,9, -999.00,9, -999.00,9, -999.00,  -999.0,9, -999.00,9,     -999.0,9,  -999.0,9, 20170709,      121, -30.0793, 157.3992,        0.0,1,      0.060,1,      4.705,1,      0.140,1,     -999.0,     -999.0,9,     -999.0,9,     -999.0,9,     -999.0,9,     6.2441,2,     -999.0,9
320620170703,        P06,      21,          1,         18,         18,2,20170709,       0206,   -30.0794,   157.3992,       2895,   841.9,   7.0931,  34.4771,2,  34.4752,2, 202.0480,2, 202.1641,2,    16.7,2,   24.84,2,    0.00,2,    1.67,2,   1.877,2,   0.905,2,   0.4640,2,  -999.0,9, -999.00,9,-999.0000,9, -999.00,9, -999.00,9, -999.00,  -999.0,9, -999.00,9,     -999.0,9,  -999.0,9, 20170709,      125, -30.0794, 157.3995,        0.0,1,      0.060,1,      4.704,1,      0.141,1,     -999.0,     -999.0,9,     -999.0,9,     -999.0,9,     -999.0,9,     7.0373,2,     -999.0,9
320620170703,        P06,      21,          1,         19,         19,2,20170709,       0206,   -30.0794,   157.3992,       2895,   741.8,   8.2609,  34.5772,2,  34.5645,2, 202.2080,2, 202.8681,2,    11.7,2,   22.32,2,    0.00,2,    1.52,2,   2.366,2,   1.143,2,   0.5150,2,  2158.5,2, 2285.69,2,   7.7028,2, -999.00,9, -999.00,9, -999.00,  -999.0,9, -999.00,9,     -999.0,9,  -999.0,9, 20170709,      128, -30.0796, 157.3997,        0.0,1,      0.060,1,      4.702,1,      0.143,1,      25.00,     -999.0,9,     -999.0,9,     -999.0,9,     -999.0,9,     8.1237,2,     -999.0,9
320620170703,        P06,      21,          1,         20,         20,2,20170709,       0206,   -30.0794,   157.3992,       2895,   641.0,   9.8984,  34.7569,2,  34.7266,2, 199.7584,2, 199.9672,2,     7.7,2,   19.08,2,    0.00,2,    1.29,2,   2.527,2,   1.312,2,   0.6750,2,  -999.0,9, -999.00,9,-999.0000,9, -999.00,9, -999.00,9, -999.00,  -999.0,9, -999.00,9,     -999.0,9,  -999.0,9, 20170709,      131, -30.0797, 157.3998,        0.0,1,      0.060,1,      4.700,1,      0.143,1,     -999.0,     -999.0,9,     -999.0,9,     -999.0,9,     -999.0,9,     9.6450,2,     -999.0,9
320620170703,        P06,      21,          1,         21,         21,2,20170709,       0206,   -30.0794,   157.3992,       2895,   539.2,  11.7740,  34.9893,2,  34.9357,2, 196.2737,2, 196.6584,2,     5.4,2,   15.43,2,    0.00,2,    1.04,2,   2.580,2,   1.367,2,   0.8340,2,  2137.5,2, 2296.84,2,   7.7729,2, -999.00,9, -999.00,9, -999.00,  -999.0,9, -999.00,9,     -999.0,9,  -999.0,9, 20170709,      134, -30.0798, 157.3997,        0.0,1,      0.059,1,      4.697,1,      0.143,1,      25.00,     -999.0,9,     -999.0,9,     -999.0,9,     -999.0,9,    11.4192,2,     -999.0,9
320620170703,        P06,      21,          1,         22,         22,2,20170709,       0206,   -30.0794,   157.3992,       2895,   468.8,  13.0755,  35.1339,2,  35.1280,2, 195.7847,2, 194.3648,2,     3.9,2,   12.45,2,    0.00,2,    0.86,2,   2.518,2,   1.359,2,   0.9000,2,  -999.0,9, -999.00,9,-999.0000,9, -999.00,9, -999.00,9, -999.00,  -999.0,9, -999.00,9,     -999.0,9,  -999.0,9, 20170709,      137, -30.0798, 157.3998,        0.0,1,      0.059,1,      4.695,1,      0.145,1,     -999.0,     -999.0,9,     -999.0,9,     -999.0,9,     -999.0,9,    13.0165,2,     -999.0,9
320620170703,        P06,      21,          1,         23,         23,2,20170709,       0206,   -30.0794,   157.3992,       2895,   418.2,  14.1077,  35.2294,2,  35.2296,2, 190.8288,2, 190.3385,2,     3.3,2,   10.97,2,    0.00,2,    0.76,2,   2.603,2,   1.348,2,   0.9230,2,  2121.1,2, 2309.61,2,   7.8368,2, -999.00,9, -999.00,9, -999.00,  -999.0,9, -999.00,9,     -999.0,9,  -999.0,9, 20170709,      140, -30.0798, 157.3997,        0.0,1,      0.060,1,      4.695,1,      0.148,1,      25.00,     -999.0,9,     -999.0,9,     -999.0,9,     -999.0,9,    14.1088,2,     -999.0,9
320620170703,        P06,      21,          1,         24,         24,2,20170709,       0206,   -30.0794,   157.3992,       2895,   368.0,  15.5846,  35.3930,2,  35.3859,2, 192.5739,2, 192.1444,2,     2.3,2,    8.51,2,    0.00,2,    0.61,2,   2.463,2,   1.317,2,   0.9740,2,  -999.0,9, -999.00,9,-999.0000,9, -999.00,9, -999.00,9, -999.00,  -999.0,9, -999.00,9,     -999.0,9,  -999.0,9, 20170709,      143, -30.0798, 157.3998,        0.0,1,      0.060,1,      4.694,1,      0.145,1,     -999.0,     -999.0,9,     -999.0,9,     -999.0,9,     -999.0,9,    15.5992,2,     -999.0,9
320620170703,        P06,      21,          1,         25,         25,2,20170709,       0206,   -30.0794,   157.3992,       2895,   317.1,  17.0231,  35.5287,2,  35.5192,2, 192.1795,2, 192.3836,2,     1.7,2,    6.58,2,    0.00,2,    0.48,2,   2.319,2,   1.284,2,   1.0310,2,  2096.5,2, 2341.67,3,   7.9105,2, -999.00,9, -999.00,9, -999.00,  -999.0,9, -999.00,9,     -999.0,9,  -999.0,9, 20170709,      146, -30.0799, 157.3999,        0.0,1,      0.061,1,      4.692,1,      0.147,1,      25.00,     -999.0,9,     -999.0,9,     -999.0,9,     -999.0,9,    17.0879,2,     -999.0,9
320620170703,        P06,      21,          1,         26,         26,2,20170709,       0206,   -30.0794,   157.3992,       2895,   267.7,  18.1711,  35.6200,2,  35.6163,2, 192.1352,2, 193.4555,2,     1.1,2,    5.09,2,    0.00,2,    0.37,2,   2.175,2,   1.249,2,   1.0560,2,  2087.3,2, 2327.62,2,   7.9375,2, -999.00,9, -999.00,9, -999.00,  -999.0,9, -999.00,9,     -999.0,9,  -999.0,9, 20170709,      149, -30.0801, 157.4000,        0.0,1,      0.060,1,      4.690,1,      0.148,1,      24.99,     -999.0,9,     -999.0,9,     -999.0,9,     -999.0,9,    18.1455,2,     -999.0,9
320620170703,        P06,      21,          1,         27,         27,2,20170709,       0206,   -30.0794,   157.3992,       2895,   236.9,  18.9037,  35.6714,2,  35.6725,2, 190.6224,2, 192.5114,2,     1.0,2,    4.34,2,    0.00,2,    0.34,2,   2.145,2,   1.223,2,   1.0690,2,  2081.3,2, 2335.63,2,   7.9538,2, -999.00,9, -999.00,9, -999.00,  -999.0,9, -999.00,9,     -999.0,9,  -999.0,9, 20170709,      150, -30.0803, 157.3999,        0.0,1,      0.061,1,      4.688,1,      0.153,1,      25.00,     -999.0,9,     -999.0,9,     -999.0,9,     -999.0,9,    19.0092,2,     -999.0,9
320620170703,        P06,      21,          1,         28,         28,2,20170709,       0206,   -30.0794,   157.3992,       2895,   211.7,  19.2244,  35.6909,2,  35.6988,2, 195.5300,3, 193.2162,2,     0.8,2,    3.85,2,    0.02,2,    0.31,2,   2.086,2,   1.191,2,   0.9740,2,  2076.9,2, 2334.17,2,   7.9640,2, -999.00,9, -999.00,9, -999.00,  -999.0,9, -999.00,9,     -999.0,9,  -999.0,9, 20170709,      152, -30.0802, 157.3999,        0.0,1,      0.061,1,      4.687,1,      0.154,1,      25.01,     -999.0,9,     -999.0,9,     -999.0,9,     -999.0,9,    19.3895,2,     -999.0,9
320620170703,        P06,      21,          1,         29,         29,2,20170709,       0206,   -30.0794,   157.3992,       2895,   186.3,  19.6087,  35.7384,2,  35.7410,2, 200.4033,3, 202.6777,2,     0.5,2,    2.62,2,    0.02,2,    0.22,2,   2.035,2,   1.175,2,   1.0610,2,  2066.8,2, 2336.60,2,   7.9844,2, -999.00,9, -999.00,9, -999.00,  -999.0,9, -999.00,9,     -999.0,9,  -999.0,9, 20170709,      154, -30.0802, 157.3999,        0.0,1,      0.060,1,      4.685,1,      0.157,1,      25.01,     -999.0,9,     -999.0,9,     -999.0,9,     -999.0,9,    19.6660,2,     -999.0,9
320620170703,        P06,      21,          1,         30,         30,2,20170709,       0206,   -30.0794,   157.3992,       2895,   161.4,  19.9974,  35.7557,2,  35.7479,2, 195.1297,2, 195.7559,2,     0.6,2,    2.87,2,    0.03,2,    0.25,2,   2.005,2,   1.161,2,   1.0290,2,  2069.7,2, 2342.18,2,   7.9838,2, -999.00,9, -999.00,9, -999.00,  -999.0,9, -999.00,9,     -999.0,9,  -999.0,9, 20170709,      156, -30.0801, 157.3998,        0.0,1,      0.061,1,      4.684,1,      0.163,1,      25.00,     -999.0,9,     -999.0,9,     -999.0,9,     -999.0,9,    20.1526,2,     -999.0,9
320620170703,        P06,      21,          1,         31,         31,2,20170709,       0206,   -30.0794,   157.3992,       2895,   136.4,  20.3228,  35.7854,2,  35.7809,2, 204.7464,2, 203.8116,2,     0.4,2,    1.89,2,    0.08,2,    0.19,2,   1.958,2,   1.138,2,   1.0330,2,  2060.8,2, 2340.03,2,   8.0012,2, -999.00,9, -999.00,9, -999.00,  -999.0,9, -999.00,9,     -999.0,9,  -999.0,9, 20170709,      157, -30.0799, 157.3997,        0.0,1,      0.064,1,      4.680,1,      0.164,1,      25.01,     -999.0,9,     -999.0,9,     -999.0,9,     -999.0,9,    20.4000,2,     -999.0,9
320620170703,        P06,      21,          1,         32,         32,2,20170709,       0206,   -30.0794,   157.3992,       2895,   111.0,  20.5024,  35.7979,2,  35.7896,2, 209.1605,2, 210.9992,2,     0.3,2,    1.06,2,    0.17,2,    0.14,2,   1.961,2,   1.132,2,   1.1130,2,  2053.2,2, 2344.24,2,   8.0148,2, -999.00,9, -999.00,9, -999.00,  -999.0,9, -999.00,9,     -999.0,9,  -999.0,9, 20170709,      159, -30.0798, 157.3997,        0.0,1,      0.068,1,      4.680,1,      0.164,1,      25.00,     -999.0,9,     -999.0,9,     -999.0,9,     -999.0,9,    20.5007,2,     -999.0,9