BOTTLE,20230922CCHSIOCBG
EXPOCODE,SECT_ID,STNNBR,CASTNO,SAMPNO,BTLNBR,BTLNBR_FLAG_W,DATE,TIME,LATITUDE,LONGITUDE,DEPTH,CTDPRS,CTDTMP,CTDSAL,CTDSAL_FLAG_W,SALNTY,SALNTY_FLAG_W,CTDOXY,CTDOXY_FLAG_W,OXYGEN,OXYGEN_FLAG_W,SILCAT,SILCAT_FLAG_W,NITRAT,NITRAT_FLAG_W,NITRIT,NITRIT_FLAG_W,PHSPHT,PHSPHT_FLAG_W,CFC-11,CFC-11_FLAG_W,CFC-12,CFC-12_FLAG_W,SF6,SF6_FLAG_W,TCARBN,TCARBN_FLAG_W,ALKALI,ALKALI_FLAG_W,PH_TOT,PH_TOT_FLAG_W,DELC13,DELC13_FLAG_W,DELC14,DELC14_FLAG_W,C14ERR,DOC,DOC_FLAG_W,TDN,TDN_FLAG_W,TON,TON_FLAG_W,D15N_NO3,D15N_NO3_FLAG_W,BTL_DATE,BTL_TIME,BTL_LAT,BTL_LON,CTDRINKO,CTDRINKO_FLAG_W,CTDFLUOR,CTDFLUOR_FLAG_W,CTDXMISS,CTDXMISS_FLAG_W,CTDBACKSCATTER,CTDBACKSCATTER_FLAG_W,PH_TMP,D18O_NO3,D18O_NO3_FLAG_W,DOP,DOP_FLAG_W,HPLC,HPLC_FLAG_W,POC,POC_FLAG_W,REFTMP,REFTMP_FLAG_W,TDP,TDP_FLAG_W
,,,,,,,,,,,METERS,DBAR,ITS-90,PSS-78,,PSS-78,,UMOL/KG,,UMOL/KG,,UMOL/KG,,UMOL/KG,,UMOL/KG,,UMOL/KG,,PMOL/KG,,PMOL/KG,,FMOL/KG,,UMOL/KG,,UMOL/KG,,,,/MILLE,,/MILLE,,/MILLE,UMOL/KG,,UMOL/KG,,UMOL/KG,,/MILLE,,,,,,VOLTS,,VOLTS,,VOLTS,,VOLTS,,DEGC,/MILLE,,UMOL/KG,,,,UG/L,,ITS-90,,UMOL/KG,
320620170703,        P06,     130,          2,         33,         33,2,20170809,       1019,   -32.4999,  -157.6164,       5065,    85.3,  17.4457,  35.5784,2,  35.5811,2, 233.2417,2, 233.0322,2,     0.1,2,    0.13,2,    0.02,2,    0.09,2,   2.244,2,   1.288,2,   1.2390,2,  2065.3,2, -999.00,9,   7.9790,2, -999.00,9, -999.00,9, -999.00,    64.5,2,    4.70,2,     -999.0,1,  -999.0,9, 20170809,     1013, -32.4999,-157.6166,        0.0,1,      0.153,1,      4.644,1,      0.172,1,      25.03,     -999.0,9,     -999.0,9,     -999.0,9,     -999.0,9,    17.4400,2,     -999.0,9
320620170703,        P06,     130,          2,         34,         34,2,20170809,       1019,   -32.4999,  -157.6164,       5065,    59.6,  17.4351,  35.5795,2,  35.5807,2, 233.4791,2, 233.1154,2,     0.1,2,    0.12,2,    0.02,2,    0.09,2,   2.294,2,   1.296,2,   1.3580,2,  2063.1,2, 2336.49,2,   7.9796,2, -999.00,9, -999.00,9, -999.00,    63.2,2,    4.20,2,     -999.0,1,  -999.0,9, 20170809,     1015, -32.4999,-157.6165,        0.0,1,      0.159,1,      4.642,1,      0.171,1,      25.03,     -999.0,9,     -999.0,9,     -999.0,9,     -999.0,9,    17.4326,2,     -999.0,9
320620170703,        P06,     130,          2,         35,         35,2,20170809,       1019,   -32.4999,  -157.6164,       5065,    35.3,  17.4339,  35.5795,2,  35.5805,2, 233.5355,2, 233.3313,2,     0.1,2,    0.12,2,    0.02,2,    0.10,2,   2.239,2,   1.317,2,   1.1020,2,  2065.4,2, -999.00,9,   7.9781,2, -999.00,9, -999.00,9, -999.00,    64.6,2,    4.50,2,     -999.0,1,  -999.0,9, 20170809,     1017, -32.4999,-157.6165,        0.0,1,      0.159,1,      4.642,1,      0.172,1,      25.04,     -999.0,9,     -999.0,9,     -999.0,9,     -999.0,9,    17.4337,2,     -999.0,9
320620170703,        P06,     130,          2,         36,         36,2,20170809,       1019,   -32.4999,  -157.6164,       5065,     5.9,  17.4434,  35.5778,2,  35.5807,2, 233.3593,2, 233.3256,2,     0.1,2,    0.12,2,    0.02,2,    0.10,2,   2.255,2,   1.285,2,   1.2290,2,  2065.5,6, 2337.06,2,   7.9781,2, -999.00,9, -999.00,9, -999.00,    60.1,2,    4.00,2,     -999.0,1,  -999.0,9, 20170809,     1019, -32.4999,-157.6164,        0.0,1,      0.163,1,      4.639,1,      0.165,1,      25.02,     -999.0,9,     -999.0,9,     -999.0,9,     -999.0,9,    17.4205,2,     -999.0,9