BOTTLE,20230922CCHSIOCBG
EXPOCODE,SECT_ID,STNNBR,CASTNO,SAMPNO,BTLNBR,BTLNBR_FLAG_W,DATE,TIME,LATITUDE,LONGITUDE,DEPTH,CTDPRS,CTDTMP,CTDSAL,CTDSAL_FLAG_W,SALNTY,SALNTY_FLAG_W,CTDOXY,CTDOXY_FLAG_W,OXYGEN,OXYGEN_FLAG_W,SILCAT,SILCAT_FLAG_W,NITRAT,NITRAT_FLAG_W,NITRIT,NITRIT_FLAG_W,PHSPHT,PHSPHT_FLAG_W,CFC-11,CFC-11_FLAG_W,CFC-12,CFC-12_FLAG_W,SF6,SF6_FLAG_W,TCARBN,TCARBN_FLAG_W,ALKALI,ALKALI_FLAG_W,PH_TOT,PH_TOT_FLAG_W,DELC13,DELC13_FLAG_W,DELC14,DELC14_FLAG_W,C14ERR,DOC,DOC_FLAG_W,TDN,TDN_FLAG_W,TON,TON_FLAG_W,D15N_NO3,D15N_NO3_FLAG_W,BTL_DATE,BTL_TIME,BTL_LAT,BTL_LON,CTDRINKO,CTDRINKO_FLAG_W,CTDFLUOR,CTDFLUOR_FLAG_W,CTDXMISS,CTDXMISS_FLAG_W,CTDBACKSCATTER,CTDBACKSCATTER_FLAG_W,PH_TMP,D18O_NO3,D18O_NO3_FLAG_W,DOP,DOP_FLAG_W,HPLC,HPLC_FLAG_W,POC,POC_FLAG_W,REFTMP,REFTMP_FLAG_W,TDP,TDP_FLAG_W
,,,,,,,,,,,METERS,DBAR,ITS-90,PSS-78,,PSS-78,,UMOL/KG,,UMOL/KG,,UMOL/KG,,UMOL/KG,,UMOL/KG,,UMOL/KG,,PMOL/KG,,PMOL/KG,,FMOL/KG,,UMOL/KG,,UMOL/KG,,,,/MILLE,,/MILLE,,/MILLE,UMOL/KG,,UMOL/KG,,UMOL/KG,,/MILLE,,,,,,VOLTS,,VOLTS,,VOLTS,,VOLTS,,DEGC,/MILLE,,UMOL/KG,,,,UG/L,,ITS-90,,UMOL/KG,
320620170703,        P06,     124,          1,          1,          1,2,20170806,       2352,   -32.4994,  -161.8331,       5416,  5515.4,   1.1373,  34.7097,2,  34.7081,3, 205.2837,2, 205.9390,2,   121.9,2,   32.21,2,    0.00,2,    2.23,2,   0.119,2,   0.071,2,   0.0000,2,  2264.0,6, 2369.97,2,   7.6070,2, -999.00,9, -999.00,9, -999.00,    41.9,2, -999.00,9,     -999.0,1,  -999.0,1, 20170806,     2108, -32.4996,-161.8329,        0.0,1,      0.061,1,      4.696,1,      0.127,1,      24.99,     -999.0,1,     -999.0,9,     -999.0,9,     -999.0,9,     1.1379,2,     -999.0,9
320620170703,        P06,     124,          1,          2,          2,2,20170806,       2352,   -32.4994,  -161.8331,       5416,  5421.3,   1.1253,  34.7098,2,  34.7070,3, 205.2837,2, 205.9796,2,   121.6,2,   32.18,2,    0.00,2,    2.23,2,   0.114,2,   0.070,2,   0.0000,2,  2262.5,2, 2367.25,2,   7.6061,2, -999.00,9, -999.00,9, -999.00,  -999.0,9, -999.00,9,     -999.0,9,  -999.0,1, 20170806,     2112, -32.4997,-161.8332,        0.0,1,      0.061,1,      4.696,1,      0.128,1,      24.98,     -999.0,1,     -999.0,9,     -999.0,9,     -999.0,9,     1.1259,2,     -999.0,9
320620170703,        P06,     124,          1,          3,          3,2,20170806,       2352,   -32.4994,  -161.8331,       5416,  5338.1,   1.1160,  34.7099,2,  34.7064,3, 205.2837,2, 207.7539,3,   121.6,2,   32.20,2,    0.00,2,    2.23,2,   0.112,2,   0.070,2,   0.0000,2,  2261.4,2, 2364.07,2,   7.6061,2, -999.00,9, -999.00,9, -999.00,    42.6,2, -999.00,9,     -999.0,1,  -999.0,1, 20170806,     2116, -32.4997,-161.8332,        0.0,1,      0.061,1,      4.697,1,      0.126,1,      24.99,     -999.0,1,     -999.0,9,     -999.0,9,     -999.0,9,     1.1164,2,     -999.0,9
320620170703,        P06,     124,          1,          4,          4,2,20170806,       2352,   -32.4994,  -161.8331,       5416,  4926.5,   1.0840,  34.7107,2,  34.7085,3, 205.2837,2, 205.5622,2,   121.1,2,   32.15,2,    0.00,2,    2.23,2,   0.102,2,   0.066,2,   0.0000,2,  2261.7,2, 2364.43,2,   7.6072,2, -999.00,9, -999.00,9, -999.00,  -999.0,9, -999.00,9,     -999.0,9,  -999.0,1, 20170806,     2134, -32.4998,-161.8337,        0.0,1,      0.062,1,      4.699,1,      0.124,1,      24.98,     -999.0,1,     -999.0,9,     -999.0,9,     -999.0,9,     1.0846,2,     -999.0,9
320620170703,        P06,     124,          1,          5,          5,2,20170806,       2352,   -32.4994,  -161.8331,       5416,  4513.9,   1.1439,  34.7139,2,  34.7119,2, 206.3044,3, 203.4171,2,   118.4,2,   32.08,2,    0.00,2,    2.22,2,   0.076,2,   0.054,2,   0.0000,2,  2261.5,2, 2364.00,2,   7.6070,2, -999.00,9, -999.00,9, -999.00,    42.9,2, -999.00,9,     -999.0,1,  -999.0,1, 20170806,     2150, -32.4996,-161.8346,        0.0,1,      0.061,1,      4.700,1,      0.124,1,      24.99,     -999.0,1,     -999.0,9,     -999.0,9,     -999.0,9,     1.1484,2,     -999.0,9
320620170703,        P06,     124,          1,          6,          6,2,20170806,       2352,   -32.4994,  -161.8331,       5416,  4102.4,   1.3651,  34.7172,2,  34.7219,2, 196.7711,2, 196.7983,2,   113.5,2,   32.14,2,    0.00,2,    2.23,2,   0.047,2,   0.035,2,   0.0000,2,  2263.9,2, 2364.89,6,   7.6036,2, -999.00,9, -999.00,9, -999.00,    38.5,2, -999.00,9,     -999.0,1,  -999.0,1, 20170806,     2204, -32.4994,-161.8340,        0.0,1,      0.061,1,      4.700,1,      0.126,1,      24.98,     -999.0,1,     -999.0,9,     -999.0,9,     -999.0,9,     1.3610,2,     -999.0,9
320620170703,        P06,     124,          1,          7,          7,2,20170806,       2352,   -32.4994,  -161.8331,       5416,  3758.8,   1.5332,  34.7080,2,  34.7089,2, 184.6077,2, 183.7520,2,   116.5,2,   33.04,2,    0.00,2,    2.30,2,   0.032,2,   0.028,2,   0.0000,2,  2275.3,2, 2373.54,2,   7.5950,2, -999.00,9, -999.00,9, -999.00,    40.4,2, -999.00,9,     -999.0,1,  -999.0,1, 20170806,     2213, -32.4995,-161.8337,        0.0,1,      0.061,1,      4.700,1,      0.126,1,      25.00,     -999.0,1,     -999.0,9,     -999.0,9,     -999.0,9,     1.5311,2,     -999.0,9
320620170703,        P06,     124,          1,          8,          8,2,20170806,       2352,   -32.4994,  -161.8331,       5416,  3451.7,   1.6454,  34.6903,2,  34.6887,2, 169.3115,3, 166.8240,2,   125.2,2,   34.50,2,    0.00,2,    2.40,2,   0.026,2,   0.022,2,   0.0000,2,  2297.4,2, 2391.71,2,   7.5823,2, -999.00,9, -999.00,9, -999.00,  -999.0,9, -999.00,9,     -999.0,9,  -999.0,1, 20170806,     2220, -32.4996,-161.8336,        0.0,1,      0.062,1,      4.700,1,      0.126,1,      25.00,     -999.0,1,     -999.0,9,     -999.0,9,     -999.0,9,     1.6440,2,     -999.0,9
320620170703,        P06,     124,          1,          9,          9,2,20170806,       2352,   -32.4994,  -161.8331,       5416,  3145.8,   1.7536,  34.6743,2,  34.6702,2, 156.1943,3, 154.4154,2,   130.4,2,   35.55,2,    0.00,2,    2.48,2,   0.023,2,   0.021,2,   0.0000,2,  2309.7,2, 2402.09,2,   7.5725,2, -999.00,9, -999.00,9, -999.00,    40.6,2, -999.00,9,     -999.0,1,  -999.0,1, 20170806,     2227, -32.4996,-161.8334,        0.0,1,      0.061,1,      4.700,1,      0.126,1,      25.02,     -999.0,1,     -999.0,9,     -999.0,9,     -999.0,9,     1.7434,2,     -999.0,9
320620170703,        P06,     124,          1,         10,         10,2,20170806,       2352,   -32.4994,  -161.8331,       5416,  2869.9,   1.8348,  34.6657,2,  34.6639,2, 150.4033,2, 149.5207,2,   129.8,2,   35.88,2,    0.00,2,    2.50,2,   0.020,2,   0.019,2,   0.0000,2,  2312.0,2, 2401.92,2,   7.5674,2, -999.00,9, -999.00,9, -999.00,  -999.0,9, -999.00,9,     -999.0,9,  -999.0,1, 20170806,     2233, -32.4997,-161.8334,        0.0,1,      0.062,1,      4.701,1,      0.128,1,      25.03,     -999.0,1,     -999.0,9,     -999.0,9,     -999.0,9,     1.8285,2,     -999.0,9
320620170703,        P06,     124,          1,         11,         11,2,20170806,       2352,   -32.4994,  -161.8331,       5416,  2618.9,   1.9237,  34.6575,2,  34.6567,2, 147.6463,2, 147.8652,2,   127.0,2,   35.97,2,    0.00,2,    2.51,2,   0.023,2,   0.020,2,   0.0000,2,  2313.2,6, 2401.08,2,   7.5655,2, -999.00,9, -999.00,9, -999.00,    37.9,2, -999.00,9,     -999.0,1,  -999.0,1, 20170806,     2239, -32.4996,-161.8332,        0.0,1,      0.060,1,      4.701,1,      0.129,1,      25.01,     -999.0,1,     -999.0,9,     -999.0,9,     -999.0,9,     1.9176,2,     -999.0,9
320620170703,        P06,     124,          1,         12,         12,2,20170806,       2352,   -32.4994,  -161.8331,       5416,  2366.9,   2.0274,  34.6486,2,  34.6480,2, 146.8803,3, 148.5265,2,   121.9,2,   35.88,2,    0.00,2,    2.51,2,   0.021,2,   0.021,2,   0.0000,2,  2309.1,2, 2395.32,2,   7.5659,2, -999.00,9, -999.00,9, -999.00,  -999.0,9, -999.00,9,     -999.0,9,  -999.0,1, 20170806,     2245, -32.4996,-161.8330,        0.0,1,      0.061,1,      4.701,1,      0.130,1,      25.01,     -999.0,1,     -999.0,9,     -999.0,9,     -999.0,9,     2.0283,2,     -999.0,9
320620170703,        P06,     124,          1,         13,         13,2,20170806,       2352,   -32.4994,  -161.8331,       5416,  2109.0,   2.1776,  34.6348,2,  34.6325,2, 148.6891,3, 150.5543,2,   113.1,2,   35.59,2,    0.00,2,    2.48,2,   0.021,2,   0.020,2,   0.0000,2,  2299.0,2, 2386.38,2,   7.5664,2, -999.00,9, -999.00,9, -999.00,    36.8,2, -999.00,9,     -999.0,1,  -999.0,1, 20170806,     2250, -32.4997,-161.8334,        0.0,1,      0.061,1,      4.701,1,      0.131,1,      25.00,     -999.0,1,     -999.0,9,     -999.0,9,     -999.0,9,     2.1899,2,     -999.0,9
320620170703,        P06,     124,          1,         14,         14,2,20170806,       2352,   -32.4994,  -161.8331,       5416,  1887.2,   2.3501,  34.6143,2,  34.6069,2, 152.5119,2, 154.0276,2,   101.6,2,   35.23,2,    0.00,2,    2.45,2,   0.024,2,   0.023,2,   0.0000,2,  2285.1,2, 2373.32,2,   7.5665,2, -999.00,9, -999.00,9, -999.00,    38.8,2, -999.00,9,     -999.0,1,  -999.0,1, 20170806,     2256, -32.4996,-161.8331,        0.0,1,      0.061,1,      4.702,1,      0.131,1,      25.02,     -999.0,1,     -999.0,9,     -999.0,9,     -999.0,9,     2.3963,2,     -999.0,9
320620170703,        P06,     124,          1,         15,         15,2,20170806,       2352,   -32.4994,  -161.8331,       5416,  1684.4,   2.5823,  34.5742,2,  34.5694,2, 157.7140,3, 159.3892,2,    88.8,2,   34.94,2,    0.00,2,    2.43,2,   0.037,2,   0.030,2,   0.0000,2,  2269.3,2, 2355.95,2,   7.5656,2, -999.00,9, -999.00,9, -999.00,  -999.0,9, -999.00,9,     -999.0,9,  -999.0,1, 20170806,     2300, -32.4998,-161.8337,        0.0,1,      0.061,1,      4.702,1,      0.132,1,      25.01,     -999.0,1,     -999.0,9,     -999.0,9,     -999.0,9,     2.5915,2,     -999.0,9
320620170703,        P06,     124,          1,         16,         16,2,20170806,       2352,   -32.4994,  -161.8331,       5416,  1481.3,   2.9509,  34.4897,2,  34.4962,2, 167.3897,2, 168.5409,2,    70.3,2,   34.52,2,    0.00,2,    2.38,2,   0.100,2,   0.067,2,   0.0000,2,  2250.3,2, 2337.51,2,   7.5677,2, -999.00,9, -999.00,9, -999.00,    41.7,2, -999.00,9,     -999.0,1,  -999.0,1, 20170806,     2305, -32.4997,-161.8334,        0.0,1,      0.061,1,      4.702,1,      0.132,1,      25.00,     -999.0,1,     -999.0,9,     -999.0,9,     -999.0,9,     2.9162,2,     -999.0,9
320620170703,        P06,     124,          1,         17,         17,2,20170806,       2352,   -32.4994,  -161.8331,       5416,  1349.6,   3.3394,  34.4271,2,  34.4253,2, 177.0780,2, 177.1022,2,    56.3,2,   33.87,2,    0.00,2,    2.32,2,   0.222,2,   0.128,2,   0.0000,2,  2231.8,2, 2319.70,2,   7.5775,2, -999.00,9, -999.00,9, -999.00,  -999.0,9, -999.00,9,     -999.0,9,  -999.0,1, 20170806,     2308, -32.4998,-161.8336,        0.0,1,      0.060,1,      4.701,1,      0.133,1,      25.01,     -999.0,1,     -999.0,9,     -999.0,9,     -999.0,9,     3.3312,2,     -999.0,9
320620170703,        P06,     124,          1,         18,         18,2,20170806,       2352,   -32.4994,  -161.8331,       5416,  1247.3,   3.7916,  34.3746,2,  34.3817,2, 185.7593,2, 185.4052,2,    46.3,2,   33.07,2,    0.00,2,    2.26,2,   0.434,2,   0.229,2,   0.0000,2,  2217.8,2, 2310.31,2,   7.5879,2, -999.00,9, -999.00,9, -999.00,    43.5,2, -999.00,9,     -999.0,1,  -999.0,1, 20170806,     2311, -32.4998,-161.8336,        0.0,1,      0.060,1,      4.701,1,      0.134,1,      25.00,     -999.0,1,     -999.0,9,     -999.0,9,     -999.0,9,     3.7007,2,     -999.0,9
320620170703,        P06,     124,          1,         19,         19,2,20170806,       2352,   -32.4994,  -161.8331,       5416,  1144.1,   4.2990,  34.3411,2,  34.3409,2, 196.1604,2, 195.7685,2,    34.8,2,   31.61,2,    0.00,2,    2.15,2,   0.767,2,   0.384,2,   0.0290,2,  2202.0,2, 2298.76,2,   7.6102,2, -999.00,9, -999.00,9, -999.00,  -999.0,9, -999.00,9,     -999.0,9,  -999.0,1, 20170806,     2314, -32.4997,-161.8335,        0.0,1,      0.060,1,      4.700,1,      0.137,1,      25.02,     -999.0,1,     -999.0,9,     -999.0,9,     -999.0,9,     4.2674,2,     -999.0,9
320620170703,        P06,     124,          1,         20,         20,2,20170806,       2352,   -32.4994,  -161.8331,       5416,  1046.6,   4.9168,  34.3218,2,  34.3217,2, 205.8233,2, 205.6107,2,    25.8,2,   29.88,2,    0.00,2,    2.03,2,   1.279,2,   0.617,2,   0.0980,2,  2184.7,2, 2290.70,2,   7.6333,2, -999.00,9, -999.00,9, -999.00,    45.0,2, -999.00,9,     -999.0,1,  -999.0,1, 20170806,     2317, -32.4995,-161.8330,        0.0,1,      0.060,1,      4.700,1,      0.137,1,      25.00,     -999.0,1,     -999.0,9,     -999.0,9,     -999.0,9,     4.8430,2,     -999.0,9
320620170703,        P06,     124,          1,         21,         21,2,20170806,       2352,   -32.4994,  -161.8331,       5416,   944.0,   5.6171,  34.3184,2,  34.3178,2, 221.2032,2, 219.8477,2,    16.0,2,   27.06,2,    0.00,2,    1.83,2,   1.973,2,   1.015,2,   0.3080,2,  2164.8,2, 2284.00,2,   7.6670,2, -999.00,9, -999.00,9, -999.00,  -999.0,9, -999.00,9,     -999.0,9,  -999.0,1, 20170806,     2319, -32.4996,-161.8331,        0.0,1,      0.058,1,      4.699,1,      0.140,1,      25.02,     -999.0,1,     -999.0,9,     -999.0,9,     -999.0,9,     5.6645,2,     -999.0,9
320620170703,        P06,     124,          1,         22,         22,2,20170806,       2352,   -32.4994,  -161.8331,       5416,   842.9,   6.1353,  34.3279,2,  34.3286,2, 231.0473,2, 230.7867,2,    10.9,2,   24.98,2,    0.00,2,    1.69,2,   2.532,2,   1.304,2,   0.5760,2,  2154.5,2, 2273.68,2,   7.6877,2, -999.00,9, -999.00,9, -999.00,    46.5,2, -999.00,9,     -999.0,1,  -999.0,1, 20170806,     2322, -32.4996,-161.8331,        0.0,1,      0.059,1,      4.699,1,      0.135,1,      25.00,     -999.0,1,     -999.0,9,     -999.0,9,     -999.0,9,     6.1952,2,     -999.0,9
320620170703,        P06,     124,          1,         23,         23,2,20170806,       2352,   -32.4994,  -161.8331,       5416,   740.5,   6.6495,  34.3551,2,  34.3541,2, 235.7433,2, 235.9786,2,     8.2,2,   23.38,2,    0.00,2,    1.58,2,   3.016,2,   1.578,2,   0.6830,2,  2148.5,2, 2278.48,2,   7.7041,2, -999.00,9, -999.00,9, -999.00,    46.7,2, -999.00,9,     -999.0,1,  -999.0,1, 20170806,     2325, -32.4996,-161.8332,        0.0,1,      0.057,1,      4.698,1,      0.137,1,      25.00,     -999.0,1,     -999.0,9,     -999.0,9,     -999.0,9,     6.6573,2,     -999.0,9
320620170703,        P06,     124,          1,         24,         24,2,20170806,       2352,   -32.4994,  -161.8331,       5416,   640.2,   7.1786,  34.3940,2,  34.3923,2, 238.2238,2, 238.3722,2,     6.2,2,   21.64,2,    0.00,2,    1.46,2,   3.348,2,   1.818,2,   1.0210,2,  2144.9,2, 2275.60,2,   7.7123,2, -999.00,9, -999.00,9, -999.00,    43.8,3, -999.00,9,     -999.0,1,  -999.0,1, 20170806,     2328, -32.4997,-161.8334,        0.0,1,      0.059,1,      4.697,1,      0.138,1,      25.01,     -999.0,1,     -999.0,9,     -999.0,9,     -999.0,9,     7.2247,2,     -999.0,9
320620170703,        P06,     124,          1,         25,         25,2,20170806,       2352,   -32.4994,  -161.8331,       5416,   540.2,   7.7660,  34.4457,2,  34.4567,2, 235.9979,2, 236.1548,2,     4.7,2,   19.67,2,    0.00,2,    1.34,2,   3.363,6,   1.843,6,   1.1585,6,  2140.4,6, 2282.89,2,   7.7221,2, -999.00,9, -999.00,9, -999.00,    47.3,2, -999.00,9,     -999.0,1,  -999.0,1, 20170806,     2331, -32.4998,-161.8338,        0.0,1,      0.059,1,      4.697,1,      0.140,1,      25.01,     -999.0,1,     -999.0,9,     -999.0,9,     -999.0,9,     7.9130,2,     -999.0,9
320620170703,        P06,     124,          1,         26,         26,2,20170806,       2352,   -32.4994,  -161.8331,       5416,   439.7,   9.1892,  34.5806,2,  34.5969,2, 220.7498,2, 221.2579,2,     3.4,2,   16.60,2,    0.00,2,    1.15,2,   3.130,2,   1.748,2,   1.2410,2,  2136.5,2, 2281.35,6,   7.7452,2, -999.00,9, -999.00,9, -999.00,    47.9,2,   18.60,2,     -999.0,1,  -999.0,1, 20170806,     2334, -32.4998,-161.8338,        0.0,1,      0.059,1,      4.695,1,      0.140,1,      25.00,     -999.0,1,     -999.0,9,     -999.0,9,     -999.0,9,     9.3972,2,     -999.0,9
320620170703,        P06,     124,          1,         27,         27,2,20170806,       2352,   -32.4994,  -161.8331,       5416,   367.3,  10.7323,  34.7532,2,  34.8131,2, 208.6692,2, 209.3280,2,     2.6,2,   12.98,2,    0.00,2,    0.91,2,   2.843,2,   1.617,2,   1.1670,2,  2128.3,2, -999.00,9,   7.7806,2, -999.00,9, -999.00,9, -999.00,  -999.0,9, -999.00,9,     -999.0,9,  -999.0,1, 20170806,     2337, -32.4998,-161.8339,        0.0,1,      0.059,1,      4.692,1,      0.140,1,      25.00,     -999.0,1,     -999.0,1,     -999.0,9,     -999.0,9,    11.2893,2,          1,2
320620170703,        P06,     124,          1,         28,         28,2,20170806,       2352,   -32.4994,  -161.8331,       5416,   319.2,  12.6352,  34.9894,2,  35.0348,2, 204.9237,2, 205.0874,2,     2.0,2,    9.76,2,    0.00,2,    0.71,2,   2.579,2,   1.491,2,   1.2110,2,  2119.3,2, 2300.79,2,   7.8220,2, -999.00,9, -999.00,9, -999.00,    49.8,2,   11.80,2,     -999.0,1,  -999.0,1, 20170806,     2339, -32.4998,-161.8338,        0.0,1,      0.059,1,      4.691,1,      0.135,1,      25.01,     -999.0,1,     -999.0,1,     -999.0,9,     -999.0,9,    13.0006,2,     -999.0,9
320620170703,        P06,     124,          1,         29,         29,2,20170806,       2352,   -32.4994,  -161.8331,       5416,   267.6,  13.9016,  35.1484,2,  35.2101,2, 206.9950,2, 206.5498,2,     1.3,2,    6.99,2,    0.00,2,    0.53,2,   2.437,2,   1.432,2,   1.2820,2,  2106.8,2, -999.00,9,   7.8606,2, -999.00,9, -999.00,9, -999.00,    51.0,2,    9.20,2,     -999.0,1,  -999.0,1, 20170806,     2340, -32.4999,-161.8339,        0.0,1,      0.059,1,      4.690,1,      0.139,1,      25.01,     -999.0,1,     -999.0,1,     -999.0,9,     -999.0,9,    14.4152,2,       0.59,2
320620170703,        P06,     124,          1,         30,         30,2,20170806,       2352,   -32.4994,  -161.8331,       5416,   215.5,  15.0483,  35.2815,2,  35.2865,2, 213.9853,2, 215.1532,2,     0.5,2,    4.05,2,    0.02,2,    0.34,2,   2.372,2,   1.420,2,   1.2920,2,  2095.6,2, 2312.97,2,   7.8924,2, -999.00,9, -999.00,9, -999.00,    51.5,2,    6.50,2,     -999.0,1,  -999.0,1, 20170806,     2342, -32.4998,-161.8339,        0.0,1,      0.062,1,      4.689,1,      0.135,1,      25.02,     -999.0,1,     -999.0,1,     -999.0,9,     -999.0,9,    15.2505,2,       0.49,2
320620170703,        P06,     124,          1,         31,         31,2,20170806,       2352,   -32.4994,  -161.8331,       5416,   165.3,  16.3154,  35.4313,2,  35.4468,2, 217.3685,3, 213.8567,2,     0.3,2,    2.72,2,    0.03,2,    0.25,2,   2.249,2,   1.368,2,   1.5510,2,  2089.4,2, -999.00,9,   7.9192,2, -999.00,9, -999.00,9, -999.00,    53.7,2,    5.90,2,     -999.0,1,  -999.0,1, 20170806,     2345, -32.4997,-161.8337,        0.0,1,      0.078,1,      4.681,1,      0.145,1,      25.01,     -999.0,1,     -999.0,1,     -999.0,9,     -999.0,9,    16.4593,2,     -999.0,9
320620170703,        P06,     124,          1,         32,         32,2,20170806,       2352,   -32.4994,  -161.8331,       5416,   116.3,  17.8796,  35.6355,2,  35.6328,2, 231.1057,2, 230.7918,2,     0.0,2,    0.11,2,    0.02,2,    0.06,2,   2.080,2,   1.262,2,   1.4280,2,  2062.0,2, 2334.31,2,   7.9886,2, -999.00,9, -999.00,9, -999.00,    61.5,2,    3.80,2,     -999.0,1,  -999.0,1, 20170806,     2346, -32.4997,-161.8336,        0.0,1,      0.142,1,      4.648,1,      0.170,1,      25.00,     -999.0,1,     -999.0,1,     -999.0,9,     -999.0,9,    17.8830,2,       0.26,2