BOTTLE,20230922CCHSIOCBG
EXPOCODE,SECT_ID,STNNBR,CASTNO,SAMPNO,BTLNBR,BTLNBR_FLAG_W,DATE,TIME,LATITUDE,LONGITUDE,DEPTH,CTDPRS,CTDTMP,CTDSAL,CTDSAL_FLAG_W,SALNTY,SALNTY_FLAG_W,CTDOXY,CTDOXY_FLAG_W,OXYGEN,OXYGEN_FLAG_W,SILCAT,SILCAT_FLAG_W,NITRAT,NITRAT_FLAG_W,NITRIT,NITRIT_FLAG_W,PHSPHT,PHSPHT_FLAG_W,CFC-11,CFC-11_FLAG_W,CFC-12,CFC-12_FLAG_W,SF6,SF6_FLAG_W,TCARBN,TCARBN_FLAG_W,ALKALI,ALKALI_FLAG_W,PH_TOT,PH_TOT_FLAG_W,DELC13,DELC13_FLAG_W,DELC14,DELC14_FLAG_W,C14ERR,DOC,DOC_FLAG_W,TDN,TDN_FLAG_W,TON,TON_FLAG_W,D15N_NO3,D15N_NO3_FLAG_W,BTL_DATE,BTL_TIME,BTL_LAT,BTL_LON,CTDRINKO,CTDRINKO_FLAG_W,CTDFLUOR,CTDFLUOR_FLAG_W,CTDXMISS,CTDXMISS_FLAG_W,CTDBACKSCATTER,CTDBACKSCATTER_FLAG_W,PH_TMP,D18O_NO3,D18O_NO3_FLAG_W,DOP,DOP_FLAG_W,HPLC,HPLC_FLAG_W,POC,POC_FLAG_W,REFTMP,REFTMP_FLAG_W,TDP,TDP_FLAG_W
,,,,,,,,,,,METERS,DBAR,ITS-90,PSS-78,,PSS-78,,UMOL/KG,,UMOL/KG,,UMOL/KG,,UMOL/KG,,UMOL/KG,,UMOL/KG,,PMOL/KG,,PMOL/KG,,FMOL/KG,,UMOL/KG,,UMOL/KG,,,,/MILLE,,/MILLE,,/MILLE,UMOL/KG,,UMOL/KG,,UMOL/KG,,/MILLE,,,,,,VOLTS,,VOLTS,,VOLTS,,VOLTS,,DEGC,/MILLE,,UMOL/KG,,,,UG/L,,ITS-90,,UMOL/KG,
320620170703,        P06,      44,          1,         33,         33,2,20170713,       1200,   -30.0797,   166.0686,       2604,    48.9,  19.8410,  35.8341,2,  35.8354,2, 221.6602,2, 220.5698,2,     0.4,2,    0.33,2,    0.15,2,    0.09,2,   1.796,6,   1.176,6,   1.0195,6,  2055.2,2, 2354.83,2,   8.0163,2, -999.00,9, -999.00,9, -999.00,    55.9,2,    4.60,2,     -999.0,1,  -999.0,1, 20170713,     1157, -30.0797, 166.0685,        0.0,1,      0.150,1,      4.638,1,      0.196,1,      25.02,     -999.0,1,     -999.0,1,     -999.0,9,     -999.0,9,    19.8609,2,        0.2,2
320620170703,        P06,      44,          1,         34,         34,2,20170713,       1200,   -30.0797,   166.0686,       2604,    24.0,  19.8422,  35.8337,2,  35.8354,2, 221.4567,2, 221.2406,2,     0.4,2,    0.32,2,    0.15,2,    0.11,2,-999.000,9,-999.000,9,-999.0000,9,  2055.0,2, -999.00,9,-999.0000,9, -999.00,9, -999.00,9, -999.00,    58.9,2, -999.00,5,     -999.0,1,  -999.0,1, 20170713,     1158, -30.0797, 166.0685,        0.0,1,      0.153,1,      4.639,1,      0.201,1,     -999.0,     -999.0,1,     -999.0,1,     -999.0,9,     -999.0,9,    19.8572,2,       0.23,2
320620170703,        P06,      44,          1,         35,         35,2,20170713,       1200,   -30.0797,   166.0686,       2604,     4.3,  19.8329,  35.8338,2,  35.8358,2, 221.4022,2, 220.5915,2,     0.4,2,    0.33,2,    0.15,2,    0.11,2,   1.779,2,   1.188,2,   1.0830,2,  2054.1,6, 2346.61,2,   8.0161,2, -999.00,9, -999.00,9, -999.00,    56.9,2,    4.70,2,     -999.0,1,  -999.0,1, 20170713,     1200, -30.0797, 166.0686,        0.0,1,      0.155,1,      4.634,1,      0.197,1,      24.98,     -999.0,1,     -999.0,1,     -999.0,9,     -999.0,9,    19.8424,2,       0.19,2