BOTTLE,20230922CCHSIOCBG
EXPOCODE,SECT_ID,STNNBR,CASTNO,SAMPNO,BTLNBR,BTLNBR_FLAG_W,DATE,TIME,LATITUDE,LONGITUDE,DEPTH,CTDPRS,CTDTMP,CTDSAL,CTDSAL_FLAG_W,SALNTY,SALNTY_FLAG_W,CTDOXY,CTDOXY_FLAG_W,OXYGEN,OXYGEN_FLAG_W,SILCAT,SILCAT_FLAG_W,NITRAT,NITRAT_FLAG_W,NITRIT,NITRIT_FLAG_W,PHSPHT,PHSPHT_FLAG_W,CFC-11,CFC-11_FLAG_W,CFC-12,CFC-12_FLAG_W,SF6,SF6_FLAG_W,TCARBN,TCARBN_FLAG_W,ALKALI,ALKALI_FLAG_W,PH_TOT,PH_TOT_FLAG_W,DELC13,DELC13_FLAG_W,DELC14,DELC14_FLAG_W,C14ERR,DOC,DOC_FLAG_W,TDN,TDN_FLAG_W,TON,TON_FLAG_W,D15N_NO3,D15N_NO3_FLAG_W,BTL_DATE,BTL_TIME,BTL_LAT,BTL_LON,CTDRINKO,CTDRINKO_FLAG_W,CTDFLUOR,CTDFLUOR_FLAG_W,CTDXMISS,CTDXMISS_FLAG_W,CTDBACKSCATTER,CTDBACKSCATTER_FLAG_W,PH_TMP,D18O_NO3,D18O_NO3_FLAG_W,DOP,DOP_FLAG_W,HPLC,HPLC_FLAG_W,POC,POC_FLAG_W,REFTMP,REFTMP_FLAG_W,TDP,TDP_FLAG_W
,,,,,,,,,,,METERS,DBAR,ITS-90,PSS-78,,PSS-78,,UMOL/KG,,UMOL/KG,,UMOL/KG,,UMOL/KG,,UMOL/KG,,UMOL/KG,,PMOL/KG,,PMOL/KG,,FMOL/KG,,UMOL/KG,,UMOL/KG,,,,/MILLE,,/MILLE,,/MILLE,UMOL/KG,,UMOL/KG,,UMOL/KG,,/MILLE,,,,,,VOLTS,,VOLTS,,VOLTS,,VOLTS,,DEGC,/MILLE,,UMOL/KG,,,,UG/L,,ITS-90,,UMOL/KG,
320620170703,        P06,      54,          1,          1,         37,2,20170715,       0826,   -30.0800,   168.9997,       3156,  3191.1,   1.9514,  34.6711,2,  34.6700,2, 153.8504,2, 153.5798,2,   123.2,2,   35.33,2,    0.00,2,    2.44,2,   0.026,2,   0.019,2,   0.0000,2,  2308.7,6, 2394.53,2,   7.5786,2, -999.00,9, -999.00,9, -999.00,  -999.0,9, -999.00,9,     -999.0,9,  -999.0,9, 20170715,      645, -30.0802, 168.9990,        0.0,1,      0.061,1,      4.493,1,      0.149,1,      25.00,     -999.0,9,     -999.0,9,     -999.0,9,     -999.0,9,     1.9520,2,     -999.0,9
320620170703,        P06,      54,          1,          2,          2,2,20170715,       0826,   -30.0800,   168.9997,       3156,  3059.0,   1.9527,  34.6703,2,  34.6679,2, 153.8504,2, 153.8401,2,   123.0,2,   35.26,2,    0.00,2,    2.44,2,   0.025,2,   0.020,2,   0.0000,2,  2308.5,2, 2395.65,2,   7.5784,2, -999.00,9, -999.00,9, -999.00,  -999.0,9, -999.00,9,     -999.0,9,  -999.0,9, 20170715,      649, -30.0802, 168.9990,        0.0,1,      0.062,1,      0.056,1,      0.147,1,      25.01,     -999.0,9,     -999.0,9,     -999.0,9,     -999.0,9,     1.9541,2,     -999.0,9
320620170703,        P06,      54,          1,          3,         38,2,20170715,       0826,   -30.0800,   168.9997,       3156,  2905.5,   1.9571,  34.6687,2,  34.6653,2, 153.7099,2, 154.0626,2,   122.3,2,   35.27,2,    0.00,2,    2.44,2,   0.029,2,   0.022,2,   0.0000,2,  2306.8,2, 2393.06,2,   7.5771,2, -999.00,9, -999.00,9, -999.00,  -999.0,9, -999.00,9,     -999.0,9,  -999.0,9, 20170715,      652, -30.0801, 168.9991,        0.0,1,      0.061,1,      0.013,1,      0.143,1,      25.00,     -999.0,9,     -999.0,9,     -999.0,9,     -999.0,9,     1.9596,2,     -999.0,9
320620170703,        P06,      54,          1,          4,          4,2,20170715,       0826,   -30.0800,   168.9997,       3156,  2699.4,   1.9764,  34.6655,2,  34.6639,2, 153.8061,2, 153.7897,2,   121.5,2,   35.06,2,    0.00,2,    2.44,2,   0.029,2,   0.024,2,   0.0000,2,  2306.8,2, 2388.84,2,   7.5769,2, -999.00,9, -999.00,9, -999.00,  -999.0,9, -999.00,9,     -999.0,9,  -999.0,9, 20170715,      657, -30.0801, 168.9993,        0.0,1,      0.061,1,      3.596,1,      0.142,1,      25.00,     -999.0,9,     -999.0,9,     -999.0,9,     -999.0,9,     1.9742,2,     -999.0,9
320620170703,        P06,      54,          1,          5,         39,2,20170715,       0826,   -30.0800,   168.9997,       3156,  2494.5,   2.0197,  34.6607,2,  34.6596,2, 153.9980,2, 153.7518,2,   119.7,2,   35.28,2,    0.00,2,    2.43,2,   0.039,2,   0.029,2,   0.0000,2,  2302.9,2, 2389.39,2,   7.5755,2, -999.00,9, -999.00,9, -999.00,  -999.0,9, -999.00,9,     -999.0,9,  -999.0,9, 20170715,      702, -30.0800, 168.9994,        0.0,1,      0.061,1,      0.054,1,      0.142,1,      25.02,     -999.0,9,     -999.0,9,     -999.0,9,     -999.0,9,     2.0179,2,     -999.0,9
320620170703,        P06,      54,          1,          6,          6,2,20170715,       0826,   -30.0800,   168.9997,       3156,  2294.1,   2.1232,  34.6513,2,  34.6500,2, 154.6059,2, 154.3430,2,   116.9,2,   35.23,2,    0.00,2,    2.42,2,   0.042,2,   0.031,2,   0.0000,2,  2300.5,6, 2383.26,2,   7.5779,2, -999.00,9, -999.00,9, -999.00,  -999.0,9, -999.00,9,     -999.0,9,  -999.0,9, 20170715,      706, -30.0801, 168.9995,        0.0,1,      0.061,1,      0.011,1,      0.142,1,      25.00,     -999.0,9,     -999.0,9,     -999.0,9,     -999.0,9,     2.1162,2,     -999.0,9
320620170703,        P06,      54,          1,          7,         40,2,20170715,       0826,   -30.0800,   168.9997,       3156,  2089.2,   2.2725,  34.6383,2,  34.6368,2, 155.2740,2, 156.0501,2,   112.6,2,   34.88,2,    0.00,2,    2.41,2,   0.058,2,   0.043,2,   0.0000,2,  2295.6,2, 2400.51,2,   7.5778,2, -999.00,9, -999.00,9, -999.00,  -999.0,9, -999.00,9,     -999.0,9,  -999.0,9, 20170715,      711, -30.0801, 168.9995,        0.0,1,      0.062,1,      0.013,1,      0.145,1,      24.98,     -999.0,9,     -999.0,9,     -999.0,9,     -999.0,9,     2.2610,2,     -999.0,9
320620170703,        P06,      54,          1,          8,          8,2,20170715,       0826,   -30.0800,   168.9997,       3156,  1885.8,   2.5186,  34.6184,2,  34.6156,2, 157.0930,2, 157.0036,2,   104.9,2,   34.68,2,    0.00,2,    2.38,2,   0.087,2,   0.058,2,   0.0000,2,  2288.1,2, 2376.09,2,   7.5801,2, -999.00,9, -999.00,9, -999.00,  -999.0,9, -999.00,9,     -999.0,9,  -999.0,9, 20170715,      716, -30.0801, 168.9995,        0.0,1,      0.061,1,      1.652,1,      0.141,1,      25.01,     -999.0,9,     -999.0,9,     -999.0,9,     -999.0,9,     2.5244,2,     -999.0,9
320620170703,        P06,      54,          1,          9,         41,2,20170715,       0826,   -30.0800,   168.9997,       3156,  1784.9,   2.7086,  34.6011,2,  34.6024,2, 158.3764,2, 157.6951,2,   100.8,2,   34.48,2,    0.00,2,    2.38,2,   0.104,2,   0.068,2,   0.0000,2,  2282.6,2, 2389.03,2,   7.5800,2, -999.00,9, -999.00,9, -999.00,  -999.0,9, -999.00,9,     -999.0,9,  -999.0,9, 20170715,      719, -30.0801, 168.9995,        0.0,1,      0.061,1,      0.007,1,      0.142,1,      24.98,     -999.0,9,     -999.0,9,     -999.0,9,     -999.0,9,     2.6700,2,     -999.0,9
320620170703,        P06,      54,          1,         10,         10,2,20170715,       0826,   -30.0800,   168.9997,       3156,  1654.0,   2.9955,  34.5769,2,  34.5765,2, 161.0538,2, 162.9055,3,    92.0,2,   34.09,2,    0.00,2,    2.36,2,   0.144,2,   0.089,2,   0.0000,2,  2272.6,2, 2358.80,2,   7.5838,2, -999.00,9, -999.00,9, -999.00,  -999.0,9, -999.00,9,     -999.0,9,  -999.0,9, 20170715,      722, -30.0801, 168.9995,        0.0,1,      0.062,1,      0.039,1,      0.143,1,      24.99,     -999.0,9,     -999.0,9,     -999.0,9,     -999.0,9,     2.9819,2,     -999.0,9
320620170703,        P06,      54,          1,         11,         42,2,20170715,       0826,   -30.0800,   168.9997,       3156,  1550.6,   3.2336,  34.5579,2,  34.5606,3, 162.9714,2, 161.7999,3,    86.4,2,   33.69,2,    0.00,2,    2.34,2,   0.181,2,   0.111,2,   0.0000,2,  2265.3,2, 2353.16,2,   7.5871,2, -999.00,9, -999.00,9, -999.00,  -999.0,9, -999.00,9,     -999.0,9,  -999.0,9, 20170715,      726, -30.0801, 168.9996,        0.0,1,      0.062,1,      0.006,1,      0.141,1,      25.03,     -999.0,9,     -999.0,9,     -999.0,9,     -999.0,9,     3.1717,2,     -999.0,9
320620170703,        P06,      54,          1,         12,         12,2,20170715,       0826,   -30.0800,   168.9997,       3156,  1448.6,   3.4929,  34.5335,2,  34.5358,2, 166.1678,2, 166.1897,2,    78.2,2,   33.21,2,    0.00,2,    2.30,2,   0.237,2,   0.138,2,   0.0000,2,  2256.1,2, 2344.68,2,   7.5916,2, -999.00,9, -999.00,9, -999.00,  -999.0,9, -999.00,9,     -999.0,9,  -999.0,9, 20170715,      729, -30.0801, 168.9996,        0.0,1,      0.061,1,      0.054,1,      0.141,1,      25.04,     -999.0,9,     -999.0,9,     -999.0,9,     -999.0,9,     3.4370,2,     -999.0,9
320620170703,        P06,      54,          1,         13,         43,2,20170715,       0826,   -30.0800,   168.9997,       3156,  1347.5,   3.9434,  34.5041,2,  34.5082,2, 171.3091,2, 170.8892,2,    67.9,2,   32.55,2,    0.00,2,    2.23,2,   0.345,2,   0.196,2,   0.0800,2,  2243.1,2, 2336.03,2,   7.5994,2, -999.00,9, -999.00,9, -999.00,  -999.0,9, -999.00,9,     -999.0,9,  -999.0,9, 20170715,      732, -30.0801, 168.9996,        0.0,1,      0.061,1,      0.011,1,      0.141,1,      25.02,     -999.0,9,     -999.0,9,     -999.0,9,     -999.0,9,     3.8433,2,     -999.0,9
320620170703,        P06,      54,          1,         14,         14,2,20170715,       0826,   -30.0800,   168.9997,       3156,  1245.7,   4.2979,  34.4746,2,  34.4681,2, 177.1662,2, 177.2350,2,    55.7,2,   31.67,2,    0.00,2,    2.16,2,   0.463,2,   0.253,2,   0.0420,2,  2225.9,2, 2324.27,2,   7.6059,2, -999.00,9, -999.00,9, -999.00,  -999.0,9, -999.00,9,     -999.0,9,  -999.0,9, 20170715,      735, -30.0800, 168.9997,        0.0,1,      0.060,1,      3.842,1,      0.138,1,      25.01,     -999.0,9,     -999.0,9,     -999.0,9,     -999.0,9,     4.2556,2,     -999.0,9
320620170703,        P06,      54,          1,         15,         15,2,20170715,       0826,   -30.0800,   168.9997,       3156,  1146.2,   4.9852,  34.4594,2,  34.4620,2, 184.4332,2, 184.0791,2,    45.1,2,   30.22,2,    0.00,2,    2.06,2,   0.722,2,   0.387,2,   0.0550,2,  2211.2,2, 2307.60,6,   7.6245,2, -999.00,9, -999.00,9, -999.00,  -999.0,9, -999.00,9,     -999.0,9,  -999.0,9, 20170715,      738, -30.0801, 168.9997,        0.0,1,      0.060,1,      0.694,1,      0.140,1,      24.99,     -999.0,9,     -999.0,9,     -999.0,9,     -999.0,9,     4.9099,2,     -999.0,9
320620170703,        P06,      54,          1,         16,         16,2,20170715,       0826,   -30.0800,   168.9997,       3156,  1043.2,   5.7866,  34.4583,2,  34.4510,2, 190.1852,2, 190.5638,2,    35.7,2,   28.81,2,    0.00,2,    1.94,2,   0.959,2,   0.513,2,   0.1130,2,  2195.9,2, 2301.02,2,   7.6400,2, -999.00,9, -999.00,9, -999.00,  -999.0,9, -999.00,9,     -999.0,9,  -999.0,9, 20170715,      741, -30.0801, 168.9996,        0.0,1,      0.060,1,      0.041,1,      0.140,1,      25.01,     -999.0,9,     -999.0,9,     -999.0,9,     -999.0,9,     5.4572,2,     -999.0,9
320620170703,        P06,      54,          1,         17,         17,2,20170715,       0826,   -30.0800,   168.9997,       3156,   943.3,   6.7438,  34.4830,2,  34.4712,2, 199.7955,2, 199.0902,2,    24.2,2,   26.27,2,    0.00,2,    1.77,2,   1.433,2,   0.769,2,   0.2190,2,  2178.2,2, 2292.76,2,   7.6654,2, -999.00,9, -999.00,9, -999.00,  -999.0,9, -999.00,9,     -999.0,9,  -999.0,9, 20170715,      744, -30.0801, 168.9996,        0.0,1,      0.059,1,      0.291,1,      0.147,1,      25.01,     -999.0,9,     -999.0,9,     -999.0,9,     -999.0,9,     6.4429,2,     -999.0,9
320620170703,        P06,      54,          1,         18,         18,2,20170715,       0826,   -30.0800,   168.9997,       3156,   842.6,   7.3408,  34.5068,2,  34.5036,2, 203.4595,2, 204.0328,2,    17.0,2,   24.12,2,    0.00,2,    1.63,2,   1.840,2,   0.980,2,   0.2930,2,  2165.7,6, 2286.65,2,   7.6853,2, -999.00,9, -999.00,9, -999.00,  -999.0,9, -999.00,9,     -999.0,9,  -999.0,9, 20170715,      747, -30.0802, 168.9995,        0.0,1,      0.060,1,      2.395,1,      0.142,1,      25.03,     -999.0,9,     -999.0,9,     -999.0,9,     -999.0,9,     7.2387,2,     -999.0,9
320620170703,        P06,      54,          1,         19,         19,2,20170715,       0826,   -30.0800,   168.9997,       3156,   740.1,   8.2775,  34.5855,2,  34.5639,2, 205.7135,2, 206.5112,2,    12.1,2,   22.06,2,    0.00,2,    1.48,2,   2.151,2,   1.162,2,   0.4040,2,  2156.3,2, 2283.64,2,   7.7059,2, -999.00,9, -999.00,9, -999.00,  -999.0,9, -999.00,9,     -999.0,9,  -999.0,9, 20170715,      750, -30.0802, 168.9995,        0.0,1,      0.061,1,      4.567,1,      0.142,1,      25.00,     -999.0,9,     -999.0,9,     -999.0,9,     -999.0,9,     8.0617,2,     -999.0,9
320620170703,        P06,      54,          1,         20,         20,2,20170715,       0826,   -30.0800,   168.9997,       3156,   640.8,   9.8481,  34.7535,2,  34.6751,2, 203.0291,2, 203.1173,2,     9.7,2,   19.90,2,    0.00,2,    1.33,2,   2.323,2,   1.244,2,   0.4790,2,  2150.7,2, 2286.48,2,   7.7266,2, -999.00,9, -999.00,9, -999.00,  -999.0,9, -999.00,9,     -999.0,9,  -999.0,9, 20170715,      753, -30.0802, 168.9995,        0.0,1,      0.059,1,      2.436,1,      0.145,1,      25.00,     -999.0,9,     -999.0,9,     -999.0,9,     -999.0,9,     9.1749,2,     -999.0,9
320620170703,        P06,      54,          1,         21,         21,2,20170715,       0826,   -30.0800,   168.9997,       3156,   539.9,  11.3901,  34.9335,2,  34.8721,3, 199.3188,2, 198.8340,2,     6.6,2,   16.35,2,    0.00,2,    1.10,2,   2.362,2,   1.321,2,   0.5830,2,  2141.4,2, 2292.69,2,   7.7627,2, -999.00,9, -999.00,9, -999.00,  -999.0,9, -999.00,9,     -999.0,9,  -999.0,9, 20170715,      756, -30.0801, 168.9996,        0.0,1,      0.060,1,      4.696,1,      0.146,1,      24.98,     -999.0,9,     -999.0,9,     -999.0,9,     -999.0,9,    10.9596,2,     -999.0,9
320620170703,        P06,      54,          1,         22,         22,2,20170715,       0826,   -30.0800,   168.9997,       3156,   468.3,  12.3540,  35.0457,2,  35.0061,2, 198.3082,2, 197.9585,2,     5.2,2,   14.02,2,    0.00,2,    0.95,2,   2.335,2,   1.330,2,   0.6350,2,  2131.6,2, 2299.58,2,   7.7915,2, -999.00,9, -999.00,9, -999.00,  -999.0,9, -999.00,9,     -999.0,9,  -999.0,9, 20170715,      758, -30.0801, 168.9996,        0.0,1,      0.060,1,      4.695,1,      0.145,1,      24.99,     -999.0,9,     -999.0,9,     -999.0,9,     -999.0,9,    12.0259,2,     -999.0,9
320620170703,        P06,      54,          1,         23,         23,2,20170715,       0826,   -30.0800,   168.9997,       3156,   418.0,  13.0746,  35.1347,2,  35.0933,2, 197.8194,2, 197.3882,2,     4.3,2,   12.49,2,    0.00,2,    0.85,2,   2.338,2,   1.342,2,   0.7180,2,  2126.1,2, 2301.92,2,   7.8110,2, -999.00,9, -999.00,9, -999.00,  -999.0,9, -999.00,9,     -999.0,9,  -999.0,9, 20170715,      801, -30.0800, 168.9997,        0.0,1,      0.060,1,      4.694,1,      0.148,1,      25.04,     -999.0,9,     -999.0,9,     -999.0,9,     -999.0,9,    12.8492,2,     -999.0,9
320620170703,        P06,      54,          1,         24,         24,2,20170715,       0826,   -30.0800,   168.9997,       3156,   367.0,  14.0815,  35.2440,2,  35.2138,2, 197.0409,2, 196.3820,2,     3.3,2,   10.58,2,    0.00,2,    0.72,2,   2.245,2,   1.323,2,   0.8010,2,  2117.8,2, 2306.51,2,   7.8382,2, -999.00,9, -999.00,9, -999.00,  -999.0,9, -999.00,9,     -999.0,9,  -999.0,9, 20170715,      803, -30.0800, 168.9997,        0.0,1,      0.059,1,      2.092,1,      0.145,1,      25.00,     -999.0,9,     -999.0,9,     -999.0,9,     -999.0,9,    13.9072,2,     -999.0,9
320620170703,        P06,      54,          1,         25,         25,2,20170715,       0826,   -30.0800,   168.9997,       3156,   318.2,  15.5326,  35.3908,2,  35.3425,2, 195.7317,2, 196.5083,2,     2.5,2,    8.56,2,    0.00,2,    0.61,2,   2.198,2,   1.303,2,   0.7510,2,  2108.0,2, 2312.31,2,   7.8685,2, -999.00,9, -999.00,9, -999.00,  -999.0,9, -999.00,9,     -999.0,9,  -999.0,9, 20170715,      805, -30.0800, 168.9998,        0.0,1,      0.060,1,      2.401,1,      0.143,1,      25.01,     -999.0,9,     -999.0,9,     -999.0,9,     -999.0,9,    15.1684,2,     -999.0,9
320620170703,        P06,      54,          1,         26,         26,2,20170715,       0826,   -30.0800,   168.9997,       3156,   266.1,  16.5639,  35.4954,2,  35.4582,2, 196.4018,2, 196.8558,2,     1.9,2,    6.90,2,    0.00,2,    0.49,2,   2.099,2,   1.267,2,   0.8840,2,  2100.2,2, 2320.82,2,   7.8969,2, -999.00,9, -999.00,9, -999.00,  -999.0,9, -999.00,9,     -999.0,9,  -999.0,9, 20170715,      807, -30.0800, 168.9998,        0.0,1,      0.059,1,      0.084,1,      0.145,1,      25.02,     -999.0,9,     -999.0,9,     -999.0,9,     -999.0,9,    16.2835,2,     -999.0,9
320620170703,        P06,      54,          1,         27,         27,2,20170715,       0826,   -30.0800,   168.9997,       3156,   237.1,  17.4294,  35.5740,2,  35.5468,2, 197.0586,2, 197.2081,2,     1.6,2,    5.55,2,    0.00,2,    0.41,2,   2.006,2,   1.247,2,   0.8970,2,  2092.9,2, 2321.59,2,   7.9206,2, -999.00,9, -999.00,9, -999.00,  -999.0,9, -999.00,9,     -999.0,9,  -999.0,9, 20170715,      808, -30.0800, 168.9998,        0.0,1,      0.060,1,      3.479,1,      0.148,1,      24.99,     -999.0,9,     -999.0,9,     -999.0,9,     -999.0,9,    17.3362,2,     -999.0,9
320620170703,        P06,      54,          1,         28,         28,2,20170715,       0826,   -30.0800,   168.9997,       3156,   212.2,  18.2375,  35.6405,2,  35.6291,2, 197.5405,2, 198.3539,2,     0.9,2,    4.22,2,    0.02,2,    0.33,2,   1.930,2,   1.203,2,   0.8920,2,  2084.3,2, 2327.47,2,   7.9432,2, -999.00,9, -999.00,9, -999.00,  -999.0,9, -999.00,9,     -999.0,9,  -999.0,9, 20170715,      810, -30.0800, 168.9998,        0.0,1,      0.063,1,      3.897,1,      0.154,1,      25.00,     -999.0,9,     -999.0,9,     -999.0,9,     -999.0,9,    18.1726,2,     -999.0,9
320620170703,        P06,      54,          1,         29,         29,2,20170715,       0826,   -30.0800,   168.9997,       3156,   188.0,  19.6266,  35.8444,2,  35.8323,2, 219.6438,2, 217.8561,2,     0.3,2,    0.81,2,    0.10,2,    0.11,2,   1.791,2,   1.139,2,   0.9930,2,  2062.7,2, 2342.19,2,   8.0019,2, -999.00,9, -999.00,9, -999.00,  -999.0,9, -999.00,9,     -999.0,9,  -999.0,9, 20170715,      812, -30.0800, 168.9997,        0.0,1,      0.130,1,      4.345,1,      0.209,1,      25.00,     -999.0,9,     -999.0,9,     -999.0,9,     -999.0,9,    19.6435,2,     -999.0,9
320620170703,        P06,      54,          1,         30,         30,2,20170715,       0826,   -30.0800,   168.9997,       3156,   160.9,  19.7073,  35.8621,2,  35.8623,2, 220.2253,2, 221.5467,2,     0.2,2,    0.34,2,    0.09,2,    0.09,2,   1.804,6,   1.130,6,   0.9710,6,  2058.1,2, 2344.83,2,   8.0098,2, -999.00,9, -999.00,9, -999.00,  -999.0,9, -999.00,9,     -999.0,9,  -999.0,9, 20170715,      813, -30.0800, 168.9997,        0.0,1,      0.148,1,      3.809,1,      0.213,1,      25.02,     -999.0,9,     -999.0,9,     -999.0,9,     -999.0,9,    19.7129,2,     -999.0,9
320620170703,        P06,      54,          1,         31,         31,2,20170715,       0826,   -30.0800,   168.9997,       3156,   136.2,  19.7275,  35.8670,2,  35.8661,2, 221.1832,2, 221.5392,2,     0.2,2,    0.31,2,    0.09,2,    0.09,2,   1.789,2,   1.127,2,   0.9290,2,  2060.0,2, 2346.03,2,   8.0108,2, -999.00,9, -999.00,9, -999.00,  -999.0,9, -999.00,9,     -999.0,9,  -999.0,9, 20170715,      815, -30.0800, 168.9997,        0.0,1,      0.154,1,      2.937,1,      0.209,1,      25.00,     -999.0,9,     -999.0,9,     -999.0,9,     -999.0,9,    19.7341,2,     -999.0,9
320620170703,        P06,      54,          1,         32,         32,2,20170715,       0826,   -30.0800,   168.9997,       3156,   111.6,  19.7525,  35.8693,2,  35.8702,2, 220.7237,2, 220.5057,2,     0.2,2,    0.35,2,    0.09,2,    0.09,2,   1.784,2,   1.129,2,   1.0020,2,  2059.9,2, 2352.08,2,   8.0108,2, -999.00,9, -999.00,9, -999.00,  -999.0,9, -999.00,9,     -999.0,9,  -999.0,9, 20170715,      817, -30.0800, 168.9997,        0.0,1,      0.141,1,      4.127,1,      0.209,1,      24.99,     -999.0,9,     -999.0,9,     -999.0,9,     -999.0,9,    19.8107,2,     -999.0,9