BOTTLE,20230922CCHSIOCBG
EXPOCODE,SECT_ID,STNNBR,CASTNO,SAMPNO,BTLNBR,BTLNBR_FLAG_W,DATE,TIME,LATITUDE,LONGITUDE,DEPTH,CTDPRS,CTDTMP,CTDSAL,CTDSAL_FLAG_W,SALNTY,SALNTY_FLAG_W,CTDOXY,CTDOXY_FLAG_W,OXYGEN,OXYGEN_FLAG_W,SILCAT,SILCAT_FLAG_W,NITRAT,NITRAT_FLAG_W,NITRIT,NITRIT_FLAG_W,PHSPHT,PHSPHT_FLAG_W,CFC-11,CFC-11_FLAG_W,CFC-12,CFC-12_FLAG_W,SF6,SF6_FLAG_W,TCARBN,TCARBN_FLAG_W,ALKALI,ALKALI_FLAG_W,PH_TOT,PH_TOT_FLAG_W,DELC13,DELC13_FLAG_W,DELC14,DELC14_FLAG_W,C14ERR,DOC,DOC_FLAG_W,TDN,TDN_FLAG_W,TON,TON_FLAG_W,D15N_NO3,D15N_NO3_FLAG_W,BTL_DATE,BTL_TIME,BTL_LAT,BTL_LON,CTDRINKO,CTDRINKO_FLAG_W,CTDFLUOR,CTDFLUOR_FLAG_W,CTDXMISS,CTDXMISS_FLAG_W,CTDBACKSCATTER,CTDBACKSCATTER_FLAG_W,PH_TMP,D18O_NO3,D18O_NO3_FLAG_W,DOP,DOP_FLAG_W,HPLC,HPLC_FLAG_W,POC,POC_FLAG_W,REFTMP,REFTMP_FLAG_W,TDP,TDP_FLAG_W
,,,,,,,,,,,METERS,DBAR,ITS-90,PSS-78,,PSS-78,,UMOL/KG,,UMOL/KG,,UMOL/KG,,UMOL/KG,,UMOL/KG,,UMOL/KG,,PMOL/KG,,PMOL/KG,,FMOL/KG,,UMOL/KG,,UMOL/KG,,,,/MILLE,,/MILLE,,/MILLE,UMOL/KG,,UMOL/KG,,UMOL/KG,,/MILLE,,,,,,VOLTS,,VOLTS,,VOLTS,,VOLTS,,DEGC,/MILLE,,UMOL/KG,,,,UG/L,,ITS-90,,UMOL/KG,
320620170703,        P06,      73,          1,          1,         37,2,20170719,       0345,   -30.0798,   174.9982,       3907,  3957.9,   1.8845,  34.6821,2,  34.6816,2, 154.2290,2, 154.0774,2,   125.3,2,   35.24,2,    0.00,2,    2.44,2,   0.005,2,   0.018,2,-999.0000,5,  2313.3,6, -999.00,5,   7.5829,2, -999.00,9, -999.00,9, -999.00,  -999.0,9, -999.00,9,     -999.0,9,  -999.0,9, 20170719,      203, -30.0797, 174.9982,        0.0,1,      0.062,1,      0.008,1,      0.152,1,      25.03,     -999.0,9,     -999.0,9,     -999.0,9,     -999.0,9,     1.8855,2,     -999.0,9
320620170703,        P06,      73,          1,          2,          2,2,20170719,       0345,   -30.0798,   174.9982,       3907,  3912.6,   1.8803,  34.6822,2,  34.6822,2, 154.2290,2, 154.4132,2,   125.3,2,   35.21,2,    0.00,2,    2.45,2,   0.013,2,   0.020,2,-999.0000,5,  2315.0,2, 2408.70,2,   7.5817,2, -999.00,9, -999.00,9, -999.00,  -999.0,9, -999.00,9,     -999.0,9,  -999.0,9, 20170719,      205, -30.0797, 174.9982,        0.0,1,      0.061,1,      0.020,1,      0.151,1,      25.04,     -999.0,9,     -999.0,9,     -999.0,9,     -999.0,9,     1.8807,2,     -999.0,9
320620170703,        P06,      73,          1,          3,         38,2,20170719,       0345,   -30.0798,   174.9982,       3907,  3859.9,   1.8753,  34.6821,2,  34.6818,2, 154.2290,2, 154.5518,2,   125.1,2,   35.21,2,    0.00,2,    2.45,2,   0.012,2,   0.019,2,-999.0000,5,  2316.0,2, 2408.50,2,   7.5837,2, -999.00,9, -999.00,9, -999.00,  -999.0,9, -999.00,9,     -999.0,9,  -999.0,9, 20170719,      208, -30.0796, 174.9982,        0.0,1,      0.061,1,      0.006,1,      0.143,1,      25.02,     -999.0,9,     -999.0,9,     -999.0,9,     -999.0,9,     1.8758,2,     -999.0,9
320620170703,        P06,      73,          1,          4,          4,2,20170719,       0345,   -30.0798,   174.9982,       3907,  3552.2,   1.8537,  34.6815,2,  34.6816,2, 154.2290,2, 153.7583,2,   124.9,2,   35.20,2,    0.00,2,    2.47,2,   0.013,2,   0.019,2,-999.0000,5,  2313.9,2, 2404.82,2,   7.5831,2, -999.00,9, -999.00,9, -999.00,  -999.0,9, -999.00,9,     -999.0,9,  -999.0,9, 20170719,      214, -30.0797, 174.9982,        0.0,1,      0.061,1,      0.006,1,      0.135,1,      25.02,     -999.0,9,     -999.0,9,     -999.0,9,     -999.0,9,     1.8541,2,     -999.0,9
320620170703,        P06,      73,          1,          5,         44,2,20170719,       0345,   -30.0798,   174.9982,       3907,  3246.3,   1.8438,  34.6800,2,  34.6800,2, 154.0267,2, 153.9691,2,   124.2,2,   35.17,2,    0.00,2,    2.48,2,   0.008,2,   0.022,2,-999.0000,5,  2312.7,2, 2404.06,6,   7.5809,2, -999.00,9, -999.00,9, -999.00,  -999.0,9, -999.00,9,     -999.0,9,  -999.0,9, 20170719,      220, -30.0797, 174.9982,        0.0,1,      0.061,1,      0.006,1,      0.132,1,      25.03,     -999.0,9,     -999.0,9,     -999.0,9,     -999.0,9,     1.8440,2,     -999.0,9
320620170703,        P06,      73,          1,          6,          6,2,20170719,       0345,   -30.0798,   174.9982,       3907,  2954.9,   1.8533,  34.6770,2,  34.6771,2, 153.9710,2, 154.5824,2,   123.2,2,   35.16,2,    0.00,2,    2.46,2,   0.020,2,   0.021,2,-999.0000,5,  2310.3,2, 2399.71,2,   7.5800,2, -999.00,9, -999.00,9, -999.00,  -999.0,9, -999.00,9,     -999.0,9,  -999.0,9, 20170719,      226, -30.0798, 174.9983,        0.0,1,      0.061,1,      0.006,1,      0.132,1,      25.03,     -999.0,9,     -999.0,9,     -999.0,9,     -999.0,9,     1.8518,2,     -999.0,9
320620170703,        P06,      73,          1,          7,         40,2,20170719,       0345,   -30.0798,   174.9982,       3907,  2697.5,   1.8930,  34.6721,2,  34.6720,2, 154.1738,2, 153.9175,2,   121.6,2,   35.16,2,    0.00,2,    2.47,2,   0.018,2,   0.023,2,-999.0000,5,  2309.6,2, 2398.31,2,   7.5782,2, -999.00,9, -999.00,9, -999.00,  -999.0,9, -999.00,9,     -999.0,9,  -999.0,9, 20170719,      232, -30.0798, 174.9983,        0.0,1,      0.061,1,      0.006,1,      0.132,1,      25.03,     -999.0,9,     -999.0,9,     -999.0,9,     -999.0,9,     1.8943,2,     -999.0,9
320620170703,        P06,      73,          1,          8,          8,2,20170719,       0345,   -30.0798,   174.9982,       3907,  2445.6,   1.9629,  34.6652,2,  34.6641,2, 153.6358,2, 153.4885,2,   119.0,2,   35.07,2,    0.00,2,    2.46,2,   0.015,2,   0.030,2,-999.0000,5,  2309.7,2, 2394.96,2,   7.5764,2, -999.00,9, -999.00,9, -999.00,  -999.0,9, -999.00,9,     -999.0,9,  -999.0,9, 20170719,      237, -30.0797, 174.9983,        0.0,1,      0.062,1,      0.006,1,      0.132,1,      25.02,     -999.0,9,     -999.0,9,     -999.0,9,     -999.0,9,     1.9717,2,     -999.0,9
320620170703,        P06,      73,          1,          9,         41,2,20170719,       0345,   -30.0798,   174.9982,       3907,  2190.1,   2.1055,  34.6518,2,  34.6521,2, 153.2398,2, 152.8080,2,   115.9,2,   35.04,2,    0.00,2,    2.47,2,   0.023,2,   0.063,2,-999.0000,5,  2305.7,2, 2390.48,2,   7.5742,2, -999.00,9, -999.00,9, -999.00,  -999.0,9, -999.00,9,     -999.0,9,  -999.0,9, 20170719,      242, -30.0797, 174.9982,        0.0,1,      0.062,1,      0.006,1,      0.135,1,      25.01,     -999.0,9,     -999.0,9,     -999.0,9,     -999.0,9,     2.0976,2,     -999.0,9
320620170703,        P06,      73,          1,         10,         10,2,20170719,       0345,   -30.0798,   174.9982,       3907,  1957.0,   2.2825,  34.6354,2,  34.6354,2, 153.1236,2, 153.2400,2,   110.9,2,   34.92,2,    0.00,2,    2.44,2,   0.034,2,   0.077,2,-999.0000,5,  2298.9,2, 2385.16,2,   7.5766,2, -999.00,9, -999.00,9, -999.00,  -999.0,9, -999.00,9,     -999.0,9,  -999.0,9, 20170719,      247, -30.0797, 174.9982,        0.0,1,      0.061,1,      0.006,1,      0.137,1,      25.02,     -999.0,9,     -999.0,9,     -999.0,9,     -999.0,9,     2.2772,2,     -999.0,9
320620170703,        P06,      73,          1,         11,         42,2,20170719,       0345,   -30.0798,   174.9982,       3907,  1753.5,   2.4673,  34.6187,2,  34.6193,2, 154.0473,2, 154.0937,2,   105.5,2,   34.74,2,    0.00,2,    2.44,2,-999.000,9,-999.000,9,-999.0000,9,  2292.2,2, 2377.33,2,   7.5757,2, -999.00,9, -999.00,9, -999.00,  -999.0,9, -999.00,9,     -999.0,9,  -999.0,9, 20170719,      252, -30.0797, 174.9982,        0.0,1,      0.061,1,      0.006,1,      0.139,1,      25.02,     -999.0,9,     -999.0,9,     -999.0,9,     -999.0,9,     2.4574,2,     -999.0,9
320620170703,        P06,      73,          1,         12,         12,2,20170719,       0345,   -30.0798,   174.9982,       3907,  1581.1,   2.8094,  34.5907,2,  34.5914,2, 158.5842,2, 158.3875,2,    95.3,2,   34.13,2,    0.00,2,    2.39,2,-999.000,5,-999.000,5,-999.0000,5,  2278.1,2, 2366.12,2,   7.5820,2, -999.00,9, -999.00,9, -999.00,  -999.0,9, -999.00,9,     -999.0,9,  -999.0,9, 20170719,      255, -30.0797, 174.9982,        0.0,1,      0.061,1,      0.006,1,      0.140,1,      25.01,     -999.0,9,     -999.0,9,     -999.0,9,     -999.0,9,     2.8071,2,     -999.0,9
320620170703,        P06,      73,          1,         13,         43,2,20170719,       0345,   -30.0798,   174.9982,       3907,  1479.9,   3.0532,  34.5701,2,  34.5700,2, 161.3209,2, 162.3557,2,    87.2,2,   33.69,2,    0.00,2,    2.36,2,-999.000,9,-999.000,9,-999.0000,9,  2270.0,2, 2359.37,6,   7.5863,2, -999.00,9, -999.00,9, -999.00,  -999.0,9, -999.00,9,     -999.0,9,  -999.0,9, 20170719,      258, -30.0797, 174.9982,        0.0,1,      0.061,1,      0.006,1,      0.141,1,      25.02,     -999.0,9,     -999.0,9,     -999.0,9,     -999.0,9,     3.0687,2,     -999.0,9
320620170703,        P06,      73,          1,         14,         14,2,20170719,       0345,   -30.0798,   174.9982,       3907,  1379.0,   3.2961,  34.5427,2,  34.5396,2, 164.9244,2, 164.8450,2,    78.8,2,   33.40,2,    0.00,2,    2.34,2,-999.000,5,   0.090,2,-999.0000,5,  2259.6,6, 2348.77,2,   7.5880,2, -999.00,9, -999.00,9, -999.00,  -999.0,9, -999.00,9,     -999.0,9,  -999.0,9, 20170719,      301, -30.0796, 174.9982,        0.0,1,      0.061,1,      0.006,1,      0.141,1,      25.02,     -999.0,9,     -999.0,9,     -999.0,9,     -999.0,9,     3.2984,2,     -999.0,9
320620170703,        P06,      73,          1,         15,         15,2,20170719,       0345,   -30.0798,   174.9982,       3907,  1278.1,   3.6123,  34.4966,2,  34.4895,2, 172.0489,2, 171.8577,2,    65.4,2,   32.87,2,    0.00,2,    2.29,2,-999.000,9,-999.000,9,-999.0000,9,  2244.0,2, 2333.77,2,   7.5927,2, -999.00,9, -999.00,9, -999.00,  -999.0,9, -999.00,9,     -999.0,9,  -999.0,9, 20170719,      303, -30.0796, 174.9982,        0.0,1,      0.061,1,      0.006,1,      0.142,1,      25.02,     -999.0,9,     -999.0,9,     -999.0,9,     -999.0,9,     3.6549,2,     -999.0,9
320620170703,        P06,      73,          1,         16,         16,2,20170719,       0345,   -30.0798,   174.9982,       3907,  1176.2,   4.0351,  34.4375,2,  34.4477,2, 179.9563,2, 179.8274,2,    51.3,2,   31.77,2,    0.00,2,    2.19,2,   0.605,2,   0.248,2,-999.0000,5,  2224.0,2, 2318.39,2,   7.6059,2, -999.00,9, -999.00,9, -999.00,  -999.0,9, -999.00,9,     -999.0,9,  -999.0,9, 20170719,      306, -30.0797, 174.9982,        0.0,1,      0.060,1,      0.006,1,      0.138,1,      25.02,     -999.0,9,     -999.0,9,     -999.0,9,     -999.0,9,     4.1725,2,     -999.0,9
320620170703,        P06,      73,          1,         17,         17,2,20170719,       0345,   -30.0798,   174.9982,       3907,  1075.7,   4.6507,  34.4115,2,  34.4080,2, 189.3395,2, 188.8445,2,    39.2,2,   30.58,2,    0.00,2,    2.10,2,-999.000,9,-999.000,9,-999.0000,9,  2206.5,2, 2306.51,2,   7.6208,2, -999.00,9, -999.00,9, -999.00,  -999.0,9, -999.00,9,     -999.0,9,  -999.0,9, 20170719,      309, -30.0798, 174.9982,        0.0,1,      0.060,1,      0.006,1,      0.140,1,      25.02,     -999.0,9,     -999.0,9,     -999.0,9,     -999.0,9,     4.6985,2,     -999.0,9
320620170703,        P06,      73,          1,         18,         18,2,20170719,       0345,   -30.0798,   174.9982,       3907,   973.7,   5.2697,  34.3852,2,  34.3798,2, 200.8064,2, 200.6913,2,    27.1,2,   28.73,2,    0.00,2,    1.97,2,   1.390,2,   0.603,2,-999.0000,5,  2186.9,2, 2294.24,2,   7.6436,2, -999.00,9, -999.00,9, -999.00,  -999.0,9, -999.00,9,     -999.0,9,  -999.0,9, 20170719,      311, -30.0798, 174.9983,        0.0,1,      0.060,1,      0.006,1,      0.140,1,      25.02,     -999.0,9,     -999.0,9,     -999.0,9,     -999.0,9,     5.3122,2,     -999.0,9
320620170703,        P06,      73,          1,         19,         19,2,20170719,       0345,   -30.0798,   174.9982,       3907,   872.4,   5.6894,  34.3546,2,  34.3539,2, 211.4847,2, 211.3771,2,    18.3,2,   27.15,2,    0.00,2,    1.86,2,-999.000,9,-999.000,9,-999.0000,9,  2172.3,2, 2287.58,2,   7.6618,2, -999.00,9, -999.00,9, -999.00,  -999.0,9, -999.00,9,     -999.0,9,  -999.0,9, 20170719,      314, -30.0798, 174.9983,        0.0,1,      0.060,1,      0.006,1,      0.139,1,      25.02,     -999.0,9,     -999.0,9,     -999.0,9,     -999.0,9,     5.7608,2,     -999.0,9
320620170703,        P06,      73,          1,         20,         20,2,20170719,       0345,   -30.0798,   174.9982,       3907,   770.9,   6.4390,  34.3832,2,  34.3764,2, 218.2222,2, 218.6411,2,    13.2,2,   25.18,2,    0.00,2,    1.71,2,   2.212,2,   1.134,2,-999.0000,5,  2161.5,2, 2282.01,2,   7.6811,2, -999.00,9, -999.00,9, -999.00,  -999.0,9, -999.00,9,     -999.0,9,  -999.0,9, 20170719,      317, -30.0798, 174.9983,        0.0,1,      0.060,1,      0.006,1,      0.141,1,      25.02,     -999.0,9,     -999.0,9,     -999.0,9,     -999.0,9,     6.3689,2,     -999.0,9
320620170703,        P06,      73,          1,         21,         21,2,20170719,       0345,   -30.0798,   174.9982,       3907,   671.4,   7.1456,  34.4236,2,  34.4186,2, 222.0041,2, 221.3840,2,     9.3,2,   23.25,2,    0.00,2,    1.57,2,-999.000,9,-999.000,9,-999.0000,9,  2154.0,6, 2283.53,2,   7.6979,2, -999.00,9, -999.00,9, -999.00,  -999.0,9, -999.00,9,     -999.0,9,  -999.0,9, 20170719,      319, -30.0798, 174.9982,        0.0,1,      0.059,1,      0.006,1,      0.142,1,      25.02,     -999.0,9,     -999.0,9,     -999.0,9,     -999.0,9,     7.0560,2,     -999.0,9
320620170703,        P06,      73,          1,         22,         22,2,20170719,       0345,   -30.0798,   174.9982,       3907,   569.1,   8.2693,  34.5325,2,  34.4848,2, 218.1802,2, 219.3293,2,     7.1,2,   21.28,2,    0.00,2,    1.46,2,   2.962,2,   1.596,2,-999.0000,5,  2149.6,2, 2279.92,2,   7.7108,2, -999.00,9, -999.00,9, -999.00,  -999.0,9, -999.00,9,     -999.0,9,  -999.0,9, 20170719,      322, -30.0798, 174.9983,        0.0,1,      0.061,1,      0.023,1,      0.145,1,      25.02,     -999.0,9,     -999.0,9,     -999.0,9,     -999.0,9,     7.9483,2,     -999.0,9
320620170703,        P06,      73,          1,         23,         23,2,20170719,       0345,   -30.0798,   174.9982,       3907,   489.1,   9.6088,  34.7129,2,  34.5879,2, 211.1252,2, 212.2564,2,     6.1,2,   19.55,2,    0.00,2,    1.32,2,-999.000,9,-999.000,9,-999.0000,9,  2146.3,2, 2285.30,2,   7.7255,2, -999.00,9, -999.00,9, -999.00,  -999.0,9, -999.00,9,     -999.0,9,  -999.0,9, 20170719,      324, -30.0799, 174.9983,        0.0,1,      0.060,1,      0.006,1,      0.146,1,      25.02,     -999.0,9,     -999.0,9,     -999.0,9,     -999.0,9,     8.8329,2,     -999.0,9
320620170703,        P06,      73,          1,         24,         24,2,20170719,       0345,   -30.0798,   174.9982,       3907,   438.7,  10.7533,  34.8744,2,  34.7999,2, 200.4271,2, 200.3836,2,     6.7,2,   17.54,2,    0.00,2,    1.18,2,   2.635,2,   1.464,2,-999.0000,5,  2143.8,2, 2289.42,2,   7.7499,2, -999.00,9, -999.00,9, -999.00,  -999.0,9, -999.00,9,     -999.0,9,  -999.0,9, 20170719,      326, -30.0799, 174.9983,        0.0,1,      0.060,1,      0.006,1,      0.146,1,      25.01,     -999.0,9,     -999.0,9,     -999.0,9,     -999.0,9,    10.2795,2,     -999.0,9
320620170703,        P06,      73,          1,         25,         25,2,20170719,       0345,   -30.0798,   174.9982,       3907,   387.2,  11.5347,  34.9782,2,  34.9067,2, 199.8569,2, 198.7628,2,     6.2,2,   16.04,2,    0.00,2,    1.09,2,-999.000,9,-999.000,9,-999.0000,9,  2141.3,2, 2296.83,2,   7.7661,2, -999.00,9, -999.00,9, -999.00,  -999.0,9, -999.00,9,     -999.0,9,  -999.0,9, 20170719,      328, -30.0800, 174.9983,        0.0,1,      0.061,1,      0.006,1,      0.148,1,      25.02,     -999.0,9,     -999.0,9,     -999.0,9,     -999.0,9,    11.0595,2,     -999.0,9
320620170703,        P06,      73,          1,         26,         26,2,20170719,       0345,   -30.0798,   174.9982,       3907,   337.0,  12.3966,  35.0690,2,  35.0246,2, 200.9695,2, 199.5075,2,     5.0,2,   13.90,2,    0.00,2,    0.95,2,   2.538,2,   1.476,2,-999.0000,5,  2134.6,2, 2300.23,2,   7.7918,2, -999.00,9, -999.00,9, -999.00,  -999.0,9, -999.00,9,     -999.0,9,  -999.0,9, 20170719,      330, -30.0799, 174.9983,        0.0,1,      0.061,1,      0.006,1,      0.148,1,      25.02,     -999.0,9,     -999.0,9,     -999.0,9,     -999.0,9,    12.1102,2,     -999.0,9
320620170703,        P06,      73,          1,         27,         27,2,20170719,       0345,   -30.0798,   174.9982,       3907,   287.2,  13.2349,  35.1726,2,  35.1463,3, 204.2190,2, 203.5130,2,     3.8,2,   11.10,2,    0.00,2,    0.77,2,-999.000,9,-999.000,9,-999.0000,9,  2123.1,2, 2307.51,2,   7.8210,2, -999.00,9, -999.00,9, -999.00,  -999.0,9, -999.00,9,     -999.0,9,  -999.0,9, 20170719,      332, -30.0798, 174.9983,        0.0,1,      0.061,1,      0.006,1,      0.148,1,      25.02,     -999.0,9,     -999.0,9,     -999.0,9,     -999.0,9,    13.0238,2,     -999.0,9
320620170703,        P06,      73,          1,         28,         28,2,20170719,       0345,   -30.0798,   174.9982,       3907,   236.8,  14.2108,  35.2859,2,  35.2704,2, 203.4669,2, 204.3535,2,     2.5,2,    9.12,2,    0.00,2,    0.64,2,   2.843,2,   1.486,2,-999.0000,5,  2115.2,2, 2314.32,2,   7.8492,2, -999.00,9, -999.00,9, -999.00,  -999.0,9, -999.00,9,     -999.0,9,  -999.0,9, 20170719,      333, -30.0798, 174.9982,        0.0,1,      0.060,1,      0.006,1,      0.149,1,      25.02,     -999.0,9,     -999.0,9,     -999.0,9,     -999.0,9,    14.1132,2,     -999.0,9
320620170703,        P06,      73,          1,         29,         29,2,20170719,       0345,   -30.0798,   174.9982,       3907,   186.7,  15.0775,  35.3676,2,  35.3577,2, 200.4898,2, 202.3337,2,     2.1,2,    8.12,2,    0.02,2,    0.59,2,-999.000,9,-999.000,9,-999.0000,9,  2111.3,2, 2317.82,2,   7.8696,2, -999.00,9, -999.00,9, -999.00,  -999.0,9, -999.00,9,     -999.0,9,  -999.0,9, 20170719,      335, -30.0797, 174.9982,        0.0,1,      0.060,1,      0.006,1,      0.153,1,      25.01,     -999.0,9,     -999.0,9,     -999.0,9,     -999.0,9,    14.9302,2,     -999.0,9
320620170703,        P06,      73,          1,         30,         30,2,20170719,       0345,   -30.0798,   174.9982,       3907,   141.2,  16.2102,  35.4576,2,  35.4636,2, 194.9372,3, 199.4204,2,     1.6,2,    6.63,2,    0.02,2,    0.49,2,   2.953,4,   1.380,2,-999.0000,5,  2101.3,2, 2321.13,2,   7.8996,2, -999.00,9, -999.00,9, -999.00,  -999.0,9, -999.00,9,     -999.0,9,  -999.0,9, 20170719,      337, -30.0796, 174.9982,        0.0,1,      0.063,1,      1.664,1,      0.158,1,      25.02,     -999.0,9,     -999.0,9,     -999.0,9,     -999.0,9,    16.2691,2,     -999.0,9
320620170703,        P06,      73,          1,         31,         31,2,20170719,       0345,   -30.0798,   174.9982,       3907,   115.1,  17.1594,  35.5541,2,  35.6334,2, 222.9119,3, 219.6995,2,     0.5,2,    2.50,2,    0.12,2,    0.23,2,-999.000,9,-999.000,9,-999.0000,9,  2078.9,2, 2334.86,2,   7.9590,2, -999.00,9, -999.00,9, -999.00,  -999.0,9, -999.00,9,     -999.0,9,  -999.0,9, 20170719,      338, -30.0796, 174.9981,        0.0,1,      0.068,1,      4.021,1,      0.161,1,      25.02,     -999.0,9,     -999.0,9,     -999.0,9,     -999.0,9,    17.7127,2,     -999.0,9
320620170703,        P06,      73,          1,         32,         32,2,20170719,       0345,   -30.0798,   174.9982,       3907,    90.7,  17.9673,  35.6967,2,  35.6921,2, 224.1453,3, 230.8558,2,     0.3,2,    0.84,2,    0.15,2,    0.13,2,   2.558,4,   1.302,2,-999.0000,5,  2069.2,2, 2341.86,2,   7.9805,2, -999.00,9, -999.00,9, -999.00,  -999.0,9, -999.00,9,     -999.0,9,  -999.0,9, 20170719,      340, -30.0796, 174.9981,        0.0,1,      0.203,1,      1.311,1,      0.225,1,      25.02,     -999.0,9,     -999.0,9,     -999.0,9,     -999.0,9,    17.9378,2,     -999.0,9