BOTTLE,20230922CCHSIOCBG
EXPOCODE,SECT_ID,STNNBR,CASTNO,SAMPNO,BTLNBR,BTLNBR_FLAG_W,DATE,TIME,LATITUDE,LONGITUDE,DEPTH,CTDPRS,CTDTMP,CTDSAL,CTDSAL_FLAG_W,SALNTY,SALNTY_FLAG_W,CTDOXY,CTDOXY_FLAG_W,OXYGEN,OXYGEN_FLAG_W,SILCAT,SILCAT_FLAG_W,NITRAT,NITRAT_FLAG_W,NITRIT,NITRIT_FLAG_W,PHSPHT,PHSPHT_FLAG_W,CFC-11,CFC-11_FLAG_W,CFC-12,CFC-12_FLAG_W,SF6,SF6_FLAG_W,TCARBN,TCARBN_FLAG_W,ALKALI,ALKALI_FLAG_W,PH_TOT,PH_TOT_FLAG_W,DELC13,DELC13_FLAG_W,DELC14,DELC14_FLAG_W,C14ERR,DOC,DOC_FLAG_W,TDN,TDN_FLAG_W,TON,TON_FLAG_W,D15N_NO3,D15N_NO3_FLAG_W,BTL_DATE,BTL_TIME,BTL_LAT,BTL_LON,CTDRINKO,CTDRINKO_FLAG_W,CTDFLUOR,CTDFLUOR_FLAG_W,CTDXMISS,CTDXMISS_FLAG_W,CTDBACKSCATTER,CTDBACKSCATTER_FLAG_W,PH_TMP,D18O_NO3,D18O_NO3_FLAG_W,DOP,DOP_FLAG_W,HPLC,HPLC_FLAG_W,POC,POC_FLAG_W,REFTMP,REFTMP_FLAG_W,TDP,TDP_FLAG_W
,,,,,,,,,,,METERS,DBAR,ITS-90,PSS-78,,PSS-78,,UMOL/KG,,UMOL/KG,,UMOL/KG,,UMOL/KG,,UMOL/KG,,UMOL/KG,,PMOL/KG,,PMOL/KG,,FMOL/KG,,UMOL/KG,,UMOL/KG,,,,/MILLE,,/MILLE,,/MILLE,UMOL/KG,,UMOL/KG,,UMOL/KG,,/MILLE,,,,,,VOLTS,,VOLTS,,VOLTS,,VOLTS,,DEGC,/MILLE,,UMOL/KG,,,,UG/L,,ITS-90,,UMOL/KG,
320620170703,        P06,      20,          1,         33,         33,2,20170708,       2141,   -30.0799,   157.2799,       3731,    76.1,  20.5550,  35.7820,2,  35.7882,2, 219.2132,2, 218.2179,2,     0.1,2,    0.23,2,    0.24,2,    0.11,2,-999.000,9,-999.000,9,-999.0000,9,  2043.9,2, -999.00,9,   8.0265,2, -999.00,9, -999.00,9, -999.00,  -999.0,9, -999.00,9,     -999.0,9,  -999.0,9, 20170708,     2135, -30.0799, 157.2800,        0.0,1,      0.147,1,      4.643,1,      0.219,1,      25.04,     -999.0,9,     -999.0,9,     -999.0,9,     -999.0,9,    20.5080,2,     -999.0,9
320620170703,        P06,      20,          1,         34,         34,2,20170708,       2141,   -30.0799,   157.2799,       3731,    51.4,  20.5536,  35.7792,2,  35.7811,2, 220.4499,2, 219.7778,2,     0.0,2,    0.16,2,    0.21,2,    0.09,2,-999.000,9,-999.000,9,-999.0000,9,  2044.6,2, -999.00,9,   8.0290,2, -999.00,9, -999.00,9, -999.00,  -999.0,9, -999.00,9,     -999.0,9,  -999.0,9, 20170708,     2137, -30.0799, 157.2800,        0.0,1,      0.157,1,      4.637,1,      0.220,1,      25.05,     -999.0,9,     -999.0,9,     -999.0,9,     -999.0,9,    20.5397,2,     -999.0,9
320620170703,        P06,      20,          1,         35,         35,2,20170708,       2141,   -30.0799,   157.2799,       3731,    25.5,  20.5954,  35.7546,2,  35.7173,2, 222.1037,2, 220.8895,2,     0.0,2,    0.13,2,    0.09,2,    0.09,2,-999.000,9,-999.000,9,-999.0000,9,  -999.0,9, -999.00,9,-999.0000,9, -999.00,9, -999.00,9, -999.00,  -999.0,9, -999.00,9,     -999.0,9,  -999.0,9, 20170708,     2139, -30.0799, 157.2800,        0.0,1,      0.190,1,      4.612,1,      0.221,1,     -999.0,     -999.0,9,     -999.0,9,     -999.0,9,     -999.0,9,    20.5699,2,     -999.0,9
320620170703,        P06,      20,          1,         36,         36,2,20170708,       2141,   -30.0799,   157.2799,       3731,     5.9,  20.6087,  35.6501,2,  35.6492,2, 220.4729,2, 219.3029,2,     0.2,2,    0.24,2,    0.05,2,    0.10,2,-999.000,9,-999.000,9,-999.0000,9,  2034.9,6, -999.00,9,   8.0356,2,    0.84,6,   50.39,6,    4.53,  -999.0,9, -999.00,9,     -999.0,9,  -999.0,9, 20170708,     2141, -30.0799, 157.2799,        0.0,1,      0.215,1,      4.571,1,      0.231,1,      25.04,     -999.0,9,     -999.0,9,     -999.0,9,     -999.0,9,    20.6504,2,     -999.0,9