BOTTLE,20230922CCHSIOCBG
EXPOCODE,SECT_ID,STNNBR,CASTNO,SAMPNO,BTLNBR,BTLNBR_FLAG_W,DATE,TIME,LATITUDE,LONGITUDE,DEPTH,CTDPRS,CTDTMP,CTDSAL,CTDSAL_FLAG_W,SALNTY,SALNTY_FLAG_W,CTDOXY,CTDOXY_FLAG_W,OXYGEN,OXYGEN_FLAG_W,SILCAT,SILCAT_FLAG_W,NITRAT,NITRAT_FLAG_W,NITRIT,NITRIT_FLAG_W,PHSPHT,PHSPHT_FLAG_W,CFC-11,CFC-11_FLAG_W,CFC-12,CFC-12_FLAG_W,SF6,SF6_FLAG_W,TCARBN,TCARBN_FLAG_W,ALKALI,ALKALI_FLAG_W,PH_TOT,PH_TOT_FLAG_W,DELC13,DELC13_FLAG_W,DELC14,DELC14_FLAG_W,C14ERR,DOC,DOC_FLAG_W,TDN,TDN_FLAG_W,TON,TON_FLAG_W,D15N_NO3,D15N_NO3_FLAG_W,BTL_DATE,BTL_TIME,BTL_LAT,BTL_LON,CTDRINKO,CTDRINKO_FLAG_W,CTDFLUOR,CTDFLUOR_FLAG_W,CTDXMISS,CTDXMISS_FLAG_W,CTDBACKSCATTER,CTDBACKSCATTER_FLAG_W,PH_TMP,D18O_NO3,D18O_NO3_FLAG_W,DOP,DOP_FLAG_W,HPLC,HPLC_FLAG_W,POC,POC_FLAG_W,REFTMP,REFTMP_FLAG_W,TDP,TDP_FLAG_W
,,,,,,,,,,,METERS,DBAR,ITS-90,PSS-78,,PSS-78,,UMOL/KG,,UMOL/KG,,UMOL/KG,,UMOL/KG,,UMOL/KG,,UMOL/KG,,PMOL/KG,,PMOL/KG,,FMOL/KG,,UMOL/KG,,UMOL/KG,,,,/MILLE,,/MILLE,,/MILLE,UMOL/KG,,UMOL/KG,,UMOL/KG,,/MILLE,,,,,,VOLTS,,VOLTS,,VOLTS,,VOLTS,,DEGC,/MILLE,,UMOL/KG,,,,UG/L,,ITS-90,,UMOL/KG,
320620170703,        P06,      54,          1,         33,         33,2,20170715,       0826,   -30.0800,   168.9997,       3156,    86.2,  19.8696,  35.8830,2,  35.8850,2, 221.3035,2, 220.9578,2,     0.2,2,    0.25,2,    0.08,2,    0.08,2,   1.785,2,   1.118,2,   0.9910,2,  2058.6,2, 2347.85,2,   8.0141,2, -999.00,9, -999.00,9, -999.00,  -999.0,9, -999.00,9,     -999.0,9,  -999.0,9, 20170715,      818, -30.0800, 168.9997,        0.0,1,      0.170,1,      2.405,1,      0.208,1,      25.02,     -999.0,9,     -999.0,9,     -999.0,9,     -999.0,9,    19.8860,2,     -999.0,9
320620170703,        P06,      54,          1,         34,         34,2,20170715,       0826,   -30.0800,   168.9997,       3156,    35.5,  19.9021,  35.8885,2,  35.8868,2, 221.6711,2, 221.4099,2,     0.2,2,    0.25,2,    0.07,2,    0.07,2,   1.778,2,   1.132,2,   0.9080,2,  2057.0,2, 2347.94,2,   8.0155,2, -999.00,9, -999.00,9, -999.00,  -999.0,9, -999.00,9,     -999.0,9,  -999.0,9, 20170715,      822, -30.0800, 168.9996,        0.0,1,      0.194,1,      3.654,1,      0.220,1,      25.04,     -999.0,9,     -999.0,9,     -999.0,9,     -999.0,9,    19.8957,2,     -999.0,9
320620170703,        P06,      54,          1,         35,         35,2,20170715,       0826,   -30.0800,   168.9997,       3156,    20.2,  19.9070,  35.8853,2,  35.8868,2, 221.5871,2, 221.3249,2,     0.2,2,    0.25,2,    0.07,2,    0.08,2,   1.760,2,   1.124,2,   0.9820,2,  2058.2,2, 2346.99,2,   8.0155,2, -999.00,9, -999.00,9, -999.00,  -999.0,9, -999.00,9,     -999.0,9,  -999.0,9, 20170715,      824, -30.0800, 168.9997,        0.0,1,      0.167,1,      1.697,1,      0.206,1,      25.03,     -999.0,9,     -999.0,9,     -999.0,9,     -999.0,9,    19.8954,2,     -999.0,9
320620170703,        P06,      54,          1,         36,         36,2,20170715,       0826,   -30.0800,   168.9997,       3156,     6.0,  19.8971,  35.8849,2,  35.8870,2, 221.7571,2, 221.3228,2,     0.2,2,    0.26,2,    0.07,2,    0.08,2,   1.789,2,   1.127,2,   0.9980,2,  2057.5,6, 2347.03,2,   8.0147,2, -999.00,9, -999.00,9, -999.00,  -999.0,9, -999.00,9,     -999.0,9,  -999.0,9, 20170715,      826, -30.0800, 168.9997,        0.0,1,      0.166,1,      3.850,1,      0.195,1,      25.01,     -999.0,9,     -999.0,9,     -999.0,9,     -999.0,9,    19.8951,2,     -999.0,9