BOTTLE,20230922CCHSIOCBG
EXPOCODE,SECT_ID,STNNBR,CASTNO,SAMPNO,BTLNBR,BTLNBR_FLAG_W,DATE,TIME,LATITUDE,LONGITUDE,DEPTH,CTDPRS,CTDTMP,CTDSAL,CTDSAL_FLAG_W,SALNTY,SALNTY_FLAG_W,CTDOXY,CTDOXY_FLAG_W,OXYGEN,OXYGEN_FLAG_W,SILCAT,SILCAT_FLAG_W,NITRAT,NITRAT_FLAG_W,NITRIT,NITRIT_FLAG_W,PHSPHT,PHSPHT_FLAG_W,CFC-11,CFC-11_FLAG_W,CFC-12,CFC-12_FLAG_W,SF6,SF6_FLAG_W,TCARBN,TCARBN_FLAG_W,ALKALI,ALKALI_FLAG_W,PH_TOT,PH_TOT_FLAG_W,DELC13,DELC13_FLAG_W,DELC14,DELC14_FLAG_W,C14ERR,DOC,DOC_FLAG_W,TDN,TDN_FLAG_W,TON,TON_FLAG_W,D15N_NO3,D15N_NO3_FLAG_W,BTL_DATE,BTL_TIME,BTL_LAT,BTL_LON,CTDRINKO,CTDRINKO_FLAG_W,CTDFLUOR,CTDFLUOR_FLAG_W,CTDXMISS,CTDXMISS_FLAG_W,CTDBACKSCATTER,CTDBACKSCATTER_FLAG_W,PH_TMP,D18O_NO3,D18O_NO3_FLAG_W,DOP,DOP_FLAG_W,HPLC,HPLC_FLAG_W,POC,POC_FLAG_W,REFTMP,REFTMP_FLAG_W,TDP,TDP_FLAG_W
,,,,,,,,,,,METERS,DBAR,ITS-90,PSS-78,,PSS-78,,UMOL/KG,,UMOL/KG,,UMOL/KG,,UMOL/KG,,UMOL/KG,,UMOL/KG,,PMOL/KG,,PMOL/KG,,FMOL/KG,,UMOL/KG,,UMOL/KG,,,,/MILLE,,/MILLE,,/MILLE,UMOL/KG,,UMOL/KG,,UMOL/KG,,/MILLE,,,,,,VOLTS,,VOLTS,,VOLTS,,VOLTS,,DEGC,/MILLE,,UMOL/KG,,,,UG/L,,ITS-90,,UMOL/KG,
320620170703,        P06,     100,          1,         33,         33,2,20170729,       0650,   -32.5001,  -174.3296,       5850,    83.7,  17.0980,  35.6061,2,  35.6038,2, 235.4798,2, 236.2618,2,     0.5,2,    0.35,2,    0.05,2,    0.13,2,   2.249,2,   1.327,2,   1.3060,2,  2070.4,2, 2330.58,2,   7.9721,2, -999.00,9, -999.00,9, -999.00,    58.0,2,    4.30,2,     -999.0,1,  -999.0,9, 20170729,      645, -32.5004,-174.3294,        0.0,1,      0.192,1,      4.612,1,      0.264,1,      24.93,     -999.0,9,     -999.0,9,     -999.0,9,     -999.0,9,    17.0511,2,     -999.0,9
320620170703,        P06,     100,          1,         34,         34,2,20170729,       0650,   -32.5001,  -174.3296,       5850,    59.7,  17.3636,  35.6422,2,  35.6307,2, 235.6865,2, 235.2967,2,     0.4,2,    0.31,2,    0.05,2,    0.11,2,   2.225,2,   1.323,2,   1.4120,2,  -999.0,9, -999.00,9,-999.0000,9, -999.00,9, -999.00,9, -999.00,    61.0,2,    4.80,2,     -999.0,1,  -999.0,9, 20170729,      647, -32.5004,-174.3294,        0.0,1,      0.199,1,      4.553,1,      0.241,1,     -999.0,     -999.0,9,     -999.0,9,     -999.0,9,     -999.0,9,    17.2726,2,     -999.0,9
320620170703,        P06,     100,          1,         35,         35,2,20170729,       0650,   -32.5001,  -174.3296,       5850,    35.0,  17.3868,  35.6440,2,  35.6342,2, 235.7512,2, 235.5633,2,     0.4,2,    0.30,2,    0.05,2,    0.12,2,   2.246,2,   1.296,2,   1.3650,2,  2068.7,2, -999.00,9,   7.9765,2, -999.00,9, -999.00,9, -999.00,    59.1,2,    4.90,2,     -999.0,1,  -999.0,9, 20170729,      649, -32.5002,-174.3295,        0.0,1,      0.189,1,      4.593,1,      0.259,1,      25.01,     -999.0,9,     -999.0,9,     -999.0,9,     -999.0,9,    17.2962,2,     -999.0,9
320620170703,        P06,     100,          1,         36,         36,2,20170729,       0650,   -32.5001,  -174.3296,       5850,     5.6,  17.3843,  35.6429,2,  35.6354,2, 235.6774,2, 235.5637,2,     0.5,2,    0.29,2,    0.05,2,    0.13,2,   2.261,2,   1.317,2,   1.4000,2,  2069.1,6, 2335.94,2,   7.9756,2, -999.00,9, -999.00,9, -999.00,    63.3,2,    4.80,2,     -999.0,1,  -999.0,9, 20170729,      650, -32.5001,-174.3296,        0.0,1,      0.174,1,      4.592,1,      0.253,1,      25.01,     -999.0,9,     -999.0,9,     -999.0,9,     -999.0,9,    17.2996,2,     -999.0,9