BOTTLE,20230922CCHSIOCBG
EXPOCODE,SECT_ID,STNNBR,CASTNO,SAMPNO,BTLNBR,BTLNBR_FLAG_W,DATE,TIME,LATITUDE,LONGITUDE,DEPTH,CTDPRS,CTDTMP,CTDSAL,CTDSAL_FLAG_W,SALNTY,SALNTY_FLAG_W,CTDOXY,CTDOXY_FLAG_W,OXYGEN,OXYGEN_FLAG_W,SILCAT,SILCAT_FLAG_W,NITRAT,NITRAT_FLAG_W,NITRIT,NITRIT_FLAG_W,PHSPHT,PHSPHT_FLAG_W,CFC-11,CFC-11_FLAG_W,CFC-12,CFC-12_FLAG_W,SF6,SF6_FLAG_W,TCARBN,TCARBN_FLAG_W,ALKALI,ALKALI_FLAG_W,PH_TOT,PH_TOT_FLAG_W,DELC13,DELC13_FLAG_W,DELC14,DELC14_FLAG_W,C14ERR,DOC,DOC_FLAG_W,TDN,TDN_FLAG_W,TON,TON_FLAG_W,D15N_NO3,D15N_NO3_FLAG_W,BTL_DATE,BTL_TIME,BTL_LAT,BTL_LON,CTDRINKO,CTDRINKO_FLAG_W,CTDFLUOR,CTDFLUOR_FLAG_W,CTDXMISS,CTDXMISS_FLAG_W,CTDBACKSCATTER,CTDBACKSCATTER_FLAG_W,PH_TMP,D18O_NO3,D18O_NO3_FLAG_W,DOP,DOP_FLAG_W,HPLC,HPLC_FLAG_W,POC,POC_FLAG_W,REFTMP,REFTMP_FLAG_W,TDP,TDP_FLAG_W
,,,,,,,,,,,METERS,DBAR,ITS-90,PSS-78,,PSS-78,,UMOL/KG,,UMOL/KG,,UMOL/KG,,UMOL/KG,,UMOL/KG,,UMOL/KG,,PMOL/KG,,PMOL/KG,,FMOL/KG,,UMOL/KG,,UMOL/KG,,,,/MILLE,,/MILLE,,/MILLE,UMOL/KG,,UMOL/KG,,UMOL/KG,,/MILLE,,,,,,VOLTS,,VOLTS,,VOLTS,,VOLTS,,DEGC,/MILLE,,UMOL/KG,,,,UG/L,,ITS-90,,UMOL/KG,
320620170703,        P06,      91,          1,         33,         33,2,20170726,       1604,   -32.4992,  -178.2789,       5157,    86.2,  16.8782,  35.5775,2,  35.5788,2, 235.5742,2, 236.0906,2,     0.6,2,    0.67,2,    0.13,2,    0.15,2,   2.278,2,   1.350,2,   1.4750,2,  2072.4,2, -999.00,9,   7.9662,2, -999.00,9, -999.00,9, -999.00,  -999.0,9, -999.00,9,     -999.0,9,  -999.0,9, 20170726,     1559, -32.4993,-178.2787,        0.0,1,      0.190,1,      4.607,1,      0.277,1,      25.03,     -999.0,9,     -999.0,9,     -999.0,9,     -999.0,9,    16.8680,2,     -999.0,9
320620170703,        P06,      91,          1,         34,         34,2,20170726,       1604,   -32.4992,  -178.2789,       5157,    59.7,  16.8696,  35.5759,2,  35.5776,2, 235.5787,2, 235.9806,2,     0.7,2,    0.66,2,    0.13,2,    0.15,2,-999.000,9,-999.000,9,-999.0000,9,  2071.8,2, 2331.84,2,   7.9664,2, -999.00,9, -999.00,9, -999.00,  -999.0,9, -999.00,9,     -999.0,9,  -999.0,9, 20170726,     1600, -32.4992,-178.2788,        0.0,1,      0.165,1,      4.614,1,      0.264,1,      25.04,     -999.0,9,     -999.0,9,     -999.0,9,     -999.0,9,    16.8627,2,     -999.0,9
320620170703,        P06,      91,          1,         35,         35,2,20170726,       1604,   -32.4992,  -178.2789,       5157,    33.4,  16.8683,  35.5775,2,  35.5776,2, 235.5742,2, 236.0309,2,     0.6,2,    0.67,2,    0.13,2,    0.16,2,   2.286,2,   1.345,2,   1.3330,2,  2072.4,2, -999.00,9,   7.9659,2, -999.00,9, -999.00,9, -999.00,  -999.0,9, -999.00,9,     -999.0,9,  -999.0,9, 20170726,     1602, -32.4992,-178.2788,        0.0,1,      0.187,1,      4.601,1,      0.267,1,      25.03,     -999.0,9,     -999.0,9,     -999.0,9,     -999.0,9,    16.8621,2,     -999.0,9
320620170703,        P06,      91,          1,         36,         36,2,20170726,       1604,   -32.4992,  -178.2789,       5157,     6.2,  16.8674,  35.5769,2,  35.5778,2, 235.5854,2, 235.7553,2,     0.7,2,    0.67,2,    0.13,2,    0.16,2,   2.265,2,   1.336,2,   1.4070,2,  2073.6,6, 2334.09,2,   7.9654,2, -999.00,9, -999.00,9, -999.00,  -999.0,9, -999.00,9,     -999.0,9,  -999.0,9, 20170726,     1604, -32.4992,-178.2789,        0.0,1,      0.186,1,      4.604,1,      0.263,1,      25.03,     -999.0,9,     -999.0,9,     -999.0,9,     -999.0,9,    16.8475,2,     -999.0,9