BOTTLE,20230922CCHSIOCBG
EXPOCODE,SECT_ID,STNNBR,CASTNO,SAMPNO,BTLNBR,BTLNBR_FLAG_W,DATE,TIME,LATITUDE,LONGITUDE,DEPTH,CTDPRS,CTDTMP,CTDSAL,CTDSAL_FLAG_W,SALNTY,SALNTY_FLAG_W,CTDOXY,CTDOXY_FLAG_W,OXYGEN,OXYGEN_FLAG_W,SILCAT,SILCAT_FLAG_W,NITRAT,NITRAT_FLAG_W,NITRIT,NITRIT_FLAG_W,PHSPHT,PHSPHT_FLAG_W,CFC-11,CFC-11_FLAG_W,CFC-12,CFC-12_FLAG_W,SF6,SF6_FLAG_W,TCARBN,TCARBN_FLAG_W,ALKALI,ALKALI_FLAG_W,PH_TOT,PH_TOT_FLAG_W,DELC13,DELC13_FLAG_W,DELC14,DELC14_FLAG_W,C14ERR,DOC,DOC_FLAG_W,TDN,TDN_FLAG_W,TON,TON_FLAG_W,D15N_NO3,D15N_NO3_FLAG_W,BTL_DATE,BTL_TIME,BTL_LAT,BTL_LON,CTDRINKO,CTDRINKO_FLAG_W,CTDFLUOR,CTDFLUOR_FLAG_W,CTDXMISS,CTDXMISS_FLAG_W,CTDBACKSCATTER,CTDBACKSCATTER_FLAG_W,PH_TMP,D18O_NO3,D18O_NO3_FLAG_W,DOP,DOP_FLAG_W,HPLC,HPLC_FLAG_W,POC,POC_FLAG_W,REFTMP,REFTMP_FLAG_W,TDP,TDP_FLAG_W
,,,,,,,,,,,METERS,DBAR,ITS-90,PSS-78,,PSS-78,,UMOL/KG,,UMOL/KG,,UMOL/KG,,UMOL/KG,,UMOL/KG,,UMOL/KG,,PMOL/KG,,PMOL/KG,,FMOL/KG,,UMOL/KG,,UMOL/KG,,,,/MILLE,,/MILLE,,/MILLE,UMOL/KG,,UMOL/KG,,UMOL/KG,,/MILLE,,,,,,VOLTS,,VOLTS,,VOLTS,,VOLTS,,DEGC,/MILLE,,UMOL/KG,,,,UG/L,,ITS-90,,UMOL/KG,
320620170703,        P06,      99,          1,          1,          1,2,20170728,       2331,   -32.4999,  -174.8397,       5737,  5847.2,   1.1470,  34.7075,2,  34.7077,2, 206.5443,2, 206.5051,2,   121.8,2,   32.20,2,    0.00,2,    2.21,2,   0.164,2,   0.090,2,   0.0000,2,  2264.0,6, 2368.70,2,   7.6054,2, -999.00,9, -999.00,9, -999.00,  -999.0,9, -999.00,9,     -999.0,9,  -999.0,9, 20170728,     2111, -32.5000,-174.8400,        0.0,1,      0.060,1,      4.692,1,      0.130,1,      25.00,     -999.0,9,     -999.0,9,     -999.0,9,     -999.0,9,     1.1474,2,     -999.0,9
320620170703,        P06,      99,          1,          2,          2,2,20170728,       2331,   -32.4999,  -174.8397,       5737,  5521.7,   1.1051,  34.7078,2,  34.7076,2, 206.5443,2, 206.9317,2,   121.8,2,   32.21,2,    0.00,2,    2.22,2,   0.153,2,   0.088,2,   0.0000,2,  2264.4,2, 2364.41,2,   7.6042,2, -999.00,9, -999.00,9, -999.00,  -999.0,9, -999.00,9,     -999.0,9,  -999.0,9, 20170728,     2117, -32.4999,-174.8399,        0.0,1,      0.060,1,      4.692,1,      0.129,1,      25.01,     -999.0,9,     -999.0,9,     -999.0,9,     -999.0,9,     1.1056,2,     -999.0,9
320620170703,        P06,      99,          1,          3,          3,2,20170728,       2331,   -32.4999,  -174.8397,       5737,  5110.5,   1.0607,  34.7083,2,  34.7079,2, 206.5443,2, 207.1970,2,   121.5,2,   32.18,2,    0.00,2,    2.21,2,   0.156,2,   0.092,2,   0.0000,2,  2264.7,2, 2364.14,6,   7.6043,2, -999.00,9, -999.00,9, -999.00,  -999.0,9, -999.00,9,     -999.0,9,  -999.0,9, 20170728,     2125, -32.4999,-174.8399,        0.0,1,      0.061,1,      4.699,1,      0.127,1,      25.00,     -999.0,9,     -999.0,9,     -999.0,9,     -999.0,9,     1.0607,2,     -999.0,9
320620170703,        P06,      99,          1,          4,          4,2,20170728,       2331,   -32.4999,  -174.8397,       5737,  4697.7,   1.0411,  34.7095,2,  34.7089,2, 206.5443,2, 206.2480,2,   120.5,2,   32.16,2,    0.00,2,    2.21,2,   0.148,2,   0.087,2,   0.0000,2,  2263.0,2, 2364.04,2,   7.6064,2, -999.00,9, -999.00,9, -999.00,  -999.0,9, -999.00,9,     -999.0,9,  -999.0,9, 20170728,     2133, -32.4999,-174.8399,        0.0,1,      0.061,1,      4.701,1,      0.127,1,      24.96,     -999.0,9,     -999.0,9,     -999.0,9,     -999.0,9,     1.0421,2,     -999.0,9
320620170703,        P06,      99,          1,          5,          5,2,20170728,       2331,   -32.4999,  -174.8397,       5737,  4337.2,   1.0657,  34.7120,2,  34.7119,2, 206.5461,2, 205.8997,2,   118.6,2,   32.09,2,    0.00,2,    2.19,2,   0.146,2,   0.087,2,   0.0000,2,  2260.9,2, 2360.96,2,   7.6060,2, -999.00,9, -999.00,9, -999.00,  -999.0,9, -999.00,9,     -999.0,9,  -999.0,9, 20170728,     2141, -32.4999,-174.8399,        0.0,1,      0.060,1,      4.701,1,      0.129,1,      24.98,     -999.0,9,     -999.0,9,     -999.0,9,     -999.0,9,     1.0691,2,     -999.0,9
320620170703,        P06,      99,          1,          6,          6,2,20170728,       2331,   -32.4999,  -174.8397,       5737,  4030.0,   1.1409,  34.7156,2,  34.7158,2, 204.6435,2, 204.8508,2,   115.7,2,   31.94,2,    0.00,2,    2.20,2,   0.129,2,   0.073,2,   0.0000,2,  2260.5,2, 2363.53,2,   7.6073,2, -999.00,9, -999.00,9, -999.00,  -999.0,9, -999.00,9,     -999.0,9,  -999.0,9, 20170728,     2147, -32.5001,-174.8399,        0.0,1,      0.061,1,      4.701,1,      0.129,1,      24.98,     -999.0,9,     -999.0,9,     -999.0,9,     -999.0,9,     1.1529,2,     -999.0,9
320620170703,        P06,      99,          1,          7,          7,2,20170728,       2331,   -32.4999,  -174.8397,       5737,  3722.9,   1.3275,  34.7211,2,  34.7178,2, 199.7135,2, 199.4925,2,   110.6,2,   31.79,2,    0.00,2,    2.18,2,   0.105,2,   0.065,2,   0.0000,2,  2261.2,2, 2360.31,2,   7.6062,2, -999.00,9, -999.00,9, -999.00,  -999.0,9, -999.00,9,     -999.0,9,  -999.0,9, 20170728,     2154, -32.4999,-174.8399,        0.0,1,      0.061,1,      4.701,1,      0.133,1,      24.99,     -999.0,9,     -999.0,9,     -999.0,9,     -999.0,9,     1.3412,2,     -999.0,9
320620170703,        P06,      99,          1,          8,          8,2,20170728,       2331,   -32.4999,  -174.8397,       5737,  3415.8,   1.5685,  34.7183,2,  34.7154,2, 187.6731,2, 187.7202,2,   108.9,2,   32.31,2,    0.00,2,    2.23,2,   0.067,2,   0.046,2,   0.0000,2,  2269.0,2, 2365.29,2,   7.5989,2, -999.00,9, -999.00,9, -999.00,  -999.0,9, -999.00,9,     -999.0,9,  -999.0,9, 20170728,     2201, -32.5002,-174.8399,        0.0,1,      0.061,1,      4.701,1,      0.130,1,      24.99,     -999.0,9,     -999.0,9,     -999.0,9,     -999.0,9,     1.6003,2,     -999.0,9
320620170703,        P06,      99,          1,          9,          9,2,20170728,       2331,   -32.4999,  -174.8397,       5737,  3140.4,   1.7361,  34.6964,2,  34.6908,2, 169.3124,2, 169.1057,2,   117.5,2,   33.94,2,    0.00,2,    2.36,2,   0.046,2,   0.037,2,   0.0000,2,  2289.4,2, 2381.64,2,   7.5836,2, -999.00,9, -999.00,9, -999.00,  -999.0,9, -999.00,9,     -999.0,9,  -999.0,9, 20170728,     2207, -32.5001,-174.8399,        0.0,1,      0.061,1,      4.701,1,      0.130,1,      24.99,     -999.0,9,     -999.0,9,     -999.0,9,     -999.0,9,     1.7652,2,     -999.0,9
320620170703,        P06,      99,          1,         10,         10,2,20170728,       2331,   -32.4999,  -174.8397,       5737,  2884.0,   1.8859,  34.6669,2,  34.6651,2, 153.2466,2, 152.2266,2,   125.4,2,   35.46,2,    0.00,2,    2.47,2,   0.028,2,   0.030,2,   0.0000,2,  2308.5,2, 2404.54,3,   7.5700,2, -999.00,9, -999.00,9, -999.00,  -999.0,9, -999.00,9,     -999.0,9,  -999.0,9, 20170728,     2213, -32.5001,-174.8399,        0.0,1,      0.061,1,      4.701,1,      0.133,1,      25.00,     -999.0,9,     -999.0,9,     -999.0,9,     -999.0,9,     1.8941,2,     -999.0,9
320620170703,        P06,      99,          1,         11,         11,2,20170728,       2331,   -32.4999,  -174.8397,       5737,  2630.0,   2.0265,  34.6517,2,  34.6525,2, 148.2989,2, 148.2776,2,   123.2,2,   35.75,2,    0.00,2,    2.49,2,   0.026,2,   0.029,2,   0.0000,2,  2310.6,2, 2394.93,2,   7.5657,2, -999.00,9, -999.00,9, -999.00,  -999.0,9, -999.00,9,     -999.0,9,  -999.0,9, 20170728,     2219, -32.5001,-174.8399,        0.0,1,      0.061,1,      4.701,1,      0.134,1,      24.99,     -999.0,9,     -999.0,9,     -999.0,9,     -999.0,9,     2.0224,2,     -999.0,9
320620170703,        P06,      99,          1,         12,         12,2,20170728,       2331,   -32.4999,  -174.8397,       5737,  2374.9,   2.1566,  34.6397,2,  34.6390,2, 147.8574,2, 148.0277,2,   118.3,2,   35.72,2,    0.00,2,    2.49,2,   0.027,2,   0.030,2,   0.0000,2,  2306.1,2, 2389.86,2,   7.5654,2, -999.00,9, -999.00,9, -999.00,  -999.0,9, -999.00,9,     -999.0,9,  -999.0,9, 20170728,     2225, -32.4999,-174.8399,        0.0,1,      0.061,1,      4.701,1,      0.137,1,      24.99,     -999.0,9,     -999.0,9,     -999.0,9,     -999.0,9,     2.1564,2,     -999.0,9
320620170703,        P06,      99,          1,         13,         13,2,20170728,       2331,   -32.4999,  -174.8397,       5737,  2120.6,   2.3002,  34.6259,2,  34.6238,2, 149.2466,2, 149.7927,2,   111.3,2,   35.51,2,    0.00,2,    2.47,2,   0.033,2,   0.035,2,   0.0000,2,  2298.1,6, 2383.35,2,   7.5662,2, -999.00,9, -999.00,9, -999.00,  -999.0,9, -999.00,9,     -999.0,9,  -999.0,9, 20170728,     2231, -32.5000,-174.8399,        0.0,1,      0.061,1,      4.701,1,      0.136,1,      24.99,     -999.0,9,     -999.0,9,     -999.0,9,     -999.0,9,     2.3084,2,     -999.0,9
320620170703,        P06,      99,          1,         14,         14,2,20170728,       2331,   -32.4999,  -174.8397,       5737,  1866.5,   2.4874,  34.6023,2,  34.6020,2, 152.4716,2, 153.2152,2,   101.7,2,   35.21,2,    0.00,2,    2.44,2,   0.035,2,   0.034,2,   0.0000,2,  2286.7,2, 2496.67,4,   7.5666,2, -999.00,9, -999.00,9, -999.00,  -999.0,9, -999.00,9,     -999.0,9,  -999.0,9, 20170728,     2236, -32.5002,-174.8399,        0.0,1,      0.061,1,      4.702,1,      0.135,1,      24.99,     -999.0,9,     -999.0,9,     -999.0,9,     -999.0,9,     2.4926,2,     -999.0,9
320620170703,        P06,      99,          1,         15,         15,2,20170728,       2331,   -32.4999,  -174.8397,       5737,  1619.7,   2.8060,  34.5476,2,  34.5521,2, 159.8158,2, 160.2670,2,    85.4,2,   34.77,2,    0.00,2,    2.39,2,   0.056,2,   0.047,2,   0.0000,2,  2266.5,2, 2343.44,3,   7.5694,2, -999.00,9, -999.00,9, -999.00,  -999.0,9, -999.00,9,     -999.0,9,  -999.0,9, 20170728,     2242, -32.5001,-174.8399,        0.0,1,      0.061,1,      4.702,1,      0.137,1,      24.99,     -999.0,9,     -999.0,9,     -999.0,9,     -999.0,9,     2.7685,2,     -999.0,9
320620170703,        P06,      99,          1,         16,         16,2,20170728,       2331,   -32.4999,  -174.8397,       5737,  1414.6,   3.2484,  34.4623,2,  34.4652,2, 171.9638,2, 171.8714,2,    63.9,2,   34.01,2,    0.00,2,    2.34,2,   0.149,2,   0.097,2,   0.0000,2,  2241.7,2, 2319.91,2,   7.5761,2, -999.00,9, -999.00,9, -999.00,  -999.0,9, -999.00,9,     -999.0,9,  -999.0,9, 20170728,     2246, -32.5002,-174.8399,        0.0,1,      0.061,1,      4.702,1,      0.137,1,      25.00,     -999.0,9,     -999.0,9,     -999.0,9,     -999.0,9,     3.2237,2,     -999.0,9
320620170703,        P06,      99,          1,         17,         17,2,20170728,       2331,   -32.4999,  -174.8397,       5737,  1211.6,   4.1038,  34.3740,2,  34.3755,3, 188.3559,2, 187.9128,2,    42.1,2,   32.27,2,    0.00,2,    2.19,2,   0.504,2,   0.272,2,   0.1390,2,  2211.5,2, 2303.02,2,   7.6015,2, -999.00,9, -999.00,9, -999.00,  -999.0,9, -999.00,9,     -999.0,9,  -999.0,9, 20170728,     2251, -32.4999,-174.8399,        0.0,1,      0.060,1,      4.702,1,      0.141,1,      25.00,     -999.0,9,     -999.0,9,     -999.0,9,     -999.0,9,     4.0366,2,     -999.0,9
320620170703,        P06,      99,          1,         18,         18,2,20170728,       2331,   -32.4999,  -174.8397,       5737,  1111.4,   4.6476,  34.3579,2,  34.3552,2, 196.2667,2, 196.7912,2,    32.4,2,   30.68,2,    0.00,2,    2.07,2,   0.843,2,   0.429,2,   0.1510,2,  2195.8,2, 2296.18,2,   7.6220,2, -999.00,9, -999.00,9, -999.00,  -999.0,9, -999.00,9,     -999.0,9,  -999.0,9, 20170728,     2254, -32.5003,-174.8398,        0.0,1,      0.059,1,      4.702,1,      0.138,1,      24.98,     -999.0,9,     -999.0,9,     -999.0,9,     -999.0,9,     4.6547,2,     -999.0,9
320620170703,        P06,      99,          1,         19,         19,2,20170728,       2331,   -32.4999,  -174.8397,       5737,  1010.6,   5.1489,  34.3391,2,  34.3358,2, 207.5509,2, 207.3107,2,    23.1,2,   28.85,2,    0.00,2,    1.94,2,   1.247,2,   0.610,2,   0.2070,2,  2179.4,2, 2287.88,2,   7.6457,2, -999.00,9, -999.00,9, -999.00,  -999.0,9, -999.00,9,     -999.0,9,  -999.0,9, 20170728,     2257, -32.5002,-174.8398,        0.0,1,      0.060,1,      4.701,1,      0.136,1,      24.97,     -999.0,9,     -999.0,9,     -999.0,9,     -999.0,9,     5.2257,2,     -999.0,9
320620170703,        P06,      99,          1,         20,         20,2,20170728,       2331,   -32.4999,  -174.8397,       5737,   908.8,   5.7311,  34.3377,2,  34.3362,2, 218.0448,2, 217.8893,2,    16.2,2,   26.83,2,    0.00,2,    1.80,2,   1.790,2,   0.888,2,   0.3450,2,  2166.7,2, 2283.93,2,   7.6697,2, -999.00,9, -999.00,9, -999.00,  -999.0,9, -999.00,9,     -999.0,9,  -999.0,9, 20170728,     2300, -32.5003,-174.8398,        0.0,1,      0.059,1,      4.701,1,      0.137,1,      24.98,     -999.0,9,     -999.0,9,     -999.0,9,     -999.0,9,     5.8251,2,     -999.0,9
320620170703,        P06,      99,          1,         21,         21,2,20170728,       2331,   -32.4999,  -174.8397,       5737,   807.0,   6.2833,  34.3513,2,  34.3525,2, 226.8998,2, 226.7308,2,    11.4,2,   24.89,2,    0.00,2,    1.66,2,   2.434,2,   1.224,2,   0.5320,2,  2154.6,2, 2192.59,3,   7.6901,2, -999.00,9, -999.00,9, -999.00,  -999.0,9, -999.00,9,     -999.0,9,  -999.0,9, 20170728,     2303, -32.5004,-174.8398,        0.0,1,      0.058,1,      4.700,1,      0.140,1,      24.99,     -999.0,9,     -999.0,9,     -999.0,9,     -999.0,9,     6.3689,2,     -999.0,9
320620170703,        P06,      99,          1,         22,         22,2,20170728,       2331,   -32.4999,  -174.8397,       5737,   706.5,   6.8359,  34.3818,2,  34.3896,2, 230.4546,2, 229.8626,2,     8.6,2,   23.16,2,    0.00,2,    1.54,2,   2.941,2,   1.513,2,   0.6890,2,  2151.0,2, 2221.26,3,   7.7021,2, -999.00,9, -999.00,9, -999.00,  -999.0,9, -999.00,9,     -999.0,9,  -999.0,9, 20170728,     2306, -32.5003,-174.8398,        0.0,1,      0.059,1,      4.699,1,      0.142,1,      24.98,     -999.0,9,     -999.0,9,     -999.0,9,     -999.0,9,     6.9355,2,     -999.0,9
320620170703,        P06,      99,          1,         23,         23,2,20170728,       2331,   -32.4999,  -174.8397,       5737,   605.1,   7.6885,  34.4618,2,  34.4593,2, 225.7995,2, 226.0502,2,     6.8,2,   21.41,2,    0.00,2,    1.43,2,   3.098,2,   1.656,2,   0.8790,2,  2147.7,6, 2140.20,3,   7.7099,2, -999.00,9, -999.00,9, -999.00,  -999.0,9, -999.00,9,     -999.0,9,  -999.0,9, 20170728,     2308, -32.5000,-174.8398,        0.0,1,      0.059,1,      4.697,1,      0.143,1,      24.97,     -999.0,9,     -999.0,9,     -999.0,9,     -999.0,9,     7.6753,2,     -999.0,9
320620170703,        P06,      99,          1,         24,         24,2,20170728,       2331,   -32.4999,  -174.8397,       5737,   504.8,   8.9981,  34.6126,2,  34.6028,2, 214.0191,2, 214.3540,2,     6.0,2,   19.05,2,    0.00,2,    1.27,2,   2.942,6,   1.629,6,   1.0070,6,  2144.5,2, -999.00,5,   7.7260,2, -999.00,9, -999.00,9, -999.00,  -999.0,9, -999.00,9,     -999.0,9,  -999.0,9, 20170728,     2311, -32.5001,-174.8398,        0.0,1,      0.060,1,      4.694,1,      0.145,1,      25.00,     -999.0,9,     -999.0,9,     -999.0,9,     -999.0,9,     8.9620,2,     -999.0,9
320620170703,        P06,      99,          1,         25,         25,2,20170728,       2331,   -32.4999,  -174.8397,       5737,   403.1,  10.6005,  34.8064,2,  34.8121,2, 212.3791,2, 213.4055,2,     3.9,2,   14.48,2,    0.00,2,    0.98,2,   2.858,2,   1.619,2,   1.2640,2,  2135.8,2, 2290.39,6,   7.7676,2, -999.00,9, -999.00,9, -999.00,  -999.0,9, -999.00,9,     -999.0,9,  -999.0,9, 20170728,     2314, -32.5002,-174.8398,        0.0,1,      0.060,1,      4.693,1,      0.147,1,      24.97,     -999.0,9,     -999.0,9,     -999.0,9,     -999.0,9,    10.7116,2,     -999.0,9
320620170703,        P06,      99,          1,         26,         26,2,20170728,       2331,   -32.4999,  -174.8397,       5737,   301.4,  12.3334,  35.0273,2,  35.0531,2, 205.1801,2, 204.6556,2,     3.4,2,   11.72,2,    0.00,2,    0.80,2,   2.629,2,   1.504,2,   1.1820,2,  2125.5,2, 2304.01,2,   7.8110,2, -999.00,9, -999.00,9, -999.00,  -999.0,9, -999.00,9,     -999.0,9,  -999.0,9, 20170728,     2317, -32.5002,-174.8398,        0.0,1,      0.059,1,      4.691,1,      0.146,1,      24.97,     -999.0,9,     -999.0,9,     -999.0,9,     -999.0,9,    12.5855,2,     -999.0,9
320620170703,        P06,      99,          1,         27,         27,2,20170728,       2331,   -32.4999,  -174.8397,       5737,   251.1,  13.2017,  35.1427,2,  35.1616,2, 205.5223,2, 205.3972,2,     3.0,2,    9.99,2,    0.00,2,    0.70,2,   2.551,2,   1.467,2,   1.3620,2,  2119.3,2, 2277.84,2,   7.8322,2, -999.00,9, -999.00,9, -999.00,  -999.0,9, -999.00,9,     -999.0,9,  -999.0,9, 20170728,     2319, -32.5001,-174.8398,        0.0,1,      0.059,1,      4.690,1,      0.141,1,      24.99,     -999.0,9,     -999.0,9,     -999.0,9,     -999.0,9,    13.4010,2,     -999.0,9
320620170703,        P06,      99,          1,         28,         28,2,20170728,       2331,   -32.4999,  -174.8397,       5737,   200.4,  14.3693,  35.2864,2,  35.3021,2, 206.5779,2, 205.4572,2,     2.1,2,    7.85,2,    0.02,2,    0.56,2,   2.453,2,   1.447,2,   1.4110,2,  2111.2,2, 2314.05,2,   7.8616,2, -999.00,9, -999.00,9, -999.00,  -999.0,9, -999.00,9,     -999.0,9,  -999.0,9, 20170728,     2321, -32.5003,-174.8398,        0.0,1,      0.061,1,      4.689,1,      0.148,1,      24.98,     -999.0,9,     -999.0,9,     -999.0,9,     -999.0,9,    14.5341,2,     -999.0,9
320620170703,        P06,      99,          1,         29,         29,2,20170728,       2331,   -32.4999,  -174.8397,       5737,   151.5,  15.2927,  35.3828,2,  35.3944,2, 204.9802,2, 205.6001,2,     1.9,2,    6.69,2,    0.02,2,    0.49,2,   2.347,2,   1.397,2,   1.3100,2,  2106.7,2, 2319.74,2,   7.8821,2, -999.00,9, -999.00,9, -999.00,  -999.0,9, -999.00,9,     -999.0,9,  -999.0,9, 20170728,     2323, -32.5006,-174.8397,        0.0,1,      0.061,1,      4.684,1,      0.152,1,      24.99,     -999.0,9,     -999.0,9,     -999.0,9,     -999.0,9,    15.3655,2,     -999.0,9
320620170703,        P06,      99,          1,         30,         30,2,20170728,       2331,   -32.4999,  -174.8397,       5737,   100.5,  17.4298,  35.6499,2,  35.6508,2, 231.3034,2, 230.3035,2,     0.5,2,    0.56,2,    0.14,2,    0.13,2,   2.179,2,   1.308,2,   1.3940,2,  2073.4,2, 2338.20,2,   7.9727,2, -999.00,9, -999.00,9, -999.00,  -999.0,9, -999.00,9,     -999.0,9,  -999.0,9, 20170728,     2325, -32.5006,-174.8397,        0.0,1,      0.087,1,      4.658,1,      0.189,1,      24.98,     -999.0,9,     -999.0,9,     -999.0,9,     -999.0,9,    17.4506,2,     -999.0,9
320620170703,        P06,      99,          1,         31,         31,2,20170728,       2331,   -32.4999,  -174.8397,       5737,    74.8,  17.9256,  35.6909,2,  35.6717,2, 230.0313,2, 230.2203,2,     0.4,2,    0.46,2,    0.11,2,    0.11,2,   2.138,2,   1.287,2,   1.4080,2,  2070.6,2, 2336.92,2,   7.9778,2, -999.00,9, -999.00,9, -999.00,  -999.0,9, -999.00,9,     -999.0,9,  -999.0,9, 20170728,     2327, -32.5004,-174.8397,        0.0,1,      0.165,1,      4.613,1,      0.232,1,      24.99,     -999.0,9,     -999.0,9,     -999.0,9,     -999.0,9,    17.6987,2,     -999.0,9
320620170703,        P06,      99,          1,         33,         33,2,20170728,       2331,   -32.4999,  -174.8397,       5737,    50.2,  17.9308,  35.6922,2,-999.0000,9, 231.0000,3,-999.0000,9,     0.6,2,    0.41,2,    0.07,2,    0.11,2,-999.000,9,-999.000,9,-999.0000,9,  -999.0,9, -999.00,9,-999.0000,9, -999.00,9, -999.00,9, -999.00,  -999.0,9, -999.00,9,     -999.0,9,  -999.0,9, 20170728,     2328, -32.5003,-174.8397,        0.0,1,      0.175,1,      4.611,1,      0.237,1,     -999.0,     -999.0,9,     -999.0,9,     -999.0,1,     -999.0,1,     -999.0,5,     -999.0,9