BOTTLE,20230922CCHSIOCBG
EXPOCODE,SECT_ID,STNNBR,CASTNO,SAMPNO,BTLNBR,BTLNBR_FLAG_W,DATE,TIME,LATITUDE,LONGITUDE,DEPTH,CTDPRS,CTDTMP,CTDSAL,CTDSAL_FLAG_W,SALNTY,SALNTY_FLAG_W,CTDOXY,CTDOXY_FLAG_W,OXYGEN,OXYGEN_FLAG_W,SILCAT,SILCAT_FLAG_W,NITRAT,NITRAT_FLAG_W,NITRIT,NITRIT_FLAG_W,PHSPHT,PHSPHT_FLAG_W,CFC-11,CFC-11_FLAG_W,CFC-12,CFC-12_FLAG_W,SF6,SF6_FLAG_W,TCARBN,TCARBN_FLAG_W,ALKALI,ALKALI_FLAG_W,PH_TOT,PH_TOT_FLAG_W,DELC13,DELC13_FLAG_W,DELC14,DELC14_FLAG_W,C14ERR,DOC,DOC_FLAG_W,TDN,TDN_FLAG_W,TON,TON_FLAG_W,D15N_NO3,D15N_NO3_FLAG_W,BTL_DATE,BTL_TIME,BTL_LAT,BTL_LON,CTDRINKO,CTDRINKO_FLAG_W,CTDFLUOR,CTDFLUOR_FLAG_W,CTDXMISS,CTDXMISS_FLAG_W,CTDBACKSCATTER,CTDBACKSCATTER_FLAG_W,PH_TMP,D18O_NO3,D18O_NO3_FLAG_W,DOP,DOP_FLAG_W,HPLC,HPLC_FLAG_W,POC,POC_FLAG_W,REFTMP,REFTMP_FLAG_W,TDP,TDP_FLAG_W
,,,,,,,,,,,METERS,DBAR,ITS-90,PSS-78,,PSS-78,,UMOL/KG,,UMOL/KG,,UMOL/KG,,UMOL/KG,,UMOL/KG,,UMOL/KG,,PMOL/KG,,PMOL/KG,,FMOL/KG,,UMOL/KG,,UMOL/KG,,,,/MILLE,,/MILLE,,/MILLE,UMOL/KG,,UMOL/KG,,UMOL/KG,,/MILLE,,,,,,VOLTS,,VOLTS,,VOLTS,,VOLTS,,DEGC,/MILLE,,UMOL/KG,,,,UG/L,,ITS-90,,UMOL/KG,
320620170703,        P06,     136,          1,         33,         33,2,20170811,       0800,   -32.5002,  -153.5987,       5055,    84.7,  17.0770,  35.4612,2,  35.4567,2, 236.1949,2, 235.9006,2,     0.1,2,    0.09,2,    0.03,2,    0.08,2,   2.337,2,   1.335,2,   1.2600,2,  2064.8,2, -999.00,9,   7.9704,2, -999.00,9, -999.00,9, -999.00,    58.4,2,    4.00,2,     -999.0,1,  -999.0,9, 20170811,      755, -32.5001,-153.5987,        0.0,1,      0.156,1,      4.646,1,      0.174,1,      24.99,     -999.0,9,     -999.0,9,     -999.0,9,     -999.0,9,    17.0398,2,     -999.0,9
320620170703,        P06,     136,          1,         34,         34,2,20170811,       0800,   -32.5002,  -153.5987,       5055,    61.8,  17.0665,  35.4577,2,  35.4567,2, 236.1930,2, 236.0500,2,     0.1,2,    0.09,2,    0.03,2,    0.10,2,   2.314,2,   1.342,2,   1.4710,2,  2066.5,2, 2329.94,2,   7.9693,2, -999.00,9, -999.00,9, -999.00,    59.5,2,    3.90,2,     -999.0,1,  -999.0,9, 20170811,      757, -32.5002,-153.5987,        0.0,1,      0.156,1,      4.640,1,      0.171,1,      24.99,     -999.0,9,     -999.0,9,     -999.0,9,     -999.0,9,    17.0302,2,     -999.0,9
320620170703,        P06,     136,          1,         35,         35,2,20170811,       0800,   -32.5002,  -153.5987,       5055,    35.9,  17.0504,  35.4545,2,  35.4576,2, 236.1921,2, 235.7098,2,     0.1,2,    0.09,2,    0.03,2,    0.10,2,   2.317,2,   1.337,2,   1.2880,2,  2066.6,2, -999.00,9,   7.9706,2, -999.00,9, -999.00,9, -999.00,    59.1,2,    3.70,2,     -999.0,1,  -999.0,9, 20170811,      759, -32.5002,-153.5987,        0.0,1,      0.152,1,      4.635,1,      0.173,1,      25.00,     -999.0,9,     -999.0,9,     -999.0,9,     -999.0,9,    17.0297,2,     -999.0,9
320620170703,        P06,     136,          1,         36,         36,2,20170811,       0800,   -32.5002,  -153.5987,       5055,     4.2,  17.0434,  35.4553,2,  35.4563,2, 236.1874,2, 236.7022,2,     0.1,2,    0.09,2,    0.03,2,    0.10,2,   2.288,2,   1.342,2,   1.4710,2,  2065.9,6, 2329.64,2,   7.9693,2,    0.80,6,   53.48,6,    2.28,    60.0,2,    4.00,2,     -999.0,1,  -999.0,9, 20170811,      800, -32.5002,-153.5987,        0.0,1,      0.153,1,      4.636,1,      0.173,1,      24.98,     -999.0,9,     -999.0,9,     -999.0,9,     -999.0,9,    17.0307,2,     -999.0,9