BOTTLE,20230922CCHSIOCBG
EXPOCODE,SECT_ID,STNNBR,CASTNO,SAMPNO,BTLNBR,BTLNBR_FLAG_W,DATE,TIME,LATITUDE,LONGITUDE,DEPTH,CTDPRS,CTDTMP,CTDSAL,CTDSAL_FLAG_W,SALNTY,SALNTY_FLAG_W,CTDOXY,CTDOXY_FLAG_W,OXYGEN,OXYGEN_FLAG_W,SILCAT,SILCAT_FLAG_W,NITRAT,NITRAT_FLAG_W,NITRIT,NITRIT_FLAG_W,PHSPHT,PHSPHT_FLAG_W,CFC-11,CFC-11_FLAG_W,CFC-12,CFC-12_FLAG_W,SF6,SF6_FLAG_W,TCARBN,TCARBN_FLAG_W,ALKALI,ALKALI_FLAG_W,PH_TOT,PH_TOT_FLAG_W,DELC13,DELC13_FLAG_W,DELC14,DELC14_FLAG_W,C14ERR,DOC,DOC_FLAG_W,TDN,TDN_FLAG_W,TON,TON_FLAG_W,D15N_NO3,D15N_NO3_FLAG_W,BTL_DATE,BTL_TIME,BTL_LAT,BTL_LON,CTDRINKO,CTDRINKO_FLAG_W,CTDFLUOR,CTDFLUOR_FLAG_W,CTDXMISS,CTDXMISS_FLAG_W,CTDBACKSCATTER,CTDBACKSCATTER_FLAG_W,PH_TMP,D18O_NO3,D18O_NO3_FLAG_W,DOP,DOP_FLAG_W,HPLC,HPLC_FLAG_W,POC,POC_FLAG_W,REFTMP,REFTMP_FLAG_W,TDP,TDP_FLAG_W
,,,,,,,,,,,METERS,DBAR,ITS-90,PSS-78,,PSS-78,,UMOL/KG,,UMOL/KG,,UMOL/KG,,UMOL/KG,,UMOL/KG,,UMOL/KG,,PMOL/KG,,PMOL/KG,,FMOL/KG,,UMOL/KG,,UMOL/KG,,,,/MILLE,,/MILLE,,/MILLE,UMOL/KG,,UMOL/KG,,UMOL/KG,,/MILLE,,,,,,VOLTS,,VOLTS,,VOLTS,,VOLTS,,DEGC,/MILLE,,UMOL/KG,,,,UG/L,,ITS-90,,UMOL/KG,
320620170703,        P06,     109,          1,         33,         33,2,20170731,       1852,   -32.4996,  -171.2502,       5456,    84.7,  17.5031,  35.6752,2,  35.6719,2, 232.9506,2, 232.2215,2,     0.2,2,    0.23,2,    0.04,2,    0.10,2,   2.171,2,   1.287,2,   1.5020,4,  2069.3,2, 2339.04,2,   7.9783,2, -999.00,9, -999.00,9, -999.00,  -999.0,9, -999.00,9,     -999.0,9,  -999.0,9, 20170731,     1847, -32.4995,-171.2502,        0.0,1,      0.180,1,      4.629,1,      0.208,1,      25.03,     -999.0,9,     -999.0,9,     -999.0,9,     -999.0,9,    17.4863,2,     -999.0,9
320620170703,        P06,     109,          1,         34,         34,2,20170731,       1852,   -32.4996,  -171.2502,       5456,    59.8,  17.5005,  35.6755,2,  35.6725,2, 232.9605,2, 232.5602,2,     0.2,2,    0.21,2,    0.04,2,    0.10,2,   2.201,2,   1.289,2,   1.3700,2,  -999.0,9, -999.00,9,-999.0000,9, -999.00,9, -999.00,9, -999.00,  -999.0,9, -999.00,9,     -999.0,9,  -999.0,9, 20170731,     1849, -32.4996,-171.2502,        0.0,1,      0.186,1,      4.628,1,      0.208,1,     -999.0,     -999.0,9,     -999.0,9,     -999.0,9,     -999.0,9,    17.4828,2,     -999.0,9
320620170703,        P06,     109,          1,         35,         35,2,20170731,       1852,   -32.4996,  -171.2502,       5456,    34.1,  17.4958,  35.6751,2,  35.6844,2, 232.9555,2, 232.6858,2,     0.3,2,    0.21,2,    0.04,2,    0.11,2,   2.172,2,   1.272,2,   1.4120,2,  2071.4,2, 2342.54,2,   7.9783,2, -999.00,9, -999.00,9, -999.00,  -999.0,9, -999.00,9,     -999.0,9,  -999.0,9, 20170731,     1850, -32.4996,-171.2502,        0.0,1,      0.181,1,      4.630,1,      0.205,1,      25.03,     -999.0,9,     -999.0,9,     -999.0,9,     -999.0,9,    17.4784,2,     -999.0,9
320620170703,        P06,     109,          1,         36,         36,2,20170731,       1852,   -32.4996,  -171.2502,       5456,     4.5,  17.4919,  35.6743,2,  35.6719,2, 232.9592,2, 232.6312,2,     0.3,2,    0.21,2,    0.04,2,    0.11,2,   2.213,2,   1.288,2,   1.3540,2,  2069.6,2, 2338.90,2,   7.9782,2, -999.00,9, -999.00,9, -999.00,  -999.0,9, -999.00,9,     -999.0,9,  -999.0,9, 20170731,     1852, -32.4996,-171.2502,        0.0,1,      0.179,1,      4.631,1,      0.197,1,      25.03,     -999.0,9,     -999.0,9,     -999.0,9,     -999.0,9,    17.4706,2,     -999.0,9