BOTTLE,20230922CCHSIOCBG
EXPOCODE,SECT_ID,STNNBR,CASTNO,SAMPNO,BTLNBR,BTLNBR_FLAG_W,DATE,TIME,LATITUDE,LONGITUDE,DEPTH,CTDPRS,CTDTMP,CTDSAL,CTDSAL_FLAG_W,SALNTY,SALNTY_FLAG_W,CTDOXY,CTDOXY_FLAG_W,OXYGEN,OXYGEN_FLAG_W,SILCAT,SILCAT_FLAG_W,NITRAT,NITRAT_FLAG_W,NITRIT,NITRIT_FLAG_W,PHSPHT,PHSPHT_FLAG_W,CFC-11,CFC-11_FLAG_W,CFC-12,CFC-12_FLAG_W,SF6,SF6_FLAG_W,TCARBN,TCARBN_FLAG_W,ALKALI,ALKALI_FLAG_W,PH_TOT,PH_TOT_FLAG_W,DELC13,DELC13_FLAG_W,DELC14,DELC14_FLAG_W,C14ERR,DOC,DOC_FLAG_W,TDN,TDN_FLAG_W,TON,TON_FLAG_W,D15N_NO3,D15N_NO3_FLAG_W,BTL_DATE,BTL_TIME,BTL_LAT,BTL_LON,CTDRINKO,CTDRINKO_FLAG_W,CTDFLUOR,CTDFLUOR_FLAG_W,CTDXMISS,CTDXMISS_FLAG_W,CTDBACKSCATTER,CTDBACKSCATTER_FLAG_W,PH_TMP,D18O_NO3,D18O_NO3_FLAG_W,DOP,DOP_FLAG_W,HPLC,HPLC_FLAG_W,POC,POC_FLAG_W,REFTMP,REFTMP_FLAG_W,TDP,TDP_FLAG_W
,,,,,,,,,,,METERS,DBAR,ITS-90,PSS-78,,PSS-78,,UMOL/KG,,UMOL/KG,,UMOL/KG,,UMOL/KG,,UMOL/KG,,UMOL/KG,,PMOL/KG,,PMOL/KG,,FMOL/KG,,UMOL/KG,,UMOL/KG,,,,/MILLE,,/MILLE,,/MILLE,UMOL/KG,,UMOL/KG,,UMOL/KG,,/MILLE,,,,,,VOLTS,,VOLTS,,VOLTS,,VOLTS,,DEGC,/MILLE,,UMOL/KG,,,,UG/L,,ITS-90,,UMOL/KG,
320620170703,        P06,      99,          1,         32,         32,2,20170728,       2331,   -32.4999,  -174.8397,       5737,    49.9,  17.9348,  35.6929,2,  35.6765,2, 230.6910,2, 230.7148,2,     0.4,2,    0.41,2,    0.07,2,    0.10,2,   2.090,2,   1.268,2,   1.3670,2,  2068.1,2, 2338.36,2,   7.9831,2, -999.00,9, -999.00,9, -999.00,  -999.0,9, -999.00,9,     -999.0,9,  -999.0,9, 20170728,     2328, -32.5003,-174.8397,        0.0,1,      0.169,1,      4.611,1,      0.229,1,      25.00,     -999.0,9,     -999.0,9,     -999.0,9,     -999.0,9,    17.8502,2,     -999.0,9
320620170703,        P06,      99,          1,         34,         34,2,20170728,       2331,   -32.4999,  -174.8397,       5737,    25.2,  17.9305,  35.6930,2,  35.6771,2, 230.7332,2, 230.9761,2,     0.4,2,    0.39,2,    0.06,2,    0.11,2,   2.136,2,   1.281,2,   1.3710,2,  2067.9,2, 2335.73,2,   7.9840,2, -999.00,9, -999.00,9, -999.00,  -999.0,9, -999.00,9,     -999.0,9,  -999.0,9, 20170728,     2330, -32.5002,-174.8397,        0.0,1,      0.170,1,      4.610,1,      0.243,1,      24.99,     -999.0,9,     -999.0,9,     -999.0,9,     -999.0,9,    17.8601,2,     -999.0,9
320620170703,        P06,      99,          1,         36,         36,2,20170728,       2331,   -32.4999,  -174.8397,       5737,     6.7,  17.9254,  35.6925,2,  35.6775,2, 231.5973,2, 231.8086,2,     0.4,2,    0.39,2,    0.06,2,    0.12,2,   2.150,2,   1.269,2,   1.3910,2,  2067.8,6, 2333.00,2,   7.9841,2,    0.89,2,   50.21,2,    2.14,  -999.0,9, -999.00,9,     -999.0,9,  -999.0,9, 20170728,     2331, -32.4999,-174.8397,        0.0,1,      0.162,1,      4.609,1,      0.221,1,      24.99,     -999.0,9,     -999.0,9,     -999.0,9,     -999.0,9,     -999.0,5,     -999.0,9
320620170703,        P06,      99,          1,         35,         35,2,20170728,       2331,   -32.4999,  -174.8397,       5737,     5.4,  17.9259,  35.6926,2,-999.0000,9, 231.6695,3,-999.0000,9,     0.4,2,    0.41,2,    0.06,2,    0.11,2,-999.000,9,-999.000,9,-999.0000,9,  -999.0,9, -999.00,9,-999.0000,9, -999.00,9, -999.00,9, -999.00,  -999.0,9, -999.00,9,     -999.0,9,  -999.0,9, 20170728,     2331, -32.4999,-174.8397,        0.0,1,      0.165,1,      4.605,1,      0.234,1,     -999.0,     -999.0,9,     -999.0,9,     -999.0,1,     -999.0,1,    17.8562,2,     -999.0,9