BOTTLE,20230922CCHSIOCBG
EXPOCODE,SECT_ID,STNNBR,CASTNO,SAMPNO,BTLNBR,BTLNBR_FLAG_W,DATE,TIME,LATITUDE,LONGITUDE,DEPTH,CTDPRS,CTDTMP,CTDSAL,CTDSAL_FLAG_W,SALNTY,SALNTY_FLAG_W,CTDOXY,CTDOXY_FLAG_W,OXYGEN,OXYGEN_FLAG_W,SILCAT,SILCAT_FLAG_W,NITRAT,NITRAT_FLAG_W,NITRIT,NITRIT_FLAG_W,PHSPHT,PHSPHT_FLAG_W,CFC-11,CFC-11_FLAG_W,CFC-12,CFC-12_FLAG_W,SF6,SF6_FLAG_W,TCARBN,TCARBN_FLAG_W,ALKALI,ALKALI_FLAG_W,PH_TOT,PH_TOT_FLAG_W,DELC13,DELC13_FLAG_W,DELC14,DELC14_FLAG_W,C14ERR,DOC,DOC_FLAG_W,TDN,TDN_FLAG_W,TON,TON_FLAG_W,D15N_NO3,D15N_NO3_FLAG_W,BTL_DATE,BTL_TIME,BTL_LAT,BTL_LON,CTDRINKO,CTDRINKO_FLAG_W,CTDFLUOR,CTDFLUOR_FLAG_W,CTDXMISS,CTDXMISS_FLAG_W,CTDBACKSCATTER,CTDBACKSCATTER_FLAG_W,PH_TMP,D18O_NO3,D18O_NO3_FLAG_W,DOP,DOP_FLAG_W,HPLC,HPLC_FLAG_W,POC,POC_FLAG_W,REFTMP,REFTMP_FLAG_W,TDP,TDP_FLAG_W
,,,,,,,,,,,METERS,DBAR,ITS-90,PSS-78,,PSS-78,,UMOL/KG,,UMOL/KG,,UMOL/KG,,UMOL/KG,,UMOL/KG,,UMOL/KG,,PMOL/KG,,PMOL/KG,,FMOL/KG,,UMOL/KG,,UMOL/KG,,,,/MILLE,,/MILLE,,/MILLE,UMOL/KG,,UMOL/KG,,UMOL/KG,,/MILLE,,,,,,VOLTS,,VOLTS,,VOLTS,,VOLTS,,DEGC,/MILLE,,UMOL/KG,,,,UG/L,,ITS-90,,UMOL/KG,
320620170703,        P06,      97,          1,          1,          1,2,20170728,       0941,   -32.5000,  -175.7500,       5870,  5982.1,   1.1688,  34.7077,2,  34.7081,2, 206.2436,2, 205.7613,2,   122.1,2,   32.13,2,    0.00,2,    2.22,2,   0.154,2,   0.081,2,   0.0000,2,  2262.3,6, 2361.31,2,   7.6062,2, -999.00,9, -999.00,9, -999.00,  -999.0,9, -999.00,9,     -999.0,9,  -999.0,1, 20170728,      706, -32.4999,-175.7499,        0.0,1,      0.060,1,      4.690,1,      0.132,1,      25.00,     -999.0,1,     -999.0,9,     -999.0,9,     -999.0,9,     1.1693,2,     -999.0,9
320620170703,        P06,      97,          1,          2,          2,2,20170728,       0941,   -32.5000,  -175.7500,       5870,  5676.0,   1.1299,  34.7080,2,  34.7079,2, 206.2436,2, 206.5261,2,   122.2,2,   32.09,2,    0.00,2,    2.23,2,   0.151,2,   0.086,2,   0.0000,2,  2261.3,2, 2358.74,2,   7.6064,2, -999.00,9, -999.00,9, -999.00,  -999.0,9, -999.00,9,     -999.0,9,  -999.0,1, 20170728,      714, -32.4997,-175.7499,        0.0,1,      0.061,1,      4.697,1,      0.130,1,      25.03,     -999.0,1,     -999.0,9,     -999.0,9,     -999.0,9,     1.1302,2,     -999.0,9
320620170703,        P06,      97,          1,          3,          3,2,20170728,       0941,   -32.5000,  -175.7500,       5870,  5365.8,   1.1036,  34.7086,2,  34.7083,2, 206.2436,2, 206.8045,2,   121.6,2,   32.09,2,    0.00,2,    2.22,2,   0.149,2,   0.087,2,   0.0000,2,  2261.3,2, 2360.58,6,   7.6065,2, -999.00,9, -999.00,9, -999.00,  -999.0,9, -999.00,9,     -999.0,9,  -999.0,1, 20170728,      722, -32.4998,-175.7499,        0.0,1,      0.061,1,      4.700,1,      0.128,1,      25.00,     -999.0,1,     -999.0,9,     -999.0,9,     -999.0,9,     1.1040,2,     -999.0,9
320620170703,        P06,      97,          1,          4,          4,2,20170728,       0941,   -32.5000,  -175.7500,       5870,  5059.3,   1.0819,  34.7092,2,  34.7095,2, 206.2436,2, 206.5333,2,   121.1,2,   32.06,2,    0.00,2,    2.22,2,   0.151,2,   0.086,2,   0.0000,2,  -999.0,9, -999.00,9,-999.0000,9, -999.00,9, -999.00,9, -999.00,  -999.0,9, -999.00,9,     -999.0,9,  -999.0,1, 20170728,      729, -32.4998,-175.7499,        0.0,1,      0.061,1,      4.700,1,      0.126,1,     -999.0,     -999.0,1,     -999.0,9,     -999.0,9,     -999.0,9,     1.0813,2,     -999.0,9
320620170703,        P06,      97,          1,          5,          5,2,20170728,       0941,   -32.5000,  -175.7500,       5870,  4748.8,   1.0762,  34.7104,2,  34.7109,2, 206.2436,2, 206.5024,2,   120.2,2,   31.94,2,    0.00,2,    2.21,2,   0.148,2,   0.085,2,   0.0000,2,  2260.6,2, 2362.01,2,   7.6074,2, -999.00,9, -999.00,9, -999.00,  -999.0,9, -999.00,9,     -999.0,9,  -999.0,1, 20170728,      735, -32.4999,-175.7500,        0.0,1,      0.061,1,      4.701,1,      0.127,1,      25.00,     -999.0,1,     -999.0,9,     -999.0,9,     -999.0,9,     1.0799,2,     -999.0,9
320620170703,        P06,      97,          1,          6,          6,2,20170728,       0941,   -32.5000,  -175.7500,       5870,  4439.6,   1.1005,  34.7125,2,  34.7123,2, 206.0204,2, 205.3230,2,   118.5,2,   31.90,2,    0.00,2,    2.21,2,   0.142,2,   0.082,2,   0.0000,2,  -999.0,9, -999.00,9,-999.0000,9, -999.00,9, -999.00,9, -999.00,  -999.0,9, -999.00,9,     -999.0,9,  -999.0,1, 20170728,      741, -32.4999,-175.7500,        0.0,1,      0.061,1,      4.701,1,      0.128,1,     -999.0,     -999.0,1,     -999.0,9,     -999.0,9,     -999.0,9,     1.1013,2,     -999.0,9
320620170703,        P06,      97,          1,          7,          7,2,20170728,       0941,   -32.5000,  -175.7500,       5870,  4132.7,   1.1770,  34.7160,2,  34.7156,2, 204.0808,2, 203.5795,2,   116.0,2,   31.82,2,    0.00,2,    2.20,2,   0.126,2,   0.074,2,   0.0000,2,  2259.6,2, 2358.87,2,   7.6074,2, -999.00,9, -999.00,9, -999.00,  -999.0,9, -999.00,9,     -999.0,9,  -999.0,1, 20170728,      748, -32.4999,-175.7500,        0.0,1,      0.061,1,      4.702,1,      0.131,1,      25.00,     -999.0,1,     -999.0,9,     -999.0,9,     -999.0,9,     1.1727,2,     -999.0,9
320620170703,        P06,      97,          1,          8,          8,2,20170728,       0941,   -32.5000,  -175.7500,       5870,  3824.6,   1.3333,  34.7202,2,  34.7197,2, 200.1478,2, 199.9850,2,   111.6,2,   31.66,2,    0.00,2,    2.21,2,   0.108,2,   0.065,2,   0.0000,2,  -999.0,9, -999.00,9,-999.0000,9, -999.00,9, -999.00,9, -999.00,  -999.0,9, -999.00,9,     -999.0,9,  -999.0,1, 20170728,      754, -32.5000,-175.7500,        0.0,1,      0.061,1,      4.701,1,      0.130,1,     -999.0,     -999.0,1,     -999.0,9,     -999.0,9,     -999.0,9,     1.3191,2,     -999.0,9
320620170703,        P06,      97,          1,          9,          9,2,20170728,       0941,   -32.5000,  -175.7500,       5870,  3517.1,   1.5479,  34.7202,2,  34.7201,2, 192.7595,2, 194.5565,2,   107.7,2,   31.80,2,    0.00,2,    2.22,2,   0.089,2,   0.055,2,   0.0000,2,  2262.3,2, 2360.26,2,   7.6025,2, -999.00,9, -999.00,9, -999.00,  -999.0,9, -999.00,9,     -999.0,9,  -999.0,1, 20170728,      801, -32.4998,-175.7498,        0.0,1,      0.061,1,      4.701,1,      0.132,1,      25.00,     -999.0,1,     -999.0,9,     -999.0,9,     -999.0,9,     1.5419,2,     -999.0,9
320620170703,        P06,      97,          1,         10,         10,2,20170728,       0941,   -32.5000,  -175.7500,       5870,  3211.5,   1.7213,  34.6987,2,  34.6991,2, 175.4542,2, 175.0168,2,   114.4,2,   33.25,2,    0.00,2,    2.33,2,   0.059,2,   0.039,2,   0.0000,2,  -999.0,9, -999.00,9,-999.0000,9, -999.00,9, -999.00,9, -999.00,  -999.0,9, -999.00,9,     -999.0,9,  -999.0,1, 20170728,      807, -32.5000,-175.7500,        0.0,1,      0.061,1,      4.701,1,      0.133,1,     -999.0,     -999.0,1,     -999.0,9,     -999.0,9,     -999.0,9,     1.7194,2,     -999.0,9
320620170703,        P06,      97,          1,         11,         11,2,20170728,       0941,   -32.5000,  -175.7500,       5870,  2965.9,   1.8496,  34.6707,2,  34.6694,2, 154.7253,2, 154.2660,2,   125.0,2,   35.18,2,    0.00,2,    2.47,2,   0.035,2,   0.025,2,   0.0000,2,  2305.6,2, 2392.76,2,   7.5726,2, -999.00,9, -999.00,9, -999.00,  -999.0,9, -999.00,9,     -999.0,9,  -999.0,1, 20170728,      813, -32.4998,-175.7499,        0.0,1,      0.061,1,      4.702,1,      0.133,1,      25.03,     -999.0,1,     -999.0,9,     -999.0,9,     -999.0,9,     1.8699,2,     -999.0,9
320620170703,        P06,      97,          1,         12,         12,2,20170728,       0941,   -32.5000,  -175.7500,       5870,  2710.0,   1.9969,  34.6544,2,  34.6537,2, 148.5814,2, 148.4281,2,   124.4,2,   35.74,2,    0.00,2,    2.50,2,   0.028,2,   0.023,2,   0.0000,2,  2309.7,6, -999.00,9,   7.5662,2, -999.00,9, -999.00,9, -999.00,  -999.0,9, -999.00,9,     -999.0,9,  -999.0,1, 20170728,      819, -32.5001,-175.7501,        0.0,1,      0.061,1,      4.702,1,      0.133,1,      24.99,     -999.0,1,     -999.0,9,     -999.0,9,     -999.0,9,     2.0072,2,     -999.0,9
320620170703,        P06,      97,          1,         13,         13,2,20170728,       0941,   -32.5000,  -175.7500,       5870,  2462.4,   2.1364,  34.6419,2,  34.6409,2, 147.8331,2, 147.8989,2,   119.0,2,   35.60,2,    0.00,2,    2.49,2,   0.028,2,   0.023,2,   0.0000,2,  2305.4,2, 2393.62,2,   7.5659,2, -999.00,9, -999.00,9, -999.00,  -999.0,9, -999.00,9,     -999.0,9,  -999.0,1, 20170728,      824, -32.4999,-175.7500,        0.0,1,      0.062,1,      4.702,1,      0.133,1,      25.00,     -999.0,1,     -999.0,9,     -999.0,9,     -999.0,9,     2.1423,2,     -999.0,9
320620170703,        P06,      97,          1,         14,         14,2,20170728,       0941,   -32.5000,  -175.7500,       5870,  2206.5,   2.2653,  34.6288,2,  34.6268,2, 148.1221,2, 148.7683,2,   113.6,2,   35.52,2,    0.00,2,    2.49,2,   0.031,2,   0.025,2,   0.0000,2,  -999.0,9, -999.00,9,-999.0000,9, -999.00,9, -999.00,9, -999.00,  -999.0,9, -999.00,9,     -999.0,9,  -999.0,1, 20170728,      830, -32.4999,-175.7499,        0.0,1,      0.061,1,      4.702,1,      0.136,1,     -999.0,     -999.0,1,     -999.0,9,     -999.0,9,     -999.0,9,     2.2804,2,     -999.0,9
320620170703,        P06,      97,          1,         15,         15,2,20170728,       0941,   -32.5000,  -175.7500,       5870,  1953.2,   2.4284,  34.6100,2,  34.6089,2, 149.9343,2, 150.6797,2,   106.1,2,   35.29,2,    0.00,2,    2.47,2,   0.037,2,   0.029,2,   0.0000,2,  2290.9,2, 2378.62,2,   7.5661,2, -999.00,9, -999.00,9, -999.00,  -999.0,9, -999.00,9,     -999.0,9,  -999.0,1, 20170728,      836, -32.4999,-175.7499,        0.0,1,      0.061,1,      4.702,1,      0.137,1,      24.99,     -999.0,1,     -999.0,9,     -999.0,9,     -999.0,9,     2.4365,2,     -999.0,9
320620170703,        P06,      97,          1,         16,         16,2,20170728,       0941,   -32.5000,  -175.7500,       5870,  1697.5,   2.6792,  34.5747,2,  34.5690,2, 157.8453,2, 158.1629,2,    90.9,2,   34.70,2,    0.00,2,    2.41,2,   0.065,2,   0.044,2,   0.0000,2,  -999.0,9, -999.00,9,-999.0000,9, -999.00,9, -999.00,9, -999.00,  -999.0,9, -999.00,9,     -999.0,9,  -999.0,1, 20170728,      842, -32.4999,-175.7499,        0.0,1,      0.062,1,      4.702,1,      0.137,1,     -999.0,     -999.0,1,     -999.0,9,     -999.0,9,     -999.0,9,     2.7228,2,     -999.0,9
320620170703,        P06,      97,          1,         17,         17,2,20170728,       0941,   -32.5000,  -175.7500,       5870,  1570.3,   2.9135,  34.5400,2,  34.5443,2, 161.5068,2, 161.7527,2,    83.2,2,   34.37,2,    0.00,2,    2.38,2,   0.088,2,   0.056,2,   0.0000,2,  2263.2,2, 2347.57,2,   7.5732,2, -999.00,9, -999.00,9, -999.00,  -999.0,9, -999.00,9,     -999.0,9,  -999.0,1, 20170728,      845, -32.5000,-175.7500,        0.0,1,      0.061,1,      4.702,1,      0.138,1,      24.98,     -999.0,1,     -999.0,9,     -999.0,9,     -999.0,9,     2.8827,2,     -999.0,9
320620170703,        P06,      97,          1,         18,         18,2,20170728,       0941,   -32.5000,  -175.7500,       5870,  1444.6,   3.1814,  34.4880,2,  34.4938,2, 168.4455,2, 168.8842,2,    70.2,2,   33.96,2,    0.00,2,    2.35,2,   0.140,2,   0.086,2,   0.0000,2,  -999.0,9, -999.00,9,-999.0000,9, -999.00,9, -999.00,9, -999.00,  -999.0,9, -999.00,9,     -999.0,9,  -999.0,1, 20170728,      849, -32.4997,-175.7498,        0.0,1,      0.061,1,      4.702,1,      0.137,1,     -999.0,     -999.0,1,     -999.0,9,     -999.0,9,     -999.0,9,     3.1605,2,     -999.0,9
320620170703,        P06,      97,          1,         19,         19,2,20170728,       0941,   -32.5000,  -175.7500,       5870,  1347.7,   3.4431,  34.4496,2,  34.4467,2, 176.4547,2, 175.5684,2,    58.9,2,   33.41,2,    0.00,2,    2.31,2,   0.249,2,   0.134,2,   0.0000,2,  2232.9,2, 2321.05,2,   7.5826,2, -999.00,9, -999.00,9, -999.00,  -999.0,9, -999.00,9,     -999.0,9,  -999.0,1, 20170728,      852, -32.4998,-175.7499,        0.0,1,      0.061,1,      4.702,1,      0.135,1,      25.00,     -999.0,1,     -999.0,9,     -999.0,9,     -999.0,9,     3.4747,2,     -999.0,9
320620170703,        P06,      97,          1,         20,         20,2,20170728,       0941,   -32.5000,  -175.7500,       5870,  1247.4,   3.8456,  34.4064,2,  34.3915,2, 186.1309,2, 186.2124,2,    44.9,2,   32.20,2,    0.00,2,    2.21,2,   0.499,2,   0.252,2,   0.0910,2,  -999.0,9, -999.00,9,-999.0000,9, -999.00,9, -999.00,9, -999.00,  -999.0,9, -999.00,9,     -999.0,9,  -999.0,1, 20170728,      856, -32.4999,-175.7499,        0.0,1,      0.060,1,      4.702,1,      0.137,1,     -999.0,     -999.0,1,     -999.0,9,     -999.0,9,     -999.0,9,     4.0044,2,     -999.0,9
320620170703,        P06,      97,          1,         21,         21,2,20170728,       0941,   -32.5000,  -175.7500,       5870,  1144.4,   4.4508,  34.3655,2,  34.3668,2, 193.1198,2, 192.9844,2,    36.4,2,   31.11,2,    0.00,2,    2.13,2,   0.733,2,   0.362,2,   0.1800,2,  2199.7,2, 2299.35,2,   7.6145,2, -999.00,9, -999.00,9, -999.00,  -999.0,9, -999.00,9,     -999.0,9,  -999.0,1, 20170728,      859, -32.5001,-175.7501,        0.0,1,      0.059,1,      4.702,1,      0.139,1,      24.99,     -999.0,1,     -999.0,9,     -999.0,9,     -999.0,9,     4.4364,2,     -999.0,9
320620170703,        P06,      97,          1,         22,         22,2,20170728,       0941,   -32.5000,  -175.7500,       5870,  1045.3,   5.1603,  34.3592,2,  34.3543,2, 203.1018,2, 202.6346,2,    26.7,2,   29.23,2,    0.00,2,    1.99,2,   1.185,2,   0.567,2,   0.2190,2,  -999.0,9, -999.00,9,-999.0000,9, -999.00,9, -999.00,9, -999.00,  -999.0,9, -999.00,9,     -999.0,9,  -999.0,1, 20170728,      902, -32.5000,-175.7500,        0.0,1,      0.060,1,      4.701,1,      0.139,1,     -999.0,     -999.0,1,     -999.0,9,     -999.0,9,     -999.0,9,     5.1049,2,     -999.0,9
320620170703,        P06,      97,          1,         23,         23,2,20170728,       0941,   -32.5000,  -175.7500,       5870,   943.7,   5.6872,  34.3531,2,  34.3549,2, 210.8007,2, 211.4147,2,    20.1,2,   27.47,2,    0.00,2,    1.87,2,   1.615,2,   0.774,2,   0.2400,2,  2170.8,2, 2285.35,2,   7.6595,2, -999.00,9, -999.00,9, -999.00,  -999.0,9, -999.00,9,     -999.0,9,  -999.0,1, 20170728,      905, -32.5000,-175.7500,        0.0,1,      0.060,1,      4.701,1,      0.140,1,      24.99,     -999.0,1,     -999.0,9,     -999.0,9,     -999.0,9,     5.6515,2,     -999.0,9
320620170703,        P06,      97,          1,         24,         24,2,20170728,       0941,   -32.5000,  -175.7500,       5870,   841.1,   6.2817,  34.3671,2,  34.3678,2, 221.8650,2, 221.0127,2,    13.8,2,   25.26,2,    0.00,2,    1.72,2,   2.268,2,   1.098,2,   0.4230,2,  2158.0,2, -999.00,9,   7.6821,2, -999.00,9, -999.00,9, -999.00,  -999.0,9, -999.00,9,     -999.0,9,  -999.0,1, 20170728,      909, -32.5001,-175.7501,        0.0,1,      0.059,1,      4.676,1,      0.141,1,      24.99,     -999.0,1,     -999.0,9,     -999.0,9,     -999.0,9,     6.3039,2,     -999.0,9
320620170703,        P06,      97,          1,         25,         25,2,20170728,       0941,   -32.5000,  -175.7500,       5870,   741.8,   6.9462,  34.4093,2,  34.4063,2, 225.1791,2, 224.4353,2,    10.2,2,   23.44,2,    0.00,2,    1.56,2,   2.830,2,   1.403,2,   0.6000,2,  2151.3,2, 2280.66,2,   7.6971,2, -999.00,9, -999.00,9, -999.00,  -999.0,9, -999.00,9,     -999.0,9,  -999.0,1, 20170728,      912, -32.5003,-175.7502,        0.0,1,      0.059,1,      4.698,1,      0.143,1,      24.99,     -999.0,1,     -999.0,9,     -999.0,9,     -999.0,9,     6.9376,2,     -999.0,9
320620170703,        P06,      97,          1,         26,         26,2,20170728,       0941,   -32.5000,  -175.7500,       5870,   641.2,   7.5327,  34.4466,2,  34.4375,2, 227.5403,2, 229.0169,2,     7.0,2,   21.78,2,    0.00,2,    1.45,2,   3.388,2,   1.724,2,   0.8390,2,  2146.1,2, -999.00,9,   7.7082,2, -999.00,9, -999.00,9, -999.00,  -999.0,9, -999.00,9,     -999.0,9,  -999.0,1, 20170728,      915, -32.5002,-175.7502,        0.0,1,      0.060,1,      4.659,1,      0.142,1,      25.00,     -999.0,1,     -999.0,9,     -999.0,9,     -999.0,9,     7.4658,2,     -999.0,9
320620170703,        P06,      97,          1,         27,         27,2,20170728,       0941,   -32.5000,  -175.7500,       5870,   538.9,   8.6326,  34.5594,2,  34.5406,2, 219.7219,2, 219.8407,2,     5.7,2,   19.59,2,    0.00,2,    1.31,2,   3.238,2,   1.688,2,   0.8780,2,  2146.1,2, 2278.74,2,   7.7219,2, -999.00,9, -999.00,9, -999.00,  -999.0,9, -999.00,9,     -999.0,9,  -999.0,1, 20170728,      919, -32.5003,-175.7503,        0.0,1,      0.059,1,      4.694,1,      0.145,1,      25.00,     -999.0,1,     -999.0,9,     -999.0,9,     -999.0,9,     8.5087,2,     -999.0,9
320620170703,        P06,      97,          1,         28,         28,2,20170728,       0941,   -32.5000,  -175.7500,       5870,   438.4,  10.1842,  34.7511,2,  34.6932,2, 210.8562,2, 210.4989,2,     5.1,2,   17.26,2,    0.00,2,    1.16,2,   3.032,2,   1.621,2,   0.9090,2,  -999.0,9, -999.00,9,-999.0000,9, -999.00,9, -999.00,9, -999.00,  -999.0,9, -999.00,9,     -999.0,9,  -999.0,1, 20170728,      922, -32.5002,-175.7502,        0.0,1,      0.059,1,      4.694,1,      0.146,1,     -999.0,     -999.0,1,     -999.0,9,     -999.0,9,     -999.0,9,     9.7633,2,     -999.0,9
320620170703,        P06,      97,          1,         29,         29,2,20170728,       0941,   -32.5000,  -175.7500,       5870,   266.0,  14.0149,  35.2433,2,  35.1829,2, 209.1715,2, 209.1872,2,     2.3,2,    8.64,2,    0.00,2,    0.63,2,   2.651,2,   1.518,2,   1.2750,2,  2114.9,2, 2304.27,2,   7.8393,2, -999.00,9, -999.00,9, -999.00,  -999.0,9, -999.00,9,     -999.0,9,  -999.0,1, 20170728,      926, -32.4998,-175.7498,        0.0,1,      0.060,1,      4.689,1,      0.141,1,      24.99,     -999.0,1,     -999.0,1,     -999.0,9,     -999.0,9,    13.5364,2,     -999.0,9
320620170703,        P06,      97,          1,         30,         30,2,20170728,       0941,   -32.5000,  -175.7500,       5870,   215.5,  15.2335,  35.3900,2,  35.3514,2, 207.2401,2, 207.5730,2,     1.9,2,    6.84,2,    0.02,2,    0.50,2,   2.493,2,   1.440,2,   1.3210,2,  2106.6,2, -999.00,9,   7.8728,2, -999.00,9, -999.00,9, -999.00,  -999.0,9, -999.00,9,     -999.0,9,  -999.0,1, 20170728,      929, -32.4998,-175.7498,        0.0,1,      0.064,1,      4.684,1,      0.151,1,      24.99,     -999.0,1,     -999.0,1,     -999.0,9,     -999.0,9,    14.9241,2,       0.67,2
320620170703,        P06,      97,          1,         31,         31,2,20170728,       0941,   -32.5000,  -175.7500,       5870,   166.3,  17.0057,  35.5913,2,  35.5581,2, 224.1719,2, 223.9412,2,     0.9,2,    2.43,2,    0.16,2,    0.23,2,   2.327,2,   1.340,2,   1.4270,2,  2081.9,2, 2330.33,2,   7.9437,2, -999.00,9, -999.00,9, -999.00,  -999.0,9, -999.00,9,     -999.0,9,  -999.0,1, 20170728,      931, -32.4999,-175.7499,        0.0,1,      0.092,1,      4.647,1,      0.232,1,      24.98,     -999.0,1,     -999.0,1,     -999.0,9,     -999.0,9,    16.7300,2,     -999.0,9
320620170703,        P06,      97,          1,         32,         32,2,20170728,       0941,   -32.5000,  -175.7500,       5870,   116.0,  17.3517,  35.6335,2,  35.6317,2, 232.5408,2, 232.0679,2,     0.5,2,    0.79,2,    0.16,2,    0.13,2,   2.269,2,   1.311,2,   1.4790,2,  -999.0,9, -999.00,9,-999.0000,9, -999.00,9, -999.00,9, -999.00,  -999.0,9, -999.00,9,     -999.0,9,  -999.0,1, 20170728,      934, -32.5001,-175.7500,        0.0,1,      0.112,1,      4.636,1,      0.263,1,     -999.0,     -999.0,1,     -999.0,1,     -999.0,9,     -999.0,9,    17.3593,2,       0.33,2