BOTTLE,20230922CCHSIOCBG
EXPOCODE,SECT_ID,STNNBR,CASTNO,SAMPNO,BTLNBR,BTLNBR_FLAG_W,DATE,TIME,LATITUDE,LONGITUDE,DEPTH,CTDPRS,CTDTMP,CTDSAL,CTDSAL_FLAG_W,SALNTY,SALNTY_FLAG_W,CTDOXY,CTDOXY_FLAG_W,OXYGEN,OXYGEN_FLAG_W,SILCAT,SILCAT_FLAG_W,NITRAT,NITRAT_FLAG_W,NITRIT,NITRIT_FLAG_W,PHSPHT,PHSPHT_FLAG_W,CFC-11,CFC-11_FLAG_W,CFC-12,CFC-12_FLAG_W,SF6,SF6_FLAG_W,TCARBN,TCARBN_FLAG_W,ALKALI,ALKALI_FLAG_W,PH_TOT,PH_TOT_FLAG_W,DELC13,DELC13_FLAG_W,DELC14,DELC14_FLAG_W,C14ERR,DOC,DOC_FLAG_W,TDN,TDN_FLAG_W,TON,TON_FLAG_W,D15N_NO3,D15N_NO3_FLAG_W,BTL_DATE,BTL_TIME,BTL_LAT,BTL_LON,CTDRINKO,CTDRINKO_FLAG_W,CTDFLUOR,CTDFLUOR_FLAG_W,CTDXMISS,CTDXMISS_FLAG_W,CTDBACKSCATTER,CTDBACKSCATTER_FLAG_W,PH_TMP,D18O_NO3,D18O_NO3_FLAG_W,DOP,DOP_FLAG_W,HPLC,HPLC_FLAG_W,POC,POC_FLAG_W,REFTMP,REFTMP_FLAG_W,TDP,TDP_FLAG_W
,,,,,,,,,,,METERS,DBAR,ITS-90,PSS-78,,PSS-78,,UMOL/KG,,UMOL/KG,,UMOL/KG,,UMOL/KG,,UMOL/KG,,UMOL/KG,,PMOL/KG,,PMOL/KG,,FMOL/KG,,UMOL/KG,,UMOL/KG,,,,/MILLE,,/MILLE,,/MILLE,UMOL/KG,,UMOL/KG,,UMOL/KG,,/MILLE,,,,,,VOLTS,,VOLTS,,VOLTS,,VOLTS,,DEGC,/MILLE,,UMOL/KG,,,,UG/L,,ITS-90,,UMOL/KG,
320620170703,        P06,      98,          1,         33,         33,2,20170728,       1649,   -32.5000,  -175.2594,       5726,    64.6,  17.8196,  35.6788,2,  35.6919,2, 231.6187,2, 231.6655,2,     0.3,2,    0.24,2,    0.07,2,    0.09,2,   2.202,2,   1.277,2,   1.3560,2,  2069.7,2, 2337.38,2,   7.9844,2, -999.00,9, -999.00,9, -999.00,    61.7,2,    4.70,2,     -999.0,1,  -999.0,9, 20170728,     1643, -32.5002,-175.2594,        0.0,1,      0.212,1,      4.587,1,      0.264,1,      25.00,     -999.0,9,     -999.0,9,     -999.0,9,     -999.0,9,    17.8169,2,     -999.0,9
320620170703,        P06,      98,          1,         34,         34,2,20170728,       1649,   -32.5000,  -175.2594,       5726,    38.9,  17.8027,  35.6714,2,  35.6919,2, 231.9495,2, 231.7226,2,     0.3,2,    0.24,2,    0.07,2,    0.10,2,   2.195,2,   1.270,2,   1.4270,2,  -999.0,9, -999.00,9,-999.0000,9, -999.00,9, -999.00,9, -999.00,    64.3,2,    4.50,2,     -999.0,1,  -999.0,9, 20170728,     1645, -32.5001,-175.2594,        0.0,1,      0.214,1,      4.583,1,      0.272,1,     -999.0,     -999.0,9,     -999.0,9,     -999.0,9,     -999.0,9,    17.8159,2,     -999.0,9
320620170703,        P06,      98,          1,         35,         35,2,20170728,       1649,   -32.5000,  -175.2594,       5726,    20.4,  17.7836,  35.6656,2,  35.6899,2, 231.7245,2, 231.7246,2,     0.3,2,    0.23,2,    0.07,2,    0.10,2,   2.194,2,   1.275,2,   1.3570,2,  2068.8,2, 2344.74,2,   7.9847,2, -999.00,9, -999.00,9, -999.00,    58.4,2,    4.20,2,     -999.0,1,  -999.0,9, 20170728,     1647, -32.5001,-175.2594,        0.0,1,      0.238,1,      4.581,1,      0.277,1,      24.99,     -999.0,9,     -999.0,9,     -999.0,9,     -999.0,9,    17.8168,2,     -999.0,9
320620170703,        P06,      98,          1,         36,         36,2,20170728,       1649,   -32.5000,  -175.2594,       5726,     0.2,  17.7804,  35.6655,2,  35.6938,3, 233.2577,2, 235.4052,2,     0.3,2,    0.23,2,    0.07,2,    0.10,2,   2.207,2,   1.279,2,   1.3320,2,  2068.7,6, 2320.78,3,   7.9832,2, -999.00,9, -999.00,9, -999.00,    59.0,2,    4.80,2,     -999.0,1,  -999.0,9, 20170728,     1649, -32.5000,-175.2594,        0.0,1,      0.231,1,      4.574,1,      0.263,1,      25.02,     -999.0,9,     -999.0,9,     -999.0,9,     -999.0,9,    15.1333,2,     -999.0,9