BOTTLE,20230922CCHSIOCBG
EXPOCODE,SECT_ID,STNNBR,CASTNO,SAMPNO,BTLNBR,BTLNBR_FLAG_W,DATE,TIME,LATITUDE,LONGITUDE,DEPTH,CTDPRS,CTDTMP,CTDSAL,CTDSAL_FLAG_W,SALNTY,SALNTY_FLAG_W,CTDOXY,CTDOXY_FLAG_W,OXYGEN,OXYGEN_FLAG_W,SILCAT,SILCAT_FLAG_W,NITRAT,NITRAT_FLAG_W,NITRIT,NITRIT_FLAG_W,PHSPHT,PHSPHT_FLAG_W,CFC-11,CFC-11_FLAG_W,CFC-12,CFC-12_FLAG_W,SF6,SF6_FLAG_W,TCARBN,TCARBN_FLAG_W,ALKALI,ALKALI_FLAG_W,PH_TOT,PH_TOT_FLAG_W,DELC13,DELC13_FLAG_W,DELC14,DELC14_FLAG_W,C14ERR,DOC,DOC_FLAG_W,TDN,TDN_FLAG_W,TON,TON_FLAG_W,D15N_NO3,D15N_NO3_FLAG_W,BTL_DATE,BTL_TIME,BTL_LAT,BTL_LON,CTDRINKO,CTDRINKO_FLAG_W,CTDFLUOR,CTDFLUOR_FLAG_W,CTDXMISS,CTDXMISS_FLAG_W,CTDBACKSCATTER,CTDBACKSCATTER_FLAG_W,PH_TMP,D18O_NO3,D18O_NO3_FLAG_W,DOP,DOP_FLAG_W,HPLC,HPLC_FLAG_W,POC,POC_FLAG_W,REFTMP,REFTMP_FLAG_W,TDP,TDP_FLAG_W
,,,,,,,,,,,METERS,DBAR,ITS-90,PSS-78,,PSS-78,,UMOL/KG,,UMOL/KG,,UMOL/KG,,UMOL/KG,,UMOL/KG,,UMOL/KG,,PMOL/KG,,PMOL/KG,,FMOL/KG,,UMOL/KG,,UMOL/KG,,,,/MILLE,,/MILLE,,/MILLE,UMOL/KG,,UMOL/KG,,UMOL/KG,,/MILLE,,,,,,VOLTS,,VOLTS,,VOLTS,,VOLTS,,DEGC,/MILLE,,UMOL/KG,,,,UG/L,,ITS-90,,UMOL/KG,
320620170703,        P06,      89,          1,          1,          1,2,20170726,       0519,   -32.4997,  -178.6495,       3437,  3481.8,   1.2861,  34.7215,2,  34.7221,2, 198.6804,2, 199.8993,2,   111.7,2,   31.67,2,    0.00,2,    2.20,2,   0.149,2,   0.083,2,   0.0000,2,  2260.2,6, 2281.46,3,   7.6073,2, -999.00,9, -999.00,9, -999.00,  -999.0,9, -999.00,9,     -999.0,9,  -999.0,9, 20170726,      341, -32.4998,-178.6496,        0.0,1,      0.061,1,      4.699,1,      0.139,1,      25.02,     -999.0,9,     -999.0,9,     -999.0,9,     -999.0,9,     1.2882,2,     -999.0,9
320620170703,        P06,      89,          1,          2,          2,2,20170726,       0519,   -32.4997,  -178.6495,       3437,  3349.4,   1.4179,  34.7240,2,  34.7239,2, 198.0334,2, 197.4058,2,   109.1,2,   31.73,2,    0.00,2,    2.21,2,   0.130,2,   0.081,2,   0.0000,2,  2262.6,2, 2279.53,3,   7.6053,2, -999.00,9, -999.00,9, -999.00,  -999.0,9, -999.00,9,     -999.0,9,  -999.0,9, 20170726,      344, -32.4997,-178.6496,        0.0,1,      0.062,1,      4.699,1,      0.140,1,      25.00,     -999.0,9,     -999.0,9,     -999.0,9,     -999.0,9,     1.4068,2,     -999.0,9
320620170703,        P06,      89,          1,          3,          3,2,20170726,       0519,   -32.4997,  -178.6495,       3437,  3180.3,   1.5725,  34.7216,2,  34.7227,2, 193.3910,2, 192.4904,2,   106.6,2,   31.83,2,    0.00,2,    2.21,2,   0.110,2,   0.066,2,   0.0000,2,  2263.3,2, 2281.11,3,   7.6037,2, -999.00,9, -999.00,9, -999.00,  -999.0,9, -999.00,9,     -999.0,9,  -999.0,9, 20170726,      349, -32.4998,-178.6495,        0.0,1,      0.061,1,      4.700,1,      0.137,1,      25.00,     -999.0,9,     -999.0,9,     -999.0,9,     -999.0,9,     1.5442,2,     -999.0,9
320620170703,        P06,      89,          1,          4,          4,2,20170726,       0519,   -32.4997,  -178.6495,       3437,  2976.4,   1.7294,  34.7073,2,  34.7077,2, 179.8726,2, 180.0415,2,   108.8,2,   32.71,2,    0.00,2,    2.29,2,   0.079,2,   0.051,2,   0.0000,2,  2275.2,2, 2283.81,3,   7.5931,2, -999.00,9, -999.00,9, -999.00,  -999.0,9, -999.00,9,     -999.0,9,  -999.0,9, 20170726,      353, -32.5000,-178.6494,        0.0,1,      0.061,1,      4.699,1,      0.139,1,      25.01,     -999.0,9,     -999.0,9,     -999.0,9,     -999.0,9,     1.7261,2,     -999.0,9
320620170703,        P06,      89,          1,          5,          5,2,20170726,       0519,   -32.4997,  -178.6495,       3437,  2770.8,   1.9451,  34.6669,2,  34.6680,2, 156.7663,2, 156.6096,2,   121.4,2,   35.00,2,    0.00,2,    2.45,2,   0.041,2,   0.034,2,   0.0000,2,  2303.5,2, 2287.83,3,   7.5743,2, -999.00,9, -999.00,9, -999.00,  -999.0,9, -999.00,9,     -999.0,9,  -999.0,9, 20170726,      358, -32.5000,-178.6493,        0.0,1,      0.061,1,      4.700,1,      0.139,1,      25.01,     -999.0,9,     -999.0,9,     -999.0,9,     -999.0,9,     1.9311,2,     -999.0,9
320620170703,        P06,      89,          1,          6,          6,2,20170726,       0519,   -32.4997,  -178.6495,       3437,  2568.4,   2.0721,  34.6488,2,  34.6504,2, 149.3726,2, 150.2435,2,   121.9,2,   35.64,2,    0.00,2,    2.51,2,   0.039,2,   0.035,2,   0.0000,2,  2309.0,6, 2292.94,3,   7.5681,2, -999.00,9, -999.00,9, -999.00,  -999.0,9, -999.00,9,     -999.0,9,  -999.0,9, 20170726,      402, -32.4999,-178.6495,        0.0,1,      0.061,1,      4.703,1,      0.134,1,      25.03,     -999.0,9,     -999.0,9,     -999.0,9,     -999.0,9,     2.0665,2,     -999.0,9
320620170703,        P06,      89,          1,          7,          7,2,20170726,       0519,   -32.4997,  -178.6495,       3437,  2363.9,   2.2115,  34.6368,2,  34.6370,2, 149.1209,2, 148.7179,2,   117.4,2,   35.63,2,    0.00,2,    2.51,2,   0.038,2,   0.033,2,   0.0000,2,  2304.0,2, 2292.99,3,   7.5672,2, -999.00,9, -999.00,9, -999.00,  -999.0,9, -999.00,9,     -999.0,9,  -999.0,9, 20170726,      407, -32.4998,-178.6495,        0.0,1,      0.061,1,      4.702,1,      0.137,1,      25.00,     -999.0,9,     -999.0,9,     -999.0,9,     -999.0,9,     2.1950,2,     -999.0,9
320620170703,        P06,      89,          1,          8,          8,2,20170726,       0519,   -32.4997,  -178.6495,       3437,  2160.1,   2.3236,  34.6238,2,  34.6266,2, 149.2965,2, 148.8343,2,   113.3,2,   35.53,2,    0.00,2,    2.51,2,   0.037,2,   0.030,2,   0.0000,2,  2300.8,2, 2301.32,3,   7.5659,2, -999.00,9, -999.00,9, -999.00,  -999.0,9, -999.00,9,     -999.0,9,  -999.0,9, 20170726,      411, -32.4997,-178.6496,        0.0,1,      0.061,1,      4.703,1,      0.137,1,      25.02,     -999.0,9,     -999.0,9,     -999.0,9,     -999.0,9,     2.2954,2,     -999.0,9
320620170703,        P06,      89,          1,          9,          9,2,20170726,       0519,   -32.4997,  -178.6495,       3437,  1957.0,   2.4368,  34.6102,2,  34.6136,2, 150.3554,2, 150.3231,2,   107.4,2,   35.33,2,    0.00,2,    2.48,2,   0.040,2,   0.035,2,   0.0000,2,  2294.0,2, 2301.92,3,   7.5669,2, -999.00,9, -999.00,9, -999.00,  -999.0,9, -999.00,9,     -999.0,9,  -999.0,9, 20170726,      416, -32.4999,-178.6495,        0.0,1,      0.061,1,      4.703,1,      0.137,1,      25.01,     -999.0,9,     -999.0,9,     -999.0,9,     -999.0,9,     2.4046,2,     -999.0,9
320620170703,        P06,      89,          1,         10,         10,2,20170726,       0519,   -32.4997,  -178.6495,       3437,  1785.9,   2.5923,  34.5923,2,  34.5942,2, 154.5348,2, 154.2784,2,    99.5,2,   34.93,2,    0.00,2,    2.44,2,   0.060,2,   0.043,2,   0.0000,2,  2285.1,2, 2304.93,2,   7.5703,2, -999.00,9, -999.00,9, -999.00,  -999.0,9, -999.00,9,     -999.0,9,  -999.0,9, 20170726,      420, -32.5001,-178.6493,        0.0,1,      0.061,1,      4.702,1,      0.139,1,      25.01,     -999.0,9,     -999.0,9,     -999.0,9,     -999.0,9,     2.5792,2,     -999.0,9
320620170703,        P06,      89,          1,         11,         11,2,20170726,       0519,   -32.4997,  -178.6495,       3437,  1684.0,   2.7270,  34.5694,2,  34.5728,2, 157.3893,2, 157.6075,2,    92.0,2,   34.62,2,    0.00,2,    2.43,2,   0.066,2,   0.046,2,   0.0000,2,  2275.8,2, 2312.58,2,   7.5709,2, -999.00,9, -999.00,9, -999.00,  -999.0,9, -999.00,9,     -999.0,9,  -999.0,9, 20170726,      423, -32.4999,-178.6494,        0.0,1,      0.061,1,      4.703,1,      0.139,1,      25.01,     -999.0,9,     -999.0,9,     -999.0,9,     -999.0,9,     2.7183,2,     -999.0,9
320620170703,        P06,      89,          1,         12,         12,2,20170726,       0519,   -32.4997,  -178.6495,       3437,  1582.2,   2.8777,  34.5446,2,  34.5409,2, 161.4006,2, 161.7410,2,    83.0,2,   34.44,2,    0.00,2,    2.41,2,   0.084,2,   0.056,2,   0.0000,2,  2265.7,2, 2336.08,3,   7.5723,2, -999.00,9, -999.00,9, -999.00,  -999.0,9, -999.00,9,     -999.0,9,  -999.0,9, 20170726,      425, -32.4997,-178.6496,        0.0,1,      0.061,1,      4.702,1,      0.140,1,      25.02,     -999.0,9,     -999.0,9,     -999.0,9,     -999.0,9,     2.8950,2,     -999.0,9
320620170703,        P06,      89,          1,         13,         13,2,20170726,       0519,   -32.4997,  -178.6495,       3437,  1480.0,   3.0826,  34.5066,2,  34.5023,2, 166.3710,2, 166.4397,2,    72.9,2,   34.14,2,    0.00,2,    2.37,2,   0.123,2,   0.077,2,   0.0000,2,  2253.2,2, 2321.74,2,   7.5753,2, -999.00,9, -999.00,9, -999.00,  -999.0,9, -999.00,9,     -999.0,9,  -999.0,9, 20170726,      428, -32.4996,-178.6497,        0.0,1,      0.060,1,      4.703,1,      0.139,1,      25.01,     -999.0,9,     -999.0,9,     -999.0,9,     -999.0,9,     3.1042,2,     -999.0,9
320620170703,        P06,      89,          1,         14,         14,2,20170726,       0519,   -32.4997,  -178.6495,       3437,  1378.7,   3.3523,  34.4776,2,  34.4577,2, 173.8307,2, 173.8357,2,    61.7,2,   33.47,2,    0.00,2,    2.33,2,   0.242,2,   0.134,2,   0.0000,2,  2239.6,2, 2325.27,2,   7.5836,2, -999.00,9, -999.00,9, -999.00,  -999.0,9, -999.00,9,     -999.0,9,  -999.0,9, 20170726,      431, -32.4997,-178.6496,        0.0,1,      0.060,1,      4.702,1,      0.138,1,      25.01,     -999.0,9,     -999.0,9,     -999.0,9,     -999.0,9,     3.4404,2,     -999.0,9
320620170703,        P06,      89,          1,         15,         15,2,20170726,       0519,   -32.4997,  -178.6495,       3437,  1278.3,   3.6284,  34.4235,2,  34.4175,2, 182.4352,2, 182.5061,2,    50.2,2,   32.37,2,    0.00,2,    2.24,2,   0.481,2,   0.246,2,   0.0830,2,  2221.9,2, 2332.25,2,   7.5992,2, -999.00,9, -999.00,9, -999.00,  -999.0,9, -999.00,9,     -999.0,9,  -999.0,9, 20170726,      434, -32.4998,-178.6495,        0.0,1,      0.061,1,      4.703,1,      0.140,1,      25.01,     -999.0,9,     -999.0,9,     -999.0,9,     -999.0,9,     3.9294,2,     -999.0,9
320620170703,        P06,      89,          1,         16,         16,2,20170726,       0519,   -32.4997,  -178.6495,       3437,  1176.8,   4.0772,  34.4009,2,  34.3833,2, 191.7726,2, 191.4287,2,    39.0,2,   31.11,2,    0.00,2,    2.14,2,   0.753,2,   0.369,2,   0.1330,2,  2205.3,2, 2332.13,2,   7.6156,2, -999.00,9, -999.00,9, -999.00,  -999.0,9, -999.00,9,     -999.0,9,  -999.0,9, 20170726,      437, -32.5000,-178.6493,        0.0,1,      0.059,1,      4.702,1,      0.139,1,      25.01,     -999.0,9,     -999.0,9,     -999.0,9,     -999.0,9,     4.4349,2,     -999.0,9
320620170703,        P06,      89,          1,         17,         17,2,20170726,       0519,   -32.4997,  -178.6495,       3437,  1073.5,   4.7021,  34.3686,2,  34.3707,2, 200.0376,2, 199.5804,2,    29.7,2,   29.40,2,    0.00,2,    2.02,2,   1.173,2,   0.548,2,   0.1520,2,  2190.3,2, 2345.23,2,   7.6364,2, -999.00,9, -999.00,9, -999.00,  -999.0,9, -999.00,9,     -999.0,9,  -999.0,9, 20170726,      440, -32.4999,-178.6494,        0.0,1,      0.059,1,      4.702,1,      0.140,1,      25.01,     -999.0,9,     -999.0,9,     -999.0,9,     -999.0,9,     5.0718,2,     -999.0,9
320620170703,        P06,      89,          1,         18,         18,2,20170726,       0519,   -32.4997,  -178.6495,       3437,   973.4,   5.3992,  34.3616,2,  34.3446,2, 210.2785,2, 210.9077,2,    20.2,2,   27.75,2,    0.00,2,    1.90,2,   1.609,2,   0.758,2,   0.2950,2,  2174.8,2, 2334.90,2,   7.6572,2, -999.00,9, -999.00,9, -999.00,  -999.0,9, -999.00,9,     -999.0,9,  -999.0,9, 20170726,      443, -32.4998,-178.6495,        0.0,1,      0.060,1,      4.702,1,      0.139,1,      25.01,     -999.0,9,     -999.0,9,     -999.0,9,     -999.0,9,     5.5453,2,     -999.0,9
320620170703,        P06,      89,          1,         19,         19,2,20170726,       0519,   -32.4997,  -178.6495,       3437,   871.5,   6.0223,  34.3629,2,  34.3717,2, 216.5704,2, 216.9947,2,    15.6,2,   25.82,2,    0.00,2,    1.76,2,   2.112,2,   1.029,2,   0.4030,2,  2163.6,2, 2359.63,2,   7.6771,2, -999.00,9, -999.00,9, -999.00,  -999.0,9, -999.00,9,     -999.0,9,  -999.0,9, 20170726,      445, -32.4996,-178.6496,        0.0,1,      0.060,1,      4.701,1,      0.141,1,      25.02,     -999.0,9,     -999.0,9,     -999.0,9,     -999.0,9,     6.1683,2,     -999.0,9
320620170703,        P06,      89,          1,         20,         20,2,20170726,       0519,   -32.4997,  -178.6495,       3437,   771.6,   6.6211,  34.3953,2,  34.4078,2, 221.0710,2, 221.8696,2,    11.3,2,   23.82,2,    0.00,2,    1.61,2,   2.684,2,   1.325,2,   0.5430,2,  2156.7,2, 2361.59,2,   7.6930,2, -999.00,9, -999.00,9, -999.00,  -999.0,9, -999.00,9,     -999.0,9,  -999.0,9, 20170726,      448, -32.4997,-178.6496,        0.0,1,      0.060,1,      4.699,1,      0.142,1,      25.02,     -999.0,9,     -999.0,9,     -999.0,9,     -999.0,9,     6.8540,2,     -999.0,9
320620170703,        P06,      89,          1,         21,         21,2,20170726,       0519,   -32.4997,  -178.6495,       3437,   671.4,   7.1996,  34.4311,2,  34.4443,3, 220.6912,2, 221.5311,2,     9.1,2,   22.41,2,    0.00,2,    1.52,2,   2.913,2,   1.460,2,   0.6480,2,  2151.3,6, 2359.36,2,   7.7038,2, -999.00,9, -999.00,9, -999.00,  -999.0,9, -999.00,9,     -999.0,9,  -999.0,9, 20170726,      451, -32.4998,-178.6494,        0.0,1,      0.058,1,      4.698,1,      0.144,1,      25.01,     -999.0,9,     -999.0,9,     -999.0,9,     -999.0,9,     7.4093,2,     -999.0,9
320620170703,        P06,      89,          1,         22,         22,2,20170726,       0519,   -32.4997,  -178.6495,       3437,   569.5,   8.3294,  34.5450,2,  34.5651,2, 215.2299,2, 215.0671,2,     7.2,2,   20.09,2,    0.00,2,    1.37,2,   3.039,2,   1.559,2,   0.7390,2,  2148.3,2, 2367.40,2,   7.7208,2, -999.00,9, -999.00,9, -999.00,  -999.0,9, -999.00,9,     -999.0,9,  -999.0,9, 20170726,      454, -32.4998,-178.6495,        0.0,1,      0.059,1,      4.696,1,      0.146,1,      25.02,     -999.0,9,     -999.0,9,     -999.0,9,     -999.0,9,     8.5546,2,     -999.0,9
320620170703,        P06,      89,          1,         23,         23,2,20170726,       0519,   -32.4997,  -178.6495,       3437,   468.4,   9.5268,  34.6833,2,  34.6908,2, 210.3284,2, 209.3692,2,     6.0,2,   17.88,2,    0.00,2,    1.22,2,-999.000,9,-999.000,9,-999.0000,9,  2145.4,2, 2389.07,6,   7.7390,2, -999.00,9, -999.00,9, -999.00,  -999.0,9, -999.00,9,     -999.0,9,  -999.0,9, 20170726,      457, -32.4997,-178.6495,        0.0,1,      0.059,1,      4.692,1,      0.148,1,      25.01,     -999.0,9,     -999.0,9,     -999.0,9,     -999.0,9,     9.6007,2,     -999.0,9
320620170703,        P06,      89,          1,         24,         24,2,20170726,       0519,   -32.4997,  -178.6495,       3437,   439.5,  10.0857,  34.7546,2,  34.7427,2, 209.4331,2, 207.3833,2,     5.6,2,   17.01,2,    0.00,2,    1.17,2,   2.965,6,   1.566,6,   0.9505,6,  2141.8,2, 2393.49,2,   7.7482,2, -999.00,9, -999.00,9, -999.00,  -999.0,9, -999.00,9,     -999.0,9,  -999.0,9, 20170726,      459, -32.4997,-178.6495,        0.0,1,      0.061,1,      4.692,1,      0.150,1,      25.01,     -999.0,9,     -999.0,9,     -999.0,9,     -999.0,9,    10.0575,2,     -999.0,9
320620170703,        P06,      89,          1,         25,         25,2,20170726,       0519,   -32.4997,  -178.6495,       3437,   388.1,  10.9592,  34.8702,2,  34.8743,2, 209.4105,2, 208.0953,2,     4.8,2,   14.68,2,    0.00,2,    1.02,2,-999.000,9,-999.000,9,-999.0000,9,  2134.5,2, 2384.56,3,   7.7734,2, -999.00,9, -999.00,9, -999.00,  -999.0,9, -999.00,9,     -999.0,9,  -999.0,9, 20170726,      501, -32.4997,-178.6495,        0.0,1,      0.060,1,      4.691,1,      0.159,1,      25.02,     -999.0,9,     -999.0,9,     -999.0,9,     -999.0,9,    11.0974,2,     -999.0,9
320620170703,        P06,      89,          1,         26,         26,2,20170726,       0519,   -32.4997,  -178.6495,       3437,   336.9,  11.6281,  34.9543,2,  34.9646,2, 208.3204,2, 207.9776,2,     4.1,2,   13.00,2,    0.00,2,    0.91,2,   2.851,2,   1.547,2,   1.1750,2,  2131.8,2, 2385.00,2,   7.7910,2, -999.00,9, -999.00,9, -999.00,  -999.0,9, -999.00,9,     -999.0,9,  -999.0,9, 20170726,      503, -32.4997,-178.6496,        0.0,1,      0.058,1,      4.691,1,      0.149,1,      25.01,     -999.0,9,     -999.0,9,     -999.0,9,     -999.0,9,    11.7369,2,     -999.0,9
320620170703,        P06,      89,          1,         27,         27,2,20170726,       0519,   -32.4997,  -178.6495,       3437,   286.8,  12.3072,  35.0429,2,  35.0317,2, 205.6814,2, 206.7943,2,     3.8,2,   12.13,2,    0.00,2,    0.85,2,-999.000,9,-999.000,9,-999.0000,9,  2126.8,2, 2377.16,2,   7.8056,2, -999.00,9, -999.00,9, -999.00,  -999.0,9, -999.00,9,     -999.0,9,  -999.0,9, 20170726,      504, -32.4997,-178.6496,        0.0,1,      0.059,1,      4.690,1,      0.150,1,      25.02,     -999.0,9,     -999.0,9,     -999.0,9,     -999.0,9,    12.2978,2,     -999.0,9
320620170703,        P06,      89,          1,         28,         28,2,20170726,       0519,   -32.4997,  -178.6495,       3437,   234.0,  13.0042,  35.1211,2,  35.1530,2, 208.2064,2, 207.7514,2,     3.2,2,   10.18,2,    0.02,2,    0.74,2,   2.710,2,   1.489,2,   1.2230,2,  2118.5,2, 2366.12,2,   7.8339,2, -999.00,9, -999.00,9, -999.00,  -999.0,9, -999.00,9,     -999.0,9,  -999.0,9, 20170726,      506, -32.4997,-178.6496,        0.0,1,      0.060,1,      4.689,1,      0.154,1,      25.02,     -999.0,9,     -999.0,9,     -999.0,9,     -999.0,9,    13.3463,2,     -999.0,9
320620170703,        P06,      89,          1,         29,         29,2,20170726,       0519,   -32.4997,  -178.6495,       3437,   185.8,  14.1170,  35.2565,2,  35.2515,2, 207.0079,3, 209.2620,2,     2.7,2,    8.55,2,    0.03,2,    0.62,2,-999.000,9,-999.000,9,-999.0000,9,  2110.7,2, 2358.93,2,   7.8574,2, -999.00,9, -999.00,9, -999.00,  -999.0,9, -999.00,9,     -999.0,9,  -999.0,9, 20170726,      508, -32.4997,-178.6495,        0.0,1,      0.065,1,      4.684,1,      0.162,1,      25.03,     -999.0,9,     -999.0,9,     -999.0,9,     -999.0,9,    14.1053,2,     -999.0,9
320620170703,        P06,      89,          1,         30,         30,2,20170726,       0519,   -32.4997,  -178.6495,       3437,   141.0,  14.6331,  35.3165,2,  35.3159,2, 208.0123,3, 210.3746,2,     2.3,2,    7.47,2,    0.03,2,    0.56,2,   2.557,2,   1.431,2,   1.2570,2,  2106.6,2, 2345.51,2,   7.8729,2, -999.00,9, -999.00,9, -999.00,  -999.0,9, -999.00,9,     -999.0,9,  -999.0,9, 20170726,      510, -32.4998,-178.6494,        0.0,1,      0.069,1,      4.679,1,      0.165,1,      25.03,     -999.0,9,     -999.0,9,     -999.0,9,     -999.0,9,    14.6818,2,     -999.0,9
320620170703,        P06,      89,          1,         31,         31,2,20170726,       0519,   -32.4997,  -178.6495,       3437,   114.6,  15.3303,  35.3939,2,  35.3766,2, 209.9001,2, 211.7437,2,     2.1,2,    6.36,2,    0.04,2,    0.51,2,-999.000,9,-999.000,9,-999.0000,9,  2101.3,2, 2334.18,2,   7.8897,2, -999.00,9, -999.00,9, -999.00,  -999.0,9, -999.00,9,     -999.0,9,  -999.0,9, 20170726,      512, -32.4999,-178.6494,        0.0,1,      0.077,1,      4.675,1,      0.172,1,      25.00,     -999.0,9,     -999.0,9,     -999.0,9,     -999.0,9,    15.2093,2,     -999.0,9
320620170703,        P06,      89,          1,         32,         32,2,20170726,       0519,   -32.4997,  -178.6495,       3437,    91.2,  16.4115,  35.5227,2,  35.4742,2, 222.4694,3, 217.0766,2,     1.4,2,    4.33,2,    0.09,2,    0.37,2,   2.418,2,   1.376,2,   1.2740,2,  2091.3,2, 2323.66,2,   7.9187,2, -999.00,9, -999.00,9, -999.00,  -999.0,9, -999.00,9,     -999.0,9,  -999.0,9, 20170726,      513, -32.4998,-178.6494,        0.0,1,      0.109,1,      4.659,1,      0.194,1,      25.01,     -999.0,9,     -999.0,9,     -999.0,9,     -999.0,9,    15.9987,2,     -999.0,9