BOTTLE,20230922CCHSIOCBG
EXPOCODE,SECT_ID,STNNBR,CASTNO,SAMPNO,BTLNBR,BTLNBR_FLAG_W,DATE,TIME,LATITUDE,LONGITUDE,DEPTH,CTDPRS,CTDTMP,CTDSAL,CTDSAL_FLAG_W,SALNTY,SALNTY_FLAG_W,CTDOXY,CTDOXY_FLAG_W,OXYGEN,OXYGEN_FLAG_W,SILCAT,SILCAT_FLAG_W,NITRAT,NITRAT_FLAG_W,NITRIT,NITRIT_FLAG_W,PHSPHT,PHSPHT_FLAG_W,CFC-11,CFC-11_FLAG_W,CFC-12,CFC-12_FLAG_W,SF6,SF6_FLAG_W,TCARBN,TCARBN_FLAG_W,ALKALI,ALKALI_FLAG_W,PH_TOT,PH_TOT_FLAG_W,DELC13,DELC13_FLAG_W,DELC14,DELC14_FLAG_W,C14ERR,DOC,DOC_FLAG_W,TDN,TDN_FLAG_W,TON,TON_FLAG_W,D15N_NO3,D15N_NO3_FLAG_W,BTL_DATE,BTL_TIME,BTL_LAT,BTL_LON,CTDRINKO,CTDRINKO_FLAG_W,CTDFLUOR,CTDFLUOR_FLAG_W,CTDXMISS,CTDXMISS_FLAG_W,CTDBACKSCATTER,CTDBACKSCATTER_FLAG_W,PH_TMP,D18O_NO3,D18O_NO3_FLAG_W,DOP,DOP_FLAG_W,HPLC,HPLC_FLAG_W,POC,POC_FLAG_W,REFTMP,REFTMP_FLAG_W,TDP,TDP_FLAG_W
,,,,,,,,,,,METERS,DBAR,ITS-90,PSS-78,,PSS-78,,UMOL/KG,,UMOL/KG,,UMOL/KG,,UMOL/KG,,UMOL/KG,,UMOL/KG,,PMOL/KG,,PMOL/KG,,FMOL/KG,,UMOL/KG,,UMOL/KG,,,,/MILLE,,/MILLE,,/MILLE,UMOL/KG,,UMOL/KG,,UMOL/KG,,/MILLE,,,,,,VOLTS,,VOLTS,,VOLTS,,VOLTS,,DEGC,/MILLE,,UMOL/KG,,,,UG/L,,ITS-90,,UMOL/KG,
320620170703,        P06,      39,          1,          1,         37,2,20170712,       0949,   -30.0800,   164.3398,       3300,  3335.9,   1.9266,  34.6855,2,  34.6859,2, 158.7757,2, 159.5804,2,   118.2,2,   34.58,2,    0.00,2,    2.40,2,-999.000,9,-999.000,9,-999.0000,9,  2307.4,6, 2406.49,3,   7.5862,2, -999.00,9, -999.00,9, -999.00,  -999.0,9, -999.00,9,     -999.0,9,  -999.0,9, 20170712,      809, -30.0800, 164.3399,        0.0,1,      0.061,1,      4.694,1,      0.168,1,      25.02,     -999.0,9,     -999.0,9,     -999.0,9,     -999.0,9,     1.9272,2,     -999.0,9
320620170703,        P06,      39,          1,          2,          2,2,20170712,       0949,   -30.0800,   164.3398,       3300,  3227.7,   1.9233,  34.6850,2,  34.6857,2, 158.7757,2, 159.8670,2,   118.1,2,   34.62,2,    0.00,2,    2.40,2,-999.000,9,-999.000,9,-999.0000,9,  -999.0,9, -999.00,9,-999.0000,9, -999.00,9, -999.00,9, -999.00,  -999.0,9, -999.00,9,     -999.0,9,  -999.0,9, 20170712,      812, -30.0800, 164.3401,        0.0,1,      0.061,1,      4.693,1,      0.170,1,     -999.0,     -999.0,9,     -999.0,9,     -999.0,9,     -999.0,9,     1.9228,2,     -999.0,9
320620170703,        P06,      39,          1,          3,         38,2,20170712,       0949,   -30.0800,   164.3398,       3300,  3109.7,   1.9352,  34.6838,2,  34.6832,2, 158.3145,2, 157.1880,2,   118.4,2,   34.72,2,    0.00,2,    2.42,2,-999.000,9,-999.000,9,-999.0000,9,  -999.0,9, -999.00,9,-999.0000,9, -999.00,9, -999.00,9, -999.00,  -999.0,9, -999.00,9,     -999.0,9,  -999.0,9, 20170712,      815, -30.0800, 164.3400,        0.0,1,      0.062,1,      4.695,1,      0.160,1,     -999.0,     -999.0,9,     -999.0,9,     -999.0,9,     -999.0,9,     1.9341,2,     -999.0,9
320620170703,        P06,      39,          1,          4,          4,2,20170712,       0949,   -30.0800,   164.3398,       3300,  2905.0,   1.9507,  34.6814,2,  34.6808,2, 157.5716,3, 155.8152,2,   117.6,2,   34.77,2,    0.00,2,    2.43,2,-999.000,9,-999.000,9,-999.0000,9,  2307.8,2, 2392.64,2,   7.5806,2, -999.00,9, -999.00,9, -999.00,  -999.0,9, -999.00,9,     -999.0,9,  -999.0,9, 20170712,      820, -30.0800, 164.3395,        0.0,1,      0.062,1,      4.703,1,      0.142,1,      25.01,     -999.0,9,     -999.0,9,     -999.0,9,     -999.0,9,     1.9497,2,     -999.0,9
320620170703,        P06,      39,          1,          5,         39,2,20170712,       0949,   -30.0800,   164.3398,       3300,  2701.4,   1.9789,  34.6776,2,  34.6769,2, 154.9570,2, 156.2111,2,   116.5,2,   34.73,2,    0.00,2,    2.41,2,-999.000,9,-999.000,9,-999.0000,9,  -999.0,9, -999.00,9,-999.0000,9, -999.00,9, -999.00,9, -999.00,  -999.0,9, -999.00,9,     -999.0,9,  -999.0,9, 20170712,      825, -30.0800, 164.3396,        0.0,1,      0.061,1,      4.704,1,      0.138,1,     -999.0,     -999.0,9,     -999.0,9,     -999.0,9,     -999.0,9,     1.9790,2,     -999.0,9
320620170703,        P06,      39,          1,          6,          6,2,20170712,       0949,   -30.0800,   164.3398,       3300,  2494.0,   2.0452,  34.6712,2,  34.6700,2, 154.4022,2, 155.4071,2,   114.9,2,   34.75,2,    0.00,2,    2.42,2,-999.000,9,-999.000,9,-999.0000,9,  -999.0,9, -999.00,9,-999.0000,9, -999.00,9, -999.00,9, -999.00,  -999.0,9, -999.00,9,     -999.0,9,  -999.0,9, 20170712,      829, -30.0800, 164.3399,        0.0,1,      0.062,1,      4.705,1,      0.139,1,     -999.0,     -999.0,9,     -999.0,9,     -999.0,9,     -999.0,9,     2.0472,2,     -999.0,9
320620170703,        P06,      39,          1,          7,         40,2,20170712,       0949,   -30.0800,   164.3398,       3300,  2292.4,   2.1402,  34.6622,2,  34.6710,2, 154.9595,2, 154.2612,2,   112.7,2,   34.74,2,    0.00,2,    2.43,2,-999.000,9,-999.000,9,-999.0000,9,  2302.1,2, 2393.49,2,   7.5775,2, -999.00,9, -999.00,9, -999.00,  -999.0,9, -999.00,9,     -999.0,9,  -999.0,9, 20170712,      834, -30.0800, 164.3400,        0.0,1,      0.061,1,      4.705,1,      0.141,1,      24.99,     -999.0,9,     -999.0,9,     -999.0,9,     -999.0,9,     2.1405,2,     -999.0,9
320620170703,        P06,      39,          1,          8,          8,2,20170712,       0949,   -30.0800,   164.3398,       3300,  2090.8,   2.3079,  34.6474,2,  34.6476,2, 154.0223,2, 153.5985,2,   109.2,2,   34.72,2,    0.00,2,    2.43,2,-999.000,9,-999.000,9,-999.0000,9,  -999.0,9, -999.00,9,-999.0000,9, -999.00,9, -999.00,9, -999.00,  -999.0,9, -999.00,9,     -999.0,9,  -999.0,9, 20170712,      838, -30.0800, 164.3402,        0.0,1,      0.061,1,      4.703,1,      0.147,1,     -999.0,     -999.0,9,     -999.0,9,     -999.0,9,     -999.0,9,     2.2929,2,     -999.0,9
320620170703,        P06,      39,          1,          9,         41,2,20170712,       0949,   -30.0800,   164.3398,       3300,  1886.8,   2.5914,  34.6224,2,  34.6211,2, 153.4886,2, 152.7627,2,   102.6,2,   34.58,2,    0.00,2,    2.42,2,-999.000,9,-999.000,9,-999.0000,9,  -999.0,9, -999.00,9,-999.0000,9, -999.00,9, -999.00,9, -999.00,  -999.0,9, -999.00,9,     -999.0,9,  -999.0,9, 20170712,      843, -30.0800, 164.3401,        0.0,1,      0.062,1,      4.705,1,      0.142,1,     -999.0,     -999.0,9,     -999.0,9,     -999.0,9,     -999.0,9,     2.5996,2,     -999.0,9
320620170703,        P06,      39,          1,         10,         10,2,20170712,       0949,   -30.0800,   164.3398,       3300,  1756.4,   2.7677,  34.6076,2,  34.6069,2, 153.6753,2, 153.0387,2,    98.5,2,   34.40,2,    0.00,2,    2.41,2,-999.000,9,-999.000,9,-999.0000,9,  2284.9,2, 2408.25,2,   7.5768,2, -999.00,9, -999.00,9, -999.00,  -999.0,9, -999.00,9,     -999.0,9,  -999.0,9, 20170712,      847, -30.0800, 164.3400,        0.0,1,      0.061,1,      4.705,1,      0.144,1,      25.02,     -999.0,9,     -999.0,9,     -999.0,9,     -999.0,9,     2.7628,2,     -999.0,9
320620170703,        P06,      39,          1,         11,         42,2,20170712,       0949,   -30.0800,   164.3398,       3300,  1653.8,   2.9949,  34.5897,2,  34.5885,2, 154.8700,2, 154.5261,2,    92.8,2,   34.12,2,    0.00,2,    2.38,2,-999.000,9,-999.000,9,-999.0000,9,  -999.0,9, -999.00,9,-999.0000,9, -999.00,9, -999.00,9, -999.00,  -999.0,9, -999.00,9,     -999.0,9,  -999.0,9, 20170712,      850, -30.0800, 164.3400,        0.0,1,      0.061,1,      4.703,1,      0.147,1,     -999.0,     -999.0,9,     -999.0,9,     -999.0,9,     -999.0,9,     2.9975,2,     -999.0,9
320620170703,        P06,      39,          1,         12,         12,2,20170712,       0949,   -30.0800,   164.3398,       3300,  1552.4,   3.2461,  34.5687,2,  34.5669,2, 157.6225,2, 157.6959,2,    85.9,2,   33.71,2,    0.00,2,    2.36,2,-999.000,9,-999.000,9,-999.0000,9,  -999.0,9, -999.00,9,-999.0000,9, -999.00,9, -999.00,9, -999.00,  -999.0,9, -999.00,9,     -999.0,9,  -999.0,9, 20170712,      853, -30.0800, 164.3403,        0.0,1,      0.061,1,      4.704,1,      0.145,1,     -999.0,     -999.0,9,     -999.0,9,     -999.0,9,     -999.0,9,     3.2682,2,     -999.0,9
320620170703,        P06,      39,          1,         13,         43,2,20170712,       0949,   -30.0800,   164.3398,       3300,  1453.1,   3.5712,  34.5436,2,  34.5429,2, 161.5863,2, 162.9346,2,    77.5,2,   33.10,2,    0.00,2,    2.32,2,-999.000,9,-999.000,9,-999.0000,9,  -999.0,9, -999.00,9,-999.0000,9, -999.00,9, -999.00,9, -999.00,  -999.0,9, -999.00,9,     -999.0,9,  -999.0,9, 20170712,      856, -30.0801, 164.3405,        0.0,1,      0.061,1,      4.705,1,      0.142,1,     -999.0,     -999.0,9,     -999.0,9,     -999.0,9,     -999.0,9,     3.5759,2,     -999.0,9
320620170703,        P06,      39,          1,         14,         14,2,20170712,       0949,   -30.0800,   164.3398,       3300,  1346.3,   4.0464,  34.5066,2,  34.5105,2, 168.2221,2, 168.9874,2,    66.9,2,   32.28,2,    0.00,2,    2.24,2,-999.000,9,-999.000,9,-999.0000,9,  -999.0,9, -999.00,9,-999.0000,9, -999.00,9, -999.00,9, -999.00,  -999.0,9, -999.00,9,     -999.0,9,  -999.0,9, 20170712,      859, -30.0800, 164.3402,        0.0,1,      0.061,1,      4.705,1,      0.142,1,     -999.0,     -999.0,9,     -999.0,9,     -999.0,9,     -999.0,9,     3.9640,2,     -999.0,9
320620170703,        P06,      39,          1,         15,         15,2,20170712,       0949,   -30.0800,   164.3398,       3300,  1250.0,   4.4998,  34.4653,2,  34.4693,3, 178.1279,2, 177.6204,2,    54.4,2,   31.30,2,    0.00,2,    2.16,2,-999.000,9,-999.000,9,-999.0000,9,  2224.8,2, 2330.87,3,   7.6109,2, -999.00,9, -999.00,9, -999.00,  -999.0,9, -999.00,9,     -999.0,9,  -999.0,9, 20170712,      902, -30.0800, 164.3399,        0.0,1,      0.061,1,      4.705,1,      0.141,1,      25.03,     -999.0,9,     -999.0,9,     -999.0,9,     -999.0,9,     4.3918,2,     -999.0,9
320620170703,        P06,      39,          1,         16,         16,2,20170712,       0949,   -30.0800,   164.3398,       3300,  1144.3,   4.9878,  34.4504,2,  34.4467,2, 183.5895,2, 184.6447,2,    43.8,2,   30.14,2,    0.00,2,    2.07,2,-999.000,9,-999.000,9,-999.0000,9,  -999.0,9, -999.00,9,-999.0000,9, -999.00,9, -999.00,9, -999.00,  -999.0,9, -999.00,9,     -999.0,9,  -999.0,9, 20170712,      905, -30.0800, 164.3397,        0.0,1,      0.060,1,      4.705,1,      0.139,1,     -999.0,     -999.0,9,     -999.0,9,     -999.0,9,     -999.0,9,     4.8935,2,     -999.0,9
320620170703,        P06,      39,          1,         17,         17,2,20170712,       0949,   -30.0800,   164.3398,       3300,  1044.0,   5.7019,  34.4468,2,  34.4657,2, 188.8993,2, 189.2335,2,    34.4,2,   28.55,2,    0.00,2,    1.95,2,-999.000,9,-999.000,9,-999.0000,9,  -999.0,9, -999.00,9,-999.0000,9, -999.00,9, -999.00,9, -999.00,  -999.0,9, -999.00,9,     -999.0,9,  -999.0,9, 20170712,      908, -30.0800, 164.3396,        0.0,1,      0.060,1,      4.705,1,      0.141,1,     -999.0,     -999.0,9,     -999.0,9,     -999.0,9,     -999.0,9,     5.5964,2,     -999.0,9
320620170703,        P06,      39,          1,         18,         18,2,20170712,       0949,   -30.0800,   164.3398,       3300,   946.3,   6.1652,  34.4306,2,  34.4247,2, 202.4460,2, 201.1915,2,    23.8,2,   26.86,2,    0.00,2,    1.83,2,-999.000,9,-999.000,9,-999.0000,9,  -999.0,9, -999.00,9,-999.0000,9, -999.00,9, -999.00,9, -999.00,  -999.0,9, -999.00,9,     -999.0,9,  -999.0,9, 20170712,      911, -30.0800, 164.3396,        0.0,1,      0.059,1,      4.704,1,      0.144,1,     -999.0,     -999.0,9,     -999.0,9,     -999.0,9,     -999.0,9,     6.0865,2,     -999.0,9
320620170703,        P06,      39,          1,         19,         19,2,20170712,       0949,   -30.0800,   164.3398,       3300,   843.2,   6.9890,  34.4715,2,  34.4661,2, 205.7157,2, 205.1464,2,    16.8,2,   24.71,2,    0.00,2,    1.67,2,-999.000,9,-999.000,9,-999.0000,9,  2166.1,2, 2289.27,3,   7.6818,2, -999.00,9, -999.00,9, -999.00,  -999.0,9, -999.00,9,     -999.0,9,  -999.0,9, 20170712,      913, -30.0799, 164.3401,        0.0,1,      0.060,1,      4.703,1,      0.143,1,      24.96,     -999.0,9,     -999.0,9,     -999.0,9,     -999.0,9,     6.9604,2,     -999.0,9
320620170703,        P06,      39,          1,         20,         20,2,20170712,       0949,   -30.0800,   164.3398,       3300,   742.3,   7.9358,  34.5431,2,  34.5272,2, 206.6546,2, 206.4291,2,    12.0,2,   22.62,2,    0.01,2,    1.52,2,-999.000,9,-999.000,9,-999.0000,9,  -999.0,9, -999.00,9,-999.0000,9, -999.00,9, -999.00,9, -999.00,  -999.0,9, -999.00,9,     -999.0,9,  -999.0,9, 20170712,      916, -30.0800, 164.3404,        0.0,1,      0.058,1,      4.702,1,      0.142,1,     -999.0,     -999.0,9,     -999.0,9,     -999.0,9,     -999.0,9,     7.8271,2,     -999.0,9
320620170703,        P06,      39,          1,         21,         21,2,20170712,       0949,   -30.0800,   164.3398,       3300,   641.7,   9.3193,  34.6854,2,  34.6698,3, 201.4913,2, 201.2497,2,     8.7,2,   19.87,2,    0.01,2,    1.34,2,-999.000,9,-999.000,9,-999.0000,9,  2150.8,2, 2294.88,3,   7.7251,2, -999.00,9, -999.00,9, -999.00,  -999.0,9, -999.00,9,     -999.0,9,  -999.0,9, 20170712,      919, -30.0800, 164.3403,        0.0,1,      0.060,1,      4.700,1,      0.142,1,      24.99,     -999.0,9,     -999.0,9,     -999.0,9,     -999.0,9,     9.2551,2,     -999.0,9
320620170703,        P06,      39,          1,         22,         22,2,20170712,       0949,   -30.0800,   164.3398,       3300,   539.6,  11.0273,  34.8781,2,  34.8631,3, 197.4131,2, 197.8608,2,     6.1,2,   16.37,2,    0.01,2,    1.10,2,-999.000,9,-999.000,9,-999.0000,9,  -999.0,9, -999.00,9,-999.0000,9, -999.00,9, -999.00,9, -999.00,  -999.0,9, -999.00,9,     -999.0,9,  -999.0,9, 20170712,      922, -30.0799, 164.3401,        0.0,1,      0.060,1,      4.697,1,      0.144,1,     -999.0,     -999.0,9,     -999.0,9,     -999.0,9,     -999.0,9,    10.9129,2,     -999.0,9
320620170703,        P06,      39,          1,         23,         23,2,20170712,       0949,   -30.0800,   164.3398,       3300,   469.9,  12.3968,  35.0374,2,  35.0285,2, 194.8311,2, 195.7564,2,     4.7,2,   13.68,2,    0.01,2,    0.94,2,-999.000,9,-999.000,9,-999.0000,9,  2129.7,2, 2313.35,3,   7.7948,2, -999.00,9, -999.00,9, -999.00,  -999.0,9, -999.00,9,     -999.0,9,  -999.0,9, 20170712,      924, -30.0799, 164.3400,        0.0,1,      0.060,1,      4.696,1,      0.143,1,      24.98,     -999.0,9,     -999.0,9,     -999.0,9,     -999.0,9,    12.2968,2,     -999.0,9
320620170703,        P06,      39,          1,         24,         24,2,20170712,       0949,   -30.0800,   164.3398,       3300,   420.6,  13.7676,  35.2060,2,  35.1636,2, 194.9762,2, 194.4422,2,     3.7,2,   11.62,2,    0.01,2,    0.81,2,-999.000,9,-999.000,9,-999.0000,9,  -999.0,9, -999.00,9,-999.0000,9, -999.00,9, -999.00,9, -999.00,  -999.0,9, -999.00,9,     -999.0,9,  -999.0,9, 20170712,      927, -30.0799, 164.3400,        0.0,1,      0.060,1,      4.694,1,      0.145,1,     -999.0,     -999.0,9,     -999.0,9,     -999.0,9,     -999.0,9,    13.4083,2,     -999.0,9
320620170703,        P06,      39,          1,         25,         25,2,20170712,       0949,   -30.0800,   164.3398,       3300,   368.6,  14.8258,  35.3240,2,  35.3090,2, 195.5448,2, 195.3703,2,     2.7,2,    9.28,2,    0.01,2,    0.65,2,-999.000,9,-999.000,9,-999.0000,9,  -999.0,9, -999.00,9,-999.0000,9, -999.00,9, -999.00,9, -999.00,  -999.0,9, -999.00,9,     -999.0,9,  -999.0,9, 20170712,      929, -30.0799, 164.3400,        0.0,1,      0.060,1,      4.694,1,      0.141,1,     -999.0,     -999.0,9,     -999.0,9,     -999.0,9,     -999.0,9,    14.7716,2,     -999.0,9
320620170703,        P06,      39,          1,         26,         26,2,20170712,       0949,   -30.0800,   164.3398,       3300,   317.7,  16.1867,  35.4579,2,  35.4541,2, 194.2760,2, 194.8106,2,     2.1,2,    7.27,2,    0.01,2,    0.53,2,-999.000,9,-999.000,9,-999.0000,9,  2105.1,2, 2440.39,4,   7.8938,2, -999.00,9, -999.00,9, -999.00,  -999.0,9, -999.00,9,     -999.0,9,  -999.0,9, 20170712,      931, -30.0799, 164.3399,        0.0,1,      0.060,1,      4.691,1,      0.145,1,      24.99,     -999.0,9,     -999.0,9,     -999.0,9,     -999.0,9,    16.1824,2,     -999.0,9
320620170703,        P06,      39,          1,         27,         27,2,20170712,       0949,   -30.0800,   164.3398,       3300,   267.3,  17.4217,  35.5675,2,  35.5535,2, 196.5110,2, 197.2342,2,     1.4,2,    5.39,2,    0.01,2,    0.40,2,-999.000,9,-999.000,9,-999.0000,9,  -999.0,9, -999.00,9,-999.0000,9, -999.00,9, -999.00,9, -999.00,  -999.0,9, -999.00,9,     -999.0,9,  -999.0,9, 20170712,      933, -30.0799, 164.3397,        0.0,1,      0.059,1,      4.692,1,      0.144,1,     -999.0,     -999.0,9,     -999.0,9,     -999.0,9,     -999.0,9,    17.2934,2,     -999.0,9
320620170703,        P06,      39,          1,         28,         28,2,20170712,       0949,   -30.0800,   164.3398,       3300,   217.4,  18.7388,  35.6749,2,  35.6415,2, 195.1778,2, 194.8230,2,     1.1,2,    4.50,2,    0.02,2,    0.34,2,-999.000,9,-999.000,9,-999.0000,9,  2083.5,2, 2340.91,3,   7.9471,2, -999.00,9, -999.00,9, -999.00,  -999.0,9, -999.00,9,     -999.0,9,  -999.0,9, 20170712,      935, -30.0800, 164.3395,        0.0,1,      0.062,1,      4.683,1,      0.156,1,      24.97,     -999.0,9,     -999.0,9,     -999.0,9,     -999.0,9,    18.4805,2,     -999.0,9
320620170703,        P06,      39,          1,         29,         29,2,20170712,       0949,   -30.0800,   164.3398,       3300,   188.4,  19.4726,  35.7933,2,  35.7762,2, 220.0833,2, 218.1216,2,     0.4,2,    0.90,2,    0.27,2,    0.14,2,-999.000,9,-999.000,9,-999.0000,9,  -999.0,9, -999.00,9,-999.0000,9, -999.00,9, -999.00,9, -999.00,  -999.0,9, -999.00,9,     -999.0,9,  -999.0,9, 20170712,      937, -30.0800, 164.3396,        0.0,1,      0.076,1,      4.677,1,      0.164,1,     -999.0,     -999.0,9,     -999.0,9,     -999.0,9,     -999.0,9,    19.4046,2,     -999.0,9
320620170703,        P06,      39,          1,         30,         30,2,20170712,       0949,   -30.0800,   164.3398,       3300,   162.7,  19.5861,  35.8012,2,  35.7953,2, 219.6320,2, 219.3373,2,     0.4,2,    0.64,2,    0.38,2,    0.12,2,-999.000,9,-999.000,9,-999.0000,9,  2055.9,2, 2336.95,2,   8.0079,2, -999.00,9, -999.00,9, -999.00,  -999.0,9, -999.00,9,     -999.0,9,  -999.0,9, 20170712,      938, -30.0800, 164.3397,        0.0,1,      0.081,1,      4.676,1,      0.164,1,      25.02,     -999.0,9,     -999.0,9,     -999.0,9,     -999.0,9,    19.5639,2,     -999.0,9
320620170703,        P06,      39,          1,         31,         31,2,20170712,       0949,   -30.0800,   164.3398,       3300,   137.1,  19.6488,  35.8064,2,  35.7902,2, 218.4100,2, 217.5558,2,     0.4,2,    0.83,2,    0.33,2,    0.15,2,-999.000,9,-999.000,9,-999.0000,9,  -999.0,9, -999.00,9,-999.0000,9, -999.00,9, -999.00,9, -999.00,  -999.0,9, -999.00,9,     -999.0,9,  -999.0,9, 20170712,      940, -30.0800, 164.3398,        0.0,1,      0.096,1,      4.672,1,      0.163,1,     -999.0,     -999.0,9,     -999.0,9,     -999.0,9,     -999.0,9,    19.5771,2,     -999.0,9
320620170703,        P06,      39,          1,         32,         32,2,20170712,       0949,   -30.0800,   164.3398,       3300,   111.9,  19.7633,  35.8128,2,  35.8167,2, 219.4709,2, 221.6025,2,     0.4,2,    0.41,2,    0.24,2,    0.10,2,-999.000,9,-999.000,9,-999.0000,9,  2053.4,2, 2348.42,2,   8.0148,2, -999.00,9, -999.00,9, -999.00,  -999.0,9, -999.00,9,     -999.0,9,  -999.0,9, 20170712,      942, -30.0800, 164.3398,        0.0,1,      0.117,1,      4.664,1,      0.172,1,      24.95,     -999.0,9,     -999.0,9,     -999.0,9,     -999.0,9,    19.7762,2,     -999.0,9