BOTTLE,20230922CCHSIOCBG
EXPOCODE,SECT_ID,STNNBR,CASTNO,SAMPNO,BTLNBR,BTLNBR_FLAG_W,DATE,TIME,LATITUDE,LONGITUDE,DEPTH,CTDPRS,CTDTMP,CTDSAL,CTDSAL_FLAG_W,SALNTY,SALNTY_FLAG_W,CTDOXY,CTDOXY_FLAG_W,OXYGEN,OXYGEN_FLAG_W,SILCAT,SILCAT_FLAG_W,NITRAT,NITRAT_FLAG_W,NITRIT,NITRIT_FLAG_W,PHSPHT,PHSPHT_FLAG_W,CFC-11,CFC-11_FLAG_W,CFC-12,CFC-12_FLAG_W,SF6,SF6_FLAG_W,TCARBN,TCARBN_FLAG_W,ALKALI,ALKALI_FLAG_W,PH_TOT,PH_TOT_FLAG_W,DELC13,DELC13_FLAG_W,DELC14,DELC14_FLAG_W,C14ERR,DOC,DOC_FLAG_W,TDN,TDN_FLAG_W,TON,TON_FLAG_W,D15N_NO3,D15N_NO3_FLAG_W,BTL_DATE,BTL_TIME,BTL_LAT,BTL_LON,CTDRINKO,CTDRINKO_FLAG_W,CTDFLUOR,CTDFLUOR_FLAG_W,CTDXMISS,CTDXMISS_FLAG_W,CTDBACKSCATTER,CTDBACKSCATTER_FLAG_W,PH_TMP,D18O_NO3,D18O_NO3_FLAG_W,DOP,DOP_FLAG_W,HPLC,HPLC_FLAG_W,POC,POC_FLAG_W,REFTMP,REFTMP_FLAG_W,TDP,TDP_FLAG_W
,,,,,,,,,,,METERS,DBAR,ITS-90,PSS-78,,PSS-78,,UMOL/KG,,UMOL/KG,,UMOL/KG,,UMOL/KG,,UMOL/KG,,UMOL/KG,,PMOL/KG,,PMOL/KG,,FMOL/KG,,UMOL/KG,,UMOL/KG,,,,/MILLE,,/MILLE,,/MILLE,UMOL/KG,,UMOL/KG,,UMOL/KG,,/MILLE,,,,,,VOLTS,,VOLTS,,VOLTS,,VOLTS,,DEGC,/MILLE,,UMOL/KG,,,,UG/L,,ITS-90,,UMOL/KG,
320620170703,        P06,     134,          1,          1,          1,2,20170810,       1652,   -32.4999,  -154.9369,       5039,  5127.1,   1.1398,  34.7108,2,  34.7166,3, 203.6822,3, 206.1272,2,   120.6,2,   32.34,2,    0.00,2,    2.22,2,   0.074,2,   0.048,2,   0.0000,2,  2264.8,6, 2372.29,2,   7.6080,2, -999.00,9, -999.00,9, -999.00,    39.9,2, -999.00,9,     -999.0,1,  -999.0,9, 20170810,     1445, -32.4996,-154.9370,        0.0,1,      0.061,1,      4.695,1,      0.125,1,      25.02,     -999.0,9,     -999.0,9,     -999.0,9,     -999.0,9,     1.1405,2,     -999.0,9
320620170703,        P06,     134,          1,          2,          2,2,20170810,       1652,   -32.4999,  -154.9369,       5039,  4845.8,   1.1495,  34.7114,2,  34.7111,2, 203.6822,2, 204.9369,2,   119.7,2,   32.34,2,    0.00,2,    2.21,2,   0.058,2,   0.046,2,   0.0000,2,  2264.5,2, 2370.22,2,   7.6075,2, -999.00,9, -999.00,9, -999.00,  -999.0,9, -999.00,9,     -999.0,9,  -999.0,9, 20170810,     1452, -32.4997,-154.9368,        0.0,1,      0.060,1,      4.697,1,      0.123,1,      24.97,     -999.0,9,     -999.0,9,     -999.0,9,     -999.0,9,     1.1485,2,     -999.0,9
320620170703,        P06,     134,          1,          3,          3,2,20170810,       1652,   -32.4999,  -154.9369,       5039,  4553.9,   1.1878,  34.7113,2,  34.7109,2, 204.3462,2, 202.3918,2,   118.8,2,   32.39,2,    0.00,2,    2.22,2,   0.040,2,   0.035,2,   0.0000,2,  2265.3,2, 2372.82,2,   7.6061,2, -999.00,9, -999.00,9, -999.00,    39.4,2, -999.00,9,     -999.0,1,  -999.0,9, 20170810,     1458, -32.4997,-154.9367,        0.0,1,      0.060,1,      4.698,1,      0.124,1,      25.02,     -999.0,9,     -999.0,9,     -999.0,9,     -999.0,9,     1.1864,2,     -999.0,9
320620170703,        P06,     134,          1,          4,          4,2,20170810,       1652,   -32.4999,  -154.9369,       5039,  4167.6,   1.3024,  34.7096,2,  34.7087,2, 196.5928,2, 195.8718,2,   118.2,2,   32.69,2,    0.00,2,    2.25,2,   0.030,2,   0.029,2,   0.0000,2,  2269.9,2, 2377.32,2,   7.6019,2, -999.00,9, -999.00,9, -999.00,  -999.0,9, -999.00,9,     -999.0,9,  -999.0,9, 20170810,     1505, -32.4997,-154.9368,        0.0,1,      0.061,1,      4.699,1,      0.124,1,      25.00,     -999.0,9,     -999.0,9,     -999.0,9,     -999.0,9,     1.3013,2,     -999.0,9
320620170703,        P06,     134,          1,          5,          5,2,20170810,       1652,   -32.4999,  -154.9369,       5039,  3861.3,   1.4342,  34.7060,2,  34.7042,2, 187.5410,2, 187.2939,2,   119.0,2,   33.20,2,    0.00,2,    2.29,2,   0.025,2,   0.025,2,   0.0000,2,  2278.4,2, 2381.51,2,   7.5964,2, -999.00,9, -999.00,9, -999.00,    37.9,2, -999.00,9,     -999.0,1,  -999.0,9, 20170810,     1512, -32.4998,-154.9367,        0.0,1,      0.060,1,      4.698,1,      0.125,1,      25.01,     -999.0,9,     -999.0,9,     -999.0,9,     -999.0,9,     1.4415,2,     -999.0,9
320620170703,        P06,     134,          1,          6,          6,2,20170810,       1652,   -32.4999,  -154.9369,       5039,  3552.7,   1.5649,  34.6951,2,  34.6934,2, 175.8361,3, 174.0628,2,   123.5,2,   34.14,2,    0.00,2,    2.36,2,   0.024,2,   0.029,2,   0.0000,2,  2293.3,2, 2387.80,2,   7.5874,2, -999.00,9, -999.00,9, -999.00,    36.6,2, -999.00,9,     -999.0,1,  -999.0,9, 20170810,     1518, -32.4999,-154.9367,        0.0,1,      0.061,1,      4.699,1,      0.125,1,      25.00,     -999.0,9,     -999.0,9,     -999.0,9,     -999.0,9,     1.5667,2,     -999.0,9
320620170703,        P06,     134,          1,          7,          7,2,20170810,       1652,   -32.4999,  -154.9369,       5039,  3247.1,   1.6836,  34.6808,2,  34.6804,2, 162.9396,3, 161.1351,2,   129.1,2,   35.23,2,    0.00,2,    2.44,2,   0.022,2,   0.024,2,   0.0000,2,  2306.5,2, 2401.59,2,   7.5766,2, -999.00,9, -999.00,9, -999.00,    36.0,2, -999.00,9,     -999.0,1,  -999.0,9, 20170810,     1524, -32.4998,-154.9370,        0.0,1,      0.061,1,      4.698,1,      0.127,1,      25.01,     -999.0,9,     -999.0,9,     -999.0,9,     -999.0,9,     1.6838,2,     -999.0,9
320620170703,        P06,     134,          1,          8,          8,2,20170810,       1652,   -32.4999,  -154.9369,       5039,  2954.8,   1.7681,  34.6713,2,  34.6702,2, 155.9935,2, 154.8393,2,   130.1,2,   35.73,2,    0.00,2,    2.47,2,   0.021,2,   0.024,2,   0.0000,2,  2311.3,2, 2404.57,6,   7.5717,2, -999.00,9, -999.00,9, -999.00,  -999.0,9, -999.00,9,     -999.0,9,  -999.0,9, 20170810,     1530, -32.4998,-154.9370,        0.0,1,      0.062,1,      4.699,1,      0.128,1,      25.01,     -999.0,9,     -999.0,9,     -999.0,9,     -999.0,9,     1.7686,2,     -999.0,9
320620170703,        P06,     134,          1,          9,          9,2,20170810,       1652,   -32.4999,  -154.9369,       5039,  2699.4,   1.8397,  34.6640,2,  34.6639,2, 152.0825,2, 151.5953,2,   129.3,2,   35.96,2,    0.00,2,    2.49,2,   0.021,2,   0.022,2,   0.0000,2,  2313.7,2, 2401.67,2,   7.5689,2, -999.00,9, -999.00,9, -999.00,    36.6,2, -999.00,9,     -999.0,1,  -999.0,9, 20170810,     1536, -32.4999,-154.9367,        0.0,1,      0.062,1,      4.699,1,      0.128,1,      25.01,     -999.0,9,     -999.0,9,     -999.0,9,     -999.0,9,     1.8386,2,     -999.0,9
320620170703,        P06,     134,          1,         10,         10,2,20170810,       1652,   -32.4999,  -154.9369,       5039,  2445.1,   1.9257,  34.6564,2,  34.6563,2, 149.6805,2, 150.0438,2,   126.1,2,   36.03,2,    0.00,2,    2.50,2,   0.074,4,   0.153,4,   2.3480,4,  2312.9,6, 2401.98,2,   7.5667,2, -999.00,9, -999.00,9, -999.00,    35.6,2, -999.00,9,     -999.0,1,  -999.0,9, 20170810,     1541, -32.4999,-154.9367,        0.0,1,      0.061,1,      4.699,1,      0.129,1,      25.00,     -999.0,9,     -999.0,9,     -999.0,9,     -999.0,9,     1.9186,2,     -999.0,9
320620170703,        P06,     134,          1,         11,         11,2,20170810,       1652,   -32.4999,  -154.9369,       5039,  2191.5,   2.0740,  34.6441,2,  34.6539,2, 149.1146,3, 151.0758,2,   119.0,2,   35.88,2,    0.00,2,    2.49,2,   0.022,2,   0.023,2,   0.0000,2,  2305.7,2, 2393.08,2,   7.5657,2, -999.00,9, -999.00,9, -999.00,    36.8,2, -999.00,9,     -999.0,1,  -999.0,9, 20170810,     1547, -32.4998,-154.9369,        0.0,1,      0.061,1,      4.699,1,      0.131,1,      25.01,     -999.0,9,     -999.0,9,     -999.0,9,     -999.0,9,     2.0687,2,     -999.0,9
320620170703,        P06,     134,          1,         12,         12,2,20170810,       1652,   -32.4999,  -154.9369,       5039,  1957.9,   2.2472,  34.6268,2,  34.6274,2, 151.5562,3, 153.5303,2,   109.7,2,   35.57,2,    0.00,2,    2.47,2,   0.021,2,   0.025,2,   0.0000,2,  2295.8,2, 2384.04,2,   7.5669,2, -999.00,9, -999.00,9, -999.00,  -999.0,9, -999.00,9,     -999.0,9,  -999.0,9, 20170810,     1552, -32.4997,-154.9372,        0.0,1,      0.061,1,      4.699,1,      0.132,1,      25.00,     -999.0,9,     -999.0,9,     -999.0,9,     -999.0,9,     2.2473,2,     -999.0,9
320620170703,        P06,     134,          1,         13,         13,2,20170810,       1652,   -32.4999,  -154.9369,       5039,  1754.2,   2.4388,  34.6003,2,  34.5981,2, 155.4424,3, 157.4046,2,    98.0,2,   35.25,2,    0.00,2,    2.46,2,   0.026,2,   0.026,2,   0.0000,2,  2282.7,2, 2373.38,2,   7.5672,2, -999.00,9, -999.00,9, -999.00,    36.9,2, -999.00,9,     -999.0,1,  -999.0,9, 20170810,     1556, -32.4999,-154.9370,        0.0,1,      0.061,1,      4.700,1,      0.132,1,      25.01,     -999.0,9,     -999.0,9,     -999.0,9,     -999.0,9,     2.4480,2,     -999.0,9
320620170703,        P06,     134,          1,         14,         14,2,20170810,       1652,   -32.4999,  -154.9369,       5039,  1549.5,   2.7063,  34.5463,2,  34.5419,2, 163.5499,2, 164.9215,2,    80.7,2,   34.85,2,    0.00,2,    2.41,2,   0.051,2,   0.040,2,   0.0000,2,  2263.1,2, 2347.49,2,   7.5666,2, -999.00,9, -999.00,9, -999.00,  -999.0,9, -999.00,9,     -999.0,9,  -999.0,9, 20170810,     1601, -32.5000,-154.9367,        0.0,1,      0.061,1,      4.700,1,      0.132,1,      25.02,     -999.0,9,     -999.0,9,     -999.0,9,     -999.0,9,     2.7288,2,     -999.0,9
320620170703,        P06,     134,          1,         15,         15,2,20170810,       1652,   -32.4999,  -154.9369,       5039,  1347.6,   3.1745,  34.4463,2,  34.4406,2, 176.6679,2, 177.7836,2,    59.2,2,   34.15,2,    0.00,2,    2.36,2,   0.231,2,   0.132,2,   0.0000,2,  2236.0,2, 2323.27,2,   7.5751,2, -999.00,9, -999.00,9, -999.00,    38.5,2, -999.00,9,     -999.0,1,  -999.0,9, 20170810,     1606, -32.5001,-154.9366,        0.0,1,      0.061,1,      4.700,1,      0.132,1,      25.02,     -999.0,9,     -999.0,9,     -999.0,9,     -999.0,9,     3.1992,2,     -999.0,9
320620170703,        P06,     134,          1,         16,         16,2,20170810,       1652,   -32.4999,  -154.9369,       5039,  1276.3,   3.3981,  34.4123,2,  34.4082,2, 183.2397,2, 182.8355,2,    52.6,2,   33.71,2,    0.00,2,    2.32,2,   0.357,2,   0.191,2,   0.0000,2,  2227.4,2, 2318.50,2,   7.5816,2, -999.00,9, -999.00,9, -999.00,  -999.0,9, -999.00,9,     -999.0,9,  -999.0,9, 20170810,     1608, -32.5001,-154.9366,        0.0,1,      0.061,1,      4.699,1,      0.132,1,      25.01,     -999.0,9,     -999.0,9,     -999.0,9,     -999.0,9,     3.4336,2,     -999.0,9
320620170703,        P06,     134,          1,         17,         17,2,20170810,       1652,   -32.4999,  -154.9369,       5039,  1175.3,   3.8870,  34.3601,2,  34.3637,3, 192.8700,2, 191.8545,2,    42.1,2,   32.70,2,    0.00,2,    2.24,2,   0.699,2,   0.341,2,   0.0000,2,  2212.8,2, 2307.68,2,   7.5953,2, -999.00,9, -999.00,9, -999.00,    39.5,2, -999.00,9,     -999.0,1,  -999.0,9, 20170810,     1611, -32.5000,-154.9367,        0.0,1,      0.060,1,      4.699,1,      0.132,1,      25.02,     -999.0,9,     -999.0,9,     -999.0,9,     -999.0,9,     3.8514,2,     -999.0,9
320620170703,        P06,     134,          1,         18,         18,2,20170810,       1652,   -32.4999,  -154.9369,       5039,  1074.7,   4.5002,  34.3274,2,  34.3270,3, 203.7447,2, 202.8884,2,    30.9,2,   31.01,2,    0.00,2,    2.10,2,   1.280,2,   0.589,2,   0.1230,2,  2195.2,2, 2298.23,2,   7.6181,2, -999.00,9, -999.00,9, -999.00,  -999.0,9, -999.00,9,     -999.0,9,  -999.0,9, 20170810,     1614, -32.5000,-154.9368,        0.0,1,      0.059,1,      4.699,1,      0.130,1,      25.01,     -999.0,9,     -999.0,9,     -999.0,9,     -999.0,9,     4.4724,2,     -999.0,9
320620170703,        P06,     134,          1,         19,         19,2,20170810,       1652,   -32.4999,  -154.9369,       5039,   973.9,   5.1386,  34.3120,2,  34.3131,2, 215.1408,2, 213.8502,2,    21.9,2,   28.99,2,    0.00,2,    1.96,2,   1.734,2,   0.804,2,   0.2140,2,  2178.3,2, 2287.65,2,   7.6454,2, -999.00,9, -999.00,9, -999.00,    39.6,2, -999.00,9,     -999.0,1,  -999.0,9, 20170810,     1617, -32.5000,-154.9368,        0.0,1,      0.060,1,      4.698,1,      0.134,1,      25.01,     -999.0,9,     -999.0,9,     -999.0,9,     -999.0,9,     5.1027,2,     -999.0,9
320620170703,        P06,     134,          1,         20,         20,2,20170810,       1652,   -32.4999,  -154.9369,       5039,   872.2,   5.8000,  34.3118,2,  34.3091,2, 227.4415,2, 226.1452,2,    15.0,2,   26.81,2,    0.00,2,    1.81,2,   2.378,2,   1.148,2,   0.5200,2,  2164.6,2, 2286.61,2,   7.6713,2, -999.00,9, -999.00,9, -999.00,  -999.0,9, -999.00,9,     -999.0,9,  -999.0,9, 20170810,     1620, -32.4999,-154.9370,        0.0,1,      0.059,1,      4.698,1,      0.134,1,      25.02,     -999.0,9,     -999.0,9,     -999.0,9,     -999.0,9,     5.6890,2,     -999.0,9
320620170703,        P06,     134,          1,         21,         21,2,20170810,       1652,   -32.4999,  -154.9369,       5039,   770.0,   6.4124,  34.3345,2,  34.3276,2, 237.3410,2, 237.9689,2,     9.9,2,   24.42,2,    0.00,2,    1.64,2,   3.037,6,   1.504,6,   0.5220,6,  2151.6,2, 2284.59,2,   7.6957,2, -999.00,9, -999.00,9, -999.00,    40.5,2, -999.00,9,     -999.0,1,  -999.0,9, 20170810,     1623, -32.4999,-154.9370,        0.0,1,      0.059,1,      4.697,1,      0.135,1,      25.01,     -999.0,9,     -999.0,9,     -999.0,9,     -999.0,9,     6.2850,2,     -999.0,9
320620170703,        P06,     134,          1,         22,         22,2,20170810,       1652,   -32.4999,  -154.9369,       5039,   670.2,   6.9121,  34.3691,2,  34.3594,2, 242.2164,2, 243.0945,2,     7.5,2,   22.77,2,    0.00,2,    1.52,2,   3.611,2,   1.795,2,   0.8760,2,  2145.7,2, 2281.72,2,   7.7063,2, -999.00,9, -999.00,9, -999.00,    41.6,2, -999.00,9,     -999.0,1,  -999.0,9, 20170810,     1625, -32.5000,-154.9368,        0.0,1,      0.059,1,      4.697,1,      0.136,1,      25.03,     -999.0,9,     -999.0,9,     -999.0,9,     -999.0,9,     6.8045,2,     -999.0,9
320620170703,        P06,     134,          1,         23,         23,2,20170810,       1652,   -32.4999,  -154.9369,       5039,   567.5,   7.4155,  34.4115,2,  34.4094,2, 243.3913,2, 243.8337,2,     5.7,2,   20.95,2,    0.00,2,    1.41,2,   3.759,2,   1.963,2,   0.8650,2,  2143.7,2, 2281.14,6,   7.7162,2, -999.00,9, -999.00,9, -999.00,    43.4,2, -999.00,9,     -999.0,1,  -999.0,9, 20170810,     1628, -32.5001,-154.9366,        0.0,1,      0.059,1,      4.696,1,      0.135,1,      25.02,     -999.0,9,     -999.0,9,     -999.0,9,     -999.0,9,     7.4195,2,     -999.0,9
320620170703,        P06,     134,          1,         24,         24,2,20170810,       1652,   -32.4999,  -154.9369,       5039,   469.1,   7.9875,  34.4639,2,  34.4724,2, 240.2239,2, 241.1510,2,     4.3,2,   18.84,2,    0.00,2,    1.28,2,   3.720,2,   1.975,2,   1.2180,2,  2139.8,2, 2281.76,2,   7.7289,2, -999.00,9, -999.00,9, -999.00,    43.2,2,   21.80,2,     -999.0,1,  -999.0,9, 20170810,     1631, -32.4999,-154.9369,        0.0,1,      0.059,1,      4.694,1,      0.137,1,      25.01,     -999.0,9,     -999.0,9,     -999.0,9,     -999.0,9,     8.1019,2,     -999.0,9
320620170703,        P06,     134,          1,         25,         25,2,20170810,       1652,   -32.4999,  -154.9369,       5039,   367.6,   9.3634,  34.5832,2,  34.6134,2, 222.3968,2, 222.0847,2,     3.2,2,   15.74,2,    0.00,2,    1.09,2,   3.383,2,   1.794,2,   1.1110,2,  2133.8,6, 2287.13,2,   7.7519,2, -999.00,9, -999.00,9, -999.00,    43.4,2,   18.70,2,     -999.0,1,  -999.0,9, 20170810,     1634, -32.4999,-154.9371,        0.0,1,      0.060,1,      4.691,1,      0.137,1,      25.02,     -999.0,9,     -999.0,9,     -999.0,9,     -999.0,9,     9.7107,2,     -999.0,9
320620170703,        P06,     134,          1,         26,         26,2,20170810,       1652,   -32.4999,  -154.9369,       5039,   286.2,  12.0441,  34.9029,2,  34.9138,2, 212.8661,2, 213.9366,2,     2.0,2,   10.41,2,    0.00,2,    0.75,2,   2.918,2,   1.621,2,   1.1080,2,  2119.6,2, 2299.75,2,   7.8063,2, -999.00,9, -999.00,9, -999.00,    47.3,2,   13.60,2,     -999.0,1,  -999.0,9, 20170810,     1636, -32.4999,-154.9371,        0.0,1,      0.060,1,      4.689,1,      0.137,1,      25.03,     -999.0,9,     -999.0,9,     -999.0,9,     -999.0,9,    12.2074,2,     -999.0,9
320620170703,        P06,     134,          1,         27,         27,2,20170810,       1652,   -32.4999,  -154.9369,       5039,   236.0,  13.5421,  35.0793,2,  35.0894,2, 213.1910,2, 212.8278,2,     1.5,2,    7.50,2,    0.00,2,    0.58,2,   2.741,2,   1.537,2,   1.2780,2,  2109.8,2, 2308.60,2,   7.8460,2, -999.00,9, -999.00,9, -999.00,    48.4,2,   10.20,2,     -999.0,1,  -999.0,9, 20170810,     1638, -32.4999,-154.9369,        0.0,1,      0.060,1,      4.689,1,      0.134,1,      25.02,     -999.0,9,     -999.0,9,     -999.0,9,     -999.0,9,    13.6557,2,     -999.0,9
320620170703,        P06,     134,          1,         28,         28,2,20170810,       1652,   -32.4999,  -154.9369,       5039,   185.8,  15.0835,  35.2994,2,  35.2560,2, 218.5976,3, 215.9377,2,     0.9,2,    4.99,2,    0.02,2,    0.40,2,   2.626,2,   1.496,2,   1.1530,2,  2100.8,2, 2315.20,2,   7.8790,2, -999.00,9, -999.00,9, -999.00,    48.6,2,    8.80,2,     -999.0,1,  -999.0,9, 20170810,     1641, -32.5000,-154.9368,        0.0,1,      0.070,1,      4.684,1,      0.140,1,      25.02,     -999.0,9,     -999.0,9,     -999.0,9,     -999.0,9,    14.7899,2,     -999.0,9
320620170703,        P06,     134,          1,         29,         29,2,20170810,       1652,   -32.4999,  -154.9369,       5039,   134.7,  16.1081,  35.4036,2,  35.3835,2, 227.9074,2, 227.3336,2,     0.4,2,    2.09,2,    0.08,2,    0.23,2,   2.430,2,   1.418,2,   1.5550,2,  2084.6,2, 2322.31,2,   7.9234,2, -999.00,9, -999.00,9, -999.00,    54.6,2,    5.40,2,     -999.0,1,  -999.0,9, 20170810,     1643, -32.5000,-154.9368,        0.0,1,      0.080,1,      4.675,1,      0.147,1,      25.03,     -999.0,9,     -999.0,9,     -999.0,9,     -999.0,9,    15.9153,2,     -999.0,9
320620170703,        P06,     134,          1,         30,         30,2,20170810,       1652,   -32.4999,  -154.9369,       5039,    89.1,  16.7674,  35.4872,2,  35.5024,2, 237.5901,2, 238.2726,2,     0.2,2,    0.20,2,    0.03,2,    0.10,2,   2.342,2,   1.364,2,   1.3510,2,  2067.5,2, 2329.98,2,   7.9677,2, -999.00,9, -999.00,9, -999.00,    60.6,2,    4.30,2,     -999.0,1,  -999.0,9, 20170810,     1645, -32.4999,-154.9369,        0.0,1,      0.141,1,      4.652,1,      0.168,1,      25.02,     -999.0,9,     -999.0,9,     -999.0,9,     -999.0,9,    16.8065,2,     -999.0,9
320620170703,        P06,     134,          1,         31,         31,2,20170810,       1652,   -32.4999,  -154.9369,       5039,    64.5,  16.8513,  35.5022,2,  35.5125,2, 237.7926,2, 238.3700,2,     0.2,2,    0.18,2,    0.03,2,    0.11,2,   2.281,2,   1.328,2,   1.4290,2,  2066.4,2, 2332.98,2,   7.9678,2, -999.00,9, -999.00,9, -999.00,    64.0,3,    4.50,2,     -999.0,1,  -999.0,9, 20170810,     1647, -32.5000,-154.9369,        0.0,1,      0.155,1,      4.643,1,      0.176,1,      25.03,     -999.0,9,     -999.0,9,     -999.0,9,     -999.0,9,    16.8611,2,     -999.0,9
320620170703,        P06,     134,          1,         32,         32,2,20170810,       1652,   -32.4999,  -154.9369,       5039,    39.5,  16.8530,  35.5036,2,  35.5111,2, 237.6152,2, 238.2577,2,     0.2,2,    0.19,2,    0.03,2,    0.09,2,   2.320,2,   1.341,2,   1.5470,2,  2068.0,2, 2333.44,2,   7.9674,2, -999.00,9, -999.00,9, -999.00,    59.1,2,    4.30,2,     -999.0,1,  -999.0,9, 20170810,     1648, -32.5000,-154.9368,        0.0,1,      0.161,1,      4.644,1,      0.177,1,      25.02,     -999.0,9,     -999.0,9,     -999.0,9,     -999.0,9,    16.8654,2,     -999.0,9