BOTTLE,20230922CCHSIOCBG
EXPOCODE,SECT_ID,STNNBR,CASTNO,SAMPNO,BTLNBR,BTLNBR_FLAG_W,DATE,TIME,LATITUDE,LONGITUDE,DEPTH,CTDPRS,CTDTMP,CTDSAL,CTDSAL_FLAG_W,SALNTY,SALNTY_FLAG_W,CTDOXY,CTDOXY_FLAG_W,OXYGEN,OXYGEN_FLAG_W,SILCAT,SILCAT_FLAG_W,NITRAT,NITRAT_FLAG_W,NITRIT,NITRIT_FLAG_W,PHSPHT,PHSPHT_FLAG_W,CFC-11,CFC-11_FLAG_W,CFC-12,CFC-12_FLAG_W,SF6,SF6_FLAG_W,TCARBN,TCARBN_FLAG_W,ALKALI,ALKALI_FLAG_W,PH_TOT,PH_TOT_FLAG_W,DELC13,DELC13_FLAG_W,DELC14,DELC14_FLAG_W,C14ERR,DOC,DOC_FLAG_W,TDN,TDN_FLAG_W,TON,TON_FLAG_W,D15N_NO3,D15N_NO3_FLAG_W,BTL_DATE,BTL_TIME,BTL_LAT,BTL_LON,CTDRINKO,CTDRINKO_FLAG_W,CTDFLUOR,CTDFLUOR_FLAG_W,CTDXMISS,CTDXMISS_FLAG_W,CTDBACKSCATTER,CTDBACKSCATTER_FLAG_W,PH_TMP,D18O_NO3,D18O_NO3_FLAG_W,DOP,DOP_FLAG_W,HPLC,HPLC_FLAG_W,POC,POC_FLAG_W,REFTMP,REFTMP_FLAG_W,TDP,TDP_FLAG_W
,,,,,,,,,,,METERS,DBAR,ITS-90,PSS-78,,PSS-78,,UMOL/KG,,UMOL/KG,,UMOL/KG,,UMOL/KG,,UMOL/KG,,UMOL/KG,,PMOL/KG,,PMOL/KG,,FMOL/KG,,UMOL/KG,,UMOL/KG,,,,/MILLE,,/MILLE,,/MILLE,UMOL/KG,,UMOL/KG,,UMOL/KG,,/MILLE,,,,,,VOLTS,,VOLTS,,VOLTS,,VOLTS,,DEGC,/MILLE,,UMOL/KG,,,,UG/L,,ITS-90,,UMOL/KG,
320620170703,        P06,      29,          1,          1,         37,2,20170710,       1411,   -30.0805,   160.0008,       1655,  1663.5,   2.9753,  34.5924,2,  34.5912,2, 153.2625,2, 153.3328,2,    92.2,2,   34.55,2,    0.00,2,    2.37,2,   0.082,2,   0.055,2,   0.0000,2,  2279.4,6, 2362.54,6,   7.5742,2, -999.00,9, -999.00,9, -999.00,    38.8,2, -999.00,9,     -999.0,1,  -999.0,1, 20170710,     1307, -30.0800, 159.9999,        0.0,1,      0.061,1,      4.692,1,      0.179,1,      25.05,     -999.0,1,     -999.0,9,     -999.0,9,     -999.0,9,     2.9746,2,     -999.0,9
320620170703,        P06,      29,          1,          2,          2,2,20170710,       1411,   -30.0805,   160.0008,       1655,  1618.1,   2.9951,  34.5905,2,  34.5887,2, 152.7825,2, 153.0112,2,    91.9,2,   34.52,2,    0.00,2,    2.38,2,-999.000,9,-999.000,9,-999.0000,9,  2279.4,2, 2362.38,2,   7.5730,2, -999.00,9, -999.00,9, -999.00,    38.5,2, -999.00,9,     -999.0,1,  -999.0,1, 20170710,     1309, -30.0799, 159.9998,        0.0,1,      0.061,1,      4.697,1,      0.173,1,      25.05,     -999.0,1,     -999.0,9,     -999.0,9,     -999.0,9,     2.9945,2,     -999.0,9
320620170703,        P06,      29,          1,          3,         38,2,20170710,       1411,   -30.0805,   160.0008,       1655,  1515.8,   3.4162,  34.5547,2,  34.5547,2, 157.1180,2, 156.5957,2,    75.4,4,   33.40,4,    0.01,4,    2.30,4,   0.125,2,   0.087,2,   0.0000,2,  2266.0,2, 2351.12,2,   7.5816,2, -999.00,9, -999.00,9, -999.00,    36.2,2, -999.00,9,     -999.0,1,  -999.0,1, 20170710,     1313, -30.0799, 159.9995,        0.0,1,      0.062,1,      4.702,1,      0.153,1,      25.05,     -999.0,1,     -999.0,9,     -999.0,9,     -999.0,9,     3.3897,2,     -999.0,9
320620170703,        P06,      29,          1,          4,          4,2,20170710,       1411,   -30.0805,   160.0008,       1655,  1414.3,   3.6704,  34.5344,2,  34.5343,2, 160.2443,2, 160.4612,2,    75.3,2,   33.38,2,    0.00,2,    2.29,2,-999.000,9,-999.000,9,-999.0000,9,  2256.7,2, 2346.07,3,   7.5870,2, -999.00,9, -999.00,9, -999.00,    38.2,2, -999.00,9,     -999.0,1,  -999.0,1, 20170710,     1316, -30.0799, 159.9994,        0.0,1,      0.061,1,      4.702,1,      0.151,1,      25.04,     -999.0,1,     -999.0,9,     -999.0,9,     -999.0,9,     3.6441,2,     -999.0,9
320620170703,        P06,      29,          1,          5,         39,2,20170710,       1411,   -30.0805,   160.0008,       1655,  1312.5,   4.0648,  34.5071,2,  34.5058,2, 167.5548,2, 167.3990,2,    65.1,2,   32.45,2,    0.00,2,    2.23,2,   0.306,2,   0.196,2,   0.0000,2,  2242.6,2, 2332.02,2,   7.5987,2, -999.00,9, -999.00,9, -999.00,    39.8,2, -999.00,9,     -999.0,1,  -999.0,1, 20170710,     1320, -30.0799, 159.9995,        0.0,1,      0.061,1,      4.705,1,      0.144,1,      25.04,     -999.0,1,     -999.0,9,     -999.0,9,     -999.0,9,     4.0424,2,     -999.0,9
320620170703,        P06,      29,          1,          6,          6,2,20170710,       1411,   -30.0805,   160.0008,       1655,  1210.2,   4.5943,  34.4778,2,  34.4756,2, 176.0975,2, 176.0200,2,    52.2,2,   31.20,2,    0.00,2,    2.12,2,-999.000,9,-999.000,9,-999.0000,9,  2222.5,2, 2316.22,2,   7.6137,2, -999.00,9, -999.00,9, -999.00,    39.3,2, -999.00,9,     -999.0,1,  -999.0,1, 20170710,     1323, -30.0799, 159.9996,        0.0,1,      0.060,1,      4.705,1,      0.141,1,      25.04,     -999.0,1,     -999.0,9,     -999.0,9,     -999.0,9,     4.5902,2,     -999.0,9
320620170703,        P06,      29,          1,          7,         40,2,20170710,       1411,   -30.0805,   160.0008,       1655,  1110.9,   5.1055,  34.4569,2,  34.4577,2, 182.6185,2, 182.7971,2,    42.1,2,   30.01,2,    0.00,2,    2.03,2,   0.691,2,   0.377,2,   0.1330,2,  2208.9,2, 2308.95,2,   7.6270,2, -999.00,9, -999.00,9, -999.00,    39.0,2, -999.00,9,     -999.0,1,  -999.0,1, 20170710,     1326, -30.0799, 159.9996,        0.0,1,      0.059,1,      4.705,1,      0.141,1,      25.04,     -999.0,1,     -999.0,9,     -999.0,9,     -999.0,9,     5.0988,2,     -999.0,9
320620170703,        P06,      29,          1,          8,          8,2,20170710,       1411,   -30.0805,   160.0008,       1655,  1009.3,   5.6813,  34.4466,2,  34.4430,2, 190.5634,2, 190.6328,2,    32.3,2,   28.55,2,    0.00,2,    1.92,2,-999.000,9,-999.000,9,-999.0000,9,  2194.6,2, 2296.72,2,   7.6440,2, -999.00,9, -999.00,9, -999.00,    41.7,2, -999.00,9,     -999.0,1,  -999.0,1, 20170710,     1329, -30.0800, 159.9998,        0.0,1,      0.061,1,      4.706,1,      0.141,1,      25.04,     -999.0,1,     -999.0,9,     -999.0,9,     -999.0,9,     5.6576,2,     -999.0,9
320620170703,        P06,      29,          1,          9,         41,2,20170710,       1411,   -30.0805,   160.0008,       1655,   908.9,   6.4706,  34.4596,2,  34.4563,2, 198.1878,2, 198.1559,2,    22.4,2,   26.45,2,    0.01,2,    1.76,2,   1.462,2,   0.740,2,   0.1790,2,  2176.5,2, 2290.02,2,   7.6650,2, -999.00,9, -999.00,9, -999.00,    39.5,2, -999.00,9,     -999.0,1,  -999.0,1, 20170710,     1332, -30.0800, 159.9999,        0.0,1,      0.059,1,      4.704,1,      0.140,1,      25.03,     -999.0,1,     -999.0,9,     -999.0,9,     -999.0,9,     6.4612,2,     -999.0,9
320620170703,        P06,      29,          1,         10,         10,2,20170710,       1411,   -30.0805,   160.0008,       1655,   807.5,   7.3922,  34.5202,2,  34.5131,2, 197.1455,2, 197.4786,2,    16.6,2,   24.58,2,    0.00,2,    1.64,2,-999.000,9,-999.000,9,-999.0000,9,  2170.2,6, 2285.97,2,   7.6806,2, -999.00,9, -999.00,9, -999.00,    41.1,2, -999.00,9,     -999.0,1,  -999.0,1, 20170710,     1335, -30.0800, 160.0000,        0.0,1,      0.060,1,      4.702,1,      0.142,1,      25.04,     -999.0,1,     -999.0,9,     -999.0,9,     -999.0,9,     7.3437,2,     -999.0,9
320620170703,        P06,      29,          1,         11,         42,2,20170710,       1411,   -30.0805,   160.0008,       1655,   706.2,   8.4489,  34.6078,2,  34.6011,2, 198.9554,2, 198.9414,2,    11.2,2,   22.01,2,    0.00,2,    1.46,2,   2.199,2,   1.174,2,   0.4510,2,  2158.3,2, 2283.70,2,   7.7030,2, -999.00,9, -999.00,9, -999.00,    42.0,2, -999.00,9,     -999.0,1,  -999.0,1, 20170710,     1339, -30.0800, 160.0002,        0.0,1,      0.060,1,      4.700,1,      0.146,1,      25.03,     -999.0,1,     -999.0,9,     -999.0,9,     -999.0,9,     8.4307,2,     -999.0,9
320620170703,        P06,      29,          1,         12,         12,2,20170710,       1411,   -30.0805,   160.0008,       1655,   604.5,   9.9842,  34.7811,2,  34.7689,3, 204.4181,2, 204.1261,2,     6.6,2,   18.14,2,    0.00,2,    1.19,2,-999.000,9,-999.000,9,-999.0000,9,  2148.6,2, 2288.65,2,   7.7398,2, -999.00,9, -999.00,9, -999.00,    46.2,2, -999.00,9,     -999.0,1,  -999.0,1, 20170710,     1342, -30.0801, 160.0002,        0.0,1,      0.059,1,      4.697,1,      0.147,1,      25.02,     -999.0,1,     -999.0,9,     -999.0,9,     -999.0,9,     9.9435,2,     -999.0,9
320620170703,        P06,      29,          1,         13,         43,2,20170710,       1411,   -30.0805,   160.0008,       1655,   504.1,  11.5391,  34.9809,2,  34.9740,2, 201.0857,2, 200.4633,2,     5.0,2,   14.74,2,    0.01,2,    0.98,2,   2.405,2,   1.424,2,   0.7310,2,  2137.9,2, 2296.32,2,   7.7785,2, -999.00,9, -999.00,9, -999.00,    45.3,2, -999.00,9,     -999.0,1,  -999.0,1, 20170710,     1345, -30.0801, 160.0003,        0.0,1,      0.060,1,      4.696,1,      0.146,1,      25.04,     -999.0,1,     -999.0,9,     -999.0,9,     -999.0,9,    11.5320,2,     -999.0,9
320620170703,        P06,      29,          1,         14,         14,2,20170710,       1411,   -30.0805,   160.0008,       1655,   453.8,  12.4597,  35.0589,2,  35.0659,2, 192.9095,2, 193.6120,2,     4.5,2,   13.45,2,    0.01,2,    1.09,4,-999.000,9,-999.000,9,-999.0000,9,  2133.1,2, 2300.21,2,   7.7993,2, -999.00,9, -999.00,9, -999.00,  -999.0,9, -999.00,9,     -999.0,9,  -999.0,1, 20170710,     1347, -30.0801, 160.0004,        0.0,1,      0.060,1,      4.696,1,      0.148,1,      25.03,     -999.0,1,     -999.0,9,     -999.0,9,     -999.0,9,    12.5084,2,     -999.0,9
320620170703,        P06,      29,          1,         15,         15,2,20170710,       1411,   -30.0805,   160.0008,       1655,   403.5,  13.6678,  35.2257,2,  35.2272,3, 198.4747,2, 198.1095,2,     3.3,2,   10.87,2,    0.01,2,    0.73,2,   2.416,2,   1.386,2,   0.8680,2,  2122.9,2, 2307.43,2,   7.8353,2, -999.00,9, -999.00,9, -999.00,    46.0,2, -999.00,9,     -999.0,1,  -999.0,1, 20170710,     1349, -30.0802, 160.0005,        0.0,1,      0.060,1,      4.695,1,      0.145,1,      25.04,     -999.0,1,     -999.0,9,     -999.0,9,     -999.0,9,    13.7447,2,     -999.0,9
320620170703,        P06,      29,          1,         16,         16,2,20170710,       1411,   -30.0805,   160.0008,       1655,   352.9,  14.7625,  35.3225,2,  35.3234,2, 194.1558,2, 193.9925,2,     2.7,2,    9.44,2,    0.01,2,    0.63,2,-999.000,9,-999.000,9,-999.0000,9,  2115.7,2, 2310.56,2,   7.8576,2, -999.00,9, -999.00,9, -999.00,  -999.0,9, -999.00,9,     -999.0,9,  -999.0,1, 20170710,     1351, -30.0802, 160.0006,        0.0,1,      0.059,1,      4.694,1,      0.146,1,      25.01,     -999.0,1,     -999.0,1,     -999.0,9,     -999.0,9,    14.8215,2,       0.68,2
320620170703,        P06,      29,          1,         17,         17,2,20170710,       1411,   -30.0805,   160.0008,       1655,   302.3,  16.0735,  35.4385,2,  35.4628,2, 190.9082,2, 191.7679,2,     2.1,2,    7.66,2,    0.01,2,    0.55,2,   2.286,2,   1.316,2,   0.9090,2,  2104.1,2, 2317.80,2,   7.8894,2, -999.00,9, -999.00,9, -999.00,    50.0,2, -999.00,9,     -999.0,1,  -999.0,1, 20170710,     1353, -30.0802, 160.0007,        0.0,1,      0.060,1,      4.693,1,      0.147,1,      25.02,     -999.0,1,     -999.0,1,     -999.0,9,     -999.0,9,    16.1695,2,       0.68,2
320620170703,        P06,      29,          1,         18,         18,2,20170710,       1411,   -30.0805,   160.0008,       1655,   251.5,  17.1442,  35.5344,2,  35.5316,2, 194.3849,2, 194.8089,2,     1.4,2,    5.81,2,    0.01,2,    0.41,2,-999.000,9,-999.000,9,-999.0000,9,  2095.0,2, 2323.32,2,   7.9161,2, -999.00,9, -999.00,9, -999.00,    47.9,2, -999.00,9,     -999.0,1,  -999.0,1, 20170710,     1355, -30.0804, 160.0007,        0.0,1,      0.060,1,      4.694,1,      0.141,1,      25.04,     -999.0,1,     -999.0,1,     -999.0,9,     -999.0,9,    17.1201,2,       0.47,2
320620170703,        P06,      29,          1,         19,         19,2,20170710,       1411,   -30.0805,   160.0008,       1655,   201.3,  18.1409,  35.6252,2,  35.6214,2, 197.0577,2, 196.7214,2,     1.0,2,    4.31,2,    0.01,2,    0.33,2,   2.079,2,   1.253,2,   0.9920,2,  2086.7,2, 2327.46,6,   7.9399,2, -999.00,9, -999.00,9, -999.00,    49.4,2,    7.50,2,     -999.0,1,  -999.0,1, 20170710,     1357, -30.0804, 160.0008,        0.0,1,      0.063,1,      4.690,1,      0.145,1,      25.03,     -999.0,1,     -999.0,1,     -999.0,9,     -999.0,9,    18.2041,2,       0.43,2
320620170703,        P06,      29,          1,         20,         20,2,20170710,       1411,   -30.0805,   160.0008,       1655,   176.5,  18.8277,  35.6669,2,  35.6802,2, 199.5246,3, 197.4598,2,     0.7,2,    3.51,2,    0.02,2,    0.26,2,-999.000,9,-999.000,9,-999.0000,9,  2079.6,2, 2330.99,2,   7.9575,2, -999.00,9, -999.00,9, -999.00,    52.9,2,    6.80,2,     -999.0,1,  -999.0,1, 20170710,     1359, -30.0804, 160.0008,        0.0,1,      0.065,1,      4.688,1,      0.150,1,      25.02,     -999.0,1,     -999.0,1,     -999.0,9,     -999.0,9,    18.9373,2,       0.46,2
320620170703,        P06,      29,          1,         21,         21,2,20170710,       1411,   -30.0805,   160.0008,       1655,   150.7,  19.2898,  35.7077,2,  35.7100,2, 197.1472,2, 197.0376,2,     0.6,2,    3.05,2,    0.03,2,    0.24,2,   1.995,2,   1.202,2,   0.9060,2,  2076.8,2, 2332.25,2,   7.9672,2, -999.00,9, -999.00,9, -999.00,    52.8,2,    6.40,2,     -999.0,1,  -999.0,1, 20170710,     1401, -30.0804, 160.0008,        0.0,1,      0.071,1,      4.685,1,      0.154,1,      25.02,     -999.0,1,     -999.0,1,     -999.0,9,     -999.0,9,    19.4645,2,       0.42,2
320620170703,        P06,      29,          1,         22,         22,2,20170710,       1411,   -30.0805,   160.0008,       1655,   124.9,  20.1194,  35.7892,2,  35.8143,3, 209.6650,2, 211.2244,2,     0.4,2,    1.09,2,    0.11,2,    0.13,2,-999.000,9,-999.000,9,-999.0000,9,  2058.0,2, 2337.45,2,   8.0773,2, -999.00,9, -999.00,9, -999.00,    57.1,2,    4.80,2,     -999.0,1,  -999.0,1, 20170710,     1403, -30.0804, 160.0007,        0.0,1,      0.085,1,      4.674,1,      0.167,1,      25.03,     -999.0,1,     -999.0,1,     -999.0,9,     -999.0,9,    20.4012,2,       0.22,2
320620170703,        P06,      29,          1,         23,         23,2,20170710,       1411,   -30.0805,   160.0008,       1655,   100.7,  20.6399,  35.8689,2,  35.8657,2, 218.8645,2, 218.6231,2,     0.3,2,    0.20,2,    0.06,2,    0.05,2,   1.846,2,   1.133,2,   1.0130,2,  2049.9,2, 2344.10,2,   8.0269,2, -999.00,9, -999.00,9, -999.00,    61.1,2,    4.50,2,     -999.0,1,  -999.0,1, 20170710,     1404, -30.0804, 160.0007,        0.0,1,      0.176,1,      4.626,1,      0.210,1,      25.02,     -999.0,1,     -999.0,1,     -999.0,9,     -999.0,9,    20.6190,2,       0.23,2
320620170703,        P06,      29,          1,         24,         24,2,20170710,       1411,   -30.0805,   160.0008,       1655,    75.2,  20.6336,  35.8683,2,  35.8669,2, 218.8492,2, 218.7397,2,     0.2,2,    0.19,2,    0.05,2,    0.05,2,-999.000,9,-999.000,9,-999.0000,9,  2048.5,2, 2341.45,2,   8.0272,2, -999.00,9, -999.00,9, -999.00,    61.9,2,    4.80,2,     -999.0,1,  -999.0,1, 20170710,     1406, -30.0804, 160.0008,        0.0,1,      0.174,1,      4.628,1,      0.205,1,      25.00,     -999.0,1,     -999.0,1,     -999.0,9,     -999.0,9,    20.6172,2,       0.23,2
320620170703,        P06,      29,          1,         25,         25,2,20170710,       1411,   -30.0805,   160.0008,       1655,    49.7,  20.6297,  35.8684,2,  35.8661,2, 218.8924,2, 218.5914,2,     0.2,2,    0.19,2,    0.05,2,    0.07,2,   1.897,2,   1.141,2,   0.9670,2,  2048.9,2, 2346.60,2,   8.0273,2, -999.00,9, -999.00,9, -999.00,    60.4,2,    4.50,2,     -999.0,1,  -999.0,1, 20170710,     1408, -30.0805, 160.0008,        0.0,1,      0.175,1,      4.628,1,      0.207,1,      25.01,     -999.0,1,     -999.0,1,     -999.0,9,     -999.0,9,    20.6119,2,       0.26,2
320620170703,        P06,      29,          1,         26,         26,2,20170710,       1411,   -30.0805,   160.0008,       1655,    24.6,  20.6262,  35.8681,2,  35.8692,2, 218.9576,2, 218.7735,2,     0.2,2,    0.20,2,    0.05,2,    0.06,2,-999.000,9,-999.000,9,-999.0000,9,  2049.1,2, 2348.97,2,   8.0275,2, -999.00,9, -999.00,9, -999.00,    58.8,2,    4.60,2,     -999.0,1,  -999.0,1, 20170710,     1409, -30.0805, 160.0008,        0.0,1,      0.174,1,      4.627,1,      0.208,1,      25.02,     -999.0,1,     -999.0,1,     -999.0,9,     -999.0,9,    20.6009,2,       0.23,2
320620170703,        P06,      29,          1,         27,         27,2,20170710,       1411,   -30.0805,   160.0008,       1655,     5.1,  20.6383,  35.8682,2,  35.8667,2, 218.9590,2, 218.7555,2,     0.3,2,    0.19,2,    0.05,2,    0.06,2,   1.878,2,   1.135,2,   1.0200,2,  2050.8,6, 2346.08,2,   8.0279,2, -999.00,9, -999.00,9, -999.00,    62.1,2,    4.40,2,     -999.0,1,  -999.0,1, 20170710,     1411, -30.0805, 160.0008,        0.0,1,      0.180,1,      4.629,1,      0.208,1,      24.97,     -999.0,1,     -999.0,1,     -999.0,9,     -999.0,9,    20.5969,2,       0.28,2