BOTTLE,20230922CCHSIOCBG
EXPOCODE,SECT_ID,STNNBR,CASTNO,SAMPNO,BTLNBR,BTLNBR_FLAG_W,DATE,TIME,LATITUDE,LONGITUDE,DEPTH,CTDPRS,CTDTMP,CTDSAL,CTDSAL_FLAG_W,SALNTY,SALNTY_FLAG_W,CTDOXY,CTDOXY_FLAG_W,OXYGEN,OXYGEN_FLAG_W,SILCAT,SILCAT_FLAG_W,NITRAT,NITRAT_FLAG_W,NITRIT,NITRIT_FLAG_W,PHSPHT,PHSPHT_FLAG_W,CFC-11,CFC-11_FLAG_W,CFC-12,CFC-12_FLAG_W,SF6,SF6_FLAG_W,TCARBN,TCARBN_FLAG_W,ALKALI,ALKALI_FLAG_W,PH_TOT,PH_TOT_FLAG_W,DELC13,DELC13_FLAG_W,DELC14,DELC14_FLAG_W,C14ERR,DOC,DOC_FLAG_W,TDN,TDN_FLAG_W,TON,TON_FLAG_W,D15N_NO3,D15N_NO3_FLAG_W,BTL_DATE,BTL_TIME,BTL_LAT,BTL_LON,CTDRINKO,CTDRINKO_FLAG_W,CTDFLUOR,CTDFLUOR_FLAG_W,CTDXMISS,CTDXMISS_FLAG_W,CTDBACKSCATTER,CTDBACKSCATTER_FLAG_W,PH_TMP,D18O_NO3,D18O_NO3_FLAG_W,DOP,DOP_FLAG_W,HPLC,HPLC_FLAG_W,POC,POC_FLAG_W,REFTMP,REFTMP_FLAG_W,TDP,TDP_FLAG_W
,,,,,,,,,,,METERS,DBAR,ITS-90,PSS-78,,PSS-78,,UMOL/KG,,UMOL/KG,,UMOL/KG,,UMOL/KG,,UMOL/KG,,UMOL/KG,,PMOL/KG,,PMOL/KG,,FMOL/KG,,UMOL/KG,,UMOL/KG,,,,/MILLE,,/MILLE,,/MILLE,UMOL/KG,,UMOL/KG,,UMOL/KG,,/MILLE,,,,,,VOLTS,,VOLTS,,VOLTS,,VOLTS,,DEGC,/MILLE,,UMOL/KG,,,,UG/L,,ITS-90,,UMOL/KG,
320620170703,        P06,      64,          1,         33,         33,2,20170717,       0550,   -30.0798,   171.9994,       2754,    65.0,  19.0128,  35.8093,2,  35.8038,2, 223.3254,2, 223.6552,2,     0.3,2,    0.94,2,    0.16,2,    0.13,2,   1.878,2,   1.305,2,-999.0000,5,  2059.2,2, 2341.67,2,   8.0001,2, -999.00,9, -999.00,9, -999.00,    61.2,2,    5.30,2,     -999.0,1,  -999.0,1, 20170717,      545, -30.0798, 171.9994,        0.0,1,      0.225,1,      3.765,1,      0.229,1,      25.03,     -999.0,1,     -999.0,1,     -999.0,9,     -999.0,9,    18.9591,2,       0.26,2
320620170703,        P06,      64,          1,         34,         34,2,20170717,       0550,   -30.0798,   171.9994,       2754,    41.3,  19.0755,  35.8151,2,  35.8139,2, 223.2979,2, 223.9304,2,     0.2,2,    0.91,2,    0.16,2,    0.13,2,-999.000,9,-999.000,9,-999.0000,9,  2060.5,2, 2349.43,2,   8.0016,2, -999.00,9, -999.00,9, -999.00,    58.5,2,    5.30,2,     -999.0,1,  -999.0,1, 20170717,      546, -30.0798, 171.9994,        0.0,1,      0.253,1,      3.461,1,      0.234,1,      25.02,     -999.0,1,     -999.0,1,     -999.0,9,     -999.0,9,    19.0116,2,       0.31,2
320620170703,        P06,      64,          1,         35,         35,2,20170717,       0550,   -30.0798,   171.9994,       2754,    21.9,  19.0941,  35.8166,2,  35.8165,2, 224.2835,2, 224.4831,2,     0.3,2,    0.89,2,    0.15,2,    0.13,2,   1.838,2,   1.282,2,-999.0000,5,  2059.2,2, 2342.53,3,   8.0019,2, -999.00,9, -999.00,9, -999.00,    57.4,2,    5.30,2,     -999.0,1,  -999.0,1, 20170717,      548, -30.0798, 171.9994,        0.0,1,      0.214,1,      3.345,1,      0.232,1,      25.02,     -999.0,1,     -999.0,1,     -999.0,9,     -999.0,9,    19.0510,2,     -999.0,9
320620170703,        P06,      64,          1,         36,         36,2,20170717,       0550,   -30.0798,   171.9994,       2754,     5.5,  19.0913,  35.8169,2,  35.8147,2, 224.2305,2, 224.5714,2,     0.3,2,    0.90,2,    0.15,2,    0.14,2,   1.618,4,   1.252,2,-999.0000,5,  2060.5,6, 2332.66,2,   8.0017,2,    0.77,2,   45.27,2,    4.28,    58.4,2,    5.40,2,     -999.0,1,  -999.0,1, 20170717,      550, -30.0798, 171.9994,        0.0,1,      0.188,1,      1.975,1,      0.214,1,      25.06,     -999.0,1,     -999.0,1,     -999.0,9,     -999.0,9,    19.0315,2,       0.15,2