BOTTLE,20230922CCHSIOCBG
EXPOCODE,SECT_ID,STNNBR,CASTNO,SAMPNO,BTLNBR,BTLNBR_FLAG_W,DATE,TIME,LATITUDE,LONGITUDE,DEPTH,CTDPRS,CTDTMP,CTDSAL,CTDSAL_FLAG_W,SALNTY,SALNTY_FLAG_W,CTDOXY,CTDOXY_FLAG_W,OXYGEN,OXYGEN_FLAG_W,SILCAT,SILCAT_FLAG_W,NITRAT,NITRAT_FLAG_W,NITRIT,NITRIT_FLAG_W,PHSPHT,PHSPHT_FLAG_W,CFC-11,CFC-11_FLAG_W,CFC-12,CFC-12_FLAG_W,SF6,SF6_FLAG_W,TCARBN,TCARBN_FLAG_W,ALKALI,ALKALI_FLAG_W,PH_TOT,PH_TOT_FLAG_W,DELC13,DELC13_FLAG_W,DELC14,DELC14_FLAG_W,C14ERR,DOC,DOC_FLAG_W,TDN,TDN_FLAG_W,TON,TON_FLAG_W,D15N_NO3,D15N_NO3_FLAG_W,BTL_DATE,BTL_TIME,BTL_LAT,BTL_LON,CTDRINKO,CTDRINKO_FLAG_W,CTDFLUOR,CTDFLUOR_FLAG_W,CTDXMISS,CTDXMISS_FLAG_W,CTDBACKSCATTER,CTDBACKSCATTER_FLAG_W,PH_TMP,D18O_NO3,D18O_NO3_FLAG_W,DOP,DOP_FLAG_W,HPLC,HPLC_FLAG_W,POC,POC_FLAG_W,REFTMP,REFTMP_FLAG_W,TDP,TDP_FLAG_W
,,,,,,,,,,,METERS,DBAR,ITS-90,PSS-78,,PSS-78,,UMOL/KG,,UMOL/KG,,UMOL/KG,,UMOL/KG,,UMOL/KG,,UMOL/KG,,PMOL/KG,,PMOL/KG,,FMOL/KG,,UMOL/KG,,UMOL/KG,,,,/MILLE,,/MILLE,,/MILLE,UMOL/KG,,UMOL/KG,,UMOL/KG,,/MILLE,,,,,,VOLTS,,VOLTS,,VOLTS,,VOLTS,,DEGC,/MILLE,,UMOL/KG,,,,UG/L,,ITS-90,,UMOL/KG,
320620170703,        P06,     102,          1,          1,          1,2,20170729,       2226,   -32.5003,  -173.3827,       5853,  5966.5,   1.1620,  34.7075,2,  34.7058,2, 206.6344,2, 206.7550,2,   122.6,2,   32.08,2,    0.00,2,    2.23,2,   0.170,2,   0.094,2,   0.0000,2,  2263.8,6, 2360.79,2,   7.6058,2, -999.00,9, -999.00,9, -999.00,    38.3,2, -999.00,9,     -999.0,1,  -999.0,9, 20170729,     1939, -32.5000,-173.3833,        0.0,1,      0.060,1,      4.681,1,      0.131,1,      25.01,     -999.0,9,     -999.0,9,     -999.0,9,     -999.0,9,     1.1629,2,     -999.0,9
320620170703,        P06,     102,          1,          2,          2,2,20170729,       2226,   -32.5003,  -173.3827,       5853,  5764.6,   1.1346,  34.7078,2,  34.7052,2, 206.6344,2, 206.7153,2,   122.5,2,   32.12,2,    0.00,2,    2.24,2,   0.169,2,   0.098,2,   0.0000,2,  2261.9,2, -999.00,9,   7.6049,2, -999.00,9, -999.00,9, -999.00,  -999.0,9, -999.00,9,     -999.0,9,  -999.0,9, 20170729,     1944, -32.4997,-173.3835,        0.0,1,      0.061,1,      4.696,1,      0.133,1,      25.00,     -999.0,9,     -999.0,9,     -999.0,9,     -999.0,9,     1.1354,2,     -999.0,9
320620170703,        P06,     102,          1,          3,          3,2,20170729,       2226,   -32.5003,  -173.3827,       5853,  5575.9,   1.1117,  34.7077,2,  34.7060,2, 206.6344,2, 206.8146,2,   122.5,2,   32.08,2,    0.00,2,    2.22,2,   0.160,2,   0.094,2,   0.0000,2,  2262.9,2, 2363.63,2,   7.6044,2, -999.00,9, -999.00,9, -999.00,    39.6,2, -999.00,9,     -999.0,1,  -999.0,9, 20170729,     1950, -32.5001,-173.3833,        0.0,1,      0.060,1,      4.698,1,      0.128,1,      25.00,     -999.0,9,     -999.0,9,     -999.0,9,     -999.0,9,     1.1123,2,     -999.0,9
320620170703,        P06,     102,          1,          4,          4,2,20170729,       2226,   -32.5003,  -173.3827,       5853,  5264.0,   1.0800,  34.7082,2,  34.7054,2, 206.6344,2, 206.9809,2,   122.1,2,   32.08,2,    0.00,2,    2.23,2,   0.152,2,   0.091,2,   0.0000,2,  -999.0,9, -999.00,9,-999.0000,9, -999.00,9, -999.00,9, -999.00,  -999.0,9, -999.00,9,     -999.0,9,  -999.0,9, 20170729,     2001, -32.5000,-173.3833,        0.0,1,      0.061,1,      4.699,1,      0.125,1,     -999.0,     -999.0,9,     -999.0,9,     -999.0,9,     -999.0,9,     1.0804,2,     -999.0,9
320620170703,        P06,     102,          1,          5,          5,2,20170729,       2226,   -32.5003,  -173.3827,       5853,  4955.7,   1.0665,  34.7094,2,  34.7070,2, 206.6344,2, 206.8139,2,   121.3,2,   32.01,2,    0.00,2,    2.22,2,   0.145,2,   0.086,2,   0.0000,2,  2263.5,2, 2364.73,6,   7.6054,2, -999.00,9, -999.00,9, -999.00,    40.9,2, -999.00,9,     -999.0,1,  -999.0,9, 20170729,     2012, -32.5001,-173.3831,        0.0,1,      0.061,1,      4.700,1,      0.125,1,      25.02,     -999.0,9,     -999.0,9,     -999.0,9,     -999.0,9,     1.0662,2,     -999.0,9
320620170703,        P06,     102,          1,          6,          6,2,20170729,       2226,   -32.5003,  -173.3827,       5853,  4647.4,   1.0826,  34.7111,2,  34.7085,2, 206.1183,2, 205.9982,2,   120.0,2,   31.89,2,    0.00,2,    2.21,2,   0.141,2,   0.084,2,   0.0000,2,  -999.0,9, -999.00,9,-999.0000,9, -999.00,9, -999.00,9, -999.00,  -999.0,9, -999.00,9,     -999.0,9,  -999.0,9, 20170729,     2023, -32.5000,-173.3832,        0.0,1,      0.061,1,      4.701,1,      0.128,1,     -999.0,     -999.0,9,     -999.0,9,     -999.0,9,     -999.0,9,     1.0815,2,     -999.0,9
320620170703,        P06,     102,          1,          7,          7,2,20170729,       2226,   -32.5003,  -173.3827,       5853,  4338.7,   1.1400,  34.7145,2,  34.7119,2, 205.4851,2, 204.5219,2,   117.4,2,   31.80,2,    0.00,2,    2.22,2,   0.118,2,   0.072,2,   0.0000,2,  2261.2,2, -999.00,9,   7.6067,2, -999.00,9, -999.00,9, -999.00,    38.5,2, -999.00,9,     -999.0,1,  -999.0,9, 20170729,     2033, -32.5002,-173.3830,        0.0,1,      0.061,1,      4.701,1,      0.128,1,      25.00,     -999.0,9,     -999.0,9,     -999.0,9,     -999.0,9,     1.1414,2,     -999.0,9
320620170703,        P06,     102,          1,          8,          8,2,20170729,       2226,   -32.5003,  -173.3827,       5853,  4031.0,   1.2583,  34.7185,2,  34.7162,2, 201.4532,2, 202.4768,2,   113.8,2,   31.70,2,    0.00,2,    2.19,2,   0.101,2,   0.066,2,   0.0000,2,  -999.0,9, -999.00,9,-999.0000,9, -999.00,9, -999.00,9, -999.00,  -999.0,9, -999.00,9,     -999.0,9,  -999.0,9, 20170729,     2042, -32.4999,-173.3832,        0.0,1,      0.061,1,      4.701,1,      0.128,1,     -999.0,     -999.0,9,     -999.0,9,     -999.0,9,     -999.0,9,     1.2584,2,     -999.0,9
320620170703,        P06,     102,          1,          9,          9,2,20170729,       2226,   -32.5003,  -173.3827,       5853,  3724.2,   1.4470,  34.7182,2,  34.7152,2, 194.7901,2, 194.3443,2,   111.0,2,   31.88,2,    0.00,2,    2.23,2,   0.067,2,   0.045,2,   0.0000,2,  2266.2,2, 2367.15,2,   7.6031,2, -999.00,9, -999.00,9, -999.00,    40.4,2, -999.00,9,     -999.0,1,  -999.0,9, 20170729,     2049, -32.5000,-173.3832,        0.0,1,      0.061,1,      4.702,1,      0.129,1,      25.02,     -999.0,9,     -999.0,9,     -999.0,9,     -999.0,9,     1.4483,2,     -999.0,9
320620170703,        P06,     102,          1,         10,         10,2,20170729,       2226,   -32.5003,  -173.3827,       5853,  3414.8,   1.6241,  34.7043,2,  34.7013,2, 179.9378,2, 178.5429,2,   115.4,2,   33.03,2,    0.00,2,    2.31,2,   0.045,2,   0.032,2,   0.0000,2,  -999.0,9, -999.00,9,-999.0000,9, -999.00,9, -999.00,9, -999.00,    36.9,2, -999.00,9,     -999.0,1,  -999.0,9, 20170729,     2055, -32.5000,-173.3832,        0.0,1,      0.061,1,      4.702,1,      0.130,1,     -999.0,     -999.0,9,     -999.0,9,     -999.0,9,     -999.0,9,     1.6363,2,     -999.0,9
320620170703,        P06,     102,          1,         11,         11,2,20170729,       2226,   -32.5003,  -173.3827,       5853,  3141.6,   1.7519,  34.6796,2,  34.6796,2, 161.6181,3, 159.2729,2,   126.3,2,   34.83,2,    0.00,2,    2.44,2,   0.034,2,   0.026,2,   0.0000,2,  2303.8,2, -999.00,9,   7.5754,2, -999.00,9, -999.00,9, -999.00,    37.4,2, -999.00,9,     -999.0,1,  -999.0,9, 20170729,     2101, -32.5000,-173.3831,        0.0,1,      0.062,1,      4.702,1,      0.132,1,      25.00,     -999.0,9,     -999.0,9,     -999.0,9,     -999.0,9,     1.7505,2,     -999.0,9
320620170703,        P06,     102,          1,         12,         12,2,20170729,       2226,   -32.5003,  -173.3827,       5853,  2885.4,   1.8577,  34.6660,2,  34.6637,2, 152.4517,2, 151.2936,2,   128.0,2,   35.52,2,    0.00,2,    2.50,2,   0.026,2,   0.020,2,   0.0000,2,  -999.0,9, -999.00,9,-999.0000,9, -999.00,9, -999.00,9, -999.00,  -999.0,9, -999.00,9,     -999.0,9,  -999.0,9, 20170729,     2107, -32.5001,-173.3830,        0.0,1,      0.061,1,      4.702,1,      0.133,1,     -999.0,     -999.0,9,     -999.0,9,     -999.0,9,     -999.0,9,     1.8586,2,     -999.0,9
320620170703,        P06,     102,          1,         13,         13,2,20170729,       2226,   -32.5003,  -173.3827,       5853,  2627.1,   1.9766,  34.6548,2,  34.6525,2, 148.4885,2, 149.2313,2,   125.4,2,   35.71,2,    0.00,2,    2.51,2,   0.030,2,   0.025,2,   0.0000,2,  2312.0,2, 2397.43,2,   7.5638,3, -999.00,9, -999.00,9, -999.00,    35.3,2, -999.00,9,     -999.0,1,  -999.0,9, 20170729,     2112, -32.5001,-173.3831,        0.0,1,      0.061,1,      4.702,1,      0.132,1,      25.01,     -999.0,9,     -999.0,9,     -999.0,9,     -999.0,9,     1.9720,2,     -999.0,9
320620170703,        P06,     102,          1,         14,         14,2,20170729,       2226,   -32.5003,  -173.3827,       5853,  2374.8,   2.0994,  34.6437,2,  34.6409,2, 148.2089,2, 149.5244,2,   120.4,2,   35.61,2,    0.00,2,    2.51,2,   0.026,2,   0.023,2,   0.0000,2,  -999.0,9, -999.00,9,-999.0000,9, -999.00,9, -999.00,9, -999.00,  -999.0,9, -999.00,9,     -999.0,9,  -999.0,9, 20170729,     2118, -32.5001,-173.3830,        0.0,1,      0.061,1,      4.702,1,      0.136,1,     -999.0,     -999.0,9,     -999.0,9,     -999.0,9,     -999.0,9,     2.0952,2,     -999.0,9
320620170703,        P06,     102,          1,         15,         15,2,20170729,       2226,   -32.5003,  -173.3827,       5853,  2120.4,   2.2370,  34.6305,2,  34.6252,2, 149.2487,2, 149.6646,2,   112.8,2,   35.43,2,    0.00,2,    2.49,2,   0.028,2,   0.024,2,   0.0000,2,  2299.7,6, -999.00,9,   7.5646,2, -999.00,9, -999.00,9, -999.00,    40.3,2, -999.00,9,     -999.0,1,  -999.0,9, 20170729,     2123, -32.5001,-173.3831,        0.0,1,      0.061,1,      4.702,1,      0.133,1,      25.00,     -999.0,9,     -999.0,9,     -999.0,9,     -999.0,9,     2.2650,2,     -999.0,9
320620170703,        P06,     102,          1,         16,         16,2,20170729,       2226,   -32.5003,  -173.3827,       5853,  1864.7,   2.4559,  34.6042,2,  34.5993,2, 153.3215,2, 154.0042,2,   101.5,2,   35.03,2,    0.00,2,    2.45,2,   0.034,2,   0.027,2,   0.0000,2,  -999.0,9, -999.00,9,-999.0000,9, -999.00,9, -999.00,9, -999.00,  -999.0,9, -999.00,9,     -999.0,9,  -999.0,9, 20170729,     2129, -32.4999,-173.3832,        0.0,1,      0.061,1,      4.702,1,      0.136,1,     -999.0,     -999.0,9,     -999.0,9,     -999.0,9,     -999.0,9,     2.4717,2,     -999.0,9
320620170703,        P06,     102,          1,         17,         17,2,20170729,       2226,   -32.5003,  -173.3827,       5853,  1618.2,   2.7471,  34.5503,2,  34.5476,2, 160.7170,2, 160.9463,2,    84.2,2,   34.52,2,    0.00,2,    2.40,2,   0.050,2,   0.039,2,   0.0000,2,  2264.8,2, 2356.06,2,   7.5689,2, -999.00,9, -999.00,9, -999.00,    37.8,2, -999.00,9,     -999.0,1,  -999.0,9, 20170729,     2134, -32.5001,-173.3830,        0.0,1,      0.061,1,      4.702,1,      0.144,1,      25.01,     -999.0,9,     -999.0,9,     -999.0,9,     -999.0,9,     2.7560,2,     -999.0,9
320620170703,        P06,     102,          1,         18,         18,2,20170729,       2226,   -32.5003,  -173.3827,       5853,  1417.6,   3.2123,  34.4624,2,  34.4675,2, 171.5090,2, 171.9855,2,    65.1,2,   33.86,2,    0.00,2,    2.35,2,   0.135,2,   0.086,2,   0.0000,2,  -999.0,9, -999.00,9,-999.0000,9, -999.00,9, -999.00,9, -999.00,  -999.0,9, -999.00,9,     -999.0,9,  -999.0,9, 20170729,     2139, -32.5001,-173.3830,        0.0,1,      0.060,1,      4.702,1,      0.136,1,     -999.0,     -999.0,9,     -999.0,9,     -999.0,9,     -999.0,9,     3.1664,2,     -999.0,9
320620170703,        P06,     102,          1,         19,         19,2,20170729,       2226,   -32.5003,  -173.3827,       5853,  1211.6,   4.0458,  34.3689,2,  34.3700,2, 188.7607,2, 188.6269,2,    41.8,2,   32.14,2,    0.00,2,    2.21,2,   0.526,2,   0.272,2,   0.0000,2,  2209.8,2, -999.00,9,   7.5991,2, -999.00,9, -999.00,9, -999.00,    39.8,2, -999.00,9,     -999.0,1,  -999.0,9, 20170729,     2144, -32.4999,-173.3832,        0.0,1,      0.061,1,      3.704,1,      0.133,1,      25.01,     -999.0,9,     -999.0,9,     -999.0,9,     -999.0,9,     3.9969,2,     -999.0,9
320620170703,        P06,     102,          1,         20,         20,2,20170729,       2226,   -32.5003,  -173.3827,       5853,  1111.2,   4.5748,  34.3424,2,  34.3419,2, 198.0336,2, 197.3321,2,    32.0,2,   30.76,2,    0.00,2,    2.09,2,   0.809,2,   0.406,2,   0.1460,2,  -999.0,9, -999.00,9,-999.0000,9, -999.00,9, -999.00,9, -999.00,  -999.0,9, -999.00,9,     -999.0,9,  -999.0,9, 20170729,     2147, -32.5000,-173.3831,        0.0,1,      0.060,1,      4.697,1,      0.138,1,     -999.0,     -999.0,9,     -999.0,9,     -999.0,9,     -999.0,9,     4.5565,2,     -999.0,9
320620170703,        P06,     102,          1,         21,         21,2,20170729,       2226,   -32.5003,  -173.3827,       5853,  1008.9,   5.1531,  34.3285,2,  34.3246,2, 209.3012,2, 209.4503,2,    22.2,2,   28.68,2,    0.00,2,    1.94,2,   1.303,2,   0.637,2,   0.2650,2,  2178.0,2, 2288.40,6,   7.6465,2, -999.00,9, -999.00,9, -999.00,    39.5,2, -999.00,9,     -999.0,1,  -999.0,9, 20170729,     2150, -32.5000,-173.3831,        0.0,1,      0.059,1,      4.671,1,      0.135,1,      25.02,     -999.0,9,     -999.0,9,     -999.0,9,     -999.0,9,     5.1985,2,     -999.0,9
320620170703,        P06,     102,          1,         22,         22,2,20170729,       2226,   -32.5003,  -173.3827,       5853,   906.8,   5.7332,  34.3266,2,  34.3235,2, 220.2449,2, 220.7974,2,    15.5,2,   26.73,2,    0.00,2,    1.82,2,   1.863,2,   0.920,2,   0.3500,2,  -999.0,9, -999.00,9,-999.0000,9, -999.00,9, -999.00,9, -999.00,  -999.0,9, -999.00,9,     -999.0,9,  -999.0,9, 20170729,     2153, -32.4998,-173.3834,        0.0,1,      0.060,1,      4.699,1,      0.140,1,     -999.0,     -999.0,9,     -999.0,9,     -999.0,9,     -999.0,9,     5.7384,2,     -999.0,9
320620170703,        P06,     102,          1,         23,         23,2,20170729,       2226,   -32.5003,  -173.3827,       5853,   808.4,   6.2977,  34.3436,2,  34.3370,2, 227.7937,2, 228.3005,2,    11.3,2,   25.00,2,    0.00,2,    1.70,2,   2.405,2,   1.200,2,   0.4860,2,  2153.4,2, -999.00,9,   7.6867,2, -999.00,9, -999.00,9, -999.00,    43.6,2, -999.00,9,     -999.0,1,  -999.0,9, 20170729,     2156, -32.5000,-173.3831,        0.0,1,      0.059,1,      4.514,1,      0.138,1,      25.02,     -999.0,9,     -999.0,9,     -999.0,9,     -999.0,9,     6.2129,2,     -999.0,9
320620170703,        P06,     102,          1,         24,         24,2,20170729,       2226,   -32.5003,  -173.3827,       5853,   707.0,   6.8440,  34.3761,2,  34.3651,2, 232.3327,2, 233.0368,2,     8.4,2,   23.36,2,    0.00,2,    1.57,2,   2.942,2,   1.502,2,   0.7150,2,  2146.4,2, 2279.36,2,   7.7002,2, -999.00,9, -999.00,9, -999.00,    37.9,3, -999.00,9,     -999.0,1,  -999.0,9, 20170729,     2159, -32.5003,-173.3827,        0.0,1,      0.059,1,      4.692,1,      0.141,1,      25.02,     -999.0,9,     -999.0,9,     -999.0,9,     -999.0,9,     6.7332,2,     -999.0,9
320620170703,        P06,     102,          1,         25,         25,2,20170729,       2226,   -32.5003,  -173.3827,       5853,   605.9,   7.4892,  34.4354,2,  34.4247,2, 231.7762,2, 230.1081,2,     6.5,2,   21.62,2,    0.00,2,    1.47,2,   3.225,2,   1.692,2,   0.9020,2,  2144.5,2, -999.00,9,   7.7094,2, -999.00,9, -999.00,9, -999.00,    42.1,2, -999.00,9,     -999.0,1,  -999.0,9, 20170729,     2202, -32.5003,-173.3827,        0.0,1,      0.060,1,      4.694,1,      0.145,1,      25.03,     -999.0,9,     -999.0,9,     -999.0,9,     -999.0,9,     7.4258,2,     -999.0,9
320620170703,        P06,     102,          1,         26,         26,2,20170729,       2226,   -32.5003,  -173.3827,       5853,   504.4,   8.3429,  34.5199,2,  34.5148,2, 224.1689,2, 223.5267,2,     5.2,2,   19.58,2,    0.00,2,    1.34,2,   3.229,2,   1.729,2,   0.9790,2,  2142.1,2, -999.00,9,   7.7209,2, -999.00,9, -999.00,9, -999.00,    44.2,2, -999.00,9,     -999.0,1,  -999.0,9, 20170729,     2205, -32.5002,-173.3828,        0.0,1,      0.060,1,      4.696,1,      0.147,1,      25.02,     -999.0,9,     -999.0,9,     -999.0,9,     -999.0,9,     8.3382,2,     -999.0,9
320620170703,        P06,     102,          1,         27,         27,2,20170729,       2226,   -32.5003,  -173.3827,       5853,   401.4,   9.8817,  34.6951,2,  34.7111,2, 210.2238,2, 209.4938,2,     4.1,2,   16.34,2,    0.00,2,    1.12,2,   2.959,2,   1.628,2,   1.0640,2,  2136.2,2, 2288.10,2,   7.7473,2, -999.00,9, -999.00,9, -999.00,    44.0,2, -999.00,9,     -999.0,1,  -999.0,9, 20170729,     2208, -32.5000,-173.3829,        0.0,1,      0.059,1,      4.694,1,      0.143,1,      25.03,     -999.0,9,     -999.0,9,     -999.0,9,     -999.0,9,    10.0183,2,     -999.0,9
320620170703,        P06,     102,          1,         28,         28,2,20170729,       2226,   -32.5003,  -173.3827,       5853,   302.3,  12.0889,  34.9754,2,  34.9591,2, 206.1121,2, 206.1466,2,     2.9,2,   12.12,2,    0.00,2,    0.86,2,   2.738,2,   1.555,2,   1.2920,2,  2126.6,2, -999.00,9,   7.7947,2, -999.00,9, -999.00,9, -999.00,    50.3,2, -999.00,9,     -999.0,1,  -999.0,9, 20170729,     2211, -32.5002,-173.3828,        0.0,1,      0.060,1,      4.692,1,      0.142,1,      25.02,     -999.0,9,     -999.0,9,     -999.0,9,     -999.0,9,    11.9603,2,     -999.0,9
320620170703,        P06,     102,          1,         29,         29,2,20170729,       2226,   -32.5003,  -173.3827,       5853,   251.7,  13.1452,  35.1221,2,  35.1658,2, 207.5139,2, 208.2715,2,     2.1,2,    8.85,2,    0.00,2,    0.65,2,   2.601,2,   1.523,2,   1.2740,2,  -999.0,9, -999.00,9,-999.0000,9, -999.00,9, -999.00,9, -999.00,    50.7,2,   11.80,2,     -999.0,1,  -999.0,9, 20170729,     2214, -32.5001,-173.3829,        0.0,1,      0.059,1,      4.527,1,      0.139,1,     -999.0,     -999.0,9,     -999.0,9,     -999.0,9,     -999.0,9,    13.4363,2,     -999.0,9
320620170703,        P06,     102,          1,         30,         30,2,20170729,       2226,   -32.5003,  -173.3827,       5853,   200.0,  14.0979,  35.2577,2,  35.3196,2, 208.7507,2, 209.3805,2,     1.6,2,    6.84,2,    0.02,2,    0.53,2,   2.478,2,   1.456,2,   1.3150,2,  2106.2,2, 2318.27,2,   7.8658,2, -999.00,9, -999.00,9, -999.00,    54.0,3,   10.10,2,     -999.0,1,  -999.0,9, 20170729,     2216, -32.4999,-173.3831,        0.0,1,      0.061,1,      4.679,1,      0.142,1,      25.01,     -999.0,9,     -999.0,9,     -999.0,9,     -999.0,9,    14.5955,2,     -999.0,9
320620170703,        P06,     102,          1,         31,         31,2,20170729,       2226,   -32.5003,  -173.3827,       5853,   152.4,  15.2181,  35.3975,2,  35.4216,2, 208.8696,2, 209.3724,2,     1.3,2,    5.50,2,    0.03,2,    0.45,2,   2.413,2,   1.412,2,   1.4120,2,  2102.7,2, -999.00,9,   7.8886,2, -999.00,9, -999.00,9, -999.00,    50.4,3,    8.50,2,     -999.0,1,  -999.0,9, 20170729,     2218, -32.4999,-173.3831,        0.0,1,      0.068,1,      4.684,1,      0.146,1,      25.04,     -999.0,9,     -999.0,9,     -999.0,9,     -999.0,9,    15.5026,2,     -999.0,9
320620170703,        P06,     102,          1,         32,         32,2,20170729,       2226,   -32.5003,  -173.3827,       5853,    99.8,  17.2106,  35.6026,2,  35.6390,2, 234.5763,2, 234.1885,2,     0.2,2,    0.20,2,    0.04,2,    0.10,2,   2.214,2,   1.294,2,   1.4300,2,  2066.7,2, 2339.52,2,   7.9774,2, -999.00,9, -999.00,9, -999.00,    66.0,3,    4.20,2,     -999.0,1,  -999.0,9, 20170729,     2220, -32.5000,-173.3830,        0.0,1,      0.131,1,      4.644,1,      0.208,1,      25.02,     -999.0,9,     -999.0,9,     -999.0,9,     -999.0,9,    17.4213,2,     -999.0,9