BOTTLE,20230922CCHSIOCBG
EXPOCODE,SECT_ID,STNNBR,CASTNO,SAMPNO,BTLNBR,BTLNBR_FLAG_W,DATE,TIME,LATITUDE,LONGITUDE,DEPTH,CTDPRS,CTDTMP,CTDSAL,CTDSAL_FLAG_W,SALNTY,SALNTY_FLAG_W,CTDOXY,CTDOXY_FLAG_W,OXYGEN,OXYGEN_FLAG_W,SILCAT,SILCAT_FLAG_W,NITRAT,NITRAT_FLAG_W,NITRIT,NITRIT_FLAG_W,PHSPHT,PHSPHT_FLAG_W,CFC-11,CFC-11_FLAG_W,CFC-12,CFC-12_FLAG_W,SF6,SF6_FLAG_W,TCARBN,TCARBN_FLAG_W,ALKALI,ALKALI_FLAG_W,PH_TOT,PH_TOT_FLAG_W,DELC13,DELC13_FLAG_W,DELC14,DELC14_FLAG_W,C14ERR,DOC,DOC_FLAG_W,TDN,TDN_FLAG_W,TON,TON_FLAG_W,D15N_NO3,D15N_NO3_FLAG_W,BTL_DATE,BTL_TIME,BTL_LAT,BTL_LON,CTDRINKO,CTDRINKO_FLAG_W,CTDFLUOR,CTDFLUOR_FLAG_W,CTDXMISS,CTDXMISS_FLAG_W,CTDBACKSCATTER,CTDBACKSCATTER_FLAG_W,PH_TMP,D18O_NO3,D18O_NO3_FLAG_W,DOP,DOP_FLAG_W,HPLC,HPLC_FLAG_W,POC,POC_FLAG_W,REFTMP,REFTMP_FLAG_W,TDP,TDP_FLAG_W
,,,,,,,,,,,METERS,DBAR,ITS-90,PSS-78,,PSS-78,,UMOL/KG,,UMOL/KG,,UMOL/KG,,UMOL/KG,,UMOL/KG,,UMOL/KG,,PMOL/KG,,PMOL/KG,,FMOL/KG,,UMOL/KG,,UMOL/KG,,,,/MILLE,,/MILLE,,/MILLE,UMOL/KG,,UMOL/KG,,UMOL/KG,,/MILLE,,,,,,VOLTS,,VOLTS,,VOLTS,,VOLTS,,DEGC,/MILLE,,UMOL/KG,,,,UG/L,,ITS-90,,UMOL/KG,
320620170703,        P06,      13,          1,         33,         33,2,20170707,       0523,   -30.0808,   155.4896,       4828,    65.3,  21.1096,  35.5963,2,  35.6642,2, 228.4757,4, 218.2652,2,     0.0,2,    0.20,2,    0.02,2,    0.17,2,   1.941,2,   1.100,2,   4.6530,4,  2029.5,2, 2336.48,2,   8.0402,2, -999.00,9, -999.00,9, -999.00,  -999.0,9, -999.00,9,     -999.0,9,  -999.0,9, 20170707,      519, -30.0807, 155.4898,        0.0,1,      0.190,1,      4.596,1,      0.239,1,      25.02,     -999.0,9,     -999.0,9,     -999.0,9,     -999.0,9,    20.9138,2,     -999.0,9
320620170703,        P06,      13,          1,         34,         34,2,20170707,       0523,   -30.0808,   155.4896,       4828,    40.7,  21.6804,  35.6832,2,  35.6398,2, 227.6649,4, 219.8173,2,     0.1,2,    0.01,2,    0.00,2,    0.06,2,   1.898,2,   1.095,2,   6.3630,4,  2025.5,2, 2339.83,6,   8.0481,2, -999.00,9, -999.00,9, -999.00,  -999.0,9, -999.00,9,     -999.0,9,  -999.0,9, 20170707,      521, -30.0807, 155.4897,        0.0,1,      0.153,1,      4.640,1,      0.193,1,      25.03,     -999.0,9,     -999.0,9,     -999.0,9,     -999.0,9,    21.2639,2,     -999.0,9
320620170703,        P06,      13,          1,         35,         35,2,20170707,       0523,   -30.0808,   155.4896,       4828,    19.8,  21.8907,  35.6916,2,  35.6482,2, 227.0414,4, 219.1938,2,     0.0,2,    0.02,2,    0.00,2,    0.06,2,   1.902,2,   1.088,2,   9.6320,4,  2022.0,2, 2342.09,2,   8.0512,2, -999.00,9, -999.00,9, -999.00,  -999.0,9, -999.00,9,     -999.0,9,  -999.0,9, 20170707,      522, -30.0808, 155.4897,        0.0,1,      0.143,1,      4.613,1,      0.205,1,      25.03,     -999.0,9,     -999.0,9,     -999.0,9,     -999.0,9,    21.3899,2,     -999.0,9
320620170703,        P06,      13,          1,         36,         36,2,20170707,       0523,   -30.0808,   155.4896,       4828,     5.4,  21.8908,  35.6915,2,  35.6435,2, 227.5793,4, 219.3558,2,     0.1,2,    0.03,2,    0.00,2,    0.08,2,   1.932,2,   1.099,2,  13.0470,4,  2024.8,6, 2334.01,2,   8.0510,2, -999.00,9, -999.00,9, -999.00,  -999.0,9, -999.00,9,     -999.0,9,  -999.0,9, 20170707,      523, -30.0808, 155.4896,        0.0,1,      0.138,1,      4.613,1,      0.196,1,      25.02,     -999.0,9,     -999.0,9,     -999.0,9,     -999.0,9,    21.3847,2,     -999.0,9