BOTTLE,20230922CCHSIOCBG
EXPOCODE,SECT_ID,STNNBR,CASTNO,SAMPNO,BTLNBR,BTLNBR_FLAG_W,DATE,TIME,LATITUDE,LONGITUDE,DEPTH,CTDPRS,CTDTMP,CTDSAL,CTDSAL_FLAG_W,SALNTY,SALNTY_FLAG_W,CTDOXY,CTDOXY_FLAG_W,OXYGEN,OXYGEN_FLAG_W,SILCAT,SILCAT_FLAG_W,NITRAT,NITRAT_FLAG_W,NITRIT,NITRIT_FLAG_W,PHSPHT,PHSPHT_FLAG_W,CFC-11,CFC-11_FLAG_W,CFC-12,CFC-12_FLAG_W,SF6,SF6_FLAG_W,TCARBN,TCARBN_FLAG_W,ALKALI,ALKALI_FLAG_W,PH_TOT,PH_TOT_FLAG_W,DELC13,DELC13_FLAG_W,DELC14,DELC14_FLAG_W,C14ERR,DOC,DOC_FLAG_W,TDN,TDN_FLAG_W,TON,TON_FLAG_W,D15N_NO3,D15N_NO3_FLAG_W,BTL_DATE,BTL_TIME,BTL_LAT,BTL_LON,CTDRINKO,CTDRINKO_FLAG_W,CTDFLUOR,CTDFLUOR_FLAG_W,CTDXMISS,CTDXMISS_FLAG_W,CTDBACKSCATTER,CTDBACKSCATTER_FLAG_W,PH_TMP,D18O_NO3,D18O_NO3_FLAG_W,DOP,DOP_FLAG_W,HPLC,HPLC_FLAG_W,POC,POC_FLAG_W,REFTMP,REFTMP_FLAG_W,TDP,TDP_FLAG_W
,,,,,,,,,,,METERS,DBAR,ITS-90,PSS-78,,PSS-78,,UMOL/KG,,UMOL/KG,,UMOL/KG,,UMOL/KG,,UMOL/KG,,UMOL/KG,,PMOL/KG,,PMOL/KG,,FMOL/KG,,UMOL/KG,,UMOL/KG,,,,/MILLE,,/MILLE,,/MILLE,UMOL/KG,,UMOL/KG,,UMOL/KG,,/MILLE,,,,,,VOLTS,,VOLTS,,VOLTS,,VOLTS,,DEGC,/MILLE,,UMOL/KG,,,,UG/L,,ITS-90,,UMOL/KG,
320620170703,        P06,     135,          1,          1,          1,2,20170811,       0022,   -32.4997,  -154.2684,       4802,  4888.2,   1.1268,  34.7108,2,  34.7129,2, 201.0608,3, 203.3928,2,   119.1,2,   32.23,2,    0.00,2,    2.23,2,   0.069,2,   0.042,2,   0.0000,2,  2266.1,6, 2374.31,2,   7.6076,2, -999.00,9, -999.00,9, -999.00,  -999.0,9, -999.00,9,     -999.0,9,  -999.0,1, 20170810,     2213, -32.5000,-154.2687,        0.0,1,      0.061,1,      4.696,1,      0.123,1,      24.99,     -999.0,1,     -999.0,9,     -999.0,9,     -999.0,9,     1.1282,2,     -999.0,9
320620170703,        P06,     135,          1,          2,          2,2,20170811,       0022,   -32.4997,  -154.2684,       4802,  4735.5,   1.1341,  34.7112,2,  34.7113,2, 201.0608,2, 203.0705,2,   118.8,2,   32.24,2,    0.00,2,    2.23,2,   0.057,2,   0.043,2,   0.0000,2,  -999.0,9, -999.00,9,-999.0000,9, -999.00,9, -999.00,9, -999.00,  -999.0,9, -999.00,9,     -999.0,9,  -999.0,1, 20170810,     2220, -32.4999,-154.2685,        0.0,1,      0.061,1,      4.697,1,      0.123,1,     -999.0,     -999.0,1,     -999.0,9,     -999.0,9,     -999.0,9,     1.1333,2,     -999.0,9
320620170703,        P06,     135,          1,          3,          3,2,20170811,       0022,   -32.4997,  -154.2684,       4802,  4581.9,   1.1621,  34.7112,2,  34.7105,2, 201.7330,2, 201.2652,2,   118.4,2,   32.27,2,    0.00,2,    2.24,2,   0.043,2,   0.032,2,   0.0000,2,  2265.8,2, 2372.26,2,   7.6063,2, -999.00,9, -999.00,9, -999.00,  -999.0,9, -999.00,9,     -999.0,9,  -999.0,1, 20170810,     2226, -32.4998,-154.2684,        0.0,1,      0.061,1,      4.698,1,      0.124,1,      24.99,     -999.0,1,     -999.0,9,     -999.0,9,     -999.0,9,     1.1629,2,     -999.0,9
320620170703,        P06,     135,          1,          4,          4,2,20170811,       0022,   -32.4997,  -154.2684,       4802,  4270.7,   1.2416,  34.7102,2,  34.7095,2, 199.5355,3, 196.8599,2,   117.7,2,   32.48,2,    0.00,2,    2.24,2,   0.036,2,   0.029,2,   0.0000,2,  -999.0,9, -999.00,9,-999.0000,9, -999.00,9, -999.00,9, -999.00,  -999.0,9, -999.00,9,     -999.0,9,  -999.0,1, 20170810,     2235, -32.4999,-154.2685,        0.0,1,      0.061,1,      4.698,1,      0.123,1,     -999.0,     -999.0,1,     -999.0,9,     -999.0,9,     -999.0,9,     1.2397,2,     -999.0,9
320620170703,        P06,     135,          1,          5,          5,2,20170811,       0022,   -32.4997,  -154.2684,       4802,  3965.6,   1.4218,  34.7129,2,  34.7117,3, 192.4040,2, 192.2533,2,   113.8,2,   32.48,2,    0.00,2,    2.24,2,   0.034,2,   0.027,2,   0.0000,2,  2271.4,2, 2372.91,2,   7.6008,2, -999.00,9, -999.00,9, -999.00,  -999.0,9, -999.00,9,     -999.0,9,  -999.0,1, 20170810,     2241, -32.4999,-154.2684,        0.0,1,      0.061,1,      4.698,1,      0.124,1,      24.99,     -999.0,1,     -999.0,9,     -999.0,9,     -999.0,9,     1.4174,2,     -999.0,9
320620170703,        P06,     135,          1,          6,          6,2,20170811,       0022,   -32.4997,  -154.2684,       4802,  3653.8,   1.5646,  34.6997,2,  34.6985,2, 177.6227,2, 175.9658,2,   120.0,2,   33.68,2,    0.00,2,    2.34,2,   0.026,2,   0.023,2,   0.0000,2,  -999.0,9, -999.00,9,-999.0000,9, -999.00,9, -999.00,9, -999.00,  -999.0,9, -999.00,9,     -999.0,9,  -999.0,1, 20170810,     2248, -32.4998,-154.2684,        0.0,1,      0.060,1,      4.697,1,      0.127,1,     -999.0,     -999.0,1,     -999.0,9,     -999.0,9,     -999.0,9,     1.5654,2,     -999.0,9
320620170703,        P06,     135,          1,          7,          7,2,20170811,       0022,   -32.4997,  -154.2684,       4802,  3349.5,   1.6660,  34.6851,2,  34.6857,2, 164.7429,3, 162.4494,2,   126.2,2,   34.83,2,    0.00,2,    2.42,2,   0.023,2,   0.020,2,   0.0000,2,  2303.4,2, 2404.98,2,   7.5790,2, -999.00,9, -999.00,9, -999.00,  -999.0,9, -999.00,9,     -999.0,9,  -999.0,1, 20170810,     2254, -32.4999,-154.2685,        0.0,1,      0.061,1,      4.698,1,      0.126,1,      25.01,     -999.0,1,     -999.0,9,     -999.0,9,     -999.0,9,     1.6661,2,     -999.0,9
320620170703,        P06,     135,          1,          8,          8,2,20170811,       0022,   -32.4997,  -154.2684,       4802,  3042.7,   1.7648,  34.6722,2,  34.6710,2, 153.5086,2, 152.5853,2,   129.6,2,   35.66,2,    0.00,2,    2.47,2,   0.021,2,   0.021,2,   0.0000,2,  -999.0,9, -999.00,9,-999.0000,9, -999.00,9, -999.00,9, -999.00,  -999.0,9, -999.00,9,     -999.0,9,  -999.0,1, 20170810,     2301, -32.5000,-154.2688,        0.0,1,      0.062,1,      4.698,1,      0.127,1,     -999.0,     -999.0,1,     -999.0,9,     -999.0,9,     -999.0,9,     1.7689,2,     -999.0,9
320620170703,        P06,     135,          1,          9,          9,2,20170811,       0022,   -32.4997,  -154.2684,       4802,  2787.1,   1.8415,  34.6645,2,  34.6635,2, 149.3273,2, 148.9104,2,   128.8,2,   35.90,2,    0.00,2,    2.49,2,   0.023,2,   0.022,2,   0.0000,2,  2317.0,2, 2404.53,2,   7.5682,2, -999.00,9, -999.00,9, -999.00,  -999.0,9, -999.00,9,     -999.0,9,  -999.0,1, 20170810,     2306, -32.4997,-154.2684,        0.0,1,      0.061,1,      4.698,1,      0.129,1,      25.00,     -999.0,1,     -999.0,9,     -999.0,9,     -999.0,9,     1.8420,2,     -999.0,9
320620170703,        P06,     135,          1,         10,         10,2,20170811,       0022,   -32.4997,  -154.2684,       4802,  2534.7,   1.9294,  34.6565,2,  34.6561,2, 147.0584,2, 147.7104,2,   126.2,2,   35.93,2,    0.00,2,    2.50,2,   0.025,2,   0.023,2,   0.0000,2,  2314.2,6, 2403.14,2,   7.5661,2, -999.00,9, -999.00,9, -999.00,  -999.0,9, -999.00,9,     -999.0,9,  -999.0,1, 20170810,     2312, -32.4996,-154.2682,        0.0,1,      0.061,1,      4.698,1,      0.129,1,      25.00,     -999.0,1,     -999.0,9,     -999.0,9,     -999.0,9,     1.9221,2,     -999.0,9
320620170703,        P06,     135,          1,         11,         11,2,20170811,       0022,   -32.4997,  -154.2684,       4802,  2277.6,   2.0429,  34.6467,2,  34.6453,2, 146.5508,2, 147.8599,2,   120.6,2,   35.85,2,    0.00,2,    2.49,2,   0.023,2,   0.022,2,   0.0000,2,  2306.6,2, 2397.41,2,   7.5650,2, -999.00,9, -999.00,9, -999.00,  -999.0,9, -999.00,9,     -999.0,9,  -999.0,1, 20170810,     2317, -32.4997,-154.2682,        0.0,1,      0.061,1,      4.698,1,      0.130,1,      24.99,     -999.0,1,     -999.0,9,     -999.0,9,     -999.0,9,     2.0385,2,     -999.0,9
320620170703,        P06,     135,          1,         12,         12,2,20170811,       0022,   -32.4997,  -154.2684,       4802,  2024.9,   2.2127,  34.6313,2,  34.6313,2, 148.7509,3, 150.4181,2,   111.8,2,   35.52,2,    0.00,2,    2.49,2,   0.025,2,   0.024,2,   0.0000,2,  -999.0,9, -999.00,9,-999.0000,9, -999.00,9, -999.00,9, -999.00,  -999.0,9, -999.00,9,     -999.0,9,  -999.0,1, 20170810,     2322, -32.4997,-154.2682,        0.0,1,      0.061,1,      4.698,1,      0.132,1,     -999.0,     -999.0,1,     -999.0,9,     -999.0,9,     -999.0,9,     2.2032,2,     -999.0,9
320620170703,        P06,     135,          1,         13,         13,2,20170811,       0022,   -32.4997,  -154.2684,       4802,  1821.0,   2.3909,  34.6091,2,  34.6083,2, 152.3596,2, 153.7211,2,   101.2,2,   35.19,2,    0.00,2,    2.46,2,   0.026,2,   0.024,2,   0.0000,2,  2287.5,2, 2376.78,2,   7.5668,2, -999.00,9, -999.00,9, -999.00,  -999.0,9, -999.00,9,     -999.0,9,  -999.0,1, 20170810,     2327, -32.4996,-154.2681,        0.0,1,      0.061,1,      4.699,1,      0.131,1,      25.00,     -999.0,1,     -999.0,9,     -999.0,9,     -999.0,9,     2.3931,2,     -999.0,9
320620170703,        P06,     135,          1,         14,         14,2,20170811,       0022,   -32.4997,  -154.2684,       4802,  1615.3,   2.6149,  34.5674,2,  34.5635,2, 159.0753,3, 161.0192,2,    86.4,2,   34.85,2,    0.00,2,    2.43,2,   0.103,4,   0.171,4,   1.9680,4,  -999.0,9, -999.00,9,-999.0000,9, -999.00,9, -999.00,9, -999.00,  -999.0,9, -999.00,9,     -999.0,9,  -999.0,1, 20170810,     2331, -32.4996,-154.2679,        0.0,1,      0.061,1,      4.699,1,      0.131,1,     -999.0,     -999.0,1,     -999.0,9,     -999.0,9,     -999.0,9,     2.6276,2,     -999.0,9
320620170703,        P06,     135,          1,         15,         15,2,20170811,       0022,   -32.4997,  -154.2684,       4802,  1515.3,   2.7852,  34.5266,2,  34.5307,2, 163.6002,2, 165.1406,2,    77.6,2,   34.71,2,    0.00,2,    2.40,2,   0.076,2,   0.050,2,   0.0000,2,  2262.7,2, 2345.35,2,   7.5660,2, -999.00,9, -999.00,9, -999.00,  -999.0,9, -999.00,9,     -999.0,9,  -999.0,1, 20170810,     2334, -32.4996,-154.2681,        0.0,1,      0.061,1,      4.699,1,      0.134,1,      25.01,     -999.0,1,     -999.0,9,     -999.0,9,     -999.0,9,     2.7710,2,     -999.0,9
320620170703,        P06,     135,          1,         16,         16,2,20170811,       0022,   -32.4997,  -154.2684,       4802,  1413.8,   2.9848,  34.4787,2,  34.4781,2, 170.8399,2, 170.6992,2,    66.7,2,   34.40,2,    0.00,2,    2.37,2,   0.220,4,   0.226,4,   2.1300,4,  -999.0,9, -999.00,9,-999.0000,9, -999.00,9, -999.00,9, -999.00,  -999.0,9, -999.00,9,     -999.0,9,  -999.0,1, 20170810,     2337, -32.4997,-154.2683,        0.0,1,      0.061,1,      4.699,1,      0.132,1,     -999.0,     -999.0,1,     -999.0,9,     -999.0,9,     -999.0,9,     2.9788,2,     -999.0,9
320620170703,        P06,     135,          1,         17,         17,2,20170811,       0022,   -32.4997,  -154.2684,       4802,  1314.4,   3.2555,  34.4268,2,  34.4228,2, 178.9504,2, 178.2030,2,    55.7,2,   33.89,2,    0.00,2,    2.35,2,   0.357,2,   0.190,2,   0.0000,2,  2233.0,2, 2319.77,2,   7.5750,2, -999.00,9, -999.00,9, -999.00,  -999.0,9, -999.00,9,     -999.0,9,  -999.0,1, 20170810,     2340, -32.4997,-154.2684,        0.0,1,      0.060,1,      4.699,1,      0.132,1,      24.99,     -999.0,1,     -999.0,9,     -999.0,9,     -999.0,9,     3.2676,2,     -999.0,9
320620170703,        P06,     135,          1,         18,         18,2,20170811,       0022,   -32.4997,  -154.2684,       4802,  1212.5,   3.5976,  34.3835,2,  34.3776,2, 187.1292,2, 186.4288,2,    45.9,2,   33.07,2,    0.00,2,    2.28,2,   0.624,2,   0.309,2,   0.0000,2,  -999.0,9, -999.00,9,-999.0000,9, -999.00,9, -999.00,9, -999.00,  -999.0,9, -999.00,9,     -999.0,9,  -999.0,1, 20170810,     2342, -32.4998,-154.2686,        0.0,1,      0.061,1,      4.699,1,      0.131,1,     -999.0,     -999.0,1,     -999.0,9,     -999.0,9,     -999.0,9,     3.6369,2,     -999.0,9
320620170703,        P06,     135,          1,         19,         19,2,20170811,       0022,   -32.4997,  -154.2684,       4802,  1111.7,   4.1605,  34.3416,2,  34.3376,2, 197.0200,2, 196.0330,2,    35.0,2,   31.67,2,    0.00,2,    2.17,2,   1.036,2,   0.484,2,   0.0740,2,  2204.1,2, 2298.55,2,   7.6080,2, -999.00,9, -999.00,9, -999.00,  -999.0,9, -999.00,9,     -999.0,9,  -999.0,1, 20170810,     2345, -32.4998,-154.2687,        0.0,1,      0.060,1,      4.699,1,      0.132,1,      25.01,     -999.0,1,     -999.0,9,     -999.0,9,     -999.0,9,     4.1986,2,     -999.0,9
320620170703,        P06,     135,          1,         20,         20,2,20170811,       0022,   -32.4997,  -154.2684,       4802,  1010.8,   4.8766,  34.3163,2,  34.3252,2, 209.0457,2, 207.0550,2,    24.7,2,   29.68,2,    0.00,2,    2.02,2,   1.531,2,   0.728,2,   0.1330,2,  2185.2,2, 2290.38,2,   7.6349,2, -999.00,9, -999.00,9, -999.00,  -999.0,9, -999.00,9,     -999.0,9,  -999.0,1, 20170810,     2348, -32.4998,-154.2687,        0.0,1,      0.060,1,      4.698,1,      0.132,1,      25.00,     -999.0,1,     -999.0,9,     -999.0,9,     -999.0,9,     4.8787,2,     -999.0,9
320620170703,        P06,     135,          1,         21,         21,2,20170811,       0022,   -32.4997,  -154.2684,       4802,   906.5,   5.5351,  34.3100,2,  34.3142,2, 219.3008,2, 218.7996,2,    17.2,2,   27.58,2,    0.00,2,    1.89,2,   2.049,2,   1.000,2,   0.3140,2,  2168.4,2, 2288.88,2,   7.6618,2, -999.00,9, -999.00,9, -999.00,  -999.0,9, -999.00,9,     -999.0,9,  -999.0,1, 20170810,     2351, -32.4998,-154.2686,        0.0,1,      0.059,1,      4.698,1,      0.132,1,      24.99,     -999.0,1,     -999.0,9,     -999.0,9,     -999.0,9,     5.4616,2,     -999.0,9
320620170703,        P06,     135,          1,         22,         22,2,20170811,       0022,   -32.4997,  -154.2684,       4802,   807.1,   6.0842,  34.3189,2,  34.3182,2, 230.2930,2, 230.2302,2,    12.0,2,   25.54,2,    0.00,2,    1.74,2,   2.720,2,   1.330,2,   0.4640,2,  -999.0,9, -999.00,9,-999.0000,9, -999.00,9, -999.00,9, -999.00,  -999.0,9, -999.00,9,     -999.0,9,  -999.0,1, 20170810,     2354, -32.4998,-154.2686,        0.0,1,      0.060,1,      4.697,1,      0.132,1,     -999.0,     -999.0,1,     -999.0,9,     -999.0,9,     -999.0,9,     5.9985,2,     -999.0,9
320620170703,        P06,     135,          1,         23,         23,2,20170811,       0022,   -32.4997,  -154.2684,       4802,   706.2,   6.5470,  34.3407,2,  34.3464,2, 235.6635,2, 237.9653,2,     8.6,2,   23.64,2,    0.00,2,    1.61,2,   3.296,2,   1.656,2,   0.6600,2,  2150.6,2, 2279.63,2,   7.7012,2, -999.00,9, -999.00,9, -999.00,  -999.0,9, -999.00,9,     -999.0,9,  -999.0,1, 20170810,     2356, -32.4997,-154.2685,        0.0,1,      0.059,1,      4.697,1,      0.135,1,      24.99,     -999.0,1,     -999.0,9,     -999.0,9,     -999.0,9,     6.4731,2,     -999.0,9
320620170703,        P06,     135,          1,         24,         24,2,20170811,       0022,   -32.4997,  -154.2684,       4802,   605.3,   7.0193,  34.3739,2,  34.3723,2, 239.4379,2, 239.5634,2,     6.7,2,   22.17,2,    0.00,2,    1.51,2,   3.559,2,   1.786,2,   0.7900,2,  2146.6,2, 2282.84,2,   7.7099,2, -999.00,9, -999.00,9, -999.00,  -999.0,9, -999.00,9,     -999.0,9,  -999.0,1, 20170810,     2359, -32.4997,-154.2685,        0.0,1,      0.059,1,      4.696,1,      0.134,1,      25.00,     -999.0,1,     -999.0,9,     -999.0,9,     -999.0,9,     6.9934,2,     -999.0,9
320620170703,        P06,     135,          1,         25,         25,2,20170811,       0022,   -32.4997,  -154.2684,       4802,   504.6,   7.6198,  34.4219,2,  34.4190,2, 240.5046,2, 240.1738,2,     5.1,2,   20.25,2,    0.00,2,    1.39,2,   3.717,2,   1.921,2,   0.9820,2,  2142.7,2, 2282.61,2,   7.7210,2, -999.00,9, -999.00,9, -999.00,  -999.0,9, -999.00,9,     -999.0,9,  -999.0,1, 20170811,        2, -32.4997,-154.2685,        0.0,1,      0.059,1,      4.695,1,      0.133,1,      25.00,     -999.0,1,     -999.0,9,     -999.0,9,     -999.0,9,     7.5832,2,     -999.0,9
320620170703,        P06,     135,          1,         26,         26,2,20170811,       0022,   -32.4997,  -154.2684,       4802,   400.8,   8.7487,  34.5067,2,  34.5019,2, 228.6199,2, 230.7981,2,     3.7,2,   17.68,2,    0.00,2,    1.22,2,   3.558,2,   1.877,2,   1.0440,2,  -999.0,9, -999.00,9,-999.0000,9, -999.00,9, -999.00,9, -999.00,  -999.0,9, -999.00,9,     -999.0,9,  -999.0,1, 20170811,        4, -32.4997,-154.2684,        0.0,1,      0.058,1,      4.693,1,      0.135,1,     -999.0,     -999.0,1,     -999.0,1,     -999.0,9,     -999.0,9,     8.6748,2,       1.31,2
320620170703,        P06,     135,          1,         27,         27,2,20170811,       0022,   -32.4997,  -154.2684,       4802,   352.0,   9.8342,  34.6019,2,  34.5950,2, 218.1719,2, 218.4830,2,     3.1,2,   15.80,2,    0.00,2,    1.11,2,   3.335,2,   1.764,2,   0.8400,2,  2133.2,2, 2284.90,2,   7.7517,2, -999.00,9, -999.00,9, -999.00,  -999.0,9, -999.00,9,     -999.0,9,  -999.0,1, 20170811,        6, -32.4997,-154.2684,        0.0,1,      0.059,1,      4.691,1,      0.136,1,      25.00,     -999.0,1,     -999.0,1,     -999.0,9,     -999.0,9,     9.7779,2,     -999.0,9
320620170703,        P06,     135,          1,         28,         28,2,20170811,       0022,   -32.4997,  -154.2684,       4802,   299.9,  11.4673,  34.8062,2,  34.7600,3, 212.6802,2, 211.1565,2,     2.3,2,   12.71,2,    0.00,2,    0.91,2,   3.070,2,   1.670,2,   1.2700,2,  2124.9,2, 2293.37,2,   7.7817,2, -999.00,9, -999.00,9, -999.00,  -999.0,9, -999.00,9,     -999.0,9,  -999.0,1, 20170811,        8, -32.4997,-154.2684,        0.0,1,      0.059,1,      4.690,1,      0.136,1,      25.00,     -999.0,1,     -999.0,1,     -999.0,9,     -999.0,9,    11.2550,2,       0.99,2
320620170703,        P06,     135,          1,         29,         29,2,20170811,       0022,   -32.4997,  -154.2684,       4802,   251.3,  13.2053,  35.0283,2,  35.0049,3, 211.5911,2, 210.4373,2,     1.6,2,    8.59,2,    0.00,2,    0.64,2,   2.820,2,   1.562,2,   1.1180,2,  2113.9,2, 2305.20,2,   7.8294,2, -999.00,9, -999.00,9, -999.00,  -999.0,9, -999.00,9,     -999.0,9,  -999.0,1, 20170811,       10, -32.4997,-154.2684,        0.0,1,      0.061,1,      4.689,1,      0.133,1,      25.01,     -999.0,1,     -999.0,1,     -999.0,9,     -999.0,9,    13.0577,2,     -999.0,9
320620170703,        P06,     135,          1,         30,         30,2,20170811,       0022,   -32.4997,  -154.2684,       4802,   202.1,  14.2051,  35.1415,2,  35.1465,2, 214.3790,2, 214.7207,2,     1.0,2,    5.85,2,    0.02,2,    0.47,2,   2.707,2,   1.520,2,   1.1870,2,  2105.2,2, 2310.51,2,   7.8632,2, -999.00,9, -999.00,9, -999.00,  -999.0,9, -999.00,9,     -999.0,9,  -999.0,1, 20170811,       12, -32.4997,-154.2685,        0.0,1,      0.062,1,      4.687,1,      0.134,1,      25.00,     -999.0,1,     -999.0,1,     -999.0,9,     -999.0,9,    14.1560,2,       0.56,2
320620170703,        P06,     135,          1,         31,         31,2,20170811,       0022,   -32.4997,  -154.2684,       4802,   149.8,  15.6611,  35.3483,2,  35.2915,3, 219.7799,3, 217.0651,2,     0.7,2,    3.76,2,    0.03,2,    0.33,2,   2.566,2,   1.461,2,   1.2160,2,  2094.7,2, 2321.39,2,   7.8949,2, -999.00,9, -999.00,9, -999.00,  -999.0,9, -999.00,9,     -999.0,9,  -999.0,1, 20170811,       14, -32.4998,-154.2686,        0.0,1,      0.101,1,      4.673,1,      0.152,1,      25.00,     -999.0,1,     -999.0,1,     -999.0,9,     -999.0,9,    15.3781,2,     -999.0,9
320620170703,        P06,     135,          1,         32,         32,2,20170811,       0022,   -32.4997,  -154.2684,       4802,   102.0,  16.8576,  35.4982,2,  35.4997,2, 235.3944,2, 236.1284,2,     0.1,2,    0.15,2,    0.02,2,    0.09,2,   2.292,2,   1.355,2,   1.2510,2,  -999.0,9, -999.00,9,-999.0000,9, -999.00,9, -999.00,9, -999.00,  -999.0,9, -999.00,9,     -999.0,9,  -999.0,1, 20170811,       16, -32.4998,-154.2685,        0.0,1,      0.166,1,      4.635,1,      0.185,1,     -999.0,     -999.0,1,     -999.0,1,     -999.0,9,     -999.0,9,    16.8754,2,       0.24,2