BOTTLE,20230922CCHSIOCBG
EXPOCODE,SECT_ID,STNNBR,CASTNO,SAMPNO,BTLNBR,BTLNBR_FLAG_W,DATE,TIME,LATITUDE,LONGITUDE,DEPTH,CTDPRS,CTDTMP,CTDSAL,CTDSAL_FLAG_W,SALNTY,SALNTY_FLAG_W,CTDOXY,CTDOXY_FLAG_W,OXYGEN,OXYGEN_FLAG_W,SILCAT,SILCAT_FLAG_W,NITRAT,NITRAT_FLAG_W,NITRIT,NITRIT_FLAG_W,PHSPHT,PHSPHT_FLAG_W,CFC-11,CFC-11_FLAG_W,CFC-12,CFC-12_FLAG_W,SF6,SF6_FLAG_W,TCARBN,TCARBN_FLAG_W,ALKALI,ALKALI_FLAG_W,PH_TOT,PH_TOT_FLAG_W,DELC13,DELC13_FLAG_W,DELC14,DELC14_FLAG_W,C14ERR,DOC,DOC_FLAG_W,TDN,TDN_FLAG_W,TON,TON_FLAG_W,D15N_NO3,D15N_NO3_FLAG_W,BTL_DATE,BTL_TIME,BTL_LAT,BTL_LON,CTDRINKO,CTDRINKO_FLAG_W,CTDFLUOR,CTDFLUOR_FLAG_W,CTDXMISS,CTDXMISS_FLAG_W,CTDBACKSCATTER,CTDBACKSCATTER_FLAG_W,PH_TMP,D18O_NO3,D18O_NO3_FLAG_W,DOP,DOP_FLAG_W,HPLC,HPLC_FLAG_W,POC,POC_FLAG_W,REFTMP,REFTMP_FLAG_W,TDP,TDP_FLAG_W
,,,,,,,,,,,METERS,DBAR,ITS-90,PSS-78,,PSS-78,,UMOL/KG,,UMOL/KG,,UMOL/KG,,UMOL/KG,,UMOL/KG,,UMOL/KG,,PMOL/KG,,PMOL/KG,,FMOL/KG,,UMOL/KG,,UMOL/KG,,,,/MILLE,,/MILLE,,/MILLE,UMOL/KG,,UMOL/KG,,UMOL/KG,,/MILLE,,,,,,VOLTS,,VOLTS,,VOLTS,,VOLTS,,DEGC,/MILLE,,UMOL/KG,,,,UG/L,,ITS-90,,UMOL/KG,
320620170703,        P06,      51,          1,          1,         37,2,20170714,       1704,   -30.0798,   168.1424,       1813,  1826.5,   2.6652,  34.6034,2,  34.6040,2, 158.2019,2, 158.2429,2,   100.6,2,   34.10,2,    0.00,2,    2.38,2,-999.000,9,-999.000,9,-999.0000,9,  2284.0,6, 2367.80,2,   7.5823,2, -999.00,9, -999.00,9, -999.00,    42.8,2, -999.00,9,     -999.0,1,  -999.0,9, 20170714,     1556, -30.0798, 168.1418,        0.0,1,      0.061,1,      4.702,1,      0.148,1,      25.02,     -999.0,9,     -999.0,9,     -999.0,9,     -999.0,9,     2.6656,2,     -999.0,9
320620170703,        P06,      51,          1,          2,          2,2,20170714,       1704,   -30.0798,   168.1424,       1813,  1754.6,   2.8581,  34.5876,2,  34.5847,2, 159.6177,2, 159.6794,2,    94.9,2,   33.85,2,    0.00,2,    2.37,2,-999.000,9,-999.000,9,-999.0000,9,  -999.0,9, -999.00,9,-999.0000,9, -999.00,9, -999.00,9, -999.00,    38.2,2, -999.00,9,     -999.0,1,  -999.0,9, 20170714,     1559, -30.0798, 168.1418,        0.0,1,      0.061,1,      4.701,1,      0.143,1,     -999.0,     -999.0,9,     -999.0,9,     -999.0,9,     -999.0,9,     2.8638,2,     -999.0,9
320620170703,        P06,      51,          1,          3,         38,2,20170714,       1704,   -30.0798,   168.1424,       1813,  1652.6,   3.1011,  34.5678,2,  34.5655,2, 162.1021,2, 161.9295,2,    88.2,2,   33.52,2,    0.00,2,    2.34,2,-999.000,9,-999.000,9,-999.0000,9,  2268.2,2, 2357.11,6,   7.5886,2, -999.00,9, -999.00,9, -999.00,    36.0,2, -999.00,9,     -999.0,1,  -999.0,9, 20170714,     1602, -30.0798, 168.1419,        0.0,1,      0.062,1,      4.317,1,      0.145,1,      25.02,     -999.0,9,     -999.0,9,     -999.0,9,     -999.0,9,     3.1015,2,     -999.0,9
320620170703,        P06,      51,          1,          4,          4,2,20170714,       1704,   -30.0798,   168.1424,       1813,  1550.5,   3.2833,  34.5523,2,  34.5512,2, 163.8943,2, 164.0017,2,    82.8,2,   33.29,2,    0.00,2,    2.32,2,-999.000,9,-999.000,9,-999.0000,9,  -999.0,9, -999.00,9,-999.0000,9, -999.00,9, -999.00,9, -999.00,    39.3,2, -999.00,9,     -999.0,1,  -999.0,9, 20170714,     1605, -30.0798, 168.1419,        0.0,1,      0.060,1,      3.798,1,      0.143,1,     -999.0,     -999.0,9,     -999.0,9,     -999.0,9,     -999.0,9,     3.2801,2,     -999.0,9
320620170703,        P06,      51,          1,          5,         39,2,20170714,       1704,   -30.0798,   168.1424,       1813,  1449.3,   3.4478,  34.5365,2,  34.5337,2, 166.2971,2, 166.3065,2,    77.9,2,   32.98,2,    0.00,2,    2.30,2,-999.000,9,-999.000,9,-999.0000,9,  2255.6,2, 2345.13,2,   7.5932,2, -999.00,9, -999.00,9, -999.00,    40.1,2, -999.00,9,     -999.0,1,  -999.0,9, 20170714,     1608, -30.0798, 168.1418,        0.0,1,      0.060,1,      3.178,1,      0.143,1,      25.01,     -999.0,9,     -999.0,9,     -999.0,9,     -999.0,9,     3.4502,2,     -999.0,9
320620170703,        P06,      51,          1,          6,          6,2,20170714,       1704,   -30.0798,   168.1424,       1813,  1347.5,   4.0329,  34.4955,2,  34.4940,2, 173.7255,2, 173.4051,2,    63.3,2,   31.89,2,    0.00,2,    2.22,2,-999.000,9,-999.000,9,-999.0000,9,  -999.0,9, -999.00,9,-999.0000,9, -999.00,9, -999.00,9, -999.00,    36.8,2, -999.00,9,     -999.0,1,  -999.0,9, 20170714,     1611, -30.0798, 168.1419,        0.0,1,      0.061,1,      4.637,1,      0.141,1,     -999.0,     -999.0,9,     -999.0,9,     -999.0,9,     -999.0,9,     4.0095,2,     -999.0,9
320620170703,        P06,      51,          1,          7,         40,2,20170714,       1704,   -30.0798,   168.1424,       1813,  1245.3,   4.4245,  34.4736,2,  34.4712,2, 178.6151,2, 178.8341,2,    53.8,2,   31.08,2,    0.00,2,    2.15,2,-999.000,9,-999.000,9,-999.0000,9,  2224.7,2, 2319.52,2,   7.6133,2, -999.00,9, -999.00,9, -999.00,    38.7,2, -999.00,9,     -999.0,1,  -999.0,9, 20170714,     1614, -30.0798, 168.1420,        0.0,1,      0.061,1,      4.704,1,      0.141,1,      25.01,     -999.0,9,     -999.0,9,     -999.0,9,     -999.0,9,     4.4199,2,     -999.0,9
320620170703,        P06,      51,          1,          8,          8,2,20170714,       1704,   -30.0798,   168.1424,       1813,  1147.1,   4.9277,  34.4560,2,  34.4536,2, 184.2990,2, 184.5343,2,    44.4,2,   30.06,2,    0.00,2,    2.07,2,-999.000,9,-999.000,9,-999.0000,9,  -999.0,9, -999.00,9,-999.0000,9, -999.00,9, -999.00,9, -999.00,    41.1,3, -999.00,9,     -999.0,1,  -999.0,9, 20170714,     1616, -30.0798, 168.1421,        0.0,1,      0.060,1,      4.687,1,      0.143,1,     -999.0,     -999.0,9,     -999.0,9,     -999.0,9,     -999.0,9,     4.8863,2,     -999.0,9
320620170703,        P06,      51,          1,          9,         41,2,20170714,       1704,   -30.0798,   168.1424,       1813,  1044.0,   5.5072,  34.4545,2,  34.4506,2, 190.4886,2, 190.2586,2,    35.2,2,   28.52,2,    0.00,2,    1.94,2,-999.000,9,-999.000,9,-999.0000,9,  2198.4,2, 2300.34,2,   7.6405,2, -999.00,9, -999.00,9, -999.00,    41.6,3, -999.00,9,     -999.0,1,  -999.0,9, 20170714,     1619, -30.0798, 168.1421,        0.0,1,      0.060,1,      4.702,1,      0.144,1,      25.05,     -999.0,9,     -999.0,9,     -999.0,9,     -999.0,9,     5.4834,2,     -999.0,9
320620170703,        P06,      51,          1,         10,         10,2,20170714,       1704,   -30.0798,   168.1424,       1813,   944.3,   6.1181,  34.4653,2,  34.4659,2, 197.1261,2, 197.1860,2,    26.2,2,   26.59,2,    0.00,2,    1.83,2,-999.000,9,-999.000,9,-999.0000,9,  -999.0,9, -999.00,9,-999.0000,9, -999.00,9, -999.00,9, -999.00,    39.1,2, -999.00,9,     -999.0,1,  -999.0,9, 20170714,     1623, -30.0798, 168.1420,        0.0,1,      0.059,1,      4.697,1,      0.143,1,     -999.0,     -999.0,9,     -999.0,9,     -999.0,9,     -999.0,9,     6.2451,2,     -999.0,9
320620170703,        P06,      51,          1,         11,         42,2,20170714,       1704,   -30.0798,   168.1424,       1813,   840.4,   6.9372,  34.4972,2,  34.5146,2, 202.3206,2, 202.3984,2,    17.6,2,   24.08,2,    0.00,2,    1.64,2,-999.000,9,-999.000,9,-999.0000,9,  2167.7,2, 2288.35,2,   7.6853,2, -999.00,9, -999.00,9, -999.00,    38.4,2, -999.00,9,     -999.0,1,  -999.0,9, 20170714,     1626, -30.0798, 168.1421,        0.0,1,      0.060,1,      4.623,1,      0.140,1,      25.02,     -999.0,9,     -999.0,9,     -999.0,9,     -999.0,9,     7.2672,2,     -999.0,9
320620170703,        P06,      51,          1,         12,         12,2,20170714,       1704,   -30.0798,   168.1424,       1813,   742.0,   7.8198,  34.5663,2,  34.5757,2, 202.6502,2, 202.4989,2,    13.9,2,   22.42,2,    0.00,2,    1.53,2,-999.000,9,-999.000,9,-999.0000,9,  -999.0,9, -999.00,9,-999.0000,9, -999.00,9, -999.00,9, -999.00,    38.9,2, -999.00,9,     -999.0,1,  -999.0,9, 20170714,     1629, -30.0798, 168.1421,        0.0,1,      0.059,1,      4.701,1,      0.144,1,     -999.0,     -999.0,9,     -999.0,9,     -999.0,9,     -999.0,9,     8.0247,2,     -999.0,9
320620170703,        P06,      51,          1,         13,         43,2,20170714,       1704,   -30.0798,   168.1424,       1813,   640.8,   8.9707,  34.6664,2,  34.6771,2, 202.0092,2, 202.0816,2,    10.0,2,   20.02,2,    0.00,2,    1.37,2,-999.000,9,-999.000,9,-999.0000,9,  2152.6,2, 2284.29,2,   7.7237,2, -999.00,9, -999.00,9, -999.00,    41.6,2, -999.00,9,     -999.0,1,  -999.0,9, 20170714,     1632, -30.0798, 168.1419,        0.0,1,      0.060,1,      4.700,1,      0.148,1,      25.01,     -999.0,9,     -999.0,9,     -999.0,9,     -999.0,9,     9.1082,2,     -999.0,9
320620170703,        P06,      51,          1,         14,         14,2,20170714,       1704,   -30.0798,   168.1424,       1813,   539.2,   9.9192,  34.7644,2,  34.7590,2, 200.7654,2, 200.7522,2,     8.1,2,   18.31,2,    0.00,2,    1.24,2,-999.000,9,-999.000,9,-999.0000,9,  -999.0,9, -999.00,9,-999.0000,9, -999.00,9, -999.00,9, -999.00,    41.6,2, -999.00,9,     -999.0,1,  -999.0,9, 20170714,     1635, -30.0798, 168.1418,        0.0,1,      0.059,1,      4.698,1,      0.144,1,     -999.0,     -999.0,9,     -999.0,9,     -999.0,9,     -999.0,9,     9.8978,2,     -999.0,9
320620170703,        P06,      51,          1,         15,         15,2,20170714,       1704,   -30.0798,   168.1424,       1813,   468.1,  11.7358,  34.9734,2,  34.9545,2, 197.8456,2, 197.8046,2,     5.7,2,   14.89,2,    0.00,2,    1.02,2,-999.000,9,-999.000,9,-999.0000,9,  2135.5,2, 2295.96,2,   7.7804,2, -999.00,9, -999.00,9, -999.00,    43.5,2, -999.00,9,     -999.0,1,  -999.0,9, 20170714,     1637, -30.0799, 168.1417,        0.0,1,      0.060,1,      4.697,1,      0.144,1,      25.01,     -999.0,9,     -999.0,9,     -999.0,9,     -999.0,9,    11.5865,2,     -999.0,9
320620170703,        P06,      51,          1,         16,         16,2,20170714,       1704,   -30.0798,   168.1424,       1813,   416.8,  12.1636,  35.0248,2,  35.0218,2, 197.4317,2, 197.6127,2,     4.7,2,   13.46,2,    0.00,2,    0.91,2,-999.000,9,-999.000,9,-999.0000,9,  -999.0,9, -999.00,9,-999.0000,9, -999.00,9, -999.00,9, -999.00,  -999.0,9, -999.00,9,     -999.0,9,  -999.0,9, 20170714,     1639, -30.0799, 168.1417,        0.0,1,      0.059,1,      3.515,1,      0.142,1,     -999.0,     -999.0,9,     -999.0,9,     -999.0,9,     -999.0,9,    12.2145,2,     -999.0,9
320620170703,        P06,      51,          1,         17,         17,2,20170714,       1704,   -30.0798,   168.1424,       1813,   367.9,  13.0503,  35.1190,2,  35.1222,2, 197.4834,2, 197.6978,2,     3.8,2,   11.71,2,    0.00,2,    0.82,2,-999.000,9,-999.000,9,-999.0000,9,  2125.1,2, 2304.44,2,   7.8191,2, -999.00,9, -999.00,9, -999.00,    44.6,2, -999.00,9,     -999.0,1,  -999.0,9, 20170714,     1641, -30.0799, 168.1418,        0.0,1,      0.060,1,      4.402,1,      0.144,1,      25.02,     -999.0,9,     -999.0,9,     -999.0,9,     -999.0,9,    13.0949,2,     -999.0,9
320620170703,        P06,      51,          1,         18,         18,2,20170714,       1704,   -30.0798,   168.1424,       1813,   317.4,  14.0033,  35.2254,2,  35.2846,2, 198.5537,2, 198.0071,2,     2.6,2,    9.16,2,    0.00,2,    0.64,2,-999.000,9,-999.000,9,-999.0000,9,  -999.0,9, -999.00,9,-999.0000,9, -999.00,9, -999.00,9, -999.00,  -999.0,9, -999.00,9,     -999.0,9,  -999.0,9, 20170714,     1644, -30.0799, 168.1418,        0.0,1,      0.059,1,      4.663,1,      0.149,1,     -999.0,     -999.0,9,     -999.0,9,     -999.0,9,     -999.0,9,    14.5171,2,     -999.0,9
320620170703,        P06,      51,          1,         19,         19,2,20170714,       1704,   -30.0798,   168.1424,       1813,   266.1,  15.7477,  35.4163,2,  35.4348,2, 201.1562,2, 201.0293,2,     2.0,2,    7.02,2,    0.00,2,    0.52,2,-999.000,9,-999.000,9,-999.0000,9,  2103.1,2, 2321.20,2,   7.8921,2, -999.00,9, -999.00,9, -999.00,    45.8,2,   10.00,2,     -999.0,1,  -999.0,9, 20170714,     1646, -30.0799, 168.1419,        0.0,1,      0.061,1,      4.691,1,      0.149,1,      25.04,     -999.0,9,     -999.0,9,     -999.0,9,     -999.0,9,    15.9676,2,     -999.0,9
320620170703,        P06,      51,          1,         20,         20,2,20170714,       1704,   -30.0798,   168.1424,       1813,   216.0,  16.8735,  35.5178,2,  35.5289,2, 200.0146,2, 200.5441,2,     1.4,2,    5.54,2,    0.00,2,    0.43,2,-999.000,9,-999.000,9,-999.0000,9,  -999.0,9, -999.00,9,-999.0000,9, -999.00,9, -999.00,9, -999.00,    47.4,2,   10.10,2,     -999.0,1,  -999.0,9, 20170714,     1648, -30.0798, 168.1420,        0.0,1,      0.060,1,      4.689,1,      0.147,1,     -999.0,     -999.0,9,     -999.0,9,     -999.0,9,     -999.0,9,    17.0667,2,     -999.0,9
320620170703,        P06,      51,          1,         21,         21,2,20170714,       1704,   -30.0798,   168.1424,       1813,   185.8,  17.5156,  35.5700,2,  35.5877,2, 200.8059,2, 199.7696,2,     1.1,2,    4.65,2,    0.00,2,    0.36,2,-999.000,9,-999.000,9,-999.0000,9,  2088.9,2, 2322.46,2,   7.9339,2, -999.00,9, -999.00,9, -999.00,    49.8,2,    8.70,2,     -999.0,1,  -999.0,9, 20170714,     1650, -30.0798, 168.1421,        0.0,1,      0.061,1,      3.116,1,      0.152,1,      25.05,     -999.0,9,     -999.0,9,     -999.0,9,     -999.0,9,    17.7714,2,     -999.0,9
320620170703,        P06,      51,          1,         22,         22,2,20170714,       1704,   -30.0798,   168.1424,       1813,   162.0,  18.0862,  35.6196,2,  35.7606,2, 213.5564,2, 211.6914,2,     0.5,2,    2.00,2,    0.07,2,    0.18,2,-999.000,9,-999.000,9,-999.0000,9,  -999.0,9, -999.00,9,-999.0000,9, -999.00,9, -999.00,9, -999.00,    53.4,2,    5.80,2,     -999.0,1,  -999.0,9, 20170714,     1652, -30.0798, 168.1421,        0.0,1,      0.063,1,      4.683,1,      0.152,1,     -999.0,     -999.0,9,     -999.0,9,     -999.0,9,     -999.0,9,    19.0919,2,     -999.0,9
320620170703,        P06,      51,          1,         23,         23,2,20170714,       1704,   -30.0798,   168.1424,       1813,   131.2,  19.4980,  35.8457,2,  35.8514,2, 221.0929,2, 221.2500,2,     0.2,2,    0.59,2,    0.09,2,    0.10,2,-999.000,9,-999.000,9,-999.0000,9,  2061.1,2, 2341.68,2,   8.0057,2, -999.00,9, -999.00,9, -999.00,    55.8,2,    4.60,2,     -999.0,1,  -999.0,9, 20170714,     1654, -30.0798, 168.1422,        0.0,1,      0.161,1,      4.632,1,      0.212,1,      25.03,     -999.0,9,     -999.0,9,     -999.0,9,     -999.0,9,    19.5122,2,     -999.0,9
320620170703,        P06,      51,          1,         24,         24,2,20170714,       1704,   -30.0798,   168.1424,       1813,   112.3,  19.5032,  35.8479,2,  35.8544,2, 221.1229,2, 221.1962,2,     0.3,2,    0.60,2,    0.09,2,    0.09,2,-999.000,9,-999.000,9,-999.0000,9,  -999.0,9, -999.00,9,-999.0000,9, -999.00,9, -999.00,9, -999.00,    57.3,2,    5.10,2,     -999.0,1,  -999.0,9, 20170714,     1656, -30.0798, 168.1422,        0.0,1,      0.165,1,      4.631,1,      0.206,1,     -999.0,     -999.0,9,     -999.0,9,     -999.0,9,     -999.0,9,    19.5093,2,     -999.0,9
320620170703,        P06,      51,          1,         25,         25,2,20170714,       1704,   -30.0798,   168.1424,       1813,    85.9,  19.5153,  35.8516,2,  35.8503,2, 221.2077,2, 220.4227,2,     0.2,2,    0.61,2,    0.09,2,    0.12,2,-999.000,9,-999.000,9,-999.0000,9,  2063.8,2, 2344.41,2,   8.0067,2, -999.00,9, -999.00,9, -999.00,    56.9,2,    5.40,2,     -999.0,1,  -999.0,9, 20170714,     1658, -30.0798, 168.1422,        0.0,1,      0.168,1,      4.629,1,      0.217,1,      25.00,     -999.0,9,     -999.0,9,     -999.0,9,     -999.0,9,    19.5053,2,     -999.0,9
320620170703,        P06,      51,          1,         26,         26,2,20170714,       1704,   -30.0798,   168.1424,       1813,    60.9,  19.5081,  35.8519,2,  35.8501,2, 221.1966,2, 221.1499,2,     0.2,2,    0.65,2,    0.09,2,    0.10,2,-999.000,9,-999.000,9,-999.0000,9,  -999.0,9, -999.00,9,-999.0000,9, -999.00,9, -999.00,9, -999.00,    58.7,2,    5.00,2,     -999.0,1,  -999.0,9, 20170714,     1700, -30.0798, 168.1422,        0.0,1,      0.169,1,      4.629,1,      0.877,1,     -999.0,     -999.0,9,     -999.0,9,     -999.0,9,     -999.0,9,    19.4995,2,     -999.0,9
320620170703,        P06,      51,          1,         27,         27,2,20170714,       1704,   -30.0798,   168.1424,       1813,    34.2,  19.5090,  35.8517,2,  35.8510,2, 220.9566,2, 221.3613,2,     0.3,2,    0.64,2,    0.09,2,    0.12,2,-999.000,9,-999.000,9,-999.0000,9,  2063.2,2, 2342.97,2,   8.0059,2, -999.00,9, -999.00,9, -999.00,    55.9,2,    4.40,2,     -999.0,1,  -999.0,9, 20170714,     1702, -30.0798, 168.1423,        0.0,1,      0.170,1,      1.273,1,      0.207,1,      24.95,     -999.0,9,     -999.0,9,     -999.0,9,     -999.0,9,    19.4945,2,     -999.0,9
320620170703,        P06,      51,          1,         28,         28,2,20170714,       1704,   -30.0798,   168.1424,       1813,     4.7,  19.4910,  35.8516,2,  35.8505,2, 220.3901,2, 221.2851,2,     0.3,2,    0.61,2,    0.09,2,    0.12,2,-999.000,9,-999.000,9,-999.0000,9,  2063.0,6, 2345.86,2,   8.0055,2, -999.00,9, -999.00,9, -999.00,    57.1,2,    5.00,2,     -999.0,1,  -999.0,9, 20170714,     1704, -30.0798, 168.1424,        0.0,1,      0.182,1,      3.888,1,      0.233,1,      25.04,     -999.0,9,     -999.0,9,     -999.0,9,     -999.0,9,    19.4790,2,     -999.0,9