BOTTLE,20230922CCHSIOCBG
EXPOCODE,SECT_ID,STNNBR,CASTNO,SAMPNO,BTLNBR,BTLNBR_FLAG_W,DATE,TIME,LATITUDE,LONGITUDE,DEPTH,CTDPRS,CTDTMP,CTDSAL,CTDSAL_FLAG_W,SALNTY,SALNTY_FLAG_W,CTDOXY,CTDOXY_FLAG_W,OXYGEN,OXYGEN_FLAG_W,SILCAT,SILCAT_FLAG_W,NITRAT,NITRAT_FLAG_W,NITRIT,NITRIT_FLAG_W,PHSPHT,PHSPHT_FLAG_W,CFC-11,CFC-11_FLAG_W,CFC-12,CFC-12_FLAG_W,SF6,SF6_FLAG_W,TCARBN,TCARBN_FLAG_W,ALKALI,ALKALI_FLAG_W,PH_TOT,PH_TOT_FLAG_W,DELC13,DELC13_FLAG_W,DELC14,DELC14_FLAG_W,C14ERR,DOC,DOC_FLAG_W,TDN,TDN_FLAG_W,TON,TON_FLAG_W,D15N_NO3,D15N_NO3_FLAG_W,BTL_DATE,BTL_TIME,BTL_LAT,BTL_LON,CTDRINKO,CTDRINKO_FLAG_W,CTDFLUOR,CTDFLUOR_FLAG_W,CTDXMISS,CTDXMISS_FLAG_W,CTDBACKSCATTER,CTDBACKSCATTER_FLAG_W,PH_TMP,D18O_NO3,D18O_NO3_FLAG_W,DOP,DOP_FLAG_W,HPLC,HPLC_FLAG_W,POC,POC_FLAG_W,REFTMP,REFTMP_FLAG_W,TDP,TDP_FLAG_W
,,,,,,,,,,,METERS,DBAR,ITS-90,PSS-78,,PSS-78,,UMOL/KG,,UMOL/KG,,UMOL/KG,,UMOL/KG,,UMOL/KG,,UMOL/KG,,PMOL/KG,,PMOL/KG,,FMOL/KG,,UMOL/KG,,UMOL/KG,,,,/MILLE,,/MILLE,,/MILLE,UMOL/KG,,UMOL/KG,,UMOL/KG,,/MILLE,,,,,,VOLTS,,VOLTS,,VOLTS,,VOLTS,,DEGC,/MILLE,,UMOL/KG,,,,UG/L,,ITS-90,,UMOL/KG,
320620170703,        P06,      25,          1,         33,         33,2,20170709,       2006,   -30.0798,   158.6804,       3177,    66.9,  20.1577,  35.7884,2,  35.7904,2, 223.9682,3, 218.0481,2,     0.0,2,    0.57,2,    0.24,2,    0.11,2,   1.870,2,   1.143,2,   1.0410,2,  2049.1,2, 2339.16,2,   8.0197,2, -999.00,9, -999.00,9, -999.00,    57.0,2,    5.20,2,     -999.0,1,  -999.0,9, 20170709,     2002, -30.0797, 158.6803,        0.0,1,      0.231,1,      4.619,1,      0.204,1,      25.00,     -999.0,9,     -999.0,9,     -999.0,9,     -999.0,9,    20.1544,2,     -999.0,9
320620170703,        P06,      25,          1,         34,         34,2,20170709,       2006,   -30.0798,   158.6804,       3177,    40.9,  20.1636,  35.7867,2,  35.7896,2, 223.5394,3, 218.3392,2,     0.0,2,    0.60,2,    0.18,2,    0.12,2,-999.000,9,-999.000,9,-999.0000,9,  2049.6,2, 2341.31,2,   8.0198,2, -999.00,9, -999.00,9, -999.00,    56.6,2,    6.00,2,     -999.0,1,  -999.0,9, 20170709,     2004, -30.0798, 158.6804,        0.0,1,      0.219,1,      4.621,1,      0.200,1,      25.02,     -999.0,9,     -999.0,9,     -999.0,9,     -999.0,9,    20.1699,2,     -999.0,9
320620170703,        P06,      25,          1,         35,         35,2,20170709,       2006,   -30.0798,   158.6804,       3177,    21.9,  20.2303,  35.7864,2,  35.7896,2, 223.6756,3, 218.8260,2,     0.0,2,    0.58,2,    0.16,2,    0.12,2,   1.841,2,   1.137,2,   1.0700,2,  -999.0,9, -999.00,9,-999.0000,9, -999.00,9, -999.00,9, -999.00,    56.1,2,    5.20,2,     -999.0,1,  -999.0,9, 20170709,     2005, -30.0798, 158.6804,        0.0,1,      0.246,1,      4.598,1,      0.223,1,     -999.0,     -999.0,9,     -999.0,9,     -999.0,9,     -999.0,9,    20.1759,2,     -999.0,9
320620170703,        P06,      25,          1,         36,         36,2,20170709,       2006,   -30.0798,   158.6804,       3177,     4.6,  20.2400,  35.7862,2,  35.7896,2, 223.6205,3, 219.0981,2,     0.0,2,    0.56,2,    0.15,2,    0.14,2,   1.867,2,   1.215,2,   1.0400,2,  2048.7,6, 2341.80,2,   8.0228,2, -999.00,9, -999.00,9, -999.00,    56.0,2,    5.60,2,     -999.0,1,  -999.0,9, 20170709,     2006, -30.0798, 158.6804,        0.0,1,      0.238,1,      4.598,1,      0.218,1,      25.02,     -999.0,9,     -999.0,9,     -999.0,9,     -999.0,9,    20.1751,2,     -999.0,9