BOTTLE,20230922CCHSIOCBG
EXPOCODE,SECT_ID,STNNBR,CASTNO,SAMPNO,BTLNBR,BTLNBR_FLAG_W,DATE,TIME,LATITUDE,LONGITUDE,DEPTH,CTDPRS,CTDTMP,CTDSAL,CTDSAL_FLAG_W,SALNTY,SALNTY_FLAG_W,CTDOXY,CTDOXY_FLAG_W,OXYGEN,OXYGEN_FLAG_W,SILCAT,SILCAT_FLAG_W,NITRAT,NITRAT_FLAG_W,NITRIT,NITRIT_FLAG_W,PHSPHT,PHSPHT_FLAG_W,CFC-11,CFC-11_FLAG_W,CFC-12,CFC-12_FLAG_W,SF6,SF6_FLAG_W,TCARBN,TCARBN_FLAG_W,ALKALI,ALKALI_FLAG_W,PH_TOT,PH_TOT_FLAG_W,DELC13,DELC13_FLAG_W,DELC14,DELC14_FLAG_W,C14ERR,DOC,DOC_FLAG_W,TDN,TDN_FLAG_W,TON,TON_FLAG_W,D15N_NO3,D15N_NO3_FLAG_W,BTL_DATE,BTL_TIME,BTL_LAT,BTL_LON,CTDRINKO,CTDRINKO_FLAG_W,CTDFLUOR,CTDFLUOR_FLAG_W,CTDXMISS,CTDXMISS_FLAG_W,CTDBACKSCATTER,CTDBACKSCATTER_FLAG_W,PH_TMP,D18O_NO3,D18O_NO3_FLAG_W,DOP,DOP_FLAG_W,HPLC,HPLC_FLAG_W,POC,POC_FLAG_W,REFTMP,REFTMP_FLAG_W,TDP,TDP_FLAG_W
,,,,,,,,,,,METERS,DBAR,ITS-90,PSS-78,,PSS-78,,UMOL/KG,,UMOL/KG,,UMOL/KG,,UMOL/KG,,UMOL/KG,,UMOL/KG,,PMOL/KG,,PMOL/KG,,FMOL/KG,,UMOL/KG,,UMOL/KG,,,,/MILLE,,/MILLE,,/MILLE,UMOL/KG,,UMOL/KG,,UMOL/KG,,/MILLE,,,,,,VOLTS,,VOLTS,,VOLTS,,VOLTS,,DEGC,/MILLE,,UMOL/KG,,,,UG/L,,ITS-90,,UMOL/KG,
320620170703,        P06,      39,          1,         33,         33,2,20170712,       0949,   -30.0800,   164.3398,       3300,    87.6,  19.9071,  35.8334,2,  35.8358,2, 224.1522,2, 223.9036,2,     0.4,2,    0.19,2,    0.10,2,    0.10,2,-999.000,9,-999.000,9,-999.0000,9,  2053.4,2, 2344.73,2,   8.0221,2, -999.00,9, -999.00,9, -999.00,  -999.0,9, -999.00,9,     -999.0,9,  -999.0,9, 20170712,      944, -30.0800, 164.3399,        0.0,1,      0.224,1,      4.609,1,      0.205,1,      25.03,     -999.0,9,     -999.0,9,     -999.0,9,     -999.0,9,    19.9080,2,     -999.0,9
320620170703,        P06,      39,          1,         34,         34,2,20170712,       0949,   -30.0800,   164.3398,       3300,    62.9,  19.9712,  35.8368,2,  35.8372,2, 223.5282,2, 223.4852,2,     0.4,2,    0.23,2,    0.11,2,    0.08,2,-999.000,9,-999.000,9,-999.0000,9,  2053.9,2, 2351.40,2,   8.0229,2, -999.00,9, -999.00,9, -999.00,  -999.0,9, -999.00,9,     -999.0,9,  -999.0,9, 20170712,      946, -30.0800, 164.3400,        0.0,1,      0.234,1,      4.605,1,      0.212,1,      24.89,     -999.0,9,     -999.0,9,     -999.0,9,     -999.0,9,    19.9894,2,     -999.0,9
320620170703,        P06,      39,          1,         35,         35,2,20170712,       0949,   -30.0800,   164.3398,       3300,    36.7,  19.9662,  35.8364,2,  35.8376,2, 222.6755,2, 229.4030,3,     0.4,2,    0.25,2,    0.12,2,    0.09,2,-999.000,9,-999.000,9,-999.0000,9,  2051.0,2, 2355.31,2,   8.0220,2, -999.00,9, -999.00,9, -999.00,  -999.0,9, -999.00,9,     -999.0,9,  -999.0,9, 20170712,      947, -30.0800, 164.3399,        0.0,1,      0.233,1,      4.606,1,      0.219,1,      24.98,     -999.0,9,     -999.0,9,     -999.0,9,     -999.0,9,    19.9936,2,     -999.0,9
320620170703,        P06,      39,          1,         36,         36,2,20170712,       0949,   -30.0800,   164.3398,       3300,     8.7,  19.9524,  35.8362,2,  35.8384,2, 223.5282,2, 223.2859,2,     0.5,2,    0.25,2,    0.12,2,    0.11,2,-999.000,9,-999.000,9,-999.0000,9,  2052.4,6, 2341.86,2,   8.0211,2, -999.00,9, -999.00,9, -999.00,  -999.0,9, -999.00,9,     -999.0,9,  -999.0,9, 20170712,      949, -30.0800, 164.3398,        0.0,1,      0.231,1,      4.607,1,      0.213,1,      24.98,     -999.0,9,     -999.0,9,     -999.0,9,     -999.0,9,    19.9895,2,     -999.0,9