BOTTLE,20230922CCHSIOCBG
EXPOCODE,SECT_ID,STNNBR,CASTNO,SAMPNO,BTLNBR,BTLNBR_FLAG_W,DATE,TIME,LATITUDE,LONGITUDE,DEPTH,CTDPRS,CTDTMP,CTDSAL,CTDSAL_FLAG_W,SALNTY,SALNTY_FLAG_W,CTDOXY,CTDOXY_FLAG_W,OXYGEN,OXYGEN_FLAG_W,SILCAT,SILCAT_FLAG_W,NITRAT,NITRAT_FLAG_W,NITRIT,NITRIT_FLAG_W,PHSPHT,PHSPHT_FLAG_W,CFC-11,CFC-11_FLAG_W,CFC-12,CFC-12_FLAG_W,SF6,SF6_FLAG_W,TCARBN,TCARBN_FLAG_W,ALKALI,ALKALI_FLAG_W,PH_TOT,PH_TOT_FLAG_W,DELC13,DELC13_FLAG_W,DELC14,DELC14_FLAG_W,C14ERR,DOC,DOC_FLAG_W,TDN,TDN_FLAG_W,TON,TON_FLAG_W,D15N_NO3,D15N_NO3_FLAG_W,BTL_DATE,BTL_TIME,BTL_LAT,BTL_LON,CTDRINKO,CTDRINKO_FLAG_W,CTDFLUOR,CTDFLUOR_FLAG_W,CTDXMISS,CTDXMISS_FLAG_W,CTDBACKSCATTER,CTDBACKSCATTER_FLAG_W,PH_TMP,D18O_NO3,D18O_NO3_FLAG_W,DOP,DOP_FLAG_W,HPLC,HPLC_FLAG_W,POC,POC_FLAG_W,REFTMP,REFTMP_FLAG_W,TDP,TDP_FLAG_W
,,,,,,,,,,,METERS,DBAR,ITS-90,PSS-78,,PSS-78,,UMOL/KG,,UMOL/KG,,UMOL/KG,,UMOL/KG,,UMOL/KG,,UMOL/KG,,PMOL/KG,,PMOL/KG,,FMOL/KG,,UMOL/KG,,UMOL/KG,,,,/MILLE,,/MILLE,,/MILLE,UMOL/KG,,UMOL/KG,,UMOL/KG,,/MILLE,,,,,,VOLTS,,VOLTS,,VOLTS,,VOLTS,,DEGC,/MILLE,,UMOL/KG,,,,UG/L,,ITS-90,,UMOL/KG,
320620170703,        P06,      47,          1,          1,         37,2,20170714,       0342,   -30.0798,   167.2501,       2471,  2490.5,   2.0425,  34.6710,2,  34.6714,2, 155.5516,2, 155.4145,2,   114.2,2,   34.80,2,    0.00,2,    2.43,2,-999.000,9,-999.000,9,-999.0000,9,  2302.3,6, 2388.24,2,   7.5810,2, -999.00,9, -999.00,9, -999.00,  -999.0,9, -999.00,9,     -999.0,9,  -999.0,9, 20170714,      221, -30.0800, 167.2502,        0.0,1,      0.062,1,      4.702,1,      0.146,1,      25.01,     -999.0,9,     -999.0,9,     -999.0,9,     -999.0,9,     2.0451,2,     -999.0,9
320620170703,        P06,      47,          1,          2,          2,2,20170714,       0342,   -30.0798,   167.2501,       2471,  2389.2,   2.0748,  34.6679,2,  34.6680,2, 155.3163,2, 155.2451,2,   113.6,2,   34.85,2,    0.00,2,    2.44,2,   0.034,2,   0.027,2,   0.0000,2,  2300.8,2, 2389.11,6,   7.5794,2, -999.00,9, -999.00,9, -999.00,  -999.0,9, -999.00,9,     -999.0,9,  -999.0,9, 20170714,      224, -30.0801, 167.2503,        0.0,1,      0.062,1,      4.703,1,      0.147,1,      25.04,     -999.0,9,     -999.0,9,     -999.0,9,     -999.0,9,     2.0783,2,     -999.0,9
320620170703,        P06,      47,          1,          3,         38,2,20170714,       0342,   -30.0798,   167.2501,       2471,  2227.3,   2.1331,  34.6622,2,  34.6620,2, 154.9846,2, 155.2903,2,   112.2,2,   34.83,2,    0.00,2,    2.43,2,-999.000,9,-999.000,9,-999.0000,9,  -999.0,9, -999.00,9,-999.0000,9, -999.00,9, -999.00,9, -999.00,  -999.0,9, -999.00,9,     -999.0,9,  -999.0,9, 20170714,      228, -30.0801, 167.2505,        0.0,1,      0.061,1,      4.702,1,      0.156,1,     -999.0,     -999.0,9,     -999.0,9,     -999.0,9,     -999.0,9,     2.1317,2,     -999.0,9
320620170703,        P06,      47,          1,          4,          4,2,20170714,       0342,   -30.0798,   167.2501,       2471,  2023.0,   2.3556,  34.6429,2,  34.6437,2, 153.4260,2, 153.5883,2,   107.6,2,   34.78,2,    0.00,2,    2.43,2,   0.040,2,   0.032,2,   0.0000,2,  2294.0,2, 2381.40,2,   7.5772,3, -999.00,9, -999.00,9, -999.00,  -999.0,9, -999.00,9,     -999.0,9,  -999.0,9, 20170714,      232, -30.0800, 167.2502,        0.0,1,      0.062,1,      4.703,1,      0.146,1,      25.02,     -999.0,9,     -999.0,9,     -999.0,9,     -999.0,9,     2.3510,2,     -999.0,9
320620170703,        P06,      47,          1,          5,         39,2,20170714,       0342,   -30.0798,   167.2501,       2471,  1921.6,   2.4873,  34.6314,2,  34.6323,2, 153.0116,2, 152.8678,2,   104.3,2,   34.69,2,    0.00,2,    2.42,2,-999.000,9,-999.000,9,-999.0000,9,  -999.0,9, -999.00,9,-999.0000,9, -999.00,9, -999.00,9, -999.00,  -999.0,9, -999.00,9,     -999.0,9,  -999.0,9, 20170714,      235, -30.0799, 167.2500,        0.0,1,      0.061,1,      4.704,1,      0.143,1,     -999.0,     -999.0,9,     -999.0,9,     -999.0,9,     -999.0,9,     2.4752,2,     -999.0,9
320620170703,        P06,      47,          1,          6,          6,2,20170714,       0342,   -30.0798,   167.2501,       2471,  1819.5,   2.5825,  34.6231,2,  34.6250,2, 152.9326,2, 152.9094,2,   102.8,2,   34.60,2,    0.00,2,    2.39,2,   0.051,2,   0.038,2,   0.0000,2,  2289.6,2, 2374.12,2,   7.5756,2, -999.00,9, -999.00,9, -999.00,  -999.0,9, -999.00,9,     -999.0,9,  -999.0,9, 20170714,      238, -30.0799, 167.2498,        0.0,1,      0.062,1,      4.704,1,      0.142,1,      25.00,     -999.0,9,     -999.0,9,     -999.0,9,     -999.0,9,     2.5678,2,     -999.0,9
320620170703,        P06,      47,          1,          7,         40,2,20170714,       0342,   -30.0798,   167.2501,       2471,  1719.0,   2.7387,  34.6101,2,  34.6130,2, 153.3963,2, 153.0910,2,    99.3,2,   34.43,2,    0.00,2,    2.39,2,-999.000,9,-999.000,9,-999.0000,9,  -999.0,9, -999.00,9,-999.0000,9, -999.00,9, -999.00,9, -999.00,  -999.0,9, -999.00,9,     -999.0,9,  -999.0,9, 20170714,      241, -30.0799, 167.2498,        0.0,1,      0.061,1,      4.704,1,      0.146,1,     -999.0,     -999.0,9,     -999.0,9,     -999.0,9,     -999.0,9,     2.7103,2,     -999.0,9
320620170703,        P06,      47,          1,          8,          8,2,20170714,       0342,   -30.0798,   167.2501,       2471,  1618.0,   2.9200,  34.5961,2,  34.6003,2, 154.2055,2, 154.4260,2,    95.3,2,   34.19,2,    0.00,2,    2.38,2,   0.088,2,   0.060,2,   0.0000,2,  2280.7,2, 2358.83,2,   7.5776,2, -999.00,9, -999.00,9, -999.00,  -999.0,9, -999.00,9,     -999.0,9,  -999.0,9, 20170714,      244, -30.0799, 167.2499,        0.0,1,      0.061,1,      4.703,1,      0.147,1,      25.00,     -999.0,9,     -999.0,9,     -999.0,9,     -999.0,9,     2.8668,2,     -999.0,9
320620170703,        P06,      47,          1,          9,         41,2,20170714,       0342,   -30.0798,   167.2501,       2471,  1515.1,   3.1533,  34.5784,2,  34.5796,2, 157.0771,2, 157.2933,2,    88.5,2,   33.70,2,    0.00,2,    2.33,2,-999.000,9,-999.000,9,-999.0000,9,  -999.0,9, -999.00,9,-999.0000,9, -999.00,9, -999.00,9, -999.00,  -999.0,9, -999.00,9,     -999.0,9,  -999.0,9, 20170714,      247, -30.0799, 167.2501,        0.0,1,      0.061,1,      4.702,1,      0.155,1,     -999.0,     -999.0,9,     -999.0,9,     -999.0,9,     -999.0,9,     3.1286,2,     -999.0,9
320620170703,        P06,      47,          1,         10,         10,2,20170714,       0342,   -30.0798,   167.2501,       2471,  1414.5,   3.5718,  34.5483,2,  34.5531,2, 162.8052,2, 162.5361,2,    78.9,2,   32.96,2,    0.00,2,    2.29,2,   0.243,2,   0.145,2,   0.1020,2,  2259.6,2, 2349.69,2,   7.5907,2, -999.00,9, -999.00,9, -999.00,  -999.0,9, -999.00,9,     -999.0,9,  -999.0,9, 20170714,      249, -30.0799, 167.2501,        0.0,1,      0.061,1,      4.702,1,      0.150,1,      25.00,     -999.0,9,     -999.0,9,     -999.0,9,     -999.0,9,     3.5197,2,     -999.0,9
320620170703,        P06,      47,          1,         11,         42,2,20170714,       0342,   -30.0798,   167.2501,       2471,  1312.4,   4.1268,  34.5075,2,  34.5084,3, 172.0509,2, 171.3545,2,    63.1,2,   31.68,2,    0.00,2,    2.19,2,-999.000,9,-999.000,9,-999.0000,9,  -999.0,9, -999.00,9,-999.0000,9, -999.00,9, -999.00,9, -999.00,  -999.0,9, -999.00,9,     -999.0,9,  -999.0,9, 20170714,      252, -30.0799, 167.2503,        0.0,1,      0.061,1,      4.703,1,      0.147,1,     -999.0,     -999.0,9,     -999.0,9,     -999.0,9,     -999.0,9,     4.1203,2,     -999.0,9
320620170703,        P06,      47,          1,         12,         12,2,20170714,       0342,   -30.0798,   167.2501,       2471,  1212.4,   4.5468,  34.4706,2,  34.4703,2, 179.6145,2, 180.1976,2,    51.2,2,   30.77,2,    0.00,2,    2.12,2,   0.565,2,   0.314,2,   0.1450,2,  2220.3,2, 2320.69,2,   7.6160,2, -999.00,9, -999.00,9, -999.00,  -999.0,9, -999.00,9,     -999.0,9,  -999.0,9, 20170714,      255, -30.0800, 167.2504,        0.0,1,      0.060,1,      4.703,1,      0.146,1,      25.01,     -999.0,9,     -999.0,9,     -999.0,9,     -999.0,9,     4.5500,2,     -999.0,9
320620170703,        P06,      47,          1,         13,         43,2,20170714,       0342,   -30.0798,   167.2501,       2471,  1110.4,   5.0027,  34.4488,2,  34.4475,2, 186.3496,2, 187.1356,2,    41.4,2,   29.69,2,    0.00,2,    2.05,2,-999.000,9,-999.000,9,-999.0000,9,  -999.0,9, -999.00,9,-999.0000,9, -999.00,9, -999.00,9, -999.00,  -999.0,9, -999.00,9,     -999.0,9,  -999.0,9, 20170714,      258, -30.0800, 167.2505,        0.0,1,      0.060,1,      4.703,1,      0.141,1,     -999.0,     -999.0,9,     -999.0,9,     -999.0,9,     -999.0,9,     4.9967,2,     -999.0,9
320620170703,        P06,      47,          1,         14,         14,2,20170714,       0342,   -30.0798,   167.2501,       2471,  1010.5,   5.5709,  34.4372,2,  34.4371,2, 194.1968,2, 193.7228,2,    31.9,2,   28.22,2,    0.00,2,    1.93,2,   1.038,2,   0.556,2,   0.1670,2,  2191.8,2, 2300.23,2,   7.6444,2, -999.00,9, -999.00,9, -999.00,  -999.0,9, -999.00,9,     -999.0,9,  -999.0,9, 20170714,      301, -30.0800, 167.2504,        0.0,1,      0.060,1,      4.703,1,      0.144,1,      25.00,     -999.0,9,     -999.0,9,     -999.0,9,     -999.0,9,     5.5592,2,     -999.0,9
320620170703,        P06,      47,          1,         15,         15,2,20170714,       0342,   -30.0798,   167.2501,       2471,   907.8,   6.2989,  34.4500,2,  34.4498,2, 200.5957,2, 200.4003,2,    23.5,2,   26.27,2,    0.00,2,    1.79,2,-999.000,9,-999.000,9,-999.0000,9,  -999.0,9, -999.00,9,-999.0000,9, -999.00,9, -999.00,9, -999.00,  -999.0,9, -999.00,9,     -999.0,9,  -999.0,9, 20170714,      304, -30.0799, 167.2502,        0.0,1,      0.060,1,      4.703,1,      0.141,1,     -999.0,     -999.0,9,     -999.0,9,     -999.0,9,     -999.0,9,     6.2821,2,     -999.0,9
320620170703,        P06,      47,          1,         16,         16,2,20170714,       0342,   -30.0798,   167.2501,       2471,   807.2,   7.1129,  34.4842,2,  34.4820,2, 205.2787,2, 205.0428,2,    16.8,2,   24.31,2,    0.00,2,    1.66,2,   1.728,2,   0.939,2,   0.3130,2,  2167.0,2, 2292.72,2,   7.6834,2, -999.00,9, -999.00,9, -999.00,  -999.0,9, -999.00,9,     -999.0,9,  -999.0,9, 20170714,      307, -30.0799, 167.2501,        0.0,1,      0.060,1,      4.703,1,      0.142,1,      25.02,     -999.0,9,     -999.0,9,     -999.0,9,     -999.0,9,     7.0325,2,     -999.0,9
320620170703,        P06,      47,          1,         17,         17,2,20170714,       0342,   -30.0798,   167.2501,       2471,   706.7,   8.1575,  34.5813,2,  34.5853,2, 203.4910,2, 203.2690,2,    12.7,2,   21.81,2,    0.00,2,    1.48,2,-999.000,9,-999.000,9,-999.0000,9,  -999.0,9, -999.00,9,-999.0000,9, -999.00,9, -999.00,9, -999.00,  -999.0,9, -999.00,9,     -999.0,9,  -999.0,9, 20170714,      310, -30.0799, 167.2500,        0.0,1,      0.061,1,      4.701,1,      0.145,1,     -999.0,     -999.0,9,     -999.0,9,     -999.0,9,     -999.0,9,     8.1729,2,     -999.0,9
320620170703,        P06,      47,          1,         18,         18,2,20170714,       0342,   -30.0798,   167.2501,       2471,   605.2,   9.4759,  34.7210,2,  34.7276,2, 200.3094,2, 200.7967,2,     9.0,2,   18.96,2,    0.00,2,    1.31,2,   2.223,2,   1.251,2,   0.6360,2,  2147.5,2, 2290.92,2,   7.7339,2, -999.00,9, -999.00,9, -999.00,  -999.0,9, -999.00,9,     -999.0,9,  -999.0,9, 20170714,      313, -30.0799, 167.2498,        0.0,1,      0.060,1,      4.698,1,      0.149,1,      25.03,     -999.0,9,     -999.0,9,     -999.0,9,     -999.0,9,     9.5263,2,     -999.0,9
320620170703,        P06,      47,          1,         19,         19,2,20170714,       0342,   -30.0798,   167.2501,       2471,   502.5,  11.1657,  34.9061,2,  34.9150,2, 197.8652,2, 198.4624,2,     5.8,2,   15.32,2,    0.00,2,    1.06,2,-999.000,9,-999.000,9,-999.0000,9,  -999.0,9, -999.00,9,-999.0000,9, -999.00,9, -999.00,9, -999.00,  -999.0,9, -999.00,9,     -999.0,9,  -999.0,9, 20170714,      315, -30.0799, 167.2498,        0.0,1,      0.060,1,      4.697,1,      0.144,1,     -999.0,     -999.0,9,     -999.0,9,     -999.0,9,     -999.0,9,    11.2074,2,     -999.0,9
320620170703,        P06,      47,          1,         20,         20,2,20170714,       0342,   -30.0798,   167.2501,       2471,   453.4,  11.8017,  34.9821,2,  35.0008,2, 197.1282,2, 197.6515,2,     4.9,2,   13.86,2,    0.00,2,    0.99,2,   2.304,2,   1.338,2,   0.8010,2,  2131.7,2, 2309.60,2,   7.7904,2, -999.00,9, -999.00,9, -999.00,  -999.0,9, -999.00,9,     -999.0,9,  -999.0,9, 20170714,      317, -30.0799, 167.2499,        0.0,1,      0.059,1,      4.696,1,      0.143,1,      25.00,     -999.0,9,     -999.0,9,     -999.0,9,     -999.0,9,    12.0104,2,     -999.0,9
320620170703,        P06,      47,          1,         21,         21,2,20170714,       0342,   -30.0798,   167.2501,       2471,   402.6,  13.0462,  35.1230,2,  35.1345,2, 196.8346,2, 196.8850,2,     3.6,2,   11.50,2,    0.00,2,    0.84,2,-999.000,9,-999.000,9,-999.0000,9,  -999.0,9, -999.00,9,-999.0000,9, -999.00,9, -999.00,9, -999.00,  -999.0,9, -999.00,9,     -999.0,9,  -999.0,9, 20170714,      319, -30.0799, 167.2502,        0.0,1,      0.059,1,      4.695,1,      0.142,1,     -999.0,     -999.0,9,     -999.0,9,     -999.0,9,     -999.0,9,    13.1434,2,     -999.0,9
320620170703,        P06,      47,          1,         22,         22,2,20170714,       0342,   -30.0798,   167.2501,       2471,   352.8,  13.9627,  35.2250,2,  35.2684,2, 197.4179,2, 196.8800,2,     2.5,2,    9.26,2,    0.00,2,    0.70,2,   2.243,2,   1.330,2,   0.9490,2,  2115.5,2, 2308.11,3,   7.8516,2, -999.00,9, -999.00,9, -999.00,  -999.0,9, -999.00,9,     -999.0,9,  -999.0,9, 20170714,      321, -30.0799, 167.2505,        0.0,1,      0.059,1,      4.695,1,      0.144,1,      25.01,     -999.0,9,     -999.0,9,     -999.0,9,     -999.0,9,    14.3760,2,     -999.0,9
320620170703,        P06,      47,          1,         23,         23,2,20170714,       0342,   -30.0798,   167.2501,       2471,   303.6,  15.1375,  35.3484,2,  35.3516,2, 197.3253,2, 196.7898,2,     2.0,2,    7.96,2,    0.00,2,    0.62,2,-999.000,9,-999.000,9,-999.0000,9,  -999.0,9, -999.00,9,-999.0000,9, -999.00,9, -999.00,9, -999.00,  -999.0,9, -999.00,9,     -999.0,9,  -999.0,9, 20170714,      323, -30.0799, 167.2507,        0.0,1,      0.060,1,      4.694,1,      0.147,1,     -999.0,     -999.0,9,     -999.0,9,     -999.0,9,     -999.0,9,    15.1717,2,     -999.0,9
320620170703,        P06,      47,          1,         24,         24,2,20170714,       0342,   -30.0798,   167.2501,       2471,   251.6,  16.4819,  35.4850,2,  35.4647,2, 199.3341,2, 197.9854,2,     1.4,2,    6.16,2,    0.00,2,    0.50,2,   2.097,2,   1.289,2,   1.0010,2,  2099.4,2, 2323.72,2,   7.8990,2, -999.00,9, -999.00,9, -999.00,  -999.0,9, -999.00,9,     -999.0,9,  -999.0,9, 20170714,      326, -30.0800, 167.2509,        0.0,1,      0.060,1,      4.691,1,      0.145,1,      25.05,     -999.0,9,     -999.0,9,     -999.0,9,     -999.0,9,    16.2626,2,     -999.0,9
320620170703,        P06,      47,          1,         25,         25,2,20170714,       0342,   -30.0798,   167.2501,       2471,   227.4,  17.0046,  35.5349,2,  35.5097,2, 198.9138,2, 198.0805,2,     1.2,2,    5.54,2,    0.00,2,    0.48,2,-999.000,9,-999.000,9,-999.0000,9,  -999.0,9, -999.00,9,-999.0000,9, -999.00,9, -999.00,9, -999.00,  -999.0,9, -999.00,9,     -999.0,9,  -999.0,9, 20170714,      327, -30.0799, 167.2508,        0.0,1,      0.060,1,      4.691,1,      0.143,1,     -999.0,     -999.0,9,     -999.0,9,     -999.0,9,     -999.0,9,    16.8802,2,     -999.0,9
320620170703,        P06,      47,          1,         26,         26,2,20170714,       0342,   -30.0798,   167.2501,       2471,   202.5,  17.5173,  35.5829,2,  35.5567,2, 199.2503,2, 198.5464,2,     0.9,2,    4.85,2,    0.00,2,    0.42,2,   1.975,2,   1.239,2,   1.0270,2,  2091.2,2, 2323.21,2,   7.9231,2, -999.00,9, -999.00,9, -999.00,  -999.0,9, -999.00,9,     -999.0,9,  -999.0,9, 20170714,      329, -30.0799, 167.2507,        0.0,1,      0.061,1,      4.689,1,      0.149,1,      24.99,     -999.0,9,     -999.0,9,     -999.0,9,     -999.0,9,    17.2590,2,     -999.0,9
320620170703,        P06,      47,          1,         27,         27,2,20170714,       0342,   -30.0798,   167.2501,       2471,   174.9,  18.2604,  35.6449,2,  35.5971,3, 199.3625,2, 199.2472,2,     0.9,2,    4.16,2,    0.02,2,    0.40,2,-999.000,9,-999.000,9,-999.0000,9,  2087.6,2, 2327.04,2,   7.9342,2, -999.00,9, -999.00,9, -999.00,  -999.0,9, -999.00,9,     -999.0,9,  -999.0,9, 20170714,      331, -30.0799, 167.2506,        0.0,1,      0.063,1,      4.685,1,      0.153,1,      25.00,     -999.0,9,     -999.0,9,     -999.0,9,     -999.0,9,    17.7426,2,     -999.0,9
320620170703,        P06,      47,          1,         28,         28,2,20170714,       0342,   -30.0798,   167.2501,       2471,   151.5,  18.7639,  35.7027,2,  35.6544,2, 198.6925,2, 200.3489,2,     0.6,2,    3.50,2,    0.03,2,    0.33,2,   1.894,2,   1.196,2,   0.9900,2,  -999.0,9, -999.00,9,-999.0000,9, -999.00,9, -999.00,9, -999.00,  -999.0,9, -999.00,9,     -999.0,9,  -999.0,9, 20170714,      332, -30.0799, 167.2505,        0.0,1,      0.068,1,      4.680,1,      0.162,1,     -999.0,     -999.0,9,     -999.0,9,     -999.0,9,     -999.0,9,    18.3586,2,     -999.0,9
320620170703,        P06,      47,          1,         29,         29,2,20170714,       0342,   -30.0798,   167.2501,       2471,   125.7,  19.5725,  35.8481,2,  35.7630,2, 215.8090,4, 209.1543,2,     0.3,2,    1.71,2,    0.08,2,    0.24,2,-999.000,9,-999.000,9,-999.0000,9,  -999.0,9, -999.00,9,-999.0000,9, -999.00,9, -999.00,9, -999.00,  -999.0,9, -999.00,9,     -999.0,9,  -999.0,9, 20170714,      334, -30.0798, 167.2504,        0.0,1,      0.161,1,      4.636,1,      0.215,1,     -999.0,     -999.0,9,     -999.0,9,     -999.0,9,     -999.0,9,    19.2287,2,     -999.0,9
320620170703,        P06,      47,          1,         30,         30,2,20170714,       0342,   -30.0798,   167.2501,       2471,   101.2,  19.5947,  35.8535,2,  35.8572,2, 219.6635,2, 220.5269,2,     0.0,2,    0.17,2,    0.09,2,    0.15,2,   1.778,2,   1.129,2,   1.0340,2,  2059.7,2, 2342.88,2,   8.0074,2, -999.00,9, -999.00,9, -999.00,  -999.0,9, -999.00,9,     -999.0,9,  -999.0,9, 20170714,      336, -30.0798, 167.2504,        0.0,1,      0.166,1,      4.635,1,      0.211,1,      25.03,     -999.0,9,     -999.0,9,     -999.0,9,     -999.0,9,    19.5984,2,     -999.0,9
320620170703,        P06,      47,          1,         31,         31,2,20170714,       0342,   -30.0798,   167.2501,       2471,    74.8,  19.5914,  35.8518,2,  35.8593,2, 220.5011,2, 220.5801,2,     0.0,2,    0.15,2,    0.09,2,    0.12,2,-999.000,9,-999.000,9,-999.0000,9,  -999.0,9, -999.00,9,-999.0000,9, -999.00,9, -999.00,9, -999.00,  -999.0,9, -999.00,9,     -999.0,9,  -999.0,9, 20170714,      337, -30.0798, 167.2502,        0.0,1,      0.165,1,      4.633,1,      0.211,1,     -999.0,     -999.0,9,     -999.0,9,     -999.0,9,     -999.0,9,    19.5969,2,     -999.0,9
320620170703,        P06,      47,          1,         32,         32,2,20170714,       0342,   -30.0798,   167.2501,       2471,    51.1,  19.5911,  35.8517,2,  35.8578,2, 220.6779,2, 220.8058,2,     0.0,2,    0.14,2,    0.09,2,    0.14,2,   1.749,2,   1.128,2,   1.0130,2,  2060.7,2, 2345.03,2,   8.0063,2, -999.00,9, -999.00,9, -999.00,  -999.0,9, -999.00,9,     -999.0,9,  -999.0,9, 20170714,      339, -30.0798, 167.2501,        0.0,1,      0.167,1,      4.632,1,      0.216,1,      25.01,     -999.0,9,     -999.0,9,     -999.0,9,     -999.0,9,    19.5924,2,     -999.0,9