BOTTLE,20230922CCHSIOCBG
EXPOCODE,SECT_ID,STNNBR,CASTNO,SAMPNO,BTLNBR,BTLNBR_FLAG_W,DATE,TIME,LATITUDE,LONGITUDE,DEPTH,CTDPRS,CTDTMP,CTDSAL,CTDSAL_FLAG_W,SALNTY,SALNTY_FLAG_W,CTDOXY,CTDOXY_FLAG_W,OXYGEN,OXYGEN_FLAG_W,SILCAT,SILCAT_FLAG_W,NITRAT,NITRAT_FLAG_W,NITRIT,NITRIT_FLAG_W,PHSPHT,PHSPHT_FLAG_W,CFC-11,CFC-11_FLAG_W,CFC-12,CFC-12_FLAG_W,SF6,SF6_FLAG_W,TCARBN,TCARBN_FLAG_W,ALKALI,ALKALI_FLAG_W,PH_TOT,PH_TOT_FLAG_W,DELC13,DELC13_FLAG_W,DELC14,DELC14_FLAG_W,C14ERR,DOC,DOC_FLAG_W,TDN,TDN_FLAG_W,TON,TON_FLAG_W,D15N_NO3,D15N_NO3_FLAG_W,BTL_DATE,BTL_TIME,BTL_LAT,BTL_LON,CTDRINKO,CTDRINKO_FLAG_W,CTDFLUOR,CTDFLUOR_FLAG_W,CTDXMISS,CTDXMISS_FLAG_W,CTDBACKSCATTER,CTDBACKSCATTER_FLAG_W,PH_TMP,D18O_NO3,D18O_NO3_FLAG_W,DOP,DOP_FLAG_W,HPLC,HPLC_FLAG_W,POC,POC_FLAG_W,REFTMP,REFTMP_FLAG_W,TDP,TDP_FLAG_W
,,,,,,,,,,,METERS,DBAR,ITS-90,PSS-78,,PSS-78,,UMOL/KG,,UMOL/KG,,UMOL/KG,,UMOL/KG,,UMOL/KG,,UMOL/KG,,PMOL/KG,,PMOL/KG,,FMOL/KG,,UMOL/KG,,UMOL/KG,,,,/MILLE,,/MILLE,,/MILLE,UMOL/KG,,UMOL/KG,,UMOL/KG,,/MILLE,,,,,,VOLTS,,VOLTS,,VOLTS,,VOLTS,,DEGC,/MILLE,,UMOL/KG,,,,UG/L,,ITS-90,,UMOL/KG,
320620170703,        P06,      17,          1,         33,         33,2,20170708,       0554,   -30.0803,   156.7103,       4846,    75.9,  20.5681,  35.8050,2,  35.7760,2, 224.1192,3, 220.1520,2,     0.0,2,    0.20,2,    0.12,2,    0.09,2,   1.985,2,   1.117,2,   1.0270,2,  2039.9,2, 2341.99,2,   8.0309,2, -999.00,9, -999.00,9, -999.00,  -999.0,9, -999.00,9,     -999.0,9,  -999.0,9, 20170708,      549, -30.0802, 156.7103,        0.0,1,      0.121,1,      4.663,1,      0.172,1,      25.03,     -999.0,9,     -999.0,9,     -999.0,9,     -999.0,9,    20.6297,2,     -999.0,9
320620170703,        P06,      17,          1,         34,         34,2,20170708,       0554,   -30.0803,   156.7103,       4846,    48.7,  20.8038,  35.7364,2,  35.7487,2, 189.1038,3, 184.3122,2,     0.5,2,    3.09,2,    0.03,2,    0.26,2,-999.000,9,-999.000,9,-999.0000,9,  2067.1,2, 2345.03,3,   7.9841,2, -999.00,9, -999.00,9, -999.00,  -999.0,9, -999.00,9,     -999.0,9,  -999.0,9, 20170708,      551, -30.0803, 156.7103,        0.0,1,      0.074,1,      4.681,1,      0.158,1,      25.04,     -999.0,9,     -999.0,9,     -999.0,9,     -999.0,9,    21.2379,2,     -999.0,9
320620170703,        P06,      17,          1,         35,         35,2,20170708,       0554,   -30.0803,   156.7103,       4846,    24.3,  21.2621,  35.6916,2,  35.7422,2, 218.9602,3, 212.6960,2,     0.1,2,    0.33,2,    0.02,2,    0.08,2,   1.759,2,   1.032,2,   1.0280,2,  -999.0,9, -999.00,9,-999.0000,9, -999.00,9, -999.00,9, -999.00,  -999.0,9, -999.00,9,     -999.0,9,  -999.0,9, 20170708,      552, -30.0802, 156.7103,        0.0,1,      0.163,1,      4.591,1,      0.231,1,     -999.0,     -999.0,9,     -999.0,9,     -999.0,9,     -999.0,9,    21.9338,2,     -999.0,9
320620170703,        P06,      17,          1,         36,         36,2,20170708,       0554,   -30.0803,   156.7103,       4846,     6.6,  21.2556,  35.6922,2,  35.7422,2, 219.2146,3, 212.7960,2,     0.2,2,    0.31,2,    0.02,2,    0.10,2,   1.785,2,   1.050,2,   1.1000,2,  2031.7,6, 2340.84,2,   8.0459,2, -999.00,9, -999.00,9, -999.00,  -999.0,9, -999.00,9,     -999.0,9,  -999.0,9, 20170708,      554, -30.0803, 156.7103,        0.0,1,      0.120,1,      4.590,1,      0.222,1,      25.04,     -999.0,9,     -999.0,9,     -999.0,9,     -999.0,9,    21.9295,2,     -999.0,9