BOTTLE,20230922CCHSIOCBG
EXPOCODE,SECT_ID,STNNBR,CASTNO,SAMPNO,BTLNBR,BTLNBR_FLAG_W,DATE,TIME,LATITUDE,LONGITUDE,DEPTH,CTDPRS,CTDTMP,CTDSAL,CTDSAL_FLAG_W,SALNTY,SALNTY_FLAG_W,CTDOXY,CTDOXY_FLAG_W,OXYGEN,OXYGEN_FLAG_W,SILCAT,SILCAT_FLAG_W,NITRAT,NITRAT_FLAG_W,NITRIT,NITRIT_FLAG_W,PHSPHT,PHSPHT_FLAG_W,CFC-11,CFC-11_FLAG_W,CFC-12,CFC-12_FLAG_W,SF6,SF6_FLAG_W,TCARBN,TCARBN_FLAG_W,ALKALI,ALKALI_FLAG_W,PH_TOT,PH_TOT_FLAG_W,DELC13,DELC13_FLAG_W,DELC14,DELC14_FLAG_W,C14ERR,DOC,DOC_FLAG_W,TDN,TDN_FLAG_W,TON,TON_FLAG_W,D15N_NO3,D15N_NO3_FLAG_W,BTL_DATE,BTL_TIME,BTL_LAT,BTL_LON,CTDRINKO,CTDRINKO_FLAG_W,CTDFLUOR,CTDFLUOR_FLAG_W,CTDXMISS,CTDXMISS_FLAG_W,CTDBACKSCATTER,CTDBACKSCATTER_FLAG_W,PH_TMP,D18O_NO3,D18O_NO3_FLAG_W,DOP,DOP_FLAG_W,HPLC,HPLC_FLAG_W,POC,POC_FLAG_W,REFTMP,REFTMP_FLAG_W,TDP,TDP_FLAG_W
,,,,,,,,,,,METERS,DBAR,ITS-90,PSS-78,,PSS-78,,UMOL/KG,,UMOL/KG,,UMOL/KG,,UMOL/KG,,UMOL/KG,,UMOL/KG,,PMOL/KG,,PMOL/KG,,FMOL/KG,,UMOL/KG,,UMOL/KG,,,,/MILLE,,/MILLE,,/MILLE,UMOL/KG,,UMOL/KG,,UMOL/KG,,/MILLE,,,,,,VOLTS,,VOLTS,,VOLTS,,VOLTS,,DEGC,/MILLE,,UMOL/KG,,,,UG/L,,ITS-90,,UMOL/KG,
320620170703,        P06,     114,          1,          1,          1,2,20170802,       0719,   -32.5002,  -168.4447,       5604,  5707.5,   1.1420,  34.7084,2,  34.7081,2, 206.0542,2, 206.1099,2,   121.6,2,   31.99,2,    0.00,2,    2.24,2,   0.139,2,   0.076,2,   0.0000,2,  2264.8,6, 2363.47,2,   7.6056,2, -999.00,9, -999.00,9, -999.00,  -999.0,9, -999.00,9,     -999.0,1,  -999.0,9, 20170802,      459, -32.4996,-168.4450,        0.0,1,      0.061,1,      4.695,1,      0.129,1,      25.00,     -999.0,9,     -999.0,9,     -999.0,9,     -999.0,9,     1.1425,2,     -999.0,9
320620170703,        P06,     114,          1,          2,          2,2,20170802,       0719,   -32.5002,  -168.4447,       5604,  5507.4,   1.1156,  34.7086,2,  34.7081,2, 206.0542,2, 206.8341,2,   121.7,2,   32.01,2,    0.00,2,    2.23,2,   0.140,2,   0.080,2,   0.0000,2,  2264.9,2, 2361.43,6,   7.6066,2, -999.00,9, -999.00,9, -999.00,  -999.0,9, -999.00,9,     -999.0,9,  -999.0,9, 20170802,      505, -32.4997,-168.4447,        0.0,1,      0.061,1,      4.696,1,      0.129,1,      25.02,     -999.0,9,     -999.0,9,     -999.0,9,     -999.0,9,     1.1161,2,     -999.0,9
320620170703,        P06,     114,          1,          3,          3,2,20170802,       0719,   -32.5002,  -168.4447,       5604,  5300.6,   1.0891,  34.7086,2,  34.7079,2, 206.0542,2, 206.3309,2,   121.8,2,   32.01,2,    0.00,2,    2.23,2,   0.138,2,   0.080,2,   0.0000,2,  2263.3,2, 2361.06,2,   7.6059,2, -999.00,9, -999.00,9, -999.00,    41.9,2, -999.00,9,     -999.0,1,  -999.0,9, 20170802,      511, -32.4997,-168.4448,        0.0,1,      0.061,1,      4.697,1,      0.128,1,      25.01,     -999.0,9,     -999.0,9,     -999.0,9,     -999.0,9,     1.0893,2,     -999.0,9
320620170703,        P06,     114,          1,          4,          4,2,20170802,       0719,   -32.5002,  -168.4447,       5604,  4887.4,   1.0555,  34.7094,2,  34.7089,2, 206.0542,2, 206.6974,2,   121.1,2,   31.93,2,    0.00,2,    2.23,2,   0.129,2,   0.078,2,   0.0000,2,  2262.8,2, 2368.58,2,   7.6060,2, -999.00,9, -999.00,9, -999.00,    39.7,2, -999.00,9,     -999.0,1,  -999.0,9, 20170802,      520, -32.4997,-168.4447,        0.0,1,      0.061,1,      4.700,1,      0.124,1,      25.02,     -999.0,9,     -999.0,9,     -999.0,9,     -999.0,9,     1.0571,2,     -999.0,9
320620170703,        P06,     114,          1,          5,          5,2,20170802,       0719,   -32.5002,  -168.4447,       5604,  4477.4,   1.1033,  34.7127,2,  34.7123,2, 206.3633,2, 205.2961,2,   118.2,2,   31.82,2,    0.00,2,    2.23,2,   0.100,2,   0.063,2,   0.0000,2,  2261.8,2, 2360.78,2,   7.6066,2, -999.00,9, -999.00,9, -999.00,  -999.0,9, -999.00,9,     -999.0,9,  -999.0,9, 20170802,      528, -32.4998,-168.4446,        0.0,1,      0.061,1,      4.700,1,      0.126,1,      25.00,     -999.0,9,     -999.0,9,     -999.0,9,     -999.0,9,     1.1101,2,     -999.0,9
320620170703,        P06,     114,          1,          6,          6,2,20170802,       0719,   -32.5002,  -168.4447,       5604,  4066.1,   1.3241,  34.7183,2,  34.7172,2, 199.1194,2, 198.7638,2,   112.7,2,   31.76,2,    0.00,2,    2.22,2,   0.066,2,   0.043,2,   0.0000,2,  2263.5,2, 2359.81,2,   7.6047,2, -999.00,9, -999.00,9, -999.00,    39.9,2, -999.00,9,     -999.0,1,  -999.0,9, 20170802,      536, -32.4998,-168.4446,        0.0,1,      0.061,1,      4.701,1,      0.126,1,      25.01,     -999.0,9,     -999.0,9,     -999.0,9,     -999.0,9,     1.3349,2,     -999.0,9
320620170703,        P06,     114,          1,          7,          7,2,20170802,       0719,   -32.5002,  -168.4447,       5604,  3655.5,   1.5685,  34.7100,2,  34.7091,2, 184.8800,2, 184.4601,2,   113.7,2,   32.65,2,    0.00,2,    2.30,2,   0.044,2,   0.032,2,   0.0000,2,  2274.9,2, 2369.53,2,   7.5957,2, -999.00,9, -999.00,9, -999.00,    43.4,3, -999.00,9,     -999.0,1,  -999.0,9, 20170802,      544, -32.4996,-168.4450,        0.0,1,      0.061,1,      4.701,1,      0.128,1,      25.02,     -999.0,9,     -999.0,9,     -999.0,9,     -999.0,9,     1.5704,2,     -999.0,9
320620170703,        P06,     114,          1,          8,          8,2,20170802,       0719,   -32.5002,  -168.4447,       5604,  3349.1,   1.6914,  34.6883,2,  34.6873,2, 165.6082,2, 164.6971,2,   124.5,2,   34.41,2,    0.00,2,    2.41,2,   0.028,2,   0.025,2,   0.0000,2,  2299.1,2, 2391.09,2,   7.5809,2, -999.00,9, -999.00,9, -999.00,  -999.0,9, -999.00,9,     -999.0,9,  -999.0,9, 20170802,      550, -32.4996,-168.4450,        0.0,1,      0.062,1,      4.701,1,      0.128,1,      25.02,     -999.0,9,     -999.0,9,     -999.0,9,     -999.0,9,     1.6944,2,     -999.0,9
320620170703,        P06,     114,          1,          9,          9,2,20170802,       0719,   -32.5002,  -168.4447,       5604,  3041.1,   1.8062,  34.6700,2,  34.6688,2, 152.1915,2, 150.9527,2,   129.9,2,   35.58,2,    0.00,2,    2.51,2,   0.029,2,   0.023,2,   0.0000,2,  2314.2,2, 2396.11,2,   7.5705,2, -999.00,9, -999.00,9, -999.00,    37.9,2, -999.00,9,     -999.0,1,  -999.0,9, 20170802,      557, -32.4998,-168.4446,        0.0,1,      0.060,1,      4.700,1,      0.130,1,      25.02,     -999.0,9,     -999.0,9,     -999.0,9,     -999.0,9,     1.8061,2,     -999.0,9
320620170703,        P06,     114,          1,         10,         10,2,20170802,       0719,   -32.5002,  -168.4447,       5604,  2787.2,   1.8963,  34.6607,2,  34.6604,2, 148.2875,2, 148.2220,2,   128.3,2,   35.86,2,    0.00,2,    2.53,2,   0.088,4,   0.159,4,   2.2390,4,  2314.7,2, -999.00,5,   7.5663,2, -999.00,9, -999.00,9, -999.00,  -999.0,9, -999.00,9,     -999.0,9,  -999.0,9, 20170802,      602, -32.4999,-168.4445,        0.0,1,      0.061,1,      4.701,1,      0.141,1,      25.02,     -999.0,9,     -999.0,9,     -999.0,9,     -999.0,9,     1.8891,2,     -999.0,9
320620170703,        P06,     114,          1,         11,         11,2,20170802,       0719,   -32.5002,  -168.4447,       5604,  2531.7,   1.9904,  34.6523,2,  34.6515,2, 146.6400,2, 147.2298,2,   124.5,2,   35.86,2,    0.00,2,    2.54,2,   0.026,2,   0.022,2,   0.0000,2,  2311.9,6, 2395.95,2,   7.5656,2, -999.00,9, -999.00,9, -999.00,    37.4,2, -999.00,9,     -999.0,1,  -999.0,9, 20170802,      608, -32.4999,-168.4445,        0.0,1,      0.061,1,      4.701,1,      0.133,1,      25.01,     -999.0,9,     -999.0,9,     -999.0,9,     -999.0,9,     1.9918,2,     -999.0,9
320620170703,        P06,     114,          1,         12,         12,2,20170802,       0719,   -32.5002,  -168.4447,       5604,  2276.7,   2.1169,  34.6412,2,  34.6431,2, 146.9471,2, 147.5754,2,   118.8,2,   35.72,2,    0.00,2,    2.52,2,   0.027,2,   0.019,2,   0.0000,2,  2306.1,2, 2389.50,2,   7.5647,2, -999.00,9, -999.00,9, -999.00,  -999.0,9, -999.00,9,     -999.0,9,  -999.0,9, 20170802,      613, -32.4999,-168.4445,        0.0,1,      0.061,1,      4.701,1,      0.132,1,      25.01,     -999.0,9,     -999.0,9,     -999.0,9,     -999.0,9,     2.1138,2,     -999.0,9
320620170703,        P06,     114,          1,         13,         13,2,20170802,       0719,   -32.5002,  -168.4447,       5604,  2024.8,   2.2865,  34.6249,2,  34.6252,2, 149.5003,2, 150.3946,2,   109.5,2,   35.36,2,    0.00,2,    2.48,2,   0.025,2,   0.022,2,   0.0000,2,  2297.3,2, 2383.70,2,   7.5719,2, -999.00,9, -999.00,9, -999.00,    37.7,2, -999.00,9,     -999.0,1,  -999.0,9, 20170802,      618, -32.4998,-168.4446,        0.0,1,      0.061,1,      4.701,1,      0.136,1,      25.00,     -999.0,9,     -999.0,9,     -999.0,9,     -999.0,9,     2.2848,2,     -999.0,9
320620170703,        P06,     114,          1,         14,         14,2,20170802,       0719,   -32.5002,  -168.4447,       5604,  1819.7,   2.4877,  34.5996,2,  34.6005,2, 153.2516,2, 154.0294,2,   100.1,2,   35.05,2,    0.00,2,    2.45,2,   0.035,2,   0.027,2,   0.0000,2,  2285.2,2, 2369.17,2,   7.5763,2, -999.00,9, -999.00,9, -999.00,  -999.0,9, -999.00,9,     -999.0,9,  -999.0,9, 20170802,      623, -32.4998,-168.4446,        0.0,1,      0.061,1,      4.701,1,      0.134,1,      25.02,     -999.0,9,     -999.0,9,     -999.0,9,     -999.0,9,     2.4755,2,     -999.0,9
320620170703,        P06,     114,          1,         15,         15,2,20170802,       0719,   -32.5002,  -168.4447,       5604,  1616.6,   2.7367,  34.5449,2,  34.5572,2, 159.5580,2, 160.3897,2,    85.5,2,   34.71,2,    0.00,2,    2.42,2,   0.047,2,   0.033,2,   0.0000,2,  2268.4,2, 2349.81,2,   7.5671,2, -999.00,9, -999.00,9, -999.00,    37.6,2, -999.00,9,     -999.0,1,  -999.0,9, 20170802,      627, -32.4999,-168.4444,        0.0,1,      0.061,1,      4.701,1,      0.134,1,      25.03,     -999.0,9,     -999.0,9,     -999.0,9,     -999.0,9,     2.6842,2,     -999.0,9
320620170703,        P06,     114,          1,         16,         16,2,20170802,       0719,   -32.5002,  -168.4447,       5604,  1415.1,   3.1278,  34.4613,2,  34.4710,2, 171.2571,2, 171.3865,2,    65.4,2,   34.16,2,    0.00,2,    2.37,2,   0.138,2,   0.081,2,   0.0000,2,  2244.5,2, 2323.60,2,   7.5717,2, -999.00,9, -999.00,9, -999.00,    45.0,3, -999.00,9,     -999.0,1,  -999.0,9, 20170802,      632, -32.5001,-168.4444,        0.0,1,      0.060,1,      4.702,1,      0.134,1,      25.02,     -999.0,9,     -999.0,9,     -999.0,9,     -999.0,9,     3.0762,2,     -999.0,9
320620170703,        P06,     114,          1,         17,         17,2,20170802,       0719,   -32.5002,  -168.4447,       5604,  1313.0,   3.4142,  34.4177,2,  34.4198,2, 178.3610,2, 178.5696,2,    54.6,2,   33.58,2,    0.00,2,    2.32,2,   0.273,2,   0.147,2,   0.0000,2,  2231.2,2, 2314.25,2,   7.5799,2, -999.00,9, -999.00,9, -999.00,  -999.0,9, -999.00,9,     -999.0,9,  -999.0,9, 20170802,      635, -32.5000,-168.4444,        0.0,1,      0.061,1,      4.702,1,      0.134,1,      25.00,     -999.0,9,     -999.0,9,     -999.0,9,     -999.0,9,     3.3869,2,     -999.0,9
320620170703,        P06,     114,          1,         18,         18,2,20170802,       0719,   -32.5002,  -168.4447,       5604,  1211.4,   3.7639,  34.3788,2,  34.3764,2, 187.1509,2, 186.6258,2,    44.7,2,   32.74,2,    0.00,2,    2.25,2,   0.494,2,   0.244,2,   0.0000,2,  2216.8,2, 2303.93,2,   7.5927,2, -999.00,9, -999.00,9, -999.00,    39.3,2, -999.00,9,     -999.0,1,  -999.0,9, 20170802,      638, -32.4999,-168.4446,        0.0,1,      0.060,1,      4.701,1,      0.134,1,      25.00,     -999.0,9,     -999.0,9,     -999.0,9,     -999.0,9,     3.7784,2,     -999.0,9
320620170703,        P06,     114,          1,         19,         19,2,20170802,       0719,   -32.5002,  -168.4447,       5604,  1109.3,   4.3431,  34.3382,2,  34.3313,2, 199.9238,2, 199.4389,2,    31.4,2,   30.88,2,    0.00,2,    2.11,2,   1.131,2,   0.502,2,   0.1150,2,  2195.9,2, 2298.56,2,   7.6182,2, -999.00,9, -999.00,9, -999.00,  -999.0,9, -999.00,9,     -999.0,9,  -999.0,9, 20170802,      641, -32.4997,-168.4448,        0.0,1,      0.061,1,      4.701,1,      0.134,1,      25.02,     -999.0,9,     -999.0,9,     -999.0,9,     -999.0,9,     4.4568,2,     -999.0,9
320620170703,        P06,     114,          1,         20,         20,2,20170802,       0719,   -32.5002,  -168.4447,       5604,  1009.3,   4.8955,  34.3214,2,  34.3158,2, 209.8045,2, 209.3206,2,    23.1,2,   29.09,2,    0.00,2,    1.99,2,   1.542,2,   0.705,2,   0.1500,2,  2181.8,2, 2283.78,2,   7.6405,2, -999.00,9, -999.00,9, -999.00,    45.8,3, -999.00,9,     -999.0,1,  -999.0,9, 20170802,      643, -32.4996,-168.4451,        0.0,1,      0.059,1,      4.701,1,      0.135,1,      25.01,     -999.0,9,     -999.0,9,     -999.0,9,     -999.0,9,     5.0440,2,     -999.0,9
320620170703,        P06,     114,          1,         21,         21,2,20170802,       0719,   -32.5002,  -168.4447,       5604,   907.1,   5.5633,  34.3206,2,  34.3154,2, 222.7419,2, 222.2006,2,    15.1,2,   26.64,2,    0.00,2,    1.81,2,   2.134,2,   1.018,2,   0.3610,2,  2164.4,2, 2278.28,2,   7.6706,2, -999.00,9, -999.00,9, -999.00,  -999.0,9, -999.00,9,     -999.0,9,  -999.0,9, 20170802,      646, -32.4996,-168.4453,        0.0,1,      0.060,1,      4.700,1,      0.137,1,      25.01,     -999.0,9,     -999.0,9,     -999.0,9,     -999.0,9,     5.7011,2,     -999.0,9
320620170703,        P06,     114,          1,         22,         22,2,20170802,       0719,   -32.5002,  -168.4447,       5604,   807.4,   6.1323,  34.3292,2,  34.3274,2, 230.1784,2, 230.2739,2,    11.1,2,   24.97,2,    0.00,2,    1.70,2,   2.685,2,   1.329,2,   0.5000,2,  2156.3,2, 2276.91,2,   7.6874,2, -999.00,9, -999.00,9, -999.00,    38.1,2, -999.00,9,     -999.0,1,  -999.0,9, 20170802,      649, -32.4996,-168.4454,        0.0,1,      0.059,1,      4.700,1,      0.137,1,      25.02,     -999.0,9,     -999.0,9,     -999.0,9,     -999.0,9,     6.1395,2,     -999.0,9
320620170703,        P06,     114,          1,         23,         23,2,20170802,       0719,   -32.5002,  -168.4447,       5604,   706.1,   6.5808,  34.3476,2,  34.3443,2, 236.5283,2, 236.9735,2,     8.5,2,   23.43,2,    0.00,2,    1.59,2,   3.309,2,   1.607,2,   0.6010,2,  2150.0,2, 2274.41,2,   7.7014,2, -999.00,9, -999.00,9, -999.00,    41.6,2, -999.00,9,     -999.0,1,  -999.0,9, 20170802,      652, -32.4996,-168.4454,        0.0,1,      0.059,1,      4.699,1,      0.137,1,      25.03,     -999.0,9,     -999.0,9,     -999.0,9,     -999.0,9,     6.5369,2,     -999.0,9
320620170703,        P06,     114,          1,         24,         24,2,20170802,       0719,   -32.5002,  -168.4447,       5604,   604.4,   7.1728,  34.3897,2,  34.3798,2, 234.7648,2, 235.1878,2,     6.8,2,   22.08,2,    0.00,2,    1.51,2,   3.512,2,   1.740,2,   0.6560,2,  2145.4,6, 2274.46,2,   7.7082,2, -999.00,9, -999.00,9, -999.00,    44.6,2, -999.00,9,     -999.0,1,  -999.0,9, 20170802,      655, -32.4997,-168.4453,        0.0,1,      0.058,1,      4.698,1,      0.137,1,      25.01,     -999.0,9,     -999.0,9,     -999.0,9,     -999.0,9,     7.0713,2,     -999.0,9
320620170703,        P06,     114,          1,         25,         25,2,20170802,       0719,   -32.5002,  -168.4447,       5604,   503.3,   8.2411,  34.4916,2,  34.4648,2, 229.0821,2, 229.3599,2,     5.1,2,   19.77,2,    0.00,2,    1.36,2,   3.459,2,   1.796,2,   0.8250,2,  2143.4,2, 2277.32,2,   7.7209,2, -999.00,9, -999.00,9, -999.00,    44.8,2, -999.00,9,     -999.0,1,  -999.0,9, 20170802,      658, -32.4998,-168.4450,        0.0,1,      0.059,1,      4.696,1,      0.140,1,      25.00,     -999.0,9,     -999.0,9,     -999.0,9,     -999.0,9,     7.9988,2,     -999.0,9
320620170703,        P06,     114,          1,         26,         26,2,20170802,       0719,   -32.5002,  -168.4447,       5604,   403.7,   9.7050,  34.6509,2,  34.6052,2, 215.2826,2, 215.6801,2,     4.1,2,   17.13,2,    0.00,2,    1.20,2,   3.283,2,   1.705,2,   0.9180,2,  2138.5,2, 2279.73,2,   7.7409,2, -999.00,9, -999.00,9, -999.00,    44.7,2, -999.00,9,     -999.0,1,  -999.0,9, 20170802,      701, -32.5000,-168.4449,        0.0,1,      0.059,1,      4.692,1,      0.146,1,      25.02,     -999.0,9,     -999.0,9,     -999.0,9,     -999.0,9,     9.3497,2,     -999.0,9
320620170703,        P06,     114,          1,         27,         27,2,20170802,       0719,   -32.5002,  -168.4447,       5604,   352.4,  10.7850,  34.7798,2,  34.7266,2, 209.2597,2, 209.3466,2,     3.6,2,   15.09,2,    0.00,2,    1.06,2,   3.032,2,   1.633,2,   0.9240,2,  2134.1,2, 2284.74,6,   7.7601,2, -999.00,9, -999.00,9, -999.00,  -999.0,9, -999.00,9,     -999.0,9,  -999.0,9, 20170802,      703, -32.5001,-168.4448,        0.0,1,      0.059,1,      4.691,1,      0.141,1,      25.03,     -999.0,9,     -999.0,9,     -999.0,9,     -999.0,9,    10.4436,2,     -999.0,9
320620170703,        P06,     114,          1,         28,         28,2,20170802,       0719,   -32.5002,  -168.4447,       5604,   301.3,  12.0229,  34.9352,2,  34.8902,2, 206.7243,2, 205.7329,2,     2.7,2,   12.18,2,    0.00,2,    0.88,2,   2.902,2,   1.584,2,   1.0840,2,  2127.1,2, 2294.31,2,   7.7902,2, -999.00,9, -999.00,9, -999.00,    47.1,2, -999.00,9,     -999.0,1,  -999.0,9, 20170802,      705, -32.5001,-168.4448,        0.0,1,      0.059,1,      4.691,1,      0.138,1,      25.00,     -999.0,9,     -999.0,9,     -999.0,9,     -999.0,9,    11.7675,2,     -999.0,9
320620170703,        P06,     114,          1,         29,         29,2,20170802,       0719,   -32.5002,  -168.4447,       5604,   250.6,  13.4112,  35.1216,2,  35.1224,2, 206.7852,2, 207.2343,2,     1.9,2,    8.34,2,    0.00,2,    0.63,2,   2.704,2,   1.537,2,   1.1380,2,  2114.9,2, 2311.81,2,   7.8366,2, -999.00,9, -999.00,9, -999.00,    47.4,2,   10.70,2,     -999.0,1,  -999.0,9, 20170802,      707, -32.5001,-168.4448,        0.0,1,      0.060,1,      4.691,1,      0.140,1,      25.01,     -999.0,9,     -999.0,9,     -999.0,9,     -999.0,9,    13.4513,2,     -999.0,9
320620170703,        P06,     114,          1,         30,         30,2,20170802,       0719,   -32.5002,  -168.4447,       5604,   200.6,  14.3617,  35.2283,2,  35.2284,2, 208.2778,2, 208.1566,2,     1.3,2,    6.58,2,    0.00,2,    0.52,2,   2.584,2,   1.484,2,   1.1630,2,  2108.1,2, 2310.83,2,   7.8611,2, -999.00,9, -999.00,9, -999.00,    46.7,2,    9.40,2,     -999.0,1,  -999.0,9, 20170802,      709, -32.5001,-168.4447,        0.0,1,      0.061,1,      4.690,1,      0.138,1,      25.00,     -999.0,9,     -999.0,9,     -999.0,9,     -999.0,9,    14.4144,2,     -999.0,9
320620170703,        P06,     114,          1,         31,         31,2,20170802,       0719,   -32.5002,  -168.4447,       5604,   150.4,  15.3478,  35.3563,2,  35.3597,2, 211.6710,2, 211.2696,2,     0.8,2,    4.40,2,    0.02,2,    0.38,2,   2.506,2,   1.443,2,   1.1350,2,  2099.3,2, 2318.30,2,   7.8905,2, -999.00,9, -999.00,9, -999.00,    48.4,2,    7.30,2,     -999.0,1,  -999.0,9, 20170802,      711, -32.5001,-168.4447,        0.0,1,      0.070,1,      4.686,1,      0.150,1,      25.01,     -999.0,9,     -999.0,9,     -999.0,9,     -999.0,9,    15.3971,2,     -999.0,9
320620170703,        P06,     114,          1,         32,         32,2,20170802,       0719,   -32.5002,  -168.4447,       5604,   100.5,  16.9993,  35.5639,2,  35.5072,3, 221.8697,2, 220.6270,2,     0.4,2,    1.63,2,    0.07,2,    0.21,2,   2.353,2,   1.366,2,   1.2330,2,  2084.5,2, 2327.21,2,   7.9361,2, -999.00,9, -999.00,9, -999.00,    55.6,2,    5.80,2,     -999.0,1,  -999.0,9, 20170802,      713, -32.5002,-168.4447,        0.0,1,      0.115,1,      4.668,1,      0.158,1,      25.00,     -999.0,9,     -999.0,9,     -999.0,9,     -999.0,9,    16.5374,2,     -999.0,9