BOTTLE,20230922CCHSIOCBG
EXPOCODE,SECT_ID,STNNBR,CASTNO,SAMPNO,BTLNBR,BTLNBR_FLAG_W,DATE,TIME,LATITUDE,LONGITUDE,DEPTH,CTDPRS,CTDTMP,CTDSAL,CTDSAL_FLAG_W,SALNTY,SALNTY_FLAG_W,CTDOXY,CTDOXY_FLAG_W,OXYGEN,OXYGEN_FLAG_W,SILCAT,SILCAT_FLAG_W,NITRAT,NITRAT_FLAG_W,NITRIT,NITRIT_FLAG_W,PHSPHT,PHSPHT_FLAG_W,CFC-11,CFC-11_FLAG_W,CFC-12,CFC-12_FLAG_W,SF6,SF6_FLAG_W,TCARBN,TCARBN_FLAG_W,ALKALI,ALKALI_FLAG_W,PH_TOT,PH_TOT_FLAG_W,DELC13,DELC13_FLAG_W,DELC14,DELC14_FLAG_W,C14ERR,DOC,DOC_FLAG_W,TDN,TDN_FLAG_W,TON,TON_FLAG_W,D15N_NO3,D15N_NO3_FLAG_W,BTL_DATE,BTL_TIME,BTL_LAT,BTL_LON,CTDRINKO,CTDRINKO_FLAG_W,CTDFLUOR,CTDFLUOR_FLAG_W,CTDXMISS,CTDXMISS_FLAG_W,CTDBACKSCATTER,CTDBACKSCATTER_FLAG_W,PH_TMP,D18O_NO3,D18O_NO3_FLAG_W,DOP,DOP_FLAG_W,HPLC,HPLC_FLAG_W,POC,POC_FLAG_W,REFTMP,REFTMP_FLAG_W,TDP,TDP_FLAG_W
,,,,,,,,,,,METERS,DBAR,ITS-90,PSS-78,,PSS-78,,UMOL/KG,,UMOL/KG,,UMOL/KG,,UMOL/KG,,UMOL/KG,,UMOL/KG,,PMOL/KG,,PMOL/KG,,FMOL/KG,,UMOL/KG,,UMOL/KG,,,,/MILLE,,/MILLE,,/MILLE,UMOL/KG,,UMOL/KG,,UMOL/KG,,/MILLE,,,,,,VOLTS,,VOLTS,,VOLTS,,VOLTS,,DEGC,/MILLE,,UMOL/KG,,,,UG/L,,ITS-90,,UMOL/KG,
320620170703,        P06,     128,          1,          1,          1,2,20170808,       1711,   -32.4997,  -158.9765,       5277,  5373.5,   1.1219,  34.7099,2,  34.7070,3, 204.8346,2, 205.4303,2,   121.5,2,   32.21,2,    0.00,2,    2.21,2,   0.128,6,   0.074,6,   0.0000,6,  2264.9,6, 2370.07,2,   7.6069,2, -999.00,9, -999.00,9, -999.00,    38.1,2, -999.00,9,     -999.0,1,  -999.0,9, 20170808,     1447, -32.4994,-158.9767,        0.0,1,      0.062,1,      4.695,1,      0.127,1,      25.02,     -999.0,9,     -999.0,9,     -999.0,9,     -999.0,9,     1.1225,2,     -999.0,9
320620170703,        P06,     128,          1,          2,          2,2,20170808,       1711,   -32.4997,  -158.9765,       5277,  5202.5,   1.1009,  34.7101,2,  34.7091,3, 204.8346,2, 205.6721,2,   121.4,2,   32.23,2,    0.00,2,    2.22,2,   0.127,2,   0.076,2,   0.0000,2,  2265.5,2, 2368.93,2,   7.6064,2, -999.00,9, -999.00,9, -999.00,  -999.0,9, -999.00,9,     -999.0,9,  -999.0,9, 20170808,     1455, -32.4994,-158.9767,        0.0,1,      0.061,1,      4.696,1,      0.125,1,      25.02,     -999.0,9,     -999.0,9,     -999.0,9,     -999.0,9,     1.1014,2,     -999.0,9
320620170703,        P06,     128,          1,          3,          3,2,20170808,       1711,   -32.4997,  -158.9765,       5277,  5093.9,   1.0898,  34.7104,2,  34.7077,3, 204.8346,2, 205.3656,2,   121.6,2,   32.23,2,    0.00,2,    2.22,2,   0.119,2,   0.072,2,   0.0000,2,  2264.7,2, 2370.30,2,   7.6069,2, -999.00,9, -999.00,9, -999.00,    37.6,2, -999.00,9,     -999.0,1,  -999.0,9, 20170808,     1500, -32.4994,-158.9766,        0.0,1,      0.060,1,      4.697,1,      0.124,1,      25.03,     -999.0,9,     -999.0,9,     -999.0,9,     -999.0,9,     1.0903,2,     -999.0,9
320620170703,        P06,     128,          1,          4,          4,2,20170808,       1711,   -32.4997,  -158.9765,       5277,  4682.2,   1.0880,  34.7117,2,  34.7103,2, 205.9782,2, 204.5119,2,   120.1,2,   32.18,2,    0.00,2,    2.22,2,   0.099,2,   0.062,2,   0.0000,2,  2264.8,2, 2369.16,2,   7.6069,2, -999.00,9, -999.00,9, -999.00,    41.2,3, -999.00,9,     -999.0,1,  -999.0,9, 20170808,     1510, -32.4996,-158.9765,        0.0,1,      0.061,1,      4.698,1,      0.124,1,      25.02,     -999.0,9,     -999.0,9,     -999.0,9,     -999.0,9,     1.0899,2,     -999.0,9
320620170703,        P06,     128,          1,          5,          5,2,20170808,       1711,   -32.4997,  -158.9765,       5277,  4268.6,   1.2464,  34.7161,2,  34.7140,2, 200.9269,2, 200.7835,2,   115.7,2,   32.11,2,    0.00,2,    2.21,2,   0.063,2,   0.042,2,   0.0000,2,  2265.0,2, 2364.12,6,   7.6063,2, -999.00,9, -999.00,9, -999.00,  -999.0,9, -999.00,9,     -999.0,9,  -999.0,9, 20170808,     1519, -32.4995,-158.9767,        0.0,1,      0.061,1,      4.699,1,      0.124,1,      25.03,     -999.0,9,     -999.0,9,     -999.0,9,     -999.0,9,     1.2423,2,     -999.0,9
320620170703,        P06,     128,          1,          6,          6,2,20170808,       1711,   -32.4997,  -158.9765,       5277,  3860.4,   1.4392,  34.7143,2,  34.7117,2, 190.9108,2, 190.9714,2,   113.9,2,   32.47,2,    0.00,2,    2.24,2,   0.045,2,   0.032,2,   0.0000,2,  2271.3,2, 2372.47,2,   7.6006,2, -999.00,9, -999.00,9, -999.00,    40.6,3, -999.00,9,     -999.0,1,  -999.0,9, 20170808,     1527, -32.4996,-158.9767,        0.0,1,      0.060,1,      4.699,1,      0.126,1,      25.02,     -999.0,9,     -999.0,9,     -999.0,9,     -999.0,9,     1.4340,2,     -999.0,9
320620170703,        P06,     128,          1,          7,          7,2,20170808,       1711,   -32.4997,  -158.9765,       5277,  3553.0,   1.6015,  34.6980,2,  34.6965,2, 174.6802,2, 173.9416,2,   121.2,2,   33.88,2,    0.00,2,    2.35,2,   0.032,2,   0.026,2,   0.0000,2,  2290.4,2, 2386.01,2,   7.5888,2, -999.00,9, -999.00,9, -999.00,    37.7,2, -999.00,9,     -999.0,1,  -999.0,9, 20170808,     1533, -32.4999,-158.9764,        0.0,1,      0.061,1,      4.699,1,      0.126,1,      25.02,     -999.0,9,     -999.0,9,     -999.0,9,     -999.0,9,     1.5960,2,     -999.0,9
320620170703,        P06,     128,          1,          8,          8,2,20170808,       1711,   -32.4997,  -158.9765,       5277,  3247.1,   1.7028,  34.6810,2,  34.6859,2, 161.5147,3, 159.5993,2,   128.4,2,   35.11,2,    0.00,2,    2.43,2,   0.027,2,   0.022,2,   0.0000,2,  2307.4,2, 2397.64,2,   7.5775,2, -999.00,9, -999.00,9, -999.00,  -999.0,9, -999.00,9,     -999.0,9,  -999.0,9, 20170808,     1540, -32.4999,-158.9763,        0.0,1,      0.061,1,      4.699,1,      0.128,1,      25.01,     -999.0,9,     -999.0,9,     -999.0,9,     -999.0,9,     1.6906,2,     -999.0,9
320620170703,        P06,     128,          1,          9,          9,2,20170808,       1711,   -32.4997,  -158.9765,       5277,  2950.7,   1.8066,  34.6687,2,  34.6673,2, 152.3963,2, 151.1398,2,   130.5,2,   35.79,2,    0.00,2,    2.50,2,   0.026,2,   0.025,2,   0.0000,2,  2315.7,2, 2125.40,3,   7.5709,2, -999.00,9, -999.00,9, -999.00,    36.5,2, -999.00,9,     -999.0,1,  -999.0,9, 20170808,     1546, -32.4999,-158.9768,        0.0,1,      0.061,1,      4.699,1,      0.128,1,      25.02,     -999.0,9,     -999.0,9,     -999.0,9,     -999.0,9,     1.7832,2,     -999.0,9
320620170703,        P06,     128,          1,         10,         10,2,20170808,       1711,   -32.4997,  -158.9765,       5277,  2701.1,   1.8810,  34.6616,2,  34.6600,2, 148.3387,2, 148.5833,2,   129.0,2,   35.97,2,    0.00,2,    2.50,2,   0.025,2,   0.023,2,   0.0000,2,  2316.5,2, 2406.81,2,   7.5674,2, -999.00,9, -999.00,9, -999.00,  -999.0,9, -999.00,9,     -999.0,9,  -999.0,9, 20170808,     1551, -32.5000,-158.9765,        0.0,1,      0.061,1,      4.699,1,      0.129,1,      25.02,     -999.0,9,     -999.0,9,     -999.0,9,     -999.0,9,     1.8680,2,     -999.0,9
320620170703,        P06,     128,          1,         11,         11,2,20170808,       1711,   -32.4997,  -158.9765,       5277,  2444.5,   1.9889,  34.6521,2,  34.6512,2, 146.4495,2, 147.7629,2,   124.2,2,   35.96,2,    0.00,2,    2.50,2,   0.027,2,   0.025,2,   0.0000,2,  2312.6,6, 2400.65,2,   7.5646,2, -999.00,9, -999.00,9, -999.00,    38.9,2, -999.00,9,     -999.0,1,  -999.0,9, 20170808,     1557, -32.5001,-158.9761,        0.0,1,      0.061,1,      4.699,1,      0.131,1,      25.02,     -999.0,9,     -999.0,9,     -999.0,9,     -999.0,9,     1.9793,2,     -999.0,9
320620170703,        P06,     128,          1,         12,         12,2,20170808,       1711,   -32.4997,  -158.9765,       5277,  2191.5,   2.1082,  34.6417,2,  34.6398,2, 146.9110,3, 149.0482,2,   117.3,2,   35.77,2,    0.00,2,    2.49,2,   0.025,2,   0.021,2,   0.0000,2,  2305.8,2, 2395.11,2,   7.5654,2, -999.00,9, -999.00,9, -999.00,  -999.0,9, -999.00,9,     -999.0,9,  -999.0,9, 20170808,     1602, -32.5001,-158.9761,        0.0,1,      0.061,1,      4.700,1,      0.133,1,      25.02,     -999.0,9,     -999.0,9,     -999.0,9,     -999.0,9,     2.1100,2,     -999.0,9
320620170703,        P06,     128,          1,         13,         13,2,20170808,       1711,   -32.4997,  -158.9765,       5277,  1958.2,   2.2838,  34.6228,2,  34.6225,2, 150.4465,2, 151.7932,2,   107.0,2,   35.38,2,    0.00,2,    2.46,2,   0.028,2,   0.025,2,   0.0000,2,  2294.0,2, 2383.23,2,   7.5666,2, -999.00,9, -999.00,9, -999.00,    39.4,2, -999.00,9,     -999.0,1,  -999.0,9, 20170808,     1608, -32.4999,-158.9767,        0.0,1,      0.061,1,      4.700,1,      0.129,1,      25.02,     -999.0,9,     -999.0,9,     -999.0,9,     -999.0,9,     2.2855,2,     -999.0,9
320620170703,        P06,     128,          1,         14,         14,2,20170808,       1711,   -32.4997,  -158.9765,       5277,  1754.0,   2.5054,  34.5877,2,  34.5857,2, 155.3757,2, 156.6550,2,    94.3,2,   35.07,2,    0.00,2,    2.44,2,   0.030,2,   0.025,2,   0.0000,2,  2278.7,2, 2366.75,2,   7.5660,2, -999.00,9, -999.00,9, -999.00,  -999.0,9, -999.00,9,     -999.0,9,  -999.0,9, 20170808,     1612, -32.4998,-158.9768,        0.0,1,      0.061,1,      4.700,1,      0.132,1,      25.02,     -999.0,9,     -999.0,9,     -999.0,9,     -999.0,9,     2.5100,2,     -999.0,9
320620170703,        P06,     128,          1,         15,         15,2,20170808,       1711,   -32.4997,  -158.9765,       5277,  1548.9,   2.8256,  34.5187,2,  34.5372,2, 162.0598,2, 163.4576,2,    79.4,2,   34.77,2,    0.00,2,    2.40,2,   0.060,2,   0.042,2,   0.0000,2,  2261.5,2, 2351.70,2,   7.5662,2, -999.00,9, -999.00,9, -999.00,    39.3,2, -999.00,9,     -999.0,1,  -999.0,9, 20170808,     1617, -32.4999,-158.9768,        0.0,1,      0.061,1,      4.700,1,      0.134,1,      25.02,     -999.0,9,     -999.0,9,     -999.0,9,     -999.0,9,     2.7492,2,     -999.0,9
320620170703,        P06,     128,          1,         16,         16,2,20170808,       1711,   -32.4997,  -158.9765,       5277,  1376.9,   3.1516,  34.4511,2,  34.4443,2, 174.5838,2, 174.2593,2,    60.5,2,   34.16,2,    0.00,2,    2.36,2,   0.218,2,   0.126,2,   0.0000,2,  2238.6,2, 2324.03,2,   7.5730,2, -999.00,9, -999.00,9, -999.00,    39.0,2, -999.00,9,     -999.0,1,  -999.0,9, 20170808,     1621, -32.4999,-158.9763,        0.0,1,      0.061,1,      4.700,1,      0.131,1,      25.02,     -999.0,9,     -999.0,9,     -999.0,9,     -999.0,9,     3.1815,2,     -999.0,9
320620170703,        P06,     128,          1,         17,         17,2,20170808,       1711,   -32.4997,  -158.9765,       5277,  1279.1,   3.4948,  34.4017,2,  34.3970,2, 181.1011,2, 181.4207,2,    50.6,2,   33.50,2,    0.00,2,    2.32,2,   0.411,2,   0.211,2,   0.0000,2,  2226.9,2, 2317.05,2,   7.5830,2, -999.00,9, -999.00,9, -999.00,  -999.0,9, -999.00,9,     -999.0,9,  -999.0,9, 20170808,     1624, -32.4999,-158.9763,        0.0,1,      0.060,1,      4.700,1,      0.131,1,      25.01,     -999.0,9,     -999.0,9,     -999.0,9,     -999.0,9,     3.5089,2,     -999.0,9
320620170703,        P06,     128,          1,         18,         18,2,20170808,       1711,   -32.4997,  -158.9765,       5277,  1173.8,   4.0036,  34.3571,2,  34.3513,2, 191.2624,2, 191.3714,2,    39.0,2,   32.25,2,    0.00,2,    2.22,2,   0.767,2,   0.375,2,   0.0930,2,  2208.3,2, 2305.82,2,   7.6007,2, -999.00,9, -999.00,9, -999.00,    42.9,3, -999.00,9,     -999.0,1,  -999.0,9, 20170808,     1627, -32.4999,-158.9764,        0.0,1,      0.060,1,      4.700,1,      0.133,1,      25.02,     -999.0,9,     -999.0,9,     -999.0,9,     -999.0,9,     4.0355,2,     -999.0,9
320620170703,        P06,     128,          1,         19,         19,2,20170808,       1711,   -32.4997,  -158.9765,       5277,  1076.8,   4.5632,  34.3268,2,  34.3305,3, 200.6611,2, 200.0525,2,    30.5,2,   30.88,2,    0.00,2,    2.12,2,   1.087,2,   0.511,2,   0.2090,2,  2195.4,2, 2298.22,2,   7.6192,2, -999.00,9, -999.00,9, -999.00,  -999.0,9, -999.00,9,     -999.0,9,  -999.0,9, 20170808,     1630, -32.4999,-158.9762,        0.0,1,      0.060,1,      4.699,1,      0.131,1,      25.02,     -999.0,9,     -999.0,9,     -999.0,9,     -999.0,9,     4.5288,2,     -999.0,9
320620170703,        P06,     128,          1,         20,         20,2,20170808,       1711,   -32.4997,  -158.9765,       5277,   974.9,   5.1247,  34.3109,2,  34.3097,2, 212.4378,2, 211.1313,2,    21.9,2,   28.96,2,    0.00,2,    1.96,2,   1.600,2,   0.765,2,   0.2060,2,  2179.0,2, 2289.52,2,   7.6439,2, -999.00,9, -999.00,9, -999.00,    41.8,3, -999.00,9,     -999.0,1,  -999.0,9, 20170808,     1633, -32.4999,-158.9762,        0.0,1,      0.060,1,      4.698,1,      0.134,1,      25.01,     -999.0,9,     -999.0,9,     -999.0,9,     -999.0,9,     5.0847,2,     -999.0,9
320620170703,        P06,     128,          1,         21,         21,2,20170808,       1711,   -32.4997,  -158.9765,       5277,   872.6,   5.6837,  34.3097,2,  34.3078,2, 224.7385,2, 224.8556,2,    14.3,2,   26.53,2,    0.00,2,    1.80,2,   2.284,2,   1.116,2,   0.3530,2,  2162.3,2, 2282.04,2,   7.6745,2, -999.00,9, -999.00,9, -999.00,  -999.0,9, -999.00,9,     -999.0,9,  -999.0,9, 20170808,     1636, -32.5000,-158.9762,        0.0,1,      0.058,1,      4.698,1,      0.134,1,      25.03,     -999.0,9,     -999.0,9,     -999.0,9,     -999.0,9,     5.7201,2,     -999.0,9
320620170703,        P06,     128,          1,         22,         22,2,20170808,       1711,   -32.4997,  -158.9765,       5277,   770.6,   6.1800,  34.3230,2,  34.3215,2, 233.3610,2, 233.8571,2,    10.3,2,   24.66,2,    0.00,2,    1.67,2,   2.851,2,   1.431,2,   0.5220,2,  2153.7,2, 2281.21,2,   7.6927,2, -999.00,9, -999.00,9, -999.00,    40.1,2, -999.00,9,     -999.0,1,  -999.0,9, 20170808,     1639, -32.5000,-158.9761,        0.0,1,      0.058,1,      4.698,1,      0.135,1,      25.02,     -999.0,9,     -999.0,9,     -999.0,9,     -999.0,9,     6.2213,2,     -999.0,9
320620170703,        P06,     128,          1,         23,         23,2,20170808,       1711,   -32.4997,  -158.9765,       5277,   669.8,   6.7127,  34.3529,2,  34.3498,2, 238.4724,2, 235.3316,3,     7.7,2,   22.97,2,    0.00,2,    1.54,2,   3.448,2,   1.716,2,   0.7720,2,  2147.3,6, 2279.23,2,   7.7048,2, -999.00,9, -999.00,9, -999.00,    39.9,2, -999.00,9,     -999.0,1,  -999.0,9, 20170808,     1642, -32.4999,-158.9763,        0.0,1,      0.059,1,      4.697,1,      0.134,1,      25.04,     -999.0,9,     -999.0,9,     -999.0,9,     -999.0,9,     6.7051,2,     -999.0,9
320620170703,        P06,     128,          1,         24,         24,2,20170808,       1711,   -32.4997,  -158.9765,       5277,   568.3,   7.3182,  34.3996,2,  34.3941,2, 238.8763,2,-999.0000,9,     5.9,2,   21.21,2,    0.00,2,    1.45,2,   3.644,2,   1.888,2,   0.9420,2,  2143.4,2, 2282.55,2,   7.7144,2, -999.00,9, -999.00,9, -999.00,    41.4,2, -999.00,9,     -999.0,1,  -999.0,9, 20170808,     1645, -32.4998,-158.9765,        0.0,1,      0.060,1,      4.696,1,      0.135,1,      25.02,     -999.0,9,     -999.0,9,     -999.0,9,     -999.0,9,     7.2988,2,     -999.0,9
320620170703,        P06,     128,          1,         25,         25,2,20170808,       1711,   -32.4997,  -158.9765,       5277,   467.2,   8.2914,  34.4760,2,  34.4756,2, 231.8559,2, 232.6022,2,     4.3,2,   18.78,2,    0.00,2,    1.29,2,   3.547,2,   1.860,2,   1.2870,2,  2139.3,2, 2279.15,2,   7.7282,2, -999.00,9, -999.00,9, -999.00,    45.2,2,   21.50,2,     -999.0,1,  -999.0,9, 20170808,     1648, -32.4997,-158.9770,        0.0,1,      0.061,1,      4.695,1,      0.134,1,      25.00,     -999.0,9,     -999.0,9,     -999.0,9,     -999.0,9,     8.2499,2,     -999.0,9
320620170703,        P06,     128,          1,         26,         26,2,20170808,       1711,   -32.4997,  -158.9765,       5277,   388.0,   9.8663,  34.6360,2,  34.6160,2, 217.3628,2, 253.2634,4,     3.4,2,   16.17,2,    0.00,2,    1.12,2,   3.292,2,   1.749,2,   1.1100,2,  2133.9,2, 2286.74,2,   7.7486,2, -999.00,9, -999.00,9, -999.00,    45.8,2,   18.20,2,     -999.0,1,  -999.0,9, 20170808,     1651, -32.4996,-158.9772,        0.0,1,      0.059,1,      4.694,1,      0.138,1,      25.00,     -999.0,9,     -999.0,9,     -999.0,9,     -999.0,9,     9.6503,2,     -999.0,9
320620170703,        P06,     128,          1,         27,         27,2,20170808,       1711,   -32.4997,  -158.9765,       5277,   336.3,  11.2165,  34.8174,2,  34.7895,2, 211.2583,3, 213.4948,2,     2.8,2,   13.37,2,    0.00,2,    0.95,2,   3.091,2,   1.710,2,   1.3430,2,  2129.9,2, 2292.26,6,   7.7741,2, -999.00,9, -999.00,9, -999.00,  -999.0,9, -999.00,9,     -999.0,9,  -999.0,9, 20170808,     1654, -32.4996,-158.9776,        0.0,1,      0.059,1,      4.691,1,      0.139,1,      25.01,     -999.0,9,     -999.0,9,     -999.0,9,     -999.0,9,    10.9086,2,     -999.0,9
320620170703,        P06,     128,          1,         28,         28,2,20170808,       1711,   -32.4997,  -158.9765,       5277,   285.8,  12.7599,  35.0363,2,  34.9803,2, 209.2195,2, 210.2423,2,     2.1,2,   10.09,2,    0.00,2,    0.74,2,   2.868,2,   1.599,2,   1.2580,2,  2120.1,2, 2302.83,2,   7.8125,2, -999.00,9, -999.00,9, -999.00,    49.2,2,   12.40,2,     -999.0,1,  -999.0,9, 20170808,     1656, -32.4996,-158.9774,        0.0,1,      0.060,1,      4.689,1,      0.136,1,      25.02,     -999.0,9,     -999.0,9,     -999.0,9,     -999.0,9,    12.4763,2,     -999.0,9
320620170703,        P06,     128,          1,         29,         29,2,20170808,       1711,   -32.4997,  -158.9765,       5277,   233.9,  14.2045,  35.2056,2,  35.1646,2, 212.5349,2, 213.5993,2,     1.4,2,    6.75,2,    0.00,2,    0.55,2,   2.699,2,   1.564,2,   1.3850,2,  2111.6,2, 2313.40,2,   7.8535,2, -999.00,9, -999.00,9, -999.00,    49.1,2,    9.30,2,     -999.0,1,  -999.0,9, 20170808,     1659, -32.4996,-158.9772,        0.0,1,      0.062,1,      4.687,1,      0.138,1,      25.00,     -999.0,9,     -999.0,9,     -999.0,9,     -999.0,9,    13.8563,2,     -999.0,9
320620170703,        P06,     128,          1,         30,         30,2,20170808,       1711,   -32.4997,  -158.9765,       5277,   185.1,  15.2412,  35.3099,2,  35.2915,2, 212.0948,2, 213.2850,2,     0.9,2,    4.82,2,    0.02,2,    0.41,2,   2.567,2,   1.478,2,   1.4110,2,  2100.3,2, 2317.54,2,   7.8822,2, -999.00,9, -999.00,9, -999.00,    50.3,2,    7.50,2,     -999.0,1,  -999.0,9, 20170808,     1701, -32.4996,-158.9771,        0.0,1,      0.068,1,      4.684,1,      0.138,1,      25.02,     -999.0,9,     -999.0,9,     -999.0,9,     -999.0,9,    15.0046,2,     -999.0,9
320620170703,        P06,     128,          1,         31,         31,2,20170808,       1711,   -32.4997,  -158.9765,       5277,   135.4,  16.7287,  35.4831,2,  35.4322,2, 233.4075,3, 231.0423,2,     0.2,2,    0.83,2,    0.05,2,    0.17,2,   2.392,2,   1.376,2,   1.3430,2,  2077.6,2, 2329.92,2,   7.9447,2, -999.00,9, -999.00,9, -999.00,    59.4,2,    4.60,2,     -999.0,1,  -999.0,9, 20170808,     1703, -32.4997,-158.9767,        0.0,1,      0.109,1,      4.661,1,      0.168,1,      25.01,     -999.0,9,     -999.0,9,     -999.0,9,     -999.0,9,    16.4018,2,     -999.0,9
320620170703,        P06,     128,          1,         32,         32,2,20170808,       1711,   -32.4997,  -158.9765,       5277,    88.2,  16.9988,  35.5343,2,  35.5324,2, 236.7010,2, 235.2971,2,     0.1,2,    0.12,2,    0.02,2,    0.10,2,   2.314,2,   1.348,2,   1.3880,2,  2067.6,2, 2335.71,2,   7.9696,2, -999.00,9, -999.00,9, -999.00,    59.2,2,    4.10,2,     -999.0,1,  -999.0,9, 20170808,     1705, -32.4997,-158.9766,        0.0,1,      0.171,1,      4.643,1,      0.184,1,      25.01,     -999.0,9,     -999.0,9,     -999.0,9,     -999.0,9,    17.0077,2,     -999.0,9