BOTTLE,20230922CCHSIOCBG
EXPOCODE,SECT_ID,STNNBR,CASTNO,SAMPNO,BTLNBR,BTLNBR_FLAG_W,DATE,TIME,LATITUDE,LONGITUDE,DEPTH,CTDPRS,CTDTMP,CTDSAL,CTDSAL_FLAG_W,SALNTY,SALNTY_FLAG_W,CTDOXY,CTDOXY_FLAG_W,OXYGEN,OXYGEN_FLAG_W,SILCAT,SILCAT_FLAG_W,NITRAT,NITRAT_FLAG_W,NITRIT,NITRIT_FLAG_W,PHSPHT,PHSPHT_FLAG_W,CFC-11,CFC-11_FLAG_W,CFC-12,CFC-12_FLAG_W,SF6,SF6_FLAG_W,TCARBN,TCARBN_FLAG_W,ALKALI,ALKALI_FLAG_W,PH_TOT,PH_TOT_FLAG_W,DELC13,DELC13_FLAG_W,DELC14,DELC14_FLAG_W,C14ERR,DOC,DOC_FLAG_W,TDN,TDN_FLAG_W,TON,TON_FLAG_W,D15N_NO3,D15N_NO3_FLAG_W,BTL_DATE,BTL_TIME,BTL_LAT,BTL_LON,CTDRINKO,CTDRINKO_FLAG_W,CTDFLUOR,CTDFLUOR_FLAG_W,CTDXMISS,CTDXMISS_FLAG_W,CTDBACKSCATTER,CTDBACKSCATTER_FLAG_W,PH_TMP,D18O_NO3,D18O_NO3_FLAG_W,DOP,DOP_FLAG_W,HPLC,HPLC_FLAG_W,POC,POC_FLAG_W,REFTMP,REFTMP_FLAG_W,TDP,TDP_FLAG_W
,,,,,,,,,,,METERS,DBAR,ITS-90,PSS-78,,PSS-78,,UMOL/KG,,UMOL/KG,,UMOL/KG,,UMOL/KG,,UMOL/KG,,UMOL/KG,,PMOL/KG,,PMOL/KG,,FMOL/KG,,UMOL/KG,,UMOL/KG,,,,/MILLE,,/MILLE,,/MILLE,UMOL/KG,,UMOL/KG,,UMOL/KG,,/MILLE,,,,,,VOLTS,,VOLTS,,VOLTS,,VOLTS,,DEGC,/MILLE,,UMOL/KG,,,,UG/L,,ITS-90,,UMOL/KG,
320620170703,        P06,     109,          1,          1,          1,2,20170731,       1852,   -32.4996,  -171.2502,       5456,  5558.3,   1.1158,  34.7082,2,  34.7085,2, 206.6082,2, 206.3806,2,   121.9,2,   31.95,2,    0.00,2,    2.22,2,   0.137,2,   0.078,2,   0.0000,2,  2264.6,6, 2368.26,2,   7.6053,2, -999.00,9, -999.00,9, -999.00,  -999.0,9, -999.00,9,     -999.0,9,  -999.0,9, 20170731,     1632, -32.4998,-171.2500,        0.0,1,      0.061,1,      4.696,1,      0.127,1,      25.02,     -999.0,9,     -999.0,9,     -999.0,9,     -999.0,9,     1.1163,2,     -999.0,9
320620170703,        P06,     109,          1,          2,          2,2,20170731,       1852,   -32.4996,  -171.2502,       5456,  5444.1,   1.1018,  34.7085,2,  34.7081,2, 206.6082,2, 207.2268,2,   121.8,2,   31.98,2,    0.00,2,    2.22,2,   0.135,2,   0.080,2,   0.0000,2,  2265.5,2, 2358.66,2,   7.6056,2, -999.00,9, -999.00,9, -999.00,  -999.0,9, -999.00,9,     -999.0,9,  -999.0,9, 20170731,     1636, -32.4998,-171.2498,        0.0,1,      0.061,1,      4.697,1,      0.126,1,      25.03,     -999.0,9,     -999.0,9,     -999.0,9,     -999.0,9,     1.1023,2,     -999.0,9
320620170703,        P06,     109,          1,          3,          3,2,20170731,       1852,   -32.4996,  -171.2502,       5456,  5334.1,   1.0880,  34.7083,2,  34.7083,2, 206.6082,2, 206.8723,2,   122.0,2,   31.95,2,    0.00,2,    2.23,2,   0.134,2,   0.080,2,   0.0000,2,  2265.2,2, 2364.56,2,   7.6053,2, -999.00,9, -999.00,9, -999.00,  -999.0,9, -999.00,9,     -999.0,9,  -999.0,9, 20170731,     1641, -32.4999,-171.2497,        0.0,1,      0.061,1,      4.697,1,      0.127,1,      25.05,     -999.0,9,     -999.0,9,     -999.0,9,     -999.0,9,     1.0885,2,     -999.0,9
320620170703,        P06,     109,          1,          4,          4,2,20170731,       1852,   -32.4996,  -171.2502,       5456,  4923.2,   1.0530,  34.7092,2,  34.7093,2, 206.6082,2, 206.7379,2,   121.5,2,   31.91,2,    0.00,2,    2.21,2,   0.138,2,   0.083,2,   0.0000,2,  -999.0,9, -999.00,9,-999.0000,9, -999.00,9, -999.00,9, -999.00,  -999.0,9, -999.00,9,     -999.0,9,  -999.0,9, 20170731,     1652, -32.4997,-171.2500,        0.0,1,      0.060,1,      4.699,1,      0.124,1,     -999.0,     -999.0,9,     -999.0,9,     -999.0,9,     -999.0,9,     1.0539,2,     -999.0,9
320620170703,        P06,     109,          1,          5,          5,2,20170731,       1852,   -32.4996,  -171.2502,       5456,  4512.0,   1.0704,  34.7116,2,  34.7121,2, 206.5716,2, 205.9531,2,   119.5,2,   31.81,2,    0.00,2,    2.22,2,   0.122,2,   0.073,2,   0.0000,2,  2262.4,2, 2361.21,2,   7.6057,2, -999.00,9, -999.00,9, -999.00,  -999.0,9, -999.00,9,     -999.0,9,  -999.0,9, 20170731,     1701, -32.4998,-171.2500,        0.0,1,      0.061,1,      4.700,1,      0.126,1,      25.04,     -999.0,9,     -999.0,9,     -999.0,9,     -999.0,9,     1.0704,2,     -999.0,9
320620170703,        P06,     109,          1,          6,          6,2,20170731,       1852,   -32.4996,  -171.2502,       5456,  4101.5,   1.1782,  34.7163,2,  34.7162,2, 203.2529,2, 203.0577,2,   115.6,2,   31.70,2,    0.00,2,    2.20,2,   0.101,2,   0.063,2,   0.0000,2,  -999.0,9, -999.00,9,-999.0000,9, -999.00,9, -999.00,9, -999.00,  -999.0,9, -999.00,9,     -999.0,9,  -999.0,9, 20170731,     1709, -32.4999,-171.2497,        0.0,1,      0.061,1,      4.701,1,      0.128,1,     -999.0,     -999.0,9,     -999.0,9,     -999.0,9,     -999.0,9,     1.1824,2,     -999.0,9
320620170703,        P06,     109,          1,          7,          7,2,20170731,       1852,   -32.4996,  -171.2502,       5456,  3757.3,   1.3497,  34.7193,2,  34.7270,2, 197.3302,2, 197.7909,2,   111.6,2,   31.73,2,    0.00,2,    2.21,2,   0.082,2,   0.054,2,   0.0000,2,  2263.1,2, 2361.09,2,   7.6047,2, -999.00,9, -999.00,9, -999.00,  -999.0,9, -999.00,9,     -999.0,9,  -999.0,9, 20170731,     1716, -32.4999,-171.2498,        0.0,1,      0.061,1,      4.701,1,      0.129,1,      25.03,     -999.0,9,     -999.0,9,     -999.0,9,     -999.0,9,     1.3561,2,     -999.0,9
320620170703,        P06,     109,          1,          8,          8,2,20170731,       1852,   -32.4996,  -171.2502,       5456,  3450.3,   1.5528,  34.7150,2,  34.7144,3, 187.1500,2, 186.7268,2,   110.8,2,   32.27,2,    0.00,2,    2.27,2,   0.059,2,   0.040,2,   0.0000,2,  -999.0,9, -999.00,9,-999.0000,9, -999.00,9, -999.00,9, -999.00,  -999.0,9, -999.00,9,     -999.0,9,  -999.0,9, 20170731,     1722, -32.4997,-171.2500,        0.0,1,      0.061,1,      4.701,1,      0.128,1,     -999.0,     -999.0,9,     -999.0,9,     -999.0,9,     -999.0,9,     1.5710,2,     -999.0,9
320620170703,        P06,     109,          1,          9,          9,2,20170731,       1852,   -32.4996,  -171.2502,       5456,  3145.3,   1.7193,  34.6931,2,  34.6912,2, 168.7373,2, 167.7271,2,   119.5,2,   33.97,2,    0.00,2,    2.37,2,   0.038,2,   0.030,2,   0.0000,2,  2292.3,2, 2382.21,6,   7.5830,2, -999.00,9, -999.00,9, -999.00,  -999.0,9, -999.00,9,     -999.0,9,  -999.0,9, 20170731,     1729, -32.4997,-171.2501,        0.0,1,      0.061,1,      4.701,1,      0.129,1,      25.03,     -999.0,9,     -999.0,9,     -999.0,9,     -999.0,9,     1.7288,2,     -999.0,9
320620170703,        P06,     109,          1,         10,         10,2,20170731,       1852,   -32.4996,  -171.2502,       5456,  2873.2,   1.8480,  34.6710,2,  34.6694,2, 155.2968,2, 155.4629,2,   125.0,2,   35.18,2,    0.00,2,    2.45,2,   0.031,2,   0.023,2,   0.0000,2,  -999.0,9, -999.00,9,-999.0000,9, -999.00,9, -999.00,9, -999.00,  -999.0,9, -999.00,9,     -999.0,9,  -999.0,9, 20170731,     1734, -32.4997,-171.2500,        0.0,1,      0.062,1,      4.701,1,      0.133,1,     -999.0,     -999.0,9,     -999.0,9,     -999.0,9,     -999.0,9,     1.8621,2,     -999.0,9
320620170703,        P06,     109,          1,         11,         11,2,20170731,       1852,   -32.4996,  -171.2502,       5456,  2619.2,   1.9718,  34.6559,2,  34.6549,2, 149.8773,2, 149.1740,2,   124.3,2,   35.66,2,    0.00,2,    2.49,2,   0.027,2,   0.021,2,   0.0000,2,  2310.6,6, 2394.31,2,   7.5662,2, -999.00,9, -999.00,9, -999.00,  -999.0,9, -999.00,9,     -999.0,9,  -999.0,9, 20170731,     1739, -32.4999,-171.2497,        0.0,1,      0.061,1,      4.701,1,      0.131,1,      25.05,     -999.0,9,     -999.0,9,     -999.0,9,     -999.0,9,     1.9817,2,     -999.0,9
320620170703,        P06,     109,          1,         12,         12,2,20170731,       1852,   -32.4996,  -171.2502,       5456,  2363.4,   2.1105,  34.6437,2,  34.6427,2, 148.8630,2, 149.1914,2,   118.3,2,   35.54,2,    0.00,2,    2.48,2,   0.028,2,   0.022,2,   0.0000,2,  -999.0,9, -999.00,9,-999.0000,9, -999.00,9, -999.00,9, -999.00,  -999.0,9, -999.00,9,     -999.0,9,  -999.0,9, 20170731,     1745, -32.5001,-171.2494,        0.0,1,      0.061,1,      4.701,1,      0.132,1,     -999.0,     -999.0,9,     -999.0,9,     -999.0,9,     -999.0,9,     2.1312,2,     -999.0,9
320620170703,        P06,     109,          1,         13,         13,2,20170731,       1852,   -32.4996,  -171.2502,       5456,  2108.6,   2.2685,  34.6282,2,  34.6266,2, 150.1050,2, 150.8230,2,   111.1,2,   35.37,2,    0.00,2,    2.48,2,   0.029,2,   0.022,2,   0.0000,2,  2297.7,2, 2382.37,2,   7.5675,2, -999.00,9, -999.00,9, -999.00,  -999.0,9, -999.00,9,     -999.0,9,  -999.0,9, 20170731,     1750, -32.5003,-171.2491,        0.0,1,      0.062,1,      4.701,1,      0.134,1,      25.03,     -999.0,9,     -999.0,9,     -999.0,9,     -999.0,9,     2.2827,2,     -999.0,9
320620170703,        P06,     109,          1,         14,         14,2,20170731,       1852,   -32.4996,  -171.2502,       5456,  1885.8,   2.4462,  34.6054,2,  34.6046,2, 152.6982,2, 153.8078,2,   102.1,2,   35.09,2,    0.00,2,    2.45,2,   0.036,2,   0.027,2,   0.0000,2,  -999.0,9, -999.00,9,-999.0000,9, -999.00,9, -999.00,9, -999.00,  -999.0,9, -999.00,9,     -999.0,9,  -999.0,9, 20170731,     1755, -32.5002,-171.2491,        0.0,1,      0.062,1,      4.701,1,      0.134,1,     -999.0,     -999.0,9,     -999.0,9,     -999.0,9,     -999.0,9,     2.4471,2,     -999.0,9
320620170703,        P06,     109,          1,         15,         15,2,20170731,       1852,   -32.4996,  -171.2502,       5456,  1682.2,   2.6599,  34.5690,2,  34.5688,2, 157.7929,2, 158.7265,2,    89.6,2,   34.78,2,    0.00,2,    2.42,2,   0.046,2,   0.032,2,   0.0000,2,  2273.7,2, 2395.07,3,   7.5677,2, -999.00,9, -999.00,9, -999.00,  -999.0,9, -999.00,9,     -999.0,9,  -999.0,9, 20170731,     1800, -32.5002,-171.2493,        0.0,1,      0.061,1,      4.701,1,      0.136,1,      25.05,     -999.0,9,     -999.0,9,     -999.0,9,     -999.0,9,     2.6516,2,     -999.0,9
320620170703,        P06,     109,          1,         16,         16,2,20170731,       1852,   -32.4996,  -171.2502,       5456,  1480.5,   3.0046,  34.4936,2,  34.4905,2, 168.9048,2, 171.5719,3,    68.9,2,   34.26,2,    0.00,2,    2.37,2,   0.111,2,   0.070,2,   0.0000,2,  2249.4,2, -999.00,9,   7.5715,2, -999.00,9, -999.00,9, -999.00,  -999.0,9, -999.00,9,     -999.0,9,  -999.0,9, 20170731,     1805, -32.5000,-171.2494,        0.0,1,      0.061,1,      4.702,1,      0.135,1,      25.04,     -999.0,9,     -999.0,9,     -999.0,9,     -999.0,9,     3.0209,2,     -999.0,9
320620170703,        P06,     109,          1,         17,         17,2,20170731,       1852,   -32.4996,  -171.2502,       5456,  1348.1,   3.4198,  34.4220,2,  34.4255,2, 178.2658,2, 178.7961,2,    55.5,2,   33.55,2,    0.00,2,    2.33,2,   0.254,2,   0.142,2,   0.0000,2,  2230.3,2, 2322.92,2,   7.5802,2, -999.00,9, -999.00,9, -999.00,  -999.0,9, -999.00,9,     -999.0,9,  -999.0,9, 20170731,     1808, -32.4999,-171.2496,        0.0,1,      0.061,1,      4.702,1,      0.135,1,      25.03,     -999.0,9,     -999.0,9,     -999.0,9,     -999.0,9,     3.3882,2,     -999.0,9
320620170703,        P06,     109,          1,         18,         18,2,20170731,       1852,   -32.4996,  -171.2502,       5456,  1245.4,   3.8472,  34.3804,2,  34.3788,2, 186.0572,2, 186.5555,2,    44.5,2,   32.59,2,    0.00,2,    2.25,2,   0.449,2,   0.232,2,   0.0650,2,  2218.6,2, 2304.97,2,   7.5950,2, -999.00,9, -999.00,9, -999.00,  -999.0,9, -999.00,9,     -999.0,9,  -999.0,9, 20170731,     1811, -32.4998,-171.2497,        0.0,1,      0.060,1,      4.702,1,      0.136,1,      25.05,     -999.0,9,     -999.0,9,     -999.0,9,     -999.0,9,     3.8486,2,     -999.0,9
320620170703,        P06,     109,          1,         19,         19,2,20170731,       1852,   -32.4996,  -171.2502,       5456,  1145.2,   4.3163,  34.3476,2,  34.3458,2, 196.0881,2, 195.4223,2,    34.9,2,   31.34,2,    0.00,2,    2.15,2,   0.798,2,   0.388,2,   0.1030,2,  2202.4,2, 2296.74,2,   7.6119,2, -999.00,9, -999.00,9, -999.00,  -999.0,9, -999.00,9,     -999.0,9,  -999.0,9, 20170731,     1814, -32.4997,-171.2498,        0.0,1,      0.060,1,      4.701,1,      0.137,1,      25.03,     -999.0,9,     -999.0,9,     -999.0,9,     -999.0,9,     4.3322,2,     -999.0,9
320620170703,        P06,     109,          1,         20,         20,2,20170731,       1852,   -32.4996,  -171.2502,       5456,  1043.9,   4.9143,  34.3250,2,  34.3258,2, 206.3095,2, 205.6970,2,    25.4,2,   29.56,2,    0.00,2,    2.02,2,   1.274,2,   0.583,2,   0.1420,2,  2183.8,2, 2287.19,2,   7.6348,2, -999.00,9, -999.00,9, -999.00,  -999.0,9, -999.00,9,     -999.0,9,  -999.0,9, 20170731,     1817, -32.4997,-171.2498,        0.0,1,      0.059,1,      4.701,1,      0.136,1,      25.05,     -999.0,9,     -999.0,9,     -999.0,9,     -999.0,9,     4.8979,2,     -999.0,9
320620170703,        P06,     109,          1,         21,         21,2,20170731,       1852,   -32.4996,  -171.2502,       5456,   942.8,   5.5454,  34.3218,2,  34.3193,2, 218.3980,2, 217.4878,2,    17.3,2,   27.35,2,    0.00,2,    1.86,2,   1.817,2,   0.874,2,   0.2590,2,  -999.0,9, -999.00,9,-999.0000,9, -999.00,9, -999.00,9, -999.00,  -999.0,9, -999.00,9,     -999.0,9,  -999.0,9, 20170731,     1819, -32.4997,-171.2498,        0.0,1,      0.059,1,      4.700,1,      0.137,1,     -999.0,     -999.0,9,     -999.0,9,     -999.0,9,     -999.0,9,     5.5392,2,     -999.0,9
320620170703,        P06,     109,          1,         22,         22,2,20170731,       1852,   -32.4996,  -171.2502,       5456,   841.1,   6.2245,  34.3372,2,  34.3327,2, 227.5758,2, 227.8024,2,    12.0,2,   25.23,2,    0.00,2,    1.72,2,   2.449,2,   1.186,2,   0.4460,2,  2157.2,2, 2277.10,2,   7.6851,2, -999.00,9, -999.00,9, -999.00,  -999.0,9, -999.00,9,     -999.0,9,  -999.0,9, 20170731,     1822, -32.4998,-171.2498,        0.0,1,      0.058,1,      4.700,1,      0.138,1,      25.04,     -999.0,9,     -999.0,9,     -999.0,9,     -999.0,9,     6.1210,2,     -999.0,9
320620170703,        P06,     109,          1,         23,         23,2,20170731,       1852,   -32.4996,  -171.2502,       5456,   740.5,   6.7686,  34.3697,2,  34.3584,2, 233.4647,2, 233.2780,2,     8.9,2,   23.55,2,    0.00,2,    1.60,2,   2.969,2,   1.500,2,   0.5720,2,  2149.6,2, 2274.15,2,   7.6986,2, -999.00,9, -999.00,9, -999.00,  -999.0,9, -999.00,9,     -999.0,9,  -999.0,9, 20170731,     1825, -32.4997,-171.2498,        0.0,1,      0.060,1,      4.698,1,      0.141,1,      25.03,     -999.0,9,     -999.0,9,     -999.0,9,     -999.0,9,     6.6255,2,     -999.0,9
320620170703,        P06,     109,          1,         24,         24,2,20170731,       1852,   -32.4996,  -171.2502,       5456,   639.2,   7.3112,  34.4141,2,  34.4065,2, 234.3470,2, 234.2434,2,     6.9,2,   21.94,2,    0.00,2,    1.49,2,   3.427,2,   1.738,2,   0.8190,2,  2147.1,2, -999.00,9,   7.7079,2, -999.00,9, -999.00,9, -999.00,  -999.0,9, -999.00,9,     -999.0,9,  -999.0,9, 20170731,     1828, -32.4997,-171.2500,        0.0,1,      0.059,1,      4.697,1,      0.139,1,      25.05,     -999.0,9,     -999.0,9,     -999.0,9,     -999.0,9,     7.2047,2,     -999.0,9
320620170703,        P06,     109,          1,         25,         25,2,20170731,       1852,   -32.4996,  -171.2502,       5456,   539.9,   8.2380,  34.5059,2,  34.4913,2, 226.7766,2, 226.9782,2,     5.4,2,   19.79,2,    0.00,2,    1.35,2,   3.381,2,   1.776,2,   0.9400,2,  2142.9,2, 2279.16,2,   7.7190,2, -999.00,9, -999.00,9, -999.00,  -999.0,9, -999.00,9,     -999.0,9,  -999.0,9, 20170731,     1830, -32.4996,-171.2500,        0.0,1,      0.059,1,      4.695,1,      0.143,1,      25.02,     -999.0,9,     -999.0,9,     -999.0,9,     -999.0,9,     8.1145,2,     -999.0,9
320620170703,        P06,     109,          1,         26,         26,2,20170731,       1852,   -32.4996,  -171.2502,       5456,   437.8,  10.1123,  34.7351,2,  34.6975,2, 212.4414,2, 212.7795,2,     4.2,2,   16.29,2,    0.00,2,    1.13,2,   3.056,2,   1.681,2,   1.0650,2,  2137.5,2, 2283.57,2,   7.7462,2, -999.00,9, -999.00,9, -999.00,  -999.0,9, -999.00,9,     -999.0,9,  -999.0,9, 20170731,     1833, -32.4996,-171.2501,        0.0,1,      0.060,1,      4.692,1,      0.144,1,      25.04,     -999.0,9,     -999.0,9,     -999.0,9,     -999.0,9,     9.8875,2,     -999.0,9
320620170703,        P06,     109,          1,         27,         27,2,20170731,       1852,   -32.4996,  -171.2502,       5456,   366.4,  11.6791,  34.9393,2,  34.9002,2, 209.7625,2, 209.5660,2,     3.4,2,   12.98,2,    0.00,2,    0.92,2,   2.823,2,   1.585,2,   1.1230,2,  -999.0,9, -999.00,9,-999.0000,9, -999.00,9, -999.00,9, -999.00,  -999.0,9, -999.00,9,     -999.0,9,  -999.0,9, 20170731,     1835, -32.4996,-171.2501,        0.0,1,      0.059,1,      4.691,1,      0.141,1,     -999.0,     -999.0,9,     -999.0,9,     -999.0,9,     -999.0,9,    11.4605,2,     -999.0,9
320620170703,        P06,     109,          1,         28,         28,2,20170731,       1852,   -32.4996,  -171.2502,       5456,   317.0,  12.6644,  35.0647,2,  34.9845,2, 207.8961,2, 209.0696,2,     2.7,2,   11.24,2,    0.00,2,    0.81,2,   2.763,2,   1.567,2,   1.2860,2,  2126.5,2, 2294.80,2,   7.8003,2, -999.00,9, -999.00,9, -999.00,  -999.0,9, -999.00,9,     -999.0,9,  -999.0,9, 20170731,     1837, -32.4996,-171.2501,        0.0,1,      0.060,1,      4.691,1,      0.143,1,      25.04,     -999.0,9,     -999.0,9,     -999.0,9,     -999.0,9,    12.0950,2,     -999.0,9
320620170703,        P06,     109,          1,         29,         29,2,20170731,       1852,   -32.4996,  -171.2502,       5456,   265.3,  13.3623,  35.1354,2,  35.1116,2, 206.5489,2, 207.3955,2,     2.1,2,    8.95,2,    0.00,2,    0.67,2,   2.673,2,   1.529,2,   1.2030,2,  -999.0,9, -999.00,9,-999.0000,9, -999.00,9, -999.00,9, -999.00,  -999.0,9, -999.00,9,     -999.0,9,  -999.0,9, 20170731,     1839, -32.4995,-171.2502,        0.0,1,      0.061,1,      4.691,1,      0.140,1,     -999.0,     -999.0,9,     -999.0,9,     -999.0,9,     -999.0,9,    13.1814,2,     -999.0,9
320620170703,        P06,     109,          1,         30,         30,2,20170731,       1852,   -32.4996,  -171.2502,       5456,   216.0,  14.7003,  35.3260,2,  35.2335,3, 207.2979,2, 207.5731,2,     1.8,2,    7.38,2,    0.00,2,    0.57,2,   2.583,2,   1.486,2,   1.2560,2,  2112.3,2, 2306.68,2,   7.8519,2, -999.00,9, -999.00,9, -999.00,  -999.0,9, -999.00,9,     -999.0,9,  -999.0,9, 20170731,     1841, -32.4995,-171.2502,        0.0,1,      0.062,1,      4.688,1,      0.139,1,      25.04,     -999.0,9,     -999.0,9,     -999.0,9,     -999.0,9,    14.0730,2,     -999.0,9
320620170703,        P06,     109,          1,         31,         31,2,20170731,       1852,   -32.4996,  -171.2502,       5456,   165.6,  15.9580,  35.4660,2,  35.3581,2, 210.1052,2, 209.2703,2,     1.3,2,    5.60,2,    0.02,2,    0.46,2,   2.443,2,   1.438,2,   1.2990,2,  2104.0,2, 2314.65,2,   7.8789,2, -999.00,9, -999.00,9, -999.00,  -999.0,9, -999.00,9,     -999.0,9,  -999.0,9, 20170731,     1843, -32.4995,-171.2502,        0.0,1,      0.072,1,      4.680,1,      0.149,1,      25.04,     -999.0,9,     -999.0,9,     -999.0,9,     -999.0,9,    15.1174,2,     -999.0,9
320620170703,        P06,     109,          1,         32,         32,2,20170731,       1852,   -32.4996,  -171.2502,       5456,   114.8,  17.5079,  35.6756,2,  35.6619,2, 233.2913,3, 230.8381,2,     0.2,2,    0.42,2,    0.04,2,    0.11,2,   2.215,2,   1.288,2,   1.4070,2,  2070.5,2, 2337.25,2,   7.9744,2, -999.00,9, -999.00,9, -999.00,  -999.0,9, -999.00,9,     -999.0,9,  -999.0,9, 20170731,     1845, -32.4995,-171.2502,        0.0,1,      0.181,1,      4.629,1,      0.206,1,      25.04,     -999.0,9,     -999.0,9,     -999.0,9,     -999.0,9,    17.4645,2,     -999.0,9