BOTTLE,20230922CCHSIOCBG
EXPOCODE,SECT_ID,STNNBR,CASTNO,SAMPNO,BTLNBR,BTLNBR_FLAG_W,DATE,TIME,LATITUDE,LONGITUDE,DEPTH,CTDPRS,CTDTMP,CTDSAL,CTDSAL_FLAG_W,SALNTY,SALNTY_FLAG_W,CTDOXY,CTDOXY_FLAG_W,OXYGEN,OXYGEN_FLAG_W,SILCAT,SILCAT_FLAG_W,NITRAT,NITRAT_FLAG_W,NITRIT,NITRIT_FLAG_W,PHSPHT,PHSPHT_FLAG_W,CFC-11,CFC-11_FLAG_W,CFC-12,CFC-12_FLAG_W,SF6,SF6_FLAG_W,TCARBN,TCARBN_FLAG_W,ALKALI,ALKALI_FLAG_W,PH_TOT,PH_TOT_FLAG_W,DELC13,DELC13_FLAG_W,DELC14,DELC14_FLAG_W,C14ERR,DOC,DOC_FLAG_W,TDN,TDN_FLAG_W,TON,TON_FLAG_W,D15N_NO3,D15N_NO3_FLAG_W,BTL_DATE,BTL_TIME,BTL_LAT,BTL_LON,CTDRINKO,CTDRINKO_FLAG_W,CTDFLUOR,CTDFLUOR_FLAG_W,CTDXMISS,CTDXMISS_FLAG_W,CTDBACKSCATTER,CTDBACKSCATTER_FLAG_W,PH_TMP,D18O_NO3,D18O_NO3_FLAG_W,DOP,DOP_FLAG_W,HPLC,HPLC_FLAG_W,POC,POC_FLAG_W,REFTMP,REFTMP_FLAG_W,TDP,TDP_FLAG_W
,,,,,,,,,,,METERS,DBAR,ITS-90,PSS-78,,PSS-78,,UMOL/KG,,UMOL/KG,,UMOL/KG,,UMOL/KG,,UMOL/KG,,UMOL/KG,,PMOL/KG,,PMOL/KG,,FMOL/KG,,UMOL/KG,,UMOL/KG,,,,/MILLE,,/MILLE,,/MILLE,UMOL/KG,,UMOL/KG,,UMOL/KG,,/MILLE,,,,,,VOLTS,,VOLTS,,VOLTS,,VOLTS,,DEGC,/MILLE,,UMOL/KG,,,,UG/L,,ITS-90,,UMOL/KG,
320620170703,        P06,       8,          1,          1,         37,2,20170705,       1836,   -30.0798,   153.9605,       4136,  4189.6,   1.1872,  34.7141,2,  34.7156,3, 195.9503,2, 196.1764,2,   117.6,2,   32.63,2,    0.00,2,    2.28,2,   0.051,2,   0.049,2,   0.0000,4,  2280.5,6, 2377.60,2,   7.6154,2, -999.00,9, -999.00,9, -999.00,    37.9,2, -999.00,9,     -999.0,1,  -999.0,9, 20170705,     1549, -30.0796, 153.9599,        0.0,1,      0.061,1,      4.700,1,      0.151,1,      25.00,     -999.0,9,     -999.0,9,     -999.0,9,     -999.0,9,     -999.0,5,     -999.0,9
320620170703,        P06,       8,          1,          2,          2,2,20170705,       1836,   -30.0798,   153.9605,       4136,  4086.3,   1.1792,  34.7142,2,  34.7162,3, 195.9503,2, 196.0012,2,   117.6,2,   32.59,2,    0.00,2,    2.28,2,   0.049,2,   0.053,2,   0.0000,4,  -999.0,9, -999.00,9,-999.0000,9, -999.00,9, -999.00,9, -999.00,  -999.0,9, -999.00,9,     -999.0,9,  -999.0,9, 20170705,     1554, -30.0795, 153.9598,        0.0,1,      0.061,1,      4.701,1,      0.151,1,     -999.0,     -999.0,9,     -999.0,9,     -999.0,9,     -999.0,9,     -999.0,5,     -999.0,9
320620170703,        P06,       8,          1,          3,         38,2,20170705,       1836,   -30.0798,   153.9605,       4136,  3963.5,   1.1811,  34.7146,2,  34.7162,3, 195.9503,2, 195.4427,2,   117.2,2,   32.57,2,    0.00,2,    2.26,2,   0.050,2,   0.054,2,   0.0000,4,  2278.1,2, 2380.86,2,   7.6144,2, -999.00,9, -999.00,9, -999.00,  -999.0,9, -999.00,9,     -999.0,9,  -999.0,9, 20170705,     1600, -30.0795, 153.9598,        0.0,1,      0.061,1,      4.701,1,      0.149,1,      25.02,     -999.0,9,     -999.0,9,     -999.0,9,     -999.0,9,     -999.0,5,     -999.0,9
320620170703,        P06,       8,          1,          4,          4,2,20170705,       1836,   -30.0798,   153.9605,       4136,  3656.8,   1.1546,  34.7148,2,  34.7160,3, 195.0894,2, 195.4077,2,   117.1,2,   32.59,2,    0.00,2,    2.27,2,-999.000,9,-999.000,9,-999.0000,9,  -999.0,9, -999.00,9,-999.0000,9, -999.00,9, -999.00,9, -999.00,    41.7,2, -999.00,9,     -999.0,1,  -999.0,9, 20170705,     1609, -30.0796, 153.9600,        0.0,1,      0.060,1,      4.704,1,      0.148,1,     -999.0,     -999.0,9,     -999.0,9,     -999.0,9,     -999.0,9,     -999.0,5,     -999.0,9
320620170703,        P06,       8,          1,          5,         39,2,20170705,       1836,   -30.0798,   153.9605,       4136,  3347.9,   1.3154,  34.7192,2,  34.7188,3, 194.0773,2, 193.5474,2,   112.5,2,   32.40,2,    0.00,2,    2.25,2,   0.036,2,   0.042,2,   0.0000,4,  -999.0,9, -999.00,9,-999.0000,9, -999.00,9, -999.00,9, -999.00,  -999.0,9, -999.00,9,     -999.0,9,  -999.0,9, 20170705,     1618, -30.0796, 153.9600,        0.0,1,      0.061,1,      4.707,1,      0.139,1,     -999.0,     -999.0,9,     -999.0,9,     -999.0,9,     -999.0,9,     -999.0,5,     -999.0,9
320620170703,        P06,       8,          1,          6,          6,2,20170705,       1836,   -30.0798,   153.9605,       4136,  3042.3,   1.3837,  34.7209,2,  34.7205,3, 192.1513,2, 192.0353,2,   110.2,2,   32.28,2,    0.00,2,    2.24,2,-999.000,9,-999.000,9,-999.0000,9,  -999.0,9, -999.00,9,-999.0000,9, -999.00,9, -999.00,9, -999.00,    42.3,2, -999.00,9,     -999.0,1,  -999.0,9, 20170705,     1627, -30.0796, 153.9599,        0.0,1,      0.062,1,      4.707,1,      0.141,1,     -999.0,     -999.0,9,     -999.0,9,     -999.0,9,     -999.0,9,     -999.0,5,     -999.0,9
320620170703,        P06,       8,          1,          7,         40,2,20170705,       1836,   -30.0798,   153.9605,       4136,  2787.3,   1.6678,  34.7221,2,  34.7221,3, 186.8591,2, 187.6449,2,   104.1,2,   32.18,2,    0.00,2,    2.25,2,   0.031,2,   0.041,2,   0.0000,4,  2268.6,2, 2365.29,2,   7.6057,4, -999.00,9, -999.00,9, -999.00,    42.5,2, -999.00,9,     -999.0,1,  -999.0,9, 20170705,     1634, -30.0795, 153.9599,        0.0,1,      0.061,1,      4.709,1,      0.139,1,      25.03,     -999.0,9,     -999.0,9,     -999.0,9,     -999.0,9,     -999.0,5,     -999.0,9
320620170703,        P06,       8,          1,          8,          8,2,20170705,       1836,   -30.0798,   153.9605,       4136,  2532.5,   1.8436,  34.7188,2,  34.7172,3, 182.9584,2, 183.3016,2,    98.6,2,   32.17,2,    0.00,2,    2.27,2,-999.000,9,-999.000,9,-999.0000,9,  -999.0,9, -999.00,9,-999.0000,9, -999.00,9, -999.00,9, -999.00,    40.1,2, -999.00,9,     -999.0,1,  -999.0,9, 20170705,     1642, -30.0796, 153.9600,        0.0,1,      0.061,1,      4.705,1,      0.141,1,     -999.0,     -999.0,9,     -999.0,9,     -999.0,9,     -999.0,9,     -999.0,5,     -999.0,9
320620170703,        P06,       8,          1,          9,         41,2,20170705,       1836,   -30.0798,   153.9605,       4136,  2279.4,   1.9765,  34.7094,2,  34.7060,3, 178.7092,2, 178.6895,2,    96.3,2,   32.51,2,    0.00,2,    2.26,2,   0.036,2,   0.044,2,   0.0000,4,  -999.0,9, -999.00,9,-999.0000,9, -999.00,9, -999.00,9, -999.00,    37.6,2, -999.00,9,     -999.0,1,  -999.0,9, 20170705,     1650, -30.0796, 153.9601,        0.0,1,      0.061,1,      4.702,1,      0.138,1,     -999.0,     -999.0,9,     -999.0,9,     -999.0,9,     -999.0,9,     -999.0,5,     -999.0,9
320620170703,        P06,       8,          1,         10,         10,4,20170705,       1836,   -30.0798,   153.9605,       4136,  2024.4,   2.2197,  34.6803,3,-999.0000,9, 170.8011,2,-999.0000,9,  -999.0,9, -999.00,9, -999.00,9, -999.00,9,-999.000,9,-999.000,9,-999.0000,9,  -999.0,9, -999.00,9,-999.0000,9, -999.00,9, -999.00,9, -999.00,  -999.0,9, -999.00,9,     -999.0,9,  -999.0,9, 20170705,     1658, -30.0797, 153.9602,        0.0,1,      0.061,1,      4.707,1,      0.140,1,     -999.0,     -999.0,9,     -999.0,9,     -999.0,9,     -999.0,9,     -999.0,5,     -999.0,9
320620170703,        P06,       8,          1,         11,         42,2,20170705,       1836,   -30.0798,   153.9605,       4136,  1819.9,   2.4308,  34.6488,2,  34.6462,3, 159.9724,2, 159.6214,2,    95.8,2,   34.17,2,    0.00,2,    2.40,2,   0.042,2,   0.046,2,   0.0000,4,  2279.5,2, 2363.76,2,   7.5747,2, -999.00,9, -999.00,9, -999.00,    37.7,2, -999.00,9,     -999.0,1,  -999.0,9, 20170705,     1704, -30.0797, 153.9602,        0.0,1,      0.061,1,      4.705,1,      0.138,1,      25.00,     -999.0,9,     -999.0,9,     -999.0,9,     -999.0,9,     -999.0,5,     -999.0,9
320620170703,        P06,       8,          1,         12,         12,2,20170705,       1836,   -30.0798,   153.9605,       4136,  1617.8,   2.7202,  34.6127,2,  34.6085,3, 152.8191,2, 152.5840,2,    95.4,2,   34.78,2,    0.00,2,    2.44,2,-999.000,9,-999.000,9,-999.0000,9,  -999.0,9, -999.00,9,-999.0000,9, -999.00,9, -999.00,9, -999.00,    39.0,2, -999.00,9,     -999.0,1,  -999.0,9, 20170705,     1711, -30.0797, 153.9603,        0.0,1,      0.061,1,      4.704,1,      0.142,1,     -999.0,     -999.0,9,     -999.0,9,     -999.0,9,     -999.0,9,     -999.0,5,     -999.0,9
320620170703,        P06,       8,          1,         13,         43,2,20170705,       1836,   -30.0798,   153.9605,       4136,  1515.6,   2.8880,  34.5955,2,  34.5918,3, 152.1164,2, 152.6044,2,    92.5,2,   34.75,2,    0.00,2,    2.45,2,   0.061,2,   0.065,2,   0.0000,4,  2278.5,2, 2362.49,2,   7.5706,2, -999.00,9, -999.00,9, -999.00,  -999.0,9, -999.00,9,     -999.0,9,  -999.0,9, 20170705,     1716, -30.0797, 153.9602,        0.0,1,      0.061,1,      4.705,1,      0.141,1,      25.00,     -999.0,9,     -999.0,9,     -999.0,9,     -999.0,9,     -999.0,5,     -999.0,9
320620170703,        P06,       8,          1,         14,         14,2,20170705,       1836,   -30.0798,   153.9605,       4136,  1414.0,   3.1549,  34.5705,2,  34.5610,3, 154.1945,2, 153.9312,2,    84.5,2,   34.35,2,    0.00,2,    2.41,2,-999.000,9,-999.000,9,-999.0000,9,  -999.0,9, -999.00,9,-999.0000,9, -999.00,9, -999.00,9, -999.00,    36.7,2, -999.00,9,     -999.0,1,  -999.0,9, 20170705,     1720, -30.0797, 153.9602,        0.0,1,      0.061,1,      4.703,1,      0.141,1,     -999.0,     -999.0,9,     -999.0,9,     -999.0,9,     -999.0,9,     -999.0,5,     -999.0,9
320620170703,        P06,       8,          1,         15,         15,2,20170705,       1836,   -30.0798,   153.9605,       4136,  1313.0,   3.5126,  34.5372,2,  34.5260,3, 160.0564,2, 159.6806,2,    73.8,2,   33.68,2,    0.00,2,    2.35,2,   0.162,2,   0.121,2,   0.3470,4,  2256.4,2, 2344.13,2,   7.5837,2, -999.00,9, -999.00,9, -999.00,  -999.0,9, -999.00,9,     -999.0,9,  -999.0,9, 20170705,     1725, -30.0797, 153.9602,        0.0,1,      0.061,1,      4.702,1,      0.141,1,      25.01,     -999.0,9,     -999.0,9,     -999.0,9,     -999.0,9,     -999.0,5,     -999.0,9
320620170703,        P06,       8,          1,         16,         16,2,20170705,       1836,   -30.0798,   153.9605,       4136,  1211.7,   3.8857,  34.5075,2,  34.4944,3, 166.2531,2, 166.2822,2,    63.3,2,   32.80,2,    0.00,2,    2.28,2,-999.000,9,-999.000,9,-999.0000,9,  -999.0,9, -999.00,9,-999.0000,9, -999.00,9, -999.00,9, -999.00,    39.1,2, -999.00,9,     -999.0,1,  -999.0,9, 20170705,     1730, -30.0797, 153.9602,        0.0,1,      0.061,1,      4.707,1,      0.139,1,     -999.0,     -999.0,9,     -999.0,9,     -999.0,9,     -999.0,9,     -999.0,5,     -999.0,9
320620170703,        P06,       8,          1,         17,         17,2,20170705,       1836,   -30.0798,   153.9605,       4136,  1110.8,   4.4259,  34.4745,2,  34.4728,3, 173.1213,2, 172.4628,2,    54.4,2,   31.90,2,    0.00,2,    2.22,2,   0.412,2,   0.250,2,   0.3000,4,  2228.2,2, 2321.74,2,   7.6055,2, -999.00,9, -999.00,9, -999.00,    37.9,2, -999.00,9,     -999.0,1,  -999.0,9, 20170705,     1735, -30.0797, 153.9602,        0.0,1,      0.061,1,      4.704,1,      0.142,1,      25.00,     -999.0,9,     -999.0,9,     -999.0,9,     -999.0,9,     -999.0,5,     -999.0,9
320620170703,        P06,       8,          1,         18,         18,2,20170705,       1836,   -30.0798,   153.9605,       4136,  1009.1,   5.0207,  34.4510,2,  34.4495,3, 180.7999,2, 180.7211,2,    42.0,2,   30.38,2,    0.00,2,    2.10,2,-999.000,9,-999.000,9,-999.0000,9,  -999.0,9, -999.00,9,-999.0000,9, -999.00,9, -999.00,9, -999.00,    44.9,2, -999.00,9,     -999.0,1,  -999.0,9, 20170705,     1740, -30.0798, 153.9602,        0.0,1,      0.060,1,      4.705,1,      0.143,1,     -999.0,     -999.0,9,     -999.0,9,     -999.0,9,     -999.0,9,     -999.0,5,     -999.0,9
320620170703,        P06,       8,          1,         19,         19,2,20170705,       1836,   -30.0798,   153.9605,       4136,   908.1,   5.6842,  34.4454,2,  34.4430,2, 187.2756,2, 187.7399,2,    32.0,2,   28.86,2,    0.00,2,    1.97,2,   0.935,2,   0.512,2,   0.3900,2,  2194.1,2, 2299.39,2,   7.6400,2, -999.00,9, -999.00,9, -999.00,    41.5,2, -999.00,9,     -999.0,1,  -999.0,9, 20170705,     1744, -30.0797, 153.9602,        0.0,1,      0.060,1,      4.705,1,      0.141,1,      25.01,     -999.0,9,     -999.0,9,     -999.0,9,     -999.0,9,     -999.0,5,     -999.0,9
320620170703,        P06,       8,          1,         20,         20,2,20170705,       1836,   -30.0798,   153.9605,       4136,   807.1,   6.4538,  34.4582,2,  34.4553,2, 197.3068,2, 196.4726,2,    22.1,2,   26.55,2,    0.00,2,    1.82,2,   1.344,2,   0.731,2,   0.5200,2,  2176.7,2, 2290.35,2,   7.6640,2, -999.00,9, -999.00,9, -999.00,    44.6,2, -999.00,9,     -999.0,1,  -999.0,9, 20170705,     1749, -30.0797, 153.9601,        0.0,1,      0.059,1,      4.703,1,      0.150,1,      25.00,     -999.0,9,     -999.0,9,     -999.0,9,     -999.0,9,     -999.0,5,     -999.0,9
320620170703,        P06,       8,          1,         21,         21,4,20170705,       1836,   -30.0798,   153.9605,       4136,   706.5,   7.2738,  34.5006,3,-999.0000,9, 199.8634,2,-999.0000,9,  -999.0,9, -999.00,9, -999.00,9, -999.00,9,-999.000,9,-999.000,9,-999.0000,9,  -999.0,9, -999.00,9,-999.0000,9, -999.00,9, -999.00,9, -999.00,  -999.0,9, -999.00,9,     -999.0,9,  -999.0,9, 20170705,     1754, -30.0797, 153.9601,        0.0,1,      0.060,1,      4.706,1,      0.143,1,     -999.0,     -999.0,9,     -999.0,9,     -999.0,9,     -999.0,9,     -999.0,5,     -999.0,9
320620170703,        P06,       8,          1,         22,         22,4,20170705,       1836,   -30.0798,   153.9605,       4136,   605.1,   8.4602,  34.6037,3,-999.0000,9, 199.4924,2,-999.0000,9,  -999.0,9, -999.00,9, -999.00,9, -999.00,9,-999.000,9,-999.000,9,-999.0000,9,  -999.0,9, -999.00,9,-999.0000,9, -999.00,9, -999.00,9, -999.00,  -999.0,9, -999.00,9,     -999.0,9,  -999.0,9, 20170705,     1757, -30.0797, 153.9601,        0.0,1,      0.060,1,      4.704,1,      0.169,1,     -999.0,     -999.0,9,     -999.0,9,     -999.0,9,     -999.0,9,     -999.0,5,     -999.0,9
320620170703,        P06,       8,          1,         23,         23,2,20170705,       1836,   -30.0798,   153.9605,       4136,   503.0,   9.7913,  34.7507,2,  34.7475,2, 197.0215,2, 198.3678,2,     7.5,2,   18.94,2,    0.00,2,    1.29,2,   2.360,2,   1.372,2,   0.7770,2,  2148.9,2, 2290.59,2,   7.7352,2, -999.00,9, -999.00,9, -999.00,    46.1,2, -999.00,9,     -999.0,1,  -999.0,9, 20170705,     1801, -30.0797, 153.9602,        0.0,1,      0.060,1,      4.703,1,      0.147,1,      24.96,     -999.0,9,     -999.0,9,     -999.0,9,     -999.0,9,     -999.0,5,     -999.0,9
320620170703,        P06,       8,          1,         24,         24,2,20170705,       1836,   -30.0798,   153.9605,       4136,   454.2,  10.5343,  34.8393,2,  34.8631,2, 195.9814,2, 195.7747,2,     6.1,2,   16.89,2,    0.00,2,    1.14,2,-999.000,9,-999.000,9,-999.0000,9,  -999.0,9, -999.00,9,-999.0000,9, -999.00,9, -999.00,9, -999.00,  -999.0,9, -999.00,9,     -999.0,1,  -999.0,9, 20170705,     1804, -30.0797, 153.9602,        0.0,1,      0.060,1,      4.701,1,      0.148,1,     -999.0,     -999.0,9,     -999.0,9,     -999.0,9,     -999.0,9,     -999.0,5,     -999.0,9
320620170703,        P06,       8,          1,         25,         25,2,20170705,       1836,   -30.0798,   153.9605,       4136,   405.1,  11.5035,  34.9437,2,  34.9416,2, 191.2779,2, 191.4497,2,     5.4,2,   15.58,2,    0.00,2,    1.07,2,   2.420,2,   1.407,2,   0.9160,2,  2139.2,2, 2297.77,2,   7.7742,2, -999.00,9, -999.00,9, -999.00,    46.2,2,   17.80,2,     -999.0,1,  -999.0,9, 20170705,     1807, -30.0796, 153.9600,        0.0,1,      0.060,1,      4.698,1,      0.148,1,      25.02,     -999.0,9,     -999.0,9,     -999.0,9,     -999.0,9,     -999.0,5,     -999.0,9
320620170703,        P06,       8,          1,         26,         26,2,20170705,       1836,   -30.0798,   153.9605,       4136,   353.5,  13.0596,  35.0963,2,  35.0864,2, 186.2003,2, 186.6060,2,     4.4,2,   13.35,2,    0.00,2,    0.95,2,-999.000,9,-999.000,9,-999.0000,9,  -999.0,9, -999.00,9,-999.0000,9, -999.00,9, -999.00,9, -999.00,  -999.0,9, -999.00,9,     -999.0,9,  -999.0,9, 20170705,     1810, -30.0796, 153.9599,        0.0,1,      0.059,1,      4.697,1,      0.148,1,     -999.0,     -999.0,9,     -999.0,9,     -999.0,9,     -999.0,9,     -999.0,5,     -999.0,9
320620170703,        P06,       8,          1,         27,         27,2,20170705,       1836,   -30.0798,   153.9605,       4136,   303.5,  14.7415,  35.2861,2,  35.2990,2, 189.0293,2, 188.6839,2,     2.7,2,    9.81,2,    0.00,2,    0.70,2,   2.302,2,   1.408,2,   1.0210,2,  2115.3,2, 2312.30,2,   7.8549,2, -999.00,9, -999.00,9, -999.00,    48.2,2,   12.90,2,     -999.0,1,  -999.0,9, 20170705,     1813, -30.0795, 153.9598,        0.0,1,      0.060,1,      4.697,1,      0.145,1,      24.99,     -999.0,9,     -999.0,9,     -999.0,9,     -999.0,9,     -999.0,5,     -999.0,9
320620170703,        P06,       8,          1,         28,         28,2,20170705,       1836,   -30.0798,   153.9605,       4136,   252.8,  15.8611,  35.3831,2,  35.3987,2, 184.2057,2, 184.7143,2,     2.1,2,    8.49,2,    0.00,2,    0.63,2,-999.000,9,-999.000,9,-999.0000,9,  -999.0,9, -999.00,9,-999.0000,9, -999.00,9, -999.00,9, -999.00,    51.0,2,   11.20,2,     -999.0,1,  -999.0,9, 20170705,     1816, -30.0795, 153.9597,        0.0,1,      0.059,1,      4.696,1,      0.146,1,     -999.0,     -999.0,9,     -999.0,9,     -999.0,9,     -999.0,9,     -999.0,5,     -999.0,9
320620170703,        P06,       8,          1,         29,         29,2,20170705,       1836,   -30.0798,   153.9605,       4136,   203.4,  17.2232,  35.4995,2,  35.4713,2, 181.8855,2, 181.5373,2,     1.9,2,    7.57,2,    0.00,2,    0.56,2,   2.134,2,   1.339,2,   1.0040,2,  2101.5,2, 2322.73,2,   7.8972,2, -999.00,9, -999.00,9, -999.00,    50.7,2,   11.50,2,     -999.0,1,  -999.0,9, 20170705,     1819, -30.0795, 153.9596,        0.0,1,      0.059,1,      4.694,1,      0.149,1,      25.02,     -999.0,9,     -999.0,9,     -999.0,9,     -999.0,9,     -999.0,5,     -999.0,9
320620170703,        P06,       8,          1,         30,         30,2,20170705,       1836,   -30.0798,   153.9605,       4136,   151.9,  18.9071,  35.6664,2,  35.6771,2, 192.1855,2, 190.8518,2,     0.8,2,    4.32,2,    0.02,2,    0.36,2,-999.000,9,-999.000,9,-999.0000,9,  -999.0,9, -999.00,9,-999.0000,9, -999.00,9, -999.00,9, -999.00,    56.3,2,    8.20,2,     -999.0,1,  -999.0,9, 20170705,     1822, -30.0796, 153.9597,        0.0,1,      0.060,1,      4.691,1,      0.151,1,     -999.0,     -999.0,9,     -999.0,9,     -999.0,9,     -999.0,9,     -999.0,5,     -999.0,9
320620170703,        P06,       8,          1,         31,         31,2,20170705,       1836,   -30.0798,   153.9605,       4136,   125.6,  19.4948,  35.7149,2,  35.7108,2, 193.4683,2, 193.2219,2,     0.6,2,    3.71,2,    0.02,2,    0.32,2,   1.957,2,   1.244,2,   1.1420,2,  2076.1,2, 2336.09,2,   7.9666,2, -999.00,9, -999.00,9, -999.00,  -999.0,9, -999.00,9,     -999.0,9,  -999.0,9, 20170705,     1825, -30.0796, 153.9598,        0.0,1,      0.061,1,      4.689,1,      0.157,1,      25.02,     -999.0,9,     -999.0,9,     -999.0,9,     -999.0,9,     -999.0,5,     -999.0,9
320620170703,        P06,       8,          1,         32,         32,2,20170705,       1836,   -30.0798,   153.9605,       4136,   101.7,  19.9088,  35.7366,2,  35.7756,2, 212.5983,3, 208.9598,2,     0.2,2,    1.47,2,    0.15,2,    0.19,2,-999.000,9,-999.000,9,-999.0000,9,  2057.6,2, 2338.81,2,   8.0063,2, -999.00,9, -999.00,9, -999.00,    58.7,2,    5.20,2,     -999.0,1,  -999.0,9, 20170705,     1827, -30.0796, 153.9598,        0.0,1,      0.066,1,      4.684,1,      0.157,1,      25.02,     -999.0,9,     -999.0,9,     -999.0,9,     -999.0,9,     -999.0,5,     -999.0,9