BOTTLE,20230922CCHSIOCBG
EXPOCODE,SECT_ID,STNNBR,CASTNO,SAMPNO,BTLNBR,BTLNBR_FLAG_W,DATE,TIME,LATITUDE,LONGITUDE,DEPTH,CTDPRS,CTDTMP,CTDSAL,CTDSAL_FLAG_W,SALNTY,SALNTY_FLAG_W,CTDOXY,CTDOXY_FLAG_W,OXYGEN,OXYGEN_FLAG_W,SILCAT,SILCAT_FLAG_W,NITRAT,NITRAT_FLAG_W,NITRIT,NITRIT_FLAG_W,PHSPHT,PHSPHT_FLAG_W,CFC-11,CFC-11_FLAG_W,CFC-12,CFC-12_FLAG_W,SF6,SF6_FLAG_W,TCARBN,TCARBN_FLAG_W,ALKALI,ALKALI_FLAG_W,PH_TOT,PH_TOT_FLAG_W,DELC13,DELC13_FLAG_W,DELC14,DELC14_FLAG_W,C14ERR,DOC,DOC_FLAG_W,TDN,TDN_FLAG_W,TON,TON_FLAG_W,D15N_NO3,D15N_NO3_FLAG_W,BTL_DATE,BTL_TIME,BTL_LAT,BTL_LON,CTDRINKO,CTDRINKO_FLAG_W,CTDFLUOR,CTDFLUOR_FLAG_W,CTDXMISS,CTDXMISS_FLAG_W,CTDBACKSCATTER,CTDBACKSCATTER_FLAG_W,PH_TMP,D18O_NO3,D18O_NO3_FLAG_W,DOP,DOP_FLAG_W,HPLC,HPLC_FLAG_W,POC,POC_FLAG_W,REFTMP,REFTMP_FLAG_W,TDP,TDP_FLAG_W
,,,,,,,,,,,METERS,DBAR,ITS-90,PSS-78,,PSS-78,,UMOL/KG,,UMOL/KG,,UMOL/KG,,UMOL/KG,,UMOL/KG,,UMOL/KG,,PMOL/KG,,PMOL/KG,,FMOL/KG,,UMOL/KG,,UMOL/KG,,,,/MILLE,,/MILLE,,/MILLE,UMOL/KG,,UMOL/KG,,UMOL/KG,,/MILLE,,,,,,VOLTS,,VOLTS,,VOLTS,,VOLTS,,DEGC,/MILLE,,UMOL/KG,,,,UG/L,,ITS-90,,UMOL/KG,
320620170703,        P06,      92,          1,          1,          1,2,20170726,       2239,   -32.4998,  -177.9998,       5877,  5989.8,   1.1592,  34.7069,2,  34.7058,2, 206.8654,2, 206.7804,2,   123.1,2,   32.14,2,    0.00,2,    2.23,2,   0.199,2,   0.101,2,   0.0000,2,  2264.5,6, 2365.14,2,   7.6053,2, -999.00,9, -999.00,9, -999.00,    40.4,2, -999.00,9,     -999.0,1,  -999.0,1, 20170726,     1957, -32.5001,-177.9998,        0.0,1,      0.061,1,      4.694,1,      0.137,1,      25.01,     -999.0,1,     -999.0,9,     -999.0,9,     -999.0,9,     1.1598,2,     -999.0,9
320620170703,        P06,      92,          1,          2,          2,2,20170726,       2239,   -32.4998,  -177.9998,       5877,  5713.8,   1.1223,  34.7071,2,  34.7068,2, 206.8654,2, 206.6466,2,   122.9,2,   32.17,2,    0.00,2,    2.23,2,   0.197,2,   0.106,2,   0.0000,2,  -999.0,9, -999.00,9,-999.0000,9, -999.00,9, -999.00,9, -999.00,  -999.0,9, -999.00,9,     -999.0,9,  -999.0,1, 20170726,     2004, -32.5001,-177.9999,        0.0,1,      0.061,1,      4.694,1,      0.135,1,     -999.0,     -999.0,1,     -999.0,9,     -999.0,9,     -999.0,9,     1.1230,2,     -999.0,9
320620170703,        P06,      92,          1,          3,          3,2,20170726,       2239,   -32.4998,  -177.9998,       5877,  5472.4,   1.0937,  34.7074,2,  34.7068,2, 206.8654,2, 206.9844,2,   122.7,2,   32.12,2,    0.00,2,    2.23,2,   0.193,2,   0.106,2,   0.0000,2,  2264.6,2, 2363.17,2,   7.6061,2, -999.00,9, -999.00,9, -999.00,    41.8,2, -999.00,9,     -999.0,1,  -999.0,1, 20170726,     2011, -32.4999,-178.0000,        0.0,1,      0.061,1,      4.697,1,      0.134,1,      25.02,     -999.0,1,     -999.0,9,     -999.0,9,     -999.0,9,     1.0946,2,     -999.0,9
320620170703,        P06,      92,          1,          4,          4,2,20170726,       2239,   -32.4998,  -177.9998,       5877,  5162.9,   1.0634,  34.7077,2,  34.7068,2, 206.8654,2, 207.2930,2,   122.3,2,   32.13,2,    0.00,2,    2.24,2,   0.206,2,   0.113,2,   0.0000,2,  -999.0,9, -999.00,9,-999.0000,9, -999.00,9, -999.00,9, -999.00,  -999.0,9, -999.00,9,     -999.0,9,  -999.0,1, 20170726,     2019, -32.5001,-177.9998,        0.0,1,      0.061,1,      4.697,1,      0.133,1,     -999.0,     -999.0,1,     -999.0,9,     -999.0,9,     -999.0,9,     1.0636,2,     -999.0,9
320620170703,        P06,      92,          1,          5,          5,2,20170726,       2239,   -32.4998,  -177.9998,       5877,  4854.1,   1.0450,  34.7086,2,  34.7093,2, 206.8654,2, 207.4980,2,   121.9,2,   32.08,2,    0.00,2,    2.22,2,   0.195,2,   0.107,2,   0.0000,2,  2263.9,2, 2360.84,2,   7.6065,2, -999.00,9, -999.00,9, -999.00,    40.2,2, -999.00,9,     -999.0,1,  -999.0,1, 20170726,     2027, -32.5001,-177.9998,        0.0,1,      0.061,1,      4.698,1,      0.133,1,      25.03,     -999.0,1,     -999.0,9,     -999.0,9,     -999.0,9,     1.0457,2,     -999.0,9
320620170703,        P06,      92,          1,          6,          6,2,20170726,       2239,   -32.4998,  -177.9998,       5877,  4544.5,   1.0410,  34.7097,2,  34.7093,2, 206.8654,2, 206.8524,2,   121.1,2,   32.06,2,    0.00,2,    2.23,2,   0.184,2,   0.102,2,   0.0000,2,  -999.0,9, -999.00,9,-999.0000,9, -999.00,9, -999.00,9, -999.00,  -999.0,9, -999.00,9,     -999.0,9,  -999.0,1, 20170726,     2035, -32.5001,-177.9998,        0.0,1,      0.061,1,      4.700,1,      0.131,1,     -999.0,     -999.0,1,     -999.0,9,     -999.0,9,     -999.0,9,     1.0423,2,     -999.0,9
320620170703,        P06,      92,          1,          7,          7,2,20170726,       2239,   -32.4998,  -177.9998,       5877,  4235.8,   1.0555,  34.7119,2,  34.7115,2, 206.8104,2, 206.1086,2,   119.6,2,   31.95,2,    0.00,2,    2.22,2,   0.173,2,   0.098,2,   0.0000,2,  2262.6,2, 2360.77,2,   7.6070,2, -999.00,9, -999.00,9, -999.00,    40.8,2, -999.00,9,     -999.0,1,  -999.0,1, 20170726,     2044, -32.5002,-177.9998,        0.0,1,      0.060,1,      4.701,1,      0.131,1,      25.03,     -999.0,1,     -999.0,9,     -999.0,9,     -999.0,9,     1.0646,2,     -999.0,9
320620170703,        P06,      92,          1,          8,          8,2,20170726,       2239,   -32.4998,  -177.9998,       5877,  3928.4,   1.1473,  34.7164,2,  34.7160,2, 204.4217,2, 204.0902,2,   115.9,2,   31.74,2,    0.00,2,    2.22,2,   0.158,2,   0.090,2,   0.0000,2,  -999.0,9, -999.00,9,-999.0000,9, -999.00,9, -999.00,9, -999.00,    38.4,2, -999.00,9,     -999.0,1,  -999.0,1, 20170726,     2050, -32.4999,-177.9998,        0.0,1,      0.061,1,      4.702,1,      0.130,1,     -999.0,     -999.0,1,     -999.0,9,     -999.0,9,     -999.0,9,     1.1599,2,     -999.0,9
320620170703,        P06,      92,          1,          9,          9,2,20170726,       2239,   -32.4998,  -177.9998,       5877,  3620.4,   1.3822,  34.7237,2,  34.7245,2, 198.1709,2, 198.6754,2,   109.0,2,   31.47,2,    0.00,2,    2.20,2,   0.122,2,   0.070,2,   0.0000,2,  2259.2,2, 2359.12,6,   7.6075,2, -999.00,9, -999.00,9, -999.00,    38.2,2, -999.00,9,     -999.0,1,  -999.0,1, 20170726,     2057, -32.5000,-177.9998,        0.0,1,      0.061,1,      4.701,1,      0.133,1,      25.02,     -999.0,1,     -999.0,9,     -999.0,9,     -999.0,9,     1.4150,2,     -999.0,9
320620170703,        P06,      92,          1,         10,         10,2,20170726,       2239,   -32.4998,  -177.9998,       5877,  3313.3,   1.6488,  34.7186,2,  34.7160,2, 187.3009,2, 187.3925,2,   107.0,2,   32.08,2,    0.00,2,    2.25,2,   0.088,2,   0.052,2,   0.0000,2,  -999.0,9, -999.00,9,-999.0000,9, -999.00,9, -999.00,9, -999.00,  -999.0,9, -999.00,9,     -999.0,9,  -999.0,1, 20170726,     2104, -32.4999,-177.9998,        0.0,1,      0.062,1,      4.700,1,      0.136,1,     -999.0,     -999.0,1,     -999.0,9,     -999.0,9,     -999.0,9,     1.6663,2,     -999.0,9
320620170703,        P06,      92,          1,         11,         11,2,20170726,       2239,   -32.4998,  -177.9998,       5877,  3058.5,   1.7710,  34.6903,2,  34.6883,2, 166.4333,2, 165.3371,2,   120.0,2,   34.20,2,    0.00,2,    2.37,2,   0.051,2,   0.034,2,   0.0000,2,  2297.0,2, 2384.11,2,   7.5808,2, -999.00,9, -999.00,9, -999.00,    40.4,2, -999.00,9,     -999.0,1,  -999.0,1, 20170726,     2110, -32.4998,-177.9999,        0.0,1,      0.061,1,      4.702,1,      0.133,1,      25.04,     -999.0,1,     -999.0,9,     -999.0,9,     -999.0,9,     1.7919,2,     -999.0,9
320620170703,        P06,      92,          1,         12,         12,2,20170726,       2239,   -32.4998,  -177.9998,       5877,  2800.7,   1.9167,  34.6622,2,  34.6586,2, 150.4907,2, 149.6894,2,   126.6,2,   35.76,2,    0.00,2,    2.52,2,   0.032,2,   0.020,2,   0.0000,2,  -999.0,9, -999.00,9,-999.0000,9, -999.00,9, -999.00,9, -999.00,  -999.0,9, -999.00,9,     -999.0,9,  -999.0,1, 20170726,     2116, -32.5001,-177.9997,        0.0,1,      0.061,1,      4.703,1,      0.135,1,     -999.0,     -999.0,1,     -999.0,9,     -999.0,9,     -999.0,9,     1.9387,2,     -999.0,9
320620170703,        P06,      92,          1,         13,         13,2,20170726,       2239,   -32.4998,  -177.9998,       5877,  2547.0,   2.0489,  34.6483,2,  34.6462,2, 147.5828,2, 147.5575,2,   122.7,2,   35.87,2,    0.00,2,    2.53,2,   0.074,4,   0.118,4,   1.6480,4,  2310.0,2, 2386.61,3,   7.5649,2, -999.00,9, -999.00,9, -999.00,    35.9,2, -999.00,9,     -999.0,1,  -999.0,1, 20170726,     2122, -32.5005,-177.9995,        0.0,1,      0.061,1,      4.703,1,      0.133,1,      25.04,     -999.0,1,     -999.0,9,     -999.0,9,     -999.0,9,     2.0688,2,     -999.0,9
320620170703,        P06,      92,          1,         14,         14,2,20170726,       2239,   -32.4998,  -177.9998,       5877,  2294.2,   2.2039,  34.6342,2,  34.6327,2, 147.6883,2, 148.7299,2,   116.5,2,   35.75,2,    0.00,2,    2.47,2,   0.029,2,   0.021,2,   0.0000,2,  -999.0,9, -999.00,9,-999.0000,9, -999.00,9, -999.00,9, -999.00,  -999.0,9, -999.00,9,     -999.0,9,  -999.0,1, 20170726,     2128, -32.5005,-177.9995,        0.0,1,      0.062,1,      4.703,1,      0.134,1,     -999.0,     -999.0,1,     -999.0,9,     -999.0,9,     -999.0,9,     2.2160,2,     -999.0,9
320620170703,        P06,      92,          1,         15,         15,2,20170726,       2239,   -32.4998,  -177.9998,       5877,  2039.2,   2.3763,  34.6171,2,  34.6156,2, 149.8510,2, 150.1205,2,   109.4,2,   35.46,2,    0.00,2,    2.49,2,   0.039,2,   0.025,2,   0.0000,2,  2296.7,2, 2379.47,2,   7.5670,2, -999.00,9, -999.00,9, -999.00,    37.0,2, -999.00,9,     -999.0,1,  -999.0,1, 20170726,     2135, -32.4999,-177.9995,        0.0,1,      0.061,1,      4.702,1,      0.136,1,      25.03,     -999.0,1,     -999.0,9,     -999.0,9,     -999.0,9,     2.3799,2,     -999.0,9
320620170703,        P06,      92,          1,         16,         16,2,20170726,       2239,   -32.4998,  -177.9998,       5877,  1784.8,   2.5739,  34.5919,2,  34.5885,2, 154.2861,2, 154.6521,2,    98.6,2,   34.98,2,    0.00,2,    2.46,2,   0.050,2,   0.033,2,   0.0000,2,  -999.0,9, -999.00,9,-999.0000,9, -999.00,9, -999.00,9, -999.00,  -999.0,9, -999.00,9,     -999.0,9,  -999.0,1, 20170726,     2141, -32.4998,-177.9995,        0.0,1,      0.062,1,      4.702,1,      0.139,1,     -999.0,     -999.0,1,     -999.0,9,     -999.0,9,     -999.0,9,     2.5915,2,     -999.0,9
320620170703,        P06,      92,          1,         17,         17,2,20170726,       2239,   -32.4998,  -177.9998,       5877,  1550.6,   2.9094,  34.5391,2,  34.5333,2, 163.2286,2, 163.4676,2,    80.7,2,   34.30,2,    0.00,2,    2.39,2,   0.099,2,   0.061,2,   0.0000,2,  2262.9,2, 2347.66,2,   7.5749,2, -999.00,9, -999.00,9, -999.00,    40.6,2, -999.00,9,     -999.0,1,  -999.0,1, 20170726,     2146, -32.4997,-177.9996,        0.0,1,      0.061,1,      4.703,1,      0.139,1,      25.03,     -999.0,1,     -999.0,9,     -999.0,9,     -999.0,9,     2.9527,2,     -999.0,9
320620170703,        P06,      92,          1,         18,         18,2,20170726,       2239,   -32.4998,  -177.9998,       5877,  1349.8,   3.3717,  34.4640,2,  34.4445,2, 174.8569,2, 175.6397,2,    59.2,2,   33.54,2,    0.00,2,    2.33,2,   0.211,2,   0.120,2,   0.0000,2,  -999.0,9, -999.00,9,-999.0000,9, -999.00,9, -999.00,9, -999.00,  -999.0,9, -999.00,9,     -999.0,9,  -999.0,1, 20170726,     2151, -32.5002,-177.9993,        0.0,1,      0.061,1,      4.703,1,      0.137,1,     -999.0,     -999.0,1,     -999.0,9,     -999.0,9,     -999.0,9,     3.4474,2,     -999.0,9
320620170703,        P06,      92,          1,         19,         19,2,20170726,       2239,   -32.4998,  -177.9998,       5877,  1175.3,   4.1754,  34.3951,2,  34.3915,2, 188.5275,2, 188.1148,2,    42.3,2,   31.64,2,    0.00,2,    2.17,2,   0.584,2,   0.301,2,   0.0760,2,  2212.4,2, 2304.96,2,   7.6075,2, -999.00,9, -999.00,9, -999.00,    41.3,2, -999.00,9,     -999.0,1,  -999.0,1, 20170726,     2156, -32.5003,-177.9993,        0.0,1,      0.061,1,      4.702,1,      0.139,1,      25.04,     -999.0,1,     -999.0,9,     -999.0,9,     -999.0,9,     4.2428,2,     -999.0,9
320620170703,        P06,      92,          1,         20,         20,2,20170726,       2239,   -32.4998,  -177.9998,       5877,  1074.7,   4.7480,  34.3681,2,  34.3576,2, 197.9638,2, 197.6785,2,    31.3,2,   30.24,2,    0.00,2,    2.07,2,   0.983,2,   0.461,2,   0.1140,2,  -999.0,9, -999.00,9,-999.0000,9, -999.00,9, -999.00,9, -999.00,  -999.0,9, -999.00,9,     -999.0,9,  -999.0,1, 20170726,     2159, -32.5003,-177.9993,        0.0,1,      0.059,1,      4.702,1,      0.139,1,     -999.0,     -999.0,1,     -999.0,9,     -999.0,9,     -999.0,9,     4.7844,2,     -999.0,9
320620170703,        P06,      92,          1,         21,         21,2,20170726,       2239,   -32.4998,  -177.9998,       5877,   973.6,   5.3191,  34.3491,2,  34.3445,2, 208.0524,2, 208.5038,2,    22.8,2,   28.50,2,    0.00,2,    1.95,2,   1.373,2,   0.657,2,   0.2700,2,  2179.1,2, 2287.15,2,   7.6480,2, -999.00,9, -999.00,9, -999.00,    42.1,2, -999.00,9,     -999.0,1,  -999.0,1, 20170726,     2202, -32.5003,-177.9994,        0.0,1,      0.060,1,      4.702,1,      0.138,1,      25.03,     -999.0,1,     -999.0,9,     -999.0,9,     -999.0,9,     5.3351,2,     -999.0,9
320620170703,        P06,      92,          1,         22,         22,2,20170726,       2239,   -32.4998,  -177.9998,       5877,   872.1,   5.7949,  34.3432,2,  34.3431,2, 221.2157,2, 220.8042,2,    14.4,2,   26.11,2,    0.00,2,    1.79,2,   2.121,2,   1.004,2,   0.3520,2,  -999.0,9, -999.00,9,-999.0000,9, -999.00,9, -999.00,9, -999.00,  -999.0,9, -999.00,9,     -999.0,9,  -999.0,1, 20170726,     2205, -32.5002,-177.9995,        0.0,1,      0.059,1,      4.702,1,      0.142,1,     -999.0,     -999.0,1,     -999.0,9,     -999.0,9,     -999.0,9,     6.0149,2,     -999.0,9
320620170703,        P06,      92,          1,         23,         23,2,20170726,       2239,   -32.4998,  -177.9998,       5877,   771.7,   6.3934,  34.3596,2,  34.3682,2, 228.7902,2, 228.3290,2,    10.1,2,   24.07,2,    0.00,2,    1.60,2,   2.738,2,   1.337,2,   0.4920,2,  2154.1,2, 2279.45,2,   7.6954,2, -999.00,9, -999.00,9, -999.00,    43.8,2, -999.00,9,     -999.0,1,  -999.0,1, 20170726,     2208, -32.5001,-177.9995,        0.0,1,      0.059,1,      4.701,1,      0.141,1,      25.02,     -999.0,1,     -999.0,9,     -999.0,9,     -999.0,9,     6.5972,2,     -999.0,9
320620170703,        P06,      92,          1,         24,         24,2,20170726,       2239,   -32.4998,  -177.9998,       5877,   669.5,   7.0400,  34.4047,2,  34.4269,2, 228.0420,2, 227.5639,2,     8.3,2,   22.39,2,    0.00,2,    1.51,2,   3.089,2,   1.550,2,   0.6700,2,  -999.0,9, -999.00,9,-999.0000,9, -999.00,9, -999.00,9, -999.00,    42.2,2, -999.00,9,     -999.0,1,  -999.0,1, 20170726,     2211, -32.5001,-177.9996,        0.0,1,      0.059,1,      4.698,1,      0.143,1,     -999.0,     -999.0,1,     -999.0,9,     -999.0,9,     -999.0,9,     7.2870,2,     -999.0,9
320620170703,        P06,      92,          1,         25,         25,2,20170726,       2239,   -32.4998,  -177.9998,       5877,   567.8,   7.8023,  34.4755,2,  34.4846,2, 224.1498,2, 223.9386,2,     6.5,2,   20.87,2,    0.00,2,    1.39,2,   3.260,2,   1.681,2,   0.7780,2,  2147.9,2, 2281.67,2,   7.7125,2, -999.00,9, -999.00,9, -999.00,    42.8,2, -999.00,9,     -999.0,1,  -999.0,1, 20170726,     2214, -32.5000,-177.9996,        0.0,1,      0.058,1,      4.697,1,      0.146,1,      25.01,     -999.0,1,     -999.0,9,     -999.0,9,     -999.0,9,     7.9450,2,     -999.0,9
320620170703,        P06,      92,          1,         26,         26,2,20170726,       2239,   -32.4998,  -177.9998,       5877,   468.5,   9.0787,  34.6183,2,  34.6197,2, 213.3514,2, 214.4048,2,     5.4,2,   18.53,2,    0.00,2,    1.28,2,   3.111,2,   1.646,2,   0.9270,2,  -999.0,9, -999.00,9,-999.0000,9, -999.00,9, -999.00,9, -999.00,    43.0,2,   20.20,2,     -999.0,1,  -999.0,1, 20170726,     2217, -32.5000,-177.9997,        0.0,1,      0.060,1,      4.694,1,      0.147,1,     -999.0,     -999.0,1,     -999.0,9,     -999.0,9,     -999.0,9,     9.1855,2,     -999.0,9
320620170703,        P06,      92,          1,         27,         27,2,20170726,       2239,   -32.4998,  -177.9998,       5877,   367.4,  10.8058,  34.8344,2,  34.8751,2, 206.2130,2, 206.3395,2,     4.7,2,   14.74,2,    0.00,2,    1.03,2,   2.814,2,   1.517,2,   0.9550,2,  2134.1,2, 2293.24,2,   7.7731,2, -999.00,9, -999.00,9, -999.00,    47.9,2,   16.60,2,     -999.0,1,  -999.0,1, 20170726,     2220, -32.4999,-177.9997,        0.0,1,      0.059,1,      4.692,1,      0.148,1,      25.04,     -999.0,1,     -999.0,1,     -999.0,9,     -999.0,9,    11.1312,2,     -999.0,9
320620170703,        P06,      92,          1,         28,         28,2,20170726,       2239,   -32.4998,  -177.9998,       5877,   286.9,  12.2623,  35.0408,2,  35.0653,2, 207.4702,2, 207.1444,2,     3.4,2,   11.39,2,    0.00,2,    0.81,2,   2.681,2,   1.495,2,   1.1440,2,  -999.0,9, -999.00,9,-999.0000,9, -999.00,9, -999.00,9, -999.00,    50.6,2,   14.50,2,     -999.0,1,  -999.0,1, 20170726,     2223, -32.4999,-177.9998,        0.0,1,      0.060,1,      4.689,1,      0.149,1,     -999.0,     -999.0,1,     -999.0,1,     -999.0,9,     -999.0,9,    12.5351,2,     -999.0,9
320620170703,        P06,      92,          1,         29,         29,2,20170726,       2239,   -32.4998,  -177.9998,       5877,   234.8,  13.1437,  35.1548,2,  35.1691,2, 208.5906,2, 208.9734,2,     2.8,2,    9.61,2,    0.02,2,    0.70,2,   2.649,2,   1.488,2,   1.3710,2,  2119.9,2, 2306.18,2,   7.8310,2, -999.00,9, -999.00,9, -999.00,    52.1,2,   11.90,2,     -999.0,1,  -999.0,1, 20170726,     2226, -32.4999,-177.9998,        0.0,1,      0.060,1,      4.589,1,      0.155,1,      25.04,     -999.0,1,     -999.0,1,     -999.0,9,     -999.0,9,    13.2819,2,     -999.0,9
320620170703,        P06,      92,          1,         30,         30,2,20170726,       2239,   -32.4998,  -177.9998,       5877,   185.6,  13.9503,  35.2512,2,  35.3092,2, 206.5998,2, 207.4048,2,     2.2,2,    7.77,2,    0.02,2,    0.59,2,   2.518,2,   1.446,2,   1.3630,2,  -999.0,9, -999.00,9,-999.0000,9, -999.00,9, -999.00,9, -999.00,    48.8,2,   10.90,2,     -999.0,1,  -999.0,1, 20170726,     2228, -32.4999,-177.9998,        0.0,1,      0.061,1,      4.646,1,      0.155,1,     -999.0,     -999.0,1,     -999.0,1,     -999.0,9,     -999.0,9,    14.5320,2,     -999.0,9
320620170703,        P06,      92,          1,         31,         31,2,20170726,       2239,   -32.4998,  -177.9998,       5877,   135.7,  15.1720,  35.3778,2,  35.4316,2, 211.8223,2, 210.7010,2,     1.6,2,    5.57,2,    0.03,2,    0.45,2,   2.373,2,   1.353,2,   1.3460,2,  2098.9,2, 2319.98,2,   7.8979,2, -999.00,9, -999.00,9, -999.00,    57.1,2,    8.70,2,     -999.0,1,  -999.0,1, 20170726,     2231, -32.4999,-177.9998,        0.0,1,      0.062,1,      4.673,1,      0.163,1,      25.04,     -999.0,1,     -999.0,1,     -999.0,9,     -999.0,9,    15.7875,2,     -999.0,9
320620170703,        P06,      92,          1,         32,         32,2,20170726,       2239,   -32.4998,  -177.9998,       5877,    90.0,  16.2144,  35.4947,2,  35.5511,2, 233.2728,2, 233.7818,2,     0.5,2,    1.12,2,    0.15,2,    0.18,2,   2.304,2,   1.337,2,   1.4440,2,  -999.0,9, -999.00,9,-999.0000,9, -999.00,9, -999.00,9, -999.00,    59.1,2,    5.30,2,     -999.0,1,  -999.0,1, 20170726,     2233, -32.4999,-177.9998,        0.0,1,      0.079,1,      4.522,1,      0.186,1,     -999.0,     -999.0,1,     -999.0,1,     -999.0,9,     -999.0,9,    16.7144,2,     -999.0,9