BOTTLE,20230922CCHSIOCBG
EXPOCODE,SECT_ID,STNNBR,CASTNO,SAMPNO,BTLNBR,BTLNBR_FLAG_W,DATE,TIME,LATITUDE,LONGITUDE,DEPTH,CTDPRS,CTDTMP,CTDSAL,CTDSAL_FLAG_W,SALNTY,SALNTY_FLAG_W,CTDOXY,CTDOXY_FLAG_W,OXYGEN,OXYGEN_FLAG_W,SILCAT,SILCAT_FLAG_W,NITRAT,NITRAT_FLAG_W,NITRIT,NITRIT_FLAG_W,PHSPHT,PHSPHT_FLAG_W,CFC-11,CFC-11_FLAG_W,CFC-12,CFC-12_FLAG_W,SF6,SF6_FLAG_W,TCARBN,TCARBN_FLAG_W,ALKALI,ALKALI_FLAG_W,PH_TOT,PH_TOT_FLAG_W,DELC13,DELC13_FLAG_W,DELC14,DELC14_FLAG_W,C14ERR,DOC,DOC_FLAG_W,TDN,TDN_FLAG_W,TON,TON_FLAG_W,D15N_NO3,D15N_NO3_FLAG_W,BTL_DATE,BTL_TIME,BTL_LAT,BTL_LON,CTDRINKO,CTDRINKO_FLAG_W,CTDFLUOR,CTDFLUOR_FLAG_W,CTDXMISS,CTDXMISS_FLAG_W,CTDBACKSCATTER,CTDBACKSCATTER_FLAG_W,PH_TMP,D18O_NO3,D18O_NO3_FLAG_W,DOP,DOP_FLAG_W,HPLC,HPLC_FLAG_W,POC,POC_FLAG_W,REFTMP,REFTMP_FLAG_W,TDP,TDP_FLAG_W
,,,,,,,,,,,METERS,DBAR,ITS-90,PSS-78,,PSS-78,,UMOL/KG,,UMOL/KG,,UMOL/KG,,UMOL/KG,,UMOL/KG,,UMOL/KG,,PMOL/KG,,PMOL/KG,,FMOL/KG,,UMOL/KG,,UMOL/KG,,,,/MILLE,,/MILLE,,/MILLE,UMOL/KG,,UMOL/KG,,UMOL/KG,,/MILLE,,,,,,VOLTS,,VOLTS,,VOLTS,,VOLTS,,DEGC,/MILLE,,UMOL/KG,,,,UG/L,,ITS-90,,UMOL/KG,
320620170703,        P06,     126,          2,         33,         33,2,20170807,       2243,   -32.4999,  -160.4581,       5520,    74.8,  16.5851,  35.4796,2,  35.5166,2, 237.8006,3, 234.6404,2,     0.1,2,    0.43,2,    0.03,2,    0.12,2,   2.175,2,   1.347,2,   1.4530,2,  2070.0,2, 2330.94,2,   7.9643,2, -999.00,9, -999.00,9, -999.00,    57.4,2,    4.60,2,     -999.0,1,  -999.0,9, 20170807,     2240, -32.4999,-160.4582,        0.0,1,      0.148,1,      4.641,1,      0.188,1,      25.01,     -999.0,9,     -999.0,9,     -999.0,9,     -999.0,9,    16.8030,2,     -999.0,9
320620170703,        P06,     126,          2,         34,         34,2,20170807,       2243,   -32.4999,  -160.4581,       5520,    52.2,  16.5843,  35.4805,2,  35.5186,2, 237.8006,3, 234.7944,2,     0.1,2,    0.36,2,    0.03,2,    0.12,2,   2.169,2,   1.357,2,   1.5950,2,  2070.1,2, 2330.97,2,   7.9649,2, -999.00,9, -999.00,9, -999.00,    62.7,2,    4.40,2,     -999.0,1,  -999.0,9, 20170807,     2241, -32.4999,-160.4582,        0.0,1,      0.146,1,      4.643,1,      0.188,1,      25.02,     -999.0,9,     -999.0,9,     -999.0,9,     -999.0,9,    16.8109,2,     -999.0,9
320620170703,        P06,     126,          2,         35,         35,2,20170807,       2243,   -32.4999,  -160.4581,       5520,    24.1,  16.5762,  35.4803,2,  35.5202,2, 237.8006,3, 234.7412,2,     0.1,2,    0.34,2,    0.03,2,    0.12,2,   2.164,2,   1.344,2,   1.5920,2,  2068.3,2, 2328.56,2,   7.9654,2, -999.00,9, -999.00,9, -999.00,    62.8,2,    4.50,2,     -999.0,1,  -999.0,9, 20170807,     2242, -32.4999,-160.4581,        0.0,1,      0.142,1,      4.643,1,      0.181,1,      25.02,     -999.0,9,     -999.0,9,     -999.0,9,     -999.0,9,    16.8149,2,     -999.0,9
320620170703,        P06,     126,          2,         36,         36,2,20170807,       2243,   -32.4999,  -160.4581,       5520,     3.7,  16.5704,  35.4804,2,  35.5220,2, 237.8006,3, 235.0907,2,     0.2,2,    0.35,2,    0.03,2,    0.14,2,   2.162,2,   1.332,2,   1.4580,2,  2070.1,6, 2329.59,2,   7.9646,2,    0.90,2,   45.90,2,    2.10,    58.5,2,    4.30,2,     -999.0,1,  -999.0,9, 20170807,     2243, -32.4999,-160.4581,        0.0,1,      0.146,1,      4.644,1,      0.172,1,      25.02,     -999.0,9,     -999.0,9,     -999.0,9,     -999.0,9,    15.8097,2,     -999.0,9