BOTTLE,20230922CCHSIOCBG
EXPOCODE,SECT_ID,STNNBR,CASTNO,SAMPNO,BTLNBR,BTLNBR_FLAG_W,DATE,TIME,LATITUDE,LONGITUDE,DEPTH,CTDPRS,CTDTMP,CTDSAL,CTDSAL_FLAG_W,SALNTY,SALNTY_FLAG_W,CTDOXY,CTDOXY_FLAG_W,OXYGEN,OXYGEN_FLAG_W,SILCAT,SILCAT_FLAG_W,NITRAT,NITRAT_FLAG_W,NITRIT,NITRIT_FLAG_W,PHSPHT,PHSPHT_FLAG_W,CFC-11,CFC-11_FLAG_W,CFC-12,CFC-12_FLAG_W,SF6,SF6_FLAG_W,TCARBN,TCARBN_FLAG_W,ALKALI,ALKALI_FLAG_W,PH_TOT,PH_TOT_FLAG_W,DELC13,DELC13_FLAG_W,DELC14,DELC14_FLAG_W,C14ERR,DOC,DOC_FLAG_W,TDN,TDN_FLAG_W,TON,TON_FLAG_W,D15N_NO3,D15N_NO3_FLAG_W,BTL_DATE,BTL_TIME,BTL_LAT,BTL_LON,CTDRINKO,CTDRINKO_FLAG_W,CTDFLUOR,CTDFLUOR_FLAG_W,CTDXMISS,CTDXMISS_FLAG_W,CTDBACKSCATTER,CTDBACKSCATTER_FLAG_W,PH_TMP,D18O_NO3,D18O_NO3_FLAG_W,DOP,DOP_FLAG_W,HPLC,HPLC_FLAG_W,POC,POC_FLAG_W,REFTMP,REFTMP_FLAG_W,TDP,TDP_FLAG_W
,,,,,,,,,,,METERS,DBAR,ITS-90,PSS-78,,PSS-78,,UMOL/KG,,UMOL/KG,,UMOL/KG,,UMOL/KG,,UMOL/KG,,UMOL/KG,,PMOL/KG,,PMOL/KG,,FMOL/KG,,UMOL/KG,,UMOL/KG,,,,/MILLE,,/MILLE,,/MILLE,UMOL/KG,,UMOL/KG,,UMOL/KG,,/MILLE,,,,,,VOLTS,,VOLTS,,VOLTS,,VOLTS,,DEGC,/MILLE,,UMOL/KG,,,,UG/L,,ITS-90,,UMOL/KG,
320620170703,        P06,     137,          1,         33,         33,2,20170811,       1544,   -32.4996,  -152.9293,       5074,    65.3,  16.9709,  35.4750,2,  35.4928,2, 235.4143,2, 235.8015,2,     0.2,2,    0.10,2,    0.02,2,    0.10,2,   2.317,2,   1.341,2,   1.3390,2,  2067.4,2, 2330.53,2,   7.9691,2, -999.00,9, -999.00,9, -999.00,  -999.0,9, -999.00,9,     -999.0,9,  -999.0,9, 20170811,     1538, -32.4995,-152.9293,        0.0,1,      0.170,1,      4.644,1,      0.174,1,      24.99,     -999.0,9,     -999.0,9,     -999.0,9,     -999.0,9,    16.9818,2,     -999.0,9
320620170703,        P06,     137,          1,         34,         34,2,20170811,       1544,   -32.4996,  -152.9293,       5074,    38.3,  16.9699,  35.4759,2,  35.4916,2, 235.4204,2, 236.2842,2,     0.2,2,    0.09,2,    0.03,2,    0.10,2,   2.293,2,   1.314,2,   1.3580,2,  -999.0,9, -999.00,9,-999.0000,9, -999.00,9, -999.00,9, -999.00,  -999.0,9, -999.00,9,     -999.0,9,  -999.0,9, 20170811,     1540, -32.4996,-152.9293,        0.0,1,      0.163,1,      4.644,1,      0.172,1,     -999.0,     -999.0,9,     -999.0,9,     -999.0,9,     -999.0,9,    16.9759,2,     -999.0,9
320620170703,        P06,     137,          1,         35,         35,2,20170811,       1544,   -32.4996,  -152.9293,       5074,    20.2,  16.9640,  35.4744,2,  35.4914,2, 235.4323,2, 236.0890,2,     0.2,2,    0.10,2,    0.03,2,    0.10,2,   2.219,2,   1.320,2,   1.2380,2,  2067.3,2, 2330.91,2,   7.9686,2, -999.00,9, -999.00,9, -999.00,  -999.0,9, -999.00,9,     -999.0,9,  -999.0,9, 20170811,     1542, -32.4996,-152.9294,        0.0,1,      0.168,1,      4.644,1,      0.177,1,      25.00,     -999.0,9,     -999.0,9,     -999.0,9,     -999.0,9,    16.9634,2,     -999.0,9
320620170703,        P06,     137,          1,         36,         36,2,20170811,       1544,   -32.4996,  -152.9293,       5074,     5.1,  16.9584,  35.4745,2,  35.4898,2, 235.4106,2, 235.9384,2,     0.3,2,    0.09,2,    0.03,2,    0.11,2,   2.340,2,   1.325,2,   1.5700,2,  2067.7,6, 2331.75,2,   7.9688,2, -999.00,9, -999.00,9, -999.00,  -999.0,9, -999.00,9,     -999.0,9,  -999.0,9, 20170811,     1544, -32.4996,-152.9293,        0.0,1,      0.169,1,      4.644,1,      0.173,1,      25.01,     -999.0,9,     -999.0,9,     -999.0,9,     -999.0,9,    16.9714,2,     -999.0,9