BOTTLE,20230922CCHSIOCBG
EXPOCODE,SECT_ID,STNNBR,CASTNO,SAMPNO,BTLNBR,BTLNBR_FLAG_W,DATE,TIME,LATITUDE,LONGITUDE,DEPTH,CTDPRS,CTDTMP,CTDSAL,CTDSAL_FLAG_W,SALNTY,SALNTY_FLAG_W,CTDOXY,CTDOXY_FLAG_W,OXYGEN,OXYGEN_FLAG_W,SILCAT,SILCAT_FLAG_W,NITRAT,NITRAT_FLAG_W,NITRIT,NITRIT_FLAG_W,PHSPHT,PHSPHT_FLAG_W,CFC-11,CFC-11_FLAG_W,CFC-12,CFC-12_FLAG_W,SF6,SF6_FLAG_W,TCARBN,TCARBN_FLAG_W,ALKALI,ALKALI_FLAG_W,PH_TOT,PH_TOT_FLAG_W,DELC13,DELC13_FLAG_W,DELC14,DELC14_FLAG_W,C14ERR,DOC,DOC_FLAG_W,TDN,TDN_FLAG_W,TON,TON_FLAG_W,D15N_NO3,D15N_NO3_FLAG_W,BTL_DATE,BTL_TIME,BTL_LAT,BTL_LON,CTDRINKO,CTDRINKO_FLAG_W,CTDFLUOR,CTDFLUOR_FLAG_W,CTDXMISS,CTDXMISS_FLAG_W,CTDBACKSCATTER,CTDBACKSCATTER_FLAG_W,PH_TMP,D18O_NO3,D18O_NO3_FLAG_W,DOP,DOP_FLAG_W,HPLC,HPLC_FLAG_W,POC,POC_FLAG_W,REFTMP,REFTMP_FLAG_W,TDP,TDP_FLAG_W
,,,,,,,,,,,METERS,DBAR,ITS-90,PSS-78,,PSS-78,,UMOL/KG,,UMOL/KG,,UMOL/KG,,UMOL/KG,,UMOL/KG,,UMOL/KG,,PMOL/KG,,PMOL/KG,,FMOL/KG,,UMOL/KG,,UMOL/KG,,,,/MILLE,,/MILLE,,/MILLE,UMOL/KG,,UMOL/KG,,UMOL/KG,,/MILLE,,,,,,VOLTS,,VOLTS,,VOLTS,,VOLTS,,DEGC,/MILLE,,UMOL/KG,,,,UG/L,,ITS-90,,UMOL/KG,
320620170703,        P06,      52,          1,         33,         33,2,20170714,       2210,   -30.0800,   168.2522,       3178,    64.5,  19.5350,  35.8506,2,  35.8495,2, 221.5792,2, 222.6348,2,     0.2,2,    0.45,2,    0.08,2,    0.13,2,   1.828,2,   1.130,2,   1.1300,2,  -999.0,9, -999.00,9,-999.0000,9, -999.00,9, -999.00,9, -999.00,  -999.0,9, -999.00,9,     -999.0,9,  -999.0,9, 20170714,     2205, -30.0799, 168.2520,        0.0,1,      0.163,1,      4.623,1,      0.218,1,     -999.0,     -999.0,9,     -999.0,9,     -999.0,9,     -999.0,9,    19.5356,2,     -999.0,9
320620170703,        P06,      52,          1,         34,         34,2,20170714,       2210,   -30.0800,   168.2522,       3178,    40.1,  19.5289,  35.8505,2,  35.8487,2, 221.9187,2, 222.0012,2,     0.2,2,    0.47,2,    0.08,2,    0.10,2,-999.000,9,-999.000,9,-999.0000,9,  -999.0,9, -999.00,9,-999.0000,9, -999.00,9, -999.00,9, -999.00,  -999.0,9, -999.00,9,     -999.0,9,  -999.0,9, 20170714,     2207, -30.0800, 168.2521,        0.0,1,      0.161,1,      4.629,1,      0.212,1,     -999.0,     -999.0,9,     -999.0,9,     -999.0,9,     -999.0,9,    19.5311,2,     -999.0,9
320620170703,        P06,      52,          1,         35,         35,2,20170714,       2210,   -30.0800,   168.2522,       3178,    19.8,  19.5291,  35.8495,2,  35.8485,2, 221.8188,2, 221.3412,2,     0.2,2,    0.46,2,    0.08,2,    0.11,2,   1.823,2,   1.134,2,   1.0840,2,  -999.0,9, -999.00,9,-999.0000,9, -999.00,9, -999.00,9, -999.00,  -999.0,9, -999.00,9,     -999.0,9,  -999.0,9, 20170714,     2208, -30.0800, 168.2522,        0.0,1,      0.163,1,      4.629,1,      0.219,1,     -999.0,     -999.0,9,     -999.0,9,     -999.0,9,     -999.0,9,    19.5289,2,     -999.0,9
320620170703,        P06,      52,          1,         36,         36,2,20170714,       2210,   -30.0800,   168.2522,       3178,     4.2,  19.5305,  35.8494,2,  35.8489,2, 221.8117,2, 221.4747,2,     0.2,2,    0.48,2,    0.08,2,    0.10,2,   1.829,2,   1.143,2,   1.1570,2,  2063.4,6, 2342.07,2,   8.0037,2, -999.00,9, -999.00,9, -999.00,  -999.0,9, -999.00,9,     -999.0,9,  -999.0,9, 20170714,     2210, -30.0800, 168.2522,        0.0,1,      0.167,1,      4.630,1,      0.218,1,      25.00,     -999.0,9,     -999.0,9,     -999.0,9,     -999.0,9,    19.5277,2,     -999.0,9