BOTTLE,20230922CCHSIOCBG
EXPOCODE,SECT_ID,STNNBR,CASTNO,SAMPNO,BTLNBR,BTLNBR_FLAG_W,DATE,TIME,LATITUDE,LONGITUDE,DEPTH,CTDPRS,CTDTMP,CTDSAL,CTDSAL_FLAG_W,SALNTY,SALNTY_FLAG_W,CTDOXY,CTDOXY_FLAG_W,OXYGEN,OXYGEN_FLAG_W,SILCAT,SILCAT_FLAG_W,NITRAT,NITRAT_FLAG_W,NITRIT,NITRIT_FLAG_W,PHSPHT,PHSPHT_FLAG_W,CFC-11,CFC-11_FLAG_W,CFC-12,CFC-12_FLAG_W,SF6,SF6_FLAG_W,TCARBN,TCARBN_FLAG_W,ALKALI,ALKALI_FLAG_W,PH_TOT,PH_TOT_FLAG_W,DELC13,DELC13_FLAG_W,DELC14,DELC14_FLAG_W,C14ERR,DOC,DOC_FLAG_W,TDN,TDN_FLAG_W,TON,TON_FLAG_W,D15N_NO3,D15N_NO3_FLAG_W,BTL_DATE,BTL_TIME,BTL_LAT,BTL_LON,CTDRINKO,CTDRINKO_FLAG_W,CTDFLUOR,CTDFLUOR_FLAG_W,CTDXMISS,CTDXMISS_FLAG_W,CTDBACKSCATTER,CTDBACKSCATTER_FLAG_W,PH_TMP,D18O_NO3,D18O_NO3_FLAG_W,DOP,DOP_FLAG_W,HPLC,HPLC_FLAG_W,POC,POC_FLAG_W,REFTMP,REFTMP_FLAG_W,TDP,TDP_FLAG_W
,,,,,,,,,,,METERS,DBAR,ITS-90,PSS-78,,PSS-78,,UMOL/KG,,UMOL/KG,,UMOL/KG,,UMOL/KG,,UMOL/KG,,UMOL/KG,,PMOL/KG,,PMOL/KG,,FMOL/KG,,UMOL/KG,,UMOL/KG,,,,/MILLE,,/MILLE,,/MILLE,UMOL/KG,,UMOL/KG,,UMOL/KG,,/MILLE,,,,,,VOLTS,,VOLTS,,VOLTS,,VOLTS,,DEGC,/MILLE,,UMOL/KG,,,,UG/L,,ITS-90,,UMOL/KG,
320620170703,        P06,      80,          1,         33,         33,2,20170724,       1235,   -31.8962,   178.3099,       3492,    65.0,  17.7434,  35.6673,2,  35.6705,2, 227.7549,2, 227.1693,2,     0.7,2,    1.19,2,    0.13,2,    0.21,2,   2.319,2,   1.288,2,   1.3820,2,  2072.6,2, 4087.82,4,   7.9726,2, -999.00,9, -999.00,9, -999.00,    57.0,2,    5.40,2,     -999.0,1,  -999.0,9, 20170724,     1231, -31.8962, 178.3099,        0.0,1,      0.184,1,      4.521,1,      0.226,1,      25.00,     -999.0,9,     -999.0,9,     -999.0,9,     -999.0,9,    17.7349,2,     -999.0,9
320620170703,        P06,      80,          1,         34,         34,2,20170724,       1235,   -31.8962,   178.3099,       3492,    40.2,  17.7781,  35.6732,2,  35.6700,2, 227.7452,2, 227.0077,2,     0.7,2,    1.19,2,    0.13,2,    0.20,2,   2.288,2,   1.286,2,   1.3660,2,  2073.8,2, 2335.19,2,   7.9722,2, -999.00,9, -999.00,9, -999.00,    57.6,2,    5.30,2,     -999.0,1,  -999.0,9, 20170724,     1232, -31.8962, 178.3099,        0.0,1,      0.180,1,      4.620,1,      0.212,1,      25.02,     -999.0,9,     -999.0,9,     -999.0,9,     -999.0,9,    17.7301,2,     -999.0,9
320620170703,        P06,      80,          1,         35,         35,2,20170724,       1235,   -31.8962,   178.3099,       3492,    19.8,  17.7952,  35.6764,2,  35.6705,2, 227.7553,2, 226.7553,2,     0.7,2,    1.18,2,    0.13,2,    0.20,2,   2.312,2,   1.292,2,   1.2510,2,  2073.0,2, 2336.97,2,   7.9727,2, -999.00,9, -999.00,9, -999.00,    59.5,2,    5.30,2,     -999.0,1,  -999.0,9, 20170724,     1234, -31.8962, 178.3099,        0.0,1,      0.165,1,      4.619,1,      0.209,1,      25.02,     -999.0,9,     -999.0,9,     -999.0,9,     -999.0,9,    17.7312,2,     -999.0,9
320620170703,        P06,      80,          1,         36,         36,2,20170724,       1235,   -31.8962,   178.3099,       3492,     5.1,  17.7756,  35.6756,2,  35.6715,2, 228.2414,2, 227.7529,2,     0.7,2,    1.19,2,    0.13,2,    0.21,2,   2.307,2,   1.290,2,   1.3560,2,  2072.8,6, 4227.12,4,   7.9718,2, -999.00,9, -999.00,9, -999.00,    58.9,2,    5.20,2,     -999.0,1,  -999.0,9, 20170724,     1235, -31.8962, 178.3099,        0.0,1,      0.167,1,      4.620,1,      0.201,1,      25.00,     -999.0,9,     -999.0,9,     -999.0,9,     -999.0,9,    17.7228,2,     -999.0,9