BOTTLE,20230922CCHSIOCBG
EXPOCODE,SECT_ID,STNNBR,CASTNO,SAMPNO,BTLNBR,BTLNBR_FLAG_W,DATE,TIME,LATITUDE,LONGITUDE,DEPTH,CTDPRS,CTDTMP,CTDSAL,CTDSAL_FLAG_W,SALNTY,SALNTY_FLAG_W,CTDOXY,CTDOXY_FLAG_W,OXYGEN,OXYGEN_FLAG_W,SILCAT,SILCAT_FLAG_W,NITRAT,NITRAT_FLAG_W,NITRIT,NITRIT_FLAG_W,PHSPHT,PHSPHT_FLAG_W,CFC-11,CFC-11_FLAG_W,CFC-12,CFC-12_FLAG_W,SF6,SF6_FLAG_W,TCARBN,TCARBN_FLAG_W,ALKALI,ALKALI_FLAG_W,PH_TOT,PH_TOT_FLAG_W,DELC13,DELC13_FLAG_W,DELC14,DELC14_FLAG_W,C14ERR,DOC,DOC_FLAG_W,TDN,TDN_FLAG_W,TON,TON_FLAG_W,D15N_NO3,D15N_NO3_FLAG_W,BTL_DATE,BTL_TIME,BTL_LAT,BTL_LON,CTDRINKO,CTDRINKO_FLAG_W,CTDFLUOR,CTDFLUOR_FLAG_W,CTDXMISS,CTDXMISS_FLAG_W,CTDBACKSCATTER,CTDBACKSCATTER_FLAG_W,PH_TMP,D18O_NO3,D18O_NO3_FLAG_W,DOP,DOP_FLAG_W,HPLC,HPLC_FLAG_W,POC,POC_FLAG_W,REFTMP,REFTMP_FLAG_W,TDP,TDP_FLAG_W
,,,,,,,,,,,METERS,DBAR,ITS-90,PSS-78,,PSS-78,,UMOL/KG,,UMOL/KG,,UMOL/KG,,UMOL/KG,,UMOL/KG,,UMOL/KG,,PMOL/KG,,PMOL/KG,,FMOL/KG,,UMOL/KG,,UMOL/KG,,,,/MILLE,,/MILLE,,/MILLE,UMOL/KG,,UMOL/KG,,UMOL/KG,,/MILLE,,,,,,VOLTS,,VOLTS,,VOLTS,,VOLTS,,DEGC,/MILLE,,UMOL/KG,,,,UG/L,,ITS-90,,UMOL/KG,
320620170703,        P06,     104,          1,          1,          1,2,20170730,       1312,   -32.5003,  -172.4188,       5738,  5847.5,   1.1491,  34.7079,2,  34.7093,2, 206.2977,2, 205.5353,2,   122.4,2,   31.79,2,    0.00,2,    2.22,2,   0.153,2,   0.083,2,   0.0000,2,  2263.4,6, 2367.09,2,   7.6056,2, -999.00,9, -999.00,9, -999.00,  -999.0,9, -999.00,9,     -999.0,9,  -999.0,9, 20170730,     1037, -32.5000,-172.4200,        0.0,1,      0.061,1,      4.464,1,      0.127,1,      25.05,     -999.0,9,     -999.0,9,     -999.0,9,     -999.0,9,     1.1498,2,     -999.0,9
320620170703,        P06,     104,          1,          2,          2,2,20170730,       1312,   -32.5003,  -172.4188,       5738,  5471.9,   1.1005,  34.7084,2,  34.7072,2, 206.2977,2, 207.0862,2,   122.2,2,   31.76,2,    0.00,2,    2.21,2,   0.146,2,   0.085,2,   0.0000,2,  2264.4,2, 2368.15,2,   7.6054,2, -999.00,9, -999.00,9, -999.00,  -999.0,9, -999.00,9,     -999.0,9,  -999.0,9, 20170730,     1048, -32.5003,-172.4196,        0.0,1,      0.061,1,      4.466,1,      0.127,1,      25.04,     -999.0,9,     -999.0,9,     -999.0,9,     -999.0,9,     1.1011,2,     -999.0,9
320620170703,        P06,     104,          1,          3,          3,2,20170730,       1312,   -32.5003,  -172.4188,       5738,  5161.9,   1.0701,  34.7087,2,  34.7076,2, 206.2977,2, 206.7952,2,   122.0,2,   31.75,2,    0.00,2,    2.21,2,   0.141,2,   0.082,2,   0.0000,2,  2262.8,2, 2361.14,2,   7.6054,2, -999.00,9, -999.00,9, -999.00,  -999.0,9, -999.00,9,     -999.0,9,  -999.0,9, 20170730,     1057, -32.5004,-172.4196,        0.0,1,      0.061,1,      4.440,1,      0.126,1,      25.05,     -999.0,9,     -999.0,9,     -999.0,9,     -999.0,9,     1.0700,2,     -999.0,9
320620170703,        P06,     104,          1,          4,          4,2,20170730,       1312,   -32.5003,  -172.4188,       5738,  4855.8,   1.0620,  34.7098,2,  34.7091,2, 206.2977,2, 206.4011,2,   121.0,2,   31.74,2,    0.00,2,    2.21,2,   0.141,2,   0.081,2,   0.0000,2,  -999.0,9, -999.00,9,-999.0000,9, -999.00,9, -999.00,9, -999.00,  -999.0,9, -999.00,9,     -999.0,9,  -999.0,9, 20170730,     1107, -32.4999,-172.4200,        0.0,1,      0.061,1,      4.511,1,      0.126,1,     -999.0,     -999.0,9,     -999.0,9,     -999.0,9,     -999.0,9,     1.0605,2,     -999.0,9
320620170703,        P06,     104,          1,          5,          5,2,20170730,       1312,   -32.5003,  -172.4188,       5738,  4544.3,   1.0960,  34.7124,2,  34.7133,2, 206.2707,2, 205.7830,2,   119.3,2,   31.60,2,    0.00,2,    2.21,2,   0.126,2,   0.075,2,   0.0000,2,  2261.6,2, 2363.08,6,   7.6066,2, -999.00,9, -999.00,9, -999.00,  -999.0,9, -999.00,9,     -999.0,9,  -999.0,9, 20170730,     1114, -32.4999,-172.4198,        0.0,1,      0.061,1,      4.453,1,      0.127,1,      25.03,     -999.0,9,     -999.0,9,     -999.0,9,     -999.0,9,     1.0881,2,     -999.0,9
320620170703,        P06,     104,          1,          6,          6,2,20170730,       1312,   -32.5003,  -172.4188,       5738,  4237.5,   1.1822,  34.7161,2,  34.7138,2, 204.0537,2, 203.8482,2,   116.5,2,   31.51,2,    0.00,2,    2.20,2,   0.112,2,   0.066,2,   0.0000,2,  -999.0,9, -999.00,9,-999.0000,9, -999.00,9, -999.00,9, -999.00,  -999.0,9, -999.00,9,     -999.0,9,  -999.0,9, 20170730,     1120, -32.5002,-172.4195,        0.0,1,      0.061,1,      4.461,1,      0.127,1,     -999.0,     -999.0,9,     -999.0,9,     -999.0,9,     -999.0,9,     1.1636,2,     -999.0,9
320620170703,        P06,     104,          1,          7,          7,2,20170730,       1312,   -32.5003,  -172.4188,       5738,  3928.1,   1.3558,  34.7188,2,  34.7178,2, 198.4306,2, 198.9326,2,   112.5,2,   31.53,2,    0.00,2,    2.20,2,   0.079,2,   0.050,2,   0.0000,2,  2262.4,2, 2367.39,2,   7.6052,2, -999.00,9, -999.00,9, -999.00,  -999.0,9, -999.00,9,     -999.0,9,  -999.0,9, 20170730,     1127, -32.5002,-172.4194,        0.0,1,      0.060,1,      4.371,1,      0.127,1,      25.03,     -999.0,9,     -999.0,9,     -999.0,9,     -999.0,9,     1.3330,2,     -999.0,9
320620170703,        P06,     104,          1,          8,          8,2,20170730,       1312,   -32.5003,  -172.4188,       5738,  3621.0,   1.5362,  34.7137,2,  34.7144,2, 188.9861,2, 188.7249,2,   111.8,2,   31.98,2,    0.00,2,    2.24,2,   0.059,2,   0.040,2,   0.0000,2,  -999.0,9, -999.00,9,-999.0000,9, -999.00,9, -999.00,9, -999.00,  -999.0,9, -999.00,9,     -999.0,9,  -999.0,9, 20170730,     1134, -32.5001,-172.4194,        0.0,1,      0.061,1,      4.420,1,      0.128,1,     -999.0,     -999.0,9,     -999.0,9,     -999.0,9,     -999.0,9,     1.5237,2,     -999.0,9
320620170703,        P06,     104,          1,          9,          9,2,20170730,       1312,   -32.5003,  -172.4188,       5738,  3313.1,   1.6879,  34.6935,2,  34.6924,2, 169.6385,2, 168.7850,2,   120.7,2,   33.74,2,    0.00,2,    2.35,2,   0.108,4,   0.104,4,   0.0000,2,  2294.5,2, 2388.49,2,   7.5847,2, -999.00,9, -999.00,9, -999.00,  -999.0,9, -999.00,9,     -999.0,9,  -999.0,9, 20170730,     1141, -32.5001,-172.4194,        0.0,1,      0.061,1,      4.446,1,      0.129,1,      25.05,     -999.0,9,     -999.0,9,     -999.0,9,     -999.0,9,     1.6922,2,     -999.0,9
320620170703,        P06,     104,          1,         10,         10,2,20170730,       1312,   -32.5003,  -172.4188,       5738,  3060.8,   1.7848,  34.6751,2,  34.6739,2, 156.0389,2, 155.2748,2,   128.1,2,   35.02,2,    0.00,2,    2.45,2,   0.027,2,   0.020,2,   0.0000,2,  -999.0,9, -999.00,9,-999.0000,9, -999.00,9, -999.00,9, -999.00,  -999.0,9, -999.00,9,     -999.0,9,  -999.0,9, 20170730,     1146, -32.5003,-172.4192,        0.0,1,      0.062,1,      4.383,1,      0.131,1,     -999.0,     -999.0,9,     -999.0,9,     -999.0,9,     -999.0,9,     1.7913,2,     -999.0,9
320620170703,        P06,     104,          1,         11,         11,2,20170730,       1312,   -32.5003,  -172.4188,       5738,  2801.1,   1.8916,  34.6625,2,  34.6616,2, 149.8580,2, 149.7716,2,   127.7,2,   35.49,2,    0.00,2,    2.48,2,   0.030,2,   0.021,2,   0.0000,2,  2310.4,2, 2403.45,2,   7.5670,2, -999.00,9, -999.00,9, -999.00,  -999.0,9, -999.00,9,     -999.0,9,  -999.0,9, 20170730,     1152, -32.4999,-172.4195,        0.0,1,      0.062,1,      4.400,1,      0.132,1,      25.04,     -999.0,9,     -999.0,9,     -999.0,9,     -999.0,9,     1.8894,2,     -999.0,9
320620170703,        P06,     104,          1,         12,         12,2,20170730,       1312,   -32.5003,  -172.4188,       5738,  2549.5,   1.9888,  34.6532,2,  34.6513,2, 147.3746,2, 147.6888,2,   124.3,2,   35.62,2,    0.00,2,    2.50,2,   0.024,2,   0.020,2,   0.0000,2,  2312.9,6, 2400.96,2,   7.5645,2, -999.00,9, -999.00,9, -999.00,  -999.0,9, -999.00,9,     -999.0,9,  -999.0,9, 20170730,     1158, -32.4998,-172.4197,        0.0,1,      0.061,1,      4.329,1,      0.132,1,      25.04,     -999.0,9,     -999.0,9,     -999.0,9,     -999.0,9,     1.9947,2,     -999.0,9
320620170703,        P06,     104,          1,         13,         13,2,20170730,       1312,   -32.5003,  -172.4188,       5738,  2291.7,   2.1157,  34.6414,2,  34.6394,2, 146.6734,2, 147.3557,2,   119.1,2,   35.60,2,    0.00,2,    2.50,2,   0.027,2,   0.020,2,   0.0000,2,  2306.6,2, 2395.02,2,   7.5645,2, -999.00,9, -999.00,9, -999.00,  -999.0,9, -999.00,9,     -999.0,9,  -999.0,9, 20170730,     1203, -32.4999,-172.4196,        0.0,1,      0.060,1,      4.249,1,      0.134,1,      25.04,     -999.0,9,     -999.0,9,     -999.0,9,     -999.0,9,     2.1354,2,     -999.0,9
320620170703,        P06,     104,          1,         14,         14,2,20170730,       1312,   -32.5003,  -172.4188,       5738,  2040.9,   2.2699,  34.6263,2,  34.6223,2, 149.9109,2, 150.8332,2,   109.6,2,   35.17,2,    0.00,2,    2.46,2,   0.028,2,   0.021,2,   0.0000,2,  -999.0,9, -999.00,9,-999.0000,9, -999.00,9, -999.00,9, -999.00,  -999.0,9, -999.00,9,     -999.0,9,  -999.0,9, 20170730,     1208, -32.4999,-172.4196,        0.0,1,      0.061,1,      4.233,1,      0.134,1,     -999.0,     -999.0,9,     -999.0,9,     -999.0,9,     -999.0,9,     2.2946,2,     -999.0,9
320620170703,        P06,     104,          1,         15,         15,2,20170730,       1312,   -32.5003,  -172.4188,       5738,  1784.8,   2.5183,  34.5904,2,  34.5859,2, 155.1486,2, 156.4495,2,    95.2,2,   34.72,2,    0.00,2,    2.41,2,   0.039,2,   0.024,2,   0.0000,2,  2277.9,2, 2367.55,2,   7.5683,2, -999.00,9, -999.00,9, -999.00,  -999.0,9, -999.00,9,     -999.0,9,  -999.0,9, 20170730,     1214, -32.4999,-172.4195,        0.0,1,      0.061,1,      4.242,1,      0.135,1,      25.01,     -999.0,9,     -999.0,9,     -999.0,9,     -999.0,9,     2.5402,2,     -999.0,9
320620170703,        P06,     104,          1,         16,         16,2,20170730,       1312,   -32.5003,  -172.4188,       5738,  1553.5,   2.8829,  34.5196,2,  34.5105,2, 165.7674,2, 166.3195,2,    74.1,2,   34.18,2,    0.00,2,    2.37,2,   0.087,2,   0.056,2,   0.0000,2,  -999.0,9, -999.00,9,-999.0000,9, -999.00,9, -999.00,9, -999.00,  -999.0,9, -999.00,9,     -999.0,9,  -999.0,9, 20170730,     1219, -32.5000,-172.4194,        0.0,1,      0.061,1,      4.175,1,      0.138,1,     -999.0,     -999.0,9,     -999.0,9,     -999.0,9,     -999.0,9,     2.9285,2,     -999.0,9
320620170703,        P06,     104,          1,         17,         17,2,20170730,       1312,   -32.5003,  -172.4188,       5738,  1379.9,   3.2979,  34.4427,2,  34.4300,2, 177.5656,2, 177.6841,2,    56.5,2,   33.33,2,    0.00,2,    2.30,2,   0.261,2,   0.141,2,   0.0000,2,  2233.1,2, 2325.18,2,   7.5796,2, -999.00,9, -999.00,9, -999.00,  -999.0,9, -999.00,9,     -999.0,9,  -999.0,9, 20170730,     1223, -32.5001,-172.4192,        0.0,1,      0.060,1,      4.561,1,      0.137,1,      25.03,     -999.0,9,     -999.0,9,     -999.0,9,     -999.0,9,     3.3661,2,     -999.0,9
320620170703,        P06,     104,          1,         18,         18,2,20170730,       1312,   -32.5003,  -172.4188,       5738,  1277.2,   3.6722,  34.3949,2,  34.3912,2, 183.2308,2, 183.4310,2,    47.8,2,   32.70,2,    0.00,2,    2.25,2,   0.390,2,   0.205,2,   0.0000,2,  -999.0,9, -999.00,9,-999.0000,9, -999.00,9, -999.00,9, -999.00,  -999.0,9, -999.00,9,     -999.0,9,  -999.0,9, 20170730,     1226, -32.5003,-172.4190,        0.0,1,      0.060,1,      4.700,1,      0.140,1,     -999.0,     -999.0,9,     -999.0,9,     -999.0,9,     -999.0,9,     3.6949,2,     -999.0,9
320620170703,        P06,     104,          1,         19,         19,2,20170730,       1312,   -32.5003,  -172.4188,       5738,  1177.7,   4.1093,  34.3579,2,  34.3501,2, 195.8005,2, 194.0482,2,    36.2,2,   31.18,2,    0.00,2,    2.12,2,-999.000,9,-999.000,9,-999.0000,9,  2202.8,2, 2297.84,2,   7.6096,2, -999.00,9, -999.00,9, -999.00,  -999.0,9, -999.00,9,     -999.0,9,  -999.0,9, 20170730,     1229, -32.5003,-172.4189,        0.0,1,      0.060,1,      4.698,1,      0.135,1,      25.04,     -999.0,9,     -999.0,9,     -999.0,9,     -999.0,9,     4.2439,2,     -999.0,9
320620170703,        P06,     104,          1,         20,         20,2,20170730,       1312,   -32.5003,  -172.4188,       5738,  1074.0,   4.8307,  34.3332,2,  34.3299,2, 203.5731,2, 203.9035,2,    26.4,2,   29.34,2,    0.00,2,    2.03,2,   1.237,2,   0.583,2,   0.1130,2,  -999.0,9, -999.00,9,-999.0000,9, -999.00,9, -999.00,9, -999.00,  -999.0,9, -999.00,9,     -999.0,9,  -999.0,9, 20170730,     1232, -32.5002,-172.4190,        0.0,1,      0.059,1,      4.693,1,      0.138,1,     -999.0,     -999.0,9,     -999.0,9,     -999.0,9,     -999.0,9,     4.8850,2,     -999.0,9
320620170703,        P06,     104,          1,         21,         21,2,20170730,       1312,   -32.5003,  -172.4188,       5738,   972.3,   5.4505,  34.3211,2,  34.3239,2, 216.0228,2, 215.4353,2,    18.4,2,   27.27,2,    0.00,2,    1.88,2,-999.000,9,-999.000,9,-999.0000,9,  2169.5,2, 2285.01,2,   7.6591,2, -999.00,9, -999.00,9, -999.00,  -999.0,9, -999.00,9,     -999.0,9,  -999.0,9, 20170730,     1235, -32.5003,-172.4190,        0.0,1,      0.060,1,      4.697,1,      0.137,1,      25.02,     -999.0,9,     -999.0,9,     -999.0,9,     -999.0,9,     5.4592,2,     -999.0,9
320620170703,        P06,     104,          1,         22,         22,2,20170730,       1312,   -32.5003,  -172.4188,       5738,   872.9,   5.9909,  34.3271,2,  34.3272,2, 225.6642,3, 227.9891,2,    11.9,2,   24.79,2,    0.00,2,    1.72,2,   2.429,2,   1.172,2,   0.5000,2,  2156.5,2, 2281.44,2,   7.6844,2, -999.00,9, -999.00,9, -999.00,  -999.0,9, -999.00,9,     -999.0,9,  -999.0,9, 20170730,     1238, -32.5003,-172.4189,        0.0,1,      0.059,1,      4.547,1,      0.136,1,      25.02,     -999.0,9,     -999.0,9,     -999.0,9,     -999.0,9,     6.0770,2,     -999.0,9
320620170703,        P06,     104,          1,         23,         23,2,20170730,       1312,   -32.5003,  -172.4188,       5738,   769.6,   6.5277,  34.3499,2,  34.3549,2, 234.5621,2, 234.6000,2,     8.4,2,   22.73,2,    0.00,2,    1.58,2,-999.000,9,-999.000,9,-999.0000,9,  2148.5,2, 2281.51,2,   7.7007,2, -999.00,9, -999.00,9, -999.00,  -999.0,9, -999.00,9,     -999.0,9,  -999.0,9, 20170730,     1241, -32.5004,-172.4188,        0.0,1,      0.058,1,      4.651,1,      0.138,1,      25.02,     -999.0,9,     -999.0,9,     -999.0,9,     -999.0,9,     6.6558,2,     -999.0,9
320620170703,        P06,     104,          1,         24,         24,2,20170730,       1312,   -32.5003,  -172.4188,       5738,   671.9,   7.1529,  34.3929,2,  34.3976,2, 233.5625,2,-999.0000,9,     6.5,2,   21.11,2,    0.00,2,    1.49,2,   3.427,2,   1.730,2,   0.7490,2,  2143.8,2, 2275.90,2,   7.7092,2, -999.00,9, -999.00,9, -999.00,  -999.0,9, -999.00,9,     -999.0,9,  -999.0,9, 20170730,     1244, -32.5005,-172.4186,        0.0,1,      0.060,1,      4.636,1,      0.140,1,      25.04,     -999.0,9,     -999.0,9,     -999.0,9,     -999.0,9,     7.2395,2,     -999.0,9
320620170703,        P06,     104,          1,         25,         25,2,20170730,       1312,   -32.5003,  -172.4188,       5738,   569.1,   8.0145,  34.4777,2,  34.4828,2, 228.4624,2, 228.7871,2,     5.1,2,   18.97,2,    0.00,2,    1.35,2,-999.000,9,-999.000,9,-999.0000,9,  2142.9,2, 2282.74,2,   7.7202,2, -999.00,9, -999.00,9, -999.00,  -999.0,9, -999.00,9,     -999.0,9,  -999.0,9, 20170730,     1248, -32.5006,-172.4186,        0.0,1,      0.059,1,      4.544,1,      0.142,1,      25.03,     -999.0,9,     -999.0,9,     -999.0,9,     -999.0,9,     8.0980,2,     -999.0,9
320620170703,        P06,     104,          1,         26,         26,2,20170730,       1312,   -32.5003,  -172.4188,       5738,   468.5,   9.4835,  34.6484,2,  34.6512,2, 215.9930,2, 215.7340,2,     4.1,2,   16.08,2,    0.00,2,    1.17,2,   3.242,2,   1.710,2,   1.0390,2,  -999.0,9, -999.00,9,-999.0000,9, -999.00,9, -999.00,9, -999.00,  -999.0,9, -999.00,9,     -999.0,9,  -999.0,9, 20170730,     1251, -32.5004,-172.4187,        0.0,1,      0.060,1,      4.460,1,      0.144,1,     -999.0,     -999.0,9,     -999.0,9,     -999.0,9,     -999.0,9,     9.5276,2,     -999.0,9
320620170703,        P06,     104,          1,         27,         27,2,20170730,       1312,   -32.5003,  -172.4188,       5738,   367.1,  11.5245,  34.8948,2,  34.8938,2, 212.2151,2, 212.5048,2,     2.7,2,   11.14,2,    0.00,2,    0.88,2,-999.000,9,-999.000,9,-999.0000,9,  2128.1,2, 2294.09,2,   7.7893,2, -999.00,9, -999.00,9, -999.00,  -999.0,9, -999.00,9,     -999.0,9,  -999.0,9, 20170730,     1254, -32.5003,-172.4189,        0.0,1,      0.059,1,      4.692,1,      0.139,1,      25.01,     -999.0,9,     -999.0,9,     -999.0,9,     -999.0,9,    11.4971,2,     -999.0,9
320620170703,        P06,     104,          1,         28,         28,2,20170730,       1312,   -32.5003,  -172.4188,       5738,   286.8,  13.7612,  35.2048,2,  35.1473,2, 209.9196,2, 210.3334,2,     2.0,2,    7.58,2,    0.00,2,    0.65,2,   2.706,2,   1.532,2,   1.2180,2,  -999.0,9, -999.00,9,-999.0000,9, -999.00,9, -999.00,9, -999.00,  -999.0,9, -999.00,9,     -999.0,9,  -999.0,9, 20170730,     1257, -32.5002,-172.4190,        0.0,1,      0.060,1,      4.691,1,      0.141,1,     -999.0,     -999.0,9,     -999.0,9,     -999.0,9,     -999.0,9,    13.3298,2,     -999.0,9
320620170703,        P06,     104,          1,         29,         29,2,20170730,       1312,   -32.5003,  -172.4188,       5738,   236.2,  14.8439,  35.3167,2,  35.2574,2, 208.2309,2, 209.8315,2,     1.5,2,    5.86,2,    0.00,2,    0.55,2,-999.000,9,-999.000,9,-999.0000,9,  2110.4,2, 2314.83,2,   7.8595,2, -999.00,9, -999.00,9, -999.00,  -999.0,9, -999.00,9,     -999.0,9,  -999.0,9, 20170730,     1259, -32.5002,-172.4190,        0.0,1,      0.060,1,      4.691,1,      0.141,1,      25.03,     -999.0,9,     -999.0,9,     -999.0,9,     -999.0,9,    14.3075,2,     -999.0,9
320620170703,        P06,     104,          1,         30,         30,2,20170730,       1312,   -32.5003,  -172.4188,       5738,   186.4,  15.6152,  35.4080,2,  35.3817,2, 208.6957,2, 208.6916,2,     1.0,2,    4.06,2,    0.02,2,    0.43,2,   2.457,2,   1.425,2,   1.2500,2,  2103.5,2, 2320.24,2,   7.8889,2, -999.00,9, -999.00,9, -999.00,  -999.0,9, -999.00,9,     -999.0,9,  -999.0,9, 20170730,     1301, -32.5002,-172.4191,        0.0,1,      0.062,1,      4.688,1,      0.139,1,      25.03,     -999.0,9,     -999.0,9,     -999.0,9,     -999.0,9,    15.4372,2,     -999.0,9
320620170703,        P06,     104,          1,         31,         31,2,20170730,       1312,   -32.5003,  -172.4188,       5738,   133.2,  17.5500,  35.6817,2,  35.6682,2, 231.2685,2, 229.9764,2,     0.2,2,    0.13,2,    0.04,2,    0.12,2,-999.000,9,-999.000,9,-999.0000,9,  2070.6,2, 2343.31,2,   7.9742,2, -999.00,9, -999.00,9, -999.00,  -999.0,9, -999.00,9,     -999.0,9,  -999.0,9, 20170730,     1304, -32.5001,-172.4192,        0.0,1,      0.190,1,      4.635,1,      0.196,1,      25.04,     -999.0,9,     -999.0,9,     -999.0,9,     -999.0,9,    17.4565,2,     -999.0,9
320620170703,        P06,     104,          1,         32,         32,2,20170730,       1312,   -32.5003,  -172.4188,       5738,    89.3,  17.5686,  35.6865,2,  35.6840,2, 232.6836,2, 232.0079,2,     0.2,2,    0.04,2,    0.03,2,    0.10,2,   2.200,2,   1.279,2,   1.4430,2,  -999.0,9, -999.00,9,-999.0000,9, -999.00,9, -999.00,9, -999.00,  -999.0,9, -999.00,9,     -999.0,9,  -999.0,9, 20170730,     1306, -32.5001,-172.4192,        0.0,1,      0.184,1,      4.634,1,      0.198,1,     -999.0,     -999.0,9,     -999.0,9,     -999.0,9,     -999.0,9,    17.5539,2,     -999.0,9