BOTTLE,20230922CCHSIOCBG
EXPOCODE,SECT_ID,STNNBR,CASTNO,SAMPNO,BTLNBR,BTLNBR_FLAG_W,DATE,TIME,LATITUDE,LONGITUDE,DEPTH,CTDPRS,CTDTMP,CTDSAL,CTDSAL_FLAG_W,SALNTY,SALNTY_FLAG_W,CTDOXY,CTDOXY_FLAG_W,OXYGEN,OXYGEN_FLAG_W,SILCAT,SILCAT_FLAG_W,NITRAT,NITRAT_FLAG_W,NITRIT,NITRIT_FLAG_W,PHSPHT,PHSPHT_FLAG_W,CFC-11,CFC-11_FLAG_W,CFC-12,CFC-12_FLAG_W,SF6,SF6_FLAG_W,TCARBN,TCARBN_FLAG_W,ALKALI,ALKALI_FLAG_W,PH_TOT,PH_TOT_FLAG_W,DELC13,DELC13_FLAG_W,DELC14,DELC14_FLAG_W,C14ERR,DOC,DOC_FLAG_W,TDN,TDN_FLAG_W,TON,TON_FLAG_W,D15N_NO3,D15N_NO3_FLAG_W,BTL_DATE,BTL_TIME,BTL_LAT,BTL_LON,CTDRINKO,CTDRINKO_FLAG_W,CTDFLUOR,CTDFLUOR_FLAG_W,CTDXMISS,CTDXMISS_FLAG_W,CTDBACKSCATTER,CTDBACKSCATTER_FLAG_W,PH_TMP,D18O_NO3,D18O_NO3_FLAG_W,DOP,DOP_FLAG_W,HPLC,HPLC_FLAG_W,POC,POC_FLAG_W,REFTMP,REFTMP_FLAG_W,TDP,TDP_FLAG_W
,,,,,,,,,,,METERS,DBAR,ITS-90,PSS-78,,PSS-78,,UMOL/KG,,UMOL/KG,,UMOL/KG,,UMOL/KG,,UMOL/KG,,UMOL/KG,,PMOL/KG,,PMOL/KG,,FMOL/KG,,UMOL/KG,,UMOL/KG,,,,/MILLE,,/MILLE,,/MILLE,UMOL/KG,,UMOL/KG,,UMOL/KG,,/MILLE,,,,,,VOLTS,,VOLTS,,VOLTS,,VOLTS,,DEGC,/MILLE,,UMOL/KG,,,,UG/L,,ITS-90,,UMOL/KG,
320620170703,        P06,      55,          1,         33,         33,2,20170715,       1352,   -30.0805,   169.4980,       2714,    65.9,  19.5386,  35.8538,2,  35.8554,2, 220.6879,2, 220.5574,2,     0.4,2,    0.62,2,    0.14,2,    0.11,2,   1.791,2,   1.140,2,   1.1440,2,  2059.9,2, 2346.18,2,   8.0067,2, -999.00,9, -999.00,9, -999.00,    59.3,2,    4.40,2,     -999.0,1,  -999.0,9, 20170715,     1347, -30.0802, 169.4981,        0.0,1,      0.135,1,      4.222,1,      0.193,1,      25.00,     -999.0,9,     -999.0,9,     -999.0,9,     -999.0,9,    19.5394,2,     -999.0,9
320620170703,        P06,      55,          1,         34,         34,2,20170715,       1352,   -30.0805,   169.4980,       2714,    38.8,  19.5423,  35.8568,2,  35.8556,2, 220.6813,2, 220.7017,2,     0.3,2,    0.65,2,    0.14,2,    0.12,2,-999.000,9,-999.000,9,-999.0000,9,  -999.0,9, -999.00,9,-999.0000,9, -999.00,9, -999.00,9, -999.00,    59.4,2,    4.90,2,     -999.0,1,  -999.0,9, 20170715,     1348, -30.0803, 169.4981,        0.0,1,      0.143,1,      0.977,1,      0.199,1,     -999.0,     -999.0,9,     -999.0,9,     -999.0,9,     -999.0,9,    19.5370,2,     -999.0,9
320620170703,        P06,      55,          1,         35,         35,2,20170715,       1352,   -30.0805,   169.4980,       2714,    20.2,  19.5368,  35.8552,2,  35.8572,2, 220.5140,2, 220.9587,2,     0.3,2,    0.64,2,    0.14,2,    0.12,2,   1.804,2,   1.140,2,   1.1070,2,  2059.5,2, -999.00,9,-999.0000,9, -999.00,9, -999.00,9, -999.00,    57.4,2,    4.40,2,     -999.0,1,  -999.0,9, 20170715,     1350, -30.0804, 169.4980,        0.0,1,      0.146,1,      4.020,1,      0.200,1,     -999.0,     -999.0,9,     -999.0,9,     -999.0,9,     -999.0,9,    19.5456,2,     -999.0,9
320620170703,        P06,      55,          1,         36,         36,2,20170715,       1352,   -30.0805,   169.4980,       2714,     5.3,  19.5312,  35.8561,2,  35.8550,2, 220.6811,2, 220.8165,2,     0.4,2,    0.64,2,    0.14,2,    0.13,2,   1.828,2,   1.153,2,   1.1410,2,  2061.1,6, 2345.21,2,   8.0064,2, -999.00,9, -999.00,9, -999.00,    57.6,2,    5.50,2,     -999.0,1,  -999.0,9, 20170715,     1352, -30.0805, 169.4980,        0.0,1,      0.149,1,      4.170,1,      0.190,1,      25.00,     -999.0,9,     -999.0,9,     -999.0,9,     -999.0,9,    19.5437,2,     -999.0,9