BOTTLE,20230922CCHSIOCBG
EXPOCODE,SECT_ID,STNNBR,CASTNO,SAMPNO,BTLNBR,BTLNBR_FLAG_W,DATE,TIME,LATITUDE,LONGITUDE,DEPTH,CTDPRS,CTDTMP,CTDSAL,CTDSAL_FLAG_W,SALNTY,SALNTY_FLAG_W,CTDOXY,CTDOXY_FLAG_W,OXYGEN,OXYGEN_FLAG_W,SILCAT,SILCAT_FLAG_W,NITRAT,NITRAT_FLAG_W,NITRIT,NITRIT_FLAG_W,PHSPHT,PHSPHT_FLAG_W,CFC-11,CFC-11_FLAG_W,CFC-12,CFC-12_FLAG_W,SF6,SF6_FLAG_W,TCARBN,TCARBN_FLAG_W,ALKALI,ALKALI_FLAG_W,PH_TOT,PH_TOT_FLAG_W,DELC13,DELC13_FLAG_W,DELC14,DELC14_FLAG_W,C14ERR,DOC,DOC_FLAG_W,TDN,TDN_FLAG_W,TON,TON_FLAG_W,D15N_NO3,D15N_NO3_FLAG_W,BTL_DATE,BTL_TIME,BTL_LAT,BTL_LON,CTDRINKO,CTDRINKO_FLAG_W,CTDFLUOR,CTDFLUOR_FLAG_W,CTDXMISS,CTDXMISS_FLAG_W,CTDBACKSCATTER,CTDBACKSCATTER_FLAG_W,PH_TMP,D18O_NO3,D18O_NO3_FLAG_W,DOP,DOP_FLAG_W,HPLC,HPLC_FLAG_W,POC,POC_FLAG_W,REFTMP,REFTMP_FLAG_W,TDP,TDP_FLAG_W
,,,,,,,,,,,METERS,DBAR,ITS-90,PSS-78,,PSS-78,,UMOL/KG,,UMOL/KG,,UMOL/KG,,UMOL/KG,,UMOL/KG,,UMOL/KG,,PMOL/KG,,PMOL/KG,,FMOL/KG,,UMOL/KG,,UMOL/KG,,,,/MILLE,,/MILLE,,/MILLE,UMOL/KG,,UMOL/KG,,UMOL/KG,,/MILLE,,,,,,VOLTS,,VOLTS,,VOLTS,,VOLTS,,DEGC,/MILLE,,UMOL/KG,,,,UG/L,,ITS-90,,UMOL/KG,
320620170703,        P06,      59,          1,         33,         33,2,20170716,       0927,   -30.0793,   170.9998,       2143,     3.2,  19.2879,  35.8292,2,  35.8323,2, 221.7425,2, 222.6632,2,     0.2,2,    0.65,2,    0.17,2,    0.14,2,   1.623,4,   1.313,2,-999.0000,5,  2058.0,6, 2344.48,2,   8.0059,2, -999.00,9, -999.00,9, -999.00,  -999.0,9, -999.00,9,     -999.0,9,  -999.0,1, 20170716,      927, -30.0793, 170.9998,        0.0,1,      0.170,1,      3.934,1,      0.186,1,      25.00,     -999.0,1,     -999.0,9,     -999.0,9,     -999.0,9,    19.2903,2,     -999.0,9
320620170703,        P06,      60,          1,          1,         37,2,20170716,       1328,   -30.0799,   171.1589,       1921,  1934.5,   2.5464,  34.6165,2,  34.6164,2, 157.0049,2, 156.8959,2,   103.7,2,   34.61,2,    0.00,2,    2.38,2,-999.000,9,-999.000,9,-999.0000,9,  2287.8,6, -999.00,9,   7.5805,2, -999.00,9, -999.00,9, -999.00,    36.2,2, -999.00,9,     -999.0,1,  -999.0,9, 20170716,     1210, -30.0804, 171.1593,        0.0,1,      0.061,1,      3.277,1,      0.158,1,      25.04,     -999.0,9,     -999.0,9,     -999.0,9,     -999.0,9,     2.5505,2,     -999.0,9
320620170703,        P06,      60,          1,          2,          2,2,20170716,       1328,   -30.0799,   171.1589,       1921,  1907.0,   2.5584,  34.6154,2,  34.6152,2, 157.0323,2, 156.7707,2,   103.8,2,   34.60,2,    0.00,2,    2.38,2,-999.000,9,-999.000,9,-999.0000,9,  -999.0,9, -999.00,9,-999.0000,9, -999.00,9, -999.00,9, -999.00,  -999.0,9, -999.00,9,     -999.0,9,  -999.0,9, 20170716,     1212, -30.0805, 171.1593,        0.0,1,      0.061,1,      3.063,1,      0.152,1,     -999.0,     -999.0,9,     -999.0,9,     -999.0,9,     -999.0,9,     2.5566,2,     -999.0,9
320620170703,        P06,      60,          1,          3,         38,2,20170716,       1328,   -30.0799,   171.1589,       1921,  1853.6,   2.6434,  34.6086,2,  34.6077,2, 157.6140,2, 157.6263,2,   101.3,2,   34.50,2,    0.00,2,    2.38,2,-999.000,9,-999.000,9,-999.0000,9,  2283.4,2, -999.00,9,-999.0000,9, -999.00,9, -999.00,9, -999.00,    36.4,2, -999.00,9,     -999.0,1,  -999.0,9, 20170716,     1215, -30.0805, 171.1594,        0.0,1,      0.061,1,      0.553,1,      0.152,1,     -999.0,     -999.0,9,     -999.0,9,     -999.0,9,     -999.0,9,     2.6432,2,     -999.0,9
320620170703,        P06,      60,          1,          4,          4,2,20170716,       1328,   -30.0799,   171.1589,       1921,  1754.4,   2.7888,  34.5964,2,  34.5948,2, 158.6162,2, 159.0883,2,    97.0,2,   34.27,2,    0.00,2,    2.35,2,-999.000,9,-999.000,9,-999.0000,9,  -999.0,9, -999.00,9,-999.0000,9, -999.00,9, -999.00,9, -999.00,    36.9,2, -999.00,9,     -999.0,1,  -999.0,9, 20170716,     1219, -30.0806, 171.1594,        0.0,1,      0.061,1,      1.872,1,      0.155,1,     -999.0,     -999.0,9,     -999.0,9,     -999.0,9,     -999.0,9,     2.7921,2,     -999.0,9
320620170703,        P06,      60,          1,          5,         39,2,20170716,       1328,   -30.0799,   171.1589,       1921,  1651.6,   3.0517,  34.5734,2,  34.5732,2, 160.7540,2, 160.9576,2,    89.5,2,   33.93,2,    0.00,2,    2.33,2,-999.000,9,-999.000,9,-999.0000,9,  2269.9,2, -999.00,9,   7.5864,2, -999.00,9, -999.00,9, -999.00,    36.2,2, -999.00,9,     -999.0,1,  -999.0,9, 20170716,     1223, -30.0805, 171.1593,        0.0,1,      0.061,1,      1.995,1,      0.145,1,      25.04,     -999.0,9,     -999.0,9,     -999.0,9,     -999.0,9,     3.0320,2,     -999.0,9
320620170703,        P06,      60,          1,          6,          6,2,20170716,       1328,   -30.0799,   171.1589,       1921,  1550.5,   3.3375,  34.5490,2,  34.5476,2, 164.2316,2, 164.3415,2,    80.8,2,   33.46,2,    0.00,2,    2.30,2,-999.000,9,-999.000,9,-999.0000,9,  -999.0,9, -999.00,9,-999.0000,9, -999.00,9, -999.00,9, -999.00,  -999.0,9, -999.00,9,     -999.0,9,  -999.0,9, 20170716,     1226, -30.0802, 171.1592,        0.0,1,      0.061,1,      2.475,1,      0.143,1,     -999.0,     -999.0,9,     -999.0,9,     -999.0,9,     -999.0,9,     3.3426,2,     -999.0,9
320620170703,        P06,      60,          1,          7,         40,2,20170716,       1328,   -30.0799,   171.1589,       1921,  1449.9,   3.5902,  34.5279,2,  34.5229,2, 168.7649,2, 168.1847,2,    72.9,2,   32.93,2,    0.00,2,    2.25,2,-999.000,9,-999.000,9,-999.0000,9,  2249.5,2, -999.00,9,-999.0000,9, -999.00,9, -999.00,9, -999.00,    37.9,2, -999.00,9,     -999.0,1,  -999.0,9, 20170716,     1230, -30.0802, 171.1592,        0.0,1,      0.061,1,      0.047,1,      0.142,1,     -999.0,     -999.0,9,     -999.0,9,     -999.0,9,     -999.0,9,     3.6398,2,     -999.0,9
320620170703,        P06,      60,          1,          8,          8,2,20170716,       1328,   -30.0799,   171.1589,       1921,  1348.0,   3.9874,  34.4955,2,  34.4921,2, 173.2190,2, 173.6800,2,    62.4,2,   32.22,2,    0.00,2,    2.20,2,-999.000,9,-999.000,9,-999.0000,9,  -999.0,9, -999.00,9,-999.0000,9, -999.00,9, -999.00,9, -999.00,    37.5,2, -999.00,9,     -999.0,1,  -999.0,9, 20170716,     1233, -30.0802, 171.1592,        0.0,1,      0.061,1,      0.279,1,      0.141,1,     -999.0,     -999.0,9,     -999.0,9,     -999.0,9,     -999.0,9,     3.9989,2,     -999.0,9
320620170703,        P06,      60,          1,          9,         41,2,20170716,       1328,   -30.0799,   171.1589,       1921,  1247.3,   4.3666,  34.4767,2,  34.4716,3, 178.9888,2, 178.3132,2,    53.2,2,   31.34,2,    0.00,2,    2.13,2,-999.000,9,-999.000,9,-999.0000,9,  2222.1,2, -999.00,9,   7.6134,2, -999.00,9, -999.00,9, -999.00,    37.9,2, -999.00,9,     -999.0,1,  -999.0,9, 20170716,     1237, -30.0804, 171.1593,        0.0,1,      0.061,1,      1.901,1,      0.143,1,      25.04,     -999.0,9,     -999.0,9,     -999.0,9,     -999.0,9,     4.4657,2,     -999.0,9
320620170703,        P06,      60,          1,         10,         10,2,20170716,       1328,   -30.0799,   171.1589,       1921,  1146.0,   5.1107,  34.4672,2,  34.4595,2, 185.6321,2, 185.7590,2,    41.3,2,   29.80,2,    0.00,2,    2.00,2,-999.000,9,-999.000,9,-999.0000,9,  -999.0,9, -999.00,9,-999.0000,9, -999.00,9, -999.00,9, -999.00,    39.2,2, -999.00,9,     -999.0,1,  -999.0,9, 20170716,     1240, -30.0805, 171.1593,        0.0,1,      0.061,1,      3.659,1,      0.141,1,     -999.0,     -999.0,9,     -999.0,9,     -999.0,9,     -999.0,9,     5.1268,2,     -999.0,9
320620170703,        P06,      60,          1,         11,         42,2,20170716,       1328,   -30.0799,   171.1589,       1921,  1044.0,   5.8653,  34.4411,2,  34.4426,2, 194.0888,2, 194.2637,2,    31.0,2,   28.20,2,    0.00,2,    1.90,2,-999.000,9,-999.000,9,-999.0000,9,  2189.2,2, -999.00,9,-999.0000,9, -999.00,9, -999.00,9, -999.00,    42.7,3, -999.00,9,     -999.0,1,  -999.0,9, 20170716,     1244, -30.0805, 171.1593,        0.0,1,      0.059,1,      4.342,1,      0.139,1,     -999.0,     -999.0,9,     -999.0,9,     -999.0,9,     -999.0,9,     5.6808,2,     -999.0,9
320620170703,        P06,      60,          1,         12,         12,2,20170716,       1328,   -30.0799,   171.1589,       1921,   943.4,   7.0269,  34.5277,2,  34.4443,2, 203.0272,2, 203.1068,2,    22.1,2,   26.34,2,    0.00,2,    1.77,2,-999.000,9,-999.000,9,-999.0000,9,  -999.0,9, -999.00,9,-999.0000,9, -999.00,9, -999.00,9, -999.00,    40.9,2, -999.00,9,     -999.0,1,  -999.0,9, 20170716,     1248, -30.0803, 171.1592,        0.0,1,      0.059,1,      0.007,1,      0.145,1,     -999.0,     -999.0,9,     -999.0,9,     -999.0,9,     -999.0,9,     6.3396,2,     -999.0,9
320620170703,        P06,      60,          1,         13,         43,2,20170716,       1328,   -30.0799,   171.1589,       1921,   841.5,   7.4294,  34.5050,2,  34.4866,2, 207.3588,2, 207.6646,2,    15.5,2,   24.12,2,    0.00,2,    1.61,2,-999.000,9,-999.000,9,-999.0000,9,  2163.8,2, -999.00,9,   7.6895,2, -999.00,9, -999.00,9, -999.00,    41.1,2, -999.00,9,     -999.0,1,  -999.0,9, 20170716,     1251, -30.0800, 171.1590,        0.0,1,      0.060,1,      0.459,1,      0.143,1,      25.03,     -999.0,9,     -999.0,9,     -999.0,9,     -999.0,9,     7.1976,2,     -999.0,9
320620170703,        P06,      60,          1,         14,         14,2,20170716,       1328,   -30.0799,   171.1589,       1921,   741.0,   8.5661,  34.6157,2,  34.5865,2, 204.9310,2, 205.0992,2,    11.6,2,   21.80,2,    0.00,2,    1.45,2,-999.000,9,-999.000,9,-999.0000,9,  -999.0,9, -999.00,9,-999.0000,9, -999.00,9, -999.00,9, -999.00,    42.6,2, -999.00,9,     -999.0,1,  -999.0,9, 20170716,     1254, -30.0796, 171.1589,        0.0,1,      0.059,1,      0.066,1,      0.145,1,     -999.0,     -999.0,9,     -999.0,9,     -999.0,9,     -999.0,9,     8.2739,2,     -999.0,9
320620170703,        P06,      60,          1,         15,         15,2,20170716,       1328,   -30.0799,   171.1589,       1921,   639.7,   9.9880,  34.7848,2,  34.7406,2, 199.7387,2, 199.3689,2,     9.8,2,   19.50,2,    0.00,2,    1.30,2,-999.000,9,-999.000,9,-999.0000,9,  2151.4,2, -999.00,9,-999.0000,9, -999.00,9, -999.00,9, -999.00,    42.8,2, -999.00,9,     -999.0,1,  -999.0,9, 20170716,     1258, -30.0795, 171.1589,        0.0,1,      0.059,1,      0.883,1,      0.144,1,     -999.0,     -999.0,9,     -999.0,9,     -999.0,9,     -999.0,9,     9.5044,2,     -999.0,9
320620170703,        P06,      60,          1,         16,         16,2,20170716,       1328,   -30.0799,   171.1589,       1921,   538.3,  11.3439,  34.9522,2,  34.9219,2, 198.2339,2, 198.0310,2,     6.7,2,   16.06,2,    0.00,2,    1.07,2,-999.000,9,-999.000,9,-999.0000,9,  -999.0,9, -999.00,9,-999.0000,9, -999.00,9, -999.00,9, -999.00,    44.8,2, -999.00,9,     -999.0,1,  -999.0,9, 20170716,     1300, -30.0797, 171.1589,        0.0,1,      0.060,1,      0.009,1,      0.146,1,     -999.0,     -999.0,9,     -999.0,9,     -999.0,9,     -999.0,9,    11.1226,2,     -999.0,9
320620170703,        P06,      60,          1,         17,         17,2,20170716,       1328,   -30.0799,   171.1589,       1921,   467.5,  12.5048,  35.0618,2,  35.0484,2, 196.4680,2, 196.7254,2,     4.5,2,   13.53,2,    0.00,2,    0.91,2,-999.000,9,-999.000,9,-999.0000,9,  2129.5,2, -999.00,9,   7.8005,2, -999.00,9, -999.00,9, -999.00,    45.8,2,   16.50,2,     -999.0,1,  -999.0,9, 20170716,     1303, -30.0797, 171.1589,        0.0,1,      0.060,1,      0.016,1,      0.146,1,      25.05,     -999.0,9,     -999.0,9,     -999.0,9,     -999.0,9,    12.3828,2,     -999.0,9
320620170703,        P06,      60,          1,         18,         18,2,20170716,       1328,   -30.0799,   171.1589,       1921,   416.4,  13.2346,  35.1445,2,  35.1380,2, 195.9042,2, 195.8215,2,     3.6,2,   12.00,2,    0.00,2,    0.81,2,-999.000,9,-999.000,9,-999.0000,9,  -999.0,9, -999.00,9,-999.0000,9, -999.00,9, -999.00,9, -999.00,  -999.0,9, -999.00,9,     -999.0,9,  -999.0,9, 20170716,     1305, -30.0798, 171.1590,        0.0,1,      0.059,1,      0.449,1,      0.151,1,     -999.0,     -999.0,9,     -999.0,9,     -999.0,9,     -999.0,9,    13.1803,2,     -999.0,9
320620170703,        P06,      60,          1,         19,         19,2,20170716,       1328,   -30.0799,   171.1589,       1921,   366.7,  14.5196,  35.2827,2,  35.2682,2, 195.4112,2, 195.4776,2,     2.6,2,    9.93,2,    0.00,2,    0.67,2,-999.000,9,-999.000,9,-999.0000,9,  2115.5,2, -999.00,9,-999.0000,9, -999.00,9, -999.00,9, -999.00,    46.4,2,   12.50,2,     -999.0,1,  -999.0,9, 20170716,     1307, -30.0799, 171.1590,        0.0,1,      0.059,1,      0.463,1,      0.145,1,     -999.0,     -999.0,9,     -999.0,9,     -999.0,9,     -999.0,9,    14.3922,2,     -999.0,9
320620170703,        P06,      60,          1,         20,         20,2,20170716,       1328,   -30.0799,   171.1589,       1921,   316.6,  15.3759,  35.3726,2,  35.4160,2, 194.6372,2, 194.7120,2,     1.8,2,    7.85,2,    0.00,2,    0.54,2,-999.000,9,-999.000,9,-999.0000,9,  -999.0,9, -999.00,9,-999.0000,9, -999.00,9, -999.00,9, -999.00,  -999.0,9, -999.00,9,     -999.0,9,  -999.0,9, 20170716,     1309, -30.0800, 171.1590,        0.0,1,      0.060,1,      0.102,1,      0.146,1,     -999.0,     -999.0,9,     -999.0,9,     -999.0,9,     -999.0,9,    15.8207,2,     -999.0,9
320620170703,        P06,      60,          1,         21,         21,2,20170716,       1328,   -30.0799,   171.1589,       1921,   267.1,  16.3946,  35.4766,2,  35.5131,2, 195.6630,2, 195.7083,2,     1.4,2,    6.42,2,    0.00,2,    0.45,2,-999.000,9,-999.000,9,-999.0000,9,  2095.6,2, -999.00,9,   7.9108,2, -999.00,9, -999.00,9, -999.00,    47.6,2,    9.10,2,     -999.0,1,  -999.0,9, 20170716,     1311, -30.0801, 171.1590,        0.0,1,      0.060,1,      4.414,1,      0.145,1,      25.04,     -999.0,9,     -999.0,9,     -999.0,9,     -999.0,9,    16.8203,2,     -999.0,9
320620170703,        P06,      60,          1,         22,         22,2,20170716,       1328,   -30.0799,   171.1589,       1921,   236.7,  17.3349,  35.5672,2,  35.5869,2, 197.2410,2, 196.6594,2,     0.9,2,    5.27,2,    0.02,2,    0.37,2,-999.000,9,-999.000,9,-999.0000,9,  -999.0,9, -999.00,9,-999.0000,9, -999.00,9, -999.00,9, -999.00,  -999.0,9, -999.00,9,     -999.0,9,  -999.0,9, 20170716,     1312, -30.0801, 171.1591,        0.0,1,      0.060,1,      2.159,1,      0.152,1,     -999.0,     -999.0,9,     -999.0,9,     -999.0,9,     -999.0,9,    17.6433,2,     -999.0,9
320620170703,        P06,      60,          1,         23,         23,2,20170716,       1328,   -30.0799,   171.1589,       1921,   211.6,  18.4229,  35.6726,2,  35.6409,2, 200.2444,2, 200.2147,2,     0.6,2,    4.26,2,    0.03,2,    0.31,2,-999.000,9,-999.000,9,-999.0000,9,  2081.0,2, -999.00,9,-999.0000,9, -999.00,9, -999.00,9, -999.00,    50.2,2,    7.40,2,     -999.0,1,  -999.0,9, 20170716,     1314, -30.0802, 171.1591,        0.0,1,      0.066,1,      4.581,1,      0.157,1,     -999.0,     -999.0,9,     -999.0,9,     -999.0,9,     -999.0,9,    18.2303,2,     -999.0,9
320620170703,        P06,      60,          1,         24,         24,2,20170716,       1328,   -30.0799,   171.1589,       1921,   186.8,  19.2982,  35.8235,2,  35.7485,2, 211.9646,2, 212.3096,2,     0.2,2,    2.20,2,    0.12,2,    0.19,2,-999.000,9,-999.000,9,-999.0000,9,  -999.0,9, -999.00,9,-999.0000,9, -999.00,9, -999.00,9, -999.00,    53.1,2,    6.10,2,     -999.0,1,  -999.0,9, 20170716,     1316, -30.0803, 171.1592,        0.0,1,      0.158,1,      4.637,1,      0.197,1,     -999.0,     -999.0,9,     -999.0,9,     -999.0,9,     -999.0,9,    18.9127,2,     -999.0,9
320620170703,        P06,      60,          1,         25,         25,2,20170716,       1328,   -30.0799,   171.1589,       1921,   160.9,  19.2959,  35.8241,2,  35.8218,2, 221.7857,2, 221.5294,2,     0.0,2,    0.89,2,    0.18,2,    0.10,2,-999.000,9,-999.000,9,-999.0000,9,  2061.8,2, -999.00,9,   8.0032,2, -999.00,9, -999.00,9, -999.00,    56.3,2,    4.50,2,     -999.0,1,  -999.0,9, 20170716,     1318, -30.0804, 171.1592,        0.0,1,      0.153,1,      4.631,1,      0.199,1,      25.03,     -999.0,9,     -999.0,9,     -999.0,9,     -999.0,9,    19.2898,2,     -999.0,9
320620170703,        P06,      60,          1,         26,         26,2,20170716,       1328,   -30.0799,   171.1589,       1921,   134.9,  19.2914,  35.8239,2,  35.8230,2, 221.7752,2, 222.3944,2,     0.0,2,    0.88,2,    0.19,2,    0.11,2,-999.000,9,-999.000,9,-999.0000,9,  -999.0,9, -999.00,9,-999.0000,9, -999.00,9, -999.00,9, -999.00,    55.3,2,    4.40,2,     -999.0,1,  -999.0,9, 20170716,     1319, -30.0804, 171.1593,        0.0,1,      0.152,1,      4.637,1,      0.197,1,     -999.0,     -999.0,9,     -999.0,9,     -999.0,9,     -999.0,9,    19.2859,2,     -999.0,9
320620170703,        P06,      60,          1,         27,         27,2,20170716,       1328,   -30.0799,   171.1589,       1921,   110.2,  19.2884,  35.8242,2,  35.8244,2, 222.8992,3, 208.5597,3,     0.1,2,    0.87,2,    0.19,2,    0.10,2,-999.000,9,-999.000,9,-999.0000,9,  2061.4,2, -999.00,9,-999.0000,9, -999.00,9, -999.00,9, -999.00,    55.9,2,    5.10,2,     -999.0,1,  -999.0,9, 20170716,     1321, -30.0804, 171.1593,        0.0,1,      0.150,1,      4.637,1,      0.195,1,     -999.0,     -999.0,9,     -999.0,9,     -999.0,9,     -999.0,9,    19.2812,2,     -999.0,9
320620170703,        P06,      60,          1,         28,         28,2,20170716,       1328,   -30.0799,   171.1589,       1921,    84.7,  19.2859,  35.8244,2,  35.8271,2, 222.0081,2, 222.0087,2,     0.1,2,    0.88,2,    0.19,2,    0.11,2,-999.000,9,-999.000,9,-999.0000,9,  -999.0,9, -999.00,9,-999.0000,9, -999.00,9, -999.00,9, -999.00,    57.2,2,    4.40,2,     -999.0,1,  -999.0,9, 20170716,     1323, -30.0803, 171.1591,        0.0,1,      0.151,1,      4.639,1,      0.197,1,     -999.0,     -999.0,9,     -999.0,9,     -999.0,9,     -999.0,9,    19.2777,2,     -999.0,9
320620170703,        P06,      60,          1,         29,         29,2,20170716,       1328,   -30.0799,   171.1589,       1921,    61.0,  19.2843,  35.8248,2,  35.8238,2, 222.0454,2, 221.9885,2,     0.0,2,    0.88,2,    0.19,2,    0.11,2,-999.000,9,-999.000,9,-999.0000,9,  2060.7,2, -999.00,9,   8.0039,2, -999.00,9, -999.00,9, -999.00,    54.9,2,    5.00,2,     -999.0,1,  -999.0,9, 20170716,     1324, -30.0801, 171.1590,        0.0,1,      0.150,1,      4.639,1,      0.195,1,      25.05,     -999.0,9,     -999.0,9,     -999.0,9,     -999.0,9,    19.2756,2,     -999.0,9
320620170703,        P06,      60,          1,         30,         30,2,20170716,       1328,   -30.0799,   171.1589,       1921,    34.3,  19.2788,  35.8242,2,  35.8240,2, 221.4951,2, 221.8298,2,     0.0,2,    0.91,2,    0.19,2,    0.12,2,-999.000,9,-999.000,9,-999.0000,9,  -999.0,9, -999.00,9,-999.0000,9, -999.00,9, -999.00,9, -999.00,    56.4,2,    5.10,2,     -999.0,1,  -999.0,9, 20170716,     1326, -30.0801, 171.1590,        0.0,1,      0.151,1,      4.639,1,      0.196,1,     -999.0,     -999.0,9,     -999.0,9,     -999.0,9,     -999.0,9,    19.2738,2,     -999.0,9
320620170703,        P06,      60,          1,         31,         31,2,20170716,       1328,   -30.0799,   171.1589,       1921,     5.2,  19.2700,  35.8229,2,  35.8244,2, 222.1717,2, 221.9225,2,     0.1,2,    0.91,2,    0.19,2,    0.12,2,-999.000,9,-999.000,9,-999.0000,9,  2059.9,6, -999.00,9,   8.0046,2, -999.00,9, -999.00,9, -999.00,    55.4,2,    5.20,2,     -999.0,1,  -999.0,9, 20170716,     1328, -30.0799, 171.1589,        0.0,1,      0.174,1,      4.160,1,      0.190,1,      25.02,     -999.0,9,     -999.0,9,     -999.0,9,     -999.0,9,    19.2686,2,     -999.0,9