BOTTLE,20230922CCHSIOCBG
EXPOCODE,SECT_ID,STNNBR,CASTNO,SAMPNO,BTLNBR,BTLNBR_FLAG_W,DATE,TIME,LATITUDE,LONGITUDE,DEPTH,CTDPRS,CTDTMP,CTDSAL,CTDSAL_FLAG_W,SALNTY,SALNTY_FLAG_W,CTDOXY,CTDOXY_FLAG_W,OXYGEN,OXYGEN_FLAG_W,SILCAT,SILCAT_FLAG_W,NITRAT,NITRAT_FLAG_W,NITRIT,NITRIT_FLAG_W,PHSPHT,PHSPHT_FLAG_W,CFC-11,CFC-11_FLAG_W,CFC-12,CFC-12_FLAG_W,SF6,SF6_FLAG_W,TCARBN,TCARBN_FLAG_W,ALKALI,ALKALI_FLAG_W,PH_TOT,PH_TOT_FLAG_W,DELC13,DELC13_FLAG_W,DELC14,DELC14_FLAG_W,C14ERR,DOC,DOC_FLAG_W,TDN,TDN_FLAG_W,TON,TON_FLAG_W,D15N_NO3,D15N_NO3_FLAG_W,BTL_DATE,BTL_TIME,BTL_LAT,BTL_LON,CTDRINKO,CTDRINKO_FLAG_W,CTDFLUOR,CTDFLUOR_FLAG_W,CTDXMISS,CTDXMISS_FLAG_W,CTDBACKSCATTER,CTDBACKSCATTER_FLAG_W,PH_TMP,D18O_NO3,D18O_NO3_FLAG_W,DOP,DOP_FLAG_W,HPLC,HPLC_FLAG_W,POC,POC_FLAG_W,REFTMP,REFTMP_FLAG_W,TDP,TDP_FLAG_W
,,,,,,,,,,,METERS,DBAR,ITS-90,PSS-78,,PSS-78,,UMOL/KG,,UMOL/KG,,UMOL/KG,,UMOL/KG,,UMOL/KG,,UMOL/KG,,PMOL/KG,,PMOL/KG,,FMOL/KG,,UMOL/KG,,UMOL/KG,,,,/MILLE,,/MILLE,,/MILLE,UMOL/KG,,UMOL/KG,,UMOL/KG,,/MILLE,,,,,,VOLTS,,VOLTS,,VOLTS,,VOLTS,,DEGC,/MILLE,,UMOL/KG,,,,UG/L,,ITS-90,,UMOL/KG,
320620170703,        P06,     140,          1,          1,          1,2,20170812,       1549,   -32.5006,  -150.9182,       5285,  5380.1,   1.1576,  34.7095,2,  34.7125,2, 203.8003,2, 204.8378,2,   120.8,2,   32.25,2,    0.00,2,    2.21,2,   0.087,2,   0.052,2,   0.0000,2,  2265.0,6, 2369.54,2,   7.6070,2, -999.00,9, -999.00,9, -999.00,    39.0,2, -999.00,9,     -999.0,1,  -999.0,9, 20170812,     1330, -32.5003,-150.9187,        0.0,1,      0.061,1,      4.694,1,      0.126,1,      25.02,     -999.0,9,     -999.0,9,     -999.0,9,     -999.0,9,     1.1575,2,     -999.0,9
320620170703,        P06,     140,          1,          2,          2,2,20170812,       1549,   -32.5006,  -150.9182,       5285,  5236.3,   1.1415,  34.7099,2,  34.7095,2, 203.8003,2, 204.7564,2,   120.9,2,   32.23,2,    0.00,2,    2.22,2,   0.081,2,   0.050,2,   0.0000,2,  2265.6,2, 2369.92,2,   7.6070,2, -999.00,9, -999.00,9, -999.00,  -999.0,9, -999.00,9,     -999.0,9,  -999.0,9, 20170812,     1335, -32.5000,-150.9187,        0.0,1,      0.061,1,      4.695,1,      0.125,1,      25.03,     -999.0,9,     -999.0,9,     -999.0,9,     -999.0,9,     1.1422,2,     -999.0,9
320620170703,        P06,     140,          1,          3,          3,2,20170812,       1549,   -32.5006,  -150.9182,       5285,  5095.8,   1.1355,  34.7100,2,  34.7091,2, 203.8003,2, 204.1837,2,   120.6,2,   32.22,2,    0.00,2,    2.23,2,   0.068,2,   0.042,2,   0.0000,2,  2265.8,2, 2370.70,6,   7.6078,2, -999.00,9, -999.00,9, -999.00,    38.9,2, -999.00,9,     -999.0,1,  -999.0,9, 20170812,     1340, -32.5000,-150.9187,        0.0,1,      0.061,1,      4.695,1,      0.125,1,      25.03,     -999.0,9,     -999.0,9,     -999.0,9,     -999.0,9,     1.1372,2,     -999.0,9
320620170703,        P06,     140,          1,          4,          4,2,20170812,       1549,   -32.5006,  -150.9182,       5285,  4682.1,   1.1563,  34.7107,2,  34.7103,2, 204.0161,2, 202.1378,2,   119.5,2,   32.23,2,    0.00,2,    2.24,2,   0.050,2,   0.035,2,   0.0000,2,  2266.6,2, 2372.65,2,   7.6073,2, -999.00,9, -999.00,9, -999.00,  -999.0,9, -999.00,9,     -999.0,9,  -999.0,9, 20170812,     1349, -32.5001,-150.9187,        0.0,1,      0.060,1,      4.697,1,      0.123,1,      25.03,     -999.0,9,     -999.0,9,     -999.0,9,     -999.0,9,     1.1531,2,     -999.0,9
320620170703,        P06,     140,          1,          5,          5,2,20170812,       1549,   -32.5006,  -150.9182,       5285,  4273.6,   1.2529,  34.7129,2,  34.7121,2, 198.4859,2, 198.6715,2,   116.5,2,   32.24,2,    0.00,2,    2.23,2,   0.034,2,   0.028,2,   0.0000,2,  2267.5,2, 2372.80,2,   7.6068,2, -999.00,9, -999.00,9, -999.00,    38.2,2, -999.00,9,     -999.0,1,  -999.0,9, 20170812,     1357, -32.5001,-150.9187,        0.0,1,      0.061,1,      4.697,1,      0.124,1,      25.03,     -999.0,9,     -999.0,9,     -999.0,9,     -999.0,9,     1.2574,2,     -999.0,9
320620170703,        P06,     140,          1,          6,          6,2,20170812,       1549,   -32.5006,  -150.9182,       5285,  3860.9,   1.4639,  34.7083,2,  34.7131,2, 187.1689,2, 187.2162,2,   116.7,2,   32.81,2,    0.00,2,    2.28,2,   0.029,2,   0.023,2,   0.0000,2,  2275.8,2, 2376.70,2,   7.5986,2, -999.00,9, -999.00,9, -999.00,    36.8,2, -999.00,9,     -999.0,1,  -999.0,9, 20170812,     1405, -32.5000,-150.9187,        0.0,1,      0.061,1,      4.697,1,      0.124,1,      25.04,     -999.0,9,     -999.0,9,     -999.0,9,     -999.0,9,     1.4594,2,     -999.0,9
320620170703,        P06,     140,          1,          7,          7,2,20170812,       1549,   -32.5006,  -150.9182,       5285,  3553.9,   1.5744,  34.6942,2,  34.6946,2, 174.3446,3, 172.2443,2,   123.5,2,   34.02,2,    0.00,2,    2.35,2,   0.024,2,   0.019,2,   0.0000,2,  2293.2,2, 2389.50,2,   7.5874,2, -999.00,9, -999.00,9, -999.00,    36.4,2, -999.00,9,     -999.0,1,  -999.0,9, 20170812,     1412, -32.5002,-150.9187,        0.0,1,      0.061,1,      4.697,1,      0.125,1,      25.03,     -999.0,9,     -999.0,9,     -999.0,9,     -999.0,9,     1.5777,2,     -999.0,9
320620170703,        P06,     140,          1,          8,          8,2,20170812,       1549,   -32.5006,  -150.9182,       5285,  3248.0,   1.6615,  34.6809,2,  34.6796,2, 161.6488,2, 160.2555,2,   129.1,2,   35.13,2,    0.00,2,    2.43,2,   0.021,2,   0.020,2,   0.0000,2,  2307.9,2, 2402.26,2,   7.5771,2, -999.00,9, -999.00,9, -999.00,  -999.0,9, -999.00,9,     -999.0,9,  -999.0,9, 20170812,     1418, -32.5003,-150.9186,        0.0,1,      0.063,1,      4.697,1,      0.127,1,      25.04,     -999.0,9,     -999.0,9,     -999.0,9,     -999.0,9,     1.6773,2,     -999.0,9
320620170703,        P06,     140,          1,          9,          9,2,20170812,       1549,   -32.5006,  -150.9182,       5285,  2954.1,   1.7693,  34.6704,2,  34.6706,3, 154.0213,3, 152.4795,2,   130.2,2,   35.72,2,    0.00,2,    2.48,2,   0.020,2,   0.015,2,   0.0000,2,  2313.3,2, 2403.34,2,   7.5716,2, -999.00,9, -999.00,9, -999.00,    35.3,2, -999.00,9,     -999.0,1,  -999.0,9, 20170812,     1424, -32.4998,-150.9186,        0.0,1,      0.061,1,      4.697,1,      0.127,1,      25.02,     -999.0,9,     -999.0,9,     -999.0,9,     -999.0,9,     1.7664,2,     -999.0,9
320620170703,        P06,     140,          1,         10,         10,2,20170812,       1549,   -32.5006,  -150.9182,       5285,  2698.9,   1.8471,  34.6631,2,  34.6622,2, 149.5759,2, 150.0884,2,   127.7,2,   35.86,2,    0.00,2,    2.48,2,   0.021,2,   0.016,2,   0.0000,2,  2314.1,2, 2398.68,2,   7.5692,2, -999.00,9, -999.00,9, -999.00,  -999.0,9, -999.00,9,     -999.0,9,  -999.0,9, 20170812,     1430, -32.4997,-150.9185,        0.0,1,      0.061,1,      4.698,1,      0.128,1,      25.02,     -999.0,9,     -999.0,9,     -999.0,9,     -999.0,9,     1.8537,2,     -999.0,9
320620170703,        P06,     140,          1,         11,         11,2,20170812,       1549,   -32.5006,  -150.9182,       5285,  2444.5,   1.9498,  34.6541,2,  34.6539,2, 147.7582,2, 149.0931,2,   124.2,2,   35.88,2,    0.00,2,    2.49,2,   0.019,2,   0.017,2,   0.0000,2,  2310.1,6, 2393.59,2,   7.5664,2, -999.00,9, -999.00,9, -999.00,    34.3,2, -999.00,9,     -999.0,1,  -999.0,9, 20170812,     1435, -32.4999,-150.9186,        0.0,1,      0.061,1,      4.698,1,      0.128,1,      25.03,     -999.0,9,     -999.0,9,     -999.0,9,     -999.0,9,     1.9514,2,     -999.0,9
320620170703,        P06,     140,          1,         12,         12,2,20170812,       1549,   -32.5006,  -150.9182,       5285,  2191.8,   2.0817,  34.6432,2,  34.6431,3, 147.9502,3, 149.8675,2,   117.1,2,   35.69,2,    0.00,2,    2.47,2,   0.018,2,   0.016,2,   0.0000,2,  2304.5,2, 2390.49,2,   7.5663,2, -999.00,9, -999.00,9, -999.00,  -999.0,9, -999.00,9,     -999.0,9,  -999.0,9, 20170812,     1441, -32.4999,-150.9186,        0.0,1,      0.061,1,      4.698,1,      0.130,1,      25.02,     -999.0,9,     -999.0,9,     -999.0,9,     -999.0,9,     2.0920,2,     -999.0,9
320620170703,        P06,     140,          1,         13,         13,2,20170812,       1549,   -32.5006,  -150.9182,       5285,  1956.6,   2.2765,  34.6226,2,  34.6229,2, 150.4278,3, 152.3755,2,   107.4,2,   35.38,2,    0.00,2,    2.44,2,   0.024,2,   0.020,2,   0.0000,2,  2294.9,2, 2380.83,2,   7.5670,2, -999.00,9, -999.00,9, -999.00,    38.7,2, -999.00,9,     -999.0,1,  -999.0,9, 20170812,     1446, -32.5000,-150.9186,        0.0,1,      0.061,1,      4.698,1,      0.130,1,      25.02,     -999.0,9,     -999.0,9,     -999.0,9,     -999.0,9,     2.2738,2,     -999.0,9
320620170703,        P06,     140,          1,         14,         14,2,20170812,       1549,   -32.5006,  -150.9182,       5285,  1754.6,   2.4852,  34.5898,2,  34.5916,2, 154.9645,3, 157.0570,2,    94.8,2,   35.05,2,    0.00,2,    2.41,2,   0.031,2,   0.025,2,   0.0000,2,  2281.0,2, 2358.89,2,   7.5659,2, -999.00,9, -999.00,9, -999.00,    37.3,2, -999.00,9,     -999.0,1,  -999.0,9, 20170812,     1451, -32.4998,-150.9185,        0.0,1,      0.061,1,      4.698,1,      0.128,1,      25.04,     -999.0,9,     -999.0,9,     -999.0,9,     -999.0,9,     2.4746,2,     -999.0,9
320620170703,        P06,     140,          1,         15,         15,2,20170812,       1549,   -32.5006,  -150.9182,       5285,  1550.9,   2.7183,  34.5370,2,  34.5294,2, 162.8983,3, 164.7306,2,    78.5,2,   34.75,2,    0.00,2,    2.38,2,   0.083,2,   0.054,2,   0.0000,2,  2258.2,2, 2343.53,2,   7.5656,2, -999.00,9, -999.00,9, -999.00,  -999.0,9, -999.00,9,     -999.0,9,  -999.0,9, 20170812,     1455, -32.4999,-150.9186,        0.0,1,      0.061,1,      4.698,1,      0.130,1,      25.02,     -999.0,9,     -999.0,9,     -999.0,9,     -999.0,9,     2.7454,2,     -999.0,9
320620170703,        P06,     140,          1,         16,         16,2,20170812,       1549,   -32.5006,  -150.9182,       5285,  1377.3,   3.0900,  34.4554,2,  34.4414,3, 174.6071,2, 175.1938,2,    59.7,2,   34.14,2,    0.00,2,    2.34,2,   0.291,2,   0.159,2,   0.0000,2,  2237.8,2, 2318.89,2,   7.5721,2, -999.00,9, -999.00,9, -999.00,    41.3,3, -999.00,9,     -999.0,1,  -999.0,9, 20170812,     1459, -32.5000,-150.9186,        0.0,1,      0.061,1,      4.698,1,      0.131,1,      25.02,     -999.0,9,     -999.0,9,     -999.0,9,     -999.0,9,     3.1764,2,     -999.0,9
320620170703,        P06,     140,          1,         17,         17,2,20170812,       1549,   -32.5006,  -150.9182,       5285,  1277.2,   3.4918,  34.3981,2,  34.3925,2, 183.0889,2, 183.5845,2,    49.7,2,   33.44,2,    0.00,2,    2.29,2,   0.537,2,   0.265,2,   0.0000,2,  2222.5,2, 2307.46,2,   7.5829,2, -999.00,9, -999.00,9, -999.00,  -999.0,9, -999.00,9,     -999.0,9,  -999.0,9, 20170812,     1502, -32.5001,-150.9185,        0.0,1,      0.061,1,      4.698,1,      0.131,1,      25.03,     -999.0,9,     -999.0,9,     -999.0,9,     -999.0,9,     3.5246,2,     -999.0,9
320620170703,        P06,     140,          1,         18,         18,2,20170812,       1549,   -32.5006,  -150.9182,       5285,  1177.5,   4.0187,  34.3506,2,  34.3468,3, 193.8582,2, 193.9570,2,    38.3,2,   32.14,2,    0.00,2,    2.18,2,   0.910,2,   0.438,2,   0.0000,2,  2206.5,2, -999.00,9,   7.6010,2, -999.00,9, -999.00,9, -999.00,    38.7,2, -999.00,9,     -999.0,1,  -999.0,9, 20170812,     1505, -32.5002,-150.9185,        0.0,1,      0.060,1,      4.698,1,      0.130,1,      25.03,     -999.0,9,     -999.0,9,     -999.0,9,     -999.0,9,     4.0414,2,     -999.0,9
320620170703,        P06,     140,          1,         19,         19,2,20170812,       1549,   -32.5006,  -150.9182,       5285,  1075.5,   4.6300,  34.3207,2,  34.3211,2, 203.7908,2, 202.5833,2,    29.2,2,   30.65,2,    0.00,2,    2.07,2,   1.281,2,   0.608,2,   0.0000,2,  2192.0,2, 2290.88,2,   7.6198,2, -999.00,9, -999.00,9, -999.00,  -999.0,9, -999.00,9,     -999.0,9,  -999.0,9, 20170812,     1508, -32.5000,-150.9186,        0.0,1,      0.059,1,      4.698,1,      0.131,1,      25.01,     -999.0,9,     -999.0,9,     -999.0,9,     -999.0,9,     4.5688,2,     -999.0,9
320620170703,        P06,     140,          1,         20,         20,2,20170812,       1549,   -32.5006,  -150.9182,       5285,   972.3,   5.0834,  34.3086,2,  34.3046,2, 217.2025,2, 215.9746,2,    19.8,2,   28.38,2,    0.00,2,    1.92,2,   1.908,2,   0.903,2,   0.3610,2,  2174.2,2, -999.00,9,   7.6510,2, -999.00,9, -999.00,9, -999.00,    39.5,2, -999.00,9,     -999.0,1,  -999.0,9, 20170812,     1511, -32.4999,-150.9185,        0.0,1,      0.060,1,      4.698,1,      0.132,1,      25.02,     -999.0,9,     -999.0,9,     -999.0,9,     -999.0,9,     5.2213,2,     -999.0,9
320620170703,        P06,     140,          1,         21,         21,2,20170812,       1549,   -32.5006,  -150.9182,       5285,   871.7,   5.6933,  34.3078,2,  34.3058,2, 227.9184,2, 226.0424,2,    14.5,2,   26.52,2,    0.00,2,    1.78,2,   2.427,2,   1.198,2,   0.4270,2,  2161.3,2, 2278.76,2,   7.6730,2, -999.00,9, -999.00,9, -999.00,  -999.0,9, -999.00,9,     -999.0,9,  -999.0,9, 20170812,     1514, -32.5000,-150.9185,        0.0,1,      0.059,1,      4.697,1,      0.137,1,      25.03,     -999.0,9,     -999.0,9,     -999.0,9,     -999.0,9,     5.7058,2,     -999.0,9
320620170703,        P06,     140,          1,         22,         22,2,20170812,       1549,   -32.5006,  -150.9182,       5285,   771.6,   6.3675,  34.3300,2,  34.3311,2, 239.2079,2, 238.6748,2,     9.1,2,   23.86,2,    0.00,2,    1.60,2,   3.135,4,   1.574,4,   0.6270,4,  2150.4,2, -999.00,9,   7.6987,2, -999.00,9, -999.00,9, -999.00,    40.3,2, -999.00,9,     -999.0,1,  -999.0,9, 20170812,     1517, -32.5000,-150.9185,        0.0,1,      0.060,1,      4.697,1,      0.131,1,      25.03,     -999.0,9,     -999.0,9,     -999.0,9,     -999.0,9,     6.4165,2,     -999.0,9
320620170703,        P06,     140,          1,         23,         23,2,20170812,       1549,   -32.5006,  -150.9182,       5285,   669.4,   6.8621,  34.3621,2,  34.3700,2, 242.8725,2, 242.3487,2,     6.9,2,   22.17,2,    0.00,2,    1.49,2,   3.617,2,   1.848,2,   0.8810,2,  2144.4,2, 2274.91,6,   7.7085,2, -999.00,9, -999.00,9, -999.00,    42.3,2, -999.00,9,     -999.0,1,  -999.0,9, 20170812,     1521, -32.5000,-150.9185,        0.0,1,      0.059,1,      4.696,1,      0.132,1,      25.03,     -999.0,9,     -999.0,9,     -999.0,9,     -999.0,9,     6.9490,2,     -999.0,9
320620170703,        P06,     140,          1,         24,         24,2,20170812,       1549,   -32.5006,  -150.9182,       5285,   570.1,   7.3875,  34.4047,2,  34.4065,2, 243.5863,2, 243.2240,2,     5.5,2,   20.57,2,    0.00,2,    1.38,2,   3.649,2,   1.923,2,   1.2450,2,  2141.9,2, 2276.72,2,   7.7182,2, -999.00,9, -999.00,9, -999.00,    43.3,2, -999.00,9,     -999.0,1,  -999.0,9, 20170812,     1524, -32.5000,-150.9185,        0.0,1,      0.059,1,      4.695,1,      0.134,1,      25.02,     -999.0,9,     -999.0,9,     -999.0,9,     -999.0,9,     7.4534,2,     -999.0,9
320620170703,        P06,     140,          1,         25,         25,2,20170812,       1549,   -32.5006,  -150.9182,       5285,   469.5,   8.2873,  34.4725,2,  34.4736,2, 240.5055,2, 240.8813,2,     3.8,2,   17.84,2,    0.00,2,    1.21,2,   3.619,2,   1.933,2,   1.5540,2,  2137.1,6, 2276.44,2,   7.7327,2, -999.00,9, -999.00,9, -999.00,    43.4,2,   19.30,2,     -999.0,1,  -999.0,9, 20170812,     1527, -32.4999,-150.9185,        0.0,1,      0.060,1,      4.693,1,      0.135,1,      25.02,     -999.0,9,     -999.0,9,     -999.0,9,     -999.0,9,     8.3029,2,     -999.0,9
320620170703,        P06,     140,          1,         26,         26,2,20170812,       1549,   -32.5006,  -150.9182,       5285,   387.3,   9.5842,  34.5702,2,  34.5525,2, 223.1953,2, 224.4391,2,     3.0,2,   16.06,2,    0.00,2,    1.12,2,   3.380,2,   1.818,2,   1.1340,2,  2133.0,2, -999.00,9,   7.7465,2, -999.00,9, -999.00,9, -999.00,    44.1,2,   18.60,2,     -999.0,1,  -999.0,9, 20170812,     1529, -32.4998,-150.9185,        0.0,1,      0.060,1,      4.691,1,      0.135,1,      25.02,     -999.0,9,     -999.0,9,     -999.0,9,     -999.0,9,     9.4638,2,     -999.0,9
320620170703,        P06,     140,          1,         27,         27,2,20170812,       1549,   -32.5006,  -150.9182,       5285,   336.8,  10.9297,  34.6924,2,  34.6730,2, 216.8666,3, 219.0819,2,     2.1,2,   12.53,2,    0.00,2,    0.90,2,   3.195,2,   1.742,2,   1.3100,2,  2123.7,2, 2282.59,2,   7.7760,2, -999.00,9, -999.00,9, -999.00,  -999.0,9, -999.00,9,     -999.0,9,  -999.0,9, 20170812,     1531, -32.4997,-150.9185,        0.0,1,      0.060,1,      4.689,1,      0.132,1,      25.03,     -999.0,9,     -999.0,9,     -999.0,9,     -999.0,9,    10.8059,2,     -999.0,9
320620170703,        P06,     140,          1,         28,         28,2,20170812,       1549,   -32.5006,  -150.9182,       5285,   287.4,  12.7614,  34.8975,2,  34.9000,2, 208.3180,3, 212.0420,2,     1.5,2,    8.64,2,    0.00,2,    0.66,2,   2.843,2,   1.581,2,   1.2040,2,  2109.9,2, 2293.25,2,   7.8259,2, -999.00,9, -999.00,9, -999.00,    47.2,2,   11.10,2,     -999.0,1,  -999.0,9, 20170812,     1533, -32.4997,-150.9185,        0.0,1,      0.059,1,      4.689,1,      0.133,1,      25.02,     -999.0,9,     -999.0,9,     -999.0,9,     -999.0,9,    12.8544,2,     -999.0,9
320620170703,        P06,     140,          1,         29,         29,2,20170812,       1549,   -32.5006,  -150.9182,       5285,   235.8,  14.3805,  35.1384,2,  35.1478,2, 212.1749,3, 215.6424,2,     0.9,2,    4.99,2,    0.02,2,    0.43,2,   2.595,2,   1.492,2,   1.4380,2,  2097.0,2, 2306.00,2,   7.8732,2, -999.00,9, -999.00,9, -999.00,    50.8,2,    7.70,2,     -999.0,1,  -999.0,9, 20170812,     1536, -32.5000,-150.9186,        0.0,1,      0.061,1,      4.687,1,      0.135,1,      25.01,     -999.0,9,     -999.0,9,     -999.0,9,     -999.0,9,    14.4921,2,     -999.0,9
320620170703,        P06,     140,          1,         30,         30,2,20170812,       1549,   -32.5006,  -150.9182,       5285,   186.3,  15.7076,  35.3160,2,  35.2855,2, 224.6008,2, 225.3391,2,     0.5,2,    2.16,2,    0.08,2,    0.24,2,   2.407,2,   1.394,2,   1.6640,2,  2083.5,2, -999.00,9,   7.9171,2, -999.00,9, -999.00,9, -999.00,    53.4,2,    5.30,2,     -999.0,1,  -999.0,9, 20170812,     1538, -32.5002,-150.9186,        0.0,1,      0.071,1,      4.678,1,      0.138,1,      25.01,     -999.0,9,     -999.0,9,     -999.0,9,     -999.0,9,    15.6658,2,     -999.0,9
320620170703,        P06,     140,          1,         31,         31,2,20170812,       1549,   -32.5006,  -150.9182,       5285,   134.6,  16.7192,  35.4857,2,  35.4831,2, 232.9990,3, 237.1717,2,     0.2,2,    0.21,2,    0.03,2,    0.11,2,   2.360,2,   1.362,2,   1.4350,2,  2069.4,2, 2326.92,2,   7.9626,2, -999.00,9, -999.00,9, -999.00,    58.2,2,    4.80,2,     -999.0,1,  -999.0,9, 20170812,     1540, -32.5003,-150.9185,        0.0,1,      0.161,1,      4.642,1,      0.179,1,      25.03,     -999.0,9,     -999.0,9,     -999.0,9,     -999.0,9,    16.7144,2,     -999.0,9
320620170703,        P06,     140,          1,         32,         32,2,20170812,       1549,   -32.5006,  -150.9182,       5285,    90.9,  16.7119,  35.4850,2,  35.4797,2, 239.4822,2, 237.4095,2,     0.3,2,    0.20,2,    0.03,2,    0.10,2,   2.339,2,   1.356,2,   1.4450,2,  2069.2,2, 2331.56,2,   7.9630,2, -999.00,9, -999.00,9, -999.00,    57.9,2,    3.90,2,     -999.0,1,  -999.0,9, 20170812,     1542, -32.5004,-150.9185,        0.0,1,      0.156,1,      4.644,1,      0.183,1,      25.01,     -999.0,9,     -999.0,9,     -999.0,9,     -999.0,9,    16.7065,2,     -999.0,9