BOTTLE,20230922CCHSIOCBG
EXPOCODE,SECT_ID,STNNBR,CASTNO,SAMPNO,BTLNBR,BTLNBR_FLAG_W,DATE,TIME,LATITUDE,LONGITUDE,DEPTH,CTDPRS,CTDTMP,CTDSAL,CTDSAL_FLAG_W,SALNTY,SALNTY_FLAG_W,CTDOXY,CTDOXY_FLAG_W,OXYGEN,OXYGEN_FLAG_W,SILCAT,SILCAT_FLAG_W,NITRAT,NITRAT_FLAG_W,NITRIT,NITRIT_FLAG_W,PHSPHT,PHSPHT_FLAG_W,CFC-11,CFC-11_FLAG_W,CFC-12,CFC-12_FLAG_W,SF6,SF6_FLAG_W,TCARBN,TCARBN_FLAG_W,ALKALI,ALKALI_FLAG_W,PH_TOT,PH_TOT_FLAG_W,DELC13,DELC13_FLAG_W,DELC14,DELC14_FLAG_W,C14ERR,DOC,DOC_FLAG_W,TDN,TDN_FLAG_W,TON,TON_FLAG_W,D15N_NO3,D15N_NO3_FLAG_W,BTL_DATE,BTL_TIME,BTL_LAT,BTL_LON,CTDRINKO,CTDRINKO_FLAG_W,CTDFLUOR,CTDFLUOR_FLAG_W,CTDXMISS,CTDXMISS_FLAG_W,CTDBACKSCATTER,CTDBACKSCATTER_FLAG_W,PH_TMP,D18O_NO3,D18O_NO3_FLAG_W,DOP,DOP_FLAG_W,HPLC,HPLC_FLAG_W,POC,POC_FLAG_W,REFTMP,REFTMP_FLAG_W,TDP,TDP_FLAG_W
,,,,,,,,,,,METERS,DBAR,ITS-90,PSS-78,,PSS-78,,UMOL/KG,,UMOL/KG,,UMOL/KG,,UMOL/KG,,UMOL/KG,,UMOL/KG,,PMOL/KG,,PMOL/KG,,FMOL/KG,,UMOL/KG,,UMOL/KG,,,,/MILLE,,/MILLE,,/MILLE,UMOL/KG,,UMOL/KG,,UMOL/KG,,/MILLE,,,,,,VOLTS,,VOLTS,,VOLTS,,VOLTS,,DEGC,/MILLE,,UMOL/KG,,,,UG/L,,ITS-90,,UMOL/KG,
320620170703,        P06,      25,          1,          1,         37,2,20170709,       2006,   -30.0798,   158.6804,       3177,  3214.7,   1.3093,  34.7188,2,  34.7186,2, 192.0302,2, 192.8992,2,   113.0,2,   32.37,2,    0.00,2,    2.24,2,   0.049,2,   0.032,2,   0.0000,2,  2273.5,6, 2373.03,2,   7.6116,2, -999.00,9, -999.00,9, -999.00,    36.6,2, -999.00,9,     -999.0,1,  -999.0,9, 20170709,     1824, -30.0798, 158.6806,        0.0,1,      0.062,1,      4.701,1,      0.150,1,      25.03,     -999.0,9,     -999.0,9,     -999.0,9,     -999.0,9,     1.3110,2,     -999.0,9
320620170703,        P06,      25,          1,          2,          2,2,20170709,       2006,   -30.0798,   158.6804,       3177,  3103.7,   1.3797,  34.7201,2,  34.7195,2, 191.8009,2, 191.3904,2,   111.0,2,   32.30,2,    0.00,2,    2.22,2,-999.000,9,-999.000,9,-999.0000,9,  2274.1,2, 2370.89,6,   7.6102,2, -999.00,9, -999.00,9, -999.00,  -999.0,9, -999.00,9,     -999.0,9,  -999.0,9, 20170709,     1828, -30.0800, 158.6808,        0.0,1,      0.061,1,      4.703,1,      0.151,1,      25.02,     -999.0,9,     -999.0,9,     -999.0,9,     -999.0,9,     1.3803,2,     -999.0,9
320620170703,        P06,      25,          1,          3,         38,2,20170709,       2006,   -30.0798,   158.6804,       3177,  2975.3,   1.4599,  34.7208,2,  34.7205,2, 190.8386,2, 190.1736,2,   108.9,2,   32.21,2,    0.00,2,    2.22,2,   0.025,2,   0.028,2,   0.0000,2,  2270.5,2, 2370.75,2,   7.6078,2, -999.00,9, -999.00,9, -999.00,    35.9,2, -999.00,9,     -999.0,1,  -999.0,9, 20170709,     1832, -30.0802, 158.6810,        0.0,1,      0.062,1,      4.705,1,      0.146,1,      25.02,     -999.0,9,     -999.0,9,     -999.0,9,     -999.0,9,     1.4600,2,     -999.0,9
320620170703,        P06,      25,          1,          4,          4,2,20170709,       2006,   -30.0798,   158.6804,       3177,  2771.9,   1.6351,  34.7204,2,  34.7193,2, 187.1496,2, 187.4858,2,   104.6,2,   32.18,2,    0.00,2,    2.21,2,-999.000,9,-999.000,9,-999.0000,9,  -999.0,9, -999.00,9,-999.0000,9, -999.00,9, -999.00,9, -999.00,  -999.0,9, -999.00,9,     -999.0,9,  -999.0,9, 20170709,     1837, -30.0803, 158.6811,        0.0,1,      0.062,1,      4.706,1,      0.141,1,     -999.0,     -999.0,9,     -999.0,9,     -999.0,9,     -999.0,9,     1.6302,2,     -999.0,9
320620170703,        P06,      25,          1,          5,         39,2,20170709,       2006,   -30.0798,   158.6804,       3177,  2568.2,   1.8347,  34.7146,2,  34.7142,2, 182.7310,2, 182.6505,2,   100.3,2,   32.31,2,    0.00,2,    2.25,2,   0.029,2,   0.032,2,   0.0000,2,  2268.6,2, 2363.54,2,   7.5995,2, -999.00,9, -999.00,9, -999.00,    38.3,2, -999.00,9,     -999.0,1,  -999.0,9, 20170709,     1842, -30.0803, 158.6811,        0.0,1,      0.062,1,      4.705,1,      0.142,1,      25.02,     -999.0,9,     -999.0,9,     -999.0,9,     -999.0,9,     1.8265,2,     -999.0,9
320620170703,        P06,      25,          1,          6,          6,2,20170709,       2006,   -30.0798,   158.6804,       3177,  2363.4,   2.0824,  34.6988,2,  34.6975,2, 175.9706,2, 175.9845,2,    95.6,2,   32.69,2,    0.00,2,    2.26,2,-999.000,9,-999.000,9,-999.0000,9,  -999.0,9, -999.00,9,-999.0000,9, -999.00,9, -999.00,9, -999.00,  -999.0,9, -999.00,9,     -999.0,9,  -999.0,9, 20170709,     1846, -30.0802, 158.6810,        0.0,1,      0.061,1,      4.706,1,      0.138,1,     -999.0,     -999.0,9,     -999.0,9,     -999.0,9,     -999.0,9,     2.0871,2,     -999.0,9
320620170703,        P06,      25,          1,          7,         40,2,20170709,       2006,   -30.0798,   158.6804,       3177,  2160.5,   2.2445,  34.6780,2,  34.6779,2, 169.5539,2, 169.4196,2,    94.9,2,   33.20,2,    0.00,2,    2.33,2,   0.035,2,   0.037,2,   0.0000,2,  2270.2,2, 2362.31,2,   7.6078,4, -999.00,9, -999.00,9, -999.00,    36.7,2, -999.00,9,     -999.0,1,  -999.0,9, 20170709,     1851, -30.0800, 158.6808,        0.0,1,      0.061,1,      4.706,1,      0.138,1,      25.01,     -999.0,9,     -999.0,9,     -999.0,9,     -999.0,9,     2.2428,2,     -999.0,9
320620170703,        P06,      25,          1,          8,          8,2,20170709,       2006,   -30.0798,   158.6804,       3177,  1956.6,   2.4511,  34.6480,2,  34.6480,2, 160.8566,2, 160.6266,2,    95.7,2,   33.98,2,    0.00,2,    2.37,2,-999.000,9,-999.000,9,-999.0000,9,  -999.0,9, -999.00,9,-999.0000,9, -999.00,9, -999.00,9, -999.00,  -999.0,9, -999.00,9,     -999.0,9,  -999.0,9, 20170709,     1856, -30.0799, 158.6807,        0.0,1,      0.061,1,      4.706,1,      0.140,1,     -999.0,     -999.0,9,     -999.0,9,     -999.0,9,     -999.0,9,     2.4495,2,     -999.0,9
320620170703,        P06,      25,          1,          9,         41,2,20170709,       2006,   -30.0798,   158.6804,       3177,  1785.7,   2.6837,  34.6187,2,  34.6150,2, 154.7388,2, 154.6033,2,    94.7,2,   34.54,2,    0.00,2,    2.40,2,   0.042,2,   0.039,2,   0.0000,2,  2277.6,2, 2362.37,2,   7.5707,2, -999.00,9, -999.00,9, -999.00,    35.4,2, -999.00,9,     -999.0,1,  -999.0,9, 20170709,     1900, -30.0797, 158.6805,        0.0,1,      0.061,1,      4.706,1,      0.141,1,      25.01,     -999.0,9,     -999.0,9,     -999.0,9,     -999.0,9,     2.7029,2,     -999.0,9
320620170703,        P06,      25,          1,         10,         10,2,20170709,       2006,   -30.0798,   158.6804,       3177,  1682.4,   2.8489,  34.6010,2,  34.5979,2, 152.4796,2, 152.5083,2,    93.0,2,   34.60,2,    0.00,2,    2.41,2,-999.000,9,-999.000,9,-999.0000,9,  2279.0,6, 2364.57,2,   7.5702,2, -999.00,9, -999.00,9, -999.00,  -999.0,9, -999.00,9,     -999.0,9,  -999.0,9, 20170709,     1903, -30.0797, 158.6804,        0.0,1,      0.061,1,      4.706,1,      0.142,1,      25.01,     -999.0,9,     -999.0,9,     -999.0,9,     -999.0,9,     2.8733,2,     -999.0,9
320620170703,        P06,      25,          1,         11,         42,2,20170709,       2006,   -30.0798,   158.6804,       3177,  1581.2,   3.0861,  34.5787,2,  34.5767,2, 152.8793,2, 152.6731,2,    88.6,2,   34.45,2,    0.00,2,    2.39,2,   0.068,2,   0.054,2,   0.0000,2,  2273.3,2, 2359.59,2,   7.5736,2, -999.00,9, -999.00,9, -999.00,    37.3,2, -999.00,9,     -999.0,1,  -999.0,9, 20170709,     1907, -30.0797, 158.6804,        0.0,1,      0.061,1,      4.706,1,      0.147,1,      25.03,     -999.0,9,     -999.0,9,     -999.0,9,     -999.0,9,     3.0999,2,     -999.0,9
320620170703,        P06,      25,          1,         12,         12,2,20170709,       2006,   -30.0798,   158.6804,       3177,  1478.9,   3.3990,  34.5509,2,  34.5474,2, 156.2742,2, 156.7854,2,    80.2,2,   33.93,2,    0.00,2,    2.37,2,-999.000,9,-999.000,9,-999.0000,9,  -999.0,9, -999.00,9,-999.0000,9, -999.00,9, -999.00,9, -999.00,  -999.0,9, -999.00,9,     -999.0,9,  -999.0,9, 20170709,     1910, -30.0797, 158.6803,        0.0,1,      0.061,1,      4.706,1,      0.141,1,     -999.0,     -999.0,9,     -999.0,9,     -999.0,9,     -999.0,9,     3.4215,2,     -999.0,9
320620170703,        P06,      25,          1,         13,         43,2,20170709,       2006,   -30.0798,   158.6804,       3177,  1377.9,   3.7530,  34.5213,2,  34.5195,2, 161.3548,2, 161.8326,2,    71.3,2,   33.30,2,    0.00,2,    2.32,2,   0.189,2,   0.126,2,   0.0750,2,  2251.4,2, 2340.60,2,   7.5880,2, -999.00,9, -999.00,9, -999.00,    36.6,2, -999.00,9,     -999.0,1,  -999.0,9, 20170709,     1913, -30.0796, 158.6803,        0.0,1,      0.061,1,      4.706,1,      0.140,1,      25.01,     -999.0,9,     -999.0,9,     -999.0,9,     -999.0,9,     3.7552,2,     -999.0,9
320620170703,        P06,      25,          1,         14,         14,2,20170709,       2006,   -30.0798,   158.6804,       3177,  1276.6,   4.2077,  34.4877,2,  34.4846,2, 169.1891,2, 169.4911,2,    59.0,2,   32.27,2,    0.00,2,    2.22,2,-999.000,9,-999.000,9,-999.0000,9,  -999.0,9, -999.00,9,-999.0000,9, -999.00,9, -999.00,9, -999.00,  -999.0,9, -999.00,9,     -999.0,9,  -999.0,9, 20170709,     1916, -30.0796, 158.6802,        0.0,1,      0.060,1,      4.706,1,      0.141,1,     -999.0,     -999.0,9,     -999.0,9,     -999.0,9,     -999.0,9,     4.2237,2,     -999.0,9
320620170703,        P06,      25,          1,         15,         15,2,20170709,       2006,   -30.0798,   158.6804,       3177,  1174.3,   4.7413,  34.4610,2,  34.4579,2, 177.8498,2, 177.9105,2,    46.9,2,   30.94,2,    0.00,2,    2.12,2,   0.539,2,   0.300,2,   0.1650,2,  2214.3,2, 2310.78,2,   7.6162,2, -999.00,9, -999.00,9, -999.00,    37.1,2, -999.00,9,     -999.0,1,  -999.0,9, 20170709,     1919, -30.0797, 158.6803,        0.0,1,      0.060,1,      4.705,1,      0.140,1,      25.00,     -999.0,9,     -999.0,9,     -999.0,9,     -999.0,9,     4.7916,2,     -999.0,9
320620170703,        P06,      25,          1,         16,         16,2,20170709,       2006,   -30.0798,   158.6804,       3177,  1072.5,   5.3951,  34.4456,2,  34.4424,2, 186.4034,2, 186.1934,2,    34.6,2,   29.26,2,    0.00,2,    1.97,2,-999.000,9,-999.000,9,-999.0000,9,  -999.0,9, -999.00,9,-999.0000,9, -999.00,9, -999.00,9, -999.00,    37.9,2, -999.00,9,     -999.0,1,  -999.0,9, 20170709,     1922, -30.0797, 158.6804,        0.0,1,      0.060,1,      4.704,1,      0.141,1,     -999.0,     -999.0,9,     -999.0,9,     -999.0,9,     -999.0,9,     5.4899,2,     -999.0,9
320620170703,        P06,      25,          1,         17,         17,2,20170709,       2006,   -30.0798,   158.6804,       3177,   976.1,   6.0133,  34.4476,2,  34.4459,2, 192.4146,2, 191.8167,2,    27.0,2,   27.70,2,    0.00,2,    1.86,2,   1.102,2,   0.588,2,   0.2030,2,  2186.5,2, 2293.83,2,   7.6508,2, -999.00,9, -999.00,9, -999.00,    39.5,2, -999.00,9,     -999.0,1,  -999.0,9, 20170709,     1925, -30.0798, 158.6805,        0.0,1,      0.060,1,      4.704,1,      0.142,1,      25.01,     -999.0,9,     -999.0,9,     -999.0,9,     -999.0,9,     6.0631,2,     -999.0,9
320620170703,        P06,      25,          1,         18,         18,2,20170709,       2006,   -30.0798,   158.6804,       3177,   873.8,   6.9017,  34.4826,2,  34.4824,2, 197.4826,2, 198.0272,2,    18.4,2,   25.45,2,    0.00,2,    1.71,2,-999.000,9,-999.000,9,-999.0000,9,  -999.0,9, -999.00,9,-999.0000,9, -999.00,9, -999.00,9, -999.00,    39.2,2, -999.00,9,     -999.0,1,  -999.0,9, 20170709,     1928, -30.0797, 158.6804,        0.0,1,      0.059,1,      4.703,1,      0.143,1,     -999.0,     -999.0,9,     -999.0,9,     -999.0,9,     -999.0,9,     6.9693,2,     -999.0,9
320620170703,        P06,      25,          1,         19,         19,2,20170709,       2006,   -30.0798,   158.6804,       3177,   770.8,   7.9751,  34.5601,2,  34.5704,2, 199.4116,2, 198.9580,2,    12.0,2,   22.74,2,    0.00,2,    1.50,2,   2.092,2,   1.090,2,   0.3890,2,  2158.0,2, 2285.51,2,   7.6967,2, -999.00,9, -999.00,9, -999.00,    41.0,2, -999.00,9,     -999.0,1,  -999.0,9, 20170709,     1931, -30.0797, 158.6804,        0.0,1,      0.059,1,      4.701,1,      0.145,1,      25.00,     -999.0,9,     -999.0,9,     -999.0,9,     -999.0,9,     8.1349,2,     -999.0,9
320620170703,        P06,      25,          1,         20,         20,2,20170709,       2006,   -30.0798,   158.6804,       3177,   669.8,   9.2115,  34.6807,2,  34.6857,2, 201.0842,2, 200.6404,2,     8.2,2,   19.87,2,    0.00,2,    1.31,2,-999.000,9,-999.000,9,-999.0000,9,  -999.0,9, -999.00,9,-999.0000,9, -999.00,9, -999.00,9, -999.00,    40.8,2, -999.00,9,     -999.0,1,  -999.0,9, 20170709,     1934, -30.0797, 158.6804,        0.0,1,      0.060,1,      4.699,1,      0.144,1,     -999.0,     -999.0,9,     -999.0,9,     -999.0,9,     -999.0,9,     9.3381,2,     -999.0,9
320620170703,        P06,      25,          1,         21,         21,2,20170709,       2006,   -30.0798,   158.6804,       3177,   568.2,  10.9392,  34.8910,2,  34.8898,2, 198.1387,2, 198.2852,2,     5.7,2,   16.35,2,    0.00,2,    1.09,2,   2.486,2,   1.366,2,   0.7500,2,  2140.0,2, 2293.01,6,-999.0000,9, -999.00,9, -999.00,9, -999.00,    43.3,2, -999.00,9,     -999.0,1,  -999.0,9, 20170709,     1937, -30.0797, 158.6803,        0.0,1,      0.060,1,      4.697,1,      0.144,1,     -999.0,     -999.0,9,     -999.0,9,     -999.0,9,     -999.0,9,    10.9609,2,     -999.0,9
320620170703,        P06,      25,          1,         22,         22,2,20170709,       2006,   -30.0798,   158.6804,       3177,   488.5,  12.6996,  35.1101,2,  35.0590,2, 197.3558,2, 197.1038,2,     4.2,2,   13.56,2,    0.00,2,    0.92,2,-999.000,9,-999.000,9,-999.0000,9,  -999.0,9, -999.00,9,-999.0000,9, -999.00,9, -999.00,9, -999.00,  -999.0,9, -999.00,9,     -999.0,9,  -999.0,9, 20170709,     1940, -30.0797, 158.6804,        0.0,1,      0.060,1,      4.695,1,      0.146,1,     -999.0,     -999.0,9,     -999.0,9,     -999.0,9,     -999.0,9,    12.3725,2,     -999.0,9
320620170703,        P06,      25,          1,         23,         23,2,20170709,       2006,   -30.0798,   158.6804,       3177,   439.4,  13.4898,  35.1964,2,  35.1754,2, 195.7158,2, 196.4399,2,     3.4,2,   11.73,2,    0.00,2,    0.80,2,   2.411,2,   1.363,2,   0.8680,2,  2124.3,2, 2303.52,2,   7.8240,2, -999.00,9, -999.00,9, -999.00,    43.1,2, -999.00,9,     -999.0,1,  -999.0,9, 20170709,     1942, -30.0797, 158.6804,        0.0,1,      0.060,1,      4.695,1,      0.145,1,      25.01,     -999.0,9,     -999.0,9,     -999.0,9,     -999.0,9,    13.3858,2,     -999.0,9
320620170703,        P06,      25,          1,         24,         24,2,20170709,       2006,   -30.0798,   158.6804,       3177,   388.0,  14.5267,  35.3052,2,  35.3096,2, 194.2188,2, 194.8695,2,     2.4,2,    9.67,2,    0.00,2,    0.66,2,-999.000,9,-999.000,9,-999.0000,9,  -999.0,9, -999.00,9,-999.0000,9, -999.00,9, -999.00,9, -999.00,  -999.0,9, -999.00,9,     -999.0,9,  -999.0,9, 20170709,     1944, -30.0798, 158.6805,        0.0,1,      0.060,1,      4.693,1,      0.147,1,     -999.0,     -999.0,9,     -999.0,9,     -999.0,9,     -999.0,9,    14.6992,2,     -999.0,9
320620170703,        P06,      25,          1,         25,         25,2,20170709,       2006,   -30.0798,   158.6804,       3177,   338.7,  15.9137,  35.4173,2,  35.4247,2, 190.2114,2, 190.1502,2,     1.9,2,    7.91,2,    0.00,2,    0.56,2,   2.218,2,   1.297,2,   0.8630,2,  2103.4,2, 2318.80,2,   7.8850,2, -999.00,9, -999.00,9, -999.00,    47.4,2, -999.00,9,     -999.0,1,  -999.0,9, 20170709,     1946, -30.0799, 158.6806,        0.0,1,      0.059,1,      4.691,1,      0.151,1,      25.02,     -999.0,9,     -999.0,9,     -999.0,9,     -999.0,9,    16.0988,2,     -999.0,9
320620170703,        P06,      25,          1,         26,         26,2,20170709,       2006,   -30.0798,   158.6804,       3177,   287.8,  17.3402,  35.5487,2,  35.5581,2, 195.9559,2, 195.7775,2,     1.1,2,    5.57,2,    0.00,2,    0.40,2,-999.000,9,-999.000,9,-999.0000,9,  -999.0,9, -999.00,9,-999.0000,9, -999.00,9, -999.00,9, -999.00,    48.5,2, -999.00,9,     -999.0,1,  -999.0,9, 20170709,     1948, -30.0799, 158.6806,        0.0,1,      0.060,1,      4.689,1,      0.151,1,     -999.0,     -999.0,9,     -999.0,9,     -999.0,9,     -999.0,9,    17.4636,2,     -999.0,9
320620170703,        P06,      25,          1,         27,         27,2,20170709,       2006,   -30.0798,   158.6804,       3177,   239.1,  18.5404,  35.6851,2,  35.7120,2, 218.4783,4, 211.5956,2,     0.6,2,    2.72,2,    0.00,2,    0.22,2,   1.999,2,   1.201,2,   1.0880,2,  2069.5,2, 2340.80,2,   7.9784,2, -999.00,9, -999.00,9, -999.00,    54.5,2,    6.60,2,     -999.0,1,  -999.0,9, 20170709,     1951, -30.0798, 158.6805,        0.0,1,      0.059,1,      4.687,1,      0.152,1,      25.01,     -999.0,9,     -999.0,9,     -999.0,9,     -999.0,9,    18.7051,2,     -999.0,9
320620170703,        P06,      25,          1,         28,         28,2,20170709,       2006,   -30.0798,   158.6804,       3177,   191.4,  18.9818,  35.7220,2,  35.7140,2, 205.9401,3, 202.8293,2,     0.4,2,    3.26,2,    0.02,2,    0.26,2,-999.000,9,-999.000,9,-999.0000,9,  2072.0,2, -999.00,5,   7.9720,2, -999.00,9, -999.00,9, -999.00,  -999.0,9, -999.00,9,     -999.0,9,  -999.0,9, 20170709,     1953, -30.0798, 158.6804,        0.0,1,      0.061,1,      4.685,1,      0.155,1,      25.00,     -999.0,9,     -999.0,9,     -999.0,9,     -999.0,9,    19.0050,2,     -999.0,9
320620170703,        P06,      25,          1,         29,         29,2,20170709,       2006,   -30.0798,   158.6804,       3177,   166.1,  19.3217,  35.6935,2,  35.7201,2, 198.4718,2, 197.2071,2,     0.4,2,    3.34,2,    0.04,2,    0.27,2,   2.003,2,   1.173,2,   1.0720,2,  2072.9,2, 2335.96,2,   7.9716,2, -999.00,9, -999.00,9, -999.00,    51.8,2,    7.90,2,     -999.0,1,  -999.0,9, 20170709,     1955, -30.0797, 158.6804,        0.0,1,      0.061,1,      4.686,1,      0.154,1,      25.01,     -999.0,9,     -999.0,9,     -999.0,9,     -999.0,9,    19.4825,2,     -999.0,9
320620170703,        P06,      25,          1,         30,         30,2,20170709,       2006,   -30.0798,   158.6804,       3177,   142.8,  19.6140,  35.7108,2,  35.7562,2, 213.1593,3, 206.9678,2,     0.2,2,    1.84,2,    0.21,2,    0.19,2,-999.000,9,-999.000,9,-999.0000,9,  2059.9,2, 2336.90,2,   7.9991,2, -999.00,9, -999.00,9, -999.00,    53.9,2,    6.50,2,     -999.0,1,  -999.0,9, 20170709,     1957, -30.0797, 158.6803,        0.0,1,      0.063,1,      4.683,1,      0.155,1,      25.02,     -999.0,9,     -999.0,9,     -999.0,9,     -999.0,9,    19.9796,2,     -999.0,9
320620170703,        P06,      25,          1,         31,         31,2,20170709,       2006,   -30.0798,   158.6804,       3177,   116.3,  20.0684,  35.7747,2,  35.7922,2, 214.6941,3, 217.9380,2,     0.0,2,    0.61,2,    0.24,2,    0.11,2,   1.894,2,   1.142,2,   1.0920,2,  2047.1,2, 2341.67,2,   8.0201,2, -999.00,9, -999.00,9, -999.00,    57.2,2,    5.20,2,     -999.0,1,  -999.0,9, 20170709,     1958, -30.0797, 158.6803,        0.0,1,      0.108,1,      4.662,1,      0.177,1,      25.01,     -999.0,9,     -999.0,9,     -999.0,9,     -999.0,9,    20.1408,2,     -999.0,9
320620170703,        P06,      25,          1,         32,         32,2,20170709,       2006,   -30.0798,   158.6804,       3177,    91.2,  20.1362,  35.7878,2,  35.7914,2, 223.4684,3, 218.3977,2,     0.0,2,    0.56,2,    0.23,2,    0.12,2,-999.000,9,-999.000,9,-999.0000,9,  2047.5,2, 2313.30,2,   8.0207,2, -999.00,9, -999.00,9, -999.00,    57.1,2,    4.80,2,     -999.0,1,  -999.0,9, 20170709,     2000, -30.0797, 158.6803,        0.0,1,      0.157,1,      4.648,1,      0.188,1,      25.00,     -999.0,9,     -999.0,9,     -999.0,9,     -999.0,9,    20.1473,2,     -999.0,9