BOTTLE,20230922CCHSIOCBG
EXPOCODE,SECT_ID,STNNBR,CASTNO,SAMPNO,BTLNBR,BTLNBR_FLAG_W,DATE,TIME,LATITUDE,LONGITUDE,DEPTH,CTDPRS,CTDTMP,CTDSAL,CTDSAL_FLAG_W,SALNTY,SALNTY_FLAG_W,CTDOXY,CTDOXY_FLAG_W,OXYGEN,OXYGEN_FLAG_W,SILCAT,SILCAT_FLAG_W,NITRAT,NITRAT_FLAG_W,NITRIT,NITRIT_FLAG_W,PHSPHT,PHSPHT_FLAG_W,CFC-11,CFC-11_FLAG_W,CFC-12,CFC-12_FLAG_W,SF6,SF6_FLAG_W,TCARBN,TCARBN_FLAG_W,ALKALI,ALKALI_FLAG_W,PH_TOT,PH_TOT_FLAG_W,DELC13,DELC13_FLAG_W,DELC14,DELC14_FLAG_W,C14ERR,DOC,DOC_FLAG_W,TDN,TDN_FLAG_W,TON,TON_FLAG_W,D15N_NO3,D15N_NO3_FLAG_W,BTL_DATE,BTL_TIME,BTL_LAT,BTL_LON,CTDRINKO,CTDRINKO_FLAG_W,CTDFLUOR,CTDFLUOR_FLAG_W,CTDXMISS,CTDXMISS_FLAG_W,CTDBACKSCATTER,CTDBACKSCATTER_FLAG_W,PH_TMP,D18O_NO3,D18O_NO3_FLAG_W,DOP,DOP_FLAG_W,HPLC,HPLC_FLAG_W,POC,POC_FLAG_W,REFTMP,REFTMP_FLAG_W,TDP,TDP_FLAG_W
,,,,,,,,,,,METERS,DBAR,ITS-90,PSS-78,,PSS-78,,UMOL/KG,,UMOL/KG,,UMOL/KG,,UMOL/KG,,UMOL/KG,,UMOL/KG,,PMOL/KG,,PMOL/KG,,FMOL/KG,,UMOL/KG,,UMOL/KG,,,,/MILLE,,/MILLE,,/MILLE,UMOL/KG,,UMOL/KG,,UMOL/KG,,/MILLE,,,,,,VOLTS,,VOLTS,,VOLTS,,VOLTS,,DEGC,/MILLE,,UMOL/KG,,,,UG/L,,ITS-90,,UMOL/KG,
320620170703,        P06,      45,          1,          1,         37,2,20170713,       1729,   -30.0793,   166.4699,       3115,  3148.9,   1.9083,  34.6856,2,  34.6855,2, 158.7823,2, 158.8993,2,   118.0,2,   34.57,2,    0.00,2,    2.41,2,   0.026,2,   0.026,2,   0.0000,2,  2303.8,6, 2406.90,2,   7.5861,2, -999.00,9, -999.00,9, -999.00,  -999.0,9, -999.00,9,     -999.0,9,  -999.0,9, 20170713,     1551, -30.0794, 166.4705,        0.0,1,      0.061,1,      4.697,1,      0.160,1,      25.04,     -999.0,9,     -999.0,9,     -999.0,9,     -999.0,9,     1.9092,2,     -999.0,9
320620170703,        P06,      45,          1,          2,          2,2,20170713,       1729,   -30.0793,   166.4699,       3115,  3032.6,   1.9217,  34.6840,2,  34.6830,2, 158.6653,2, 158.2299,2,   117.8,2,   34.70,2,    0.00,2,    2.41,2,-999.000,9,-999.000,9,-999.0000,9,  -999.0,9, -999.00,9,-999.0000,9, -999.00,9, -999.00,9, -999.00,  -999.0,9, -999.00,9,     -999.0,9,  -999.0,9, 20170713,     1554, -30.0794, 166.4704,        0.0,1,      0.062,1,      4.696,1,      0.160,1,     -999.0,     -999.0,9,     -999.0,9,     -999.0,9,     -999.0,9,     1.9200,2,     -999.0,9
320620170703,        P06,      45,          1,          3,         38,2,20170713,       1729,   -30.0793,   166.4699,       3115,  2903.9,   1.9470,  34.6812,2,  34.6808,2, 157.7695,2, 158.1796,2,   117.1,2,   34.72,2,    0.00,2,    2.41,2,  -0.001,4,   0.017,4,   0.0000,2,  2301.3,2, 2392.32,6,   7.5840,2, -999.00,9, -999.00,9, -999.00,  -999.0,9, -999.00,9,     -999.0,9,  -999.0,9, 20170713,     1557, -30.0794, 166.4705,        0.0,1,      0.062,1,      4.704,1,      0.140,1,      25.04,     -999.0,9,     -999.0,9,     -999.0,9,     -999.0,9,     1.9471,2,     -999.0,9
320620170703,        P06,      45,          1,          4,          4,2,20170713,       1729,   -30.0793,   166.4699,       3115,  2699.8,   1.9811,  34.6774,2,  34.6769,2, 156.8142,2, 156.9589,2,   116.0,2,   34.76,2,    0.00,2,    2.42,2,-999.000,9,-999.000,9,-999.0000,9,  -999.0,9, -999.00,9,-999.0000,9, -999.00,9, -999.00,9, -999.00,  -999.0,9, -999.00,9,     -999.0,9,  -999.0,9, 20170713,     1602, -30.0794, 166.4705,        0.0,1,      0.062,1,      4.705,1,      0.135,1,     -999.0,     -999.0,9,     -999.0,9,     -999.0,9,     -999.0,9,     1.9803,2,     -999.0,9
320620170703,        P06,      45,          1,          5,         39,2,20170713,       1729,   -30.0793,   166.4699,       3115,  2497.1,   2.0317,  34.6724,2,  34.6718,2, 155.7154,2, 155.3536,2,   114.8,2,   34.74,2,    0.00,2,    2.42,2,   0.025,2,   0.020,2,   0.0000,2,  2301.3,2, 2389.55,2,   7.5800,2, -999.00,9, -999.00,9, -999.00,  -999.0,9, -999.00,9,     -999.0,9,  -999.0,9, 20170713,     1606, -30.0794, 166.4703,        0.0,1,      0.061,1,      4.705,1,      0.145,1,      25.03,     -999.0,9,     -999.0,9,     -999.0,9,     -999.0,9,     2.0312,2,     -999.0,9
320620170703,        P06,      45,          1,          6,          6,2,20170713,       1729,   -30.0793,   166.4699,       3115,  2292.9,   2.1275,  34.6632,2,  34.6627,2, 154.7962,2, 155.0131,2,   112.7,2,   34.91,2,    0.00,2,    2.42,2,-999.000,9,-999.000,9,-999.0000,9,  -999.0,9, -999.00,9,-999.0000,9, -999.00,9, -999.00,9, -999.00,  -999.0,9, -999.00,9,     -999.0,9,  -999.0,9, 20170713,     1611, -30.0794, 166.4700,        0.0,1,      0.063,1,      4.705,1,      0.138,1,     -999.0,     -999.0,9,     -999.0,9,     -999.0,9,     -999.0,9,     2.1249,2,     -999.0,9
320620170703,        P06,      45,          1,          7,         40,2,20170713,       1729,   -30.0793,   166.4699,       3115,  2090.8,   2.2705,  34.6503,2,  34.6482,3, 153.5182,2, 153.3595,2,   109.7,2,   34.88,2,    0.00,2,    2.42,2,   0.027,2,   0.020,2,   0.0000,2,  2295.6,2, 2382.92,2,   7.5768,2, -999.00,9, -999.00,9, -999.00,  -999.0,9, -999.00,9,     -999.0,9,  -999.0,9, 20170713,     1616, -30.0794, 166.4698,        0.0,1,      0.061,1,      4.705,1,      0.140,1,      25.03,     -999.0,9,     -999.0,9,     -999.0,9,     -999.0,9,     2.2679,2,     -999.0,9
320620170703,        P06,      45,          1,          8,          8,2,20170713,       1729,   -30.0793,   166.4699,       3115,  1884.8,   2.4734,  34.6327,2,  34.6299,2, 152.9554,2, 152.9525,2,   105.1,2,   34.83,2,    0.00,2,    2.42,2,-999.000,9,-999.000,9,-999.0000,9,  -999.0,9, -999.00,9,-999.0000,9, -999.00,9, -999.00,9, -999.00,  -999.0,9, -999.00,9,     -999.0,9,  -999.0,9, 20170713,     1620, -30.0794, 166.4698,        0.0,1,      0.061,1,      4.705,1,      0.140,1,     -999.0,     -999.0,9,     -999.0,9,     -999.0,9,     -999.0,9,     2.4778,2,     -999.0,9
320620170703,        P06,      45,          1,          9,         41,2,20170713,       1729,   -30.0793,   166.4699,       3115,  1753.8,   2.7021,  34.6138,2,  34.6115,2, 153.2571,2, 153.2302,2,    99.8,2,   34.60,2,    0.00,2,    2.40,2,   0.054,2,   0.035,2,   0.0000,2,  2284.1,2, 2371.97,2,   7.5761,2, -999.00,9, -999.00,9, -999.00,  -999.0,9, -999.00,9,     -999.0,9,  -999.0,9, 20170713,     1624, -30.0794, 166.4696,        0.0,1,      0.061,1,      4.704,1,      0.142,1,      25.02,     -999.0,9,     -999.0,9,     -999.0,9,     -999.0,9,     2.7056,2,     -999.0,9
320620170703,        P06,      45,          1,         10,         10,2,20170713,       1729,   -30.0793,   166.4699,       3115,  1652.9,   2.8874,  34.6004,2,  34.5961,2, 155.3161,2, 155.7337,2,    94.1,2,   34.26,2,    0.00,2,    2.37,2,-999.000,9,-999.000,9,-999.0000,9,  -999.0,9, -999.00,9,-999.0000,9, -999.00,9, -999.00,9, -999.00,  -999.0,9, -999.00,9,     -999.0,9,  -999.0,9, 20170713,     1627, -30.0794, 166.4695,        0.0,1,      0.061,1,      4.703,1,      0.147,1,     -999.0,     -999.0,9,     -999.0,9,     -999.0,9,     -999.0,9,     2.9385,2,     -999.0,9
320620170703,        P06,      45,          1,         11,         42,2,20170713,       1729,   -30.0793,   166.4699,       3115,  1551.9,   3.1568,  34.5818,2,  34.5765,2, 157.5079,2, 157.3127,2,    88.0,2,   33.86,2,    0.00,2,    2.35,2,   0.144,2,   0.089,2,   0.0000,2,  2270.8,2, 2358.00,2,   7.5835,2, -999.00,9, -999.00,9, -999.00,  -999.0,9, -999.00,9,     -999.0,9,  -999.0,9, 20170713,     1629, -30.0794, 166.4697,        0.0,1,      0.061,1,      4.702,1,      0.147,1,      25.03,     -999.0,9,     -999.0,9,     -999.0,9,     -999.0,9,     3.1759,2,     -999.0,9
320620170703,        P06,      45,          1,         12,         12,2,20170713,       1729,   -30.0793,   166.4699,       3115,  1450.8,   3.5893,  34.5523,2,  34.5459,2, 163.6007,2, 163.2360,2,    76.4,2,   33.01,2,    0.00,2,    2.28,2,-999.000,9,-999.000,9,-999.0000,9,  -999.0,9, -999.00,9,-999.0000,9, -999.00,9, -999.00,9, -999.00,  -999.0,9, -999.00,9,     -999.0,9,  -999.0,9, 20170713,     1632, -30.0794, 166.4698,        0.0,1,      0.061,1,      4.703,1,      0.150,1,     -999.0,     -999.0,9,     -999.0,9,     -999.0,9,     -999.0,9,     3.6404,2,     -999.0,9
320620170703,        P06,      45,          1,         13,         43,2,20170713,       1729,   -30.0793,   166.4699,       3115,  1348.1,   3.9657,  34.5278,2,  34.5235,2, 168.3480,2, 168.6640,2,    67.6,2,   32.26,2,    0.00,2,    2.22,2,   0.381,2,   0.218,2,   0.0670,2,  2242.2,2, 2335.06,2,   7.5995,2, -999.00,9, -999.00,9, -999.00,  -999.0,9, -999.00,9,     -999.0,9,  -999.0,9, 20170713,     1635, -30.0794, 166.4700,        0.0,1,      0.061,1,      4.703,1,      0.143,1,      25.04,     -999.0,9,     -999.0,9,     -999.0,9,     -999.0,9,     3.9973,2,     -999.0,9
320620170703,        P06,      45,          1,         14,         14,2,20170713,       1729,   -30.0793,   166.4699,       3115,  1246.8,   4.5943,  34.5043,2,  34.5025,2, 174.6257,2, 174.7596,2,    56.6,2,   31.16,2,    0.00,2,    2.13,2,-999.000,9,-999.000,9,-999.0000,9,  -999.0,9, -999.00,9,-999.0000,9, -999.00,9, -999.00,9, -999.00,  -999.0,9, -999.00,9,     -999.0,9,  -999.0,9, 20170713,     1638, -30.0794, 166.4702,        0.0,1,      0.060,1,      4.703,1,      0.146,1,     -999.0,     -999.0,9,     -999.0,9,     -999.0,9,     -999.0,9,     4.5252,2,     -999.0,9
320620170703,        P06,      45,          1,         15,         15,2,20170713,       1729,   -30.0793,   166.4699,       3115,  1144.9,   5.0546,  34.4611,2,  34.4708,2, 181.4239,2, 180.8973,2,    46.7,2,   30.36,2,    0.00,2,    2.08,2,   0.655,2,   0.360,2,   0.0870,2,  2211.1,2, 2314.26,2,   7.6226,2, -999.00,9, -999.00,9, -999.00,  -999.0,9, -999.00,9,     -999.0,9,  -999.0,9, 20170713,     1641, -30.0793, 166.4703,        0.0,1,      0.061,1,      4.704,1,      0.141,1,      25.03,     -999.0,9,     -999.0,9,     -999.0,9,     -999.0,9,     4.9038,2,     -999.0,9
320620170703,        P06,      45,          1,         16,         16,2,20170713,       1729,   -30.0793,   166.4699,       3115,  1044.2,   5.7165,  34.4568,2,  34.4548,2, 188.7235,2, 188.5318,2,    35.0,2,   28.76,2,    0.00,2,    1.95,2,-999.000,9,-999.000,9,-999.0000,9,  -999.0,9, -999.00,9,-999.0000,9, -999.00,9, -999.00,9, -999.00,  -999.0,9, -999.00,9,     -999.0,9,  -999.0,9, 20170713,     1644, -30.0794, 166.4705,        0.0,1,      0.060,1,      4.704,1,      0.139,1,     -999.0,     -999.0,9,     -999.0,9,     -999.0,9,     -999.0,9,     5.5407,2,     -999.0,9
320620170703,        P06,      45,          1,         17,         17,2,20170713,       1729,   -30.0793,   166.4699,       3115,   943.1,   6.2566,  34.4566,2,  34.4487,2, 195.4261,2, 195.9430,2,    26.6,2,   27.27,2,    0.00,2,    1.85,2,   1.222,2,   0.644,2,   0.2280,2,  2182.8,2, 2299.40,2,   7.6560,2, -999.00,9, -999.00,9, -999.00,  -999.0,9, -999.00,9,     -999.0,9,  -999.0,9, 20170713,     1647, -30.0793, 166.4703,        0.0,1,      0.061,1,      4.703,1,      0.140,1,      25.00,     -999.0,9,     -999.0,9,     -999.0,9,     -999.0,9,     6.0833,2,     -999.0,9
320620170703,        P06,      45,          1,         18,         18,2,20170713,       1729,   -30.0793,   166.4699,       3115,   841.9,   7.1273,  34.4991,2,  34.4909,2, 199.6787,2, 199.8061,2,    18.7,2,   25.03,2,    0.00,2,    1.68,2,-999.000,9,-999.000,9,-999.0000,9,  -999.0,9, -999.00,9,-999.0000,9, -999.00,9, -999.00,9, -999.00,  -999.0,9, -999.00,9,     -999.0,9,  -999.0,9, 20170713,     1650, -30.0793, 166.4700,        0.0,1,      0.059,1,      4.702,1,      0.140,1,     -999.0,     -999.0,9,     -999.0,9,     -999.0,9,     -999.0,9,     7.0070,2,     -999.0,9
320620170703,        P06,      45,          1,         19,         19,2,20170713,       1729,   -30.0793,   166.4699,       3115,   740.6,   8.3316,  34.6059,2,  34.5920,2, 199.5183,2, 199.8072,2,    13.3,2,   22.41,2,    0.00,2,    1.50,2,   1.992,2,   1.108,2,   0.5800,2,  2159.0,2, 2285.96,2,   7.7009,2, -999.00,9, -999.00,9, -999.00,  -999.0,9, -999.00,9,     -999.0,9,  -999.0,9, 20170713,     1653, -30.0794, 166.4700,        0.0,1,      0.059,1,      4.701,1,      0.138,1,      25.02,     -999.0,9,     -999.0,9,     -999.0,9,     -999.0,9,     8.2039,2,     -999.0,9
320620170703,        P06,      45,          1,         20,         20,2,20170713,       1729,   -30.0793,   166.4699,       3115,   641.1,   9.5930,  34.7265,2,  34.7268,2, 199.4824,2, 199.2649,2,     8.5,2,   19.24,2,    0.00,2,    1.30,2,-999.000,9,-999.000,9,-999.0000,9,  -999.0,9, -999.00,9,-999.0000,9, -999.00,9, -999.00,9, -999.00,  -999.0,9, -999.00,9,     -999.0,9,  -999.0,9, 20170713,     1656, -30.0793, 166.4700,        0.0,1,      0.061,1,      4.699,1,      0.145,1,     -999.0,     -999.0,9,     -999.0,9,     -999.0,9,     -999.0,9,     9.6257,2,     -999.0,9
320620170703,        P06,      45,          1,         21,         21,2,20170713,       1729,   -30.0793,   166.4699,       3115,   539.0,  11.1767,  34.8947,2,  34.8965,2, 197.6462,2, 197.1207,2,     5.7,2,   15.79,2,    0.00,2,    1.07,2,   2.384,2,   1.360,2,   0.7370,2,  2137.0,2, 2293.84,2,   7.7693,2, -999.00,9, -999.00,9, -999.00,  -999.0,9, -999.00,9,     -999.0,9,  -999.0,9, 20170713,     1659, -30.0794, 166.4698,        0.0,1,      0.060,1,      4.698,1,      0.140,1,      25.02,     -999.0,9,     -999.0,9,     -999.0,9,     -999.0,9,    11.2010,2,     -999.0,9
320620170703,        P06,      45,          1,         22,         22,2,20170713,       1729,   -30.0793,   166.4699,       3115,   469.7,  12.5445,  35.0639,2,  35.0600,2, 195.8756,2, 195.8454,2,     4.4,2,   13.24,2,    0.00,2,    0.90,2,-999.000,9,-999.000,9,-999.0000,9,  -999.0,9, -999.00,9,-999.0000,9, -999.00,9, -999.00,9, -999.00,  -999.0,9, -999.00,9,     -999.0,9,  -999.0,9, 20170713,     1702, -30.0794, 166.4700,        0.0,1,      0.060,1,      4.696,1,      0.141,1,     -999.0,     -999.0,9,     -999.0,9,     -999.0,9,     -999.0,9,    12.5578,2,     -999.0,9
320620170703,        P06,      45,          1,         23,         23,2,20170713,       1729,   -30.0793,   166.4699,       3115,   417.7,  13.6305,  35.1943,2,  35.1837,2, 195.3552,2, 195.2721,2,     3.6,2,   11.44,2,    0.00,2,    0.79,2,   2.278,2,   1.342,2,   0.8940,2,  2122.2,2, 2304.15,2,   7.8265,2, -999.00,9, -999.00,9, -999.00,  -999.0,9, -999.00,9,     -999.0,9,  -999.0,9, 20170713,     1704, -30.0794, 166.4701,        0.0,1,      0.059,1,      4.695,1,      0.143,1,      25.02,     -999.0,9,     -999.0,9,     -999.0,9,     -999.0,9,    13.5376,2,     -999.0,9
320620170703,        P06,      45,          1,         24,         24,2,20170713,       1729,   -30.0793,   166.4699,       3115,   368.2,  15.0811,  35.3560,2,  35.3263,2, 195.7197,2, 196.0807,2,     2.7,2,    9.23,2,    0.00,2,    0.64,2,-999.000,9,-999.000,9,-999.0000,9,  -999.0,9, -999.00,9,-999.0000,9, -999.00,9, -999.00,9, -999.00,  -999.0,9, -999.00,9,     -999.0,9,  -999.0,9, 20170713,     1706, -30.0794, 166.4702,        0.0,1,      0.060,1,      4.694,1,      0.143,1,     -999.0,     -999.0,9,     -999.0,9,     -999.0,9,     -999.0,9,    14.7366,2,     -999.0,9
320620170703,        P06,      45,          1,         25,         25,2,20170713,       1729,   -30.0793,   166.4699,       3115,   318.3,  15.8396,  35.4237,2,  35.4192,2, 195.4035,2, 195.7836,2,     2.0,2,    7.46,2,    0.00,2,    0.54,2,   2.131,2,   1.302,2,   0.9540,2,  2101.6,2, 2317.48,2,   7.8863,2, -999.00,9, -999.00,9, -999.00,  -999.0,9, -999.00,9,     -999.0,9,  -999.0,9, 20170713,     1708, -30.0794, 166.4701,        0.0,1,      0.060,1,      4.692,1,      0.142,1,      25.03,     -999.0,9,     -999.0,9,     -999.0,9,     -999.0,9,    15.8532,2,     -999.0,9
320620170703,        P06,      45,          1,         26,         26,2,20170713,       1729,   -30.0793,   166.4699,       3115,   268.1,  16.9680,  35.5274,2,  35.5318,2, 195.2801,2, 195.2342,2,     1.6,2,    5.97,2,    0.00,2,    0.44,2,-999.000,9,-999.000,9,-999.0000,9,  -999.0,9, -999.00,9,-999.0000,9, -999.00,9, -999.00,9, -999.00,  -999.0,9, -999.00,9,     -999.0,9,  -999.0,9, 20170713,     1710, -30.0794, 166.4700,        0.0,1,      0.060,1,      4.692,1,      0.146,1,     -999.0,     -999.0,9,     -999.0,9,     -999.0,9,     -999.0,9,    17.0434,2,     -999.0,9
320620170703,        P06,      45,          1,         27,         27,2,20170713,       1729,   -30.0793,   166.4699,       3115,   236.1,  17.7410,  35.6000,2,  35.6107,2, 198.5359,2, 198.0106,2,     1.2,2,    4.55,2,    0.00,2,    0.34,2,   1.971,2,   1.219,2,   1.0840,2,  2089.3,2, 2330.19,2,   7.9380,2, -999.00,9, -999.00,9, -999.00,  -999.0,9, -999.00,9,     -999.0,9,  -999.0,9, 20170713,     1712, -30.0794, 166.4699,        0.0,1,      0.061,1,      4.691,1,      0.147,1,      25.03,     -999.0,9,     -999.0,9,     -999.0,9,     -999.0,9,    17.9106,2,     -999.0,9
320620170703,        P06,      45,          1,         28,         28,2,20170713,       1729,   -30.0793,   166.4699,       3115,   211.3,  18.2369,  35.6404,2,  35.6581,2, 197.7590,2, 198.2268,2,     0.9,2,    3.79,2,    0.02,2,    0.31,2,-999.000,9,-999.000,9,-999.0000,9,  -999.0,9, -999.00,9,-999.0000,9, -999.00,9, -999.00,9, -999.00,  -999.0,9, -999.00,9,     -999.0,9,  -999.0,9, 20170713,     1714, -30.0793, 166.4700,        0.0,1,      0.060,1,      4.689,1,      0.148,1,     -999.0,     -999.0,9,     -999.0,9,     -999.0,9,     -999.0,9,    18.4959,2,     -999.0,9
320620170703,        P06,      45,          1,         29,         29,2,20170713,       1729,   -30.0793,   166.4699,       3115,   186.3,  18.7992,  35.6768,2,  35.7892,2, 218.2259,3, 213.4794,2,     0.5,2,    1.32,2,    0.09,2,    0.15,2,   1.814,2,   1.150,2,   1.1290,2,  2061.8,2, 2338.43,2,   7.9990,2, -999.00,9, -999.00,9, -999.00,  -999.0,9, -999.00,9,     -999.0,9,  -999.0,9, 20170713,     1716, -30.0794, 166.4701,        0.0,1,      0.062,1,      4.685,1,      0.152,1,      25.03,     -999.0,9,     -999.0,9,     -999.0,9,     -999.0,9,    19.5870,2,     -999.0,9
320620170703,        P06,      45,          1,         30,         30,2,20170713,       1729,   -30.0793,   166.4699,       3115,   160.9,  19.7931,  35.8250,2,  35.8319,2, 219.9727,2, 220.4408,2,     0.4,2,    0.41,2,    0.12,2,    0.09,2,-999.000,9,-999.000,9,-999.0000,9,  -999.0,9, -999.00,9,-999.0000,9, -999.00,9, -999.00,9, -999.00,  -999.0,9, -999.00,9,     -999.0,9,  -999.0,9, 20170713,     1718, -30.0794, 166.4702,        0.0,1,      0.152,1,      4.641,1,      0.194,1,     -999.0,     -999.0,9,     -999.0,9,     -999.0,9,     -999.0,9,    19.8297,2,     -999.0,9
320620170703,        P06,      45,          1,         31,         31,2,20170713,       1729,   -30.0793,   166.4699,       3115,   135.6,  19.8228,  35.8315,2,  35.8317,2, 220.8027,2, 220.7321,2,     0.3,2,    0.40,2,    0.12,2,    0.10,2,   1.788,2,   1.140,2,   1.0680,2,  2055.0,2, 2344.19,2,   8.0150,2, -999.00,9, -999.00,9, -999.00,  -999.0,9, -999.00,9,     -999.0,9,  -999.0,9, 20170713,     1719, -30.0794, 166.4702,        0.0,1,      0.155,1,      4.640,1,      0.195,1,      25.03,     -999.0,9,     -999.0,9,     -999.0,9,     -999.0,9,    19.8276,2,     -999.0,9
320620170703,        P06,      45,          1,         32,         32,2,20170713,       1729,   -30.0793,   166.4699,       3115,   111.0,  19.8259,  35.8319,2,  35.8321,2, 220.8017,2, 220.6209,2,     0.3,2,    0.41,2,    0.12,2,    0.10,2,-999.000,9,-999.000,9,-999.0000,9,  -999.0,9, -999.00,9,-999.0000,9, -999.00,9, -999.00,9, -999.00,  -999.0,9, -999.00,9,     -999.0,9,  -999.0,9, 20170713,     1721, -30.0794, 166.4702,        0.0,1,      0.160,1,      4.639,1,      0.198,1,     -999.0,     -999.0,9,     -999.0,9,     -999.0,9,     -999.0,9,    19.8209,2,     -999.0,9