BOTTLE,20230922CCHSIOCBG
EXPOCODE,SECT_ID,STNNBR,CASTNO,SAMPNO,BTLNBR,BTLNBR_FLAG_W,DATE,TIME,LATITUDE,LONGITUDE,DEPTH,CTDPRS,CTDTMP,CTDSAL,CTDSAL_FLAG_W,SALNTY,SALNTY_FLAG_W,CTDOXY,CTDOXY_FLAG_W,OXYGEN,OXYGEN_FLAG_W,SILCAT,SILCAT_FLAG_W,NITRAT,NITRAT_FLAG_W,NITRIT,NITRIT_FLAG_W,PHSPHT,PHSPHT_FLAG_W,CFC-11,CFC-11_FLAG_W,CFC-12,CFC-12_FLAG_W,SF6,SF6_FLAG_W,TCARBN,TCARBN_FLAG_W,ALKALI,ALKALI_FLAG_W,PH_TOT,PH_TOT_FLAG_W,DELC13,DELC13_FLAG_W,DELC14,DELC14_FLAG_W,C14ERR,DOC,DOC_FLAG_W,TDN,TDN_FLAG_W,TON,TON_FLAG_W,D15N_NO3,D15N_NO3_FLAG_W,BTL_DATE,BTL_TIME,BTL_LAT,BTL_LON,CTDRINKO,CTDRINKO_FLAG_W,CTDFLUOR,CTDFLUOR_FLAG_W,CTDXMISS,CTDXMISS_FLAG_W,CTDBACKSCATTER,CTDBACKSCATTER_FLAG_W,PH_TMP,D18O_NO3,D18O_NO3_FLAG_W,DOP,DOP_FLAG_W,HPLC,HPLC_FLAG_W,POC,POC_FLAG_W,REFTMP,REFTMP_FLAG_W,TDP,TDP_FLAG_W
,,,,,,,,,,,METERS,DBAR,ITS-90,PSS-78,,PSS-78,,UMOL/KG,,UMOL/KG,,UMOL/KG,,UMOL/KG,,UMOL/KG,,UMOL/KG,,PMOL/KG,,PMOL/KG,,FMOL/KG,,UMOL/KG,,UMOL/KG,,,,/MILLE,,/MILLE,,/MILLE,UMOL/KG,,UMOL/KG,,UMOL/KG,,/MILLE,,,,,,VOLTS,,VOLTS,,VOLTS,,VOLTS,,DEGC,/MILLE,,UMOL/KG,,,,UG/L,,ITS-90,,UMOL/KG,
320620170703,        P06,     138,          1,          1,          1,2,20170811,       2342,   -32.4997,  -152.2584,       5128,  5218.0,   1.1946,  34.7098,2,  34.7079,2, 201.2888,2, 202.9671,2,   119.3,2,   32.27,2,    0.00,2,    2.21,2,   0.059,2,   0.036,2,   0.0000,2,  2265.8,6, 2367.55,2,   7.6067,2, -999.00,9, -999.00,9, -999.00,    40.0,2, -999.00,9,     -999.0,1,  -999.0,1, 20170811,     2113, -32.4999,-152.2584,        0.0,1,      0.061,1,      4.695,1,      0.123,1,      25.02,     -999.0,1,     -999.0,9,     -999.0,9,     -999.0,9,     1.1944,2,     -999.0,9
320620170703,        P06,     138,          1,          2,          2,2,20170811,       2342,   -32.4997,  -152.2584,       5128,  5095.8,   1.1785,  34.7098,2,  34.7079,2, 201.2888,2, 203.1120,2,   119.4,2,   32.26,2,    0.00,2,    2.22,2,   0.056,2,   0.042,2,   0.0000,2,  2267.0,2, 2368.49,2,   7.6061,2, -999.00,9, -999.00,9, -999.00,  -999.0,9, -999.00,9,     -999.0,9,  -999.0,1, 20170811,     2119, -32.5000,-152.2584,        0.0,1,      0.060,1,      4.696,1,      0.123,1,      25.02,     -999.0,1,     -999.0,9,     -999.0,9,     -999.0,9,     1.1793,2,     -999.0,9
320620170703,        P06,     138,          1,          3,          3,2,20170811,       2342,   -32.4997,  -152.2584,       5128,  4991.6,   1.1657,  34.7099,2,  34.7087,2, 201.2888,2, 202.9727,2,   119.4,2,   32.27,2,    0.00,2,    2.23,2,   0.054,2,   0.040,2,   0.0000,2,  2266.6,2, 2366.72,2,   7.6076,2, -999.00,9, -999.00,9, -999.00,    36.9,2, -999.00,9,     -999.0,1,  -999.0,1, 20170811,     2124, -32.5002,-152.2585,        0.0,1,      0.061,1,      4.696,1,      0.124,1,      25.02,     -999.0,1,     -999.0,9,     -999.0,9,     -999.0,9,     1.1663,2,     -999.0,9
320620170703,        P06,     138,          1,          4,          4,2,20170811,       2342,   -32.4997,  -152.2584,       5128,  4579.6,   1.1745,  34.7100,2,  34.7089,2, 202.7041,2, 201.0040,2,   119.0,2,   32.34,2,    0.00,2,    2.23,2,   0.047,2,   0.037,2,   0.0000,2,  2267.0,2, 2371.32,2,   7.6059,2, -999.00,9, -999.00,9, -999.00,    38.6,2, -999.00,9,     -999.0,1,  -999.0,1, 20170811,     2140, -32.5000,-152.2585,        0.0,1,      0.061,1,      4.697,1,      0.124,1,      25.02,     -999.0,1,     -999.0,9,     -999.0,9,     -999.0,9,     1.1714,2,     -999.0,9
320620170703,        P06,     138,          1,          5,          5,2,20170811,       2342,   -32.4997,  -152.2584,       5128,  4272.3,   1.2332,  34.7100,2,  34.7083,2, 200.7758,3, 198.5440,2,   118.0,2,   32.41,2,    0.00,2,    2.24,2,   0.039,2,   0.033,2,   0.0000,2,  2268.1,2, 2370.09,2,   7.6057,2, -999.00,9, -999.00,9, -999.00,  -999.0,9, -999.00,9,     -999.0,9,  -999.0,1, 20170811,     2149, -32.5004,-152.2586,        0.0,1,      0.060,1,      4.697,1,      0.124,1,      25.02,     -999.0,1,     -999.0,9,     -999.0,9,     -999.0,9,     1.2286,2,     -999.0,9
320620170703,        P06,     138,          1,          6,          6,2,20170811,       2342,   -32.4997,  -152.2584,       5128,  3966.0,   1.3781,  34.7087,2,  34.7076,2, 190.9864,2, 191.0026,2,   117.1,2,   32.73,2,    0.00,2,    2.27,2,   0.033,2,   0.030,2,   0.0000,2,  2273.5,2, 2373.64,2,   7.6008,2, -999.00,9, -999.00,9, -999.00,    37.5,2, -999.00,9,     -999.0,1,  -999.0,1, 20170811,     2156, -32.5004,-152.2586,        0.0,1,      0.061,1,      4.698,1,      0.124,1,      25.02,     -999.0,1,     -999.0,9,     -999.0,9,     -999.0,9,     1.3746,2,     -999.0,9
320620170703,        P06,     138,          1,          7,          7,2,20170811,       2342,   -32.4997,  -152.2584,       5128,  3658.2,   1.5097,  34.6996,2,  34.6991,2, 180.3073,2, 178.9505,2,   120.6,2,   33.56,2,    0.00,2,    2.32,2,   0.028,2,   0.026,2,   0.0000,2,  2284.7,2, 2384.55,2,   7.5922,2, -999.00,9, -999.00,9, -999.00,    37.9,2, -999.00,9,     -999.0,1,  -999.0,1, 20170811,     2203, -32.4999,-152.2586,        0.0,1,      0.061,1,      4.697,1,      0.124,1,      25.02,     -999.0,1,     -999.0,9,     -999.0,9,     -999.0,9,     1.5040,2,     -999.0,9
320620170703,        P06,     138,          1,          8,          8,2,20170811,       2342,   -32.4997,  -152.2584,       5128,  3351.0,   1.6226,  34.6848,2,  34.6826,2, 165.5342,3, 163.8045,2,   127.3,2,   34.80,2,    0.00,2,    2.42,2,   0.029,2,   0.025,2,   0.0000,2,  2301.1,2, 2397.66,2,   7.5812,2, -999.00,9, -999.00,9, -999.00,  -999.0,9, -999.00,9,     -999.0,9,  -999.0,1, 20170811,     2209, -32.5003,-152.2586,        0.0,1,      0.061,1,      4.697,1,      0.127,1,      25.03,     -999.0,1,     -999.0,9,     -999.0,9,     -999.0,9,     1.6307,2,     -999.0,9
320620170703,        P06,     138,          1,          9,          9,2,20170811,       2342,   -32.4997,  -152.2584,       5128,  3044.0,   1.7338,  34.6740,2,  34.6730,3, 156.3837,3, 154.4229,2,   129.8,2,   35.48,2,    0.00,2,    2.47,2,   0.025,2,   0.025,2,   0.0000,2,  2310.8,2, 2406.06,2,   7.5733,2, -999.00,9, -999.00,9, -999.00,    35.6,2, -999.00,9,     -999.0,1,  -999.0,1, 20170811,     2216, -32.5000,-152.2584,        0.0,1,      0.061,1,      4.697,1,      0.128,1,      25.02,     -999.0,1,     -999.0,9,     -999.0,9,     -999.0,9,     1.7323,2,     -999.0,9
320620170703,        P06,     138,          1,         10,         10,2,20170811,       2342,   -32.4997,  -152.2584,       5128,  2790.1,   1.8146,  34.6658,2,  34.6649,2, 151.0638,2, 150.3280,2,   129.2,2,   35.78,2,    0.00,2,    2.49,2,   0.024,2,   0.024,2,   0.0000,2,  2314.0,2, 2405.09,2,   7.5684,2, -999.00,9, -999.00,9, -999.00,  -999.0,9, -999.00,9,     -999.0,9,  -999.0,1, 20170811,     2222, -32.5002,-152.2584,        0.0,1,      0.062,1,      4.698,1,      0.127,1,      25.02,     -999.0,1,     -999.0,9,     -999.0,9,     -999.0,9,     1.8073,2,     -999.0,9
320620170703,        P06,     138,          1,         11,         11,2,20170811,       2342,   -32.4997,  -152.2584,       5128,  2533.0,   1.9030,  34.6578,2,  34.6565,2, 147.9338,2, 148.1645,2,   126.4,2,   35.91,2,    0.00,2,    2.50,2,   0.025,2,   0.025,2,   0.0000,2,  2313.9,6, 2403.22,2,   7.5666,2, -999.00,9, -999.00,9, -999.00,    37.2,2, -999.00,9,     -999.0,1,  -999.0,1, 20170811,     2228, -32.5002,-152.2584,        0.0,1,      0.061,1,      4.698,1,      0.129,1,      25.02,     -999.0,1,     -999.0,9,     -999.0,9,     -999.0,9,     1.9019,2,     -999.0,9
320620170703,        P06,     138,          1,         12,         12,2,20170811,       2342,   -32.4997,  -152.2584,       5128,  2276.1,   2.0111,  34.6488,2,  34.6478,3, 146.9641,2, 148.1457,2,   122.1,2,   35.84,2,    0.00,2,    2.49,2,   0.024,2,   0.022,2,   0.0000,2,  2310.4,2, 2403.17,2,   7.5657,2, -999.00,9, -999.00,9, -999.00,  -999.0,9, -999.00,9,     -999.0,9,  -999.0,1, 20170811,     2234, -32.5000,-152.2584,        0.0,1,      0.061,1,      4.698,1,      0.129,1,      25.02,     -999.0,1,     -999.0,9,     -999.0,9,     -999.0,9,     2.0021,2,     -999.0,9
320620170703,        P06,     138,          1,         13,         13,2,20170811,       2342,   -32.4997,  -152.2584,       5128,  2023.4,   2.1828,  34.6330,2,  34.6309,2, 149.3049,3, 151.0327,2,   111.7,2,   35.49,2,    0.00,2,    2.49,2,   0.024,2,   0.023,2,   0.0000,2,  2297.7,2, 2387.26,2,   7.5660,2, -999.00,9, -999.00,9, -999.00,    36.9,2, -999.00,9,     -999.0,1,  -999.0,1, 20170811,     2240, -32.4998,-152.2583,        0.0,1,      0.061,1,      4.698,1,      0.130,1,      25.01,     -999.0,1,     -999.0,9,     -999.0,9,     -999.0,9,     2.1892,2,     -999.0,9
320620170703,        P06,     138,          1,         14,         14,2,20170811,       2342,   -32.4997,  -152.2584,       5128,  1819.6,   2.3645,  34.6115,2,  34.6099,2, 152.5228,2, 153.7884,2,   102.2,2,   35.26,2,    0.00,2,    2.46,2,   0.027,2,   0.025,2,   0.0000,2,  2287.1,2, 2377.87,2,   7.5664,2, -999.00,9, -999.00,9, -999.00,  -999.0,9, -999.00,9,     -999.0,9,  -999.0,1, 20170811,     2245, -32.5002,-152.2585,        0.0,1,      0.061,1,      4.699,1,      0.131,1,      25.01,     -999.0,1,     -999.0,9,     -999.0,9,     -999.0,9,     2.3622,2,     -999.0,9
320620170703,        P06,     138,          1,         15,         15,2,20170811,       2342,   -32.4997,  -152.2584,       5128,  1619.8,   2.5978,  34.5672,2,  34.5624,2, 159.6062,2, 160.4808,2,    86.6,2,   34.90,2,    0.00,2,    2.43,2,   0.043,2,   0.035,2,   0.0000,2,  2269.5,2, 2356.61,2,   7.5665,2, -999.00,9, -999.00,9, -999.00,    38.0,2, -999.00,9,     -999.0,1,  -999.0,1, 20170811,     2250, -32.5003,-152.2585,        0.0,1,      0.060,1,      4.698,1,      0.130,1,      25.01,     -999.0,1,     -999.0,9,     -999.0,9,     -999.0,9,     2.6088,2,     -999.0,9
320620170703,        P06,     138,          1,         16,         16,2,20170811,       2342,   -32.4997,  -152.2584,       5128,  1414.5,   2.9388,  34.4830,2,  34.4758,2, 169.6649,3, 171.3671,2,    66.2,2,   34.41,2,    0.00,2,    2.37,2,-999.000,5,-999.000,5,-999.0000,5,  2246.5,2, 2328.63,2,   7.5675,2, -999.00,9, -999.00,9, -999.00,    37.1,2, -999.00,9,     -999.0,1,  -999.0,1, 20170811,     2254, -32.5001,-152.2585,        0.0,1,      0.061,1,      4.698,1,      0.132,1,      25.02,     -999.0,1,     -999.0,9,     -999.0,9,     -999.0,9,     2.9682,2,     -999.0,9
320620170703,        P06,     138,          1,         17,         17,2,20170811,       2342,   -32.4997,  -152.2584,       5128,  1315.6,   3.2105,  34.4399,2,  34.4369,2, 174.9280,2, 175.7114,2,    58.8,2,   34.08,2,    0.00,2,    2.35,2,-999.000,5,-999.000,5,-999.0000,5,  2237.0,2, 2323.13,2,   7.5734,2, -999.00,9, -999.00,9, -999.00,  -999.0,9, -999.00,9,     -999.0,9,  -999.0,1, 20170811,     2257, -32.5000,-152.2584,        0.0,1,      0.061,1,      4.699,1,      0.130,1,      25.01,     -999.0,1,     -999.0,9,     -999.0,9,     -999.0,9,     3.2185,2,     -999.0,9
320620170703,        P06,     138,          1,         18,         18,2,20170811,       2342,   -32.4997,  -152.2584,       5128,  1213.4,   3.5287,  34.3920,2,  34.3831,2, 184.4939,2, 186.3212,2,    47.5,2,   33.26,2,    0.00,2,    2.28,2,   0.640,2,   0.312,2,   0.0000,2,  2221.3,2, 2309.84,2,   7.5859,2, -999.00,9, -999.00,9, -999.00,    38.7,2, -999.00,9,     -999.0,1,  -999.0,1, 20170811,     2300, -32.5000,-152.2584,        0.0,1,      0.060,1,      4.698,1,      0.130,1,      24.99,     -999.0,1,     -999.0,9,     -999.0,9,     -999.0,9,     3.5902,2,     -999.0,9
320620170703,        P06,     138,          1,         19,         19,2,20170811,       2342,   -32.4997,  -152.2584,       5128,  1113.3,   3.9891,  34.3511,2,  34.3403,2, 196.1720,2, 196.6973,2,    36.6,2,   31.94,2,    0.00,2,    2.18,2,   1.051,2,   0.484,2,   0.0920,2,  2204.5,2, 2299.49,2,   7.6049,2, -999.00,9, -999.00,9, -999.00,  -999.0,9, -999.00,9,     -999.0,9,  -999.0,1, 20170811,     2303, -32.5000,-152.2584,        0.0,1,      0.061,1,      4.699,1,      0.130,1,      25.03,     -999.0,1,     -999.0,9,     -999.0,9,     -999.0,9,     4.1188,2,     -999.0,9
320620170703,        P06,     138,          1,         20,         20,2,20170811,       2342,   -32.4997,  -152.2584,       5128,  1007.4,   4.7006,  34.3170,2,  34.3136,2, 207.7475,2, 205.9005,2,    26.4,2,   30.10,2,    0.00,2,    2.03,2,   1.559,2,   0.719,2,   0.1710,2,  2186.5,2, 2289.80,2,   7.6291,2, -999.00,9, -999.00,9, -999.00,    39.0,2, -999.00,9,     -999.0,1,  -999.0,1, 20170811,     2306, -32.5000,-152.2584,        0.0,1,      0.060,1,      4.698,1,      0.131,1,      25.00,     -999.0,1,     -999.0,9,     -999.0,9,     -999.0,9,     4.7397,2,     -999.0,9
320620170703,        P06,     138,          1,         21,         21,2,20170811,       2342,   -32.4997,  -152.2584,       5128,   907.9,   5.4185,  34.3034,2,  34.3025,2, 220.5257,2, 218.6394,2,    18.0,2,   27.91,2,    0.00,2,    1.88,2,   2.150,2,   1.020,2,   0.3090,2,  2170.5,2, 2284.03,2,   7.6566,2, -999.00,9, -999.00,9, -999.00,  -999.0,9, -999.00,9,     -999.0,9,  -999.0,1, 20170811,     2309, -32.4999,-152.2584,        0.0,1,      0.059,1,      4.697,1,      0.132,1,      25.02,     -999.0,1,     -999.0,9,     -999.0,9,     -999.0,9,     5.3407,2,     -999.0,9
320620170703,        P06,     138,          1,         22,         22,2,20170811,       2342,   -32.4997,  -152.2584,       5128,   809.0,   5.9324,  34.3105,2,  34.3050,2, 230.2455,2, 229.2577,2,    12.9,2,   26.06,2,    0.00,2,    1.75,2,   2.641,2,   1.283,2,   0.4010,2,  2158.3,2, 2279.97,2,   7.6787,2, -999.00,9, -999.00,9, -999.00,    40.5,2, -999.00,9,     -999.0,1,  -999.0,1, 20170811,     2312, -32.5002,-152.2585,        0.0,1,      0.058,1,      4.697,1,      0.131,1,      25.02,     -999.0,1,     -999.0,9,     -999.0,9,     -999.0,9,     5.8161,2,     -999.0,9
320620170703,        P06,     138,          1,         23,         23,2,20170811,       2342,   -32.4997,  -152.2584,       5128,   706.3,   6.4592,  34.3338,2,  34.3268,2, 239.1961,2, 238.7517,2,     8.9,2,   23.94,2,    0.00,2,    1.60,2,   3.381,2,   1.636,2,   0.6160,2,  2149.9,2, 2280.43,2,   7.6987,2, -999.00,9, -999.00,9, -999.00,    39.7,2, -999.00,9,     -999.0,1,  -999.0,1, 20170811,     2315, -32.5004,-152.2585,        0.0,1,      0.059,1,      4.697,1,      0.134,1,      25.02,     -999.0,1,     -999.0,9,     -999.0,9,     -999.0,9,     6.3804,2,     -999.0,9
320620170703,        P06,     138,          1,         24,         24,2,20170811,       2342,   -32.4997,  -152.2584,       5128,   606.3,   7.0139,  34.3738,2,  34.3048,2, 242.3303,2, 241.2482,2,     6.8,2,   22.26,2,    0.00,2,    1.50,2,   3.721,2,   1.874,2,   0.8240,2,  2145.7,2, 2276.45,2,   7.7082,2, -999.00,9, -999.00,9, -999.00,    43.7,2, -999.00,9,     -999.0,1,  -999.0,1, 20170811,     2318, -32.5003,-152.2585,        0.0,1,      0.058,1,      4.696,1,      0.133,1,      25.02,     -999.0,1,     -999.0,9,     -999.0,9,     -999.0,9,     6.9147,2,     -999.0,9
320620170703,        P06,     138,          1,         25,         25,2,20170811,       2342,   -32.4997,  -152.2584,       5128,   505.5,   7.6388,  34.4177,2,  34.4035,2, 240.7549,2, 241.9644,2,     5.3,2,   20.59,2,    0.00,2,    1.39,2,   3.758,2,   1.925,2,   1.0160,2,  2141.1,2, 2287.45,6,   7.7188,2, -999.00,9, -999.00,9, -999.00,  -999.0,5, -999.00,9,     -999.0,1,  -999.0,1, 20170811,     2321, -32.5001,-152.2585,        0.0,1,      0.059,1,      4.696,1,      0.134,1,      25.02,     -999.0,1,     -999.0,9,     -999.0,9,     -999.0,9,     7.4913,2,     -999.0,9
320620170703,        P06,     138,          1,         26,         26,2,20170811,       2342,   -32.4997,  -152.2584,       5128,   404.4,   8.8416,  34.5132,2,  34.5188,2, 224.3116,2, 226.0656,2,     3.6,2,   17.52,2,    0.00,2,    1.20,2,   3.535,2,   1.834,2,   0.8930,2,  2135.7,2, 2280.65,2,   7.7381,2, -999.00,9, -999.00,9, -999.00,    42.8,2, -999.00,9,     -999.0,1,  -999.0,1, 20170811,     2324, -32.5000,-152.2585,        0.0,1,      0.059,1,      4.692,1,      0.137,1,      25.04,     -999.0,1,     -999.0,1,     -999.0,9,     -999.0,9,     8.9168,2,     -999.0,9
320620170703,        P06,     138,          1,         27,         27,2,20170811,       2342,   -32.4997,  -152.2584,       5128,   350.9,  10.1246,  34.6294,2,  34.5881,2, 217.9785,2, 217.4735,2,     3.2,2,   15.92,2,    0.00,2,    1.10,2,   3.418,2,   1.766,2,   1.0780,2,  2132.2,6, -999.00,9,   7.7514,2, -999.00,9, -999.00,9, -999.00,  -999.0,9, -999.00,9,     -999.0,9,  -999.0,1, 20170811,     2326, -32.4999,-152.2585,        0.0,1,      0.059,1,      4.691,1,      0.136,1,      25.02,     -999.0,1,     -999.0,1,     -999.0,9,     -999.0,9,     9.8060,2,     -999.0,9
320620170703,        P06,     138,          1,         28,         28,2,20170811,       2342,   -32.4997,  -152.2584,       5128,   302.7,  11.6313,  34.7785,2,  34.7590,2, 209.5847,2, 211.3031,2,     2.0,2,   11.92,2,    0.00,2,    0.86,2,   2.324,2,   1.317,2,   1.4840,4,  2120.7,2, 2294.17,6,   7.7900,2, -999.00,9, -999.00,9, -999.00,    45.7,2, -999.00,9,     -999.0,1,  -999.0,1, 20170811,     2327, -32.5000,-152.2585,        0.0,1,      0.060,1,      4.690,1,      0.135,1,      25.00,     -999.0,1,     -999.0,1,     -999.0,9,     -999.0,9,    11.5450,2,     -999.0,9
320620170703,        P06,     138,          1,         29,         29,2,20170811,       2342,   -32.4997,  -152.2584,       5128,   251.2,  12.9876,  34.9071,2,  34.9233,2, 211.0295,2, 210.9923,2,     1.2,2,    8.21,2,    0.00,2,    0.63,2,   0.130,4,   0.041,4,   0.0010,4,  2106.7,2, -999.00,9,   7.8346,2, -999.00,9, -999.00,9, -999.00,    45.0,2,   10.40,2,     -999.0,1,  -999.0,1, 20170811,     2330, -32.4999,-152.2585,        0.0,1,      0.060,1,      4.689,1,      0.134,1,      25.02,     -999.0,1,     -999.0,1,     -999.0,9,     -999.0,9,    13.1398,2,     -999.0,9
320620170703,        P06,     138,          1,         30,         30,2,20170811,       2342,   -32.4997,  -152.2584,       5128,   202.9,  14.3757,  35.0980,2,  35.0837,2, 214.8509,2, 215.7177,2,     0.6,2,    5.24,2,    0.02,2,    0.43,2,   2.731,2,   1.518,2,   1.0880,2,  2095.6,2, 2310.79,2,   7.8701,2, -999.00,9, -999.00,9, -999.00,    46.6,2,    8.30,2,     -999.0,1,  -999.0,1, 20170811,     2332, -32.4999,-152.2585,        0.0,1,      0.062,1,      4.687,1,      0.135,1,      25.04,     -999.0,1,     -999.0,1,     -999.0,9,     -999.0,9,    14.3163,2,     -999.0,9
320620170703,        P06,     138,          1,         31,         31,2,20170811,       2342,   -32.4997,  -152.2584,       5128,   149.2,  15.3864,  35.2507,2,  35.2684,2, 219.0821,3, 216.1666,2,     0.4,2,    3.45,2,    0.03,2,    0.31,2,   3.534,2,   1.828,2,   1.0810,2,  2090.8,2, -999.00,9,   7.8998,2, -999.00,9, -999.00,9, -999.00,    49.0,2,    7.50,2,     -999.0,1,  -999.0,1, 20170811,     2334, -32.5000,-152.2585,        0.0,1,      0.082,1,      4.681,1,      0.144,1,      25.03,     -999.0,1,     -999.0,1,     -999.0,9,     -999.0,9,    15.4781,2,     -999.0,9
320620170703,        P06,     138,          1,         32,         32,2,20170811,       2342,   -32.4997,  -152.2584,       5128,   100.7,  16.9786,  35.4312,2,  35.4543,2, 233.3357,3, 235.7489,2,     0.0,2,    0.13,2,    0.02,2,    0.09,2,   2.400,2,   1.340,2,   1.3260,2,  2062.8,2, 2330.42,2,   7.9700,2, -999.00,9, -999.00,9, -999.00,    59.3,2,    5.30,2,     -999.0,1,  -999.0,1, 20170811,     2336, -32.5000,-152.2585,        0.0,1,      0.148,1,      4.646,1,      0.176,1,      25.04,     -999.0,1,     -999.0,1,     -999.0,9,     -999.0,9,    17.1024,2,     -999.0,9