BOTTLE,20230922CCHSIOCBG
EXPOCODE,SECT_ID,STNNBR,CASTNO,SAMPNO,BTLNBR,BTLNBR_FLAG_W,DATE,TIME,LATITUDE,LONGITUDE,DEPTH,CTDPRS,CTDTMP,CTDSAL,CTDSAL_FLAG_W,SALNTY,SALNTY_FLAG_W,CTDOXY,CTDOXY_FLAG_W,OXYGEN,OXYGEN_FLAG_W,SILCAT,SILCAT_FLAG_W,NITRAT,NITRAT_FLAG_W,NITRIT,NITRIT_FLAG_W,PHSPHT,PHSPHT_FLAG_W,CFC-11,CFC-11_FLAG_W,CFC-12,CFC-12_FLAG_W,SF6,SF6_FLAG_W,TCARBN,TCARBN_FLAG_W,ALKALI,ALKALI_FLAG_W,PH_TOT,PH_TOT_FLAG_W,DELC13,DELC13_FLAG_W,DELC14,DELC14_FLAG_W,C14ERR,DOC,DOC_FLAG_W,TDN,TDN_FLAG_W,TON,TON_FLAG_W,D15N_NO3,D15N_NO3_FLAG_W,BTL_DATE,BTL_TIME,BTL_LAT,BTL_LON,CTDRINKO,CTDRINKO_FLAG_W,CTDFLUOR,CTDFLUOR_FLAG_W,CTDXMISS,CTDXMISS_FLAG_W,CTDBACKSCATTER,CTDBACKSCATTER_FLAG_W,PH_TMP,D18O_NO3,D18O_NO3_FLAG_W,DOP,DOP_FLAG_W,HPLC,HPLC_FLAG_W,POC,POC_FLAG_W,REFTMP,REFTMP_FLAG_W,TDP,TDP_FLAG_W
,,,,,,,,,,,METERS,DBAR,ITS-90,PSS-78,,PSS-78,,UMOL/KG,,UMOL/KG,,UMOL/KG,,UMOL/KG,,UMOL/KG,,UMOL/KG,,PMOL/KG,,PMOL/KG,,FMOL/KG,,UMOL/KG,,UMOL/KG,,,,/MILLE,,/MILLE,,/MILLE,UMOL/KG,,UMOL/KG,,UMOL/KG,,/MILLE,,,,,,VOLTS,,VOLTS,,VOLTS,,VOLTS,,DEGC,/MILLE,,UMOL/KG,,,,UG/L,,ITS-90,,UMOL/KG,
320620170703,        P06,     114,          1,         33,         33,2,20170802,       0719,   -32.5002,  -168.4447,       5604,    74.2,  17.5297,  35.6453,2,  35.6490,2, 233.2365,2, 233.6313,2,     0.2,2,    0.04,2,    0.01,2,    0.06,2,   2.180,2,   1.272,2,   1.2280,2,  2065.3,2, 2334.43,2,   7.9842,2, -999.00,9, -999.00,9, -999.00,    58.5,2,    4.40,2,     -999.0,1,  -999.0,9, 20170802,      714, -32.5002,-168.4447,        0.0,1,      0.169,1,      4.639,1,      0.187,1,      25.01,     -999.0,9,     -999.0,9,     -999.0,9,     -999.0,9,    17.5314,2,     -999.0,9
320620170703,        P06,     114,          1,         34,         34,2,20170802,       0719,   -32.5002,  -168.4447,       5604,    48.9,  17.5993,  35.6581,2,  35.6506,2, 233.0003,2, 233.6156,2,     0.2,2,    0.04,2,    0.01,2,    0.06,2,   2.178,2,   1.289,2,   1.4590,2,  2063.3,2, 2334.68,2,   7.9852,2, -999.00,9, -999.00,9, -999.00,    62.2,2,    4.70,2,     -999.0,1,  -999.0,9, 20170802,      716, -32.5002,-168.4447,        0.0,1,      0.157,1,      4.621,1,      0.193,1,      25.01,     -999.0,9,     -999.0,9,     -999.0,9,     -999.0,9,    17.5465,2,     -999.0,9
320620170703,        P06,     114,          1,         35,         35,2,20170802,       0719,   -32.5002,  -168.4447,       5604,    24.1,  17.7945,  35.6757,2,  35.6526,2, 233.1167,2, 233.9892,2,     0.2,2,    0.02,2,    0.01,2,    0.07,2,   2.205,2,   1.287,2,   1.3240,2,  2065.1,2, 2338.29,2,   7.9866,2, -999.00,9, -999.00,9, -999.00,    60.0,2,    4.00,2,     -999.0,1,  -999.0,9, 20170802,      718, -32.5002,-168.4447,        0.0,1,      0.131,1,      4.626,1,      0.189,1,      25.02,     -999.0,9,     -999.0,9,     -999.0,9,     -999.0,9,    17.5672,2,     -999.0,9
320620170703,        P06,     114,          1,         36,         36,2,20170802,       0719,   -32.5002,  -168.4447,       5604,     4.2,  17.9517,  35.6884,2,  35.6544,2, 233.8247,2, 233.8947,2,     0.2,2,    0.02,2,    0.01,2,    0.08,2,   2.182,2,   1.286,2,   1.3750,2,  2064.5,6, 2335.61,2,   7.9864,2, -999.00,9, -999.00,9, -999.00,    58.9,2,    3.80,2,     -999.0,1,  -999.0,9, 20170802,      719, -32.5002,-168.4447,        0.0,1,      0.098,1,      4.627,1,      0.188,1,      25.00,     -999.0,9,     -999.0,9,     -999.0,9,     -999.0,9,    17.6044,2,     -999.0,9