BOTTLE,20230922CCHSIOCBG
EXPOCODE,SECT_ID,STNNBR,CASTNO,SAMPNO,BTLNBR,BTLNBR_FLAG_W,DATE,TIME,LATITUDE,LONGITUDE,DEPTH,CTDPRS,CTDTMP,CTDSAL,CTDSAL_FLAG_W,SALNTY,SALNTY_FLAG_W,CTDOXY,CTDOXY_FLAG_W,OXYGEN,OXYGEN_FLAG_W,SILCAT,SILCAT_FLAG_W,NITRAT,NITRAT_FLAG_W,NITRIT,NITRIT_FLAG_W,PHSPHT,PHSPHT_FLAG_W,CFC-11,CFC-11_FLAG_W,CFC-12,CFC-12_FLAG_W,SF6,SF6_FLAG_W,TCARBN,TCARBN_FLAG_W,ALKALI,ALKALI_FLAG_W,PH_TOT,PH_TOT_FLAG_W,DELC13,DELC13_FLAG_W,DELC14,DELC14_FLAG_W,C14ERR,DOC,DOC_FLAG_W,TDN,TDN_FLAG_W,TON,TON_FLAG_W,D15N_NO3,D15N_NO3_FLAG_W,BTL_DATE,BTL_TIME,BTL_LAT,BTL_LON,CTDRINKO,CTDRINKO_FLAG_W,CTDFLUOR,CTDFLUOR_FLAG_W,CTDXMISS,CTDXMISS_FLAG_W,CTDBACKSCATTER,CTDBACKSCATTER_FLAG_W,PH_TMP,D18O_NO3,D18O_NO3_FLAG_W,DOP,DOP_FLAG_W,HPLC,HPLC_FLAG_W,POC,POC_FLAG_W,REFTMP,REFTMP_FLAG_W,TDP,TDP_FLAG_W
,,,,,,,,,,,METERS,DBAR,ITS-90,PSS-78,,PSS-78,,UMOL/KG,,UMOL/KG,,UMOL/KG,,UMOL/KG,,UMOL/KG,,UMOL/KG,,PMOL/KG,,PMOL/KG,,FMOL/KG,,UMOL/KG,,UMOL/KG,,,,/MILLE,,/MILLE,,/MILLE,UMOL/KG,,UMOL/KG,,UMOL/KG,,/MILLE,,,,,,VOLTS,,VOLTS,,VOLTS,,VOLTS,,DEGC,/MILLE,,UMOL/KG,,,,UG/L,,ITS-90,,UMOL/KG,
320620170703,        P06,     132,          1,          1,          1,2,20170810,       0150,   -32.5000,  -156.2750,       5374,  5472.1,   1.1448,  34.7098,2,  34.7076,2, 205.1332,2, 205.9111,2,   121.1,2,   32.43,2,    0.00,2,    2.22,2,   0.106,2,   0.062,2,   0.0000,2,  2265.6,6, 2367.62,2,   7.6064,2, -999.00,9, -999.00,9, -999.00,    40.2,2, -999.00,9,     -999.0,1,  -999.0,1, 20170809,     2336, -32.4998,-156.2760,        0.0,1,      0.061,1,      4.694,1,      0.125,1,      25.02,     -999.0,1,     -999.0,9,     -999.0,9,     -999.0,9,     1.1450,2,     -999.0,9
320620170703,        P06,     132,          1,          2,          2,2,20170810,       0150,   -32.5000,  -156.2750,       5374,  5336.9,   1.1275,  34.7100,2,  34.7076,3, 205.1332,2, 205.9732,2,   121.2,2,   32.33,2,    0.00,2,    2.23,2,   0.103,2,   0.062,2,   0.0000,2,  2264.0,2, 2367.51,2,   7.6063,2, -999.00,9, -999.00,9, -999.00,  -999.0,9, -999.00,9,     -999.0,9,  -999.0,1, 20170809,     2340, -32.4997,-156.2762,        0.0,1,      0.060,1,      4.695,1,      0.127,1,      25.01,     -999.0,1,     -999.0,9,     -999.0,9,     -999.0,9,     1.1277,2,     -999.0,9
320620170703,        P06,     132,          1,          3,          3,2,20170810,       0150,   -32.5000,  -156.2750,       5374,  5198.1,   1.1129,  34.7102,2,  34.7076,2, 205.1332,2, 205.9485,2,   121.2,2,   32.36,2,    0.00,2,    2.24,2,   0.098,2,   0.061,2,   0.0000,2,  2263.9,2, 2367.98,2,   7.6065,2, -999.00,9, -999.00,9, -999.00,    39.4,2, -999.00,9,     -999.0,1,  -999.0,1, 20170809,     2344, -32.4996,-156.2764,        0.0,1,      0.060,1,      4.696,1,      0.125,1,      25.01,     -999.0,1,     -999.0,9,     -999.0,9,     -999.0,9,     1.1135,2,     -999.0,9
320620170703,        P06,     132,          1,          4,          4,2,20170810,       0150,   -32.5000,  -156.2750,       5374,  4784.0,   1.0865,  34.7110,2,  34.7083,2, 205.1332,2, 205.8432,2,   120.4,2,   32.31,2,    0.00,2,    2.24,2,   0.082,2,   0.053,2,   0.0000,2,  2264.4,2, 2367.42,6,   7.6059,2, -999.00,9, -999.00,9, -999.00,    39.8,2, -999.00,9,     -999.0,1,  -999.0,1, 20170809,     2352, -32.4997,-156.2762,        0.0,1,      0.061,1,      4.698,1,      0.124,1,      25.01,     -999.0,1,     -999.0,9,     -999.0,9,     -999.0,9,     1.0867,2,     -999.0,9
320620170703,        P06,     132,          1,          5,          5,2,20170810,       0150,   -32.5000,  -156.2750,       5374,  4372.9,   1.1539,  34.7139,2,  34.7123,2, 205.7456,3, 203.4762,2,   117.7,2,   32.22,2,    0.00,2,    2.22,2,   0.065,2,   0.042,2,   0.0000,2,  2263.6,2, 2363.70,3,   7.6061,2, -999.00,9, -999.00,9, -999.00,  -999.0,9, -999.00,9,     -999.0,9,  -999.0,1, 20170810,        0, -32.4998,-156.2760,        0.0,1,      0.060,1,      4.698,1,      0.124,1,      25.02,     -999.0,1,     -999.0,9,     -999.0,9,     -999.0,9,     1.1562,2,     -999.0,9
320620170703,        P06,     132,          1,          6,          6,2,20170810,       0150,   -32.5000,  -156.2750,       5374,  3963.1,   1.3809,  34.7161,2,  34.7148,2, 195.8461,2, 196.3971,2,   113.8,2,   32.33,2,    0.00,2,    2.23,2,   0.051,2,   0.033,2,   0.0000,2,  2267.7,2, 2374.08,2,   7.6031,2, -999.00,9, -999.00,9, -999.00,    39.5,2, -999.00,9,     -999.0,1,  -999.0,1, 20170810,        8, -32.4998,-156.2760,        0.0,1,      0.061,1,      4.698,1,      0.125,1,      25.01,     -999.0,1,     -999.0,9,     -999.0,9,     -999.0,9,     1.3655,2,     -999.0,9
320620170703,        P06,     132,          1,          7,          7,2,20170810,       0150,   -32.5000,  -156.2750,       5374,  3656.2,   1.5417,  34.7059,2,  34.7038,2, 183.8103,2, 182.5733,2,   117.1,2,   33.28,2,    0.00,2,    2.31,2,   0.030,2,   0.024,2,   0.0000,2,  2280.2,2, 2379.24,2,   7.5942,2, -999.00,9, -999.00,9, -999.00,    42.4,2, -999.00,9,     -999.0,1,  -999.0,1, 20170810,       14, -32.4996,-156.2763,        0.0,1,      0.061,1,      4.698,1,      0.125,1,      25.02,     -999.0,1,     -999.0,9,     -999.0,9,     -999.0,9,     1.5374,2,     -999.0,9
320620170703,        P06,     132,          1,          8,          8,2,20170810,       0150,   -32.5000,  -156.2750,       5374,  3349.6,   1.6453,  34.6896,2,  34.6938,2, 168.5645,3, 165.9558,2,   124.8,2,   34.66,2,    0.00,2,    2.39,2,   0.024,2,   0.021,2,   0.0000,2,  2299.5,2, 2395.75,2,   7.5818,2, -999.00,9, -999.00,9, -999.00,  -999.0,9, -999.00,9,     -999.0,9,  -999.0,1, 20170810,       21, -32.4998,-156.2759,        0.0,1,      0.061,1,      4.698,1,      0.127,1,      25.01,     -999.0,1,     -999.0,9,     -999.0,9,     -999.0,9,     1.6541,2,     -999.0,9
320620170703,        P06,     132,          1,          9,          9,2,20170810,       0150,   -32.5000,  -156.2750,       5374,  3042.2,   1.7438,  34.6744,2,  34.6718,2, 157.1005,2, 155.6295,2,   129.0,2,   35.60,2,    0.00,2,    2.47,2,   0.028,2,   0.022,2,   0.0000,2,  2310.8,2, 2403.90,2,   7.5731,2, -999.00,9, -999.00,9, -999.00,    35.6,2, -999.00,9,     -999.0,1,  -999.0,1, 20170810,       27, -32.4999,-156.2757,        0.0,1,      0.061,1,      4.699,1,      0.127,1,      25.02,     -999.0,1,     -999.0,9,     -999.0,9,     -999.0,9,     1.7460,2,     -999.0,9
320620170703,        P06,     132,          1,         10,         10,2,20170810,       0150,   -32.5000,  -156.2750,       5374,  2787.4,   1.8334,  34.6658,2,  34.6657,2, 152.1535,2, 151.6467,2,   128.0,2,   35.85,2,    0.00,2,    2.49,2,   0.022,2,   0.018,2,   0.0000,2,  2314.2,2, 2402.41,2,   7.5681,2, -999.00,9, -999.00,9, -999.00,  -999.0,9, -999.00,9,     -999.0,9,  -999.0,1, 20170810,       32, -32.5000,-156.2755,        0.0,1,      0.061,1,      4.699,1,      0.130,1,      25.01,     -999.0,1,     -999.0,9,     -999.0,9,     -999.0,9,     1.8280,2,     -999.0,9
320620170703,        P06,     132,          1,         11,         11,2,20170810,       0150,   -32.5000,  -156.2750,       5374,  2532.4,   1.9273,  34.6577,2,  34.6559,2, 150.0418,2, 150.6055,2,   124.4,2,   35.85,2,    0.00,2,    2.49,2,   0.024,2,   0.021,2,   0.0000,2,  2310.2,6, 2397.20,2,   7.5678,2, -999.00,9, -999.00,9, -999.00,    38.4,2, -999.00,9,     -999.0,1,  -999.0,1, 20170810,       38, -32.4998,-156.2756,        0.0,1,      0.061,1,      4.699,1,      0.129,1,      25.01,     -999.0,1,     -999.0,9,     -999.0,9,     -999.0,9,     1.9160,2,     -999.0,9
320620170703,        P06,     132,          1,         12,         12,2,20170810,       0150,   -32.5000,  -156.2750,       5374,  2278.1,   2.0473,  34.6482,2,  34.6455,2, 149.6660,3, 151.5013,2,   118.5,2,   35.75,2,    0.00,2,    2.48,2,   0.021,2,   0.020,2,   0.0000,2,  2306.4,2, 2395.16,3,   7.5665,2, -999.00,9, -999.00,9, -999.00,  -999.0,9, -999.00,9,     -999.0,9,  -999.0,1, 20170810,       43, -32.4997,-156.2758,        0.0,1,      0.061,1,      4.700,1,      0.129,1,      25.01,     -999.0,1,     -999.0,9,     -999.0,9,     -999.0,9,     2.0429,2,     -999.0,9
320620170703,        P06,     132,          1,         13,         13,2,20170810,       0150,   -32.5000,  -156.2750,       5374,  2024.2,   2.2370,  34.6297,2,  34.6291,2, 151.1380,2, 152.6313,2,   109.6,2,   35.49,2,    0.00,2,    2.47,2,   0.023,2,   0.021,2,   0.0000,2,  2297.2,2, 2383.60,2,   7.5670,2, -999.00,9, -999.00,9, -999.00,    37.3,2, -999.00,9,     -999.0,1,  -999.0,1, 20170810,       49, -32.4997,-156.2758,        0.0,1,      0.061,1,      4.699,1,      0.131,1,      25.01,     -999.0,1,     -999.0,9,     -999.0,9,     -999.0,9,     2.2268,2,     -999.0,9
320620170703,        P06,     132,          1,         14,         14,2,20170810,       0150,   -32.5000,  -156.2750,       5374,  1819.1,   2.4285,  34.6040,2,  34.6036,2, 153.9320,2, 155.4547,2,   100.1,2,   35.24,2,    0.00,2,    2.44,2,   0.027,2,   0.024,2,   0.0000,2,  2285.5,2, 2374.32,2,   7.5660,2, -999.00,9, -999.00,9, -999.00,    38.4,2, -999.00,9,     -999.0,1,  -999.0,1, 20170810,       53, -32.4998,-156.2756,        0.0,1,      0.061,1,      4.699,1,      0.132,1,      25.02,     -999.0,1,     -999.0,9,     -999.0,9,     -999.0,9,     2.4097,2,     -999.0,9
320620170703,        P06,     132,          1,         15,         15,2,20170810,       0150,   -32.5000,  -156.2750,       5374,  1617.7,   2.6741,  34.5541,2,  34.5539,2, 161.3605,2, 162.1812,2,    84.2,2,   34.90,2,    0.00,2,    2.41,2,   0.064,2,   0.042,2,   0.0000,2,  2268.0,2, 2358.25,2,   7.5660,2, -999.00,9, -999.00,9, -999.00,  -999.0,9, -999.00,9,     -999.0,9,  -999.0,1, 20170810,       58, -32.4998,-156.2756,        0.0,1,      0.061,1,      4.700,1,      0.130,1,      25.02,     -999.0,1,     -999.0,9,     -999.0,9,     -999.0,9,     2.6528,2,     -999.0,9
320620170703,        P06,     132,          1,         16,         16,2,20170810,       0150,   -32.5000,  -156.2750,       5374,  1412.9,   3.0542,  34.4621,2,  34.4671,2, 172.3313,2, 173.2840,2,    64.9,2,   34.43,2,    0.00,2,    2.37,2,   0.226,2,   0.125,2,   0.0000,2,  2244.3,2, 2330.88,2,   7.5676,2, -999.00,9, -999.00,9, -999.00,    38.3,2, -999.00,9,     -999.0,1,  -999.0,1, 20170810,      102, -32.4998,-156.2757,        0.0,1,      0.061,1,      4.700,1,      0.132,1,      25.01,     -999.0,1,     -999.0,9,     -999.0,9,     -999.0,9,     2.9997,2,     -999.0,9
320620170703,        P06,     132,          1,         17,         17,2,20170810,       0150,   -32.5000,  -156.2750,       5374,  1314.9,   3.3490,  34.4109,2,  34.4188,2, 179.5457,2, 179.8957,2,    55.7,2,   33.97,2,    0.00,2,    2.35,2,   0.389,2,   0.202,2,   0.0000,2,  2232.1,2, 2320.00,2,   7.5760,2, -999.00,9, -999.00,9, -999.00,  -999.0,9, -999.00,9,     -999.0,9,  -999.0,1, 20170810,      105, -32.4998,-156.2757,        0.0,1,      0.060,1,      4.700,1,      0.131,1,      25.02,     -999.0,1,     -999.0,9,     -999.0,9,     -999.0,9,     3.2648,2,     -999.0,9
320620170703,        P06,     132,          1,         18,         18,2,20170810,       0150,   -32.5000,  -156.2750,       5374,  1210.9,   3.8558,  34.3606,2,  34.3641,2, 190.2234,2, 189.9542,2,    43.5,2,   32.86,2,    0.00,2,    2.25,2,   0.725,2,   0.348,2,   0.0000,2,  2216.5,2, 2311.41,2,   7.5922,2, -999.00,9, -999.00,9, -999.00,    38.1,2, -999.00,9,     -999.0,1,  -999.0,1, 20170810,      108, -32.4998,-156.2756,        0.0,1,      0.060,1,      4.699,1,      0.132,1,      25.01,     -999.0,1,     -999.0,9,     -999.0,9,     -999.0,9,     3.7630,2,     -999.0,9
320620170703,        P06,     132,          1,         19,         19,2,20170810,       0150,   -32.5000,  -156.2750,       5374,  1110.7,   4.3961,  34.3319,2,  34.3315,2, 200.2512,2, 199.8236,2,    32.8,2,   31.38,2,    0.00,2,    2.14,2,   1.172,2,   0.548,2,   0.1441,2,  2197.6,2, 2297.15,2,   7.6138,2, -999.00,9, -999.00,9, -999.00,  -999.0,9, -999.00,9,     -999.0,9,  -999.0,1, 20170810,      111, -32.4998,-156.2755,        0.0,1,      0.060,1,      4.698,1,      0.132,1,      25.02,     -999.0,1,     -999.0,9,     -999.0,9,     -999.0,9,     4.3512,2,     -999.0,9
320620170703,        P06,     132,          1,         20,         20,2,20170810,       0150,   -32.5000,  -156.2750,       5374,  1007.9,   5.0797,  34.3176,2,  34.3125,2, 212.3441,2, 211.0014,2,    22.5,2,   29.17,2,    0.00,2,    1.98,2,   1.710,2,   0.793,2,   0.1991,2,  2179.9,2, 2290.80,2,   7.6426,2, -999.00,9, -999.00,9, -999.00,    40.1,2, -999.00,9,     -999.0,1,  -999.0,1, 20170810,      114, -32.4999,-156.2755,        0.0,1,      0.060,1,      4.698,1,      0.134,1,      25.02,     -999.0,1,     -999.0,9,     -999.0,9,     -999.0,9,     5.1205,2,     -999.0,9
320620170703,        P06,     132,          1,         21,         21,2,20170810,       0150,   -32.5000,  -156.2750,       5374,   908.4,   5.7110,  34.3141,2,  34.3099,2, 224.8883,2, 223.4832,2,    15.2,2,   26.93,2,    0.00,2,    1.81,2,   2.203,2,   1.052,2,   0.4083,2,  2163.1,2, 2286.32,2,   7.6701,2, -999.00,9, -999.00,9, -999.00,  -999.0,9, -999.00,9,     -999.0,9,  -999.0,1, 20170810,      117, -32.4999,-156.2754,        0.0,1,      0.059,1,      4.698,1,      0.132,1,      25.02,     -999.0,1,     -999.0,9,     -999.0,9,     -999.0,9,     5.6788,2,     -999.0,9
320620170703,        P06,     132,          1,         22,         22,2,20170810,       0150,   -32.5000,  -156.2750,       5374,   807.2,   6.2324,  34.3265,2,  34.3191,2, 232.6915,2, 233.2161,2,    10.8,2,   25.07,2,    0.00,2,    1.68,2,   2.761,2,   1.476,2,   3.5336,4,  2154.4,2, 2283.68,2,   7.6901,2, -999.00,9, -999.00,9, -999.00,    41.5,2, -999.00,9,     -999.0,1,  -999.0,1, 20170810,      120, -32.4998,-156.2755,        0.0,1,      0.059,1,      4.697,1,      0.135,1,      25.02,     -999.0,1,     -999.0,9,     -999.0,9,     -999.0,9,     6.1543,2,     -999.0,9
320620170703,        P06,     132,          1,         23,         23,2,20170810,       0150,   -32.5000,  -156.2750,       5374,   705.5,   6.7071,  34.3529,2,  34.3464,2, 238.7001,2, 239.4689,2,     7.9,2,   23.24,2,    0.00,2,    1.56,2,   3.410,2,   1.676,2,   0.6835,2,  2146.9,2, 2281.13,2,   7.7044,2, -999.00,9, -999.00,9, -999.00,    41.3,2, -999.00,9,     -999.0,1,  -999.0,1, 20170810,      122, -32.4997,-156.2756,        0.0,1,      0.059,1,      4.697,1,      0.134,1,      25.02,     -999.0,1,     -999.0,9,     -999.0,9,     -999.0,9,     6.6857,2,     -999.0,9
320620170703,        P06,     132,          1,         24,         24,2,20170810,       0150,   -32.5000,  -156.2750,       5374,   604.7,   7.2534,  34.3946,2,  34.3874,2, 239.8951,2, 240.7961,2,     6.2,2,   21.55,2,    0.00,2,    1.45,2,   3.712,2,   1.884,2,   0.7466,2,  2143.5,6, 2283.32,6,   7.7135,2, -999.00,9, -999.00,9, -999.00,    42.3,2, -999.00,9,     -999.0,1,  -999.0,1, 20170810,      125, -32.4998,-156.2755,        0.0,1,      0.059,1,      4.697,1,      0.135,1,      25.02,     -999.0,1,     -999.0,9,     -999.0,9,     -999.0,9,     7.2171,2,     -999.0,9
320620170703,        P06,     132,          1,         25,         25,2,20170810,       0150,   -32.5000,  -156.2750,       5374,   504.6,   8.0169,  34.4601,2,  34.4504,2, 235.2551,2, 234.9883,2,     4.8,2,   19.65,2,    0.00,2,    1.33,2,   3.568,2,   1.860,2,   1.0938,2,  2140.4,2, 2283.63,2,   7.7232,2, -999.00,9, -999.00,9, -999.00,    43.5,2, -999.00,9,     -999.0,1,  -999.0,1, 20170810,      128, -32.4997,-156.2755,        0.0,1,      0.058,1,      4.694,1,      0.138,1,      25.02,     -999.0,1,     -999.0,9,     -999.0,9,     -999.0,9,     7.9735,2,     -999.0,9
320620170703,        P06,     132,          1,         26,         26,2,20170810,       0150,   -32.5000,  -156.2750,       5374,   403.8,   9.4736,  34.5994,2,  34.5885,2, 223.4663,2, 223.2949,2,     3.3,2,   16.34,2,    0.00,2,    1.13,2,   3.313,2,   1.744,2,   1.2389,2,  2134.8,2, 2288.30,2,   7.7462,2, -999.00,9, -999.00,9, -999.00,    49.8,2, -999.00,9,     -999.0,1,  -999.0,1, 20170810,      131, -32.4998,-156.2754,        0.0,1,      0.059,1,      4.692,1,      0.136,1,      25.02,     -999.0,1,     -999.0,1,     -999.0,9,     -999.0,9,     9.4541,2,     -999.0,9
320620170703,        P06,     132,          1,         27,         27,2,20170810,       0150,   -32.5000,  -156.2750,       5374,   352.9,  10.6650,  34.7369,2,  34.7449,2, 212.9048,2, 212.5577,2,     2.6,2,   13.77,2,    0.00,2,    0.96,2,   3.072,2,   1.642,2,   1.1489,2,  2128.5,2, -999.00,9,   7.7735,2, -999.00,9, -999.00,9, -999.00,  -999.0,9, -999.00,9,     -999.0,9,  -999.0,1, 20170810,      133, -32.4998,-156.2754,        0.0,1,      0.059,1,      4.691,1,      0.135,1,      25.01,     -999.0,1,     -999.0,1,     -999.0,9,     -999.0,9,    10.8566,2,     -999.0,9
320620170703,        P06,     132,          1,         28,         28,2,20170810,       0150,   -32.5000,  -156.2750,       5374,   303.0,  11.8767,  34.8843,2,  34.9520,2, 208.4615,2, 208.1762,2,     1.9,2,   10.27,2,    0.00,2,    0.74,2,   2.825,2,   1.535,2,   1.1318,2,  2119.4,2, 2302.74,2,   7.8127,2, -999.00,9, -999.00,9, -999.00,    49.8,2, -999.00,9,     -999.0,1,  -999.0,1, 20170810,      135, -32.4999,-156.2753,        0.0,1,      0.059,1,      4.691,1,      0.139,1,      25.02,     -999.0,1,     -999.0,1,     -999.0,9,     -999.0,9,    12.5345,2,     -999.0,9
320620170703,        P06,     132,          1,         29,         29,2,20170810,       0150,   -32.5000,  -156.2750,       5374,   251.6,  13.3502,  35.0655,2,  35.1228,2, 212.0830,2, 213.6109,2,     1.1,2,    6.50,2,    0.00,2,    0.51,2,   2.640,2,   1.487,2,   1.1398,2,  2104.2,2, -999.00,9,   7.8579,2, -999.00,9, -999.00,9, -999.00,    51.2,2,    8.50,2,     -999.0,1,  -999.0,1, 20170810,      137, -32.4999,-156.2753,        0.0,1,      0.060,1,      4.689,1,      0.136,1,      25.02,     -999.0,1,     -999.0,1,     -999.0,9,     -999.0,9,    14.0467,2,     -999.0,9
320620170703,        P06,     132,          1,         30,         30,2,20170810,       0150,   -32.5000,  -156.2750,       5374,   201.4,  14.4707,  35.1936,2,  35.2645,3, 214.4167,2, 215.2063,2,     0.7,2,    4.52,2,    0.02,2,    0.38,2,   2.514,6,   1.425,6,   1.3300,6,  2097.2,2, 2318.61,2,   7.8866,2, -999.00,9, -999.00,9, -999.00,    49.9,2,    7.40,2,     -999.0,1,  -999.0,1, 20170810,      139, -32.4999,-156.2752,        0.0,1,      0.061,1,      4.688,1,      0.136,1,      25.01,     -999.0,1,     -999.0,1,     -999.0,9,     -999.0,9,    15.0698,2,     -999.0,9
320620170703,        P06,     132,          1,         31,         31,2,20170810,       0150,   -32.5000,  -156.2750,       5374,   151.0,  15.6228,  35.3291,2,  35.3847,2, 221.1357,3, 218.0941,2,     0.4,2,    2.66,2,    0.03,2,    0.26,2,   2.416,2,   1.377,2,   1.2309,2,  2088.9,2, -999.00,9,   7.9139,2, -999.00,9, -999.00,9, -999.00,    51.8,2,    5.40,2,     -999.0,1,  -999.0,1, 20170810,      141, -32.4999,-156.2751,        0.0,1,      0.072,1,      4.684,1,      0.138,1,      25.02,     -999.0,1,     -999.0,1,     -999.0,9,     -999.0,9,    16.0671,2,     -999.0,9
320620170703,        P06,     132,          1,         32,         32,2,20170810,       0150,   -32.5000,  -156.2750,       5374,   101.1,  17.4537,  35.5762,2,  35.5760,2, 234.3050,2, 234.5539,2,     0.1,2,    0.09,2,    0.02,2,    0.07,2,   2.240,2,   1.284,2,   1.3160,2,  2063.9,2, 2337.50,2,   7.9784,2, -999.00,9, -999.00,9, -999.00,    58.6,2,    3.70,2,     -999.0,1,  -999.0,1, 20170810,      143, -32.5000,-156.2750,        0.0,1,      0.140,1,      4.649,1,      0.167,1,      25.01,     -999.0,1,     -999.0,1,     -999.0,9,     -999.0,9,    17.4461,2,     -999.0,9