BOTTLE,20230922CCHSIOCBG
EXPOCODE,SECT_ID,STNNBR,CASTNO,SAMPNO,BTLNBR,BTLNBR_FLAG_W,DATE,TIME,LATITUDE,LONGITUDE,DEPTH,CTDPRS,CTDTMP,CTDSAL,CTDSAL_FLAG_W,SALNTY,SALNTY_FLAG_W,CTDOXY,CTDOXY_FLAG_W,OXYGEN,OXYGEN_FLAG_W,SILCAT,SILCAT_FLAG_W,NITRAT,NITRAT_FLAG_W,NITRIT,NITRIT_FLAG_W,PHSPHT,PHSPHT_FLAG_W,CFC-11,CFC-11_FLAG_W,CFC-12,CFC-12_FLAG_W,SF6,SF6_FLAG_W,TCARBN,TCARBN_FLAG_W,ALKALI,ALKALI_FLAG_W,PH_TOT,PH_TOT_FLAG_W,DELC13,DELC13_FLAG_W,DELC14,DELC14_FLAG_W,C14ERR,DOC,DOC_FLAG_W,TDN,TDN_FLAG_W,TON,TON_FLAG_W,D15N_NO3,D15N_NO3_FLAG_W,BTL_DATE,BTL_TIME,BTL_LAT,BTL_LON,CTDRINKO,CTDRINKO_FLAG_W,CTDFLUOR,CTDFLUOR_FLAG_W,CTDXMISS,CTDXMISS_FLAG_W,CTDBACKSCATTER,CTDBACKSCATTER_FLAG_W,PH_TMP,D18O_NO3,D18O_NO3_FLAG_W,DOP,DOP_FLAG_W,HPLC,HPLC_FLAG_W,POC,POC_FLAG_W,REFTMP,REFTMP_FLAG_W,TDP,TDP_FLAG_W
,,,,,,,,,,,METERS,DBAR,ITS-90,PSS-78,,PSS-78,,UMOL/KG,,UMOL/KG,,UMOL/KG,,UMOL/KG,,UMOL/KG,,UMOL/KG,,PMOL/KG,,PMOL/KG,,FMOL/KG,,UMOL/KG,,UMOL/KG,,,,/MILLE,,/MILLE,,/MILLE,UMOL/KG,,UMOL/KG,,UMOL/KG,,/MILLE,,,,,,VOLTS,,VOLTS,,VOLTS,,VOLTS,,DEGC,/MILLE,,UMOL/KG,,,,UG/L,,ITS-90,,UMOL/KG,
320620170703,        P06,      17,          1,          1,         37,2,20170708,       0554,   -30.0803,   156.7103,       4846,  4924.3,   1.2523,  34.7134,2,  34.7136,2, 196.0464,2, 196.0644,2,   118.6,2,   32.61,2,    0.00,2,    2.24,2,   0.063,4,   0.039,2,   0.0000,2,  2278.1,6, 2383.28,2,   7.6177,2, -999.00,9, -999.00,9, -999.00,  -999.0,9, -999.00,9,     -999.0,9,  -999.0,9, 20170708,      349, -30.0803, 156.7102,        0.0,1,      0.061,1,      4.692,1,      0.159,1,      25.00,     -999.0,9,     -999.0,9,     -999.0,9,     -999.0,9,     1.2526,2,     -999.0,9
320620170703,        P06,      17,          1,          2,          2,2,20170708,       0554,   -30.0803,   156.7103,       4846,  4748.8,   1.2320,  34.7138,2,  34.7162,2, 196.0464,2, 196.1565,2,   118.5,2,   32.60,2,    0.00,2,    2.25,2,-999.000,9,-999.000,9,-999.0000,9,  -999.0,9, -999.00,9,-999.0000,9, -999.00,9, -999.00,9, -999.00,  -999.0,9, -999.00,9,     -999.0,9,  -999.0,9, 20170708,      354, -30.0803, 156.7102,        0.0,1,      0.060,1,      4.694,1,      0.165,1,     -999.0,     -999.0,9,     -999.0,9,     -999.0,9,     -999.0,9,     1.2329,2,     -999.0,9
320620170703,        P06,      17,          1,          3,         38,2,20170708,       0554,   -30.0803,   156.7103,       4846,  4578.7,   1.2171,  34.7140,2,  34.7123,2, 196.0464,2, 196.1288,2,   118.4,2,   32.58,2,    0.00,2,    2.25,2,   0.029,2,   0.038,2,   0.0000,2,  2278.7,2, 2378.46,2,   7.6160,2, -999.00,9, -999.00,9, -999.00,  -999.0,9, -999.00,9,     -999.0,9,  -999.0,9, 20170708,      359, -30.0804, 156.7102,        0.0,1,      0.060,1,      4.698,1,      0.147,1,      25.02,     -999.0,9,     -999.0,9,     -999.0,9,     -999.0,9,     1.2173,2,     -999.0,9
320620170703,        P06,      17,          1,          4,          4,2,20170708,       0554,   -30.0803,   156.7103,       4846,  4270.7,   1.1960,  34.7145,2,  34.7134,2, 196.0464,2, 196.2360,2,   118.2,2,   32.54,2,    0.00,2,    2.25,2,-999.000,9,-999.000,9,-999.0000,9,  -999.0,9, -999.00,9,-999.0000,9, -999.00,9, -999.00,9, -999.00,  -999.0,9, -999.00,9,     -999.0,9,  -999.0,9, 20170708,      407, -30.0804, 156.7102,        0.0,1,      0.061,1,      4.702,1,      0.140,1,     -999.0,     -999.0,9,     -999.0,9,     -999.0,9,     -999.0,9,     1.1955,2,     -999.0,9
320620170703,        P06,      17,          1,          5,         39,2,20170708,       0554,   -30.0803,   156.7103,       4846,  3962.9,   1.1927,  34.7153,2,  34.7138,2, 195.9165,2, 195.6362,2,   117.5,2,   32.52,2,    0.00,2,    2.24,2,   0.013,2,   0.029,2,   0.0000,2,  2276.4,2, 2376.44,2,   7.6142,2, -999.00,9, -999.00,9, -999.00,  -999.0,9, -999.00,9,     -999.0,9,  -999.0,9, 20170708,      413, -30.0804, 156.7102,        0.0,1,      0.061,1,      4.705,1,      0.137,1,      25.02,     -999.0,9,     -999.0,9,     -999.0,9,     -999.0,9,     1.1934,2,     -999.0,9
320620170703,        P06,      17,          1,          6,          6,2,20170708,       0554,   -30.0803,   156.7103,       4846,  3656.4,   1.2330,  34.7173,2,  34.7154,2, 195.6935,2, 195.5514,2,   115.8,2,   32.42,2,    0.00,2,    2.24,2,-999.000,9,-999.000,9,-999.0000,9,  -999.0,9, -999.00,9,-999.0000,9, -999.00,9, -999.00,9, -999.00,  -999.0,9, -999.00,9,     -999.0,9,  -999.0,9, 20170708,      419, -30.0802, 156.7102,        0.0,1,      0.061,1,      4.706,1,      0.135,1,     -999.0,     -999.0,9,     -999.0,9,     -999.0,9,     -999.0,9,     1.2342,2,     -999.0,9
320620170703,        P06,      17,          1,          7,         40,2,20170708,       0554,   -30.0803,   156.7103,       4846,  3350.0,   1.3688,  34.7200,2,  34.7191,2, 192.8135,2, 192.8734,2,   112.0,2,   32.22,2,    0.00,2,    2.23,2,   0.002,2,   0.020,2,   0.0000,2,  2270.8,2, 2370.46,2,   7.6106,2, -999.00,9, -999.00,9, -999.00,  -999.0,9, -999.00,9,     -999.0,9,  -999.0,9, 20170708,      425, -30.0801, 156.7102,        0.0,1,      0.061,1,      4.706,1,      0.135,1,      25.01,     -999.0,9,     -999.0,9,     -999.0,9,     -999.0,9,     1.3695,2,     -999.0,9
320620170703,        P06,      17,          1,          8,          8,2,20170708,       0554,   -30.0803,   156.7103,       4846,  3042.2,   1.6108,  34.7229,2,  34.7209,2, 189.0710,2, 189.3995,2,   106.2,2,   32.03,2,    0.00,2,    2.22,2,-999.000,9,-999.000,9,-999.0000,9,  -999.0,9, -999.00,9,-999.0000,9, -999.00,9, -999.00,9, -999.00,  -999.0,9, -999.00,9,     -999.0,9,  -999.0,9, 20170708,      431, -30.0803, 156.7102,        0.0,1,      0.061,1,      4.706,1,      0.135,1,     -999.0,     -999.0,9,     -999.0,9,     -999.0,9,     -999.0,9,     1.5769,2,     -999.0,9
320620170703,        P06,      17,          1,          9,         41,2,20170708,       0554,   -30.0803,   156.7103,       4846,  2787.1,   1.8106,  34.7199,2,  34.7188,2, 185.3267,2, 185.2471,2,   101.5,2,   32.05,2,    0.00,2,    2.22,2,   0.004,2,   0.021,2,   0.0000,2,  2266.5,2, 2361.29,2,   7.6023,2, -999.00,9, -999.00,9, -999.00,  -999.0,9, -999.00,9,     -999.0,9,  -999.0,9, 20170708,      437, -30.0802, 156.7102,        0.0,1,      0.061,1,      4.706,1,      0.138,1,      25.02,     -999.0,9,     -999.0,9,     -999.0,9,     -999.0,9,     1.7665,2,     -999.0,9
320620170703,        P06,      17,          1,         10,         10,2,20170708,       0554,   -30.0803,   156.7103,       4846,  2532.9,   1.9986,  34.7073,2,  34.7056,2, 179.2925,2, 178.9385,2,    96.9,2,   32.39,2,    0.00,2,    2.24,2,-999.000,9,-999.000,9,-999.0000,9,  -999.0,9, -999.00,9,-999.0000,9, -999.00,9, -999.00,9, -999.00,  -999.0,9, -999.00,9,     -999.0,9,  -999.0,9, 20170708,      442, -30.0802, 156.7102,        0.0,1,      0.061,1,      4.706,1,      0.137,1,     -999.0,     -999.0,9,     -999.0,9,     -999.0,9,     -999.0,9,     1.9941,2,     -999.0,9
320620170703,        P06,      17,          1,         11,         42,2,20170708,       0554,   -30.0803,   156.7103,       4846,  2277.6,   2.2281,  34.6795,2,  34.6808,2, 170.4200,2, 169.8460,2,    95.2,2,   33.15,2,    0.00,2,    2.31,2,   0.013,2,   0.033,2,   0.0000,2,  2271.9,2, 2360.14,2,   7.5851,2, -999.00,9, -999.00,9, -999.00,  -999.0,9, -999.00,9,     -999.0,9,  -999.0,9, 20170708,      447, -30.0800, 156.7102,        0.0,1,      0.062,1,      4.706,1,      0.138,1,      25.02,     -999.0,9,     -999.0,9,     -999.0,9,     -999.0,9,     2.2144,2,     -999.0,9
320620170703,        P06,      17,          1,         12,         12,2,20170708,       0554,   -30.0803,   156.7103,       4846,  2024.1,   2.4493,  34.6467,2,  34.6472,2, 159.5014,2, 159.4762,2,    98.3,2,   34.20,2,    0.00,2,    2.38,2,-999.000,9,-999.000,9,-999.0000,9,  -999.0,9, -999.00,9,-999.0000,9, -999.00,9, -999.00,9, -999.00,  -999.0,9, -999.00,9,     -999.0,9,  -999.0,9, 20170708,      453, -30.0801, 156.7102,        0.0,1,      0.061,1,      4.706,1,      0.141,1,     -999.0,     -999.0,9,     -999.0,9,     -999.0,9,     -999.0,9,     2.4379,2,     -999.0,9
320620170703,        P06,      17,          1,         13,         43,2,20170708,       0554,   -30.0803,   156.7103,       4846,  1818.6,   2.6978,  34.6165,2,  34.6178,2, 153.2165,2, 153.3840,2,    97.7,2,   34.71,2,    0.00,2,    2.43,2,   0.017,2,   0.035,2,   0.0000,2,  2281.9,2, 2370.66,3,   7.5693,2, -999.00,9, -999.00,9, -999.00,  -999.0,9, -999.00,9,     -999.0,9,  -999.0,9, 20170708,      457, -30.0800, 156.7102,        0.0,1,      0.061,1,      4.706,1,      0.141,1,      25.01,     -999.0,9,     -999.0,9,     -999.0,9,     -999.0,9,     2.6719,2,     -999.0,9
320620170703,        P06,      17,          1,         14,         14,2,20170708,       0554,   -30.0803,   156.7103,       4846,  1616.2,   3.1629,  34.5713,2,  34.5765,2, 152.0954,2, 152.4812,2,    90.0,2,   34.62,2,    0.00,2,    2.42,2,-999.000,9,-999.000,9,-999.0000,9,  2275.1,6, 2360.34,2,   7.5717,2, -999.00,9, -999.00,9, -999.00,  -999.0,9, -999.00,9,     -999.0,9,  -999.0,9, 20170708,      502, -30.0799, 156.7102,        0.0,1,      0.061,1,      4.706,1,      0.143,1,      25.02,     -999.0,9,     -999.0,9,     -999.0,9,     -999.0,9,     3.0857,2,     -999.0,9
320620170703,        P06,      17,          1,         15,         15,2,20170708,       0554,   -30.0803,   156.7103,       4846,  1514.9,   3.4288,  34.5501,2,  34.5519,2, 155.9521,2, 156.6271,2,    82.2,2,   34.16,2,    0.00,2,    2.39,2,   0.079,2,   0.067,2,   0.0000,2,  2265.5,2, 2351.36,2,   7.5770,2, -999.00,9, -999.00,9, -999.00,  -999.0,9, -999.00,9,     -999.0,9,  -999.0,9, 20170708,      505, -30.0799, 156.7102,        0.0,1,      0.062,1,      4.706,1,      0.141,1,      25.02,     -999.0,9,     -999.0,9,     -999.0,9,     -999.0,9,     3.3411,2,     -999.0,9
320620170703,        P06,      17,          1,         16,         16,2,20170708,       0554,   -30.0803,   156.7103,       4846,  1414.9,   3.8205,  34.5183,2,  34.5186,2, 162.5326,2, 162.3297,2,    71.6,2,   33.26,2,    0.00,2,    2.32,2,-999.000,9,-999.000,9,-999.0000,9,  -999.0,9, -999.00,9,-999.0000,9, -999.00,9, -999.00,9, -999.00,  -999.0,9, -999.00,9,     -999.0,9,  -999.0,9, 20170708,      507, -30.0799, 156.7102,        0.0,1,      0.061,1,      4.706,1,      0.143,1,     -999.0,     -999.0,9,     -999.0,9,     -999.0,9,     -999.0,9,     3.7902,2,     -999.0,9
320620170703,        P06,      17,          1,         17,         17,2,20170708,       0554,   -30.0803,   156.7103,       4846,  1314.0,   4.2256,  34.4922,2,  34.4921,2, 169.7335,2, 169.3452,2,    60.6,2,   32.26,2,    0.00,2,    2.24,2,   0.274,2,   0.170,2,   0.1560,2,  2234.0,2, 2328.23,6,   7.6017,2, -999.00,9, -999.00,9, -999.00,  -999.0,9, -999.00,9,     -999.0,9,  -999.0,9, 20170708,      510, -30.0800, 156.7102,        0.0,1,      0.061,1,      4.706,1,      0.141,1,      25.02,     -999.0,9,     -999.0,9,     -999.0,9,     -999.0,9,     4.2003,2,     -999.0,9
320620170703,        P06,      17,          1,         18,         18,2,20170708,       0554,   -30.0803,   156.7103,       4846,  1213.6,   4.6721,  34.4669,2,  34.4675,2, 176.0617,2, 176.2197,2,    50.8,2,   31.22,2,    0.00,2,    2.17,2,-999.000,9,-999.000,9,-999.0000,9,  -999.0,9, -999.00,9,-999.0000,9, -999.00,9, -999.00,9, -999.00,  -999.0,9, -999.00,9,     -999.0,9,  -999.0,9, 20170708,      513, -30.0800, 156.7102,        0.0,1,      0.061,1,      4.706,1,      0.142,1,     -999.0,     -999.0,9,     -999.0,9,     -999.0,9,     -999.0,9,     4.6216,2,     -999.0,9
320620170703,        P06,      17,          1,         19,         19,2,20170708,       0554,   -30.0803,   156.7103,       4846,  1110.3,   5.2187,  34.4481,2,  34.4471,2, 183.8726,2, 184.1912,2,    41.3,2,   29.99,2,    0.00,2,    2.05,2,   0.658,2,   0.351,2,   0.1760,2,  2204.9,2, 2308.66,2,   7.6272,2, -999.00,9, -999.00,9, -999.00,  -999.0,9, -999.00,9,     -999.0,9,  -999.0,9, 20170708,      516, -30.0800, 156.7102,        0.0,1,      0.060,1,      4.705,1,      0.142,1,      25.02,     -999.0,9,     -999.0,9,     -999.0,9,     -999.0,9,     5.0754,2,     -999.0,9
320620170703,        P06,      17,          1,         20,         20,2,20170708,       0554,   -30.0803,   156.7103,       4846,  1010.3,   5.8839,  34.4447,2,  34.4410,3, 190.5200,2, 190.6640,2,    30.5,2,   28.34,2,    0.00,2,    1.95,2,-999.000,9,-999.000,9,-999.0000,9,  -999.0,9, -999.00,9,-999.0000,9, -999.00,9, -999.00,9, -999.00,  -999.0,9, -999.00,9,     -999.0,9,  -999.0,9, 20170708,      518, -30.0800, 156.7102,        0.0,1,      0.059,1,      4.705,1,      0.141,1,     -999.0,     -999.0,9,     -999.0,9,     -999.0,9,     -999.0,9,     5.7804,2,     -999.0,9
320620170703,        P06,      17,          1,         21,         21,2,20170708,       0554,   -30.0803,   156.7103,       4846,   907.7,   6.6613,  34.4630,2,  34.4473,2, 199.1044,2, 199.1494,2,    22.3,2,   26.51,2,    0.00,2,    1.79,2,   1.408,2,   0.702,2,   0.2480,2,  2176.9,2, 2307.15,2,   7.6644,2, -999.00,9, -999.00,9, -999.00,  -999.0,9, -999.00,9,     -999.0,9,  -999.0,9, 20170708,      521, -30.0801, 156.7102,        0.0,1,      0.060,1,      4.705,1,      0.144,1,      25.01,     -999.0,9,     -999.0,9,     -999.0,9,     -999.0,9,     6.3766,2,     -999.0,9
320620170703,        P06,      17,          1,         22,         22,2,20170708,       0554,   -30.0803,   156.7103,       4846,   805.9,   7.5442,  34.5203,2,  34.4983,3, 202.5839,2, 202.4584,2,    15.4,2,   24.21,2,    0.00,2,    1.65,2,-999.000,9,-999.000,9,-999.0000,9,  -999.0,9, -999.00,9,-999.0000,9, -999.00,9, -999.00,9, -999.00,  -999.0,9, -999.00,9,     -999.0,9,  -999.0,9, 20170708,      524, -30.0801, 156.7102,        0.0,1,      0.059,1,      4.704,1,      0.141,1,     -999.0,     -999.0,9,     -999.0,9,     -999.0,9,     -999.0,9,     7.2921,2,     -999.0,9
320620170703,        P06,      17,          1,         23,         23,2,20170708,       0554,   -30.0803,   156.7103,       4846,   707.5,   8.5863,  34.6130,2,  34.6083,2, 201.4463,2, 201.2981,2,    10.6,2,   21.45,2,    0.00,2,    1.44,2,   2.393,2,   1.155,2,   0.5000,2,  2155.5,2, 2289.88,2,   7.7114,2, -999.00,9, -999.00,9, -999.00,  -999.0,9, -999.00,9,     -999.0,9,  -999.0,9, 20170708,      527, -30.0802, 156.7103,        0.0,1,      0.059,1,      4.703,1,      0.141,1,      25.02,     -999.0,9,     -999.0,9,     -999.0,9,     -999.0,9,     8.5590,2,     -999.0,9
320620170703,        P06,      17,          1,         24,         24,2,20170708,       0554,   -30.0803,   156.7103,       4846,   605.0,   9.9309,  34.7618,2,  34.7590,2, 200.0294,2, 199.8973,2,     7.0,2,   18.40,2,    0.00,2,    1.25,2,-999.000,9,-999.000,9,-999.0000,9,  2148.5,2, 2290.35,2,   7.7404,2, -999.00,9, -999.00,9, -999.00,  -999.0,9, -999.00,9,     -999.0,9,  -999.0,9, 20170708,      530, -30.0804, 156.7103,        0.0,1,      0.060,1,      4.699,1,      0.145,1,      25.01,     -999.0,9,     -999.0,9,     -999.0,9,     -999.0,9,     9.9737,2,     -999.0,9
320620170703,        P06,      17,          1,         25,         25,2,20170708,       0554,   -30.0803,   156.7103,       4846,   503.8,  11.7737,  34.9729,2,  34.9937,2, 196.4229,3, 193.3692,2,     4.9,2,   14.76,2,    0.00,2,    1.01,2,   2.652,2,   1.333,2,   0.7510,2,  2133.2,2, 2325.27,4,   7.7831,2, -999.00,9, -999.00,9, -999.00,  -999.0,9, -999.00,9,     -999.0,9,  -999.0,9, 20170708,      533, -30.0804, 156.7103,        0.0,1,      0.060,1,      4.697,1,      0.144,1,      25.02,     -999.0,9,     -999.0,9,     -999.0,9,     -999.0,9,    11.9337,2,     -999.0,9
320620170703,        P06,      17,          1,         26,         26,2,20170708,       0554,   -30.0803,   156.7103,       4846,   402.9,  14.4957,  35.2924,2,  35.2718,2, 195.0338,2, 194.9602,2,     2.8,2,   10.22,2,    0.00,2,    0.72,2,-999.000,9,-999.000,9,-999.0000,9,  -999.0,9, -999.00,9,-999.0000,9, -999.00,9, -999.00,9, -999.00,  -999.0,9, -999.00,9,     -999.0,9,  -999.0,9, 20170708,      536, -30.0804, 156.7103,        0.0,1,      0.059,1,      4.695,1,      0.144,1,     -999.0,     -999.0,9,     -999.0,9,     -999.0,9,     -999.0,9,    14.3156,2,     -999.0,9
320620170703,        P06,      17,          1,         27,         27,2,20170708,       0554,   -30.0803,   156.7103,       4846,   352.3,  15.8838,  35.4031,2,  35.3875,2, 190.6896,2, 190.2486,2,     2.1,2,    8.27,2,    0.00,2,    0.61,2,   2.401,2,   1.278,2,   0.9180,2,  2104.5,2, 2333.90,4,   7.8779,2, -999.00,9, -999.00,9, -999.00,  -999.0,9, -999.00,9,     -999.0,9,  -999.0,9, 20170708,      538, -30.0804, 156.7103,        0.0,1,      0.060,1,      4.694,1,      0.144,1,      25.02,     -999.0,9,     -999.0,9,     -999.0,9,     -999.0,9,    15.7580,2,     -999.0,9
320620170703,        P06,      17,          1,         28,         28,2,20170708,       0554,   -30.0803,   156.7103,       4846,   302.1,  17.0798,  35.5141,2,  35.4969,2, 190.9740,2, 191.4823,2,     1.6,2,    6.69,2,    0.00,2,    0.50,2,-999.000,9,-999.000,9,-999.0000,9,  2095.8,2, 2342.04,3,   7.9055,2, -999.00,9, -999.00,9, -999.00,  -999.0,9, -999.00,9,     -999.0,9,  -999.0,9, 20170708,      540, -30.0803, 156.7103,        0.0,1,      0.059,1,      4.693,1,      0.157,1,      25.02,     -999.0,9,     -999.0,9,     -999.0,9,     -999.0,9,    17.0875,2,     -999.0,9
320620170703,        P06,      17,          1,         29,         29,2,20170708,       0554,   -30.0803,   156.7103,       4846,   251.3,  18.2447,  35.6246,2,  35.5877,2, 190.0772,3, 187.6570,2,     1.3,2,    5.69,2,    0.00,2,    0.43,2,   2.205,2,   1.186,2,   0.8540,2,  2089.8,2, 2339.10,3,   7.9292,2, -999.00,9, -999.00,9, -999.00,  -999.0,9, -999.00,9,     -999.0,9,  -999.0,9, 20170708,      542, -30.0802, 156.7103,        0.0,1,      0.059,1,      4.690,1,      0.150,1,      25.02,     -999.0,9,     -999.0,9,     -999.0,9,     -999.0,9,    18.0939,2,     -999.0,9
320620170703,        P06,      17,          1,         30,         30,2,20170708,       0554,   -30.0803,   156.7103,       4846,   201.4,  18.9965,  35.6770,2,  35.7039,2, 206.4133,4, 199.9909,2,     0.6,2,    3.25,2,    0.02,2,    0.28,2,-999.000,9,-999.000,9,-999.0000,9,  2070.7,2, 2335.88,2,   7.9722,2, -999.00,9, -999.00,9, -999.00,  -999.0,9, -999.00,9,     -999.0,9,  -999.0,9, 20170708,      544, -30.0801, 156.7103,        0.0,1,      0.060,1,      4.689,1,      0.152,1,      25.03,     -999.0,9,     -999.0,9,     -999.0,9,     -999.0,9,    19.2468,2,     -999.0,9
320620170703,        P06,      17,          1,         31,         31,2,20170708,       0554,   -30.0803,   156.7103,       4846,   150.5,  20.0195,  35.7621,2,  35.7831,2, 214.0001,3, 209.8663,2,     0.2,2,    1.41,2,    0.11,2,    0.17,2,   2.034,2,   1.125,2,   1.0640,2,  2056.3,2, 2340.48,2,   8.0058,2, -999.00,9, -999.00,9, -999.00,  -999.0,9, -999.00,9,     -999.0,9,  -999.0,9, 20170708,      546, -30.0801, 156.7103,        0.0,1,      0.063,1,      4.684,1,      0.157,1,      25.02,     -999.0,9,     -999.0,9,     -999.0,9,     -999.0,9,    20.1796,2,     -999.0,9
320620170703,        P06,      17,          1,         32,         32,2,20170708,       0554,   -30.0803,   156.7103,       4846,    99.8,  20.4238,  35.7968,2,  35.7863,2, 218.3518,2, 219.2403,2,     0.0,2,    0.32,2,    0.17,2,    0.09,2,-999.000,9,-999.000,9,-999.0000,9,  2043.9,2, 2342.57,3,   8.0270,2, -999.00,9, -999.00,9, -999.00,  -999.0,9, -999.00,9,     -999.0,9,  -999.0,9, 20170708,      548, -30.0801, 156.7103,        0.0,1,      0.079,1,      4.677,1,      0.163,1,      25.01,     -999.0,9,     -999.0,9,     -999.0,9,     -999.0,9,    20.4769,2,     -999.0,9