BOTTLE,20230922CCHSIOCBG
EXPOCODE,SECT_ID,STNNBR,CASTNO,SAMPNO,BTLNBR,BTLNBR_FLAG_W,DATE,TIME,LATITUDE,LONGITUDE,DEPTH,CTDPRS,CTDTMP,CTDSAL,CTDSAL_FLAG_W,SALNTY,SALNTY_FLAG_W,CTDOXY,CTDOXY_FLAG_W,OXYGEN,OXYGEN_FLAG_W,SILCAT,SILCAT_FLAG_W,NITRAT,NITRAT_FLAG_W,NITRIT,NITRIT_FLAG_W,PHSPHT,PHSPHT_FLAG_W,CFC-11,CFC-11_FLAG_W,CFC-12,CFC-12_FLAG_W,SF6,SF6_FLAG_W,TCARBN,TCARBN_FLAG_W,ALKALI,ALKALI_FLAG_W,PH_TOT,PH_TOT_FLAG_W,DELC13,DELC13_FLAG_W,DELC14,DELC14_FLAG_W,C14ERR,DOC,DOC_FLAG_W,TDN,TDN_FLAG_W,TON,TON_FLAG_W,D15N_NO3,D15N_NO3_FLAG_W,BTL_DATE,BTL_TIME,BTL_LAT,BTL_LON,CTDRINKO,CTDRINKO_FLAG_W,CTDFLUOR,CTDFLUOR_FLAG_W,CTDXMISS,CTDXMISS_FLAG_W,CTDBACKSCATTER,CTDBACKSCATTER_FLAG_W,PH_TMP,D18O_NO3,D18O_NO3_FLAG_W,DOP,DOP_FLAG_W,HPLC,HPLC_FLAG_W,POC,POC_FLAG_W,REFTMP,REFTMP_FLAG_W,TDP,TDP_FLAG_W
,,,,,,,,,,,METERS,DBAR,ITS-90,PSS-78,,PSS-78,,UMOL/KG,,UMOL/KG,,UMOL/KG,,UMOL/KG,,UMOL/KG,,UMOL/KG,,PMOL/KG,,PMOL/KG,,FMOL/KG,,UMOL/KG,,UMOL/KG,,,,/MILLE,,/MILLE,,/MILLE,UMOL/KG,,UMOL/KG,,UMOL/KG,,/MILLE,,,,,,VOLTS,,VOLTS,,VOLTS,,VOLTS,,DEGC,/MILLE,,UMOL/KG,,,,UG/L,,ITS-90,,UMOL/KG,
320620170703,        P06,      78,          1,         33,         33,2,20170723,       2314,   -30.9814,   177.3994,       4180,    76.1,  18.8078,  35.7764,2,  35.7744,2, 225.1218,2, 224.9271,2,     0.4,2,    0.15,2,    0.08,2,    0.09,2,   2.196,2,   1.248,2,   0.8610,4,  2061.8,2, 2341.20,2,   7.9986,2, -999.00,9, -999.00,9, -999.00,  -999.0,5,    4.70,2,     -999.0,1,  -999.0,9, 20170723,     2308, -30.9818, 177.3995,        0.0,1,      0.154,1,      4.631,1,      0.217,1,      25.03,     -999.0,9,     -999.0,9,     -999.0,9,     -999.0,9,    18.7998,2,     -999.0,9
320620170703,        P06,      78,          1,         34,         34,2,20170723,       2314,   -30.9814,   177.3994,       4180,    50.5,  18.8030,  35.7764,2,  35.7730,2, 224.7716,2, 225.3595,2,     0.4,2,    0.17,2,    0.08,2,    0.10,2,   2.192,2,   1.233,2,   0.9480,4,  2060.8,2, 2343.73,2,   7.9987,2, -999.00,9, -999.00,9, -999.00,    59.5,2,    4.70,2,     -999.0,1,  -999.0,9, 20170723,     2310, -30.9817, 177.3995,        0.0,1,      0.157,1,      4.631,1,      0.218,1,      25.01,     -999.0,9,     -999.0,9,     -999.0,9,     -999.0,9,    18.7959,2,     -999.0,9
320620170703,        P06,      78,          1,         35,         35,2,20170723,       2314,   -30.9814,   177.3994,       4180,    25.5,  18.7990,  35.7763,2,  35.7734,2, 225.1354,2, 225.1871,2,     0.3,2,    0.18,2,    0.08,2,    0.10,2,   2.206,2,   1.251,2,   1.3160,2,  2060.7,2, 2337.62,2,   7.9981,2, -999.00,9, -999.00,9, -999.00,    64.9,3,    5.10,2,     -999.0,1,  -999.0,9, 20170723,     2312, -30.9815, 177.3995,        0.0,1,      0.151,1,      4.631,1,      0.219,1,      25.03,     -999.0,9,     -999.0,9,     -999.0,9,     -999.0,9,    18.7925,2,     -999.0,9
320620170703,        P06,      78,          1,         36,         36,2,20170723,       2314,   -30.9814,   177.3994,       4180,     4.7,  18.7952,  35.7758,2,  35.7803,2, 224.8866,2, 225.1356,2,     0.4,2,    0.19,2,    0.08,2,    0.11,2,   2.179,2,   1.239,2,   0.8710,4,  2061.3,6, 2343.20,2,   7.9991,2, -999.00,9, -999.00,9, -999.00,    61.6,2,    5.30,2,     -999.0,1,  -999.0,9, 20170723,     2314, -30.9814, 177.3994,        0.0,1,      0.153,1,      4.631,1,      0.208,1,      25.02,     -999.0,9,     -999.0,9,     -999.0,9,     -999.0,9,    18.7927,2,     -999.0,9