BOTTLE,20230922CCHSIOCBG
EXPOCODE,SECT_ID,STNNBR,CASTNO,SAMPNO,BTLNBR,BTLNBR_FLAG_W,DATE,TIME,LATITUDE,LONGITUDE,DEPTH,CTDPRS,CTDTMP,CTDSAL,CTDSAL_FLAG_W,SALNTY,SALNTY_FLAG_W,CTDOXY,CTDOXY_FLAG_W,OXYGEN,OXYGEN_FLAG_W,SILCAT,SILCAT_FLAG_W,NITRAT,NITRAT_FLAG_W,NITRIT,NITRIT_FLAG_W,PHSPHT,PHSPHT_FLAG_W,CFC-11,CFC-11_FLAG_W,CFC-12,CFC-12_FLAG_W,SF6,SF6_FLAG_W,TCARBN,TCARBN_FLAG_W,ALKALI,ALKALI_FLAG_W,PH_TOT,PH_TOT_FLAG_W,DELC13,DELC13_FLAG_W,DELC14,DELC14_FLAG_W,C14ERR,DOC,DOC_FLAG_W,TDN,TDN_FLAG_W,TON,TON_FLAG_W,D15N_NO3,D15N_NO3_FLAG_W,BTL_DATE,BTL_TIME,BTL_LAT,BTL_LON,CTDRINKO,CTDRINKO_FLAG_W,CTDFLUOR,CTDFLUOR_FLAG_W,CTDXMISS,CTDXMISS_FLAG_W,CTDBACKSCATTER,CTDBACKSCATTER_FLAG_W,PH_TMP,D18O_NO3,D18O_NO3_FLAG_W,DOP,DOP_FLAG_W,HPLC,HPLC_FLAG_W,POC,POC_FLAG_W,REFTMP,REFTMP_FLAG_W,TDP,TDP_FLAG_W
,,,,,,,,,,,METERS,DBAR,ITS-90,PSS-78,,PSS-78,,UMOL/KG,,UMOL/KG,,UMOL/KG,,UMOL/KG,,UMOL/KG,,UMOL/KG,,PMOL/KG,,PMOL/KG,,FMOL/KG,,UMOL/KG,,UMOL/KG,,,,/MILLE,,/MILLE,,/MILLE,UMOL/KG,,UMOL/KG,,UMOL/KG,,/MILLE,,,,,,VOLTS,,VOLTS,,VOLTS,,VOLTS,,DEGC,/MILLE,,UMOL/KG,,,,UG/L,,ITS-90,,UMOL/KG,
320620170703,        P06,      92,          1,         33,         33,2,20170726,       2239,   -32.4998,  -177.9998,       5877,    65.5,  16.7786,  35.5672,2,  35.5561,2, 234.3322,2, 235.9857,2,     0.5,2,    0.85,2,    0.13,2,    0.17,2,   2.287,2,   1.321,2,   1.4470,2,  2074.6,2, 2329.08,2,   7.9609,2, -999.00,9, -999.00,9, -999.00,    56.4,2,    4.80,2,     -999.0,1,  -999.0,1, 20170726,     2234, -32.4999,-177.9998,        0.0,1,      0.164,1,      4.601,1,      0.237,1,      25.03,     -999.0,1,     -999.0,1,     -999.0,9,     -999.0,9,    16.7404,2,     -999.0,9
320620170703,        P06,      92,          1,         34,         34,2,20170726,       2239,   -32.4998,  -177.9998,       5877,    40.3,  16.8112,  35.5660,2,  35.5910,2, 238.3838,2, 236.3125,2,     0.4,2,    0.79,2,    0.11,2,    0.16,2,   2.314,2,   1.335,2,   1.4530,2,  -999.0,9, -999.00,9,-999.0000,9, -999.00,9, -999.00,9, -999.00,    60.1,2,    5.20,2,     -999.0,1,  -999.0,1, 20170726,     2236, -32.4998,-177.9998,        0.0,1,      0.213,1,      4.595,1,      0.286,1,     -999.0,     -999.0,1,     -999.0,1,     -999.0,9,     -999.0,9,    16.9270,2,     -999.0,9
320620170703,        P06,      92,          1,         35,         35,2,20170726,       2239,   -32.4998,  -177.9998,       5877,    19.3,  16.9817,  35.5910,2,  35.5932,2, 238.2922,2, 236.6633,2,     0.4,2,    0.78,2,    0.11,2,    0.16,2,   2.284,2,   1.317,2,   1.3840,2,  2071.3,2, 2330.70,2,   7.9682,2, -999.00,9, -999.00,9, -999.00,    61.8,2,    4.90,2,     -999.0,1,  -999.0,1, 20170726,     2238, -32.4998,-177.9998,        0.0,1,      0.212,1,      4.559,1,      0.292,1,      25.04,     -999.0,1,     -999.0,1,     -999.0,9,     -999.0,9,    16.9394,2,     -999.0,9
320620170703,        P06,      92,          1,         36,         36,2,20170726,       2239,   -32.4998,  -177.9998,       5877,     4.5,  16.9917,  35.5934,2,  35.5967,2, 237.8423,2, 236.0948,2,     0.4,2,    0.78,2,    0.11,2,    0.17,2,   2.299,2,   1.326,2,   1.5030,2,  2071.7,6, 2330.80,2,   7.9676,2, -999.00,9, -999.00,9, -999.00,    61.0,2,    5.20,2,     -999.0,1,  -999.0,1, 20170726,     2239, -32.4998,-177.9998,        0.0,1,      0.211,1,      4.541,1,      0.279,1,      25.00,     -999.0,1,     -999.0,1,     -999.0,9,     -999.0,9,    16.9464,2,     -999.0,9