BOTTLE,20230922CCHSIOCBG
EXPOCODE,SECT_ID,STNNBR,CASTNO,SAMPNO,BTLNBR,BTLNBR_FLAG_W,DATE,TIME,LATITUDE,LONGITUDE,DEPTH,CTDPRS,CTDTMP,CTDSAL,CTDSAL_FLAG_W,SALNTY,SALNTY_FLAG_W,CTDOXY,CTDOXY_FLAG_W,OXYGEN,OXYGEN_FLAG_W,SILCAT,SILCAT_FLAG_W,NITRAT,NITRAT_FLAG_W,NITRIT,NITRIT_FLAG_W,PHSPHT,PHSPHT_FLAG_W,CFC-11,CFC-11_FLAG_W,CFC-12,CFC-12_FLAG_W,SF6,SF6_FLAG_W,TCARBN,TCARBN_FLAG_W,ALKALI,ALKALI_FLAG_W,PH_TOT,PH_TOT_FLAG_W,DELC13,DELC13_FLAG_W,DELC14,DELC14_FLAG_W,C14ERR,DOC,DOC_FLAG_W,TDN,TDN_FLAG_W,TON,TON_FLAG_W,D15N_NO3,D15N_NO3_FLAG_W,BTL_DATE,BTL_TIME,BTL_LAT,BTL_LON,CTDRINKO,CTDRINKO_FLAG_W,CTDFLUOR,CTDFLUOR_FLAG_W,CTDXMISS,CTDXMISS_FLAG_W,CTDBACKSCATTER,CTDBACKSCATTER_FLAG_W,PH_TMP,D18O_NO3,D18O_NO3_FLAG_W,DOP,DOP_FLAG_W,HPLC,HPLC_FLAG_W,POC,POC_FLAG_W,REFTMP,REFTMP_FLAG_W,TDP,TDP_FLAG_W
,,,,,,,,,,,METERS,DBAR,ITS-90,PSS-78,,PSS-78,,UMOL/KG,,UMOL/KG,,UMOL/KG,,UMOL/KG,,UMOL/KG,,UMOL/KG,,PMOL/KG,,PMOL/KG,,FMOL/KG,,UMOL/KG,,UMOL/KG,,,,/MILLE,,/MILLE,,/MILLE,UMOL/KG,,UMOL/KG,,UMOL/KG,,/MILLE,,,,,,VOLTS,,VOLTS,,VOLTS,,VOLTS,,DEGC,/MILLE,,UMOL/KG,,,,UG/L,,ITS-90,,UMOL/KG,
320620170703,        P06,     107,          1,          1,          1,2,20170731,       0747,   -32.4998,  -171.7600,       2889,  2914.2,   1.8141,  34.6712,2,  34.6739,2, 153.6324,2, 153.8013,2,   127.8,2,   35.32,2,    0.00,2,    2.49,2,   0.034,2,   0.022,2,   0.0000,2,  2309.2,6, 2396.46,2,   7.5717,2, -999.00,9, -999.00,9, -999.00,  -999.0,9, -999.00,9,     -999.0,9,  -999.0,9, 20170731,      622, -32.5000,-171.7598,        0.0,1,      0.060,1,      4.701,1,      0.130,1,      25.02,     -999.0,9,     -999.0,9,     -999.0,9,     -999.0,9,     1.8150,2,     -999.0,9
320620170703,        P06,     107,          1,          2,          2,2,20170731,       0747,   -32.4998,  -171.7600,       2889,  2735.3,   1.9545,  34.6570,2,  34.6553,3, 148.7755,2, 148.2641,2,   126.7,2,   35.75,2,    0.00,2,    2.53,2,-999.000,9,-999.000,9,-999.0000,9,  -999.0,9, -999.00,9,-999.0000,9, -999.00,9, -999.00,9, -999.00,  -999.0,9, -999.00,9,     -999.0,9,  -999.0,9, 20170731,      626, -32.5001,-171.7597,        0.0,1,      0.061,1,      4.702,1,      0.133,1,     -999.0,     -999.0,9,     -999.0,9,     -999.0,9,     -999.0,9,     1.9521,2,     -999.0,9
320620170703,        P06,     107,          1,          3,          3,2,20170731,       0747,   -32.4998,  -171.7600,       2889,  2568.1,   2.0253,  34.6506,2,  34.6508,2, 147.7303,2, 148.0922,2,   123.6,2,   35.74,2,    0.00,2,    2.51,2,-999.000,9,-999.000,9,-999.0000,9,  2309.9,2, 2391.73,2,   7.5654,2, -999.00,9, -999.00,9, -999.00,  -999.0,9, -999.00,9,     -999.0,9,  -999.0,9, 20170731,      630, -32.5000,-171.7598,        0.0,1,      0.061,1,      4.701,1,      0.132,1,      25.02,     -999.0,9,     -999.0,9,     -999.0,9,     -999.0,9,     2.0238,2,     -999.0,9
320620170703,        P06,     107,          1,          4,          4,2,20170731,       0747,   -32.4998,  -171.7600,       2889,  2363.6,   2.1196,  34.6419,2,  34.6407,2, 148.3467,2, 148.4261,2,   119.5,2,   35.68,2,    0.00,2,    2.53,2,   0.032,2,   0.028,2,   0.0000,2,  -999.0,9, -999.00,9,-999.0000,9, -999.00,9, -999.00,9, -999.00,  -999.0,9, -999.00,9,     -999.0,9,  -999.0,9, 20170731,      634, -32.4998,-171.7600,        0.0,1,      0.060,1,      4.701,1,      0.133,1,     -999.0,     -999.0,9,     -999.0,9,     -999.0,9,     -999.0,9,     2.1191,2,     -999.0,9
320620170703,        P06,     107,          1,          5,          5,2,20170731,       0747,   -32.4998,  -171.7600,       2889,  2161.7,   2.2540,  34.6289,2,  34.6333,2, 149.9435,2, 149.9923,2,   112.9,2,   35.46,2,    0.00,2,    2.49,2,-999.000,9,-999.000,9,-999.0000,9,  2299.5,2, 2380.51,2,   7.5654,2, -999.00,9, -999.00,9, -999.00,  -999.0,9, -999.00,9,     -999.0,9,  -999.0,9, 20170731,      638, -32.4999,-171.7599,        0.0,1,      0.061,1,      4.702,1,      0.134,1,      25.02,     -999.0,9,     -999.0,9,     -999.0,9,     -999.0,9,     2.2470,2,     -999.0,9
320620170703,        P06,     107,          1,          6,          6,2,20170731,       0747,   -32.4998,  -171.7600,       2889,  1986.9,   2.3560,  34.6149,2,  34.6138,2, 152.1581,2, 152.0576,2,   107.2,2,   35.27,2,    0.00,2,    2.49,2,-999.000,9,-999.000,9,-999.0000,9,  -999.0,9, -999.00,9,-999.0000,9, -999.00,9, -999.00,9, -999.00,  -999.0,9, -999.00,9,     -999.0,9,  -999.0,9, 20170731,      642, -32.4998,-171.7601,        0.0,1,      0.061,1,      4.702,1,      0.135,1,     -999.0,     -999.0,9,     -999.0,9,     -999.0,9,     -999.0,9,     2.3508,2,     -999.0,9
320620170703,        P06,     107,          1,          7,          7,2,20170731,       0747,   -32.4998,  -171.7600,       2889,  1883.9,   2.4375,  34.6039,2,  34.6016,2, 154.1510,2, 153.9077,2,   101.9,2,   35.10,2,    0.00,2,    2.47,2,   0.035,2,   0.028,2,   0.0000,2,  2284.9,2, 2367.37,2,   7.5671,2, -999.00,9, -999.00,9, -999.00,  -999.0,9, -999.00,9,     -999.0,9,  -999.0,9, 20170731,      645, -32.4997,-171.7603,        0.0,1,      0.060,1,      4.702,1,      0.134,1,      25.02,     -999.0,9,     -999.0,9,     -999.0,9,     -999.0,9,     2.4433,2,     -999.0,9
320620170703,        P06,     107,          1,          8,          8,2,20170731,       0747,   -32.4998,  -171.7600,       2889,  1784.2,   2.5149,  34.5919,2,  34.5881,2, 156.0552,2, 156.4760,2,    97.0,2,   34.97,2,    0.00,2,    2.46,2,-999.000,9,-999.000,9,-999.0000,9,  -999.0,9, -999.00,9,-999.0000,9, -999.00,9, -999.00,9, -999.00,  -999.0,9, -999.00,9,     -999.0,9,  -999.0,9, 20170731,      648, -32.4996,-171.7603,        0.0,1,      0.061,1,      4.702,1,      0.137,1,     -999.0,     -999.0,9,     -999.0,9,     -999.0,9,     -999.0,9,     2.5259,2,     -999.0,9
320620170703,        P06,     107,          1,          9,          9,2,20170731,       0747,   -32.4998,  -171.7600,       2889,  1682.2,   2.6754,  34.5622,2,  34.5612,2, 160.0468,2, 160.1031,2,    88.4,2,   34.74,2,    0.00,2,    2.44,2,-999.000,9,-999.000,9,-999.0000,9,  2268.6,2, 2351.98,2,   7.5674,2, -999.00,9, -999.00,9, -999.00,  -999.0,9, -999.00,9,     -999.0,9,  -999.0,9, 20170731,      650, -32.4996,-171.7605,        0.0,1,      0.061,1,      4.702,1,      0.135,1,      25.01,     -999.0,9,     -999.0,9,     -999.0,9,     -999.0,9,     2.6706,2,     -999.0,9
320620170703,        P06,     107,          1,         10,         10,2,20170731,       0747,   -32.4998,  -171.7600,       2889,  1580.5,   2.7922,  34.5378,2,  34.5380,2, 163.0192,2, 163.0289,2,    82.0,2,   34.57,2,    0.00,2,    2.42,2,   0.068,2,   0.047,2,   0.0000,2,  -999.0,9, -999.00,9,-999.0000,9, -999.00,9, -999.00,9, -999.00,  -999.0,9, -999.00,9,     -999.0,9,  -999.0,9, 20170731,      653, -32.4996,-171.7604,        0.0,1,      0.060,1,      4.702,1,      0.135,1,     -999.0,     -999.0,9,     -999.0,9,     -999.0,9,     -999.0,9,     2.7799,2,     -999.0,9
320620170703,        P06,     107,          1,         11,         11,2,20170731,       0747,   -32.4998,  -171.7600,       2889,  1479.6,   2.9455,  34.5123,2,  34.5093,2, 166.5885,2, 166.5242,2,    74.5,2,   34.33,2,    0.00,2,    2.39,2,-999.000,9,-999.000,9,-999.0000,9,  2254.6,2, 2338.42,6,   7.5723,2, -999.00,9, -999.00,9, -999.00,  -999.0,9, -999.00,9,     -999.0,9,  -999.0,9, 20170731,      655, -32.4997,-171.7603,        0.0,1,      0.061,1,      4.702,1,      0.136,1,      25.01,     -999.0,9,     -999.0,9,     -999.0,9,     -999.0,9,     2.9543,2,     -999.0,9
320620170703,        P06,     107,          1,         12,         12,2,20170731,       0747,   -32.4998,  -171.7600,       2889,  1379.3,   3.2488,  34.4504,2,  34.4447,2, 176.0635,2, 175.0339,2,    59.9,2,   33.78,2,    0.00,2,    2.35,2,-999.000,9,-999.000,9,-999.0000,9,  -999.0,9, -999.00,9,-999.0000,9, -999.00,9, -999.00,9, -999.00,  -999.0,9, -999.00,9,     -999.0,9,  -999.0,9, 20170731,      658, -32.4997,-171.7601,        0.0,1,      0.060,1,      4.702,1,      0.136,1,     -999.0,     -999.0,9,     -999.0,9,     -999.0,9,     -999.0,9,     3.2716,2,     -999.0,9
320620170703,        P06,     107,          1,         13,         13,2,20170731,       0747,   -32.4998,  -171.7600,       2889,  1277.7,   3.6723,  34.3941,2,  34.3904,2, 183.3713,2, 184.1082,2,    47.8,2,   32.92,2,    0.00,2,    2.29,2,   0.420,2,   0.221,2,   0.0000,2,  2218.4,2, -999.00,9,   7.5897,2, -999.00,9, -999.00,9, -999.00,  -999.0,9, -999.00,9,     -999.0,9,  -999.0,9, 20170731,      701, -32.4997,-171.7600,        0.0,1,      0.061,1,      4.702,1,      0.135,1,      25.01,     -999.0,9,     -999.0,9,     -999.0,9,     -999.0,9,     3.6856,2,     -999.0,9
320620170703,        P06,     107,          1,         14,         14,2,20170731,       0747,   -32.4998,  -171.7600,       2889,  1176.8,   4.1501,  34.3545,2,  34.3460,2, 195.5822,2, 195.2779,2,    35.6,2,   31.43,2,    0.00,2,    2.17,2,-999.000,9,-999.000,9,-999.0000,9,  -999.0,9, -999.00,9,-999.0000,9, -999.00,9, -999.00,9, -999.00,  -999.0,9, -999.00,9,     -999.0,9,  -999.0,9, 20170731,      703, -32.4997,-171.7602,        0.0,1,      0.060,1,      4.702,1,      0.136,1,     -999.0,     -999.0,9,     -999.0,9,     -999.0,9,     -999.0,9,     4.2541,2,     -999.0,9
320620170703,        P06,     107,          1,         15,         15,2,20170731,       0747,   -32.4998,  -171.7600,       2889,  1073.6,   4.7945,  34.3315,2,  34.3291,3, 202.9053,2, 203.4786,2,    27.1,2,   29.82,2,    0.00,2,    2.04,2,-999.000,9,-999.000,9,-999.0000,9,  2188.3,2, -999.00,9,   7.6314,2, -999.00,9, -999.00,9, -999.00,  -999.0,9, -999.00,9,     -999.0,9,  -999.0,9, 20170731,      706, -32.4998,-171.7602,        0.0,1,      0.059,1,      4.701,1,      0.137,1,      25.01,     -999.0,9,     -999.0,9,     -999.0,9,     -999.0,9,     4.8293,2,     -999.0,9
320620170703,        P06,     107,          1,         16,         16,2,20170731,       0747,   -32.4998,  -171.7600,       2889,   973.2,   5.4590,  34.3210,2,  34.3188,2, 218.9782,2, 218.4383,2,    16.9,2,   27.12,2,    0.00,2,    1.86,2,   1.942,2,   0.927,2,   0.2470,2,  -999.0,9, -999.00,9,-999.0000,9, -999.00,9, -999.00,9, -999.00,  -999.0,9, -999.00,9,     -999.0,9,  -999.0,9, 20170731,      708, -32.4998,-171.7601,        0.0,1,      0.059,1,      4.700,1,      0.138,1,     -999.0,     -999.0,9,     -999.0,9,     -999.0,9,     -999.0,9,     5.6074,2,     -999.0,9
320620170703,        P06,     107,          1,         17,         17,2,20170731,       0747,   -32.4998,  -171.7600,       2889,   871.7,   6.0726,  34.3307,2,  34.3321,2, 226.5080,2, 227.3579,2,    12.3,2,   25.31,2,    0.00,2,    1.75,2,-999.000,9,-999.000,9,-999.0000,9,  2157.3,2, 2276.78,2,   7.6847,2, -999.00,9, -999.00,9, -999.00,  -999.0,9, -999.00,9,     -999.0,9,  -999.0,9, 20170731,      711, -32.4999,-171.7600,        0.0,1,      0.058,1,      4.700,1,      0.139,1,      25.00,     -999.0,9,     -999.0,9,     -999.0,9,     -999.0,9,     6.0812,2,     -999.0,9
320620170703,        P06,     107,          1,         18,         18,2,20170731,       0747,   -32.4998,  -171.7600,       2889,   772.3,   6.5335,  34.3504,2,  34.3621,2, 235.2508,2, 234.8799,2,     8.2,2,   23.05,2,    0.00,2,    1.58,2,-999.000,9,-999.000,9,-999.0000,9,  -999.0,9, -999.00,9,-999.0000,9, -999.00,9, -999.00,9, -999.00,  -999.0,9, -999.00,9,     -999.0,9,  -999.0,9, 20170731,      714, -32.4999,-171.7599,        0.0,1,      0.059,1,      4.700,1,      0.134,1,     -999.0,     -999.0,9,     -999.0,9,     -999.0,9,     -999.0,9,     6.7470,2,     -999.0,9
320620170703,        P06,     107,          1,         19,         19,2,20170731,       0747,   -32.4998,  -171.7600,       2889,   670.8,   7.1022,  34.3917,2,  34.4059,2, 235.0187,2, 234.4954,2,     6.5,2,   21.53,2,    0.00,2,    1.47,2,   3.568,2,   1.808,2,   0.7390,2,  2144.5,2, -999.00,9,   7.7109,2, -999.00,9, -999.00,9, -999.00,  -999.0,9, -999.00,9,     -999.0,9,  -999.0,9, 20170731,      716, -32.5000,-171.7597,        0.0,1,      0.060,1,      4.698,1,      0.140,1,      25.02,     -999.0,9,     -999.0,9,     -999.0,9,     -999.0,9,     7.2993,2,     -999.0,9
320620170703,        P06,     107,          1,         20,         20,2,20170731,       0747,   -32.4998,  -171.7600,       2889,   569.4,   8.0202,  34.4777,2,  34.4921,2, 227.3646,2, 227.6620,2,     5.1,2,   19.42,2,    0.00,2,    1.34,2,-999.000,9,-999.000,9,-999.0000,9,  -999.0,9, -999.00,9,-999.0000,9, -999.00,9, -999.00,9, -999.00,  -999.0,9, -999.00,9,     -999.0,9,  -999.0,9, 20170731,      719, -32.4999,-171.7598,        0.0,1,      0.059,1,      4.696,1,      0.140,1,     -999.0,     -999.0,9,     -999.0,9,     -999.0,9,     -999.0,9,     8.2040,2,     -999.0,9
320620170703,        P06,     107,          1,         21,         21,2,20170731,       0747,   -32.4998,  -171.7600,       2889,   489.1,   8.8409,  34.5703,2,  34.6215,2, 218.7596,2, 217.0748,2,     4.3,2,   17.09,2,    0.00,2,    1.19,2,-999.000,9,-999.000,9,-999.0000,9,  2140.5,2, 2281.71,2,   7.7396,2, -999.00,9, -999.00,9, -999.00,  -999.0,9, -999.00,9,     -999.0,9,  -999.0,9, 20170731,      721, -32.4999,-171.7599,        0.0,1,      0.059,1,      4.694,1,      0.144,1,      25.02,     -999.0,9,     -999.0,9,     -999.0,9,     -999.0,9,     9.3751,2,     -999.0,9
320620170703,        P06,     107,          1,         22,         22,2,20170731,       0747,   -32.4998,  -171.7600,       2889,   437.4,  10.0713,  34.7135,2,  34.7123,2, 215.6301,2, 215.3985,2,     3.6,2,   15.24,2,    0.00,2,    1.08,2,   3.186,2,   1.729,2,   1.0240,2,  -999.0,9, -999.00,9,-999.0000,9, -999.00,9, -999.00,9, -999.00,  -999.0,9, -999.00,9,     -999.0,9,  -999.0,9, 20170731,      723, -32.4998,-171.7600,        0.0,1,      0.059,1,      4.694,1,      0.139,1,     -999.0,     -999.0,9,     -999.0,9,     -999.0,9,     -999.0,9,    10.0852,2,     -999.0,9
320620170703,        P06,     107,          1,         23,         23,2,20170731,       0747,   -32.4998,  -171.7600,       2889,   387.3,  11.0497,  34.8406,2,  34.8587,2, 213.7923,2, 214.0541,2,     3.1,2,   12.87,2,    0.00,2,    0.93,2,-999.000,9,-999.000,9,-999.0000,9,  2129.0,2, -999.00,9,   7.7794,2, -999.00,9, -999.00,9, -999.00,  -999.0,9, -999.00,9,     -999.0,9,  -999.0,9, 20170731,      725, -32.4998,-171.7601,        0.0,1,      0.060,1,      4.692,1,      0.157,1,      25.02,     -999.0,9,     -999.0,9,     -999.0,9,     -999.0,9,    11.1218,2,     -999.0,9
320620170703,        P06,     107,          1,         24,         24,2,20170731,       0747,   -32.4998,  -171.7600,       2889,   336.2,  11.9337,  34.9539,2,  35.0402,2, 208.1521,2, 207.9314,2,     2.4,2,   10.10,2,    0.00,2,    0.75,2,-999.000,9,-999.000,9,-999.0000,9,  -999.0,9, -999.00,9,-999.0000,9, -999.00,9, -999.00,9, -999.00,  -999.0,9, -999.00,9,     -999.0,9,  -999.0,9, 20170731,      727, -32.4997,-171.7603,        0.0,1,      0.059,1,      4.692,1,      0.138,1,     -999.0,     -999.0,9,     -999.0,9,     -999.0,9,     -999.0,9,    12.5956,2,     -999.0,9
320620170703,        P06,     107,          1,         25,         25,2,20170731,       0747,   -32.4998,  -171.7600,       2889,   286.8,  13.4621,  35.1446,2,  35.2004,2, 207.6300,2, 207.7714,2,     1.9,2,    7.61,2,    0.00,2,    0.60,2,-999.000,9,-999.000,9,-999.0000,9,  2111.6,2, 2307.02,2,   7.8484,2, -999.00,9, -999.00,9, -999.00,  -999.0,9, -999.00,9,     -999.0,9,  -999.0,9, 20170731,      729, -32.4997,-171.7603,        0.0,1,      0.060,1,      4.691,1,      0.136,1,      25.02,     -999.0,9,     -999.0,9,     -999.0,9,     -999.0,9,    13.9276,2,     -999.0,9
320620170703,        P06,     107,          1,         26,         26,2,20170731,       0747,   -32.4998,  -171.7600,       2889,   240.2,  14.5933,  35.2984,2,  35.3532,2, 210.0095,2, 210.0503,2,     1.2,2,    5.48,2,    0.02,2,    0.47,2,   2.558,2,   1.469,2,   1.2570,2,  -999.0,9, -999.00,9,-999.0000,9, -999.00,9, -999.00,9, -999.00,  -999.0,9, -999.00,9,     -999.0,9,  -999.0,9, 20170731,      730, -32.4997,-171.7603,        0.0,1,      0.061,1,      4.690,1,      0.137,1,     -999.0,     -999.0,9,     -999.0,9,     -999.0,9,     -999.0,9,    15.0835,2,     -999.0,9
320620170703,        P06,     107,          1,         27,         27,2,20170731,       0747,   -32.4998,  -171.7600,       2889,   215.3,  15.2527,  35.3702,2,  35.3849,2, 208.7685,2, 208.6943,2,     1.1,2,    4.95,2,    0.02,2,    0.42,2,-999.000,9,-999.000,9,-999.0000,9,  2100.7,2, -999.00,9,   7.8889,2, -999.00,9, -999.00,9, -999.00,  -999.0,9, -999.00,9,     -999.0,9,  -999.0,9, 20170731,      732, -32.4998,-171.7602,        0.0,1,      0.064,1,      4.689,1,      0.137,1,      25.02,     -999.0,9,     -999.0,9,     -999.0,9,     -999.0,9,    15.4409,2,     -999.0,9
320620170703,        P06,     107,          1,         28,         28,2,20170731,       0747,   -32.4998,  -171.7600,       2889,   190.4,  15.3888,  35.3838,2,  35.4535,2, 210.3340,2, 208.4281,2,     0.9,2,    4.20,2,    0.02,2,    0.38,2,-999.000,9,-999.000,9,-999.0000,9,  -999.0,9, -999.00,9,-999.0000,9, -999.00,9, -999.00,9, -999.00,  -999.0,9, -999.00,9,     -999.0,9,  -999.0,9, 20170731,      733, -32.4998,-171.7601,        0.0,1,      0.062,1,      4.688,1,      0.136,1,     -999.0,     -999.0,9,     -999.0,9,     -999.0,9,     -999.0,9,    15.9990,2,     -999.0,9
320620170703,        P06,     107,          1,         29,         29,2,20170731,       0747,   -32.4998,  -171.7600,       2889,   164.5,  16.0607,  35.4666,2,  35.6830,2, 231.6661,2, 230.6628,2,     0.2,2,    0.42,2,    0.04,2,    0.12,2,   2.285,2,   1.319,2,   1.2990,2,  2069.2,2, 2339.58,2,   7.9769,2, -999.00,9, -999.00,9, -999.00,  -999.0,9, -999.00,9,     -999.0,9,  -999.0,9, 20170731,      735, -32.4998,-171.7599,        0.0,1,      0.068,1,      4.683,1,      0.145,1,      25.02,     -999.0,9,     -999.0,9,     -999.0,9,     -999.0,9,    17.5077,2,     -999.0,9
320620170703,        P06,     107,          1,         30,         30,2,20170731,       0747,   -32.4998,  -171.7600,       2889,   141.5,  17.5130,  35.6872,2,  35.6889,2, 230.9659,2, 231.2346,2,     0.3,2,    0.34,2,    0.04,2,    0.11,2,-999.000,9,-999.000,9,-999.0000,9,  -999.0,9, -999.00,9,-999.0000,9, -999.00,9, -999.00,9, -999.00,  -999.0,9, -999.00,9,     -999.0,9,  -999.0,9, 20170731,      737, -32.4999,-171.7597,        0.0,1,      0.167,1,      4.636,1,      0.200,1,     -999.0,     -999.0,9,     -999.0,9,     -999.0,9,     -999.0,9,    17.5200,2,     -999.0,9
320620170703,        P06,     107,          1,         31,         31,2,20170731,       0747,   -32.4998,  -171.7600,       2889,   116.1,  17.5144,  35.6882,2,  35.6887,2, 231.1582,2, 231.8602,2,     0.3,2,    0.33,2,    0.04,2,    0.11,2,-999.000,9,-999.000,9,-999.0000,9,  2069.0,2, -999.00,9,   7.9786,2, -999.00,9, -999.00,9, -999.00,  -999.0,9, -999.00,9,     -999.0,9,  -999.0,9, 20170731,      738, -32.4999,-171.7597,        0.0,1,      0.174,1,      4.636,1,      0.222,1,      25.02,     -999.0,9,     -999.0,9,     -999.0,9,     -999.0,9,    17.5188,2,     -999.0,9
320620170703,        P06,     107,          1,         32,         32,2,20170731,       0747,   -32.4998,  -171.7600,       2889,    91.7,  17.5129,  35.6883,2,  35.6899,2, 231.4699,2, 231.7985,2,     0.4,2,    0.32,2,    0.04,2,    0.11,2,   2.256,2,   1.315,2,   1.2760,2,  -999.0,9, -999.00,9,-999.0000,9, -999.00,9, -999.00,9, -999.00,  -999.0,9, -999.00,9,     -999.0,9,  -999.0,9, 20170731,      741, -32.4999,-171.7598,        0.0,1,      0.184,1,      4.634,1,      0.214,1,     -999.0,     -999.0,9,     -999.0,9,     -999.0,9,     -999.0,9,    17.5264,2,     -999.0,9