BOTTLE,20230922CCHSIOCBG
EXPOCODE,SECT_ID,STNNBR,CASTNO,SAMPNO,BTLNBR,BTLNBR_FLAG_W,DATE,TIME,LATITUDE,LONGITUDE,DEPTH,CTDPRS,CTDTMP,CTDSAL,CTDSAL_FLAG_W,SALNTY,SALNTY_FLAG_W,CTDOXY,CTDOXY_FLAG_W,OXYGEN,OXYGEN_FLAG_W,SILCAT,SILCAT_FLAG_W,NITRAT,NITRAT_FLAG_W,NITRIT,NITRIT_FLAG_W,PHSPHT,PHSPHT_FLAG_W,CFC-11,CFC-11_FLAG_W,CFC-12,CFC-12_FLAG_W,SF6,SF6_FLAG_W,TCARBN,TCARBN_FLAG_W,ALKALI,ALKALI_FLAG_W,PH_TOT,PH_TOT_FLAG_W,DELC13,DELC13_FLAG_W,DELC14,DELC14_FLAG_W,C14ERR,DOC,DOC_FLAG_W,TDN,TDN_FLAG_W,TON,TON_FLAG_W,D15N_NO3,D15N_NO3_FLAG_W,BTL_DATE,BTL_TIME,BTL_LAT,BTL_LON,CTDRINKO,CTDRINKO_FLAG_W,CTDFLUOR,CTDFLUOR_FLAG_W,CTDXMISS,CTDXMISS_FLAG_W,CTDBACKSCATTER,CTDBACKSCATTER_FLAG_W,PH_TMP,D18O_NO3,D18O_NO3_FLAG_W,DOP,DOP_FLAG_W,HPLC,HPLC_FLAG_W,POC,POC_FLAG_W,REFTMP,REFTMP_FLAG_W,TDP,TDP_FLAG_W
,,,,,,,,,,,METERS,DBAR,ITS-90,PSS-78,,PSS-78,,UMOL/KG,,UMOL/KG,,UMOL/KG,,UMOL/KG,,UMOL/KG,,UMOL/KG,,PMOL/KG,,PMOL/KG,,FMOL/KG,,UMOL/KG,,UMOL/KG,,,,/MILLE,,/MILLE,,/MILLE,UMOL/KG,,UMOL/KG,,UMOL/KG,,/MILLE,,,,,,VOLTS,,VOLTS,,VOLTS,,VOLTS,,DEGC,/MILLE,,UMOL/KG,,,,UG/L,,ITS-90,,UMOL/KG,
320620170703,        P06,      24,          1,         33,         33,2,20170709,       1503,   -30.0799,   158.3399,       2676,    59.6,  20.2464,  35.8019,2,  35.7961,2, 216.0423,3, 214.4011,3,     0.4,2,    0.82,2,    0.28,2,    0.14,2,   1.857,2,   1.141,2,   1.0840,2,  2053.3,2, 2341.06,2,   8.0154,2, -999.00,9, -999.00,9, -999.00,  -999.0,9, -999.00,9,     -999.0,9,  -999.0,9, 20170709,     1459, -30.0797, 158.3398,        0.0,1,      0.131,1,      4.657,1,      0.180,1,      24.97,     -999.0,9,     -999.0,9,     -999.0,9,     -999.0,9,    20.2251,2,     -999.0,9
320620170703,        P06,      24,          1,         34,         34,2,20170709,       1503,   -30.0799,   158.3399,       2676,    35.5,  20.3357,  35.8011,2,  35.8013,2, 222.1822,2, 220.8739,2,     0.2,2,    0.28,2,    0.15,2,    0.11,2,-999.000,9,-999.000,9,-999.0000,9,  -999.0,9, -999.00,9,-999.0000,9, -999.00,9, -999.00,9, -999.00,  -999.0,9, -999.00,9,     -999.0,9,  -999.0,9, 20170709,     1501, -30.0798, 158.3398,        0.0,1,      0.211,1,      4.608,1,      0.212,1,     -999.0,     -999.0,9,     -999.0,9,     -999.0,9,     -999.0,9,    20.3283,2,     -999.0,9
320620170703,        P06,      24,          1,         35,         35,2,20170709,       1503,   -30.0799,   158.3399,       2676,     5.1,  20.3318,  35.8012,2,  35.8034,2, 220.5278,2, 220.4867,2,     0.2,2,    0.26,2,    0.15,2,    0.12,2,   1.822,2,   1.139,2,   1.0770,2,  2048.7,6, 2343.63,2,   8.0264,2, -999.00,9, -999.00,9, -999.00,  -999.0,9, -999.00,9,     -999.0,9,  -999.0,9, 20170709,     1503, -30.0799, 158.3399,        0.0,1,      0.227,1,      4.598,1,      0.216,1,      25.02,     -999.0,9,     -999.0,9,     -999.0,9,     -999.0,9,    20.3147,2,     -999.0,9