BOTTLE,20230922CCHSIOCBG
EXPOCODE,SECT_ID,STNNBR,CASTNO,SAMPNO,BTLNBR,BTLNBR_FLAG_W,DATE,TIME,LATITUDE,LONGITUDE,DEPTH,CTDPRS,CTDTMP,CTDSAL,CTDSAL_FLAG_W,SALNTY,SALNTY_FLAG_W,CTDOXY,CTDOXY_FLAG_W,OXYGEN,OXYGEN_FLAG_W,SILCAT,SILCAT_FLAG_W,NITRAT,NITRAT_FLAG_W,NITRIT,NITRIT_FLAG_W,PHSPHT,PHSPHT_FLAG_W,CFC-11,CFC-11_FLAG_W,CFC-12,CFC-12_FLAG_W,SF6,SF6_FLAG_W,TCARBN,TCARBN_FLAG_W,ALKALI,ALKALI_FLAG_W,PH_TOT,PH_TOT_FLAG_W,DELC13,DELC13_FLAG_W,DELC14,DELC14_FLAG_W,C14ERR,DOC,DOC_FLAG_W,TDN,TDN_FLAG_W,TON,TON_FLAG_W,D15N_NO3,D15N_NO3_FLAG_W,BTL_DATE,BTL_TIME,BTL_LAT,BTL_LON,CTDRINKO,CTDRINKO_FLAG_W,CTDFLUOR,CTDFLUOR_FLAG_W,CTDXMISS,CTDXMISS_FLAG_W,CTDBACKSCATTER,CTDBACKSCATTER_FLAG_W,PH_TMP,D18O_NO3,D18O_NO3_FLAG_W,DOP,DOP_FLAG_W,HPLC,HPLC_FLAG_W,POC,POC_FLAG_W,REFTMP,REFTMP_FLAG_W,TDP,TDP_FLAG_W
,,,,,,,,,,,METERS,DBAR,ITS-90,PSS-78,,PSS-78,,UMOL/KG,,UMOL/KG,,UMOL/KG,,UMOL/KG,,UMOL/KG,,UMOL/KG,,PMOL/KG,,PMOL/KG,,FMOL/KG,,UMOL/KG,,UMOL/KG,,,,/MILLE,,/MILLE,,/MILLE,UMOL/KG,,UMOL/KG,,UMOL/KG,,/MILLE,,,,,,VOLTS,,VOLTS,,VOLTS,,VOLTS,,DEGC,/MILLE,,UMOL/KG,,,,UG/L,,ITS-90,,UMOL/KG,
320620170703,        P06,     123,          1,         33,         33,2,20170805,       2220,   -32.4998,  -162.4887,       5060,    74.3,  18.1507,  35.6536,2,  35.6522,2, 229.6709,2, 229.5954,2,     0.4,2,    0.12,2,    0.02,2,    0.06,2,   2.099,2,   1.269,2,   1.3930,2,  2062.9,2, 2336.03,2,   7.9914,2, -999.00,9, -999.00,9, -999.00,  -999.0,9, -999.00,9,     -999.0,9,  -999.0,9, 20170805,     2215, -32.4997,-162.4886,        0.0,1,      0.144,1,      4.647,1,      0.186,1,      24.99,     -999.0,9,     -999.0,9,     -999.0,9,     -999.0,9,    18.0434,2,     -999.0,9
320620170703,        P06,     123,          1,         34,         34,2,20170805,       2220,   -32.4998,  -162.4887,       5060,    51.7,  18.1523,  35.6546,2,  35.6512,2, 229.7284,2, 229.6059,2,     0.3,2,    0.12,2,    0.02,2,    0.07,2,   2.111,2,   1.257,2,   1.3760,2,  2062.0,2, 2338.53,2,   7.9922,2, -999.00,9, -999.00,9, -999.00,  -999.0,9, -999.00,9,     -999.0,9,  -999.0,9, 20170805,     2217, -32.4997,-162.4885,        0.0,1,      0.146,1,      4.647,1,      0.179,1,      24.99,     -999.0,9,     -999.0,9,     -999.0,9,     -999.0,9,    18.0464,2,     -999.0,9
320620170703,        P06,     123,          1,         35,         35,2,20170805,       2220,   -32.4998,  -162.4887,       5060,    24.9,  18.1462,  35.6537,2,  35.6512,2, 229.8764,2, 229.3863,2,     0.4,2,    0.12,2,    0.02,2,    0.07,2,   2.093,2,   1.250,2,   1.4480,2,  2061.6,2, 2334.51,2,   7.9917,2, -999.00,9, -999.00,9, -999.00,  -999.0,9, -999.00,9,     -999.0,9,  -999.0,9, 20170805,     2219, -32.4997,-162.4886,        0.0,1,      0.142,1,      4.647,1,      0.177,1,      25.01,     -999.0,9,     -999.0,9,     -999.0,9,     -999.0,9,    18.0485,2,     -999.0,9
320620170703,        P06,     123,          1,         36,         36,2,20170805,       2220,   -32.4998,  -162.4887,       5060,     3.6,  18.1421,  35.6538,2,  35.6530,2, 230.0145,2, 229.7732,2,     0.4,2,    0.11,2,    0.02,2,    0.09,2,   2.124,2,   1.264,2,   1.4230,2,  2061.8,6, 2334.96,2,   7.9908,2, -999.00,9, -999.00,9, -999.00,  -999.0,9, -999.00,9,     -999.0,9,  -999.0,9, 20170805,     2220, -32.4998,-162.4887,        0.0,1,      0.151,1,      4.647,1,      0.169,1,      25.01,     -999.0,9,     -999.0,9,     -999.0,9,     -999.0,9,    16.1210,2,     -999.0,9