BOTTLE,20230922CCHSIOCBG
EXPOCODE,SECT_ID,STNNBR,CASTNO,SAMPNO,BTLNBR,BTLNBR_FLAG_W,DATE,TIME,LATITUDE,LONGITUDE,DEPTH,CTDPRS,CTDTMP,CTDSAL,CTDSAL_FLAG_W,SALNTY,SALNTY_FLAG_W,CTDOXY,CTDOXY_FLAG_W,OXYGEN,OXYGEN_FLAG_W,SILCAT,SILCAT_FLAG_W,NITRAT,NITRAT_FLAG_W,NITRIT,NITRIT_FLAG_W,PHSPHT,PHSPHT_FLAG_W,CFC-11,CFC-11_FLAG_W,CFC-12,CFC-12_FLAG_W,SF6,SF6_FLAG_W,TCARBN,TCARBN_FLAG_W,ALKALI,ALKALI_FLAG_W,PH_TOT,PH_TOT_FLAG_W,DELC13,DELC13_FLAG_W,DELC14,DELC14_FLAG_W,C14ERR,DOC,DOC_FLAG_W,TDN,TDN_FLAG_W,TON,TON_FLAG_W,D15N_NO3,D15N_NO3_FLAG_W,BTL_DATE,BTL_TIME,BTL_LAT,BTL_LON,CTDRINKO,CTDRINKO_FLAG_W,CTDFLUOR,CTDFLUOR_FLAG_W,CTDXMISS,CTDXMISS_FLAG_W,CTDBACKSCATTER,CTDBACKSCATTER_FLAG_W,PH_TMP,D18O_NO3,D18O_NO3_FLAG_W,DOP,DOP_FLAG_W,HPLC,HPLC_FLAG_W,POC,POC_FLAG_W,REFTMP,REFTMP_FLAG_W,TDP,TDP_FLAG_W
,,,,,,,,,,,METERS,DBAR,ITS-90,PSS-78,,PSS-78,,UMOL/KG,,UMOL/KG,,UMOL/KG,,UMOL/KG,,UMOL/KG,,UMOL/KG,,PMOL/KG,,PMOL/KG,,FMOL/KG,,UMOL/KG,,UMOL/KG,,,,/MILLE,,/MILLE,,/MILLE,UMOL/KG,,UMOL/KG,,UMOL/KG,,/MILLE,,,,,,VOLTS,,VOLTS,,VOLTS,,VOLTS,,DEGC,/MILLE,,UMOL/KG,,,,UG/L,,ITS-90,,UMOL/KG,
320620170703,        P06,      59,          1,          1,         37,2,20170716,       0927,   -30.0793,   170.9998,       2143,  2162.0,   2.3174,  34.6360,2,  34.6348,2, 155.1496,2, 154.7989,2,   110.9,2,   34.69,2,    0.00,2,    2.43,2,   0.099,2,   0.054,2,-999.0000,5,  2293.9,6, 2382.47,2,   7.5797,2, -999.00,9, -999.00,9, -999.00,  -999.0,9, -999.00,9,     -999.0,9,  -999.0,1, 20170716,      805, -30.0797, 170.9998,        0.0,1,      0.061,1,      3.562,1,      0.172,1,      25.01,     -999.0,1,     -999.0,9,     -999.0,9,     -999.0,9,     2.3205,2,     -999.0,9
320620170703,        P06,      59,          1,          2,          2,2,20170716,       0927,   -30.0793,   170.9998,       2143,  2099.2,   2.3509,  34.6328,2,  34.6311,2, 155.4661,2, 155.8887,2,   110.0,2,   34.66,2,    0.00,2,    2.43,2,   0.080,2,   0.057,2,-999.0000,5,  2292.7,2, 2380.25,2,   7.5803,2, -999.00,9, -999.00,9, -999.00,  -999.0,9, -999.00,9,     -999.0,9,  -999.0,1, 20170716,      807, -30.0799, 170.9999,        0.0,1,      0.062,1,      2.533,1,      0.151,1,      25.03,     -999.0,1,     -999.0,9,     -999.0,9,     -999.0,9,     2.3455,2,     -999.0,9
320620170703,        P06,      59,          1,          3,         38,2,20170716,       0927,   -30.0793,   170.9998,       2143,  2024.6,   2.4353,  34.6260,2,  34.6234,2, 156.3606,2, 156.1835,2,   107.4,2,   34.57,2,    0.00,2,    2.42,2,   0.068,2,   0.070,2,-999.0000,5,  2289.6,2, 2377.20,2,   7.5796,2, -999.00,9, -999.00,9, -999.00,  -999.0,9, -999.00,9,     -999.0,9,  -999.0,1, 20170716,      810, -30.0800, 171.0000,        0.0,1,      0.061,1,      0.217,1,      0.148,1,      25.04,     -999.0,1,     -999.0,9,     -999.0,9,     -999.0,9,     2.4299,2,     -999.0,9
320620170703,        P06,      59,          1,          4,          4,2,20170716,       0927,   -30.0793,   170.9998,       2143,  1924.9,   2.5498,  34.6166,2,  34.6146,2, 156.9458,2, 157.0383,2,   104.1,2,   34.43,2,    0.00,2,    2.40,2,   0.074,2,   0.075,2,-999.0000,5,  2285.2,2, 2376.52,2,   7.5809,2, -999.00,9, -999.00,9, -999.00,  -999.0,9, -999.00,9,     -999.0,9,  -999.0,1, 20170716,      813, -30.0801, 171.0000,        0.0,1,      0.061,1,      0.604,1,      0.146,1,      25.05,     -999.0,1,     -999.0,9,     -999.0,9,     -999.0,9,     2.5472,2,     -999.0,9
320620170703,        P06,      59,          1,          5,         39,2,20170716,       0927,   -30.0793,   170.9998,       2143,  1821.3,   2.6837,  34.6051,2,  34.6052,2, 157.8531,2, 157.9374,2,   100.5,2,   34.25,2,    0.00,2,    2.39,2,   0.093,2,   0.082,2,-999.0000,5,  2280.9,2, 2372.82,2,   7.5831,2, -999.00,9, -999.00,9, -999.00,  -999.0,9, -999.00,9,     -999.0,9,  -999.0,1, 20170716,      816, -30.0802, 171.0001,        0.0,1,      0.061,1,      0.628,1,      0.147,1,      25.04,     -999.0,1,     -999.0,9,     -999.0,9,     -999.0,9,     2.6722,2,     -999.0,9
320620170703,        P06,      59,          1,          6,          6,2,20170716,       0927,   -30.0793,   170.9998,       2143,  1717.8,   2.8965,  34.5868,2,  34.5879,2, 159.6814,2, 159.3663,2,    94.9,2,   34.02,2,    0.00,2,    2.36,2,   0.122,2,   0.102,2,-999.0000,5,  2274.1,2, 2366.55,2,   7.5832,2, -999.00,9, -999.00,9, -999.00,  -999.0,9, -999.00,9,     -999.0,9,  -999.0,1, 20170716,      819, -30.0802, 171.0002,        0.0,1,      0.061,1,      0.693,1,      0.145,1,      25.05,     -999.0,1,     -999.0,9,     -999.0,9,     -999.0,9,     2.8707,2,     -999.0,9
320620170703,        P06,      59,          1,          7,         40,2,20170716,       0927,   -30.0793,   170.9998,       2143,  1616.9,   3.1274,  34.5643,2,  34.5633,2, 161.7830,2, 162.0533,2,    87.2,2,   33.64,2,    0.01,2,    2.33,2,   0.147,2,   0.118,2,-999.0000,5,  2265.4,2, 2359.74,2,   7.5870,2, -999.00,9, -999.00,9, -999.00,  -999.0,9, -999.00,9,     -999.0,9,  -999.0,1, 20170716,      822, -30.0801, 171.0001,        0.0,1,      0.061,1,      0.778,1,      0.142,1,      25.04,     -999.0,1,     -999.0,9,     -999.0,9,     -999.0,9,     3.1146,2,     -999.0,9
320620170703,        P06,      59,          1,          8,          8,2,20170716,       0927,   -30.0793,   170.9998,       2143,  1518.5,   3.3505,  34.5412,2,  34.5400,2, 165.5116,2, 164.7484,2,    79.9,2,   33.31,2,    0.00,2,    2.30,2,   0.181,2,   0.138,2,-999.0000,5,  2256.9,2, 2350.03,6,   7.5896,2, -999.00,9, -999.00,9, -999.00,  -999.0,9, -999.00,9,     -999.0,9,  -999.0,1, 20170716,      825, -30.0798, 170.9999,        0.0,1,      0.061,1,      0.007,1,      0.144,1,      25.04,     -999.0,1,     -999.0,9,     -999.0,9,     -999.0,9,     3.3383,2,     -999.0,9
320620170703,        P06,      59,          1,          9,         41,2,20170716,       0927,   -30.0793,   170.9998,       2143,  1415.8,   3.7786,  34.5105,2,  34.5091,2, 170.9359,2, 171.7873,2,    69.3,2,   32.56,2,    0.00,2,    2.25,2,   0.313,2,   0.202,2,-999.0000,5,  2243.5,6, 2337.61,2,   7.5967,2, -999.00,9, -999.00,9, -999.00,  -999.0,9, -999.00,9,     -999.0,9,  -999.0,1, 20170716,      829, -30.0796, 170.9999,        0.0,1,      0.060,1,      2.027,1,      0.141,1,      25.00,     -999.0,1,     -999.0,9,     -999.0,9,     -999.0,9,     3.7337,2,     -999.0,9
320620170703,        P06,      59,          1,         10,         10,2,20170716,       0927,   -30.0793,   170.9998,       2143,  1312.7,   4.2227,  34.4793,2,  34.4767,2, 176.9212,2, 177.6279,2,    57.1,2,   31.57,2,    0.00,2,    2.17,2,   0.450,2,   0.283,2,-999.0000,5,  2226.2,2, 2324.04,2,   7.6074,2, -999.00,9, -999.00,9, -999.00,  -999.0,9, -999.00,9,     -999.0,9,  -999.0,1, 20170716,      832, -30.0795, 170.9999,        0.0,1,      0.061,1,      3.186,1,      0.142,1,      24.92,     -999.0,1,     -999.0,9,     -999.0,9,     -999.0,9,     4.2164,2,     -999.0,9
320620170703,        P06,      59,          1,         11,         42,2,20170716,       0927,   -30.0793,   170.9998,       2143,  1211.9,   4.7190,  34.4655,2,  34.4608,2, 182.3402,2, 181.7243,2,    48.4,2,   30.53,2,    0.00,2,    2.11,2,   0.590,2,   0.356,2,-999.0000,5,  2214.2,2, 2315.77,2,   7.6169,2, -999.00,9, -999.00,9, -999.00,  -999.0,9, -999.00,9,     -999.0,9,  -999.0,1, 20170716,      835, -30.0795, 170.9999,        0.0,1,      0.061,1,      3.343,1,      0.142,1,      24.99,     -999.0,1,     -999.0,9,     -999.0,9,     -999.0,9,     4.6836,2,     -999.0,9
320620170703,        P06,      59,          1,         12,         12,2,20170716,       0927,   -30.0793,   170.9998,       2143,  1113.4,   5.3157,  34.4430,2,  34.4410,2, 190.3950,2, 190.6302,2,    36.5,2,   28.98,2,    0.00,2,    1.98,2,   0.860,2,   0.530,2,-999.0000,5,  2196.4,2, 2306.01,2,   7.6364,2, -999.00,9, -999.00,9, -999.00,  -999.0,9, -999.00,9,     -999.0,9,  -999.0,1, 20170716,      838, -30.0795, 170.9999,        0.0,1,      0.060,1,      3.603,1,      0.141,1,      25.00,     -999.0,1,     -999.0,9,     -999.0,9,     -999.0,9,     5.3013,2,     -999.0,9
320620170703,        P06,      59,          1,         13,         43,2,20170716,       0927,   -30.0793,   170.9998,       2143,  1011.1,   5.8611,  34.4445,2,  34.4381,2, 196.3785,2, 196.1870,2,    28.8,2,   27.65,2,    0.00,2,    1.89,2,   1.105,2,   0.662,2,-999.0000,5,  2185.5,2, 2298.79,2,   7.6514,2, -999.00,9, -999.00,9, -999.00,  -999.0,9, -999.00,9,     -999.0,9,  -999.0,1, 20170716,      841, -30.0794, 170.9999,        0.0,1,      0.059,1,      2.935,1,      0.143,1,      25.00,     -999.0,1,     -999.0,9,     -999.0,9,     -999.0,9,     5.8378,2,     -999.0,9
320620170703,        P06,      59,          1,         14,         14,2,20170716,       0927,   -30.0793,   170.9998,       2143,   907.5,   6.7494,  34.4750,2,  34.4915,2, 201.7094,2, 200.9858,2,    20.0,2,   25.02,2,    0.00,2,    1.69,2,   1.567,2,   0.943,2,-999.0000,5,  2170.5,2, 2292.62,6,   7.6774,2, -999.00,9, -999.00,9, -999.00,  -999.0,9, -999.00,9,     -999.0,9,  -999.0,1, 20170716,      844, -30.0795, 170.9999,        0.0,1,      0.060,1,      2.599,1,      0.142,1,      25.00,     -999.0,1,     -999.0,9,     -999.0,9,     -999.0,9,     6.9430,2,     -999.0,9
320620170703,        P06,      59,          1,         15,         15,2,20170716,       0927,   -30.0793,   170.9998,       2143,   806.7,   7.8091,  34.5812,2,  34.5633,2, 203.2401,2, 202.9458,2,    14.4,2,   22.60,2,    0.00,2,    1.52,2,   1.940,2,   1.159,2,-999.0000,5,  2161.5,6, 2291.50,2,   7.7004,2, -999.00,9, -999.00,9, -999.00,  -999.0,9, -999.00,9,     -999.0,9,  -999.0,1, 20170716,      847, -30.0797, 170.9999,        0.0,1,      0.059,1,      3.462,1,      0.145,1,      25.01,     -999.0,1,     -999.0,9,     -999.0,9,     -999.0,9,     7.9672,2,     -999.0,9
320620170703,        P06,      59,          1,         16,         16,2,20170716,       0927,   -30.0793,   170.9998,       2143,   706.1,   9.0024,  34.6719,2,  34.6942,2, 200.6305,2, 201.3827,2,     9.8,2,   19.66,2,    0.00,2,    1.33,2,   2.222,2,   1.324,2,-999.0000,5,  2149.0,2, 2293.43,2,   7.7287,2, -999.00,9, -999.00,9, -999.00,  -999.0,9, -999.00,9,     -999.0,9,  -999.0,1, 20170716,      850, -30.0800, 170.9999,        0.0,1,      0.060,1,      3.978,1,      0.144,1,      25.00,     -999.0,1,     -999.0,9,     -999.0,9,     -999.0,9,     9.2799,2,     -999.0,9
320620170703,        P06,      59,          1,         17,         17,2,20170716,       0927,   -30.0793,   170.9998,       2143,   604.9,  10.7819,  34.8871,2,  34.9065,2, 198.6874,2, 198.6666,2,     6.9,2,   16.08,2,    0.00,2,    1.09,2,   2.204,2,   1.430,2,-999.0000,5,  2139.9,2, 2299.36,2,   7.7637,2, -999.00,9, -999.00,9, -999.00,  -999.0,9, -999.00,9,     -999.0,9,  -999.0,1, 20170716,      853, -30.0800, 170.9999,        0.0,1,      0.061,1,      2.615,1,      0.143,1,      25.00,     -999.0,1,     -999.0,9,     -999.0,9,     -999.0,9,    11.0521,2,     -999.0,9
320620170703,        P06,      59,          1,         18,         18,2,20170716,       0927,   -30.0793,   170.9998,       2143,   503.3,  12.0827,  35.0292,2,  35.0555,2, 198.0396,2, 198.3486,2,     4.6,2,   13.20,2,    0.00,2,    0.90,2,   2.383,2,   1.505,2,-999.0000,5,  2128.2,2, 2304.53,2,   7.8020,2, -999.00,9, -999.00,9, -999.00,  -999.0,9, -999.00,9,     -999.0,9,  -999.0,1, 20170716,      856, -30.0800, 170.9999,        0.0,1,      0.060,1,      1.034,1,      0.143,1,      25.00,     -999.0,1,     -999.0,9,     -999.0,9,     -999.0,9,    12.4347,2,     -999.0,9
320620170703,        P06,      59,          1,         19,         19,2,20170716,       0927,   -30.0793,   170.9998,       2143,   454.7,  12.6271,  35.0888,2,  35.0852,2, 197.2234,2, 197.0621,2,     4.2,2,   12.58,2,    0.00,2,    0.87,2,   2.382,2,   1.506,2,-999.0000,5,  2126.4,2, 2307.05,2,   7.8109,2, -999.00,9, -999.00,9, -999.00,  -999.0,9, -999.00,9,     -999.0,9,  -999.0,1, 20170716,      859, -30.0800, 170.9999,        0.0,1,      0.060,1,      3.581,1,      0.145,1,      25.01,     -999.0,1,     -999.0,9,     -999.0,9,     -999.0,9,    12.7959,2,     -999.0,9
320620170703,        P06,      59,          1,         20,         20,2,20170716,       0927,   -30.0793,   170.9998,       2143,   401.4,  13.6551,  35.1941,2,  35.2255,2, 197.4020,2, 198.0990,2,     2.9,2,   10.29,2,    0.00,2,    0.72,2,   2.270,2,   1.523,2,-999.0000,5,  2117.2,2, 2311.68,2,   7.8416,2, -999.00,9, -999.00,9, -999.00,  -999.0,9, -999.00,9,     -999.0,9,  -999.0,1, 20170716,      901, -30.0800, 170.9999,        0.0,1,      0.060,1,      3.467,1,      0.145,1,      25.00,     -999.0,1,     -999.0,9,     -999.0,9,     -999.0,9,    13.9616,2,     -999.0,9
320620170703,        P06,      59,          1,         21,         21,2,20170716,       0927,   -30.0793,   170.9998,       2143,   353.1,  14.8890,  35.3251,2,  35.3045,2, 196.4343,2, 196.1839,2,     2.3,2,    9.12,2,    0.00,2,    0.63,2,   2.219,2,   1.483,2,-999.0000,5,  2109.9,2, 2314.37,2,   7.8600,2, -999.00,9, -999.00,9, -999.00,  -999.0,9, -999.00,9,     -999.0,9,  -999.0,1, 20170716,      904, -30.0799, 170.9999,        0.0,1,      0.060,1,      2.996,1,      0.148,1,      25.00,     -999.0,1,     -999.0,9,     -999.0,9,     -999.0,9,    14.8412,2,     -999.0,9
320620170703,        P06,      59,          1,         22,         22,2,20170716,       0927,   -30.0793,   170.9998,       2143,   301.2,  16.5893,  35.4983,2,  35.4470,3, 196.3668,2, 196.1111,2,     1.6,2,    7.08,2,    0.00,2,    0.51,2,   2.179,2,   1.458,2,-999.0000,5,  2097.9,2, 2322.30,2,   7.8970,2, -999.00,9, -999.00,9, -999.00,  -999.0,9, -999.00,9,     -999.0,9,  -999.0,1, 20170716,      906, -30.0798, 170.9999,        0.0,1,      0.060,1,      0.912,1,      0.147,1,      24.99,     -999.0,1,     -999.0,9,     -999.0,9,     -999.0,9,    16.2465,2,     -999.0,9
320620170703,        P06,      59,          1,         23,         23,2,20170716,       0927,   -30.0793,   170.9998,       2143,   251.2,  17.6546,  35.5937,2,  35.5685,2, 197.7830,2, 196.6956,2,     1.0,2,    5.36,2,    0.00,2,    0.40,2,   2.037,2,   1.413,2,-999.0000,5,  2088.6,2, 2328.60,6,   7.9280,2, -999.00,9, -999.00,9, -999.00,  -999.0,9, -999.00,9,     -999.0,9,  -999.0,1, 20170716,      909, -30.0797, 170.9999,        0.0,1,      0.060,1,      0.948,1,      0.152,1,      25.00,     -999.0,1,     -999.0,9,     -999.0,9,     -999.0,9,    17.4993,2,     -999.0,9
320620170703,        P06,      59,          1,         24,         24,2,20170716,       0927,   -30.0793,   170.9998,       2143,   226.3,  18.1681,  35.6371,2,  35.6204,2, 201.0921,2, 200.1083,2,     0.7,2,    4.31,2,    0.02,2,    0.33,2,   2.120,2,   1.388,2,-999.0000,5,  2082.1,2, 2370.37,2,   7.9448,2, -999.00,9, -999.00,9, -999.00,  -999.0,9, -999.00,9,     -999.0,9,  -999.0,1, 20170716,      911, -30.0796, 170.9998,        0.0,1,      0.061,1,      1.999,1,      0.154,1,      25.00,     -999.0,1,     -999.0,9,     -999.0,9,     -999.0,9,    18.1413,2,     -999.0,9
320620170703,        P06,      59,          1,         25,         25,2,20170716,       0927,   -30.0793,   170.9998,       2143,   201.5,  18.7800,  35.7321,2,  35.6553,2, 202.0045,2, 203.4904,2,     0.6,2,    3.55,2,    0.04,2,    0.28,2,   2.015,2,   1.350,2,-999.0000,5,  2078.9,2, 2335.62,2,   7.9570,2, -999.00,9, -999.00,9, -999.00,  -999.0,9, -999.00,9,     -999.0,9,  -999.0,1, 20170716,      912, -30.0795, 170.9998,        0.0,1,      0.096,1,      1.816,1,      0.222,1,      24.99,     -999.0,1,     -999.0,9,     -999.0,9,     -999.0,9,    18.4105,2,     -999.0,9
320620170703,        P06,      59,          1,         26,         26,2,20170716,       0927,   -30.0793,   170.9998,       2143,   176.6,  19.2776,  35.8236,2,  35.8151,2, 221.8255,2, 221.9849,2,     0.1,2,    0.75,2,    0.17,2,    0.11,2,   1.944,2,   1.334,2,-999.0000,5,  2060.3,2, 2344.69,2,   8.0043,2, -999.00,9, -999.00,9, -999.00,  -999.0,9, -999.00,9,     -999.0,9,  -999.0,1, 20170716,      914, -30.0794, 170.9998,        0.0,1,      0.143,1,      1.934,1,      0.194,1,      25.01,     -999.0,1,     -999.0,9,     -999.0,9,     -999.0,9,    19.2734,2,     -999.0,9
320620170703,        P06,      59,          1,         27,         27,2,20170716,       0927,   -30.0793,   170.9998,       2143,   150.3,  19.2799,  35.8245,2,  35.8167,2, 221.8657,2, 222.0915,2,     0.2,2,    0.73,2,    0.18,2,    0.11,2,   1.884,2,   1.330,2,-999.0000,5,  2059.1,2, 2345.48,2,   8.0061,2, -999.00,9, -999.00,9, -999.00,  -999.0,9, -999.00,9,     -999.0,9,  -999.0,9, 20170716,      916, -30.0793, 170.9998,        0.0,1,      0.153,1,      1.425,1,      0.195,1,      25.00,     -999.0,9,     -999.0,9,     -999.0,9,     -999.0,9,    19.2801,2,     -999.0,9
320620170703,        P06,      59,          1,         28,         28,4,20170716,       0927,   -30.0793,   170.9998,       2143,   124.4,  19.2794,  35.8248,3,  35.5052,3, 220.4471,2, 208.3643,3,     2.7,4,    5.96,4,    0.10,4,    0.45,4,-999.000,5,-999.000,5,-999.0000,5,  -999.0,5, 2327.98,3,   7.9212,3, -999.00,9, -999.00,9, -999.00,  -999.0,9, -999.00,9,     -999.0,9,  -999.0,9, 20170716,      918, -30.0793, 170.9998,        0.0,1,      0.152,1,      2.947,1,      0.192,1,      24.95,     -999.0,9,     -999.0,9,     -999.0,9,     -999.0,9,    19.2841,3,     -999.0,9
320620170703,        P06,      59,          1,         29,         29,2,20170716,       0927,   -30.0793,   170.9998,       2143,   100.9,  19.2883,  35.8264,2,  35.8179,2, 221.5064,2, 222.8664,2,     0.1,2,    0.67,2,    0.18,2,    0.11,2,   1.929,2,   1.336,2,-999.0000,5,  2058.8,2, 2345.99,2,   8.0050,2, -999.00,9, -999.00,9, -999.00,  -999.0,9, -999.00,9,     -999.0,9,  -999.0,1, 20170716,      920, -30.0793, 170.9998,        0.0,1,      0.159,1,      1.851,1,      0.199,1,      25.02,     -999.0,1,     -999.0,9,     -999.0,9,     -999.0,9,    19.2910,2,     -999.0,9
320620170703,        P06,      59,          1,         30,         30,2,20170716,       0927,   -30.0793,   170.9998,       2143,    74.8,  19.2888,  35.8271,2,  35.8192,2, 221.8933,2, 222.1134,2,     0.2,2,    0.65,2,    0.18,2,    0.12,2,   1.897,2,   1.593,2,-999.0000,5,  2059.0,2, 2345.07,2,   8.0052,2, -999.00,9, -999.00,9, -999.00,  -999.0,9, -999.00,9,     -999.0,9,  -999.0,1, 20170716,      922, -30.0793, 170.9998,        0.0,1,      0.159,1,      3.311,1,      0.198,1,      25.01,     -999.0,1,     -999.0,9,     -999.0,9,     -999.0,9,    19.2946,2,     -999.0,9
320620170703,        P06,      59,          1,         31,         31,2,20170716,       0927,   -30.0793,   170.9998,       2143,    50.0,  19.2928,  35.8282,2,  35.8303,2, 221.7230,2, 222.7113,2,     0.1,2,    0.66,2,    0.17,2,    0.12,2,   1.973,2,   1.339,2,-999.0000,5,  2060.0,2, 2345.61,2,   8.0058,2, -999.00,9, -999.00,9, -999.00,  -999.0,9, -999.00,9,     -999.0,9,  -999.0,1, 20170716,      924, -30.0793, 170.9998,        0.0,1,      0.168,1,      2.918,1,      0.198,1,      25.00,     -999.0,1,     -999.0,9,     -999.0,9,     -999.0,9,    19.2950,2,     -999.0,9
320620170703,        P06,      59,          1,         32,         32,2,20170716,       0927,   -30.0793,   170.9998,       2143,    24.3,  19.2919,  35.8296,2,  35.8305,2, 222.8710,2, 223.5089,2,     0.1,2,    0.62,2,    0.17,2,    0.12,2,   1.979,2,   1.342,2,-999.0000,5,  2059.3,2, 2347.29,2,   8.0065,2, -999.00,9, -999.00,9, -999.00,  -999.0,9, -999.00,9,     -999.0,9,  -999.0,1, 20170716,      925, -30.0793, 170.9998,        0.0,1,      0.171,1,      2.770,1,      0.194,1,      25.01,     -999.0,1,     -999.0,9,     -999.0,9,     -999.0,9,    19.2898,2,     -999.0,9