BOTTLE,20230922CCHSIOCBG
EXPOCODE,SECT_ID,STNNBR,CASTNO,SAMPNO,BTLNBR,BTLNBR_FLAG_W,DATE,TIME,LATITUDE,LONGITUDE,DEPTH,CTDPRS,CTDTMP,CTDSAL,CTDSAL_FLAG_W,SALNTY,SALNTY_FLAG_W,CTDOXY,CTDOXY_FLAG_W,OXYGEN,OXYGEN_FLAG_W,SILCAT,SILCAT_FLAG_W,NITRAT,NITRAT_FLAG_W,NITRIT,NITRIT_FLAG_W,PHSPHT,PHSPHT_FLAG_W,CFC-11,CFC-11_FLAG_W,CFC-12,CFC-12_FLAG_W,SF6,SF6_FLAG_W,TCARBN,TCARBN_FLAG_W,ALKALI,ALKALI_FLAG_W,PH_TOT,PH_TOT_FLAG_W,DELC13,DELC13_FLAG_W,DELC14,DELC14_FLAG_W,C14ERR,DOC,DOC_FLAG_W,TDN,TDN_FLAG_W,TON,TON_FLAG_W,D15N_NO3,D15N_NO3_FLAG_W,BTL_DATE,BTL_TIME,BTL_LAT,BTL_LON,CTDRINKO,CTDRINKO_FLAG_W,CTDFLUOR,CTDFLUOR_FLAG_W,CTDXMISS,CTDXMISS_FLAG_W,CTDBACKSCATTER,CTDBACKSCATTER_FLAG_W,PH_TMP,D18O_NO3,D18O_NO3_FLAG_W,DOP,DOP_FLAG_W,HPLC,HPLC_FLAG_W,POC,POC_FLAG_W,REFTMP,REFTMP_FLAG_W,TDP,TDP_FLAG_W
,,,,,,,,,,,METERS,DBAR,ITS-90,PSS-78,,PSS-78,,UMOL/KG,,UMOL/KG,,UMOL/KG,,UMOL/KG,,UMOL/KG,,UMOL/KG,,PMOL/KG,,PMOL/KG,,FMOL/KG,,UMOL/KG,,UMOL/KG,,,,/MILLE,,/MILLE,,/MILLE,UMOL/KG,,UMOL/KG,,UMOL/KG,,/MILLE,,,,,,VOLTS,,VOLTS,,VOLTS,,VOLTS,,DEGC,/MILLE,,UMOL/KG,,,,UG/L,,ITS-90,,UMOL/KG,
320620170703,        P06,      98,          1,          1,          1,2,20170728,       1649,   -32.5000,  -175.2594,       5726,  5835.2,   1.1479,  34.7075,2,  34.7083,2, 206.2650,2, 205.5400,2,   122.4,2,   32.29,2,    0.00,2,    2.21,2,   0.158,2,   0.083,2,   0.0000,2,  2265.8,6, 2362.23,2,   7.6061,2, -999.00,9, -999.00,9, -999.00,    41.0,2, -999.00,9,     -999.0,1,  -999.0,9, 20170728,     1422, -32.5003,-175.2597,        0.0,1,      0.061,1,      4.697,1,      0.127,1,      24.98,     -999.0,9,     -999.0,9,     -999.0,9,     -999.0,9,     1.1480,2,     -999.0,9
320620170703,        P06,      98,          1,          2,          2,2,20170728,       1649,   -32.5000,  -175.2594,       5726,  5652.3,   1.1245,  34.7079,2,  34.7074,2, 206.2650,2, 206.4392,2,   122.3,2,   32.28,2,    0.00,2,    2.22,2,   0.150,2,   0.086,2,   0.0000,2,  -999.0,9, -999.00,9,-999.0000,9, -999.00,9, -999.00,9, -999.00,  -999.0,9, -999.00,9,     -999.0,9,  -999.0,9, 20170728,     1427, -32.5005,-175.2598,        0.0,1,      0.061,1,      4.698,1,      0.129,1,     -999.0,     -999.0,9,     -999.0,9,     -999.0,9,     -999.0,9,     1.1248,2,     -999.0,9
320620170703,        P06,      98,          1,          3,          3,2,20170728,       1649,   -32.5000,  -175.2594,       5726,  5470.8,   1.1025,  34.7082,2,  34.7077,2, 206.2650,2, 206.4936,2,   122.5,2,   32.24,2,    0.00,2,    2.21,2,   0.147,2,   0.086,2,   0.0000,2,  2265.6,2, 2363.41,2,   7.6063,2, -999.00,9, -999.00,9, -999.00,    39.0,2, -999.00,9,     -999.0,1,  -999.0,9, 20170728,     1434, -32.4997,-175.2598,        0.0,1,      0.061,1,      4.698,1,      0.128,1,      25.01,     -999.0,9,     -999.0,9,     -999.0,9,     -999.0,9,     1.1030,2,     -999.0,9
320620170703,        P06,      98,          1,          4,          4,2,20170728,       1649,   -32.5000,  -175.2594,       5726,  5160.7,   1.0729,  34.7085,2,  34.7074,2, 206.2650,2, 206.8572,2,   122.0,2,   32.21,2,    0.00,2,    2.22,2,   0.149,2,   0.087,2,   0.0000,2,  -999.0,9, -999.00,9,-999.0000,9, -999.00,9, -999.00,9, -999.00,    42.7,2, -999.00,9,     -999.0,1,  -999.0,9, 20170728,     1442, -32.5006,-175.2597,        0.0,1,      0.061,1,      4.700,1,      0.126,1,     -999.0,     -999.0,9,     -999.0,9,     -999.0,9,     -999.0,9,     1.0733,2,     -999.0,9
320620170703,        P06,      98,          1,          5,          5,2,20170728,       1649,   -32.5000,  -175.2594,       5726,  4851.5,   1.0547,  34.7093,2,  34.7091,2, 206.2650,2, 206.8422,2,   121.2,2,   32.11,2,    0.00,2,    2.21,2,   0.151,2,   0.088,2,   0.0000,2,  2262.6,2, 2360.08,2,   7.6063,2, -999.00,9, -999.00,9, -999.00,    38.8,2, -999.00,9,     -999.0,1,  -999.0,9, 20170728,     1448, -32.5007,-175.2597,        0.0,1,      0.061,1,      4.701,1,      0.126,1,      24.97,     -999.0,9,     -999.0,9,     -999.0,9,     -999.0,9,     1.0558,2,     -999.0,9
320620170703,        P06,      98,          1,          6,          6,2,20170728,       1649,   -32.5000,  -175.2594,       5726,  4543.9,   1.0647,  34.7111,2,  34.7103,2, 206.2650,2, 205.9958,2,   120.0,2,   32.05,2,    0.00,2,    2.21,2,   0.147,2,   0.087,2,   0.0000,2,  -999.0,9, -999.00,9,-999.0000,9, -999.00,9, -999.00,9, -999.00,  -999.0,9, -999.00,9,     -999.0,9,  -999.0,9, 20170728,     1455, -32.5004,-175.2596,        0.0,1,      0.061,1,      4.701,1,      0.127,1,     -999.0,     -999.0,9,     -999.0,9,     -999.0,9,     -999.0,9,     1.0659,2,     -999.0,9
320620170703,        P06,      98,          1,          7,          7,2,20170728,       1649,   -32.5000,  -175.2594,       5726,  4236.5,   1.0893,  34.7130,2,  34.7125,2, 205.6464,2, 205.1266,2,   118.4,2,   31.97,2,    0.00,2,    2.20,2,   0.132,2,   0.078,2,   0.0000,2,  2263.9,2, 2359.46,2,   7.6068,2, -999.00,9, -999.00,9, -999.00,    43.9,2, -999.00,9,     -999.0,1,  -999.0,9, 20170728,     1501, -32.5007,-175.2597,        0.0,1,      0.061,1,      4.702,1,      0.130,1,      25.01,     -999.0,9,     -999.0,9,     -999.0,9,     -999.0,9,     1.0912,2,     -999.0,9
320620170703,        P06,      98,          1,          8,          8,2,20170728,       1649,   -32.5000,  -175.2594,       5726,  3927.6,   1.1815,  34.7170,2,  34.7162,2, 202.9207,2, 202.9957,2,   114.8,2,   31.80,2,    0.00,2,    2.20,2,   0.122,2,   0.072,2,   0.0000,2,  -999.0,9, -999.00,9,-999.0000,9, -999.00,9, -999.00,9, -999.00,  -999.0,9, -999.00,9,     -999.0,9,  -999.0,9, 20170728,     1508, -32.5000,-175.2594,        0.0,1,      0.062,1,      4.702,1,      0.129,1,     -999.0,     -999.0,9,     -999.0,9,     -999.0,9,     -999.0,9,     1.1829,2,     -999.0,9
320620170703,        P06,      98,          1,          9,          9,2,20170728,       1649,   -32.5000,  -175.2594,       5726,  3620.0,   1.3967,  34.7216,2,  34.7215,2, 196.6832,2, 196.8127,2,   109.7,2,   31.77,2,    0.00,2,    2.18,2,   0.094,2,   0.059,2,   0.0000,2,  2262.8,2, 2358.76,2,   7.6050,2, -999.00,9, -999.00,9, -999.00,    43.8,2, -999.00,9,     -999.0,1,  -999.0,9, 20170728,     1514, -32.5001,-175.2594,        0.0,1,      0.061,1,      4.701,1,      0.129,1,      24.97,     -999.0,9,     -999.0,9,     -999.0,9,     -999.0,9,     1.4175,2,     -999.0,9
320620170703,        P06,      98,          1,         10,         10,2,20170728,       1649,   -32.5000,  -175.2594,       5726,  3313.5,   1.6500,  34.7127,2,  34.7115,2, 184.7644,2, 184.3205,2,   109.5,2,   32.49,2,    0.00,2,    2.25,2,   0.074,2,   0.045,2,   0.0000,2,  -999.0,9, -999.00,9,-999.0000,9, -999.00,9, -999.00,9, -999.00,  -999.0,9, -999.00,9,     -999.0,9,  -999.0,9, 20170728,     1520, -32.5003,-175.2595,        0.0,1,      0.062,1,      4.701,1,      0.132,1,     -999.0,     -999.0,9,     -999.0,9,     -999.0,9,     -999.0,9,     1.6600,2,     -999.0,9
320620170703,        P06,      98,          1,         11,         11,2,20170728,       1649,   -32.5000,  -175.2594,       5726,  3057.5,   1.7880,  34.6887,2,  34.6832,2, 163.8377,2, 163.1427,2,   120.3,2,   34.43,2,    0.00,2,    2.41,2,   0.045,2,   0.033,2,   0.0000,2,  2298.0,2, 2384.70,2,   7.5801,2, -999.00,9, -999.00,9, -999.00,    38.3,2, -999.00,9,     -999.0,1,  -999.0,9, 20170728,     1526, -32.5002,-175.2594,        0.0,1,      0.062,1,      4.701,1,      0.133,1,      25.01,     -999.0,9,     -999.0,9,     -999.0,9,     -999.0,9,     1.8069,2,     -999.0,9
320620170703,        P06,      98,          1,         12,         12,2,20170728,       1649,   -32.5000,  -175.2594,       5726,  2802.5,   1.9314,  34.6618,2,  34.6588,2, 150.1263,2, 149.1697,2,   125.5,2,   35.69,2,    0.00,2,    2.49,2,   0.031,2,   0.025,2,   0.0000,2,  -999.0,9, -999.00,9,-999.0000,9, -999.00,9, -999.00,9, -999.00,  -999.0,9, -999.00,9,     -999.0,9,  -999.0,9, 20170728,     1531, -32.5003,-175.2594,        0.0,1,      0.061,1,      4.702,1,      0.133,1,     -999.0,     -999.0,9,     -999.0,9,     -999.0,9,     -999.0,9,     1.9581,2,     -999.0,9
320620170703,        P06,      98,          1,         13,         13,2,20170728,       1649,   -32.5000,  -175.2594,       5726,  2549.8,   2.0641,  34.6479,2,  34.6456,2, 147.4147,2, 148.0874,2,   121.4,2,   35.79,2,    0.00,2,    2.50,2,   0.030,2,   0.024,2,   0.0000,2,  2309.5,2, 2392.31,6,   7.5662,2, -999.00,9, -999.00,9, -999.00,    37.8,2, -999.00,9,     -999.0,1,  -999.0,9, 20170728,     1537, -32.5001,-175.2594,        0.0,1,      0.061,1,      4.702,1,      0.134,1,      25.04,     -999.0,9,     -999.0,9,     -999.0,9,     -999.0,9,     2.0908,2,     -999.0,9
320620170703,        P06,      98,          1,         14,         14,2,20170728,       1649,   -32.5000,  -175.2594,       5726,  2293.4,   2.1927,  34.6364,2,  34.6337,2, 148.1134,2, 148.5448,2,   115.7,2,   35.55,2,    0.00,2,    2.49,2,   0.034,2,   0.026,2,   0.0000,2,  -999.0,9, -999.00,9,-999.0000,9, -999.00,9, -999.00,9, -999.00,  -999.0,9, -999.00,9,     -999.0,9,  -999.0,9, 20170728,     1542, -32.5001,-175.2594,        0.0,1,      0.061,1,      4.702,1,      0.135,1,     -999.0,     -999.0,9,     -999.0,9,     -999.0,9,     -999.0,9,     2.2230,2,     -999.0,9
320620170703,        P06,      98,          1,         15,         15,2,20170728,       1649,   -32.5000,  -175.2594,       5726,  2039.1,   2.3604,  34.6189,2,  34.6170,2, 149.7621,2, 150.5728,2,   108.3,2,   35.46,2,    0.00,2,    2.46,2,   0.035,2,   0.028,2,   0.0000,2,  2296.1,2, 2377.95,2,   7.5668,2, -999.00,9, -999.00,9, -999.00,    37.9,2, -999.00,9,     -999.0,1,  -999.0,9, 20170728,     1548, -32.4998,-175.2593,        0.0,1,      0.061,1,      4.702,1,      0.135,1,      24.99,     -999.0,9,     -999.0,9,     -999.0,9,     -999.0,9,     2.3767,2,     -999.0,9
320620170703,        P06,      98,          1,         16,         16,2,20170728,       1649,   -32.5000,  -175.2594,       5726,  1783.5,   2.5633,  34.5901,2,  34.5885,2, 153.7929,2, 154.7186,2,    97.4,2,   35.01,2,    0.00,2,    2.43,2,   0.040,2,   0.031,2,   0.0000,2,  -999.0,9, -999.00,9,-999.0000,9, -999.00,9, -999.00,9, -999.00,  -999.0,9, -999.00,9,     -999.0,9,  -999.0,9, 20170728,     1553, -32.5002,-175.2594,        0.0,1,      0.061,1,      4.702,1,      0.151,1,     -999.0,     -999.0,9,     -999.0,9,     -999.0,9,     -999.0,9,     2.5626,2,     -999.0,9
320620170703,        P06,      98,          1,         17,         17,2,20170728,       1649,   -32.5000,  -175.2594,       5726,  1552.5,   2.9059,  34.5283,2,  34.5162,2, 164.1459,2, 165.2823,2,    75.9,2,   34.35,2,    0.00,2,    2.38,2,   0.136,2,   0.104,2,   0.0000,2,  2256.3,2, 2342.36,6,   7.5714,2, -999.00,9, -999.00,9, -999.00,    38.3,2, -999.00,9,     -999.0,1,  -999.0,9, 20170728,     1559, -32.5003,-175.2594,        0.0,1,      0.061,1,      4.702,1,      0.137,1,      24.99,     -999.0,9,     -999.0,9,     -999.0,9,     -999.0,9,     2.9863,2,     -999.0,9
320620170703,        P06,      98,          1,         18,         18,2,20170728,       1649,   -32.5000,  -175.2594,       5726,  1347.4,   3.4589,  34.4277,2,  34.4279,2, 177.0309,2, 177.4457,2,    56.0,2,   33.53,2,    0.00,2,    2.31,2,   0.241,2,   0.134,2,   0.0000,2,  -999.0,9, -999.00,9,-999.0000,9, -999.00,9, -999.00,9, -999.00,  -999.0,9, -999.00,9,     -999.0,9,  -999.0,9, 20170728,     1603, -32.5000,-175.2594,        0.0,1,      0.061,1,      4.702,1,      0.136,1,     -999.0,     -999.0,9,     -999.0,9,     -999.0,9,     -999.0,9,     3.4478,2,     -999.0,9
320620170703,        P06,      98,          1,         19,         19,2,20170728,       1649,   -32.5000,  -175.2594,       5726,  1176.7,   4.3139,  34.3664,2,  34.3682,2, 189.4857,2, 187.9614,2,    39.5,2,   31.89,2,    0.00,2,    2.19,2,   0.523,2,   0.269,2,   0.1170,2,  2209.0,2, 2296.85,2,   7.6049,2, -999.00,9, -999.00,9, -999.00,    46.1,3, -999.00,9,     -999.0,1,  -999.0,9, 20170728,     1607, -32.5002,-175.2594,        0.0,1,      0.060,1,      4.702,1,      0.139,1,      24.99,     -999.0,9,     -999.0,9,     -999.0,9,     -999.0,9,     4.2193,2,     -999.0,9
320620170703,        P06,      98,          1,         20,         20,2,20170728,       1649,   -32.5000,  -175.2594,       5726,  1073.7,   4.8093,  34.3430,2,  34.3507,2, 199.2817,2, 199.2516,2,    29.2,2,   30.06,2,    0.00,2,    2.04,2,   1.007,2,   0.468,2,   0.1660,2,  -999.0,9, -999.00,9,-999.0000,9, -999.00,9, -999.00,9, -999.00,  -999.0,9, -999.00,9,     -999.0,9,  -999.0,9, 20170728,     1610, -32.5003,-175.2594,        0.0,1,      0.060,1,      4.702,1,      0.138,1,     -999.0,     -999.0,9,     -999.0,9,     -999.0,9,     -999.0,9,     4.8478,2,     -999.0,9
320620170703,        P06,      98,          1,         21,         21,2,20170728,       1649,   -32.5000,  -175.2594,       5726,   974.1,   5.5792,  34.3496,2,  34.3486,3, 210.3708,2, 209.2308,2,    21.0,2,   27.95,2,    0.00,2,    1.89,2,   1.545,2,   0.721,2,   0.3370,2,  2176.8,2, 2284.10,2,   7.6550,2, -999.00,9, -999.00,9, -999.00,    41.5,2, -999.00,9,     -999.0,1,  -999.0,9, 20170728,     1613, -32.5000,-175.2594,        0.0,1,      0.059,1,      4.700,1,      0.138,1,      25.00,     -999.0,9,     -999.0,9,     -999.0,9,     -999.0,9,     5.5468,2,     -999.0,9
320620170703,        P06,      98,          1,         22,         22,2,20170728,       1649,   -32.5000,  -175.2594,       5726,   872.7,   6.1382,  34.3616,2,  34.3576,2, 219.6926,2, 220.0049,2,    14.3,2,   25.85,2,    0.00,2,    1.74,2,   2.163,2,   1.044,2,   0.4160,2,  -999.0,9, -999.00,9,-999.0000,9, -999.00,9, -999.00,9, -999.00,  -999.0,9, -999.00,9,     -999.0,9,  -999.0,9, 20170728,     1616, -32.5000,-175.2594,        0.0,1,      0.059,1,      4.700,1,      0.140,1,     -999.0,     -999.0,9,     -999.0,9,     -999.0,9,     -999.0,9,     6.1416,2,     -999.0,9
320620170703,        P06,      98,          1,         23,         23,2,20170728,       1649,   -32.5000,  -175.2594,       5726,   771.2,   6.6580,  34.3838,2,  34.3778,2, 225.2031,2, 226.6227,2,    10.4,2,   24.04,2,    0.00,2,    1.61,2,   2.757,2,   1.359,2,   0.4730,2,  2152.7,2, 2277.40,2,   7.6941,2, -999.00,9, -999.00,9, -999.00,    42.7,2, -999.00,9,     -999.0,1,  -999.0,9, 20170728,     1619, -32.5004,-175.2594,        0.0,1,      0.058,1,      4.699,1,      0.141,1,      25.02,     -999.0,9,     -999.0,9,     -999.0,9,     -999.0,9,     6.6755,2,     -999.0,9
320620170703,        P06,      98,          1,         24,         24,2,20170728,       1649,   -32.5000,  -175.2594,       5726,   670.4,   7.3283,  34.4269,2,  34.4153,2, 229.1455,2, 228.9744,2,     7.7,2,   22.38,2,    0.00,2,    1.50,2,   3.207,2,   1.624,2,   0.7400,2,  -999.0,9, -999.00,9,-999.0000,9, -999.00,9, -999.00,9, -999.00,    47.9,2, -999.00,9,     -999.0,1,  -999.0,9, 20170728,     1622, -32.5002,-175.2594,        0.0,1,      0.059,1,      4.697,1,      0.143,1,     -999.0,     -999.0,9,     -999.0,9,     -999.0,9,     -999.0,9,     7.2341,2,     -999.0,9
320620170703,        P06,      98,          1,         25,         25,2,20170728,       1649,   -32.5000,  -175.2594,       5726,   569.7,   8.1096,  34.5069,2,  34.5060,2, 222.2212,2, 221.6229,2,     6.5,2,   20.56,2,    0.00,2,    1.38,2,   3.282,2,   1.653,2,   0.7910,2,  2149.7,2, 2285.29,2,   7.7151,2, -999.00,9, -999.00,9, -999.00,    49.1,2, -999.00,9,     -999.0,1,  -999.0,9, 20170728,     1625, -32.5000,-175.2594,        0.0,1,      0.060,1,      4.695,1,      0.145,1,      24.99,     -999.0,9,     -999.0,9,     -999.0,9,     -999.0,9,     8.1206,2,     -999.0,9
320620170703,        P06,      98,          1,         26,         26,2,20170728,       1649,   -32.5000,  -175.2594,       5726,   467.9,   9.4353,  34.6634,2,  34.6761,2, 210.1658,2, 210.3775,2,     5.4,2,   17.70,2,    0.00,2,    1.19,2,   3.052,2,   1.616,2,   0.9760,2,  -999.0,9, -999.00,9,-999.0000,9, -999.00,9, -999.00,9, -999.00,    45.0,3,   19.90,2,     -999.0,1,  -999.0,9, 20170728,     1628, -32.5000,-175.2594,        0.0,1,      0.059,1,      4.693,1,      0.148,1,     -999.0,     -999.0,9,     -999.0,9,     -999.0,9,     -999.0,9,     9.5807,2,     -999.0,9
320620170703,        P06,      98,          1,         27,         27,2,20170728,       1649,   -32.5000,  -175.2594,       5726,   368.3,  11.4380,  34.9212,2,  34.9939,2, 206.4490,2, 206.2518,2,     3.6,2,   12.31,2,    0.00,2,    0.84,2,   2.786,2,   1.565,2,   1.1350,2,  2129.7,2, 2297.33,2,   7.7979,2, -999.00,9, -999.00,9, -999.00,    46.9,2,   14.40,2,     -999.0,1,  -999.0,9, 20170728,     1631, -32.5002,-175.2594,        0.0,1,      0.060,1,      4.691,1,      0.147,1,      25.00,     -999.0,9,     -999.0,9,     -999.0,9,     -999.0,9,    12.0748,2,     -999.0,9
320620170703,        P06,      98,          1,         28,         28,2,20170728,       1649,   -32.5000,  -175.2594,       5726,   286.0,  13.2092,  35.1423,2,  35.1892,2, 204.1361,2, 204.2569,2,     2.8,2,    9.73,2,    0.00,2,    0.67,2,   2.608,2,   1.488,2,   1.2290,2,  -999.0,9, -999.00,9,-999.0000,9, -999.00,9, -999.00,9, -999.00,    53.0,2,   12.70,2,     -999.0,1,  -999.0,9, 20170728,     1633, -32.5001,-175.2594,        0.0,1,      0.060,1,      4.690,1,      0.147,1,     -999.0,     -999.0,9,     -999.0,9,     -999.0,9,     -999.0,9,    13.6209,2,     -999.0,9
320620170703,        P06,      98,          1,         29,         29,2,20170728,       1649,   -32.5000,  -175.2594,       5726,   235.7,  14.4326,  35.2963,2,  35.3265,2, 207.7390,3, 204.0914,2,     2.2,2,    7.82,2,    0.00,2,    0.56,2,   2.479,2,   1.432,2,   1.2740,2,  2112.2,2, 2315.92,2,   7.8657,2, -999.00,9, -999.00,9, -999.00,    50.2,2,   10.90,2,     -999.0,1,  -999.0,9, 20170728,     1635, -32.4998,-175.2594,        0.0,1,      0.059,1,      4.686,1,      0.151,1,      24.98,     -999.0,9,     -999.0,9,     -999.0,9,     -999.0,9,    14.7467,2,     -999.0,9
320620170703,        P06,      98,          1,         30,         30,2,20170728,       1649,   -32.5000,  -175.2594,       5726,   185.7,  15.9754,  35.4667,2,  35.4316,2, 208.3913,2, 209.4288,2,     1.6,2,    5.41,2,    0.03,2,    0.42,2,   2.399,2,   1.396,2,   1.2980,2,  -999.0,9, -999.00,9,-999.0000,9, -999.00,9, -999.00,9, -999.00,    52.5,2,    8.30,2,     -999.0,1,  -999.0,9, 20170728,     1637, -32.4999,-175.2594,        0.0,1,      0.072,1,      4.673,1,      0.172,1,     -999.0,     -999.0,9,     -999.0,9,     -999.0,9,     -999.0,9,    15.7217,2,     -999.0,9
320620170703,        P06,      98,          1,         31,         31,2,20170728,       1649,   -32.5000,  -175.2594,       5726,   134.9,  17.5777,  35.6617,2,  35.6303,2, 228.7319,2, 227.7296,2,     0.5,2,    0.99,2,    0.13,2,    0.15,2,   2.242,2,   1.313,2,   1.5080,4,  2076.7,2, 2331.64,2,   7.9652,2, -999.00,9, -999.00,9, -999.00,    61.4,2,    5.70,2,     -999.0,1,  -999.0,9, 20170728,     1639, -32.5000,-175.2594,        0.0,1,      0.091,1,      4.653,1,      0.202,1,      25.00,     -999.0,9,     -999.0,9,     -999.0,9,     -999.0,9,    17.3636,2,     -999.0,9
320620170703,        P06,      98,          1,         32,         32,2,20170728,       1649,   -32.5000,  -175.2594,       5726,    90.4,  17.8492,  35.6947,2,  35.6873,2, 231.8034,2, 231.8672,2,     0.3,2,    0.25,2,    0.07,2,    0.08,2,   2.192,2,   1.283,2,   1.3670,2,  -999.0,9, -999.00,9,-999.0000,9, -999.00,9, -999.00,9, -999.00,  -999.0,5,    5.00,2,     -999.0,1,  -999.0,9, 20170728,     1642, -32.5002,-175.2594,        0.0,1,      0.184,1,      4.598,1,      0.267,1,     -999.0,     -999.0,9,     -999.0,9,     -999.0,9,     -999.0,9,    17.8115,2,     -999.0,9