BOTTLE,20230922CCHSIOCBG
EXPOCODE,SECT_ID,STNNBR,CASTNO,SAMPNO,BTLNBR,BTLNBR_FLAG_W,DATE,TIME,LATITUDE,LONGITUDE,DEPTH,CTDPRS,CTDTMP,CTDSAL,CTDSAL_FLAG_W,SALNTY,SALNTY_FLAG_W,CTDOXY,CTDOXY_FLAG_W,OXYGEN,OXYGEN_FLAG_W,SILCAT,SILCAT_FLAG_W,NITRAT,NITRAT_FLAG_W,NITRIT,NITRIT_FLAG_W,PHSPHT,PHSPHT_FLAG_W,CFC-11,CFC-11_FLAG_W,CFC-12,CFC-12_FLAG_W,SF6,SF6_FLAG_W,TCARBN,TCARBN_FLAG_W,ALKALI,ALKALI_FLAG_W,PH_TOT,PH_TOT_FLAG_W,DELC13,DELC13_FLAG_W,DELC14,DELC14_FLAG_W,C14ERR,DOC,DOC_FLAG_W,TDN,TDN_FLAG_W,TON,TON_FLAG_W,D15N_NO3,D15N_NO3_FLAG_W,BTL_DATE,BTL_TIME,BTL_LAT,BTL_LON,CTDRINKO,CTDRINKO_FLAG_W,CTDFLUOR,CTDFLUOR_FLAG_W,CTDXMISS,CTDXMISS_FLAG_W,CTDBACKSCATTER,CTDBACKSCATTER_FLAG_W,PH_TMP,D18O_NO3,D18O_NO3_FLAG_W,DOP,DOP_FLAG_W,HPLC,HPLC_FLAG_W,POC,POC_FLAG_W,REFTMP,REFTMP_FLAG_W,TDP,TDP_FLAG_W
,,,,,,,,,,,METERS,DBAR,ITS-90,PSS-78,,PSS-78,,UMOL/KG,,UMOL/KG,,UMOL/KG,,UMOL/KG,,UMOL/KG,,UMOL/KG,,PMOL/KG,,PMOL/KG,,FMOL/KG,,UMOL/KG,,UMOL/KG,,,,/MILLE,,/MILLE,,/MILLE,UMOL/KG,,UMOL/KG,,UMOL/KG,,/MILLE,,,,,,VOLTS,,VOLTS,,VOLTS,,VOLTS,,DEGC,/MILLE,,UMOL/KG,,,,UG/L,,ITS-90,,UMOL/KG,
320620170703,        P06,      20,          1,          1,         37,2,20170708,       2141,   -30.0799,   157.2799,       3731,  3781.6,   1.1834,  34.7157,2,  34.7227,2, 194.5918,2, 194.9484,2,   116.7,2,   32.42,2,    0.00,2,    2.25,2,-999.000,9,-999.000,9,-999.0000,9,  2281.0,2, -999.00,9,   7.6147,2, -999.00,9, -999.00,9, -999.00,  -999.0,9, -999.00,9,     -999.0,9,  -999.0,9, 20170708,     1947, -30.0798, 157.2797,        0.0,1,      0.061,1,      4.703,1,      0.140,1,      25.02,     -999.0,9,     -999.0,9,     -999.0,9,     -999.0,9,     1.1848,2,     -999.0,9
320620170703,        P06,      20,          1,          2,          2,2,20170708,       2141,   -30.0799,   157.2799,       3731,  3689.1,   1.2008,  34.7163,2,  34.7248,2, 194.5918,2, 194.9528,2,   116.1,2,   32.36,2,    0.00,2,    2.25,2,-999.000,9,-999.000,9,-999.0000,9,  -999.0,9, -999.00,9,-999.0000,9, -999.00,9, -999.00,9, -999.00,  -999.0,9, -999.00,9,     -999.0,9,  -999.0,9, 20170708,     1951, -30.0798, 157.2799,        0.0,1,      0.061,1,      4.705,1,      0.138,1,     -999.0,     -999.0,9,     -999.0,9,     -999.0,9,     -999.0,9,     1.1992,2,     -999.0,9
320620170703,        P06,      20,          1,          3,         38,2,20170708,       2141,   -30.0799,   157.2799,       3731,  3556.9,   1.2415,  34.7175,2,  34.7203,2, 194.2106,2, 193.6487,2,   114.7,2,   32.36,2,    0.00,2,    2.26,2,-999.000,9,-999.000,9,-999.0000,9,  -999.0,9, -999.00,9,-999.0000,9, -999.00,9, -999.00,9, -999.00,  -999.0,9, -999.00,9,     -999.0,9,  -999.0,9, 20170708,     1955, -30.0798, 157.2801,        0.0,1,      0.061,1,      4.706,1,      0.138,1,     -999.0,     -999.0,9,     -999.0,9,     -999.0,9,     -999.0,9,     1.2408,2,     -999.0,9
320620170703,        P06,      20,          1,          4,          4,2,20170708,       2141,   -30.0799,   157.2799,       3731,  3296.8,   1.3325,  34.7197,2,  34.7199,2, 193.3111,2, 193.0550,2,   111.8,2,   32.22,2,    0.00,2,    2.26,2,-999.000,9,-999.000,9,-999.0000,9,  -999.0,9, -999.00,9,-999.0000,9, -999.00,9, -999.00,9, -999.00,  -999.0,9, -999.00,9,     -999.0,9,  -999.0,9, 20170708,     2001, -30.0798, 157.2802,        0.0,1,      0.061,1,      4.707,1,      0.137,1,     -999.0,     -999.0,9,     -999.0,9,     -999.0,9,     -999.0,9,     1.3335,2,     -999.0,9
320620170703,        P06,      20,          1,          5,         39,2,20170708,       2141,   -30.0799,   157.2799,       3731,  3043.2,   1.4908,  34.7220,2,  34.7209,2, 190.3877,2, 190.3532,2,   107.5,2,   32.07,2,    0.00,2,    2.25,2,-999.000,9,-999.000,9,-999.0000,9,  2270.1,2, -999.00,9,   7.6085,2, -999.00,9, -999.00,9, -999.00,  -999.0,9, -999.00,9,     -999.0,9,  -999.0,9, 20170708,     2007, -30.0798, 157.2799,        0.0,1,      0.062,1,      4.707,1,      0.135,1,      25.01,     -999.0,9,     -999.0,9,     -999.0,9,     -999.0,9,     1.4924,2,     -999.0,9
320620170703,        P06,      20,          1,          6,          6,2,20170708,       2141,   -30.0799,   157.2799,       3731,  2786.2,   1.7032,  34.7215,2,  34.7199,2, 186.0740,2, 186.3980,2,   102.7,2,   32.02,2,    0.00,2,    2.23,2,-999.000,9,-999.000,9,-999.0000,9,  -999.0,9, -999.00,9,-999.0000,9, -999.00,9, -999.00,9, -999.00,  -999.0,9, -999.00,9,     -999.0,9,  -999.0,9, 20170708,     2013, -30.0798, 157.2799,        0.0,1,      0.062,1,      4.706,1,      0.137,1,     -999.0,     -999.0,9,     -999.0,9,     -999.0,9,     -999.0,9,     1.7037,2,     -999.0,9
320620170703,        P06,      20,          1,          7,         40,2,20170708,       2141,   -30.0799,   157.2799,       3731,  2533.9,   1.9579,  34.7116,2,  34.7103,2, 180.0387,2, 180.2258,2,    97.0,2,   32.27,2,    0.00,2,    2.25,2,-999.000,9,-999.000,9,-999.0000,9,  -999.0,9, -999.00,9,-999.0000,9, -999.00,9, -999.00,9, -999.00,  -999.0,9, -999.00,9,     -999.0,9,  -999.0,9, 20170708,     2019, -30.0798, 157.2800,        0.0,1,      0.061,1,      4.706,1,      0.139,1,     -999.0,     -999.0,9,     -999.0,9,     -999.0,9,     -999.0,9,     1.9561,2,     -999.0,9
320620170703,        P06,      20,          1,          8,          8,2,20170708,       2141,   -30.0799,   157.2799,       3731,  2275.9,   2.1998,  34.6847,2,  34.6846,2, 171.4627,2, 170.9869,2,    94.8,2,   32.93,2,    0.00,2,    2.30,2,-999.000,9,-999.000,9,-999.0000,9,  -999.0,9, -999.00,9,-999.0000,9, -999.00,9, -999.00,9, -999.00,  -999.0,9, -999.00,9,     -999.0,9,  -999.0,9, 20170708,     2025, -30.0799, 157.2800,        0.0,1,      0.061,1,      4.706,1,      0.139,1,     -999.0,     -999.0,9,     -999.0,9,     -999.0,9,     -999.0,9,     2.1918,2,     -999.0,9
320620170703,        P06,      20,          1,          9,         41,2,20170708,       2141,   -30.0799,   157.2799,       3731,  2023.8,   2.4473,  34.6482,2,  34.6480,2, 160.2152,2, 159.7783,2,    96.1,2,   33.97,2,    0.00,2,    2.37,2,-999.000,9,-999.000,9,-999.0000,9,  2278.7,2, -999.00,9,   7.5749,2, -999.00,9, -999.00,9, -999.00,  -999.0,9, -999.00,9,     -999.0,9,  -999.0,9, 20170708,     2030, -30.0799, 157.2799,        0.0,1,      0.062,1,      4.706,1,      0.140,1,      25.01,     -999.0,9,     -999.0,9,     -999.0,9,     -999.0,9,     2.4438,2,     -999.0,9
320620170703,        P06,      20,          1,         10,         10,2,20170708,       2141,   -30.0799,   157.2799,       3731,  1821.3,   2.7251,  34.6142,2,  34.6124,2, 153.3658,2, 152.9680,2,    95.3,2,   34.54,2,    0.00,2,    2.44,2,-999.000,9,-999.000,9,-999.0000,9,  -999.0,9, -999.00,9,-999.0000,9, -999.00,9, -999.00,9, -999.00,  -999.0,9, -999.00,9,     -999.0,9,  -999.0,9, 20170708,     2035, -30.0798, 157.2797,        0.0,1,      0.061,1,      4.706,1,      0.142,1,     -999.0,     -999.0,9,     -999.0,9,     -999.0,9,     -999.0,9,     2.7227,2,     -999.0,9
320620170703,        P06,      20,          1,         11,         42,2,20170708,       2141,   -30.0799,   157.2799,       3731,  1719.7,   2.9112,  34.5953,2,  34.5993,2, 150.7776,2, 150.6889,2,    94.0,2,   34.71,2,    0.00,2,    2.45,2,-999.000,9,-999.000,9,-999.0000,9,  2282.7,2, -999.00,9,   7.5695,2, -999.00,9, -999.00,9, -999.00,  -999.0,9, -999.00,9,     -999.0,9,  -999.0,9, 20170708,     2038, -30.0799, 157.2797,        0.0,1,      0.061,1,      4.706,1,      0.140,1,      25.02,     -999.0,9,     -999.0,9,     -999.0,9,     -999.0,9,     2.9033,2,     -999.0,9
320620170703,        P06,      20,          1,         12,         12,2,20170708,       2141,   -30.0799,   157.2799,       3731,  1618.4,   3.1571,  34.5723,2,  34.5732,2, 151.8568,2, 152.6682,2,    88.5,2,   34.40,2,    0.00,2,    2.43,2,-999.000,9,-999.000,9,-999.0000,9,  -999.0,9, -999.00,9,-999.0000,9, -999.00,9, -999.00,9, -999.00,  -999.0,9, -999.00,9,     -999.0,9,  -999.0,9, 20170708,     2041, -30.0799, 157.2797,        0.0,1,      0.061,1,      4.706,1,      0.141,1,     -999.0,     -999.0,9,     -999.0,9,     -999.0,9,     -999.0,9,     3.1307,2,     -999.0,9
320620170703,        P06,      20,          1,         13,         43,2,20170708,       2141,   -30.0799,   157.2799,       3731,  1516.7,   3.4069,  34.5501,2,  34.5494,2, 154.8720,2, 155.4030,2,    81.4,2,   33.99,2,    0.00,2,    2.38,2,-999.000,9,-999.000,9,-999.0000,9,  2265.5,2, -999.00,9,   7.5789,2, -999.00,9, -999.00,9, -999.00,  -999.0,9, -999.00,9,     -999.0,9,  -999.0,9, 20170708,     2044, -30.0799, 157.2798,        0.0,1,      0.061,1,      4.706,1,      0.142,1,      25.02,     -999.0,9,     -999.0,9,     -999.0,9,     -999.0,9,     3.3974,2,     -999.0,9
320620170703,        P06,      20,          1,         14,         14,2,20170708,       2141,   -30.0799,   157.2799,       3731,  1416.9,   3.7822,  34.5195,2,  34.5174,2, 161.4878,2, 161.8696,2,    71.1,2,   33.22,2,    0.00,2,    2.34,2,-999.000,9,-999.000,9,-999.0000,9,  -999.0,9, -999.00,9,-999.0000,9, -999.00,9, -999.00,9, -999.00,  -999.0,9, -999.00,9,     -999.0,9,  -999.0,9, 20170708,     2047, -30.0799, 157.2799,        0.0,1,      0.061,1,      4.706,1,      0.141,1,     -999.0,     -999.0,9,     -999.0,9,     -999.0,9,     -999.0,9,     3.7804,2,     -999.0,9
320620170703,        P06,      20,          1,         15,         15,2,20170708,       2141,   -30.0799,   157.2799,       3731,  1312.6,   4.2184,  34.4927,2,  34.4877,3, 169.5286,2, 169.4671,2,    59.8,2,   32.16,2,    0.00,2,    2.24,2,-999.000,9,-999.000,9,-999.0000,9,  -999.0,9, -999.00,9,-999.0000,9, -999.00,9, -999.00,9, -999.00,  -999.0,9, -999.00,9,     -999.0,9,  -999.0,9, 20170708,     2050, -30.0799, 157.2799,        0.0,1,      0.060,1,      4.706,1,      0.140,1,     -999.0,     -999.0,9,     -999.0,9,     -999.0,9,     -999.0,9,     4.2444,2,     -999.0,9
320620170703,        P06,      20,          1,         16,         16,2,20170708,       2141,   -30.0799,   157.2799,       3731,  1213.8,   4.6377,  34.4691,2,  34.4608,2, 177.3370,2, 177.3598,2,    48.1,2,   30.85,2,    0.00,2,    2.14,2,-999.000,9,-999.000,9,-999.0000,9,  -999.0,9, -999.00,9,-999.0000,9, -999.00,9, -999.00,9, -999.00,  -999.0,9, -999.00,9,     -999.0,9,  -999.0,9, 20170708,     2053, -30.0799, 157.2799,        0.0,1,      0.061,1,      4.706,1,      0.142,1,     -999.0,     -999.0,9,     -999.0,9,     -999.0,9,     -999.0,9,     4.7654,2,     -999.0,9
320620170703,        P06,      20,          1,         17,         17,2,20170708,       2141,   -30.0799,   157.2799,       3731,  1110.6,   5.1656,  34.4491,2,  34.4422,2, 186.1466,2, 185.8721,2,    37.2,2,   29.38,2,    0.00,2,    2.03,2,-999.000,9,-999.000,9,-999.0000,9,  2201.8,2, -999.00,9,   7.6328,2, -999.00,9, -999.00,9, -999.00,  -999.0,9, -999.00,9,     -999.0,9,  -999.0,9, 20170708,     2056, -30.0799, 157.2799,        0.0,1,      0.061,1,      4.706,1,      0.140,1,      25.02,     -999.0,9,     -999.0,9,     -999.0,9,     -999.0,9,     5.3288,2,     -999.0,9
320620170703,        P06,      20,          1,         18,         18,2,20170708,       2141,   -30.0799,   157.2799,       3731,  1011.1,   5.8482,  34.4442,2,  34.4410,2, 191.5768,2, 191.4691,2,    28.5,2,   27.89,2,    0.00,2,    1.91,2,-999.000,9,-999.000,9,-999.0000,9,  -999.0,9, -999.00,9,-999.0000,9, -999.00,9, -999.00,9, -999.00,  -999.0,9, -999.00,9,     -999.0,9,  -999.0,9, 20170708,     2059, -30.0799, 157.2799,        0.0,1,      0.060,1,      4.705,1,      0.142,1,     -999.0,     -999.0,9,     -999.0,9,     -999.0,9,     -999.0,9,     5.9302,2,     -999.0,9
320620170703,        P06,      20,          1,         19,         19,2,20170708,       2141,   -30.0799,   157.2799,       3731,   908.6,   6.6665,  34.4665,2,  34.4599,2, 199.4080,2, 199.4091,2,    19.8,2,   25.76,2,    0.00,2,    1.76,2,-999.000,9,-999.000,9,-999.0000,9,  -999.0,9, -999.00,9,-999.0000,9, -999.00,9, -999.00,9, -999.00,  -999.0,9, -999.00,9,     -999.0,9,  -999.0,9, 20170708,     2102, -30.0799, 157.2799,        0.0,1,      0.059,1,      4.705,1,      0.142,1,     -999.0,     -999.0,9,     -999.0,9,     -999.0,9,     -999.0,9,     6.7024,2,     -999.0,9
320620170703,        P06,      20,          1,         20,         20,2,20170708,       2141,   -30.0799,   157.2799,       3731,   809.3,   7.4429,  34.5057,2,  34.5119,2, 203.0787,2, 203.0592,2,    14.1,2,   23.58,2,    0.00,2,    1.60,2,-999.000,9,-999.000,9,-999.0000,9,  -999.0,9, -999.00,9,-999.0000,9, -999.00,9, -999.00,9, -999.00,  -999.0,9, -999.00,9,     -999.0,9,  -999.0,9, 20170708,     2105, -30.0799, 157.2800,        0.0,1,      0.060,1,      4.704,1,      0.142,1,     -999.0,     -999.0,9,     -999.0,9,     -999.0,9,     -999.0,9,     7.5754,2,     -999.0,9
320620170703,        P06,      20,          1,         21,         21,2,20170708,       2141,   -30.0799,   157.2799,       3731,   709.0,   8.5438,  34.6085,2,  34.6028,2, 202.1883,2, 201.7061,2,    10.5,2,   21.45,2,    0.00,2,    1.45,2,-999.000,9,-999.000,9,-999.0000,9,  2154.0,2, -999.00,9,   7.7105,2, -999.00,9, -999.00,9, -999.00,  -999.0,9, -999.00,9,     -999.0,9,  -999.0,9, 20170708,     2108, -30.0799, 157.2801,        0.0,1,      0.060,1,      4.702,1,      0.146,1,      25.03,     -999.0,9,     -999.0,9,     -999.0,9,     -999.0,9,     8.5456,2,     -999.0,9
320620170703,        P06,      20,          1,         22,         22,2,20170708,       2141,   -30.0799,   157.2799,       3731,   606.5,  10.1529,  34.7881,2,  34.7730,2, 198.0953,2, 198.1361,2,     7.2,2,   18.18,2,    0.00,2,    1.22,2,-999.000,9,-999.000,9,-999.0000,9,  -999.0,9, -999.00,9,-999.0000,9, -999.00,9, -999.00,9, -999.00,  -999.0,9, -999.00,9,     -999.0,9,  -999.0,9, 20170708,     2111, -30.0799, 157.2801,        0.0,1,      0.059,1,      4.700,1,      0.149,1,     -999.0,     -999.0,9,     -999.0,9,     -999.0,9,     -999.0,9,    10.1322,2,     -999.0,9
320620170703,        P06,      20,          1,         23,         23,2,20170708,       2141,   -30.0799,   157.2799,       3731,   505.0,  12.1146,  35.0217,2,  35.0014,2, 195.0335,2, 194.7073,2,     4.9,2,   14.39,2,    0.00,2,    0.99,2,-999.000,9,-999.000,9,-999.0000,9,  2132.1,2, -999.00,9,   7.7869,2, -999.00,9, -999.00,9, -999.00,  -999.0,9, -999.00,9,     -999.0,9,  -999.0,9, 20170708,     2114, -30.0799, 157.2801,        0.0,1,      0.060,1,      4.697,1,      0.144,1,      25.02,     -999.0,9,     -999.0,9,     -999.0,9,     -999.0,9,    11.9096,2,     -999.0,9
320620170703,        P06,      20,          1,         24,         24,2,20170708,       2141,   -30.0799,   157.2799,       3731,   453.2,  13.3056,  35.1432,2,  35.0961,3, 190.3274,2, 190.2538,2,     4.2,2,   13.01,2,    0.00,2,    0.90,2,-999.000,9,-999.000,9,-999.0000,9,  -999.0,9, -999.00,9,-999.0000,9, -999.00,9, -999.00,9, -999.00,  -999.0,9, -999.00,9,     -999.0,9,  -999.0,9, 20170708,     2116, -30.0799, 157.2801,        0.0,1,      0.059,1,      4.696,1,      0.145,1,     -999.0,     -999.0,9,     -999.0,9,     -999.0,9,     -999.0,9,    12.9364,2,     -999.0,9
320620170703,        P06,      20,          1,         25,         25,2,20170708,       2141,   -30.0799,   157.2799,       3731,   403.1,  14.3243,  35.2670,2,  35.2722,3, 191.8485,2, 192.2667,2,     3.1,2,   10.27,2,    0.00,2,    0.72,2,-999.000,9,-999.000,9,-999.0000,9,  -999.0,9, -999.00,9,-999.0000,9, -999.00,9, -999.00,9, -999.00,  -999.0,9, -999.00,9,     -999.0,9,  -999.0,9, 20170708,     2118, -30.0799, 157.2800,        0.0,1,      0.060,1,      4.695,1,      0.151,1,     -999.0,     -999.0,9,     -999.0,9,     -999.0,9,     -999.0,9,    14.3376,2,     -999.0,9
320620170703,        P06,      20,          1,         26,         26,2,20170708,       2141,   -30.0799,   157.2799,       3731,   354.2,  15.6643,  35.4040,2,  35.4076,2, 191.4806,2, 192.5249,2,     2.1,2,    8.14,2,    0.00,2,    0.59,2,-999.000,9,-999.000,9,-999.0000,9,  -999.0,9, -999.00,9,-999.0000,9, -999.00,9, -999.00,9, -999.00,  -999.0,9, -999.00,9,     -999.0,9,  -999.0,9, 20170708,     2120, -30.0799, 157.2800,        0.0,1,      0.059,1,      4.694,1,      0.143,1,     -999.0,     -999.0,9,     -999.0,9,     -999.0,9,     -999.0,9,    15.7603,2,     -999.0,9
320620170703,        P06,      20,          1,         27,         27,2,20170708,       2141,   -30.0799,   157.2799,       3731,   303.2,  17.3485,  35.5458,2,  35.5154,2, 194.0769,2, 192.5751,2,     1.6,2,    6.59,2,    0.00,2,    0.50,2,-999.000,9,-999.000,9,-999.0000,9,  2096.3,2, -999.00,9,   7.9102,2, -999.00,9, -999.00,9, -999.00,  -999.0,9, -999.00,9,     -999.0,9,  -999.0,9, 20170708,     2123, -30.0799, 157.2799,        0.0,1,      0.058,1,      4.693,1,      0.147,1,      25.03,     -999.0,9,     -999.0,9,     -999.0,9,     -999.0,9,    16.9961,2,     -999.0,9
320620170703,        P06,      20,          1,         28,         28,2,20170708,       2141,   -30.0799,   157.2799,       3731,   253.6,  18.4773,  35.6328,2,  35.6026,2, 189.2927,2, 189.9069,2,     1.2,2,    5.36,2,    0.00,2,    0.41,2,-999.000,9,-999.000,9,-999.0000,9,  -999.0,9, -999.00,9,-999.0000,9, -999.00,9, -999.00,9, -999.00,  -999.0,9, -999.00,9,     -999.0,9,  -999.0,9, 20170708,     2125, -30.0799, 157.2799,        0.0,1,      0.060,1,      4.690,1,      0.150,1,     -999.0,     -999.0,9,     -999.0,9,     -999.0,9,     -999.0,9,    18.1981,2,     -999.0,9
320620170703,        P06,      20,          1,         29,         29,2,20170708,       2141,   -30.0799,   157.2799,       3731,   200.8,  19.8385,  35.7451,2,  35.7104,2, 193.4952,2, 194.0746,2,     0.7,2,    3.53,2,    0.02,2,    0.29,2,-999.000,9,-999.000,9,-999.0000,9,  2073.2,2, -999.00,9,   7.9683,2, -999.00,9, -999.00,9, -999.00,  -999.0,9, -999.00,9,     -999.0,9,  -999.0,9, 20170708,     2127, -30.0799, 157.2799,        0.0,1,      0.062,1,      4.684,1,      0.161,1,      25.03,     -999.0,9,     -999.0,9,     -999.0,9,     -999.0,9,    19.4811,2,     -999.0,9
320620170703,        P06,      20,          1,         30,         30,2,20170708,       2141,   -30.0799,   157.2799,       3731,   150.9,  20.4839,  35.7952,2,  35.7975,2, 218.2674,2, 216.9663,2,     0.2,2,    0.39,2,    0.26,2,    0.10,2,-999.000,9,-999.000,9,-999.0000,9,  -999.0,9, -999.00,9,-999.0000,9, -999.00,9, -999.00,9, -999.00,  -999.0,9, -999.00,9,     -999.0,9,  -999.0,9, 20170708,     2130, -30.0799, 157.2799,        0.0,1,      0.146,1,      4.646,1,      0.216,1,     -999.0,     -999.0,9,     -999.0,9,     -999.0,9,     -999.0,9,    20.4625,2,     -999.0,9
320620170703,        P06,      20,          1,         31,         31,2,20170708,       2141,   -30.0799,   157.2799,       3731,   124.5,  20.5043,  35.7926,2,  35.7942,2, 218.8930,2, 218.1104,2,     0.1,2,    0.28,2,    0.25,2,    0.11,2,-999.000,9,-999.000,9,-999.0000,9,  2047.8,2, -999.00,9,   8.0249,2, -999.00,9, -999.00,9, -999.00,  -999.0,9, -999.00,9,     -999.0,9,  -999.0,9, 20170708,     2131, -30.0799, 157.2799,        0.0,1,      0.143,1,      4.646,1,      0.215,1,      25.02,     -999.0,9,     -999.0,9,     -999.0,9,     -999.0,9,    20.4877,2,     -999.0,9
320620170703,        P06,      20,          1,         32,         32,2,20170708,       2141,   -30.0799,   157.2799,       3731,   100.9,  20.5301,  35.7850,2,  35.7912,2, 219.6546,2, 218.3906,2,     0.1,2,    0.25,2,    0.23,2,    0.11,2,-999.000,9,-999.000,9,-999.0000,9,  -999.0,9, -999.00,9,-999.0000,9, -999.00,9, -999.00,9, -999.00,  -999.0,9, -999.00,9,     -999.0,9,  -999.0,9, 20170708,     2133, -30.0799, 157.2800,        0.0,1,      0.150,1,      4.639,1,      0.203,1,     -999.0,     -999.0,9,     -999.0,9,     -999.0,9,     -999.0,9,    20.4940,2,     -999.0,9