BOTTLE,20230922CCHSIOCBG
EXPOCODE,SECT_ID,STNNBR,CASTNO,SAMPNO,BTLNBR,BTLNBR_FLAG_W,DATE,TIME,LATITUDE,LONGITUDE,DEPTH,CTDPRS,CTDTMP,CTDSAL,CTDSAL_FLAG_W,SALNTY,SALNTY_FLAG_W,CTDOXY,CTDOXY_FLAG_W,OXYGEN,OXYGEN_FLAG_W,SILCAT,SILCAT_FLAG_W,NITRAT,NITRAT_FLAG_W,NITRIT,NITRIT_FLAG_W,PHSPHT,PHSPHT_FLAG_W,CFC-11,CFC-11_FLAG_W,CFC-12,CFC-12_FLAG_W,SF6,SF6_FLAG_W,TCARBN,TCARBN_FLAG_W,ALKALI,ALKALI_FLAG_W,PH_TOT,PH_TOT_FLAG_W,DELC13,DELC13_FLAG_W,DELC14,DELC14_FLAG_W,C14ERR,DOC,DOC_FLAG_W,TDN,TDN_FLAG_W,TON,TON_FLAG_W,D15N_NO3,D15N_NO3_FLAG_W,BTL_DATE,BTL_TIME,BTL_LAT,BTL_LON,CTDRINKO,CTDRINKO_FLAG_W,CTDFLUOR,CTDFLUOR_FLAG_W,CTDXMISS,CTDXMISS_FLAG_W,CTDBACKSCATTER,CTDBACKSCATTER_FLAG_W,PH_TMP,D18O_NO3,D18O_NO3_FLAG_W,DOP,DOP_FLAG_W,HPLC,HPLC_FLAG_W,POC,POC_FLAG_W,REFTMP,REFTMP_FLAG_W,TDP,TDP_FLAG_W
,,,,,,,,,,,METERS,DBAR,ITS-90,PSS-78,,PSS-78,,UMOL/KG,,UMOL/KG,,UMOL/KG,,UMOL/KG,,UMOL/KG,,UMOL/KG,,PMOL/KG,,PMOL/KG,,FMOL/KG,,UMOL/KG,,UMOL/KG,,,,/MILLE,,/MILLE,,/MILLE,UMOL/KG,,UMOL/KG,,UMOL/KG,,/MILLE,,,,,,VOLTS,,VOLTS,,VOLTS,,VOLTS,,DEGC,/MILLE,,UMOL/KG,,,,UG/L,,ITS-90,,UMOL/KG,
320620170703,        P06,     901,          2,          8,          8,2,20170704,       0015,   -31.3567,   153.5042,       3829,  2027.7,   2.3128,  34.6674,2,-999.0000,9, 166.2000,3,-999.0000,9,    93.8,2,   33.49,2,    0.00,2,    2.30,2,-999.000,5,-999.000,5,-999.0000,5,  -999.0,9, -999.00,9,-999.0000,9, -999.00,9, -999.00,9, -999.00,  -999.0,9, -999.00,9,     -999.0,9,  -999.0,9, 20170704,       13, -31.3567, 153.5042,        2.1,1,      0.061,1,      4.713,1,      0.140,1,     -999.0,     -999.0,9,     -999.0,9,     -999.0,9,     -999.0,9,     -999.0,5,     -999.0,9
320620170703,        P06,     901,          2,         27,         27,2,20170704,       0015,   -31.3567,   153.5042,       3829,  2027.6,   2.3128,  34.6674,2,-999.0000,9, 166.2000,3,-999.0000,9,    93.9,2,   33.57,2,    0.00,2,    2.33,2,-999.000,5,-999.000,5,-999.0000,5,  -999.0,9, -999.00,9,-999.0000,9, -999.00,9, -999.00,9, -999.00,  -999.0,9, -999.00,9,     -999.0,9,  -999.0,9, 20170704,       15, -31.3567, 153.5042,        2.1,1,      0.061,1,      4.713,1,      0.140,1,     -999.0,     -999.0,9,     -999.0,9,     -999.0,9,     -999.0,9,     -999.0,5,     -999.0,9
320620170703,        P06,     901,          2,         34,         34,2,20170704,       0015,   -31.3567,   153.5042,       3829,  2027.6,   2.3128,  34.6674,2,-999.0000,9, 166.2000,2, 166.3000,2,    94.0,2,   33.60,2,    0.00,2,    2.34,2,-999.000,5,-999.000,5,-999.0000,5,  -999.0,9, -999.00,9,-999.0000,9, -999.00,9, -999.00,9, -999.00,  -999.0,9, -999.00,9,     -999.0,9,  -999.0,9, 20170704,       15, -31.3567, 153.5042,        2.1,1,      0.061,1,      4.713,1,      0.140,1,     -999.0,     -999.0,9,     -999.0,9,     -999.0,9,     -999.0,9,     -999.0,5,     -999.0,9
320620170703,        P06,     901,          2,         20,         20,2,20170704,       0015,   -31.3567,   153.5042,       3829,  2027.5,   2.3128,  34.6674,2,-999.0000,9, 166.2000,3,-999.0000,9,    93.9,2,   33.52,2,    0.00,2,    2.32,2,-999.000,5,-999.000,5,-999.0000,5,  -999.0,9, -999.00,9,-999.0000,9, -999.00,9, -999.00,9, -999.00,  -999.0,9, -999.00,9,     -999.0,9,  -999.0,9, 20170704,       14, -31.3567, 153.5042,        2.1,1,      0.061,1,      4.713,1,      0.140,1,     -999.0,     -999.0,9,     -999.0,9,     -999.0,9,     -999.0,9,     -999.0,5,     -999.0,9
320620170703,        P06,     901,          2,         22,         22,2,20170704,       0015,   -31.3567,   153.5042,       3829,  2027.4,   2.3128,  34.6674,2,-999.0000,9, 166.2000,2, 166.7000,2,    94.5,2,   33.53,2,    0.00,2,    2.32,2,-999.000,5,-999.000,5,-999.0000,5,  -999.0,9, -999.00,9,-999.0000,9, -999.00,9, -999.00,9, -999.00,  -999.0,9, -999.00,9,     -999.0,9,  -999.0,9, 20170704,       14, -31.3567, 153.5042,        2.1,1,      0.061,1,      4.713,1,      0.140,1,     -999.0,     -999.0,9,     -999.0,9,     -999.0,9,     -999.0,9,     -999.0,5,     -999.0,9
320620170703,        P06,     901,          2,         16,         16,2,20170704,       0015,   -31.3567,   153.5042,       3829,  2027.4,   2.3128,  34.6674,2,-999.0000,9, 166.2000,2, 166.4000,2,    93.7,2,   33.54,2,    0.00,2,    2.32,2,-999.000,5,-999.000,5,-999.0000,5,  -999.0,9, -999.00,9,-999.0000,9, -999.00,9, -999.00,9, -999.00,  -999.0,9, -999.00,9,     -999.0,9,  -999.0,9, 20170704,       13, -31.3567, 153.5042,        2.1,1,      0.061,1,      4.713,1,      0.140,1,     -999.0,     -999.0,9,     -999.0,9,     -999.0,9,     -999.0,9,     -999.0,5,     -999.0,9
320620170703,        P06,     901,          2,         26,         26,2,20170704,       0015,   -31.3567,   153.5042,       3829,  2027.4,   2.3128,  34.6674,2,-999.0000,9, 166.2000,3,-999.0000,9,    93.9,2,   33.57,2,    0.00,2,    2.36,2,-999.000,5,-999.000,5,-999.0000,5,  -999.0,9, -999.00,9,-999.0000,9, -999.00,9, -999.00,9, -999.00,  -999.0,9, -999.00,9,     -999.0,9,  -999.0,9, 20170704,       14, -31.3567, 153.5042,        2.1,1,      0.061,1,      4.713,1,      0.140,1,     -999.0,     -999.0,9,     -999.0,9,     -999.0,9,     -999.0,9,     -999.0,5,     -999.0,9
320620170703,        P06,     901,          2,         12,         12,2,20170704,       0015,   -31.3567,   153.5042,       3829,  2027.4,   2.3128,  34.6674,2,-999.0000,9, 166.2000,3,-999.0000,9,    93.8,2,   33.51,2,    0.00,2,    2.31,2,-999.000,5,-999.000,5,-999.0000,5,  -999.0,9, 2365.07,2,   7.5802,2, -999.00,9, -999.00,9, -999.00,  -999.0,9, -999.00,9,     -999.0,9,  -999.0,9, 20170704,       13, -31.3567, 153.5042,        2.1,1,      0.061,1,      4.713,1,      0.140,1,      25.04,     -999.0,9,     -999.0,9,     -999.0,9,     -999.0,9,     -999.0,5,     -999.0,9
320620170703,        P06,     901,          2,         32,         32,2,20170704,       0015,   -31.3567,   153.5042,       3829,  2027.4,   2.3128,  34.6674,2,-999.0000,9, 166.2000,3,-999.0000,9,    93.9,2,   33.56,2,    0.00,2,    2.33,2,-999.000,5,-999.000,5,-999.0000,5,  -999.0,9, -999.00,9,-999.0000,9, -999.00,9, -999.00,9, -999.00,  -999.0,9, -999.00,9,     -999.0,9,  -999.0,9, 20170704,       15, -31.3567, 153.5042,        2.1,1,      0.061,1,      4.713,1,      0.140,1,     -999.0,     -999.0,9,     -999.0,9,     -999.0,9,     -999.0,9,     -999.0,5,     -999.0,9
320620170703,        P06,     901,          2,          5,          5,2,20170704,       0015,   -31.3567,   153.5042,       3829,  2027.3,   2.3128,  34.6674,2,-999.0000,9, 166.2000,3,-999.0000,9,    94.0,2,   33.51,2,    0.00,2,    2.30,2,-999.000,5,-999.000,5,-999.0000,5,  -999.0,9, -999.00,9,-999.0000,9, -999.00,9, -999.00,9, -999.00,  -999.0,9, -999.00,9,     -999.0,9,  -999.0,9, 20170704,       12, -31.3567, 153.5042,        2.1,1,      0.061,1,      4.713,1,      0.140,1,     -999.0,     -999.0,9,     -999.0,9,     -999.0,9,     -999.0,9,     -999.0,5,     -999.0,9
320620170703,        P06,     901,          2,          4,          4,2,20170704,       0015,   -31.3567,   153.5042,       3829,  2027.2,   2.3128,  34.6674,2,-999.0000,9, 166.2000,2, 165.8000,2,    93.8,2,   33.51,2,    0.00,2,    2.32,2,-999.000,5,-999.000,5,-999.0000,5,  -999.0,9, -999.00,9,-999.0000,9, -999.00,9, -999.00,9, -999.00,  -999.0,9, -999.00,9,     -999.0,9,  -999.0,9, 20170704,       12, -31.3567, 153.5042,        2.1,1,      0.061,1,      4.713,1,      0.140,1,     -999.0,     -999.0,9,     -999.0,9,     -999.0,9,     -999.0,9,     -999.0,5,     -999.0,9
320620170703,        P06,     901,          2,         29,         29,2,20170704,       0015,   -31.3567,   153.5042,       3829,  2027.2,   2.3128,  34.6674,2,-999.0000,9, 166.2000,3,-999.0000,9,    94.2,2,   33.57,2,    0.00,2,    2.32,2,-999.000,5,-999.000,5,-999.0000,5,  -999.0,9, -999.00,9,-999.0000,9, -999.00,9, -999.00,9, -999.00,  -999.0,9, -999.00,9,     -999.0,9,  -999.0,9, 20170704,       15, -31.3567, 153.5042,        2.1,1,      0.061,1,      4.713,1,      0.140,1,     -999.0,     -999.0,9,     -999.0,9,     -999.0,9,     -999.0,9,     -999.0,5,     -999.0,9
320620170703,        P06,     901,          2,          2,          2,2,20170704,       0015,   -31.3567,   153.5042,       3829,  2027.2,   2.3128,  34.6674,2,-999.0000,9, 166.2000,3,-999.0000,9,    93.9,2,   33.53,2,    0.00,2,    2.31,2,-999.000,5,-999.000,5,-999.0000,5,  -999.0,9, -999.00,9,-999.0000,9, -999.00,9, -999.00,9, -999.00,  -999.0,9, -999.00,9,     -999.0,9,  -999.0,9, 20170704,       12, -31.3567, 153.5042,        2.1,1,      0.061,1,      4.713,1,      0.140,1,     -999.0,     -999.0,9,     -999.0,9,     -999.0,9,     -999.0,9,     -999.0,5,     -999.0,9
320620170703,        P06,     901,          2,         33,         33,2,20170704,       0015,   -31.3567,   153.5042,       3829,  2027.2,   2.3128,  34.6674,2,-999.0000,9, 166.2000,3,-999.0000,9,    94.0,2,   33.59,2,    0.00,2,    2.33,2,-999.000,5,-999.000,5,-999.0000,5,  -999.0,9, -999.00,9,-999.0000,9, -999.00,9, -999.00,9, -999.00,  -999.0,9, -999.00,9,     -999.0,9,  -999.0,9, 20170704,       15, -31.3567, 153.5042,        2.1,1,      0.061,1,      4.713,1,      0.140,1,     -999.0,     -999.0,9,     -999.0,9,     -999.0,9,     -999.0,9,     -999.0,5,     -999.0,9
320620170703,        P06,     901,          2,         24,         24,2,20170704,       0015,   -31.3567,   153.5042,       3829,  2027.2,   2.3128,  34.6674,2,-999.0000,9, 166.2000,3,-999.0000,9,    93.7,2,   33.57,2,    0.00,2,    2.34,2,-999.000,5,-999.000,5,-999.0000,5,  -999.0,9, -999.00,9,-999.0000,9, -999.00,9, -999.00,9, -999.00,  -999.0,9, -999.00,9,     -999.0,9,  -999.0,9, 20170704,       14, -31.3567, 153.5042,        2.1,1,      0.061,1,      4.713,1,      0.140,1,     -999.0,     -999.0,9,     -999.0,9,     -999.0,9,     -999.0,9,     -999.0,5,     -999.0,9
320620170703,        P06,     901,          2,         35,         35,2,20170704,       0015,   -31.3567,   153.5042,       3829,  2027.1,   2.3128,  34.6674,2,-999.0000,9, 166.2000,3,-999.0000,9,    93.8,2,   33.62,2,    0.00,2,    2.35,2,-999.000,5,-999.000,5,-999.0000,5,  -999.0,9, -999.00,9,-999.0000,9, -999.00,9, -999.00,9, -999.00,  -999.0,9, -999.00,9,     -999.0,9,  -999.0,9, 20170704,       15, -31.3567, 153.5042,        2.1,1,      0.061,1,      4.713,1,      0.140,1,     -999.0,     -999.0,9,     -999.0,9,     -999.0,9,     -999.0,9,     -999.0,5,     -999.0,9
320620170703,        P06,     901,          2,         21,         21,2,20170704,       0015,   -31.3567,   153.5042,       3829,  2027.0,   2.3128,  34.6674,2,-999.0000,9, 166.2000,3,-999.0000,9,    93.8,2,   33.52,2,    0.00,2,    2.32,2,-999.000,5,-999.000,5,-999.0000,5,  -999.0,9, -999.00,9,-999.0000,9, -999.00,9, -999.00,9, -999.00,  -999.0,9, -999.00,9,     -999.0,9,  -999.0,9, 20170704,       14, -31.3567, 153.5042,        2.1,1,      0.061,1,      4.713,1,      0.140,1,     -999.0,     -999.0,9,     -999.0,9,     -999.0,9,     -999.0,9,     -999.0,5,     -999.0,9
320620170703,        P06,     901,          2,         30,         30,2,20170704,       0015,   -31.3567,   153.5042,       3829,  2027.0,   2.3128,  34.6674,2,-999.0000,9, 166.2000,3,-999.0000,9,    94.4,2,   33.56,2,    0.00,2,    2.33,2,-999.000,5,-999.000,5,-999.0000,5,  -999.0,9, -999.00,9,-999.0000,9, -999.00,9, -999.00,9, -999.00,  -999.0,9, -999.00,9,     -999.0,9,  -999.0,9, 20170704,       15, -31.3567, 153.5042,        2.1,1,      0.061,1,      4.713,1,      0.140,1,     -999.0,     -999.0,9,     -999.0,9,     -999.0,9,     -999.0,9,     -999.0,5,     -999.0,9
320620170703,        P06,     901,          2,          3,          3,2,20170704,       0015,   -31.3567,   153.5042,       3829,  2027.0,   2.3128,  34.6674,2,-999.0000,9, 166.2000,3,-999.0000,9,    93.7,2,   33.53,2,    0.00,2,    2.32,2,-999.000,5,-999.000,5,-999.0000,5,  -999.0,9, -999.00,9,-999.0000,9, -999.00,9, -999.00,9, -999.00,  -999.0,9, -999.00,9,     -999.0,9,  -999.0,9, 20170704,       12, -31.3567, 153.5042,        2.1,1,      0.061,1,      4.713,1,      0.140,1,     -999.0,     -999.0,9,     -999.0,9,     -999.0,9,     -999.0,9,     -999.0,5,     -999.0,9
320620170703,        P06,     901,          2,          9,          9,2,20170704,       0015,   -31.3567,   153.5042,       3829,  2027.0,   2.3128,  34.6674,2,-999.0000,9, 166.2000,3,-999.0000,9,    93.9,2,   33.51,2,    0.00,2,    2.30,2,-999.000,5,-999.000,5,-999.0000,5,  -999.0,9, -999.00,9,-999.0000,9, -999.00,9, -999.00,9, -999.00,  -999.0,9, -999.00,9,     -999.0,9,  -999.0,9, 20170704,       13, -31.3567, 153.5042,        2.1,1,      0.061,1,      4.713,1,      0.140,1,     -999.0,     -999.0,9,     -999.0,9,     -999.0,9,     -999.0,9,     -999.0,5,     -999.0,9
320620170703,        P06,     901,          2,         15,         15,2,20170704,       0015,   -31.3567,   153.5042,       3829,  2026.9,   2.3128,  34.6674,2,-999.0000,9, 166.2000,3,-999.0000,9,    93.9,2,   33.52,2,    0.00,2,    2.32,2,-999.000,5,-999.000,5,-999.0000,5,  -999.0,9, 2367.99,2,   7.5800,2, -999.00,9, -999.00,9, -999.00,  -999.0,9, -999.00,9,     -999.0,9,  -999.0,9, 20170704,       13, -31.3567, 153.5042,        2.1,1,      0.061,1,      4.713,1,      0.140,1,      24.98,     -999.0,9,     -999.0,9,     -999.0,9,     -999.0,9,     -999.0,5,     -999.0,9
320620170703,        P06,     901,          2,         14,         14,2,20170704,       0015,   -31.3567,   153.5042,       3829,  2026.9,   2.3128,  34.6674,2,-999.0000,9, 166.2000,3,-999.0000,9,    93.9,2,   33.51,2,    0.00,2,    2.31,2,-999.000,5,-999.000,5,-999.0000,5,  -999.0,9, 2364.81,2,   7.5798,2, -999.00,9, -999.00,9, -999.00,  -999.0,9, -999.00,9,     -999.0,9,  -999.0,9, 20170704,       13, -31.3567, 153.5042,        2.1,1,      0.061,1,      4.713,1,      0.140,1,      25.07,     -999.0,9,     -999.0,9,     -999.0,9,     -999.0,9,     -999.0,5,     -999.0,9
320620170703,        P06,     901,          2,          7,          7,2,20170704,       0015,   -31.3567,   153.5042,       3829,  2026.9,   2.3128,  34.6674,2,-999.0000,9, 166.2000,2, 166.3000,2,    93.9,2,   33.50,2,    0.00,2,    2.31,2,-999.000,5,-999.000,5,-999.0000,5,  -999.0,9, -999.00,9,-999.0000,9, -999.00,9, -999.00,9, -999.00,  -999.0,9, -999.00,9,     -999.0,9,  -999.0,9, 20170704,       12, -31.3567, 153.5042,        2.1,1,      0.061,1,      4.713,1,      0.140,1,     -999.0,     -999.0,9,     -999.0,9,     -999.0,9,     -999.0,9,     -999.0,5,     -999.0,9
320620170703,        P06,     901,          2,         18,         18,2,20170704,       0015,   -31.3567,   153.5042,       3829,  2026.9,   2.3128,  34.6674,2,-999.0000,9, 166.2000,3,-999.0000,9,    93.8,2,   33.53,2,    0.00,2,    2.32,2,-999.000,5,-999.000,5,-999.0000,5,  -999.0,9, -999.00,9,-999.0000,9, -999.00,9, -999.00,9, -999.00,  -999.0,9, -999.00,9,     -999.0,9,  -999.0,9, 20170704,       14, -31.3567, 153.5042,        2.1,1,      0.061,1,      4.713,1,      0.140,1,     -999.0,     -999.0,9,     -999.0,9,     -999.0,9,     -999.0,9,     -999.0,5,     -999.0,9
320620170703,        P06,     901,          2,         11,         11,2,20170704,       0015,   -31.3567,   153.5042,       3829,  2026.9,   2.3128,  34.6674,2,-999.0000,9, 166.2000,3,-999.0000,9,    93.8,2,   33.50,2,    0.00,2,    2.31,2,-999.000,5,-999.000,5,-999.0000,5,  -999.0,9, 2366.29,2,   7.5802,2, -999.00,9, -999.00,9, -999.00,  -999.0,9, -999.00,9,     -999.0,9,  -999.0,9, 20170704,       13, -31.3567, 153.5042,        2.1,1,      0.061,1,      4.713,1,      0.140,1,      25.06,     -999.0,9,     -999.0,9,     -999.0,9,     -999.0,9,     -999.0,5,     -999.0,9
320620170703,        P06,     901,          2,          1,          1,2,20170704,       0015,   -31.3567,   153.5042,       3829,  2026.7,   2.3128,  34.6674,2,-999.0000,9, 166.2000,2, 165.6000,2,    93.8,2,   33.52,2,    0.00,2,    2.31,2,-999.000,5,-999.000,5,-999.0000,5,  -999.0,9, -999.00,9,-999.0000,9, -999.00,9, -999.00,9, -999.00,  -999.0,9, -999.00,9,     -999.0,9,  -999.0,9, 20170704,       10, -31.3567, 153.5042,        2.1,1,      0.061,1,      4.713,1,      0.140,1,     -999.0,     -999.0,9,     -999.0,9,     -999.0,9,     -999.0,9,     -999.0,5,     -999.0,9
320620170703,        P06,     901,          2,         10,         10,2,20170704,       0015,   -31.3567,   153.5042,       3829,  2026.6,   2.3128,  34.6674,2,-999.0000,9, 166.2000,2, 165.5000,2,    93.8,2,   33.34,2,    0.00,2,    2.30,2,-999.000,5,-999.000,5,-999.0000,5,  -999.0,9, -999.00,9,-999.0000,9, -999.00,9, -999.00,9, -999.00,  -999.0,9, -999.00,9,     -999.0,9,  -999.0,9, 20170704,       13, -31.3567, 153.5042,        2.1,1,      0.061,1,      4.713,1,      0.140,1,     -999.0,     -999.0,9,     -999.0,9,     -999.0,9,     -999.0,9,     -999.0,5,     -999.0,9
320620170703,        P06,     901,          2,         31,         31,2,20170704,       0015,   -31.3567,   153.5042,       3829,  2026.6,   2.3128,  34.6674,2,-999.0000,9, 166.2000,2, 166.4000,2,    93.8,2,   33.56,2,    0.00,2,    2.33,2,-999.000,5,-999.000,5,-999.0000,5,  -999.0,9, -999.00,9,-999.0000,9, -999.00,9, -999.00,9, -999.00,  -999.0,9, -999.00,9,     -999.0,9,  -999.0,9, 20170704,       15, -31.3567, 153.5042,        2.1,1,      0.061,1,      4.713,1,      0.140,1,     -999.0,     -999.0,9,     -999.0,9,     -999.0,9,     -999.0,9,     -999.0,5,     -999.0,9
320620170703,        P06,     901,          2,         23,         23,2,20170704,       0015,   -31.3567,   153.5042,       3829,  2026.5,   2.3128,  34.6674,2,-999.0000,9, 166.2000,3,-999.0000,9,    93.7,2,   33.59,2,    0.00,2,    2.32,2,-999.000,5,-999.000,5,-999.0000,5,  -999.0,9, -999.00,9,-999.0000,9, -999.00,9, -999.00,9, -999.00,  -999.0,9, -999.00,9,     -999.0,9,  -999.0,9, 20170704,       14, -31.3567, 153.5042,        2.1,1,      0.061,1,      4.713,1,      0.140,1,     -999.0,     -999.0,9,     -999.0,9,     -999.0,9,     -999.0,9,     -999.0,5,     -999.0,9
320620170703,        P06,     901,          2,         36,         36,2,20170704,       0015,   -31.3567,   153.5042,       3829,  2026.5,   2.3128,  34.6674,2,-999.0000,9, 166.2000,3,-999.0000,9,    93.8,2,   33.55,2,    0.00,2,    2.33,2,-999.000,9,-999.000,9,-999.0000,9,  -999.0,9, -999.00,9,-999.0000,9, -999.00,9, -999.00,9, -999.00,  -999.0,9, -999.00,9,     -999.0,9,  -999.0,9, 20170704,       15, -31.3567, 153.5042,        2.1,1,      0.061,1,      4.713,1,      0.140,1,     -999.0,     -999.0,9,     -999.0,9,     -999.0,9,     -999.0,9,     -999.0,5,     -999.0,9
320620170703,        P06,     901,          2,         13,         13,2,20170704,       0015,   -31.3567,   153.5042,       3829,  2026.5,   2.3128,  34.6674,2,-999.0000,9, 166.2000,2, 166.7000,2,    93.9,2,   33.53,2,    0.00,2,    2.32,2,-999.000,5,-999.000,5,-999.0000,5,  -999.0,9, -999.00,9,-999.0000,9, -999.00,9, -999.00,9, -999.00,  -999.0,9, -999.00,9,     -999.0,9,  -999.0,9, 20170704,       13, -31.3567, 153.5042,        2.1,1,      0.061,1,      4.713,1,      0.140,1,     -999.0,     -999.0,9,     -999.0,9,     -999.0,9,     -999.0,9,     -999.0,5,     -999.0,9
320620170703,        P06,     901,          2,         19,         19,2,20170704,       0015,   -31.3567,   153.5042,       3829,  2026.4,   2.3128,  34.6674,2,-999.0000,9, 166.2000,2, 166.4000,2,    94.1,2,   33.54,2,    0.00,2,    2.32,2,-999.000,5,-999.000,5,-999.0000,5,  -999.0,9, -999.00,9,-999.0000,9, -999.00,9, -999.00,9, -999.00,  -999.0,9, -999.00,9,     -999.0,9,  -999.0,9, 20170704,       14, -31.3567, 153.5042,        2.1,1,      0.061,1,      4.713,1,      0.140,1,     -999.0,     -999.0,9,     -999.0,9,     -999.0,9,     -999.0,9,     -999.0,5,     -999.0,9