BOTTLE,20230922CCHSIOCBG
EXPOCODE,SECT_ID,STNNBR,CASTNO,SAMPNO,BTLNBR,BTLNBR_FLAG_W,DATE,TIME,LATITUDE,LONGITUDE,DEPTH,CTDPRS,CTDTMP,CTDSAL,CTDSAL_FLAG_W,SALNTY,SALNTY_FLAG_W,CTDOXY,CTDOXY_FLAG_W,OXYGEN,OXYGEN_FLAG_W,SILCAT,SILCAT_FLAG_W,NITRAT,NITRAT_FLAG_W,NITRIT,NITRIT_FLAG_W,PHSPHT,PHSPHT_FLAG_W,CFC-11,CFC-11_FLAG_W,CFC-12,CFC-12_FLAG_W,SF6,SF6_FLAG_W,TCARBN,TCARBN_FLAG_W,ALKALI,ALKALI_FLAG_W,PH_TOT,PH_TOT_FLAG_W,DELC13,DELC13_FLAG_W,DELC14,DELC14_FLAG_W,C14ERR,DOC,DOC_FLAG_W,TDN,TDN_FLAG_W,TON,TON_FLAG_W,D15N_NO3,D15N_NO3_FLAG_W,BTL_DATE,BTL_TIME,BTL_LAT,BTL_LON,CTDRINKO,CTDRINKO_FLAG_W,CTDFLUOR,CTDFLUOR_FLAG_W,CTDXMISS,CTDXMISS_FLAG_W,CTDBACKSCATTER,CTDBACKSCATTER_FLAG_W,PH_TMP,D18O_NO3,D18O_NO3_FLAG_W,DOP,DOP_FLAG_W,HPLC,HPLC_FLAG_W,POC,POC_FLAG_W,REFTMP,REFTMP_FLAG_W,TDP,TDP_FLAG_W
,,,,,,,,,,,METERS,DBAR,ITS-90,PSS-78,,PSS-78,,UMOL/KG,,UMOL/KG,,UMOL/KG,,UMOL/KG,,UMOL/KG,,UMOL/KG,,PMOL/KG,,PMOL/KG,,FMOL/KG,,UMOL/KG,,UMOL/KG,,,,/MILLE,,/MILLE,,/MILLE,UMOL/KG,,UMOL/KG,,UMOL/KG,,/MILLE,,,,,,VOLTS,,VOLTS,,VOLTS,,VOLTS,,DEGC,/MILLE,,UMOL/KG,,,,UG/L,,ITS-90,,UMOL/KG,
320620170703,        P06,      56,          1,          1,         37,2,20170715,       1930,   -30.0800,   170.0000,       2940,  2971.2,   1.9264,  34.6710,2,  34.6661,2, 155.0079,2, 155.1346,2,   122.8,2,   35.17,2,    0.00,2,    2.48,2,   0.033,2,   0.024,2,   0.0000,2,  2308.0,6, -999.00,9,   7.5787,2, -999.00,9, -999.00,9, -999.00,  -999.0,9, -999.00,9,     -999.0,9,  -999.0,1, 20170715,     1751, -30.0790, 170.0004,        0.0,1,      0.061,1,      0.104,1,      0.147,1,      25.01,     -999.0,1,     -999.0,9,     -999.0,9,     -999.0,9,     1.9302,2,     -999.0,9
320620170703,        P06,      56,          1,          2,          2,2,20170715,       1930,   -30.0800,   170.0000,       2940,  2904.4,   1.9509,  34.6686,2,  34.6633,3, 154.8877,2, 155.0256,2,   122.4,2,   35.12,2,    0.00,2,    2.47,2,-999.000,9,-999.000,9,-999.0000,9,  2306.8,2, -999.00,9,   7.5781,2, -999.00,9, -999.00,9, -999.00,  -999.0,9, -999.00,9,     -999.0,9,  -999.0,1, 20170715,     1754, -30.0790, 170.0004,        0.0,1,      0.061,1,      1.988,1,      0.145,1,      24.98,     -999.0,1,     -999.0,9,     -999.0,9,     -999.0,9,     1.9496,2,     -999.0,9
320620170703,        P06,      56,          1,          3,         38,2,20170715,       1930,   -30.0800,   170.0000,       2940,  2838.5,   1.9767,  34.6662,2,  34.6618,2, 154.8066,2, 154.4423,2,   121.6,2,   35.07,2,    0.00,2,    2.45,2,   0.030,2,   0.023,2,   0.0000,2,  2305.3,2, -999.00,9,   7.5785,2, -999.00,9, -999.00,9, -999.00,  -999.0,9, -999.00,9,     -999.0,9,  -999.0,1, 20170715,     1756, -30.0790, 170.0004,        0.0,1,      0.061,1,      2.199,1,      0.147,1,      25.00,     -999.0,1,     -999.0,9,     -999.0,9,     -999.0,9,     1.9771,2,     -999.0,9
320620170703,        P06,      56,          1,          4,          4,2,20170715,       1930,   -30.0800,   170.0000,       2940,  2634.8,   2.0378,  34.6600,2,  34.6588,2, 154.7971,2, 154.8176,2,   119.1,2,   35.03,2,    0.00,2,    2.47,2,-999.000,9,-999.000,9,-999.0000,9,  2304.8,2, -999.00,9,   7.5786,2, -999.00,9, -999.00,9, -999.00,  -999.0,9, -999.00,9,     -999.0,9,  -999.0,1, 20170715,     1801, -30.0791, 170.0005,        0.0,1,      0.061,1,      0.113,1,      0.146,1,      25.00,     -999.0,1,     -999.0,9,     -999.0,9,     -999.0,9,     2.0400,2,     -999.0,9
320620170703,        P06,      56,          1,          5,         39,2,20170715,       1930,   -30.0800,   170.0000,       2940,  2430.4,   2.0770,  34.6559,2,  34.6490,2, 154.7481,2, 154.7782,2,   117.7,2,   35.01,2,    0.00,2,    2.46,2,   0.039,2,   0.028,2,   0.0000,2,  2302.4,2, -999.00,9,   7.5790,2, -999.00,9, -999.00,9, -999.00,  -999.0,9, -999.00,9,     -999.0,9,  -999.0,1, 20170715,     1806, -30.0791, 170.0004,        0.0,1,      0.061,1,      3.299,1,      0.146,1,      25.00,     -999.0,1,     -999.0,9,     -999.0,9,     -999.0,9,     2.0915,2,     -999.0,9
320620170703,        P06,      56,          1,          6,          6,2,20170715,       1930,   -30.0800,   170.0000,       2940,  2227.4,   2.2178,  34.6437,2,  34.6429,2, 155.1568,2, 155.2489,2,   114.1,2,   34.91,2,    0.00,2,    2.45,2,-999.000,9,-999.000,9,-999.0000,9,  2298.7,2, -999.00,9,   7.5787,2, -999.00,9, -999.00,9, -999.00,  -999.0,9, -999.00,9,     -999.0,9,  -999.0,1, 20170715,     1810, -30.0792, 170.0004,        0.0,1,      0.061,1,      0.117,1,      0.145,1,      24.99,     -999.0,1,     -999.0,9,     -999.0,9,     -999.0,9,     2.2150,2,     -999.0,9
320620170703,        P06,      56,          1,          7,         40,2,20170715,       1930,   -30.0800,   170.0000,       2940,  2024.3,   2.3996,  34.6286,2,  34.6233,2, 155.9648,2, 156.2075,2,   109.3,2,   34.74,2,    0.00,2,    2.42,2,   0.072,6,   0.048,6,   0.0000,6,  2292.0,2, -999.00,9,   7.5810,2, -999.00,9, -999.00,9, -999.00,  -999.0,9, -999.00,9,     -999.0,9,  -999.0,1, 20170715,     1815, -30.0793, 170.0002,        0.0,1,      0.061,1,      3.216,1,      0.145,1,      25.04,     -999.0,1,     -999.0,9,     -999.0,9,     -999.0,9,     2.3835,2,     -999.0,9
320620170703,        P06,      56,          1,          8,          8,2,20170715,       1930,   -30.0800,   170.0000,       2940,  1820.7,   2.7319,  34.6014,2,  34.5765,2, 158.2064,2, 158.0224,2,    99.9,2,   34.32,2,    0.00,2,    2.39,2,-999.000,9,-999.000,9,-999.0000,9,  2281.7,2, -999.00,9,   7.5822,2, -999.00,9, -999.00,9, -999.00,  -999.0,9, -999.00,9,     -999.0,9,  -999.0,1, 20170715,     1820, -30.0794, 170.0001,        0.0,1,      0.061,1,      0.447,1,      0.146,1,      25.00,     -999.0,1,     -999.0,9,     -999.0,9,     -999.0,9,     2.6951,2,     -999.0,9
320620170703,        P06,      56,          1,          9,         41,2,20170715,       1930,   -30.0800,   170.0000,       2940,  1717.8,   2.9591,  34.5821,2,  34.5761,2, 160.3257,2, 160.1223,2,    92.5,2,   33.95,2,    0.00,2,    2.37,2,   0.149,2,   0.095,2,   0.0000,2,  2274.6,2, -999.00,9,   7.5851,2, -999.00,9, -999.00,9, -999.00,  -999.0,9, -999.00,9,     -999.0,9,  -999.0,1, 20170715,     1823, -30.0794, 170.0002,        0.0,1,      0.061,1,      0.689,1,      0.143,1,      25.00,     -999.0,1,     -999.0,9,     -999.0,9,     -999.0,9,     2.9566,2,     -999.0,9
320620170703,        P06,      56,          1,         10,         10,2,20170715,       1930,   -30.0800,   170.0000,       2940,  1617.8,   3.1365,  34.5683,2,  34.5521,2, 162.2763,2, 162.4418,2,    87.3,2,   33.66,2,    0.00,2,    2.35,2,-999.000,9,-999.000,9,-999.0000,9,  2268.2,2, -999.00,9,   7.5874,2, -999.00,9, -999.00,9, -999.00,  -999.0,9, -999.00,9,     -999.0,9,  -999.0,1, 20170715,     1826, -30.0794, 170.0003,        0.0,1,      0.061,1,      3.107,1,      0.144,1,      25.01,     -999.0,1,     -999.0,9,     -999.0,9,     -999.0,9,     3.1465,2,     -999.0,9
320620170703,        P06,      56,          1,         11,         42,2,20170715,       1930,   -30.0800,   170.0000,       2940,  1516.9,   3.5124,  34.5389,2,  34.5417,2, 165.7794,2, 165.6162,2,    77.9,2,   33.13,2,    0.00,2,    2.31,2,   0.265,2,   0.157,2,   0.0000,2,  2256.7,6, -999.00,9,   7.5930,2, -999.00,9, -999.00,9, -999.00,  -999.0,9, -999.00,9,     -999.0,9,  -999.0,1, 20170715,     1829, -30.0795, 170.0004,        0.0,1,      0.061,1,      0.084,1,      0.142,1,      25.00,     -999.0,1,     -999.0,9,     -999.0,9,     -999.0,9,     3.4804,2,     -999.0,9
320620170703,        P06,      56,          1,         12,         12,2,20170715,       1930,   -30.0800,   170.0000,       2940,  1414.4,   3.8113,  34.5160,2,  34.5195,2, 170.1905,2, 170.0950,2,    69.2,2,   32.55,2,    0.00,2,    2.26,2,-999.000,9,-999.000,9,-999.0000,9,  2245.4,2, -999.00,9,   7.5984,2, -999.00,9, -999.00,9, -999.00,  -999.0,9, -999.00,9,     -999.0,9,  -999.0,1, 20170715,     1832, -30.0796, 170.0004,        0.0,1,      0.061,1,      0.175,1,      0.140,1,      25.00,     -999.0,1,     -999.0,9,     -999.0,9,     -999.0,9,     3.8087,2,     -999.0,9
320620170703,        P06,      56,          1,         13,         43,2,20170715,       1930,   -30.0800,   170.0000,       2940,  1313.7,   4.1307,  34.4938,2,  34.4913,2, 174.5538,2, 174.6322,2,    61.2,2,   31.88,2,    0.00,2,    2.20,2,   0.437,2,   0.244,2,   0.0580,2,  2233.3,2, -999.00,9,   7.6056,2, -999.00,9, -999.00,9, -999.00,  -999.0,9, -999.00,9,     -999.0,9,  -999.0,1, 20170715,     1835, -30.0796, 170.0004,        0.0,1,      0.061,1,      0.398,1,      0.143,1,      24.99,     -999.0,1,     -999.0,9,     -999.0,9,     -999.0,9,     4.1212,2,     -999.0,9
320620170703,        P06,      56,          1,         14,         14,2,20170715,       1930,   -30.0800,   170.0000,       2940,  1214.0,   4.6510,  34.4612,2,  34.4606,2, 181.3125,2, 181.4435,2,    49.6,2,   30.83,2,    0.00,2,    2.13,2,-999.000,9,-999.000,9,-999.0000,9,  2218.0,2, -999.00,9,   7.6178,2, -999.00,9, -999.00,9, -999.00,  -999.0,9, -999.00,9,     -999.0,9,  -999.0,1, 20170715,     1838, -30.0796, 170.0003,        0.0,1,      0.061,1,      1.543,1,      0.140,1,      24.99,     -999.0,1,     -999.0,9,     -999.0,9,     -999.0,9,     4.5980,2,     -999.0,9
320620170703,        P06,      56,          1,         15,         15,2,20170715,       1930,   -30.0800,   170.0000,       2940,  1108.4,   5.3763,  34.4316,2,  34.4324,2, 192.9066,2, 193.0530,2,    34.8,2,   28.95,2,    0.00,2,    1.98,2,   0.951,2,   0.507,2,   0.1130,2,  2197.4,2, -999.00,9,   7.6399,2, -999.00,9, -999.00,9, -999.00,  -999.0,9, -999.00,9,     -999.0,9,  -999.0,1, 20170715,     1841, -30.0797, 170.0003,        0.0,1,      0.060,1,      0.096,1,      0.139,1,      24.99,     -999.0,1,     -999.0,9,     -999.0,9,     -999.0,9,     5.3505,2,     -999.0,9
320620170703,        P06,      56,          1,         16,         16,2,20170715,       1930,   -30.0800,   170.0000,       2940,  1009.8,   5.8491,  34.4232,2,  34.4277,2, 202.3924,2, 201.9464,2,    24.7,2,   27.02,2,    0.00,2,    1.84,2,-999.000,9,-999.000,9,-999.0000,9,  2180.8,2, -999.00,9,   7.6607,2, -999.00,9, -999.00,9, -999.00,  -999.0,9, -999.00,9,     -999.0,9,  -999.0,1, 20170715,     1845, -30.0797, 170.0002,        0.0,1,      0.060,1,      0.064,1,      0.143,1,      24.98,     -999.0,1,     -999.0,9,     -999.0,9,     -999.0,9,     6.0219,2,     -999.0,9
320620170703,        P06,      56,          1,         17,         17,2,20170715,       1930,   -30.0800,   170.0000,       2940,   909.7,   6.5713,  34.4556,2,  34.4610,2, 207.8519,2, 207.8058,2,    17.4,2,   24.82,2,    0.00,2,    1.70,2,   1.834,2,   0.955,2,   0.3380,2,  2167.0,2, -999.00,9,   7.6823,2, -999.00,9, -999.00,9, -999.00,  -999.0,9, -999.00,9,     -999.0,9,  -999.0,1, 20170715,     1847, -30.0797, 170.0002,        0.0,1,      0.058,1,      1.887,1,      0.141,1,      24.99,     -999.0,1,     -999.0,9,     -999.0,9,     -999.0,9,     6.8955,2,     -999.0,9
320620170703,        P06,      56,          1,         18,         18,2,20170715,       1930,   -30.0800,   170.0000,       2940,   806.9,   7.1809,  34.4854,2,  34.4822,2, 208.0646,2, 208.5132,2,    15.2,2,   23.97,2,    0.00,2,    1.62,2,-999.000,9,-999.000,9,-999.0000,9,  2164.9,2, -999.00,9,   7.6889,2, -999.00,9, -999.00,9, -999.00,  -999.0,9, -999.00,9,     -999.0,9,  -999.0,1, 20170715,     1850, -30.0797, 170.0002,        0.0,1,      0.060,1,      0.123,1,      0.142,1,      25.02,     -999.0,1,     -999.0,9,     -999.0,9,     -999.0,9,     7.1751,2,     -999.0,9
320620170703,        P06,      56,          1,         19,         19,2,20170715,       1930,   -30.0800,   170.0000,       2940,   707.7,   8.2906,  34.5690,2,  34.5696,2, 209.6990,2, 209.6075,2,    10.0,2,   21.15,2,    0.00,2,    1.44,2,   2.337,2,   1.268,2,   0.4870,2,  2152.1,6, -999.00,9,   7.7146,2, -999.00,9, -999.00,9, -999.00,  -999.0,9, -999.00,9,     -999.0,9,  -999.0,1, 20170715,     1853, -30.0797, 170.0003,        0.0,1,      0.059,1,      0.022,1,      0.143,1,      25.00,     -999.0,1,     -999.0,9,     -999.0,9,     -999.0,9,     8.3676,2,     -999.0,9
320620170703,        P06,      56,          1,         20,         20,2,20170715,       1930,   -30.0800,   170.0000,       2940,   605.9,  10.0302,  34.7661,2,  34.7854,2, 202.4902,2, 202.5028,2,     7.1,2,   17.40,2,    0.00,2,    1.18,2,-999.000,9,-999.000,9,-999.0000,9,  2144.1,2, -999.00,9,   7.7521,2, -999.00,9, -999.00,9, -999.00,  -999.0,9, -999.00,9,     -999.0,9,  -999.0,1, 20170715,     1856, -30.0797, 170.0004,        0.0,1,      0.060,1,      0.069,1,      0.146,1,      25.01,     -999.0,1,     -999.0,9,     -999.0,9,     -999.0,9,    10.2418,2,     -999.0,9
320620170703,        P06,      56,          1,         21,         21,2,20170715,       1930,   -30.0800,   170.0000,       2940,   505.8,  12.0764,  35.0114,2,  35.0069,2, 198.4416,2, 198.3416,2,     5.1,2,   13.88,2,    0.00,2,    0.96,2,   2.341,2,   1.352,2,   0.8050,2,  2132.1,2, -999.00,9,   7.7940,2, -999.00,9, -999.00,9, -999.00,  -999.0,9, -999.00,9,     -999.0,9,  -999.0,1, 20170715,     1859, -30.0797, 170.0003,        0.0,1,      0.060,1,      3.620,1,      0.148,1,      24.99,     -999.0,1,     -999.0,9,     -999.0,9,     -999.0,9,    12.1065,2,     -999.0,9
320620170703,        P06,      56,          1,         22,         22,2,20170715,       1930,   -30.0800,   170.0000,       2940,   454.6,  12.7865,  35.0925,2,  35.0770,2, 198.0807,2, 197.9696,2,     4.4,2,   12.71,2,    0.00,2,    0.87,2,-999.000,9,-999.000,9,-999.0000,9,  2127.9,2, -999.00,9,   7.8087,2, -999.00,9, -999.00,9, -999.00,  -999.0,9, -999.00,9,     -999.0,9,  -999.0,1, 20170715,     1902, -30.0798, 170.0003,        0.0,1,      0.059,1,      4.071,1,      0.145,1,      25.00,     -999.0,1,     -999.0,9,     -999.0,9,     -999.0,9,    12.6859,2,     -999.0,9
320620170703,        P06,      56,          1,         23,         23,2,20170715,       1930,   -30.0800,   170.0000,       2940,   401.7,  14.0131,  35.2265,2,  35.2032,2, 198.1889,2, 198.9164,2,     3.3,2,   10.54,2,    0.00,2,    0.72,2,   2.267,2,   1.342,2,   0.8780,2,  2117.6,2, -999.00,9,   7.8387,2, -999.00,9, -999.00,9, -999.00,  -999.0,9, -999.00,9,     -999.0,9,  -999.0,1, 20170715,     1904, -30.0799, 170.0002,        0.0,1,      0.060,1,      4.114,1,      0.148,1,      25.00,     -999.0,1,     -999.0,9,     -999.0,9,     -999.0,9,    13.8099,2,     -999.0,9
320620170703,        P06,      56,          1,         24,         24,2,20170715,       1930,   -30.0800,   170.0000,       2940,   352.7,  15.1439,  35.3518,2,  35.3366,2, 198.4525,2, 198.3572,2,     2.5,2,    8.51,2,    0.00,2,    0.61,2,-999.000,9,-999.000,9,-999.0000,9,  2110.1,2, -999.00,9,   7.8686,2, -999.00,9, -999.00,9, -999.00,  -999.0,9, -999.00,9,     -999.0,9,  -999.0,1, 20170715,     1906, -30.0799, 170.0001,        0.0,1,      0.059,1,      0.329,1,      0.143,1,      25.02,     -999.0,1,     -999.0,1,     -999.0,9,     -999.0,9,    15.0384,2,       0.77,2
320620170703,        P06,      56,          1,         25,         25,2,20170715,       1930,   -30.0800,   170.0000,       2940,   302.4,  16.1983,  35.4587,2,  35.4253,2, 197.9722,2, 197.3035,2,     2.1,2,    7.26,2,    0.00,2,    0.52,2,   2.121,2,   1.297,2,   0.9310,2,  2102.8,2, -999.00,9,   7.8897,2, -999.00,9, -999.00,9, -999.00,  -999.0,9, -999.00,9,     -999.0,9,  -999.0,1, 20170715,     1909, -30.0799, 170.0001,        0.0,1,      0.059,1,      0.222,1,      0.144,1,      24.99,     -999.0,1,     -999.0,1,     -999.0,9,     -999.0,9,    15.9043,2,     -999.0,9
320620170703,        P06,      56,          1,         26,         26,2,20170715,       1930,   -30.0800,   170.0000,       2940,   251.8,  17.1178,  35.5447,2,  35.5182,2, 198.1442,2, 198.1387,2,     1.5,2,    5.86,2,    0.00,2,    0.43,2,-999.000,9,-999.000,9,-999.0000,9,  2096.2,2, -999.00,9,   7.9127,2, -999.00,9, -999.00,9, -999.00,  -999.0,9, -999.00,9,     -999.0,9,  -999.0,1, 20170715,     1911, -30.0800, 170.0000,        0.0,1,      0.060,1,      4.138,1,      0.147,1,      25.00,     -999.0,1,     -999.0,1,     -999.0,9,     -999.0,9,    16.8589,2,       0.54,2
320620170703,        P06,      56,          1,         27,         27,2,20170715,       1930,   -30.0800,   170.0000,       2940,   226.8,  17.8369,  35.6059,2,  35.6009,2, 197.3843,2, 197.5795,2,     1.3,2,    4.81,2,    0.02,2,    0.37,2,   1.940,2,   1.217,2,   0.9260,2,  2088.4,2, -999.00,9,   7.9352,2, -999.00,9, -999.00,9, -999.00,  -999.0,9, -999.00,9,     -999.0,9,  -999.0,1, 20170715,     1913, -30.0800, 170.0001,        0.0,1,      0.061,1,      4.644,1,      0.159,1,      25.00,     -999.0,1,     -999.0,1,     -999.0,9,     -999.0,9,    17.8647,2,     -999.0,9
320620170703,        P06,      56,          1,         28,         28,2,20170715,       1930,   -30.0800,   170.0000,       2940,   202.2,  18.8714,  35.7346,2,  35.7053,2, 205.1404,2, 204.7137,2,     0.8,2,    3.12,2,    0.06,2,    0.26,2,-999.000,9,-999.000,9,-999.0000,9,  2078.2,2, -999.00,9,   7.9643,2, -999.00,9, -999.00,9, -999.00,  -999.0,9, -999.00,9,     -999.0,9,  -999.0,1, 20170715,     1915, -30.0800, 170.0001,        0.0,1,      0.087,1,      3.925,1,      0.169,1,      25.00,     -999.0,1,     -999.0,1,     -999.0,9,     -999.0,9,    18.7090,2,        0.3,2
320620170703,        P06,      56,          1,         29,         29,2,20170715,       1930,   -30.0800,   170.0000,       2940,   176.7,  19.4103,  35.8230,2,  35.8621,2, 220.0652,2, 220.0533,2,     0.4,2,    0.63,2,    0.10,2,    0.10,2,   1.804,2,   1.142,2,   1.0300,2,  2062.0,2, -999.00,9,   8.0056,2, -999.00,9, -999.00,9, -999.00,  -999.0,9, -999.00,9,     -999.0,9,  -999.0,1, 20170715,     1917, -30.0799, 170.0001,        0.0,1,      0.115,1,      2.329,1,      0.186,1,      24.99,     -999.0,1,     -999.0,1,     -999.0,9,     -999.0,9,    19.6010,2,     -999.0,9
320620170703,        P06,      56,          1,         30,         30,2,20170715,       1930,   -30.0800,   170.0000,       2940,   152.4,  19.5766,  35.8566,2,  35.8916,2, 221.0209,2, 220.0924,2,     0.4,2,    0.61,2,    0.10,2,    0.12,2,-999.000,9,-999.000,9,-999.0000,9,  2061.9,2, -999.00,9,   8.0060,2, -999.00,9, -999.00,9, -999.00,  -999.0,9, -999.00,9,     -999.0,9,  -999.0,1, 20170715,     1918, -30.0799, 170.0001,        0.0,1,      0.143,1,      2.645,1,      0.197,1,      25.04,     -999.0,1,     -999.0,1,     -999.0,9,     -999.0,9,    19.6133,2,        0.3,2
320620170703,        P06,      56,          1,         31,         31,2,20170715,       1930,   -30.0800,   170.0000,       2940,   124.1,  19.6041,  35.8632,2,  35.8661,2, 221.4756,2, 220.5077,2,     0.3,2,    0.58,2,    0.10,2,    0.10,2,   1.771,2,   1.140,2,   1.0810,2,  2062.9,2, -999.00,9,   8.0071,2, -999.00,9, -999.00,9, -999.00,  -999.0,9, -999.00,9,     -999.0,9,  -999.0,1, 20170715,     1920, -30.0800, 170.0000,        0.0,1,      0.149,1,      0.864,1,      0.193,1,      24.99,     -999.0,1,     -999.0,1,     -999.0,9,     -999.0,9,    19.6176,2,     -999.0,9
320620170703,        P06,      56,          1,         32,         32,2,20170715,       1930,   -30.0800,   170.0000,       2940,   102.3,  19.6019,  35.8636,2,  35.8672,2, 219.9587,2, 220.3370,2,     0.4,2,    0.59,2,    0.10,2,    0.10,2,-999.000,9,-999.000,9,-999.0000,9,  2064.0,2, -999.00,9,   8.0070,2, -999.00,9, -999.00,9, -999.00,  -999.0,9, -999.00,9,     -999.0,9,  -999.0,1, 20170715,     1922, -30.0800, 170.0001,        0.0,1,      0.151,1,      1.617,1,      0.199,1,      25.01,     -999.0,1,     -999.0,1,     -999.0,9,     -999.0,9,    19.6119,2,        0.3,2