BOTTLE,20230922CCHSIOCBG
EXPOCODE,SECT_ID,STNNBR,CASTNO,SAMPNO,BTLNBR,BTLNBR_FLAG_W,DATE,TIME,LATITUDE,LONGITUDE,DEPTH,CTDPRS,CTDTMP,CTDSAL,CTDSAL_FLAG_W,SALNTY,SALNTY_FLAG_W,CTDOXY,CTDOXY_FLAG_W,OXYGEN,OXYGEN_FLAG_W,SILCAT,SILCAT_FLAG_W,NITRAT,NITRAT_FLAG_W,NITRIT,NITRIT_FLAG_W,PHSPHT,PHSPHT_FLAG_W,CFC-11,CFC-11_FLAG_W,CFC-12,CFC-12_FLAG_W,SF6,SF6_FLAG_W,TCARBN,TCARBN_FLAG_W,ALKALI,ALKALI_FLAG_W,PH_TOT,PH_TOT_FLAG_W,DELC13,DELC13_FLAG_W,DELC14,DELC14_FLAG_W,C14ERR,DOC,DOC_FLAG_W,TDN,TDN_FLAG_W,TON,TON_FLAG_W,D15N_NO3,D15N_NO3_FLAG_W,BTL_DATE,BTL_TIME,BTL_LAT,BTL_LON,CTDRINKO,CTDRINKO_FLAG_W,CTDFLUOR,CTDFLUOR_FLAG_W,CTDXMISS,CTDXMISS_FLAG_W,CTDBACKSCATTER,CTDBACKSCATTER_FLAG_W,PH_TMP,D18O_NO3,D18O_NO3_FLAG_W,DOP,DOP_FLAG_W,HPLC,HPLC_FLAG_W,POC,POC_FLAG_W,REFTMP,REFTMP_FLAG_W,TDP,TDP_FLAG_W
,,,,,,,,,,,METERS,DBAR,ITS-90,PSS-78,,PSS-78,,UMOL/KG,,UMOL/KG,,UMOL/KG,,UMOL/KG,,UMOL/KG,,UMOL/KG,,PMOL/KG,,PMOL/KG,,FMOL/KG,,UMOL/KG,,UMOL/KG,,,,/MILLE,,/MILLE,,/MILLE,UMOL/KG,,UMOL/KG,,UMOL/KG,,/MILLE,,,,,,VOLTS,,VOLTS,,VOLTS,,VOLTS,,DEGC,/MILLE,,UMOL/KG,,,,UG/L,,ITS-90,,UMOL/KG,
320620170703,        P06,       7,          1,         33,         33,2,20170705,       1132,   -30.0797,   153.9199,       2582,    40.0,  20.7118,  35.7970,2,  35.7857,2, 218.2674,2, 218.5646,2,     0.0,2,    0.26,2,    0.12,2,    0.08,2,   1.976,2,   1.180,2,   1.1370,2,  2041.7,2, 2340.00,2,   8.0321,2, -999.00,9, -999.00,9, -999.00,  -999.0,9, -999.00,9,     -999.0,9,  -999.0,9, 20170705,     1129, -30.0797, 153.9199,        0.0,1,      0.247,1,      4.605,1,      0.231,1,      25.00,     -999.0,9,     -999.0,9,     -999.0,9,     -999.0,9,     -999.0,5,     -999.0,9
320620170703,        P06,       7,          1,         34,         34,2,20170705,       1132,   -30.0797,   153.9199,       2582,    40.0,  20.7452,  35.7955,2,  35.7837,2, 218.3301,2, 218.7778,2,     0.0,2,    0.24,2,    0.12,2,    0.09,2,   1.971,2,   1.182,2,   1.1130,2,  -999.0,9, -999.00,9,-999.0000,9, -999.00,9, -999.00,9, -999.00,  -999.0,9, -999.00,9,     -999.0,9,  -999.0,9, 20170705,     1129, -30.0797, 153.9199,        0.0,1,      0.243,1,      4.595,1,      0.247,1,     -999.0,     -999.0,9,     -999.0,9,     -999.0,9,     -999.0,9,     -999.0,5,     -999.0,9
320620170703,        P06,       7,          1,         35,         35,2,20170705,       1132,   -30.0797,   153.9199,       2582,    18.8,  21.5926,  35.7167,2,  35.7377,2, 217.4004,2, 218.3045,2,     0.0,2,    0.15,2,    0.02,2,    0.07,2,   1.905,2,   1.144,2,   0.9520,2,  2035.0,2, 2339.33,2,   8.0436,2, -999.00,9, -999.00,9, -999.00,  -999.0,9, -999.00,9,     -999.0,9,  -999.0,9, 20170705,     1130, -30.0797, 153.9199,        0.0,1,      0.194,1,      4.545,1,      0.250,1,      24.99,     -999.0,9,     -999.0,9,     -999.0,9,     -999.0,9,     -999.0,5,     -999.0,9
320620170703,        P06,       7,          1,         36,         36,2,20170705,       1132,   -30.0797,   153.9199,       2582,     3.1,  21.6065,  35.7155,2,  35.7353,2, 217.1626,2, 218.6841,2,     0.0,2,    0.10,2,    0.02,2,    0.08,2,   1.899,2,   1.153,2,   0.9300,2,  2034.2,6, 2338.67,2,   8.0463,2, -999.00,9, -999.00,9, -999.00,  -999.0,9, -999.00,9,     -999.0,9,  -999.0,9, 20170705,     1132, -30.0797, 153.9199,        0.0,1,      0.189,1,      4.540,1,      0.246,1,      25.00,     -999.0,9,     -999.0,9,     -999.0,9,     -999.0,9,     -999.0,5,     -999.0,9