BOTTLE,20230922CCHSIOCBG
EXPOCODE,SECT_ID,STNNBR,CASTNO,SAMPNO,BTLNBR,BTLNBR_FLAG_W,DATE,TIME,LATITUDE,LONGITUDE,DEPTH,CTDPRS,CTDTMP,CTDSAL,CTDSAL_FLAG_W,SALNTY,SALNTY_FLAG_W,CTDOXY,CTDOXY_FLAG_W,OXYGEN,OXYGEN_FLAG_W,SILCAT,SILCAT_FLAG_W,NITRAT,NITRAT_FLAG_W,NITRIT,NITRIT_FLAG_W,PHSPHT,PHSPHT_FLAG_W,CFC-11,CFC-11_FLAG_W,CFC-12,CFC-12_FLAG_W,SF6,SF6_FLAG_W,TCARBN,TCARBN_FLAG_W,ALKALI,ALKALI_FLAG_W,PH_TOT,PH_TOT_FLAG_W,DELC13,DELC13_FLAG_W,DELC14,DELC14_FLAG_W,C14ERR,DOC,DOC_FLAG_W,TDN,TDN_FLAG_W,TON,TON_FLAG_W,D15N_NO3,D15N_NO3_FLAG_W,BTL_DATE,BTL_TIME,BTL_LAT,BTL_LON,CTDRINKO,CTDRINKO_FLAG_W,CTDFLUOR,CTDFLUOR_FLAG_W,CTDXMISS,CTDXMISS_FLAG_W,CTDBACKSCATTER,CTDBACKSCATTER_FLAG_W,PH_TMP,D18O_NO3,D18O_NO3_FLAG_W,DOP,DOP_FLAG_W,HPLC,HPLC_FLAG_W,POC,POC_FLAG_W,REFTMP,REFTMP_FLAG_W,TDP,TDP_FLAG_W
,,,,,,,,,,,METERS,DBAR,ITS-90,PSS-78,,PSS-78,,UMOL/KG,,UMOL/KG,,UMOL/KG,,UMOL/KG,,UMOL/KG,,UMOL/KG,,PMOL/KG,,PMOL/KG,,FMOL/KG,,UMOL/KG,,UMOL/KG,,,,/MILLE,,/MILLE,,/MILLE,UMOL/KG,,UMOL/KG,,UMOL/KG,,/MILLE,,,,,,VOLTS,,VOLTS,,VOLTS,,VOLTS,,DEGC,/MILLE,,UMOL/KG,,,,UG/L,,ITS-90,,UMOL/KG,
320620170703,        P06,      90,          1,          1,          1,2,20170726,       1022,   -32.4997,  -178.4699,       4361,  4428.5,   1.0969,  34.7121,2,  34.7111,2, 204.8483,2, 205.1092,2,   118.6,2,   31.94,2,    0.00,2,    2.21,2,   0.191,2,   0.097,2,   0.0000,2,  2261.7,6, 2363.27,2,   7.6071,2, -999.00,9, -999.00,9, -999.00,    41.8,3, -999.00,9,     -999.0,1,  -999.0,9, 20170726,      818, -32.5001,-178.4699,        0.0,1,      0.061,1,      4.698,1,      0.135,1,      25.04,     -999.0,9,     -999.0,9,     -999.0,9,     -999.0,9,     1.0974,2,     -999.0,9
320620170703,        P06,      90,          1,          2,          2,2,20170726,       1022,   -32.4997,  -178.4699,       4361,  4272.1,   1.0864,  34.7124,2,  34.7119,2, 204.8483,2, 205.2367,2,   118.2,2,   31.94,2,    0.00,2,    2.19,2,   0.186,2,   0.101,2,   0.0000,2,  -999.0,9, -999.00,9,-999.0000,9, -999.00,9, -999.00,9, -999.00,  -999.0,9, -999.00,9,     -999.0,9,  -999.0,9, 20170726,      822, -32.4999,-178.4702,        0.0,1,      0.061,1,      4.698,1,      0.138,1,     -999.0,     -999.0,9,     -999.0,9,     -999.0,9,     -999.0,9,     1.0866,2,     -999.0,9
320620170703,        P06,      90,          1,          3,          3,2,20170726,       1022,   -32.4997,  -178.4699,       4361,  4118.0,   1.0782,  34.7129,2,  34.7119,2, 204.8483,2, 204.8142,2,   118.3,2,   31.93,2,    0.00,2,    2.20,2,   0.182,2,   0.101,2,   0.0000,2,  2262.3,2, 2362.70,2,   7.6068,2, -999.00,9, -999.00,9, -999.00,    36.3,2, -999.00,9,     -999.0,1,  -999.0,9, 20170726,      826, -32.4999,-178.4702,        0.0,1,      0.062,1,      4.699,1,      0.147,1,      25.04,     -999.0,9,     -999.0,9,     -999.0,9,     -999.0,9,     1.0754,2,     -999.0,9
320620170703,        P06,      90,          1,          4,          4,2,20170726,       1022,   -32.4997,  -178.4699,       4361,  3964.1,   1.1069,  34.7145,2,  34.7168,2, 204.8483,2, 204.2518,2,   116.9,2,   31.83,2,    0.00,2,    2.20,2,   0.175,2,   0.097,2,   0.0000,2,  -999.0,9, -999.00,9,-999.0000,9, -999.00,9, -999.00,9, -999.00,  -999.0,9, -999.00,9,     -999.0,9,  -999.0,9, 20170726,      829, -32.5001,-178.4699,        0.0,1,      0.061,1,      4.700,1,      0.135,1,     -999.0,     -999.0,9,     -999.0,9,     -999.0,9,     -999.0,9,     1.1000,2,     -999.0,9
320620170703,        P06,      90,          1,          5,          5,2,20170726,       1022,   -32.4997,  -178.4699,       4361,  3759.1,   1.1829,  34.7180,2,  34.7136,2, 203.9222,2, 202.9711,2,   114.5,2,   31.72,2,    0.00,2,    2.19,2,   0.155,2,   0.088,2,   0.0000,2,  2259.1,2, 2361.33,2,   7.6075,2, -999.00,9, -999.00,9, -999.00,    38.6,2, -999.00,9,     -999.0,1,  -999.0,9, 20170726,      834, -32.5002,-178.4699,        0.0,1,      0.061,1,      4.701,1,      0.134,1,      25.03,     -999.0,9,     -999.0,9,     -999.0,9,     -999.0,9,     1.1726,2,     -999.0,9
320620170703,        P06,      90,          1,          6,          6,2,20170726,       1022,   -32.4997,  -178.4699,       4361,  3555.3,   1.3425,  34.7225,2,  34.7211,2, 200.9109,2, 200.8917,2,   110.5,2,   31.59,2,    0.00,2,    2.18,2,   0.124,2,   0.071,2,   0.0000,2,  -999.0,9, -999.00,9,-999.0000,9, -999.00,9, -999.00,9, -999.00,  -999.0,9, -999.00,9,     -999.0,9,  -999.0,9, 20170726,      839, -32.5001,-178.4700,        0.0,1,      0.061,1,      4.702,1,      0.133,1,     -999.0,     -999.0,9,     -999.0,9,     -999.0,9,     -999.0,9,     1.3120,2,     -999.0,9
320620170703,        P06,      90,          1,          7,          7,2,20170726,       1022,   -32.4997,  -178.4699,       4361,  3351.4,   1.4982,  34.7227,2,  34.7221,2, 194.6204,2, 194.4287,2,   107.4,2,   31.69,2,    0.00,2,    2.19,2,   0.101,2,   0.060,2,   0.0000,2,  2260.4,2, 2359.17,2,   7.6048,2, -999.00,9, -999.00,9, -999.00,    42.2,3, -999.00,9,     -999.0,1,  -999.0,9, 20170726,      843, -32.5004,-178.4698,        0.0,1,      0.061,1,      4.701,1,      0.133,1,      25.03,     -999.0,9,     -999.0,9,     -999.0,9,     -999.0,9,     1.4902,2,     -999.0,9
320620170703,        P06,      90,          1,          8,          8,2,20170726,       1022,   -32.4997,  -178.4699,       4361,  3143.8,   1.6610,  34.7159,2,  34.7162,2, 186.3605,2, 186.9709,2,   106.7,2,   32.10,2,    0.00,2,    2.22,2,   0.083,2,   0.051,2,   0.0000,2,  -999.0,9, -999.00,9,-999.0000,9, -999.00,9, -999.00,9, -999.00,    37.2,2, -999.00,9,     -999.0,1,  -999.0,9, 20170726,      849, -32.4999,-178.4700,        0.0,1,      0.061,1,      4.702,1,      0.135,1,     -999.0,     -999.0,9,     -999.0,9,     -999.0,9,     -999.0,9,     1.6525,2,     -999.0,9
320620170703,        P06,      90,          1,          9,          9,2,20170726,       1022,   -32.4997,  -178.4699,       4361,  2939.6,   1.7918,  34.6925,2,  34.6962,2, 173.2823,2, 172.8016,2,   113.3,2,   33.33,2,    0.00,2,    2.33,2,   0.059,2,   0.039,2,   0.0000,2,  2283.9,2, 2376.56,2,   7.5874,2, -999.00,9, -999.00,9, -999.00,    36.4,2, -999.00,9,     -999.0,1,  -999.0,9, 20170726,      853, -32.5000,-178.4699,        0.0,1,      0.061,1,      4.701,1,      0.137,1,      25.04,     -999.0,9,     -999.0,9,     -999.0,9,     -999.0,9,     1.7597,2,     -999.0,9
320620170703,        P06,      90,          1,         10,         10,2,20170726,       1022,   -32.4997,  -178.4699,       4361,  2735.9,   1.9574,  34.6630,2,  34.6743,2, 161.0521,2, 160.8447,2,   117.5,2,   34.41,2,    0.00,2,    2.40,2,   0.047,2,   0.034,2,   0.0000,2,  -999.0,9, -999.00,9,-999.0000,9, -999.00,9, -999.00,9, -999.00,  -999.0,9, -999.00,9,     -999.0,9,  -999.0,9, 20170726,      858, -32.5001,-178.4699,        0.0,1,      0.062,1,      4.701,1,      0.138,1,     -999.0,     -999.0,9,     -999.0,9,     -999.0,9,     -999.0,9,     1.9047,2,     -999.0,9
320620170703,        P06,      90,          1,         11,         11,2,20170726,       1022,   -32.4997,  -178.4699,       4361,  2531.5,   2.1176,  34.6448,2,  34.6488,2, 150.3911,2, 150.1461,2,   119.8,2,   35.43,2,    0.00,2,    2.48,2,   0.037,2,   0.025,2,   0.0000,2,  2305.3,2, 2392.82,6,   7.5706,2, -999.00,9, -999.00,9, -999.00,    36.5,2, -999.00,9,     -999.0,1,  -999.0,9, 20170726,      903, -32.5001,-178.4699,        0.0,1,      0.061,1,      4.701,1,      0.138,1,      25.03,     -999.0,9,     -999.0,9,     -999.0,9,     -999.0,9,     2.0919,2,     -999.0,9
320620170703,        P06,      90,          1,         12,         12,2,20170726,       1022,   -32.4997,  -178.4699,       4361,  2277.3,   2.2518,  34.6334,2,  34.6345,2, 148.9902,2, 149.7258,2,   115.3,2,   35.41,2,    0.00,2,    2.48,2,   0.035,2,   0.027,2,   0.0000,2,  -999.0,9, -999.00,9,-999.0000,9, -999.00,9, -999.00,9, -999.00,  -999.0,9, -999.00,9,     -999.0,9,  -999.0,9, 20170726,      909, -32.5000,-178.4700,        0.0,1,      0.062,1,      4.701,1,      0.140,1,     -999.0,     -999.0,9,     -999.0,9,     -999.0,9,     -999.0,9,     2.2243,2,     -999.0,9
320620170703,        P06,      90,          1,         13,         13,2,20170726,       1022,   -32.4997,  -178.4699,       4361,  2022.1,   2.3790,  34.6176,2,  34.6199,2, 150.7296,2, 150.4911,2,   109.8,2,   35.29,2,    0.00,2,    2.46,2,   0.040,2,   0.028,2,   0.0000,2,  2295.2,2, 2380.78,2,   7.5688,2, -999.00,9, -999.00,9, -999.00,    41.6,2, -999.00,9,     -999.0,1,  -999.0,9, 20170726,      915, -32.5000,-178.4699,        0.0,1,      0.061,1,      4.703,1,      0.136,1,      25.05,     -999.0,9,     -999.0,9,     -999.0,9,     -999.0,9,     2.3568,2,     -999.0,9
320620170703,        P06,      90,          1,         14,         14,2,20170726,       1022,   -32.4997,  -178.4699,       4361,  1819.3,   2.5408,  34.5969,2,  34.5971,2, 152.5100,2, 152.7068,2,   101.3,2,   35.15,2,    0.00,2,    2.45,2,   0.043,2,   0.032,2,   0.0000,2,  -999.0,9, -999.00,9,-999.0000,9, -999.00,9, -999.00,9, -999.00,  -999.0,9, -999.00,9,     -999.0,9,  -999.0,9, 20170726,      920, -32.5003,-178.4697,        0.0,1,      0.061,1,      4.703,1,      0.139,1,     -999.0,     -999.0,9,     -999.0,9,     -999.0,9,     -999.0,9,     2.5215,2,     -999.0,9
320620170703,        P06,      90,          1,         15,         15,2,20170726,       1022,   -32.4997,  -178.4699,       4361,  1617.2,   2.8150,  34.5613,2,  34.5641,2, 158.2305,2, 158.4038,2,    89.8,2,   34.66,2,    0.00,2,    2.41,2,   0.073,2,   0.048,2,   0.0000,2,  2272.0,2, 2358.59,2,   7.5718,2, -999.00,9, -999.00,9, -999.00,    44.0,2, -999.00,9,     -999.0,1,  -999.0,9, 20170726,      925, -32.4999,-178.4700,        0.0,1,      0.061,1,      4.702,1,      0.140,1,      25.05,     -999.0,9,     -999.0,9,     -999.0,9,     -999.0,9,     2.7635,2,     -999.0,9
320620170703,        P06,      90,          1,         16,         16,2,20170726,       1022,   -32.4997,  -178.4699,       4361,  1413.7,   3.2605,  34.4724,2,  34.4815,2, 169.2826,2, 169.4954,2,    67.7,2,   33.94,2,    0.00,2,    2.35,2,   0.146,2,   0.091,2,   0.0000,2,  -999.0,9, -999.00,9,-999.0000,9, -999.00,9, -999.00,9, -999.00,  -999.0,9, -999.00,9,     -999.0,9,  -999.0,9, 20170726,      930, -32.5001,-178.4696,        0.0,1,      0.061,1,      4.703,1,      0.137,1,     -999.0,     -999.0,9,     -999.0,9,     -999.0,9,     -999.0,9,     3.2115,2,     -999.0,9
320620170703,        P06,      90,          1,         17,         17,2,20170726,       1022,   -32.4997,  -178.4699,       4361,  1313.0,   3.7163,  34.4121,2,  34.4129,2, 180.2935,2, 179.9446,2,    51.4,2,   32.96,2,    0.00,2,    2.27,2,   0.317,2,   0.169,2,   0.0000,2,  2223.6,2, 2316.08,2,   7.5898,2, -999.00,9, -999.00,9, -999.00,    40.4,2, -999.00,9,     -999.0,1,  -999.0,9, 20170726,      933, -32.5003,-178.4694,        0.0,1,      0.061,1,      4.703,1,      0.138,1,      25.02,     -999.0,9,     -999.0,9,     -999.0,9,     -999.0,9,     3.6899,2,     -999.0,9
320620170703,        P06,      90,          1,         18,         18,2,20170726,       1022,   -32.4997,  -178.4699,       4361,  1213.2,   4.1172,  34.3777,2,  34.3800,2, 187.2142,2, 186.8397,2,    42.7,2,   32.20,2,    0.00,2,    2.20,2,   0.485,2,   0.248,2,   0.0700,2,  -999.0,9, -999.00,9,-999.0000,9, -999.00,9, -999.00,9, -999.00,  -999.0,9, -999.00,9,     -999.0,9,  -999.0,9, 20170726,      936, -32.5002,-178.4696,        0.0,1,      0.061,1,      4.703,1,      0.139,1,     -999.0,     -999.0,9,     -999.0,9,     -999.0,9,     -999.0,9,     4.0664,2,     -999.0,9
320620170703,        P06,      90,          1,         19,         19,2,20170726,       1022,   -32.4997,  -178.4699,       4361,  1110.0,   4.6890,  34.3503,2,  34.3468,3, 198.5505,2, 198.3287,2,    30.3,2,   30.32,2,    0.00,2,    2.07,2,   0.937,2,   0.462,2,   0.0930,2,  2190.4,2, 2293.69,2,   7.6273,2, -999.00,9, -999.00,9, -999.00,    38.7,2, -999.00,9,     -999.0,1,  -999.0,9, 20170726,      939, -32.5001,-178.4697,        0.0,1,      0.061,1,      4.703,1,      0.138,1,      25.03,     -999.0,9,     -999.0,9,     -999.0,9,     -999.0,9,     4.7417,2,     -999.0,9
320620170703,        P06,      90,          1,         20,         20,2,20170726,       1022,   -32.4997,  -178.4699,       4361,  1008.0,   5.3253,  34.3405,2,  34.3382,2, 207.9889,2, 208.0450,2,    22.3,2,   28.47,2,    0.00,2,    1.93,2,   1.357,2,   0.670,2,   0.1680,2,  -999.0,9, -999.00,9,-999.0000,9, -999.00,9, -999.00,9, -999.00,  -999.0,9, -999.00,9,     -999.0,9,  -999.0,9, 20170726,      943, -32.5002,-178.4695,        0.0,1,      0.059,1,      4.702,1,      0.138,1,     -999.0,     -999.0,9,     -999.0,9,     -999.0,9,     -999.0,9,     5.3290,2,     -999.0,9
320620170703,        P06,      90,          1,         21,         21,2,20170726,       1022,   -32.4997,  -178.4699,       4361,   909.0,   5.8773,  34.3472,2,  34.4879,2, 217.5413,2, 217.4784,2,    16.1,2,   26.53,2,    0.00,2,    1.80,2,   1.877,2,   0.932,2,   0.2580,2,  2165.3,2, 2284.55,2,   7.6722,2, -999.00,9, -999.00,9, -999.00,    46.3,2, -999.00,9,     -999.0,1,  -999.0,9, 20170726,      946, -32.5003,-178.4693,        0.0,1,      0.060,1,      4.702,1,      0.142,1,      25.04,     -999.0,9,     -999.0,9,     -999.0,9,     -999.0,9,     5.9039,2,     -999.0,9
320620170703,        P06,      90,          1,         22,         22,2,20170726,       1022,   -32.4997,  -178.4699,       4361,   807.5,   6.3961,  34.3608,2,  34.3586,2, 225.4918,2, 225.7223,2,    11.5,2,   24.76,2,    0.00,2,    1.66,2,   2.455,2,   1.227,2,   0.3940,2,  -999.0,9, -999.00,9,-999.0000,9, -999.00,9, -999.00,9, -999.00,  -999.0,9, -999.00,9,     -999.0,9,  -999.0,9, 20170726,      949, -32.5000,-178.4697,        0.0,1,      0.060,1,      4.701,1,      0.144,1,     -999.0,     -999.0,9,     -999.0,9,     -999.0,9,     -999.0,9,     6.3956,2,     -999.0,9
320620170703,        P06,      90,          1,         23,         23,2,20170726,       1022,   -32.4997,  -178.4699,       4361,   705.8,   7.0268,  34.3980,2,  34.3994,2, 228.7244,2, 229.2712,2,     8.2,2,   22.76,2,    0.00,2,    1.52,2,   3.048,2,   1.576,2,   0.6050,2,  2149.5,2, 2278.96,2,   7.7039,2, -999.00,9, -999.00,9, -999.00,    41.2,3, -999.00,9,     -999.0,1,  -999.0,9, 20170726,      952, -32.4999,-178.4697,        0.0,1,      0.059,1,      4.700,1,      0.141,1,      25.02,     -999.0,9,     -999.0,9,     -999.0,9,     -999.0,9,     7.0598,2,     -999.0,9
320620170703,        P06,      90,          1,         24,         24,2,20170726,       1022,   -32.4997,  -178.4699,       4361,   604.9,   7.6902,  34.4595,2,  34.4630,2, 225.2900,2, 225.1976,2,     6.6,2,   21.17,2,    0.00,2,    1.44,2,   3.186,2,   1.709,2,   0.7450,2,  -999.0,9, -999.00,9,-999.0000,9, -999.00,9, -999.00,9, -999.00,    48.4,2, -999.00,9,     -999.0,1,  -999.0,9, 20170726,      955, -32.5001,-178.4694,        0.0,1,      0.059,1,      4.698,1,      0.143,1,     -999.0,     -999.0,9,     -999.0,9,     -999.0,9,     -999.0,9,     7.7647,2,     -999.0,9
320620170703,        P06,      90,          1,         25,         25,2,20170726,       1022,   -32.4997,  -178.4699,       4361,   502.8,   8.8141,  34.5819,2,  34.5840,3, 217.2939,2, 216.8832,2,     5.8,2,   19.07,2,    0.00,2,    1.29,2,   3.056,2,   1.685,2,   0.9040,2,  2144.9,2, 2282.18,2,   7.7256,2, -999.00,9, -999.00,9, -999.00,    47.6,2, -999.00,9,     -999.0,1,  -999.0,9, 20170726,      958, -32.5000,-178.4695,        0.0,1,      0.059,1,      4.695,1,      0.149,1,      25.01,     -999.0,9,     -999.0,9,     -999.0,9,     -999.0,9,     8.7986,2,     -999.0,9
320620170703,        P06,      90,          1,         26,         26,2,20170726,       1022,   -32.4997,  -178.4699,       4361,   402.3,  10.4400,  34.7974,2,  34.7990,2, 208.5621,3, 205.5588,2,     5.3,2,   16.04,2,    0.00,2,    1.09,2,   2.779,2,   1.559,2,   0.9770,2,  -999.0,9, -999.00,9,-999.0000,9, -999.00,9, -999.00,9, -999.00,    43.8,3, -999.00,9,     -999.0,1,  -999.0,9, 20170726,     1001, -32.4999,-178.4697,        0.0,1,      0.059,1,      4.692,1,      0.149,1,     -999.0,     -999.0,9,     -999.0,9,     -999.0,9,     -999.0,9,    10.4921,2,     -999.0,9
320620170703,        P06,      90,          1,         27,         27,2,20170726,       1022,   -32.4997,  -178.4699,       4361,   352.4,  11.2863,  34.9032,2,  34.8820,2, 209.3906,2, 209.3322,2,     4.8,2,   14.63,2,    0.00,2,    1.01,2,-999.000,9,-999.000,9,-999.0000,9,  2134.4,2, 2294.24,2,   7.7761,2, -999.00,9, -999.00,9, -999.00,    45.4,2, -999.00,9,     -999.0,1,  -999.0,9, 20170726,     1003, -32.4998,-178.4698,        0.0,1,      0.060,1,      4.692,1,      0.147,1,      25.02,     -999.0,9,     -999.0,9,     -999.0,9,     -999.0,9,    11.1400,2,     -999.0,9
320620170703,        P06,      90,          1,         28,         28,2,20170726,       1022,   -32.4997,  -178.4699,       4361,   303.7,  12.0572,  35.0120,2,  34.9618,2, 206.2600,3, 203.6579,2,     4.2,2,   13.23,2,    0.00,2,    0.92,2,   2.685,2,   1.530,2,   1.0470,2,  -999.0,9, -999.00,9,-999.0000,9, -999.00,9, -999.00,9, -999.00,    47.6,2, -999.00,9,     -999.0,1,  -999.0,9, 20170726,     1006, -32.4998,-178.4698,        0.0,1,      0.061,1,      4.690,1,      0.169,1,     -999.0,     -999.0,9,     -999.0,9,     -999.0,9,     -999.0,9,    11.7525,2,     -999.0,9
320620170703,        P06,      90,          1,         29,         29,2,20170726,       1022,   -32.4997,  -178.4699,       4361,   250.9,  12.8868,  35.1205,2,  35.0559,2, 209.4091,2, 209.9372,2,     3.6,2,   11.53,2,    0.00,2,    0.81,2,-999.000,9,-999.000,9,-999.0000,9,  2125.6,2, 2306.16,2,   7.8097,2, -999.00,9, -999.00,9, -999.00,    44.2,3,   13.90,2,     -999.0,1,  -999.0,9, 20170726,     1008, -32.4999,-178.4697,        0.0,1,      0.059,1,      4.689,1,      0.149,1,      25.01,     -999.0,9,     -999.0,9,     -999.0,9,     -999.0,9,    12.3862,2,     -999.0,9
320620170703,        P06,      90,          1,         30,         30,2,20170726,       1022,   -32.4997,  -178.4699,       4361,   201.1,  13.9869,  35.2538,2,  35.1756,3, 206.7650,2, 206.2352,2,     2.9,2,    9.64,2,    0.00,2,    0.69,2,   2.567,2,   1.504,2,   1.2030,2,  -999.0,9, -999.00,9,-999.0000,9, -999.00,9, -999.00,9, -999.00,    49.0,2,   11.70,2,     -999.0,1,  -999.0,9, 20170726,     1010, -32.5000,-178.4696,        0.0,1,      0.061,1,      4.686,1,      0.155,1,     -999.0,     -999.0,9,     -999.0,9,     -999.0,9,     -999.0,9,    13.4128,2,     -999.0,9
320620170703,        P06,      90,          1,         31,         31,2,20170726,       1022,   -32.4997,  -178.4699,       4361,   151.2,  15.0931,  35.3719,2,  35.3543,2, 211.2808,3, 239.2177,3,     2.1,2,    6.96,2,    0.02,2,    0.52,2,-999.000,9,-999.000,9,-999.0000,9,  2106.0,2, 2319.54,2,   7.8761,2, -999.00,9, -999.00,9, -999.00,    51.0,2,    9.10,2,     -999.0,1,  -999.0,9, 20170726,     1013, -32.4999,-178.4696,        0.0,1,      0.062,1,      4.681,1,      0.165,1,      24.99,     -999.0,9,     -999.0,9,     -999.0,9,     -999.0,9,    14.9856,2,     -999.0,9
320620170703,        P06,      90,          1,         32,         32,2,20170726,       1022,   -32.4997,  -178.4699,       4361,   100.7,  16.5252,  35.5283,2,  35.5413,2, 230.2844,3, 232.2819,3,     0.9,2,    2.07,2,    0.16,2,    0.22,2,   2.266,2,   1.359,2,   1.3390,2,  -999.0,9, -999.00,9,-999.0000,9, -999.00,9, -999.00,9, -999.00,    58.8,2,    5.60,2,     -999.0,1,  -999.0,9, 20170726,     1015, -32.4999,-178.4697,        0.0,1,      0.087,1,      4.665,1,      0.194,1,     -999.0,     -999.0,9,     -999.0,9,     -999.0,9,     -999.0,9,    16.6089,2,     -999.0,9