BOTTLE,20230922CCHSIOCBG
EXPOCODE,SECT_ID,STNNBR,CASTNO,SAMPNO,BTLNBR,BTLNBR_FLAG_W,DATE,TIME,LATITUDE,LONGITUDE,DEPTH,CTDPRS,CTDTMP,CTDSAL,CTDSAL_FLAG_W,SALNTY,SALNTY_FLAG_W,CTDOXY,CTDOXY_FLAG_W,OXYGEN,OXYGEN_FLAG_W,SILCAT,SILCAT_FLAG_W,NITRAT,NITRAT_FLAG_W,NITRIT,NITRIT_FLAG_W,PHSPHT,PHSPHT_FLAG_W,CFC-11,CFC-11_FLAG_W,CFC-12,CFC-12_FLAG_W,SF6,SF6_FLAG_W,TCARBN,TCARBN_FLAG_W,ALKALI,ALKALI_FLAG_W,PH_TOT,PH_TOT_FLAG_W,DELC13,DELC13_FLAG_W,DELC14,DELC14_FLAG_W,C14ERR,DOC,DOC_FLAG_W,TDN,TDN_FLAG_W,TON,TON_FLAG_W,D15N_NO3,D15N_NO3_FLAG_W,BTL_DATE,BTL_TIME,BTL_LAT,BTL_LON,CTDRINKO,CTDRINKO_FLAG_W,CTDFLUOR,CTDFLUOR_FLAG_W,CTDXMISS,CTDXMISS_FLAG_W,CTDBACKSCATTER,CTDBACKSCATTER_FLAG_W,PH_TMP,D18O_NO3,D18O_NO3_FLAG_W,DOP,DOP_FLAG_W,HPLC,HPLC_FLAG_W,POC,POC_FLAG_W,REFTMP,REFTMP_FLAG_W,TDP,TDP_FLAG_W
,,,,,,,,,,,METERS,DBAR,ITS-90,PSS-78,,PSS-78,,UMOL/KG,,UMOL/KG,,UMOL/KG,,UMOL/KG,,UMOL/KG,,UMOL/KG,,PMOL/KG,,PMOL/KG,,FMOL/KG,,UMOL/KG,,UMOL/KG,,,,/MILLE,,/MILLE,,/MILLE,UMOL/KG,,UMOL/KG,,UMOL/KG,,/MILLE,,,,,,VOLTS,,VOLTS,,VOLTS,,VOLTS,,DEGC,/MILLE,,UMOL/KG,,,,UG/L,,ITS-90,,UMOL/KG,
320620170703,        P06,      16,          1,         33,         33,2,20170708,       0034,   -30.0799,   156.5000,       4815,    65.1,  20.8559,  35.7257,2,  35.7523,2, 221.2089,3, 217.5896,2,     0.1,2,    0.30,2,    0.13,2,    0.09,2,   1.809,2,   1.068,2,   1.0220,2,  2040.2,2, -999.00,9,   8.0330,2, -999.00,9, -999.00,9, -999.00,    67.0,3,    4.50,2,     -999.0,1,  -999.0,9, 20170708,       29, -30.0798, 156.5000,        0.0,1,      0.169,1,      4.622,1,      0.206,1,      25.01,     -999.0,9,     -999.0,9,     -999.0,9,     -999.0,9,    20.8114,2,     -999.0,9
320620170703,        P06,      16,          1,         34,         34,2,20170708,       0034,   -30.0799,   156.5000,       4815,    39.9,  21.9441,  35.7354,2,  35.7252,2, 209.8843,2, 208.3793,2,     0.1,2,    1.08,2,    0.08,2,    0.16,2,   1.830,2,   1.081,2,   1.0500,2,  2048.3,2, -999.00,9,   8.0190,2, -999.00,9, -999.00,9, -999.00,    59.0,3,    5.40,2,     -999.0,1,  -999.0,9, 20170708,       31, -30.0798, 156.5000,        0.0,1,      0.150,1,      4.630,1,      0.208,1,      25.01,     -999.0,9,     -999.0,9,     -999.0,9,     -999.0,9,    20.8731,2,     -999.0,9
320620170703,        P06,      16,          1,         35,         35,2,20170708,       0034,   -30.0799,   156.5000,       4815,    19.8,  21.9550,  35.7353,2,  35.7296,2, 215.8370,3, 212.9268,2,     0.2,2,    0.29,2,    0.03,2,    0.08,2,   1.735,2,   1.041,2,   1.0250,2,  2033.7,2, -999.00,9,   8.0433,2, -999.00,9, -999.00,9, -999.00,    67.2,2,    4.50,2,     -999.0,1,  -999.0,9, 20170708,       33, -30.0798, 156.5000,        0.0,1,      0.150,1,      4.628,1,      0.206,1,      25.01,     -999.0,9,     -999.0,9,     -999.0,9,     -999.0,9,    21.7546,2,     -999.0,9
320620170703,        P06,      16,          1,         36,         36,2,20170708,       0034,   -30.0799,   156.5000,       4815,     4.4,  21.9523,  35.7351,2,  35.7304,2, 215.9818,3, 213.3205,2,     0.2,2,    0.26,2,    0.03,2,    0.10,2,   1.790,6,   1.047,6,   1.0770,6,  2031.5,6, -999.00,9,   8.0444,2, -999.00,9, -999.00,9, -999.00,    66.4,2,    4.60,2,     -999.0,1,  -999.0,9, 20170708,       34, -30.0799, 156.5000,        0.0,1,      0.154,1,      4.621,1,      0.217,1,      25.02,     -999.0,9,     -999.0,9,     -999.0,9,     -999.0,9,    21.7547,2,     -999.0,9