BOTTLE,20230922CCHSIOCBG
EXPOCODE,SECT_ID,STNNBR,CASTNO,SAMPNO,BTLNBR,BTLNBR_FLAG_W,DATE,TIME,LATITUDE,LONGITUDE,DEPTH,CTDPRS,CTDTMP,CTDSAL,CTDSAL_FLAG_W,SALNTY,SALNTY_FLAG_W,CTDOXY,CTDOXY_FLAG_W,OXYGEN,OXYGEN_FLAG_W,SILCAT,SILCAT_FLAG_W,NITRAT,NITRAT_FLAG_W,NITRIT,NITRIT_FLAG_W,PHSPHT,PHSPHT_FLAG_W,CFC-11,CFC-11_FLAG_W,CFC-12,CFC-12_FLAG_W,SF6,SF6_FLAG_W,TCARBN,TCARBN_FLAG_W,ALKALI,ALKALI_FLAG_W,PH_TOT,PH_TOT_FLAG_W,DELC13,DELC13_FLAG_W,DELC14,DELC14_FLAG_W,C14ERR,DOC,DOC_FLAG_W,TDN,TDN_FLAG_W,TON,TON_FLAG_W,D15N_NO3,D15N_NO3_FLAG_W,BTL_DATE,BTL_TIME,BTL_LAT,BTL_LON,CTDRINKO,CTDRINKO_FLAG_W,CTDFLUOR,CTDFLUOR_FLAG_W,CTDXMISS,CTDXMISS_FLAG_W,CTDBACKSCATTER,CTDBACKSCATTER_FLAG_W,PH_TMP,D18O_NO3,D18O_NO3_FLAG_W,DOP,DOP_FLAG_W,HPLC,HPLC_FLAG_W,POC,POC_FLAG_W,REFTMP,REFTMP_FLAG_W,TDP,TDP_FLAG_W
,,,,,,,,,,,METERS,DBAR,ITS-90,PSS-78,,PSS-78,,UMOL/KG,,UMOL/KG,,UMOL/KG,,UMOL/KG,,UMOL/KG,,UMOL/KG,,PMOL/KG,,PMOL/KG,,FMOL/KG,,UMOL/KG,,UMOL/KG,,,,/MILLE,,/MILLE,,/MILLE,UMOL/KG,,UMOL/KG,,UMOL/KG,,/MILLE,,,,,,VOLTS,,VOLTS,,VOLTS,,VOLTS,,DEGC,/MILLE,,UMOL/KG,,,,UG/L,,ITS-90,,UMOL/KG,
320620170703,        P06,     129,          1,          1,          1,2,20170809,       0153,   -32.4998,  -158.2078,       5658,  5765.1,   1.1796,  34.7100,2,  34.7085,3, 205.0944,2, 204.7823,2,   121.3,2,   32.18,2,    0.00,2,    2.22,2,   0.121,2,   0.057,2,   0.0000,2,  2264.3,6, 2370.67,2,   7.6073,2, -999.00,9, -999.00,9, -999.00,  -999.0,9, -999.00,9,     -999.0,9,  -999.0,1, 20170808,     2327, -32.5000,-158.2090,        0.0,1,      0.061,1,      4.695,1,      0.129,1,      25.00,     -999.0,1,     -999.0,9,     -999.0,9,     -999.0,9,     1.1802,2,     -999.0,9
320620170703,        P06,     129,          1,          2,          2,2,20170809,       0153,   -32.4998,  -158.2078,       5658,  5532.2,   1.1505,  34.7101,2,  34.7081,3, 205.0944,2, 205.4877,2,   121.4,2,   32.21,2,    0.00,2,    2.22,2,   0.116,2,   0.057,2,   0.0000,2,  -999.0,9, -999.00,9,-999.0000,9, -999.00,9, -999.00,9, -999.00,  -999.0,9, -999.00,9,     -999.0,9,  -999.0,1, 20170808,     2336, -32.4998,-158.2097,        0.0,1,      0.061,1,      4.696,1,      0.125,1,     -999.0,     -999.0,1,     -999.0,9,     -999.0,9,     -999.0,9,     1.1512,2,     -999.0,9
320620170703,        P06,     129,          1,          3,          3,2,20170809,       0153,   -32.4998,  -158.2078,       5658,  5301.9,   1.1237,  34.7102,2,  34.7083,2, 205.0944,2, 209.6539,3,   121.4,2,   32.18,2,    0.00,2,    2.22,2,   0.114,2,   0.055,2,   0.0000,2,  2263.0,2, 2370.63,2,   7.6067,2, -999.00,9, -999.00,9, -999.00,  -999.0,9, -999.00,9,     -999.0,9,  -999.0,1, 20170808,     2345, -32.4998,-158.2097,        0.0,1,      0.060,1,      4.696,1,      0.125,1,      25.01,     -999.0,1,     -999.0,9,     -999.0,9,     -999.0,9,     1.1234,2,     -999.0,9
320620170703,        P06,     129,          1,          4,          4,2,20170809,       0153,   -32.4998,  -158.2078,       5658,  4888.3,   1.1071,  34.7115,2,  34.7095,2, 205.0944,2, 204.5490,2,   120.3,2,   32.15,2,    0.00,2,    2.22,2,   0.098,2,   0.050,2,   0.0000,2,  -999.0,9, -999.00,9,-999.0000,9, -999.00,9, -999.00,9, -999.00,  -999.0,9, -999.00,9,     -999.0,9,  -999.0,1, 20170808,     2354, -32.4998,-158.2096,        0.0,1,      0.061,1,      4.698,1,      0.124,1,     -999.0,     -999.0,1,     -999.0,9,     -999.0,9,     -999.0,9,     1.1090,2,     -999.0,9
320620170703,        P06,     129,          1,          5,          5,2,20170809,       0153,   -32.4998,  -158.2078,       5658,  4476.8,   1.1755,  34.7147,2,  34.7119,3, 205.3144,3, 202.2065,2,   117.0,2,   32.06,2,    0.00,2,    2.22,2,   0.077,2,   0.041,2,   0.0000,2,  2264.2,2, 2366.02,2,   7.6064,2, -999.00,9, -999.00,9, -999.00,  -999.0,9, -999.00,9,     -999.0,9,  -999.0,1, 20170809,        2, -32.4998,-158.2098,        0.0,1,      0.061,1,      4.699,1,      0.124,1,      25.01,     -999.0,1,     -999.0,9,     -999.0,9,     -999.0,9,     1.1839,2,     -999.0,9
320620170703,        P06,     129,          1,          6,          6,2,20170809,       0153,   -32.4998,  -158.2078,       5658,  4067.1,   1.3794,  34.7160,2,  34.7136,2, 194.0281,2, 194.4642,2,   113.9,2,   32.25,2,    0.00,2,    2.25,2,   0.049,2,   0.023,2,   0.0000,2,  -999.0,9, -999.00,9,-999.0000,9, -999.00,9, -999.00,9, -999.00,  -999.0,9, -999.00,9,     -999.0,9,  -999.0,1, 20170809,       10, -32.4997,-158.2099,        0.0,1,      0.060,1,      4.699,1,      0.125,1,     -999.0,     -999.0,1,     -999.0,9,     -999.0,9,     -999.0,9,     1.3825,2,     -999.0,9
320620170703,        P06,     129,          1,          7,          7,2,20170809,       0153,   -32.4998,  -158.2078,       5658,  3656.7,   1.5506,  34.7015,2,  34.6977,2, 177.7500,2, 175.9738,2,   120.7,2,   33.67,2,    0.00,2,    2.33,2,   0.031,2,   0.015,2,   0.0000,2,  2286.2,2, 2384.48,2,   7.5908,2, -999.00,9, -999.00,9, -999.00,  -999.0,9, -999.00,9,     -999.0,9,  -999.0,1, 20170809,       18, -32.4998,-158.2095,        0.0,1,      0.061,1,      4.699,1,      0.126,1,      25.02,     -999.0,1,     -999.0,9,     -999.0,9,     -999.0,9,     1.5652,2,     -999.0,9
320620170703,        P06,     129,          1,          8,          8,2,20170809,       0153,   -32.4998,  -158.2078,       5658,  3349.9,   1.6694,  34.6844,2,  34.6816,2, 164.3672,3, 162.0384,2,   127.6,2,   34.84,2,    0.00,2,    2.42,2,   0.028,2,   0.014,2,   0.0000,2,  -999.0,9, -999.00,9,-999.0000,9, -999.00,9, -999.00,9, -999.00,  -999.0,9, -999.00,9,     -999.0,9,  -999.0,1, 20170809,       24, -32.4998,-158.2092,        0.0,1,      0.062,1,      4.699,1,      0.126,1,     -999.0,     -999.0,1,     -999.0,9,     -999.0,9,     -999.0,9,     1.6639,2,     -999.0,9
320620170703,        P06,     129,          1,          9,          9,2,20170809,       0153,   -32.4998,  -158.2078,       5658,  3041.9,   1.7589,  34.6725,2,  34.6724,2, 155.3004,3, 153.0213,2,   130.5,2,   35.59,2,    0.00,2,    2.48,2,   0.027,2,   0.013,2,   0.0000,2,  2310.8,2, 2404.02,2,   7.5725,2, -999.00,9, -999.00,9, -999.00,  -999.0,9, -999.00,9,     -999.0,9,  -999.0,1, 20170809,       31, -32.4997,-158.2095,        0.0,1,      0.061,1,      4.699,1,      0.126,1,      25.03,     -999.0,1,     -999.0,9,     -999.0,9,     -999.0,9,     1.7509,2,     -999.0,9
320620170703,        P06,     129,          1,         10,         10,2,20170809,       0153,   -32.4998,  -158.2078,       5658,  2786.9,   1.8357,  34.6650,2,  34.6624,2, 149.7936,2, 149.3543,2,   129.7,2,   35.88,2,    0.00,2,    2.49,2,   0.024,2,   0.012,2,   0.0000,2,  2313.4,2, 2407.02,2,   7.5682,2, -999.00,9, -999.00,9, -999.00,  -999.0,9, -999.00,9,     -999.0,9,  -999.0,1, 20170809,       36, -32.4996,-158.2099,        0.0,1,      0.062,1,      4.699,1,      0.128,1,      25.01,     -999.0,1,     -999.0,9,     -999.0,9,     -999.0,9,     1.8387,2,     -999.0,9
320620170703,        P06,     129,          1,         11,         11,2,20170809,       0153,   -32.4998,  -158.2078,       5658,  2536.0,   1.9270,  34.6569,2,  34.6539,2, 147.4163,2, 148.1730,2,   125.9,2,   35.90,2,    0.00,2,    2.50,2,   0.026,2,   0.013,2,   0.0000,2,  2311.7,6, 2402.49,2,   7.5669,2, -999.00,9, -999.00,9, -999.00,  -999.0,9, -999.00,9,     -999.0,9,  -999.0,1, 20170809,       42, -32.4996,-158.2101,        0.0,1,      0.061,1,      4.700,1,      0.130,1,      25.00,     -999.0,1,     -999.0,9,     -999.0,9,     -999.0,9,     1.9368,2,     -999.0,9
320620170703,        P06,     129,          1,         12,         12,2,20170809,       0153,   -32.4998,  -158.2078,       5658,  2278.3,   2.0649,  34.6454,2,  34.6464,2, 146.9393,3, 148.5934,2,   120.6,2,   35.79,2,    0.00,2,    2.50,2,   0.025,2,   0.013,2,   0.0000,2,  -999.0,9, -999.00,9,-999.0000,9, -999.00,9, -999.00,9, -999.00,  -999.0,9, -999.00,9,     -999.0,9,  -999.0,1, 20170809,       47, -32.4996,-158.2096,        0.0,1,      0.062,1,      4.700,1,      0.131,1,     -999.0,     -999.0,1,     -999.0,9,     -999.0,9,     -999.0,9,     2.0421,2,     -999.0,9
320620170703,        P06,     129,          1,         13,         13,2,20170809,       0153,   -32.4998,  -158.2078,       5658,  2023.5,   2.2331,  34.6290,2,  34.6286,2, 148.9807,3, 150.6959,2,   111.7,2,   35.48,2,    0.00,2,    2.47,2,   0.024,2,   0.013,2,   0.0000,2,  2295.5,2, 2385.88,6,   7.5671,2, -999.00,9, -999.00,9, -999.00,  -999.0,9, -999.00,9,     -999.0,9,  -999.0,1, 20170809,       52, -32.4996,-158.2092,        0.0,1,      0.061,1,      4.700,1,      0.131,1,      25.02,     -999.0,1,     -999.0,9,     -999.0,9,     -999.0,9,     2.2130,2,     -999.0,9
320620170703,        P06,     129,          1,         14,         14,2,20170809,       0153,   -32.4998,  -158.2078,       5658,  1822.3,   2.4071,  34.6054,2,  34.6038,2, 152.7237,3, 155.1060,2,   100.3,2,   35.15,2,    0.00,2,    2.44,2,   0.031,2,   0.018,2,   0.0000,2,  -999.0,9, -999.00,9,-999.0000,9, -999.00,9, -999.00,9, -999.00,  -999.0,9, -999.00,9,     -999.0,9,  -999.0,1, 20170809,       57, -32.4997,-158.2090,        0.0,1,      0.061,1,      4.700,1,      0.132,1,     -999.0,     -999.0,1,     -999.0,9,     -999.0,9,     -999.0,9,     2.4075,2,     -999.0,9
320620170703,        P06,     129,          1,         15,         15,2,20170809,       0153,   -32.4998,  -158.2078,       5658,  1617.7,   2.6936,  34.5488,2,  34.5431,2, 160.7770,2, 162.2893,2,    81.8,2,   34.76,2,    0.00,2,    2.43,2,   0.058,2,   0.032,2,   0.0000,2,  2262.0,2, 2349.96,2,   7.5660,2, -999.00,9, -999.00,9, -999.00,  -999.0,9, -999.00,9,     -999.0,9,  -999.0,1, 20170809,      101, -32.4997,-158.2087,        0.0,1,      0.062,1,      4.700,1,      0.132,1,      25.01,     -999.0,1,     -999.0,9,     -999.0,9,     -999.0,9,     2.7053,2,     -999.0,9
320620170703,        P06,     129,          1,         16,         16,2,20170809,       0153,   -32.4998,  -158.2078,       5658,  1415.1,   3.1153,  34.4570,2,  34.4540,2, 172.5557,2, 174.2430,2,    62.5,2,   34.23,2,    0.00,2,    2.34,2,   0.197,6,   0.107,6,   0.0000,6,  -999.0,9, -999.00,9,-999.0000,9, -999.00,9, -999.00,9, -999.00,  -999.0,9, -999.00,9,     -999.0,9,  -999.0,1, 20170809,      106, -32.4997,-158.2089,        0.0,1,      0.060,1,      4.700,1,      0.131,1,     -999.0,     -999.0,1,     -999.0,9,     -999.0,9,     -999.0,9,     3.1250,2,     -999.0,9
320620170703,        P06,     129,          1,         17,         17,2,20170809,       0153,   -32.4998,  -158.2078,       5658,  1313.9,   3.4954,  34.4044,2,  34.4141,2, 178.3638,2, 179.0066,2,    54.3,2,   33.75,2,    0.00,2,    2.32,2,   0.344,2,   0.178,2,   0.0000,2,  2222.3,2, 2320.66,2,   7.5788,2, -999.00,9, -999.00,9, -999.00,  -999.0,9, -999.00,9,     -999.0,9,  -999.0,1, 20170809,      109, -32.4997,-158.2087,        0.0,1,      0.060,1,      4.700,1,      0.131,1,      25.02,     -999.0,1,     -999.0,9,     -999.0,9,     -999.0,9,     3.3653,2,     -999.0,9
320620170703,        P06,     129,          1,         18,         18,2,20170809,       0153,   -32.4998,  -158.2078,       5658,  1212.0,   3.9688,  34.3624,2,  34.3694,2, 187.2631,2, 187.1347,2,    43.7,2,   32.76,2,    0.00,2,    2.25,2,   0.529,2,   0.262,2,   0.0000,2,  -999.0,9, -999.00,9,-999.0000,9, -999.00,9, -999.00,9, -999.00,  -999.0,9, -999.00,9,     -999.0,9,  -999.0,1, 20170809,      112, -32.4997,-158.2087,        0.0,1,      0.061,1,      4.699,1,      0.131,1,     -999.0,     -999.0,1,     -999.0,9,     -999.0,9,     -999.0,9,     3.8471,2,     -999.0,9
320620170703,        P06,     129,          1,         19,         19,2,20170809,       0153,   -32.4998,  -158.2078,       5658,  1110.4,   4.4762,  34.3341,2,  34.3337,2, 198.1076,2, 196.5275,2,    32.4,2,   31.16,2,    0.00,2,    2.12,2,   0.975,2,   0.428,2,   0.1040,2,  2194.8,2, 2295.64,2,   7.6163,2, -999.00,9, -999.00,9, -999.00,  -999.0,9, -999.00,9,     -999.0,9,  -999.0,1, 20170809,      114, -32.4997,-158.2088,        0.0,1,      0.061,1,      4.700,1,      0.133,1,      25.02,     -999.0,1,     -999.0,9,     -999.0,9,     -999.0,9,     4.4435,2,     -999.0,9
320620170703,        P06,     129,          1,         20,         20,2,20170809,       0153,   -32.4998,  -158.2078,       5658,  1008.7,   4.9885,  34.3152,2,  34.3119,2, 211.5591,3, 209.3113,2,    22.8,2,   29.20,2,    0.00,2,    1.98,2,   1.541,2,   0.698,2,   0.3030,2,  -999.0,9, -999.00,9,-999.0000,9, -999.00,9, -999.00,9, -999.00,  -999.0,9, -999.00,9,     -999.0,9,  -999.0,1, 20170809,      117, -32.4997,-158.2089,        0.0,1,      0.060,1,      4.699,1,      0.133,1,     -999.0,     -999.0,1,     -999.0,9,     -999.0,9,     -999.0,9,     5.0266,2,     -999.0,9
320620170703,        P06,     129,          1,         21,         21,2,20170809,       0153,   -32.4998,  -158.2078,       5658,   908.7,   5.6229,  34.3077,2,  34.3064,2, 224.1679,2, 222.9611,2,    15.3,2,   26.91,2,    0.00,2,    1.83,2,   2.227,2,   1.043,2,   0.4880,2,  2163.2,2, 2282.64,2,   7.6699,2, -999.00,9, -999.00,9, -999.00,  -999.0,9, -999.00,9,     -999.0,9,  -999.0,1, 20170809,      120, -32.4997,-158.2089,        0.0,1,      0.060,1,      4.699,1,      0.135,1,      25.01,     -999.0,1,     -999.0,9,     -999.0,9,     -999.0,9,     5.6165,2,     -999.0,9
320620170703,        P06,     129,          1,         22,         22,2,20170809,       0153,   -32.4998,  -158.2078,       5658,   805.2,   6.1277,  34.3215,2,  34.3223,2, 234.1506,2, 238.1659,3,    10.5,2,   24.76,2,    0.00,2,    1.68,2,   2.904,2,   1.394,2,   0.6000,2,  2152.0,2, 2283.35,2,   7.6912,2, -999.00,9, -999.00,9, -999.00,  -999.0,9, -999.00,9,     -999.0,9,  -999.0,1, 20170809,      123, -32.4996,-158.2092,        0.0,1,      0.059,1,      4.698,1,      0.136,1,      25.03,     -999.0,1,     -999.0,9,     -999.0,9,     -999.0,9,     6.1927,2,     -999.0,9
320620170703,        P06,     129,          1,         23,         23,2,20170809,       0153,   -32.4998,  -158.2078,       5658,   705.5,   6.6336,  34.3485,2,  34.3450,2, 239.4356,2, 238.1669,2,     8.1,2,   23.29,2,    0.00,2,    1.57,2,   3.445,2,   1.656,2,   0.7220,2,  2147.5,2, 2278.44,2,   7.7039,2, -999.00,9, -999.00,9, -999.00,  -999.0,9, -999.00,9,     -999.0,9,  -999.0,1, 20170809,      126, -32.4995,-158.2094,        0.0,1,      0.058,1,      4.697,1,      0.134,1,      25.04,     -999.0,1,     -999.0,9,     -999.0,9,     -999.0,9,     6.6174,2,     -999.0,9
320620170703,        P06,     129,          1,         24,         24,2,20170809,       0153,   -32.4998,  -158.2078,       5658,   603.5,   7.2678,  34.3966,2,  34.3947,2, 240.8489,2, 239.9556,2,     6.0,2,   21.32,2,    0.00,2,    1.45,2,   3.683,2,   1.864,2,   1.0050,2,  2142.0,2, 2275.73,2,   7.7146,2, -999.00,9, -999.00,9, -999.00,  -999.0,9, -999.00,9,     -999.0,9,  -999.0,1, 20170809,      129, -32.4995,-158.2098,        0.0,1,      0.059,1,      4.697,1,      0.135,1,      25.03,     -999.0,1,     -999.0,9,     -999.0,9,     -999.0,9,     7.2792,2,     -999.0,9
320620170703,        P06,     129,          1,         25,         25,2,20170809,       0153,   -32.4998,  -158.2078,       5658,   503.8,   8.2343,  34.4764,2,  34.4760,2, 234.0494,2, 232.4080,2,     4.4,2,   18.83,2,    0.00,2,    1.30,2,   3.638,2,   1.847,2,   0.9000,2,  2139.0,2, 2283.39,2,   7.7279,2, -999.00,9, -999.00,9, -999.00,  -999.0,9, -999.00,9,     -999.0,9,  -999.0,1, 20170809,      131, -32.4995,-158.2097,        0.0,1,      0.059,1,      4.695,1,      0.133,1,      25.03,     -999.0,1,     -999.0,9,     -999.0,9,     -999.0,9,     8.2778,2,     -999.0,9
320620170703,        P06,     129,          1,         26,         26,2,20170809,       0153,   -32.4998,  -158.2078,       5658,   402.5,  10.2724,  34.6919,2,  34.6834,2, 216.6962,2, 217.6861,2,     2.8,2,   14.51,2,    0.00,2,    1.03,2,   3.272,2,   1.732,2,   1.0030,2,  -999.0,9, -999.00,9,-999.0000,9, -999.00,9, -999.00,9, -999.00,  -999.0,9, -999.00,9,     -999.0,9,  -999.0,1, 20170809,      134, -32.4995,-158.2095,        0.0,1,      0.059,1,      4.692,1,      0.138,1,     -999.0,     -999.0,1,     -999.0,9,     -999.0,9,     -999.0,9,    10.2624,2,     -999.0,9
320620170703,        P06,     129,          1,         27,         27,2,20170809,       0153,   -32.4998,  -158.2078,       5658,   351.3,  12.0495,  34.8915,2,  34.7832,2, 209.6428,2, 210.3517,2,     2.5,2,   12.84,2,    0.00,2,    0.92,2,   3.148,2,   1.647,2,   1.2130,2,  2126.1,2, 2294.63,2,   7.7814,2, -999.00,9, -999.00,9, -999.00,  -999.0,9, -999.00,9,     -999.0,9,  -999.0,1, 20170809,      136, -32.4995,-158.2092,        0.0,1,      0.060,1,      4.690,1,      0.134,1,      25.02,     -999.0,1,     -999.0,1,     -999.0,9,     -999.0,9,    11.1707,2,     -999.0,9
320620170703,        P06,     129,          1,         28,         28,2,20170809,       0153,   -32.4998,  -158.2078,       5658,   301.2,  13.4810,  35.0619,2,  35.0169,2, 206.3196,3, 208.7027,2,     1.7,2,    8.81,2,    0.00,2,    0.67,2,   2.791,2,   1.537,2,   1.1380,2,  2113.0,2, 2305.65,2,   7.8281,2, -999.00,9, -999.00,9, -999.00,  -999.0,9, -999.00,9,     -999.0,9,  -999.0,1, 20170809,      138, -32.4996,-158.2088,        0.0,1,      0.059,1,      4.690,1,      0.134,1,      25.02,     -999.0,1,     -999.0,1,     -999.0,9,     -999.0,9,    13.0799,2,        0.7,2
320620170703,        P06,     129,          1,         29,         29,2,20170809,       0153,   -32.4998,  -158.2078,       5658,   251.8,  14.7002,  35.2173,2,  35.1760,2, 212.3195,2, 211.8988,2,     0.9,2,    5.76,2,    0.02,2,    0.48,2,   2.633,2,   1.481,2,   1.2850,2,  2101.5,2, 2311.14,2,   7.8679,2, -999.00,9, -999.00,9, -999.00,  -999.0,9, -999.00,9,     -999.0,9,  -999.0,1, 20170809,      140, -32.4996,-158.2086,        0.0,1,      0.060,1,      4.688,1,      0.135,1,      25.02,     -999.0,1,     -999.0,1,     -999.0,9,     -999.0,9,    14.4410,2,     -999.0,9
320620170703,        P06,     129,          1,         30,         30,2,20170809,       0153,   -32.4998,  -158.2078,       5658,   200.3,  15.7967,  35.3549,2,  35.3535,2, 217.7149,3, 215.0330,2,     0.5,2,    3.42,2,    0.02,2,    0.31,2,   2.455,2,   1.400,2,   1.4180,4,  2092.4,2, 2321.05,2,   7.9035,2, -999.00,9, -999.00,9, -999.00,  -999.0,9, -999.00,9,     -999.0,9,  -999.0,1, 20170809,      143, -32.4996,-158.2087,        0.0,1,      0.074,1,      4.683,1,      0.141,1,      25.03,     -999.0,1,     -999.0,1,     -999.0,9,     -999.0,9,    15.6795,2,       0.38,2
320620170703,        P06,     129,          1,         31,         31,2,20170809,       0153,   -32.4998,  -158.2078,       5658,   149.2,  17.6492,  35.5846,2,  35.5821,2, 236.0484,3, 232.6208,2,     0.1,2,    0.11,2,    0.02,2,    0.07,2,   0.009,4,  -0.002,4,   0.0010,4,  2062.9,2, 2338.51,2,   7.9813,2, -999.00,9, -999.00,9, -999.00,  -999.0,9, -999.00,9,     -999.0,9,  -999.0,1, 20170809,      145, -32.4996,-158.2086,        0.0,1,      0.137,1,      4.650,1,      0.164,1,      25.02,     -999.0,1,     -999.0,1,     -999.0,9,     -999.0,9,    17.6304,2,     -999.0,9
320620170703,        P06,     129,          1,         32,         32,2,20170809,       0153,   -32.4998,  -158.2078,       5658,   101.7,  17.6408,  35.5839,2,  35.5841,2, 232.7483,2, 232.7152,2,     0.1,2,    0.10,2,    0.02,2,    0.07,2,   2.211,2,   1.275,2,   1.3110,2,  -999.0,9, -999.00,9,-999.0000,9, -999.00,9, -999.00,9, -999.00,  -999.0,9, -999.00,9,     -999.0,9,  -999.0,1, 20170809,      146, -32.4997,-158.2085,        0.0,1,      0.136,1,      4.651,1,      0.165,1,     -999.0,     -999.0,1,     -999.0,1,     -999.0,9,     -999.0,9,    17.6468,2,        0.2,2