BOTTLE,20230922CCHSIOCBG
EXPOCODE,SECT_ID,STNNBR,CASTNO,SAMPNO,BTLNBR,BTLNBR_FLAG_W,DATE,TIME,LATITUDE,LONGITUDE,DEPTH,CTDPRS,CTDTMP,CTDSAL,CTDSAL_FLAG_W,SALNTY,SALNTY_FLAG_W,CTDOXY,CTDOXY_FLAG_W,OXYGEN,OXYGEN_FLAG_W,SILCAT,SILCAT_FLAG_W,NITRAT,NITRAT_FLAG_W,NITRIT,NITRIT_FLAG_W,PHSPHT,PHSPHT_FLAG_W,CFC-11,CFC-11_FLAG_W,CFC-12,CFC-12_FLAG_W,SF6,SF6_FLAG_W,TCARBN,TCARBN_FLAG_W,ALKALI,ALKALI_FLAG_W,PH_TOT,PH_TOT_FLAG_W,DELC13,DELC13_FLAG_W,DELC14,DELC14_FLAG_W,C14ERR,DOC,DOC_FLAG_W,TDN,TDN_FLAG_W,TON,TON_FLAG_W,D15N_NO3,D15N_NO3_FLAG_W,BTL_DATE,BTL_TIME,BTL_LAT,BTL_LON,CTDRINKO,CTDRINKO_FLAG_W,CTDFLUOR,CTDFLUOR_FLAG_W,CTDXMISS,CTDXMISS_FLAG_W,CTDBACKSCATTER,CTDBACKSCATTER_FLAG_W,PH_TMP,D18O_NO3,D18O_NO3_FLAG_W,DOP,DOP_FLAG_W,HPLC,HPLC_FLAG_W,POC,POC_FLAG_W,REFTMP,REFTMP_FLAG_W,TDP,TDP_FLAG_W
,,,,,,,,,,,METERS,DBAR,ITS-90,PSS-78,,PSS-78,,UMOL/KG,,UMOL/KG,,UMOL/KG,,UMOL/KG,,UMOL/KG,,UMOL/KG,,PMOL/KG,,PMOL/KG,,FMOL/KG,,UMOL/KG,,UMOL/KG,,,,/MILLE,,/MILLE,,/MILLE,UMOL/KG,,UMOL/KG,,UMOL/KG,,/MILLE,,,,,,VOLTS,,VOLTS,,VOLTS,,VOLTS,,DEGC,/MILLE,,UMOL/KG,,,,UG/L,,ITS-90,,UMOL/KG,
320620170703,        P06,      58,          1,          1,         37,2,20170716,       0420,   -30.0786,   170.4984,       3021,  2975.7,   1.9195,  34.6716,2,  34.6720,2, 154.5968,2, 154.4922,2,   121.9,2,   35.24,2,    0.00,2,    2.46,2,   0.052,2,   0.024,2,-999.0000,5,  2309.2,6, 2393.07,2,   7.5775,2, -999.00,9, -999.00,9, -999.00,    35.5,2, -999.00,9,     -999.0,1,  -999.0,1, 20170716,      250, -30.0802, 170.4987,        0.0,1,      0.061,1,      3.876,1,      0.141,1,      25.00,     -999.0,1,     -999.0,9,     -999.0,9,     -999.0,9,     1.9201,2,     -999.0,9
320620170703,        P06,      58,          1,          2,          2,2,20170716,       0420,   -30.0786,   170.4984,       3021,  2838.0,   1.9182,  34.6708,2,  34.6700,2, 154.5968,2, 154.5942,2,   121.5,2,   35.18,2,    0.00,2,    2.46,2,-999.000,9,-999.000,9,-999.0000,9,  -999.0,9, -999.00,9,-999.0000,9, -999.00,9, -999.00,9, -999.00,  -999.0,9, -999.00,9,     -999.0,9,  -999.0,1, 20170716,      253, -30.0801, 170.4986,        0.0,1,      0.062,1,      3.417,1,      0.142,1,     -999.0,     -999.0,1,     -999.0,9,     -999.0,9,     -999.0,9,     1.9207,2,     -999.0,9
320620170703,        P06,      58,          1,          3,         38,2,20170716,       0420,   -30.0786,   170.4984,       3021,  2772.0,   1.9282,  34.6695,2,  34.6690,2, 154.4693,2, 154.6498,2,   122.0,2,   35.21,2,    0.00,2,    2.44,2,   0.039,2,   0.028,2,-999.0000,5,  2307.2,2, 2393.49,2,   7.5772,2, -999.00,9, -999.00,9, -999.00,    35.0,2, -999.00,9,     -999.0,1,  -999.0,1, 20170716,      256, -30.0800, 170.4985,        0.0,1,      0.061,1,      3.356,1,      0.140,1,      24.99,     -999.0,1,     -999.0,9,     -999.0,9,     -999.0,9,     1.9281,2,     -999.0,9
320620170703,        P06,      58,          1,          4,          4,2,20170716,       0420,   -30.0786,   170.4984,       3021,  2567.9,   1.9925,  34.6633,2,  34.6629,2, 154.3079,2, 154.1159,2,   122.5,2,   35.16,2,    0.00,2,    2.44,2,-999.000,9,-999.000,9,-999.0000,9,  -999.0,9, -999.00,9,-999.0000,9, -999.00,9, -999.00,9, -999.00,  -999.0,9, -999.00,9,     -999.0,9,  -999.0,1, 20170716,      300, -30.0799, 170.4984,        0.0,1,      0.061,1,      3.711,1,      0.144,1,     -999.0,     -999.0,1,     -999.0,9,     -999.0,9,     -999.0,9,     1.9893,2,     -999.0,9
320620170703,        P06,      58,          1,          5,         39,2,20170716,       0420,   -30.0786,   170.4984,       3021,  2363.7,   2.1335,  34.6513,2,  34.6510,2, 154.3082,2, 154.3335,2,   116.8,2,   35.03,2,    0.00,2,    2.44,2,   0.071,2,   0.067,2,-999.0000,5,  2302.5,2, 2388.31,2,   7.5775,2, -999.00,9, -999.00,9, -999.00,    35.5,2, -999.00,9,     -999.0,1,  -999.0,1, 20170716,      305, -30.0797, 170.4982,        0.0,1,      0.061,1,      3.699,1,      0.147,1,      24.99,     -999.0,1,     -999.0,9,     -999.0,9,     -999.0,9,     2.1387,2,     -999.0,9
320620170703,        P06,      58,          1,          6,          6,2,20170716,       0420,   -30.0786,   170.4984,       3021,  2161.1,   2.2963,  34.6375,2,  34.6368,2, 155.0822,2, 155.2884,2,   111.5,2,   34.84,2,    0.00,2,    2.42,2,-999.000,9,-999.000,9,-999.0000,9,  -999.0,9, -999.00,9,-999.0000,9, -999.00,9, -999.00,9, -999.00,    35.4,2, -999.00,9,     -999.0,1,  -999.0,1, 20170716,      310, -30.0795, 170.4981,        0.0,1,      0.061,1,      3.495,1,      0.146,1,     -999.0,     -999.0,1,     -999.0,9,     -999.0,9,     -999.0,9,     2.2978,2,     -999.0,9
320620170703,        P06,      58,          1,          7,         40,2,20170716,       0420,   -30.0786,   170.4984,       3021,  1959.3,   2.4580,  34.6239,2,  34.6201,2, 156.5676,2, 156.3919,2,   105.2,2,   34.64,2,    0.00,2,    2.41,2,   0.108,2,   0.060,2,-999.0000,5,  2289.6,2, 2375.31,2,   7.5801,2, -999.00,9, -999.00,9, -999.00,    36.4,2, -999.00,9,     -999.0,1,  -999.0,1, 20170716,      314, -30.0794, 170.4981,        0.0,1,      0.061,1,      3.829,1,      0.146,1,      24.98,     -999.0,1,     -999.0,9,     -999.0,9,     -999.0,9,     2.4901,2,     -999.0,9
320620170703,        P06,      58,          1,          8,          8,2,20170716,       0420,   -30.0786,   170.4984,       3021,  1784.8,   2.6782,  34.6051,2,  34.6040,2, 157.8865,2, 157.8604,2,    99.7,2,   34.36,2,    0.00,2,    2.39,2,-999.000,9,-999.000,9,-999.0000,9,  -999.0,9, -999.00,9,-999.0000,9, -999.00,9, -999.00,9, -999.00,  -999.0,9, -999.00,9,     -999.0,9,  -999.0,1, 20170716,      318, -30.0795, 170.4981,        0.0,1,      0.061,1,      3.725,1,      0.141,1,     -999.0,     -999.0,1,     -999.0,9,     -999.0,9,     -999.0,9,     2.6918,2,     -999.0,9
320620170703,        P06,      58,          1,          9,         41,2,20170716,       0420,   -30.0786,   170.4984,       3021,  1681.9,   2.8899,  34.5872,2,  34.5881,2, 158.8482,2, 159.1191,2,    95.8,2,   34.16,2,    0.00,2,    2.36,2,   0.171,2,   0.092,2,-999.0000,5,  2278.6,2, 2373.68,2,   7.5837,2, -999.00,9, -999.00,9, -999.00,    35.5,2, -999.00,9,     -999.0,1,  -999.0,1, 20170716,      321, -30.0794, 170.4981,        0.0,1,      0.061,1,      3.737,1,      0.150,1,      25.00,     -999.0,1,     -999.0,9,     -999.0,9,     -999.0,9,     2.8556,2,     -999.0,9
320620170703,        P06,      58,          1,         10,         10,2,20170716,       0420,   -30.0786,   170.4984,       3021,  1583.1,   3.1475,  34.5670,2,  34.5584,2, 163.2518,2, 163.0387,2,    84.6,2,   33.58,2,    0.00,2,    2.33,2,-999.000,9,-999.000,9,-999.0000,9,  -999.0,9, -999.00,9,-999.0000,9, -999.00,9, -999.00,9, -999.00,  -999.0,9, -999.00,9,     -999.0,9,  -999.0,1, 20170716,      324, -30.0794, 170.4981,        0.0,1,      0.061,1,      3.322,1,      0.144,1,     -999.0,     -999.0,1,     -999.0,9,     -999.0,9,     -999.0,9,     3.2393,2,     -999.0,9
320620170703,        P06,      58,          1,         11,         42,2,20170716,       0420,   -30.0786,   170.4984,       3021,  1480.3,   3.5238,  34.5377,2,  34.5360,2, 165.9214,2, 165.8254,2,    77.6,2,   33.13,2,    0.00,2,    2.29,2,   0.306,2,   0.160,2,-999.0000,5,  2255.2,2, 2337.14,2,   7.5932,2, -999.00,9, -999.00,9, -999.00,    35.5,2, -999.00,9,     -999.0,1,  -999.0,1, 20170716,      327, -30.0794, 170.4981,        0.0,1,      0.059,1,      3.215,1,      0.143,1,      24.99,     -999.0,1,     -999.0,9,     -999.0,9,     -999.0,9,     3.5106,2,     -999.0,9
320620170703,        P06,      58,          1,         12,         12,2,20170716,       0420,   -30.0786,   170.4984,       3021,  1380.5,   3.8929,  34.5082,2,  34.5064,2, 171.2999,2, 171.6180,2,    67.4,2,   32.44,2,    0.00,2,    2.22,2,-999.000,9,-999.000,9,-999.0000,9,  -999.0,9, -999.00,9,-999.0000,9, -999.00,9, -999.00,9, -999.00,  -999.0,9, -999.00,9,     -999.0,9,  -999.0,1, 20170716,      330, -30.0795, 170.4981,        0.0,1,      0.060,1,      3.626,1,      0.142,1,     -999.0,     -999.0,1,     -999.0,9,     -999.0,9,     -999.0,9,     3.8864,2,     -999.0,9
320620170703,        P06,      58,          1,         13,         43,2,20170716,       0420,   -30.0786,   170.4984,       3021,  1277.3,   4.3230,  34.4809,2,  34.4801,3, 176.9030,2, 176.9465,2,    57.5,2,   31.56,2,    0.00,2,    2.16,2,   0.624,2,   0.283,2,-999.0000,5,  2228.1,2, 2322.84,2,   7.6100,2, -999.00,9, -999.00,9, -999.00,    36.7,2, -999.00,9,     -999.0,1,  -999.0,1, 20170716,      332, -30.0795, 170.4981,        0.0,1,      0.060,1,      3.183,1,      0.141,1,      24.99,     -999.0,1,     -999.0,9,     -999.0,9,     -999.0,9,     4.3005,2,     -999.0,9
320620170703,        P06,      58,          1,         14,         14,2,20170716,       0420,   -30.0786,   170.4984,       3021,  1175.6,   4.8833,  34.4415,2,  34.4383,2, 187.3236,2, 186.8320,2,    43.1,2,   30.21,2,    0.00,2,    2.06,2,-999.000,9,-999.000,9,-999.0000,9,  -999.0,9, -999.00,9,-999.0000,9, -999.00,9, -999.00,9, -999.00,  -999.0,9, -999.00,9,     -999.0,9,  -999.0,1, 20170716,      335, -30.0794, 170.4981,        0.0,1,      0.060,1,      4.271,1,      0.141,1,     -999.0,     -999.0,1,     -999.0,9,     -999.0,9,     -999.0,9,     4.8769,2,     -999.0,9
320620170703,        P06,      58,          1,         15,         15,2,20170716,       0420,   -30.0786,   170.4984,       3021,  1075.7,   5.5254,  34.4269,2,  34.4281,2, 195.9401,2, 195.6134,2,    31.9,2,   28.45,2,    0.00,2,    1.92,2,   1.220,2,   0.574,2,-999.0000,5,  2189.3,2, 2293.14,2,   7.6446,2, -999.00,9, -999.00,9, -999.00,    39.1,2, -999.00,9,     -999.0,1,  -999.0,1, 20170716,      338, -30.0794, 170.4981,        0.0,1,      0.060,1,      3.939,1,      0.140,1,      24.93,     -999.0,1,     -999.0,9,     -999.0,9,     -999.0,9,     5.5366,2,     -999.0,9
320620170703,        P06,      58,          1,         16,         16,2,20170716,       0420,   -30.0786,   170.4984,       3021,   974.5,   6.0202,  34.4315,2,  34.4259,2, 203.0350,2, 203.9374,2,    23.3,2,   26.74,2,    0.00,2,    1.81,2,-999.000,9,-999.000,9,-999.0000,9,  -999.0,9, -999.00,9,-999.0000,9, -999.00,9, -999.00,9, -999.00,  -999.0,9, -999.00,9,     -999.0,9,  -999.0,1, 20170716,      341, -30.0795, 170.4981,        0.0,1,      0.059,1,      3.578,1,      0.141,1,     -999.0,     -999.0,1,     -999.0,9,     -999.0,9,     -999.0,9,     6.1385,2,     -999.0,9
320620170703,        P06,      58,          1,         17,         17,2,20170716,       0420,   -30.0786,   170.4984,       3021,   873.7,   6.8028,  34.4594,2,  34.4434,2, 210.2229,2, 210.5270,2,    16.5,2,   24.81,2,    0.00,2,    1.66,2,   2.025,2,   1.002,2,-999.0000,5,  2165.7,2, 2283.07,2,   7.6836,2, -999.00,9, -999.00,9, -999.00,    39.7,2, -999.00,9,     -999.0,1,  -999.0,1, 20170716,      344, -30.0796, 170.4981,        0.0,1,      0.060,1,      3.819,1,      0.141,1,      25.00,     -999.0,1,     -999.0,9,     -999.0,9,     -999.0,9,     6.7849,2,     -999.0,9
320620170703,        P06,      58,          1,         18,         18,2,20170716,       0420,   -30.0786,   170.4984,       3021,   771.9,   7.8356,  34.5740,2,  34.5767,2, 202.8259,2, 202.1423,2,    14.2,2,   22.62,2,    0.00,2,    1.52,2,-999.000,9,-999.000,9,-999.0000,9,  -999.0,9, -999.00,9,-999.0000,9, -999.00,9, -999.00,9, -999.00,  -999.0,9, -999.00,9,     -999.0,9,  -999.0,1, 20170716,      347, -30.0798, 170.4981,        0.0,1,      0.060,1,      3.690,1,      0.139,1,     -999.0,     -999.0,1,     -999.0,9,     -999.0,9,     -999.0,9,     8.0264,2,     -999.0,9
320620170703,        P06,      58,          1,         19,         19,2,20170716,       0420,   -30.0786,   170.4984,       3021,   671.0,   8.6383,  34.6435,2,  34.6356,2, 204.6121,2, 204.0352,2,    10.6,2,   20.69,2,    0.00,2,    1.40,2,   2.389,2,   1.273,2,-999.0000,5,  2154.6,2, 2287.09,2,   7.7189,2, -999.00,9, -999.00,9, -999.00,    40.6,2, -999.00,9,     -999.0,1,  -999.0,1, 20170716,      350, -30.0799, 170.4981,        0.0,1,      0.060,1,      2.382,1,      0.144,1,      24.99,     -999.0,1,     -999.0,9,     -999.0,9,     -999.0,9,     8.7564,2,     -999.0,9
320620170703,        P06,      58,          1,         20,         20,2,20170716,       0420,   -30.0786,   170.4984,       3021,   568.2,  10.4197,  34.8194,2,  34.8208,2, 199.3295,2, 200.0547,2,     7.1,2,   17.25,2,    0.00,2,    1.15,2,-999.000,9,-999.000,9,-999.0000,9,  -999.0,9, -999.00,9,-999.0000,9, -999.00,9, -999.00,9, -999.00,    41.6,2, -999.00,9,     -999.0,1,  -999.0,1, 20170716,      352, -30.0798, 170.4981,        0.0,1,      0.060,1,      1.417,1,      0.144,1,     -999.0,     -999.0,1,     -999.0,9,     -999.0,9,     -999.0,9,    10.4737,2,     -999.0,9
320620170703,        P06,      58,          1,         21,         21,2,20170716,       0420,   -30.0786,   170.4984,       3021,   488.4,  11.8541,  35.0011,2,  35.0051,2, 198.2583,2, 198.4082,2,     5.5,2,   14.24,2,    0.00,2,    0.95,2,   2.477,2,   1.426,2,-999.0000,5,  2134.6,2, 2299.15,2,   7.7895,2, -999.00,9, -999.00,9, -999.00,    44.3,2, -999.00,9,     -999.0,1,  -999.0,1, 20170716,      355, -30.0796, 170.4980,        0.0,1,      0.060,1,      4.590,1,      0.145,1,      24.99,     -999.0,1,     -999.0,9,     -999.0,9,     -999.0,9,    11.9324,2,     -999.0,9
320620170703,        P06,      58,          1,         22,         22,2,20170716,       0420,   -30.0786,   170.4984,       3021,   438.6,  12.7211,  35.0984,2,  35.1059,2, 197.8655,2, 197.5212,2,     4.1,2,   12.50,2,    0.00,2,    0.85,2,-999.000,9,-999.000,9,-999.0000,9,  -999.0,9, -999.00,9,-999.0000,9, -999.00,9, -999.00,9, -999.00,  -999.0,9, -999.00,9,     -999.0,9,  -999.0,1, 20170716,      357, -30.0795, 170.4980,        0.0,1,      0.059,1,      1.654,1,      0.146,1,     -999.0,     -999.0,1,     -999.0,9,     -999.0,9,     -999.0,9,    12.8595,2,     -999.0,9
320620170703,        P06,      58,          1,         23,         23,2,20170716,       0420,   -30.0786,   170.4984,       3021,   387.1,  13.8951,  35.2221,2,  35.2227,2, 195.8857,2, 196.2346,2,     3.2,2,   10.63,2,    0.00,2,    0.71,2,   2.445,2,   1.409,2,-999.0000,5,  2119.3,2, 2308.12,2,   7.8398,2, -999.00,9, -999.00,9, -999.00,    45.4,2, -999.00,9,     -999.0,1,  -999.0,1, 20170716,      359, -30.0793, 170.4980,        0.0,1,      0.060,1,      3.985,1,      0.146,1,      25.00,     -999.0,1,     -999.0,9,     -999.0,9,     -999.0,9,    13.9988,2,     -999.0,9
320620170703,        P06,      58,          1,         24,         24,2,20170716,       0420,   -30.0786,   170.4984,       3021,   336.5,  15.3451,  35.3739,2,  35.3725,2, 197.0384,2, 196.7945,2,     2.1,2,    8.17,2,    0.00,2,    0.57,2,-999.000,9,-999.000,9,-999.0000,9,  -999.0,9, -999.00,9,-999.0000,9, -999.00,9, -999.00,9, -999.00,  -999.0,9, -999.00,9,     -999.0,9,  -999.0,1, 20170716,      401, -30.0792, 170.4980,        0.0,1,      0.059,1,      4.632,1,      0.146,1,     -999.0,     -999.0,1,     -999.0,9,     -999.0,9,     -999.0,9,    15.3422,2,     -999.0,9
320620170703,        P06,      58,          1,         25,         25,2,20170716,       0420,   -30.0786,   170.4984,       3021,   286.9,  16.6277,  35.5051,2,  35.4993,2, 196.8493,2, 196.6667,2,     1.6,2,    6.56,2,    0.00,2,    0.46,2,   2.166,2,   1.358,2,-999.0000,5,  2099.7,2, 2326.62,2,   7.9056,2, -999.00,9, -999.00,9, -999.00,    47.3,2, -999.00,9,     -999.0,1,  -999.0,1, 20170716,      403, -30.0791, 170.4981,        0.0,1,      0.059,1,      4.143,1,      0.148,1,      24.99,     -999.0,1,     -999.0,9,     -999.0,9,     -999.0,9,    16.6104,2,     -999.0,9
320620170703,        P06,      58,          1,         26,         26,2,20170716,       0420,   -30.0786,   170.4984,       3021,   240.2,  17.4816,  35.5847,2,  35.5725,2, 197.5374,2, 197.7892,2,     1.2,2,    5.52,2,    0.02,2,    0.40,2,-999.000,9,-999.000,9,-999.0000,9,  -999.0,9, -999.00,9,-999.0000,9, -999.00,9, -999.00,9, -999.00,    47.1,2, -999.00,9,     -999.0,1,  -999.0,1, 20170716,      405, -30.0790, 170.4981,        0.0,1,      0.060,1,      4.334,1,      0.155,1,     -999.0,     -999.0,1,     -999.0,9,     -999.0,9,     -999.0,9,    17.3386,2,     -999.0,9
320620170703,        P06,      58,          1,         27,         27,2,20170716,       0420,   -30.0786,   170.4984,       3021,   217.0,  17.7957,  35.6109,2,  35.6028,2, 199.2767,2, 186.1080,3,     1.1,2,    4.98,2,    0.02,2,    0.37,2,   2.013,2,   1.327,2,-999.0000,5,  2086.7,2, 2326.85,2,   7.9353,2, -999.00,9, -999.00,9, -999.00,    49.5,2, -999.00,9,     -999.0,1,  -999.0,1, 20170716,      406, -30.0789, 170.4982,        0.0,1,      0.061,1,      4.684,1,      0.154,1,      24.99,     -999.0,1,     -999.0,9,     -999.0,9,     -999.0,9,    17.7472,2,     -999.0,9
320620170703,        P06,      58,          1,         28,         28,2,20170716,       0420,   -30.0786,   170.4984,       3021,   190.2,  19.2811,  35.8297,2,  35.7626,3, 209.9651,3, 213.0492,2,     0.5,2,    2.06,2,    0.12,2,    0.18,2,-999.000,9,-999.000,9,-999.0000,9,  -999.0,9, -999.00,9,-999.0000,9, -999.00,9, -999.00,9, -999.00,    52.7,2,    6.00,2,     -999.0,1,  -999.0,1, 20170716,      408, -30.0788, 170.4982,        0.0,1,      0.145,1,      4.642,1,      0.196,1,     -999.0,     -999.0,1,     -999.0,9,     -999.0,9,     -999.0,9,    18.8512,2,     -999.0,9
320620170703,        P06,      58,          1,         29,         29,2,20170716,       0420,   -30.0786,   170.4984,       3021,   166.0,  19.3437,  35.8418,2,  35.8406,2, 222.4651,2, 222.4630,2,     0.2,2,    0.67,2,    0.16,2,    0.10,2,   1.858,2,   1.247,2,-999.0000,5,  2062.0,2, 2343.05,6,   8.0050,2, -999.00,9, -999.00,9, -999.00,    56.5,2,    5.00,2,     -999.0,1,  -999.0,1, 20170716,      410, -30.0788, 170.4982,        0.0,1,      0.153,1,      4.637,1,      0.196,1,      24.98,     -999.0,1,     -999.0,9,     -999.0,9,     -999.0,9,    19.3384,2,     -999.0,9
320620170703,        P06,      58,          1,         30,         30,2,20170716,       0420,   -30.0786,   170.4984,       3021,   141.4,  19.3403,  35.8417,2,  35.8402,2, 222.3948,2, 222.4389,2,     0.1,2,    0.68,2,    0.16,2,    0.11,2,-999.000,9,-999.000,9,-999.0000,9,  -999.0,9, -999.00,9,-999.0000,9, -999.00,9, -999.00,9, -999.00,    54.7,2,    5.50,2,     -999.0,1,  -999.0,1, 20170716,      411, -30.0788, 170.4983,        0.0,1,      0.157,1,      4.638,1,      0.196,1,     -999.0,     -999.0,1,     -999.0,9,     -999.0,9,     -999.0,9,    19.3351,2,     -999.0,9
320620170703,        P06,      58,          1,         31,         31,2,20170716,       0420,   -30.0786,   170.4984,       3021,   115.3,  19.3381,  35.8420,2,  35.8402,2, 222.4908,2, 222.4143,2,     0.1,2,    0.68,2,    0.16,2,    0.10,2,   1.867,2,   1.263,2,-999.0000,5,  2062.5,2, 2351.87,2,   8.0041,2, -999.00,9, -999.00,9, -999.00,    55.5,2,    5.90,2,     -999.0,1,  -999.0,1, 20170716,      413, -30.0788, 170.4983,        0.0,1,      0.158,1,      4.638,1,      0.197,1,      24.99,     -999.0,1,     -999.0,9,     -999.0,9,     -999.0,9,    19.3310,2,     -999.0,9
320620170703,        P06,      58,          1,         32,         32,2,20170716,       0420,   -30.0786,   170.4984,       3021,    90.5,  19.3347,  35.8421,2,  35.8406,2, 222.4914,2, 222.3850,2,     0.2,2,    0.68,2,    0.16,2,    0.09,2,-999.000,9,-999.000,9,-999.0000,9,  -999.0,9, -999.00,9,-999.0000,9, -999.00,9, -999.00,9, -999.00,    55.1,2,    5.30,2,     -999.0,1,  -999.0,1, 20170716,      415, -30.0787, 170.4983,        0.0,1,      0.158,1,      4.639,1,      0.193,1,     -999.0,     -999.0,1,     -999.0,9,     -999.0,9,     -999.0,9,    19.3268,2,     -999.0,9