BOTTLE,20230922CCHSIOCBG
EXPOCODE,SECT_ID,STNNBR,CASTNO,SAMPNO,BTLNBR,BTLNBR_FLAG_W,DATE,TIME,LATITUDE,LONGITUDE,DEPTH,CTDPRS,CTDTMP,CTDSAL,CTDSAL_FLAG_W,SALNTY,SALNTY_FLAG_W,CTDOXY,CTDOXY_FLAG_W,OXYGEN,OXYGEN_FLAG_W,SILCAT,SILCAT_FLAG_W,NITRAT,NITRAT_FLAG_W,NITRIT,NITRIT_FLAG_W,PHSPHT,PHSPHT_FLAG_W,CFC-11,CFC-11_FLAG_W,CFC-12,CFC-12_FLAG_W,SF6,SF6_FLAG_W,TCARBN,TCARBN_FLAG_W,ALKALI,ALKALI_FLAG_W,PH_TOT,PH_TOT_FLAG_W,DELC13,DELC13_FLAG_W,DELC14,DELC14_FLAG_W,C14ERR,DOC,DOC_FLAG_W,TDN,TDN_FLAG_W,TON,TON_FLAG_W,D15N_NO3,D15N_NO3_FLAG_W,BTL_DATE,BTL_TIME,BTL_LAT,BTL_LON,CTDRINKO,CTDRINKO_FLAG_W,CTDFLUOR,CTDFLUOR_FLAG_W,CTDXMISS,CTDXMISS_FLAG_W,CTDBACKSCATTER,CTDBACKSCATTER_FLAG_W,PH_TMP,D18O_NO3,D18O_NO3_FLAG_W,DOP,DOP_FLAG_W,HPLC,HPLC_FLAG_W,POC,POC_FLAG_W,REFTMP,REFTMP_FLAG_W,TDP,TDP_FLAG_W
,,,,,,,,,,,METERS,DBAR,ITS-90,PSS-78,,PSS-78,,UMOL/KG,,UMOL/KG,,UMOL/KG,,UMOL/KG,,UMOL/KG,,UMOL/KG,,PMOL/KG,,PMOL/KG,,FMOL/KG,,UMOL/KG,,UMOL/KG,,,,/MILLE,,/MILLE,,/MILLE,UMOL/KG,,UMOL/KG,,UMOL/KG,,/MILLE,,,,,,VOLTS,,VOLTS,,VOLTS,,VOLTS,,DEGC,/MILLE,,UMOL/KG,,,,UG/L,,ITS-90,,UMOL/KG,
320620170703,        P06,      44,          1,          1,         37,2,20170713,       1200,   -30.0797,   166.0686,       2604,  2632.1,   2.0208,  34.6740,2,  34.6728,2, 154.9693,2, 154.9892,2,   115.5,2,   34.84,2,    0.00,2,    2.43,2,   0.023,2,   0.025,2,   0.0000,2,  2303.6,6, 2399.52,2,   7.5794,2, -999.00,9, -999.00,9, -999.00,    36.9,2, -999.00,9,     -999.0,1,  -999.0,1, 20170713,     1030, -30.0800, 166.0657,        0.0,1,      0.062,1,      4.702,1,      0.146,1,      25.08,     -999.0,1,     -999.0,1,     -999.0,9,     -999.0,9,     2.0234,2,     -999.0,9
320620170703,        P06,      44,          1,          2,          2,2,20170713,       1200,   -30.0797,   166.0686,       2604,  2533.4,   2.0421,  34.6720,2,  34.6708,2, 154.9044,2, 155.0995,2,   115.0,2,   34.88,2,    0.00,2,    2.44,2,-999.000,9,-999.000,9,-999.0000,9,  2303.4,2, -999.00,9,-999.0000,9, -999.00,9, -999.00,9, -999.00,  -999.0,9, -999.00,9,     -999.0,9,  -999.0,1, 20170713,     1033, -30.0800, 166.0657,        0.0,1,      0.061,1,      4.703,1,      0.143,1,     -999.0,     -999.0,1,     -999.0,1,     -999.0,9,     -999.0,9,     2.0409,2,     -999.0,9
320620170703,        P06,      44,          1,          3,         38,2,20170713,       1200,   -30.0797,   166.0686,       2604,  2432.0,   2.0598,  34.6697,2,  34.6686,2, 154.6622,2, 154.3839,2,   114.7,2,   34.88,2,    0.00,2,    2.45,2,   0.026,2,   0.026,2,   0.0000,2,  2302.4,2, 2391.93,2,   7.5789,2, -999.00,9, -999.00,9, -999.00,    36.8,2, -999.00,9,     -999.0,1,  -999.0,1, 20170713,     1036, -30.0800, 166.0658,        0.0,1,      0.062,1,      4.705,1,      0.139,1,      24.98,     -999.0,1,     -999.0,1,     -999.0,9,     -999.0,9,     2.0571,2,     -999.0,9
320620170703,        P06,      44,          1,          4,          4,2,20170713,       1200,   -30.0797,   166.0686,       2604,  2225.3,   2.1229,  34.6637,2,  34.6620,2, 154.1795,2, 154.2320,2,   112.8,2,   34.85,2,    0.00,2,    2.43,2,-999.000,9,-999.000,9,-999.0000,9,  2299.9,2, -999.00,9,-999.0000,9, -999.00,9, -999.00,9, -999.00,  -999.0,9, -999.00,9,     -999.0,9,  -999.0,1, 20170713,     1041, -30.0800, 166.0658,        0.0,1,      0.061,1,      4.706,1,      0.138,1,     -999.0,     -999.0,1,     -999.0,1,     -999.0,9,     -999.0,9,     2.1253,2,     -999.0,9
320620170703,        P06,      44,          1,          5,         39,2,20170713,       1200,   -30.0797,   166.0686,       2604,  2023.7,   2.3367,  34.6446,2,  34.6425,2, 152.9268,2, 152.7231,2,   108.3,2,   34.85,2,    0.00,2,    2.42,2,   0.029,2,   0.027,2,   0.0000,2,  2295.6,2, 2381.29,2,   7.5755,2, -999.00,9, -999.00,9, -999.00,    38.7,2, -999.00,9,     -999.0,1,  -999.0,1, 20170713,     1046, -30.0800, 166.0659,        0.0,1,      0.061,1,      4.705,1,      0.141,1,      25.08,     -999.0,1,     -999.0,1,     -999.0,9,     -999.0,9,     2.3444,2,     -999.0,9
320620170703,        P06,      44,          1,          6,          6,2,20170713,       1200,   -30.0797,   166.0686,       2604,  1920.2,   2.4511,  34.6348,2,  34.6313,2, 152.6293,2, 152.8849,2,   105.5,2,   34.74,2,    0.00,2,    2.42,2,-999.000,9,-999.000,9,-999.0000,9,  2292.3,2, -999.00,9,-999.0000,9, -999.00,9, -999.00,9, -999.00,  -999.0,9, -999.00,9,     -999.0,9,  -999.0,1, 20170713,     1049, -30.0799, 166.0661,        0.0,1,      0.062,1,      4.705,1,      0.142,1,     -999.0,     -999.0,1,     -999.0,1,     -999.0,9,     -999.0,9,     2.4747,2,     -999.0,9
320620170703,        P06,      44,          1,          7,         40,2,20170713,       1200,   -30.0797,   166.0686,       2604,  1819.4,   2.5781,  34.6241,2,  34.6193,2, 152.9330,2, 153.0974,2,   102.1,2,   34.52,2,    0.00,2,    2.41,2,   0.050,2,   0.038,2,   0.0000,2,  2288.2,2, 2373.19,2,   7.5766,2, -999.00,9, -999.00,9, -999.00,    39.8,2, -999.00,9,     -999.0,1,  -999.0,1, 20170713,     1052, -30.0799, 166.0665,        0.0,1,      0.061,1,      4.704,1,      0.145,1,      24.93,     -999.0,1,     -999.0,1,     -999.0,9,     -999.0,9,     2.6168,2,     -999.0,9
320620170703,        P06,      44,          1,          8,          8,2,20170713,       1200,   -30.0797,   166.0686,       2604,  1719.9,   2.7800,  34.6081,2,  34.6022,2, 153.8354,2, 154.0601,2,    96.7,2,   34.28,2,    0.00,2,    2.39,2,-999.000,9,-999.000,9,-999.0000,9,  2282.0,2, -999.00,9,-999.0000,9, -999.00,9, -999.00,9, -999.00,    37.3,2, -999.00,9,     -999.0,1,  -999.0,1, 20170713,     1055, -30.0799, 166.0667,        0.0,1,      0.061,1,      4.704,1,      0.145,1,     -999.0,     -999.0,1,     -999.0,1,     -999.0,9,     -999.0,9,     2.8319,2,     -999.0,9
320620170703,        P06,      44,          1,          9,         41,2,20170713,       1200,   -30.0797,   166.0686,       2604,  1615.7,   3.0165,  34.5908,2,  34.5842,2, 156.3378,2, 156.3065,2,    90.3,2,   33.90,2,    0.00,2,    2.36,2,   0.121,2,   0.081,2,   0.0000,2,  2274.1,2, 2358.68,2,   7.5811,2, -999.00,9, -999.00,9, -999.00,  -999.0,9, -999.00,9,     -999.0,9,  -999.0,1, 20170713,     1058, -30.0799, 166.0670,        0.0,1,      0.061,1,      4.703,1,      0.146,1,      24.97,     -999.0,1,     -999.0,1,     -999.0,9,     -999.0,9,     3.0812,2,     -999.0,9
320620170703,        P06,      44,          1,         10,         10,2,20170713,       1200,   -30.0797,   166.0686,       2604,  1517.2,   3.4224,  34.5661,2,  34.5600,2, 161.6444,2, 161.6946,2,    80.8,2,   32.95,2,    0.00,2,    2.31,2,-999.000,9,-999.000,9,-999.0000,9,  2261.8,2, -999.00,9,-999.0000,9, -999.00,9, -999.00,9, -999.00,    37.2,2, -999.00,9,     -999.0,1,  -999.0,1, 20170713,     1101, -30.0799, 166.0672,        0.0,1,      0.061,1,      4.702,1,      0.147,1,     -999.0,     -999.0,1,     -999.0,1,     -999.0,9,     -999.0,9,     3.4761,2,     -999.0,9
320620170703,        P06,      44,          1,         11,         42,2,20170713,       1200,   -30.0797,   166.0686,       2604,  1415.3,   3.8278,  34.5372,2,  34.5337,2, 166.3552,2, 166.0659,2,    71.1,2,   32.40,2,    0.00,2,    2.25,2,   0.325,2,   0.195,2,   0.0000,2,  2249.1,2, 2337.47,2,   7.5963,2, -999.00,9, -999.00,9, -999.00,    38.4,2, -999.00,9,     -999.0,1,  -999.0,1, 20170713,     1104, -30.0799, 166.0673,        0.0,1,      0.061,1,      4.703,1,      0.147,1,      24.99,     -999.0,1,     -999.0,1,     -999.0,9,     -999.0,9,     3.8577,2,     -999.0,9
320620170703,        P06,      44,          1,         12,         12,2,20170713,       1200,   -30.0797,   166.0686,       2604,  1313.6,   4.3102,  34.5102,2,  34.5066,2, 173.1089,2, 172.4156,2,    59.6,2,   31.27,2,    0.00,2,    2.17,2,-999.000,9,-999.000,9,-999.0000,9,  2225.3,2, -999.00,9,-999.0000,9, -999.00,9, -999.00,9, -999.00,  -999.0,9, -999.00,9,     -999.0,9,  -999.0,1, 20170713,     1107, -30.0799, 166.0672,        0.0,1,      0.061,1,      4.704,1,      0.141,1,     -999.0,     -999.0,1,     -999.0,1,     -999.0,9,     -999.0,9,     4.3656,2,     -999.0,9
320620170703,        P06,      44,          1,         13,         43,2,20170713,       1200,   -30.0797,   166.0686,       2604,  1210.1,   4.8213,  34.4819,2,  34.4848,2, 180.5505,2, 180.5613,2,    47.0,2,   29.56,2,    0.00,2,    2.07,2,   0.696,2,   0.400,2,   0.2140,2,  2214.0,2, 2316.05,2,   7.6251,2, -999.00,9, -999.00,9, -999.00,    38.5,2, -999.00,9,     -999.0,1,  -999.0,1, 20170713,     1110, -30.0799, 166.0674,        0.0,1,      0.060,1,      4.703,1,      0.145,1,      24.95,     -999.0,1,     -999.0,1,     -999.0,9,     -999.0,9,     5.0007,2,     -999.0,9
320620170703,        P06,      44,          1,         14,         14,2,20170713,       1200,   -30.0797,   166.0686,       2604,  1110.0,   5.4207,  34.4802,2,  34.4779,2, 186.1296,2, 186.0268,2,    38.7,2,   28.48,2,    0.00,2,    1.96,2,-999.000,9,-999.000,9,-999.0000,9,  2202.8,2, -999.00,9,-999.0000,9, -999.00,9, -999.00,9, -999.00,  -999.0,9, -999.00,9,     -999.0,9,  -999.0,1, 20170713,     1113, -30.0799, 166.0677,        0.0,1,      0.061,1,      4.703,1,      0.144,1,     -999.0,     -999.0,1,     -999.0,1,     -999.0,9,     -999.0,9,     5.5194,2,     -999.0,9
320620170703,        P06,      44,          1,         15,         15,2,20170713,       1200,   -30.0797,   166.0686,       2604,  1009.5,   6.0518,  34.4614,2,  34.4591,2, 195.1076,2, 195.5301,2,    27.6,2,   27.19,2,    0.00,2,    1.84,2,   1.245,2,   0.727,2,   0.3630,2,  2185.4,2, 2298.08,6,   7.6562,2, -999.00,9, -999.00,9, -999.00,    38.6,2, -999.00,9,     -999.0,1,  -999.0,1, 20170713,     1116, -30.0799, 166.0679,        0.0,1,      0.060,1,      4.704,1,      0.139,1,      24.94,     -999.0,1,     -999.0,1,     -999.0,9,     -999.0,9,     6.0922,2,     -999.0,9
320620170703,        P06,      44,          1,         16,         16,2,20170713,       1200,   -30.0797,   166.0686,       2604,   909.0,   6.4811,  34.4399,2,  34.4373,2, 206.8271,2, 206.5899,2,    18.5,2,   25.47,2,    0.00,2,    1.73,2,-999.000,9,-999.000,9,-999.0000,9,  2170.1,2, -999.00,9,-999.0000,9, -999.00,9, -999.00,9, -999.00,    41.6,2, -999.00,9,     -999.0,1,  -999.0,1, 20170713,     1120, -30.0799, 166.0677,        0.0,1,      0.060,1,      4.704,1,      0.135,1,     -999.0,     -999.0,1,     -999.0,1,     -999.0,9,     -999.0,9,     6.5690,2,     -999.0,9
320620170703,        P06,      44,          1,         17,         17,2,20170713,       1200,   -30.0797,   166.0686,       2604,   805.6,   7.3752,  34.4892,2,  34.4932,2, 208.1880,2, 209.4575,2,    12.7,2,   23.13,2,    0.00,2,    1.56,2,   2.132,2,   1.154,2,   0.4570,2,  2158.1,6, 2291.95,2,   7.6964,2, -999.00,9, -999.00,9, -999.00,    40.5,2, -999.00,9,     -999.0,1,  -999.0,1, 20170713,     1123, -30.0799, 166.0677,        0.0,1,      0.060,1,      4.703,1,      0.142,1,      25.08,     -999.0,1,     -999.0,1,     -999.0,9,     -999.0,9,     7.5112,2,     -999.0,9
320620170703,        P06,      44,          1,         18,         18,2,20170713,       1200,   -30.0797,   166.0686,       2604,   705.7,   8.3441,  34.5702,2,  34.5865,2, 206.8193,2, 206.0964,2,     9.5,2,   20.97,2,    0.00,2,    1.41,2,-999.000,9,-999.000,9,-999.0000,9,  2150.6,2, -999.00,9,-999.0000,9, -999.00,9, -999.00,9, -999.00,    49.1,3, -999.00,9,     -999.0,1,  -999.0,1, 20170713,     1126, -30.0799, 166.0676,        0.0,1,      0.059,1,      4.702,1,      0.137,1,     -999.0,     -999.0,1,     -999.0,1,     -999.0,9,     -999.0,9,     8.5161,2,     -999.0,9
320620170703,        P06,      44,          1,         19,         19,2,20170713,       1200,   -30.0797,   166.0686,       2604,   606.2,   9.7919,  34.7297,2,  34.7372,2, 200.5719,2, 200.6663,2,     7.2,2,   18.32,2,    0.00,2,    1.24,2,   2.435,2,   1.375,2,   0.6830,2,  2146.1,2, 2297.30,2,   7.7408,2, -999.00,9, -999.00,9, -999.00,    45.1,3, -999.00,9,     -999.0,1,  -999.0,1, 20170713,     1129, -30.0799, 166.0677,        0.0,1,      0.059,1,      4.699,1,      0.141,1,      25.00,     -999.0,1,     -999.0,1,     -999.0,9,     -999.0,9,     9.8668,2,     -999.0,9
320620170703,        P06,      44,          1,         20,         20,2,20170713,       1200,   -30.0797,   166.0686,       2604,   503.8,  12.2947,  35.0374,2,  35.0604,2, 195.5987,2, 195.2874,2,     4.4,2,   13.15,2,    0.00,2,    0.91,2,-999.000,9,-999.000,9,-999.0000,9,  2130.0,2, -999.00,9,-999.0000,9, -999.00,9, -999.00,9, -999.00,    43.1,2, -999.00,9,     -999.0,1,  -999.0,1, 20170713,     1132, -30.0799, 166.0677,        0.0,1,      0.060,1,      4.696,1,      0.142,1,     -999.0,     -999.0,1,     -999.0,1,     -999.0,9,     -999.0,9,    12.5221,2,     -999.0,9
320620170703,        P06,      44,          1,         21,         21,2,20170713,       1200,   -30.0797,   166.0686,       2604,   453.3,  13.2735,  35.1443,2,  35.2050,2, 195.7720,2, 195.8371,2,     3.4,2,   10.98,2,    0.00,2,    0.77,2,   2.265,2,   1.398,2,   0.9060,2,  2121.7,2, 2316.94,2,   7.8319,2, -999.00,9, -999.00,9, -999.00,  -999.0,9, -999.00,9,     -999.0,9,  -999.0,1, 20170713,     1134, -30.0799, 166.0678,        0.0,1,      0.060,1,      4.695,1,      0.146,1,      24.99,     -999.0,1,     -999.0,1,     -999.0,9,     -999.0,9,    13.7507,2,     -999.0,9
320620170703,        P06,      44,          1,         22,         22,2,20170713,       1200,   -30.0797,   166.0686,       2604,   402.2,  14.5627,  35.2919,2,  35.3409,2, 195.4876,2, 195.3804,2,     2.5,2,    8.80,2,    0.00,2,    0.62,2,-999.000,9,-999.000,9,-999.0000,9,  2112.4,2, -999.00,9,-999.0000,9, -999.00,9, -999.00,9, -999.00,    48.9,2, -999.00,9,     -999.0,1,  -999.0,1, 20170713,     1136, -30.0799, 166.0678,        0.0,1,      0.060,1,      4.695,1,      0.142,1,     -999.0,     -999.0,1,     -999.0,1,     -999.0,9,     -999.0,9,    15.0155,2,     -999.0,9
320620170703,        P06,      44,          1,         23,         23,2,20170713,       1200,   -30.0797,   166.0686,       2604,   352.0,  15.7648,  35.4154,2,  35.4387,2, 196.5504,2, 196.3557,2,     2.0,2,    7.02,2,    0.00,2,    0.52,2,   2.160,2,   1.370,2,   1.0040,2,  2102.4,6, 2329.24,2,   7.8915,2, -999.00,9, -999.00,9, -999.00,  -999.0,9, -999.00,9,     -999.0,9,  -999.0,1, 20170713,     1138, -30.0799, 166.0680,        0.0,1,      0.060,1,      4.694,1,      0.140,1,      24.98,     -999.0,1,     -999.0,1,     -999.0,9,     -999.0,9,    16.0337,2,       0.54,2
320620170703,        P06,      44,          1,         24,         24,2,20170713,       1200,   -30.0797,   166.0686,       2604,   300.6,  17.0387,  35.5392,2,  35.5377,2, 197.4469,2, 196.4399,2,     1.5,2,    5.69,2,    0.00,2,    0.43,2,-999.000,9,-999.000,9,-999.0000,9,  2094.4,2, -999.00,9,-999.0000,9, -999.00,9, -999.00,9, -999.00,    49.3,2, -999.00,9,     -999.0,1,  -999.0,1, 20170713,     1140, -30.0799, 166.0681,        0.0,1,      0.058,1,      4.693,1,      0.143,1,     -999.0,     -999.0,1,     -999.0,1,     -999.0,9,     -999.0,9,    17.0687,2,       0.57,2
320620170703,        P06,      44,          1,         25,         25,2,20170713,       1200,   -30.0797,   166.0686,       2604,   250.0,  18.0688,  35.6289,2,  35.6212,2, 194.9668,2, 196.7900,2,     1.2,2,    4.89,2,    0.02,2,    0.38,2,   1.964,2,   1.288,2,   1.0400,2,  2087.7,2, 2334.54,2,   7.9373,2, -999.00,9, -999.00,9, -999.00,    49.1,2,    7.90,2,     -999.0,1,  -999.0,1, 20170713,     1142, -30.0798, 166.0682,        0.0,1,      0.060,1,      4.689,1,      0.147,1,      24.96,     -999.0,1,     -999.0,1,     -999.0,9,     -999.0,9,    18.0546,2,       0.48,2
320620170703,        P06,      44,          1,         26,         26,2,20170713,       1200,   -30.0797,   166.0686,       2604,   226.3,  18.5783,  35.6498,2,  35.6409,2, 192.8715,2, 192.9760,2,     1.1,2,    4.59,2,    0.02,2,    0.35,2,-999.000,9,-999.000,9,-999.0000,9,  2084.5,2, -999.00,9,-999.0000,9, -999.00,9, -999.00,9, -999.00,  -999.0,9, -999.00,9,     -999.0,9,  -999.0,1, 20170713,     1144, -30.0798, 166.0684,        0.0,1,      0.061,1,      4.685,1,      0.152,1,     -999.0,     -999.0,1,     -999.0,1,     -999.0,9,     -999.0,9,    18.4818,2,       0.42,2
320620170703,        P06,      44,          1,         27,         27,2,20170713,       1200,   -30.0797,   166.0686,       2604,   198.9,  19.6935,  35.7989,2,  35.6960,2, 197.2406,2, 197.9204,2,     1.1,2,    3.37,2,    0.03,2,    0.29,2,   1.889,2,   1.240,2,   1.1070,2,  2076.6,2, 2341.49,2,   7.9640,2, -999.00,9, -999.00,9, -999.00,    50.6,2,    6.20,2,     -999.0,1,  -999.0,1, 20170713,     1146, -30.0798, 166.0685,        0.0,1,      0.124,1,      4.652,1,      0.185,1,      24.97,     -999.0,1,     -999.0,1,     -999.0,9,     -999.0,9,    19.0911,2,       0.38,2
320620170703,        P06,      44,          1,         28,         28,2,20170713,       1200,   -30.0797,   166.0686,       2604,   174.5,  19.8684,  35.8342,2,  35.8264,2, 218.6884,2, 219.1628,2,     0.3,2,    0.50,2,    0.14,2,    0.10,2,-999.000,9,-999.000,9,-999.0000,9,  2056.0,2, -999.00,9,-999.0000,9, -999.00,9, -999.00,9, -999.00,    57.2,2,    4.50,2,     -999.0,1,  -999.0,1, 20170713,     1148, -30.0797, 166.0688,        0.0,1,      0.153,1,      4.638,1,      0.202,1,     -999.0,     -999.0,1,     -999.0,1,     -999.0,9,     -999.0,9,    19.8397,2,       0.21,2
320620170703,        P06,      44,          1,         29,         29,2,20170713,       1200,   -30.0797,   166.0686,       2604,   151.6,  19.8641,  35.8342,2,  35.8345,2, 221.6602,2, 220.4365,2,     0.4,2,    0.32,2,    0.15,2,    0.09,2,   1.779,2,   1.192,2,   1.0480,2,  2053.3,2, 2360.16,2,   8.0161,2, -999.00,9, -999.00,9, -999.00,    56.6,2,    4.70,2,     -999.0,1,  -999.0,1, 20170713,     1149, -30.0797, 166.0689,        0.0,1,      0.155,1,      4.637,1,      0.194,1,      24.96,     -999.0,1,     -999.0,1,     -999.0,9,     -999.0,9,    19.8807,2,       0.21,2
320620170703,        P06,      44,          1,         30,         30,2,20170713,       1200,   -30.0797,   166.0686,       2604,   125.1,  19.8609,  35.8342,2,  35.8350,2, 221.3372,2, 220.4186,2,     0.3,2,    0.32,2,    0.15,2,    0.09,2,-999.000,9,-999.000,9,-999.0000,9,  2056.4,2, -999.00,9,-999.0000,9, -999.00,9, -999.00,9, -999.00,    56.8,2,    5.20,2,     -999.0,1,  -999.0,1, 20170713,     1152, -30.0797, 166.0688,        0.0,1,      0.150,1,      4.637,1,      0.204,1,     -999.0,     -999.0,1,     -999.0,1,     -999.0,9,     -999.0,9,    19.8759,2,       0.22,2
320620170703,        P06,      44,          1,         31,         31,2,20170713,       1200,   -30.0797,   166.0686,       2604,   100.3,  19.8507,  35.8340,2,  35.8366,2, 221.6602,2, 220.3161,2,     0.4,2,    0.34,2,    0.15,2,    0.10,2,   1.761,2,   1.189,2,   1.0170,2,  2054.7,2, 2342.51,3,   8.0161,2, -999.00,9, -999.00,9, -999.00,    56.7,2,    4.60,2,     -999.0,1,  -999.0,1, 20170713,     1153, -30.0797, 166.0686,        0.0,1,      0.150,1,      4.639,1,      0.200,1,      25.02,     -999.0,1,     -999.0,1,     -999.0,9,     -999.0,9,    19.8696,2,       0.21,2
320620170703,        P06,      44,          1,         32,         32,2,20170713,       1200,   -30.0797,   166.0686,       2604,    75.9,  19.8493,  35.8342,2,  35.8348,2, 222.0295,2, 220.5655,2,     0.4,2,    0.32,2,    0.15,2,    0.10,2,-999.000,9,-999.000,9,-999.0000,9,  2054.5,2, -999.00,9,-999.0000,9, -999.00,9, -999.00,9, -999.00,    57.0,2,    5.10,2,     -999.0,1,  -999.0,1, 20170713,     1155, -30.0797, 166.0685,        0.0,1,      0.151,1,      4.638,1,      0.200,1,     -999.0,     -999.0,1,     -999.0,1,     -999.0,9,     -999.0,9,    19.8638,2,       0.19,2