BOTTLE,20230922CCHSIOCBG
EXPOCODE,SECT_ID,STNNBR,CASTNO,SAMPNO,BTLNBR,BTLNBR_FLAG_W,DATE,TIME,LATITUDE,LONGITUDE,DEPTH,CTDPRS,CTDTMP,CTDSAL,CTDSAL_FLAG_W,SALNTY,SALNTY_FLAG_W,CTDOXY,CTDOXY_FLAG_W,OXYGEN,OXYGEN_FLAG_W,SILCAT,SILCAT_FLAG_W,NITRAT,NITRAT_FLAG_W,NITRIT,NITRIT_FLAG_W,PHSPHT,PHSPHT_FLAG_W,CFC-11,CFC-11_FLAG_W,CFC-12,CFC-12_FLAG_W,SF6,SF6_FLAG_W,TCARBN,TCARBN_FLAG_W,ALKALI,ALKALI_FLAG_W,PH_TOT,PH_TOT_FLAG_W,DELC13,DELC13_FLAG_W,DELC14,DELC14_FLAG_W,C14ERR,DOC,DOC_FLAG_W,TDN,TDN_FLAG_W,TON,TON_FLAG_W,D15N_NO3,D15N_NO3_FLAG_W,BTL_DATE,BTL_TIME,BTL_LAT,BTL_LON,CTDRINKO,CTDRINKO_FLAG_W,CTDFLUOR,CTDFLUOR_FLAG_W,CTDXMISS,CTDXMISS_FLAG_W,CTDBACKSCATTER,CTDBACKSCATTER_FLAG_W,PH_TMP,D18O_NO3,D18O_NO3_FLAG_W,DOP,DOP_FLAG_W,HPLC,HPLC_FLAG_W,POC,POC_FLAG_W,REFTMP,REFTMP_FLAG_W,TDP,TDP_FLAG_W
,,,,,,,,,,,METERS,DBAR,ITS-90,PSS-78,,PSS-78,,UMOL/KG,,UMOL/KG,,UMOL/KG,,UMOL/KG,,UMOL/KG,,UMOL/KG,,PMOL/KG,,PMOL/KG,,FMOL/KG,,UMOL/KG,,UMOL/KG,,,,/MILLE,,/MILLE,,/MILLE,UMOL/KG,,UMOL/KG,,UMOL/KG,,/MILLE,,,,,,VOLTS,,VOLTS,,VOLTS,,VOLTS,,DEGC,/MILLE,,UMOL/KG,,,,UG/L,,ITS-90,,UMOL/KG,
320620170703,        P06,      53,          1,         33,         33,2,20170715,       0246,   -30.0801,   168.4993,       3342,    74.6,  19.6152,  35.8571,2,  35.8591,2, 221.9406,2, 227.6104,3,     0.3,2,    0.42,2,    0.10,2,    0.10,2,   1.818,2,   1.127,2,   1.0750,2,  2060.0,2, 2342.02,6,   8.0091,2, -999.00,9, -999.00,9, -999.00,    58.2,2,    4.70,2,     -999.0,1,  -999.0,9, 20170715,      241, -30.0800, 168.4995,        0.0,1,      0.166,1,      4.627,1,      0.211,1,      25.01,     -999.0,9,     -999.0,9,     -999.0,9,     -999.0,9,    19.6202,2,     -999.0,9
320620170703,        P06,      53,          1,         34,         34,2,20170715,       0246,   -30.0801,   168.4993,       3342,    49.1,  19.6118,  35.8567,2,  35.8591,2, 221.5847,2, 222.3633,2,     0.3,2,    0.41,2,    0.09,2,    0.10,2,   1.796,2,   1.130,2,   1.0760,2,  -999.0,9, -999.00,9,-999.0000,9, -999.00,9, -999.00,9, -999.00,    59.4,2,    5.30,2,     -999.0,1,  -999.0,9, 20170715,      243, -30.0800, 168.4994,        0.0,1,      0.175,1,      4.627,1,      0.212,1,     -999.0,     -999.0,9,     -999.0,9,     -999.0,9,     -999.0,9,    19.6178,2,     -999.0,9
320620170703,        P06,      53,          1,         35,         35,2,20170715,       0246,   -30.0801,   168.4993,       3342,    25.3,  19.6121,  35.8568,2,  35.8586,2, 222.7221,2, 222.6661,2,     0.3,2,    0.42,2,    0.09,2,    0.10,2,   1.817,2,   1.133,2,   1.0830,2,  2058.8,2, 2342.32,2,   8.0099,2, -999.00,9, -999.00,9, -999.00,    58.0,2,    4.20,2,     -999.0,1,  -999.0,9, 20170715,      244, -30.0801, 168.4994,        0.0,1,      0.163,1,      4.625,1,      0.210,1,      25.02,     -999.0,9,     -999.0,9,     -999.0,9,     -999.0,9,    19.6181,2,     -999.0,9
320620170703,        P06,      53,          1,         36,         36,2,20170715,       0246,   -30.0801,   168.4993,       3342,     4.2,  19.6229,  35.8571,2,  35.8582,2, 221.4184,2, 222.5691,2,     0.4,2,    0.45,2,    0.09,2,    0.12,2,   1.825,2,   1.130,2,   1.0810,2,  2060.6,6, 2341.89,2,   8.0098,2, -999.00,9, -999.00,9, -999.00,    58.7,2,    4.50,2,     -999.0,1,  -999.0,9, 20170715,      246, -30.0801, 168.4993,        0.0,1,      0.105,1,      4.623,1,      0.208,1,      25.00,     -999.0,9,     -999.0,9,     -999.0,9,     -999.0,9,    19.6520,2,     -999.0,9