BOTTLE,20230922CCHSIOCBG
EXPOCODE,SECT_ID,STNNBR,CASTNO,SAMPNO,BTLNBR,BTLNBR_FLAG_W,DATE,TIME,LATITUDE,LONGITUDE,DEPTH,CTDPRS,CTDTMP,CTDSAL,CTDSAL_FLAG_W,SALNTY,SALNTY_FLAG_W,CTDOXY,CTDOXY_FLAG_W,OXYGEN,OXYGEN_FLAG_W,SILCAT,SILCAT_FLAG_W,NITRAT,NITRAT_FLAG_W,NITRIT,NITRIT_FLAG_W,PHSPHT,PHSPHT_FLAG_W,CFC-11,CFC-11_FLAG_W,CFC-12,CFC-12_FLAG_W,SF6,SF6_FLAG_W,TCARBN,TCARBN_FLAG_W,ALKALI,ALKALI_FLAG_W,PH_TOT,PH_TOT_FLAG_W,DELC13,DELC13_FLAG_W,DELC14,DELC14_FLAG_W,C14ERR,DOC,DOC_FLAG_W,TDN,TDN_FLAG_W,TON,TON_FLAG_W,D15N_NO3,D15N_NO3_FLAG_W,BTL_DATE,BTL_TIME,BTL_LAT,BTL_LON,CTDRINKO,CTDRINKO_FLAG_W,CTDFLUOR,CTDFLUOR_FLAG_W,CTDXMISS,CTDXMISS_FLAG_W,CTDBACKSCATTER,CTDBACKSCATTER_FLAG_W,PH_TMP,D18O_NO3,D18O_NO3_FLAG_W,DOP,DOP_FLAG_W,HPLC,HPLC_FLAG_W,POC,POC_FLAG_W,REFTMP,REFTMP_FLAG_W,TDP,TDP_FLAG_W
,,,,,,,,,,,METERS,DBAR,ITS-90,PSS-78,,PSS-78,,UMOL/KG,,UMOL/KG,,UMOL/KG,,UMOL/KG,,UMOL/KG,,UMOL/KG,,PMOL/KG,,PMOL/KG,,FMOL/KG,,UMOL/KG,,UMOL/KG,,,,/MILLE,,/MILLE,,/MILLE,UMOL/KG,,UMOL/KG,,UMOL/KG,,/MILLE,,,,,,VOLTS,,VOLTS,,VOLTS,,VOLTS,,DEGC,/MILLE,,UMOL/KG,,,,UG/L,,ITS-90,,UMOL/KG,
320620170703,        P06,      88,          1,          1,          1,2,20170726,       0047,   -32.5000,  -178.9095,       2004,  2020.5,   2.3903,  34.6228,2,  34.6233,2, 154.1321,2, 154.0929,2,   108.5,2,   35.05,2,    0.00,2,    2.48,2,   0.079,2,   0.044,2,   0.0000,2,  2294.5,6, 2382.50,2,   7.5757,2, -999.00,9, -999.00,9, -999.00,    40.9,2, -999.00,9,     -999.0,1,  -999.0,9, 20170725,     2332, -32.5003,-178.9092,        0.0,1,      0.061,1,      4.698,1,      0.147,1,      25.00,     -999.0,9,     -999.0,9,     -999.0,9,     -999.0,9,     2.3911,2,     -999.0,9
320620170703,        P06,      88,          1,          2,          2,2,20170726,       0047,   -32.5000,  -178.9095,       2004,  1937.0,   2.4524,  34.6160,2,  34.6154,2, 154.3529,2, 154.3773,2,   105.9,2,   34.91,2,    0.00,2,    2.45,2,-999.000,9,-999.000,9,-999.0000,9,  -999.0,9, -999.00,9,-999.0000,9, -999.00,9, -999.00,9, -999.00,    36.2,2, -999.00,9,     -999.0,1,  -999.0,9, 20170725,     2334, -32.5003,-178.9092,        0.0,1,      0.062,1,      4.700,1,      0.143,1,     -999.0,     -999.0,9,     -999.0,9,     -999.0,9,     -999.0,9,     2.4539,2,     -999.0,9
320620170703,        P06,      88,          1,          3,          3,2,20170726,       0047,   -32.5000,  -178.9095,       2004,  1856.5,   2.5354,  34.6062,2,  34.6052,2, 155.4409,2, 155.4237,2,   102.5,2,   34.77,2,    0.00,2,    2.44,2,   0.090,2,   0.056,2,   0.0000,2,  2288.2,2, 2377.82,2,   7.5757,2, -999.00,9, -999.00,9, -999.00,    41.7,2, -999.00,9,     -999.0,1,  -999.0,9, 20170725,     2337, -32.5004,-178.9091,        0.0,1,      0.061,1,      4.701,1,      0.145,1,      25.00,     -999.0,9,     -999.0,9,     -999.0,9,     -999.0,9,     2.5429,2,     -999.0,9
320620170703,        P06,      88,          1,          4,          4,2,20170726,       0047,   -32.5000,  -178.9095,       2004,  1754.8,   2.6419,  34.5903,2,  34.5906,2, 156.8633,2, 157.0305,2,    98.4,2,   34.62,2,    0.00,2,    2.42,2,-999.000,9,-999.000,9,-999.0000,9,  -999.0,9, -999.00,9,-999.0000,9, -999.00,9, -999.00,9, -999.00,  -999.0,9, -999.00,9,     -999.0,9,  -999.0,9, 20170725,     2340, -32.5004,-178.9091,        0.0,1,      0.061,1,      4.699,1,      0.147,1,     -999.0,     -999.0,9,     -999.0,9,     -999.0,9,     -999.0,9,     2.6316,2,     -999.0,9
320620170703,        P06,      88,          1,          5,          5,2,20170726,       0047,   -32.5000,  -178.9095,       2004,  1653.7,   2.7714,  34.5624,2,  34.5692,2, 158.2991,2, 158.5227,2,    90.9,2,   34.64,2,    0.00,2,    2.43,2,-999.000,9,-999.000,9,-999.0000,9,  -999.0,9, -999.00,9,-999.0000,9, -999.00,9, -999.00,9, -999.00,    41.9,2, -999.00,9,     -999.0,1,  -999.0,9, 20170725,     2343, -32.5004,-178.9092,        0.0,1,      0.061,1,      4.702,1,      0.139,1,     -999.0,     -999.0,9,     -999.0,9,     -999.0,9,     -999.0,9,     2.7368,2,     -999.0,9
320620170703,        P06,      88,          1,          6,          6,2,20170726,       0047,   -32.5000,  -178.9095,       2004,  1551.7,   3.0195,  34.5336,2,  34.5421,2, 162.7251,2, 162.0148,2,    82.6,2,   34.31,2,    0.00,2,    2.41,2,   0.114,2,   0.071,2,   0.0000,2,  2266.5,2, 2350.92,2,   7.5752,2, -999.00,9, -999.00,9, -999.00,    37.2,2, -999.00,9,     -999.0,1,  -999.0,9, 20170725,     2346, -32.5005,-178.9091,        0.0,1,      0.061,1,      4.702,1,      0.141,1,      24.99,     -999.0,9,     -999.0,9,     -999.0,9,     -999.0,9,     2.9431,2,     -999.0,9
320620170703,        P06,      88,          1,          7,          7,2,20170726,       0047,   -32.5000,  -178.9095,       2004,  1450.8,   3.2741,  34.5045,2,  34.5107,2, 167.5542,2, 167.6768,2,    74.1,2,   33.76,2,    0.00,2,    2.37,2,-999.000,9,-999.000,9,-999.0000,9,  -999.0,9, -999.00,9,-999.0000,9, -999.00,9, -999.00,9, -999.00,  -999.0,9, -999.00,9,     -999.0,9,  -999.0,9, 20170725,     2349, -32.5006,-178.9091,        0.0,1,      0.060,1,      4.702,1,      0.138,1,     -999.0,     -999.0,9,     -999.0,9,     -999.0,9,     -999.0,9,     3.2224,2,     -999.0,9
320620170703,        P06,      88,          1,          8,          8,2,20170726,       0047,   -32.5000,  -178.9095,       2004,  1348.1,   3.4307,  34.4549,2,  34.4532,2, 174.2611,2, 174.4578,2,    60.4,2,   33.32,2,    0.00,2,    2.34,2,-999.000,9,-999.000,9,-999.0000,9,  -999.0,9, -999.00,9,-999.0000,9, -999.00,9, -999.00,9, -999.00,    35.7,2, -999.00,9,     -999.0,1,  -999.0,9, 20170725,     2352, -32.5006,-178.9091,        0.0,1,      0.060,1,      4.703,1,      0.139,1,     -999.0,     -999.0,9,     -999.0,9,     -999.0,9,     -999.0,9,     3.4738,2,     -999.0,9
320620170703,        P06,      88,          1,          9,          9,2,20170726,       0047,   -32.5000,  -178.9095,       2004,  1246.6,   3.8239,  34.4177,2,  34.4078,3, 182.9124,2, 182.9096,2,    48.7,2,   32.47,2,    0.00,2,    2.26,2,   0.464,2,   0.239,2,   0.0000,2,  2218.7,2, 2311.72,2,   7.5980,2, -999.00,9, -999.00,9, -999.00,    38.7,2, -999.00,9,     -999.0,1,  -999.0,9, 20170725,     2356, -32.5005,-178.9092,        0.0,1,      0.060,1,      4.703,1,      0.147,1,      24.99,     -999.0,9,     -999.0,9,     -999.0,9,     -999.0,9,     3.9088,2,     -999.0,9
320620170703,        P06,      88,          1,         10,         10,2,20170726,       0047,   -32.5000,  -178.9095,       2004,  1145.1,   4.2254,  34.3723,2,  34.3643,2, 192.6017,2, 192.8006,2,    36.5,2,   31.23,2,    0.00,2,    2.15,2,-999.000,9,-999.000,9,-999.0000,9,  -999.0,9, -999.00,9,-999.0000,9, -999.00,9, -999.00,9, -999.00,    42.3,2, -999.00,9,     -999.0,1,  -999.0,9, 20170725,     2359, -32.5004,-178.9092,        0.0,1,      0.061,1,      4.703,1,      0.138,1,     -999.0,     -999.0,9,     -999.0,9,     -999.0,9,     -999.0,9,     4.4142,2,     -999.0,9
320620170703,        P06,      88,          1,         11,         11,2,20170726,       0047,   -32.5000,  -178.9095,       2004,  1044.3,   4.8367,  34.3559,2,  34.3496,2, 201.4020,2, 201.3709,2,    28.0,2,   29.66,2,    0.00,2,    2.02,2,-999.000,9,-999.000,9,-999.0000,9,  -999.0,9, -999.00,9,-999.0000,9, -999.00,9, -999.00,9, -999.00,    45.4,3, -999.00,9,     -999.0,1,  -999.0,9, 20170726,        2, -32.5003,-178.9093,        0.0,1,      0.059,1,      4.702,1,      0.138,1,     -999.0,     -999.0,9,     -999.0,9,     -999.0,9,     -999.0,9,     4.9663,2,     -999.0,9
320620170703,        P06,      88,          1,         12,         12,2,20170726,       0047,   -32.5000,  -178.9095,       2004,   943.9,   5.3940,  34.3455,2,  34.3456,2, 211.1987,2, 211.1894,2,    20.1,2,   27.70,2,    0.00,2,    1.88,2,   1.670,2,   0.783,2,   0.2130,2,  2173.4,2, 2286.60,2,   7.6590,2, -999.00,9, -999.00,9, -999.00,    41.4,2, -999.00,9,     -999.0,1,  -999.0,9, 20170726,        5, -32.5002,-178.9093,        0.0,1,      0.059,1,      4.702,1,      0.138,1,      25.00,     -999.0,9,     -999.0,9,     -999.0,9,     -999.0,9,     5.5609,2,     -999.0,9
320620170703,        P06,      88,          1,         13,         13,2,20170726,       0047,   -32.5000,  -178.9095,       2004,   841.9,   6.0443,  34.3494,2,  34.3509,2, 220.6310,2, 220.7455,2,    14.3,2,   25.81,2,    0.00,2,    1.76,2,-999.000,9,-999.000,9,-999.0000,9,  2161.5,2, 2282.63,6,   7.6795,2, -999.00,9, -999.00,9, -999.00,    40.3,2, -999.00,9,     -999.0,1,  -999.0,9, 20170726,        8, -32.5001,-178.9094,        0.0,1,      0.059,1,      4.701,1,      0.140,1,      24.99,     -999.0,9,     -999.0,9,     -999.0,9,     -999.0,9,     6.0882,2,     -999.0,9
320620170703,        P06,      88,          1,         14,         14,2,20170726,       0047,   -32.5000,  -178.9095,       2004,   740.3,   6.7951,  34.4059,2,  34.4102,2, 221.4530,2, 220.9027,2,    11.6,2,   23.77,2,    0.00,2,    1.61,2,-999.000,9,-999.000,9,-999.0000,9,  -999.0,9, -999.00,9,-999.0000,9, -999.00,9, -999.00,9, -999.00,    43.4,2, -999.00,9,     -999.0,1,  -999.0,9, 20170726,       11, -32.5000,-178.9094,        0.0,1,      0.058,1,      4.699,1,      0.145,1,     -999.0,     -999.0,9,     -999.0,9,     -999.0,9,     -999.0,9,     6.8525,2,     -999.0,9
320620170703,        P06,      88,          1,         15,         15,2,20170726,       0047,   -32.5000,  -178.9095,       2004,   639.9,   7.6444,  34.4775,2,  34.4575,2, 220.7230,2, 220.8486,2,     9.2,2,   22.28,2,    0.00,2,    1.51,2,   3.059,2,   1.515,2,   0.6330,2,  2153.3,2, 2280.41,2,   7.7048,2, -999.00,9, -999.00,9, -999.00,  -999.0,5, -999.00,9,     -999.0,1,  -999.0,9, 20170726,       14, -32.5001,-178.9094,        0.0,1,      0.060,1,      4.697,1,      0.147,1,      24.99,     -999.0,9,     -999.0,9,     -999.0,9,     -999.0,9,     7.4882,2,     -999.0,9
320620170703,        P06,      88,          1,         16,         16,2,20170726,       0047,   -32.5000,  -178.9095,       2004,   539.4,   8.6395,  34.5938,2,  34.5826,2, 215.5013,2, 215.3976,2,     8.0,2,   20.04,2,    0.00,2,    1.38,2,-999.000,9,-999.000,9,-999.0000,9,  -999.0,9, -999.00,9,-999.0000,9, -999.00,9, -999.00,9, -999.00,    42.1,2, -999.00,9,     -999.0,1,  -999.0,9, 20170726,       17, -32.5001,-178.9095,        0.0,1,      0.061,1,      4.695,1,      0.149,1,     -999.0,     -999.0,9,     -999.0,9,     -999.0,9,     -999.0,9,     8.5414,2,     -999.0,9
320620170703,        P06,      88,          1,         17,         17,2,20170726,       0047,   -32.5000,  -178.9095,       2004,   467.5,   9.4399,  34.6862,2,  34.6582,2, 212.6551,2, 212.8993,2,     7.0,2,   18.65,2,    0.00,2,    1.29,2,-999.000,9,-999.000,9,-999.0000,9,  2144.7,2, 2289.09,2,   7.7368,2, -999.00,9, -999.00,9, -999.00,    43.2,2, -999.00,9,     -999.0,1,  -999.0,9, 20170726,       20, -32.5000,-178.9095,        0.0,1,      0.059,1,      4.694,1,      0.154,1,      24.99,     -999.0,9,     -999.0,9,     -999.0,9,     -999.0,9,     9.2066,2,     -999.0,9
320620170703,        P06,      88,          1,         18,         18,2,20170726,       0047,   -32.5000,  -178.9095,       2004,   417.1,   9.9586,  34.7506,2,  34.7339,2, 211.0160,2, 211.2973,2,     6.3,2,   17.27,2,    0.00,2,    1.19,2,   3.016,2,   1.570,2,   0.9420,2,  2142.7,2, 2291.73,2,   7.7500,2, -999.00,9, -999.00,9, -999.00,    44.8,2, -999.00,9,     -999.0,1,  -999.0,9, 20170726,       22, -32.5000,-178.9095,        0.0,1,      0.059,1,      4.692,1,      0.152,1,      24.98,     -999.0,9,     -999.0,9,     -999.0,9,     -999.0,9,     9.8462,2,     -999.0,9
320620170703,        P06,      88,          1,         19,         19,2,20170726,       0047,   -32.5000,  -178.9095,       2004,   367.0,  11.0545,  34.8823,2,  34.8505,2, 209.6502,2, 209.6665,2,     5.2,2,   15.15,2,    0.00,2,    1.05,2,-999.000,9,-999.000,9,-999.0000,9,  2137.4,2, 6092.00,4,   7.7721,2, -999.00,9, -999.00,9, -999.00,    46.9,2, -999.00,9,     -999.0,1,  -999.0,9, 20170726,       24, -32.5000,-178.9095,        0.0,1,      0.061,1,      4.691,1,      0.157,1,      25.02,     -999.0,9,     -999.0,9,     -999.0,9,     -999.0,9,    10.8303,2,     -999.0,9
320620170703,        P06,      88,          1,         20,         20,2,20170726,       0047,   -32.5000,  -178.9095,       2004,   317.7,  11.5428,  34.9441,2,  34.9410,2, 208.6039,2, 208.7631,2,     4.5,2,   13.56,2,    0.00,2,    0.96,2,-999.000,9,-999.000,9,-999.0000,9,  -999.0,9, -999.00,9,-999.0000,9, -999.00,9, -999.00,9, -999.00,  -999.0,9, -999.00,9,     -999.0,9,  -999.0,9, 20170726,       26, -32.4999,-178.9095,        0.0,1,      0.060,1,      4.691,1,      0.150,1,     -999.0,     -999.0,9,     -999.0,9,     -999.0,9,     -999.0,9,    11.5230,2,     -999.0,9
320620170703,        P06,      88,          1,         21,         21,2,20170726,       0047,   -32.5000,  -178.9095,       2004,   267.4,  12.2533,  35.0334,2,  35.0024,2, 208.0508,2, 207.6678,2,     4.0,2,   12.49,2,    0.00,2,    0.88,2,   2.940,2,   1.576,2,   1.2130,2,  2130.2,2, 2299.88,6,   7.8000,2, -999.00,9, -999.00,9, -999.00,    48.6,2,   14.20,2,     -999.0,1,  -999.0,9, 20170726,       28, -32.5000,-178.9095,        0.0,1,      0.060,1,      4.691,1,      0.148,1,      24.99,     -999.0,9,     -999.0,9,     -999.0,9,     -999.0,9,    12.0246,2,     -999.0,9
320620170703,        P06,      88,          1,         22,         22,2,20170726,       0047,   -32.5000,  -178.9095,       2004,   236.7,  12.6530,  35.0825,2,  35.0734,2, 206.9210,2, 206.7195,2,     3.6,2,   11.44,2,    0.00,2,    0.81,2,-999.000,9,-999.000,9,-999.0000,9,  -999.0,9, -999.00,9,-999.0000,9, -999.00,9, -999.00,9, -999.00,  -999.0,9, -999.00,9,     -999.0,9,  -999.0,9, 20170726,       30, -32.5000,-178.9095,        0.0,1,      0.060,1,      4.690,1,      0.148,1,     -999.0,     -999.0,9,     -999.0,9,     -999.0,9,     -999.0,9,    12.6048,2,     -999.0,9
320620170703,        P06,      88,          1,         23,         23,2,20170726,       0047,   -32.5000,  -178.9095,       2004,   209.8,  13.1125,  35.1378,2,  35.1191,2, 206.6345,2, 206.3682,2,     3.4,2,   10.76,2,    0.00,2,    0.76,2,-999.000,9,-999.000,9,-999.0000,9,  2124.5,2, 2309.57,2,   7.8229,2, -999.00,9, -999.00,9, -999.00,    47.6,2,   11.90,2,     -999.0,1,  -999.0,9, 20170726,       32, -32.4999,-178.9095,        0.0,1,      0.061,1,      4.690,1,      0.148,1,      24.99,     -999.0,9,     -999.0,9,     -999.0,9,     -999.0,9,    12.9809,2,     -999.0,9
320620170703,        P06,      88,          1,         24,         24,2,20170726,       0047,   -32.5000,  -178.9095,       2004,   186.3,  13.4091,  35.1736,2,  35.1740,2, 205.8680,2, 206.6193,2,     3.1,2,    9.95,2,    0.00,2,    0.72,2,   2.827,2,   1.515,2,   1.2630,2,  2120.3,2, 2309.53,2,   7.8339,2, -999.00,9, -999.00,9, -999.00,    46.7,2,   11.60,2,     -999.0,1,  -999.0,9, 20170726,       34, -32.5000,-178.9095,        0.0,1,      0.060,1,      4.689,1,      0.154,1,      24.99,     -999.0,9,     -999.0,9,     -999.0,9,     -999.0,9,    13.3872,2,     -999.0,9
320620170703,        P06,      88,          1,         25,         25,2,20170726,       0047,   -32.5000,  -178.9095,       2004,   161.0,  13.8578,  35.2312,2,  35.2235,2, 207.8566,2, 207.6808,2,     2.9,2,    9.10,2,    0.02,2,    0.66,2,-999.000,9,-999.000,9,-999.0000,9,  2116.2,2, 2312.01,2,   7.8493,2, -999.00,9, -999.00,9, -999.00,    47.4,2,   11.30,2,     -999.0,1,  -999.0,9, 20170726,       35, -32.5001,-178.9095,        0.0,1,      0.062,1,      4.688,1,      0.156,1,      24.99,     -999.0,9,     -999.0,9,     -999.0,9,     -999.0,9,    13.8904,2,     -999.0,9
320620170703,        P06,      88,          1,         26,         26,2,20170726,       0047,   -32.5000,  -178.9095,       2004,   135.9,  14.1997,  35.2650,2,  35.2763,2, 208.0298,2, 208.1411,2,     2.5,2,    8.27,2,    0.02,2,    0.61,2,-999.000,9,-999.000,9,-999.0000,9,  -999.0,9, -999.00,9,-999.0000,9, -999.00,9, -999.00,9, -999.00,  -999.0,9, -999.00,9,     -999.0,9,  -999.0,9, 20170726,       37, -32.5001,-178.9094,        0.0,1,      0.064,1,      4.684,1,      0.152,1,     -999.0,     -999.0,9,     -999.0,9,     -999.0,9,     -999.0,9,    14.3557,2,     -999.0,9
320620170703,        P06,      88,          1,         27,         27,2,20170726,       0047,   -32.5000,  -178.9095,       2004,   110.5,  14.5549,  35.3066,2,  35.3612,2, 208.7536,2, 209.0038,2,     2.2,2,    6.93,2,    0.03,2,    0.53,2,   2.640,2,   1.454,2,   1.2960,2,  2108.4,2, 2321.17,2,   7.8802,2, -999.00,9, -999.00,9, -999.00,    57.5,2,   10.00,2,     -999.0,1,  -999.0,9, 20170726,       39, -32.5002,-178.9094,        0.0,1,      0.066,1,      4.682,1,      0.162,1,      24.99,     -999.0,9,     -999.0,9,     -999.0,9,     -999.0,9,    15.0193,2,     -999.0,9
320620170703,        P06,      88,          1,         28,         28,2,20170726,       0047,   -32.5000,  -178.9095,       2004,    85.5,  15.6376,  35.4363,2,  35.4618,2, 217.4644,2, 216.5673,2,     1.4,2,    4.30,2,    0.08,2,    0.38,2,-999.000,9,-999.000,9,-999.0000,9,  -999.0,9, -999.00,9,-999.0000,9, -999.00,9, -999.00,9, -999.00,    56.7,2,    8.10,2,     -999.0,1,  -999.0,9, 20170726,       41, -32.5002,-178.9094,        0.0,1,      0.084,1,      4.669,1,      0.190,1,     -999.0,     -999.0,9,     -999.0,9,     -999.0,9,     -999.0,9,    15.9109,2,     -999.0,9
320620170703,        P06,      88,          1,         29,         29,2,20170726,       0047,   -32.5000,  -178.9095,       2004,    60.1,  16.3803,  35.5211,2,  35.5608,2, 231.8628,3, 229.0081,2,     0.8,2,    1.57,2,    0.18,2,    0.21,2,   2.494,2,   1.384,2,   1.4760,2,  2079.9,2, 2332.28,2,   7.9534,2, -999.00,9, -999.00,9, -999.00,    60.7,2,    5.50,2,     -999.0,1,  -999.0,9, 20170726,       43, -32.5001,-178.9094,        0.0,1,      0.094,1,      4.661,1,      0.187,1,      24.99,     -999.0,9,     -999.0,9,     -999.0,9,     -999.0,9,    16.6920,2,     -999.0,9
320620170703,        P06,      88,          1,         30,         30,2,20170726,       0047,   -32.5000,  -178.9095,       2004,    35.5,  16.8495,  35.5802,2,  35.6015,2, 235.0923,2, 234.3804,2,     0.6,2,    0.88,2,    0.14,2,    0.17,2,-999.000,9,-999.000,9,-999.0000,9,  -999.0,9, -999.00,9,-999.0000,9, -999.00,9, -999.00,9, -999.00,    55.6,3,    5.00,2,     -999.0,1,  -999.0,9, 20170726,       45, -32.5000,-178.9095,        0.0,1,      0.152,1,      4.622,1,      0.233,1,     -999.0,     -999.0,9,     -999.0,9,     -999.0,9,     -999.0,9,    17.0139,2,     -999.0,9
320620170703,        P06,      88,          1,         31,         31,2,20170726,       0047,   -32.5000,  -178.9095,       2004,     4.5,  16.9669,  35.5958,2,  35.6017,2, 233.1727,3, 235.5785,2,     0.6,2,    0.81,2,    0.13,2,    0.16,2,   2.462,2,   1.355,2,   1.4110,2,  2071.8,6, 2333.39,2,   7.9698,2, -999.00,9, -999.00,9, -999.00,    59.0,2,    4.90,2,     -999.0,1,  -999.0,9, 20170726,       47, -32.5000,-178.9095,        0.0,1,      0.120,1,      4.571,1,      0.260,1,      25.00,     -999.0,9,     -999.0,9,     -999.0,9,     -999.0,9,    17.0472,2,     -999.0,9