BOTTLE,20230922CCHSIOCBG
EXPOCODE,SECT_ID,STNNBR,CASTNO,SAMPNO,BTLNBR,BTLNBR_FLAG_W,DATE,TIME,LATITUDE,LONGITUDE,DEPTH,CTDPRS,CTDTMP,CTDSAL,CTDSAL_FLAG_W,SALNTY,SALNTY_FLAG_W,CTDOXY,CTDOXY_FLAG_W,OXYGEN,OXYGEN_FLAG_W,SILCAT,SILCAT_FLAG_W,NITRAT,NITRAT_FLAG_W,NITRIT,NITRIT_FLAG_W,PHSPHT,PHSPHT_FLAG_W,CFC-11,CFC-11_FLAG_W,CFC-12,CFC-12_FLAG_W,SF6,SF6_FLAG_W,TCARBN,TCARBN_FLAG_W,ALKALI,ALKALI_FLAG_W,PH_TOT,PH_TOT_FLAG_W,DELC13,DELC13_FLAG_W,DELC14,DELC14_FLAG_W,C14ERR,DOC,DOC_FLAG_W,TDN,TDN_FLAG_W,TON,TON_FLAG_W,D15N_NO3,D15N_NO3_FLAG_W,BTL_DATE,BTL_TIME,BTL_LAT,BTL_LON,CTDRINKO,CTDRINKO_FLAG_W,CTDFLUOR,CTDFLUOR_FLAG_W,CTDXMISS,CTDXMISS_FLAG_W,CTDBACKSCATTER,CTDBACKSCATTER_FLAG_W,PH_TMP,D18O_NO3,D18O_NO3_FLAG_W,DOP,DOP_FLAG_W,HPLC,HPLC_FLAG_W,POC,POC_FLAG_W,REFTMP,REFTMP_FLAG_W,TDP,TDP_FLAG_W
,,,,,,,,,,,METERS,DBAR,ITS-90,PSS-78,,PSS-78,,UMOL/KG,,UMOL/KG,,UMOL/KG,,UMOL/KG,,UMOL/KG,,UMOL/KG,,PMOL/KG,,PMOL/KG,,FMOL/KG,,UMOL/KG,,UMOL/KG,,,,/MILLE,,/MILLE,,/MILLE,UMOL/KG,,UMOL/KG,,UMOL/KG,,/MILLE,,,,,,VOLTS,,VOLTS,,VOLTS,,VOLTS,,DEGC,/MILLE,,UMOL/KG,,,,UG/L,,ITS-90,,UMOL/KG,
320620170703,        P06,      26,          1,          1,         37,2,20170710,       0124,   -30.3299,   159.0796,       2344,  2366.4,   2.0034,  34.7025,2,  34.7064,2, 177.3278,2, 178.4973,2,    97.2,2,   32.63,2,    0.00,2,    2.26,2,   0.031,2,   0.030,2,   0.0000,2,  2268.6,6, 2363.57,2,   7.5927,2, -999.00,9, -999.00,9, -999.00,  -999.0,9, -999.00,9,     -999.0,9,  -999.0,9, 20170709,     2356, -30.3300, 159.0799,        0.0,1,      0.062,1,      4.704,1,      0.148,1,      25.00,     -999.0,9,     -999.0,9,     -999.0,9,     -999.0,9,     2.0033,2,     -999.0,9
320620170703,        P06,      26,          1,          2,          2,2,20170710,       0124,   -30.3299,   159.0796,       2344,  2298.2,   2.0768,  34.6966,2,  34.6962,2, 176.1318,2, 175.1881,2,    96.4,2,   32.81,2,    0.00,2,    2.27,2,-999.000,9,-999.000,9,-999.0000,9,  2269.2,2, 2370.66,2,   7.5903,3, -999.00,9, -999.00,9, -999.00,  -999.0,9, -999.00,9,     -999.0,9,  -999.0,9, 20170709,     2359, -30.3300, 159.0799,        0.0,1,      0.062,1,      4.706,1,      0.140,1,      25.00,     -999.0,9,     -999.0,9,     -999.0,9,     -999.0,9,     2.0738,2,     -999.0,9
320620170703,        P06,      26,          1,          3,         38,2,20170710,       0124,   -30.3299,   159.0796,       2344,  2227.1,   2.1678,  34.6871,2,  34.6865,2, 172.4521,2, 171.9908,2,    95.5,2,   33.07,2,    0.00,2,    2.28,2,   0.030,2,   0.033,2,   0.0000,2,  2268.8,2, 2364.79,2,   7.5860,2, -999.00,9, -999.00,9, -999.00,  -999.0,9, -999.00,9,     -999.0,9,  -999.0,9, 20170710,        2, -30.3300, 159.0798,        0.0,1,      0.061,1,      4.706,1,      0.140,1,      25.01,     -999.0,9,     -999.0,9,     -999.0,9,     -999.0,9,     2.1682,2,     -999.0,9
320620170703,        P06,      26,          1,          4,          4,2,20170710,       0124,   -30.3299,   159.0796,       2344,  2023.4,   2.3489,  34.6610,2,  34.6598,2, 163.6463,2, 163.5805,2,    96.5,2,   33.72,2,    0.00,2,    2.34,2,-999.000,9,-999.000,9,-999.0000,9,  2275.7,2, 2364.50,6,   7.5775,2, -999.00,9, -999.00,9, -999.00,  -999.0,9, -999.00,9,     -999.0,9,  -999.0,9, 20170710,        7, -30.3299, 159.0796,        0.0,1,      0.062,1,      4.706,1,      0.139,1,      25.01,     -999.0,9,     -999.0,9,     -999.0,9,     -999.0,9,     2.3493,2,     -999.0,9
320620170703,        P06,      26,          1,          5,         39,2,20170710,       0124,   -30.3299,   159.0796,       2344,  1923.0,   2.4455,  34.6473,2,  34.6482,2, 159.5542,2, 159.6341,2,    97.1,2,   34.13,2,    0.00,2,    2.37,2,   0.032,2,   0.036,2,   0.0000,2,  2278.0,2, 2358.94,2,   7.5750,2, -999.00,9, -999.00,9, -999.00,  -999.0,9, -999.00,9,     -999.0,9,  -999.0,9, 20170710,       11, -30.3299, 159.0796,        0.0,1,      0.061,1,      4.706,1,      0.142,1,      25.00,     -999.0,9,     -999.0,9,     -999.0,9,     -999.0,9,     2.4361,2,     -999.0,9
320620170703,        P06,      26,          1,          6,          6,2,20170710,       0124,   -30.3299,   159.0796,       2344,  1820.8,   2.5545,  34.6330,2,  34.6109,2, 155.8600,2, 156.1746,2,    97.5,2,   34.47,2,    0.00,2,    2.39,2,-999.000,9,-999.000,9,-999.0000,9,  2279.8,2, 2371.49,2,   7.5721,2, -999.00,9, -999.00,9, -999.00,  -999.0,9, -999.00,9,     -999.0,9,  -999.0,9, 20170710,       14, -30.3300, 159.0798,        0.0,1,      0.061,1,      4.706,1,      0.139,1,      25.00,     -999.0,9,     -999.0,9,     -999.0,9,     -999.0,9,     2.5509,2,     -999.0,9
320620170703,        P06,      26,          1,          7,         40,2,20170710,       0124,   -30.3299,   159.0796,       2344,  1719.6,   2.7307,  34.6133,2,  34.5873,2, 153.3327,2, 153.3620,2,    95.1,2,   34.62,2,    0.00,2,    2.41,2,   0.034,2,   0.038,2,   0.0000,2,  2278.6,2, 2363.00,2,   7.5706,2, -999.00,9, -999.00,9, -999.00,  -999.0,9, -999.00,9,     -999.0,9,  -999.0,9, 20170710,       17, -30.3300, 159.0799,        0.0,1,      0.061,1,      4.706,1,      0.140,1,      24.99,     -999.0,9,     -999.0,9,     -999.0,9,     -999.0,9,     2.7401,2,     -999.0,9
320620170703,        P06,      26,          1,          8,          8,2,20170710,       0124,   -30.3299,   159.0796,       2344,  1617.7,   2.9948,  34.5859,2,  34.5873,2, 152.5391,2, 153.0077,2,    91.0,2,   34.64,2,    0.00,2,    2.40,2,-999.000,9,-999.000,9,-999.0000,9,  2277.6,6, 2357.89,2,   7.5706,2, -999.00,9, -999.00,9, -999.00,  -999.0,9, -999.00,9,     -999.0,9,  -999.0,9, 20170710,       20, -30.3301, 159.0801,        0.0,1,      0.062,1,      4.706,1,      0.141,1,      25.01,     -999.0,9,     -999.0,9,     -999.0,9,     -999.0,9,     2.9696,2,     -999.0,9
320620170703,        P06,      26,          1,          9,         41,2,20170710,       0124,   -30.3299,   159.0796,       2344,  1515.8,   3.2774,  34.5610,2,  34.5645,2, 155.0049,2, 154.6419,2,    84.8,2,   34.25,2,    0.00,2,    2.39,2,   0.081,2,   0.066,2,   0.0000,2,  2268.6,2, 2355.16,2,   7.5760,2, -999.00,9, -999.00,9, -999.00,  -999.0,9, -999.00,9,     -999.0,9,  -999.0,9, 20170710,       23, -30.3302, 159.0803,        0.0,1,      0.061,1,      4.705,1,      0.142,1,      25.00,     -999.0,9,     -999.0,9,     -999.0,9,     -999.0,9,     3.2505,2,     -999.0,9
320620170703,        P06,      26,          1,         10,         10,2,20170710,       0124,   -30.3299,   159.0796,       2344,  1413.8,   3.6165,  34.5286,2,  34.5319,2, 159.5999,2, 159.3347,2,    76.0,2,   33.74,2,    0.00,2,    2.36,2,-999.000,9,-999.000,9,-999.0000,9,  2256.1,2, 2344.10,2,   7.5813,2, -999.00,9, -999.00,9, -999.00,  -999.0,9, -999.00,9,     -999.0,9,  -999.0,9, 20170710,       27, -30.3303, 159.0804,        0.0,1,      0.061,1,      4.706,1,      0.141,1,      25.00,     -999.0,9,     -999.0,9,     -999.0,9,     -999.0,9,     3.5542,2,     -999.0,9
320620170703,        P06,      26,          1,         11,         42,2,20170710,       0124,   -30.3299,   159.0796,       2344,  1312.9,   4.0744,  34.4941,2,  34.5005,2, 167.5158,2, 167.1079,2,    63.1,2,   32.74,2,    0.00,2,    2.24,2,   0.273,2,   0.176,2,   0.0000,2,  2238.3,2, 2327.97,2,   7.5945,2, -999.00,9, -999.00,9, -999.00,  -999.0,9, -999.00,9,     -999.0,9,  -999.0,9, 20170710,       30, -30.3304, 159.0804,        0.0,1,      0.060,1,      4.675,1,      0.138,1,      25.01,     -999.0,9,     -999.0,9,     -999.0,9,     -999.0,9,     4.0337,2,     -999.0,9
320620170703,        P06,      26,          1,         12,         12,2,20170710,       0124,   -30.3299,   159.0796,       2344,  1211.7,   4.5662,  34.4650,2,  34.4646,2, 175.2793,2, 175.0435,2,    51.3,2,   31.54,2,    0.00,2,    2.15,2,-999.000,9,-999.000,9,-999.0000,9,  2222.0,2, 2315.98,2,   7.6090,2, -999.00,9, -999.00,9, -999.00,  -999.0,9, -999.00,9,     -999.0,9,  -999.0,9, 20170710,       33, -30.3304, 159.0804,        0.0,1,      0.061,1,      4.656,1,      0.140,1,      25.01,     -999.0,9,     -999.0,9,     -999.0,9,     -999.0,9,     4.5478,2,     -999.0,9
320620170703,        P06,      26,          1,         13,         43,2,20170710,       0124,   -30.3299,   159.0796,       2344,  1109.9,   5.1370,  34.4498,2,  34.4481,2, 182.6877,2, 183.1658,2,    40.5,2,   30.07,2,    0.00,2,    2.04,2,   0.655,2,   0.370,2,   0.1190,2,  2206.5,2, 2302.65,2,   7.6245,2, -999.00,9, -999.00,9, -999.00,  -999.0,9, -999.00,9,     -999.0,9,  -999.0,9, 20170710,       36, -30.3303, 159.0803,        0.0,1,      0.060,1,      4.644,1,      0.141,1,      25.01,     -999.0,9,     -999.0,9,     -999.0,9,     -999.0,9,     5.1335,2,     -999.0,9
320620170703,        P06,      26,          1,         14,         14,2,20170710,       0124,   -30.3299,   159.0796,       2344,  1010.4,   5.8606,  34.4492,2,  34.4475,2, 188.9830,2, 189.5413,2,    30.1,2,   28.35,2,    0.00,2,    1.92,2,-999.000,9,-999.000,9,-999.0000,9,  2189.2,2, 2297.61,2,   7.6434,2, -999.00,9, -999.00,9, -999.00,  -999.0,9, -999.00,9,     -999.0,9,  -999.0,9, 20170710,       39, -30.3304, 159.0803,        0.0,1,      0.060,1,      4.657,1,      0.143,1,      25.01,     -999.0,9,     -999.0,9,     -999.0,9,     -999.0,9,     5.8394,2,     -999.0,9
320620170703,        P06,      26,          1,         15,         15,2,20170710,       0124,   -30.3299,   159.0796,       2344,   908.7,   6.4924,  34.4661,2,  34.4679,2, 194.2042,2, 194.0461,2,    21.7,2,   26.48,2,    0.00,2,    1.77,2,   1.374,2,   0.719,2,   0.2470,2,  2178.0,2, 2288.24,2,   7.6623,2, -999.00,9, -999.00,9, -999.00,  -999.0,9, -999.00,9,     -999.0,9,  -999.0,9, 20170710,       42, -30.3303, 159.0803,        0.0,1,      0.060,1,      4.656,1,      0.143,1,      25.01,     -999.0,9,     -999.0,9,     -999.0,9,     -999.0,9,     6.6163,2,     -999.0,9
320620170703,        P06,      26,          1,         16,         16,2,20170710,       0124,   -30.3299,   159.0796,       2344,   806.8,   7.5983,  34.5255,2,  34.5250,2, 199.0298,2, 199.3403,2,    14.4,2,   23.80,2,    0.00,2,    1.58,2,-999.000,9,-999.000,9,-999.0000,9,  2162.8,2, 2285.32,2,   7.6875,2, -999.00,9, -999.00,9, -999.00,  -999.0,9, -999.00,9,     -999.0,9,  -999.0,9, 20170710,       45, -30.3302, 159.0801,        0.0,1,      0.060,1,      4.702,1,      0.145,1,      25.00,     -999.0,9,     -999.0,9,     -999.0,9,     -999.0,9,     7.6217,2,     -999.0,9
320620170703,        P06,      26,          1,         17,         17,2,20170710,       0124,   -30.3299,   159.0796,       2344,   705.5,   8.6146,  34.6168,2,  34.6193,2, 202.7194,2, 202.4127,2,    10.0,2,   21.24,2,    0.00,2,    1.43,2,   2.275,2,   1.242,2,   0.5910,2,  2154.6,2, 2285.09,2,   7.7097,2, -999.00,9, -999.00,9, -999.00,  -999.0,9, -999.00,9,     -999.0,9,  -999.0,9, 20170710,       47, -30.3301, 159.0800,        0.0,1,      0.059,1,      4.699,1,      0.147,1,      25.00,     -999.0,9,     -999.0,9,     -999.0,9,     -999.0,9,     8.6574,2,     -999.0,9
320620170703,        P06,      26,          1,         18,         18,2,20170710,       0124,   -30.3299,   159.0796,       2344,   604.0,  10.2451,  34.8093,2,  34.7935,2, 201.6834,2, 201.2201,2,     6.5,2,   17.80,2,    0.00,2,    1.18,2,-999.000,9,-999.000,9,-999.0000,9,  2145.1,2, 2290.43,2,   7.7439,2, -999.00,9, -999.00,9, -999.00,  -999.0,9, -999.00,9,     -999.0,9,  -999.0,9, 20170710,       51, -30.3299, 159.0798,        0.0,1,      0.060,1,      4.697,1,      0.147,1,      25.00,     -999.0,9,     -999.0,9,     -999.0,9,     -999.0,9,    10.1498,2,     -999.0,9
320620170703,        P06,      26,          1,         19,         19,2,20170710,       0124,   -30.3299,   159.0796,       2344,   504.0,  12.3787,  35.0874,2,  35.0766,2, 203.3357,2, 203.2409,2,     4.0,2,   12.90,2,    0.00,2,    0.87,2,   2.322,2,   1.395,2,   0.8050,2,  2129.6,2, 2299.27,2,   7.8028,2, -999.00,9, -999.00,9, -999.00,  -999.0,9, -999.00,9,     -999.0,9,  -999.0,9, 20170710,       53, -30.3298, 159.0796,        0.0,1,      0.061,1,      4.693,1,      0.147,1,      25.01,     -999.0,9,     -999.0,9,     -999.0,9,     -999.0,9,    12.3079,2,     -999.0,9
320620170703,        P06,      26,          1,         20,         20,2,20170710,       0124,   -30.3299,   159.0796,       2344,   453.5,  13.4321,  35.2183,2,  35.2178,2, 201.7971,2, 202.3920,2,     3.1,2,   10.81,2,    0.00,2,    0.73,2,-999.000,9,-999.000,9,-999.0000,9,  2120.8,2, 2307.92,6,   7.8328,2, -999.00,9, -999.00,9, -999.00,  -999.0,9, -999.00,9,     -999.0,9,  -999.0,9, 20170710,       56, -30.3298, 159.0795,        0.0,1,      0.060,1,      4.693,1,      0.147,1,      25.01,     -999.0,9,     -999.0,9,     -999.0,9,     -999.0,9,    13.4841,2,     -999.0,9
320620170703,        P06,      26,          1,         21,         21,2,20170710,       0124,   -30.3299,   159.0796,       2344,   402.6,  14.3688,  35.3046,2,  35.3360,2, 199.5320,2, 199.3314,2,     2.4,2,    9.16,2,    0.00,2,    0.63,2,   2.255,2,   1.343,2,   0.9680,2,  2114.1,2, 2312.82,2,   7.8610,2, -999.00,9, -999.00,9, -999.00,  -999.0,9, -999.00,9,     -999.0,9,  -999.0,9, 20170710,       58, -30.3298, 159.0795,        0.0,1,      0.058,1,      4.689,1,      0.147,1,      25.01,     -999.0,9,     -999.0,9,     -999.0,9,     -999.0,9,    14.6835,2,     -999.0,9
320620170703,        P06,      26,          1,         22,         22,2,20170710,       0124,   -30.3299,   159.0796,       2344,   352.8,  15.6480,  35.3975,2,  35.3955,2, 192.2251,2, 191.9142,2,     2.1,2,    8.40,2,    0.00,2,    0.59,2,-999.000,9,-999.000,9,-999.0000,9,  2107.7,2, 2328.16,2,   7.8763,2, -999.00,9, -999.00,9, -999.00,  -999.0,9, -999.00,9,     -999.0,9,  -999.0,9, 20170710,      100, -30.3298, 159.0794,        0.0,1,      0.060,1,      4.692,1,      0.147,1,      25.01,     -999.0,9,     -999.0,9,     -999.0,9,     -999.0,9,    15.6723,2,     -999.0,9
320620170703,        P06,      26,          1,         23,         23,2,20170710,       0124,   -30.3299,   159.0796,       2344,   300.8,  16.8578,  35.4779,2,  35.4608,2, 189.3373,2, 189.4693,2,     1.9,2,    7.43,2,    0.00,2,    0.53,2,   2.117,2,   1.291,2,   0.8680,2,  2101.9,2, 2328.31,2,   7.8947,2, -999.00,9, -999.00,9, -999.00,  -999.0,9, -999.00,9,     -999.0,9,  -999.0,9, 20170710,      102, -30.3297, 159.0793,        0.0,1,      0.060,1,      4.683,1,      0.153,1,      25.02,     -999.0,9,     -999.0,9,     -999.0,9,     -999.0,9,    16.4836,2,     -999.0,9
320620170703,        P06,      26,          1,         24,         24,2,20170710,       0124,   -30.3299,   159.0796,       2344,   252.3,  17.8790,  35.5921,2,  35.5839,2, 192.8633,2, 193.0404,2,     1.2,2,    5.51,2,    0.00,2,    0.39,2,-999.000,9,-999.000,9,-999.0000,9,  2088.1,2, 2328.92,2,   7.9296,2, -999.00,9, -999.00,9, -999.00,  -999.0,9, -999.00,9,     -999.0,9,  -999.0,9, 20170710,      104, -30.3297, 159.0792,        0.0,1,      0.061,1,      4.688,1,      0.154,1,      25.01,     -999.0,9,     -999.0,9,     -999.0,9,     -999.0,9,    17.8050,2,     -999.0,9
320620170703,        P06,      26,          1,         25,         25,2,20170710,       0124,   -30.3299,   159.0796,       2344,   200.7,  18.7351,  35.7365,2,  35.7353,2, 213.9283,3, 216.1497,2,     0.4,2,    2.20,2,    0.00,2,    0.20,2,   1.864,2,   1.205,2,   1.0040,2,  2065.8,2, 2335.87,2,   7.9865,2, -999.00,9, -999.00,9, -999.00,  -999.0,9, -999.00,9,     -999.0,9,  -999.0,9, 20170710,      106, -30.3297, 159.0792,        0.0,1,      0.060,1,      4.686,1,      0.151,1,      25.01,     -999.0,9,     -999.0,9,     -999.0,9,     -999.0,9,    18.7104,2,     -999.0,9
320620170703,        P06,      26,          1,         26,         26,2,20170710,       0124,   -30.3299,   159.0796,       2344,   176.1,  18.8368,  35.7084,2,  35.7047,2, 201.0739,3, 204.2851,2,     0.6,2,    3.36,2,    0.02,2,    0.25,2,-999.000,9,-999.000,9,-999.0000,9,  2073.5,2, 2346.55,2,   7.9700,2, -999.00,9, -999.00,9, -999.00,  -999.0,9, -999.00,9,     -999.0,9,  -999.0,9, 20170710,      108, -30.3297, 159.0792,        0.0,1,      0.061,1,      4.686,1,      0.152,1,      25.01,     -999.0,9,     -999.0,9,     -999.0,9,     -999.0,9,    18.8795,2,     -999.0,9
320620170703,        P06,      26,          1,         27,         27,2,20170710,       0124,   -30.3299,   159.0796,       2344,   150.3,  19.0281,  35.6933,2,  35.7207,2, 204.2053,2, 205.1002,2,     0.6,2,    2.88,2,    0.02,2,    0.22,2,   1.859,2,   1.195,2,   0.9930,2,  2069.1,2, 2341.56,2,   7.9787,2, -999.00,9, -999.00,9, -999.00,  -999.0,9, -999.00,9,     -999.0,9,  -999.0,9, 20170710,      110, -30.3297, 159.0792,        0.0,1,      0.062,1,      4.684,1,      0.154,1,      25.01,     -999.0,9,     -999.0,9,     -999.0,9,     -999.0,9,    19.1785,2,     -999.0,9
320620170703,        P06,      26,          1,         28,         28,2,20170710,       0124,   -30.3299,   159.0796,       2344,   125.5,  19.4090,  35.7218,2,  35.7298,2, 200.2393,2, 201.8769,2,     0.5,2,    2.71,2,    0.09,2,    0.23,2,-999.000,9,-999.000,9,-999.0000,9,  2068.0,2, 2342.92,2,   7.9829,2, -999.00,9, -999.00,9, -999.00,  -999.0,9, -999.00,9,     -999.0,9,  -999.0,9, 20170710,      112, -30.3298, 159.0792,        0.0,1,      0.064,1,      4.681,1,      0.159,1,      25.01,     -999.0,9,     -999.0,9,     -999.0,9,     -999.0,9,    19.5417,2,     -999.0,9
320620170703,        P06,      26,          1,         29,         29,2,20170710,       0124,   -30.3299,   159.0796,       2344,   100.4,  19.6977,  35.7487,2,  35.7791,2, 219.0691,2, 220.3833,2,     0.2,2,    0.60,2,    0.21,2,    0.10,2,   1.921,2,   1.188,2,   0.9840,2,  2049.1,2, 2345.78,2,   8.0183,2, -999.00,9, -999.00,9, -999.00,  -999.0,9, -999.00,9,     -999.0,9,  -999.0,9, 20170710,      114, -30.3298, 159.0793,        0.0,1,      0.075,1,      4.676,1,      0.162,1,      25.02,     -999.0,9,     -999.0,9,     -999.0,9,     -999.0,9,    19.8879,2,     -999.0,9
320620170703,        P06,      26,          1,         30,         30,2,20170710,       0124,   -30.3299,   159.0796,       2344,    75.3,  19.9889,  35.7795,2,  35.7807,2, 218.1766,3, 220.7470,2,     0.2,2,    0.58,2,    0.20,2,    0.10,2,-999.000,9,-999.000,9,-999.0000,9,  2049.8,2, 2348.85,2,   8.0180,2, -999.00,9, -999.00,9, -999.00,  -999.0,9, -999.00,9,     -999.0,9,  -999.0,9, 20170710,      115, -30.3298, 159.0794,        0.0,1,      0.148,1,      4.632,1,      0.202,1,      25.03,     -999.0,9,     -999.0,9,     -999.0,9,     -999.0,9,    19.8924,2,     -999.0,9
320620170703,        P06,      26,          1,         31,         31,2,20170710,       0124,   -30.3299,   159.0796,       2344,    50.1,  20.0181,  35.7817,2,  35.7797,2, 217.5050,3, 220.6818,2,     0.1,2,    0.59,2,    0.21,2,    0.12,2,   1.896,2,   1.178,2,   1.0860,2,  2049.8,2, 2349.06,2,   8.0196,2, -999.00,9, -999.00,9, -999.00,  -999.0,9, -999.00,9,     -999.0,9,  -999.0,9, 20170710,      119, -30.3299, 159.0795,        0.0,1,      0.171,1,      4.619,1,      0.206,1,      25.02,     -999.0,9,     -999.0,9,     -999.0,9,     -999.0,9,    19.8980,2,     -999.0,9
320620170703,        P06,      26,          1,         32,         32,2,20170710,       0124,   -30.3299,   159.0796,       2344,    24.9,  20.0312,  35.7829,2,  35.7809,2, 217.8958,3, 221.1803,2,     0.2,2,    0.56,2,    0.21,2,    0.12,2,-999.000,9,-999.000,9,-999.0000,9,  2049.8,2, 2342.36,2,   8.0199,2, -999.00,9, -999.00,9, -999.00,  -999.0,9, -999.00,9,     -999.0,9,  -999.0,9, 20170710,      122, -30.3299, 159.0796,        0.0,1,      0.175,1,      4.605,1,      0.204,1,      25.03,     -999.0,9,     -999.0,9,     -999.0,9,     -999.0,9,    19.9173,2,     -999.0,9