BOTTLE,20230922CCHSIOCBG
EXPOCODE,SECT_ID,STNNBR,CASTNO,SAMPNO,BTLNBR,BTLNBR_FLAG_W,DATE,TIME,LATITUDE,LONGITUDE,DEPTH,CTDPRS,CTDTMP,CTDSAL,CTDSAL_FLAG_W,SALNTY,SALNTY_FLAG_W,CTDOXY,CTDOXY_FLAG_W,OXYGEN,OXYGEN_FLAG_W,SILCAT,SILCAT_FLAG_W,NITRAT,NITRAT_FLAG_W,NITRIT,NITRIT_FLAG_W,PHSPHT,PHSPHT_FLAG_W,CFC-11,CFC-11_FLAG_W,CFC-12,CFC-12_FLAG_W,SF6,SF6_FLAG_W,TCARBN,TCARBN_FLAG_W,ALKALI,ALKALI_FLAG_W,PH_TOT,PH_TOT_FLAG_W,DELC13,DELC13_FLAG_W,DELC14,DELC14_FLAG_W,C14ERR,DOC,DOC_FLAG_W,TDN,TDN_FLAG_W,TON,TON_FLAG_W,D15N_NO3,D15N_NO3_FLAG_W,BTL_DATE,BTL_TIME,BTL_LAT,BTL_LON,CTDRINKO,CTDRINKO_FLAG_W,CTDFLUOR,CTDFLUOR_FLAG_W,CTDXMISS,CTDXMISS_FLAG_W,CTDBACKSCATTER,CTDBACKSCATTER_FLAG_W,PH_TMP,D18O_NO3,D18O_NO3_FLAG_W,DOP,DOP_FLAG_W,HPLC,HPLC_FLAG_W,POC,POC_FLAG_W,REFTMP,REFTMP_FLAG_W,TDP,TDP_FLAG_W
,,,,,,,,,,,METERS,DBAR,ITS-90,PSS-78,,PSS-78,,UMOL/KG,,UMOL/KG,,UMOL/KG,,UMOL/KG,,UMOL/KG,,UMOL/KG,,PMOL/KG,,PMOL/KG,,FMOL/KG,,UMOL/KG,,UMOL/KG,,,,/MILLE,,/MILLE,,/MILLE,UMOL/KG,,UMOL/KG,,UMOL/KG,,/MILLE,,,,,,VOLTS,,VOLTS,,VOLTS,,VOLTS,,DEGC,/MILLE,,UMOL/KG,,,,UG/L,,ITS-90,,UMOL/KG,
320620170703,        P06,      43,          1,          1,         37,2,20170713,       0652,   -30.0800,   165.6701,       2663,  2687.9,   2.0164,  34.6748,2,  34.6749,2, 155.4213,2, 155.6661,2,   115.6,2,   34.79,2,    0.00,2,    2.43,2,   0.028,2,   0.031,2,   0.0000,2,  2304.7,6, 2394.67,2,   7.5799,2, -999.00,9, -999.00,9, -999.00,  -999.0,9, -999.00,9,     -999.0,9,  -999.0,1, 20170713,      524, -30.0799, 165.6693,        0.0,1,      0.062,1,      4.703,1,      0.146,1,      24.98,     -999.0,1,     -999.0,9,     -999.0,9,     -999.0,9,     2.0176,2,     -999.0,9
320620170703,        P06,      43,          1,          2,          2,2,20170713,       0652,   -30.0800,   165.6701,       2663,  2633.0,   2.0189,  34.6740,2,  34.6755,2, 155.4213,2, 155.2974,2,   115.7,2,   34.84,2,    0.00,2,    2.43,2,-999.000,9,-999.000,9,-999.0000,9,  -999.0,9, -999.00,9,-999.0000,9, -999.00,9, -999.00,9, -999.00,  -999.0,9, -999.00,9,     -999.0,9,  -999.0,1, 20170713,      526, -30.0799, 165.6694,        0.0,1,      0.061,1,      4.704,1,      0.142,1,     -999.0,     -999.0,1,     -999.0,9,     -999.0,9,     -999.0,9,     2.0192,2,     -999.0,9
320620170703,        P06,      43,          1,          3,         38,2,20170713,       0652,   -30.0800,   165.6701,       2663,  2568.3,   2.0221,  34.6734,2,  34.6734,2, 155.5623,2, 155.5710,2,   115.4,2,   34.82,2,    0.00,2,    2.43,2,-999.000,9,-999.000,9,-999.0000,9,  -999.0,9, -999.00,9,-999.0000,9, -999.00,9, -999.00,9, -999.00,  -999.0,9, -999.00,9,     -999.0,9,  -999.0,1, 20170713,      529, -30.0799, 165.6694,        0.0,1,      0.061,1,      4.704,1,      0.140,1,     -999.0,     -999.0,1,     -999.0,9,     -999.0,9,     -999.0,9,     2.0223,2,     -999.0,9
320620170703,        P06,      43,          1,          4,          4,2,20170713,       0652,   -30.0800,   165.6701,       2663,  2363.1,   2.0949,  34.6665,2,  34.6659,2, 155.1295,2, 154.7044,2,   113.8,2,   34.83,2,    0.00,2,    2.43,2,-999.000,9,-999.000,9,-999.0000,9,  -999.0,9, -999.00,9,-999.0000,9, -999.00,9, -999.00,9, -999.00,  -999.0,9, -999.00,9,     -999.0,9,  -999.0,1, 20170713,      533, -30.0799, 165.6695,        0.0,1,      0.061,1,      4.706,1,      0.137,1,     -999.0,     -999.0,1,     -999.0,9,     -999.0,9,     -999.0,9,     2.0937,2,     -999.0,9
320620170703,        P06,      43,          1,          5,         39,2,20170713,       0652,   -30.0800,   165.6701,       2663,  2159.1,   2.2307,  34.6542,2,  34.6535,2, 154.0357,2, 154.1295,2,   110.4,2,   34.73,2,    0.00,2,    2.42,2,   0.025,2,   0.028,2,   0.0000,2,  2299.0,2, 2383.53,2,   7.5763,2, -999.00,9, -999.00,9, -999.00,  -999.0,9, -999.00,9,     -999.0,9,  -999.0,1, 20170713,      538, -30.0799, 165.6695,        0.0,1,      0.061,1,      4.706,1,      0.142,1,      24.95,     -999.0,1,     -999.0,9,     -999.0,9,     -999.0,9,     2.2299,2,     -999.0,9
320620170703,        P06,      43,          1,          6,          6,2,20170713,       0652,   -30.0800,   165.6701,       2663,  1985.8,   2.4278,  34.6370,2,  34.6386,2, 153.1895,2, 154.2986,2,   107.0,2,   34.72,2,    0.00,2,    2.42,2,-999.000,9,-999.000,9,-999.0000,9,  -999.0,9, -999.00,9,-999.0000,9, -999.00,9, -999.00,9, -999.00,  -999.0,9, -999.00,9,     -999.0,9,  -999.0,1, 20170713,      542, -30.0799, 165.6695,        0.0,1,      0.063,1,      4.705,1,      0.140,1,     -999.0,     -999.0,1,     -999.0,9,     -999.0,9,     -999.0,9,     2.4027,2,     -999.0,9
320620170703,        P06,      43,          1,          7,         40,2,20170713,       0652,   -30.0800,   165.6701,       2663,  1886.1,   2.5671,  34.6250,2,  34.6244,2, 153.1578,2, 152.4526,2,   103.3,2,   34.60,2,    0.00,2,    2.42,2,-999.000,9,-999.000,9,-999.0000,9,  -999.0,9, -999.00,9,-999.0000,9, -999.00,9, -999.00,9, -999.00,  -999.0,9, -999.00,9,     -999.0,9,  -999.0,1, 20170713,      544, -30.0799, 165.6693,        0.0,1,      0.061,1,      4.705,1,      0.141,1,     -999.0,     -999.0,1,     -999.0,9,     -999.0,9,     -999.0,9,     2.5628,2,     -999.0,9
320620170703,        P06,      43,          1,          8,          8,2,20170713,       0652,   -30.0800,   165.6701,       2663,  1785.5,   2.7533,  34.6096,2,  34.6107,2, 153.6183,2, 153.2743,2,    99.7,2,   34.48,2,    0.00,2,    2.42,2,-999.000,9,-999.000,9,-999.0000,9,  -999.0,9, -999.00,9,-999.0000,9, -999.00,9, -999.00,9, -999.00,  -999.0,9, -999.00,9,     -999.0,9,  -999.0,1, 20170713,      547, -30.0799, 165.6692,        0.0,1,      0.062,1,      4.705,1,      0.162,1,     -999.0,     -999.0,1,     -999.0,9,     -999.0,9,     -999.0,9,     2.7262,2,     -999.0,9
320620170703,        P06,      43,          1,          9,         41,2,20170713,       0652,   -30.0800,   165.6701,       2663,  1681.6,   2.9859,  34.5929,2,  34.5979,2, 155.0751,2, 154.1925,2,    95.4,2,   34.00,2,    0.00,2,    2.39,2,   0.068,2,   0.057,2,   0.0000,2,  2280.4,2, 2373.31,2,   7.5779,2, -999.00,9, -999.00,9, -999.00,  -999.0,9, -999.00,9,     -999.0,9,  -999.0,1, 20170713,      550, -30.0798, 165.6695,        0.0,1,      0.062,1,      4.703,1,      0.142,1,      24.95,     -999.0,1,     -999.0,9,     -999.0,9,     -999.0,9,     2.9020,2,     -999.0,9
320620170703,        P06,      43,          1,         10,         10,2,20170713,       0652,   -30.0800,   165.6701,       2663,  1580.4,   3.2207,  34.5748,2,  34.5781,2, 157.9740,2, 160.1667,3,    88.4,2,   33.74,2,    0.00,2,    2.36,2,-999.000,9,-999.000,9,-999.0000,9,  -999.0,9, -999.00,9,-999.0000,9, -999.00,9, -999.00,9, -999.00,  -999.0,9, -999.00,9,     -999.0,9,  -999.0,1, 20170713,      553, -30.0798, 165.6697,        0.0,1,      0.061,1,      4.704,1,      0.143,1,     -999.0,     -999.0,1,     -999.0,9,     -999.0,9,     -999.0,9,     3.1638,2,     -999.0,9
320620170703,        P06,      43,          1,         11,         42,2,20170713,       0652,   -30.0800,   165.6701,       2663,  1481.7,   3.5843,  34.5490,2,  34.5480,2, 164.1814,2, 162.6482,2,    78.0,2,   32.95,2,    0.00,2,    2.29,2,-999.000,9,-999.000,9,-999.0000,9,  -999.0,9, -999.00,9,-999.0000,9, -999.00,9, -999.00,9, -999.00,  -999.0,9, -999.00,9,     -999.0,9,  -999.0,1, 20170713,      556, -30.0799, 165.6698,        0.0,1,      0.061,1,      4.705,1,      0.142,1,     -999.0,     -999.0,1,     -999.0,9,     -999.0,9,     -999.0,9,     3.5667,2,     -999.0,9
320620170703,        P06,      43,          1,         12,         12,2,20170713,       0652,   -30.0800,   165.6701,       2663,  1379.3,   4.0521,  34.5302,2,  34.5278,2, 168.9943,2, 168.8987,2,    67.3,2,   31.91,2,    0.00,2,    2.21,2,-999.000,9,-999.000,9,-999.0000,9,  -999.0,9, -999.00,9,-999.0000,9, -999.00,9, -999.00,9, -999.00,  -999.0,9, -999.00,9,     -999.0,9,  -999.0,1, 20170713,      559, -30.0798, 165.6698,        0.0,1,      0.061,1,      4.702,1,      0.144,1,     -999.0,     -999.0,1,     -999.0,9,     -999.0,9,     -999.0,9,     4.0579,2,     -999.0,9
320620170703,        P06,      43,          1,         13,         43,2,20170713,       0652,   -30.0800,   165.6701,       2663,  1277.1,   4.4814,  34.5071,2,  34.5103,2, 175.0355,2, 175.5910,2,    57.6,2,   31.00,2,    0.00,2,    2.15,2,   0.523,2,   0.317,2,   0.1630,2,  2227.6,2, 2326.85,2,   7.6130,2, -999.00,9, -999.00,9, -999.00,  -999.0,9, -999.00,9,     -999.0,9,  -999.0,1, 20170713,      602, -30.0798, 165.6697,        0.0,1,      0.061,1,      4.703,1,      0.146,1,      24.99,     -999.0,1,     -999.0,9,     -999.0,9,     -999.0,9,     4.4882,2,     -999.0,9
320620170703,        P06,      43,          1,         14,         14,2,20170713,       0652,   -30.0800,   165.6701,       2663,  1178.4,   4.9816,  34.4798,2,  34.4785,2, 182.1255,2, 181.5769,2,    46.8,2,   30.03,2,    0.00,2,    2.06,2,-999.000,9,-999.000,9,-999.0000,9,  -999.0,9, -999.00,9,-999.0000,9, -999.00,9, -999.00,9, -999.00,  -999.0,9, -999.00,9,     -999.0,9,  -999.0,1, 20170713,      605, -30.0798, 165.6696,        0.0,1,      0.061,1,      4.704,1,      0.142,1,     -999.0,     -999.0,1,     -999.0,9,     -999.0,9,     -999.0,9,     4.9746,2,     -999.0,9
320620170703,        P06,      43,          1,         15,         15,2,20170713,       0652,   -30.0800,   165.6701,       2663,  1075.6,   5.6798,  34.4736,2,  34.4652,2, 188.9446,2, 188.5935,2,    36.6,2,   28.60,2,    0.00,2,    1.95,2,   0.917,2,   0.527,2,   0.3180,2,  -999.0,9, -999.00,9,-999.0000,9, -999.00,9, -999.00,9, -999.00,  -999.0,9, -999.00,9,     -999.0,9,  -999.0,1, 20170713,      607, -30.0798, 165.6696,        0.0,1,      0.060,1,      4.703,1,      0.143,1,     -999.0,     -999.0,1,     -999.0,9,     -999.0,9,     -999.0,9,     5.5237,2,     -999.0,9
320620170703,        P06,      43,          1,         16,         16,2,20170713,       0652,   -30.0800,   165.6701,       2663,   975.0,   6.1552,  34.4642,2,  34.4636,2, 194.7424,2, 195.5869,2,    28.1,2,   27.12,2,    0.00,2,    1.85,2,-999.000,9,-999.000,9,-999.0000,9,  -999.0,9, -999.00,9,-999.0000,9, -999.00,9, -999.00,9, -999.00,  -999.0,9, -999.00,9,     -999.0,9,  -999.0,1, 20170713,      610, -30.0798, 165.6696,        0.0,1,      0.060,1,      4.703,1,      0.143,1,     -999.0,     -999.0,1,     -999.0,9,     -999.0,9,     -999.0,9,     6.0946,2,     -999.0,9
320620170703,        P06,      43,          1,         17,         17,2,20170713,       0652,   -30.0800,   165.6701,       2663,   874.3,   6.5908,  34.4511,2,  34.4457,2, 202.7082,2, 203.9454,2,    20.2,2,   25.70,2,    0.00,2,    1.74,2,   1.508,2,   0.861,2,   0.3330,2,  2172.1,2, 2325.62,2,   7.6718,2, -999.00,9, -999.00,9, -999.00,  -999.0,9, -999.00,9,     -999.0,9,  -999.0,1, 20170713,      613, -30.0798, 165.6696,        0.0,1,      0.059,1,      4.704,1,      0.142,1,      24.97,     -999.0,1,     -999.0,9,     -999.0,9,     -999.0,9,     6.5042,2,     -999.0,9
320620170703,        P06,      43,          1,         18,         18,2,20170713,       0652,   -30.0800,   165.6701,       2663,   773.1,   7.7893,  34.5370,2,  34.5260,3, 204.6626,2, 203.4128,2,    14.9,2,   23.36,2,    0.00,2,    1.58,2,-999.000,9,-999.000,9,-999.0000,9,  -999.0,9, -999.00,9,-999.0000,9, -999.00,9, -999.00,9, -999.00,  -999.0,9, -999.00,9,     -999.0,9,  -999.0,1, 20170713,      616, -30.0798, 165.6695,        0.0,1,      0.060,1,      4.703,1,      0.141,1,     -999.0,     -999.0,1,     -999.0,9,     -999.0,9,     -999.0,9,     7.6406,2,     -999.0,9
320620170703,        P06,      43,          1,         19,         19,2,20170713,       0652,   -30.0800,   165.6701,       2663,   671.7,   8.7160,  34.6094,2,  34.6048,2, 205.7083,2, 205.2528,2,     9.2,2,   20.70,2,    0.00,2,    1.40,2,   2.242,2,   1.314,2,   0.5280,2,  2150.1,2, 2302.57,2,   7.7171,2, -999.00,9, -999.00,9, -999.00,  -999.0,9, -999.00,9,     -999.0,9,  -999.0,1, 20170713,      619, -30.0798, 165.6695,        0.0,1,      0.060,1,      4.702,1,      0.138,1,      24.98,     -999.0,1,     -999.0,9,     -999.0,9,     -999.0,9,     8.6683,2,     -999.0,9
320620170703,        P06,      43,          1,         20,         20,2,20170713,       0652,   -30.0800,   165.6701,       2663,   569.1,  10.8055,  34.8556,2,  34.8501,2, 198.0782,2, 198.5229,2,     6.0,2,   16.54,2,    0.00,2,    1.12,2,-999.000,9,-999.000,9,-999.0000,9,  -999.0,9, -999.00,9,-999.0000,9, -999.00,9, -999.00,9, -999.00,  -999.0,9, -999.00,9,     -999.0,9,  -999.0,1, 20170713,      622, -30.0798, 165.6695,        0.0,1,      0.060,1,      4.699,1,      0.142,1,     -999.0,     -999.0,1,     -999.0,9,     -999.0,9,     -999.0,9,    10.7844,2,     -999.0,9
320620170703,        P06,      43,          1,         21,         21,2,20170713,       0652,   -30.0800,   165.6701,       2663,   489.7,  12.3249,  35.0421,2,  35.0335,2, 195.9102,2, 195.6977,2,     4.4,2,   13.57,2,    0.00,2,    0.93,2,   2.316,2,   1.424,2,   0.8700,2,  -999.0,9, -999.00,9,-999.0000,9, -999.00,9, -999.00,9, -999.00,  -999.0,9, -999.00,9,     -999.0,9,  -999.0,1, 20170713,      624, -30.0798, 165.6697,        0.0,1,      0.059,1,      4.696,1,      0.143,1,     -999.0,     -999.0,1,     -999.0,9,     -999.0,9,     -999.0,9,    12.2949,2,     -999.0,9
320620170703,        P06,      43,          1,         22,         22,2,20170713,       0652,   -30.0800,   165.6701,       2663,   437.9,  13.5341,  35.1848,2,  35.1768,2, 195.4866,2, 195.4543,2,     3.4,2,   11.33,2,    0.00,2,    0.76,2,-999.000,9,-999.000,9,-999.0000,9,  2119.9,2, 2313.52,2,   7.8270,2, -999.00,9, -999.00,9, -999.00,  -999.0,9, -999.00,9,     -999.0,9,  -999.0,1, 20170713,      627, -30.0799, 165.6699,        0.0,1,      0.059,1,      4.696,1,      0.140,1,      25.01,     -999.0,1,     -999.0,9,     -999.0,9,     -999.0,9,    13.5201,2,     -999.0,9
320620170703,        P06,      43,          1,         23,         23,2,20170713,       0652,   -30.0800,   165.6701,       2663,   390.8,  14.6384,  35.3017,2,  35.3017,2, 195.9350,2, 196.1048,2,     2.5,2,    9.21,2,    0.00,2,    0.64,2,   2.194,2,   1.389,2,   0.8980,2,  -999.0,9, -999.00,9,-999.0000,9, -999.00,9, -999.00,9, -999.00,  -999.0,9, -999.00,9,     -999.0,9,  -999.0,1, 20170713,      629, -30.0799, 165.6700,        0.0,1,      0.059,1,      4.695,1,      0.141,1,     -999.0,     -999.0,1,     -999.0,9,     -999.0,9,     -999.0,9,    14.6728,2,     -999.0,9
320620170703,        P06,      43,          1,         24,         24,2,20170713,       0652,   -30.0800,   165.6701,       2663,   337.8,  15.8337,  35.4229,2,  35.4298,2, 196.2979,2, 196.9159,2,     1.9,2,    7.31,2,    0.00,2,    0.52,2,-999.000,9,-999.000,9,-999.0000,9,  -999.0,9, -999.00,9,-999.0000,9, -999.00,9, -999.00,9, -999.00,  -999.0,9, -999.00,9,     -999.0,9,  -999.0,1, 20170713,      631, -30.0799, 165.6699,        0.0,1,      0.061,1,      4.694,1,      0.142,1,     -999.0,     -999.0,1,     -999.0,9,     -999.0,9,     -999.0,9,    15.9679,2,     -999.0,9
320620170703,        P06,      43,          1,         25,         25,2,20170713,       0652,   -30.0800,   165.6701,       2663,   289.4,  17.1522,  35.5478,2,  35.5233,2, 196.2291,2, 195.7616,2,     1.4,2,    5.96,2,    0.00,2,    0.42,2,   1.995,2,   1.320,2,   1.0180,2,  2097.7,2, 2319.58,2,   7.9139,2, -999.00,9, -999.00,9, -999.00,  -999.0,9, -999.00,9,     -999.0,9,  -999.0,1, 20170713,      633, -30.0799, 165.6697,        0.0,1,      0.059,1,      4.693,1,      0.146,1,      25.00,     -999.0,1,     -999.0,9,     -999.0,9,     -999.0,9,    16.9211,2,     -999.0,9
320620170703,        P06,      43,          1,         26,         26,2,20170713,       0652,   -30.0800,   165.6701,       2663,   244.4,  18.1155,  35.6205,2,  35.6167,2, 196.3478,2, 197.2771,2,     1.0,2,    4.66,2,    0.00,2,    0.35,2,-999.000,9,-999.000,9,-999.0000,9,  -999.0,9, -999.00,9,-999.0000,9, -999.00,9, -999.00,9, -999.00,  -999.0,9, -999.00,9,     -999.0,9,  -999.0,1, 20170713,      636, -30.0799, 165.6695,        0.0,1,      0.061,1,      4.686,1,      0.159,1,     -999.0,     -999.0,1,     -999.0,9,     -999.0,9,     -999.0,9,    18.0058,2,     -999.0,9
320620170703,        P06,      43,          1,         27,         27,2,20170713,       0652,   -30.0800,   165.6701,       2663,   216.9,  18.6721,  35.6709,2,  35.6585,2, 199.6260,2, 197.9363,2,     0.8,2,    3.91,2,    0.02,2,    0.30,2,   1.880,2,   1.257,2,   0.8380,2,  2079.1,2, 2328.99,2,   7.9516,2, -999.00,9, -999.00,9, -999.00,  -999.0,9, -999.00,9,     -999.0,9,  -999.0,1, 20170713,      638, -30.0799, 165.6694,        0.0,1,      0.063,1,      4.686,1,      0.157,1,      24.96,     -999.0,1,     -999.0,9,     -999.0,9,     -999.0,9,    18.5229,2,     -999.0,9
320620170703,        P06,      43,          1,         28,         28,2,20170713,       0652,   -30.0800,   165.6701,       2663,   191.3,  19.2207,  35.7342,2,  35.7709,2, 208.6642,4, 216.8530,2,     0.3,2,    1.02,2,    0.31,2,    0.16,2,-999.000,9,-999.000,9,-999.0000,9,  -999.0,9, -999.00,9,-999.0000,9, -999.00,9, -999.00,9, -999.00,  -999.0,9, -999.00,9,     -999.0,9,  -999.0,1, 20170713,      640, -30.0798, 165.6695,        0.0,1,      0.075,1,      4.677,1,      0.165,1,     -999.0,     -999.0,1,     -999.0,9,     -999.0,9,     -999.0,9,    19.2966,2,     -999.0,9
320620170703,        P06,      43,          1,         29,         29,2,20170713,       0652,   -30.0800,   165.6701,       2663,   166.7,  19.6750,  35.8114,2,  35.7841,2, 211.5427,4, 218.6049,2,     0.2,2,    0.77,2,    0.39,2,    0.14,2,   1.789,2,   1.212,2,   0.8010,2,  2060.1,2, 2341.15,2,   8.0022,2, -999.00,9, -999.00,9, -999.00,  -999.0,9, -999.00,9,     -999.0,9,  -999.0,1, 20170713,      641, -30.0799, 165.6696,        0.0,1,      0.127,1,      4.653,1,      0.188,1,      25.05,     -999.0,1,     -999.0,9,     -999.0,9,     -999.0,9,    19.4127,2,     -999.0,9
320620170703,        P06,      43,          1,         30,         30,2,20170713,       0652,   -30.0800,   165.6701,       2663,   140.4,  19.7807,  35.8326,2,  35.8151,2, 219.3704,2, 218.5381,2,     0.2,2,    0.61,2,    0.23,2,    0.11,2,-999.000,9,-999.000,9,-999.0000,9,  -999.0,9, -999.00,9,-999.0000,9, -999.00,9, -999.00,9, -999.00,  -999.0,9, -999.00,9,     -999.0,9,  -999.0,1, 20170713,      643, -30.0799, 165.6697,        0.0,1,      0.152,1,      4.641,1,      0.197,1,     -999.0,     -999.0,1,     -999.0,9,     -999.0,9,     -999.0,9,    19.6972,2,     -999.0,9
320620170703,        P06,      43,          1,         31,         31,2,20170713,       0652,   -30.0800,   165.6701,       2663,   116.3,  19.7850,  35.8334,2,  35.8309,2, 220.9959,2, 220.6011,2,     0.2,2,    0.42,2,    0.17,2,    0.09,2,   1.753,2,   1.187,2,   0.6340,2,  2056.9,2, 2342.82,2,   8.0148,2, -999.00,9, -999.00,9, -999.00,  -999.0,9, -999.00,9,     -999.0,9,  -999.0,1, 20170713,      645, -30.0799, 165.6698,        0.0,1,      0.158,1,      4.638,1,      0.200,1,      25.01,     -999.0,1,     -999.0,9,     -999.0,9,     -999.0,9,    19.7835,2,     -999.0,9
320620170703,        P06,      43,          1,         32,         32,2,20170713,       0652,   -30.0800,   165.6701,       2663,    91.7,  19.7969,  35.8354,2,  35.8303,2, 221.0857,2, 220.9461,2,     0.2,2,    0.39,2,    0.18,2,    0.10,2,-999.000,9,-999.000,9,-999.0000,9,  -999.0,9, -999.00,9,-999.0000,9, -999.00,9, -999.00,9, -999.00,  -999.0,9, -999.00,9,     -999.0,9,  -999.0,1, 20170713,      646, -30.0799, 165.6697,        0.0,1,      0.176,1,      4.622,1,      0.210,1,     -999.0,     -999.0,1,     -999.0,9,     -999.0,9,     -999.0,9,    19.7815,2,     -999.0,9