BOTTLE,20230922CCHSIOCBG
EXPOCODE,SECT_ID,STNNBR,CASTNO,SAMPNO,BTLNBR,BTLNBR_FLAG_W,DATE,TIME,LATITUDE,LONGITUDE,DEPTH,CTDPRS,CTDTMP,CTDSAL,CTDSAL_FLAG_W,SALNTY,SALNTY_FLAG_W,CTDOXY,CTDOXY_FLAG_W,OXYGEN,OXYGEN_FLAG_W,SILCAT,SILCAT_FLAG_W,NITRAT,NITRAT_FLAG_W,NITRIT,NITRIT_FLAG_W,PHSPHT,PHSPHT_FLAG_W,CFC-11,CFC-11_FLAG_W,CFC-12,CFC-12_FLAG_W,SF6,SF6_FLAG_W,TCARBN,TCARBN_FLAG_W,ALKALI,ALKALI_FLAG_W,PH_TOT,PH_TOT_FLAG_W,DELC13,DELC13_FLAG_W,DELC14,DELC14_FLAG_W,C14ERR,DOC,DOC_FLAG_W,TDN,TDN_FLAG_W,TON,TON_FLAG_W,D15N_NO3,D15N_NO3_FLAG_W,BTL_DATE,BTL_TIME,BTL_LAT,BTL_LON,CTDRINKO,CTDRINKO_FLAG_W,CTDFLUOR,CTDFLUOR_FLAG_W,CTDXMISS,CTDXMISS_FLAG_W,CTDBACKSCATTER,CTDBACKSCATTER_FLAG_W,PH_TMP,D18O_NO3,D18O_NO3_FLAG_W,DOP,DOP_FLAG_W,HPLC,HPLC_FLAG_W,POC,POC_FLAG_W,REFTMP,REFTMP_FLAG_W,TDP,TDP_FLAG_W
,,,,,,,,,,,METERS,DBAR,ITS-90,PSS-78,,PSS-78,,UMOL/KG,,UMOL/KG,,UMOL/KG,,UMOL/KG,,UMOL/KG,,UMOL/KG,,PMOL/KG,,PMOL/KG,,FMOL/KG,,UMOL/KG,,UMOL/KG,,,,/MILLE,,/MILLE,,/MILLE,UMOL/KG,,UMOL/KG,,UMOL/KG,,/MILLE,,,,,,VOLTS,,VOLTS,,VOLTS,,VOLTS,,DEGC,/MILLE,,UMOL/KG,,,,UG/L,,ITS-90,,UMOL/KG,
320620170703,        P06,      65,          1,          1,         37,2,20170717,       1118,   -30.0801,   172.5001,       2138,  2156.1,   2.0945,  34.6532,2,  34.6525,2, 154.5206,2, 154.2299,2,   116.2,2,   35.02,2,    0.00,2,    2.43,2,-999.000,9,-999.000,9,-999.0000,9,  2300.4,6, 2391.66,2,   7.5793,2, -999.00,9, -999.00,9, -999.00,  -999.0,9, -999.00,9,     -999.0,9,  -999.0,9, 20170717,      955, -30.0802, 172.5003,        0.0,1,      0.061,1,      2.570,1,      0.161,1,      25.03,     -999.0,9,     -999.0,9,     -999.0,9,     -999.0,9,     2.0978,2,     -999.0,9
320620170703,        P06,      65,          1,          2,          2,2,20170717,       1118,   -30.0801,   172.5001,       2138,  2034.9,   2.2177,  34.6435,2,  34.6352,2, 155.2050,2, 155.7141,2,   113.0,2,   34.86,2,    0.00,2,    2.40,2,-999.000,9,-999.000,9,-999.0000,9,  -999.0,9, -999.00,9,-999.0000,9, -999.00,9, -999.00,9, -999.00,  -999.0,9, -999.00,9,     -999.0,9,  -999.0,9, 20170717,      959, -30.0802, 172.5003,        0.0,1,      0.061,1,      0.059,1,      0.160,1,     -999.0,     -999.0,9,     -999.0,9,     -999.0,9,     -999.0,9,     2.2198,2,     -999.0,9
320620170703,        P06,      65,          1,          3,         38,2,20170717,       1118,   -30.0801,   172.5001,       2138,  1923.4,   2.4173,  34.6283,2,  34.6270,2, 156.0389,2, 155.8681,2,   107.5,2,   34.67,2,    0.00,2,    2.40,2,-999.000,9,-999.000,9,-999.0000,9,  2294.0,2, 2378.56,2,   7.5807,2, -999.00,9, -999.00,9, -999.00,  -999.0,9, -999.00,9,     -999.0,9,  -999.0,9, 20170717,     1002, -30.0801, 172.5001,        0.0,1,      0.061,1,      0.006,1,      0.151,1,      25.04,     -999.0,9,     -999.0,9,     -999.0,9,     -999.0,9,     2.4164,2,     -999.0,9
320620170703,        P06,      65,          1,          4,          4,2,20170717,       1118,   -30.0801,   172.5001,       2138,  1820.7,   2.5893,  34.6140,2,  34.6134,2, 157.1036,2, 157.0186,2,   102.8,2,   34.44,2,    0.00,2,    2.39,2,-999.000,9,-999.000,9,-999.0000,9,  -999.0,9, -999.00,9,-999.0000,9, -999.00,9, -999.00,9, -999.00,  -999.0,9, -999.00,9,     -999.0,9,  -999.0,9, 20170717,     1005, -30.0800, 172.4998,        0.0,1,      0.061,1,      0.006,1,      0.150,1,     -999.0,     -999.0,9,     -999.0,9,     -999.0,9,     -999.0,9,     2.5831,2,     -999.0,9
320620170703,        P06,      65,          1,          5,         39,2,20170717,       1118,   -30.0801,   172.5001,       2138,  1719.5,   2.7884,  34.5969,2,  34.5977,2, 158.5501,2, 158.7532,2,    97.4,2,   34.18,2,    0.00,2,    2.36,2,-999.000,9,-999.000,9,-999.0000,9,  2279.0,2, 2367.41,2,   7.5835,2, -999.00,9, -999.00,9, -999.00,  -999.0,9, -999.00,9,     -999.0,9,  -999.0,9, 20170717,     1008, -30.0799, 172.4996,        0.0,1,      0.061,1,      2.305,1,      0.146,1,      25.03,     -999.0,9,     -999.0,9,     -999.0,9,     -999.0,9,     2.7704,2,     -999.0,9
320620170703,        P06,      65,          1,          6,          6,2,20170717,       1118,   -30.0801,   172.5001,       2138,  1618.2,   3.0546,  34.5739,2,  34.5820,2, 160.3610,2, 160.2261,2,    92.1,2,   33.96,2,    0.00,2,    2.35,2,-999.000,9,-999.000,9,-999.0000,9,  -999.0,9, -999.00,9,-999.0000,9, -999.00,9, -999.00,9, -999.00,  -999.0,9, -999.00,9,     -999.0,9,  -999.0,9, 20170717,     1012, -30.0798, 172.4996,        0.0,1,      0.061,1,      2.094,1,      0.149,1,     -999.0,     -999.0,9,     -999.0,9,     -999.0,9,     -999.0,9,     2.9530,2,     -999.0,9
320620170703,        P06,      65,          1,          7,         40,2,20170717,       1118,   -30.0801,   172.5001,       2138,  1514.3,   3.3353,  34.5486,2,  34.5519,2, 163.9058,2, 164.0056,2,    82.1,2,   33.42,2,    0.00,2,    2.29,2,-999.000,9,-999.000,9,-999.0000,9,  2260.2,2, 2357.33,6,   7.5910,2, -999.00,9, -999.00,9, -999.00,  -999.0,9, -999.00,9,     -999.0,9,  -999.0,9, 20170717,     1015, -30.0798, 172.4996,        0.0,1,      0.061,1,      0.535,1,      0.143,1,      25.03,     -999.0,9,     -999.0,9,     -999.0,9,     -999.0,9,     3.2933,2,     -999.0,9
320620170703,        P06,      65,          1,          8,          8,2,20170717,       1118,   -30.0801,   172.5001,       2138,  1413.7,   3.6042,  34.5278,2,  34.5280,2, 168.0871,2, 167.9326,2,    74.0,2,   32.93,2,    0.00,2,    2.26,2,-999.000,9,-999.000,9,-999.0000,9,  -999.0,9, -999.00,9,-999.0000,9, -999.00,9, -999.00,9, -999.00,  -999.0,9, -999.00,9,     -999.0,9,  -999.0,9, 20170717,     1018, -30.0799, 172.4996,        0.0,1,      0.061,1,      2.666,1,      0.170,1,     -999.0,     -999.0,9,     -999.0,9,     -999.0,9,     -999.0,9,     3.5872,2,     -999.0,9
320620170703,        P06,      65,          1,          9,         41,2,20170717,       1118,   -30.0801,   172.5001,       2138,  1312.2,   4.0412,  34.4986,2,  34.4974,2, 173.6459,2, 173.5738,2,    63.4,2,   32.01,2,    0.00,2,    2.18,2,-999.000,9,-999.000,9,-999.0000,9,  2233.4,2, 2332.53,2,   7.6046,2, -999.00,9, -999.00,9, -999.00,  -999.0,9, -999.00,9,     -999.0,9,  -999.0,9, 20170717,     1022, -30.0799, 172.4997,        0.0,1,      0.060,1,      0.616,1,      0.145,1,      25.03,     -999.0,9,     -999.0,9,     -999.0,9,     -999.0,9,     4.0579,2,     -999.0,9
320620170703,        P06,      65,          1,         10,         10,2,20170717,       1118,   -30.0801,   172.5001,       2138,  1212.6,   4.6102,  34.4820,2,  34.4834,2, 180.9695,2, 180.8267,2,    51.1,2,   30.47,2,    0.00,2,    2.07,2,-999.000,9,-999.000,9,-999.0000,9,  -999.0,9, -999.00,9,-999.0000,9, -999.00,9, -999.00,9, -999.00,  -999.0,9, -999.00,9,     -999.0,9,  -999.0,9, 20170717,     1025, -30.0800, 172.4998,        0.0,1,      0.060,1,      0.006,1,      0.146,1,     -999.0,     -999.0,9,     -999.0,9,     -999.0,9,     -999.0,9,     4.6909,2,     -999.0,9
320620170703,        P06,      65,          1,         11,         42,2,20170717,       1118,   -30.0801,   172.5001,       2138,  1110.9,   5.1824,  34.4693,2,  34.4591,2, 188.9416,2, 188.9923,2,    38.9,2,   29.03,2,    0.00,2,    1.97,2,-999.000,9,-999.000,9,-999.0000,9,  2201.3,2, 2307.55,2,   7.6377,2, -999.00,9, -999.00,9, -999.00,  -999.0,9, -999.00,9,     -999.0,9,  -999.0,9, 20170717,     1028, -30.0801, 172.5000,        0.0,1,      0.060,1,      2.995,1,      0.141,1,      25.03,     -999.0,9,     -999.0,9,     -999.0,9,     -999.0,9,     5.2974,2,     -999.0,9
320620170703,        P06,      65,          1,         12,         12,2,20170717,       1118,   -30.0801,   172.5001,       2138,  1008.5,   5.9734,  34.4874,2,  34.4889,2, 190.2368,2, 190.3143,2,    31.8,2,   27.60,2,    0.00,2,    1.85,2,-999.000,9,-999.000,9,-999.0000,9,  -999.0,9, -999.00,9,-999.0000,9, -999.00,9, -999.00,9, -999.00,  -999.0,9, -999.00,9,     -999.0,9,  -999.0,9, 20170717,     1032, -30.0800, 172.4999,        0.0,1,      0.061,1,      1.962,1,      0.142,1,     -999.0,     -999.0,9,     -999.0,9,     -999.0,9,     -999.0,9,     6.0444,2,     -999.0,9
320620170703,        P06,      65,          1,         13,         43,2,20170717,       1118,   -30.0801,   172.5001,       2138,   909.4,   6.6058,  34.5164,2,  34.5205,2, 193.7879,2, 194.0793,2,    25.5,2,   25.91,2,    0.00,2,    1.73,2,-999.000,9,-999.000,9,-999.0000,9,  2179.9,2, 2297.43,2,   7.6692,2, -999.00,9, -999.00,9, -999.00,  -999.0,9, -999.00,9,     -999.0,9,  -999.0,9, 20170717,     1035, -30.0800, 172.4999,        0.0,1,      0.060,1,      2.462,1,      0.145,1,      25.05,     -999.0,9,     -999.0,9,     -999.0,9,     -999.0,9,     6.7291,2,     -999.0,9
320620170703,        P06,      65,          1,         14,         14,2,20170717,       1118,   -30.0801,   172.5001,       2138,   807.2,   7.5183,  34.5702,2,  34.5588,2, 195.6726,2, 195.6075,2,    20.6,2,   24.44,2,    0.00,2,    1.63,2,-999.000,9,-999.000,9,-999.0000,9,  -999.0,9, -999.00,9,-999.0000,9, -999.00,9, -999.00,9, -999.00,  -999.0,9, -999.00,9,     -999.0,9,  -999.0,9, 20170717,     1038, -30.0800, 172.4999,        0.0,1,      0.060,1,      0.126,1,      0.144,1,     -999.0,     -999.0,9,     -999.0,9,     -999.0,9,     -999.0,9,     7.3785,2,     -999.0,9
320620170703,        P06,      65,          1,         15,         15,2,20170717,       1118,   -30.0801,   172.5001,       2138,   705.6,   8.0567,  34.5657,2,  34.5763,2, 204.7900,2, 204.6554,2,    12.4,2,   22.07,2,    0.00,2,    1.46,2,-999.000,9,-999.000,9,-999.0000,9,  2157.6,2, 2288.32,2,   7.7060,2, -999.00,9, -999.00,9, -999.00,  -999.0,9, -999.00,9,     -999.0,9,  -999.0,9, 20170717,     1042, -30.0800, 172.4999,        0.0,1,      0.059,1,      0.021,1,      0.142,1,      25.05,     -999.0,9,     -999.0,9,     -999.0,9,     -999.0,9,     8.1389,2,     -999.0,9
320620170703,        P06,      65,          1,         16,         16,2,20170717,       1118,   -30.0801,   172.5001,       2138,   603.8,   9.1581,  34.6795,2,  34.6997,2, 201.1267,2, 201.5264,2,     9.3,2,   19.60,2,    0.00,2,    1.30,2,-999.000,9,-999.000,9,-999.0000,9,  -999.0,9, -999.00,9,-999.0000,9, -999.00,9, -999.00,9, -999.00,  -999.0,9, -999.00,9,     -999.0,9,  -999.0,9, 20170717,     1045, -30.0800, 172.4999,        0.0,1,      0.059,1,      2.473,1,      0.143,1,     -999.0,     -999.0,9,     -999.0,9,     -999.0,9,     -999.0,9,     9.3440,2,     -999.0,9
320620170703,        P06,      65,          1,         17,         17,2,20170717,       1118,   -30.0801,   172.5001,       2138,   503.6,  11.0685,  34.8961,2,  34.8656,3, 198.3508,2, 198.2963,2,     6.5,2,   16.52,2,    0.00,2,    1.09,2,-999.000,9,-999.000,9,-999.0000,9,  2139.8,2, 2298.90,2,   7.7631,2, -999.00,9, -999.00,9, -999.00,  -999.0,9, -999.00,9,     -999.0,9,  -999.0,9, 20170717,     1048, -30.0800, 172.4998,        0.0,1,      0.059,1,      1.895,1,      0.141,1,      25.06,     -999.0,9,     -999.0,9,     -999.0,9,     -999.0,9,    10.8274,2,     -999.0,9
320620170703,        P06,      65,          1,         18,         18,2,20170717,       1118,   -30.0801,   172.5001,       2138,   452.8,  12.1749,  35.0314,2,  34.9919,2, 197.2506,2, 197.0462,2,     5.1,2,   14.40,2,    0.00,2,    0.97,2,-999.000,9,-999.000,9,-999.0000,9,  -999.0,9, -999.00,9,-999.0000,9, -999.00,9, -999.00,9, -999.00,  -999.0,9, -999.00,9,     -999.0,9,  -999.0,9, 20170717,     1051, -30.0799, 172.4997,        0.0,1,      0.059,1,      2.200,1,      0.145,1,     -999.0,     -999.0,9,     -999.0,9,     -999.0,9,     -999.0,9,    11.9106,2,     -999.0,9
320620170703,        P06,      65,          1,         19,         19,2,20170717,       1118,   -30.0801,   172.5001,       2138,   402.7,  13.4900,  35.1828,2,  35.0994,2, 199.1551,2, 198.1536,2,     4.0,2,   12.01,2,    0.00,2,    0.81,2,-999.000,9,-999.000,9,-999.0000,9,  2124.4,2, 2311.54,2,   7.8190,2, -999.00,9, -999.00,9, -999.00,  -999.0,9, -999.00,9,     -999.0,9,  -999.0,9, 20170717,     1053, -30.0800, 172.4998,        0.0,1,      0.059,1,      0.010,1,      0.145,1,      25.02,     -999.0,9,     -999.0,9,     -999.0,9,     -999.0,9,    13.0597,2,     -999.0,9
320620170703,        P06,      65,          1,         20,         20,2,20170717,       1118,   -30.0801,   172.5001,       2138,   351.3,  14.2856,  35.2668,2,  35.2404,2, 198.4197,2, 198.8514,2,     3.1,2,   10.06,2,    0.00,2,    0.68,2,-999.000,9,-999.000,9,-999.0000,9,  -999.0,9, -999.00,9,-999.0000,9, -999.00,9, -999.00,9, -999.00,  -999.0,9, -999.00,9,     -999.0,9,  -999.0,9, 20170717,     1055, -30.0799, 172.4997,        0.0,1,      0.059,1,      0.006,1,      0.146,1,     -999.0,     -999.0,9,     -999.0,9,     -999.0,9,     -999.0,9,    14.1402,2,     -999.0,9
320620170703,        P06,      65,          1,         21,         21,2,20170717,       1118,   -30.0801,   172.5001,       2138,   302.4,  15.4065,  35.3847,2,  35.3539,2, 197.8731,2, 198.2655,2,     2.3,2,    8.44,2,    0.00,2,    0.59,2,-999.000,9,-999.000,9,-999.0000,9,  2105.7,2, 2317.32,2,   7.8719,2, -999.00,9, -999.00,9, -999.00,  -999.0,9, -999.00,9,     -999.0,9,  -999.0,9, 20170717,     1058, -30.0799, 172.4997,        0.0,1,      0.060,1,      0.006,1,      0.146,1,      25.02,     -999.0,9,     -999.0,9,     -999.0,9,     -999.0,9,    15.0960,2,     -999.0,9
320620170703,        P06,      65,          1,         22,         22,2,20170717,       1118,   -30.0801,   172.5001,       2138,   251.2,  16.6584,  35.5010,2,  35.4866,2, 196.9418,2, 197.5083,2,     1.7,2,    6.62,2,    0.00,2,    0.46,2,-999.000,9,-999.000,9,-999.0000,9,  -999.0,9, -999.00,9,-999.0000,9, -999.00,9, -999.00,9, -999.00,  -999.0,9, -999.00,9,     -999.0,9,  -999.0,9, 20170717,     1100, -30.0799, 172.4996,        0.0,1,      0.060,1,      1.881,1,      0.150,1,     -999.0,     -999.0,9,     -999.0,9,     -999.0,9,     -999.0,9,    16.4965,2,     -999.0,9
320620170703,        P06,      65,          1,         23,         23,2,20170717,       1118,   -30.0801,   172.5001,       2138,   227.2,  16.8648,  35.5209,2,  35.5113,2, 197.8188,2, 197.7262,2,     1.6,2,    6.21,2,    0.02,2,    0.43,2,-999.000,9,-999.000,9,-999.0000,9,  2094.2,2, 2324.72,2,   7.9122,2, -999.00,9, -999.00,9, -999.00,  -999.0,9, -999.00,9,     -999.0,9,  -999.0,9, 20170717,     1102, -30.0799, 172.4996,        0.0,1,      0.061,1,      0.006,1,      0.154,1,      25.02,     -999.0,9,     -999.0,9,     -999.0,9,     -999.0,9,    16.7951,2,     -999.0,9
320620170703,        P06,      65,          1,         24,         24,2,20170717,       1118,   -30.0801,   172.5001,       2138,   200.9,  17.1896,  35.5521,2,  35.5727,2, 202.3113,2, 201.1115,2,     1.2,2,    4.99,2,    0.04,2,    0.36,2,-999.000,9,-999.000,9,-999.0000,9,  -999.0,9, -999.00,9,-999.0000,9, -999.00,9, -999.00,9, -999.00,  -999.0,9, -999.00,9,     -999.0,9,  -999.0,9, 20170717,     1104, -30.0798, 172.4995,        0.0,1,      0.061,1,      0.008,1,      0.150,1,     -999.0,     -999.0,9,     -999.0,9,     -999.0,9,     -999.0,9,    17.4764,2,     -999.0,9
320620170703,        P06,      65,          1,         25,         25,2,20170717,       1118,   -30.0801,   172.5001,       2138,   175.0,  17.6980,  35.6028,2,  35.6202,2, 205.9205,2, 204.8382,2,     1.0,2,    4.14,2,    0.06,2,    0.30,2,-999.000,9,-999.000,9,-999.0000,9,  2083.2,2, 2331.72,2,   7.9464,2, -999.00,9, -999.00,9, -999.00,  -999.0,9, -999.00,9,     -999.0,9,  -999.0,9, 20170717,     1106, -30.0799, 172.4996,        0.0,1,      0.065,1,      0.018,1,      0.153,1,      25.03,     -999.0,9,     -999.0,9,     -999.0,9,     -999.0,9,    17.8963,2,     -999.0,9
320620170703,        P06,      65,          1,         26,         26,2,20170717,       1118,   -30.0801,   172.5001,       2138,   150.8,  18.1373,  35.6595,2,  35.7928,2, 221.3015,2, 221.4264,2,     0.3,2,    0.99,2,    0.21,2,    0.13,2,-999.000,9,-999.000,9,-999.0000,9,  -999.0,9, -999.00,9,-999.0000,9, -999.00,9, -999.00,9, -999.00,  -999.0,9, -999.00,9,     -999.0,9,  -999.0,9, 20170717,     1108, -30.0799, 172.4997,        0.0,1,      0.073,1,      0.124,1,      0.158,1,     -999.0,     -999.0,9,     -999.0,9,     -999.0,9,     -999.0,9,    19.0146,2,     -999.0,9
320620170703,        P06,      65,          1,         27,         27,2,20170717,       1118,   -30.0801,   172.5001,       2138,   125.3,  18.9818,  35.7879,2,  35.7951,2, 221.8348,2, 221.9683,2,     0.4,2,    0.95,2,    0.20,2,    0.11,2,-999.000,9,-999.000,9,-999.0000,9,  2063.3,2, 2348.64,2,   7.9983,2, -999.00,9, -999.00,9, -999.00,  -999.0,9, -999.00,9,     -999.0,9,  -999.0,9, 20170717,     1110, -30.0801, 172.4999,        0.0,1,      0.139,1,      3.220,1,      0.185,1,      25.02,     -999.0,9,     -999.0,9,     -999.0,9,     -999.0,9,    19.0152,2,     -999.0,9
320620170703,        P06,      65,          1,         28,         28,2,20170717,       1118,   -30.0801,   172.5001,       2138,   100.1,  19.0591,  35.8053,2,  35.8082,2, 224.2590,2, 223.5367,2,     0.3,2,    0.76,2,    0.19,2,    0.11,2,-999.000,9,-999.000,9,-999.0000,9,  -999.0,9, -999.00,9,-999.0000,9, -999.00,9, -999.00,9, -999.00,  -999.0,9, -999.00,9,     -999.0,9,  -999.0,9, 20170717,     1111, -30.0801, 172.5001,        0.0,1,      0.167,1,      3.447,1,      0.190,1,     -999.0,     -999.0,9,     -999.0,9,     -999.0,9,     -999.0,9,    19.0781,2,     -999.0,9
320620170703,        P06,      65,          1,         29,         29,2,20170717,       1118,   -30.0801,   172.5001,       2138,    76.1,  19.0941,  35.8106,2,  35.8100,2, 223.5153,2, 223.7387,2,     0.3,2,    0.71,2,    0.20,2,    0.11,2,-999.000,9,-999.000,9,-999.0000,9,  2059.6,2, 2345.23,2,   8.0028,2, -999.00,9, -999.00,9, -999.00,  -999.0,9, -999.00,9,     -999.0,9,  -999.0,9, 20170717,     1113, -30.0802, 172.5003,        0.0,1,      0.201,1,      2.444,1,      0.199,1,      25.03,     -999.0,9,     -999.0,9,     -999.0,9,     -999.0,9,    19.0844,2,     -999.0,9
320620170703,        P06,      65,          1,         30,         30,2,20170717,       1118,   -30.0801,   172.5001,       2138,    50.1,  19.0942,  35.8110,2,  35.8107,2, 223.7298,2, 223.8036,2,     0.3,2,    0.69,2,    0.20,2,    0.11,2,-999.000,9,-999.000,9,-999.0000,9,  -999.0,9, -999.00,9,-999.0000,9, -999.00,9, -999.00,9, -999.00,  -999.0,9, -999.00,9,     -999.0,9,  -999.0,9, 20170717,     1115, -30.0802, 172.5002,        0.0,1,      0.193,1,      2.976,1,      0.202,1,     -999.0,     -999.0,9,     -999.0,9,     -999.0,9,     -999.0,9,    19.0853,2,     -999.0,9
320620170703,        P06,      65,          1,         31,         31,2,20170717,       1118,   -30.0801,   172.5001,       2138,    24.6,  19.0914,  35.8109,2,  35.8109,2, 223.7307,2, 224.3844,2,     0.3,2,    0.69,2,    0.20,2,    0.11,2,-999.000,9,-999.000,9,-999.0000,9,  2061.8,2, 2346.47,2,   8.0040,2, -999.00,9, -999.00,9, -999.00,  -999.0,9, -999.00,9,     -999.0,9,  -999.0,9, 20170717,     1117, -30.0801, 172.5001,        0.0,1,      0.208,1,      3.681,1,      0.200,1,      25.02,     -999.0,9,     -999.0,9,     -999.0,9,     -999.0,9,    19.0830,2,     -999.0,9
320620170703,        P06,      65,          1,         32,         32,2,20170717,       1118,   -30.0801,   172.5001,       2138,     4.3,  19.0872,  35.8109,2,  35.8092,2, 223.7307,2, 224.2289,2,     0.3,2,    0.69,2,    0.20,2,    0.12,2,-999.000,9,-999.000,9,-999.0000,9,  2061.4,6, 2343.53,2,   8.0035,2, -999.00,9, -999.00,9, -999.00,  -999.0,9, -999.00,9,     -999.0,9,  -999.0,9, 20170717,     1118, -30.0801, 172.5001,        0.0,1,      0.194,1,      3.629,1,      0.195,1,      25.02,     -999.0,9,     -999.0,9,     -999.0,9,     -999.0,9,    19.0789,2,     -999.0,9