BOTTLE,20230922CCHSIOCBG
EXPOCODE,SECT_ID,STNNBR,CASTNO,SAMPNO,BTLNBR,BTLNBR_FLAG_W,DATE,TIME,LATITUDE,LONGITUDE,DEPTH,CTDPRS,CTDTMP,CTDSAL,CTDSAL_FLAG_W,SALNTY,SALNTY_FLAG_W,CTDOXY,CTDOXY_FLAG_W,OXYGEN,OXYGEN_FLAG_W,SILCAT,SILCAT_FLAG_W,NITRAT,NITRAT_FLAG_W,NITRIT,NITRIT_FLAG_W,PHSPHT,PHSPHT_FLAG_W,CFC-11,CFC-11_FLAG_W,CFC-12,CFC-12_FLAG_W,SF6,SF6_FLAG_W,TCARBN,TCARBN_FLAG_W,ALKALI,ALKALI_FLAG_W,PH_TOT,PH_TOT_FLAG_W,DELC13,DELC13_FLAG_W,DELC14,DELC14_FLAG_W,C14ERR,DOC,DOC_FLAG_W,TDN,TDN_FLAG_W,TON,TON_FLAG_W,D15N_NO3,D15N_NO3_FLAG_W,BTL_DATE,BTL_TIME,BTL_LAT,BTL_LON,CTDRINKO,CTDRINKO_FLAG_W,CTDFLUOR,CTDFLUOR_FLAG_W,CTDXMISS,CTDXMISS_FLAG_W,CTDBACKSCATTER,CTDBACKSCATTER_FLAG_W,PH_TMP,D18O_NO3,D18O_NO3_FLAG_W,DOP,DOP_FLAG_W,HPLC,HPLC_FLAG_W,POC,POC_FLAG_W,REFTMP,REFTMP_FLAG_W,TDP,TDP_FLAG_W
,,,,,,,,,,,METERS,DBAR,ITS-90,PSS-78,,PSS-78,,UMOL/KG,,UMOL/KG,,UMOL/KG,,UMOL/KG,,UMOL/KG,,UMOL/KG,,PMOL/KG,,PMOL/KG,,FMOL/KG,,UMOL/KG,,UMOL/KG,,,,/MILLE,,/MILLE,,/MILLE,UMOL/KG,,UMOL/KG,,UMOL/KG,,/MILLE,,,,,,VOLTS,,VOLTS,,VOLTS,,VOLTS,,DEGC,/MILLE,,UMOL/KG,,,,UG/L,,ITS-90,,UMOL/KG,
320620170703,        P06,     142,          1,          1,          1,2,20170813,       0742,   -32.4999,  -149.5785,       5308,  5405.6,   1.2125,  34.7099,2,  34.7064,2, 201.9627,2, 202.5581,2,   119.7,2,   32.32,2,    0.00,2,    2.25,2,   0.058,2,   0.031,2,   0.0000,2,  2267.2,6, 2371.25,2,   7.6081,2, -999.00,9, -999.00,9, -999.00,    39.9,2, -999.00,9,     -999.0,1,  -999.0,9, 20170813,      520, -32.4998,-149.5784,        0.0,1,      0.056,1,      4.694,1,      0.071,1,      25.03,     -999.0,9,     -999.0,9,     -999.0,9,     -999.0,9,     1.2129,2,     -999.0,9
320620170703,        P06,     142,          1,          2,          2,2,20170813,       0742,   -32.4999,  -149.5785,       5308,  5279.9,   1.1996,  34.7100,2,  34.7107,2, 201.9627,2, 202.5197,2,   119.6,2,   32.31,2,    0.00,2,    2.23,2,   0.056,2,   0.035,2,   0.0000,2,  2265.7,2, 2370.32,2,   7.6070,2, -999.00,9, -999.00,9, -999.00,  -999.0,9, -999.00,9,     -999.0,9,  -999.0,9, 20170813,      525, -32.5001,-149.5783,        0.0,1,      0.056,1,      4.695,1,      0.071,1,      25.02,     -999.0,9,     -999.0,9,     -999.0,9,     -999.0,9,     1.2001,2,     -999.0,9
320620170703,        P06,     142,          1,          3,          3,2,20170813,       0742,   -32.4999,  -149.5785,       5308,  4992.0,   1.1878,  34.7097,2,  34.7107,2, 200.4132,2, 201.4514,2,   119.4,2,   32.34,2,    0.00,2,    2.23,2,   0.047,2,   0.032,2,   0.0000,2,  2265.8,2, 2369.49,2,   7.6064,2, -999.00,9, -999.00,9, -999.00,    38.6,2, -999.00,9,     -999.0,1,  -999.0,9, 20170813,      533, -32.4999,-149.5784,        0.0,1,      0.058,1,      4.695,1,      0.071,1,      25.06,     -999.0,9,     -999.0,9,     -999.0,9,     -999.0,9,     1.1852,2,     -999.0,9
320620170703,        P06,     142,          1,          4,          4,2,20170813,       0742,   -32.4999,  -149.5785,       5308,  4682.7,   1.2378,  34.7078,2,  34.7097,2, 200.1639,3, 197.9488,2,   119.3,2,   32.55,2,    0.00,2,    2.24,2,   0.039,2,   0.026,2,   0.0000,2,  2268.5,2, 2373.57,2,   7.6053,2, -999.00,9, -999.00,9, -999.00,  -999.0,9, -999.00,9,     -999.0,9,  -999.0,9, 20170813,      540, -32.5002,-149.5783,        0.0,1,      0.056,1,      4.697,1,      0.071,1,      25.04,     -999.0,9,     -999.0,9,     -999.0,9,     -999.0,9,     1.2318,2,     -999.0,9
320620170703,        P06,     142,          1,          5,          5,2,20170813,       0742,   -32.4999,  -149.5785,       5308,  4376.2,   1.2739,  34.7047,2,  34.7056,2, 193.0697,2, 193.1439,2,   120.3,2,   32.88,2,    0.00,2,    2.27,2,   0.029,2,   0.020,2,   0.0000,2,  2275.0,2, 2378.26,2,   7.6029,2, -999.00,9, -999.00,9, -999.00,    38.7,2, -999.00,9,     -999.0,1,  -999.0,9, 20170813,      548, -32.5002,-149.5782,        0.0,1,      0.056,1,      4.697,1,      0.070,1,      25.03,     -999.0,9,     -999.0,9,     -999.0,9,     -999.0,9,     1.2757,2,     -999.0,9
320620170703,        P06,     142,          1,          6,          6,2,20170813,       0742,   -32.4999,  -149.5785,       5308,  4064.8,   1.3186,  34.7021,2,  34.7026,2, 188.1591,2, 188.6936,2,   121.1,2,   33.14,2,    0.00,2,    2.29,2,   0.029,2,   0.021,2,   0.0000,2,  2279.3,2, 2380.25,2,   7.6001,2, -999.00,9, -999.00,9, -999.00,  -999.0,9, -999.00,9,     -999.0,9,  -999.0,9, 20170813,      554, -32.5002,-149.5782,        0.0,1,      0.057,1,      4.697,1,      0.071,1,      25.04,     -999.0,9,     -999.0,9,     -999.0,9,     -999.0,9,     1.3195,2,     -999.0,9
320620170703,        P06,     142,          1,          7,          7,2,20170813,       0742,   -32.4999,  -149.5785,       5308,  3761.3,   1.4096,  34.6980,2,  34.6991,2, 180.8369,2, 181.3946,2,   122.2,2,   33.59,2,    0.00,2,    2.34,2,   0.024,2,   0.019,2,   0.0000,2,  2285.6,2, 2389.50,2,   7.5942,2, -999.00,9, -999.00,9, -999.00,    39.0,2, -999.00,9,     -999.0,1,  -999.0,9, 20170813,      601, -32.4999,-149.5784,        0.0,1,      0.055,1,      4.697,1,      0.071,1,      25.02,     -999.0,9,     -999.0,9,     -999.0,9,     -999.0,9,     1.4131,2,     -999.0,9
320620170703,        P06,     142,          1,          8,          8,2,20170813,       0742,   -32.4999,  -149.5785,       5308,  3451.1,   1.5360,  34.6908,2,  34.6916,2, 172.9197,2, 171.6501,2,   124.7,2,   34.27,2,    0.00,2,    2.37,2,   0.026,2,   0.020,2,   0.0000,2,  2295.2,2, 2395.99,2,   7.5876,2, -999.00,9, -999.00,9, -999.00,    36.6,2, -999.00,9,     -999.0,1,  -999.0,9, 20170813,      607, -32.5000,-149.5784,        0.0,1,      0.057,1,      4.697,1,      0.072,1,      25.03,     -999.0,9,     -999.0,9,     -999.0,9,     -999.0,9,     1.5366,2,     -999.0,9
320620170703,        P06,     142,          1,          9,          9,2,20170813,       0742,   -32.4999,  -149.5785,       5308,  3144.4,   1.6496,  34.6807,2,  34.6814,2, 162.9319,3, 160.7784,2,   127.8,2,   35.04,2,    0.00,2,    2.42,2,   0.021,2,   0.015,2,   0.0000,2,  2305.7,2, 2399.62,2,   7.5783,2, -999.00,9, -999.00,9, -999.00,    36.0,3, -999.00,9,     -999.0,1,  -999.0,9, 20170813,      613, -32.5000,-149.5784,        0.0,1,      0.056,1,      4.697,1,      0.071,1,      25.04,     -999.0,9,     -999.0,9,     -999.0,9,     -999.0,9,     1.6535,2,     -999.0,9
320620170703,        P06,     142,          1,         10,         10,2,20170813,       0742,   -32.4999,  -149.5785,       5308,  2872.5,   1.7543,  34.6705,2,  34.6732,2, 156.0920,2, 155.0489,2,   128.1,2,   35.46,2,    0.00,2,    2.45,2,   0.023,2,   0.017,2,   0.0000,2,  2309.7,2, 2402.78,2,   7.5730,2, -999.00,9, -999.00,9, -999.00,  -999.0,9, -999.00,9,     -999.0,9,  -999.0,9, 20170813,      619, -32.5002,-149.5783,        0.0,1,      0.056,1,      4.697,1,      0.071,1,      25.04,     -999.0,9,     -999.0,9,     -999.0,9,     -999.0,9,     1.7354,2,     -999.0,9
320620170703,        P06,     142,          1,         11,         11,2,20170813,       0742,   -32.4999,  -149.5785,       5308,  2620.0,   1.8462,  34.6626,2,  34.6659,2, 151.7502,2, 151.4071,2,   126.3,2,   35.70,2,    0.00,2,    2.46,2,   0.022,2,   0.016,2,   0.0000,2,  2312.1,2, 2404.13,2,   7.5698,2, -999.00,9, -999.00,9, -999.00,    38.8,2, -999.00,9,     -999.0,1,  -999.0,9, 20170813,      625, -32.4998,-149.5784,        0.0,1,      0.058,1,      4.697,1,      0.070,1,      25.03,     -999.0,9,     -999.0,9,     -999.0,9,     -999.0,9,     1.8315,2,     -999.0,9
320620170703,        P06,     142,          1,         12,         12,2,20170813,       0742,   -32.4999,  -149.5785,       5308,  2364.9,   1.9516,  34.6536,2,  34.6612,3, 149.3520,3, 151.5917,2,   121.6,2,   35.68,2,    0.00,2,    2.46,2,   0.022,2,   0.017,2,   0.0000,2,  2307.7,6, 2401.30,2,   7.5667,2, -999.00,9, -999.00,9, -999.00,  -999.0,9, -999.00,9,     -999.0,9,  -999.0,9, 20170813,      631, -32.5001,-149.5782,        0.0,1,      0.056,1,      4.698,1,      0.070,1,      25.04,     -999.0,9,     -999.0,9,     -999.0,9,     -999.0,9,     1.9499,2,     -999.0,9
320620170703,        P06,     142,          1,         13,         13,2,20170813,       0742,   -32.4999,  -149.5785,       5308,  2112.6,   2.1125,  34.6381,2,  34.6396,2, 149.5861,3, 151.3762,2,   114.6,2,   35.55,2,    0.00,2,    2.46,2,   0.023,2,   0.017,2,   0.0000,2,  2300.3,2, 2391.00,2,   7.5658,2, -999.00,9, -999.00,9, -999.00,    36.5,2, -999.00,9,     -999.0,1,  -999.0,9, 20170813,      636, -32.4998,-149.5784,        0.0,1,      0.057,1,      4.698,1,      0.072,1,      25.03,     -999.0,9,     -999.0,9,     -999.0,9,     -999.0,9,     2.0954,2,     -999.0,9
320620170703,        P06,     142,          1,         14,         14,2,20170813,       0742,   -32.4999,  -149.5785,       5308,  1886.1,   2.2984,  34.6192,2,  34.6209,2, 151.6457,2, 153.1251,2,   105.7,2,   35.31,2,    0.00,2,    2.43,2,   0.025,2,   0.018,2,   0.0000,2,  2292.6,2, 2379.94,2,   7.5665,2, -999.00,9, -999.00,9, -999.00,  -999.0,9, -999.00,9,     -999.0,9,  -999.0,9, 20170813,      642, -32.5000,-149.5783,        0.0,1,      0.057,1,      4.698,1,      0.071,1,      25.05,     -999.0,9,     -999.0,9,     -999.0,9,     -999.0,9,     2.2808,2,     -999.0,9
320620170703,        P06,     142,          1,         15,         15,2,20170813,       0742,   -32.4999,  -149.5785,       5308,  1681.7,   2.5261,  34.5761,2,  34.5842,2, 155.8561,3, 157.5702,2,    93.8,2,   35.09,2,    0.00,2,    2.42,2,   0.031,2,   0.024,2,   0.0000,2,  2278.8,2, 2365.97,2,   7.5668,2, -999.00,9, -999.00,9, -999.00,    37.3,2, -999.00,9,     -999.0,1,  -999.0,9, 20170813,      646, -32.5001,-149.5782,        0.0,1,      0.056,1,      4.698,1,      0.072,1,      25.03,     -999.0,9,     -999.0,9,     -999.0,9,     -999.0,9,     2.4794,2,     -999.0,9
320620170703,        P06,     142,          1,         16,         16,2,20170813,       0742,   -32.4999,  -149.5785,       5308,  1479.5,   2.8209,  34.5124,2,  34.5190,2, 165.1934,2, 166.1265,2,    74.6,2,   34.67,2,    0.00,2,    2.38,2,   0.116,2,   0.065,2,   0.0000,2,  2258.4,2, 2342.73,2,   7.5654,2, -999.00,9, -999.00,9, -999.00,  -999.0,9, -999.00,9,     -999.0,9,  -999.0,9, 20170813,      651, -32.5000,-149.5783,        0.0,1,      0.056,1,      4.698,1,      0.070,1,      25.03,     -999.0,9,     -999.0,9,     -999.0,9,     -999.0,9,     2.7927,2,     -999.0,9
320620170703,        P06,     142,          1,         17,         17,2,20170813,       0742,   -32.4999,  -149.5785,       5308,  1349.3,   3.1140,  34.4536,2,  34.4467,2, 174.0486,2, 174.1980,2,    60.5,2,   34.22,2,    0.00,2,    2.35,2,   0.280,2,   0.147,2,   0.0000,2,  2239.6,2, 2326.96,2,   7.5699,2, -999.00,9, -999.00,9, -999.00,    38.2,2, -999.00,9,     -999.0,1,  -999.0,9, 20170813,      655, -32.5000,-149.5783,        0.0,1,      0.057,1,      4.698,1,      0.072,1,      25.03,     -999.0,9,     -999.0,9,     -999.0,9,     -999.0,9,     3.1507,2,     -999.0,9
320620170703,        P06,     142,          1,         18,         18,2,20170813,       0742,   -32.4999,  -149.5785,       5308,  1245.5,   3.4302,  34.4002,2,  34.3906,3, 183.8973,2, 184.0802,2,    48.9,2,   33.40,2,    0.00,2,    2.28,2,   0.647,2,   0.303,2,   0.0620,2,  2224.4,2, 2315.60,2,   7.5814,2, -999.00,9, -999.00,9, -999.00,  -999.0,9, -999.00,9,     -999.0,9,  -999.0,9, 20170813,      658, -32.5002,-149.5781,        0.0,1,      0.058,1,      4.698,1,      0.071,1,      25.03,     -999.0,9,     -999.0,9,     -999.0,9,     -999.0,9,     3.5009,2,     -999.0,9
320620170703,        P06,     142,          1,         19,         19,2,20170813,       0742,   -32.4999,  -149.5785,       5308,  1148.2,   3.8585,  34.3607,2,  34.3486,2, 194.5974,2, 193.3881,2,    38.4,2,   32.20,2,    0.00,2,    2.20,2,   0.979,2,   0.446,2,   0.1120,2,  2208.5,2, 2300.81,2,   7.6008,2, -999.00,9, -999.00,9, -999.00,    40.0,2, -999.00,9,     -999.0,1,  -999.0,9, 20170813,      701, -32.5001,-149.5782,        0.0,1,      0.056,1,      4.698,1,      0.072,1,      25.03,     -999.0,9,     -999.0,9,     -999.0,9,     -999.0,9,     4.0037,2,     -999.0,9
320620170703,        P06,     142,          1,         20,         20,2,20170813,       0742,   -32.4999,  -149.5785,       5308,  1046.2,   4.5047,  34.3227,2,  34.3209,3, 204.0836,2, 202.2482,2,    29.4,2,   30.76,2,    0.00,2,    2.08,2,   1.410,2,   0.627,2,   0.2550,2,  2194.0,2, 2296.52,2,   7.6196,2, -999.00,9, -999.00,9, -999.00,  -999.0,9, -999.00,9,     -999.0,9,  -999.0,9, 20170813,      704, -32.4999,-149.5784,        0.0,1,      0.055,1,      4.698,1,      0.072,1,      25.03,     -999.0,9,     -999.0,9,     -999.0,9,     -999.0,9,     4.5291,2,     -999.0,9
320620170703,        P06,     142,          1,         21,         21,2,20170813,       0742,   -32.4999,  -149.5785,       5308,   943.7,   5.0702,  34.3079,2,  34.3056,2, 216.4548,3, 214.0691,2,    20.6,2,   28.65,2,    0.00,2,    1.94,2,   1.981,2,   0.916,2,   0.2730,2,  2178.2,2, 2291.20,2,   7.6473,2, -999.00,9, -999.00,9, -999.00,    41.5,2, -999.00,9,     -999.0,1,  -999.0,9, 20170813,      707, -32.4998,-149.5785,        0.0,1,      0.058,1,      4.697,1,      0.070,1,      25.03,     -999.0,9,     -999.0,9,     -999.0,9,     -999.0,9,     5.1719,2,     -999.0,9
320620170703,        P06,     142,          1,         22,         22,2,20170813,       0742,   -32.4999,  -149.5785,       5308,   843.0,   5.6542,  34.3056,2,  34.3058,3, 228.9144,2, 228.1010,2,    13.3,2,   26.15,2,    0.00,2,    1.77,2,   2.693,2,   1.285,2,   0.3840,2,  2162.0,2, 2281.08,2,   7.6752,2, -999.00,9, -999.00,9, -999.00,  -999.0,9, -999.00,9,     -999.0,9,  -999.0,9, 20170813,      710, -32.4998,-149.5785,        0.0,1,      0.056,1,      4.697,1,      0.071,1,      25.02,     -999.0,9,     -999.0,9,     -999.0,9,     -999.0,9,     5.8008,2,     -999.0,9
320620170703,        P06,     142,          1,         23,         23,2,20170813,       0742,   -32.4999,  -149.5785,       5308,   738.4,   6.1849,  34.3206,2,  34.3329,2, 239.1102,2, 238.4706,2,     8.7,2,   23.78,2,    0.00,2,    1.60,2,   3.391,2,   1.614,2,   0.7090,2,  2151.4,2, 2282.82,2,   7.6991,2, -999.00,9, -999.00,9, -999.00,  -999.0,9, -999.00,9,     -999.0,1,  -999.0,9, 20170813,      713, -32.5000,-149.5783,        0.0,1,      0.054,1,      4.697,1,      0.071,1,      25.03,     -999.0,9,     -999.0,9,     -999.0,9,     -999.0,9,     6.4447,2,     -999.0,9
320620170703,        P06,     142,          1,         24,         24,2,20170813,       0742,   -32.4999,  -149.5785,       5308,   639.3,   6.7618,  34.3552,2,  34.3609,2, 239.8017,2, 241.6467,2,     7.0,2,   22.44,2,    0.00,2,    1.52,2,   3.624,2,   1.789,2,   0.8040,2,  2148.1,2, 2281.19,2,   7.7076,2, -999.00,9, -999.00,9, -999.00,    41.2,2, -999.00,9,     -999.0,1,  -999.0,9, 20170813,      716, -32.5001,-149.5782,        0.0,1,      0.057,1,      4.696,1,      0.072,1,      25.02,     -999.0,9,     -999.0,9,     -999.0,9,     -999.0,9,     6.8599,2,     -999.0,9
320620170703,        P06,     142,          1,         25,         25,2,20170813,       0742,   -32.4999,  -149.5785,       5308,   538.8,   7.4278,  34.4068,2,  34.4116,2, 244.6261,2, 246.2198,2,     5.2,2,   20.32,2,    0.00,2,    1.37,2,   3.712,2,   1.952,2,   1.4470,4,  2142.0,6, 2282.98,6,   7.7203,2, -999.00,9, -999.00,9, -999.00,    43.3,2, -999.00,9,     -999.0,1,  -999.0,9, 20170813,      719, -32.5000,-149.5783,        0.0,1,      0.056,1,      4.694,1,      0.070,1,      25.02,     -999.0,9,     -999.0,9,     -999.0,9,     -999.0,9,     7.4778,2,     -999.0,9
320620170703,        P06,     142,          1,         26,         26,2,20170813,       0742,   -32.4999,  -149.5785,       5308,   438.0,   7.9982,  34.4541,2,  34.4445,2, 240.9123,2, 242.2746,2,     4.2,2,   19.09,2,    0.00,2,    1.29,2,   3.753,2,   1.909,2,   1.0010,2,  2138.0,2, 2281.76,2,   7.7269,2, -999.00,9, -999.00,9, -999.00,    48.6,3, -999.00,9,     -999.0,1,  -999.0,9, 20170813,      722, -32.4999,-149.5784,        0.0,1,      0.055,1,      4.694,1,      0.071,1,      25.05,     -999.0,9,     -999.0,9,     -999.0,9,     -999.0,9,     7.9187,2,     -999.0,9
320620170703,        P06,     142,          1,         27,         27,2,20170813,       0742,   -32.4999,  -149.5785,       5308,   366.7,   8.7993,  34.5049,2,  34.5013,2, 227.6861,3, 230.4897,2,     3.4,2,   17.44,2,    0.00,2,    1.19,2,   3.483,2,   1.806,2,   1.1430,2,  2134.8,2, -999.00,9,   7.7362,2, -999.00,9, -999.00,9, -999.00,    45.2,2, -999.00,9,     -999.0,1,  -999.0,9, 20170813,      725, -32.4998,-149.5785,        0.0,1,      0.056,1,      4.692,1,      0.071,1,      25.03,     -999.0,9,     -999.0,9,     -999.0,9,     -999.0,9,     8.7915,2,     -999.0,9
320620170703,        P06,     142,          1,         28,         28,2,20170813,       0742,   -32.4999,  -149.5785,       5308,   314.1,  10.2540,  34.6395,2,  34.5973,2, 219.0692,2, 218.0160,2,     2.9,2,   15.51,2,    0.00,2,    1.07,2,   3.324,2,   1.697,2,   0.8900,2,  2130.6,2, 2285.13,2,   7.7541,2, -999.00,9, -999.00,9, -999.00,    46.2,2, -999.00,9,     -999.0,1,  -999.0,9, 20170813,      727, -32.4998,-149.5785,        0.0,1,      0.055,1,      4.691,1,      0.071,1,      25.02,     -999.0,9,     -999.0,9,     -999.0,9,     -999.0,9,     9.7788,2,     -999.0,9
320620170703,        P06,     142,          1,         29,         29,2,20170813,       0742,   -32.4999,  -149.5785,       5308,   265.5,  11.7539,  34.8168,2,  34.8147,2, 209.5363,2, 211.3587,2,     1.9,2,   11.25,2,    0.00,2,    0.81,2,   3.032,2,   1.596,2,   1.0840,2,  2118.9,2, -999.00,9,   7.7964,2, -999.00,9, -999.00,9, -999.00,    47.6,2,   14.10,2,     -999.0,1,  -999.0,9, 20170813,      729, -32.5001,-149.5783,        0.0,1,      0.056,1,      4.690,1,      0.071,1,      25.01,     -999.0,9,     -999.0,9,     -999.0,9,     -999.0,9,    11.7255,2,     -999.0,9
320620170703,        P06,     142,          1,         30,         30,2,20170813,       0742,   -32.4999,  -149.5785,       5308,   216.8,  13.4016,  35.0208,2,  35.0268,2, 217.5591,3, 214.5572,2,     1.0,2,    6.95,2,    0.00,2,    0.55,2,   2.769,2,   1.507,2,   1.2030,2,  2103.7,2, 2303.56,2,   7.8480,2, -999.00,9, -999.00,9, -999.00,    47.3,2,    9.40,2,     -999.0,1,  -999.0,9, 20170813,      731, -32.5001,-149.5781,        0.0,1,      0.055,1,      4.687,1,      0.071,1,      25.03,     -999.0,9,     -999.0,9,     -999.0,9,     -999.0,9,    13.4985,2,     -999.0,9
320620170703,        P06,     142,          1,         31,         31,2,20170813,       0742,   -32.4999,  -149.5785,       5308,   163.2,  14.8556,  35.2216,2,  35.2097,2, 215.0415,3, 217.4751,2,     0.5,2,    4.29,2,    0.02,2,    0.37,2,   2.600,2,   1.456,2,   1.3320,2,  2094.8,2, -999.00,9,   7.8841,2, -999.00,9, -999.00,9, -999.00,    51.1,2,    7.50,2,     -999.0,1,  -999.0,9, 20170813,      733, -32.5001,-149.5782,        0.0,1,      0.057,1,      4.681,1,      0.070,1,      25.02,     -999.0,9,     -999.0,9,     -999.0,9,     -999.0,9,    14.7811,2,     -999.0,9
320620170703,        P06,     142,          1,         32,         32,2,20170813,       0742,   -32.4999,  -149.5785,       5308,   115.5,  16.3732,  35.4179,2,  35.2400,2, 235.4096,3, 238.4739,2,     0.0,2,    0.65,2,    0.10,2,    0.16,2,   2.471,2,   1.391,2,   1.3090,2,  2072.0,2, 2318.02,2,   7.9348,2, -999.00,9, -999.00,9, -999.00,    58.2,2,    4.40,2,     -999.0,1,  -999.0,9, 20170813,      735, -32.5000,-149.5784,        0.0,1,      0.057,1,      4.639,1,      0.072,1,      25.01,     -999.0,9,     -999.0,9,     -999.0,9,     -999.0,9,    15.6267,2,     -999.0,9