BOTTLE,20230922CCHSIOCBG
EXPOCODE,SECT_ID,STNNBR,CASTNO,SAMPNO,BTLNBR,BTLNBR_FLAG_W,DATE,TIME,LATITUDE,LONGITUDE,DEPTH,CTDPRS,CTDTMP,CTDSAL,CTDSAL_FLAG_W,SALNTY,SALNTY_FLAG_W,CTDOXY,CTDOXY_FLAG_W,OXYGEN,OXYGEN_FLAG_W,SILCAT,SILCAT_FLAG_W,NITRAT,NITRAT_FLAG_W,NITRIT,NITRIT_FLAG_W,PHSPHT,PHSPHT_FLAG_W,CFC-11,CFC-11_FLAG_W,CFC-12,CFC-12_FLAG_W,SF6,SF6_FLAG_W,TCARBN,TCARBN_FLAG_W,ALKALI,ALKALI_FLAG_W,PH_TOT,PH_TOT_FLAG_W,DELC13,DELC13_FLAG_W,DELC14,DELC14_FLAG_W,C14ERR,DOC,DOC_FLAG_W,TDN,TDN_FLAG_W,TON,TON_FLAG_W,D15N_NO3,D15N_NO3_FLAG_W,BTL_DATE,BTL_TIME,BTL_LAT,BTL_LON,CTDRINKO,CTDRINKO_FLAG_W,CTDFLUOR,CTDFLUOR_FLAG_W,CTDXMISS,CTDXMISS_FLAG_W,CTDBACKSCATTER,CTDBACKSCATTER_FLAG_W,PH_TMP,D18O_NO3,D18O_NO3_FLAG_W,DOP,DOP_FLAG_W,HPLC,HPLC_FLAG_W,POC,POC_FLAG_W,REFTMP,REFTMP_FLAG_W,TDP,TDP_FLAG_W
,,,,,,,,,,,METERS,DBAR,ITS-90,PSS-78,,PSS-78,,UMOL/KG,,UMOL/KG,,UMOL/KG,,UMOL/KG,,UMOL/KG,,UMOL/KG,,PMOL/KG,,PMOL/KG,,FMOL/KG,,UMOL/KG,,UMOL/KG,,,,/MILLE,,/MILLE,,/MILLE,UMOL/KG,,UMOL/KG,,UMOL/KG,,/MILLE,,,,,,VOLTS,,VOLTS,,VOLTS,,VOLTS,,DEGC,/MILLE,,UMOL/KG,,,,UG/L,,ITS-90,,UMOL/KG,
320620170703,        P06,      46,          1,          1,         37,2,20170713,       2326,   -30.0799,   167.0001,       2852,  2861.6,   1.9344,  34.6818,2,  34.6820,2, 157.5985,2, 157.8986,2,   117.4,2,   34.77,2,    0.00,2,    2.41,2,   0.030,2,   0.022,2,   0.0000,2,  2307.1,6, 2394.02,2,   7.5861,2, -999.00,9, -999.00,9, -999.00,    36.0,2, -999.00,9,     -999.0,1,  -999.0,9, 20170713,     2143, -30.0800, 167.0003,        0.0,1,      0.061,1,      4.686,1,      0.190,1,      25.03,     -999.0,9,     -999.0,9,     -999.0,9,     -999.0,9,     1.9356,2,     -999.0,9
320620170703,        P06,      46,          1,          2,          2,2,20170713,       2326,   -30.0799,   167.0001,       2852,  2717.4,   1.9635,  34.6787,2,  34.6791,2, 157.4314,2, 157.2443,2,   116.7,2,   34.75,2,    0.00,2,    2.41,2,-999.000,9,-999.000,9,-999.0000,9,  2307.0,2, 2390.67,6,   7.5826,2, -999.00,9, -999.00,9, -999.00,  -999.0,9, -999.00,9,     -999.0,9,  -999.0,9, 20170713,     2148, -30.0799, 167.0001,        0.0,1,      0.062,1,      4.703,1,      0.141,1,      25.00,     -999.0,9,     -999.0,9,     -999.0,9,     -999.0,9,     1.9597,2,     -999.0,9
320620170703,        P06,      46,          1,          3,         38,2,20170713,       2326,   -30.0799,   167.0001,       2852,  2567.6,   2.0049,  34.6746,2,  34.6745,2, 156.8297,2, 156.5707,2,   115.6,2,   34.83,2,    0.00,2,    2.42,2,   0.023,2,   0.019,2,   0.0000,2,  2305.5,2, 2389.84,2,   7.5810,2, -999.00,9, -999.00,9, -999.00,    37.1,2, -999.00,9,     -999.0,1,  -999.0,9, 20170713,     2152, -30.0800, 167.0003,        0.0,1,      0.062,1,      4.704,1,      0.142,1,      25.01,     -999.0,9,     -999.0,9,     -999.0,9,     -999.0,9,     2.0021,2,     -999.0,9
320620170703,        P06,      46,          1,          4,          4,2,20170713,       2326,   -30.0799,   167.0001,       2852,  2362.7,   2.0685,  34.6684,2,  34.6714,2, 155.4077,2, 155.7348,2,   114.2,2,   34.92,2,    0.00,2,    2.41,2,-999.000,9,-999.000,9,-999.0000,9,  2303.8,2, 2389.18,2,   7.5790,2, -999.00,9, -999.00,9, -999.00,    35.3,2, -999.00,9,     -999.0,1,  -999.0,9, 20170713,     2157, -30.0800, 167.0005,        0.0,1,      0.062,1,      4.706,1,      0.135,1,      25.04,     -999.0,9,     -999.0,9,     -999.0,9,     -999.0,9,     2.0682,2,     -999.0,9
320620170703,        P06,      46,          1,          5,         39,2,20170713,       2326,   -30.0799,   167.0001,       2852,  2159.2,   2.1914,  34.6572,2,  34.6576,2, 153.9817,2, 153.4174,2,   111.5,2,   34.93,2,    0.00,2,    2.44,2,   0.028,2,   0.021,2,   0.0000,2,  2301.6,2, 2385.65,2,   7.5773,2, -999.00,9, -999.00,9, -999.00,  -999.0,9, -999.00,9,     -999.0,9,  -999.0,9, 20170713,     2202, -30.0800, 167.0007,        0.0,1,      0.062,1,      4.705,1,      0.138,1,      25.01,     -999.0,9,     -999.0,9,     -999.0,9,     -999.0,9,     2.1848,2,     -999.0,9
320620170703,        P06,      46,          1,          6,          6,2,20170713,       2326,   -30.0799,   167.0001,       2852,  1988.3,   2.3330,  34.6445,2,  34.6449,2, 153.2301,2, 153.0695,2,   108.3,2,   34.91,2,    0.00,2,    2.41,2,-999.000,9,-999.000,9,-999.0000,9,  2298.1,2, 2380.30,2,   7.5759,2, -999.00,9, -999.00,9, -999.00,    36.2,2, -999.00,9,     -999.0,1,  -999.0,9, 20170713,     2206, -30.0800, 167.0005,        0.0,1,      0.061,1,      4.705,1,      0.140,1,      25.01,     -999.0,9,     -999.0,9,     -999.0,9,     -999.0,9,     2.3311,2,     -999.0,9
320620170703,        P06,      46,          1,          7,         40,2,20170713,       2326,   -30.0799,   167.0001,       2852,  1885.0,   2.4633,  34.6330,2,  34.6329,2, 153.1016,2, 153.9149,2,   105.4,2,   34.83,2,    0.00,2,    2.43,2,   0.036,2,   0.026,2,   0.0000,2,  2294.5,2, 2378.90,2,   7.5764,2, -999.00,9, -999.00,9, -999.00,  -999.0,9, -999.00,9,     -999.0,9,  -999.0,9, 20170713,     2210, -30.0800, 167.0004,        0.0,1,      0.061,1,      4.704,1,      0.146,1,      25.00,     -999.0,9,     -999.0,9,     -999.0,9,     -999.0,9,     2.4601,2,     -999.0,9
320620170703,        P06,      46,          1,          8,          8,2,20170713,       2326,   -30.0799,   167.0001,       2852,  1783.3,   2.5889,  34.6226,2,  34.6215,2, 153.2421,2, 153.4249,2,   102.4,2,   34.71,2,    0.00,2,    2.42,2,-999.000,9,-999.000,9,-999.0000,9,  2290.5,2, 2376.43,2,   7.5757,2, -999.00,9, -999.00,9, -999.00,    35.5,2, -999.00,9,     -999.0,1,  -999.0,9, 20170713,     2213, -30.0800, 167.0006,        0.0,1,      0.061,1,      4.705,1,      0.145,1,      24.99,     -999.0,9,     -999.0,9,     -999.0,9,     -999.0,9,     2.5965,2,     -999.0,9
320620170703,        P06,      46,          1,          9,         41,2,20170713,       2326,   -30.0799,   167.0001,       2852,  1682.0,   2.7647,  34.6083,2,  34.6081,2, 153.9436,2, 154.2235,2,    98.2,2,   34.45,2,    0.00,2,    2.39,2,   0.063,2,   0.043,2,   0.0000,2,  2286.9,2, 2368.76,2,   7.5766,2, -999.00,9, -999.00,9, -999.00,  -999.0,9, -999.00,9,     -999.0,9,  -999.0,9, 20170713,     2216, -30.0800, 167.0007,        0.0,1,      0.061,1,      4.704,1,      0.144,1,      25.01,     -999.0,9,     -999.0,9,     -999.0,9,     -999.0,9,     2.7621,2,     -999.0,9
320620170703,        P06,      46,          1,         10,         10,2,20170713,       2326,   -30.0799,   167.0001,       2852,  1584.0,   2.9381,  34.5951,2,  34.5973,2, 154.8812,2, 154.8997,2,    94.7,2,   34.17,2,    0.00,2,    2.36,2,-999.000,9,-999.000,9,-999.0000,9,  2281.9,2, 2363.62,2,   7.5791,2, -999.00,9, -999.00,9, -999.00,    35.7,2, -999.00,9,     -999.0,1,  -999.0,9, 20170713,     2219, -30.0801, 167.0008,        0.0,1,      0.061,1,      4.703,1,      0.149,1,      25.00,     -999.0,9,     -999.0,9,     -999.0,9,     -999.0,9,     2.9063,2,     -999.0,9
320620170703,        P06,      46,          1,         11,         42,2,20170713,       2326,   -30.0799,   167.0001,       2852,  1479.4,   3.2171,  34.5748,2,  34.5775,2, 158.3291,2, 157.7184,2,    88.0,2,   33.60,2,    0.00,2,    2.33,2,   0.147,2,   0.093,2,   0.0570,2,  2269.2,2, 2360.97,2,   7.5828,2, -999.00,9, -999.00,9, -999.00,  -999.0,9, -999.00,9,     -999.0,9,  -999.0,9, 20170713,     2223, -30.0800, 167.0006,        0.0,1,      0.061,1,      4.702,1,      0.150,1,      25.00,     -999.0,9,     -999.0,9,     -999.0,9,     -999.0,9,     3.1608,2,     -999.0,9
320620170703,        P06,      46,          1,         12,         12,2,20170713,       2326,   -30.0799,   167.0001,       2852,  1379.8,   3.7252,  34.5428,2,  34.5451,2, 165.9450,2, 165.3882,2,    74.9,2,   32.35,2,    0.00,2,    2.26,2,-999.000,9,-999.000,9,-999.0000,9,  2253.2,2, 2345.08,2,   7.5944,2, -999.00,9, -999.00,9, -999.00,  -999.0,9, -999.00,9,     -999.0,9,  -999.0,9, 20170713,     2226, -30.0800, 167.0006,        0.0,1,      0.062,1,      4.702,1,      0.150,1,      25.00,     -999.0,9,     -999.0,9,     -999.0,9,     -999.0,9,     3.6929,2,     -999.0,9
320620170703,        P06,      46,          1,         13,         43,2,20170713,       2326,   -30.0799,   167.0001,       2852,  1277.3,   4.3604,  34.5072,2,  34.5101,2, 174.2581,2, 174.2504,2,    60.2,2,   31.04,2,    0.00,2,    2.15,2,   0.506,2,   0.284,2,   0.0920,2,  2232.0,2, 2328.05,2,   7.6094,2, -999.00,9, -999.00,9, -999.00,    42.8,3, -999.00,9,     -999.0,1,  -999.0,9, 20170713,     2229, -30.0800, 167.0006,        0.0,1,      0.061,1,      4.702,1,      0.148,1,      25.00,     -999.0,9,     -999.0,9,     -999.0,9,     -999.0,9,     4.3339,2,     -999.0,9
320620170703,        P06,      46,          1,         14,         14,2,20170713,       2326,   -30.0799,   167.0001,       2852,  1176.2,   4.9649,  34.4825,2,  34.4860,2, 180.9437,2, 180.4648,2,    48.1,2,   29.87,2,    0.00,2,    2.05,2,-999.000,9,-999.000,9,-999.0000,9,  2214.0,2, 2316.26,2,   7.6232,2, -999.00,9, -999.00,9, -999.00,  -999.0,9, -999.00,9,     -999.0,9,  -999.0,9, 20170713,     2232, -30.0800, 167.0005,        0.0,1,      0.060,1,      4.704,1,      0.142,1,      25.01,     -999.0,9,     -999.0,9,     -999.0,9,     -999.0,9,     4.9122,2,     -999.0,9
320620170703,        P06,      46,          1,         15,         15,2,20170713,       2326,   -30.0799,   167.0001,       2852,  1074.8,   5.4207,  34.4477,2,  34.4500,2, 188.7286,2, 189.3331,2,    37.0,2,   28.69,2,    0.00,2,    1.97,2,   0.880,2,   0.480,2,   0.1530,2,  2200.0,2, 2302.35,2,   7.6362,2, -999.00,9, -999.00,9, -999.00,    39.0,2, -999.00,9,     -999.0,1,  -999.0,9, 20170713,     2236, -30.0800, 167.0004,        0.0,1,      0.061,1,      4.704,1,      0.145,1,      24.99,     -999.0,9,     -999.0,9,     -999.0,9,     -999.0,9,     5.3427,2,     -999.0,9
320620170703,        P06,      46,          1,         16,         16,2,20170713,       2326,   -30.0799,   167.0001,       2852,   974.5,   5.9707,  34.4387,2,  34.4381,2, 198.1473,2, 198.8134,2,    26.6,2,   26.84,2,    0.00,2,    1.85,2,-999.000,9,-999.000,9,-999.0000,9,  2183.5,2, 2294.30,2,   7.6569,2, -999.00,9, -999.00,9, -999.00,    39.0,2, -999.00,9,     -999.0,1,  -999.0,9, 20170713,     2239, -30.0800, 167.0002,        0.0,1,      0.060,1,      4.703,1,      0.144,1,      25.00,     -999.0,9,     -999.0,9,     -999.0,9,     -999.0,9,     5.9749,2,     -999.0,9
320620170703,        P06,      46,          1,         17,         17,2,20170713,       2326,   -30.0799,   167.0001,       2852,   871.6,   6.8014,  34.4914,2,  34.4958,2, 201.1402,2, 200.9013,2,    20.8,2,   24.81,2,    0.00,2,    1.71,2,   1.593,2,   0.867,2,   0.3270,2,  2173.9,6, 2291.15,2,   7.6755,2, -999.00,9, -999.00,9, -999.00,    40.2,2, -999.00,9,     -999.0,1,  -999.0,9, 20170713,     2242, -30.0799, 167.0000,        0.0,1,      0.060,1,      4.702,1,      0.145,1,      25.01,     -999.0,9,     -999.0,9,     -999.0,9,     -999.0,9,     6.8107,2,     -999.0,9
320620170703,        P06,      46,          1,         18,         18,2,20170713,       2326,   -30.0799,   167.0001,       2852,   770.6,   7.7142,  34.5538,2,  34.5659,2, 202.2208,2, 202.0062,2,    14.8,2,   22.51,2,    0.00,2,    1.56,2,-999.000,9,-999.000,9,-999.0000,9,  2162.4,2, 2286.45,2,   7.6961,2, -999.00,9, -999.00,9, -999.00,    40.2,2, -999.00,9,     -999.0,1,  -999.0,9, 20170713,     2246, -30.0799, 166.9999,        0.0,1,      0.061,1,      4.702,1,      0.140,1,      25.00,     -999.0,9,     -999.0,9,     -999.0,9,     -999.0,9,     7.8417,2,     -999.0,9
320620170703,        P06,      46,          1,         19,         19,2,20170713,       2326,   -30.0799,   167.0001,       2852,   671.3,   8.8204,  34.6538,2,  34.6637,2, 201.6088,2, 201.9830,2,    10.6,2,   20.11,2,    0.00,2,    1.39,2,   2.204,2,   1.225,2,   0.5500,2,  2153.9,2, 2289.85,6,   7.7197,2, -999.00,9, -999.00,9, -999.00,    41.2,2, -999.00,9,     -999.0,1,  -999.0,9, 20170713,     2249, -30.0799, 166.9999,        0.0,1,      0.061,1,      4.700,1,      0.144,1,      25.02,     -999.0,9,     -999.0,9,     -999.0,9,     -999.0,9,     8.9177,2,     -999.0,9
320620170703,        P06,      46,          1,         20,         20,2,20170713,       2326,   -30.0799,   167.0001,       2852,   569.5,   9.9002,  34.7755,2,  34.7760,3, 199.6375,2, 199.7089,2,     8.5,2,   18.03,2,    0.00,2,    1.26,2,-999.000,9,-999.000,9,-999.0000,9,  2148.6,2, 2291.16,2,   7.7416,2, -999.00,9, -999.00,9, -999.00,    42.9,2, -999.00,9,     -999.0,1,  -999.0,9, 20170713,     2252, -30.0799, 167.0001,        0.0,1,      0.060,1,      4.698,1,      0.146,1,      24.99,     -999.0,9,     -999.0,9,     -999.0,9,     -999.0,9,     9.9015,2,     -999.0,9
320620170703,        P06,      46,          1,         21,         21,2,20170713,       2326,   -30.0799,   167.0001,       2852,   488.1,  11.5130,  34.9475,2,  34.9288,2, 198.5246,2, 198.4676,2,     5.9,2,   15.01,2,    0.00,2,    1.04,2,   2.297,2,   1.347,2,   0.7990,2,  2137.4,2, 2296.51,2,   7.7747,2, -999.00,9, -999.00,9, -999.00,  -999.0,9, -999.00,9,     -999.0,1,  -999.0,9, 20170713,     2255, -30.0799, 167.0002,        0.0,1,      0.060,1,      4.697,1,      0.142,1,      25.00,     -999.0,9,     -999.0,9,     -999.0,9,     -999.0,9,    11.4908,2,     -999.0,9
320620170703,        P06,      46,          1,         22,         22,2,20170713,       2326,   -30.0799,   167.0001,       2852,   438.4,  12.2823,  35.0405,2,  35.0466,2, 198.6898,2, 197.8914,2,     4.7,2,   13.05,2,    0.00,2,    0.94,2,-999.000,9,-999.000,9,-999.0000,9,  2131.6,2, 2298.74,2,   7.7981,2, -999.00,9, -999.00,9, -999.00,  -999.0,9, -999.00,9,     -999.0,9,  -999.0,9, 20170713,     2257, -30.0799, 167.0006,        0.0,1,      0.060,1,      4.695,1,      0.143,1,      24.99,     -999.0,9,     -999.0,9,     -999.0,9,     -999.0,9,    12.2813,2,     -999.0,9
320620170703,        P06,      46,          1,         23,         23,2,20170713,       2326,   -30.0799,   167.0001,       2852,   388.7,  13.3640,  35.1610,2,  35.1685,2, 197.1733,2, 197.0951,2,     3.4,2,   10.94,2,    0.00,2,    0.78,2,   2.340,2,   1.335,2,   0.8960,2,  2122.1,6, 2305.49,2,   7.8274,2, -999.00,9, -999.00,9, -999.00,    45.7,2, -999.00,9,     -999.0,1,  -999.0,9, 20170713,     2259, -30.0800, 167.0010,        0.0,1,      0.059,1,      4.695,1,      0.141,1,      25.00,     -999.0,9,     -999.0,9,     -999.0,9,     -999.0,9,    13.4125,2,     -999.0,9
320620170703,        P06,      46,          1,         24,         24,2,20170713,       2326,   -30.0799,   167.0001,       2852,   337.6,  14.6692,  35.3059,2,  35.3086,2, 195.6686,2, 195.3338,2,     2.4,2,    9.07,2,    0.00,2,    0.65,2,-999.000,9,-999.000,9,-999.0000,9,  2114.3,2, 2310.20,2,   7.8563,2, -999.00,9, -999.00,9, -999.00,  -999.0,9, -999.00,9,     -999.0,9,  -999.0,9, 20170713,     2302, -30.0801, 167.0013,        0.0,1,      0.059,1,      4.695,1,      0.144,1,      25.01,     -999.0,9,     -999.0,9,     -999.0,9,     -999.0,9,    14.6824,2,     -999.0,9
320620170703,        P06,      46,          1,         25,         25,2,20170713,       2326,   -30.0799,   167.0001,       2852,   287.0,  15.5823,  35.4002,2,  35.4119,2, 192.0434,2, 192.6807,2,     2.0,2,    7.72,2,    0.00,2,    0.59,2,   2.138,2,   1.294,2,   1.0260,2,  2108.1,2, 2316.73,2,   7.8814,2, -999.00,9, -999.00,9, -999.00,    47.8,2, -999.00,9,     -999.0,1,  -999.0,9, 20170713,     2304, -30.0802, 167.0012,        0.0,1,      0.060,1,      4.692,1,      0.143,1,      24.99,     -999.0,9,     -999.0,9,     -999.0,9,     -999.0,9,    15.7893,2,     -999.0,9
320620170703,        P06,      46,          1,         26,         26,2,20170713,       2326,   -30.0799,   167.0001,       2852,   240.7,  16.8824,  35.5243,2,  35.5559,2, 194.7468,2, 195.7110,2,     1.2,2,    5.47,2,    0.02,2,    0.44,2,-999.000,9,-999.000,9,-999.0000,9,  2092.1,2, 2324.84,2,   7.9205,2, -999.00,9, -999.00,9, -999.00,    47.8,2,    8.30,2,     -999.0,1,  -999.0,9, 20170713,     2307, -30.0802, 167.0010,        0.0,1,      0.060,1,      4.689,1,      0.148,1,      24.98,     -999.0,9,     -999.0,9,     -999.0,9,     -999.0,9,    17.2465,2,     -999.0,9
320620170703,        P06,      46,          1,         27,         27,2,20170713,       2326,   -30.0799,   167.0001,       2852,   216.7,  17.6249,  35.5775,2,  35.6163,2, 195.5467,2, 184.6468,3,     1.0,2,    4.52,2,    0.02,2,    0.39,2,   1.969,2,   1.231,2,   1.0920,2,  2086.7,2, 2329.59,2,   7.9369,2, -999.00,9, -999.00,9, -999.00,  -999.0,9, -999.00,9,     -999.0,9,  -999.0,9, 20170713,     2309, -30.0801, 167.0008,        0.0,1,      0.061,1,      4.689,1,      0.145,1,      25.00,     -999.0,9,     -999.0,9,     -999.0,9,     -999.0,9,    17.9391,2,     -999.0,9
320620170703,        P06,      46,          1,         28,         28,2,20170713,       2326,   -30.0799,   167.0001,       2852,   191.2,  18.2021,  35.6439,2,  35.6496,2, 197.4620,2, 196.6305,2,     0.7,2,    3.95,2,    0.04,2,    0.35,2,-999.000,9,-999.000,9,-999.0000,9,  2082.9,2, 2329.74,2,   7.9491,2, -999.00,9, -999.00,9, -999.00,    49.7,2,    7.00,2,     -999.0,1,  -999.0,9, 20170713,     2311, -30.0800, 167.0005,        0.0,1,      0.061,1,      4.689,1,      0.156,1,      24.99,     -999.0,9,     -999.0,9,     -999.0,9,     -999.0,9,    18.4437,2,     -999.0,9
320620170703,        P06,      46,          1,         29,         29,2,20170713,       2326,   -30.0799,   167.0001,       2852,   164.7,  18.7679,  35.7138,2,  35.7414,2, 213.1577,2, 212.0077,2,     0.3,2,    1.82,2,    0.20,2,    0.21,2,   1.838,2,   1.184,2,   1.1580,2,  2066.4,2, 2337.67,2,   7.9851,2, -999.00,9, -999.00,9, -999.00,    53.8,2,    5.60,2,     -999.0,1,  -999.0,9, 20170713,     2313, -30.0800, 167.0003,        0.0,1,      0.065,1,      4.681,1,      0.159,1,      25.00,     -999.0,9,     -999.0,9,     -999.0,9,     -999.0,9,    18.9939,2,     -999.0,9
320620170703,        P06,      46,          1,         30,         30,2,20170713,       2326,   -30.0799,   167.0001,       2852,   140.5,  19.0510,  35.7558,2,  35.7707,2, 217.9505,2, 217.2349,2,     0.2,2,    1.22,2,    0.19,2,    0.18,2,-999.000,9,-999.000,9,-999.0000,9,  2061.6,2, 2341.35,2,   7.9958,2, -999.00,9, -999.00,9, -999.00,    57.3,3,    6.60,2,     -999.0,1,  -999.0,9, 20170713,     2315, -30.0799, 167.0001,        0.0,1,      0.103,1,      4.663,1,      0.167,1,      25.00,     -999.0,9,     -999.0,9,     -999.0,9,     -999.0,9,    19.1333,2,     -999.0,9
320620170703,        P06,      46,          1,         31,         31,2,20170713,       2326,   -30.0799,   167.0001,       2852,   115.1,  19.2563,  35.7973,2,  35.7882,2, 220.1779,2, 220.0060,2,     0.2,2,    1.04,2,    0.21,2,    0.16,2,   1.803,2,   1.164,2,   1.1550,2,  2059.4,2, 2340.93,2,   8.0025,2, -999.00,9, -999.00,9, -999.00,    55.4,2,    6.00,2,     -999.0,1,  -999.0,9, 20170713,     2317, -30.0799, 167.0000,        0.0,1,      0.172,1,      4.631,1,      0.196,1,      25.00,     -999.0,9,     -999.0,9,     -999.0,9,     -999.0,9,    19.2217,2,     -999.0,9
320620170703,        P06,      46,          1,         32,         32,2,20170713,       2326,   -30.0799,   167.0001,       2852,    90.9,  19.3265,  35.8061,2,  35.8005,2, 221.1484,2, 221.4219,2,     0.1,2,    0.84,2,    0.20,2,    0.14,2,-999.000,9,-999.000,9,-999.0000,9,  2057.7,2, 2341.51,2,   8.0060,2, -999.00,9, -999.00,9, -999.00,    56.2,2,    5.40,2,     -999.0,1,  -999.0,9, 20170713,     2318, -30.0799, 167.0001,        0.0,1,      0.171,1,      4.627,1,      0.201,1,      24.99,     -999.0,9,     -999.0,9,     -999.0,9,     -999.0,9,    19.3115,2,     -999.0,9