BOTTLE,20230922CCHSIOCBG
EXPOCODE,SECT_ID,STNNBR,CASTNO,SAMPNO,BTLNBR,BTLNBR_FLAG_W,DATE,TIME,LATITUDE,LONGITUDE,DEPTH,CTDPRS,CTDTMP,CTDSAL,CTDSAL_FLAG_W,SALNTY,SALNTY_FLAG_W,CTDOXY,CTDOXY_FLAG_W,OXYGEN,OXYGEN_FLAG_W,SILCAT,SILCAT_FLAG_W,NITRAT,NITRAT_FLAG_W,NITRIT,NITRIT_FLAG_W,PHSPHT,PHSPHT_FLAG_W,CFC-11,CFC-11_FLAG_W,CFC-12,CFC-12_FLAG_W,SF6,SF6_FLAG_W,TCARBN,TCARBN_FLAG_W,ALKALI,ALKALI_FLAG_W,PH_TOT,PH_TOT_FLAG_W,DELC13,DELC13_FLAG_W,DELC14,DELC14_FLAG_W,C14ERR,DOC,DOC_FLAG_W,TDN,TDN_FLAG_W,TON,TON_FLAG_W,D15N_NO3,D15N_NO3_FLAG_W,BTL_DATE,BTL_TIME,BTL_LAT,BTL_LON,CTDRINKO,CTDRINKO_FLAG_W,CTDFLUOR,CTDFLUOR_FLAG_W,CTDXMISS,CTDXMISS_FLAG_W,CTDBACKSCATTER,CTDBACKSCATTER_FLAG_W,PH_TMP,D18O_NO3,D18O_NO3_FLAG_W,DOP,DOP_FLAG_W,HPLC,HPLC_FLAG_W,POC,POC_FLAG_W,REFTMP,REFTMP_FLAG_W,TDP,TDP_FLAG_W
,,,,,,,,,,,METERS,DBAR,ITS-90,PSS-78,,PSS-78,,UMOL/KG,,UMOL/KG,,UMOL/KG,,UMOL/KG,,UMOL/KG,,UMOL/KG,,PMOL/KG,,PMOL/KG,,FMOL/KG,,UMOL/KG,,UMOL/KG,,,,/MILLE,,/MILLE,,/MILLE,UMOL/KG,,UMOL/KG,,UMOL/KG,,/MILLE,,,,,,VOLTS,,VOLTS,,VOLTS,,VOLTS,,DEGC,/MILLE,,UMOL/KG,,,,UG/L,,ITS-90,,UMOL/KG,
320620170703,        P06,     143,          1,         33,         33,2,20170813,       1512,   -32.5002,  -148.9082,       5031,    64.9,  16.4424,  35.3519,2,  35.3701,2, 240.4612,2, 239.5992,2,     0.1,2,    0.09,2,    0.03,2,    0.10,2,   2.446,2,   1.339,2,   1.4050,2,  2068.5,2, 2324.46,2,   7.9579,2, -999.00,9, -999.00,9, -999.00,  -999.0,9, -999.00,9,     -999.0,9,  -999.0,9, 20170813,     1507, -32.5003,-148.9077,        0.0,1,      0.173,1,      4.639,1,      0.183,1,      25.02,     -999.0,9,     -999.0,9,     -999.0,9,     -999.0,9,    16.4714,2,     -999.0,9
320620170703,        P06,     143,          1,         34,         34,2,20170813,       1512,   -32.5002,  -148.9082,       5031,    39.7,  16.5014,  35.3567,2,  35.3737,2, 240.4926,2, 239.7715,2,     0.0,2,    0.09,2,    0.02,2,    0.11,2,   2.376,2,   1.346,2,   1.4180,2,  -999.0,9, -999.00,9,-999.0000,9, -999.00,9, -999.00,9, -999.00,  -999.0,9, -999.00,9,     -999.0,9,  -999.0,9, 20170813,     1509, -32.5003,-148.9078,        0.0,1,      0.183,1,      4.631,1,      0.189,1,     -999.0,     -999.0,9,     -999.0,9,     -999.0,9,     -999.0,9,    16.4883,2,     -999.0,9
320620170703,        P06,     143,          1,         35,         35,2,20170813,       1512,   -32.5002,  -148.9082,       5031,    19.8,  16.4844,  35.3559,2,  35.3587,2, 240.8078,2, 239.9574,2,     0.0,2,    0.07,2,    0.02,2,    0.11,2,   2.419,2,   1.344,2,   1.3960,2,  2065.2,2, 2322.51,2,   7.9597,2, -999.00,9, -999.00,9, -999.00,  -999.0,9, -999.00,9,     -999.0,9,  -999.0,9, 20170813,     1510, -32.5003,-148.9080,        0.0,1,      0.184,1,      4.631,1,      0.191,1,      25.02,     -999.0,9,     -999.0,9,     -999.0,9,     -999.0,9,    16.4823,2,     -999.0,9
320620170703,        P06,     143,          1,         36,         36,2,20170813,       1512,   -32.5002,  -148.9082,       5031,     3.0,  16.4851,  35.3555,2,  35.3587,2, 240.8525,2, 240.1507,2,     0.0,2,    0.07,2,    0.02,2,    0.12,2,   2.393,2,   1.351,2,   1.4890,2,  2067.5,6, 2323.43,2,   7.9585,2, -999.00,9, -999.00,9, -999.00,  -999.0,9, -999.00,9,     -999.0,9,  -999.0,9, 20170813,     1512, -32.5002,-148.9082,        0.0,1,      0.188,1,      4.631,1,      0.185,1,      25.02,     -999.0,9,     -999.0,9,     -999.0,9,     -999.0,9,    16.4749,2,     -999.0,9