BOTTLE,20230922CCHSIOCBG
EXPOCODE,SECT_ID,STNNBR,CASTNO,SAMPNO,BTLNBR,BTLNBR_FLAG_W,DATE,TIME,LATITUDE,LONGITUDE,DEPTH,CTDPRS,CTDTMP,CTDSAL,CTDSAL_FLAG_W,SALNTY,SALNTY_FLAG_W,CTDOXY,CTDOXY_FLAG_W,OXYGEN,OXYGEN_FLAG_W,SILCAT,SILCAT_FLAG_W,NITRAT,NITRAT_FLAG_W,NITRIT,NITRIT_FLAG_W,PHSPHT,PHSPHT_FLAG_W,CFC-11,CFC-11_FLAG_W,CFC-12,CFC-12_FLAG_W,SF6,SF6_FLAG_W,TCARBN,TCARBN_FLAG_W,ALKALI,ALKALI_FLAG_W,PH_TOT,PH_TOT_FLAG_W,DELC13,DELC13_FLAG_W,DELC14,DELC14_FLAG_W,C14ERR,DOC,DOC_FLAG_W,TDN,TDN_FLAG_W,TON,TON_FLAG_W,D15N_NO3,D15N_NO3_FLAG_W,BTL_DATE,BTL_TIME,BTL_LAT,BTL_LON,CTDRINKO,CTDRINKO_FLAG_W,CTDFLUOR,CTDFLUOR_FLAG_W,CTDXMISS,CTDXMISS_FLAG_W,CTDBACKSCATTER,CTDBACKSCATTER_FLAG_W,PH_TMP,D18O_NO3,D18O_NO3_FLAG_W,DOP,DOP_FLAG_W,HPLC,HPLC_FLAG_W,POC,POC_FLAG_W,REFTMP,REFTMP_FLAG_W,TDP,TDP_FLAG_W
,,,,,,,,,,,METERS,DBAR,ITS-90,PSS-78,,PSS-78,,UMOL/KG,,UMOL/KG,,UMOL/KG,,UMOL/KG,,UMOL/KG,,UMOL/KG,,PMOL/KG,,PMOL/KG,,FMOL/KG,,UMOL/KG,,UMOL/KG,,,,/MILLE,,/MILLE,,/MILLE,UMOL/KG,,UMOL/KG,,UMOL/KG,,/MILLE,,,,,,VOLTS,,VOLTS,,VOLTS,,VOLTS,,DEGC,/MILLE,,UMOL/KG,,,,UG/L,,ITS-90,,UMOL/KG,
320620170703,        P06,      79,          1,          1,          1,2,20170724,       0550,   -31.4404,   177.8542,       3943,  3997.0,   1.8896,  34.6820,2,  34.6781,2, 155.0765,2, 155.1598,2,   126.4,2,   35.16,2,    0.00,2,    2.47,2,   0.025,2,   0.016,2,   0.0000,2,  2313.6,6, 2404.84,2,   7.5836,2, -999.00,9, -999.00,9, -999.00,  -999.0,9, -999.00,9,     -999.0,9,  -999.0,1, 20170724,      410, -31.4408, 177.8542,        0.0,1,      0.062,1,      4.608,1,      0.144,1,      25.02,     -999.0,1,     -999.0,9,     -999.0,9,     -999.0,9,     1.8904,2,     -999.0,9
320620170703,        P06,      79,          1,          2,          2,2,20170724,       0550,   -31.4404,   177.8542,       3943,  3876.1,   1.8771,  34.6820,2,  34.6789,2, 155.0765,2, 155.2123,2,   126.5,2,   35.15,2,    0.00,2,    2.45,2,-999.000,9,-999.000,9,-999.0000,9,  2310.6,3, 2406.44,2,   7.5834,2, -999.00,9, -999.00,9, -999.00,  -999.0,9, -999.00,9,     -999.0,9,  -999.0,1, 20170724,      413, -31.4406, 177.8541,        0.0,1,      0.061,1,      4.700,1,      0.139,1,      25.03,     -999.0,1,     -999.0,9,     -999.0,9,     -999.0,9,     1.8775,2,     -999.0,9
320620170703,        P06,      79,          1,          3,          3,2,20170724,       0550,   -31.4404,   177.8542,       3943,  3759.6,   1.8667,  34.6818,2,  34.6775,2, 155.0765,2, 154.7735,2,   126.2,2,   35.18,2,    0.00,2,    2.47,2,   0.024,2,   0.017,2,   0.0000,2,  2312.7,2, 2404.57,2,   7.5827,2, -999.00,9, -999.00,9, -999.00,  -999.0,9, -999.00,9,     -999.0,9,  -999.0,1, 20170724,      416, -31.4405, 177.8540,        0.0,1,      0.062,1,      4.701,1,      0.134,1,      25.02,     -999.0,1,     -999.0,9,     -999.0,9,     -999.0,9,     1.8673,2,     -999.0,9
320620170703,        P06,      79,          1,          4,          4,2,20170724,       0550,   -31.4404,   177.8542,       3943,  3450.8,   1.8459,  34.6809,2,  34.6767,2, 155.0765,2, 154.8055,2,   126.0,2,   35.12,2,    0.00,2,    2.45,2,-999.000,9,-999.000,9,-999.0000,9,  -999.0,9, -999.00,9,-999.0000,9, -999.00,9, -999.00,9, -999.00,  -999.0,9, -999.00,9,     -999.0,9,  -999.0,1, 20170724,      422, -31.4404, 177.8540,        0.0,1,      0.062,1,      4.703,1,      0.132,1,     -999.0,     -999.0,1,     -999.0,9,     -999.0,9,     -999.0,9,     1.8468,2,     -999.0,9
320620170703,        P06,      79,          1,          5,          5,2,20170724,       0550,   -31.4404,   177.8542,       3943,  3145.2,   1.8370,  34.6794,2,  34.6749,2, 155.1256,2, 155.4600,2,   125.4,2,   35.14,2,    0.00,2,    2.44,2,   0.024,2,   0.021,2,   0.0000,2,  2309.6,2, 2401.81,2,   7.5807,2, -999.00,9, -999.00,9, -999.00,  -999.0,9, -999.00,9,     -999.0,9,  -999.0,1, 20170724,      428, -31.4404, 177.8540,        0.0,1,      0.061,1,      4.705,1,      0.129,1,      25.03,     -999.0,1,     -999.0,9,     -999.0,9,     -999.0,9,     1.8384,2,     -999.0,9
320620170703,        P06,      79,          1,          6,          6,2,20170724,       0550,   -31.4404,   177.8542,       3943,  2874.0,   1.8526,  34.6763,2,  34.6720,2, 154.5471,2, 154.6053,2,   124.5,2,   35.09,2,    0.00,2,    2.46,2,-999.000,9,-999.000,9,-999.0000,9,  -999.0,9, -999.00,9,-999.0000,9, -999.00,9, -999.00,9, -999.00,  -999.0,9, -999.00,9,     -999.0,9,  -999.0,1, 20170724,      433, -31.4406, 177.8541,        0.0,1,      0.061,1,      4.705,1,      0.133,1,     -999.0,     -999.0,1,     -999.0,9,     -999.0,9,     -999.0,9,     1.8553,2,     -999.0,9
320620170703,        P06,      79,          1,          7,          7,2,20170724,       0550,   -31.4404,   177.8542,       3943,  2619.0,   1.9004,  34.6709,2,  34.6661,2, 154.0566,2, 153.9313,2,   122.7,2,   35.06,2,    0.00,2,    2.45,2,   0.026,2,   0.021,2,   0.0000,2,  2309.2,2, 2397.23,2,   7.5785,2, -999.00,9, -999.00,9, -999.00,  -999.0,9, -999.00,9,     -999.0,9,  -999.0,1, 20170724,      439, -31.4408, 177.8543,        0.0,1,      0.062,1,      4.705,1,      0.132,1,      25.02,     -999.0,1,     -999.0,9,     -999.0,9,     -999.0,9,     1.9072,2,     -999.0,9
320620170703,        P06,      79,          1,          8,          8,2,20170724,       0550,   -31.4404,   177.8542,       3943,  2363.9,   2.0057,  34.6609,2,  34.6547,2, 153.6355,2, 153.7479,2,   120.2,2,   34.99,2,    0.00,2,    2.44,2,-999.000,9,-999.000,9,-999.0000,9,  -999.0,9, -999.00,9,-999.0000,9, -999.00,9, -999.00,9, -999.00,  -999.0,9, -999.00,9,     -999.0,9,  -999.0,1, 20170724,      444, -31.4404, 177.8540,        0.0,1,      0.061,1,      4.705,1,      0.136,1,     -999.0,     -999.0,1,     -999.0,9,     -999.0,9,     -999.0,9,     2.0079,2,     -999.0,9
320620170703,        P06,      79,          1,          9,          9,2,20170724,       0550,   -31.4404,   177.8542,       3943,  2109.3,   2.1906,  34.6444,2,  34.6370,2, 153.5100,2, 153.4908,2,   114.5,2,   34.83,2,    0.00,2,    2.44,2,   0.042,2,   0.029,2,   0.0000,2,  2297.8,2, 2388.10,2,   7.5762,2, -999.00,9, -999.00,9, -999.00,  -999.0,9, -999.00,9,     -999.0,9,  -999.0,1, 20170724,      449, -31.4401, 177.8538,        0.0,1,      0.061,1,      4.704,1,      0.138,1,      25.02,     -999.0,1,     -999.0,9,     -999.0,9,     -999.0,9,     2.2102,2,     -999.0,9
320620170703,        P06,      79,          1,         10,         10,2,20170724,       0550,   -31.4404,   177.8542,       3943,  1883.6,   2.4187,  34.6247,2,  34.6156,2, 154.9843,2, 155.0058,2,   107.0,2,   34.48,2,    0.00,2,    2.41,2,-999.000,9,-999.000,9,-999.0000,9,  -999.0,9, -999.00,9,-999.0000,9, -999.00,9, -999.00,9, -999.00,  -999.0,9, -999.00,9,     -999.0,9,  -999.0,1, 20170724,      454, -31.4401, 177.8538,        0.0,1,      0.061,1,      4.704,1,      0.139,1,     -999.0,     -999.0,1,     -999.0,9,     -999.0,9,     -999.0,9,     2.4576,2,     -999.0,9
320620170703,        P06,      79,          1,         11,         11,2,20170724,       0550,   -31.4404,   177.8542,       3943,  1752.9,   2.5895,  34.6092,2,  34.5999,2, 156.7422,2, 157.2656,2,   101.0,2,   34.14,2,    0.00,2,    2.39,2,   0.104,2,   0.060,2,   0.0000,2,  2284.7,2, 2373.43,2,   7.5797,3, -999.00,9, -999.00,9, -999.00,  -999.0,9, -999.00,9,     -999.0,9,  -999.0,1, 20170724,      457, -31.4400, 177.8537,        0.0,1,      0.061,1,      4.704,1,      0.139,1,      25.01,     -999.0,1,     -999.0,9,     -999.0,9,     -999.0,9,     2.6459,2,     -999.0,9
320620170703,        P06,      79,          1,         12,         12,2,20170724,       0550,   -31.4404,   177.8542,       3943,  1651.7,   2.7280,  34.5923,2,  34.5804,2, 158.2800,2, 158.4208,2,    95.7,2,   34.08,2,    0.00,2,    2.37,2,-999.000,9,-999.000,9,-999.0000,9,  -999.0,9, -999.00,9,-999.0000,9, -999.00,9, -999.00,9, -999.00,  -999.0,9, -999.00,9,     -999.0,9,  -999.0,1, 20170724,      500, -31.4400, 177.8537,        0.0,1,      0.061,1,      4.704,1,      0.139,1,     -999.0,     -999.0,1,     -999.0,9,     -999.0,9,     -999.0,9,     2.7759,2,     -999.0,9
320620170703,        P06,      79,          1,         13,         13,2,20170724,       0550,   -31.4404,   177.8542,       3943,  1549.5,   2.9227,  34.5635,2,  34.5464,2, 161.9520,2, 162.1910,2,    86.2,2,   33.82,2,    0.00,2,    2.36,2,   0.144,2,   0.081,2,   0.0000,2,  2267.8,2, 2355.44,6,   7.5821,2, -999.00,9, -999.00,9, -999.00,  -999.0,9, -999.00,9,     -999.0,9,  -999.0,1, 20170724,      503, -31.4401, 177.8538,        0.0,1,      0.061,1,      4.704,1,      0.140,1,      25.00,     -999.0,1,     -999.0,9,     -999.0,9,     -999.0,9,     2.9994,2,     -999.0,9
320620170703,        P06,      79,          1,         14,         14,2,20170724,       0550,   -31.4404,   177.8542,       3943,  1449.2,   3.1574,  34.5288,2,  34.5154,2, 165.5733,2, 165.0676,2,    78.0,2,   33.61,2,    0.00,2,    2.34,2,-999.000,9,-999.000,9,-999.0000,9,  -999.0,9, -999.00,9,-999.0000,9, -999.00,9, -999.00,9, -999.00,  -999.0,9, -999.00,9,     -999.0,9,  -999.0,1, 20170724,      506, -31.4400, 177.8538,        0.0,1,      0.061,1,      4.704,1,      0.141,1,     -999.0,     -999.0,1,     -999.0,9,     -999.0,9,     -999.0,9,     3.2140,2,     -999.0,9
320620170703,        P06,      79,          1,         15,         15,2,20170724,       0550,   -31.4404,   177.8542,       3943,  1348.5,   3.4960,  34.4829,2,  34.4765,2, 170.7286,2, 170.2280,2,    67.1,2,   33.17,2,    0.00,2,    2.30,2,   0.235,2,   0.124,2,   0.0000,2,  2244.3,2, 2333.84,2,   7.5886,2, -999.00,9, -999.00,9, -999.00,  -999.0,9, -999.00,9,     -999.0,9,  -999.0,1, 20170724,      508, -31.4402, 177.8540,        0.0,1,      0.061,1,      4.705,1,      0.139,1,      25.01,     -999.0,1,     -999.0,9,     -999.0,9,     -999.0,9,     3.5124,2,     -999.0,9
320620170703,        P06,      79,          1,         16,         16,2,20170724,       0550,   -31.4404,   177.8542,       3943,  1246.5,   3.8644,  34.4326,2,  34.4230,2, 178.2709,2, 177.5811,2,    53.5,2,   32.41,2,    0.00,2,    2.24,2,-999.000,9,-999.000,9,-999.0000,9,  -999.0,9, -999.00,9,-999.0000,9, -999.00,9, -999.00,9, -999.00,  -999.0,9, -999.00,9,     -999.0,9,  -999.0,1, 20170724,      511, -31.4405, 177.8542,        0.0,1,      0.059,1,      4.705,1,      0.140,1,     -999.0,     -999.0,1,     -999.0,9,     -999.0,9,     -999.0,9,     3.8940,2,     -999.0,9
320620170703,        P06,      79,          1,         17,         17,2,20170724,       0550,   -31.4404,   177.8542,       3943,  1145.7,   4.4343,  34.3853,2,  34.3760,2, 188.8069,2, 188.4445,2,    39.0,2,   30.94,2,    0.00,2,    2.13,2,   0.683,2,   0.325,2,   0.0721,2,  2205.1,2, 2304.45,2,   7.6139,2, -999.00,9, -999.00,9, -999.00,  -999.0,9, -999.00,9,     -999.0,9,  -999.0,1, 20170724,      514, -31.4405, 177.8542,        0.0,1,      0.060,1,      4.704,1,      0.139,1,      25.02,     -999.0,1,     -999.0,9,     -999.0,9,     -999.0,9,     4.4975,2,     -999.0,9
320620170703,        P06,      79,          1,         18,         18,2,20170724,       0550,   -31.4404,   177.8542,       3943,  1043.4,   5.0688,  34.3564,2,  34.3492,2, 198.9601,2, 199.1257,2,    27.7,2,   29.15,2,    0.00,2,    2.00,2,-999.000,9,-999.000,9,-999.0000,9,  -999.0,9, -999.00,9,-999.0000,9, -999.00,9, -999.00,9, -999.00,  -999.0,9, -999.00,9,     -999.0,9,  -999.0,1, 20170724,      516, -31.4402, 177.8540,        0.0,1,      0.060,1,      4.704,1,      0.140,1,     -999.0,     -999.0,1,     -999.0,9,     -999.0,9,     -999.0,9,     5.1284,2,     -999.0,9
320620170703,        P06,      79,          1,         19,         19,2,20170724,       0550,   -31.4404,   177.8542,       3943,   943.8,   5.7691,  34.3546,2,  34.3488,2, 211.6301,2, 212.0620,2,    18.9,2,   26.72,2,    0.00,2,    1.84,2,   1.781,2,   0.814,2,   0.2253,2,  2170.3,2, 2283.71,2,   7.6635,2, -999.00,9, -999.00,9, -999.00,  -999.0,9, -999.00,9,     -999.0,9,  -999.0,1, 20170724,      519, -31.4399, 177.8538,        0.0,1,      0.060,1,      4.703,1,      0.139,1,      25.01,     -999.0,1,     -999.0,9,     -999.0,9,     -999.0,9,     5.7999,2,     -999.0,9
320620170703,        P06,      79,          1,         20,         20,2,20170724,       0550,   -31.4404,   177.8542,       3943,   841.8,   6.4298,  34.3708,2,  34.3611,2, 219.2448,2, 219.3643,2,    13.7,2,   24.82,2,    0.00,2,    1.71,2,-999.000,9,-999.000,9,-999.0000,9,  2159.8,2, 2281.39,2,   7.6807,2, -999.00,9, -999.00,9, -999.00,  -999.0,9, -999.00,9,     -999.0,9,  -999.0,1, 20170724,      522, -31.4399, 177.8538,        0.0,1,      0.059,1,      4.702,1,      0.141,1,      25.01,     -999.0,1,     -999.0,9,     -999.0,9,     -999.0,9,     6.3627,2,     -999.0,9
320620170703,        P06,      79,          1,         21,         21,2,20170724,       0550,   -31.4404,   177.8542,       3943,   741.5,   7.0292,  34.4054,2,  34.4027,2, 222.7295,2, 223.1623,2,     9.7,2,   22.75,2,    0.00,2,    1.56,2,   2.850,2,   1.363,2,   0.4877,2,  2151.1,2, 2280.62,2,   7.6988,2, -999.00,9, -999.00,9, -999.00,  -999.0,9, -999.00,9,     -999.0,9,  -999.0,1, 20170724,      524, -31.4399, 177.8538,        0.0,1,      0.059,1,      4.702,1,      0.143,1,      25.01,     -999.0,1,     -999.0,9,     -999.0,9,     -999.0,9,     7.0470,2,     -999.0,9
320620170703,        P06,      79,          1,         22,         22,2,20170724,       0550,   -31.4404,   177.8542,       3943,   639.7,   7.9841,  34.4965,2,  34.4818,2, 218.4062,2, 218.9161,2,     7.9,2,   20.89,2,    0.00,2,    1.45,2,-999.000,9,-999.000,9,-999.0000,9,  2147.4,2, 2278.98,2,   7.7113,2, -999.00,9, -999.00,9, -999.00,  -999.0,9, -999.00,9,     -999.0,9,  -999.0,1, 20170724,      527, -31.4401, 177.8539,        0.0,1,      0.059,1,      4.700,1,      0.143,1,      25.02,     -999.0,1,     -999.0,9,     -999.0,9,     -999.0,9,     7.9040,2,     -999.0,9
320620170703,        P06,      79,          1,         23,         23,2,20170724,       0550,   -31.4404,   177.8542,       3943,   538.3,   9.2166,  34.6234,2,  34.5954,2, 211.1222,2, 211.9944,2,     6.2,2,   18.58,2,    0.00,2,    1.30,2,   3.073,2,   1.535,2,   0.7120,2,  2145.6,2, 2282.89,2,   7.7307,2, -999.00,9, -999.00,9, -999.00,  -999.0,9, -999.00,9,     -999.0,9,  -999.0,1, 20170724,      529, -31.4403, 177.8541,        0.0,1,      0.060,1,      4.698,1,      0.142,1,      24.99,     -999.0,1,     -999.0,9,     -999.0,9,     -999.0,9,     9.0427,2,     -999.0,9
320620170703,        P06,      79,          1,         24,         24,2,20170724,       0550,   -31.4404,   177.8542,       3943,   468.7,  10.4068,  34.7676,2,  34.7858,2, 204.5185,2, 204.2831,2,     5.1,2,   15.53,2,    0.00,2,    1.09,2,-999.000,9,-999.000,9,-999.0000,9,  -999.0,9, -999.00,9,-999.0000,9, -999.00,9, -999.00,9, -999.00,  -999.0,9, -999.00,9,     -999.0,9,  -999.0,1, 20170724,      531, -31.4404, 177.8542,        0.0,1,      0.061,1,      4.697,1,      0.142,1,     -999.0,     -999.0,1,     -999.0,9,     -999.0,9,     -999.0,9,    10.6204,2,     -999.0,9
320620170703,        P06,      79,          1,         25,         25,2,20170724,       0550,   -31.4404,   177.8542,       3943,   418.2,  11.4845,  34.9142,2,  34.9380,2, 202.6098,2, 201.4291,2,     4.5,2,   13.39,2,    0.00,2,    0.96,2,   2.861,2,   1.487,2,   0.9324,2,  2131.8,2, 2295.97,6,   7.7868,2, -999.00,9, -999.00,9, -999.00,  -999.0,9, -999.00,9,     -999.0,9,  -999.0,1, 20170724,      533, -31.4404, 177.8542,        0.0,1,      0.060,1,      4.695,1,      0.146,1,      25.02,     -999.0,1,     -999.0,9,     -999.0,9,     -999.0,9,    11.7358,2,     -999.0,9
320620170703,        P06,      79,          1,         26,         26,2,20170724,       0550,   -31.4404,   177.8542,       3943,   366.9,  12.4671,  35.0325,2,  35.0756,2, 201.0204,2, 199.7860,2,     3.6,2,   11.19,2,    0.00,2,    0.82,2,-999.000,9,-999.000,9,-999.0000,9,  -999.0,9, -999.00,9,-999.0000,9, -999.00,9, -999.00,9, -999.00,  -999.0,9, -999.00,9,     -999.0,9,  -999.0,1, 20170724,      535, -31.4403, 177.8541,        0.0,1,      0.060,1,      4.694,1,      0.148,1,     -999.0,     -999.0,1,     -999.0,1,     -999.0,9,     -999.0,9,    12.8939,2,     -999.0,9
320620170703,        P06,      79,          1,         27,         27,2,20170724,       0550,   -31.4404,   177.8542,       3943,   317.8,  13.5290,  35.1622,2,  35.1914,2, 199.7240,2, 199.3851,2,     3.0,2,    9.40,2,    0.00,2,    0.69,2,   2.691,2,   1.448,2,   0.9684,2,  2116.8,2, 2307.40,2,   7.8396,2, -999.00,9, -999.00,9, -999.00,  -999.0,9, -999.00,9,     -999.0,9,  -999.0,1, 20170724,      536, -31.4403, 177.8541,        0.0,1,      0.059,1,      4.637,1,      0.145,1,      25.02,     -999.0,1,     -999.0,1,     -999.0,9,     -999.0,9,    13.9261,2,     -999.0,9
320620170703,        P06,      79,          1,         28,         28,2,20170724,       0550,   -31.4404,   177.8542,       3943,   266.6,  14.6810,  35.3072,2,  35.3573,2, 201.8953,2, 201.2255,2,     2.5,2,    7.64,2,    0.00,2,    0.59,2,-999.000,9,-999.000,9,-999.0000,9,  2109.8,2, 2315.39,2,   7.8724,2, -999.00,9, -999.00,9, -999.00,  -999.0,9, -999.00,9,     -999.0,9,  -999.0,1, 20170724,      538, -31.4403, 177.8541,        0.0,1,      0.060,1,      4.691,1,      0.145,1,      25.02,     -999.0,1,     -999.0,1,     -999.0,9,     -999.0,9,    15.1197,2,     -999.0,9
320620170703,        P06,      79,          1,         29,         29,2,20170724,       0550,   -31.4404,   177.8542,       3943,   214.6,  16.0151,  35.4455,2,  35.4687,2, 201.6896,2, 202.0892,2,     1.9,2,    5.66,2,    0.02,2,    0.46,2,   2.528,2,   1.344,2,   0.9754,2,  2099.4,2, 2323.52,2,   7.9019,2, -999.00,9, -999.00,9, -999.00,  -999.0,9, -999.00,9,     -999.0,9,  -999.0,1, 20170724,      540, -31.4403, 177.8541,        0.0,1,      0.060,1,      4.688,1,      0.149,1,      25.02,     -999.0,1,     -999.0,1,     -999.0,9,     -999.0,9,    16.2945,2,     -999.0,9
320620170703,        P06,      79,          1,         30,         30,2,20170724,       0550,   -31.4404,   177.8542,       3943,   166.4,  17.2026,  35.5767,2,  35.6571,2, 222.7790,3, 217.7506,2,     0.9,2,    2.04,2,    0.20,2,    0.23,2,-999.000,9,-999.000,9,-999.0000,9,  -999.0,9, -999.00,9,-999.0000,9, -999.00,9, -999.00,9, -999.00,  -999.0,9, -999.00,9,     -999.0,9,  -999.0,1, 20170724,      541, -31.4403, 177.8541,        0.0,1,      0.072,1,      4.677,1,      0.168,1,     -999.0,     -999.0,1,     -999.0,1,     -999.0,9,     -999.0,9,    17.8240,2,     -999.0,9
320620170703,        P06,      79,          1,         31,         31,2,20170724,       0550,   -31.4404,   177.8542,       3943,   135.8,  18.0288,  35.7102,2,  35.6948,2, 224.7950,2, 224.3563,2,     0.8,2,    1.20,2,    0.28,2,    0.19,2,   2.279,2,   1.268,2,   1.1827,2,  2071.8,2, 2336.37,2,   7.9772,2, -999.00,9, -999.00,9, -999.00,  -999.0,9, -999.00,9,     -999.0,9,  -999.0,1, 20170724,      543, -31.4404, 177.8542,        0.0,1,      0.103,1,      4.661,1,      0.187,1,      25.02,     -999.0,1,     -999.0,1,     -999.0,9,     -999.0,9,    18.0200,2,     -999.0,9
320620170703,        P06,      79,          1,         32,         32,2,20170724,       0550,   -31.4404,   177.8542,       3943,   110.9,  18.2164,  35.7212,2,  35.7653,2, 223.2388,2, 223.7282,2,     0.5,2,    0.58,2,    0.09,2,    0.12,2,-999.000,9,-999.000,9,-999.0000,9,  2065.4,2, 2339.72,2,   7.9951,2, -999.00,9, -999.00,9, -999.00,  -999.0,9, -999.00,9,     -999.0,9,  -999.0,1, 20170724,      544, -31.4404, 177.8542,        0.0,1,      0.107,1,      4.659,1,      0.184,1,      25.02,     -999.0,1,     -999.0,1,     -999.0,9,     -999.0,9,    18.7188,2,     -999.0,9