BOTTLE,20230922CCHSIOCBG
EXPOCODE,SECT_ID,STNNBR,CASTNO,SAMPNO,BTLNBR,BTLNBR_FLAG_W,DATE,TIME,LATITUDE,LONGITUDE,DEPTH,CTDPRS,CTDTMP,CTDSAL,CTDSAL_FLAG_W,SALNTY,SALNTY_FLAG_W,CTDOXY,CTDOXY_FLAG_W,OXYGEN,OXYGEN_FLAG_W,SILCAT,SILCAT_FLAG_W,NITRAT,NITRAT_FLAG_W,NITRIT,NITRIT_FLAG_W,PHSPHT,PHSPHT_FLAG_W,CFC-11,CFC-11_FLAG_W,CFC-12,CFC-12_FLAG_W,SF6,SF6_FLAG_W,TCARBN,TCARBN_FLAG_W,ALKALI,ALKALI_FLAG_W,PH_TOT,PH_TOT_FLAG_W,DELC13,DELC13_FLAG_W,DELC14,DELC14_FLAG_W,C14ERR,DOC,DOC_FLAG_W,TDN,TDN_FLAG_W,TON,TON_FLAG_W,D15N_NO3,D15N_NO3_FLAG_W,BTL_DATE,BTL_TIME,BTL_LAT,BTL_LON,CTDRINKO,CTDRINKO_FLAG_W,CTDFLUOR,CTDFLUOR_FLAG_W,CTDXMISS,CTDXMISS_FLAG_W,CTDBACKSCATTER,CTDBACKSCATTER_FLAG_W,PH_TMP,D18O_NO3,D18O_NO3_FLAG_W,DOP,DOP_FLAG_W,HPLC,HPLC_FLAG_W,POC,POC_FLAG_W,REFTMP,REFTMP_FLAG_W,TDP,TDP_FLAG_W
,,,,,,,,,,,METERS,DBAR,ITS-90,PSS-78,,PSS-78,,UMOL/KG,,UMOL/KG,,UMOL/KG,,UMOL/KG,,UMOL/KG,,UMOL/KG,,PMOL/KG,,PMOL/KG,,FMOL/KG,,UMOL/KG,,UMOL/KG,,,,/MILLE,,/MILLE,,/MILLE,UMOL/KG,,UMOL/KG,,UMOL/KG,,/MILLE,,,,,,VOLTS,,VOLTS,,VOLTS,,VOLTS,,DEGC,/MILLE,,UMOL/KG,,,,UG/L,,ITS-90,,UMOL/KG,
320620170703,        P06,      96,          1,         33,         33,2,20170728,       0216,   -32.4996,  -176.2493,       5692,    75.8,  17.6350,  35.6679,2,  35.6692,2, 235.5920,3, 231.2259,2,     0.5,2,    0.66,2,    0.10,2,    0.13,2,   2.264,2,   1.290,2,   1.3530,2,  2070.9,2, -999.00,9,   7.9776,2, -999.00,9, -999.00,9, -999.00,  -999.0,5,    5.00,2,     -999.0,1,  -999.0,9, 20170728,      213, -32.4996,-176.2493,        0.0,1,      0.187,1,      4.577,1,      0.310,1,      25.02,     -999.0,9,     -999.0,9,     -999.0,9,     -999.0,9,    17.6771,2,     -999.0,9
320620170703,        P06,      96,          1,         34,         34,2,20170728,       0216,   -32.4996,  -176.2493,       5692,    49.2,  17.6320,  35.6677,2,  35.6709,2, 235.5920,3, 231.4517,2,     0.4,2,    0.65,2,    0.10,2,    0.12,2,   2.250,2,   1.289,2,   1.2130,2,  2070.8,2, 2334.59,2,   7.9776,2, -999.00,9, -999.00,9, -999.00,  -999.0,5,    4.80,2,     -999.0,1,  -999.0,9, 20170728,      214, -32.4996,-176.2493,        0.0,1,      0.186,1,      4.578,1,      0.319,1,      25.01,     -999.0,9,     -999.0,9,     -999.0,9,     -999.0,9,    17.6835,2,     -999.0,9
320620170703,        P06,      96,          1,         35,         35,2,20170728,       0216,   -32.4996,  -176.2493,       5692,    24.0,  17.6300,  35.6676,2,  35.6715,2, 235.5920,3, 231.2401,2,     0.4,2,    0.65,2,    0.09,2,    0.12,2,   2.209,2,   1.273,2,   1.3660,2,  2069.3,2, -999.00,9,   7.9784,2, -999.00,9, -999.00,9, -999.00,  -999.0,5,    4.30,2,     -999.0,1,  -999.0,9, 20170728,      215, -32.4996,-176.2493,        0.0,1,      0.183,1,      4.571,1,      0.313,1,      25.02,     -999.0,9,     -999.0,9,     -999.0,9,     -999.0,9,    17.7058,2,     -999.0,9
320620170703,        P06,      96,          1,         36,         36,2,20170728,       0216,   -32.4996,  -176.2493,       5692,     4.8,  17.6282,  35.6667,2,  35.6751,2, 235.5920,3, 232.0063,2,     0.4,2,    0.61,2,    0.08,2,    0.13,2,   2.242,2,   1.272,2,   1.3890,2,  2069.3,6, 2336.08,2,   7.9794,2, -999.00,9, -999.00,9, -999.00,  -999.0,5,    4.80,2,     -999.0,1,  -999.0,9, 20170728,      216, -32.4996,-176.2493,        0.0,1,      0.150,1,      4.571,1,      0.303,1,      25.03,     -999.0,9,     -999.0,9,     -999.0,9,     -999.0,9,    17.7226,2,     -999.0,9