BOTTLE,20230922CCHSIOCBG
EXPOCODE,SECT_ID,STNNBR,CASTNO,SAMPNO,BTLNBR,BTLNBR_FLAG_W,DATE,TIME,LATITUDE,LONGITUDE,DEPTH,CTDPRS,CTDTMP,CTDSAL,CTDSAL_FLAG_W,SALNTY,SALNTY_FLAG_W,CTDOXY,CTDOXY_FLAG_W,OXYGEN,OXYGEN_FLAG_W,SILCAT,SILCAT_FLAG_W,NITRAT,NITRAT_FLAG_W,NITRIT,NITRIT_FLAG_W,PHSPHT,PHSPHT_FLAG_W,CFC-11,CFC-11_FLAG_W,CFC-12,CFC-12_FLAG_W,SF6,SF6_FLAG_W,TCARBN,TCARBN_FLAG_W,ALKALI,ALKALI_FLAG_W,PH_TOT,PH_TOT_FLAG_W,DELC13,DELC13_FLAG_W,DELC14,DELC14_FLAG_W,C14ERR,DOC,DOC_FLAG_W,TDN,TDN_FLAG_W,TON,TON_FLAG_W,D15N_NO3,D15N_NO3_FLAG_W,BTL_DATE,BTL_TIME,BTL_LAT,BTL_LON,CTDRINKO,CTDRINKO_FLAG_W,CTDFLUOR,CTDFLUOR_FLAG_W,CTDXMISS,CTDXMISS_FLAG_W,CTDBACKSCATTER,CTDBACKSCATTER_FLAG_W,PH_TMP,D18O_NO3,D18O_NO3_FLAG_W,DOP,DOP_FLAG_W,HPLC,HPLC_FLAG_W,POC,POC_FLAG_W,REFTMP,REFTMP_FLAG_W,TDP,TDP_FLAG_W
,,,,,,,,,,,METERS,DBAR,ITS-90,PSS-78,,PSS-78,,UMOL/KG,,UMOL/KG,,UMOL/KG,,UMOL/KG,,UMOL/KG,,UMOL/KG,,PMOL/KG,,PMOL/KG,,FMOL/KG,,UMOL/KG,,UMOL/KG,,,,/MILLE,,/MILLE,,/MILLE,UMOL/KG,,UMOL/KG,,UMOL/KG,,/MILLE,,,,,,VOLTS,,VOLTS,,VOLTS,,VOLTS,,DEGC,/MILLE,,UMOL/KG,,,,UG/L,,ITS-90,,UMOL/KG,
320620170703,        P06,      32,          1,          1,         37,2,20170711,       0323,   -30.0801,   161.5000,       1176,  1176.9,   4.8911,  34.4714,2,  34.4726,2, 178.3672,2, 178.5085,2,    47.9,2,   30.59,2,    0.00,2,    2.12,2,   0.646,2,   0.349,2,   0.1720,2,  2216.4,2, 2310.41,2,   7.6195,2, -999.00,9, -999.00,9, -999.00,  -999.0,9, -999.00,9,     -999.0,9,  -999.0,9, 20170711,      235, -30.0802, 161.5001,        0.0,1,      0.060,1,      4.691,1,      0.181,1,      25.11,     -999.0,9,     -999.0,9,     -999.0,9,     -999.0,9,     4.9004,2,     -999.0,9
320620170703,        P06,      32,          1,          2,          2,2,20170711,       0323,   -30.0801,   161.5000,       1176,  1111.7,   5.0433,  34.4675,2,  34.4691,2, 181.4377,2, 181.1232,2,    44.4,2,   30.22,2,    0.00,2,    2.09,2,-999.000,9,-999.000,9,-999.0000,9,  -999.0,9, -999.00,9,-999.0000,9, -999.00,9, -999.00,9, -999.00,  -999.0,9, -999.00,9,     -999.0,9,  -999.0,9, 20170711,      238, -30.0802, 161.5001,        0.0,1,      0.060,1,      4.703,1,      0.143,1,     -999.0,     -999.0,9,     -999.0,9,     -999.0,9,     -999.0,9,     5.0463,2,     -999.0,9
320620170703,        P06,      32,          1,          3,         38,2,20170711,       0323,   -30.0801,   161.5000,       1176,  1009.3,   5.5715,  34.4586,2,  34.4583,2, 187.9938,2, 188.2269,2,    35.0,2,   28.75,2,    0.00,2,    1.98,2,   0.983,2,   0.512,2,   0.2050,2,  2195.1,2, 2298.13,2,   7.6410,2, -999.00,9, -999.00,9, -999.00,  -999.0,9, -999.00,9,     -999.0,9,  -999.0,9, 20170711,      241, -30.0802, 161.5001,        0.0,1,      0.060,1,      4.704,1,      0.142,1,      24.96,     -999.0,9,     -999.0,9,     -999.0,9,     -999.0,9,     5.5711,2,     -999.0,9
320620170703,        P06,      32,          1,          4,          4,2,20170711,       0323,   -30.0801,   161.5000,       1176,   908.8,   6.3718,  34.4649,2,  34.4622,2, 197.1822,2, 196.9658,2,    22.9,2,   26.54,2,    0.00,2,    1.83,2,-999.000,9,-999.000,9,-999.0000,9,  -999.0,9, -999.00,9,-999.0000,9, -999.00,9, -999.00,9, -999.00,  -999.0,9, -999.00,9,     -999.0,9,  -999.0,9, 20170711,      243, -30.0802, 161.5001,        0.0,1,      0.060,1,      4.704,1,      0.140,1,     -999.0,     -999.0,9,     -999.0,9,     -999.0,9,     -999.0,9,     6.4965,2,     -999.0,9
320620170703,        P06,      32,          1,          5,         39,2,20170711,       0323,   -30.0801,   161.5000,       1176,   807.5,   7.3023,  34.5094,2,  34.5129,2, 197.9276,2, 198.2232,2,    16.6,2,   24.61,2,    0.00,2,    1.68,2,   1.799,2,   0.939,2,   0.3650,2,  2166.5,2, 2284.51,2,   7.6821,2, -999.00,9, -999.00,9, -999.00,  -999.0,9, -999.00,9,     -999.0,9,  -999.0,9, 20170711,      246, -30.0801, 161.5000,        0.0,1,      0.060,1,      4.702,1,      0.145,1,      24.91,     -999.0,9,     -999.0,9,     -999.0,9,     -999.0,9,     7.3530,2,     -999.0,9
320620170703,        P06,      32,          1,          6,          6,2,20170711,       0323,   -30.0801,   161.5000,       1176,   704.7,   8.3842,  34.6019,2,  34.6020,2, 198.8092,2, 198.9035,2,    11.3,2,   22.17,2,    0.00,2,    1.52,2,   2.252,2,   1.205,2,   0.5070,2,  -999.0,9, -999.00,9,-999.0000,9, -999.00,9, -999.00,9, -999.00,  -999.0,9, -999.00,9,     -999.0,9,  -999.0,9, 20170711,      249, -30.0800, 161.4999,        0.0,1,      0.061,1,      4.700,1,      0.148,1,     -999.0,     -999.0,9,     -999.0,9,     -999.0,9,     -999.0,9,     8.3930,2,     -999.0,9
320620170703,        P06,      32,          1,          7,         40,2,20170711,       0323,   -30.0801,   161.5000,       1176,   605.0,   9.6240,  34.7343,2,  34.7337,2, 200.9119,2, 200.7803,2,     7.7,2,   19.12,2,    0.00,2,    1.32,2,   2.484,2,   1.397,2,   0.7310,2,  2148.1,2, 2290.94,2,   7.7327,2, -999.00,9, -999.00,9, -999.00,  -999.0,9, -999.00,9,     -999.0,9,  -999.0,9, 20170711,      252, -30.0800, 161.4998,        0.0,1,      0.059,1,      4.698,1,      0.146,1,      25.01,     -999.0,9,     -999.0,9,     -999.0,9,     -999.0,9,     9.6341,2,     -999.0,9
320620170703,        P06,      32,          1,          8,          8,2,20170711,       0323,   -30.0801,   161.5000,       1176,   503.6,  11.6981,  34.9955,2,  35.0110,2, 198.2817,2, 197.2505,2,     4.8,2,   14.25,2,    0.00,2,    1.00,2,   2.544,2,   1.443,2,   0.7910,2,  -999.0,9, -999.00,9,-999.0000,9, -999.00,9, -999.00,9, -999.00,  -999.0,9, -999.00,9,     -999.0,9,  -999.0,9, 20170711,      255, -30.0800, 161.4999,        0.0,1,      0.061,1,      4.695,1,      0.146,1,     -999.0,     -999.0,9,     -999.0,9,     -999.0,9,     -999.0,9,    11.8450,2,     -999.0,9
320620170703,        P06,      32,          1,          9,         41,2,20170711,       0323,   -30.0801,   161.5000,       1176,   452.6,  12.6952,  35.1211,2,  35.1599,2, 197.6205,2, 198.4991,2,     3.7,2,   11.94,2,    0.00,2,    0.85,2,-999.000,9,-999.000,9,-999.0000,9,  2125.0,2, 2304.58,2,   7.8200,2, -999.00,9, -999.00,9, -999.00,  -999.0,9, -999.00,9,     -999.0,9,  -999.0,9, 20170711,      257, -30.0800, 161.4999,        0.0,1,      0.060,1,      4.695,1,      0.145,1,      25.02,     -999.0,9,     -999.0,9,     -999.0,9,     -999.0,9,    13.0429,2,     -999.0,9
320620170703,        P06,      32,          1,         10,         10,2,20170711,       0323,   -30.0801,   161.5000,       1176,   404.0,  13.7587,  35.2471,2,  35.2668,2, 199.9461,2, 200.1873,2,     3.0,2,   10.24,2,    0.00,2,    0.74,2,   2.417,2,   1.427,2,   0.9220,2,  -999.0,9, -999.00,9,-999.0000,9, -999.00,9, -999.00,9, -999.00,  -999.0,9, -999.00,9,     -999.0,9,  -999.0,9, 20170711,      259, -30.0800, 161.5000,        0.0,1,      0.060,1,      4.694,1,      0.148,1,     -999.0,     -999.0,9,     -999.0,9,     -999.0,9,     -999.0,9,    14.0006,2,     -999.0,9
320620170703,        P06,      32,          1,         11,         42,2,20170711,       0323,   -30.0801,   161.5000,       1176,   349.6,  15.3265,  35.3611,2,  35.3541,2, 192.7679,2, 192.5900,2,     2.3,2,    8.90,2,    0.00,2,    0.65,2,-999.000,9,-999.000,9,-999.0000,9,  2109.9,2, 2314.38,2,   7.8687,2, -999.00,9, -999.00,9, -999.00,  -999.0,9, -999.00,9,     -999.0,9,  -999.0,9, 20170711,      301, -30.0801, 161.5000,        0.0,1,      0.060,1,      4.694,1,      0.144,1,      25.02,     -999.0,9,     -999.0,9,     -999.0,9,     -999.0,9,    15.3453,2,     -999.0,9
320620170703,        P06,      32,          1,         12,         12,2,20170711,       0323,   -30.0801,   161.5000,       1176,   302.4,  16.4375,  35.4768,2,  35.4521,3, 193.2660,2, 193.0196,2,     1.9,2,    7.51,2,    0.00,2,    0.57,2,   2.269,2,   1.349,2,   0.9330,2,  -999.0,9, -999.00,9,-999.0000,9, -999.00,9, -999.00,9, -999.00,  -999.0,9, -999.00,9,     -999.0,9,  -999.0,9, 20170711,      303, -30.0800, 161.5000,        0.0,1,      0.060,1,      4.692,1,      0.145,1,     -999.0,     -999.0,9,     -999.0,9,     -999.0,9,     -999.0,9,    16.2846,2,     -999.0,9
320620170703,        P06,      32,          1,         13,         43,2,20170711,       0323,   -30.0801,   161.5000,       1176,   252.2,  17.7192,  35.5827,2,  35.5693,2, 196.0786,2, 195.9639,2,     1.2,2,    5.73,2,    0.00,2,    0.45,2,-999.000,9,-999.000,9,-999.0000,9,  2090.0,2, 2327.85,2,   7.9233,2, -999.00,9, -999.00,9, -999.00,  -999.0,9, -999.00,9,     -999.0,9,  -999.0,9, 20170711,      305, -30.0800, 161.4999,        0.0,1,      0.060,1,      4.689,1,      0.148,1,      25.02,     -999.0,9,     -999.0,9,     -999.0,9,     -999.0,9,    17.4021,2,     -999.0,9
320620170703,        P06,      32,          1,         14,         14,2,20170711,       0323,   -30.0801,   161.5000,       1176,   226.0,  18.5896,  35.6475,2,  35.5963,2, 192.1200,2, 193.8212,2,     1.2,2,    5.55,2,    0.00,2,    0.44,2,   2.172,2,   1.295,2,   0.9160,2,  -999.0,9, -999.00,9,-999.0000,9, -999.00,9, -999.00,9, -999.00,  -999.0,9, -999.00,9,     -999.0,9,  -999.0,9, 20170711,      307, -30.0800, 161.4999,        0.0,1,      0.061,1,      4.686,1,      0.155,1,     -999.0,     -999.0,9,     -999.0,9,     -999.0,9,     -999.0,9,    17.9671,2,     -999.0,9
320620170703,        P06,      32,          1,         15,         15,2,20170711,       0323,   -30.0801,   161.5000,       1176,   201.6,  19.2856,  35.7168,2,  35.6737,2, 195.0353,2, 193.4933,2,     0.8,2,    4.27,2,    0.02,2,    0.36,2,-999.000,9,-999.000,9,-999.0000,9,  2080.3,2, 2338.44,2,   7.9555,2, -999.00,9, -999.00,9, -999.00,  -999.0,9, -999.00,9,     -999.0,9,  -999.0,9, 20170711,      309, -30.0800, 161.4999,        0.0,1,      0.065,1,      4.683,1,      0.160,1,      25.02,     -999.0,9,     -999.0,9,     -999.0,9,     -999.0,9,    18.9204,2,     -999.0,9
320620170703,        P06,      32,          1,         16,         16,2,20170711,       0323,   -30.0801,   161.5000,       1176,   175.3,  19.6164,  35.7783,2,  35.7377,2, 204.4804,2, 205.2298,2,     0.5,2,    2.58,2,    0.12,2,    0.25,2,   1.970,2,   1.241,2,   1.0430,2,  -999.0,9, -999.00,9,-999.0000,9, -999.00,9, -999.00,9, -999.00,  -999.0,9, -999.00,9,     -999.0,9,  -999.0,9, 20170711,      311, -30.0800, 161.4999,        0.0,1,      0.077,1,      4.678,1,      0.163,1,     -999.0,     -999.0,9,     -999.0,9,     -999.0,9,     -999.0,9,    19.4126,2,     -999.0,9
320620170703,        P06,      32,          1,         17,         17,2,20170711,       0323,   -30.0801,   161.5000,       1176,   150.6,  19.7781,  35.8042,2,  35.7965,2, 217.4053,3, 221.5421,2,     0.4,2,    1.00,2,    0.35,2,    0.16,2,-999.000,9,-999.000,9,-999.0000,9,  2056.2,2, 2340.84,2,   8.0064,2, -999.00,9, -999.00,9, -999.00,  -999.0,9, -999.00,9,     -999.0,9,  -999.0,9, 20170711,      313, -30.0801, 161.5000,        0.0,1,      0.143,1,      4.646,1,      0.191,1,      25.02,     -999.0,9,     -999.0,9,     -999.0,9,     -999.0,9,    19.6986,2,     -999.0,9
320620170703,        P06,      32,          1,         18,         18,2,20170711,       0323,   -30.0801,   161.5000,       1176,   125.6,  19.8347,  35.8148,2,  35.8062,2, 221.0533,2, 220.3484,2,     0.2,2,    0.67,2,    0.26,2,    0.12,2,   1.941,2,   1.198,2,   1.0310,2,  -999.0,9, -999.00,9,-999.0000,9, -999.00,9, -999.00,9, -999.00,  -999.0,9, -999.00,9,     -999.0,9,  -999.0,9, 20170711,      315, -30.0801, 161.5001,        0.0,1,      0.192,1,      4.620,1,      0.203,1,     -999.0,     -999.0,9,     -999.0,9,     -999.0,9,     -999.0,9,    19.7884,2,     -999.0,9
320620170703,        P06,      32,          1,         19,         19,2,20170711,       0323,   -30.0801,   161.5000,       1176,   100.6,  19.8654,  35.8173,2,  35.8143,2, 221.9845,2, 222.0723,2,     0.2,2,    0.51,2,    0.21,2,    0.10,2,-999.000,9,-999.000,9,-999.0000,9,  2051.9,2, 2341.37,6,   8.0167,2, -999.00,9, -999.00,9, -999.00,  -999.0,9, -999.00,9,     -999.0,9,  -999.0,9, 20170711,      316, -30.0801, 161.5002,        0.0,1,      0.199,1,      4.612,1,      0.201,1,      25.03,     -999.0,9,     -999.0,9,     -999.0,9,     -999.0,9,    19.8377,2,     -999.0,9
320620170703,        P06,      32,          1,         20,         20,2,20170711,       0323,   -30.0801,   161.5000,       1176,    75.7,  19.8633,  35.8172,2,  35.8190,2, 223.5163,2, 222.3244,2,     0.2,2,    0.47,2,    0.18,2,    0.10,2,   1.957,2,   1.202,2,   1.0150,2,  -999.0,9, -999.00,9,-999.0000,9, -999.00,9, -999.00,9, -999.00,  -999.0,9, -999.00,9,     -999.0,9,  -999.0,9, 20170711,      318, -30.0801, 161.5001,        0.0,1,      0.201,1,      4.612,1,      0.202,1,     -999.0,     -999.0,9,     -999.0,9,     -999.0,9,     -999.0,9,    19.8882,2,     -999.0,9
320620170703,        P06,      32,          1,         21,         21,2,20170711,       0323,   -30.0801,   161.5000,       1176,    50.4,  19.8622,  35.8170,2,  35.8262,2, 223.6157,2, 222.4891,2,     0.2,2,    0.40,2,    0.17,2,    0.11,2,-999.000,9,-999.000,9,-999.0000,9,  2050.8,2, 2342.32,2,   8.0210,2, -999.00,9, -999.00,9, -999.00,  -999.0,9, -999.00,9,     -999.0,9,  -999.0,9, 20170711,      320, -30.0801, 161.5001,        0.0,1,      0.205,1,      4.611,1,      0.208,1,      25.02,     -999.0,9,     -999.0,9,     -999.0,9,     -999.0,9,    19.9557,2,     -999.0,9
320620170703,        P06,      32,          1,         22,         22,2,20170711,       0323,   -30.0801,   161.5000,       1176,    24.2,  19.8673,  35.8171,2,  35.8301,2, 224.4419,2, 222.7298,2,     0.2,2,    0.35,2,    0.16,2,    0.11,2,   1.976,2,   1.203,2,   0.9650,2,  -999.0,9, -999.00,9,-999.0000,9, -999.00,9, -999.00,9, -999.00,  -999.0,9, -999.00,9,     -999.0,9,  -999.0,9, 20170711,      321, -30.0801, 161.5000,        0.0,1,      0.165,1,      4.609,1,      0.198,1,     -999.0,     -999.0,9,     -999.0,9,     -999.0,9,     -999.0,9,    20.0282,2,     -999.0,9
320620170703,        P06,      32,          1,         23,         23,2,20170711,       0323,   -30.0801,   161.5000,       1176,     3.8,  19.8670,  35.8172,2,  35.8368,2, 224.6764,3, 222.2425,2,     0.2,2,    0.32,2,    0.16,2,    0.12,2,   1.936,2,   1.194,2,   1.0340,2,  2049.9,6, 2342.25,2,   8.0223,2,    0.83,2,   51.48,2,    4.30,  -999.0,9, -999.00,9,     -999.0,9,  -999.0,9, 20170711,      323, -30.0801, 161.5000,        0.0,1,      0.117,1,      4.600,1,      0.186,1,      25.02,     -999.0,9,     -999.0,9,     -999.0,9,     -999.0,9,    20.0563,2,     -999.0,9