BOTTLE,20230922CCHSIOCBG
EXPOCODE,SECT_ID,STNNBR,CASTNO,SAMPNO,BTLNBR,BTLNBR_FLAG_W,DATE,TIME,LATITUDE,LONGITUDE,DEPTH,CTDPRS,CTDTMP,CTDSAL,CTDSAL_FLAG_W,SALNTY,SALNTY_FLAG_W,CTDOXY,CTDOXY_FLAG_W,OXYGEN,OXYGEN_FLAG_W,SILCAT,SILCAT_FLAG_W,NITRAT,NITRAT_FLAG_W,NITRIT,NITRIT_FLAG_W,PHSPHT,PHSPHT_FLAG_W,CFC-11,CFC-11_FLAG_W,CFC-12,CFC-12_FLAG_W,SF6,SF6_FLAG_W,TCARBN,TCARBN_FLAG_W,ALKALI,ALKALI_FLAG_W,PH_TOT,PH_TOT_FLAG_W,DELC13,DELC13_FLAG_W,DELC14,DELC14_FLAG_W,C14ERR,DOC,DOC_FLAG_W,TDN,TDN_FLAG_W,TON,TON_FLAG_W,D15N_NO3,D15N_NO3_FLAG_W,BTL_DATE,BTL_TIME,BTL_LAT,BTL_LON,CTDRINKO,CTDRINKO_FLAG_W,CTDFLUOR,CTDFLUOR_FLAG_W,CTDXMISS,CTDXMISS_FLAG_W,CTDBACKSCATTER,CTDBACKSCATTER_FLAG_W,PH_TMP,D18O_NO3,D18O_NO3_FLAG_W,DOP,DOP_FLAG_W,HPLC,HPLC_FLAG_W,POC,POC_FLAG_W,REFTMP,REFTMP_FLAG_W,TDP,TDP_FLAG_W
,,,,,,,,,,,METERS,DBAR,ITS-90,PSS-78,,PSS-78,,UMOL/KG,,UMOL/KG,,UMOL/KG,,UMOL/KG,,UMOL/KG,,UMOL/KG,,PMOL/KG,,PMOL/KG,,FMOL/KG,,UMOL/KG,,UMOL/KG,,,,/MILLE,,/MILLE,,/MILLE,UMOL/KG,,UMOL/KG,,UMOL/KG,,/MILLE,,,,,,VOLTS,,VOLTS,,VOLTS,,VOLTS,,DEGC,/MILLE,,UMOL/KG,,,,UG/L,,ITS-90,,UMOL/KG,
320620170703,        P06,     110,          1,          1,          1,2,20170801,       0200,   -32.4997,  -170.7493,       5722,  5831.1,   1.1530,  34.7080,2,  34.7087,2, 206.0197,2, 206.5508,2,   122.0,2,   32.08,2,    0.00,2,    2.23,2,   0.129,2,   0.071,2,   0.0000,2,  2264.6,6, 2356.67,2,   7.6059,2, -999.00,9, -999.00,9, -999.00,    41.5,2, -999.00,9,     -999.0,1,  -999.0,9, 20170731,     2335, -32.5000,-170.7491,        0.0,1,      0.061,1,      4.697,1,      0.126,1,      25.01,     -999.0,9,     -999.0,9,     -999.0,9,     -999.0,9,     1.1534,2,     -999.0,9
320620170703,        P06,     110,          1,          2,          2,2,20170801,       0200,   -32.4997,  -170.7493,       5722,  5430.9,   1.1018,  34.7084,2,  34.7079,2, 206.0197,2, 206.2697,2,   121.6,2,   32.07,2,    0.00,2,    2.24,2,   0.124,2,   0.073,2,   0.0000,2,  2263.2,2, 2345.89,3,   7.6064,2, -999.00,9, -999.00,9, -999.00,    40.2,2, -999.00,9,     -999.0,1,  -999.0,9, 20170731,     2351, -32.4999,-170.7493,        0.0,1,      0.061,1,      4.697,1,      0.124,1,      25.03,     -999.0,9,     -999.0,9,     -999.0,9,     -999.0,9,     1.1020,2,     -999.0,9
320620170703,        P06,     110,          1,          3,          3,2,20170801,       0200,   -32.4997,  -170.7493,       5722,  5161.7,   1.0743,  34.7088,2,  34.7109,2, 206.0197,2, 206.3266,2,   121.3,2,   32.17,2,    0.00,2,    2.22,2,   0.125,2,   0.075,2,   0.0000,2,  2263.6,2, 2359.60,3,   7.6067,2, -999.00,9, -999.00,9, -999.00,  -999.0,9, -999.00,9,     -999.0,9,  -999.0,9, 20170731,     2357, -32.4998,-170.7494,        0.0,1,      0.060,1,      4.699,1,      0.127,1,      25.02,     -999.0,9,     -999.0,9,     -999.0,9,     -999.0,9,     1.0753,2,     -999.0,9
320620170703,        P06,     110,          1,          4,          4,2,20170801,       0200,   -32.4997,  -170.7493,       5722,  4853.2,   1.0593,  34.7097,2,  34.7097,2, 206.0197,2, 205.9080,2,   120.5,2,   32.06,2,    0.00,2,    2.23,2,   0.121,2,   0.074,2,   0.0000,2,  2261.8,2, 2363.70,2,   7.6066,2, -999.00,9, -999.00,9, -999.00,    38.9,2, -999.00,9,     -999.0,1,  -999.0,9, 20170801,        3, -32.4999,-170.7492,        0.0,1,      0.061,1,      4.700,1,      0.125,1,      25.02,     -999.0,9,     -999.0,9,     -999.0,9,     -999.0,9,     1.0597,2,     -999.0,9
320620170703,        P06,     110,          1,          5,          5,2,20170801,       0200,   -32.4997,  -170.7493,       5722,  4542.5,   1.0812,  34.7117,2,  34.7119,2, 206.1485,2, 205.3976,2,   119.2,2,   31.96,2,    0.00,2,    2.22,2,   0.109,2,   0.066,2,   0.0000,2,  2262.8,2, 2361.61,6,   7.6066,2, -999.00,9, -999.00,9, -999.00,  -999.0,9, -999.00,9,     -999.0,9,  -999.0,9, 20170801,       10, -32.5001,-170.7490,        0.0,1,      0.060,1,      4.700,1,      0.126,1,      25.00,     -999.0,9,     -999.0,9,     -999.0,9,     -999.0,9,     1.0805,2,     -999.0,9
320620170703,        P06,     110,          1,          6,          6,2,20170801,       0200,   -32.4997,  -170.7493,       5722,  4234.9,   1.1684,  34.7156,2,  34.7152,2, 203.7286,2, 203.5480,2,   116.2,2,   31.87,2,    0.00,2,    2.20,2,   0.096,2,   0.060,2,   0.0000,2,  2260.7,2, 2361.68,2,   7.6067,2, -999.00,9, -999.00,9, -999.00,    37.1,2, -999.00,9,     -999.0,1,  -999.0,9, 20170801,       16, -32.5001,-170.7490,        0.0,1,      0.061,1,      4.701,1,      0.127,1,      25.02,     -999.0,9,     -999.0,9,     -999.0,9,     -999.0,9,     1.1626,2,     -999.0,9
320620170703,        P06,     110,          1,          7,          7,2,20170801,       0200,   -32.4997,  -170.7493,       5722,  3927.7,   1.3423,  34.7187,2,  34.7184,2, 198.4306,2, 198.6728,2,   112.3,2,   31.86,2,    0.00,2,    2.20,2,   0.075,2,   0.049,2,   0.0000,2,  2261.0,2, 2360.34,2,   7.6035,2, -999.00,9, -999.00,9, -999.00,  -999.0,9, -999.00,9,     -999.0,9,  -999.0,9, 20170801,       22, -32.5001,-170.7490,        0.0,1,      0.061,1,      4.701,1,      0.128,1,      25.02,     -999.0,9,     -999.0,9,     -999.0,9,     -999.0,9,     1.3293,2,     -999.0,9
320620170703,        P06,     110,          1,          8,          8,2,20170801,       0200,   -32.4997,  -170.7493,       5722,  3621.0,   1.5221,  34.7145,2,  34.7144,2, 188.7303,2, 189.0537,2,   111.5,2,   32.30,2,    0.00,2,    2.24,2,   0.053,2,   0.036,2,   0.0000,2,  2269.6,2, 2364.99,2,   7.5990,2, -999.00,9, -999.00,9, -999.00,    37.8,2, -999.00,9,     -999.0,1,  -999.0,9, 20170801,       28, -32.4999,-170.7491,        0.0,1,      0.061,1,      4.701,1,      0.127,1,      25.02,     -999.0,9,     -999.0,9,     -999.0,9,     -999.0,9,     1.5228,2,     -999.0,9
320620170703,        P06,     110,          1,          9,          9,2,20170801,       0200,   -32.4997,  -170.7493,       5722,  3312.7,   1.6675,  34.6959,2,  34.6965,2, 172.7748,2, 171.7640,2,   119.1,2,   33.75,2,    0.00,2,    2.36,2,   0.036,2,   0.028,2,   0.0000,2,  2288.3,2, 2374.36,6,   7.5867,2, -999.00,9, -999.00,9, -999.00,  -999.0,9, -999.00,9,     -999.0,9,  -999.0,9, 20170801,       35, -32.4998,-170.7492,        0.0,1,      0.061,1,      4.701,1,      0.129,1,      25.01,     -999.0,9,     -999.0,9,     -999.0,9,     -999.0,9,     1.6634,2,     -999.0,9
320620170703,        P06,     110,          1,         10,         10,2,20170801,       0200,   -32.4997,  -170.7493,       5722,  3057.5,   1.7633,  34.6759,2,  34.6771,2, 158.3198,2, 157.0840,2,   127.6,2,   35.15,2,    0.00,2,    2.45,2,   0.030,2,   0.024,2,   0.0000,2,  2305.5,2, 2391.48,2,   7.5748,2, -999.00,9, -999.00,9, -999.00,    36.6,2, -999.00,9,     -999.0,1,  -999.0,9, 20170801,       40, -32.4998,-170.7493,        0.0,1,      0.062,1,      4.701,1,      0.130,1,      25.00,     -999.0,9,     -999.0,9,     -999.0,9,     -999.0,9,     1.7512,2,     -999.0,9
320620170703,        P06,     110,          1,         11,         11,2,20170801,       0200,   -32.4997,  -170.7493,       5722,  2801.6,   1.8602,  34.6643,2,  34.6655,2, 149.9742,2, 149.9031,2,   128.9,2,   35.81,2,    0.00,2,    2.49,2,   0.025,2,   0.021,2,   0.0000,2,  2313.4,2, 2400.01,2,   7.5688,2, -999.00,9, -999.00,9, -999.00,  -999.0,9, -999.00,9,     -999.0,9,  -999.0,9, 20170801,       45, -32.4997,-170.7493,        0.0,1,      0.062,1,      4.701,1,      0.130,1,      25.02,     -999.0,9,     -999.0,9,     -999.0,9,     -999.0,9,     1.8540,2,     -999.0,9
320620170703,        P06,     110,          1,         12,         12,2,20170801,       0200,   -32.4997,  -170.7493,       5722,  2549.2,   1.9570,  34.6552,2,  34.6547,2, 147.4441,2, 147.7847,2,   125.7,2,   35.89,2,    0.00,2,    2.50,2,   0.030,2,   0.027,2,   0.0000,2,  2312.8,6, 2397.37,2,   7.5660,2, -999.00,9, -999.00,9, -999.00,    38.9,2, -999.00,9,     -999.0,1,  -999.0,9, 20170801,       50, -32.4997,-170.7493,        0.0,1,      0.061,1,      4.701,1,      0.133,1,      25.03,     -999.0,9,     -999.0,9,     -999.0,9,     -999.0,9,     1.9584,2,     -999.0,9
320620170703,        P06,     110,          1,         13,         13,2,20170801,       0200,   -32.4997,  -170.7493,       5722,  2292.4,   2.0785,  34.6446,2,  34.6435,2, 147.2059,2, 147.8942,2,   120.3,2,   35.87,2,    0.00,2,    2.49,2,   0.023,2,   0.020,2,   0.0000,2,  2305.6,2, 2392.29,2,   7.5656,2, -999.00,9, -999.00,9, -999.00,  -999.0,9, -999.00,9,     -999.0,9,  -999.0,9, 20170801,       56, -32.4997,-170.7493,        0.0,1,      0.061,1,      4.701,1,      0.133,1,      25.02,     -999.0,9,     -999.0,9,     -999.0,9,     -999.0,9,     2.0831,2,     -999.0,9
320620170703,        P06,     110,          1,         14,         14,2,20170801,       0200,   -32.4997,  -170.7493,       5722,  2038.5,   2.2618,  34.6280,2,  34.6289,2, 149.1465,2, 150.0576,2,   112.0,2,   35.56,2,    0.00,2,    2.48,2,   0.028,2,   0.024,2,   0.0000,2,  2297.9,2, 2383.57,2,   7.5668,2, -999.00,9, -999.00,9, -999.00,    34.6,3, -999.00,9,     -999.0,1,  -999.0,9, 20170801,      102, -32.4998,-170.7492,        0.0,1,      0.061,1,      4.701,1,      0.134,1,      25.02,     -999.0,9,     -999.0,9,     -999.0,9,     -999.0,9,     2.2510,2,     -999.0,9
320620170703,        P06,     110,          1,         15,         15,2,20170801,       0200,   -32.4997,  -170.7493,       5722,  1783.3,   2.4962,  34.5953,2,  34.5979,2, 153.5997,2, 154.2903,2,    98.9,2,   35.13,2,    0.00,2,    2.44,2,   0.032,2,   0.025,2,   0.0000,2,  2283.7,2, 2364.71,2,   7.5674,2, -999.00,9, -999.00,9, -999.00,  -999.0,9, -999.00,9,     -999.0,9,  -999.0,9, 20170801,      107, -32.4999,-170.7492,        0.0,1,      0.060,1,      4.702,1,      0.135,1,      25.02,     -999.0,9,     -999.0,9,     -999.0,9,     -999.0,9,     2.4798,2,     -999.0,9
320620170703,        P06,     110,          1,         16,         16,2,20170801,       0200,   -32.4997,  -170.7493,       5722,  1551.7,   2.8008,  34.5377,2,  34.5366,2, 162.6963,2, 162.4807,2,    80.2,2,   34.65,2,    0.00,2,    2.40,2,   0.061,2,   0.043,2,   0.0000,2,  2261.0,2, 2343.35,2,   7.5678,2, -999.00,9, -999.00,9, -999.00,    41.5,3, -999.00,9,     -999.0,1,  -999.0,9, 20170801,      112, -32.4999,-170.7491,        0.0,1,      0.061,1,      4.701,1,      0.135,1,      25.02,     -999.0,9,     -999.0,9,     -999.0,9,     -999.0,9,     2.8055,2,     -999.0,9
320620170703,        P06,     110,          1,         17,         17,2,20170801,       0200,   -32.4997,  -170.7493,       5722,  1377.8,   3.1856,  34.4563,2,  34.4567,2, 173.9139,2, 173.6381,2,    62.0,2,   34.04,2,    0.00,2,    2.35,2,   0.174,2,   0.105,2,   0.0000,2,  2238.1,2, 2323.41,2,   7.5748,2, -999.00,9, -999.00,9, -999.00,    39.3,2, -999.00,9,     -999.0,1,  -999.0,9, 20170801,      116, -32.4998,-170.7492,        0.0,1,      0.061,1,      4.702,1,      0.137,1,      25.01,     -999.0,9,     -999.0,9,     -999.0,9,     -999.0,9,     3.1829,2,     -999.0,9
320620170703,        P06,     110,          1,         18,         18,2,20170801,       0200,   -32.4997,  -170.7493,       5722,  1277.4,   3.5470,  34.4066,2,  34.4029,2, 182.3180,2, 182.6764,2,    50.3,2,   33.26,2,    0.00,2,    2.29,2,   0.361,2,   0.198,2,   0.0850,2,  2224.1,2, 2311.58,2,   7.5866,2, -999.00,9, -999.00,9, -999.00,  -999.0,9, -999.00,9,     -999.0,9,  -999.0,9, 20170801,      119, -32.4998,-170.7492,        0.0,1,      0.060,1,      4.702,1,      0.137,1,      25.02,     -999.0,9,     -999.0,9,     -999.0,9,     -999.0,9,     3.5668,2,     -999.0,9
320620170703,        P06,     110,          1,         19,         19,2,20170801,       0200,   -32.4997,  -170.7493,       5722,  1175.4,   3.9909,  34.3682,2,  34.3664,2, 189.7123,2, 189.8390,2,    40.8,2,   32.27,2,    0.00,2,    2.20,2,   0.568,2,   0.294,2,   0.0000,2,  2207.6,2, 2301.45,2,   7.5998,2, -999.00,9, -999.00,9, -999.00,    40.9,2, -999.00,9,     -999.0,1,  -999.0,9, 20170801,      122, -32.4999,-170.7492,        0.0,1,      0.060,1,      4.701,1,      0.134,1,      25.02,     -999.0,9,     -999.0,9,     -999.0,9,     -999.0,9,     3.9935,2,     -999.0,9
320620170703,        P06,     110,          1,         20,         20,2,20170801,       0200,   -32.4997,  -170.7493,       5722,  1074.2,   4.5752,  34.3378,2,  34.3329,2, 201.3812,2, 200.6514,2,    29.2,2,   30.47,2,    0.00,2,    2.07,2,   0.993,2,   0.473,2,   0.1050,2,  2192.5,2, 2289.05,2,   7.6243,2, -999.00,9, -999.00,9, -999.00,  -999.0,9, -999.00,9,     -999.0,9,  -999.0,9, 20170801,      124, -32.4999,-170.7491,        0.0,1,      0.061,1,      4.701,1,      0.142,1,      25.02,     -999.0,9,     -999.0,9,     -999.0,9,     -999.0,9,     4.6533,2,     -999.0,9
320620170703,        P06,     110,          1,         21,         21,2,20170801,       0200,   -32.4997,  -170.7493,       5722,   973.0,   5.2680,  34.3237,2,  34.3182,2, 212.1242,2, 211.9653,2,    20.5,2,   28.51,2,    0.00,2,    1.94,2,   1.424,2,   0.691,2,   0.1460,2,  2174.2,2, 2284.78,2,   7.6505,2, -999.00,9, -999.00,9, -999.00,    40.6,2, -999.00,9,     -999.0,1,  -999.0,9, 20170801,      127, -32.4999,-170.7491,        0.0,1,      0.060,1,      4.700,1,      0.138,1,      25.03,     -999.0,9,     -999.0,9,     -999.0,9,     -999.0,9,     5.2447,2,     -999.0,9
320620170703,        P06,     110,          1,         22,         22,2,20170801,       0200,   -32.4997,  -170.7493,       5722,   872.4,   5.8181,  34.3236,2,  34.3225,2, 223.8546,2, 224.1664,2,    14.0,2,   26.26,2,    0.00,2,    1.77,2,   2.113,2,   1.056,2,   0.3620,2,  2162.1,2, 2278.18,2,   7.6755,2, -999.00,9, -999.00,9, -999.00,  -999.0,9, -999.00,9,     -999.0,9,  -999.0,9, 20170801,      130, -32.5000,-170.7490,        0.0,1,      0.058,1,      4.700,1,      0.138,1,      25.02,     -999.0,9,     -999.0,9,     -999.0,9,     -999.0,9,     5.8431,2,     -999.0,9
320620170703,        P06,     110,          1,         23,         23,2,20170801,       0200,   -32.4997,  -170.7493,       5722,   772.5,   6.3664,  34.3455,2,  34.3549,2, 232.1125,2, 233.0470,2,     9.4,2,   24.06,2,    0.00,2,    1.62,2,   2.755,2,   1.393,2,   0.5240,2,  2149.7,2, 2275.83,2,   7.6963,2, -999.00,9, -999.00,9, -999.00,    42.6,2, -999.00,9,     -999.0,1,  -999.0,9, 20170801,      133, -32.5000,-170.7490,        0.0,1,      0.059,1,      4.699,1,      0.139,1,      25.02,     -999.0,9,     -999.0,9,     -999.0,9,     -999.0,9,     6.4544,2,     -999.0,9
320620170703,        P06,     110,          1,         24,         24,2,20170801,       0200,   -32.4997,  -170.7493,       5722,   669.7,   6.8922,  34.3761,2,  34.3804,2, 234.9348,2, 234.9062,2,     7.1,2,   22.50,2,    0.00,2,    1.53,2,   3.252,2,   1.650,2,   0.7130,2,  2146.2,6, 2279.63,2,   7.7058,2, -999.00,9, -999.00,9, -999.00,    43.7,2, -999.00,9,     -999.0,1,  -999.0,9, 20170801,      136, -32.5000,-170.7491,        0.0,1,      0.059,1,      4.697,1,      0.139,1,      25.02,     -999.0,9,     -999.0,9,     -999.0,9,     -999.0,9,     6.9758,2,     -999.0,9
320620170703,        P06,     110,          1,         25,         25,2,20170801,       0200,   -32.4997,  -170.7493,       5722,   568.5,   7.5512,  34.4350,2,  34.4510,2, 231.4006,2, 230.3322,2,     5.9,2,   20.85,2,    0.00,2,    1.43,2,   3.405,2,   1.796,2,   0.8650,2,  2144.0,2, 2276.65,6,   7.7128,2, -999.00,9, -999.00,9, -999.00,    43.6,2, -999.00,9,     -999.0,1,  -999.0,9, 20170801,      138, -32.5000,-170.7491,        0.0,1,      0.059,1,      4.696,1,      0.158,1,      25.03,     -999.0,9,     -999.0,9,     -999.0,9,     -999.0,9,     7.7175,2,     -999.0,9
320620170703,        P06,     110,          1,         26,         26,2,20170801,       0200,   -32.4997,  -170.7493,       5722,   468.5,   8.7221,  34.5601,2,  34.5535,2, 221.4120,2, 221.4966,2,     4.7,2,   18.65,2,    0.00,2,    1.27,2,   3.287,2,   1.758,2,   1.0070,2,  2143.1,2, 2280.42,2,   7.7257,2, -999.00,9, -999.00,9, -999.00,    44.9,2,   21.40,2,     -999.0,1,  -999.0,9, 20170801,      141, -32.5000,-170.7491,        0.0,1,      0.060,1,      4.694,1,      0.141,1,      25.01,     -999.0,9,     -999.0,9,     -999.0,9,     -999.0,9,     8.7039,2,     -999.0,9
320620170703,        P06,     110,          1,         27,         27,2,20170801,       0200,   -32.4997,  -170.7493,       5722,   366.9,  10.3833,  34.7731,2,  34.7262,2, 216.9899,2, 215.4073,2,     3.7,2,   15.39,2,    0.00,2,    1.08,2,   3.116,2,   1.697,2,   1.1950,2,  2137.1,2, -999.00,9,   7.7537,2, -999.00,9, -999.00,9, -999.00,    49.9,2,   18.00,2,     -999.0,1,  -999.0,9, 20170801,      144, -32.4999,-170.7491,        0.0,1,      0.060,1,      4.692,1,      0.143,1,      25.02,     -999.0,9,     -999.0,9,     -999.0,9,     -999.0,9,    10.1011,2,     -999.0,9
320620170703,        P06,     110,          1,         28,         28,2,20170801,       0200,   -32.4997,  -170.7493,       5722,   287.9,  11.8514,  34.9755,2,  34.9697,2, 216.3205,2, 218.1576,2,     2.3,2,   10.65,2,    0.00,2,    0.78,2,   2.823,2,   1.627,2,   1.3300,2,  2125.4,2, 2296.77,2,   7.8018,2, -999.00,9, -999.00,9, -999.00,    49.2,2,   14.20,2,     -999.0,1,  -999.0,9, 20170801,      146, -32.4999,-170.7492,        0.0,1,      0.060,1,      4.691,1,      0.143,1,      25.02,     -999.0,9,     -999.0,9,     -999.0,9,     -999.0,9,    11.8695,2,     -999.0,9
320620170703,        P06,     110,          1,         29,         29,2,20170801,       0200,   -32.4997,  -170.7493,       5722,   237.3,  12.6439,  35.0777,2,  35.0646,2, 215.8828,2, 216.2367,2,     2.1,2,    9.14,2,    0.00,2,    0.68,2,   2.725,2,   1.569,2,   1.3630,2,  2120.6,2, -999.00,9,   7.8201,2, -999.00,9, -999.00,9, -999.00,    50.5,2,   12.40,2,     -999.0,1,  -999.0,9, 20170801,      148, -32.4998,-170.7492,        0.0,1,      0.061,1,      4.689,1,      0.144,1,      25.03,     -999.0,9,     -999.0,9,     -999.0,9,     -999.0,9,    12.5804,2,     -999.0,9
320620170703,        P06,     110,          1,         30,         30,2,20170801,       0200,   -32.4997,  -170.7493,       5722,   185.7,  13.7392,  35.2157,2,  35.2345,2, 207.1973,2, 207.7757,2,     1.9,2,    7.96,2,    0.02,2,    0.61,2,   2.557,2,   1.477,2,   1.3850,2,  2116.4,2, 2309.91,2,   7.8469,2, -999.00,9, -999.00,9, -999.00,    50.9,2,   10.90,2,     -999.0,1,  -999.0,9, 20170801,      150, -32.4998,-170.7492,        0.0,1,      0.061,1,      4.675,1,      0.142,1,      25.03,     -999.0,9,     -999.0,9,     -999.0,9,     -999.0,9,    13.9196,2,     -999.0,9
320620170703,        P06,     110,          1,         31,         31,2,20170801,       0200,   -32.4997,  -170.7493,       5722,   136.0,  15.1748,  35.3893,2,  35.3829,2, 210.8011,2, 209.9585,2,     1.2,2,    5.61,2,    0.02,2,    0.46,2,   2.419,2,   1.411,2,   1.3200,2,  2106.3,2, -999.00,9,   7.8807,2, -999.00,9, -999.00,9, -999.00,    49.3,2,    8.90,2,     -999.0,1,  -999.0,9, 20170801,      152, -32.4998,-170.7492,        0.0,1,      0.070,1,      4.683,1,      0.144,1,      25.03,     -999.0,9,     -999.0,9,     -999.0,9,     -999.0,9,    15.1576,2,     -999.0,9
320620170703,        P06,     110,          1,         32,         32,2,20170801,       0200,   -32.4997,  -170.7493,       5722,    90.6,  17.0475,  35.5997,2,  35.5973,2, 235.9612,2, 235.6511,2,     0.1,2,    0.20,2,    0.03,2,    0.11,2,   2.219,6,   1.302,6,   1.3715,6,  2072.0,2, 2332.74,2,   7.9711,2, -999.00,9, -999.00,9, -999.00,    57.4,2,    3.70,2,     -999.0,1,  -999.0,9, 20170801,      154, -32.4998,-170.7492,        0.0,1,      0.182,1,      4.627,1,      0.227,1,      25.03,     -999.0,9,     -999.0,9,     -999.0,9,     -999.0,9,    17.0165,2,     -999.0,9