BOTTLE,20230922CCHSIOCBG
EXPOCODE,SECT_ID,STNNBR,CASTNO,SAMPNO,BTLNBR,BTLNBR_FLAG_W,DATE,TIME,LATITUDE,LONGITUDE,DEPTH,CTDPRS,CTDTMP,CTDSAL,CTDSAL_FLAG_W,SALNTY,SALNTY_FLAG_W,CTDOXY,CTDOXY_FLAG_W,OXYGEN,OXYGEN_FLAG_W,SILCAT,SILCAT_FLAG_W,NITRAT,NITRAT_FLAG_W,NITRIT,NITRIT_FLAG_W,PHSPHT,PHSPHT_FLAG_W,CFC-11,CFC-11_FLAG_W,CFC-12,CFC-12_FLAG_W,SF6,SF6_FLAG_W,TCARBN,TCARBN_FLAG_W,ALKALI,ALKALI_FLAG_W,PH_TOT,PH_TOT_FLAG_W,DELC13,DELC13_FLAG_W,DELC14,DELC14_FLAG_W,C14ERR,DOC,DOC_FLAG_W,TDN,TDN_FLAG_W,TON,TON_FLAG_W,D15N_NO3,D15N_NO3_FLAG_W,BTL_DATE,BTL_TIME,BTL_LAT,BTL_LON,CTDRINKO,CTDRINKO_FLAG_W,CTDFLUOR,CTDFLUOR_FLAG_W,CTDXMISS,CTDXMISS_FLAG_W,CTDBACKSCATTER,CTDBACKSCATTER_FLAG_W,PH_TMP,D18O_NO3,D18O_NO3_FLAG_W,DOP,DOP_FLAG_W,HPLC,HPLC_FLAG_W,POC,POC_FLAG_W,REFTMP,REFTMP_FLAG_W,TDP,TDP_FLAG_W
,,,,,,,,,,,METERS,DBAR,ITS-90,PSS-78,,PSS-78,,UMOL/KG,,UMOL/KG,,UMOL/KG,,UMOL/KG,,UMOL/KG,,UMOL/KG,,PMOL/KG,,PMOL/KG,,FMOL/KG,,UMOL/KG,,UMOL/KG,,,,/MILLE,,/MILLE,,/MILLE,UMOL/KG,,UMOL/KG,,UMOL/KG,,/MILLE,,,,,,VOLTS,,VOLTS,,VOLTS,,VOLTS,,DEGC,/MILLE,,UMOL/KG,,,,UG/L,,ITS-90,,UMOL/KG,
320620170703,        P06,     136,          1,          1,          1,2,20170811,       0800,   -32.5002,  -153.5987,       5055,  5142.6,   1.1420,  34.7093,2,  34.7076,2, 202.5556,3, 205.9017,2,   119.8,2,   32.26,2,    0.00,2,    2.24,2,   0.082,2,   0.051,2,   0.0000,2,  2266.3,6, 2369.67,2,   7.6079,2, -999.00,9, -999.00,9, -999.00,    37.2,2, -999.00,9,     -999.0,1,  -999.0,9, 20170811,      549, -32.4999,-153.5985,        0.0,1,      0.060,1,      4.695,1,      0.126,1,      24.97,     -999.0,9,     -999.0,9,     -999.0,9,     -999.0,9,     1.1428,2,     -999.0,9
320620170703,        P06,     136,          1,          2,          2,2,20170811,       0800,   -32.5002,  -153.5987,       5055,  4939.1,   1.1305,  34.7096,2,  34.7107,2, 202.5556,2, 203.7021,2,   119.5,2,   32.26,2,    0.00,2,    2.24,2,   0.072,2,   0.048,2,   0.0000,2,  2265.8,2, 2372.29,2,   7.6072,2, -999.00,9, -999.00,9, -999.00,  -999.0,9, -999.00,9,     -999.0,9,  -999.0,9, 20170811,      554, -32.5003,-153.5988,        0.0,1,      0.060,1,      4.696,1,      0.123,1,      25.02,     -999.0,9,     -999.0,9,     -999.0,9,     -999.0,9,     1.1305,2,     -999.0,9
320620170703,        P06,     136,          1,          3,          3,2,20170811,       0800,   -32.5002,  -153.5987,       5055,  4682.4,   1.1454,  34.7101,2,  34.7101,2, 203.2424,2, 202.4582,2,   118.7,2,   32.28,2,    0.00,2,    2.23,2,   0.055,2,   0.039,2,   0.0000,2,  2265.9,2, 2367.10,6,   7.6067,2, -999.00,9, -999.00,9, -999.00,    36.8,2, -999.00,9,     -999.0,1,  -999.0,9, 20170811,      600, -32.4998,-153.5983,        0.0,1,      0.061,1,      4.697,1,      0.123,1,      25.00,     -999.0,9,     -999.0,9,     -999.0,9,     -999.0,9,     1.1448,2,     -999.0,9
320620170703,        P06,     136,          1,          4,          4,2,20170811,       0800,   -32.5002,  -153.5987,       5055,  4374.6,   1.2130,  34.7104,2,  34.7109,2, 201.5151,3, 198.8561,2,   117.3,2,   32.32,2,    0.00,2,    2.24,2,   0.042,2,   0.033,2,   0.0000,2,  2268.2,2, 2374.20,2,   7.6056,2, -999.00,9, -999.00,9, -999.00,  -999.0,9, -999.00,9,     -999.0,9,  -999.0,9, 20170811,      606, -32.4999,-153.5984,        0.0,1,      0.061,1,      4.698,1,      0.124,1,      24.98,     -999.0,9,     -999.0,9,     -999.0,9,     -999.0,9,     1.2147,2,     -999.0,9
320620170703,        P06,     136,          1,          5,          5,2,20170811,       0800,   -32.5002,  -153.5987,       5055,  4064.7,   1.3500,  34.7073,2,  34.7074,3, 191.4833,2, 191.3812,2,   117.6,2,   32.75,2,    0.00,2,    2.27,2,   0.030,2,   0.027,2,   0.0000,2,  2274.6,2, 2377.92,2,   7.6003,2, -999.00,9, -999.00,9, -999.00,    35.6,2, -999.00,9,     -999.0,1,  -999.0,9, 20170811,      613, -32.4999,-153.5983,        0.0,1,      0.061,1,      4.698,1,      0.124,1,      24.99,     -999.0,9,     -999.0,9,     -999.0,9,     -999.0,9,     1.3484,2,     -999.0,9
320620170703,        P06,     136,          1,          6,          6,2,20170811,       0800,   -32.5002,  -153.5987,       5055,  3760.7,   1.4792,  34.7020,2,  34.7022,3, 182.5625,2, 182.0031,2,   118.8,2,   33.32,2,    0.00,2,    2.32,2,   0.035,2,   0.033,2,   0.0000,2,  2283.4,2, 2379.76,2,   7.5942,2, -999.00,9, -999.00,9, -999.00,  -999.0,9, -999.00,9,     -999.0,9,  -999.0,9, 20170811,      619, -32.5000,-153.5984,        0.0,1,      0.061,1,      4.698,1,      0.124,1,      25.00,     -999.0,9,     -999.0,9,     -999.0,9,     -999.0,9,     1.4862,2,     -999.0,9
320620170703,        P06,     136,          1,          7,          7,2,20170811,       0800,   -32.5002,  -153.5987,       5055,  3452.1,   1.6024,  34.6899,2,  34.6889,2, 169.0775,2, 167.5821,2,   124.7,2,   34.45,2,    0.00,2,    2.40,2,   0.026,2,   0.026,2,   0.0000,2,  2298.7,2, 2392.18,2,   7.5839,2, -999.00,9, -999.00,9, -999.00,    36.7,2, -999.00,9,     -999.0,1,  -999.0,9, 20170811,      625, -32.5000,-153.5984,        0.0,1,      0.061,1,      4.698,1,      0.127,1,      25.00,     -999.0,9,     -999.0,9,     -999.0,9,     -999.0,9,     1.6103,2,     -999.0,9
320620170703,        P06,     136,          1,          8,          8,2,20170811,       0800,   -32.5002,  -153.5987,       5055,  3143.2,   1.7062,  34.6765,2,  34.6763,3, 158.8273,3, 156.5132,2,   129.1,2,   35.38,2,    0.00,2,    2.46,2,   0.022,2,   0.022,2,   0.0000,2,  2311.1,2, 2407.04,2,   7.5739,2, -999.00,9, -999.00,9, -999.00,  -999.0,9, -999.00,9,     -999.0,9,  -999.0,9, 20170811,      632, -32.4999,-153.5983,        0.0,1,      0.061,1,      4.698,1,      0.128,1,      25.00,     -999.0,9,     -999.0,9,     -999.0,9,     -999.0,9,     1.7095,2,     -999.0,9
320620170703,        P06,     136,          1,          9,          9,2,20170811,       0800,   -32.5002,  -153.5987,       5055,  2873.9,   1.7857,  34.6680,2,  34.6679,2, 152.6791,2, 151.5435,2,   129.3,2,   35.76,2,    0.00,2,    2.49,2,   0.023,2,   0.022,2,   0.0000,2,  2315.5,2, 2407.39,2,   7.5704,2, -999.00,9, -999.00,9, -999.00,    34.7,2, -999.00,9,     -999.0,1,  -999.0,9, 20170811,      637, -32.5000,-153.5984,        0.0,1,      0.061,1,      4.698,1,      0.128,1,      25.00,     -999.0,9,     -999.0,9,     -999.0,9,     -999.0,9,     1.7842,2,     -999.0,9
320620170703,        P06,     136,          1,         10,         10,2,20170811,       0800,   -32.5002,  -153.5987,       5055,  2620.4,   1.8737,  34.6601,2,  34.6610,3, 149.0871,2, 148.7655,2,   127.7,2,   35.95,2,    0.00,2,    2.50,2,   0.021,2,   0.021,2,   0.0000,2,  2315.9,6, 2408.05,2,   7.5676,2, -999.00,9, -999.00,9, -999.00,  -999.0,9, -999.00,9,     -999.0,9,  -999.0,9, 20170811,      642, -32.5001,-153.5986,        0.0,1,      0.062,1,      4.699,1,      0.129,1,      24.99,     -999.0,9,     -999.0,9,     -999.0,9,     -999.0,9,     1.8612,2,     -999.0,9
320620170703,        P06,     136,          1,         11,         11,2,20170811,       0800,   -32.5002,  -153.5987,       5055,  2364.2,   1.9848,  34.6510,2,  34.6515,3, 147.5095,2, 148.4175,2,   122.7,2,   35.90,2,    0.00,2,    2.49,2,   0.023,2,   0.024,2,   0.0000,2,  2310.7,2, 2398.13,2,   7.5663,2, -999.00,9, -999.00,9, -999.00,    34.2,2, -999.00,9,     -999.0,1,  -999.0,9, 20170811,      648, -32.4998,-153.5983,        0.0,1,      0.061,1,      4.698,1,      0.131,1,      24.98,     -999.0,9,     -999.0,9,     -999.0,9,     -999.0,9,     1.9781,2,     -999.0,9
320620170703,        P06,     136,          1,         12,         12,2,20170811,       0800,   -32.5002,  -153.5987,       5055,  2113.5,   2.1332,  34.6382,2,  34.6403,2, 148.5471,3, 150.2563,2,   114.7,2,   35.63,2,    0.00,2,    2.50,2,   0.027,2,   0.027,2,   0.0000,2,  2301.4,2, 2389.73,2,   7.5668,2, -999.00,9, -999.00,9, -999.00,  -999.0,9, -999.00,9,     -999.0,9,  -999.0,9, 20170811,      654, -32.5000,-153.5985,        0.0,1,      0.061,1,      4.699,1,      0.130,1,      25.00,     -999.0,9,     -999.0,9,     -999.0,9,     -999.0,9,     2.1283,2,     -999.0,9
320620170703,        P06,     136,          1,         13,         13,2,20170811,       0800,   -32.5002,  -153.5987,       5055,  1888.0,   2.3302,  34.6155,2,  34.6162,2, 151.3297,3, 153.2130,2,   104.4,2,   35.33,2,    0.00,2,    2.47,2,   0.024,2,   0.023,2,   0.0000,2,  2291.9,2, 2381.10,2,   7.5676,2, -999.00,9, -999.00,9, -999.00,  -999.0,9, -999.00,9,     -999.0,1,  -999.0,9, 20170811,      659, -32.5001,-153.5986,        0.0,1,      0.061,1,      4.699,1,      0.130,1,      24.98,     -999.0,9,     -999.0,9,     -999.0,9,     -999.0,9,     2.3199,2,     -999.0,9
320620170703,        P06,     136,          1,         14,         14,2,20170811,       0800,   -32.5002,  -153.5987,       5055,  1685.4,   2.5499,  34.5785,2,  34.5777,2, 156.7118,3, 158.3088,2,    90.5,2,   35.00,2,    0.00,2,    2.45,2,   0.037,2,   0.031,2,   0.0000,2,  2275.9,2, 2362.35,2,   7.5669,2, -999.00,9, -999.00,9, -999.00,  -999.0,9, -999.00,9,     -999.0,9,  -999.0,9, 20170811,      704, -32.5001,-153.5986,        0.0,1,      0.061,1,      4.699,1,      0.128,1,      25.01,     -999.0,9,     -999.0,9,     -999.0,9,     -999.0,9,     2.5552,2,     -999.0,9
320620170703,        P06,     136,          1,         15,         15,2,20170811,       0800,   -32.5002,  -153.5987,       5055,  1550.9,   2.7466,  34.5321,2,  34.5435,2, 162.7429,3, 164.6643,2,    78.1,2,   34.76,2,    0.00,2,    2.41,2,   0.080,2,   0.054,2,   0.0000,2,  2260.9,2, 2345.12,2,   7.5650,2, -999.00,9, -999.00,9, -999.00,    36.5,2, -999.00,9,     -999.0,1,  -999.0,9, 20170811,      708, -32.4999,-153.5984,        0.0,1,      0.060,1,      4.699,1,      0.133,1,      25.00,     -999.0,9,     -999.0,9,     -999.0,9,     -999.0,9,     2.7493,2,     -999.0,9
320620170703,        P06,     136,          1,         16,         16,2,20170811,       0800,   -32.5002,  -153.5987,       5055,  1450.5,   2.9264,  34.4900,2,  34.4932,2, 167.3296,2, 168.5113,2,    70.0,2,   34.57,2,    0.00,2,    2.38,2,   0.150,2,   0.091,2,   0.0000,2,  2253.0,2, 2336.35,2,   7.5667,2, -999.00,9, -999.00,9, -999.00,  -999.0,9, -999.00,9,     -999.0,9,  -999.0,9, 20170811,      711, -32.4998,-153.5984,        0.0,1,      0.061,1,      4.699,1,      0.131,1,      25.00,     -999.0,9,     -999.0,9,     -999.0,9,     -999.0,9,     2.9093,2,     -999.0,9
320620170703,        P06,     136,          1,         17,         17,2,20170811,       0800,   -32.5002,  -153.5987,       5055,  1351.5,   3.1914,  34.4417,2,  34.4422,2, 174.6572,2, 175.4747,2,    59.1,2,   34.13,2,    0.00,2,    2.34,2,   0.284,6,   0.152,6,   0.0000,6,  2237.7,2, 2326.87,2,   7.5731,2, -999.00,9, -999.00,9, -999.00,    37.2,2, -999.00,9,     -999.0,1,  -999.0,9, 20170811,      714, -32.4999,-153.5984,        0.0,1,      0.061,1,      4.699,1,      0.131,1,      25.00,     -999.0,9,     -999.0,9,     -999.0,9,     -999.0,9,     3.2023,2,     -999.0,9
320620170703,        P06,     136,          1,         18,         18,2,20170811,       0800,   -32.5002,  -153.5987,       5055,  1246.7,   3.7138,  34.3765,2,  34.3861,2, 184.7482,2, 184.2290,2,    47.5,2,   33.30,2,    0.00,2,    2.29,2,   0.559,2,   0.274,2,   0.0000,2,  2223.3,2, 2312.98,6,   7.5859,2, -999.00,9, -999.00,9, -999.00,  -999.0,9, -999.00,9,     -999.0,9,  -999.0,9, 20170811,      717, -32.4999,-153.5984,        0.0,1,      0.061,1,      4.699,1,      0.129,1,      25.01,     -999.0,9,     -999.0,9,     -999.0,9,     -999.0,9,     3.6295,2,     -999.0,9
320620170703,        P06,     136,          1,         19,         19,2,20170811,       0800,   -32.5002,  -153.5987,       5055,  1145.2,   4.2002,  34.3403,2,  34.3411,2, 196.0484,2, 195.1330,2,    35.6,2,   31.83,2,    0.00,2,    2.17,2,   1.019,2,   0.465,2,   0.0690,2,  2203.3,2, 2300.95,2,   7.6079,2, -999.00,9, -999.00,9, -999.00,    39.9,2, -999.00,9,     -999.0,1,  -999.0,9, 20170811,      720, -32.4999,-153.5984,        0.0,1,      0.060,1,      4.698,1,      0.132,1,      25.00,     -999.0,9,     -999.0,9,     -999.0,9,     -999.0,9,     4.1983,2,     -999.0,9
320620170703,        P06,     136,          1,         20,         20,2,20170811,       0800,   -32.5002,  -153.5987,       5055,  1044.7,   4.8114,  34.3150,2,  34.3168,2, 206.7989,2, 205.4155,2,    26.3,2,   30.10,2,    0.00,2,    2.04,2,   1.445,2,   0.675,2,   0.1590,2,  2187.3,2, 2290.80,2,   7.6304,2, -999.00,9, -999.00,9, -999.00,  -999.0,9, -999.00,9,     -999.0,9,  -999.0,9, 20170811,      723, -32.4997,-153.5982,        0.0,1,      0.060,1,      4.698,1,      0.131,1,      24.99,     -999.0,9,     -999.0,9,     -999.0,9,     -999.0,9,     4.7644,2,     -999.0,9
320620170703,        P06,     136,          1,         21,         21,2,20170811,       0800,   -32.5002,  -153.5987,       5055,   942.8,   5.3824,  34.3057,2,  34.3052,2, 219.3988,2, 217.6876,2,    18.4,2,   28.02,2,    0.00,2,    1.90,2,   2.055,2,   0.972,2,   0.2850,2,  2172.8,2, 2285.48,2,   7.6568,2, -999.00,9, -999.00,9, -999.00,    39.7,2, -999.00,9,     -999.0,1,  -999.0,9, 20170811,      726, -32.4996,-153.5981,        0.0,1,      0.059,1,      4.698,1,      0.131,1,      25.03,     -999.0,9,     -999.0,9,     -999.0,9,     -999.0,9,     5.3353,2,     -999.0,9
320620170703,        P06,     136,          1,         22,         22,2,20170811,       0800,   -32.5002,  -153.5987,       5055,   842.4,   5.9710,  34.3140,2,  34.3125,2, 230.5365,2, 230.4820,2,    12.2,2,   25.66,2,    0.00,2,    1.74,2,   2.733,2,   1.339,2,   0.4370,2,  2159.5,2, 2280.04,2,   7.6831,2, -999.00,9, -999.00,9, -999.00,    40.5,2, -999.00,9,     -999.0,1,  -999.0,9, 20170811,      729, -32.4996,-153.5981,        0.0,1,      0.059,1,      4.697,1,      0.133,1,      25.00,     -999.0,9,     -999.0,9,     -999.0,9,     -999.0,9,     5.9540,2,     -999.0,9
320620170703,        P06,     136,          1,         23,         23,2,20170811,       0800,   -32.5002,  -153.5987,       5055,   740.4,   6.5894,  34.3433,2,  34.3372,2, 238.4736,2, 238.6461,2,     8.6,2,   23.66,2,    0.00,2,    1.60,2,   3.402,2,   1.668,2,   0.5530,2,  2149.8,2, 2284.65,2,   7.7009,2, -999.00,9, -999.00,9, -999.00,    39.5,2, -999.00,9,     -999.0,1,  -999.0,9, 20170811,      731, -32.4997,-153.5984,        0.0,1,      0.059,1,      4.697,1,      0.135,1,      25.01,     -999.0,9,     -999.0,9,     -999.0,9,     -999.0,9,     6.4992,2,     -999.0,9
320620170703,        P06,     136,          1,         24,         24,2,20170811,       0800,   -32.5002,  -153.5987,       5055,   640.2,   7.1358,  34.3857,2,  34.3821,2, 241.9596,2, 241.5142,2,     6.4,2,   21.87,2,    0.00,2,    1.48,2,   3.692,2,   1.886,2,   0.9180,2,  2145.7,2, 2280.62,6,   7.7116,2, -999.00,9, -999.00,9, -999.00,    42.1,2, -999.00,9,     -999.0,1,  -999.0,9, 20170811,      734, -32.4999,-153.5986,        0.0,1,      0.060,1,      4.696,1,      0.136,1,      25.01,     -999.0,9,     -999.0,9,     -999.0,9,     -999.0,9,     7.0948,2,     -999.0,9
320620170703,        P06,     136,          1,         25,         25,2,20170811,       0800,   -32.5002,  -153.5987,       5055,   538.1,   7.7898,  34.4413,2,  34.4500,2, 243.0713,2, 243.7687,2,     4.6,2,   19.36,2,    0.00,2,    1.33,2,   3.792,2,   1.974,2,   1.2120,2,  2140.4,6, 2287.04,2,   7.7261,2, -999.00,9, -999.00,9, -999.00,    41.7,2, -999.00,9,     -999.0,1,  -999.0,9, 20170811,      737, -32.5000,-153.5987,        0.0,1,      0.059,1,      4.695,1,      0.134,1,      25.00,     -999.0,9,     -999.0,9,     -999.0,9,     -999.0,9,     7.8579,2,     -999.0,9
320620170703,        P06,     136,          1,         26,         26,2,20170811,       0800,   -32.5002,  -153.5987,       5055,   436.2,   8.5098,  34.4786,2,  34.4860,2, 232.1093,2, 233.5626,2,     3.7,2,   17.91,2,    0.00,2,    1.24,2,   3.588,2,   1.869,2,   1.1400,2,  2137.4,2, 2280.84,2,   7.7343,2, -999.00,9, -999.00,9, -999.00,    43.4,2,   20.50,2,     -999.0,1,  -999.0,9, 20170811,      740, -32.5002,-153.5988,        0.0,1,      0.060,1,      4.694,1,      0.137,1,      25.00,     -999.0,9,     -999.0,9,     -999.0,9,     -999.0,9,     8.5690,2,     -999.0,9
320620170703,        P06,     136,          1,         27,         27,2,20170811,       0800,   -32.5002,  -153.5987,       5055,   365.7,  10.0114,  34.6082,2,  34.5834,2, 218.4483,2, 218.6799,2,     3.0,2,   15.66,2,    0.00,2,    1.09,2,   3.371,2,   1.763,2,   1.1250,2,  2131.4,2, -999.00,9,   7.7531,2, -999.00,9, -999.00,9, -999.00,    44.8,2,   18.50,2,     -999.0,1,  -999.0,9, 20170811,      743, -32.5002,-153.5988,        0.0,1,      0.060,1,      4.692,1,      0.134,1,      25.00,     -999.0,9,     -999.0,9,     -999.0,9,     -999.0,9,     9.7910,2,     -999.0,9
320620170703,        P06,     136,          1,         28,         28,2,20170811,       0800,   -32.5002,  -153.5987,       5055,   320.2,  11.4582,  34.7721,2,  34.7681,2, 210.4246,2, 209.7438,2,     2.2,2,   12.36,2,    0.00,2,    0.89,2,   3.046,2,   1.657,2,   1.1280,2,  2123.8,2, 2292.62,2,   7.7878,2, -999.00,9, -999.00,9, -999.00,    44.8,2,   14.40,2,     -999.0,1,  -999.0,9, 20170811,      745, -32.5000,-153.5987,        0.0,1,      0.059,1,      4.690,1,      0.135,1,      24.99,     -999.0,9,     -999.0,9,     -999.0,9,     -999.0,9,    11.4575,2,     -999.0,9
320620170703,        P06,     136,          1,         29,         29,2,20170811,       0800,   -32.5002,  -153.5987,       5055,   268.0,  13.1205,  34.9509,2,  35.0031,2, 212.4917,2, 212.7740,2,     1.1,2,    6.93,2,    0.00,2,    0.54,2,   2.788,2,   1.560,2,   1.4700,2,  2105.8,2, -999.00,9,   7.8498,2, -999.00,9, -999.00,9, -999.00,    46.5,2,    9.80,2,     -999.0,1,  -999.0,9, 20170811,      747, -32.4998,-153.5986,        0.0,1,      0.059,1,      4.689,1,      0.134,1,      25.00,     -999.0,9,     -999.0,9,     -999.0,9,     -999.0,9,    13.5960,2,     -999.0,9
320620170703,        P06,     136,          1,         30,         30,2,20170811,       0800,   -32.5002,  -153.5987,       5055,   213.2,  14.8802,  35.1803,2,  35.1963,2, 216.4575,2, 217.3440,2,     0.6,2,    4.01,2,    0.02,2,    0.37,2,   2.571,2,   1.478,2,   1.2730,2,  2094.8,2, 2309.65,2,   7.8888,2, -999.00,9, -999.00,9, -999.00,    51.4,2,    7.10,2,     -999.0,1,  -999.0,9, 20170811,      749, -32.4999,-153.5985,        0.0,1,      0.066,1,      4.685,1,      0.136,1,      25.01,     -999.0,9,     -999.0,9,     -999.0,9,     -999.0,9,    14.9745,2,     -999.0,9
320620170703,        P06,     136,          1,         31,         31,2,20170811,       0800,   -32.5002,  -153.5987,       5055,   165.0,  15.8155,  35.3004,2,  35.2824,2, 222.2367,2, 221.9169,2,     0.4,2,    2.24,2,    0.09,2,    0.24,2,   2.507,2,   1.441,2,   1.1800,2,  2085.3,2, -999.00,9,   7.9157,2, -999.00,9, -999.00,9, -999.00,    51.5,2,    5.70,2,     -999.0,1,  -999.0,9, 20170811,      751, -32.4999,-153.5986,        0.0,1,      0.078,1,      4.678,1,      0.141,1,      25.00,     -999.0,9,     -999.0,9,     -999.0,9,     -999.0,9,    15.8132,2,     -999.0,9
320620170703,        P06,     136,          1,         32,         32,2,20170811,       0800,   -32.5002,  -153.5987,       5055,   113.7,  17.0637,  35.4584,2,  35.4569,2, 236.1878,2, 235.7685,2,     0.1,2,    0.09,2,    0.03,2,    0.09,2,   2.338,2,   1.347,2,   1.4240,2,  2065.9,2, 2328.61,2,   7.9701,2, -999.00,9, -999.00,9, -999.00,    57.8,2,    3.20,2,     -999.0,1,  -999.0,9, 20170811,      754, -32.5000,-153.5986,        0.0,1,      0.156,1,      4.647,1,      0.172,1,      24.99,     -999.0,9,     -999.0,9,     -999.0,9,     -999.0,9,    17.0490,2,     -999.0,9