BOTTLE,20230922CCHSIOCBG
EXPOCODE,SECT_ID,STNNBR,CASTNO,SAMPNO,BTLNBR,BTLNBR_FLAG_W,DATE,TIME,LATITUDE,LONGITUDE,DEPTH,CTDPRS,CTDTMP,CTDSAL,CTDSAL_FLAG_W,SALNTY,SALNTY_FLAG_W,CTDOXY,CTDOXY_FLAG_W,OXYGEN,OXYGEN_FLAG_W,SILCAT,SILCAT_FLAG_W,NITRAT,NITRAT_FLAG_W,NITRIT,NITRIT_FLAG_W,PHSPHT,PHSPHT_FLAG_W,CFC-11,CFC-11_FLAG_W,CFC-12,CFC-12_FLAG_W,SF6,SF6_FLAG_W,TCARBN,TCARBN_FLAG_W,ALKALI,ALKALI_FLAG_W,PH_TOT,PH_TOT_FLAG_W,DELC13,DELC13_FLAG_W,DELC14,DELC14_FLAG_W,C14ERR,DOC,DOC_FLAG_W,TDN,TDN_FLAG_W,TON,TON_FLAG_W,D15N_NO3,D15N_NO3_FLAG_W,BTL_DATE,BTL_TIME,BTL_LAT,BTL_LON,CTDRINKO,CTDRINKO_FLAG_W,CTDFLUOR,CTDFLUOR_FLAG_W,CTDXMISS,CTDXMISS_FLAG_W,CTDBACKSCATTER,CTDBACKSCATTER_FLAG_W,PH_TMP,D18O_NO3,D18O_NO3_FLAG_W,DOP,DOP_FLAG_W,HPLC,HPLC_FLAG_W,POC,POC_FLAG_W,REFTMP,REFTMP_FLAG_W,TDP,TDP_FLAG_W
,,,,,,,,,,,METERS,DBAR,ITS-90,PSS-78,,PSS-78,,UMOL/KG,,UMOL/KG,,UMOL/KG,,UMOL/KG,,UMOL/KG,,UMOL/KG,,PMOL/KG,,PMOL/KG,,FMOL/KG,,UMOL/KG,,UMOL/KG,,,,/MILLE,,/MILLE,,/MILLE,UMOL/KG,,UMOL/KG,,UMOL/KG,,/MILLE,,,,,,VOLTS,,VOLTS,,VOLTS,,VOLTS,,DEGC,/MILLE,,UMOL/KG,,,,UG/L,,ITS-90,,UMOL/KG,
320620170703,        P06,       8,          1,         33,         33,2,20170705,       1836,   -30.0798,   153.9605,       4136,    76.4,  20.4997,  35.8004,2,  35.7872,2, 219.6122,3, 216.9291,2,     0.2,2,    0.57,2,    0.17,2,    0.12,2,   1.846,2,   1.185,2,   1.1050,2,  2048.1,2, 2342.09,2,   8.0240,2, -999.00,9, -999.00,9, -999.00,    60.2,2,    4.60,2,     -999.0,1,  -999.0,9, 20170705,     1829, -30.0796, 153.9600,        0.0,1,      0.088,1,      4.671,1,      0.177,1,      25.03,     -999.0,9,     -999.0,9,     -999.0,9,     -999.0,9,     -999.0,5,     -999.0,9
320620170703,        P06,       8,          1,         34,         34,4,20170705,       1836,   -30.0798,   153.9605,       4136,    50.7,  20.6724,  35.8195,3,  35.3537,3, 217.9928,3, 200.9736,3,    16.8,3,   10.34,3,    0.07,3,    0.74,3,-999.000,9,-999.000,9,-999.0000,9,  2120.7,4, 2329.65,3,   7.8747,4, -999.00,9, -999.00,9, -999.00,  -999.0,5, -999.00,5,     -999.0,1,  -999.0,9, 20170705,     1831, -30.0797, 153.9601,        0.0,1,      0.115,1,      4.658,1,      0.184,1,      25.04,     -999.0,9,     -999.0,9,     -999.0,9,     -999.0,9,     -999.0,5,     -999.0,9
320620170703,        P06,       8,          1,         35,         35,2,20170705,       1836,   -30.0798,   153.9605,       4136,    25.0,  21.1511,  35.7372,2,  35.7302,2, 220.9378,3, 217.1224,2,     0.1,2,    0.10,2,    0.02,2,    0.08,2,   1.782,2,   1.141,2,   1.0960,2,  2033.3,2, 2337.93,2,   8.0451,2, -999.00,9, -999.00,9, -999.00,    68.0,3,    4.70,2,     -999.0,1,  -999.0,9, 20170705,     1834, -30.0797, 153.9603,        0.0,1,      0.197,1,      4.581,1,      0.233,1,      25.01,     -999.0,9,     -999.0,9,     -999.0,9,     -999.0,9,     -999.0,5,     -999.0,9
320620170703,        P06,       8,          1,         36,         36,2,20170705,       1836,   -30.0798,   153.9605,       4136,     3.9,  21.1817,  35.7400,2,  35.7339,2, 220.6540,3, 217.3899,2,     0.2,2,    0.19,2,    0.02,2,    0.09,2,   1.774,2,   1.130,2,   1.1750,2,  2033.8,6, 2339.10,2,   8.0458,2, -999.00,9, -999.00,9, -999.00,    64.8,2,    4.70,2,     -999.0,1,  -999.0,9, 20170705,     1836, -30.0798, 153.9605,        0.0,1,      0.206,1,      4.577,1,      0.229,1,      25.01,     -999.0,9,     -999.0,9,     -999.0,9,     -999.0,9,     -999.0,5,     -999.0,9