BOTTLE,20230922CCHSIOCBG
EXPOCODE,SECT_ID,STNNBR,CASTNO,SAMPNO,BTLNBR,BTLNBR_FLAG_W,DATE,TIME,LATITUDE,LONGITUDE,DEPTH,CTDPRS,CTDTMP,CTDSAL,CTDSAL_FLAG_W,SALNTY,SALNTY_FLAG_W,CTDOXY,CTDOXY_FLAG_W,OXYGEN,OXYGEN_FLAG_W,SILCAT,SILCAT_FLAG_W,NITRAT,NITRAT_FLAG_W,NITRIT,NITRIT_FLAG_W,PHSPHT,PHSPHT_FLAG_W,CFC-11,CFC-11_FLAG_W,CFC-12,CFC-12_FLAG_W,SF6,SF6_FLAG_W,TCARBN,TCARBN_FLAG_W,ALKALI,ALKALI_FLAG_W,PH_TOT,PH_TOT_FLAG_W,DELC13,DELC13_FLAG_W,DELC14,DELC14_FLAG_W,C14ERR,DOC,DOC_FLAG_W,TDN,TDN_FLAG_W,TON,TON_FLAG_W,D15N_NO3,D15N_NO3_FLAG_W,BTL_DATE,BTL_TIME,BTL_LAT,BTL_LON,CTDRINKO,CTDRINKO_FLAG_W,CTDFLUOR,CTDFLUOR_FLAG_W,CTDXMISS,CTDXMISS_FLAG_W,CTDBACKSCATTER,CTDBACKSCATTER_FLAG_W,PH_TMP,D18O_NO3,D18O_NO3_FLAG_W,DOP,DOP_FLAG_W,HPLC,HPLC_FLAG_W,POC,POC_FLAG_W,REFTMP,REFTMP_FLAG_W,TDP,TDP_FLAG_W
,,,,,,,,,,,METERS,DBAR,ITS-90,PSS-78,,PSS-78,,UMOL/KG,,UMOL/KG,,UMOL/KG,,UMOL/KG,,UMOL/KG,,UMOL/KG,,PMOL/KG,,PMOL/KG,,FMOL/KG,,UMOL/KG,,UMOL/KG,,,,/MILLE,,/MILLE,,/MILLE,UMOL/KG,,UMOL/KG,,UMOL/KG,,/MILLE,,,,,,VOLTS,,VOLTS,,VOLTS,,VOLTS,,DEGC,/MILLE,,UMOL/KG,,,,UG/L,,ITS-90,,UMOL/KG,
320620170703,        P06,       7,          1,          1,         37,2,20170705,       1132,   -30.0797,   153.9199,       2582,  2607.5,   1.8050,  34.7197,2,  34.7203,2, 184.1765,2, 184.2203,2,   100.2,2,   32.13,2,    0.00,2,    2.21,2,   0.031,2,   0.033,2,   0.0000,4,  2266.8,6, 2363.50,2,   7.6027,2, -999.00,9, -999.00,9, -999.00,  -999.0,9, -999.00,9,     -999.0,9,  -999.0,9, 20170705,      945, -30.0796, 153.9199,        0.0,1,      0.061,1,      4.708,1,      0.138,1,      25.03,     -999.0,9,     -999.0,9,     -999.0,9,     -999.0,9,     -999.0,5,     -999.0,9
320620170703,        P06,       7,          1,          2,          2,2,20170705,       1132,   -30.0797,   153.9199,       2582,  2567.8,   1.8105,  34.7198,2,  34.7221,2, 184.1705,2, 184.7410,2,   100.4,2,   32.13,2,    0.00,2,    2.22,2,-999.000,9,-999.000,9,-999.0000,9,  2268.0,2, 2363.08,2,   7.6020,2, -999.00,9, -999.00,9, -999.00,  -999.0,9, -999.00,9,     -999.0,9,  -999.0,9, 20170705,      948, -30.0797, 153.9199,        0.0,1,      0.062,1,      4.708,1,      0.138,1,      24.98,     -999.0,9,     -999.0,9,     -999.0,9,     -999.0,9,     -999.0,5,     -999.0,9
320620170703,        P06,       7,          1,          3,         38,2,20170705,       1132,   -30.0797,   153.9199,       2582,  2363.1,   1.9369,  34.7127,2,  34.7146,2, 181.9678,2, 181.1849,2,    97.3,2,   32.24,2,    0.00,2,    2.22,2,   0.038,2,   0.046,2,   0.0000,4,  2268.1,2, 2358.38,2,   7.5972,2, -999.00,9, -999.00,9, -999.00,  -999.0,9, -999.00,9,     -999.0,9,  -999.0,9, 20170705,      955, -30.0799, 153.9198,        0.0,1,      0.061,1,      4.709,1,      0.139,1,      25.00,     -999.0,9,     -999.0,9,     -999.0,9,     -999.0,9,     -999.0,5,     -999.0,9
320620170703,        P06,       7,          1,          4,          4,4,20170705,       1132,   -30.0797,   153.9199,       2582,  2160.7,   2.0767,  34.6997,3,-999.0000,9, 176.7361,2,-999.0000,9,  -999.0,9, -999.00,9, -999.00,9, -999.00,9,-999.000,9,-999.000,9,-999.0000,9,  -999.0,9, -999.00,9,-999.0000,9, -999.00,9, -999.00,9, -999.00,  -999.0,9, -999.00,9,     -999.0,9,  -999.0,9, 20170705,     1001, -30.0800, 153.9197,        0.0,1,      0.061,1,      4.709,1,      0.138,1,     -999.0,     -999.0,9,     -999.0,9,     -999.0,9,     -999.0,9,     -999.0,5,     -999.0,9
320620170703,        P06,       7,          1,          5,         39,2,20170705,       1132,   -30.0797,   153.9199,       2582,  1987.6,   2.2603,  34.6740,2,  34.6769,2, 168.2854,2, 168.4133,2,    94.4,2,   33.24,2,    0.00,2,    2.31,2,   0.037,2,   0.037,2,   0.0000,4,  2270.9,2, 2358.43,2,   7.5826,2, -999.00,9, -999.00,9, -999.00,  -999.0,9, -999.00,9,     -999.0,9,  -999.0,9, 20170705,     1008, -30.0800, 153.9197,        0.0,1,      0.061,1,      4.710,1,      0.138,1,      24.99,     -999.0,9,     -999.0,9,     -999.0,9,     -999.0,9,     -999.0,5,     -999.0,9
320620170703,        P06,       7,          1,          6,          6,4,20170705,       1132,   -30.0797,   153.9199,       2582,  1886.9,   2.3750,  34.6563,3,  34.6851,3, 161.9761,2, 171.8582,3,    96.8,4,   33.02,4,    0.00,4,    2.29,4,-999.000,9,-999.000,9,-999.0000,9,  2270.9,4, 2360.36,3,   7.5872,3, -999.00,9, -999.00,9, -999.00,  -999.0,9, -999.00,9,     -999.0,9,  -999.0,9, 20170705,     1012, -30.0799, 153.9198,        0.0,1,      0.061,1,      4.710,1,      0.140,1,      25.00,     -999.0,9,     -999.0,9,     -999.0,9,     -999.0,9,     -999.0,5,     -999.0,9
320620170703,        P06,       7,          1,          7,         40,2,20170705,       1132,   -30.0797,   153.9199,       2582,  1784.8,   2.5231,  34.6361,2,  34.6394,2, 157.5368,2, 157.5756,2,    96.5,2,   34.29,2,    0.00,2,    2.39,2,   0.034,2,   0.035,2,   0.0000,4,  2279.9,2, 2362.67,2,   7.5727,2, -999.00,9, -999.00,9, -999.00,  -999.0,9, -999.00,9,     -999.0,9,  -999.0,9, 20170705,     1016, -30.0798, 153.9198,        0.0,1,      0.061,1,      4.710,1,      0.141,1,      24.98,     -999.0,9,     -999.0,9,     -999.0,9,     -999.0,9,     -999.0,5,     -999.0,9
320620170703,        P06,       7,          1,          8,          8,2,20170705,       1132,   -30.0797,   153.9199,       2582,  1682.2,   2.6513,  34.6209,2,  34.6246,2, 154.9585,2, 155.0222,2,    95.9,2,   34.47,2,    0.00,2,    2.39,2,-999.000,9,-999.000,9,-999.0000,9,  2281.6,2, 2365.73,2,   7.5712,2, -999.00,9, -999.00,9, -999.00,  -999.0,9, -999.00,9,     -999.0,9,  -999.0,9, 20170705,     1020, -30.0797, 153.9199,        0.0,1,      0.061,1,      4.709,1,      0.139,1,      25.02,     -999.0,9,     -999.0,9,     -999.0,9,     -999.0,9,     -999.0,5,     -999.0,9
320620170703,        P06,       7,          1,          9,         41,2,20170705,       1132,   -30.0797,   153.9199,       2582,  1581.6,   2.8719,  34.5974,2,  34.6003,2, 151.8456,2, 151.9520,2,    94.1,2,   34.72,2,    0.00,2,    2.42,2,   0.043,2,   0.041,2,   0.0000,4,  2280.6,6, 2362.52,2,   7.5688,2, -999.00,9, -999.00,9, -999.00,  -999.0,9, -999.00,9,     -999.0,9,  -999.0,9, 20170705,     1025, -30.0797, 153.9199,        0.0,1,      0.061,1,      4.709,1,      0.172,1,      25.00,     -999.0,9,     -999.0,9,     -999.0,9,     -999.0,9,     -999.0,5,     -999.0,9
320620170703,        P06,       7,          1,         10,         10,2,20170705,       1132,   -30.0797,   153.9199,       2582,  1478.2,   3.0939,  34.5759,2,  34.5771,2, 152.6730,2, 152.5610,2,    88.9,2,   34.54,2,    0.00,2,    2.40,2,-999.000,9,-999.000,9,-999.0000,9,  2274.6,2, 2356.96,2,   7.5722,2, -999.00,9, -999.00,9, -999.00,  -999.0,9, -999.00,9,     -999.0,9,  -999.0,9, 20170705,     1028, -30.0797, 153.9199,        0.0,1,      0.061,1,      4.709,1,      0.140,1,      25.00,     -999.0,9,     -999.0,9,     -999.0,9,     -999.0,9,     -999.0,5,     -999.0,9
320620170703,        P06,       7,          1,         11,         42,2,20170705,       1132,   -30.0797,   153.9199,       2582,  1378.6,   3.3849,  34.5506,2,  34.5569,2, 154.7044,2, 154.2225,2,    84.1,2,   34.28,2,    0.00,2,    2.40,2,   0.083,2,   0.067,2,   0.9180,4,  2268.7,2, 2354.23,2,   7.5757,2, -999.00,9, -999.00,9, -999.00,  -999.0,9, -999.00,9,     -999.0,9,  -999.0,9, 20170705,     1031, -30.0796, 153.9199,        0.0,1,      0.062,1,      4.709,1,      0.142,1,      24.96,     -999.0,9,     -999.0,9,     -999.0,9,     -999.0,9,     -999.0,5,     -999.0,9
320620170703,        P06,       7,          1,         12,         12,2,20170705,       1132,   -30.0797,   153.9199,       2582,  1276.4,   3.6215,  34.5278,2,  34.5290,2, 159.2200,2, 159.6290,2,    74.4,2,   33.64,2,    0.00,2,    2.34,2,-999.000,9,-999.000,9,-999.0000,9,  2256.1,2, 2342.96,2,   7.5820,2, -999.00,9, -999.00,9, -999.00,  -999.0,9, -999.00,9,     -999.0,9,  -999.0,9, 20170705,     1034, -30.0796, 153.9199,        0.0,1,      0.061,1,      4.709,1,      0.140,1,      24.98,     -999.0,9,     -999.0,9,     -999.0,9,     -999.0,9,     -999.0,5,     -999.0,9
320620170703,        P06,       7,          1,         13,         43,2,20170705,       1132,   -30.0797,   153.9199,       2582,  1177.2,   4.0867,  34.4942,2,  34.4979,2, 166.4070,2, 166.8932,2,    63.4,2,   32.56,2,    0.00,2,    2.26,2,   0.264,2,   0.161,2,   0.9810,4,  2241.8,2, 2331.09,2,   7.5939,2, -999.00,9, -999.00,9, -999.00,  -999.0,9, -999.00,9,     -999.0,9,  -999.0,9, 20170705,     1037, -30.0797, 153.9199,        0.0,1,      0.061,1,      4.709,1,      0.141,1,      25.01,     -999.0,9,     -999.0,9,     -999.0,9,     -999.0,9,     -999.0,5,     -999.0,9
320620170703,        P06,       7,          1,         14,         14,2,20170705,       1132,   -30.0797,   153.9199,       2582,  1074.6,   4.7547,  34.4615,2,  34.4626,2, 176.6015,2, 176.2779,2,    48.6,2,   31.14,2,    0.00,2,    2.15,2,-999.000,9,-999.000,9,-999.0000,9,  2218.9,2, 2313.83,2,   7.6125,2, -999.00,9, -999.00,9, -999.00,  -999.0,9, -999.00,9,     -999.0,9,  -999.0,9, 20170705,     1040, -30.0797, 153.9199,        0.0,1,      0.061,1,      4.708,1,      0.140,1,      25.00,     -999.0,9,     -999.0,9,     -999.0,9,     -999.0,9,     -999.0,5,     -999.0,9
320620170703,        P06,       7,          1,         15,         15,2,20170705,       1132,   -30.0797,   153.9199,       2582,   973.8,   5.2885,  34.4478,2,  34.4461,2, 184.7244,2, 184.3392,2,    37.3,2,   29.60,2,    0.00,2,    2.03,2,   0.764,2,   0.399,2,   1.1300,4,  2203.5,2, 2318.39,3,   7.6321,2, -999.00,9, -999.00,9, -999.00,  -999.0,9, -999.00,9,     -999.0,9,  -999.0,9, 20170705,     1043, -30.0796, 153.9199,        0.0,1,      0.060,1,      4.708,1,      0.142,1,      24.99,     -999.0,9,     -999.0,9,     -999.0,9,     -999.0,9,     -999.0,5,     -999.0,9
320620170703,        P06,       7,          1,         16,         16,2,20170705,       1132,   -30.0797,   153.9199,       2582,   873.3,   5.9280,  34.4490,2,  34.4475,2, 190.4280,2, 190.1885,2,    28.4,2,   28.02,2,    0.00,2,    1.91,2,-999.000,9,-999.000,9,-999.0000,9,  2188.0,2, 2294.66,2,   7.6474,2, -999.00,9, -999.00,9, -999.00,  -999.0,9, -999.00,9,     -999.0,9,  -999.0,9, 20170705,     1047, -30.0796, 153.9199,        0.0,1,      0.060,1,      4.707,1,      0.145,1,      25.00,     -999.0,9,     -999.0,9,     -999.0,9,     -999.0,9,     -999.0,5,     -999.0,9
320620170703,        P06,       7,          1,         17,         17,2,20170705,       1132,   -30.0797,   153.9199,       2582,   770.9,   6.7515,  34.4745,2,  34.4785,2, 198.7145,2, 198.9778,2,    18.2,2,   25.28,2,    0.00,2,    1.71,2,   1.653,2,   0.817,2,   1.1610,4,  2170.6,6, 2286.32,2,   7.6748,2, -999.00,9, -999.00,9, -999.00,  -999.0,9, -999.00,9,     -999.0,9,  -999.0,9, 20170705,     1050, -30.0795, 153.9200,        0.0,1,      0.059,1,      4.707,1,      0.145,1,      25.02,     -999.0,9,     -999.0,9,     -999.0,9,     -999.0,9,     -999.0,5,     -999.0,9
320620170703,        P06,       7,          1,         18,         18,2,20170705,       1132,   -30.0797,   153.9199,       2582,   670.0,   7.6443,  34.5275,2,  34.5494,2, 201.6865,2, 202.3129,2,    12.3,2,   22.77,2,    0.00,2,    1.53,2,-999.000,9,-999.000,9,-999.0000,9,  2160.5,2, 2285.17,2,   7.6993,2, -999.00,9, -999.00,9, -999.00,  -999.0,9, -999.00,9,     -999.0,9,  -999.0,9, 20170705,     1053, -30.0794, 153.9200,        0.0,1,      0.059,1,      4.707,1,      0.142,1,      24.95,     -999.0,9,     -999.0,9,     -999.0,9,     -999.0,9,     -999.0,5,     -999.0,9
320620170703,        P06,       7,          1,         19,         19,2,20170705,       1132,   -30.0797,   153.9199,       2582,   566.9,   8.9465,  34.6498,2,  34.6659,2, 203.2491,2, 203.8386,2,     8.4,2,   20.09,2,    0.00,2,    1.35,2,   2.500,2,   1.338,2,   1.4620,4,  2153.9,2, 2287.82,2,   7.7229,2, -999.00,9, -999.00,9, -999.00,  -999.0,9, -999.00,9,     -999.0,9,  -999.0,9, 20170705,     1056, -30.0794, 153.9199,        0.0,1,      0.061,1,      4.703,1,      0.144,1,      25.03,     -999.0,9,     -999.0,9,     -999.0,9,     -999.0,9,     -999.0,5,     -999.0,9
320620170703,        P06,       7,          1,         20,         20,2,20170705,       1132,   -30.0797,   153.9199,       2582,   488.5,  10.3037,  34.8103,2,  34.7954,2, 197.8199,2, 197.3156,2,     6.9,2,   18.01,2,    0.00,2,    1.21,2,-999.000,9,-999.000,9,-999.0000,9,  2144.1,2, 2300.13,2,   7.7435,2, -999.00,9, -999.00,9, -999.00,  -999.0,9, -999.00,9,     -999.0,9,  -999.0,9, 20170705,     1059, -30.0795, 153.9199,        0.0,1,      0.061,1,      4.703,1,      0.148,1,      24.99,     -999.0,9,     -999.0,9,     -999.0,9,     -999.0,9,     -999.0,5,     -999.0,9
320620170703,        P06,       7,          1,         21,         21,2,20170705,       1132,   -30.0797,   153.9199,       2582,   438.9,  11.1516,  34.9201,2,  34.8963,2, 195.3668,2, 195.8854,2,     5.8,2,   16.23,2,    0.00,2,    1.10,2,   2.552,2,   1.372,2,   1.2020,4,  2141.0,2, 2294.50,2,   7.7648,2, -999.00,9, -999.00,9, -999.00,  -999.0,9, -999.00,9,     -999.0,9,  -999.0,9, 20170705,     1102, -30.0795, 153.9199,        0.0,1,      0.059,1,      4.700,1,      0.145,1,      25.00,     -999.0,9,     -999.0,9,     -999.0,9,     -999.0,9,     -999.0,5,     -999.0,9
320620170703,        P06,       7,          1,         22,         22,2,20170705,       1132,   -30.0797,   153.9199,       2582,   387.1,  11.9888,  34.9950,2,  35.0268,2, 192.4251,2, 192.2424,2,     4.7,2,   14.10,2,    0.00,2,    0.98,2,-999.000,9,-999.000,9,-999.0000,9,  2135.0,2, 2299.37,2,   7.7922,2, -999.00,9, -999.00,9, -999.00,  -999.0,9, -999.00,9,     -999.0,9,  -999.0,9, 20170705,     1105, -30.0796, 153.9199,        0.0,1,      0.060,1,      4.698,1,      0.149,1,      25.00,     -999.0,9,     -999.0,9,     -999.0,9,     -999.0,9,     -999.0,5,     -999.0,9
320620170703,        P06,       7,          1,         23,         23,2,20170705,       1132,   -30.0797,   153.9199,       2582,   336.9,  13.8386,  35.1832,2,  35.1872,2, 187.8516,2, 186.8398,2,     3.6,2,   11.67,2,    0.01,2,    0.82,2,   2.417,2,   1.358,2,   1.1940,4,  2123.9,2, 2305.93,2,   7.8282,2, -999.00,9, -999.00,9, -999.00,  -999.0,9, -999.00,9,     -999.0,9,  -999.0,9, 20170705,     1107, -30.0797, 153.9199,        0.0,1,      0.060,1,      4.696,1,      0.150,1,      24.99,     -999.0,9,     -999.0,9,     -999.0,9,     -999.0,9,     -999.0,5,     -999.0,9
320620170703,        P06,       7,          1,         24,         24,2,20170705,       1132,   -30.0797,   153.9199,       2582,   286.3,  14.9705,  35.3067,2,  35.3062,2, 186.4002,2, 186.0785,2,     2.7,2,    9.84,2,    0.01,2,    0.70,2,-999.000,9,-999.000,9,-999.0000,9,  2115.1,2, 2313.06,2,   7.8549,2, -999.00,9, -999.00,9, -999.00,  -999.0,9, -999.00,9,     -999.0,9,  -999.0,9, 20170705,     1110, -30.0797, 153.9199,        0.0,1,      0.060,1,      4.697,1,      0.146,1,      25.01,     -999.0,9,     -999.0,9,     -999.0,9,     -999.0,9,     -999.0,5,     -999.0,9
320620170703,        P06,       7,          1,         25,         25,2,20170705,       1132,   -30.0797,   153.9199,       2582,   242.7,  15.9947,  35.3959,2,  35.3979,2, 183.5432,2, 184.3786,2,     2.1,2,    8.48,2,    0.01,2,    0.62,2,   2.311,2,   1.310,2,   1.2030,4,  2107.4,2, 2317.01,2,   7.8794,2, -999.00,9, -999.00,9, -999.00,  -999.0,9, -999.00,9,     -999.0,9,  -999.0,9, 20170705,     1112, -30.0798, 153.9198,        0.0,1,      0.061,1,      4.696,1,      0.148,1,      25.00,     -999.0,9,     -999.0,9,     -999.0,9,     -999.0,9,     -999.0,5,     -999.0,9
320620170703,        P06,       7,          1,         26,         26,2,20170705,       1132,   -30.0797,   153.9199,       2582,   216.9,  16.8792,  35.4772,2,  35.4882,2, 182.8975,2, 183.4010,2,     1.7,2,    7.20,2,    0.01,2,    0.54,2,-999.000,9,-999.000,9,-999.0000,9,  2100.9,2, 2323.27,2,   7.9023,2, -999.00,9, -999.00,9, -999.00,  -999.0,9, -999.00,9,     -999.0,9,  -999.0,9, 20170705,     1115, -30.0799, 153.9198,        0.0,1,      0.060,1,      4.696,1,      0.146,1,      25.00,     -999.0,9,     -999.0,9,     -999.0,9,     -999.0,9,     -999.0,5,     -999.0,9
320620170703,        P06,       7,          1,         27,         27,2,20170705,       1132,   -30.0797,   153.9199,       2582,   190.8,  17.6971,  35.5419,2,  35.5734,2, 186.4279,2, 185.8622,2,     1.4,2,    5.98,2,    0.01,2,    0.45,2,   2.208,2,   1.271,2,   0.9320,2,  2092.0,2, 2328.42,2,   7.9237,2, -999.00,9, -999.00,9, -999.00,  -999.0,9, -999.00,9,     -999.0,9,  -999.0,9, 20170705,     1117, -30.0799, 153.9198,        0.0,1,      0.059,1,      4.693,1,      0.150,1,      25.02,     -999.0,9,     -999.0,9,     -999.0,9,     -999.0,9,     -999.0,5,     -999.0,9
320620170703,        P06,       7,          1,         28,         28,2,20170705,       1132,   -30.0797,   153.9199,       2582,   166.2,  18.8911,  35.6679,2,  35.6692,2, 189.9707,2, 190.4530,2,     0.7,2,    4.44,2,    0.01,2,    0.35,2,-999.000,9,-999.000,9,-999.0000,9,  2081.8,2, 2331.91,2,   7.9535,2, -999.00,9, -999.00,9, -999.00,  -999.0,9, -999.00,9,     -999.0,9,  -999.0,9, 20170705,     1119, -30.0800, 153.9198,        0.0,1,      0.061,1,      4.691,1,      0.151,1,      25.01,     -999.0,9,     -999.0,9,     -999.0,9,     -999.0,9,     -999.0,5,     -999.0,9
320620170703,        P06,       7,          1,         29,         29,2,20170705,       1132,   -30.0797,   153.9199,       2582,   141.1,  19.5903,  35.7165,2,  35.7282,2, 195.6867,2, 194.5147,2,     0.5,2,    3.27,2,    0.03,2,    0.27,2,   2.093,2,   1.228,2,   0.9910,2,  2074.6,2, 2339.06,2,   7.9744,2, -999.00,9, -999.00,9, -999.00,  -999.0,9, -999.00,9,     -999.0,9,  -999.0,9, 20170705,     1121, -30.0799, 153.9198,        0.0,1,      0.061,1,      4.689,1,      0.154,1,      25.00,     -999.0,9,     -999.0,9,     -999.0,9,     -999.0,9,     -999.0,5,     -999.0,9
320620170703,        P06,       7,          1,         30,         30,2,20170705,       1132,   -30.0797,   153.9199,       2582,   115.8,  20.5054,  35.8033,2,  35.7975,2, 212.9468,2, 213.4610,2,     0.1,2,    0.85,2,    0.20,2,    0.14,2,-999.000,9,-999.000,9,-999.0000,9,  2051.8,2, 2341.98,2,   8.0176,2, -999.00,9, -999.00,9, -999.00,  -999.0,9, -999.00,9,     -999.0,9,  -999.0,9, 20170705,     1122, -30.0799, 153.9198,        0.0,1,      0.099,1,      4.667,1,      0.177,1,      25.00,     -999.0,9,     -999.0,9,     -999.0,9,     -999.0,9,     -999.0,5,     -999.0,9
320620170703,        P06,       7,          1,         31,         31,2,20170705,       1132,   -30.0797,   153.9199,       2582,    91.2,  20.6487,  35.7974,2,  35.7975,2, 214.6482,2, 215.5400,2,     0.1,2,    0.55,2,    0.21,2,    0.11,2,   2.022,2,   1.198,2,   1.0430,2,  2048.4,2, 2343.53,2,   8.0243,2, -999.00,9, -999.00,9, -999.00,  -999.0,9, -999.00,9,     -999.0,9,  -999.0,9, 20170705,     1124, -30.0798, 153.9198,        0.0,1,      0.141,1,      4.648,1,      0.193,1,      25.00,     -999.0,9,     -999.0,9,     -999.0,9,     -999.0,9,     -999.0,5,     -999.0,9
320620170703,        P06,       7,          1,         32,         32,2,20170705,       1132,   -30.0797,   153.9199,       2582,    65.4,  20.6788,  35.7961,2,  35.7983,2, 216.0888,2, 216.5388,2,     0.0,2,    0.45,2,    0.20,2,    0.11,2,-999.000,9,-999.000,9,-999.0000,9,  2046.4,2, 2341.37,2,   8.0272,2, -999.00,9, -999.00,9, -999.00,  -999.0,9, -999.00,9,     -999.0,9,  -999.0,9, 20170705,     1127, -30.0797, 153.9199,        0.0,1,      0.170,1,      4.634,1,      0.203,1,      25.00,     -999.0,9,     -999.0,9,     -999.0,9,     -999.0,9,     -999.0,5,     -999.0,9