BOTTLE,20230922CCHSIOCBG
EXPOCODE,SECT_ID,STNNBR,CASTNO,SAMPNO,BTLNBR,BTLNBR_FLAG_W,DATE,TIME,LATITUDE,LONGITUDE,DEPTH,CTDPRS,CTDTMP,CTDSAL,CTDSAL_FLAG_W,SALNTY,SALNTY_FLAG_W,CTDOXY,CTDOXY_FLAG_W,OXYGEN,OXYGEN_FLAG_W,SILCAT,SILCAT_FLAG_W,NITRAT,NITRAT_FLAG_W,NITRIT,NITRIT_FLAG_W,PHSPHT,PHSPHT_FLAG_W,CFC-11,CFC-11_FLAG_W,CFC-12,CFC-12_FLAG_W,SF6,SF6_FLAG_W,TCARBN,TCARBN_FLAG_W,ALKALI,ALKALI_FLAG_W,PH_TOT,PH_TOT_FLAG_W,DELC13,DELC13_FLAG_W,DELC14,DELC14_FLAG_W,C14ERR,DOC,DOC_FLAG_W,TDN,TDN_FLAG_W,TON,TON_FLAG_W,D15N_NO3,D15N_NO3_FLAG_W,BTL_DATE,BTL_TIME,BTL_LAT,BTL_LON,CTDRINKO,CTDRINKO_FLAG_W,CTDFLUOR,CTDFLUOR_FLAG_W,CTDXMISS,CTDXMISS_FLAG_W,CTDBACKSCATTER,CTDBACKSCATTER_FLAG_W,PH_TMP,D18O_NO3,D18O_NO3_FLAG_W,DOP,DOP_FLAG_W,HPLC,HPLC_FLAG_W,POC,POC_FLAG_W,REFTMP,REFTMP_FLAG_W,TDP,TDP_FLAG_W
,,,,,,,,,,,METERS,DBAR,ITS-90,PSS-78,,PSS-78,,UMOL/KG,,UMOL/KG,,UMOL/KG,,UMOL/KG,,UMOL/KG,,UMOL/KG,,PMOL/KG,,PMOL/KG,,FMOL/KG,,UMOL/KG,,UMOL/KG,,,,/MILLE,,/MILLE,,/MILLE,UMOL/KG,,UMOL/KG,,UMOL/KG,,/MILLE,,,,,,VOLTS,,VOLTS,,VOLTS,,VOLTS,,DEGC,/MILLE,,UMOL/KG,,,,UG/L,,ITS-90,,UMOL/KG,
320620170703,        P06,      22,          1,          1,         37,2,20170709,       0608,   -30.0801,   157.6699,       1828,  1836.1,   2.6691,  34.6200,2,  34.6325,2, 152.1844,2, 151.9734,2,    98.5,2,   34.68,2,    0.00,2,    2.41,2,   0.048,2,   0.033,2,   0.0000,2,  2283.8,2, 2364.95,2,   7.5699,2, -999.00,9, -999.00,9, -999.00,    38.7,2, -999.00,9,     -999.0,1,  -999.0,9, 20170709,      457, -30.0800, 157.6697,        0.0,1,      0.061,1,      4.704,1,      0.140,1,      25.02,     -999.0,9,     -999.0,9,     -999.0,9,     -999.0,9,     2.6713,2,     -999.0,9
320620170703,        P06,      22,          1,          2,          2,2,20170709,       0608,   -30.0801,   157.6699,       1828,  1739.3,   2.8294,  34.6037,2,  34.6111,2, 151.0513,2, 150.8767,2,    96.3,2,   34.76,2,    0.00,2,    2.44,2,   0.038,2,   0.038,2,   0.0000,2,  2281.9,2, 2364.84,2,   7.5691,2, -999.00,9, -999.00,9, -999.00,    38.3,2, -999.00,9,     -999.0,1,  -999.0,9, 20170709,      459, -30.0800, 157.6697,        0.0,1,      0.062,1,      4.697,1,      0.141,1,      25.02,     -999.0,9,     -999.0,9,     -999.0,9,     -999.0,9,     2.8369,2,     -999.0,9
320620170703,        P06,      22,          1,          3,         38,2,20170709,       0608,   -30.0801,   157.6699,       1828,  1637.9,   3.1089,  34.5774,2,  34.5834,2, 152.3859,2, 152.8266,2,    90.2,2,   34.52,2,    0.00,2,    2.40,2,-999.000,9,-999.000,9,-999.0000,9,  -999.0,9, -999.00,9,-999.0000,9, -999.00,9, -999.00,9, -999.00,  -999.0,9, -999.00,9,     -999.0,9,  -999.0,9, 20170709,      502, -30.0800, 157.6697,        0.0,1,      0.061,1,      4.692,1,      0.141,1,     -999.0,     -999.0,9,     -999.0,9,     -999.0,9,     -999.0,9,     3.0939,2,     -999.0,9
320620170703,        P06,      22,          1,          4,          4,2,20170709,       0608,   -30.0801,   157.6699,       1828,  1522.8,   3.3959,  34.5521,2,  34.5565,2, 155.8216,2, 156.3654,2,    83.0,2,   34.08,2,    0.00,2,    2.37,2,-999.000,9,-999.000,9,-999.0000,9,  -999.0,9, -999.00,9,-999.0000,9, -999.00,9, -999.00,9, -999.00,  -999.0,9, -999.00,9,     -999.0,9,  -999.0,9, 20170709,      505, -30.0800, 157.6697,        0.0,1,      0.061,1,      4.698,1,      0.141,1,     -999.0,     -999.0,9,     -999.0,9,     -999.0,9,     -999.0,9,     3.3746,2,     -999.0,9
320620170703,        P06,      22,          1,          5,         39,2,20170709,       0608,   -30.0801,   157.6699,       1828,  1433.5,   3.6386,  34.5333,2,  34.5337,2, 160.0440,2, 159.6092,2,    75.9,2,   33.54,2,    0.00,2,    2.33,2,   0.154,2,   0.101,2,   0.0570,2,  2254.9,2, 2342.89,2,   7.5855,2, -999.00,9, -999.00,9, -999.00,    40.2,2, -999.00,9,     -999.0,1,  -999.0,9, 20170709,      508, -30.0801, 157.6699,        0.0,1,      0.061,1,      4.700,1,      0.141,1,      25.02,     -999.0,9,     -999.0,9,     -999.0,9,     -999.0,9,     3.6269,2,     -999.0,9
320620170703,        P06,      22,          1,          6,          6,2,20170709,       0608,   -30.0801,   157.6699,       1828,  1334.2,   4.0261,  34.5053,2,  34.5080,2, 166.0775,2, 165.8627,2,    66.3,2,   32.76,2,    0.00,2,    2.26,2,-999.000,9,-999.000,9,-999.0000,9,  -999.0,9, -999.00,9,-999.0000,9, -999.00,9, -999.00,9, -999.00,  -999.0,9, -999.00,9,     -999.0,9,  -999.0,9, 20170709,      511, -30.0801, 157.6699,        0.0,1,      0.061,1,      4.699,1,      0.140,1,     -999.0,     -999.0,9,     -999.0,9,     -999.0,9,     -999.0,9,     3.9787,2,     -999.0,9
320620170703,        P06,      22,          1,          7,         40,2,20170709,       0608,   -30.0801,   157.6699,       1828,  1231.5,   4.5314,  34.4744,2,  34.4767,2, 173.5465,2, 173.4083,2,    54.8,2,   31.70,2,    0.00,2,    2.18,2,-999.000,9,-999.000,9,-999.0000,9,  -999.0,9, -999.00,9,-999.0000,9, -999.00,9, -999.00,9, -999.00,  -999.0,9, -999.00,9,     -999.0,9,  -999.0,9, 20170709,      514, -30.0801, 157.6699,        0.0,1,      0.061,1,      4.692,1,      0.142,1,     -999.0,     -999.0,9,     -999.0,9,     -999.0,9,     -999.0,9,     4.4568,2,     -999.0,9
320620170703,        P06,      22,          1,          8,          8,2,20170709,       0608,   -30.0801,   157.6699,       1828,  1171.4,   4.8933,  34.4593,2,  34.4616,2, 178.2614,2, 178.2427,2,    48.2,2,   30.92,2,    0.00,2,    2.10,2,-999.000,9,-999.000,9,-999.0000,9,  -999.0,9, -999.00,9,-999.0000,9, -999.00,9, -999.00,9, -999.00,  -999.0,9, -999.00,9,     -999.0,9,  -999.0,9, 20170709,      516, -30.0801, 157.6699,        0.0,1,      0.061,1,      4.695,1,      0.140,1,     -999.0,     -999.0,9,     -999.0,9,     -999.0,9,     -999.0,9,     4.7670,2,     -999.0,9
320620170703,        P06,      22,          1,          9,         41,2,20170709,       0608,   -30.0801,   157.6699,       1828,  1095.2,   5.4374,  34.4488,2,  34.4455,2, 185.5859,2, 185.2929,2,    38.0,2,   29.52,2,    0.00,2,    2.01,2,   0.755,2,   0.400,2,   0.1960,2,  2202.2,2, 2302.46,2,   7.6324,2, -999.00,9, -999.00,9, -999.00,    44.0,2, -999.00,9,     -999.0,1,  -999.0,9, 20170709,      519, -30.0801, 157.6699,        0.0,1,      0.061,1,      4.703,1,      0.143,1,      25.01,     -999.0,9,     -999.0,9,     -999.0,9,     -999.0,9,     5.2891,2,     -999.0,9
320620170703,        P06,      22,          1,         10,         10,2,20170709,       0608,   -30.0801,   157.6699,       1828,  1019.8,   5.9226,  34.4433,2,  34.4406,2, 192.5084,2, 193.4715,2,    29.7,2,   27.99,2,    0.00,2,    1.90,2,-999.000,9,-999.000,9,-999.0000,9,  -999.0,9, -999.00,9,-999.0000,9, -999.00,9, -999.00,9, -999.00,  -999.0,9, -999.00,9,     -999.0,9,  -999.0,9, 20170709,      521, -30.0801, 157.6699,        0.0,1,      0.059,1,      4.700,1,      0.146,1,     -999.0,     -999.0,9,     -999.0,9,     -999.0,9,     -999.0,9,     5.8182,2,     -999.0,9
320620170703,        P06,      22,          1,         11,         42,2,20170709,       0608,   -30.0801,   157.6699,       1828,   933.4,   6.4967,  34.4557,2,  34.4522,2, 198.3527,2, 198.2330,2,    22.7,2,   26.50,2,    0.00,2,    1.80,2,-999.000,9,-999.000,9,-999.0000,9,  -999.0,9, -999.00,9,-999.0000,9, -999.00,9, -999.00,9, -999.00,  -999.0,9, -999.00,9,     -999.0,9,  -999.0,9, 20170709,      524, -30.0801, 157.6699,        0.0,1,      0.060,1,      4.703,1,      0.142,1,     -999.0,     -999.0,9,     -999.0,9,     -999.0,9,     -999.0,9,     6.4137,2,     -999.0,9
320620170703,        P06,      22,          1,         12,         12,2,20170709,       0608,   -30.0801,   157.6699,       1828,   879.2,   6.8240,  34.4649,2,  34.4632,2, 200.7334,2, 200.9834,2,    18.6,2,   25.43,2,    0.00,2,    1.70,2,   1.644,2,   0.819,2,   0.2530,2,  2171.8,2, 2285.08,2,   7.6748,2, -999.00,9, -999.00,9, -999.00,    40.4,2, -999.00,9,     -999.0,1,  -999.0,9, 20170709,      526, -30.0800, 157.6698,        0.0,1,      0.059,1,      4.692,1,      0.143,1,      25.02,     -999.0,9,     -999.0,9,     -999.0,9,     -999.0,9,     6.8418,2,     -999.0,9
320620170703,        P06,      22,          1,         13,         43,2,20170709,       0608,   -30.0801,   157.6699,       1828,   827.3,   7.3074,  34.4952,2,  34.4926,2, 202.1577,2, 202.1452,2,    15.3,2,   24.28,2,    0.00,2,    1.65,2,-999.000,9,-999.000,9,-999.0000,9,  -999.0,9, -999.00,9,-999.0000,9, -999.00,9, -999.00,9, -999.00,  -999.0,9, -999.00,9,     -999.0,9,  -999.0,9, 20170709,      528, -30.0800, 157.6698,        0.0,1,      0.059,1,      4.690,1,      0.141,1,     -999.0,     -999.0,9,     -999.0,9,     -999.0,9,     -999.0,9,     7.3218,2,     -999.0,9
320620170703,        P06,      22,          1,         14,         14,2,20170709,       0608,   -30.0801,   157.6699,       1828,   776.6,   7.7695,  34.5314,2,  34.5186,2, 202.1999,2, 202.2818,2,    13.7,2,   23.44,2,    0.00,2,    1.56,2,   2.022,2,   1.004,2,   0.3390,2,  2159.5,2, 2284.21,2,   7.6929,2, -999.00,9, -999.00,9, -999.00,    43.3,2, -999.00,9,     -999.0,1,  -999.0,9, 20170709,      530, -30.0800, 157.6698,        0.0,1,      0.059,1,      4.695,1,      0.140,1,      25.02,     -999.0,9,     -999.0,9,     -999.0,9,     -999.0,9,     7.6582,2,     -999.0,9
320620170703,        P06,      22,          1,         15,         15,2,20170709,       0608,   -30.0801,   157.6699,       1828,   726.1,   8.2911,  34.5820,2,  34.5679,2, 201.2041,2, 200.9136,2,    11.7,2,   22.30,2,    0.00,2,    1.50,2,-999.000,9,-999.000,9,-999.0000,9,  -999.0,9, -999.00,9,-999.0000,9, -999.00,9, -999.00,9, -999.00,  -999.0,9, -999.00,9,     -999.0,9,  -999.0,9, 20170709,      532, -30.0800, 157.6698,        0.0,1,      0.061,1,      4.700,1,      0.142,1,     -999.0,     -999.0,9,     -999.0,9,     -999.0,9,     -999.0,9,     8.1958,2,     -999.0,9
320620170703,        P06,      22,          1,         16,         16,2,20170709,       0608,   -30.0801,   157.6699,       1828,   676.3,   8.8743,  34.6365,2,  34.6209,2, 200.6942,2, 199.6600,2,    10.3,2,   21.21,2,    0.00,2,    1.42,2,-999.000,9,-999.000,9,-999.0000,9,  -999.0,9, -999.00,9,-999.0000,9, -999.00,9, -999.00,9, -999.00,  -999.0,9, -999.00,9,     -999.0,9,  -999.0,9, 20170709,      534, -30.0799, 157.6697,        0.0,1,      0.059,1,      2.851,1,      0.142,1,     -999.0,     -999.0,9,     -999.0,9,     -999.0,9,     -999.0,9,     8.7217,2,     -999.0,9
320620170703,        P06,      22,          1,         17,         17,2,20170709,       0608,   -30.0801,   157.6699,       1828,   625.2,   9.4282,  34.6963,2,  34.6895,2, 198.3357,2, 198.3788,2,     8.7,2,   19.82,2,    0.00,2,    1.32,2,   2.308,2,   1.237,2,   0.5550,2,  2148.9,2, 2289.77,2,   7.7266,2, -999.00,9, -999.00,9, -999.00,    45.5,2, -999.00,9,     -999.0,1,  -999.0,9, 20170709,      536, -30.0799, 157.6697,        0.0,1,      0.060,1,      1.888,1,      0.141,1,      25.02,     -999.0,9,     -999.0,9,     -999.0,9,     -999.0,9,     9.3940,2,     -999.0,9
320620170703,        P06,      22,          1,         18,         18,2,20170709,       0608,   -30.0801,   157.6699,       1828,   574.1,  10.4638,  34.8163,2,  34.8578,2, 195.4037,2, 195.1111,2,     6.4,2,   16.89,2,    0.00,2,    1.12,2,-999.000,9,-999.000,9,-999.0000,9,  -999.0,9, -999.00,9,-999.0000,9, -999.00,9, -999.00,9, -999.00,  -999.0,9, -999.00,9,     -999.0,9,  -999.0,9, 20170709,      537, -30.0799, 157.6697,        0.0,1,      0.060,1,      4.693,1,      0.145,1,     -999.0,     -999.0,9,     -999.0,9,     -999.0,9,     -999.0,9,    10.8205,2,     -999.0,9
320620170703,        P06,      22,          1,         19,         19,2,20170709,       0608,   -30.0801,   157.6699,       1828,   524.7,  11.3405,  34.9161,2,  34.9595,2, 192.7277,2, 192.5048,2,     5.4,2,   15.24,2,    0.00,2,    1.02,2,-999.000,9,-999.000,9,-999.0000,9,  -999.0,9, -999.00,9,-999.0000,9, -999.00,9, -999.00,9, -999.00,    45.4,2, -999.00,9,     -999.0,1,  -999.0,9, 20170709,      540, -30.0799, 157.6697,        0.0,1,      0.060,1,      4.686,1,      0.145,1,     -999.0,     -999.0,9,     -999.0,9,     -999.0,9,     -999.0,9,    11.7434,2,     -999.0,9
320620170703,        P06,      22,          1,         20,         20,2,20170709,       0608,   -30.0801,   157.6699,       1828,   475.1,  12.6906,  35.1033,2,  35.1435,2, 196.1003,2, 196.7150,2,     3.8,2,   12.17,2,    0.00,2,    0.81,2,-999.000,9,-999.000,9,-999.0000,9,  -999.0,9, -999.00,9,-999.0000,9, -999.00,9, -999.00,9, -999.00,  -999.0,9, -999.00,9,     -999.0,9,  -999.0,9, 20170709,      542, -30.0799, 157.6697,        0.0,1,      0.060,1,      4.677,1,      0.143,1,     -999.0,     -999.0,9,     -999.0,9,     -999.0,9,     -999.0,9,    13.0643,2,     -999.0,9
320620170703,        P06,      22,          1,         21,         21,2,20170709,       0608,   -30.0801,   157.6699,       1828,   438.1,  13.4859,  35.1902,2,  35.2180,2, 193.8968,2, 194.3434,2,     3.3,2,   11.02,2,    0.00,2,    0.75,2,   2.285,2,   1.356,2,   0.8690,2,  2118.3,2, 2307.04,2,   7.8340,2, -999.00,9, -999.00,9, -999.00,    50.3,3,   13.40,2,     -999.0,1,  -999.0,9, 20170709,      543, -30.0799, 157.6697,        0.0,1,      0.061,1,      4.691,1,      0.143,1,      25.01,     -999.0,9,     -999.0,9,     -999.0,9,     -999.0,9,    13.8311,2,     -999.0,9
320620170703,        P06,      22,          1,         22,         22,2,20170709,       0608,   -30.0801,   157.6699,       1828,   388.1,  14.7027,  35.3255,2,  35.3261,2, 194.9671,2, 195.5446,2,     2.6,2,    9.43,2,    0.00,2,    0.64,2,-999.000,9,-999.000,9,-999.0000,9,  -999.0,9, -999.00,9,-999.0000,9, -999.00,9, -999.00,9, -999.00,  -999.0,9, -999.00,9,     -999.0,9,  -999.0,9, 20170709,      545, -30.0800, 157.6698,        0.0,1,      0.059,1,      4.631,1,      0.144,1,     -999.0,     -999.0,9,     -999.0,9,     -999.0,9,     -999.0,9,    14.7947,2,     -999.0,9
320620170703,        P06,      22,          1,         23,         23,2,20170709,       0608,   -30.0801,   157.6699,       1828,   337.2,  16.1618,  35.4403,2,  35.4356,2, 188.9239,2, 190.1825,2,     2.1,2,    7.85,2,    0.00,2,    0.56,2,   2.172,2,   1.279,2,   0.8720,2,  2102.5,2, 2321.49,2,   7.8879,2, -999.00,9, -999.00,9, -999.00,    46.0,2,   10.00,2,     -999.0,1,  -999.0,9, 20170709,      547, -30.0800, 157.6698,        0.0,1,      0.060,1,      4.668,1,      0.144,1,      25.01,     -999.0,9,     -999.0,9,     -999.0,9,     -999.0,9,    16.1697,2,     -999.0,9
320620170703,        P06,      22,          1,         24,         24,2,20170709,       0608,   -30.0801,   157.6699,       1828,   287.4,  17.5803,  35.5746,2,  35.5588,3, 193.2386,2, 191.8838,2,     1.4,2,    6.01,2,    0.00,2,    0.42,2,-999.000,9,-999.000,9,-999.0000,9,  -999.0,9, -999.00,9,-999.0000,9, -999.00,9, -999.00,9, -999.00,  -999.0,9, -999.00,9,     -999.0,9,  -999.0,9, 20170709,      549, -30.0800, 157.6699,        0.0,1,      0.059,1,      4.672,1,      0.145,1,     -999.0,     -999.0,9,     -999.0,9,     -999.0,9,     -999.0,9,    17.4604,2,     -999.0,9
320620170703,        P06,      22,          1,         25,         25,2,20170709,       0608,   -30.0801,   157.6699,       1828,   242.5,  18.4797,  35.6045,2,  35.6248,2, 187.2217,2, 186.0924,2,     1.1,2,    5.19,2,    0.02,2,    0.38,2,-999.000,9,-999.000,9,-999.0000,9,  -999.0,9, -999.00,9,-999.0000,9, -999.00,9, -999.00,9, -999.00,    47.8,2,    8.30,2,     -999.0,1,  -999.0,9, 20170709,      551, -30.0800, 157.6698,        0.0,1,      0.059,1,      4.676,1,      0.146,1,     -999.0,     -999.0,9,     -999.0,9,     -999.0,9,     -999.0,9,    18.7024,2,     -999.0,9
320620170703,        P06,      22,          1,         26,         26,2,20170709,       0608,   -30.0801,   157.6699,       1828,   216.2,  19.3394,  35.6943,2,  35.7183,2, 197.0465,2, 195.2196,2,     0.7,2,    3.42,2,    0.04,2,    0.27,2,-999.000,9,-999.000,9,-999.0000,9,  -999.0,9, -999.00,9,-999.0000,9, -999.00,9, -999.00,9, -999.00,  -999.0,9, -999.00,9,     -999.0,9,  -999.0,9, 20170709,      553, -30.0800, 157.6698,        0.0,1,      0.059,1,      4.665,1,      0.152,1,     -999.0,     -999.0,9,     -999.0,9,     -999.0,9,     -999.0,9,    19.6992,2,     -999.0,9
320620170703,        P06,      22,          1,         27,         27,2,20170709,       0608,   -30.0801,   157.6699,       1828,   191.9,  20.1702,  35.7853,2,  35.7987,2, 215.1811,2, 215.4554,2,     0.4,2,    0.71,2,    0.32,2,    0.11,2,   1.831,2,   1.128,2,   1.0090,2,  2049.9,2, 2340.75,2,   8.0179,2, -999.00,9, -999.00,9, -999.00,    56.1,2,    6.00,2,     -999.0,1,  -999.0,9, 20170709,      554, -30.0800, 157.6698,        0.0,1,      0.073,1,      4.677,1,      0.162,1,      25.00,     -999.0,9,     -999.0,9,     -999.0,9,     -999.0,9,    20.2446,2,     -999.0,9
320620170703,        P06,      22,          1,         28,         28,2,20170709,       0608,   -30.0801,   157.6699,       1828,   165.4,  20.3317,  35.8076,2,  35.8102,2, 217.1603,2, 218.7470,2,     0.2,2,    0.43,2,    0.33,2,    0.10,2,-999.000,9,-999.000,9,-999.0000,9,  -999.0,9, -999.00,9,-999.0000,9, -999.00,9, -999.00,9, -999.00,    56.8,2,    4.50,2,     -999.0,1,  -999.0,9, 20170709,      556, -30.0800, 157.6698,        0.0,1,      0.090,1,      4.671,1,      0.168,1,     -999.0,     -999.0,9,     -999.0,9,     -999.0,9,     -999.0,9,    20.3459,2,     -999.0,9
320620170703,        P06,      22,          1,         29,         29,2,20170709,       0608,   -30.0801,   157.6699,       1828,   142.4,  20.3495,  35.8107,2,  35.8111,2, 216.9377,3, 219.1186,2,     0.2,2,    0.43,2,    0.32,2,    0.09,2,   1.827,2,   1.130,2,   1.0350,2,  2049.9,2, 2340.68,2,   8.0231,2, -999.00,9, -999.00,9, -999.00,    55.6,2,    4.50,2,     -999.0,1,  -999.0,9, 20170709,      558, -30.0799, 157.6697,        0.0,1,      0.111,1,      4.661,1,      0.175,1,      25.00,     -999.0,9,     -999.0,9,     -999.0,9,     -999.0,9,    20.3449,2,     -999.0,9
320620170703,        P06,      22,          1,         30,         30,2,20170709,       0608,   -30.0801,   157.6699,       1828,   115.5,  20.3643,  35.8134,2,  35.8109,2, 217.3958,2, 217.9896,2,     0.2,2,    0.43,2,    0.34,2,    0.11,2,-999.000,9,-999.000,9,-999.0000,9,  -999.0,9, -999.00,9,-999.0000,9, -999.00,9, -999.00,9, -999.00,    56.2,2,    5.00,2,     -999.0,1,  -999.0,9, 20170709,      600, -30.0799, 157.6697,        0.0,1,      0.130,1,      4.647,1,      0.187,1,     -999.0,     -999.0,9,     -999.0,9,     -999.0,9,     -999.0,9,    20.3468,2,     -999.0,9
320620170703,        P06,      22,          1,         31,         31,2,20170709,       0608,   -30.0801,   157.6699,       1828,    92.2,  20.3703,  35.8111,2,  35.8127,2, 218.4703,2, 218.4897,2,     0.2,2,    0.37,2,    0.32,2,    0.09,2,   1.867,2,   1.127,2,   1.0220,2,  2049.5,2, 2341.09,2,   8.0237,2, -999.00,9, -999.00,9, -999.00,    57.5,2,    4.90,2,     -999.0,1,  -999.0,9, 20170709,      602, -30.0800, 157.6698,        0.0,1,      0.162,1,      4.648,1,      0.190,1,      25.00,     -999.0,9,     -999.0,9,     -999.0,9,     -999.0,9,    20.3687,2,     -999.0,9
320620170703,        P06,      22,          1,         32,         32,2,20170709,       0608,   -30.0801,   157.6699,       1828,    68.1,  20.3687,  35.8086,2,  35.8096,2, 218.1484,2, 218.7003,2,     0.2,2,    0.39,2,    0.28,2,    0.11,2,-999.000,9,-999.000,9,-999.0000,9,  -999.0,9, -999.00,9,-999.0000,9, -999.00,9, -999.00,9, -999.00,    55.9,2,    5.00,2,     -999.0,1,  -999.0,9, 20170709,      604, -30.0800, 157.6698,        0.0,1,      0.171,1,      4.608,1,      0.185,1,     -999.0,     -999.0,9,     -999.0,9,     -999.0,9,     -999.0,9,    20.3669,2,     -999.0,9