BOTTLE,20230922CCHSIOCBG
EXPOCODE,SECT_ID,STNNBR,CASTNO,SAMPNO,BTLNBR,BTLNBR_FLAG_W,DATE,TIME,LATITUDE,LONGITUDE,DEPTH,CTDPRS,CTDTMP,CTDSAL,CTDSAL_FLAG_W,SALNTY,SALNTY_FLAG_W,CTDOXY,CTDOXY_FLAG_W,OXYGEN,OXYGEN_FLAG_W,SILCAT,SILCAT_FLAG_W,NITRAT,NITRAT_FLAG_W,NITRIT,NITRIT_FLAG_W,PHSPHT,PHSPHT_FLAG_W,CFC-11,CFC-11_FLAG_W,CFC-12,CFC-12_FLAG_W,SF6,SF6_FLAG_W,TCARBN,TCARBN_FLAG_W,ALKALI,ALKALI_FLAG_W,PH_TOT,PH_TOT_FLAG_W,DELC13,DELC13_FLAG_W,DELC14,DELC14_FLAG_W,C14ERR,DOC,DOC_FLAG_W,TDN,TDN_FLAG_W,TON,TON_FLAG_W,D15N_NO3,D15N_NO3_FLAG_W,BTL_DATE,BTL_TIME,BTL_LAT,BTL_LON,CTDRINKO,CTDRINKO_FLAG_W,CTDFLUOR,CTDFLUOR_FLAG_W,CTDXMISS,CTDXMISS_FLAG_W,CTDBACKSCATTER,CTDBACKSCATTER_FLAG_W,PH_TMP,D18O_NO3,D18O_NO3_FLAG_W,DOP,DOP_FLAG_W,HPLC,HPLC_FLAG_W,POC,POC_FLAG_W,REFTMP,REFTMP_FLAG_W,TDP,TDP_FLAG_W
,,,,,,,,,,,METERS,DBAR,ITS-90,PSS-78,,PSS-78,,UMOL/KG,,UMOL/KG,,UMOL/KG,,UMOL/KG,,UMOL/KG,,UMOL/KG,,PMOL/KG,,PMOL/KG,,FMOL/KG,,UMOL/KG,,UMOL/KG,,,,/MILLE,,/MILLE,,/MILLE,UMOL/KG,,UMOL/KG,,UMOL/KG,,/MILLE,,,,,,VOLTS,,VOLTS,,VOLTS,,VOLTS,,DEGC,/MILLE,,UMOL/KG,,,,UG/L,,ITS-90,,UMOL/KG,
320620170703,        P06,     122,          1,          1,          1,2,20170805,       1411,   -32.4994,  -163.1627,       5303,  5395.4,   1.1137,  34.7082,2,  34.7097,2, 205.2718,2, 205.9983,2,   121.8,2,   32.25,2,    0.00,2,    2.23,2,   0.157,2,   0.085,2,   0.0000,2,  2266.8,6, 2365.52,2,   7.6064,2, -999.00,9, -999.00,9, -999.00,    40.9,2, -999.00,9,     -999.0,1,  -999.0,1, 20170805,     1153, -32.5000,-163.1624,        0.0,1,      0.061,1,      4.695,1,      0.130,1,      25.01,     -999.0,1,     -999.0,9,     -999.0,9,     -999.0,9,     1.1143,2,     -999.0,9
320620170703,        P06,     122,          1,          2,          2,2,20170805,       1411,   -32.4994,  -163.1627,       5303,  5146.3,   1.0841,  34.7084,2,  34.7089,2, 205.2718,2, 206.2198,2,   121.8,2,   32.25,2,    0.00,2,    2.24,2,   0.148,2,   0.086,2,   0.0000,2,  2265.2,2, 2365.86,2,   7.6052,2, -999.00,9, -999.00,9, -999.00,    41.7,2, -999.00,9,     -999.0,1,  -999.0,1, 20170805,     1203, -32.4998,-163.1628,        0.0,1,      0.061,1,      4.696,1,      0.128,1,      25.01,     -999.0,1,     -999.0,9,     -999.0,9,     -999.0,9,     1.0842,2,     -999.0,9
320620170703,        P06,     122,          1,          3,          3,2,20170805,       1411,   -32.4994,  -163.1627,       5303,  4939.3,   1.0661,  34.7089,2,  34.7089,2, 205.2718,2, 205.9217,2,   121.7,2,   32.21,2,    0.00,2,    2.24,2,   0.123,2,   0.075,2,   0.0000,2,  2263.9,2, 2365.90,2,   7.6063,2, -999.00,9, -999.00,9, -999.00,    38.7,2, -999.00,9,     -999.0,1,  -999.0,1, 20170805,     1208, -32.4995,-163.1632,        0.0,1,      0.060,1,      4.697,1,      0.126,1,      25.02,     -999.0,1,     -999.0,9,     -999.0,9,     -999.0,9,     1.0662,2,     -999.0,9
320620170703,        P06,     122,          1,          4,          4,2,20170805,       1411,   -32.4994,  -163.1627,       5303,  4553.5,   1.0908,  34.7113,2,  34.7115,2, 206.4707,2, 204.8570,2,   120.0,2,   32.17,2,    0.00,2,    2.23,2,   0.110,2,   0.064,2,   0.0000,2,  -999.0,9, -999.00,9,-999.0000,9, -999.00,9, -999.00,9, -999.00,  -999.0,9, -999.00,9,     -999.0,9,  -999.0,1, 20170805,     1216, -32.4994,-163.1637,        0.0,1,      0.061,1,      4.699,1,      0.126,1,     -999.0,     -999.0,1,     -999.0,9,     -999.0,9,     -999.0,9,     1.0824,2,     -999.0,9
320620170703,        P06,     122,          1,          5,          5,2,20170805,       1411,   -32.4994,  -163.1627,       5303,  4168.5,   1.2586,  34.7167,2,  34.7166,2, 200.7158,2, 200.5092,2,   114.8,2,   32.06,2,    0.00,2,    2.22,2,   0.075,2,   0.051,2,   0.0000,2,  2264.7,2, 2363.40,2,   7.6070,2, -999.00,9, -999.00,9, -999.00,    38.4,2, -999.00,9,     -999.0,1,  -999.0,1, 20170805,     1224, -32.4994,-163.1638,        0.0,1,      0.061,1,      4.699,1,      0.126,1,      25.02,     -999.0,1,     -999.0,9,     -999.0,9,     -999.0,9,     1.2475,2,     -999.0,9
320620170703,        P06,     122,          1,          6,          6,2,20170805,       1411,   -32.4994,  -163.1627,       5303,  3860.6,   1.4584,  34.7143,2,  34.7148,2, 191.4118,2, 191.7606,2,   113.1,2,   32.44,2,    0.00,2,    2.26,2,   0.049,2,   0.034,2,   0.0000,2,  -999.0,9, -999.00,9,-999.0000,9, -999.00,9, -999.00,9, -999.00,  -999.0,9, -999.00,9,     -999.0,9,  -999.0,1, 20170805,     1230, -32.4995,-163.1630,        0.0,1,      0.061,1,      4.699,1,      0.127,1,     -999.0,     -999.0,1,     -999.0,9,     -999.0,9,     -999.0,9,     1.4549,2,     -999.0,9
320620170703,        P06,     122,          1,          7,          7,2,20170805,       1411,   -32.4994,  -163.1627,       5303,  3554.4,   1.6047,  34.6978,2,  34.6971,2, 175.3671,3, 173.3405,2,   121.4,2,   33.98,2,    0.00,2,    2.36,2,   0.030,2,   0.020,2,   0.0000,2,  2290.6,2, 2385.29,2,   7.5875,2, -999.00,9, -999.00,9, -999.00,    45.7,2, -999.00,9,     -999.0,1,  -999.0,1, 20170805,     1237, -32.4996,-163.1627,        0.0,1,      0.061,1,      4.700,1,      0.127,1,      25.01,     -999.0,1,     -999.0,9,     -999.0,9,     -999.0,9,     1.6055,2,     -999.0,9
320620170703,        P06,     122,          1,          8,          8,2,20170805,       1411,   -32.4994,  -163.1627,       5303,  3245.0,   1.7038,  34.6808,2,  34.6798,2, 160.7701,3, 158.4584,2,   129.4,2,   35.24,2,    0.00,2,    2.47,2,   0.025,2,   0.019,2,   0.0000,2,  -999.0,9, -999.00,9,-999.0000,9, -999.00,9, -999.00,9, -999.00,  -999.0,9, -999.00,9,     -999.0,9,  -999.0,1, 20170805,     1243, -32.4997,-163.1624,        0.0,1,      0.061,1,      4.700,1,      0.128,1,     -999.0,     -999.0,1,     -999.0,9,     -999.0,9,     -999.0,9,     1.7096,2,     -999.0,9
320620170703,        P06,     122,          1,          9,          9,2,20170805,       1411,   -32.4994,  -163.1627,       5303,  2955.7,   1.7971,  34.6685,2,  34.6698,2, 151.7217,2, 150.5494,2,   130.5,2,   35.87,2,    0.00,2,    2.50,2,   0.024,2,   0.020,2,   0.0000,2,  2316.2,2, 2405.22,2,   7.5693,2, -999.00,9, -999.00,9, -999.00,    39.1,2, -999.00,9,     -999.0,1,  -999.0,1, 20170805,     1249, -32.4995,-163.1627,        0.0,1,      0.061,1,      4.700,1,      0.128,1,      25.02,     -999.0,1,     -999.0,9,     -999.0,9,     -999.0,9,     1.8006,2,     -999.0,9
320620170703,        P06,     122,          1,         10,         10,2,20170805,       1411,   -32.4994,  -163.1627,       5303,  2700.9,   1.8734,  34.6610,2,  34.6612,2, 147.8807,2, 148.2665,2,   128.9,2,   36.06,2,    0.00,2,    2.53,2,   0.020,2,   0.017,2,   0.0000,2,  -999.0,9, -999.00,9,-999.0000,9, -999.00,9, -999.00,9, -999.00,  -999.0,9, -999.00,9,     -999.0,9,  -999.0,1, 20170805,     1254, -32.4993,-163.1631,        0.0,1,      0.061,1,      4.700,1,      0.129,1,     -999.0,     -999.0,1,     -999.0,9,     -999.0,9,     -999.0,9,     1.8755,2,     -999.0,9
320620170703,        P06,     122,          1,         11,         11,2,20170805,       1411,   -32.4994,  -163.1627,       5303,  2445.8,   1.9703,  34.6524,2,  34.6531,2, 146.0951,2, 147.3781,2,   124.9,2,   36.05,2,    0.00,2,    2.51,2,   0.024,2,   0.019,2,   0.0000,2,  2314.0,6, 2396.92,2,   7.5656,2, -999.00,9, -999.00,9, -999.00,    36.3,2, -999.00,9,     -999.0,1,  -999.0,1, 20170805,     1300, -32.4993,-163.1632,        0.0,1,      0.062,1,      4.701,1,      0.129,1,      25.02,     -999.0,1,     -999.0,9,     -999.0,9,     -999.0,9,     1.9682,2,     -999.0,9
320620170703,        P06,     122,          1,         12,         12,2,20170805,       1411,   -32.4994,  -163.1627,       5303,  2192.9,   2.1028,  34.6411,2,  34.6409,2, 146.6098,3, 149.3604,2,   118.2,2,   35.86,2,    0.00,2,    2.51,2,   0.021,2,   0.017,2,   0.0000,2,  -999.0,9, -999.00,9,-999.0000,9, -999.00,9, -999.00,9, -999.00,  -999.0,9, -999.00,9,     -999.0,9,  -999.0,1, 20170805,     1305, -32.4991,-163.1636,        0.0,1,      0.061,1,      4.701,1,      0.131,1,     -999.0,     -999.0,1,     -999.0,9,     -999.0,9,     -999.0,9,     2.1029,2,     -999.0,9
320620170703,        P06,     122,          1,         13,         13,2,20170805,       1411,   -32.4994,  -163.1627,       5303,  1958.7,   2.2676,  34.6241,2,  34.6256,2, 148.9991,3, 151.2289,2,   109.4,2,   35.53,2,    0.00,2,    2.47,2,   0.025,2,   0.017,2,   0.0000,2,  2296.1,2, 2379.58,2,   7.5668,2, -999.00,9, -999.00,9, -999.00,    44.7,2, -999.00,9,     -999.0,1,  -999.0,1, 20170805,     1310, -32.4990,-163.1636,        0.0,1,      0.061,1,      4.701,1,      0.131,1,      25.01,     -999.0,1,     -999.0,9,     -999.0,9,     -999.0,9,     2.2619,2,     -999.0,9
320620170703,        P06,     122,          1,         14,         14,2,20170805,       1411,   -32.4994,  -163.1627,       5303,  1754.9,   2.4519,  34.5981,2,  34.5944,2, 153.4762,3, 155.5046,2,    97.1,2,   35.22,2,    0.00,2,    2.45,2,   0.026,2,   0.019,2,   0.0000,2,  -999.0,9, -999.00,9,-999.0000,9, -999.00,9, -999.00,9, -999.00,  -999.0,9, -999.00,9,     -999.0,9,  -999.0,1, 20170805,     1315, -32.4991,-163.1635,        0.0,1,      0.061,1,      4.701,1,      0.132,1,     -999.0,     -999.0,1,     -999.0,9,     -999.0,9,     -999.0,9,     2.4738,2,     -999.0,9
320620170703,        P06,     122,          1,         15,         15,2,20170805,       1411,   -32.4994,  -163.1627,       5303,  1550.3,   2.7362,  34.5393,2,  34.5360,2, 161.5492,2, 162.9631,2,    80.0,2,   34.82,2,    0.00,2,    2.41,2,   0.054,2,   0.037,2,   0.0000,2,  2262.7,2, 2343.82,6,   7.5670,2, -999.00,9, -999.00,9, -999.00,    38.8,2, -999.00,9,     -999.0,1,  -999.0,1, 20170805,     1320, -32.4991,-163.1636,        0.0,1,      0.061,1,      4.701,1,      0.131,1,      25.02,     -999.0,1,     -999.0,9,     -999.0,9,     -999.0,9,     2.7489,2,     -999.0,9
320620170703,        P06,     122,          1,         16,         16,2,20170805,       1411,   -32.4994,  -163.1627,       5303,  1379.3,   3.0967,  34.4614,2,  34.4591,2, 172.7035,2, 173.2138,2,    62.7,2,   34.29,2,    0.00,2,    2.36,2,   0.175,2,   0.104,2,   0.0000,2,  -999.0,9, -999.00,9,-999.0000,9, -999.00,9, -999.00,9, -999.00,  -999.0,9, -999.00,9,     -999.0,9,  -999.0,1, 20170805,     1324, -32.4991,-163.1635,        0.0,1,      0.060,1,      4.701,1,      0.133,1,     -999.0,     -999.0,1,     -999.0,9,     -999.0,9,     -999.0,9,     3.1077,2,     -999.0,9
320620170703,        P06,     122,          1,         17,         17,2,20170805,       1411,   -32.4994,  -163.1627,       5303,  1276.2,   3.3939,  34.4118,2,  34.4047,2, 181.2360,2, 181.7821,2,    51.7,2,   33.60,2,    0.00,2,    2.32,2,   0.382,2,   0.202,2,   0.0000,2,  2227.9,2, 2316.77,2,   7.5830,2, -999.00,9, -999.00,9, -999.00,    41.6,2, -999.00,9,     -999.0,1,  -999.0,1, 20170805,     1327, -32.4993,-163.1632,        0.0,1,      0.061,1,      4.701,1,      0.134,1,      25.02,     -999.0,1,     -999.0,9,     -999.0,9,     -999.0,9,     3.4439,2,     -999.0,9
320620170703,        P06,     122,          1,         18,         18,2,20170805,       1411,   -32.4994,  -163.1627,       5303,  1177.4,   3.8371,  34.3677,2,  34.3590,2, 190.8281,2, 190.3316,2,    40.5,2,   32.47,2,    0.00,2,    2.20,2,   0.673,2,   0.336,2,   0.0320,2,  -999.0,9, -999.00,9,-999.0000,9, -999.00,9, -999.00,9, -999.00,  -999.0,9, -999.00,9,     -999.0,9,  -999.0,1, 20170805,     1330, -32.4992,-163.1633,        0.0,1,      0.060,1,      4.700,1,      0.135,1,     -999.0,     -999.0,1,     -999.0,9,     -999.0,9,     -999.0,9,     3.9383,2,     -999.0,9
320620170703,        P06,     122,          1,         19,         19,2,20170805,       1411,   -32.4994,  -163.1627,       5303,  1075.3,   4.4530,  34.3330,2,  34.3333,2, 199.9565,2, 199.1319,2,    31.8,2,   31.11,2,    0.00,2,    2.11,2,   1.003,2,   0.498,2,   0.1930,2,  2198.8,2, 2294.97,2,   7.6181,2, -999.00,9, -999.00,9, -999.00,    44.1,2, -999.00,9,     -999.0,1,  -999.0,1, 20170805,     1333, -32.4991,-163.1634,        0.0,1,      0.060,1,      4.700,1,      0.135,1,      24.99,     -999.0,1,     -999.0,9,     -999.0,9,     -999.0,9,     4.4473,2,     -999.0,9
320620170703,        P06,     122,          1,         20,         20,2,20170805,       1411,   -32.4994,  -163.1627,       5303,   971.3,   5.0114,  34.3221,2,  34.3203,2, 209.6186,2, 208.3770,2,    23.2,2,   29.25,2,    0.00,2,    1.97,2,   1.495,2,   0.722,2,   0.2360,2,  2180.8,2, 2287.70,2,   7.6396,2, -999.00,9, -999.00,9, -999.00,    39.4,3, -999.00,9,     -999.0,1,  -999.0,1, 20170805,     1335, -32.4991,-163.1635,        0.0,1,      0.059,1,      4.699,1,      0.134,1,      25.02,     -999.0,1,     -999.0,9,     -999.0,9,     -999.0,9,     5.0621,2,     -999.0,9
320620170703,        P06,     122,          1,         21,         21,2,20170805,       1411,   -32.4994,  -163.1627,       5303,   871.2,   5.5348,  34.3143,2,  34.3146,2, 221.2448,2, 220.0221,2,    16.2,2,   27.19,2,    0.00,2,    1.84,2,   1.987,2,   0.975,2,   0.4480,2,  2168.8,2, 2283.96,2,   7.6660,2, -999.00,9, -999.00,9, -999.00,    42.1,2, -999.00,9,     -999.0,1,  -999.0,1, 20170805,     1339, -32.4990,-163.1637,        0.0,1,      0.060,1,      4.699,1,      0.134,1,      25.01,     -999.0,1,     -999.0,9,     -999.0,9,     -999.0,9,     5.6162,2,     -999.0,9
320620170703,        P06,     122,          1,         22,         22,2,20170805,       1411,   -32.4994,  -163.1627,       5303,   771.8,   6.0480,  34.3184,2,  34.3223,2, 233.5503,2, 232.6729,2,    10.6,2,   24.89,2,    0.00,2,    1.69,2,   2.707,2,   1.386,2,   0.6010,2,  -999.0,9, -999.00,9,-999.0000,9, -999.00,9, -999.00,9, -999.00,  -999.0,9, -999.00,9,     -999.0,9,  -999.0,1, 20170805,     1341, -32.4989,-163.1639,        0.0,1,      0.058,1,      4.699,1,      0.134,1,     -999.0,     -999.0,1,     -999.0,9,     -999.0,9,     -999.0,9,     6.1745,2,     -999.0,9
320620170703,        P06,     122,          1,         23,         23,2,20170805,       1411,   -32.4994,  -163.1627,       5303,   670.5,   6.5064,  34.3404,2,  34.3505,2, 238.0035,2, 237.1758,2,     8.1,2,   23.26,2,    0.00,2,    1.55,2,   3.241,2,   1.652,2,   0.7320,2,  2150.1,2, 2279.42,2,   7.7033,2, -999.00,9, -999.00,9, -999.00,    49.5,2, -999.00,9,     -999.0,1,  -999.0,1, 20170805,     1344, -32.4990,-163.1636,        0.0,1,      0.059,1,      4.698,1,      0.136,1,      25.02,     -999.0,1,     -999.0,9,     -999.0,9,     -999.0,9,     6.6789,2,     -999.0,9
320620170703,        P06,     122,          1,         24,         24,2,20170805,       1411,   -32.4994,  -163.1627,       5303,   569.4,   7.0595,  34.3744,2,  34.3662,2, 235.0201,2, 235.4339,2,     7.3,2,   22.63,2,    0.00,2,    1.51,2,   3.256,2,   1.678,2,   0.7320,2,  2149.0,2, 2276.02,2,   7.7050,2, -999.00,9, -999.00,9, -999.00,    47.1,2, -999.00,9,     -999.0,1,  -999.0,1, 20170805,     1347, -32.4990,-163.1636,        0.0,1,      0.058,1,      4.698,1,      0.137,1,      25.00,     -999.0,1,     -999.0,9,     -999.0,9,     -999.0,9,     7.2422,2,     -999.0,9
320620170703,        P06,     122,          1,         25,         25,2,20170805,       1411,   -32.4994,  -163.1627,       5303,   468.8,   7.9081,  34.4417,2,  34.4453,2, 230.0653,2, 230.3246,2,     5.1,2,   19.87,2,    0.00,2,    1.34,2,   3.417,2,   1.779,2,   0.9160,2,  2144.4,2, 2279.80,2,   7.7203,2, -999.00,9, -999.00,9, -999.00,    43.9,3, -999.00,9,     -999.0,1,  -999.0,1, 20170805,     1350, -32.4990,-163.1635,        0.0,1,      0.059,1,      4.697,1,      0.162,1,      25.02,     -999.0,1,     -999.0,9,     -999.0,9,     -999.0,9,     7.9912,2,     -999.0,9
320620170703,        P06,     122,          1,         26,         26,2,20170805,       1411,   -32.4994,  -163.1627,       5303,   387.8,   8.9560,  34.5351,2,  34.5290,2, 223.5347,2, 222.6245,2,     4.0,2,   17.79,2,    0.00,2,    1.20,2,   3.326,2,   1.787,2,   1.0420,2,  -999.0,9, -999.00,9,-999.0000,9, -999.00,9, -999.00,9, -999.00,    48.1,2, -999.00,9,     -999.0,1,  -999.0,1, 20170805,     1353, -32.4991,-163.1635,        0.0,1,      0.059,1,      4.695,1,      0.139,1,     -999.0,     -999.0,1,     -999.0,9,     -999.0,9,     -999.0,9,     8.9214,2,     -999.0,9
320620170703,        P06,     122,          1,         27,         27,2,20170805,       1411,   -32.4994,  -163.1627,       5303,   338.2,  10.3108,  34.7063,2,  34.6260,2, 216.5238,2, 216.5621,2,     3.5,2,   15.98,2,    0.00,2,    1.07,2,   3.212,2,   1.729,2,   1.1430,2,  2137.3,2, 2284.36,2,   7.7515,2, -999.00,9, -999.00,9, -999.00,    45.8,2, -999.00,9,     -999.0,1,  -999.0,1, 20170805,     1355, -32.4991,-163.1635,        0.0,1,      0.059,1,      4.693,1,      0.134,1,      25.01,     -999.0,1,     -999.0,9,     -999.0,9,     -999.0,9,     9.8355,2,     -999.0,9
320620170703,        P06,     122,          1,         28,         28,2,20170805,       1411,   -32.4994,  -163.1627,       5303,   286.0,  11.5630,  34.8711,2,  34.8009,2, 212.3112,2, 212.7213,2,     2.7,2,   13.12,2,    0.00,2,    0.89,2,   3.027,2,   1.673,2,   1.2460,2,  -999.0,9, -999.00,9,-999.0000,9, -999.00,9, -999.00,9, -999.00,  -999.0,9, -999.00,9,     -999.0,9,  -999.0,1, 20170805,     1357, -32.4991,-163.1634,        0.0,1,      0.059,1,      4.691,1,      0.134,1,     -999.0,     -999.0,1,     -999.0,9,     -999.0,9,     -999.0,9,    11.1281,2,     -999.0,9
320620170703,        P06,     122,          1,         29,         29,2,20170805,       1411,   -32.4994,  -163.1627,       5303,   237.0,  12.7985,  35.0481,2,  35.0527,2, 212.4273,3, 214.8345,2,     2.0,2,    8.89,2,    0.00,2,    0.62,2,   2.801,2,   1.605,2,   1.2940,2,  2121.3,2, 2305.78,2,   7.8242,2, -999.00,9, -999.00,9, -999.00,    51.0,2,   11.20,2,     -999.0,1,  -999.0,1, 20170805,     1359, -32.4991,-163.1634,        0.0,1,      0.061,1,      4.690,1,      0.136,1,      25.01,     -999.0,1,     -999.0,9,     -999.0,9,     -999.0,9,    12.7198,2,     -999.0,9
320620170703,        P06,     122,          1,         30,         30,2,20170805,       1411,   -32.4994,  -163.1627,       5303,   186.6,  13.8079,  35.1764,2,  35.1603,2, 212.3209,2, 213.7409,2,     1.6,2,    7.08,2,    0.02,2,    0.51,2,   2.659,2,   1.538,2,   1.3050,2,  2112.3,2, 2308.04,2,   7.8498,2, -999.00,9, -999.00,9, -999.00,    51.1,2,   10.30,2,     -999.0,1,  -999.0,1, 20170805,     1401, -32.4992,-163.1632,        0.0,1,      0.065,1,      4.687,1,      0.136,1,      25.00,     -999.0,1,     -999.0,9,     -999.0,9,     -999.0,9,    13.7487,2,     -999.0,9
320620170703,        P06,     122,          1,         31,         31,2,20170805,       1411,   -32.4994,  -163.1627,       5303,   133.4,  14.9284,  35.3130,2,  35.2272,2, 218.3645,2, 216.6509,2,     1.3,2,    5.99,2,    0.03,2,    0.44,2,   2.624,2,   1.504,2,   1.3710,2,  2107.1,2, 2312.89,2,   7.8725,2, -999.00,9, -999.00,9, -999.00,    47.2,2,    8.20,2,     -999.0,1,  -999.0,1, 20170805,     1403, -32.4992,-163.1631,        0.0,1,      0.091,1,      4.677,1,      0.149,1,      25.02,     -999.0,1,     -999.0,9,     -999.0,9,     -999.0,9,    15.2850,2,     -999.0,9
320620170703,        P06,     122,          1,         32,         32,2,20170805,       1411,   -32.4994,  -163.1627,       5303,    91.9,  16.7192,  35.5095,2,  35.5111,2, 237.8117,2, 237.2716,2,     0.3,2,    0.19,2,    0.03,2,    0.06,2,   2.313,2,   1.366,2,   1.3930,2,  2069.7,2, 2329.84,2,   7.9664,2, -999.00,9, -999.00,9, -999.00,    62.2,2,    4.20,2,     -999.0,1,  -999.0,1, 20170805,     1405, -32.4993,-163.1630,        0.0,1,      0.186,1,      4.625,1,      0.206,1,      25.00,     -999.0,1,     -999.0,9,     -999.0,9,     -999.0,9,    16.7238,2,     -999.0,9