BOTTLE,20230922CCHSIOCBG
EXPOCODE,SECT_ID,STNNBR,CASTNO,SAMPNO,BTLNBR,BTLNBR_FLAG_W,DATE,TIME,LATITUDE,LONGITUDE,DEPTH,CTDPRS,CTDTMP,CTDSAL,CTDSAL_FLAG_W,SALNTY,SALNTY_FLAG_W,CTDOXY,CTDOXY_FLAG_W,OXYGEN,OXYGEN_FLAG_W,SILCAT,SILCAT_FLAG_W,NITRAT,NITRAT_FLAG_W,NITRIT,NITRIT_FLAG_W,PHSPHT,PHSPHT_FLAG_W,CFC-11,CFC-11_FLAG_W,CFC-12,CFC-12_FLAG_W,SF6,SF6_FLAG_W,TCARBN,TCARBN_FLAG_W,ALKALI,ALKALI_FLAG_W,PH_TOT,PH_TOT_FLAG_W,DELC13,DELC13_FLAG_W,DELC14,DELC14_FLAG_W,C14ERR,DOC,DOC_FLAG_W,TDN,TDN_FLAG_W,TON,TON_FLAG_W,D15N_NO3,D15N_NO3_FLAG_W,BTL_DATE,BTL_TIME,BTL_LAT,BTL_LON,CTDRINKO,CTDRINKO_FLAG_W,CTDFLUOR,CTDFLUOR_FLAG_W,CTDXMISS,CTDXMISS_FLAG_W,CTDBACKSCATTER,CTDBACKSCATTER_FLAG_W,PH_TMP,D18O_NO3,D18O_NO3_FLAG_W,DOP,DOP_FLAG_W,HPLC,HPLC_FLAG_W,POC,POC_FLAG_W,REFTMP,REFTMP_FLAG_W,TDP,TDP_FLAG_W
,,,,,,,,,,,METERS,DBAR,ITS-90,PSS-78,,PSS-78,,UMOL/KG,,UMOL/KG,,UMOL/KG,,UMOL/KG,,UMOL/KG,,UMOL/KG,,PMOL/KG,,PMOL/KG,,FMOL/KG,,UMOL/KG,,UMOL/KG,,,,/MILLE,,/MILLE,,/MILLE,UMOL/KG,,UMOL/KG,,UMOL/KG,,/MILLE,,,,,,VOLTS,,VOLTS,,VOLTS,,VOLTS,,DEGC,/MILLE,,UMOL/KG,,,,UG/L,,ITS-90,,UMOL/KG,
320620170703,        P06,     120,          1,          1,          1,2,20170804,       0620,   -32.4998,  -164.4883,       5613,  5717.6,   1.1435,  34.7077,2,  34.7085,2, 206.2512,2, 206.8697,2,   122.0,2,   32.12,2,    0.00,2,    2.25,2,   0.172,2,   0.091,2,   0.0000,2,  2262.5,6, 2364.23,2,   7.6056,2, -999.00,9, -999.00,9, -999.00,    41.0,2, -999.00,9,     -999.0,1,  -999.0,9, 20170804,      401, -32.5001,-164.4885,        0.0,1,      0.061,1,      4.695,1,      0.129,1,      25.02,     -999.0,9,     -999.0,9,     -999.0,9,     -999.0,9,     1.1438,2,     -999.0,9
320620170703,        P06,     120,          1,          2,          2,2,20170804,       0620,   -32.4998,  -164.4883,       5613,  5352.7,   1.1011,  34.7081,2,  34.7083,2, 206.2512,2, 206.5403,2,   121.9,2,   32.16,2,    0.00,2,    2.24,2,   0.160,2,   0.090,2,   0.0000,2,  2262.1,2, 2363.17,2,   7.6058,2, -999.00,9, -999.00,9, -999.00,  -999.0,9, -999.00,9,     -999.0,9,  -999.0,9, 20170804,      413, -32.5000,-164.4885,        0.0,1,      0.061,1,      4.696,1,      0.127,1,      25.02,     -999.0,9,     -999.0,9,     -999.0,9,     -999.0,9,     1.1014,2,     -999.0,9
320620170703,        P06,     120,          1,          3,          3,2,20170804,       0620,   -32.4998,  -164.4883,       5613,  4992.2,   1.0629,  34.7084,2,  34.7089,2, 206.2512,2, 206.1347,2,   121.9,2,   32.18,2,    0.00,2,    2.25,2,   0.151,2,   0.085,2,   0.0000,2,  2260.9,2, 2362.63,2,   7.6070,2, -999.00,9, -999.00,9, -999.00,    34.2,2, -999.00,9,     -999.0,1,  -999.0,9, 20170804,      422, -32.4999,-164.4885,        0.0,1,      0.060,1,      4.697,1,      0.126,1,      24.99,     -999.0,9,     -999.0,9,     -999.0,9,     -999.0,9,     1.0631,2,     -999.0,9
320620170703,        P06,     120,          1,          4,          4,2,20170804,       0620,   -32.4998,  -164.4883,       5613,  4683.2,   1.0604,  34.7096,2,  34.7107,2, 206.2512,2, 205.5758,2,   120.6,2,   32.19,2,    0.00,2,    2.24,2,   0.131,2,   0.075,2,   0.0000,2,  2261.9,2, -999.00,9,   7.6068,2, -999.00,9, -999.00,9, -999.00,  -999.0,9, -999.00,9,     -999.0,9,  -999.0,9, 20170804,      428, -32.4996,-164.4886,        0.0,1,      0.061,1,      4.699,1,      0.127,1,      25.03,     -999.0,9,     -999.0,9,     -999.0,9,     -999.0,9,     1.0632,2,     -999.0,9
320620170703,        P06,     120,          1,          5,          5,2,20170804,       0620,   -32.4998,  -164.4883,       5613,  4374.1,   1.1322,  34.7132,2,  34.7144,2, 206.3103,3, 203.8611,2,   117.9,2,   31.97,2,    0.00,2,    2.23,2,   0.107,2,   0.062,2,   0.0000,2,  2260.2,2, -999.00,9,   7.6079,2, -999.00,9, -999.00,9, -999.00,    36.7,2, -999.00,9,     -999.0,1,  -999.0,9, 20170804,      435, -32.5001,-164.4884,        0.0,1,      0.061,1,      4.700,1,      0.127,1,      25.02,     -999.0,9,     -999.0,9,     -999.0,9,     -999.0,9,     1.1394,2,     -999.0,9
320620170703,        P06,     120,          1,          6,          6,2,20170804,       0620,   -32.4998,  -164.4883,       5613,  4013.7,   1.3081,  34.7177,2,  34.7182,2, 198.5331,2, 198.2174,2,   112.9,2,   31.97,2,    0.00,2,    2.23,2,   0.063,2,   0.039,2,   0.0000,2,  2261.0,2, 2362.88,2,   7.6062,2, -999.00,9, -999.00,9, -999.00,    39.0,2, -999.00,9,     -999.0,1,  -999.0,9, 20170804,      442, -32.5000,-164.4886,        0.0,1,      0.060,1,      4.700,1,      0.126,1,      25.00,     -999.0,9,     -999.0,9,     -999.0,9,     -999.0,9,     1.3418,2,     -999.0,9
320620170703,        P06,     120,          1,          7,          7,2,20170804,       0620,   -32.4998,  -164.4883,       5613,  3656.3,   1.5370,  34.7091,2,  34.7103,2, 184.5297,2, 185.0971,2,   114.6,2,   32.80,2,    0.00,2,    2.29,2,   0.040,2,   0.028,2,   0.0000,2,  2273.3,2, 2370.27,6,   7.5979,2, -999.00,9, -999.00,9, -999.00,    37.2,2, -999.00,9,     -999.0,1,  -999.0,9, 20170804,      449, -32.5003,-164.4885,        0.0,1,      0.061,1,      4.700,1,      0.130,1,      25.02,     -999.0,9,     -999.0,9,     -999.0,9,     -999.0,9,     1.5364,2,     -999.0,9
320620170703,        P06,     120,          1,          8,          8,2,20170804,       0620,   -32.4998,  -164.4883,       5613,  3348.7,   1.6857,  34.6873,2,  34.6891,2, 166.1971,2, 165.7382,2,   124.1,2,   34.50,2,    0.00,2,    2.41,2,   0.033,2,   0.024,2,   0.0000,2,  2295.9,2, -999.00,9,   7.5816,2, -999.00,9, -999.00,9, -999.00,  -999.0,9, -999.00,9,     -999.0,9,  -999.0,9, 20170804,      455, -32.5003,-164.4885,        0.0,1,      0.061,1,      4.700,1,      0.130,1,      25.00,     -999.0,9,     -999.0,9,     -999.0,9,     -999.0,9,     1.6801,2,     -999.0,9
320620170703,        P06,     120,          1,          9,          9,2,20170804,       0620,   -32.4998,  -164.4883,       5613,  3041.9,   1.8103,  34.6690,2,  34.6702,2, 152.7983,2, 151.5737,2,   129.7,2,   35.66,2,    0.00,2,    2.51,2,   0.027,2,   0.020,2,   0.0000,2,  2309.7,2, 2402.67,2,   7.5707,2, -999.00,9, -999.00,9, -999.00,    38.9,2, -999.00,9,     -999.0,1,  -999.0,9, 20170804,      501, -32.5007,-164.4884,        0.0,1,      0.061,1,      4.700,1,      0.129,1,      25.01,     -999.0,9,     -999.0,9,     -999.0,9,     -999.0,9,     1.8018,2,     -999.0,9
320620170703,        P06,     120,          1,         10,         10,2,20170804,       0620,   -32.4998,  -164.4883,       5613,  2786.0,   1.8996,  34.6599,2,  34.6643,2, 148.6381,2, 148.2669,2,   128.7,2,   35.89,2,    0.00,2,    2.52,2,   0.027,2,   0.019,2,   0.0000,2,  2313.3,2, 2401.26,2,   7.5672,2, -999.00,9, -999.00,9, -999.00,  -999.0,9, -999.00,9,     -999.0,9,  -999.0,9, 20170804,      507, -32.5002,-164.4885,        0.0,1,      0.061,1,      4.700,1,      0.130,1,      25.02,     -999.0,9,     -999.0,9,     -999.0,9,     -999.0,9,     1.8791,2,     -999.0,9
320620170703,        P06,     120,          1,         11,         11,2,20170804,       0620,   -32.4998,  -164.4883,       5613,  2533.4,   1.9831,  34.6520,2,  34.6549,2, 146.8204,2, 147.0032,2,   125.6,2,   35.93,2,    0.00,2,    2.52,2,   0.027,2,   0.018,2,   0.0000,2,  2312.6,6, -999.00,9,   7.5650,2, -999.00,9, -999.00,9, -999.00,    38.2,2, -999.00,9,     -999.0,1,  -999.0,9, 20170804,      512, -32.5000,-164.4886,        0.0,1,      0.061,1,      4.701,1,      0.135,1,      25.02,     -999.0,9,     -999.0,9,     -999.0,9,     -999.0,9,     1.9609,2,     -999.0,9
320620170703,        P06,     120,          1,         12,         12,2,20170804,       0620,   -32.4998,  -164.4883,       5613,  2277.3,   2.1086,  34.6408,2,  34.6439,2, 146.4290,2, 147.8572,2,   119.9,2,   35.87,2,    0.00,2,    2.51,2,   0.030,2,   0.019,2,   0.0000,2,  2306.0,2, 2391.44,2,   7.5648,2, -999.00,9, -999.00,9, -999.00,  -999.0,9, -999.00,9,     -999.0,9,  -999.0,9, 20170804,      517, -32.5002,-164.4886,        0.0,1,      0.062,1,      4.701,1,      0.133,1,      25.01,     -999.0,9,     -999.0,9,     -999.0,9,     -999.0,9,     2.0912,2,     -999.0,9
320620170703,        P06,     120,          1,         13,         13,2,20170804,       0620,   -32.4998,  -164.4883,       5613,  2023.2,   2.2644,  34.6252,2,  34.6262,3, 148.9461,2, 150.3889,2,   110.4,2,   35.50,2,    0.00,2,    2.49,2,   0.029,2,   0.019,2,   0.0000,2,  2294.4,2, -999.00,9,   7.5658,2, -999.00,9, -999.00,9, -999.00,    35.6,2, -999.00,9,     -999.0,1,  -999.0,9, 20170804,      522, -32.5004,-164.4885,        0.0,1,      0.061,1,      4.701,1,      0.132,1,      25.01,     -999.0,9,     -999.0,9,     -999.0,9,     -999.0,9,     2.2625,2,     -999.0,9
320620170703,        P06,     120,          1,         14,         14,2,20170804,       0620,   -32.4998,  -164.4883,       5613,  1819.9,   2.4313,  34.6026,2,  34.6012,2, 153.2858,2, 154.2490,2,    99.6,2,   35.03,2,    0.00,2,    2.45,2,   0.030,2,   0.021,2,   0.0000,2,  2282.4,2, 2372.98,2,   7.5670,2, -999.00,9, -999.00,9, -999.00,    39.4,2, -999.00,9,     -999.0,1,  -999.0,9, 20170804,      527, -32.5000,-164.4886,        0.0,1,      0.061,1,      4.701,1,      0.133,1,      25.01,     -999.0,9,     -999.0,9,     -999.0,9,     -999.0,9,     2.4447,2,     -999.0,9
320620170703,        P06,     120,          1,         15,         15,2,20170804,       0620,   -32.4998,  -164.4883,       5613,  1614.4,   2.7026,  34.5499,2,  34.5512,2, 161.0625,2, 161.2098,2,    84.1,2,   34.80,2,    0.00,2,    2.42,2,   0.045,2,   0.029,2,   0.0000,2,  2267.4,2, -999.00,9,   7.5659,2, -999.00,9, -999.00,9, -999.00,    37.0,2, -999.00,9,     -999.0,1,  -999.0,9, 20170804,      531, -32.5002,-164.4885,        0.0,1,      0.061,1,      4.701,1,      0.133,1,      25.01,     -999.0,9,     -999.0,9,     -999.0,9,     -999.0,9,     2.7026,2,     -999.0,9
320620170703,        P06,     120,          1,         16,         16,2,20170804,       0620,   -32.4998,  -164.4883,       5613,  1412.2,   3.0971,  34.4660,2,  34.4606,2, 173.8768,2, 173.1004,2,    63.1,2,   34.20,2,    0.00,2,    2.37,2,   0.146,2,   0.087,2,   0.0000,2,  2241.7,2, 2324.40,6,   7.5716,2, -999.00,9, -999.00,9, -999.00,  -999.0,9, -999.00,9,     -999.0,9,  -999.0,9, 20170804,      535, -32.4999,-164.4886,        0.0,1,      0.061,1,      4.701,1,      0.134,1,      25.02,     -999.0,9,     -999.0,9,     -999.0,9,     -999.0,9,     3.1217,2,     -999.0,9
320620170703,        P06,     120,          1,         17,         17,2,20170804,       0620,   -32.4998,  -164.4883,       5613,  1312.6,   3.4308,  34.4094,2,  34.4133,2, 181.3716,2, 180.6761,2,    53.0,2,   33.63,2,    0.00,2,    2.32,2,   0.343,2,   0.176,2,   0.0000,2,  2227.3,2, -999.00,9,   7.5801,2, -999.00,9, -999.00,9, -999.00,  -999.0,9, -999.00,9,     -999.0,9,  -999.0,9, 20170804,      538, -32.5000,-164.4886,        0.0,1,      0.061,1,      4.701,1,      0.135,1,      25.03,     -999.0,9,     -999.0,9,     -999.0,9,     -999.0,9,     3.4178,2,     -999.0,9
320620170703,        P06,     120,          1,         18,         18,2,20170804,       0620,   -32.4998,  -164.4883,       5613,  1210.6,   3.8365,  34.3667,2,  34.3653,2, 190.9673,2, 189.9914,2,    42.2,2,   32.68,2,    0.00,2,    2.23,2,   0.688,2,   0.356,2,   0.1220,2,  2211.9,2, 2302.86,2,   7.5949,2, -999.00,9, -999.00,9, -999.00,    41.7,2, -999.00,9,     -999.0,1,  -999.0,9, 20170804,      541, -32.5001,-164.4886,        0.0,1,      0.061,1,      4.701,1,      0.133,1,      25.02,     -999.0,9,     -999.0,9,     -999.0,9,     -999.0,9,     3.8638,2,     -999.0,9
320620170703,        P06,     120,          1,         19,         19,2,20170804,       0620,   -32.4998,  -164.4883,       5613,  1109.5,   4.4143,  34.3339,2,  34.3307,2, 201.2221,2, 200.1685,2,    31.1,2,   31.01,2,    0.00,2,    2.11,2,   1.042,6,   0.488,6,   0.1175,6,  2194.6,2, 2293.44,2,   7.6190,2, -999.00,9, -999.00,9, -999.00,  -999.0,9, -999.00,9,     -999.0,9,  -999.0,9, 20170804,      544, -32.5002,-164.4886,        0.0,1,      0.060,1,      4.701,1,      0.134,1,      25.03,     -999.0,9,     -999.0,9,     -999.0,9,     -999.0,9,     4.4706,2,     -999.0,9
320620170703,        P06,     120,          1,         20,         20,2,20170804,       0620,   -32.4998,  -164.4883,       5613,  1009.0,   4.9883,  34.3179,2,  34.3172,2, 209.1103,2, 209.2134,2,    23.0,2,   29.29,2,    0.00,2,    1.97,2,   1.433,2,   0.697,2,   0.2980,2,  2180.3,2, 2286.44,2,   7.6396,2, -999.00,9, -999.00,9, -999.00,    38.4,2, -999.00,9,     -999.0,1,  -999.0,9, 20170804,      547, -32.5002,-164.4886,        0.0,1,      0.060,1,      4.700,1,      0.135,1,      25.01,     -999.0,9,     -999.0,9,     -999.0,9,     -999.0,9,     5.0088,2,     -999.0,9
320620170703,        P06,     120,          1,         21,         21,2,20170804,       0620,   -32.4998,  -164.4883,       5613,   907.4,   5.6050,  34.3139,2,  34.3144,2, 221.5138,2, 220.9633,2,    15.9,2,   27.13,2,    0.00,2,    1.83,2,   2.042,2,   0.989,2,   0.2950,2,  2165.8,2, 2281.08,2,   7.6659,2, -999.00,9, -999.00,9, -999.00,  -999.0,9, -999.00,9,     -999.0,9,  -999.0,9, 20170804,      550, -32.5001,-164.4886,        0.0,1,      0.059,1,      4.700,1,      0.135,1,      25.02,     -999.0,9,     -999.0,9,     -999.0,9,     -999.0,9,     5.6129,2,     -999.0,9
320620170703,        P06,     120,          1,         22,         22,2,20170804,       0620,   -32.4998,  -164.4883,       5613,   806.7,   6.1403,  34.3251,2,  34.3254,2, 231.0121,2, 231.6706,2,    10.9,2,   25.10,2,    0.00,2,    1.68,2,   2.655,2,   1.336,2,   0.4930,2,  2154.0,2, -999.00,9,   7.6881,2, -999.00,9, -999.00,9, -999.00,    39.1,2, -999.00,9,     -999.0,1,  -999.0,9, 20170804,      552, -32.5001,-164.4886,        0.0,1,      0.059,1,      4.699,1,      0.135,1,      25.02,     -999.0,9,     -999.0,9,     -999.0,9,     -999.0,9,     6.1448,2,     -999.0,9
320620170703,        P06,     120,          1,         23,         23,2,20170804,       0620,   -32.4998,  -164.4883,       5613,   704.8,   6.6487,  34.3528,2,  34.3531,2, 236.2767,2, 237.3807,2,     8.1,2,   23.30,2,    0.00,2,    1.55,2,   3.268,2,   1.638,2,   0.6200,2,  2148.5,2, 2278.15,2,   7.7026,2, -999.00,9, -999.00,9, -999.00,    41.6,2, -999.00,9,     -999.0,1,  -999.0,9, 20170804,      555, -32.5001,-164.4886,        0.0,1,      0.058,1,      4.699,1,      0.138,1,      25.02,     -999.0,9,     -999.0,9,     -999.0,9,     -999.0,9,     6.6527,2,     -999.0,9
320620170703,        P06,     120,          1,         24,         24,2,20170804,       0620,   -32.4998,  -164.4883,       5613,   605.1,   7.2212,  34.3974,2,  34.3943,2, 237.6680,2, 239.2319,2,     6.3,2,   21.60,2,    0.00,2,    1.44,2,   3.563,2,   1.864,2,   0.8870,2,  2144.8,6, 2277.42,2,   7.7119,2, -999.00,9, -999.00,9, -999.00,    41.6,2, -999.00,9,     -999.0,1,  -999.0,9, 20170804,      558, -32.5000,-164.4886,        0.0,1,      0.059,1,      4.697,1,      0.138,1,      25.02,     -999.0,9,     -999.0,9,     -999.0,9,     -999.0,9,     7.2110,2,     -999.0,9
320620170703,        P06,     120,          1,         25,         25,2,20170804,       0620,   -32.4998,  -164.4883,       5613,   503.2,   7.9625,  34.4656,2,  34.4669,2, 234.5676,2, 235.0928,2,     4.8,2,   19.51,2,    0.00,2,    1.31,2,   3.494,2,   1.867,2,   1.1990,2,  2141.4,2, 2277.48,2,   7.7223,2, -999.00,9, -999.00,9, -999.00,    41.9,2, -999.00,9,     -999.0,1,  -999.0,9, 20170804,      601, -32.5002,-164.4886,        0.0,1,      0.059,1,      4.696,1,      0.138,1,      25.01,     -999.0,9,     -999.0,9,     -999.0,9,     -999.0,9,     7.9679,2,     -999.0,9
320620170703,        P06,     120,          1,         26,         26,2,20170804,       0620,   -32.4998,  -164.4883,       5613,   400.5,   9.3906,  34.6051,2,  34.6229,3, 220.7664,2, 219.7915,2,     3.6,2,   16.58,2,    0.00,2,    1.11,2,   3.201,2,   1.746,2,   1.1360,2,  2137.1,2, -999.00,9,   7.7442,2, -999.00,9, -999.00,9, -999.00,    46.1,3,   18.90,2,     -999.0,1,  -999.0,9, 20170804,      603, -32.4999,-164.4885,        0.0,1,      0.060,1,      4.695,1,      0.137,1,      25.02,     -999.0,9,     -999.0,9,     -999.0,9,     -999.0,9,     9.4389,2,     -999.0,9
320620170703,        P06,     120,          1,         27,         27,2,20170804,       0620,   -32.4998,  -164.4883,       5613,   352.0,  10.0642,  34.6646,2,  34.6779,2, 213.5606,2, 212.6935,2,     3.1,2,   15.19,2,    0.00,2,    1.05,2,   3.102,2,   1.678,2,   1.1460,2,  2133.2,2, -999.00,9,   7.7573,2, -999.00,9, -999.00,9, -999.00,  -999.0,9, -999.00,9,     -999.0,9,  -999.0,9, 20170804,      605, -32.4997,-164.4884,        0.0,1,      0.059,1,      4.694,1,      0.140,1,      25.02,     -999.0,9,     -999.0,9,     -999.0,9,     -999.0,9,    10.2923,2,     -999.0,9
320620170703,        P06,     120,          1,         28,         28,2,20170804,       0620,   -32.4998,  -164.4883,       5613,   303.3,  11.3939,  34.8129,2,  34.8033,3, 210.1362,3, 207.9959,2,     2.5,2,   12.95,2,    0.00,2,    0.90,2,   2.803,2,   1.639,2,   1.0810,2,  2127.1,2, 2291.02,2,   7.7814,2, -999.00,9, -999.00,9, -999.00,    44.4,3,   15.30,2,     -999.0,1,  -999.0,9, 20170804,      607, -32.4998,-164.4884,        0.0,1,      0.059,1,      4.692,1,      0.134,1,      25.04,     -999.0,9,     -999.0,9,     -999.0,9,     -999.0,9,    11.3139,2,     -999.0,9
320620170703,        P06,     120,          1,         29,         29,2,20170804,       0620,   -32.4998,  -164.4883,       5613,   251.1,  13.1052,  35.0588,2,  35.0014,2, 208.2964,2, 207.7877,2,     1.9,2,    9.91,2,    0.00,2,    0.68,2,   2.794,2,   1.551,2,   1.1960,2,  2118.8,2, 2300.11,2,   7.8189,2, -999.00,9, -999.00,9, -999.00,    48.5,3,   12.60,2,     -999.0,1,  -999.0,9, 20170804,      610, -32.4998,-164.4884,        0.0,1,      0.060,1,      4.691,1,      0.135,1,      25.03,     -999.0,9,     -999.0,9,     -999.0,9,     -999.0,9,    12.8964,2,     -999.0,9
320620170703,        P06,     120,          1,         30,         30,2,20170804,       0620,   -32.4998,  -164.4883,       5613,   200.6,  13.9300,  35.1798,2,  35.2160,3, 208.9882,2, 209.8886,2,     1.2,2,    6.58,2,    0.00,2,    0.48,2,   2.589,2,   1.487,2,   1.2480,2,  2108.2,2, 2309.34,2,   7.8607,2, -999.00,9, -999.00,9, -999.00,    42.4,2,    9.20,2,     -999.0,1,  -999.0,9, 20170804,      611, -32.4997,-164.4884,        0.0,1,      0.060,1,      4.690,1,      0.136,1,      25.03,     -999.0,9,     -999.0,9,     -999.0,9,     -999.0,9,    14.3285,2,     -999.0,9
320620170703,        P06,     120,          1,         31,         31,2,20170804,       0620,   -32.4998,  -164.4883,       5613,   149.2,  15.0168,  35.3255,2,  35.3764,2, 212.2604,3, 214.4489,2,     0.7,2,    4.20,2,    0.03,2,    0.33,2,   2.428,2,   1.432,2,   1.4010,2,  2099.2,2, 2319.50,2,   7.8940,2, -999.00,9, -999.00,9, -999.00,    52.2,2,    6.70,2,     -999.0,1,  -999.0,9, 20170804,      613, -32.4998,-164.4884,        0.0,1,      0.070,1,      4.686,1,      0.140,1,      25.03,     -999.0,9,     -999.0,9,     -999.0,9,     -999.0,9,    15.4780,2,     -999.0,9
320620170703,        P06,     120,          1,         32,         32,2,20170804,       0620,   -32.4998,  -164.4883,       5613,    99.7,  17.0025,  35.5676,2,  35.6094,2, 236.0683,3, 231.4761,2,     0.1,2,    0.36,2,    0.04,2,    0.07,2,   2.234,2,   1.317,2,   1.4870,2,  2071.8,2, 2335.02,2,   7.9720,2, -999.00,9, -999.00,9, -999.00,    57.3,2,    3.70,2,     -999.0,1,  -999.0,9, 20170804,      615, -32.4999,-164.4885,        0.0,1,      0.110,1,      4.662,1,      0.162,1,      25.03,     -999.0,9,     -999.0,9,     -999.0,9,     -999.0,9,    17.2540,2,     -999.0,9