BOTTLE,20230922CCHSIOCBG
EXPOCODE,SECT_ID,STNNBR,CASTNO,SAMPNO,BTLNBR,BTLNBR_FLAG_W,DATE,TIME,LATITUDE,LONGITUDE,DEPTH,CTDPRS,CTDTMP,CTDSAL,CTDSAL_FLAG_W,SALNTY,SALNTY_FLAG_W,CTDOXY,CTDOXY_FLAG_W,OXYGEN,OXYGEN_FLAG_W,SILCAT,SILCAT_FLAG_W,NITRAT,NITRAT_FLAG_W,NITRIT,NITRIT_FLAG_W,PHSPHT,PHSPHT_FLAG_W,CFC-11,CFC-11_FLAG_W,CFC-12,CFC-12_FLAG_W,SF6,SF6_FLAG_W,TCARBN,TCARBN_FLAG_W,ALKALI,ALKALI_FLAG_W,PH_TOT,PH_TOT_FLAG_W,DELC13,DELC13_FLAG_W,DELC14,DELC14_FLAG_W,C14ERR,DOC,DOC_FLAG_W,TDN,TDN_FLAG_W,TON,TON_FLAG_W,D15N_NO3,D15N_NO3_FLAG_W,BTL_DATE,BTL_TIME,BTL_LAT,BTL_LON,CTDRINKO,CTDRINKO_FLAG_W,CTDFLUOR,CTDFLUOR_FLAG_W,CTDXMISS,CTDXMISS_FLAG_W,CTDBACKSCATTER,CTDBACKSCATTER_FLAG_W,PH_TMP,D18O_NO3,D18O_NO3_FLAG_W,DOP,DOP_FLAG_W,HPLC,HPLC_FLAG_W,POC,POC_FLAG_W,REFTMP,REFTMP_FLAG_W,TDP,TDP_FLAG_W
,,,,,,,,,,,METERS,DBAR,ITS-90,PSS-78,,PSS-78,,UMOL/KG,,UMOL/KG,,UMOL/KG,,UMOL/KG,,UMOL/KG,,UMOL/KG,,PMOL/KG,,PMOL/KG,,FMOL/KG,,UMOL/KG,,UMOL/KG,,,,/MILLE,,/MILLE,,/MILLE,UMOL/KG,,UMOL/KG,,UMOL/KG,,/MILLE,,,,,,VOLTS,,VOLTS,,VOLTS,,VOLTS,,DEGC,/MILLE,,UMOL/KG,,,,UG/L,,ITS-90,,UMOL/KG,
320620170703,        P06,     106,          1,          1,          1,2,20170731,       0059,   -32.4994,  -171.9197,       4293,  4358.6,   1.1157,  34.7133,2,  34.7121,2, 203.0114,2, 204.4562,2,   117.6,2,   31.76,2,    0.00,2,    2.22,2,   0.117,2,   0.065,2,   0.0000,2,  2263.3,6, 2892.16,4,   7.6063,2, -999.00,9, -999.00,9, -999.00,    42.0,2, -999.00,9,     -999.0,1,  -999.0,1, 20170730,     2257, -32.4997,-171.9198,        0.0,1,      0.061,1,      4.699,1,      0.131,1,      25.01,     -999.0,1,     -999.0,9,     -999.0,9,     -999.0,9,     1.1163,2,     -999.0,9
320620170703,        P06,     106,          1,          2,          2,2,20170731,       0059,   -32.4994,  -171.9197,       4293,  4210.2,   1.1616,  34.7149,2,  34.7174,2, 203.0114,2, 203.5977,2,   116.4,2,   31.71,2,    0.00,2,    2.22,2,   0.105,2,   0.063,2,   0.0000,2,  2260.5,2, 2361.90,2,   7.6063,2, -999.00,9, -999.00,9, -999.00,  -999.0,9, -999.00,9,     -999.0,9,  -999.0,1, 20170730,     2303, -32.4997,-171.9197,        0.0,1,      0.061,1,      4.700,1,      0.131,1,      25.03,     -999.0,1,     -999.0,9,     -999.0,9,     -999.0,9,     1.1559,2,     -999.0,9
320620170703,        P06,     106,          1,          3,          3,2,20170731,       0059,   -32.4994,  -171.9197,       4293,  4066.4,   1.2135,  34.7161,2,  34.7146,2, 203.2749,2, 201.9808,2,   115.0,2,   31.67,2,    0.00,2,    2.21,2,   0.097,2,   0.059,2,   0.0000,2,  2262.9,2, 2362.86,2,   7.6052,2, -999.00,9, -999.00,9, -999.00,    38.6,2, -999.00,9,     -999.0,1,  -999.0,1, 20170730,     2308, -32.4997,-171.9196,        0.0,1,      0.060,1,      4.700,1,      0.131,1,      25.02,     -999.0,1,     -999.0,9,     -999.0,9,     -999.0,9,     1.2000,2,     -999.0,9
320620170703,        P06,     106,          1,          4,          4,2,20170731,       0059,   -32.4994,  -171.9197,       4293,  3762.7,   1.3651,  34.7166,2,  34.7150,2, 197.2050,2, 196.3834,2,   112.5,2,   31.82,2,    0.00,2,    2.22,2,   0.078,2,   0.051,2,   0.0000,2,  2264.6,2, 2365.91,2,   7.6032,2, -999.00,9, -999.00,9, -999.00,  -999.0,9, -999.00,9,     -999.0,9,  -999.0,1, 20170730,     2316, -32.4997,-171.9197,        0.0,1,      0.061,1,      4.701,1,      0.130,1,      25.02,     -999.0,1,     -999.0,9,     -999.0,9,     -999.0,9,     1.3599,2,     -999.0,9
320620170703,        P06,     106,          1,          5,          5,2,20170731,       0059,   -32.4994,  -171.9197,       4293,  3453.0,   1.5599,  34.7094,2,  34.7087,2, 185.4939,2, 185.2550,2,   113.1,2,   32.41,2,    0.00,2,    2.26,2,   0.056,2,   0.039,2,   0.0000,2,  2275.1,2, 2368.84,2,   7.5961,2, -999.00,9, -999.00,9, -999.00,    37.2,2, -999.00,9,     -999.0,1,  -999.0,1, 20170730,     2324, -32.4996,-171.9198,        0.0,1,      0.061,1,      4.701,1,      0.129,1,      25.01,     -999.0,1,     -999.0,9,     -999.0,9,     -999.0,9,     1.5477,2,     -999.0,9
320620170703,        P06,     106,          1,          6,          6,2,20170731,       0059,   -32.4994,  -171.9197,       4293,  3145.9,   1.7707,  34.6792,2,  34.6798,2, 161.2039,2, 160.7675,2,   124.6,2,   34.60,2,    0.00,2,    2.42,2,   0.038,2,   0.028,2,   0.0000,2,  2303.0,2, 2390.54,2,   7.5774,2, -999.00,9, -999.00,9, -999.00,    37.7,2, -999.00,9,     -999.0,1,  -999.0,1, 20170730,     2331, -32.4994,-171.9200,        0.0,1,      0.061,1,      4.701,1,      0.131,1,      25.02,     -999.0,1,     -999.0,9,     -999.0,9,     -999.0,9,     1.7542,2,     -999.0,9
320620170703,        P06,     106,          1,          7,          7,2,20170731,       0059,   -32.4994,  -171.9197,       4293,  2875.9,   1.8804,  34.6647,2,  34.6641,2, 151.1088,2, 150.5119,2,   127.4,2,   35.53,2,    0.00,2,    2.49,2,   0.033,2,   0.025,2,   0.0000,2,  2311.3,2, 2399.76,2,   7.5673,2, -999.00,9, -999.00,9, -999.00,  -999.0,9, -999.00,9,     -999.0,9,  -999.0,1, 20170730,     2337, -32.4995,-171.9198,        0.0,1,      0.061,1,      4.701,1,      0.130,1,      25.02,     -999.0,1,     -999.0,9,     -999.0,9,     -999.0,9,     1.8837,2,     -999.0,9
320620170703,        P06,     106,          1,          8,          8,2,20170731,       0059,   -32.4994,  -171.9197,       4293,  2619.4,   1.9871,  34.6540,2,  34.6519,2, 147.7559,2, 147.9082,2,   124.7,2,   35.68,2,    0.00,2,    2.51,2,   0.031,2,   0.024,2,   0.0000,2,  2313.0,6, 2397.94,2,   7.5657,2, -999.00,9, -999.00,9, -999.00,    46.4,3, -999.00,9,     -999.0,1,  -999.0,1, 20170730,     2343, -32.4994,-171.9199,        0.0,1,      0.061,1,      4.701,1,      0.135,1,      25.02,     -999.0,1,     -999.0,9,     -999.0,9,     -999.0,9,     1.9907,2,     -999.0,9
320620170703,        P06,     106,          1,          9,          9,2,20170731,       0059,   -32.4994,  -171.9197,       4293,  2363.9,   2.1159,  34.6422,2,  34.6409,2, 147.3115,2, 148.0664,2,   119.5,2,   35.56,2,    0.00,2,    2.50,2,   0.033,2,   0.026,2,   0.0000,2,  2308.5,2, 2392.13,2,   7.5645,2, -999.00,9, -999.00,9, -999.00,  -999.0,9, -999.00,9,     -999.0,9,  -999.0,1, 20170730,     2349, -32.4993,-171.9201,        0.0,1,      0.062,1,      4.701,1,      0.133,1,      25.01,     -999.0,1,     -999.0,9,     -999.0,9,     -999.0,9,     2.1131,2,     -999.0,9
320620170703,        P06,     106,          1,         10,         10,2,20170731,       0059,   -32.4994,  -171.9197,       4293,  2112.8,   2.2682,  34.6273,2,  34.6252,2, 149.4326,2, 150.0504,2,   111.4,2,   35.26,2,    0.00,2,    2.48,2,   0.032,2,   0.025,2,   0.0000,2,  2299.6,2, 2381.28,2,   7.5654,2, -999.00,9, -999.00,9, -999.00,    38.3,2, -999.00,9,     -999.0,1,  -999.0,1, 20170730,     2354, -32.4994,-171.9197,        0.0,1,      0.061,1,      4.701,1,      0.133,1,      25.02,     -999.0,1,     -999.0,9,     -999.0,9,     -999.0,9,     2.2687,2,     -999.0,9
320620170703,        P06,     106,          1,         11,         11,2,20170731,       0059,   -32.4994,  -171.9197,       4293,  1887.2,   2.4385,  34.6036,2,  34.6054,2, 152.5363,2, 153.0374,2,   103.1,2,   34.97,2,    0.00,2,    2.45,2,   0.036,2,   0.027,2,   0.0000,2,  2289.0,2, 2375.79,2,   7.5668,2, -999.00,9, -999.00,9, -999.00,    34.4,2, -999.00,9,     -999.0,1,  -999.0,1, 20170730,     2359, -32.4996,-171.9196,        0.0,1,      0.061,1,      4.701,1,      0.134,1,      25.02,     -999.0,1,     -999.0,9,     -999.0,9,     -999.0,9,     2.4142,2,     -999.0,9
320620170703,        P06,     106,          1,         12,         12,2,20170731,       0059,   -32.4994,  -171.9197,       4293,  1683.0,   2.7903,  34.5402,2,  34.5537,2, 160.1134,2, 160.3446,2,    85.6,2,   34.51,2,    0.00,2,    2.40,2,   0.055,2,   0.038,2,   0.0000,2,  2269.6,2, 2357.04,2,   7.5681,2, -999.00,9, -999.00,9, -999.00,    50.0,3, -999.00,9,     -999.0,1,  -999.0,1, 20170731,        3, -32.4995,-171.9197,        0.0,1,      0.061,1,      4.702,1,      0.135,1,      25.02,     -999.0,1,     -999.0,9,     -999.0,9,     -999.0,9,     2.7138,2,     -999.0,9
320620170703,        P06,     106,          1,         13,         13,2,20170731,       0059,   -32.4994,  -171.9197,       4293,  1551.3,   2.9730,  34.5013,2,  34.5111,2, 166.5431,2, 166.6590,2,    74.0,2,   34.17,2,    0.00,2,    2.37,2,   0.102,2,   0.064,2,   0.0000,2,  2256.2,2, 2338.19,2,   7.5707,2, -999.00,9, -999.00,9, -999.00,    39.0,2, -999.00,9,     -999.0,1,  -999.0,1, 20170731,        7, -32.4994,-171.9198,        0.0,1,      0.061,1,      4.702,1,      0.137,1,      25.03,     -999.0,1,     -999.0,9,     -999.0,9,     -999.0,9,     2.9308,2,     -999.0,9
320620170703,        P06,     106,          1,         14,         14,2,20170731,       0059,   -32.4994,  -171.9197,       4293,  1452.4,   3.1654,  34.4638,2,  34.4657,2, 171.9791,2, 172.3530,2,    63.7,2,   33.83,2,    0.00,2,    2.35,2,   0.173,2,   0.101,2,   0.0000,2,  2242.4,2, 2325.69,2,   7.5725,2, -999.00,9, -999.00,9, -999.00,  -999.0,9, -999.00,9,     -999.0,9,  -999.0,1, 20170731,        9, -32.4993,-171.9200,        0.0,1,      0.061,1,      4.702,1,      0.137,1,      25.01,     -999.0,1,     -999.0,9,     -999.0,9,     -999.0,9,     3.1556,2,     -999.0,9
320620170703,        P06,     106,          1,         15,         15,2,20170731,       0059,   -32.4994,  -171.9197,       4293,  1347.4,   3.3776,  34.4305,2,  34.4316,2, 177.5273,2, 177.2728,2,    56.8,2,   33.52,2,    0.00,2,    2.31,2,   0.249,2,   0.138,2,   0.0000,2,  2233.9,2, 2319.77,2,   7.5777,2, -999.00,9, -999.00,9, -999.00,    37.1,2, -999.00,9,     -999.0,1,  -999.0,1, 20170731,       12, -32.4993,-171.9200,        0.0,1,      0.060,1,      4.702,1,      0.135,1,      25.03,     -999.0,1,     -999.0,9,     -999.0,9,     -999.0,9,     3.3500,2,     -999.0,9
320620170703,        P06,     106,          1,         16,         16,2,20170731,       0059,   -32.4994,  -171.9197,       4293,  1247.0,   3.8432,  34.3747,2,  34.3751,2, 187.4385,2, 187.4512,2,    44.2,2,   32.52,2,    0.00,2,    2.23,2,   0.545,2,   0.273,2,   0.0000,2,  2216.8,2, 2305.82,2,   7.5971,2, -999.00,9, -999.00,9, -999.00,  -999.0,9, -999.00,9,     -999.0,9,  -999.0,1, 20170731,       15, -32.4993,-171.9200,        0.0,1,      0.060,1,      4.702,1,      0.134,1,      25.02,     -999.0,1,     -999.0,9,     -999.0,9,     -999.0,9,     3.8055,2,     -999.0,9
320620170703,        P06,     106,          1,         17,         17,2,20170731,       0059,   -32.4994,  -171.9197,       4293,  1146.5,   4.4257,  34.3461,2,  34.3458,2, 196.7859,2, 196.9375,2,    33.6,2,   30.95,2,    0.00,2,    2.12,2,   0.923,2,   0.451,2,   0.1410,2,  2200.9,2, 2296.39,2,   7.5777,2, -999.00,9, -999.00,9, -999.00,    40.5,2, -999.00,9,     -999.0,1,  -999.0,1, 20170731,       18, -32.4993,-171.9200,        0.0,1,      0.060,1,      4.701,1,      0.133,1,      25.03,     -999.0,1,     -999.0,9,     -999.0,9,     -999.0,9,     4.4200,2,     -999.0,9
320620170703,        P06,     106,          1,         18,         18,2,20170731,       0059,   -32.4994,  -171.9197,       4293,  1043.4,   5.0419,  34.3264,2,  34.3233,3, 208.9155,2, 208.0051,2,    23.1,2,   28.92,2,    0.00,2,    1.97,2,   1.411,2,   0.666,2,   0.2050,2,  2180.4,2, 2287.59,2,   7.6423,2, -999.00,9, -999.00,9, -999.00,  -999.0,9, -999.00,9,     -999.0,9,  -999.0,1, 20170731,       21, -32.4993,-171.9199,        0.0,1,      0.059,1,      4.700,1,      0.138,1,      25.03,     -999.0,1,     -999.0,9,     -999.0,9,     -999.0,9,     5.0948,2,     -999.0,9
320620170703,        P06,     106,          1,         19,         19,2,20170731,       0059,   -32.4994,  -171.9197,       4293,   942.9,   5.6086,  34.3197,2,  34.3203,2, 223.0224,2, 222.9188,2,    14.5,2,   26.32,2,    0.00,2,    1.78,2,   2.125,2,   1.019,2,   0.4060,2,  2162.6,2, 2280.36,2,   7.6736,2, -999.00,9, -999.00,9, -999.00,    44.6,2, -999.00,9,     -999.0,1,  -999.0,1, 20170731,       24, -32.4994,-171.9197,        0.0,1,      0.059,1,      4.700,1,      0.139,1,      25.01,     -999.0,1,     -999.0,9,     -999.0,9,     -999.0,9,     5.7976,2,     -999.0,9
320620170703,        P06,     106,          1,         20,         20,2,20170731,       0059,   -32.4994,  -171.9197,       4293,   844.7,   6.1437,  34.3336,2,  34.3435,2, 231.5948,2, 231.8159,2,     9.8,2,   24.33,2,    0.00,2,    1.63,2,   2.906,2,   1.376,2,   0.5730,2,  2152.4,2, 2278.82,2,   7.6939,2, -999.00,9, -999.00,9, -999.00,  -999.0,9, -999.00,9,     -999.0,9,  -999.0,1, 20170731,       27, -32.4994,-171.9196,        0.0,1,      0.059,1,      4.699,1,      0.139,1,      25.03,     -999.0,1,     -999.0,9,     -999.0,9,     -999.0,9,     6.4261,2,     -999.0,9
320620170703,        P06,     106,          1,         21,         21,2,20170731,       0059,   -32.4994,  -171.9197,       4293,   741.2,   6.7720,  34.3713,2,  34.3790,2, 233.9839,2, 234.3414,2,     7.6,2,   22.83,2,    0.00,2,    1.52,2,   3.367,2,   1.645,2,   0.7960,2,  2148.9,6, 2277.85,2,   7.7037,2, -999.00,9, -999.00,9, -999.00,    49.3,3, -999.00,9,     -999.0,1,  -999.0,1, 20170731,       30, -32.4994,-171.9197,        0.0,1,      0.059,1,      4.698,1,      0.140,1,      25.02,     -999.0,1,     -999.0,9,     -999.0,9,     -999.0,9,     6.9322,2,     -999.0,9
320620170703,        P06,     106,          1,         22,         22,2,20170731,       0059,   -32.4994,  -171.9197,       4293,   640.5,   7.5201,  34.4303,2,  34.4212,2, 233.7884,2, 234.4600,2,     6.2,2,   21.42,2,    0.00,2,    1.44,2,   3.556,2,   1.783,2,   0.8670,2,  2145.3,2, 2277.86,2,   7.7104,2, -999.00,9, -999.00,9, -999.00,    43.2,2, -999.00,9,     -999.0,1,  -999.0,1, 20170731,       32, -32.4994,-171.9196,        0.0,1,      0.059,1,      4.696,1,      0.145,1,      25.03,     -999.0,1,     -999.0,9,     -999.0,9,     -999.0,9,     7.3866,2,     -999.0,9
320620170703,        P06,     106,          1,         23,         23,2,20170731,       0059,   -32.4994,  -171.9197,       4293,   539.2,   8.6711,  34.5468,2,  34.5007,2, 227.4038,2, 227.5084,2,     4.8,2,   19.30,2,    0.00,2,    1.31,2,   3.518,2,   1.805,2,   1.0680,2,  2143.5,2, 2281.10,2,   7.7230,2, -999.00,9, -999.00,9, -999.00,    43.5,2, -999.00,9,     -999.0,1,  -999.0,1, 20170731,       35, -32.4995,-171.9194,        0.0,1,      0.060,1,      4.694,1,      0.144,1,      25.02,     -999.0,1,     -999.0,9,     -999.0,9,     -999.0,9,     8.2716,2,     -999.0,9
320620170703,        P06,     106,          1,         24,         24,2,20170731,       0059,   -32.4994,  -171.9197,       4293,   469.1,   9.9951,  34.7119,2,  34.6075,2, 220.6236,2, 220.8645,2,     3.9,2,   17.08,2,    0.00,2,    1.17,2,   3.353,2,   1.773,2,   1.1600,2,  2139.3,2, 2282.25,2,   7.7371,2, -999.00,9, -999.00,9, -999.00,    44.3,2, -999.00,9,     -999.0,1,  -999.0,1, 20170731,       38, -32.4995,-171.9193,        0.0,1,      0.060,1,      4.693,1,      0.142,1,      25.02,     -999.0,1,     -999.0,9,     -999.0,9,     -999.0,9,     9.2816,2,     -999.0,9
320620170703,        P06,     106,          1,         25,         25,2,20170731,       0059,   -32.4994,  -171.9197,       4293,   417.3,  10.9296,  34.8285,2,  34.7480,2, 215.9856,2, 215.7896,2,     3.3,2,   14.70,2,    0.00,2,    1.03,2,   3.158,2,   1.694,2,   1.1570,2,  2133.7,2, -999.00,9,   7.7600,2, -999.00,9, -999.00,9, -999.00,    49.7,2, -999.00,9,     -999.0,1,  -999.0,1, 20170731,       40, -32.4995,-171.9193,        0.0,1,      0.061,1,      4.692,1,      0.141,1,      25.02,     -999.0,1,     -999.0,9,     -999.0,9,     -999.0,9,    10.3855,2,     -999.0,9
320620170703,        P06,     106,          1,         26,         26,2,20170731,       0059,   -32.4994,  -171.9197,       4293,   368.2,  11.9945,  34.9626,2,  34.8631,2, 213.5028,2, 212.9742,2,     2.8,2,   12.68,2,    0.00,2,    0.90,2,   3.012,2,   1.644,2,   1.2400,2,  2128.9,2, 2291.58,2,   7.7808,2, -999.00,9, -999.00,9, -999.00,    50.7,2, -999.00,9,     -999.0,1,  -999.0,1, 20170731,       42, -32.4995,-171.9192,        0.0,1,      0.059,1,      4.692,1,      0.141,1,      25.03,     -999.0,1,     -999.0,1,     -999.0,9,     -999.0,9,    11.2428,2,     -999.0,9
320620170703,        P06,     106,          1,         27,         27,2,20170731,       0059,   -32.4994,  -171.9197,       4293,   317.5,  13.1700,  35.1022,2,  34.9955,2, 209.3039,2, 208.2894,2,     2.4,2,   10.58,2,    0.00,2,    0.77,2,   2.888,2,   1.579,2,   1.2930,2,  2123.1,2, -999.00,9,   7.8057,2, -999.00,9, -999.00,9, -999.00,  -999.0,9, -999.00,9,     -999.0,9,  -999.0,1, 20170731,       44, -32.4995,-171.9193,        0.0,1,      0.059,1,      4.691,1,      0.140,1,      25.01,     -999.0,1,     -999.0,1,     -999.0,9,     -999.0,9,    12.3264,2,     -999.0,9
320620170703,        P06,     106,          1,         28,         28,2,20170731,       0059,   -32.4994,  -171.9197,       4293,   266.4,  14.2105,  35.2333,2,  35.1725,3, 208.0255,2, 207.0848,2,     1.7,2,    7.81,2,    0.00,2,    0.61,2,   2.714,2,   1.520,2,   1.2410,2,  2114.6,2, 2310.12,2,   7.8430,2, -999.00,9, -999.00,9, -999.00,    47.9,2, -999.00,9,     -999.0,1,  -999.0,1, 20170731,       46, -32.4995,-171.9193,        0.0,1,      0.059,1,      4.691,1,      0.139,1,      25.02,     -999.0,1,     -999.0,1,     -999.0,9,     -999.0,9,    13.7372,2,       0.78,2
320620170703,        P06,     106,          1,         29,         29,2,20170731,       0059,   -32.4994,  -171.9197,       4293,   216.8,  15.3051,  35.3747,2,  35.3293,2, 207.7180,2, 207.5375,2,     1.1,2,    5.69,2,    0.02,2,    0.45,2,   2.582,2,   1.463,2,   1.2830,2,  2106.0,2, 2312.18,6,   7.8763,2, -999.00,9, -999.00,9, -999.00,    48.9,2, -999.00,5,     -999.0,1,  -999.0,1, 20170731,       48, -32.4995,-171.9193,        0.0,1,      0.061,1,      4.688,1,      0.138,1,      25.02,     -999.0,1,     -999.0,1,     -999.0,9,     -999.0,9,    14.9899,2,     -999.0,9
320620170703,        P06,     106,          1,         30,         30,2,20170731,       0059,   -32.4994,  -171.9197,       4293,   166.5,  16.7183,  35.5602,2,  35.4973,2, 209.7394,2, 210.2502,2,     0.5,2,    3.38,2,    0.03,2,    0.32,2,   2.428,6,   1.386,6,   1.3705,6,  2093.8,2, -999.00,9,   7.9118,2, -999.00,9, -999.00,9, -999.00,    49.1,2, -999.00,5,     -999.0,1,  -999.0,1, 20170731,       50, -32.4995,-171.9194,        0.0,1,      0.111,1,      4.662,1,      0.174,1,      25.03,     -999.0,1,     -999.0,1,     -999.0,9,     -999.0,9,    16.3882,2,       0.48,2
320620170703,        P06,     106,          1,         31,         31,2,20170731,       0059,   -32.4994,  -171.9197,       4293,   135.9,  17.5469,  35.6924,2,  35.6903,2, 231.0180,2, 231.3694,2,     0.1,2,    0.34,2,    0.04,2,    0.10,2,   2.306,2,   1.304,2,   1.3150,2,  2072.3,2, 2336.90,2,   7.9765,2, -999.00,9, -999.00,9, -999.00,    59.4,2, -999.00,5,     -999.0,1,  -999.0,1, 20170731,       51, -32.4995,-171.9194,        0.0,1,      0.171,1,      4.636,1,      0.204,1,      25.03,     -999.0,1,     -999.0,1,     -999.0,9,     -999.0,9,    17.5391,2,     -999.0,9
320620170703,        P06,     106,          1,         32,         32,2,20170731,       0059,   -32.4994,  -171.9197,       4293,   110.4,  17.5513,  35.6943,2,  35.6915,2, 230.8825,2, 231.6561,2,     0.1,2,    0.32,2,    0.04,2,    0.10,2,   2.285,2,   1.290,2,   1.4280,2,  2070.5,2, 2338.14,2,   7.9778,2, -999.00,9, -999.00,9, -999.00,  -999.0,9, -999.00,9,     -999.0,9,  -999.0,1, 20170731,       53, -32.4994,-171.9195,        0.0,1,      0.172,1,      4.636,1,      0.202,1,      25.02,     -999.0,1,     -999.0,1,     -999.0,9,     -999.0,9,    17.5430,2,       0.28,2