BOTTLE,20230922CCHSIOCBG
EXPOCODE,SECT_ID,STNNBR,CASTNO,SAMPNO,BTLNBR,BTLNBR_FLAG_W,DATE,TIME,LATITUDE,LONGITUDE,DEPTH,CTDPRS,CTDTMP,CTDSAL,CTDSAL_FLAG_W,SALNTY,SALNTY_FLAG_W,CTDOXY,CTDOXY_FLAG_W,OXYGEN,OXYGEN_FLAG_W,SILCAT,SILCAT_FLAG_W,NITRAT,NITRAT_FLAG_W,NITRIT,NITRIT_FLAG_W,PHSPHT,PHSPHT_FLAG_W,CFC-11,CFC-11_FLAG_W,CFC-12,CFC-12_FLAG_W,SF6,SF6_FLAG_W,TCARBN,TCARBN_FLAG_W,ALKALI,ALKALI_FLAG_W,PH_TOT,PH_TOT_FLAG_W,DELC13,DELC13_FLAG_W,DELC14,DELC14_FLAG_W,C14ERR,DOC,DOC_FLAG_W,TDN,TDN_FLAG_W,TON,TON_FLAG_W,D15N_NO3,D15N_NO3_FLAG_W,BTL_DATE,BTL_TIME,BTL_LAT,BTL_LON,CTDRINKO,CTDRINKO_FLAG_W,CTDFLUOR,CTDFLUOR_FLAG_W,CTDXMISS,CTDXMISS_FLAG_W,CTDBACKSCATTER,CTDBACKSCATTER_FLAG_W,PH_TMP,D18O_NO3,D18O_NO3_FLAG_W,DOP,DOP_FLAG_W,HPLC,HPLC_FLAG_W,POC,POC_FLAG_W,REFTMP,REFTMP_FLAG_W,TDP,TDP_FLAG_W
,,,,,,,,,,,METERS,DBAR,ITS-90,PSS-78,,PSS-78,,UMOL/KG,,UMOL/KG,,UMOL/KG,,UMOL/KG,,UMOL/KG,,UMOL/KG,,PMOL/KG,,PMOL/KG,,FMOL/KG,,UMOL/KG,,UMOL/KG,,,,/MILLE,,/MILLE,,/MILLE,UMOL/KG,,UMOL/KG,,UMOL/KG,,/MILLE,,,,,,VOLTS,,VOLTS,,VOLTS,,VOLTS,,DEGC,/MILLE,,UMOL/KG,,,,UG/L,,ITS-90,,UMOL/KG,
320620170703,        P06,     111,          1,         33,         33,2,20170801,       0902,   -32.5000,  -170.2499,       5741,    75.9,  17.4664,  35.6636,2,  35.6415,2, 234.2182,2, 233.7065,2,     0.1,2,    0.15,2,    0.03,2,    0.09,2,   2.263,2,   1.314,2,   1.3980,2,  2066.0,2, 2332.24,2,   7.9768,2, -999.00,9, -999.00,9, -999.00,  -999.0,9, -999.00,9,     -999.0,9,  -999.0,9, 20170801,      858, -32.4999,-170.2498,        0.0,1,      0.204,1,      4.619,1,      0.223,1,      25.02,     -999.0,9,     -999.0,9,     -999.0,9,     -999.0,9,    17.3124,2,     -999.0,9
320620170703,        P06,     111,          1,         34,         34,2,20170801,       0902,   -32.5000,  -170.2499,       5741,    49.4,  17.4953,  35.6686,2,  35.6642,2, 233.8110,2, 235.4455,2,     0.1,2,    0.07,2,    0.02,2,    0.08,2,-999.000,9,-999.000,9,-999.0000,9,  -999.0,9, -999.00,9,-999.0000,9, -999.00,9, -999.00,9, -999.00,  -999.0,9, -999.00,9,     -999.0,9,  -999.0,9, 20170801,      859, -32.5000,-170.2499,        0.0,1,      0.210,1,      4.609,1,      0.222,1,     -999.0,     -999.0,9,     -999.0,9,     -999.0,9,     -999.0,9,    17.4306,2,     -999.0,9
320620170703,        P06,     111,          1,         35,         35,2,20170801,       0902,   -32.5000,  -170.2499,       5741,    24.3,  17.5103,  35.6704,2,  35.6684,2, 234.2571,2, 234.7511,2,     0.1,2,    0.08,2,    0.02,2,    0.09,2,   2.189,2,   1.289,2,   1.4640,2,  2066.1,2, 2334.81,2,   7.9833,2, -999.00,9, -999.00,9, -999.00,  -999.0,9, -999.00,9,     -999.0,9,  -999.0,9, 20170801,      901, -32.5000,-170.2500,        0.0,1,      0.213,1,      4.598,1,      0.222,1,      25.00,     -999.0,9,     -999.0,9,     -999.0,9,     -999.0,9,    17.4906,2,     -999.0,9
320620170703,        P06,     111,          1,         36,         36,2,20170801,       0902,   -32.5000,  -170.2499,       5741,     4.4,  17.5196,  35.6700,2,  35.6688,2, 234.3124,2, 234.7555,2,     0.1,2,    0.07,2,    0.02,2,    0.09,2,   2.198,2,   1.290,2,   1.4320,2,  2066.6,6, 2333.84,2,   7.9826,2, -999.00,9, -999.00,9, -999.00,  -999.0,9, -999.00,9,     -999.0,9,  -999.0,9, 20170801,      902, -32.5000,-170.2499,        0.0,1,      0.204,1,      4.595,1,      0.222,1,      25.00,     -999.0,9,     -999.0,9,     -999.0,9,     -999.0,9,    17.4935,2,     -999.0,9