BOTTLE,20230922CCHSIOCBG
EXPOCODE,SECT_ID,STNNBR,CASTNO,SAMPNO,BTLNBR,BTLNBR_FLAG_W,DATE,TIME,LATITUDE,LONGITUDE,DEPTH,CTDPRS,CTDTMP,CTDSAL,CTDSAL_FLAG_W,SALNTY,SALNTY_FLAG_W,CTDOXY,CTDOXY_FLAG_W,OXYGEN,OXYGEN_FLAG_W,SILCAT,SILCAT_FLAG_W,NITRAT,NITRAT_FLAG_W,NITRIT,NITRIT_FLAG_W,PHSPHT,PHSPHT_FLAG_W,CFC-11,CFC-11_FLAG_W,CFC-12,CFC-12_FLAG_W,SF6,SF6_FLAG_W,TCARBN,TCARBN_FLAG_W,ALKALI,ALKALI_FLAG_W,PH_TOT,PH_TOT_FLAG_W,DELC13,DELC13_FLAG_W,DELC14,DELC14_FLAG_W,C14ERR,DOC,DOC_FLAG_W,TDN,TDN_FLAG_W,TON,TON_FLAG_W,D15N_NO3,D15N_NO3_FLAG_W,BTL_DATE,BTL_TIME,BTL_LAT,BTL_LON,CTDRINKO,CTDRINKO_FLAG_W,CTDFLUOR,CTDFLUOR_FLAG_W,CTDXMISS,CTDXMISS_FLAG_W,CTDBACKSCATTER,CTDBACKSCATTER_FLAG_W,PH_TMP,D18O_NO3,D18O_NO3_FLAG_W,DOP,DOP_FLAG_W,HPLC,HPLC_FLAG_W,POC,POC_FLAG_W,REFTMP,REFTMP_FLAG_W,TDP,TDP_FLAG_W
,,,,,,,,,,,METERS,DBAR,ITS-90,PSS-78,,PSS-78,,UMOL/KG,,UMOL/KG,,UMOL/KG,,UMOL/KG,,UMOL/KG,,UMOL/KG,,PMOL/KG,,PMOL/KG,,FMOL/KG,,UMOL/KG,,UMOL/KG,,,,/MILLE,,/MILLE,,/MILLE,UMOL/KG,,UMOL/KG,,UMOL/KG,,/MILLE,,,,,,VOLTS,,VOLTS,,VOLTS,,VOLTS,,DEGC,/MILLE,,UMOL/KG,,,,UG/L,,ITS-90,,UMOL/KG,
320620170703,        P06,     137,          1,          1,          1,2,20170811,       1544,   -32.4996,  -152.9293,       5074,  5159.8,   1.1428,  34.7096,2,  34.7127,2, 202.6294,2, 203.5198,2,   120.2,2,   32.24,2,    0.00,2,    2.23,2,   0.076,2,   0.050,2,   0.0000,2,  2264.7,6, 2370.44,2,   7.6070,2, -999.00,9, -999.00,9, -999.00,  -999.0,9, -999.00,9,     -999.0,9,  -999.0,9, 20170811,     1322, -32.4993,-152.9289,        0.0,1,      0.061,1,      4.694,1,      0.130,1,      25.05,     -999.0,9,     -999.0,9,     -999.0,9,     -999.0,9,     1.1435,2,     -999.0,9
320620170703,        P06,     137,          1,          2,          2,2,20170811,       1544,   -32.4996,  -152.9293,       5074,  5048.7,   1.1351,  34.7099,2,  34.7115,2, 202.6294,2, 204.0070,2,   120.2,2,   32.23,2,    0.00,2,    2.24,2,   0.071,2,   0.047,2,   0.0000,2,  2263.7,2, 2370.09,2,   7.6074,2, -999.00,9, -999.00,9, -999.00,  -999.0,9, -999.00,9,     -999.0,9,  -999.0,9, 20170811,     1326, -32.4993,-152.9289,        0.0,1,      0.061,1,      4.695,1,      0.125,1,      24.96,     -999.0,9,     -999.0,9,     -999.0,9,     -999.0,9,     1.1351,2,     -999.0,9
320620170703,        P06,     137,          1,          3,          3,2,20170811,       1544,   -32.4996,  -152.9293,       5074,  4940.6,   1.1360,  34.7100,2,  34.7109,2, 202.6294,2, 203.8006,2,   119.9,2,   32.24,2,    0.00,2,    2.25,2,   0.064,2,   0.044,2,   0.0000,2,  2263.5,2, 2370.76,2,   7.6073,2, -999.00,9, -999.00,9, -999.00,  -999.0,9, -999.00,9,     -999.0,9,  -999.0,9, 20170811,     1330, -32.4994,-152.9290,        0.0,1,      0.061,1,      4.696,1,      0.124,1,      25.01,     -999.0,9,     -999.0,9,     -999.0,9,     -999.0,9,     1.1350,2,     -999.0,9
320620170703,        P06,     137,          1,          4,          4,2,20170811,       1544,   -32.4996,  -152.9293,       5074,  4554.1,   1.1838,  34.7114,2,  34.7117,2, 203.5326,2, 201.5252,2,   118.2,2,   32.23,2,    0.00,2,    2.26,2,   0.045,2,   0.035,2,   0.0000,2,  -999.0,9, -999.00,9,-999.0000,9, -999.00,9, -999.00,9, -999.00,  -999.0,9, -999.00,9,     -999.0,9,  -999.0,9, 20170811,     1339, -32.4994,-152.9290,        0.0,1,      0.059,1,      4.697,1,      0.124,1,     -999.0,     -999.0,9,     -999.0,9,     -999.0,9,     -999.0,9,     1.1798,2,     -999.0,9
320620170703,        P06,     137,          1,          5,          5,2,20170811,       1544,   -32.4996,  -152.9293,       5074,  4172.2,   1.3129,  34.7095,2,  34.7107,2, 195.3151,2, 195.1596,2,   117.5,2,   32.52,2,    0.00,2,    2.26,2,   0.035,2,   0.029,2,   0.0000,2,  2269.1,2, 2369.07,2,   7.6031,2, -999.00,9, -999.00,9, -999.00,  -999.0,9, -999.00,9,     -999.0,9,  -999.0,9, 20170811,     1347, -32.4996,-152.9293,        0.0,1,      0.061,1,      4.698,1,      0.124,1,      25.01,     -999.0,9,     -999.0,9,     -999.0,9,     -999.0,9,     1.3038,2,     -999.0,9
320620170703,        P06,     137,          1,          6,          6,2,20170811,       1544,   -32.4996,  -152.9293,       5074,  3860.5,   1.4461,  34.7049,2,  34.7072,2, 186.0595,2, 185.6048,2,   118.6,2,   33.07,2,    0.00,2,    2.30,2,   0.027,2,   0.024,2,   0.0000,2,  -999.0,9, -999.00,9,-999.0000,9, -999.00,9, -999.00,9, -999.00,  -999.0,9, -999.00,9,     -999.0,9,  -999.0,9, 20170811,     1354, -32.4998,-152.9295,        0.0,1,      0.061,1,      4.698,1,      0.125,1,     -999.0,     -999.0,9,     -999.0,9,     -999.0,9,     -999.0,9,     1.4322,2,     -999.0,9
320620170703,        P06,     137,          1,          7,          7,2,20170811,       1544,   -32.4996,  -152.9293,       5074,  3554.5,   1.5478,  34.6961,2,  34.6979,3, 175.9374,3, 174.1648,2,   122.6,2,   33.88,2,    0.00,2,    2.36,2,   0.031,2,   0.026,2,   0.0000,2,  2289.2,2, 2386.51,2,   7.5895,2, -999.00,9, -999.00,9, -999.00,  -999.0,9, -999.00,9,     -999.0,9,  -999.0,9, 20170811,     1400, -32.4995,-152.9292,        0.0,1,      0.061,1,      4.698,1,      0.125,1,      25.02,     -999.0,9,     -999.0,9,     -999.0,9,     -999.0,9,     1.5486,2,     -999.0,9
320620170703,        P06,     137,          1,          8,          8,2,20170811,       1544,   -32.4996,  -152.9293,       5074,  3248.9,   1.6641,  34.6819,2,  34.6826,3, 162.7818,3, 161.0720,2,   128.5,2,   34.99,2,    0.00,2,    2.44,2,   0.027,2,   0.024,2,   0.0000,2,  -999.0,9, -999.00,9,-999.0000,9, -999.00,9, -999.00,9, -999.00,  -999.0,9, -999.00,9,     -999.0,9,  -999.0,9, 20170811,     1406, -32.4996,-152.9293,        0.0,1,      0.061,1,      4.698,1,      0.127,1,     -999.0,     -999.0,9,     -999.0,9,     -999.0,9,     -999.0,9,     1.6669,2,     -999.0,9
320620170703,        P06,     137,          1,          9,          9,2,20170811,       1544,   -32.4996,  -152.9293,       5074,  2952.6,   1.7586,  34.6713,2,  34.6716,3, 154.2955,2, 152.8155,2,   130.0,2,   35.68,2,    0.00,2,    2.50,2,   0.021,2,   0.019,2,   0.0000,2,  2311.8,2, 2401.22,2,   7.5719,2, -999.00,9, -999.00,9, -999.00,  -999.0,9, -999.00,9,     -999.0,9,  -999.0,9, 20170811,     1412, -32.4997,-152.9294,        0.0,1,      0.061,1,      4.698,1,      0.127,1,      24.99,     -999.0,9,     -999.0,9,     -999.0,9,     -999.0,9,     1.7669,2,     -999.0,9
320620170703,        P06,     137,          1,         10,         10,2,20170811,       1544,   -32.4996,  -152.9293,       5074,  2701.2,   1.8559,  34.6620,2,  34.6631,2, 150.6251,2, 151.5712,2,   127.2,2,   35.72,2,    0.00,2,    2.50,2,   0.022,2,   0.017,2,   0.0000,2,  -999.0,9, -999.00,9,-999.0000,9, -999.00,9, -999.00,9, -999.00,  -999.0,9, -999.00,9,     -999.0,9,  -999.0,9, 20170811,     1418, -32.4998,-152.9295,        0.0,1,      0.061,1,      4.698,1,      0.129,1,     -999.0,     -999.0,9,     -999.0,9,     -999.0,9,     -999.0,9,     1.8488,2,     -999.0,9
320620170703,        P06,     137,          1,         11,         11,2,20170811,       1544,   -32.4996,  -152.9293,       5074,  2446.1,   1.9513,  34.6541,2,  34.6570,2, 148.1729,2, 148.3205,2,   124.6,2,   35.88,2,    0.00,2,    2.50,2,   0.021,2,   0.019,2,   0.0000,2,  2309.5,6, 2400.33,2,   7.5668,2, -999.00,9, -999.00,9, -999.00,  -999.0,9, -999.00,9,     -999.0,9,  -999.0,9, 20170811,     1423, -32.4997,-152.9294,        0.0,1,      0.062,1,      4.698,1,      0.129,1,      25.02,     -999.0,9,     -999.0,9,     -999.0,9,     -999.0,9,     1.9515,2,     -999.0,9
320620170703,        P06,     137,          1,         12,         12,2,20170811,       1544,   -32.4996,  -152.9293,       5074,  2190.5,   2.0903,  34.6407,2,  34.6423,3, 148.9212,3, 150.7850,2,   117.0,2,   35.62,2,    0.00,2,    2.48,2,   0.022,2,   0.020,2,   0.0000,2,  -999.0,9, -999.00,9,-999.0000,9, -999.00,9, -999.00,9, -999.00,  -999.0,9, -999.00,9,     -999.0,9,  -999.0,9, 20170811,     1431, -32.4993,-152.9291,        0.0,1,      0.062,1,      4.699,1,      0.128,1,     -999.0,     -999.0,9,     -999.0,9,     -999.0,9,     -999.0,9,     2.0776,2,     -999.0,9
320620170703,        P06,     137,          1,         13,         13,2,20170811,       1544,   -32.4996,  -152.9293,       5074,  1957.7,   2.2660,  34.6217,2,  34.6244,2, 150.6947,2, 150.1021,2,   108.2,2,   35.36,2,    0.00,2,    2.46,2,   0.022,2,   0.020,2,   0.0000,2,  2291.9,2, 2381.80,6,   7.5673,2, -999.00,9, -999.00,9, -999.00,  -999.0,9, -999.00,9,     -999.0,9,  -999.0,9, 20170811,     1438, -32.4993,-152.9291,        0.0,1,      0.061,1,      4.699,1,      0.130,1,      25.01,     -999.0,9,     -999.0,9,     -999.0,9,     -999.0,9,     2.2451,2,     -999.0,9
320620170703,        P06,     137,          1,         14,         14,2,20170811,       1544,   -32.4996,  -152.9293,       5074,  1756.4,   2.4233,  34.5963,2,  34.5952,2, 154.2179,3, 156.6153,2,    97.1,2,   35.11,2,    0.00,2,    2.45,2,   0.029,2,   0.025,2,   0.0000,2,  -999.0,9, -999.00,9,-999.0000,9, -999.00,9, -999.00,9, -999.00,  -999.0,9, -999.00,9,     -999.0,9,  -999.0,9, 20170811,     1444, -32.4993,-152.9291,        0.0,1,      0.061,1,      4.700,1,      0.131,1,     -999.0,     -999.0,9,     -999.0,9,     -999.0,9,     -999.0,9,     2.4336,2,     -999.0,9
320620170703,        P06,     137,          1,         15,         15,2,20170811,       1544,   -32.4996,  -152.9293,       5074,  1550.7,   2.7249,  34.5385,2,  34.5319,2, 162.8091,2, 164.3859,2,    78.0,2,   34.69,2,    0.00,2,    2.40,2,   0.090,2,   0.059,2,   0.0000,2,  2260.2,2, 2345.88,2,   7.5661,2, -999.00,9, -999.00,9, -999.00,  -999.0,9, -999.00,9,     -999.0,9,  -999.0,9, 20170811,     1450, -32.4994,-152.9292,        0.0,1,      0.060,1,      4.699,1,      0.131,1,      25.00,     -999.0,9,     -999.0,9,     -999.0,9,     -999.0,9,     2.7540,2,     -999.0,9
320620170703,        P06,     137,          1,         16,         16,2,20170811,       1544,   -32.4996,  -152.9293,       5074,  1377.4,   3.0672,  34.4609,2,  34.4473,2, 174.4237,2, 175.5282,2,    60.5,2,   34.16,2,    0.00,2,    2.36,2,   0.279,2,   0.151,2,   0.0000,2,  -999.0,9, -999.00,9,-999.0000,9, -999.00,9, -999.00,9, -999.00,  -999.0,9, -999.00,9,     -999.0,9,  -999.0,9, 20170811,     1454, -32.4993,-152.9292,        0.0,1,      0.061,1,      4.699,1,      0.131,1,     -999.0,     -999.0,9,     -999.0,9,     -999.0,9,     -999.0,9,     3.1299,2,     -999.0,9
320620170703,        P06,     137,          1,         17,         17,2,20170811,       1544,   -32.4996,  -152.9293,       5074,  1275.6,   3.4043,  34.4050,2,  34.3974,2, 182.4180,2, 183.1718,2,    50.4,2,   33.49,2,    0.00,2,    2.30,2,   0.526,2,   0.259,2,   0.0000,2,  2223.3,2, 2314.39,2,   7.5823,2, -999.00,9, -999.00,9, -999.00,  -999.0,9, -999.00,9,     -999.0,9,  -999.0,9, 20170811,     1457, -32.4992,-152.9291,        0.0,1,      0.060,1,      4.699,1,      0.132,1,      24.98,     -999.0,9,     -999.0,9,     -999.0,9,     -999.0,9,     3.4567,2,     -999.0,9
320620170703,        P06,     137,          1,         18,         18,2,20170811,       1544,   -32.4996,  -152.9293,       5074,  1175.3,   3.8846,  34.3598,2,  34.3601,2, 190.9217,2, 190.7233,2,    41.1,2,   32.51,2,    0.00,2,    2.23,2,   0.831,2,   0.391,2,   0.0490,2,  -999.0,9, -999.00,9,-999.0000,9, -999.00,9, -999.00,9, -999.00,  -999.0,9, -999.00,9,     -999.0,9,  -999.0,9, 20170811,     1500, -32.4992,-152.9290,        0.0,1,      0.061,1,      4.699,1,      0.132,1,     -999.0,     -999.0,9,     -999.0,9,     -999.0,9,     -999.0,9,     3.8904,2,     -999.0,9
320620170703,        P06,     137,          1,         19,         19,2,20170811,       1544,   -32.4996,  -152.9293,       5074,  1072.1,   4.5697,  34.3261,2,  34.3252,2, 203.3883,2, 202.0033,2,    29.4,2,   30.61,2,    0.00,2,    2.09,2,   1.407,2,   0.666,2,   0.2690,2,  2192.5,2, 2295.35,2,   7.6218,2, -999.00,9, -999.00,9, -999.00,  -999.0,9, -999.00,9,     -999.0,9,  -999.0,9, 20170811,     1503, -32.4991,-152.9289,        0.0,1,      0.060,1,      4.698,1,      0.131,1,      25.00,     -999.0,9,     -999.0,9,     -999.0,9,     -999.0,9,     4.5662,2,     -999.0,9
320620170703,        P06,     137,          1,         20,         20,2,20170811,       1544,   -32.4996,  -152.9293,       5074,   974.3,   5.1652,  34.3091,2,  34.3093,2, 213.9107,2, 212.0750,2,    21.4,2,   28.86,2,    0.00,2,    1.96,2,   1.714,2,   0.808,2,   0.1880,2,  -999.0,9, -999.00,9,-999.0000,9, -999.00,9, -999.00,9, -999.00,  -999.0,9, -999.00,9,     -999.0,9,  -999.0,9, 20170811,     1506, -32.4992,-152.9290,        0.0,1,      0.059,1,      4.698,1,      0.132,1,     -999.0,     -999.0,9,     -999.0,9,     -999.0,9,     -999.0,9,     5.1153,2,     -999.0,9
320620170703,        P06,     137,          1,         21,         21,2,20170811,       1544,   -32.4996,  -152.9293,       5074,   873.3,   5.7049,  34.3077,2,  34.3074,2, 225.4555,2, 224.8532,2,    14.7,2,   26.67,2,    0.00,2,    1.81,2,   2.408,2,   1.154,2,   0.3540,2,  2160.1,2, 2284.96,2,   7.6708,2, -999.00,9, -999.00,9, -999.00,  -999.0,9, -999.00,9,     -999.0,9,  -999.0,9, 20170811,     1509, -32.4993,-152.9291,        0.0,1,      0.059,1,      4.698,1,      0.134,1,      25.00,     -999.0,9,     -999.0,9,     -999.0,9,     -999.0,9,     5.6748,2,     -999.0,9
320620170703,        P06,     137,          1,         22,         22,2,20170811,       1544,   -32.4996,  -152.9293,       5074,   769.2,   6.2931,  34.3265,2,  34.3225,2, 234.8796,2, 235.0835,2,    10.2,2,   24.57,2,    0.00,2,    1.67,2,   2.833,2,   1.481,2,   0.5570,2,  2152.1,2, 2061.20,3,   7.6933,2, -999.00,9, -999.00,9, -999.00,  -999.0,9, -999.00,9,     -999.0,9,  -999.0,9, 20170811,     1512, -32.4995,-152.9292,        0.0,1,      0.059,1,      4.697,1,      0.133,1,      25.01,     -999.0,9,     -999.0,9,     -999.0,9,     -999.0,9,     6.2091,2,     -999.0,9
320620170703,        P06,     137,          1,         23,         23,2,20170811,       1544,   -32.4996,  -152.9293,       5074,   670.6,   6.7713,  34.3546,2,  34.3531,2, 239.6920,2, 238.3390,2,     7.7,2,   22.86,2,    0.00,2,    1.55,2,   3.557,2,   1.758,2,   0.6730,2,  2144.9,2, 2279.44,2,   7.7059,2, -999.00,9, -999.00,9, -999.00,  -999.0,9, -999.00,9,     -999.0,9,  -999.0,9, 20170811,     1515, -32.4995,-152.9293,        0.0,1,      0.059,1,      4.697,1,      0.131,1,      25.00,     -999.0,9,     -999.0,9,     -999.0,9,     -999.0,9,     6.7293,2,     -999.0,9
320620170703,        P06,     137,          1,         24,         24,2,20170811,       1544,   -32.4996,  -152.9293,       5074,   567.2,   7.3358,  34.3961,2,  34.3957,2, 240.8010,2, 242.0129,2,     5.8,2,   20.88,2,    0.00,2,    1.41,2,   3.701,2,   1.927,2,   0.9400,2,  2141.4,2, 2280.83,2,   7.7163,2, -999.00,9, -999.00,9, -999.00,  -999.0,9, -999.00,9,     -999.0,9,  -999.0,9, 20170811,     1518, -32.4996,-152.9294,        0.0,1,      0.060,1,      4.696,1,      0.134,1,      25.00,     -999.0,9,     -999.0,9,     -999.0,9,     -999.0,9,     7.3320,2,     -999.0,9
320620170703,        P06,     137,          1,         25,         25,2,20170811,       1544,   -32.4996,  -152.9293,       5074,   467.9,   8.2795,  34.4733,2,  34.4771,2, 232.9283,2, 235.2124,2,     4.1,2,   18.26,2,    0.00,2,    1.24,2,   3.588,2,   1.872,2,   1.0610,2,  2136.5,2, 2280.84,2,   7.7312,2, -999.00,9, -999.00,9, -999.00,  -999.0,9, -999.00,9,     -999.0,9,  -999.0,9, 20170811,     1521, -32.4998,-152.9295,        0.0,1,      0.058,1,      4.693,1,      0.134,1,      25.01,     -999.0,9,     -999.0,9,     -999.0,9,     -999.0,9,     8.3564,2,     -999.0,9
320620170703,        P06,     137,          1,         26,         26,2,20170811,       1544,   -32.4996,  -152.9293,       5074,   387.5,   9.6426,  34.5778,2,  34.5775,2, 218.3178,2, 220.1273,2,     3.1,2,   15.80,2,    0.00,2,    1.09,2,   3.326,6,   1.762,6,   1.0370,6,  2131.3,2, 2282.96,2,   7.7508,2, -999.00,9, -999.00,9, -999.00,  -999.0,9, -999.00,9,     -999.0,9,  -999.0,9, 20170811,     1523, -32.4999,-152.9295,        0.0,1,      0.059,1,      4.691,1,      0.137,1,      25.02,     -999.0,9,     -999.0,9,     -999.0,9,     -999.0,9,     9.7417,2,     -999.0,9
320620170703,        P06,     137,          1,         27,         27,2,20170811,       1544,   -32.4996,  -152.9293,       5074,   334.5,  10.9184,  34.7056,2,  34.8261,3, 210.7993,2, 209.7048,2,     2.1,2,   11.05,2,    0.00,2,    0.80,2,   2.980,2,   1.613,2,   0.9910,2,  2119.2,2, 2295.54,2,   7.8006,2, -999.00,9, -999.00,9, -999.00,  -999.0,9, -999.00,9,     -999.0,9,  -999.0,9, 20170811,     1525, -32.4999,-152.9296,        0.0,1,      0.059,1,      4.691,1,      0.136,1,      25.01,     -999.0,9,     -999.0,9,     -999.0,9,     -999.0,9,    11.9441,2,     -999.0,9
320620170703,        P06,     137,          1,         28,         28,2,20170811,       1544,   -32.4996,  -152.9293,       5074,   287.0,  13.0820,  34.9685,2,  34.9925,2, 213.0809,2, 212.3451,2,     1.4,2,    7.64,2,    0.00,2,    0.58,2,   2.760,2,   1.559,2,   1.1550,2,  -999.0,9, -999.00,9,-999.0000,9, -999.00,9, -999.00,9, -999.00,  -999.0,9, -999.00,9,     -999.0,9,  -999.0,9, 20170811,     1528, -32.4999,-152.9296,        0.0,1,      0.060,1,      4.689,1,      0.132,1,     -999.0,     -999.0,9,     -999.0,9,     -999.0,9,     -999.0,9,    13.2949,2,     -999.0,9
320620170703,        P06,     137,          1,         29,         29,2,20170811,       1544,   -32.4996,  -152.9293,       5074,   236.3,  14.4974,  35.1634,2,  35.1892,2, 218.0009,2, 217.8204,2,     0.8,2,    4.40,2,    0.02,2,    0.38,2,   2.632,2,   1.479,2,   1.2440,2,  2098.4,2, 2313.62,2,   7.8808,2, -999.00,9, -999.00,9, -999.00,  -999.0,9, -999.00,9,     -999.0,9,  -999.0,9, 20170811,     1530, -32.4998,-152.9295,        0.0,1,      0.062,1,      4.687,1,      0.135,1,      25.00,     -999.0,9,     -999.0,9,     -999.0,9,     -999.0,9,    14.7108,2,     -999.0,9
320620170703,        P06,     137,          1,         30,         30,2,20170811,       1544,   -32.4996,  -152.9293,       5074,   186.4,  15.5722,  35.2884,2,  35.3396,3, 226.3094,3, 223.2097,2,     0.4,2,    2.07,2,    0.08,2,    0.23,2,   2.455,2,   1.423,2,   1.1330,2,  2085.3,2, 2318.81,2,   7.9201,2, -999.00,9, -999.00,9, -999.00,  -999.0,9, -999.00,9,     -999.0,9,  -999.0,9, 20170811,     1532, -32.4996,-152.9293,        0.0,1,      0.074,1,      4.680,1,      0.140,1,      25.01,     -999.0,9,     -999.0,9,     -999.0,9,     -999.0,9,    15.9551,2,     -999.0,9
320620170703,        P06,     137,          1,         31,         31,2,20170811,       1544,   -32.4996,  -152.9293,       5074,   135.4,  16.9737,  35.4891,2,  35.4924,2, 235.4522,2, 236.0377,2,     0.2,2,    0.11,2,    0.02,2,    0.09,2,   2.303,2,   1.332,2,   1.3140,2,  2067.7,2, 2333.13,2,   7.9685,2, -999.00,9, -999.00,9, -999.00,  -999.0,9, -999.00,9,     -999.0,9,  -999.0,9, 20170811,     1535, -32.4995,-152.9293,        0.0,1,      0.143,1,      4.650,1,      0.169,1,      25.01,     -999.0,9,     -999.0,9,     -999.0,9,     -999.0,9,    16.9811,2,     -999.0,9
320620170703,        P06,     137,          1,         32,         32,2,20170811,       1544,   -32.4996,  -152.9293,       5074,    89.2,  16.9720,  35.4740,2,  35.4924,2, 235.4235,2, 235.8839,2,     0.2,2,    0.10,2,    0.02,2,    0.09,2,   2.323,2,   1.321,2,   1.0840,2,  -999.0,9, -999.00,9,-999.0000,9, -999.00,9, -999.00,9, -999.00,  -999.0,9, -999.00,9,     -999.0,9,  -999.0,9, 20170811,     1537, -32.4995,-152.9293,        0.0,1,      0.178,1,      4.643,1,      0.176,1,     -999.0,     -999.0,9,     -999.0,9,     -999.0,9,     -999.0,9,    16.9827,2,     -999.0,9