BOTTLE,20230922CCHSIOCBG
EXPOCODE,SECT_ID,STNNBR,CASTNO,SAMPNO,BTLNBR,BTLNBR_FLAG_W,DATE,TIME,LATITUDE,LONGITUDE,DEPTH,CTDPRS,CTDTMP,CTDSAL,CTDSAL_FLAG_W,SALNTY,SALNTY_FLAG_W,CTDOXY,CTDOXY_FLAG_W,OXYGEN,OXYGEN_FLAG_W,SILCAT,SILCAT_FLAG_W,NITRAT,NITRAT_FLAG_W,NITRIT,NITRIT_FLAG_W,PHSPHT,PHSPHT_FLAG_W,CFC-11,CFC-11_FLAG_W,CFC-12,CFC-12_FLAG_W,SF6,SF6_FLAG_W,TCARBN,TCARBN_FLAG_W,ALKALI,ALKALI_FLAG_W,PH_TOT,PH_TOT_FLAG_W,DELC13,DELC13_FLAG_W,DELC14,DELC14_FLAG_W,C14ERR,DOC,DOC_FLAG_W,TDN,TDN_FLAG_W,TON,TON_FLAG_W,D15N_NO3,D15N_NO3_FLAG_W,BTL_DATE,BTL_TIME,BTL_LAT,BTL_LON,CTDRINKO,CTDRINKO_FLAG_W,CTDFLUOR,CTDFLUOR_FLAG_W,CTDXMISS,CTDXMISS_FLAG_W,CTDBACKSCATTER,CTDBACKSCATTER_FLAG_W,PH_TMP,D18O_NO3,D18O_NO3_FLAG_W,DOP,DOP_FLAG_W,HPLC,HPLC_FLAG_W,POC,POC_FLAG_W,REFTMP,REFTMP_FLAG_W,TDP,TDP_FLAG_W
,,,,,,,,,,,METERS,DBAR,ITS-90,PSS-78,,PSS-78,,UMOL/KG,,UMOL/KG,,UMOL/KG,,UMOL/KG,,UMOL/KG,,UMOL/KG,,PMOL/KG,,PMOL/KG,,FMOL/KG,,UMOL/KG,,UMOL/KG,,,,/MILLE,,/MILLE,,/MILLE,UMOL/KG,,UMOL/KG,,UMOL/KG,,/MILLE,,,,,,VOLTS,,VOLTS,,VOLTS,,VOLTS,,DEGC,/MILLE,,UMOL/KG,,,,UG/L,,ITS-90,,UMOL/KG,
320620170703,        P06,      77,          1,          1,          1,2,20170721,       0538,   -30.5270,   176.9411,       4275,  4337.5,   1.9215,  34.6822,2,  34.6757,2, 155.5031,2, 155.5098,2,   126.0,2,   35.09,2,    0.00,2,    2.44,2,   0.026,2,   0.020,2,   0.0000,2,  2312.6,6, 2403.24,2,   7.5816,2, -999.00,9, -999.00,9, -999.00,  -999.0,9, -999.00,9,     -999.0,9,  -999.0,9, 20170721,      422, -30.5268, 176.9418,        0.0,1,      0.061,1,      4.688,1,      0.133,1,      25.02,     -999.0,9,     -999.0,9,     -999.0,9,     -999.0,9,     1.9219,2,     -999.0,9
320620170703,        P06,      77,          1,          2,          2,2,20170721,       0538,   -30.5270,   176.9411,       4275,  4247.8,   1.9106,  34.6824,2,  34.6759,2, 155.5031,2, 155.3895,2,   126.3,2,   35.18,2,    0.00,2,    2.44,2,   0.041,2,   0.026,2,   0.0000,2,  2313.1,2, 2405.53,2,   7.5815,2, -999.00,9, -999.00,9, -999.00,  -999.0,9, -999.00,9,     -999.0,9,  -999.0,9, 20170721,      424, -30.5268, 176.9418,        0.0,1,      0.062,1,      4.700,1,      0.134,1,      25.01,     -999.0,9,     -999.0,9,     -999.0,9,     -999.0,9,     1.9106,2,     -999.0,9
320620170703,        P06,      77,          1,          3,          3,2,20170721,       0538,   -30.5270,   176.9411,       4275,  4165.1,   1.9030,  34.6822,2,  34.6759,2, 155.5031,2, 155.6388,2,   126.2,2,   35.21,2,    0.00,2,    2.45,2,   0.037,2,   0.019,2,   0.0000,2,  2312.0,2, 2405.74,2,   7.5812,2, -999.00,9, -999.00,9, -999.00,  -999.0,9, -999.00,9,     -999.0,9,  -999.0,9, 20170721,      426, -30.5268, 176.9419,        0.0,1,      0.062,1,      4.701,1,      0.132,1,      25.02,     -999.0,9,     -999.0,9,     -999.0,9,     -999.0,9,     1.9028,2,     -999.0,9
320620170703,        P06,      77,          1,          4,          4,2,20170721,       0538,   -30.5270,   176.9411,       4275,  3859.3,   1.8757,  34.6819,2,  34.6741,2, 155.5031,2, 155.2747,2,   125.9,2,   35.23,2,    0.00,2,    2.46,2,   0.051,2,   0.021,2,   0.0000,2,  -999.0,9, -999.00,9,-999.0000,9, -999.00,9, -999.00,9, -999.00,  -999.0,9, -999.00,9,     -999.0,9,  -999.0,9, 20170721,      431, -30.5268, 176.9418,        0.0,1,      0.061,1,      4.702,1,      0.134,1,     -999.0,     -999.0,9,     -999.0,9,     -999.0,9,     -999.0,9,     1.8754,2,     -999.0,9
320620170703,        P06,      77,          1,          5,          5,2,20170721,       0538,   -30.5270,   176.9411,       4275,  3551.2,   1.8548,  34.6810,2,  34.6739,2, 155.0788,2, 154.9808,2,   126.0,2,   35.30,2,    0.00,2,    2.46,2,   0.042,2,   0.023,2,   0.0000,2,  2312.0,2, 2404.47,2,   7.5818,2, -999.00,9, -999.00,9, -999.00,  -999.0,9, -999.00,9,     -999.0,9,  -999.0,9, 20170721,      436, -30.5266, 176.9421,        0.0,1,      0.061,1,      4.703,1,      0.131,1,      25.03,     -999.0,9,     -999.0,9,     -999.0,9,     -999.0,9,     1.8547,2,     -999.0,9
320620170703,        P06,      77,          1,          6,          6,2,20170721,       0538,   -30.5270,   176.9411,       4275,  3245.6,   1.8509,  34.6792,2,  34.6712,2, 154.5538,2, 154.8805,2,   125.3,2,   35.22,2,    0.00,2,    2.46,2,   0.044,2,   0.021,2,   0.0000,2,  -999.0,9, -999.00,9,-999.0000,9, -999.00,9, -999.00,9, -999.00,  -999.0,9, -999.00,9,     -999.0,9,  -999.0,9, 20170721,      441, -30.5266, 176.9420,        0.0,1,      0.062,1,      4.704,1,      0.132,1,     -999.0,     -999.0,9,     -999.0,9,     -999.0,9,     -999.0,9,     1.8508,2,     -999.0,9
320620170703,        P06,      77,          1,          7,          7,2,20170721,       0538,   -30.5270,   176.9411,       4275,  2953.5,   1.8744,  34.6754,2,  34.6682,2, 154.1451,2, 154.2435,2,   123.9,2,   35.24,2,    0.00,2,    2.45,2,   0.048,2,   0.024,2,   0.0000,2,  2310.4,2, 2398.21,2,   7.5781,2, -999.00,9, -999.00,9, -999.00,  -999.0,9, -999.00,9,     -999.0,9,  -999.0,9, 20170721,      446, -30.5267, 176.9420,        0.0,1,      0.062,1,      4.705,1,      0.133,1,      25.01,     -999.0,9,     -999.0,9,     -999.0,9,     -999.0,9,     1.8732,2,     -999.0,9
320620170703,        P06,      77,          1,          8,          8,2,20170721,       0538,   -30.5270,   176.9411,       4275,  2700.2,   1.9229,  34.6699,2,  34.6627,2, 153.8904,2, 153.9737,2,   122.2,2,   35.16,2,    0.00,2,    2.44,2,   0.035,2,   0.021,2,   0.0000,2,  -999.0,9, -999.00,9,-999.0000,9, -999.00,9, -999.00,9, -999.00,  -999.0,9, -999.00,9,     -999.0,9,  -999.0,9, 20170721,      450, -30.5269, 176.9418,        0.0,1,      0.061,1,      4.705,1,      0.133,1,     -999.0,     -999.0,9,     -999.0,9,     -999.0,9,     -999.0,9,     1.9280,2,     -999.0,9
320620170703,        P06,      77,          1,          9,          9,2,20170721,       0538,   -30.5270,   176.9411,       4275,  2444.1,   2.0218,  34.6603,2,  34.6547,2, 153.3717,2, 153.2830,2,   119.8,2,   35.15,2,    0.00,2,    2.45,2,   0.049,2,   0.024,2,   0.0000,2,  2305.2,2, 2394.01,2,   7.5773,2, -999.00,9, -999.00,9, -999.00,  -999.0,9, -999.00,9,     -999.0,9,  -999.0,9, 20170721,      454, -30.5270, 176.9416,        0.0,1,      0.061,1,      4.705,1,      0.140,1,      25.00,     -999.0,9,     -999.0,9,     -999.0,9,     -999.0,9,     2.0184,2,     -999.0,9
320620170703,        P06,      77,          1,         10,         10,2,20170721,       0538,   -30.5270,   176.9411,       4275,  2190.6,   2.1859,  34.6452,2,  34.6411,2, 153.0822,2, 152.8207,2,   115.8,2,   35.06,2,    0.00,2,    2.45,2,   0.053,2,   0.029,2,   0.0000,2,  -999.0,9, -999.00,9,-999.0000,9, -999.00,9, -999.00,9, -999.00,  -999.0,9, -999.00,9,     -999.0,9,  -999.0,9, 20170721,      458, -30.5269, 176.9418,        0.0,1,      0.061,1,      4.704,1,      0.136,1,     -999.0,     -999.0,9,     -999.0,9,     -999.0,9,     -999.0,9,     2.1635,2,     -999.0,9
320620170703,        P06,      77,          1,         11,         11,2,20170721,       0538,   -30.5270,   176.9411,       4275,  1954.4,   2.3925,  34.6258,2,  34.6197,2, 153.3477,2, 153.6175,2,   108.8,2,   34.96,2,    0.00,2,    2.43,2,   0.066,2,   0.034,2,   0.0000,2,  2294.3,2, 2382.85,6,   7.5767,2, -999.00,9, -999.00,9, -999.00,  -999.0,9, -999.00,9,     -999.0,9,  -999.0,9, 20170721,      502, -30.5269, 176.9417,        0.0,1,      0.061,1,      4.685,1,      0.137,1,      25.01,     -999.0,9,     -999.0,9,     -999.0,9,     -999.0,9,     2.3872,2,     -999.0,9
320620170703,        P06,      77,          1,         12,         12,2,20170721,       0538,   -30.5270,   176.9411,       4275,  1753.0,   2.6026,  34.6043,2,  34.5967,2, 155.3364,2, 155.1540,2,   101.5,2,   34.68,2,    0.00,2,    2.42,2,   0.093,2,   0.043,2,   0.0000,2,  -999.0,9, -999.00,9,-999.0000,9, -999.00,9, -999.00,9, -999.00,  -999.0,9, -999.00,9,     -999.0,9,  -999.0,9, 20170721,      505, -30.5268, 176.9418,        0.0,1,      0.062,1,      4.657,1,      0.137,1,     -999.0,     -999.0,9,     -999.0,9,     -999.0,9,     -999.0,9,     2.6211,2,     -999.0,9
320620170703,        P06,      77,          1,         13,         13,2,20170721,       0538,   -30.5270,   176.9411,       4275,  1577.4,   2.9426,  34.5606,2,  34.5578,2, 159.5095,2, 160.0907,2,    90.2,2,   34.35,2,    0.00,2,    2.38,2,   0.130,2,   0.067,2,   0.0000,2,  2271.8,2, 2359.53,2,   7.5804,2, -999.00,9, -999.00,9, -999.00,  -999.0,9, -999.00,9,     -999.0,9,  -999.0,9, 20170721,      508, -30.5268, 176.9418,        0.0,1,      0.061,1,      4.704,1,      0.140,1,      25.01,     -999.0,9,     -999.0,9,     -999.0,9,     -999.0,9,     2.9257,2,     -999.0,9
320620170703,        P06,      77,          1,         14,         14,2,20170721,       0538,   -30.5270,   176.9411,       4275,  1478.2,   3.2151,  34.5258,2,  34.5258,2, 164.3861,2, 163.9034,2,    81.1,2,   33.96,2,    0.00,2,    2.34,2,   0.164,2,   0.088,2,   0.0000,2,  -999.0,9, -999.00,9,-999.0000,9, -999.00,9, -999.00,9, -999.00,  -999.0,9, -999.00,9,     -999.0,9,  -999.0,9, 20170721,      510, -30.5268, 176.9419,        0.0,1,      0.062,1,      4.695,1,      0.140,1,     -999.0,     -999.0,9,     -999.0,9,     -999.0,9,     -999.0,9,     3.1701,2,     -999.0,9
320620170703,        P06,      77,          1,         15,         15,2,20170721,       0538,   -30.5270,   176.9411,       4275,  1376.9,   3.5510,  34.4763,2,  34.4795,2, 170.4535,2, 170.2942,2,    68.0,2,   33.40,2,    0.00,2,    2.29,2,   0.248,6,   0.133,6,   0.0000,6,  2244.5,2, 2334.92,2,   7.5893,2, -999.00,9, -999.00,9, -999.00,  -999.0,9, -999.00,9,     -999.0,9,  -999.0,9, 20170721,      512, -30.5267, 176.9419,        0.0,1,      0.061,1,      4.683,1,      0.139,1,      25.01,     -999.0,9,     -999.0,9,     -999.0,9,     -999.0,9,     3.5148,2,     -999.0,9
320620170703,        P06,      77,          1,         16,         16,2,20170721,       0538,   -30.5270,   176.9411,       4275,  1276.7,   3.9383,  34.4425,2,  34.4349,2, 177.8929,2, 178.5242,2,    54.7,2,   32.44,2,    0.00,2,    2.21,2,   0.382,2,   0.216,2,   0.0000,2,  2225.8,2, -999.00,5,   7.5999,2, -999.00,9, -999.00,9, -999.00,  -999.0,9, -999.00,9,     -999.0,9,  -999.0,9, 20170721,      513, -30.5268, 176.9418,        0.0,1,      0.061,1,      4.556,1,      0.136,1,      25.02,     -999.0,9,     -999.0,9,     -999.0,9,     -999.0,9,     3.9636,2,     -999.0,9
320620170703,        P06,      77,          1,         17,         17,2,20170721,       0538,   -30.5270,   176.9411,       4275,  1171.6,   4.3527,  34.3846,2,  34.3766,2, 189.3447,2, 187.9951,2,    40.1,2,   31.57,2,    0.00,2,    2.15,2,   0.740,2,   0.308,2,   0.0000,2,  2208.7,2, 2303.18,2,   7.6115,2, -999.00,9, -999.00,9, -999.00,  -999.0,9, -999.00,9,     -999.0,9,  -999.0,9, 20170721,      515, -30.5267, 176.9420,        0.0,1,      0.060,1,      4.611,1,      0.136,1,      25.02,     -999.0,9,     -999.0,9,     -999.0,9,     -999.0,9,     4.4409,2,     -999.0,9
320620170703,        P06,      77,          1,         18,         18,2,20170721,       0538,   -30.5270,   176.9411,       4275,  1073.5,   4.9967,  34.3532,2,  34.3470,2, 199.1973,2, 199.8809,2,    29.0,2,   29.73,2,    0.00,2,    2.00,2,   0.901,2,   0.499,2,   0.1530,2,  -999.0,9, -999.00,9,-999.0000,9, -999.00,9, -999.00,9, -999.00,  -999.0,9, -999.00,9,     -999.0,9,  -999.0,9, 20170721,      517, -30.5265, 176.9422,        0.0,1,      0.059,1,      4.694,1,      0.140,1,     -999.0,     -999.0,9,     -999.0,9,     -999.0,9,     -999.0,9,     4.9848,2,     -999.0,9
320620170703,        P06,      77,          1,         19,         19,2,20170721,       0538,   -30.5270,   176.9411,       4275,   972.8,   5.7467,  34.3475,2,  34.3399,2, 212.3666,2, 211.8093,2,    19.6,2,   27.45,2,    0.00,2,    1.86,2,   1.870,4,   0.780,2,   0.1830,2,  2173.1,2, 2283.82,2,   7.6605,2, -999.00,9, -999.00,9, -999.00,  -999.0,9, -999.00,9,     -999.0,9,  -999.0,9, 20170721,      518, -30.5267, 176.9420,        0.0,1,      0.059,1,      4.261,1,      0.146,1,      25.03,     -999.0,9,     -999.0,9,     -999.0,9,     -999.0,9,     5.6961,2,     -999.0,9
320620170703,        P06,      77,          1,         20,         20,2,20170721,       0538,   -30.5270,   176.9411,       4275,   871.6,   6.3419,  34.3657,2,  34.3539,2, 218.3887,2, 219.2806,2,    14.7,2,   25.66,2,    0.00,2,    1.73,2,   2.358,4,   1.027,2,   0.2190,2,  -999.0,9, -999.00,9,-999.0000,9, -999.00,9, -999.00,9, -999.00,  -999.0,9, -999.00,9,     -999.0,9,  -999.0,9, 20170721,      520, -30.5268, 176.9419,        0.0,1,      0.059,1,      4.691,1,      0.142,1,     -999.0,     -999.0,9,     -999.0,9,     -999.0,9,     -999.0,9,     6.1872,2,     -999.0,9
320620170703,        P06,      77,          1,         21,         21,2,20170721,       0538,   -30.5270,   176.9411,       4275,   768.1,   7.0065,  34.4026,2,  34.3908,2, 224.8806,2, 224.4485,2,    10.1,2,   23.49,2,    0.00,2,    1.57,2,   3.097,4,   1.365,2,   0.3450,2,  2153.8,6, 2279.78,2,   7.6971,2, -999.00,9, -999.00,9, -999.00,  -999.0,9, -999.00,9,     -999.0,9,  -999.0,9, 20170721,      522, -30.5269, 176.9417,        0.0,1,      0.058,1,      4.702,1,      0.142,1,      25.02,     -999.0,9,     -999.0,9,     -999.0,9,     -999.0,9,     6.9202,2,     -999.0,9
320620170703,        P06,      77,          1,         22,         22,2,20170721,       0538,   -30.5270,   176.9411,       4275,   669.7,   7.8218,  34.4759,2,  34.4432,2, 222.3365,2, 222.7659,2,     8.0,2,   22.00,2,    0.00,2,    1.47,2,   3.293,4,   1.508,2,   0.4040,2,  -999.0,9, -999.00,9,-999.0000,9, -999.00,9, -999.00,9, -999.00,  -999.0,9, -999.00,9,     -999.0,9,  -999.0,9, 20170721,      524, -30.5270, 176.9417,        0.0,1,      0.059,1,      4.599,1,      0.143,1,     -999.0,     -999.0,9,     -999.0,9,     -999.0,9,     -999.0,9,     7.5706,2,     -999.0,9
320620170703,        P06,      77,          1,         23,         23,2,20170721,       0538,   -30.5270,   176.9411,       4275,   569.4,   9.0126,  34.5991,2,  34.5663,2, 214.3023,2, 214.2705,2,     6.5,2,   19.61,2,    0.00,2,    1.31,2,   3.422,4,   1.546,2,   0.5670,2,  2145.2,2, 2286.23,2,   7.7249,2, -999.00,9, -999.00,9, -999.00,  -999.0,9, -999.00,9,     -999.0,9,  -999.0,9, 20170721,      525, -30.5269, 176.9416,        0.0,1,      0.060,1,      4.609,1,      0.139,1,      25.00,     -999.0,9,     -999.0,9,     -999.0,9,     -999.0,9,     8.7917,2,     -999.0,9
320620170703,        P06,      77,          1,         24,         24,2,20170721,       0538,   -30.5270,   176.9411,       4275,   488.9,  10.7582,  34.8239,2,  34.7549,2, 208.9018,2, 208.2703,2,     5.1,2,   16.42,2,    0.00,2,    1.10,2,   3.367,4,   1.544,2,   0.7180,2,  2139.5,2, 2291.85,2,   7.7554,2, -999.00,9, -999.00,9, -999.00,  -999.0,9, -999.00,9,     -999.0,9,  -999.0,9, 20170721,      527, -30.5270, 176.9416,        0.0,1,      0.059,1,      4.655,1,      0.144,1,      25.02,     -999.0,9,     -999.0,9,     -999.0,9,     -999.0,9,    10.3543,2,     -999.0,9
320620170703,        P06,      77,          1,         25,         25,2,20170721,       0538,   -30.5270,   176.9411,       4275,   434.4,  11.5953,  34.9336,2,  34.9097,3, 205.7160,2, 205.6504,2,     4.3,2,   13.85,2,    0.00,2,    0.93,2,   3.095,2,   1.528,2,   0.9410,2,  2132.4,2, 2296.89,2,   7.7842,2, -999.00,9, -999.00,9, -999.00,  -999.0,9, -999.00,9,     -999.0,9,  -999.0,9, 20170721,      528, -30.5270, 176.9416,        0.0,1,      0.060,1,      4.696,1,      0.146,1,      25.05,     -999.0,9,     -999.0,9,     -999.0,9,     -999.0,9,    11.6411,2,     -999.0,9
320620170703,        P06,      77,          1,         26,         26,2,20170721,       0538,   -30.5270,   176.9411,       4275,   385.8,  12.4225,  35.0411,2,  35.0459,2, 205.0185,2, 206.2593,2,     3.6,2,   11.75,2,    0.00,2,    0.80,2,   3.059,2,   1.498,2,   1.0200,2,  -999.0,9, -999.00,9,-999.0000,9, -999.00,9, -999.00,9, -999.00,  -999.0,9, -999.00,9,     -999.0,9,  -999.0,9, 20170721,      529, -30.5270, 176.9415,        0.0,1,      0.060,1,      4.695,1,      0.143,1,     -999.0,     -999.0,9,     -999.0,9,     -999.0,9,     -999.0,9,    12.6080,2,     -999.0,9
320620170703,        P06,      77,          1,         27,         27,2,20170721,       0538,   -30.5270,   176.9411,       4275,   337.0,  13.8648,  35.2110,2,  35.2030,3, 201.6944,2, 201.7566,2,     2.9,2,    9.66,2,    0.00,2,    0.66,2,   2.844,2,   1.437,2,   1.0410,2,  2118.8,2, 2310.84,2,   7.8405,2, -999.00,9, -999.00,9, -999.00,  -999.0,9, -999.00,9,     -999.0,9,  -999.0,9, 20170721,      529, -30.5270, 176.9416,        0.0,1,      0.059,1,      4.694,1,      0.141,1,      25.04,     -999.0,9,     -999.0,9,     -999.0,9,     -999.0,9,    14.0110,2,     -999.0,9
320620170703,        P06,      77,          1,         28,         28,2,20170721,       0538,   -30.5270,   176.9411,       4275,   281.3,  14.9931,  35.3314,2,  35.3261,3, 201.9655,2, 201.3209,2,     2.2,2,    7.80,2,    0.00,2,    0.54,2,   2.872,2,   1.392,2,   0.9360,2,  2111.6,2, 2317.02,6,   7.8681,2, -999.00,9, -999.00,9, -999.00,  -999.0,9, -999.00,9,     -999.0,9,  -999.0,9, 20170721,      530, -30.5269, 176.9416,        0.0,1,      0.060,1,      4.694,1,      0.140,1,      25.04,     -999.0,9,     -999.0,9,     -999.0,9,     -999.0,9,    15.0296,2,     -999.0,9
320620170703,        P06,      77,          1,         29,         29,2,20170721,       0538,   -30.5270,   176.9411,       4275,   236.5,  15.8251,  35.4204,2,  35.4326,2, 199.8192,2, 199.7650,2,     1.9,2,    6.59,2,    0.00,2,    0.47,2,   2.700,2,   1.364,2,   0.9640,2,  2102.2,2, 2322.96,2,   7.8918,2, -999.00,9, -999.00,9, -999.00,  -999.0,9, -999.00,9,     -999.0,9,  -999.0,9, 20170721,      531, -30.5269, 176.9415,        0.0,1,      0.060,1,      4.693,1,      0.141,1,      25.04,     -999.0,9,     -999.0,9,     -999.0,9,     -999.0,9,    16.0903,2,     -999.0,9
320620170703,        P06,      77,          1,         30,         30,2,20170721,       0538,   -30.5270,   176.9411,       4275,   185.1,  17.1990,  35.5544,2,  35.5513,2, 200.1919,2, 198.9575,2,     1.3,2,    5.10,2,    0.02,2,    0.37,2,   2.561,2,   1.310,2,   1.1100,2,  -999.0,9, -999.00,9,-999.0000,9, -999.00,9, -999.00,9, -999.00,  -999.0,9, -999.00,9,     -999.0,9,  -999.0,9, 20170721,      532, -30.5270, 176.9413,        0.0,1,      0.062,1,      4.681,1,      0.144,1,     -999.0,     -999.0,9,     -999.0,9,     -999.0,9,     -999.0,9,    17.3780,2,     -999.0,9
320620170703,        P06,      77,          1,         31,         31,2,20170721,       0538,   -30.5270,   176.9411,       4275,   135.6,  19.0760,  35.8046,2,  35.7963,2, 223.9059,2, 223.1739,2,     0.4,2,    0.44,2,    0.08,2,    0.07,2,   2.180,2,   1.199,2,   1.2320,2,  2065.3,2, 2347.22,6,   8.0015,2, -999.00,9, -999.00,9, -999.00,  -999.0,9, -999.00,9,     -999.0,9,  -999.0,9, 20170721,      534, -30.5271, 176.9411,        0.0,1,      0.133,1,      4.651,1,      0.195,1,      25.05,     -999.0,9,     -999.0,9,     -999.0,9,     -999.0,9,    19.0953,2,     -999.0,9
320620170703,        P06,      77,          1,         32,         32,2,20170721,       0538,   -30.5270,   176.9411,       4275,    89.9,  19.1165,  35.8037,2,  35.8813,2, 224.1365,2, 224.4459,2,     0.3,2,    0.36,2,    0.06,2,    0.06,2,   2.265,2,   1.192,2,   1.0560,2,  2063.3,2, 2345.06,2,   8.0040,2, -999.00,9, -999.00,9, -999.00,  -999.0,9, -999.00,9,     -999.0,9,  -999.0,9, 20170721,      535, -30.5271, 176.9412,        0.0,1,      0.157,1,      4.638,1,      0.195,1,      25.04,     -999.0,9,     -999.0,9,     -999.0,9,     -999.0,9,    19.1226,2,     -999.0,9