BOTTLE,20230922CCHSIOCBG
EXPOCODE,SECT_ID,STNNBR,CASTNO,SAMPNO,BTLNBR,BTLNBR_FLAG_W,DATE,TIME,LATITUDE,LONGITUDE,DEPTH,CTDPRS,CTDTMP,CTDSAL,CTDSAL_FLAG_W,SALNTY,SALNTY_FLAG_W,CTDOXY,CTDOXY_FLAG_W,OXYGEN,OXYGEN_FLAG_W,SILCAT,SILCAT_FLAG_W,NITRAT,NITRAT_FLAG_W,NITRIT,NITRIT_FLAG_W,PHSPHT,PHSPHT_FLAG_W,CFC-11,CFC-11_FLAG_W,CFC-12,CFC-12_FLAG_W,SF6,SF6_FLAG_W,TCARBN,TCARBN_FLAG_W,ALKALI,ALKALI_FLAG_W,PH_TOT,PH_TOT_FLAG_W,DELC13,DELC13_FLAG_W,DELC14,DELC14_FLAG_W,C14ERR,DOC,DOC_FLAG_W,TDN,TDN_FLAG_W,TON,TON_FLAG_W,D15N_NO3,D15N_NO3_FLAG_W,BTL_DATE,BTL_TIME,BTL_LAT,BTL_LON,CTDRINKO,CTDRINKO_FLAG_W,CTDFLUOR,CTDFLUOR_FLAG_W,CTDXMISS,CTDXMISS_FLAG_W,CTDBACKSCATTER,CTDBACKSCATTER_FLAG_W,PH_TMP,D18O_NO3,D18O_NO3_FLAG_W,DOP,DOP_FLAG_W,HPLC,HPLC_FLAG_W,POC,POC_FLAG_W,REFTMP,REFTMP_FLAG_W,TDP,TDP_FLAG_W
,,,,,,,,,,,METERS,DBAR,ITS-90,PSS-78,,PSS-78,,UMOL/KG,,UMOL/KG,,UMOL/KG,,UMOL/KG,,UMOL/KG,,UMOL/KG,,PMOL/KG,,PMOL/KG,,FMOL/KG,,UMOL/KG,,UMOL/KG,,,,/MILLE,,/MILLE,,/MILLE,UMOL/KG,,UMOL/KG,,UMOL/KG,,/MILLE,,,,,,VOLTS,,VOLTS,,VOLTS,,VOLTS,,DEGC,/MILLE,,UMOL/KG,,,,UG/L,,ITS-90,,UMOL/KG,
320620170703,        P06,     121,          2,          1,          1,2,20170805,       0552,   -32.5001,  -163.8247,       5514,  5612.5,   1.1381,  34.7080,2,  34.7091,2, 205.6188,2, 205.5088,2,   121.3,2,   32.22,2,    0.00,2,    2.24,2,   0.148,2,   0.086,2,   0.0000,2,  2265.4,6, 2361.21,2,   7.6062,2, -999.00,9, -999.00,9, -999.00,  -999.0,9, -999.00,9,     -999.0,9,  -999.0,1, 20170805,      335, -32.4998,-163.8243,        0.0,1,      0.061,1,      4.695,1,      0.128,1,      25.01,     -999.0,1,     -999.0,1,     -999.0,9,     -999.0,9,     1.1384,2,     -999.0,9
320620170703,        P06,     121,          2,          2,          2,2,20170805,       0552,   -32.5001,  -163.8247,       5514,  5353.6,   1.1040,  34.7083,2,  34.7095,2, 205.6188,2, 206.7074,2,   121.6,2,   32.22,2,    0.00,2,    2.23,2,   0.147,2,   0.086,2,   0.0000,2,  2263.6,2, 2361.05,2,   7.6057,2, -999.00,9, -999.00,9, -999.00,  -999.0,9, -999.00,9,     -999.0,9,  -999.0,1, 20170805,      344, -32.4997,-163.8246,        0.0,1,      0.061,1,      4.696,1,      0.130,1,      25.00,     -999.0,1,     -999.0,1,     -999.0,9,     -999.0,9,     1.1044,2,     -999.0,9
320620170703,        P06,     121,          2,          3,          3,2,20170805,       0552,   -32.5001,  -163.8247,       5514,  5128.6,   1.0830,  34.7085,2,  34.7095,2, 205.6188,2, 206.3446,2,   121.7,2,   32.20,2,    0.00,2,    2.24,2,   0.138,2,   0.083,2,   0.0000,2,  2264.0,2, 2361.02,2,   7.6064,2, -999.00,9, -999.00,9, -999.00,  -999.0,9, -999.00,9,     -999.0,9,  -999.0,1, 20170805,      350, -32.4996,-163.8247,        0.0,1,      0.061,1,      4.698,1,      0.125,1,      25.01,     -999.0,1,     -999.0,1,     -999.0,9,     -999.0,9,     1.0835,2,     -999.0,9
320620170703,        P06,     121,          2,          4,          4,2,20170805,       0552,   -32.5001,  -163.8247,       5514,  4786.7,   1.0615,  34.7093,2,  34.7105,2, 205.6188,2, 205.6998,2,   121.2,2,   32.19,2,    0.00,2,    2.24,2,   0.122,2,   0.074,2,   0.0000,2,  2263.6,2, 2360.30,2,   7.6060,2, -999.00,9, -999.00,9, -999.00,  -999.0,9, -999.00,9,     -999.0,9,  -999.0,1, 20170805,      358, -32.4997,-163.8245,        0.0,1,      0.061,1,      4.699,1,      0.125,1,      25.00,     -999.0,1,     -999.0,1,     -999.0,9,     -999.0,9,     1.0621,2,     -999.0,9
320620170703,        P06,     121,          2,          5,          5,2,20170805,       0552,   -32.5001,  -163.8247,       5514,  4476.6,   1.1007,  34.7119,2,  34.7131,2, 205.8106,2, 204.3404,2,   119.0,2,   32.13,2,    0.00,2,    2.23,2,   0.100,2,   0.062,2,   0.0000,2,  2262.4,2, 2359.41,2,   7.6077,2, -999.00,9, -999.00,9, -999.00,  -999.0,9, -999.00,9,     -999.0,9,  -999.0,1, 20170805,      404, -32.4997,-163.8245,        0.0,1,      0.061,1,      4.700,1,      0.126,1,      25.00,     -999.0,1,     -999.0,1,     -999.0,9,     -999.0,9,     1.1043,2,     -999.0,9
320620170703,        P06,     121,          2,          6,          6,2,20170805,       0552,   -32.5001,  -163.8247,       5514,  4065.1,   1.3040,  34.7163,2,  34.7170,2, 197.7235,2, 198.2537,2,   113.8,2,   32.13,2,    0.00,2,    2.23,2,   0.058,2,   0.040,2,   0.0000,2,  2263.3,2, 2361.70,2,   7.6049,2, -999.00,9, -999.00,9, -999.00,  -999.0,9, -999.00,9,     -999.0,9,  -999.0,1, 20170805,      412, -32.4999,-163.8244,        0.0,1,      0.061,1,      4.700,1,      0.126,1,      24.98,     -999.0,1,     -999.0,1,     -999.0,9,     -999.0,9,     1.3183,2,     -999.0,9
320620170703,        P06,     121,          2,          7,          7,2,20170805,       0552,   -32.5001,  -163.8247,       5514,  3759.2,   1.4911,  34.7109,2,  34.7121,2, 187.9929,2, 187.2419,2,   114.2,2,   32.75,2,    0.00,2,    2.28,2,   0.039,2,   0.028,2,   0.0000,2,  2273.1,2, 2372.58,6,   7.5968,2, -999.00,9, -999.00,9, -999.00,  -999.0,9, -999.00,9,     -999.0,9,  -999.0,1, 20170805,      418, -32.4999,-163.8245,        0.0,1,      0.061,1,      4.700,1,      0.127,1,      25.01,     -999.0,1,     -999.0,1,     -999.0,9,     -999.0,9,     1.4999,2,     -999.0,9
320620170703,        P06,     121,          2,          8,          8,2,20170805,       0552,   -32.5001,  -163.8247,       5514,  3451.1,   1.6322,  34.6938,2,  34.6938,2, 171.2846,3, 169.0468,2,   123.0,2,   34.33,2,    0.00,2,    2.39,2,   0.029,2,   0.022,2,   0.0000,2,  2294.7,2, 2390.74,2,   7.5836,2, -999.00,9, -999.00,9, -999.00,  -999.0,9, -999.00,9,     -999.0,9,  -999.0,1, 20170805,      424, -32.5000,-163.8247,        0.0,1,      0.061,1,      4.700,1,      0.128,1,      24.97,     -999.0,1,     -999.0,1,     -999.0,9,     -999.0,9,     1.6436,2,     -999.0,9
320620170703,        P06,     121,          2,          9,          9,2,20170805,       0552,   -32.5001,  -163.8247,       5514,  3144.2,   1.7423,  34.6755,2,  34.6785,2, 158.4842,2, 159.0277,2,   129.5,2,   35.49,2,    0.00,2,    2.46,2,   0.024,2,   0.020,2,   0.0000,2,  2309.7,2, 2397.71,2,   7.5736,2, -999.00,9, -999.00,9, -999.00,  -999.0,9, -999.00,9,     -999.0,9,  -999.0,1, 20170805,      430, -32.4999,-163.8250,        0.0,1,      0.061,1,      4.700,1,      0.129,1,      24.98,     -999.0,1,     -999.0,1,     -999.0,9,     -999.0,9,     1.7375,2,     -999.0,9
320620170703,        P06,     121,          2,         10,         10,2,20170805,       0552,   -32.5001,  -163.8247,       5514,  2873.2,   1.8284,  34.6657,2,  34.6677,2, 151.3919,2, 150.4971,2,   130.1,2,   35.98,2,    0.00,2,    2.51,2,   0.022,2,   0.018,2,   0.0000,2,  2314.3,2, 2385.24,4,   7.5679,2, -999.00,9, -999.00,9, -999.00,  -999.0,9, -999.00,9,     -999.0,9,  -999.0,1, 20170805,      436, -32.4999,-163.8251,        0.0,1,      0.061,1,      4.701,1,      0.131,1,      25.00,     -999.0,1,     -999.0,1,     -999.0,9,     -999.0,9,     1.8220,2,     -999.0,9
320620170703,        P06,     121,          2,         11,         11,2,20170805,       0552,   -32.5001,  -163.8247,       5514,  2620.6,   1.9125,  34.6579,2,  34.6594,2, 148.0229,2, 148.0014,2,   127.4,2,   36.09,2,    0.00,2,    2.51,2,   0.023,2,   0.019,2,   0.0000,2,  2313.4,6, 2398.47,2,   7.5665,2, -999.00,9, -999.00,9, -999.00,  -999.0,9, -999.00,9,     -999.0,9,  -999.0,1, 20170805,      441, -32.5000,-163.8248,        0.0,1,      0.061,1,      4.701,1,      0.128,1,      25.01,     -999.0,1,     -999.0,1,     -999.0,9,     -999.0,9,     1.9046,2,     -999.0,9
320620170703,        P06,     121,          2,         12,         12,2,20170805,       0552,   -32.5001,  -163.8247,       5514,  2364.1,   2.0142,  34.6487,2,  34.6506,2, 146.5987,2, 147.1557,2,   123.2,2,   36.01,2,    0.00,2,    2.51,2,   0.024,2,   0.020,2,   0.0000,2,  2310.8,2, 2400.36,2,   7.5638,2, -999.00,9, -999.00,9, -999.00,  -999.0,9, -999.00,9,     -999.0,9,  -999.0,1, 20170805,      446, -32.5000,-163.8249,        0.0,1,      0.061,1,      4.701,1,      0.131,1,      25.00,     -999.0,1,     -999.0,1,     -999.0,9,     -999.0,9,     2.0100,2,     -999.0,9
320620170703,        P06,     121,          2,         13,         13,2,20170805,       0552,   -32.5001,  -163.8247,       5514,  2109.7,   2.1583,  34.6364,2,  34.6362,2, 147.8133,2, 149.2876,2,   114.8,2,   35.74,2,    0.00,2,    2.49,2,   0.024,2,   0.018,2,   0.0000,2,  2301.1,2, 2384.58,2,   7.5656,2, -999.00,9, -999.00,9, -999.00,  -999.0,9, -999.00,9,     -999.0,9,  -999.0,1, 20170805,      451, -32.5000,-163.8249,        0.0,1,      0.062,1,      4.701,1,      0.133,1,      25.01,     -999.0,1,     -999.0,1,     -999.0,9,     -999.0,9,     2.1782,2,     -999.0,9
320620170703,        P06,     121,          2,         14,         14,2,20170805,       0552,   -32.5001,  -163.8247,       5514,  1884.5,   2.3428,  34.6153,2,  34.6152,2, 150.7572,3, 152.4109,2,   104.6,2,   35.44,2,    0.00,2,    2.47,2,   0.025,2,   0.020,2,   0.0000,2,  2290.1,2, 2375.86,2,   7.5660,2, -999.00,9, -999.00,9, -999.00,  -999.0,9, -999.00,9,     -999.0,9,  -999.0,1, 20170805,      456, -32.5000,-163.8248,        0.0,1,      0.061,1,      4.701,1,      0.130,1,      24.97,     -999.0,1,     -999.0,1,     -999.0,9,     -999.0,9,     2.3528,2,     -999.0,9
320620170703,        P06,     121,          2,         15,         15,2,20170805,       0552,   -32.5001,  -163.8247,       5514,  1681.8,   2.5750,  34.5776,2,  34.5779,2, 156.5777,2, 157.8054,2,    90.8,2,   35.06,2,    0.00,2,    2.42,2,   0.028,2,   0.024,2,   0.0000,2,  2274.4,2, 2358.28,2,   7.5665,2, -999.00,9, -999.00,9, -999.00,  -999.0,9, -999.00,9,     -999.0,9,  -999.0,1, 20170805,      500, -32.5000,-163.8246,        0.0,1,      0.061,1,      4.701,1,      0.134,1,      25.00,     -999.0,1,     -999.0,1,     -999.0,9,     -999.0,9,     2.5789,2,     -999.0,9
320620170703,        P06,     121,          2,         16,         16,2,20170805,       0552,   -32.5001,  -163.8247,       5514,  1478.7,   2.9276,  34.4964,2,  34.5025,2, 166.4272,2, 167.7585,2,    71.2,2,   34.61,2,    0.00,2,    2.37,2,   0.104,2,   0.065,2,   0.0000,2,  2251.3,2, 2334.76,2,   7.5676,2, -999.00,9, -999.00,9, -999.00,  -999.0,9, -999.00,9,     -999.0,9,  -999.0,1, 20170805,      504, -32.5000,-163.8249,        0.0,1,      0.061,1,      4.701,1,      0.135,1,      24.99,     -999.0,1,     -999.0,1,     -999.0,9,     -999.0,9,     2.9029,2,     -999.0,9
320620170703,        P06,     121,          2,         17,         17,2,20170805,       0552,   -32.5001,  -163.8247,       5514,  1348.3,   3.2560,  34.4317,2,  34.4430,2, 174.9475,2, 175.5568,2,    59.4,2,   34.13,2,    0.00,2,    2.33,2,   0.211,2,   0.123,2,   0.0000,2,  2237.2,2, 2322.57,2,   7.5738,2, -999.00,9, -999.00,9, -999.00,  -999.0,9, -999.00,9,     -999.0,9,  -999.0,1, 20170805,      507, -32.5000,-163.8250,        0.0,1,      0.060,1,      4.701,1,      0.134,1,      24.99,     -999.0,1,     -999.0,1,     -999.0,9,     -999.0,9,     3.2039,2,     -999.0,9
320620170703,        P06,     121,          2,         18,         18,2,20170805,       0552,   -32.5001,  -163.8247,       5514,  1245.8,   3.5921,  34.3873,2,  34.3915,3, 183.9395,2, 184.6091,2,    48.4,2,   33.35,2,    0.00,2,    2.28,2,   0.474,2,   0.242,2,   0.0000,2,  2221.1,2, 2311.26,2,   7.5857,2, -999.00,9, -999.00,9, -999.00,  -999.0,9, -999.00,9,     -999.0,9,  -999.0,1, 20170805,      510, -32.5000,-163.8250,        0.0,1,      0.060,1,      4.701,1,      0.134,1,      25.00,     -999.0,1,     -999.0,1,     -999.0,9,     -999.0,9,     3.5698,2,     -999.0,9
320620170703,        P06,     121,          2,         19,         19,2,20170805,       0552,   -32.5001,  -163.8247,       5514,  1145.5,   4.1489,  34.3475,2,  34.3505,2, 193.8235,2, 193.9324,2,    37.3,2,   32.00,2,    0.00,2,    2.17,2,   0.843,2,   0.413,2,   0.1120,2,  2204.9,2, 2298.37,2,   7.6049,2, -999.00,9, -999.00,9, -999.00,  -999.0,9, -999.00,9,     -999.0,9,  -999.0,1, 20170805,      512, -32.5000,-163.8251,        0.0,1,      0.061,1,      4.700,1,      0.134,1,      25.02,     -999.0,1,     -999.0,1,     -999.0,9,     -999.0,9,     4.0942,2,     -999.0,9
320620170703,        P06,     121,          2,         20,         20,2,20170805,       0552,   -32.5001,  -163.8247,       5514,  1045.6,   4.7754,  34.3267,2,  34.3258,2, 204.6887,2, 203.6419,2,    27.3,2,   30.22,2,    0.00,2,    2.03,2,   1.245,2,   0.595,2,   0.1320,2,  2188.4,2, 2291.50,2,   7.6286,2, -999.00,9, -999.00,9, -999.00,  -999.0,9, -999.00,9,     -999.0,9,  -999.0,1, 20170805,      515, -32.5000,-163.8249,        0.0,1,      0.059,1,      4.700,1,      0.135,1,      25.00,     -999.0,1,     -999.0,1,     -999.0,9,     -999.0,9,     4.7370,2,     -999.0,9
320620170703,        P06,     121,          2,         21,         21,2,20170805,       0552,   -32.5001,  -163.8247,       5514,   942.4,   5.3070,  34.3145,2,  34.3160,2, 215.9592,2, 214.7498,2,    19.2,2,   28.26,2,    0.00,2,    1.90,2,   1.619,2,   0.810,2,   0.3210,2,  2172.4,2, 2283.35,6,   7.6545,2, -999.00,9, -999.00,9, -999.00,  -999.0,9, -999.00,9,     -999.0,9,  -999.0,1, 20170805,      518, -32.5001,-163.8248,        0.0,1,      0.060,1,      4.699,1,      0.135,1,      25.00,     -999.0,1,     -999.0,1,     -999.0,9,     -999.0,9,     5.3454,2,     -999.0,9
320620170703,        P06,     121,          2,         22,         22,2,20170805,       0552,   -32.5001,  -163.8247,       5514,   841.0,   5.9338,  34.3175,2,  34.3170,2, 228.6511,2, 228.3412,2,    12.5,2,   25.86,2,    0.00,2,    1.72,2,   2.401,2,   1.196,2,   0.4170,2,  2157.6,2, 2278.67,2,   7.6819,2, -999.00,9, -999.00,9, -999.00,  -999.0,9, -999.00,9,     -999.0,9,  -999.0,1, 20170805,      521, -32.5000,-163.8249,        0.0,1,      0.058,1,      4.699,1,      0.134,1,      24.97,     -999.0,1,     -999.0,1,     -999.0,9,     -999.0,9,     5.9251,2,     -999.0,9
320620170703,        P06,     121,          2,         23,         23,2,20170805,       0552,   -32.5001,  -163.8247,       5514,   740.4,   6.4144,  34.3376,2,  34.3386,2, 236.5034,2, 236.2832,2,     9.1,2,   24.02,2,    0.00,2,    1.58,2,   2.982,2,   1.523,2,   0.5940,2,  2149.1,2, 2279.43,2,   7.6983,2, -999.00,9, -999.00,9, -999.00,  -999.0,9, -999.00,9,     -999.0,9,  -999.0,1, 20170805,      524, -32.5000,-163.8250,        0.0,1,      0.058,1,      4.698,1,      0.136,1,      25.00,     -999.0,1,     -999.0,1,     -999.0,9,     -999.0,9,     6.4238,2,     -999.0,9
320620170703,        P06,     121,          2,         24,         24,4,20170805,       0552,   -32.5001,  -163.8247,       5514,   642.5,   6.9302,  34.3708,3,  34.3811,3, 240.7080,2, 189.0175,3,    21.3,3,   24.62,3,    0.00,3,    1.63,3,   0.126,4,   0.066,4,   0.0000,4,  2271.6,4, 2299.25,3,   7.6362,4, -999.00,9, -999.00,9, -999.00,  -999.0,9, -999.00,9,     -999.0,9,  -999.0,1, 20170805,      526, -32.5000,-163.8249,        0.0,1,      0.058,1,      4.698,1,      0.136,1,      25.00,     -999.0,1,     -999.0,1,     -999.0,9,     -999.0,9,     6.9511,3,     -999.0,9
320620170703,        P06,     121,          2,         25,         25,2,20170805,       0552,   -32.5001,  -163.8247,       5514,   539.4,   7.5302,  34.4227,2,  34.4320,2, 239.3981,2, 238.3625,2,     5.1,2,   20.32,2,    0.00,2,    1.33,2,   3.521,2,   1.902,2,   1.1030,2,  2142.5,6, 2279.96,2,   7.7204,2, -999.00,9, -999.00,9, -999.00,  -999.0,9, -999.00,9,     -999.0,9,  -999.0,1, 20170805,      529, -32.5000,-163.8250,        0.0,1,      0.059,1,      4.697,1,      0.136,1,      25.00,     -999.0,1,     -999.0,1,     -999.0,9,     -999.0,9,     7.6484,2,     -999.0,9
320620170703,        P06,     121,          2,         26,         26,2,20170805,       0552,   -32.5001,  -163.8247,       5514,   438.5,   8.5471,  34.5164,2,  34.5345,2, 228.5921,2, 227.8476,2,     3.8,2,   17.83,2,    0.00,2,    1.18,2,   3.380,2,   1.835,2,   1.1390,2,  2137.7,2, 2277.86,2,   7.7354,2, -999.00,9, -999.00,9, -999.00,  -999.0,9, -999.00,9,     -999.0,9,  -999.0,1, 20170805,      532, -32.5001,-163.8248,        0.0,1,      0.059,1,      4.695,1,      0.139,1,      25.01,     -999.0,1,     -999.0,1,     -999.0,9,     -999.0,9,     8.7556,2,     -999.0,9
320620170703,        P06,     121,          2,         27,         27,4,20170805,       0552,   -32.5001,  -163.8247,       5514,   366.9,   9.7066,  34.6449,3,  34.5500,3, 216.2704,2, 225.4364,3,     4.8,3,   18.14,3,    0.00,3,    1.18,3,   3.188,3,   1.737,3,   1.0500,3,  2140.8,4, 2283.93,3,   7.7345,3, -999.00,9, -999.00,9, -999.00,  -999.0,9, -999.00,9,     -999.0,9,  -999.0,1, 20170805,      534, -32.5000,-163.8249,        0.0,1,      0.060,1,      4.694,1,      0.139,1,      25.00,     -999.0,1,     -999.0,1,     -999.0,9,     -999.0,9,     9.9818,3,        1.2,2
320620170703,        P06,     121,          2,         28,         28,2,20170805,       0552,   -32.5001,  -163.8247,       5514,   315.7,  10.7152,  34.7536,2,  34.8247,2, 206.1907,2, 207.7668,2,     2.4,2,   12.94,2,    0.00,2,    0.86,2,   2.928,2,   1.618,2,   1.0550,2,  2127.5,2, 2294.03,2,   7.7830,2, -999.00,9, -999.00,9, -999.00,  -999.0,9, -999.00,9,     -999.0,9,  -999.0,1, 20170805,      536, -32.5000,-163.8250,        0.0,1,      0.059,1,      4.692,1,      0.139,1,      24.97,     -999.0,1,     -999.0,1,     -999.0,9,     -999.0,9,    11.3569,2,       0.87,2
320620170703,        P06,     121,          2,         29,         29,2,20170805,       0552,   -32.5001,  -163.8247,       5514,   264.7,  12.4220,  34.9750,2,  35.0618,2, 204.3184,3, 207.3987,2,     1.9,2,    9.47,2,    0.00,2,    0.63,2,   2.690,2,   1.545,2,   1.3050,2,  2120.1,2, 2305.64,2,   7.8252,2, -999.00,9, -999.00,9, -999.00,  -999.0,9, -999.00,9,     -999.0,9,  -999.0,1, 20170805,      538, -32.4999,-163.8254,        0.0,1,      0.059,1,      4.691,1,      0.136,1,      25.00,     -999.0,1,     -999.0,1,     -999.0,9,     -999.0,9,    13.0241,2,       0.68,2
320620170703,        P06,     121,          2,         30,         30,2,20170805,       0552,   -32.5001,  -163.8247,       5514,   216.7,  14.0519,  35.2021,2,  35.2343,2, 207.2525,3, 210.7361,2,     1.1,2,    6.37,2,    0.02,2,    0.43,2,   2.521,2,   1.478,2,   1.3410,2,  2108.1,2, 2312.30,2,   7.8645,2, -999.00,9, -999.00,9, -999.00,  -999.0,9, -999.00,9,     -999.0,9,  -999.0,1, 20170805,      540, -32.4999,-163.8253,        0.0,1,      0.060,1,      4.689,1,      0.137,1,      24.97,     -999.0,1,     -999.0,1,     -999.0,9,     -999.0,9,    14.3708,2,       0.54,2
320620170703,        P06,     121,          2,         31,         31,2,20170805,       0552,   -32.5001,  -163.8247,       5514,   167.2,  15.2612,  35.3544,2,  35.3642,2, 209.8745,2, 211.2116,2,     0.6,2,    4.70,2,    0.02,2,    0.33,2,   2.462,2,   1.454,2,   1.4720,2,  2100.6,2, 2319.32,2,   7.8899,2, -999.00,9, -999.00,9, -999.00,  -999.0,9, -999.00,9,     -999.0,9,  -999.0,1, 20170805,      542, -32.5000,-163.8250,        0.0,1,      0.074,1,      4.684,1,      0.142,1,      25.00,     -999.0,1,     -999.0,1,     -999.0,9,     -999.0,9,    15.3913,2,        0.4,2
320620170703,        P06,     121,          2,         32,         32,2,20170805,       0552,   -32.5001,  -163.8247,       5514,   113.8,  17.0931,  35.5658,2,  35.5294,2, 222.2434,2, 224.0095,2,     0.2,2,    1.36,2,    0.08,2,    0.12,2,   2.336,2,   1.373,2,   1.3550,2,  2082.4,2, 2331.03,2,   7.9484,2, -999.00,9, -999.00,9, -999.00,  -999.0,9, -999.00,9,     -999.0,9,  -999.0,1, 20170805,      544, -32.5000,-163.8247,        0.0,1,      0.093,1,      4.672,1,      0.149,1,      25.01,     -999.0,1,     -999.0,1,     -999.0,9,     -999.0,9,    16.8183,2,       0.29,2