BOTTLE,20230922CCHSIOCBG
EXPOCODE,SECT_ID,STNNBR,CASTNO,SAMPNO,BTLNBR,BTLNBR_FLAG_W,DATE,TIME,LATITUDE,LONGITUDE,DEPTH,CTDPRS,CTDTMP,CTDSAL,CTDSAL_FLAG_W,SALNTY,SALNTY_FLAG_W,CTDOXY,CTDOXY_FLAG_W,OXYGEN,OXYGEN_FLAG_W,SILCAT,SILCAT_FLAG_W,NITRAT,NITRAT_FLAG_W,NITRIT,NITRIT_FLAG_W,PHSPHT,PHSPHT_FLAG_W,CFC-11,CFC-11_FLAG_W,CFC-12,CFC-12_FLAG_W,SF6,SF6_FLAG_W,TCARBN,TCARBN_FLAG_W,ALKALI,ALKALI_FLAG_W,PH_TOT,PH_TOT_FLAG_W,DELC13,DELC13_FLAG_W,DELC14,DELC14_FLAG_W,C14ERR,DOC,DOC_FLAG_W,TDN,TDN_FLAG_W,TON,TON_FLAG_W,D15N_NO3,D15N_NO3_FLAG_W,BTL_DATE,BTL_TIME,BTL_LAT,BTL_LON,CTDRINKO,CTDRINKO_FLAG_W,CTDFLUOR,CTDFLUOR_FLAG_W,CTDXMISS,CTDXMISS_FLAG_W,CTDBACKSCATTER,CTDBACKSCATTER_FLAG_W,PH_TMP,D18O_NO3,D18O_NO3_FLAG_W,DOP,DOP_FLAG_W,HPLC,HPLC_FLAG_W,POC,POC_FLAG_W,REFTMP,REFTMP_FLAG_W,TDP,TDP_FLAG_W
,,,,,,,,,,,METERS,DBAR,ITS-90,PSS-78,,PSS-78,,UMOL/KG,,UMOL/KG,,UMOL/KG,,UMOL/KG,,UMOL/KG,,UMOL/KG,,PMOL/KG,,PMOL/KG,,FMOL/KG,,UMOL/KG,,UMOL/KG,,,,/MILLE,,/MILLE,,/MILLE,UMOL/KG,,UMOL/KG,,UMOL/KG,,/MILLE,,,,,,VOLTS,,VOLTS,,VOLTS,,VOLTS,,DEGC,/MILLE,,UMOL/KG,,,,UG/L,,ITS-90,,UMOL/KG,
320620170703,        P06,      57,          1,          1,         37,2,20170715,       2344,   -30.0798,   170.2240,       2305,  2326.4,   2.1407,  34.6501,2,  34.6508,2, 155.5904,2, 155.5475,2,   117.4,2,   34.96,2,    0.00,2,    2.43,2,   0.045,2,   0.033,2,   0.0000,2,  2300.8,2, 2387.00,6,   7.5761,2, -999.00,9, -999.00,9, -999.00,  -999.0,9, -999.00,9,     -999.0,9,  -999.0,9, 20170715,     2216, -30.0804, 170.2240,        0.0,1,      0.061,1,      0.006,1,      0.144,1,      25.04,     -999.0,9,     -999.0,9,     -999.0,9,     -999.0,9,     2.1413,2,     -999.0,9
320620170703,        P06,      57,          1,          2,          2,2,20170715,       2344,   -30.0798,   170.2240,       2305,  2205.0,   2.2069,  34.6447,2,  34.6419,2, 155.8023,2, 155.9985,2,   114.0,2,   34.92,2,    0.00,2,    2.43,2,-999.000,9,-999.000,9,-999.0000,9,  -999.0,9, -999.00,9,-999.0000,9, -999.00,9, -999.00,9, -999.00,  -999.0,9, -999.00,9,     -999.0,9,  -999.0,9, 20170715,     2220, -30.0803, 170.2240,        0.0,1,      0.061,1,      0.006,1,      0.149,1,     -999.0,     -999.0,9,     -999.0,9,     -999.0,9,     -999.0,9,     2.2174,2,     -999.0,9
320620170703,        P06,      57,          1,          3,         38,2,20170715,       2344,   -30.0798,   170.2240,       2305,  2089.9,   2.3734,  34.6310,2,  34.6303,2, 156.2769,2, 155.8171,2,   109.5,2,   34.78,2,    0.00,2,    2.41,2,   0.066,2,   0.045,2,   0.0000,2,  -999.0,9, -999.00,9,-999.0000,9, -999.00,9, -999.00,9, -999.00,  -999.0,9, -999.00,9,     -999.0,9,  -999.0,9, 20170715,     2223, -30.0802, 170.2240,        0.0,1,      0.062,1,      0.006,1,      0.147,1,     -999.0,     -999.0,9,     -999.0,9,     -999.0,9,     -999.0,9,     2.3622,2,     -999.0,9
320620170703,        P06,      57,          1,          4,          4,2,20170715,       2344,   -30.0798,   170.2240,       2305,  1956.6,   2.6383,  34.6092,2,  34.6099,2, 157.7624,2, 158.3355,2,   102.1,2,   34.42,2,    0.00,2,    2.39,2,-999.000,9,-999.000,9,-999.0000,9,  -999.0,9, -999.00,9,-999.0000,9, -999.00,9, -999.00,9, -999.00,  -999.0,9, -999.00,9,     -999.0,9,  -999.0,9, 20170715,     2227, -30.0802, 170.2240,        0.0,1,      0.061,1,      0.006,1,      0.144,1,     -999.0,     -999.0,9,     -999.0,9,     -999.0,9,     -999.0,9,     2.6300,2,     -999.0,9
320620170703,        P06,      57,          1,          5,         39,2,20170715,       2344,   -30.0798,   170.2240,       2305,  1854.6,   2.7838,  34.5964,2,  34.5957,2, 158.7647,2, 158.5175,2,    98.3,2,   34.26,2,    0.00,2,    2.36,2,   0.117,2,   0.076,2,   0.0000,2,  -999.0,9, -999.00,9,-999.0000,9, -999.00,9, -999.00,9, -999.00,  -999.0,9, -999.00,9,     -999.0,9,  -999.0,9, 20170715,     2230, -30.0803, 170.2240,        0.0,1,      0.061,1,      0.006,1,      0.145,1,     -999.0,     -999.0,9,     -999.0,9,     -999.0,9,     -999.0,9,     2.7848,2,     -999.0,9
320620170703,        P06,      57,          1,          6,          6,2,20170715,       2344,   -30.0798,   170.2240,       2305,  1755.5,   2.8721,  34.5887,2,  34.5863,2, 159.6418,2, 159.6449,2,    95.2,2,   34.09,2,    0.00,2,    2.37,2,-999.000,9,-999.000,9,-999.0000,9,  -999.0,9, -999.00,9,-999.0000,9, -999.00,9, -999.00,9, -999.00,  -999.0,9, -999.00,9,     -999.0,9,  -999.0,9, 20170715,     2233, -30.0805, 170.2240,        0.0,1,      0.062,1,      0.006,1,      0.143,1,     -999.0,     -999.0,9,     -999.0,9,     -999.0,9,     -999.0,9,     2.8897,2,     -999.0,9
320620170703,        P06,      57,          1,          7,         40,2,20170715,       2344,   -30.0798,   170.2240,       2305,  1652.4,   3.0411,  34.5750,2,  34.5773,2, 160.8685,2, 160.9935,2,    91.1,2,   33.88,2,    0.00,2,    2.35,2,   0.158,2,   0.098,2,   0.0000,2,  -999.0,9, -999.00,9,-999.0000,9, -999.00,9, -999.00,9, -999.00,  -999.0,9, -999.00,9,     -999.0,9,  -999.0,9, 20170715,     2236, -30.0806, 170.2240,        0.0,1,      0.061,1,      0.006,1,      0.143,1,     -999.0,     -999.0,9,     -999.0,9,     -999.0,9,     -999.0,9,     3.0101,2,     -999.0,9
320620170703,        P06,      57,          1,          8,          8,2,20170715,       2344,   -30.0798,   170.2240,       2305,  1550.8,   3.2579,  34.5536,2,  34.5496,2, 164.0134,2, 163.9697,2,    83.5,2,   33.45,2,    0.00,2,    2.31,2,-999.000,9,-999.000,9,-999.0000,9,  -999.0,9, -999.00,9,-999.0000,9, -999.00,9, -999.00,9, -999.00,  -999.0,9, -999.00,9,     -999.0,9,  -999.0,9, 20170715,     2240, -30.0807, 170.2240,        0.0,1,      0.061,1,      0.006,1,      0.142,1,     -999.0,     -999.0,9,     -999.0,9,     -999.0,9,     -999.0,9,     3.2785,2,     -999.0,9
320620170703,        P06,      57,          1,          9,         41,2,20170715,       2344,   -30.0798,   170.2240,       2305,  1450.1,   3.4776,  34.5272,2,  34.5246,2, 166.9659,2, 166.8460,2,    76.2,2,   33.21,2,    0.00,2,    2.29,2,   0.235,2,   0.139,2,   0.0000,2,  2254.7,2, 2342.08,2,   7.5915,2, -999.00,9, -999.00,9, -999.00,  -999.0,9, -999.00,9,     -999.0,9,  -999.0,9, 20170715,     2243, -30.0808, 170.2240,        0.0,1,      0.060,1,      0.006,1,      0.143,1,      25.02,     -999.0,9,     -999.0,9,     -999.0,9,     -999.0,9,     3.4831,2,     -999.0,9
320620170703,        P06,      57,          1,         10,         10,2,20170715,       2344,   -30.0798,   170.2240,       2305,  1348.3,   3.9578,  34.4813,2,  34.4697,2, 175.7062,2, 175.5519,2,    59.9,2,   32.25,2,    0.00,2,    2.22,2,-999.000,9,-999.000,9,-999.0000,9,  -999.0,9, -999.00,9,-999.0000,9, -999.00,9, -999.00,9, -999.00,  -999.0,9, -999.00,9,     -999.0,9,  -999.0,9, 20170715,     2246, -30.0808, 170.2240,        0.0,1,      0.060,1,      0.006,1,      0.138,1,     -999.0,     -999.0,9,     -999.0,9,     -999.0,9,     -999.0,9,     3.9989,2,     -999.0,9
320620170703,        P06,      57,          1,         11,         42,2,20170715,       2344,   -30.0798,   170.2240,       2305,  1246.7,   4.3386,  34.4497,2,  34.4479,2, 180.7065,2, 180.6095,2,    52.1,2,   31.44,2,    0.00,2,    2.16,2,   0.493,2,   0.275,2,   0.0470,2,  -999.0,9, -999.00,9,-999.0000,9, -999.00,9, -999.00,9, -999.00,  -999.0,9, -999.00,9,     -999.0,9,  -999.0,9, 20170715,     2249, -30.0809, 170.2241,        0.0,1,      0.061,1,      0.006,1,      0.138,1,     -999.0,     -999.0,9,     -999.0,9,     -999.0,9,     -999.0,9,     4.3476,2,     -999.0,9
320620170703,        P06,      57,          1,         12,         12,2,20170715,       2344,   -30.0798,   170.2240,       2305,  1145.9,   4.8331,  34.4241,2,  34.4222,2, 188.7870,2, 189.1330,2,    40.3,2,   30.21,2,    0.00,2,    2.06,2,-999.000,9,-999.000,9,-999.0000,9,  -999.0,9, -999.00,9,-999.0000,9, -999.00,9, -999.00,9, -999.00,  -999.0,9, -999.00,9,     -999.0,9,  -999.0,9, 20170715,     2252, -30.0808, 170.2240,        0.0,1,      0.060,1,      0.006,1,      0.138,1,     -999.0,     -999.0,9,     -999.0,9,     -999.0,9,     -999.0,9,     4.8525,2,     -999.0,9
320620170703,        P06,      57,          1,         13,         43,2,20170715,       2344,   -30.0798,   170.2240,       2305,  1043.0,   5.5899,  34.4239,2,  34.4302,2, 198.6009,2, 198.6126,2,    29.6,2,   27.85,2,    0.00,2,    1.89,2,   1.167,2,   0.632,2,   0.1830,2,  -999.0,9, -999.00,9,-999.0000,9, -999.00,9, -999.00,9, -999.00,  -999.0,9, -999.00,9,     -999.0,9,  -999.0,9, 20170715,     2255, -30.0807, 170.2240,        0.0,1,      0.060,1,      0.006,1,      0.141,1,     -999.0,     -999.0,9,     -999.0,9,     -999.0,9,     -999.0,9,     5.7138,2,     -999.0,9
320620170703,        P06,      57,          1,         14,         14,2,20170715,       2344,   -30.0798,   170.2240,       2305,   943.9,   6.3651,  34.4391,2,  34.4432,2, 205.5010,2, 205.7083,2,    20.8,2,   25.84,2,    0.00,2,    1.76,2,-999.000,9,-999.000,9,-999.0000,9,  -999.0,9, -999.00,9,-999.0000,9, -999.00,9, -999.00,9, -999.00,  -999.0,9, -999.00,9,     -999.0,9,  -999.0,9, 20170715,     2258, -30.0806, 170.2240,        0.0,1,      0.060,1,      0.006,1,      0.140,1,     -999.0,     -999.0,9,     -999.0,9,     -999.0,9,     -999.0,9,     6.4409,2,     -999.0,9
320620170703,        P06,      57,          1,         15,         15,2,20170715,       2344,   -30.0798,   170.2240,       2305,   842.5,   7.3852,  34.5098,2,  34.5233,2, 205.8564,2, 204.9709,2,    15.6,2,   23.62,2,    0.00,2,    1.59,2,   1.920,2,   1.045,2,   0.3710,2,  2162.6,2, 2292.00,2,   7.6922,2, -999.00,9, -999.00,9, -999.00,  -999.0,9, -999.00,9,     -999.0,9,  -999.0,9, 20170715,     2301, -30.0805, 170.2239,        0.0,1,      0.059,1,      0.006,1,      0.142,1,      24.99,     -999.0,9,     -999.0,9,     -999.0,9,     -999.0,9,     7.4857,2,     -999.0,9
320620170703,        P06,      57,          1,         16,         16,2,20170715,       2344,   -30.0798,   170.2240,       2305,   741.1,   8.5810,  34.6343,2,  34.6056,2, 201.6704,2, 202.5869,2,    12.7,2,   21.85,2,    0.00,2,    1.47,2,-999.000,9,-999.000,9,-999.0000,9,  -999.0,9, -999.00,9,-999.0000,9, -999.00,9, -999.00,9, -999.00,  -999.0,9, -999.00,9,     -999.0,9,  -999.0,9, 20170715,     2305, -30.0803, 170.2239,        0.0,1,      0.060,1,      0.006,1,      0.143,1,     -999.0,     -999.0,9,     -999.0,9,     -999.0,9,     -999.0,9,     8.3657,2,     -999.0,9
320620170703,        P06,      57,          1,         17,         17,2,20170715,       2344,   -30.0798,   170.2240,       2305,   639.5,  10.1942,  34.8234,2,  34.8208,2, 197.9729,2, 197.4119,2,     8.7,2,   18.12,2,    0.00,2,    1.22,2,   2.278,2,   1.290,2,   0.6190,2,  2148.7,2, 2292.21,2,   7.7428,2, -999.00,9, -999.00,9, -999.00,  -999.0,9, -999.00,9,     -999.0,9,  -999.0,9, 20170715,     2308, -30.0802, 170.2239,        0.0,1,      0.060,1,      0.006,1,      0.146,1,      25.00,     -999.0,9,     -999.0,9,     -999.0,9,     -999.0,9,    10.2108,2,     -999.0,9
320620170703,        P06,      57,          1,         18,         18,2,20170715,       2344,   -30.0798,   170.2240,       2305,   538.8,  11.8771,  35.0079,2,  34.9963,2, 198.3199,2, 198.4304,2,     5.5,2,   14.54,2,    0.00,2,    1.00,2,-999.000,9,-999.000,9,-999.0000,9,  -999.0,9, -999.00,9,-999.0000,9, -999.00,9, -999.00,9, -999.00,  -999.0,9, -999.00,9,     -999.0,9,  -999.0,9, 20170715,     2311, -30.0802, 170.2239,        0.0,1,      0.061,1,      0.006,1,      0.146,1,     -999.0,     -999.0,9,     -999.0,9,     -999.0,9,     -999.0,9,    11.7741,2,     -999.0,9
320620170703,        P06,      57,          1,         19,         19,2,20170715,       2344,   -30.0798,   170.2240,       2305,   468.7,  12.3397,  35.0563,2,  35.0537,2, 197.3509,2, 197.5290,2,     4.7,2,   13.43,2,    0.00,2,    0.92,2,   2.323,2,   1.346,2,   0.7850,2,  -999.0,9, -999.00,9,-999.0000,9, -999.00,9, -999.00,9, -999.00,  -999.0,9, -999.00,9,     -999.0,9,  -999.0,9, 20170715,     2314, -30.0801, 170.2239,        0.0,1,      0.060,1,      0.006,1,      0.144,1,     -999.0,     -999.0,9,     -999.0,9,     -999.0,9,     -999.0,9,    12.4070,2,     -999.0,9
320620170703,        P06,      57,          1,         20,         20,2,20170715,       2344,   -30.0798,   170.2240,       2305,   417.0,  13.4537,  35.1719,2,  35.1610,2, 197.0144,2, 197.0527,2,     3.6,2,   11.55,2,    0.00,2,    0.80,2,-999.000,9,-999.000,9,-999.0000,9,  -999.0,9, -999.00,9,-999.0000,9, -999.00,9, -999.00,9, -999.00,  -999.0,9, -999.00,9,     -999.0,9,  -999.0,9, 20170715,     2316, -30.0801, 170.2239,        0.0,1,      0.060,1,      0.006,1,      0.145,1,     -999.0,     -999.0,9,     -999.0,9,     -999.0,9,     -999.0,9,    13.3666,2,     -999.0,9
320620170703,        P06,      57,          1,         21,         21,2,20170715,       2344,   -30.0798,   170.2240,       2305,   367.3,  14.7892,  35.3121,2,  35.3082,2, 197.4882,2, 197.3869,2,     2.3,2,    9.05,2,    0.00,2,    0.63,2,   2.207,2,   1.330,2,   0.9410,2,  -999.0,9, -999.00,9,-999.0000,9, -999.00,9, -999.00,9, -999.00,  -999.0,9, -999.00,9,     -999.0,9,  -999.0,9, 20170715,     2319, -30.0800, 170.2239,        0.0,1,      0.060,1,      0.006,1,      0.147,1,     -999.0,     -999.0,9,     -999.0,9,     -999.0,9,     -999.0,9,    14.7654,2,     -999.0,9
320620170703,        P06,      57,          1,         22,         22,2,20170715,       2344,   -30.0798,   170.2240,       2305,   316.8,  15.4372,  35.3846,2,  35.4149,2, 198.3104,2, 198.1908,2,     1.8,2,    7.43,2,    0.00,2,    0.54,2,-999.000,9,-999.000,9,-999.0000,9,  -999.0,9, -999.00,9,-999.0000,9, -999.00,9, -999.00,9, -999.00,  -999.0,9, -999.00,9,     -999.0,9,  -999.0,9, 20170715,     2321, -30.0799, 170.2239,        0.0,1,      0.059,1,      0.006,1,      0.144,1,     -999.0,     -999.0,9,     -999.0,9,     -999.0,9,     -999.0,9,    15.8753,2,     -999.0,9
320620170703,        P06,      57,          1,         23,         23,2,20170715,       2344,   -30.0798,   170.2240,       2305,   266.9,  16.5493,  35.4932,2,  35.4890,3, 197.7704,2, 197.6405,2,     1.4,2,    6.44,2,    0.00,2,    0.47,2,   1.975,2,   1.221,2,   0.9120,2,  -999.0,9, -999.00,9,-999.0000,9, -999.00,9, -999.00,9, -999.00,  -999.0,9, -999.00,9,     -999.0,9,  -999.0,9, 20170715,     2324, -30.0798, 170.2239,        0.0,1,      0.060,1,      0.009,1,      0.145,1,     -999.0,     -999.0,9,     -999.0,9,     -999.0,9,     -999.0,9,    16.5514,2,     -999.0,9
320620170703,        P06,      57,          1,         24,         24,2,20170715,       2344,   -30.0798,   170.2240,       2305,   235.7,  17.2971,  35.5600,2,  35.5348,3, 197.3980,2, 198.1460,2,     1.2,2,    5.80,2,    0.00,2,    0.43,2,-999.000,9,-999.000,9,-999.0000,9,  -999.0,9, -999.00,9,-999.0000,9, -999.00,9, -999.00,9, -999.00,  -999.0,9, -999.00,9,     -999.0,9,  -999.0,9, 20170715,     2326, -30.0798, 170.2239,        0.0,1,      0.060,1,      0.006,1,      0.149,1,     -999.0,     -999.0,9,     -999.0,9,     -999.0,9,     -999.0,9,    17.0140,2,     -999.0,9
320620170703,        P06,      57,          1,         25,         25,2,20170715,       2344,   -30.0798,   170.2240,       2305,   210.7,  17.7739,  35.6011,2,  35.5847,2, 197.6182,2, 198.1352,2,     1.0,2,    5.01,2,    0.02,2,    0.39,2,   1.843,2,   1.155,2,   0.8550,2,  -999.0,9, -999.00,9,-999.0000,9, -999.00,9, -999.00,9, -999.00,  -999.0,9, -999.00,9,     -999.0,9,  -999.0,9, 20170715,     2328, -30.0798, 170.2239,        0.0,1,      0.061,1,      0.006,1,      0.153,1,     -999.0,     -999.0,9,     -999.0,9,     -999.0,9,     -999.0,9,    17.5865,2,     -999.0,9
320620170703,        P06,      57,          1,         26,         26,2,20170715,       2344,   -30.0798,   170.2240,       2305,   185.8,  18.3459,  35.6596,2,  35.6246,2, 197.8987,2, 197.4597,2,     0.8,2,    4.57,2,    0.02,2,    0.36,2,-999.000,9,-999.000,9,-999.0000,9,  -999.0,9, -999.00,9,-999.0000,9, -999.00,9, -999.00,9, -999.00,  -999.0,9, -999.00,9,     -999.0,9,  -999.0,9, 20170715,     2330, -30.0797, 170.2240,        0.0,1,      0.068,1,      0.006,1,      0.156,1,     -999.0,     -999.0,9,     -999.0,9,     -999.0,9,     -999.0,9,    18.0700,2,     -999.0,9
320620170703,        P06,      57,          1,         27,         27,2,20170715,       2344,   -30.0798,   170.2240,       2305,   161.9,  19.3386,  35.8329,2,  35.7167,2, 205.2313,2, 206.3654,2,     0.6,2,    2.98,2,    0.07,2,    0.25,2,-999.000,5,-999.000,5,-999.0000,5,  2073.8,2, 2338.47,2,   7.9683,2, -999.00,9, -999.00,9, -999.00,  -999.0,9, -999.00,9,     -999.0,9,  -999.0,9, 20170715,     2332, -30.0798, 170.2240,        0.0,1,      0.152,1,      0.006,1,      0.208,1,      25.01,     -999.0,9,     -999.0,9,     -999.0,9,     -999.0,9,    18.7901,2,     -999.0,9
320620170703,        P06,      57,          1,         28,         28,2,20170715,       2344,   -30.0798,   170.2240,       2305,   135.6,  19.3805,  35.8425,2,  35.8392,2, 220.9629,2, 222.5266,2,     0.1,2,    0.76,2,    0.13,2,    0.12,2,-999.000,9,-999.000,9,-999.0000,9,  -999.0,9, -999.00,9,-999.0000,9, -999.00,9, -999.00,9, -999.00,  -999.0,9, -999.00,9,     -999.0,9,  -999.0,9, 20170715,     2334, -30.0798, 170.2240,        0.0,1,      0.167,1,      0.006,1,      0.215,1,     -999.0,     -999.0,9,     -999.0,9,     -999.0,9,     -999.0,9,    19.3272,2,     -999.0,9
320620170703,        P06,      57,          1,         29,         29,2,20170715,       2344,   -30.0798,   170.2240,       2305,   109.1,  19.3830,  35.8427,2,  35.8410,2, 222.1341,2, 222.1139,2,     0.1,2,    0.74,2,    0.13,2,    0.11,2,-999.000,5,-999.000,5,-999.0000,5,  2061.4,2, 2343.88,2,   8.0038,2, -999.00,9, -999.00,9, -999.00,  -999.0,9, -999.00,9,     -999.0,9,  -999.0,9, 20170715,     2336, -30.0798, 170.2240,        0.0,1,      0.168,1,      0.006,1,      0.222,1,      24.99,     -999.0,9,     -999.0,9,     -999.0,9,     -999.0,9,    19.3700,2,     -999.0,9
320620170703,        P06,      57,          1,         30,         30,2,20170715,       2344,   -30.0798,   170.2240,       2305,    84.7,  19.3788,  35.8424,2,  35.8418,2, 222.0472,2, 221.5912,2,     0.0,2,    0.75,2,    0.13,2,    0.12,2,-999.000,9,-999.000,9,-999.0000,9,  -999.0,9, -999.00,9,-999.0000,9, -999.00,9, -999.00,9, -999.00,  -999.0,9, -999.00,9,     -999.0,9,  -999.0,9, 20170715,     2338, -30.0798, 170.2240,        0.0,1,      0.173,1,      0.006,1,      0.221,1,     -999.0,     -999.0,9,     -999.0,9,     -999.0,9,     -999.0,9,    19.3690,2,     -999.0,9
320620170703,        P06,      57,          1,         31,         31,2,20170715,       2344,   -30.0798,   170.2240,       2305,    61.2,  19.3755,  35.8426,2,  35.8408,2, 222.0304,2, 221.6297,2,     0.0,2,    0.75,2,    0.13,2,    0.12,2,   1.897,2,   1.202,2,-999.0000,5,  -999.0,9, -999.00,9,-999.0000,9, -999.00,9, -999.00,9, -999.00,  -999.0,9, -999.00,9,     -999.0,9,  -999.0,9, 20170715,     2340, -30.0799, 170.2240,        0.0,1,      0.172,1,      0.006,1,      0.218,1,     -999.0,     -999.0,9,     -999.0,9,     -999.0,9,     -999.0,9,    19.3671,2,     -999.0,9
320620170703,        P06,      57,          1,         32,         32,2,20170715,       2344,   -30.0798,   170.2240,       2305,    35.0,  19.3689,  35.8423,2,  35.8424,2, 221.5325,2, 222.3445,2,     0.1,2,    0.76,2,    0.13,2,    0.13,2,-999.000,9,-999.000,9,-999.0000,9,  -999.0,9, -999.00,9,-999.0000,9, -999.00,9, -999.00,9, -999.00,  -999.0,9, -999.00,9,     -999.0,9,  -999.0,9, 20170715,     2342, -30.0799, 170.2240,        0.0,1,      0.168,1,      0.006,1,      0.217,1,     -999.0,     -999.0,9,     -999.0,9,     -999.0,9,     -999.0,9,    19.3631,2,     -999.0,9