BOTTLE,20230922CCHSIOCBG
EXPOCODE,SECT_ID,STNNBR,CASTNO,SAMPNO,BTLNBR,BTLNBR_FLAG_W,DATE,TIME,LATITUDE,LONGITUDE,DEPTH,CTDPRS,CTDTMP,CTDSAL,CTDSAL_FLAG_W,SALNTY,SALNTY_FLAG_W,CTDOXY,CTDOXY_FLAG_W,OXYGEN,OXYGEN_FLAG_W,SILCAT,SILCAT_FLAG_W,NITRAT,NITRAT_FLAG_W,NITRIT,NITRIT_FLAG_W,PHSPHT,PHSPHT_FLAG_W,CFC-11,CFC-11_FLAG_W,CFC-12,CFC-12_FLAG_W,SF6,SF6_FLAG_W,TCARBN,TCARBN_FLAG_W,ALKALI,ALKALI_FLAG_W,PH_TOT,PH_TOT_FLAG_W,DELC13,DELC13_FLAG_W,DELC14,DELC14_FLAG_W,C14ERR,DOC,DOC_FLAG_W,TDN,TDN_FLAG_W,TON,TON_FLAG_W,D15N_NO3,D15N_NO3_FLAG_W,BTL_DATE,BTL_TIME,BTL_LAT,BTL_LON,CTDRINKO,CTDRINKO_FLAG_W,CTDFLUOR,CTDFLUOR_FLAG_W,CTDXMISS,CTDXMISS_FLAG_W,CTDBACKSCATTER,CTDBACKSCATTER_FLAG_W,PH_TMP,D18O_NO3,D18O_NO3_FLAG_W,DOP,DOP_FLAG_W,HPLC,HPLC_FLAG_W,POC,POC_FLAG_W,REFTMP,REFTMP_FLAG_W,TDP,TDP_FLAG_W
,,,,,,,,,,,METERS,DBAR,ITS-90,PSS-78,,PSS-78,,UMOL/KG,,UMOL/KG,,UMOL/KG,,UMOL/KG,,UMOL/KG,,UMOL/KG,,PMOL/KG,,PMOL/KG,,FMOL/KG,,UMOL/KG,,UMOL/KG,,,,/MILLE,,/MILLE,,/MILLE,UMOL/KG,,UMOL/KG,,UMOL/KG,,/MILLE,,,,,,VOLTS,,VOLTS,,VOLTS,,VOLTS,,DEGC,/MILLE,,UMOL/KG,,,,UG/L,,ITS-90,,UMOL/KG,
320620170703,        P06,      86,          1,          1,          1,2,20170725,       1801,   -32.5003,  -179.4984,       3150,  3188.2,   2.1767,  34.6534,2,  34.6533,2, 153.9312,2, 154.0268,2,   117.3,2,   35.10,2,    0.00,2,    2.45,2,   0.046,2,   0.026,2,   0.0000,2,  2303.0,6, 2391.90,2,   7.5769,2, -999.00,9, -999.00,9, -999.00,    37.7,2, -999.00,9,     -999.0,1,  -999.0,9, 20170725,     1624, -32.4998,-179.4995,        0.0,1,      0.061,1,      4.693,1,      0.153,1,      24.99,     -999.0,9,     -999.0,9,     -999.0,9,     -999.0,9,     2.1771,2,     -999.0,9
320620170703,        P06,      86,          1,          2,          2,2,20170725,       1801,   -32.5003,  -179.4984,       3150,  3084.3,   2.1723,  34.6530,2,  34.6533,2, 153.9312,2, 153.8866,2,   117.1,2,   35.13,2,    0.00,2,    2.44,2,-999.000,9,-999.000,9,-999.0000,9,  -999.0,9, -999.00,9,-999.0000,9, -999.00,9, -999.00,9, -999.00,  -999.0,9, -999.00,9,     -999.0,9,  -999.0,9, 20170725,     1627, -32.4997,-179.4995,        0.0,1,      0.061,1,      4.695,1,      0.148,1,     -999.0,     -999.0,9,     -999.0,9,     -999.0,9,     -999.0,9,     2.1726,2,     -999.0,9
320620170703,        P06,      86,          1,          3,          3,2,20170725,       1801,   -32.5003,  -179.4984,       3150,  2975.1,   2.1689,  34.6522,2,  34.6529,2, 153.9312,2, 153.9445,2,   116.9,2,   35.14,2,    0.00,2,    2.44,2,   0.045,2,   0.028,2,   0.0000,2,  2304.3,2, 2393.42,2,   7.5776,2, -999.00,9, -999.00,9, -999.00,    35.7,2, -999.00,9,     -999.0,1,  -999.0,9, 20170725,     1630, -32.4996,-179.4996,        0.0,1,      0.061,1,      4.696,1,      0.148,1,      24.99,     -999.0,9,     -999.0,9,     -999.0,9,     -999.0,9,     2.1691,2,     -999.0,9
320620170703,        P06,      86,          1,          4,          4,2,20170725,       1801,   -32.5003,  -179.4984,       3150,  2771.2,   2.1696,  34.6500,2,  34.6519,2, 153.7707,2, 153.9395,2,   116.3,2,   35.13,2,    0.00,2,    2.45,2,-999.000,9,-999.000,9,-999.0000,9,  -999.0,9, -999.00,9,-999.0000,9, -999.00,9, -999.00,9, -999.00,  -999.0,9, -999.00,9,     -999.0,9,  -999.0,9, 20170725,     1635, -32.4996,-179.4996,        0.0,1,      0.061,1,      4.697,1,      0.146,1,     -999.0,     -999.0,9,     -999.0,9,     -999.0,9,     -999.0,9,     2.1698,2,     -999.0,9
320620170703,        P06,      86,          1,          5,          5,2,20170725,       1801,   -32.5003,  -179.4984,       3150,  2568.6,   2.1878,  34.6464,2,  34.6476,2, 154.1208,2, 153.8701,2,   115.3,2,   35.11,2,    0.00,2,    2.45,2,-999.000,9,-999.000,9,-999.0000,9,  -999.0,9, -999.00,9,-999.0000,9, -999.00,9, -999.00,9, -999.00,    41.4,3, -999.00,9,     -999.0,1,  -999.0,9, 20170725,     1639, -32.4997,-179.4995,        0.0,1,      0.061,1,      4.697,1,      0.145,1,     -999.0,     -999.0,9,     -999.0,9,     -999.0,9,     -999.0,9,     2.1817,2,     -999.0,9
320620170703,        P06,      86,          1,          6,          6,2,20170725,       1801,   -32.5003,  -179.4984,       3150,  2364.1,   2.2230,  34.6409,2,  34.6407,2, 154.3406,2, 154.2567,2,   113.6,2,   35.06,2,    0.00,2,    2.45,2,   0.051,2,   0.033,2,   0.0000,2,  2297.4,2, 2388.14,2,   7.5771,2, -999.00,9, -999.00,9, -999.00,    38.4,2, -999.00,9,     -999.0,1,  -999.0,9, 20170725,     1644, -32.4998,-179.4994,        0.0,1,      0.061,1,      4.698,1,      0.144,1,      25.01,     -999.0,9,     -999.0,9,     -999.0,9,     -999.0,9,     2.2185,2,     -999.0,9
320620170703,        P06,      86,          1,          7,          7,2,20170725,       1801,   -32.5003,  -179.4984,       3150,  2160.0,   2.3052,  34.6304,2,  34.6305,2, 155.0120,2, 155.0587,2,   110.0,2,   34.93,2,    0.00,2,    2.44,2,-999.000,9,-999.000,9,-999.0000,9,  -999.0,9, -999.00,9,-999.0000,9, -999.00,9, -999.00,9, -999.00,  -999.0,9, -999.00,9,     -999.0,9,  -999.0,9, 20170725,     1648, -32.4998,-179.4994,        0.0,1,      0.061,1,      4.698,1,      0.147,1,     -999.0,     -999.0,9,     -999.0,9,     -999.0,9,     -999.0,9,     2.3147,2,     -999.0,9
320620170703,        P06,      86,          1,          8,          8,2,20170725,       1801,   -32.5003,  -179.4984,       3150,  1957.0,   2.4596,  34.6102,2,  34.6087,2, 156.2241,2, 155.8801,2,   103.9,2,   34.75,2,    0.00,2,    2.42,2,-999.000,9,-999.000,9,-999.0000,9,  -999.0,9, -999.00,9,-999.0000,9, -999.00,9, -999.00,9, -999.00,    38.5,2, -999.00,9,     -999.0,1,  -999.0,9, 20170725,     1653, -32.4997,-179.4996,        0.0,1,      0.061,1,      4.699,1,      0.149,1,     -999.0,     -999.0,9,     -999.0,9,     -999.0,9,     -999.0,9,     2.4783,2,     -999.0,9
320620170703,        P06,      86,          1,          9,          9,2,20170725,       1801,   -32.5003,  -179.4984,       3150,  1784.0,   2.6074,  34.5879,2,  34.5830,2, 158.1593,2, 158.2705,2,    96.4,2,   34.60,2,    0.00,2,    2.40,2,   0.090,2,   0.051,2,   0.0000,2,  2277.2,2, 2367.81,2,   7.5747,2, -999.00,9, -999.00,9, -999.00,    37.2,2, -999.00,9,     -999.0,1,  -999.0,9, 20170725,     1657, -32.4998,-179.4993,        0.0,1,      0.061,1,      4.700,1,      0.146,1,      25.00,     -999.0,9,     -999.0,9,     -999.0,9,     -999.0,9,     2.6510,2,     -999.0,9
320620170703,        P06,      86,          1,         10,         10,2,20170725,       1801,   -32.5003,  -179.4984,       3150,  1679.7,   2.7150,  34.5706,2,  34.5645,2, 159.8376,2, 159.9112,2,    91.6,2,   34.49,2,    0.00,2,    2.39,2,-999.000,9,-999.000,9,-999.0000,9,  -999.0,9, -999.00,9,-999.0000,9, -999.00,9, -999.00,9, -999.00,    36.6,2, -999.00,9,     -999.0,1,  -999.0,9, 20170725,     1700, -32.4999,-179.4990,        0.0,1,      0.061,1,      4.701,1,      0.143,1,     -999.0,     -999.0,9,     -999.0,9,     -999.0,9,     -999.0,9,     2.7649,2,     -999.0,9
320620170703,        P06,      86,          1,         11,         11,2,20170725,       1801,   -32.5003,  -179.4984,       3150,  1581.5,   2.8927,  34.5469,2,  34.5466,2, 162.2238,2, 162.1947,2,    86.6,2,   34.31,2,    0.00,2,    2.38,2,-999.000,9,-999.000,9,-999.0000,9,  -999.0,9, -999.00,9,-999.0000,9, -999.00,9, -999.00,9, -999.00,  -999.0,9, -999.00,9,     -999.0,9,  -999.0,9, 20170725,     1703, -32.5000,-179.4988,        0.0,1,      0.060,1,      4.701,1,      0.144,1,     -999.0,     -999.0,9,     -999.0,9,     -999.0,9,     -999.0,9,     2.8879,2,     -999.0,9
320620170703,        P06,      86,          1,         12,         12,2,20170725,       1801,   -32.5003,  -179.4984,       3150,  1481.4,   3.0531,  34.5237,2,  34.5250,2, 164.6503,2, 165.2959,2,    80.3,2,   34.12,2,    0.00,2,    2.35,2,   0.157,2,   0.088,2,   0.0000,2,  2258.7,2, 2348.40,6,   7.5792,2, -999.00,9, -999.00,9, -999.00,    39.9,2, -999.00,9,     -999.0,1,  -999.0,9, 20170725,     1706, -32.5001,-179.4987,        0.0,1,      0.061,1,      4.701,1,      0.142,1,      25.00,     -999.0,9,     -999.0,9,     -999.0,9,     -999.0,9,     3.0441,2,     -999.0,9
320620170703,        P06,      86,          1,         13,         13,2,20170725,       1801,   -32.5003,  -179.4984,       3150,  1377.6,   3.3915,  34.4844,2,  34.4824,2, 171.3192,2, 170.6485,2,    68.4,2,   33.45,2,    0.00,2,    2.32,2,-999.000,9,-999.000,9,-999.0000,9,  -999.0,9, -999.00,9,-999.0000,9, -999.00,9, -999.00,9, -999.00,  -999.0,9, -999.00,9,     -999.0,9,  -999.0,9, 20170725,     1708, -32.5001,-179.4987,        0.0,1,      0.061,1,      4.701,1,      0.143,1,     -999.0,     -999.0,9,     -999.0,9,     -999.0,9,     -999.0,9,     3.4120,2,     -999.0,9
320620170703,        P06,      86,          1,         14,         14,2,20170725,       1801,   -32.5003,  -179.4984,       3150,  1277.6,   3.6853,  34.4493,2,  34.4469,2, 175.5344,2, 176.2401,2,    57.8,2,   33.01,2,    0.00,2,    2.28,2,-999.000,9,-999.000,9,-999.0000,9,  -999.0,9, -999.00,9,-999.0000,9, -999.00,9, -999.00,9, -999.00,  -999.0,9, -999.00,9,     -999.0,9,  -999.0,9, 20170725,     1711, -32.5001,-179.4987,        0.0,1,      0.061,1,      4.702,1,      0.141,1,     -999.0,     -999.0,9,     -999.0,9,     -999.0,9,     -999.0,9,     3.7217,2,     -999.0,9
320620170703,        P06,      86,          1,         15,         15,2,20170725,       1801,   -32.5003,  -179.4984,       3150,  1175.7,   4.2207,  34.4128,2,  34.4129,2, 184.4546,2, 184.0428,2,    47.3,2,   31.86,2,    0.00,2,    2.19,2,   0.563,2,   0.272,2,   0.0660,2,  2216.2,2, 2312.29,2,   7.6054,2, -999.00,9, -999.00,9, -999.00,    42.3,3, -999.00,9,     -999.0,1,  -999.0,9, 20170725,     1714, -32.5001,-179.4987,        0.0,1,      0.060,1,      4.701,1,      0.140,1,      25.00,     -999.0,9,     -999.0,9,     -999.0,9,     -999.0,9,     4.1789,2,     -999.0,9
320620170703,        P06,      86,          1,         16,         16,2,20170725,       1801,   -32.5003,  -179.4984,       3150,  1074.8,   4.7642,  34.3905,2,  34.3898,2, 193.5391,2, 193.3066,2,    36.4,2,   30.19,2,    0.00,2,    2.07,2,-999.000,9,-999.000,9,-999.0000,9,  -999.0,9, -999.00,9,-999.0000,9, -999.00,9, -999.00,9, -999.00,  -999.0,9, -999.00,9,     -999.0,9,  -999.0,9, 20170725,     1718, -32.5001,-179.4986,        0.0,1,      0.059,1,      4.701,1,      0.142,1,     -999.0,     -999.0,9,     -999.0,9,     -999.0,9,     -999.0,9,     4.7623,2,     -999.0,9
320620170703,        P06,      86,          1,         17,         17,2,20170725,       1801,   -32.5003,  -179.4984,       3150,   974.5,   5.3072,  34.3731,2,  34.3731,2, 203.1744,2, 203.3432,2,    26.7,2,   28.51,2,    0.00,2,    1.94,2,-999.000,9,-999.000,9,-999.0000,9,  2183.4,2, 2291.41,2,   7.6455,2, -999.00,9, -999.00,9, -999.00,    40.2,2, -999.00,9,     -999.0,1,  -999.0,9, 20170725,     1721, -32.5002,-179.4986,        0.0,1,      0.060,1,      4.701,1,      0.143,1,      25.01,     -999.0,9,     -999.0,9,     -999.0,9,     -999.0,9,     5.3456,2,     -999.0,9
320620170703,        P06,      86,          1,         18,         18,2,20170725,       1801,   -32.5003,  -179.4984,       3150,   873.0,   5.7871,  34.3750,2,  34.3778,2, 211.6657,2, 212.0626,2,    19.4,2,   26.63,2,    0.00,2,    1.81,2,   1.908,2,   0.899,2,   0.3340,2,  2170.5,2, 2286.56,2,   7.6660,2, -999.00,9, -999.00,9, -999.00,    42.8,2, -999.00,9,     -999.0,1,  -999.0,9, 20170725,     1724, -32.5002,-179.4986,        0.0,1,      0.060,1,      4.699,1,      0.144,1,      25.02,     -999.0,9,     -999.0,9,     -999.0,9,     -999.0,9,     5.9453,2,     -999.0,9
320620170703,        P06,      86,          1,         19,         19,2,20170725,       1801,   -32.5003,  -179.4984,       3150,   770.9,   6.5913,  34.4031,2,  34.4116,2, 219.4050,2, 219.5647,2,    13.0,2,   24.21,2,    0.00,2,    1.64,2,-999.000,9,-999.000,9,-999.0000,9,  2157.7,2, 2286.50,2,   7.6897,2, -999.00,9, -999.00,9, -999.00,    41.8,2, -999.00,9,     -999.0,1,  -999.0,9, 20170725,     1726, -32.5000,-179.4987,        0.0,1,      0.059,1,      4.699,1,      0.144,1,      24.99,     -999.0,9,     -999.0,9,     -999.0,9,     -999.0,9,     6.7507,2,     -999.0,9
320620170703,        P06,      86,          1,         20,         20,2,20170725,       1801,   -32.5003,  -179.4984,       3150,   670.4,   7.4678,  34.4640,2,  34.4642,2, 221.1839,2, 220.6641,2,     9.7,2,   22.34,2,    0.00,2,    1.50,2,-999.000,9,-999.000,9,-999.0000,9,  -999.0,9, -999.00,9,-999.0000,9, -999.00,9, -999.00,9, -999.00,    42.0,2, -999.00,9,     -999.0,1,  -999.0,9, 20170725,     1729, -32.5000,-179.4988,        0.0,1,      0.060,1,      4.697,1,      0.144,1,     -999.0,     -999.0,9,     -999.0,9,     -999.0,9,     -999.0,9,     7.4745,2,     -999.0,9
320620170703,        P06,      86,          1,         21,         21,2,20170725,       1801,   -32.5003,  -179.4984,       3150,   570.5,   8.5236,  34.5717,2,  34.5419,2, 217.0745,2, 217.2276,2,     8.0,2,   20.65,2,    0.00,2,    1.40,2,   2.977,2,   1.506,2,   0.8490,2,  2146.0,2, 2283.69,2,   7.7179,2, -999.00,9, -999.00,9, -999.00,    43.2,2, -999.00,9,     -999.0,1,  -999.0,9, 20170725,     1732, -32.5001,-179.4987,        0.0,1,      0.059,1,      4.695,1,      0.146,1,      25.02,     -999.0,9,     -999.0,9,     -999.0,9,     -999.0,9,     8.2727,2,     -999.0,9
320620170703,        P06,      86,          1,         22,         22,2,20170725,       1801,   -32.5003,  -179.4984,       3150,   488.1,   9.2736,  34.6597,2,  34.6415,2, 212.5566,2, 212.4015,2,     7.0,2,   19.08,2,    0.00,2,    1.29,2,-999.000,9,-999.000,9,-999.0000,9,  -999.0,9, -999.00,9,-999.0000,9, -999.00,9, -999.00,9, -999.00,    44.4,2,   21.90,2,     -999.0,1,  -999.0,9, 20170725,     1734, -32.5001,-179.4986,        0.0,1,      0.060,1,      4.694,1,      0.148,1,     -999.0,     -999.0,9,     -999.0,9,     -999.0,9,     -999.0,9,     9.0596,2,     -999.0,9
320620170703,        P06,      86,          1,         23,         23,2,20170725,       1801,   -32.5003,  -179.4984,       3150,   437.4,  10.0625,  34.7609,2,  34.7074,2, 209.6325,2, 209.8976,2,     6.4,2,   17.81,2,    0.00,2,    1.20,2,-999.000,9,-999.000,9,-999.0000,9,  2143.5,2, 2290.25,2,   7.7410,2, -999.00,9, -999.00,9, -999.00,    46.7,2,   20.50,2,     -999.0,1,  -999.0,9, 20170725,     1737, -32.5001,-179.4986,        0.0,1,      0.060,1,      4.692,1,      0.147,1,      24.99,     -999.0,9,     -999.0,9,     -999.0,9,     -999.0,9,     9.6461,2,     -999.0,9
320620170703,        P06,      86,          1,         24,         24,2,20170725,       1801,   -32.5003,  -179.4984,       3150,   388.6,  10.9559,  34.8701,2,  34.8123,2, 208.5539,2, 206.9182,2,     5.2,2,   15.70,2,    0.00,2,    1.06,2,   2.974,2,   1.573,2,   1.1730,2,  2137.2,2, -999.00,9,   7.7598,2, -999.00,9, -999.00,9, -999.00,  -999.0,9, -999.00,9,     -999.0,9,  -999.0,9, 20170725,     1739, -32.5002,-179.4985,        0.0,1,      0.060,1,      4.691,1,      0.148,1,      24.99,     -999.0,9,     -999.0,9,     -999.0,9,     -999.0,9,    10.5590,2,     -999.0,9
320620170703,        P06,      86,          1,         25,         25,2,20170725,       1801,   -32.5003,  -179.4984,       3150,   337.4,  11.4915,  34.9409,2,  34.9416,2, 209.7313,2, 210.1520,2,     4.2,2,   13.08,2,    0.00,2,    0.91,2,-999.000,9,-999.000,9,-999.0000,9,  2130.5,2, 2299.98,2,   7.7864,2, -999.00,9, -999.00,9, -999.00,    46.8,2,   14.80,2,     -999.0,1,  -999.0,9, 20170725,     1741, -32.5002,-179.4985,        0.0,1,      0.059,1,      4.691,1,      0.151,1,      25.01,     -999.0,9,     -999.0,9,     -999.0,9,     -999.0,9,    11.4989,2,     -999.0,9
320620170703,        P06,      86,          1,         26,         26,2,20170725,       1801,   -32.5003,  -179.4984,       3150,   287.0,  12.1582,  35.0257,2,  35.0461,2, 212.1650,2, 213.2056,2,     3.1,2,   10.67,2,    0.00,2,    0.76,2,-999.000,9,-999.000,9,-999.0000,9,  2123.5,2, -999.00,9,   7.8115,2, -999.00,9, -999.00,9, -999.00,  -999.0,9, -999.00,9,     -999.0,9,  -999.0,9, 20170725,     1743, -32.5002,-179.4984,        0.0,1,      0.059,1,      4.690,1,      0.147,1,      25.00,     -999.0,9,     -999.0,9,     -999.0,9,     -999.0,9,    12.3841,2,     -999.0,9
320620170703,        P06,      86,          1,         27,         27,2,20170725,       1801,   -32.5003,  -179.4984,       3150,   236.6,  12.5612,  35.0722,2,  35.1518,2, 209.5815,2, 210.6937,2,     2.8,2,    9.17,2,    0.00,2,    0.66,2,   2.770,2,   1.530,2,   1.4350,2,  2117.9,2, 2308.14,2,   7.8332,2, -999.00,9, -999.00,9, -999.00,    47.9,2,   11.50,2,     -999.0,1,  -999.0,9, 20170725,     1745, -32.5003,-179.4984,        0.0,1,      0.061,1,      4.690,1,      0.146,1,      25.00,     -999.0,9,     -999.0,9,     -999.0,9,     -999.0,9,    13.2256,2,     -999.0,9
320620170703,        P06,      86,          1,         28,         28,2,20170725,       1801,   -32.5003,  -179.4984,       3150,   191.1,  13.5816,  35.2029,2,  35.2773,2, 203.1147,2, 203.2935,2,     2.9,2,    8.96,2,    0.00,2,    0.64,2,-999.000,9,-999.000,9,-999.0000,9,  2113.9,2, -999.00,9,   7.8522,2, -999.00,9, -999.00,9, -999.00,    47.2,2,   12.30,2,     -999.0,1,  -999.0,9, 20170725,     1747, -32.5002,-179.4985,        0.0,1,      0.060,1,      4.689,1,      0.152,1,      25.00,     -999.0,9,     -999.0,9,     -999.0,9,     -999.0,9,    14.2509,2,     -999.0,9
320620170703,        P06,      86,          1,         29,         29,2,20170725,       1801,   -32.5003,  -179.4984,       3150,   166.0,  14.1447,  35.2694,2,  35.3340,2, 203.8971,2, 204.2896,2,     2.5,2,    8.06,2,    0.02,2,    0.59,2,-999.000,9,-999.000,9,-999.0000,9,  2108.8,2, 2315.52,2,   7.8655,2, -999.00,9, -999.00,9, -999.00,    51.6,2,   11.00,2,     -999.0,1,  -999.0,9, 20170725,     1749, -32.5002,-179.4985,        0.0,1,      0.060,1,      4.689,1,      0.152,1,      25.01,     -999.0,9,     -999.0,9,     -999.0,9,     -999.0,9,    14.7271,2,     -999.0,9
320620170703,        P06,      86,          1,         30,         30,2,20170725,       1801,   -32.5003,  -179.4984,       3150,   139.6,  14.6911,  35.3339,2,  35.3802,2, 206.1571,2, 205.0448,2,     2.2,2,    7.24,2,    0.02,2,    0.53,2,   2.511,2,   1.398,2,   1.3280,2,  2106.5,2, -999.00,9,   7.8771,2, -999.00,9, -999.00,9, -999.00,  -999.0,9, -999.00,9,     -999.0,9,  -999.0,9, 20170725,     1751, -32.5002,-179.4985,        0.0,1,      0.061,1,      4.686,1,      0.156,1,      25.00,     -999.0,9,     -999.0,9,     -999.0,9,     -999.0,9,    15.1437,2,     -999.0,9
320620170703,        P06,      86,          1,         31,         31,2,20170725,       1801,   -32.5003,  -179.4984,       3150,   114.8,  15.2822,  35.3967,2,  35.4707,2, 221.1543,2, 219.5914,2,     1.4,2,    3.71,2,    0.09,2,    0.33,2,-999.000,9,-999.000,9,-999.0000,9,  2091.4,2, 2324.93,2,   7.9198,2, -999.00,9, -999.00,9, -999.00,    55.4,2,    7.20,2,     -999.0,1,  -999.0,9, 20170725,     1752, -32.5001,-179.4986,        0.0,1,      0.063,1,      4.679,1,      0.165,1,      25.01,     -999.0,9,     -999.0,9,     -999.0,9,     -999.0,9,    15.9798,2,     -999.0,9
320620170703,        P06,      86,          1,         32,         32,2,20170725,       1801,   -32.5003,  -179.4984,       3150,    90.4,  16.1940,  35.4969,2,  35.5194,2, 229.4185,2, 229.0671,2,     0.9,2,    1.70,2,    0.13,2,    0.21,2,-999.000,9,-999.000,9,-999.0000,9,  -999.0,9, -999.00,9,-999.0000,9, -999.00,9, -999.00,9, -999.00,    56.4,2,    6.40,2,     -999.0,1,  -999.0,9, 20170725,     1754, -32.5001,-179.4986,        0.0,1,      0.093,1,      4.660,1,      0.188,1,     -999.0,     -999.0,9,     -999.0,9,     -999.0,9,     -999.0,9,    16.3278,2,     -999.0,9