BOTTLE,20230922CCHSIOCBG
EXPOCODE,SECT_ID,STNNBR,CASTNO,SAMPNO,BTLNBR,BTLNBR_FLAG_W,DATE,TIME,LATITUDE,LONGITUDE,DEPTH,CTDPRS,CTDTMP,CTDSAL,CTDSAL_FLAG_W,SALNTY,SALNTY_FLAG_W,CTDOXY,CTDOXY_FLAG_W,OXYGEN,OXYGEN_FLAG_W,SILCAT,SILCAT_FLAG_W,NITRAT,NITRAT_FLAG_W,NITRIT,NITRIT_FLAG_W,PHSPHT,PHSPHT_FLAG_W,CFC-11,CFC-11_FLAG_W,CFC-12,CFC-12_FLAG_W,SF6,SF6_FLAG_W,TCARBN,TCARBN_FLAG_W,ALKALI,ALKALI_FLAG_W,PH_TOT,PH_TOT_FLAG_W,DELC13,DELC13_FLAG_W,DELC14,DELC14_FLAG_W,C14ERR,DOC,DOC_FLAG_W,TDN,TDN_FLAG_W,TON,TON_FLAG_W,D15N_NO3,D15N_NO3_FLAG_W,BTL_DATE,BTL_TIME,BTL_LAT,BTL_LON,CTDRINKO,CTDRINKO_FLAG_W,CTDFLUOR,CTDFLUOR_FLAG_W,CTDXMISS,CTDXMISS_FLAG_W,CTDBACKSCATTER,CTDBACKSCATTER_FLAG_W,PH_TMP,D18O_NO3,D18O_NO3_FLAG_W,DOP,DOP_FLAG_W,HPLC,HPLC_FLAG_W,POC,POC_FLAG_W,REFTMP,REFTMP_FLAG_W,TDP,TDP_FLAG_W
,,,,,,,,,,,METERS,DBAR,ITS-90,PSS-78,,PSS-78,,UMOL/KG,,UMOL/KG,,UMOL/KG,,UMOL/KG,,UMOL/KG,,UMOL/KG,,PMOL/KG,,PMOL/KG,,FMOL/KG,,UMOL/KG,,UMOL/KG,,,,/MILLE,,/MILLE,,/MILLE,UMOL/KG,,UMOL/KG,,UMOL/KG,,/MILLE,,,,,,VOLTS,,VOLTS,,VOLTS,,VOLTS,,DEGC,/MILLE,,UMOL/KG,,,,UG/L,,ITS-90,,UMOL/KG,
320620170703,        P06,      95,          1,          1,          1,2,20170727,       1920,   -32.5000,  -176.7500,       6147,  6128.5,   1.1884,  34.7074,2,  34.7095,2, 206.1508,2, 206.7035,2,   122.6,2,   32.09,2,    0.00,2,    2.23,2,   0.147,2,   0.076,2,   0.0000,2,  2264.8,6, 2361.85,2,   7.6059,2, -999.00,9, -999.00,9, -999.00,  -999.0,9, -999.00,9,     -999.0,9,  -999.0,9, 20170727,     1641, -32.5003,-176.7498,        0.0,1,      0.060,1,      4.697,1,      0.127,1,      25.02,     -999.0,9,     -999.0,9,     -999.0,9,     -999.0,9,     1.1889,2,     -999.0,9
320620170703,        P06,      95,          1,          2,          2,2,20170727,       1920,   -32.5000,  -176.7500,       6147,  5800.7,   1.1456,  34.7077,2,  34.7097,2, 206.1508,2, 206.1677,2,   122.6,2,   32.13,2,    0.00,2,    2.23,2,   0.142,2,   0.080,2,   0.0000,2,  2264.1,2, -999.00,9,   7.6052,2, -999.00,9, -999.00,9, -999.00,  -999.0,9, -999.00,9,     -999.0,9,  -999.0,9, 20170727,     1651, -32.5004,-176.7500,        0.0,1,      0.061,1,      4.699,1,      0.126,1,      25.05,     -999.0,9,     -999.0,9,     -999.0,9,     -999.0,9,     1.1461,2,     -999.0,9
320620170703,        P06,      95,          1,          3,          3,2,20170727,       1920,   -32.5000,  -176.7500,       6147,  5471.1,   1.1071,  34.7082,2,  34.7103,2, 206.1508,2, 206.2246,2,   122.3,2,   32.10,2,    0.00,2,    2.23,2,   0.143,2,   0.080,2,   0.0000,2,  2263.7,2, 2361.89,2,   7.6058,2, -999.00,9, -999.00,9, -999.00,  -999.0,9, -999.00,9,     -999.0,9,  -999.0,9, 20170727,     1703, -32.5003,-176.7499,        0.0,1,      0.061,1,      4.700,1,      0.125,1,      25.02,     -999.0,9,     -999.0,9,     -999.0,9,     -999.0,9,     1.1074,2,     -999.0,9
320620170703,        P06,      95,          1,          4,          4,2,20170727,       1920,   -32.5000,  -176.7500,       6147,  5161.4,   1.0784,  34.7085,2,  34.7107,2, 206.1508,2, 206.4468,2,   122.2,2,   32.06,2,    0.00,2,    2.23,2,   0.151,2,   0.084,2,   0.0000,2,  2262.6,2, -999.00,9,   7.6066,2, -999.00,9, -999.00,9, -999.00,  -999.0,9, -999.00,9,     -999.0,9,  -999.0,9, 20170727,     1714, -32.5003,-176.7500,        0.0,1,      0.061,1,      4.701,1,      0.126,1,      25.02,     -999.0,9,     -999.0,9,     -999.0,9,     -999.0,9,     1.0785,2,     -999.0,9
320620170703,        P06,      95,          1,          5,          5,2,20170727,       1920,   -32.5000,  -176.7500,       6147,  4853.0,   1.0633,  34.7095,2,  34.7105,2, 206.1508,2, 207.0273,2,   121.6,2,   31.98,2,    0.00,2,    2.22,2,   0.150,2,   0.085,2,   0.0000,2,  2261.0,2, 2360.46,6,   7.6064,2, -999.00,9, -999.00,9, -999.00,  -999.0,9, -999.00,9,     -999.0,9,  -999.0,9, 20170727,     1722, -32.5003,-176.7500,        0.0,1,      0.060,1,      4.701,1,      0.126,1,      25.03,     -999.0,9,     -999.0,9,     -999.0,9,     -999.0,9,     1.0654,2,     -999.0,9
320620170703,        P06,      95,          1,          6,          6,2,20170727,       1920,   -32.5000,  -176.7500,       6147,  4542.4,   1.0703,  34.7110,2,  34.7121,2, 206.1508,2, 205.7752,2,   120.5,2,   31.95,2,    0.00,2,    2.22,2,   0.143,2,   0.082,2,   0.0000,2,  -999.0,9, -999.00,9,-999.0000,9, -999.00,9, -999.00,9, -999.00,  -999.0,9, -999.00,9,     -999.0,9,  -999.0,9, 20170727,     1729, -32.5003,-176.7502,        0.0,1,      0.061,1,      4.702,1,      0.129,1,     -999.0,     -999.0,9,     -999.0,9,     -999.0,9,     -999.0,9,     1.0670,2,     -999.0,9
320620170703,        P06,      95,          1,          7,          7,2,20170727,       1920,   -32.5000,  -176.7500,       6147,  4236.6,   1.1033,  34.7134,2,  34.7148,2, 205.7994,2, 204.3796,2,   118.5,2,   31.85,2,    0.00,2,    2.21,2,-999.000,5,-999.000,5,-999.0000,5,  2261.7,2, 2359.46,6,   7.6065,2, -999.00,9, -999.00,9, -999.00,  -999.0,9, -999.00,9,     -999.0,9,  -999.0,9, 20170727,     1736, -32.5001,-176.7500,        0.0,1,      0.061,1,      4.702,1,      0.130,1,      25.01,     -999.0,9,     -999.0,9,     -999.0,9,     -999.0,9,     1.1061,2,     -999.0,9
320620170703,        P06,      95,          1,          8,          8,2,20170727,       1920,   -32.5000,  -176.7500,       6147,  3927.6,   1.1887,  34.7171,2,  34.7191,2, 202.3055,2, 202.6540,2,   115.7,2,   31.72,2,    0.00,2,    2.21,2,   0.124,2,   0.067,2,   0.0000,2,  -999.0,9, -999.00,9,-999.0000,9, -999.00,9, -999.00,9, -999.00,  -999.0,9, -999.00,9,     -999.0,9,  -999.0,9, 20170727,     1742, -32.5002,-176.7500,        0.0,1,      0.061,1,      4.701,1,      0.133,1,     -999.0,     -999.0,9,     -999.0,9,     -999.0,9,     -999.0,9,     1.1860,2,     -999.0,9
320620170703,        P06,      95,          1,          9,          9,2,20170727,       1920,   -32.5000,  -176.7500,       6147,  3618.2,   1.3940,  34.7222,2,  34.7235,2, 197.0218,2, 197.3458,2,   109.7,2,   31.65,2,    0.00,2,    2.17,2,   0.111,2,   0.066,2,   0.0000,2,  2260.2,2, 2358.25,2,   7.6060,2, -999.00,9, -999.00,9, -999.00,  -999.0,9, -999.00,9,     -999.0,9,  -999.0,9, 20170727,     1748, -32.5002,-176.7500,        0.0,1,      0.060,1,      4.701,1,      0.131,1,      25.01,     -999.0,9,     -999.0,9,     -999.0,9,     -999.0,9,     1.4098,2,     -999.0,9
320620170703,        P06,      95,          1,         10,         10,2,20170727,       1920,   -32.5000,  -176.7500,       6147,  3310.4,   1.6373,  34.7172,2,  34.7142,2, 185.6342,2, 184.7777,2,   109.5,2,   32.34,2,    0.00,2,    2.27,2,   0.079,2,   0.046,2,   0.0000,2,  2270.1,2, -999.00,9,   7.5972,2, -999.00,9, -999.00,9, -999.00,  -999.0,9, -999.00,9,     -999.0,9,  -999.0,9, 20170727,     1754, -32.5002,-176.7501,        0.0,1,      0.061,1,      4.700,1,      0.133,1,      25.01,     -999.0,9,     -999.0,9,     -999.0,9,     -999.0,9,     1.6555,2,     -999.0,9
320620170703,        P06,      95,          1,         11,         11,2,20170727,       1920,   -32.5000,  -176.7500,       6147,  3056.5,   1.7789,  34.6906,2,  34.6873,2, 167.4134,3, 165.2421,2,   120.2,2,   34.15,2,    0.00,2,    2.41,2,   0.045,2,   0.027,2,   0.0000,2,  2294.6,2, 2382.82,2,   7.5809,2, -999.00,9, -999.00,9, -999.00,  -999.0,9, -999.00,9,     -999.0,9,  -999.0,9, 20170727,     1800, -32.5001,-176.7499,        0.0,1,      0.061,1,      4.701,1,      0.134,1,      25.01,     -999.0,9,     -999.0,9,     -999.0,9,     -999.0,9,     1.7823,2,     -999.0,9
320620170703,        P06,      95,          1,         12,         12,2,20170727,       1920,   -32.5000,  -176.7500,       6147,  2801.0,   1.9142,  34.6627,2,  34.6647,2, 150.9078,2, 151.3655,2,   126.2,2,   35.47,2,    0.00,2,    2.49,2,   0.032,2,   0.020,2,   0.0000,2,  -999.0,9, -999.00,9,-999.0000,9, -999.00,9, -999.00,9, -999.00,  -999.0,9, -999.00,9,     -999.0,9,  -999.0,9, 20170727,     1806, -32.5002,-176.7502,        0.0,1,      0.061,1,      4.702,1,      0.136,1,     -999.0,     -999.0,9,     -999.0,9,     -999.0,9,     -999.0,9,     1.9180,2,     -999.0,9
320620170703,        P06,      95,          1,         13,         13,2,20170727,       1920,   -32.5000,  -176.7500,       6147,  2547.7,   2.0687,  34.6477,2,  34.6484,2, 148.3849,2, 148.8556,2,   121.8,2,   35.67,2,    0.00,2,    2.51,2,   0.030,2,   0.023,2,   0.0000,2,  2307.4,6, 2389.57,2,   7.5653,2, -999.00,9, -999.00,9, -999.00,  -999.0,9, -999.00,9,     -999.0,9,  -999.0,9, 20170727,     1811, -32.5000,-176.7499,        0.0,1,      0.061,1,      4.702,1,      0.134,1,      25.03,     -999.0,9,     -999.0,9,     -999.0,9,     -999.0,9,     2.0804,2,     -999.0,9
320620170703,        P06,      95,          1,         14,         14,2,20170727,       1920,   -32.5000,  -176.7500,       6147,  2291.7,   2.2046,  34.6352,2,  34.6368,2, 148.4060,2, 148.9150,2,   116.0,2,   35.58,2,    0.00,2,    2.50,2,   0.045,2,   0.038,2,   0.0000,2,  -999.0,9, -999.00,9,-999.0000,9, -999.00,9, -999.00,9, -999.00,  -999.0,9, -999.00,9,     -999.0,9,  -999.0,9, 20170727,     1816, -32.5001,-176.7500,        0.0,1,      0.061,1,      4.702,1,      0.134,1,     -999.0,     -999.0,9,     -999.0,9,     -999.0,9,     -999.0,9,     2.2201,2,     -999.0,9
320620170703,        P06,      95,          1,         15,         15,2,20170727,       1920,   -32.5000,  -176.7500,       6147,  2039.7,   2.3556,  34.6197,2,  34.6185,2, 150.6356,2, 151.0229,2,   108.9,2,   35.30,2,    0.00,2,    2.48,2,   0.017,2,   0.009,2,   0.0000,2,  2293.0,2, 2378.10,2,   7.5682,2, -999.00,9, -999.00,9, -999.00,  -999.0,9, -999.00,9,     -999.0,9,  -999.0,9, 20170727,     1822, -32.5002,-176.7502,        0.0,1,      0.061,1,      4.702,1,      0.135,1,      25.02,     -999.0,9,     -999.0,9,     -999.0,9,     -999.0,9,     2.3806,2,     -999.0,9
320620170703,        P06,      95,          1,         16,         16,2,20170727,       1920,   -32.5000,  -176.7500,       6147,  1784.4,   2.5568,  34.5936,2,  34.5928,2, 153.8762,2, 154.5752,2,    98.8,2,   34.96,2,    0.00,2,    2.44,2,   0.062,2,   0.045,2,   0.0000,2,  -999.0,9, -999.00,9,-999.0000,9, -999.00,9, -999.00,9, -999.00,  -999.0,9, -999.00,9,     -999.0,9,  -999.0,9, 20170727,     1827, -32.5000,-176.7500,        0.0,1,      0.060,1,      4.702,1,      0.139,1,     -999.0,     -999.0,9,     -999.0,9,     -999.0,9,     -999.0,9,     2.5744,2,     -999.0,9
320620170703,        P06,      95,          1,         17,         17,2,20170727,       1920,   -32.5000,  -176.7500,       6147,  1551.2,   2.8755,  34.5388,2,  34.5347,2, 161.5942,2, 163.1374,2,    80.7,2,   34.54,2,    0.00,2,    2.39,2,   0.054,2,   0.032,2,   0.0000,2,  2261.5,2, 2343.92,2,   7.5708,2, -999.00,9, -999.00,9, -999.00,  -999.0,9, -999.00,9,     -999.0,9,  -999.0,9, 20170727,     1832, -32.5001,-176.7500,        0.0,1,      0.061,1,      4.702,1,      0.139,1,      25.03,     -999.0,9,     -999.0,9,     -999.0,9,     -999.0,9,     2.8770,2,     -999.0,9
320620170703,        P06,      95,          1,         18,         18,2,20170727,       1920,   -32.5000,  -176.7500,       6147,  1349.2,   3.3811,  34.4553,2,  34.4573,2, 172.5955,2, 173.2998,2,    62.0,2,   33.68,2,    0.00,2,    2.34,2,   0.189,2,   0.109,2,   0.0000,2,  -999.0,9, -999.00,9,-999.0000,9, -999.00,9, -999.00,9, -999.00,  -999.0,9, -999.00,9,     -999.0,9,  -999.0,9, 20170727,     1837, -32.5001,-176.7500,        0.0,1,      0.060,1,      4.702,1,      0.137,1,     -999.0,     -999.0,9,     -999.0,9,     -999.0,9,     -999.0,9,     3.3795,2,     -999.0,9
320620170703,        P06,      95,          1,         19,         19,2,20170727,       1920,   -32.5000,  -176.7500,       6147,  1176.9,   3.9419,  34.3880,2,  34.3921,2, 186.0369,2, 186.1457,2,    44.5,2,   32.17,2,    0.00,2,    2.20,2,   0.491,2,   0.246,2,   0.0920,2,  2214.3,2, 2308.09,2,   7.6015,2, -999.00,9, -999.00,9, -999.00,  -999.0,9, -999.00,9,     -999.0,9,  -999.0,9, 20170727,     1841, -32.5001,-176.7501,        0.0,1,      0.060,1,      4.703,1,      0.138,1,      25.02,     -999.0,9,     -999.0,9,     -999.0,9,     -999.0,9,     4.0532,2,     -999.0,9
320620170703,        P06,      95,          1,         20,         20,2,20170727,       1920,   -32.5000,  -176.7500,       6147,  1075.3,   4.4163,  34.3678,2,  34.3639,2, 195.5334,2, 195.2033,2,    33.8,2,   30.70,2,    0.00,2,    2.09,2,   0.884,2,   0.408,2,   0.1450,2,  -999.0,9, -999.00,9,-999.0000,9, -999.00,9, -999.00,9, -999.00,  -999.0,9, -999.00,9,     -999.0,9,  -999.0,9, 20170727,     1844, -32.5000,-176.7499,        0.0,1,      0.060,1,      4.702,1,      0.138,1,     -999.0,     -999.0,9,     -999.0,9,     -999.0,9,     -999.0,9,     4.6032,2,     -999.0,9
320620170703,        P06,      95,          1,         21,         21,2,20170727,       1920,   -32.5000,  -176.7500,       6147,   972.7,   5.2168,  34.3562,2,  34.3501,2, 203.5420,2, 204.1659,2,    25.2,2,   28.95,2,    0.00,2,    1.96,2,   1.278,2,   0.599,2,   0.1500,2,  2185.5,2, 2290.35,2,   7.6426,2, -999.00,9, -999.00,9, -999.00,  -999.0,9, -999.00,9,     -999.0,9,  -999.0,9, 20170727,     1846, -32.4999,-176.7498,        0.0,1,      0.060,1,      4.701,1,      0.138,1,      25.03,     -999.0,9,     -999.0,9,     -999.0,9,     -999.0,9,     5.2034,2,     -999.0,9
320620170703,        P06,      95,          1,         22,         22,2,20170727,       1920,   -32.5000,  -176.7500,       6147,   871.8,   5.8296,  34.3549,2,  34.3492,2, 213.7416,2, 214.0742,2,    18.0,2,   27.02,2,    0.00,2,    1.86,2,   1.793,2,   0.856,2,   0.3150,2,  -999.0,9, -999.00,9,-999.0000,9, -999.00,9, -999.00,9, -999.00,  -999.0,9, -999.00,9,     -999.0,9,  -999.0,9, 20170727,     1849, -32.4999,-176.7498,        0.0,1,      0.060,1,      4.700,1,      0.140,1,     -999.0,     -999.0,9,     -999.0,9,     -999.0,9,     -999.0,9,     5.7664,2,     -999.0,9
320620170703,        P06,      95,          1,         23,         23,2,20170727,       1920,   -32.5000,  -176.7500,       6147,   771.2,   6.3978,  34.3688,2,  34.3784,2, 220.9707,2, 220.2161,2,    13.6,2,   25.11,2,    0.00,2,    1.67,2,   2.330,2,   1.127,2,   0.3200,2,  2158.9,2, 2279.00,2,   7.6834,2, -999.00,9, -999.00,9, -999.00,  -999.0,9, -999.00,9,     -999.0,9,  -999.0,9, 20170727,     1852, -32.5000,-176.7499,        0.0,1,      0.060,1,      4.700,1,      0.139,1,      25.05,     -999.0,9,     -999.0,9,     -999.0,9,     -999.0,9,     6.3923,2,     -999.0,9
320620170703,        P06,      95,          1,         24,         24,2,20170727,       1920,   -32.5000,  -176.7500,       6147,   670.0,   6.9811,  34.3976,2,  34.3864,2, 226.9986,2, 227.2310,2,     9.9,2,   23.65,2,    0.00,2,    1.60,2,   2.878,2,   1.432,2,   0.4730,2,  2151.0,2, -999.00,9,   7.6979,2, -999.00,9, -999.00,9, -999.00,  -999.0,9, -999.00,9,     -999.0,9,  -999.0,9, 20170727,     1855, -32.5000,-176.7499,        0.0,1,      0.059,1,      4.699,1,      0.142,1,      24.98,     -999.0,9,     -999.0,9,     -999.0,9,     -999.0,9,     6.7542,2,     -999.0,9
320620170703,        P06,      95,          1,         25,         25,2,20170727,       1920,   -32.5000,  -176.7500,       6147,   568.6,   7.7596,  34.4612,2,  34.4455,2, 229.0062,3, 226.6880,2,     7.4,2,   21.73,2,    0.00,2,    1.47,2,   3.404,2,   1.661,2,   0.6040,2,  2147.5,2, 2278.42,2,   7.7081,2, -999.00,9, -999.00,9, -999.00,  -999.0,9, -999.00,9,     -999.0,9,  -999.0,9, 20170727,     1857, -32.5000,-176.7500,        0.0,1,      0.059,1,      4.697,1,      0.149,1,      25.02,     -999.0,9,     -999.0,9,     -999.0,9,     -999.0,9,     7.4949,2,     -999.0,9
320620170703,        P06,      95,          1,         26,         26,2,20170727,       1920,   -32.5000,  -176.7500,       6147,   468.1,   8.9414,  34.5875,2,  34.5455,2, 218.6124,2, 219.5380,2,     5.5,2,   19.29,2,    0.00,2,    1.33,2,   3.347,2,   1.719,2,   0.7360,2,  2142.4,2, -999.00,9,   7.7245,2, -999.00,9, -999.00,9, -999.00,  -999.0,9, -999.00,9,     -999.0,9,  -999.0,9, 20170727,     1900, -32.5001,-176.7500,        0.0,1,      0.059,1,      4.695,1,      0.145,1,      25.02,     -999.0,9,     -999.0,9,     -999.0,9,     -999.0,9,     8.5724,2,     -999.0,9
320620170703,        P06,      95,          1,         27,         27,2,20170727,       1920,   -32.5000,  -176.7500,       6147,   368.4,  10.7122,  34.8220,2,  34.7950,2, 212.5437,2, 212.7400,2,     4.1,2,   14.80,2,    0.00,2,    1.04,2,   3.062,2,   1.696,2,   1.1310,2,  2136.1,2, 2290.25,2,   7.7626,2, -999.00,9, -999.00,9, -999.00,  -999.0,9, -999.00,9,     -999.0,9,  -999.0,9, 20170727,     1903, -32.5001,-176.7501,        0.0,1,      0.061,1,      4.692,1,      0.146,1,      25.02,     -999.0,9,     -999.0,9,     -999.0,9,     -999.0,9,    10.5147,2,     -999.0,9
320620170703,        P06,      95,          1,         28,         28,2,20170727,       1920,   -32.5000,  -176.7500,       6147,   286.7,  12.0769,  35.0021,2,  35.0356,2, 211.2333,2, 209.9810,2,     3.4,2,   11.38,2,    0.00,2,    0.82,2,   2.787,2,   1.583,2,   0.9370,2,  -999.0,9, -999.00,9,-999.0000,9, -999.00,9, -999.00,9, -999.00,  -999.0,9, -999.00,9,     -999.0,9,  -999.0,9, 20170727,     1905, -32.5001,-176.7500,        0.0,1,      0.061,1,      4.690,1,      0.150,1,     -999.0,     -999.0,9,     -999.0,9,     -999.0,9,     -999.0,9,    12.2625,2,     -999.0,9
320620170703,        P06,      95,          1,         29,         29,2,20170727,       1920,   -32.5000,  -176.7500,       6147,   236.0,  13.0343,  35.1296,2,  35.1589,2, 204.9262,2, 206.5119,2,     2.9,2,    9.72,2,    0.00,2,    0.70,2,   2.665,2,   1.520,2,   1.1460,2,  2119.9,2, 2305.99,2,   7.8308,2, -999.00,9, -999.00,9, -999.00,  -999.0,9, -999.00,9,     -999.0,9,  -999.0,9, 20170727,     1908, -32.5000,-176.7499,        0.0,1,      0.059,1,      4.689,1,      0.150,1,      25.02,     -999.0,9,     -999.0,9,     -999.0,9,     -999.0,9,    13.2757,2,     -999.0,9
320620170703,        P06,      95,          1,         30,         30,2,20170727,       1920,   -32.5000,  -176.7500,       6147,   187.0,  14.0868,  35.2580,2,  35.2727,2, 202.8041,2, 204.7953,2,     2.5,2,    8.46,2,    0.00,2,    0.63,2,   2.571,2,   1.482,2,   1.1120,2,  2113.8,2, -999.00,9,   7.8529,2, -999.00,9, -999.00,9, -999.00,  -999.0,9, -999.00,9,     -999.0,9,  -999.0,9, 20170727,     1910, -32.4999,-176.7498,        0.0,1,      0.060,1,      4.687,1,      0.149,1,      24.99,     -999.0,9,     -999.0,9,     -999.0,9,     -999.0,9,    14.2088,2,     -999.0,9
320620170703,        P06,      95,          1,         31,         31,2,20170727,       1920,   -32.5000,  -176.7500,       6147,   136.3,  15.3408,  35.3948,2,  35.4352,2, 205.9499,2, 206.9742,2,     1.8,2,    5.89,2,    0.03,2,    0.47,2,   2.418,2,   1.414,2,   1.2010,2,  2102.6,2, 2322.34,2,   7.8932,2, -999.00,9, -999.00,9, -999.00,  -999.0,9, -999.00,9,     -999.0,9,  -999.0,9, 20170727,     1912, -32.5000,-176.7499,        0.0,1,      0.061,1,      4.681,1,      0.161,1,      25.00,     -999.0,9,     -999.0,9,     -999.0,9,     -999.0,9,    15.7774,2,     -999.0,9
320620170703,        P06,      95,          1,         32,         32,2,20170727,       1920,   -32.5000,  -176.7500,       6147,    90.8,  17.0341,  35.5945,2,  35.6259,2, 231.3275,2, 232.1829,2,     0.5,2,    0.86,2,    0.12,2,    0.18,2,   2.291,2,   1.342,2,   1.3320,2,  -999.0,9, -999.00,9,-999.0000,9, -999.00,9, -999.00,9, -999.00,  -999.0,9, -999.00,9,     -999.0,9,  -999.0,9, 20170727,     1914, -32.5000,-176.7499,        0.0,1,      0.186,1,      4.605,1,      0.275,1,     -999.0,     -999.0,9,     -999.0,9,     -999.0,9,     -999.0,9,    17.2643,2,     -999.0,9