BOTTLE,20230922CCHSIOCBG
EXPOCODE,SECT_ID,STNNBR,CASTNO,SAMPNO,BTLNBR,BTLNBR_FLAG_W,DATE,TIME,LATITUDE,LONGITUDE,DEPTH,CTDPRS,CTDTMP,CTDSAL,CTDSAL_FLAG_W,SALNTY,SALNTY_FLAG_W,CTDOXY,CTDOXY_FLAG_W,OXYGEN,OXYGEN_FLAG_W,SILCAT,SILCAT_FLAG_W,NITRAT,NITRAT_FLAG_W,NITRIT,NITRIT_FLAG_W,PHSPHT,PHSPHT_FLAG_W,CFC-11,CFC-11_FLAG_W,CFC-12,CFC-12_FLAG_W,SF6,SF6_FLAG_W,TCARBN,TCARBN_FLAG_W,ALKALI,ALKALI_FLAG_W,PH_TOT,PH_TOT_FLAG_W,DELC13,DELC13_FLAG_W,DELC14,DELC14_FLAG_W,C14ERR,DOC,DOC_FLAG_W,TDN,TDN_FLAG_W,TON,TON_FLAG_W,D15N_NO3,D15N_NO3_FLAG_W,BTL_DATE,BTL_TIME,BTL_LAT,BTL_LON,CTDRINKO,CTDRINKO_FLAG_W,CTDFLUOR,CTDFLUOR_FLAG_W,CTDXMISS,CTDXMISS_FLAG_W,CTDBACKSCATTER,CTDBACKSCATTER_FLAG_W,PH_TMP,D18O_NO3,D18O_NO3_FLAG_W,DOP,DOP_FLAG_W,HPLC,HPLC_FLAG_W,POC,POC_FLAG_W,REFTMP,REFTMP_FLAG_W,TDP,TDP_FLAG_W
,,,,,,,,,,,METERS,DBAR,ITS-90,PSS-78,,PSS-78,,UMOL/KG,,UMOL/KG,,UMOL/KG,,UMOL/KG,,UMOL/KG,,UMOL/KG,,PMOL/KG,,PMOL/KG,,FMOL/KG,,UMOL/KG,,UMOL/KG,,,,/MILLE,,/MILLE,,/MILLE,UMOL/KG,,UMOL/KG,,UMOL/KG,,/MILLE,,,,,,VOLTS,,VOLTS,,VOLTS,,VOLTS,,DEGC,/MILLE,,UMOL/KG,,,,UG/L,,ITS-90,,UMOL/KG,
320620170703,        P06,      28,          1,          1,         37,2,20170710,       1033,   -30.0797,   159.7489,       2108,  2124.0,   2.2943,  34.6673,2,  34.6682,3, 164.3053,2, 164.4939,2,    98.1,2,   33.70,2,    0.00,2,    2.35,2,-999.000,9,-999.000,9,-999.0000,9,  2277.0,6, 2377.60,2,   7.5808,2, -999.00,9, -999.00,9, -999.00,  -999.0,9, -999.00,9,     -999.0,9,  -999.0,9, 20170710,      905, -30.0802, 159.7503,        0.0,1,      0.061,1,      4.703,1,      0.152,1,      25.00,     -999.0,9,     -999.0,9,     -999.0,9,     -999.0,9,     2.2961,2,     -999.0,9
320620170703,        P06,      28,          1,          2,          2,2,20170710,       1033,   -30.0797,   159.7489,       2108,  1986.8,   2.4249,  34.6507,2,  34.6508,2, 160.0703,2, 159.9774,2,    97.8,2,   34.05,2,    0.00,2,    2.38,2,   0.057,2,   0.033,2,   0.0000,2,  -999.0,9, -999.00,9,-999.0000,9, -999.00,9, -999.00,9, -999.00,  -999.0,9, -999.00,9,     -999.0,9,  -999.0,9, 20170710,      909, -30.0802, 159.7503,        0.0,1,      0.062,1,      4.705,1,      0.142,1,     -999.0,     -999.0,9,     -999.0,9,     -999.0,9,     -999.0,9,     2.4235,2,     -999.0,9
320620170703,        P06,      28,          1,          3,         38,2,20170710,       1033,   -30.0797,   159.7489,       2108,  1885.2,   2.5418,  34.6353,2,  34.6348,2, 156.3800,2, 155.8085,2,    98.4,2,   34.42,2,    0.00,2,    2.42,2,-999.000,9,-999.000,9,-999.0000,9,  -999.0,9, -999.00,9,-999.0000,9, -999.00,9, -999.00,9, -999.00,  -999.0,9, -999.00,9,     -999.0,9,  -999.0,9, 20170710,      912, -30.0802, 159.7503,        0.0,1,      0.062,1,      4.705,1,      0.143,1,     -999.0,     -999.0,9,     -999.0,9,     -999.0,9,     -999.0,9,     2.5487,2,     -999.0,9
320620170703,        P06,      28,          1,          4,          4,2,20170710,       1033,   -30.0797,   159.7489,       2108,  1783.5,   2.6959,  34.6178,2,  34.6201,2, 153.8651,2, 154.3597,2,    96.9,2,   34.56,2,    0.00,2,    2.42,2,   0.036,2,   0.036,2,   0.0000,2,  2283.4,2, 2376.97,2,   7.5718,2, -999.00,9, -999.00,9, -999.00,  -999.0,9, -999.00,9,     -999.0,9,  -999.0,9, 20170710,      915, -30.0803, 159.7504,        0.0,1,      0.062,1,      4.705,1,      0.143,1,      25.00,     -999.0,9,     -999.0,9,     -999.0,9,     -999.0,9,     2.6892,2,     -999.0,9
320620170703,        P06,      28,          1,          5,         39,2,20170710,       1033,   -30.0797,   159.7489,       2108,  1682.7,   2.9231,  34.5958,2,  34.5963,2, 152.2548,2, 152.1131,2,    93.8,2,   34.59,2,    0.00,2,    2.44,2,-999.000,9,-999.000,9,-999.0000,9,  -999.0,9, -999.00,9,-999.0000,9, -999.00,9, -999.00,9, -999.00,  -999.0,9, -999.00,9,     -999.0,9,  -999.0,9, 20170710,      918, -30.0803, 159.7504,        0.0,1,      0.061,1,      4.704,1,      0.147,1,     -999.0,     -999.0,9,     -999.0,9,     -999.0,9,     -999.0,9,     2.9167,2,     -999.0,9
320620170703,        P06,      28,          1,          6,          6,2,20170710,       1033,   -30.0797,   159.7489,       2108,  1584.0,   3.1234,  34.5779,2,  34.5781,2, 153.3291,2, 153.5188,2,    89.0,2,   34.38,2,    0.00,2,    2.40,2,   0.070,2,   0.058,2,   0.0000,2,  -999.0,9, -999.00,9,-999.0000,9, -999.00,9, -999.00,9, -999.00,  -999.0,9, -999.00,9,     -999.0,9,  -999.0,9, 20170710,      921, -30.0803, 159.7504,        0.0,1,      0.061,1,      4.703,1,      0.150,1,     -999.0,     -999.0,9,     -999.0,9,     -999.0,9,     -999.0,9,     3.1226,2,     -999.0,9
320620170703,        P06,      28,          1,          7,         40,2,20170710,       1033,   -30.0797,   159.7489,       2108,  1480.5,   3.4742,  34.5488,2,  34.5545,3, 156.7576,2, 156.7567,2,    81.8,2,   33.93,2,    0.00,2,    2.37,2,-999.000,9,-999.000,9,-999.0000,9,  2267.4,2, 2357.81,2,   7.5813,2, -999.00,9, -999.00,9, -999.00,  -999.0,9, -999.00,9,     -999.0,9,  -999.0,9, 20170710,      936, -30.0803, 159.7504,        0.0,1,      0.061,1,      4.705,1,      0.145,1,      24.98,     -999.0,9,     -999.0,9,     -999.0,9,     -999.0,9,     3.3756,2,     -999.0,9
320620170703,        P06,      28,          1,          8,          8,2,20170710,       1033,   -30.0797,   159.7489,       2108,  1379.4,   3.8461,  34.5189,2,  34.5231,2, 162.4719,2, 162.5667,2,    71.6,2,   33.22,2,    0.00,2,    2.32,2,   0.198,2,   0.128,2,   0.0000,2,  -999.0,9, -999.00,9,-999.0000,9, -999.00,9, -999.00,9, -999.00,  -999.0,9, -999.00,9,     -999.0,9,  -999.0,9, 20170710,      940, -30.0803, 159.7504,        0.0,1,      0.062,1,      4.705,1,      0.142,1,     -999.0,     -999.0,9,     -999.0,9,     -999.0,9,     -999.0,9,     3.7850,2,     -999.0,9
320620170703,        P06,      28,          1,          9,         41,2,20170710,       1033,   -30.0797,   159.7489,       2108,  1276.9,   4.3041,  34.4896,2,  34.4897,3, 171.4177,2, 171.0693,2,    58.8,2,   31.96,2,    0.00,2,    2.21,2,-999.000,9,-999.000,9,-999.0000,9,  -999.0,9, -999.00,9,-999.0000,9, -999.00,9, -999.00,9, -999.00,  -999.0,9, -999.00,9,     -999.0,9,  -999.0,9, 20170710,      943, -30.0802, 159.7503,        0.0,1,      0.061,1,      4.706,1,      0.142,1,     -999.0,     -999.0,9,     -999.0,9,     -999.0,9,     -999.0,9,     4.2975,2,     -999.0,9
320620170703,        P06,      28,          1,         10,         10,2,20170710,       1033,   -30.0797,   159.7489,       2108,  1175.8,   4.7697,  34.4638,2,  34.4646,3, 178.5698,2, 178.8844,2,    48.2,2,   30.78,2,    0.00,2,    2.12,2,   0.550,2,   0.300,2,   0.0810,2,  -999.0,9, -999.00,9,-999.0000,9, -999.00,9, -999.00,9, -999.00,  -999.0,9, -999.00,9,     -999.0,9,  -999.0,9, 20170710,      946, -30.0802, 159.7503,        0.0,1,      0.060,1,      4.706,1,      0.141,1,     -999.0,     -999.0,9,     -999.0,9,     -999.0,9,     -999.0,9,     4.7381,2,     -999.0,9
320620170703,        P06,      28,          1,         11,         42,2,20170710,       1033,   -30.0797,   159.7489,       2108,  1075.5,   5.2138,  34.4474,2,  34.4495,2, 183.8133,2, 183.7309,2,    40.3,2,   29.90,2,    0.00,2,    2.04,2,-999.000,9,-999.000,9,-999.0000,9,  2206.2,2, 2315.82,2,   7.6289,2, -999.00,9, -999.00,9, -999.00,  -999.0,9, -999.00,9,     -999.0,9,  -999.0,9, 20170710,      949, -30.0802, 159.7503,        0.0,1,      0.061,1,      4.706,1,      0.142,1,      25.00,     -999.0,9,     -999.0,9,     -999.0,9,     -999.0,9,     5.1543,2,     -999.0,9
320620170703,        P06,      28,          1,         12,         12,2,20170710,       1033,   -30.0797,   159.7489,       2108,   972.5,   5.7255,  34.4332,2,  34.4324,3, 194.5185,2, 194.5513,2,    30.1,2,   28.26,2,    0.00,2,    1.94,2,   1.118,2,   0.563,2,   0.1970,2,  -999.0,9, -999.00,9,-999.0000,9, -999.00,9, -999.00,9, -999.00,  -999.0,9, -999.00,9,     -999.0,9,  -999.0,9, 20170710,      951, -30.0802, 159.7503,        0.0,1,      0.060,1,      4.706,1,      0.140,1,     -999.0,     -999.0,9,     -999.0,9,     -999.0,9,     -999.0,9,     5.7174,2,     -999.0,9
320620170703,        P06,      28,          1,         13,         43,2,20170710,       1033,   -30.0797,   159.7489,       2108,   872.5,   6.4784,  34.4523,2,  34.4516,2, 198.1282,2, 198.1322,2,    22.2,2,   26.47,2,    0.00,2,    1.80,2,-999.000,9,-999.000,9,-999.0000,9,  -999.0,9, -999.00,9,-999.0000,9, -999.00,9, -999.00,9, -999.00,  -999.0,9, -999.00,9,     -999.0,9,  -999.0,9, 20170710,      954, -30.0802, 159.7502,        0.0,1,      0.060,1,      4.705,1,      0.142,1,     -999.0,     -999.0,9,     -999.0,9,     -999.0,9,     -999.0,9,     6.4182,2,     -999.0,9
320620170703,        P06,      28,          1,         14,         14,2,20170710,       1033,   -30.0797,   159.7489,       2108,   770.7,   7.3965,  34.5079,2,  34.4964,3, 200.6002,2, 200.2209,2,    16.0,2,   24.51,2,    0.01,2,    1.66,2,   1.819,2,   0.913,2,   0.3050,2,  2166.2,2, 2298.18,2,   7.6840,2, -999.00,9, -999.00,9, -999.00,  -999.0,9, -999.00,9,     -999.0,9,  -999.0,9, 20170710,      957, -30.0801, 159.7502,        0.0,1,      0.060,1,      4.703,1,      0.143,1,      24.98,     -999.0,9,     -999.0,9,     -999.0,9,     -999.0,9,     7.3176,2,     -999.0,9
320620170703,        P06,      28,          1,         15,         15,2,20170710,       1033,   -30.0797,   159.7489,       2108,   670.6,   8.6841,  34.6248,2,  34.6052,2, 200.5889,2, 200.7348,2,    10.6,2,   21.62,2,    0.00,2,    1.46,2,-999.000,9,-999.000,9,-999.0000,9,  -999.0,9, -999.00,9,-999.0000,9, -999.00,9, -999.00,9, -999.00,  -999.0,9, -999.00,9,     -999.0,9,  -999.0,9, 20170710,     1001, -30.0801, 159.7501,        0.0,1,      0.060,1,      4.701,1,      0.143,1,     -999.0,     -999.0,9,     -999.0,9,     -999.0,9,     -999.0,9,     8.5159,2,     -999.0,9
320620170703,        P06,      28,          1,         16,         16,2,20170710,       1033,   -30.0797,   159.7489,       2108,   570.5,  10.1175,  34.7755,2,  34.7459,2, 197.8599,2, 198.7439,2,     7.4,2,   18.63,2,    0.01,2,    1.26,2,   2.517,2,   1.337,2,   0.6490,2,  -999.0,9, -999.00,9,-999.0000,9, -999.00,9, -999.00,9, -999.00,  -999.0,9, -999.00,9,     -999.0,9,  -999.0,9, 20170710,     1004, -30.0800, 159.7500,        0.0,1,      0.060,1,      4.699,1,      0.144,1,     -999.0,     -999.0,9,     -999.0,9,     -999.0,9,     -999.0,9,     9.8980,2,     -999.0,9
320620170703,        P06,      28,          1,         17,         17,2,20170710,       1033,   -30.0797,   159.7489,       2108,   488.3,  11.9238,  35.0146,2,  34.9471,2, 195.4998,2, 194.3771,2,     5.4,2,   15.36,2,    0.01,2,    1.04,2,-999.000,9,-999.000,9,-999.0000,9,  2137.0,2, 2310.99,2,   7.7758,2, -999.00,9, -999.00,9, -999.00,  -999.0,9, -999.00,9,     -999.0,9,  -999.0,9, 20170710,     1007, -30.0799, 159.7498,        0.0,1,      0.060,1,      4.696,1,      0.145,1,      25.03,     -999.0,9,     -999.0,9,     -999.0,9,     -999.0,9,    11.5918,2,     -999.0,9
320620170703,        P06,      28,          1,         18,         18,2,20170710,       1033,   -30.0797,   159.7489,       2108,   438.3,  13.0627,  35.1725,2,  35.1374,2, 200.7608,2, 200.4006,2,     3.7,2,   12.20,2,    0.01,2,    0.84,2,   2.478,2,   1.388,2,   0.6020,2,  -999.0,9, -999.00,9,-999.0000,9, -999.00,9, -999.00,9, -999.00,  -999.0,9, -999.00,9,     -999.0,9,  -999.0,9, 20170710,     1009, -30.0798, 159.7497,        0.0,1,      0.060,1,      4.695,1,      0.146,1,     -999.0,     -999.0,9,     -999.0,9,     -999.0,9,     -999.0,9,    12.8705,2,     -999.0,9
320620170703,        P06,      28,          1,         19,         19,2,20170710,       1033,   -30.0797,   159.7489,       2108,   387.6,  14.0763,  35.2562,2,  35.2258,2, 196.0045,2, 197.0905,2,     3.1,2,   10.89,2,    0.01,2,    0.75,2,-999.000,9,-999.000,9,-999.0000,9,  2121.6,2, 2336.89,3,   7.8360,2, -999.00,9, -999.00,9, -999.00,  -999.0,9, -999.00,9,     -999.0,9,  -999.0,9, 20170710,     1011, -30.0797, 159.7496,        0.0,1,      0.060,1,      4.695,1,      0.146,1,      24.98,     -999.0,9,     -999.0,9,     -999.0,9,     -999.0,9,    13.7762,2,     -999.0,9
320620170703,        P06,      28,          1,         20,         20,2,20170710,       1033,   -30.0797,   159.7489,       2108,   336.9,  15.1157,  35.3462,2,  35.3429,2, 192.5228,2, 192.1065,2,     2.4,2,    9.15,2,    0.01,2,    0.64,2,   2.317,2,   1.327,2,   0.5850,2,  -999.0,9, -999.00,9,-999.0000,9, -999.00,9, -999.00,9, -999.00,  -999.0,9, -999.00,9,     -999.0,9,  -999.0,9, 20170710,     1013, -30.0797, 159.7494,        0.0,1,      0.060,1,      4.694,1,      0.145,1,     -999.0,     -999.0,9,     -999.0,9,     -999.0,9,     -999.0,9,    15.1393,2,     -999.0,9
320620170703,        P06,      28,          1,         21,         21,2,20170710,       1033,   -30.0797,   159.7489,       2108,   287.0,  16.3015,  35.4536,2,  35.4768,2, 192.7521,2, 193.2384,2,     1.8,2,    7.12,2,    0.01,2,    0.52,2,-999.000,9,-999.000,9,-999.0000,9,  2100.2,2, 2319.65,3,   7.8991,2, -999.00,9, -999.00,9, -999.00,  -999.0,9, -999.00,9,     -999.0,9,  -999.0,9, 20170710,     1015, -30.0797, 159.7493,        0.0,1,      0.059,1,      4.692,1,      0.146,1,      25.00,     -999.0,9,     -999.0,9,     -999.0,9,     -999.0,9,    16.4483,2,     -999.0,9
320620170703,        P06,      28,          1,         22,         22,2,20170710,       1033,   -30.0797,   159.7489,       2108,   241.4,  17.6227,  35.5684,2,  35.5685,2, 190.5125,2, 190.5209,2,     1.3,2,    5.94,2,    0.01,2,    0.43,2,   2.079,2,   1.248,2,   0.6360,2,  -999.0,9, -999.00,9,-999.0000,9, -999.00,9, -999.00,9, -999.00,  -999.0,9, -999.00,9,     -999.0,9,  -999.0,9, 20170710,     1017, -30.0797, 159.7491,        0.0,1,      0.059,1,      4.690,1,      0.149,1,     -999.0,     -999.0,9,     -999.0,9,     -999.0,9,     -999.0,9,    17.6514,2,     -999.0,9
320620170703,        P06,      28,          1,         23,         23,2,20170710,       1033,   -30.0797,   159.7489,       2108,   216.9,  18.3096,  35.6252,2,  35.6149,2, 192.3450,2, 192.0693,2,     1.1,2,    5.17,2,    0.02,2,    0.39,2,-999.000,9,-999.000,9,-999.0000,9,  -999.0,9, -999.00,9,-999.0000,9, -999.00,9, -999.00,9, -999.00,  -999.0,9, -999.00,9,     -999.0,9,  -999.0,9, 20170710,     1019, -30.0797, 159.7490,        0.0,1,      0.060,1,      4.688,1,      0.153,1,     -999.0,     -999.0,9,     -999.0,9,     -999.0,9,     -999.0,9,    18.1375,2,     -999.0,9
320620170703,        P06,      28,          1,         24,         24,2,20170710,       1033,   -30.0797,   159.7489,       2108,   191.1,  18.8161,  35.6674,2,  35.6526,2, 191.4963,2, 191.0307,2,     0.9,2,    4.70,2,    0.02,2,    0.35,2,   2.069,2,   1.221,2,   0.6550,2,  2082.2,2, 2352.87,2,   7.9469,2, -999.00,9, -999.00,9, -999.00,  -999.0,9, -999.00,9,     -999.0,9,  -999.0,9, 20170710,     1020, -30.0797, 159.7490,        0.0,1,      0.060,1,      4.685,1,      0.156,1,      25.01,     -999.0,9,     -999.0,9,     -999.0,9,     -999.0,9,    18.7501,2,     -999.0,9
320620170703,        P06,      28,          1,         25,         25,2,20170710,       1033,   -30.0797,   159.7489,       2108,   165.8,  19.6955,  35.7667,2,  35.7272,2, 206.3106,3, 201.9276,2,     0.5,2,    2.88,2,    0.10,2,    0.25,2,-999.000,9,-999.000,9,-999.0000,9,  2068.9,2, 2348.83,2,   7.9781,2, -999.00,9, -999.00,9, -999.00,  -999.0,9, -999.00,9,     -999.0,9,  -999.0,9, 20170710,     1022, -30.0797, 159.7489,        0.0,1,      0.088,1,      4.671,1,      0.168,1,      25.03,     -999.0,9,     -999.0,9,     -999.0,9,     -999.0,9,    19.5393,2,     -999.0,9
320620170703,        P06,      28,          1,         26,         26,2,20170710,       1033,   -30.0797,   159.7489,       2108,   140.8,  19.7944,  35.7869,2,  35.7849,2, 218.2224,2, 219.3208,2,     0.2,2,    1.00,2,    0.26,2,    0.14,2,   1.892,2,   1.155,2,   0.7360,2,  2054.4,2, 2351.82,3,   8.0087,2, -999.00,9, -999.00,9, -999.00,  -999.0,9, -999.00,9,     -999.0,9,  -999.0,9, 20170710,     1024, -30.0797, 159.7489,        0.0,1,      0.158,1,      4.639,1,      0.191,1,      25.01,     -999.0,9,     -999.0,9,     -999.0,9,     -999.0,9,    19.7798,2,     -999.0,9
320620170703,        P06,      28,          1,         27,         27,2,20170710,       1033,   -30.0797,   159.7489,       2108,   116.4,  19.7928,  35.7872,2,  35.7876,2, 220.2709,2, 206.4063,3,     0.2,2,    0.78,2,    0.26,2,    0.13,2,-999.000,9,-999.000,9,-999.0000,9,  -999.0,9, -999.00,9,-999.0000,9, -999.00,9, -999.00,9, -999.00,  -999.0,9, -999.00,9,     -999.0,9,  -999.0,9, 20170710,     1025, -30.0797, 159.7489,        0.0,1,      0.169,1,      4.634,1,      0.197,1,     -999.0,     -999.0,9,     -999.0,9,     -999.0,9,     -999.0,9,    19.7869,2,     -999.0,9
320620170703,        P06,      28,          1,         28,         28,2,20170710,       1033,   -30.0797,   159.7489,       2108,    91.0,  19.8850,  35.7874,2,  35.7882,2, 221.1787,2, 221.3597,2,     0.1,2,    0.63,2,    0.23,2,    0.13,2,   1.912,2,   1.172,2,   1.3010,4,  2051.5,2, 2352.42,2,   8.0157,2, -999.00,9, -999.00,9, -999.00,  -999.0,9, -999.00,9,     -999.0,9,  -999.0,9, 20170710,     1027, -30.0797, 159.7489,        0.0,1,      0.213,1,      4.614,1,      0.205,1,      25.00,     -999.0,9,     -999.0,9,     -999.0,9,     -999.0,9,    19.8570,2,     -999.0,9
320620170703,        P06,      28,          1,         29,         29,2,20170710,       1033,   -30.0797,   159.7489,       2108,    64.8,  19.9565,  35.7859,2,  35.7870,2, 219.5615,2, 219.6055,2,     0.1,2,    0.64,2,    0.26,2,    0.14,2,-999.000,9,-999.000,9,-999.0000,9,  -999.0,9, -999.00,9,-999.0000,9, -999.00,9, -999.00,9, -999.00,  -999.0,9, -999.00,9,     -999.0,9,  -999.0,9, 20170710,     1028, -30.0797, 159.7489,        0.0,1,      0.174,1,      4.630,1,      0.198,1,     -999.0,     -999.0,9,     -999.0,9,     -999.0,9,     -999.0,9,    19.9403,2,     -999.0,9
320620170703,        P06,      28,          1,         30,         30,2,20170710,       1033,   -30.0797,   159.7489,       2108,    40.5,  19.9972,  35.7907,2,  35.7928,2, 220.4169,2, 221.3668,2,     0.1,2,    0.48,2,    0.22,2,    0.12,2,   1.945,2,   1.172,2,   1.0510,2,  2049.3,2, 2341.78,3,   8.0212,2, -999.00,9, -999.00,9, -999.00,  -999.0,9, -999.00,9,     -999.0,9,  -999.0,9, 20170710,     1030, -30.0797, 159.7489,        0.0,1,      0.198,1,      4.597,1,      0.207,1,      25.02,     -999.0,9,     -999.0,9,     -999.0,9,     -999.0,9,    19.9911,2,     -999.0,9
320620170703,        P06,      28,          1,         31,         31,2,20170710,       1033,   -30.0797,   159.7489,       2108,    20.5,  19.9976,  35.7909,2,  35.7916,2, 221.0696,2, 221.6534,2,     0.1,2,    0.49,2,    0.22,2,    0.12,2,-999.000,9,-999.000,9,-999.0000,9,  -999.0,9, -999.00,9,-999.0000,9, -999.00,9, -999.00,9, -999.00,  -999.0,9, -999.00,9,     -999.0,9,  -999.0,9, 20170710,     1031, -30.0797, 159.7489,        0.0,1,      0.190,1,      4.592,1,      0.206,1,     -999.0,     -999.0,9,     -999.0,9,     -999.0,9,     -999.0,9,    19.9883,2,     -999.0,9
320620170703,        P06,      28,          1,         32,         32,2,20170710,       1033,   -30.0797,   159.7489,       2108,     4.9,  19.9868,  35.7912,2,  35.7920,2, 220.8800,2, 221.3767,2,     0.1,2,    0.49,2,    0.22,2,    0.13,2,   1.913,2,   1.148,2,   0.6010,4,  2049.4,6, 2349.84,3,   8.0208,2, -999.00,9, -999.00,9, -999.00,  -999.0,9, -999.00,9,     -999.0,9,  -999.0,9, 20170710,     1033, -30.0797, 159.7489,        0.0,1,      0.199,1,      4.592,1,      0.204,1,      25.02,     -999.0,9,     -999.0,9,     -999.0,9,     -999.0,9,    19.9844,2,     -999.0,9