BOTTLE,20230922CCHSIOCBG
EXPOCODE,SECT_ID,STNNBR,CASTNO,SAMPNO,BTLNBR,BTLNBR_FLAG_W,DATE,TIME,LATITUDE,LONGITUDE,DEPTH,CTDPRS,CTDTMP,CTDSAL,CTDSAL_FLAG_W,SALNTY,SALNTY_FLAG_W,CTDOXY,CTDOXY_FLAG_W,OXYGEN,OXYGEN_FLAG_W,SILCAT,SILCAT_FLAG_W,NITRAT,NITRAT_FLAG_W,NITRIT,NITRIT_FLAG_W,PHSPHT,PHSPHT_FLAG_W,CFC-11,CFC-11_FLAG_W,CFC-12,CFC-12_FLAG_W,SF6,SF6_FLAG_W,TCARBN,TCARBN_FLAG_W,ALKALI,ALKALI_FLAG_W,PH_TOT,PH_TOT_FLAG_W,DELC13,DELC13_FLAG_W,DELC14,DELC14_FLAG_W,C14ERR,DOC,DOC_FLAG_W,TDN,TDN_FLAG_W,TON,TON_FLAG_W,D15N_NO3,D15N_NO3_FLAG_W,BTL_DATE,BTL_TIME,BTL_LAT,BTL_LON,CTDRINKO,CTDRINKO_FLAG_W,CTDFLUOR,CTDFLUOR_FLAG_W,CTDXMISS,CTDXMISS_FLAG_W,CTDBACKSCATTER,CTDBACKSCATTER_FLAG_W,PH_TMP,D18O_NO3,D18O_NO3_FLAG_W,DOP,DOP_FLAG_W,HPLC,HPLC_FLAG_W,POC,POC_FLAG_W,REFTMP,REFTMP_FLAG_W,TDP,TDP_FLAG_W
,,,,,,,,,,,METERS,DBAR,ITS-90,PSS-78,,PSS-78,,UMOL/KG,,UMOL/KG,,UMOL/KG,,UMOL/KG,,UMOL/KG,,UMOL/KG,,PMOL/KG,,PMOL/KG,,FMOL/KG,,UMOL/KG,,UMOL/KG,,,,/MILLE,,/MILLE,,/MILLE,UMOL/KG,,UMOL/KG,,UMOL/KG,,/MILLE,,,,,,VOLTS,,VOLTS,,VOLTS,,VOLTS,,DEGC,/MILLE,,UMOL/KG,,,,UG/L,,ITS-90,,UMOL/KG,
320620170703,        P06,      35,          1,          1,         37,2,20170711,       1609,   -30.0797,   163.0011,       1226,  1223.9,   4.6628,  34.4825,2,  34.4830,2, 175.4528,2, 175.0085,2,    52.7,2,   31.18,2,    0.00,2,    2.15,2,   0.530,2,   0.302,2,   0.1030,2,  2222.3,6, 2341.71,3,   7.6127,2, -999.00,9, -999.00,9, -999.00,    37.9,2, -999.00,9,     -999.0,1,  -999.0,9, 20170711,     1518, -30.0798, 163.0010,        0.0,1,      0.060,1,      4.695,1,      0.169,1,      25.02,     -999.0,9,     -999.0,9,     -999.0,9,     -999.0,9,     4.6632,2,     -999.0,9
320620170703,        P06,      35,          1,          2,          2,2,20170711,       1609,   -30.0797,   163.0011,       1226,  1171.7,   4.8138,  34.4742,2,  34.4734,2, 178.4942,2, 179.6553,2,    49.1,2,   30.72,2,    0.00,2,    2.12,2,-999.000,9,-999.000,9,-999.0000,9,  2217.9,2, 2312.58,2,   7.6177,2, -999.00,9, -999.00,9, -999.00,    41.3,2, -999.00,9,     -999.0,1,  -999.0,9, 20170711,     1520, -30.0798, 163.0009,        0.0,1,      0.061,1,      4.703,1,      0.146,1,      25.01,     -999.0,9,     -999.0,9,     -999.0,9,     -999.0,9,     4.8103,2,     -999.0,9
320620170703,        P06,      35,          1,          3,         38,2,20170711,       1609,   -30.0797,   163.0011,       1226,  1110.8,   5.1594,  34.4628,2,  34.4616,2, 183.4217,2, 182.6787,2,    42.0,2,   29.83,2,    0.00,2,    2.05,2,   0.721,2,   0.403,2,   0.2140,2,  2205.3,2, 2306.16,2,   7.6287,2, -999.00,9, -999.00,9, -999.00,    41.6,2, -999.00,9,     -999.0,1,  -999.0,9, 20170711,     1523, -30.0798, 163.0009,        0.0,1,      0.061,1,      4.705,1,      0.144,1,      25.02,     -999.0,9,     -999.0,9,     -999.0,9,     -999.0,9,     5.1622,2,     -999.0,9
320620170703,        P06,      35,          1,          4,          4,2,20170711,       1609,   -30.0797,   163.0011,       1226,  1010.5,   5.7165,  34.4573,2,  34.4569,2, 188.8578,2, 188.8471,2,    33.0,2,   28.47,2,    0.00,2,    1.94,2,-999.000,9,-999.000,9,-999.0000,9,  2192.0,2, 2296.14,2,   7.6434,2, -999.00,9, -999.00,9, -999.00,    40.0,2, -999.00,9,     -999.0,1,  -999.0,9, 20170711,     1526, -30.0798, 163.0010,        0.0,1,      0.060,1,      4.705,1,      0.141,1,      25.01,     -999.0,9,     -999.0,9,     -999.0,9,     -999.0,9,     5.7181,2,     -999.0,9
320620170703,        P06,      35,          1,          5,         39,2,20170711,       1609,   -30.0797,   163.0011,       1226,   908.7,   6.4448,  34.4715,2,  34.4673,2, 194.5860,2, 194.2807,2,    24.5,2,   26.83,2,    0.00,2,    1.82,2,   1.261,2,   0.688,2,   0.2620,2,  2180.8,2, 2290.19,6,   7.6606,2, -999.00,9, -999.00,9, -999.00,    41.4,2, -999.00,9,     -999.0,1,  -999.0,9, 20170711,     1529, -30.0798, 163.0011,        0.0,1,      0.060,1,      4.704,1,      0.142,1,      25.02,     -999.0,9,     -999.0,9,     -999.0,9,     -999.0,9,     6.3880,2,     -999.0,9
320620170703,        P06,      35,          1,          6,          6,2,20170711,       1609,   -30.0797,   163.0011,       1226,   807.3,   7.3300,  34.5113,2,  34.5072,2, 198.3258,2, 198.5168,2,    17.0,2,   24.59,2,    0.00,2,    1.66,2,-999.000,9,-999.000,9,-999.0000,9,  2165.6,2, 2283.41,2,   7.6815,2, -999.00,9, -999.00,9, -999.00,    41.0,2, -999.00,9,     -999.0,1,  -999.0,9, 20170711,     1532, -30.0798, 163.0013,        0.0,1,      0.060,1,      4.703,1,      0.142,1,      25.01,     -999.0,9,     -999.0,9,     -999.0,9,     -999.0,9,     7.2603,2,     -999.0,9
320620170703,        P06,      35,          1,          7,         40,2,20170711,       1609,   -30.0797,   163.0011,       1226,   726.2,   8.2971,  34.5905,2,  34.5834,2, 200.0717,2, 200.0431,2,    12.2,2,   22.31,2,    0.00,2,    1.50,2,   2.019,2,   1.151,2,   0.4850,2,  2157.7,2, 2283.16,2,   7.7010,2, -999.00,9, -999.00,9, -999.00,    42.3,2, -999.00,9,     -999.0,1,  -999.0,9, 20170711,     1534, -30.0798, 163.0013,        0.0,1,      0.058,1,      4.702,1,      0.140,1,      25.02,     -999.0,9,     -999.0,9,     -999.0,9,     -999.0,9,     8.2264,2,     -999.0,9
320620170703,        P06,      35,          1,          8,          8,2,20170711,       1609,   -30.0797,   163.0011,       1226,   706.7,   8.3821,  34.5806,2,  34.5846,2, 203.8891,2, 204.1306,2,    10.7,2,   21.57,2,    0.00,2,    1.46,2,-999.000,9,-999.000,9,-999.0000,9,  2155.3,2, 2282.91,2,   7.7097,2, -999.00,9, -999.00,9, -999.00,    43.8,2, -999.00,9,     -999.0,1,  -999.0,9, 20170711,     1536, -30.0798, 163.0014,        0.0,1,      0.060,1,      4.702,1,      0.141,1,      25.02,     -999.0,9,     -999.0,9,     -999.0,9,     -999.0,9,     8.3849,2,     -999.0,9
320620170703,        P06,      35,          1,          9,         41,2,20170711,       1609,   -30.0797,   163.0011,       1226,   604.3,   9.6315,  34.7084,2,  34.6916,2, 202.1300,2, 202.2471,2,     7.7,2,   19.16,2,    0.00,2,    1.28,2,   2.423,2,   1.380,2,   0.6370,2,  2145.7,6, 2285.68,2,   7.7336,2, -999.00,9, -999.00,9, -999.00,    44.0,2, -999.00,9,     -999.0,1,  -999.0,9, 20170711,     1539, -30.0798, 163.0013,        0.0,1,      0.059,1,      4.700,1,      0.143,1,      25.01,     -999.0,9,     -999.0,9,     -999.0,9,     -999.0,9,     9.4963,2,     -999.0,9
320620170703,        P06,      35,          1,         10,         10,2,20170711,       1609,   -30.0797,   163.0011,       1226,   503.8,  11.8123,  34.9834,2,  34.9660,3, 196.0974,2, 196.0011,2,     5.3,2,   14.88,2,    0.01,2,    1.01,2,-999.000,9,-999.000,9,-999.0000,9,  2134.5,2, 2295.05,2,   7.7813,2, -999.00,9, -999.00,9, -999.00,    46.9,2, -999.00,9,     -999.0,1,  -999.0,9, 20170711,     1542, -30.0798, 163.0013,        0.0,1,      0.060,1,      4.697,1,      0.146,1,      25.01,     -999.0,9,     -999.0,9,     -999.0,9,     -999.0,9,    11.7480,2,     -999.0,9
320620170703,        P06,      35,          1,         11,         42,2,20170711,       1609,   -30.0797,   163.0011,       1226,   452.7,  12.9221,  35.0982,2,  35.0933,3, 194.5793,2, 194.4785,2,     4.1,2,   12.70,2,    0.01,2,    0.87,2,   2.317,2,   1.408,2,   0.8580,2,  2125.7,2, 2301.16,2,   7.8096,2, -999.00,9, -999.00,9, -999.00,  -999.0,9, -999.00,9,     -999.0,9,  -999.0,9, 20170711,     1544, -30.0798, 163.0012,        0.0,1,      0.060,1,      4.695,1,      0.146,1,      25.01,     -999.0,9,     -999.0,9,     -999.0,9,     -999.0,9,    12.8995,2,     -999.0,9
320620170703,        P06,      35,          1,         12,         12,2,20170711,       1609,   -30.0797,   163.0011,       1226,   402.6,  14.1533,  35.2341,2,  35.2097,2, 193.6423,2, 193.8666,2,     3.2,2,   10.83,2,    0.01,2,    0.75,2,-999.000,9,-999.000,9,-999.0000,9,  2118.2,2, 2305.56,2,   7.8366,2, -999.00,9, -999.00,9, -999.00,    47.5,2,   13.30,2,     -999.0,1,  -999.0,9, 20170711,     1546, -30.0798, 163.0012,        0.0,1,      0.059,1,      4.695,1,      0.146,1,      25.02,     -999.0,9,     -999.0,9,     -999.0,9,     -999.0,9,    13.9192,2,     -999.0,9
320620170703,        P06,      35,          1,         13,         43,2,20170711,       1609,   -30.0797,   163.0011,       1226,   353.2,  15.0852,  35.3512,2,  35.3390,2, 194.2758,2, 194.3499,2,     2.5,2,    9.07,2,    0.01,2,    0.63,2,   2.205,2,   1.388,2,   1.0180,2,  2112.2,2, 2312.80,2,   7.8646,2, -999.00,9, -999.00,9, -999.00,  -999.0,9, -999.00,9,     -999.0,9,  -999.0,9, 20170711,     1548, -30.0798, 163.0012,        0.0,1,      0.059,1,      4.692,1,      0.148,1,      25.01,     -999.0,9,     -999.0,9,     -999.0,9,     -999.0,9,    15.0554,2,     -999.0,9
320620170703,        P06,      35,          1,         14,         14,2,20170711,       1609,   -30.0797,   163.0011,       1226,   301.9,  16.3582,  35.4822,2,  35.4876,2, 195.0920,2, 195.7457,2,     1.8,2,    6.93,2,    0.01,2,    0.50,2,-999.000,9,-999.000,9,-999.0000,9,  2099.2,2, 2319.31,2,   7.9018,2, -999.00,9, -999.00,9, -999.00,    52.6,2,    9.70,2,     -999.0,1,  -999.0,9, 20170711,     1550, -30.0798, 163.0011,        0.0,1,      0.059,1,      4.692,1,      0.146,1,      25.02,     -999.0,9,     -999.0,9,     -999.0,9,     -999.0,9,    16.4074,2,     -999.0,9
320620170703,        P06,      35,          1,         15,         15,2,20170711,       1609,   -30.0797,   163.0011,       1226,   251.7,  17.5661,  35.5771,2,  35.5829,2, 195.0096,2, 193.9995,2,     1.3,2,    5.58,2,    0.01,2,    0.42,2,   1.979,2,   1.293,2,   1.0160,2,  2086.1,2, 2326.97,2,   7.9277,2, -999.00,9, -999.00,9, -999.00,    53.7,3,    8.60,2,     -999.0,1,  -999.0,9, 20170711,     1553, -30.0797, 163.0009,        0.0,1,      0.060,1,      4.691,1,      0.145,1,      25.01,     -999.0,9,     -999.0,9,     -999.0,9,     -999.0,9,    17.6510,2,     -999.0,9
320620170703,        P06,      35,          1,         16,         16,2,20170711,       1609,   -30.0797,   163.0011,       1226,   201.7,  18.3744,  35.6425,2,  35.5829,2, 197.8302,3, 194.6058,2,     1.0,2,    4.38,2,    0.02,2,    0.33,2,-999.000,9,-999.000,9,-999.0000,9,  2081.4,2, 2327.36,2,   7.9479,2, -999.00,9, -999.00,9, -999.00,    50.0,2,    7.70,2,     -999.0,1,  -999.0,9, 20170711,     1555, -30.0797, 163.0009,        0.0,1,      0.061,1,      4.678,1,      0.148,1,      25.00,     -999.0,9,     -999.0,9,     -999.0,9,     -999.0,9,    18.5147,2,     -999.0,9
320620170703,        P06,      35,          1,         17,         17,2,20170711,       1609,   -30.0797,   163.0011,       1226,   175.3,  19.1093,  35.6947,2,  35.7163,2, 202.3476,3, 199.5515,2,     0.8,2,    3.07,2,    0.04,2,    0.26,2,   1.868,2,   1.229,2,   1.0120,2,  2072.8,2, 2332.57,2,   7.9685,3, -999.00,9, -999.00,9, -999.00,    53.9,2,    6.10,2,     -999.0,1,  -999.0,9, 20170711,     1557, -30.0797, 163.0008,        0.0,1,      0.071,1,      4.684,1,      0.156,1,      25.02,     -999.0,9,     -999.0,9,     -999.0,9,     -999.0,9,    19.3086,2,     -999.0,9
320620170703,        P06,      35,          1,         18,         18,2,20170711,       1609,   -30.0797,   163.0011,       1226,   151.8,  20.0725,  35.8217,2,  35.8070,2, 216.1143,2, 215.0453,2,     0.4,2,    0.95,2,    0.21,2,    0.13,2,-999.000,9,-999.000,9,-999.0000,9,  2053.9,2, 2340.42,2,   8.0093,2, -999.00,9, -999.00,9, -999.00,    59.2,2,    4.90,2,     -999.0,1,  -999.0,9, 20170711,     1558, -30.0797, 163.0008,        0.0,1,      0.127,1,      4.653,1,      0.182,1,      25.01,     -999.0,9,     -999.0,9,     -999.0,9,     -999.0,9,    19.9887,2,     -999.0,9
320620170703,        P06,      35,          1,         19,         19,2,20170711,       1609,   -30.0797,   163.0011,       1226,   125.4,  20.1445,  35.8337,2,  35.8347,2, 218.7812,2, 220.4907,2,     0.3,2,    0.37,2,    0.15,2,    0.09,2,   1.787,2,   1.181,2,   1.0480,2,  2049.2,2, 2340.42,2,   8.0199,2, -999.00,9, -999.00,9, -999.00,    59.5,2,    4.70,2,     -999.0,1,  -999.0,9, 20170711,     1600, -30.0797, 163.0009,        0.0,1,      0.157,1,      4.636,1,      0.192,1,      25.02,     -999.0,9,     -999.0,9,     -999.0,9,     -999.0,9,    20.1275,2,     -999.0,9
320620170703,        P06,      35,          1,         20,         20,2,20170711,       1609,   -30.0797,   163.0011,       1226,   101.5,  20.1382,  35.8334,2,  35.8716,2, 218.6988,3, 220.8969,2,     0.3,2,    0.34,2,    0.15,2,    0.08,2,-999.000,9,-999.000,9,-999.0000,9,  2046.5,2, 2341.22,2,   8.0204,2, -999.00,9, -999.00,9, -999.00,    60.0,2,    4.20,2,     -999.0,1,  -999.0,9, 20170711,     1602, -30.0797, 163.0010,        0.0,1,      0.171,1,      4.636,1,      0.195,1,      25.02,     -999.0,9,     -999.0,9,     -999.0,9,     -999.0,9,    20.1305,2,     -999.0,9
320620170703,        P06,      35,          1,         21,         21,2,20170711,       1609,   -30.0797,   163.0011,       1226,    74.9,  20.1346,  35.8335,2,  35.8358,2, 219.7988,2, 220.7012,2,     0.3,2,    0.32,2,    0.14,2,    0.09,2,   1.777,2,   1.186,2,   1.0160,2,  2049.8,2, 2339.57,2,   8.0206,2, -999.00,9, -999.00,9, -999.00,    59.4,2,    4.50,2,     -999.0,1,  -999.0,9, 20170711,     1604, -30.0797, 163.0011,        0.0,1,      0.160,1,      4.636,1,      0.204,1,      25.02,     -999.0,9,     -999.0,9,     -999.0,9,     -999.0,9,    20.1349,2,     -999.0,9
320620170703,        P06,      35,          1,         22,         22,2,20170711,       1609,   -30.0797,   163.0011,       1226,    50.6,  20.1622,  35.8358,2,  35.8362,2, 220.2571,2, 220.8611,2,     0.3,2,    0.32,2,    0.15,2,    0.09,2,-999.000,9,-999.000,9,-999.0000,9,  2049.9,2, 2343.51,2,   8.0212,2, -999.00,9, -999.00,9, -999.00,    60.4,2,    4.10,2,     -999.0,1,  -999.0,9, 20170711,     1605, -30.0797, 163.0011,        0.0,1,      0.165,1,      4.633,1,      0.195,1,      24.98,     -999.0,9,     -999.0,9,     -999.0,9,     -999.0,9,    20.1413,2,     -999.0,9
320620170703,        P06,      35,          1,         23,         23,2,20170711,       1609,   -30.0797,   163.0011,       1226,    24.8,  20.3741,  35.8504,2,  35.8408,2, 221.6620,2, 220.4809,2,     0.3,2,    0.27,2,    0.12,2,    0.10,2,   1.755,2,   1.173,2,   1.0950,2,  2048.8,2, 2343.66,2,   8.0229,2, -999.00,9, -999.00,9, -999.00,    61.3,2,    4.70,2,     -999.0,1,  -999.0,9, 20170711,     1607, -30.0797, 163.0011,        0.0,1,      0.184,1,      4.625,1,      0.203,1,      25.01,     -999.0,9,     -999.0,9,     -999.0,9,     -999.0,9,    20.2468,2,     -999.0,9
320620170703,        P06,      35,          1,         24,         24,2,20170711,       1609,   -30.0797,   163.0011,       1226,     5.0,  20.3748,  35.8500,2,  35.8503,2, 222.8836,2, 220.9073,2,     0.3,2,    0.18,2,    0.06,2,    0.09,2,   1.749,2,   1.171,2,   1.0560,2,  2047.0,6, 2344.42,2,   8.0258,2, -999.00,9, -999.00,9, -999.00,    61.4,2,    4.50,2,     -999.0,1,  -999.0,9, 20170711,     1609, -30.0797, 163.0011,        0.0,1,      0.194,1,      4.622,1,      0.205,1,      25.03,     -999.0,9,     -999.0,9,     -999.0,9,     -999.0,9,    20.3522,2,     -999.0,9