BOTTLE,20230922CCHSIOCBG
EXPOCODE,SECT_ID,STNNBR,CASTNO,SAMPNO,BTLNBR,BTLNBR_FLAG_W,DATE,TIME,LATITUDE,LONGITUDE,DEPTH,CTDPRS,CTDTMP,CTDSAL,CTDSAL_FLAG_W,SALNTY,SALNTY_FLAG_W,CTDOXY,CTDOXY_FLAG_W,OXYGEN,OXYGEN_FLAG_W,SILCAT,SILCAT_FLAG_W,NITRAT,NITRAT_FLAG_W,NITRIT,NITRIT_FLAG_W,PHSPHT,PHSPHT_FLAG_W,CFC-11,CFC-11_FLAG_W,CFC-12,CFC-12_FLAG_W,SF6,SF6_FLAG_W,TCARBN,TCARBN_FLAG_W,ALKALI,ALKALI_FLAG_W,PH_TOT,PH_TOT_FLAG_W,DELC13,DELC13_FLAG_W,DELC14,DELC14_FLAG_W,C14ERR,DOC,DOC_FLAG_W,TDN,TDN_FLAG_W,TON,TON_FLAG_W,D15N_NO3,D15N_NO3_FLAG_W,BTL_DATE,BTL_TIME,BTL_LAT,BTL_LON,CTDRINKO,CTDRINKO_FLAG_W,CTDFLUOR,CTDFLUOR_FLAG_W,CTDXMISS,CTDXMISS_FLAG_W,CTDBACKSCATTER,CTDBACKSCATTER_FLAG_W,PH_TMP,D18O_NO3,D18O_NO3_FLAG_W,DOP,DOP_FLAG_W,HPLC,HPLC_FLAG_W,POC,POC_FLAG_W,REFTMP,REFTMP_FLAG_W,TDP,TDP_FLAG_W
,,,,,,,,,,,METERS,DBAR,ITS-90,PSS-78,,PSS-78,,UMOL/KG,,UMOL/KG,,UMOL/KG,,UMOL/KG,,UMOL/KG,,UMOL/KG,,PMOL/KG,,PMOL/KG,,FMOL/KG,,UMOL/KG,,UMOL/KG,,,,/MILLE,,/MILLE,,/MILLE,UMOL/KG,,UMOL/KG,,UMOL/KG,,/MILLE,,,,,,VOLTS,,VOLTS,,VOLTS,,VOLTS,,DEGC,/MILLE,,UMOL/KG,,,,UG/L,,ITS-90,,UMOL/KG,
320620170703,        P06,      84,          1,          1,          1,2,20170725,       0634,   -32.4991,   179.4210,       3035,  3068.0,   2.0905,  34.6591,2,  34.6618,2, 153.7526,2, 153.7063,2,   118.4,2,   35.11,2,    0.00,2,    2.45,2,   0.033,2,   0.023,2,   0.0000,2,  2303.7,6, 2395.23,2,   7.5784,2, -999.00,9, -999.00,9, -999.00,    37.0,2, -999.00,9,     -999.0,1,  -999.0,9, 20170725,      507, -32.4996, 179.4212,        0.0,1,      0.062,1,      4.625,1,      0.144,1,      24.99,     -999.0,9,     -999.0,9,     -999.0,9,     -999.0,9,     2.0915,2,     -999.0,9
320620170703,        P06,      84,          1,          2,          2,2,20170725,       0634,   -32.4991,   179.4210,       3035,  2958.9,   2.1022,  34.6573,2,  34.6574,2, 153.8064,2, 153.6822,2,   117.9,2,   35.10,2,    0.00,2,    2.45,2,   0.034,2,   0.024,2,   0.0000,2,  -999.0,9, -999.00,9,-999.0000,9, -999.00,9, -999.00,9, -999.00,  -999.0,9, -999.00,9,     -999.0,9,  -999.0,9, 20170725,      510, -32.4998, 179.4212,        0.0,1,      0.061,1,      4.698,1,      0.146,1,     -999.0,     -999.0,9,     -999.0,9,     -999.0,9,     -999.0,9,     2.1016,2,     -999.0,9
320620170703,        P06,      84,          1,          3,          3,2,20170725,       0634,   -32.4991,   179.4210,       3035,  2837.7,   2.1099,  34.6559,2,  34.6555,2, 153.4533,2, 153.5535,2,   117.5,2,   35.07,2,    0.00,2,    2.44,2,   0.035,2,   0.026,2,   0.0000,2,  2302.1,2, 2392.08,2,   7.5781,2, -999.00,9, -999.00,9, -999.00,    35.6,2, -999.00,9,     -999.0,1,  -999.0,9, 20170725,      513, -32.4999, 179.4211,        0.0,1,      0.061,1,      4.699,1,      0.144,1,      25.01,     -999.0,9,     -999.0,9,     -999.0,9,     -999.0,9,     2.1109,2,     -999.0,9
320620170703,        P06,      84,          1,          4,          4,2,20170725,       0634,   -32.4991,   179.4210,       3035,  2633.2,   2.1282,  34.6526,2,  34.6519,2, 153.7793,2, 153.8176,2,   116.6,2,   35.05,2,    0.00,2,    2.45,2,   0.039,2,   0.030,2,   0.0000,2,  -999.0,9, -999.00,9,-999.0000,9, -999.00,9, -999.00,9, -999.00,  -999.0,9, -999.00,9,     -999.0,9,  -999.0,9, 20170725,      518, -32.4994, 179.4214,        0.0,1,      0.061,1,      4.700,1,      0.143,1,     -999.0,     -999.0,9,     -999.0,9,     -999.0,9,     -999.0,9,     2.1311,2,     -999.0,9
320620170703,        P06,      84,          1,          5,          5,2,20170725,       0634,   -32.4991,   179.4210,       3035,  2430.1,   2.1648,  34.6481,2,  34.6455,2, 154.0439,2, 153.9571,2,   114.5,2,   35.06,2,    0.00,2,    2.44,2,   0.043,2,   0.030,2,   0.0000,2,  2298.5,2, 2387.08,2,   7.5773,2, -999.00,9, -999.00,9, -999.00,    38.7,2, -999.00,9,     -999.0,1,  -999.0,9, 20170725,      522, -32.4989, 179.4212,        0.0,1,      0.061,1,      4.701,1,      0.140,1,      25.00,     -999.0,9,     -999.0,9,     -999.0,9,     -999.0,9,     2.1888,2,     -999.0,9
320620170703,        P06,      84,          1,          6,          6,2,20170725,       0634,   -32.4991,   179.4210,       3035,  2227.8,   2.2739,  34.6356,2,  34.6337,2, 154.5017,2, 154.7919,2,   111.0,2,   34.98,2,    0.00,2,    2.43,2,   0.050,2,   0.034,2,   0.0000,2,  -999.0,9, -999.00,9,-999.0000,9, -999.00,9, -999.00,9, -999.00,    38.6,2, -999.00,9,     -999.0,1,  -999.0,9, 20170725,      526, -32.4989, 179.4212,        0.0,1,      0.061,1,      4.701,1,      0.141,1,     -999.0,     -999.0,9,     -999.0,9,     -999.0,9,     -999.0,9,     2.2858,2,     -999.0,9
320620170703,        P06,      84,          1,          7,          7,2,20170725,       0634,   -32.4991,   179.4210,       3035,  2024.1,   2.4242,  34.6154,2,  34.6130,2, 156.0475,2, 155.9581,2,   105.1,2,   34.87,2,    0.00,2,    2.43,2,   0.065,2,   0.042,2,   0.0000,2,  2287.7,2, 2377.73,2,   7.5771,2, -999.00,9, -999.00,9, -999.00,    39.4,2, -999.00,9,     -999.0,1,  -999.0,9, 20170725,      531, -32.4993, 179.4212,        0.0,1,      0.061,1,      4.701,1,      0.144,1,      25.00,     -999.0,9,     -999.0,9,     -999.0,9,     -999.0,9,     2.4386,2,     -999.0,9
320620170703,        P06,      84,          1,          8,          8,2,20170725,       0634,   -32.4991,   179.4210,       3035,  1819.4,   2.5932,  34.5895,2,  34.5779,2, 158.6170,2, 159.0634,2,    95.3,2,   34.66,2,    0.00,2,    2.41,2,   0.080,2,   0.049,2,   0.0000,2,  -999.0,9, -999.00,9,-999.0000,9, -999.00,9, -999.00,9, -999.00,  -999.0,9, -999.00,9,     -999.0,9,  -999.0,9, 20170725,      535, -32.4998, 179.4212,        0.0,1,      0.061,1,      4.702,1,      0.142,1,     -999.0,     -999.0,9,     -999.0,9,     -999.0,9,     -999.0,9,     2.6661,2,     -999.0,9
320620170703,        P06,      84,          1,          9,          9,2,20170725,       0634,   -32.4991,   179.4210,       3035,  1717.7,   2.7530,  34.5649,2,  34.5565,2, 160.6869,2, 160.9546,2,    89.2,2,   34.47,2,    0.00,2,    2.40,2,   0.100,2,   0.059,2,   0.0000,2,  2267.9,2, 2358.24,2,   7.5765,2, -999.00,9, -999.00,9, -999.00,    37.0,2, -999.00,9,     -999.0,1,  -999.0,9, 20170725,      538, -32.5000, 179.4212,        0.0,1,      0.060,1,      4.702,1,      0.141,1,      25.01,     -999.0,9,     -999.0,9,     -999.0,9,     -999.0,9,     2.8030,2,     -999.0,9
320620170703,        P06,      84,          1,         10,         10,2,20170725,       0634,   -32.4991,   179.4210,       3035,  1617.1,   2.9356,  34.5418,2,  34.5353,2, 164.1796,2, 163.7891,2,    82.6,2,   34.20,2,    0.00,2,    2.37,2,   0.139,2,   0.079,2,   0.0000,2,  -999.0,9, -999.00,9,-999.0000,9, -999.00,9, -999.00,9, -999.00,  -999.0,9, -999.00,9,     -999.0,9,  -999.0,9, 20170725,      541, -32.5000, 179.4212,        0.0,1,      0.061,1,      4.702,1,      0.141,1,     -999.0,     -999.0,9,     -999.0,9,     -999.0,9,     -999.0,9,     2.9902,2,     -999.0,9
320620170703,        P06,      84,          1,         11,         11,2,20170725,       0634,   -32.4991,   179.4210,       3035,  1515.5,   3.2231,  34.5085,2,  34.5036,2, 168.7320,2, 167.8659,2,    73.9,2,   33.77,2,    0.00,2,    2.34,2,   0.209,2,   0.116,2,   0.0000,2,  2252.7,2, 2341.99,2,   7.5842,2, -999.00,9, -999.00,9, -999.00,    38.5,2, -999.00,9,     -999.0,1,  -999.0,9, 20170725,      544, -32.4999, 179.4212,        0.0,1,      0.061,1,      4.703,1,      0.140,1,      24.98,     -999.0,9,     -999.0,9,     -999.0,9,     -999.0,9,     3.2526,2,     -999.0,9
320620170703,        P06,      84,          1,         12,         12,2,20170725,       0634,   -32.4991,   179.4210,       3035,  1413.9,   3.5913,  34.4667,2,  34.4622,2, 175.7512,2, 175.2132,2,    61.3,2,   32.96,2,    0.00,2,    2.27,2,   0.350,2,   0.184,2,   0.0370,2,  -999.0,9, -999.00,9,-999.0000,9, -999.00,9, -999.00,9, -999.00,  -999.0,9, -999.00,9,     -999.0,9,  -999.0,9, 20170725,      546, -32.4999, 179.4212,        0.0,1,      0.059,1,      4.703,1,      0.140,1,     -999.0,     -999.0,9,     -999.0,9,     -999.0,9,     -999.0,9,     3.6588,2,     -999.0,9
320620170703,        P06,      84,          1,         13,         13,2,20170725,       0634,   -32.4991,   179.4210,       3035,  1311.5,   4.0332,  34.4284,2,  34.4269,2, 181.8913,2, 182.6193,2,    50.8,2,   32.09,2,    0.00,2,    2.20,2,   0.519,2,   0.259,2,   0.0950,2,  2219.2,2, 2313.45,2,   7.6025,2, -999.00,9, -999.00,9, -999.00,    42.3,3, -999.00,9,     -999.0,1,  -999.0,9, 20170725,      549, -32.4999, 179.4212,        0.0,1,      0.061,1,      4.703,1,      0.142,1,      25.00,     -999.0,9,     -999.0,9,     -999.0,9,     -999.0,9,     4.0524,2,     -999.0,9
320620170703,        P06,      84,          1,         14,         14,2,20170725,       0634,   -32.4991,   179.4210,       3035,  1211.6,   4.6135,  34.3937,2,  34.3965,2, 190.2875,2, 190.3491,2,    40.1,2,   30.83,2,    0.00,2,    2.10,2,   0.803,2,   0.382,2,   0.1050,2,  -999.0,9, -999.00,9,-999.0000,9, -999.00,9, -999.00,9, -999.00,  -999.0,9, -999.00,9,     -999.0,9,  -999.0,9, 20170725,      552, -32.4998, 179.4212,        0.0,1,      0.061,1,      4.702,1,      0.141,1,     -999.0,     -999.0,9,     -999.0,9,     -999.0,9,     -999.0,9,     4.5513,2,     -999.0,9
320620170703,        P06,      84,          1,         15,         15,2,20170725,       0634,   -32.4991,   179.4210,       3035,  1110.1,   5.4203,  34.3628,2,  34.3631,2, 205.7417,2, 205.8677,2,    24.9,2,   28.33,2,    0.00,2,    1.94,2,   1.429,2,   0.674,2,   0.1980,2,  2178.3,2, 2286.97,6,   7.6482,2, -999.00,9, -999.00,9, -999.00,    43.9,3, -999.00,9,     -999.0,1,  -999.0,9, 20170725,      555, -32.4998, 179.4212,        0.0,1,      0.060,1,      4.702,1,      0.140,1,      25.00,     -999.0,9,     -999.0,9,     -999.0,9,     -999.0,9,     5.3958,2,     -999.0,9
320620170703,        P06,      84,          1,         16,         16,2,20170725,       0634,   -32.4991,   179.4210,       3035,  1009.7,   5.8469,  34.3640,2,  34.3625,2, 212.4661,2, 212.7692,2,    19.5,2,   27.00,2,    0.00,2,    1.83,2,   1.832,2,   0.859,2,   0.2190,2,  -999.0,9, -999.00,9,-999.0000,9, -999.00,9, -999.00,9, -999.00,    40.2,2, -999.00,9,     -999.0,1,  -999.0,9, 20170725,      557, -32.4997, 179.4212,        0.0,1,      0.058,1,      4.701,1,      0.141,1,     -999.0,     -999.0,9,     -999.0,9,     -999.0,9,     -999.0,9,     5.8012,2,     -999.0,9
320620170703,        P06,      84,          1,         17,         17,2,20170725,       0634,   -32.4991,   179.4210,       3035,   907.6,   6.2637,  34.3768,2,  34.3705,2, 217.1296,2, 216.9981,2,    16.3,2,   25.94,2,    0.00,2,    1.76,2,   2.124,2,   1.002,2,   0.3490,2,  2164.6,2, 2321.69,3,   7.6750,2, -999.00,9, -999.00,9, -999.00,    42.6,2, -999.00,9,     -999.0,1,  -999.0,9, 20170725,      600, -32.4995, 179.4212,        0.0,1,      0.059,1,      4.701,1,      0.149,1,      24.99,     -999.0,9,     -999.0,9,     -999.0,9,     -999.0,9,     6.1149,2,     -999.0,9
320620170703,        P06,      84,          1,         18,         18,2,20170725,       0634,   -32.4991,   179.4210,       3035,   805.5,   6.9551,  34.4164,2,  34.4125,2, 222.0243,2, 221.9694,2,    11.1,2,   23.66,2,    0.00,2,    1.59,2,   2.698,2,   1.334,2,   0.5230,2,  -999.0,9, -999.00,9,-999.0000,9, -999.00,9, -999.00,9, -999.00,  -999.0,9, -999.00,9,     -999.0,9,  -999.0,9, 20170725,      603, -32.4993, 179.4211,        0.0,1,      0.059,1,      4.664,1,      0.141,1,     -999.0,     -999.0,9,     -999.0,9,     -999.0,9,     -999.0,9,     6.8972,2,     -999.0,9
320620170703,        P06,      84,          1,         19,         19,2,20170725,       0634,   -32.4991,   179.4210,       3035,   706.9,   7.6864,  34.4804,2,  34.4640,2, 222.2936,2, 222.4248,2,     8.8,2,   22.11,2,    0.00,2,    1.50,2,   2.989,6,   1.483,6,   0.6360,6,  2150.3,2, 2279.43,2,   7.7063,2, -999.00,9, -999.00,9, -999.00,    41.5,2, -999.00,9,     -999.0,1,  -999.0,9, 20170725,      605, -32.4993, 179.4211,        0.0,1,      0.061,1,      4.698,1,      0.144,1,      25.00,     -999.0,9,     -999.0,9,     -999.0,9,     -999.0,9,     7.5222,2,     -999.0,9
320620170703,        P06,      84,          1,         20,         20,2,20170725,       0634,   -32.4991,   179.4210,       3035,   604.4,   8.7666,  34.5963,2,  34.5523,2, 217.4615,2, 217.1886,2,     7.2,2,   20.31,2,    0.00,2,    1.37,2,   3.061,2,   1.553,2,   0.7740,2,  -999.0,9, -999.00,9,-999.0000,9, -999.00,9, -999.00,9, -999.00,    43.6,2, -999.00,9,     -999.0,1,  -999.0,9, 20170725,      608, -32.4992, 179.4211,        0.0,1,      0.059,1,      4.696,1,      0.147,1,     -999.0,     -999.0,9,     -999.0,9,     -999.0,9,     -999.0,9,     8.3895,2,     -999.0,9
320620170703,        P06,      84,          1,         21,         21,2,20170725,       0634,   -32.4991,   179.4210,       3035,   503.0,  10.0733,  34.7519,2,  34.6954,2, 210.6910,2, 210.8385,2,     5.8,2,   17.75,2,    0.00,2,    1.20,2,   3.015,2,   1.570,2,   0.8880,2,  2140.9,2, 2286.46,2,   7.7432,2, -999.00,9, -999.00,9, -999.00,    43.9,2, -999.00,9,     -999.0,1,  -999.0,9, 20170725,      610, -32.4991, 179.4210,        0.0,1,      0.058,1,      4.694,1,      0.148,1,      25.00,     -999.0,9,     -999.0,9,     -999.0,9,     -999.0,9,     9.6448,2,     -999.0,9
320620170703,        P06,      84,          1,         22,         22,2,20170725,       0634,   -32.4991,   179.4210,       3035,   452.9,  10.7982,  34.8438,2,  34.7866,2, 209.8272,2, 209.5452,2,     5.2,2,   16.08,2,    0.00,2,    1.08,2,   2.963,2,   1.560,2,   1.0510,2,  -999.0,9, -999.00,9,-999.0000,9, -999.00,9, -999.00,9, -999.00,  -999.0,9, -999.00,9,     -999.0,9,  -999.0,9, 20170725,      612, -32.4990, 179.4210,        0.0,1,      0.059,1,      4.692,1,      0.146,1,     -999.0,     -999.0,9,     -999.0,9,     -999.0,9,     -999.0,9,    10.3941,2,     -999.0,9
320620170703,        P06,      84,          1,         23,         23,2,20170725,       0634,   -32.4991,   179.4210,       3035,   402.3,  11.9255,  34.9855,2,  34.8823,2, 209.3103,2, 209.1446,2,     4.6,2,   14.43,2,    0.00,2,    0.99,2,   2.878,2,   1.539,2,   1.1150,2,  2133.6,2, 2293.88,2,   7.7787,2, -999.00,9, -999.00,9, -999.00,    48.6,2, -999.00,9,     -999.0,1,  -999.0,9, 20170725,      614, -32.4990, 179.4210,        0.0,1,      0.059,1,      4.647,1,      0.148,1,      24.99,     -999.0,9,     -999.0,9,     -999.0,9,     -999.0,9,    11.1564,2,     -999.0,9
320620170703,        P06,      84,          1,         24,         24,2,20170725,       0634,   -32.4991,   179.4210,       3035,   351.8,  13.0658,  35.1291,2,  35.0295,2, 206.1710,2, 206.5126,2,     3.7,2,   12.08,2,    0.00,2,    0.83,2,   2.792,2,   1.523,2,   1.1380,2,  -999.0,9, -999.00,9,-999.0000,9, -999.00,9, -999.00,9, -999.00,    52.2,2, -999.00,9,     -999.0,1,  -999.0,9, 20170725,      616, -32.4989, 179.4209,        0.0,1,      0.059,1,      4.645,1,      0.148,1,     -999.0,     -999.0,9,     -999.0,9,     -999.0,9,     -999.0,9,    12.2914,2,     -999.0,9
320620170703,        P06,      84,          1,         25,         25,2,20170725,       0634,   -32.4991,   179.4210,       3035,   301.5,  13.8085,  35.2241,2,  35.1575,2, 204.8269,2, 204.8069,2,     3.1,2,   10.29,2,    0.00,2,    0.73,2,   2.710,2,   1.486,2,   1.1330,2,  2119.3,2, 2307.23,2,   7.8303,2, -999.00,9, -999.00,9, -999.00,    47.7,3,   12.40,2,     -999.0,1,  -999.0,9, 20170725,      617, -32.4989, 179.4208,        0.0,1,      0.060,1,      4.678,1,      0.150,1,      24.99,     -999.0,9,     -999.0,9,     -999.0,9,     -999.0,9,    13.3639,2,     -999.0,9
320620170703,        P06,      84,          1,         26,         26,2,20170725,       0634,   -32.4991,   179.4210,       3035,   250.7,  15.0589,  35.3687,2,  35.2314,2, 205.6016,2, 204.7561,2,     2.7,2,    9.25,2,    0.00,2,    0.65,2,   2.653,2,   1.470,2,   1.2020,2,  -999.0,9, -999.00,9,-999.0000,9, -999.00,9, -999.00,9, -999.00,  -999.0,9, -999.00,9,     -999.0,9,  -999.0,9, 20170725,      619, -32.4988, 179.4207,        0.0,1,      0.061,1,      4.680,1,      0.151,1,     -999.0,     -999.0,9,     -999.0,9,     -999.0,9,     -999.0,9,    14.1010,2,     -999.0,9
320620170703,        P06,      84,          1,         27,         27,2,20170725,       0634,   -32.4991,   179.4210,       3035,   224.1,  15.9941,  35.4592,2,  35.3124,2, 205.9852,2, 205.6348,2,     2.5,2,    8.05,2,    0.02,2,    0.58,2,   2.591,2,   1.440,2,   1.2000,2,  2109.3,2, 2314.18,2,   7.8621,2, -999.00,9, -999.00,9, -999.00,  -999.0,9, -999.00,9,     -999.0,9,  -999.0,9, 20170725,      620, -32.4988, 179.4207,        0.0,1,      0.063,1,      4.681,1,      0.163,1,      24.99,     -999.0,9,     -999.0,9,     -999.0,9,     -999.0,9,    14.5183,2,     -999.0,9
320620170703,        P06,      84,          1,         28,         28,2,20170725,       0634,   -32.4991,   179.4210,       3035,   201.1,  16.7070,  35.5382,2,  35.3717,2, 205.4204,2, 206.2080,2,     2.1,2,    7.16,2,    0.02,2,    0.52,2,   2.553,2,   1.430,2,   1.2670,2,  -999.0,9, -999.00,9,-999.0000,9, -999.00,9, -999.00,9, -999.00,    56.3,3,    9.60,2,     -999.0,1,  -999.0,9, 20170725,      622, -32.4989, 179.4208,        0.0,1,      0.076,1,      4.672,1,      0.181,1,     -999.0,     -999.0,9,     -999.0,9,     -999.0,9,     -999.0,9,    15.1112,2,     -999.0,9
320620170703,        P06,      84,          1,         29,         29,2,20170725,       0634,   -32.4991,   179.4210,       3035,   175.4,  17.3059,  35.6269,2,  35.4507,2, 207.4009,2, 207.7510,2,     1.7,2,    5.73,2,    0.02,2,    0.43,2,   2.470,2,   1.380,2,   1.3220,2,  2097.9,2, 2324.62,2,   7.8994,2, -999.00,9, -999.00,9, -999.00,    49.8,2,    8.10,2,     -999.0,1,  -999.0,9, 20170725,      623, -32.4989, 179.4209,        0.0,1,      0.124,1,      4.642,1,      0.225,1,      24.99,     -999.0,9,     -999.0,9,     -999.0,9,     -999.0,9,    15.9449,2,     -999.0,9
320620170703,        P06,      84,          1,         30,         30,2,20170725,       0634,   -32.4991,   179.4210,       3035,   150.5,  17.3900,  35.6433,2,  35.5577,2, 216.8610,2, 217.3211,2,     1.0,2,    3.25,2,    0.11,2,    0.28,2,   2.365,2,   1.326,2,   1.3590,2,  -999.0,9, -999.00,9,-999.0000,9, -999.00,9, -999.00,9, -999.00,    54.5,2,    6.60,2,     -999.0,1,  -999.0,9, 20170725,      625, -32.4990, 179.4209,        0.0,1,      0.167,1,      4.614,1,      0.258,1,     -999.0,     -999.0,9,     -999.0,9,     -999.0,9,     -999.0,9,    16.9624,2,     -999.0,9
320620170703,        P06,      84,          1,         31,         31,2,20170725,       0634,   -32.4991,   179.4210,       3035,   125.7,  17.4011,  35.6457,2,  35.6279,2, 227.8122,2, 228.4083,2,     0.6,2,    1.33,2,    0.20,2,    0.16,2,   2.317,2,   1.312,2,   1.3860,2,  2073.0,2, 2332.90,2,   7.9650,2, -999.00,9, -999.00,9, -999.00,    60.9,2,    4.90,2,     -999.0,1,  -999.0,9, 20170725,      626, -32.4990, 179.4210,        0.0,1,      0.171,1,      4.613,1,      0.259,1,      24.98,     -999.0,9,     -999.0,9,     -999.0,9,     -999.0,9,    17.2864,2,     -999.0,9
320620170703,        P06,      84,          1,         32,         32,2,20170725,       0634,   -32.4991,   179.4210,       3035,   100.2,  17.4005,  35.6444,2,  35.6407,2, 231.0926,2, 230.8867,2,     0.5,2,    0.99,2,    0.20,2,    0.15,2,   2.318,2,   1.310,2,   1.3650,2,  -999.0,9, -999.00,9,-999.0000,9, -999.00,9, -999.00,9, -999.00,    61.4,2,    5.30,2,     -999.0,1,  -999.0,9, 20170725,      628, -32.4990, 179.4210,        0.0,1,      0.176,1,      4.614,1,      0.260,1,     -999.0,     -999.0,9,     -999.0,9,     -999.0,9,     -999.0,9,    17.3753,2,     -999.0,9