BOTTLE,20230922CCHSIOCBG
EXPOCODE,SECT_ID,STNNBR,CASTNO,SAMPNO,BTLNBR,BTLNBR_FLAG_W,DATE,TIME,LATITUDE,LONGITUDE,DEPTH,CTDPRS,CTDTMP,CTDSAL,CTDSAL_FLAG_W,SALNTY,SALNTY_FLAG_W,CTDOXY,CTDOXY_FLAG_W,OXYGEN,OXYGEN_FLAG_W,SILCAT,SILCAT_FLAG_W,NITRAT,NITRAT_FLAG_W,NITRIT,NITRIT_FLAG_W,PHSPHT,PHSPHT_FLAG_W,CFC-11,CFC-11_FLAG_W,CFC-12,CFC-12_FLAG_W,SF6,SF6_FLAG_W,TCARBN,TCARBN_FLAG_W,ALKALI,ALKALI_FLAG_W,PH_TOT,PH_TOT_FLAG_W,DELC13,DELC13_FLAG_W,DELC14,DELC14_FLAG_W,C14ERR,DOC,DOC_FLAG_W,TDN,TDN_FLAG_W,TON,TON_FLAG_W,D15N_NO3,D15N_NO3_FLAG_W,BTL_DATE,BTL_TIME,BTL_LAT,BTL_LON,CTDRINKO,CTDRINKO_FLAG_W,CTDFLUOR,CTDFLUOR_FLAG_W,CTDXMISS,CTDXMISS_FLAG_W,CTDBACKSCATTER,CTDBACKSCATTER_FLAG_W,PH_TMP,D18O_NO3,D18O_NO3_FLAG_W,DOP,DOP_FLAG_W,HPLC,HPLC_FLAG_W,POC,POC_FLAG_W,REFTMP,REFTMP_FLAG_W,TDP,TDP_FLAG_W
,,,,,,,,,,,METERS,DBAR,ITS-90,PSS-78,,PSS-78,,UMOL/KG,,UMOL/KG,,UMOL/KG,,UMOL/KG,,UMOL/KG,,UMOL/KG,,PMOL/KG,,PMOL/KG,,FMOL/KG,,UMOL/KG,,UMOL/KG,,,,/MILLE,,/MILLE,,/MILLE,UMOL/KG,,UMOL/KG,,UMOL/KG,,/MILLE,,,,,,VOLTS,,VOLTS,,VOLTS,,VOLTS,,DEGC,/MILLE,,UMOL/KG,,,,UG/L,,ITS-90,,UMOL/KG,
320620170703,        P06,      41,          1,         33,         33,2,20170712,       2103,   -30.0800,   165.1200,       3366,    77.5,  19.8697,  35.8387,2,  35.8406,2, 222.2887,2, 221.5285,2,     0.6,2,    0.40,2,    0.11,2,    0.10,2,   1.772,2,   1.188,2,   1.1330,2,  2053.6,2, 2341.49,2,   8.0168,2, -999.00,9, -999.00,9, -999.00,  -999.0,9, -999.00,9,     -999.0,9,  -999.0,9, 20170712,     2057, -30.0800, 165.1203,        0.0,1,      0.169,1,      4.633,1,      0.206,1,      25.02,     -999.0,9,     -999.0,9,     -999.0,9,     -999.0,9,    19.8602,2,     -999.0,9
320620170703,        P06,      41,          1,         34,         34,2,20170712,       2103,   -30.0800,   165.1200,       3366,    50.9,  19.8655,  35.8379,2,  37.6204,2, 222.9628,2, 222.4100,2,     0.5,2,    0.42,2,    0.11,2,    0.11,2,-999.000,9,-999.000,9,-999.0000,9,  2053.8,2, 2344.69,3,   8.0171,2, -999.00,9, -999.00,9, -999.00,  -999.0,9, -999.00,9,     -999.0,9,  -999.0,9, 20170712,     2059, -30.0800, 165.1203,        0.0,1,      0.172,1,      4.633,1,      0.210,1,      24.97,     -999.0,9,     -999.0,9,     -999.0,9,     -999.0,9,    19.8556,2,     -999.0,9
320620170703,        P06,      41,          1,         35,         35,2,20170712,       2103,   -30.0800,   165.1200,       3366,    25.4,  19.8628,  35.8373,2,  35.8414,2, 222.8178,2, 221.8121,2,     0.6,2,    0.36,2,    0.10,2,    0.11,2,   1.763,2,   1.194,2,   1.2070,2,  2053.8,2, 2339.24,2,   8.0173,2, -999.00,9, -999.00,9, -999.00,  -999.0,9, -999.00,9,     -999.0,9,  -999.0,9, 20170712,     2101, -30.0800, 165.1201,        0.0,1,      0.172,1,      4.633,1,      0.205,1,      25.02,     -999.0,9,     -999.0,9,     -999.0,9,     -999.0,9,    19.8515,2,     -999.0,9
320620170703,        P06,      41,          1,         36,         36,2,20170712,       2103,   -30.0800,   165.1200,       3366,     9.3,  19.8647,  35.8370,2,  35.8396,2, 222.9520,2, 221.9437,2,     0.6,2,    0.41,2,    0.11,2,    0.11,2,   1.821,2,   1.196,2,   1.0780,2,  2055.0,6, 2345.62,2,   8.0169,2, -999.00,9, -999.00,9, -999.00,  -999.0,9, -999.00,9,     -999.0,9,  -999.0,9, 20170712,     2103, -30.0800, 165.1200,        0.0,1,      0.168,1,      4.633,1,      0.203,1,      24.99,     -999.0,9,     -999.0,9,     -999.0,9,     -999.0,9,    19.8460,2,     -999.0,9