BOTTLE,20230922CCHSIOCBG
EXPOCODE,SECT_ID,STNNBR,CASTNO,SAMPNO,BTLNBR,BTLNBR_FLAG_W,DATE,TIME,LATITUDE,LONGITUDE,DEPTH,CTDPRS,CTDTMP,CTDSAL,CTDSAL_FLAG_W,SALNTY,SALNTY_FLAG_W,CTDOXY,CTDOXY_FLAG_W,OXYGEN,OXYGEN_FLAG_W,SILCAT,SILCAT_FLAG_W,NITRAT,NITRAT_FLAG_W,NITRIT,NITRIT_FLAG_W,PHSPHT,PHSPHT_FLAG_W,CFC-11,CFC-11_FLAG_W,CFC-12,CFC-12_FLAG_W,SF6,SF6_FLAG_W,TCARBN,TCARBN_FLAG_W,ALKALI,ALKALI_FLAG_W,PH_TOT,PH_TOT_FLAG_W,DELC13,DELC13_FLAG_W,DELC14,DELC14_FLAG_W,C14ERR,DOC,DOC_FLAG_W,TDN,TDN_FLAG_W,TON,TON_FLAG_W,D15N_NO3,D15N_NO3_FLAG_W,BTL_DATE,BTL_TIME,BTL_LAT,BTL_LON,CTDRINKO,CTDRINKO_FLAG_W,CTDFLUOR,CTDFLUOR_FLAG_W,CTDXMISS,CTDXMISS_FLAG_W,CTDBACKSCATTER,CTDBACKSCATTER_FLAG_W,PH_TMP,D18O_NO3,D18O_NO3_FLAG_W,DOP,DOP_FLAG_W,HPLC,HPLC_FLAG_W,POC,POC_FLAG_W,REFTMP,REFTMP_FLAG_W,TDP,TDP_FLAG_W
,,,,,,,,,,,METERS,DBAR,ITS-90,PSS-78,,PSS-78,,UMOL/KG,,UMOL/KG,,UMOL/KG,,UMOL/KG,,UMOL/KG,,UMOL/KG,,PMOL/KG,,PMOL/KG,,FMOL/KG,,UMOL/KG,,UMOL/KG,,,,/MILLE,,/MILLE,,/MILLE,UMOL/KG,,UMOL/KG,,UMOL/KG,,/MILLE,,,,,,VOLTS,,VOLTS,,VOLTS,,VOLTS,,DEGC,/MILLE,,UMOL/KG,,,,UG/L,,ITS-90,,UMOL/KG,
320620170703,        P06,      94,          1,         33,         33,2,20170727,       1151,   -32.4990,  -177.2492,       7190,    85.2,  17.2018,  35.6177,2,  35.6303,2, 236.0563,2, 234.8762,2,     0.4,2,    0.15,2,    0.04,2,    0.09,2,   2.262,2,   1.330,2,   1.5320,2,  2070.4,2, 2335.52,2,   7.9755,2, -999.00,9, -999.00,9, -999.00,    62.8,2,    4.10,2,     -999.0,1,  -999.0,9, 20170727,     1146, -32.4990,-177.2491,        0.0,1,      0.158,1,      4.628,1,      0.230,1,      25.03,     -999.0,9,     -999.0,9,     -999.0,9,     -999.0,9,    17.2237,2,     -999.0,9
320620170703,        P06,      94,          1,         34,         34,2,20170727,       1151,   -32.4990,  -177.2492,       7190,    59.5,  17.2577,  35.6260,2,  35.6317,2, 235.5953,2, 235.4455,2,     0.3,2,    0.14,2,    0.04,2,    0.10,2,   0.014,4,   0.002,4,   0.0010,4,  2069.4,2, 2335.87,2,   7.9754,2, -999.00,9, -999.00,9, -999.00,    59.2,2,    4.10,2,     -999.0,1,  -999.0,9, 20170727,     1148, -32.4990,-177.2491,        0.0,1,      0.183,1,      4.614,1,      0.246,1,      25.03,     -999.0,9,     -999.0,9,     -999.0,9,     -999.0,9,    17.2286,2,     -999.0,9
320620170703,        P06,      94,          1,         35,         35,2,20170727,       1151,   -32.4990,  -177.2492,       7190,    34.7,  17.2791,  35.6301,2,  35.6336,2, 236.7644,2, 235.8238,2,     0.3,2,    0.13,2,    0.04,2,    0.10,2,   2.278,2,   1.320,2,   1.4780,2,  2069.7,2, -999.00,9,   7.9765,2, -999.00,9, -999.00,9, -999.00,    58.0,2,    4.50,2,     -999.0,1,  -999.0,9, 20170727,     1150, -32.4990,-177.2491,        0.0,1,      0.205,1,      4.595,1,      0.261,1,      25.03,     -999.0,9,     -999.0,9,     -999.0,9,     -999.0,9,    17.2346,2,     -999.0,9
320620170703,        P06,      94,          1,         36,         36,2,20170727,       1151,   -32.4990,  -177.2492,       7190,     4.9,  17.2704,  35.6311,2,  35.6336,2, 236.2088,2, 235.8493,2,     0.4,2,    0.14,2,    0.03,2,    0.11,2,   2.249,2,   1.301,2,   1.5060,2,  2070.2,6, 2334.78,2,   7.9765,2,    1.04,2,   42.71,2,    2.33,    58.3,2,    4.20,2,     -999.0,1,  -999.0,9, 20170727,     1151, -32.4990,-177.2492,        0.0,1,      0.197,1,      4.591,1,      0.248,1,      25.03,     -999.0,9,     -999.0,9,     -999.0,9,     -999.0,9,    17.2195,2,     -999.0,9