BOTTLE,20230922CCHSIOCBG
EXPOCODE,SECT_ID,STNNBR,CASTNO,SAMPNO,BTLNBR,BTLNBR_FLAG_W,DATE,TIME,LATITUDE,LONGITUDE,DEPTH,CTDPRS,CTDTMP,CTDSAL,CTDSAL_FLAG_W,SALNTY,SALNTY_FLAG_W,CTDOXY,CTDOXY_FLAG_W,OXYGEN,OXYGEN_FLAG_W,SILCAT,SILCAT_FLAG_W,NITRAT,NITRAT_FLAG_W,NITRIT,NITRIT_FLAG_W,PHSPHT,PHSPHT_FLAG_W,CFC-11,CFC-11_FLAG_W,CFC-12,CFC-12_FLAG_W,SF6,SF6_FLAG_W,TCARBN,TCARBN_FLAG_W,ALKALI,ALKALI_FLAG_W,PH_TOT,PH_TOT_FLAG_W,DELC13,DELC13_FLAG_W,DELC14,DELC14_FLAG_W,C14ERR,DOC,DOC_FLAG_W,TDN,TDN_FLAG_W,TON,TON_FLAG_W,D15N_NO3,D15N_NO3_FLAG_W,BTL_DATE,BTL_TIME,BTL_LAT,BTL_LON,CTDRINKO,CTDRINKO_FLAG_W,CTDFLUOR,CTDFLUOR_FLAG_W,CTDXMISS,CTDXMISS_FLAG_W,CTDBACKSCATTER,CTDBACKSCATTER_FLAG_W,PH_TMP,D18O_NO3,D18O_NO3_FLAG_W,DOP,DOP_FLAG_W,HPLC,HPLC_FLAG_W,POC,POC_FLAG_W,REFTMP,REFTMP_FLAG_W,TDP,TDP_FLAG_W
,,,,,,,,,,,METERS,DBAR,ITS-90,PSS-78,,PSS-78,,UMOL/KG,,UMOL/KG,,UMOL/KG,,UMOL/KG,,UMOL/KG,,UMOL/KG,,PMOL/KG,,PMOL/KG,,FMOL/KG,,UMOL/KG,,UMOL/KG,,,,/MILLE,,/MILLE,,/MILLE,UMOL/KG,,UMOL/KG,,UMOL/KG,,/MILLE,,,,,,VOLTS,,VOLTS,,VOLTS,,VOLTS,,DEGC,/MILLE,,UMOL/KG,,,,UG/L,,ITS-90,,UMOL/KG,
320620170703,        P06,     111,          1,          1,          1,2,20170801,       0902,   -32.5000,  -170.2499,       5741,  5850.2,   1.1573,  34.7080,2,  34.7091,2, 206.0796,2, 206.1379,2,   121.7,2,   32.04,2,    0.00,2,    2.23,2,   0.131,2,   0.069,2,   0.0000,2,  2263.3,6, 2361.42,2,   7.6059,2, -999.00,9, -999.00,9, -999.00,  -999.0,9, -999.00,9,     -999.0,9,  -999.0,9, 20170801,      635, -32.5000,-170.2501,        0.0,1,      0.061,1,      4.696,1,      0.127,1,      25.00,     -999.0,9,     -999.0,9,     -999.0,9,     -999.0,9,     1.1577,2,     -999.0,9
320620170703,        P06,     111,          1,          2,          2,2,20170801,       0902,   -32.5000,  -170.2499,       5741,  5574.1,   1.1209,  34.7084,2,  34.7089,2, 206.0796,2, 206.9095,2,   121.7,2,   32.02,2,    0.00,2,    2.24,2,-999.000,9,-999.000,9,-999.0000,9,  2261.7,2, 2362.03,2,   7.6052,2, -999.00,9, -999.00,9, -999.00,  -999.0,9, -999.00,9,     -999.0,9,  -999.0,9, 20170801,      644, -32.5001,-170.2507,        0.0,1,      0.060,1,      4.697,1,      0.128,1,      24.99,     -999.0,9,     -999.0,9,     -999.0,9,     -999.0,9,     1.1212,2,     -999.0,9
320620170703,        P06,     111,          1,          3,          3,2,20170801,       0902,   -32.5000,  -170.2499,       5741,  5265.2,   1.0845,  34.7087,2,  34.7091,2, 206.0796,2, 206.4336,2,   121.4,2,   32.03,2,    0.00,2,    2.24,2,   0.132,2,   0.075,2,   0.0000,2,  2262.8,2, 2360.56,6,   7.6049,2, -999.00,9, -999.00,9, -999.00,  -999.0,9, -999.00,9,     -999.0,9,  -999.0,9, 20170801,      652, -32.5001,-170.2506,        0.0,1,      0.061,1,      4.698,1,      0.128,1,      25.00,     -999.0,9,     -999.0,9,     -999.0,9,     -999.0,9,     1.0848,2,     -999.0,9
320620170703,        P06,     111,          1,          4,          4,2,20170801,       0902,   -32.5000,  -170.2499,       5741,  4954.6,   1.0633,  34.7094,2,  34.7093,2, 206.0796,2, 206.4483,2,   121.0,2,   31.99,2,    0.00,2,    2.24,2,-999.000,9,-999.000,9,-999.0000,9,  -999.0,9, -999.00,9,-999.0000,9, -999.00,9, -999.00,9, -999.00,  -999.0,9, -999.00,9,     -999.0,9,  -999.0,9, 20170801,      700, -32.5001,-170.2495,        0.0,1,      0.061,1,      4.700,1,      0.125,1,     -999.0,     -999.0,9,     -999.0,9,     -999.0,9,     -999.0,9,     1.0629,2,     -999.0,9
320620170703,        P06,     111,          1,          5,          5,2,20170801,       0902,   -32.5000,  -170.2499,       5741,  4646.7,   1.0622,  34.7106,2,  34.7113,2, 206.0796,2, 206.3828,2,   119.9,2,   31.95,2,    0.00,2,    2.23,2,   0.120,2,   0.070,2,   0.0000,2,  2259.9,2, 2364.82,2,   7.6060,2, -999.00,9, -999.00,9, -999.00,  -999.0,9, -999.00,9,     -999.0,9,  -999.0,9, 20170801,      706, -32.5001,-170.2495,        0.0,1,      0.061,1,      4.700,1,      0.127,1,      25.00,     -999.0,9,     -999.0,9,     -999.0,9,     -999.0,9,     1.0614,2,     -999.0,9
320620170703,        P06,     111,          1,          6,          6,2,20170801,       0902,   -32.5000,  -170.2499,       5741,  4337.1,   1.1184,  34.7138,2,  34.7138,2, 206.0355,2, 204.4334,2,   117.3,2,   31.85,2,    0.00,2,    2.23,2,-999.000,9,-999.000,9,-999.0000,9,  -999.0,9, -999.00,9,-999.0000,9, -999.00,9, -999.00,9, -999.00,  -999.0,9, -999.00,9,     -999.0,9,  -999.0,9, 20170801,      712, -32.5000,-170.2498,        0.0,1,      0.061,1,      4.701,1,      0.127,1,     -999.0,     -999.0,9,     -999.0,9,     -999.0,9,     -999.0,9,     1.1223,2,     -999.0,9
320620170703,        P06,     111,          1,          7,          7,2,20170801,       0902,   -32.5000,  -170.2499,       5741,  4030.6,   1.2345,  34.7174,2,  34.7180,3, 200.9833,2, 201.1214,2,   114.0,2,   31.77,2,    0.00,2,    2.21,2,   0.084,2,   0.052,2,   0.0000,2,  2261.3,2, 2360.40,2,   7.6066,2, -999.00,9, -999.00,9, -999.00,  -999.0,9, -999.00,9,     -999.0,9,  -999.0,9, 20170801,      718, -32.4999,-170.2502,        0.0,1,      0.061,1,      4.701,1,      0.127,1,      25.00,     -999.0,9,     -999.0,9,     -999.0,9,     -999.0,9,     1.2455,2,     -999.0,9
320620170703,        P06,     111,          1,          8,          8,2,20170801,       0902,   -32.5000,  -170.2499,       5741,  3722.0,   1.4317,  34.7181,2,  34.7180,2, 193.5217,2, 193.6807,2,   110.9,2,   31.96,2,    0.00,2,    2.23,2,-999.000,9,-999.000,9,-999.0000,9,  -999.0,9, -999.00,9,-999.0000,9, -999.00,9, -999.00,9, -999.00,  -999.0,9, -999.00,9,     -999.0,9,  -999.0,9, 20170801,      724, -32.4999,-170.2498,        0.0,1,      0.061,1,      4.701,1,      0.127,1,     -999.0,     -999.0,9,     -999.0,9,     -999.0,9,     -999.0,9,     1.4473,2,     -999.0,9
320620170703,        P06,     111,          1,          9,          9,2,20170801,       0902,   -32.5000,  -170.2499,       5741,  3415.7,   1.6560,  34.7016,2,  34.7022,2, 177.1523,2, 176.3380,2,   115.8,2,   33.23,2,    0.00,2,    2.32,2,   0.039,2,   0.028,2,   0.0000,2,  2280.8,2, 2375.84,2,   7.5896,2, -999.00,9, -999.00,9, -999.00,  -999.0,9, -999.00,9,     -999.0,9,  -999.0,9, 20170801,      731, -32.5000,-170.2494,        0.0,1,      0.062,1,      4.701,1,      0.129,1,      25.02,     -999.0,9,     -999.0,9,     -999.0,9,     -999.0,9,     1.6518,2,     -999.0,9
320620170703,        P06,     111,          1,         10,         10,2,20170801,       0902,   -32.5000,  -170.2499,       5741,  3139.6,   1.7405,  34.6812,2,  34.6830,2, 162.1152,2, 160.5385,2,   125.1,2,   34.74,2,    0.00,2,    2.43,2,-999.000,9,-999.000,9,-999.0000,9,  -999.0,9, -999.00,9,-999.0000,9, -999.00,9, -999.00,9, -999.00,  -999.0,9, -999.00,9,     -999.0,9,  -999.0,9, 20170801,      736, -32.4999,-170.2497,        0.0,1,      0.062,1,      4.701,1,      0.131,1,     -999.0,     -999.0,9,     -999.0,9,     -999.0,9,     -999.0,9,     1.7304,2,     -999.0,9
320620170703,        P06,     111,          1,         11,         11,2,20170801,       0902,   -32.5000,  -170.2499,       5741,  2883.7,   1.8278,  34.6678,2,  34.6675,2, 151.7997,2, 150.8331,2,   128.8,2,   35.61,2,    0.00,2,    2.51,2,   0.027,2,   0.020,2,   0.0000,2,  2311.4,2, 2400.69,2,   7.5692,2, -999.00,9, -999.00,9, -999.00,  -999.0,9, -999.00,9,     -999.0,9,  -999.0,9, 20170801,      742, -32.5000,-170.2505,        0.0,1,      0.062,1,      4.701,1,      0.132,1,      24.99,     -999.0,9,     -999.0,9,     -999.0,9,     -999.0,9,     1.8269,2,     -999.0,9
320620170703,        P06,     111,          1,         12,         12,2,20170801,       0902,   -32.5000,  -170.2499,       5741,  2628.5,   1.9155,  34.6594,2,  34.6584,2, 147.7424,2, 148.4682,2,   126.2,2,   35.81,2,    0.00,2,    2.51,2,-999.000,9,-999.000,9,-999.0000,9,  -999.0,9, -999.00,9,-999.0000,9, -999.00,9, -999.00,9, -999.00,  -999.0,9, -999.00,9,     -999.0,9,  -999.0,9, 20170801,      748, -32.5000,-170.2504,        0.0,1,      0.062,1,      4.701,1,      0.134,1,     -999.0,     -999.0,9,     -999.0,9,     -999.0,9,     -999.0,9,     1.9378,2,     -999.0,9
320620170703,        P06,     111,          1,         13,         13,2,20170801,       0902,   -32.5000,  -170.2499,       5741,  2372.4,   2.0400,  34.6480,2,  34.6468,2, 146.8082,2, 147.5274,2,   121.5,2,   35.78,2,    0.00,2,    2.51,2,   0.023,2,   0.018,2,   0.0000,2,  2307.4,6, 2392.81,2,   7.5650,2, -999.00,9, -999.00,9, -999.00,  -999.0,9, -999.00,9,     -999.0,9,  -999.0,9, 20170801,      753, -32.4999,-170.2500,        0.0,1,      0.062,1,      4.701,1,      0.134,1,      25.00,     -999.0,9,     -999.0,9,     -999.0,9,     -999.0,9,     2.0601,2,     -999.0,9
320620170703,        P06,     111,          1,         14,         14,2,20170801,       0902,   -32.5000,  -170.2499,       5741,  2120.3,   2.1856,  34.6348,2,  34.6325,2, 148.2987,2, 148.8624,2,   113.8,2,   35.55,2,    0.00,2,    2.50,2,-999.000,9,-999.000,9,-999.0000,9,  2299.6,2, 2385.80,2,   7.5652,2, -999.00,9, -999.00,9, -999.00,  -999.0,9, -999.00,9,     -999.0,9,  -999.0,9, 20170801,      759, -32.5000,-170.2498,        0.0,1,      0.061,1,      4.701,1,      0.133,1,      25.01,     -999.0,9,     -999.0,9,     -999.0,9,     -999.0,9,     2.2082,2,     -999.0,9
320620170703,        P06,     111,          1,         15,         15,2,20170801,       0902,   -32.5000,  -170.2499,       5741,  1865.5,   2.3818,  34.6118,2,  34.6105,2, 151.8857,2, 153.1278,2,   103.0,2,   35.19,2,    0.00,2,    2.47,2,   0.027,2,   0.021,2,   0.0000,2,  2287.1,2, 2373.03,2,   7.5661,2, -999.00,9, -999.00,9, -999.00,  -999.0,9, -999.00,9,     -999.0,9,  -999.0,9, 20170801,      805, -32.5000,-170.2497,        0.0,1,      0.061,1,      4.702,1,      0.134,1,      25.01,     -999.0,9,     -999.0,9,     -999.0,9,     -999.0,9,     2.3961,2,     -999.0,9
320620170703,        P06,     111,          1,         16,         16,2,20170801,       0902,   -32.5000,  -170.2499,       5741,  1617.3,   2.7241,  34.5489,2,  34.5555,2, 159.9833,2, 160.4780,2,    84.7,2,   34.70,2,    0.00,2,    2.41,2,-999.000,9,-999.000,9,-999.0000,9,  -999.0,9, -999.00,9,-999.0000,9, -999.00,9, -999.00,9, -999.00,  -999.0,9, -999.00,9,     -999.0,9,  -999.0,9, 20170801,      810, -32.4999,-170.2497,        0.0,1,      0.061,1,      4.702,1,      0.134,1,     -999.0,     -999.0,9,     -999.0,9,     -999.0,9,     -999.0,9,     2.6946,2,     -999.0,9
320620170703,        P06,     111,          1,         17,         17,2,20170801,       0902,   -32.5000,  -170.2499,       5741,  1414.7,   3.1221,  34.4625,2,  34.4746,2, 170.9196,2, 171.2470,2,    65.5,2,   34.14,2,    0.00,2,    2.38,2,   0.146,2,   0.089,2,   0.0000,2,  2243.8,2, 2327.84,2,   7.5716,2, -999.00,9, -999.00,9, -999.00,  -999.0,9, -999.00,9,     -999.0,9,  -999.0,9, 20170801,      815, -32.4999,-170.2498,        0.0,1,      0.061,1,      4.702,1,      0.135,1,      25.00,     -999.0,9,     -999.0,9,     -999.0,9,     -999.0,9,     3.0648,2,     -999.0,9
320620170703,        P06,     111,          1,         18,         18,2,20170801,       0902,   -32.5000,  -170.2499,       5741,  1312.7,   3.4388,  34.4128,2,  34.4269,2, 177.4024,2, 178.0452,2,    55.9,2,   33.71,2,    0.00,2,    2.32,2,-999.000,9,-999.000,9,-999.0000,9,  -999.0,9, -999.00,9,-999.0000,9, -999.00,9, -999.00,9, -999.00,  -999.0,9, -999.00,9,     -999.0,9,  -999.0,9, 20170801,      818, -32.5000,-170.2495,        0.0,1,      0.061,1,      4.702,1,      0.136,1,     -999.0,     -999.0,9,     -999.0,9,     -999.0,9,     -999.0,9,     3.3224,2,     -999.0,9
320620170703,        P06,     111,          1,         19,         19,2,20170801,       0902,   -32.5000,  -170.2499,       5741,  1212.9,   3.9038,  34.3688,2,  34.3847,2, 186.0441,2, 185.1432,2,    46.5,2,   32.95,2,    0.00,2,    2.28,2,   0.461,2,   0.234,2,   0.1010,2,  2215.4,2, 2308.05,2,   7.5892,2, -999.00,9, -999.00,9, -999.00,  -999.0,9, -999.00,9,     -999.0,9,  -999.0,9, 20170801,      821, -32.5000,-170.2494,        0.0,1,      0.061,1,      4.702,1,      0.135,1,      25.00,     -999.0,9,     -999.0,9,     -999.0,9,     -999.0,9,     3.7083,2,     -999.0,9
320620170703,        P06,     111,          1,         20,         20,2,20170801,       0902,   -32.5000,  -170.2499,       5741,  1110.1,   4.4321,  34.3406,2,  34.3492,2, 194.5138,2, 194.8023,2,    35.3,2,   31.42,2,    0.00,2,    2.16,2,-999.000,9,-999.000,9,-999.0000,9,  2198.5,2, 2295.19,2,   7.6111,2, -999.00,9, -999.00,9, -999.00,  -999.0,9, -999.00,9,     -999.0,9,  -999.0,9, 20170801,      824, -32.5000,-170.2498,        0.0,1,      0.059,1,      4.701,1,      0.134,1,      25.00,     -999.0,9,     -999.0,9,     -999.0,9,     -999.0,9,     4.2694,2,     -999.0,9
320620170703,        P06,     111,          1,         21,         21,2,20170801,       0902,   -32.5000,  -170.2499,       5741,  1009.4,   5.1048,  34.3240,2,  34.3313,2, 205.2020,2, 204.4025,2,    25.7,2,   29.57,2,    0.00,2,    2.02,2,   1.299,2,   0.623,2,   0.1460,2,  2185.1,2, 2287.24,2,   7.6358,2, -999.00,9, -999.00,9, -999.00,  -999.0,9, -999.00,9,     -999.0,9,  -999.0,9, 20170801,      827, -32.5000,-170.2498,        0.0,1,      0.060,1,      4.701,1,      0.136,1,      25.01,     -999.0,9,     -999.0,9,     -999.0,9,     -999.0,9,     4.9698,2,     -999.0,9
320620170703,        P06,     111,          1,         22,         22,2,20170801,       0902,   -32.5000,  -170.2499,       5741,   908.4,   5.6061,  34.3200,2,  34.3184,2, 216.0086,2, 215.9902,2,    18.1,2,   27.67,2,    0.00,2,    1.89,2,-999.000,9,-999.000,9,-999.0000,9,  -999.0,9, -999.00,9,-999.0000,9, -999.00,9, -999.00,9, -999.00,  -999.0,9, -999.00,9,     -999.0,9,  -999.0,9, 20170801,      830, -32.5000,-170.2498,        0.0,1,      0.059,1,      4.700,1,      0.137,1,     -999.0,     -999.0,9,     -999.0,9,     -999.0,9,     -999.0,9,     5.4804,2,     -999.0,9
320620170703,        P06,     111,          1,         23,         23,2,20170801,       0902,   -32.5000,  -170.2499,       5741,   807.7,   6.1737,  34.3384,2,  34.3327,3, 226.1670,2, 226.9289,2,    12.2,2,   25.38,2,    0.00,2,    1.73,2,   2.439,2,   1.204,2,   0.4750,2,  2155.4,2, 2277.28,2,   7.6846,2, -999.00,9, -999.00,9, -999.00,  -999.0,9, -999.00,9,     -999.0,9,  -999.0,9, 20170801,      833, -32.5000,-170.2498,        0.0,1,      0.059,1,      4.699,1,      0.138,1,      25.01,     -999.0,9,     -999.0,9,     -999.0,9,     -999.0,9,     6.1232,2,     -999.0,9
320620170703,        P06,     111,          1,         24,         24,2,20170801,       0902,   -32.5000,  -170.2499,       5741,   706.5,   6.6530,  34.3561,2,  34.3570,2, 235.0210,2, 234.6699,2,     8.2,2,   23.24,2,    0.00,2,    1.57,2,-999.000,9,-999.000,9,-999.0000,9,  -999.0,9, -999.00,9,-999.0000,9, -999.00,9, -999.00,9, -999.00,  -999.0,9, -999.00,9,     -999.0,9,  -999.0,9, 20170801,      836, -32.5000,-170.2499,        0.0,1,      0.059,1,      4.699,1,      0.138,1,     -999.0,     -999.0,9,     -999.0,9,     -999.0,9,     -999.0,9,     6.6935,2,     -999.0,9
320620170703,        P06,     111,          1,         25,         25,2,20170801,       0902,   -32.5000,  -170.2499,       5741,   605.5,   7.1596,  34.3963,2,  34.4090,2, 235.0404,2, 233.8676,2,     6.5,2,   21.62,2,    0.00,2,    1.47,2,   3.457,2,   1.763,2,   0.8160,2,  2143.0,2, 2275.37,2,   7.7102,2, -999.00,9, -999.00,9, -999.00,  -999.0,9, -999.00,9,     -999.0,9,  -999.0,9, 20170801,      839, -32.5000,-170.2499,        0.0,1,      0.058,1,      4.698,1,      0.144,1,      25.00,     -999.0,9,     -999.0,9,     -999.0,9,     -999.0,9,     7.2805,2,     -999.0,9
320620170703,        P06,     111,          1,         26,         26,2,20170801,       0902,   -32.5000,  -170.2499,       5741,   504.5,   7.9640,  34.4766,2,  34.4830,2, 228.7648,2, 229.6262,2,     5.1,2,   19.70,2,    0.00,2,    1.34,2,-999.000,9,-999.000,9,-999.0000,9,  2141.3,2, 2277.65,6,   7.7198,2, -999.00,9, -999.00,9, -999.00,  -999.0,9, -999.00,9,     -999.0,9,  -999.0,9, 20170801,      842, -32.5000,-170.2498,        0.0,1,      0.059,1,      4.695,1,      0.138,1,      25.01,     -999.0,9,     -999.0,9,     -999.0,9,     -999.0,9,     8.0878,2,     -999.0,9
320620170703,        P06,     111,          1,         27,         27,2,20170801,       0902,   -32.5000,  -170.2499,       5741,   402.6,   9.2644,  34.6073,2,  34.6614,2, 215.6167,2, 215.9402,2,     3.9,2,   16.35,2,    0.00,2,    1.14,2,   3.118,2,   1.712,2,   1.1030,2,  2135.7,2, 2273.06,3,   7.7452,2, -999.00,9, -999.00,9, -999.00,  -999.0,9, -999.00,9,     -999.0,9,  -999.0,9, 20170801,      845, -32.5000,-170.2498,        0.0,1,      0.059,1,      4.694,1,      0.141,1,      25.01,     -999.0,9,     -999.0,9,     -999.0,9,     -999.0,9,     9.6860,2,     -999.0,9
320620170703,        P06,     111,          1,         28,         28,2,20170801,       0902,   -32.5000,  -170.2499,       5741,   302.3,  11.4703,  34.8981,2,  34.8798,2, 212.0879,2, 212.1854,2,     2.6,2,   12.25,2,    0.00,2,    0.88,2,-999.000,9,-999.000,9,-999.0000,9,  -999.0,9, -999.00,9,-999.0000,9, -999.00,9, -999.00,9, -999.00,  -999.0,9, -999.00,9,     -999.0,9,  -999.0,9, 20170801,      848, -32.5000,-170.2500,        0.0,1,      0.059,1,      4.692,1,      0.139,1,     -999.0,     -999.0,9,     -999.0,9,     -999.0,9,     -999.0,9,    11.3999,2,     -999.0,9
320620170703,        P06,     111,          1,         29,         29,2,20170801,       0902,   -32.5000,  -170.2499,       5741,   252.3,  12.5026,  35.0329,2,  35.0716,2, 209.4267,2, 208.1914,2,     2.3,2,    9.95,2,    0.00,2,    0.74,2,   2.769,2,   1.556,2,   1.2130,2,  2120.3,2, 2299.29,2,   7.8169,2, -999.00,9, -999.00,9, -999.00,  -999.0,9, -999.00,9,     -999.0,9,  -999.0,9, 20170801,      850, -32.5000,-170.2499,        0.0,1,      0.061,1,      4.690,1,      0.141,1,      25.00,     -999.0,9,     -999.0,9,     -999.0,9,     -999.0,9,    12.7583,2,     -999.0,9
320620170703,        P06,     111,          1,         30,         30,2,20170801,       0902,   -32.5000,  -170.2499,       5741,   201.4,  13.5587,  35.1764,2,  35.1770,2, 206.4631,2, 207.7252,2,     1.9,2,    8.26,2,    0.00,2,    0.63,2,-999.000,9,-999.000,9,-999.0000,9,  2115.6,2, 2297.73,2,   7.8402,2, -999.00,9, -999.00,9, -999.00,  -999.0,9, -999.00,9,     -999.0,9,  -999.0,9, 20170801,      852, -32.5000,-170.2498,        0.0,1,      0.061,1,      4.690,1,      0.141,1,      25.00,     -999.0,9,     -999.0,9,     -999.0,9,     -999.0,9,    13.6048,2,     -999.0,9
320620170703,        P06,     111,          1,         31,         31,2,20170801,       0902,   -32.5000,  -170.2499,       5741,   150.7,  14.7646,  35.3329,2,  35.3313,2, 209.2068,2, 209.6740,2,     1.4,2,    6.08,2,    0.02,2,    0.49,2,   2.557,2,   1.465,2,   1.3510,2,  2103.9,2, 2316.01,2,   7.8717,2, -999.00,9, -999.00,9, -999.00,  -999.0,9, -999.00,9,     -999.0,9,  -999.0,9, 20170801,      854, -32.4999,-170.2496,        0.0,1,      0.066,1,      4.686,1,      0.142,1,      25.00,     -999.0,9,     -999.0,9,     -999.0,9,     -999.0,9,    14.7352,2,     -999.0,9
320620170703,        P06,     111,          1,         32,         32,2,20170801,       0902,   -32.5000,  -170.2499,       5741,   101.2,  16.2601,  35.4974,2,  35.5928,2, 232.4345,2, 230.1132,2,     0.3,2,    0.67,2,    0.06,2,    0.14,2,-999.000,9,-999.000,9,-999.0000,9,  -999.0,9, -999.00,9,-999.0000,9, -999.00,9, -999.00,9, -999.00,  -999.0,9, -999.00,9,     -999.0,9,  -999.0,9, 20170801,      856, -32.4999,-170.2496,        0.0,1,      0.093,1,      4.671,1,      0.162,1,     -999.0,     -999.0,9,     -999.0,9,     -999.0,9,     -999.0,9,    17.0977,2,     -999.0,9