BOTTLE,20230922CCHSIOCBG
EXPOCODE,SECT_ID,STNNBR,CASTNO,SAMPNO,BTLNBR,BTLNBR_FLAG_W,DATE,TIME,LATITUDE,LONGITUDE,DEPTH,CTDPRS,CTDTMP,CTDSAL,CTDSAL_FLAG_W,SALNTY,SALNTY_FLAG_W,CTDOXY,CTDOXY_FLAG_W,OXYGEN,OXYGEN_FLAG_W,SILCAT,SILCAT_FLAG_W,NITRAT,NITRAT_FLAG_W,NITRIT,NITRIT_FLAG_W,PHSPHT,PHSPHT_FLAG_W,CFC-11,CFC-11_FLAG_W,CFC-12,CFC-12_FLAG_W,SF6,SF6_FLAG_W,TCARBN,TCARBN_FLAG_W,ALKALI,ALKALI_FLAG_W,PH_TOT,PH_TOT_FLAG_W,DELC13,DELC13_FLAG_W,DELC14,DELC14_FLAG_W,C14ERR,DOC,DOC_FLAG_W,TDN,TDN_FLAG_W,TON,TON_FLAG_W,D15N_NO3,D15N_NO3_FLAG_W,BTL_DATE,BTL_TIME,BTL_LAT,BTL_LON,CTDRINKO,CTDRINKO_FLAG_W,CTDFLUOR,CTDFLUOR_FLAG_W,CTDXMISS,CTDXMISS_FLAG_W,CTDBACKSCATTER,CTDBACKSCATTER_FLAG_W,PH_TMP,D18O_NO3,D18O_NO3_FLAG_W,DOP,DOP_FLAG_W,HPLC,HPLC_FLAG_W,POC,POC_FLAG_W,REFTMP,REFTMP_FLAG_W,TDP,TDP_FLAG_W
,,,,,,,,,,,METERS,DBAR,ITS-90,PSS-78,,PSS-78,,UMOL/KG,,UMOL/KG,,UMOL/KG,,UMOL/KG,,UMOL/KG,,UMOL/KG,,PMOL/KG,,PMOL/KG,,FMOL/KG,,UMOL/KG,,UMOL/KG,,,,/MILLE,,/MILLE,,/MILLE,UMOL/KG,,UMOL/KG,,UMOL/KG,,/MILLE,,,,,,VOLTS,,VOLTS,,VOLTS,,VOLTS,,DEGC,/MILLE,,UMOL/KG,,,,UG/L,,ITS-90,,UMOL/KG,
320620170703,        P06,     140,          1,         33,         33,2,20170812,       1549,   -32.5006,  -150.9182,       5285,    64.8,  16.7086,  35.4854,2,  35.4791,2, 239.1300,2, 237.1261,2,     0.2,2,    0.21,2,    0.03,2,    0.10,2,   2.349,2,   1.348,2,   1.6890,2,  2069.7,2, 2329.62,2,   7.9626,2, -999.00,9, -999.00,9, -999.00,    59.1,2,    4.00,2,     -999.0,1,  -999.0,9, 20170812,     1544, -32.5005,-150.9185,        0.0,1,      0.155,1,      4.645,1,      0.178,1,      25.03,     -999.0,9,     -999.0,9,     -999.0,9,     -999.0,9,    16.7016,2,     -999.0,9
320620170703,        P06,     140,          1,         34,         34,2,20170812,       1549,   -32.5006,  -150.9182,       5285,    39.5,  16.7024,  35.4839,2,  35.4793,2, 239.1959,2, 237.7290,2,     0.3,2,    0.21,2,    0.03,2,    0.10,2,   2.366,2,   1.361,2,   1.6390,2,  2070.4,2, 2329.19,2,   7.9628,2, -999.00,9, -999.00,9, -999.00,    58.3,2,    3.80,2,     -999.0,1,  -999.0,9, 20170812,     1546, -32.5005,-150.9185,        0.0,1,      0.151,1,      4.646,1,      0.177,1,      25.03,     -999.0,9,     -999.0,9,     -999.0,9,     -999.0,9,    16.6923,2,     -999.0,9
320620170703,        P06,     140,          1,         35,         35,2,20170812,       1549,   -32.5006,  -150.9182,       5285,    19.5,  16.7062,  35.4860,2,  35.4793,2, 239.1917,2, 237.3539,2,     0.3,2,    0.21,2,    0.03,2,    0.10,2,   2.369,2,   1.360,2,   1.7210,2,  2069.2,2, 2330.21,2,   7.9622,2, -999.00,9, -999.00,9, -999.00,    58.1,2,    3.90,2,     -999.0,1,  -999.0,9, 20170812,     1548, -32.5006,-150.9183,        0.0,1,      0.160,1,      4.645,1,      0.175,1,      25.02,     -999.0,9,     -999.0,9,     -999.0,9,     -999.0,9,    16.6869,2,     -999.0,9
320620170703,        P06,     140,          1,         36,         36,2,20170812,       1549,   -32.5006,  -150.9182,       5285,     4.7,  16.6983,  35.4863,2,  35.4791,2, 239.3531,2, 237.4267,2,     0.3,2,    0.20,2,    0.03,2,    0.12,2,   2.390,2,   1.360,2,   1.5170,2,  2069.3,6, 2330.23,2,   7.9629,2, -999.00,9, -999.00,9, -999.00,    59.8,2,    4.50,2,     -999.0,1,  -999.0,9, 20170812,     1549, -32.5006,-150.9182,        0.0,1,      0.160,1,      4.624,1,      0.205,1,      25.02,     -999.0,9,     -999.0,9,     -999.0,9,     -999.0,9,    16.6908,2,     -999.0,9