BOTTLE,20230922CCHSIOCBG
EXPOCODE,SECT_ID,STNNBR,CASTNO,SAMPNO,BTLNBR,BTLNBR_FLAG_W,DATE,TIME,LATITUDE,LONGITUDE,DEPTH,CTDPRS,CTDTMP,CTDSAL,CTDSAL_FLAG_W,SALNTY,SALNTY_FLAG_W,CTDOXY,CTDOXY_FLAG_W,OXYGEN,OXYGEN_FLAG_W,SILCAT,SILCAT_FLAG_W,NITRAT,NITRAT_FLAG_W,NITRIT,NITRIT_FLAG_W,PHSPHT,PHSPHT_FLAG_W,CFC-11,CFC-11_FLAG_W,CFC-12,CFC-12_FLAG_W,SF6,SF6_FLAG_W,TCARBN,TCARBN_FLAG_W,ALKALI,ALKALI_FLAG_W,PH_TOT,PH_TOT_FLAG_W,DELC13,DELC13_FLAG_W,DELC14,DELC14_FLAG_W,C14ERR,DOC,DOC_FLAG_W,TDN,TDN_FLAG_W,TON,TON_FLAG_W,D15N_NO3,D15N_NO3_FLAG_W,BTL_DATE,BTL_TIME,BTL_LAT,BTL_LON,CTDRINKO,CTDRINKO_FLAG_W,CTDFLUOR,CTDFLUOR_FLAG_W,CTDXMISS,CTDXMISS_FLAG_W,CTDBACKSCATTER,CTDBACKSCATTER_FLAG_W,PH_TMP,D18O_NO3,D18O_NO3_FLAG_W,DOP,DOP_FLAG_W,HPLC,HPLC_FLAG_W,POC,POC_FLAG_W,REFTMP,REFTMP_FLAG_W,TDP,TDP_FLAG_W
,,,,,,,,,,,METERS,DBAR,ITS-90,PSS-78,,PSS-78,,UMOL/KG,,UMOL/KG,,UMOL/KG,,UMOL/KG,,UMOL/KG,,UMOL/KG,,PMOL/KG,,PMOL/KG,,FMOL/KG,,UMOL/KG,,UMOL/KG,,,,/MILLE,,/MILLE,,/MILLE,UMOL/KG,,UMOL/KG,,UMOL/KG,,/MILLE,,,,,,VOLTS,,VOLTS,,VOLTS,,VOLTS,,DEGC,/MILLE,,UMOL/KG,,,,UG/L,,ITS-90,,UMOL/KG,
320620170703,        P06,      94,          1,          1,          1,2,20170727,       1151,   -32.4990,  -177.2492,       7190,  6128.2,   1.1854,  34.7072,2,  34.7074,2, 206.4633,2, 206.4937,2,   122.3,2,   32.06,2,    0.00,2,    2.22,2,   0.150,2,   0.083,2,   0.0000,2,  2263.1,6, 2363.56,2,   7.6067,2, -999.00,9, -999.00,9, -999.00,    43.5,2, -999.00,9,     -999.0,1,  -999.0,9, 20170727,      913, -32.4996,-177.2499,        0.0,1,      0.061,1,      4.698,1,      0.127,1,      25.02,     -999.0,9,     -999.0,9,     -999.0,9,     -999.0,9,     1.1859,2,     -999.0,9
320620170703,        P06,      94,          1,          2,          2,2,20170727,       1151,   -32.4990,  -177.2492,       7190,  5920.4,   1.1595,  34.7075,2,  34.7079,2, 206.4633,2, 206.4509,2,   122.3,2,   32.06,2,    0.00,2,    2.22,2,   0.144,2,   0.083,2,   0.0000,2,  2262.0,2, 2362.86,6,   7.6071,2, -999.00,9, -999.00,9, -999.00,  -999.0,9, -999.00,9,     -999.0,9,  -999.0,9, 20170727,      918, -32.4996,-177.2499,        0.0,1,      0.061,1,      4.699,1,      0.126,1,      25.03,     -999.0,9,     -999.0,9,     -999.0,9,     -999.0,9,     1.1600,2,     -999.0,9
320620170703,        P06,      94,          1,          3,          3,2,20170727,       1151,   -32.4990,  -177.2492,       7190,  5676.6,   1.1300,  34.7078,2,  34.7089,2, 206.4633,2, 206.5212,2,   122.4,2,   32.01,2,    0.00,2,    2.22,2,   0.147,2,   0.085,2,   0.0000,2,  2263.3,2, 2363.00,2,   7.6068,2, -999.00,9, -999.00,9, -999.00,    44.6,2, -999.00,9,     -999.0,1,  -999.0,9, 20170727,      924, -32.4996,-177.2499,        0.0,1,      0.061,1,      4.700,1,      0.132,1,      25.01,     -999.0,9,     -999.0,9,     -999.0,9,     -999.0,9,     1.1304,2,     -999.0,9
320620170703,        P06,      94,          1,          4,          4,2,20170727,       1151,   -32.4990,  -177.2492,       7190,  5368.6,   1.0963,  34.7080,2,  34.7083,2, 206.4633,2, 206.4907,2,   122.0,2,   32.03,2,    0.00,2,    2.21,2,   0.156,2,   0.093,2,   0.0000,2,  2262.4,2, 2364.84,2,   7.6067,2, -999.00,9, -999.00,9, -999.00,  -999.0,9, -999.00,9,     -999.0,9,  -999.0,9, 20170727,      931, -32.4996,-177.2499,        0.0,1,      0.061,1,      4.700,1,      0.126,1,      25.01,     -999.0,9,     -999.0,9,     -999.0,9,     -999.0,9,     1.0966,2,     -999.0,9
320620170703,        P06,      94,          1,          5,          5,2,20170727,       1151,   -32.4990,  -177.2492,       7190,  5060.1,   1.0713,  34.7086,2,  34.7089,2, 206.4633,2, 207.1219,2,   121.6,2,   32.01,2,    0.00,2,    2.21,2,   0.149,2,   0.088,2,   0.0000,2,  2262.1,2, 2365.21,2,   7.6064,2, -999.00,9, -999.00,9, -999.00,    37.8,2, -999.00,9,     -999.0,1,  -999.0,9, 20170727,      938, -32.4996,-177.2499,        0.0,1,      0.061,1,      4.701,1,      0.127,1,      24.97,     -999.0,9,     -999.0,9,     -999.0,9,     -999.0,9,     1.0722,2,     -999.0,9
320620170703,        P06,      94,          1,          6,          6,2,20170727,       1151,   -32.4990,  -177.2492,       7190,  4749.4,   1.0625,  34.7098,2,  34.7097,2, 206.4633,2, 206.2094,2,   121.0,2,   32.00,2,    0.00,2,    2.21,2,   0.153,2,   0.090,2,   0.0000,2,  2261.5,2, 2362.58,2,   7.6064,2, -999.00,9, -999.00,9, -999.00,    42.1,2, -999.00,9,     -999.0,1,  -999.0,9, 20170727,      945, -32.4996,-177.2499,        0.0,1,      0.060,1,      4.701,1,      0.128,1,      25.01,     -999.0,9,     -999.0,9,     -999.0,9,     -999.0,9,     1.0627,2,     -999.0,9
320620170703,        P06,      94,          1,          7,          7,2,20170727,       1151,   -32.4990,  -177.2492,       7190,  4441.4,   1.0752,  34.7114,2,  34.7131,2, 205.9857,2, 205.7286,2,   119.5,2,   31.86,2,    0.00,2,    2.20,2,   0.153,2,   0.088,2,   0.0000,2,  2262.2,2, 2362.46,2,   7.6069,2, -999.00,9, -999.00,9, -999.00,    39.8,2, -999.00,9,     -999.0,1,  -999.0,9, 20170727,      952, -32.4996,-177.2499,        0.0,1,      0.061,1,      4.701,1,      0.129,1,      25.09,     -999.0,9,     -999.0,9,     -999.0,9,     -999.0,9,     1.0822,2,     -999.0,9
320620170703,        P06,      94,          1,          8,          8,2,20170727,       1151,   -32.4990,  -177.2492,       7190,  4134.2,   1.1229,  34.7144,2,  34.7152,2, 204.9568,2, 204.5513,2,   117.2,2,   31.73,2,    0.00,2,    2.20,2,   0.141,2,   0.082,2,   0.0000,2,  2260.0,2, 2361.23,2,   7.6071,2, -999.00,9, -999.00,9, -999.00,  -999.0,9, -999.00,9,     -999.0,9,  -999.0,9, 20170727,      958, -32.4996,-177.2499,        0.0,1,      0.061,1,      4.701,1,      0.132,1,      25.03,     -999.0,9,     -999.0,9,     -999.0,9,     -999.0,9,     1.1280,2,     -999.0,9
320620170703,        P06,      94,          1,          9,          9,2,20170727,       1151,   -32.4990,  -177.2492,       7190,  3825.0,   1.2624,  34.7190,2,  34.7207,2, 200.4014,2, 200.8378,2,   113.0,2,   31.60,2,    0.00,2,    2.20,2,   0.112,2,   0.066,2,   0.0000,2,  2261.3,2, 2362.22,2,   7.6064,2, -999.00,9, -999.00,9, -999.00,    38.1,2, -999.00,9,     -999.0,1,  -999.0,9, 20170727,     1005, -32.4996,-177.2499,        0.0,1,      0.061,1,      4.701,1,      0.133,1,      25.03,     -999.0,9,     -999.0,9,     -999.0,9,     -999.0,9,     1.2658,2,     -999.0,9
320620170703,        P06,      94,          1,         10,         10,2,20170727,       1151,   -32.4990,  -177.2492,       7190,  3517.9,   1.4696,  34.7207,2,  34.7217,2, 194.0195,2, 194.1334,2,   109.1,2,   31.70,2,    0.00,2,    2.20,2,   0.087,2,   0.054,2,   0.0000,2,  2261.8,2, -999.00,9,   7.6039,2, -999.00,9, -999.00,9, -999.00,  -999.0,9, -999.00,9,     -999.0,9,  -999.0,9, 20170727,     1012, -32.4996,-177.2499,        0.0,1,      0.061,1,      4.701,1,      0.132,1,      25.02,     -999.0,9,     -999.0,9,     -999.0,9,     -999.0,9,     1.4735,2,     -999.0,9
320620170703,        P06,      94,          1,         11,         11,2,20170727,       1151,   -32.4990,  -177.2492,       7190,  3211.2,   1.6831,  34.7086,2,  34.7099,2, 181.9975,2, 181.5720,2,   110.4,2,   32.56,2,    0.00,2,    2.26,2,   0.069,2,   0.043,2,   0.0000,2,  2273.6,2, 2369.50,2,   7.5938,2, -999.00,9, -999.00,9, -999.00,    40.8,2, -999.00,9,     -999.0,1,  -999.0,9, 20170727,     1019, -32.4998,-177.2499,        0.0,1,      0.061,1,      4.701,1,      0.134,1,      25.02,     -999.0,9,     -999.0,9,     -999.0,9,     -999.0,9,     1.6852,2,     -999.0,9
320620170703,        P06,      94,          1,         12,         12,2,20170727,       1151,   -32.4990,  -177.2492,       7190,  2965.2,   1.7967,  34.6806,2,  34.6816,2, 161.3227,2, 160.2448,2,   123.0,2,   34.58,2,    0.00,2,    2.41,2,   0.035,2,   0.024,2,   0.0000,2,  2299.4,2, 2392.50,2,   7.5770,2, -999.00,9, -999.00,9, -999.00,  -999.0,9, -999.00,9,     -999.0,9,  -999.0,9, 20170727,     1025, -32.4998,-177.2498,        0.0,1,      0.060,1,      4.702,1,      0.134,1,      25.03,     -999.0,9,     -999.0,9,     -999.0,9,     -999.0,9,     1.8008,2,     -999.0,9
320620170703,        P06,      94,          1,         13,         13,2,20170727,       1151,   -32.4990,  -177.2492,       7190,  2711.8,   1.9526,  34.6586,2,  34.6596,2, 150.1338,2, 150.2472,2,   125.5,2,   35.51,2,    0.00,2,    2.48,2,   0.027,2,   0.021,2,   0.0000,2,  2301.7,2, 2397.28,2,   7.5683,2, -999.00,9, -999.00,9, -999.00,    36.9,2, -999.00,9,     -999.0,1,  -999.0,9, 20170727,     1031, -32.4999,-177.2498,        0.0,1,      0.061,1,      4.702,1,      0.135,1,      25.02,     -999.0,9,     -999.0,9,     -999.0,9,     -999.0,9,     1.9503,2,     -999.0,9
320620170703,        P06,      94,          1,         14,         14,2,20170727,       1151,   -32.4990,  -177.2492,       7190,  2460.4,   2.1014,  34.6437,2,  34.6449,2, 147.2989,2, 147.2301,2,   121.4,2,   35.70,2,    0.00,2,    2.50,2,   0.026,2,   0.020,2,   0.0000,2,  2307.4,6, -999.00,9,   7.5645,2, -999.00,9, -999.00,9, -999.00,  -999.0,9, -999.00,9,     -999.0,9,  -999.0,9, 20170727,     1038, -32.4999,-177.2498,        0.0,1,      0.061,1,      4.702,1,      0.134,1,      25.02,     -999.0,9,     -999.0,9,     -999.0,9,     -999.0,9,     2.1025,2,     -999.0,9
320620170703,        P06,      94,          1,         15,         15,2,20170727,       1151,   -32.4990,  -177.2492,       7190,  2206.0,   2.2354,  34.6316,2,  34.6333,2, 147.8623,2, 148.4314,2,   116.0,2,   35.56,2,    0.00,2,    2.48,2,   0.028,2,   0.022,2,   0.0000,2,  2301.6,2, 2387.39,2,   7.5660,2, -999.00,9, -999.00,9, -999.00,    39.4,2, -999.00,9,     -999.0,1,  -999.0,9, 20170727,     1044, -32.5000,-177.2498,        0.0,1,      0.061,1,      4.702,1,      0.136,1,      25.01,     -999.0,9,     -999.0,9,     -999.0,9,     -999.0,9,     2.2220,2,     -999.0,9
320620170703,        P06,      94,          1,         16,         16,2,20170727,       1151,   -32.4990,  -177.2492,       7190,  1952.2,   2.3928,  34.6138,2,  34.6144,2, 149.1854,2, 149.9507,2,   108.3,2,   35.30,2,    0.00,2,    2.47,2,   0.032,2,   0.024,2,   0.0000,2,  2293.9,2, 2379.75,2,   7.5661,2, -999.00,9, -999.00,9, -999.00,  -999.0,9, -999.00,9,     -999.0,9,  -999.0,9, 20170727,     1050, -32.5003,-177.2497,        0.0,1,      0.061,1,      4.703,1,      0.136,1,      25.01,     -999.0,9,     -999.0,9,     -999.0,9,     -999.0,9,     2.3928,2,     -999.0,9
320620170703,        P06,      94,          1,         17,         17,2,20170727,       1151,   -32.4990,  -177.2492,       7190,  1698.4,   2.6240,  34.5813,2,  34.5834,2, 153.5056,2, 154.2138,2,    96.4,2,   34.92,2,    0.00,2,    2.43,2,   0.042,2,   0.029,2,   0.0000,2,  2280.3,2, 2367.04,2,   7.5675,2, -999.00,9, -999.00,9, -999.00,    41.4,2, -999.00,9,     -999.0,1,  -999.0,9, 20170727,     1056, -32.5003,-177.2498,        0.0,1,      0.062,1,      4.702,1,      0.137,1,      25.00,     -999.0,9,     -999.0,9,     -999.0,9,     -999.0,9,     2.6172,2,     -999.0,9
320620170703,        P06,      94,          1,         18,         18,2,20170727,       1151,   -32.4990,  -177.2492,       7190,  1444.0,   2.9963,  34.5129,2,  34.5082,2, 165.4451,2, 166.2306,2,    73.9,2,   34.14,2,    0.00,2,    2.36,2,   0.104,2,   0.066,2,   0.0000,2,  2254.1,2, 2339.16,2,   7.5740,2, -999.00,9, -999.00,9, -999.00,    40.4,2, -999.00,9,     -999.0,1,  -999.0,9, 20170727,     1102, -32.5005,-177.2498,        0.0,1,      0.061,1,      4.703,1,      0.138,1,      25.01,     -999.0,9,     -999.0,9,     -999.0,9,     -999.0,9,     3.0484,2,     -999.0,9
320620170703,        P06,      94,          1,         19,         19,2,20170727,       1151,   -32.4990,  -177.2492,       7190,  1246.7,   3.6132,  34.4226,2,  34.4267,2, 178.4840,2, 178.3135,2,    54.4,2,   33.16,2,    0.00,2,    2.29,2,   0.286,2,   0.153,2,   0.0840,2,  2229.0,2, 2315.92,2,   7.5869,2, -999.00,9, -999.00,9, -999.00,    37.3,2, -999.00,9,     -999.0,1,  -999.0,9, 20170727,     1107, -32.5006,-177.2498,        0.0,1,      0.061,1,      4.703,1,      0.136,1,      25.03,     -999.0,9,     -999.0,9,     -999.0,9,     -999.0,9,     3.5825,2,     -999.0,9
320620170703,        P06,      94,          1,         20,         20,2,20170727,       1151,   -32.4990,  -177.2492,       7190,  1145.7,   4.1226,  34.3953,2,  34.3912,2, 185.9854,2, 185.9903,2,    44.4,2,   32.10,2,    0.00,2,    2.21,2,   0.492,2,   0.258,2,   0.0970,2,  2213.2,2, 2309.21,2,   7.6017,2, -999.00,9, -999.00,9, -999.00,  -999.0,9, -999.00,9,     -999.0,9,  -999.0,9, 20170727,     1110, -32.5005,-177.2498,        0.0,1,      0.061,1,      4.702,1,      0.140,1,      25.03,     -999.0,9,     -999.0,9,     -999.0,9,     -999.0,9,     4.0290,2,     -999.0,9
320620170703,        P06,      94,          1,         21,         21,2,20170727,       1151,   -32.4990,  -177.2492,       7190,  1044.9,   4.6457,  34.3578,2,  34.3702,2, 195.3943,2, 193.7292,2,    35.0,2,   30.64,2,    0.00,2,    2.10,2,   0.811,2,   0.404,2,   0.1120,2,  2198.0,2, 2297.32,6,   7.6207,2, -999.00,9, -999.00,9, -999.00,    38.8,2, -999.00,9,     -999.0,1,  -999.0,9, 20170727,     1113, -32.5004,-177.2498,        0.0,1,      0.059,1,      4.702,1,      0.137,1,      25.06,     -999.0,9,     -999.0,9,     -999.0,9,     -999.0,9,     4.6201,2,     -999.0,9
320620170703,        P06,      94,          1,         22,         22,2,20170727,       1151,   -32.4990,  -177.2492,       7190,   943.3,   5.3799,  34.3624,2,  34.3560,2, 203.1158,2, 203.8488,2,    25.4,2,   28.85,2,    0.00,2,    1.95,2,   1.206,2,   0.595,2,   0.1580,2,  2182.1,2, -999.00,9,   7.6437,2, -999.00,9, -999.00,9, -999.00,  -999.0,9, -999.00,9,     -999.0,9,  -999.0,9, 20170727,     1116, -32.5003,-177.2499,        0.0,1,      0.059,1,      4.701,1,      0.138,1,      25.03,     -999.0,9,     -999.0,9,     -999.0,9,     -999.0,9,     5.2118,2,     -999.0,9
320620170703,        P06,      94,          1,         23,         23,2,20170727,       1151,   -32.4990,  -177.2492,       7190,   843.0,   6.0096,  34.3741,2,  34.3709,2, 213.5839,2, 213.8321,2,    17.5,2,   26.44,2,    0.00,2,    1.79,2,   1.851,2,   0.909,2,   0.3040,2,  2167.0,2, 2284.63,2,   7.6699,2, -999.00,9, -999.00,9, -999.00,    44.9,2, -999.00,9,     -999.0,1,  -999.0,9, 20170727,     1119, -32.4999,-177.2500,        0.0,1,      0.059,1,      4.700,1,      0.139,1,      25.04,     -999.0,9,     -999.0,9,     -999.0,9,     -999.0,9,     5.9970,2,     -999.0,9
320620170703,        P06,      94,          1,         24,         24,2,20170727,       1151,   -32.4990,  -177.2492,       7190,   740.5,   6.6480,  34.3955,2,  34.3943,2, 221.4911,2, 220.9315,2,    12.1,2,   24.32,2,    0.00,2,    1.63,2,   2.486,2,   1.240,2,   0.4960,2,  2158.0,6, 2280.44,2,   7.6890,2, -999.00,9, -999.00,9, -999.00,  -999.0,9, -999.00,9,     -999.0,9,  -999.0,9, 20170727,     1122, -32.4998,-177.2500,        0.0,1,      0.059,1,      4.699,1,      0.142,1,      25.01,     -999.0,9,     -999.0,9,     -999.0,9,     -999.0,9,     6.6674,2,     -999.0,9
320620170703,        P06,      94,          1,         25,         25,2,20170727,       1151,   -32.4990,  -177.2492,       7190,   640.0,   7.3653,  34.4471,2,  34.4314,2, 223.9318,2, 223.0926,2,     9.5,2,   22.81,2,    0.00,2,    1.53,2,   2.799,2,   1.444,2,   0.6000,2,  2150.8,2, 2277.25,2,   7.7001,2, -999.00,9, -999.00,9, -999.00,    46.4,2, -999.00,9,     -999.0,1,  -999.0,9, 20170727,     1126, -32.4996,-177.2499,        0.0,1,      0.059,1,      4.697,1,      0.142,1,      25.04,     -999.0,9,     -999.0,9,     -999.0,9,     -999.0,9,     7.2111,2,     -999.0,9
320620170703,        P06,      94,          1,         26,         26,2,20170727,       1151,   -32.4990,  -177.2492,       7190,   540.1,   8.2349,  34.5397,2,  34.5276,2, 216.6033,2, 217.9065,2,     7.7,2,   20.83,2,    0.00,2,    1.41,2,   2.985,2,   1.571,2,   0.6890,2,  2148.3,2, -999.00,9,   7.7127,2, -999.00,9, -999.00,9, -999.00,    42.6,3, -999.00,9,     -999.0,1,  -999.0,9, 20170727,     1129, -32.4995,-177.2497,        0.0,1,      0.060,1,      4.696,1,      0.144,1,      25.05,     -999.0,9,     -999.0,9,     -999.0,9,     -999.0,9,     8.1679,2,     -999.0,9
320620170703,        P06,      94,          1,         27,         27,2,20170727,       1151,   -32.4990,  -177.2492,       7190,   437.7,   9.6497,  34.7029,2,  34.6484,2, 209.7986,2, 209.6742,2,     6.5,2,   18.72,2,    0.00,2,    1.27,2,   2.974,2,   1.564,2,   0.7830,2,  2145.9,2, 2283.68,2,   7.7296,2, -999.00,9, -999.00,9, -999.00,    45.6,2, -999.00,9,     -999.0,1,  -999.0,9, 20170727,     1132, -32.4993,-177.2495,        0.0,1,      0.059,1,      4.693,1,      0.144,1,      25.03,     -999.0,9,     -999.0,9,     -999.0,9,     -999.0,9,     9.2163,2,     -999.0,9
320620170703,        P06,      94,          1,         28,         28,2,20170727,       1151,   -32.4990,  -177.2492,       7190,   337.5,  11.1261,  34.8881,2,  34.8367,2, 206.6007,2, 206.6705,2,     4.8,2,   15.13,2,    0.00,2,    1.05,2,   2.840,2,   1.553,2,   1.0290,2,  2138.2,2, 2290.08,2,   7.7635,2, -999.00,9, -999.00,9, -999.00,    47.8,2, -999.00,9,     -999.0,1,  -999.0,9, 20170727,     1134, -32.4991,-177.2493,        0.0,1,      0.060,1,      4.692,1,      0.143,1,      25.03,     -999.0,9,     -999.0,9,     -999.0,9,     -999.0,9,    10.7771,2,     -999.0,9
320620170703,        P06,      94,          1,         29,         29,2,20170727,       1151,   -32.4990,  -177.2492,       7190,   265.7,  12.0044,  34.9969,2,  35.0171,2, 209.3211,2, 209.7101,2,     3.3,2,   11.64,2,    0.00,2,    0.83,2,   2.784,2,   1.577,2,   1.2860,2,  2128.6,2, 2299.14,2,   7.8017,2, -999.00,9, -999.00,9, -999.00,    46.6,2,   14.40,2,     -999.0,1,  -999.0,9, 20170727,     1137, -32.4991,-177.2491,        0.0,1,      0.060,1,      4.691,1,      0.145,1,      25.03,     -999.0,9,     -999.0,9,     -999.0,9,     -999.0,9,    12.0876,2,     -999.0,9
320620170703,        P06,      94,          1,         30,         30,2,20170727,       1151,   -32.4990,  -177.2492,       7190,   217.0,  12.8422,  35.1041,2,  35.1727,2, 210.0186,2, 210.6232,2,     2.5,2,    8.92,2,    0.00,2,    0.66,2,   2.688,2,   1.531,2,   1.3510,2,  2119.6,2, 2307.14,2,   7.8351,2, -999.00,9, -999.00,9, -999.00,    56.0,2,   11.00,2,     -999.0,1,  -999.0,9, 20170727,     1140, -32.4990,-177.2491,        0.0,1,      0.060,1,      4.691,1,      0.145,1,      25.02,     -999.0,9,     -999.0,9,     -999.0,9,     -999.0,9,    13.2757,2,     -999.0,9
320620170703,        P06,      94,          1,         31,         31,2,20170727,       1151,   -32.4990,  -177.2492,       7190,   164.4,  14.0857,  35.2674,2,  35.2798,2, 211.3828,2, 211.8821,2,     2.0,2,    6.91,2,    0.02,2,    0.53,2,   2.568,2,   1.470,2,   1.3480,2,  2111.3,2, 2314.25,2,   7.8587,2, -999.00,9, -999.00,9, -999.00,    53.8,3,   10.30,2,     -999.0,1,  -999.0,9, 20170727,     1142, -32.4990,-177.2491,        0.0,1,      0.062,1,      4.687,1,      0.149,1,      25.03,     -999.0,9,     -999.0,9,     -999.0,9,     -999.0,9,    14.2342,2,     -999.0,9
320620170703,        P06,      94,          1,         32,         32,2,20170727,       1151,   -32.4990,  -177.2492,       7190,   115.4,  15.3388,  35.3979,2,  35.4058,2, 217.1503,2, 215.1435,2,     1.4,2,    4.53,2,    0.04,2,    0.40,2,   2.442,2,   1.422,2,   1.3730,2,  2100.9,2, 2321.07,2,   7.8948,2, -999.00,9, -999.00,9, -999.00,    59.7,2,    7.70,2,     -999.0,1,  -999.0,9, 20170727,     1144, -32.4990,-177.2491,        0.0,1,      0.075,1,      4.677,1,      0.163,1,      25.03,     -999.0,9,     -999.0,9,     -999.0,9,     -999.0,9,    15.4591,2,     -999.0,9