BOTTLE,20230922CCHSIOCBG
EXPOCODE,SECT_ID,STNNBR,CASTNO,SAMPNO,BTLNBR,BTLNBR_FLAG_W,DATE,TIME,LATITUDE,LONGITUDE,DEPTH,CTDPRS,CTDTMP,CTDSAL,CTDSAL_FLAG_W,SALNTY,SALNTY_FLAG_W,CTDOXY,CTDOXY_FLAG_W,OXYGEN,OXYGEN_FLAG_W,SILCAT,SILCAT_FLAG_W,NITRAT,NITRAT_FLAG_W,NITRIT,NITRIT_FLAG_W,PHSPHT,PHSPHT_FLAG_W,CFC-11,CFC-11_FLAG_W,CFC-12,CFC-12_FLAG_W,SF6,SF6_FLAG_W,TCARBN,TCARBN_FLAG_W,ALKALI,ALKALI_FLAG_W,PH_TOT,PH_TOT_FLAG_W,DELC13,DELC13_FLAG_W,DELC14,DELC14_FLAG_W,C14ERR,DOC,DOC_FLAG_W,TDN,TDN_FLAG_W,TON,TON_FLAG_W,D15N_NO3,D15N_NO3_FLAG_W,BTL_DATE,BTL_TIME,BTL_LAT,BTL_LON,CTDRINKO,CTDRINKO_FLAG_W,CTDFLUOR,CTDFLUOR_FLAG_W,CTDXMISS,CTDXMISS_FLAG_W,CTDBACKSCATTER,CTDBACKSCATTER_FLAG_W,PH_TMP,D18O_NO3,D18O_NO3_FLAG_W,DOP,DOP_FLAG_W,HPLC,HPLC_FLAG_W,POC,POC_FLAG_W,REFTMP,REFTMP_FLAG_W,TDP,TDP_FLAG_W
,,,,,,,,,,,METERS,DBAR,ITS-90,PSS-78,,PSS-78,,UMOL/KG,,UMOL/KG,,UMOL/KG,,UMOL/KG,,UMOL/KG,,UMOL/KG,,PMOL/KG,,PMOL/KG,,FMOL/KG,,UMOL/KG,,UMOL/KG,,,,/MILLE,,/MILLE,,/MILLE,UMOL/KG,,UMOL/KG,,UMOL/KG,,/MILLE,,,,,,VOLTS,,VOLTS,,VOLTS,,VOLTS,,DEGC,/MILLE,,UMOL/KG,,,,UG/L,,ITS-90,,UMOL/KG,
320620170703,        P06,     131,          1,          1,          1,2,20170809,       1818,   -32.5001,  -156.9462,       5425,  5523.5,   1.1502,  34.7096,2,  34.7101,2, 205.4214,2, 205.6219,2,   121.1,2,   32.23,2,    0.00,2,    2.22,2,   0.118,2,   0.065,2,   1.2670,4,  2262.9,6, 2367.75,2,   7.6066,2, -999.00,9, -999.00,9, -999.00,  -999.0,9, -999.00,9,     -999.0,9,  -999.0,9, 20170809,     1556, -32.5000,-156.9463,        0.0,1,      0.061,1,      4.695,1,      0.125,1,      25.02,     -999.0,9,     -999.0,9,     -999.0,9,     -999.0,9,     1.1505,2,     -999.0,9
320620170703,        P06,     131,          1,          2,          2,2,20170809,       1818,   -32.5001,  -156.9462,       5425,  5393.8,   1.1331,  34.7097,2,  34.7076,2, 205.4214,2, 205.7348,2,   121.4,2,   32.24,2,    0.00,2,    2.21,2,   0.117,2,   0.072,2,   1.1490,4,  2264.4,2, 2369.00,2,   7.6063,2, -999.00,9, -999.00,9, -999.00,  -999.0,9, -999.00,9,     -999.0,9,  -999.0,9, 20170809,     1602, -32.5000,-156.9462,        0.0,1,      0.061,1,      4.695,1,      0.126,1,      25.02,     -999.0,9,     -999.0,9,     -999.0,9,     -999.0,9,     1.1337,2,     -999.0,9
320620170703,        P06,     131,          1,          3,          3,2,20170809,       1818,   -32.5001,  -156.9462,       5425,  5264.5,   1.1197,  34.7098,2,  34.7099,2, 205.4214,2, 205.4014,2,   121.3,2,   32.24,2,    0.00,2,    2.21,2,   0.106,2,   0.064,2,   1.6210,4,  2264.3,2, 2367.26,6,   7.6078,2, -999.00,9, -999.00,9, -999.00,  -999.0,9, -999.00,9,     -999.0,9,  -999.0,9, 20170809,     1607, -32.5000,-156.9466,        0.0,1,      0.061,1,      4.696,1,      0.125,1,      25.03,     -999.0,9,     -999.0,9,     -999.0,9,     -999.0,9,     1.1199,2,     -999.0,9
320620170703,        P06,     131,          1,          4,          4,2,20170809,       1818,   -32.5001,  -156.9462,       5425,  4853.0,   1.1057,  34.7110,2,  34.7111,2, 205.4214,2, 205.0433,2,   120.5,2,   32.19,2,    0.00,2,    2.21,2,   0.100,2,   0.059,2,   0.0000,2,  -999.0,9, -999.00,9,-999.0000,9, -999.00,9, -999.00,9, -999.00,  -999.0,9, -999.00,9,     -999.0,9,  -999.0,9, 20170809,     1618, -32.5000,-156.9460,        0.0,1,      0.061,1,      4.697,1,      0.124,1,     -999.0,     -999.0,9,     -999.0,9,     -999.0,9,     -999.0,9,     1.1018,2,     -999.0,9
320620170703,        P06,     131,          1,          5,          5,2,20170809,       1818,   -32.5001,  -156.9462,       5425,  4439.9,   1.2027,  34.7142,2,  34.7133,3, 205.2825,3, 202.2174,2,   117.4,2,   32.13,2,    0.00,2,    2.21,2,   0.071,2,   0.048,2,   0.4170,4,  2265.9,2, 2368.56,2,   7.6068,2, -999.00,9, -999.00,9, -999.00,  -999.0,9, -999.00,9,     -999.0,9,  -999.0,9, 20170809,     1626, -32.5000,-156.9464,        0.0,1,      0.061,1,      4.698,1,      0.124,1,      25.04,     -999.0,9,     -999.0,9,     -999.0,9,     -999.0,9,     1.1955,2,     -999.0,9
320620170703,        P06,     131,          1,          6,          6,2,20170809,       1818,   -32.5001,  -156.9462,       5425,  4030.5,   1.4038,  34.7136,2,  34.7117,2, 193.2290,2, 193.1941,2,   115.1,2,   32.41,2,    0.00,2,    2.24,2,   0.043,2,   0.030,2,   0.0000,2,  -999.0,9, -999.00,9,-999.0000,9, -999.00,9, -999.00,9, -999.00,  -999.0,9, -999.00,9,     -999.0,9,  -999.0,9, 20170809,     1634, -32.5000,-156.9466,        0.0,1,      0.061,1,      4.699,1,      0.125,1,     -999.0,     -999.0,9,     -999.0,9,     -999.0,9,     -999.0,9,     1.3914,2,     -999.0,9
320620170703,        P06,     131,          1,          7,          7,2,20170809,       1818,   -32.5001,  -156.9462,       5425,  3618.8,   1.5851,  34.6985,2,  34.6962,2, 174.4950,2, 174.3713,2,   121.3,2,   33.79,2,    0.00,2,    2.32,2,   0.032,2,   0.022,2,   0.0000,2,  2287.3,2, 2382.83,2,   7.5887,2, -999.00,9, -999.00,9, -999.00,  -999.0,9, -999.00,9,     -999.0,9,  -999.0,9, 20170809,     1642, -32.5000,-156.9463,        0.0,1,      0.061,1,      4.699,1,      0.124,1,      25.02,     -999.0,9,     -999.0,9,     -999.0,9,     -999.0,9,     1.5836,2,     -999.0,9
320620170703,        P06,     131,          1,          8,          8,2,20170809,       1818,   -32.5001,  -156.9462,       5425,  3246.0,   1.7077,  34.6789,2,  34.6781,2, 158.2269,2, 157.7002,2,   129.2,2,   35.27,2,    0.00,2,    2.45,2,   0.028,2,   0.022,2,   0.0000,2,  -999.0,9, -999.00,9,-999.0000,9, -999.00,9, -999.00,9, -999.00,  -999.0,9, -999.00,9,     -999.0,9,  -999.0,9, 20170809,     1650, -32.5000,-156.9464,        0.0,1,      0.061,1,      4.698,1,      0.126,1,     -999.0,     -999.0,9,     -999.0,9,     -999.0,9,     -999.0,9,     1.7047,2,     -999.0,9
320620170703,        P06,     131,          1,          9,          9,2,20170809,       1818,   -32.5001,  -156.9462,       5425,  2954.0,   1.7969,  34.6685,2,  34.6684,2, 151.9317,2, 150.9300,2,   130.4,2,   35.79,2,    0.00,2,    2.49,2,   0.029,2,   0.022,2,   0.0000,2,  2316.2,2, 2405.31,2,   7.5704,2, -999.00,9, -999.00,9, -999.00,  -999.0,9, -999.00,9,     -999.0,9,  -999.0,9, 20170809,     1656, -32.5000,-156.9467,        0.0,1,      0.060,1,      4.699,1,      0.127,1,      25.01,     -999.0,9,     -999.0,9,     -999.0,9,     -999.0,9,     1.7883,2,     -999.0,9
320620170703,        P06,     131,          1,         10,         10,2,20170809,       1818,   -32.5001,  -156.9462,       5425,  2700.8,   1.8815,  34.6606,2,  34.6606,2, 148.5510,2, 148.9949,2,   128.8,2,   36.01,2,    0.00,2,    2.50,2,   0.026,2,   0.022,2,   0.0000,2,  -999.0,9, -999.00,9,-999.0000,9, -999.00,9, -999.00,9, -999.00,  -999.0,9, -999.00,9,     -999.0,9,  -999.0,9, 20170809,     1701, -32.4999,-156.9464,        0.0,1,      0.062,1,      4.699,1,      0.127,1,     -999.0,     -999.0,9,     -999.0,9,     -999.0,9,     -999.0,9,     1.8695,2,     -999.0,9
320620170703,        P06,     131,          1,         11,         11,2,20170809,       1818,   -32.5001,  -156.9462,       5425,  2445.7,   1.9739,  34.6524,2,  34.6515,2, 147.2879,2, 147.4979,2,   124.4,2,   35.97,2,    0.00,2,    2.49,2,   0.022,2,   0.017,2,   0.0000,2,  2311.7,6, 2397.47,2,   7.5668,2, -999.00,9, -999.00,9, -999.00,  -999.0,9, -999.00,9,     -999.0,9,  -999.0,9, 20170809,     1706, -32.5000,-156.9463,        0.0,1,      0.061,1,      4.700,1,      0.130,1,      25.02,     -999.0,9,     -999.0,9,     -999.0,9,     -999.0,9,     1.9739,2,     -999.0,9
320620170703,        P06,     131,          1,         12,         12,2,20170809,       1818,   -32.5001,  -156.9462,       5425,  2192.0,   2.1112,  34.6406,2,  34.6392,3, 148.1875,2, 149.6063,2,   117.1,2,   35.74,2,    0.00,2,    2.48,2,   0.023,2,   0.018,2,   0.0000,2,  -999.0,9, -999.00,9,-999.0000,9, -999.00,9, -999.00,9, -999.00,  -999.0,9, -999.00,9,     -999.0,9,  -999.0,9, 20170809,     1712, -32.5000,-156.9466,        0.0,1,      0.061,1,      4.700,1,      0.130,1,     -999.0,     -999.0,9,     -999.0,9,     -999.0,9,     -999.0,9,     2.1068,2,     -999.0,9
320620170703,        P06,     131,          1,         13,         13,2,20170809,       1818,   -32.5001,  -156.9462,       5425,  1958.0,   2.3011,  34.6201,2,  34.6193,2, 150.9607,2, 152.1203,2,   107.5,2,   35.42,2,    0.00,2,    2.44,2,   0.024,2,   0.018,2,   0.0000,2,  2291.6,2, 2383.88,2,   7.5671,2, -999.00,9, -999.00,9, -999.00,  -999.0,9, -999.00,9,     -999.0,9,  -999.0,9, 20170809,     1717, -32.5000,-156.9465,        0.0,1,      0.061,1,      4.700,1,      0.130,1,      25.02,     -999.0,9,     -999.0,9,     -999.0,9,     -999.0,9,     2.2930,2,     -999.0,9
320620170703,        P06,     131,          1,         14,         14,2,20170809,       1818,   -32.5001,  -156.9462,       5425,  1753.2,   2.4999,  34.5881,2,  34.5928,2, 155.4991,2, 156.3220,2,    96.4,2,   35.14,2,    0.00,2,    2.43,2,   0.029,2,   0.023,2,   0.0000,2,  -999.0,9, -999.00,9,-999.0000,9, -999.00,9, -999.00,9, -999.00,  -999.0,9, -999.00,9,     -999.0,9,  -999.0,9, 20170809,     1721, -32.5001,-156.9459,        0.0,1,      0.061,1,      4.700,1,      0.132,1,     -999.0,     -999.0,9,     -999.0,9,     -999.0,9,     -999.0,9,     2.4775,2,     -999.0,9
320620170703,        P06,     131,          1,         15,         15,2,20170809,       1818,   -32.5001,  -156.9462,       5425,  1551.3,   2.7716,  34.5299,2,  34.5272,2, 164.3610,2, 164.3295,2,    78.4,2,   34.76,2,    0.00,2,    2.38,2,   0.067,2,   0.044,2,   0.0000,2,  2259.1,2, 2347.03,2,   7.5676,2, -999.00,9, -999.00,9, -999.00,  -999.0,9, -999.00,9,     -999.0,9,  -999.0,9, 20170809,     1726, -32.5001,-156.9458,        0.0,1,      0.061,1,      4.700,1,      0.132,1,      25.02,     -999.0,9,     -999.0,9,     -999.0,9,     -999.0,9,     2.7758,2,     -999.0,9
320620170703,        P06,     131,          1,         16,         16,2,20170809,       1818,   -32.5001,  -156.9462,       5425,  1377.5,   3.2002,  34.4429,2,  34.4567,2, 174.2371,2, 173.1007,2,    62.9,2,   34.27,2,    0.00,2,    2.34,2,   0.176,2,   0.104,2,   0.0000,2,  -999.0,9, -999.00,9,-999.0000,9, -999.00,9, -999.00,9, -999.00,  -999.0,9, -999.00,9,     -999.0,9,  -999.0,9, 20170809,     1730, -32.5000,-156.9462,        0.0,1,      0.061,1,      4.700,1,      0.132,1,     -999.0,     -999.0,9,     -999.0,9,     -999.0,9,     -999.0,9,     3.1222,2,     -999.0,9
320620170703,        P06,     131,          1,         17,         17,2,20170809,       1818,   -32.5001,  -156.9462,       5425,  1276.2,   3.5083,  34.3985,2,  34.4029,2, 183.0958,2, 181.5965,2,    51.9,2,   33.61,2,    0.00,2,    2.28,2,   0.383,2,   0.203,2,   0.0000,2,  2227.4,2, 2315.97,2,   7.5819,2, -999.00,9, -999.00,9, -999.00,  -999.0,9, -999.00,9,     -999.0,9,  -999.0,9, 20170809,     1733, -32.5000,-156.9467,        0.0,1,      0.061,1,      4.700,1,      0.132,1,      25.02,     -999.0,9,     -999.0,9,     -999.0,9,     -999.0,9,     3.4643,2,     -999.0,9
320620170703,        P06,     131,          1,         18,         18,2,20170809,       1818,   -32.5001,  -156.9462,       5425,  1175.0,   3.9967,  34.3532,2,  34.3582,2, 191.6814,2, 191.9314,2,    40.6,2,   32.40,2,    0.00,2,    2.21,2,   0.760,2,   0.362,2,   0.0000,2,  -999.0,9, -999.00,9,-999.0000,9, -999.00,9, -999.00,9, -999.00,  -999.0,9, -999.00,9,     -999.0,9,  -999.0,9, 20170809,     1735, -32.5000,-156.9468,        0.0,1,      0.061,1,      4.699,1,      0.133,1,     -999.0,     -999.0,9,     -999.0,9,     -999.0,9,     -999.0,9,     3.9236,2,     -999.0,9
320620170703,        P06,     131,          1,         19,         19,2,20170809,       1818,   -32.5001,  -156.9462,       5425,  1074.7,   4.5580,  34.3281,2,  34.3262,2, 202.6586,2, 201.9247,2,    29.4,2,   30.67,2,    0.00,2,    2.07,2,   1.172,2,   0.568,2,   0.3240,2,  2192.4,2, 2294.36,2,   7.6230,2, -999.00,9, -999.00,9, -999.00,  -999.0,9, -999.00,9,     -999.0,9,  -999.0,9, 20170809,     1738, -32.5000,-156.9468,        0.0,1,      0.060,1,      4.699,1,      0.134,1,      25.02,     -999.0,9,     -999.0,9,     -999.0,9,     -999.0,9,     4.5845,2,     -999.0,9
320620170703,        P06,     131,          1,         20,         20,2,20170809,       1818,   -32.5001,  -156.9462,       5425,   972.2,   5.1717,  34.3112,2,  34.3111,2, 214.1251,2, 212.4578,2,    21.5,2,   28.85,2,    0.00,2,    1.93,2,   1.632,2,   0.779,2,   0.2920,2,  -999.0,9, -999.00,9,-999.0000,9, -999.00,9, -999.00,9, -999.00,  -999.0,9, -999.00,9,     -999.0,9,  -999.0,9, 20170809,     1742, -32.5000,-156.9466,        0.0,1,      0.060,1,      4.698,1,      0.132,1,     -999.0,     -999.0,9,     -999.0,9,     -999.0,9,     -999.0,9,     5.1400,2,     -999.0,9
320620170703,        P06,     131,          1,         21,         21,2,20170809,       1818,   -32.5001,  -156.9462,       5425,   872.0,   5.7157,  34.3102,2,  34.3113,2, 226.3900,2, 225.3304,2,    14.2,2,   26.49,2,    0.00,2,    1.79,2,   2.283,2,   1.115,2,   0.4210,2,  2161.5,2, 2282.25,2,   7.6750,2, -999.00,9, -999.00,9, -999.00,  -999.0,9, -999.00,9,     -999.0,9,  -999.0,9, 20170809,     1744, -32.5001,-156.9463,        0.0,1,      0.059,1,      4.698,1,      0.132,1,      25.02,     -999.0,9,     -999.0,9,     -999.0,9,     -999.0,9,     5.7478,2,     -999.0,9
320620170703,        P06,     131,          1,         22,         22,2,20170809,       1818,   -32.5001,  -156.9462,       5425,   771.0,   6.2794,  34.3267,2,  34.3280,2, 234.2179,2, 236.1210,2,     9.6,2,   24.27,2,    0.00,2,    1.64,2,   2.980,2,   1.511,2,   0.8410,2,  2152.8,2, 2278.07,2,   7.6964,2, -999.00,9, -999.00,9, -999.00,  -999.0,9, -999.00,9,     -999.0,9,  -999.0,9, 20170809,     1747, -32.5001,-156.9461,        0.0,1,      0.059,1,      4.698,1,      0.134,1,      25.03,     -999.0,9,     -999.0,9,     -999.0,9,     -999.0,9,     6.3258,2,     -999.0,9
320620170703,        P06,     131,          1,         23,         23,2,20170809,       1818,   -32.5001,  -156.9462,       5425,   669.7,   6.8093,  34.3584,2,  34.3596,2, 237.5600,3, 239.9755,2,     7.2,2,   22.66,2,    0.00,2,    1.52,2,   3.431,2,   1.754,2,   0.8420,2,  2147.5,2, 2278.59,2,   7.7069,2, -999.00,9, -999.00,9, -999.00,  -999.0,9, -999.00,9,     -999.0,9,  -999.0,9, 20170809,     1750, -32.5001,-156.9460,        0.0,1,      0.059,1,      4.697,1,      0.133,1,      25.02,     -999.0,9,     -999.0,9,     -999.0,9,     -999.0,9,     6.8250,2,     -999.0,9
320620170703,        P06,     131,          1,         24,         24,2,20170809,       1818,   -32.5001,  -156.9462,       5425,   569.5,   7.2893,  34.3976,2,  34.4078,2, 236.5294,3, 239.8161,2,     5.6,2,   20.83,2,    0.00,2,    1.43,2,   3.557,2,   1.890,2,   1.1760,2,  2143.0,2, 2279.75,2,   7.7172,2, -999.00,9, -999.00,9, -999.00,  -999.0,9, -999.00,9,     -999.0,9,  -999.0,9, 20170809,     1753, -32.5003,-156.9458,        0.0,1,      0.059,1,      4.696,1,      0.135,1,      25.02,     -999.0,9,     -999.0,9,     -999.0,9,     -999.0,9,     7.4512,2,     -999.0,9
320620170703,        P06,     131,          1,         25,         25,2,20170809,       1818,   -32.5001,  -156.9462,       5425,   468.0,   8.2704,  34.4721,2,  34.4738,2, 229.0163,2, 231.0277,2,     4.4,2,   18.84,2,    0.00,2,    1.29,2,   3.382,2,   1.823,2,   1.5260,2,  2140.1,2, 2277.19,2,   7.7283,2, -999.00,9, -999.00,9, -999.00,  -999.0,9, -999.00,9,     -999.0,9,  -999.0,9, 20170809,     1756, -32.5002,-156.9459,        0.0,1,      0.059,1,      4.695,1,      0.136,1,      25.03,     -999.0,9,     -999.0,9,     -999.0,9,     -999.0,9,     8.3057,2,     -999.0,9
320620170703,        P06,     131,          1,         26,         26,2,20170809,       1818,   -32.5001,  -156.9462,       5425,   386.5,   9.8485,  34.6274,2,  34.6007,2, 219.5235,2, 218.7265,2,     3.3,2,   16.26,2,    0.00,2,    1.12,2,   3.117,2,   1.721,2,   1.1090,2,  2136.2,2, 2282.42,2,   7.7492,2, -999.00,9, -999.00,9, -999.00,  -999.0,9, -999.00,9,     -999.0,9,  -999.0,9, 20170809,     1758, -32.5001,-156.9463,        0.0,1,      0.059,1,      4.692,1,      0.138,1,      25.03,     -999.0,9,     -999.0,9,     -999.0,9,     -999.0,9,     9.6357,2,     -999.0,9
320620170703,        P06,     131,          1,         27,         27,2,20170809,       1818,   -32.5001,  -156.9462,       5425,   335.9,  11.2804,  34.8009,2,  34.8426,2, 214.8597,3, 209.6335,2,     2.4,2,   12.28,2,    0.00,2,    0.88,2,   2.917,2,   1.622,2,   1.5040,4,  2128.2,2, 2294.70,2,   7.7879,2, -999.00,9, -999.00,9, -999.00,  -999.0,9, -999.00,9,     -999.0,9,  -999.0,9, 20170809,     1801, -32.5000,-156.9466,        0.0,1,      0.059,1,      4.691,1,      0.137,1,      25.03,     -999.0,9,     -999.0,9,     -999.0,9,     -999.0,9,    11.5021,2,     -999.0,9
320620170703,        P06,     131,          1,         28,         28,2,20170809,       1818,   -32.5001,  -156.9462,       5425,   286.1,  12.8421,  35.0174,2,  35.0482,2, 216.3790,3, 210.1519,2,     1.7,2,    8.66,2,    0.00,2,    0.64,2,   2.713,2,   1.548,2,   1.2110,2,  -999.0,9, -999.00,9,-999.0000,9, -999.00,9, -999.00,9, -999.00,  -999.0,9, -999.00,9,     -999.0,9,  -999.0,9, 20170809,     1803, -32.5000,-156.9468,        0.0,1,      0.059,1,      4.690,1,      0.134,1,     -999.0,     -999.0,9,     -999.0,9,     -999.0,9,     -999.0,9,    13.0859,2,     -999.0,9
320620170703,        P06,     131,          1,         29,         29,2,20170809,       1818,   -32.5001,  -156.9462,       5425,   215.0,  14.6643,  35.2176,2,  35.2924,2, 230.0916,3, 226.5825,2,     0.4,2,    2.89,2,    0.07,2,    0.28,2,   1.865,2,   1.083,2,   0.7540,4,  2092.2,2, 2316.31,2,   7.9047,2, -999.00,9, -999.00,9, -999.00,  -999.0,9, -999.00,9,     -999.0,9,  -999.0,9, 20170809,     1805, -32.5000,-156.9468,        0.0,1,      0.065,1,      4.684,1,      0.138,1,      25.04,     -999.0,9,     -999.0,9,     -999.0,9,     -999.0,9,    15.1125,2,     -999.0,9
320620170703,        P06,     131,          1,         30,         30,2,20170809,       1818,   -32.5001,  -156.9462,       5425,   186.7,  15.7706,  35.3839,2,  35.4058,2, 234.0427,3, 236.6665,2,     0.1,2,    0.72,2,    0.08,2,    0.16,2,   2.406,2,   1.421,2,   1.5140,4,  2076.9,2, 2329.45,2,   7.9430,2, -999.00,9, -999.00,9, -999.00,  -999.0,9, -999.00,9,     -999.0,9,  -999.0,9, 20170809,     1807, -32.5000,-156.9469,        0.0,1,      0.084,1,      4.672,1,      0.152,1,      25.04,     -999.0,9,     -999.0,9,     -999.0,9,     -999.0,9,    15.9297,2,     -999.0,9
320620170703,        P06,     131,          1,         31,         31,2,20170809,       1818,   -32.5001,  -156.9462,       5425,   135.3,  16.2236,  35.4392,2,  35.4336,2, 232.4531,3, 237.9844,2,     0.1,2,    0.44,2,    0.04,2,    0.14,2,   2.376,2,   1.381,2,   1.7320,4,  2075.5,2, 2329.57,2,   7.9500,2, -999.00,9, -999.00,9, -999.00,  -999.0,9, -999.00,9,     -999.0,9,  -999.0,9, 20170809,     1809, -32.5000,-156.9469,        0.0,1,      0.135,1,      4.651,1,      0.177,1,      25.04,     -999.0,9,     -999.0,9,     -999.0,9,     -999.0,9,    16.1747,2,     -999.0,9
320620170703,        P06,     131,          1,         32,         32,2,20170809,       1818,   -32.5001,  -156.9462,       5425,    91.2,  16.6492,  35.4901,2,  35.5332,2, 232.0278,2, 234.3200,2,     0.1,2,    0.24,2,    0.02,2,    0.11,2,   2.303,2,   1.337,2,   1.4600,4,  -999.0,9, -999.00,9,-999.0000,9, -999.00,9, -999.00,9, -999.00,  -999.0,9, -999.00,9,     -999.0,9,  -999.0,9, 20170809,     1812, -32.5000,-156.9469,        0.0,1,      0.174,1,      4.636,1,      0.190,1,     -999.0,     -999.0,9,     -999.0,9,     -999.0,9,     -999.0,9,    17.0328,2,     -999.0,9