BOTTLE,20230922CCHSIOCBG
EXPOCODE,SECT_ID,STNNBR,CASTNO,SAMPNO,BTLNBR,BTLNBR_FLAG_W,DATE,TIME,LATITUDE,LONGITUDE,DEPTH,CTDPRS,CTDTMP,CTDSAL,CTDSAL_FLAG_W,SALNTY,SALNTY_FLAG_W,CTDOXY,CTDOXY_FLAG_W,OXYGEN,OXYGEN_FLAG_W,SILCAT,SILCAT_FLAG_W,NITRAT,NITRAT_FLAG_W,NITRIT,NITRIT_FLAG_W,PHSPHT,PHSPHT_FLAG_W,CFC-11,CFC-11_FLAG_W,CFC-12,CFC-12_FLAG_W,SF6,SF6_FLAG_W,TCARBN,TCARBN_FLAG_W,ALKALI,ALKALI_FLAG_W,PH_TOT,PH_TOT_FLAG_W,DELC13,DELC13_FLAG_W,DELC14,DELC14_FLAG_W,C14ERR,DOC,DOC_FLAG_W,TDN,TDN_FLAG_W,TON,TON_FLAG_W,D15N_NO3,D15N_NO3_FLAG_W,BTL_DATE,BTL_TIME,BTL_LAT,BTL_LON,CTDRINKO,CTDRINKO_FLAG_W,CTDFLUOR,CTDFLUOR_FLAG_W,CTDXMISS,CTDXMISS_FLAG_W,CTDBACKSCATTER,CTDBACKSCATTER_FLAG_W,PH_TMP,D18O_NO3,D18O_NO3_FLAG_W,DOP,DOP_FLAG_W,HPLC,HPLC_FLAG_W,POC,POC_FLAG_W,REFTMP,REFTMP_FLAG_W,TDP,TDP_FLAG_W
,,,,,,,,,,,METERS,DBAR,ITS-90,PSS-78,,PSS-78,,UMOL/KG,,UMOL/KG,,UMOL/KG,,UMOL/KG,,UMOL/KG,,UMOL/KG,,PMOL/KG,,PMOL/KG,,FMOL/KG,,UMOL/KG,,UMOL/KG,,,,/MILLE,,/MILLE,,/MILLE,UMOL/KG,,UMOL/KG,,UMOL/KG,,/MILLE,,,,,,VOLTS,,VOLTS,,VOLTS,,VOLTS,,DEGC,/MILLE,,UMOL/KG,,,,UG/L,,ITS-90,,UMOL/KG,
320620170703,        P06,      68,          1,          1,         37,2,20170718,       0025,   -30.0803,   173.1499,       1950,  1964.3,   2.4351,  34.6221,2,  34.6205,2, 155.4339,2, 155.1964,2,   107.4,2,   34.85,2,    0.00,2,    2.42,2,-999.000,9,-999.000,9,-999.0000,9,  2289.8,6, 2381.35,2,   7.5780,2, -999.00,9, -999.00,9, -999.00,  -999.0,9, -999.00,9,     -999.0,9,  -999.0,9, 20170717,     2317, -30.0801, 173.1501,        0.0,1,      0.061,1,      0.006,1,      0.159,1,      25.01,     -999.0,9,     -999.0,9,     -999.0,9,     -999.0,9,     2.4400,2,     -999.0,9
320620170703,        P06,      68,          1,          2,          2,2,20170718,       0025,   -30.0803,   173.1499,       1950,  1889.9,   2.5799,  34.6092,2,  34.6085,3, 156.5447,2, 157.0169,2,    95.4,3,   34.30,3,    0.00,3,    2.38,3,-999.000,9,-999.000,9,-999.0000,9,  2287.0,2, 2379.36,2,   7.5792,2, -999.00,9, -999.00,9, -999.00,  -999.0,9, -999.00,9,     -999.0,9,  -999.0,9, 20170717,     2320, -30.0802, 173.1499,        0.0,1,      0.061,1,      0.006,1,      0.151,1,      25.03,     -999.0,9,     -999.0,9,     -999.0,9,     -999.0,9,     2.5720,2,     -999.0,9
320620170703,        P06,      68,          1,          3,         38,2,20170718,       0025,   -30.0803,   173.1499,       1950,  1819.0,   2.6774,  34.6009,2,  34.5995,2, 157.4139,2, 157.3702,2,   100.3,2,   34.49,2,    0.00,2,    2.39,2,-999.000,9,-999.000,9,-999.0000,9,  2284.1,2, 2374.72,2,   7.5809,2, -999.00,9, -999.00,9, -999.00,  -999.0,9, -999.00,9,     -999.0,9,  -999.0,9, 20170717,     2322, -30.0802, 173.1497,        0.0,1,      0.061,1,      0.006,1,      0.151,1,      25.03,     -999.0,9,     -999.0,9,     -999.0,9,     -999.0,9,     2.6766,2,     -999.0,9
320620170703,        P06,      68,          1,          4,          4,2,20170718,       0025,   -30.0803,   173.1499,       1950,  1719.0,   2.8392,  34.5859,2,  34.5855,2, 158.9538,2, 158.5401,2,    95.7,2,   34.26,2,    0.00,2,    2.37,2,-999.000,9,-999.000,9,-999.0000,9,  2278.7,2, 2367.28,2,   7.5829,2, -999.00,9, -999.00,9, -999.00,  -999.0,9, -999.00,9,     -999.0,9,  -999.0,9, 20170717,     2325, -30.0802, 173.1496,        0.0,1,      0.061,1,      0.006,1,      0.146,1,      25.03,     -999.0,9,     -999.0,9,     -999.0,9,     -999.0,9,     2.8286,2,     -999.0,9
320620170703,        P06,      68,          1,          5,         39,2,20170718,       0025,   -30.0803,   173.1499,       1950,  1616.7,   3.0344,  34.5698,2,  34.5675,2, 161.2963,2, 161.3719,2,    88.9,2,   33.94,2,    0.00,2,    2.35,2,-999.000,9,-999.000,9,-999.0000,9,  2270.4,2, 2359.63,6,   7.5858,2, -999.00,9, -999.00,9, -999.00,  -999.0,9, -999.00,9,     -999.0,9,  -999.0,9, 20170717,     2328, -30.0802, 173.1499,        0.0,1,      0.061,1,      0.006,1,      0.143,1,      25.03,     -999.0,9,     -999.0,9,     -999.0,9,     -999.0,9,     3.0574,2,     -999.0,9
320620170703,        P06,      68,          1,          6,          6,2,20170718,       0025,   -30.0803,   173.1499,       1950,  1515.3,   3.2928,  34.5511,2,  34.5492,2, 164.4546,2, 164.6408,2,    82.2,2,   33.43,2,    0.00,2,    2.31,2,-999.000,9,-999.000,9,-999.0000,9,  -999.0,9, -999.00,9,-999.0000,9, -999.00,9, -999.00,9, -999.00,  -999.0,9, -999.00,9,     -999.0,9,  -999.0,9, 20170717,     2331, -30.0802, 173.1499,        0.0,1,      0.061,1,      0.006,1,      0.150,1,     -999.0,     -999.0,9,     -999.0,9,     -999.0,9,     -999.0,9,     3.2955,2,     -999.0,9
320620170703,        P06,      68,          1,          7,         40,2,20170718,       0025,   -30.0803,   173.1499,       1950,  1413.8,   3.5529,  34.5314,2,  34.5300,2, 167.5238,2, 167.4792,2,    75.0,2,   32.99,2,    0.00,2,    2.26,2,-999.000,9,-999.000,9,-999.0000,9,  2252.3,2, 2343.64,2,   7.5949,2, -999.00,9, -999.00,9, -999.00,  -999.0,9, -999.00,9,     -999.0,9,  -999.0,9, 20170717,     2334, -30.0802, 173.1498,        0.0,1,      0.062,1,      0.006,1,      0.143,1,      25.03,     -999.0,9,     -999.0,9,     -999.0,9,     -999.0,9,     3.5448,2,     -999.0,9
320620170703,        P06,      68,          1,          8,          8,2,20170718,       0025,   -30.0803,   173.1499,       1950,  1313.2,   4.0540,  34.4770,2,  34.4771,2, 174.8819,2, 175.1477,2,    59.5,2,   32.22,2,    0.00,2,    2.21,2,-999.000,9,-999.000,9,-999.0000,9,  -999.0,9, -999.00,9,-999.0000,9, -999.00,9, -999.00,9, -999.00,  -999.0,9, -999.00,9,     -999.0,9,  -999.0,9, 20170717,     2337, -30.0802, 173.1497,        0.0,1,      0.060,1,      0.006,1,      0.149,1,     -999.0,     -999.0,9,     -999.0,9,     -999.0,9,     -999.0,9,     4.0153,2,     -999.0,9
320620170703,        P06,      68,          1,          9,         41,2,20170718,       0025,   -30.0803,   173.1499,       1950,  1210.9,   4.7720,  34.4645,2,  34.4636,2, 182.7680,2, 182.8369,2,    46.9,2,   30.50,2,    0.00,2,    2.07,2,-999.000,9,-999.000,9,-999.0000,9,  2216.5,2, 2316.18,2,   7.6225,2, -999.00,9, -999.00,9, -999.00,  -999.0,9, -999.00,9,     -999.0,9,  -999.0,9, 20170717,     2340, -30.0802, 173.1497,        0.0,1,      0.060,1,      0.006,1,      0.141,1,      25.03,     -999.0,9,     -999.0,9,     -999.0,9,     -999.0,9,     4.7748,2,     -999.0,9
320620170703,        P06,      68,          1,         10,         10,2,20170718,       0025,   -30.0803,   173.1499,       1950,  1109.9,   5.2659,  34.4588,2,  34.4579,2, 187.6707,2, 187.3077,2,    39.8,2,   29.44,2,    0.00,2,    1.99,2,-999.000,9,-999.000,9,-999.0000,9,  2207.7,2, 2311.03,2,   7.6330,2, -999.00,9, -999.00,9, -999.00,  -999.0,9, -999.00,9,     -999.0,9,  -999.0,9, 20170717,     2343, -30.0802, 173.1498,        0.0,1,      0.060,1,      0.006,1,      0.140,1,      25.03,     -999.0,9,     -999.0,9,     -999.0,9,     -999.0,9,     5.2029,2,     -999.0,9
320620170703,        P06,      68,          1,         11,         42,2,20170718,       0025,   -30.0803,   173.1499,       1950,  1008.3,   5.8481,  34.4501,2,  34.4487,2, 194.1229,2, 193.5244,2,    32.2,2,   28.30,2,    0.00,2,    1.91,2,-999.000,9,-999.000,9,-999.0000,9,  2195.0,2, 2286.38,2,   7.6463,2, -999.00,9, -999.00,9, -999.00,  -999.0,9, -999.00,9,     -999.0,9,  -999.0,9, 20170717,     2346, -30.0802, 173.1498,        0.0,1,      0.060,1,      1.954,1,      0.141,1,      25.02,     -999.0,9,     -999.0,9,     -999.0,9,     -999.0,9,     5.6283,2,     -999.0,9
320620170703,        P06,      68,          1,         12,         12,2,20170718,       0025,   -30.0803,   173.1499,       1950,   907.9,   6.4782,  34.4694,2,  34.4648,2, 199.9811,2, 200.5984,2,    23.0,2,   26.16,2,    0.00,2,    1.75,2,-999.000,9,-999.000,9,-999.0000,9,  2177.3,2, 2295.48,2,   7.6685,2, -999.00,9, -999.00,9, -999.00,  -999.0,9, -999.00,9,     -999.0,9,  -999.0,9, 20170717,     2349, -30.0802, 173.1497,        0.0,1,      0.060,1,      4.602,1,      0.140,1,      25.03,     -999.0,9,     -999.0,9,     -999.0,9,     -999.0,9,     6.4505,2,     -999.0,9
320620170703,        P06,      68,          1,         13,         43,2,20170718,       0025,   -30.0803,   173.1499,       1950,   805.7,   7.3047,  34.5217,2,  34.5199,2, 204.1097,2, 204.1443,2,    16.4,2,   23.93,2,    0.00,2,    1.60,2,-999.000,9,-999.000,9,-999.0000,9,  2166.5,2, 2290.45,2,   7.6899,2, -999.00,9, -999.00,9, -999.00,  -999.0,9, -999.00,9,     -999.0,9,  -999.0,9, 20170717,     2352, -30.0802, 173.1498,        0.0,1,      0.060,1,      0.006,1,      0.142,1,      25.04,     -999.0,9,     -999.0,9,     -999.0,9,     -999.0,9,     7.3763,2,     -999.0,9
320620170703,        P06,      68,          1,         14,         14,2,20170718,       0025,   -30.0803,   173.1499,       1950,   706.4,   8.2020,  34.5841,2,  34.5800,2, 204.9929,2, 205.0834,2,    12.3,2,   22.00,2,    0.00,2,    1.46,2,-999.000,9,-999.000,9,-999.0000,9,  -999.0,9, -999.00,9,-999.0000,9, -999.00,9, -999.00,9, -999.00,  -999.0,9, -999.00,9,     -999.0,9,  -999.0,9, 20170717,     2355, -30.0802, 173.1501,        0.0,1,      0.059,1,      0.006,1,      0.148,1,     -999.0,     -999.0,9,     -999.0,9,     -999.0,9,     -999.0,9,     8.2052,2,     -999.0,9
320620170703,        P06,      68,          1,         15,         15,2,20170718,       0025,   -30.0803,   173.1499,       1950,   604.5,   9.3955,  34.7103,2,  34.7302,2, 201.1434,2, 201.3270,2,     8.8,2,   19.08,2,    0.00,2,    1.26,2,-999.000,9,-999.000,9,-999.0000,9,  2150.1,2, 2289.52,2,   7.7364,2, -999.00,9, -999.00,9, -999.00,  -999.0,9, -999.00,9,     -999.0,9,  -999.0,9, 20170717,     2358, -30.0801, 173.1503,        0.0,1,      0.060,1,      0.006,1,      0.144,1,      25.02,     -999.0,9,     -999.0,9,     -999.0,9,     -999.0,9,     9.6584,2,     -999.0,9
320620170703,        P06,      68,          1,         16,         16,2,20170718,       0025,   -30.0803,   173.1499,       1950,   503.3,  11.0808,  34.9097,2,  34.9040,2, 199.5223,2, 199.0639,2,     6.6,2,   16.02,2,    0.00,2,    1.07,2,-999.000,9,-999.000,9,-999.0000,9,  -999.0,9, -999.00,9,-999.0000,9, -999.00,9, -999.00,9, -999.00,  -999.0,9, -999.00,9,     -999.0,9,  -999.0,9, 20170718,        1, -30.0800, 173.1506,        0.0,1,      0.060,1,      0.006,1,      0.149,1,     -999.0,     -999.0,9,     -999.0,9,     -999.0,9,     -999.0,9,    11.0454,2,     -999.0,9
320620170703,        P06,      68,          1,         17,         17,2,20170718,       0025,   -30.0803,   173.1499,       1950,   402.1,  12.7096,  35.1048,2,  35.0900,2, 199.5555,2, 199.7369,2,     4.8,2,   12.74,2,    0.00,2,    0.84,2,-999.000,9,-999.000,9,-999.0000,9,  2129.1,2, 2307.54,2,   7.8083,2, -999.00,9, -999.00,9, -999.00,  -999.0,9, -999.00,9,     -999.0,9,  -999.0,9, 20170718,        5, -30.0800, 173.1506,        0.0,1,      0.060,1,      0.006,1,      0.148,1,      25.03,     -999.0,9,     -999.0,9,     -999.0,9,     -999.0,9,    12.6735,2,     -999.0,9
320620170703,        P06,      68,          1,         18,         18,2,20170718,       0025,   -30.0803,   173.1499,       1950,   352.8,  14.1427,  35.2602,2,  35.2408,2, 199.3832,2, 199.5368,2,     3.2,2,   10.19,2,    0.00,2,    0.69,2,-999.000,9,-999.000,9,-999.0000,9,  2118.3,2, 2311.66,2,   7.8434,2, -999.00,9, -999.00,9, -999.00,  -999.0,9, -999.00,9,     -999.0,9,  -999.0,9, 20170718,        7, -30.0800, 173.1506,        0.0,1,      0.060,1,      0.006,1,      0.149,1,      25.03,     -999.0,9,     -999.0,9,     -999.0,9,     -999.0,9,    14.0887,2,     -999.0,9
320620170703,        P06,      68,          1,         19,         19,2,20170718,       0025,   -30.0803,   173.1499,       1950,   301.5,  15.8990,  35.4331,2,  35.3886,2, 197.0920,2, 196.7302,2,     2.2,2,    8.17,2,    0.00,2,    0.56,2,-999.000,9,-999.000,9,-999.0000,9,  -999.0,9, -999.00,9,-999.0000,9, -999.00,9, -999.00,9, -999.00,  -999.0,9, -999.00,9,     -999.0,9,  -999.0,9, 20170718,        9, -30.0800, 173.1507,        0.0,1,      0.059,1,      0.006,1,      0.150,1,     -999.0,     -999.0,9,     -999.0,9,     -999.0,9,     -999.0,9,    15.4755,2,     -999.0,9
320620170703,        P06,      68,          1,         20,         20,2,20170718,       0025,   -30.0803,   173.1499,       1950,   251.5,  16.9600,  35.5344,2,  35.5346,2, 197.3949,2, 197.4652,2,     1.4,2,    5.97,2,    0.02,2,    0.42,2,-999.000,9,-999.000,9,-999.0000,9,  2094.5,2, 2327.17,2,   7.9168,2, -999.00,9, -999.00,9, -999.00,  -999.0,9, -999.00,9,     -999.0,9,  -999.0,9, 20170718,       11, -30.0800, 173.1508,        0.0,1,      0.061,1,      0.006,1,      0.154,1,      25.03,     -999.0,9,     -999.0,9,     -999.0,9,     -999.0,9,    17.0046,2,     -999.0,9
320620170703,        P06,      68,          1,         21,         21,2,20170718,       0025,   -30.0803,   173.1499,       1950,   199.9,  18.3847,  35.6899,2,  35.7568,2, 222.7311,3, 220.1834,2,     0.4,2,    1.37,2,    0.21,2,    0.15,2,-999.000,9,-999.000,9,-999.0000,9,  -999.0,9, -999.00,9,-999.0000,9, -999.00,9, -999.00,9, -999.00,  -999.0,9, -999.00,9,     -999.0,9,  -999.0,9, 20170718,       13, -30.0800, 173.1508,        0.0,1,      0.082,1,      1.893,1,      0.165,1,     -999.0,     -999.0,9,     -999.0,9,     -999.0,9,     -999.0,9,    18.7463,2,     -999.0,9
320620170703,        P06,      68,          1,         22,         22,2,20170718,       0025,   -30.0803,   173.1499,       1950,   176.4,  18.8445,  35.7763,2,  35.7786,2, 222.8078,2, 222.9763,2,     0.1,2,    0.94,2,    0.23,2,    0.12,2,-999.000,9,-999.000,9,-999.0000,9,  2063.4,2, 2342.61,2,   7.9967,2, -999.00,9, -999.00,9, -999.00,  -999.0,9, -999.00,9,     -999.0,9,  -999.0,9, 20170718,       15, -30.0800, 173.1507,        0.0,1,      0.124,1,      2.101,1,      0.180,1,      25.04,     -999.0,9,     -999.0,9,     -999.0,9,     -999.0,9,    18.8588,2,     -999.0,9
320620170703,        P06,      68,          1,         23,         23,2,20170718,       0025,   -30.0803,   173.1499,       1950,   150.6,  18.9021,  35.7872,2,  35.7955,2, 224.5031,2, 224.3134,2,     0.2,2,    0.79,2,    0.22,2,    0.10,2,-999.000,9,-999.000,9,-999.0000,9,  2063.7,2, 2346.90,2,   8.0000,2, -999.00,9, -999.00,9, -999.00,  -999.0,9, -999.00,9,     -999.0,9,  -999.0,9, 20170718,       16, -30.0800, 173.1506,        0.0,1,      0.134,1,      3.724,1,      0.190,1,      25.02,     -999.0,9,     -999.0,9,     -999.0,9,     -999.0,9,    18.9471,2,     -999.0,9
320620170703,        P06,      68,          1,         24,         24,2,20170718,       0025,   -30.0803,   173.1499,       1950,   125.0,  18.9504,  35.7943,2,  35.7961,2, 224.3798,2, 224.0335,2,     0.3,2,    0.80,2,    0.21,2,    0.11,2,-999.000,9,-999.000,9,-999.0000,9,  2062.7,2, 2343.06,2,   8.0013,2, -999.00,9, -999.00,9, -999.00,  -999.0,9, -999.00,9,     -999.0,9,  -999.0,9, 20170718,       18, -30.0801, 173.1504,        0.0,1,      0.168,1,      4.163,1,      0.196,1,      25.04,     -999.0,9,     -999.0,9,     -999.0,9,     -999.0,9,    18.9523,2,     -999.0,9
320620170703,        P06,      68,          1,         25,         25,2,20170718,       0025,   -30.0803,   173.1499,       1950,   100.7,  18.9651,  35.7969,2,  35.7969,2, 224.2065,2, 224.9812,2,     0.3,2,    0.80,2,    0.21,2,    0.10,2,-999.000,9,-999.000,9,-999.0000,9,  2062.8,2, 2345.79,2,   8.0008,2, -999.00,9, -999.00,9, -999.00,  -999.0,9, -999.00,9,     -999.0,9,  -999.0,9, 20170718,       19, -30.0802, 173.1502,        0.0,1,      0.175,1,      1.276,1,      0.199,1,      25.02,     -999.0,9,     -999.0,9,     -999.0,9,     -999.0,9,    18.9569,2,     -999.0,9
320620170703,        P06,      68,          1,         26,         26,2,20170718,       0025,   -30.0803,   173.1499,       1950,    75.5,  18.9758,  35.7997,2,  35.7997,2, 225.4425,2, 210.8093,3,     0.3,2,    0.79,2,    0.20,2,    0.11,2,-999.000,9,-999.000,9,-999.0000,9,  2062.2,2, 2344.00,2,   8.0010,2, -999.00,9, -999.00,9, -999.00,  -999.0,9, -999.00,9,     -999.0,9,  -999.0,9, 20170718,       21, -30.0803, 173.1500,        0.0,1,      0.178,1,      2.011,1,      0.203,1,      25.02,     -999.0,9,     -999.0,9,     -999.0,9,     -999.0,9,    18.9779,2,     -999.0,9
320620170703,        P06,      68,          1,         27,         27,2,20170718,       0025,   -30.0803,   173.1499,       1950,    49.7,  18.9740,  35.7994,2,  35.7995,2, 225.0928,2, 224.6567,2,     0.4,2,    0.77,2,    0.20,2,    0.12,2,-999.000,9,-999.000,9,-999.0000,9,  -999.0,9, -999.00,9,-999.0000,9, -999.00,9, -999.00,9, -999.00,  -999.0,9, -999.00,9,     -999.0,9,  -999.0,9, 20170718,       22, -30.0803, 173.1499,        0.0,1,      0.182,1,      0.007,1,      0.204,1,     -999.0,     -999.0,9,     -999.0,9,     -999.0,9,     -999.0,9,    18.9819,2,     -999.0,9
320620170703,        P06,      68,          1,         28,         28,2,20170718,       0025,   -30.0803,   173.1499,       1950,    24.7,  18.9630,  35.7957,2,  35.7993,2, 225.9970,2, 225.0093,2,     0.3,2,    0.77,2,    0.20,2,    0.12,2,-999.000,9,-999.000,9,-999.0000,9,  2061.5,2, 2346.30,2,   8.0026,2, -999.00,9, -999.00,9, -999.00,  -999.0,9, -999.00,9,     -999.0,9,  -999.0,9, 20170718,       24, -30.0803, 173.1498,        0.0,1,      0.173,1,      0.014,1,      0.203,1,      25.02,     -999.0,9,     -999.0,9,     -999.0,9,     -999.0,9,    18.9881,2,     -999.0,9
320620170703,        P06,      68,          1,         29,         29,2,20170718,       0025,   -30.0803,   173.1499,       1950,     3.7,  18.9626,  35.7946,2,  35.7975,2, 225.9970,2, 225.3646,2,     0.4,2,    0.79,2,    0.20,2,    0.12,2,-999.000,9,-999.000,9,-999.0000,9,  2061.2,6, 2347.24,2,   8.0018,2, -999.00,9, -999.00,9, -999.00,  -999.0,9, -999.00,9,     -999.0,9,  -999.0,9, 20170718,       25, -30.0803, 173.1499,        0.0,1,      0.120,1,      3.166,1,      0.187,1,      25.03,     -999.0,9,     -999.0,9,     -999.0,9,     -999.0,9,    18.9973,2,     -999.0,9