BOTTLE,20230922CCHSIOCBG
EXPOCODE,SECT_ID,STNNBR,CASTNO,SAMPNO,BTLNBR,BTLNBR_FLAG_W,DATE,TIME,LATITUDE,LONGITUDE,DEPTH,CTDPRS,CTDTMP,CTDSAL,CTDSAL_FLAG_W,SALNTY,SALNTY_FLAG_W,CTDOXY,CTDOXY_FLAG_W,OXYGEN,OXYGEN_FLAG_W,SILCAT,SILCAT_FLAG_W,NITRAT,NITRAT_FLAG_W,NITRIT,NITRIT_FLAG_W,PHSPHT,PHSPHT_FLAG_W,CFC-11,CFC-11_FLAG_W,CFC-12,CFC-12_FLAG_W,SF6,SF6_FLAG_W,TCARBN,TCARBN_FLAG_W,ALKALI,ALKALI_FLAG_W,PH_TOT,PH_TOT_FLAG_W,DELC13,DELC13_FLAG_W,DELC14,DELC14_FLAG_W,C14ERR,DOC,DOC_FLAG_W,TDN,TDN_FLAG_W,TON,TON_FLAG_W,D15N_NO3,D15N_NO3_FLAG_W,BTL_DATE,BTL_TIME,BTL_LAT,BTL_LON,CTDRINKO,CTDRINKO_FLAG_W,CTDFLUOR,CTDFLUOR_FLAG_W,CTDXMISS,CTDXMISS_FLAG_W,CTDBACKSCATTER,CTDBACKSCATTER_FLAG_W,PH_TMP,D18O_NO3,D18O_NO3_FLAG_W,DOP,DOP_FLAG_W,HPLC,HPLC_FLAG_W,POC,POC_FLAG_W,REFTMP,REFTMP_FLAG_W,TDP,TDP_FLAG_W
,,,,,,,,,,,METERS,DBAR,ITS-90,PSS-78,,PSS-78,,UMOL/KG,,UMOL/KG,,UMOL/KG,,UMOL/KG,,UMOL/KG,,UMOL/KG,,PMOL/KG,,PMOL/KG,,FMOL/KG,,UMOL/KG,,UMOL/KG,,,,/MILLE,,/MILLE,,/MILLE,UMOL/KG,,UMOL/KG,,UMOL/KG,,/MILLE,,,,,,VOLTS,,VOLTS,,VOLTS,,VOLTS,,DEGC,/MILLE,,UMOL/KG,,,,UG/L,,ITS-90,,UMOL/KG,
320620170703,        P06,      75,          1,         33,         33,2,20170719,       1713,   -30.0803,   175.9992,       4262,    64.7,  18.6756,  35.7788,2,  35.7756,2, 227.4676,2, 226.1895,2,     0.4,2,    0.55,2,    0.09,2,    0.10,2,   1.811,2,   1.193,2,-999.0000,5,  2065.8,2, 2343.01,2,   7.9942,2, -999.00,9, -999.00,9, -999.00,  -999.0,9, -999.00,9,     -999.0,9,  -999.0,1, 20170719,     1709, -30.0803, 175.9991,        0.0,1,      0.218,1,      0.085,1,      0.249,1,      25.02,     -999.0,1,     -999.0,1,     -999.0,9,     -999.0,9,    18.6661,2,       0.32,2
320620170703,        P06,      75,          1,         34,         34,2,20170719,       1713,   -30.0803,   175.9992,       4262,    41.1,  18.7184,  35.7765,2,  35.7742,2, 229.0930,2, 227.3517,2,     0.3,2,    0.48,2,    0.08,2,    0.11,2,-999.000,9,-999.000,9,-999.0000,9,  2069.1,2, -999.00,5,   7.9964,2, -999.00,9, -999.00,9, -999.00,  -999.0,9, -999.00,9,     -999.0,9,  -999.0,1, 20170719,     1710, -30.0803, 175.9991,        0.0,1,      0.237,1,      4.253,1,      0.251,1,      25.04,     -999.0,1,     -999.0,1,     -999.0,9,     -999.0,9,    18.7182,2,        0.3,2
320620170703,        P06,      75,          1,         35,         35,2,20170719,       1713,   -30.0803,   175.9992,       4262,    19.2,  18.7154,  35.7763,2,  35.7734,2, 229.0930,2, 227.8261,2,     0.3,2,    0.46,2,    0.07,2,    0.10,2,   1.809,2,   1.200,2,-999.0000,5,  2064.3,2, -999.00,5,   7.9953,2, -999.00,9, -999.00,9, -999.00,  -999.0,9, -999.00,9,     -999.0,9,  -999.0,1, 20170719,     1712, -30.0803, 175.9992,        0.0,1,      0.236,1,      4.587,1,      0.248,1,      25.04,     -999.0,1,     -999.0,1,     -999.0,9,     -999.0,9,    18.7458,2,        0.2,2
320620170703,        P06,      75,          1,         36,         36,2,20170719,       1713,   -30.0803,   175.9992,       4262,     4.3,  18.7122,  35.7763,2,  35.7720,2, 229.0930,2, 228.1273,2,     0.3,2,    0.45,2,    0.07,2,    0.11,2,   1.242,4,   1.203,2,-999.0000,5,  2065.5,6, 2341.01,2,   7.9956,2, -999.00,9, -999.00,9, -999.00,  -999.0,9, -999.00,9,     -999.0,9,  -999.0,1, 20170719,     1713, -30.0803, 175.9992,        0.0,1,      0.242,1,      3.757,1,      0.246,1,      25.04,     -999.0,1,     -999.0,1,     -999.0,9,     -999.0,9,    18.7405,2,     -999.0,9