BOTTLE,20230922CCHSIOCBG
EXPOCODE,SECT_ID,STNNBR,CASTNO,SAMPNO,BTLNBR,BTLNBR_FLAG_W,DATE,TIME,LATITUDE,LONGITUDE,DEPTH,CTDPRS,CTDTMP,CTDSAL,CTDSAL_FLAG_W,SALNTY,SALNTY_FLAG_W,CTDOXY,CTDOXY_FLAG_W,OXYGEN,OXYGEN_FLAG_W,SILCAT,SILCAT_FLAG_W,NITRAT,NITRAT_FLAG_W,NITRIT,NITRIT_FLAG_W,PHSPHT,PHSPHT_FLAG_W,CFC-11,CFC-11_FLAG_W,CFC-12,CFC-12_FLAG_W,SF6,SF6_FLAG_W,TCARBN,TCARBN_FLAG_W,ALKALI,ALKALI_FLAG_W,PH_TOT,PH_TOT_FLAG_W,DELC13,DELC13_FLAG_W,DELC14,DELC14_FLAG_W,C14ERR,DOC,DOC_FLAG_W,TDN,TDN_FLAG_W,TON,TON_FLAG_W,D15N_NO3,D15N_NO3_FLAG_W,BTL_DATE,BTL_TIME,BTL_LAT,BTL_LON,CTDRINKO,CTDRINKO_FLAG_W,CTDFLUOR,CTDFLUOR_FLAG_W,CTDXMISS,CTDXMISS_FLAG_W,CTDBACKSCATTER,CTDBACKSCATTER_FLAG_W,PH_TMP,D18O_NO3,D18O_NO3_FLAG_W,DOP,DOP_FLAG_W,HPLC,HPLC_FLAG_W,POC,POC_FLAG_W,REFTMP,REFTMP_FLAG_W,TDP,TDP_FLAG_W
,,,,,,,,,,,METERS,DBAR,ITS-90,PSS-78,,PSS-78,,UMOL/KG,,UMOL/KG,,UMOL/KG,,UMOL/KG,,UMOL/KG,,UMOL/KG,,PMOL/KG,,PMOL/KG,,FMOL/KG,,UMOL/KG,,UMOL/KG,,,,/MILLE,,/MILLE,,/MILLE,UMOL/KG,,UMOL/KG,,UMOL/KG,,/MILLE,,,,,,VOLTS,,VOLTS,,VOLTS,,VOLTS,,DEGC,/MILLE,,UMOL/KG,,,,UG/L,,ITS-90,,UMOL/KG,
320620170703,        P06,     119,          1,          1,          1,2,20170803,       2223,   -32.5005,  -165.1636,       6365,  6129.2,   1.1842,  34.7067,2,  34.7089,2, 206.0733,2, 207.1920,2,   122.4,2,   32.21,2,    0.00,2,    2.24,2,   0.212,2,   0.114,2,   0.0000,2,  2265.2,6, 2367.08,2,   7.6049,2, -999.00,9, -999.00,9, -999.00,    49.7,3, -999.00,9,     -999.0,1,  -999.0,9, 20170803,     1929, -32.4998,-165.1635,        0.0,1,      0.061,1,      4.694,1,      0.130,1,      25.00,     -999.0,9,     -999.0,9,     -999.0,9,     -999.0,9,     1.1845,2,     -999.0,9
320620170703,        P06,     119,          1,          2,          2,2,20170803,       2223,   -32.5005,  -165.1636,       6365,  5800.7,   1.1394,  34.7071,2,  34.7089,2, 206.0733,2, 206.9248,2,   122.4,2,   32.22,2,    0.00,2,    2.23,2,   0.208,2,   0.113,2,   0.0000,2,  2264.2,2, 2366.64,2,   7.6055,2, -999.00,9, -999.00,9, -999.00,  -999.0,9, -999.00,9,     -999.0,9,  -999.0,9, 20170803,     1941, -32.4999,-165.1634,        0.0,1,      0.061,1,      4.694,1,      0.129,1,      25.03,     -999.0,9,     -999.0,9,     -999.0,9,     -999.0,9,     1.1396,2,     -999.0,9
320620170703,        P06,     119,          1,          3,          3,2,20170803,       2223,   -32.5005,  -165.1636,       6365,  5471.1,   1.0959,  34.7073,2,  34.7087,2, 206.0733,2, 206.6667,2,   122.3,2,   32.20,2,    0.00,2,    2.24,2,   0.208,2,   0.113,2,   0.0000,2,  2264.0,2, 2370.83,2,   7.6058,2, -999.00,9, -999.00,9, -999.00,    39.9,2, -999.00,9,     -999.0,1,  -999.0,9, 20170803,     1952, -32.4999,-165.1638,        0.0,1,      0.061,1,      4.695,1,      0.129,1,      25.02,     -999.0,9,     -999.0,9,     -999.0,9,     -999.0,9,     1.0961,2,     -999.0,9
320620170703,        P06,     119,          1,          4,          4,2,20170803,       2223,   -32.5005,  -165.1636,       6365,  5161.1,   1.0617,  34.7073,2,  34.7099,2, 206.0733,2, 206.6785,2,   122.3,2,   32.26,2,    0.00,2,    2.22,2,   0.202,2,   0.111,2,   0.0000,2,  -999.0,9, -999.00,9,-999.0000,9, -999.00,9, -999.00,9, -999.00,  -999.0,9, -999.00,9,     -999.0,9,  -999.0,9, 20170803,     2001, -32.5005,-165.1629,        0.0,1,      0.061,1,      4.696,1,      0.127,1,     -999.0,     -999.0,9,     -999.0,9,     -999.0,9,     -999.0,9,     1.0616,2,     -999.0,9
320620170703,        P06,     119,          1,          5,          5,2,20170803,       2223,   -32.5005,  -165.1636,       6365,  4852.5,   1.0457,  34.7083,2,  34.7097,2, 206.0733,2, 206.5521,2,   121.7,2,   32.17,2,    0.00,2,    2.23,2,   0.182,2,   0.101,2,   0.0000,2,  2264.9,2, 2366.88,2,   7.6063,2, -999.00,9, -999.00,9, -999.00,    42.8,2, -999.00,9,     -999.0,1,  -999.0,9, 20170803,     2010, -32.5007,-165.1625,        0.0,1,      0.061,1,      4.698,1,      0.125,1,      25.04,     -999.0,9,     -999.0,9,     -999.0,9,     -999.0,9,     1.0451,2,     -999.0,9
320620170703,        P06,     119,          1,          6,          6,2,20170803,       2223,   -32.5005,  -165.1636,       6365,  4544.3,   1.0573,  34.7101,2,  34.7109,2, 206.0733,2, 205.6462,2,   120.5,2,   32.12,2,    0.00,2,    2.22,2,   0.157,2,   0.087,2,   0.0000,2,  -999.0,9, -999.00,9,-999.0000,9, -999.00,9, -999.00,9, -999.00,  -999.0,9, -999.00,9,     -999.0,9,  -999.0,9, 20170803,     2018, -32.5005,-165.1629,        0.0,1,      0.061,1,      4.699,1,      0.125,1,     -999.0,     -999.0,9,     -999.0,9,     -999.0,9,     -999.0,9,     1.0539,2,     -999.0,9
320620170703,        P06,     119,          1,          7,          7,2,20170803,       2223,   -32.5005,  -165.1636,       6365,  4235.1,   1.1591,  34.7150,2,  34.7166,2, 206.6377,3, 203.9319,2,   116.9,2,   31.98,2,    0.00,2,    2.21,2,   0.114,2,   0.066,2,   0.0000,2,  2262.8,2, 2371.34,2,   7.6076,2, -999.00,9, -999.00,9, -999.00,    40.5,2, -999.00,9,     -999.0,1,  -999.0,9, 20170803,     2026, -32.5004,-165.1631,        0.0,1,      0.061,1,      4.700,1,      0.127,1,      25.02,     -999.0,9,     -999.0,9,     -999.0,9,     -999.0,9,     1.1510,2,     -999.0,9
320620170703,        P06,     119,          1,          8,          8,2,20170803,       2223,   -32.5005,  -165.1636,       6365,  3927.8,   1.3794,  34.7197,2,  34.7272,2, 197.9517,2, 198.6791,2,   111.7,2,   31.89,2,    0.00,2,    2.21,2,   0.079,2,   0.050,2,   0.0000,2,  -999.0,9, -999.00,9,-999.0000,9, -999.00,9, -999.00,9, -999.00,  -999.0,9, -999.00,9,     -999.0,9,  -999.0,9, 20170803,     2033, -32.5005,-165.1629,        0.0,1,      0.061,1,      4.700,1,      0.127,1,     -999.0,     -999.0,9,     -999.0,9,     -999.0,9,     -999.0,9,     1.3637,2,     -999.0,9
320620170703,        P06,     119,          1,          9,          9,2,20170803,       2223,   -32.5005,  -165.1636,       6365,  3620.2,   1.5705,  34.7083,2,  34.7099,2, 184.2212,2, 182.9226,2,   114.5,2,   32.94,2,    0.00,2,    2.29,2,   0.046,2,   0.031,2,   0.0000,2,  2277.7,2, 2386.53,2,   7.5952,2, -999.00,9, -999.00,9, -999.00,    40.8,2, -999.00,9,     -999.0,1,  -999.0,9, 20170803,     2040, -32.5003,-165.1634,        0.0,1,      0.061,1,      4.700,1,      0.127,1,      25.02,     -999.0,9,     -999.0,9,     -999.0,9,     -999.0,9,     1.5716,2,     -999.0,9
320620170703,        P06,     119,          1,         10,         10,2,20170803,       2223,   -32.5005,  -165.1636,       6365,  3313.9,   1.7050,  34.6864,2,  34.6926,2, 165.9791,3, 164.2433,2,   124.2,2,   34.61,2,    0.00,2,    2.42,2,   0.035,2,   0.025,2,   0.0000,2,  -999.0,9, -999.00,9,-999.0000,9, -999.00,9, -999.00,9, -999.00,  -999.0,9, -999.00,9,     -999.0,9,  -999.0,9, 20170803,     2046, -32.5003,-165.1634,        0.0,1,      0.060,1,      4.700,1,      0.127,1,     -999.0,     -999.0,9,     -999.0,9,     -999.0,9,     -999.0,9,     1.7026,2,     -999.0,9
320620170703,        P06,     119,          1,         11,         11,2,20170803,       2223,   -32.5005,  -165.1636,       6365,  3058.0,   1.8030,  34.6708,2,  34.6773,2, 154.6856,3, 152.8427,2,   128.9,2,   35.59,2,    0.00,2,    2.48,2,   0.030,2,   0.023,2,   0.0000,2,  2314.4,2, 2405.48,6,   7.5717,2, -999.00,9, -999.00,9, -999.00,    37.3,2, -999.00,9,     -999.0,1,  -999.0,9, 20170803,     2053, -32.5001,-165.1637,        0.0,1,      0.061,1,      4.700,1,      0.129,1,      25.02,     -999.0,9,     -999.0,9,     -999.0,9,     -999.0,9,     1.7971,2,     -999.0,9
320620170703,        P06,     119,          1,         12,         12,2,20170803,       2223,   -32.5005,  -165.1636,       6365,  2802.3,   1.8789,  34.6619,2,  34.6708,2, 148.8934,2, 148.4605,2,   128.7,2,   35.97,2,    0.00,2,    2.51,2,   0.029,2,   0.021,2,   0.0000,2,  -999.0,9, -999.00,9,-999.0000,9, -999.00,9, -999.00,9, -999.00,  -999.0,9, -999.00,9,     -999.0,9,  -999.0,9, 20170803,     2058, -32.5001,-165.1638,        0.0,1,      0.061,1,      4.700,1,      0.130,1,     -999.0,     -999.0,9,     -999.0,9,     -999.0,9,     -999.0,9,     1.8762,2,     -999.0,9
320620170703,        P06,     119,          1,         13,         13,2,20170803,       2223,   -32.5005,  -165.1636,       6365,  2548.0,   1.9707,  34.6530,2,  34.6551,2, 146.3940,2, 147.4691,2,   125.7,2,   36.08,2,    0.00,2,    2.52,2,   0.032,2,   0.024,2,   0.0000,2,  2314.4,6, 2403.67,2,   7.5655,2, -999.00,9, -999.00,9, -999.00,    37.2,2, -999.00,9,     -999.0,1,  -999.0,9, 20170803,     2105, -32.5000,-165.1639,        0.0,1,      0.062,1,      4.701,1,      0.130,1,      25.01,     -999.0,9,     -999.0,9,     -999.0,9,     -999.0,9,     1.9661,2,     -999.0,9
320620170703,        P06,     119,          1,         14,         14,2,20170803,       2223,   -32.5005,  -165.1636,       6365,  2395.3,   2.0464,  34.6466,2,  34.6486,2, 146.1055,2, 146.9598,2,   122.7,2,   36.03,2,    0.00,2,    2.52,2,   0.029,2,   0.021,2,   0.0000,2,  -999.0,9, -999.00,9,-999.0000,9, -999.00,9, -999.00,9, -999.00,  -999.0,9, -999.00,9,     -999.0,9,  -999.0,9, 20170803,     2109, -32.4999,-165.1641,        0.0,1,      0.060,1,      4.701,1,      0.132,1,     -999.0,     -999.0,9,     -999.0,9,     -999.0,9,     -999.0,9,     2.0312,2,     -999.0,9
320620170703,        P06,     119,          1,         15,         15,2,20170803,       2223,   -32.5005,  -165.1636,       6365,  2039.5,   2.2484,  34.6278,2,  34.6337,2, 148.9206,3, 150.8980,2,   110.1,2,   35.52,2,    0.00,2,    2.48,2,   0.035,2,   0.025,2,   0.0000,2,  2297.3,2, 2386.50,2,   7.5665,2, -999.00,9, -999.00,9, -999.00,    41.6,2, -999.00,9,     -999.0,1,  -999.0,9, 20170803,     2117, -32.4997,-165.1643,        0.0,1,      0.061,1,      4.701,1,      0.133,1,      25.00,     -999.0,9,     -999.0,9,     -999.0,9,     -999.0,9,     2.2586,2,     -999.0,9
320620170703,        P06,     119,          1,         16,         16,2,20170803,       2223,   -32.5005,  -165.1636,       6365,  1785.2,   2.5115,  34.5908,2,  34.5908,2, 154.5476,2, 155.8858,2,    95.5,2,   35.11,2,    0.00,2,    2.45,2,   0.040,2,   0.030,2,   0.0000,2,  2280.2,2, 2368.34,2,   7.5658,2, -999.00,9, -999.00,9, -999.00,  -999.0,9, -999.00,9,     -999.0,9,  -999.0,9, 20170803,     2123, -32.5001,-165.1640,        0.0,1,      0.061,1,      4.701,1,      0.133,1,      25.01,     -999.0,9,     -999.0,9,     -999.0,9,     -999.0,9,     2.5113,2,     -999.0,9
320620170703,        P06,     119,          1,         17,         17,2,20170803,       2223,   -32.5005,  -165.1636,       6365,  1550.1,   2.8109,  34.5235,2,  34.5211,2, 164.3233,2, 165.1795,2,    75.6,2,   34.62,2,    0.00,2,    2.39,2,   0.077,2,   0.050,2,   0.0000,2,  -999.0,9, -999.00,9,-999.0000,9, -999.00,9, -999.00,9, -999.00,    44.5,2, -999.00,9,     -999.0,1,  -999.0,9, 20170803,     2128, -32.5000,-165.1641,        0.0,1,      0.060,1,      4.702,1,      0.133,1,     -999.0,     -999.0,9,     -999.0,9,     -999.0,9,     -999.0,9,     2.8220,2,     -999.0,9
320620170703,        P06,     119,          1,         18,         18,2,20170803,       2223,   -32.5005,  -165.1636,       6365,  1348.4,   3.3227,  34.4212,2,  34.4230,2, 179.0267,2, 179.2012,2,    55.2,2,   33.80,2,    0.00,2,    2.32,2,   0.337,2,   0.173,2,   0.0000,2,  2232.0,2, 2316.14,2,   7.5778,2, -999.00,9, -999.00,9, -999.00,    43.3,2, -999.00,9,     -999.0,1,  -999.0,9, 20170803,     2133, -32.5002,-165.1637,        0.0,1,      0.061,1,      4.701,1,      0.134,1,      25.01,     -999.0,9,     -999.0,9,     -999.0,9,     -999.0,9,     3.3191,2,     -999.0,9
320620170703,        P06,     119,          1,         19,         19,2,20170803,       2223,   -32.5005,  -165.1636,       6365,  1176.6,   4.2399,  34.3418,2,  34.3511,3, 192.6774,2, 192.3732,2,    38.3,2,   32.13,2,    0.00,2,    2.19,2,   0.772,2,   0.370,2,   0.0890,2,  -999.0,9, -999.00,9,-999.0000,9, -999.00,9, -999.00,9, -999.00,  -999.0,9, -999.00,9,     -999.0,9,  -999.0,9, 20170803,     2137, -32.5000,-165.1639,        0.0,1,      0.061,1,      4.701,1,      0.131,1,     -999.0,     -999.0,9,     -999.0,9,     -999.0,9,     -999.0,9,     4.0627,2,     -999.0,9
320620170703,        P06,     119,          1,         20,         20,2,20170803,       2223,   -32.5005,  -165.1636,       6365,  1074.4,   4.7273,  34.3240,2,  34.3233,2, 204.4684,2, 203.6001,2,    27.3,2,   30.20,2,    0.00,2,    2.05,2,   1.235,2,   0.571,2,   0.1670,2,  2188.6,2, 2290.61,2,   7.6282,2, -999.00,9, -999.00,9, -999.00,    43.6,2, -999.00,9,     -999.0,1,  -999.0,9, 20170803,     2140, -32.5001,-165.1638,        0.0,1,      0.058,1,      4.701,1,      0.134,1,      25.02,     -999.0,9,     -999.0,9,     -999.0,9,     -999.0,9,     4.7426,2,     -999.0,9
320620170703,        P06,     119,          1,         21,         21,2,20170803,       2223,   -32.5005,  -165.1636,       6365,   973.7,   5.3960,  34.3130,2,  34.3125,2, 215.8483,2, 215.7313,2,    18.9,2,   28.00,2,    0.00,2,    1.90,2,   1.759,2,   0.838,2,   0.2430,2,  -999.0,9, -999.00,9,-999.0000,9, -999.00,9, -999.00,9, -999.00,  -999.0,9, -999.00,9,     -999.0,9,  -999.0,9, 20170803,     2143, -32.4999,-165.1640,        0.0,1,      0.060,1,      4.700,1,      0.137,1,     -999.0,     -999.0,9,     -999.0,9,     -999.0,9,     -999.0,9,     5.3586,2,     -999.0,9
320620170703,        P06,     119,          1,         22,         22,2,20170803,       2223,   -32.5005,  -165.1636,       6365,   872.8,   5.9692,  34.3220,2,  34.3205,2, 226.6900,2, 226.8978,2,    12.9,2,   25.87,2,    0.00,2,    1.74,2,   2.260,2,   1.125,2,   0.3900,2,  2159.7,2, 2280.08,2,   7.6811,2, -999.00,9, -999.00,9, -999.00,    44.4,2, -999.00,9,     -999.0,1,  -999.0,9, 20170803,     2147, -32.4996,-165.1644,        0.0,1,      0.059,1,      4.699,1,      0.139,1,      25.01,     -999.0,9,     -999.0,9,     -999.0,9,     -999.0,9,     5.9465,2,     -999.0,9
320620170703,        P06,     119,          1,         23,         23,2,20170803,       2223,   -32.5005,  -165.1636,       6365,   770.3,   6.6000,  34.3521,2,  34.3435,2, 233.7408,2, 234.4094,2,     9.2,2,   23.93,2,    0.00,2,    1.60,2,   2.938,2,   1.485,2,   0.6550,2,  2150.9,2, 2278.82,2,   7.6979,2, -999.00,9, -999.00,9, -999.00,  -999.0,9, -999.00,9,     -999.0,9,  -999.0,9, 20170803,     2150, -32.4998,-165.1643,        0.0,1,      0.058,1,      4.698,1,      0.138,1,      25.02,     -999.0,9,     -999.0,9,     -999.0,9,     -999.0,9,     6.4850,2,     -999.0,9
320620170703,        P06,     119,          1,         24,         24,2,20170803,       2223,   -32.5005,  -165.1636,       6365,   670.5,   7.0022,  34.3796,2,  34.3894,2, 236.4983,2, 236.7740,2,     6.9,2,   22.21,2,    0.00,2,    1.49,2,   3.398,2,   1.729,2,   0.7730,2,  2146.7,2, 2277.38,2,   7.7087,2, -999.00,9, -999.00,9, -999.00,  -999.0,9, -999.00,9,     -999.0,9,  -999.0,9, 20170803,     2153, -32.5000,-165.1641,        0.0,1,      0.060,1,      4.697,1,      0.140,1,      25.03,     -999.0,9,     -999.0,9,     -999.0,9,     -999.0,9,     7.0759,2,     -999.0,9
320620170703,        P06,     119,          1,         25,         25,2,20170803,       2223,   -32.5005,  -165.1636,       6365,   570.1,   7.7012,  34.4352,2,  34.4455,2, 232.0484,2, 231.0384,2,     5.5,2,   20.41,2,    0.00,2,    1.36,2,   3.408,2,   1.791,2,   1.0070,2,  2143.6,2, 2277.63,2,   7.7182,2, -999.00,9, -999.00,9, -999.00,    48.7,2, -999.00,9,     -999.0,1,  -999.0,9, 20170803,     2156, -32.5000,-165.1640,        0.0,1,      0.059,1,      4.696,1,      0.140,1,      25.02,     -999.0,9,     -999.0,9,     -999.0,9,     -999.0,9,     7.8479,2,     -999.0,9
320620170703,        P06,     119,          1,         26,         26,2,20170803,       2223,   -32.5005,  -165.1636,       6365,   468.0,   9.1674,  34.5890,2,  34.5887,2, 218.1680,2, 217.9393,2,     4.3,2,   17.68,2,    0.00,2,    1.18,2,   3.195,6,   1.685,6,   0.9650,6,  -999.0,9, -999.00,9,-999.0000,9, -999.00,9, -999.00,9, -999.00,  -999.0,9, -999.00,9,     -999.0,9,  -999.0,9, 20170803,     2200, -32.5000,-165.1641,        0.0,1,      0.061,1,      4.694,1,      0.146,1,     -999.0,     -999.0,9,     -999.0,9,     -999.0,9,     -999.0,9,     9.2094,2,     -999.0,9
320620170703,        P06,     119,          1,         27,         27,2,20170803,       2223,   -32.5005,  -165.1636,       6365,   366.9,  11.6294,  34.8671,2,  34.8237,2, 207.2281,2, 206.3537,2,     3.0,2,   13.32,2,    0.00,2,    0.91,2,   2.922,2,   1.611,2,   0.9830,2,  2129.5,2, 2295.48,2,   7.7811,2, -999.00,9, -999.00,9, -999.00,  -999.0,9, -999.00,9,     -999.0,9,  -999.0,9, 20170803,     2203, -32.4998,-165.1643,        0.0,1,      0.059,1,      4.691,1,      0.139,1,      25.03,     -999.0,9,     -999.0,9,     -999.0,9,     -999.0,9,    11.4104,2,     -999.0,9
320620170703,        P06,     119,          1,         28,         28,2,20170803,       2223,   -32.5005,  -165.1636,       6365,   287.1,  13.6895,  35.1516,2,  35.1863,2, 205.1761,2, 206.2917,2,     1.8,2,    7.96,2,    0.00,2,    0.57,2,   2.547,2,   1.484,2,   1.2210,2,  -999.0,9, -999.00,9,-999.0000,9, -999.00,9, -999.00,9, -999.00,  -999.0,9, -999.00,9,     -999.0,9,  -999.0,9, 20170803,     2206, -32.4997,-165.1645,        0.0,1,      0.060,1,      4.690,1,      0.139,1,     -999.0,     -999.0,9,     -999.0,9,     -999.0,9,     -999.0,9,    13.9468,2,     -999.0,9
320620170703,        P06,     119,          1,         29,         29,2,20170803,       2223,   -32.5005,  -165.1636,       6365,   236.5,  14.7601,  35.2890,2,  35.3214,2, 204.1527,2, 205.2001,2,     1.4,2,    6.38,2,    0.00,2,    0.47,2,   2.439,2,   1.451,2,   1.1800,2,  2107.8,2, 2315.97,2,   7.8737,2, -999.00,9, -999.00,9, -999.00,    48.6,2,    9.40,2,     -999.0,1,  -999.0,9, 20170803,     2209, -32.4997,-165.1645,        0.0,1,      0.060,1,      4.689,1,      0.138,1,      25.02,     -999.0,9,     -999.0,9,     -999.0,9,     -999.0,9,    15.0283,2,     -999.0,9
320620170703,        P06,     119,          1,         30,         30,2,20170803,       2223,   -32.5005,  -165.1636,       6365,   185.2,  16.0201,  35.4236,2,  35.4202,2, 206.1348,2, 205.9923,2,     0.8,2,    4.37,2,    0.02,2,    0.33,2,   2.325,2,   1.380,2,   1.3520,2,  2098.5,2, 2324.02,2,   7.9027,2, -999.00,9, -999.00,9, -999.00,  -999.0,9, -999.00,9,     -999.0,9,  -999.0,9, 20170803,     2211, -32.4997,-165.1645,        0.0,1,      0.065,1,      4.686,1,      0.140,1,      25.02,     -999.0,9,     -999.0,9,     -999.0,9,     -999.0,9,    16.1065,2,     -999.0,9
320620170703,        P06,     119,          1,         31,         31,2,20170803,       2223,   -32.5005,  -165.1636,       6365,   135.4,  17.5069,  35.5750,2,  35.6705,3, 222.8112,2, 221.8103,2,     0.3,2,    0.77,2,    0.06,2,    0.10,2,   2.130,2,   1.275,2,   1.2500,2,  2071.6,2, 2341.40,2,   7.9786,2, -999.00,9, -999.00,9, -999.00,  -999.0,9, -999.00,9,     -999.0,9,  -999.0,9, 20170803,     2214, -32.4997,-165.1645,        0.0,1,      0.076,1,      4.677,1,      0.147,1,      25.04,     -999.0,9,     -999.0,9,     -999.0,9,     -999.0,9,    18.0595,2,     -999.0,9
320620170703,        P06,     119,          1,         32,         32,2,20170803,       2223,   -32.5005,  -165.1636,       6365,    90.0,  18.4038,  35.6911,2,  35.7268,2, 228.2179,2, 227.7440,2,     0.2,2,    0.07,2,    0.02,2,    0.03,2,   2.037,2,   1.241,2,   1.3270,2,  2062.4,2, 2342.13,2,   8.0015,2, -999.00,9, -999.00,9, -999.00,    62.1,2,    4.00,2,     -999.0,1,  -999.0,9, 20170803,     2216, -32.4999,-165.1643,        0.0,1,      0.171,1,      4.631,1,      0.202,1,      25.01,     -999.0,9,     -999.0,9,     -999.0,9,     -999.0,9,    18.5904,2,     -999.0,9