BOTTLE,20230922CCHSIOCBG
EXPOCODE,SECT_ID,STNNBR,CASTNO,SAMPNO,BTLNBR,BTLNBR_FLAG_W,DATE,TIME,LATITUDE,LONGITUDE,DEPTH,CTDPRS,CTDTMP,CTDSAL,CTDSAL_FLAG_W,SALNTY,SALNTY_FLAG_W,CTDOXY,CTDOXY_FLAG_W,OXYGEN,OXYGEN_FLAG_W,SILCAT,SILCAT_FLAG_W,NITRAT,NITRAT_FLAG_W,NITRIT,NITRIT_FLAG_W,PHSPHT,PHSPHT_FLAG_W,CFC-11,CFC-11_FLAG_W,CFC-12,CFC-12_FLAG_W,SF6,SF6_FLAG_W,TCARBN,TCARBN_FLAG_W,ALKALI,ALKALI_FLAG_W,PH_TOT,PH_TOT_FLAG_W,DELC13,DELC13_FLAG_W,DELC14,DELC14_FLAG_W,C14ERR,DOC,DOC_FLAG_W,TDN,TDN_FLAG_W,TON,TON_FLAG_W,D15N_NO3,D15N_NO3_FLAG_W,BTL_DATE,BTL_TIME,BTL_LAT,BTL_LON,CTDRINKO,CTDRINKO_FLAG_W,CTDFLUOR,CTDFLUOR_FLAG_W,CTDXMISS,CTDXMISS_FLAG_W,CTDBACKSCATTER,CTDBACKSCATTER_FLAG_W,PH_TMP,D18O_NO3,D18O_NO3_FLAG_W,DOP,DOP_FLAG_W,HPLC,HPLC_FLAG_W,POC,POC_FLAG_W,REFTMP,REFTMP_FLAG_W,TDP,TDP_FLAG_W
,,,,,,,,,,,METERS,DBAR,ITS-90,PSS-78,,PSS-78,,UMOL/KG,,UMOL/KG,,UMOL/KG,,UMOL/KG,,UMOL/KG,,UMOL/KG,,PMOL/KG,,PMOL/KG,,FMOL/KG,,UMOL/KG,,UMOL/KG,,,,/MILLE,,/MILLE,,/MILLE,UMOL/KG,,UMOL/KG,,UMOL/KG,,/MILLE,,,,,,VOLTS,,VOLTS,,VOLTS,,VOLTS,,DEGC,/MILLE,,UMOL/KG,,,,UG/L,,ITS-90,,UMOL/KG,
320620170703,        P06,      74,          1,          1,          1,2,20170719,       1042,   -30.0800,   175.4998,       4236,  4298.9,   1.9108,  34.6826,2,  34.6828,2, 155.4245,2, 155.5909,2,   125.6,2,   35.05,2,    0.00,2,    2.43,2,   0.062,2,   0.023,2,-999.0000,5,  2311.3,6, 2405.07,2,   7.5822,2, -999.00,9, -999.00,9, -999.00,    40.0,2, -999.00,9,     -999.0,1,  -999.0,9, 20170719,      833, -30.0800, 175.4999,        0.0,1,      0.061,1,      4.215,1,      0.134,1,      25.04,     -999.0,9,     -999.0,9,     -999.0,9,     -999.0,9,     1.9112,2,     -999.0,9
320620170703,        P06,      74,          1,          2,          2,2,20170719,       1042,   -30.0800,   175.4998,       4236,  4128.5,   1.8955,  34.6825,2,  34.6820,2, 155.4245,2, 155.5307,2,   125.7,2,   35.13,2,    0.00,2,    2.44,2,-999.000,9,-999.000,9,-999.0000,9,  2310.9,2, -999.00,9,   7.5820,2, -999.00,9, -999.00,9, -999.00,    37.5,2, -999.00,9,     -999.0,1,  -999.0,9, 20170719,      838, -30.0800, 175.5002,        0.0,1,      0.062,1,      4.687,1,      0.134,1,      25.04,     -999.0,9,     -999.0,9,     -999.0,9,     -999.0,9,     1.8959,2,     -999.0,9
320620170703,        P06,      74,          1,          3,          3,2,20170719,       1042,   -30.0800,   175.4998,       4236,  3965.5,   1.8811,  34.6823,2,  34.6824,2, 155.4245,2, 155.3828,2,   125.5,2,   35.11,2,    0.00,2,    2.44,2,   0.058,2,   0.019,2,-999.0000,5,  2311.6,2, 2403.53,3,   7.5830,2, -999.00,9, -999.00,9, -999.00,    42.7,2, -999.00,9,     -999.0,1,  -999.0,9, 20170719,      842, -30.0800, 175.5000,        0.0,1,      0.061,1,      3.639,1,      0.135,1,      24.96,     -999.0,9,     -999.0,9,     -999.0,9,     -999.0,9,     1.8815,2,     -999.0,9
320620170703,        P06,      74,          1,          4,          4,2,20170719,       1042,   -30.0800,   175.4998,       4236,  3656.4,   1.8577,  34.6818,2,  34.6812,2, 155.4245,2, 155.3355,2,   125.4,2,   35.16,2,    0.00,2,    2.45,2,-999.000,9,-999.000,9,-999.0000,9,  -999.0,9, -999.00,9,-999.0000,9, -999.00,9, -999.00,9, -999.00,  -999.0,9, -999.00,9,     -999.0,9,  -999.0,9, 20170719,      849, -30.0800, 175.4999,        0.0,1,      0.061,1,      4.535,1,      0.133,1,     -999.0,     -999.0,9,     -999.0,9,     -999.0,9,     -999.0,9,     1.8570,2,     -999.0,9
320620170703,        P06,      74,          1,          5,          5,2,20170719,       1042,   -30.0800,   175.4998,       4236,  3348.6,   1.8444,  34.6805,2,  34.6808,2, 154.9300,2, 154.7140,2,   125.1,2,   35.15,2,    0.00,2,    2.44,2,   0.059,2,   0.023,2,-999.0000,5,  2310.1,2, 2394.32,6,   7.5812,2, -999.00,9, -999.00,9, -999.00,    42.3,2, -999.00,9,     -999.0,1,  -999.0,9, 20170719,      855, -30.0800, 175.5000,        0.0,1,      0.062,1,      4.553,1,      0.132,1,      24.97,     -999.0,9,     -999.0,9,     -999.0,9,     -999.0,9,     1.8438,2,     -999.0,9
320620170703,        P06,      74,          1,          6,          6,2,20170719,       1042,   -30.0800,   175.4998,       4236,  3042.5,   1.8517,  34.6777,2,  34.6769,2, 154.4151,2, 154.7108,2,   124.2,2,   35.11,2,    0.00,2,    2.45,2,-999.000,9,-999.000,9,-999.0000,9,  -999.0,9, -999.00,9,-999.0000,9, -999.00,9, -999.00,9, -999.00,    43.7,2, -999.00,9,     -999.0,1,  -999.0,9, 20170719,      902, -30.0800, 175.5002,        0.0,1,      0.061,1,      4.223,1,      0.133,1,     -999.0,     -999.0,9,     -999.0,9,     -999.0,9,     -999.0,9,     1.8527,2,     -999.0,9
320620170703,        P06,      74,          1,          7,          7,2,20170719,       1042,   -30.0800,   175.4998,       4236,  2786.6,   1.8873,  34.6733,2,  34.6728,2, 154.0740,2, 154.2770,2,   122.9,2,   35.12,2,    0.00,2,    2.42,2,   0.062,2,   0.020,2,-999.0000,5,  2308.5,2, 2395.32,2,   7.5787,2, -999.00,9, -999.00,9, -999.00,    42.0,2, -999.00,9,     -999.0,1,  -999.0,9, 20170719,      908, -30.0800, 175.5001,        0.0,1,      0.062,1,      3.689,1,      0.133,1,      25.01,     -999.0,9,     -999.0,9,     -999.0,9,     -999.0,9,     1.8879,2,     -999.0,9
320620170703,        P06,      74,          1,          8,          8,2,20170719,       1042,   -30.0800,   175.4998,       4236,  2531.7,   1.9612,  34.6659,2,  34.6643,2, 153.8918,2, 153.6651,2,   120.7,2,   35.04,2,    0.00,2,    2.43,2,-999.000,9,-999.000,9,-999.0000,9,  -999.0,9, -999.00,9,-999.0000,9, -999.00,9, -999.00,9, -999.00,  -999.0,9, -999.00,9,     -999.0,9,  -999.0,9, 20170719,      913, -30.0800, 175.4999,        0.0,1,      0.061,1,      4.696,1,      0.132,1,     -999.0,     -999.0,9,     -999.0,9,     -999.0,9,     -999.0,9,     1.9593,2,     -999.0,9
320620170703,        P06,      74,          1,          9,          9,2,20170719,       1042,   -30.0800,   175.4998,       4236,  2277.1,   2.0653,  34.6556,2,  34.6543,2, 153.3007,2, 152.7417,2,   117.8,2,   35.05,2,    0.00,2,    2.43,2,   0.057,2,   0.019,2,-999.0000,5,  2302.6,2, 2393.02,2,   7.5756,2, -999.00,9, -999.00,9, -999.00,  -999.0,5, -999.00,9,     -999.0,1,  -999.0,9, 20170719,      919, -30.0800, 175.5000,        0.0,1,      0.062,1,      2.189,1,      0.135,1,      24.97,     -999.0,9,     -999.0,9,     -999.0,9,     -999.0,9,     2.0757,2,     -999.0,9
320620170703,        P06,      74,          1,         10,         10,2,20170719,       1042,   -30.0800,   175.4998,       4236,  2023.7,   2.2162,  34.6413,2,  34.6386,2, 153.3901,2, 152.6364,2,   112.8,2,   34.97,2,    0.00,2,    2.42,2,-999.000,9,-999.000,9,-999.0000,9,  -999.0,9, -999.00,9,-999.0000,9, -999.00,9, -999.00,9, -999.00,  -999.0,9, -999.00,9,     -999.0,9,  -999.0,9, 20170719,      925, -30.0800, 175.4998,        0.0,1,      0.062,1,      4.617,1,      0.137,1,     -999.0,     -999.0,9,     -999.0,9,     -999.0,9,     -999.0,9,     2.2415,2,     -999.0,9
320620170703,        P06,      74,          1,         11,         11,2,20170719,       1042,   -30.0800,   175.4998,       4236,  1820.1,   2.3933,  34.6251,2,  34.6229,2, 154.2545,2, 153.6565,2,   107.1,2,   34.74,2,    0.00,2,    2.40,2,   0.081,2,   0.026,2,-999.0000,5,  2291.2,2, 2378.30,2,   7.5770,2, -999.00,9, -999.00,9, -999.00,  -999.0,5, -999.00,9,     -999.0,1,  -999.0,9, 20170719,      930, -30.0799, 175.4997,        0.0,1,      0.061,1,      3.020,1,      0.137,1,      25.00,     -999.0,9,     -999.0,9,     -999.0,9,     -999.0,9,     2.4349,2,     -999.0,9
320620170703,        P06,      74,          1,         12,         12,2,20170719,       1042,   -30.0800,   175.4998,       4236,  1617.1,   2.7059,  34.5980,2,  34.5961,2, 157.7514,2, 160.5197,3,    97.9,2,   34.31,2,    0.00,2,    2.38,2,-999.000,9,-999.000,9,-999.0000,9,  -999.0,9, -999.00,9,-999.0000,9, -999.00,9, -999.00,9, -999.00,  -999.0,9, -999.00,9,     -999.0,9,  -999.0,9, 20170719,      935, -30.0799, 175.4997,        0.0,1,      0.061,1,      4.688,1,      0.140,1,     -999.0,     -999.0,9,     -999.0,9,     -999.0,9,     -999.0,9,     2.7250,2,     -999.0,9
320620170703,        P06,      74,          1,         13,         13,2,20170719,       1042,   -30.0800,   175.4998,       4236,  1516.6,   2.8896,  34.5791,2,  34.5728,2, 160.0608,2, 159.9930,2,    90.8,2,   34.08,2,    0.00,2,    2.35,2,   0.152,2,   0.056,2,-999.0000,5,  2271.6,2, 2362.80,2,   7.5832,2, -999.00,9, -999.00,9, -999.00,    45.9,3, -999.00,9,     -999.0,1,  -999.0,9, 20170719,      938, -30.0799, 175.4996,        0.0,1,      0.061,1,      1.327,1,      0.140,1,      25.00,     -999.0,9,     -999.0,9,     -999.0,9,     -999.0,9,     2.9341,2,     -999.0,9
320620170703,        P06,      74,          1,         14,         14,2,20170719,       1042,   -30.0800,   175.4998,       4236,  1414.2,   3.0797,  34.5530,2,  34.5502,2, 162.3897,2, 162.1755,2,    84.6,2,   33.82,2,    0.00,2,    2.34,2,-999.000,9,-999.000,9,-999.0000,9,  -999.0,9, -999.00,9,-999.0000,9, -999.00,9, -999.00,9, -999.00,  -999.0,9, -999.00,9,     -999.0,9,  -999.0,9, 20170719,      942, -30.0799, 175.4996,        0.0,1,      0.061,1,      4.544,1,      0.141,1,     -999.0,     -999.0,9,     -999.0,9,     -999.0,9,     -999.0,9,     3.0972,2,     -999.0,9
320620170703,        P06,      74,          1,         15,         15,2,20170719,       1042,   -30.0800,   175.4998,       4236,  1312.9,   3.4009,  34.5081,2,  34.5021,2, 168.7660,2, 168.3154,2,    71.3,2,   33.31,2,    0.00,2,    2.30,2,   0.256,2,   0.113,2,-999.0000,5,  2250.5,2, 2337.11,2,   7.5896,2, -999.00,9, -999.00,9, -999.00,    38.4,3, -999.00,9,     -999.0,1,  -999.0,9, 20170719,      945, -30.0799, 175.4996,        0.0,1,      0.061,1,      4.647,1,      0.140,1,      24.99,     -999.0,9,     -999.0,9,     -999.0,9,     -999.0,9,     3.4527,2,     -999.0,9
320620170703,        P06,      74,          1,         16,         16,2,20170719,       1042,   -30.0800,   175.4998,       4236,  1210.4,   3.8849,  34.4735,2,  34.4714,2, 174.5413,2, 174.7123,2,    60.0,2,   32.39,2,    0.00,2,    2.22,2,-999.000,9,-999.000,9,-999.0000,9,  -999.0,9, -999.00,9,-999.0000,9, -999.00,9, -999.00,9, -999.00,  -999.0,9, -999.00,9,     -999.0,9,  -999.0,9, 20170719,      948, -30.0799, 175.4996,        0.0,1,      0.060,1,      3.089,1,      0.143,1,     -999.0,     -999.0,9,     -999.0,9,     -999.0,9,     -999.0,9,     3.8851,2,     -999.0,9
320620170703,        P06,      74,          1,         17,         17,2,20170719,       1042,   -30.0800,   175.4998,       4236,  1109.2,   4.4185,  34.4399,2,  34.4035,2, 180.2183,2, 180.6504,2,    50.1,2,   31.49,2,    0.00,2,    2.15,2,   0.530,2,   0.259,2,-999.0000,5,  2220.1,2, 2315.92,2,   7.6104,2, -999.00,9, -999.00,9, -999.00,  -999.0,5, -999.00,9,     -999.0,1,  -999.0,9, 20170719,      952, -30.0799, 175.4997,        0.0,1,      0.060,1,      0.403,1,      0.140,1,      25.00,     -999.0,9,     -999.0,9,     -999.0,9,     -999.0,9,     4.3077,2,     -999.0,9
320620170703,        P06,      74,          1,         18,         18,2,20170719,       1042,   -30.0800,   175.4998,       4236,  1007.7,   5.0508,  34.3968,2,  34.4443,2, 191.9640,2, 191.6228,2,    36.4,2,   29.96,2,    0.00,2,    2.04,2,-999.000,9,-999.000,9,-999.0000,9,  -999.0,9, -999.00,9,-999.0000,9, -999.00,9, -999.00,9, -999.00,  -999.0,9, -999.00,9,     -999.0,9,  -999.0,9, 20170719,      955, -30.0800, 175.4998,        0.0,1,      0.059,1,      4.641,1,      0.142,1,     -999.0,     -999.0,9,     -999.0,9,     -999.0,9,     -999.0,9,     4.9226,2,     -999.0,9
320620170703,        P06,      74,          1,         19,         19,2,20170719,       1042,   -30.0800,   175.4998,       4236,   907.4,   6.1156,  34.4706,2,  34.4551,2, 194.8605,2, 194.7638,2,    29.2,2,   27.56,2,    0.00,2,    1.85,2,   1.212,2,   0.633,2,-999.0000,5,  2185.5,2, 2296.24,2,   7.6529,2, -999.00,9, -999.00,9, -999.00,    42.6,2, -999.00,9,     -999.0,1,  -999.0,9, 20170719,      958, -30.0800, 175.5000,        0.0,1,      0.060,1,      4.701,1,      0.141,1,      25.00,     -999.0,9,     -999.0,9,     -999.0,9,     -999.0,9,     5.9041,2,     -999.0,9
320620170703,        P06,      74,          1,         20,         20,2,20170719,       1042,   -30.0800,   175.4998,       4236,   806.6,   6.8191,  34.4917,2,  34.4677,2, 201.2807,2, 204.4765,3,    21.7,2,   25.86,2,    0.00,2,    1.74,2,-999.000,9,-999.000,9,-999.0000,9,  -999.0,9, -999.00,9,-999.0000,9, -999.00,9, -999.00,9, -999.00,  -999.0,9, -999.00,9,     -999.0,9,  -999.0,9, 20170719,     1002, -30.0800, 175.5000,        0.0,1,      0.060,1,      4.198,1,      0.142,1,     -999.0,     -999.0,9,     -999.0,9,     -999.0,9,     -999.0,9,     6.5639,2,     -999.0,9
320620170703,        P06,      74,          1,         21,         21,2,20170719,       1042,   -30.0800,   175.4998,       4236,   705.4,   7.6150,  34.5372,2,  34.5227,2, 205.4926,2, 204.1764,2,    16.0,2,   23.69,2,    0.00,2,    1.57,2,   1.898,2,   1.030,2,-999.0000,5,  2160.9,2, 2288.01,2,   7.6920,2, -999.00,9, -999.00,9, -999.00,    41.4,2, -999.00,9,     -999.0,1,  -999.0,9, 20170719,     1005, -30.0800, 175.4999,        0.0,1,      0.060,1,      4.592,1,      0.145,1,      25.02,     -999.0,9,     -999.0,9,     -999.0,9,     -999.0,9,     7.4492,2,     -999.0,9
320620170703,        P06,      74,          1,         22,         22,2,20170719,       1042,   -30.0800,   175.4998,       4236,   604.9,   8.5923,  34.6184,2,  34.5686,2, 208.2814,2, 207.9239,2,    11.0,2,   21.61,2,    0.00,2,    1.44,2,-999.000,9,-999.000,9,-999.0000,9,  2154.7,2, -999.00,9,   7.7102,2, -999.00,9, -999.00,9, -999.00,    42.4,2, -999.00,9,     -999.0,1,  -999.0,9, 20170719,     1009, -30.0800, 175.4999,        0.0,1,      0.059,1,      1.298,1,      0.144,1,      25.02,     -999.0,9,     -999.0,9,     -999.0,9,     -999.0,9,     8.2917,2,     -999.0,9
320620170703,        P06,      74,          1,         23,         23,2,20170719,       1042,   -30.0800,   175.4998,       4236,   502.5,   9.9730,  34.7811,2,  34.7359,2, 200.0729,2, 201.3076,2,     8.6,2,   18.90,2,    0.00,2,    1.25,2,   2.367,2,   1.338,2,-999.0000,5,  2148.3,2, 2289.62,2,   7.7358,2, -999.00,9, -999.00,9, -999.00,  -999.0,5, -999.00,9,     -999.0,1,  -999.0,9, 20170719,     1012, -30.0800, 175.4999,        0.0,1,      0.060,1,      2.359,1,      0.146,1,      25.01,     -999.0,9,     -999.0,9,     -999.0,9,     -999.0,9,     9.6682,2,     -999.0,9
320620170703,        P06,      74,          1,         24,         24,2,20170719,       1042,   -30.0800,   175.4998,       4236,   453.6,  10.5707,  34.8253,2,  34.8418,2, 199.1219,2, 199.1038,2,     7.1,2,   16.96,2,    0.00,2,    1.12,2,-999.000,9,-999.000,9,-999.0000,9,  -999.0,9, -999.00,9,-999.0000,9, -999.00,9, -999.00,9, -999.00,  -999.0,9, -999.00,9,     -999.0,9,  -999.0,9, 20170719,     1014, -30.0800, 175.5000,        0.0,1,      0.060,1,      0.024,1,      0.146,1,     -999.0,     -999.0,9,     -999.0,9,     -999.0,9,     -999.0,9,    10.5767,2,     -999.0,9
320620170703,        P06,      74,          1,         25,         25,2,20170719,       1042,   -30.0800,   175.4998,       4236,   403.2,  11.4951,  34.9430,2,  34.9056,2, 201.2894,2, 201.9018,2,     5.3,2,   14.91,2,    0.00,2,    1.00,2,   2.588,2,   1.417,2,-999.0000,5,  2134.1,2, 2293.84,2,   7.7756,2, -999.00,9, -999.00,9, -999.00,    45.7,3, -999.00,9,     -999.0,1,  -999.0,9, 20170719,     1017, -30.0800, 175.5000,        0.0,1,      0.060,1,      0.009,1,      0.147,1,      25.02,     -999.0,9,     -999.0,9,     -999.0,9,     -999.0,9,    11.3240,2,     -999.0,9
320620170703,        P06,      74,          1,         26,         26,2,20170719,       1042,   -30.0800,   175.4998,       4236,   350.9,  12.2206,  35.0091,2,  34.9974,2, 201.1518,2, 200.8188,2,     4.0,2,   12.83,2,    0.00,2,    0.87,2,-999.000,9,-999.000,9,-999.0000,9,  -999.0,9, -999.00,9,-999.0000,9, -999.00,9, -999.00,9, -999.00,  -999.0,5, -999.00,9,     -999.0,1,  -999.0,9, 20170719,     1019, -30.0801, 175.5001,        0.0,1,      0.059,1,      0.674,1,      0.145,1,     -999.0,     -999.0,9,     -999.0,9,     -999.0,9,     -999.0,9,    12.1833,2,     -999.0,9
320620170703,        P06,      74,          1,         27,         27,2,20170719,       1042,   -30.0800,   175.4998,       4236,   300.7,  13.1560,  35.1370,2,  35.1266,2, 199.3165,2, 199.5341,2,     3.8,2,   11.32,2,    0.00,2,    0.77,2,   2.391,2,   1.407,2,-999.0000,5,  2123.8,2, 2307.72,3,   7.8207,2, -999.00,9, -999.00,9, -999.00,    48.1,2, -999.00,9,     -999.0,1,  -999.0,9, 20170719,     1021, -30.0801, 175.5001,        0.0,1,      0.059,1,      1.940,1,      0.148,1,      25.01,     -999.0,9,     -999.0,9,     -999.0,9,     -999.0,9,    13.1525,2,     -999.0,9
320620170703,        P06,      74,          1,         28,         28,2,20170719,       1042,   -30.0800,   175.4998,       4236,   251.8,  14.1255,  35.2541,2,  35.2588,2, 201.4198,2, 202.2410,2,     2.8,2,    9.08,2,    0.00,2,    0.64,2,-999.000,9,-999.000,9,-999.0000,9,  -999.0,9, -999.00,9,-999.0000,9, -999.00,9, -999.00,9, -999.00,    48.7,2,   11.40,2,     -999.0,1,  -999.0,9, 20170719,     1024, -30.0801, 175.5001,        0.0,1,      0.060,1,      1.549,1,      0.147,1,     -999.0,     -999.0,9,     -999.0,9,     -999.0,9,     -999.0,9,    14.1762,2,     -999.0,9
320620170703,        P06,      74,          1,         29,         29,2,20170719,       1042,   -30.0800,   175.4998,       4236,   200.8,  14.9453,  35.3467,2,  35.3595,2, 201.8539,2, 202.5442,2,     2.6,2,    7.90,2,    0.02,2,    0.55,2,   2.197,2,   1.338,2,-999.0000,5,  2106.9,2, 2317.74,2,   7.8748,2, -999.00,9, -999.00,9, -999.00,    50.1,2,   11.30,2,     -999.0,1,  -999.0,9, 20170719,     1027, -30.0800, 175.5000,        0.0,1,      0.059,1,      4.611,1,      0.148,1,      25.01,     -999.0,9,     -999.0,9,     -999.0,9,     -999.0,9,    15.1315,2,     -999.0,9
320620170703,        P06,      74,          1,         30,         30,2,20170719,       1042,   -30.0800,   175.4998,       4236,   151.1,  16.1426,  35.4502,2,  35.4876,2, 199.6877,3, 203.6202,2,     1.7,2,    5.60,2,    0.03,2,    0.42,2,-999.000,9,-999.000,9,-999.0000,9,  -999.0,9, -999.00,9,-999.0000,9, -999.00,9, -999.00,9, -999.00,    55.0,2,    8.50,2,     -999.0,1,  -999.0,9, 20170719,     1030, -30.0800, 175.4998,        0.0,1,      0.064,1,      4.683,1,      0.156,1,     -999.0,     -999.0,9,     -999.0,9,     -999.0,9,     -999.0,9,    16.6637,2,     -999.0,9
320620170703,        P06,      74,          1,         31,         31,2,20170719,       1042,   -30.0800,   175.4998,       4236,   125.7,  17.4548,  35.5892,2,  35.6970,2, 231.5234,3, 228.2630,2,     0.6,2,    0.93,2,    0.17,2,    0.14,2,   1.912,2,   1.191,2,-999.0000,5,  2067.4,2, 2341.41,2,   7.9816,2, -999.00,9, -999.00,9, -999.00,  -999.0,9, -999.00,9,     -999.0,9,  -999.0,9, 20170719,     1032, -30.0799, 175.4997,        0.0,1,      0.103,1,      4.632,1,      0.169,1,      25.01,     -999.0,9,     -999.0,9,     -999.0,9,     -999.0,9,    18.0839,2,     -999.0,9
320620170703,        P06,      74,          1,         32,         32,2,20170719,       1042,   -30.0800,   175.4998,       4236,   101.1,  18.0813,  35.6981,2,  35.7063,2, 231.5062,3, 228.4888,2,     0.6,2,    0.88,2,    0.17,2,    0.14,2,-999.000,9,-999.000,9,-999.0000,9,  2067.4,2, -999.00,9,   7.9838,2, -999.00,9, -999.00,9, -999.00,    57.1,2,    4.80,2,     -999.0,1,  -999.0,9, 20170719,     1034, -30.0799, 175.4995,        0.0,1,      0.155,1,      2.731,1,      0.192,1,      25.00,     -999.0,9,     -999.0,9,     -999.0,9,     -999.0,9,    18.1298,2,     -999.0,9