BOTTLE,20230922CCHSIOCBG
EXPOCODE,SECT_ID,STNNBR,CASTNO,SAMPNO,BTLNBR,BTLNBR_FLAG_W,DATE,TIME,LATITUDE,LONGITUDE,DEPTH,CTDPRS,CTDTMP,CTDSAL,CTDSAL_FLAG_W,SALNTY,SALNTY_FLAG_W,CTDOXY,CTDOXY_FLAG_W,OXYGEN,OXYGEN_FLAG_W,SILCAT,SILCAT_FLAG_W,NITRAT,NITRAT_FLAG_W,NITRIT,NITRIT_FLAG_W,PHSPHT,PHSPHT_FLAG_W,CFC-11,CFC-11_FLAG_W,CFC-12,CFC-12_FLAG_W,SF6,SF6_FLAG_W,TCARBN,TCARBN_FLAG_W,ALKALI,ALKALI_FLAG_W,PH_TOT,PH_TOT_FLAG_W,DELC13,DELC13_FLAG_W,DELC14,DELC14_FLAG_W,C14ERR,DOC,DOC_FLAG_W,TDN,TDN_FLAG_W,TON,TON_FLAG_W,D15N_NO3,D15N_NO3_FLAG_W,BTL_DATE,BTL_TIME,BTL_LAT,BTL_LON,CTDRINKO,CTDRINKO_FLAG_W,CTDFLUOR,CTDFLUOR_FLAG_W,CTDXMISS,CTDXMISS_FLAG_W,CTDBACKSCATTER,CTDBACKSCATTER_FLAG_W,PH_TMP,D18O_NO3,D18O_NO3_FLAG_W,DOP,DOP_FLAG_W,HPLC,HPLC_FLAG_W,POC,POC_FLAG_W,REFTMP,REFTMP_FLAG_W,TDP,TDP_FLAG_W
,,,,,,,,,,,METERS,DBAR,ITS-90,PSS-78,,PSS-78,,UMOL/KG,,UMOL/KG,,UMOL/KG,,UMOL/KG,,UMOL/KG,,UMOL/KG,,PMOL/KG,,PMOL/KG,,FMOL/KG,,UMOL/KG,,UMOL/KG,,,,/MILLE,,/MILLE,,/MILLE,UMOL/KG,,UMOL/KG,,UMOL/KG,,/MILLE,,,,,,VOLTS,,VOLTS,,VOLTS,,VOLTS,,DEGC,/MILLE,,UMOL/KG,,,,UG/L,,ITS-90,,UMOL/KG,
320620170703,        P06,      10,          1,         33,         33,2,20170706,       0822,   -30.0801,   154.1603,       4606,    60.5,  21.1600,  35.6714,2,  35.7096,2, 215.9346,3, 211.4486,2,     0.1,2,    0.78,2,    0.06,2,    0.13,2,   1.997,2,   1.222,2,   1.2480,2,  2039.8,2, 2335.18,2,   8.0294,2, -999.00,9, -999.00,9, -999.00,    62.3,2,    5.90,2,     -999.0,1,  -999.0,9, 20170706,      817, -30.0801, 154.1603,        0.0,1,      0.057,1,      4.620,1,      0.725,1,      25.03,     -999.0,9,     -999.0,9,     -999.0,9,     -999.0,9,    21.1457,2,     -999.0,9
320620170703,        P06,      10,          1,         34,         34,2,20170706,       0822,   -30.0801,   154.1603,       4606,    41.3,  21.2761,  35.6910,2,-999.0000,9, 219.6379,3,-999.0000,9,  -999.0,9, -999.00,9, -999.00,9, -999.00,9,-999.000,9,-999.000,9,-999.0000,9,  -999.0,9, -999.00,9,-999.0000,9, -999.00,9, -999.00,9, -999.00,  -999.0,9, -999.00,9,     -999.0,9,  -999.0,9, 20170706,      819, -30.0801, 154.1603,        0.0,1,      0.056,1,      4.600,1,      0.779,1,     -999.0,     -999.0,9,     -999.0,9,     -999.0,9,     -999.0,9,    21.2236,2,     -999.0,9
320620170703,        P06,      10,          1,         35,         35,2,20170706,       0822,   -30.0801,   154.1603,       4606,    21.0,  21.4338,  35.7060,2,  35.7100,2, 222.2672,3, 217.9013,2,     0.1,2,    0.13,2,    0.02,2,    0.08,2,   1.945,6,   1.192,6,   1.1325,6,  2030.1,2, 2335.72,2,   8.0471,2, -999.00,9, -999.00,9, -999.00,    63.9,2,    4.80,2,     -999.0,1,  -999.0,9, 20170706,      820, -30.0801, 154.1603,        0.0,1,      0.056,1,      4.569,1,      0.877,1,      25.03,     -999.0,9,     -999.0,9,     -999.0,9,     -999.0,9,    21.4536,2,     -999.0,9
320620170703,        P06,      10,          1,         36,         36,2,20170706,       0822,   -30.0801,   154.1603,       4606,     5.6,  21.5135,  35.7110,2,  35.7102,2, 221.9676,3, 218.4076,2,     0.1,2,    0.12,2,    0.03,2,    0.09,2,   2.002,2,   1.218,2,   1.2050,2,  2030.1,6, 2337.43,2,   8.0468,2, -999.00,9, -999.00,9, -999.00,    67.2,2,    4.70,2,     -999.0,1,  -999.0,9, 20170706,      822, -30.0801, 154.1603,        0.0,1,      0.057,1,      4.567,1,      0.944,1,      25.00,     -999.0,9,     -999.0,9,     -999.0,9,     -999.0,9,    21.4479,2,     -999.0,9