BOTTLE,20230922CCHSIOCBG
EXPOCODE,SECT_ID,STNNBR,CASTNO,SAMPNO,BTLNBR,BTLNBR_FLAG_W,DATE,TIME,LATITUDE,LONGITUDE,DEPTH,CTDPRS,CTDTMP,CTDSAL,CTDSAL_FLAG_W,SALNTY,SALNTY_FLAG_W,CTDOXY,CTDOXY_FLAG_W,OXYGEN,OXYGEN_FLAG_W,SILCAT,SILCAT_FLAG_W,NITRAT,NITRAT_FLAG_W,NITRIT,NITRIT_FLAG_W,PHSPHT,PHSPHT_FLAG_W,CFC-11,CFC-11_FLAG_W,CFC-12,CFC-12_FLAG_W,SF6,SF6_FLAG_W,TCARBN,TCARBN_FLAG_W,ALKALI,ALKALI_FLAG_W,PH_TOT,PH_TOT_FLAG_W,DELC13,DELC13_FLAG_W,DELC14,DELC14_FLAG_W,C14ERR,DOC,DOC_FLAG_W,TDN,TDN_FLAG_W,TON,TON_FLAG_W,D15N_NO3,D15N_NO3_FLAG_W,BTL_DATE,BTL_TIME,BTL_LAT,BTL_LON,CTDRINKO,CTDRINKO_FLAG_W,CTDFLUOR,CTDFLUOR_FLAG_W,CTDXMISS,CTDXMISS_FLAG_W,CTDBACKSCATTER,CTDBACKSCATTER_FLAG_W,PH_TMP,D18O_NO3,D18O_NO3_FLAG_W,DOP,DOP_FLAG_W,HPLC,HPLC_FLAG_W,POC,POC_FLAG_W,REFTMP,REFTMP_FLAG_W,TDP,TDP_FLAG_W
,,,,,,,,,,,METERS,DBAR,ITS-90,PSS-78,,PSS-78,,UMOL/KG,,UMOL/KG,,UMOL/KG,,UMOL/KG,,UMOL/KG,,UMOL/KG,,PMOL/KG,,PMOL/KG,,FMOL/KG,,UMOL/KG,,UMOL/KG,,,,/MILLE,,/MILLE,,/MILLE,UMOL/KG,,UMOL/KG,,UMOL/KG,,/MILLE,,,,,,VOLTS,,VOLTS,,VOLTS,,VOLTS,,DEGC,/MILLE,,UMOL/KG,,,,UG/L,,ITS-90,,UMOL/KG,
320620170703,        P06,      70,          1,         33,         33,2,20170718,       0951,   -30.0800,   173.4991,       2505,    44.9,  18.9173,  35.7958,2,  35.7993,2, 229.2358,2, 227.0622,2,     0.3,2,    0.25,2,    0.04,2,    0.06,2,-999.000,9,-999.000,9,-999.0000,9,  2060.4,2, 2344.52,2,   8.0048,2, -999.00,9, -999.00,9, -999.00,    62.0,2,    4.90,2,     -999.0,1,  -999.0,9, 20170718,      948, -30.0800, 173.4991,        0.0,1,      0.208,1,      4.605,1,      0.212,1,      25.01,     -999.0,9,     -999.0,9,     -999.0,9,     -999.0,9,    18.9618,2,     -999.0,9
320620170703,        P06,      70,          1,         34,         34,2,20170718,       0951,   -30.0800,   173.4991,       2505,    19.9,  18.9202,  35.7938,2,  35.7942,2, 229.3202,2, 227.1944,2,     0.3,2,    0.25,2,    0.04,2,    0.06,2,-999.000,9,-999.000,9,-999.0000,9,  -999.0,9, -999.00,9,-999.0000,9, -999.00,9, -999.00,9, -999.00,    60.2,2,    5.20,2,     -999.0,1,  -999.0,9, 20170718,      950, -30.0800, 173.4991,        0.0,1,      0.216,1,      4.604,1,      0.208,1,     -999.0,     -999.0,9,     -999.0,9,     -999.0,9,     -999.0,9,    18.9513,2,     -999.0,9
320620170703,        P06,      70,          1,         35,         35,2,20170718,       0951,   -30.0800,   173.4991,       2505,     4.8,  18.9056,  35.7766,2,  35.7689,2, 229.1548,2, 227.6349,2,     0.4,2,    0.26,2,    0.04,2,    0.07,2,-999.000,9,-999.000,9,-999.0000,9,  2061.3,6, 2340.79,2,   8.0054,2, -999.00,9, -999.00,9, -999.00,    60.0,2, -999.00,5,     -999.0,1,  -999.0,9, 20170718,      951, -30.0800, 173.4991,        0.0,1,      0.219,1,      2.335,1,      0.211,1,      25.01,     -999.0,9,     -999.0,9,     -999.0,9,     -999.0,9,    18.9242,2,     -999.0,9