BOTTLE,20230922CCHSIOCBG
EXPOCODE,SECT_ID,STNNBR,CASTNO,SAMPNO,BTLNBR,BTLNBR_FLAG_W,DATE,TIME,LATITUDE,LONGITUDE,DEPTH,CTDPRS,CTDTMP,CTDSAL,CTDSAL_FLAG_W,SALNTY,SALNTY_FLAG_W,CTDOXY,CTDOXY_FLAG_W,OXYGEN,OXYGEN_FLAG_W,SILCAT,SILCAT_FLAG_W,NITRAT,NITRAT_FLAG_W,NITRIT,NITRIT_FLAG_W,PHSPHT,PHSPHT_FLAG_W,CFC-11,CFC-11_FLAG_W,CFC-12,CFC-12_FLAG_W,SF6,SF6_FLAG_W,TCARBN,TCARBN_FLAG_W,ALKALI,ALKALI_FLAG_W,PH_TOT,PH_TOT_FLAG_W,DELC13,DELC13_FLAG_W,DELC14,DELC14_FLAG_W,C14ERR,DOC,DOC_FLAG_W,TDN,TDN_FLAG_W,TON,TON_FLAG_W,D15N_NO3,D15N_NO3_FLAG_W,BTL_DATE,BTL_TIME,BTL_LAT,BTL_LON,CTDRINKO,CTDRINKO_FLAG_W,CTDFLUOR,CTDFLUOR_FLAG_W,CTDXMISS,CTDXMISS_FLAG_W,CTDBACKSCATTER,CTDBACKSCATTER_FLAG_W,PH_TMP,D18O_NO3,D18O_NO3_FLAG_W,DOP,DOP_FLAG_W,HPLC,HPLC_FLAG_W,POC,POC_FLAG_W,REFTMP,REFTMP_FLAG_W,TDP,TDP_FLAG_W
,,,,,,,,,,,METERS,DBAR,ITS-90,PSS-78,,PSS-78,,UMOL/KG,,UMOL/KG,,UMOL/KG,,UMOL/KG,,UMOL/KG,,UMOL/KG,,PMOL/KG,,PMOL/KG,,FMOL/KG,,UMOL/KG,,UMOL/KG,,,,/MILLE,,/MILLE,,/MILLE,UMOL/KG,,UMOL/KG,,UMOL/KG,,/MILLE,,,,,,VOLTS,,VOLTS,,VOLTS,,VOLTS,,DEGC,/MILLE,,UMOL/KG,,,,UG/L,,ITS-90,,UMOL/KG,
320620170703,        P06,      95,          1,         33,         33,2,20170727,       1920,   -32.5000,  -176.7500,       6147,    65.2,  17.2669,  35.6273,2,  35.6400,2, 230.6110,2, 231.4274,2,     0.6,2,    0.85,2,    0.13,2,    0.18,2,   2.269,2,   1.324,2,   1.4040,2,  2073.5,2, 2335.83,2,   7.9706,2, -999.00,9, -999.00,9, -999.00,  -999.0,9, -999.00,9,     -999.0,9,  -999.0,9, 20170727,     1916, -32.5000,-176.7499,        0.0,1,      0.200,1,      4.584,1,      0.290,1,      25.02,     -999.0,9,     -999.0,9,     -999.0,9,     -999.0,9,    17.4235,2,     -999.0,9
320620170703,        P06,      95,          1,         34,         34,2,20170727,       1920,   -32.5000,  -176.7500,       6147,    39.6,  17.4187,  35.6425,2,  35.6705,2, 230.4182,2, 231.1555,2,     0.5,2,    0.84,2,    0.09,2,    0.16,2,   2.272,2,   1.314,2,   1.2470,2,  -999.0,9, -999.00,9,-999.0000,9, -999.00,9, -999.00,9, -999.00,  -999.0,9, -999.00,9,     -999.0,9,  -999.0,9, 20170727,     1917, -32.5000,-176.7500,        0.0,1,      0.196,1,      4.578,1,      0.311,1,     -999.0,     -999.0,9,     -999.0,9,     -999.0,9,     -999.0,9,    17.6177,2,     -999.0,9
320620170703,        P06,      95,          1,         35,         35,4,20170727,       1920,   -32.5000,  -176.7500,       6147,    19.7,  17.4625,  35.6484,3,  35.5032,3, 230.8495,2, 223.0340,3,     1.6,3,    3.73,3,    0.07,3,    0.35,3,   2.433,3,   1.390,3,   1.2880,3,  2087.4,4, 2328.42,3,   7.9297,4, -999.00,9, -999.00,9, -999.00,  -999.0,9, -999.00,9,     -999.0,9,  -999.0,9, 20170727,     1919, -32.5001,-176.7500,        0.0,1,      0.204,1,      4.569,1,      0.310,1,      25.01,     -999.0,9,     -999.0,9,     -999.0,9,     -999.0,9,    17.6667,3,     -999.0,9
320620170703,        P06,      95,          1,         36,         36,2,20170727,       1920,   -32.5000,  -176.7500,       6147,     4.5,  17.4709,  35.6512,2,  35.6800,2, 230.4182,2, 231.3749,2,     0.5,2,    0.76,2,    0.08,2,    0.15,2,   2.230,2,   1.306,2,   1.3460,2,  2069.8,6, 2338.30,2,   7.9775,2, -999.00,9, -999.00,9, -999.00,  -999.0,9, -999.00,9,     -999.0,9,  -999.0,9, 20170727,     1920, -32.5000,-176.7500,        0.0,1,      0.206,1,      4.566,1,      0.302,1,      25.01,     -999.0,9,     -999.0,9,     -999.0,9,     -999.0,9,    17.6744,2,     -999.0,9