BOTTLE,20230922CCHSIOCBG
EXPOCODE,SECT_ID,STNNBR,CASTNO,SAMPNO,BTLNBR,BTLNBR_FLAG_W,DATE,TIME,LATITUDE,LONGITUDE,DEPTH,CTDPRS,CTDTMP,CTDSAL,CTDSAL_FLAG_W,SALNTY,SALNTY_FLAG_W,CTDOXY,CTDOXY_FLAG_W,OXYGEN,OXYGEN_FLAG_W,SILCAT,SILCAT_FLAG_W,NITRAT,NITRAT_FLAG_W,NITRIT,NITRIT_FLAG_W,PHSPHT,PHSPHT_FLAG_W,CFC-11,CFC-11_FLAG_W,CFC-12,CFC-12_FLAG_W,SF6,SF6_FLAG_W,TCARBN,TCARBN_FLAG_W,ALKALI,ALKALI_FLAG_W,PH_TOT,PH_TOT_FLAG_W,DELC13,DELC13_FLAG_W,DELC14,DELC14_FLAG_W,C14ERR,DOC,DOC_FLAG_W,TDN,TDN_FLAG_W,TON,TON_FLAG_W,D15N_NO3,D15N_NO3_FLAG_W,BTL_DATE,BTL_TIME,BTL_LAT,BTL_LON,CTDRINKO,CTDRINKO_FLAG_W,CTDFLUOR,CTDFLUOR_FLAG_W,CTDXMISS,CTDXMISS_FLAG_W,CTDBACKSCATTER,CTDBACKSCATTER_FLAG_W,PH_TMP,D18O_NO3,D18O_NO3_FLAG_W,DOP,DOP_FLAG_W,HPLC,HPLC_FLAG_W,POC,POC_FLAG_W,REFTMP,REFTMP_FLAG_W,TDP,TDP_FLAG_W
,,,,,,,,,,,METERS,DBAR,ITS-90,PSS-78,,PSS-78,,UMOL/KG,,UMOL/KG,,UMOL/KG,,UMOL/KG,,UMOL/KG,,UMOL/KG,,PMOL/KG,,PMOL/KG,,FMOL/KG,,UMOL/KG,,UMOL/KG,,,,/MILLE,,/MILLE,,/MILLE,UMOL/KG,,UMOL/KG,,UMOL/KG,,/MILLE,,,,,,VOLTS,,VOLTS,,VOLTS,,VOLTS,,DEGC,/MILLE,,UMOL/KG,,,,UG/L,,ITS-90,,UMOL/KG,
320620170703,        P06,      12,          1,          1,         37,2,20170706,       2209,   -30.0812,   154.9978,       4715,  4792.5,   1.2120,  34.7125,2,  34.7152,2, 196.7258,2, 197.3781,2,   119.0,2,   32.53,2,    0.00,2,    2.25,2,   0.092,4,   0.091,4,   0.0000,4,  2279.9,6, 2381.32,2,   7.6157,2, -999.00,9, -999.00,9, -999.00,    38.0,2, -999.00,9,     -999.0,9,  -999.0,9, 20170706,     1943, -30.0812, 154.9990,        0.0,1,      0.061,1,      4.670,1,      0.221,1,      25.02,     -999.0,9,     -999.0,9,     -999.0,9,     -999.0,9,     1.2122,2,     -999.0,9
320620170703,        P06,      12,          1,          2,          2,2,20170706,       2209,   -30.0812,   154.9978,       4715,  4700.5,   1.2069,  34.7129,2,  34.7133,2, 196.7258,2, 197.2401,2,   119.2,2,   32.49,2,    0.00,2,    2.26,2,   0.056,2,   0.058,2,   0.0000,4,  2278.1,2, 2378.96,2,   7.6159,2, -999.00,9, -999.00,9, -999.00,    45.8,3, -999.00,9,     -999.0,9,  -999.0,9, 20170706,     1949, -30.0811, 154.9990,        0.0,1,      0.061,1,      4.687,1,      0.173,1,      25.03,     -999.0,9,     -999.0,9,     -999.0,9,     -999.0,9,     1.2063,2,     -999.0,9
320620170703,        P06,      12,          1,          3,         38,2,20170706,       2209,   -30.0812,   154.9978,       4715,  4631.6,   1.2034,  34.7130,2,-999.0000,9, 229.0776,4,-999.0000,9,  -999.0,9, -999.00,9, -999.00,9, -999.00,9,-999.000,9,-999.000,9,-999.0000,9,  -999.0,9, -999.00,9,-999.0000,9, -999.00,9, -999.00,9, -999.00,  -999.0,9, -999.00,9,     -999.0,9,  -999.0,9, 20170706,     1953, -30.0812, 154.9994,        0.0,1,      0.061,1,      4.688,1,      0.179,1,     -999.0,     -999.0,9,     -999.0,9,     -999.0,9,     -999.0,9,     1.2040,2,     -999.0,9
320620170703,        P06,      12,          1,          4,          4,2,20170706,       2209,   -30.0812,   154.9978,       4715,  4528.5,   1.1946,  34.7133,2,-999.0000,9, 227.4030,4,-999.0000,9,  -999.0,9, -999.00,9, -999.00,9, -999.00,9,-999.000,9,-999.000,9,-999.0000,9,  -999.0,9, -999.00,9,-999.0000,9, -999.00,9, -999.00,9, -999.00,  -999.0,9, -999.00,9,     -999.0,9,  -999.0,9, 20170706,     1957, -30.0811, 154.9996,        0.0,1,      0.061,1,      4.683,1,      0.192,1,     -999.0,     -999.0,9,     -999.0,9,     -999.0,9,     -999.0,9,     1.1953,2,     -999.0,9
320620170703,        P06,      12,          1,          5,         39,2,20170706,       2209,   -30.0812,   154.9978,       4715,  4373.2,   1.1853,  34.7136,2,  34.7138,2, 196.7258,2, 196.3299,2,   118.6,2,   32.53,2,    0.00,2,    2.26,2,   0.046,2,   0.053,2,   0.0000,4,  2280.4,3, 2380.62,2,   7.6161,2, -999.00,9, -999.00,9, -999.00,    44.9,3, -999.00,9,     -999.0,9,  -999.0,9, 20170706,     2002, -30.0810, 154.9998,        0.0,1,      0.061,1,      4.693,1,      0.162,1,      25.00,     -999.0,9,     -999.0,9,     -999.0,9,     -999.0,9,     1.1853,2,     -999.0,9
320620170703,        P06,      12,          1,          6,          6,2,20170706,       2209,   -30.0812,   154.9978,       4715,  4272.6,   1.1810,  34.7138,2,  34.7140,2, 196.7258,2, 196.1546,2,   118.1,2,   32.49,2,    0.00,2,    2.26,2,   0.044,2,   0.051,2,   0.0000,4,  -999.0,9, -999.00,9,-999.0000,9, -999.00,9, -999.00,9, -999.00,    40.6,2, -999.00,9,     -999.0,9,  -999.0,9, 20170706,     2006, -30.0809, 154.9999,        0.0,1,      0.061,1,      4.700,1,      0.147,1,     -999.0,     -999.0,9,     -999.0,9,     -999.0,9,     -999.0,9,     1.1802,2,     -999.0,9
320620170703,        P06,      12,          1,          7,         40,2,20170706,       2209,   -30.0812,   154.9978,       4715,  3896.8,   1.1800,  34.7150,2,  34.7150,2, 195.9727,2, 195.9791,2,   117.2,2,   32.45,2,    0.00,2,    2.25,2,-999.000,9,-999.000,9,-999.0000,9,  2278.0,2, 2376.79,2,   7.6150,3, -999.00,9, -999.00,9, -999.00,    39.4,2, -999.00,9,     -999.0,9,  -999.0,9, 20170706,     2016, -30.0808, 155.0001,        0.0,1,      0.062,1,      4.705,1,      0.141,1,      25.03,     -999.0,9,     -999.0,9,     -999.0,9,     -999.0,9,     1.1784,2,     -999.0,9
320620170703,        P06,      12,          1,          8,          8,2,20170706,       2209,   -30.0812,   154.9978,       4715,  3503.6,   1.2210,  34.7168,2,  34.7172,2, 194.9788,2, 194.5783,2,   115.2,2,   32.33,2,    0.00,2,    2.25,2,   0.026,2,   0.041,2,   0.0000,4,  -999.0,9, -999.00,9,-999.0000,9, -999.00,9, -999.00,9, -999.00,    40.9,2, -999.00,9,     -999.0,9,  -999.0,9, 20170706,     2025, -30.0808, 155.0001,        0.0,1,      0.062,1,      4.708,1,      0.136,1,     -999.0,     -999.0,9,     -999.0,9,     -999.0,9,     -999.0,9,     1.2219,2,     -999.0,9
320620170703,        P06,      12,          1,          9,         41,2,20170706,       2209,   -30.0812,   154.9978,       4715,  3144.2,   1.3937,  34.7211,2,  34.7213,2, 191.6702,2, 191.9893,2,   110.5,2,   32.13,2,    0.00,2,    2.23,2,-999.000,9,-999.000,9,-999.0000,9,  -999.0,9, -999.00,9,-999.0000,9, -999.00,9, -999.00,9, -999.00,  -999.0,9, -999.00,9,     -999.0,9,  -999.0,9, 20170706,     2033, -30.0808, 154.9999,        0.0,1,      0.061,1,      4.708,1,      0.136,1,     -999.0,     -999.0,9,     -999.0,9,     -999.0,9,     -999.0,9,     1.3911,2,     -999.0,9
320620170703,        P06,      12,          1,         10,         10,2,20170706,       2209,   -30.0812,   154.9978,       4715,  2873.0,   1.5797,  34.7225,2,  34.7219,2, 188.2850,2, 188.4890,2,   105.2,2,   32.01,2,    0.00,2,    2.24,2,   0.033,2,   0.062,2,   0.0000,4,  -999.0,9, -999.00,9,-999.0000,9, -999.00,9, -999.00,9, -999.00,    44.4,3, -999.00,9,     -999.0,9,  -999.0,9, 20170706,     2040, -30.0807, 155.0002,        0.0,1,      0.061,1,      4.708,1,      0.138,1,     -999.0,     -999.0,9,     -999.0,9,     -999.0,9,     -999.0,9,     1.6025,2,     -999.0,9
320620170703,        P06,      12,          1,         11,         42,2,20170706,       2209,   -30.0812,   154.9978,       4715,  2621.0,   1.7869,  34.7198,2,  34.7186,2, 183.7899,2, 183.8246,2,   100.3,2,   32.10,2,    0.00,2,    2.24,2,-999.000,9,-999.000,9,-999.0000,9,  2267.3,2, 2357.34,3,   7.6013,2, -999.00,9, -999.00,9, -999.00,  -999.0,9, -999.00,9,     -999.0,9,  -999.0,9, 20170706,     2046, -30.0805, 155.0003,        0.0,1,      0.062,1,      4.708,1,      0.137,1,      25.01,     -999.0,9,     -999.0,9,     -999.0,9,     -999.0,9,     1.8107,2,     -999.0,9
320620170703,        P06,      12,          1,         12,         12,2,20170706,       2209,   -30.0812,   154.9978,       4715,  2363.2,   2.0321,  34.7039,2,  34.7044,2, 177.7818,2, 177.1748,2,    95.9,2,   32.46,2,    0.00,2,    2.27,2,   0.031,2,   0.057,2,   0.0000,4,  -999.0,9, -999.00,9,-999.0000,9, -999.00,9, -999.00,9, -999.00,    44.4,3, -999.00,9,     -999.0,9,  -999.0,9, 20170706,     2052, -30.0806, 155.0000,        0.0,1,      0.061,1,      4.708,1,      0.138,1,     -999.0,     -999.0,9,     -999.0,9,     -999.0,9,     -999.0,9,     2.0319,2,     -999.0,9
320620170703,        P06,      12,          1,         13,         43,2,20170706,       2209,   -30.0812,   154.9978,       4715,  2111.8,   2.2576,  34.6755,2,  34.6763,2, 169.1824,2, 169.4293,2,    94.4,2,   33.21,2,    0.00,2,    2.32,2,-999.000,9,-999.000,9,-999.0000,9,  2272.7,2, 2361.40,2,   7.5837,2, -999.00,9, -999.00,9, -999.00,    39.7,2, -999.00,9,     -999.0,9,  -999.0,9, 20170706,     2057, -30.0806, 154.9998,        0.0,1,      0.061,1,      4.707,1,      0.138,1,      25.01,     -999.0,9,     -999.0,9,     -999.0,9,     -999.0,9,     2.2543,2,     -999.0,9
320620170703,        P06,      12,          1,         14,         14,2,20170706,       2209,   -30.0812,   154.9978,       4715,  1886.4,   2.4483,  34.6454,2,  34.6456,2, 159.1429,2, 158.2145,2,    97.8,2,   34.21,2,    0.00,2,    2.40,2,   0.024,2,   0.049,2,   0.0000,4,  -999.0,9, -999.00,9,-999.0000,9, -999.00,9, -999.00,9, -999.00,    36.8,2, -999.00,9,     -999.0,9,  -999.0,9, 20170706,     2103, -30.0806, 155.0000,        0.0,1,      0.062,1,      4.707,1,      0.143,1,     -999.0,     -999.0,9,     -999.0,9,     -999.0,9,     -999.0,9,     2.4415,2,     -999.0,9
320620170703,        P06,      12,          1,         15,         15,2,20170706,       2209,   -30.0812,   154.9978,       4715,  1684.1,   2.7607,  34.6093,2,  34.6136,2, 153.4908,2, 153.8333,2,    94.8,2,   34.59,2,    0.00,2,    2.42,2,-999.000,9,-999.000,9,-999.0000,9,  2281.9,6, 2377.57,3,   7.5709,2, -999.00,9, -999.00,9, -999.00,    38.1,2, -999.00,9,     -999.0,9,  -999.0,9, 20170706,     2108, -30.0805, 155.0000,        0.0,1,      0.061,1,      4.707,1,      0.140,1,      25.00,     -999.0,9,     -999.0,9,     -999.0,9,     -999.0,9,     -999.0,5,     -999.0,9
320620170703,        P06,      12,          1,         16,         16,2,20170706,       2209,   -30.0812,   154.9978,       4715,  1480.9,   3.2068,  34.5661,2,  34.5633,2, 152.9901,2, 153.6458,2,    85.6,2,   34.36,2,    0.00,2,    2.41,2,   0.069,2,   0.074,2,   0.3330,4,  2271.2,2, 2352.37,2,   7.5747,2, -999.00,9, -999.00,9, -999.00,    43.8,3, -999.00,9,     -999.0,9,  -999.0,9, 20170706,     2112, -30.0806, 154.9998,        0.0,1,      0.062,1,      4.707,1,      0.143,1,      25.02,     -999.0,9,     -999.0,9,     -999.0,9,     -999.0,9,     -999.0,5,     -999.0,9
320620170703,        P06,      12,          1,         17,         17,2,20170706,       2209,   -30.0812,   154.9978,       4715,  1350.1,   3.5497,  34.5365,2,  34.5345,2, 158.4110,2, 158.6372,2,    76.6,2,   33.71,2,    0.00,2,    2.36,2,-999.000,9,-999.000,9,-999.0000,9,  2257.8,2, 2347.13,2,   7.5832,2, -999.00,9, -999.00,9, -999.00,    38.6,2, -999.00,9,     -999.0,9,  -999.0,9, 20170706,     2116, -30.0806, 154.9996,        0.0,1,      0.062,1,      4.707,1,      0.141,1,      25.01,     -999.0,9,     -999.0,9,     -999.0,9,     -999.0,9,     -999.0,5,     -999.0,9
320620170703,        P06,      12,          1,         18,         18,2,20170706,       2209,   -30.0812,   154.9978,       4715,  1247.5,   3.9305,  34.5076,2,  34.5056,2, 163.9507,2, 164.3889,2,    67.3,2,   32.97,2,    0.00,2,    2.30,2,   0.217,2,   0.180,2,   0.4040,4,  -999.0,9, -999.00,9,-999.0000,9, -999.00,9, -999.00,9, -999.00,    41.0,2, -999.00,9,     -999.0,9,  -999.0,9, 20170706,     2119, -30.0806, 154.9996,        0.0,1,      0.061,1,      4.707,1,      0.144,1,     -999.0,     -999.0,9,     -999.0,9,     -999.0,9,     -999.0,9,     -999.0,5,     -999.0,9
320620170703,        P06,      12,          1,         19,         19,2,20170706,       2209,   -30.0812,   154.9978,       4715,  1147.6,   4.4204,  34.4786,2,  34.4781,2, 171.5796,2, 171.8445,2,    55.9,2,   31.89,2,    0.00,2,    2.20,2,-999.000,9,-999.000,9,-999.0000,9,  2230.1,2, 2321.46,2,   7.6059,2, -999.00,9, -999.00,9, -999.00,    45.8,3, -999.00,9,     -999.0,9,  -999.0,9, 20170706,     2122, -30.0806, 154.9997,        0.0,1,      0.060,1,      4.707,1,      0.139,1,      25.01,     -999.0,9,     -999.0,9,     -999.0,9,     -999.0,9,     -999.0,5,     -999.0,9
320620170703,        P06,      12,          1,         20,         20,2,20170706,       2209,   -30.0812,   154.9978,       4715,  1044.4,   5.0590,  34.4537,2,  34.4532,2, 180.7416,2, 180.1338,2,    43.6,2,   30.52,2,    0.00,2,    2.10,2,   0.612,2,   0.342,2,   0.3510,2,  2211.4,2, 2310.87,2,   7.6242,2, -999.00,9, -999.00,9, -999.00,    40.6,2, -999.00,9,     -999.0,9,  -999.0,9, 20170706,     2125, -30.0805, 154.9999,        0.0,1,      0.060,1,      4.707,1,      0.144,1,      25.01,     -999.0,9,     -999.0,9,     -999.0,9,     -999.0,9,     -999.0,5,     -999.0,9
320620170703,        P06,      12,          1,         21,         21,2,20170706,       2209,   -30.0812,   154.9978,       4715,   943.5,   5.6913,  34.4492,2,-999.0000,9, 186.0513,2,-999.0000,9,  -999.0,9, -999.00,9, -999.00,9, -999.00,9,-999.000,9,-999.000,9,-999.0000,9,  -999.0,9, -999.00,9,-999.0000,9, -999.00,9, -999.00,9, -999.00,  -999.0,9, -999.00,9,     -999.0,9,  -999.0,9, 20170706,     2128, -30.0805, 155.0001,        0.0,1,      0.061,1,      4.706,1,      0.142,1,     -999.0,     -999.0,9,     -999.0,9,     -999.0,9,     -999.0,9,     -999.0,5,     -999.0,9
320620170703,        P06,      12,          1,         22,         22,2,20170706,       2209,   -30.0812,   154.9978,       4715,   844.0,   6.4311,  34.4651,2,-999.0000,9, 191.2859,2,-999.0000,9,  -999.0,9, -999.00,9, -999.00,9, -999.00,9,-999.000,9,-999.000,9,-999.0000,9,  -999.0,9, -999.00,9,-999.0000,9, -999.00,9, -999.00,9, -999.00,  -999.0,9, -999.00,9,     -999.0,9,  -999.0,9, 20170706,     2131, -30.0805, 155.0001,        0.0,1,      0.060,1,      4.705,1,      0.140,1,     -999.0,     -999.0,9,     -999.0,9,     -999.0,9,     -999.0,9,     -999.0,5,     -999.0,9
320620170703,        P06,      12,          1,         23,         23,2,20170706,       2209,   -30.0812,   154.9978,       4715,   741.4,   7.2185,  34.5001,2,  34.4928,2, 197.9973,2, 197.8692,2,    16.9,2,   24.90,2,    0.00,2,    1.70,2,-999.000,9,-999.000,9,-999.0000,9,  2168.6,2, 2289.45,2,   7.6787,2, -999.00,9, -999.00,9, -999.00,    45.6,2, -999.00,9,     -999.0,9,  -999.0,9, 20170706,     2134, -30.0805, 154.9999,        0.0,1,      0.059,1,      4.704,1,      0.142,1,      25.01,     -999.0,9,     -999.0,9,     -999.0,9,     -999.0,9,     -999.0,5,     -999.0,9
320620170703,        P06,      12,          1,         24,         24,2,20170706,       2209,   -30.0812,   154.9978,       4715,   642.7,   8.0943,  34.5703,2,  34.5710,2, 200.6463,2, 187.7636,3,    11.9,2,   22.60,2,    0.00,2,    1.54,2,   2.066,2,   1.071,2,   0.5270,2,  -999.0,9, -999.00,9,-999.0000,9, -999.00,9, -999.00,9, -999.00,  -999.0,9, -999.00,9,     -999.0,9,  -999.0,9, 20170706,     2137, -30.0805, 154.9999,        0.0,1,      0.059,1,      4.702,1,      0.145,1,     -999.0,     -999.0,9,     -999.0,9,     -999.0,9,     -999.0,9,     -999.0,5,     -999.0,9
320620170703,        P06,      12,          1,         25,         25,2,20170706,       2209,   -30.0812,   154.9978,       4715,   539.6,   9.3815,  34.7027,2,  34.7058,2, 200.4349,2, 199.2820,2,     8.0,2,   19.58,2,    0.00,2,    1.33,2,-999.000,9,-999.000,9,-999.0000,9,  2151.2,2, 2288.40,2,   7.7283,2, -999.00,9, -999.00,9, -999.00,  -999.0,5, -999.00,9,     -999.0,9,  -999.0,9, 20170706,     2140, -30.0804, 155.0000,        0.0,1,      0.059,1,      4.701,1,      0.144,1,      25.04,     -999.0,9,     -999.0,9,     -999.0,9,     -999.0,9,     -999.0,5,     -999.0,9
320620170703,        P06,      12,          1,         26,         26,2,20170706,       2209,   -30.0812,   154.9978,       4715,   441.6,  11.1984,  34.9279,2,  34.9294,2, 196.0123,2, 196.9109,2,     5.5,2,   15.66,2,    0.00,2,    1.08,2,   2.602,2,   1.353,2,   0.7610,2,  2139.4,2, 2296.79,2,   7.7716,2, -999.00,9, -999.00,9, -999.00,  -999.0,5, -999.00,9,     -999.0,9,  -999.0,9, 20170706,     2143, -30.0804, 155.0001,        0.0,1,      0.059,1,      4.698,1,      0.145,1,      25.03,     -999.0,9,     -999.0,9,     -999.0,9,     -999.0,9,     -999.0,5,     -999.0,9
320620170703,        P06,      12,          1,         27,         27,2,20170706,       2209,   -30.0812,   154.9978,       4715,   366.8,  12.3020,  35.0281,2,  35.0203,2, 189.6799,2, 191.0679,2,     4.8,2,   14.28,2,    0.00,2,    1.00,2,-999.000,9,-999.000,9,-999.0000,9,  2134.8,2, 2300.72,2,   7.7907,2, -999.00,9, -999.00,9, -999.00,    46.1,2, -999.00,9,     -999.0,9,  -999.0,9, 20170706,     2146, -30.0804, 155.0001,        0.0,1,      0.060,1,      4.696,1,      0.145,1,      25.03,     -999.0,9,     -999.0,9,     -999.0,9,     -999.0,9,     -999.0,5,     -999.0,9
320620170703,        P06,      12,          1,         28,         28,2,20170706,       2209,   -30.0812,   154.9978,       4715,   317.9,  13.5917,  35.1732,2,-999.0000,9, 235.2547,4,-999.0000,9,  -999.0,9, -999.00,9, -999.00,9, -999.00,9,-999.000,9,-999.000,9,-999.0000,9,  -999.0,9, -999.00,9,-999.0000,9, -999.00,9, -999.00,9, -999.00,  -999.0,9, -999.00,9,     -999.0,9,  -999.0,9, 20170706,     2149, -30.0804, 155.0000,        0.0,1,      0.059,1,      4.694,1,      0.150,1,     -999.0,     -999.0,9,     -999.0,9,     -999.0,9,     -999.0,9,     -999.0,5,     -999.0,9
320620170703,        P06,      12,          1,         29,         29,2,20170706,       2209,   -30.0812,   154.9978,       4715,   266.8,  14.8726,  35.2957,2,  35.2550,2, 186.5829,2, 185.5590,2,     3.0,2,   10.68,2,    0.00,2,    0.75,2,-999.000,9,-999.000,9,-999.0000,9,  2118.1,2, 2310.70,2,   7.8433,2, -999.00,9, -999.00,9, -999.00,    48.7,2,   13.10,2,     -999.0,9,  -999.0,9, 20170706,     2152, -30.0804, 155.0000,        0.0,1,      0.060,1,      4.692,1,      0.151,1,      25.04,     -999.0,9,     -999.0,9,     -999.0,9,     -999.0,9,     -999.0,5,     -999.0,9
320620170703,        P06,      12,          1,         30,         30,2,20170706,       2209,   -30.0812,   154.9978,       4715,   217.1,  16.1344,  35.3912,2,  35.4034,2, 184.0663,2, 183.8100,2,     2.1,2,    8.49,2,    0.00,2,    0.63,2,   2.360,6,   1.305,6,   0.8765,6,  2107.3,2, 2373.89,3,   7.8796,2, -999.00,9, -999.00,9, -999.00,    55.7,2,   10.90,2,     -999.0,9,  -999.0,9, 20170706,     2154, -30.0804, 154.9999,        0.0,1,      0.059,1,      4.689,1,      0.153,1,      25.03,     -999.0,9,     -999.0,9,     -999.0,9,     -999.0,9,     -999.0,5,     -999.0,9
320620170703,        P06,      12,          1,         31,         31,2,20170706,       2209,   -30.0812,   154.9978,       4715,   162.7,  17.2189,  35.4964,2,  35.4979,2, 193.4886,3, 183.0469,2,     1.7,2,    7.19,2,    0.00,2,    0.54,2,   2.353,2,   1.350,2,   0.9920,2,  2099.1,2, 2325.76,2,   7.9030,2, -999.00,9, -999.00,9, -999.00,    49.8,2,    9.70,2,     -999.0,9,  -999.0,9, 20170706,     2157, -30.0805, 154.9996,        0.0,1,      0.061,1,      4.691,1,      0.152,1,      25.03,     -999.0,9,     -999.0,9,     -999.0,9,     -999.0,9,     -999.0,5,     -999.0,9
320620170703,        P06,      12,          1,         32,         32,2,20170706,       2209,   -30.0812,   154.9978,       4715,   111.2,  18.7375,  35.6226,2,  35.6305,2, 196.5243,3, 183.6234,2,     1.0,2,    5.16,2,    0.02,2,    0.42,2,   2.146,2,   1.290,2,   1.0200,2,  2088.4,2, 2331.74,2,   7.9396,2, -999.00,9, -999.00,9, -999.00,    55.4,2,    8.10,2,     -999.0,9,  -999.0,9, 20170706,     2200, -30.0806, 154.9993,        0.0,1,      0.067,1,      4.684,1,      0.160,1,      25.02,     -999.0,9,     -999.0,9,     -999.0,9,     -999.0,9,     -999.0,5,     -999.0,9