BOTTLE,20230922CCHSIOCBG
EXPOCODE,SECT_ID,STNNBR,CASTNO,SAMPNO,BTLNBR,BTLNBR_FLAG_W,DATE,TIME,LATITUDE,LONGITUDE,DEPTH,CTDPRS,CTDTMP,CTDSAL,CTDSAL_FLAG_W,SALNTY,SALNTY_FLAG_W,CTDOXY,CTDOXY_FLAG_W,OXYGEN,OXYGEN_FLAG_W,SILCAT,SILCAT_FLAG_W,NITRAT,NITRAT_FLAG_W,NITRIT,NITRIT_FLAG_W,PHSPHT,PHSPHT_FLAG_W,CFC-11,CFC-11_FLAG_W,CFC-12,CFC-12_FLAG_W,SF6,SF6_FLAG_W,TCARBN,TCARBN_FLAG_W,ALKALI,ALKALI_FLAG_W,PH_TOT,PH_TOT_FLAG_W,DELC13,DELC13_FLAG_W,DELC14,DELC14_FLAG_W,C14ERR,DOC,DOC_FLAG_W,TDN,TDN_FLAG_W,TON,TON_FLAG_W,D15N_NO3,D15N_NO3_FLAG_W,BTL_DATE,BTL_TIME,BTL_LAT,BTL_LON,CTDRINKO,CTDRINKO_FLAG_W,CTDFLUOR,CTDFLUOR_FLAG_W,CTDXMISS,CTDXMISS_FLAG_W,CTDBACKSCATTER,CTDBACKSCATTER_FLAG_W,PH_TMP,D18O_NO3,D18O_NO3_FLAG_W,DOP,DOP_FLAG_W,HPLC,HPLC_FLAG_W,POC,POC_FLAG_W,REFTMP,REFTMP_FLAG_W,TDP,TDP_FLAG_W
,,,,,,,,,,,METERS,DBAR,ITS-90,PSS-78,,PSS-78,,UMOL/KG,,UMOL/KG,,UMOL/KG,,UMOL/KG,,UMOL/KG,,UMOL/KG,,PMOL/KG,,PMOL/KG,,FMOL/KG,,UMOL/KG,,UMOL/KG,,,,/MILLE,,/MILLE,,/MILLE,UMOL/KG,,UMOL/KG,,UMOL/KG,,/MILLE,,,,,,VOLTS,,VOLTS,,VOLTS,,VOLTS,,DEGC,/MILLE,,UMOL/KG,,,,UG/L,,ITS-90,,UMOL/KG,
320620170703,        P06,     124,          1,         33,         33,2,20170806,       2352,   -32.4994,  -161.8331,       5416,    84.7,  17.9077,  35.6404,2,  35.6330,2, 231.0640,2, 233.5385,3,     0.1,2,    0.11,2,    0.02,2,    0.06,2,   2.158,2,   1.249,2,   1.5700,2,  2060.8,2, -999.00,9,   7.9887,2, -999.00,9, -999.00,9, -999.00,    66.8,2,    3.80,2,     -999.0,1,  -999.0,1, 20170806,     2348, -32.4996,-161.8333,        0.0,1,      0.142,1,      4.646,1,      0.175,1,      25.00,     -999.0,1,     -999.0,1,     -999.0,9,     -999.0,9,    17.8841,2,     -999.0,9
320620170703,        P06,     124,          1,         34,         34,2,20170806,       2352,   -32.4994,  -161.8331,       5416,    60.7,  17.9079,  35.6404,2,  35.6354,2, 231.0640,2, 230.9721,2,     0.0,2,    0.11,2,    0.02,2,    0.06,2,   2.083,2,   1.252,2,   1.5070,2,  2061.4,2, 2333.52,2,   7.9896,2, -999.00,9, -999.00,9, -999.00,    65.9,2,    3.90,2,     -999.0,1,  -999.0,1, 20170806,     2350, -32.4995,-161.8332,        0.0,1,      0.144,1,      4.647,1,      0.169,1,      25.00,     -999.0,1,     -999.0,1,     -999.0,9,     -999.0,9,    17.8802,2,       0.26,2
320620170703,        P06,     124,          1,         35,         35,2,20170806,       2352,   -32.4994,  -161.8331,       5416,    35.5,  17.9038,  35.6401,2,  35.6325,2, 231.0804,2, 230.9217,2,     0.1,2,    0.11,2,    0.02,2,    0.07,2,   2.075,2,   1.255,2,   1.4530,2,  2061.0,2, -999.00,9,   7.9891,2, -999.00,9, -999.00,9, -999.00,    61.0,3,    3.90,2,     -999.0,1,  -999.0,1, 20170806,     2351, -32.4995,-161.8331,        0.0,1,      0.137,1,      4.647,1,      0.175,1,      25.00,     -999.0,1,     -999.0,1,     -999.0,9,     -999.0,9,    17.8762,2,     -999.0,9
320620170703,        P06,     124,          1,         36,         36,2,20170806,       2352,   -32.4994,  -161.8331,       5416,     6.9,  17.9007,  35.6413,2,  35.6323,2, 231.0828,2, 230.9440,2,     0.1,2,    0.11,2,    0.02,2,    0.08,2,   2.083,2,   1.248,2,   1.5710,2,  2061.2,6, 2336.64,2,   7.9891,2, -999.00,9, -999.00,9, -999.00,    64.5,2,    4.00,2,     -999.0,1,  -999.0,1, 20170806,     2352, -32.4994,-161.8331,        0.0,1,      0.127,1,      4.647,1,      0.169,1,      25.02,     -999.0,1,     -999.0,1,     -999.0,9,     -999.0,9,    17.1370,2,       0.27,2