BOTTLE,20230922CCHSIOCBG
EXPOCODE,SECT_ID,STNNBR,CASTNO,SAMPNO,BTLNBR,BTLNBR_FLAG_W,DATE,TIME,LATITUDE,LONGITUDE,DEPTH,CTDPRS,CTDTMP,CTDSAL,CTDSAL_FLAG_W,SALNTY,SALNTY_FLAG_W,CTDOXY,CTDOXY_FLAG_W,OXYGEN,OXYGEN_FLAG_W,SILCAT,SILCAT_FLAG_W,NITRAT,NITRAT_FLAG_W,NITRIT,NITRIT_FLAG_W,PHSPHT,PHSPHT_FLAG_W,CFC-11,CFC-11_FLAG_W,CFC-12,CFC-12_FLAG_W,SF6,SF6_FLAG_W,TCARBN,TCARBN_FLAG_W,ALKALI,ALKALI_FLAG_W,PH_TOT,PH_TOT_FLAG_W,DELC13,DELC13_FLAG_W,DELC14,DELC14_FLAG_W,C14ERR,DOC,DOC_FLAG_W,TDN,TDN_FLAG_W,TON,TON_FLAG_W,D15N_NO3,D15N_NO3_FLAG_W,BTL_DATE,BTL_TIME,BTL_LAT,BTL_LON,CTDRINKO,CTDRINKO_FLAG_W,CTDFLUOR,CTDFLUOR_FLAG_W,CTDXMISS,CTDXMISS_FLAG_W,CTDBACKSCATTER,CTDBACKSCATTER_FLAG_W,PH_TMP,D18O_NO3,D18O_NO3_FLAG_W,DOP,DOP_FLAG_W,HPLC,HPLC_FLAG_W,POC,POC_FLAG_W,REFTMP,REFTMP_FLAG_W,TDP,TDP_FLAG_W
,,,,,,,,,,,METERS,DBAR,ITS-90,PSS-78,,PSS-78,,UMOL/KG,,UMOL/KG,,UMOL/KG,,UMOL/KG,,UMOL/KG,,UMOL/KG,,PMOL/KG,,PMOL/KG,,FMOL/KG,,UMOL/KG,,UMOL/KG,,,,/MILLE,,/MILLE,,/MILLE,UMOL/KG,,UMOL/KG,,UMOL/KG,,/MILLE,,,,,,VOLTS,,VOLTS,,VOLTS,,VOLTS,,DEGC,/MILLE,,UMOL/KG,,,,UG/L,,ITS-90,,UMOL/KG,
320620170703,        P06,      11,          2,          1,         37,2,20170706,       1507,   -30.0803,   154.5000,       4589,  4657.3,   1.1982,  34.7129,2,  34.7131,2, 196.1612,2, 197.7207,2,   119.1,2,   32.62,2,    0.00,2,    2.27,2,   0.096,4,   0.046,2,   0.0000,2,  2281.2,6, 2382.21,2,   7.6159,2, -999.00,9, -999.00,9, -999.00,  -999.0,9, -999.00,9,     -999.0,9,  -999.0,9, 20170706,     1222, -30.0798, 154.4999,        0.0,1,      0.061,1,      4.685,1,      0.180,1,      25.02,     -999.0,9,     -999.0,9,     -999.0,9,     -999.0,9,     1.1986,2,     -999.0,9
320620170703,        P06,      11,          2,          2,          2,2,20170706,       1507,   -30.0803,   154.5000,       4589,  4605.3,   1.1980,  34.7131,2,  34.7123,2, 196.1612,2, 196.6515,2,   119.2,2,   32.63,2,    0.00,2,    2.27,2,   0.076,2,   0.045,2,   0.0000,2,  2277.6,2, 2381.78,2,   7.6170,2, -999.00,9, -999.00,9, -999.00,  -999.0,9, -999.00,9,     -999.0,9,  -999.0,9, 20170706,     1226, -30.0798, 154.4998,        0.0,1,      0.061,1,      4.687,1,      0.177,1,      25.00,     -999.0,9,     -999.0,9,     -999.0,9,     -999.0,9,     1.1995,2,     -999.0,9
320620170703,        P06,      11,          2,          3,         38,2,20170706,       1507,   -30.0803,   154.5000,       4589,  4552.8,   1.1940,  34.7132,2,  34.7127,2, 196.1612,2, 196.3281,2,   119.1,2,   32.63,2,    0.00,2,    2.28,2,   0.071,2,   0.050,2,   0.0000,2,  2278.6,2, 2373.55,2,   7.6161,2, -999.00,9, -999.00,9, -999.00,  -999.0,9, -999.00,9,     -999.0,9,  -999.0,9, 20170706,     1229, -30.0798, 154.4998,        0.0,1,      0.061,1,      4.688,1,      0.176,1,      25.02,     -999.0,9,     -999.0,9,     -999.0,9,     -999.0,9,     1.1946,2,     -999.0,9
320620170703,        P06,      11,          2,          4,          4,2,20170706,       1507,   -30.0803,   154.5000,       4589,  4502.9,   1.1927,  34.7134,2,  34.7127,2, 196.1612,2, 196.0342,2,   119.1,2,   32.62,2,    0.00,2,    2.26,2,   0.069,2,   0.048,2,   0.0000,2,  2277.6,2, 2381.55,2,   7.6161,2, -999.00,9, -999.00,9, -999.00,  -999.0,9, -999.00,9,     -999.0,9,  -999.0,9, 20170706,     1232, -30.0799, 154.4999,        0.0,1,      0.061,1,      4.693,1,      0.163,1,      25.03,     -999.0,9,     -999.0,9,     -999.0,9,     -999.0,9,     1.1924,2,     -999.0,9
320620170703,        P06,      11,          2,          5,         39,2,20170706,       1507,   -30.0803,   154.5000,       4589,  4426.1,   1.1893,  34.7136,2,  34.7127,2, 196.1612,2, 195.8688,2,   118.9,2,   32.64,2,    0.00,2,    2.26,2,   0.065,2,   0.046,2,   0.0000,2,  2278.6,2, 2383.76,2,   7.6210,2, -999.00,9, -999.00,9, -999.00,  -999.0,9, -999.00,9,     -999.0,9,  -999.0,9, 20170706,     1236, -30.0800, 154.5000,        0.0,1,      0.061,1,      4.695,1,      0.159,1,      25.03,     -999.0,9,     -999.0,9,     -999.0,9,     -999.0,9,     1.1892,2,     -999.0,9
320620170703,        P06,      11,          2,          6,          6,2,20170706,       1507,   -30.0803,   154.5000,       4589,  4270.3,   1.1788,  34.7138,2,  34.7127,2, 196.1612,2, 195.7565,2,   118.6,2,   32.62,2,    0.00,2,    2.26,2,   0.067,2,   0.059,2,   0.0000,2,  2279.2,2, 2383.94,3,   7.6162,2, -999.00,9, -999.00,9, -999.00,  -999.0,9, -999.00,9,     -999.0,9,  -999.0,9, 20170706,     1241, -30.0801, 154.5001,        0.0,1,      0.061,1,      4.701,1,      0.151,1,      25.02,     -999.0,9,     -999.0,9,     -999.0,9,     -999.0,9,     1.1796,2,     -999.0,9
320620170703,        P06,      11,          2,          7,         40,2,20170706,       1507,   -30.0803,   154.5000,       4589,  4141.6,   1.1720,  34.7142,2,  34.7134,2, 196.1612,2, 195.7762,2,   118.3,2,   32.56,2,    0.00,2,    2.26,2,   0.042,2,   0.047,2,   0.0000,2,  2279.0,2, 2381.90,2,   7.6154,2, -999.00,9, -999.00,9, -999.00,  -999.0,9, -999.00,9,     -999.0,9,  -999.0,9, 20170706,     1245, -30.0801, 154.5001,        0.0,1,      0.061,1,      4.703,1,      0.143,1,      25.02,     -999.0,9,     -999.0,9,     -999.0,9,     -999.0,9,     1.1722,2,     -999.0,9
320620170703,        P06,      11,          2,          8,          8,2,20170706,       1507,   -30.0803,   154.5000,       4589,  3963.6,   1.1693,  34.7146,2,  34.7131,2, 196.1612,2, 195.4810,2,   117.8,2,   32.49,2,    0.00,2,    2.26,2,-999.000,9,-999.000,9,-999.0000,9,  2278.3,2, 2382.08,2,-999.0000,5, -999.00,9, -999.00,9, -999.00,  -999.0,9, -999.00,9,     -999.0,9,  -999.0,9, 20170706,     1251, -30.0801, 154.5001,        0.0,1,      0.062,1,      4.704,1,      0.160,1,     -999.0,     -999.0,9,     -999.0,9,     -999.0,9,     -999.0,9,     1.1693,2,     -999.0,9
320620170703,        P06,      11,          2,          9,         41,2,20170706,       1507,   -30.0803,   154.5000,       4589,  3656.5,   1.1835,  34.7158,2,  34.7140,2, 195.6255,2, 195.2621,2,   116.5,2,   32.43,2,    0.00,2,    2.25,2,   0.044,2,   0.046,2,   0.0000,2,  2276.1,2, 2377.63,2,   7.6145,2, -999.00,9, -999.00,9, -999.00,  -999.0,9, -999.00,9,     -999.0,9,  -999.0,9, 20170706,     1259, -30.0800, 154.5001,        0.0,1,      0.062,1,      4.707,1,      0.136,1,      25.02,     -999.0,9,     -999.0,9,     -999.0,9,     -999.0,9,     1.1850,2,     -999.0,9
320620170703,        P06,      11,          2,         10,         10,2,20170706,       1507,   -30.0803,   154.5000,       4589,  3349.4,   1.2701,  34.7185,2,  34.7158,2, 194.4655,2, 194.5760,2,   113.9,2,   32.33,2,    0.00,2,    2.24,2,-999.000,9,-999.000,9,-999.0000,9,  2272.5,2, 2373.23,2,   7.6125,2, -999.00,9, -999.00,9, -999.00,  -999.0,9, -999.00,9,     -999.0,9,  -999.0,9, 20170706,     1308, -30.0800, 154.5000,        0.0,1,      0.060,1,      4.708,1,      0.135,1,      25.01,     -999.0,9,     -999.0,9,     -999.0,9,     -999.0,9,     1.2599,2,     -999.0,9
320620170703,        P06,      11,          2,         11,         42,2,20170706,       1507,   -30.0803,   154.5000,       4589,  3042.1,   1.4906,  34.7221,2,  34.7193,2, 191.2034,2, 190.8975,2,   108.9,2,   32.14,2,    0.00,2,    2.24,2,   0.039,2,   0.043,2,   0.0000,2,  2271.9,2, 2367.16,2,   7.6090,2, -999.00,9, -999.00,9, -999.00,  -999.0,9, -999.00,9,     -999.0,9,  -999.0,9, 20170706,     1316, -30.0801, 154.5001,        0.0,1,      0.061,1,      4.708,1,      0.139,1,      25.03,     -999.0,9,     -999.0,9,     -999.0,9,     -999.0,9,     1.4533,2,     -999.0,9
320620170703,        P06,      11,          2,         12,         12,2,20170706,       1507,   -30.0803,   154.5000,       4589,  2785.8,   1.7081,  34.7231,2,  34.7205,2, 186.9328,2, 187.3977,2,   102.9,2,   32.04,2,    0.00,2,    2.24,2,-999.000,9,-999.000,9,-999.0000,9,  2269.2,2, 2377.21,3,   7.6091,2, -999.00,9, -999.00,9, -999.00,  -999.0,9, -999.00,9,     -999.0,9,  -999.0,9, 20170706,     1323, -30.0801, 154.5001,        0.0,1,      0.061,1,      4.708,1,      0.137,1,      25.01,     -999.0,9,     -999.0,9,     -999.0,9,     -999.0,9,     1.7048,2,     -999.0,9
320620170703,        P06,      11,          2,         13,         43,2,20170706,       1507,   -30.0803,   154.5000,       4589,  2532.0,   1.8168,  34.7205,2,  34.7180,2, 184.5531,2, 184.8524,2,    99.8,2,   32.07,2,    0.00,2,    2.24,2,   0.046,2,   0.052,2,   0.0000,2,  2266.8,2, 2366.42,3,   7.6035,4, -999.00,9, -999.00,9, -999.00,  -999.0,9, -999.00,9,     -999.0,9,  -999.0,9, 20170706,     1330, -30.0802, 154.5002,        0.0,1,      0.061,1,      4.708,1,      0.138,1,      25.02,     -999.0,9,     -999.0,9,     -999.0,9,     -999.0,9,     1.8087,2,     -999.0,9
320620170703,        P06,      11,          2,         14,         14,2,20170706,       1507,   -30.0803,   154.5000,       4589,  2277.6,   2.0605,  34.7017,2,  34.7019,2, 177.8875,2, 177.3964,2,    95.6,2,   32.52,2,    0.00,2,    2.27,2,-999.000,9,-999.000,9,-999.0000,9,  2268.4,2, 2366.76,3,   7.5935,2, -999.00,9, -999.00,9, -999.00,  -999.0,9, -999.00,9,     -999.0,9,  -999.0,9, 20170706,     1337, -30.0803, 154.5002,        0.0,1,      0.061,1,      4.708,1,      0.138,1,      25.01,     -999.0,9,     -999.0,9,     -999.0,9,     -999.0,9,     2.0289,2,     -999.0,9
320620170703,        P06,      11,          2,         15,         15,2,20170706,       1507,   -30.0803,   154.5000,       4589,  2024.0,   2.2518,  34.6735,2,  34.6718,2, 167.6915,2, 167.0332,2,    96.0,2,   33.44,2,    0.00,2,    2.33,2,   0.044,2,   0.051,2,   0.0000,2,  2274.7,2, 2365.19,2,   7.5819,2, -999.00,9, -999.00,9, -999.00,  -999.0,9, -999.00,9,     -999.0,9,  -999.0,9, 20170706,     1344, -30.0805, 154.5001,        0.0,1,      0.062,1,      4.708,1,      0.140,1,      25.02,     -999.0,9,     -999.0,9,     -999.0,9,     -999.0,9,     2.2540,2,     -999.0,9
320620170703,        P06,      11,          2,         16,         16,2,20170706,       1507,   -30.0803,   154.5000,       4589,  1821.1,   2.4476,  34.6449,2,  34.6431,2, 158.4887,2, 158.2335,2,    97.2,2,   34.23,2,    0.00,2,    2.40,2,-999.000,9,-999.000,9,-999.0000,9,  2281.6,2, 2382.37,3,   7.5731,2, -999.00,9, -999.00,9, -999.00,  -999.0,9, -999.00,9,     -999.0,9,  -999.0,9, 20170706,     1350, -30.0806, 154.5000,        0.0,1,      0.062,1,      4.708,1,      0.139,1,      25.02,     -999.0,9,     -999.0,9,     -999.0,9,     -999.0,9,     2.4577,2,     -999.0,9
320620170703,        P06,      11,          2,         17,         17,2,20170706,       1507,   -30.0803,   154.5000,       4589,  1616.8,   2.7547,  34.6095,2,  34.6042,2, 152.7588,2, 153.4413,2,    94.1,2,   34.65,2,    0.00,2,    2.43,2,   0.054,2,   0.056,2,   0.0000,2,  2280.9,6, 2362.36,2,   7.5693,2, -999.00,9, -999.00,9, -999.00,  -999.0,9, -999.00,9,     -999.0,9,  -999.0,9, 20170706,     1356, -30.0804, 154.5000,        0.0,1,      0.061,1,      4.708,1,      0.141,1,      25.01,     -999.0,9,     -999.0,9,     -999.0,9,     -999.0,9,     2.7868,2,     -999.0,9
320620170703,        P06,      11,          2,         18,         18,2,20170706,       1507,   -30.0803,   154.5000,       4589,  1415.4,   3.2157,  34.5652,2,  34.5543,2, 154.5644,2, 155.1491,2,    83.1,2,   34.24,2,    0.00,2,    2.40,2,-999.000,9,-999.000,9,-999.0000,9,  2268.4,2, 2350.96,2,   7.5757,2, -999.00,9, -999.00,9, -999.00,  -999.0,9, -999.00,9,     -999.0,9,  -999.0,9, 20170706,     1402, -30.0802, 154.5000,        0.0,1,      0.061,1,      4.708,1,      0.143,1,      25.00,     -999.0,9,     -999.0,9,     -999.0,9,     -999.0,9,     3.3165,2,     -999.0,9
320620170703,        P06,      11,          2,         19,         19,2,20170706,       1507,   -30.0803,   154.5000,       4589,  1211.4,   3.9591,  34.5009,2,  34.4956,2, 165.8832,2, 166.0050,2,    63.8,2,   32.81,2,    0.00,2,    2.29,2,   0.271,2,   0.189,2,   0.4620,2,  2241.9,2, 2329.26,2,   7.5932,2, -999.00,9, -999.00,9, -999.00,  -999.0,9, -999.00,9,     -999.0,9,  -999.0,9, 20170706,     1409, -30.0802, 154.5000,        0.0,1,      0.061,1,      4.708,1,      0.139,1,      25.04,     -999.0,9,     -999.0,9,     -999.0,9,     -999.0,9,     4.0065,2,     -999.0,9
320620170703,        P06,      11,          2,         20,         20,2,20170706,       1507,   -30.0803,   154.5000,       4589,  1008.4,   4.9470,  34.4544,2,  34.4522,2, 179.5548,2, 179.4472,2,    44.0,2,   30.63,2,    0.00,2,    2.11,2,-999.000,9,-999.000,9,-999.0000,9,  2214.9,2, 2309.14,2,   7.6193,2, -999.00,9, -999.00,9, -999.00,  -999.0,9, -999.00,9,     -999.0,9,  -999.0,9, 20170706,     1415, -30.0802, 154.5000,        0.0,1,      0.060,1,      4.707,1,      0.142,1,      25.04,     -999.0,9,     -999.0,9,     -999.0,9,     -999.0,9,     4.9254,2,     -999.0,9
320620170703,        P06,      11,          2,         21,         21,2,20170706,       1507,   -30.0803,   154.5000,       4589,   908.5,   5.5499,  34.4444,2,  34.4430,2, 186.9970,2, 187.2248,2,    32.7,2,   28.92,2,    0.00,2,    1.99,2,   0.976,6,   0.518,6,   0.5380,6,  2197.1,2, 2305.73,2,   7.6201,2, -999.00,9, -999.00,9, -999.00,  -999.0,9, -999.00,9,     -999.0,9,  -999.0,9, 20170706,     1420, -30.0802, 154.5000,        0.0,1,      0.060,1,      4.706,1,      0.142,1,      25.05,     -999.0,9,     -999.0,9,     -999.0,9,     -999.0,9,     5.6270,2,     -999.0,9
320620170703,        P06,      11,          2,         22,         22,2,20170706,       1507,   -30.0803,   154.5000,       4589,   807.5,   6.2729,  34.4540,2,  34.4538,2, 195.8491,2, 195.2132,2,    24.2,2,   27.00,2,    0.00,2,    1.86,2,-999.000,9,-999.000,9,-999.0000,9,  2182.2,2, 2291.32,2,   7.6598,2, -999.00,9, -999.00,9, -999.00,  -999.0,9, -999.00,9,     -999.0,9,  -999.0,9, 20170706,     1424, -30.0802, 154.5000,        0.0,1,      0.059,1,      4.707,1,      0.142,1,      25.04,     -999.0,9,     -999.0,9,     -999.0,9,     -999.0,9,     6.2738,2,     -999.0,9
320620170703,        P06,      11,          2,         23,         23,2,20170706,       1507,   -30.0803,   154.5000,       4589,   707.1,   6.9274,  34.4794,2,  34.4871,2, 201.7879,2, 200.9375,2,    16.8,2,   24.77,2,    0.00,2,    1.69,2,   1.784,2,   0.976,2,   0.6990,2,  2171.0,2, 2287.30,2,   7.6810,2, -999.00,9, -999.00,9, -999.00,  -999.0,9, -999.00,9,     -999.0,9,  -999.0,9, 20170706,     1428, -30.0803, 154.5000,        0.0,1,      0.060,1,      4.706,1,      0.141,1,      25.04,     -999.0,9,     -999.0,9,     -999.0,9,     -999.0,9,     7.1343,2,     -999.0,9
320620170703,        P06,      11,          2,         24,         24,2,20170706,       1507,   -30.0803,   154.5000,       4589,   604.7,   7.6757,  34.5295,2,  34.5502,2, 200.2583,2, 201.5083,2,    12.7,2,   22.94,2,    0.00,2,    1.58,2,-999.000,9,-999.000,9,-999.0000,9,  2160.8,6, 2286.53,2,   7.6973,2, -999.00,9, -999.00,9, -999.00,  -999.0,9, -999.00,9,     -999.0,9,  -999.0,9, 20170706,     1432, -30.0803, 154.5000,        0.0,1,      0.060,1,      4.706,1,      0.142,1,      25.04,     -999.0,9,     -999.0,9,     -999.0,9,     -999.0,9,     7.9073,2,     -999.0,9
320620170703,        P06,      11,          2,         25,         25,2,20170706,       1507,   -30.0803,   154.5000,       4589,   503.7,   9.0129,  34.6589,2,  34.6584,2, 199.8785,2, 199.5832,2,     9.2,2,   20.50,2,    0.00,2,    1.40,2,   2.164,2,   1.266,2,   0.8040,2,  2152.6,2, 2286.91,3,   7.7201,2, -999.00,9, -999.00,9, -999.00,  -999.0,9, -999.00,9,     -999.0,9,  -999.0,9, 20170706,     1436, -30.0802, 154.5000,        0.0,1,      0.061,1,      4.703,1,      0.154,1,      25.04,     -999.0,9,     -999.0,9,     -999.0,9,     -999.0,9,     9.0446,2,     -999.0,9
320620170703,        P06,      11,          2,         26,         26,2,20170706,       1507,   -30.0803,   154.5000,       4589,   403.0,  10.6539,  34.8467,2,  34.8192,2, 196.3232,2, 196.4673,2,     6.5,2,   17.58,2,    0.00,2,    1.22,2,-999.000,9,-999.000,9,-999.0000,9,  2144.6,2, 2290.82,2,   7.7495,3, -999.00,9, -999.00,9, -999.00,  -999.0,9, -999.00,9,     -999.0,9,  -999.0,9, 20170706,     1440, -30.0802, 154.5000,        0.0,1,      0.060,1,      4.700,1,      0.150,1,      25.04,     -999.0,9,     -999.0,9,     -999.0,9,     -999.0,9,    10.4070,2,     -999.0,9
320620170703,        P06,      11,          2,         27,         27,2,20170706,       1507,   -30.0803,   154.5000,       4589,   352.3,  11.5464,  34.9446,2,  34.9321,3, 193.5060,2, 193.4121,2,     5.6,2,   15.67,2,    0.00,2,    1.07,2,   2.749,2,   1.414,2,   1.0000,2,  2140.8,2, 2296.62,2,   7.7728,2, -999.00,9, -999.00,9, -999.00,  -999.0,9, -999.00,9,     -999.0,9,  -999.0,9, 20170706,     1443, -30.0801, 154.5000,        0.0,1,      0.060,1,      4.697,1,      0.151,1,      25.02,     -999.0,9,     -999.0,9,     -999.0,9,     -999.0,9,    11.4877,2,     -999.0,9
320620170703,        P06,      11,          2,         28,         28,2,20170706,       1507,   -30.0803,   154.5000,       4589,   302.5,  12.5536,  35.0743,2,  35.0604,2, 191.2979,2, 192.2095,2,     4.5,2,   13.62,2,    0.00,2,    0.96,2,-999.000,9,-999.000,9,-999.0000,9,  2131.3,2, 2300.63,2,   7.7993,2, -999.00,9, -999.00,9, -999.00,  -999.0,9, -999.00,9,     -999.0,9,  -999.0,9, 20170706,     1447, -30.0801, 154.5000,        0.0,1,      0.060,1,      4.696,1,      0.149,1,      25.04,     -999.0,9,     -999.0,9,     -999.0,9,     -999.0,9,    12.5398,2,     -999.0,9
320620170703,        P06,      11,          2,         29,         29,2,20170706,       1507,   -30.0803,   154.5000,       4589,   251.8,  13.5687,  35.1767,2,  35.1575,2, 191.6873,2, 189.9257,2,     3.8,2,   12.14,2,    0.00,2,    0.86,2,   2.299,2,   1.404,2,   1.0590,2,  2126.2,2, 2306.31,2,   7.8205,2, -999.00,9, -999.00,9, -999.00,  -999.0,9, -999.00,9,     -999.0,9,  -999.0,9, 20170706,     1450, -30.0801, 154.5000,        0.0,1,      0.060,1,      4.695,1,      0.150,1,      25.03,     -999.0,9,     -999.0,9,     -999.0,9,     -999.0,9,    13.4250,2,     -999.0,9
320620170703,        P06,      11,          2,         30,         30,2,20170706,       1507,   -30.0803,   154.5000,       4589,   201.3,  14.5695,  35.2658,2,  35.2787,2, 183.8946,3, 185.7526,2,     3.1,2,   10.37,2,    0.00,2,    0.75,2,-999.000,9,-999.000,9,-999.0000,9,  2116.8,2, 2311.11,2,   7.8483,2, -999.00,9, -999.00,9, -999.00,  -999.0,9, -999.00,9,     -999.0,9,  -999.0,9, 20170706,     1453, -30.0801, 154.5000,        0.0,1,      0.060,1,      4.692,1,      0.153,1,      25.03,     -999.0,9,     -999.0,9,     -999.0,9,     -999.0,9,    14.7960,2,     -999.0,9
320620170703,        P06,      11,          2,         31,         31,2,20170706,       1507,   -30.0803,   154.5000,       4589,   150.8,  15.7715,  35.3762,2,  35.3806,2, 182.2413,2, 182.0682,2,     2.4,2,    8.83,2,    0.02,2,    0.64,2,   2.281,2,   1.441,2,   1.1530,2,  2111.7,2, 2317.53,2,   7.8732,2, -999.00,9, -999.00,9, -999.00,  -999.0,9, -999.00,9,     -999.0,9,  -999.0,9, 20170706,     1456, -30.0801, 154.5000,        0.0,1,      0.059,1,      4.689,1,      0.156,1,      25.02,     -999.0,9,     -999.0,9,     -999.0,9,     -999.0,9,    16.0092,2,     -999.0,9
320620170703,        P06,      11,          2,         32,         32,2,20170706,       1507,   -30.0803,   154.5000,       4589,   100.9,  17.6882,  35.5062,2,  35.5571,2, 171.8199,3, 174.0826,2,     1.7,2,    6.79,2,    0.04,2,    0.54,2,   2.097,2,   1.331,2,   1.2970,4,  2097.8,2, 2291.46,3,   7.9150,3, -999.00,9, -999.00,9, -999.00,  -999.0,9, -999.00,9,     -999.0,9,  -999.0,9, 20170706,     1459, -30.0801, 154.5000,        0.0,1,      0.072,1,      4.678,1,      0.179,1,      25.02,     -999.0,9,     -999.0,9,     -999.0,9,     -999.0,9,    18.4610,2,     -999.0,9