BOTTLE,20230922CCHSIOCBG
EXPOCODE,SECT_ID,STNNBR,CASTNO,SAMPNO,BTLNBR,BTLNBR_FLAG_W,DATE,TIME,LATITUDE,LONGITUDE,DEPTH,CTDPRS,CTDTMP,CTDSAL,CTDSAL_FLAG_W,SALNTY,SALNTY_FLAG_W,CTDOXY,CTDOXY_FLAG_W,OXYGEN,OXYGEN_FLAG_W,SILCAT,SILCAT_FLAG_W,NITRAT,NITRAT_FLAG_W,NITRIT,NITRIT_FLAG_W,PHSPHT,PHSPHT_FLAG_W,CFC-11,CFC-11_FLAG_W,CFC-12,CFC-12_FLAG_W,SF6,SF6_FLAG_W,TCARBN,TCARBN_FLAG_W,ALKALI,ALKALI_FLAG_W,PH_TOT,PH_TOT_FLAG_W,DELC13,DELC13_FLAG_W,DELC14,DELC14_FLAG_W,C14ERR,DOC,DOC_FLAG_W,TDN,TDN_FLAG_W,TON,TON_FLAG_W,D15N_NO3,D15N_NO3_FLAG_W,BTL_DATE,BTL_TIME,BTL_LAT,BTL_LON,CTDRINKO,CTDRINKO_FLAG_W,CTDFLUOR,CTDFLUOR_FLAG_W,CTDXMISS,CTDXMISS_FLAG_W,CTDBACKSCATTER,CTDBACKSCATTER_FLAG_W,PH_TMP,D18O_NO3,D18O_NO3_FLAG_W,DOP,DOP_FLAG_W,HPLC,HPLC_FLAG_W,POC,POC_FLAG_W,REFTMP,REFTMP_FLAG_W,TDP,TDP_FLAG_W
,,,,,,,,,,,METERS,DBAR,ITS-90,PSS-78,,PSS-78,,UMOL/KG,,UMOL/KG,,UMOL/KG,,UMOL/KG,,UMOL/KG,,UMOL/KG,,PMOL/KG,,PMOL/KG,,FMOL/KG,,UMOL/KG,,UMOL/KG,,,,/MILLE,,/MILLE,,/MILLE,UMOL/KG,,UMOL/KG,,UMOL/KG,,/MILLE,,,,,,VOLTS,,VOLTS,,VOLTS,,VOLTS,,DEGC,/MILLE,,UMOL/KG,,,,UG/L,,ITS-90,,UMOL/KG,
320620170703,        P06,      30,          1,          1,         37,2,20170710,       1840,   -30.0799,   160.4998,       1519,  1525.3,   3.1910,  34.5743,2,  34.5700,3, 155.0671,2, 155.2513,2,    86.5,2,   34.19,2,    0.00,2,    2.36,2,   0.126,2,   0.089,2,   0.0000,2,  2270.2,6, 2356.44,2,   7.5781,2, -999.00,9, -999.00,9, -999.00,  -999.0,9, -999.00,9,     -999.0,9,  -999.0,9, 20170710,     1741, -30.0800, 160.4999,        0.0,1,      0.061,1,      4.693,1,      0.169,1,      25.02,     -999.0,9,     -999.0,9,     -999.0,9,     -999.0,9,     3.2095,2,     -999.0,9
320620170703,        P06,      30,          1,          2,          2,2,20170710,       1840,   -30.0799,   160.4998,       1519,  1449.1,   3.5949,  34.5420,2,  34.5688,2, 160.3648,2, 159.7811,2,    77.4,2,   33.43,2,    0.00,2,    2.29,2,-999.000,9,-999.000,9,-999.0000,9,  -999.0,9, -999.00,9,-999.0000,9, -999.00,9, -999.00,9, -999.00,  -999.0,9, -999.00,9,     -999.0,9,  -999.0,9, 20170710,     1743, -30.0801, 160.5000,        0.0,1,      0.061,1,      4.700,1,      0.151,1,     -999.0,     -999.0,9,     -999.0,9,     -999.0,9,     -999.0,9,     3.5907,2,     -999.0,9
320620170703,        P06,      30,          1,          3,         38,2,20170710,       1840,   -30.0799,   160.4998,       1519,  1348.3,   3.9820,  34.5149,2,  34.5135,2, 166.4802,2, 167.1167,2,    67.2,2,   32.55,2,    0.00,2,    2.23,2,   0.292,2,   0.195,2,   0.0620,2,  -999.0,9, -999.00,9,-999.0000,9, -999.00,9, -999.00,9, -999.00,  -999.0,9, -999.00,9,     -999.0,9,  -999.0,9, 20170710,     1746, -30.0801, 160.4999,        0.0,1,      0.061,1,      4.702,1,      0.144,1,     -999.0,     -999.0,9,     -999.0,9,     -999.0,9,     -999.0,9,     3.9798,2,     -999.0,9
320620170703,        P06,      30,          1,          4,          4,2,20170710,       1840,   -30.0799,   160.4998,       1519,  1247.4,   4.4548,  34.4853,2,  34.4838,3, 173.8810,2, 173.7555,2,    55.8,2,   31.61,2,    0.00,2,    2.14,2,-999.000,9,-999.000,9,-999.0000,9,  -999.0,9, -999.00,9,-999.0000,9, -999.00,9, -999.00,9, -999.00,  -999.0,9, -999.00,9,     -999.0,9,  -999.0,9, 20170710,     1749, -30.0800, 160.4999,        0.0,1,      0.060,1,      4.701,1,      0.151,1,     -999.0,     -999.0,9,     -999.0,9,     -999.0,9,     -999.0,9,     4.4468,2,     -999.0,9
320620170703,        P06,      30,          1,          5,         39,2,20170710,       1840,   -30.0799,   160.4998,       1519,  1146.5,   4.9480,  34.4666,2,  34.4650,2, 180.5661,2, 180.3771,2,    46.2,2,   30.57,2,    0.00,2,    2.07,2,   0.634,2,   0.357,2,   0.1060,2,  2212.2,2, 2310.53,6,   7.6218,2, -999.00,9, -999.00,9, -999.00,  -999.0,9, -999.00,9,     -999.0,9,  -999.0,9, 20170710,     1752, -30.0799, 160.4997,        0.0,1,      0.060,1,      4.693,1,      0.141,1,      25.04,     -999.0,9,     -999.0,9,     -999.0,9,     -999.0,9,     4.9294,2,     -999.0,9
320620170703,        P06,      30,          1,          6,          6,2,20170710,       1840,   -30.0799,   160.4998,       1519,  1045.7,   5.6284,  34.4506,2,  34.4454,2, 189.1616,2, 189.1289,2,    33.5,2,   28.84,2,    0.00,2,    1.92,2,-999.000,9,-999.000,9,-999.0000,9,  -999.0,9, -999.00,9,-999.0000,9, -999.00,9, -999.00,9, -999.00,  -999.0,9, -999.00,9,     -999.0,9,  -999.0,9, 20170710,     1755, -30.0798, 160.4996,        0.0,1,      0.060,1,      4.651,1,      0.143,1,     -999.0,     -999.0,9,     -999.0,9,     -999.0,9,     -999.0,9,     5.6096,2,     -999.0,9
320620170703,        P06,      30,          1,          7,         40,2,20170710,       1840,   -30.0799,   160.4998,       1519,   944.2,   6.3302,  34.4625,2,  34.4661,2, 195.2496,2, 195.4873,2,    23.3,2,   26.68,2,    0.00,2,    1.77,2,   1.379,2,   0.731,2,   0.2190,2,  -999.0,9, -999.00,9,-999.0000,9, -999.00,9, -999.00,9, -999.00,  -999.0,9, -999.00,9,     -999.0,9,  -999.0,9, 20170710,     1758, -30.0798, 160.4995,        0.0,1,      0.060,1,      4.691,1,      0.142,1,     -999.0,     -999.0,9,     -999.0,9,     -999.0,9,     -999.0,9,     6.4862,2,     -999.0,9
320620170703,        P06,      30,          1,          8,          8,2,20170710,       1840,   -30.0799,   160.4998,       1519,   842.4,   7.1909,  34.5051,2,  34.5003,3, 200.7307,2, 200.7654,2,    16.1,2,   24.47,2,    0.00,2,    1.62,2,-999.000,9,-999.000,9,-999.0000,9,  -999.0,9, -999.00,9,-999.0000,9, -999.00,9, -999.00,9, -999.00,  -999.0,9, -999.00,9,     -999.0,9,  -999.0,9, 20170710,     1800, -30.0798, 160.4995,        0.0,1,      0.059,1,      4.697,1,      0.141,1,     -999.0,     -999.0,9,     -999.0,9,     -999.0,9,     -999.0,9,     7.3136,2,     -999.0,9
320620170703,        P06,      30,          1,          9,         41,2,20170710,       1840,   -30.0799,   160.4998,       1519,   742.6,   8.2650,  34.5925,2,  34.5922,3, 198.9020,2, 198.3765,2,    11.8,2,   22.38,2,    0.00,2,    1.48,2,   2.214,2,   1.159,2,   0.4700,2,  2156.3,2, 2283.57,2,   7.7024,2, -999.00,9, -999.00,9, -999.00,  -999.0,9, -999.00,9,     -999.0,9,  -999.0,9, 20170710,     1803, -30.0797, 160.4994,        0.0,1,      0.060,1,      4.661,1,      0.144,1,      25.02,     -999.0,9,     -999.0,9,     -999.0,9,     -999.0,9,     8.3393,2,     -999.0,9
320620170703,        P06,      30,          1,         10,         10,2,20170710,       1840,   -30.0799,   160.4998,       1519,   641.1,   9.7614,  34.7482,2,  34.7461,3, 200.1729,2, 200.7500,2,     7.5,2,   18.88,2,    0.00,2,    1.24,2,-999.000,9,-999.000,9,-999.0000,9,  -999.0,9, -999.00,9,-999.0000,9, -999.00,9, -999.00,9, -999.00,  -999.0,9, -999.00,9,     -999.0,9,  -999.0,9, 20170710,     1806, -30.0798, 160.4995,        0.0,1,      0.059,1,      4.633,1,      0.144,1,     -999.0,     -999.0,9,     -999.0,9,     -999.0,9,     -999.0,9,     9.7859,2,     -999.0,9
320620170703,        P06,      30,          1,         11,         42,2,20170710,       1840,   -30.0799,   160.4998,       1519,   538.7,  11.2262,  34.9176,2,  34.9040,3, 196.3274,2, 195.9900,2,     5.8,2,   16.06,2,    0.00,2,    1.07,2,   2.500,2,   1.396,2,   0.7270,2,  -999.0,9, -999.00,9,-999.0000,9, -999.00,9, -999.00,9, -999.00,  -999.0,9, -999.00,9,     -999.0,9,  -999.0,9, 20170710,     1809, -30.0798, 160.4996,        0.0,1,      0.060,1,      4.693,1,      0.156,1,     -999.0,     -999.0,9,     -999.0,9,     -999.0,9,     -999.0,9,    11.2312,2,     -999.0,9
320620170703,        P06,      30,          1,         12,         12,2,20170710,       1840,   -30.0799,   160.4998,       1519,   468.3,  12.4474,  35.0196,2,  35.0154,2, 192.1778,2, 192.3853,2,     4.4,2,   13.60,2,    0.00,2,    0.92,2,-999.000,9,-999.000,9,-999.0000,9,  -999.0,9, -999.00,9,-999.0000,9, -999.00,9, -999.00,9, -999.00,  -999.0,9, -999.00,9,     -999.0,9,  -999.0,9, 20170710,     1812, -30.0798, 160.4996,        0.0,1,      0.059,1,      4.696,1,      0.143,1,     -999.0,     -999.0,9,     -999.0,9,     -999.0,9,     -999.0,9,    12.5291,2,     -999.0,9
320620170703,        P06,      30,          1,         13,         43,2,20170710,       1840,   -30.0799,   160.4998,       1519,   419.7,  13.4870,  35.1388,2,  35.1482,2, 192.3564,2, 192.3905,2,     3.4,2,   11.55,2,    0.00,2,    0.78,2,   2.430,2,   1.389,2,   0.8070,2,  2120.0,2, 2302.25,2,   7.8257,2, -999.00,9, -999.00,9, -999.00,  -999.0,9, -999.00,9,     -999.0,9,  -999.0,9, 20170710,     1814, -30.0799, 160.4997,        0.0,1,      0.061,1,      4.695,1,      0.143,1,      25.03,     -999.0,9,     -999.0,9,     -999.0,9,     -999.0,9,    13.6819,2,     -999.0,9
320620170703,        P06,      30,          1,         14,         14,2,20170710,       1840,   -30.0799,   160.4998,       1519,   368.4,  14.4459,  35.2415,2,  35.2383,3, 190.3931,2, 190.8072,2,     2.8,2,   10.15,2,    0.00,2,    0.69,2,-999.000,9,-999.000,9,-999.0000,9,  -999.0,9, -999.00,9,-999.0000,9, -999.00,9, -999.00,9, -999.00,  -999.0,9, -999.00,9,     -999.0,9,  -999.0,9, 20170710,     1816, -30.0799, 160.4998,        0.0,1,      0.059,1,      4.694,1,      0.144,1,     -999.0,     -999.0,9,     -999.0,9,     -999.0,9,     -999.0,9,    14.5418,2,     -999.0,9
320620170703,        P06,      30,          1,         15,         15,2,20170710,       1840,   -30.0799,   160.4998,       1519,   319.9,  15.6385,  35.3751,2,  35.3798,2, 192.8853,2, 192.3729,2,     2.1,2,    8.11,2,    0.00,2,    0.57,2,   2.308,2,   1.345,2,   0.8520,2,  2105.6,2, 2314.85,2,   7.8780,2, -999.00,9, -999.00,9, -999.00,  -999.0,9, -999.00,9,     -999.0,9,  -999.0,9, 20170710,     1818, -30.0799, 160.4998,        0.0,1,      0.060,1,      4.693,1,      0.143,1,      25.03,     -999.0,9,     -999.0,9,     -999.0,9,     -999.0,9,    15.7387,2,     -999.0,9
320620170703,        P06,      30,          1,         16,         16,2,20170710,       1840,   -30.0799,   160.4998,       1519,   267.6,  16.9073,  35.5087,2,  35.5001,2, 192.8381,2, 191.9313,2,     1.6,2,    6.65,2,    0.00,2,    0.47,2,-999.000,9,-999.000,9,-999.0000,9,  -999.0,9, -999.00,9,-999.0000,9, -999.00,9, -999.00,9, -999.00,  -999.0,9, -999.00,9,     -999.0,9,  -999.0,9, 20170710,     1820, -30.0799, 160.4998,        0.0,1,      0.059,1,      4.692,1,      0.142,1,     -999.0,     -999.0,9,     -999.0,9,     -999.0,9,     -999.0,9,    16.8616,2,     -999.0,9
320620170703,        P06,      30,          1,         17,         17,2,20170710,       1840,   -30.0799,   160.4998,       1519,   237.9,  17.4410,  35.5595,2,  35.5561,2, 193.6455,2, 193.0353,2,     1.3,2,    5.78,2,    0.00,2,    0.41,2,   2.118,2,   1.327,2,   0.9350,2,  2089.8,2, 2323.53,2,   7.9225,2, -999.00,9, -999.00,9, -999.00,  -999.0,9, -999.00,9,     -999.0,9,  -999.0,9, 20170710,     1822, -30.0799, 160.4999,        0.0,1,      0.059,1,      4.691,1,      0.145,1,      25.02,     -999.0,9,     -999.0,9,     -999.0,9,     -999.0,9,    17.4589,2,     -999.0,9
320620170703,        P06,      30,          1,         18,         18,2,20170710,       1840,   -30.0799,   160.4998,       1519,   213.0,  17.8021,  35.5905,2,  35.5567,2, 193.2175,2, 194.3449,2,     1.1,2,    5.36,2,    0.00,2,    0.38,2,-999.000,9,-999.000,9,-999.0000,9,  -999.0,9, -999.00,9,-999.0000,9, -999.00,9, -999.00,9, -999.00,  -999.0,9, -999.00,9,     -999.0,9,  -999.0,9, 20170710,     1824, -30.0800, 160.4999,        0.0,1,      0.060,1,      4.689,1,      0.145,1,     -999.0,     -999.0,9,     -999.0,9,     -999.0,9,     -999.0,9,    17.8770,2,     -999.0,9
320620170703,        P06,      30,          1,         19,         19,2,20170710,       1840,   -30.0799,   160.4998,       1519,   186.8,  18.1644,  35.6219,2,  35.6396,2, 194.0084,2, 194.3300,2,     0.9,2,    4.50,2,    0.00,2,    0.34,2,   2.080,2,   1.272,2,   0.9480,2,  2081.5,2, 2327.19,2,   7.9456,2, -999.00,9, -999.00,9, -999.00,  -999.0,9, -999.00,9,     -999.0,9,  -999.0,9, 20170710,     1826, -30.0800, 160.5000,        0.0,1,      0.060,1,      4.688,1,      0.147,1,      25.03,     -999.0,9,     -999.0,9,     -999.0,9,     -999.0,9,    18.4489,2,     -999.0,9
320620170703,        P06,      30,          1,         20,         20,2,20170710,       1840,   -30.0799,   160.4998,       1519,   164.0,  18.6102,  35.6413,2,  35.6530,2, 189.2857,2, 189.6431,2,     0.9,2,    4.66,2,    0.00,2,    0.33,2,-999.000,9,-999.000,9,-999.0000,9,  2081.4,2, 2330.20,2,   7.9477,2, -999.00,9, -999.00,9, -999.00,  -999.0,9, -999.00,9,     -999.0,9,  -999.0,9, 20170710,     1828, -30.0800, 160.5000,        0.0,1,      0.061,1,      4.687,1,      0.150,1,      25.02,     -999.0,9,     -999.0,9,     -999.0,9,     -999.0,9,    18.8004,2,     -999.0,9
320620170703,        P06,      30,          1,         21,         21,2,20170710,       1840,   -30.0799,   160.4998,       1519,   137.1,  19.3034,  35.6922,2,  35.0848,2, 192.7737,2, 192.4167,2,     0.7,2,    3.63,2,    0.03,2,    0.28,2,   1.993,2,   1.235,2,   0.9370,2,  2076.0,2, 2331.99,2,   7.9653,2, -999.00,9, -999.00,9, -999.00,  -999.0,9, -999.00,9,     -999.0,9,  -999.0,9, 20170710,     1830, -30.0800, 160.5000,        0.0,1,      0.071,1,      4.682,1,      0.159,1,      25.05,     -999.0,9,     -999.0,9,     -999.0,9,     -999.0,9,    19.5059,2,     -999.0,9
320620170703,        P06,      30,          1,         22,         22,2,20170710,       1840,   -30.0799,   160.4998,       1519,   111.4,  19.9979,  35.7740,2,  35.7965,2, 210.6120,3, 208.1490,2,     0.4,2,    1.49,2,    0.09,2,    0.14,2,-999.000,9,-999.000,9,-999.0000,9,  2060.4,2, 2339.31,2,   8.0000,2, -999.00,9, -999.00,9, -999.00,  -999.0,9, -999.00,9,     -999.0,9,  -999.0,9, 20170710,     1832, -30.0800, 160.4999,        0.0,1,      0.085,1,      4.674,1,      0.167,1,      25.04,     -999.0,9,     -999.0,9,     -999.0,9,     -999.0,9,    20.1327,2,     -999.0,9
320620170703,        P06,      30,          1,         23,         23,2,20170710,       1840,   -30.0799,   160.4998,       1519,    86.1,  20.4595,  35.8678,2,  35.8540,2, 220.5688,2, 220.8830,2,     0.2,2,    0.13,2,    0.06,2,    0.07,2,   1.945,2,   1.170,2,   1.0320,2,  2048.1,2, 2341.44,2,   8.0266,2, -999.00,9, -999.00,9, -999.00,  -999.0,9, -999.00,9,     -999.0,9,  -999.0,9, 20170710,     1834, -30.0800, 160.4999,        0.0,1,      0.172,1,      4.633,1,      0.217,1,      25.04,     -999.0,9,     -999.0,9,     -999.0,9,     -999.0,9,    20.3822,2,     -999.0,9
320620170703,        P06,      30,          1,         24,         24,2,20170710,       1840,   -30.0799,   160.4998,       1519,    61.6,  20.6389,  35.8744,2,  35.8643,2, 220.9069,2, 220.1836,2,     0.2,2,    0.12,2,    0.03,2,    0.05,2,-999.000,9,-999.000,9,-999.0000,9,  2045.5,2, 2342.45,2,   8.0290,2, -999.00,9, -999.00,9, -999.00,  -999.0,9, -999.00,9,     -999.0,9,  -999.0,9, 20170710,     1836, -30.0800, 160.4999,        0.0,1,      0.169,1,      4.636,1,      0.200,1,      25.04,     -999.0,9,     -999.0,9,     -999.0,9,     -999.0,9,    20.5474,2,     -999.0,9
320620170703,        P06,      30,          1,         25,         25,2,20170710,       1840,   -30.0799,   160.4998,       1519,    37.4,  20.7041,  35.8589,2,  35.8667,2, 218.6735,2, 219.5239,2,     0.2,2,    0.14,2,    0.04,2,    0.07,2,   1.817,2,   1.161,2,   0.9770,2,  -999.0,9, -999.00,9,-999.0000,9, -999.00,9, -999.00,9, -999.00,  -999.0,9, -999.00,9,     -999.0,9,  -999.0,9, 20170710,     1838, -30.0799, 160.4998,        0.0,1,      0.174,1,      4.618,1,      0.210,1,     -999.0,     -999.0,9,     -999.0,9,     -999.0,9,     -999.0,9,    20.6671,2,     -999.0,9
320620170703,        P06,      30,          1,         26,         26,2,20170710,       1840,   -30.0799,   160.4998,       1519,     5.3,  20.6924,  35.8588,2,  35.8643,2, 219.2932,2, 219.2520,2,     0.2,2,    0.15,2,    0.04,2,    0.07,2,   1.872,2,   1.163,2,   1.0180,2,  2048.4,6, 2342.62,2,   8.0304,2, -999.00,9, -999.00,9, -999.00,  -999.0,9, -999.00,9,     -999.0,9,  -999.0,9, 20170710,     1840, -30.0799, 160.4998,        0.0,1,      0.181,1,      4.620,1,      0.208,1,      25.03,     -999.0,9,     -999.0,9,     -999.0,9,     -999.0,9,    20.6724,2,     -999.0,9