BOTTLE,20230922CCHSIOCBG
EXPOCODE,SECT_ID,STNNBR,CASTNO,SAMPNO,BTLNBR,BTLNBR_FLAG_W,DATE,TIME,LATITUDE,LONGITUDE,DEPTH,CTDPRS,CTDTMP,CTDSAL,CTDSAL_FLAG_W,SALNTY,SALNTY_FLAG_W,CTDOXY,CTDOXY_FLAG_W,OXYGEN,OXYGEN_FLAG_W,SILCAT,SILCAT_FLAG_W,NITRAT,NITRAT_FLAG_W,NITRIT,NITRIT_FLAG_W,PHSPHT,PHSPHT_FLAG_W,CFC-11,CFC-11_FLAG_W,CFC-12,CFC-12_FLAG_W,SF6,SF6_FLAG_W,TCARBN,TCARBN_FLAG_W,ALKALI,ALKALI_FLAG_W,PH_TOT,PH_TOT_FLAG_W,DELC13,DELC13_FLAG_W,DELC14,DELC14_FLAG_W,C14ERR,DOC,DOC_FLAG_W,TDN,TDN_FLAG_W,TON,TON_FLAG_W,D15N_NO3,D15N_NO3_FLAG_W,BTL_DATE,BTL_TIME,BTL_LAT,BTL_LON,CTDRINKO,CTDRINKO_FLAG_W,CTDFLUOR,CTDFLUOR_FLAG_W,CTDXMISS,CTDXMISS_FLAG_W,CTDBACKSCATTER,CTDBACKSCATTER_FLAG_W,PH_TMP,D18O_NO3,D18O_NO3_FLAG_W,DOP,DOP_FLAG_W,HPLC,HPLC_FLAG_W,POC,POC_FLAG_W,REFTMP,REFTMP_FLAG_W,TDP,TDP_FLAG_W
,,,,,,,,,,,METERS,DBAR,ITS-90,PSS-78,,PSS-78,,UMOL/KG,,UMOL/KG,,UMOL/KG,,UMOL/KG,,UMOL/KG,,UMOL/KG,,PMOL/KG,,PMOL/KG,,FMOL/KG,,UMOL/KG,,UMOL/KG,,,,/MILLE,,/MILLE,,/MILLE,UMOL/KG,,UMOL/KG,,UMOL/KG,,/MILLE,,,,,,VOLTS,,VOLTS,,VOLTS,,VOLTS,,DEGC,/MILLE,,UMOL/KG,,,,UG/L,,ITS-90,,UMOL/KG,
320620170703,        P06,      81,          1,         33,         33,2,20170724,       1759,   -32.2280,   178.6386,       2723,    74.6,  17.7299,  35.6771,2,  35.6763,2, 230.2315,2, 229.8837,2,     0.5,2,    1.01,2,    0.15,2,    0.17,2,   2.272,2,   1.279,2,   1.3300,2,  2070.0,2, 2339.66,2,   7.9777,2, -999.00,9, -999.00,9, -999.00,  -999.0,9, -999.00,9,     -999.0,9,  -999.0,9, 20170724,     1754, -32.2280, 178.6386,        0.0,1,      0.180,1,      4.612,1,      0.254,1,      25.00,     -999.0,9,     -999.0,9,     -999.0,9,     -999.0,9,    17.7151,2,     -999.0,9
320620170703,        P06,      81,          1,         34,         34,2,20170724,       1759,   -32.2280,   178.6386,       2723,    49.5,  17.7271,  35.6770,2,  35.6780,2, 230.1271,2, 230.4297,2,     0.5,2,    0.96,2,    0.15,2,    0.17,2,-999.000,9,-999.000,9,-999.0000,9,  2068.9,2, -999.00,9,   7.9779,2, -999.00,9, -999.00,9, -999.00,  -999.0,9, -999.00,9,     -999.0,9,  -999.0,9, 20170724,     1755, -32.2280, 178.6386,        0.0,1,      0.178,1,      4.613,1,      0.253,1,      25.01,     -999.0,9,     -999.0,9,     -999.0,9,     -999.0,9,    17.7194,2,     -999.0,9
320620170703,        P06,      81,          1,         35,         35,2,20170724,       1759,   -32.2280,   178.6386,       2723,    24.6,  17.7185,  35.6765,2,  35.6771,2, 230.1194,2, 230.1982,2,     0.5,2,    0.96,2,    0.15,2,    0.17,2,   2.257,2,   1.258,2,   1.3230,2,  2067.1,2, -999.00,9,   7.9787,2, -999.00,9, -999.00,9, -999.00,  -999.0,9, -999.00,9,     -999.0,9,  -999.0,9, 20170724,     1757, -32.2280, 178.6386,        0.0,1,      0.177,1,      4.613,1,      0.257,1,      25.00,     -999.0,9,     -999.0,9,     -999.0,9,     -999.0,9,    17.7166,2,     -999.0,9
320620170703,        P06,      81,          1,         36,         36,2,20170724,       1759,   -32.2280,   178.6386,       2723,     4.5,  17.7120,  35.6763,2,  35.6751,2, 229.9593,2, 230.2520,2,     0.5,2,    0.95,2,    0.15,2,    0.19,2,   2.273,6,   1.275,6,   1.3950,6,  2068.5,6, 2336.82,2,   7.9785,2,    0.83,6,   51.21,6,    4.78,  -999.0,9, -999.00,9,     -999.0,9,  -999.0,9, 20170724,     1759, -32.2280, 178.6386,        0.0,1,      0.181,1,      4.613,1,      0.236,1,      25.00,     -999.0,9,     -999.0,9,     -999.0,9,     -999.0,9,    17.7105,2,     -999.0,9
320620170703,        P06,      82,          1,          1,          1,2,20170724,       2200,   -32.5003,   178.9098,       1494,  1501.2,   3.3227,  34.4916,2,  34.4930,3, 168.6440,2, 168.4540,2,    70.6,2,   33.69,2,    0.00,2,    2.34,2,   0.223,2,   0.112,2,   0.0000,2,  2250.2,6, 2336.70,2,   7.5840,2, -999.00,9, -999.00,9, -999.00,    41.5,2, -999.00,9,     -999.0,1,  -999.0,9, 20170724,     2055, -32.5000, 178.9098,        0.0,1,      0.061,1,      4.702,1,      0.140,1,      25.00,     -999.0,9,     -999.0,9,     -999.0,9,     -999.0,9,     3.3241,2,     -999.0,9
320620170703,        P06,      82,          1,          2,          2,2,20170724,       2200,   -32.5003,   178.9098,       1494,  1424.4,   3.5296,  34.4736,2,  34.4763,2, 171.7272,2, 171.8985,2,    65.1,2,   33.28,2,    0.00,2,    2.33,2,   0.285,2,   0.150,2,   0.0000,2,  2241.4,2, 2330.58,2,   7.5886,2, -999.00,9, -999.00,9, -999.00,    41.5,2, -999.00,9,     -999.0,1,  -999.0,9, 20170724,     2058, -32.5002, 178.9098,        0.0,1,      0.061,1,      4.702,1,      0.144,1,      25.01,     -999.0,9,     -999.0,9,     -999.0,9,     -999.0,9,     3.5314,2,     -999.0,9
320620170703,        P06,      82,          1,          3,          3,2,20170724,       2200,   -32.5003,   178.9098,       1494,  1348.6,   3.7375,  34.4602,2,  34.4593,2, 175.2199,2, 175.5583,2,    59.7,2,   32.77,2,    0.00,2,    2.27,2,   0.384,2,   0.194,2,   0.0590,2,  2235.2,2, 2324.23,2,   7.5950,2, -999.00,9, -999.00,9, -999.00,    41.6,2, -999.00,9,     -999.0,1,  -999.0,9, 20170724,     2101, -32.5002, 178.9098,        0.0,1,      0.061,1,      4.703,1,      0.144,1,      25.00,     -999.0,9,     -999.0,9,     -999.0,9,     -999.0,9,     3.7415,2,     -999.0,9
320620170703,        P06,      82,          1,          4,          4,2,20170724,       2200,   -32.5003,   178.9098,       1494,  1246.6,   4.2352,  34.4124,2,  34.4141,3, 185.1173,2, 184.5545,2,    46.4,2,   31.71,2,    0.00,2,    2.19,2,   0.606,2,   0.295,2,   0.1160,2,  2216.2,2, 2312.77,2,   7.6073,2, -999.00,9, -999.00,9, -999.00,    41.9,2, -999.00,9,     -999.0,1,  -999.0,9, 20170724,     2105, -32.5002, 178.9098,        0.0,1,      0.060,1,      4.703,1,      0.139,1,      25.00,     -999.0,9,     -999.0,9,     -999.0,9,     -999.0,9,     4.2064,2,     -999.0,9
320620170703,        P06,      82,          1,          5,          5,2,20170724,       2200,   -32.5003,   178.9098,       1494,  1145.6,   4.8835,  34.3797,2,  34.3804,2, 195.2772,2, 195.6653,2,    33.4,2,   29.99,2,    0.00,2,    2.06,2,   1.012,2,   0.479,2,   0.1760,2,  2197.3,2, 2297.39,2,   7.6285,2, -999.00,9, -999.00,9, -999.00,    43.4,2, -999.00,9,     -999.0,1,  -999.0,9, 20170724,     2108, -32.5000, 178.9098,        0.0,1,      0.060,1,      4.702,1,      0.141,1,      25.01,     -999.0,9,     -999.0,9,     -999.0,9,     -999.0,9,     4.8776,2,     -999.0,9
320620170703,        P06,      82,          1,          6,          6,2,20170724,       2200,   -32.5003,   178.9098,       1494,  1044.0,   5.5800,  34.3658,2,  34.3633,3, 208.0037,2, 207.6408,2,    22.1,2,   27.75,2,    0.00,2,    1.91,2,   1.592,2,   0.747,2,   0.1950,2,  2178.2,2, 2289.35,2,   7.6550,2, -999.00,9, -999.00,9, -999.00,    45.2,2, -999.00,9,     -999.0,1,  -999.0,9, 20170724,     2112, -32.4999, 178.9099,        0.0,1,      0.060,1,      4.702,1,      0.143,1,      25.00,     -999.0,9,     -999.0,9,     -999.0,9,     -999.0,9,     5.6040,2,     -999.0,9
320620170703,        P06,      82,          1,          7,          7,2,20170724,       2200,   -32.5003,   178.9098,       1494,   944.2,   6.1748,  34.3750,2,  34.3757,2, 216.4090,2, 216.4492,2,    15.7,2,   25.78,2,    0.00,2,    1.76,2,   2.185,2,   1.028,2,   0.3930,2,  2166.5,2, 2286.45,2,   7.6759,2, -999.00,9, -999.00,9, -999.00,    47.9,3, -999.00,9,     -999.0,1,  -999.0,9, 20170724,     2115, -32.4999, 178.9098,        0.0,1,      0.060,1,      4.701,1,      0.143,1,      25.00,     -999.0,9,     -999.0,9,     -999.0,9,     -999.0,9,     6.2064,2,     -999.0,9
320620170703,        P06,      82,          1,          8,          8,2,20170724,       2200,   -32.5003,   178.9098,       1494,   842.5,   6.7160,  34.3986,2,  34.3974,2, 220.7645,2, 221.0070,2,    12.0,2,   24.28,2,    0.00,2,    1.66,2,   2.603,2,   1.258,2,   0.5410,2,  2157.5,2, 2284.89,2,   7.6901,2, -999.00,9, -999.00,9, -999.00,  -999.0,9, -999.00,9,     -999.0,1,  -999.0,9, 20170724,     2118, -32.4999, 178.9098,        0.0,1,      0.060,1,      4.701,1,      0.142,1,      25.02,     -999.0,9,     -999.0,9,     -999.0,9,     -999.0,9,     6.6864,2,     -999.0,9
320620170703,        P06,      82,          1,          9,          9,2,20170724,       2200,   -32.5003,   178.9098,       1494,   741.9,   7.3395,  34.4454,2,  34.4477,2, 221.9727,2, 221.8774,2,     9.1,2,   22.51,2,    0.00,2,    1.53,2,   2.967,2,   1.480,2,   0.5570,2,  2154.4,6, 2284.85,2,   7.7041,2, -999.00,9, -999.00,9, -999.00,    46.6,2, -999.00,9,     -999.0,1,  -999.0,9, 20170724,     2122, -32.4999, 178.9098,        0.0,1,      0.059,1,      4.700,1,      0.143,1,      25.00,     -999.0,9,     -999.0,9,     -999.0,9,     -999.0,9,     7.3637,2,     -999.0,9
320620170703,        P06,      82,          1,         10,         10,2,20170724,       2200,   -32.5003,   178.9098,       1494,   639.8,   8.0619,  34.5150,2,  34.5078,2, 219.3745,2, 220.1707,2,     7.6,2,   21.08,2,    0.00,2,    1.44,2,   3.119,2,   1.570,2,   0.7380,2,  2149.8,2, 2285.43,6,   7.7131,2, -999.00,9, -999.00,9, -999.00,    50.2,3, -999.00,9,     -999.0,1,  -999.0,9, 20170724,     2125, -32.4998, 178.9098,        0.0,1,      0.059,1,      4.698,1,      0.144,1,      25.00,     -999.0,9,     -999.0,9,     -999.0,9,     -999.0,9,     8.0165,2,     -999.0,9
320620170703,        P06,      82,          1,         11,         11,2,20170724,       2200,   -32.5003,   178.9098,       1494,   538.9,   9.0196,  34.6212,2,  34.6016,3, 214.9929,2, 214.3914,2,     6.5,2,   19.32,2,    0.00,2,    1.34,2,   3.126,2,   1.599,2,   0.9020,2,  2147.2,2, 2284.89,2,   7.7274,2, -999.00,9, -999.00,9, -999.00,    43.1,2, -999.00,9,     -999.0,1,  -999.0,9, 20170724,     2129, -32.4998, 178.9098,        0.0,1,      0.059,1,      4.696,1,      0.145,1,      25.00,     -999.0,9,     -999.0,9,     -999.0,9,     -999.0,9,     8.8405,2,     -999.0,9
320620170703,        P06,      82,          1,         12,         12,2,20170724,       2200,   -32.5003,   178.9098,       1494,   467.8,  10.0716,  34.7499,2,  34.7441,2, 209.5472,2, 208.9573,2,     5.4,2,   16.92,2,    0.00,2,    1.16,2,   2.984,2,   1.566,2,   0.9700,2,  2141.5,2, 2287.92,2,   7.7502,2, -999.00,9, -999.00,9, -999.00,    47.4,2, -999.00,9,     -999.0,1,  -999.0,9, 20170724,     2132, -32.5000, 178.9098,        0.0,1,      0.059,1,      4.694,1,      0.146,1,      25.01,     -999.0,9,     -999.0,9,     -999.0,9,     -999.0,9,    10.0328,2,     -999.0,9
320620170703,        P06,      82,          1,         13,         13,2,20170724,       2200,   -32.5003,   178.9098,       1494,   418.2,  11.2910,  34.9010,2,  34.8733,2, 207.0777,2, 206.6507,2,     4.5,2,   14.67,2,    0.00,2,    1.04,2,-999.000,5,-999.000,5,-999.0000,5,  2135.2,2, 2296.06,2,   7.7745,2, -999.00,9, -999.00,9, -999.00,    46.7,2, -999.00,9,     -999.0,1,  -999.0,9, 20170724,     2134, -32.5000, 178.9098,        0.0,1,      0.060,1,      4.694,1,      0.145,1,      25.00,     -999.0,9,     -999.0,9,     -999.0,9,     -999.0,9,    11.0695,2,     -999.0,9
320620170703,        P06,      82,          1,         14,         14,2,20170724,       2200,   -32.5003,   178.9098,       1494,   368.0,  11.9765,  34.9898,2,  34.9699,2, 205.5382,2, 205.5510,2,     3.9,2,   13.08,2,    0.00,2,    0.93,2,   2.908,2,   1.545,2,   1.0960,2,  2131.5,2, 2300.32,2,   7.7923,2, -999.00,9, -999.00,9, -999.00,  -999.0,9, -999.00,9,     -999.0,9,  -999.0,9, 20170724,     2137, -32.5000, 178.9098,        0.0,1,      0.059,1,      4.693,1,      0.146,1,      25.00,     -999.0,9,     -999.0,9,     -999.0,9,     -999.0,9,    11.8214,2,     -999.0,9
320620170703,        P06,      82,          1,         15,         15,2,20170724,       2200,   -32.5003,   178.9098,       1494,   317.1,  13.2559,  35.1496,2,  35.1018,2, 203.9339,2, 204.3243,2,     3.3,2,   11.16,2,    0.00,2,    0.81,2,   2.824,2,   1.529,2,   1.2560,2,  2126.1,2, 2306.59,2,   7.8181,2, -999.00,9, -999.00,9, -999.00,    47.5,2,   14.10,2,     -999.0,1,  -999.0,9, 20170724,     2139, -32.4999, 178.9098,        0.0,1,      0.060,1,      4.692,1,      0.146,1,      25.00,     -999.0,9,     -999.0,9,     -999.0,9,     -999.0,9,    12.8533,2,     -999.0,9
320620170703,        P06,      82,          1,         16,         16,2,20170724,       2200,   -32.5003,   178.9098,       1494,   265.7,  13.9063,  35.2282,2,  35.2018,2, 203.2322,2, 203.5424,2,     2.8,2,    9.74,2,    0.00,2,    0.71,2,   2.721,2,   1.474,2,   1.2190,2,  2119.3,2, 2312.49,2,   7.8390,2, -999.00,9, -999.00,9, -999.00,  -999.0,9, -999.00,9,     -999.0,9,  -999.0,9, 20170724,     2141, -32.4999, 178.9098,        0.0,1,      0.058,1,      4.691,1,      0.147,1,      25.00,     -999.0,9,     -999.0,9,     -999.0,9,     -999.0,9,    13.6870,2,     -999.0,9
320620170703,        P06,      82,          1,         17,         17,2,20170724,       2200,   -32.5003,   178.9098,       1494,   236.8,  14.3090,  35.2777,2,  35.2517,2, 202.7895,2, 203.3118,2,     2.7,2,    9.10,2,    0.00,2,    0.66,2,   2.665,2,   1.464,2,   1.3390,2,  2115.8,2, 2313.09,2,   7.8496,2, -999.00,9, -999.00,9, -999.00,    47.7,2,   12.40,2,     -999.0,1,  -999.0,9, 20170724,     2143, -32.4999, 178.9099,        0.0,1,      0.060,1,      4.691,1,      0.148,1,      25.00,     -999.0,9,     -999.0,9,     -999.0,9,     -999.0,9,    14.1049,2,     -999.0,9
320620170703,        P06,      82,          1,         18,         18,2,20170724,       2200,   -32.5003,   178.9098,       1494,   210.6,  15.0427,  35.3579,2,  35.3464,2, 202.6337,2, 203.2803,2,     2.1,2,    7.68,2,    0.02,2,    0.59,2,   2.587,2,   1.444,2,   1.2750,2,  2111.3,2, 2318.21,2,   7.8705,2, -999.00,9, -999.00,9, -999.00,  -999.0,9, -999.00,9,     -999.0,9,  -999.0,9, 20170724,     2145, -32.4999, 178.9099,        0.0,1,      0.061,1,      4.689,1,      0.151,1,      25.00,     -999.0,9,     -999.0,9,     -999.0,9,     -999.0,9,    14.9616,2,     -999.0,9
320620170703,        P06,      82,          1,         19,         19,2,20170724,       2200,   -32.5003,   178.9098,       1494,   186.5,  15.6445,  35.4241,2,  35.4385,2, 208.8466,2, 208.8272,2,     1.6,2,    5.67,2,    0.02,2,    0.46,2,   2.517,2,   1.435,2,   1.3560,2,  2101.1,2, 2323.50,2,   7.8982,2, -999.00,9, -999.00,9, -999.00,    55.7,2,    9.00,2,     -999.0,1,  -999.0,9, 20170724,     2147, -32.4999, 178.9099,        0.0,1,      0.061,1,      4.685,1,      0.156,1,      25.00,     -999.0,9,     -999.0,9,     -999.0,9,     -999.0,9,    15.8224,2,     -999.0,9
320620170703,        P06,      82,          1,         20,         20,2,20170724,       2200,   -32.5003,   178.9098,       1494,   161.9,  16.7800,  35.5588,2,  35.5853,2, 224.6792,2, 222.9898,2,     0.7,2,    2.27,2,    0.15,2,    0.24,2,   2.405,2,   1.362,2,   1.4400,2,  2082.2,2, 2331.61,2,   7.8982,2, -999.00,9, -999.00,9, -999.00,    59.3,2,    6.10,2,     -999.0,1,  -999.0,9, 20170724,     2148, -32.4999, 178.9099,        0.0,1,      0.076,1,      4.670,1,      0.185,1,      25.00,     -999.0,9,     -999.0,9,     -999.0,9,     -999.0,9,    16.8549,2,     -999.0,9
320620170703,        P06,      82,          1,         21,         21,2,20170724,       2200,   -32.5003,   178.9098,       1494,   135.3,  17.2742,  35.6336,2,  35.6338,2, 230.8243,2, 230.1827,2,     0.4,2,    0.79,2,    0.27,2,    0.17,2,   2.387,2,   1.348,2,   1.4100,2,  2075.2,2, 2335.26,2,   7.9689,2, -999.00,9, -999.00,9, -999.00,    57.4,2,    4.70,2,     -999.0,1,  -999.0,9, 20170724,     2150, -32.5000, 178.9099,        0.0,1,      0.104,1,      4.654,1,      0.207,1,      25.00,     -999.0,9,     -999.0,9,     -999.0,9,     -999.0,9,    17.2778,2,     -999.0,9
320620170703,        P06,      82,          1,         22,         22,2,20170724,       2200,   -32.5003,   178.9098,       1494,   111.6,  17.3324,  35.6277,2,  35.6255,2, 230.4360,2, 230.5723,2,     0.4,2,    0.89,2,    0.23,2,    0.18,2,   2.361,2,   1.339,2,   1.5890,2,  2073.2,2, 2335.09,2,   7.9709,2, -999.00,9, -999.00,9, -999.00,    60.0,2,    4.50,2,     -999.0,1,  -999.0,9, 20170724,     2152, -32.5000, 178.9099,        0.0,1,      0.114,1,      4.644,1,      0.215,1,      25.01,     -999.0,9,     -999.0,9,     -999.0,9,     -999.0,9,    17.3590,2,     -999.0,9
320620170703,        P06,      82,          1,         23,         23,2,20170724,       2200,   -32.5003,   178.9098,       1494,    85.8,  17.5686,  35.6547,2,  35.6761,2, 231.5840,3, 229.3788,3,     0.3,2,    0.90,2,    0.14,2,    0.16,2,   2.334,2,   1.324,2,   1.2870,2,  2070.1,2, 2337.12,2,   7.9783,2, -999.00,9, -999.00,9, -999.00,    61.3,2,    4.70,2,     -999.0,1,  -999.0,9, 20170724,     2154, -32.5001, 178.9099,        0.0,1,      0.158,1,      4.619,1,      0.264,1,      25.01,     -999.0,9,     -999.0,9,     -999.0,9,     -999.0,9,    17.6900,2,     -999.0,9
320620170703,        P06,      82,          1,         24,         24,2,20170724,       2200,   -32.5003,   178.9098,       1494,    60.6,  17.6956,  35.6768,2,  35.6759,2, 231.9433,2, 231.0059,2,     0.4,2,    0.91,2,    0.14,2,    0.17,2,   2.329,2,   1.320,2,   1.5000,2,  2071.2,2, 2337.00,2,   7.9783,2, -999.00,9, -999.00,9, -999.00,    60.0,2,    4.70,2,     -999.0,1,  -999.0,9, 20170724,     2156, -32.5002, 178.9098,        0.0,1,      0.186,1,      4.602,1,      0.267,1,      25.00,     -999.0,9,     -999.0,9,     -999.0,9,     -999.0,9,    17.6820,2,     -999.0,9
320620170703,        P06,      82,          1,         25,         25,2,20170724,       2200,   -32.5003,   178.9098,       1494,    36.0,  17.6910,  35.6764,2,  35.6761,2, 231.7895,2, 230.6313,2,     0.4,2,    0.90,2,    0.14,2,    0.16,2,   2.302,2,   1.321,2,   1.5070,2,  2070.1,2, 2337.14,2,   7.9787,2, -999.00,9, -999.00,9, -999.00,    60.3,2,    5.10,2,     -999.0,1,  -999.0,9, 20170724,     2158, -32.5002, 178.9098,        0.0,1,      0.187,1,      4.601,1,      0.262,1,      25.01,     -999.0,9,     -999.0,9,     -999.0,9,     -999.0,9,    17.6820,2,     -999.0,9
320620170703,        P06,      82,          1,         26,         26,2,20170724,       2200,   -32.5003,   178.9098,       1494,     4.9,  17.6826,  35.6748,2,  35.6765,2, 231.9374,2, 231.6842,2,     0.3,2,    0.89,2,    0.14,2,    0.18,2,   2.326,2,   1.321,2,   1.4520,2,  2070.5,6, 2337.15,2,   7.9783,2, -999.00,9, -999.00,9, -999.00,    60.2,2,    5.00,2,     -999.0,1,  -999.0,9, 20170724,     2200, -32.5003, 178.9098,        0.0,1,      0.174,1,      4.600,1,      0.259,1,      25.01,     -999.0,9,     -999.0,9,     -999.0,9,     -999.0,9,    17.6852,2,     -999.0,9