BOTTLE,20230922CCHSIOCBG
EXPOCODE,SECT_ID,STNNBR,CASTNO,SAMPNO,BTLNBR,BTLNBR_FLAG_W,DATE,TIME,LATITUDE,LONGITUDE,DEPTH,CTDPRS,CTDTMP,CTDSAL,CTDSAL_FLAG_W,SALNTY,SALNTY_FLAG_W,CTDOXY,CTDOXY_FLAG_W,OXYGEN,OXYGEN_FLAG_W,SILCAT,SILCAT_FLAG_W,NITRAT,NITRAT_FLAG_W,NITRIT,NITRIT_FLAG_W,PHSPHT,PHSPHT_FLAG_W,CFC-11,CFC-11_FLAG_W,CFC-12,CFC-12_FLAG_W,SF6,SF6_FLAG_W,TCARBN,TCARBN_FLAG_W,ALKALI,ALKALI_FLAG_W,PH_TOT,PH_TOT_FLAG_W,DELC13,DELC13_FLAG_W,DELC14,DELC14_FLAG_W,C14ERR,DOC,DOC_FLAG_W,TDN,TDN_FLAG_W,TON,TON_FLAG_W,D15N_NO3,D15N_NO3_FLAG_W,BTL_DATE,BTL_TIME,BTL_LAT,BTL_LON,CTDRINKO,CTDRINKO_FLAG_W,CTDFLUOR,CTDFLUOR_FLAG_W,CTDXMISS,CTDXMISS_FLAG_W,CTDBACKSCATTER,CTDBACKSCATTER_FLAG_W,PH_TMP,D18O_NO3,D18O_NO3_FLAG_W,DOP,DOP_FLAG_W,HPLC,HPLC_FLAG_W,POC,POC_FLAG_W,REFTMP,REFTMP_FLAG_W,TDP,TDP_FLAG_W
,,,,,,,,,,,METERS,DBAR,ITS-90,PSS-78,,PSS-78,,UMOL/KG,,UMOL/KG,,UMOL/KG,,UMOL/KG,,UMOL/KG,,UMOL/KG,,PMOL/KG,,PMOL/KG,,FMOL/KG,,UMOL/KG,,UMOL/KG,,,,/MILLE,,/MILLE,,/MILLE,UMOL/KG,,UMOL/KG,,UMOL/KG,,/MILLE,,,,,,VOLTS,,VOLTS,,VOLTS,,VOLTS,,DEGC,/MILLE,,UMOL/KG,,,,UG/L,,ITS-90,,UMOL/KG,
320620170703,        P06,      40,          1,         33,         33,2,20170712,       1606,   -30.0799,   164.8300,       3376,    63.8,  19.9542,  35.8245,2,  35.8267,2, 220.5940,2, 220.1170,2,     0.3,2,    0.26,2,    0.06,2,    0.10,2,   1.784,2,   1.204,2,   1.0670,2,  2055.5,2, 2340.41,2,   8.0158,2, -999.00,9, -999.00,9, -999.00,    59.1,2,    5.30,2,     -999.0,1,  -999.0,9, 20170712,     1601, -30.0799, 164.8306,        0.0,1,      0.178,1,      4.628,1,      0.221,1,      25.02,     -999.0,9,     -999.0,9,     -999.0,9,     -999.0,9,    19.9314,2,     -999.0,9
320620170703,        P06,      40,          1,         34,         34,2,20170712,       1606,   -30.0799,   164.8300,       3376,    45.4,  19.9528,  35.8247,2,  35.8210,2, 221.2380,2, 219.8661,2,     0.3,2,    0.30,2,    0.06,2,    0.11,2,   1.777,2,   1.198,2,   1.1020,2,  2054.7,2, 2339.23,2,   8.0158,2, -999.00,9, -999.00,9, -999.00,    58.8,2,    4.90,2,     -999.0,1,  -999.0,9, 20170712,     1602, -30.0799, 164.8305,        0.0,1,      0.176,1,      4.629,1,      0.210,1,      25.02,     -999.0,9,     -999.0,9,     -999.0,9,     -999.0,9,    19.9292,2,     -999.0,9
320620170703,        P06,      40,          1,         35,         35,2,20170712,       1606,   -30.0799,   164.8300,       3376,    20.2,  19.9503,  35.8249,2,  35.8232,2, 220.8556,2, 220.0642,2,     0.3,2,    0.29,2,    0.06,2,    0.11,2,   1.821,2,   1.213,2,   1.1380,2,  -999.0,9, -999.00,9,-999.0000,9, -999.00,9, -999.00,9, -999.00,    59.7,2,    5.10,2,     -999.0,1,  -999.0,9, 20170712,     1604, -30.0799, 164.8302,        0.0,1,      0.178,1,      4.628,1,      0.209,1,     -999.0,     -999.0,9,     -999.0,9,     -999.0,9,     -999.0,9,    19.9257,2,     -999.0,9
320620170703,        P06,      40,          1,         36,         36,2,20170712,       1606,   -30.0799,   164.8300,       3376,     7.3,  19.9438,  35.8244,2,  35.8230,2, 221.1973,2, 220.1877,2,     0.4,2,    0.31,2,    0.06,2,    0.13,2,   1.842,2,   1.215,2,   1.0890,2,  2056.1,6, 2340.86,2,   8.0165,2, -999.00,9, -999.00,9, -999.00,    58.9,2,    5.20,2,     -999.0,1,  -999.0,9, 20170712,     1606, -30.0799, 164.8300,        0.0,1,      0.184,1,      4.628,1,      0.207,1,      24.98,     -999.0,9,     -999.0,9,     -999.0,9,     -999.0,9,    19.9256,2,     -999.0,9