BOTTLE,20230922CCHSIOCBG
EXPOCODE,SECT_ID,STNNBR,CASTNO,SAMPNO,BTLNBR,BTLNBR_FLAG_W,DATE,TIME,LATITUDE,LONGITUDE,DEPTH,CTDPRS,CTDTMP,CTDSAL,CTDSAL_FLAG_W,SALNTY,SALNTY_FLAG_W,CTDOXY,CTDOXY_FLAG_W,OXYGEN,OXYGEN_FLAG_W,SILCAT,SILCAT_FLAG_W,NITRAT,NITRAT_FLAG_W,NITRIT,NITRIT_FLAG_W,PHSPHT,PHSPHT_FLAG_W,CFC-11,CFC-11_FLAG_W,CFC-12,CFC-12_FLAG_W,SF6,SF6_FLAG_W,TCARBN,TCARBN_FLAG_W,ALKALI,ALKALI_FLAG_W,PH_TOT,PH_TOT_FLAG_W,DELC13,DELC13_FLAG_W,DELC14,DELC14_FLAG_W,C14ERR,DOC,DOC_FLAG_W,TDN,TDN_FLAG_W,TON,TON_FLAG_W,D15N_NO3,D15N_NO3_FLAG_W,BTL_DATE,BTL_TIME,BTL_LAT,BTL_LON,CTDRINKO,CTDRINKO_FLAG_W,CTDFLUOR,CTDFLUOR_FLAG_W,CTDXMISS,CTDXMISS_FLAG_W,CTDBACKSCATTER,CTDBACKSCATTER_FLAG_W,PH_TMP,D18O_NO3,D18O_NO3_FLAG_W,DOP,DOP_FLAG_W,HPLC,HPLC_FLAG_W,POC,POC_FLAG_W,REFTMP,REFTMP_FLAG_W,TDP,TDP_FLAG_W
,,,,,,,,,,,METERS,DBAR,ITS-90,PSS-78,,PSS-78,,UMOL/KG,,UMOL/KG,,UMOL/KG,,UMOL/KG,,UMOL/KG,,UMOL/KG,,PMOL/KG,,PMOL/KG,,FMOL/KG,,UMOL/KG,,UMOL/KG,,,,/MILLE,,/MILLE,,/MILLE,UMOL/KG,,UMOL/KG,,UMOL/KG,,/MILLE,,,,,,VOLTS,,VOLTS,,VOLTS,,VOLTS,,DEGC,/MILLE,,UMOL/KG,,,,UG/L,,ITS-90,,UMOL/KG,
320620170703,        P06,      22,          1,         33,         33,2,20170709,       0608,   -30.0801,   157.6699,       1828,    41.3,  20.3822,  35.8067,2,  35.8058,2, 219.1424,2, 219.2669,2,     0.2,2,    0.31,2,    0.24,2,    0.09,2,-999.000,9,-999.000,9,-999.0000,9,  -999.0,9, -999.00,9,-999.0000,9, -999.00,9, -999.00,9, -999.00,    56.2,2,    4.80,2,     -999.0,1,  -999.0,9, 20170709,      605, -30.0800, 157.6699,        0.0,1,      0.184,1,      4.608,1,      0.201,1,     -999.0,     -999.0,9,     -999.0,9,     -999.0,9,     -999.0,9,    20.3847,2,     -999.0,9
320620170703,        P06,      22,          1,         34,         34,2,20170709,       0608,   -30.0801,   157.6699,       1828,    21.1,  20.4565,  35.7979,2,  35.8011,2, 220.4137,2, 219.8198,2,     0.1,2,    0.34,2,    0.22,2,    0.11,2,   1.893,2,   1.124,2,   1.0800,2,  2045.8,2, 2340.83,2,   8.0273,2, -999.00,9, -999.00,9, -999.00,    56.0,2,    4.70,2,     -999.0,1,  -999.0,9, 20170709,      607, -30.0801, 157.6699,        0.0,1,      0.183,1,      4.563,1,      0.206,1,      25.01,     -999.0,9,     -999.0,9,     -999.0,9,     -999.0,9,    20.4510,2,     -999.0,9
320620170703,        P06,      22,          1,         35,         35,2,20170709,       0608,   -30.0801,   157.6699,       1828,     5.6,  20.5135,  35.8003,2,  35.8030,2, 220.4288,2, 220.0088,2,     0.2,2,    0.33,2,    0.21,2,    0.11,2,   1.900,2,   1.126,2,   1.0390,2,  2045.1,6, 2340.44,2,   8.0268,2, -999.00,9, -999.00,9, -999.00,    56.0,2,    4.50,2,     -999.0,1,  -999.0,9, 20170709,      608, -30.0801, 157.6699,        0.0,1,      0.138,1,      3.665,1,      0.194,1,      25.01,     -999.0,9,     -999.0,9,     -999.0,9,     -999.0,9,    20.5046,2,     -999.0,9