BOTTLE,20230922CCHSIOCBG
EXPOCODE,SECT_ID,STNNBR,CASTNO,SAMPNO,BTLNBR,BTLNBR_FLAG_W,DATE,TIME,LATITUDE,LONGITUDE,DEPTH,CTDPRS,CTDTMP,CTDSAL,CTDSAL_FLAG_W,SALNTY,SALNTY_FLAG_W,CTDOXY,CTDOXY_FLAG_W,OXYGEN,OXYGEN_FLAG_W,SILCAT,SILCAT_FLAG_W,NITRAT,NITRAT_FLAG_W,NITRIT,NITRIT_FLAG_W,PHSPHT,PHSPHT_FLAG_W,CFC-11,CFC-11_FLAG_W,CFC-12,CFC-12_FLAG_W,SF6,SF6_FLAG_W,TCARBN,TCARBN_FLAG_W,ALKALI,ALKALI_FLAG_W,PH_TOT,PH_TOT_FLAG_W,DELC13,DELC13_FLAG_W,DELC14,DELC14_FLAG_W,C14ERR,DOC,DOC_FLAG_W,TDN,TDN_FLAG_W,TON,TON_FLAG_W,D15N_NO3,D15N_NO3_FLAG_W,BTL_DATE,BTL_TIME,BTL_LAT,BTL_LON,CTDRINKO,CTDRINKO_FLAG_W,CTDFLUOR,CTDFLUOR_FLAG_W,CTDXMISS,CTDXMISS_FLAG_W,CTDBACKSCATTER,CTDBACKSCATTER_FLAG_W,PH_TMP,D18O_NO3,D18O_NO3_FLAG_W,DOP,DOP_FLAG_W,HPLC,HPLC_FLAG_W,POC,POC_FLAG_W,REFTMP,REFTMP_FLAG_W,TDP,TDP_FLAG_W
,,,,,,,,,,,METERS,DBAR,ITS-90,PSS-78,,PSS-78,,UMOL/KG,,UMOL/KG,,UMOL/KG,,UMOL/KG,,UMOL/KG,,UMOL/KG,,PMOL/KG,,PMOL/KG,,FMOL/KG,,UMOL/KG,,UMOL/KG,,,,/MILLE,,/MILLE,,/MILLE,UMOL/KG,,UMOL/KG,,UMOL/KG,,/MILLE,,,,,,VOLTS,,VOLTS,,VOLTS,,VOLTS,,DEGC,/MILLE,,UMOL/KG,,,,UG/L,,ITS-90,,UMOL/KG,
320620170703,        P06,     127,          1,          1,          1,2,20170808,       0818,   -32.5000,  -159.7166,       5396,  5492.3,   1.1386,  34.7098,2,  34.7107,3, 204.1524,2, 205.5785,2,   121.2,2,   32.24,2,    0.00,2,    2.21,2,   0.101,2,   0.063,2,   0.0000,2,  2264.5,6, 2368.78,2,   7.6072,2, -999.00,9, -999.00,9, -999.00,  -999.0,9, -999.00,9,     -999.0,9,  -999.0,1, 20170808,      556, -32.4999,-159.7169,        0.0,1,      0.061,1,      4.695,1,      0.127,1,      25.00,     -999.0,1,     -999.0,9,     -999.0,9,     -999.0,9,     1.1390,2,     -999.0,9
320620170703,        P06,     127,          1,          2,          2,2,20170808,       0818,   -32.5000,  -159.7166,       5396,  5249.9,   1.1091,  34.7100,2,  34.7074,3, 204.1524,2, 205.7510,2,   121.0,2,   32.22,2,    0.00,2,    2.22,2,   0.099,2,   0.066,2,   0.0000,2,  -999.0,9, -999.00,9,-999.0000,9, -999.00,9, -999.00,9, -999.00,  -999.0,9, -999.00,9,     -999.0,9,  -999.0,1, 20170808,      603, -32.4999,-159.7167,        0.0,1,      0.060,1,      4.696,1,      0.129,1,     -999.0,     -999.0,1,     -999.0,9,     -999.0,9,     -999.0,9,     1.1096,2,     -999.0,9
320620170703,        P06,     127,          1,          3,          3,2,20170808,       0818,   -32.5000,  -159.7166,       5396,  4989.7,   1.0891,  34.7107,2,  34.7083,3, 204.1524,2, 205.3829,2,   120.7,2,   32.19,2,    0.00,2,    2.23,2,   0.087,2,   0.059,2,   0.0000,2,  2262.7,2, 2368.22,2,   7.6068,2, -999.00,9, -999.00,9, -999.00,  -999.0,9, -999.00,9,     -999.0,9,  -999.0,1, 20170808,      612, -32.4999,-159.7166,        0.0,1,      0.060,1,      4.697,1,      0.124,1,      25.02,     -999.0,1,     -999.0,9,     -999.0,9,     -999.0,9,     1.0892,2,     -999.0,9
320620170703,        P06,     127,          1,          4,          4,2,20170808,       0818,   -32.5000,  -159.7166,       5396,  4681.0,   1.1064,  34.7123,2,  34.7101,2, 204.1524,2, 204.4728,2,   119.3,2,   32.15,2,    0.00,2,    2.23,2,   0.081,2,   0.052,2,   0.0000,2,  -999.0,9, -999.00,9,-999.0000,9, -999.00,9, -999.00,9, -999.00,  -999.0,9, -999.00,9,     -999.0,9,  -999.0,1, 20170808,      620, -32.4999,-159.7168,        0.0,1,      0.060,1,      4.698,1,      0.126,1,     -999.0,     -999.0,1,     -999.0,9,     -999.0,9,     -999.0,9,     1.1033,2,     -999.0,9
320620170703,        P06,     127,          1,          5,          5,2,20170808,       0818,   -32.5000,  -159.7166,       5396,  4375.4,   1.1953,  34.7155,2,  34.7119,2, 205.1273,3, 202.0858,2,   116.3,2,   32.06,2,    0.00,2,    2.21,2,   0.060,2,   0.043,2,   0.0000,2,  2263.5,2, 2367.96,6,   7.6077,2, -999.00,9, -999.00,9, -999.00,  -999.0,9, -999.00,9,     -999.0,9,  -999.0,1, 20170808,      627, -32.4999,-159.7166,        0.0,1,      0.061,1,      4.699,1,      0.124,1,      25.01,     -999.0,1,     -999.0,9,     -999.0,9,     -999.0,9,     1.1919,2,     -999.0,9
320620170703,        P06,     127,          1,          6,          6,2,20170808,       0818,   -32.5000,  -159.7166,       5396,  4065.1,   1.3629,  34.7167,2,  34.7131,2, 196.5871,2, 196.5013,2,   113.4,2,   32.19,2,    0.00,2,    2.23,2,   0.051,2,   0.035,2,   0.0000,2,  -999.0,9, -999.00,9,-999.0000,9, -999.00,9, -999.00,9, -999.00,  -999.0,9, -999.00,9,     -999.0,9,  -999.0,1, 20170808,      633, -32.4999,-159.7169,        0.0,1,      0.061,1,      4.699,1,      0.125,1,     -999.0,     -999.0,1,     -999.0,9,     -999.0,9,     -999.0,9,     1.3587,2,     -999.0,9
320620170703,        P06,     127,          1,          7,          7,2,20170808,       0818,   -32.5000,  -159.7166,       5396,  3759.9,   1.5150,  34.7097,2,  34.7058,2, 186.1918,2, 184.9550,2,   115.6,2,   32.91,2,    0.00,2,    2.29,2,   0.038,2,   0.028,2,   0.0000,2,  2276.7,2, 2375.86,2,   7.5969,2, -999.00,9, -999.00,9, -999.00,  -999.0,9, -999.00,9,     -999.0,9,  -999.0,1, 20170808,      639, -32.5000,-159.7167,        0.0,1,      0.061,1,      4.698,1,      0.126,1,      25.01,     -999.0,1,     -999.0,9,     -999.0,9,     -999.0,9,     1.5133,2,     -999.0,9
320620170703,        P06,     127,          1,          8,          8,2,20170808,       0818,   -32.5000,  -159.7166,       5396,  3450.8,   1.6412,  34.6918,2,  34.6885,2, 170.1203,3, 167.9327,2,   123.7,2,   34.35,2,    0.00,2,    2.40,2,   0.028,2,   0.023,2,   0.0000,2,  -999.0,9, -999.00,9,-999.0000,9, -999.00,9, -999.00,9, -999.00,  -999.0,9, -999.00,9,     -999.0,9,  -999.0,1, 20170808,      646, -32.4999,-159.7166,        0.0,1,      0.061,1,      4.699,1,      0.126,1,     -999.0,     -999.0,1,     -999.0,9,     -999.0,9,     -999.0,9,     1.6361,2,     -999.0,9
320620170703,        P06,     127,          1,          9,          9,2,20170808,       0818,   -32.5000,  -159.7166,       5396,  3144.3,   1.7404,  34.6757,2,  34.6728,2, 157.0233,3, 154.9315,2,   129.8,2,   35.51,2,    0.00,2,    2.49,2,   0.023,2,   0.019,2,   0.0000,2,  2313.1,2, 2402.08,2,   7.5741,2, -999.00,9, -999.00,9, -999.00,  -999.0,9, -999.00,9,     -999.0,9,  -999.0,1, 20170808,      652, -32.4999,-159.7168,        0.0,1,      0.061,1,      4.699,1,      0.127,1,      25.01,     -999.0,1,     -999.0,9,     -999.0,9,     -999.0,9,     1.7318,2,     -999.0,9
320620170703,        P06,     127,          1,         10,         10,2,20170808,       0818,   -32.5000,  -159.7166,       5396,  2873.5,   1.8197,  34.6669,2,  34.6633,2, 151.0570,2, 149.7827,2,   130.2,2,   35.90,2,    0.00,2,    2.51,2,   0.022,2,   0.021,2,   0.0000,2,  2316.5,2, 2402.62,2,   7.5685,2, -999.00,9, -999.00,9, -999.00,  -999.0,9, -999.00,9,     -999.0,9,  -999.0,1, 20170808,      658, -32.4999,-159.7168,        0.0,1,      0.061,1,      4.699,1,      0.129,1,      25.03,     -999.0,1,     -999.0,9,     -999.0,9,     -999.0,9,     1.8076,2,     -999.0,9
320620170703,        P06,     127,          1,         11,         11,2,20170808,       0818,   -32.5000,  -159.7166,       5396,  2620.0,   1.8880,  34.6601,2,  34.6665,2, 147.8191,2, 147.6705,2,   128.2,2,   36.02,2,    0.00,2,    2.52,2,   0.022,2,   0.020,2,   0.0000,2,  2315.6,6, 2400.64,2,   7.5670,2, -999.00,9, -999.00,9, -999.00,  -999.0,9, -999.00,9,     -999.0,9,  -999.0,1, 20170808,      704, -32.4999,-159.7170,        0.0,1,      0.061,1,      4.699,1,      0.130,1,      24.98,     -999.0,1,     -999.0,9,     -999.0,9,     -999.0,9,     1.8833,2,     -999.0,9
320620170703,        P06,     127,          1,         12,         12,2,20170808,       0818,   -32.5000,  -159.7166,       5396,  2363.2,   2.0020,  34.6501,2,  34.6472,2, 146.3401,2, 147.7041,2,   123.6,2,   35.99,2,    0.00,2,    2.51,2,   0.021,2,   0.021,2,   0.0000,2,  -999.0,9, -999.00,9,-999.0000,9, -999.00,9, -999.00,9, -999.00,  -999.0,9, -999.00,9,     -999.0,9,  -999.0,1, 20170808,      709, -32.4999,-159.7168,        0.0,1,      0.061,1,      4.699,1,      0.131,1,     -999.0,     -999.0,1,     -999.0,9,     -999.0,9,     -999.0,9,     1.9951,2,     -999.0,9
320620170703,        P06,     127,          1,         13,         13,2,20170808,       0818,   -32.5000,  -159.7166,       5396,  2112.3,   2.1408,  34.6374,2,  34.6348,2, 147.2783,2, 148.6030,2,   116.4,2,   35.77,2,    0.00,2,    2.50,2,   0.022,2,   0.019,2,   0.0000,2,  2304.3,2, 2392.00,2,   7.5657,2, -999.00,9, -999.00,9, -999.00,  -999.0,9, -999.00,9,     -999.0,9,  -999.0,1, 20170808,      715, -32.4999,-159.7168,        0.0,1,      0.061,1,      4.699,1,      0.131,1,      25.01,     -999.0,1,     -999.0,9,     -999.0,9,     -999.0,9,     2.1356,2,     -999.0,9
320620170703,        P06,     127,          1,         14,         14,2,20170808,       0818,   -32.5000,  -159.7166,       5396,  1884.6,   2.2995,  34.6197,2,  34.6142,2, 150.4523,3, 152.2198,2,   106.1,2,   35.43,2,    0.00,2,    2.47,2,   0.025,2,   0.020,2,   0.0000,2,  -999.0,9, -999.00,9,-999.0000,9, -999.00,9, -999.00,9, -999.00,  -999.0,9, -999.00,9,     -999.0,9,  -999.0,1, 20170808,      720, -32.4999,-159.7167,        0.0,1,      0.061,1,      4.700,1,      0.130,1,     -999.0,     -999.0,1,     -999.0,9,     -999.0,9,     -999.0,9,     2.3120,2,     -999.0,9
320620170703,        P06,     127,          1,         15,         15,2,20170808,       0818,   -32.5000,  -159.7166,       5396,  1684.6,   2.5114,  34.5858,2,  34.5771,2, 156.2867,3, 157.9986,2,    91.7,2,   35.03,2,    0.00,2,    2.43,2,   0.036,2,   0.025,2,   0.0000,2,  2276.0,2, 2363.19,2,   7.5666,2, -999.00,9, -999.00,9, -999.00,  -999.0,9, -999.00,9,     -999.0,9,  -999.0,1, 20170808,      725, -32.4999,-159.7168,        0.0,1,      0.060,1,      4.700,1,      0.132,1,      24.98,     -999.0,1,     -999.0,9,     -999.0,9,     -999.0,9,     2.5388,2,     -999.0,9
320620170703,        P06,     127,          1,         16,         16,2,20170808,       0818,   -32.5000,  -159.7166,       5396,  1480.2,   2.9015,  34.5003,2,  34.4995,2, 165.9377,3, 167.9303,2,    71.7,2,   34.58,2,    0.00,2,    2.38,2,   0.101,2,   0.063,2,   0.0000,2,  -999.0,9, -999.00,9,-999.0000,9, -999.00,9, -999.00,9, -999.00,  -999.0,9, -999.00,9,     -999.0,9,  -999.0,1, 20170808,      730, -32.5000,-159.7165,        0.0,1,      0.060,1,      4.700,1,      0.133,1,     -999.0,     -999.0,1,     -999.0,9,     -999.0,9,     -999.0,9,     2.8875,2,     -999.0,9
320620170703,        P06,     127,          1,         17,         17,2,20170808,       0818,   -32.5000,  -159.7166,       5396,  1348.1,   3.2634,  34.4302,2,  34.4343,2, 174.9548,2, 176.4708,2,    58.6,2,   34.06,2,    0.00,2,    2.35,2,   0.247,2,   0.135,2,   0.0000,2,  2235.2,2, 2320.82,2,   7.5742,2, -999.00,9, -999.00,9, -999.00,  -999.0,9, -999.00,9,     -999.0,9,  -999.0,1, 20170808,      734, -32.4999,-159.7167,        0.0,1,      0.060,1,      4.699,1,      0.133,1,      25.05,     -999.0,1,     -999.0,9,     -999.0,9,     -999.0,9,     3.2129,2,     -999.0,9
320620170703,        P06,     127,          1,         18,         18,2,20170808,       0818,   -32.5000,  -159.7166,       5396,  1246.6,   3.6250,  34.3864,2,  34.3888,2, 183.2394,2, 184.0290,2,    48.6,2,   33.34,2,    0.00,2,    2.29,2,   0.440,2,   0.226,2,   0.0000,2,  -999.0,9, -999.00,9,-999.0000,9, -999.00,9, -999.00,9, -999.00,  -999.0,9, -999.00,9,     -999.0,9,  -999.0,1, 20170808,      737, -32.5000,-159.7166,        0.0,1,      0.060,1,      4.699,1,      0.135,1,     -999.0,     -999.0,1,     -999.0,9,     -999.0,9,     -999.0,9,     3.5758,2,     -999.0,9
320620170703,        P06,     127,          1,         19,         19,2,20170808,       0818,   -32.5000,  -159.7166,       5396,  1144.0,   4.0909,  34.3449,2,  34.3452,3, 194.6225,2, 194.3742,2,    37.6,2,   32.07,2,    0.00,2,    2.20,2,   0.916,2,   0.439,2,   0.0570,2,  2207.7,2, 2304.62,2,   7.6042,2, -999.00,9, -999.00,9, -999.00,  -999.0,9, -999.00,9,     -999.0,9,  -999.0,1, 20170808,      739, -32.4999,-159.7166,        0.0,1,      0.059,1,      4.699,1,      0.133,1,      25.03,     -999.0,1,     -999.0,9,     -999.0,9,     -999.0,9,     4.0533,2,     -999.0,9
320620170703,        P06,     127,          1,         20,         20,2,20170808,       0818,   -32.5000,  -159.7166,       5396,  1043.8,   4.7824,  34.3216,2,  34.3186,2, 204.2117,2, 204.1916,2,    27.5,2,   30.22,2,    0.00,2,    2.07,2,   1.524,2,   0.713,2,   0.2070,2,  -999.0,9, -999.00,9,-999.0000,9, -999.00,9, -999.00,9, -999.00,  -999.0,9, -999.00,9,     -999.0,9,  -999.0,1, 20170808,      742, -32.5000,-159.7165,        0.0,1,      0.061,1,      4.698,1,      0.133,1,     -999.0,     -999.0,1,     -999.0,9,     -999.0,9,     -999.0,9,     4.7300,2,     -999.0,9
320620170703,        P06,     127,          1,         21,         21,2,20170808,       0818,   -32.5000,  -159.7166,       5396,   943.2,   5.5233,  34.3138,2,  34.3113,2, 215.7348,2, 214.9534,2,    19.0,2,   28.10,2,    0.00,2,    1.92,2,   1.921,6,   0.941,6,   0.3085,6,  2175.2,2, 2280.95,2,   7.6547,2, -999.00,9, -999.00,9, -999.00,  -999.0,9, -999.00,9,     -999.0,9,  -999.0,1, 20170808,      745, -32.5000,-159.7164,        0.0,1,      0.060,1,      4.698,1,      0.132,1,      25.03,     -999.0,1,     -999.0,9,     -999.0,9,     -999.0,9,     5.3708,2,     -999.0,9
320620170703,        P06,     127,          1,         22,         22,2,20170808,       0818,   -32.5000,  -159.7166,       5396,   842.3,   6.1299,  34.3250,2,  34.3146,2, 227.3750,2, 225.8547,2,    13.3,2,   26.04,2,    0.00,2,    1.77,2,   2.426,2,   1.234,2,   0.6110,2,  2161.7,2, 2281.48,6,   7.6783,2, -999.00,9, -999.00,9, -999.00,  -999.0,9, -999.00,9,     -999.0,9,  -999.0,1, 20170808,      748, -32.5000,-159.7164,        0.0,1,      0.059,1,      4.697,1,      0.137,1,      25.02,     -999.0,1,     -999.0,9,     -999.0,9,     -999.0,9,     5.8974,2,     -999.0,9
320620170703,        P06,     127,          1,         23,         23,2,20170808,       0818,   -32.5000,  -159.7166,       5396,   738.6,   6.5896,  34.3505,2,  34.3427,2, 234.6988,2, 234.7698,2,     9.1,2,   23.91,2,    0.00,2,    1.62,2,   3.174,2,   1.571,2,   0.6150,2,  2149.1,2, 2279.71,2,   7.6981,2, -999.00,9, -999.00,9, -999.00,  -999.0,9, -999.00,9,     -999.0,9,  -999.0,1, 20170808,      751, -32.4999,-159.7165,        0.0,1,      0.059,1,      4.697,1,      0.135,1,      25.02,     -999.0,1,     -999.0,9,     -999.0,9,     -999.0,9,     6.5086,2,     -999.0,9
320620170703,        P06,     127,          1,         24,         24,2,20170808,       0818,   -32.5000,  -159.7166,       5396,   639.9,   7.0522,  34.3842,2,  34.3827,2, 238.7830,2, 237.7694,2,     6.8,2,   22.21,2,    0.00,2,    1.50,2,   3.663,2,   1.820,2,   0.7080,2,  -999.0,9, -999.00,9,-999.0000,9, -999.00,9, -999.00,9, -999.00,  -999.0,9, -999.00,9,     -999.0,9,  -999.0,1, 20170808,      754, -32.5000,-159.7164,        0.0,1,      0.059,1,      4.696,1,      0.136,1,     -999.0,     -999.0,1,     -999.0,9,     -999.0,9,     -999.0,9,     7.0656,2,     -999.0,9
320620170703,        P06,     127,          1,         25,         25,2,20170808,       0818,   -32.5000,  -159.7166,       5396,   538.8,   7.6441,  34.4333,2,  34.4306,2, 241.7209,2, 240.1728,2,     5.2,2,   20.31,2,    0.00,2,    1.39,2,   3.567,2,   1.908,2,   1.2220,2,  2143.3,2, 2282.80,2,   7.7201,2, -999.00,9, -999.00,9, -999.00,  -999.0,9, -999.00,9,     -999.0,9,  -999.0,1, 20170808,      757, -32.5000,-159.7164,        0.0,1,      0.059,1,      4.695,1,      0.138,1,      25.02,     -999.0,1,     -999.0,9,     -999.0,9,     -999.0,9,     7.5869,2,     -999.0,9
320620170703,        P06,     127,          1,         26,         26,2,20170808,       0818,   -32.5000,  -159.7166,       5396,   438.0,   8.5412,  34.5226,2,  34.5193,2, 230.0587,2, 230.0831,2,     4.2,2,   18.23,2,    0.00,2,    1.26,2,   3.327,2,   1.803,2,   0.9830,2,  2140.8,2, 2286.35,2,   7.7321,2, -999.00,9, -999.00,9, -999.00,  -999.0,9, -999.00,9,     -999.0,9,  -999.0,1, 20170808,      800, -32.5000,-159.7165,        0.0,1,      0.059,1,      4.694,1,      0.139,1,      25.02,     -999.0,1,     -999.0,9,     -999.0,9,     -999.0,9,     8.6218,2,     -999.0,9
320620170703,        P06,     127,          1,         27,         27,2,20170808,       0818,   -32.5000,  -159.7166,       5396,   370.3,   9.6123,  34.6482,2,  34.8100,2, 219.8729,3, 222.3010,2,     3.7,2,   16.27,2,    0.00,2,    1.13,2,   3.189,2,   1.719,2,   1.3360,2,  2138.6,2, 2289.27,2,   7.7471,2, -999.00,9, -999.00,9, -999.00,  -999.0,9, -999.00,9,     -999.0,9,  -999.0,1, 20170808,      802, -32.5000,-159.7166,        0.0,1,      0.059,1,      4.692,1,      0.140,1,      25.01,     -999.0,1,     -999.0,1,     -999.0,9,     -999.0,9,     9.6266,2,     -999.0,9
320620170703,        P06,     127,          1,         28,         28,2,20170808,       0818,   -32.5000,  -159.7166,       5396,   318.3,  11.2354,  34.8558,2,  34.6441,2, 215.3288,2, 216.2535,2,     2.9,2,   13.27,2,    0.00,2,    0.96,2,   3.147,2,   1.761,2,   1.0010,2,  2131.7,2, 2298.55,2,   7.7773,2, -999.00,9, -999.00,9, -999.00,  -999.0,9, -999.00,9,     -999.0,9,  -999.0,1, 20170808,      804, -32.5000,-159.7164,        0.0,1,      0.060,1,      4.691,1,      0.137,1,      25.02,     -999.0,1,     -999.0,1,     -999.0,9,     -999.0,9,    10.8931,2,     -999.0,9
320620170703,        P06,     127,          1,         29,         29,2,20170808,       0818,   -32.5000,  -159.7166,       5396,   267.7,  12.2017,  34.9452,2,  34.9421,2, 209.1445,2, 208.7787,2,     2.2,2,   10.84,2,    0.00,2,    0.80,2,   2.900,2,   1.668,2,   1.1360,2,  2122.2,2, 2301.08,2,   7.8058,2, -999.00,9, -999.00,9, -999.00,  -999.0,9, -999.00,9,     -999.0,9,  -999.0,1, 20170808,      806, -32.5000,-159.7165,        0.0,1,      0.058,1,      4.689,1,      0.137,1,      25.02,     -999.0,1,     -999.0,1,     -999.0,9,     -999.0,9,    12.2010,2,     -999.0,9
320620170703,        P06,     127,          1,         30,         30,2,20170808,       0818,   -32.5000,  -159.7166,       5396,   215.4,  13.6593,  35.1250,2,  35.1073,2, 209.4098,2, 211.2235,2,     1.5,2,    7.56,2,    0.00,2,    0.60,2,   2.619,2,   1.509,2,   1.3610,2,  2114.1,2, 2309.94,2,   7.8448,2, -999.00,9, -999.00,9, -999.00,  -999.0,9, -999.00,9,     -999.0,9,  -999.0,1, 20170808,      808, -32.5000,-159.7166,        0.0,1,      0.061,1,      4.689,1,      0.138,1,      25.02,     -999.0,1,     -999.0,1,     -999.0,9,     -999.0,9,    13.5840,2,     -999.0,9
320620170703,        P06,     127,          1,         31,         31,2,20170808,       0818,   -32.5000,  -159.7166,       5396,   164.8,  14.7462,  35.2688,2,  35.2725,2, 209.4933,2, 210.3504,2,     1.1,2,    5.58,2,    0.02,2,    0.47,2,   2.492,2,   1.443,2,   1.2440,2,  2103.6,2, 2318.24,2,   7.8746,2, -999.00,9, -999.00,9, -999.00,  -999.0,9, -999.00,9,     -999.0,9,  -999.0,1, 20170808,      811, -32.4999,-159.7167,        0.0,1,      0.069,1,      4.686,1,      0.137,1,      25.02,     -999.0,1,     -999.0,1,     -999.0,9,     -999.0,9,    14.8002,2,     -999.0,9
320620170703,        P06,     127,          1,         32,         32,2,20170808,       0818,   -32.5000,  -159.7166,       5396,   116.4,  16.2524,  35.4326,2,  35.4450,2, 214.0431,2, 215.7575,2,     0.6,2,    2.94,2,    0.05,2,    0.30,2,   2.340,2,   1.371,2,   1.3100,2,  -999.0,9, -999.00,9,-999.0000,9, -999.00,9, -999.00,9, -999.00,  -999.0,9, -999.00,9,     -999.0,9,  -999.0,1, 20170808,      813, -32.5000,-159.7167,        0.0,1,      0.120,1,      4.657,1,      0.173,1,     -999.0,     -999.0,1,     -999.0,1,     -999.0,9,     -999.0,9,    16.2454,2,     -999.0,9