BOTTLE,20230922CCHSIOCBG
EXPOCODE,SECT_ID,STNNBR,CASTNO,SAMPNO,BTLNBR,BTLNBR_FLAG_W,DATE,TIME,LATITUDE,LONGITUDE,DEPTH,CTDPRS,CTDTMP,CTDSAL,CTDSAL_FLAG_W,SALNTY,SALNTY_FLAG_W,CTDOXY,CTDOXY_FLAG_W,OXYGEN,OXYGEN_FLAG_W,SILCAT,SILCAT_FLAG_W,NITRAT,NITRAT_FLAG_W,NITRIT,NITRIT_FLAG_W,PHSPHT,PHSPHT_FLAG_W,CFC-11,CFC-11_FLAG_W,CFC-12,CFC-12_FLAG_W,SF6,SF6_FLAG_W,TCARBN,TCARBN_FLAG_W,ALKALI,ALKALI_FLAG_W,PH_TOT,PH_TOT_FLAG_W,DELC13,DELC13_FLAG_W,DELC14,DELC14_FLAG_W,C14ERR,DOC,DOC_FLAG_W,TDN,TDN_FLAG_W,TON,TON_FLAG_W,D15N_NO3,D15N_NO3_FLAG_W,BTL_DATE,BTL_TIME,BTL_LAT,BTL_LON,CTDRINKO,CTDRINKO_FLAG_W,CTDFLUOR,CTDFLUOR_FLAG_W,CTDXMISS,CTDXMISS_FLAG_W,CTDBACKSCATTER,CTDBACKSCATTER_FLAG_W,PH_TMP,D18O_NO3,D18O_NO3_FLAG_W,DOP,DOP_FLAG_W,HPLC,HPLC_FLAG_W,POC,POC_FLAG_W,REFTMP,REFTMP_FLAG_W,TDP,TDP_FLAG_W
,,,,,,,,,,,METERS,DBAR,ITS-90,PSS-78,,PSS-78,,UMOL/KG,,UMOL/KG,,UMOL/KG,,UMOL/KG,,UMOL/KG,,UMOL/KG,,PMOL/KG,,PMOL/KG,,FMOL/KG,,UMOL/KG,,UMOL/KG,,,,/MILLE,,/MILLE,,/MILLE,UMOL/KG,,UMOL/KG,,UMOL/KG,,/MILLE,,,,,,VOLTS,,VOLTS,,VOLTS,,VOLTS,,DEGC,/MILLE,,UMOL/KG,,,,UG/L,,ITS-90,,UMOL/KG,
320620170703,        P06,     102,          1,         33,         33,2,20170729,       2226,   -32.5003,  -173.3827,       5853,    74.4,  17.4373,  35.6423,2,  35.6425,2, 234.5775,2, 234.6864,2,     0.1,2,    0.18,2,    0.04,2,    0.11,2,   2.239,2,   1.300,2,   1.2610,2,  2068.5,2, -999.00,9,   7.9780,2, -999.00,9, -999.00,9, -999.00,    59.3,2,    4.60,2,     -999.0,1,  -999.0,9, 20170729,     2222, -32.5001,-173.3828,        0.0,1,      0.175,1,      4.618,1,      0.239,1,      25.02,     -999.0,9,     -999.0,9,     -999.0,9,     -999.0,9,    17.4264,2,     -999.0,9
320620170703,        P06,     102,          1,         34,         34,2,20170729,       2226,   -32.5003,  -173.3827,       5853,    50.2,  17.4363,  35.6421,2,  35.6425,2, 234.5788,2, 234.7312,2,     0.2,2,    0.18,2,    0.04,2,    0.11,2,   2.206,2,   1.295,2,   1.3950,2,  -999.0,9, -999.00,9,-999.0000,9, -999.00,9, -999.00,9, -999.00,    61.9,2,    4.40,2,     -999.0,1,  -999.0,9, 20170729,     2224, -32.5003,-173.3827,        0.0,1,      0.177,1,      4.619,1,      0.233,1,     -999.0,     -999.0,9,     -999.0,9,     -999.0,9,     -999.0,9,    17.4252,2,     -999.0,9
320620170703,        P06,     102,          1,         35,         35,2,20170729,       2226,   -32.5003,  -173.3827,       5853,    25.7,  17.4357,  35.6421,2,  35.6421,2, 234.5790,2, 234.7388,2,     0.2,2,    0.18,2,    0.04,2,    0.11,2,   2.211,2,   1.296,2,   1.4620,2,  2067.1,2, -999.00,9,   7.9779,2, -999.00,9, -999.00,9, -999.00,    64.5,3,    5.20,2,     -999.0,1,  -999.0,9, 20170729,     2225, -32.5003,-173.3827,        0.0,1,      0.182,1,      3.247,1,      0.233,1,      25.02,     -999.0,9,     -999.0,9,     -999.0,9,     -999.0,9,    17.4202,2,     -999.0,9
320620170703,        P06,     102,          1,         36,         36,2,20170729,       2226,   -32.5003,  -173.3827,       5853,     5.0,  17.4313,  35.6417,2,  35.6423,2, 234.5790,2, 234.4978,2,     0.2,2,    0.17,2,    0.04,2,    0.12,2,   2.248,2,   1.299,2,   1.4840,2,  2069.1,6, 2336.07,2,   7.9777,2, -999.00,9, -999.00,9, -999.00,    60.2,2,    4.50,2,     -999.0,1,  -999.0,9, 20170729,     2226, -32.5003,-173.3827,        0.0,1,      0.179,1,      3.637,1,      0.220,1,      25.02,     -999.0,9,     -999.0,9,     -999.0,9,     -999.0,9,    17.3808,2,     -999.0,9