BOTTLE,20230922CCHSIOCBG
EXPOCODE,SECT_ID,STNNBR,CASTNO,SAMPNO,BTLNBR,BTLNBR_FLAG_W,DATE,TIME,LATITUDE,LONGITUDE,DEPTH,CTDPRS,CTDTMP,CTDSAL,CTDSAL_FLAG_W,SALNTY,SALNTY_FLAG_W,CTDOXY,CTDOXY_FLAG_W,OXYGEN,OXYGEN_FLAG_W,SILCAT,SILCAT_FLAG_W,NITRAT,NITRAT_FLAG_W,NITRIT,NITRIT_FLAG_W,PHSPHT,PHSPHT_FLAG_W,CFC-11,CFC-11_FLAG_W,CFC-12,CFC-12_FLAG_W,SF6,SF6_FLAG_W,TCARBN,TCARBN_FLAG_W,ALKALI,ALKALI_FLAG_W,PH_TOT,PH_TOT_FLAG_W,DELC13,DELC13_FLAG_W,DELC14,DELC14_FLAG_W,C14ERR,DOC,DOC_FLAG_W,TDN,TDN_FLAG_W,TON,TON_FLAG_W,D15N_NO3,D15N_NO3_FLAG_W,BTL_DATE,BTL_TIME,BTL_LAT,BTL_LON,CTDRINKO,CTDRINKO_FLAG_W,CTDFLUOR,CTDFLUOR_FLAG_W,CTDXMISS,CTDXMISS_FLAG_W,CTDBACKSCATTER,CTDBACKSCATTER_FLAG_W,PH_TMP,D18O_NO3,D18O_NO3_FLAG_W,DOP,DOP_FLAG_W,HPLC,HPLC_FLAG_W,POC,POC_FLAG_W,REFTMP,REFTMP_FLAG_W,TDP,TDP_FLAG_W
,,,,,,,,,,,METERS,DBAR,ITS-90,PSS-78,,PSS-78,,UMOL/KG,,UMOL/KG,,UMOL/KG,,UMOL/KG,,UMOL/KG,,UMOL/KG,,PMOL/KG,,PMOL/KG,,FMOL/KG,,UMOL/KG,,UMOL/KG,,,,/MILLE,,/MILLE,,/MILLE,UMOL/KG,,UMOL/KG,,UMOL/KG,,/MILLE,,,,,,VOLTS,,VOLTS,,VOLTS,,VOLTS,,DEGC,/MILLE,,UMOL/KG,,,,UG/L,,ITS-90,,UMOL/KG,
320620170703,        P06,      71,          1,          1,         37,2,20170718,       1548,   -30.0798,   174.0005,       3357,  3398.2,   1.8260,  34.6819,2,  34.6816,2, 154.5339,2, 154.7480,2,   125.7,2,   35.15,2,    0.00,2,    2.47,2,  -0.028,4,   0.016,2,-999.0000,5,  2313.9,6, -999.00,5,   7.5840,2, -999.00,9, -999.00,9, -999.00,  -999.0,9, -999.00,9,     -999.0,9,  -999.0,1, 20170718,     1410, -30.0801, 174.0001,        0.0,1,      0.062,1,      1.322,1,      0.145,1,      25.02,     -999.0,1,     -999.0,9,     -999.0,9,     -999.0,9,     1.8263,2,     -999.0,9
320620170703,        P06,      71,          1,          2,          2,2,20170718,       1548,   -30.0798,   174.0005,       3357,  3317.7,   1.8233,  34.6818,2,  34.6824,2, 154.5339,2, 154.6265,2,   125.7,2,   35.20,2,    0.00,2,    2.47,2,  -0.030,4,   0.014,2,-999.0000,5,  2313.5,2, 2413.00,2,   7.5829,2, -999.00,9, -999.00,9, -999.00,  -999.0,9, -999.00,9,     -999.0,9,  -999.0,1, 20170718,     1412, -30.0802, 174.0000,        0.0,1,      0.062,1,      0.444,1,      0.139,1,      25.02,     -999.0,1,     -999.0,9,     -999.0,9,     -999.0,9,     1.8242,2,     -999.0,9
320620170703,        P06,      71,          1,          3,         38,2,20170718,       1548,   -30.0798,   174.0005,       3357,  3246.2,   1.8218,  34.6814,2,  34.6814,2, 154.5339,2, 154.3354,2,   125.6,2,   35.17,2,    0.00,2,    2.47,2,  -0.021,4,   0.026,2,-999.0000,5,  2311.9,2, 2403.80,2,   7.5827,2, -999.00,9, -999.00,9, -999.00,  -999.0,9, -999.00,9,     -999.0,9,  -999.0,1, 20170718,     1415, -30.0802, 174.0000,        0.0,1,      0.062,1,      1.800,1,      0.138,1,      25.02,     -999.0,1,     -999.0,9,     -999.0,9,     -999.0,9,     1.8218,2,     -999.0,9
320620170703,        P06,      71,          1,          4,          4,2,20170718,       1548,   -30.0798,   174.0005,       3357,  3041.7,   1.8226,  34.6799,2,  34.6800,2, 154.3741,2, 154.0269,2,   124.9,2,   35.11,2,    0.00,2,    2.47,2,  -0.019,4,   0.022,2,-999.0000,5,  2310.8,2, 2403.10,2,   7.5816,2, -999.00,9, -999.00,9, -999.00,  -999.0,9, -999.00,9,     -999.0,9,  -999.0,1, 20170718,     1419, -30.0801, 174.0002,        0.0,1,      0.062,1,      0.167,1,      0.139,1,      25.04,     -999.0,1,     -999.0,9,     -999.0,9,     -999.0,9,     1.8234,2,     -999.0,9
320620170703,        P06,      71,          1,          5,         39,2,20170718,       1548,   -30.0798,   174.0005,       3357,  2837.6,   1.8322,  34.6775,2,  34.6779,2, 154.1010,2, 154.5924,2,   124.0,2,   35.12,2,    0.00,2,    2.48,2,  -0.023,4,   0.020,2,-999.0000,5,  2311.6,2, 2406.10,2,   7.5812,2, -999.00,9, -999.00,9, -999.00,  -999.0,9, -999.00,9,     -999.0,9,  -999.0,1, 20170718,     1424, -30.0799, 174.0005,        0.0,1,      0.062,1,      0.026,1,      0.143,1,      25.02,     -999.0,1,     -999.0,9,     -999.0,9,     -999.0,9,     1.8360,2,     -999.0,9
320620170703,        P06,      71,          1,          6,          6,2,20170718,       1548,   -30.0798,   174.0005,       3357,  2633.1,   1.8796,  34.6725,2,  34.6714,2, 153.9904,2, 153.8900,2,   122.3,2,   35.14,2,    0.00,2,    2.47,2,  -0.013,4,   0.023,2,-999.0000,5,  2308.3,2, 2396.00,2,   7.5791,2, -999.00,9, -999.00,9, -999.00,  -999.0,9, -999.00,9,     -999.0,9,  -999.0,1, 20170718,     1428, -30.0799, 174.0005,        0.0,1,      0.062,1,      3.680,1,      0.138,1,      25.01,     -999.0,1,     -999.0,9,     -999.0,9,     -999.0,9,     1.8957,2,     -999.0,9
320620170703,        P06,      71,          1,          7,         40,2,20170718,       1548,   -30.0798,   174.0005,       3357,  2430.8,   1.9687,  34.6645,2,  34.6629,2, 153.6841,2, 153.4520,2,   119.8,2,   35.11,2,    0.00,2,    2.47,2,  -0.019,4,   0.031,2,-999.0000,5,  2306.2,2, 2392.70,2,   7.5771,2, -999.00,9, -999.00,9, -999.00,  -999.0,9, -999.00,9,     -999.0,9,  -999.0,1, 20170718,     1433, -30.0797, 174.0006,        0.0,1,      0.061,1,      0.006,1,      0.139,1,      25.01,     -999.0,1,     -999.0,9,     -999.0,9,     -999.0,9,     1.9806,2,     -999.0,9
320620170703,        P06,      71,          1,          8,          8,2,20170718,       1548,   -30.0798,   174.0005,       3357,  2227.3,   2.1461,  34.6486,2,  34.6464,2, 153.0667,2, 153.0393,2,   114.4,2,   34.99,2,    0.00,2,    2.46,2,  -0.018,4,   0.025,2,-999.0000,5,  2301.9,2, 2385.10,6,   7.5754,2, -999.00,9, -999.00,9, -999.00,  -999.0,9, -999.00,9,     -999.0,9,  -999.0,1, 20170718,     1437, -30.0797, 174.0006,        0.0,1,      0.061,1,      0.023,1,      0.137,1,      25.02,     -999.0,1,     -999.0,9,     -999.0,9,     -999.0,9,     2.1713,2,     -999.0,9
320620170703,        P06,      71,          1,          9,         41,2,20170718,       1548,   -30.0798,   174.0005,       3357,  2023.8,   2.2830,  34.6359,2,  34.6346,2, 152.9810,2, 152.8874,2,   110.7,2,   34.92,2,    0.00,2,    2.44,2,  -0.007,4,   0.029,2,-999.0000,5,  2298.0,2, 2384.20,2,   7.5759,2, -999.00,9, -999.00,9, -999.00,  -999.0,9, -999.00,9,     -999.0,9,  -999.0,1, 20170718,     1442, -30.0799, 174.0005,        0.0,1,      0.061,1,      3.226,1,      0.144,1,      25.02,     -999.0,1,     -999.0,9,     -999.0,9,     -999.0,9,     2.2997,2,     -999.0,9
320620170703,        P06,      71,          1,         10,         10,2,20170718,       1548,   -30.0798,   174.0005,       3357,  1819.7,   2.4742,  34.6190,2,  34.6158,2, 154.8062,2, 154.6319,2,   104.3,2,   34.63,2,    0.00,2,    2.42,2,   0.012,4,   0.043,2,-999.0000,5,  2290.4,2, 2376.80,2,   7.5781,2, -999.00,9, -999.00,9, -999.00,  -999.0,9, -999.00,9,     -999.0,9,  -999.0,1, 20170718,     1447, -30.0800, 174.0004,        0.0,1,      0.061,1,      0.009,1,      0.139,1,      25.02,     -999.0,1,     -999.0,9,     -999.0,9,     -999.0,9,     2.5117,2,     -999.0,9
320620170703,        P06,      71,          1,         11,         42,2,20170718,       1548,   -30.0798,   174.0005,       3357,  1719.1,   2.6873,  34.6008,2,  34.5971,2, 157.1038,2, 157.1361,2,    97.6,2,   34.28,2,    0.00,2,    2.41,2,   0.037,4,   0.058,2,-999.0000,5,  2281.9,6, 2367.80,2,   7.5809,2, -999.00,9, -999.00,9, -999.00,  -999.0,9, -999.00,9,     -999.0,9,  -999.0,1, 20170718,     1449, -30.0800, 174.0004,        0.0,1,      0.061,1,      0.018,1,      0.139,1,      25.02,     -999.0,1,     -999.0,9,     -999.0,9,     -999.0,9,     2.7222,2,     -999.0,9
320620170703,        P06,      71,          1,         12,         12,2,20170718,       1548,   -30.0798,   174.0005,       3357,  1618.2,   2.9283,  34.5815,2,  34.5808,2, 159.7643,2, 159.9409,2,    91.8,2,   33.89,2,    0.00,2,    2.38,2,   0.082,4,   0.088,2,-999.0000,5,  2274.2,2, 2361.70,2,   7.5838,2, -999.00,9, -999.00,9, -999.00,  -999.0,9, -999.00,9,     -999.0,9,  -999.0,1, 20170718,     1452, -30.0801, 174.0004,        0.0,1,      0.061,1,      3.367,1,      0.139,1,      25.02,     -999.0,1,     -999.0,9,     -999.0,9,     -999.0,9,     2.9304,2,     -999.0,9
320620170703,        P06,      71,          1,         13,         43,2,20170718,       1548,   -30.0798,   174.0005,       3357,  1515.8,   3.1920,  34.5586,2,  34.5616,2, 162.2443,2, 162.5003,2,    85.1,2,   33.56,2,    0.00,2,    2.35,2,   0.142,4,   0.122,2,-999.0000,5,  2266.5,2, 2356.10,2,   7.5868,2, -999.00,9, -999.00,9, -999.00,  -999.0,9, -999.00,9,     -999.0,9,  -999.0,1, 20170718,     1455, -30.0801, 174.0003,        0.0,1,      0.062,1,      2.413,1,      0.142,1,      25.01,     -999.0,1,     -999.0,9,     -999.0,9,     -999.0,9,     3.1499,2,     -999.0,9
320620170703,        P06,      71,          1,         14,         14,2,20170718,       1548,   -30.0798,   174.0005,       3357,  1414.4,   3.5377,  34.5436,2,  34.5419,2, 165.7267,2, 166.2848,2,    76.4,2,   32.93,2,    0.00,2,    2.29,2,   0.216,4,   0.181,2,-999.0000,5,  2256.8,2, 2343.50,2,   7.5942,2, -999.00,9, -999.00,9, -999.00,  -999.0,9, -999.00,9,     -999.0,9,  -999.0,1, 20170718,     1458, -30.0802, 174.0002,        0.0,1,      0.060,1,      0.006,1,      0.144,1,      25.03,     -999.0,1,     -999.0,9,     -999.0,9,     -999.0,9,     3.5239,2,     -999.0,9
320620170703,        P06,      71,          1,         15,         15,2,20170718,       1548,   -30.0798,   174.0005,       3357,  1312.6,   3.8973,  34.5180,2,  34.5154,2, 171.1179,2, 171.0065,2,    65.5,2,   31.99,2,    0.00,2,    2.23,2,   0.377,2,   0.239,2,-999.0000,5,  2240.9,2, 2333.30,2,   7.6032,2, -999.00,9, -999.00,9, -999.00,  -999.0,9, -999.00,9,     -999.0,9,  -999.0,1, 20170718,     1501, -30.0802, 174.0002,        0.0,1,      0.061,1,      0.007,1,      0.144,1,      25.03,     -999.0,1,     -999.0,9,     -999.0,9,     -999.0,9,     3.9941,2,     -999.0,9
320620170703,        P06,      71,          1,         16,         16,2,20170718,       1548,   -30.0798,   174.0005,       3357,  1211.9,   4.3977,  34.4999,2,  34.4976,2, 176.7701,2, 176.5675,2,    57.0,2,   31.07,2,    0.00,2,    2.15,2,   0.568,2,   0.322,2,-999.0000,5,  2228.3,2, 2322.50,2,   7.6134,2, -999.00,9, -999.00,9, -999.00,  -999.0,9, -999.00,9,     -999.0,9,  -999.0,1, 20170718,     1503, -30.0802, 174.0002,        0.0,1,      0.060,1,      0.028,1,      0.143,1,      25.04,     -999.0,1,     -999.0,9,     -999.0,9,     -999.0,9,     4.4140,2,     -999.0,9
320620170703,        P06,      71,          1,         17,         17,2,20170718,       1548,   -30.0798,   174.0005,       3357,  1110.1,   4.7508,  34.4845,2,  34.4815,2, 181.7784,2, 181.2515,2,    48.7,2,   30.18,2,    0.00,2,    2.07,2,   0.685,2,   0.401,2,-999.0000,5,  2217.5,2, 2318.60,2,   7.6235,2, -999.00,9, -999.00,9, -999.00,  -999.0,9, -999.00,9,     -999.0,9,  -999.0,1, 20170718,     1506, -30.0801, 174.0003,        0.0,1,      0.060,1,      1.895,1,      0.144,1,      25.04,     -999.0,1,     -999.0,9,     -999.0,9,     -999.0,9,     4.7981,2,     -999.0,9
320620170703,        P06,      71,          1,         18,         18,2,20170718,       1548,   -30.0798,   174.0005,       3357,  1009.6,   5.3918,  34.4771,2,  34.4754,2, 187.7843,2, 187.8029,2,    38.4,2,   28.74,2,    0.00,2,    1.98,2,   0.914,2,   0.543,2,-999.0000,5,  2203.3,2, 2306.70,2,   7.6394,2, -999.00,9, -999.00,9, -999.00,  -999.0,9, -999.00,9,     -999.0,9,  -999.0,1, 20170718,     1509, -30.0800, 174.0004,        0.0,1,      0.060,1,      1.360,1,      0.142,1,      25.03,     -999.0,1,     -999.0,9,     -999.0,9,     -999.0,9,     5.4442,2,     -999.0,9
320620170703,        P06,      71,          1,         19,         19,2,20170718,       1548,   -30.0798,   174.0005,       3357,   908.1,   6.0569,  34.4817,2,  34.4826,2, 193.4513,2, 193.4247,2,    29.0,2,   27.13,2,    0.00,2,    1.85,2,   1.295,2,   0.699,2,-999.0000,5,  2188.7,2, 2304.70,2,   7.6565,2, -999.00,9, -999.00,9, -999.00,  -999.0,9, -999.00,9,     -999.0,9,  -999.0,1, 20170718,     1512, -30.0799, 174.0005,        0.0,1,      0.061,1,      0.018,1,      0.141,1,      25.03,     -999.0,1,     -999.0,9,     -999.0,9,     -999.0,9,     6.1218,2,     -999.0,9
320620170703,        P06,      71,          1,         20,         20,2,20170718,       1548,   -30.0798,   174.0005,       3357,   807.1,   6.7975,  34.5019,2,  34.5017,2, 197.2238,2, 196.7867,2,    22.9,2,   25.66,2,    0.00,2,    1.75,2,   1.549,2,   0.844,2,-999.0000,5,  2178.6,2, 2293.40,2,   7.6716,2, -999.00,9, -999.00,9, -999.00,  -999.0,9, -999.00,9,     -999.0,9,  -999.0,1, 20170718,     1515, -30.0798, 174.0006,        0.0,1,      0.059,1,      0.006,1,      0.144,1,      25.03,     -999.0,1,     -999.0,9,     -999.0,9,     -999.0,9,     6.7167,2,     -999.0,9
320620170703,        P06,      71,          1,         21,         21,2,20170718,       1548,   -30.0798,   174.0005,       3357,   705.3,   7.4367,  34.5308,2,  34.5154,2, 201.7779,2, 202.4173,2,    16.8,2,   24.13,2,    0.00,2,    1.65,2,   1.840,2,   1.018,2,-999.0000,5,  2168.2,6, 2288.10,6,   7.6861,2, -999.00,9, -999.00,9, -999.00,  -999.0,9, -999.00,9,     -999.0,9,  -999.0,1, 20170718,     1518, -30.0799, 174.0005,        0.0,1,      0.059,1,      3.137,1,      0.143,1,      25.03,     -999.0,1,     -999.0,9,     -999.0,9,     -999.0,9,     7.2671,2,     -999.0,9
320620170703,        P06,      71,          1,         22,         22,2,20170718,       1548,   -30.0798,   174.0005,       3357,   605.4,   8.5053,  34.6254,2,  34.6193,2, 200.4444,2, 200.2040,2,    12.2,2,   21.93,2,    0.00,2,    1.48,2,   2.107,2,   1.192,2,-999.0000,5,  2161.7,2, 2290.20,2,   7.7059,2, -999.00,9, -999.00,9, -999.00,  -999.0,9, -999.00,9,     -999.0,9,  -999.0,1, 20170718,     1520, -30.0799, 174.0005,        0.0,1,      0.060,1,      4.043,1,      0.144,1,      25.03,     -999.0,1,     -999.0,9,     -999.0,9,     -999.0,9,     8.4195,2,     -999.0,9
320620170703,        P06,      71,          1,         23,         23,2,20170718,       1548,   -30.0798,   174.0005,       3357,   503.6,   9.6268,  34.7270,2,  34.7201,2, 199.9700,2, 200.4480,2,     8.6,2,   19.38,2,    0.00,2,    1.31,2,   2.386,2,   1.346,2,-999.0000,5,  2152.2,2, 2290.30,2,   7.7296,2, -999.00,9, -999.00,9, -999.00,  -999.0,9, -999.00,9,     -999.0,9,  -999.0,1, 20170718,     1523, -30.0799, 174.0005,        0.0,1,      0.060,1,      0.010,1,      0.145,1,      25.04,     -999.0,1,     -999.0,9,     -999.0,9,     -999.0,9,     9.4871,2,     -999.0,9
320620170703,        P06,      71,          1,         24,         24,2,20170718,       1548,   -30.0798,   174.0005,       3357,   452.7,  10.6386,  34.8583,2,  34.8045,2, 198.2707,2, 198.8184,2,     7.3,2,   17.83,2,    0.00,2,    1.19,2,   2.321,2,   1.350,2,-999.0000,5,  2146.2,2, 2293.50,2,   7.7468,2, -999.00,9, -999.00,9, -999.00,  -999.0,9, -999.00,9,     -999.0,9,  -999.0,1, 20170718,     1525, -30.0799, 174.0005,        0.0,1,      0.060,1,      0.006,1,      0.145,1,      25.04,     -999.0,1,     -999.0,9,     -999.0,9,     -999.0,9,    10.2893,2,     -999.0,9
320620170703,        P06,      71,          1,         25,         25,2,20170718,       1548,   -30.0798,   174.0005,       3357,   402.0,  11.7539,  35.0002,2,  34.9065,2, 198.5363,2, 198.2984,2,     6.0,2,   15.81,2,    0.00,2,    1.08,2,   2.405,2,   1.417,2,-999.0000,5,  2139.3,2, 2297.10,2,   7.7689,2, -999.00,9, -999.00,9, -999.00,  -999.0,9, -999.00,9,     -999.0,9,  -999.0,1, 20170718,     1527, -30.0799, 174.0005,        0.0,1,      0.059,1,      0.021,1,      0.145,1,      25.04,     -999.0,1,     -999.0,9,     -999.0,9,     -999.0,9,    11.0996,2,     -999.0,9
320620170703,        P06,      71,          1,         26,         26,2,20170718,       1548,   -30.0798,   174.0005,       3357,   352.4,  12.4649,  35.0710,2,  35.0329,2, 198.7123,2, 198.8407,2,     5.0,2,   13.83,2,    0.00,2,    0.93,2,   2.316,2,   1.439,2,-999.0000,5,  2133.5,2, 2305.30,2,   7.7929,2, -999.00,9, -999.00,9, -999.00,  -999.0,9, -999.00,9,     -999.0,9,  -999.0,1, 20170718,     1529, -30.0798, 174.0005,        0.0,1,      0.060,1,      0.566,1,      0.144,1,      25.03,     -999.0,1,     -999.0,1,     -999.0,9,     -999.0,9,    12.0272,2,     -999.0,9
320620170703,        P06,      71,          1,         27,         27,2,20170718,       1548,   -30.0798,   174.0005,       3357,   302.1,  13.3933,  35.1902,2,  35.1410,2, 201.7805,2, 201.3872,2,     3.6,2,   11.61,2,    0.00,2,    0.79,2,   2.363,2,   1.458,2,-999.0000,5,  2125.3,2, 2307.20,2,   7.8197,2, -999.00,9, -999.00,9, -999.00,  -999.0,9, -999.00,9,     -999.0,9,  -999.0,1, 20170718,     1531, -30.0798, 174.0005,        0.0,1,      0.059,1,      0.006,1,      0.146,1,      25.04,     -999.0,1,     -999.0,1,     -999.0,9,     -999.0,9,    12.9680,2,     -999.0,9
320620170703,        P06,      71,          1,         28,         28,2,20170718,       1548,   -30.0798,   174.0005,       3357,   251.9,  14.3395,  35.2845,2,  35.2337,2, 201.7152,2, 201.5861,2,     2.3,2,    9.62,2,    0.00,2,    0.66,2,   2.360,2,   1.484,2,-999.0000,5,  2118.7,2, 2312.00,2,   7.8434,2, -999.00,9, -999.00,9, -999.00,  -999.0,9, -999.00,9,     -999.0,9,  -999.0,1, 20170718,     1533, -30.0799, 174.0005,        0.0,1,      0.060,1,      0.006,1,      0.150,1,      25.04,     -999.0,1,     -999.0,1,     -999.0,9,     -999.0,9,    13.9470,2,     -999.0,9
320620170703,        P06,      71,          1,         29,         29,2,20170718,       1548,   -30.0798,   174.0005,       3357,   201.5,  15.5069,  35.4153,2,  35.4016,2, 203.3703,2, 202.3541,2,     1.6,2,    7.35,2,    0.02,2,    0.52,2,   2.289,2,   1.431,2,-999.0000,5,  2106.4,2, 2317.20,2,   7.8798,2, -999.00,9, -999.00,9, -999.00,  -999.0,9, -999.00,9,     -999.0,9,  -999.0,1, 20170718,     1535, -30.0799, 174.0005,        0.0,1,      0.060,1,      0.006,1,      0.150,1,      25.03,     -999.0,1,     -999.0,1,     -999.0,9,     -999.0,9,    15.3691,2,     -999.0,9
320620170703,        P06,      71,          1,         30,         30,2,20170718,       1548,   -30.0798,   174.0005,       3357,   151.3,  16.5421,  35.5046,2,  35.5101,2, 203.8002,2, 204.1693,2,     1.0,2,    5.33,2,    0.03,2,    0.39,2,   2.127,2,   1.407,2,-999.0000,5,  2097.2,2, 2322.50,2,   7.9098,2, -999.00,9, -999.00,9, -999.00,  -999.0,9, -999.00,9,     -999.0,9,  -999.0,1, 20170718,     1537, -30.0799, 174.0005,        0.0,1,      0.073,1,      3.480,1,      0.160,1,      25.04,     -999.0,1,     -999.0,1,     -999.0,9,     -999.0,9,    16.5908,2,     -999.0,9
320620170703,        P06,      71,          1,         31,         31,2,20170718,       1548,   -30.0798,   174.0005,       3357,   126.0,  18.9125,  35.7914,2,  35.7687,2, 224.0390,2, 222.3034,2,     0.0,2,    0.86,2,    0.05,2,    0.10,2,   1.962,2,   1.298,2,-999.0000,5,  2064.4,2, 2343.70,2,   7.9930,2, -999.00,9, -999.00,9, -999.00,  -999.0,9, -999.00,9,     -999.0,9,  -999.0,1, 20170718,     1539, -30.0799, 174.0005,        0.0,1,      0.149,1,      4.640,1,      0.194,1,      25.04,     -999.0,1,     -999.0,1,     -999.0,9,     -999.0,9,    18.8216,2,     -999.0,9
320620170703,        P06,      71,          1,         32,         32,2,20170718,       1548,   -30.0798,   174.0005,       3357,   101.4,  18.9947,  35.8064,2,  35.8082,2, 225.6723,2, 225.5489,2,     0.0,2,    0.24,2,    0.04,2,    0.06,2,   1.901,2,   1.275,2,-999.0000,5,  2061.0,2, 2340.10,2,   8.0043,2, -999.00,9, -999.00,9, -999.00,  -999.0,9, -999.00,9,     -999.0,9,  -999.0,1, 20170718,     1541, -30.0798, 174.0005,        0.0,1,      0.167,1,      4.634,1,      0.205,1,      25.04,     -999.0,1,     -999.0,1,     -999.0,9,     -999.0,9,    19.0005,2,     -999.0,9