BOTTLE,20230922CCHSIOCBG
EXPOCODE,SECT_ID,STNNBR,CASTNO,SAMPNO,BTLNBR,BTLNBR_FLAG_W,DATE,TIME,LATITUDE,LONGITUDE,DEPTH,CTDPRS,CTDTMP,CTDSAL,CTDSAL_FLAG_W,SALNTY,SALNTY_FLAG_W,CTDOXY,CTDOXY_FLAG_W,OXYGEN,OXYGEN_FLAG_W,SILCAT,SILCAT_FLAG_W,NITRAT,NITRAT_FLAG_W,NITRIT,NITRIT_FLAG_W,PHSPHT,PHSPHT_FLAG_W,CFC-11,CFC-11_FLAG_W,CFC-12,CFC-12_FLAG_W,SF6,SF6_FLAG_W,TCARBN,TCARBN_FLAG_W,ALKALI,ALKALI_FLAG_W,PH_TOT,PH_TOT_FLAG_W,DELC13,DELC13_FLAG_W,DELC14,DELC14_FLAG_W,C14ERR,DOC,DOC_FLAG_W,TDN,TDN_FLAG_W,TON,TON_FLAG_W,D15N_NO3,D15N_NO3_FLAG_W,BTL_DATE,BTL_TIME,BTL_LAT,BTL_LON,CTDRINKO,CTDRINKO_FLAG_W,CTDFLUOR,CTDFLUOR_FLAG_W,CTDXMISS,CTDXMISS_FLAG_W,CTDBACKSCATTER,CTDBACKSCATTER_FLAG_W,PH_TMP,D18O_NO3,D18O_NO3_FLAG_W,DOP,DOP_FLAG_W,HPLC,HPLC_FLAG_W,POC,POC_FLAG_W,REFTMP,REFTMP_FLAG_W,TDP,TDP_FLAG_W
,,,,,,,,,,,METERS,DBAR,ITS-90,PSS-78,,PSS-78,,UMOL/KG,,UMOL/KG,,UMOL/KG,,UMOL/KG,,UMOL/KG,,UMOL/KG,,PMOL/KG,,PMOL/KG,,FMOL/KG,,UMOL/KG,,UMOL/KG,,,,/MILLE,,/MILLE,,/MILLE,UMOL/KG,,UMOL/KG,,UMOL/KG,,/MILLE,,,,,,VOLTS,,VOLTS,,VOLTS,,VOLTS,,DEGC,/MILLE,,UMOL/KG,,,,UG/L,,ITS-90,,UMOL/KG,
320620170703,        P06,      40,          1,          1,         37,2,20170712,       1606,   -30.0799,   164.8300,       3376,  3417.3,   1.9259,  34.6858,2,  34.6859,2, 159.8660,2, 160.3625,2,   117.9,2,   34.54,2,    0.00,2,    2.42,2,   0.025,2,   0.029,2,   0.0000,2,  2307.6,6, 2390.51,2,   7.5869,2, -999.00,9, -999.00,9, -999.00,    36.1,2, -999.00,9,     -999.0,1,  -999.0,9, 20170712,     1425, -30.0799, 164.8299,        0.0,1,      0.061,1,      4.686,1,      0.154,1,      24.97,     -999.0,9,     -999.0,9,     -999.0,9,     -999.0,9,     1.9266,2,     -999.0,9
320620170703,        P06,      40,          1,          2,          2,2,20170712,       1606,   -30.0799,   164.8300,       3376,  3303.2,   1.9187,  34.6856,2,  34.6851,2, 159.8660,2, 159.5019,2,   117.8,2,   34.49,2,    0.00,2,    2.42,2,   0.026,2,   0.030,2,   0.0000,2,  -999.0,9, -999.00,9,-999.0000,9, -999.00,9, -999.00,9, -999.00,  -999.0,9, -999.00,9,     -999.0,9,  -999.0,9, 20170712,     1428, -30.0799, 164.8299,        0.0,1,      0.061,1,      4.692,1,      0.142,1,     -999.0,     -999.0,9,     -999.0,9,     -999.0,9,     -999.0,9,     1.9199,2,     -999.0,9
320620170703,        P06,      40,          1,          3,         38,2,20170712,       1606,   -30.0799,   164.8300,       3376,  3178.3,   1.9284,  34.6843,2,  34.6834,2, 159.6455,2, 159.6713,2,   117.6,2,   34.56,2,    0.00,2,    2.42,2,   0.071,4,   0.101,4,   0.5680,4,  -999.0,9, -999.00,9,-999.0000,9, -999.00,9, -999.00,9, -999.00,    35.9,2, -999.00,9,     -999.0,1,  -999.0,9, 20170712,     1432, -30.0799, 164.8299,        0.0,1,      0.063,1,      4.694,1,      0.138,1,     -999.0,     -999.0,9,     -999.0,9,     -999.0,9,     -999.0,9,     1.9281,2,     -999.0,9
320620170703,        P06,      40,          1,          4,          4,2,20170712,       1606,   -30.0799,   164.8300,       3376,  2976.3,   1.9479,  34.6817,2,  34.6802,2, 159.1321,2, 158.9805,2,   116.9,2,   34.67,2,    0.00,2,    2.41,2,   0.027,2,   0.032,2,   0.0000,2,  -999.0,9, -999.00,9,-999.0000,9, -999.00,9, -999.00,9, -999.00,  -999.0,9, -999.00,9,     -999.0,9,  -999.0,9, 20170712,     1436, -30.0799, 164.8303,        0.0,1,      0.061,1,      4.695,1,      0.135,1,     -999.0,     -999.0,9,     -999.0,9,     -999.0,9,     -999.0,9,     1.9471,2,     -999.0,9
320620170703,        P06,      40,          1,          5,         39,2,20170712,       1606,   -30.0799,   164.8300,       3376,  2772.1,   1.9788,  34.6782,2,  34.6769,2, 157.3844,2, 157.3257,2,   116.0,2,   34.72,2,    0.00,2,    2.42,2,   0.026,2,   0.028,2,   0.0000,2,  2306.8,2, 2387.02,2,   7.5811,2, -999.00,9, -999.00,9, -999.00,    34.9,2, -999.00,9,     -999.0,1,  -999.0,9, 20170712,     1441, -30.0799, 164.8303,        0.0,1,      0.061,1,      4.696,1,      0.136,1,      25.00,     -999.0,9,     -999.0,9,     -999.0,9,     -999.0,9,     1.9791,2,     -999.0,9
320620170703,        P06,      40,          1,          6,          6,2,20170712,       1606,   -30.0799,   164.8300,       3376,  2566.8,   2.0276,  34.6731,2,  34.6718,2, 155.4701,2, 155.3042,2,   115.1,2,   34.75,2,    0.00,2,    2.43,2,   0.027,2,   0.029,2,   0.0000,2,  -999.0,9, -999.00,9,-999.0000,9, -999.00,9, -999.00,9, -999.00,    35.7,2, -999.00,9,     -999.0,1,  -999.0,9, 20170712,     1445, -30.0799, 164.8302,        0.0,1,      0.063,1,      4.696,1,      0.138,1,     -999.0,     -999.0,9,     -999.0,9,     -999.0,9,     -999.0,9,     2.0268,2,     -999.0,9
320620170703,        P06,      40,          1,          7,         40,2,20170712,       1606,   -30.0799,   164.8300,       3376,  2363.0,   2.1081,  34.6654,2,  34.6633,2, 154.4267,2, 154.6147,2,   112.7,2,   34.83,2,    0.00,2,    2.43,2,   0.028,2,   0.031,2,   0.0000,2,  -999.0,9, -999.00,9,-999.0000,9, -999.00,9, -999.00,9, -999.00,  -999.0,9, -999.00,9,     -999.0,9,  -999.0,9, 20170712,     1450, -30.0799, 164.8305,        0.0,1,      0.062,1,      4.689,1,      0.138,1,     -999.0,     -999.0,9,     -999.0,9,     -999.0,9,     -999.0,9,     2.1147,2,     -999.0,9
320620170703,        P06,      40,          1,          8,          8,2,20170712,       1606,   -30.0799,   164.8300,       3376,  2159.3,   2.2429,  34.6530,2,  34.6515,2, 153.4427,2, 153.6027,2,   109.9,2,   34.78,2,    0.00,2,    2.42,2,   0.031,2,   0.031,2,   0.0000,2,  -999.0,9, -999.00,9,-999.0000,9, -999.00,9, -999.00,9, -999.00,  -999.0,9, -999.00,9,     -999.0,9,  -999.0,9, 20170712,     1454, -30.0799, 164.8304,        0.0,1,      0.061,1,      4.705,1,      0.139,1,     -999.0,     -999.0,9,     -999.0,9,     -999.0,9,     -999.0,9,     2.2385,2,     -999.0,9
320620170703,        P06,      40,          1,          9,         41,2,20170712,       1606,   -30.0799,   164.8300,       3376,  1957.2,   2.4727,  34.6329,2,  34.6311,2, 152.7861,2, 152.5384,2,   104.9,2,   34.62,2,    0.00,2,    2.43,2,   0.033,2,   0.030,2,   0.0000,2,  2293.0,2, 2376.83,6,   7.5743,2, -999.00,9, -999.00,9, -999.00,    35.6,2, -999.00,9,     -999.0,1,  -999.0,9, 20170712,     1459, -30.0799, 164.8301,        0.0,1,      0.061,1,      4.706,1,      0.143,1,      24.98,     -999.0,9,     -999.0,9,     -999.0,9,     -999.0,9,     2.4712,2,     -999.0,9
320620170703,        P06,      40,          1,         10,         10,2,20170712,       1606,   -30.0799,   164.8300,       3376,  1785.3,   2.7562,  34.6088,2,  34.6067,2, 153.4099,2, 153.2479,2,    98.6,2,   34.39,2,    0.00,2,    2.41,2,   0.052,2,   0.045,2,   0.0000,2,  -999.0,9, -999.00,9,-999.0000,9, -999.00,9, -999.00,9, -999.00,  -999.0,9, -999.00,9,     -999.0,9,  -999.0,9, 20170712,     1503, -30.0799, 164.8302,        0.0,1,      0.061,1,      4.705,1,      0.141,1,     -999.0,     -999.0,9,     -999.0,9,     -999.0,9,     -999.0,9,     2.7571,2,     -999.0,9
320620170703,        P06,      40,          1,         11,         42,2,20170712,       1606,   -30.0799,   164.8300,       3376,  1684.0,   2.9519,  34.5936,2,  34.5908,2, 154.5509,2, 154.9872,2,    93.5,2,   34.18,2,    0.00,2,    2.40,2,   0.076,2,   0.059,2,   0.0000,2,  2281.5,2, 2363.74,2,   7.5774,2, -999.00,9, -999.00,9, -999.00,    36.3,2, -999.00,9,     -999.0,1,  -999.0,9, 20170712,     1506, -30.0799, 164.8302,        0.0,1,      0.061,1,      4.705,1,      0.143,1,      24.97,     -999.0,9,     -999.0,9,     -999.0,9,     -999.0,9,     2.9522,2,     -999.0,9
320620170703,        P06,      40,          1,         12,         12,2,20170712,       1606,   -30.0799,   164.8300,       3376,  1580.7,   3.2356,  34.5719,2,  34.5722,2, 157.4353,2, 158.9424,2,    87.2,2,   33.75,2,    0.00,2,    2.37,2,   0.118,2,   0.086,2,   0.0000,2,  -999.0,9, -999.00,9,-999.0000,9, -999.00,9, -999.00,9, -999.00,  -999.0,9, -999.00,9,     -999.0,9,  -999.0,9, 20170712,     1509, -30.0799, 164.8301,        0.0,1,      0.061,1,      4.704,1,      0.147,1,     -999.0,     -999.0,9,     -999.0,9,     -999.0,9,     -999.0,9,     3.1957,2,     -999.0,9
320620170703,        P06,      40,          1,         13,         43,2,20170712,       1606,   -30.0799,   164.8300,       3376,  1480.8,   3.5687,  34.5448,2,  34.5449,2, 161.5296,2, 161.2258,2,    78.4,2,   33.21,2,    0.00,2,    2.32,2,   0.192,2,   0.130,2,   0.0000,2,  -999.0,9, -999.00,9,-999.0000,9, -999.00,9, -999.00,9, -999.00,    36.8,2, -999.00,9,     -999.0,1,  -999.0,9, 20170712,     1512, -30.0799, 164.8300,        0.0,1,      0.061,1,      4.704,1,      0.146,1,     -999.0,     -999.0,9,     -999.0,9,     -999.0,9,     -999.0,9,     3.5324,2,     -999.0,9
320620170703,        P06,      40,          1,         14,         14,2,20170712,       1606,   -30.0799,   164.8300,       3376,  1378.9,   3.8811,  34.5197,2,  34.5203,2, 166.0477,2, 166.0352,2,    70.2,2,   32.59,2,    0.00,2,    2.28,2,   0.273,2,   0.171,2,   0.0000,2,  -999.0,9, -999.00,9,-999.0000,9, -999.00,9, -999.00,9, -999.00,  -999.0,9, -999.00,9,     -999.0,9,  -999.0,9, 20170712,     1515, -30.0799, 164.8300,        0.0,1,      0.061,1,      4.705,1,      0.143,1,     -999.0,     -999.0,9,     -999.0,9,     -999.0,9,     -999.0,9,     3.8415,2,     -999.0,9
320620170703,        P06,      40,          1,         15,         15,2,20170712,       1606,   -30.0799,   164.8300,       3376,  1277.4,   4.3649,  34.4934,2,  34.4960,2, 172.6099,2, 172.6373,2,    59.4,2,   31.56,2,    0.00,2,    2.18,2,   0.414,2,   0.257,2,   0.2120,2,  2235.5,2, 2324.40,2,   7.6056,2, -999.00,9, -999.00,9, -999.00,    37.7,2, -999.00,9,     -999.0,1,  -999.0,9, 20170712,     1518, -30.0799, 164.8301,        0.0,1,      0.060,1,      4.705,1,      0.142,1,      24.97,     -999.0,9,     -999.0,9,     -999.0,9,     -999.0,9,     4.2891,2,     -999.0,9
320620170703,        P06,      40,          1,         16,         16,2,20170712,       1606,   -30.0799,   164.8300,       3376,  1176.5,   4.7848,  34.4603,2,  34.4616,3, 181.5996,2, 182.1550,2,    46.5,2,   30.27,2,    0.00,2,    2.08,2,   0.624,2,   0.361,2,   0.2450,2,  -999.0,9, -999.00,9,-999.0000,9, -999.00,9, -999.00,9, -999.00,  -999.0,9, -999.00,9,     -999.0,9,  -999.0,9, 20170712,     1521, -30.0799, 164.8302,        0.0,1,      0.060,1,      4.705,1,      0.144,1,     -999.0,     -999.0,9,     -999.0,9,     -999.0,9,     -999.0,9,     4.8263,2,     -999.0,9
320620170703,        P06,      40,          1,         17,         17,2,20170712,       1606,   -30.0799,   164.8300,       3376,  1074.0,   5.5493,  34.4675,2,  34.4659,2, 186.8820,2, 187.2037,2,    36.7,2,   28.71,2,    0.00,2,    1.97,2,   0.881,2,   0.501,2,   0.2650,2,  -999.0,9, -999.00,9,-999.0000,9, -999.00,9, -999.00,9, -999.00,    38.7,2, -999.00,9,     -999.0,1,  -999.0,9, 20170712,     1523, -30.0799, 164.8302,        0.0,1,      0.060,1,      4.704,1,      0.141,1,     -999.0,     -999.0,9,     -999.0,9,     -999.0,9,     -999.0,9,     5.5291,2,     -999.0,9
320620170703,        P06,      40,          1,         18,         18,2,20170712,       1606,   -30.0799,   164.8300,       3376,   974.7,   6.1592,  34.4646,2,  34.4587,2, 193.4956,2, 192.7559,2,    27.5,2,   27.26,2,    0.00,2,    1.87,2,   1.124,2,   0.630,2,   0.2890,2,  -999.0,9, -999.00,9,-999.0000,9, -999.00,9, -999.00,9, -999.00,    42.4,2, -999.00,9,     -999.0,1,  -999.0,9, 20170712,     1526, -30.0799, 164.8303,        0.0,1,      0.060,1,      4.703,1,      0.141,1,     -999.0,     -999.0,9,     -999.0,9,     -999.0,9,     -999.0,9,     6.1240,2,     -999.0,9
320620170703,        P06,      40,          1,         19,         19,2,20170712,       1606,   -30.0799,   164.8300,       3376,   872.1,   6.9153,  34.4875,2,  34.4864,2, 200.7098,2, 200.7302,2,    19.7,2,   25.16,2,    0.00,2,    1.72,2,   1.598,2,   0.887,2,   0.4200,2,  2173.4,2, 2288.11,2,   7.6749,2, -999.00,9, -999.00,9, -999.00,    41.1,2, -999.00,9,     -999.0,1,  -999.0,9, 20170712,     1529, -30.0799, 164.8304,        0.0,1,      0.060,1,      4.703,1,      0.142,1,      24.97,     -999.0,9,     -999.0,9,     -999.0,9,     -999.0,9,     6.8697,2,     -999.0,9
320620170703,        P06,      40,          1,         20,         20,2,20170712,       1606,   -30.0799,   164.8300,       3376,   770.3,   7.8708,  34.5595,2,  34.5341,3, 203.1790,2, 203.8022,2,    13.9,2,   23.03,2,    0.00,2,    1.56,2,   1.957,2,   1.107,2,   0.4940,2,  -999.0,9, -999.00,9,-999.0000,9, -999.00,9, -999.00,9, -999.00,    40.2,2, -999.00,9,     -999.0,1,  -999.0,9, 20170712,     1532, -30.0799, 164.8305,        0.0,1,      0.060,1,      4.703,1,      0.141,1,     -999.0,     -999.0,9,     -999.0,9,     -999.0,9,     -999.0,9,     7.7063,2,     -999.0,9
320620170703,        P06,      40,          1,         21,         21,2,20170712,       1606,   -30.0799,   164.8300,       3376,   669.8,   8.9984,  34.6568,2,  34.6456,2, 202.3465,2, 201.3223,2,    10.2,2,   20.52,2,    0.00,2,    1.41,2,   2.259,2,   1.277,2,   0.5850,2,  2154.4,2, 2283.25,2,   7.7186,2, -999.00,9, -999.00,9, -999.00,    41.1,2, -999.00,9,     -999.0,1,  -999.0,9, 20170712,     1535, -30.0799, 164.8305,        0.0,1,      0.060,1,      4.701,1,      0.138,1,      25.04,     -999.0,9,     -999.0,9,     -999.0,9,     -999.0,9,     8.8737,2,     -999.0,9
320620170703,        P06,      40,          1,         22,         22,2,20170712,       1606,   -30.0799,   164.8300,       3376,   568.8,  10.6815,  34.8528,2,  34.8080,2, 198.5537,2, 198.1261,2,     7.0,2,   17.50,2,    0.00,2,    1.19,2,   2.406,2,   1.388,2,   0.7880,2,  -999.0,9, -999.00,9,-999.0000,9, -999.00,9, -999.00,9, -999.00,    43.1,2, -999.00,9,     -999.0,1,  -999.0,9, 20170712,     1538, -30.0799, 164.8303,        0.0,1,      0.059,1,      4.698,1,      0.142,1,     -999.0,     -999.0,9,     -999.0,9,     -999.0,9,     -999.0,9,    10.3503,2,     -999.0,9
320620170703,        P06,      40,          1,         23,         23,2,20170712,       1606,   -30.0799,   164.8300,       3376,   491.1,  12.1060,  35.0211,2,  35.0148,2, 196.5410,2, 196.4443,2,     4.8,2,   13.81,2,    0.00,2,    0.97,2,   2.383,2,   1.420,2,   0.8480,2,  2135.8,2, 2302.18,2,   7.7917,2, -999.00,9, -999.00,9, -999.00,    44.4,2, -999.00,9,     -999.0,1,  -999.0,9, 20170712,     1541, -30.0799, 164.8301,        0.0,1,      0.061,1,      4.696,1,      0.142,1,      25.04,     -999.0,9,     -999.0,9,     -999.0,9,     -999.0,9,    12.1040,2,     -999.0,9
320620170703,        P06,      40,          1,         24,         24,2,20170712,       1606,   -30.0799,   164.8300,       3376,   438.8,  13.1671,  35.1600,2,  35.1490,2, 196.8498,2, 197.3657,2,     3.9,2,   11.87,2,    0.00,2,    0.84,2,   2.301,2,   1.426,2,   0.9710,2,  -999.0,9, -999.00,9,-999.0000,9, -999.00,9, -999.00,9, -999.00,  -999.0,9, -999.00,9,     -999.0,9,  -999.0,9, 20170712,     1543, -30.0799, 164.8301,        0.0,1,      0.060,1,      4.695,1,      0.144,1,     -999.0,     -999.0,9,     -999.0,9,     -999.0,9,     -999.0,9,    13.1320,2,     -999.0,9
320620170703,        P06,      40,          1,         25,         25,2,20170712,       1606,   -30.0799,   164.8300,       3376,   388.3,  14.1441,  35.2677,2,  35.2643,2, 196.1864,2, 196.5964,2,     3.0,2,   10.04,2,    0.00,2,    0.72,2,   2.244,2,   1.445,2,   0.9200,2,  2118.9,2, 2309.24,2,   7.8439,2, -999.00,9, -999.00,9, -999.00,    45.2,2, -999.00,9,     -999.0,1,  -999.0,9, 20170712,     1545, -30.0799, 164.8302,        0.0,1,      0.060,1,      4.695,1,      0.144,1,      24.92,     -999.0,9,     -999.0,9,     -999.0,9,     -999.0,9,    14.1490,2,     -999.0,9
320620170703,        P06,      40,          1,         26,         26,2,20170712,       1606,   -30.0799,   164.8300,       3376,   336.8,  15.3365,  35.3936,2,  35.3873,3, 196.8231,2, 197.0337,2,     2.3,2,    8.16,2,    0.00,2,    0.60,2,   2.166,2,   1.378,2,   1.0390,2,  -999.0,9, -999.00,9,-999.0000,9, -999.00,9, -999.00,9, -999.00,  -999.0,9, -999.00,9,     -999.0,9,  -999.0,9, 20170712,     1547, -30.0799, 164.8302,        0.0,1,      0.060,1,      4.694,1,      0.140,1,     -999.0,     -999.0,9,     -999.0,9,     -999.0,9,     -999.0,9,    15.2776,2,     -999.0,9
320620170703,        P06,      40,          1,         27,         27,2,20170712,       1606,   -30.0799,   164.8300,       3376,   286.1,  16.3039,  35.4818,2,  35.4924,2, 196.6623,2, 198.0732,2,     1.8,2,    6.45,2,    0.00,2,    0.51,2,   2.074,2,   1.347,2,   1.1310,2,  2101.0,2, 2318.30,2,   7.9037,2, -999.00,9, -999.00,9, -999.00,    48.9,2, -999.00,9,     -999.0,1,  -999.0,9, 20170712,     1549, -30.0799, 164.8304,        0.0,1,      0.060,1,      4.694,1,      0.142,1,      24.98,     -999.0,9,     -999.0,9,     -999.0,9,     -999.0,9,    16.5879,2,     -999.0,9
320620170703,        P06,      40,          1,         28,         28,2,20170712,       1606,   -30.0799,   164.8300,       3376,   236.9,  17.4046,  35.6004,2,  35.6096,2, 203.9791,2, 203.9755,2,     1.2,2,    4.57,2,    0.00,2,    0.36,2,   1.978,2,   1.309,2,   1.0310,2,  -999.0,9, -999.00,9,-999.0000,9, -999.00,9, -999.00,9, -999.00,    49.6,2,    8.00,2,     -999.0,1,  -999.0,9, 20170712,     1551, -30.0799, 164.8305,        0.0,1,      0.059,1,      4.693,1,      0.141,1,     -999.0,     -999.0,9,     -999.0,9,     -999.0,9,     -999.0,9,    17.5494,2,     -999.0,9
320620170703,        P06,      40,          1,         29,         29,2,20170712,       1606,   -30.0799,   164.8300,       3376,   186.9,  18.0155,  35.6165,2,  35.6222,2, 195.8162,2, 195.4917,2,     1.1,2,    4.56,2,    0.02,2,    0.38,2,   2.010,2,   1.296,2,   1.1370,2,  2088.0,2, 2339.73,2,   7.9385,2, -999.00,9, -999.00,9, -999.00,    49.8,2,    8.10,2,     -999.0,1,  -999.0,9, 20170712,     1553, -30.0799, 164.8305,        0.0,1,      0.061,1,      4.688,1,      0.154,1,      25.00,     -999.0,9,     -999.0,9,     -999.0,9,     -999.0,9,    18.1289,2,     -999.0,9
320620170703,        P06,      40,          1,         30,         30,2,20170712,       1606,   -30.0799,   164.8300,       3376,   141.6,  18.9201,  35.6857,2,  35.6788,2, 194.2662,2, 196.1917,2,     0.8,2,    3.68,2,    0.02,2,    0.32,2,   1.904,2,   1.258,2,   1.1090,2,  -999.0,9, -999.00,9,-999.0000,9, -999.00,9, -999.00,9, -999.00,    51.5,2,    8.40,2,     -999.0,1,  -999.0,9, 20170712,     1556, -30.0799, 164.8305,        0.0,1,      0.066,1,      4.684,1,      0.159,1,     -999.0,     -999.0,9,     -999.0,9,     -999.0,9,     -999.0,9,    18.7979,2,     -999.0,9
320620170703,        P06,      40,          1,         31,         31,2,20170712,       1606,   -30.0799,   164.8300,       3376,   116.7,  19.9302,  35.8191,2,  35.8025,2, 217.9842,2, 216.2864,2,     0.3,2,    0.67,2,    0.06,2,    0.12,2,   1.816,2,   1.211,2,   1.1600,2,  2058.9,2, 2337.13,2,   8.0073,2, -999.00,9, -999.00,9, -999.00,    57.0,2,    5.30,2,     -999.0,1,  -999.0,9, 20170712,     1557, -30.0799, 164.8306,        0.0,1,      0.172,1,      4.631,1,      0.210,1,      25.02,     -999.0,9,     -999.0,9,     -999.0,9,     -999.0,9,    19.8820,2,     -999.0,9
320620170703,        P06,      40,          1,         32,         32,2,20170712,       1606,   -30.0799,   164.8300,       3376,    91.1,  19.9502,  35.8227,2,  35.8200,2, 220.3238,2, 219.6699,2,     0.2,2,    0.29,2,    0.06,2,    0.11,2,   1.769,2,   1.206,2,   1.1550,2,  2055.4,2, 2341.84,2,   8.0144,2, -999.00,9, -999.00,9, -999.00,    58.2,2,    4.80,2,     -999.0,1,  -999.0,9, 20170712,     1559, -30.0799, 164.8307,        0.0,1,      0.183,1,      4.630,1,      0.204,1,      24.98,     -999.0,9,     -999.0,9,     -999.0,9,     -999.0,9,    19.9285,2,     -999.0,9