BOTTLE,20230922CCHSIOCBG
EXPOCODE,SECT_ID,STNNBR,CASTNO,SAMPNO,BTLNBR,BTLNBR_FLAG_W,DATE,TIME,LATITUDE,LONGITUDE,DEPTH,CTDPRS,CTDTMP,CTDSAL,CTDSAL_FLAG_W,SALNTY,SALNTY_FLAG_W,CTDOXY,CTDOXY_FLAG_W,OXYGEN,OXYGEN_FLAG_W,SILCAT,SILCAT_FLAG_W,NITRAT,NITRAT_FLAG_W,NITRIT,NITRIT_FLAG_W,PHSPHT,PHSPHT_FLAG_W,CFC-11,CFC-11_FLAG_W,CFC-12,CFC-12_FLAG_W,SF6,SF6_FLAG_W,TCARBN,TCARBN_FLAG_W,ALKALI,ALKALI_FLAG_W,PH_TOT,PH_TOT_FLAG_W,DELC13,DELC13_FLAG_W,DELC14,DELC14_FLAG_W,C14ERR,DOC,DOC_FLAG_W,TDN,TDN_FLAG_W,TON,TON_FLAG_W,D15N_NO3,D15N_NO3_FLAG_W,BTL_DATE,BTL_TIME,BTL_LAT,BTL_LON,CTDRINKO,CTDRINKO_FLAG_W,CTDFLUOR,CTDFLUOR_FLAG_W,CTDXMISS,CTDXMISS_FLAG_W,CTDBACKSCATTER,CTDBACKSCATTER_FLAG_W,PH_TMP,D18O_NO3,D18O_NO3_FLAG_W,DOP,DOP_FLAG_W,HPLC,HPLC_FLAG_W,POC,POC_FLAG_W,REFTMP,REFTMP_FLAG_W,TDP,TDP_FLAG_W
,,,,,,,,,,,METERS,DBAR,ITS-90,PSS-78,,PSS-78,,UMOL/KG,,UMOL/KG,,UMOL/KG,,UMOL/KG,,UMOL/KG,,UMOL/KG,,PMOL/KG,,PMOL/KG,,FMOL/KG,,UMOL/KG,,UMOL/KG,,,,/MILLE,,/MILLE,,/MILLE,UMOL/KG,,UMOL/KG,,UMOL/KG,,/MILLE,,,,,,VOLTS,,VOLTS,,VOLTS,,VOLTS,,DEGC,/MILLE,,UMOL/KG,,,,UG/L,,ITS-90,,UMOL/KG,
320620170703,        P06,      47,          1,         33,         33,2,20170714,       0342,   -30.0798,   167.2501,       2471,    24.3,  19.5878,  35.8516,2,  35.8572,2, 220.5241,2, 221.0039,2,     0.0,2,    0.17,2,    0.09,2,    0.13,2,-999.000,9,-999.000,9,-999.0000,9,  2059.1,2, 2342.31,2,   8.0079,2, -999.00,9, -999.00,9, -999.00,  -999.0,9, -999.00,9,     -999.0,9,  -999.0,9, 20170714,      340, -30.0798, 167.2501,        0.0,1,      0.126,1,      4.632,1,      0.212,1,      25.01,     -999.0,9,     -999.0,9,     -999.0,9,     -999.0,9,    19.5937,2,     -999.0,9
320620170703,        P06,      47,          1,         34,         34,2,20170714,       0342,   -30.0798,   167.2501,       2471,     5.2,  19.5913,  35.8514,2,  35.8588,2, 219.3195,2, 221.0676,2,     0.0,2,    0.17,2,    0.09,2,    0.16,2,   1.788,6,   1.135,6,   1.1085,6,  2059.4,6, 2339.76,2,   8.0072,2, -999.00,9, -999.00,9, -999.00,  -999.0,9, -999.00,9,     -999.0,9,  -999.0,9, 20170714,      342, -30.0798, 167.2501,        0.0,1,      0.099,1,      4.629,1,      0.200,1,      25.06,     -999.0,9,     -999.0,9,     -999.0,9,     -999.0,9,    19.5783,2,     -999.0,9
320620170703,        P06,      48,          1,          1,         37,2,20170714,       0705,   -30.0799,   167.5005,       1242,  1243.8,   4.7074,  34.4808,2,  34.4791,3, 179.7656,2, 179.6685,2,    50.2,2,   30.31,2,    0.00,2,    2.11,2,   0.664,2,   0.355,2,   0.0710,2,  -999.0,9, -999.00,9,-999.0000,9, -999.00,9, -999.00,9, -999.00,  -999.0,9, -999.00,9,     -999.0,9,  -999.0,9, 20170714,      612, -30.0799, 167.5003,        0.0,1,      0.060,1,      4.109,1,      0.157,1,     -999.0,     -999.0,9,     -999.0,9,     -999.0,9,     -999.0,9,     4.6874,2,     -999.0,9
320620170703,        P06,      48,          1,          2,          2,2,20170714,       0705,   -30.0799,   167.5005,       1242,  1147.6,   5.1588,  34.4633,2,  34.4644,2, 186.1106,2, 186.1772,2,    41.9,2,   29.24,2,    0.00,2,    2.03,2,-999.000,9,-999.000,9,-999.0000,9,  -999.0,9, -999.00,9,-999.0000,9, -999.00,9, -999.00,9, -999.00,  -999.0,9, -999.00,9,     -999.0,9,  -999.0,9, 20170714,      615, -30.0799, 167.5002,        0.0,1,      0.061,1,      4.699,1,      0.161,1,     -999.0,     -999.0,9,     -999.0,9,     -999.0,9,     -999.0,9,     5.1501,2,     -999.0,9
320620170703,        P06,      48,          1,          3,         38,2,20170714,       0705,   -30.0799,   167.5005,       1242,  1045.1,   5.3903,  34.4600,2,  34.4579,2, 189.3217,2, 189.4978,2,    36.9,2,   28.55,2,    0.00,2,    1.97,2,   0.970,2,   0.520,2,   0.1410,2,  -999.0,9, -999.00,9,-999.0000,9, -999.00,9, -999.00,9, -999.00,  -999.0,9, -999.00,9,     -999.0,9,  -999.0,9, 20170714,      618, -30.0799, 167.5001,        0.0,1,      0.060,1,      4.084,1,      0.154,1,     -999.0,     -999.0,9,     -999.0,9,     -999.0,9,     -999.0,9,     5.4206,2,     -999.0,9
320620170703,        P06,      48,          1,          4,          4,2,20170714,       0705,   -30.0799,   167.5005,       1242,   943.7,   6.2050,  34.4668,2,  34.4648,2, 196.7608,2, 196.7208,2,    26.7,2,   26.75,2,    0.00,2,    1.86,2,-999.000,9,-999.000,9,-999.0000,9,  -999.0,9, -999.00,9,-999.0000,9, -999.00,9, -999.00,9, -999.00,  -999.0,9, -999.00,9,     -999.0,9,  -999.0,9, 20170714,      621, -30.0799, 167.5001,        0.0,1,      0.060,1,      4.702,1,      0.150,1,     -999.0,     -999.0,9,     -999.0,9,     -999.0,9,     -999.0,9,     6.1924,2,     -999.0,9
320620170703,        P06,      48,          1,          5,         39,2,20170714,       0705,   -30.0799,   167.5005,       1242,   841.6,   6.6683,  34.4865,2,  34.4854,2, 199.4489,2, 199.3674,2,    22.2,2,   25.54,2,    0.00,2,    1.75,2,   1.521,2,   0.820,2,   0.2810,2,  -999.0,9, -999.00,9,-999.0000,9, -999.00,9, -999.00,9, -999.00,  -999.0,9, -999.00,9,     -999.0,9,  -999.0,9, 20170714,      624, -30.0799, 167.5001,        0.0,1,      0.059,1,      4.702,1,      0.147,1,     -999.0,     -999.0,9,     -999.0,9,     -999.0,9,     -999.0,9,     6.6719,2,     -999.0,9
320620170703,        P06,      48,          1,          6,          6,2,20170714,       0705,   -30.0799,   167.5005,       1242,   740.8,   7.8191,  34.5619,2,  34.5506,3, 202.4592,2, 202.3146,2,    15.2,2,   23.04,2,    0.00,2,    1.58,2,-999.000,9,-999.000,9,-999.0000,9,  -999.0,9, -999.00,9,-999.0000,9, -999.00,9, -999.00,9, -999.00,  -999.0,9, -999.00,9,     -999.0,9,  -999.0,9, 20170714,      627, -30.0799, 167.5004,        0.0,1,      0.060,1,      4.698,1,      0.144,1,     -999.0,     -999.0,9,     -999.0,9,     -999.0,9,     -999.0,9,     7.7064,2,     -999.0,9
320620170703,        P06,      48,          1,          7,         40,2,20170714,       0705,   -30.0799,   167.5005,       1242,   639.7,   9.4308,  34.7156,2,  34.7003,2, 201.0134,2, 201.0232,2,     9.9,2,   19.59,2,    0.00,2,    1.34,2,   2.271,2,   1.224,2,   0.5260,2,  -999.0,9, -999.00,9,-999.0000,9, -999.00,9, -999.00,9, -999.00,  -999.0,9, -999.00,9,     -999.0,9,  -999.0,9, 20170714,      630, -30.0799, 167.5007,        0.0,1,      0.061,1,      4.691,1,      0.142,1,     -999.0,     -999.0,9,     -999.0,9,     -999.0,9,     -999.0,9,     9.3032,2,     -999.0,9
320620170703,        P06,      48,          1,          8,          8,2,20170714,       0705,   -30.0799,   167.5005,       1242,   539.9,   9.9300,  34.7694,2,  34.7467,2, 200.7509,2, 200.6675,2,     8.7,2,   18.58,2,    0.00,2,    1.28,2,-999.000,9,-999.000,9,-999.0000,9,  -999.0,9, -999.00,9,-999.0000,9, -999.00,9, -999.00,9, -999.00,  -999.0,9, -999.00,9,     -999.0,9,  -999.0,9, 20170714,      633, -30.0800, 167.5008,        0.0,1,      0.060,1,      4.369,1,      0.140,1,     -999.0,     -999.0,9,     -999.0,9,     -999.0,9,     -999.0,9,     9.7375,2,     -999.0,9
320620170703,        P06,      48,          1,          9,         41,2,20170714,       0705,   -30.0799,   167.5005,       1242,   467.8,  12.0086,  35.0048,2,  34.9852,2, 197.5981,2, 197.5356,2,     5.2,2,   14.19,2,    0.00,2,    0.99,2,   2.402,2,   1.335,2,   0.7770,2,  -999.0,9, -999.00,9,-999.0000,9, -999.00,9, -999.00,9, -999.00,  -999.0,9, -999.00,9,     -999.0,9,  -999.0,9, 20170714,      636, -30.0799, 167.5006,        0.0,1,      0.059,1,      4.696,1,      0.145,1,     -999.0,     -999.0,9,     -999.0,9,     -999.0,9,     -999.0,9,    11.8523,2,     -999.0,9
320620170703,        P06,      48,          1,         10,         10,2,20170714,       0705,   -30.0799,   167.5005,       1242,   417.2,  12.6965,  35.0895,2,  35.0226,2, 197.3792,2, 198.1166,2,     4.8,2,   13.61,2,    0.00,2,    0.96,2,-999.000,9,-999.000,9,-999.0000,9,  -999.0,9, -999.00,9,-999.0000,9, -999.00,9, -999.00,9, -999.00,  -999.0,9, -999.00,9,     -999.0,9,  -999.0,9, 20170714,      638, -30.0799, 167.5005,        0.0,1,      0.060,1,      4.694,1,      0.146,1,     -999.0,     -999.0,9,     -999.0,9,     -999.0,9,     -999.0,9,    12.1668,2,     -999.0,9
320620170703,        P06,      48,          1,         11,         42,2,20170714,       0705,   -30.0799,   167.5005,       1242,   368.8,  13.6035,  35.1864,2,  35.1843,2, 196.8050,2, 196.8389,2,     3.2,2,   10.82,2,    0.00,2,    0.77,2,   2.274,2,   1.347,2,   0.8390,2,  -999.0,9, -999.00,9,-999.0000,9, -999.00,9, -999.00,9, -999.00,  -999.0,9, -999.00,9,     -999.0,9,  -999.0,9, 20170714,      641, -30.0799, 167.5003,        0.0,1,      0.060,1,      4.695,1,      0.145,1,     -999.0,     -999.0,9,     -999.0,9,     -999.0,9,     -999.0,9,    13.6167,2,     -999.0,9
320620170703,        P06,      48,          1,         12,         12,2,20170714,       0705,   -30.0799,   167.5005,       1242,   319.1,  14.7413,  35.3078,2,  35.3155,2, 196.3488,2, 196.3033,2,     2.3,2,    8.95,2,    0.00,2,    0.66,2,-999.000,9,-999.000,9,-999.0000,9,  -999.0,9, -999.00,9,-999.0000,9, -999.00,9, -999.00,9, -999.00,  -999.0,9, -999.00,9,     -999.0,9,  -999.0,9, 20170714,      643, -30.0799, 167.5003,        0.0,1,      0.059,1,      4.694,1,      0.149,1,     -999.0,     -999.0,9,     -999.0,9,     -999.0,9,     -999.0,9,    14.7620,2,     -999.0,9
320620170703,        P06,      48,          1,         13,         43,2,20170714,       0705,   -30.0799,   167.5005,       1242,   267.7,  15.6637,  35.4085,2,  35.4028,2, 199.2452,2, 198.6776,2,     1.7,2,    7.17,2,    0.00,2,    0.54,2,   2.140,2,   1.310,2,   0.9010,2,  -999.0,9, -999.00,9,-999.0000,9, -999.00,9, -999.00,9, -999.00,  -999.0,9, -999.00,9,     -999.0,9,  -999.0,9, 20170714,      645, -30.0799, 167.5003,        0.0,1,      0.059,1,      4.691,1,      0.142,1,     -999.0,     -999.0,9,     -999.0,9,     -999.0,9,     -999.0,9,    15.6403,2,     -999.0,9
320620170703,        P06,      48,          1,         14,         14,2,20170714,       0705,   -30.0799,   167.5005,       1242,   237.5,  16.8793,  35.5233,2,  35.5223,2, 197.9501,2, 198.0048,2,     1.1,2,    5.58,2,    0.00,2,    0.45,2,-999.000,9,-999.000,9,-999.0000,9,  -999.0,9, -999.00,9,-999.0000,9, -999.00,9, -999.00,9, -999.00,  -999.0,9, -999.00,9,     -999.0,9,  -999.0,9, 20170714,      647, -30.0799, 167.5002,        0.0,1,      0.060,1,      4.692,1,      0.145,1,     -999.0,     -999.0,9,     -999.0,9,     -999.0,9,     -999.0,9,    16.8848,2,     -999.0,9
320620170703,        P06,      48,          1,         15,         15,2,20170714,       0705,   -30.0799,   167.5005,       1242,   213.5,  17.1842,  35.5534,2,  35.5472,2, 198.6552,2, 198.5043,2,     1.0,2,    5.13,2,    0.00,2,    0.43,2,   2.040,2,   1.260,2,   0.9850,2,  -999.0,9, -999.00,9,-999.0000,9, -999.00,9, -999.00,9, -999.00,  -999.0,9, -999.00,9,     -999.0,9,  -999.0,9, 20170714,      649, -30.0799, 167.5002,        0.0,1,      0.061,1,      4.690,1,      0.143,1,     -999.0,     -999.0,9,     -999.0,9,     -999.0,9,     -999.0,9,    17.1500,2,     -999.0,9
320620170703,        P06,      48,          1,         16,         16,2,20170714,       0705,   -30.0799,   167.5005,       1242,   186.3,  17.9472,  35.6156,2,  35.5985,3, 199.0198,2, 198.1274,2,     0.8,2,    4.47,2,    0.02,2,    0.36,2,-999.000,9,-999.000,9,-999.0000,9,  -999.0,9, -999.00,9,-999.0000,9, -999.00,9, -999.00,9, -999.00,  -999.0,9, -999.00,9,     -999.0,9,  -999.0,9, 20170714,      651, -30.0799, 167.5003,        0.0,1,      0.062,1,      4.686,1,      0.151,1,     -999.0,     -999.0,9,     -999.0,9,     -999.0,9,     -999.0,9,    17.7975,2,     -999.0,9
320620170703,        P06,      48,          1,         17,         17,2,20170714,       0705,   -30.0799,   167.5005,       1242,   162.6,  18.7830,  35.7196,2,  35.6650,2, 201.4887,2, 201.2266,2,     0.7,2,    3.62,2,    0.03,2,    0.33,2,   1.948,2,   1.216,2,   1.0240,2,  -999.0,9, -999.00,9,-999.0000,9, -999.00,9, -999.00,9, -999.00,  -999.0,9, -999.00,9,     -999.0,9,  -999.0,9, 20170714,      653, -30.0799, 167.5004,        0.0,1,      0.099,1,      4.669,1,      0.176,1,     -999.0,     -999.0,9,     -999.0,9,     -999.0,9,     -999.0,9,    18.4032,2,     -999.0,9
320620170703,        P06,      48,          1,         18,         18,2,20170714,       0705,   -30.0799,   167.5005,       1242,   137.4,  19.5850,  35.8576,2,  35.8544,2, 220.7990,2, 220.1267,2,     0.0,2,    0.43,2,    0.10,2,    0.11,2,-999.000,9,-999.000,9,-999.0000,9,  -999.0,9, -999.00,9,-999.0000,9, -999.00,9, -999.00,9, -999.00,  -999.0,9, -999.00,9,     -999.0,9,  -999.0,9, 20170714,      655, -30.0799, 167.5005,        0.0,1,      0.161,1,      4.639,1,      0.208,1,     -999.0,     -999.0,9,     -999.0,9,     -999.0,9,     -999.0,9,    19.5729,2,     -999.0,9
320620170703,        P06,      48,          1,         19,         19,2,20170714,       0705,   -30.0799,   167.5005,       1242,   111.5,  19.5818,  35.8579,2,  35.8560,2, 223.3461,3, 220.5924,2,     0.1,2,    0.41,2,    0.10,2,    0.12,2,   1.809,2,   1.146,2,   1.0610,2,  -999.0,9, -999.00,9,-999.0000,9, -999.00,9, -999.00,9, -999.00,  -999.0,9, -999.00,9,     -999.0,9,  -999.0,9, 20170714,      657, -30.0799, 167.5006,        0.0,1,      0.163,1,      4.639,1,      0.206,1,     -999.0,     -999.0,9,     -999.0,9,     -999.0,9,     -999.0,9,    19.5784,2,     -999.0,9
320620170703,        P06,      48,          1,         20,         20,2,20170714,       0705,   -30.0799,   167.5005,       1242,    85.6,  19.5801,  35.8581,2,  35.8568,2, 221.2494,2, 221.0671,2,     0.0,2,    0.39,2,    0.09,2,    0.10,2,-999.000,9,-999.000,9,-999.0000,9,  -999.0,9, -999.00,9,-999.0000,9, -999.00,9, -999.00,9, -999.00,  -999.0,9, -999.00,9,     -999.0,9,  -999.0,9, 20170714,      659, -30.0800, 167.5007,        0.0,1,      0.175,1,      4.633,1,      0.208,1,     -999.0,     -999.0,9,     -999.0,9,     -999.0,9,     -999.0,9,    19.5772,2,     -999.0,9
320620170703,        P06,      48,          1,         21,         21,2,20170714,       0705,   -30.0799,   167.5005,       1242,    61.0,  19.5763,  35.8591,2,  35.8590,2, 220.9624,2, 221.0212,2,     0.0,2,    0.38,2,    0.09,2,    0.12,2,   1.788,2,   1.145,2,   1.0830,2,  -999.0,9, -999.00,9,-999.0000,9, -999.00,9, -999.00,9, -999.00,  -999.0,9, -999.00,9,     -999.0,9,  -999.0,9, 20170714,      701, -30.0800, 167.5007,        0.0,1,      0.176,1,      4.621,1,      0.213,1,     -999.0,     -999.0,9,     -999.0,9,     -999.0,9,     -999.0,9,    19.5711,2,     -999.0,9
320620170703,        P06,      48,          1,         22,         22,2,20170714,       0705,   -30.0799,   167.5005,       1242,    36.7,  19.5730,  35.8588,2,  35.8599,2, 220.1030,2, 221.0715,2,     0.0,2,    0.38,2,    0.09,2,    0.14,2,-999.000,9,-999.000,9,-999.0000,9,  -999.0,9, -999.00,9,-999.0000,9, -999.00,9, -999.00,9, -999.00,  -999.0,9, -999.00,9,     -999.0,9,  -999.0,9, 20170714,      703, -30.0800, 167.5006,        0.0,1,      0.174,1,      4.620,1,      0.213,1,     -999.0,     -999.0,9,     -999.0,9,     -999.0,9,     -999.0,9,    19.5508,2,     -999.0,9
320620170703,        P06,      48,          1,         24,         24,2,20170714,       0705,   -30.0799,   167.5005,       1242,     5.5,  19.5702,  35.8581,2,  35.8562,2, 220.5067,2, 221.0508,2,     0.0,2,    0.48,2,    0.09,2,    0.12,2,-999.000,9,-999.000,9,-999.0000,9,  -999.0,9, -999.00,9,-999.0000,9, -999.00,9, -999.00,9, -999.00,  -999.0,9, -999.00,9,     -999.0,9,  -999.0,9, 20170714,      705, -30.0799, 167.5005,        0.0,1,      0.174,1,      4.618,1,      0.218,1,     -999.0,     -999.0,9,     -999.0,9,     -999.0,9,     -999.0,9,     -999.0,5,     -999.0,9
320620170703,        P06,      48,          1,         23,         23,2,20170714,       0705,   -30.0799,   167.5005,       1242,     5.3,  19.5702,  35.8581,2,  35.8568,2, 220.6867,2, 221.2115,2,     0.0,2,    0.41,2,    0.09,2,    0.15,2,   1.811,2,   1.149,2,   1.0800,2,  2059.7,6, 2348.36,6,   8.0074,3, -999.00,9, -999.00,9, -999.00,  -999.0,9, -999.00,9,     -999.0,9,  -999.0,9, 20170714,      705, -30.0799, 167.5005,        0.0,1,      0.174,1,      4.618,1,      0.218,1,      25.03,     -999.0,9,     -999.0,9,     -999.0,9,     -999.0,9,    19.5282,2,     -999.0,9