BOTTLE,20230922CCHSIOCBG
EXPOCODE,SECT_ID,STNNBR,CASTNO,SAMPNO,BTLNBR,BTLNBR_FLAG_W,DATE,TIME,LATITUDE,LONGITUDE,DEPTH,CTDPRS,CTDTMP,CTDSAL,CTDSAL_FLAG_W,SALNTY,SALNTY_FLAG_W,CTDOXY,CTDOXY_FLAG_W,OXYGEN,OXYGEN_FLAG_W,SILCAT,SILCAT_FLAG_W,NITRAT,NITRAT_FLAG_W,NITRIT,NITRIT_FLAG_W,PHSPHT,PHSPHT_FLAG_W,CFC-11,CFC-11_FLAG_W,CFC-12,CFC-12_FLAG_W,SF6,SF6_FLAG_W,TCARBN,TCARBN_FLAG_W,ALKALI,ALKALI_FLAG_W,PH_TOT,PH_TOT_FLAG_W,DELC13,DELC13_FLAG_W,DELC14,DELC14_FLAG_W,C14ERR,DOC,DOC_FLAG_W,TDN,TDN_FLAG_W,TON,TON_FLAG_W,D15N_NO3,D15N_NO3_FLAG_W,BTL_DATE,BTL_TIME,BTL_LAT,BTL_LON,CTDRINKO,CTDRINKO_FLAG_W,CTDFLUOR,CTDFLUOR_FLAG_W,CTDXMISS,CTDXMISS_FLAG_W,CTDBACKSCATTER,CTDBACKSCATTER_FLAG_W,PH_TMP,D18O_NO3,D18O_NO3_FLAG_W,DOP,DOP_FLAG_W,HPLC,HPLC_FLAG_W,POC,POC_FLAG_W,REFTMP,REFTMP_FLAG_W,TDP,TDP_FLAG_W
,,,,,,,,,,,METERS,DBAR,ITS-90,PSS-78,,PSS-78,,UMOL/KG,,UMOL/KG,,UMOL/KG,,UMOL/KG,,UMOL/KG,,UMOL/KG,,PMOL/KG,,PMOL/KG,,FMOL/KG,,UMOL/KG,,UMOL/KG,,,,/MILLE,,/MILLE,,/MILLE,UMOL/KG,,UMOL/KG,,UMOL/KG,,/MILLE,,,,,,VOLTS,,VOLTS,,VOLTS,,VOLTS,,DEGC,/MILLE,,UMOL/KG,,,,UG/L,,ITS-90,,UMOL/KG,
320620170703,        P06,     127,          1,         33,         33,2,20170808,       0818,   -32.5000,  -159.7166,       5396,    88.0,  16.3236,  35.4301,2,  35.4878,2, 232.5260,2, 233.9467,2,     0.3,2,    0.56,2,    0.03,2,    0.15,2,   2.272,2,   1.338,2,   1.3780,2,  2072.7,2, 2331.88,2,   7.9592,2, -999.00,9, -999.00,9, -999.00,  -999.0,9, -999.00,9,     -999.0,9,  -999.0,1, 20170808,      814, -32.4999,-159.7168,        0.0,1,      0.144,1,      4.645,1,      0.175,1,      25.02,     -999.0,1,     -999.0,1,     -999.0,9,     -999.0,9,    16.6088,2,     -999.0,9
320620170703,        P06,     127,          1,         34,         34,2,20170808,       0818,   -32.5000,  -159.7166,       5396,    61.5,  16.5239,  35.4759,2,  35.5454,2, 231.1781,2, 231.4137,2,     0.4,2,    0.74,2,    0.03,2,    0.16,2,   2.262,2,   1.323,2,   1.6160,4,  -999.0,9, -999.00,9,-999.0000,9, -999.00,9, -999.00,9, -999.00,  -999.0,9, -999.00,9,     -999.0,9,  -999.0,1, 20170808,      816, -32.4999,-159.7168,        0.0,1,      0.164,1,      4.634,1,      0.183,1,     -999.0,     -999.0,1,     -999.0,1,     -999.0,9,     -999.0,9,    16.9384,2,     -999.0,9
320620170703,        P06,     127,          1,         35,         35,2,20170808,       0818,   -32.5000,  -159.7166,       5396,    32.7,  16.8328,  35.5351,2,  35.5622,2, 231.1781,2, 231.6555,2,     0.4,2,    0.64,2,    0.03,2,    0.16,2,   2.258,2,   1.309,2,   1.3580,2,  2071.6,2, 2335.41,2,   7.9666,2, -999.00,9, -999.00,9, -999.00,  -999.0,9, -999.00,9,     -999.0,9,  -999.0,1, 20170808,      817, -32.4999,-159.7167,        0.0,1,      0.163,1,      4.624,1,      0.185,1,      25.01,     -999.0,1,     -999.0,1,     -999.0,9,     -999.0,9,    16.9950,2,     -999.0,9
320620170703,        P06,     127,          1,         36,         36,2,20170808,       0818,   -32.5000,  -159.7166,       5396,     5.9,  16.8325,  35.5354,2,  35.5634,2, 231.1781,2, 231.4145,2,     0.4,2,    0.64,2,    0.03,2,    0.17,2,   2.255,2,   1.318,2,   1.5580,2,  2073.2,6, 2339.27,2,   7.9658,2, -999.00,9, -999.00,9, -999.00,  -999.0,9, -999.00,9,     -999.0,9,  -999.0,1, 20170808,      818, -32.5000,-159.7166,        0.0,1,      0.160,1,      4.623,1,      0.176,1,      25.03,     -999.0,1,     -999.0,1,     -999.0,9,     -999.0,9,    16.4852,2,     -999.0,9