BOTTLE,20230922CCHSIOCBG
EXPOCODE,SECT_ID,STNNBR,CASTNO,SAMPNO,BTLNBR,BTLNBR_FLAG_W,DATE,TIME,LATITUDE,LONGITUDE,DEPTH,CTDPRS,CTDTMP,CTDSAL,CTDSAL_FLAG_W,SALNTY,SALNTY_FLAG_W,CTDOXY,CTDOXY_FLAG_W,OXYGEN,OXYGEN_FLAG_W,SILCAT,SILCAT_FLAG_W,NITRAT,NITRAT_FLAG_W,NITRIT,NITRIT_FLAG_W,PHSPHT,PHSPHT_FLAG_W,CFC-11,CFC-11_FLAG_W,CFC-12,CFC-12_FLAG_W,SF6,SF6_FLAG_W,TCARBN,TCARBN_FLAG_W,ALKALI,ALKALI_FLAG_W,PH_TOT,PH_TOT_FLAG_W,DELC13,DELC13_FLAG_W,DELC14,DELC14_FLAG_W,C14ERR,DOC,DOC_FLAG_W,TDN,TDN_FLAG_W,TON,TON_FLAG_W,D15N_NO3,D15N_NO3_FLAG_W,BTL_DATE,BTL_TIME,BTL_LAT,BTL_LON,CTDRINKO,CTDRINKO_FLAG_W,CTDFLUOR,CTDFLUOR_FLAG_W,CTDXMISS,CTDXMISS_FLAG_W,CTDBACKSCATTER,CTDBACKSCATTER_FLAG_W,PH_TMP,D18O_NO3,D18O_NO3_FLAG_W,DOP,DOP_FLAG_W,HPLC,HPLC_FLAG_W,POC,POC_FLAG_W,REFTMP,REFTMP_FLAG_W,TDP,TDP_FLAG_W
,,,,,,,,,,,METERS,DBAR,ITS-90,PSS-78,,PSS-78,,UMOL/KG,,UMOL/KG,,UMOL/KG,,UMOL/KG,,UMOL/KG,,UMOL/KG,,PMOL/KG,,PMOL/KG,,FMOL/KG,,UMOL/KG,,UMOL/KG,,,,/MILLE,,/MILLE,,/MILLE,UMOL/KG,,UMOL/KG,,UMOL/KG,,/MILLE,,,,,,VOLTS,,VOLTS,,VOLTS,,VOLTS,,DEGC,/MILLE,,UMOL/KG,,,,UG/L,,ITS-90,,UMOL/KG,
320620170703,        P06,     133,          1,          1,          1,2,20170810,       0932,   -32.5000,  -155.6065,       5142,  5230.2,   1.1210,  34.7101,2,  34.7072,2, 204.8907,2, 206.3974,2,   120.6,2,   32.30,2,    0.00,2,    2.22,2,   0.101,2,   0.058,2,   0.0000,2,  2263.6,6, 2367.47,2,   7.6063,2, -999.00,9, -999.00,9, -999.00,  -999.0,9, -999.00,9,     -999.0,9,  -999.0,9, 20170810,      714, -32.4999,-155.6067,        0.0,1,      0.061,1,      4.695,1,      0.124,1,      25.01,     -999.0,9,     -999.0,9,     -999.0,9,     -999.0,9,     1.1214,2,     -999.0,9
320620170703,        P06,     133,          1,          2,          2,2,20170810,       0932,   -32.5000,  -155.6065,       5142,  5094.1,   1.1118,  34.7105,2,  34.7076,2, 204.8907,2, 205.9127,2,   120.4,2,   32.30,2,    0.00,2,    2.22,2,   0.088,2,   0.055,2,   0.0000,2,  -999.0,9, -999.00,9,-999.0000,9, -999.00,9, -999.00,9, -999.00,  -999.0,9, -999.00,9,     -999.0,9,  -999.0,9, 20170810,      720, -32.5000,-155.6066,        0.0,1,      0.061,1,      4.696,1,      0.125,1,     -999.0,     -999.0,9,     -999.0,9,     -999.0,9,     -999.0,9,     1.1119,2,     -999.0,9
320620170703,        P06,     133,          1,          3,          3,2,20170810,       0932,   -32.5000,  -155.6065,       5142,  4992.5,   1.1052,  34.7107,2,  34.7072,2, 204.8907,2, 205.7848,2,   120.3,2,   32.29,2,    0.00,2,    2.22,2,   0.083,2,   0.053,2,   0.0000,2,  2263.3,2, 2367.64,2,   7.6070,2, -999.00,9, -999.00,9, -999.00,  -999.0,9, -999.00,9,     -999.0,9,  -999.0,9, 20170810,      725, -32.5001,-155.6065,        0.0,1,      0.062,1,      4.697,1,      0.125,1,      25.01,     -999.0,9,     -999.0,9,     -999.0,9,     -999.0,9,     1.1055,2,     -999.0,9
320620170703,        P06,     133,          1,          4,          4,2,20170810,       0932,   -32.5000,  -155.6065,       5142,  4681.7,   1.1232,  34.7122,2,  34.7079,2, 206.3424,2, 205.0559,2,   118.9,2,   32.25,2,    0.00,2,    2.21,2,   0.072,2,   0.049,2,   0.0000,2,  2262.1,2, 2368.88,2,   7.6064,2, -999.00,9, -999.00,9, -999.00,  -999.0,9, -999.00,9,     -999.0,9,  -999.0,9, 20170810,      734, -32.5000,-155.6067,        0.0,1,      0.061,1,      4.698,1,      0.122,1,      25.00,     -999.0,9,     -999.0,9,     -999.0,9,     -999.0,9,     1.1233,2,     -999.0,9
320620170703,        P06,     133,          1,          5,          5,2,20170810,       0932,   -32.5000,  -155.6065,       5142,  4373.5,   1.2373,  34.7152,2,  34.7105,2, 203.2484,2, 201.9779,2,   116.0,2,   32.21,2,    0.00,2,    2.21,2,   0.056,2,   0.040,2,   0.0000,2,  2262.8,2, 2366.90,2,   7.6063,2, -999.00,9, -999.00,9, -999.00,  -999.0,9, -999.00,9,     -999.0,9,  -999.0,9, 20170810,      741, -32.5002,-155.6064,        0.0,1,      0.061,1,      4.698,1,      0.123,1,      25.00,     -999.0,9,     -999.0,9,     -999.0,9,     -999.0,9,     1.2302,2,     -999.0,9
320620170703,        P06,     133,          1,          6,          6,2,20170810,       0932,   -32.5000,  -155.6065,       5142,  4067.4,   1.3902,  34.7125,2,  34.7077,2, 193.7621,2, 194.1335,2,   115.5,2,   32.56,2,    0.00,2,    2.24,2,   0.039,2,   0.030,2,   0.0000,2,  -999.0,9, -999.00,9,-999.0000,9, -999.00,9, -999.00,9, -999.00,  -999.0,9, -999.00,9,     -999.0,9,  -999.0,9, 20170810,      747, -32.4999,-155.6067,        0.0,1,      0.061,1,      4.699,1,      0.126,1,     -999.0,     -999.0,9,     -999.0,9,     -999.0,9,     -999.0,9,     1.3748,2,     -999.0,9
320620170703,        P06,     133,          1,          7,          7,2,20170810,       0932,   -32.5000,  -155.6065,       5142,  3758.2,   1.5254,  34.7039,2,  34.7003,2, 182.7058,2, 181.7622,2,   119.0,2,   33.44,2,    0.00,2,    2.30,2,   0.029,2,   0.026,2,   0.0000,2,  2283.7,2, 2382.73,2,   7.5938,2, -999.00,9, -999.00,9, -999.00,  -999.0,9, -999.00,9,     -999.0,9,  -999.0,9, 20170810,      753, -32.5000,-155.6066,        0.0,1,      0.061,1,      4.698,1,      0.125,1,      25.00,     -999.0,9,     -999.0,9,     -999.0,9,     -999.0,9,     1.5210,2,     -999.0,9
320620170703,        P06,     133,          1,          8,          8,2,20170810,       0932,   -32.5000,  -155.6065,       5142,  3453.4,   1.6370,  34.6873,2,  34.6834,3, 168.5581,3, 166.7229,2,   126.1,2,   34.72,2,    0.00,2,    2.39,2,   0.026,2,   0.023,2,   0.0000,2,  -999.0,9, -999.00,9,-999.0000,9, -999.00,9, -999.00,9, -999.00,  -999.0,9, -999.00,9,     -999.0,9,  -999.0,9, 20170810,      800, -32.5000,-155.6066,        0.0,1,      0.061,1,      4.698,1,      0.126,1,     -999.0,     -999.0,9,     -999.0,9,     -999.0,9,     -999.0,9,     1.6287,2,     -999.0,9
320620170703,        P06,     133,          1,          9,          9,2,20170810,       0932,   -32.5000,  -155.6065,       5142,  3145.5,   1.7281,  34.6762,2,  34.6718,2, 159.0524,3, 156.7471,2,   129.8,2,   35.52,2,    0.00,2,    2.45,2,   0.023,2,   0.021,2,   0.0000,2,  2310.5,2, 2402.48,2,   7.5738,2, -999.00,9, -999.00,9, -999.00,  -999.0,9, -999.00,9,     -999.0,9,  -999.0,9, 20170810,      807, -32.5000,-155.6067,        0.0,1,      0.061,1,      4.699,1,      0.128,1,      25.00,     -999.0,9,     -999.0,9,     -999.0,9,     -999.0,9,     1.7220,2,     -999.0,9
320620170703,        P06,     133,          1,         10,         10,2,20170810,       0932,   -32.5000,  -155.6065,       5142,  2875.4,   1.8200,  34.6666,2,  34.6614,2, 152.2186,2, 152.0567,2,   130.0,2,   35.95,2,    0.00,2,    2.48,2,   0.024,2,   0.025,2,   0.0000,2,  -999.0,9, -999.00,9,-999.0000,9, -999.00,9, -999.00,9, -999.00,  -999.0,9, -999.00,9,     -999.0,9,  -999.0,9, 20170810,      812, -32.4999,-155.6068,        0.0,1,      0.061,1,      4.699,1,      0.128,1,     -999.0,     -999.0,9,     -999.0,9,     -999.0,9,     -999.0,9,     1.8136,2,     -999.0,9
320620170703,        P06,     133,          1,         11,         11,2,20170810,       0932,   -32.5000,  -155.6065,       5142,  2620.6,   1.9001,  34.6592,2,  34.6557,2, 149.6804,2, 149.8262,2,   127.8,2,   36.05,2,    0.00,2,    2.49,2,   0.034,2,   0.036,2,   0.0000,2,  2315.5,6, 2405.02,2,   7.5662,2, -999.00,9, -999.00,9, -999.00,  -999.0,9, -999.00,9,     -999.0,9,  -999.0,9, 20170810,      818, -32.5001,-155.6065,        0.0,1,      0.061,1,      4.699,1,      0.130,1,      25.02,     -999.0,9,     -999.0,9,     -999.0,9,     -999.0,9,     1.8879,2,     -999.0,9
320620170703,        P06,     133,          1,         12,         12,2,20170810,       0932,   -32.5000,  -155.6065,       5142,  2365.0,   1.9949,  34.6505,2,  34.6455,2, 148.0131,2, 148.6142,2,   123.5,2,   36.04,2,    0.00,2,    2.49,2,   0.023,2,   0.023,2,   0.0000,2,  -999.0,9, -999.00,9,-999.0000,9, -999.00,9, -999.00,9, -999.00,  -999.0,9, -999.00,9,     -999.0,9,  -999.0,9, 20170810,      823, -32.5001,-155.6065,        0.0,1,      0.062,1,      4.699,1,      0.129,1,     -999.0,     -999.0,9,     -999.0,9,     -999.0,9,     -999.0,9,     1.9912,2,     -999.0,9
320620170703,        P06,     133,          1,         13,         13,2,20170810,       0932,   -32.5000,  -155.6065,       5142,  2110.6,   2.1517,  34.6365,2,  34.6341,2, 148.8499,3, 151.0390,2,   115.2,2,   35.75,2,    0.00,2,    2.48,2,   0.020,2,   0.021,2,   0.0000,2,  2299.3,2, 2390.28,2,   7.5658,2, -999.00,9, -999.00,9, -999.00,  -999.0,9, -999.00,9,     -999.0,9,  -999.0,9, 20170810,      829, -32.5000,-155.6066,        0.0,1,      0.061,1,      4.699,1,      0.131,1,      25.00,     -999.0,9,     -999.0,9,     -999.0,9,     -999.0,9,     2.1405,2,     -999.0,9
320620170703,        P06,     133,          1,         14,         14,2,20170810,       0932,   -32.5000,  -155.6065,       5142,  1887.1,   2.3122,  34.6189,2,  34.6154,2, 151.7982,3, 153.8771,2,   106.3,2,   35.48,2,    0.00,2,    2.46,2,   0.024,2,   0.024,2,   0.0000,2,  2291.5,2, 2382.98,2,   7.5672,2, -999.00,9, -999.00,9, -999.00,  -999.0,9, -999.00,9,     -999.0,9,  -999.0,9, 20170810,      834, -32.4999,-155.6067,        0.0,1,      0.061,1,      4.700,1,      0.131,1,      25.02,     -999.0,9,     -999.0,9,     -999.0,9,     -999.0,9,     2.3049,2,     -999.0,9
320620170703,        P06,     133,          1,         15,         15,2,20170810,       0932,   -32.5000,  -155.6065,       5142,  1684.2,   2.5269,  34.5842,2,  34.5806,2, 156.8934,3, 158.5636,2,    93.2,2,   35.16,2,    0.00,2,    2.42,2,   0.029,2,   0.026,2,   0.0000,2,  2277.0,2, 2364.24,2,   7.5672,2, -999.00,9, -999.00,9, -999.00,  -999.0,9, -999.00,9,     -999.0,9,  -999.0,9, 20170810,      839, -32.5000,-155.6066,        0.0,1,      0.061,1,      4.700,1,      0.130,1,      25.02,     -999.0,9,     -999.0,9,     -999.0,9,     -999.0,9,     2.5180,2,     -999.0,9
320620170703,        P06,     133,          1,         16,         16,2,20170810,       0932,   -32.5000,  -155.6065,       5142,  1480.8,   2.8148,  34.5186,2,  34.5044,2, 167.2723,2, 168.5206,2,    72.9,2,   34.68,2,    0.00,2,    2.38,2,   0.095,2,   0.063,2,   0.0000,2,  -999.0,9, -999.00,9,-999.0000,9, -999.00,9, -999.00,9, -999.00,  -999.0,9, -999.00,9,     -999.0,9,  -999.0,9, 20170810,      843, -32.5000,-155.6066,        0.0,1,      0.062,1,      4.700,1,      0.132,1,     -999.0,     -999.0,9,     -999.0,9,     -999.0,9,     -999.0,9,     2.8633,2,     -999.0,9
320620170703,        P06,     133,          1,         17,         17,2,20170810,       0932,   -32.5000,  -155.6065,       5142,  1348.8,   3.1491,  34.4502,2,  34.4496,2, 175.6101,2, 175.2523,2,    61.7,2,   34.26,2,    0.00,2,    2.34,2,   0.202,2,   0.118,2,   0.0000,2,  2238.2,2, 2369.10,3,   7.5731,2, -999.00,9, -999.00,9, -999.00,  -999.0,9, -999.00,9,     -999.0,9,  -999.0,9, 20170810,      847, -32.5000,-155.6066,        0.0,1,      0.060,1,      4.699,1,      0.132,1,      25.01,     -999.0,9,     -999.0,9,     -999.0,9,     -999.0,9,     3.1385,2,     -999.0,9
320620170703,        P06,     133,          1,         18,         18,2,20170810,       0932,   -32.5000,  -155.6065,       5142,  1247.7,   3.5097,  34.3988,2,  34.3929,2, 185.2923,2, 184.5248,2,    49.8,2,   33.48,2,    0.00,2,    2.29,2,   0.447,2,   0.234,2,   0.0000,2,  -999.0,9, -999.00,9,-999.0000,9, -999.00,9, -999.00,9, -999.00,  -999.0,9, -999.00,9,     -999.0,9,  -999.0,9, 20170810,      850, -32.5001,-155.6065,        0.0,1,      0.061,1,      4.699,1,      0.133,1,     -999.0,     -999.0,9,     -999.0,9,     -999.0,9,     -999.0,9,     3.5254,2,     -999.0,9
320620170703,        P06,     133,          1,         19,         19,2,20170810,       0932,   -32.5000,  -155.6065,       5142,  1145.1,   4.0538,  34.3508,2,  34.3464,2, 196.1898,2, 194.4340,2,    38.1,2,   32.19,2,    0.00,2,    2.19,2,   0.845,2,   0.398,2,   0.0850,2,  2206.3,2, 2304.34,2,   7.6026,2, -999.00,9, -999.00,9, -999.00,  -999.0,9, -999.00,9,     -999.0,9,  -999.0,9, 20170810,      853, -32.5001,-155.6065,        0.0,1,      0.060,1,      4.699,1,      0.133,1,      25.01,     -999.0,9,     -999.0,9,     -999.0,9,     -999.0,9,     4.0337,2,     -999.0,9
320620170703,        P06,     133,          1,         20,         20,2,20170810,       0932,   -32.5000,  -155.6065,       5142,  1044.2,   4.6991,  34.3226,2,  34.3195,2, 206.4901,2, 206.8712,2,    28.3,2,   30.57,2,    0.00,2,    2.06,2,   1.282,2,   0.598,2,   0.2410,2,  -999.0,9, -999.00,9,-999.0000,9, -999.00,9, -999.00,9, -999.00,  -999.0,9, -999.00,9,     -999.0,9,  -999.0,9, 20170810,      855, -32.5000,-155.6066,        0.0,1,      0.059,1,      4.698,1,      0.132,1,     -999.0,     -999.0,9,     -999.0,9,     -999.0,9,     -999.0,9,     4.6475,2,     -999.0,9
320620170703,        P06,     133,          1,         21,         21,2,20170810,       0932,   -32.5000,  -155.6065,       5142,   943.8,   5.3448,  34.3155,2,  34.3107,2, 216.9360,2, 215.9732,2,    19.7,2,   28.43,2,    0.00,2,    1.91,2,   1.889,2,   0.918,2,   0.2750,2,  2174.1,2, 2289.47,2,   7.6520,2, -999.00,9, -999.00,9, -999.00,  -999.0,9, -999.00,9,     -999.0,9,  -999.0,9, 20170810,      858, -32.5000,-155.6066,        0.0,1,      0.059,1,      4.698,1,      0.133,1,      25.03,     -999.0,9,     -999.0,9,     -999.0,9,     -999.0,9,     5.3067,2,     -999.0,9
320620170703,        P06,     133,          1,         22,         22,2,20170810,       0932,   -32.5000,  -155.6065,       5142,   842.7,   5.8640,  34.3165,2,  34.3135,2, 228.3030,2, 227.6776,2,    13.5,2,   26.30,2,    0.00,2,    1.76,2,   2.472,2,   1.209,2,   0.3390,2,  2161.2,2, 2280.41,2,   7.6767,2, -999.00,9, -999.00,9, -999.00,  -999.0,9, -999.00,9,     -999.0,9,  -999.0,9, 20170810,      901, -32.5000,-155.6065,        0.0,1,      0.059,1,      4.697,1,      0.135,1,      25.01,     -999.0,9,     -999.0,9,     -999.0,9,     -999.0,9,     5.8548,2,     -999.0,9
320620170703,        P06,     133,          1,         23,         23,2,20170810,       0932,   -32.5000,  -155.6065,       5142,   741.1,   6.3735,  34.3352,2,  34.3299,2, 235.8881,2, 236.5972,2,     9.9,2,   24.45,2,    0.00,2,    1.63,2,   3.087,2,   1.502,2,   0.6080,2,  2152.9,2, 2282.98,2,   7.6948,2, -999.00,9, -999.00,9, -999.00,  -999.0,9, -999.00,9,     -999.0,9,  -999.0,9, 20170810,      904, -32.5000,-155.6065,        0.0,1,      0.058,1,      4.697,1,      0.134,1,      25.01,     -999.0,9,     -999.0,9,     -999.0,9,     -999.0,9,     6.3346,2,     -999.0,9
320620170703,        P06,     133,          1,         24,         24,2,20170810,       0932,   -32.5000,  -155.6065,       5142,   639.6,   6.9163,  34.3728,2,  34.3700,2, 239.5684,2, 240.2582,2,     7.1,2,   22.63,2,    0.00,2,    1.52,2,   3.537,2,   1.771,2,   0.6870,2,  2145.8,2, 2278.89,2,   7.7068,2, -999.00,9, -999.00,9, -999.00,  -999.0,9, -999.00,9,     -999.0,9,  -999.0,9, 20170810,      907, -32.5000,-155.6066,        0.0,1,      0.058,1,      4.696,1,      0.135,1,      25.01,     -999.0,9,     -999.0,9,     -999.0,9,     -999.0,9,     6.9241,2,     -999.0,9
320620170703,        P06,     133,          1,         25,         25,2,20170810,       0932,   -32.5000,  -155.6065,       5142,   538.4,   7.3546,  34.4101,2,  34.4182,2, 239.8621,2, 239.7301,2,     5.6,2,   20.99,2,    0.00,2,    1.40,2,   3.687,2,   1.905,2,   1.0220,2,  2143.3,2, 2279.94,2,   7.7158,2, -999.00,9, -999.00,9, -999.00,  -999.0,9, -999.00,9,     -999.0,9,  -999.0,9, 20170810,      910, -32.5000,-155.6066,        0.0,1,      0.058,1,      4.696,1,      0.137,1,      25.02,     -999.0,9,     -999.0,9,     -999.0,9,     -999.0,9,     7.4942,2,     -999.0,9
320620170703,        P06,     133,          1,         26,         26,2,20170810,       0932,   -32.5000,  -155.6065,       5142,   437.8,   8.0327,  34.4601,2,  34.4583,2, 236.7838,2, 237.4123,2,     4.4,2,   19.21,2,    0.00,2,    1.29,2,   3.599,2,   1.883,2,   1.0180,2,  -999.0,9, -999.00,9,-999.0000,9, -999.00,9, -999.00,9, -999.00,  -999.0,9, -999.00,9,     -999.0,9,  -999.0,9, 20170810,      912, -32.5000,-155.6065,        0.0,1,      0.059,1,      4.695,1,      0.137,1,     -999.0,     -999.0,9,     -999.0,9,     -999.0,9,     -999.0,9,     8.0892,2,     -999.0,9
320620170703,        P06,     133,          1,         27,         27,2,20170810,       0932,   -32.5000,  -155.6065,       5142,   366.8,   9.0785,  34.5497,2,  34.5468,2, 225.4620,2, 225.9918,2,     3.5,2,   17.17,2,    0.00,2,    1.17,2,   3.423,2,   1.805,2,   1.0940,2,  2136.8,2, 2283.68,6,   7.7407,2, -999.00,9, -999.00,9, -999.00,  -999.0,9, -999.00,9,     -999.0,9,  -999.0,9, 20170810,      915, -32.5000,-155.6066,        0.0,1,      0.059,1,      4.694,1,      0.137,1,      25.03,     -999.0,9,     -999.0,9,     -999.0,9,     -999.0,9,     9.0925,2,     -999.0,9
320620170703,        P06,     133,          1,         28,         28,2,20170810,       0932,   -32.5000,  -155.6065,       5142,   317.5,  10.2051,  34.6696,2,  34.6918,2, 218.8623,2, 219.6860,2,     2.8,2,   14.54,2,    0.00,2,    1.01,2,   3.257,2,   1.742,2,   1.0370,2,  -999.0,9, -999.00,9,-999.0000,9, -999.00,9, -999.00,9, -999.00,  -999.0,9, -999.00,9,     -999.0,9,  -999.0,9, 20170810,      917, -32.5000,-155.6066,        0.0,1,      0.059,1,      4.692,1,      0.136,1,     -999.0,     -999.0,9,     -999.0,9,     -999.0,9,     -999.0,9,    10.2860,2,     -999.0,9
320620170703,        P06,     133,          1,         29,         29,2,20170810,       0932,   -32.5000,  -155.6065,       5142,   267.4,  11.7496,  34.8498,2,  34.8611,2, 215.1170,2, 213.9691,2,     2.1,2,   11.21,2,    0.00,2,    0.80,2,   2.938,2,   1.621,2,   1.1790,2,  2123.7,2, 2298.55,2,   7.7971,2, -999.00,9, -999.00,9, -999.00,  -999.0,9, -999.00,9,     -999.0,9,  -999.0,9, 20170810,      919, -32.5000,-155.6066,        0.0,1,      0.060,1,      4.689,1,      0.134,1,      25.02,     -999.0,9,     -999.0,9,     -999.0,9,     -999.0,9,    11.8165,2,     -999.0,9
320620170703,        P06,     133,          1,         30,         30,2,20170810,       0932,   -32.5000,  -155.6065,       5142,   216.0,  13.0237,  35.0156,2,  35.0545,2, 216.6508,2, 216.3693,2,     1.3,2,    7.48,2,    0.00,2,    0.58,2,   2.798,2,   1.576,2,   1.2700,2,  2111.3,2, 2305.17,2,   7.8390,2, -999.00,9, -999.00,9, -999.00,  -999.0,9, -999.00,9,     -999.0,9,  -999.0,9, 20170810,      921, -32.5000,-155.6065,        0.0,1,      0.061,1,      4.688,1,      0.134,1,      25.01,     -999.0,9,     -999.0,9,     -999.0,9,     -999.0,9,    13.2736,2,     -999.0,9
320620170703,        P06,     133,          1,         31,         31,2,20170810,       0932,   -32.5000,  -155.6065,       5142,   166.5,  14.4160,  35.2033,2,  35.2121,2, 221.7865,2, 220.0602,2,     0.7,2,    4.72,2,    0.02,2,    0.41,2,   2.568,2,   1.489,2,   1.2910,2,  2099.8,2, 2313.02,2,   7.8760,2, -999.00,9, -999.00,9, -999.00,  -999.0,9, -999.00,9,     -999.0,9,  -999.0,9, 20170810,      924, -32.4999,-155.6067,        0.0,1,      0.069,1,      4.684,1,      0.136,1,      25.02,     -999.0,9,     -999.0,9,     -999.0,9,     -999.0,9,    14.5626,2,     -999.0,9
320620170703,        P06,     133,          1,         32,         32,2,20170810,       0932,   -32.5000,  -155.6065,       5142,   116.5,  15.9528,  35.3834,2,  35.4594,2, 238.8711,2, 239.8711,2,     0.1,2,    0.21,2,    0.03,2,    0.11,2,   2.360,2,   1.351,2,   1.3900,2,  -999.0,9, -999.00,9,-999.0000,9, -999.00,9, -999.00,9, -999.00,  -999.0,9, -999.00,9,     -999.0,9,  -999.0,9, 20170810,      926, -32.4999,-155.6068,        0.0,1,      0.104,1,      4.662,1,      0.153,1,     -999.0,     -999.0,9,     -999.0,9,     -999.0,9,     -999.0,9,    16.4669,2,     -999.0,9