BOTTLE,20230922CCHSIOCBG
EXPOCODE,SECT_ID,STNNBR,CASTNO,SAMPNO,BTLNBR,BTLNBR_FLAG_W,DATE,TIME,LATITUDE,LONGITUDE,DEPTH,CTDPRS,CTDTMP,CTDSAL,CTDSAL_FLAG_W,SALNTY,SALNTY_FLAG_W,CTDOXY,CTDOXY_FLAG_W,OXYGEN,OXYGEN_FLAG_W,SILCAT,SILCAT_FLAG_W,NITRAT,NITRAT_FLAG_W,NITRIT,NITRIT_FLAG_W,PHSPHT,PHSPHT_FLAG_W,CFC-11,CFC-11_FLAG_W,CFC-12,CFC-12_FLAG_W,SF6,SF6_FLAG_W,TCARBN,TCARBN_FLAG_W,ALKALI,ALKALI_FLAG_W,PH_TOT,PH_TOT_FLAG_W,DELC13,DELC13_FLAG_W,DELC14,DELC14_FLAG_W,C14ERR,DOC,DOC_FLAG_W,TDN,TDN_FLAG_W,TON,TON_FLAG_W,D15N_NO3,D15N_NO3_FLAG_W,BTL_DATE,BTL_TIME,BTL_LAT,BTL_LON,CTDRINKO,CTDRINKO_FLAG_W,CTDFLUOR,CTDFLUOR_FLAG_W,CTDXMISS,CTDXMISS_FLAG_W,CTDBACKSCATTER,CTDBACKSCATTER_FLAG_W,PH_TMP,D18O_NO3,D18O_NO3_FLAG_W,DOP,DOP_FLAG_W,HPLC,HPLC_FLAG_W,POC,POC_FLAG_W,REFTMP,REFTMP_FLAG_W,TDP,TDP_FLAG_W
,,,,,,,,,,,METERS,DBAR,ITS-90,PSS-78,,PSS-78,,UMOL/KG,,UMOL/KG,,UMOL/KG,,UMOL/KG,,UMOL/KG,,UMOL/KG,,PMOL/KG,,PMOL/KG,,FMOL/KG,,UMOL/KG,,UMOL/KG,,,,/MILLE,,/MILLE,,/MILLE,UMOL/KG,,UMOL/KG,,UMOL/KG,,/MILLE,,,,,,VOLTS,,VOLTS,,VOLTS,,VOLTS,,DEGC,/MILLE,,UMOL/KG,,,,UG/L,,ITS-90,,UMOL/KG,
320620170703,        P06,     141,          1,         33,         33,2,20170812,       2340,   -32.5000,  -150.2485,       5155,    74.9,  16.7418,  35.4911,2,  35.4843,2, 237.3747,2, 237.1789,2,    -0.1,2,    0.17,2,    0.03,2,    0.10,2,   2.398,2,   1.318,2,   1.2180,2,  2071.4,2, 2330.89,2,   7.9635,2, -999.00,9, -999.00,9, -999.00,  -999.0,9, -999.00,9,     -999.0,9,  -999.0,1, 20170812,     2337, -32.5002,-150.2484,        0.0,1,      0.145,1,      4.643,1,      0.176,1,      25.02,     -999.0,1,     -999.0,1,     -999.0,9,     -999.0,9,    16.7245,2,     -999.0,9
320620170703,        P06,     141,          1,         34,         34,2,20170812,       2340,   -32.5000,  -150.2485,       5155,    49.7,  16.7396,  35.4909,2,  35.4896,2, 237.6237,2, 237.2406,2,    -0.1,2,    0.16,2,    0.03,2,    0.09,2,   2.398,2,   1.332,2,   1.6960,4,  -999.0,9, -999.00,9,-999.0000,9, -999.00,9, -999.00,9, -999.00,  -999.0,9, -999.00,9,     -999.0,9,  -999.0,1, 20170812,     2338, -32.5002,-150.2484,        0.0,1,      0.143,1,      4.643,1,      0.174,1,     -999.0,     -999.0,1,     -999.0,1,     -999.0,9,     -999.0,9,    16.7310,2,     -999.0,9
320620170703,        P06,     141,          1,         35,         35,2,20170812,       2340,   -32.5000,  -150.2485,       5155,    26.0,  16.7313,  35.4911,2,  35.4876,2, 237.8469,2, 237.5293,2,     0.0,2,    0.16,2,    0.03,2,    0.11,2,   2.386,2,   1.328,2,   1.2840,2,  2069.4,2, 2329.38,2,   7.9647,2, -999.00,9, -999.00,9, -999.00,  -999.0,9, -999.00,9,     -999.0,9,  -999.0,1, 20170812,     2340, -32.5001,-150.2485,        0.0,1,      0.134,1,      4.643,1,      0.170,1,      25.02,     -999.0,1,     -999.0,1,     -999.0,9,     -999.0,9,    16.7406,2,     -999.0,9
320620170703,        P06,     141,          1,         36,         36,2,20170812,       2340,   -32.5000,  -150.2485,       5155,     2.4,  16.7347,  35.4908,2,  35.4872,2, 237.7394,2, 237.4342,2,     0.0,2,    0.16,2,    0.03,2,    0.11,2,   2.409,2,   1.338,2,   1.5400,2,  2067.6,6, 2330.63,2,   7.9643,2,    0.80,2,   52.63,2,    2.20,  -999.0,9, -999.00,9,     -999.0,9,  -999.0,1, 20170812,     2340, -32.5000,-150.2485,        0.0,1,      0.111,1,      4.642,1,      0.165,1,      25.03,     -999.0,1,     -999.0,1,     -999.0,9,     -999.0,9,    14.2789,2,       0.31,2