BOTTLE,20230922CCHSIOCBG
EXPOCODE,SECT_ID,STNNBR,CASTNO,SAMPNO,BTLNBR,BTLNBR_FLAG_W,DATE,TIME,LATITUDE,LONGITUDE,DEPTH,CTDPRS,CTDTMP,CTDSAL,CTDSAL_FLAG_W,SALNTY,SALNTY_FLAG_W,CTDOXY,CTDOXY_FLAG_W,OXYGEN,OXYGEN_FLAG_W,SILCAT,SILCAT_FLAG_W,NITRAT,NITRAT_FLAG_W,NITRIT,NITRIT_FLAG_W,PHSPHT,PHSPHT_FLAG_W,CFC-11,CFC-11_FLAG_W,CFC-12,CFC-12_FLAG_W,SF6,SF6_FLAG_W,TCARBN,TCARBN_FLAG_W,ALKALI,ALKALI_FLAG_W,PH_TOT,PH_TOT_FLAG_W,DELC13,DELC13_FLAG_W,DELC14,DELC14_FLAG_W,C14ERR,DOC,DOC_FLAG_W,TDN,TDN_FLAG_W,TON,TON_FLAG_W,D15N_NO3,D15N_NO3_FLAG_W,BTL_DATE,BTL_TIME,BTL_LAT,BTL_LON,CTDRINKO,CTDRINKO_FLAG_W,CTDFLUOR,CTDFLUOR_FLAG_W,CTDXMISS,CTDXMISS_FLAG_W,CTDBACKSCATTER,CTDBACKSCATTER_FLAG_W,PH_TMP,D18O_NO3,D18O_NO3_FLAG_W,DOP,DOP_FLAG_W,HPLC,HPLC_FLAG_W,POC,POC_FLAG_W,REFTMP,REFTMP_FLAG_W,TDP,TDP_FLAG_W
,,,,,,,,,,,METERS,DBAR,ITS-90,PSS-78,,PSS-78,,UMOL/KG,,UMOL/KG,,UMOL/KG,,UMOL/KG,,UMOL/KG,,UMOL/KG,,PMOL/KG,,PMOL/KG,,FMOL/KG,,UMOL/KG,,UMOL/KG,,,,/MILLE,,/MILLE,,/MILLE,UMOL/KG,,UMOL/KG,,UMOL/KG,,/MILLE,,,,,,VOLTS,,VOLTS,,VOLTS,,VOLTS,,DEGC,/MILLE,,UMOL/KG,,,,UG/L,,ITS-90,,UMOL/KG,
320620170703,        P06,      15,          1,          1,         37,2,20170707,       1748,   -30.0797,   156.2325,       4743,  4818.3,   1.2368,  34.7135,2,  34.7146,2, 195.8824,2, 195.9184,2,   118.3,2,   32.56,2,    0.00,2,    2.26,2,   0.084,4,   0.030,2,   0.0000,2,  2278.3,6, 2381.93,2,   7.6162,4, -999.00,9, -999.00,9, -999.00,  -999.0,9, -999.00,9,     -999.0,9,  -999.0,9, 20170707,     1537, -30.0795, 156.2319,        0.0,1,      0.061,1,      4.693,1,      0.159,1,      25.01,     -999.0,9,     -999.0,9,     -999.0,9,     -999.0,9,     1.2372,2,     -999.0,9
320620170703,        P06,      15,          1,          2,          2,2,20170707,       1748,   -30.0797,   156.2325,       4743,  4754.6,   1.2294,  34.7137,2,  34.7134,2, 195.8824,2, 196.3490,2,   118.4,2,   32.55,2,    0.00,2,    2.25,2,   0.050,2,   0.024,2,   0.0000,2,  -999.0,9, -999.00,9,-999.0000,9, -999.00,9, -999.00,9, -999.00,  -999.0,9, -999.00,9,     -999.0,9,  -999.0,9, 20170707,     1539, -30.0795, 156.2319,        0.0,1,      0.062,1,      4.694,1,      0.160,1,     -999.0,     -999.0,9,     -999.0,9,     -999.0,9,     -999.0,9,     1.2295,2,     -999.0,9
320620170703,        P06,      15,          1,          3,         38,2,20170707,       1748,   -30.0797,   156.2325,       4743,  4682.0,   1.2213,  34.7137,2,  34.7138,2, 195.8824,2, 195.6840,2,   118.2,2,   32.56,2,    0.00,2,    2.25,2,   0.045,2,   0.028,2,   0.0000,2,  2277.8,2, 2381.83,2,   7.6168,2, -999.00,9, -999.00,9, -999.00,  -999.0,9, -999.00,9,     -999.0,9,  -999.0,9, 20170707,     1542, -30.0796, 156.2320,        0.0,1,      0.061,1,      4.694,1,      0.157,1,      25.02,     -999.0,9,     -999.0,9,     -999.0,9,     -999.0,9,     1.2216,2,     -999.0,9
320620170703,        P06,      15,          1,          4,          4,2,20170707,       1748,   -30.0797,   156.2325,       4743,  4373.5,   1.1950,  34.7141,2,  34.7134,2, 195.8824,2, 195.9825,2,   117.9,2,   32.49,2,    0.00,2,    2.25,2,-999.000,9,-999.000,9,-999.0000,9,  -999.0,9, -999.00,9,-999.0000,9, -999.00,9, -999.00,9, -999.00,  -999.0,9, -999.00,9,     -999.0,9,  -999.0,9, 20170707,     1549, -30.0796, 156.2319,        0.0,1,      0.061,1,      4.701,1,      0.144,1,     -999.0,     -999.0,9,     -999.0,9,     -999.0,9,     -999.0,9,     1.1954,2,     -999.0,9
320620170703,        P06,      15,          1,          5,         39,2,20170707,       1748,   -30.0797,   156.2325,       4743,  4066.5,   1.1883,  34.7149,2,  34.7142,2, 195.8824,2, 195.6107,2,   117.1,2,   32.43,2,    0.00,2,    2.24,2,   0.035,2,   0.020,2,   0.0000,2,  -999.0,9, -999.00,9,-999.0000,9, -999.00,9, -999.00,9, -999.00,  -999.0,9, -999.00,9,     -999.0,9,  -999.0,9, 20170707,     1557, -30.0795, 156.2318,        0.0,1,      0.060,1,      4.705,1,      0.137,1,     -999.0,     -999.0,9,     -999.0,9,     -999.0,9,     -999.0,9,     1.1873,2,     -999.0,9
320620170703,        P06,      15,          1,          6,          6,2,20170707,       1748,   -30.0797,   156.2325,       4743,  3758.4,   1.1988,  34.7160,2,  34.7162,2, 195.3500,2, 195.2433,2,   116.3,2,   32.35,2,    0.00,2,    2.25,2,-999.000,9,-999.000,9,-999.0000,9,  -999.0,9, -999.00,9,-999.0000,9, -999.00,9, -999.00,9, -999.00,  -999.0,9, -999.00,9,     -999.0,9,  -999.0,9, 20170707,     1603, -30.0795, 156.2318,        0.0,1,      0.061,1,      4.707,1,      0.137,1,     -999.0,     -999.0,9,     -999.0,9,     -999.0,9,     -999.0,9,     1.1971,2,     -999.0,9
320620170703,        P06,      15,          1,          7,         40,2,20170707,       1748,   -30.0797,   156.2325,       4743,  3452.2,   1.2882,  34.7184,2,  34.7182,2, 193.9040,2, 193.6725,2,   113.6,2,   32.24,2,    0.00,2,    2.23,2,   0.967,4,   0.679,4,   0.0000,4,  2273.8,2, 2374.08,2,   7.6113,2, -999.00,9, -999.00,9, -999.00,  -999.0,9, -999.00,9,     -999.0,9,  -999.0,9, 20170707,     1610, -30.0798, 156.2321,        0.0,1,      0.061,1,      4.707,1,      0.134,1,      25.01,     -999.0,9,     -999.0,9,     -999.0,9,     -999.0,9,     1.2786,2,     -999.0,9
320620170703,        P06,      15,          1,          8,          8,2,20170707,       1748,   -30.0797,   156.2325,       4743,  3144.7,   1.4826,  34.7219,2,  34.7199,2, 190.3231,2, 190.6913,2,   108.7,2,   32.08,2,    0.00,2,    2.23,2,-999.000,9,-999.000,9,-999.0000,9,  -999.0,9, -999.00,9,-999.0000,9, -999.00,9, -999.00,9, -999.00,  -999.0,9, -999.00,9,     -999.0,9,  -999.0,9, 20170707,     1616, -30.0797, 156.2320,        0.0,1,      0.061,1,      4.708,1,      0.134,1,     -999.0,     -999.0,9,     -999.0,9,     -999.0,9,     -999.0,9,     1.4703,2,     -999.0,9
320620170703,        P06,      15,          1,          9,         41,2,20170707,       1748,   -30.0797,   156.2325,       4743,  2873.1,   1.6528,  34.7218,2,  34.7211,2, 186.8315,2, 186.6354,2,   104.0,2,   31.95,2,    0.00,2,    2.23,2,   0.138,2,   0.014,2,   0.0000,2,  -999.0,9, -999.00,9,-999.0000,9, -999.00,9, -999.00,9, -999.00,  -999.0,9, -999.00,9,     -999.0,9,  -999.0,9, 20170707,     1622, -30.0798, 156.2321,        0.0,1,      0.061,1,      4.708,1,      0.137,1,     -999.0,     -999.0,9,     -999.0,9,     -999.0,9,     -999.0,9,     1.6557,2,     -999.0,9
320620170703,        P06,      15,          1,         10,         10,2,20170707,       1748,   -30.0797,   156.2325,       4743,  2617.3,   1.9145,  34.7131,2,  34.7105,2, 180.5058,2, 181.0705,2,    98.3,2,   32.14,2,    0.00,2,    2.23,2,-999.000,9,-999.000,9,-999.0000,9,  -999.0,9, -999.00,9,-999.0000,9, -999.00,9, -999.00,9, -999.00,  -999.0,9, -999.00,9,     -999.0,9,  -999.0,9, 20170707,     1627, -30.0800, 156.2323,        0.0,1,      0.061,1,      4.707,1,      0.141,1,     -999.0,     -999.0,9,     -999.0,9,     -999.0,9,     -999.0,9,     1.9281,2,     -999.0,9
320620170703,        P06,      15,          1,         11,         42,2,20170707,       1748,   -30.0797,   156.2325,       4743,  2364.6,   2.1325,  34.6915,2,  34.6891,2, 172.3757,2, 171.7971,2,    95.9,2,   32.76,2,    0.00,2,    2.30,2,   0.040,2,   0.014,2,   0.0000,2,  2269.4,2, 2357.27,6,   7.5873,2, -999.00,9, -999.00,9, -999.00,  -999.0,9, -999.00,9,     -999.0,9,  -999.0,9, 20170707,     1633, -30.0800, 156.2323,        0.0,1,      0.062,1,      4.707,1,      0.138,1,      25.02,     -999.0,9,     -999.0,9,     -999.0,9,     -999.0,9,     2.1486,2,     -999.0,9
320620170703,        P06,      15,          1,         12,         12,2,20170707,       1748,   -30.0797,   156.2325,       4743,  2109.8,   2.3670,  34.6579,2,  34.6590,2, 162.5049,2, 161.9428,2,    97.7,2,   33.63,2,    0.00,2,    2.37,2,-999.000,9,-999.000,9,-999.0000,9,  -999.0,9, -999.00,9,-999.0000,9, -999.00,9, -999.00,9, -999.00,  -999.0,9, -999.00,9,     -999.0,9,  -999.0,9, 20170707,     1639, -30.0798, 156.2322,        0.0,1,      0.061,1,      4.707,1,      0.137,1,     -999.0,     -999.0,9,     -999.0,9,     -999.0,9,     -999.0,9,     2.3492,2,     -999.0,9
320620170703,        P06,      15,          1,         13,         43,2,20170707,       1748,   -30.0797,   156.2325,       4743,  1884.9,   2.6176,  34.6255,2,  34.6258,2, 153.6360,2, 154.2855,2,    96.5,2,   34.36,2,    0.00,2,    2.43,2,   0.033,2,   0.019,2,   0.0000,2,  2279.4,2, 2366.44,2,   7.5697,2, -999.00,9, -999.00,9, -999.00,  -999.0,9, -999.00,9,     -999.0,9,  -999.0,9, 20170707,     1644, -30.0797, 156.2321,        0.0,1,      0.061,1,      4.707,1,      0.140,1,      25.01,     -999.0,9,     -999.0,9,     -999.0,9,     -999.0,9,     2.6183,2,     -999.0,9
320620170703,        P06,      15,          1,         14,         14,2,20170707,       1748,   -30.0797,   156.2325,       4743,  1683.4,   2.9344,  34.5927,2,  34.5897,2, 150.9252,2, 150.8680,2,    92.8,2,   35.07,2,    0.00,2,    2.44,2,-999.000,9,-999.000,9,-999.0000,9,  -999.0,9, -999.00,9,-999.0000,9, -999.00,9, -999.00,9, -999.00,  -999.0,9, -999.00,9,     -999.0,9,  -999.0,9, 20170707,     1649, -30.0797, 156.2321,        0.0,1,      0.062,1,      4.707,1,      0.141,1,     -999.0,     -999.0,9,     -999.0,9,     -999.0,9,     -999.0,9,     2.9600,2,     -999.0,9
320620170703,        P06,      15,          1,         15,         15,2,20170707,       1748,   -30.0797,   156.2325,       4743,  1550.9,   3.2528,  34.5630,2,  34.5641,2, 152.9911,2, 152.9068,2,    86.2,2,   34.70,2,    0.00,2,    2.42,2,-999.000,9,-999.000,9,-999.0000,9,  2267.9,2, 2356.20,2,   7.5733,2, -999.00,9, -999.00,9, -999.00,  -999.0,9, -999.00,9,     -999.0,9,  -999.0,9, 20170707,     1652, -30.0798, 156.2321,        0.0,1,      0.061,1,      4.707,1,      0.142,1,      25.01,     -999.0,9,     -999.0,9,     -999.0,9,     -999.0,9,     3.2307,2,     -999.0,9
320620170703,        P06,      15,          1,         16,         16,2,20170707,       1748,   -30.0797,   156.2325,       4743,  1450.2,   3.5396,  34.5399,2,  34.5386,2, 158.1218,2, 158.0886,2,    77.4,2,   33.96,2,    0.00,2,    2.36,2,-999.000,9,-999.000,9,-999.0000,9,  -999.0,9, -999.00,9,-999.0000,9, -999.00,9, -999.00,9, -999.00,  -999.0,9, -999.00,9,     -999.0,9,  -999.0,9, 20170707,     1655, -30.0796, 156.2320,        0.0,1,      0.061,1,      4.707,1,      0.143,1,     -999.0,     -999.0,9,     -999.0,9,     -999.0,9,     -999.0,9,     3.5418,2,     -999.0,9
320620170703,        P06,      15,          1,         17,         17,2,20170707,       1748,   -30.0797,   156.2325,       4743,  1347.5,   3.9279,  34.5106,2,  34.5091,2, 164.3219,2, 164.5874,2,    67.6,2,   33.11,2,    0.00,2,    2.28,2,-999.000,9,-999.000,9,-999.0000,9,  2242.7,2, 2335.44,2,   7.5927,2, -999.00,9, -999.00,9, -999.00,  -999.0,9, -999.00,9,     -999.0,9,  -999.0,9, 20170707,     1658, -30.0794, 156.2317,        0.0,1,      0.061,1,      4.707,1,      0.141,1,      25.01,     -999.0,9,     -999.0,9,     -999.0,9,     -999.0,9,     3.9324,2,     -999.0,9
320620170703,        P06,      15,          1,         18,         18,2,20170707,       1748,   -30.0797,   156.2325,       4743,  1247.4,   4.3849,  34.4825,2,  34.4832,2, 172.0810,2, 172.2697,2,    56.8,2,   32.14,2,    0.00,2,    2.20,2,-999.000,9,-999.000,9,-999.0000,9,  -999.0,9, -999.00,9,-999.0000,9, -999.00,9, -999.00,9, -999.00,  -999.0,9, -999.00,9,     -999.0,9,  -999.0,9, 20170707,     1701, -30.0793, 156.2314,        0.0,1,      0.061,1,      4.707,1,      0.145,1,     -999.0,     -999.0,9,     -999.0,9,     -999.0,9,     -999.0,9,     4.3636,2,     -999.0,9
320620170703,        P06,      15,          1,         19,         19,2,20170707,       1748,   -30.0797,   156.2325,       4743,  1144.6,   4.8869,  34.4604,2,  34.4606,2, 178.6401,2, 178.7817,2,    46.3,2,   31.05,2,    0.00,2,    2.10,2,-999.000,9,-999.000,9,-999.0000,9,  2213.4,2, 2313.25,2,   7.6179,2, -999.00,9, -999.00,9, -999.00,  -999.0,9, -999.00,9,     -999.0,9,  -999.0,9, 20170707,     1704, -30.0793, 156.2313,        0.0,1,      0.061,1,      4.707,1,      0.142,1,      25.01,     -999.0,9,     -999.0,9,     -999.0,9,     -999.0,9,     4.8495,2,     -999.0,9
320620170703,        P06,      15,          1,         20,         20,2,20170707,       1748,   -30.0797,   156.2325,       4743,  1044.7,   5.5900,  34.4453,2,  34.4440,2, 187.8963,2, 188.0016,2,    33.6,2,   29.27,2,    0.00,2,    1.98,2,-999.000,9,-999.000,9,-999.0000,9,  -999.0,9, -999.00,9,-999.0000,9, -999.00,9, -999.00,9, -999.00,  -999.0,9, -999.00,9,     -999.0,9,  -999.0,9, 20170707,     1707, -30.0793, 156.2314,        0.0,1,      0.059,1,      4.706,1,      0.141,1,     -999.0,     -999.0,9,     -999.0,9,     -999.0,9,     -999.0,9,     5.5728,2,     -999.0,9
320620170703,        P06,      15,          1,         21,         21,2,20170707,       1748,   -30.0797,   156.2325,       4743,   943.8,   6.1506,  34.4522,2,  34.4498,2, 192.5024,2, 192.4101,2,    26.5,2,   27.84,2,    0.00,2,    1.89,2,-999.000,9,-999.000,9,-999.0000,9,  -999.0,9, -999.00,9,-999.0000,9, -999.00,9, -999.00,9, -999.00,  -999.0,9, -999.00,9,     -999.0,9,  -999.0,9, 20170707,     1710, -30.0793, 156.2316,        0.0,1,      0.060,1,      4.706,1,      0.139,1,     -999.0,     -999.0,9,     -999.0,9,     -999.0,9,     -999.0,9,     6.1366,2,     -999.0,9
320620170703,        P06,      15,          1,         22,         22,2,20170707,       1748,   -30.0797,   156.2325,       4743,   842.3,   6.9586,  34.4711,2,  34.4714,2, 200.8471,2, 199.6427,2,    18.4,2,   25.69,2,    0.00,2,    1.72,2,-999.000,9,-999.000,9,-999.0000,9,  2167.8,2, 2287.43,2,   7.6748,2, -999.00,9, -999.00,9, -999.00,  -999.0,9, -999.00,9,     -999.0,9,  -999.0,9, 20170707,     1713, -30.0794, 156.2318,        0.0,1,      0.059,1,      4.706,1,      0.145,1,      25.01,     -999.0,9,     -999.0,9,     -999.0,9,     -999.0,9,     6.9103,2,     -999.0,9
320620170703,        P06,      15,          1,         23,         23,2,20170707,       1748,   -30.0797,   156.2325,       4743,   741.2,   7.9883,  34.5502,2,  34.5441,2, 201.5405,2, 201.5171,2,    12.5,2,   23.14,2,    0.00,2,    1.54,2,-999.000,9,-999.000,9,-999.0000,9,  -999.0,9, -999.00,9,-999.0000,9, -999.00,9, -999.00,9, -999.00,  -999.0,9, -999.00,9,     -999.0,9,  -999.0,9, 20170707,     1716, -30.0794, 156.2319,        0.0,1,      0.059,1,      4.704,1,      0.140,1,     -999.0,     -999.0,9,     -999.0,9,     -999.0,9,     -999.0,9,     7.9511,2,     -999.0,9
320620170703,        P06,      15,          1,         24,         24,2,20170707,       1748,   -30.0797,   156.2325,       4743,   640.1,   9.5111,  34.7178,2,  34.7129,2, 199.4016,2, 199.9085,2,     8.1,2,   19.81,2,    0.00,2,    1.32,2,-999.000,9,-999.000,9,-999.0000,9,  -999.0,9, -999.00,9,-999.0000,9, -999.00,9, -999.00,9, -999.00,  -999.0,9, -999.00,9,     -999.0,9,  -999.0,9, 20170707,     1719, -30.0794, 156.2320,        0.0,1,      0.059,1,      4.702,1,      0.142,1,     -999.0,     -999.0,9,     -999.0,9,     -999.0,9,     -999.0,9,     9.5043,2,     -999.0,9
320620170703,        P06,      15,          1,         25,         25,2,20170707,       1748,   -30.0797,   156.2325,       4743,   540.8,  11.1420,  34.8982,2,  34.8792,2, 194.3880,2, 195.1633,2,     6.0,2,   16.68,2,    0.00,2,    1.11,2,-999.000,9,-999.000,9,-999.0000,9,  2138.5,2, 2296.68,2,   7.7623,2, -999.00,9, -999.00,9, -999.00,  -999.0,9, -999.00,9,     -999.0,9,  -999.0,9, 20170707,     1722, -30.0795, 156.2321,        0.0,1,      0.060,1,      4.700,1,      0.143,1,      25.01,     -999.0,9,     -999.0,9,     -999.0,9,     -999.0,9,    11.0413,2,     -999.0,9
320620170703,        P06,      15,          1,         26,         26,2,20170707,       1748,   -30.0797,   156.2325,       4743,   438.7,  13.7310,  35.2207,2,  35.1764,2, 195.5641,2, 195.7693,2,     3.5,2,   11.90,2,    0.00,2,    0.81,2,-999.000,9,-999.000,9,-999.0000,9,  -999.0,9, -999.00,9,-999.0000,9, -999.00,9, -999.00,9, -999.00,  -999.0,9, -999.00,9,     -999.0,9,  -999.0,9, 20170707,     1725, -30.0795, 156.2322,        0.0,1,      0.059,1,      4.696,1,      0.147,1,     -999.0,     -999.0,9,     -999.0,9,     -999.0,9,     -999.0,9,    13.4044,2,     -999.0,9
320620170703,        P06,      15,          1,         27,         27,2,20170707,       1748,   -30.0797,   156.2325,       4743,   367.7,  15.4509,  35.3370,2,  35.2972,2, 185.1458,2, 185.0731,2,     2.9,2,   10.22,2,    0.00,2,    0.71,2,-999.000,9,-999.000,9,-999.0000,9,  2112.6,2, 2312.38,2,   7.8537,2, -999.00,9, -999.00,9, -999.00,  -999.0,9, -999.00,9,     -999.0,9,  -999.0,9, 20170707,     1727, -30.0795, 156.2323,        0.0,1,      0.059,1,      4.693,1,      0.154,1,      25.01,     -999.0,9,     -999.0,9,     -999.0,9,     -999.0,9,    15.0393,2,     -999.0,9
320620170703,        P06,      15,          1,         28,         28,2,20170707,       1748,   -30.0797,   156.2325,       4743,   316.2,  16.5890,  35.4588,2,  35.4137,2, 184.2496,2, 183.0767,2,     2.2,2,    8.55,2,    0.00,2,    0.61,2,-999.000,9,-999.000,9,-999.0000,9,  -999.0,9, -999.00,9,-999.0000,9, -999.00,9, -999.00,9, -999.00,  -999.0,9, -999.00,9,     -999.0,9,  -999.0,9, 20170707,     1730, -30.0796, 156.2324,        0.0,1,      0.060,1,      4.693,1,      0.145,1,     -999.0,     -999.0,9,     -999.0,9,     -999.0,9,     -999.0,9,    16.4269,2,     -999.0,9
320620170703,        P06,      15,          1,         29,         29,2,20170707,       1748,   -30.0797,   156.2325,       4743,   266.7,  18.1892,  35.6165,2,  35.5805,2, 189.2736,3, 191.1999,2,     1.2,2,    5.92,2,    0.00,2,    0.43,2,-999.000,9,-999.000,9,-999.0000,9,  2086.9,2, 2327.43,2,   7.9273,2, -999.00,9, -999.00,9, -999.00,  -999.0,9, -999.00,9,     -999.0,9,  -999.0,9, 20170707,     1732, -30.0797, 156.2325,        0.0,1,      0.059,1,      4.691,1,      0.147,1,      25.01,     -999.0,9,     -999.0,9,     -999.0,9,     -999.0,9,    17.7958,2,     -999.0,9
320620170703,        P06,      15,          1,         30,         30,2,20170707,       1748,   -30.0797,   156.2325,       4743,   216.6,  19.0195,  35.6676,2,  35.6676,2, 187.9483,3, 191.7799,2,     0.9,2,    4.61,2,    0.02,2,    0.35,2,-999.000,9,-999.000,9,-999.0000,9,  -999.0,9, -999.00,9,-999.0000,9, -999.00,9, -999.00,9, -999.00,  -999.0,9, -999.00,9,     -999.0,9,  -999.0,9, 20170707,     1735, -30.0797, 156.2326,        0.0,1,      0.060,1,      4.689,1,      0.149,1,     -999.0,     -999.0,9,     -999.0,9,     -999.0,9,     -999.0,9,    18.9191,2,     -999.0,9
320620170703,        P06,      15,          1,         31,         31,2,20170707,       1748,   -30.0797,   156.2325,       4743,   166.4,  20.3353,  35.7954,2,  35.7598,2, 209.2324,3, 203.1731,2,     0.4,2,    2.36,2,    0.11,2,    0.21,2,-999.000,9,-999.000,9,-999.0000,9,  2061.0,2, 2339.76,2,   7.9923,2, -999.00,9, -999.00,9, -999.00,  -999.0,9, -999.00,9,     -999.0,9,  -999.0,9, 20170707,     1737, -30.0798, 156.2326,        0.0,1,      0.142,1,      4.645,1,      0.194,1,      25.00,     -999.0,9,     -999.0,9,     -999.0,9,     -999.0,9,    19.9916,2,     -999.0,9
320620170703,        P06,      15,          1,         32,         32,2,20170707,       1748,   -30.0797,   156.2325,       4743,   116.7,  20.3472,  35.7969,2,  35.8011,2, 217.1457,2, 217.7528,2,     0.2,2,    0.54,2,    0.30,2,    0.11,2,-999.000,9,-999.000,9,-999.0000,9,  2048.0,2, 2340.63,2,   8.0223,2, -999.00,9, -999.00,9, -999.00,  -999.0,9, -999.00,9,     -999.0,9,  -999.0,9, 20170707,     1739, -30.0798, 156.2326,        0.0,1,      0.153,1,      4.642,1,      0.196,1,      24.99,     -999.0,9,     -999.0,9,     -999.0,9,     -999.0,9,    20.3461,2,     -999.0,9