BOTTLE,20230922CCHSIOCBG
EXPOCODE,SECT_ID,STNNBR,CASTNO,SAMPNO,BTLNBR,BTLNBR_FLAG_W,DATE,TIME,LATITUDE,LONGITUDE,DEPTH,CTDPRS,CTDTMP,CTDSAL,CTDSAL_FLAG_W,SALNTY,SALNTY_FLAG_W,CTDOXY,CTDOXY_FLAG_W,OXYGEN,OXYGEN_FLAG_W,SILCAT,SILCAT_FLAG_W,NITRAT,NITRAT_FLAG_W,NITRIT,NITRIT_FLAG_W,PHSPHT,PHSPHT_FLAG_W,CFC-11,CFC-11_FLAG_W,CFC-12,CFC-12_FLAG_W,SF6,SF6_FLAG_W,TCARBN,TCARBN_FLAG_W,ALKALI,ALKALI_FLAG_W,PH_TOT,PH_TOT_FLAG_W,DELC13,DELC13_FLAG_W,DELC14,DELC14_FLAG_W,C14ERR,DOC,DOC_FLAG_W,TDN,TDN_FLAG_W,TON,TON_FLAG_W,D15N_NO3,D15N_NO3_FLAG_W,BTL_DATE,BTL_TIME,BTL_LAT,BTL_LON,CTDRINKO,CTDRINKO_FLAG_W,CTDFLUOR,CTDFLUOR_FLAG_W,CTDXMISS,CTDXMISS_FLAG_W,CTDBACKSCATTER,CTDBACKSCATTER_FLAG_W,PH_TMP,D18O_NO3,D18O_NO3_FLAG_W,DOP,DOP_FLAG_W,HPLC,HPLC_FLAG_W,POC,POC_FLAG_W,REFTMP,REFTMP_FLAG_W,TDP,TDP_FLAG_W
,,,,,,,,,,,METERS,DBAR,ITS-90,PSS-78,,PSS-78,,UMOL/KG,,UMOL/KG,,UMOL/KG,,UMOL/KG,,UMOL/KG,,UMOL/KG,,PMOL/KG,,PMOL/KG,,FMOL/KG,,UMOL/KG,,UMOL/KG,,,,/MILLE,,/MILLE,,/MILLE,UMOL/KG,,UMOL/KG,,UMOL/KG,,/MILLE,,,,,,VOLTS,,VOLTS,,VOLTS,,VOLTS,,DEGC,/MILLE,,UMOL/KG,,,,UG/L,,ITS-90,,UMOL/KG,
320620170703,        P06,      50,          1,          1,         37,2,20170714,       1330,   -30.0799,   168.0005,       1209,  1210.1,   4.4960,  34.4743,2,  34.4742,2, 179.4845,2, 179.4327,2,    53.1,2,   30.89,2,    0.00,2,    2.13,2,   0.595,2,   0.317,2,   0.0460,2,  2221.5,6, 2324.21,2,   7.6149,2, -999.00,9, -999.00,9, -999.00,  -999.0,9, -999.00,9,     -999.0,9,  -999.0,1, 20170714,     1240, -30.0799, 168.0005,        0.0,1,      0.061,1,      0.046,1,      0.142,1,      25.01,     -999.0,1,     -999.0,9,     -999.0,9,     -999.0,9,     4.4973,2,     -999.0,9
320620170703,        P06,      50,          1,          2,          2,2,20170714,       1330,   -30.0799,   168.0005,       1209,  1160.0,   4.5774,  34.4708,2,  34.4703,2, 180.0892,2, 180.1757,2,    51.9,2,   30.79,2,    0.00,2,    2.11,2,-999.000,9,-999.000,9,-999.0000,9,  2219.1,2, 2314.77,2,   7.6173,2, -999.00,9, -999.00,9, -999.00,  -999.0,9, -999.00,9,     -999.0,9,  -999.0,1, 20170714,     1242, -30.0799, 168.0004,        0.0,1,      0.060,1,      1.437,1,      0.140,1,      25.02,     -999.0,1,     -999.0,9,     -999.0,9,     -999.0,9,     4.5496,2,     -999.0,9
320620170703,        P06,      50,          1,          3,         38,2,20170714,       1330,   -30.0799,   168.0005,       1209,  1110.1,   4.7276,  34.4640,2,  34.4618,2, 182.3076,2, 182.1913,2,    48.3,2,   30.46,2,    0.00,2,    2.08,2,   0.668,2,   0.356,2,   0.1010,2,  2214.9,2, 2312.35,2,   7.6217,2, -999.00,9, -999.00,9, -999.00,  -999.0,9, -999.00,9,     -999.0,9,  -999.0,1, 20170714,     1245, -30.0799, 168.0002,        0.0,1,      0.060,1,      0.023,1,      0.142,1,      25.04,     -999.0,1,     -999.0,9,     -999.0,9,     -999.0,9,     4.7052,2,     -999.0,9
320620170703,        P06,      50,          1,          4,          4,2,20170714,       1330,   -30.0799,   168.0005,       1209,  1009.6,   5.5507,  34.4544,2,  34.4526,2, 191.0348,2, 191.2365,2,    34.7,2,   28.48,2,    0.00,2,    1.93,2,-999.000,9,-999.000,9,-999.0000,9,  2194.4,2, 2297.06,2,   7.6426,2, -999.00,9, -999.00,9, -999.00,  -999.0,9, -999.00,9,     -999.0,9,  -999.0,1, 20170714,     1249, -30.0799, 168.0001,        0.0,1,      0.060,1,      0.057,1,      0.142,1,      25.04,     -999.0,1,     -999.0,9,     -999.0,9,     -999.0,9,     5.5387,2,     -999.0,9
320620170703,        P06,      50,          1,          5,         39,2,20170714,       1330,   -30.0799,   168.0005,       1209,   908.6,   6.1287,  34.4621,2,  34.4597,2, 196.7500,2, 196.6700,2,    27.5,2,   26.97,2,    0.00,2,    1.84,2,   1.299,2,   0.693,2,   0.1980,2,  2183.0,2, 2292.56,6,   7.6583,2, -999.00,9, -999.00,9, -999.00,  -999.0,9, -999.00,9,     -999.0,9,  -999.0,1, 20170714,     1253, -30.0799, 168.0001,        0.0,1,      0.059,1,      0.007,1,      0.145,1,      25.03,     -999.0,1,     -999.0,9,     -999.0,9,     -999.0,9,     6.1183,2,     -999.0,9
320620170703,        P06,      50,          1,          6,          6,2,20170714,       1330,   -30.0799,   168.0005,       1209,   806.1,   7.3286,  34.5202,2,  34.5182,2, 202.4014,2, 202.3091,2,    17.2,2,   24.00,2,    0.00,2,    1.63,2,-999.000,9,-999.000,9,-999.0000,9,  2164.6,2, 2283.46,2,   7.6874,2, -999.00,9, -999.00,9, -999.00,  -999.0,9, -999.00,9,     -999.0,9,  -999.0,1, 20170714,     1256, -30.0799, 168.0002,        0.0,1,      0.059,1,      0.006,1,      0.147,1,      25.04,     -999.0,1,     -999.0,9,     -999.0,9,     -999.0,9,     7.3293,2,     -999.0,9
320620170703,        P06,      50,          1,          7,         40,2,20170714,       1330,   -30.0799,   168.0005,       1209,   706.8,   8.1593,  34.5912,2,  34.5912,2, 202.3995,2, 202.4203,2,    13.4,2,   22.08,2,    0.00,2,    1.50,2,   2.057,2,   1.123,2,   0.3980,2,  2158.4,6, 2287.18,2,   7.7053,2, -999.00,9, -999.00,9, -999.00,  -999.0,9, -999.00,9,     -999.0,9,  -999.0,1, 20170714,     1259, -30.0799, 168.0003,        0.0,1,      0.060,1,      0.015,1,      0.143,1,      25.02,     -999.0,1,     -999.0,9,     -999.0,9,     -999.0,9,     8.1809,2,     -999.0,9
320620170703,        P06,      50,          1,          8,          8,2,20170714,       1330,   -30.0799,   168.0005,       1209,   604.5,   9.0481,  34.6695,2,  34.6686,3, 202.6720,2, 202.6861,2,     9.7,2,   19.94,2,    0.00,2,    1.36,2,-999.000,9,-999.000,9,-999.0000,9,  2150.2,2, 2289.12,2,   7.7248,2, -999.00,9, -999.00,9, -999.00,  -999.0,9, -999.00,9,     -999.0,9,  -999.0,1, 20170714,     1302, -30.0799, 168.0004,        0.0,1,      0.059,1,      0.006,1,      0.145,1,      25.01,     -999.0,1,     -999.0,9,     -999.0,9,     -999.0,9,     9.0495,2,     -999.0,9
320620170703,        P06,      50,          1,          9,         41,2,20170714,       1330,   -30.0799,   168.0005,       1209,   505.0,  10.3581,  34.8098,2,  34.8119,2, 200.0198,2, 199.9317,2,     7.0,2,   17.16,2,    0.00,2,    1.15,2,   2.412,2,   1.335,2,   0.5990,2,  2141.5,2, 2290.42,2,   7.7525,2, -999.00,9, -999.00,9, -999.00,  -999.0,9, -999.00,9,     -999.0,9,  -999.0,1, 20170714,     1304, -30.0799, 168.0005,        0.0,1,      0.059,1,      0.310,1,      0.149,1,      25.04,     -999.0,1,     -999.0,9,     -999.0,9,     -999.0,9,    10.4034,2,     -999.0,9
320620170703,        P06,      50,          1,         10,         10,2,20170714,       1330,   -30.0799,   168.0005,       1209,   453.3,  11.0464,  34.8934,2,  34.9115,3, 198.5778,2, 199.0855,2,     6.0,2,   15.48,2,    0.00,2,    1.05,2,-999.000,9,-999.000,9,-999.0000,9,  2135.5,2, 2292.36,2,   7.7725,2, -999.00,9, -999.00,9, -999.00,  -999.0,9, -999.00,9,     -999.0,9,  -999.0,1, 20170714,     1306, -30.0799, 168.0006,        0.0,1,      0.060,1,      1.558,1,      0.144,1,      25.02,     -999.0,1,     -999.0,9,     -999.0,9,     -999.0,9,    11.2404,2,     -999.0,9
320620170703,        P06,      50,          1,         11,         42,2,20170714,       1330,   -30.0799,   168.0005,       1209,   402.1,  12.0552,  35.0124,2,  35.0096,2, 198.0588,2, 197.5620,2,     5.0,2,   13.83,2,    0.00,2,    0.94,2,   2.346,2,   1.350,2,   0.6690,2,  2131.1,2, 2296.69,2,   7.7924,2, -999.00,9, -999.00,9, -999.00,  -999.0,9, -999.00,9,     -999.0,9,  -999.0,1, 20170714,     1309, -30.0799, 168.0005,        0.0,1,      0.059,1,      3.665,1,      0.145,1,      25.01,     -999.0,1,     -999.0,9,     -999.0,9,     -999.0,9,    12.1108,2,     -999.0,9
320620170703,        P06,      50,          1,         12,         12,2,20170714,       1330,   -30.0799,   168.0005,       1209,   353.2,  13.1138,  35.1350,2,  35.1276,2, 197.7171,2, 197.5232,2,     3.9,2,   11.76,2,    0.00,2,    0.81,2,-999.000,9,-999.000,9,-999.0000,9,  2123.2,2, 2301.69,2,   7.8183,2, -999.00,9, -999.00,9, -999.00,  -999.0,9, -999.00,9,     -999.0,9,  -999.0,1, 20170714,     1310, -30.0799, 168.0004,        0.0,1,      0.060,1,      0.006,1,      0.141,1,      25.04,     -999.0,1,     -999.0,1,     -999.0,9,     -999.0,9,    13.0920,2,     -999.0,9
320620170703,        P06,      50,          1,         13,         43,2,20170714,       1330,   -30.0799,   168.0005,       1209,   303.2,  14.2506,  35.2597,2,  35.2629,2, 198.1013,2, 198.1910,2,     3.0,2,    9.71,2,    0.00,2,    0.68,2,   2.231,2,   1.330,2,   0.7800,2,  2114.3,2, 2311.53,2,   7.8496,2, -999.00,9, -999.00,9, -999.00,  -999.0,9, -999.00,9,     -999.0,9,  -999.0,1, 20170714,     1312, -30.0799, 168.0005,        0.0,1,      0.060,1,      0.093,1,      0.144,1,      25.04,     -999.0,1,     -999.0,1,     -999.0,9,     -999.0,9,    14.2732,2,     -999.0,9
320620170703,        P06,      50,          1,         14,         14,2,20170714,       1330,   -30.0799,   168.0005,       1209,   251.8,  15.6908,  35.4074,2,  35.3898,2, 197.6266,2, 198.0577,2,     2.1,2,    7.72,2,    0.00,2,    0.55,2,-999.000,9,-999.000,9,-999.0000,9,  2104.9,2, 2316.57,2,   7.8806,2, -999.00,9, -999.00,9, -999.00,  -999.0,9, -999.00,9,     -999.0,9,  -999.0,1, 20170714,     1314, -30.0799, 168.0007,        0.0,1,      0.059,1,      0.006,1,      0.148,1,      25.02,     -999.0,1,     -999.0,1,     -999.0,9,     -999.0,9,    15.4975,2,     -999.0,9
320620170703,        P06,      50,          1,         15,         15,2,20170714,       1330,   -30.0799,   168.0005,       1209,   226.0,  16.2218,  35.4624,2,  35.4571,2, 198.3077,2, 198.3414,2,     1.8,2,    6.71,2,    0.00,2,    0.49,2,   2.094,2,   1.278,2,   0.8710,2,  2098.8,2, 2318.33,2,   7.8979,2, -999.00,9, -999.00,9, -999.00,  -999.0,9, -999.00,9,     -999.0,9,  -999.0,1, 20170714,     1316, -30.0800, 168.0009,        0.0,1,      0.061,1,      0.006,1,      0.148,1,      25.02,     -999.0,1,     -999.0,1,     -999.0,9,     -999.0,9,    16.2106,2,     -999.0,9
320620170703,        P06,      50,          1,         16,         16,2,20170714,       1330,   -30.0799,   168.0005,       1209,   200.9,  16.9667,  35.5262,2,  35.5178,2, 201.0306,2, 200.8310,2,     1.4,2,    5.40,2,    0.02,2,    0.41,2,-999.000,9,-999.000,9,-999.0000,9,  2093.4,2, 2320.25,2,   7.9162,2, -999.00,9, -999.00,9, -999.00,  -999.0,9, -999.00,9,     -999.0,9,  -999.0,1, 20170714,     1317, -30.0800, 168.0011,        0.0,1,      0.061,1,      0.006,1,      0.148,1,      25.02,     -999.0,1,     -999.0,1,     -999.0,9,     -999.0,9,    17.0049,2,     -999.0,9
320620170703,        P06,      50,          1,         17,         17,2,20170714,       1330,   -30.0799,   168.0005,       1209,   176.0,  17.4954,  35.5652,2,  35.5707,2, 200.7451,2, 199.2693,2,     1.3,2,    4.88,2,    0.02,2,    0.37,2,   1.968,2,   1.235,2,   0.9630,2,  2089.7,2, 2325.15,2,   7.9291,2, -999.00,9, -999.00,9, -999.00,  -999.0,9, -999.00,9,     -999.0,9,  -999.0,1, 20170714,     1319, -30.0800, 168.0011,        0.0,1,      0.062,1,      0.006,1,      0.156,1,      25.00,     -999.0,1,     -999.0,1,     -999.0,9,     -999.0,9,    17.5574,2,     -999.0,9
320620170703,        P06,      50,          1,         18,         18,2,20170714,       1330,   -30.0799,   168.0005,       1209,   151.1,  18.0166,  35.6179,2,  35.6396,2, 201.0980,2, 201.3377,2,     0.9,2,    3.83,2,    0.04,2,    0.31,2,-999.000,9,-999.000,9,-999.0000,9,  2081.8,2, 2328.95,2,   7.9470,2, -999.00,9, -999.00,9, -999.00,  -999.0,9, -999.00,9,     -999.0,9,  -999.0,1, 20170714,     1321, -30.0800, 168.0010,        0.0,1,      0.064,1,      0.006,1,      0.163,1,      25.03,     -999.0,1,     -999.0,1,     -999.0,9,     -999.0,9,    18.2425,2,     -999.0,9
320620170703,        P06,      50,          1,         19,         19,2,20170714,       1330,   -30.0799,   168.0005,       1209,   126.2,  19.3933,  35.8151,2,  35.8313,2, 223.0873,2, 223.0659,2,     0.2,2,    0.40,2,    0.07,2,    0.09,2,   1.836,2,   1.150,2,   1.0840,2,  2062.7,2, 2342.46,2,   8.0018,2, -999.00,9, -999.00,9, -999.00,  -999.0,9, -999.00,9,     -999.0,9,  -999.0,1, 20170714,     1322, -30.0799, 168.0009,        0.0,1,      0.171,1,      0.541,1,      0.210,1,      25.04,     -999.0,1,     -999.0,1,     -999.0,9,     -999.0,9,    19.4803,2,     -999.0,9
320620170703,        P06,      50,          1,         20,         20,2,20170714,       1330,   -30.0799,   168.0005,       1209,   101.8,  19.5347,  35.8424,2,  35.8366,2, 223.8675,2, 223.6910,2,     0.2,2,    0.33,2,    0.07,2,    0.09,2,-999.000,9,-999.000,9,-999.0000,9,  2060.9,2, 2344.10,2,   8.0033,4, -999.00,9, -999.00,9, -999.00,  -999.0,9, -999.00,9,     -999.0,9,  -999.0,1, 20170714,     1324, -30.0799, 168.0008,        0.0,1,      0.201,1,      0.061,1,      0.219,1,      25.02,     -999.0,1,     -999.0,1,     -999.0,9,     -999.0,9,    19.5107,2,     -999.0,9
320620170703,        P06,      50,          1,         21,         21,2,20170714,       1330,   -30.0799,   168.0005,       1209,    76.2,  19.5316,  35.8423,2,  35.8368,2, 223.8576,2, 223.5420,2,     0.2,2,    0.33,2,    0.07,2,    0.09,2,   1.835,2,   1.140,2,   1.0390,2,  2061.9,2, 2347.33,2,   8.0042,2, -999.00,9, -999.00,9, -999.00,  -999.0,9, -999.00,9,     -999.0,9,  -999.0,1, 20170714,     1325, -30.0799, 168.0007,        0.0,1,      0.199,1,      0.126,1,      0.230,1,      25.02,     -999.0,1,     -999.0,1,     -999.0,9,     -999.0,9,    19.5052,2,     -999.0,9
320620170703,        P06,      50,          1,         22,         22,2,20170714,       1330,   -30.0799,   168.0005,       1209,    50.2,  19.5262,  35.8422,2,  35.8372,2, 223.7365,2, 223.7595,2,     0.2,2,    0.32,2,    0.07,2,    0.10,2,-999.000,9,-999.000,9,-999.0000,9,  2063.0,2, 2351.80,2,   8.0030,2, -999.00,9, -999.00,9, -999.00,  -999.0,9, -999.00,9,     -999.0,9,  -999.0,1, 20170714,     1327, -30.0799, 168.0007,        0.0,1,      0.197,1,      4.385,1,      0.223,1,      25.02,     -999.0,1,     -999.0,1,     -999.0,9,     -999.0,9,    19.4989,2,     -999.0,9
320620170703,        P06,      50,          1,         23,         23,2,20170714,       1330,   -30.0799,   168.0005,       1209,    24.9,  19.5163,  35.8421,2,  35.8374,2, 223.7528,2, 223.8826,2,     0.2,2,    0.33,2,    0.07,2,    0.10,2,   1.826,2,   1.139,2,   1.0470,2,  2061.6,2, 2347.12,2,   8.0037,2, -999.00,9, -999.00,9, -999.00,  -999.0,9, -999.00,9,     -999.0,9,  -999.0,1, 20170714,     1329, -30.0799, 168.0006,        0.0,1,      0.192,1,      2.760,1,      0.225,1,      25.03,     -999.0,1,     -999.0,1,     -999.0,9,     -999.0,9,    19.4912,2,     -999.0,9
320620170703,        P06,      50,          1,         24,         24,2,20170714,       1330,   -30.0799,   168.0005,       1209,     4.3,  19.5165,  35.8417,2,  35.8378,2, 222.7743,2, 223.9927,2,     0.1,2,    0.34,2,    0.07,2,    0.11,2,   1.852,2,   1.152,2,   1.1400,2,  2061.8,6, 2345.47,2,   8.0018,2,    0.86,2,   57.90,2,    4.35,  -999.0,9, -999.00,9,     -999.0,9,  -999.0,1, 20170714,     1330, -30.0799, 168.0005,        0.0,1,      0.195,1,      4.606,1,      0.214,1,      25.02,     -999.0,1,     -999.0,1,     -999.0,9,     -999.0,9,    19.4839,2,     -999.0,9