BOTTLE,20230922CCHSIOCBG
EXPOCODE,SECT_ID,STNNBR,CASTNO,SAMPNO,BTLNBR,BTLNBR_FLAG_W,DATE,TIME,LATITUDE,LONGITUDE,DEPTH,CTDPRS,CTDTMP,CTDSAL,CTDSAL_FLAG_W,SALNTY,SALNTY_FLAG_W,CTDOXY,CTDOXY_FLAG_W,OXYGEN,OXYGEN_FLAG_W,SILCAT,SILCAT_FLAG_W,NITRAT,NITRAT_FLAG_W,NITRIT,NITRIT_FLAG_W,PHSPHT,PHSPHT_FLAG_W,CFC-11,CFC-11_FLAG_W,CFC-12,CFC-12_FLAG_W,SF6,SF6_FLAG_W,TCARBN,TCARBN_FLAG_W,ALKALI,ALKALI_FLAG_W,PH_TOT,PH_TOT_FLAG_W,DELC13,DELC13_FLAG_W,DELC14,DELC14_FLAG_W,C14ERR,DOC,DOC_FLAG_W,TDN,TDN_FLAG_W,TON,TON_FLAG_W,D15N_NO3,D15N_NO3_FLAG_W,BTL_DATE,BTL_TIME,BTL_LAT,BTL_LON,CTDRINKO,CTDRINKO_FLAG_W,CTDFLUOR,CTDFLUOR_FLAG_W,CTDXMISS,CTDXMISS_FLAG_W,CTDBACKSCATTER,CTDBACKSCATTER_FLAG_W,PH_TMP,D18O_NO3,D18O_NO3_FLAG_W,DOP,DOP_FLAG_W,HPLC,HPLC_FLAG_W,POC,POC_FLAG_W,REFTMP,REFTMP_FLAG_W,TDP,TDP_FLAG_W
,,,,,,,,,,,METERS,DBAR,ITS-90,PSS-78,,PSS-78,,UMOL/KG,,UMOL/KG,,UMOL/KG,,UMOL/KG,,UMOL/KG,,UMOL/KG,,PMOL/KG,,PMOL/KG,,FMOL/KG,,UMOL/KG,,UMOL/KG,,,,/MILLE,,/MILLE,,/MILLE,UMOL/KG,,UMOL/KG,,UMOL/KG,,/MILLE,,,,,,VOLTS,,VOLTS,,VOLTS,,VOLTS,,DEGC,/MILLE,,UMOL/KG,,,,UG/L,,ITS-90,,UMOL/KG,
320620170703,        P06,      58,          1,         33,         33,2,20170716,       0420,   -30.0786,   170.4984,       3021,    65.6,  19.3342,  35.8428,2,  35.8424,2, 222.8935,2, 222.6510,2,     0.2,2,    0.67,2,    0.16,2,    0.11,2,   1.839,2,   1.252,2,-999.0000,5,  2060.5,2, 2344.91,2,   8.0052,2, -999.00,9, -999.00,9, -999.00,    55.2,2,    5.10,2,     -999.0,1,  -999.0,1, 20170716,      416, -30.0787, 170.4983,        0.0,1,      0.161,1,      4.637,1,      0.198,1,      24.98,     -999.0,1,     -999.0,9,     -999.0,9,     -999.0,9,    19.3235,2,     -999.0,9
320620170703,        P06,      58,          1,         34,         34,2,20170716,       0420,   -30.0786,   170.4984,       3021,    40.1,  19.3336,  35.8428,2,  35.8402,2, 222.9278,2, 223.3235,2,     0.2,2,    0.66,2,    0.15,2,    0.10,2,-999.000,9,-999.000,9,-999.0000,9,  -999.0,9, -999.00,9,-999.0000,9, -999.00,9, -999.00,9, -999.00,    55.5,2,    4.70,2,     -999.0,1,  -999.0,1, 20170716,      417, -30.0787, 170.4983,        0.0,1,      0.162,1,      4.633,1,      0.202,1,     -999.0,     -999.0,1,     -999.0,9,     -999.0,9,     -999.0,9,    19.3237,2,     -999.0,9
320620170703,        P06,      58,          1,         35,         35,2,20170716,       0420,   -30.0786,   170.4984,       3021,    19.2,  19.3345,  35.8430,2,  35.8424,2, 224.0178,2, 223.6081,2,     0.2,2,    0.66,2,    0.15,2,    0.12,2,   1.868,2,   1.254,2,-999.0000,5,  2063.6,2, 2344.74,2,   8.0057,2, -999.00,9, -999.00,9, -999.00,    54.9,2,    4.90,2,     -999.0,1,  -999.0,1, 20170716,      419, -30.0786, 170.4984,        0.0,1,      0.152,1,      4.625,1,      0.197,1,      25.03,     -999.0,1,     -999.0,9,     -999.0,9,     -999.0,9,    19.3452,2,     -999.0,9
320620170703,        P06,      58,          1,         36,         36,2,20170716,       0420,   -30.0786,   170.4984,       3021,     5.4,  19.3465,  35.8438,2,  35.8412,2, 223.9436,2, 223.5379,2,     0.1,2,    0.66,2,    0.15,2,    0.13,2,   1.678,4,   1.267,2,-999.0000,5,  2060.7,6, 2343.67,2,   8.0051,2, -999.00,9, -999.00,9, -999.00,    54.1,2,    4.90,2,     -999.0,1,  -999.0,1, 20170716,      420, -30.0786, 170.4984,        0.0,1,      0.123,1,      4.626,1,      0.195,1,      25.01,     -999.0,1,     -999.0,9,     -999.0,9,     -999.0,9,    19.3484,2,     -999.0,9