BOTTLE,20230922CCHSIOCBG
EXPOCODE,SECT_ID,STNNBR,CASTNO,SAMPNO,BTLNBR,BTLNBR_FLAG_W,DATE,TIME,LATITUDE,LONGITUDE,DEPTH,CTDPRS,CTDTMP,CTDSAL,CTDSAL_FLAG_W,SALNTY,SALNTY_FLAG_W,CTDOXY,CTDOXY_FLAG_W,OXYGEN,OXYGEN_FLAG_W,SILCAT,SILCAT_FLAG_W,NITRAT,NITRAT_FLAG_W,NITRIT,NITRIT_FLAG_W,PHSPHT,PHSPHT_FLAG_W,CFC-11,CFC-11_FLAG_W,CFC-12,CFC-12_FLAG_W,SF6,SF6_FLAG_W,TCARBN,TCARBN_FLAG_W,ALKALI,ALKALI_FLAG_W,PH_TOT,PH_TOT_FLAG_W,DELC13,DELC13_FLAG_W,DELC14,DELC14_FLAG_W,C14ERR,DOC,DOC_FLAG_W,TDN,TDN_FLAG_W,TON,TON_FLAG_W,D15N_NO3,D15N_NO3_FLAG_W,BTL_DATE,BTL_TIME,BTL_LAT,BTL_LON,CTDRINKO,CTDRINKO_FLAG_W,CTDFLUOR,CTDFLUOR_FLAG_W,CTDXMISS,CTDXMISS_FLAG_W,CTDBACKSCATTER,CTDBACKSCATTER_FLAG_W,PH_TMP,D18O_NO3,D18O_NO3_FLAG_W,DOP,DOP_FLAG_W,HPLC,HPLC_FLAG_W,POC,POC_FLAG_W,REFTMP,REFTMP_FLAG_W,TDP,TDP_FLAG_W
,,,,,,,,,,,METERS,DBAR,ITS-90,PSS-78,,PSS-78,,UMOL/KG,,UMOL/KG,,UMOL/KG,,UMOL/KG,,UMOL/KG,,UMOL/KG,,PMOL/KG,,PMOL/KG,,FMOL/KG,,UMOL/KG,,UMOL/KG,,,,/MILLE,,/MILLE,,/MILLE,UMOL/KG,,UMOL/KG,,UMOL/KG,,/MILLE,,,,,,VOLTS,,VOLTS,,VOLTS,,VOLTS,,DEGC,/MILLE,,UMOL/KG,,,,UG/L,,ITS-90,,UMOL/KG,
320620170703,        P06,     143,          1,          1,          1,2,20170813,       1512,   -32.5002,  -148.9082,       5031,  5112.9,   1.2058,  34.7094,2,  34.7119,2, 200.5848,2, 202.3160,2,   119.8,2,   32.32,2,    0.00,2,    2.22,2,   0.041,2,   0.026,2,   0.0000,2,  2267.7,6, 2371.70,2,   7.6065,2, -999.00,9, -999.00,9, -999.00,  -999.0,9, -999.00,9,     -999.0,9,  -999.0,9, 20170813,     1302, -32.5002,-148.9083,        0.0,1,      0.061,1,      4.695,1,      0.125,1,      25.02,     -999.0,9,     -999.0,9,     -999.0,9,     -999.0,9,     1.2063,2,     -999.0,9
320620170703,        P06,     143,          1,          2,          2,2,20170813,       1512,   -32.5002,  -148.9082,       5031,  5032.4,   1.2009,  34.7095,2,  34.7091,2, 200.5848,2, 202.0212,2,   119.8,2,   32.35,2,    0.00,2,    2.22,2,   0.045,2,   0.028,2,   0.0000,2,  2267.3,2, 2372.30,2,   7.6055,2, -999.00,9, -999.00,9, -999.00,  -999.0,9, -999.00,9,     -999.0,9,  -999.0,9, 20170813,     1306, -32.5002,-148.9083,        0.0,1,      0.061,1,      4.695,1,      0.123,1,      25.01,     -999.0,9,     -999.0,9,     -999.0,9,     -999.0,9,     1.2010,2,     -999.0,9
320620170703,        P06,     143,          1,          3,          3,2,20170813,       1512,   -32.5002,  -148.9082,       5031,  4941.4,   1.1955,  34.7095,2,  34.7131,2, 200.5848,2, 201.7733,2,   119.6,2,   32.37,2,    0.00,2,    2.22,2,   0.039,2,   0.028,2,   0.0000,2,  2270.9,3, 2371.23,2,   7.6064,2, -999.00,9, -999.00,9, -999.00,  -999.0,9, -999.00,9,     -999.0,9,  -999.0,9, 20170813,     1309, -32.5001,-148.9084,        0.0,1,      0.061,1,      4.695,1,      0.125,1,      25.01,     -999.0,9,     -999.0,9,     -999.0,9,     -999.0,9,     1.1944,2,     -999.0,9
320620170703,        P06,     143,          1,          4,          4,2,20170813,       1512,   -32.5002,  -148.9082,       5031,  4553.9,   1.2315,  34.7078,2,  34.7160,2, 196.9234,2, 197.5839,2,   119.5,2,   32.55,2,    0.00,2,    2.25,2,   0.031,2,   0.023,2,   0.0000,2,  -999.0,9, -999.00,9,-999.0000,9, -999.00,9, -999.00,9, -999.00,  -999.0,9, -999.00,9,     -999.0,9,  -999.0,9, 20170813,     1317, -32.4999,-148.9087,        0.0,1,      0.061,1,      4.697,1,      0.123,1,     -999.0,     -999.0,9,     -999.0,9,     -999.0,9,     -999.0,9,     1.2303,2,     -999.0,9
320620170703,        P06,     143,          1,          5,          5,2,20170813,       1512,   -32.5002,  -148.9082,       5031,  4167.0,   1.3086,  34.7036,2,  34.7050,2, 191.1561,2, 191.0211,2,   120.5,2,   32.96,2,    0.00,2,    2.28,2,   0.031,2,   0.024,2,   0.0000,2,  2276.7,2, 2378.02,2,   7.6011,2, -999.00,9, -999.00,9, -999.00,  -999.0,9, -999.00,9,     -999.0,9,  -999.0,9, 20170813,     1325, -32.4996,-148.9090,        0.0,1,      0.060,1,      4.697,1,      0.123,1,      25.01,     -999.0,9,     -999.0,9,     -999.0,9,     -999.0,9,     1.3074,2,     -999.0,9
320620170703,        P06,     143,          1,          6,          6,2,20170813,       1512,   -32.5002,  -148.9082,       5031,  3863.4,   1.3791,  34.6994,2,  34.7019,2, 184.2562,2, 184.4036,2,   121.7,2,   33.36,2,    0.00,2,    2.31,2,   0.027,2,   0.020,2,   0.0000,2,  -999.0,9, -999.00,9,-999.0000,9, -999.00,9, -999.00,9, -999.00,  -999.0,9, -999.00,9,     -999.0,9,  -999.0,9, 20170813,     1331, -32.4995,-148.9090,        0.0,1,      0.061,1,      4.697,1,      0.124,1,     -999.0,     -999.0,9,     -999.0,9,     -999.0,9,     -999.0,9,     1.3806,2,     -999.0,9
320620170703,        P06,     143,          1,          7,          7,2,20170813,       1512,   -32.5002,  -148.9082,       5031,  3554.7,   1.5082,  34.6943,2,  34.6946,2, 175.9552,2, 174.9196,2,   123.4,2,   33.93,2,    0.00,2,    2.35,2,   0.023,2,   0.016,2,   0.0000,2,  2290.5,2, 2388.44,6,   7.5897,2, -999.00,9, -999.00,9, -999.00,  -999.0,9, -999.00,9,     -999.0,9,  -999.0,9, 20170813,     1338, -32.4998,-148.9088,        0.0,1,      0.061,1,      4.697,1,      0.124,1,      25.01,     -999.0,9,     -999.0,9,     -999.0,9,     -999.0,9,     1.5113,2,     -999.0,9
320620170703,        P06,     143,          1,          8,          8,2,20170813,       1512,   -32.5002,  -148.9082,       5031,  3245.3,   1.6106,  34.6841,2,  34.6838,2, 167.3068,3, 165.6179,2,   126.7,2,   34.71,2,    0.00,2,    2.41,2,   0.021,2,   0.016,2,   0.0000,2,  -999.0,9, -999.00,9,-999.0000,9, -999.00,9, -999.00,9, -999.00,  -999.0,9, -999.00,9,     -999.0,9,  -999.0,9, 20170813,     1344, -32.4999,-148.9086,        0.0,1,      0.061,1,      4.697,1,      0.126,1,     -999.0,     -999.0,9,     -999.0,9,     -999.0,9,     -999.0,9,     1.6098,2,     -999.0,9
320620170703,        P06,     143,          1,          9,          9,2,20170813,       1512,   -32.5002,  -148.9082,       5031,  2957.4,   1.7178,  34.6734,2,  34.6753,2, 160.1460,2, 158.7641,2,   127.8,2,   35.23,2,    0.00,2,    2.44,2,   0.025,2,   0.018,2,   0.0000,2,  2308.3,2, 2399.73,2,   7.5762,2, -999.00,9, -999.00,9, -999.00,  -999.0,9, -999.00,9,     -999.0,9,  -999.0,9, 20170813,     1350, -32.5002,-148.9082,        0.0,1,      0.061,1,      4.697,1,      0.126,1,      25.00,     -999.0,9,     -999.0,9,     -999.0,9,     -999.0,9,     1.7061,2,     -999.0,9
320620170703,        P06,     143,          1,         10,         10,2,20170813,       1512,   -32.5002,  -148.9082,       5031,  2699.9,   1.8094,  34.6654,2,  34.6647,2, 154.6302,2, 154.2509,2,   126.8,2,   35.56,2,    0.00,2,    2.48,2,   0.022,2,   0.018,2,   0.0000,2,  -999.0,9, -999.00,9,-999.0000,9, -999.00,9, -999.00,9, -999.00,  -999.0,9, -999.00,9,     -999.0,9,  -999.0,9, 20170813,     1356, -32.5002,-148.9082,        0.0,1,      0.062,1,      4.698,1,      0.128,1,     -999.0,     -999.0,9,     -999.0,9,     -999.0,9,     -999.0,9,     1.8090,2,     -999.0,9
320620170703,        P06,     143,          1,         11,         11,2,20170813,       1512,   -32.5002,  -148.9082,       5031,  2443.9,   1.9207,  34.6571,2,  34.6580,2, 151.6220,2, 150.6022,2,   124.4,2,   35.73,2,    0.00,2,    2.48,2,   0.021,2,   0.014,2,   0.0000,2,  2313.1,6, 2400.97,2,   7.5672,2, -999.00,9, -999.00,9, -999.00,  -999.0,9, -999.00,9,     -999.0,9,  -999.0,9, 20170813,     1401, -32.5000,-148.9085,        0.0,1,      0.062,1,      4.697,1,      0.129,1,      25.01,     -999.0,9,     -999.0,9,     -999.0,9,     -999.0,9,     1.9151,2,     -999.0,9
320620170703,        P06,     143,          1,         12,         12,2,20170813,       1512,   -32.5002,  -148.9082,       5031,  2190.6,   2.0500,  34.6459,2,  34.6458,2, 150.4718,2, 151.0982,2,   117.7,2,   35.59,2,    0.00,2,    2.47,2,   0.022,2,   0.014,2,   0.0000,2,  -999.0,9, -999.00,9,-999.0000,9, -999.00,9, -999.00,9, -999.00,  -999.0,9, -999.00,9,     -999.0,9,  -999.0,9, 20170813,     1407, -32.4999,-148.9085,        0.0,1,      0.061,1,      4.698,1,      0.128,1,     -999.0,     -999.0,9,     -999.0,9,     -999.0,9,     -999.0,9,     2.0504,2,     -999.0,9
320620170703,        P06,     143,          1,         13,         13,2,20170813,       1512,   -32.5002,  -148.9082,       5031,  1957.0,   2.2353,  34.6269,2,  34.6278,2, 151.8996,2, 153.0264,2,   108.6,2,   35.36,2,    0.00,2,    2.44,2,   0.023,2,   0.016,2,   0.0000,2,  2295.2,2, 2385.02,2,   7.5667,2, -999.00,9, -999.00,9, -999.00,  -999.0,9, -999.00,9,     -999.0,9,  -999.0,9, 20170813,     1412, -32.4998,-148.9087,        0.0,1,      0.061,1,      4.698,1,      0.130,1,      25.01,     -999.0,9,     -999.0,9,     -999.0,9,     -999.0,9,     2.2246,2,     -999.0,9
320620170703,        P06,     143,          1,         14,         14,2,20170813,       1512,   -32.5002,  -148.9082,       5031,  1752.7,   2.4243,  34.5983,2,  34.6014,2, 154.8596,3, 156.5295,2,    98.8,2,   35.11,2,    0.00,2,    2.42,2,   0.029,2,   0.021,2,   0.0000,2,  -999.0,9, -999.00,9,-999.0000,9, -999.00,9, -999.00,9, -999.00,  -999.0,9, -999.00,9,     -999.0,9,  -999.0,9, 20170813,     1416, -32.4998,-148.9086,        0.0,1,      0.061,1,      4.698,1,      0.132,1,     -999.0,     -999.0,9,     -999.0,9,     -999.0,9,     -999.0,9,     2.3934,2,     -999.0,9
320620170703,        P06,     143,          1,         15,         15,2,20170813,       1512,   -32.5002,  -148.9082,       5031,  1550.9,   2.6587,  34.5495,2,  34.5518,2, 160.2023,3, 163.0878,2,    84.1,2,   34.82,2,    0.00,2,    2.40,2,   0.063,2,   0.038,2,   0.0000,2,  2265.4,2, 2353.53,2,   7.5651,2, -999.00,9, -999.00,9, -999.00,  -999.0,9, -999.00,9,     -999.0,9,  -999.0,9, 20170813,     1421, -32.4998,-148.9086,        0.0,1,      0.061,1,      4.698,1,      0.131,1,      25.02,     -999.0,9,     -999.0,9,     -999.0,9,     -999.0,9,     2.6435,2,     -999.0,9
320620170703,        P06,     143,          1,         16,         16,2,20170813,       1512,   -32.5002,  -148.9082,       5031,  1379.6,   3.0199,  34.4695,2,  34.4675,2, 171.0221,3, 172.9611,2,    64.6,2,   34.32,2,    0.00,2,    2.35,2,   0.244,2,   0.125,2,   0.0570,2,  -999.0,9, -999.00,9,-999.0000,9, -999.00,9, -999.00,9, -999.00,  -999.0,9, -999.00,9,     -999.0,9,  -999.0,9, 20170813,     1425, -32.4997,-148.9087,        0.0,1,      0.061,1,      4.698,1,      0.130,1,     -999.0,     -999.0,9,     -999.0,9,     -999.0,9,     -999.0,9,     3.0258,2,     -999.0,9
320620170703,        P06,     143,          1,         17,         17,2,20170813,       1512,   -32.5002,  -148.9082,       5031,  1277.4,   3.3885,  34.4092,2,  34.4080,2, 180.0465,2, 181.0529,2,    52.8,2,   33.66,2,    0.00,2,    2.31,2,   0.492,2,   0.230,2,   0.0000,2,  2231.3,2, 2319.58,2,   7.5791,2, -999.00,9, -999.00,9, -999.00,  -999.0,9, -999.00,9,     -999.0,9,  -999.0,9, 20170813,     1428, -32.4997,-148.9087,        0.0,1,      0.061,1,      4.698,1,      0.131,1,      25.01,     -999.0,9,     -999.0,9,     -999.0,9,     -999.0,9,     3.3916,2,     -999.0,9
320620170703,        P06,     143,          1,         18,         18,2,20170813,       1512,   -32.5002,  -148.9082,       5031,  1174.1,   3.7818,  34.3688,2,  34.3733,2, 186.4176,2, 186.5644,2,    44.9,2,   32.95,2,    0.00,2,    2.26,2,   0.696,2,   0.314,2,   0.0000,2,  -999.0,9, -999.00,9,-999.0000,9, -999.00,9, -999.00,9, -999.00,  -999.0,9, -999.00,9,     -999.0,9,  -999.0,9, 20170813,     1431, -32.4999,-148.9086,        0.0,1,      0.061,1,      4.698,1,      0.131,1,     -999.0,     -999.0,9,     -999.0,9,     -999.0,9,     -999.0,9,     3.7234,2,     -999.0,9
320620170703,        P06,     143,          1,         19,         19,2,20170813,       1512,   -32.5002,  -148.9082,       5031,  1074.9,   4.3404,  34.3320,2,  34.3321,2, 198.5924,2, 198.4247,2,    33.8,2,   31.45,2,    0.00,2,    2.14,2,   1.247,2,   0.533,2,   0.1090,2,  2201.8,2, 2301.84,2,   7.6102,2, -999.00,9, -999.00,9, -999.00,  -999.0,9, -999.00,9,     -999.0,9,  -999.0,9, 20170813,     1433, -32.4999,-148.9085,        0.0,1,      0.060,1,      4.697,1,      0.130,1,      25.02,     -999.0,9,     -999.0,9,     -999.0,9,     -999.0,9,     4.2666,2,     -999.0,9
320620170703,        P06,     143,          1,         20,         20,2,20170813,       1512,   -32.5002,  -148.9082,       5031,   971.9,   4.9228,  34.3130,2,  34.3131,2, 211.0071,3, 208.8559,2,    24.1,2,   29.51,2,    0.00,2,    1.99,2,   1.713,2,   0.773,2,   0.2540,2,  -999.0,9, -999.00,9,-999.0000,9, -999.00,9, -999.00,9, -999.00,  -999.0,9, -999.00,9,     -999.0,9,  -999.0,9, 20170813,     1436, -32.4999,-148.9085,        0.0,1,      0.058,1,      4.697,1,      0.132,1,     -999.0,     -999.0,9,     -999.0,9,     -999.0,9,     -999.0,9,     4.9088,2,     -999.0,9
320620170703,        P06,     143,          1,         21,         21,2,20170813,       1512,   -32.5002,  -148.9082,       5031,   874.1,   5.4820,  34.3057,2,  34.3042,2, 223.1382,2, 221.1406,2,    16.8,2,   27.43,2,    0.00,2,    1.84,2,   2.341,2,   1.072,2,   0.3530,2,  2168.7,2, 2286.42,2,   7.6608,2, -999.00,9, -999.00,9, -999.00,  -999.0,9, -999.00,9,     -999.0,9,  -999.0,9, 20170813,     1439, -32.4999,-148.9085,        0.0,1,      0.059,1,      4.697,1,      0.130,1,      25.02,     -999.0,9,     -999.0,9,     -999.0,9,     -999.0,9,     5.4939,2,     -999.0,9
320620170703,        P06,     143,          1,         22,         22,2,20170813,       1512,   -32.5002,  -148.9082,       5031,   771.6,   6.0055,  34.3152,2,  34.3133,2, 233.2201,2, 232.6635,2,    11.3,2,   25.22,2,    0.00,2,    1.70,2,   2.951,2,   1.384,2,   0.5510,2,  2156.5,2, 2281.46,2,   7.6854,2, -999.00,9, -999.00,9, -999.00,  -999.0,9, -999.00,9,     -999.0,9,  -999.0,9, 20170813,     1442, -32.4999,-148.9085,        0.0,1,      0.058,1,      4.697,1,      0.131,1,      25.00,     -999.0,9,     -999.0,9,     -999.0,9,     -999.0,9,     6.0359,2,     -999.0,9
320620170703,        P06,     143,          1,         23,         23,2,20170813,       1512,   -32.5002,  -148.9082,       5031,   669.2,   6.4566,  34.3339,2,  34.3394,2, 241.1907,2, 241.4626,2,     8.1,2,   23.24,2,    0.00,2,    1.56,2,   3.657,2,   1.735,2,   0.6380,2,  2151.1,2, 2280.65,2,   7.7032,2, -999.00,9, -999.00,9, -999.00,  -999.0,9, -999.00,9,     -999.0,9,  -999.0,9, 20170813,     1445, -32.4998,-148.9086,        0.0,1,      0.061,1,      4.696,1,      0.133,1,      25.01,     -999.0,9,     -999.0,9,     -999.0,9,     -999.0,9,     6.5724,2,     -999.0,9
320620170703,        P06,     143,          1,         24,         24,2,20170813,       1512,   -32.5002,  -148.9082,       5031,   568.5,   6.9488,  34.3681,2,  34.3825,2, 243.8581,2, 243.6974,2,     6.2,2,   21.47,2,    0.00,2,    1.45,2,   3.785,2,   1.913,2,   1.0240,2,  -999.0,9, -999.00,9,-999.0000,9, -999.00,9, -999.00,9, -999.00,  -999.0,9, -999.00,9,     -999.0,9,  -999.0,9, 20170813,     1448, -32.4997,-148.9086,        0.0,1,      0.058,1,      4.695,1,      0.133,1,     -999.0,     -999.0,9,     -999.0,9,     -999.0,9,     -999.0,9,     7.1503,2,     -999.0,9
320620170703,        P06,     143,          1,         25,         25,2,20170813,       1512,   -32.5002,  -148.9082,       5031,   467.7,   7.6470,  34.4252,2,  34.4277,2, 245.0639,2, 245.0018,2,     4.6,2,   19.55,2,    0.00,2,    1.33,2,   3.842,2,   1.965,2,   1.2470,2,  2139.8,2, 2282.19,2,   7.7250,2, -999.00,9, -999.00,9, -999.00,  -999.0,9, -999.00,9,     -999.0,9,  -999.0,9, 20170813,     1450, -32.4998,-148.9085,        0.0,1,      0.060,1,      4.694,1,      0.135,1,      25.00,     -999.0,9,     -999.0,9,     -999.0,9,     -999.0,9,     7.6957,2,     -999.0,9
320620170703,        P06,     143,          1,         26,         26,2,20170813,       1512,   -32.5002,  -148.9082,       5031,   388.7,   8.3026,  34.4712,2,  34.4771,2, 236.9454,2, 237.5919,2,     3.5,2,   17.72,2,    0.00,2,    1.21,2,   3.654,2,   1.895,2,   1.2250,2,  2138.1,2, 2282.72,2,   7.7343,2, -999.00,9, -999.00,9, -999.00,  -999.0,9, -999.00,9,     -999.0,9,  -999.0,9, 20170813,     1453, -32.4999,-148.9085,        0.0,1,      0.061,1,      4.692,1,      0.136,1,      25.02,     -999.0,9,     -999.0,9,     -999.0,9,     -999.0,9,     8.5008,2,     -999.0,9
320620170703,        P06,     143,          1,         27,         27,2,20170813,       1512,   -32.5002,  -148.9082,       5031,   337.9,   8.9946,  34.5120,2,  34.5235,2, 226.0898,2, 226.9782,2,     3.0,2,   16.42,2,    0.00,2,    1.13,2,   3.553,2,   1.813,2,   1.1870,2,  2134.9,2, 2278.68,2,   7.7436,2, -999.00,9, -999.00,9, -999.00,  -999.0,9, -999.00,9,     -999.0,9,  -999.0,9, 20170813,     1455, -32.5000,-148.9084,        0.0,1,      0.059,1,      4.691,1,      0.135,1,      25.01,     -999.0,9,     -999.0,9,     -999.0,9,     -999.0,9,     9.2501,2,     -999.0,9
320620170703,        P06,     143,          1,         28,         28,2,20170813,       1512,   -32.5002,  -148.9082,       5031,   286.5,  10.5283,  34.6421,2,  34.6570,2, 216.2674,2, 215.5845,2,     2.1,2,   13.42,2,    0.00,2,    0.95,2,   3.276,2,   1.696,2,   1.1380,2,  -999.0,9, -999.00,9,-999.0000,9, -999.00,9, -999.00,9, -999.00,  -999.0,9, -999.00,9,     -999.0,9,  -999.0,9, 20170813,     1457, -32.5001,-148.9084,        0.0,1,      0.060,1,      4.689,1,      0.134,1,     -999.0,     -999.0,9,     -999.0,9,     -999.0,9,     -999.0,9,    10.7240,2,     -999.0,9
320620170703,        P06,     143,          1,         29,         29,2,20170813,       1512,   -32.5002,  -148.9082,       5031,   236.1,  12.4084,  34.8448,2,  34.8572,2, 213.9233,2, 215.2549,2,     1.3,2,    8.71,2,    0.00,2,    0.65,2,   3.023,2,   1.583,2,   1.1660,2,  2113.6,2, 2295.29,2,   7.8226,2, -999.00,9, -999.00,9, -999.00,  -999.0,9, -999.00,9,     -999.0,9,  -999.0,9, 20170813,     1459, -32.5002,-148.9083,        0.0,1,      0.061,1,      4.688,1,      0.134,1,      25.02,     -999.0,9,     -999.0,9,     -999.0,9,     -999.0,9,    12.5619,2,     -999.0,9
320620170703,        P06,     143,          1,         30,         30,2,20170813,       1512,   -32.5002,  -148.9082,       5031,   185.8,  14.2433,  35.0664,2,  35.0051,2, 219.3529,2, 220.9392,2,     0.6,2,    5.34,2,    0.02,2,    0.45,2,   2.805,2,   1.538,2,   1.2580,2,  2100.4,2, 2301.60,2,   7.8591,2, -999.00,9, -999.00,9, -999.00,  -999.0,9, -999.00,9,     -999.0,9,  -999.0,9, 20170813,     1501, -32.5004,-148.9080,        0.0,1,      0.077,1,      4.681,1,      0.136,1,      25.04,     -999.0,9,     -999.0,9,     -999.0,9,     -999.0,9,    13.7456,2,     -999.0,9
320620170703,        P06,     143,          1,         31,         31,2,20170813,       1512,   -32.5002,  -148.9082,       5031,   136.3,  16.1056,  35.3138,2,  35.1833,2, 233.2676,2, 234.4644,2,     0.1,2,    1.18,2,    0.20,2,    0.21,2,   2.597,2,   1.422,2,   1.2270,2,  2080.2,2, 2311.99,2,   7.9196,2, -999.00,9, -999.00,9, -999.00,  -999.0,9, -999.00,9,     -999.0,9,  -999.0,9, 20170813,     1504, -32.5004,-148.9077,        0.0,1,      0.121,1,      4.661,1,      0.162,1,      25.02,     -999.0,9,     -999.0,9,     -999.0,9,     -999.0,9,    15.3835,2,     -999.0,9
320620170703,        P06,     143,          1,         32,         32,2,20170813,       1512,   -32.5002,  -148.9082,       5031,    91.1,  16.4198,  35.3468,2,  35.3851,2, 240.2057,2, 239.8744,2,     0.0,2,    0.09,2,    0.02,2,    0.09,2,   2.394,2,   1.345,2,   1.3650,2,  2066.9,2, 2321.75,2,   7.9600,2, -999.00,9, -999.00,9, -999.00,  -999.0,9, -999.00,9,     -999.0,9,  -999.0,9, 20170813,     1506, -32.5004,-148.9077,        0.0,1,      0.168,1,      4.644,1,      0.178,1,      25.01,     -999.0,9,     -999.0,9,     -999.0,9,     -999.0,9,    16.5104,2,     -999.0,9