BOTTLE,20230922CCHSIOCBG
EXPOCODE,SECT_ID,STNNBR,CASTNO,SAMPNO,BTLNBR,BTLNBR_FLAG_W,DATE,TIME,LATITUDE,LONGITUDE,DEPTH,CTDPRS,CTDTMP,CTDSAL,CTDSAL_FLAG_W,SALNTY,SALNTY_FLAG_W,CTDOXY,CTDOXY_FLAG_W,OXYGEN,OXYGEN_FLAG_W,SILCAT,SILCAT_FLAG_W,NITRAT,NITRAT_FLAG_W,NITRIT,NITRIT_FLAG_W,PHSPHT,PHSPHT_FLAG_W,CFC-11,CFC-11_FLAG_W,CFC-12,CFC-12_FLAG_W,SF6,SF6_FLAG_W,TCARBN,TCARBN_FLAG_W,ALKALI,ALKALI_FLAG_W,PH_TOT,PH_TOT_FLAG_W,DELC13,DELC13_FLAG_W,DELC14,DELC14_FLAG_W,C14ERR,DOC,DOC_FLAG_W,TDN,TDN_FLAG_W,TON,TON_FLAG_W,D15N_NO3,D15N_NO3_FLAG_W,BTL_DATE,BTL_TIME,BTL_LAT,BTL_LON,CTDRINKO,CTDRINKO_FLAG_W,CTDFLUOR,CTDFLUOR_FLAG_W,CTDXMISS,CTDXMISS_FLAG_W,CTDBACKSCATTER,CTDBACKSCATTER_FLAG_W,PH_TMP,D18O_NO3,D18O_NO3_FLAG_W,DOP,DOP_FLAG_W,HPLC,HPLC_FLAG_W,POC,POC_FLAG_W,REFTMP,REFTMP_FLAG_W,TDP,TDP_FLAG_W
,,,,,,,,,,,METERS,DBAR,ITS-90,PSS-78,,PSS-78,,UMOL/KG,,UMOL/KG,,UMOL/KG,,UMOL/KG,,UMOL/KG,,UMOL/KG,,PMOL/KG,,PMOL/KG,,FMOL/KG,,UMOL/KG,,UMOL/KG,,,,/MILLE,,/MILLE,,/MILLE,UMOL/KG,,UMOL/KG,,UMOL/KG,,/MILLE,,,,,,VOLTS,,VOLTS,,VOLTS,,VOLTS,,DEGC,/MILLE,,UMOL/KG,,,,UG/L,,ITS-90,,UMOL/KG,
320620170703,        P06,     120,          1,         33,         33,2,20170804,       0620,   -32.4998,  -164.4883,       5613,    74.6,  17.4064,  35.6422,2,  35.6409,2, 240.4423,3, 233.7827,2,     0.1,2,    0.09,2,    0.02,2,    0.05,2,   2.179,2,   1.284,2,   1.4670,2,  2067.2,2, -999.00,9,   7.9809,2, -999.00,9, -999.00,9, -999.00,    63.5,2,    3.90,2,     -999.0,1,  -999.0,9, 20170804,      617, -32.5000,-164.4885,        0.0,1,      0.178,1,      4.626,1,      0.206,1,      25.04,     -999.0,9,     -999.0,9,     -999.0,9,     -999.0,9,    17.3951,2,     -999.0,9
320620170703,        P06,     120,          1,         34,         34,2,20170804,       0620,   -32.4998,  -164.4883,       5613,    49.6,  17.4445,  35.6433,2,  35.6431,2, 240.8265,3, 233.8972,2,     0.1,2,    0.08,2,    0.02,2,    0.05,2,   2.200,2,   1.300,2,   1.5370,2,  2065.9,2, -999.00,9,   7.9819,2, -999.00,9, -999.00,9, -999.00,    62.3,2,    3.90,2,     -999.0,1,  -999.0,9, 20170804,      618, -32.4999,-164.4884,        0.0,1,      0.195,1,      4.615,1,      0.200,1,      25.03,     -999.0,9,     -999.0,9,     -999.0,9,     -999.0,9,    17.4368,2,     -999.0,9
320620170703,        P06,     120,          1,         35,         35,2,20170804,       0620,   -32.4998,  -164.4883,       5613,    23.2,  17.4515,  35.6441,2,  35.6390,2, 240.9231,3, 233.9540,2,     0.0,2,    0.07,2,    0.02,2,    0.07,2,   2.176,2,   1.282,2,   1.4310,2,  2065.8,2, 2334.77,2,   7.9833,2, -999.00,9, -999.00,9, -999.00,    63.2,2,    4.10,2,     -999.0,1,  -999.0,9, 20170804,      619, -32.4998,-164.4883,        0.0,1,      0.196,1,      4.612,1,      0.207,1,      25.04,     -999.0,9,     -999.0,9,     -999.0,9,     -999.0,9,    17.4629,2,     -999.0,9
320620170703,        P06,     120,          1,         36,         36,2,20170804,       0620,   -32.4998,  -164.4883,       5613,     5.5,  17.4578,  35.6443,2,  35.6265,2, 240.9676,3, 234.0615,2,     0.2,2,    0.14,2,    0.02,2,    0.07,2,   2.173,2,   1.290,2,   1.4610,2,  2064.8,6, 2334.08,2,   7.9836,2, -999.00,9, -999.00,9, -999.00,    63.4,2,    4.10,2,     -999.0,1,  -999.0,9, 20170804,      620, -32.4998,-164.4883,        0.0,1,      0.187,1,      4.609,1,      0.200,1,      25.03,     -999.0,9,     -999.0,9,     -999.0,9,     -999.0,9,    16.9575,2,     -999.0,9