BOTTLE,20230922CCHSIOCBG
EXPOCODE,SECT_ID,STNNBR,CASTNO,SAMPNO,BTLNBR,BTLNBR_FLAG_W,DATE,TIME,LATITUDE,LONGITUDE,DEPTH,CTDPRS,CTDTMP,CTDSAL,CTDSAL_FLAG_W,SALNTY,SALNTY_FLAG_W,CTDOXY,CTDOXY_FLAG_W,OXYGEN,OXYGEN_FLAG_W,SILCAT,SILCAT_FLAG_W,NITRAT,NITRAT_FLAG_W,NITRIT,NITRIT_FLAG_W,PHSPHT,PHSPHT_FLAG_W,CFC-11,CFC-11_FLAG_W,CFC-12,CFC-12_FLAG_W,SF6,SF6_FLAG_W,TCARBN,TCARBN_FLAG_W,ALKALI,ALKALI_FLAG_W,PH_TOT,PH_TOT_FLAG_W,DELC13,DELC13_FLAG_W,DELC14,DELC14_FLAG_W,C14ERR,DOC,DOC_FLAG_W,TDN,TDN_FLAG_W,TON,TON_FLAG_W,D15N_NO3,D15N_NO3_FLAG_W,BTL_DATE,BTL_TIME,BTL_LAT,BTL_LON,CTDRINKO,CTDRINKO_FLAG_W,CTDFLUOR,CTDFLUOR_FLAG_W,CTDXMISS,CTDXMISS_FLAG_W,CTDBACKSCATTER,CTDBACKSCATTER_FLAG_W,PH_TMP,D18O_NO3,D18O_NO3_FLAG_W,DOP,DOP_FLAG_W,HPLC,HPLC_FLAG_W,POC,POC_FLAG_W,REFTMP,REFTMP_FLAG_W,TDP,TDP_FLAG_W
,,,,,,,,,,,METERS,DBAR,ITS-90,PSS-78,,PSS-78,,UMOL/KG,,UMOL/KG,,UMOL/KG,,UMOL/KG,,UMOL/KG,,UMOL/KG,,PMOL/KG,,PMOL/KG,,FMOL/KG,,UMOL/KG,,UMOL/KG,,,,/MILLE,,/MILLE,,/MILLE,UMOL/KG,,UMOL/KG,,UMOL/KG,,/MILLE,,,,,,VOLTS,,VOLTS,,VOLTS,,VOLTS,,DEGC,/MILLE,,UMOL/KG,,,,UG/L,,ITS-90,,UMOL/KG,
320620170703,        P06,      23,          1,          1,         37,2,20170709,       1020,   -30.0803,   158.0001,       2017,  2031.1,   2.4507,  34.6471,2,  34.6462,2, 160.1190,3, 161.9896,2,    98.2,2,   34.15,2,    0.00,2,    2.39,2,-999.000,9,-999.000,9,-999.0000,9,  -999.0,9, -999.00,9,-999.0000,9, -999.00,9, -999.00,9, -999.00,    38.1,2, -999.00,9,     -999.0,1,  -999.0,1, 20170709,      903, -30.0802, 158.0001,        0.0,1,      0.060,1,      2.808,1,      0.125,1,     -999.0,     -999.0,1,     -999.0,9,     -999.0,9,     -999.0,9,     2.4515,2,     -999.0,9
320620170703,        P06,      23,          1,          2,          2,2,20170709,       1020,   -30.0803,   158.0001,       2017,  1973.2,   2.4895,  34.6422,2,  34.6401,2, 158.9994,2, 158.0889,2,    98.2,2,   34.27,2,    0.00,2,    2.40,2,   0.050,2,   0.034,2,   0.0000,2,  2279.8,2, 2364.12,2,   7.5737,2, -999.00,9, -999.00,9, -999.00,    36.3,2, -999.00,9,     -999.0,1,  -999.0,1, 20170709,      906, -30.0802, 158.0001,        0.0,1,      0.060,1,      3.193,1,      0.125,1,      25.02,     -999.0,1,     -999.0,9,     -999.0,9,     -999.0,9,     2.4944,2,     -999.0,9
320620170703,        P06,      23,          1,          3,         38,2,20170709,       1020,   -30.0803,   158.0001,       2017,  1922.1,   2.5336,  34.6365,2,  34.6341,2, 157.1939,2, 156.0167,2,    98.2,2,   34.41,2,    0.00,2,    2.40,2,-999.000,9,-999.000,9,-999.0000,9,  -999.0,9, -999.00,9,-999.0000,9, -999.00,9, -999.00,9, -999.00,  -999.0,9, -999.00,9,     -999.0,9,  -999.0,1, 20170709,      909, -30.0802, 158.0001,        0.0,1,      0.061,1,      3.633,1,      0.124,1,     -999.0,     -999.0,1,     -999.0,9,     -999.0,9,     -999.0,9,     2.5395,2,     -999.0,9
320620170703,        P06,      23,          1,          4,          4,2,20170709,       1020,   -30.0803,   158.0001,       2017,  1821.3,   2.6157,  34.6264,2,  34.6246,2, 154.8051,2, 154.3077,2,    97.9,2,   34.60,2,    0.00,2,    2.43,2,   0.032,2,   0.036,2,   0.0000,2,  2282.5,2, 2365.16,2,   7.5701,2, -999.00,9, -999.00,9, -999.00,    35.9,2, -999.00,9,     -999.0,1,  -999.0,1, 20170709,      912, -30.0802, 158.0001,        0.0,1,      0.060,1,      4.486,1,      0.126,1,      25.01,     -999.0,1,     -999.0,9,     -999.0,9,     -999.0,9,     2.6195,2,     -999.0,9
320620170703,        P06,      23,          1,          5,         39,2,20170709,       1020,   -30.0803,   158.0001,       2017,  1719.3,   2.8024,  34.6058,2,  34.6050,2, 150.8385,2, 150.7268,2,    97.1,2,   34.84,2,    0.00,2,    2.45,2,-999.000,9,-999.000,9,-999.0000,9,  -999.0,9, -999.00,9,-999.0000,9, -999.00,9, -999.00,9, -999.00,  -999.0,9, -999.00,9,     -999.0,9,  -999.0,1, 20170709,      915, -30.0801, 158.0001,        0.0,1,      0.061,1,      4.680,1,      0.119,1,     -999.0,     -999.0,1,     -999.0,9,     -999.0,9,     -999.0,9,     2.7943,2,     -999.0,9
320620170703,        P06,      23,          1,          6,          6,2,20170709,       1020,   -30.0803,   158.0001,       2017,  1617.3,   3.0196,  34.5852,2,  34.5826,2, 151.7304,2, 152.3588,2,    91.4,2,   34.65,2,    0.00,2,    2.41,2,   0.053,2,   0.049,2,   0.0000,2,  2278.0,2, 2360.13,2,   7.5709,2, -999.00,9, -999.00,9, -999.00,    36.7,2, -999.00,9,     -999.0,1,  -999.0,1, 20170709,      918, -30.0800, 158.0000,        0.0,1,      0.060,1,      4.083,1,      0.121,1,      25.02,     -999.0,1,     -999.0,9,     -999.0,9,     -999.0,9,     3.0325,2,     -999.0,9
320620170703,        P06,      23,          1,          7,         40,2,20170709,       1020,   -30.0803,   158.0001,       2017,  1517.0,   3.3181,  34.5590,2,  34.5567,2, 154.8591,2, 154.9803,2,    84.1,2,   34.24,2,    0.00,2,    2.39,2,-999.000,9,-999.000,9,-999.0000,9,  -999.0,9, -999.00,9,-999.0000,9, -999.00,9, -999.00,9, -999.00,  -999.0,9, -999.00,9,     -999.0,9,  -999.0,1, 20170709,      921, -30.0799, 158.0000,        0.0,1,      0.060,1,      4.474,1,      0.123,1,     -999.0,     -999.0,1,     -999.0,9,     -999.0,9,     -999.0,9,     3.3197,2,     -999.0,9
320620170703,        P06,      23,          1,          8,          8,2,20170709,       1020,   -30.0803,   158.0001,       2017,  1416.5,   3.6614,  34.5299,2,  34.5569,2, 160.2232,2, 160.7242,2,    74.5,2,   33.49,2,    0.00,2,    2.33,2,   0.157,2,   0.111,2,   0.1020,2,  2253.8,2, 2344.76,2,   7.5861,2, -999.00,9, -999.00,9, -999.00,    39.1,2, -999.00,9,     -999.0,1,  -999.0,1, 20170709,      924, -30.0798, 157.9999,        0.0,1,      0.059,1,      4.246,1,      0.122,1,      25.00,     -999.0,1,     -999.0,9,     -999.0,9,     -999.0,9,     3.6721,2,     -999.0,9
320620170703,        P06,      23,          1,          9,         41,2,20170709,       1020,   -30.0803,   158.0001,       2017,  1313.7,   4.0542,  34.5031,2,  34.5276,2, 166.9143,2, 166.7565,2,    64.7,2,   32.60,2,    0.00,2,    2.26,2,-999.000,9,-999.000,9,-999.0000,9,  -999.0,9, -999.00,9,-999.0000,9, -999.00,9, -999.00,9, -999.00,  -999.0,9, -999.00,9,     -999.0,9,  -999.0,1, 20170709,      926, -30.0798, 157.9999,        0.0,1,      0.059,1,      4.660,1,      0.122,1,     -999.0,     -999.0,1,     -999.0,9,     -999.0,9,     -999.0,9,     4.0429,2,     -999.0,9
320620170703,        P06,      23,          1,         10,         10,2,20170709,       1020,   -30.0803,   158.0001,       2017,  1212.5,   4.5547,  34.4725,2,  34.5021,2, 174.6322,2, 174.9504,2,    64.7,4,   32.64,4,    0.00,4,    2.25,4,   0.414,2,   0.237,2,   0.1200,2,  2225.1,2, 2318.06,2,   7.6102,2, -999.00,9, -999.00,9, -999.00,    37.9,2, -999.00,9,     -999.0,1,  -999.0,1, 20170709,      929, -30.0800, 158.0000,        0.0,1,      0.059,1,      3.415,1,      0.122,1,      25.02,     -999.0,1,     -999.0,9,     -999.0,9,     -999.0,9,     4.5117,2,     -999.0,9
320620170703,        P06,      23,          1,         11,         42,2,20170709,       1020,   -30.0803,   158.0001,       2017,  1110.7,   5.1768,  34.4497,2,  34.4724,2, 183.6042,2, 182.8747,2,    40.5,2,   29.96,2,    0.00,2,    2.04,2,-999.000,9,-999.000,9,-999.0000,9,  -999.0,9, -999.00,9,-999.0000,9, -999.00,9, -999.00,9, -999.00,    37.2,2, -999.00,9,     -999.0,1,  -999.0,1, 20170709,      932, -30.0802, 158.0001,        0.0,1,      0.059,1,      2.206,1,      0.124,1,     -999.0,     -999.0,1,     -999.0,9,     -999.0,9,     -999.0,9,     5.1570,2,     -999.0,9
320620170703,        P06,      23,          1,         12,         12,2,20170709,       1020,   -30.0803,   158.0001,       2017,  1010.4,   5.8412,  34.4476,2,  34.4489,2, 191.4282,2, 191.2496,2,    29.9,2,   28.18,2,    0.00,2,    1.92,2,   1.021,2,   0.529,2,   0.2300,2,  2187.4,2, 2298.69,2,   7.6457,2, -999.00,9, -999.00,9, -999.00,    38.8,2, -999.00,9,     -999.0,1,  -999.0,1, 20170709,      935, -30.0803, 158.0001,        0.0,1,      0.059,1,      4.494,1,      0.121,1,      25.00,     -999.0,1,     -999.0,9,     -999.0,9,     -999.0,9,     5.8498,2,     -999.0,9
320620170703,        P06,      23,          1,         13,         43,2,20170709,       1020,   -30.0803,   158.0001,       2017,   909.2,   6.5077,  34.4569,2,  34.4469,2, 200.1117,2, 200.5744,2,    20.6,2,   25.94,2,    0.00,2,    1.75,2,-999.000,9,-999.000,9,-999.0000,9,  -999.0,9, -999.00,9,-999.0000,9, -999.00,9, -999.00,9, -999.00,    38.9,2, -999.00,9,     -999.0,1,  -999.0,1, 20170709,      938, -30.0803, 158.0001,        0.0,1,      0.059,1,      4.391,1,      0.121,1,     -999.0,     -999.0,1,     -999.0,9,     -999.0,9,     -999.0,9,     6.6057,2,     -999.0,9
320620170703,        P06,      23,          1,         14,         14,2,20170709,       1020,   -30.0803,   158.0001,       2017,   806.9,   7.3368,  34.4980,2,  34.4583,2, 201.9500,2, 202.2098,2,    14.8,2,   23.95,2,    0.00,2,    1.63,2,   1.848,2,   0.964,2,   0.3290,2,  2161.9,2, 2286.50,2,   7.6878,2, -999.00,9, -999.00,9, -999.00,    40.2,2, -999.00,9,     -999.0,1,  -999.0,1, 20170709,      941, -30.0801, 158.0001,        0.0,1,      0.058,1,      1.915,1,      0.123,1,      25.02,     -999.0,1,     -999.0,9,     -999.0,9,     -999.0,9,     7.4366,2,     -999.0,9
320620170703,        P06,      23,          1,         15,         15,2,20170709,       1020,   -30.0803,   158.0001,       2017,   707.5,   8.6463,  34.6139,2,  34.5023,2, 200.7255,2, 200.6199,2,    10.3,2,   21.32,2,    0.00,2,    1.44,2,-999.000,9,-999.000,9,-999.0000,9,  -999.0,9, -999.00,9,-999.0000,9, -999.00,9, -999.00,9, -999.00,    41.6,2, -999.00,9,     -999.0,1,  -999.0,1, 20170709,      944, -30.0799, 158.0001,        0.0,1,      0.059,1,      4.105,1,      0.123,1,     -999.0,     -999.0,1,     -999.0,9,     -999.0,9,     -999.0,9,     8.6703,2,     -999.0,9
320620170703,        P06,      23,          1,         16,         16,2,20170709,       1020,   -30.0803,   158.0001,       2017,   605.2,  10.0372,  34.7675,2,  34.6150,3, 196.9242,2, 196.8308,2,     7.2,2,   18.18,2,    0.00,2,    1.22,2,   2.398,2,   1.291,2,   0.5950,2,  2147.3,2, 2294.81,6,   7.7433,2, -999.00,9, -999.00,9, -999.00,    43.1,2, -999.00,9,     -999.0,1,  -999.0,1, 20170709,      947, -30.0797, 158.0000,        0.0,1,      0.058,1,      4.599,1,      0.126,1,      25.00,     -999.0,1,     -999.0,9,     -999.0,9,     -999.0,9,    10.2178,2,     -999.0,9
320620170703,        P06,      23,          1,         17,         17,2,20170709,       1020,   -30.0803,   158.0001,       2017,   504.4,  12.0177,  35.0080,2,  34.7852,3, 195.7551,2, 194.5185,2,     5.1,2,   14.43,2,    0.01,2,    1.00,2,-999.000,9,-999.000,9,-999.0000,9,  -999.0,9, -999.00,9,-999.0000,9, -999.00,9, -999.00,9, -999.00,    44.1,2, -999.00,9,     -999.0,1,  -999.0,1, 20170709,      950, -30.0798, 158.0000,        0.0,1,      0.059,1,      2.909,1,      0.124,1,     -999.0,     -999.0,1,     -999.0,9,     -999.0,9,     -999.0,9,    11.9950,2,     -999.0,9
320620170703,        P06,      23,          1,         18,         18,2,20170709,       1020,   -30.0803,   158.0001,       2017,   454.1,  13.4990,  35.2129,2,  35.0049,2, 199.6865,2, 198.3120,2,     3.5,2,   11.39,2,    0.01,2,    0.79,2,   2.391,2,   1.361,2,   0.8610,2,  2120.9,2, 2312.63,2,   7.8282,2, -999.00,9, -999.00,9, -999.00,    45.7,2, -999.00,9,     -999.0,1,  -999.0,1, 20170709,      952, -30.0798, 158.0000,        0.0,1,      0.060,1,      2.508,1,      0.127,1,      25.00,     -999.0,1,     -999.0,9,     -999.0,9,     -999.0,9,    13.4078,2,     -999.0,9
320620170703,        P06,      23,          1,         19,         19,2,20170709,       1020,   -30.0803,   158.0001,       2017,   403.3,  14.9235,  35.3088,2,  35.1904,2, 194.1453,3, 196.9626,2,     2.8,2,    9.77,2,    0.01,2,    0.67,2,-999.000,9,-999.000,9,-999.0000,9,  -999.0,9, -999.00,9,-999.0000,9, -999.00,9, -999.00,9, -999.00,    45.7,2, -999.00,9,     -999.0,1,  -999.0,1, 20170709,      955, -30.0798, 158.0000,        0.0,1,      0.058,1,      4.535,1,      0.127,1,     -999.0,     -999.0,1,     -999.0,9,     -999.0,9,     -999.0,9,    14.5226,2,     -999.0,9
320620170703,        P06,      23,          1,         20,         20,2,20170709,       1020,   -30.0803,   158.0001,       2017,   352.5,  15.9024,  35.4170,2,  35.3914,2, 190.8115,2, 191.5351,2,     2.3,2,    8.48,2,    0.01,2,    0.60,2,   2.254,2,   1.298,2,   0.8740,2,  2107.6,2, 2317.80,2,   7.8764,2, -999.00,9, -999.00,9, -999.00,    47.6,2, -999.00,9,     -999.0,1,  -999.0,1, 20170709,      957, -30.0798, 158.0000,        0.0,1,      0.058,1,      4.574,1,      0.124,1,      25.01,     -999.0,1,     -999.0,1,     -999.0,9,     -999.0,9,    15.7173,2,       1.19,2
320620170703,        P06,      23,          1,         21,         21,2,20170709,       1020,   -30.0803,   158.0001,       2017,   303.0,  16.9191,  35.5101,2,  35.4987,2, 190.3691,2, 191.3495,2,     1.8,2,    6.88,2,    0.01,2,    0.50,2,-999.000,9,-999.000,9,-999.0000,9,  -999.0,9, -999.00,9,-999.0000,9, -999.00,9, -999.00,9, -999.00,    50.1,2, -999.00,9,     -999.0,1,  -999.0,1, 20170709,     1000, -30.0799, 158.0000,        0.0,1,      0.059,1,      4.498,1,      0.124,1,     -999.0,     -999.0,1,     -999.0,1,     -999.0,9,     -999.0,9,    16.8469,2,       0.71,2
320620170703,        P06,      23,          1,         22,         22,2,20170709,       1020,   -30.0803,   158.0001,       2017,   251.7,  18.2756,  35.6287,2,  35.6287,2, 194.7007,3, 192.7073,2,     1.1,2,    4.90,2,    0.01,2,    0.38,2,   2.074,2,   1.227,2,   0.9980,2,  2084.5,2, 2330.96,2,   7.9412,2, -999.00,9, -999.00,9, -999.00,    49.9,2, -999.00,9,     -999.0,1,  -999.0,1, 20170709,     1002, -30.0800, 158.0001,        0.0,1,      0.059,1,      4.683,1,      0.126,1,      25.01,     -999.0,1,     -999.0,1,     -999.0,9,     -999.0,9,    18.3373,2,       0.55,2
320620170703,        P06,      23,          1,         23,         23,2,20170709,       1020,   -30.0803,   158.0001,       2017,   226.2,  18.7818,  35.6900,2,  35.6739,2, 199.0292,3, 196.8463,2,     0.9,2,    4.08,2,    0.01,2,    0.33,2,-999.000,9,-999.000,9,-999.0000,9,  -999.0,9, -999.00,9,-999.0000,9, -999.00,9, -999.00,9, -999.00,  -999.0,9, -999.00,9,     -999.0,9,  -999.0,1, 20170709,     1004, -30.0801, 158.0001,        0.0,1,      0.058,1,      4.601,1,      0.128,1,     -999.0,     -999.0,1,     -999.0,1,     -999.0,9,     -999.0,9,    18.7281,2,       0.41,2
320620170703,        P06,      23,          1,         24,         24,2,20170709,       1020,   -30.0803,   158.0001,       2017,   202.2,  19.0454,  35.6855,2,  35.6838,2, 194.6226,3, 197.0458,2,     0.9,2,    3.85,2,    0.02,2,    0.31,2,   1.966,6,   1.203,6,   0.9950,6,  2076.1,2, 2334.29,2,   7.9605,2, -999.00,9, -999.00,9, -999.00,    50.8,2,    7.10,2,     -999.0,1,  -999.0,1, 20170709,     1006, -30.0801, 158.0001,        0.0,1,      0.059,1,      4.254,1,      0.130,1,      25.01,     -999.0,1,     -999.0,1,     -999.0,9,     -999.0,9,    18.9780,2,       0.47,2
320620170703,        P06,      23,          1,         25,         25,2,20170709,       1020,   -30.0803,   158.0001,       2017,   176.0,  19.5428,  35.7274,2,  35.7165,2, 201.4289,3, 197.6084,2,     0.7,2,    3.33,2,    0.03,2,    0.27,2,-999.000,9,-999.000,9,-999.0000,9,  -999.0,9, -999.00,9,-999.0000,9, -999.00,9, -999.00,9, -999.00,  -999.0,9, -999.00,9,     -999.0,9,  -999.0,1, 20170709,     1008, -30.0801, 158.0001,        0.0,1,      0.060,1,      2.214,1,      0.133,1,     -999.0,     -999.0,1,     -999.0,1,     -999.0,9,     -999.0,9,    19.4378,2,       0.48,2
320620170703,        P06,      23,          1,         26,         26,2,20170709,       1020,   -30.0803,   158.0001,       2017,   151.1,  20.2155,  35.7977,2,  35.7876,2, 215.7766,3, 213.0577,2,     0.4,2,    1.07,2,    0.23,2,    0.15,2,   1.837,2,   1.139,2,   1.0140,2,  2053.0,2, 2339.12,2,   8.0112,2, -999.00,9, -999.00,9, -999.00,    56.9,2,    5.20,2,     -999.0,1,  -999.0,1, 20170709,     1009, -30.0802, 158.0001,        0.0,1,      0.091,1,      3.193,1,      0.146,1,      25.01,     -999.0,1,     -999.0,1,     -999.0,9,     -999.0,9,    20.2023,2,       0.38,2
320620170703,        P06,      23,          1,         27,         27,2,20170709,       1020,   -30.0803,   158.0001,       2017,   125.6,  20.2508,  35.8032,2,  35.8003,2, 217.2533,2, 218.2610,2,     0.3,2,    0.53,2,    0.26,2,    0.10,2,-999.000,9,-999.000,9,-999.0000,9,  -999.0,9, -999.00,9,-999.0000,9, -999.00,9, -999.00,9, -999.00,    59.4,2,    5.00,2,     -999.0,1,  -999.0,1, 20170709,     1011, -30.0802, 158.0001,        0.0,1,      0.108,1,      1.794,1,      0.150,1,     -999.0,     -999.0,1,     -999.0,1,     -999.0,9,     -999.0,9,    20.2251,2,       0.29,2
320620170703,        P06,      23,          1,         28,         28,2,20170709,       1020,   -30.0803,   158.0001,       2017,   100.8,  20.2494,  35.8034,2,  35.7981,2, 217.1645,2, 217.8008,2,     0.3,2,    0.56,2,    0.27,2,    0.12,2,   1.811,2,   1.139,2,   1.0180,2,  2048.2,2, 2344.10,2,   8.0207,2, -999.00,9, -999.00,9, -999.00,    59.3,2,    4.80,2,     -999.0,1,  -999.0,1, 20170709,     1013, -30.0802, 158.0001,        0.0,1,      0.118,1,      2.836,1,      0.151,1,      25.01,     -999.0,1,     -999.0,1,     -999.0,9,     -999.0,9,    20.2274,2,       0.31,2
320620170703,        P06,      23,          1,         29,         29,2,20170709,       1020,   -30.0803,   158.0001,       2017,    74.7,  20.2481,  35.8038,2,  35.7997,2, 217.0507,2, 217.4736,2,     0.3,2,    0.57,2,    0.28,2,    0.12,2,-999.000,9,-999.000,9,-999.0000,9,  -999.0,9, -999.00,9,-999.0000,9, -999.00,9, -999.00,9, -999.00,    58.7,2,    4.80,2,     -999.0,1,  -999.0,1, 20170709,     1015, -30.0801, 158.0001,        0.0,1,      0.119,1,      3.825,1,      0.163,1,     -999.0,     -999.0,1,     -999.0,1,     -999.0,9,     -999.0,9,    20.2295,2,       0.38,2
320620170703,        P06,      23,          1,         30,         30,2,20170709,       1020,   -30.0803,   158.0001,       2017,    49.9,  20.2508,  35.8047,2,  35.7993,2, 217.0684,2, 217.9018,2,     0.3,2,    0.56,2,    0.27,2,    0.13,2,   1.820,2,   1.146,2,   1.0160,2,  2047.2,2, 2341.44,2,   8.0214,2, -999.00,9, -999.00,9, -999.00,    58.7,2,    5.30,2,     -999.0,1,  -999.0,1, 20170709,     1017, -30.0801, 158.0001,        0.0,1,      0.126,1,      3.851,1,      0.159,1,      25.01,     -999.0,1,     -999.0,1,     -999.0,9,     -999.0,9,    20.2279,2,       0.29,2
320620170703,        P06,      23,          1,         31,         31,2,20170709,       1020,   -30.0803,   158.0001,       2017,    25.0,  20.2486,  35.8046,2,  35.8007,2, 217.2012,2, 218.4968,2,     0.3,2,    0.53,2,    0.27,2,    0.13,2,-999.000,9,-999.000,9,-999.0000,9,  -999.0,9, -999.00,9,-999.0000,9, -999.00,9, -999.00,9, -999.00,    58.4,2,    5.30,2,     -999.0,1,  -999.0,1, 20170709,     1019, -30.0802, 158.0001,        0.0,1,      0.121,1,      4.624,1,      0.157,1,     -999.0,     -999.0,1,     -999.0,1,     -999.0,9,     -999.0,9,    20.2249,2,       0.34,2
320620170703,        P06,      23,          1,         32,         32,2,20170709,       1020,   -30.0803,   158.0001,       2017,     4.2,  20.2516,  35.8048,2,  35.8011,2, 216.1407,3, 218.4987,2,     0.3,2,    0.54,2,    0.26,2,    0.14,2,   1.861,2,   1.162,2,   1.0890,2,  2048.8,6, 2341.94,2,   8.0203,2, -999.00,9, -999.00,9, -999.00,    61.8,2,    5.80,2,     -999.0,1,  -999.0,1, 20170709,     1020, -30.0803, 158.0001,        0.0,1,      0.131,1,      3.013,1,      0.171,1,      25.02,     -999.0,1,     -999.0,1,     -999.0,9,     -999.0,9,    20.2074,2,       0.31,2