BOTTLE,20230922CCHSIOCBG
EXPOCODE,SECT_ID,STNNBR,CASTNO,SAMPNO,BTLNBR,BTLNBR_FLAG_W,DATE,TIME,LATITUDE,LONGITUDE,DEPTH,CTDPRS,CTDTMP,CTDSAL,CTDSAL_FLAG_W,SALNTY,SALNTY_FLAG_W,CTDOXY,CTDOXY_FLAG_W,OXYGEN,OXYGEN_FLAG_W,SILCAT,SILCAT_FLAG_W,NITRAT,NITRAT_FLAG_W,NITRIT,NITRIT_FLAG_W,PHSPHT,PHSPHT_FLAG_W,CFC-11,CFC-11_FLAG_W,CFC-12,CFC-12_FLAG_W,SF6,SF6_FLAG_W,TCARBN,TCARBN_FLAG_W,ALKALI,ALKALI_FLAG_W,PH_TOT,PH_TOT_FLAG_W,DELC13,DELC13_FLAG_W,DELC14,DELC14_FLAG_W,C14ERR,DOC,DOC_FLAG_W,TDN,TDN_FLAG_W,TON,TON_FLAG_W,D15N_NO3,D15N_NO3_FLAG_W,BTL_DATE,BTL_TIME,BTL_LAT,BTL_LON,CTDRINKO,CTDRINKO_FLAG_W,CTDFLUOR,CTDFLUOR_FLAG_W,CTDXMISS,CTDXMISS_FLAG_W,CTDBACKSCATTER,CTDBACKSCATTER_FLAG_W,PH_TMP,D18O_NO3,D18O_NO3_FLAG_W,DOP,DOP_FLAG_W,HPLC,HPLC_FLAG_W,POC,POC_FLAG_W,REFTMP,REFTMP_FLAG_W,TDP,TDP_FLAG_W
,,,,,,,,,,,METERS,DBAR,ITS-90,PSS-78,,PSS-78,,UMOL/KG,,UMOL/KG,,UMOL/KG,,UMOL/KG,,UMOL/KG,,UMOL/KG,,PMOL/KG,,PMOL/KG,,FMOL/KG,,UMOL/KG,,UMOL/KG,,,,/MILLE,,/MILLE,,/MILLE,UMOL/KG,,UMOL/KG,,UMOL/KG,,/MILLE,,,,,,VOLTS,,VOLTS,,VOLTS,,VOLTS,,DEGC,/MILLE,,UMOL/KG,,,,UG/L,,ITS-90,,UMOL/KG,
320620170703,        P06,      63,          1,          1,         37,2,20170717,       0015,   -30.0797,   171.4996,       2255,  2276.6,   2.1837,  34.6469,2,  34.6474,2, 154.6568,2, 154.5751,2,   114.4,2,   34.99,2,    0.00,2,    2.45,2,-999.000,9,-999.000,9,-999.0000,9,  2300.4,2, 2389.20,2,   7.5781,2, -999.00,9, -999.00,9, -999.00,  -999.0,9, -999.00,9,     -999.0,9,  -999.0,9, 20170716,     2245, -30.0798, 171.4998,        0.0,1,      0.061,1,      4.697,1,      0.158,1,      25.18,     -999.0,9,     -999.0,9,     -999.0,9,     -999.0,9,     2.1843,2,     -999.0,9
320620170703,        P06,      63,          1,          2,          2,2,20170717,       0015,   -30.0797,   171.4996,       2255,  2191.4,   2.2331,  34.6427,2,  34.6425,3, 154.8257,2, 154.7580,2,   113.2,2,   34.99,2,    0.00,2,    2.44,2,-999.000,9,-999.000,9,-999.0000,9,  2298.1,2, 2386.81,2,   7.5785,2, -999.00,9, -999.00,9, -999.00,  -999.0,9, -999.00,9,     -999.0,9,  -999.0,9, 20170716,     2248, -30.0797, 171.4997,        0.0,1,      0.061,1,      4.700,1,      0.152,1,      25.04,     -999.0,9,     -999.0,9,     -999.0,9,     -999.0,9,     2.2282,2,     -999.0,9
320620170703,        P06,      63,          1,          3,         38,2,20170717,       0015,   -30.0797,   171.4996,       2255,  2089.5,   2.3094,  34.6363,2,  34.6366,2, 155.3317,2, 155.1901,2,   111.1,2,   34.84,2,    0.00,2,    2.45,2,-999.000,9,-999.000,9,-999.0000,9,  -999.0,9, -999.00,9,-999.0000,9, -999.00,9, -999.00,9, -999.00,  -999.0,9, -999.00,9,     -999.0,9,  -999.0,9, 20170716,     2252, -30.0795, 171.4995,        0.0,1,      0.061,1,      4.701,1,      0.147,1,     -999.0,     -999.0,9,     -999.0,9,     -999.0,9,     -999.0,9,     2.3058,2,     -999.0,9
320620170703,        P06,      63,          1,          4,          4,2,20170717,       0015,   -30.0797,   171.4996,       2255,  1957.0,   2.4979,  34.6213,2,  34.6215,2, 156.3990,2, 156.4693,2,   105.4,2,   34.63,2,    0.00,2,    2.42,2,-999.000,9,-999.000,9,-999.0000,9,  -999.0,9, -999.00,9,-999.0000,9, -999.00,9, -999.00,9, -999.00,  -999.0,9, -999.00,9,     -999.0,9,  -999.0,9, 20170716,     2256, -30.0795, 171.4996,        0.0,1,      0.061,1,      4.702,1,      0.145,1,     -999.0,     -999.0,9,     -999.0,9,     -999.0,9,     -999.0,9,     2.4955,2,     -999.0,9
320620170703,        P06,      63,          1,          5,         39,2,20170717,       0015,   -30.0797,   171.4996,       2255,  1854.5,   2.6788,  34.6066,2,  34.6054,2, 157.6713,2, 157.8700,2,   100.0,2,   34.34,2,    0.00,2,    2.39,2,-999.000,9,-999.000,9,-999.0000,9,  2284.4,2, 2373.43,2,   7.5813,2, -999.00,9, -999.00,9, -999.00,  -999.0,9, -999.00,9,     -999.0,9,  -999.0,9, 20170716,     2300, -30.0797, 171.4997,        0.0,1,      0.062,1,      4.702,1,      0.146,1,      25.04,     -999.0,9,     -999.0,9,     -999.0,9,     -999.0,9,     2.6858,2,     -999.0,9
320620170703,        P06,      63,          1,          6,          6,2,20170717,       0015,   -30.0797,   171.4996,       2255,  1753.2,   2.8443,  34.5930,2,  34.5914,2, 159.0383,2, 159.2406,2,    95.2,2,   34.10,2,    0.00,2,    2.37,2,-999.000,9,-999.000,9,-999.0000,9,  -999.0,9, -999.00,9,-999.0000,9, -999.00,9, -999.00,9, -999.00,  -999.0,9, -999.00,9,     -999.0,9,  -999.0,9, 20170716,     2303, -30.0798, 171.4998,        0.0,1,      0.061,1,      4.702,1,      0.147,1,     -999.0,     -999.0,9,     -999.0,9,     -999.0,9,     -999.0,9,     2.8570,2,     -999.0,9
320620170703,        P06,      63,          1,          7,         40,2,20170717,       0015,   -30.0797,   171.4996,       2255,  1651.5,   3.0292,  34.5768,2,  34.5718,2, 161.5179,2, 161.5950,2,    88.9,2,   33.77,2,    0.00,2,    2.36,2,-999.000,9,-999.000,9,-999.0000,9,  2269.4,2, 2359.78,6,   7.5861,2, -999.00,9, -999.00,9, -999.00,  -999.0,9, -999.00,9,     -999.0,9,  -999.0,9, 20170716,     2307, -30.0798, 171.4998,        0.0,1,      0.061,1,      4.702,1,      0.144,1,      25.04,     -999.0,9,     -999.0,9,     -999.0,9,     -999.0,9,     3.0846,2,     -999.0,9
320620170703,        P06,      63,          1,          8,          8,2,20170717,       0015,   -30.0797,   171.4996,       2255,  1551.4,   3.2999,  34.5528,2,  34.5484,2, 165.3074,2, 164.9845,2,    80.6,2,   33.35,2,    0.00,2,    2.32,2,-999.000,9,-999.000,9,-999.0000,9,  -999.0,9, -999.00,9,-999.0000,9, -999.00,9, -999.00,9, -999.00,  -999.0,9, -999.00,9,     -999.0,9,  -999.0,9, 20170716,     2310, -30.0798, 171.4998,        0.0,1,      0.061,1,      4.703,1,      0.143,1,     -999.0,     -999.0,9,     -999.0,9,     -999.0,9,     -999.0,9,     3.3787,2,     -999.0,9
320620170703,        P06,      63,          1,          9,         41,2,20170717,       0015,   -30.0797,   171.4996,       2255,  1449.3,   3.7156,  34.5185,2,  34.5150,2, 170.1184,2, 170.5616,2,    70.1,2,   32.61,2,    0.00,2,    2.26,2,-999.000,9,-999.000,9,-999.0000,9,  2247.6,2, 2338.61,2,   7.5983,2, -999.00,9, -999.00,9, -999.00,  -999.0,9, -999.00,9,     -999.0,9,  -999.0,9, 20170716,     2314, -30.0797, 171.4997,        0.0,1,      0.062,1,      4.703,1,      0.144,1,      25.04,     -999.0,9,     -999.0,9,     -999.0,9,     -999.0,9,     3.7571,2,     -999.0,9
320620170703,        P06,      63,          1,         10,         10,2,20170717,       0015,   -30.0797,   171.4996,       2255,  1347.7,   4.0237,  34.4962,2,  34.4954,2, 173.9881,2, 174.1108,2,    62.4,2,   32.03,2,    0.00,2,    2.22,2,-999.000,9,-999.000,9,-999.0000,9,  -999.0,9, -999.00,9,-999.0000,9, -999.00,9, -999.00,9, -999.00,  -999.0,9, -999.00,9,     -999.0,9,  -999.0,9, 20170716,     2317, -30.0796, 171.4996,        0.0,1,      0.061,1,      4.703,1,      0.141,1,     -999.0,     -999.0,9,     -999.0,9,     -999.0,9,     -999.0,9,     4.0411,2,     -999.0,9
320620170703,        P06,      63,          1,         11,         42,2,20170717,       0015,   -30.0797,   171.4996,       2255,  1246.3,   4.3617,  34.4800,2,  34.4754,2, 179.3749,2, 178.8043,2,    53.6,2,   31.21,2,    0.00,2,    2.16,2,-999.000,9,-999.000,9,-999.0000,9,  -999.0,9, -999.00,9,-999.0000,9, -999.00,9, -999.00,9, -999.00,  -999.0,9, -999.00,9,     -999.0,9,  -999.0,9, 20170716,     2320, -30.0796, 171.4996,        0.0,1,      0.061,1,      4.703,1,      0.140,1,     -999.0,     -999.0,9,     -999.0,9,     -999.0,9,     -999.0,9,     4.4289,2,     -999.0,9
320620170703,        P06,      63,          1,         12,         12,2,20170717,       0015,   -30.0797,   171.4996,       2255,  1145.4,   5.0357,  34.4649,2,  34.4601,2, 185.5692,2, 185.9970,2,    41.3,2,   29.67,2,    0.00,2,    2.03,2,-999.000,9,-999.000,9,-999.0000,9,  -999.0,9, -999.00,9,-999.0000,9, -999.00,9, -999.00,9, -999.00,  -999.0,9, -999.00,9,     -999.0,9,  -999.0,9, 20170716,     2324, -30.0797, 171.4997,        0.0,1,      0.061,1,      4.702,1,      0.144,1,     -999.0,     -999.0,9,     -999.0,9,     -999.0,9,     -999.0,9,     5.1019,2,     -999.0,9
320620170703,        P06,      63,          1,         13,         43,2,20170717,       0015,   -30.0797,   171.4996,       2255,  1043.6,   5.6701,  34.4746,2,  34.4746,2, 189.7090,2, 189.2238,2,    34.0,2,   28.34,2,    0.00,2,    1.94,2,-999.000,9,-999.000,9,-999.0000,9,  2193.2,2, 2303.22,2,   7.6434,2, -999.00,9, -999.00,9, -999.00,  -999.0,9, -999.00,9,     -999.0,9,  -999.0,9, 20170716,     2327, -30.0799, 171.4999,        0.0,1,      0.060,1,      4.702,1,      0.142,1,      25.04,     -999.0,9,     -999.0,9,     -999.0,9,     -999.0,9,     5.7488,2,     -999.0,9
320620170703,        P06,      63,          1,         14,         14,2,20170717,       0015,   -30.0797,   171.4996,       2255,   943.1,   6.5086,  34.4997,2,  34.5115,2, 193.9554,2, 193.3905,2,    25.7,2,   26.26,2,    0.00,2,    1.91,2,-999.000,9,-999.000,9,-999.0000,9,  -999.0,9, -999.00,9,-999.0000,9, -999.00,9, -999.00,9, -999.00,  -999.0,9, -999.00,9,     -999.0,9,  -999.0,9, 20170716,     2331, -30.0800, 171.5000,        0.0,1,      0.060,1,      4.701,1,      0.142,1,     -999.0,     -999.0,9,     -999.0,9,     -999.0,9,     -999.0,9,     6.6410,2,     -999.0,9
320620170703,        P06,      63,          1,         15,         15,2,20170717,       0015,   -30.0797,   171.4996,       2255,   843.0,   7.6081,  34.5718,2,  34.5594,2, 197.5752,2, 197.9855,2,    18.7,2,   24.11,2,    0.00,2,    1.72,2,-999.000,9,-999.000,9,-999.0000,9,  -999.0,9, -999.00,9,-999.0000,9, -999.00,9, -999.00,9, -999.00,  -999.0,9, -999.00,9,     -999.0,9,  -999.0,9, 20170716,     2334, -30.0800, 171.5000,        0.0,1,      0.060,1,      4.699,1,      0.143,1,     -999.0,     -999.0,9,     -999.0,9,     -999.0,9,     -999.0,9,     7.5171,2,     -999.0,9
320620170703,        P06,      63,          1,         16,         16,2,20170717,       0015,   -30.0797,   171.4996,       2255,   740.3,   8.3789,  34.6300,2,  34.6126,2, 199.2680,2, 199.3992,2,    13.9,2,   22.30,2,    0.00,2,    1.50,2,-999.000,9,-999.000,9,-999.0000,9,  -999.0,9, -999.00,9,-999.0000,9, -999.00,9, -999.00,9, -999.00,  -999.0,9, -999.00,9,     -999.0,9,  -999.0,9, 20170716,     2337, -30.0799, 171.4999,        0.0,1,      0.059,1,      4.698,1,      0.143,1,     -999.0,     -999.0,9,     -999.0,9,     -999.0,9,     -999.0,9,     8.2988,2,     -999.0,9
320620170703,        P06,      63,          1,         17,         17,2,20170717,       0015,   -30.0797,   171.4996,       2255,   640.0,   9.4928,  34.7124,2,  34.7032,2, 201.9747,2, 202.7645,2,     8.8,2,   19.41,2,    0.00,2,    1.30,2,-999.000,9,-999.000,9,-999.0000,9,  2148.7,2, 2291.16,2,   7.7324,2, -999.00,9, -999.00,9, -999.00,  -999.0,9, -999.00,9,     -999.0,9,  -999.0,9, 20170716,     2340, -30.0798, 171.4997,        0.0,1,      0.060,1,      4.697,1,      0.156,1,      25.02,     -999.0,9,     -999.0,9,     -999.0,9,     -999.0,9,     9.4422,2,     -999.0,9
320620170703,        P06,      63,          1,         18,         18,2,20170717,       0015,   -30.0797,   171.4996,       2255,   539.1,  10.7828,  34.8737,2,  34.8772,2, 199.1782,2, 198.6082,2,     6.5,2,   16.56,2,    0.00,2,    1.12,2,-999.000,9,-999.000,9,-999.0000,9,  -999.0,9, -999.00,9,-999.0000,9, -999.00,9, -999.00,9, -999.00,  -999.0,9, -999.00,9,     -999.0,9,  -999.0,9, 20170716,     2344, -30.0797, 171.4997,        0.0,1,      0.059,1,      4.695,1,      0.145,1,     -999.0,     -999.0,9,     -999.0,9,     -999.0,9,     -999.0,9,    10.8856,2,     -999.0,9
320620170703,        P06,      63,          1,         19,         19,2,20170717,       0015,   -30.0797,   171.4996,       2255,   467.8,  12.4206,  35.0787,2,  35.0766,2, 198.9411,2, 198.3275,2,     4.4,2,   13.31,2,    0.00,2,    0.90,2,-999.000,9,-999.000,9,-999.0000,9,  -999.0,9, -999.00,9,-999.0000,9, -999.00,9, -999.00,9, -999.00,  -999.0,9, -999.00,9,     -999.0,9,  -999.0,9, 20170716,     2346, -30.0797, 171.4996,        0.0,1,      0.059,1,      4.692,1,      0.149,1,     -999.0,     -999.0,9,     -999.0,9,     -999.0,9,     -999.0,9,    12.4015,2,     -999.0,9
320620170703,        P06,      63,          1,         20,         20,2,20170717,       0015,   -30.0797,   171.4996,       2255,   417.6,  13.5098,  35.2133,2,  35.1798,2, 198.8894,2, 199.3879,2,     3.6,2,   11.34,2,    0.00,2,    0.78,2,-999.000,9,-999.000,9,-999.0000,9,  2123.0,2, 2310.34,2,   7.8277,2, -999.00,9, -999.00,9, -999.00,  -999.0,9, -999.00,9,     -999.0,9,  -999.0,9, 20170716,     2349, -30.0796, 171.4996,        0.0,1,      0.057,1,      4.691,1,      0.149,1,      25.03,     -999.0,9,     -999.0,9,     -999.0,9,     -999.0,9,    13.3879,2,     -999.0,9
320620170703,        P06,      63,          1,         21,         21,2,20170717,       0015,   -30.0797,   171.4996,       2255,   367.8,  15.1097,  35.3476,2,  35.3200,2, 195.7828,2, 196.0578,2,     2.4,2,    9.08,2,    0.00,2,    0.63,2,-999.000,9,-999.000,9,-999.0000,9,  -999.0,9, -999.00,9,-999.0000,9, -999.00,9, -999.00,9, -999.00,  -999.0,9, -999.00,9,     -999.0,9,  -999.0,9, 20170716,     2352, -30.0796, 171.4995,        0.0,1,      0.060,1,      4.691,1,      0.146,1,     -999.0,     -999.0,9,     -999.0,9,     -999.0,9,     -999.0,9,    14.8176,2,     -999.0,9
320620170703,        P06,      63,          1,         22,         22,2,20170717,       0015,   -30.0797,   171.4996,       2255,   317.9,  15.6601,  35.4053,2,  35.4080,2, 196.1478,2, 196.4822,2,     1.9,2,    7.78,2,    0.00,2,    0.56,2,-999.000,9,-999.000,9,-999.0000,9,  -999.0,9, -999.00,9,-999.0000,9, -999.00,9, -999.00,9, -999.00,  -999.0,9, -999.00,9,     -999.0,9,  -999.0,9, 20170716,     2354, -30.0796, 171.4995,        0.0,1,      0.059,1,      4.690,1,      0.147,1,     -999.0,     -999.0,9,     -999.0,9,     -999.0,9,     -999.0,9,    15.7251,2,     -999.0,9
320620170703,        P06,      63,          1,         23,         23,2,20170717,       0015,   -30.0797,   171.4996,       2255,   267.3,  16.9090,  35.5302,2,  35.5152,2, 196.5740,2, 196.2114,2,     1.4,2,    6.38,2,    0.00,2,    0.46,2,-999.000,9,-999.000,9,-999.0000,9,  2094.4,2, 2324.88,2,   7.9105,2, -999.00,9, -999.00,9, -999.00,  -999.0,9, -999.00,9,     -999.0,9,  -999.0,9, 20170716,     2356, -30.0796, 171.4996,        0.0,1,      0.060,1,      4.687,1,      0.152,1,      25.05,     -999.0,9,     -999.0,9,     -999.0,9,     -999.0,9,    16.7903,2,     -999.0,9
320620170703,        P06,      63,          1,         24,         24,2,20170717,       0015,   -30.0797,   171.4996,       2255,   234.2,  17.5584,  35.5854,2,  35.5877,2, 198.9403,3, 196.5525,2,     1.0,2,    5.30,2,    0.02,2,    0.39,2,-999.000,9,-999.000,9,-999.0000,9,  -999.0,9, -999.00,9,-999.0000,9, -999.00,9, -999.00,9, -999.00,  -999.0,9, -999.00,9,     -999.0,9,  -999.0,9, 20170716,     2358, -30.0797, 171.4996,        0.0,1,      0.061,1,      4.684,1,      0.154,1,     -999.0,     -999.0,9,     -999.0,9,     -999.0,9,     -999.0,9,    17.5946,2,     -999.0,9
320620170703,        P06,      63,          1,         25,         25,2,20170717,       0015,   -30.0797,   171.4996,       2255,   211.8,  18.2456,  35.6508,2,  35.6498,2, 206.2935,2, 207.9409,2,     0.6,2,    3.20,2,    0.10,2,    0.29,2,-999.000,9,-999.000,9,-999.0000,9,  -999.0,9, -999.00,9,-999.0000,9, -999.00,9, -999.00,9, -999.00,  -999.0,9, -999.00,9,     -999.0,9,  -999.0,9, 20170717,        0, -30.0797, 171.4996,        0.0,1,      0.067,1,      4.679,1,      0.158,1,     -999.0,     -999.0,9,     -999.0,9,     -999.0,9,     -999.0,9,    18.2672,2,     -999.0,9
320620170703,        P06,      63,          1,         26,         26,2,20170717,       0015,   -30.0797,   171.4996,       2255,   186.9,  18.8017,  35.7446,2,  35.7333,2, 218.6290,3, 220.8370,2,     0.2,2,    1.09,2,    0.34,2,    0.16,2,-999.000,9,-999.000,9,-999.0000,9,  2062.2,2, 2339.26,2,   7.9932,2, -999.00,9, -999.00,9, -999.00,  -999.0,9, -999.00,9,     -999.0,9,  -999.0,9, 20170717,        2, -30.0797, 171.4996,        0.0,1,      0.097,1,      4.662,1,      0.177,1,      25.04,     -999.0,9,     -999.0,9,     -999.0,9,     -999.0,9,    18.7700,2,     -999.0,9
320620170703,        P06,      63,          1,         27,         27,2,20170717,       0015,   -30.0797,   171.4996,       2255,   160.8,  19.0590,  35.8041,2,  35.7551,2, 221.6021,2, 221.1291,2,     0.2,2,    0.95,2,    0.34,2,    0.16,2,-999.000,9,-999.000,9,-999.0000,9,  -999.0,9, -999.00,9,-999.0000,9, -999.00,9, -999.00,9, -999.00,  -999.0,9, -999.00,9,     -999.0,9,  -999.0,9, 20170717,        4, -30.0797, 171.4996,        0.0,1,      0.128,1,      4.648,1,      0.201,1,     -999.0,     -999.0,9,     -999.0,9,     -999.0,9,     -999.0,9,    18.8800,2,     -999.0,9
320620170703,        P06,      63,          1,         28,         28,2,20170717,       0015,   -30.0797,   171.4996,       2255,   135.8,  19.0891,  35.8121,2,  35.7918,2, 222.7198,2, 221.4556,2,     0.2,2,    0.87,2,    0.26,2,    0.14,2,-999.000,9,-999.000,9,-999.0000,9,  -999.0,9, -999.00,9,-999.0000,9, -999.00,9, -999.00,9, -999.00,  -999.0,9, -999.00,9,     -999.0,9,  -999.0,9, 20170717,        6, -30.0797, 171.4996,        0.0,1,      0.133,1,      4.644,1,      0.194,1,     -999.0,     -999.0,9,     -999.0,9,     -999.0,9,     -999.0,9,    19.0401,2,     -999.0,9
320620170703,        P06,      63,          1,         29,         29,2,20170717,       0015,   -30.0797,   171.4996,       2255,   111.0,  19.1312,  35.8229,2,  35.8267,2, 223.3565,2, 222.2884,2,     0.2,2,    0.88,2,    0.18,2,    0.14,2,-999.000,9,-999.000,9,-999.0000,9,  2061.0,2, 2345.90,2,   8.0016,2, -999.00,9, -999.00,9, -999.00,  -999.0,9, -999.00,9,     -999.0,9,  -999.0,9, 20170717,        7, -30.0797, 171.4997,        0.0,1,      0.165,1,      4.628,1,      0.199,1,      25.04,     -999.0,9,     -999.0,9,     -999.0,9,     -999.0,9,    19.1642,2,     -999.0,9
320620170703,        P06,      63,          1,         30,         30,2,20170717,       0015,   -30.0797,   171.4996,       2255,    85.3,  19.1271,  35.8228,2,  35.8303,2, 223.3565,2, 221.7821,2,     0.2,2,    0.85,2,    0.17,2,    0.12,2,-999.000,9,-999.000,9,-999.0000,9,  -999.0,9, -999.00,9,-999.0000,9, -999.00,9, -999.00,9, -999.00,  -999.0,9, -999.00,9,     -999.0,9,  -999.0,9, 20170717,        9, -30.0797, 171.4996,        0.0,1,      0.166,1,      4.625,1,      0.219,1,     -999.0,     -999.0,9,     -999.0,9,     -999.0,9,     -999.0,9,    19.1731,2,     -999.0,9
320620170703,        P06,      63,          1,         31,         31,2,20170717,       0015,   -30.0797,   171.4996,       2255,    60.5,  19.1343,  35.8256,2,  35.8305,2, 223.3565,2, 221.8885,2,     0.2,2,    0.85,2,    0.16,2,    0.13,2,-999.000,9,-999.000,9,-999.0000,9,  2062.5,2, 2345.04,2,   8.0020,2, -999.00,9, -999.00,9, -999.00,  -999.0,9, -999.00,9,     -999.0,9,  -999.0,9, 20170717,       11, -30.0797, 171.4996,        0.0,1,      0.166,1,      4.624,1,      0.210,1,      25.03,     -999.0,9,     -999.0,9,     -999.0,9,     -999.0,9,    19.1782,2,     -999.0,9
320620170703,        P06,      63,          1,         32,         32,2,20170717,       0015,   -30.0797,   171.4996,       2255,    35.0,  19.1307,  35.8256,2,  35.8356,2, 223.3565,2, 222.5740,2,     0.2,2,    0.83,2,    0.15,2,    0.14,2,-999.000,9,-999.000,9,-999.0000,9,  -999.0,9, -999.00,9,-999.0000,9, -999.00,9, -999.00,9, -999.00,  -999.0,9, -999.00,9,     -999.0,9,  -999.0,9, 20170717,       13, -30.0797, 171.4996,        0.0,1,      0.169,1,      4.622,1,      0.207,1,     -999.0,     -999.0,9,     -999.0,9,     -999.0,9,     -999.0,9,    19.1914,2,     -999.0,9