BOTTLE,20230922CCHSIOCBG
EXPOCODE,SECT_ID,STNNBR,CASTNO,SAMPNO,BTLNBR,BTLNBR_FLAG_W,DATE,TIME,LATITUDE,LONGITUDE,DEPTH,CTDPRS,CTDTMP,CTDSAL,CTDSAL_FLAG_W,SALNTY,SALNTY_FLAG_W,CTDOXY,CTDOXY_FLAG_W,OXYGEN,OXYGEN_FLAG_W,SILCAT,SILCAT_FLAG_W,NITRAT,NITRAT_FLAG_W,NITRIT,NITRIT_FLAG_W,PHSPHT,PHSPHT_FLAG_W,CFC-11,CFC-11_FLAG_W,CFC-12,CFC-12_FLAG_W,SF6,SF6_FLAG_W,TCARBN,TCARBN_FLAG_W,ALKALI,ALKALI_FLAG_W,PH_TOT,PH_TOT_FLAG_W,DELC13,DELC13_FLAG_W,DELC14,DELC14_FLAG_W,C14ERR,DOC,DOC_FLAG_W,TDN,TDN_FLAG_W,TON,TON_FLAG_W,D15N_NO3,D15N_NO3_FLAG_W,BTL_DATE,BTL_TIME,BTL_LAT,BTL_LON,CTDRINKO,CTDRINKO_FLAG_W,CTDFLUOR,CTDFLUOR_FLAG_W,CTDXMISS,CTDXMISS_FLAG_W,CTDBACKSCATTER,CTDBACKSCATTER_FLAG_W,PH_TMP,D18O_NO3,D18O_NO3_FLAG_W,DOP,DOP_FLAG_W,HPLC,HPLC_FLAG_W,POC,POC_FLAG_W,REFTMP,REFTMP_FLAG_W,TDP,TDP_FLAG_W
,,,,,,,,,,,METERS,DBAR,ITS-90,PSS-78,,PSS-78,,UMOL/KG,,UMOL/KG,,UMOL/KG,,UMOL/KG,,UMOL/KG,,UMOL/KG,,PMOL/KG,,PMOL/KG,,FMOL/KG,,UMOL/KG,,UMOL/KG,,,,/MILLE,,/MILLE,,/MILLE,UMOL/KG,,UMOL/KG,,UMOL/KG,,/MILLE,,,,,,VOLTS,,VOLTS,,VOLTS,,VOLTS,,DEGC,/MILLE,,UMOL/KG,,,,UG/L,,ITS-90,,UMOL/KG,
320620170703,        P06,     132,          1,         33,         33,2,20170810,       0150,   -32.5000,  -156.2750,       5374,    74.5,  17.4674,  35.5781,2,  35.5756,2, 234.2848,2, 234.5729,2,     0.1,2,    0.10,2,    0.02,2,    0.07,2,   2.245,2,   1.279,2,   1.4080,2,  2067.2,2, -999.00,9,   7.9793,2, -999.00,9, -999.00,9, -999.00,    59.0,2,    4.00,2,     -999.0,1,  -999.0,1, 20170810,      145, -32.4999,-156.2751,        0.0,1,      0.141,1,      4.646,1,      0.166,1,      25.01,     -999.0,1,     -999.0,1,     -999.0,9,     -999.0,9,    17.4445,2,     -999.0,9
320620170703,        P06,     132,          1,         34,         34,2,20170810,       0150,   -32.5000,  -156.2750,       5374,    48.2,  17.4656,  35.5778,2,  35.5774,2, 234.9532,2, 235.5156,2,     0.1,2,    0.11,2,    0.02,2,    0.08,2,   2.232,2,   1.270,2,   1.3820,2,  2065.5,2, 2337.67,2,   7.9796,2, -999.00,9, -999.00,9, -999.00,    59.3,2,    4.10,2,     -999.0,1,  -999.0,1, 20170810,      147, -32.4999,-156.2752,        0.0,1,      0.126,1,      4.645,1,      0.167,1,      25.01,     -999.0,1,     -999.0,1,     -999.0,9,     -999.0,9,    17.4468,2,     -999.0,9
320620170703,        P06,     132,          1,         35,         35,2,20170810,       0150,   -32.5000,  -156.2750,       5374,    24.3,  17.4684,  35.5778,2,  35.5776,2, 235.4486,2, 235.1179,2,     0.0,2,    0.09,2,    0.02,2,    0.09,2,   2.270,2,   1.281,2,   1.3630,2,  2064.7,2, -999.00,9,   7.9794,2, -999.00,9, -999.00,9, -999.00,    59.1,2,    4.40,2,     -999.0,1,  -999.0,1, 20170810,      148, -32.4999,-156.2751,        0.0,1,      0.098,1,      4.644,1,      0.167,1,      25.01,     -999.0,1,     -999.0,1,     -999.0,9,     -999.0,9,    17.4621,2,     -999.0,9
320620170703,        P06,     132,          1,         36,         36,2,20170810,       0150,   -32.5000,  -156.2750,       5374,     4.8,  17.4776,  35.5778,2,  35.5809,2, 235.4064,2, 235.4645,2,     0.1,2,    0.07,2,    0.02,2,    0.09,2,   2.238,2,   1.281,2,   1.3500,2,  2064.1,6, 2338.03,2,   7.9792,2, -999.00,9, -999.00,9, -999.00,    59.4,2,    4.60,2,     -999.0,1,  -999.0,1, 20170810,      150, -32.5000,-156.2750,        0.0,1,      0.076,1,      4.646,1,      0.162,1,      25.01,     -999.0,1,     -999.0,1,     -999.0,9,     -999.0,9,    17.4928,2,     -999.0,9