BOTTLE,20230922CCHSIOCBG
EXPOCODE,SECT_ID,STNNBR,CASTNO,SAMPNO,BTLNBR,BTLNBR_FLAG_W,DATE,TIME,LATITUDE,LONGITUDE,DEPTH,CTDPRS,CTDTMP,CTDSAL,CTDSAL_FLAG_W,SALNTY,SALNTY_FLAG_W,CTDOXY,CTDOXY_FLAG_W,OXYGEN,OXYGEN_FLAG_W,SILCAT,SILCAT_FLAG_W,NITRAT,NITRAT_FLAG_W,NITRIT,NITRIT_FLAG_W,PHSPHT,PHSPHT_FLAG_W,CFC-11,CFC-11_FLAG_W,CFC-12,CFC-12_FLAG_W,SF6,SF6_FLAG_W,TCARBN,TCARBN_FLAG_W,ALKALI,ALKALI_FLAG_W,PH_TOT,PH_TOT_FLAG_W,DELC13,DELC13_FLAG_W,DELC14,DELC14_FLAG_W,C14ERR,DOC,DOC_FLAG_W,TDN,TDN_FLAG_W,TON,TON_FLAG_W,D15N_NO3,D15N_NO3_FLAG_W,BTL_DATE,BTL_TIME,BTL_LAT,BTL_LON,CTDRINKO,CTDRINKO_FLAG_W,CTDFLUOR,CTDFLUOR_FLAG_W,CTDXMISS,CTDXMISS_FLAG_W,CTDBACKSCATTER,CTDBACKSCATTER_FLAG_W,PH_TMP,D18O_NO3,D18O_NO3_FLAG_W,DOP,DOP_FLAG_W,HPLC,HPLC_FLAG_W,POC,POC_FLAG_W,REFTMP,REFTMP_FLAG_W,TDP,TDP_FLAG_W
,,,,,,,,,,,METERS,DBAR,ITS-90,PSS-78,,PSS-78,,UMOL/KG,,UMOL/KG,,UMOL/KG,,UMOL/KG,,UMOL/KG,,UMOL/KG,,PMOL/KG,,PMOL/KG,,FMOL/KG,,UMOL/KG,,UMOL/KG,,,,/MILLE,,/MILLE,,/MILLE,UMOL/KG,,UMOL/KG,,UMOL/KG,,/MILLE,,,,,,VOLTS,,VOLTS,,VOLTS,,VOLTS,,DEGC,/MILLE,,UMOL/KG,,,,UG/L,,ITS-90,,UMOL/KG,
320620170703,        P06,      13,          1,          1,         37,2,20170707,       0523,   -30.0808,   155.4896,       4828,  4905.6,   1.2246,  34.7125,2,  34.7117,2, 196.4565,2, 196.5665,2,   118.5,2,   32.73,2,    0.00,2,    2.26,2,   0.089,2,   0.049,2,   0.0000,4,  2276.7,6, 2340.69,3,   7.6161,2, -999.00,9, -999.00,9, -999.00,  -999.0,9, -999.00,9,     -999.0,9,  -999.0,9, 20170707,      305, -30.0800, 155.4901,        0.0,1,      0.061,1,      4.675,1,      0.214,1,      25.02,     -999.0,9,     -999.0,9,     -999.0,9,     -999.0,9,     1.2253,2,     -999.0,9
320620170703,        P06,      13,          1,          2,          2,2,20170707,       0523,   -30.0808,   155.4896,       4828,  4837.2,   1.2164,  34.7125,2,  34.7119,2, 196.4565,2, 196.9270,2,   118.6,2,   32.67,2,    0.00,2,    2.27,2,   0.084,2,   0.064,2,   0.0000,4,  2278.5,2, 2135.57,4,   7.6153,2, -999.00,9, -999.00,9, -999.00,  -999.0,9, -999.00,9,     -999.0,9,  -999.0,9, 20170707,      309, -30.0800, 155.4901,        0.0,1,      0.061,1,      4.676,1,      0.196,1,      25.04,     -999.0,9,     -999.0,9,     -999.0,9,     -999.0,9,     1.2160,2,     -999.0,9
320620170703,        P06,      13,          1,          3,         38,2,20170707,       0523,   -30.0808,   155.4896,       4828,  4760.2,   1.2148,  34.7129,2,  34.7125,2, 196.4565,2, 196.4478,2,   118.5,2,   32.72,2,    0.00,2,    2.26,2,   0.090,2,   0.088,2,   0.0000,4,  2277.7,2, 2380.06,2,   7.6149,2, -999.00,9, -999.00,9, -999.00,  -999.0,9, -999.00,9,     -999.0,9,  -999.0,9, 20170707,      313, -30.0800, 155.4901,        0.0,1,      0.061,1,      4.687,1,      0.169,1,      25.02,     -999.0,9,     -999.0,9,     -999.0,9,     -999.0,9,     1.2154,2,     -999.0,9
320620170703,        P06,      13,          1,          4,          4,2,20170707,       0523,   -30.0808,   155.4896,       4828,  4631.7,   1.2091,  34.7132,2,  34.7129,2, 196.4565,2, 196.5690,2,   118.2,2,   32.63,2,    0.00,2,    2.27,2,   0.076,2,   0.058,2,   0.0000,4,  2278.0,2, 2379.37,2,   7.6156,2, -999.00,9, -999.00,9, -999.00,  -999.0,9, -999.00,9,     -999.0,9,  -999.0,9, 20170707,      317, -30.0800, 155.4900,        0.0,1,      0.061,1,      4.694,1,      0.157,1,      25.03,     -999.0,9,     -999.0,9,     -999.0,9,     -999.0,9,     1.2093,2,     -999.0,9
320620170703,        P06,      13,          1,          5,         39,2,20170707,       0523,   -30.0808,   155.4896,       4828,  4477.3,   1.2012,  34.7137,2,  34.7133,2, 196.4565,2, 196.1827,2,   118.2,2,   32.65,2,    0.00,2,    2.26,2,   0.062,2,   0.054,2,   0.0000,4,  2277.2,2, 2381.10,2,   7.6156,2, -999.00,9, -999.00,9, -999.00,  -999.0,9, -999.00,9,     -999.0,9,  -999.0,9, 20170707,      323, -30.0800, 155.4900,        0.0,1,      0.061,1,      4.698,1,      0.151,1,      25.04,     -999.0,9,     -999.0,9,     -999.0,9,     -999.0,9,     1.2006,2,     -999.0,9
320620170703,        P06,      13,          1,          6,          6,2,20170707,       0523,   -30.0808,   155.4896,       4828,  4066.4,   1.1943,  34.7147,2,  34.7136,2, 196.4565,2, 196.2476,2,   117.0,2,   32.58,2,    0.00,2,    2.25,2,   0.060,2,   0.048,2,   0.0000,4,  2275.7,2, 2377.34,2,   7.6139,2, -999.00,9, -999.00,9, -999.00,  -999.0,9, -999.00,9,     -999.0,9,  -999.0,9, 20170707,      333, -30.0799, 155.4903,        0.0,1,      0.062,1,      4.703,1,      0.141,1,      25.02,     -999.0,9,     -999.0,9,     -999.0,9,     -999.0,9,     1.1908,2,     -999.0,9
320620170703,        P06,      13,          1,          7,         40,2,20170707,       0523,   -30.0808,   155.4896,       4828,  3860.9,   1.2037,  34.7156,2,  34.7146,2, 195.7928,2, 195.6266,2,   116.1,2,   32.51,2,    0.00,2,    2.25,2,   0.063,2,   0.049,2,   0.0000,4,  2275.4,2, 2375.99,2,   7.6137,2, -999.00,9, -999.00,9, -999.00,  -999.0,9, -999.00,9,     -999.0,9,  -999.0,9, 20170707,      339, -30.0799, 155.4903,        0.0,1,      0.061,1,      4.705,1,      0.136,1,      25.04,     -999.0,9,     -999.0,9,     -999.0,9,     -999.0,9,     1.2033,2,     -999.0,9
320620170703,        P06,      13,          1,          8,          8,2,20170707,       0523,   -30.0808,   155.4896,       4828,  3554.9,   1.2555,  34.7175,2,  34.7156,2, 194.7729,2, 194.6652,2,   114.4,2,   32.41,2,    0.00,2,    2.24,2,   0.064,2,   0.052,2,   0.0000,4,  2273.8,2, 2374.32,2,   7.6125,2, -999.00,9, -999.00,9, -999.00,  -999.0,9, -999.00,9,     -999.0,9,  -999.0,9, 20170707,      347, -30.0799, 155.4904,        0.0,1,      0.061,1,      4.706,1,      0.136,1,      25.02,     -999.0,9,     -999.0,9,     -999.0,9,     -999.0,9,     1.2506,2,     -999.0,9
320620170703,        P06,      13,          1,          9,         41,2,20170707,       0523,   -30.0808,   155.4896,       4828,  3248.2,   1.4230,  34.7208,2,  34.7182,2, 191.8188,2, 191.8732,2,   109.9,2,   32.28,2,    0.00,2,    2.23,2,   0.051,2,   0.040,2,   0.0000,4,  2270.4,2, 2369.72,2,   7.6103,2, -999.00,9, -999.00,9, -999.00,  -999.0,9, -999.00,9,     -999.0,9,  -999.0,9, 20170707,      355, -30.0801, 155.4903,        0.0,1,      0.061,1,      4.707,1,      0.135,1,      25.04,     -999.0,9,     -999.0,9,     -999.0,9,     -999.0,9,     1.4128,2,     -999.0,9
320620170703,        P06,      13,          1,         10,         10,2,20170707,       0523,   -30.0808,   155.4896,       4828,  2956.4,   1.6534,  34.7228,2,  34.7191,2, 187.4412,2, 187.8402,2,   104.0,2,   32.14,2,    0.00,2,    2.24,2,   0.083,2,   0.066,2,   0.0000,4,  2266.9,2, 2364.30,2,   7.6052,4, -999.00,9, -999.00,9, -999.00,  -999.0,9, -999.00,9,     -999.0,9,  -999.0,9, 20170707,      403, -30.0805, 155.4900,        0.0,1,      0.062,1,      4.707,1,      0.137,1,      25.02,     -999.0,9,     -999.0,9,     -999.0,9,     -999.0,9,     1.6498,2,     -999.0,9
320620170703,        P06,      13,          1,         11,         42,2,20170707,       0523,   -30.0808,   155.4896,       4828,  2700.7,   1.8601,  34.7178,2,  34.7136,2, 183.1365,2, 182.6686,2,    98.6,2,   32.20,2,    0.00,2,    2.23,2,   0.055,2,   0.041,2,   0.0000,4,  2267.1,2, 2360.81,2,   7.5988,2, -999.00,9, -999.00,9, -999.00,  -999.0,9, -999.00,9,     -999.0,9,  -999.0,9, 20170707,      410, -30.0807, 155.4898,        0.0,1,      0.063,1,      4.707,1,      0.138,1,      25.02,     -999.0,9,     -999.0,9,     -999.0,9,     -999.0,9,     1.8669,2,     -999.0,9
320620170703,        P06,      13,          1,         12,         12,2,20170707,       0523,   -30.0808,   155.4896,       4828,  2445.6,   2.1069,  34.6951,2,  34.6920,2, 175.3622,2, 175.7063,2,    95.7,2,   32.76,2,    0.00,2,    2.29,2,   0.059,2,   0.051,2,   0.0000,4,  2269.3,2, 2362.69,2,   7.5911,2, -999.00,9, -999.00,9, -999.00,  -999.0,9, -999.00,9,     -999.0,9,  -999.0,9, 20170707,      417, -30.0807, 155.4897,        0.0,1,      0.062,1,      4.707,1,      0.140,1,      25.03,     -999.0,9,     -999.0,9,     -999.0,9,     -999.0,9,     2.0905,2,     -999.0,9
320620170703,        P06,      13,          1,         13,         43,2,20170707,       0523,   -30.0808,   155.4896,       4828,  2190.6,   2.2743,  34.6711,2,  34.6655,2, 166.6779,2, 166.0843,2,    96.9,2,   33.61,2,    0.00,2,    2.33,2,   0.062,2,   0.053,2,   0.0000,4,  2277.2,2, 2366.07,2,   7.5812,2, -999.00,9, -999.00,9, -999.00,  -999.0,9, -999.00,9,     -999.0,9,  -999.0,9, 20170707,      422, -30.0807, 155.4897,        0.0,1,      0.062,1,      4.707,1,      0.142,1,      25.03,     -999.0,9,     -999.0,9,     -999.0,9,     -999.0,9,     2.2677,2,     -999.0,9
320620170703,        P06,      13,          1,         14,         14,2,20170707,       0523,   -30.0808,   155.4896,       4828,  1955.6,   2.4736,  34.6425,2,  34.6356,2, 157.2721,2, 156.9299,2,    97.8,2,   34.45,2,    0.00,2,    2.42,2,   0.062,2,   0.060,2,   0.0000,4,  2284.4,2, 2369.09,2,   7.5726,2, -999.00,9, -999.00,9, -999.00,  -999.0,9, -999.00,9,     -999.0,9,  -999.0,9, 20170707,      427, -30.0807, 155.4898,        0.0,1,      0.061,1,      4.707,1,      0.138,1,      25.02,     -999.0,9,     -999.0,9,     -999.0,9,     -999.0,9,     2.4802,2,     -999.0,9
320620170703,        P06,      13,          1,         15,         15,2,20170707,       0523,   -30.0808,   155.4896,       4828,  1753.9,   2.7152,  34.6133,2,  34.6062,2, 150.5231,2, 150.9322,2,    97.0,2,   34.91,2,    0.00,2,    2.44,2,   0.068,2,   0.056,2,   0.0000,4,  2284.7,2, 2380.18,3,   7.5685,2, -999.00,9, -999.00,9, -999.00,  -999.0,9, -999.00,9,     -999.0,9,  -999.0,9, 20170707,      432, -30.0806, 155.4898,        0.0,1,      0.062,1,      4.707,1,      0.140,1,      25.03,     -999.0,9,     -999.0,9,     -999.0,9,     -999.0,9,     2.7250,2,     -999.0,9
320620170703,        P06,      13,          1,         16,         16,2,20170707,       0523,   -30.0808,   155.4896,       4828,  1551.5,   3.1126,  34.5752,2,  34.5645,2, 150.8651,2, 151.3086,2,    89.1,2,   34.73,2,    0.00,2,    2.43,2,   0.106,2,   0.078,2,   0.0000,4,  2275.8,6, 2359.75,2,   7.5714,2, -999.00,9, -999.00,9, -999.00,  -999.0,9, -999.00,9,     -999.0,9,  -999.0,9, 20170707,      436, -30.0807, 155.4898,        0.0,1,      0.062,1,      4.707,1,      0.140,1,      25.03,     -999.0,9,     -999.0,9,     -999.0,9,     -999.0,9,     3.1564,2,     -999.0,9
320620170703,        P06,      13,          1,         17,         17,2,20170707,       0523,   -30.0808,   155.4896,       4828,  1348.4,   3.6827,  34.5264,2,  34.5107,2, 161.6414,2, 161.4646,2,    71.2,2,   33.38,2,    0.00,2,    2.32,2,   0.198,2,   0.128,2,   0.3960,4,  2250.1,2, 2340.15,2,   7.5888,2, -999.00,9, -999.00,9, -999.00,  -999.0,9, -999.00,9,     -999.0,9,  -999.0,9, 20170707,      441, -30.0807, 155.4898,        0.0,1,      0.062,1,      4.706,1,      0.141,1,      25.02,     -999.0,9,     -999.0,9,     -999.0,9,     -999.0,9,     3.8049,2,     -999.0,9
320620170703,        P06,      13,          1,         18,         18,2,20170707,       0523,   -30.0808,   155.4896,       4828,  1176.2,   4.3835,  34.4795,2,  34.4710,2, 172.7088,2, 173.1320,2,    55.2,2,   31.85,2,    0.00,2,    2.21,2,   0.408,2,   0.226,2,   0.4540,4,  2228.9,2, 2323.11,2,   7.6064,2, -999.00,9, -999.00,9, -999.00,  -999.0,9, -999.00,9,     -999.0,9,  -999.0,9, 20170707,      445, -30.0808, 155.4897,        0.0,1,      0.061,1,      4.707,1,      0.141,1,      25.03,     -999.0,9,     -999.0,9,     -999.0,9,     -999.0,9,     4.4241,2,     -999.0,9
320620170703,        P06,      13,          1,         19,         19,2,20170707,       0523,   -30.0808,   155.4896,       4828,  1073.7,   4.9779,  34.4554,2,  34.4459,2, 180.3323,2, 181.0882,2,    44.3,2,   30.58,2,    0.00,2,    2.10,2,   0.626,2,   0.330,2,   0.4970,4,  2211.4,2, 2311.35,2,   7.6211,2, -999.00,9, -999.00,9, -999.00,  -999.0,9, -999.00,9,     -999.0,9,  -999.0,9, 20170707,      448, -30.0807, 155.4897,        0.0,1,      0.060,1,      4.706,1,      0.146,1,      25.03,     -999.0,9,     -999.0,9,     -999.0,9,     -999.0,9,     4.9213,2,     -999.0,9
320620170703,        P06,      13,          1,         20,         20,2,20170707,       0523,   -30.0808,   155.4896,       4828,   974.1,   5.4612,  34.4392,2,  34.4316,2, 189.2096,2, 188.6443,2,    33.5,2,   29.03,2,    0.00,2,    1.99,2,   0.926,2,   0.460,2,   0.5080,4,  2194.1,2, 2302.58,2,   7.6390,2, -999.00,9, -999.00,9, -999.00,  -999.0,9, -999.00,9,     -999.0,9,  -999.0,9, 20170707,      450, -30.0807, 155.4898,        0.0,1,      0.061,1,      4.706,1,      0.141,1,      25.04,     -999.0,9,     -999.0,9,     -999.0,9,     -999.0,9,     5.4968,2,     -999.0,9
320620170703,        P06,      13,          1,         21,         21,2,20170707,       0523,   -30.0808,   155.4896,       4828,   924.2,   5.8398,  34.4401,2,  34.4349,2, 192.2059,2, 191.9017,2,    29.3,2,   28.20,2,    0.00,2,    1.93,2,   1.122,2,   0.543,2,   0.4960,4,  2187.6,2, 2315.35,3,   7.6478,2, -999.00,9, -999.00,9, -999.00,  -999.0,9, -999.00,9,     -999.0,9,  -999.0,9, 20170707,      452, -30.0807, 155.4898,        0.0,1,      0.060,1,      4.704,1,      0.143,1,      25.03,     -999.0,9,     -999.0,9,     -999.0,9,     -999.0,9,     5.8264,2,     -999.0,9
320620170703,        P06,      13,          1,         22,         22,2,20170707,       0523,   -30.0808,   155.4896,       4828,   873.2,   6.1953,  34.4457,2,  34.4373,2, 196.0298,2, 196.2670,2,    24.3,2,   27.14,2,    0.00,2,    1.84,2,   1.329,2,   0.638,2,   0.5200,4,  2180.8,2, 2290.95,2,   7.6586,2, -999.00,9, -999.00,9, -999.00,  -999.0,9, -999.00,9,     -999.0,9,  -999.0,9, 20170707,      454, -30.0806, 155.4899,        0.0,1,      0.060,1,      4.704,1,      0.142,1,      25.02,     -999.0,9,     -999.0,9,     -999.0,9,     -999.0,9,     6.2003,2,     -999.0,9
320620170703,        P06,      13,          1,         23,         23,2,20170707,       0523,   -30.0808,   155.4896,       4828,   771.8,   7.0777,  34.4843,2,  34.4763,2, 200.5469,2, 199.9923,2,    17.0,2,   24.98,2,    0.00,2,    1.68,2,   1.797,2,   0.885,2,   0.6800,4,  2165.6,2, 2287.23,2,   7.6790,2, -999.00,9, -999.00,9, -999.00,  -999.0,9, -999.00,9,     -999.0,9,  -999.0,9, 20170707,      457, -30.0806, 155.4900,        0.0,1,      0.059,1,      4.703,1,      0.143,1,      25.01,     -999.0,9,     -999.0,9,     -999.0,9,     -999.0,9,     7.0749,2,     -999.0,9
320620170703,        P06,      13,          1,         24,         24,2,20170707,       0523,   -30.0808,   155.4896,       4828,   671.8,   8.2151,  34.5824,2,  34.5747,2, 200.3247,2, 199.8305,2,    11.5,2,   22.40,2,    0.00,2,    1.51,2,   2.234,2,   1.114,2,   0.9010,4,  2156.3,6, 2285.34,2,   7.7020,2, -999.00,9, -999.00,9, -999.00,  -999.0,9, -999.00,9,     -999.0,9,  -999.0,9, 20170707,      500, -30.0806, 155.4899,        0.0,1,      0.060,1,      4.702,1,      0.142,1,      25.02,     -999.0,9,     -999.0,9,     -999.0,9,     -999.0,9,     8.2533,2,     -999.0,9
320620170703,        P06,      13,          1,         25,         25,2,20170707,       0523,   -30.0808,   155.4896,       4828,   567.9,   9.4627,  34.7112,2,  34.7223,2, 199.8726,2, 200.1716,2,     7.8,2,   19.24,2,    0.00,2,    1.29,2,   2.587,2,   1.310,2,   1.0090,4,  2148.4,2, 2288.26,2,   7.7312,2, -999.00,9, -999.00,9, -999.00,  -999.0,9, -999.00,9,     -999.0,9,  -999.0,9, 20170707,      503, -30.0806, 155.4899,        0.0,1,      0.060,1,      4.701,1,      0.143,1,      25.03,     -999.0,9,     -999.0,9,     -999.0,9,     -999.0,9,     9.5954,2,     -999.0,9
320620170703,        P06,      13,          1,         26,         26,2,20170707,       0523,   -30.0808,   155.4896,       4828,   469.8,  11.0133,  34.9070,2,  34.9313,2, 198.4356,2, 199.0257,2,     5.4,2,   15.51,2,    0.00,2,    1.06,2,   2.599,2,   1.361,2,   1.2080,4,  2136.4,2, 2298.22,2,   7.7718,2, -999.00,9, -999.00,9, -999.00,  -999.0,9, -999.00,9,     -999.0,9,  -999.0,9, 20170707,      505, -30.0806, 155.4899,        0.0,1,      0.060,1,      4.698,1,      0.144,1,      25.04,     -999.0,9,     -999.0,9,     -999.0,9,     -999.0,9,    11.2667,2,     -999.0,9
320620170703,        P06,      13,          1,         27,         27,2,20170707,       0523,   -30.0808,   155.4896,       4828,   386.3,  12.6510,  35.1009,2,  35.1260,2, 196.9406,2, 197.0375,2,     4.0,2,   12.47,2,    0.00,2,    0.86,2,   2.556,2,   1.366,2,   1.5300,4,  2125.2,2, 2307.06,2,   7.8124,2, -999.00,9, -999.00,9, -999.00,  -999.0,9, -999.00,9,     -999.0,9,  -999.0,9, 20170707,      508, -30.0806, 155.4899,        0.0,1,      0.060,1,      4.696,1,      0.144,1,      25.03,     -999.0,9,     -999.0,9,     -999.0,9,     -999.0,9,    12.9109,2,     -999.0,9
320620170703,        P06,      13,          1,         28,         28,2,20170707,       0523,   -30.0808,   155.4896,       4828,   337.7,  13.6782,  35.1925,2,  35.1709,2, 193.7515,3, 189.5081,2,     3.6,2,   11.88,2,    0.00,2,    0.81,2,   2.483,2,   1.318,2,   1.7290,4,  2122.9,2, 2310.06,2,   7.8235,2, -999.00,9, -999.00,9, -999.00,  -999.0,9, -999.00,9,     -999.0,9,  -999.0,9, 20170707,      510, -30.0806, 155.4899,        0.0,1,      0.060,1,      4.695,1,      0.141,1,      25.04,     -999.0,9,     -999.0,9,     -999.0,9,     -999.0,9,    13.6224,2,     -999.0,9
320620170703,        P06,      13,          1,         29,         29,2,20170707,       0523,   -30.0808,   155.4896,       4828,   285.4,  14.8879,  35.2803,2,  35.2875,2, 183.4955,2, 183.6932,2,     3.0,2,   10.22,2,    0.00,2,    0.72,2,   2.371,2,   1.272,2,   1.7510,4,  2114.7,2, 2314.46,2,   7.8509,2, -999.00,9, -999.00,9, -999.00,  -999.0,9, -999.00,9,     -999.0,9,  -999.0,9, 20170707,      512, -30.0807, 155.4898,        0.0,1,      0.059,1,      4.690,1,      0.154,1,      25.02,     -999.0,9,     -999.0,9,     -999.0,9,     -999.0,9,    15.0620,2,     -999.0,9
320620170703,        P06,      13,          1,         30,         30,2,20170707,       0523,   -30.0808,   155.4896,       4828,   236.8,  16.4160,  35.4302,2,  35.4267,2, 185.3912,2, 184.9861,2,     2.1,2,    8.07,2,    0.00,2,    0.58,2,   2.311,2,   1.263,2,   2.0920,4,  2104.1,2, 2320.28,2,   7.8846,2, -999.00,9, -999.00,9, -999.00,  -999.0,9, -999.00,9,     -999.0,9,  -999.0,9, 20170707,      513, -30.0807, 155.4898,        0.0,1,      0.060,1,      4.689,1,      0.157,1,      25.02,     -999.0,9,     -999.0,9,     -999.0,9,     -999.0,9,    16.3448,2,     -999.0,9
320620170703,        P06,      13,          1,         31,         31,2,20170707,       0523,   -30.0808,   155.4896,       4828,   135.1,  19.4788,  35.6674,2,  35.6184,2, 183.2805,2, 182.9498,2,     1.2,2,    5.17,2,    0.03,2,    0.41,2,   2.123,2,   1.171,2,   2.8490,4,  2087.7,2, 2332.47,2,   7.9372,2, -999.00,9, -999.00,9, -999.00,  -999.0,9, -999.00,9,     -999.0,9,  -999.0,9, 20170707,      516, -30.0807, 155.4898,        0.0,1,      0.074,1,      4.680,1,      0.163,1,      25.04,     -999.0,9,     -999.0,9,     -999.0,9,     -999.0,9,    18.9756,2,     -999.0,9
320620170703,        P06,      13,          1,         32,         32,2,20170707,       0523,   -30.0808,   155.4896,       4828,    90.8,  20.8437,  35.7459,2,  35.7896,2, 220.9383,4, 213.1187,2,     0.2,2,    0.68,2,    0.21,2,    0.12,2,   1.972,2,   1.116,2,   3.6640,4,  2048.1,2, 2348.29,2,   8.0206,2, -999.00,9, -999.00,9, -999.00,  -999.0,9, -999.00,9,     -999.0,9,  -999.0,9, 20170707,      518, -30.0807, 155.4898,        0.0,1,      0.114,1,      4.650,1,      0.194,1,      25.02,     -999.0,9,     -999.0,9,     -999.0,9,     -999.0,9,    20.6885,2,     -999.0,9