BOTTLE,20230922CCHSIOCBG
EXPOCODE,SECT_ID,STNNBR,CASTNO,SAMPNO,BTLNBR,BTLNBR_FLAG_W,DATE,TIME,LATITUDE,LONGITUDE,DEPTH,CTDPRS,CTDTMP,CTDSAL,CTDSAL_FLAG_W,SALNTY,SALNTY_FLAG_W,CTDOXY,CTDOXY_FLAG_W,OXYGEN,OXYGEN_FLAG_W,SILCAT,SILCAT_FLAG_W,NITRAT,NITRAT_FLAG_W,NITRIT,NITRIT_FLAG_W,PHSPHT,PHSPHT_FLAG_W,CFC-11,CFC-11_FLAG_W,CFC-12,CFC-12_FLAG_W,SF6,SF6_FLAG_W,TCARBN,TCARBN_FLAG_W,ALKALI,ALKALI_FLAG_W,PH_TOT,PH_TOT_FLAG_W,DELC13,DELC13_FLAG_W,DELC14,DELC14_FLAG_W,C14ERR,DOC,DOC_FLAG_W,TDN,TDN_FLAG_W,TON,TON_FLAG_W,D15N_NO3,D15N_NO3_FLAG_W,BTL_DATE,BTL_TIME,BTL_LAT,BTL_LON,CTDRINKO,CTDRINKO_FLAG_W,CTDFLUOR,CTDFLUOR_FLAG_W,CTDXMISS,CTDXMISS_FLAG_W,CTDBACKSCATTER,CTDBACKSCATTER_FLAG_W,PH_TMP,D18O_NO3,D18O_NO3_FLAG_W,DOP,DOP_FLAG_W,HPLC,HPLC_FLAG_W,POC,POC_FLAG_W,REFTMP,REFTMP_FLAG_W,TDP,TDP_FLAG_W
,,,,,,,,,,,METERS,DBAR,ITS-90,PSS-78,,PSS-78,,UMOL/KG,,UMOL/KG,,UMOL/KG,,UMOL/KG,,UMOL/KG,,UMOL/KG,,PMOL/KG,,PMOL/KG,,FMOL/KG,,UMOL/KG,,UMOL/KG,,,,/MILLE,,/MILLE,,/MILLE,UMOL/KG,,UMOL/KG,,UMOL/KG,,/MILLE,,,,,,VOLTS,,VOLTS,,VOLTS,,VOLTS,,DEGC,/MILLE,,UMOL/KG,,,,UG/L,,ITS-90,,UMOL/KG,
320620170703,        P06,      78,          1,          1,          1,2,20170723,       2314,   -30.9814,   177.3994,       4180,  4242.6,   1.9136,  34.6820,2,  34.6745,2, 155.2879,2, 155.6523,2,   126.2,2,   35.35,2,    0.00,2,    2.46,2,   0.024,2,   0.025,2,-999.0000,5,  2313.8,6, 2397.15,2,   7.5826,2, -999.00,9, -999.00,9, -999.00,    42.0,2, -999.00,9,     -999.0,1,  -999.0,9, 20170723,     2054, -30.9823, 177.3995,        0.0,1,      0.061,1,      4.646,1,      0.138,1,      25.02,     -999.0,9,     -999.0,9,     -999.0,9,     -999.0,9,     1.9141,2,     -999.0,9
320620170703,        P06,      78,          1,          2,          2,2,20170723,       2314,   -30.9814,   177.3994,       4180,  4153.6,   1.9044,  34.6823,2,  34.6771,2, 155.2879,2, 155.4216,2,   126.0,2,   35.28,2,    0.00,2,    2.45,2,-999.000,5,-999.000,5,-999.0000,5,  2312.1,2, 2402.20,2,   7.5828,2, -999.00,9, -999.00,9, -999.00,  -999.0,9, -999.00,9,     -999.0,9,  -999.0,9, 20170723,     2057, -30.9822, 177.3994,        0.0,1,      0.061,1,      4.699,1,      0.138,1,      25.02,     -999.0,9,     -999.0,9,     -999.0,9,     -999.0,9,     1.9053,2,     -999.0,9
320620170703,        P06,      78,          1,          3,          3,2,20170723,       2314,   -30.9814,   177.3994,       4180,  3962.3,   1.8859,  34.6819,2,  34.6730,2, 155.2879,2, 155.1463,2,   126.2,2,   35.24,2,    0.00,2,    2.47,2,   0.022,6,   0.023,6,   0.0000,2,  2313.0,2, 2402.86,2,   7.5830,2, -999.00,9, -999.00,9, -999.00,    38.1,2, -999.00,9,     -999.0,1,  -999.0,9, 20170723,     2106, -30.9819, 177.3991,        0.0,1,      0.061,1,      4.702,1,      0.134,1,      25.04,     -999.0,9,     -999.0,9,     -999.0,9,     -999.0,9,     1.8864,2,     -999.0,9
320620170703,        P06,      78,          1,          4,          4,2,20170723,       2314,   -30.9814,   177.3994,       4180,  3656.1,   1.8614,  34.6814,2,  34.6791,2, 155.2879,2, 154.8044,2,   125.8,2,   35.16,2,    0.00,2,    2.45,2,   0.026,2,   0.025,2,   0.0000,2,  2313.7,2, 2404.17,2,   7.5820,2, -999.00,9, -999.00,9, -999.00,  -999.0,9, -999.00,9,     -999.0,9,  -999.0,9, 20170723,     2113, -30.9817, 177.3990,        0.0,1,      0.061,1,      4.704,1,      0.131,1,      25.01,     -999.0,9,     -999.0,9,     -999.0,9,     -999.0,9,     1.8620,2,     -999.0,9
320620170703,        P06,      78,          1,          5,          5,2,20170723,       2314,   -30.9814,   177.3994,       4180,  3347.9,   1.8471,  34.6802,2,  34.6767,2, 155.2002,2, 155.3383,2,   125.3,2,   35.21,2,    0.00,2,    2.45,2,   0.041,2,   0.036,2,   0.0000,2,  2311.2,2, 2401.57,2,   7.5808,2, -999.00,9, -999.00,9, -999.00,    38.6,2, -999.00,9,     -999.0,1,  -999.0,9, 20170723,     2120, -30.9820, 177.3992,        0.0,1,      0.061,1,      4.705,1,      0.130,1,      25.02,     -999.0,9,     -999.0,9,     -999.0,9,     -999.0,9,     1.8481,2,     -999.0,9
320620170703,        P06,      78,          1,          6,          6,2,20170723,       2314,   -30.9814,   177.3994,       4180,  3043.8,   1.8568,  34.6773,2,  34.6730,2, 154.5825,2, 154.5333,2,   124.5,2,   35.15,2,    0.00,2,    2.45,2,   0.040,2,   0.036,2,   0.0000,2,  2310.1,2, 2400.39,2,   7.5792,2, -999.00,9, -999.00,9, -999.00,    40.7,2, -999.00,9,     -999.0,1,  -999.0,9, 20170723,     2127, -30.9821, 177.3994,        0.0,1,      0.061,1,      4.706,1,      0.132,1,      25.02,     -999.0,9,     -999.0,9,     -999.0,9,     -999.0,9,     1.8565,2,     -999.0,9
320620170703,        P06,      78,          1,          7,          7,2,20170723,       2314,   -30.9814,   177.3994,       4180,  2789.1,   1.8903,  34.6731,2,  34.6732,2, 154.3165,2, 154.2542,2,   123.2,2,   35.13,2,    0.00,2,    2.46,2,   0.036,2,   0.031,2,   0.0000,2,  2310.2,2, 2397.49,6,   7.5777,2, -999.00,9, -999.00,9, -999.00,  -999.0,9, -999.00,9,     -999.0,9,  -999.0,9, 20170723,     2133, -30.9820, 177.3993,        0.0,1,      0.061,1,      4.706,1,      0.132,1,      25.01,     -999.0,9,     -999.0,9,     -999.0,9,     -999.0,9,     1.8830,2,     -999.0,9
320620170703,        P06,      78,          1,          8,          8,2,20170723,       2314,   -30.9814,   177.3994,       4180,  2531.8,   1.9635,  34.6656,2,  34.6624,2, 153.7479,2, 153.8552,2,   121.4,2,   35.14,2,    0.00,2,    2.45,2,   0.036,2,   0.030,2,   0.0000,2,  2308.4,2, 2395.16,2,   7.5772,2, -999.00,9, -999.00,9, -999.00,    40.4,2, -999.00,9,     -999.0,1,  -999.0,9, 20170723,     2140, -30.9820, 177.3992,        0.0,1,      0.062,1,      4.706,1,      0.133,1,      25.02,     -999.0,9,     -999.0,9,     -999.0,9,     -999.0,9,     1.9490,2,     -999.0,9
320620170703,        P06,      78,          1,          9,          9,2,20170723,       2314,   -30.9814,   177.3994,       4180,  2277.9,   2.0951,  34.6531,2,  34.6508,2, 153.2362,2, 153.3713,2,   117.5,2,   34.97,2,    0.00,2,    2.43,2,   0.045,2,   0.036,2,   0.0000,2,  2303.5,6, 2391.14,2,   7.5761,2, -999.00,9, -999.00,9, -999.00,    43.3,3, -999.00,9,     -999.0,1,  -999.0,9, 20170723,     2147, -30.9820, 177.3993,        0.0,1,      0.061,1,      4.705,1,      0.135,1,      25.01,     -999.0,9,     -999.0,9,     -999.0,9,     -999.0,9,     2.0733,2,     -999.0,9
320620170703,        P06,      78,          1,         10,         10,2,20170723,       2314,   -30.9814,   177.3994,       4180,  2023.4,   2.2975,  34.6346,2,  34.6325,2, 153.4459,2, 153.2874,2,   112.6,2,   34.89,2,    0.00,2,    2.44,2,   0.065,2,   0.049,2,   0.0000,2,  2298.9,2, 2386.34,2,   7.5759,2, -999.00,9, -999.00,9, -999.00,  -999.0,9, -999.00,9,     -999.0,9,  -999.0,9, 20170723,     2154, -30.9818, 177.3991,        0.0,1,      0.062,1,      4.706,1,      0.137,1,      25.01,     -999.0,9,     -999.0,9,     -999.0,9,     -999.0,9,     2.2672,2,     -999.0,9
320620170703,        P06,      78,          1,         11,         11,2,20170723,       2314,   -30.9814,   177.3994,       4180,  1820.0,   2.5013,  34.6150,2,  34.6115,2, 154.1516,2, 154.5335,2,   106.1,2,   34.68,2,    0.00,2,    2.42,2,   0.066,2,   0.047,2,   0.0000,2,  2290.5,2, 2379.28,2,   7.5761,2, -999.00,9, -999.00,9, -999.00,    41.0,2, -999.00,9,     -999.0,1,  -999.0,9, 20170723,     2159, -30.9821, 177.3993,        0.0,1,      0.062,1,      4.706,1,      0.138,1,      25.00,     -999.0,9,     -999.0,9,     -999.0,9,     -999.0,9,     2.4748,2,     -999.0,9
320620170703,        P06,      78,          1,         12,         12,2,20170723,       2314,   -30.9814,   177.3994,       4180,  1618.8,   2.7936,  34.5806,2,  34.5741,2, 158.4053,2, 158.2750,2,    94.7,2,   34.17,2,    0.00,2,    2.40,2,   0.117,2,   0.074,2,   0.0000,2,  2279.7,2, 2365.25,2,   7.5793,2, -999.00,9, -999.00,9, -999.00,    39.6,2, -999.00,9,     -999.0,1,  -999.0,9, 20170723,     2205, -30.9822, 177.3994,        0.0,1,      0.061,1,      4.705,1,      0.138,1,      25.02,     -999.0,9,     -999.0,9,     -999.0,9,     -999.0,9,     2.7976,2,     -999.0,9
320620170703,        P06,      78,          1,         13,         13,2,20170723,       2314,   -30.9814,   177.3994,       4180,  1516.7,   3.0349,  34.5477,2,  34.5413,2, 162.5928,2, 161.9749,2,    85.4,2,   33.89,2,    0.00,2,    2.36,2,   0.155,2,   0.091,2,   0.0000,2,  2265.8,2, 2355.04,2,   7.5811,2, -999.00,9, -999.00,9, -999.00,    40.6,2, -999.00,9,     -999.0,1,  -999.0,9, 20170723,     2209, -30.9823, 177.3995,        0.0,1,      0.061,1,      4.705,1,      0.140,1,      25.00,     -999.0,9,     -999.0,9,     -999.0,9,     -999.0,9,     3.0327,2,     -999.0,9
320620170703,        P06,      78,          1,         14,         14,2,20170723,       2314,   -30.9814,   177.3994,       4180,  1414.2,   3.2993,  34.5082,2,  34.4979,2, 167.8740,2, 167.6106,2,    73.4,2,   33.23,2,    0.00,2,    2.32,2,   0.223,2,   0.123,2,   0.0000,2,  2253.1,2, 2340.46,2,   7.5847,2, -999.00,9, -999.00,9, -999.00,  -999.0,9, -999.00,9,     -999.0,9,  -999.0,9, 20170723,     2213, -30.9824, 177.3996,        0.0,1,      0.061,1,      4.694,1,      0.136,1,      25.01,     -999.0,9,     -999.0,9,     -999.0,9,     -999.0,9,     3.3263,2,     -999.0,9
320620170703,        P06,      78,          1,         15,         15,2,20170723,       2314,   -30.9814,   177.3994,       4180,  1312.8,   3.6746,  34.4643,2,  34.4516,2, 174.3316,2, 175.3280,2,    60.7,2,   32.69,2,    0.00,2,    2.27,2,   0.330,2,   0.175,2,   0.0910,2,  2236.9,2, 2325.95,2,   7.5921,2, -999.00,9, -999.00,9, -999.00,    47.0,3, -999.00,9,     -999.0,1,  -999.0,9, 20170723,     2216, -30.9824, 177.3996,        0.0,1,      0.060,1,      4.705,1,      0.141,1,      25.01,     -999.0,9,     -999.0,9,     -999.0,9,     -999.0,9,     3.7115,2,     -999.0,9
320620170703,        P06,      78,          1,         16,         16,2,20170723,       2314,   -30.9814,   177.3994,       4180,  1211.3,   4.0527,  34.4221,2,  34.4039,2, 183.7312,2, 183.3896,2,    46.9,2,   31.58,2,    0.00,2,    2.19,2,   0.509,2,   0.258,2,   0.1040,2,  2217.1,2, 2311.16,2,   7.6038,2, -999.00,9, -999.00,9, -999.00,  -999.0,9, -999.00,9,     -999.0,9,  -999.0,9, 20170723,     2220, -30.9821, 177.3994,        0.0,1,      0.060,1,      4.705,1,      0.139,1,      25.02,     -999.0,9,     -999.0,9,     -999.0,9,     -999.0,9,     4.1750,2,     -999.0,9
320620170703,        P06,      78,          1,         17,         17,2,20170723,       2314,   -30.9814,   177.3994,       4180,  1109.9,   4.6068,  34.3796,2,  34.3680,2, 194.2374,2, 193.7943,2,    34.6,2,   29.93,2,    0.00,2,    2.07,2,   0.892,2,   0.424,2,   0.1720,2,  2200.5,2, 2297.83,2,   7.6228,2, -999.00,9, -999.00,9, -999.00,    44.6,3, -999.00,9,     -999.0,1,  -999.0,9, 20170723,     2223, -30.9818, 177.3993,        0.0,1,      0.060,1,      4.705,1,      0.141,1,      25.02,     -999.0,9,     -999.0,9,     -999.0,9,     -999.0,9,     4.7746,2,     -999.0,9
320620170703,        P06,      78,          1,         18,         18,2,20170723,       2314,   -30.9814,   177.3994,       4180,  1009.7,   5.3248,  34.3613,2,  34.3482,2, 205.5978,2, 205.6487,2,    23.4,2,   27.76,2,    0.00,2,    1.92,2,   1.462,2,   0.678,2,   0.1710,2,  2179.4,2, 2287.75,2,   7.6492,2, -999.00,9, -999.00,9, -999.00,  -999.0,9, -999.00,9,     -999.0,9,  -999.0,9, 20170723,     2227, -30.9816, 177.3991,        0.0,1,      0.060,1,      4.705,1,      0.140,1,      25.02,     -999.0,9,     -999.0,9,     -999.0,9,     -999.0,9,     5.4439,2,     -999.0,9
320620170703,        P06,      78,          1,         19,         19,2,20170723,       2314,   -30.9814,   177.3994,       4180,   907.5,   6.0018,  34.3707,2,  34.3702,2, 214.1521,2, 214.5259,2,    16.8,2,   25.38,2,    0.00,2,    1.75,2,   2.135,2,   0.958,2,   0.2090,2,  2166.3,2, 2284.15,6,   7.6722,2, -999.00,9, -999.00,9, -999.00,  -999.0,5, -999.00,9,     -999.0,1,  -999.0,9, 20170723,     2231, -30.9814, 177.3990,        0.0,1,      0.058,1,      4.703,1,      0.143,1,      25.02,     -999.0,9,     -999.0,9,     -999.0,9,     -999.0,9,     6.1641,2,     -999.0,9
320620170703,        P06,      78,          1,         20,         20,2,20170723,       2314,   -30.9814,   177.3994,       4180,   806.9,   6.8025,  34.4183,2,  34.4267,2, 217.8334,2, 217.5939,2,    12.2,2,   23.16,2,    0.00,2,    1.61,2,   2.595,2,   1.227,2,   0.2790,2,  2156.6,2, 2280.86,2,   7.6925,2, -999.00,9, -999.00,9, -999.00,  -999.0,9, -999.00,9,     -999.0,9,  -999.0,9, 20170723,     2234, -30.9815, 177.3990,        0.0,1,      0.059,1,      4.702,1,      0.143,1,      25.01,     -999.0,9,     -999.0,9,     -999.0,9,     -999.0,9,     6.9725,2,     -999.0,9
320620170703,        P06,      78,          1,         21,         21,2,20170723,       2314,   -30.9814,   177.3994,       4180,   706.4,   7.5478,  34.4657,2,  34.4679,2, 218.9421,2, 219.5906,2,     8.4,2,   21.04,2,    0.00,2,    1.47,2,   3.069,2,   1.491,2,   0.4880,2,  2149.7,6, 2280.43,2,   7.7079,2, -999.00,9, -999.00,9, -999.00,    42.2,2, -999.00,9,     -999.0,1,  -999.0,9, 20170723,     2238, -30.9816, 177.3992,        0.0,1,      0.059,1,      4.698,1,      0.143,1,      25.01,     -999.0,9,     -999.0,9,     -999.0,9,     -999.0,9,     7.7717,2,     -999.0,9
320620170703,        P06,      78,          1,         22,         22,2,20170723,       2314,   -30.9814,   177.3994,       4180,   604.5,   8.5990,  34.5693,2,  34.5720,2, 212.1930,2, 212.2568,2,     6.6,2,   18.70,2,    0.00,2,    1.33,2,   3.108,2,   1.549,2,   0.5250,2,  2146.3,2, 2281.61,2,   7.7249,2, -999.00,9, -999.00,9, -999.00,    44.6,2, -999.00,9,     -999.0,1,  -999.0,9, 20170723,     2241, -30.9820, 177.3995,        0.0,1,      0.059,1,      4.699,1,      0.142,1,      25.01,     -999.0,9,     -999.0,9,     -999.0,9,     -999.0,9,     8.8248,2,     -999.0,9
320620170703,        P06,      78,          1,         23,         23,2,20170723,       2314,   -30.9814,   177.3994,       4180,   503.0,  10.2053,  34.7410,2,  34.7636,2, 204.6571,2, 204.4160,2,     4.9,2,   15.19,2,    0.00,2,    1.10,2,   2.996,2,   1.527,2,   0.5390,2,  2138.8,2, 2287.68,2,   7.7583,2, -999.00,9, -999.00,9, -999.00,    46.4,2, -999.00,9,     -999.0,1,  -999.0,9, 20170723,     2245, -30.9822, 177.3997,        0.0,1,      0.060,1,      4.697,1,      0.145,1,      25.01,     -999.0,9,     -999.0,9,     -999.0,9,     -999.0,9,    10.5055,2,     -999.0,9
320620170703,        P06,      78,          1,         24,         24,2,20170723,       2314,   -30.9814,   177.3994,       4180,   453.4,  10.9938,  34.8312,2,  34.9032,2, 200.8157,2, 200.1056,2,     4.1,2,   12.92,2,    0.00,2,    0.96,2,   2.888,2,   1.487,2,   0.6620,2,  2132.2,2, 2295.31,2,   7.7844,2, -999.00,9, -999.00,9, -999.00,    51.6,2, -999.00,9,     -999.0,1,  -999.0,9, 20170723,     2247, -30.9822, 177.3997,        0.0,1,      0.059,1,      4.697,1,      0.144,1,      25.02,     -999.0,9,     -999.0,9,     -999.0,9,     -999.0,9,    11.7041,2,     -999.0,9
320620170703,        P06,      78,          1,         25,         25,2,20170723,       2314,   -30.9814,   177.3994,       4180,   403.4,  12.2188,  34.9924,2,  35.0146,2, 199.0093,2, 198.6309,2,     3.3,2,   10.97,2,    0.00,2,    0.84,2,   2.856,2,   1.491,2,   0.8090,2,  2126.5,2, 2298.94,2,   7.8069,2, -999.00,9, -999.00,9, -999.00,    47.4,2, -999.00,9,     -999.0,1,  -999.0,9, 20170723,     2250, -30.9822, 177.3997,        0.0,1,      0.060,1,      4.696,1,      0.145,1,      25.01,     -999.0,9,     -999.0,9,     -999.0,9,     -999.0,9,    12.6204,2,     -999.0,9
320620170703,        P06,      78,          1,         26,         26,2,20170723,       2314,   -30.9814,   177.3994,       4180,   351.9,  13.5375,  35.1385,2,  35.1857,2, 198.9965,2, 199.5264,2,     2.6,2,    8.56,2,    0.00,2,    0.68,2,   2.752,2,   1.455,2,   0.7040,2,  2116.1,2, 2308.09,2,   7.8403,2, -999.00,9, -999.00,9, -999.00,  -999.0,9, -999.00,9,     -999.0,9,  -999.0,9, 20170723,     2252, -30.9820, 177.3996,        0.0,1,      0.059,1,      4.507,1,      0.143,1,      25.00,     -999.0,9,     -999.0,9,     -999.0,9,     -999.0,9,    13.9318,2,     -999.0,9
320620170703,        P06,      78,          1,         27,         27,2,20170723,       2314,   -30.9814,   177.3994,       4180,   301.7,  14.6685,  35.2867,2,  35.2854,2, 199.6940,2, 199.2382,2,     2.3,2,    7.10,2,    0.00,2,    0.58,2,   2.678,2,   1.425,2,   0.6990,2,  2109.9,2, 2314.73,2,   7.8624,2, -999.00,9, -999.00,9, -999.00,    55.0,3, -999.00,9,     -999.0,1,  -999.0,9, 20170723,     2255, -30.9818, 177.3995,        0.0,1,      0.059,1,      4.694,1,      0.143,1,      25.01,     -999.0,9,     -999.0,9,     -999.0,9,     -999.0,9,    14.7684,2,     -999.0,9
320620170703,        P06,      78,          1,         28,         28,2,20170723,       2314,   -30.9814,   177.3994,       4180,   250.8,  15.8082,  35.4185,2,  35.4200,2, 199.5203,2, 200.4710,2,     1.8,2,    5.56,2,    0.00,2,    0.48,2,   2.567,2,   1.390,2,   0.7180,2,  2100.3,2, 2318.86,2,   7.8906,2, -999.00,9, -999.00,9, -999.00,    49.3,2,    9.50,2,     -999.0,1,  -999.0,9, 20170723,     2257, -30.9817, 177.3995,        0.0,1,      0.060,1,      4.693,1,      0.143,1,      25.03,     -999.0,9,     -999.0,9,     -999.0,9,     -999.0,9,    15.8560,2,     -999.0,9
320620170703,        P06,      78,          1,         29,         29,2,20170723,       2314,   -30.9814,   177.3994,       4180,   201.1,  16.7668,  35.5159,2,  35.4896,2, 199.6188,2, 199.5635,2,     1.4,2,    4.69,2,    0.00,2,    0.42,2,   2.510,2,   1.363,2,   0.7380,2,  2095.3,2, 2324.56,2,   7.9066,2, -999.00,9, -999.00,9, -999.00,    50.6,2,    8.70,2,     -999.0,1,  -999.0,9, 20170723,     2300, -30.9817, 177.3994,        0.0,1,      0.060,1,      4.689,1,      0.141,1,      25.02,     -999.0,9,     -999.0,9,     -999.0,9,     -999.0,9,    16.5257,2,     -999.0,9
320620170703,        P06,      78,          1,         30,         30,2,20170723,       2314,   -30.9814,   177.3994,       4180,   150.0,  18.3203,  35.7048,2,  35.6607,2, 213.0017,3, 210.6613,2,     0.8,2,    1.85,2,    0.09,2,    0.22,2,   2.295,2,   1.277,2,   0.9710,2,  2078.0,2, 2333.50,2,   7.9581,2, -999.00,9, -999.00,9, -999.00,    57.1,2,    6.50,2,     -999.0,1,  -999.0,9, 20170723,     2302, -30.9819, 177.3995,        0.0,1,      0.082,1,      4.670,1,      0.170,1,      25.02,     -999.0,9,     -999.0,9,     -999.0,9,     -999.0,9,    18.1099,2,     -999.0,9
320620170703,        P06,      78,          1,         31,         31,2,20170723,       2314,   -30.9814,   177.3994,       4180,   126.3,  18.8095,  35.7778,2,  35.7701,2, 225.2665,2, 224.7399,2,     0.4,2,    0.19,2,    0.11,2,    0.10,2,   2.229,2,   1.252,2,   0.8610,4,  2063.8,2, 2340.50,2,   7.9966,2, -999.00,9, -999.00,9, -999.00,  -999.0,9, -999.00,9,     -999.0,9,  -999.0,9, 20170723,     2304, -30.9820, 177.3996,        0.0,1,      0.150,1,      4.631,1,      0.218,1,      25.03,     -999.0,9,     -999.0,9,     -999.0,9,     -999.0,9,    18.7537,2,     -999.0,9
320620170703,        P06,      78,          1,         32,         32,2,20170723,       2314,   -30.9814,   177.3994,       4180,   101.1,  18.8073,  35.7772,2,  35.7728,2, 225.2111,2, 224.9569,2,     0.3,2,    0.17,2,    0.09,2,    0.09,2,   2.230,2,   1.237,2,   0.7740,4,  2062.3,2, 2341.66,2,   7.9992,2, -999.00,9, -999.00,9, -999.00,    60.5,2,    5.00,2,     -999.0,1,  -999.0,9, 20170723,     2306, -30.9820, 177.3996,        0.0,1,      0.155,1,      4.630,1,      0.220,1,      25.02,     -999.0,9,     -999.0,9,     -999.0,9,     -999.0,9,    18.8041,2,     -999.0,9