BOTTLE,20230922CCHSIOCBG
EXPOCODE,SECT_ID,STNNBR,CASTNO,SAMPNO,BTLNBR,BTLNBR_FLAG_W,DATE,TIME,LATITUDE,LONGITUDE,DEPTH,CTDPRS,CTDTMP,CTDSAL,CTDSAL_FLAG_W,SALNTY,SALNTY_FLAG_W,CTDOXY,CTDOXY_FLAG_W,OXYGEN,OXYGEN_FLAG_W,SILCAT,SILCAT_FLAG_W,NITRAT,NITRAT_FLAG_W,NITRIT,NITRIT_FLAG_W,PHSPHT,PHSPHT_FLAG_W,CFC-11,CFC-11_FLAG_W,CFC-12,CFC-12_FLAG_W,SF6,SF6_FLAG_W,TCARBN,TCARBN_FLAG_W,ALKALI,ALKALI_FLAG_W,PH_TOT,PH_TOT_FLAG_W,DELC13,DELC13_FLAG_W,DELC14,DELC14_FLAG_W,C14ERR,DOC,DOC_FLAG_W,TDN,TDN_FLAG_W,TON,TON_FLAG_W,D15N_NO3,D15N_NO3_FLAG_W,BTL_DATE,BTL_TIME,BTL_LAT,BTL_LON,CTDRINKO,CTDRINKO_FLAG_W,CTDFLUOR,CTDFLUOR_FLAG_W,CTDXMISS,CTDXMISS_FLAG_W,CTDBACKSCATTER,CTDBACKSCATTER_FLAG_W,PH_TMP,D18O_NO3,D18O_NO3_FLAG_W,DOP,DOP_FLAG_W,HPLC,HPLC_FLAG_W,POC,POC_FLAG_W,REFTMP,REFTMP_FLAG_W,TDP,TDP_FLAG_W
,,,,,,,,,,,METERS,DBAR,ITS-90,PSS-78,,PSS-78,,UMOL/KG,,UMOL/KG,,UMOL/KG,,UMOL/KG,,UMOL/KG,,UMOL/KG,,PMOL/KG,,PMOL/KG,,FMOL/KG,,UMOL/KG,,UMOL/KG,,,,/MILLE,,/MILLE,,/MILLE,UMOL/KG,,UMOL/KG,,UMOL/KG,,/MILLE,,,,,,VOLTS,,VOLTS,,VOLTS,,VOLTS,,DEGC,/MILLE,,UMOL/KG,,,,UG/L,,ITS-90,,UMOL/KG,
320620170703,        P06,      31,          1,          1,         37,2,20170710,       2255,   -30.0798,   161.0001,       1269,  1272.2,   4.4341,  34.4879,2,  34.4887,2, 172.5998,2, 172.9662,2,    56.2,2,   31.65,2,    0.00,2,    2.17,2,   0.480,6,   0.260,6,   0.1365,6,  2228.7,6, 2321.92,2,   7.6085,2, -999.00,9, -999.00,9, -999.00,    43.3,2, -999.00,9,     -999.0,1,  -999.0,9, 20170710,     2159, -30.0800, 161.0003,        0.0,1,      0.061,1,      4.697,1,      0.162,1,      25.03,     -999.0,9,     -999.0,9,     -999.0,9,     -999.0,9,     4.4360,2,     -999.0,9
320620170703,        P06,      31,          1,          2,          2,2,20170710,       2255,   -30.0798,   161.0001,       1269,  1176.2,   4.8129,  34.4734,2,  34.4724,3, 178.3771,2, 178.1483,2,    48.2,2,   30.71,2,    0.00,2,    2.10,2,-999.000,9,-999.000,9,-999.0000,9,  -999.0,9, -999.00,9,-999.0000,9, -999.00,9, -999.00,9, -999.00,    40.2,2, -999.00,9,     -999.0,1,  -999.0,9, 20170710,     2202, -30.0799, 161.0002,        0.0,1,      0.061,1,      4.704,1,      0.143,1,     -999.0,     -999.0,9,     -999.0,9,     -999.0,9,     -999.0,9,     4.8056,2,     -999.0,9
320620170703,        P06,      31,          1,          3,         38,2,20170710,       2255,   -30.0798,   161.0001,       1269,  1075.3,   5.4006,  34.4565,2,  34.4575,2, 186.4275,2, 185.7602,2,    37.6,2,   29.30,2,    0.00,2,    1.99,2,   0.883,2,   0.453,2,   0.1780,2,  2201.4,2, 2300.63,2,   7.6343,2, -999.00,9, -999.00,9, -999.00,    39.1,2, -999.00,9,     -999.0,1,  -999.0,9, 20170710,     2205, -30.0799, 161.0002,        0.0,1,      0.060,1,      4.704,1,      0.141,1,      25.01,     -999.0,9,     -999.0,9,     -999.0,9,     -999.0,9,     5.3840,2,     -999.0,9
320620170703,        P06,      31,          1,          4,          4,2,20170710,       2255,   -30.0798,   161.0001,       1269,   973.8,   6.0362,  34.4617,2,  34.4551,2, 192.0905,2, 192.2136,2,    28.5,2,   27.81,2,    0.00,2,    1.88,2,-999.000,9,-999.000,9,-999.0000,9,  -999.0,9, -999.00,9,-999.0000,9, -999.00,9, -999.00,9, -999.00,    43.0,2, -999.00,9,     -999.0,1,  -999.0,9, 20170710,     2208, -30.0799, 161.0002,        0.0,1,      0.060,1,      4.704,1,      0.141,1,     -999.0,     -999.0,9,     -999.0,9,     -999.0,9,     -999.0,9,     5.9808,2,     -999.0,9
320620170703,        P06,      31,          1,          5,         39,2,20170710,       2255,   -30.0798,   161.0001,       1269,   872.6,   6.7316,  34.4686,2,  34.4669,2, 200.2458,2, 200.9404,2,    19.4,2,   25.69,2,    0.00,2,    1.73,2,   1.659,2,   0.832,2,   0.2590,2,  2171.9,2, 2286.99,2,   7.6725,2, -999.00,9, -999.00,9, -999.00,    40.3,2, -999.00,9,     -999.0,1,  -999.0,9, 20170710,     2212, -30.0799, 161.0002,        0.0,1,      0.060,1,      4.703,1,      0.142,1,      25.01,     -999.0,9,     -999.0,9,     -999.0,9,     -999.0,9,     6.7249,2,     -999.0,9
320620170703,        P06,      31,          1,          6,          6,2,20170710,       2255,   -30.0798,   161.0001,       1269,   772.4,   7.7796,  34.5500,2,  34.5504,2, 198.5744,2, 198.5487,2,    13.9,2,   23.51,2,    0.00,2,    1.57,2,-999.000,9,-999.000,9,-999.0000,9,  2164.3,2, 2286.48,2,   7.6908,2, -999.00,9, -999.00,9, -999.00,    44.4,2, -999.00,9,     -999.0,1,  -999.0,9, 20170710,     2215, -30.0800, 161.0003,        0.0,1,      0.058,1,      4.702,1,      0.142,1,      25.02,     -999.0,9,     -999.0,9,     -999.0,9,     -999.0,9,     7.8072,2,     -999.0,9
320620170703,        P06,      31,          1,          7,         40,2,20170710,       2255,   -30.0798,   161.0001,       1269,   669.9,   9.0379,  34.6658,2,  34.6728,2, 200.5792,2, 200.1733,2,     8.7,2,   20.38,2,    0.00,2,    1.36,2,   2.418,2,   1.285,2,   0.5370,2,  2152.1,2, 2287.42,2,   7.7204,2, -999.00,9, -999.00,9, -999.00,    44.4,2, -999.00,9,     -999.0,1,  -999.0,9, 20170710,     2218, -30.0800, 161.0003,        0.0,1,      0.059,1,      4.700,1,      0.144,1,      25.02,     -999.0,9,     -999.0,9,     -999.0,9,     -999.0,9,     9.1361,2,     -999.0,9
320620170703,        P06,      31,          1,          8,          8,2,20170710,       2255,   -30.0798,   161.0001,       1269,   569.3,  10.7810,  34.8585,2,  34.8639,2, 197.7293,2, 197.7022,2,     5.7,2,   16.70,2,    0.00,2,    1.11,2,-999.000,9,-999.000,9,-999.0000,9,  2139.9,2, 2294.49,2,   7.7600,2, -999.00,9, -999.00,9, -999.00,    44.4,2, -999.00,9,     -999.0,1,  -999.0,9, 20170710,     2221, -30.0800, 161.0004,        0.0,1,      0.060,1,      4.698,1,      0.144,1,      25.03,     -999.0,9,     -999.0,9,     -999.0,9,     -999.0,9,    10.8499,2,     -999.0,9
320620170703,        P06,      31,          1,          9,         41,2,20170710,       2255,   -30.0798,   161.0001,       1269,   489.0,  12.5485,  35.0503,2,  35.0474,2, 194.1693,2, 194.3273,2,     4.0,2,   13.45,2,    0.00,2,    0.92,2,   2.483,2,   1.394,2,   0.7770,2,  2130.0,2, 2303.87,6,   7.8007,2, -999.00,9, -999.00,9, -999.00,    44.1,2,   15.90,2,     -999.0,1,  -999.0,9, 20170710,     2224, -30.0801, 161.0004,        0.0,1,      0.059,1,      4.697,1,      0.143,1,      25.03,     -999.0,9,     -999.0,9,     -999.0,9,     -999.0,9,    12.6033,2,     -999.0,9
320620170703,        P06,      31,          1,         10,         10,2,20170710,       2255,   -30.0798,   161.0001,       1269,   437.7,  13.3177,  35.1431,2,  35.1412,2, 192.9293,2, 193.5111,2,     3.3,2,   12.04,2,    0.00,2,    0.83,2,-999.000,9,-999.000,9,-999.0000,9,  -999.0,9, -999.00,9,-999.0000,9, -999.00,9, -999.00,9, -999.00,  -999.0,9, -999.00,9,     -999.0,9,  -999.0,9, 20170710,     2227, -30.0801, 161.0005,        0.0,1,      0.060,1,      4.696,1,      0.143,1,     -999.0,     -999.0,9,     -999.0,9,     -999.0,9,     -999.0,9,    13.3532,2,     -999.0,9
320620170703,        P06,      31,          1,         11,         42,2,20170710,       2255,   -30.0798,   161.0001,       1269,   387.9,  14.4182,  35.2447,2,  35.2489,2, 192.4440,2, 191.8424,2,     2.4,2,   10.12,2,    0.00,2,    0.68,2,   2.376,2,   1.361,2,   0.7730,2,  2118.9,2, 2313.20,2,   7.8464,2, -999.00,9, -999.00,9, -999.00,    45.7,2,   13.00,2,     -999.0,1,  -999.0,9, 20170710,     2229, -30.0802, 161.0005,        0.0,1,      0.059,1,      4.695,1,      0.143,1,      25.01,     -999.0,9,     -999.0,9,     -999.0,9,     -999.0,9,    14.4766,2,     -999.0,9
320620170703,        P06,      31,          1,         12,         12,2,20170710,       2255,   -30.0798,   161.0001,       1269,   337.3,  15.5098,  35.3602,2,  35.3735,2, 192.5914,2, 192.1442,2,     1.8,2,    8.20,2,    0.00,2,    0.58,2,-999.000,9,-999.000,9,-999.0000,9,  -999.0,9, -999.00,9,-999.0000,9, -999.00,9, -999.00,9, -999.00,  -999.0,9, -999.00,9,     -999.0,9,  -999.0,9, 20170710,     2232, -30.0802, 161.0006,        0.0,1,      0.059,1,      4.694,1,      0.143,1,     -999.0,     -999.0,9,     -999.0,9,     -999.0,9,     -999.0,9,    15.6533,2,     -999.0,9
320620170703,        P06,      31,          1,         13,         43,2,20170710,       2255,   -30.0798,   161.0001,       1269,   286.8,  16.3713,  35.4492,2,  35.5079,2, 194.4870,2, 194.6665,2,     1.1,2,    6.16,2,    0.00,2,    0.44,2,   2.307,2,   1.318,2,   0.9590,2,  2094.4,2, 2328.03,2,   7.9091,2, -999.00,9, -999.00,9, -999.00,    47.4,2,    8.60,2,     -999.0,1,  -999.0,9, 20170710,     2234, -30.0803, 161.0006,        0.0,1,      0.059,1,      4.694,1,      0.143,1,      25.02,     -999.0,9,     -999.0,9,     -999.0,9,     -999.0,9,    16.9432,2,     -999.0,9
320620170703,        P06,      31,          1,         14,         14,2,20170710,       2255,   -30.0798,   161.0001,       1269,   241.4,  17.5158,  35.5675,2,  35.5916,2, 194.3936,2, 194.5536,2,     0.7,2,    5.00,2,    0.02,2,    0.36,2,-999.000,9,-999.000,9,-999.0000,9,  -999.0,9, -999.00,9,-999.0000,9, -999.00,9, -999.00,9, -999.00,    49.2,2,    8.00,2,     -999.0,1,  -999.0,9, 20170710,     2236, -30.0803, 161.0006,        0.0,1,      0.059,1,      4.692,1,      0.144,1,     -999.0,     -999.0,9,     -999.0,9,     -999.0,9,     -999.0,9,    17.8216,2,     -999.0,9
320620170703,        P06,      31,          1,         15,         15,2,20170710,       2255,   -30.0798,   161.0001,       1269,   216.5,  18.0414,  35.6115,2,  35.6427,2, 195.3265,2, 195.2251,2,     0.5,2,    4.33,2,    0.00,2,    0.31,2,   2.073,2,   1.269,2,   1.0300,2,  2086.3,2, 2332.71,2,   7.9460,2, -999.00,9, -999.00,9, -999.00,    49.8,2,    7.70,2,     -999.0,1,  -999.0,9, 20170710,     2238, -30.0802, 161.0005,        0.0,1,      0.061,1,      4.690,1,      0.146,1,      25.01,     -999.0,9,     -999.0,9,     -999.0,9,     -999.0,9,    18.4453,2,     -999.0,9
320620170703,        P06,      31,          1,         16,         16,2,20170710,       2255,   -30.0798,   161.0001,       1269,   191.2,  18.5432,  35.6509,2,  35.6688,2, 195.4727,2, 196.3758,2,     0.4,2,    3.78,2,    0.00,2,    0.28,2,-999.000,9,-999.000,9,-999.0000,9,  -999.0,9, -999.00,9,-999.0000,9, -999.00,9, -999.00,9, -999.00,  -999.0,9, -999.00,9,     -999.0,9,  -999.0,9, 20170710,     2240, -30.0801, 161.0004,        0.0,1,      0.061,1,      4.688,1,      0.148,1,     -999.0,     -999.0,9,     -999.0,9,     -999.0,9,     -999.0,9,    18.7664,2,     -999.0,9
320620170703,        P06,      31,          1,         17,         17,2,20170710,       2255,   -30.0798,   161.0001,       1269,   166.0,  18.7617,  35.6708,2,  35.7835,2, 210.5423,2, 210.8151,2,     0.1,2,    1.36,2,    0.18,2,    0.14,2,   1.916,2,   1.174,2,   1.0080,2,  2060.4,2, 2347.04,2,   8.0000,2, -999.00,9, -999.00,9, -999.00,    59.6,2,    5.20,2,     -999.0,1,  -999.0,9, 20170710,     2242, -30.0800, 161.0003,        0.0,1,      0.062,1,      4.687,1,      0.154,1,      25.02,     -999.0,9,     -999.0,9,     -999.0,9,     -999.0,9,    19.9449,2,     -999.0,9
320620170703,        P06,      31,          1,         18,         18,2,20170710,       2255,   -30.0798,   161.0001,       1269,   140.9,  19.8791,  35.7764,2,  35.8177,2, 218.8129,2, 218.0818,2,     0.0,2,    0.44,2,    0.30,2,    0.09,2,-999.000,9,-999.000,9,-999.0000,9,  -999.0,9, -999.00,9,-999.0000,9, -999.00,9, -999.00,9, -999.00,    58.5,2,    5.20,2,     -999.0,1,  -999.0,9, 20170710,     2244, -30.0800, 161.0003,        0.0,1,      0.080,1,      4.676,1,      0.166,1,     -999.0,     -999.0,9,     -999.0,9,     -999.0,9,     -999.0,9,    20.1370,2,     -999.0,9
320620170703,        P06,      31,          1,         19,         19,2,20170710,       2255,   -30.0798,   161.0001,       1269,   116.1,  20.2531,  35.8364,2,  35.8459,2, 220.1317,2, 219.7395,2,     0.0,2,    0.18,2,    0.15,2,    0.08,2,   1.826,2,   1.145,2,   1.0940,2,  2053.5,2, 2359.99,2,   8.0233,2, -999.00,9, -999.00,9, -999.00,    59.1,2,    4.10,2,     -999.0,1,  -999.0,9, 20170710,     2246, -30.0800, 161.0003,        0.0,1,      0.127,1,      4.656,1,      0.198,1,      25.03,     -999.0,9,     -999.0,9,     -999.0,9,     -999.0,9,    20.3267,2,     -999.0,9
320620170703,        P06,      31,          1,         20,         20,2,20170710,       2255,   -30.0798,   161.0001,       1269,    90.0,  20.4482,  35.8695,2,  35.8746,2, 220.4714,2, 220.9248,2,     0.0,2,    0.04,2,    0.05,2,    0.04,2,-999.000,9,-999.000,9,-999.0000,9,  2052.6,2, 2347.87,2,   8.0275,2, -999.00,9, -999.00,9, -999.00,    63.6,3,    4.50,2,     -999.0,1,  -999.0,9, 20170710,     2248, -30.0799, 161.0002,        0.0,1,      0.156,1,      4.641,1,      0.207,1,      25.02,     -999.0,9,     -999.0,9,     -999.0,9,     -999.0,9,    20.4624,2,     -999.0,9
320620170703,        P06,      31,          1,         21,         21,2,20170710,       2255,   -30.0798,   161.0001,       1269,    65.1,  20.4761,  35.8700,2,  35.8730,2, 221.2080,2, 221.1535,2,     0.0,2,    0.02,2,    0.05,2,    0.05,2,   1.865,2,   1.189,2,   1.0350,2,  2049.3,2, 2359.07,2,   8.0271,2, -999.00,9, -999.00,9, -999.00,    61.2,2,    3.90,2,     -999.0,1,  -999.0,9, 20170710,     2250, -30.0799, 161.0002,        0.0,1,      0.174,1,      4.630,1,      0.222,1,      25.02,     -999.0,9,     -999.0,9,     -999.0,9,     -999.0,9,    20.4678,2,     -999.0,9
320620170703,        P06,      31,          1,         22,         22,2,20170710,       2255,   -30.0798,   161.0001,       1269,    40.6,  20.4810,  35.8683,2,  35.8726,2, 221.1033,2, 221.1098,2,     0.0,2,    0.07,2,    0.05,2,    0.05,2,-999.000,9,-999.000,9,-999.0000,9,  2050.4,2, 2346.11,2,   8.0278,2, -999.00,9, -999.00,9, -999.00,    60.2,2,    4.20,2,     -999.0,1,  -999.0,9, 20170710,     2252, -30.0799, 161.0002,        0.0,1,      0.167,1,      4.631,1,      0.210,1,      25.02,     -999.0,9,     -999.0,9,     -999.0,9,     -999.0,9,    20.4651,2,     -999.0,9
320620170703,        P06,      31,          1,         23,         23,2,20170710,       2255,   -30.0798,   161.0001,       1269,    20.1,  20.4784,  35.8684,2,  35.8716,2, 221.1072,2, 221.2456,2,     0.0,2,    0.08,2,    0.05,2,    0.05,2,   1.866,2,   1.147,2,   0.9880,2,  -999.0,9, -999.00,9,-999.0000,9, -999.00,9, -999.00,9, -999.00,    60.6,2,    4.00,2,     -999.0,1,  -999.0,9, 20170710,     2253, -30.0799, 161.0001,        0.0,1,      0.163,1,      4.632,1,      0.206,1,     -999.0,     -999.0,9,     -999.0,9,     -999.0,9,     -999.0,9,    20.4639,2,     -999.0,9
320620170703,        P06,      31,          1,         24,         24,2,20170710,       2255,   -30.0798,   161.0001,       1269,     4.9,  20.4713,  35.8680,2,  35.8722,2, 221.2094,2, 220.9394,2,     0.0,2,    0.07,2,    0.05,2,    0.06,2,   1.855,2,   1.153,2,   1.0270,2,  2050.8,6, 2347.93,2,   8.0278,2, -999.00,9, -999.00,9, -999.00,    62.5,2,    4.20,2,     -999.0,1,  -999.0,9, 20170710,     2255, -30.0798, 161.0001,        0.0,1,      0.153,1,      4.627,1,      0.205,1,      25.03,     -999.0,9,     -999.0,9,     -999.0,9,     -999.0,9,    20.4581,2,     -999.0,9