BOTTLE,20230922CCHSIOCBG
EXPOCODE,SECT_ID,STNNBR,CASTNO,SAMPNO,BTLNBR,BTLNBR_FLAG_W,DATE,TIME,LATITUDE,LONGITUDE,DEPTH,CTDPRS,CTDTMP,CTDSAL,CTDSAL_FLAG_W,SALNTY,SALNTY_FLAG_W,CTDOXY,CTDOXY_FLAG_W,OXYGEN,OXYGEN_FLAG_W,SILCAT,SILCAT_FLAG_W,NITRAT,NITRAT_FLAG_W,NITRIT,NITRIT_FLAG_W,PHSPHT,PHSPHT_FLAG_W,CFC-11,CFC-11_FLAG_W,CFC-12,CFC-12_FLAG_W,SF6,SF6_FLAG_W,TCARBN,TCARBN_FLAG_W,ALKALI,ALKALI_FLAG_W,PH_TOT,PH_TOT_FLAG_W,DELC13,DELC13_FLAG_W,DELC14,DELC14_FLAG_W,C14ERR,DOC,DOC_FLAG_W,TDN,TDN_FLAG_W,TON,TON_FLAG_W,D15N_NO3,D15N_NO3_FLAG_W,BTL_DATE,BTL_TIME,BTL_LAT,BTL_LON,CTDRINKO,CTDRINKO_FLAG_W,CTDFLUOR,CTDFLUOR_FLAG_W,CTDXMISS,CTDXMISS_FLAG_W,CTDBACKSCATTER,CTDBACKSCATTER_FLAG_W,PH_TMP,D18O_NO3,D18O_NO3_FLAG_W,DOP,DOP_FLAG_W,HPLC,HPLC_FLAG_W,POC,POC_FLAG_W,REFTMP,REFTMP_FLAG_W,TDP,TDP_FLAG_W
,,,,,,,,,,,METERS,DBAR,ITS-90,PSS-78,,PSS-78,,UMOL/KG,,UMOL/KG,,UMOL/KG,,UMOL/KG,,UMOL/KG,,UMOL/KG,,PMOL/KG,,PMOL/KG,,FMOL/KG,,UMOL/KG,,UMOL/KG,,,,/MILLE,,/MILLE,,/MILLE,UMOL/KG,,UMOL/KG,,UMOL/KG,,/MILLE,,,,,,VOLTS,,VOLTS,,VOLTS,,VOLTS,,DEGC,/MILLE,,UMOL/KG,,,,UG/L,,ITS-90,,UMOL/KG,
320620170703,        P06,     100,          1,          1,          1,2,20170729,       0650,   -32.5001,  -174.3296,       5850,  5963.5,   1.1643,  34.7075,2,  34.7072,2, 206.7296,2, 206.3138,2,   122.3,2,   32.16,2,    0.00,2,    2.21,2,   0.157,2,   0.088,2,   0.0000,2,  2263.4,6, -999.00,5,   7.6049,2, -999.00,9, -999.00,9, -999.00,    43.6,2, -999.00,9,     -999.0,1,  -999.0,9, 20170729,      430, -32.4997,-174.3300,        0.0,1,      0.061,1,      4.695,1,      0.129,1,      25.00,     -999.0,9,     -999.0,9,     -999.0,9,     -999.0,9,     1.1645,2,     -999.0,9
320620170703,        P06,     100,          1,          2,          2,2,20170729,       0650,   -32.5001,  -174.3296,       5850,  5677.1,   1.1286,  34.7080,2,  34.7072,2, 206.7296,2, 206.7897,2,   122.3,2,   32.15,2,    0.00,2,    2.21,2,   0.144,2,   0.084,2,   0.0000,2,  2263.8,2, 2364.13,2,   7.6062,2, -999.00,9, -999.00,9, -999.00,    40.2,2, -999.00,9,     -999.0,1,  -999.0,9, 20170729,      438, -32.4999,-174.3298,        0.0,1,      0.061,1,      4.697,1,      0.127,1,      24.99,     -999.0,9,     -999.0,9,     -999.0,9,     -999.0,9,     1.1291,2,     -999.0,9
320620170703,        P06,     100,          1,          3,          3,2,20170729,       0650,   -32.5001,  -174.3296,       5850,  5367.9,   1.0923,  34.7083,2,  34.7076,2, 206.7296,2, 208.3063,2,   122.1,2,   32.14,2,    0.00,2,    2.22,2,   0.139,2,   0.084,2,   0.0000,2,  2263.9,2, 2362.31,2,   7.6056,2, -999.00,9, -999.00,9, -999.00,    42.1,2, -999.00,9,     -999.0,1,  -999.0,9, 20170729,      445, -32.5000,-174.3298,        0.0,1,      0.061,1,      4.700,1,      0.126,1,      25.00,     -999.0,9,     -999.0,9,     -999.0,9,     -999.0,9,     1.0934,2,     -999.0,9
320620170703,        P06,     100,          1,          4,          4,2,20170729,       0650,   -32.5001,  -174.3296,       5850,  5058.1,   1.0724,  34.7089,2,  34.7077,2, 206.7296,2, 207.0360,2,   121.4,2,   32.09,2,    0.00,2,    2.20,2,   0.139,2,   0.083,2,   0.0000,2,  -999.0,9, -999.00,9,-999.0000,9, -999.00,9, -999.00,9, -999.00,  -999.0,9, -999.00,9,     -999.0,9,  -999.0,9, 20170729,      451, -32.4999,-174.3298,        0.0,1,      0.061,1,      4.700,1,      0.125,1,     -999.0,     -999.0,9,     -999.0,9,     -999.0,9,     -999.0,9,     1.0725,2,     -999.0,9
320620170703,        P06,     100,          1,          5,          5,2,20170729,       0650,   -32.5001,  -174.3296,       5850,  4748.4,   1.0724,  34.7105,2,  34.7095,2, 206.7296,2, 206.3619,2,   120.4,2,   32.00,2,    0.00,2,    2.20,2,   0.137,2,   0.084,2,   0.0000,2,  2261.1,2, 2362.10,2,   7.6060,2, -999.00,9, -999.00,9, -999.00,    43.0,2, -999.00,9,     -999.0,1,  -999.0,9, 20170729,      457, -32.5001,-174.3297,        0.0,1,      0.061,1,      4.701,1,      0.128,1,      25.00,     -999.0,9,     -999.0,9,     -999.0,9,     -999.0,9,     1.0736,2,     -999.0,9
320620170703,        P06,     100,          1,          6,          6,2,20170729,       0650,   -32.5001,  -174.3296,       5850,  4441.7,   1.0958,  34.7124,2,  34.7113,2, 206.7525,2, 205.6596,2,   118.7,2,   31.98,2,    0.00,2,    2.20,2,   0.128,2,   0.079,2,   0.0000,2,  -999.0,9, -999.00,9,-999.0000,9, -999.00,9, -999.00,9, -999.00,  -999.0,9, -999.00,9,     -999.0,9,  -999.0,9, 20170729,      503, -32.5002,-174.3297,        0.0,1,      0.061,1,      4.702,1,      0.127,1,     -999.0,     -999.0,9,     -999.0,9,     -999.0,9,     -999.0,9,     1.0971,2,     -999.0,9
320620170703,        P06,     100,          1,          7,          7,2,20170729,       0650,   -32.5001,  -174.3296,       5850,  4134.4,   1.1650,  34.7158,2,  34.7148,2, 203.7285,2, 203.7115,2,   116.2,2,   31.91,2,    0.00,2,    2.20,2,   0.125,2,   0.078,2,   0.0000,2,  2261.9,2, 2360.78,2,   7.6065,2, -999.00,9, -999.00,9, -999.00,    39.7,2, -999.00,9,     -999.0,1,  -999.0,9, 20170729,      509, -32.4997,-174.3299,        0.0,1,      0.061,1,      4.702,1,      0.129,1,      25.02,     -999.0,9,     -999.0,9,     -999.0,9,     -999.0,9,     1.1684,2,     -999.0,9
320620170703,        P06,     100,          1,          8,          8,2,20170729,       0650,   -32.5001,  -174.3296,       5850,  3825.0,   1.3228,  34.7196,2,  34.7189,2, 198.8274,2, 199.5107,2,   112.3,2,   31.83,2,    0.00,2,    2.19,2,   0.088,2,   0.057,2,   0.0000,2,  -999.0,9, -999.00,9,-999.0000,9, -999.00,9, -999.00,9, -999.00,  -999.0,9, -999.00,9,     -999.0,9,  -999.0,9, 20170729,      515, -32.5001,-174.3297,        0.0,1,      0.061,1,      4.701,1,      0.129,1,     -999.0,     -999.0,9,     -999.0,9,     -999.0,9,     -999.0,9,     1.3177,2,     -999.0,9
320620170703,        P06,     100,          1,          9,          9,2,20170729,       0650,   -32.5001,  -174.3296,       5850,  3518.0,   1.5362,  34.7163,2,  34.7162,2, 190.7916,2, 190.1405,2,   110.1,2,   32.14,2,    0.00,2,    2.21,2,   0.073,2,   0.052,2,   0.0000,2,  2267.1,2, 2365.58,6,   7.6008,2, -999.00,9, -999.00,9, -999.00,    42.6,3, -999.00,9,     -999.0,1,  -999.0,9, 20170729,      521, -32.4998,-174.3299,        0.0,1,      0.061,1,      4.701,1,      0.129,1,      25.01,     -999.0,9,     -999.0,9,     -999.0,9,     -999.0,9,     1.5280,2,     -999.0,9
320620170703,        P06,     100,          1,         10,         10,2,20170729,       0650,   -32.5001,  -174.3296,       5850,  3211.4,   1.7047,  34.6919,2,  34.6965,2, 174.2943,2, 173.4415,2,   117.3,2,   33.56,2,    0.00,2,    2.33,2,   0.055,2,   0.041,2,   0.0000,2,  -999.0,9, -999.00,9,-999.0000,9, -999.00,9, -999.00,9, -999.00,  -999.0,9, -999.00,9,     -999.0,9,  -999.0,9, 20170729,      527, -32.5001,-174.3297,        0.0,1,      0.061,1,      4.702,1,      0.130,1,     -999.0,     -999.0,9,     -999.0,9,     -999.0,9,     -999.0,9,     1.6900,2,     -999.0,9
320620170703,        P06,     100,          1,         11,         11,2,20170729,       0650,   -32.5001,  -174.3296,       5850,  2964.8,   1.8130,  34.6729,2,  34.6741,2, 156.7699,2, 156.8603,2,   126.2,2,   35.13,2,    0.00,2,    2.43,2,   0.033,2,   0.027,2,   0.0000,2,  2306.2,2, 2393.35,2,   7.5740,2, -999.00,9, -999.00,9, -999.00,    38.6,2, -999.00,9,     -999.0,1,  -999.0,9, 20170729,      532, -32.4999,-174.3298,        0.0,1,      0.061,1,      4.702,1,      0.130,1,      25.02,     -999.0,9,     -999.0,9,     -999.0,9,     -999.0,9,     1.8035,2,     -999.0,9
320620170703,        P06,     100,          1,         12,         12,2,20170729,       0650,   -32.5001,  -174.3296,       5850,  2460.5,   2.0550,  34.6477,2,  34.6476,2, 147.8640,2, 147.7703,2,   122.9,2,   35.87,2,    0.00,2,    2.49,2,   0.028,2,   0.026,2,   0.0000,2,  2309.7,6, -999.00,9,   7.5649,2, -999.00,9, -999.00,9, -999.00,  -999.0,9, -999.00,9,     -999.0,9,  -999.0,9, 20170729,      542, -32.4998,-174.3298,        0.0,1,      0.060,1,      4.702,1,      0.133,1,      25.02,     -999.0,9,     -999.0,9,     -999.0,9,     -999.0,9,     2.0453,2,     -999.0,9
320620170703,        P06,     100,          1,         13,         13,2,20170729,       0650,   -32.5001,  -174.3296,       5850,  2205.2,   2.1950,  34.6347,2,  34.6346,2, 148.3273,2, 148.6823,2,   116.4,2,   35.69,2,    0.00,2,    2.48,2,   0.030,2,   0.025,2,   0.0000,2,  2304.3,2, 2388.34,2,   7.5647,2, -999.00,9, -999.00,9, -999.00,    42.9,2, -999.00,9,     -999.0,1,  -999.0,9, 20170729,      547, -32.5000,-174.3297,        0.0,1,      0.061,1,      4.702,1,      0.131,1,      25.02,     -999.0,9,     -999.0,9,     -999.0,9,     -999.0,9,     2.1878,2,     -999.0,9
320620170703,        P06,     100,          1,         14,         14,2,20170729,       0650,   -32.5001,  -174.3296,       5850,  1952.8,   2.3790,  34.6145,2,  34.6158,2, 151.0872,2, 151.0612,2,   107.3,2,   35.38,2,    0.00,2,    2.45,2,   0.030,2,   0.026,2,   0.0000,2,  -999.0,9, -999.00,9,-999.0000,9, -999.00,9, -999.00,9, -999.00,  -999.0,9, -999.00,9,     -999.0,9,  -999.0,9, 20170729,      554, -32.4998,-174.3298,        0.0,1,      0.061,1,      4.701,1,      0.131,1,     -999.0,     -999.0,9,     -999.0,9,     -999.0,9,     -999.0,9,     2.3595,2,     -999.0,9
320620170703,        P06,     100,          1,         15,         15,2,20170729,       0650,   -32.5001,  -174.3296,       5850,  1697.8,   2.6212,  34.5758,2,  34.5777,2, 156.0482,2, 156.4621,2,    93.4,2,   35.03,2,    0.00,2,    2.42,2,   0.039,2,   0.029,2,   0.0000,2,  2278.3,2, 2362.80,2,   7.5670,2, -999.00,9, -999.00,9, -999.00,    41.3,2, -999.00,9,     -999.0,1,  -999.0,9, 20170729,      559, -32.4998,-174.3299,        0.0,1,      0.061,1,      4.703,1,      0.138,1,      25.02,     -999.0,9,     -999.0,9,     -999.0,9,     -999.0,9,     2.6042,2,     -999.0,9
320620170703,        P06,     100,          1,         16,         16,2,20170729,       0650,   -32.5001,  -174.3296,       5850,  1480.0,   2.9954,  34.5033,2,  34.5107,2, 165.8355,2, 165.8781,2,    74.8,2,   34.41,2,    0.00,2,    2.38,2,   0.084,2,   0.055,2,   0.0000,2,  -999.0,9, -999.00,9,-999.0000,9, -999.00,9, -999.00,9, -999.00,  -999.0,9, -999.00,9,     -999.0,9,  -999.0,9, 20170729,      604, -32.5003,-174.3296,        0.0,1,      0.061,1,      4.702,1,      0.139,1,     -999.0,     -999.0,9,     -999.0,9,     -999.0,9,     -999.0,9,     2.9441,2,     -999.0,9
320620170703,        P06,     100,          1,         17,         17,2,20170729,       0650,   -32.5001,  -174.3296,       5850,  1346.7,   3.3652,  34.4450,2,  34.4495,2, 174.1439,2, 174.8028,2,    60.6,2,   33.77,2,    0.00,2,    2.33,2,   0.183,2,   0.110,2,   0.0000,2,  2236.9,2, 2327.51,2,   7.5782,2, -999.00,9, -999.00,9, -999.00,    38.5,2, -999.00,9,     -999.0,1,  -999.0,9, 20170729,      607, -32.5003,-174.3296,        0.0,1,      0.060,1,      4.702,1,      0.136,1,      25.01,     -999.0,9,     -999.0,9,     -999.0,9,     -999.0,9,     3.2990,2,     -999.0,9
320620170703,        P06,     100,          1,         18,         18,2,20170729,       0650,   -32.5001,  -174.3296,       5850,  1246.7,   3.7816,  34.4050,2,  34.4082,2, 181.5727,2, 181.6672,2,    50.8,2,   33.05,2,    0.00,2,    2.27,2,   0.333,2,   0.182,2,   0.1250,2,  -999.0,9, -999.00,9,-999.0000,9, -999.00,9, -999.00,9, -999.00,  -999.0,9, -999.00,9,     -999.0,9,  -999.0,9, 20170729,      610, -32.5004,-174.3295,        0.0,1,      0.060,1,      4.692,1,      0.134,1,     -999.0,     -999.0,9,     -999.0,9,     -999.0,9,     -999.0,9,     3.6458,2,     -999.0,9
320620170703,        P06,     100,          1,         19,         19,2,20170729,       0650,   -32.5001,  -174.3296,       5850,  1145.5,   4.3342,  34.3707,2,  34.3796,2, 189.5947,2, 189.3670,2,    40.4,2,   31.61,2,    0.00,2,    2.15,2,   0.620,2,   0.313,2,   0.1500,2,  2209.0,2, 2304.76,2,   7.6082,2, -999.00,9, -999.00,9, -999.00,    45.4,3, -999.00,9,     -999.0,1,  -999.0,9, 20170729,      613, -32.5002,-174.3296,        0.0,1,      0.060,1,      4.702,1,      0.137,1,      25.02,     -999.0,9,     -999.0,9,     -999.0,9,     -999.0,9,     4.2752,2,     -999.0,9
320620170703,        P06,     100,          1,         20,         20,2,20170729,       0650,   -32.5001,  -174.3296,       5850,  1044.7,   4.9274,  34.3413,2,  34.3403,2, 200.8681,2, 200.6588,2,    28.8,2,   30.13,2,    0.00,2,    2.03,2,   0.975,2,   0.478,2,   0.2210,2,  -999.0,9, -999.00,9,-999.0000,9, -999.00,9, -999.00,9, -999.00,  -999.0,9, -999.00,9,     -999.0,9,  -999.0,9, 20170729,      615, -32.5000,-174.3297,        0.0,1,      0.059,1,      4.699,1,      0.138,1,     -999.0,     -999.0,9,     -999.0,9,     -999.0,9,     -999.0,9,     4.8032,2,     -999.0,9
320620170703,        P06,     100,          1,         21,         21,2,20170729,       0650,   -32.5001,  -174.3296,       5850,   943.2,   5.6505,  34.3556,2,  34.3537,2, 209.2133,2, 209.5394,2,    21.4,2,   27.85,2,    0.00,2,    1.88,2,   1.520,2,   0.740,2,   0.2950,2,  2174.0,2, 2287.77,2,   7.6551,2, -999.00,9, -999.00,9, -999.00,    43.0,2, -999.00,9,     -999.0,1,  -999.0,9, 20170729,      618, -32.4997,-174.3298,        0.0,1,      0.060,1,      4.666,1,      0.139,1,      25.03,     -999.0,9,     -999.0,9,     -999.0,9,     -999.0,9,     5.5510,2,     -999.0,9
320620170703,        P06,     100,          1,         22,         22,2,20170729,       0650,   -32.5001,  -174.3296,       5850,   843.6,   6.2378,  34.3547,2,  34.3515,2, 220.2506,2, 219.7206,2,    15.0,2,   26.09,2,    0.00,2,    1.75,2,   2.079,2,   0.999,2,   0.4690,2,  2162.0,2, -999.00,9,   7.6763,2, -999.00,9, -999.00,9, -999.00,    44.0,2, -999.00,9,     -999.0,1,  -999.0,9, 20170729,      621, -32.4998,-174.3299,        0.0,1,      0.059,1,      4.696,1,      0.140,1,      25.02,     -999.0,9,     -999.0,9,     -999.0,9,     -999.0,9,     6.0444,2,     -999.0,9
320620170703,        P06,     100,          1,         23,         23,2,20170729,       0650,   -32.5001,  -174.3296,       5850,   740.3,   6.7743,  34.3870,2,  34.3739,2, 226.6144,2, 226.5592,2,    10.8,2,   24.23,2,    0.00,2,    1.63,2,   2.665,2,   1.335,2,   0.5010,2,  2153.3,2, 2280.52,2,   7.6934,2, -999.00,9, -999.00,9, -999.00,    41.3,2, -999.00,9,     -999.0,1,  -999.0,9, 20170729,      624, -32.4999,-174.3298,        0.0,1,      0.059,1,      4.699,1,      0.142,1,      25.01,     -999.0,9,     -999.0,9,     -999.0,9,     -999.0,9,     6.6016,2,     -999.0,9
320620170703,        P06,     100,          1,         24,         24,2,20170729,       0650,   -32.5001,  -174.3296,       5850,   640.0,   7.2706,  34.4171,2,  34.4071,2, 229.3271,2, 229.4937,2,     7.8,2,   22.54,2,    0.00,2,    1.51,2,   3.145,2,   1.605,2,   0.7280,2,  2147.8,2, -999.00,9,   7.7043,2, -999.00,9, -999.00,9, -999.00,    46.9,3, -999.00,9,     -999.0,1,  -999.0,9, 20170729,      626, -32.5003,-174.3295,        0.0,1,      0.060,1,      4.695,1,      0.142,1,      25.02,     -999.0,9,     -999.0,9,     -999.0,9,     -999.0,9,     7.1632,2,     -999.0,9
320620170703,        P06,     100,          1,         25,         25,2,20170729,       0650,   -32.5001,  -174.3296,       5850,   538.5,   8.2658,  34.5147,2,  34.4950,2, 223.6789,2, 223.9361,2,     6.0,2,   20.29,2,    0.00,2,    1.37,2,   3.367,2,   1.735,2,   0.8570,2,  2143.7,2, 2281.19,2,   7.7172,2, -999.00,9, -999.00,9, -999.00,    43.9,2, -999.00,9,     -999.0,1,  -999.0,9, 20170729,      629, -32.5004,-174.3296,        0.0,1,      0.059,1,      4.688,1,      0.146,1,      25.04,     -999.0,9,     -999.0,9,     -999.0,9,     -999.0,9,     8.1274,2,     -999.0,9
320620170703,        P06,     100,          1,         26,         26,2,20170729,       0650,   -32.5001,  -174.3296,       5850,   437.9,   9.8423,  34.7008,2,  34.6793,2, 211.7999,2, 211.9216,2,     4.8,2,   17.16,2,    0.00,2,    1.16,2,   3.107,2,   1.694,2,   1.0140,2,  -999.0,9, -999.00,9,-999.0000,9, -999.00,9, -999.00,9, -999.00,    48.2,2, -999.00,9,     -999.0,1,  -999.0,9, 20170729,      632, -32.5001,-174.3296,        0.0,1,      0.060,1,      4.693,1,      0.146,1,     -999.0,     -999.0,9,     -999.0,9,     -999.0,9,     -999.0,9,     9.6767,2,     -999.0,9
320620170703,        P06,     100,          1,         27,         27,2,20170729,       0650,   -32.5001,  -174.3296,       5850,   366.8,  10.8919,  34.8385,2,  34.8511,2, 208.6939,2, 208.2063,2,     3.7,2,   14.03,2,    0.00,2,    0.98,2,   2.861,2,   1.603,2,   1.0090,2,  2132.1,2, 2298.82,2,   7.7752,2, -999.00,9, -999.00,9, -999.00,    46.6,2, -999.00,9,     -999.0,1,  -999.0,9, 20170729,      634, -32.4997,-174.3298,        0.0,1,      0.061,1,      4.689,1,      0.139,1,      25.03,     -999.0,9,     -999.0,9,     -999.0,9,     -999.0,9,    11.1028,2,     -999.0,9
320620170703,        P06,     100,          1,         28,         28,2,20170729,       0650,   -32.5001,  -174.3296,       5850,   319.0,  11.8036,  34.9482,2,  34.9957,2, 206.9544,2, 206.6741,2,     3.2,2,   11.81,2,    0.00,2,    0.83,2,   2.811,2,   1.570,2,   1.2190,2,  -999.0,9, -999.00,9,-999.0000,9, -999.00,9, -999.00,9, -999.00,  -999.0,9, -999.00,9,     -999.0,9,  -999.0,9, 20170729,      636, -32.4998,-174.3299,        0.0,1,      0.060,1,      4.678,1,      0.141,1,     -999.0,     -999.0,9,     -999.0,9,     -999.0,9,     -999.0,9,    12.1662,2,     -999.0,9
320620170703,        P06,     100,          1,         29,         29,2,20170729,       0650,   -32.5001,  -174.3296,       5850,   265.2,  12.8606,  35.0841,2,  35.1057,2, 205.6581,2, 207.2732,2,     2.7,2,   10.03,2,    0.02,2,    0.73,2,   2.665,2,   1.521,2,   1.0920,2,  2121.5,2, 2305.89,2,   7.8226,2, -999.00,9, -999.00,9, -999.00,    50.7,2,   12.60,2,     -999.0,1,  -999.0,9, 20170729,      638, -32.5001,-174.3295,        0.0,1,      0.059,1,      4.691,1,      0.141,1,      25.00,     -999.0,9,     -999.0,9,     -999.0,9,     -999.0,9,    13.0103,2,     -999.0,9
320620170703,        P06,     100,          1,         30,         30,2,20170729,       0650,   -32.5001,  -174.3296,       5850,   216.7,  14.1134,  35.2703,2,  35.2237,2, 211.9871,2, 210.8933,2,     2.2,2,    7.94,2,    0.02,2,    0.60,2,   2.587,2,   1.510,2,   1.4370,4,  2114.8,2, -999.00,9,   7.8467,2, -999.00,9, -999.00,9, -999.00,    50.9,2,   10.20,2,     -999.0,1,  -999.0,9, 20170729,      640, -32.5003,-174.3294,        0.0,1,      0.065,1,      4.676,1,      0.158,1,      25.02,     -999.0,9,     -999.0,9,     -999.0,9,     -999.0,9,    13.7764,2,     -999.0,9
320620170703,        P06,     100,          1,         31,         31,2,20170729,       0650,   -32.5001,  -174.3296,       5850,   164.9,  15.2844,  35.3908,2,  35.3632,2, 213.8352,2, 213.2185,2,     1.6,2,    5.60,2,    0.04,2,    0.46,2,   2.509,2,   1.445,2,   1.3430,2,  2103.4,2, 2320.87,2,   7.8837,2, -999.00,9, -999.00,9, -999.00,    54.8,2,    8.80,2,     -999.0,1,  -999.0,9, 20170729,      642, -32.5004,-174.3294,        0.0,1,      0.074,1,      4.619,1,      0.169,1,      25.04,     -999.0,9,     -999.0,9,     -999.0,9,     -999.0,9,    15.0529,2,     -999.0,9
320620170703,        P06,     100,          1,         32,         32,2,20170729,       0650,   -32.5001,  -174.3296,       5850,   117.1,  16.3821,  35.4889,2,  35.4147,2, 238.1512,2, 238.6469,2,     0.7,2,    0.47,2,    0.08,2,    0.16,2,   2.381,2,   1.400,2,   1.5230,4,  -999.0,9, -999.00,9,-999.0000,9, -999.00,9, -999.00,9, -999.00,  -999.0,5,    4.90,2,     -999.0,1,  -999.0,9, 20170729,      644, -32.5004,-174.3294,        0.0,1,      0.101,1,      4.651,1,      0.190,1,     -999.0,     -999.0,9,     -999.0,9,     -999.0,9,     -999.0,9,    15.9977,2,     -999.0,9