BOTTLE,20230922CCHSIOCBG
EXPOCODE,SECT_ID,STNNBR,CASTNO,SAMPNO,BTLNBR,BTLNBR_FLAG_W,DATE,TIME,LATITUDE,LONGITUDE,DEPTH,CTDPRS,CTDTMP,CTDSAL,CTDSAL_FLAG_W,SALNTY,SALNTY_FLAG_W,CTDOXY,CTDOXY_FLAG_W,OXYGEN,OXYGEN_FLAG_W,SILCAT,SILCAT_FLAG_W,NITRAT,NITRAT_FLAG_W,NITRIT,NITRIT_FLAG_W,PHSPHT,PHSPHT_FLAG_W,CFC-11,CFC-11_FLAG_W,CFC-12,CFC-12_FLAG_W,SF6,SF6_FLAG_W,TCARBN,TCARBN_FLAG_W,ALKALI,ALKALI_FLAG_W,PH_TOT,PH_TOT_FLAG_W,DELC13,DELC13_FLAG_W,DELC14,DELC14_FLAG_W,C14ERR,DOC,DOC_FLAG_W,TDN,TDN_FLAG_W,TON,TON_FLAG_W,D15N_NO3,D15N_NO3_FLAG_W,BTL_DATE,BTL_TIME,BTL_LAT,BTL_LON,CTDRINKO,CTDRINKO_FLAG_W,CTDFLUOR,CTDFLUOR_FLAG_W,CTDXMISS,CTDXMISS_FLAG_W,CTDBACKSCATTER,CTDBACKSCATTER_FLAG_W,PH_TMP,D18O_NO3,D18O_NO3_FLAG_W,DOP,DOP_FLAG_W,HPLC,HPLC_FLAG_W,POC,POC_FLAG_W,REFTMP,REFTMP_FLAG_W,TDP,TDP_FLAG_W
,,,,,,,,,,,METERS,DBAR,ITS-90,PSS-78,,PSS-78,,UMOL/KG,,UMOL/KG,,UMOL/KG,,UMOL/KG,,UMOL/KG,,UMOL/KG,,PMOL/KG,,PMOL/KG,,FMOL/KG,,UMOL/KG,,UMOL/KG,,,,/MILLE,,/MILLE,,/MILLE,UMOL/KG,,UMOL/KG,,UMOL/KG,,/MILLE,,,,,,VOLTS,,VOLTS,,VOLTS,,VOLTS,,DEGC,/MILLE,,UMOL/KG,,,,UG/L,,ITS-90,,UMOL/KG,
320620170703,        P06,      42,          1,         33,         33,2,20170713,       0215,   -30.0800,   165.4100,       3369,    85.8,  19.6960,  35.8227,2,  35.8299,2, 222.4092,2, 222.0468,2,     0.3,2,    0.41,2,    0.13,2,    0.09,2,   1.725,2,   1.196,2,   1.0970,2,  2055.2,2, 2353.54,2,   8.0148,2, -999.00,9, -999.00,9, -999.00,    59.4,2,    4.20,2,     -999.0,1,  -999.0,9, 20170713,      209, -30.0800, 165.4098,        0.0,1,      0.163,1,      4.635,1,      0.193,1,      24.99,     -999.0,9,     -999.0,9,     -999.0,9,     -999.0,9,    19.6907,2,     -999.0,9
320620170703,        P06,      42,          1,         34,         34,2,20170713,       0215,   -30.0800,   165.4100,       3369,    59.5,  19.6980,  35.8237,2,  35.8299,2, 220.3274,2, 222.1789,2,     0.3,2,    0.42,2,    0.13,2,    0.11,2,-999.000,9,-999.000,9,-999.0000,9,  -999.0,9, -999.00,9,-999.0000,9, -999.00,9, -999.00,9, -999.00,    57.7,2,    4.80,2,     -999.0,1,  -999.0,9, 20170713,      211, -30.0800, 165.4098,        0.0,1,      0.163,1,      4.632,1,      0.197,1,     -999.0,     -999.0,9,     -999.0,9,     -999.0,9,     -999.0,9,    19.6870,2,     -999.0,9
320620170703,        P06,      42,          1,         35,         35,2,20170713,       0215,   -30.0800,   165.4100,       3369,    36.3,  19.7146,  35.8268,2,  35.8327,2, 222.7467,2, 222.5574,2,     0.3,2,    0.41,2,    0.12,2,    0.10,2,   1.757,2,   1.203,2,   1.1270,2,  2054.0,2, 2347.43,2,   8.0153,2, -999.00,9, -999.00,9, -999.00,    56.0,2,    4.60,2,     -999.0,1,  -999.0,9, 20170713,      212, -30.0800, 165.4098,        0.0,1,      0.167,1,      4.628,1,      0.201,1,      24.99,     -999.0,9,     -999.0,9,     -999.0,9,     -999.0,9,    19.7057,2,     -999.0,9
320620170703,        P06,      42,          1,         36,         36,2,20170713,       0215,   -30.0800,   165.4100,       3369,     6.1,  19.7124,  35.8268,2,  35.8319,2, 224.5677,2, 222.9576,2,     0.4,2,    0.44,2,    0.12,2,    0.11,2,   1.792,2,   1.198,2,   1.0960,2,  2053.4,6, 2356.89,2,   8.0130,2, -999.00,9, -999.00,9, -999.00,    56.4,2,    4.50,2,     -999.0,1,  -999.0,9, 20170713,      215, -30.0800, 165.4100,        0.0,1,      0.153,1,      4.626,1,      0.188,1,      25.02,     -999.0,9,     -999.0,9,     -999.0,9,     -999.0,9,    19.7022,2,     -999.0,9