BOTTLE,20230922CCHSIOCBG
EXPOCODE,SECT_ID,STNNBR,CASTNO,SAMPNO,BTLNBR,BTLNBR_FLAG_W,DATE,TIME,LATITUDE,LONGITUDE,DEPTH,CTDPRS,CTDTMP,CTDSAL,CTDSAL_FLAG_W,SALNTY,SALNTY_FLAG_W,CTDOXY,CTDOXY_FLAG_W,OXYGEN,OXYGEN_FLAG_W,SILCAT,SILCAT_FLAG_W,NITRAT,NITRAT_FLAG_W,NITRIT,NITRIT_FLAG_W,PHSPHT,PHSPHT_FLAG_W,CFC-11,CFC-11_FLAG_W,CFC-12,CFC-12_FLAG_W,SF6,SF6_FLAG_W,TCARBN,TCARBN_FLAG_W,ALKALI,ALKALI_FLAG_W,PH_TOT,PH_TOT_FLAG_W,DELC13,DELC13_FLAG_W,DELC14,DELC14_FLAG_W,C14ERR,DOC,DOC_FLAG_W,TDN,TDN_FLAG_W,TON,TON_FLAG_W,D15N_NO3,D15N_NO3_FLAG_W,BTL_DATE,BTL_TIME,BTL_LAT,BTL_LON,CTDRINKO,CTDRINKO_FLAG_W,CTDFLUOR,CTDFLUOR_FLAG_W,CTDXMISS,CTDXMISS_FLAG_W,CTDBACKSCATTER,CTDBACKSCATTER_FLAG_W,PH_TMP,D18O_NO3,D18O_NO3_FLAG_W,DOP,DOP_FLAG_W,HPLC,HPLC_FLAG_W,POC,POC_FLAG_W,REFTMP,REFTMP_FLAG_W,TDP,TDP_FLAG_W
,,,,,,,,,,,METERS,DBAR,ITS-90,PSS-78,,PSS-78,,UMOL/KG,,UMOL/KG,,UMOL/KG,,UMOL/KG,,UMOL/KG,,UMOL/KG,,PMOL/KG,,PMOL/KG,,FMOL/KG,,UMOL/KG,,UMOL/KG,,,,/MILLE,,/MILLE,,/MILLE,UMOL/KG,,UMOL/KG,,UMOL/KG,,/MILLE,,,,,,VOLTS,,VOLTS,,VOLTS,,VOLTS,,DEGC,/MILLE,,UMOL/KG,,,,UG/L,,ITS-90,,UMOL/KG,
320620170703,        P06,      45,          1,         33,         33,2,20170713,       1729,   -30.0793,   166.4699,       3115,    85.5,  19.8242,  35.8322,2,  35.8335,2, 220.9345,2, 220.6465,2,     0.4,2,    0.41,2,    0.12,2,    0.09,2,   1.742,2,   1.132,2,   1.1150,2,  2055.9,2, 2371.23,3,   8.0147,2, -999.00,9, -999.00,9, -999.00,  -999.0,9, -999.00,9,     -999.0,9,  -999.0,9, 20170713,     1723, -30.0794, 166.4700,        0.0,1,      0.158,1,      4.639,1,      0.197,1,      25.03,     -999.0,9,     -999.0,9,     -999.0,9,     -999.0,9,    19.8153,2,     -999.0,9
320620170703,        P06,      45,          1,         34,         34,2,20170713,       1729,   -30.0793,   166.4699,       3115,    60.8,  19.8147,  35.8328,2,  35.8323,2, 221.1186,2, 220.7125,2,     0.4,2,    0.40,2,    0.13,2,    0.11,2,-999.000,9,-999.000,9,-999.0000,9,  -999.0,9, -999.00,9,-999.0000,9, -999.00,9, -999.00,9, -999.00,  -999.0,9, -999.00,9,     -999.0,9,  -999.0,9, 20170713,     1725, -30.0794, 166.4698,        0.0,1,      0.158,1,      4.640,1,      0.195,1,     -999.0,     -999.0,9,     -999.0,9,     -999.0,9,     -999.0,9,    19.8045,2,     -999.0,9
320620170703,        P06,      45,          1,         35,         35,2,20170713,       1729,   -30.0793,   166.4699,       3115,    35.5,  19.8177,  35.8319,2,  35.8333,2, 220.9946,2, 220.3435,2,     0.4,2,    0.43,2,    0.13,2,    0.11,2,   1.781,2,   1.127,2,   1.0930,2,  -999.0,9, -999.00,9,-999.0000,9, -999.00,9, -999.00,9, -999.00,  -999.0,9, -999.00,9,     -999.0,9,  -999.0,9, 20170713,     1727, -30.0794, 166.4698,        0.0,1,      0.157,1,      4.640,1,      0.197,1,     -999.0,     -999.0,9,     -999.0,9,     -999.0,9,     -999.0,9,    19.8050,2,     -999.0,9
320620170703,        P06,      45,          1,         36,         36,2,20170713,       1729,   -30.0793,   166.4699,       3115,     4.9,  19.8015,  35.8325,2,  35.8311,2, 219.6624,2, 220.3556,2,     0.5,2,    0.45,2,    0.13,2,    0.12,2,   1.780,2,   1.135,2,   1.1220,2,  2054.2,6, 2340.39,2,   8.0154,2, -999.00,9, -999.00,9, -999.00,  -999.0,9, -999.00,9,     -999.0,9,  -999.0,9, 20170713,     1729, -30.0793, 166.4699,        0.0,1,      0.163,1,      4.640,1,      0.185,1,      25.03,     -999.0,9,     -999.0,9,     -999.0,9,     -999.0,9,    19.7903,2,     -999.0,9