BOTTLE,20230922CCHSIOCBG
EXPOCODE,SECT_ID,STNNBR,CASTNO,SAMPNO,BTLNBR,BTLNBR_FLAG_W,DATE,TIME,LATITUDE,LONGITUDE,DEPTH,CTDPRS,CTDTMP,CTDSAL,CTDSAL_FLAG_W,SALNTY,SALNTY_FLAG_W,CTDOXY,CTDOXY_FLAG_W,OXYGEN,OXYGEN_FLAG_W,SILCAT,SILCAT_FLAG_W,NITRAT,NITRAT_FLAG_W,NITRIT,NITRIT_FLAG_W,PHSPHT,PHSPHT_FLAG_W,CFC-11,CFC-11_FLAG_W,CFC-12,CFC-12_FLAG_W,SF6,SF6_FLAG_W,TCARBN,TCARBN_FLAG_W,ALKALI,ALKALI_FLAG_W,PH_TOT,PH_TOT_FLAG_W,DELC13,DELC13_FLAG_W,DELC14,DELC14_FLAG_W,C14ERR,DOC,DOC_FLAG_W,TDN,TDN_FLAG_W,TON,TON_FLAG_W,D15N_NO3,D15N_NO3_FLAG_W,BTL_DATE,BTL_TIME,BTL_LAT,BTL_LON,CTDRINKO,CTDRINKO_FLAG_W,CTDFLUOR,CTDFLUOR_FLAG_W,CTDXMISS,CTDXMISS_FLAG_W,CTDBACKSCATTER,CTDBACKSCATTER_FLAG_W,PH_TMP,D18O_NO3,D18O_NO3_FLAG_W,DOP,DOP_FLAG_W,HPLC,HPLC_FLAG_W,POC,POC_FLAG_W,REFTMP,REFTMP_FLAG_W,TDP,TDP_FLAG_W
,,,,,,,,,,,METERS,DBAR,ITS-90,PSS-78,,PSS-78,,UMOL/KG,,UMOL/KG,,UMOL/KG,,UMOL/KG,,UMOL/KG,,UMOL/KG,,PMOL/KG,,PMOL/KG,,FMOL/KG,,UMOL/KG,,UMOL/KG,,,,/MILLE,,/MILLE,,/MILLE,UMOL/KG,,UMOL/KG,,UMOL/KG,,/MILLE,,,,,,VOLTS,,VOLTS,,VOLTS,,VOLTS,,DEGC,/MILLE,,UMOL/KG,,,,UG/L,,ITS-90,,UMOL/KG,
320620170703,        P06,      76,          1,          1,          1,2,20170720,       0007,   -30.0802,   176.5012,       4284,  4347.1,   1.9247,  34.6822,2,  34.6765,2, 155.9269,2, 156.1766,2,   126.0,2,   35.25,2,    0.00,2,    2.43,2,   0.076,4,   0.016,2,   0.0000,2,  2312.5,6, 2399.42,2,   7.5821,2, -999.00,9, -999.00,9, -999.00,    41.8,2, -999.00,9,     -999.0,1,  -999.0,9, 20170719,     2210, -30.0800, 176.5008,        0.0,1,      0.062,1,      0.075,1,      0.135,1,      25.05,     -999.0,9,     -999.0,9,     -999.0,9,     -999.0,9,     1.9250,2,     -999.0,9
320620170703,        P06,      76,          1,          2,          2,2,20170720,       0007,   -30.0802,   176.5012,       4284,  4203.2,   1.9079,  34.6825,2,  34.6765,2, 155.9269,2, 156.1524,2,   126.7,2,   35.19,2,    0.00,2,    2.44,2,   0.061,4,   0.023,2,   0.0000,2,  2312.8,2, -999.00,9,   7.5821,2, -999.00,9, -999.00,9, -999.00,    37.0,2, -999.00,9,     -999.0,1,  -999.0,9, 20170719,     2214, -30.0800, 176.5007,        0.0,1,      0.062,1,      0.053,1,      0.132,1,      25.07,     -999.0,9,     -999.0,9,     -999.0,9,     -999.0,9,     1.9085,2,     -999.0,9
320620170703,        P06,      76,          1,          3,          3,2,20170720,       0007,   -30.0802,   176.5012,       4284,  4067.2,   1.8941,  34.6822,2,  34.6747,2, 155.9269,2, 155.9247,2,   126.6,2,   35.03,2,    0.00,2,    2.46,2,   0.071,4,   0.020,2,   0.0000,2,  2313.2,2, 2401.49,3,   7.5818,2, -999.00,9, -999.00,9, -999.00,    38.1,2, -999.00,9,     -999.0,1,  -999.0,9, 20170719,     2218, -30.0800, 176.5007,        0.0,1,      0.062,1,      0.008,1,      0.140,1,      25.03,     -999.0,9,     -999.0,9,     -999.0,9,     -999.0,9,     1.8947,2,     -999.0,9
320620170703,        P06,      76,          1,          4,          4,2,20170720,       0007,   -30.0802,   176.5012,       4284,  3759.0,   1.8681,  34.6817,2,  34.6751,2, 155.9269,2, 155.4552,2,   126.5,2,   35.17,2,    0.00,2,    2.46,2,   0.062,4,   0.025,2,   0.0000,2,  -999.0,9, -999.00,9,-999.0000,9, -999.00,9, -999.00,9, -999.00,  -999.0,9, -999.00,9,     -999.0,9,  -999.0,9, 20170719,     2224, -30.0800, 176.5010,        0.0,1,      0.061,1,      0.065,1,      0.133,1,     -999.0,     -999.0,9,     -999.0,9,     -999.0,9,     -999.0,9,     1.8684,2,     -999.0,9
320620170703,        P06,      76,          1,          5,          5,2,20170720,       0007,   -30.0802,   176.5012,       4284,  3450.3,   1.8501,  34.6807,2,  34.6726,2, 155.9802,2, 156.1329,2,   126.0,2,   35.14,2,    0.00,2,    2.45,2,   0.082,4,   0.028,2,   0.0000,2,  2311.6,2, -999.00,9,   7.5816,2, -999.00,9, -999.00,9, -999.00,    37.0,2, -999.00,9,     -999.0,1,  -999.0,9, 20170719,     2231, -30.0800, 176.5004,        0.0,1,      0.061,1,      0.087,1,      0.140,1,      25.02,     -999.0,9,     -999.0,9,     -999.0,9,     -999.0,9,     1.8498,2,     -999.0,9
320620170703,        P06,      76,          1,          6,          6,2,20170720,       0007,   -30.0802,   176.5012,       4284,  3143.7,   1.8514,  34.6785,2,  34.6708,2, 155.1820,2, 154.7335,2,   125.1,2,   35.15,2,    0.00,2,    2.45,2,   0.084,4,   0.018,2,   0.0000,2,  -999.0,9, -999.00,9,-999.0000,9, -999.00,9, -999.00,9, -999.00,  -999.0,9, -999.00,9,     -999.0,9,  -999.0,9, 20170719,     2237, -30.0800, 176.5006,        0.0,1,      0.062,1,      0.006,1,      0.132,1,     -999.0,     -999.0,9,     -999.0,9,     -999.0,9,     -999.0,9,     1.8516,2,     -999.0,9
320620170703,        P06,      76,          1,          7,          7,2,20170720,       0007,   -30.0802,   176.5012,       4284,  2873.7,   1.8815,  34.6744,2,  34.6680,2, 154.3568,2, 154.5227,2,   123.7,2,   35.15,2,    0.00,2,    2.43,2,   0.076,4,   0.025,2,   0.0000,2,  2309.5,2, 2397.63,2,   7.5793,2, -999.00,9, -999.00,9, -999.00,    37.2,2, -999.00,9,     -999.0,1,  -999.0,9, 20170719,     2242, -30.0801, 176.5009,        0.0,1,      0.061,1,      0.006,1,      0.131,1,      25.02,     -999.0,9,     -999.0,9,     -999.0,9,     -999.0,9,     1.8820,2,     -999.0,9
320620170703,        P06,      76,          1,          8,          8,2,20170720,       0007,   -30.0802,   176.5012,       4284,  2618.0,   1.9450,  34.6676,2,  34.6596,2, 153.9010,2, 154.1546,2,   121.8,2,   35.10,2,    0.00,2,    2.44,2,   0.090,4,   0.022,2,   0.0000,2,  -999.0,9, -999.00,9,-999.0000,9, -999.00,9, -999.00,9, -999.00,  -999.0,9, -999.00,9,     -999.0,9,  -999.0,9, 20170719,     2248, -30.0800, 176.5008,        0.0,1,      0.062,1,      0.033,1,      0.134,1,     -999.0,     -999.0,9,     -999.0,9,     -999.0,9,     -999.0,9,     1.9451,2,     -999.0,9
320620170703,        P06,      76,          1,          9,          9,2,20170720,       0007,   -30.0802,   176.5012,       4284,  2364.9,   2.0419,  34.6581,2,  34.6496,2, 153.3260,2, 153.4786,2,   118.7,2,   35.09,2,    0.00,2,    2.44,2,   0.078,4,   0.024,2,   0.0000,2,  2304.2,2, -999.00,9,   7.5758,2, -999.00,9, -999.00,9, -999.00,    37.8,2, -999.00,9,     -999.0,1,  -999.0,9, 20170719,     2254, -30.0800, 176.5007,        0.0,1,      0.061,1,      0.010,1,      0.137,1,      25.00,     -999.0,9,     -999.0,9,     -999.0,9,     -999.0,9,     2.0520,2,     -999.0,9
320620170703,        P06,      76,          1,         10,         10,2,20170720,       0007,   -30.0802,   176.5012,       4284,  2109.8,   2.1816,  34.6449,2,  34.6366,2, 152.9919,2, 152.8699,2,   114.9,2,   35.05,2,    0.00,2,    2.42,2,   0.105,4,   0.026,2,   0.0000,2,  -999.0,9, -999.00,9,-999.0000,9, -999.00,9, -999.00,9, -999.00,  -999.0,9, -999.00,9,     -999.0,9,  -999.0,9, 20170719,     2259, -30.0800, 176.5006,        0.0,1,      0.061,1,      0.117,1,      0.134,1,     -999.0,     -999.0,9,     -999.0,9,     -999.0,9,     -999.0,9,     2.1850,2,     -999.0,9
320620170703,        P06,      76,          1,         11,         11,2,20170720,       0007,   -30.0802,   176.5012,       4284,  1885.4,   2.4062,  34.6246,2,  34.6201,2, 153.7788,2, 153.8077,2,   109.2,2,   34.82,2,    0.00,2,    2.43,2,   0.066,2,   0.032,2,   0.0000,2,  2293.9,2, 2381.55,2,   7.5764,2, -999.00,9, -999.00,9, -999.00,    40.4,2, -999.00,9,     -999.0,1,  -999.0,9, 20170719,     2304, -30.0801, 176.5008,        0.0,1,      0.061,1,      0.061,1,      0.138,1,      25.03,     -999.0,9,     -999.0,9,     -999.0,9,     -999.0,9,     2.3811,2,     -999.0,9
320620170703,        P06,      76,          1,         12,         12,2,20170720,       0007,   -30.0802,   176.5012,       4284,  1684.8,   2.6459,  34.6014,2,  34.5957,2, 156.1065,2, 155.7990,2,   101.4,2,   34.52,2,    0.00,2,    2.39,2,   0.082,2,   0.042,2,   0.0000,2,  -999.0,9, -999.00,9,-999.0000,9, -999.00,9, -999.00,9, -999.00,  -999.0,9, -999.00,9,     -999.0,9,  -999.0,9, 20170719,     2309, -30.0800, 176.5007,        0.0,1,      0.061,1,      0.006,1,      0.137,1,     -999.0,     -999.0,9,     -999.0,9,     -999.0,9,     -999.0,9,     2.6264,2,     -999.0,9
320620170703,        P06,      76,          1,         13,         13,2,20170720,       0007,   -30.0802,   176.5012,       4284,  1550.6,   2.9103,  34.5702,2,  34.5686,2, 158.8639,2, 158.9428,2,    93.4,2,   34.26,2,    0.00,2,    2.37,2,   0.106,6,   0.061,6,   0.0000,6,  2276.7,2, -999.00,9,   7.5788,2, -999.00,9, -999.00,9, -999.00,    42.1,2, -999.00,9,     -999.0,1,  -999.0,9, 20170719,     2312, -30.0801, 176.5009,        0.0,1,      0.061,1,      0.008,1,      0.141,1,      25.03,     -999.0,9,     -999.0,9,     -999.0,9,     -999.0,9,     2.8508,2,     -999.0,9
320620170703,        P06,      76,          1,         14,         14,2,20170720,       0007,   -30.0802,   176.5012,       4284,  1450.1,   3.0892,  34.5386,2,  34.5349,2, 162.8952,2, 162.4532,2,    83.9,2,   33.94,2,    0.00,2,    2.36,2,   0.146,2,   0.084,2,   0.0000,2,  -999.0,9, -999.00,9,-999.0000,9, -999.00,9, -999.00,9, -999.00,  -999.0,9, -999.00,9,     -999.0,9,  -999.0,9, 20170719,     2315, -30.0800, 176.5007,        0.0,1,      0.062,1,      0.043,1,      0.142,1,     -999.0,     -999.0,9,     -999.0,9,     -999.0,9,     -999.0,9,     3.0651,2,     -999.0,9
320620170703,        P06,      76,          1,         15,         15,2,20170720,       0007,   -30.0802,   176.5012,       4284,  1348.3,   3.3142,  34.5058,2,  34.5005,2, 167.5972,2, 168.1720,2,    74.1,2,   33.56,2,    0.00,2,    2.32,2,   0.189,2,   0.104,2,   0.0000,2,  2252.6,2, 2340.26,2,   7.5846,2, -999.00,9, -999.00,9, -999.00,    37.7,2, -999.00,9,     -999.0,1,  -999.0,9, 20170719,     2318, -30.0800, 176.5007,        0.0,1,      0.059,1,      0.007,1,      0.138,1,      25.02,     -999.0,9,     -999.0,9,     -999.0,9,     -999.0,9,     3.3062,2,     -999.0,9
320620170703,        P06,      76,          1,         16,         16,2,20170720,       0007,   -30.0802,   176.5012,       4284,  1247.8,   3.7996,  34.4568,2,  34.4489,2, 176.2528,2, 176.2666,2,    58.5,2,   32.51,2,    0.00,2,    2.21,2,   0.308,2,   0.187,2,   0.0000,2,  -999.0,9, -999.00,9,-999.0000,9, -999.00,9, -999.00,9, -999.00,  -999.0,9, -999.00,9,     -999.0,9,  -999.0,9, 20170719,     2321, -30.0800, 176.5007,        0.0,1,      0.061,1,      0.550,1,      0.141,1,     -999.0,     -999.0,9,     -999.0,9,     -999.0,9,     -999.0,9,     3.8195,2,     -999.0,9
320620170703,        P06,      76,          1,         17,         17,2,20170720,       0007,   -30.0802,   176.5012,       4284,  1146.2,   4.4276,  34.4155,2,  34.4129,2, 185.4793,2, 185.3880,2,    45.6,2,   31.33,2,    0.00,2,    2.11,2,   0.491,2,   0.296,2,   0.0000,2,  2214.6,2, -999.00,9,   7.6117,2, -999.00,9, -999.00,9, -999.00,    45.9,2, -999.00,9,     -999.0,1,  -999.0,9, 20170719,     2324, -30.0800, 176.5006,        0.0,1,      0.060,1,      0.651,1,      0.140,1,      25.02,     -999.0,9,     -999.0,9,     -999.0,9,     -999.0,9,     4.3623,2,     -999.0,9
320620170703,        P06,      76,          1,         18,         18,2,20170720,       0007,   -30.0802,   176.5012,       4284,  1045.4,   4.9785,  34.3831,2,  34.3758,2, 195.7980,2, 195.7026,2,    33.3,2,   29.89,2,    0.00,2,    2.01,2,   0.803,2,   0.448,2,   0.0000,2,  -999.0,9, -999.00,9,-999.0000,9, -999.00,9, -999.00,9, -999.00,  -999.0,9, -999.00,9,     -999.0,9,  -999.0,9, 20170719,     2327, -30.0800, 176.5004,        0.0,1,      0.060,1,      3.176,1,      0.139,1,     -999.0,     -999.0,9,     -999.0,9,     -999.0,9,     -999.0,9,     4.9298,2,     -999.0,9
320620170703,        P06,      76,          1,         19,         19,2,20170720,       0007,   -30.0802,   176.5012,       4284,   943.5,   5.6913,  34.3743,2,  34.3755,2, 204.5693,2, 204.1634,2,    24.7,2,   28.02,2,    0.00,2,    1.89,2,   0.949,2,   0.642,2,   0.0970,2,  2179.2,2, 2289.76,2,   7.6516,2, -999.00,9, -999.00,9, -999.00,    44.5,2, -999.00,9,     -999.0,1,  -999.0,9, 20170719,     2330, -30.0800, 176.5003,        0.0,1,      0.059,1,      0.170,1,      0.139,1,      25.02,     -999.0,9,     -999.0,9,     -999.0,9,     -999.0,9,     5.5944,2,     -999.0,9
320620170703,        P06,      76,          1,         20,         20,2,20170720,       0007,   -30.0802,   176.5012,       4284,   842.1,   6.3344,  34.3934,2,  34.3705,2, 213.2175,2, 213.7586,2,    17.1,2,   26.15,2,    0.00,2,    1.75,2,   2.182,4,   0.926,2,   0.1960,2,  -999.0,9, -999.00,9,-999.0000,9, -999.00,9, -999.00,9, -999.00,  -999.0,9, -999.00,9,     -999.0,9,  -999.0,9, 20170719,     2332, -30.0800, 176.5004,        0.0,1,      0.059,1,      0.008,1,      0.140,1,     -999.0,     -999.0,9,     -999.0,9,     -999.0,9,     -999.0,9,     6.1320,2,     -999.0,9
320620170703,        P06,      76,          1,         21,         21,2,20170720,       0007,   -30.0802,   176.5012,       4284,   741.7,   7.0676,  34.4279,2,  34.4153,2, 220.1433,2, 220.2722,2,    10.9,2,   23.55,2,    0.00,2,    1.57,2,   3.130,4,   1.269,2,   0.4120,2,  2153.0,2, -999.00,9,   7.6960,2, -999.00,9, -999.00,9, -999.00,    42.2,2, -999.00,9,     -999.0,1,  -999.0,9, 20170719,     2335, -30.0800, 176.5006,        0.0,1,      0.059,1,      0.265,1,      0.138,1,      24.98,     -999.0,9,     -999.0,9,     -999.0,9,     -999.0,9,     7.0381,2,     -999.0,9
320620170703,        P06,      76,          1,         22,         22,2,20170720,       0007,   -30.0802,   176.5012,       4284,   639.6,   8.1900,  34.5347,2,  34.5048,3, 216.0274,2, 216.3404,2,     8.4,2,   21.39,2,    0.00,2,    1.44,2,   4.627,4,   1.438,2,   0.5010,2,  2148.3,2, 2282.60,2,   7.7111,2, -999.00,9, -999.00,9, -999.00,    42.4,2, -999.00,9,     -999.0,1,  -999.0,9, 20170719,     2338, -30.0800, 176.5003,        0.0,1,      0.059,1,      4.318,1,      0.138,1,      25.04,     -999.0,9,     -999.0,9,     -999.0,9,     -999.0,9,     8.0769,2,     -999.0,9
320620170703,        P06,      76,          1,         23,         23,2,20170720,       0007,   -30.0802,   176.5012,       4284,   539.8,   9.5587,  34.7030,2,  34.6995,2, 205.7338,2, 205.1588,2,     7.0,2,   18.50,2,    0.00,2,    1.23,2,   4.610,4,   1.425,2,   0.5530,2,  2145.8,6, -999.00,9,   7.7371,2, -999.00,9, -999.00,9, -999.00,    43.8,2, -999.00,9,     -999.0,1,  -999.0,9, 20170719,     2341, -30.0800, 176.5005,        0.0,1,      0.059,1,      3.553,1,      0.141,1,      25.05,     -999.0,9,     -999.0,9,     -999.0,9,     -999.0,9,     9.6514,2,     -999.0,9
320620170703,        P06,      76,          1,         24,         24,2,20170720,       0007,   -30.0802,   176.5012,       4284,   469.2,  10.7899,  34.8474,2,  34.8253,2, 202.8529,2, 202.6801,2,     5.7,2,   16.15,2,    0.00,2,    1.09,2,   4.483,4,   1.456,2,   0.6650,2,  -999.0,9, -999.00,9,-999.0000,9, -999.00,9, -999.00,9, -999.00,    44.1,2,   19.00,2,     -999.0,1,  -999.0,9, 20170719,     2344, -30.0801, 176.5006,        0.0,1,      0.059,1,      0.012,1,      0.143,1,     -999.0,     -999.0,9,     -999.0,9,     -999.0,9,     -999.0,9,    10.7233,2,     -999.0,9
320620170703,        P06,      76,          1,         25,         25,2,20170720,       0007,   -30.0802,   176.5012,       4284,   418.2,  11.9158,  34.9894,2,  34.9681,2, 202.3674,2, 202.0115,2,     4.6,2,   13.71,2,    0.00,2,    0.93,2,   4.316,4,   1.441,2,   0.7570,2,  2131.5,2, 2306.23,2,   7.7888,2, -999.00,9, -999.00,9, -999.00,    43.9,2,   15.80,2,     -999.0,1,  -999.0,9, 20170719,     2346, -30.0801, 176.5007,        0.0,1,      0.061,1,      0.010,1,      0.144,1,      25.04,     -999.0,9,     -999.0,9,     -999.0,9,     -999.0,9,    11.8155,2,     -999.0,9
320620170703,        P06,      76,          1,         26,         26,2,20170720,       0007,   -30.0802,   176.5012,       4284,   367.4,  12.7889,  35.0973,2,  35.0949,2, 202.2834,2, 202.6169,2,     3.6,2,   11.55,2,    0.00,2,    0.80,2,   4.413,4,   1.455,2,   0.7660,2,  -999.0,9, -999.00,9,-999.0000,9, -999.00,9, -999.00,9, -999.00,  -999.0,9, -999.00,9,     -999.0,9,  -999.0,9, 20170719,     2348, -30.0801, 176.5007,        0.0,1,      0.060,1,      0.193,1,      0.144,1,     -999.0,     -999.0,9,     -999.0,9,     -999.0,9,     -999.0,9,    12.8437,2,     -999.0,9
320620170703,        P06,      76,          1,         27,         27,2,20170720,       0007,   -30.0802,   176.5012,       4284,   316.8,  13.9901,  35.2451,2,  35.2335,2, 202.5631,2, 203.0972,2,     2.8,2,    9.47,2,    0.00,2,    0.66,2,   4.055,4,   1.427,2,   0.9960,2,  2116.7,2, -999.00,9,   7.8447,2, -999.00,9, -999.00,9, -999.00,    48.0,2,   12.20,2,     -999.0,1,  -999.0,9, 20170719,     2350, -30.0801, 176.5009,        0.0,1,      0.060,1,      0.814,1,      0.141,1,      25.04,     -999.0,9,     -999.0,9,     -999.0,9,     -999.0,9,    13.8930,2,     -999.0,9
320620170703,        P06,      76,          1,         28,         28,2,20170720,       0007,   -30.0802,   176.5012,       4284,   267.0,  15.2588,  35.3898,2,  35.3514,2, 203.3159,2, 203.6628,2,     2.1,2,    7.74,2,    0.00,2,    0.55,2,   3.826,4,   1.392,2,   0.8680,2,  -999.0,9, -999.00,9,-999.0000,9, -999.00,9, -999.00,9, -999.00,    48.9,2,   10.10,2,     -999.0,1,  -999.0,9, 20170719,     2352, -30.0801, 176.5010,        0.0,1,      0.060,1,      0.006,1,      0.147,1,     -999.0,     -999.0,9,     -999.0,9,     -999.0,9,     -999.0,9,    14.9690,2,     -999.0,9
320620170703,        P06,      76,          1,         29,         29,2,20170720,       0007,   -30.0802,   176.5012,       4284,   215.2,  16.4201,  35.4880,2,  35.4340,2, 201.3696,2, 200.6034,2,     1.8,2,    6.78,2,    0.00,2,    0.49,2,   3.644,4,   1.353,2,   0.9020,2,  2100.9,2, 2320.18,2,   7.8928,2, -999.00,9, -999.00,9, -999.00,    51.5,2,    9.70,2,     -999.0,1,  -999.0,9, 20170719,     2354, -30.0801, 176.5010,        0.0,1,      0.061,1,      0.039,1,      0.148,1,      24.97,     -999.0,9,     -999.0,9,     -999.0,9,     -999.0,9,    15.9822,2,     -999.0,9
320620170703,        P06,      76,          1,         30,         30,2,20170720,       0007,   -30.0802,   176.5012,       4284,   167.2,  17.8314,  35.6326,2,  35.7086,3, 222.5482,3, 218.8704,2,     0.5,2,    1.67,2,    0.09,2,    0.17,2,   3.060,4,   1.233,2,   0.9870,2,  2071.2,2, -999.00,9,   7.9763,2, -999.00,9, -999.00,9, -999.00,    54.1,2,    5.20,2,     -999.0,1,  -999.0,9, 20170719,     2356, -30.0801, 176.5011,        0.0,1,      0.084,1,      1.819,1,      0.168,1,      24.99,     -999.0,9,     -999.0,9,     -999.0,9,     -999.0,9,    18.4167,2,     -999.0,9
320620170703,        P06,      76,          1,         31,         31,2,20170720,       0007,   -30.0802,   176.5012,       4284,   136.7,  18.7249,  35.7788,2,  35.7789,2, 225.3898,2, 226.6672,2,     0.2,2,    0.46,2,    0.09,2,    0.10,2,   2.822,4,   1.224,2,   1.0230,2,  2062.0,2, 2340.83,2,   7.9972,2, -999.00,9, -999.00,9, -999.00,    59.1,2,    4.50,2,     -999.0,1,  -999.0,9, 20170719,     2358, -30.0802, 176.5014,        0.0,1,      0.151,1,      4.536,1,      0.219,1,      25.00,     -999.0,9,     -999.0,9,     -999.0,9,     -999.0,9,    18.7820,2,     -999.0,9
320620170703,        P06,      76,          1,         32,         32,2,20170720,       0007,   -30.0802,   176.5012,       4284,   110.9,  18.7325,  35.7790,2,  35.7742,2, 224.0906,2, 225.4687,2,     0.2,2,    0.58,2,    0.11,2,    0.10,2,   2.748,4,   1.226,2,   1.1930,2,  2063.1,2, -999.00,9,   7.9963,2, -999.00,9, -999.00,9, -999.00,    57.7,2,    4.60,2,     -999.0,1,  -999.0,9, 20170720,        0, -30.0802, 176.5015,        0.0,1,      0.179,1,      2.614,1,      0.213,1,      25.02,     -999.0,9,     -999.0,9,     -999.0,9,     -999.0,9,    18.8082,2,     -999.0,9