BOTTLE,20230922CCHSIOCBG
EXPOCODE,SECT_ID,STNNBR,CASTNO,SAMPNO,BTLNBR,BTLNBR_FLAG_W,DATE,TIME,LATITUDE,LONGITUDE,DEPTH,CTDPRS,CTDTMP,CTDSAL,CTDSAL_FLAG_W,SALNTY,SALNTY_FLAG_W,CTDOXY,CTDOXY_FLAG_W,OXYGEN,OXYGEN_FLAG_W,SILCAT,SILCAT_FLAG_W,NITRAT,NITRAT_FLAG_W,NITRIT,NITRIT_FLAG_W,PHSPHT,PHSPHT_FLAG_W,CFC-11,CFC-11_FLAG_W,CFC-12,CFC-12_FLAG_W,SF6,SF6_FLAG_W,TCARBN,TCARBN_FLAG_W,ALKALI,ALKALI_FLAG_W,PH_TOT,PH_TOT_FLAG_W,DELC13,DELC13_FLAG_W,DELC14,DELC14_FLAG_W,C14ERR,DOC,DOC_FLAG_W,TDN,TDN_FLAG_W,TON,TON_FLAG_W,D15N_NO3,D15N_NO3_FLAG_W,BTL_DATE,BTL_TIME,BTL_LAT,BTL_LON,CTDRINKO,CTDRINKO_FLAG_W,CTDFLUOR,CTDFLUOR_FLAG_W,CTDXMISS,CTDXMISS_FLAG_W,CTDBACKSCATTER,CTDBACKSCATTER_FLAG_W,PH_TMP,D18O_NO3,D18O_NO3_FLAG_W,DOP,DOP_FLAG_W,HPLC,HPLC_FLAG_W,POC,POC_FLAG_W,REFTMP,REFTMP_FLAG_W,TDP,TDP_FLAG_W
,,,,,,,,,,,METERS,DBAR,ITS-90,PSS-78,,PSS-78,,UMOL/KG,,UMOL/KG,,UMOL/KG,,UMOL/KG,,UMOL/KG,,UMOL/KG,,PMOL/KG,,PMOL/KG,,FMOL/KG,,UMOL/KG,,UMOL/KG,,,,/MILLE,,/MILLE,,/MILLE,UMOL/KG,,UMOL/KG,,UMOL/KG,,/MILLE,,,,,,VOLTS,,VOLTS,,VOLTS,,VOLTS,,DEGC,/MILLE,,UMOL/KG,,,,UG/L,,ITS-90,,UMOL/KG,
320620170703,        P06,     135,          1,         33,         33,2,20170811,       0022,   -32.4997,  -154.2684,       4802,    73.4,  16.8531,  35.4975,2,  35.5038,2, 235.3756,2, 236.1155,2,     0.2,2,    0.15,2,    0.02,2,    0.09,2,   2.290,2,   1.334,2,   1.5270,4,  2069.1,2, 2334.32,2,   7.9674,2, -999.00,9, -999.00,9, -999.00,  -999.0,9, -999.00,9,     -999.0,9,  -999.0,1, 20170811,       17, -32.4997,-154.2685,        0.0,1,      0.163,1,      4.635,1,      0.177,1,      24.99,     -999.0,1,     -999.0,1,     -999.0,9,     -999.0,9,    16.8809,2,     -999.0,9
320620170703,        P06,     135,          1,         34,         34,2,20170811,       0022,   -32.4997,  -154.2684,       4802,    51.3,  16.8494,  35.4975,2,  35.4949,2, 235.7130,2, 236.6971,2,     0.0,2,    0.16,2,    0.02,2,    0.10,2,   2.334,2,   1.331,2,   1.2310,2,  -999.0,9, -999.00,9,-999.0000,9, -999.00,9, -999.00,9, -999.00,  -999.0,9, -999.00,9,     -999.0,9,  -999.0,1, 20170811,       19, -32.4997,-154.2684,        0.0,1,      0.162,1,      4.634,1,      0.178,1,     -999.0,     -999.0,1,     -999.0,1,     -999.0,9,     -999.0,9,    16.8842,2,       0.29,2
320620170703,        P06,     135,          1,         35,         35,2,20170811,       0022,   -32.4997,  -154.2684,       4802,    24.8,  16.8458,  35.4971,2,  35.4987,2, 235.9061,2, 236.2164,2,     0.1,2,    0.18,2,    0.02,2,    0.10,2,   2.332,2,   1.357,2,   1.2960,2,  2067.2,2, 2330.41,2,   7.9676,2, -999.00,9, -999.00,9, -999.00,  -999.0,9, -999.00,9,     -999.0,9,  -999.0,1, 20170811,       20, -32.4997,-154.2684,        0.0,1,      0.134,1,      4.634,1,      0.178,1,      25.02,     -999.0,1,     -999.0,1,     -999.0,9,     -999.0,9,    16.8932,2,     -999.0,9
320620170703,        P06,     135,          1,         36,         36,2,20170811,       0022,   -32.4997,  -154.2684,       4802,     3.9,  16.8528,  35.4956,2,  35.4985,2, 235.8589,2, 236.1669,2,     0.2,2,    0.17,2,    0.03,2,    0.11,2,   2.355,2,   1.344,2,   1.4540,2,  2070.0,6, 2336.48,2,   7.9693,2, -999.00,9, -999.00,9, -999.00,  -999.0,9, -999.00,9,     -999.0,9,  -999.0,1, 20170811,       22, -32.4997,-154.2684,        0.0,1,      0.109,1,      4.634,1,      0.168,1,      24.98,     -999.0,1,     -999.0,1,     -999.0,9,     -999.0,9,    16.8947,2,       0.24,2