BOTTLE,20230922CCHSIOCBG
EXPOCODE,SECT_ID,STNNBR,CASTNO,SAMPNO,BTLNBR,BTLNBR_FLAG_W,DATE,TIME,LATITUDE,LONGITUDE,DEPTH,CTDPRS,CTDTMP,CTDSAL,CTDSAL_FLAG_W,SALNTY,SALNTY_FLAG_W,CTDOXY,CTDOXY_FLAG_W,OXYGEN,OXYGEN_FLAG_W,SILCAT,SILCAT_FLAG_W,NITRAT,NITRAT_FLAG_W,NITRIT,NITRIT_FLAG_W,PHSPHT,PHSPHT_FLAG_W,CFC-11,CFC-11_FLAG_W,CFC-12,CFC-12_FLAG_W,SF6,SF6_FLAG_W,TCARBN,TCARBN_FLAG_W,ALKALI,ALKALI_FLAG_W,PH_TOT,PH_TOT_FLAG_W,DELC13,DELC13_FLAG_W,DELC14,DELC14_FLAG_W,C14ERR,DOC,DOC_FLAG_W,TDN,TDN_FLAG_W,TON,TON_FLAG_W,D15N_NO3,D15N_NO3_FLAG_W,BTL_DATE,BTL_TIME,BTL_LAT,BTL_LON,CTDRINKO,CTDRINKO_FLAG_W,CTDFLUOR,CTDFLUOR_FLAG_W,CTDXMISS,CTDXMISS_FLAG_W,CTDBACKSCATTER,CTDBACKSCATTER_FLAG_W,PH_TMP,D18O_NO3,D18O_NO3_FLAG_W,DOP,DOP_FLAG_W,HPLC,HPLC_FLAG_W,POC,POC_FLAG_W,REFTMP,REFTMP_FLAG_W,TDP,TDP_FLAG_W
,,,,,,,,,,,METERS,DBAR,ITS-90,PSS-78,,PSS-78,,UMOL/KG,,UMOL/KG,,UMOL/KG,,UMOL/KG,,UMOL/KG,,UMOL/KG,,PMOL/KG,,PMOL/KG,,FMOL/KG,,UMOL/KG,,UMOL/KG,,,,/MILLE,,/MILLE,,/MILLE,UMOL/KG,,UMOL/KG,,UMOL/KG,,/MILLE,,,,,,VOLTS,,VOLTS,,VOLTS,,VOLTS,,DEGC,/MILLE,,UMOL/KG,,,,UG/L,,ITS-90,,UMOL/KG,
320620170703,        P06,      76,          1,         33,         33,2,20170720,       0007,   -30.0802,   176.5012,       4284,    85.3,  18.7504,  35.7798,2,  35.7799,2, 224.7537,2, 225.7896,2,     0.3,2,    0.52,2,    0.11,2,    0.10,2,   2.795,4,   1.215,2,   1.1780,2,  2063.0,2, 2341.48,2,   7.9989,2, -999.00,9, -999.00,9, -999.00,    59.1,2,    4.80,2,     -999.0,1,  -999.0,9, 20170720,        1, -30.0802, 176.5015,        0.0,1,      0.215,1,      0.043,1,      0.229,1,      25.01,     -999.0,9,     -999.0,9,     -999.0,9,     -999.0,9,    18.8752,2,     -999.0,9
320620170703,        P06,      76,          1,         34,         34,2,20170720,       0007,   -30.0802,   176.5012,       4284,    60.1,  18.7957,  35.7800,2,  35.8072,2, 224.7895,2, 225.2531,2,     0.2,2,    0.34,2,    0.07,2,    0.09,2,   2.640,4,   1.205,2,   0.9510,4,  2061.8,2, -999.00,9,   8.0056,2, -999.00,9, -999.00,9, -999.00,    57.5,2,    4.30,2,     -999.0,1,  -999.0,9, 20170720,        3, -30.0802, 176.5014,        0.0,1,      0.178,1,      1.583,1,      0.204,1,      25.01,     -999.0,9,     -999.0,9,     -999.0,9,     -999.0,9,    19.0918,2,     -999.0,9
320620170703,        P06,      76,          1,         35,         35,2,20170720,       0007,   -30.0802,   176.5012,       4284,    34.5,  19.4855,  35.8350,2,  35.8275,2, 224.4816,2, 225.2061,2,     0.1,2,    0.01,2,    0.02,2,    0.04,2,   2.435,4,   1.186,2,   1.0640,2,  2053.3,2, 2341.81,2,   8.0194,2, -999.00,9, -999.00,9, -999.00,    62.4,2,    4.30,2,     -999.0,1,  -999.0,9, 20170720,        5, -30.0802, 176.5012,        0.0,1,      0.188,1,      4.258,1,      0.210,1,      24.98,     -999.0,9,     -999.0,9,     -999.0,9,     -999.0,9,    19.6337,2,     -999.0,9
320620170703,        P06,      76,          1,         36,         36,2,20170720,       0007,   -30.0802,   176.5012,       4284,     4.1,  19.5513,  35.8367,2,  35.8258,2, 224.0087,2, 225.5522,2,     0.2,2,    0.02,2,    0.02,2,    0.05,2,   2.486,4,   1.181,2,   0.9370,4,  2053.5,6, 2344.21,2,   8.0193,2,    0.86,2,   51.59,2,    4.26,    60.5,2,    4.30,2,     -999.0,1,  -999.0,9, 20170720,        7, -30.0802, 176.5012,        0.0,1,      0.188,1,      0.761,1,      0.194,1,      24.98,     -999.0,9,     -999.0,9,     -999.0,9,     -999.0,9,    19.6299,2,     -999.0,9