BOTTLE,20230922CCHSIOCBG
EXPOCODE,SECT_ID,STNNBR,CASTNO,SAMPNO,BTLNBR,BTLNBR_FLAG_W,DATE,TIME,LATITUDE,LONGITUDE,DEPTH,CTDPRS,CTDTMP,CTDSAL,CTDSAL_FLAG_W,SALNTY,SALNTY_FLAG_W,CTDOXY,CTDOXY_FLAG_W,OXYGEN,OXYGEN_FLAG_W,SILCAT,SILCAT_FLAG_W,NITRAT,NITRAT_FLAG_W,NITRIT,NITRIT_FLAG_W,PHSPHT,PHSPHT_FLAG_W,CFC-11,CFC-11_FLAG_W,CFC-12,CFC-12_FLAG_W,SF6,SF6_FLAG_W,TCARBN,TCARBN_FLAG_W,ALKALI,ALKALI_FLAG_W,PH_TOT,PH_TOT_FLAG_W,DELC13,DELC13_FLAG_W,DELC14,DELC14_FLAG_W,C14ERR,DOC,DOC_FLAG_W,TDN,TDN_FLAG_W,TON,TON_FLAG_W,D15N_NO3,D15N_NO3_FLAG_W,BTL_DATE,BTL_TIME,BTL_LAT,BTL_LON,CTDRINKO,CTDRINKO_FLAG_W,CTDFLUOR,CTDFLUOR_FLAG_W,CTDXMISS,CTDXMISS_FLAG_W,CTDBACKSCATTER,CTDBACKSCATTER_FLAG_W,PH_TMP,D18O_NO3,D18O_NO3_FLAG_W,DOP,DOP_FLAG_W,HPLC,HPLC_FLAG_W,POC,POC_FLAG_W,REFTMP,REFTMP_FLAG_W,TDP,TDP_FLAG_W
,,,,,,,,,,,METERS,DBAR,ITS-90,PSS-78,,PSS-78,,UMOL/KG,,UMOL/KG,,UMOL/KG,,UMOL/KG,,UMOL/KG,,UMOL/KG,,PMOL/KG,,PMOL/KG,,FMOL/KG,,UMOL/KG,,UMOL/KG,,,,/MILLE,,/MILLE,,/MILLE,UMOL/KG,,UMOL/KG,,UMOL/KG,,/MILLE,,,,,,VOLTS,,VOLTS,,VOLTS,,VOLTS,,DEGC,/MILLE,,UMOL/KG,,,,UG/L,,ITS-90,,UMOL/KG,
320620170703,        P06,      21,          1,         33,         33,2,20170709,       0206,   -30.0794,   157.3992,       2895,    85.3,  20.5436,  35.7900,2,  35.7845,2, 218.0605,2, 219.5087,2,     0.0,2,    0.22,2,    0.17,2,    0.10,2,   1.889,2,   1.117,2,   1.0970,2,  2044.7,2, 2341.45,2,   8.0295,2, -999.00,9, -999.00,9, -999.00,  -999.0,9, -999.00,9,     -999.0,9,  -999.0,9, 20170709,      201, -30.0797, 157.3995,        0.0,1,      0.107,1,      4.660,1,      0.202,1,      25.02,     -999.0,9,     -999.0,9,     -999.0,9,     -999.0,9,    20.5288,2,     -999.0,9
320620170703,        P06,      21,          1,         34,         34,2,20170709,       0206,   -30.0794,   157.3992,       2895,    59.4,  20.5820,  35.7831,2,  35.7853,2, 217.8648,2, 219.5479,2,     0.0,2,    0.24,2,    0.17,2,    0.10,2,   1.923,2,   1.108,2,   1.0850,2,  2045.5,2, 2339.92,2,   8.0288,2, -999.00,9, -999.00,9, -999.00,  -999.0,9, -999.00,9,     -999.0,9,  -999.0,9, 20170709,      203, -30.0795, 157.3994,        0.0,1,      0.158,1,      4.634,1,      0.196,1,      25.01,     -999.0,9,     -999.0,9,     -999.0,9,     -999.0,9,    20.5337,2,     -999.0,9
320620170703,        P06,      21,          1,         35,         35,2,20170709,       0206,   -30.0794,   157.3992,       2895,    34.6,  20.5935,  35.7833,2,  35.7835,2, 218.1725,2, 219.3892,2,     0.1,2,    0.21,2,    0.21,2,    0.11,2,   1.916,2,   1.114,2,   1.0710,2,  2043.2,2, 2342.36,2,   8.0302,2, -999.00,9, -999.00,9, -999.00,  -999.0,9, -999.00,9,     -999.0,9,  -999.0,9, 20170709,      204, -30.0795, 157.3993,        0.0,1,      0.161,1,      4.631,1,      0.199,1,      25.01,     -999.0,9,     -999.0,9,     -999.0,9,     -999.0,9,    20.5901,2,     -999.0,9
320620170703,        P06,      21,          1,         36,         36,2,20170709,       0206,   -30.0794,   157.3992,       2895,     5.7,  20.5930,  35.7820,2,  35.7867,2, 217.0502,2, 218.3733,2,     0.2,2,    0.30,2,    0.23,2,    0.12,2,   1.973,2,   1.127,2,   1.1060,2,  2045.1,6, 2340.43,2,   8.0289,2, -999.00,9, -999.00,9, -999.00,  -999.0,9, -999.00,9,     -999.0,9,  -999.0,9, 20170709,      206, -30.0794, 157.3992,        0.0,1,      0.129,1,      4.624,1,      0.194,1,      25.02,     -999.0,9,     -999.0,9,     -999.0,9,     -999.0,9,    20.6250,2,     -999.0,9