BOTTLE,20230922CCHSIOCBG
EXPOCODE,SECT_ID,STNNBR,CASTNO,SAMPNO,BTLNBR,BTLNBR_FLAG_W,DATE,TIME,LATITUDE,LONGITUDE,DEPTH,CTDPRS,CTDTMP,CTDSAL,CTDSAL_FLAG_W,SALNTY,SALNTY_FLAG_W,CTDOXY,CTDOXY_FLAG_W,OXYGEN,OXYGEN_FLAG_W,SILCAT,SILCAT_FLAG_W,NITRAT,NITRAT_FLAG_W,NITRIT,NITRIT_FLAG_W,PHSPHT,PHSPHT_FLAG_W,CFC-11,CFC-11_FLAG_W,CFC-12,CFC-12_FLAG_W,SF6,SF6_FLAG_W,TCARBN,TCARBN_FLAG_W,ALKALI,ALKALI_FLAG_W,PH_TOT,PH_TOT_FLAG_W,DELC13,DELC13_FLAG_W,DELC14,DELC14_FLAG_W,C14ERR,DOC,DOC_FLAG_W,TDN,TDN_FLAG_W,TON,TON_FLAG_W,D15N_NO3,D15N_NO3_FLAG_W,BTL_DATE,BTL_TIME,BTL_LAT,BTL_LON,CTDRINKO,CTDRINKO_FLAG_W,CTDFLUOR,CTDFLUOR_FLAG_W,CTDXMISS,CTDXMISS_FLAG_W,CTDBACKSCATTER,CTDBACKSCATTER_FLAG_W,PH_TMP,D18O_NO3,D18O_NO3_FLAG_W,DOP,DOP_FLAG_W,HPLC,HPLC_FLAG_W,POC,POC_FLAG_W,REFTMP,REFTMP_FLAG_W,TDP,TDP_FLAG_W
,,,,,,,,,,,METERS,DBAR,ITS-90,PSS-78,,PSS-78,,UMOL/KG,,UMOL/KG,,UMOL/KG,,UMOL/KG,,UMOL/KG,,UMOL/KG,,PMOL/KG,,PMOL/KG,,FMOL/KG,,UMOL/KG,,UMOL/KG,,,,/MILLE,,/MILLE,,/MILLE,UMOL/KG,,UMOL/KG,,UMOL/KG,,/MILLE,,,,,,VOLTS,,VOLTS,,VOLTS,,VOLTS,,DEGC,/MILLE,,UMOL/KG,,,,UG/L,,ITS-90,,UMOL/KG,
320620170703,        P06,      27,          1,         33,         33,2,20170710,       0637,   -30.0797,   159.5004,       2689,    60.7,  20.2496,  35.7865,2,  35.7914,2, 221.7165,2, 225.4775,3,     0.2,2,    0.49,2,    0.21,2,    0.10,2,-999.000,9,-999.000,9,-999.0000,9,  2047.0,2, 2350.08,2,   8.0239,2, -999.00,9, -999.00,9, -999.00,    60.8,2,    4.80,2,     -999.0,1,  -999.0,9, 20170710,      633, -30.0797, 159.5004,        0.0,1,      0.192,1,      4.619,1,      0.214,1,      25.00,     -999.0,9,     -999.0,9,     -999.0,9,     -999.0,9,    20.2643,2,     -999.0,9
320620170703,        P06,      27,          1,         34,         34,2,20170710,       0637,   -30.0797,   159.5004,       2689,    35.8,  20.2715,  35.7863,2,  35.7910,2, 221.2819,2, 221.9342,2,     0.2,2,    0.39,2,    0.19,2,    0.11,2,   1.957,2,   1.156,2,   1.0230,2,  -999.0,9, -999.00,9,-999.0000,9, -999.00,9, -999.00,9, -999.00,    61.1,2,    4.30,2,     -999.0,1,  -999.0,9, 20170710,      635, -30.0797, 159.5004,        0.0,1,      0.252,1,      4.576,1,      0.237,1,     -999.0,     -999.0,9,     -999.0,9,     -999.0,9,     -999.0,9,    20.2788,2,     -999.0,9
320620170703,        P06,      27,          1,         35,         35,2,20170710,       0637,   -30.0797,   159.5004,       2689,     6.5,  20.3741,  35.7889,2,  35.7940,2, 222.6107,2, 222.0642,2,     0.2,2,    0.36,2,    0.18,2,    0.12,2,   1.914,2,   1.161,2,   1.0130,2,  2046.7,6, 2351.39,2,   8.0267,2,    0.80,2,   49.95,2,    4.90,    60.3,2,    4.60,2,     -999.0,1,  -999.0,9, 20170710,      637, -30.0797, 159.5004,        0.0,1,      0.131,1,      4.598,1,      0.199,1,      25.00,     -999.0,9,     -999.0,9,     -999.0,9,     -999.0,9,    20.3038,2,     -999.0,9