BOTTLE,20230922CCHSIOCBG
EXPOCODE,SECT_ID,STNNBR,CASTNO,SAMPNO,BTLNBR,BTLNBR_FLAG_W,DATE,TIME,LATITUDE,LONGITUDE,DEPTH,CTDPRS,CTDTMP,CTDSAL,CTDSAL_FLAG_W,SALNTY,SALNTY_FLAG_W,CTDOXY,CTDOXY_FLAG_W,OXYGEN,OXYGEN_FLAG_W,SILCAT,SILCAT_FLAG_W,NITRAT,NITRAT_FLAG_W,NITRIT,NITRIT_FLAG_W,PHSPHT,PHSPHT_FLAG_W,CFC-11,CFC-11_FLAG_W,CFC-12,CFC-12_FLAG_W,SF6,SF6_FLAG_W,TCARBN,TCARBN_FLAG_W,ALKALI,ALKALI_FLAG_W,PH_TOT,PH_TOT_FLAG_W,DELC13,DELC13_FLAG_W,DELC14,DELC14_FLAG_W,C14ERR,DOC,DOC_FLAG_W,TDN,TDN_FLAG_W,TON,TON_FLAG_W,D15N_NO3,D15N_NO3_FLAG_W,BTL_DATE,BTL_TIME,BTL_LAT,BTL_LON,CTDRINKO,CTDRINKO_FLAG_W,CTDFLUOR,CTDFLUOR_FLAG_W,CTDXMISS,CTDXMISS_FLAG_W,CTDBACKSCATTER,CTDBACKSCATTER_FLAG_W,PH_TMP,D18O_NO3,D18O_NO3_FLAG_W,DOP,DOP_FLAG_W,HPLC,HPLC_FLAG_W,POC,POC_FLAG_W,REFTMP,REFTMP_FLAG_W,TDP,TDP_FLAG_W
,,,,,,,,,,,METERS,DBAR,ITS-90,PSS-78,,PSS-78,,UMOL/KG,,UMOL/KG,,UMOL/KG,,UMOL/KG,,UMOL/KG,,UMOL/KG,,PMOL/KG,,PMOL/KG,,FMOL/KG,,UMOL/KG,,UMOL/KG,,,,/MILLE,,/MILLE,,/MILLE,UMOL/KG,,UMOL/KG,,UMOL/KG,,/MILLE,,,,,,VOLTS,,VOLTS,,VOLTS,,VOLTS,,DEGC,/MILLE,,UMOL/KG,,,,UG/L,,ITS-90,,UMOL/KG,
320620170703,        P06,      43,          1,         33,         33,2,20170713,       0652,   -30.0800,   165.6701,       2663,    66.5,  19.7941,  35.8350,2,  35.8303,2, 221.0890,2, 221.0070,2,     0.2,2,    0.38,2,    0.18,2,    0.10,2,   1.762,2,   1.192,2,   1.0730,2,  2054.8,2, 2344.76,2,   8.0147,2, -999.00,9, -999.00,9, -999.00,  -999.0,9, -999.00,9,     -999.0,9,  -999.0,1, 20170713,      648, -30.0799, 165.6698,        0.0,1,      0.174,1,      4.622,1,      0.200,1,      25.01,     -999.0,1,     -999.0,9,     -999.0,9,     -999.0,9,    19.7773,2,     -999.0,9
320620170703,        P06,      43,          1,         34,         34,2,20170713,       0652,   -30.0800,   165.6701,       2663,    40.6,  19.7885,  35.8345,2,  35.8309,2, 221.0742,2, 220.9117,2,     0.2,2,    0.38,2,    0.18,2,    0.11,2,-999.000,9,-999.000,9,-999.0000,9,  -999.0,9, -999.00,9,-999.0000,9, -999.00,9, -999.00,9, -999.00,  -999.0,9, -999.00,9,     -999.0,9,  -999.0,1, 20170713,      650, -30.0799, 165.6699,        0.0,1,      0.173,1,      4.625,1,      0.201,1,     -999.0,     -999.0,1,     -999.0,9,     -999.0,9,     -999.0,9,    19.7769,2,     -999.0,9
320620170703,        P06,      43,          1,         35,         35,2,20170713,       0652,   -30.0800,   165.6701,       2663,    20.3,  19.7824,  35.8347,2,  35.8341,2, 220.2389,2, 221.2217,2,     0.2,2,    0.40,2,    0.17,2,    0.11,2,   1.752,2,   1.190,2,   1.1230,2,  2054.3,2, 2343.20,2,   8.0152,2, -999.00,9, -999.00,9, -999.00,  -999.0,9, -999.00,9,     -999.0,9,  -999.0,1, 20170713,      651, -30.0799, 165.6700,        0.0,1,      0.178,1,      4.623,1,      0.201,1,      25.01,     -999.0,1,     -999.0,9,     -999.0,9,     -999.0,9,    19.7640,2,     -999.0,9
320620170703,        P06,      43,          1,         36,         36,2,20170713,       0652,   -30.0800,   165.6701,       2663,     7.1,  19.7803,  35.8342,2,  35.8317,2, 220.0510,2, 221.2654,2,     0.2,2,    0.41,2,    0.17,2,    0.12,2,   1.791,2,   1.195,2,   0.9990,2,  2055.3,6, 2351.73,6,   8.0154,2,    0.81,2,   51.70,2,    4.31,  -999.0,9, -999.00,9,     -999.0,9,  -999.0,1, 20170713,      652, -30.0800, 165.6701,        0.0,1,      0.160,1,      4.622,1,      0.187,1,      25.01,     -999.0,1,     -999.0,9,     -999.0,9,     -999.0,9,    19.7575,2,     -999.0,9