BOTTLE,20230922CCHSIOCBG
EXPOCODE,SECT_ID,STNNBR,CASTNO,SAMPNO,BTLNBR,BTLNBR_FLAG_W,DATE,TIME,LATITUDE,LONGITUDE,DEPTH,CTDPRS,CTDTMP,CTDSAL,CTDSAL_FLAG_W,SALNTY,SALNTY_FLAG_W,CTDOXY,CTDOXY_FLAG_W,OXYGEN,OXYGEN_FLAG_W,SILCAT,SILCAT_FLAG_W,NITRAT,NITRAT_FLAG_W,NITRIT,NITRIT_FLAG_W,PHSPHT,PHSPHT_FLAG_W,CFC-11,CFC-11_FLAG_W,CFC-12,CFC-12_FLAG_W,SF6,SF6_FLAG_W,TCARBN,TCARBN_FLAG_W,ALKALI,ALKALI_FLAG_W,PH_TOT,PH_TOT_FLAG_W,DELC13,DELC13_FLAG_W,DELC14,DELC14_FLAG_W,C14ERR,DOC,DOC_FLAG_W,TDN,TDN_FLAG_W,TON,TON_FLAG_W,D15N_NO3,D15N_NO3_FLAG_W,BTL_DATE,BTL_TIME,BTL_LAT,BTL_LON,CTDRINKO,CTDRINKO_FLAG_W,CTDFLUOR,CTDFLUOR_FLAG_W,CTDXMISS,CTDXMISS_FLAG_W,CTDBACKSCATTER,CTDBACKSCATTER_FLAG_W,PH_TMP,D18O_NO3,D18O_NO3_FLAG_W,DOP,DOP_FLAG_W,HPLC,HPLC_FLAG_W,POC,POC_FLAG_W,REFTMP,REFTMP_FLAG_W,TDP,TDP_FLAG_W
,,,,,,,,,,,METERS,DBAR,ITS-90,PSS-78,,PSS-78,,UMOL/KG,,UMOL/KG,,UMOL/KG,,UMOL/KG,,UMOL/KG,,UMOL/KG,,PMOL/KG,,PMOL/KG,,FMOL/KG,,UMOL/KG,,UMOL/KG,,,,/MILLE,,/MILLE,,/MILLE,UMOL/KG,,UMOL/KG,,UMOL/KG,,/MILLE,,,,,,VOLTS,,VOLTS,,VOLTS,,VOLTS,,DEGC,/MILLE,,UMOL/KG,,,,UG/L,,ITS-90,,UMOL/KG,
320620170703,        P06,     118,          1,          1,          1,2,20170803,       1404,   -32.5007,  -165.8159,       5406,  5505.1,   1.1064,  34.7074,2,  34.7189,2, 205.7328,2, 206.3616,2,   122.1,2,   32.24,2,    0.00,2,    2.24,2,   0.196,2,   0.099,2,   0.0000,2,  2265.1,6, 2361.57,2,   7.6058,2, -999.00,9, -999.00,9, -999.00,  -999.0,9, -999.00,9,     -999.0,9,  -999.0,1, 20170803,     1143, -32.5012,-165.8148,        0.0,1,      0.061,1,      4.695,1,      0.131,1,      25.02,     -999.0,1,     -999.0,9,     -999.0,9,     -999.0,9,     1.1069,2,     -999.0,9
320620170703,        P06,     118,          1,          2,          2,2,20170803,       1404,   -32.5007,  -165.8159,       5406,  5258.8,   1.0778,  34.7078,2,  34.7079,2, 205.7328,2, 206.6197,2,   121.8,2,   32.25,2,    0.00,2,    2.24,2,   0.176,2,   0.092,2,   0.0000,2,  2263.2,2, 2363.93,2,   7.6057,2, -999.00,9, -999.00,9, -999.00,  -999.0,9, -999.00,9,     -999.0,9,  -999.0,1, 20170803,     1152, -32.5011,-165.8151,        0.0,1,      0.061,1,      4.697,1,      0.128,1,      25.02,     -999.0,1,     -999.0,9,     -999.0,9,     -999.0,9,     1.0782,2,     -999.0,9
320620170703,        P06,     118,          1,          3,          3,2,20170803,       1404,   -32.5007,  -165.8159,       5406,  5028.1,   1.0573,  34.7082,2,  34.7095,2, 205.7328,2, 206.1701,2,   121.7,2,   32.23,2,    0.00,2,    2.23,2,   0.154,2,   0.084,2,   0.0000,2,  2263.0,2, 2362.36,2,   7.6058,2, -999.00,9, -999.00,9, -999.00,  -999.0,9, -999.00,9,     -999.0,9,  -999.0,1, 20170803,     1158, -32.5009,-165.8155,        0.0,1,      0.061,1,      4.697,1,      0.127,1,      25.01,     -999.0,1,     -999.0,9,     -999.0,9,     -999.0,9,     1.0578,2,     -999.0,9
320620170703,        P06,     118,          1,          4,          4,2,20170803,       1404,   -32.5007,  -165.8159,       5406,  4718.2,   1.0439,  34.7090,2,  34.7105,2, 205.7328,2, 205.6492,2,   121.0,2,   32.21,2,    0.00,2,    2.23,2,   0.133,2,   0.075,2,   0.0000,2,  2263.8,2, 2364.13,2,   7.6069,2, -999.00,9, -999.00,9, -999.00,  -999.0,9, -999.00,9,     -999.0,9,  -999.0,1, 20170803,     1204, -32.5010,-165.8153,        0.0,1,      0.060,1,      4.699,1,      0.125,1,      25.03,     -999.0,1,     -999.0,9,     -999.0,9,     -999.0,9,     1.0437,2,     -999.0,9
320620170703,        P06,     118,          1,          5,          5,2,20170803,       1404,   -32.5007,  -165.8159,       5406,  4374.2,   1.0823,  34.7117,2,  34.7131,2, 206.3498,2, 204.8299,2,   119.0,2,   32.11,2,    0.00,2,    2.21,2,   0.124,2,   0.069,2,   0.0000,2,  2262.4,2, 2362.70,2,   7.6070,2, -999.00,9, -999.00,9, -999.00,  -999.0,9, -999.00,9,     -999.0,9,  -999.0,1, 20170803,     1211, -32.5011,-165.8152,        0.0,1,      0.061,1,      4.700,1,      0.126,1,      25.03,     -999.0,1,     -999.0,9,     -999.0,9,     -999.0,9,     1.0832,2,     -999.0,9
320620170703,        P06,     118,          1,          6,          6,2,20170803,       1404,   -32.5007,  -165.8159,       5406,  4066.1,   1.2487,  34.7174,2,  34.7184,2, 201.5141,2, 201.6336,2,   114.2,2,   31.97,2,    0.00,2,    2.21,2,   0.092,2,   0.055,2,   0.0000,2,  2261.1,2, 2360.56,2,   7.6068,2, -999.00,9, -999.00,9, -999.00,  -999.0,9, -999.00,9,     -999.0,9,  -999.0,1, 20170803,     1217, -32.5010,-165.8153,        0.0,1,      0.060,1,      4.700,1,      0.126,1,      25.02,     -999.0,1,     -999.0,9,     -999.0,9,     -999.0,9,     1.2427,2,     -999.0,9
320620170703,        P06,     118,          1,          7,          7,2,20170803,       1404,   -32.5007,  -165.8159,       5406,  3758.1,   1.4524,  34.7170,2,  34.7180,2, 192.2664,2, 192.2981,2,   111.3,2,   32.12,2,    0.00,2,    2.25,2,   0.052,2,   0.032,2,   0.0000,2,  2268.8,2, 2364.19,6,   7.6017,2, -999.00,9, -999.00,9, -999.00,  -999.0,9, -999.00,9,     -999.0,9,  -999.0,1, 20170803,     1224, -32.5009,-165.8155,        0.0,1,      0.061,1,      4.700,1,      0.127,1,      25.02,     -999.0,1,     -999.0,9,     -999.0,9,     -999.0,9,     1.4672,2,     -999.0,9
320620170703,        P06,     118,          1,          8,          8,2,20170803,       1404,   -32.5007,  -165.8159,       5406,  3451.5,   1.6344,  34.6997,2,  34.7050,2, 177.0632,2, 175.8260,2,   117.4,2,   33.60,2,    0.00,2,    2.34,2,   0.037,2,   0.021,2,   0.0000,2,  2285.6,2, -999.00,9,   7.5896,2, -999.00,9, -999.00,9, -999.00,  -999.0,9, -999.00,9,     -999.0,9,  -999.0,1, 20170803,     1230, -32.5007,-165.8156,        0.0,1,      0.062,1,      4.700,1,      0.128,1,      25.02,     -999.0,1,     -999.0,9,     -999.0,9,     -999.0,9,     1.6293,2,     -999.0,9
320620170703,        P06,     118,          1,          9,          9,2,20170803,       1404,   -32.5007,  -165.8159,       5406,  3144.6,   1.7458,  34.6786,2,  34.6802,2, 159.8849,3, 157.9078,2,   127.3,2,   35.24,2,    0.00,2,    2.46,2,   0.029,2,   0.021,2,   0.0000,2,  2306.1,2, 2393.61,2,   7.5756,2, -999.00,9, -999.00,9, -999.00,  -999.0,9, -999.00,9,     -999.0,9,  -999.0,1, 20170803,     1236, -32.5006,-165.8157,        0.0,1,      0.061,1,      4.700,1,      0.129,1,      25.02,     -999.0,1,     -999.0,9,     -999.0,9,     -999.0,9,     1.7414,2,     -999.0,9
320620170703,        P06,     118,          1,         10,         10,2,20170803,       1404,   -32.5007,  -165.8159,       5406,  2875.0,   1.8388,  34.6659,2,  34.6675,2, 150.8506,2, 149.9914,2,   128.8,2,   35.87,2,    0.00,2,    2.51,2,   0.026,2,   0.019,2,   0.0000,2,  2312.2,2, 2399.37,2,   7.5694,2, -999.00,9, -999.00,9, -999.00,  -999.0,9, -999.00,9,     -999.0,9,  -999.0,1, 20170803,     1242, -32.5006,-165.8157,        0.0,1,      0.061,1,      4.700,1,      0.132,1,      25.02,     -999.0,1,     -999.0,9,     -999.0,9,     -999.0,9,     1.8424,2,     -999.0,9
320620170703,        P06,     118,          1,         11,         11,2,20170803,       1404,   -32.5007,  -165.8159,       5406,  2619.7,   1.9342,  34.6568,2,  34.6637,2, 147.2975,2, 147.8016,2,   126.1,2,   36.06,2,    0.00,2,    2.53,2,   0.029,2,   0.022,2,   0.0000,2,  2313.6,6, 2401.06,2,-999.0000,5, -999.00,9, -999.00,9, -999.00,  -999.0,9, -999.00,9,     -999.0,9,  -999.0,1, 20170803,     1247, -32.5006,-165.8157,        0.0,1,      0.061,1,      4.701,1,      0.130,1,     -999.0,     -999.0,1,     -999.0,9,     -999.0,9,     -999.0,9,     1.9389,2,     -999.0,9
320620170703,        P06,     118,          1,         12,         12,2,20170803,       1404,   -32.5007,  -165.8159,       5406,  2363.0,   2.0452,  34.6469,2,  34.6474,2, 146.0448,2, 147.2059,2,   121.5,2,   36.00,2,    0.00,2,    2.52,2,   0.024,2,   0.016,2,   0.0000,2,  2312.5,2, -999.00,9,   7.5658,2, -999.00,9, -999.00,9, -999.00,  -999.0,9, -999.00,9,     -999.0,9,  -999.0,1, 20170803,     1253, -32.5006,-165.8157,        0.0,1,      0.061,1,      4.701,1,      0.134,1,      25.02,     -999.0,1,     -999.0,9,     -999.0,9,     -999.0,9,     2.0504,2,     -999.0,9
320620170703,        P06,     118,          1,         13,         13,2,20170803,       1404,   -32.5007,  -165.8159,       5406,  2109.0,   2.1964,  34.6328,2,  34.6339,2, 147.3705,3, 148.9638,2,   114.1,2,   35.74,2,    0.00,2,    2.49,2,   0.025,2,   0.018,2,   0.0000,2,  2300.7,2, 2386.25,2,   7.5657,2, -999.00,9, -999.00,9, -999.00,  -999.0,9, -999.00,9,     -999.0,9,  -999.0,1, 20170803,     1259, -32.5005,-165.8157,        0.0,1,      0.061,1,      4.701,1,      0.132,1,      25.02,     -999.0,1,     -999.0,9,     -999.0,9,     -999.0,9,     2.1927,2,     -999.0,9
320620170703,        P06,     118,          1,         14,         14,2,20170803,       1404,   -32.5007,  -165.8159,       5406,  1885.9,   2.3769,  34.6120,2,  34.6144,2, 150.7486,3, 152.7803,2,   104.2,2,   35.42,2,    0.00,2,    2.46,2,   0.025,2,   0.018,2,   0.0000,2,  2291.6,2, 2374.10,2,   7.5674,2, -999.00,9, -999.00,9, -999.00,  -999.0,9, -999.00,9,     -999.0,9,  -999.0,1, 20170803,     1304, -32.5005,-165.8157,        0.0,1,      0.061,1,      4.701,1,      0.134,1,      25.01,     -999.0,1,     -999.0,9,     -999.0,9,     -999.0,9,     2.3647,2,     -999.0,9
320620170703,        P06,     118,          1,         15,         15,2,20170803,       1404,   -32.5007,  -165.8159,       5406,  1682.0,   2.6323,  34.5668,2,  34.5749,2, 156.4942,3, 158.1266,2,    90.2,2,   35.06,2,    0.00,2,    2.43,2,   0.035,2,   0.025,2,   0.0000,2,  2275.4,2, 2358.80,2,   7.5661,2, -999.00,9, -999.00,9, -999.00,  -999.0,9, -999.00,9,     -999.0,9,  -999.0,1, 20170803,     1309, -32.5005,-165.8158,        0.0,1,      0.060,1,      4.701,1,      0.133,1,      25.02,     -999.0,1,     -999.0,9,     -999.0,9,     -999.0,9,     2.5936,2,     -999.0,9
320620170703,        P06,     118,          1,         16,         16,2,20170803,       1404,   -32.5007,  -165.8159,       5406,  1479.7,   2.9635,  34.4892,2,  34.5001,2, 167.3225,2, 168.0305,2,    71.0,2,   34.59,2,    0.00,2,    2.39,2,   0.095,2,   0.059,2,   0.0000,2,  2252.1,2, -999.00,9,   7.5681,2, -999.00,9, -999.00,9, -999.00,  -999.0,9, -999.00,9,     -999.0,9,  -999.0,1, 20170803,     1313, -32.5004,-165.8158,        0.0,1,      0.061,1,      4.702,1,      0.134,1,      25.01,     -999.0,1,     -999.0,9,     -999.0,9,     -999.0,9,     2.9144,2,     -999.0,9
320620170703,        P06,     118,          1,         17,         17,2,20170803,       1404,   -32.5007,  -165.8159,       5406,  1348.0,   3.3143,  34.4274,2,  34.4275,2, 177.2279,2, 177.8057,2,    56.1,2,   33.88,2,    0.00,2,    2.34,2,   0.257,2,   0.140,2,   0.0000,2,  2233.2,2, 2318.28,2,   7.5784,2, -999.00,9, -999.00,9, -999.00,  -999.0,9, -999.00,9,     -999.0,9,  -999.0,1, 20170803,     1317, -32.5002,-165.8158,        0.0,1,      0.060,1,      4.701,1,      0.135,1,      25.02,     -999.0,1,     -999.0,9,     -999.0,9,     -999.0,9,     3.3140,2,     -999.0,9
320620170703,        P06,     118,          1,         18,         18,2,20170803,       1404,   -32.5007,  -165.8159,       5406,  1246.6,   3.7344,  34.3813,2,  34.3760,2, 187.0902,2, 186.8839,2,    44.6,2,   32.90,2,    0.00,2,    2.26,2,   0.475,2,   0.242,2,   0.0000,2,  2216.6,2, 2306.98,2,   7.5933,2, -999.00,9, -999.00,9, -999.00,  -999.0,9, -999.00,9,     -999.0,9,  -999.0,1, 20170803,     1320, -32.5001,-165.8158,        0.0,1,      0.060,1,      4.701,1,      0.134,1,      25.00,     -999.0,1,     -999.0,9,     -999.0,9,     -999.0,9,     3.7854,2,     -999.0,9
320620170703,        P06,     118,          1,         19,         19,2,20170803,       1404,   -32.5007,  -165.8159,       5406,  1145.9,   4.4040,  34.3387,2,  34.3386,2, 196.8192,2, 196.6628,2,    33.0,2,   31.31,2,    0.00,2,    2.14,2,   0.800,2,   0.396,2,   0.0970,2,  2198.3,2, 2297.60,2,   7.6153,2, -999.00,9, -999.00,9, -999.00,  -999.0,9, -999.00,9,     -999.0,9,  -999.0,1, 20170803,     1323, -32.5000,-165.8158,        0.0,1,      0.059,1,      4.701,1,      0.135,1,      25.00,     -999.0,1,     -999.0,9,     -999.0,9,     -999.0,9,     4.4128,2,     -999.0,9
320620170703,        P06,     118,          1,         20,         20,2,20170803,       1404,   -32.5007,  -165.8159,       5406,  1044.4,   4.8670,  34.3224,2,  34.3231,3, 206.8223,2, 205.8737,2,    25.1,2,   29.76,2,    0.00,2,    2.02,2,   1.180,2,   0.563,2,   0.0940,2,  2184.8,2, -999.00,9,   7.6359,2, -999.00,9, -999.00,9, -999.00,  -999.0,9, -999.00,9,     -999.0,9,  -999.0,1, 20170803,     1326, -32.4999,-165.8158,        0.0,1,      0.060,1,      4.700,1,      0.136,1,      25.03,     -999.0,1,     -999.0,9,     -999.0,9,     -999.0,9,     4.9205,2,     -999.0,9
320620170703,        P06,     118,          1,         21,         21,2,20170803,       1404,   -32.5007,  -165.8159,       5406,   943.6,   5.3641,  34.3140,2,  34.3142,2, 218.1434,2, 217.6986,2,    17.5,2,   27.69,2,    0.00,2,    1.88,2,   1.762,2,   0.867,2,   0.1710,2,  2168.9,2, 2282.45,2,   7.6618,2, -999.00,9, -999.00,9, -999.00,  -999.0,9, -999.00,9,     -999.0,9,  -999.0,1, 20170803,     1329, -32.4998,-165.8158,        0.0,1,      0.059,1,      4.699,1,      0.136,1,      25.00,     -999.0,1,     -999.0,9,     -999.0,9,     -999.0,9,     5.4699,2,     -999.0,9
320620170703,        P06,     118,          1,         22,         22,2,20170803,       1404,   -32.5007,  -165.8159,       5406,   841.7,   5.9796,  34.3235,2,  34.3329,2, 229.2522,2, 228.9209,2,    11.8,2,   25.49,2,    0.00,2,    1.72,2,   2.399,2,   1.213,2,   0.4230,2,  2156.9,2, 2277.00,2,   7.6856,2, -999.00,9, -999.00,9, -999.00,  -999.0,9, -999.00,9,     -999.0,9,  -999.0,1, 20170803,     1332, -32.4997,-165.8157,        0.0,1,      0.059,1,      4.699,1,      0.138,1,      25.00,     -999.0,1,     -999.0,9,     -999.0,9,     -999.0,9,     6.0634,2,     -999.0,9
320620170703,        P06,     118,          1,         23,         23,2,20170803,       1404,   -32.5007,  -165.8159,       5406,   740.8,   6.4839,  34.3467,2,  34.3639,2, 234.7502,2, 233.7177,2,     8.4,2,   23.40,2,    0.00,2,    1.57,2,   3.077,2,   1.544,2,   0.6090,2,  2148.9,6, 2275.21,6,   7.7029,2, -999.00,9, -999.00,9, -999.00,  -999.0,9, -999.00,9,     -999.0,9,  -999.0,1, 20170803,     1335, -32.4996,-165.8157,        0.0,1,      0.058,1,      4.698,1,      0.138,1,      25.01,     -999.0,1,     -999.0,9,     -999.0,9,     -999.0,9,     6.7163,2,     -999.0,9
320620170703,        P06,     118,          1,         24,         24,2,20170803,       1404,   -32.5007,  -165.8159,       5406,   639.4,   7.0522,  34.3880,2,  34.4025,2, 235.1989,2, 235.3902,2,     6.5,2,   21.86,2,    0.00,2,    1.47,2,   3.376,2,   1.750,2,   0.8360,2,  2148.1,2, -999.00,9,   7.7110,2, -999.00,9, -999.00,9, -999.00,    48.2,2, -999.00,9,     -999.0,1,  -999.0,1, 20170803,     1338, -32.4998,-165.8158,        0.0,1,      0.058,1,      4.697,1,      0.139,1,      25.00,     -999.0,1,     -999.0,9,     -999.0,9,     -999.0,9,     7.2346,2,     -999.0,9
320620170703,        P06,     118,          1,         25,         25,2,20170803,       1404,   -32.5007,  -165.8159,       5406,   538.9,   7.7304,  34.4482,2,  34.4962,2, 228.3216,2, 227.4629,2,     5.0,2,   19.34,2,    0.00,2,    1.32,2,   3.353,2,   1.791,2,   0.8770,2,  2142.7,2, 2279.84,2,   7.7240,2, -999.00,9, -999.00,9, -999.00,    50.4,2, -999.00,9,     -999.0,1,  -999.0,1, 20170803,     1341, -32.5000,-165.8159,        0.0,1,      0.059,1,      4.696,1,      0.141,1,      25.00,     -999.0,1,     -999.0,9,     -999.0,9,     -999.0,9,     8.2465,2,     -999.0,9
320620170703,        P06,     118,          1,         26,         26,2,20170803,       1404,   -32.5007,  -165.8159,       5406,   437.6,   8.9139,  34.5587,2,  34.6396,2, 213.9984,2, 214.9421,2,     3.9,2,   16.72,2,    0.00,2,    1.14,2,   3.188,2,   1.704,2,   0.9660,2,  2135.1,2, 2285.49,2,   7.7464,2, -999.00,9, -999.00,9, -999.00,    41.5,2, -999.00,9,     -999.0,1,  -999.0,1, 20170803,     1344, -32.5001,-165.8159,        0.0,1,      0.059,1,      4.694,1,      0.143,1,      25.00,     -999.0,1,     -999.0,9,     -999.0,9,     -999.0,9,     9.6622,2,     -999.0,9
320620170703,        P06,     118,          1,         27,         27,2,20170803,       1404,   -32.5007,  -165.8159,       5406,   367.3,  10.8271,  34.7852,2,  34.8151,2, 209.3420,2, 208.8861,2,     3.1,2,   13.61,2,    0.00,2,    0.95,2,   2.951,2,   1.638,2,   1.1110,2,  2128.0,2, 2293.68,2,   7.7764,2, -999.00,9, -999.00,9, -999.00,    44.3,2, -999.00,9,     -999.0,1,  -999.0,1, 20170803,     1346, -32.5003,-165.8159,        0.0,1,      0.059,1,      4.691,1,      0.142,1,      25.00,     -999.0,1,     -999.0,1,     -999.0,9,     -999.0,9,    11.0983,2,     -999.0,9
320620170703,        P06,     118,          1,         28,         28,2,20170803,       1404,   -32.5007,  -165.8159,       5406,   317.8,  12.4951,  35.0076,2,  35.0126,2, 205.4466,3, 208.4022,2,     2.2,2,   10.30,2,    0.00,2,    0.73,2,   2.815,2,   1.602,2,   1.1920,2,  2118.1,2, 2301.20,2,   7.8123,2, -999.00,9, -999.00,9, -999.00,    57.2,3, -999.00,9,     -999.0,1,  -999.0,1, 20170803,     1349, -32.5003,-165.8159,        0.0,1,      0.059,1,      4.690,1,      0.141,1,      25.01,     -999.0,1,     -999.0,1,     -999.0,9,     -999.0,9,    12.5646,2,     -999.0,9
320620170703,        P06,     118,          1,         29,         29,2,20170803,       1404,   -32.5007,  -165.8159,       5406,   266.7,  13.7297,  35.1631,2,  35.1356,3, 204.8927,2, 205.6892,2,     1.9,2,    8.73,2,    0.00,2,    0.63,2,   2.673,2,   1.537,2,   1.3810,2,  2113.4,2, 2311.74,2,   7.8371,2, -999.00,9, -999.00,9, -999.00,    51.4,2,   11.20,2,     -999.0,1,  -999.0,1, 20170803,     1351, -32.5004,-165.8159,        0.0,1,      0.059,1,      4.690,1,      0.139,1,      25.01,     -999.0,1,     -999.0,1,     -999.0,9,     -999.0,9,    13.5578,2,     -999.0,9
320620170703,        P06,     118,          1,         30,         30,2,20170803,       1404,   -32.5007,  -165.8159,       5406,   215.3,  14.9383,  35.3133,2,  35.2940,2, 205.9337,2, 206.2450,2,     1.4,2,    6.60,2,    0.00,2,    0.50,2,   2.503,2,   1.477,2,   1.3710,2,  2105.2,2, 2320.92,2,   7.8689,2, -999.00,9, -999.00,9, -999.00,    52.7,2,    9.00,2,     -999.0,1,  -999.0,1, 20170803,     1353, -32.5004,-165.8159,        0.0,1,      0.062,1,      4.689,1,      0.139,1,      25.00,     -999.0,1,     -999.0,1,     -999.0,9,     -999.0,9,    14.7878,2,     -999.0,9
320620170703,        P06,     118,          1,         31,         31,2,20170803,       1404,   -32.5007,  -165.8159,       5406,   166.6,  15.9091,  35.4416,2,  35.4164,2, 208.4967,2, 208.1298,2,     0.9,2,    4.89,2,    0.02,2,    0.38,2,   2.458,2,   1.448,2,   1.2280,2,  2097.9,2, 2324.01,2,   7.8938,2, -999.00,9, -999.00,9, -999.00,    50.3,2,    8.00,2,     -999.0,1,  -999.0,1, 20170803,     1355, -32.5004,-165.8159,        0.0,1,      0.065,1,      4.685,1,      0.140,1,      25.01,     -999.0,1,     -999.0,1,     -999.0,9,     -999.0,9,    15.7690,2,     -999.0,9
320620170703,        P06,     118,          1,         32,         32,2,20170803,       1404,   -32.5007,  -165.8159,       5406,   115.8,  18.2603,  35.6838,2,  35.5427,2, 214.1995,4, 207.0522,2,     0.7,2,    3.41,2,    0.03,2,    0.30,2,   2.292,2,   1.374,2,   1.2450,2,  2087.7,2, 2332.19,2,   7.9224,2, -999.00,9, -999.00,9, -999.00,    51.0,2,    6.40,2,     -999.0,1,  -999.0,1, 20170803,     1357, -32.5004,-165.8159,        0.0,1,      0.127,1,      4.657,1,      0.169,1,      25.01,     -999.0,1,     -999.0,1,     -999.0,9,     -999.0,9,    16.9439,2,     -999.0,9