BOTTLE,20230922CCHSIOCBG
EXPOCODE,SECT_ID,STNNBR,CASTNO,SAMPNO,BTLNBR,BTLNBR_FLAG_W,DATE,TIME,LATITUDE,LONGITUDE,DEPTH,CTDPRS,CTDTMP,CTDSAL,CTDSAL_FLAG_W,SALNTY,SALNTY_FLAG_W,CTDOXY,CTDOXY_FLAG_W,OXYGEN,OXYGEN_FLAG_W,SILCAT,SILCAT_FLAG_W,NITRAT,NITRAT_FLAG_W,NITRIT,NITRIT_FLAG_W,PHSPHT,PHSPHT_FLAG_W,CFC-11,CFC-11_FLAG_W,CFC-12,CFC-12_FLAG_W,SF6,SF6_FLAG_W,TCARBN,TCARBN_FLAG_W,ALKALI,ALKALI_FLAG_W,PH_TOT,PH_TOT_FLAG_W,DELC13,DELC13_FLAG_W,DELC14,DELC14_FLAG_W,C14ERR,DOC,DOC_FLAG_W,TDN,TDN_FLAG_W,TON,TON_FLAG_W,D15N_NO3,D15N_NO3_FLAG_W,BTL_DATE,BTL_TIME,BTL_LAT,BTL_LON,CTDRINKO,CTDRINKO_FLAG_W,CTDFLUOR,CTDFLUOR_FLAG_W,CTDXMISS,CTDXMISS_FLAG_W,CTDBACKSCATTER,CTDBACKSCATTER_FLAG_W,PH_TMP,D18O_NO3,D18O_NO3_FLAG_W,DOP,DOP_FLAG_W,HPLC,HPLC_FLAG_W,POC,POC_FLAG_W,REFTMP,REFTMP_FLAG_W,TDP,TDP_FLAG_W
,,,,,,,,,,,METERS,DBAR,ITS-90,PSS-78,,PSS-78,,UMOL/KG,,UMOL/KG,,UMOL/KG,,UMOL/KG,,UMOL/KG,,UMOL/KG,,PMOL/KG,,PMOL/KG,,FMOL/KG,,UMOL/KG,,UMOL/KG,,,,/MILLE,,/MILLE,,/MILLE,UMOL/KG,,UMOL/KG,,UMOL/KG,,/MILLE,,,,,,VOLTS,,VOLTS,,VOLTS,,VOLTS,,DEGC,/MILLE,,UMOL/KG,,,,UG/L,,ITS-90,,UMOL/KG,
320620170703,        P06,      24,          1,          1,         37,2,20170709,       1503,   -30.0799,   158.3399,       2676,  2702.9,   1.8416,  34.7155,2,  34.7148,2, 182.7173,2, 183.0142,2,    99.8,2,   32.23,2,    0.00,2,    2.21,2,   0.048,2,   0.032,2,   0.0000,2,  2269.1,6, 2360.67,2,   7.5998,2, -999.00,9, -999.00,9, -999.00,  -999.0,9, -999.00,9,     -999.0,9,  -999.0,9, 20170709,     1335, -30.0797, 158.3397,        0.0,1,      0.061,1,      4.705,1,      0.139,1,      25.01,     -999.0,9,     -999.0,9,     -999.0,9,     -999.0,9,     1.8412,2,     -999.0,9
320620170703,        P06,      24,          1,          2,          2,2,20170709,       1503,   -30.0799,   158.3399,       2676,  2598.1,   1.8551,  34.7149,2,  34.7148,2, 182.6884,2, 182.6594,2,    99.2,2,   32.21,2,    0.00,2,    2.22,2,-999.000,9,-999.000,9,-999.0000,9,  -999.0,9, -999.00,9,-999.0000,9, -999.00,9, -999.00,9, -999.00,  -999.0,9, -999.00,9,     -999.0,9,  -999.0,9, 20170709,     1338, -30.0798, 158.3398,        0.0,1,      0.061,1,      4.706,1,      0.138,1,     -999.0,     -999.0,9,     -999.0,9,     -999.0,9,     -999.0,9,     1.8570,2,     -999.0,9
320620170703,        P06,      24,          1,          3,         38,2,20170709,       1503,   -30.0799,   158.3399,       2676,  2497.0,   1.9404,  34.7092,2,  34.7085,2, 179.8929,2, 179.8023,2,    97.6,2,   32.41,2,    0.01,2,    2.25,2,   0.032,2,   0.038,2,   0.0000,2,  2268.3,2, 2361.14,6,   7.5967,2, -999.00,9, -999.00,9, -999.00,  -999.0,9, -999.00,9,     -999.0,9,  -999.0,9, 20170709,     1342, -30.0797, 158.3397,        0.0,1,      0.062,1,      4.705,1,      0.143,1,      25.00,     -999.0,9,     -999.0,9,     -999.0,9,     -999.0,9,     1.9396,2,     -999.0,9
320620170703,        P06,      24,          1,          4,          4,2,20170709,       1503,   -30.0799,   158.3399,       2676,  2293.1,   2.1789,  34.6849,2,  34.6873,2, 171.7588,2, 171.2280,2,    95.9,2,   33.01,2,    0.00,2,    2.28,2,-999.000,9,-999.000,9,-999.0000,9,  -999.0,9, -999.00,9,-999.0000,9, -999.00,9, -999.00,9, -999.00,  -999.0,9, -999.00,9,     -999.0,9,  -999.0,9, 20170709,     1346, -30.0796, 158.3397,        0.0,1,      0.061,1,      4.705,1,      0.142,1,     -999.0,     -999.0,9,     -999.0,9,     -999.0,9,     -999.0,9,     2.1703,2,     -999.0,9
320620170703,        P06,      24,          1,          5,         39,2,20170709,       1503,   -30.0799,   158.3399,       2676,  2090.4,   2.2803,  34.6696,2,  34.6690,2, 165.7355,2, 165.7694,2,    96.8,2,   33.56,2,    0.00,2,    2.33,2,   0.030,2,   0.035,2,   0.0000,2,  2275.0,2, 2362.46,2,   7.5827,2, -999.00,9, -999.00,9, -999.00,  -999.0,9, -999.00,9,     -999.0,9,  -999.0,9, 20170709,     1351, -30.0794, 158.3396,        0.0,1,      0.061,1,      4.706,1,      0.144,1,      25.00,     -999.0,9,     -999.0,9,     -999.0,9,     -999.0,9,     2.2771,2,     -999.0,9
320620170703,        P06,      24,          1,          6,          6,2,20170709,       1503,   -30.0799,   158.3399,       2676,  1957.6,   2.4137,  34.6501,2,  34.6492,2, 159.0383,2, 159.1515,2,    98.2,2,   34.11,2,    0.00,2,    2.38,2,-999.000,9,-999.000,9,-999.0000,9,  -999.0,9, -999.00,9,-999.0000,9, -999.00,9, -999.00,9, -999.00,  -999.0,9, -999.00,9,     -999.0,9,  -999.0,9, 20170709,     1354, -30.0794, 158.3396,        0.0,1,      0.062,1,      4.707,1,      0.139,1,     -999.0,     -999.0,9,     -999.0,9,     -999.0,9,     -999.0,9,     2.4140,2,     -999.0,9
320620170703,        P06,      24,          1,          7,         40,2,20170709,       1503,   -30.0799,   158.3399,       2676,  1856.0,   2.5147,  34.6374,2,  34.6362,2, 156.3443,2, 156.4889,2,    97.8,2,   34.39,2,    0.00,2,    2.38,2,   0.029,2,   0.033,2,   0.0000,2,  2282.0,2, 2364.66,2,   7.5723,2, -999.00,9, -999.00,9, -999.00,  -999.0,9, -999.00,9,     -999.0,9,  -999.0,9, 20170709,     1357, -30.0793, 158.3396,        0.0,1,      0.061,1,      4.707,1,      0.140,1,      25.01,     -999.0,9,     -999.0,9,     -999.0,9,     -999.0,9,     2.5123,2,     -999.0,9
320620170703,        P06,      24,          1,          8,          8,2,20170709,       1503,   -30.0799,   158.3399,       2676,  1753.3,   2.6990,  34.6163,2,  34.6146,2, 153.4810,2, 153.7137,2,    95.0,2,   34.58,2,    0.00,2,    2.39,2,-999.000,9,-999.000,9,-999.0000,9,  2281.7,2, 2313.12,3,   7.5696,2, -999.00,9, -999.00,9, -999.00,  -999.0,9, -999.00,9,     -999.0,9,  -999.0,9, 20170709,     1400, -30.0791, 158.3395,        0.0,1,      0.062,1,      4.707,1,      0.142,1,      25.01,     -999.0,9,     -999.0,9,     -999.0,9,     -999.0,9,     2.7037,2,     -999.0,9
320620170703,        P06,      24,          1,          9,         41,2,20170709,       1503,   -30.0799,   158.3399,       2676,  1653.3,   2.9287,  34.5936,2,  34.5912,2, 151.7211,2, 151.6728,2,    92.6,2,   34.71,2,    0.00,2,    2.41,2,   0.047,6,   0.047,6,   0.0000,6,  2279.8,6, 2363.60,2,   7.5699,2, -999.00,9, -999.00,9, -999.00,  -999.0,9, -999.00,9,     -999.0,9,  -999.0,9, 20170709,     1402, -30.0792, 158.3395,        0.0,1,      0.061,1,      4.706,1,      0.140,1,      25.01,     -999.0,9,     -999.0,9,     -999.0,9,     -999.0,9,     2.9424,2,     -999.0,9
320620170703,        P06,      24,          1,         10,         10,2,20170709,       1503,   -30.0799,   158.3399,       2676,  1550.5,   3.1931,  34.5691,2,  34.5675,2, 153.9117,2, 153.9384,2,    85.8,2,   34.28,2,    0.00,2,    2.39,2,-999.000,9,-999.000,9,-999.0000,9,  -999.0,9, -999.00,9,-999.0000,9, -999.00,9, -999.00,9, -999.00,  -999.0,9, -999.00,9,     -999.0,9,  -999.0,9, 20170709,     1405, -30.0794, 158.3396,        0.0,1,      0.061,1,      4.706,1,      0.142,1,     -999.0,     -999.0,9,     -999.0,9,     -999.0,9,     -999.0,9,     3.1917,2,     -999.0,9
320620170703,        P06,      24,          1,         11,         42,2,20170709,       1503,   -30.0799,   158.3399,       2676,  1449.9,   3.4530,  34.5463,2,  34.5453,2, 156.8810,2, 156.9324,2,    79.5,2,   33.91,2,    0.00,2,    2.35,2,   0.112,2,   0.085,2,   0.0000,2,  2262.5,2, 2348.35,2,   7.5796,2, -999.00,9, -999.00,9, -999.00,  -999.0,9, -999.00,9,     -999.0,9,  -999.0,9, 20170709,     1408, -30.0796, 158.3397,        0.0,1,      0.061,1,      4.706,1,      0.142,1,      25.00,     -999.0,9,     -999.0,9,     -999.0,9,     -999.0,9,     3.4445,2,     -999.0,9
320620170703,        P06,      24,          1,         12,         12,2,20170709,       1503,   -30.0799,   158.3399,       2676,  1348.0,   3.9201,  34.5128,2,  34.5121,2, 165.0935,2, 164.5308,2,    67.2,2,   32.87,2,    0.00,2,    2.28,2,-999.000,9,-999.000,9,-999.0000,9,  -999.0,9, -999.00,9,-999.0000,9, -999.00,9, -999.00,9, -999.00,  -999.0,9, -999.00,9,     -999.0,9,  -999.0,9, 20170709,     1411, -30.0797, 158.3398,        0.0,1,      0.060,1,      4.706,1,      0.141,1,     -999.0,     -999.0,9,     -999.0,9,     -999.0,9,     -999.0,9,     3.9235,2,     -999.0,9
320620170703,        P06,      24,          1,         13,         43,2,20170709,       1503,   -30.0799,   158.3399,       2676,  1246.7,   4.2749,  34.4905,2,  34.4860,2, 171.5212,2, 171.7110,2,    57.7,2,   31.94,2,    0.00,2,    2.17,2,   0.348,2,   0.211,2,   0.1030,2,  2232.0,2, 2325.16,2,   7.6048,2, -999.00,9, -999.00,9, -999.00,  -999.0,9, -999.00,9,     -999.0,9,  -999.0,9, 20170709,     1414, -30.0797, 158.3398,        0.0,1,      0.061,1,      4.707,1,      0.141,1,      25.01,     -999.0,9,     -999.0,9,     -999.0,9,     -999.0,9,     4.3174,2,     -999.0,9
320620170703,        P06,      24,          1,         14,         14,2,20170709,       1503,   -30.0799,   158.3399,       2676,  1145.3,   4.9221,  34.4598,2,  34.4579,2, 179.8841,2, 179.6426,2,    45.1,2,   30.58,2,    0.00,2,    2.09,2,-999.000,9,-999.000,9,-999.0000,9,  -999.0,9, -999.00,9,-999.0000,9, -999.00,9, -999.00,9, -999.00,  -999.0,9, -999.00,9,     -999.0,9,  -999.0,9, 20170709,     1417, -30.0797, 158.3398,        0.0,1,      0.060,1,      4.706,1,      0.155,1,     -999.0,     -999.0,9,     -999.0,9,     -999.0,9,     -999.0,9,     4.9011,2,     -999.0,9
320620170703,        P06,      24,          1,         15,         15,2,20170709,       1503,   -30.0799,   158.3399,       2676,  1045.1,   5.5467,  34.4466,2,  34.4436,2, 188.2784,2, 189.0287,2,    33.6,2,   28.78,2,    0.00,2,    1.95,2,   0.896,2,   0.476,2,   0.1920,2,  2195.5,2, 2302.17,2,   7.6397,2, -999.00,9, -999.00,9, -999.00,  -999.0,9, -999.00,9,     -999.0,9,  -999.0,9, 20170709,     1419, -30.0798, 158.3399,        0.0,1,      0.061,1,      4.705,1,      0.142,1,      25.01,     -999.0,9,     -999.0,9,     -999.0,9,     -999.0,9,     5.5535,2,     -999.0,9
320620170703,        P06,      24,          1,         16,         16,2,20170709,       1503,   -30.0799,   158.3399,       2676,   945.9,   6.2106,  34.4534,2,  34.4518,2, 193.2996,2, 193.6725,2,    24.5,2,   27.14,2,    0.01,2,    1.83,2,-999.000,9,-999.000,9,-999.0000,9,  2181.6,2, 2293.66,2,   7.6567,2, -999.00,9, -999.00,9, -999.00,  -999.0,9, -999.00,9,     -999.0,9,  -999.0,9, 20170709,     1422, -30.0798, 158.3399,        0.0,1,      0.060,1,      4.704,1,      0.144,1,      25.01,     -999.0,9,     -999.0,9,     -999.0,9,     -999.0,9,     6.2705,2,     -999.0,9
320620170703,        P06,      24,          1,         17,         17,2,20170709,       1503,   -30.0799,   158.3399,       2676,   841.9,   7.2209,  34.5023,2,  34.5117,2, 197.7066,2, 197.3799,2,    15.9,2,   24.50,2,    0.01,2,    1.63,2,   1.751,2,   0.920,2,   0.2780,2,  2168.8,2, 2286.33,2,   7.6813,2, -999.00,9, -999.00,9, -999.00,  -999.0,9, -999.00,9,     -999.0,9,  -999.0,9, 20170709,     1425, -30.0796, 158.3398,        0.0,1,      0.060,1,      4.702,1,      0.148,1,      25.06,     -999.0,9,     -999.0,9,     -999.0,9,     -999.0,9,     7.4055,2,     -999.0,9
320620170703,        P06,      24,          1,         18,         18,2,20170709,       1503,   -30.0799,   158.3399,       2676,   741.8,   8.1864,  34.5804,2,  34.5875,2, 199.7309,2, 199.2023,2,    11.5,2,   22.34,2,    0.01,2,    1.50,2,-999.000,9,-999.000,9,-999.0000,9,  2160.7,2, 2284.98,2,   7.7004,2, -999.00,9, -999.00,9, -999.00,  -999.0,9, -999.00,9,     -999.0,9,  -999.0,9, 20170709,     1428, -30.0796, 158.3397,        0.0,1,      0.061,1,      4.701,1,      0.146,1,      25.03,     -999.0,9,     -999.0,9,     -999.0,9,     -999.0,9,     8.2943,2,     -999.0,9
320620170703,        P06,      24,          1,         19,         19,2,20170709,       1503,   -30.0799,   158.3399,       2676,   639.6,   9.5127,  34.7194,2,  34.7506,2, 203.2404,2, 203.4958,2,     7.0,2,   18.46,2,    0.01,2,    1.22,2,   2.402,2,   1.377,2,   0.7190,2,  2148.2,2, 2287.59,6,   7.7363,2, -999.00,9, -999.00,9, -999.00,  -999.0,9, -999.00,9,     -999.0,9,  -999.0,9, 20170709,     1431, -30.0796, 158.3397,        0.0,1,      0.060,1,      4.698,1,      0.150,1,      25.06,     -999.0,9,     -999.0,9,     -999.0,9,     -999.0,9,     9.8042,2,     -999.0,9
320620170703,        P06,      24,          1,         20,         20,2,20170709,       1503,   -30.0799,   158.3399,       2676,   537.9,  11.5833,  34.9732,2,  34.9990,2, 198.1732,2, 198.1291,2,     4.9,2,   14.40,2,    0.01,2,    0.97,2,-999.000,9,-999.000,9,-999.0000,9,  2135.9,2, 2299.71,2,   7.7844,2, -999.00,9, -999.00,9, -999.00,  -999.0,9, -999.00,9,     -999.0,9,  -999.0,9, 20170709,     1434, -30.0795, 158.3397,        0.0,1,      0.060,1,      4.697,1,      0.143,1,      25.05,     -999.0,9,     -999.0,9,     -999.0,9,     -999.0,9,    11.8024,2,     -999.0,9
320620170703,        P06,      24,          1,         21,         21,2,20170709,       1503,   -30.0799,   158.3399,       2676,   469.3,  13.0833,  35.1559,2,  35.1738,2, 198.4847,2, 196.7599,2,     3.6,2,   11.72,2,    0.01,2,    0.81,2,   2.347,2,   1.359,2,   0.8380,2,  2126.0,2, 2308.37,2,   7.8232,2, -999.00,9, -999.00,9, -999.00,  -999.0,9, -999.00,9,     -999.0,9,  -999.0,9, 20170709,     1436, -30.0795, 158.3397,        0.0,1,      0.059,1,      4.696,1,      0.143,1,      25.05,     -999.0,9,     -999.0,9,     -999.0,9,     -999.0,9,    13.3366,2,     -999.0,9
320620170703,        P06,      24,          1,         22,         22,2,20170709,       1503,   -30.0799,   158.3399,       2676,   418.1,  13.8860,  35.2542,2,  35.2727,2, 197.2780,2, 198.2111,2,     3.0,2,   10.17,2,    0.01,2,    0.70,2,-999.000,9,-999.000,9,-999.0000,9,  2119.1,2, 2311.03,2,   7.8471,2, -999.00,9, -999.00,9, -999.00,  -999.0,9, -999.00,9,     -999.0,9,  -999.0,9, 20170709,     1439, -30.0795, 158.3397,        0.0,1,      0.060,1,      4.695,1,      0.144,1,      25.01,     -999.0,9,     -999.0,9,     -999.0,9,     -999.0,9,    14.1464,2,     -999.0,9
320620170703,        P06,      24,          1,         23,         23,2,20170709,       1503,   -30.0799,   158.3399,       2676,   366.9,  15.2334,  35.3572,2,  35.3780,2, 190.4133,2, 192.2263,2,     2.4,2,    8.64,2,    0.01,2,    0.61,2,   2.212,2,   1.310,2,   0.8940,2,  2109.1,2, 2317.13,2,   7.8732,2, -999.00,9, -999.00,9, -999.00,  -999.0,9, -999.00,9,     -999.0,9,  -999.0,9, 20170709,     1441, -30.0796, 158.3397,        0.0,1,      0.060,1,      4.694,1,      0.145,1,      25.02,     -999.0,9,     -999.0,9,     -999.0,9,     -999.0,9,    15.5045,2,     -999.0,9
320620170703,        P06,      24,          1,         24,         24,2,20170709,       1503,   -30.0799,   158.3399,       2676,   317.3,  16.3128,  35.4453,2,  35.4663,2, 189.9913,2, 190.1828,2,     2.0,2,    7.35,2,    0.01,2,    0.53,2,-999.000,9,-999.000,9,-999.0000,9,  2103.3,2, 2322.73,2,   7.8969,2, -999.00,9, -999.00,9, -999.00,  -999.0,9, -999.00,9,     -999.0,9,  -999.0,9, 20170709,     1443, -30.0797, 158.3398,        0.0,1,      0.060,1,      4.692,1,      0.146,1,      25.02,     -999.0,9,     -999.0,9,     -999.0,9,     -999.0,9,    16.4934,2,     -999.0,9
320620170703,        P06,      24,          1,         25,         25,2,20170709,       1503,   -30.0799,   158.3399,       2676,   266.9,  18.0248,  35.6176,2,  35.6100,2, 197.7852,2, 197.1020,2,     1.2,2,    4.68,2,    0.01,2,    0.36,2,   2.018,2,   1.236,2,   0.9570,2,  2083.8,2, 2328.71,2,   7.9425,2, -999.00,9, -999.00,9, -999.00,  -999.0,9, -999.00,9,     -999.0,9,  -999.0,9, 20170709,     1445, -30.0798, 158.3398,        0.0,1,      0.060,1,      4.689,1,      0.148,1,      25.01,     -999.0,9,     -999.0,9,     -999.0,9,     -999.0,9,    18.0239,2,     -999.0,9
320620170703,        P06,      24,          1,         26,         26,2,20170709,       1503,   -30.0799,   158.3399,       2676,   237.4,  18.4152,  35.6196,2,  35.6346,2, 189.4603,3, 195.9052,2,     1.1,2,    4.48,2,    0.01,2,    0.34,2,-999.000,9,-999.000,9,-999.0000,9,  2082.2,2, 2330.27,2,   7.9425,2, -999.00,9, -999.00,9, -999.00,  -999.0,9, -999.00,9,     -999.0,9,  -999.0,9, 20170709,     1447, -30.0799, 158.3399,        0.0,1,      0.059,1,      4.690,1,      0.147,1,      25.01,     -999.0,9,     -999.0,9,     -999.0,9,     -999.0,9,    18.4452,2,     -999.0,9
320620170703,        P06,      24,          1,         27,         27,2,20170709,       1503,   -30.0799,   158.3399,       2676,   210.0,  18.8953,  35.6704,2,  35.6692,2, 191.9086,2, 192.4586,2,     1.1,2,    4.34,2,    0.02,2,    0.32,2,   1.979,2,   1.203,2,   1.0450,2,  2082.0,2, 2331.59,2,   7.9533,2, -999.00,9, -999.00,9, -999.00,  -999.0,9, -999.00,9,     -999.0,9,  -999.0,9, 20170709,     1448, -30.0799, 158.3399,        0.0,1,      0.059,1,      4.689,1,      0.150,1,      25.01,     -999.0,9,     -999.0,9,     -999.0,9,     -999.0,9,    18.9207,2,     -999.0,9
320620170703,        P06,      24,          1,         28,         28,2,20170709,       1503,   -30.0799,   158.3399,       2676,   185.8,  19.1258,  35.6669,2,  35.6747,2, 188.2690,2, 188.3023,2,     0.9,2,    4.44,2,    0.02,2,    0.33,2,-999.000,9,-999.000,9,-999.0000,9,  2082.9,2, 2332.02,2,   7.9539,2, -999.00,9, -999.00,9, -999.00,  -999.0,9, -999.00,9,     -999.0,9,  -999.0,9, 20170709,     1450, -30.0799, 158.3399,        0.0,1,      0.061,1,      4.689,1,      0.150,1,      25.01,     -999.0,9,     -999.0,9,     -999.0,9,     -999.0,9,    19.2207,2,     -999.0,9
320620170703,        P06,      24,          1,         29,         29,2,20170709,       1503,   -30.0799,   158.3399,       2676,   161.8,  19.7859,  35.7331,2,  35.7505,2, 207.0462,3, 201.4997,2,     0.6,2,    2.45,2,    0.11,2,    0.21,2,   1.855,2,   1.164,2,   1.0100,2,  2067.0,2, 2338.03,2,   7.9872,2, -999.00,9, -999.00,9, -999.00,  -999.0,9, -999.00,9,     -999.0,9,  -999.0,9, 20170709,     1452, -30.0799, 158.3399,        0.0,1,      0.063,1,      4.685,1,      0.154,1,      25.01,     -999.0,9,     -999.0,9,     -999.0,9,     -999.0,9,    19.8882,2,     -999.0,9
320620170703,        P06,      24,          1,         30,         30,2,20170709,       1503,   -30.0799,   158.3399,       2676,   136.4,  20.1632,  35.7990,2,  35.7865,2, 212.1581,2, 211.9672,2,     0.4,2,    1.17,2,    0.25,2,    0.16,2,-999.000,9,-999.000,9,-999.0000,9,  2056.5,2, 2339.64,2,   8.0095,2, -999.00,9, -999.00,9, -999.00,  -999.0,9, -999.00,9,     -999.0,9,  -999.0,9, 20170709,     1454, -30.0799, 158.3399,        0.0,1,      0.098,1,      4.669,1,      0.174,1,      25.01,     -999.0,9,     -999.0,9,     -999.0,9,     -999.0,9,    20.1164,2,     -999.0,9
320620170703,        P06,      24,          1,         31,         31,2,20170709,       1503,   -30.0799,   158.3399,       2676,   111.1,  20.2052,  35.8030,2,  35.8017,2, 219.6744,2, 218.3107,2,     0.3,2,    0.48,2,    0.29,2,    0.11,2,   1.822,2,   1.138,2,   1.0500,2,  2049.9,2, 2342.52,2,   8.0212,2, -999.00,9, -999.00,9, -999.00,  -999.0,9, -999.00,9,     -999.0,9,  -999.0,9, 20170709,     1456, -30.0798, 158.3399,        0.0,1,      0.160,1,      4.644,1,      0.190,1,      25.01,     -999.0,9,     -999.0,9,     -999.0,9,     -999.0,9,    20.2068,2,     -999.0,9
320620170703,        P06,      24,          1,         32,         32,2,20170709,       1503,   -30.0799,   158.3399,       2676,    85.6,  20.2131,  35.8035,2,  35.8034,2, 220.1989,2, 218.9539,2,     0.3,2,    0.40,2,    0.27,2,    0.13,2,-999.000,9,-999.000,9,-999.0000,9,  2051.4,2, 2341.89,2,   8.0212,2, -999.00,9, -999.00,9, -999.00,  -999.0,9, -999.00,9,     -999.0,9,  -999.0,9, 20170709,     1457, -30.0798, 158.3398,        0.0,1,      0.147,1,      4.647,1,      0.185,1,      25.01,     -999.0,9,     -999.0,9,     -999.0,9,     -999.0,9,    20.2108,2,     -999.0,9