BOTTLE,20230922CCHSIOCBG
EXPOCODE,SECT_ID,STNNBR,CASTNO,SAMPNO,BTLNBR,BTLNBR_FLAG_W,DATE,TIME,LATITUDE,LONGITUDE,DEPTH,CTDPRS,CTDTMP,CTDSAL,CTDSAL_FLAG_W,SALNTY,SALNTY_FLAG_W,CTDOXY,CTDOXY_FLAG_W,OXYGEN,OXYGEN_FLAG_W,SILCAT,SILCAT_FLAG_W,NITRAT,NITRAT_FLAG_W,NITRIT,NITRIT_FLAG_W,PHSPHT,PHSPHT_FLAG_W,CFC-11,CFC-11_FLAG_W,CFC-12,CFC-12_FLAG_W,SF6,SF6_FLAG_W,TCARBN,TCARBN_FLAG_W,ALKALI,ALKALI_FLAG_W,PH_TOT,PH_TOT_FLAG_W,DELC13,DELC13_FLAG_W,DELC14,DELC14_FLAG_W,C14ERR,DOC,DOC_FLAG_W,TDN,TDN_FLAG_W,TON,TON_FLAG_W,D15N_NO3,D15N_NO3_FLAG_W,BTL_DATE,BTL_TIME,BTL_LAT,BTL_LON,CTDRINKO,CTDRINKO_FLAG_W,CTDFLUOR,CTDFLUOR_FLAG_W,CTDXMISS,CTDXMISS_FLAG_W,CTDBACKSCATTER,CTDBACKSCATTER_FLAG_W,PH_TMP,D18O_NO3,D18O_NO3_FLAG_W,DOP,DOP_FLAG_W,HPLC,HPLC_FLAG_W,POC,POC_FLAG_W,REFTMP,REFTMP_FLAG_W,TDP,TDP_FLAG_W
,,,,,,,,,,,METERS,DBAR,ITS-90,PSS-78,,PSS-78,,UMOL/KG,,UMOL/KG,,UMOL/KG,,UMOL/KG,,UMOL/KG,,UMOL/KG,,PMOL/KG,,PMOL/KG,,FMOL/KG,,UMOL/KG,,UMOL/KG,,,,/MILLE,,/MILLE,,/MILLE,UMOL/KG,,UMOL/KG,,UMOL/KG,,/MILLE,,,,,,VOLTS,,VOLTS,,VOLTS,,VOLTS,,DEGC,/MILLE,,UMOL/KG,,,,UG/L,,ITS-90,,UMOL/KG,
320620170703,        P06,      33,          1,          1,         37,2,20170711,       0736,   -30.0801,   162.0001,       1190,  1171.7,   4.8347,  34.4727,2,  34.4724,2, 177.3684,2, 177.2344,2,    47.9,2,   30.69,2,    0.00,2,    2.16,2,   0.623,2,   0.322,2,   0.0960,2,  2218.7,6, 2318.29,2,   7.6166,2, -999.00,9, -999.00,9, -999.00,    41.7,2, -999.00,9,     -999.0,1,  -999.0,1, 20170711,      646, -30.0802, 162.0001,        0.0,1,      0.061,1,      4.691,1,      0.180,1,      25.03,     -999.0,1,     -999.0,9,     -999.0,9,     -999.0,9,     4.8368,2,     -999.0,9
320620170703,        P06,      33,          1,          2,          2,2,20170711,       0736,   -30.0801,   162.0001,       1190,  1148.2,   4.8552,  34.4711,2,  34.4688,2, 177.3787,2, 177.5739,2,    47.4,2,   30.64,2,    0.00,2,    2.14,2,   0.637,2,   0.327,2,   0.0990,2,  2220.7,2, 2321.47,2,   7.6180,2, -999.00,9, -999.00,9, -999.00,    39.2,2, -999.00,9,     -999.0,1,  -999.0,1, 20170711,      648, -30.0801, 162.0001,        0.0,1,      0.060,1,      4.692,1,      0.180,1,      25.03,     -999.0,1,     -999.0,9,     -999.0,9,     -999.0,9,     4.8549,2,     -999.0,9
320620170703,        P06,      33,          1,          3,         38,2,20170711,       0736,   -30.0801,   162.0001,       1190,  1043.3,   5.5152,  34.4523,2,  34.4508,3, 187.8202,2, 187.7066,2,    35.5,2,   28.99,2,    0.00,2,    2.02,2,   0.900,2,   0.461,2,   0.1850,2,  2200.3,2, 2303.99,2,   7.6371,2, -999.00,9, -999.00,9, -999.00,    39.5,2, -999.00,9,     -999.0,1,  -999.0,1, 20170711,      651, -30.0800, 162.0000,        0.0,1,      0.061,1,      4.705,1,      0.141,1,      25.03,     -999.0,1,     -999.0,9,     -999.0,9,     -999.0,9,     5.4746,2,     -999.0,9
320620170703,        P06,      33,          1,          4,          4,2,20170711,       0736,   -30.0801,   162.0001,       1190,   943.1,   6.2292,  34.4616,2,  34.4585,2, 193.8263,2, 193.7956,2,    25.8,2,   27.17,2,    0.00,2,    1.88,2,   1.264,2,   0.654,2,   0.2820,2,  2183.1,2, 2292.98,2,   7.6572,2, -999.00,9, -999.00,9, -999.00,    40.6,2, -999.00,9,     -999.0,1,  -999.0,1, 20170711,      654, -30.0801, 162.0001,        0.0,1,      0.060,1,      4.705,1,      0.140,1,      25.04,     -999.0,1,     -999.0,9,     -999.0,9,     -999.0,9,     6.2229,2,     -999.0,9
320620170703,        P06,      33,          1,          5,         39,2,20170711,       0736,   -30.0801,   162.0001,       1190,   843.1,   6.9598,  34.4865,2,  34.4840,2, 198.4419,2, 198.5283,2,    18.6,2,   25.30,2,    0.00,2,    1.75,2,   1.657,2,   0.839,2,   0.2550,2,  2172.1,2, 2361.98,4,   7.6748,2, -999.00,9, -999.00,9, -999.00,    43.0,2, -999.00,9,     -999.0,1,  -999.0,1, 20170711,      657, -30.0801, 162.0001,        0.0,1,      0.061,1,      4.703,1,      0.142,1,      25.03,     -999.0,1,     -999.0,9,     -999.0,9,     -999.0,9,     6.9108,2,     -999.0,9
320620170703,        P06,      33,          1,          6,          6,2,20170711,       0736,   -30.0801,   162.0001,       1190,   742.2,   8.0962,  34.5659,2,  34.5643,3, 201.4703,2, 201.4840,2,    12.0,2,   22.57,2,    0.00,2,    1.54,2,   2.078,2,   1.117,2,   0.3610,2,  2159.6,2, 2296.82,2,   7.6997,2, -999.00,9, -999.00,9, -999.00,    43.3,2, -999.00,9,     -999.0,1,  -999.0,1, 20170711,      700, -30.0802, 162.0002,        0.0,1,      0.060,1,      4.703,1,      0.142,1,      25.03,     -999.0,1,     -999.0,9,     -999.0,9,     -999.0,9,     8.0799,2,     -999.0,9
320620170703,        P06,      33,          1,          7,         40,2,20170711,       0736,   -30.0801,   162.0001,       1190,   639.7,   9.1876,  34.6720,2,  34.6747,2, 201.3685,2, 201.4444,2,     8.4,2,   19.93,2,    0.00,2,    1.36,2,   2.375,2,   1.287,2,   0.4850,2,  2151.7,2, 2287.16,2,   7.7250,2, -999.00,9, -999.00,9, -999.00,    50.9,3, -999.00,9,     -999.0,1,  -999.0,1, 20170711,      703, -30.0802, 162.0002,        0.0,1,      0.059,1,      4.701,1,      0.144,1,      25.04,     -999.0,1,     -999.0,9,     -999.0,9,     -999.0,9,     9.2324,2,     -999.0,9
320620170703,        P06,      33,          1,          8,          8,2,20170711,       0736,   -30.0801,   162.0001,       1190,   539.8,  10.9529,  34.8753,2,  34.8507,3, 197.5482,2, 197.5949,2,     6.1,2,   16.73,2,    0.00,2,    1.15,2,   2.452,2,   1.352,2,   0.6190,2,  2141.4,2, 2295.86,2,   7.7585,2, -999.00,9, -999.00,9, -999.00,  -999.0,9, -999.00,9,     -999.0,1,  -999.0,1, 20170711,      705, -30.0802, 162.0002,        0.0,1,      0.059,1,      4.699,1,      0.144,1,      25.03,     -999.0,1,     -999.0,9,     -999.0,9,     -999.0,9,    10.8606,2,     -999.0,9
320620170703,        P06,      33,          1,          9,         41,2,20170711,       0736,   -30.0801,   162.0001,       1190,   469.8,  12.1370,  35.0169,2,  35.0098,2, 195.3314,2, 195.1339,2,     4.6,2,   14.12,2,    0.00,2,    0.99,2,   2.356,2,   1.384,2,   0.7000,2,  2132.8,6, 2302.19,4,   7.7908,2, -999.00,9, -999.00,9, -999.00,    45.3,2, -999.00,9,     -999.0,1,  -999.0,1, 20170711,      708, -30.0802, 162.0003,        0.0,1,      0.061,1,      4.697,1,      0.145,1,      25.04,     -999.0,1,     -999.0,9,     -999.0,9,     -999.0,9,    12.1184,2,     -999.0,9
320620170703,        P06,      33,          1,         10,         10,2,20170711,       0736,   -30.0801,   162.0001,       1190,   419.2,  13.4755,  35.1663,2,  35.1553,2, 193.7399,2, 193.5864,2,     2.7,2,    9.95,2,    0.00,2,    0.70,2,   2.348,2,   1.370,2,   0.7140,2,  2123.6,2, 2304.98,2,   7.8224,2, -999.00,9, -999.00,9, -999.00,    51.6,2, -999.00,9,     -999.0,1,  -999.0,1, 20170711,      710, -30.0803, 162.0003,        0.0,1,      0.059,1,      4.696,1,      0.145,1,      25.03,     -999.0,1,     -999.0,9,     -999.0,9,     -999.0,9,    13.4345,2,     -999.0,9
320620170703,        P06,      33,          1,         11,         42,2,20170711,       0736,   -30.0801,   162.0001,       1190,   369.1,  14.4310,  35.2805,2,  35.2810,2, 193.9923,2, 193.5349,2,     3.4,4,   11.74,4,    0.00,4,    0.83,4,   2.201,2,   1.349,2,   0.8350,2,  2115.2,2, 2309.94,2,   7.8499,2, -999.00,9, -999.00,9, -999.00,    49.9,2, -999.00,9,     -999.0,1,  -999.0,1, 20170711,      712, -30.0802, 162.0003,        0.0,1,      0.061,1,      4.694,1,      0.146,1,      25.04,     -999.0,1,     -999.0,1,     -999.0,9,     -999.0,9,    14.4590,2,     -999.0,9
320620170703,        P06,      33,          1,         12,         12,2,20170711,       0736,   -30.0801,   162.0001,       1190,   318.6,  15.9920,  35.4382,2,  35.4261,2, 192.8365,2, 194.1032,2,     2.0,2,    7.89,2,    0.00,2,    0.57,2,   2.075,2,   1.323,2,   0.8430,2,  2107.7,2, 2319.62,2,   7.8857,3, -999.00,9, -999.00,9, -999.00,    48.4,2, -999.00,9,     -999.0,1,  -999.0,1, 20170711,      714, -30.0802, 162.0002,        0.0,1,      0.060,1,      4.690,1,      0.149,1,      25.03,     -999.0,1,     -999.0,1,     -999.0,9,     -999.0,9,    15.8902,2,       0.65,2
320620170703,        P06,      33,          1,         13,         43,2,20170711,       0736,   -30.0801,   162.0001,       1190,   267.5,  17.3822,  35.5437,2,  35.5294,2, 190.1272,2, 189.8591,2,     1.4,2,    6.50,2,    0.00,2,    0.48,2,   1.999,2,   1.277,2,   0.8580,2,  2098.2,2, 2361.96,4,   7.9116,2, -999.00,9, -999.00,9, -999.00,    50.6,2, -999.00,9,     -999.0,1,  -999.0,1, 20170711,      716, -30.0802, 162.0002,        0.0,1,      0.060,1,      4.689,1,      0.153,1,      25.02,     -999.0,1,     -999.0,1,     -999.0,9,     -999.0,9,    17.2670,2,       0.55,2
320620170703,        P06,      33,          1,         14,         14,2,20170711,       0736,   -30.0801,   162.0001,       1190,   238.0,  18.0886,  35.6069,2,  35.6038,2, 192.5639,2, 192.6716,2,     1.0,2,    5.18,2,    0.02,2,    0.40,2,   1.911,2,   1.244,2,   0.8160,2,  2087.7,2, 2327.20,2,   7.9366,2, -999.00,9, -999.00,9, -999.00,    49.1,2,    7.60,2,     -999.0,1,  -999.0,1, 20170711,      718, -30.0802, 162.0002,        0.0,1,      0.060,1,      4.686,1,      0.153,1,      25.03,     -999.0,1,     -999.0,1,     -999.0,9,     -999.0,9,    18.0899,2,       0.49,2
320620170703,        P06,      33,          1,         15,         15,2,20170711,       0736,   -30.0801,   162.0001,       1190,   212.4,  18.6886,  35.6617,2,  35.6822,2, 199.2443,2, 197.9688,2,     0.6,2,    3.56,2,    0.04,2,    0.30,2,   1.824,2,   1.136,2,   3.4200,4,  2078.2,2, 2337.75,3,   7.9610,2, -999.00,9, -999.00,9, -999.00,    53.1,2,    7.00,2,     -999.0,1,  -999.0,1, 20170711,      720, -30.0802, 162.0002,        0.0,1,      0.062,1,      4.687,1,      0.150,1,      25.03,     -999.0,1,     -999.0,1,     -999.0,9,     -999.0,9,    18.9416,2,       0.46,2
320620170703,        P06,      33,          1,         16,         16,2,20170711,       0736,   -30.0801,   162.0001,       1190,   187.5,  19.2156,  35.7239,2,  35.7679,2, 216.4543,2, 216.0274,2,     0.3,2,    1.29,2,    0.32,2,    0.17,2,   1.816,2,   1.191,2,   0.8600,2,  2062.1,2, 2346.44,2,   7.9991,2, -999.00,9, -999.00,9, -999.00,    55.1,2,    5.20,2,     -999.0,1,  -999.0,1, 20170711,      722, -30.0802, 162.0002,        0.0,1,      0.069,1,      4.682,1,      0.163,1,      25.03,     -999.0,1,     -999.0,1,     -999.0,9,     -999.0,9,    19.4300,2,       0.29,2
320620170703,        P06,      33,          1,         17,         17,2,20170711,       0736,   -30.0801,   162.0001,       1190,   165.5,  19.4180,  35.7561,2,  35.7912,2, 218.7602,2, 218.3958,2,     0.4,2,    0.88,2,    0.38,2,    0.16,2,   1.693,2,   1.178,2,   0.8140,2,  2058.6,2, 2346.32,2,   8.0059,2, -999.00,9, -999.00,9, -999.00,    54.7,2,    5.00,2,     -999.0,1,  -999.0,1, 20170711,      724, -30.0801, 162.0002,        0.0,1,      0.075,1,      4.679,1,      0.162,1,      25.03,     -999.0,1,     -999.0,1,     -999.0,9,     -999.0,9,    19.6434,2,       0.36,2
320620170703,        P06,      33,          1,         18,         18,2,20170711,       0736,   -30.0801,   162.0001,       1190,   137.4,  19.6875,  35.7896,2,  35.8111,2, 219.9690,2, 220.1407,2,     0.1,2,    0.57,2,    0.32,2,    0.12,2,   1.968,2,   1.213,2,   1.1600,2,  2057.1,2, 2348.11,2,   8.0132,2, -999.00,9, -999.00,9, -999.00,    58.0,2,    4.60,2,     -999.0,1,  -999.0,1, 20170711,      726, -30.0801, 162.0002,        0.0,1,      0.091,1,      4.670,1,      0.170,1,      25.03,     -999.0,1,     -999.0,1,     -999.0,9,     -999.0,9,    19.8013,2,       0.27,2
320620170703,        P06,      33,          1,         19,         19,2,20170711,       0736,   -30.0801,   162.0001,       1190,   111.9,  19.8393,  35.8097,2,  35.8086,2, 220.0558,2, 221.5838,2,     0.1,2,    0.50,2,    0.25,2,    0.12,2,   1.890,2,   1.212,2,   1.4740,4,  2054.6,2, 2350.52,2,   8.0147,2, -999.00,9, -999.00,9, -999.00,    60.4,2,    4.80,2,     -999.0,1,  -999.0,1, 20170711,      728, -30.0801, 162.0001,        0.0,1,      0.124,1,      4.658,1,      0.180,1,      25.02,     -999.0,1,     -999.0,1,     -999.0,9,     -999.0,9,    19.8391,2,       0.25,2
320620170703,        P06,      33,          1,         20,         20,2,20170711,       0736,   -30.0801,   162.0001,       1190,    86.3,  19.9294,  35.8144,2,  35.8157,2, 218.5964,2, 219.1045,2,     0.1,2,    0.56,2,    0.31,2,    0.13,2,   1.889,2,   1.216,2,   1.3830,4,  2054.8,2, 2342.18,3,   8.0141,2, -999.00,9, -999.00,9, -999.00,    58.8,2,    5.40,2,     -999.0,1,  -999.0,1, 20170711,      730, -30.0801, 162.0001,        0.0,1,      0.119,1,      4.659,1,      0.180,1,      25.04,     -999.0,1,     -999.0,1,     -999.0,9,     -999.0,9,    19.9329,2,     -999.0,9
320620170703,        P06,      33,          1,         21,         21,2,20170711,       0736,   -30.0801,   162.0001,       1190,    62.0,  19.9759,  35.8204,2,  35.8354,2, 218.8595,2, 218.6095,2,     0.1,2,    0.43,2,    0.10,2,    0.10,2,   1.859,2,   1.204,2,   0.4950,4,  2053.7,2, 2341.42,2,   8.0208,2, -999.00,9, -999.00,9, -999.00,    61.3,2,    4.70,2,     -999.0,1,  -999.0,1, 20170711,      732, -30.0801, 162.0000,        0.0,1,      0.131,1,      4.652,1,      0.182,1,      25.00,     -999.0,1,     -999.0,1,     -999.0,9,     -999.0,9,    20.2308,2,        0.2,2
320620170703,        P06,      33,          1,         22,         22,2,20170711,       0736,   -30.0801,   162.0001,       1190,    36.2,  20.3479,  35.8512,2,  35.8503,2, 221.0870,2, 220.1018,2,     0.1,2,    0.21,2,    0.06,2,    0.08,2,   1.885,2,   1.227,2,   1.3850,4,  2049.4,2, 2341.39,2,   8.0263,2, -999.00,9, -999.00,9, -999.00,    65.1,2,    4.20,2,     -999.0,1,  -999.0,1, 20170711,      734, -30.0801, 162.0000,        0.0,1,      0.212,1,      4.603,1,      0.205,1,      25.02,     -999.0,1,     -999.0,1,     -999.0,9,     -999.0,9,    20.3362,2,        0.2,2
320620170703,        P06,      33,          1,         23,         23,2,20170711,       0736,   -30.0801,   162.0001,       1190,     5.8,  20.3384,  35.8514,2,  35.8510,2, 220.3070,2, 220.4851,2,     0.1,2,    0.21,2,    0.06,2,    0.09,2,   1.868,2,   1.231,2,   0.5340,4,  2051.8,6, 2341.88,2,   8.0255,2, -999.00,9, -999.00,9, -999.00,    64.9,2,    4.30,2,     -999.0,1,  -999.0,1, 20170711,      736, -30.0801, 162.0001,        0.0,1,      0.216,1,      4.590,1,      0.198,1,      24.96,     -999.0,1,     -999.0,1,     -999.0,9,     -999.0,9,    20.3243,2,       0.16,2