BOTTLE,20230922CCHSIOCBG
EXPOCODE,SECT_ID,STNNBR,CASTNO,SAMPNO,BTLNBR,BTLNBR_FLAG_W,DATE,TIME,LATITUDE,LONGITUDE,DEPTH,CTDPRS,CTDTMP,CTDSAL,CTDSAL_FLAG_W,SALNTY,SALNTY_FLAG_W,CTDOXY,CTDOXY_FLAG_W,OXYGEN,OXYGEN_FLAG_W,SILCAT,SILCAT_FLAG_W,NITRAT,NITRAT_FLAG_W,NITRIT,NITRIT_FLAG_W,PHSPHT,PHSPHT_FLAG_W,CFC-11,CFC-11_FLAG_W,CFC-12,CFC-12_FLAG_W,SF6,SF6_FLAG_W,TCARBN,TCARBN_FLAG_W,ALKALI,ALKALI_FLAG_W,PH_TOT,PH_TOT_FLAG_W,DELC13,DELC13_FLAG_W,DELC14,DELC14_FLAG_W,C14ERR,DOC,DOC_FLAG_W,TDN,TDN_FLAG_W,TON,TON_FLAG_W,D15N_NO3,D15N_NO3_FLAG_W,BTL_DATE,BTL_TIME,BTL_LAT,BTL_LON,CTDRINKO,CTDRINKO_FLAG_W,CTDFLUOR,CTDFLUOR_FLAG_W,CTDXMISS,CTDXMISS_FLAG_W,CTDBACKSCATTER,CTDBACKSCATTER_FLAG_W,PH_TMP,D18O_NO3,D18O_NO3_FLAG_W,DOP,DOP_FLAG_W,HPLC,HPLC_FLAG_W,POC,POC_FLAG_W,REFTMP,REFTMP_FLAG_W,TDP,TDP_FLAG_W
,,,,,,,,,,,METERS,DBAR,ITS-90,PSS-78,,PSS-78,,UMOL/KG,,UMOL/KG,,UMOL/KG,,UMOL/KG,,UMOL/KG,,UMOL/KG,,PMOL/KG,,PMOL/KG,,FMOL/KG,,UMOL/KG,,UMOL/KG,,,,/MILLE,,/MILLE,,/MILLE,UMOL/KG,,UMOL/KG,,UMOL/KG,,/MILLE,,,,,,VOLTS,,VOLTS,,VOLTS,,VOLTS,,DEGC,/MILLE,,UMOL/KG,,,,UG/L,,ITS-90,,UMOL/KG,
320620170703,        P06,     139,          1,         33,         33,2,20170812,       0758,   -32.4999,  -151.5885,       5233,    83.3,  17.3392,  35.4876,2,  35.4965,2, 237.1086,2, 235.6895,2,     0.1,2,    0.06,2,    0.02,2,    0.08,2,   2.283,2,   1.309,2,   1.3850,2,  2063.1,2, 2332.03,2,   7.9765,2, -999.00,9, -999.00,9, -999.00,  -999.0,9, -999.00,9,     -999.0,9,  -999.0,9, 20170812,      753, -32.4999,-151.5885,        0.0,1,      0.158,1,      4.639,1,      0.170,1,      25.02,     -999.0,9,     -999.0,9,     -999.0,9,     -999.0,9,    17.3868,2,     -999.0,9
320620170703,        P06,     139,          1,         34,         34,2,20170812,       0758,   -32.4999,  -151.5885,       5233,    61.3,  17.3336,  35.4873,2,  35.5001,2, 237.2343,2, 234.9458,2,     0.1,2,    0.05,2,    0.02,2,    0.08,2,   2.276,2,   1.306,2,   1.4330,2,  -999.0,9, -999.00,9,-999.0000,9, -999.00,9, -999.00,9, -999.00,  -999.0,9, -999.00,9,     -999.0,9,  -999.0,9, 20170812,      755, -32.4999,-151.5885,        0.0,1,      0.156,1,      4.640,1,      0.173,1,     -999.0,     -999.0,9,     -999.0,9,     -999.0,9,     -999.0,9,    17.3941,2,     -999.0,9
320620170703,        P06,     139,          1,         35,         35,2,20170812,       0758,   -32.4999,  -151.5885,       5233,    35.2,  17.3320,  35.4881,2,  35.5099,2, 237.2054,3, 234.5651,2,     0.1,2,    0.07,2,    0.00,2,    0.09,2,   2.275,2,   1.312,2,   1.3410,2,  2063.0,2, 2335.90,2,   7.9776,2, -999.00,9, -999.00,9, -999.00,  -999.0,9, -999.00,9,     -999.0,9,  -999.0,9, 20170812,      756, -32.4999,-151.5885,        0.0,1,      0.155,1,      4.639,1,      0.175,1,      25.02,     -999.0,9,     -999.0,9,     -999.0,9,     -999.0,9,    17.4437,2,     -999.0,9
320620170703,        P06,     139,          1,         36,         36,2,20170812,       0758,   -32.4999,  -151.5885,       5233,     5.0,  17.3271,  35.4888,2,  35.5135,2, 237.4249,3, 234.4294,2,     0.1,2,    0.05,2,    0.02,2,    0.09,2,   2.273,2,   1.297,2,   1.3820,2,  2063.6,6, 2334.01,2,   7.9781,2, -999.00,9, -999.00,9, -999.00,  -999.0,9, -999.00,9,     -999.0,9,  -999.0,9, 20170812,      758, -32.4999,-151.5885,        0.0,1,      0.157,1,      4.639,1,      0.171,1,      25.02,     -999.0,9,     -999.0,9,     -999.0,9,     -999.0,9,    17.4456,2,     -999.0,9