BOTTLE,20230908CCHSIOCBG
EXPOCODE,SECT_ID,STNNBR,CASTNO,SAMPNO,BTLNBR,BTLNBR_FLAG_W,DATE,TIME,LATITUDE,LONGITUDE,DEPTH,CTDPRS,CTDTMP,CTDSAL,CTDSAL_FLAG_W,SALNTY,SALNTY_FLAG_W,CTDOXY,CTDOXY_FLAG_W,OXYGEN,OXYGEN_FLAG_W,SILCAT,SILCAT_FLAG_W,NITRAT,NITRAT_FLAG_W,NITRIT,NITRIT_FLAG_W,PHSPHT,PHSPHT_FLAG_W,CFC-11,CFC-11_FLAG_W,CFC-12,CFC-12_FLAG_W,CFC113,CFC113_FLAG_W,TCARBN,TCARBN_FLAG_W,ALKALI,ALKALI_FLAG_W,FCO2,FCO2_FLAG_W,FCO2TMP,PH_SWS,PH_SWS_FLAG_W,PH_TMP,TRITUM,TRITUM_FLAG_W,HELIUM,HELIUM_FLAG_W,DELHE3,DELHE3_FLAG_W,DELC13,DELC13_FLAG_W,DELC14,DELC14_FLAG_W,C14ERR,NEON,NEON_FLAG_W,NEONER,POC,POC_FLAG_W,DOC,DOC_FLAG_W,TDN,TDN_FLAG_W,CTDRAW,CDOM325,CDOM325_FLAG_W,CDOM340,CDOM340_FLAG_W,CDOM380,CDOM380_FLAG_W,CDOM412,CDOM412_FLAG_W,CDOMSL,CDOMSL_FLAG_W,CDOMSN,CDOMSN_FLAG_W,THETA,PON,PON_FLAG_W,HCFC-22,HCFC-22_FLAG_W,HCFC-142b,HCFC-142b_FLAG_W,HCFC-141b,HCFC-141b_FLAG_W,STNNBR_U,HELIER,DELHER,TRITER,CH3CL,CH3CL_FLAG_W,CH3BR,CH3BR_FLAG_W,CH3I,CH3I_FLAG_W
,,,,,,,,,,,METERS,DBAR,ITS-90,PSS-78,,PSS-78,,UMOL/KG,,UMOL/KG,,UMOL/KG,,UMOL/KG,,UMOL/KG,,UMOL/KG,,PMOL/KG,,PMOL/KG,,PMOL/KG,,UMOL/KG,,UMOL/KG,,UATM,,DEG C,,,DEG C,TU,,NMOL/KG,,PERCNT,,/MILLE,,/MILLE,,/MILLE,NMOL/KG,,NMOL/KG,UG/KG,,UMOL/KG,,UMOL/KG,,DBAR,1/M,,1/M,,1/M,,1/M,,1/NM,,1/NM,,DEG C,UMOL/L,,PMOL/KG,,PMOL/KG,,PMOL/KG,,,NMOL/KG,PERCNT,TU,PMOL/KG,,PMOL/KG,,PMOL/KG,
33RO200306_02,       A16N,     128,          1,         35,         35,2,20030803,       1225,     2.3333,   -25.0000,       3769,     3.1,  27.0652,  35.5444,2,  35.5477,2,    194.4,2,   204.6,2,    0.93,2,    0.16,2,    0.00,2,    0.06,2,-999.000,9,-999.000,9,-999.000,9,  1988.8,2,  2329.6,2,   -999.0,9,  -999.00,   8.1111,2,    25.00,-999.000,9,-999.000,9,-999.000,9, -999.00,9,  -999.0,9,  -999.0,-999.000,9,-999.000,-999.000,9, -999.00,9, -999.00,9,    3.10,-999.0000,9,-999.0000,9,-999.0000,9,-999.0000,9,-999.0000,9,-999.0000,9,  27.0645,     -999.0,9,     -999.0,9,     -999.0,9,     -999.0,9,        128,-999.000,-999.000,-999.000,     -999.0,9, -999.00,9, -999.00,9
33RO200306_02,       A16N,     128,          1,         33,         33,2,20030803,       1225,     2.3333,   -25.0000,       3769,    19.8,  27.0057,  35.5369,2,  35.5341,2,    192.1,2,   205.5,2,    0.91,2,    0.16,2,    0.00,2,    0.06,2,-999.000,9,-999.000,9,-999.000,9,  -999.0,9,  -999.0,9,   -999.0,9,  -999.00,-999.0000,9,  -999.00,-999.000,9,-999.000,9,-999.000,9, -999.00,9,  -999.0,9,  -999.0,-999.000,9,-999.000,-999.000,9, -999.00,9, -999.00,9,   19.80,-999.0000,9,-999.0000,9,-999.0000,9,-999.0000,9,-999.0000,9,-999.0000,9,  27.0012,     -999.0,9,     -999.0,9,     -999.0,9,     -999.0,9,        128,-999.000,-999.000,-999.000,     -999.0,9, -999.00,9, -999.00,9
33RO200306_02,       A16N,     128,          1,         32,         32,2,20030803,       1225,     2.3333,   -25.0000,       3769,    40.3,  26.9737,  35.5303,2,  35.5490,2,    193.0,2,   203.8,2,    0.98,2,    0.17,2,    0.00,2,    0.07,2,-999.000,9,-999.000,9,-999.000,9,  -999.0,9,  -999.0,9,   -999.0,9,  -999.00,-999.0000,9,  -999.00,-999.000,9,-999.000,9,-999.000,9, -999.00,9,  -999.0,9,  -999.0,-999.000,9,-999.000,-999.000,9, -999.00,9, -999.00,9,   40.30,-999.0000,9,-999.0000,9,-999.0000,9,-999.0000,9,-999.0000,9,-999.0000,9,  26.9644,     -999.0,9,     -999.0,9,     -999.0,9,     -999.0,9,        128,-999.000,-999.000,-999.000,     -999.0,9, -999.00,9, -999.00,9
33RO200306_02,       A16N,     128,          1,         31,         31,2,20030803,       1225,     2.3333,   -25.0000,       3769,    59.9,  25.6834,  35.9530,2,  35.9455,2,    192.1,2,   198.3,2,    1.59,2,    0.53,2,    0.04,2,    0.15,2,-999.000,9,-999.000,9,-999.000,9,  -999.0,9,  -999.0,9,   -999.0,9,  -999.00,-999.0000,9,  -999.00,-999.000,9,-999.000,9,-999.000,9, -999.00,9,  -999.0,9,  -999.0,-999.000,9,-999.000,-999.000,9, -999.00,9, -999.00,9,   59.90,-999.0000,9,-999.0000,9,-999.0000,9,-999.0000,9,-999.0000,9,-999.0000,9,  25.6701,     -999.0,9,     -999.0,9,     -999.0,9,     -999.0,9,        128,-999.000,-999.000,-999.000,     -999.0,9, -999.00,9, -999.00,9
33RO200306_02,       A16N,     128,          1,         30,         30,2,20030803,       1225,     2.3333,   -25.0000,       3769,    80.2,  21.4753,  35.8280,2,  35.7841,2,    167.2,2,   140.4,2,    3.87,2,    9.43,2,    0.19,2,    0.75,2,-999.000,9,-999.000,9,-999.000,9,  -999.0,9,  -999.0,9,   -999.0,9,  -999.00,-999.0000,9,  -999.00,-999.000,9,-999.000,9,-999.000,9, -999.00,9,  -999.0,9,  -999.0,-999.000,9,-999.000,-999.000,9, -999.00,9, -999.00,9,   80.20,-999.0000,9,-999.0000,9,-999.0000,9,-999.0000,9,-999.0000,9,-999.0000,9,  21.4597,     -999.0,9,     -999.0,9,     -999.0,9,     -999.0,9,        128,-999.000,-999.000,-999.000,     -999.0,9, -999.00,9, -999.00,9
33RO200306_02,       A16N,     128,          1,         29,         29,2,20030803,       1225,     2.3333,   -25.0000,       3769,    99.5,  15.9443,  35.6121,2,  35.6171,2,     95.0,2,    97.4,2,    6.25,2,   20.76,2,    0.04,2,    1.39,2,-999.000,9,-999.000,9,-999.000,9,  -999.0,9,  -999.0,9,   -999.0,9,  -999.00,-999.0000,9,  -999.00,-999.000,9,-999.000,9,-999.000,9, -999.00,9,  -999.0,9,  -999.0,-999.000,9,-999.000,-999.000,9, -999.00,9, -999.00,9,   99.50,-999.0000,9,-999.0000,9,-999.0000,9,-999.0000,9,-999.0000,9,-999.0000,9,  15.9286,     -999.0,9,     -999.0,9,     -999.0,9,     -999.0,9,        128,-999.000,-999.000,-999.000,     -999.0,9, -999.00,9, -999.00,9
33RO200306_02,       A16N,     128,          1,         28,         28,2,20030803,       1225,     2.3333,   -25.0000,       3769,   124.8,  15.1807,  35.5472,2,  35.5466,2,     91.5,2,    91.2,2,    7.10,2,   21.32,2,    0.01,2,    1.43,2,-999.000,9,-999.000,9,-999.000,9,  -999.0,9,  -999.0,9,   -999.0,9,  -999.00,-999.0000,9,  -999.00,-999.000,9,-999.000,9,-999.000,9, -999.00,9,  -999.0,9,  -999.0,-999.000,9,-999.000,-999.000,9, -999.00,9, -999.00,9,  124.80,-999.0000,9,-999.0000,9,-999.0000,9,-999.0000,9,-999.0000,9,-999.0000,9,  15.1616,     -999.0,9,     -999.0,9,     -999.0,9,     -999.0,9,        128,-999.000,-999.000,-999.000,     -999.0,9, -999.00,9, -999.00,9
33RO200306_02,       A16N,     128,          1,         27,         27,2,20030803,       1225,     2.3333,   -25.0000,       3769,   149.5,  14.8315,  35.5074,2,  35.5055,2,     95.6,2,    97.2,2,    7.33,2,   21.32,2,    0.01,2,    1.43,2,-999.000,9,-999.000,9,-999.000,9,  -999.0,9,  -999.0,9,   -999.0,9,  -999.00,-999.0000,9,  -999.00,-999.000,9,-999.000,9,-999.000,9, -999.00,9,  -999.0,9,  -999.0,-999.000,9,-999.000,-999.000,9, -999.00,9, -999.00,9,  149.50,-999.0000,9,-999.0000,9,-999.0000,9,-999.0000,9,-999.0000,9,-999.0000,9,  14.8090,     -999.0,9,     -999.0,9,     -999.0,9,     -999.0,9,        128,-999.000,-999.000,-999.000,     -999.0,9, -999.00,9, -999.00,9
33RO200306_02,       A16N,     128,          1,         26,         26,2,20030803,       1225,     2.3333,   -25.0000,       3769,   173.8,  14.5266,  35.4653,2,  35.4688,2,     94.9,2,    89.0,2,    7.99,2,   22.70,2,    0.01,2,    1.51,2,-999.000,9,-999.000,9,-999.000,9,  -999.0,9,  -999.0,9,   -999.0,9,  -999.00,-999.0000,9,  -999.00,-999.000,9,-999.000,9,-999.000,9, -999.00,9,  -999.0,9,  -999.0,-999.000,9,-999.000,-999.000,9, -999.00,9, -999.00,9,  173.80,-999.0000,9,-999.0000,9,-999.0000,9,-999.0000,9,-999.0000,9,-999.0000,9,  14.5008,     -999.0,9,     -999.0,9,     -999.0,9,     -999.0,9,        128,-999.000,-999.000,-999.000,     -999.0,9, -999.00,9, -999.00,9
33RO200306_02,       A16N,     128,          1,         25,         25,2,20030803,       1225,     2.3333,   -25.0000,       3769,   200.0,  14.0831,  35.4072,2,  35.4041,2,     88.4,2,    89.2,2,    8.28,2,   23.35,2,    0.01,2,    1.54,2,-999.000,9,-999.000,9,-999.000,9,  -999.0,9,  -999.0,9,   -999.0,9,  -999.00,-999.0000,9,  -999.00,-999.000,9,-999.000,9,-999.000,9, -999.00,9,  -999.0,9,  -999.0,-999.000,9,-999.000,-999.000,9, -999.00,9, -999.00,9,  200.00,-999.0000,9,-999.0000,9,-999.0000,9,-999.0000,9,-999.0000,9,-999.0000,9,  14.0540,     -999.0,9,     -999.0,9,     -999.0,9,     -999.0,9,        128,-999.000,-999.000,-999.000,     -999.0,9, -999.00,9, -999.00,9
33RO200306_02,       A16N,     128,          1,         24,         24,2,20030803,       1225,     2.3333,   -25.0000,       3769,   249.2,  13.0525,  35.2823,2,  35.2825,2,    125.4,2,   126.5,2,    8.05,2,   20.79,2,    0.01,2,    1.40,2,-999.000,9,-999.000,9,-999.000,9,  -999.0,9,  -999.0,9,   -999.0,9,  -999.00,-999.0000,9,  -999.00,-999.000,9,-999.000,9,-999.000,9, -999.00,9,  -999.0,9,  -999.0,-999.000,9,-999.000,-999.000,9, -999.00,9, -999.00,9,  249.20,-999.0000,9,-999.0000,9,-999.0000,9,-999.0000,9,-999.0000,9,-999.0000,9,  13.0180,     -999.0,9,     -999.0,9,     -999.0,9,     -999.0,9,        128,-999.000,-999.000,-999.000,     -999.0,9, -999.00,9, -999.00,9
33RO200306_02,       A16N,     128,          1,         23,         23,2,20030803,       1225,     2.3333,   -25.0000,       3769,   300.8,  11.0221,  35.0619,2,  35.0588,2,     65.3,2,    64.5,2,   13.20,2,   31.04,2,    0.01,2,    1.97,2,-999.000,9,-999.000,9,-999.000,9,  -999.0,9,  -999.0,9,   -999.0,9,  -999.00,-999.0000,9,  -999.00,-999.000,9,-999.000,9,-999.000,9, -999.00,9,  -999.0,9,  -999.0,-999.000,9,-999.000,-999.000,9, -999.00,9, -999.00,9,  300.80,-999.0000,9,-999.0000,9,-999.0000,9,-999.0000,9,-999.0000,9,-999.0000,9,  10.9848,     -999.0,9,     -999.0,9,     -999.0,9,     -999.0,9,        128,-999.000,-999.000,-999.000,     -999.0,9, -999.00,9, -999.00,9
33RO200306_02,       A16N,     128,          1,         22,         22,2,20030803,       1225,     2.3333,   -25.0000,       3769,   350.5,   9.2534,  34.8585,2,  34.8509,2,    112.8,2,   111.5,2,   15.04,2,   29.82,2,    0.00,2,    1.93,2,-999.000,9,-999.000,9,-999.000,9,  -999.0,9,  -999.0,9,   -999.0,9,  -999.00,-999.0000,9,  -999.00,-999.000,9,-999.000,9,-999.000,9, -999.00,9,  -999.0,9,  -999.0,-999.000,9,-999.000,-999.000,9, -999.00,9, -999.00,9,  350.50,-999.0000,9,-999.0000,9,-999.0000,9,-999.0000,9,-999.0000,9,-999.0000,9,   9.2144,     -999.0,9,     -999.0,9,     -999.0,9,     -999.0,9,        128,-999.000,-999.000,-999.000,     -999.0,9, -999.00,9, -999.00,9
33RO200306_02,       A16N,     128,          1,         21,         21,2,20030803,       1225,     2.3333,   -25.0000,       3769,   400.5,   8.2500,  34.7644,2,  34.7672,2,    106.5,2,   104.6,2,   17.49,2,   32.60,2,    0.00,2,    2.09,2,-999.000,9,-999.000,9,-999.000,9,  -999.0,9,  -999.0,9,   -999.0,9,  -999.00,-999.0000,9,  -999.00,-999.000,9,-999.000,9,-999.000,9, -999.00,9,  -999.0,9,  -999.0,-999.000,9,-999.000,-999.000,9, -999.00,9, -999.00,9,  400.50,-999.0000,9,-999.0000,9,-999.0000,9,-999.0000,9,-999.0000,9,-999.0000,9,   8.2083,     -999.0,9,     -999.0,9,     -999.0,9,     -999.0,9,        128,-999.000,-999.000,-999.000,     -999.0,9, -999.00,9, -999.00,9
33RO200306_02,       A16N,     128,          1,         20,         20,2,20030803,       1225,     2.3333,   -25.0000,       3769,   450.1,   7.1038,  34.6590,2,  34.6580,2,    116.5,2,   135.7,2,   20.73,2,   33.81,2,    0.00,2,    2.20,2,-999.000,9,-999.000,9,-999.000,9,  -999.0,9,  -999.0,9,   -999.0,9,  -999.00,-999.0000,9,  -999.00,-999.000,9,-999.000,9,-999.000,9, -999.00,9,  -999.0,9,  -999.0,-999.000,9,-999.000,-999.000,9, -999.00,9, -999.00,9,  450.10,-999.0000,9,-999.0000,9,-999.0000,9,-999.0000,9,-999.0000,9,-999.0000,9,   7.0607,     -999.0,9,     -999.0,9,     -999.0,9,     -999.0,9,        128,-999.000,-999.000,-999.000,     -999.0,9, -999.00,9, -999.00,9
33RO200306_02,       A16N,     128,          1,         19,         19,2,20030803,       1225,     2.3333,   -25.0000,       3769,   499.8,   6.2311,  34.5762,2,  34.5810,2,    137.7,2,   138.0,2,   23.13,2,   33.26,2,    0.00,2,    2.21,2,-999.000,9,-999.000,9,-999.000,9,  -999.0,9,  -999.0,9,   -999.0,9,  -999.00,-999.0000,9,  -999.00,-999.000,9,-999.000,9,-999.000,9, -999.00,9,  -999.0,9,  -999.0,-999.000,9,-999.000,-999.000,9, -999.00,9, -999.00,9,  499.80,-999.0000,9,-999.0000,9,-999.0000,9,-999.0000,9,-999.0000,9,-999.0000,9,   6.1865,     -999.0,9,     -999.0,9,     -999.0,9,     -999.0,9,        128,-999.000,-999.000,-999.000,     -999.0,9, -999.00,9, -999.00,9
33RO200306_02,       A16N,     128,          1,         18,         18,2,20030803,       1225,     2.3333,   -25.0000,       3769,   601.1,   5.3832,  34.5116,2,  34.5118,2,    147.7,2,   146.1,2,   26.81,2,   34.10,2,    0.00,2,    2.30,2,-999.000,9,-999.000,9,-999.000,9,  -999.0,9,  -999.0,9,   -999.0,9,  -999.00,-999.0000,9,  -999.00,-999.000,9,-999.000,9,-999.000,9, -999.00,9,  -999.0,9,  -999.0,-999.000,9,-999.000,-999.000,9, -999.00,9, -999.00,9,  601.10,-999.0000,9,-999.0000,9,-999.0000,9,-999.0000,9,-999.0000,9,-999.0000,9,   5.3331,     -999.0,9,     -999.0,9,     -999.0,9,     -999.0,9,        128,-999.000,-999.000,-999.000,     -999.0,9, -999.00,9, -999.00,9
33RO200306_02,       A16N,     128,          1,         17,         17,2,20030803,       1225,     2.3333,   -25.0000,       3769,   699.3,   5.1673,  34.5066,2,  34.5069,2,    147.9,2,   143.6,2,   28.15,2,   34.37,2,    0.00,2,    2.32,2,-999.000,9,-999.000,9,-999.000,9,  -999.0,9,  -999.0,9,   -999.0,9,  -999.00,-999.0000,9,  -999.00,-999.000,9,-999.000,9,-999.000,9, -999.00,9,  -999.0,9,  -999.0,-999.000,9,-999.000,-999.000,9, -999.00,9, -999.00,9,  699.30,-999.0000,9,-999.0000,9,-999.0000,9,-999.0000,9,-999.0000,9,-999.0000,9,   5.1097,     -999.0,9,     -999.0,9,     -999.0,9,     -999.0,9,        128,-999.000,-999.000,-999.000,     -999.0,9, -999.00,9, -999.00,9
33RO200306_02,       A16N,     128,          1,         16,         16,2,20030803,       1225,     2.3333,   -25.0000,       3769,   800.0,   4.9554,  34.5092,2,  34.5117,2,    152.1,2,   149.6,2,   29.32,2,   34.27,2,    0.00,2,    2.32,2,-999.000,9,-999.000,9,-999.000,9,  -999.0,9,  -999.0,9,   -999.0,9,  -999.00,-999.0000,9,  -999.00,-999.000,9,-999.000,9,-999.000,9, -999.00,9,  -999.0,9,  -999.0,-999.000,9,-999.000,-999.000,9, -999.00,9, -999.00,9,  800.00,-999.0000,9,-999.0000,9,-999.0000,9,-999.0000,9,-999.0000,9,-999.0000,9,   4.8902,     -999.0,9,     -999.0,9,     -999.0,9,     -999.0,9,        128,-999.000,-999.000,-999.000,     -999.0,9, -999.00,9, -999.00,9
33RO200306_02,       A16N,     128,          1,         15,         15,2,20030803,       1225,     2.3333,   -25.0000,       3769,   900.1,   4.8328,  34.5311,2,  34.5313,2,    153.8,2,   151.8,2,   30.03,2,   33.98,2,    0.00,2,    2.31,2,-999.000,9,-999.000,9,-999.000,9,  -999.0,9,  -999.0,9,   -999.0,9,  -999.00,-999.0000,9,  -999.00,-999.000,9,-999.000,9,-999.000,9, -999.00,9,  -999.0,9,  -999.0,-999.000,9,-999.000,-999.000,9, -999.00,9, -999.00,9,  900.10,-999.0000,9,-999.0000,9,-999.0000,9,-999.0000,9,-999.0000,9,-999.0000,9,   4.7596,     -999.0,9,     -999.0,9,     -999.0,9,     -999.0,9,        128,-999.000,-999.000,-999.000,     -999.0,9, -999.00,9, -999.00,9
33RO200306_02,       A16N,     128,          1,         14,         14,2,20030803,       1225,     2.3333,   -25.0000,       3769,   998.9,   4.6851,  34.6301,2,  34.6306,2,    153.6,2,   153.3,2,   29.96,2,   32.99,2,    0.00,2,    2.25,2,-999.000,9,-999.000,9,-999.000,9,  -999.0,9,  -999.0,9,   -999.0,9,  -999.00,-999.0000,9,  -999.00,-999.000,9,-999.000,9,-999.000,9, -999.00,9,  -999.0,9,  -999.0,-999.000,9,-999.000,-999.000,9, -999.00,9, -999.00,9,  998.90,-999.0000,9,-999.0000,9,-999.0000,9,-999.0000,9,-999.0000,9,-999.0000,9,   4.6041,     -999.0,9,     -999.0,9,     -999.0,9,     -999.0,9,        128,-999.000,-999.000,-999.000,     -999.0,9, -999.00,9, -999.00,9
33RO200306_02,       A16N,     128,          1,         13,         13,2,20030803,       1225,     2.3333,   -25.0000,       3769,  1099.2,   4.6215,  34.7257,2,  34.7253,2,    162.5,2,   162.1,2,   28.31,2,   31.09,2,    0.00,2,    2.13,2,   0.023,2,   0.014,2,   0.001,2,  2211.0,2,  -999.0,9,   -999.0,9,  -999.00,-999.0000,9,  -999.00,-999.000,9,-999.000,9,-999.000,9, -999.00,9,  -999.0,9,  -999.0,-999.000,9,-999.000,-999.000,9, -999.00,9, -999.00,9, 1099.20,-999.0000,9,-999.0000,9,-999.0000,9,-999.0000,9,-999.0000,9,-999.0000,9,   4.5319,     -999.0,9,     -999.0,9,     -999.0,9,     -999.0,9,        128,-999.000,-999.000,-999.000,     -999.0,9, -999.00,9, -999.00,9
33RO200306_02,       A16N,     128,          1,         12,         12,2,20030803,       1225,     2.3333,   -25.0000,       3769,  1200.1,   4.5552,  34.8105,2,  34.8123,2,    177.8,2,   178.4,2,   25.78,2,   28.67,2,    0.00,2,    1.95,2,-999.000,9,-999.000,9,-999.000,9,  -999.0,9,  -999.0,9,   -999.0,9,  -999.00,-999.0000,9,  -999.00,-999.000,9,-999.000,9,-999.000,9, -999.00,9,  -999.0,9,  -999.0,-999.000,9,-999.000,-999.000,9, -999.00,9, -999.00,9, 1200.10,-999.0000,9,-999.0000,9,-999.0000,9,-999.0000,9,-999.0000,9,-999.0000,9,   4.4569,     -999.0,9,     -999.0,9,     -999.0,9,     -999.0,9,        128,-999.000,-999.000,-999.000,     -999.0,9, -999.00,9, -999.00,9
33RO200306_02,       A16N,     128,          1,         11,         11,2,20030803,       1225,     2.3333,   -25.0000,       3769,  1298.3,   4.5720,  34.8947,2,  34.8929,2,    200.3,2,   197.3,2,   22.27,2,   25.73,2,    0.00,2,    1.74,2,   0.082,2,   0.047,2,   0.000,2,  2180.4,2,  2313.9,2,   -999.0,9,  -999.00,   7.7266,2,    25.00,-999.000,9,-999.000,9,-999.000,9, -999.00,9,  -999.0,9,  -999.0,-999.000,9,-999.000,-999.000,9, -999.00,9, -999.00,9, 1298.30,-999.0000,9,-999.0000,9,-999.0000,9,-999.0000,9,-999.0000,9,-999.0000,9,   4.4644,     -999.0,9,     -999.0,9,     -999.0,9,     -999.0,9,        128,-999.000,-999.000,-999.000,     -999.0,9, -999.00,9, -999.00,9
33RO200306_02,       A16N,     128,          1,         10,         10,2,20030803,       1225,     2.3333,   -25.0000,       3769,  1401.2,   4.4536,  34.9507,2,  34.9521,2,    217.8,2,   219.3,2,   19.30,2,   23.03,2,    0.00,2,    1.55,2,-999.000,9,-999.000,9,-999.000,9,  -999.0,9,  -999.0,9,   -999.0,9,  -999.00,-999.0000,9,  -999.00,-999.000,9,-999.000,9,-999.000,9, -999.00,9,  -999.0,9,  -999.0,-999.000,9,-999.000,-999.000,9, -999.00,9, -999.00,9, 1401.20,-999.0000,9,-999.0000,9,-999.0000,9,-999.0000,9,-999.0000,9,-999.0000,9,   4.3376,     -999.0,9,     -999.0,9,     -999.0,9,     -999.0,9,        128,-999.000,-999.000,-999.000,     -999.0,9, -999.00,9, -999.00,9
33RO200306_02,       A16N,     128,          1,          9,          9,2,20030803,       1225,     2.3333,   -25.0000,       3769,  1499.8,   4.3669,  34.9676,2,  34.9702,2,    226.7,2,   229.0,2,   18.14,2,   21.89,2,    0.00,2,    1.48,2,   0.200,2,   0.109,2,   0.006,2,  2168.1,2,  2313.3,2,   -999.0,9,  -999.00,   7.7275,2,    25.00,-999.000,9,-999.000,9,-999.000,9, -999.00,9,  -999.0,9,  -999.0,-999.000,9,-999.000,-999.000,9, -999.00,9, -999.00,9, 1499.80,-999.0000,9,-999.0000,9,-999.0000,9,-999.0000,9,-999.0000,9,-999.0000,9,   4.2426,     -999.0,9,     -999.0,9,     -999.0,9,     -999.0,9,        128,-999.000,-999.000,-999.000,     -999.0,9, -999.00,9, -999.00,9
33RO200306_02,       A16N,     128,          1,          8,          8,2,20030803,       1225,     2.3333,   -25.0000,       3769,  1699.9,   3.9284,  34.9747,2,  34.9754,2,    242.3,2,   238.8,2,   18.43,2,   20.55,2,    0.00,2,    1.39,2,-999.000,9,-999.000,9,-999.000,9,  -999.0,9,  -999.0,9,   -999.0,9,  -999.00,-999.0000,9,  -999.00,-999.000,9,-999.000,9,-999.000,9, -999.00,9,  -999.0,9,  -999.0,-999.000,9,-999.000,-999.000,9, -999.00,9, -999.00,9, 1699.90,-999.0000,9,-999.0000,9,-999.0000,9,-999.0000,9,-999.0000,9,-999.0000,9,   3.7906,     -999.0,9,     -999.0,9,     -999.0,9,     -999.0,9,        128,-999.000,-999.000,-999.000,     -999.0,9, -999.00,9, -999.00,9