BOTTLE,20230908CCHSIOCBG
EXPOCODE,SECT_ID,STNNBR,CASTNO,SAMPNO,BTLNBR,BTLNBR_FLAG_W,DATE,TIME,LATITUDE,LONGITUDE,DEPTH,CTDPRS,CTDTMP,CTDSAL,CTDSAL_FLAG_W,SALNTY,SALNTY_FLAG_W,CTDOXY,CTDOXY_FLAG_W,OXYGEN,OXYGEN_FLAG_W,SILCAT,SILCAT_FLAG_W,NITRAT,NITRAT_FLAG_W,NITRIT,NITRIT_FLAG_W,PHSPHT,PHSPHT_FLAG_W,CFC-11,CFC-11_FLAG_W,CFC-12,CFC-12_FLAG_W,CFC113,CFC113_FLAG_W,TCARBN,TCARBN_FLAG_W,ALKALI,ALKALI_FLAG_W,FCO2,FCO2_FLAG_W,FCO2TMP,PH_SWS,PH_SWS_FLAG_W,PH_TMP,TRITUM,TRITUM_FLAG_W,HELIUM,HELIUM_FLAG_W,DELHE3,DELHE3_FLAG_W,DELC13,DELC13_FLAG_W,DELC14,DELC14_FLAG_W,C14ERR,NEON,NEON_FLAG_W,NEONER,POC,POC_FLAG_W,DOC,DOC_FLAG_W,TDN,TDN_FLAG_W,CTDRAW,CDOM325,CDOM325_FLAG_W,CDOM340,CDOM340_FLAG_W,CDOM380,CDOM380_FLAG_W,CDOM412,CDOM412_FLAG_W,CDOMSL,CDOMSL_FLAG_W,CDOMSN,CDOMSN_FLAG_W,THETA,PON,PON_FLAG_W,HCFC-22,HCFC-22_FLAG_W,HCFC-142b,HCFC-142b_FLAG_W,HCFC-141b,HCFC-141b_FLAG_W,STNNBR_U,HELIER,DELHER,TRITER,CH3CL,CH3CL_FLAG_W,CH3BR,CH3BR_FLAG_W,CH3I,CH3I_FLAG_W
,,,,,,,,,,,METERS,DBAR,ITS-90,PSS-78,,PSS-78,,UMOL/KG,,UMOL/KG,,UMOL/KG,,UMOL/KG,,UMOL/KG,,UMOL/KG,,PMOL/KG,,PMOL/KG,,PMOL/KG,,UMOL/KG,,UMOL/KG,,UATM,,DEG C,,,DEG C,TU,,NMOL/KG,,PERCNT,,/MILLE,,/MILLE,,/MILLE,NMOL/KG,,NMOL/KG,UG/KG,,UMOL/KG,,UMOL/KG,,DBAR,1/M,,1/M,,1/M,,1/M,,1/NM,,1/NM,,DEG C,UMOL/L,,PMOL/KG,,PMOL/KG,,PMOL/KG,,,NMOL/KG,PERCNT,TU,PMOL/KG,,PMOL/KG,,PMOL/KG,
33RO200306_02,       A16N,     146,          1,          7,          7,2,20030808,       0215,    -4.0000,   -25.0002,       5398,  3697.6,   2.4368,  34.9067,2,  34.9065,2,    258.7,2,   260.1,2,   34.10,2,   19.80,2,    0.00,2,    1.33,2,   0.100,2,   0.057,2,   0.001,2,  2171.8,2,  2330.0,2,    748.8,2,    20.00,   7.7338,2,    25.00,-999.000,9,-999.000,9,-999.000,9, -999.00,9,  -999.0,9,  -999.0,-999.000,9,-999.000,-999.000,9,   40.24,2,   24.96,2, 3697.60,-999.0000,9,-999.0000,9,-999.0000,9,-999.0000,9,-999.0000,9,-999.0000,9,   2.1243,     -999.0,9,     -999.0,9,     -999.0,9,     -999.0,9,        146,-999.000,-999.000,-999.000,     -999.0,9, -999.00,9, -999.00,9
33RO200306_02,       A16N,     146,          1,          6,          6,2,20030808,       0215,    -4.0000,   -25.0002,       5398,  3999.5,   1.8889,  34.8484,2,  34.8472,2,    248.9,2,   249.6,2,   57.23,2,   23.09,2,    0.00,2,    1.57,2,   0.056,2,   0.031,2,   0.004,2,  2197.9,2,  2343.0,2,    811.1,3,    20.00,   7.7521,2,    25.00,-999.000,9,-999.000,9,-999.000,9, -999.00,9,  -999.0,9,  -999.0,-999.000,9,-999.000,-999.000,9,   40.00,2,   26.64,2, 3999.50,-999.0000,9,-999.0000,9,-999.0000,9,-999.0000,9,-999.0000,9,-999.0000,9,   1.5581,     -999.0,9,     -999.0,9,     -999.0,9,     -999.0,9,        146,-999.000,-999.000,-999.000,     -999.0,9, -999.00,9, -999.00,9
33RO200306_02,       A16N,     146,          1,          5,          5,2,20030808,       0215,    -4.0000,   -25.0002,       5398,  4299.7,   1.2717,  34.7791,2,  34.7777,2,    234.9,2,   235.5,2,   86.24,2,   27.24,2,    0.00,2,    1.87,2,   0.017,2,   0.012,2,   0.001,2,  2227.9,2,  2359.8,2,    900.5,2,    20.00,   7.6573,2,    25.00,-999.000,9,-999.000,9,-999.000,9, -999.00,9,  -999.0,9,  -999.0,-999.000,9,-999.000,-999.000,9,   39.02,2,   31.20,2, 4299.70,-999.0000,9,-999.0000,9,-999.0000,9,-999.0000,9,-999.0000,9,-999.0000,9,   0.9258,     -999.0,9,     -999.0,9,     -999.0,9,     -999.0,9,        146,-999.000,-999.000,-999.000,     -999.0,9, -999.00,9, -999.00,9
33RO200306_02,       A16N,     146,          1,          4,          4,2,20030808,       0215,    -4.0000,   -25.0002,       5398,  4599.2,   0.9034,  34.7363,2,  34.7347,2,    226.6,2,   227.7,2,  103.64,6,   29.54,6,    0.00,6,    2.07,6,   0.018,2,   0.010,2,   0.001,2,  2242.7,2,  2368.0,2,   -999.0,9,  -999.00,   7.6762,2,    25.00,-999.000,9,-999.000,9,-999.000,9, -999.00,9,  -999.0,9,  -999.0,-999.000,9,-999.000,-999.000,9,   38.78,2,   34.13,2, 4599.20,-999.0000,9,-999.0000,9,-999.0000,9,-999.0000,9,-999.0000,9,-999.0000,9,   0.5355,     -999.0,9,     -999.0,9,     -999.0,9,     -999.0,9,        146,-999.000,-999.000,-999.000,     -999.0,9, -999.00,9, -999.00,9
33RO200306_02,       A16N,     146,          1,          3,          3,2,20030808,       0215,    -4.0000,   -25.0002,       5398,  4898.9,   0.7859,  34.7194,2,  34.7184,2,    223.6,2,   224.3,2,  110.11,6,   30.48,6,    0.00,6,    2.14,6,   0.036,2,   0.018,2,   0.000,2,  2248.6,2,  2370.0,2,    993.1,6,    20.00,   7.6326,2,    25.00,-999.000,9,-999.000,9,-999.000,9, -999.00,9,  -999.0,9,  -999.0,-999.000,9,-999.000,-999.000,9,   39.10,2,   34.88,2, 4898.90,-999.0000,9,-999.0000,9,-999.0000,9,-999.0000,9,-999.0000,9,-999.0000,9,   0.3875,     -999.0,9,     -999.0,9,     -999.0,9,     -999.0,9,        146,-999.000,-999.000,-999.000,     -999.0,9, -999.00,9, -999.00,9
33RO200306_02,       A16N,     146,          1,          2,          2,2,20030808,       0215,    -4.0000,   -25.0002,       5398,  5197.7,   0.7470,  34.7118,2,  34.7106,2,    222.7,2,   222.8,2,  113.18,6,   30.84,6,    0.00,6,    2.17,6,   0.028,2,   0.022,2,-999.000,5,  2263.6,3,  2370.4,2,   1008.1,2,    20.00,   7.6241,2,    25.00,-999.000,9,-999.000,9,-999.000,9, -999.00,9,  -999.0,9,  -999.0,-999.000,9,-999.000,-999.000,9,   39.68,2,   35.68,2, 5197.70,-999.0000,9,-999.0000,9,-999.0000,9,-999.0000,9,-999.0000,9,-999.0000,9,   0.3147,     -999.0,9,     -999.0,9,     -999.0,9,     -999.0,9,        146,-999.000,-999.000,-999.000,     -999.0,9, -999.00,9, -999.00,9
33RO200306_02,       A16N,     146,          1,          1,          1,2,20030808,       0215,    -4.0000,   -25.0002,       5398,  5445.7,   0.7661,  34.7104,2,  34.7107,2,    222.5,2,   222.2,2,  113.29,6,   30.97,6,    0.00,6,    2.16,6,   0.035,6,   0.022,6,   0.001,6,  2256.6,2,  2371.6,6,   1006.6,2,    20.00,   7.6316,6,    25.00,-999.000,9,-999.000,9,-999.000,9, -999.00,9,  -999.0,9,  -999.0,-999.000,9,-999.000,-999.000,9,   40.49,2,   35.57,2, 5445.70,-999.0000,9,-999.0000,9,-999.0000,9,-999.0000,9,-999.0000,9,-999.0000,9,   0.3030,     -999.0,9,     -999.0,9,     -999.0,9,     -999.0,9,        146,-999.000,-999.000,-999.000,     -999.0,9, -999.00,9, -999.00,9