BOTTLE,20230908CCHSIOCBG
EXPOCODE,SECT_ID,STNNBR,CASTNO,SAMPNO,BTLNBR,BTLNBR_FLAG_W,DATE,TIME,LATITUDE,LONGITUDE,DEPTH,CTDPRS,CTDTMP,CTDSAL,CTDSAL_FLAG_W,SALNTY,SALNTY_FLAG_W,CTDOXY,CTDOXY_FLAG_W,OXYGEN,OXYGEN_FLAG_W,SILCAT,SILCAT_FLAG_W,NITRAT,NITRAT_FLAG_W,NITRIT,NITRIT_FLAG_W,PHSPHT,PHSPHT_FLAG_W,CFC-11,CFC-11_FLAG_W,CFC-12,CFC-12_FLAG_W,CFC113,CFC113_FLAG_W,TCARBN,TCARBN_FLAG_W,ALKALI,ALKALI_FLAG_W,FCO2,FCO2_FLAG_W,FCO2TMP,PH_SWS,PH_SWS_FLAG_W,PH_TMP,TRITUM,TRITUM_FLAG_W,HELIUM,HELIUM_FLAG_W,DELHE3,DELHE3_FLAG_W,DELC13,DELC13_FLAG_W,DELC14,DELC14_FLAG_W,C14ERR,NEON,NEON_FLAG_W,NEONER,POC,POC_FLAG_W,DOC,DOC_FLAG_W,TDN,TDN_FLAG_W,CTDRAW,CDOM325,CDOM325_FLAG_W,CDOM340,CDOM340_FLAG_W,CDOM380,CDOM380_FLAG_W,CDOM412,CDOM412_FLAG_W,CDOMSL,CDOMSL_FLAG_W,CDOMSN,CDOMSN_FLAG_W,THETA,PON,PON_FLAG_W,HCFC-22,HCFC-22_FLAG_W,HCFC-142b,HCFC-142b_FLAG_W,HCFC-141b,HCFC-141b_FLAG_W,STNNBR_U,HELIER,DELHER,TRITER,CH3CL,CH3CL_FLAG_W,CH3BR,CH3BR_FLAG_W,CH3I,CH3I_FLAG_W
,,,,,,,,,,,METERS,DBAR,ITS-90,PSS-78,,PSS-78,,UMOL/KG,,UMOL/KG,,UMOL/KG,,UMOL/KG,,UMOL/KG,,UMOL/KG,,PMOL/KG,,PMOL/KG,,PMOL/KG,,UMOL/KG,,UMOL/KG,,UATM,,DEG C,,,DEG C,TU,,NMOL/KG,,PERCNT,,/MILLE,,/MILLE,,/MILLE,NMOL/KG,,NMOL/KG,UG/KG,,UMOL/KG,,UMOL/KG,,DBAR,1/M,,1/M,,1/M,,1/M,,1/NM,,1/NM,,DEG C,UMOL/L,,PMOL/KG,,PMOL/KG,,PMOL/KG,,,NMOL/KG,PERCNT,TU,PMOL/KG,,PMOL/KG,,PMOL/KG,
33RO200306_01,       A16N,     044,          2,         32,         32,2,20030630,       2030,    43.5020,   -19.9995,       3975,     3.3,  17.2504,  35.7686,2,  35.7701,2,    244.2,2,   245.6,2,    0.87,2,    0.00,2,    0.00,2,    0.04,2,-999.000,9,-999.000,9,-999.000,9,  2067.4,6,  2347.1,2,   -999.0,9,  -999.00,   7.9864,2,    25.00,-999.000,9,-999.000,9,-999.000,9, -999.00,9,  -999.0,9,  -999.0,-999.000,9,-999.000,   6.072,2, -999.00,9, -999.00,9,    3.30,-999.0000,9,-999.0000,9,-999.0000,9,-999.0000,9,-999.0000,9,-999.0000,9,  17.2498,      0.911,2,     -999.0,9,     -999.0,9,     -999.0,9,         44,-999.000,-999.000,-999.000,     -999.0,9, -999.00,9, -999.00,9
33RO200306_01,       A16N,     044,          2,         31,         31,2,20030630,       2030,    43.5020,   -19.9995,       3975,     9.7,  17.2514,  35.7686,2,  35.7701,2,    242.4,2,   245.3,2,    0.88,2,    0.02,2,    0.00,2,    0.04,2,-999.000,9,-999.000,9,-999.000,9,  -999.0,9,  -999.0,9,   -999.0,9,  -999.00,-999.0000,9,  -999.00,-999.000,9,-999.000,9,-999.000,9, -999.00,9,  -999.0,9,  -999.0,-999.000,9,-999.000,   4.806,2, -999.00,9, -999.00,9,    9.70,-999.0000,9,-999.0000,9,-999.0000,9,-999.0000,9,-999.0000,9,-999.0000,9,  17.2498,      0.683,2,     -999.0,9,     -999.0,9,     -999.0,9,         44,-999.000,-999.000,-999.000,     -999.0,9, -999.00,9, -999.00,9
33RO200306_01,       A16N,     044,          2,         30,         30,2,20030630,       2030,    43.5020,   -19.9995,       3975,    27.7,  17.2414,  35.7678,2,  35.7698,2,    242.6,2,   246.9,2,    0.86,2,    0.04,2,    0.00,2,    0.05,2,-999.000,9,-999.000,9,-999.000,9,  -999.0,9,  -999.0,9,   -999.0,9,  -999.00,-999.0000,9,  -999.00,-999.000,9,-999.000,9,-999.000,9, -999.00,9,  -999.0,9,  -999.0,-999.000,9,-999.000,   4.586,2, -999.00,9, -999.00,9,   27.70,-999.0000,9,-999.0000,9,-999.0000,9,-999.0000,9,-999.0000,9,-999.0000,9,  17.2368,      0.498,2,     -999.0,9,     -999.0,9,     -999.0,9,         44,-999.000,-999.000,-999.000,     -999.0,9, -999.00,9, -999.00,9
33RO200306_01,       A16N,     044,          2,         29,         29,2,20030630,       2030,    43.5020,   -19.9995,       3975,    49.2,  14.1763,  35.8029,2,  35.8040,2,    258.2,2,   257.0,2,    1.24,2,    1.62,2,    0.32,2,    0.17,2,-999.000,9,-999.000,9,-999.000,9,  -999.0,9,  -999.0,9,   -999.0,9,  -999.00,-999.0000,9,  -999.00,-999.000,9,-999.000,9,-999.000,9, -999.00,9,  -999.0,9,  -999.0,-999.000,9,-999.000,   4.059,2, -999.00,9, -999.00,9,   49.20,-999.0000,9,-999.0000,9,-999.0000,9,-999.0000,9,-999.0000,9,-999.0000,9,  14.1691,      0.652,2,     -999.0,9,     -999.0,9,     -999.0,9,         44,-999.000,-999.000,-999.000,     -999.0,9, -999.00,9, -999.00,9
33RO200306_01,       A16N,     044,          2,         28,         28,2,20030630,       2030,    43.5020,   -19.9995,       3975,    69.9,  13.6950,  35.8207,2,  35.8219,2,    243.3,2,   241.2,2,    1.57,2,    4.42,2,    0.01,2,    0.28,2,-999.000,9,-999.000,9,-999.000,9,  -999.0,9,  -999.0,9,   -999.0,9,  -999.00,-999.0000,9,  -999.00,-999.000,9,-999.000,9,-999.000,9, -999.00,9,  -999.0,9,  -999.0,-999.000,9,-999.000,   1.395,2, -999.00,9, -999.00,9,   69.90,-999.0000,9,-999.0000,9,-999.0000,9,-999.0000,9,-999.0000,9,-999.0000,9,  13.6850,      0.165,2,     -999.0,9,     -999.0,9,     -999.0,9,         44,-999.000,-999.000,-999.000,     -999.0,9, -999.00,9, -999.00,9
33RO200306_01,       A16N,     044,          2,         27,         27,2,20030630,       2030,    43.5020,   -19.9995,       3975,    90.4,  13.4032,  35.7913,2,  35.7959,2,    242.0,2,   240.8,2,    1.77,2,    5.32,2,    0.01,2,    0.33,2,-999.000,9,-999.000,9,-999.000,9,  -999.0,9,  -999.0,9,   -999.0,9,  -999.00,-999.0000,9,  -999.00,-999.000,9,-999.000,9,-999.000,9, -999.00,9,  -999.0,9,  -999.0,-999.000,9,-999.000,   1.184,2, -999.00,9, -999.00,9,   90.40,-999.0000,9,-999.0000,9,-999.0000,9,-999.0000,9,-999.0000,9,-999.0000,9,  13.3905,      0.113,2,     -999.0,9,     -999.0,9,     -999.0,9,         44,-999.000,-999.000,-999.000,     -999.0,9, -999.00,9, -999.00,9
33RO200306_01,       A16N,     044,          2,         26,         26,2,20030630,       2030,    43.5020,   -19.9995,       3975,   109.6,  13.1676,  35.7635,2,  35.7637,2,    241.8,2,   242.7,2,    1.92,2,    5.98,2,    0.01,2,    0.37,2,-999.000,9,-999.000,9,-999.000,9,  -999.0,9,  -999.0,9,   -999.0,9,  -999.00,-999.0000,9,  -999.00,-999.000,9,-999.000,9,-999.000,9, -999.00,9,  -999.0,9,  -999.0,-999.000,9,-999.000,   0.994,2, -999.00,9, -999.00,9,  109.60,-999.0000,9,-999.0000,9,-999.0000,9,-999.0000,9,-999.0000,9,-999.0000,9,  13.1523,      0.119,2,     -999.0,9,     -999.0,9,     -999.0,9,         44,-999.000,-999.000,-999.000,     -999.0,9, -999.00,9, -999.00,9
33RO200306_01,       A16N,     044,          2,         25,         25,2,20030630,       2030,    43.5020,   -19.9995,       3975,   134.8,  13.0372,  35.7541,2,  35.7551,2,    244.8,2,   241.7,2,    2.04,2,    6.39,2,    0.01,2,    0.40,2,-999.000,9,-999.000,9,-999.000,9,  -999.0,9,  -999.0,9,   -999.0,9,  -999.00,-999.0000,9,  -999.00,-999.000,9,-999.000,9,-999.000,9, -999.00,9,  -999.0,9,  -999.0,-999.000,9,-999.000,-999.000,9, -999.00,9, -999.00,9,  134.80,-999.0000,9,-999.0000,9,-999.0000,9,-999.0000,9,-999.0000,9,-999.0000,9,  13.0185,     -999.0,9,     -999.0,9,     -999.0,9,     -999.0,9,         44,-999.000,-999.000,-999.000,     -999.0,9, -999.00,9, -999.00,9
33RO200306_01,       A16N,     044,          2,         24,         24,2,20030630,       2030,    43.5020,   -19.9995,       3975,   160.3,  12.9548,  35.7543,2,  35.7553,2,    245.4,2,   244.4,2,    2.15,2,    6.64,2,    0.01,2,    0.41,2,-999.000,9,-999.000,9,-999.000,9,  -999.0,9,  -999.0,9,   -999.0,9,  -999.00,-999.0000,9,  -999.00,-999.000,9,-999.000,9,-999.000,9, -999.00,9,  -999.0,9,  -999.0,-999.000,9,-999.000,-999.000,9, -999.00,9, -999.00,9,  160.30,-999.0000,9,-999.0000,9,-999.0000,9,-999.0000,9,-999.0000,9,-999.0000,9,  12.9327,     -999.0,9,     -999.0,9,     -999.0,9,     -999.0,9,         44,-999.000,-999.000,-999.000,     -999.0,9, -999.00,9, -999.00,9
33RO200306_01,       A16N,     044,          2,         23,         23,2,20030630,       2030,    43.5020,   -19.9995,       3975,   184.9,  12.8154,  35.7337,2,  35.7321,2,    239.4,2,   233.1,2,    2.66,2,    8.14,2,    0.01,2,    0.50,2,-999.000,9,-999.000,9,-999.000,9,  -999.0,9,  -999.0,9,   -999.0,9,  -999.00,-999.0000,9,  -999.00,-999.000,9,-999.000,9,-999.000,9, -999.00,9,  -999.0,9,  -999.0,-999.000,9,-999.000,   1.012,2, -999.00,9, -999.00,9,  184.90,-999.0000,9,-999.0000,9,-999.0000,9,-999.0000,9,-999.0000,9,-999.0000,9,  12.7900,      0.092,2,     -999.0,9,     -999.0,9,     -999.0,9,         44,-999.000,-999.000,-999.000,     -999.0,9, -999.00,9, -999.00,9
33RO200306_01,       A16N,     044,          2,         22,         22,2,20030630,       2030,    43.5020,   -19.9995,       3975,   224.9,  12.6478,  35.7236,2,  35.7235,2,    239.5,2,   236.9,2,    2.87,2,    8.53,2,    0.01,2,    0.52,2,-999.000,9,-999.000,9,-999.000,9,  -999.0,9,  -999.0,9,   -999.0,9,  -999.00,-999.0000,9,  -999.00,-999.000,9,-999.000,9,-999.000,9, -999.00,9,  -999.0,9,  -999.0,-999.000,9,-999.000,-999.000,9, -999.00,9, -999.00,9,  224.90,-999.0000,9,-999.0000,9,-999.0000,9,-999.0000,9,-999.0000,9,-999.0000,9,  12.6172,     -999.0,9,     -999.0,9,     -999.0,9,     -999.0,9,         44,-999.000,-999.000,-999.000,     -999.0,9, -999.00,9, -999.00,9
33RO200306_01,       A16N,     044,          2,         21,         21,2,20030630,       2030,    43.5020,   -19.9995,       3975,   275.3,  12.4968,  35.7076,2,  35.7091,2,    240.6,2,   238.9,2,    3.00,2,    8.80,2,    0.01,2,    0.53,2,-999.000,9,-999.000,9,-999.000,9,  -999.0,9,  -999.0,9,   -999.0,9,  -999.00,-999.0000,9,  -999.00,-999.000,9,-999.000,9,-999.000,9, -999.00,9,  -999.0,9,  -999.0,-999.000,9,-999.000,-999.000,9, -999.00,9, -999.00,9,  275.30,-999.0000,9,-999.0000,9,-999.0000,9,-999.0000,9,-999.0000,9,-999.0000,9,  12.4595,     -999.0,9,     -999.0,9,     -999.0,9,     -999.0,9,         44,-999.000,-999.000,-999.000,     -999.0,9, -999.00,9, -999.00,9
33RO200306_01,       A16N,     044,          2,         20,         20,2,20030630,       2030,    43.5020,   -19.9995,       3975,   325.2,  12.3176,  35.6794,2,  35.6818,2,    227.7,2,   238.0,2,    3.23,2,    9.39,2,    0.01,2,    0.57,2,-999.000,9,-999.000,9,-999.000,9,  -999.0,9,  -999.0,9,   -999.0,9,  -999.00,-999.0000,9,  -999.00,-999.000,9,-999.000,9,-999.000,9, -999.00,9,  -999.0,9,  -999.0,-999.000,9,-999.000,-999.000,9, -999.00,9, -999.00,9,  325.20,-999.0000,9,-999.0000,9,-999.0000,9,-999.0000,9,-999.0000,9,-999.0000,9,  12.2739,     -999.0,9,     -999.0,9,     -999.0,9,     -999.0,9,         44,-999.000,-999.000,-999.000,     -999.0,9, -999.00,9, -999.00,9
33RO200306_01,       A16N,     044,          2,         19,         19,2,20030630,       2030,    43.5020,   -19.9995,       3975,   374.2,  11.9307,  35.6117,2,  35.6118,2,    218.5,2,   221.5,2,    4.03,2,   11.37,2,    0.01,2,    0.69,2,-999.000,9,-999.000,9,-999.000,9,  -999.0,9,  -999.0,9,   -999.0,9,  -999.00,-999.0000,9,  -999.00,-999.000,9,-999.000,9,-999.000,9, -999.00,9,  -999.0,9,  -999.0,-999.000,9,-999.000,-999.000,9, -999.00,9, -999.00,9,  374.20,-999.0000,9,-999.0000,9,-999.0000,9,-999.0000,9,-999.0000,9,-999.0000,9,  11.8814,     -999.0,9,     -999.0,9,     -999.0,9,     -999.0,9,         44,-999.000,-999.000,-999.000,     -999.0,9, -999.00,9, -999.00,9
33RO200306_01,       A16N,     044,          2,         18,         18,2,20030630,       2030,    43.5020,   -19.9995,       3975,   424.3,  11.7262,  35.5870,2,  35.5880,2,    223.6,2,   219.8,2,    4.27,2,   11.85,2,    0.01,2,    0.71,2,-999.000,9,-999.000,9,-999.000,9,  -999.0,9,  -999.0,9,   -999.0,9,  -999.00,-999.0000,9,  -999.00,-999.000,9,-999.000,9,-999.000,9, -999.00,9,  -999.0,9,  -999.0,-999.000,9,-999.000,-999.000,9, -999.00,9, -999.00,9,  424.30,-999.0000,9,-999.0000,9,-999.0000,9,-999.0000,9,-999.0000,9,-999.0000,9,  11.6708,     -999.0,9,     -999.0,9,     -999.0,9,     -999.0,9,         44,-999.000,-999.000,-999.000,     -999.0,9, -999.00,9, -999.00,9
33RO200306_01,       A16N,     044,          2,         17,         17,2,20030630,       2030,    43.5020,   -19.9995,       3975,   471.8,  11.3865,  35.5421,2,  35.5431,2,    219.7,2,   217.6,2,    4.78,2,   12.73,2,    0.01,2,    0.77,2,-999.000,9,-999.000,9,-999.000,9,  -999.0,9,  -999.0,9,   -999.0,9,  -999.00,-999.0000,9,  -999.00,-999.000,9,-999.000,9,-999.000,9, -999.00,9,  -999.0,9,  -999.0,-999.000,9,-999.000,   0.571,2, -999.00,9, -999.00,9,  471.80,-999.0000,9,-999.0000,9,-999.0000,9,-999.0000,9,-999.0000,9,-999.0000,9,  11.3259,      0.045,2,     -999.0,9,     -999.0,9,     -999.0,9,         44,-999.000,-999.000,-999.000,     -999.0,9, -999.00,9, -999.00,9
33RO200306_01,       A16N,     044,          2,         16,         16,2,20030630,       2030,    43.5020,   -19.9995,       3975,   548.3,  10.9243,  35.5042,2,  35.5049,2,    211.0,2,   220.6,2,    5.84,2,   14.42,2,    0.01,2,    0.87,2,-999.000,9,-999.000,9,-999.000,9,  -999.0,9,  -999.0,9,   -999.0,9,  -999.00,-999.0000,9,  -999.00,-999.000,9,-999.000,9,-999.000,9, -999.00,9,  -999.0,9,  -999.0,-999.000,9,-999.000,-999.000,9, -999.00,9, -999.00,9,  548.30,-999.0000,9,-999.0000,9,-999.0000,9,-999.0000,9,-999.0000,9,-999.0000,9,  10.8555,     -999.0,9,     -999.0,9,     -999.0,9,     -999.0,9,         44,-999.000,-999.000,-999.000,     -999.0,9, -999.00,9, -999.00,9
33RO200306_01,       A16N,     044,          2,         15,         15,2,20030630,       2030,    43.5020,   -19.9995,       3975,   649.5,  10.5586,  35.5151,2,  35.5157,2,    197.3,2,   193.2,2,    7.23,2,   16.10,2,    0.00,2,    0.98,2,-999.000,9,-999.000,9,-999.000,9,  -999.0,9,  -999.0,9,   -999.0,9,  -999.00,-999.0000,9,  -999.00,-999.000,9,-999.000,9,-999.000,9, -999.00,9,  -999.0,9,  -999.0,-999.000,9,-999.000,-999.000,9, -999.00,9, -999.00,9,  649.50,-999.0000,9,-999.0000,9,-999.0000,9,-999.0000,9,-999.0000,9,-999.0000,9,  10.4784,     -999.0,9,     -999.0,9,     -999.0,9,     -999.0,9,         44,-999.000,-999.000,-999.000,     -999.0,9, -999.00,9, -999.00,9
33RO200306_01,       A16N,     044,          2,         14,         14,2,20030630,       2030,    43.5020,   -19.9995,       3975,   749.5,  10.3465,  35.6055,2,  35.6174,2,    188.8,2,   185.7,2,    8.28,2,   16.78,2,    0.00,2,    1.02,2,-999.000,9,-999.000,9,-999.000,9,  -999.0,9,  -999.0,9,   -999.0,9,  -999.00,-999.0000,9,  -999.00,-999.000,9,-999.000,9,-999.000,9, -999.00,9,  -999.0,9,  -999.0,-999.000,9,-999.000,-999.000,9, -999.00,9, -999.00,9,  749.50,-999.0000,9,-999.0000,9,-999.0000,9,-999.0000,9,-999.0000,9,-999.0000,9,  10.2546,     -999.0,9,     -999.0,9,     -999.0,9,     -999.0,9,         44,-999.000,-999.000,-999.000,     -999.0,9, -999.00,9, -999.00,9
33RO200306_01,       A16N,     044,          2,         13,         13,2,20030630,       2030,    43.5020,   -19.9995,       3975,   849.0,  10.1843,  35.7199,2,  35.7241,2,    185.3,2,   183.0,2,    8.99,2,   16.98,2,    0.00,2,    1.03,2,-999.000,9,-999.000,9,-999.000,9,  -999.0,9,  -999.0,9,   -999.0,9,  -999.00,-999.0000,9,  -999.00,-999.000,9,-999.000,9,-999.000,9, -999.00,9,  -999.0,9,  -999.0,-999.000,9,-999.000,-999.000,9, -999.00,9, -999.00,9,  849.00,-999.0000,9,-999.0000,9,-999.0000,9,-999.0000,9,-999.0000,9,-999.0000,9,  10.0806,     -999.0,9,     -999.0,9,     -999.0,9,     -999.0,9,         44,-999.000,-999.000,-999.000,     -999.0,9, -999.00,9, -999.00,9
33RO200306_01,       A16N,     044,          2,         12,         12,2,20030630,       2030,    43.5020,   -19.9995,       3975,   950.4,   9.8699,  35.7707,2,  35.7788,2,    185.9,2,   184.2,2,    9.52,2,   17.04,2,    0.00,2,    1.04,2,-999.000,9,-999.000,9,-999.000,9,  -999.0,9,  -999.0,9,   -999.0,9,  -999.00,-999.0000,9,  -999.00,-999.000,9,-999.000,9,-999.000,9, -999.00,9,  -999.0,9,  -999.0,-999.000,9,-999.000,-999.000,9, -999.00,9, -999.00,9,  950.40,-999.0000,9,-999.0000,9,-999.0000,9,-999.0000,9,-999.0000,9,-999.0000,9,   9.7553,     -999.0,9,     -999.0,9,     -999.0,9,     -999.0,9,         44,-999.000,-999.000,-999.000,     -999.0,9, -999.00,9, -999.00,9
33RO200306_01,       A16N,     044,          2,         11,         11,2,20030630,       2030,    43.5020,   -19.9995,       3975,  1048.7,   9.2984,  35.7343,2,  35.7339,2,    189.9,2,   188.9,2,   10.10,2,   17.33,2,    0.00,2,    1.06,2,-999.000,9,-999.000,9,-999.000,9,  -999.0,9,  -999.0,9,   -999.0,9,  -999.00,-999.0000,9,  -999.00,-999.000,9,-999.000,9,-999.000,9, -999.00,9,  -999.0,9,  -999.0,-999.000,9,-999.000,-999.000,9, -999.00,9, -999.00,9, 1048.70,-999.0000,9,-999.0000,9,-999.0000,9,-999.0000,9,-999.0000,9,-999.0000,9,   9.1756,     -999.0,9,     -999.0,9,     -999.0,9,     -999.0,9,         44,-999.000,-999.000,-999.000,     -999.0,9, -999.00,9, -999.00,9
33RO200306_01,       A16N,     044,          2,         10,         10,2,20030630,       2030,    43.5020,   -19.9995,       3975,  1149.7,   8.1761,  35.5836,2,  35.5826,2,    199.2,2,   202.5,2,   10.76,2,   17.67,2,    0.00,2,    1.09,2,-999.000,9,-999.000,9,-999.000,9,  -999.0,9,  -999.0,9,   -999.0,9,  -999.00,-999.0000,9,  -999.00,-999.000,9,-999.000,9,-999.000,9, -999.00,9,  -999.0,9,  -999.0,-999.000,9,-999.000,-999.000,9, -999.00,9, -999.00,9, 1149.70,-999.0000,9,-999.0000,9,-999.0000,9,-999.0000,9,-999.0000,9,-999.0000,9,   8.0503,     -999.0,9,     -999.0,9,     -999.0,9,     -999.0,9,         44,-999.000,-999.000,-999.000,     -999.0,9, -999.00,9, -999.00,9
33RO200306_01,       A16N,     044,          2,          9,          9,2,20030630,       2030,    43.5020,   -19.9995,       3975,  1299.1,   5.7708,  35.1862,2,  35.1901,2,    223.6,2,   232.2,2,   11.38,2,   18.21,2,    0.00,2,    1.15,2,-999.000,9,-999.000,9,-999.000,9,  -999.0,9,  -999.0,9,   -999.0,9,  -999.00,-999.0000,9,  -999.00,-999.000,9,-999.000,9,-999.000,9, -999.00,9,  -999.0,9,  -999.0,-999.000,9,-999.000,-999.000,9, -999.00,9, -999.00,9, 1299.10,-999.0000,9,-999.0000,9,-999.0000,9,-999.0000,9,-999.0000,9,-999.0000,9,   5.6509,     -999.0,9,     -999.0,9,     -999.0,9,     -999.0,9,         44,-999.000,-999.000,-999.000,     -999.0,9, -999.00,9, -999.00,9
33RO200306_01,       A16N,     044,          2,          8,          8,2,20030630,       2030,    43.5020,   -19.9995,       3975,  1499.1,   4.4538,  35.0060,2,  35.0052,2,    255.5,2,   259.0,2,   11.51,2,   18.07,2,    0.00,2,    1.15,2,-999.000,9,-999.000,9,-999.000,9,  -999.0,9,  -999.0,9,   -999.0,9,  -999.00,-999.0000,9,  -999.00,-999.000,9,-999.000,9,-999.000,9, -999.00,9,  -999.0,9,  -999.0,-999.000,9,-999.000,-999.000,9, -999.00,9, -999.00,9, 1499.10,-999.0000,9,-999.0000,9,-999.0000,9,-999.0000,9,-999.0000,9,-999.0000,9,   4.3285,     -999.0,9,     -999.0,9,     -999.0,9,     -999.0,9,         44,-999.000,-999.000,-999.000,     -999.0,9, -999.00,9, -999.00,9
33RO200306_01,       A16N,     044,          2,          7,          7,2,20030630,       2030,    43.5020,   -19.9995,       3975,  1700.0,   3.7989,  34.9312,2,  34.9312,2,    270.9,2,   269.7,2,   11.59,2,   17.75,2,    0.00,2,    1.14,2,-999.000,9,-999.000,9,-999.000,9,  -999.0,9,  -999.0,9,   -999.0,9,  -999.00,-999.0000,9,  -999.00,-999.000,9,-999.000,9,-999.000,9, -999.00,9,  -999.0,9,  -999.0,-999.000,9,-999.000,-999.000,9, -999.00,9, -999.00,9, 1700.00,-999.0000,9,-999.0000,9,-999.0000,9,-999.0000,9,-999.0000,9,-999.0000,9,   3.6629,     -999.0,9,     -999.0,9,     -999.0,9,     -999.0,9,         44,-999.000,-999.000,-999.000,     -999.0,9, -999.00,9, -999.00,9
33RO200306_01,       A16N,     044,          2,          6,          6,2,20030630,       2030,    43.5020,   -19.9995,       3975,  1888.4,   3.5270,  34.9091,2,  34.9109,2,    279.5,2,   276.2,2,   11.77,2,   17.53,2,    0.00,2,    1.13,2,-999.000,9,-999.000,9,-999.000,9,  -999.0,9,  -999.0,9,   -999.0,9,  -999.00,-999.0000,9,  -999.00,-999.000,9,-999.000,9,-999.000,9, -999.00,9,  -999.0,9,  -999.0,-999.000,9,-999.000,-999.000,9, -999.00,9, -999.00,9, 1888.40,-999.0000,9,-999.0000,9,-999.0000,9,-999.0000,9,-999.0000,9,-999.0000,9,   3.3772,     -999.0,9,     -999.0,9,     -999.0,9,     -999.0,9,         44,-999.000,-999.000,-999.000,     -999.0,9, -999.00,9, -999.00,9