BOTTLE,20230908CCHSIOCBG
EXPOCODE,SECT_ID,STNNBR,CASTNO,SAMPNO,BTLNBR,BTLNBR_FLAG_W,DATE,TIME,LATITUDE,LONGITUDE,DEPTH,CTDPRS,CTDTMP,CTDSAL,CTDSAL_FLAG_W,SALNTY,SALNTY_FLAG_W,CTDOXY,CTDOXY_FLAG_W,OXYGEN,OXYGEN_FLAG_W,SILCAT,SILCAT_FLAG_W,NITRAT,NITRAT_FLAG_W,NITRIT,NITRIT_FLAG_W,PHSPHT,PHSPHT_FLAG_W,CFC-11,CFC-11_FLAG_W,CFC-12,CFC-12_FLAG_W,CFC113,CFC113_FLAG_W,TCARBN,TCARBN_FLAG_W,ALKALI,ALKALI_FLAG_W,FCO2,FCO2_FLAG_W,FCO2TMP,PH_SWS,PH_SWS_FLAG_W,PH_TMP,TRITUM,TRITUM_FLAG_W,HELIUM,HELIUM_FLAG_W,DELHE3,DELHE3_FLAG_W,DELC13,DELC13_FLAG_W,DELC14,DELC14_FLAG_W,C14ERR,NEON,NEON_FLAG_W,NEONER,POC,POC_FLAG_W,DOC,DOC_FLAG_W,TDN,TDN_FLAG_W,CTDRAW,CDOM325,CDOM325_FLAG_W,CDOM340,CDOM340_FLAG_W,CDOM380,CDOM380_FLAG_W,CDOM412,CDOM412_FLAG_W,CDOMSL,CDOMSL_FLAG_W,CDOMSN,CDOMSN_FLAG_W,THETA,PON,PON_FLAG_W,HCFC-22,HCFC-22_FLAG_W,HCFC-142b,HCFC-142b_FLAG_W,HCFC-141b,HCFC-141b_FLAG_W,STNNBR_U,HELIER,DELHER,TRITER,CH3CL,CH3CL_FLAG_W,CH3BR,CH3BR_FLAG_W,CH3I,CH3I_FLAG_W
,,,,,,,,,,,METERS,DBAR,ITS-90,PSS-78,,PSS-78,,UMOL/KG,,UMOL/KG,,UMOL/KG,,UMOL/KG,,UMOL/KG,,UMOL/KG,,PMOL/KG,,PMOL/KG,,PMOL/KG,,UMOL/KG,,UMOL/KG,,UATM,,DEG C,,,DEG C,TU,,NMOL/KG,,PERCNT,,/MILLE,,/MILLE,,/MILLE,NMOL/KG,,NMOL/KG,UG/KG,,UMOL/KG,,UMOL/KG,,DBAR,1/M,,1/M,,1/M,,1/M,,1/NM,,1/NM,,DEG C,UMOL/L,,PMOL/KG,,PMOL/KG,,PMOL/KG,,,NMOL/KG,PERCNT,TU,PMOL/KG,,PMOL/KG,,PMOL/KG,
33RO200306_02,       A16N,     116,          2,         35,         35,2,20030731,       0037,     8.0000,   -27.5008,       5086,     3.4,  27.7937,  35.3165,2,  35.3225,2,    191.8,2,   201.3,2,    0.69,2,    0.18,2,    0.00,2,    0.04,2,   1.653,6,   1.060,6,   0.148,6,  1955.0,6,  2309.5,6,    251.6,2,    20.00,   8.1365,6,    25.00,-999.000,9,-999.000,9,-999.000,9, -999.00,9,  -999.0,9,  -999.0,-999.000,9,-999.000,-999.000,9,   75.93,2,    8.35,2,    3.40,-999.0000,9,-999.0000,9,-999.0000,9,-999.0000,9,-999.0000,9,-999.0000,9,  27.7929,     -999.0,9,       3.59,2,       0.20,2,       0.37,2,        116,-999.000,-999.000,-999.000,      83.91,2,     1.6,2,    2.68,2
33RO200306_02,       A16N,     116,          2,         33,         33,2,20030731,       0037,     8.0000,   -27.5008,       5086,     8.3,  27.8110,  35.3162,2,  35.3215,2,    191.9,2,   202.1,2,    0.68,2,    0.18,2,    0.00,2,    0.04,2,   1.646,2,   1.061,2,   0.139,2,  1956.0,2,  2308.7,2,    251.8,2,    20.00,   8.1253,2,    25.00,-999.000,9,-999.000,9,-999.000,9, -999.00,9,  -999.0,9,  -999.0,-999.000,9,-999.000,-999.000,9,   71.54,2,    7.90,2,    8.30,-999.0000,9,-999.0000,9,-999.0000,9,-999.0000,9,-999.0000,9,-999.0000,9,  27.8091,     -999.0,9,       3.38,2,       0.14,2,       0.30,2,        116,-999.000,-999.000,-999.000,      98.28,2,    1.17,2,    5.78,2
33RO200306_02,       A16N,     116,          2,         32,         32,2,20030731,       0037,     8.0000,   -27.5008,       5086,    29.3,  27.8550,  35.3515,2,  35.4212,2,    192.5,2,   203.2,2,    0.69,2,    0.20,2,    0.00,2,    0.04,2,   1.662,2,   1.069,2,   0.147,2,  1961.4,2,  2315.6,2,    253.4,2,    20.00,   8.1259,2,    25.00,-999.000,9,-999.000,9,-999.000,9, -999.00,9,  -999.0,9,  -999.0,-999.000,9,-999.000,-999.000,9, -999.00,9, -999.00,9,   29.30,-999.0000,9,-999.0000,9,-999.0000,9,-999.0000,9,-999.0000,9,-999.0000,9,  27.8481,     -999.0,9,     -999.0,9,     -999.0,9,     -999.0,9,        116,-999.000,-999.000,-999.000,     -999.0,9, -999.00,9, -999.00,9
33RO200306_02,       A16N,     116,          2,         31,         31,2,20030731,       0037,     8.0000,   -27.5008,       5086,    49.3,  26.3374,  36.2625,2,  36.2451,2,    201.3,2,   204.4,2,    1.19,2,    0.21,2,    0.01,2,    0.08,2,   1.731,2,   1.100,2,   0.131,2,  2038.2,2,  -999.0,9,    301.3,2,    20.00,-999.0000,9,  -999.00,-999.000,9,-999.000,9,-999.000,9, -999.00,9,  -999.0,9,  -999.0,-999.000,9,-999.000,-999.000,9,   68.37,2,    7.45,2,   49.30,-999.0000,9,-999.0000,9,-999.0000,9,-999.0000,9,-999.0000,9,-999.0000,9,  26.3263,     -999.0,9,       3.41,2,       0.11,2,       0.29,2,        116,-999.000,-999.000,-999.000,      193.3,2,    3.13,2,    4.42,2
33RO200306_02,       A16N,     116,          2,         30,         30,2,20030731,       0037,     8.0000,   -27.5008,       5086,    69.1,  21.0212,  35.9664,2,  35.8721,2,    163.1,2,   145.0,2,    4.05,2,    9.86,2,    0.26,2,    0.73,2,   1.836,2,   1.092,2,   0.081,2,  2123.5,2,  2353.9,2,    502.5,2,    20.00,   7.8782,2,    25.00,-999.000,9,-999.000,9,-999.000,9, -999.00,9,  -999.0,9,  -999.0,-999.000,9,-999.000,-999.000,9,   54.96,2,   15.32,2,   69.10,-999.0000,9,-999.0000,9,-999.0000,9,-999.0000,9,-999.0000,9,-999.0000,9,  21.0079,     -999.0,9,     -999.0,9,     -999.0,9,     -999.0,9,        116,-999.000,-999.000,-999.000,     -999.0,9, -999.00,9, -999.00,9
33RO200306_02,       A16N,     116,          2,         29,         29,2,20030731,       0037,     8.0000,   -27.5008,       5086,    89.3,  16.0720,  35.6152,2,  35.6159,2,    118.6,2,   127.2,2,    6.10,2,   17.05,2,    0.08,2,    1.14,2,   1.898,2,   1.081,2,   0.050,2,  2158.7,2,  2339.6,2,    656.6,2,    20.00,   7.7693,2,    25.00,-999.000,9,-999.000,9,-999.000,9, -999.00,9,  -999.0,9,  -999.0,-999.000,9,-999.000,-999.000,9, -999.00,9, -999.00,9,   89.30,-999.0000,9,-999.0000,9,-999.0000,9,-999.0000,9,-999.0000,9,-999.0000,9,  16.0578,     -999.0,9,       2.13,2,       0.10,2,       0.17,2,        116,-999.000,-999.000,-999.000,        0.0,2,     0.0,2,    0.36,2
33RO200306_02,       A16N,     116,          2,         28,         28,2,20030731,       0037,     8.0000,   -27.5008,       5086,   109.0,  14.1677,  35.4371,2,  35.4139,2,    131.8,2,   136.6,2,    7.30,2,   18.71,2,    0.02,2,    1.26,2,   1.945,2,   1.084,2,   0.038,2,  2161.8,2,  2327.8,2,    702.4,2,    20.00,   7.7552,2,    25.00,-999.000,9,-999.000,9,-999.000,9, -999.00,9,  -999.0,9,  -999.0,-999.000,9,-999.000,-999.000,9,   48.05,2,   22.98,2,  109.00,-999.0000,9,-999.0000,9,-999.0000,9,-999.0000,9,-999.0000,9,-999.0000,9,  14.1518,     -999.0,9,     -999.0,9,     -999.0,9,     -999.0,9,        116,-999.000,-999.000,-999.000,     -999.0,9, -999.00,9, -999.00,9
33RO200306_02,       A16N,     116,          2,         27,         27,2,20030731,       0037,     8.0000,   -27.5008,       5086,   133.6,  13.0796,  35.3078,2,  35.2896,2,    136.9,2,   140.3,2,    7.99,2,   19.58,2,    0.01,2,    1.33,2,   1.952,2,   1.075,2,   0.031,2,  2141.7,2,  2322.3,3,    734.3,2,    20.00,-999.0000,9,  -999.00,-999.000,9,-999.000,9,-999.000,9, -999.00,9,  -999.0,9,  -999.0,-999.000,9,-999.000,-999.000,9, -999.00,9, -999.00,9,  133.60,-999.0000,9,-999.0000,9,-999.0000,9,-999.0000,9,-999.0000,9,-999.0000,9,  13.0611,     -999.0,9,       1.98,2,       0.00,2,       0.37,2,        116,-999.000,-999.000,-999.000,        0.0,2,     0.0,2,    0.46,2
33RO200306_02,       A16N,     116,          2,         26,         26,2,20030731,       0037,     8.0000,   -27.5008,       5086,   158.8,  11.9668,  35.1613,2,  35.1575,2,    140.8,2,   142.7,2,    8.93,2,   20.89,2,    0.01,2,    1.41,2,   1.884,2,   1.033,2,   0.028,2,  2167.1,2,  2315.1,2,   -999.0,9,  -999.00,   7.7205,2,    25.00,-999.000,9,-999.000,9,-999.000,9, -999.00,9,  -999.0,9,  -999.0,-999.000,9,-999.000,-999.000,9,   45.12,2,   24.74,2,  158.80,-999.0000,9,-999.0000,9,-999.0000,9,-999.0000,9,-999.0000,9,-999.0000,9,  11.9461,     -999.0,9,     -999.0,9,     -999.0,9,     -999.0,9,        116,-999.000,-999.000,-999.000,     -999.0,9, -999.00,9, -999.00,9
33RO200306_02,       A16N,     116,          2,         25,         25,2,20030731,       0037,     8.0000,   -27.5008,       5086,   184.4,  11.4748,  35.0966,2,  35.0942,2,    140.9,2,   142.1,2,    9.56,2,   21.76,2,    0.01,2,    1.47,2,   1.815,2,   0.986,2,   0.028,2,  2169.3,2,  2313.4,2,    796.7,2,    20.00,   7.7145,2,    25.00,-999.000,9,-999.000,9,-999.000,9, -999.00,9,  -999.0,9,  -999.0,-999.000,9,-999.000,-999.000,9, -999.00,9, -999.00,9,  184.40,-999.0000,9,-999.0000,9,-999.0000,9,-999.0000,9,-999.0000,9,-999.0000,9,  11.4514,     -999.0,9,       1.74,2,       0.00,2,       0.14,2,        116,-999.000,-999.000,-999.000,        0.0,2,     0.2,2,    0.22,2
33RO200306_02,       A16N,     116,          2,         24,         24,2,20030731,       0037,     8.0000,   -27.5008,       5086,   224.5,  11.1433,  35.0717,2,  35.0680,2,    128.6,2,   122.2,2,   10.66,2,   24.65,2,    0.01,2,    1.62,2,-999.000,9,-999.000,9,-999.000,9,  2184.1,2,  2311.3,2,    896.7,2,    20.00,   7.6614,2,    25.00,-999.000,9,-999.000,9,-999.000,9, -999.00,9,  -999.0,9,  -999.0,-999.000,9,-999.000,-999.000,9, -999.00,9, -999.00,9,  224.50,-999.0000,9,-999.0000,9,-999.0000,9,-999.0000,9,-999.0000,9,-999.0000,9,  11.1153,     -999.0,9,     -999.0,9,     -999.0,9,     -999.0,9,        116,-999.000,-999.000,-999.000,     -999.0,9, -999.00,9, -999.00,9
33RO200306_02,       A16N,     116,          2,         23,         23,2,20030731,       0037,     8.0000,   -27.5008,       5086,   274.0,  10.4054,  34.9847,2,  34.9836,2,    121.7,2,   117.7,2,   12.07,2,   26.53,2,    0.01,2,    1.73,2,   1.338,2,   0.713,2,   0.019,2,  2191.4,2,  2307.6,2,    953.7,2,    20.00,   7.6701,2,    25.00,-999.000,9,-999.000,9,-999.000,9, -999.00,9,  -999.0,9,  -999.0,-999.000,9,-999.000,-999.000,9, -999.00,9, -999.00,9,  274.00,-999.0000,9,-999.0000,9,-999.0000,9,-999.0000,9,-999.0000,9,-999.0000,9,  10.3727,     -999.0,9,       1.04,2,       0.07,2,       0.11,2,        116,-999.000,-999.000,-999.000,      75.28,2,    2.29,2,    0.02,2
33RO200306_02,       A16N,     116,          2,         22,         22,2,20030731,       0037,     8.0000,   -27.5008,       5086,   323.9,   9.8951,  34.9417,2,  34.9390,2,    103.0,2,   101.3,2,   13.47,2,   29.19,2,    0.01,2,    1.87,2,-999.000,9,-999.000,9,-999.000,9,  2203.9,2,  2305.4,2,   -999.0,9,  -999.00,   7.5987,2,    25.00,-999.000,9,-999.000,9,-999.000,9, -999.00,9,  -999.0,9,  -999.0,-999.000,9,-999.000,-999.000,9, -999.00,9, -999.00,9,  323.90,-999.0000,9,-999.0000,9,-999.0000,9,-999.0000,9,-999.0000,9,-999.0000,9,   9.8575,     -999.0,9,     -999.0,9,     -999.0,9,     -999.0,9,        116,-999.000,-999.000,-999.000,     -999.0,9, -999.00,9, -999.00,9
33RO200306_02,       A16N,     116,          2,         21,         21,2,20030731,       0037,     8.0000,   -27.5008,       5086,   374.4,   9.4625,  34.9010,2,  34.9009,2,     97.2,2,    95.3,2,   14.62,2,   30.83,2,    0.01,2,    1.96,2,   0.838,2,   0.450,2,   0.007,2,  2210.2,2,  2300.2,3,   1138.8,2,    20.00,-999.0000,9,  -999.00,-999.000,9,-999.000,9,-999.000,9, -999.00,9,  -999.0,9,  -999.0,-999.000,9,-999.000,-999.000,9, -999.00,9, -999.00,9,  374.40,-999.0000,9,-999.0000,9,-999.0000,9,-999.0000,9,-999.0000,9,-999.0000,9,   9.4202,     -999.0,9,       0.50,2,       0.00,2,       0.12,2,        116,-999.000,-999.000,-999.000,      27.84,2,    0.53,2,    0.51,2
33RO200306_02,       A16N,     116,          2,         20,         20,2,20030731,       0037,     8.0000,   -27.5008,       5086,   424.3,   9.0925,  34.8887,2,  34.8872,2,     76.4,2,    75.6,2,   16.20,2,   33.80,2,    0.01,2,    2.10,2,-999.000,9,-999.000,9,-999.000,9,  2226.5,6,  2300.3,2,   1283.6,2,    20.00,   7.5311,2,    25.00,-999.000,9,-999.000,9,-999.000,9, -999.00,9,  -999.0,9,  -999.0,-999.000,9,-999.000,-999.000,9, -999.00,9, -999.00,9,  424.30,-999.0000,9,-999.0000,9,-999.0000,9,-999.0000,9,-999.0000,9,-999.0000,9,   9.0456,     -999.0,9,     -999.0,9,     -999.0,9,     -999.0,9,        116,-999.000,-999.000,-999.000,     -999.0,9, -999.00,9, -999.00,9
33RO200306_02,       A16N,     116,          2,         19,         19,2,20030731,       0037,     8.0000,   -27.5008,       5086,   474.1,   8.6978,  34.8748,2,  34.8741,2,     71.7,2,    73.9,2,   17.29,2,   34.82,2,    0.00,2,    2.16,2,   0.356,2,   0.199,2,   0.004,2,  2230.9,2,  2300.2,2,   1324.7,2,    20.00,   7.5115,2,    25.00,-999.000,9,-999.000,9,-999.000,9, -999.00,9,  -999.0,9,  -999.0,-999.000,9,-999.000,-999.000,9,   43.66,2,   39.78,2,  474.10,-999.0000,9,-999.0000,9,-999.0000,9,-999.0000,9,-999.0000,9,-999.0000,9,   8.6466,     -999.0,9,       0.15,2,       0.00,2,       0.08,2,        116,-999.000,-999.000,-999.000,      86.52,2,    1.96,2,    0.11,2
33RO200306_02,       A16N,     116,          2,         18,         18,2,20030731,       0037,     8.0000,   -27.5008,       5086,   550.0,   7.8442,  34.7887,2,  34.7852,2,     81.1,2,    80.4,2,   19.61,2,   35.78,2,    0.00,2,    2.27,2,   0.227,2,   0.126,2,   0.004,2,  2232.2,2,  2299.1,2,   1351.2,2,    20.00,   7.5121,2,    25.00,-999.000,9,-999.000,9,-999.000,9, -999.00,9,  -999.0,9,  -999.0,-999.000,9,-999.000,-999.000,9,   41.54,2,   40.52,2,  550.00,-999.0000,9,-999.0000,9,-999.0000,9,-999.0000,9,-999.0000,9,-999.0000,9,   7.7881,     -999.0,9,     -999.0,9,     -999.0,9,     -999.0,9,        116,-999.000,-999.000,-999.000,     -999.0,9, -999.00,9, -999.00,9
33RO200306_02,       A16N,     116,          2,         17,         17,2,20030731,       0037,     8.0000,   -27.5008,       5086,   648.8,   6.9447,  34.7344,2,  34.7347,2,     94.3,2,    93.0,2,   22.44,2,   36.03,2,    0.00,2,    2.32,2,   0.117,2,   0.069,2,   0.002,2,  2229.8,2,  2299.4,2,   1333.6,2,    20.00,   7.5212,2,    25.00,-999.000,9,-999.000,9,-999.000,9, -999.00,9,  -999.0,9,  -999.0,-999.000,9,-999.000,-999.000,9,   41.39,2,   38.73,2,  648.80,-999.0000,9,-999.0000,9,-999.0000,9,-999.0000,9,-999.0000,9,-999.0000,9,   6.8825,     -999.0,9,       0.04,2,       0.00,2,       0.09,2,        116,-999.000,-999.000,-999.000,     115.82,2,    2.32,2,     0.0,2
33RO200306_02,       A16N,     116,          2,         16,         16,2,20030731,       0037,     8.0000,   -27.5008,       5086,   749.2,   6.2793,  34.7151,2,  34.7108,2,     99.9,2,    98.4,2,   24.97,2,   36.38,2,    0.00,2,    2.37,2,   0.043,2,   0.025,2,   0.001,2,  2232.9,2,  2300.3,2,   1336.6,6,    20.00,   7.5120,2,    25.00,-999.000,9,-999.000,9,-999.000,9, -999.00,9,  -999.0,9,  -999.0,-999.000,9,-999.000,-999.000,9,   41.14,2,   42.17,2,  749.20,-999.0000,9,-999.0000,9,-999.0000,9,-999.0000,9,-999.0000,9,-999.0000,9,   6.2107,     -999.0,9,     -999.0,9,     -999.0,9,     -999.0,9,        116,-999.000,-999.000,-999.000,     -999.0,9, -999.00,9, -999.00,9
33RO200306_02,       A16N,     116,          2,         15,         15,2,20030731,       0037,     8.0000,   -27.5008,       5086,   847.7,   5.3699,  34.6579,2,  34.6579,2,    120.1,2,   125.3,2,   27.83,2,   35.06,2,    0.00,2,    2.33,2,   0.023,2,   0.015,2,   0.000,2,  2224.7,2,  2303.9,2,   1240.2,2,    20.00,   7.5232,2,    25.00,-999.000,9,-999.000,9,-999.000,9, -999.00,9,  -999.0,9,  -999.0,-999.000,9,-999.000,-999.000,9,   42.03,2,   39.23,2,  847.70,-999.0000,9,-999.0000,9,-999.0000,9,-999.0000,9,-999.0000,9,-999.0000,9,   5.2976,     -999.0,9,     -999.0,9,     -999.0,9,     -999.0,9,        116,-999.000,-999.000,-999.000,     -999.0,9, -999.00,9, -999.00,9
33RO200306_02,       A16N,     116,          2,         14,         14,2,20030731,       0037,     8.0000,   -27.5008,       5086,   944.3,   5.1399,  34.6810,2,  34.6815,2,    132.6,2,   133.8,2,   28.21,2,   34.12,2,    0.00,2,    2.29,2,   0.020,2,   0.012,2,   0.002,2,  2222.1,2,  2308.6,2,   1194.7,2,    20.00,   7.5288,2,    25.00,-999.000,9,-999.000,9,-999.000,9, -999.00,9,  -999.0,9,  -999.0,-999.000,9,-999.000,-999.000,9,   41.54,2,   37.20,2,  944.30,-999.0000,9,-999.0000,9,-999.0000,9,-999.0000,9,-999.0000,9,-999.0000,9,   5.0603,     -999.0,9,       0.00,2,       0.00,2,       0.19,2,        116,-999.000,-999.000,-999.000,     113.64,2,    3.21,2,    0.04,2
33RO200306_02,       A16N,     116,          2,         13,         13,2,20030731,       0037,     8.0000,   -27.5008,       5086,  1050.0,   5.0512,  34.7612,2,  34.7595,2,    139.7,2,   138.1,2,   27.15,2,   32.69,2,    0.00,2,    2.20,2,   0.009,2,   0.004,2,   0.001,2,  2219.5,2,  2312.1,2,   -999.0,9,  -999.00,   7.5547,2,    25.00,-999.000,9,-999.000,9,-999.000,9, -999.00,9,  -999.0,9,  -999.0,-999.000,9,-999.000,-999.000,9,   41.95,2,   37.94,2, 1050.00,-999.0000,9,-999.0000,9,-999.0000,9,-999.0000,9,-999.0000,9,-999.0000,9,   4.9625,     -999.0,9,     -999.0,9,     -999.0,9,     -999.0,9,        116,-999.000,-999.000,-999.000,     -999.0,9, -999.00,9, -999.00,9
33RO200306_02,       A16N,     116,          2,         12,         12,2,20030731,       0037,     8.0000,   -27.5008,       5086,  1148.0,   4.9291,  34.8231,2,  34.8230,2,    149.4,2,   152.5,2,   25.82,2,   30.82,2,    0.00,2,    2.07,2,   0.006,2,   0.004,2,   0.001,2,  2212.9,2,  2310.4,2,   1077.8,2,    20.00,   7.6020,2,    25.00,-999.000,9,-999.000,9,-999.000,9, -999.00,9,  -999.0,9,  -999.0,-999.000,9,-999.000,-999.000,9,   41.39,2,   35.00,2, 1148.00,-999.0000,9,-999.0000,9,-999.0000,9,-999.0000,9,-999.0000,9,-999.0000,9,   4.8323,     -999.0,9,     -999.0,9,     -999.0,9,     -999.0,9,        116,-999.000,-999.000,-999.000,     -999.0,9, -999.00,9, -999.00,9
33RO200306_02,       A16N,     116,          2,         11,         11,2,20030731,       0037,     8.0000,   -27.5008,       5086,  1347.6,   4.5848,  34.9110,2,  34.9125,2,    185.2,2,   182.3,2,   22.68,2,   26.52,2,    0.00,2,    1.78,2,   0.016,2,   0.013,2,   0.001,2,  2196.7,2,  2314.9,2,   -999.0,9,  -999.00,   7.6542,2,    25.00,-999.000,9,-999.000,9,-999.000,9, -999.00,9,  -999.0,9,  -999.0,-999.000,9,-999.000,-999.000,9,   40.98,2,   30.20,2, 1347.60,-999.0000,9,-999.0000,9,-999.0000,9,-999.0000,9,-999.0000,9,-999.0000,9,   4.4725,     -999.0,9,     -999.0,9,     -999.0,9,     -999.0,9,        116,-999.000,-999.000,-999.000,     -999.0,9, -999.00,9, -999.00,9
33RO200306_02,       A16N,     116,          2,         10,         10,2,20030731,       0037,     8.0000,   -27.5008,       5086,  1499.1,   4.3828,  34.9676,2,  34.9680,2,    218.5,2,   219.6,2,   18.78,2,   22.53,2,    0.00,2,    1.52,2,   0.104,2,   0.058,2,   0.002,2,  2177.6,2,  2318.5,2,    819.8,2,    20.00,   7.6991,2,    25.00,-999.000,9,-999.000,9,-999.000,9, -999.00,9,  -999.0,9,  -999.0,-999.000,9,-999.000,-999.000,9,   40.57,2,   26.20,2, 1499.10,-999.0000,9,-999.0000,9,-999.0000,9,-999.0000,9,-999.0000,9,-999.0000,9,   4.2584,     -999.0,9,       0.01,2,       0.00,2,       0.11,2,        116,-999.000,-999.000,-999.000,       17.6,2,     0.1,2,     0.0,2
33RO200306_02,       A16N,     116,          2,          9,          9,2,20030731,       0037,     8.0000,   -27.5008,       5086,  1699.3,   4.0202,  34.9769,2,  34.9772,2,    236.7,2,   236.7,2,   18.26,2,   20.98,2,    0.00,2,    1.41,2,   0.082,2,   0.047,2,   0.002,2,  2170.3,2,  2319.6,2,   -999.0,9,  -999.00,   7.7195,2,    25.00,-999.000,9,-999.000,9,-999.000,9, -999.00,9,  -999.0,9,  -999.0,-999.000,9,-999.000,-999.000,9,   40.81,2,   25.38,2, 1699.30,-999.0000,9,-999.0000,9,-999.0000,9,-999.0000,9,-999.0000,9,-999.0000,9,   3.8813,     -999.0,9,     -999.0,9,     -999.0,9,     -999.0,9,        116,-999.000,-999.000,-999.000,     -999.0,9, -999.00,9, -999.00,9
33RO200306_02,       A16N,     116,          2,          8,          8,2,20030731,       0037,     8.0000,   -27.5008,       5086,  1900.1,   3.7012,  34.9703,2,  34.9702,2,    243.2,2,   244.4,2,   19.85,2,   20.61,2,    0.00,2,    1.39,2,   0.044,2,   0.026,2,   0.003,2,  2169.0,2,  2317.9,2,    763.3,2,    20.00,   7.7235,2,    25.00,-999.000,9,-999.000,9,-999.000,9, -999.00,9,  -999.0,9,  -999.0,-999.000,9,-999.000,-999.000,9,   40.90,2,   24.29,2, 1900.10,-999.0000,9,-999.0000,9,-999.0000,9,-999.0000,9,-999.0000,9,-999.0000,9,   3.5476,     -999.0,9,     -999.0,9,     -999.0,9,     -999.0,9,        116,-999.000,-999.000,-999.000,     -999.0,9, -999.00,9, -999.00,9