BOTTLE,20230908CCHSIOCBG
EXPOCODE,SECT_ID,STNNBR,CASTNO,SAMPNO,BTLNBR,BTLNBR_FLAG_W,DATE,TIME,LATITUDE,LONGITUDE,DEPTH,CTDPRS,CTDTMP,CTDSAL,CTDSAL_FLAG_W,SALNTY,SALNTY_FLAG_W,CTDOXY,CTDOXY_FLAG_W,OXYGEN,OXYGEN_FLAG_W,SILCAT,SILCAT_FLAG_W,NITRAT,NITRAT_FLAG_W,NITRIT,NITRIT_FLAG_W,PHSPHT,PHSPHT_FLAG_W,CFC-11,CFC-11_FLAG_W,CFC-12,CFC-12_FLAG_W,CFC113,CFC113_FLAG_W,TCARBN,TCARBN_FLAG_W,ALKALI,ALKALI_FLAG_W,FCO2,FCO2_FLAG_W,FCO2TMP,PH_SWS,PH_SWS_FLAG_W,PH_TMP,TRITUM,TRITUM_FLAG_W,HELIUM,HELIUM_FLAG_W,DELHE3,DELHE3_FLAG_W,DELC13,DELC13_FLAG_W,DELC14,DELC14_FLAG_W,C14ERR,NEON,NEON_FLAG_W,NEONER,POC,POC_FLAG_W,DOC,DOC_FLAG_W,TDN,TDN_FLAG_W,CTDRAW,CDOM325,CDOM325_FLAG_W,CDOM340,CDOM340_FLAG_W,CDOM380,CDOM380_FLAG_W,CDOM412,CDOM412_FLAG_W,CDOMSL,CDOMSL_FLAG_W,CDOMSN,CDOMSN_FLAG_W,THETA,PON,PON_FLAG_W,HCFC-22,HCFC-22_FLAG_W,HCFC-142b,HCFC-142b_FLAG_W,HCFC-141b,HCFC-141b_FLAG_W,STNNBR_U,HELIER,DELHER,TRITER,CH3CL,CH3CL_FLAG_W,CH3BR,CH3BR_FLAG_W,CH3I,CH3I_FLAG_W
,,,,,,,,,,,METERS,DBAR,ITS-90,PSS-78,,PSS-78,,UMOL/KG,,UMOL/KG,,UMOL/KG,,UMOL/KG,,UMOL/KG,,UMOL/KG,,PMOL/KG,,PMOL/KG,,PMOL/KG,,UMOL/KG,,UMOL/KG,,UATM,,DEG C,,,DEG C,TU,,NMOL/KG,,PERCNT,,/MILLE,,/MILLE,,/MILLE,NMOL/KG,,NMOL/KG,UG/KG,,UMOL/KG,,UMOL/KG,,DBAR,1/M,,1/M,,1/M,,1/M,,1/NM,,1/NM,,DEG C,UMOL/L,,PMOL/KG,,PMOL/KG,,PMOL/KG,,,NMOL/KG,PERCNT,TU,PMOL/KG,,PMOL/KG,,PMOL/KG,
33RO200306_01,       A16N,     025,          1,         32,         32,2,20030625,       0025,    52.9998,   -19.9998,       2677,     2.4,  12.5297,  35.2820,2,  35.2834,2,    264.0,2,   264.8,2,    0.28,2,    3.25,2,    0.08,2,    0.26,2,   3.374,2,   1.945,2,   0.303,2,  2080.1,6,  2328.0,2,    431.9,2,    20.00,   7.9349,2,    25.00,-999.000,9,-999.000,9,-999.000,9, -999.00,9,  -999.0,9,  -999.0,-999.000,9,-999.000,-999.000,9,   58.78,2,    7.00,2,    2.40,-999.0000,9,-999.0000,9,-999.0000,9,-999.0000,9,-999.0000,9,-999.0000,9,  12.5294,     -999.0,9,     -999.0,9,     -999.0,9,     -999.0,9,         25,-999.000,-999.000,-999.000,     -999.0,9, -999.00,9, -999.00,9
33RO200306_01,       A16N,     025,          1,         31,         31,2,20030625,       0025,    52.9998,   -19.9998,       2677,    20.0,  12.5294,  35.2817,2,  35.2829,2,    263.7,2,   264.0,2,    0.28,2,    3.27,2,    0.09,2,    0.26,2,   3.406,2,   1.968,2,   0.303,2,  2080.3,2,  2328.2,2,    441.2,2,    20.00,   7.9201,2,    25.00,-999.000,9,-999.000,9,-999.000,9, -999.00,9,  -999.0,9,  -999.0,-999.000,9,-999.000,-999.000,9,   55.78,2,   11.17,2,   20.00,-999.0000,9,-999.0000,9,-999.0000,9,-999.0000,9,-999.0000,9,-999.0000,9,  12.5267,     -999.0,9,     -999.0,9,     -999.0,9,     -999.0,9,         25,-999.000,-999.000,-999.000,     -999.0,9, -999.00,9, -999.00,9
33RO200306_01,       A16N,     025,          1,         30,         30,2,20030625,       0025,    52.9998,   -19.9998,       2677,    39.8,  12.1418,  35.2831,2,  35.2864,2,    263.7,2,   260.9,2,    0.37,2,    3.55,2,    0.10,2,    0.31,2,   3.445,2,   1.982,2,   0.303,2,  2087.7,2,  2324.7,2,   -999.0,9,  -999.00,   7.9073,2,    25.00,-999.000,9,-999.000,9,-999.000,9, -999.00,9,  -999.0,9,  -999.0,-999.000,9,-999.000,-999.000,9, -999.00,9, -999.00,9,   39.80,-999.0000,9,-999.0000,9,-999.0000,9,-999.0000,9,-999.0000,9,-999.0000,9,  12.1366,     -999.0,9,     -999.0,9,     -999.0,9,     -999.0,9,         25,-999.000,-999.000,-999.000,     -999.0,9, -999.00,9, -999.00,9
33RO200306_01,       A16N,     025,          1,         29,         29,2,20030625,       0025,    52.9998,   -19.9998,       2677,    60.3,  11.1019,  35.3161,2,  35.3183,2,    260.6,2,   259.1,2,    1.22,2,    6.34,2,    0.25,2,    0.52,2,   3.534,2,   2.024,2,   0.310,2,  2111.4,2,  2324.8,2,    521.0,2,    20.00,   7.8775,2,    25.00,-999.000,9,-999.000,9,-999.000,9, -999.00,9,  -999.0,9,  -999.0,-999.000,9,-999.000,-999.000,9,   55.29,2,   11.23,2,   60.30,-999.0000,9,-999.0000,9,-999.0000,9,-999.0000,9,-999.0000,9,-999.0000,9,  11.0944,     -999.0,9,     -999.0,9,     -999.0,9,     -999.0,9,         25,-999.000,-999.000,-999.000,     -999.0,9, -999.00,9, -999.00,9
33RO200306_01,       A16N,     025,          1,         28,         28,2,20030625,       0025,    52.9998,   -19.9998,       2677,    79.5,  10.5354,  35.3230,2,  35.3235,2,    257.9,2,   256.8,2,    2.20,2,    8.76,2,    0.40,2,    0.62,2,-999.000,9,-999.000,9,-999.000,9,  2125.2,2,  2321.6,2,   -999.0,9,  -999.00,   7.8483,2,    25.00,-999.000,9,-999.000,9,-999.000,9, -999.00,9,  -999.0,9,  -999.0,-999.000,9,-999.000,-999.000,9, -999.00,9, -999.00,9,   79.50,-999.0000,9,-999.0000,9,-999.0000,9,-999.0000,9,-999.0000,9,-999.0000,9,  10.5259,     -999.0,9,     -999.0,9,     -999.0,9,     -999.0,9,         25,-999.000,-999.000,-999.000,     -999.0,9, -999.00,9, -999.00,9
33RO200306_01,       A16N,     025,          1,         27,         27,2,20030625,       0025,    52.9998,   -19.9998,       2677,    99.6,  10.2400,  35.3057,2,  35.3061,2,    255.2,2,   265.3,2,    3.47,2,   10.53,2,    0.03,2,    0.67,2,   3.534,2,   2.021,2,   0.296,2,  2123.3,2,  2325.2,2,    568.7,2,    20.00,   7.8190,2,    25.00,-999.000,9,-999.000,9,-999.000,9, -999.00,9,  -999.0,9,  -999.0,-999.000,9,-999.000,-999.000,9,   52.44,2,   14.14,2,   99.60,-999.0000,9,-999.0000,9,-999.0000,9,-999.0000,9,-999.0000,9,-999.0000,9,  10.2283,     -999.0,9,     -999.0,9,     -999.0,9,     -999.0,9,         25,-999.000,-999.000,-999.000,     -999.0,9, -999.00,9, -999.00,9
33RO200306_01,       A16N,     025,          1,         26,         26,2,20030625,       0025,    52.9998,   -19.9998,       2677,   124.5,  10.0114,  35.2803,2,  35.2802,2,    256.3,2,   258.7,2,    4.44,2,   11.14,2,    0.01,2,    0.71,2,-999.000,9,-999.000,9,-999.000,9,  2128.7,6,  2324.0,2,   -999.0,9,  -999.00,   7.8322,2,    25.00,-999.000,9,-999.000,9,-999.000,9, -999.00,9,  -999.0,9,  -999.0,-999.000,9,-999.000,-999.000,9, -999.00,9, -999.00,9,  124.50,-999.0000,9,-999.0000,9,-999.0000,9,-999.0000,9,-999.0000,9,-999.0000,9,   9.9969,     -999.0,9,     -999.0,9,     -999.0,9,     -999.0,9,         25,-999.000,-999.000,-999.000,     -999.0,9, -999.00,9, -999.00,9
33RO200306_01,       A16N,     025,          1,         25,         25,2,20030625,       0025,    52.9998,   -19.9998,       2677,   149.4,   9.8893,  35.2669,2,  35.2683,2,    255.5,2,  -999.0,1,    4.97,2,   11.54,2,    0.01,2,    0.74,2,   3.465,2,   1.968,2,   0.283,2,  2132.4,2,  2322.5,2,    651.1,3,    20.00,   7.8159,2,    25.00,-999.000,9,-999.000,9,-999.000,9, -999.00,9,  -999.0,9,  -999.0,-999.000,9,-999.000,-999.000,9,   52.12,2,   15.39,2,  149.40,-999.0000,9,-999.0000,9,-999.0000,9,-999.0000,9,-999.0000,9,-999.0000,9,   9.8721,     -999.0,9,     -999.0,9,     -999.0,9,     -999.0,9,         25,-999.000,-999.000,-999.000,     -999.0,9, -999.00,9, -999.00,9
33RO200306_01,       A16N,     025,          1,         24,         24,2,20030625,       0025,    52.9998,   -19.9998,       2677,   175.5,   9.8393,  35.2670,2,  35.2677,2,    253.1,2,   253.4,2,    5.32,2,   11.90,2,    0.01,2,    0.76,2,-999.000,9,-999.000,9,-999.000,9,  2134.0,2,  2323.3,2,   -999.0,9,  -999.00,   7.8218,2,    25.00,-999.000,9,-999.000,9,-999.000,9, -999.00,9,  -999.0,9,  -999.0,-999.000,9,-999.000,-999.000,9, -999.00,9, -999.00,9,  175.50,-999.0000,9,-999.0000,9,-999.0000,9,-999.0000,9,-999.0000,9,-999.0000,9,   9.8191,     -999.0,9,     -999.0,9,     -999.0,9,     -999.0,9,         25,-999.000,-999.000,-999.000,     -999.0,9, -999.00,9, -999.00,9
33RO200306_01,       A16N,     025,          1,         23,         23,2,20030625,       0025,    52.9998,   -19.9998,       2677,   200.3,   9.7027,  35.2507,2,  35.2514,2,    251.3,2,   252.3,2,    5.61,2,   12.27,2,    0.01,2,    0.78,2,   3.448,2,   1.957,2,   0.271,2,  2139.3,2,  2321.8,2,    608.6,2,    20.00,   7.8132,2,    25.00,-999.000,9,-999.000,9,-999.000,9, -999.00,9,  -999.0,9,  -999.0,-999.000,9,-999.000,-999.000,9,   51.71,2,   16.44,2,  200.30,-999.0000,9,-999.0000,9,-999.0000,9,-999.0000,9,-999.0000,9,-999.0000,9,   9.6798,     -999.0,9,     -999.0,9,     -999.0,9,     -999.0,9,         25,-999.000,-999.000,-999.000,     -999.0,9, -999.00,9, -999.00,9
33RO200306_01,       A16N,     025,          1,         22,         22,2,20030625,       0025,    52.9998,   -19.9998,       2677,   250.8,   9.5244,  35.2391,2,  35.2379,2,    248.4,2,   248.3,2,    6.07,2,   13.02,2,    0.01,2,    0.82,2,   3.373,2,   1.905,2,   0.258,2,  2138.0,2,  2315.1,2,    632.4,2,    20.00,   7.8031,2,    25.00,-999.000,9,-999.000,9,-999.000,9, -999.00,9,  -999.0,9,  -999.0,-999.000,9,-999.000,-999.000,9,   49.68,2,   16.25,2,  250.80,-999.0000,9,-999.0000,9,-999.0000,9,-999.0000,9,-999.0000,9,-999.0000,9,   9.4960,     -999.0,9,     -999.0,9,     -999.0,9,     -999.0,9,         25,-999.000,-999.000,-999.000,     -999.0,9, -999.00,9, -999.00,9
33RO200306_01,       A16N,     025,          1,         21,         21,2,20030625,       0025,    52.9998,   -19.9998,       2677,   299.6,   8.8670,  35.1287,2,  35.1259,2,    247.6,2,  -999.0,1,    6.47,2,   13.49,2,    0.01,2,    0.85,2,   3.517,2,   1.986,2,   0.283,2,  2147.6,2,  2309.5,3,    641.7,2,    20.00,   7.7908,2,    25.00,-999.000,9,-999.000,9,-999.000,9, -999.00,9,  -999.0,9,  -999.0,-999.000,9,-999.000,-999.000,9,   49.68,2,   17.53,2,  299.60,-999.0000,9,-999.0000,9,-999.0000,9,-999.0000,9,-999.0000,9,-999.0000,9,   8.8345,     -999.0,9,     -999.0,9,     -999.0,9,     -999.0,9,         25,-999.000,-999.000,-999.000,     -999.0,9, -999.00,9, -999.00,9
33RO200306_01,       A16N,     025,          1,         20,         20,2,20030625,       0025,    52.9998,   -19.9998,       2677,   349.9,   8.5995,  35.1087,2,  35.1083,2,    245.4,2,   234.6,2,    7.60,2,   15.13,2,    0.01,2,    0.95,2,-999.000,9,-999.000,9,-999.000,9,  2149.0,2,  2310.9,2,   -999.0,9,  -999.00,   7.7763,2,    25.00,-999.000,9,-999.000,9,-999.000,9, -999.00,9,  -999.0,9,  -999.0,-999.000,9,-999.000,-999.000,9,   49.19,2,   18.71,2,  349.90,-999.0000,9,-999.0000,9,-999.0000,9,-999.0000,9,-999.0000,9,-999.0000,9,   8.5621,     -999.0,9,     -999.0,9,     -999.0,9,     -999.0,9,         25,-999.000,-999.000,-999.000,     -999.0,9, -999.00,9, -999.00,9
33RO200306_01,       A16N,     025,          1,         19,         19,2,20030625,       0025,    52.9998,   -19.9998,       2677,   399.1,   8.1286,  35.0514,2,  35.0538,2,    228.2,2,   230.8,2,    8.40,2,   15.99,2,    0.01,2,    1.01,2,   3.164,2,   1.740,2,   0.229,2,  2153.7,2,  2308.2,2,    714.7,2,    20.00,   7.7545,2,    25.00,-999.000,9,-999.000,9,-999.000,9, -999.00,9,  -999.0,9,  -999.0,-999.000,9,-999.000,-999.000,9,   49.02,2,   19.42,2,  399.10,-999.0000,9,-999.0000,9,-999.0000,9,-999.0000,9,-999.0000,9,-999.0000,9,   8.0873,     -999.0,9,     -999.0,9,     -999.0,9,     -999.0,9,         25,-999.000,-999.000,-999.000,     -999.0,9, -999.00,9, -999.00,9
33RO200306_01,       A16N,     025,          1,         18,         18,2,20030625,       0025,    52.9998,   -19.9998,       2677,   449.7,   8.0314,  35.1009,2,  35.0980,2,    212.7,2,   210.8,2,    9.65,2,   17.59,2,    0.00,2,    1.11,2,   2.745,2,   1.489,2,   0.169,2,  2176.9,3,  2309.9,2,   -999.0,9,  -999.00,   7.7320,2,    25.00,-999.000,9,-999.000,9,-999.000,9, -999.00,9,  -999.0,9,  -999.0,-999.000,9,-999.000,-999.000,9,   50.41,2,   20.64,2,  449.70,-999.0000,9,-999.0000,9,-999.0000,9,-999.0000,9,-999.0000,9,-999.0000,9,   7.9850,     -999.0,9,     -999.0,9,     -999.0,9,     -999.0,9,         25,-999.000,-999.000,-999.000,     -999.0,9, -999.00,9, -999.00,9
33RO200306_01,       A16N,     025,          1,         17,         17,2,20030625,       0025,    52.9998,   -19.9998,       2677,   500.4,   8.0499,  35.1757,2,  35.1787,2,    197.2,2,   196.7,2,   10.50,2,   18.56,2,    0.00,2,    1.16,2,-999.000,9,-999.000,9,-999.000,9,  2187.2,3,  2320.1,2,    771.0,2,    20.00,   7.7205,2,    25.00,-999.000,9,-999.000,9,-999.000,9, -999.00,9,  -999.0,9,  -999.0,-999.000,9,-999.000,-999.000,9,   49.27,2,   21.98,2,  500.40,-999.0000,9,-999.0000,9,-999.0000,9,-999.0000,9,-999.0000,9,-999.0000,9,   7.9979,     -999.0,9,     -999.0,9,     -999.0,9,     -999.0,9,         25,-999.000,-999.000,-999.000,     -999.0,9, -999.00,9, -999.00,9
33RO200306_01,       A16N,     025,          1,         16,         16,2,20030625,       0025,    52.9998,   -19.9998,       2677,   599.7,   7.4516,  35.1885,2,  35.1888,2,    198.3,2,   200.3,2,   11.03,2,   18.78,2,    0.00,2,    1.17,2,   2.260,2,   1.176,2,   0.109,2,  2192.7,4,  2322.0,2,    743.9,3,    20.00,   7.7169,2,    25.00,-999.000,9,-999.000,9,-999.000,9, -999.00,9,  -999.0,9,  -999.0,-999.000,9,-999.000,-999.000,9,   47.88,2,   22.58,2,  599.70,-999.0000,9,-999.0000,9,-999.0000,9,-999.0000,9,-999.0000,9,-999.0000,9,   7.3916,     -999.0,9,     -999.0,9,     -999.0,9,     -999.0,9,         25,-999.000,-999.000,-999.000,     -999.0,9, -999.00,9, -999.00,9
33RO200306_01,       A16N,     025,          1,         15,         15,2,20030625,       0025,    52.9998,   -19.9998,       2677,   700.3,   6.4387,  35.1087,2,  35.1075,2,    212.6,2,   213.6,2,   11.29,2,   18.73,2,    0.00,2,    1.18,2,-999.000,9,-999.000,9,-999.000,9,  2190.1,3,  2319.6,2,    795.9,2,    20.00,   7.7079,2,    25.00,-999.000,9,-999.000,9,-999.000,9, -999.00,9,  -999.0,9,  -999.0,-999.000,9,-999.000,-999.000,9,   47.32,2,   21.77,2,  700.30,-999.0000,9,-999.0000,9,-999.0000,9,-999.0000,9,-999.0000,9,-999.0000,9,   6.3735,     -999.0,9,     -999.0,9,     -999.0,9,     -999.0,9,         25,-999.000,-999.000,-999.000,     -999.0,9, -999.00,9, -999.00,9
33RO200306_01,       A16N,     025,          1,         14,         14,2,20030625,       0025,    52.9998,   -19.9998,       2677,   800.4,   6.0617,  35.1416,2,  35.1412,2,    225.1,2,   221.6,2,   11.39,2,   18.50,2,    0.00,2,    1.15,2,   2.395,2,   1.217,2,   0.130,2,  2195.5,3,  2321.0,2,    788.3,2,    20.00,   7.7127,2,    25.00,-999.000,9,-999.000,9,-999.000,9, -999.00,9,  -999.0,9,  -999.0,-999.000,9,-999.000,-999.000,9,   45.44,2,   21.59,2,  800.40,-999.0000,9,-999.0000,9,-999.0000,9,-999.0000,9,-999.0000,9,-999.0000,9,   5.9889,     -999.0,9,     -999.0,9,     -999.0,9,     -999.0,9,         25,-999.000,-999.000,-999.000,     -999.0,9, -999.00,9, -999.00,9
33RO200306_01,       A16N,     025,          1,         13,         13,2,20030625,       0025,    52.9998,   -19.9998,       2677,   900.0,   5.6841,  35.1283,2,  35.1227,2,    227.2,2,   229.8,2,   11.56,2,   18.32,2,    0.00,2,    1.14,2,   2.382,2,   1.204,2,   0.129,2,  2174.1,2,  2319.7,2,    779.3,2,    20.00,   7.7221,2,    25.00,-999.000,9,-999.000,9,-999.000,9, -999.00,9,  -999.0,9,  -999.0,-999.000,9,-999.000,-999.000,9,   46.75,2,   21.91,2,  900.00,-999.0000,9,-999.0000,9,-999.0000,9,-999.0000,9,-999.0000,9,-999.0000,9,   5.6042,     -999.0,9,     -999.0,9,     -999.0,9,     -999.0,9,         25,-999.000,-999.000,-999.000,     -999.0,9, -999.00,9, -999.00,9
33RO200306_01,       A16N,     025,          1,         12,         12,2,20030625,       0025,    52.9998,   -19.9998,       2677,   999.7,   5.4027,  35.1099,2,  35.1065,2,    234.4,2,   234.7,2,   11.77,2,   18.28,2,    0.00,2,    1.14,2,-999.000,9,-999.000,9,-999.000,9,  2173.4,2,  2317.9,2,    742.2,3,    20.00,   7.7193,2,    25.00,-999.000,9,-999.000,9,-999.000,9, -999.00,9,  -999.0,9,  -999.0,-999.000,9,-999.000,-999.000,9,   45.29,2,   21.71,2,  999.70,-999.0000,9,-999.0000,9,-999.0000,9,-999.0000,9,-999.0000,9,-999.0000,9,   5.3154,     -999.0,9,     -999.0,9,     -999.0,9,     -999.0,9,         25,-999.000,-999.000,-999.000,     -999.0,9, -999.00,9, -999.00,9
33RO200306_01,       A16N,     025,          1,         11,         11,2,20030625,       0025,    52.9998,   -19.9998,       2677,  1099.6,   4.8732,  35.0478,2,  35.0473,2,    245.7,2,   243.8,2,   11.80,2,   18.10,2,    0.00,2,    1.13,2,   2.409,2,   1.203,2,   0.132,2,  2169.1,2,  2314.8,2,    777.8,2,    20.00,   7.7211,2,    25.00,-999.000,9,-999.000,9,-999.000,9, -999.00,9,  -999.0,9,  -999.0,-999.000,9,-999.000,-999.000,9,   45.85,2,   21.98,2, 1099.60,-999.0000,9,-999.0000,9,-999.0000,9,-999.0000,9,-999.0000,9,-999.0000,9,   4.7809,     -999.0,9,     -999.0,9,     -999.0,9,     -999.0,9,         25,-999.000,-999.000,-999.000,     -999.0,9, -999.00,9, -999.00,9
33RO200306_01,       A16N,     025,          1,         10,         10,2,20030625,       0025,    52.9998,   -19.9998,       2677,  1199.5,   4.2838,  34.9764,2,  34.9754,2,    257.2,2,   255.4,2,   11.62,2,   17.81,2,    0.00,2,    1.12,2,   2.637,2,   1.320,2,   0.153,2,  2164.3,2,  2310.6,2,   -999.0,9,  -999.00,-999.0000,9,  -999.00,-999.000,9,-999.000,9,-999.000,9, -999.00,9,  -999.0,9,  -999.0,-999.000,9,-999.000,-999.000,9,   46.18,2,   21.25,2, 1199.50,-999.0000,9,-999.0000,9,-999.0000,9,-999.0000,9,-999.0000,9,-999.0000,9,   4.1877,     -999.0,9,     -999.0,9,     -999.0,9,     -999.0,9,         25,-999.000,-999.000,-999.000,     -999.0,9, -999.00,9, -999.00,9
33RO200306_01,       A16N,     025,          1,          9,          9,2,20030625,       0025,    52.9998,   -19.9998,       2677,  1300.2,   4.0070,  34.9495,2,  34.9503,2,    262.5,2,   262.6,2,   11.61,2,   17.70,2,    0.00,2,    1.12,2,   2.639,2,   1.305,2,   0.152,2,  2161.5,2,  2302.5,2,    777.5,2,    20.00,   7.7134,2,    25.00,-999.000,9,-999.000,9,-999.000,9, -999.00,9,  -999.0,9,  -999.0,-999.000,9,-999.000,-999.000,9,   46.51,2,   21.25,2, 1300.20,-999.0000,9,-999.0000,9,-999.0000,9,-999.0000,9,-999.0000,9,-999.0000,9,   3.9047,     -999.0,9,     -999.0,9,     -999.0,9,     -999.0,9,         25,-999.000,-999.000,-999.000,     -999.0,9, -999.00,9, -999.00,9
33RO200306_01,       A16N,     025,          1,          8,          8,2,20030625,       0025,    52.9998,   -19.9998,       2677,  1399.5,   3.8007,  34.9307,2,  34.9296,2,    266.8,2,   266.6,2,   11.67,2,   17.54,2,    0.00,2,    1.11,2,-999.000,9,-999.000,9,-999.000,9,  2170.1,3,  2301.6,2,   -999.0,9,  -999.00,   7.7197,2,    25.00,-999.000,9,-999.000,9,-999.000,9, -999.00,9,  -999.0,9,  -999.0,-999.000,9,-999.000,-999.000,9,   46.73,2,   21.46,2, 1399.50,-999.0000,9,-999.0000,9,-999.0000,9,-999.0000,9,-999.0000,9,-999.0000,9,   3.6918,     -999.0,9,     -999.0,9,     -999.0,9,     -999.0,9,         25,-999.000,-999.000,-999.000,     -999.0,9, -999.00,9, -999.00,9
33RO200306_01,       A16N,     025,          1,          7,          7,2,20030625,       0025,    52.9998,   -19.9998,       2677,  1500.5,   3.6252,  34.9143,2,  34.9143,2,    271.8,2,   279.4,2,   11.66,2,   17.40,2,    0.00,2,    1.11,2,   2.686,2,   1.315,2,   0.153,2,  2156.3,2,  2300.7,2,    770.8,2,    20.00,   7.7253,2,    25.00,-999.000,9,-999.000,9,-999.000,9, -999.00,9,  -999.0,9,  -999.0,-999.000,9,-999.000,-999.000,9,   46.63,2,   22.45,2, 1500.50,-999.0000,9,-999.0000,9,-999.0000,9,-999.0000,9,-999.0000,9,-999.0000,9,   3.5093,     -999.0,9,     -999.0,9,     -999.0,9,     -999.0,9,         25,-999.000,-999.000,-999.000,     -999.0,9, -999.00,9, -999.00,9
33RO200306_01,       A16N,     025,          1,          6,          6,9,20030625,       0025,    52.9998,   -19.9998,       2677,  1700.4,   3.4076,  34.9050,2,-999.0000,9,    276.3,2,  -999.0,9, -999.00,9, -999.00,9, -999.00,9, -999.00,9,-999.000,9,-999.000,9,-999.000,9,  -999.0,9,  -999.0,9,    770.8,6,    20.00,-999.0000,9,  -999.00,-999.000,9,-999.000,9,-999.000,9, -999.00,9,  -999.0,9,  -999.0,-999.000,9,-999.000,-999.000,9, -999.00,9, -999.00,9, 1700.40,-999.0000,9,-999.0000,9,-999.0000,9,-999.0000,9,-999.0000,9,-999.0000,9,   3.2766,     -999.0,9,     -999.0,9,     -999.0,9,     -999.0,9,         25,-999.000,-999.000,-999.000,     -999.0,9, -999.00,9, -999.00,9