BOTTLE,20230908CCHSIOCBG
EXPOCODE,SECT_ID,STNNBR,CASTNO,SAMPNO,BTLNBR,BTLNBR_FLAG_W,DATE,TIME,LATITUDE,LONGITUDE,DEPTH,CTDPRS,CTDTMP,CTDSAL,CTDSAL_FLAG_W,SALNTY,SALNTY_FLAG_W,CTDOXY,CTDOXY_FLAG_W,OXYGEN,OXYGEN_FLAG_W,SILCAT,SILCAT_FLAG_W,NITRAT,NITRAT_FLAG_W,NITRIT,NITRIT_FLAG_W,PHSPHT,PHSPHT_FLAG_W,CFC-11,CFC-11_FLAG_W,CFC-12,CFC-12_FLAG_W,CFC113,CFC113_FLAG_W,TCARBN,TCARBN_FLAG_W,ALKALI,ALKALI_FLAG_W,FCO2,FCO2_FLAG_W,FCO2TMP,PH_SWS,PH_SWS_FLAG_W,PH_TMP,TRITUM,TRITUM_FLAG_W,HELIUM,HELIUM_FLAG_W,DELHE3,DELHE3_FLAG_W,DELC13,DELC13_FLAG_W,DELC14,DELC14_FLAG_W,C14ERR,NEON,NEON_FLAG_W,NEONER,POC,POC_FLAG_W,DOC,DOC_FLAG_W,TDN,TDN_FLAG_W,CTDRAW,CDOM325,CDOM325_FLAG_W,CDOM340,CDOM340_FLAG_W,CDOM380,CDOM380_FLAG_W,CDOM412,CDOM412_FLAG_W,CDOMSL,CDOMSL_FLAG_W,CDOMSN,CDOMSN_FLAG_W,THETA,PON,PON_FLAG_W,HCFC-22,HCFC-22_FLAG_W,HCFC-142b,HCFC-142b_FLAG_W,HCFC-141b,HCFC-141b_FLAG_W,STNNBR_U,HELIER,DELHER,TRITER,CH3CL,CH3CL_FLAG_W,CH3BR,CH3BR_FLAG_W,CH3I,CH3I_FLAG_W
,,,,,,,,,,,METERS,DBAR,ITS-90,PSS-78,,PSS-78,,UMOL/KG,,UMOL/KG,,UMOL/KG,,UMOL/KG,,UMOL/KG,,UMOL/KG,,PMOL/KG,,PMOL/KG,,PMOL/KG,,UMOL/KG,,UMOL/KG,,UATM,,DEG C,,,DEG C,TU,,NMOL/KG,,PERCNT,,/MILLE,,/MILLE,,/MILLE,NMOL/KG,,NMOL/KG,UG/KG,,UMOL/KG,,UMOL/KG,,DBAR,1/M,,1/M,,1/M,,1/M,,1/NM,,1/NM,,DEG C,UMOL/L,,PMOL/KG,,PMOL/KG,,PMOL/KG,,,NMOL/KG,PERCNT,TU,PMOL/KG,,PMOL/KG,,PMOL/KG,
33RO200306_01,       A16N,     061,          2,         35,         35,2,20030706,       0104,    34.9990,   -20.5628,       5141,     3.6,  22.9485,  36.5525,2,  36.5538,2,    214.1,2,   220.4,2,    0.30,2,    0.00,2,    0.00,2,    0.02,2,   2.130,2,   1.326,2,   0.188,2,  2085.9,6,  2390.0,6,    356.2,2,    20.00,   8.0197,6,    25.00,   1.000,2,   1.716,2,  -2.351,2, -999.00,9,  -999.0,9,  -999.0,   6.785,2,   0.043,-999.000,9,   63.49,2,    7.22,2,    3.60,-999.0000,9,-999.0000,9,-999.0000,9,-999.0000,9,-999.0000,9,-999.0000,9,  22.9478,     -999.0,9,     -999.0,9,     -999.0,9,     -999.0,9,         61,   0.003,   0.196,   0.010,     -999.0,9, -999.00,9, -999.00,9
33RO200306_01,       A16N,     061,          2,         33,         33,2,20030706,       0104,    34.9990,   -20.5628,       5141,    24.7,  21.5648,  36.4502,2,  36.4377,2,    229.0,2,  -999.0,1,    0.24,2,    0.00,2,    0.00,2,    0.02,2,   2.349,2,   1.439,2,   0.198,2,  2076.0,2,  2380.7,2,    344.6,2,    20.00,   8.0243,2,    25.00,-999.000,9,-999.000,9,-999.000,9, -999.00,9,  -999.0,9,  -999.0,-999.000,9,-999.000,-999.000,9,   64.56,2,    8.02,2,   24.70,-999.0000,9,-999.0000,9,-999.0000,9,-999.0000,9,-999.0000,9,-999.0000,9,  21.5600,     -999.0,9,     -999.0,9,     -999.0,9,     -999.0,9,         61,-999.000,-999.000,-999.000,     -999.0,9, -999.00,9, -999.00,9
33RO200306_01,       A16N,     061,          2,         32,         32,2,20030706,       0104,    34.9990,   -20.5628,       5141,    50.8,  18.2589,  36.3091,2,  36.3106,2,    255.8,2,   256.1,2,    0.26,2,    0.01,2,    0.00,2,    0.02,2,-999.000,9,-999.000,9,-999.000,9,  2073.3,2,  2374.1,2,    351.1,2,    20.00,   7.9969,2,    25.00,-999.000,9,-999.000,9,-999.000,9, -999.00,9,  -999.0,9,  -999.0,-999.000,9,-999.000,-999.000,9, -999.00,9, -999.00,9,   50.80,-999.0000,9,-999.0000,9,-999.0000,9,-999.0000,9,-999.0000,9,-999.0000,9,  18.2500,     -999.0,9,     -999.0,9,     -999.0,9,     -999.0,9,         61,-999.000,-999.000,-999.000,     -999.0,9, -999.00,9, -999.00,9
33RO200306_01,       A16N,     061,          2,         31,         31,2,20030706,       0104,    34.9990,   -20.5628,       5141,    75.9,  17.1135,  36.2884,2,  36.2890,2,    246.8,2,   242.5,2,    0.58,2,    0.05,2,    0.02,2,    0.03,2,   2.621,2,   1.580,2,   0.207,2,  2089.8,2,  2373.8,2,    380.4,2,    20.00,   7.9897,2,    25.00,   0.978,2,   1.740,2,  -2.518,2, -999.00,9,  -999.0,9,  -999.0,   7.024,2,   0.044,-999.000,9,   59.43,2,    6.39,2,   75.90,-999.0000,9,-999.0000,9,-999.0000,9,-999.0000,9,-999.0000,9,-999.0000,9,  17.1008,     -999.0,9,     -999.0,9,     -999.0,9,     -999.0,9,         61,   0.003,   0.196,   0.020,     -999.0,9, -999.00,9, -999.00,9
33RO200306_01,       A16N,     061,          2,         30,         30,2,20030706,       0104,    34.9990,   -20.5628,       5141,   100.7,  16.5638,  36.2452,2,  36.2413,2,    229.9,2,   229.4,2,    1.11,2,    2.50,2,    0.09,2,    0.16,2,   2.668,2,   1.605,2,   0.196,2,  2102.2,2,  2369.3,2,    409.8,6,    20.00,   7.9642,2,    25.00,-999.000,9,-999.000,9,-999.000,9, -999.00,9,  -999.0,9,  -999.0,-999.000,9,-999.000,-999.000,9, -999.00,9, -999.00,9,  100.70,-999.0000,9,-999.0000,9,-999.0000,9,-999.0000,9,-999.0000,9,-999.0000,9,  16.5474,     -999.0,9,     -999.0,9,     -999.0,9,     -999.0,9,         61,-999.000,-999.000,-999.000,     -999.0,9, -999.00,9, -999.00,9
33RO200306_01,       A16N,     061,          2,         29,         29,2,20030706,       0104,    34.9990,   -20.5628,       5141,   125.4,  16.2314,  36.2051,2,  36.2004,2,    224.9,2,   225.0,2,    1.38,2,    3.73,2,    0.02,2,    0.22,2,   2.673,2,   1.594,2,   0.181,2,  2105.0,2,  2366.3,2,   -999.0,9,  -999.00,   7.9525,2,    25.00,-999.000,9,   1.731,2,  -1.958,2, -999.00,9,  -999.0,9,  -999.0,   6.921,2,   0.044,-999.000,9,   51.63,2,    8.75,2,  125.40,-999.0000,9,-999.0000,9,-999.0000,9,-999.0000,9,-999.0000,9,-999.0000,9,  16.2112,     -999.0,9,     -999.0,9,     -999.0,9,     -999.0,9,         61,   0.003,   0.195,-999.000,     -999.0,9, -999.00,9, -999.00,9
33RO200306_01,       A16N,     061,          2,         28,         28,2,20030706,       0104,    34.9990,   -20.5628,       5141,   150.3,  15.7692,  36.1431,2,  36.1364,2,    221.4,2,   222.1,2,    1.69,2,    5.04,2,    0.01,2,    0.29,2,-999.000,9,-999.000,9,-999.000,9,  2110.5,2,  2362.3,2,    445.3,2,    20.00,   7.9368,2,    25.00,-999.000,9,-999.000,9,-999.000,9, -999.00,9,  -999.0,9,  -999.0,-999.000,9,-999.000,-999.000,9, -999.00,9, -999.00,9,  150.30,-999.0000,9,-999.0000,9,-999.0000,9,-999.0000,9,-999.0000,9,-999.0000,9,  15.7455,     -999.0,9,     -999.0,9,     -999.0,9,     -999.0,9,         61,-999.000,-999.000,-999.000,     -999.0,9, -999.00,9, -999.00,9
33RO200306_01,       A16N,     061,          2,         27,         27,2,20030706,       0104,    34.9990,   -20.5628,       5141,   174.8,  15.4646,  36.0989,2,  36.0963,2,    217.0,2,   221.8,2,    1.86,2,    5.61,2,    0.01,2,    0.33,2,   2.758,2,   1.654,2,   0.149,2,  2111.5,2,  2359.4,2,   -999.0,9,  -999.00,   7.9279,2,    25.00,-999.000,9,   1.780,2,  -1.717,2, -999.00,9,  -999.0,9,  -999.0,   7.260,2,   0.064,-999.000,9,   51.71,2,   11.02,2,  174.80,-999.0000,9,-999.0000,9,-999.0000,9,-999.0000,9,-999.0000,9,-999.0000,9,  15.4374,     -999.0,9,     -999.0,9,     -999.0,9,     -999.0,9,         61,   0.003,   0.187,-999.000,     -999.0,9, -999.00,9, -999.00,9
33RO200306_01,       A16N,     061,          2,         26,         26,2,20030706,       0104,    34.9990,   -20.5628,       5141,   200.7,  15.1136,  36.0610,2,  36.0551,2,    215.3,2,   216.3,2,    2.34,2,    7.04,2,    0.01,2,    0.41,2,   2.725,2,   1.608,2,   0.109,2,  2117.5,2,  2357.2,2,    470.3,2,    20.00,   7.9090,2,    25.00,-999.000,9,-999.000,9,-999.000,9, -999.00,9,  -999.0,9,  -999.0,-999.000,9,-999.000,-999.000,9,   51.79,2,   12.35,2,  200.70,-999.0000,9,-999.0000,9,-999.0000,9,-999.0000,9,-999.0000,9,-999.0000,9,  15.0828,     -999.0,9,     -999.0,9,     -999.0,9,     -999.0,9,         61,-999.000,-999.000,-999.000,     -999.0,9, -999.00,9, -999.00,9
33RO200306_01,       A16N,     061,          2,         25,         25,2,20030706,       0104,    34.9990,   -20.5628,       5141,   251.3,  14.5619,  35.9792,2,  35.9767,2,    215.0,2,   216.1,2,    2.67,2,    7.89,2,    0.01,2,    0.46,2,-999.000,9,-999.000,9,-999.000,9,  2121.9,2,  2353.0,2,   -999.0,9,  -999.00,   7.8972,2,    25.00,   1.041,2,-999.000,9,-999.000,9, -999.00,9,  -999.0,9,  -999.0,-999.000,9,-999.000,-999.000,9,   48.90,2,   12.96,2,  251.30,-999.0000,9,-999.0000,9,-999.0000,9,-999.0000,9,-999.0000,9,-999.0000,9,  14.5242,     -999.0,9,     -999.0,9,     -999.0,9,     -999.0,9,         61,-999.000,-999.000,   0.030,     -999.0,9, -999.00,9, -999.00,9
33RO200306_01,       A16N,     061,          2,         24,         24,2,20030706,       0104,    34.9990,   -20.5628,       5141,   291.6,  14.0648,  35.9004,2,  35.8941,2,    210.9,2,   209.7,2,    3.28,2,    9.31,2,    0.00,2,    0.55,2,   2.750,2,   1.587,2,   0.079,2,  2126.7,2,  2350.0,2,    524.0,2,    20.00,   7.8713,2,    25.00,-999.000,9,-999.000,9,-999.000,9, -999.00,9,  -999.0,9,  -999.0,-999.000,9,-999.000,-999.000,9,   48.86,2,   15.22,2,  291.60,-999.0000,9,-999.0000,9,-999.0000,9,-999.0000,9,-999.0000,9,-999.0000,9,  14.0221,     -999.0,9,     -999.0,9,     -999.0,9,     -999.0,9,         61,-999.000,-999.000,-999.000,     -999.0,9, -999.00,9, -999.00,9
33RO200306_01,       A16N,     061,          2,         23,         23,2,20030706,       0104,    34.9990,   -20.5628,       5141,   350.3,  13.5098,  35.8159,2,  35.8140,2,    209.5,2,   209.8,2,    3.32,2,   10.37,2,    0.00,2,    0.62,2,   2.714,2,   1.559,2,   0.079,2,  2131.8,2,  2341.7,2,   -999.0,9,  -999.00,   7.8574,2,    25.00,   1.052,2,-999.000,9,-999.000,9, -999.00,9,  -999.0,9,  -999.0,-999.000,9,-999.000,-999.000,9,   48.78,2,   14.93,2,  350.30,-999.0000,9,-999.0000,9,-999.0000,9,-999.0000,9,-999.0000,9,-999.0000,9,  13.4597,     -999.0,9,     -999.0,9,     -999.0,9,     -999.0,9,         61,-999.000,-999.000,   0.030,     -999.0,9, -999.00,9, -999.00,9
33RO200306_01,       A16N,     061,          2,         22,         22,2,20030706,       0104,    34.9990,   -20.5628,       5141,   393.7,  13.0720,  35.7534,2,  35.7513,2,    207.9,2,   206.9,2,    4.24,2,   11.18,2,    0.00,2,    0.67,2,   2.725,2,   1.542,2,   0.077,2,  2135.3,2,  2341.6,2,    556.2,2,    20.00,   7.8480,2,    25.00,-999.000,9,-999.000,9,-999.000,9, -999.00,9,  -999.0,9,  -999.0,-999.000,9,-999.000,-999.000,9,   48.37,2,   16.04,2,  393.70,-999.0000,9,-999.0000,9,-999.0000,9,-999.0000,9,-999.0000,9,-999.0000,9,  13.0169,     -999.0,9,     -999.0,9,     -999.0,9,     -999.0,9,         61,-999.000,-999.000,-999.000,     -999.0,9, -999.00,9, -999.00,9
33RO200306_01,       A16N,     061,          2,         21,         21,2,20030706,       0104,    34.9990,   -20.5628,       5141,   496.8,  11.9615,  35.6064,2,  35.6053,2,    200.5,2,   198.9,2,    5.70,2,   13.80,2,    0.00,2,    0.83,2,   2.581,2,   1.430,2,   0.075,2,  2147.4,2,  2334.5,2,    620.7,2,    20.00,   7.8123,2,    25.00,   1.016,2,   1.786,2,   2.489,2, -999.00,9,  -999.0,9,  -999.0,   7.391,2,   0.055,-999.000,9,   46.75,2,   19.12,2,  496.80,-999.0000,9,-999.0000,9,-999.0000,9,-999.0000,9,-999.0000,9,-999.0000,9,  11.8956,     -999.0,9,     -999.0,9,     -999.0,9,     -999.0,9,         61,   0.004,   0.193,   0.020,     -999.0,9, -999.00,9, -999.00,9
33RO200306_01,       A16N,     061,          2,         20,         20,2,20030706,       0104,    34.9990,   -20.5628,       5141,   600.9,  11.0000,  35.5140,2,  35.5169,2,    195.3,2,   194.8,2,    6.77,2,   15.53,2,    0.00,2,    0.94,2,   2.487,2,   1.348,2,   0.071,2,  2158.6,2,  2330.3,2,    662.7,2,    20.00,   7.7794,2,    25.00,   0.938,2,   1.802,2,   3.415,2, -999.00,9,  -999.0,9,  -999.0,   7.525,2,   0.057,-999.000,9,   46.08,2,   20.06,2,  600.90,-999.0000,9,-999.0000,9,-999.0000,9,-999.0000,9,-999.0000,9,-999.0000,9,  10.9241,     -999.0,9,     -999.0,9,     -999.0,9,     -999.0,9,         61,   0.004,   0.192,   0.020,     -999.0,9, -999.00,9, -999.00,9
33RO200306_01,       A16N,     061,          2,         19,         19,2,20030706,       0104,    34.9990,   -20.5628,       5141,   688.2,  10.4151,  35.5092,2,  35.5097,2,    187.2,2,   186.7,2,    8.22,2,   17.10,2,    0.00,2,    1.04,2,   2.056,2,   1.087,2,   0.051,2,  2168.0,2,  2332.8,2,   -999.0,9,  -999.00,   7.7591,2,    25.00,   0.904,2,-999.000,9,-999.000,9, -999.00,9,  -999.0,9,  -999.0,-999.000,9,-999.000,-999.000,9,   44.56,2,   21.79,2,  688.20,-999.0000,9,-999.0000,9,-999.0000,9,-999.0000,9,-999.0000,9,-999.0000,9,  10.3307,     -999.0,9,     -999.0,9,     -999.0,9,     -999.0,9,         61,-999.000,-999.000,   0.010,     -999.0,9, -999.00,9, -999.00,9
33RO200306_01,       A16N,     061,          2,         18,         18,2,20030706,       0104,    34.9990,   -20.5628,       5141,   798.9,   9.8214,  35.5602,2,  35.5593,2,    184.6,2,   185.2,2,    9.43,2,   17.69,2,    0.00,2,    1.09,2,   1.798,2,   1.055,2,   0.065,2,  2179.3,2,  2339.3,2,    716.2,2,    20.00,   7.7540,2,    25.00,   0.850,2,   1.798,2,   7.340,2, -999.00,9,  -999.0,9,  -999.0,   7.544,2,   0.027,-999.000,9,   44.07,2,   22.24,2,  798.90,-999.0000,9,-999.0000,9,-999.0000,9,-999.0000,9,-999.0000,9,-999.0000,9,   9.7263,     -999.0,9,     -999.0,9,     -999.0,9,     -999.0,9,         61,   0.002,   0.242,   0.010,     -999.0,9, -999.00,9, -999.00,9
33RO200306_01,       A16N,     061,          2,         17,         17,2,20030706,       0104,    34.9990,   -20.5628,       5141,   991.8,   8.8551,  35.5888,2,  35.5898,2,    191.5,2,   191.4,2,   10.71,2,   18.04,2,    0.00,2,    1.12,2,   1.369,2,   0.706,2,   0.031,2,  2185.1,6,  2345.8,2,    725.1,2,    20.00,   7.7510,2,    25.00,   0.689,2,   1.794,2,   8.838,2, -999.00,9,  -999.0,9,  -999.0,   7.577,2,   0.027,-999.000,9,   44.63,2,   23.58,2,  991.80,-999.0000,9,-999.0000,9,-999.0000,9,-999.0000,9,-999.0000,9,-999.0000,9,   8.7427,     -999.0,9,     -999.0,9,     -999.0,9,     -999.0,9,         61,   0.002,   0.242,   0.060,     -999.0,9, -999.00,9, -999.00,9
33RO200306_01,       A16N,     061,          2,         16,         16,2,20030706,       0104,    34.9990,   -20.5628,       5141,  1141.2,   7.8011,  35.5151,2,  35.5155,2,    206.1,2,   205.4,2,   11.31,2,   17.95,2,    0.00,2,    1.12,2,   1.361,6,   0.693,6,   0.040,6,  2185.2,2,  2341.9,2,   -999.0,9,  -999.00,   7.7474,2,    25.00,   0.743,2,   1.804,2,   8.487,2, -999.00,9,  -999.0,9,  -999.0,   6.802,4,   0.007,-999.000,9,   43.04,2,   24.03,2, 1141.20,-999.0000,9,-999.0000,9,-999.0000,9,-999.0000,9,-999.0000,9,-999.0000,9,   7.6795,     -999.0,9,     -999.0,9,     -999.0,9,     -999.0,9,         61,   0.009,   0.274,   0.010,     -999.0,9, -999.00,9, -999.00,9
33RO200306_01,       A16N,     061,          2,         15,         15,2,20030706,       0104,    34.9990,   -20.5628,       5141,  1300.5,   6.4487,  35.3347,2,  35.3368,2,    224.5,2,   224.1,2,   11.77,2,   18.02,2,    0.00,2,    1.14,2,   1.498,2,   0.749,2,   0.052,2,  2176.5,2,  2329.6,2,    740.5,6,    20.00,   7.7370,2,    25.00,   0.980,2,-999.000,9,-999.000,9, -999.00,9,  -999.0,9,  -999.0,-999.000,9,-999.000,-999.000,9,   44.15,2,   25.22,2, 1300.50,-999.0000,9,-999.0000,9,-999.0000,9,-999.0000,9,-999.0000,9,-999.0000,9,   6.3219,     -999.0,9,     -999.0,9,     -999.0,9,     -999.0,9,         61,-999.000,-999.000,   0.010,     -999.0,9, -999.00,9, -999.00,9
33RO200306_01,       A16N,     061,          2,         14,         14,2,20030706,       0104,    34.9990,   -20.5628,       5141,  1567.6,   4.6337,  35.0853,2,  35.0859,2,    250.9,2,   252.2,2,   12.07,2,   17.75,2,    0.00,2,    1.14,2,   1.706,2,   0.842,2,   0.075,2,  2164.0,2,  2313.2,2,   -999.0,9,  -999.00,   7.7301,2,    25.00,   0.947,2,   1.802,2,   8.700,2, -999.00,9,  -999.0,9,  -999.0,   7.838,2,   0.027,-999.000,9,   43.66,2,   22.87,2, 1567.60,-999.0000,9,-999.0000,9,-999.0000,9,-999.0000,9,-999.0000,9,-999.0000,9,   4.4996,     -999.0,9,     -999.0,9,     -999.0,9,     -999.0,9,         61,   0.007,   0.153,   0.010,     -999.0,9, -999.00,9, -999.00,9
33RO200306_01,       A16N,     061,          2,         13,         13,2,20030706,       0104,    34.9990,   -20.5628,       5141,  1797.3,   4.1431,  35.0389,2,  35.0402,2,    258.9,2,   258.8,2,   13.10,2,   17.70,2,    0.00,2,    1.14,2,   1.377,2,   0.682,2,   0.056,2,  2157.7,2,  2310.7,2,    747.2,2,    20.00,   7.7347,2,    25.00,   0.882,2,   1.813,2,   7.832,2, -999.00,9,  -999.0,9,  -999.0,   7.859,2,   0.059,-999.000,9,   44.39,2,   22.54,2, 1797.30,-999.0000,9,-999.0000,9,-999.0000,9,-999.0000,9,-999.0000,9,-999.0000,9,   3.9931,     -999.0,9,     -999.0,9,     -999.0,9,     -999.0,9,         61,   0.004,   0.191,   0.010,     -999.0,9, -999.00,9, -999.00,9
33RO200306_01,       A16N,     061,          2,         12,         12,2,20030706,       0104,    34.9990,   -20.5628,       5141,  2189.5,   3.5042,  34.9861,2,  34.9885,2,    260.8,2,   259.9,2,   17.73,2,   18.11,2,    0.00,2,    1.19,2,   0.706,2,   0.358,2,   0.029,2,  2162.8,2,  2312.8,2,   -999.0,9,  -999.00,   7.7418,2,    25.00,   0.450,2,   1.859,2,   4.292,2, -999.00,9,  -999.0,9,  -999.0,   7.964,2,   0.060,-999.000,9,   43.09,2,   23.08,2, 2189.50,-999.0000,9,-999.0000,9,-999.0000,9,-999.0000,9,-999.0000,9,-999.0000,9,   3.3258,     -999.0,9,     -999.0,9,     -999.0,9,     -999.0,9,         61,   0.004,   0.191,   0.020,     -999.0,9, -999.00,9, -999.00,9
33RO200306_01,       A16N,     061,          2,         11,         11,2,20030706,       0104,    34.9990,   -20.5628,       5141,  2499.7,   3.1297,  34.9649,2,  34.9658,2,    255.8,2,   256.6,2,   23.49,2,   18.89,2,    0.00,2,    1.24,2,   0.365,2,   0.191,2,   0.012,2,  2171.4,2,  2319.7,2,   -999.0,9,  -999.00,   7.7324,2,    25.00,-999.000,9,   1.847,2,   3.982,2, -999.00,9,  -999.0,9,  -999.0,   7.914,2,   0.059,-999.000,9,   42.12,2,   22.88,2, 2499.70,-999.0000,9,-999.0000,9,-999.0000,9,-999.0000,9,-999.0000,9,-999.0000,9,   2.9273,     -999.0,9,     -999.0,9,     -999.0,9,     -999.0,9,         61,   0.004,   0.191,-999.000,     -999.0,9, -999.00,9, -999.00,9
33RO200306_01,       A16N,     061,          2,         10,         10,2,20030706,       0104,    34.9990,   -20.5628,       5141,  2784.5,   2.9036,  34.9510,2,  34.9521,2,    252.2,2,   252.6,2,   28.58,2,   19.67,2,    0.00,2,    1.30,2,   0.224,2,   0.119,2,   0.008,2,  2178.4,2,  2325.7,2,    748.7,2,    20.00,   7.7337,2,    25.00,   0.231,2,   1.834,2,   3.263,2, -999.00,9,  -999.0,9,  -999.0,   7.909,2,   0.044,-999.000,9,   42.96,2,   23.30,2, 2784.50,-999.0000,9,-999.0000,9,-999.0000,9,-999.0000,9,-999.0000,9,-999.0000,9,   2.6770,     -999.0,9,     -999.0,9,     -999.0,9,     -999.0,9,         61,   0.003,   0.154,   0.010,     -999.0,9, -999.00,9, -999.00,9
33RO200306_01,       A16N,     061,          2,          9,          9,9,20030706,       0104,    34.9990,   -20.5628,       5141,  2788.0,   2.9018,  34.9507,2,-999.0000,9,    252.4,2,  -999.0,9, -999.00,9, -999.00,9, -999.00,9, -999.00,9,-999.000,9,-999.000,9,-999.000,9,  -999.0,9,  -999.0,9,   -999.0,9,  -999.00,-999.0000,9,  -999.00,-999.000,9,-999.000,9,-999.000,9, -999.00,9,  -999.0,9,  -999.0,-999.000,9,-999.000,-999.000,9, -999.00,9, -999.00,9, 2788.00,-999.0000,9,-999.0000,9,-999.0000,9,-999.0000,9,-999.0000,9,-999.0000,9,   2.6749,     -999.0,9,     -999.0,9,     -999.0,9,     -999.0,9,         61,-999.000,-999.000,-999.000,     -999.0,9, -999.00,9, -999.00,9
33RO200306_01,       A16N,     061,          2,          8,          8,2,20030706,       0104,    34.9990,   -20.5628,       5141,  3094.6,   2.7590,  34.9390,2,  34.9400,2,    249.0,2,   249.1,2,   33.04,2,   20.40,2,    0.00,2,    1.36,2,   0.142,2,   0.084,2,   0.011,2,  2186.0,2,  2329.9,2,    759.6,2,    20.00,   7.7312,2,    25.00,-999.000,9,-999.000,9,-999.000,9, -999.00,9,  -999.0,9,  -999.0,-999.000,9,-999.000,-999.000,9,   41.79,2,   23.89,2, 3094.60,-999.0000,9,-999.0000,9,-999.0000,9,-999.0000,9,-999.0000,9,-999.0000,9,   2.5036,     -999.0,9,     -999.0,9,     -999.0,9,     -999.0,9,         61,-999.000,-999.000,-999.000,     -999.0,9, -999.00,9, -999.00,9