BOTTLE,20230908CCHSIOCBG
EXPOCODE,SECT_ID,STNNBR,CASTNO,SAMPNO,BTLNBR,BTLNBR_FLAG_W,DATE,TIME,LATITUDE,LONGITUDE,DEPTH,CTDPRS,CTDTMP,CTDSAL,CTDSAL_FLAG_W,SALNTY,SALNTY_FLAG_W,CTDOXY,CTDOXY_FLAG_W,OXYGEN,OXYGEN_FLAG_W,SILCAT,SILCAT_FLAG_W,NITRAT,NITRAT_FLAG_W,NITRIT,NITRIT_FLAG_W,PHSPHT,PHSPHT_FLAG_W,CFC-11,CFC-11_FLAG_W,CFC-12,CFC-12_FLAG_W,CFC113,CFC113_FLAG_W,TCARBN,TCARBN_FLAG_W,ALKALI,ALKALI_FLAG_W,FCO2,FCO2_FLAG_W,FCO2TMP,PH_SWS,PH_SWS_FLAG_W,PH_TMP,TRITUM,TRITUM_FLAG_W,HELIUM,HELIUM_FLAG_W,DELHE3,DELHE3_FLAG_W,DELC13,DELC13_FLAG_W,DELC14,DELC14_FLAG_W,C14ERR,NEON,NEON_FLAG_W,NEONER,POC,POC_FLAG_W,DOC,DOC_FLAG_W,TDN,TDN_FLAG_W,CTDRAW,CDOM325,CDOM325_FLAG_W,CDOM340,CDOM340_FLAG_W,CDOM380,CDOM380_FLAG_W,CDOM412,CDOM412_FLAG_W,CDOMSL,CDOMSL_FLAG_W,CDOMSN,CDOMSN_FLAG_W,THETA,PON,PON_FLAG_W,HCFC-22,HCFC-22_FLAG_W,HCFC-142b,HCFC-142b_FLAG_W,HCFC-141b,HCFC-141b_FLAG_W,STNNBR_U,HELIER,DELHER,TRITER,CH3CL,CH3CL_FLAG_W,CH3BR,CH3BR_FLAG_W,CH3I,CH3I_FLAG_W
,,,,,,,,,,,METERS,DBAR,ITS-90,PSS-78,,PSS-78,,UMOL/KG,,UMOL/KG,,UMOL/KG,,UMOL/KG,,UMOL/KG,,UMOL/KG,,PMOL/KG,,PMOL/KG,,PMOL/KG,,UMOL/KG,,UMOL/KG,,UATM,,DEG C,,,DEG C,TU,,NMOL/KG,,PERCNT,,/MILLE,,/MILLE,,/MILLE,NMOL/KG,,NMOL/KG,UG/KG,,UMOL/KG,,UMOL/KG,,DBAR,1/M,,1/M,,1/M,,1/M,,1/NM,,1/NM,,DEG C,UMOL/L,,PMOL/KG,,PMOL/KG,,PMOL/KG,,,NMOL/KG,PERCNT,TU,PMOL/KG,,PMOL/KG,,PMOL/KG,
33RO200306_02,       A16N,     125,          1,         35,         35,2,20030802,       1812,     3.4995,   -25.2508,       4059,     2.5,  26.9572,  35.4523,2,  35.4582,2,    196.7,2,   249.3,2,    0.92,2,    0.10,2,    0.00,2,    0.06,2,   1.708,2,   1.092,2,   0.151,2,  1986.0,6,  2323.6,6,   -999.0,9,  -999.00,   8.0869,6,    25.00,-999.000,9,-999.000,9,-999.000,9, -999.00,9,  -999.0,9,  -999.0,-999.000,9,-999.000,-999.000,9, -999.00,9, -999.00,9,    2.50,-999.0000,9,-999.0000,9,-999.0000,9,-999.0000,9,-999.0000,9,-999.0000,9,  26.9566,     -999.0,9,     -999.0,9,     -999.0,9,     -999.0,9,        125,-999.000,-999.000,-999.000,     -999.0,9, -999.00,9, -999.00,9
33RO200306_02,       A16N,     125,          1,         33,         33,2,20030802,       1812,     3.4995,   -25.2508,       4059,     9.7,  26.9666,  35.4514,2,  35.4558,2,    196.6,2,   204.9,2,    0.96,2,    0.10,2,    0.00,2,    0.06,2,-999.000,9,-999.000,9,-999.000,9,  -999.0,9,  -999.0,9,   -999.0,9,  -999.00,-999.0000,9,  -999.00,-999.000,9,-999.000,9,-999.000,9, -999.00,9,  -999.0,9,  -999.0,-999.000,9,-999.000,-999.000,9, -999.00,9, -999.00,9,    9.70,-999.0000,9,-999.0000,9,-999.0000,9,-999.0000,9,-999.0000,9,-999.0000,9,  26.9644,     -999.0,9,     -999.0,9,     -999.0,9,     -999.0,9,        125,-999.000,-999.000,-999.000,     -999.0,9, -999.00,9, -999.00,9
33RO200306_02,       A16N,     125,          1,         32,         32,2,20030802,       1812,     3.4995,   -25.2508,       4059,    29.6,  26.9486,  35.4491,2,  35.4532,2,    197.0,2,   205.5,2,    1.00,2,    0.11,2,    0.00,2,    0.06,2,-999.000,9,-999.000,9,-999.000,9,  -999.0,9,  -999.0,9,   -999.0,9,  -999.00,-999.0000,9,  -999.00,-999.000,9,-999.000,9,-999.000,9, -999.00,9,  -999.0,9,  -999.0,-999.000,9,-999.000,-999.000,9, -999.00,9, -999.00,9,   29.60,-999.0000,9,-999.0000,9,-999.0000,9,-999.0000,9,-999.0000,9,-999.0000,9,  26.9418,     -999.0,9,     -999.0,9,     -999.0,9,     -999.0,9,        125,-999.000,-999.000,-999.000,     -999.0,9, -999.00,9, -999.00,9
33RO200306_02,       A16N,     125,          1,         31,         31,2,20030802,       1812,     3.4995,   -25.2508,       4059,    49.9,  26.8863,  35.4509,2,  35.4661,2,    196.7,2,   204.3,2,    1.03,2,    0.13,2,    0.00,2,    0.07,2,-999.000,9,-999.000,9,-999.000,9,  -999.0,9,  -999.0,9,   -999.0,9,  -999.00,-999.0000,9,  -999.00,-999.000,9,-999.000,9,-999.000,9, -999.00,9,  -999.0,9,  -999.0,-999.000,9,-999.000,-999.000,9, -999.00,9, -999.00,9,   49.90,-999.0000,9,-999.0000,9,-999.0000,9,-999.0000,9,-999.0000,9,-999.0000,9,  26.8749,     -999.0,9,     -999.0,9,     -999.0,9,     -999.0,9,        125,-999.000,-999.000,-999.000,     -999.0,9, -999.00,9, -999.00,9
33RO200306_02,       A16N,     125,          1,         30,         30,2,20030802,       1812,     3.4995,   -25.2508,       4059,    68.8,  25.8082,  35.7483,2,  35.7808,2,    193.7,2,   188.5,2,    1.46,2,    1.10,2,    0.06,2,    0.21,2,-999.000,9,-999.000,9,-999.000,9,  -999.0,9,  -999.0,9,   -999.0,9,  -999.00,-999.0000,9,  -999.00,-999.000,9,-999.000,9,-999.000,9, -999.00,9,  -999.0,9,  -999.0,-999.000,9,-999.000,-999.000,9, -999.00,9, -999.00,9,   68.80,-999.0000,9,-999.0000,9,-999.0000,9,-999.0000,9,-999.0000,9,-999.0000,9,  25.7929,     -999.0,9,     -999.0,9,     -999.0,9,     -999.0,9,        125,-999.000,-999.000,-999.000,     -999.0,9, -999.00,9, -999.00,9
33RO200306_02,       A16N,     125,          1,         29,         29,2,20030802,       1812,     3.4995,   -25.2508,       4059,    88.5,  17.6700,  35.6752,2,  35.6840,2,    114.0,2,   108.4,2,    4.59,2,   15.46,2,    0.08,2,    1.11,2,-999.000,9,-999.000,9,-999.000,9,  -999.0,9,  -999.0,9,   -999.0,9,  -999.00,-999.0000,9,  -999.00,-999.000,9,-999.000,9,-999.000,9, -999.00,9,  -999.0,9,  -999.0,-999.000,9,-999.000,-999.000,9, -999.00,9, -999.00,9,   88.50,-999.0000,9,-999.0000,9,-999.0000,9,-999.0000,9,-999.0000,9,-999.0000,9,  17.6550,     -999.0,9,     -999.0,9,     -999.0,9,     -999.0,9,        125,-999.000,-999.000,-999.000,     -999.0,9, -999.00,9, -999.00,9
33RO200306_02,       A16N,     125,          1,         28,         28,2,20030802,       1812,     3.4995,   -25.2508,       4059,   109.2,  15.9190,  35.6085,2,  35.6089,2,     91.9,2,    92.9,2,    6.23,2,   20.62,2,    0.03,2,    1.38,2,-999.000,9,-999.000,9,-999.000,9,  -999.0,9,  -999.0,9,   -999.0,9,  -999.00,-999.0000,9,  -999.00,-999.000,9,-999.000,9,-999.000,9, -999.00,9,  -999.0,9,  -999.0,-999.000,9,-999.000,-999.000,9, -999.00,9, -999.00,9,  109.20,-999.0000,9,-999.0000,9,-999.0000,9,-999.0000,9,-999.0000,9,-999.0000,9,  15.9017,     -999.0,9,     -999.0,9,     -999.0,9,     -999.0,9,        125,-999.000,-999.000,-999.000,     -999.0,9, -999.00,9, -999.00,9
33RO200306_02,       A16N,     125,          1,         27,         27,2,20030802,       1812,     3.4995,   -25.2508,       4059,   135.2,  15.1973,  35.5510,2,  35.5492,2,     96.9,2,   101.1,2,    6.99,2,   20.80,2,    0.02,2,    1.40,2,-999.000,9,-999.000,9,-999.000,9,  -999.0,9,  -999.0,9,   -999.0,9,  -999.00,-999.0000,9,  -999.00,-999.000,9,-999.000,9,-999.000,9, -999.00,9,  -999.0,9,  -999.0,-999.000,9,-999.000,-999.000,9, -999.00,9, -999.00,9,  135.20,-999.0000,9,-999.0000,9,-999.0000,9,-999.0000,9,-999.0000,9,-999.0000,9,  15.1766,     -999.0,9,     -999.0,9,     -999.0,9,     -999.0,9,        125,-999.000,-999.000,-999.000,     -999.0,9, -999.00,9, -999.00,9
33RO200306_02,       A16N,     125,          1,         26,         26,2,20030802,       1812,     3.4995,   -25.2508,       4059,   159.1,  14.3755,  35.4487,2,  35.4525,2,     89.2,2,    90.0,2,    7.99,2,   22.72,2,    0.01,2,    1.51,2,-999.000,9,-999.000,9,-999.000,9,  -999.0,9,  -999.0,9,   -999.0,9,  -999.00,-999.0000,9,  -999.00,-999.000,9,-999.000,9,-999.000,9, -999.00,9,  -999.0,9,  -999.0,-999.000,9,-999.000,-999.000,9, -999.00,9, -999.00,9,  159.10,-999.0000,9,-999.0000,9,-999.0000,9,-999.0000,9,-999.0000,9,-999.0000,9,  14.3520,     -999.0,9,     -999.0,9,     -999.0,9,     -999.0,9,        125,-999.000,-999.000,-999.000,     -999.0,9, -999.00,9, -999.00,9
33RO200306_02,       A16N,     125,          1,         25,         25,2,20030802,       1812,     3.4995,   -25.2508,       4059,   184.3,  14.0007,  35.3994,2,  35.3990,2,     86.2,2,    88.7,2,    8.32,2,   23.51,2,    0.01,2,    1.55,2,-999.000,9,-999.000,9,-999.000,9,  -999.0,9,  -999.0,9,   -999.0,9,  -999.00,-999.0000,9,  -999.00,-999.000,9,-999.000,9,-999.000,9, -999.00,9,  -999.0,9,  -999.0,-999.000,9,-999.000,-999.000,9, -999.00,9, -999.00,9,  184.30,-999.0000,9,-999.0000,9,-999.0000,9,-999.0000,9,-999.0000,9,-999.0000,9,  13.9740,     -999.0,9,     -999.0,9,     -999.0,9,     -999.0,9,        125,-999.000,-999.000,-999.000,     -999.0,9, -999.00,9, -999.00,9
33RO200306_02,       A16N,     125,          1,         24,         24,2,20030802,       1812,     3.4995,   -25.2508,       4059,   224.2,  13.2846,  35.3140,2,  35.3152,2,    111.5,2,   116.6,2,    8.08,2,   21.77,2,    0.01,2,    1.45,2,-999.000,9,-999.000,9,-999.000,9,  -999.0,9,  -999.0,9,   -999.0,9,  -999.00,-999.0000,9,  -999.00,-999.000,9,-999.000,9,-999.000,9, -999.00,9,  -999.0,9,  -999.0,-999.000,9,-999.000,-999.000,9, -999.00,9, -999.00,9,  224.20,-999.0000,9,-999.0000,9,-999.0000,9,-999.0000,9,-999.0000,9,-999.0000,9,  13.2532,     -999.0,9,     -999.0,9,     -999.0,9,     -999.0,9,        125,-999.000,-999.000,-999.000,     -999.0,9, -999.00,9, -999.00,9
33RO200306_02,       A16N,     125,          1,         23,         23,2,20030802,       1812,     3.4995,   -25.2508,       4059,   273.1,  12.1948,  35.1907,2,  35.2006,2,    110.3,2,    94.2,2,   10.00,2,   25.91,2,    0.00,2,    1.66,2,-999.000,9,-999.000,9,-999.000,9,  -999.0,9,  -999.0,9,   -999.0,9,  -999.00,-999.0000,9,  -999.00,-999.000,9,-999.000,9,-999.000,9, -999.00,9,  -999.0,9,  -999.0,-999.000,9,-999.000,-999.000,9, -999.00,9, -999.00,9,  273.10,-999.0000,9,-999.0000,9,-999.0000,9,-999.0000,9,-999.0000,9,-999.0000,9,  12.1586,     -999.0,9,     -999.0,9,     -999.0,9,     -999.0,9,        125,-999.000,-999.000,-999.000,     -999.0,9, -999.00,9, -999.00,9
33RO200306_02,       A16N,     125,          1,         22,         22,2,20030802,       1812,     3.4995,   -25.2508,       4059,   323.6,  10.1674,  34.9693,2,  34.9667,2,     78.1,2,    77.2,2,   14.11,2,   31.55,2,    0.00,2,    1.99,2,-999.000,9,-999.000,9,-999.000,9,  -999.0,9,  -999.0,9,   -999.0,9,  -999.00,-999.0000,9,  -999.00,-999.000,9,-999.000,9,-999.000,9, -999.00,9,  -999.0,9,  -999.0,-999.000,9,-999.000,-999.000,9, -999.00,9, -999.00,9,  323.60,-999.0000,9,-999.0000,9,-999.0000,9,-999.0000,9,-999.0000,9,-999.0000,9,  10.1292,     -999.0,9,     -999.0,9,     -999.0,9,     -999.0,9,        125,-999.000,-999.000,-999.000,     -999.0,9, -999.00,9, -999.00,9
33RO200306_02,       A16N,     125,          1,         21,         21,2,20030802,       1812,     3.4995,   -25.2508,       4059,   371.9,   8.9537,  34.8357,2,  34.8389,2,     88.7,2,    93.4,2,   15.91,2,   32.30,2,    0.00,2,    2.04,2,-999.000,9,-999.000,9,-999.000,9,  -999.0,9,  -999.0,9,   -999.0,9,  -999.00,-999.0000,9,  -999.00,-999.000,9,-999.000,9,-999.000,9, -999.00,9,  -999.0,9,  -999.0,-999.000,9,-999.000,-999.000,9, -999.00,9, -999.00,9,  371.90,-999.0000,9,-999.0000,9,-999.0000,9,-999.0000,9,-999.0000,9,-999.0000,9,   8.9131,     -999.0,9,     -999.0,9,     -999.0,9,     -999.0,9,        125,-999.000,-999.000,-999.000,     -999.0,9, -999.00,9, -999.00,9
33RO200306_02,       A16N,     125,          1,         20,         20,2,20030802,       1812,     3.4995,   -25.2508,       4059,   424.7,   8.1779,  34.7563,2,  34.7572,2,    102.4,2,   101.9,2,   17.61,2,   32.90,2,    0.00,2,    2.10,2,-999.000,9,-999.000,9,-999.000,9,  -999.0,9,  -999.0,9,   -999.0,9,  -999.00,-999.0000,9,  -999.00,-999.000,9,-999.000,9,-999.000,9, -999.00,9,  -999.0,9,  -999.0,-999.000,9,-999.000,-999.000,9, -999.00,9, -999.00,9,  424.70,-999.0000,9,-999.0000,9,-999.0000,9,-999.0000,9,-999.0000,9,-999.0000,9,   8.1339,     -999.0,9,     -999.0,9,     -999.0,9,     -999.0,9,        125,-999.000,-999.000,-999.000,     -999.0,9, -999.00,9, -999.00,9
33RO200306_02,       A16N,     125,          1,         19,         19,2,20030802,       1812,     3.4995,   -25.2508,       4059,   474.9,   7.5562,  34.6950,2,  34.6944,2,    108.6,2,   109.8,2,   19.27,2,   33.55,2,    0.00,2,    2.16,2,-999.000,9,-999.000,9,-999.000,9,  -999.0,9,  -999.0,9,   -999.0,9,  -999.00,-999.0000,9,  -999.00,-999.000,9,-999.000,9,-999.000,9, -999.00,9,  -999.0,9,  -999.0,-999.000,9,-999.000,-999.000,9, -999.00,9, -999.00,9,  474.90,-999.0000,9,-999.0000,9,-999.0000,9,-999.0000,9,-999.0000,9,-999.0000,9,   7.5091,     -999.0,9,     -999.0,9,     -999.0,9,     -999.0,9,        125,-999.000,-999.000,-999.000,     -999.0,9, -999.00,9, -999.00,9
33RO200306_02,       A16N,     125,          1,         18,         18,2,20030802,       1812,     3.4995,   -25.2508,       4059,   548.9,   6.5839,  34.6084,2,  34.6092,2,    121.5,2,   124.3,2,   22.09,2,   33.94,2,    0.00,2,    2.22,2,-999.000,9,-999.000,9,-999.000,9,  -999.0,9,  -999.0,9,   -999.0,9,  -999.00,-999.0000,9,  -999.00,-999.000,9,-999.000,9,-999.000,9, -999.00,9,  -999.0,9,  -999.0,-999.000,9,-999.000,-999.000,9, -999.00,9, -999.00,9,  548.90,-999.0000,9,-999.0000,9,-999.0000,9,-999.0000,9,-999.0000,9,-999.0000,9,   6.5332,     -999.0,9,     -999.0,9,     -999.0,9,     -999.0,9,        125,-999.000,-999.000,-999.000,     -999.0,9, -999.00,9, -999.00,9
33RO200306_02,       A16N,     125,          1,         17,         17,2,20030802,       1812,     3.4995,   -25.2508,       4059,   649.2,   5.8046,  34.5560,2,  34.5564,2,    133.4,2,   132.8,2,   25.35,2,   34.61,2,    0.00,2,    2.31,2,-999.000,9,-999.000,9,-999.000,9,  -999.0,9,  -999.0,9,   -999.0,9,  -999.00,-999.0000,9,  -999.00,-999.000,9,-999.000,9,-999.000,9, -999.00,9,  -999.0,9,  -999.0,-999.000,9,-999.000,-999.000,9, -999.00,9, -999.00,9,  649.20,-999.0000,9,-999.0000,9,-999.0000,9,-999.0000,9,-999.0000,9,-999.0000,9,   5.7481,     -999.0,9,     -999.0,9,     -999.0,9,     -999.0,9,        125,-999.000,-999.000,-999.000,     -999.0,9, -999.00,9, -999.00,9
33RO200306_02,       A16N,     125,          1,         16,         16,2,20030802,       1812,     3.4995,   -25.2508,       4059,   748.9,   5.2423,  34.5388,2,  34.5406,2,    140.1,2,   136.8,2,   28.13,2,   34.81,2,    0.00,2,    2.33,2,-999.000,9,-999.000,9,-999.000,9,  -999.0,9,  -999.0,9,   -999.0,9,  -999.00,-999.0000,9,  -999.00,-999.000,9,-999.000,9,-999.000,9, -999.00,9,  -999.0,9,  -999.0,-999.000,9,-999.000,-999.000,9, -999.00,9, -999.00,9,  748.90,-999.0000,9,-999.0000,9,-999.0000,9,-999.0000,9,-999.0000,9,-999.0000,9,   5.1798,     -999.0,9,     -999.0,9,     -999.0,9,     -999.0,9,        125,-999.000,-999.000,-999.000,     -999.0,9, -999.00,9, -999.00,9
33RO200306_02,       A16N,     125,          1,         15,         15,2,20030802,       1812,     3.4995,   -25.2508,       4059,   849.5,   4.8874,  34.5571,2,  34.5583,2,    143.9,2,   144.0,2,   30.08,2,   34.61,2,    0.00,2,    2.35,2,-999.000,9,-999.000,9,-999.000,9,  -999.0,9,  -999.0,9,   -999.0,9,  -999.00,-999.0000,9,  -999.00,-999.000,9,-999.000,9,-999.000,9, -999.00,9,  -999.0,9,  -999.0,-999.000,9,-999.000,-999.000,9, -999.00,9, -999.00,9,  849.50,-999.0000,9,-999.0000,9,-999.0000,9,-999.0000,9,-999.0000,9,-999.0000,9,   4.8182,     -999.0,9,     -999.0,9,     -999.0,9,     -999.0,9,        125,-999.000,-999.000,-999.000,     -999.0,9, -999.00,9, -999.00,9
33RO200306_02,       A16N,     125,          1,         14,         14,2,20030802,       1812,     3.4995,   -25.2508,       4059,   948.9,   4.8582,  34.6271,2,  34.6288,2,    147.0,2,   146.5,2,   29.64,2,   33.73,2,    0.00,2,    2.29,2,-999.000,9,-999.000,9,-999.000,9,  -999.0,9,  -999.0,9,   -999.0,9,  -999.00,-999.0000,9,  -999.00,-999.000,9,-999.000,9,-999.000,9, -999.00,9,  -999.0,9,  -999.0,-999.000,9,-999.000,-999.000,9, -999.00,9, -999.00,9,  948.90,-999.0000,9,-999.0000,9,-999.0000,9,-999.0000,9,-999.0000,9,-999.0000,9,   4.7803,     -999.0,9,     -999.0,9,     -999.0,9,     -999.0,9,        125,-999.000,-999.000,-999.000,     -999.0,9, -999.00,9, -999.00,9
33RO200306_02,       A16N,     125,          1,         13,         13,2,20030802,       1812,     3.4995,   -25.2508,       4059,  1050.0,   4.6779,  34.7078,2,  34.7056,2,    157.2,2,   156.0,2,   28.61,2,   31.70,2,    0.00,2,    2.15,2,   0.023,2,   0.015,2,   0.002,2,  -999.0,9,  -999.0,9,   -999.0,9,  -999.00,-999.0000,9,  -999.00,-999.000,9,-999.000,9,-999.000,9, -999.00,9,  -999.0,9,  -999.0,-999.000,9,-999.000,-999.000,9, -999.00,9, -999.00,9, 1050.00,-999.0000,9,-999.0000,9,-999.0000,9,-999.0000,9,-999.0000,9,-999.0000,9,   4.5923,     -999.0,9,     -999.0,9,     -999.0,9,     -999.0,9,        125,-999.000,-999.000,-999.000,     -999.0,9, -999.00,9, -999.00,9
33RO200306_02,       A16N,     125,          1,         12,         12,2,20030802,       1812,     3.4995,   -25.2508,       4059,  1149.7,   4.6111,  34.7800,2,  34.7827,2,    167.4,2,   168.8,2,   26.63,2,   29.59,2,    0.00,2,    2.01,2,-999.000,9,-999.000,9,-999.000,9,  -999.0,9,  -999.0,9,   -999.0,9,  -999.00,-999.0000,9,  -999.00,-999.000,9,-999.000,9,-999.000,9, -999.00,9,  -999.0,9,  -999.0,-999.000,9,-999.000,-999.000,9, -999.00,9, -999.00,9, 1149.70,-999.0000,9,-999.0000,9,-999.0000,9,-999.0000,9,-999.0000,9,-999.0000,9,   4.5169,     -999.0,9,     -999.0,9,     -999.0,9,     -999.0,9,        125,-999.000,-999.000,-999.000,     -999.0,9, -999.00,9, -999.00,9
33RO200306_02,       A16N,     125,          1,         11,         11,2,20030802,       1812,     3.4995,   -25.2508,       4059,  1299.4,   4.4537,  34.8715,2,  34.8715,2,    187.9,2,   186.5,2,   23.89,2,   26.75,2,    0.00,2,    1.81,2,   0.026,2,   0.015,2,   0.001,2,  -999.0,9,  -999.0,9,   -999.0,9,  -999.00,-999.0000,9,  -999.00,-999.000,9,-999.000,9,-999.000,9, -999.00,9,  -999.0,9,  -999.0,-999.000,9,-999.000,-999.000,9, -999.00,9, -999.00,9, 1299.40,-999.0000,9,-999.0000,9,-999.0000,9,-999.0000,9,-999.0000,9,-999.0000,9,   4.3472,     -999.0,9,     -999.0,9,     -999.0,9,     -999.0,9,        125,-999.000,-999.000,-999.000,     -999.0,9, -999.00,9, -999.00,9
33RO200306_02,       A16N,     125,          1,         10,         10,2,20030802,       1812,     3.4995,   -25.2508,       4059,  1500.8,   4.2208,  34.9555,2,  34.9564,2,    222.3,2,   224.6,2,   19.60,2,   22.62,2,    0.00,2,    1.53,2,-999.000,9,-999.000,9,-999.000,9,  -999.0,9,  -999.0,9,   -999.0,9,  -999.00,-999.0000,9,  -999.00,-999.000,9,-999.000,9,-999.000,9, -999.00,9,  -999.0,9,  -999.0,-999.000,9,-999.000,-999.000,9, -999.00,9, -999.00,9, 1500.80,-999.0000,9,-999.0000,9,-999.0000,9,-999.0000,9,-999.0000,9,-999.0000,9,   4.0981,     -999.0,9,     -999.0,9,     -999.0,9,     -999.0,9,        125,-999.000,-999.000,-999.000,     -999.0,9, -999.00,9, -999.00,9
33RO200306_02,       A16N,     125,          1,          9,          9,2,20030802,       1812,     3.4995,   -25.2508,       4059,  1699.4,   3.9951,  34.9723,2,  34.9734,2,    237.4,2,   241.8,2,   18.58,2,   21.00,2,    0.00,2,    1.42,2,   0.057,2,   0.033,2,   0.000,2,  -999.0,9,  -999.0,9,   -999.0,9,  -999.00,-999.0000,9,  -999.00,-999.000,9,-999.000,9,-999.000,9, -999.00,9,  -999.0,9,  -999.0,-999.000,9,-999.000,-999.000,9, -999.00,9, -999.00,9, 1699.40,-999.0000,9,-999.0000,9,-999.0000,9,-999.0000,9,-999.0000,9,-999.0000,9,   3.8565,     -999.0,9,     -999.0,9,     -999.0,9,     -999.0,9,        125,-999.000,-999.000,-999.000,     -999.0,9, -999.00,9, -999.00,9
33RO200306_02,       A16N,     125,          1,          8,          8,2,20030802,       1812,     3.4995,   -25.2508,       4059,  1897.6,   3.7309,  34.9728,2,  34.9742,2,    245.3,2,   246.6,2,   19.57,2,   20.22,2,    0.00,2,    1.37,2,-999.000,9,-999.000,9,-999.000,9,  -999.0,9,  -999.0,9,   -999.0,9,  -999.00,-999.0000,9,  -999.00,-999.000,9,-999.000,9,-999.000,9, -999.00,9,  -999.0,9,  -999.0,-999.000,9,-999.000,-999.000,9, -999.00,9, -999.00,9, 1897.60,-999.0000,9,-999.0000,9,-999.0000,9,-999.0000,9,-999.0000,9,-999.0000,9,   3.5771,     -999.0,9,     -999.0,9,     -999.0,9,     -999.0,9,        125,-999.000,-999.000,-999.000,     -999.0,9, -999.00,9, -999.00,9