BOTTLE,20230908CCHSIOCBG
EXPOCODE,SECT_ID,STNNBR,CASTNO,SAMPNO,BTLNBR,BTLNBR_FLAG_W,DATE,TIME,LATITUDE,LONGITUDE,DEPTH,CTDPRS,CTDTMP,CTDSAL,CTDSAL_FLAG_W,SALNTY,SALNTY_FLAG_W,CTDOXY,CTDOXY_FLAG_W,OXYGEN,OXYGEN_FLAG_W,SILCAT,SILCAT_FLAG_W,NITRAT,NITRAT_FLAG_W,NITRIT,NITRIT_FLAG_W,PHSPHT,PHSPHT_FLAG_W,CFC-11,CFC-11_FLAG_W,CFC-12,CFC-12_FLAG_W,CFC113,CFC113_FLAG_W,TCARBN,TCARBN_FLAG_W,ALKALI,ALKALI_FLAG_W,FCO2,FCO2_FLAG_W,FCO2TMP,PH_SWS,PH_SWS_FLAG_W,PH_TMP,TRITUM,TRITUM_FLAG_W,HELIUM,HELIUM_FLAG_W,DELHE3,DELHE3_FLAG_W,DELC13,DELC13_FLAG_W,DELC14,DELC14_FLAG_W,C14ERR,NEON,NEON_FLAG_W,NEONER,POC,POC_FLAG_W,DOC,DOC_FLAG_W,TDN,TDN_FLAG_W,CTDRAW,CDOM325,CDOM325_FLAG_W,CDOM340,CDOM340_FLAG_W,CDOM380,CDOM380_FLAG_W,CDOM412,CDOM412_FLAG_W,CDOMSL,CDOMSL_FLAG_W,CDOMSN,CDOMSN_FLAG_W,THETA,PON,PON_FLAG_W,HCFC-22,HCFC-22_FLAG_W,HCFC-142b,HCFC-142b_FLAG_W,HCFC-141b,HCFC-141b_FLAG_W,STNNBR_U,HELIER,DELHER,TRITER,CH3CL,CH3CL_FLAG_W,CH3BR,CH3BR_FLAG_W,CH3I,CH3I_FLAG_W
,,,,,,,,,,,METERS,DBAR,ITS-90,PSS-78,,PSS-78,,UMOL/KG,,UMOL/KG,,UMOL/KG,,UMOL/KG,,UMOL/KG,,UMOL/KG,,PMOL/KG,,PMOL/KG,,PMOL/KG,,UMOL/KG,,UMOL/KG,,UATM,,DEG C,,,DEG C,TU,,NMOL/KG,,PERCNT,,/MILLE,,/MILLE,,/MILLE,NMOL/KG,,NMOL/KG,UG/KG,,UMOL/KG,,UMOL/KG,,DBAR,1/M,,1/M,,1/M,,1/M,,1/NM,,1/NM,,DEG C,UMOL/L,,PMOL/KG,,PMOL/KG,,PMOL/KG,,,NMOL/KG,PERCNT,TU,PMOL/KG,,PMOL/KG,,PMOL/KG,
33RO200306_02,       A16N,     146,          1,         35,         35,2,20030808,       0215,    -4.0000,   -25.0002,       5398,     4.1,  25.9825,  35.9675,2,  35.9631,2,    197.9,2,   205.8,2,    1.07,2,    0.03,2,    0.00,2,    0.10,2,   1.772,2,   1.127,2,   0.149,2,  2024.2,6,  2360.7,2,    297.3,2,    20.00,   8.0462,2,    25.00,-999.000,9,-999.000,9,-999.000,9,    1.67,2,    70.4,2,     3.5,-999.000,9,-999.000,-999.000,9,   68.21,2,    5.96,2,    4.10,-999.0000,9,-999.0000,9,-999.0000,9,-999.0000,9,-999.0000,9,-999.0000,9,  25.9816,     -999.0,9,     -999.0,9,     -999.0,9,     -999.0,9,        146,-999.000,-999.000,-999.000,     -999.0,9, -999.00,9, -999.00,9
33RO200306_02,       A16N,     146,          1,         33,         33,2,20030808,       0215,    -4.0000,   -25.0002,       5398,    25.9,  25.9862,  35.9702,2,  35.9657,2,    198.0,2,   205.5,2, -999.00,1, -999.00,1, -999.00,1, -999.00,1,   1.750,2,   1.109,2,   0.143,2,  2025.3,2,  2360.0,6,    297.4,2,    20.00,-999.0000,9,  -999.00,-999.000,9,-999.000,9,-999.000,9, -999.00,9,  -999.0,9,  -999.0,-999.000,9,-999.000,-999.000,9,   67.64,2,    6.38,2,   25.90,-999.0000,9,-999.0000,9,-999.0000,9,-999.0000,9,-999.0000,9,-999.0000,9,  25.9804,     -999.0,9,     -999.0,9,     -999.0,9,     -999.0,9,        146,-999.000,-999.000,-999.000,     -999.0,9, -999.00,9, -999.00,9
33RO200306_02,       A16N,     146,          1,         32,         32,2,20030808,       0215,    -4.0000,   -25.0002,       5398,    49.2,  25.9265,  35.9835,2,  35.9868,2,    198.2,2,   205.7,2,    1.11,2,    0.33,2,    0.00,2,    0.13,2,-999.000,9,-999.000,9,-999.000,9,  2031.0,2,  2362.2,2,    303.8,2,    20.00,   8.1684,3,    25.00,-999.000,9,-999.000,9,-999.000,9, -999.00,9,  -999.0,9,  -999.0,-999.000,9,-999.000,-999.000,9,   68.21,2,    6.08,2,   49.20,-999.0000,9,-999.0000,9,-999.0000,9,-999.0000,9,-999.0000,9,-999.0000,9,  25.9155,     -999.0,9,     -999.0,9,     -999.0,9,     -999.0,9,        146,-999.000,-999.000,-999.000,     -999.0,9, -999.00,9, -999.00,9
33RO200306_02,       A16N,     146,          1,         31,         31,2,20030808,       0215,    -4.0000,   -25.0002,       5398,    74.8,  20.4013,  36.1459,2,  36.0473,2,    162.3,2,   141.1,2,    3.74,2,   10.23,2,    0.21,2,    0.80,2,   1.972,2,   1.179,2,   0.099,2,  2141.9,2,  2365.5,2,    525.0,2,    20.00,   7.8731,2,    25.00,-999.000,9,-999.000,9,-999.000,9, -999.00,9,  -999.0,9,  -999.0,-999.000,9,-999.000,-999.000,9, -999.00,9, -999.00,9,   74.80,-999.0000,9,-999.0000,9,-999.0000,9,-999.0000,9,-999.0000,9,-999.0000,9,  20.3872,     -999.0,9,     -999.0,9,     -999.0,9,     -999.0,9,        146,-999.000,-999.000,-999.000,     -999.0,9, -999.00,9, -999.00,9
33RO200306_02,       A16N,     146,          1,         30,         30,2,20030808,       0215,    -4.0000,   -25.0002,       5398,   100.6,  14.7662,  35.4863,2,  35.4755,2,    100.9,2,    92.5,2,    7.33,2,   21.88,2,    0.03,2,    1.40,2,   1.893,2,   1.061,2,   0.035,2,  2188.8,2,  2328.6,2,    832.2,2,    20.00,   7.6643,2,    25.00,-999.000,9,-999.000,9,-999.000,9, -999.00,9,  -999.0,9,  -999.0,-999.000,9,-999.000,-999.000,9,   48.46,2,   26.58,2,  100.60,-999.0000,9,-999.0000,9,-999.0000,9,-999.0000,9,-999.0000,9,-999.0000,9,  14.7511,     -999.0,9,     -999.0,9,     -999.0,9,     -999.0,9,        146,-999.000,-999.000,-999.000,     -999.0,9, -999.00,9, -999.00,9
33RO200306_02,       A16N,     146,          1,         29,         29,2,20030808,       0215,    -4.0000,   -25.0002,       5398,   124.6,  14.2904,  35.4352,2,  35.4289,2,     88.7,2,    86.5,2,    7.94,2,   23.18,2,    0.02,2,    1.46,2,-999.000,9,-999.000,9,-999.000,9,  2193.9,2,  2325.1,2,   -999.0,9,  -999.00,   7.6736,2,    25.00,-999.000,9,-999.000,9,-999.000,9, -999.00,9,  -999.0,9,  -999.0,-999.000,9,-999.000,-999.000,9, -999.00,9, -999.00,9,  124.60,-999.0000,9,-999.0000,9,-999.0000,9,-999.0000,9,-999.0000,9,-999.0000,9,  14.2721,     -999.0,9,     -999.0,9,     -999.0,9,     -999.0,9,        146,-999.000,-999.000,-999.000,     -999.0,9, -999.00,9, -999.00,9
33RO200306_02,       A16N,     146,          1,         28,         28,2,20030808,       0215,    -4.0000,   -25.0002,       5398,   149.2,  13.8248,  35.3810,2,  35.3749,2,     86.6,2,    85.7,2,    8.43,2,   23.87,2,    0.01,2,    1.50,2,   1.757,2,   0.975,2,   0.020,2,  2195.9,2,  2322.9,2,    905.1,2,    20.00,   7.6613,2,    25.00,-999.000,9,-999.000,9,-999.000,9, -999.00,9,  -999.0,9,  -999.0,-999.000,9,-999.000,-999.000,9,   48.21,2,   29.03,2,  149.20,-999.0000,9,-999.0000,9,-999.0000,9,-999.0000,9,-999.0000,9,-999.0000,9,  13.8034,     -999.0,9,     -999.0,9,     -999.0,9,     -999.0,9,        146,-999.000,-999.000,-999.000,     -999.0,9, -999.00,9, -999.00,9
33RO200306_02,       A16N,     146,          1,         27,         27,2,20030808,       0215,    -4.0000,   -25.0002,       5398,   175.6,  13.5204,  35.3398,2,  35.3323,2,     86.0,2,    85.4,2,    8.79,2,   24.28,2,    0.01,2,    1.52,2,   1.687,2,   0.922,2,   0.017,2,  2196.5,2,  2321.1,2,   -999.0,9,  -999.00,   7.6999,2,    25.00,-999.000,9,-999.000,9,-999.000,9, -999.00,9,  -999.0,9,  -999.0,-999.000,9,-999.000,-999.000,9, -999.00,9, -999.00,9,  175.60,-999.0000,9,-999.0000,9,-999.0000,9,-999.0000,9,-999.0000,9,-999.0000,9,  13.4955,     -999.0,9,     -999.0,9,     -999.0,9,     -999.0,9,        146,-999.000,-999.000,-999.000,     -999.0,9, -999.00,9, -999.00,9
33RO200306_02,       A16N,     146,          1,         26,         26,2,20030808,       0215,    -4.0000,   -25.0002,       5398,   199.8,  13.0556,  35.2814,2,  35.2761,2,     90.3,2,    92.9,2,    9.13,2,   24.20,2,    0.01,2,    1.52,2,   1.675,2,   0.919,2,   0.015,2,  2193.0,2,  2319.8,2,    910.2,6,    20.00,   7.6554,2,    25.00,-999.000,9,-999.000,9,-999.000,9, -999.00,9,  -999.0,9,  -999.0,-999.000,9,-999.000,-999.000,9,   46.42,2,   28.40,2,  199.80,-999.0000,9,-999.0000,9,-999.0000,9,-999.0000,9,-999.0000,9,-999.0000,9,  13.0280,     -999.0,9,     -999.0,9,     -999.0,9,     -999.0,9,        146,-999.000,-999.000,-999.000,     -999.0,9, -999.00,9, -999.00,9
33RO200306_02,       A16N,     146,          1,         25,         25,2,20030808,       0215,    -4.0000,   -25.0002,       5398,   251.0,  12.2164,  35.1733,2,  35.1645,2,    102.1,2,    99.2,2,   10.04,2,   24.98,2,    0.01,2,    1.57,2,   1.576,2,   0.854,2,   0.015,2,  2191.7,2,  2322.3,2,   -999.0,9,  -999.00,   7.6855,2,    25.00,-999.000,9,-999.000,9,-999.000,9, -999.00,9,  -999.0,9,  -999.0,-999.000,9,-999.000,-999.000,9,   44.56,2,   28.60,2,  251.00,-999.0000,9,-999.0000,9,-999.0000,9,-999.0000,9,-999.0000,9,-999.0000,9,  12.1831,     -999.0,9,     -999.0,9,     -999.0,9,     -999.0,9,        146,-999.000,-999.000,-999.000,     -999.0,9, -999.00,9, -999.00,9
33RO200306_02,       A16N,     146,          1,         24,         24,2,20030808,       0215,    -4.0000,   -25.0002,       5398,   299.8,  11.2214,  35.0521,2,  35.0505,2,     98.3,2,   100.7,2,   11.48,2,   26.69,2,    0.00,2,    1.65,2,   1.419,2,   0.766,2,   0.016,2,  2195.3,2,  2309.7,2,    989.5,2,    20.00,   7.6258,2,    25.00,-999.000,9,-999.000,9,-999.000,9, -999.00,9,  -999.0,9,  -999.0,-999.000,9,-999.000,-999.000,9,   42.85,2,   30.44,2,  299.80,-999.0000,9,-999.0000,9,-999.0000,9,-999.0000,9,-999.0000,9,-999.0000,9,  11.1838,     -999.0,9,     -999.0,9,     -999.0,9,     -999.0,9,        146,-999.000,-999.000,-999.000,     -999.0,9, -999.00,9, -999.00,9
33RO200306_02,       A16N,     146,          1,         23,         23,2,20030808,       0215,    -4.0000,   -25.0002,       5398,   349.3,  10.1987,  34.9357,2,  34.9237,2,    108.1,2,    94.9,2,   13.46,2,   29.34,2,    0.00,2,    1.81,2,   1.125,2,   0.604,2,   0.016,2,  2205.0,2,  2304.0,2,   1098.1,2,    20.00,   7.5727,2,    25.00,-999.000,9,-999.000,9,-999.000,9, -999.00,9,  -999.0,9,  -999.0,-999.000,9,-999.000,-999.000,9,   43.17,2,   34.29,2,  349.30,-999.0000,9,-999.0000,9,-999.0000,9,-999.0000,9,-999.0000,9,-999.0000,9,  10.1574,     -999.0,9,     -999.0,9,     -999.0,9,     -999.0,9,        146,-999.000,-999.000,-999.000,     -999.0,9, -999.00,9, -999.00,9
33RO200306_02,       A16N,     146,          1,         22,         22,2,20030808,       0215,    -4.0000,   -25.0002,       5398,   400.1,   8.6947,  34.7692,2,  34.7688,2,     90.4,2,   105.1,2,   16.07,2,   31.26,2,    0.00,2,    1.95,2,   0.866,2,   0.460,2,   0.012,2,  2208.4,2,  2299.7,2,   1145.7,2,    20.00,   7.5637,2,    25.00,-999.000,9,-999.000,9,-999.000,9, -999.00,9,  -999.0,9,  -999.0,-999.000,9,-999.000,-999.000,9,   42.44,2,   35.03,2,  400.10,-999.0000,9,-999.0000,9,-999.0000,9,-999.0000,9,-999.0000,9,-999.0000,9,   8.6517,     -999.0,9,     -999.0,9,     -999.0,9,     -999.0,9,        146,-999.000,-999.000,-999.000,     -999.0,9, -999.00,9, -999.00,9
33RO200306_02,       A16N,     146,          1,         21,         21,2,20030808,       0215,    -4.0000,   -25.0002,       5398,   500.1,   6.7594,  34.5940,2,  34.5948,2,    115.9,2,   121.2,2,   21.43,2,   33.58,2,    0.00,2,    2.12,2,   0.556,2,   0.295,2,   0.012,2,  2212.2,2,  2295.2,2,   1211.6,2,    20.00,   7.5400,2,    25.00,-999.000,9,-999.000,9,-999.000,9, -999.00,9,  -999.0,9,  -999.0,-999.000,9,-999.000,-999.000,9,   41.39,2,   38.73,2,  500.10,-999.0000,9,-999.0000,9,-999.0000,9,-999.0000,9,-999.0000,9,-999.0000,9,   6.7127,     -999.0,9,     -999.0,9,     -999.0,9,     -999.0,9,        146,-999.000,-999.000,-999.000,     -999.0,9, -999.00,9, -999.00,9
33RO200306_02,       A16N,     146,          1,         20,         20,2,20030808,       0215,    -4.0000,   -25.0002,       5398,   600.1,   5.8805,  34.5216,2,  34.5195,2,    134.6,2,   137.3,2,   24.69,2,   34.02,2,    0.00,2,    2.19,2,   0.449,2,   0.234,2,   0.009,2,  2210.6,2,  2297.2,2,   1198.1,2,    20.00,   7.5505,2,    25.00,-999.000,9,-999.000,9,-999.000,9, -999.00,9,  -999.0,9,  -999.0,-999.000,9,-999.000,-999.000,9,   41.22,2,   38.18,2,  600.10,-999.0000,9,-999.0000,9,-999.0000,9,-999.0000,9,-999.0000,9,-999.0000,9,   5.8282,     -999.0,9,     -999.0,9,     -999.0,9,     -999.0,9,        146,-999.000,-999.000,-999.000,     -999.0,9, -999.00,9, -999.00,9
33RO200306_02,       A16N,     146,          1,         19,         19,2,20030808,       0215,    -4.0000,   -25.0002,       5398,   699.5,   5.1307,  34.4855,2,  34.4851,2,    146.0,2,   145.8,2,   28.73,2,   34.56,2,    0.00,2,    2.25,2,   0.264,2,   0.141,2,   0.006,2,  2213.0,2,  2300.8,2,   1199.2,2,    20.00,   7.5833,2,    25.00,-999.000,9,-999.000,9,-999.000,9, -999.00,9,  -999.0,9,  -999.0,-999.000,9,-999.000,-999.000,9,   41.87,2,   39.22,2,  699.50,-999.0000,9,-999.0000,9,-999.0000,9,-999.0000,9,-999.0000,9,-999.0000,9,   5.0733,     -999.0,9,     -999.0,9,     -999.0,9,     -999.0,9,        146,-999.000,-999.000,-999.000,     -999.0,9, -999.00,9, -999.00,9
33RO200306_02,       A16N,     146,          1,         18,         18,2,20030808,       0215,    -4.0000,   -25.0002,       5398,   849.4,   4.6008,  34.5017,2,  34.5001,2,    152.1,2,   151.1,2,   32.34,2,   34.44,2,    0.00,2,    2.27,2,   0.119,2,   0.064,2,   0.001,2,  2218.7,2,  2306.6,2,   1188.7,2,    20.00,   7.5454,2,    25.00,-999.000,9,-999.000,9,-999.000,9, -999.00,9,  -999.0,9,  -999.0,-999.000,9,-999.000,-999.000,9,   40.08,2,   38.94,2,  849.40,-999.0000,9,-999.0000,9,-999.0000,9,-999.0000,9,-999.0000,9,-999.0000,9,   4.5336,     -999.0,9,     -999.0,9,     -999.0,9,     -999.0,9,        146,-999.000,-999.000,-999.000,     -999.0,9, -999.00,9, -999.00,9
33RO200306_02,       A16N,     146,          1,         17,         17,2,20030808,       0215,    -4.0000,   -25.0002,       5398,   999.6,   4.3749,  34.5596,2,  34.5593,2,    161.9,2,   161.7,2,   33.21,2,   33.04,2,    0.00,2,    2.20,2,   0.083,2,   0.048,2,   0.002,2,  2215.3,6,  2341.3,3,   1130.7,2,    20.00,-999.0000,9,  -999.00,-999.000,9,-999.000,9,-999.000,9, -999.00,9,  -999.0,9,  -999.0,-999.000,9,-999.000,-999.000,9,   39.92,2,   37.68,2,  999.60,-999.0000,9,-999.0000,9,-999.0000,9,-999.0000,9,-999.0000,9,-999.0000,9,   4.2963,     -999.0,9,     -999.0,9,     -999.0,9,     -999.0,9,        146,-999.000,-999.000,-999.000,     -999.0,9, -999.00,9, -999.00,9
33RO200306_02,       A16N,     146,          1,         16,         16,2,20030808,       0215,    -4.0000,   -25.0002,       5398,  1150.9,   4.3040,  34.6858,2,  34.6872,2,    170.5,2,   169.8,2,   31.17,2,   30.84,2,    0.00,2,    2.04,2,   0.019,2,   0.014,2,   0.001,2,  2212.0,2,  2311.1,2,   -999.0,9,  -999.00,   7.6193,2,    25.00,-999.000,9,-999.000,9,-999.000,9, -999.00,9,  -999.0,9,  -999.0,-999.000,9,-999.000,-999.000,9,   40.81,2,   35.34,2, 1150.90,-999.0000,9,-999.0000,9,-999.0000,9,-999.0000,9,-999.0000,9,-999.0000,9,   4.2126,     -999.0,9,     -999.0,9,     -999.0,9,     -999.0,9,        146,-999.000,-999.000,-999.000,     -999.0,9, -999.00,9, -999.00,9
33RO200306_02,       A16N,     146,          1,         15,         15,2,20030808,       0215,    -4.0000,   -25.0002,       5398,  1300.8,   4.3745,  34.8312,2,  34.8292,2,    188.8,2,   188.6,2,   25.86,2,   27.24,2,    0.00,2,    1.78,2,   0.029,2,   0.019,2,   0.000,2,  2198.3,2,  2313.9,2,    961.5,2,    20.00,   7.6381,2,    25.00,-999.000,9,-999.000,9,-999.000,9, -999.00,9,  -999.0,9,  -999.0,-999.000,9,-999.000,-999.000,9,   41.05,2,   32.00,2, 1300.80,-999.0000,9,-999.0000,9,-999.0000,9,-999.0000,9,-999.0000,9,-999.0000,9,   4.2688,     -999.0,9,     -999.0,9,     -999.0,9,     -999.0,9,        146,-999.000,-999.000,-999.000,     -999.0,9, -999.00,9, -999.00,9
33RO200306_02,       A16N,     146,          1,         14,         14,2,20030808,       0215,    -4.0000,   -25.0002,       5398,  1601.1,   4.0937,  34.9677,2,  34.9676,2,    231.8,2,   234.6,2,   19.14,2,   21.18,2,    0.00,2,    1.37,2,   0.135,2,   0.075,2,   0.006,2,  2172.5,2,  2319.0,2,    794.5,2,    20.00,   7.7443,2,    25.00,-999.000,9,-999.000,9,-999.000,9, -999.00,9,  -999.0,9,  -999.0,-999.000,9,-999.000,-999.000,9,   42.03,2,   25.54,2, 1601.10,-999.0000,9,-999.0000,9,-999.0000,9,-999.0000,9,-999.0000,9,-999.0000,9,   3.9631,     -999.0,9,     -999.0,9,     -999.0,9,     -999.0,9,        146,-999.000,-999.000,-999.000,     -999.0,9, -999.00,9, -999.00,9
33RO200306_02,       A16N,     146,          1,         13,         13,2,20030808,       0215,    -4.0000,   -25.0002,       5398,  1900.1,   3.6585,  34.9739,2,  34.9722,2,    248.3,2,   250.5,2,   19.85,2,   19.67,2,    0.00,2,    1.27,2,   0.140,2,   0.079,2,   0.003,2,  2167.4,2,  2321.0,2,    754.2,2,    20.00,   7.7763,2,    25.00,-999.000,9,-999.000,9,-999.000,9, -999.00,9,  -999.0,9,  -999.0,-999.000,9,-999.000,-999.000,9,   41.71,2,   24.63,2, 1900.10,-999.0000,9,-999.0000,9,-999.0000,9,-999.0000,9,-999.0000,9,-999.0000,9,   3.5055,     -999.0,9,     -999.0,9,     -999.0,9,     -999.0,9,        146,-999.000,-999.000,-999.000,     -999.0,9, -999.00,9, -999.00,9
33RO200306_02,       A16N,     146,          1,         12,         12,2,20030808,       0215,    -4.0000,   -25.0002,       5398,  2200.1,   3.3163,  34.9546,2,  34.9532,2,    250.0,2,   248.1,2,   24.86,2,   20.22,2,    0.00,2,    1.32,2,   0.063,2,   0.039,2,   0.003,2,  2186.6,3,  2325.4,2,    756.4,2,    20.00,   7.8028,2,    25.00,-999.000,9,-999.000,9,-999.000,9, -999.00,9,  -999.0,9,  -999.0,-999.000,9,-999.000,-999.000,9,   41.54,2,   24.29,2, 2200.10,-999.0000,9,-999.0000,9,-999.0000,9,-999.0000,9,-999.0000,9,-999.0000,9,   3.1400,     -999.0,9,     -999.0,9,     -999.0,9,     -999.0,9,        146,-999.000,-999.000,-999.000,     -999.0,9, -999.00,9, -999.00,9
33RO200306_02,       A16N,     146,          1,         11,         11,2,20030808,       0215,    -4.0000,   -25.0002,       5398,  2498.7,   2.9998,  34.9349,2,  34.9335,2,    247.5,2,   248.3,2,   30.88,2,   20.82,2,    0.00,2,    1.37,2,   0.033,2,   0.019,2,   0.003,2,  2171.4,2,  2331.3,2,   -999.0,9,  -999.00,   7.7479,2,    25.00,-999.000,9,-999.000,9,-999.000,9, -999.00,9,  -999.0,9,  -999.0,-999.000,9,-999.000,-999.000,9,   40.81,2,   25.90,2, 2498.70,-999.0000,9,-999.0000,9,-999.0000,9,-999.0000,9,-999.0000,9,-999.0000,9,   2.8000,     -999.0,9,     -999.0,9,     -999.0,9,     -999.0,9,        146,-999.000,-999.000,-999.000,     -999.0,9, -999.00,9, -999.00,9
33RO200306_02,       A16N,     146,          1,         10,         10,2,20030808,       0215,    -4.0000,   -25.0002,       5398,  2800.0,   2.7762,  34.9228,2,  34.9213,2,    247.6,2,   248.7,2,   34.16,2,   21.03,2,    0.00,2,    1.39,2,   0.019,2,   0.015,2,   0.001,2,  2174.7,2,  2335.1,2,    764.9,6,    20.00,   7.6837,2,    25.00,-999.000,9,-999.000,9,-999.000,9, -999.00,9,  -999.0,9,  -999.0,-999.000,9,-999.000,-999.000,9,   40.65,2,   26.23,2, 2800.00,-999.0000,9,-999.0000,9,-999.0000,9,-999.0000,9,-999.0000,9,-999.0000,9,   2.5508,     -999.0,9,     -999.0,9,     -999.0,9,     -999.0,9,        146,-999.000,-999.000,-999.000,     -999.0,9, -999.00,9, -999.00,9
33RO200306_02,       A16N,     146,          1,          9,          9,2,20030808,       0215,    -4.0000,   -25.0002,       5398,  3100.3,   2.6610,  34.9197,2,  34.9190,2,    251.9,2,   259.7,2,   33.74,2,   20.54,2,    0.00,2,    1.36,2,   0.023,2,   0.017,2,   0.000,2,  2180.0,2,  2333.0,2,    753.3,2,    20.00,   7.7480,2,    25.00,-999.000,9,-999.000,9,-999.000,9, -999.00,9,  -999.0,9,  -999.0,-999.000,9,-999.000,-999.000,9,   41.54,2,   25.61,2, 3100.30,-999.0000,9,-999.0000,9,-999.0000,9,-999.0000,9,-999.0000,9,-999.0000,9,   2.4073,     -999.0,9,     -999.0,9,     -999.0,9,     -999.0,9,        146,-999.000,-999.000,-999.000,     -999.0,9, -999.00,9, -999.00,9
33RO200306_02,       A16N,     146,          1,          8,          8,2,20030808,       0215,    -4.0000,   -25.0002,       5398,  3399.9,   2.5722,  34.9155,2,  34.9136,2,    255.5,2,   256.6,2,   33.54,2,   20.21,2,    0.00,2,    1.34,2,   0.043,2,   0.028,2,   0.001,2,  2178.3,2,  2331.5,2,   -999.0,9,  -999.00,   7.7195,2,    25.00,-999.000,9,-999.000,9,-999.000,9, -999.00,9,  -999.0,9,  -999.0,-999.000,9,-999.000,-999.000,9,   41.40,2,   23.79,2, 3399.90,-999.0000,9,-999.0000,9,-999.0000,9,-999.0000,9,-999.0000,9,-999.0000,9,   2.2888,     -999.0,9,     -999.0,9,     -999.0,9,     -999.0,9,        146,-999.000,-999.000,-999.000,     -999.0,9, -999.00,9, -999.00,9