BOTTLE,20230908CCHSIOCBG
EXPOCODE,SECT_ID,STNNBR,CASTNO,SAMPNO,BTLNBR,BTLNBR_FLAG_W,DATE,TIME,LATITUDE,LONGITUDE,DEPTH,CTDPRS,CTDTMP,CTDSAL,CTDSAL_FLAG_W,SALNTY,SALNTY_FLAG_W,CTDOXY,CTDOXY_FLAG_W,OXYGEN,OXYGEN_FLAG_W,SILCAT,SILCAT_FLAG_W,NITRAT,NITRAT_FLAG_W,NITRIT,NITRIT_FLAG_W,PHSPHT,PHSPHT_FLAG_W,CFC-11,CFC-11_FLAG_W,CFC-12,CFC-12_FLAG_W,CFC113,CFC113_FLAG_W,TCARBN,TCARBN_FLAG_W,ALKALI,ALKALI_FLAG_W,FCO2,FCO2_FLAG_W,FCO2TMP,PH_SWS,PH_SWS_FLAG_W,PH_TMP,TRITUM,TRITUM_FLAG_W,HELIUM,HELIUM_FLAG_W,DELHE3,DELHE3_FLAG_W,DELC13,DELC13_FLAG_W,DELC14,DELC14_FLAG_W,C14ERR,NEON,NEON_FLAG_W,NEONER,POC,POC_FLAG_W,DOC,DOC_FLAG_W,TDN,TDN_FLAG_W,CTDRAW,CDOM325,CDOM325_FLAG_W,CDOM340,CDOM340_FLAG_W,CDOM380,CDOM380_FLAG_W,CDOM412,CDOM412_FLAG_W,CDOMSL,CDOMSL_FLAG_W,CDOMSN,CDOMSN_FLAG_W,THETA,PON,PON_FLAG_W,HCFC-22,HCFC-22_FLAG_W,HCFC-142b,HCFC-142b_FLAG_W,HCFC-141b,HCFC-141b_FLAG_W,STNNBR_U,HELIER,DELHER,TRITER,CH3CL,CH3CL_FLAG_W,CH3BR,CH3BR_FLAG_W,CH3I,CH3I_FLAG_W
,,,,,,,,,,,METERS,DBAR,ITS-90,PSS-78,,PSS-78,,UMOL/KG,,UMOL/KG,,UMOL/KG,,UMOL/KG,,UMOL/KG,,UMOL/KG,,PMOL/KG,,PMOL/KG,,PMOL/KG,,UMOL/KG,,UMOL/KG,,UATM,,DEG C,,,DEG C,TU,,NMOL/KG,,PERCNT,,/MILLE,,/MILLE,,/MILLE,NMOL/KG,,NMOL/KG,UG/KG,,UMOL/KG,,UMOL/KG,,DBAR,1/M,,1/M,,1/M,,1/M,,1/NM,,1/NM,,DEG C,UMOL/L,,PMOL/KG,,PMOL/KG,,PMOL/KG,,,NMOL/KG,PERCNT,TU,PMOL/KG,,PMOL/KG,,PMOL/KG,
33RO200306_02,       A16N,     124,          1,         35,         35,2,20030802,       1026,     3.9937,   -25.5038,       4040,     3.0,  26.9307,  35.4954,2,  35.4986,2,    200.0,2,   208.5,2,    0.71,2,    0.10,2,    0.00,2,    0.07,2,   1.708,2,   1.096,2,   0.148,2,  1987.2,6,  -999.0,9,    278.8,2,    20.00,-999.0000,9,  -999.00,-999.000,9,-999.000,9,-999.000,9, -999.00,9,  -999.0,9,  -999.0,-999.000,9,-999.000,-999.000,9,   70.32,2,    6.63,2,    3.00,-999.0000,9,-999.0000,9,-999.0000,9,-999.0000,9,-999.0000,9,-999.0000,9,  26.9300,     -999.0,9,       3.52,2,       0.13,2,       0.28,2,        124,-999.000,-999.000,-999.000,      73.71,2,    0.59,2,   10.37,2
33RO200306_02,       A16N,     124,          1,         33,         33,2,20030802,       1026,     3.9937,   -25.5038,       4040,    20.4,  26.9301,  35.4944,2,  35.4973,2,    200.0,2,   205.5,2,    0.71,2,    0.10,2,    0.00,2,    0.06,2,   1.712,2,   1.098,2,   0.143,2,  1986.2,2,  -999.0,9,    282.0,2,    20.00,-999.0000,9,  -999.00,-999.000,9,-999.000,9,-999.000,9, -999.00,9,  -999.0,9,  -999.0,-999.000,9,-999.000,-999.000,9,   70.49,2,    6.04,2,   20.40,-999.0000,9,-999.0000,9,-999.0000,9,-999.0000,9,-999.0000,9,-999.0000,9,  26.9254,     -999.0,9,       3.47,2,       0.16,2,       0.25,2,        124,-999.000,-999.000,-999.000,      95.15,2,     0.7,2,   10.37,2
33RO200306_02,       A16N,     124,          1,         32,         32,2,20030802,       1026,     3.9937,   -25.5038,       4040,    40.3,  26.9234,  35.4935,2,  35.4968,2,    200.2,2,   205.5,2,    0.71,2,    0.10,2,    0.00,2,    0.06,2,-999.000,9,-999.000,9,-999.000,9,  1984.8,2,  -999.0,9,    282.2,2,    20.00,-999.0000,9,  -999.00,-999.000,9,-999.000,9,-999.000,9, -999.00,9,  -999.0,9,  -999.0,-999.000,9,-999.000,-999.000,9, -999.00,9, -999.00,9,   40.30,-999.0000,9,-999.0000,9,-999.0000,9,-999.0000,9,-999.0000,9,-999.0000,9,  26.9142,     -999.0,9,     -999.0,9,     -999.0,9,     -999.0,9,        124,-999.000,-999.000,-999.000,     -999.0,9, -999.00,9, -999.00,9
33RO200306_02,       A16N,     124,          1,         31,         31,2,20030802,       1026,     3.9937,   -25.5038,       4040,    60.1,  26.9143,  35.4964,2,  35.5198,2,    200.1,2,   204.8,2,    0.72,2,    0.11,2,    0.00,2,    0.07,2,   1.713,2,   1.102,2,   0.142,2,  1988.9,2,  -999.0,9,    281.5,2,    20.00,-999.0000,9,  -999.00,-999.000,9,-999.000,9,-999.000,9, -999.00,9,  -999.0,9,  -999.0,-999.000,9,-999.000,-999.000,9,   70.65,2,    7.28,2,   60.10,-999.0000,9,-999.0000,9,-999.0000,9,-999.0000,9,-999.0000,9,-999.0000,9,  26.9005,     -999.0,9,       3.40,2,       0.18,2,       0.32,2,        124,-999.000,-999.000,-999.000,       36.4,2,    0.15,2,   10.58,2
33RO200306_02,       A16N,     124,          1,         30,         30,2,20030802,       1026,     3.9937,   -25.5038,       4040,    79.7,  26.0561,  35.6459,2,  35.6757,2,    196.8,2,   200.8,2,    0.93,2,    0.36,2,    0.03,2,    0.14,2,-999.000,9,-999.000,9,-999.000,9,  2018.6,2,  2340.3,2,    307.2,2,    20.00,   8.0601,2,    25.00,-999.000,9,-999.000,9,-999.000,9, -999.00,9,  -999.0,9,  -999.0,-999.000,9,-999.000,-999.000,9, -999.00,9, -999.00,9,   79.70,-999.0000,9,-999.0000,9,-999.0000,9,-999.0000,9,-999.0000,9,-999.0000,9,  26.0382,     -999.0,9,     -999.0,9,     -999.0,9,     -999.0,9,        124,-999.000,-999.000,-999.000,     -999.0,9, -999.00,9, -999.00,9
33RO200306_02,       A16N,     124,          1,         29,         29,2,20030802,       1026,     3.9937,   -25.5038,       4040,    99.6,  20.5450,  35.8151,2,  35.8131,2,    164.2,2,   147.8,2,    3.43,2,    8.31,2,    0.27,2,    0.70,2,   1.888,2,   1.117,2,   0.074,2,  2120.1,2,  2351.4,2,    502.1,2,    20.00,   7.8896,2,    25.00,-999.000,9,-999.000,9,-999.000,9, -999.00,9,  -999.0,9,  -999.0,-999.000,9,-999.000,-999.000,9,   57.48,2,   13.30,2,   99.60,-999.0000,9,-999.0000,9,-999.0000,9,-999.0000,9,-999.0000,9,-999.0000,9,  20.5262,     -999.0,9,       2.76,2,       0.17,2,       0.35,2,        124,-999.000,-999.000,-999.000,      48.75,2,    0.37,2,    3.53,2
33RO200306_02,       A16N,     124,          1,         28,         28,2,20030802,       1026,     3.9937,   -25.5038,       4040,   125.0,  16.2179,  35.6245,2,  35.6143,2,    133.3,2,   129.5,2,    5.63,2,   16.30,2,    0.05,2,    1.14,2,   2.001,2,   1.139,2,   0.046,2,  2156.8,2,  2338.5,2,   -999.0,9,  -999.00,   7.7952,2,    25.00,-999.000,9,-999.000,9,-999.000,9, -999.00,9,  -999.0,9,  -999.0,-999.000,9,-999.000,-999.000,9, -999.00,9, -999.00,9,  125.00,-999.0000,9,-999.0000,9,-999.0000,9,-999.0000,9,-999.0000,9,-999.0000,9,  16.1979,     -999.0,9,     -999.0,9,     -999.0,9,     -999.0,9,        124,-999.000,-999.000,-999.000,     -999.0,9, -999.00,9, -999.00,9
33RO200306_02,       A16N,     124,          1,         27,         27,2,20030802,       1026,     3.9937,   -25.5038,       4040,   151.0,  14.6230,  35.4763,2,  35.4776,2,    110.0,2,   114.3,2,    6.82,2,   20.26,2,    0.02,2,    1.36,2,   1.927,2,   1.081,2,   0.026,2,  2175.1,2,  2329.4,2,    875.7,3,    20.00,   7.7223,2,    25.00,-999.000,9,-999.000,9,-999.000,9, -999.00,9,  -999.0,9,  -999.0,-999.000,9,-999.000,-999.000,9,   48.21,2,   24.20,2,  151.00,-999.0000,9,-999.0000,9,-999.0000,9,-999.0000,9,-999.0000,9,-999.0000,9,  14.6005,     -999.0,9,       2.20,2,       0.10,2,       0.14,2,        124,-999.000,-999.000,-999.000,      67.04,2,    0.47,2,    0.47,2
33RO200306_02,       A16N,     124,          1,         26,         26,2,20030802,       1026,     3.9937,   -25.5038,       4040,   174.3,  13.9377,  35.4000,2,  35.4012,2,    125.7,2,   128.1,2,    6.97,2,   19.28,2,    0.01,2,    1.32,2,   1.975,2,   1.096,2,   0.027,2,  2166.2,2,  2326.9,2,   -999.0,9,  -999.00,   7.7409,2,    25.00,-999.000,9,-999.000,9,-999.000,9, -999.00,9,  -999.0,9,  -999.0,-999.000,9,-999.000,-999.000,9, -999.00,9, -999.00,9,  174.30,-999.0000,9,-999.0000,9,-999.0000,9,-999.0000,9,-999.0000,9,-999.0000,9,  13.9125,     -999.0,9,     -999.0,9,     -999.0,9,     -999.0,9,        124,-999.000,-999.000,-999.000,     -999.0,9, -999.00,9, -999.00,9
33RO200306_02,       A16N,     124,          1,         25,         25,2,20030802,       1026,     3.9937,   -25.5038,       4040,   200.0,  13.2035,  35.3076,2,  35.2895,2,    135.2,2,   133.6,2,    7.70,2,   20.08,2,    0.01,2,    1.37,2,   1.921,2,   1.064,2,   0.024,2,  2165.2,2,  2321.6,2,    753.9,2,    20.00,   7.7262,2,    25.00,-999.000,9,-999.000,9,-999.000,9, -999.00,9,  -999.0,9,  -999.0,-999.000,9,-999.000,-999.000,9,   45.93,2,   23.54,2,  200.00,-999.0000,9,-999.0000,9,-999.0000,9,-999.0000,9,-999.0000,9,-999.0000,9,  13.1756,     -999.0,9,       1.82,2,       0.00,2,       0.13,2,        124,-999.000,-999.000,-999.000,      34.88,2,     0.5,2,    0.32,2
33RO200306_02,       A16N,     124,          1,         24,         24,2,20030802,       1026,     3.9937,   -25.5038,       4040,   249.7,  12.1618,  35.1741,2,  35.1722,2,    135.7,2,   136.6,2,    8.67,2,   21.49,2,    0.01,2,    1.45,2,   1.820,2,   0.994,2,   0.022,2,  2168.7,2,  2317.5,2,   -999.0,9,  -999.00,   7.7150,2,    25.00,-999.000,9,-999.000,9,-999.000,9, -999.00,9,  -999.0,9,  -999.0,-999.000,9,-999.000,-999.000,9,   46.10,2,   24.88,2,  249.70,-999.0000,9,-999.0000,9,-999.0000,9,-999.0000,9,-999.0000,9,-999.0000,9,  12.1288,     -999.0,9,     -999.0,9,     -999.0,9,     -999.0,9,        124,-999.000,-999.000,-999.000,     -999.0,9, -999.00,9, -999.00,9
33RO200306_02,       A16N,     124,          1,         23,         23,2,20030802,       1026,     3.9937,   -25.5038,       4040,   300.6,  11.4465,  35.1089,2,  35.1034,2,     78.0,2,    77.1,2,   11.75,2,   29.17,2,    0.00,2,    1.86,2,   1.091,2,   0.593,2,   0.009,2,  2210.6,2,  2311.0,2,   1099.6,6,    20.00,   7.5838,2,    25.00,-999.000,9,-999.000,9,-999.000,9, -999.00,9,  -999.0,9,  -999.0,-999.000,9,-999.000,-999.000,9,   45.29,2,   34.09,2,  300.60,-999.0000,9,-999.0000,9,-999.0000,9,-999.0000,9,-999.0000,9,-999.0000,9,  11.4083,     -999.0,9,       0.84,2,       0.00,2,       0.09,2,        124,-999.000,-999.000,-999.000,      35.13,2,    0.38,2,    1.16,2
33RO200306_02,       A16N,     124,          1,         22,         22,2,20030802,       1026,     3.9937,   -25.5038,       4040,   350.0,   9.8763,  34.9398,2,  34.9466,2,     83.9,2,    83.4,2,   14.05,2,   31.27,2,    0.00,2,    1.99,2,   0.844,2,   0.455,2,   0.008,2,  2214.7,2,  2304.9,2,   1177.5,2,    20.00,   7.5641,2,    25.00,-999.000,9,-999.000,9,-999.000,9, -999.00,9,  -999.0,9,  -999.0,-999.000,9,-999.000,-999.000,9,   45.04,2,   34.34,2,  350.00,-999.0000,9,-999.0000,9,-999.0000,9,-999.0000,9,-999.0000,9,-999.0000,9,   9.8357,     -999.0,9,     -999.0,9,     -999.0,9,     -999.0,9,        124,-999.000,-999.000,-999.000,     -999.0,9, -999.00,9, -999.00,9
33RO200306_02,       A16N,     124,          1,         21,         21,2,20030802,       1026,     3.9937,   -25.5038,       4040,   400.1,   8.6840,  34.8066,2,  34.8063,2,     99.1,2,   100.4,2,   16.22,2,   32.06,2,    0.00,2,    2.06,2,   0.709,2,   0.380,2,   0.010,2,  2214.2,2,  2300.3,2,   1181.0,2,    20.00,   7.5595,2,    25.00,-999.000,9,-999.000,9,-999.000,9, -999.00,9,  -999.0,9,  -999.0,-999.000,9,-999.000,-999.000,9,   43.66,2,   36.68,2,  400.10,-999.0000,9,-999.0000,9,-999.0000,9,-999.0000,9,-999.0000,9,-999.0000,9,   8.6411,     -999.0,9,     -999.0,9,     -999.0,9,     -999.0,9,        124,-999.000,-999.000,-999.000,     -999.0,9, -999.00,9, -999.00,9
33RO200306_02,       A16N,     124,          1,         20,         20,2,20030802,       1026,     3.9937,   -25.5038,       4040,   451.1,   7.8739,  34.7247,2,  34.7271,2,    107.4,2,   106.6,2,   18.04,2,   32.95,2,    0.00,2,    2.13,2,   0.568,2,   0.306,2,   0.008,2,  2214.6,2,  2301.0,2,   1200.6,2,    20.00,   7.5583,2,    25.00,-999.000,9,-999.000,9,-999.000,9, -999.00,9,  -999.0,9,  -999.0,-999.000,9,-999.000,-999.000,9,   42.44,2,   37.32,2,  451.10,-999.0000,9,-999.0000,9,-999.0000,9,-999.0000,9,-999.0000,9,-999.0000,9,   7.8281,     -999.0,9,       0.34,2,       0.06,2,       0.08,2,        124,-999.000,-999.000,-999.000,       38.7,2,    0.35,2,     0.1,2
33RO200306_02,       A16N,     124,          1,         19,         19,2,20030802,       1026,     3.9937,   -25.5038,       4040,   499.3,   7.1179,  34.6531,2,  34.6527,2,    117.0,2,   119.1,2,   20.30,2,   33.55,2,    0.00,2,    2.20,2,   0.450,2,   0.240,2,   0.010,2,  2214.5,2,  2296.7,2,   1206.1,2,    20.00,   7.5505,2,    25.00,-999.000,9,-999.000,9,-999.000,9, -999.00,9,  -999.0,9,  -999.0,-999.000,9,-999.000,-999.000,9,   42.85,2,   37.37,2,  499.30,-999.0000,9,-999.0000,9,-999.0000,9,-999.0000,9,-999.0000,9,-999.0000,9,   7.0699,     -999.0,9,     -999.0,9,     -999.0,9,     -999.0,9,        124,-999.000,-999.000,-999.000,     -999.0,9, -999.00,9, -999.00,9
33RO200306_02,       A16N,     124,          1,         18,         18,2,20030802,       1026,     3.9937,   -25.5038,       4040,   550.2,   6.6363,  34.6148,2,  34.6136,2,    121.9,2,   121.7,2,   21.94,2,   34.07,2,    0.00,2,    2.24,2,   0.366,2,   0.195,2,   0.006,2,  2216.3,2,  2294.9,2,   1222.2,2,    20.00,   7.5473,2,    25.00,-999.000,9,-999.000,9,-999.000,9, -999.00,9,  -999.0,9,  -999.0,-999.000,9,-999.000,-999.000,9,   42.36,2,   38.83,2,  550.20,-999.0000,9,-999.0000,9,-999.0000,9,-999.0000,9,-999.0000,9,-999.0000,9,   6.5853,     -999.0,9,     -999.0,9,     -999.0,9,     -999.0,9,        124,-999.000,-999.000,-999.000,     -999.0,9, -999.00,9, -999.00,9
33RO200306_02,       A16N,     124,          1,         17,         17,2,20030802,       1026,     3.9937,   -25.5038,       4040,   600.2,   6.2062,  34.5896,2,  34.5857,2,    119.4,2,   116.0,2,   23.92,2,   34.83,2,    0.00,2,    2.31,2,   0.226,2,   0.128,2,   0.005,2,  2218.9,2,  2299.4,6,   1242.0,2,    20.00,   7.5453,6,    25.00,-999.000,9,-999.000,9,-999.000,9, -999.00,9,  -999.0,9,  -999.0,-999.000,9,-999.000,-999.000,9,   41.95,2,   38.73,2,  600.20,-999.0000,9,-999.0000,9,-999.0000,9,-999.0000,9,-999.0000,9,-999.0000,9,   6.1523,     -999.0,9,       0.10,2,       0.00,2,       0.13,2,        124,-999.000,-999.000,-999.000,     100.82,2,    0.94,2,    0.68,2
33RO200306_02,       A16N,     124,          1,         16,         16,2,20030802,       1026,     3.9937,   -25.5038,       4040,   700.7,   5.5200,  34.5599,2,  34.5586,2,    130.4,2,   136.0,2,   26.85,2,   34.84,2,    0.00,2,    2.35,2,   0.147,2,   0.085,2,   0.003,2,  2222.2,2,  2301.0,2,   1228.0,2,    20.00,   7.5414,2,    25.00,-999.000,9,-999.000,9,-999.000,9, -999.00,9,  -999.0,9,  -999.0,-999.000,9,-999.000,-999.000,9,   39.83,2,   38.16,2,  700.70,-999.0000,9,-999.0000,9,-999.0000,9,-999.0000,9,-999.0000,9,-999.0000,9,   5.4603,     -999.0,9,     -999.0,9,     -999.0,9,     -999.0,9,        124,-999.000,-999.000,-999.000,     -999.0,9, -999.00,9, -999.00,9
33RO200306_02,       A16N,     124,          1,         15,         15,2,20030802,       1026,     3.9937,   -25.5038,       4040,   799.0,   5.3082,  34.5841,2,  34.5835,2,    136.9,2,   130.8,2,   28.04,2,   35.13,2,    0.00,2,    2.37,2,   0.070,2,   0.040,2,   0.002,2,  2220.4,2,  2302.9,2,   1255.4,2,    20.00,   7.5381,2,    25.00,-999.000,9,-999.000,9,-999.000,9, -999.00,9,  -999.0,9,  -999.0,-999.000,9,-999.000,-999.000,9,   40.00,2,   39.51,2,  799.00,-999.0000,9,-999.0000,9,-999.0000,9,-999.0000,9,-999.0000,9,-999.0000,9,   5.2408,     -999.0,9,     -999.0,9,     -999.0,9,     -999.0,9,        124,-999.000,-999.000,-999.000,     -999.0,9, -999.00,9, -999.00,9
33RO200306_02,       A16N,     124,          1,         14,         14,2,20030802,       1026,     3.9937,   -25.5038,       4040,   900.5,   4.9631,  34.6361,2,  34.6368,2,    140.2,2,   142.7,2,   28.99,2,   33.77,2,    0.00,2,    2.29,2,   0.036,2,   0.021,2,  -0.001,2,  2220.0,2,  2306.2,2,   1186.1,2,    20.00,   7.5576,2,    25.00,-999.000,9,-999.000,9,-999.000,9, -999.00,9,  -999.0,9,  -999.0,-999.000,9,-999.000,-999.000,9,   40.32,2,   38.29,2,  900.50,-999.0000,9,-999.0000,9,-999.0000,9,-999.0000,9,-999.0000,9,-999.0000,9,   4.8888,     -999.0,9,     -999.0,9,     -999.0,9,     -999.0,9,        124,-999.000,-999.000,-999.000,     -999.0,9, -999.00,9, -999.00,9
33RO200306_02,       A16N,     124,          1,         13,         13,2,20030802,       1026,     3.9937,   -25.5038,       4040,   999.0,   4.8240,  34.7097,2,  34.7082,2,    147.0,2,   147.5,2,   28.42,2,   32.60,2,    0.00,2,    2.23,2,   0.006,2,   0.006,2,   0.001,2,  2219.1,2,  2309.1,2,   1165.7,2,    20.00,   7.5666,2,    25.00,-999.000,9,-999.000,9,-999.000,9, -999.00,9,  -999.0,9,  -999.0,-999.000,9,-999.000,-999.000,9,   40.73,2,   35.54,2,  999.00,-999.0000,9,-999.0000,9,-999.0000,9,-999.0000,9,-999.0000,9,-999.0000,9,   4.7418,     -999.0,9,     -999.0,9,     -999.0,9,     -999.0,9,        124,-999.000,-999.000,-999.000,     -999.0,9, -999.00,9, -999.00,9
33RO200306_02,       A16N,     124,          1,         12,         12,2,20030802,       1026,     3.9937,   -25.5038,       4040,  1100.4,   4.6417,  34.7853,2,  34.7895,2,    172.6,2,   175.1,2,   26.13,2,   29.14,2,    0.00,2,    2.00,2,   0.034,2,   0.020,2,   0.003,2,  2205.8,2,  2311.8,2,   -999.0,9,  -999.00,   7.6117,2,    25.00,-999.000,9,-999.000,9,-999.000,9, -999.00,9,  -999.0,9,  -999.0,-999.000,9,-999.000,-999.000,9,   41.54,2,   32.59,2, 1100.40,-999.0000,9,-999.0000,9,-999.0000,9,-999.0000,9,-999.0000,9,-999.0000,9,   4.5517,     -999.0,9,       0.00,2,       0.00,2,       0.15,2,        124,-999.000,-999.000,-999.000,       8.23,2,     0.0,2,    0.13,2
33RO200306_02,       A16N,     124,          1,         11,         11,2,20030802,       1026,     3.9937,   -25.5038,       4040,  1199.7,   4.5710,  34.8458,2,  34.8458,2,    186.3,2,   185.2,2,   24.39,2,   27.47,2,    0.00,2,    1.87,2,   0.032,2,   0.019,2,   0.001,2,  2199.4,2,  2313.1,2,    971.4,2,    20.00,   7.6377,2,    25.00,-999.000,9,-999.000,9,-999.000,9, -999.00,9,  -999.0,9,  -999.0,-999.000,9,-999.000,-999.000,9,   40.98,2,   32.00,2, 1199.70,-999.0000,9,-999.0000,9,-999.0000,9,-999.0000,9,-999.0000,9,-999.0000,9,   4.4726,     -999.0,9,     -999.0,9,     -999.0,9,     -999.0,9,        124,-999.000,-999.000,-999.000,     -999.0,9, -999.00,9, -999.00,9
33RO200306_02,       A16N,     124,          1,         10,         10,2,20030802,       1026,     3.9937,   -25.5038,       4040,  1399.6,   4.3535,  34.9313,2,  34.9313,2,    210.9,2,   211.7,2,   20.88,2,   23.95,2,    0.00,2,    1.64,2,   0.044,6,   0.027,6,   0.001,6,  2185.4,2,  2314.8,2,   -999.0,9,  -999.00,   7.6875,2,    25.00,-999.000,9,-999.000,9,-999.000,9, -999.00,9,  -999.0,9,  -999.0,-999.000,9,-999.000,-999.000,9,   40.41,2,   27.47,2, 1399.60,-999.0000,9,-999.0000,9,-999.0000,9,-999.0000,9,-999.0000,9,-999.0000,9,   4.2387,     -999.0,9,       0.02,2,       0.00,2,       0.10,2,        124,-999.000,-999.000,-999.000,      31.24,2,    0.02,2,    0.19,2
33RO200306_02,       A16N,     124,          1,          9,          9,2,20030802,       1026,     3.9937,   -25.5038,       4040,  1600.7,   4.1472,  34.9694,2,  34.9697,2,    234.2,2,   233.0,2,   18.39,2,   21.43,2,    0.00,2,    1.46,2,   0.080,2,   0.058,3,   0.003,2,  2172.3,2,  2315.0,2,    800.9,2,    20.00,   7.7127,2,    25.00,-999.000,9,-999.000,9,-999.000,9, -999.00,9,  -999.0,9,  -999.0,-999.000,9,-999.000,-999.000,9,   40.81,2,   25.76,2, 1600.70,-999.0000,9,-999.0000,9,-999.0000,9,-999.0000,9,-999.0000,9,-999.0000,9,   4.0160,     -999.0,9,     -999.0,9,     -999.0,9,     -999.0,9,        124,-999.000,-999.000,-999.000,     -999.0,9, -999.00,9, -999.00,9
33RO200306_02,       A16N,     124,          1,          8,          8,2,20030802,       1026,     3.9937,   -25.5038,       4040,  1800.2,   3.8697,  34.9715,2,  34.9724,2,    247.1,2,   238.7,2,   18.98,2,   20.60,2,    0.00,2,    1.41,2,   0.061,2,   0.034,2,   0.002,2,  2169.0,2,  2315.5,2,   -999.0,9,  -999.00,   7.7244,2,    25.00,-999.000,9,-999.000,9,-999.000,9, -999.00,9,  -999.0,9,  -999.0,-999.000,9,-999.000,-999.000,9,   41.54,2,   24.21,2, 1800.20,-999.0000,9,-999.0000,9,-999.0000,9,-999.0000,9,-999.0000,9,-999.0000,9,   3.7232,     -999.0,9,     -999.0,9,     -999.0,9,     -999.0,9,        124,-999.000,-999.000,-999.000,     -999.0,9, -999.00,9, -999.00,9