BOTTLE,20230908CCHSIOCBG
EXPOCODE,SECT_ID,STNNBR,CASTNO,SAMPNO,BTLNBR,BTLNBR_FLAG_W,DATE,TIME,LATITUDE,LONGITUDE,DEPTH,CTDPRS,CTDTMP,CTDSAL,CTDSAL_FLAG_W,SALNTY,SALNTY_FLAG_W,CTDOXY,CTDOXY_FLAG_W,OXYGEN,OXYGEN_FLAG_W,SILCAT,SILCAT_FLAG_W,NITRAT,NITRAT_FLAG_W,NITRIT,NITRIT_FLAG_W,PHSPHT,PHSPHT_FLAG_W,CFC-11,CFC-11_FLAG_W,CFC-12,CFC-12_FLAG_W,CFC113,CFC113_FLAG_W,TCARBN,TCARBN_FLAG_W,ALKALI,ALKALI_FLAG_W,FCO2,FCO2_FLAG_W,FCO2TMP,PH_SWS,PH_SWS_FLAG_W,PH_TMP,TRITUM,TRITUM_FLAG_W,HELIUM,HELIUM_FLAG_W,DELHE3,DELHE3_FLAG_W,DELC13,DELC13_FLAG_W,DELC14,DELC14_FLAG_W,C14ERR,NEON,NEON_FLAG_W,NEONER,POC,POC_FLAG_W,DOC,DOC_FLAG_W,TDN,TDN_FLAG_W,CTDRAW,CDOM325,CDOM325_FLAG_W,CDOM340,CDOM340_FLAG_W,CDOM380,CDOM380_FLAG_W,CDOM412,CDOM412_FLAG_W,CDOMSL,CDOMSL_FLAG_W,CDOMSN,CDOMSN_FLAG_W,THETA,PON,PON_FLAG_W,HCFC-22,HCFC-22_FLAG_W,HCFC-142b,HCFC-142b_FLAG_W,HCFC-141b,HCFC-141b_FLAG_W,STNNBR_U,HELIER,DELHER,TRITER,CH3CL,CH3CL_FLAG_W,CH3BR,CH3BR_FLAG_W,CH3I,CH3I_FLAG_W
,,,,,,,,,,,METERS,DBAR,ITS-90,PSS-78,,PSS-78,,UMOL/KG,,UMOL/KG,,UMOL/KG,,UMOL/KG,,UMOL/KG,,UMOL/KG,,PMOL/KG,,PMOL/KG,,PMOL/KG,,UMOL/KG,,UMOL/KG,,UATM,,DEG C,,,DEG C,TU,,NMOL/KG,,PERCNT,,/MILLE,,/MILLE,,/MILLE,NMOL/KG,,NMOL/KG,UG/KG,,UMOL/KG,,UMOL/KG,,DBAR,1/M,,1/M,,1/M,,1/M,,1/NM,,1/NM,,DEG C,UMOL/L,,PMOL/KG,,PMOL/KG,,PMOL/KG,,,NMOL/KG,PERCNT,TU,PMOL/KG,,PMOL/KG,,PMOL/KG,
33RO200306_02,       A16N,     138,          2,          7,          7,2,20030805,       2102,    -0.9998,   -25.0008,       3218,  1599.3,   4.1300,  34.9768,2,  34.9768,2,    237.1,2,   237.3,2,   17.50,2,   20.62,2,    0.00,2,    1.38,2,   0.220,2,   0.120,2,   0.006,2,  2169.1,2,  2316.3,2,    780.1,6,    20.00,   7.7196,2,    25.00,-999.000,9,-999.000,9,-999.000,9, -999.00,9,  -999.0,9,  -999.0,-999.000,9,-999.000,-999.000,9,   41.22,2,   25.35,2, 1599.30,-999.0000,9,-999.0000,9,-999.0000,9,-999.0000,9,-999.0000,9,-999.0000,9,   3.9991,     -999.0,9,     -999.0,9,     -999.0,9,     -999.0,9,        138,-999.000,-999.000,-999.000,     -999.0,9, -999.00,9, -999.00,9
33RO200306_02,       A16N,     138,          2,          6,          6,2,20030805,       2102,    -0.9998,   -25.0008,       3218,  1800.6,   3.8552,  34.9782,2,  34.9783,2,    245.6,2,   247.3,2,   17.98,2,   19.84,2,    0.00,2,    1.33,2,   0.182,2,   0.105,2,   0.010,2,  2165.7,2,  2316.4,2,   -999.0,9,  -999.00,   7.7860,3,    25.00,-999.000,9,-999.000,9,-999.000,9, -999.00,9,  -999.0,9,  -999.0,-999.000,9,-999.000,-999.000,9,   41.42,2,   24.27,2, 1800.60,-999.0000,9,-999.0000,9,-999.0000,9,-999.0000,9,-999.0000,9,-999.0000,9,   3.7089,     -999.0,9,     -999.0,9,     -999.0,9,     -999.0,9,        138,-999.000,-999.000,-999.000,     -999.0,9, -999.00,9, -999.00,9
33RO200306_02,       A16N,     138,          2,          5,          5,2,20030805,       2102,    -0.9998,   -25.0008,       3218,  1999.8,   3.6405,  34.9725,2,  34.9727,2,    249.5,2,   250.0,2,   19.39,2,   19.66,2,    0.00,2,    1.31,2,   0.158,2,   0.088,2,   0.003,2,  2165.2,2,  2318.4,2,    750.2,2,    20.00,   7.7499,2,    25.00,-999.000,9,-999.000,9,-999.000,9, -999.00,9,  -999.0,9,  -999.0,-999.000,9,-999.000,-999.000,9,   40.49,2,   24.47,2, 1999.80,-999.0000,9,-999.0000,9,-999.0000,9,-999.0000,9,-999.0000,9,-999.0000,9,   3.4783,     -999.0,9,     -999.0,9,     -999.0,9,     -999.0,9,        138,-999.000,-999.000,-999.000,     -999.0,9, -999.00,9, -999.00,9
33RO200306_02,       A16N,     138,          2,          4,          4,2,20030805,       2102,    -0.9998,   -25.0008,       3218,  2299.4,   3.1524,  34.9481,2,  34.9479,2,    250.0,2,   251.1,2,   26.03,2,   20.16,2,    0.00,2,    1.37,2,   0.091,2,   0.087,3,   0.009,2,  2169.7,2,  2326.2,2,   -999.0,9,  -999.00,   7.7295,2,    25.00,-999.000,9,-999.000,9,-999.000,9, -999.00,9,  -999.0,9,  -999.0,-999.000,9,-999.000,-999.000,9,   40.69,2,   24.98,2, 2299.40,-999.0000,9,-999.0000,9,-999.0000,9,-999.0000,9,-999.0000,9,-999.0000,9,   2.9693,     -999.0,9,     -999.0,9,     -999.0,9,     -999.0,9,        138,-999.000,-999.000,-999.000,     -999.0,9, -999.00,9, -999.00,9
33RO200306_02,       A16N,     138,          2,          3,          3,2,20030805,       2102,    -0.9998,   -25.0008,       3218,  2599.7,   2.8500,  34.9283,2,  34.9283,2,    248.0,2,   248.6,2,   31.90,6,   20.79,6,    0.00,6,    1.42,6,   0.032,2,   0.022,2,   0.001,2,  2176.8,2,  2333.1,2,    765.1,6,    20.00,   7.7286,2,    25.00,-999.000,9,-999.000,9,-999.000,9, -999.00,9,  -999.0,9,  -999.0,-999.000,9,-999.000,-999.000,9,   40.81,2,   24.74,2, 2599.70,-999.0000,9,-999.0000,9,-999.0000,9,-999.0000,9,-999.0000,9,-999.0000,9,   2.6431,     -999.0,9,     -999.0,9,     -999.0,9,     -999.0,9,        138,-999.000,-999.000,-999.000,     -999.0,9, -999.00,9, -999.00,9
33RO200306_02,       A16N,     138,          2,          2,          2,2,20030805,       2102,    -0.9998,   -25.0008,       3218,  2900.2,   2.7267,  34.9199,2,  34.9198,2,    248.4,2,   248.8,2,   33.78,6,   20.87,6,    0.00,6,    1.44,6,   0.039,6,   0.022,6,   0.003,6,  2179.1,2,  2333.3,2,   -999.0,9,  -999.00,   7.7060,2,    25.00,-999.000,9,-999.000,9,-999.000,9, -999.00,9,  -999.0,9,  -999.0,-999.000,9,-999.000,-999.000,9,   40.65,2,   24.48,2, 2900.20,-999.0000,9,-999.0000,9,-999.0000,9,-999.0000,9,-999.0000,9,-999.0000,9,   2.4922,     -999.0,9,     -999.0,9,     -999.0,9,     -999.0,9,        138,-999.000,-999.000,-999.000,     -999.0,9, -999.00,9, -999.00,9
33RO200306_02,       A16N,     138,          2,          1,          1,2,20030805,       2102,    -0.9998,   -25.0008,       3218,  3187.2,   2.6146,  34.9106,2,  34.9119,2,    247.9,2,   248.5,2,   36.27,6,   21.29,6,    0.00,6,    1.46,6,   0.038,2,   0.023,2,   0.003,2,  2182.0,6,  2335.0,6,    764.7,2,    20.00,   7.7051,6,    25.00,-999.000,9,-999.000,9,-999.000,9, -999.00,9,  -999.0,9,  -999.0,-999.000,9,-999.000,-999.000,9,   40.08,2,   25.50,2, 3187.20,-999.0000,9,-999.0000,9,-999.0000,9,-999.0000,9,-999.0000,9,-999.0000,9,   2.3529,     -999.0,9,     -999.0,9,     -999.0,9,     -999.0,9,        138,-999.000,-999.000,-999.000,     -999.0,9, -999.00,9, -999.00,9