BOTTLE,20230908CCHSIOCBG
EXPOCODE,SECT_ID,STNNBR,CASTNO,SAMPNO,BTLNBR,BTLNBR_FLAG_W,DATE,TIME,LATITUDE,LONGITUDE,DEPTH,CTDPRS,CTDTMP,CTDSAL,CTDSAL_FLAG_W,SALNTY,SALNTY_FLAG_W,CTDOXY,CTDOXY_FLAG_W,OXYGEN,OXYGEN_FLAG_W,SILCAT,SILCAT_FLAG_W,NITRAT,NITRAT_FLAG_W,NITRIT,NITRIT_FLAG_W,PHSPHT,PHSPHT_FLAG_W,CFC-11,CFC-11_FLAG_W,CFC-12,CFC-12_FLAG_W,CFC113,CFC113_FLAG_W,TCARBN,TCARBN_FLAG_W,ALKALI,ALKALI_FLAG_W,FCO2,FCO2_FLAG_W,FCO2TMP,PH_SWS,PH_SWS_FLAG_W,PH_TMP,TRITUM,TRITUM_FLAG_W,HELIUM,HELIUM_FLAG_W,DELHE3,DELHE3_FLAG_W,DELC13,DELC13_FLAG_W,DELC14,DELC14_FLAG_W,C14ERR,NEON,NEON_FLAG_W,NEONER,POC,POC_FLAG_W,DOC,DOC_FLAG_W,TDN,TDN_FLAG_W,CTDRAW,CDOM325,CDOM325_FLAG_W,CDOM340,CDOM340_FLAG_W,CDOM380,CDOM380_FLAG_W,CDOM412,CDOM412_FLAG_W,CDOMSL,CDOMSL_FLAG_W,CDOMSN,CDOMSN_FLAG_W,THETA,PON,PON_FLAG_W,HCFC-22,HCFC-22_FLAG_W,HCFC-142b,HCFC-142b_FLAG_W,HCFC-141b,HCFC-141b_FLAG_W,STNNBR_U,HELIER,DELHER,TRITER,CH3CL,CH3CL_FLAG_W,CH3BR,CH3BR_FLAG_W,CH3I,CH3I_FLAG_W
,,,,,,,,,,,METERS,DBAR,ITS-90,PSS-78,,PSS-78,,UMOL/KG,,UMOL/KG,,UMOL/KG,,UMOL/KG,,UMOL/KG,,UMOL/KG,,PMOL/KG,,PMOL/KG,,PMOL/KG,,UMOL/KG,,UMOL/KG,,UATM,,DEG C,,,DEG C,TU,,NMOL/KG,,PERCNT,,/MILLE,,/MILLE,,/MILLE,NMOL/KG,,NMOL/KG,UG/KG,,UMOL/KG,,UMOL/KG,,DBAR,1/M,,1/M,,1/M,,1/M,,1/NM,,1/NM,,DEG C,UMOL/L,,PMOL/KG,,PMOL/KG,,PMOL/KG,,,NMOL/KG,PERCNT,TU,PMOL/KG,,PMOL/KG,,PMOL/KG,
33RO200306_02,       A16N,     124,          1,          7,          7,2,20030802,       1026,     3.9937,   -25.5038,       4040,  1999.5,   3.5669,  34.9655,2,  34.9652,2,    251.9,2,   251.9,2,   21.07,2,   20.33,2,    0.00,2,    1.39,2,   0.050,2,   0.033,2,   0.002,2,  2169.3,2,  2317.9,2,    761.7,2,    20.00,   7.7262,2,    25.00,-999.000,9,-999.000,9,-999.000,9, -999.00,9,  -999.0,9,  -999.0,-999.000,9,-999.000,-999.000,9,   41.71,2,   23.76,2, 1999.50,-999.0000,9,-999.0000,9,-999.0000,9,-999.0000,9,-999.0000,9,-999.0000,9,   3.4059,     -999.0,9,       0.00,2,       0.00,2,       0.07,2,        124,-999.000,-999.000,-999.000,      15.88,2,    0.13,2,    0.17,2
33RO200306_02,       A16N,     124,          1,          6,          6,2,20030802,       1026,     3.9937,   -25.5038,       4040,  2199.9,   3.3149,  34.9559,2,  34.9557,2,    254.1,2,   259.6,2,   23.92,2,   20.36,2,    0.00,2,    1.39,2,   0.040,2,   0.026,2,   0.003,2,  2169.6,2,  2322.2,2,   -999.0,9,  -999.00,   7.7304,2,    25.00,-999.000,9,-999.000,9,-999.000,9, -999.00,9,  -999.0,9,  -999.0,-999.000,9,-999.000,-999.000,9,   40.08,2,   25.04,2, 2199.90,-999.0000,9,-999.0000,9,-999.0000,9,-999.0000,9,-999.0000,9,-999.0000,9,   3.1386,     -999.0,9,     -999.0,9,     -999.0,9,     -999.0,9,        124,-999.000,-999.000,-999.000,     -999.0,9, -999.00,9, -999.00,9
33RO200306_02,       A16N,     124,          1,          5,          5,2,20030802,       1026,     3.9937,   -25.5038,       4040,  2401.5,   3.0626,  34.9420,2,  34.9422,2,    252.9,2,   251.4,2,   28.05,2,   20.73,2,    0.00,2,    1.42,2,   0.021,2,   0.015,2,   0.002,2,  2173.7,2,  -999.0,9,    760.1,6,    20.00,-999.0000,9,  -999.00,-999.000,9,-999.000,9,-999.000,9, -999.00,9,  -999.0,9,  -999.0,-999.000,9,-999.000,-999.000,9,   41.54,2,   24.48,2, 2401.50,-999.0000,9,-999.0000,9,-999.0000,9,-999.0000,9,-999.0000,9,-999.0000,9,   2.8712,     -999.0,9,     -999.0,9,     -999.0,9,     -999.0,9,        124,-999.000,-999.000,-999.000,     -999.0,9, -999.00,9, -999.00,9
33RO200306_02,       A16N,     124,          1,          4,          4,2,20030802,       1026,     3.9937,   -25.5038,       4040,  2800.2,   2.7377,  34.9217,2,  34.9214,2,    250.4,2,   251.1,2,   34.42,6,   21.41,6,    0.00,6,    1.48,6,   0.004,2,   0.004,2,   0.000,2,  2182.1,2,  2336.8,2,    768.5,2,    20.00,   7.7221,2,    25.00,-999.000,9,-999.000,9,-999.000,9, -999.00,9,  -999.0,9,  -999.0,-999.000,9,-999.000,-999.000,9,   40.98,2,   24.96,2, 2800.20,-999.0000,9,-999.0000,9,-999.0000,9,-999.0000,9,-999.0000,9,-999.0000,9,   2.5131,     -999.0,9,       0.00,2,       0.05,2,       0.10,2,        124,-999.000,-999.000,-999.000,      25.55,2,    0.04,2,    0.08,2
33RO200306_02,       A16N,     124,          1,          3,          3,2,20030802,       1026,     3.9937,   -25.5038,       4040,  3199.7,   2.5767,  34.9093,2,  34.9092,2,    248.9,2,   248.7,2,   38.30,6,   21.76,6,    0.00,6,    1.50,6,-999.000,9,-999.000,9,-999.000,9,  2186.8,2,  2339.4,2,   -999.0,9,  -999.00,   7.7204,2,    25.00,-999.000,9,-999.000,9,-999.000,9, -999.00,9,  -999.0,9,  -999.0,-999.000,9,-999.000,-999.000,9,   40.49,2,   25.37,2, 3199.70,-999.0000,9,-999.0000,9,-999.0000,9,-999.0000,9,-999.0000,9,-999.0000,9,   2.3145,     -999.0,9,     -999.0,9,     -999.0,9,     -999.0,9,        124,-999.000,-999.000,-999.000,     -999.0,9, -999.00,9, -999.00,9
33RO200306_02,       A16N,     124,          1,          2,          2,2,20030802,       1026,     3.9937,   -25.5038,       4040,  3601.8,   2.4496,  34.8993,2,  34.8989,2,    250.9,2,   250.7,2,   40.21,6,   21.61,6,    0.00,6,    1.50,6,   0.014,2,   0.012,2,   0.001,2,  2188.1,2,  2341.1,2,    772.1,6,    20.00,   7.7257,2,    25.00,-999.000,9,-999.000,9,-999.000,9, -999.00,9,  -999.0,9,  -999.0,-999.000,9,-999.000,-999.000,9,   41.60,2,   25.74,2, 3601.80,-999.0000,9,-999.0000,9,-999.0000,9,-999.0000,9,-999.0000,9,-999.0000,9,   2.1474,     -999.0,9,       0.05,2,       0.00,2,       0.07,2,        124,-999.000,-999.000,-999.000,      15.48,2,    0.15,2,    0.33,2
33RO200306_02,       A16N,     124,          1,          1,          1,2,20030802,       1026,     3.9937,   -25.5038,       4040,  4087.6,   2.3594,  34.8880,2,  34.8892,2,    245.9,2,   247.2,2,   44.85,6,   22.33,6,    0.00,6,    1.55,6,   0.005,2,   0.008,2,   0.002,2,  2195.7,6,  2346.2,2,    782.8,2,    20.00,   7.7172,2,    25.00,-999.000,9,-999.000,9,-999.000,9, -999.00,9,  -999.0,9,  -999.0,-999.000,9,-999.000,-999.000,9,   41.09,2,   27.48,2, 4087.60,-999.0000,9,-999.0000,9,-999.0000,9,-999.0000,9,-999.0000,9,-999.0000,9,   2.0051,     -999.0,9,       0.00,2,       0.00,2,       0.09,2,        124,-999.000,-999.000,-999.000,        0.0,2,     0.0,2,    0.28,2