BOTTLE,20230908CCHSIOCBG
EXPOCODE,SECT_ID,STNNBR,CASTNO,SAMPNO,BTLNBR,BTLNBR_FLAG_W,DATE,TIME,LATITUDE,LONGITUDE,DEPTH,CTDPRS,CTDTMP,CTDSAL,CTDSAL_FLAG_W,SALNTY,SALNTY_FLAG_W,CTDOXY,CTDOXY_FLAG_W,OXYGEN,OXYGEN_FLAG_W,SILCAT,SILCAT_FLAG_W,NITRAT,NITRAT_FLAG_W,NITRIT,NITRIT_FLAG_W,PHSPHT,PHSPHT_FLAG_W,CFC-11,CFC-11_FLAG_W,CFC-12,CFC-12_FLAG_W,CFC113,CFC113_FLAG_W,TCARBN,TCARBN_FLAG_W,ALKALI,ALKALI_FLAG_W,FCO2,FCO2_FLAG_W,FCO2TMP,PH_SWS,PH_SWS_FLAG_W,PH_TMP,TRITUM,TRITUM_FLAG_W,HELIUM,HELIUM_FLAG_W,DELHE3,DELHE3_FLAG_W,DELC13,DELC13_FLAG_W,DELC14,DELC14_FLAG_W,C14ERR,NEON,NEON_FLAG_W,NEONER,POC,POC_FLAG_W,DOC,DOC_FLAG_W,TDN,TDN_FLAG_W,CTDRAW,CDOM325,CDOM325_FLAG_W,CDOM340,CDOM340_FLAG_W,CDOM380,CDOM380_FLAG_W,CDOM412,CDOM412_FLAG_W,CDOMSL,CDOMSL_FLAG_W,CDOMSN,CDOMSN_FLAG_W,THETA,PON,PON_FLAG_W,HCFC-22,HCFC-22_FLAG_W,HCFC-142b,HCFC-142b_FLAG_W,HCFC-141b,HCFC-141b_FLAG_W,STNNBR_U,HELIER,DELHER,TRITER,CH3CL,CH3CL_FLAG_W,CH3BR,CH3BR_FLAG_W,CH3I,CH3I_FLAG_W
,,,,,,,,,,,METERS,DBAR,ITS-90,PSS-78,,PSS-78,,UMOL/KG,,UMOL/KG,,UMOL/KG,,UMOL/KG,,UMOL/KG,,UMOL/KG,,PMOL/KG,,PMOL/KG,,PMOL/KG,,UMOL/KG,,UMOL/KG,,UATM,,DEG C,,,DEG C,TU,,NMOL/KG,,PERCNT,,/MILLE,,/MILLE,,/MILLE,NMOL/KG,,NMOL/KG,UG/KG,,UMOL/KG,,UMOL/KG,,DBAR,1/M,,1/M,,1/M,,1/M,,1/NM,,1/NM,,DEG C,UMOL/L,,PMOL/KG,,PMOL/KG,,PMOL/KG,,,NMOL/KG,PERCNT,TU,PMOL/KG,,PMOL/KG,,PMOL/KG,
33RO200306_01,       A16N,     054,          1,         35,         35,2,20030703,       1526,    38.4980,   -20.0007,       4147,     2.8,  20.9247,  36.0627,2,  36.0611,2,    239.8,2,   229.5,2,    0.82,2,    0.00,2,    0.00,2,    0.03,2,-999.000,9,-999.000,9,-999.000,9,  2068.2,6,  -999.0,9,    357.3,2,    20.00,-999.0000,9,  -999.00,-999.000,9,-999.000,9,-999.000,9, -999.00,9,  -999.0,9,  -999.0,-999.000,9,-999.000,   3.412,2, -999.00,9, -999.00,9,    2.80,-999.0000,9,-999.0000,9,-999.0000,9,-999.0000,9,-999.0000,9,-999.0000,9,  20.9242,      0.315,2,     -999.0,9,     -999.0,9,     -999.0,9,         54,-999.000,-999.000,-999.000,     -999.0,9, -999.00,9, -999.00,9
33RO200306_01,       A16N,     054,          1,         33,         33,2,20030703,       1526,    38.4980,   -20.0007,       4147,    19.7,  19.9219,  36.1520,2,  36.1718,2,    241.1,2,   239.8,2,    0.66,2,    0.00,2,    0.00,2,    0.03,2,-999.000,9,-999.000,9,-999.000,9,  -999.0,9,  2365.2,2,   -999.0,9,  -999.00,   8.0322,4,    25.00,-999.000,9,-999.000,9,-999.000,9, -999.00,9,  -999.0,9,  -999.0,-999.000,9,-999.000,   4.416,2, -999.00,9, -999.00,9,   19.70,-999.0000,9,-999.0000,9,-999.0000,9,-999.0000,9,-999.0000,9,-999.0000,9,  19.9183,      0.569,2,     -999.0,9,     -999.0,9,     -999.0,9,         54,-999.000,-999.000,-999.000,     -999.0,9, -999.00,9, -999.00,9
33RO200306_01,       A16N,     054,          1,         32,         32,2,20030703,       1526,    38.4980,   -20.0007,       4147,    40.4,  16.9710,  36.1457,2,  36.1437,2,    261.6,2,   263.6,2,    0.92,2,    0.00,2,    0.00,2,    0.03,2,-999.000,9,-999.000,9,-999.000,9,  -999.0,9,  -999.0,9,   -999.0,9,  -999.00,-999.0000,9,  -999.00,-999.000,9,-999.000,9,-999.000,9, -999.00,9,  -999.0,9,  -999.0,-999.000,9,-999.000,   5.990,2, -999.00,9, -999.00,9,   40.40,-999.0000,9,-999.0000,9,-999.0000,9,-999.0000,9,-999.0000,9,-999.0000,9,  16.9643,      0.754,2,     -999.0,9,     -999.0,9,     -999.0,9,         54,-999.000,-999.000,-999.000,     -999.0,9, -999.00,9, -999.00,9
33RO200306_01,       A16N,     054,          1,         31,         31,2,20030703,       1526,    38.4980,   -20.0007,       4147,    60.2,  15.8239,  36.1083,2,  36.1051,2,    258.0,2,   254.6,2,    1.05,2,    0.04,2,    0.02,2,    0.06,2,-999.000,9,-999.000,9,-999.000,9,  -999.0,9,  -999.0,9,   -999.0,9,  -999.00,-999.0000,9,  -999.00,-999.000,9,-999.000,9,-999.000,9, -999.00,9,  -999.0,9,  -999.0,-999.000,9,-999.000,   2.206,2, -999.00,9, -999.00,9,   60.20,-999.0000,9,-999.0000,9,-999.0000,9,-999.0000,9,-999.0000,9,-999.0000,9,  15.8144,      0.297,2,     -999.0,9,     -999.0,9,     -999.0,9,         54,-999.000,-999.000,-999.000,     -999.0,9, -999.00,9, -999.00,9
33RO200306_01,       A16N,     054,          1,         30,         30,2,20030703,       1526,    38.4980,   -20.0007,       4147,    80.0,  15.3954,  36.0856,2,  36.0858,2,    249.9,2,   240.6,2,    1.25,2,    1.47,2,    0.44,2,    0.15,2,-999.000,9,-999.000,9,-999.000,9,  -999.0,9,  -999.0,9,   -999.0,9,  -999.00,-999.0000,9,  -999.00,-999.000,9,-999.000,9,-999.000,9, -999.00,9,  -999.0,9,  -999.0,-999.000,9,-999.000,   1.064,2, -999.00,9, -999.00,9,   80.00,-999.0000,9,-999.0000,9,-999.0000,9,-999.0000,9,-999.0000,9,-999.0000,9,  15.3830,      0.033,2,     -999.0,9,     -999.0,9,     -999.0,9,         54,-999.000,-999.000,-999.000,     -999.0,9, -999.00,9, -999.00,9
33RO200306_01,       A16N,     054,          1,         29,         29,2,20030703,       1526,    38.4980,   -20.0007,       4147,   100.2,  15.1833,  36.0774,2,  36.0770,2,    232.4,2,   236.9,2,    1.43,2,    3.42,2,    0.06,2,    0.23,2,-999.000,9,-999.000,9,-999.000,9,  -999.0,9,  -999.0,9,   -999.0,9,  -999.00,-999.0000,9,  -999.00,-999.000,9,-999.000,9,-999.000,9, -999.00,9,  -999.0,9,  -999.0,-999.000,9,-999.000,   0.933,2, -999.00,9, -999.00,9,  100.20,-999.0000,9,-999.0000,9,-999.0000,9,-999.0000,9,-999.0000,9,-999.0000,9,  15.1679,      0.099,2,     -999.0,9,     -999.0,9,     -999.0,9,         54,-999.000,-999.000,-999.000,     -999.0,9, -999.00,9, -999.00,9
33RO200306_01,       A16N,     054,          1,         28,         28,2,20030703,       1526,    38.4980,   -20.0007,       4147,   125.0,  15.0060,  36.0605,2,  36.0606,2,    227.7,2,   231.3,2,    1.60,2,    4.21,2,    0.02,2,    0.27,2,-999.000,9,-999.000,9,-999.000,9,  -999.0,9,  -999.0,9,   -999.0,9,  -999.00,-999.0000,9,  -999.00,-999.000,9,-999.000,9,-999.000,9, -999.00,9,  -999.0,9,  -999.0,-999.000,9,-999.000,-999.000,9, -999.00,9, -999.00,9,  125.00,-999.0000,9,-999.0000,9,-999.0000,9,-999.0000,9,-999.0000,9,-999.0000,9,  14.9869,     -999.0,9,     -999.0,9,     -999.0,9,     -999.0,9,         54,-999.000,-999.000,-999.000,     -999.0,9, -999.00,9, -999.00,9
33RO200306_01,       A16N,     054,          1,         27,         27,2,20030703,       1526,    38.4980,   -20.0007,       4147,   140.0,  14.9450,  36.0603,2,  36.0547,2,    228.2,2,   231.7,2,    1.64,2,    4.37,2,    0.02,2,    0.28,2,-999.000,9,-999.000,9,-999.000,9,  -999.0,9,  -999.0,9,   -999.0,9,  -999.00,-999.0000,9,  -999.00,-999.000,9,-999.000,9,-999.000,9, -999.00,9,  -999.0,9,  -999.0,-999.000,9,-999.000,-999.000,9, -999.00,9, -999.00,9,  140.00,-999.0000,9,-999.0000,9,-999.0000,9,-999.0000,9,-999.0000,9,-999.0000,9,  14.9237,     -999.0,9,     -999.0,9,     -999.0,9,     -999.0,9,         54,-999.000,-999.000,-999.000,     -999.0,9, -999.00,9, -999.00,9
33RO200306_01,       A16N,     054,          1,         26,         26,2,20030703,       1526,    38.4980,   -20.0007,       4147,   172.7,  14.6512,  36.0173,2,  36.0152,2,    226.7,2,   229.6,2,    1.84,2,    5.27,2,    0.01,2,    0.34,2,-999.000,9,-999.000,9,-999.000,9,  -999.0,9,  -999.0,9,   -999.0,9,  -999.00,-999.0000,9,  -999.00,-999.000,9,-999.000,9,-999.000,9, -999.00,9,  -999.0,9,  -999.0,-999.000,9,-999.000,   1.316,2, -999.00,9, -999.00,9,  172.70,-999.0000,9,-999.0000,9,-999.0000,9,-999.0000,9,-999.0000,9,-999.0000,9,  14.6253,      0.066,2,     -999.0,9,     -999.0,9,     -999.0,9,         54,-999.000,-999.000,-999.000,     -999.0,9, -999.00,9, -999.00,9
33RO200306_01,       A16N,     054,          1,         25,         25,2,20030703,       1526,    38.4980,   -20.0007,       4147,   200.9,  14.2625,  35.9507,2,  35.9499,2,    225.4,2,   228.2,2,    2.05,2,    6.05,2,    0.01,2,    0.38,2,-999.000,9,-999.000,9,-999.000,9,  -999.0,9,  -999.0,9,   -999.0,9,  -999.00,-999.0000,9,  -999.00,-999.000,9,-999.000,9,-999.000,9, -999.00,9,  -999.0,9,  -999.0,-999.000,9,-999.000,-999.000,9, -999.00,9, -999.00,9,  200.90,-999.0000,9,-999.0000,9,-999.0000,9,-999.0000,9,-999.0000,9,-999.0000,9,  14.2328,     -999.0,9,     -999.0,9,     -999.0,9,     -999.0,9,         54,-999.000,-999.000,-999.000,     -999.0,9, -999.00,9, -999.00,9
33RO200306_01,       A16N,     054,          1,         24,         24,2,20030703,       1526,    38.4980,   -20.0007,       4147,   241.1,  13.8126,  35.8759,2,  35.8793,2,    221.8,2,   227.4,2,    2.19,2,    6.53,2,    0.01,2,    0.42,2,-999.000,9,-999.000,9,-999.000,9,  -999.0,9,  -999.0,9,   -999.0,9,  -999.00,-999.0000,9,  -999.00,-999.000,9,-999.000,9,-999.000,9, -999.00,9,  -999.0,9,  -999.0,-999.000,9,-999.000,-999.000,9, -999.00,9, -999.00,9,  241.10,-999.0000,9,-999.0000,9,-999.0000,9,-999.0000,9,-999.0000,9,-999.0000,9,  13.7777,     -999.0,9,     -999.0,9,     -999.0,9,     -999.0,9,         54,-999.000,-999.000,-999.000,     -999.0,9, -999.00,9, -999.00,9
33RO200306_01,       A16N,     054,          1,         23,         23,2,20030703,       1526,    38.4980,   -20.0007,       4147,   300.0,  13.3322,  35.8030,2,  35.8030,2,    221.9,2,   221.8,2,    2.85,2,    8.49,2,    0.01,2,    0.53,2,-999.000,9,-999.000,9,-999.000,9,  -999.0,9,  -999.0,9,   -999.0,9,  -999.00,-999.0000,9,  -999.00,-999.000,9,-999.000,9,-999.000,9, -999.00,9,  -999.0,9,  -999.0,-999.000,9,-999.000,-999.000,9, -999.00,9, -999.00,9,  300.00,-999.0000,9,-999.0000,9,-999.0000,9,-999.0000,9,-999.0000,9,-999.0000,9,  13.2898,     -999.0,9,     -999.0,9,     -999.0,9,     -999.0,9,         54,-999.000,-999.000,-999.000,     -999.0,9, -999.00,9, -999.00,9
33RO200306_01,       A16N,     054,          1,         22,         22,2,20030703,       1526,    38.4980,   -20.0007,       4147,   348.5,  12.8574,  35.7316,2,  35.7324,2,    215.3,2,   213.2,2,    3.62,2,   10.38,2,    0.01,2,    0.64,2,-999.000,9,-999.000,9,-999.000,9,  -999.0,9,  -999.0,9,   -999.0,9,  -999.00,-999.0000,9,  -999.00,-999.000,9,-999.000,9,-999.000,9, -999.00,9,  -999.0,9,  -999.0,-999.000,9,-999.000,-999.000,9, -999.00,9, -999.00,9,  348.50,-999.0000,9,-999.0000,9,-999.0000,9,-999.0000,9,-999.0000,9,-999.0000,9,  12.8092,     -999.0,9,     -999.0,9,     -999.0,9,     -999.0,9,         54,-999.000,-999.000,-999.000,     -999.0,9, -999.00,9, -999.00,9
33RO200306_01,       A16N,     054,          1,         21,         21,2,20030703,       1526,    38.4980,   -20.0007,       4147,   399.4,  12.4697,  35.6814,2,  35.6810,2,    208.1,2,   208.3,2,    4.14,2,   11.60,2,    0.00,2,    0.71,2,-999.000,9,-999.000,9,-999.000,9,  -999.0,9,  -999.0,9,   -999.0,9,  -999.00,-999.0000,9,  -999.00,-999.000,9,-999.000,9,-999.000,9, -999.00,9,  -999.0,9,  -999.0,-999.000,9,-999.000,-999.000,9, -999.00,9, -999.00,9,  399.40,-999.0000,9,-999.0000,9,-999.0000,9,-999.0000,9,-999.0000,9,-999.0000,9,  12.4155,     -999.0,9,     -999.0,9,     -999.0,9,     -999.0,9,         54,-999.000,-999.000,-999.000,     -999.0,9, -999.00,9, -999.00,9
33RO200306_01,       A16N,     054,          1,         20,         20,2,20030703,       1526,    38.4980,   -20.0007,       4147,   449.4,  12.0070,  35.6243,2,  35.6266,2,    205.4,2,   204.7,2,    4.70,2,   12.71,2,    0.00,2,    0.77,2,-999.000,9,-999.000,9,-999.000,9,  -999.0,9,  -999.0,9,   -999.0,9,  -999.00,-999.0000,9,  -999.00,-999.000,9,-999.000,9,-999.000,9, -999.00,9,  -999.0,9,  -999.0,-999.000,9,-999.000,-999.000,9, -999.00,9, -999.00,9,  449.40,-999.0000,9,-999.0000,9,-999.0000,9,-999.0000,9,-999.0000,9,-999.0000,9,  11.9474,     -999.0,9,     -999.0,9,     -999.0,9,     -999.0,9,         54,-999.000,-999.000,-999.000,     -999.0,9, -999.00,9, -999.00,9
33RO200306_01,       A16N,     054,          1,         19,         19,2,20030703,       1526,    38.4980,   -20.0007,       4147,   499.1,  11.6773,  35.5879,2,  35.5879,2,    201.6,2,   200.3,2,    5.26,2,   13.78,2,    0.00,2,    0.83,2,-999.000,9,-999.000,9,-999.000,9,  -999.0,9,  -999.0,9,   -999.0,9,  -999.00,-999.0000,9,  -999.00,-999.000,9,-999.000,9,-999.000,9, -999.00,9,  -999.0,9,  -999.0,-999.000,9,-999.000,   4.906,2, -999.00,9, -999.00,9,  499.10,-999.0000,9,-999.0000,9,-999.0000,9,-999.0000,9,-999.0000,9,-999.0000,9,  11.6121,      0.563,2,     -999.0,9,     -999.0,9,     -999.0,9,         54,-999.000,-999.000,-999.000,     -999.0,9, -999.00,9, -999.00,9
33RO200306_01,       A16N,     054,          1,         18,         18,2,20030703,       1526,    38.4980,   -20.0007,       4147,   599.4,  11.0485,  35.5394,2,  35.5401,2,    191.5,2,   192.2,2,    6.63,2,   15.59,2,    0.00,2,    0.95,2,-999.000,9,-999.000,9,-999.000,9,  -999.0,9,  -999.0,9,   -999.0,9,  -999.00,-999.0000,9,  -999.00,-999.000,9,-999.000,9,-999.000,9, -999.00,9,  -999.0,9,  -999.0,-999.000,9,-999.000,-999.000,9, -999.00,9, -999.00,9,  599.40,-999.0000,9,-999.0000,9,-999.0000,9,-999.0000,9,-999.0000,9,-999.0000,9,  10.9726,     -999.0,9,     -999.0,9,     -999.0,9,     -999.0,9,         54,-999.000,-999.000,-999.000,     -999.0,9, -999.00,9, -999.00,9
33RO200306_01,       A16N,     054,          1,         17,         17,2,20030703,       1526,    38.4980,   -20.0007,       4147,   699.6,  10.4595,  35.5670,2,  35.5681,2,    183.4,2,   183.2,2,    8.30,2,   17.06,2,    0.00,2,    1.05,2,-999.000,9,-999.000,9,-999.000,9,  -999.0,9,  -999.0,9,   -999.0,9,  -999.00,-999.0000,9,  -999.00,-999.000,9,-999.000,9,-999.000,9, -999.00,9,  -999.0,9,  -999.0,-999.000,9,-999.000,-999.000,9, -999.00,9, -999.00,9,  699.60,-999.0000,9,-999.0000,9,-999.0000,9,-999.0000,9,-999.0000,9,-999.0000,9,  10.3734,     -999.0,9,     -999.0,9,     -999.0,9,     -999.0,9,         54,-999.000,-999.000,-999.000,     -999.0,9, -999.00,9, -999.00,9
33RO200306_01,       A16N,     054,          1,         16,         16,2,20030703,       1526,    38.4980,   -20.0007,       4147,   791.5,  10.1850,  35.6368,2,  35.6396,2,    180.5,2,   180.2,2,    9.21,2,   17.51,2,    0.00,2,    1.08,2,-999.000,9,-999.000,9,-999.000,9,  -999.0,9,  -999.0,9,   -999.0,9,  -999.00,-999.0000,9,  -999.00,-999.000,9,-999.000,9,-999.000,9, -999.00,9,  -999.0,9,  -999.0,-999.000,9,-999.000,-999.000,9, -999.00,9, -999.00,9,  791.50,-999.0000,9,-999.0000,9,-999.0000,9,-999.0000,9,-999.0000,9,-999.0000,9,  10.0886,     -999.0,9,     -999.0,9,     -999.0,9,     -999.0,9,         54,-999.000,-999.000,-999.000,     -999.0,9, -999.00,9, -999.00,9
33RO200306_01,       A16N,     054,          1,         15,         15,2,20030703,       1526,    38.4980,   -20.0007,       4147,   899.2,   9.9543,  35.7058,2,  35.7071,2,    180.3,2,   180.9,2,    9.81,2,   17.65,2,    0.00,2,    1.09,2,-999.000,9,-999.000,9,-999.000,9,  -999.0,9,  -999.0,9,   -999.0,9,  -999.00,-999.0000,9,  -999.00,-999.000,9,-999.000,9,-999.000,9, -999.00,9,  -999.0,9,  -999.0,-999.000,9,-999.000,-999.000,9, -999.00,9, -999.00,9,  899.20,-999.0000,9,-999.0000,9,-999.0000,9,-999.0000,9,-999.0000,9,-999.0000,9,   9.8456,     -999.0,9,     -999.0,9,     -999.0,9,     -999.0,9,         54,-999.000,-999.000,-999.000,     -999.0,9, -999.00,9, -999.00,9
33RO200306_01,       A16N,     054,          1,         14,         14,2,20030703,       1526,    38.4980,   -20.0007,       4147,   998.9,   9.4644,  35.7032,2,  35.7033,2,    184.9,2,   185.0,2,   10.30,2,   17.73,2,    0.00,2,    1.10,2,-999.000,9,-999.000,9,-999.000,9,  -999.0,9,  -999.0,9,   -999.0,9,  -999.00,-999.0000,9,  -999.00,-999.000,9,-999.000,9,-999.000,9, -999.00,9,  -999.0,9,  -999.0,-999.000,9,-999.000,-999.000,9, -999.00,9, -999.00,9,  998.90,-999.0000,9,-999.0000,9,-999.0000,9,-999.0000,9,-999.0000,9,-999.0000,9,   9.3466,     -999.0,9,     -999.0,9,     -999.0,9,     -999.0,9,         54,-999.000,-999.000,-999.000,     -999.0,9, -999.00,9, -999.00,9
33RO200306_01,       A16N,     054,          1,         13,         13,2,20030703,       1526,    38.4980,   -20.0007,       4147,  1100.6,   9.5249,  35.8239,2,  35.8246,2,    188.9,2,   188.5,2,   10.24,2,   17.13,2,    0.00,2,    1.05,2,-999.000,9,-999.000,9,-999.000,9,  -999.0,9,  -999.0,9,   -999.0,9,  -999.00,-999.0000,9,  -999.00,-999.000,9,-999.000,9,-999.000,9, -999.00,9,  -999.0,9,  -999.0,-999.000,9,-999.000,-999.000,9, -999.00,9, -999.00,9, 1100.60,-999.0000,9,-999.0000,9,-999.0000,9,-999.0000,9,-999.0000,9,-999.0000,9,   9.3938,     -999.0,9,     -999.0,9,     -999.0,9,     -999.0,9,         54,-999.000,-999.000,-999.000,     -999.0,9, -999.00,9, -999.00,9
33RO200306_01,       A16N,     054,          1,         12,         12,2,20030703,       1526,    38.4980,   -20.0007,       4147,  1248.9,   8.6447,  35.7437,2,  35.7450,2,    197.2,2,   198.6,2,   10.78,2,   17.16,2,    0.00,2,    1.06,2,-999.000,9,-999.000,9,-999.000,9,  -999.0,9,  -999.0,9,   -999.0,9,  -999.00,-999.0000,9,  -999.00,-999.000,9,-999.000,9,-999.000,9, -999.00,9,  -999.0,9,  -999.0,-999.000,9,-999.000,-999.000,9, -999.00,9, -999.00,9, 1248.90,-999.0000,9,-999.0000,9,-999.0000,9,-999.0000,9,-999.0000,9,-999.0000,9,   8.5028,     -999.0,9,     -999.0,9,     -999.0,9,     -999.0,9,         54,-999.000,-999.000,-999.000,     -999.0,9, -999.00,9, -999.00,9
33RO200306_01,       A16N,     054,          1,         11,         11,2,20030703,       1526,    38.4980,   -20.0007,       4147,  1437.6,   7.2966,  35.5355,2,  35.5358,2,    212.8,2,   214.4,2,   11.48,2,   17.49,2,    0.00,2,    1.09,2,-999.000,9,-999.000,9,-999.000,9,  -999.0,9,  -999.0,9,    715.4,6,    20.00,-999.0000,9,  -999.00,-999.000,9,-999.000,9,-999.000,9, -999.00,9,  -999.0,9,  -999.0,-999.000,9,-999.000,-999.000,9, -999.00,9, -999.00,9, 1437.60,-999.0000,9,-999.0000,9,-999.0000,9,-999.0000,9,-999.0000,9,-999.0000,9,   7.1459,     -999.0,9,     -999.0,9,     -999.0,9,     -999.0,9,         54,-999.000,-999.000,-999.000,     -999.0,9, -999.00,9, -999.00,9
33RO200306_01,       A16N,     054,          1,         10,         10,2,20030703,       1526,    38.4980,   -20.0007,       4147,  1742.6,   5.1452,  35.2070,2,  35.2084,2,    238.7,2,   227.2,4,   12.93,2,   17.80,2,    0.00,2,    1.13,2,   1.221,2,   0.606,2,   0.045,2,  -999.0,9,  -999.0,9,   -999.0,9,  -999.00,-999.0000,9,  -999.00,-999.000,9,-999.000,9,-999.000,9, -999.00,9,  -999.0,9,  -999.0,-999.000,9,-999.000,-999.000,9, -999.00,9, -999.00,9, 1742.60,-999.0000,9,-999.0000,9,-999.0000,9,-999.0000,9,-999.0000,9,-999.0000,9,   4.9871,     -999.0,9,     -999.0,9,     -999.0,9,     -999.0,9,         54,-999.000,-999.000,-999.000,     -999.0,9, -999.00,9, -999.00,9
33RO200306_01,       A16N,     054,          1,          9,          9,2,20030703,       1526,    38.4980,   -20.0007,       4147,  1995.7,   3.9814,  35.0366,2,  35.0379,2,    253.5,2,   254.2,2,   15.09,2,   17.96,2,    0.00,2,    1.16,2,   0.877,2,   0.440,2,   0.035,2,  -999.0,9,  -999.0,9,   -999.0,9,  -999.00,-999.0000,9,  -999.00,-999.000,9,-999.000,9,-999.000,9, -999.00,9,  -999.0,9,  -999.0,-999.000,9,-999.000,-999.000,9, -999.00,9, -999.00,9, 1995.70,-999.0000,9,-999.0000,9,-999.0000,9,-999.0000,9,-999.0000,9,-999.0000,9,   3.8144,     -999.0,9,     -999.0,9,     -999.0,9,     -999.0,9,         54,-999.000,-999.000,-999.000,     -999.0,9, -999.00,9, -999.00,9
33RO200306_01,       A16N,     054,          1,          8,          8,2,20030703,       1526,    38.4980,   -20.0007,       4147,  2499.1,   3.3028,  34.9814,2,  34.9816,2,    254.1,2,   253.6,2,   22.04,2,   18.85,2,    0.00,2,    1.24,2,   0.256,2,   0.137,2,   0.010,2,  -999.0,9,  -999.0,9,   -999.0,9,  -999.00,-999.0000,9,  -999.00,-999.000,9,-999.000,9,-999.000,9, -999.00,9,  -999.0,9,  -999.0,-999.000,9,-999.000,-999.000,9, -999.00,9, -999.00,9, 2499.10,-999.0000,9,-999.0000,9,-999.0000,9,-999.0000,9,-999.0000,9,-999.0000,9,   3.0972,     -999.0,9,     -999.0,9,     -999.0,9,     -999.0,9,         54,-999.000,-999.000,-999.000,     -999.0,9, -999.00,9, -999.00,9