BOTTLE,20230908CCHSIOCBG
EXPOCODE,SECT_ID,STNNBR,CASTNO,SAMPNO,BTLNBR,BTLNBR_FLAG_W,DATE,TIME,LATITUDE,LONGITUDE,DEPTH,CTDPRS,CTDTMP,CTDSAL,CTDSAL_FLAG_W,SALNTY,SALNTY_FLAG_W,CTDOXY,CTDOXY_FLAG_W,OXYGEN,OXYGEN_FLAG_W,SILCAT,SILCAT_FLAG_W,NITRAT,NITRAT_FLAG_W,NITRIT,NITRIT_FLAG_W,PHSPHT,PHSPHT_FLAG_W,CFC-11,CFC-11_FLAG_W,CFC-12,CFC-12_FLAG_W,CFC113,CFC113_FLAG_W,TCARBN,TCARBN_FLAG_W,ALKALI,ALKALI_FLAG_W,FCO2,FCO2_FLAG_W,FCO2TMP,PH_SWS,PH_SWS_FLAG_W,PH_TMP,TRITUM,TRITUM_FLAG_W,HELIUM,HELIUM_FLAG_W,DELHE3,DELHE3_FLAG_W,DELC13,DELC13_FLAG_W,DELC14,DELC14_FLAG_W,C14ERR,NEON,NEON_FLAG_W,NEONER,POC,POC_FLAG_W,DOC,DOC_FLAG_W,TDN,TDN_FLAG_W,CTDRAW,CDOM325,CDOM325_FLAG_W,CDOM340,CDOM340_FLAG_W,CDOM380,CDOM380_FLAG_W,CDOM412,CDOM412_FLAG_W,CDOMSL,CDOMSL_FLAG_W,CDOMSN,CDOMSN_FLAG_W,THETA,PON,PON_FLAG_W,HCFC-22,HCFC-22_FLAG_W,HCFC-142b,HCFC-142b_FLAG_W,HCFC-141b,HCFC-141b_FLAG_W,STNNBR_U,HELIER,DELHER,TRITER,CH3CL,CH3CL_FLAG_W,CH3BR,CH3BR_FLAG_W,CH3I,CH3I_FLAG_W
,,,,,,,,,,,METERS,DBAR,ITS-90,PSS-78,,PSS-78,,UMOL/KG,,UMOL/KG,,UMOL/KG,,UMOL/KG,,UMOL/KG,,UMOL/KG,,PMOL/KG,,PMOL/KG,,PMOL/KG,,UMOL/KG,,UMOL/KG,,UATM,,DEG C,,,DEG C,TU,,NMOL/KG,,PERCNT,,/MILLE,,/MILLE,,/MILLE,NMOL/KG,,NMOL/KG,UG/KG,,UMOL/KG,,UMOL/KG,,DBAR,1/M,,1/M,,1/M,,1/M,,1/NM,,1/NM,,DEG C,UMOL/L,,PMOL/KG,,PMOL/KG,,PMOL/KG,,,NMOL/KG,PERCNT,TU,PMOL/KG,,PMOL/KG,,PMOL/KG,
33RO200306_02,       A16N,     096,          1,         35,         35,2,20030724,       1112,    17.9995,   -28.9988,       4554,     3.1,  25.4265,  36.5080,2,  36.5099,2,    211.3,2,   209.1,2,    0.51,2,    0.07,2,    0.01,2,    0.07,2,   1.835,2,   1.176,2,   0.161,2,  2055.3,6,  2383.2,6,    308.3,2,    20.00,   8.0623,6,    25.00,-999.000,9,-999.000,9,-999.000,9,    1.65,2,    63.1,2,     4.5,-999.000,9,-999.000,-999.000,9,   75.04,2,    7.61,2,    3.10,-999.0000,9,-999.0000,9,-999.0000,9,-999.0000,9,-999.0000,9,-999.0000,9,  25.4258,     -999.0,9,       4.50,2,       0.19,2,       0.50,2,         96,-999.000,-999.000,-999.000,      54.81,2,     0.0,2,     7.3,2
33RO200306_02,       A16N,     096,          1,         33,         33,2,20030724,       1112,    17.9995,   -28.9988,       4554,    14.9,  25.4268,  36.5072,2,  36.5101,2,    209.9,2,   208.9,2,    0.49,2,    0.07,2,    0.01,2,    0.08,2,   1.834,2,   1.180,2,   0.165,2,  2065.0,2,  2383.7,2,    308.1,2,    20.00,   8.0673,2,    25.00,-999.000,9,-999.000,9,-999.000,9, -999.00,9,  -999.0,9,  -999.0,-999.000,9,-999.000,-999.000,9,   74.39,2,    7.44,2,   14.90,-999.0000,9,-999.0000,9,-999.0000,9,-999.0000,9,-999.0000,9,-999.0000,9,  25.4235,     -999.0,9,       4.34,2,       0.19,2,       0.51,2,         96,-999.000,-999.000,-999.000,       42.3,2,     0.0,2,    13.3,2
33RO200306_02,       A16N,     096,          1,         32,         32,2,20030724,       1112,    17.9995,   -28.9988,       4554,    45.2,  25.1013,  36.6974,2,  36.7279,2,    211.2,2,   223.7,2,    0.43,2,    0.08,2,    0.01,2,    0.09,2,-999.000,9,-999.000,9,-999.000,9,  2073.1,2,  2404.3,2,   -999.0,9,  -999.00,   8.0423,2,    25.00,-999.000,9,-999.000,9,-999.000,9, -999.00,9,  -999.0,9,  -999.0,-999.000,9,-999.000,-999.000,9, -999.00,9, -999.00,9,   45.20,-999.0000,9,-999.0000,9,-999.0000,9,-999.0000,9,-999.0000,9,-999.0000,9,  25.0914,     -999.0,9,     -999.0,9,     -999.0,9,     -999.0,9,         96,-999.000,-999.000,-999.000,     -999.0,9, -999.00,9, -999.00,9
33RO200306_02,       A16N,     096,          1,         31,         31,2,20030724,       1112,    17.9995,   -28.9988,       4554,    64.0,  23.9627,  36.9193,2,  36.9325,2,    215.5,2,   220.5,2,    0.48,2,    0.11,2,    0.01,2,    0.08,2,   1.986,2,   1.270,2,   0.172,2,  2081.5,2,  2415.7,2,    318.9,2,    20.00,   8.0516,2,    25.00,-999.000,9,-999.000,9,-999.000,9, -999.00,9,  -999.0,9,  -999.0,-999.000,9,-999.000,-999.000,9,   73.49,2,    7.94,2,   64.00,-999.0000,9,-999.0000,9,-999.0000,9,-999.0000,9,-999.0000,9,-999.0000,9,  23.9491,     -999.0,9,       4.27,2,       0.20,2,       0.45,2,         96,-999.000,-999.000,-999.000,      95.28,2,     0.0,2,   17.06,2
33RO200306_02,       A16N,     096,          1,         30,         30,2,20030724,       1112,    17.9995,   -28.9988,       4554,    94.9,  21.5599,  36.6952,2,  36.6615,2,    205.5,2,   182.1,2,    1.19,2,    2.31,2,    0.12,2,    0.29,2,   2.072,2,   1.294,2,   0.154,2,  2110.7,2,  2398.9,2,   -999.0,9,  -999.00,   7.9666,2,    25.00,-999.000,9,-999.000,9,-999.000,9, -999.00,9,  -999.0,9,  -999.0,-999.000,9,-999.000,-999.000,9,   62.76,2,    9.45,2,   94.90,-999.0000,9,-999.0000,9,-999.0000,9,-999.0000,9,-999.0000,9,-999.0000,9,  21.5413,     -999.0,9,     -999.0,9,     -999.0,9,     -999.0,9,         96,-999.000,-999.000,-999.000,     -999.0,9, -999.00,9, -999.00,9
33RO200306_02,       A16N,     096,          1,         29,         29,2,20030724,       1112,    17.9995,   -28.9988,       4554,   114.2,  19.2435,  36.4476,2,  36.4330,2,    140.9,2,   136.1,2,    2.65,2,   10.92,2,    0.07,2,    0.74,2,   2.082,2,   1.280,2,   0.117,2,  2161.4,2,  2379.2,2,    545.7,2,    20.00,   7.8609,2,    25.00,-999.000,9,-999.000,9,-999.000,9, -999.00,9,  -999.0,9,  -999.0,-999.000,9,-999.000,-999.000,9, -999.00,9, -999.00,9,  114.20,-999.0000,9,-999.0000,9,-999.0000,9,-999.0000,9,-999.0000,9,-999.0000,9,  19.2228,     -999.0,9,       3.73,2,       0.13,2,       0.79,2,         96,-999.000,-999.000,-999.000,       6.77,2,     0.0,2,    2.27,2
33RO200306_02,       A16N,     096,          1,         28,         28,2,20030724,       1112,    17.9995,   -28.9988,       4554,   139.8,  17.4409,  36.2707,2,  36.2407,2,    115.2,2,   115.4,2,    4.04,2,   15.12,2,    0.03,2,    0.94,2,   2.068,2,   1.238,2,   0.053,2,  2179.9,2,  2368.1,2,   -999.0,9,  -999.00,   7.8016,2,    25.00,-999.000,9,-999.000,9,-999.000,9, -999.00,9,  -999.0,9,  -999.0,-999.000,9,-999.000,-999.000,9,   52.20,2,   21.71,2,  139.80,-999.0000,9,-999.0000,9,-999.0000,9,-999.0000,9,-999.0000,9,-999.0000,9,  17.4172,     -999.0,9,     -999.0,9,     -999.0,9,     -999.0,9,         96,-999.000,-999.000,-999.000,     -999.0,9, -999.00,9, -999.00,9
33RO200306_02,       A16N,     096,          1,         27,         27,2,20030724,       1112,    17.9995,   -28.9988,       4554,   164.2,  16.3461,  36.1317,2,  36.1245,2,    101.3,2,   113.9,2,    4.64,2,   16.31,2,    0.02,2,    1.00,2,   2.049,2,   1.203,2,   0.032,2,  2181.9,2,  2362.2,2,    663.1,2,    20.00,   7.7751,2,    25.00,-999.000,9,-999.000,9,-999.000,9, -999.00,9,  -999.0,9,  -999.0,-999.000,9,-999.000,-999.000,9, -999.00,9, -999.00,9,  164.20,-999.0000,9,-999.0000,9,-999.0000,9,-999.0000,9,-999.0000,9,-999.0000,9,  16.3195,     -999.0,9,       3.01,2,       0.17,2,       0.25,2,         96,-999.000,-999.000,-999.000,      20.73,2,     0.1,2,    0.24,2
33RO200306_02,       A16N,     096,          1,         26,         26,2,20030724,       1112,    17.9995,   -28.9988,       4554,   189.6,  15.5196,  36.0046,2,  35.9886,2,    103.7,2,   104.1,2,    5.58,2,   18.43,2,    0.02,2,    1.13,2,   1.954,2,   1.135,2,   0.022,2,  2188.9,2,  2352.2,2,   -999.0,9,  -999.00,   7.7470,2,    25.00,-999.000,9,-999.000,9,-999.000,9, -999.00,9,  -999.0,9,  -999.0,-999.000,9,-999.000,-999.000,9,   49.19,2,   24.06,2,  189.60,-999.0000,9,-999.0000,9,-999.0000,9,-999.0000,9,-999.0000,9,-999.0000,9,  15.4900,     -999.0,9,     -999.0,9,     -999.0,9,     -999.0,9,         96,-999.000,-999.000,-999.000,     -999.0,9, -999.00,9, -999.00,9
33RO200306_02,       A16N,     096,          1,         25,         25,2,20030724,       1112,    17.9995,   -28.9988,       4554,   225.0,  14.4172,  35.8405,2,  35.8450,2,     96.5,2,    97.0,2,    6.69,2,   20.67,2,    0.02,2,    1.26,2,   1.814,2,   1.029,2,   0.016,2,  2196.2,2,  2344.9,2,    792.8,2,    20.00,   7.7174,2,    25.00,-999.000,9,-999.000,9,-999.000,9, -999.00,9,  -999.0,9,  -999.0,-999.000,9,-999.000,-999.000,9,   47.32,2,   26.59,2,  225.00,-999.0000,9,-999.0000,9,-999.0000,9,-999.0000,9,-999.0000,9,-999.0000,9,  14.3838,     -999.0,9,       2.38,2,       0.10,2,       0.23,2,         96,-999.000,-999.000,-999.000,      72.75,2,     0.0,2,    0.05,2
33RO200306_02,       A16N,     096,          1,         24,         24,2,20030724,       1112,    17.9995,   -28.9988,       4554,   274.7,  13.2535,  35.6648,2,  35.6640,2,     83.6,2,    82.6,2,    8.34,2,   23.82,2,    0.02,2,    1.45,2,   1.508,2,   0.839,2,   0.012,2,  2220.6,2,  2336.2,2,   -999.0,9,  -999.00,   7.6631,2,    25.00,-999.000,9,-999.000,9,-999.000,9, -999.00,9,  -999.0,9,  -999.0,-999.000,9,-999.000,-999.000,9,   46.83,2,   27.24,2,  274.70,-999.0000,9,-999.0000,9,-999.0000,9,-999.0000,9,-999.0000,9,-999.0000,9,  13.2149,     -999.0,9,     -999.0,9,     -999.0,9,     -999.0,9,         96,-999.000,-999.000,-999.000,     -999.0,9, -999.00,9, -999.00,9
33RO200306_02,       A16N,     096,          1,         23,         23,2,20030724,       1112,    17.9995,   -28.9988,       4554,   323.8,  12.4871,  35.5577,2,  35.5597,2,     79.5,2,    85.1,2,    9.49,2,   25.42,2,    0.02,2,    1.55,2,   1.273,2,   0.698,2,   0.011,2,  2209.8,2,  2331.5,2,    957.4,2,    20.00,   7.6336,2,    25.00,-999.000,9,-999.000,9,-999.000,9, -999.00,9,  -999.0,9,  -999.0,-999.000,9,-999.000,-999.000,9,   46.02,2,   29.99,2,  323.80,-999.0000,9,-999.0000,9,-999.0000,9,-999.0000,9,-999.0000,9,-999.0000,9,  12.4433,     -999.0,9,       1.48,2,       0.00,2,       0.17,2,         96,-999.000,-999.000,-999.000,        0.0,2,     0.0,2,    0.65,2
33RO200306_02,       A16N,     096,          1,         22,         22,2,20030724,       1112,    17.9995,   -28.9988,       4554,   374.7,  11.8518,  35.4797,2,  35.4840,2,     79.9,2,    77.4,2,   10.48,2,   26.63,2,    0.02,2,    1.61,2,   1.093,2,   0.588,2,   0.006,2,  2221.3,2,  2327.7,2,   -999.0,9,  -999.00,   7.6195,2,    25.00,-999.000,9,-999.000,9,-999.000,9, -999.00,9,  -999.0,9,  -999.0,-999.000,9,-999.000,-999.000,9,   46.02,2,   31.64,2,  374.70,-999.0000,9,-999.0000,9,-999.0000,9,-999.0000,9,-999.0000,9,-999.0000,9,  11.8027,     -999.0,9,     -999.0,9,     -999.0,9,     -999.0,9,         96,-999.000,-999.000,-999.000,     -999.0,9, -999.00,9, -999.00,9
33RO200306_02,       A16N,     096,          1,         21,         21,2,20030724,       1112,    17.9995,   -28.9988,       4554,   450.1,  10.5142,  35.3014,2,  35.3019,2,     82.1,2,    82.6,2,   13.11,2,   29.10,2,    0.02,2,    1.79,2,   0.656,2,   0.352,2,   0.004,2,  2222.7,2,  2320.5,2,   1078.8,2,    20.00,   7.5919,2,    25.00,-999.000,9,-999.000,9,-999.000,9, -999.00,9,  -999.0,9,  -999.0,-999.000,9,-999.000,-999.000,9,   44.56,2,   34.00,2,  450.10,-999.0000,9,-999.0000,9,-999.0000,9,-999.0000,9,-999.0000,9,-999.0000,9,  10.4594,     -999.0,9,       0.41,2,       0.00,2,       0.15,2,         96,-999.000,-999.000,-999.000,       8.65,2,    0.29,2,    0.16,2
33RO200306_02,       A16N,     096,          1,         20,         20,2,20030724,       1112,    17.9995,   -28.9988,       4554,   525.1,   9.4603,  35.1579,2,  35.1560,2,     87.6,2,    85.8,2,   15.58,2,   30.45,2,    0.02,2,    1.91,2,   0.392,2,   0.215,2,   0.003,2,  2224.2,2,  2315.8,2,   1121.8,2,    20.00,   7.5744,2,    25.00,-999.000,9,-999.000,9,-999.000,9, -999.00,9,  -999.0,9,  -999.0,-999.000,9,-999.000,-999.000,9,   45.20,2,   35.26,2,  525.10,-999.0000,9,-999.0000,9,-999.0000,9,-999.0000,9,-999.0000,9,-999.0000,9,   9.4003,     -999.0,9,     -999.0,9,     -999.0,9,     -999.0,9,         96,-999.000,-999.000,-999.000,     -999.0,9, -999.00,9, -999.00,9
33RO200306_02,       A16N,     096,          1,         19,         19,2,20030724,       1112,    17.9995,   -28.9988,       4554,   600.6,   8.4134,  35.0320,2,  35.0304,2,     95.5,2,    92.9,2,   18.19,2,   31.57,2,    0.01,2,    2.02,2,   0.213,2,   0.116,2,   0.002,2,  2227.8,2,  2312.5,2,   1158.5,2,    20.00,   7.5579,2,    25.00,-999.000,9,-999.000,9,-999.000,9, -999.00,9,  -999.0,9,  -999.0,-999.000,9,-999.000,-999.000,9,   44.61,2,   37.01,2,  600.60,-999.0000,9,-999.0000,9,-999.0000,9,-999.0000,9,-999.0000,9,-999.0000,9,   8.3492,     -999.0,9,       0.10,2,       0.00,2,       0.14,2,         96,-999.000,-999.000,-999.000,       7.72,2,     0.0,2,    0.09,2
33RO200306_02,       A16N,     096,          1,         18,         18,2,20030724,       1112,    17.9995,   -28.9988,       4554,   675.3,   7.6706,  34.9636,2,  34.9624,2,    103.0,2,   100.9,2,   20.03,2,   31.88,2,    0.01,2,    2.07,2,   0.126,2,   0.073,2,   0.002,2,  2225.1,2,  2306.4,2,   1164.5,2,    20.00,   7.5455,2,    25.00,-999.000,9,-999.000,9,-999.000,9, -999.00,9,  -999.0,9,  -999.0,-999.000,9,-999.000,-999.000,9,   43.58,2,   35.76,2,  675.30,-999.0000,9,-999.0000,9,-999.0000,9,-999.0000,9,-999.0000,9,-999.0000,9,   7.6018,     -999.0,9,     -999.0,9,     -999.0,9,     -999.0,9,         96,-999.000,-999.000,-999.000,     -999.0,9, -999.00,9, -999.00,9
33RO200306_02,       A16N,     096,          1,         17,         17,2,20030724,       1112,    17.9995,   -28.9988,       4554,   749.5,   7.1718,  34.9457,2,  34.9449,2,    108.9,2,   108.5,2,   21.28,2,   31.79,2,    0.01,2,    2.09,2,   0.069,2,   0.039,2,   0.001,2,  2223.2,2,  2305.4,6,   1156.6,2,    20.00,   7.5670,6,    25.00,-999.000,9,-999.000,9,-999.000,9, -999.00,9,  -999.0,9,  -999.0,-999.000,9,-999.000,-999.000,9,   42.36,2,   35.61,2,  749.50,-999.0000,9,-999.0000,9,-999.0000,9,-999.0000,9,-999.0000,9,-999.0000,9,   7.0979,     -999.0,9,     -999.0,9,     -999.0,9,     -999.0,9,         96,-999.000,-999.000,-999.000,     -999.0,9, -999.00,9, -999.00,9
33RO200306_02,       A16N,     096,          1,         16,         16,2,20030724,       1112,    17.9995,   -28.9988,       4554,   849.6,   6.4329,  34.8903,2,  34.8891,2,    120.7,2,   120.1,2,   23.06,2,   31.51,2,    0.01,2,    2.09,2,   0.039,2,   0.017,2,   0.002,2,  2221.8,2,  2306.1,2,   1138.1,2,    20.00,   7.5660,2,    25.00,-999.000,9,-999.000,9,-999.000,9, -999.00,9,  -999.0,9,  -999.0,-999.000,9,-999.000,-999.000,9,   41.39,2,   35.33,2,  849.60,-999.0000,9,-999.0000,9,-999.0000,9,-999.0000,9,-999.0000,9,-999.0000,9,   6.3533,     -999.0,9,     -999.0,9,     -999.0,9,     -999.0,9,         96,-999.000,-999.000,-999.000,     -999.0,9, -999.00,9, -999.00,9
33RO200306_02,       A16N,     096,          1,         15,         15,2,20030724,       1112,    17.9995,   -28.9988,       4554,   949.6,   6.2119,  34.9395,2,  34.9379,2,    133.5,2,   133.7,2,   22.71,2,   29.98,2,    0.01,2,    2.00,2,   0.029,2,   0.016,2,   0.001,2,  2216.7,6,  2309.2,2,   1074.4,2,    20.00,   7.5990,2,    25.00,-999.000,9,-999.000,9,-999.000,9, -999.00,9,  -999.0,9,  -999.0,-999.000,9,-999.000,-999.000,9,   42.76,2,   33.69,2,  949.60,-999.0000,9,-999.0000,9,-999.0000,9,-999.0000,9,-999.0000,9,-999.0000,9,   6.1238,     -999.0,9,       0.00,2,       0.00,2,       0.20,2,         96,-999.000,-999.000,-999.000,       46.7,2,    0.69,2,     0.0,2
33RO200306_02,       A16N,     096,          1,         14,         14,2,20030724,       1112,    17.9995,   -28.9988,       4554,  1099.7,   5.7571,  34.9853,2,  34.9848,2,    155.6,2,  -999.0,1,   22.09,2,   27.57,2,    0.01,2,    1.85,2,   0.023,2,   0.018,2,   0.000,2,  2208.2,2,  2312.3,2,    988.5,2,    20.00,   7.6267,2,    25.00,-999.000,9,-999.000,9,-999.000,9, -999.00,9,  -999.0,9,  -999.0,-999.000,9,-999.000,-999.000,9,   40.98,2,   30.61,2, 1099.70,-999.0000,9,-999.0000,9,-999.0000,9,-999.0000,9,-999.0000,9,-999.0000,9,   5.6576,     -999.0,9,     -999.0,9,     -999.0,9,     -999.0,9,         96,-999.000,-999.000,-999.000,     -999.0,9, -999.00,9, -999.00,9
33RO200306_02,       A16N,     096,          1,         13,         13,2,20030724,       1112,    17.9995,   -28.9988,       4554,  1250.8,   5.4548,  35.0439,2,  35.0447,2,    175.9,2,   175.5,2,   21.12,2,   25.27,2,    0.01,2,    1.71,2,   0.020,2,   0.011,2,   0.003,2,  2202.1,2,  2316.1,2,    913.7,2,    20.00,   7.6576,2,    25.00,-999.000,9,-999.000,9,-999.000,9, -999.00,9,  -999.0,9,  -999.0,-999.000,9,-999.000,-999.000,9,   41.41,2,   29.40,2, 1250.80,-999.0000,9,-999.0000,9,-999.0000,9,-999.0000,9,-999.0000,9,-999.0000,9,   5.3430,     -999.0,9,       0.00,2,       0.00,2,       0.10,2,         96,-999.000,-999.000,-999.000,        0.0,2,     0.0,2,    0.11,2
33RO200306_02,       A16N,     096,          1,         12,         12,2,20030724,       1112,    17.9995,   -28.9988,       4554,  1450.2,   4.8027,  35.0386,2,  35.0384,2,    195.2,2,   195.0,2,   21.72,2,   23.64,2,    0.01,2,    1.60,2,   0.008,6,   0.005,6,   0.000,6,  2195.7,2,  2318.4,2,   -999.0,9,  -999.00,   7.6883,2,    25.00,-999.000,9,-999.000,9,-999.000,9, -999.00,9,  -999.0,9,  -999.0,-999.000,9,-999.000,-999.000,9,   41.95,2,   27.97,2, 1450.20,-999.0000,9,-999.0000,9,-999.0000,9,-999.0000,9,-999.0000,9,-999.0000,9,   4.6781,     -999.0,9,     -999.0,9,     -999.0,9,     -999.0,9,         96,-999.000,-999.000,-999.000,     -999.0,9, -999.00,9, -999.00,9
33RO200306_02,       A16N,     096,          1,         11,         11,2,20030724,       1112,    17.9995,   -28.9988,       4554,  1748.8,   3.9773,  35.0054,2,  35.0055,2,    218.6,2,   222.3,2,   23.10,2,   21.81,2,    0.01,2,    1.50,2,   0.006,2,   0.002,2,   0.000,2,  2183.4,2,  2317.6,2,    808.1,2,    20.00,   7.6958,2,    25.00,-999.000,9,-999.000,9,-999.000,9, -999.00,9,  -999.0,9,  -999.0,-999.000,9,-999.000,-999.000,9,   40.98,2,   26.05,2, 1748.80,-999.0000,9,-999.0000,9,-999.0000,9,-999.0000,9,-999.0000,9,-999.0000,9,   3.8342,     -999.0,9,       0.00,2,       0.00,2,       0.10,2,         96,-999.000,-999.000,-999.000,       8.32,2,    0.06,2,     0.0,2
33RO200306_02,       A16N,     096,          1,         10,         10,2,20030724,       1112,    17.9995,   -28.9988,       4554,  2051.3,   3.5180,  34.9830,2,  34.9832,2,    230.4,2,   233.5,2,   25.74,2,   21.09,2,    0.01,2,    1.46,2,-999.000,9,-999.000,9,-999.000,9,  2181.4,2,  2318.7,2,    781.4,2,    20.00,   7.7236,2,    25.00,-999.000,9,-999.000,9,-999.000,9, -999.00,9,  -999.0,9,  -999.0,-999.000,9,-999.000,-999.000,9,   41.71,2,   25.85,2, 2051.30,-999.0000,9,-999.0000,9,-999.0000,9,-999.0000,9,-999.0000,9,-999.0000,9,   3.3527,     -999.0,9,     -999.0,9,     -999.0,9,     -999.0,9,         96,-999.000,-999.000,-999.000,     -999.0,9, -999.00,9, -999.00,9
33RO200306_02,       A16N,     096,          1,          9,          9,2,20030724,       1112,    17.9995,   -28.9988,       4554,  2349.3,   3.2169,  34.9649,2,  34.9648,2,    234.8,2,   238.2,2,   29.04,2,   20.99,2,    0.01,2,    1.46,2,  -0.003,2,   0.003,2,  -0.001,2,  2184.0,2,  2321.4,2,   -999.0,9,  -999.00,   7.7327,2,    25.00,-999.000,9,-999.000,9,-999.000,9, -999.00,9,  -999.0,9,  -999.0,-999.000,9,-999.000,-999.000,9,   42.52,2,   24.70,2, 2349.30,-999.0000,9,-999.0000,9,-999.0000,9,-999.0000,9,-999.0000,9,-999.0000,9,   3.0278,     -999.0,9,     -999.0,9,     -999.0,9,     -999.0,9,         96,-999.000,-999.000,-999.000,     -999.0,9, -999.00,9, -999.00,9
33RO200306_02,       A16N,     096,          1,          8,          8,2,20030724,       1112,    17.9995,   -28.9988,       4554,  2650.0,   2.9652,  34.9486,2,  34.9494,2,    240.2,2,   242.7,2,   31.85,2,   20.86,2,    0.01,2,    1.46,2,   0.005,2,   0.003,2,   0.001,2,  2185.3,2,  -999.0,9,    764.7,2,    20.00,-999.0000,9,  -999.00,-999.000,9,-999.000,9,-999.000,9, -999.00,9,  -999.0,9,  -999.0,-999.000,9,-999.000,-999.000,9,   41.92,2,   25.62,2, 2650.00,-999.0000,9,-999.0000,9,-999.0000,9,-999.0000,9,-999.0000,9,-999.0000,9,   2.7510,     -999.0,9,       0.00,2,       0.00,2,       0.09,2,         96,-999.000,-999.000,-999.000,       18.9,2,     0.0,2,    0.07,2