BOTTLE,20230908CCHSIOCBG
EXPOCODE,SECT_ID,STNNBR,CASTNO,SAMPNO,BTLNBR,BTLNBR_FLAG_W,DATE,TIME,LATITUDE,LONGITUDE,DEPTH,CTDPRS,CTDTMP,CTDSAL,CTDSAL_FLAG_W,SALNTY,SALNTY_FLAG_W,CTDOXY,CTDOXY_FLAG_W,OXYGEN,OXYGEN_FLAG_W,SILCAT,SILCAT_FLAG_W,NITRAT,NITRAT_FLAG_W,NITRIT,NITRIT_FLAG_W,PHSPHT,PHSPHT_FLAG_W,CFC-11,CFC-11_FLAG_W,CFC-12,CFC-12_FLAG_W,CFC113,CFC113_FLAG_W,TCARBN,TCARBN_FLAG_W,ALKALI,ALKALI_FLAG_W,FCO2,FCO2_FLAG_W,FCO2TMP,PH_SWS,PH_SWS_FLAG_W,PH_TMP,TRITUM,TRITUM_FLAG_W,HELIUM,HELIUM_FLAG_W,DELHE3,DELHE3_FLAG_W,DELC13,DELC13_FLAG_W,DELC14,DELC14_FLAG_W,C14ERR,NEON,NEON_FLAG_W,NEONER,POC,POC_FLAG_W,DOC,DOC_FLAG_W,TDN,TDN_FLAG_W,CTDRAW,CDOM325,CDOM325_FLAG_W,CDOM340,CDOM340_FLAG_W,CDOM380,CDOM380_FLAG_W,CDOM412,CDOM412_FLAG_W,CDOMSL,CDOMSL_FLAG_W,CDOMSN,CDOMSN_FLAG_W,THETA,PON,PON_FLAG_W,HCFC-22,HCFC-22_FLAG_W,HCFC-142b,HCFC-142b_FLAG_W,HCFC-141b,HCFC-141b_FLAG_W,STNNBR_U,HELIER,DELHER,TRITER,CH3CL,CH3CL_FLAG_W,CH3BR,CH3BR_FLAG_W,CH3I,CH3I_FLAG_W
,,,,,,,,,,,METERS,DBAR,ITS-90,PSS-78,,PSS-78,,UMOL/KG,,UMOL/KG,,UMOL/KG,,UMOL/KG,,UMOL/KG,,UMOL/KG,,PMOL/KG,,PMOL/KG,,PMOL/KG,,UMOL/KG,,UMOL/KG,,UATM,,DEG C,,,DEG C,TU,,NMOL/KG,,PERCNT,,/MILLE,,/MILLE,,/MILLE,NMOL/KG,,NMOL/KG,UG/KG,,UMOL/KG,,UMOL/KG,,DBAR,1/M,,1/M,,1/M,,1/M,,1/NM,,1/NM,,DEG C,UMOL/L,,PMOL/KG,,PMOL/KG,,PMOL/KG,,,NMOL/KG,PERCNT,TU,PMOL/KG,,PMOL/KG,,PMOL/KG,
33RO200306_02,       A16N,     114,          1,         35,         35,2,20030730,       0816,     8.9998,   -28.0000,       5203,     3.0,  27.6911,  35.5167,2,  35.5219,2,    184.6,2,   200.2,2,    0.57,2,    0.21,2,    0.01,2,    0.05,2,   1.672,2,   1.074,2,   0.141,2,  1972.8,2,  -999.0,9,    262.5,2,    20.00,-999.0000,9,  -999.00,-999.000,9,-999.000,9,-999.000,9, -999.00,9,  -999.0,9,  -999.0,-999.000,9,-999.000,-999.000,9,   72.03,2,    5.82,2,    3.00,-999.0000,9,-999.0000,9,-999.0000,9,-999.0000,9,-999.0000,9,-999.0000,9,  27.6904,     -999.0,9,       3.49,2,       0.11,2,       0.22,2,        114,-999.000,-999.000,-999.000,     102.54,2,    1.71,2,     6.4,2
33RO200306_02,       A16N,     114,          1,         33,         33,2,20030730,       0816,     8.9998,   -28.0000,       5203,    20.0,  27.7657,  35.5830,2,  35.6279,2,    184.6,2,   200.4,2, -999.00,1, -999.00,1, -999.00,1, -999.00,1,   1.677,2,   1.080,2,   0.143,2,  1978.5,6,  -999.0,9,    263.2,2,    20.00,-999.0000,9,  -999.00,   0.763,2,   1.697,2,  -1.739,2, -999.00,9,  -999.0,9,  -999.0,   6.546,2,   0.063,-999.000,9,   73.90,2,    5.44,2,   20.00,-999.0000,9,-999.0000,9,-999.0000,9,-999.0000,9,-999.0000,9,-999.0000,9,  27.7610,     -999.0,9,       3.73,2,       0.14,2,       0.27,2,        114,   0.005,   0.231,   0.030,      140.1,2,    1.18,2,    7.59,2
33RO200306_02,       A16N,     114,          1,         32,         32,2,20030730,       0816,     8.9998,   -28.0000,       5203,    40.6,  25.4335,  36.0722,2,  36.0414,2,    195.5,2,   182.0,2,    1.35,2,    1.61,2,    0.07,2,    0.19,2,   1.774,2,   1.080,2,   0.109,2,  2066.6,2,  -999.0,9,    356.0,2,    20.00,-999.0000,9,  -999.00,-999.000,9,-999.000,9,-999.000,9, -999.00,9,  -999.0,9,  -999.0,-999.000,9,-999.000,-999.000,9, -999.00,9, -999.00,9,   40.60,-999.0000,9,-999.0000,9,-999.0000,9,-999.0000,9,-999.0000,9,-999.0000,9,  25.4246,     -999.0,9,     -999.0,9,     -999.0,9,     -999.0,9,        114,-999.000,-999.000,-999.000,     -999.0,9, -999.00,9, -999.00,9
33RO200306_02,       A16N,     114,          1,         31,         31,2,20030730,       0816,     8.9998,   -28.0000,       5203,    60.4,  17.4627,  35.6751,2,  35.6393,2,    108.1,2,    97.6,2,    5.18,2,   18.12,2,    0.32,2,    1.20,2,   1.799,2,   1.028,2,   0.047,2,  2176.6,2,  -999.0,9,    748.1,2,    20.00,-999.0000,9,  -999.00,-999.000,9,   1.775,2,   0.228,2, -999.00,9,  -999.0,9,  -999.0,   7.245,2,   0.056,-999.000,9,   53.25,2,   22.74,2,   60.40,-999.0000,9,-999.0000,9,-999.0000,9,-999.0000,9,-999.0000,9,-999.0000,9,  17.4525,     -999.0,9,       1.98,2,       0.11,2,       0.13,2,        114,   0.005,   0.251,-999.000,      52.31,2,    0.02,2,    2.55,2
33RO200306_02,       A16N,     114,          1,         30,         30,2,20030730,       0816,     8.9998,   -28.0000,       5203,    80.2,  14.7711,  35.4915,2,  35.4460,2,     89.6,2,   110.7,2,    7.35,2,   21.00,2,    0.05,2,    1.38,2,   1.833,2,   1.018,2,   0.032,2,  2179.4,2,  -999.0,9,    781.8,2,    20.00,-999.0000,9,  -999.00,-999.000,9,-999.000,9,-999.000,9, -999.00,9,  -999.0,9,  -999.0,-999.000,9,-999.000,-999.000,9,   48.86,2,   25.50,2,   80.20,-999.0000,9,-999.0000,9,-999.0000,9,-999.0000,9,-999.0000,9,-999.0000,9,  14.7591,     -999.0,9,     -999.0,9,     -999.0,9,     -999.0,9,        114,-999.000,-999.000,-999.000,     -999.0,9, -999.00,9, -999.00,9
33RO200306_02,       A16N,     114,          1,         29,         29,2,20030730,       0816,     8.9998,   -28.0000,       5203,    99.8,  13.1301,  35.3187,2,  35.3194,2,    104.3,2,   117.2,2,    8.06,2,   21.64,2,    0.02,2,    1.44,2,   1.801,2,   0.995,2,   0.026,2,  2178.2,2,  2325.1,2,    804.9,2,    20.00,   7.7132,2,    25.00,   0.441,2,   1.780,2,  -0.171,2, -999.00,9,  -999.0,9,  -999.0,   7.376,2,   0.014,-999.000,9, -999.00,9, -999.00,9,   99.80,-999.0000,9,-999.0000,9,-999.0000,9,-999.0000,9,-999.0000,9,-999.0000,9,  13.1163,     -999.0,9,       1.84,2,       0.00,2,       0.36,2,        114,   0.004,   0.139,   0.010,     102.46,2,    0.63,2,    0.56,2
33RO200306_02,       A16N,     114,          1,         28,         28,2,20030730,       0816,     8.9998,   -28.0000,       5203,   125.7,  12.4977,  35.2396,2,  35.2337,2,    115.4,2,   113.8,2,    8.82,2,   22.90,2,    0.02,2,    1.51,2,   1.696,2,   0.917,2,   0.021,2,  2182.2,2,  2319.4,2,    851.8,2,    20.00,   7.6849,2,    25.00,-999.000,9,-999.000,9,-999.000,9, -999.00,9,  -999.0,9,  -999.0,-999.000,9,-999.000,-999.000,9,   48.46,2,   28.20,2,  125.70,-999.0000,9,-999.0000,9,-999.0000,9,-999.0000,9,-999.0000,9,-999.0000,9,  12.4809,     -999.0,9,     -999.0,9,     -999.0,9,     -999.0,9,        114,-999.000,-999.000,-999.000,     -999.0,9, -999.00,9, -999.00,9
33RO200306_02,       A16N,     114,          1,         27,         27,2,20030730,       0816,     8.9998,   -28.0000,       5203,   150.8,  11.9859,  35.1789,2,  35.1743,2,    110.1,2,   115.3,2,    9.39,2,   23.55,2,    0.01,2,    1.55,2,   1.652,2,   0.894,2,   0.020,2,  2188.1,2,  2318.8,2,    874.7,2,    20.00,   7.6785,2,    25.00,   0.484,2,   1.812,3,   0.660,2, -999.00,9,  -999.0,9,  -999.0,   7.413,2,   0.071,-999.000,9, -999.00,9, -999.00,9,  150.80,-999.0000,9,-999.0000,9,-999.0000,9,-999.0000,9,-999.0000,9,-999.0000,9,  11.9662,     -999.0,9,     -999.0,9,     -999.0,9,     -999.0,9,        114,   0.005,   0.229,   0.010,     -999.0,9, -999.00,9, -999.00,9
33RO200306_02,       A16N,     114,          1,         26,         26,2,20030730,       0816,     8.9998,   -28.0000,       5203,   175.2,  11.6036,  35.1356,2,  35.1298,2,    114.1,2,   105.3,2,   10.22,2,   25.38,2,    0.01,2,    1.65,2,-999.000,9,-999.000,9,-999.000,9,  2196.4,2,  2314.1,2,   -999.0,9,  -999.00,   7.6446,2,    25.00,-999.000,9,-999.000,9,-999.000,9, -999.00,9,  -999.0,9,  -999.0,-999.000,9,-999.000,-999.000,9,   46.83,2,   29.60,2,  175.20,-999.0000,9,-999.0000,9,-999.0000,9,-999.0000,9,-999.0000,9,-999.0000,9,  11.5812,     -999.0,9,       1.27,2,       0.00,2,       0.11,2,        114,-999.000,-999.000,-999.000,       82.4,2,    2.22,2,    0.37,2
33RO200306_02,       A16N,     114,          1,         25,         25,2,20030730,       0816,     8.9998,   -28.0000,       5203,   200.5,  11.2402,  35.0970,2,  35.0917,2,    102.2,2,    99.6,2,   10.89,2,   26.57,2,    0.01,2,    1.71,2,   1.331,2,   0.711,2,   0.015,2,  2200.4,2,  2312.8,2,    986.9,2,    20.00,   7.6214,2,    25.00,-999.000,9,   1.864,3,   0.977,2, -999.00,9,  -999.0,9,  -999.0,   7.813,2,   0.060,-999.000,9,   44.96,2,   32.49,2,  200.50,-999.0000,9,-999.0000,9,-999.0000,9,-999.0000,9,-999.0000,9,-999.0000,9,  11.2151,     -999.0,9,     -999.0,9,     -999.0,9,     -999.0,9,        114,   0.005,   0.249,-999.000,     -999.0,9, -999.00,9, -999.00,9
33RO200306_02,       A16N,     114,          1,         24,         24,2,20030730,       0816,     8.9998,   -28.0000,       5203,   250.4,  10.5834,  35.0213,2,  35.0160,2,    104.8,2,   100.4,2,   11.97,2,   27.79,2,    0.01,2,    1.79,2,   1.199,2,   0.643,2,   0.014,2,  2204.2,2,  2309.9,2,   1033.9,2,    20.00,   7.6114,2,    25.00,-999.000,9,-999.000,9,-999.000,9, -999.00,9,  -999.0,9,  -999.0,-999.000,9,-999.000,-999.000,9,   44.07,2,   33.62,2,  250.40,-999.0000,9,-999.0000,9,-999.0000,9,-999.0000,9,-999.0000,9,-999.0000,9,  10.5532,     -999.0,9,     -999.0,9,     -999.0,9,     -999.0,9,        114,-999.000,-999.000,-999.000,     -999.0,9, -999.00,9, -999.00,9
33RO200306_02,       A16N,     114,          1,         23,         23,2,20030730,       0816,     8.9998,   -28.0000,       5203,   300.4,  10.1712,  34.9891,2,  34.9845,2,     92.5,2,    86.1,2,   13.19,2,   30.04,2,    0.01,2,    1.90,2,   0.930,2,   0.497,2,   0.010,2,  2214.0,2,  -999.0,9,   1129.4,2,    20.00,-999.0000,9,  -999.00,   0.306,2,-999.000,9,-999.000,9, -999.00,9,  -999.0,9,  -999.0,-999.000,9,-999.000,-999.000,9,   43.98,2,   34.93,2,  300.40,-999.0000,9,-999.0000,9,-999.0000,9,-999.0000,9,-999.0000,9,-999.0000,9,  10.1358,     -999.0,9,       0.67,2,       0.00,2,       0.08,2,        114,-999.000,-999.000,   0.010,       8.68,2,    0.38,2,    0.16,2
33RO200306_02,       A16N,     114,          1,         22,         22,2,20030730,       0816,     8.9998,   -28.0000,       5203,   350.6,   9.9724,  35.0063,2,  35.0037,2,     84.5,2,    69.1,2,   14.03,2,   32.20,2,    0.01,2,    1.99,2,   0.694,2,   0.374,2,   0.006,2,  2225.0,2,  -999.0,9,   -999.0,9,  -999.00,-999.0000,9,  -999.00,-999.000,9,-999.000,9,-999.000,9, -999.00,9,  -999.0,9,  -999.0,-999.000,9,-999.000,-999.000,9,   44.96,2,   37.71,2,  350.60,-999.0000,9,-999.0000,9,-999.0000,9,-999.0000,9,-999.0000,9,-999.0000,9,   9.9315,     -999.0,9,     -999.0,9,     -999.0,9,     -999.0,9,        114,-999.000,-999.000,-999.000,     -999.0,9, -999.00,9, -999.00,9
33RO200306_02,       A16N,     114,          1,         21,         21,2,20030730,       0816,     8.9998,   -28.0000,       5203,   400.6,   9.4742,  34.9690,2,  34.9699,2,     61.4,2,    62.1,2,   15.49,2,   34.00,2,    0.01,2,    2.10,2,   0.468,2,   0.256,2,   0.006,2,  2231.5,2,  2307.6,2,   1331.7,2,    20.00,   7.5162,2,    25.00,   0.272,2,-999.000,9,-999.000,9, -999.00,9,  -999.0,9,  -999.0,-999.000,9,-999.000,-999.000,9,   44.22,2,   39.96,2,  400.60,-999.0000,9,-999.0000,9,-999.0000,9,-999.0000,9,-999.0000,9,-999.0000,9,   9.4288,     -999.0,9,       0.42,2,       0.00,2,       0.10,2,        114,-999.000,-999.000,   0.020,      61.04,2,    1.56,2,    0.75,2
33RO200306_02,       A16N,     114,          1,         20,         20,2,20030730,       0816,     8.9998,   -28.0000,       5203,   450.3,   9.4647,  35.0230,2,  35.0189,2,     54.3,2,    47.2,2,   16.14,2,   35.52,2,    0.01,2,    2.19,2,-999.000,9,-999.000,9,-999.000,9,  2241.7,2,  2305.7,2,   -999.0,9,  -999.00,   7.4829,2,    25.00,-999.000,9,-999.000,9,-999.000,9, -999.00,9,  -999.0,9,  -999.0,-999.000,9,-999.000,-999.000,9,   44.96,2,   41.57,2,  450.30,-999.0000,9,-999.0000,9,-999.0000,9,-999.0000,9,-999.0000,9,-999.0000,9,   9.4135,     -999.0,9,     -999.0,9,     -999.0,9,     -999.0,9,        114,-999.000,-999.000,-999.000,     -999.0,9, -999.00,9, -999.00,9
33RO200306_02,       A16N,     114,          1,         19,         19,2,20030730,       0816,     8.9998,   -28.0000,       5203,   500.6,   8.9513,  34.9838,2,  34.9768,2,     45.4,2,    48.0,2,   17.67,2,   36.50,2,    0.01,2,    2.27,2,   0.207,6,   0.121,6,   0.005,6,  2244.4,2,  2305.8,2,   1460.2,2,    20.00,   7.4780,2,    25.00,   0.266,2,   1.875,3,   1.663,2, -999.00,9,  -999.0,9,  -999.0,   7.911,2,   0.076,-999.000,9,   43.90,2,   42.12,2,  500.60,-999.0000,9,-999.0000,9,-999.0000,9,-999.0000,9,-999.0000,9,-999.0000,9,   8.8961,     -999.0,9,     -999.0,9,     -999.0,9,     -999.0,9,        114,   0.005,   0.227,   0.030,     -999.0,9, -999.00,9, -999.00,9
33RO200306_02,       A16N,     114,          1,         18,         18,2,20030730,       0816,     8.9998,   -28.0000,       5203,   600.5,   7.6156,  34.8451,2,  34.8406,2,     59.8,2,    63.8,2,   21.03,2,   37.45,2,    0.01,2,    2.38,2,   0.079,2,   0.047,2,   0.001,2,  2243.3,2,  2303.7,2,   1474.5,2,    20.00,   7.4709,2,    25.00,-999.000,9,-999.000,9,-999.000,9, -999.00,9,  -999.0,9,  -999.0,-999.000,9,-999.000,-999.000,9,   41.71,2,   42.92,2,  600.50,-999.0000,9,-999.0000,9,-999.0000,9,-999.0000,9,-999.0000,9,-999.0000,9,   7.5551,     -999.0,9,       0.01,2,       0.00,2,       0.08,2,        114,-999.000,-999.000,-999.000,       0.75,2,     0.0,2,     0.0,2
33RO200306_02,       A16N,     114,          1,         17,         17,2,20030730,       0816,     8.9998,   -28.0000,       5203,   700.0,   6.5131,  34.7371,2,  34.7349,2,     85.3,2,    86.5,2,   24.14,2,   37.17,2,    0.01,2,    2.41,2,   0.038,2,   0.022,2,   0.001,2,  2237.6,2,  2303.1,6,   1405.6,2,    20.00,   7.4938,6,    25.00,   0.279,2,-999.000,9,-999.000,9, -999.00,9,  -999.0,9,  -999.0,-999.000,9,-999.000,-999.000,9,   42.03,2,   43.12,2,  700.00,-999.0000,9,-999.0000,9,-999.0000,9,-999.0000,9,-999.0000,9,-999.0000,9,   6.4480,     -999.0,9,     -999.0,9,     -999.0,9,     -999.0,9,        114,-999.000,-999.000,   0.020,     -999.0,9, -999.00,9, -999.00,9
33RO200306_02,       A16N,     114,          1,         16,         16,2,20030730,       0816,     8.9998,   -28.0000,       5203,   800.3,   5.7348,  34.6889,2,  34.6865,2,    102.5,2,   105.1,2,   26.56,2,   36.17,2,    0.01,2,    2.38,2,   0.016,2,   0.008,2,   0.000,2,  2233.8,2,  2305.3,2,   1335.7,2,    20.00,   7.5115,2,    25.00,-999.000,9,-999.000,9,-999.000,9, -999.00,9,  -999.0,9,  -999.0,-999.000,9,-999.000,-999.000,9,   41.63,2,   41.41,2,  800.30,-999.0000,9,-999.0000,9,-999.0000,9,-999.0000,9,-999.0000,9,-999.0000,9,   5.6646,     -999.0,9,     -999.0,9,     -999.0,9,     -999.0,9,        114,-999.000,-999.000,-999.000,     -999.0,9, -999.00,9, -999.00,9
33RO200306_02,       A16N,     114,          1,         15,         15,2,20030730,       0816,     8.9998,   -28.0000,       5203,   900.7,   5.3826,  34.7090,2,  34.7078,2,    116.5,2,   119.2,2,   27.47,2,   34.87,2,    0.01,2,    2.32,2,   0.010,2,   0.006,2,   0.002,2,  2229.8,2,  2309.2,2,   1252.2,2,    20.00,   7.5349,2,    25.00,   0.061,2,   1.843,2,   0.479,2, -999.00,9,  -999.0,9,  -999.0,   7.769,2,   0.075,-999.000,9,   41.79,2,   39.76,2,  900.70,-999.0000,9,-999.0000,9,-999.0000,9,-999.0000,9,-999.0000,9,-999.0000,9,   5.3053,     -999.0,9,       0.00,2,       0.00,2,       0.09,2,        114,   0.005,   0.228,   0.010,      25.82,2,    1.01,2,     0.0,2
33RO200306_02,       A16N,     114,          1,         14,         14,2,20030730,       0816,     8.9998,   -28.0000,       5203,  1000.6,   5.2540,  34.7761,2,  34.7778,2,    130.1,2,   147.7,2,   26.55,2,   32.75,2,    0.01,2,    2.20,2,   0.012,2,   0.007,2,   0.004,2,  2223.8,6,  2310.8,2,   1162.6,2,    20.00,   7.5614,2,    25.00,-999.000,9,-999.000,9,-999.000,9, -999.00,9,  -999.0,9,  -999.0,-999.000,9,-999.000,-999.000,9,   41.63,2,   37.40,2, 1000.60,-999.0000,9,-999.0000,9,-999.0000,9,-999.0000,9,-999.0000,9,-999.0000,9,   5.1683,     -999.0,9,     -999.0,9,     -999.0,9,     -999.0,9,        114,-999.000,-999.000,-999.000,     -999.0,9, -999.00,9, -999.00,9
33RO200306_02,       A16N,     114,          1,         13,         13,2,20030730,       0816,     8.9998,   -28.0000,       5203,  1099.2,   5.0505,  34.8325,2,  34.8330,2,    145.1,2,   150.6,2,   25.34,2,   30.58,2,    0.01,2,    2.06,2,   0.009,2,   0.004,2,   0.002,2,  2216.4,2,  2315.5,2,   -999.0,9,  -999.00,   7.5907,2,    25.00,-999.000,9,-999.000,9,-999.000,9, -999.00,9,  -999.0,9,  -999.0,-999.000,9,-999.000,-999.000,9,   41.54,2,   35.87,2, 1099.20,-999.0000,9,-999.0000,9,-999.0000,9,-999.0000,9,-999.0000,9,-999.0000,9,   4.9571,     -999.0,9,     -999.0,9,     -999.0,9,     -999.0,9,        114,-999.000,-999.000,-999.000,     -999.0,9, -999.00,9, -999.00,9
33RO200306_02,       A16N,     114,          1,         12,         12,2,20030730,       0816,     8.9998,   -28.0000,       5203,  1200.2,   4.7883,  34.8839,2,  34.8836,2,    166.0,2,   172.7,2,   23.73,2,   28.19,2,    0.01,2,    1.90,2,   0.010,2,   0.006,2,   0.001,2,  2206.9,2,  2318.8,2,    991.4,2,    20.00,   7.6264,2,    25.00,-999.000,9,-999.000,9,-999.000,9, -999.00,9,  -999.0,9,  -999.0,-999.000,9,-999.000,-999.000,9,   41.05,2,   32.85,2, 1200.20,-999.0000,9,-999.0000,9,-999.0000,9,-999.0000,9,-999.0000,9,-999.0000,9,   4.6878,     -999.0,9,     -999.0,9,       0.00,2,       0.71,2,        114,-999.000,-999.000,-999.000,        0.0,2,    0.62,2,    0.33,2
33RO200306_02,       A16N,     114,          1,         11,         11,2,20030730,       0816,     8.9998,   -28.0000,       5203,  1400.8,   4.4029,  34.9406,2,  34.9426,2,    200.8,2,   201.0,2,   21.35,2,   24.64,2,    0.00,2,    1.67,2,   0.021,2,   0.011,2,   0.001,2,  2190.3,2,  2317.8,2,   -999.0,9,  -999.00,   7.6701,2,    25.00,   0.044,2,   1.827,2,   0.469,2, -999.00,9,  -999.0,9,  -999.0,   7.864,2,   0.041,-999.000,9,   42.03,2,   29.11,2, 1400.80,-999.0000,9,-999.0000,9,-999.0000,9,-999.0000,9,-999.0000,9,-999.0000,9,   4.2875,     -999.0,9,     -999.0,9,     -999.0,9,     -999.0,9,        114,   0.004,   0.187,   0.010,     -999.0,9, -999.00,9, -999.00,9
33RO200306_02,       A16N,     114,          1,         10,         10,2,20030730,       0816,     8.9998,   -28.0000,       5203,  1600.6,   4.0593,  34.9670,2,  34.9669,2,    228.2,2,   224.3,2,   19.55,2,   22.37,2,    0.00,2,    1.50,2,   0.023,2,   0.013,2,   0.002,2,  2177.5,2,  2314.7,2,    804.7,6,    20.00,   7.7056,2,    25.00,-999.000,9,-999.000,9,-999.000,9, -999.00,9,  -999.0,9,  -999.0,-999.000,9,-999.000,-999.000,9,   41.87,2,   26.66,2, 1600.60,-999.0000,9,-999.0000,9,-999.0000,9,-999.0000,9,-999.0000,9,-999.0000,9,   3.9292,     -999.0,9,       0.00,2,       0.00,2,       0.11,2,        114,-999.000,-999.000,-999.000,        0.0,2,     0.0,2,     0.0,2
33RO200306_02,       A16N,     114,          1,          9,          9,2,20030730,       0816,     8.9998,   -28.0000,       5203,  1800.5,   3.7485,  34.9713,2,  34.9723,2,    244.6,2,   240.6,2,   19.45,2,   20.62,2,    0.00,2,    1.40,2,   0.025,2,   0.013,2,   0.001,2,  2171.2,2,  2314.8,2,   -999.0,9,  -999.00,   7.7320,2,    25.00,-999.000,9,   1.819,2,   0.384,2, -999.00,9,  -999.0,9,  -999.0,   7.802,2,   0.040,-999.000,9,   42.85,2,   24.34,2, 1800.50,-999.0000,9,-999.0000,9,-999.0000,9,-999.0000,9,-999.0000,9,-999.0000,9,   3.6036,     -999.0,9,     -999.0,9,     -999.0,9,     -999.0,9,        114,   0.004,   0.188,-999.000,     -999.0,9, -999.00,9, -999.00,9
33RO200306_02,       A16N,     114,          1,          8,          8,2,20030730,       0816,     8.9998,   -28.0000,       5203,  2001.7,   3.5236,  34.9654,2,  34.9646,2,    250.6,2,   246.3,2,   20.97,2,   20.54,2,    0.01,2,    1.39,2,   0.019,2,   0.011,2,   0.002,2,  2169.7,2,  2316.9,2,    755.7,2,    20.00,   7.7286,2,    25.00,-999.000,9,-999.000,9,-999.000,9, -999.00,9,  -999.0,9,  -999.0,-999.000,9,-999.000,-999.000,9,   43.09,2,   24.06,2, 2001.70,-999.0000,9,-999.0000,9,-999.0000,9,-999.0000,9,-999.0000,9,-999.0000,9,   3.3630,     -999.0,9,     -999.0,9,     -999.0,9,     -999.0,9,        114,-999.000,-999.000,-999.000,     -999.0,9, -999.00,9, -999.00,9