BOTTLE,20230908CCHSIOCBG
EXPOCODE,SECT_ID,STNNBR,CASTNO,SAMPNO,BTLNBR,BTLNBR_FLAG_W,DATE,TIME,LATITUDE,LONGITUDE,DEPTH,CTDPRS,CTDTMP,CTDSAL,CTDSAL_FLAG_W,SALNTY,SALNTY_FLAG_W,CTDOXY,CTDOXY_FLAG_W,OXYGEN,OXYGEN_FLAG_W,SILCAT,SILCAT_FLAG_W,NITRAT,NITRAT_FLAG_W,NITRIT,NITRIT_FLAG_W,PHSPHT,PHSPHT_FLAG_W,CFC-11,CFC-11_FLAG_W,CFC-12,CFC-12_FLAG_W,CFC113,CFC113_FLAG_W,TCARBN,TCARBN_FLAG_W,ALKALI,ALKALI_FLAG_W,FCO2,FCO2_FLAG_W,FCO2TMP,PH_SWS,PH_SWS_FLAG_W,PH_TMP,TRITUM,TRITUM_FLAG_W,HELIUM,HELIUM_FLAG_W,DELHE3,DELHE3_FLAG_W,DELC13,DELC13_FLAG_W,DELC14,DELC14_FLAG_W,C14ERR,NEON,NEON_FLAG_W,NEONER,POC,POC_FLAG_W,DOC,DOC_FLAG_W,TDN,TDN_FLAG_W,CTDRAW,CDOM325,CDOM325_FLAG_W,CDOM340,CDOM340_FLAG_W,CDOM380,CDOM380_FLAG_W,CDOM412,CDOM412_FLAG_W,CDOMSL,CDOMSL_FLAG_W,CDOMSN,CDOMSN_FLAG_W,THETA,PON,PON_FLAG_W,HCFC-22,HCFC-22_FLAG_W,HCFC-142b,HCFC-142b_FLAG_W,HCFC-141b,HCFC-141b_FLAG_W,STNNBR_U,HELIER,DELHER,TRITER,CH3CL,CH3CL_FLAG_W,CH3BR,CH3BR_FLAG_W,CH3I,CH3I_FLAG_W
,,,,,,,,,,,METERS,DBAR,ITS-90,PSS-78,,PSS-78,,UMOL/KG,,UMOL/KG,,UMOL/KG,,UMOL/KG,,UMOL/KG,,UMOL/KG,,PMOL/KG,,PMOL/KG,,PMOL/KG,,UMOL/KG,,UMOL/KG,,UATM,,DEG C,,,DEG C,TU,,NMOL/KG,,PERCNT,,/MILLE,,/MILLE,,/MILLE,NMOL/KG,,NMOL/KG,UG/KG,,UMOL/KG,,UMOL/KG,,DBAR,1/M,,1/M,,1/M,,1/M,,1/NM,,1/NM,,DEG C,UMOL/L,,PMOL/KG,,PMOL/KG,,PMOL/KG,,,NMOL/KG,PERCNT,TU,PMOL/KG,,PMOL/KG,,PMOL/KG,
33RO200306_02,       A16N,     143,          1,         24,         24,2,20030807,       0555,    -2.6665,   -25.0003,       5377,     2.1,  25.4123,  35.9624,2,  35.9603,2,    210.3,2,   210.1,2,    0.91,2, -999.00,1,    0.01,2,    0.17,2,-999.000,9,-999.000,9,-999.000,9,  2044.1,2,  2366.2,2,   -999.0,9,  -999.00,   8.0645,2,    25.00,-999.000,9,-999.000,9,-999.000,9, -999.00,9,  -999.0,9,  -999.0,-999.000,9,-999.000,-999.000,9, -999.00,9, -999.00,9,    2.10,-999.0000,9,-999.0000,9,-999.0000,9,-999.0000,9,-999.0000,9,-999.0000,9,  25.4118,     -999.0,9,     -999.0,9,     -999.0,9,     -999.0,9,        143,-999.000,-999.000,-999.000,     -999.0,9, -999.00,9, -999.00,9
33RO200306_02,       A16N,     143,          1,         23,         23,2,20030807,       0555,    -2.6665,   -25.0003,       5377,    50.1,  25.3177,  35.9982,2,  35.9845,2,    207.7,2,   206.9,2,    1.06,2,    0.44,2,    0.01,2,    0.20,2,-999.000,9,-999.000,9,-999.000,9,  2049.1,2,  2366.2,2,   -999.0,9,  -999.00,   8.0399,2,    25.00,-999.000,9,-999.000,9,-999.000,9, -999.00,9,  -999.0,9,  -999.0,-999.000,9,-999.000,-999.000,9, -999.00,9, -999.00,9,   50.10,-999.0000,9,-999.0000,9,-999.0000,9,-999.0000,9,-999.0000,9,-999.0000,9,  25.3067,     -999.0,9,     -999.0,9,     -999.0,9,     -999.0,9,        143,-999.000,-999.000,-999.000,     -999.0,9, -999.00,9, -999.00,9
33RO200306_02,       A16N,     143,          1,         22,         22,2,20030807,       0555,    -2.6665,   -25.0003,       5377,   100.2,  14.9910,  35.5277,2,  35.5244,2,    101.6,2,   100.4,2,    7.19,2,   19.85,2,    0.03,2,    1.35,2,-999.000,9,-999.000,9,-999.000,9,  2185.1,2,  2330.2,2,   -999.0,9,  -999.00,   7.7087,2,    25.00,-999.000,9,-999.000,9,-999.000,9, -999.00,9,  -999.0,9,  -999.0,-999.000,9,-999.000,-999.000,9, -999.00,9, -999.00,9,  100.20,-999.0000,9,-999.0000,9,-999.0000,9,-999.0000,9,-999.0000,9,-999.0000,9,  14.9758,     -999.0,9,     -999.0,9,     -999.0,9,     -999.0,9,        143,-999.000,-999.000,-999.000,     -999.0,9, -999.00,9, -999.00,9
33RO200306_02,       A16N,     143,          1,         21,         21,2,20030807,       0555,    -2.6665,   -25.0003,       5377,   148.7,  14.3418,  35.4491,2,  35.4456,2,    103.4,2,   106.2,2,    7.84,2,   20.82,2,    0.01,2,    1.40,2,-999.000,9,-999.000,9,-999.000,9,  -999.0,9,  -999.0,9,   -999.0,9,  -999.00,-999.0000,9,  -999.00,-999.000,9,-999.000,9,-999.000,9, -999.00,9,  -999.0,9,  -999.0,-999.000,9,-999.000,-999.000,9, -999.00,9, -999.00,9,  148.70,-999.0000,9,-999.0000,9,-999.0000,9,-999.0000,9,-999.0000,9,-999.0000,9,  14.3199,     -999.0,9,     -999.0,9,     -999.0,9,     -999.0,9,        143,-999.000,-999.000,-999.000,     -999.0,9, -999.00,9, -999.00,9
33RO200306_02,       A16N,     143,          1,         20,         20,2,20030807,       0555,    -2.6665,   -25.0003,       5377,   199.6,  13.6680,  35.3612,2,  35.3610,2,     94.3,2,    94.5,2,    8.57,2,   22.47,2,    0.01,2,    1.49,2,-999.000,9,-999.000,9,-999.000,9,  -999.0,9,  -999.0,9,   -999.0,9,  -999.00,-999.0000,9,  -999.00,-999.000,9,-999.000,9,-999.000,9, -999.00,9,  -999.0,9,  -999.0,-999.000,9,-999.000,-999.000,9, -999.00,9, -999.00,9,  199.60,-999.0000,9,-999.0000,9,-999.0000,9,-999.0000,9,-999.0000,9,-999.0000,9,  13.6395,     -999.0,9,     -999.0,9,     -999.0,9,     -999.0,9,        143,-999.000,-999.000,-999.000,     -999.0,9, -999.00,9, -999.00,9
33RO200306_02,       A16N,     143,          1,         19,         19,2,20030807,       0555,    -2.6665,   -25.0003,       5377,   299.2,  11.8763,  35.1260,2,  35.1253,2,    113.3,2,   114.4,2,    9.99,2,   23.52,2,    0.01,2,    1.54,2,-999.000,9,-999.000,9,-999.000,9,  -999.0,9,  -999.0,9,   -999.0,9,  -999.00,-999.0000,9,  -999.00,-999.000,9,-999.000,9,-999.000,9, -999.00,9,  -999.0,9,  -999.0,-999.000,9,-999.000,-999.000,9, -999.00,9, -999.00,9,  299.20,-999.0000,9,-999.0000,9,-999.0000,9,-999.0000,9,-999.0000,9,-999.0000,9,  11.8373,     -999.0,9,     -999.0,9,     -999.0,9,     -999.0,9,        143,-999.000,-999.000,-999.000,     -999.0,9, -999.00,9, -999.00,9
33RO200306_02,       A16N,     143,          1,         18,         18,2,20030807,       0555,    -2.6665,   -25.0003,       5377,   399.6,   9.9289,  34.9139,2,  34.9126,2,     77.2,2,    77.4,2,   14.37,2,   31.29,2,    0.01,2,    1.96,2,-999.000,9,-999.000,9,-999.000,9,  -999.0,9,  -999.0,9,   -999.0,9,  -999.00,-999.0000,9,  -999.00,-999.000,9,-999.000,9,-999.000,9, -999.00,9,  -999.0,9,  -999.0,-999.000,9,-999.000,-999.000,9, -999.00,9, -999.00,9,  399.60,-999.0000,9,-999.0000,9,-999.0000,9,-999.0000,9,-999.0000,9,-999.0000,9,   9.8823,     -999.0,9,     -999.0,9,     -999.0,9,     -999.0,9,        143,-999.000,-999.000,-999.000,     -999.0,9, -999.00,9, -999.00,9
33RO200306_02,       A16N,     143,          1,         17,         17,9,20030807,       0555,    -2.6665,   -25.0003,       5377,   499.6,   7.2708,  34.6457,2,-999.0000,9,     99.9,2,  -999.0,9, -999.00,9, -999.00,9, -999.00,9, -999.00,9,-999.000,9,-999.000,9,-999.000,9,  -999.0,9,  -999.0,9,   -999.0,9,  -999.00,-999.0000,9,  -999.00,-999.000,9,-999.000,9,-999.000,9, -999.00,9,  -999.0,9,  -999.0,-999.000,9,-999.000,-999.000,9, -999.00,9, -999.00,9,  499.60,-999.0000,9,-999.0000,9,-999.0000,9,-999.0000,9,-999.0000,9,-999.0000,9,   7.2222,     -999.0,9,     -999.0,9,     -999.0,9,     -999.0,9,        143,-999.000,-999.000,-999.000,     -999.0,9, -999.00,9, -999.00,9
33RO200306_02,       A16N,     143,          1,         16,         16,2,20030807,       0555,    -2.6665,   -25.0003,       5377,   550.2,   6.5243,  34.5735,2,  34.5678,2,    128.9,2,   125.7,2,   22.41,2,   33.44,2,    0.00,2,    2.18,2,-999.000,9,-999.000,9,-999.000,9,  -999.0,9,  -999.0,9,   -999.0,9,  -999.00,-999.0000,9,  -999.00,-999.000,9,-999.000,9,-999.000,9, -999.00,9,  -999.0,9,  -999.0,-999.000,9,-999.000,-999.000,9, -999.00,9, -999.00,9,  550.20,-999.0000,9,-999.0000,9,-999.0000,9,-999.0000,9,-999.0000,9,-999.0000,9,   6.4738,     -999.0,9,     -999.0,9,     -999.0,9,     -999.0,9,        143,-999.000,-999.000,-999.000,     -999.0,9, -999.00,9, -999.00,9
33RO200306_02,       A16N,     143,          1,         15,         15,2,20030807,       0555,    -2.6665,   -25.0003,       5377,   599.9,   5.8179,  34.5075,2,  34.5061,2,    146.6,2,   146.9,2,   24.57,2,   32.71,2,    0.00,2,    2.17,2,-999.000,9,-999.000,9,-999.000,9,  -999.0,9,  -999.0,9,   -999.0,9,  -999.00,-999.0000,9,  -999.00,-999.000,9,-999.000,9,-999.000,9, -999.00,9,  -999.0,9,  -999.0,-999.000,9,-999.000,-999.000,9, -999.00,9, -999.00,9,  599.90,-999.0000,9,-999.0000,9,-999.0000,9,-999.0000,9,-999.0000,9,-999.0000,9,   5.7659,     -999.0,9,     -999.0,9,     -999.0,9,     -999.0,9,        143,-999.000,-999.000,-999.000,     -999.0,9, -999.00,9, -999.00,9
33RO200306_02,       A16N,     143,          1,         14,         14,2,20030807,       0555,    -2.6665,   -25.0003,       5377,   699.9,   5.1327,  34.4853,2,  34.4820,2,    157.6,2,   157.7,2,   28.40,2,   32.89,2,    0.00,2,    2.20,2,-999.000,9,-999.000,9,-999.000,9,  -999.0,9,  -999.0,9,   -999.0,9,  -999.00,-999.0000,9,  -999.00,-999.000,9,-999.000,9,-999.000,9, -999.00,9,  -999.0,9,  -999.0,-999.000,9,-999.000,-999.000,9, -999.00,9, -999.00,9,  699.90,-999.0000,9,-999.0000,9,-999.0000,9,-999.0000,9,-999.0000,9,-999.0000,9,   5.0752,     -999.0,9,     -999.0,9,     -999.0,9,     -999.0,9,        143,-999.000,-999.000,-999.000,     -999.0,9, -999.00,9, -999.00,9
33RO200306_02,       A16N,     143,          1,         13,         13,2,20030807,       0555,    -2.6665,   -25.0003,       5377,   899.3,   4.4733,  34.5169,2,  34.5153,2,    156.7,2,   154.5,2,   33.10,2,   33.75,2,    0.00,2,    2.28,2,-999.000,9,-999.000,9,-999.000,9,  -999.0,9,  -999.0,9,   -999.0,9,  -999.00,-999.0000,9,  -999.00,-999.000,9,-999.000,9,-999.000,9, -999.00,9,  -999.0,9,  -999.0,-999.000,9,-999.000,-999.000,9, -999.00,9, -999.00,9,  899.30,-999.0000,9,-999.0000,9,-999.0000,9,-999.0000,9,-999.0000,9,-999.0000,9,   4.4026,     -999.0,9,     -999.0,9,     -999.0,9,     -999.0,9,        143,-999.000,-999.000,-999.000,     -999.0,9, -999.00,9, -999.00,9
33RO200306_02,       A16N,     143,          1,         12,         12,2,20030807,       0555,    -2.6665,   -25.0003,       5377,  1100.6,   4.3192,  34.6794,2,  34.6772,2,    166.9,2,   167.1,2,   31.45,2,   30.84,2,    0.00,2,    2.10,2,   0.021,3,   0.013,2,   0.000,2,  2214.1,2,  2313.2,2,   -999.0,9,  -999.00,-999.0000,9,  -999.00,-999.000,9,-999.000,9,-999.000,9, -999.00,9,  -999.0,9,  -999.0,-999.000,9,-999.000,-999.000,9, -999.00,9, -999.00,9, 1100.60,-999.0000,9,-999.0000,9,-999.0000,9,-999.0000,9,-999.0000,9,-999.0000,9,   4.2321,     -999.0,9,     -999.0,9,     -999.0,9,     -999.0,9,        143,-999.000,-999.000,-999.000,     -999.0,9, -999.00,9, -999.00,9
33RO200306_02,       A16N,     143,          1,         11,         11,2,20030807,       0555,    -2.6665,   -25.0003,       5377,  1300.9,   4.4661,  34.8695,2,  34.8687,2,    194.8,2,   196.7,2,   23.79,2,   25.33,2,    0.00,2,    1.72,2,-999.000,9,-999.000,9,-999.000,9,  -999.0,9,  -999.0,9,   -999.0,9,  -999.00,-999.0000,9,  -999.00,-999.000,9,-999.000,9,-999.000,9, -999.00,9,  -999.0,9,  -999.0,-999.000,9,-999.000,-999.000,9, -999.00,9, -999.00,9, 1300.90,-999.0000,9,-999.0000,9,-999.0000,9,-999.0000,9,-999.0000,9,-999.0000,9,   4.3594,     -999.0,9,     -999.0,9,     -999.0,9,     -999.0,9,        143,-999.000,-999.000,-999.000,     -999.0,9, -999.00,9, -999.00,9
33RO200306_02,       A16N,     143,          1,         10,         10,2,20030807,       0555,    -2.6665,   -25.0003,       5377,  1490.8,   4.3198,  34.9621,2,  34.9603,2,    225.7,2,   228.4,2,   18.85,2,   21.14,2,    0.00,2,    1.44,2,   0.252,3,   0.132,2,   0.006,2,  2176.1,2,  2317.5,2,   -999.0,9,  -999.00,   7.7040,2,    25.00,-999.000,9,-999.000,9,-999.000,9, -999.00,9,  -999.0,9,  -999.0,-999.000,9,-999.000,-999.000,9, -999.00,9, -999.00,9, 1490.80,-999.0000,9,-999.0000,9,-999.0000,9,-999.0000,9,-999.0000,9,-999.0000,9,   4.1969,     -999.0,9,     -999.0,9,     -999.0,9,     -999.0,9,        143,-999.000,-999.000,-999.000,     -999.0,9, -999.00,9, -999.00,9
33RO200306_02,       A16N,     143,          1,          9,          9,9,20030807,       0555,    -2.6665,   -25.0003,       5377,  1800.1,   3.7008,  34.9774,2,-999.0000,9,    253.7,2,  -999.0,9, -999.00,9, -999.00,9, -999.00,9, -999.00,9,-999.000,9,-999.000,9,-999.000,9,  -999.0,9,  -999.0,9,   -999.0,9,  -999.00,-999.0000,9,  -999.00,-999.000,9,-999.000,9,-999.000,9, -999.00,9,  -999.0,9,  -999.0,-999.000,9,-999.000,-999.000,9, -999.00,9, -999.00,9, 1800.10,-999.0000,9,-999.0000,9,-999.0000,9,-999.0000,9,-999.0000,9,-999.0000,9,   3.5566,     -999.0,9,     -999.0,9,     -999.0,9,     -999.0,9,        143,-999.000,-999.000,-999.000,     -999.0,9, -999.00,9, -999.00,9
33RO200306_02,       A16N,     143,          1,          8,          8,9,20030807,       0555,    -2.6665,   -25.0003,       5377,  2299.8,   3.1797,  34.9476,2,-999.0000,9,    251.4,2,  -999.0,9, -999.00,9, -999.00,9, -999.00,9, -999.00,9,-999.000,9,-999.000,9,-999.000,9,  -999.0,9,  -999.0,9,   -999.0,9,  -999.00,-999.0000,9,  -999.00,-999.000,9,-999.000,9,-999.000,9, -999.00,9,  -999.0,9,  -999.0,-999.000,9,-999.000,-999.000,9, -999.00,9, -999.00,9, 2299.80,-999.0000,9,-999.0000,9,-999.0000,9,-999.0000,9,-999.0000,9,-999.0000,9,   2.9961,     -999.0,9,     -999.0,9,     -999.0,9,     -999.0,9,        143,-999.000,-999.000,-999.000,     -999.0,9, -999.00,9, -999.00,9
33RO200306_02,       A16N,     143,          1,          7,          7,2,20030807,       0555,    -2.6665,   -25.0003,       5377,  2798.7,   2.7449,  34.9149,2,  34.9151,2,    245.0,2,   244.2,2,   38.16,2,   21.06,2,    0.00,2,    1.46,2,-999.000,9,-999.000,9,-999.000,9,  -999.0,9,  -999.0,9,   -999.0,9,  -999.00,-999.0000,9,  -999.00,-999.000,9,-999.000,9,-999.000,9, -999.00,9,  -999.0,9,  -999.0,-999.000,9,-999.000,-999.000,9, -999.00,9, -999.00,9, 2798.70,-999.0000,9,-999.0000,9,-999.0000,9,-999.0000,9,-999.0000,9,-999.0000,9,   2.5203,     -999.0,9,     -999.0,9,     -999.0,9,     -999.0,9,        143,-999.000,-999.000,-999.000,     -999.0,9, -999.00,9, -999.00,9
33RO200306_02,       A16N,     143,          1,          6,          6,2,20030807,       0555,    -2.6665,   -25.0003,       5377,  3299.7,   2.5572,  34.9101,2,  34.9092,2,    251.9,2,   252.3,2,   36.88,2,   20.18,2,    0.00,2,    1.41,2,   0.033,3,   0.016,2,   0.002,2,  2183.2,2,  2337.3,2,   -999.0,9,  -999.00,   7.7209,2,    25.00,-999.000,9,-999.000,9,-999.000,9, -999.00,9,  -999.0,9,  -999.0,-999.000,9,-999.000,-999.000,9, -999.00,9, -999.00,9, 3299.70,-999.0000,9,-999.0000,9,-999.0000,9,-999.0000,9,-999.0000,9,-999.0000,9,   2.2849,     -999.0,9,     -999.0,9,     -999.0,9,     -999.0,9,        143,-999.000,-999.000,-999.000,     -999.0,9, -999.00,9, -999.00,9
33RO200306_02,       A16N,     143,          1,          5,          5,2,20030807,       0555,    -2.6665,   -25.0003,       5377,  3496.6,   2.4854,  34.9101,2,  34.9092,2,    258.1,2,   258.7,2,   33.67,2,   19.17,2,    0.00,2,    1.35,2,-999.000,9,-999.000,9,-999.000,9,  -999.0,9,  -999.0,9,   -999.0,9,  -999.00,-999.0000,9,  -999.00,-999.000,9,-999.000,9,-999.000,9, -999.00,9,  -999.0,9,  -999.0,-999.000,9,-999.000,-999.000,9, -999.00,9, -999.00,9, 3496.60,-999.0000,9,-999.0000,9,-999.0000,9,-999.0000,9,-999.0000,9,-999.0000,9,   2.1937,     -999.0,9,     -999.0,9,     -999.0,9,     -999.0,9,        143,-999.000,-999.000,-999.000,     -999.0,9, -999.00,9, -999.00,9
33RO200306_02,       A16N,     143,          1,          4,          4,2,20030807,       0555,    -2.6665,   -25.0003,       5377,  3800.0,   2.3807,  34.9026,2,  34.9015,2,    262.0,2,   263.1,2,   33.78,6,   19.17,6,    0.00,6,    1.35,6,   0.189,3,   0.111,2,   0.010,2,  2176.2,2,  2332.4,2,   -999.0,9,  -999.00,   7.7345,2,    25.00,-999.000,9,-999.000,9,-999.000,9, -999.00,9,  -999.0,9,  -999.0,-999.000,9,-999.000,-999.000,9, -999.00,9, -999.00,9, 3800.00,-999.0000,9,-999.0000,9,-999.0000,9,-999.0000,9,-999.0000,9,-999.0000,9,   2.0584,     -999.0,9,     -999.0,9,     -999.0,9,     -999.0,9,        143,-999.000,-999.000,-999.000,     -999.0,9, -999.00,9, -999.00,9
33RO200306_02,       A16N,     143,          1,          3,          3,2,20030807,       0555,    -2.6665,   -25.0003,       5377,  4300.0,   1.2222,  34.7732,2,  34.7725,2,    235.7,2,   233.6,2,   88.82,6,   26.18,6,    0.01,6,    1.93,6,-999.000,9,-999.000,9,-999.000,9,  -999.0,9,  -999.0,9,   -999.0,9,  -999.00,-999.0000,9,  -999.00,-999.000,9,-999.000,9,-999.000,9, -999.00,9,  -999.0,9,  -999.0,-999.000,9,-999.000,-999.000,9, -999.00,9, -999.00,9, 4300.00,-999.0000,9,-999.0000,9,-999.0000,9,-999.0000,9,-999.0000,9,-999.0000,9,   0.8778,     -999.0,9,     -999.0,9,     -999.0,9,     -999.0,9,        143,-999.000,-999.000,-999.000,     -999.0,9, -999.00,9, -999.00,9
33RO200306_02,       A16N,     143,          1,          2,          2,2,20030807,       0555,    -2.6665,   -25.0003,       5377,  4800.9,   0.7912,  34.7202,2,  34.7206,2,    224.5,2,   224.8,2,  109.92,6,   30.27,6,    0.00,6,    2.15,6,-999.000,9,-999.000,9,-999.000,9,  -999.0,9,  -999.0,9,   -999.0,9,  -999.00,-999.0000,9,  -999.00,-999.000,9,-999.000,9,-999.000,9, -999.00,9,  -999.0,9,  -999.0,-999.000,9,-999.000,-999.000,9, -999.00,9, -999.00,9, 4800.90,-999.0000,9,-999.0000,9,-999.0000,9,-999.0000,9,-999.0000,9,-999.0000,9,   0.4040,     -999.0,9,     -999.0,9,     -999.0,9,     -999.0,9,        143,-999.000,-999.000,-999.000,     -999.0,9, -999.00,9, -999.00,9
33RO200306_02,       A16N,     143,          1,          1,          1,2,20030807,       0555,    -2.6665,   -25.0003,       5377,  5432.9,   0.7362,  34.7066,2,  34.7066,2,    222.0,2,   222.2,2,  115.27,6,   30.28,6,    0.00,6,    2.20,6,   0.049,3,   0.029,2,   0.003,2,  2258.2,3,  -999.0,9,   -999.0,9,  -999.00,-999.0000,9,  -999.00,-999.000,9,-999.000,9,-999.000,9, -999.00,9,  -999.0,9,  -999.0,-999.000,9,-999.000,-999.000,9, -999.00,9, -999.00,9, 5432.90,-999.0000,9,-999.0000,9,-999.0000,9,-999.0000,9,-999.0000,9,-999.0000,9,   0.2758,     -999.0,9,     -999.0,9,     -999.0,9,     -999.0,9,        143,-999.000,-999.000,-999.000,     -999.0,9, -999.00,9, -999.00,9