BOTTLE,20230908CCHSIOCBG
EXPOCODE,SECT_ID,STNNBR,CASTNO,SAMPNO,BTLNBR,BTLNBR_FLAG_W,DATE,TIME,LATITUDE,LONGITUDE,DEPTH,CTDPRS,CTDTMP,CTDSAL,CTDSAL_FLAG_W,SALNTY,SALNTY_FLAG_W,CTDOXY,CTDOXY_FLAG_W,OXYGEN,OXYGEN_FLAG_W,SILCAT,SILCAT_FLAG_W,NITRAT,NITRAT_FLAG_W,NITRIT,NITRIT_FLAG_W,PHSPHT,PHSPHT_FLAG_W,CFC-11,CFC-11_FLAG_W,CFC-12,CFC-12_FLAG_W,CFC113,CFC113_FLAG_W,TCARBN,TCARBN_FLAG_W,ALKALI,ALKALI_FLAG_W,FCO2,FCO2_FLAG_W,FCO2TMP,PH_SWS,PH_SWS_FLAG_W,PH_TMP,TRITUM,TRITUM_FLAG_W,HELIUM,HELIUM_FLAG_W,DELHE3,DELHE3_FLAG_W,DELC13,DELC13_FLAG_W,DELC14,DELC14_FLAG_W,C14ERR,NEON,NEON_FLAG_W,NEONER,POC,POC_FLAG_W,DOC,DOC_FLAG_W,TDN,TDN_FLAG_W,CTDRAW,CDOM325,CDOM325_FLAG_W,CDOM340,CDOM340_FLAG_W,CDOM380,CDOM380_FLAG_W,CDOM412,CDOM412_FLAG_W,CDOMSL,CDOMSL_FLAG_W,CDOMSN,CDOMSN_FLAG_W,THETA,PON,PON_FLAG_W,HCFC-22,HCFC-22_FLAG_W,HCFC-142b,HCFC-142b_FLAG_W,HCFC-141b,HCFC-141b_FLAG_W,STNNBR_U,HELIER,DELHER,TRITER,CH3CL,CH3CL_FLAG_W,CH3BR,CH3BR_FLAG_W,CH3I,CH3I_FLAG_W
,,,,,,,,,,,METERS,DBAR,ITS-90,PSS-78,,PSS-78,,UMOL/KG,,UMOL/KG,,UMOL/KG,,UMOL/KG,,UMOL/KG,,UMOL/KG,,PMOL/KG,,PMOL/KG,,PMOL/KG,,UMOL/KG,,UMOL/KG,,UATM,,DEG C,,,DEG C,TU,,NMOL/KG,,PERCNT,,/MILLE,,/MILLE,,/MILLE,NMOL/KG,,NMOL/KG,UG/KG,,UMOL/KG,,UMOL/KG,,DBAR,1/M,,1/M,,1/M,,1/M,,1/NM,,1/NM,,DEG C,UMOL/L,,PMOL/KG,,PMOL/KG,,PMOL/KG,,,NMOL/KG,PERCNT,TU,PMOL/KG,,PMOL/KG,,PMOL/KG,
33RO200306_02,       A16N,     140,          1,         35,         35,2,20030806,       0740,    -1.6662,   -24.9992,       4931,     2.6,  25.9786,  36.1674,2,  36.1713,2,    195.1,2,   204.5,2,    1.13,2,    0.08,2,    0.00,2,    0.17,2,-999.000,9,-999.000,9,-999.000,9,  2052.4,2,  2374.8,6,   -999.0,9,  -999.00,   8.0623,6,    25.00,-999.000,9,-999.000,9,-999.000,9, -999.00,9,  -999.0,9,  -999.0,-999.000,9,-999.000,-999.000,9, -999.00,9, -999.00,9,    2.60,-999.0000,9,-999.0000,9,-999.0000,9,-999.0000,9,-999.0000,9,-999.0000,9,  25.9780,     -999.0,9,     -999.0,9,     -999.0,9,     -999.0,9,        140,-999.000,-999.000,-999.000,     -999.0,9, -999.00,9, -999.00,9
33RO200306_02,       A16N,     140,          1,         33,         33,2,20030806,       0740,    -1.6662,   -24.9992,       4931,    20.4,  25.9822,  36.1665,2,  36.1717,2,    194.3,2,   204.1,2,    1.13,2,    0.09,2,    0.00,2,    0.18,2,-999.000,9,-999.000,9,-999.000,9,  -999.0,9,  -999.0,9,   -999.0,9,  -999.00,-999.0000,9,  -999.00,-999.000,9,-999.000,9,-999.000,9, -999.00,9,  -999.0,9,  -999.0,-999.000,9,-999.000,-999.000,9, -999.00,9, -999.00,9,   20.40,-999.0000,9,-999.0000,9,-999.0000,9,-999.0000,9,-999.0000,9,-999.0000,9,  25.9776,     -999.0,9,     -999.0,9,     -999.0,9,     -999.0,9,        140,-999.000,-999.000,-999.000,     -999.0,9, -999.00,9, -999.00,9
33RO200306_02,       A16N,     140,          1,         32,         32,2,20030806,       0740,    -1.6662,   -24.9992,       4931,    41.0,  25.9671,  36.1698,2,  36.1755,2,    194.4,2,   203.0,2,    1.13,2,    0.13,2,    0.01,2,    0.18,2,-999.000,9,-999.000,9,-999.000,9,  -999.0,9,  -999.0,9,   -999.0,9,  -999.00,-999.0000,9,  -999.00,-999.000,9,-999.000,9,-999.000,9, -999.00,9,  -999.0,9,  -999.0,-999.000,9,-999.000,-999.000,9, -999.00,9, -999.00,9,   41.00,-999.0000,9,-999.0000,9,-999.0000,9,-999.0000,9,-999.0000,9,-999.0000,9,  25.9579,     -999.0,9,     -999.0,9,     -999.0,9,     -999.0,9,        140,-999.000,-999.000,-999.000,     -999.0,9, -999.00,9, -999.00,9
33RO200306_02,       A16N,     140,          1,         31,         31,2,20030806,       0740,    -1.6662,   -24.9992,       4931,    59.9,  25.8910,  36.1723,2,  36.1811,2,    194.0,2,   202.5,2,    1.20,2,    0.37,2,    0.01,2,    0.19,2,-999.000,9,-999.000,9,-999.000,9,  -999.0,9,  -999.0,9,   -999.0,9,  -999.00,-999.0000,9,  -999.00,-999.000,9,-999.000,9,-999.000,9, -999.00,9,  -999.0,9,  -999.0,-999.000,9,-999.000,-999.000,9, -999.00,9, -999.00,9,   59.90,-999.0000,9,-999.0000,9,-999.0000,9,-999.0000,9,-999.0000,9,-999.0000,9,  25.8776,     -999.0,9,     -999.0,9,     -999.0,9,     -999.0,9,        140,-999.000,-999.000,-999.000,     -999.0,9, -999.00,9, -999.00,9
33RO200306_02,       A16N,     140,          1,         30,         30,2,20030806,       0740,    -1.6662,   -24.9992,       4931,    79.8,  20.8664,  35.9262,2,  35.8884,2,    167.9,2,   153.2,2,    3.76,2,    8.55,2,    0.33,2,    0.76,2,-999.000,9,-999.000,9,-999.000,9,  -999.0,9,  -999.0,9,   -999.0,9,  -999.00,-999.0000,9,  -999.00,-999.000,9,-999.000,9,-999.000,9, -999.00,9,  -999.0,9,  -999.0,-999.000,9,-999.000,-999.000,9, -999.00,9, -999.00,9,   79.80,-999.0000,9,-999.0000,9,-999.0000,9,-999.0000,9,-999.0000,9,-999.0000,9,  20.8511,     -999.0,9,     -999.0,9,     -999.0,9,     -999.0,9,        140,-999.000,-999.000,-999.000,     -999.0,9, -999.00,9, -999.00,9
33RO200306_02,       A16N,     140,          1,         29,         29,2,20030806,       0740,    -1.6662,   -24.9992,       4931,   101.0,  15.0912,  35.5076,2,  35.4935,2,     99.2,2,    96.0,2,    7.19,2,   21.18,2,    0.04,2,    1.39,2,-999.000,9,-999.000,9,-999.000,9,  -999.0,9,  -999.0,9,   -999.0,9,  -999.00,-999.0000,9,  -999.00,-999.000,9,-999.000,9,-999.000,9, -999.00,9,  -999.0,9,  -999.0,-999.000,9,-999.000,-999.000,9, -999.00,9, -999.00,9,  101.00,-999.0000,9,-999.0000,9,-999.0000,9,-999.0000,9,-999.0000,9,-999.0000,9,  15.0758,     -999.0,9,     -999.0,9,     -999.0,9,     -999.0,9,        140,-999.000,-999.000,-999.000,     -999.0,9, -999.00,9, -999.00,9
33RO200306_02,       A16N,     140,          1,         28,         28,2,20030806,       0740,    -1.6662,   -24.9992,       4931,   126.0,  14.1325,  35.4183,2,  35.4198,2,     97.5,2,    94.4,2,    8.02,2,   21.97,2,    0.01,2,    1.42,2,-999.000,9,-999.000,9,-999.000,9,  -999.0,9,  -999.0,9,   -999.0,9,  -999.00,-999.0000,9,  -999.00,-999.000,9,-999.000,9,-999.000,9, -999.00,9,  -999.0,9,  -999.0,-999.000,9,-999.000,-999.000,9, -999.00,9, -999.00,9,  126.00,-999.0000,9,-999.0000,9,-999.0000,9,-999.0000,9,-999.0000,9,-999.0000,9,  14.1141,     -999.0,9,     -999.0,9,     -999.0,9,     -999.0,9,        140,-999.000,-999.000,-999.000,     -999.0,9, -999.00,9, -999.00,9
33RO200306_02,       A16N,     140,          1,         27,         27,2,20030806,       0740,    -1.6662,   -24.9992,       4931,   150.8,  13.8836,  35.3857,2,  35.3765,2,     97.4,2,    95.3,2,    8.35,2,   22.71,2,    0.01,2,    1.47,2,-999.000,9,-999.000,9,-999.000,9,  -999.0,9,  -999.0,9,   -999.0,9,  -999.00,-999.0000,9,  -999.00,-999.000,9,-999.000,9,-999.000,9, -999.00,9,  -999.0,9,  -999.0,-999.000,9,-999.000,-999.000,9, -999.00,9, -999.00,9,  150.80,-999.0000,9,-999.0000,9,-999.0000,9,-999.0000,9,-999.0000,9,-999.0000,9,  13.8619,     -999.0,9,     -999.0,9,     -999.0,9,     -999.0,9,        140,-999.000,-999.000,-999.000,     -999.0,9, -999.00,9, -999.00,9
33RO200306_02,       A16N,     140,          1,         26,         26,2,20030806,       0740,    -1.6662,   -24.9992,       4931,   200.2,  13.3579,  35.3159,2,  35.3180,2,     96.7,2,    94.4,2,    8.75,2,   23.63,2,    0.01,2,    1.51,2,-999.000,9,-999.000,9,-999.000,9,  -999.0,9,  -999.0,9,   -999.0,9,  -999.00,-999.0000,9,  -999.00,-999.000,9,-999.000,9,-999.000,9, -999.00,9,  -999.0,9,  -999.0,-999.000,9,-999.000,-999.000,9, -999.00,9, -999.00,9,  200.20,-999.0000,9,-999.0000,9,-999.0000,9,-999.0000,9,-999.0000,9,-999.0000,9,  13.3298,     -999.0,9,     -999.0,9,     -999.0,9,     -999.0,9,        140,-999.000,-999.000,-999.000,     -999.0,9, -999.00,9, -999.00,9
33RO200306_02,       A16N,     140,          1,         25,         25,2,20030806,       0740,    -1.6662,   -24.9992,       4931,   250.0,  12.6813,  35.2264,2,  35.2203,2,    102.7,2,   101.1,2,    9.40,2,   24.18,2,    0.01,2,    1.54,2,-999.000,9,-999.000,9,-999.000,9,  -999.0,9,  -999.0,9,   -999.0,9,  -999.00,-999.0000,9,  -999.00,-999.000,9,-999.000,9,-999.000,9, -999.00,9,  -999.0,9,  -999.0,-999.000,9,-999.000,-999.000,9, -999.00,9, -999.00,9,  250.00,-999.0000,9,-999.0000,9,-999.0000,9,-999.0000,9,-999.0000,9,-999.0000,9,  12.6473,     -999.0,9,     -999.0,9,     -999.0,9,     -999.0,9,        140,-999.000,-999.000,-999.000,     -999.0,9, -999.00,9, -999.00,9
33RO200306_02,       A16N,     140,          1,         24,         24,2,20030806,       0740,    -1.6662,   -24.9992,       4931,   300.5,  11.7425,  35.1113,2,  35.1081,2,     96.1,2,    93.0,2,   10.84,2,   26.83,2,    0.01,2,    1.67,2,-999.000,9,-999.000,9,-999.000,9,  -999.0,9,  -999.0,9,   -999.0,9,  -999.00,-999.0000,9,  -999.00,-999.000,9,-999.000,9,-999.000,9, -999.00,9,  -999.0,9,  -999.0,-999.000,9,-999.000,-999.000,9, -999.00,9, -999.00,9,  300.50,-999.0000,9,-999.0000,9,-999.0000,9,-999.0000,9,-999.0000,9,-999.0000,9,  11.7036,     -999.0,9,     -999.0,9,     -999.0,9,     -999.0,9,        140,-999.000,-999.000,-999.000,     -999.0,9, -999.00,9, -999.00,9
33RO200306_02,       A16N,     140,          1,         23,         23,2,20030806,       0740,    -1.6662,   -24.9992,       4931,   350.9,  10.1364,  34.9354,2,  34.9274,2,     75.5,2,    68.3,2,   14.44,2,   32.20,2,    0.01,2,    1.99,2,-999.000,9,-999.000,9,-999.000,9,  -999.0,9,  -999.0,9,   -999.0,9,  -999.00,-999.0000,9,  -999.00,-999.000,9,-999.000,9,-999.000,9, -999.00,9,  -999.0,9,  -999.0,-999.000,9,-999.000,-999.000,9, -999.00,9, -999.00,9,  350.90,-999.0000,9,-999.0000,9,-999.0000,9,-999.0000,9,-999.0000,9,-999.0000,9,  10.0950,     -999.0,9,     -999.0,9,     -999.0,9,     -999.0,9,        140,-999.000,-999.000,-999.000,     -999.0,9, -999.00,9, -999.00,9
33RO200306_02,       A16N,     140,          1,         22,         22,2,20030806,       0740,    -1.6662,   -24.9992,       4931,   400.3,   8.3956,  34.7454,2,  34.7453,2,     77.9,2,    91.2,2,   17.43,2,   33.46,2,    0.01,2,    2.08,2,-999.000,9,-999.000,9,-999.000,9,  -999.0,9,  -999.0,9,   -999.0,9,  -999.00,-999.0000,9,  -999.00,-999.000,9,-999.000,9,-999.000,9, -999.00,9,  -999.0,9,  -999.0,-999.000,9,-999.000,-999.000,9, -999.00,9, -999.00,9,  400.30,-999.0000,9,-999.0000,9,-999.0000,9,-999.0000,9,-999.0000,9,-999.0000,9,   8.3535,     -999.0,9,     -999.0,9,     -999.0,9,     -999.0,9,        140,-999.000,-999.000,-999.000,     -999.0,9, -999.00,9, -999.00,9
33RO200306_02,       A16N,     140,          1,         21,         21,2,20030806,       0740,    -1.6662,   -24.9992,       4931,   450.5,   7.2647,  34.6291,2,  34.6313,2,    108.5,2,   114.1,2,   19.99,2,   33.42,2,    0.01,2,    2.12,2,-999.000,9,-999.000,9,-999.000,9,  -999.0,9,  -999.0,9,   -999.0,9,  -999.00,-999.0000,9,  -999.00,-999.000,9,-999.000,9,-999.000,9, -999.00,9,  -999.0,9,  -999.0,-999.000,9,-999.000,-999.000,9, -999.00,9, -999.00,9,  450.50,-999.0000,9,-999.0000,9,-999.0000,9,-999.0000,9,-999.0000,9,-999.0000,9,   7.2211,     -999.0,9,     -999.0,9,     -999.0,9,     -999.0,9,        140,-999.000,-999.000,-999.000,     -999.0,9, -999.00,9, -999.00,9
33RO200306_02,       A16N,     140,          1,         20,         20,2,20030806,       0740,    -1.6662,   -24.9992,       4931,   500.7,   5.7552,  34.4911,2,  34.4900,2,    133.0,2,   161.4,2,   24.52,2,   31.92,2,    0.01,2,    2.09,2,-999.000,9,-999.000,9,-999.000,9,  -999.0,9,  -999.0,9,   -999.0,9,  -999.00,-999.0000,9,  -999.00,-999.000,9,-999.000,9,-999.000,9, -999.00,9,  -999.0,9,  -999.0,-999.000,9,-999.000,-999.000,9, -999.00,9, -999.00,9,  500.70,-999.0000,9,-999.0000,9,-999.0000,9,-999.0000,9,-999.0000,9,-999.0000,9,   5.7124,     -999.0,9,     -999.0,9,     -999.0,9,     -999.0,9,        140,-999.000,-999.000,-999.000,     -999.0,9, -999.00,9, -999.00,9
33RO200306_02,       A16N,     140,          1,         19,         19,2,20030806,       0740,    -1.6662,   -24.9992,       4931,   600.3,   5.4664,  34.5068,2,  34.5087,2,    145.5,2,   145.4,2,   26.83,2,   33.88,2,    0.01,2,    2.22,2,-999.000,9,-999.000,9,-999.000,9,  -999.0,9,  -999.0,9,   -999.0,9,  -999.00,-999.0000,9,  -999.00,-999.000,9,-999.000,9,-999.000,9, -999.00,9,  -999.0,9,  -999.0,-999.000,9,-999.000,-999.000,9, -999.00,9, -999.00,9,  600.30,-999.0000,9,-999.0000,9,-999.0000,9,-999.0000,9,-999.0000,9,-999.0000,9,   5.4160,     -999.0,9,     -999.0,9,     -999.0,9,     -999.0,9,        140,-999.000,-999.000,-999.000,     -999.0,9, -999.00,9, -999.00,9
33RO200306_02,       A16N,     140,          1,         18,         18,2,20030806,       0740,    -1.6662,   -24.9992,       4931,   701.1,   5.2853,  34.5055,2,  34.5058,2,    148.1,2,   144.9,2,   28.17,2,   34.30,2,    0.01,2,    2.24,2,-999.000,9,-999.000,9,-999.000,9,  -999.0,9,  -999.0,9,   -999.0,9,  -999.00,-999.0000,9,  -999.00,-999.000,9,-999.000,9,-999.000,9, -999.00,9,  -999.0,9,  -999.0,-999.000,9,-999.000,-999.000,9, -999.00,9, -999.00,9,  701.10,-999.0000,9,-999.0000,9,-999.0000,9,-999.0000,9,-999.0000,9,-999.0000,9,   5.2269,     -999.0,9,     -999.0,9,     -999.0,9,     -999.0,9,        140,-999.000,-999.000,-999.000,     -999.0,9, -999.00,9, -999.00,9
33RO200306_02,       A16N,     140,          1,         17,         17,2,20030806,       0740,    -1.6662,   -24.9992,       4931,   800.5,   4.9351,  34.4963,2,  34.4967,2,    156.3,2,   144.0,2,   30.06,2,   33.83,2,    0.01,2,    2.24,2,-999.000,9,-999.000,9,-999.000,9,  -999.0,9,  -999.0,9,   -999.0,9,  -999.00,-999.0000,9,  -999.00,-999.000,9,-999.000,9,-999.000,9, -999.00,9,  -999.0,9,  -999.0,-999.000,9,-999.000,-999.000,9, -999.00,9, -999.00,9,  800.50,-999.0000,9,-999.0000,9,-999.0000,9,-999.0000,9,-999.0000,9,-999.0000,9,   4.8700,     -999.0,9,     -999.0,9,     -999.0,9,     -999.0,9,        140,-999.000,-999.000,-999.000,     -999.0,9, -999.00,9, -999.00,9
33RO200306_02,       A16N,     140,          1,         16,         16,2,20030806,       0740,    -1.6662,   -24.9992,       4931,   900.2,   4.4841,  34.4961,2,  34.4993,2,    166.3,2,   162.7,2,   32.64,2,   32.69,2,    0.01,2,    2.21,2,-999.000,9,-999.000,9,-999.000,9,  -999.0,9,  -999.0,9,   -999.0,9,  -999.00,-999.0000,9,  -999.00,-999.000,9,-999.000,9,-999.000,9, -999.00,9,  -999.0,9,  -999.0,-999.000,9,-999.000,-999.000,9, -999.00,9, -999.00,9,  900.20,-999.0000,9,-999.0000,9,-999.0000,9,-999.0000,9,-999.0000,9,-999.0000,9,   4.4133,     -999.0,9,     -999.0,9,     -999.0,9,     -999.0,9,        140,-999.000,-999.000,-999.000,     -999.0,9, -999.00,9, -999.00,9
33RO200306_02,       A16N,     140,          1,         15,         15,9,20030806,       0740,    -1.6662,   -24.9992,       4931,  1000.5,   4.4402,  34.5865,2,-999.0000,9,    166.0,2,  -999.0,9, -999.00,9, -999.00,9, -999.00,9, -999.00,9,-999.000,9,-999.000,9,-999.000,9,  -999.0,9,  -999.0,9,   -999.0,9,  -999.00,-999.0000,9,  -999.00,-999.000,9,-999.000,9,-999.000,9, -999.00,9,  -999.0,9,  -999.0,-999.000,9,-999.000,-999.000,9, -999.00,9, -999.00,9, 1000.50,-999.0000,9,-999.0000,9,-999.0000,9,-999.0000,9,-999.0000,9,-999.0000,9,   4.3610,     -999.0,9,     -999.0,9,     -999.0,9,     -999.0,9,        140,-999.000,-999.000,-999.000,     -999.0,9, -999.00,9, -999.00,9
33RO200306_02,       A16N,     140,          1,         14,         14,2,20030806,       0740,    -1.6662,   -24.9992,       4931,  1100.6,   4.4304,  34.7202,2,  34.7253,2,    176.9,2,   172.2,2,   29.15,2,   30.15,2,    0.00,2,    2.00,2,   0.051,2,   0.028,2,   0.001,2,  -999.0,9,  -999.0,9,   -999.0,9,  -999.00,-999.0000,9,  -999.00,-999.000,9,-999.000,9,-999.000,9, -999.00,9,  -999.0,9,  -999.0,-999.000,9,-999.000,-999.000,9, -999.00,9, -999.00,9, 1100.60,-999.0000,9,-999.0000,9,-999.0000,9,-999.0000,9,-999.0000,9,-999.0000,9,   4.3423,     -999.0,9,     -999.0,9,     -999.0,9,     -999.0,9,        140,-999.000,-999.000,-999.000,     -999.0,9, -999.00,9, -999.00,9
33RO200306_02,       A16N,     140,          1,         13,         13,2,20030806,       0740,    -1.6662,   -24.9992,       4931,  1200.0,   4.5681,  34.8136,2,  34.8137,2,    186.9,2,   181.9,2,   25.85,2,   27.80,2,    0.00,2,    1.84,2,-999.000,9,-999.000,9,-999.000,9,  -999.0,9,  -999.0,9,   -999.0,9,  -999.00,-999.0000,9,  -999.00,-999.000,9,-999.000,9,-999.000,9, -999.00,9,  -999.0,9,  -999.0,-999.000,9,-999.000,-999.000,9, -999.00,9, -999.00,9, 1200.00,-999.0000,9,-999.0000,9,-999.0000,9,-999.0000,9,-999.0000,9,-999.0000,9,   4.4697,     -999.0,9,     -999.0,9,     -999.0,9,     -999.0,9,        140,-999.000,-999.000,-999.000,     -999.0,9, -999.00,9, -999.00,9
33RO200306_02,       A16N,     140,          1,         12,         12,2,20030806,       0740,    -1.6662,   -24.9992,       4931,  1400.9,   4.4501,  34.9529,2,  34.9556,2,    219.4,2,   221.1,2,   19.32,2,   22.08,2,    0.00,2,    1.48,2,   0.212,2,   0.116,2,   0.006,2,  2184.1,2,  2317.7,2,   -999.0,9,  -999.00,   7.6826,2,    25.00,-999.000,9,-999.000,9,-999.000,9, -999.00,9,  -999.0,9,  -999.0,-999.000,9,-999.000,-999.000,9, -999.00,9, -999.00,9, 1400.90,-999.0000,9,-999.0000,9,-999.0000,9,-999.0000,9,-999.0000,9,-999.0000,9,   4.3341,     -999.0,9,     -999.0,9,     -999.0,9,     -999.0,9,        140,-999.000,-999.000,-999.000,     -999.0,9, -999.00,9, -999.00,9
33RO200306_02,       A16N,     140,          1,         11,         11,2,20030806,       0740,    -1.6662,   -24.9992,       4931,  1599.1,   4.1293,  34.9752,2,  34.9773,2,    237.2,2,   238.2,2,   18.13,2,   20.33,2,    0.00,2,    1.36,2,-999.000,9,-999.000,9,-999.000,9,  -999.0,9,  -999.0,9,   -999.0,9,  -999.00,-999.0000,9,  -999.00,-999.000,9,-999.000,9,-999.000,9, -999.00,9,  -999.0,9,  -999.0,-999.000,9,-999.000,-999.000,9, -999.00,9, -999.00,9, 1599.10,-999.0000,9,-999.0000,9,-999.0000,9,-999.0000,9,-999.0000,9,-999.0000,9,   3.9984,     -999.0,9,     -999.0,9,     -999.0,9,     -999.0,9,        140,-999.000,-999.000,-999.000,     -999.0,9, -999.00,9, -999.00,9
33RO200306_02,       A16N,     140,          1,         10,         10,2,20030806,       0740,    -1.6662,   -24.9992,       4931,  1800.4,   3.8710,  34.9783,2,  34.9800,2,    246.3,2,   247.2,2,   18.40,2,   19.48,2,    0.00,2,    1.30,2,   0.194,2,   0.098,2,   0.006,2,  2169.3,2,  2319.8,2,   -999.0,9,  -999.00,   7.7279,2,    25.00,-999.000,9,-999.000,9,-999.000,9, -999.00,9,  -999.0,9,  -999.0,-999.000,9,-999.000,-999.000,9, -999.00,9, -999.00,9, 1800.40,-999.0000,9,-999.0000,9,-999.0000,9,-999.0000,9,-999.0000,9,-999.0000,9,   3.7245,     -999.0,9,     -999.0,9,     -999.0,9,     -999.0,9,        140,-999.000,-999.000,-999.000,     -999.0,9, -999.00,9, -999.00,9
33RO200306_02,       A16N,     140,          1,          9,          9,2,20030806,       0740,    -1.6662,   -24.9992,       4931,  2000.1,   3.6250,  34.9739,2,  34.9749,2,    251.7,2,   253.2,2,   19.29,2,   19.02,2,    0.00,2,    1.26,2,-999.000,9,-999.000,9,-999.000,9,  -999.0,9,  -999.0,9,   -999.0,9,  -999.00,-999.0000,9,  -999.00,-999.000,9,-999.000,9,-999.000,9, -999.00,9,  -999.0,9,  -999.0,-999.000,9,-999.000,-999.000,9, -999.00,9, -999.00,9, 2000.10,-999.0000,9,-999.0000,9,-999.0000,9,-999.0000,9,-999.0000,9,-999.0000,9,   3.4630,     -999.0,9,     -999.0,9,     -999.0,9,     -999.0,9,        140,-999.000,-999.000,-999.000,     -999.0,9, -999.00,9, -999.00,9
33RO200306_02,       A16N,     140,          1,          8,          8,2,20030806,       0740,    -1.6662,   -24.9992,       4931,  2501.9,   2.9884,  34.9344,2,  34.9356,2,    246.1,2,   242.1,2,   31.44,2,   20.53,2,    0.00,2,    1.39,2,   0.026,2,   0.014,2,   0.003,2,  2184.0,2,  2329.8,2,   -999.0,9,  -999.00,   7.7273,2,    25.00,-999.000,9,-999.000,9,-999.000,9, -999.00,9,  -999.0,9,  -999.0,-999.000,9,-999.000,-999.000,9, -999.00,9, -999.00,9, 2501.90,-999.0000,9,-999.0000,9,-999.0000,9,-999.0000,9,-999.0000,9,-999.0000,9,   2.7885,     -999.0,9,     -999.0,9,     -999.0,9,     -999.0,9,        140,-999.000,-999.000,-999.000,     -999.0,9, -999.00,9, -999.00,9