BOTTLE,20230908CCHSIOCBG
EXPOCODE,SECT_ID,STNNBR,CASTNO,SAMPNO,BTLNBR,BTLNBR_FLAG_W,DATE,TIME,LATITUDE,LONGITUDE,DEPTH,CTDPRS,CTDTMP,CTDSAL,CTDSAL_FLAG_W,SALNTY,SALNTY_FLAG_W,CTDOXY,CTDOXY_FLAG_W,OXYGEN,OXYGEN_FLAG_W,SILCAT,SILCAT_FLAG_W,NITRAT,NITRAT_FLAG_W,NITRIT,NITRIT_FLAG_W,PHSPHT,PHSPHT_FLAG_W,CFC-11,CFC-11_FLAG_W,CFC-12,CFC-12_FLAG_W,CFC113,CFC113_FLAG_W,TCARBN,TCARBN_FLAG_W,ALKALI,ALKALI_FLAG_W,FCO2,FCO2_FLAG_W,FCO2TMP,PH_SWS,PH_SWS_FLAG_W,PH_TMP,TRITUM,TRITUM_FLAG_W,HELIUM,HELIUM_FLAG_W,DELHE3,DELHE3_FLAG_W,DELC13,DELC13_FLAG_W,DELC14,DELC14_FLAG_W,C14ERR,NEON,NEON_FLAG_W,NEONER,POC,POC_FLAG_W,DOC,DOC_FLAG_W,TDN,TDN_FLAG_W,CTDRAW,CDOM325,CDOM325_FLAG_W,CDOM340,CDOM340_FLAG_W,CDOM380,CDOM380_FLAG_W,CDOM412,CDOM412_FLAG_W,CDOMSL,CDOMSL_FLAG_W,CDOMSN,CDOMSN_FLAG_W,THETA,PON,PON_FLAG_W,HCFC-22,HCFC-22_FLAG_W,HCFC-142b,HCFC-142b_FLAG_W,HCFC-141b,HCFC-141b_FLAG_W,STNNBR_U,HELIER,DELHER,TRITER,CH3CL,CH3CL_FLAG_W,CH3BR,CH3BR_FLAG_W,CH3I,CH3I_FLAG_W
,,,,,,,,,,,METERS,DBAR,ITS-90,PSS-78,,PSS-78,,UMOL/KG,,UMOL/KG,,UMOL/KG,,UMOL/KG,,UMOL/KG,,UMOL/KG,,PMOL/KG,,PMOL/KG,,PMOL/KG,,UMOL/KG,,UMOL/KG,,UATM,,DEG C,,,DEG C,TU,,NMOL/KG,,PERCNT,,/MILLE,,/MILLE,,/MILLE,NMOL/KG,,NMOL/KG,UG/KG,,UMOL/KG,,UMOL/KG,,DBAR,1/M,,1/M,,1/M,,1/M,,1/NM,,1/NM,,DEG C,UMOL/L,,PMOL/KG,,PMOL/KG,,PMOL/KG,,,NMOL/KG,PERCNT,TU,PMOL/KG,,PMOL/KG,,PMOL/KG,
33RO200306_02,       A16N,     108,          1,         35,         35,2,20030728,       0536,    12.1377,   -28.9997,       5680,     2.7,  27.7011,  36.0644,2,  36.0861,2,    169.5,2,   200.6,2,    0.51,2,    0.08,2,    0.00,2,    0.05,2,   1.712,2,   1.099,2,   0.149,2,  2018.2,6,  2374.0,6,    285.3,6,    20.00,   8.0903,6,    25.00,-999.000,9,-999.000,9,-999.000,9, -999.00,9,  -999.0,9,  -999.0,-999.000,9,-999.000,-999.000,9,   74.96,2,    6.54,2,    2.70,-999.0000,9,-999.0000,9,-999.0000,9,-999.0000,9,-999.0000,9,-999.0000,9,  27.7005,     -999.0,9,       3.75,2,       0.19,2,       0.37,2,        108,-999.000,-999.000,-999.000,       23.5,2,     0.0,2,   19.04,2
33RO200306_02,       A16N,     108,          1,         33,         33,2,20030728,       0536,    12.1377,   -28.9997,       5680,    25.4,  27.3238,  36.1888,2,  36.1879,2,    171.9,2,   204.3,2,    0.54,2,    0.11,2,    0.00,2,    0.06,2,   1.739,2,   1.110,2,   0.155,2,  2023.2,2,  2369.2,2,    286.0,2,    20.00,   8.0056,3,    25.00,-999.000,9,-999.000,9,-999.000,9, -999.00,9,  -999.0,9,  -999.0,-999.000,9,-999.000,-999.000,9,   76.59,2,    7.28,2,   25.40,-999.0000,9,-999.0000,9,-999.0000,9,-999.0000,9,-999.0000,9,-999.0000,9,  27.3179,     -999.0,9,       3.74,2,       0.22,2,       0.35,2,        108,-999.000,-999.000,-999.000,     172.24,2,    0.48,2,   25.75,2
33RO200306_02,       A16N,     108,          1,         32,         32,2,20030728,       0536,    12.1377,   -28.9997,       5680,    50.8,  23.6162,  35.9936,2,  35.9863,2,    189.8,2,   206.5,2,    0.83,2,    0.75,2,    0.03,2,    0.17,2,   1.934,2,   1.202,2,   0.151,2,  2054.6,2,  2377.5,3,    335.9,2,    20.00,-999.0000,9,  -999.00,-999.000,9,-999.000,9,-999.000,9, -999.00,9,  -999.0,9,  -999.0,-999.000,9,-999.000,-999.000,9, -999.00,9, -999.00,9,   50.80,-999.0000,9,-999.0000,9,-999.0000,9,-999.0000,9,-999.0000,9,-999.0000,9,  23.6056,     -999.0,9,     -999.0,9,     -999.0,9,     -999.0,9,        108,-999.000,-999.000,-999.000,     -999.0,9, -999.00,9, -999.00,9
33RO200306_02,       A16N,     108,          1,         31,         31,2,20030728,       0536,    12.1377,   -28.9997,       5680,    70.9,  17.3865,  35.6684,2,  35.6568,2,    127.0,2,    92.0,2,    4.98,2,   17.89,2,    0.60,2,    1.20,2,   1.786,2,   1.029,2,   0.049,2,  2185.3,2,  2332.9,2,    755.7,2,    20.00,-999.0000,9,  -999.00,-999.000,9,-999.000,9,-999.000,9, -999.00,9,  -999.0,9,  -999.0,-999.000,9,-999.000,-999.000,9,   55.29,2,   21.89,2,   70.90,-999.0000,9,-999.0000,9,-999.0000,9,-999.0000,9,-999.0000,9,-999.0000,9,  17.3746,     -999.0,9,       1.92,2,       0.00,2,       0.20,2,        108,-999.000,-999.000,-999.000,      17.53,2,     0.0,2,    6.36,2
33RO200306_02,       A16N,     108,          1,         30,         30,2,20030728,       0536,    12.1377,   -28.9997,       5680,    90.6,  14.9518,  35.5062,2,  35.4869,2,     75.5,2,    79.0,2,    7.22,2,   23.66,2,    0.07,2,    1.49,2,   1.723,2,   0.964,2,   0.035,2,  2203.3,2,  -999.0,9,    898.7,2,    20.00,-999.0000,9,  -999.00,-999.000,9,-999.000,9,-999.000,9, -999.00,9,  -999.0,9,  -999.0,-999.000,9,-999.000,-999.000,9,   51.14,2,   29.42,2,   90.60,-999.0000,9,-999.0000,9,-999.0000,9,-999.0000,9,-999.0000,9,-999.0000,9,  14.9381,     -999.0,9,     -999.0,9,     -999.0,9,     -999.0,9,        108,-999.000,-999.000,-999.000,     -999.0,9, -999.00,9, -999.00,9
33RO200306_02,       A16N,     108,          1,         29,         29,2,20030728,       0536,    12.1377,   -28.9997,       5680,   110.5,  13.6288,  35.3815,2,  35.3812,2,     82.2,2,    83.3,2,    8.17,2,   24.59,2,    0.03,2,    1.55,2,   1.666,2,   0.923,2,   0.021,2,  2203.0,2,  2329.2,2,    921.0,2,    20.00,-999.0000,9,  -999.00,-999.000,9,-999.000,9,-999.000,9, -999.00,9,  -999.0,9,  -999.0,-999.000,9,-999.000,-999.000,9, -999.00,9, -999.00,9,  110.50,-999.0000,9,-999.0000,9,-999.0000,9,-999.0000,9,-999.0000,9,-999.0000,9,  13.6131,     -999.0,9,       1.58,2,       0.00,2,       0.41,2,        108,-999.000,-999.000,-999.000,       36.4,2,     0.0,2,     1.2,2
33RO200306_02,       A16N,     108,          1,         28,         28,2,20030728,       0536,    12.1377,   -28.9997,       5680,   135.1,  12.9190,  35.3021,2,  35.3052,2,     86.5,2,    99.2,2,    8.74,2,   23.85,2,    0.02,2,    1.53,2,   1.653,2,   0.913,2,   0.023,2,  2196.2,2,  2323.8,2,    892.3,2,    20.00,   7.7313,2,    25.00,-999.000,9,-999.000,9,-999.000,9, -999.00,9,  -999.0,9,  -999.0,-999.000,9,-999.000,-999.000,9,   50.41,2,   27.27,2,  135.10,-999.0000,9,-999.0000,9,-999.0000,9,-999.0000,9,-999.0000,9,-999.0000,9,  12.9005,     -999.0,9,     -999.0,9,     -999.0,9,     -999.0,9,        108,-999.000,-999.000,-999.000,     -999.0,9, -999.00,9, -999.00,9
33RO200306_02,       A16N,     108,          1,         27,         27,2,20030728,       0536,    12.1377,   -28.9997,       5680,   160.0,  12.7595,  35.3513,2,  35.3714,2,     82.8,2,    80.0,2,    9.09,2,   25.79,2,    0.01,2,    1.61,2,   1.456,2,   0.799,2,   0.014,2,  2209.1,2,  2325.1,2,    971.4,2,    20.00,   7.6414,2,    25.00,-999.000,9,-999.000,9,-999.000,9, -999.00,9,  -999.0,9,  -999.0,-999.000,9,-999.000,-999.000,9, -999.00,9, -999.00,9,  160.00,-999.0000,9,-999.0000,9,-999.0000,9,-999.0000,9,-999.0000,9,-999.0000,9,  12.7377,     -999.0,9,       1.45,2,       0.00,2,       0.15,2,        108,-999.000,-999.000,-999.000,     157.88,2,    1.17,2,    0.58,2
33RO200306_02,       A16N,     108,          1,         26,         26,2,20030728,       0536,    12.1377,   -28.9997,       5680,   184.1,  12.6163,  35.3654,2,  35.3610,2,     78.9,2,    81.5,2,    9.31,2,   25.91,2,    0.01,2,    1.62,2,   1.428,2,   0.787,2,   0.018,2,  2210.0,2,  -999.0,9,    972.2,2,    20.00,-999.0000,9,  -999.00,-999.000,9,-999.000,9,-999.000,9, -999.00,9,  -999.0,9,  -999.0,-999.000,9,-999.000,-999.000,9,   48.70,2,   29.19,2,  184.10,-999.0000,9,-999.0000,9,-999.0000,9,-999.0000,9,-999.0000,9,-999.0000,9,  12.5914,     -999.0,9,     -999.0,9,     -999.0,9,     -999.0,9,        108,-999.000,-999.000,-999.000,     -999.0,9, -999.00,9, -999.00,9
33RO200306_02,       A16N,     108,          1,         25,         25,2,20030728,       0536,    12.1377,   -28.9997,       5680,   224.9,  11.9540,  35.2757,2,  35.2666,2,     78.7,2,    78.7,2,   10.35,2,   27.31,2,    0.01,2,    1.71,2,   1.249,2,   0.678,2,   0.010,2,  2211.6,2,  2321.5,2,   1029.5,2,    20.00,-999.0000,9,  -999.00,-999.000,9,-999.000,9,-999.000,9, -999.00,9,  -999.0,9,  -999.0,-999.000,9,-999.000,-999.000,9,   46.83,2,   31.00,2,  224.90,-999.0000,9,-999.0000,9,-999.0000,9,-999.0000,9,-999.0000,9,-999.0000,9,  11.9246,     -999.0,9,       1.05,2,       0.00,2,       0.12,2,        108,-999.000,-999.000,-999.000,      30.37,2,    0.25,2,     0.6,2
33RO200306_02,       A16N,     108,          1,         24,         24,2,20030728,       0536,    12.1377,   -28.9997,       5680,   274.1,  11.4396,  35.2345,2,  35.2340,2,     68.7,2,    71.1,2,   11.27,2,   28.97,2,    0.01,2,    1.78,2,   1.043,2,   0.571,2,   0.008,2,  2220.2,2,  2319.8,2,   1101.1,2,    20.00,   7.5820,2,    25.00,-999.000,9,-999.000,9,-999.000,9, -999.00,9,  -999.0,9,  -999.0,-999.000,9,-999.000,-999.000,9,   46.34,2,   32.70,2,  274.10,-999.0000,9,-999.0000,9,-999.0000,9,-999.0000,9,-999.0000,9,-999.0000,9,  11.4047,     -999.0,9,     -999.0,9,     -999.0,9,     -999.0,9,        108,-999.000,-999.000,-999.000,     -999.0,9, -999.00,9, -999.00,9
33RO200306_02,       A16N,     108,          1,         23,         23,2,20030728,       0536,    12.1377,   -28.9997,       5680,   324.1,  11.0956,  35.2226,2,  35.2229,2,     59.4,2,    54.8,2,   12.18,2,   31.14,2,    0.01,2,    1.89,2,   0.807,6,   0.442,6,   0.005,6,  2230.7,2,  2319.7,2,   1213.3,2,    20.00,   7.5524,2,    25.00,-999.000,9,-999.000,9,-999.000,9, -999.00,9,  -999.0,9,  -999.0,-999.000,9,-999.000,-999.000,9,   45.44,2,   36.72,2,  324.10,-999.0000,9,-999.0000,9,-999.0000,9,-999.0000,9,-999.0000,9,-999.0000,9,  11.0551,     -999.0,9,     -999.0,9,     -999.0,9,     -999.0,9,        108,-999.000,-999.000,-999.000,     -999.0,9, -999.00,9, -999.00,9
33RO200306_02,       A16N,     108,          1,         22,         22,2,20030728,       0536,    12.1377,   -28.9997,       5680,   375.0,  10.8268,  35.2171,2,  35.2164,2,     53.2,2,    54.5,2,   12.79,2,   31.75,2,    0.01,2,    1.91,2,   0.681,2,   0.383,2,   0.005,2,  2231.6,2,  2314.2,2,   1231.5,2,    20.00,   7.5424,2,    25.00,-999.000,9,-999.000,9,-999.000,9, -999.00,9,  -999.0,9,  -999.0,-999.000,9,-999.000,-999.000,9,   45.53,2,   34.82,2,  375.00,-999.0000,9,-999.0000,9,-999.0000,9,-999.0000,9,-999.0000,9,-999.0000,9,  10.7805,     -999.0,9,       0.42,2,       0.00,2,       0.09,2,        108,-999.000,-999.000,-999.000,      39.13,2,    0.54,2,    0.52,2
33RO200306_02,       A16N,     108,          1,         21,         21,2,20030728,       0536,    12.1377,   -28.9997,       5680,   424.5,  10.4454,  35.1874,2,  35.1870,2,     49.9,2,    49.6,2,   13.81,2,   33.07,2,    0.01,2,    2.00,2,   0.520,2,   0.287,2,   0.004,2,  2237.3,2,  2311.6,2,   -999.0,9,  -999.00,   7.5239,2,    25.00,-999.000,9,-999.000,9,-999.000,9, -999.00,9,  -999.0,9,  -999.0,-999.000,9,-999.000,-999.000,9,   43.90,2,   37.01,2,  424.50,-999.0000,9,-999.0000,9,-999.0000,9,-999.0000,9,-999.0000,9,-999.0000,9,  10.3941,     -999.0,9,     -999.0,9,     -999.0,9,     -999.0,9,        108,-999.000,-999.000,-999.000,     -999.0,9, -999.00,9, -999.00,9
33RO200306_02,       A16N,     108,          1,         20,         20,2,20030728,       0536,    12.1377,   -28.9997,       5680,   474.6,  10.0559,  35.1630,2,  35.1628,2,     54.1,2,    52.7,2,   14.73,2,   33.44,2,    0.00,2,    2.03,2,   0.417,2,   0.234,2,   0.005,2,  2239.5,2,  2311.9,2,   1303.0,2,    20.00,   7.5200,2,    25.00,-999.000,9,-999.000,9,-999.000,9, -999.00,9,  -999.0,9,  -999.0,-999.000,9,-999.000,-999.000,9,   43.82,2,   38.78,2,  474.60,-999.0000,9,-999.0000,9,-999.0000,9,-999.0000,9,-999.0000,9,-999.0000,9,   9.9997,     -999.0,9,     -999.0,9,     -999.0,9,     -999.0,9,        108,-999.000,-999.000,-999.000,     -999.0,9, -999.00,9, -999.00,9
33RO200306_02,       A16N,     108,          1,         19,         19,2,20030728,       0536,    12.1377,   -28.9997,       5680,   525.0,   9.3613,  35.0893,2,  35.0945,2,     55.4,2,    54.6,2,   16.42,2,   34.58,2,    0.00,2,    2.12,2,   0.274,2,   0.160,2,   0.001,2,  2243.3,2,  2309.7,2,   1350.4,2,    20.00,   7.5111,2,    25.00,-999.000,9,-999.000,9,-999.000,9, -999.00,9,  -999.0,9,  -999.0,-999.000,9,-999.000,-999.000,9,   43.25,2,   41.27,2,  525.00,-999.0000,9,-999.0000,9,-999.0000,9,-999.0000,9,-999.0000,9,-999.0000,9,   9.3017,     -999.0,9,       0.12,2,       0.00,2,       0.08,2,        108,-999.000,-999.000,-999.000,       55.8,2,    0.94,2,    0.32,2
33RO200306_02,       A16N,     108,          1,         18,         18,2,20030728,       0536,    12.1377,   -28.9997,       5680,   575.2,   8.6776,  35.0229,2,  35.0209,2,     61.7,2,    62.5,2,   18.26,2,   35.07,2,    0.00,2,    2.19,2,-999.000,9,-999.000,9,-999.000,9,  2243.2,2,  2309.7,2,   -999.0,9,  -999.00,   7.5033,2,    25.00,-999.000,9,-999.000,9,-999.000,9, -999.00,9,  -999.0,9,  -999.0,-999.000,9,-999.000,-999.000,9,   42.20,2,   39.24,2,  575.20,-999.0000,9,-999.0000,9,-999.0000,9,-999.0000,9,-999.0000,9,-999.0000,9,   8.6151,     -999.0,9,     -999.0,9,     -999.0,9,     -999.0,9,        108,-999.000,-999.000,-999.000,     -999.0,9, -999.00,9, -999.00,9
33RO200306_02,       A16N,     108,          1,         17,         17,2,20030728,       0536,    12.1377,   -28.9997,       5680,   624.7,   8.0873,  34.9574,2,  34.9596,2,     67.7,2,    66.4,2,   19.63,2,   35.58,2,    0.00,2,    2.24,2,   0.123,2,   0.072,2,   0.001,2,  2242.6,2,  2308.1,6,   1363.7,2,    20.00,   7.5046,6,    25.00,-999.000,9,-999.000,9,-999.000,9, -999.00,9,  -999.0,9,  -999.0,-999.000,9,-999.000,-999.000,9,   42.60,2,   40.70,2,  624.70,-999.0000,9,-999.0000,9,-999.0000,9,-999.0000,9,-999.0000,9,-999.0000,9,   8.0220,     -999.0,9,     -999.0,9,     -999.0,9,     -999.0,9,        108,-999.000,-999.000,-999.000,     -999.0,9, -999.00,9, -999.00,9
33RO200306_02,       A16N,     108,          1,         16,         16,2,20030728,       0536,    12.1377,   -28.9997,       5680,   674.1,   7.4201,  34.8728,2,  34.8747,2,     71.8,2,    74.3,2,   21.44,2,   36.35,2,    0.00,2,    2.31,2,   0.064,2,   0.041,2,   0.000,2,  2244.7,2,  2303.7,2,   1392.0,2,    20.00,   7.4986,2,    25.00,-999.000,9,-999.000,9,-999.000,9, -999.00,9,  -999.0,9,  -999.0,-999.000,9,-999.000,-999.000,9,   43.34,2,   42.93,2,  674.10,-999.0000,9,-999.0000,9,-999.0000,9,-999.0000,9,-999.0000,9,-999.0000,9,   7.3528,     -999.0,9,       0.00,2,       0.00,2,       0.07,2,        108,-999.000,-999.000,-999.000,     100.61,2,    2.03,2,    0.18,2
33RO200306_02,       A16N,     108,          1,         15,         15,2,20030728,       0536,    12.1377,   -28.9997,       5680,   749.2,   6.8054,  34.8234,2,  34.8251,2,     84.9,2,    85.7,2,   23.15,2,   35.96,2,    0.00,2,    2.31,2,   0.041,2,   0.023,2,   0.001,2,  2238.0,6,  2304.9,2,   1356.2,2,    20.00,   7.5013,2,    25.00,-999.000,9,-999.000,9,-999.000,9, -999.00,9,  -999.0,9,  -999.0,-999.000,9,-999.000,-999.000,9,   43.41,2,   39.53,2,  749.20,-999.0000,9,-999.0000,9,-999.0000,9,-999.0000,9,-999.0000,9,-999.0000,9,   6.7337,     -999.0,9,     -999.0,9,     -999.0,9,     -999.0,9,        108,-999.000,-999.000,-999.000,     -999.0,9, -999.00,9, -999.00,9
33RO200306_02,       A16N,     108,          1,         14,         14,2,20030728,       0536,    12.1377,   -28.9997,       5680,   823.8,   6.3582,  34.8122,2,  34.8121,2,     99.3,2,   100.9,2,   24.33,2,   35.02,2,    0.00,2,    2.28,2,-999.000,9,-999.000,9,-999.000,9,  2235.3,2,  2307.0,2,   -999.0,9,  -999.00,   7.5026,2,    25.00,-999.000,9,-999.000,9,-999.000,9, -999.00,9,  -999.0,9,  -999.0,-999.000,9,-999.000,-999.000,9,   43.49,2,   39.75,2,  823.80,-999.0000,9,-999.0000,9,-999.0000,9,-999.0000,9,-999.0000,9,-999.0000,9,   6.2817,     -999.0,9,     -999.0,9,     -999.0,9,     -999.0,9,        108,-999.000,-999.000,-999.000,     -999.0,9, -999.00,9, -999.00,9
33RO200306_02,       A16N,     108,          1,         13,         13,2,20030728,       0536,    12.1377,   -28.9997,       5680,   899.1,   5.9956,  34.8070,2,  34.8061,2,    110.3,2,   109.4,2,   25.13,2,   34.11,2,    0.00,2,    2.24,2,   0.016,2,   0.009,2,   0.004,2,  2230.6,2,  2309.6,2,   1247.1,2,    20.00,   7.5352,2,    25.00,-999.000,9,-999.000,9,-999.000,9, -999.00,9,  -999.0,9,  -999.0,-999.000,9,-999.000,-999.000,9,   42.44,2,   39.74,2,  899.10,-999.0000,9,-999.0000,9,-999.0000,9,-999.0000,9,-999.0000,9,-999.0000,9,   5.9141,     -999.0,9,     -999.0,9,     -999.0,9,     -999.0,9,        108,-999.000,-999.000,-999.000,     -999.0,9, -999.00,9, -999.00,9
33RO200306_02,       A16N,     108,          1,         12,         12,2,20030728,       0536,    12.1377,   -28.9997,       5680,  1299.2,   4.8776,  34.9623,2,  34.9624,2,    177.1,2,   177.4,2,   22.56,2,   26.52,2,    0.00,2,    1.78,2,   0.005,2,   0.006,2,   0.000,2,  2201.8,2,  2320.4,2,    947.7,6,    20.00,   7.6430,2,    25.00,-999.000,9,-999.000,9,-999.000,9, -999.00,9,  -999.0,9,  -999.0,-999.000,9,-999.000,-999.000,9,   41.39,2,   30.97,2, 1299.20,-999.0000,9,-999.0000,9,-999.0000,9,-999.0000,9,-999.0000,9,-999.0000,9,   4.7668,     -999.0,9,       0.00,2,       0.00,2,       0.16,2,        108,-999.000,-999.000,-999.000,        0.0,2,     0.0,2,    0.18,2
33RO200306_02,       A16N,     108,          1,         11,         11,2,20030728,       0536,    12.1377,   -28.9997,       5680,  1500.0,   4.2733,  34.9658,2,  34.9667,2,    206.4,2,   205.4,2,   21.69,2,   23.87,2,    0.00,2,    1.61,2,   0.007,2,   0.009,2,   0.001,2,  2187.4,2,  2322.6,2,   -999.0,9,  -999.00,   7.6635,2,    25.00,-999.000,9,-999.000,9,-999.000,9, -999.00,9,  -999.0,9,  -999.0,-999.000,9,-999.000,-999.000,9,   40.90,2,   28.32,2, 1500.00,-999.0000,9,-999.0000,9,-999.0000,9,-999.0000,9,-999.0000,9,-999.0000,9,   4.1500,     -999.0,9,     -999.0,9,     -999.0,9,     -999.0,9,        108,-999.000,-999.000,-999.000,     -999.0,9, -999.00,9, -999.00,9
33RO200306_02,       A16N,     108,          1,         10,         10,2,20030728,       0536,    12.1377,   -28.9997,       5680,  1700.2,   3.9620,  34.9798,2,  34.9797,2,    230.0,2,   230.3,2,   19.84,2,   21.45,2,    0.00,2,    1.43,2,   0.008,2,   0.007,2,   0.000,2,  2176.2,2,  2322.4,2,   -999.0,9,  -999.00,-999.0000,9,  -999.00,-999.000,9,-999.000,9,-999.000,9, -999.00,9,  -999.0,9,  -999.0,-999.000,9,-999.000,-999.000,9,   41.46,2,   25.20,2, 1700.20,-999.0000,9,-999.0000,9,-999.0000,9,-999.0000,9,-999.0000,9,-999.0000,9,   3.8237,     -999.0,9,       0.06,2,       0.00,2,       0.11,2,        108,-999.000,-999.000,-999.000,        0.0,2,     0.0,2,    0.09,2
33RO200306_02,       A16N,     108,          1,          9,          9,2,20030728,       0536,    12.1377,   -28.9997,       5680,  1899.6,   3.6318,  34.9717,2,  34.9721,2,    238.9,2,   239.2,2,   21.03,2,   20.82,2,    0.00,2,    1.41,2,-999.000,9,-999.000,9,-999.000,9,  2174.8,2,  2324.1,2,    770.1,2,    20.00,   7.7285,2,    25.00,-999.000,9,-999.000,9,-999.000,9, -999.00,9,  -999.0,9,  -999.0,-999.000,9,-999.000,-999.000,9,   41.39,2,   25.90,2, 1899.60,-999.0000,9,-999.0000,9,-999.0000,9,-999.0000,9,-999.0000,9,-999.0000,9,   3.4792,     -999.0,9,     -999.0,9,     -999.0,9,     -999.0,9,        108,-999.000,-999.000,-999.000,     -999.0,9, -999.00,9, -999.00,9
33RO200306_02,       A16N,     108,          1,          8,          8,2,20030728,       0536,    12.1377,   -28.9997,       5680,  2250.3,   3.2401,  34.9598,2,  34.9601,2,    238.2,2,   236.0,2,   27.64,2,   21.33,2,    0.00,2,    1.46,2,   0.000,2,   0.002,2,   0.000,2,  2183.2,2,  2333.0,2,   -999.0,9,  -999.00,   7.7201,2,    25.00,-999.000,9,-999.000,9,-999.000,9, -999.00,9,  -999.0,9,  -999.0,-999.000,9,-999.000,-999.000,9,   41.22,2,   25.15,2, 2250.30,-999.0000,9,-999.0000,9,-999.0000,9,-999.0000,9,-999.0000,9,-999.0000,9,   3.0602,     -999.0,9,     -999.0,9,     -999.0,9,     -999.0,9,        108,-999.000,-999.000,-999.000,     -999.0,9, -999.00,9, -999.00,9