BOTTLE,20230908CCHSIOCBG
EXPOCODE,SECT_ID,STNNBR,CASTNO,SAMPNO,BTLNBR,BTLNBR_FLAG_W,DATE,TIME,LATITUDE,LONGITUDE,DEPTH,CTDPRS,CTDTMP,CTDSAL,CTDSAL_FLAG_W,SALNTY,SALNTY_FLAG_W,CTDOXY,CTDOXY_FLAG_W,OXYGEN,OXYGEN_FLAG_W,SILCAT,SILCAT_FLAG_W,NITRAT,NITRAT_FLAG_W,NITRIT,NITRIT_FLAG_W,PHSPHT,PHSPHT_FLAG_W,CFC-11,CFC-11_FLAG_W,CFC-12,CFC-12_FLAG_W,CFC113,CFC113_FLAG_W,TCARBN,TCARBN_FLAG_W,ALKALI,ALKALI_FLAG_W,FCO2,FCO2_FLAG_W,FCO2TMP,PH_SWS,PH_SWS_FLAG_W,PH_TMP,TRITUM,TRITUM_FLAG_W,HELIUM,HELIUM_FLAG_W,DELHE3,DELHE3_FLAG_W,DELC13,DELC13_FLAG_W,DELC14,DELC14_FLAG_W,C14ERR,NEON,NEON_FLAG_W,NEONER,POC,POC_FLAG_W,DOC,DOC_FLAG_W,TDN,TDN_FLAG_W,CTDRAW,CDOM325,CDOM325_FLAG_W,CDOM340,CDOM340_FLAG_W,CDOM380,CDOM380_FLAG_W,CDOM412,CDOM412_FLAG_W,CDOMSL,CDOMSL_FLAG_W,CDOMSN,CDOMSN_FLAG_W,THETA,PON,PON_FLAG_W,HCFC-22,HCFC-22_FLAG_W,HCFC-142b,HCFC-142b_FLAG_W,HCFC-141b,HCFC-141b_FLAG_W,STNNBR_U,HELIER,DELHER,TRITER,CH3CL,CH3CL_FLAG_W,CH3BR,CH3BR_FLAG_W,CH3I,CH3I_FLAG_W
,,,,,,,,,,,METERS,DBAR,ITS-90,PSS-78,,PSS-78,,UMOL/KG,,UMOL/KG,,UMOL/KG,,UMOL/KG,,UMOL/KG,,UMOL/KG,,PMOL/KG,,PMOL/KG,,PMOL/KG,,UMOL/KG,,UMOL/KG,,UATM,,DEG C,,,DEG C,TU,,NMOL/KG,,PERCNT,,/MILLE,,/MILLE,,/MILLE,NMOL/KG,,NMOL/KG,UG/KG,,UMOL/KG,,UMOL/KG,,DBAR,1/M,,1/M,,1/M,,1/M,,1/NM,,1/NM,,DEG C,UMOL/L,,PMOL/KG,,PMOL/KG,,PMOL/KG,,,NMOL/KG,PERCNT,TU,PMOL/KG,,PMOL/KG,,PMOL/KG,
33RO200306_01,       A16N,     051,          1,         35,         35,2,20030702,       1653,    40.0003,   -20.0022,       4759,     2.9,  20.2514,  36.0618,2,  36.0641,2,    232.0,2,   233.9,2,    0.92,2,    0.05,2,    0.00,2,    0.03,2,   2.449,2,   1.503,2,   0.213,2,  2069.7,6,  2303.9,4,    356.9,6,    20.00,   7.9938,3,    25.00,-999.000,9,-999.000,9,-999.000,9, -999.00,9,  -999.0,9,  -999.0,-999.000,9,-999.000,-999.000,9,   64.15,2,    4.80,2,    2.90,-999.0000,9,-999.0000,9,-999.0000,9,-999.0000,9,-999.0000,9,-999.0000,9,  20.2509,     -999.0,9,     -999.0,9,     -999.0,9,     -999.0,9,         51,-999.000,-999.000,-999.000,     -999.0,9, -999.00,9, -999.00,9
33RO200306_01,       A16N,     051,          1,         33,         33,2,20030702,       1653,    40.0003,   -20.0022,       4759,    10.3,  19.4123,  36.0577,2,  36.0591,2,    231.5,2,   236.0,2,    0.89,2,    0.05,2,    0.00,2,    0.03,2,   2.469,2,   1.513,2,   0.214,2,  2066.8,2,  2367.3,2,   -999.0,9,  -999.00,   8.0021,2,    25.00,-999.000,9,-999.000,9,-999.000,9, -999.00,9,  -999.0,9,  -999.0,-999.000,9,-999.000,   5.604,2,   62.27,2,    5.05,2,   10.30,-999.0000,9,-999.0000,9,-999.0000,9,-999.0000,9,-999.0000,9,-999.0000,9,  19.4104,      0.588,2,     -999.0,9,     -999.0,9,     -999.0,9,         51,-999.000,-999.000,-999.000,     -999.0,9, -999.00,9, -999.00,9
33RO200306_01,       A16N,     051,          1,         32,         32,2,20030702,       1653,    40.0003,   -20.0022,       4759,    29.7,  16.2949,  35.9387,2,  35.9401,2,    247.4,2,   271.2,2,    0.98,2,    0.06,2,    0.00,2,    0.05,2,   2.900,2,   1.729,2,   0.244,2,  2069.9,2,  2356.9,2,    446.2,4,    20.00,   7.9975,2,    25.00,-999.000,9,-999.000,9,-999.000,9, -999.00,9,  -999.0,9,  -999.0,-999.000,9,-999.000,   7.086,2, -999.00,9, -999.00,9,   29.70,-999.0000,9,-999.0000,9,-999.0000,9,-999.0000,9,-999.0000,9,-999.0000,9,  16.2901,      0.944,2,     -999.0,9,     -999.0,9,     -999.0,9,         51,-999.000,-999.000,-999.000,     -999.0,9, -999.00,9, -999.00,9
33RO200306_01,       A16N,     051,          1,         31,         31,2,20030702,       1653,    40.0003,   -20.0022,       4759,    41.3,  15.1737,  35.9050,2,  35.9284,2,    269.2,2,   273.4,2,    1.18,2,    0.27,2,    0.02,2,    0.07,2,   2.999,2,   1.776,2,   0.251,2,  2082.3,2,  2356.2,2,   -999.0,9,  -999.00,   7.9595,2,    25.00,-999.000,9,-999.000,9,-999.000,9, -999.00,9,  -999.0,9,  -999.0,-999.000,9,-999.000,   7.528,2,   58.54,2,    4.33,2,   41.30,-999.0000,9,-999.0000,9,-999.0000,9,-999.0000,9,-999.0000,9,-999.0000,9,  15.1674,      1.085,2,     -999.0,9,     -999.0,9,     -999.0,9,         51,-999.000,-999.000,-999.000,     -999.0,9, -999.00,9, -999.00,9
33RO200306_01,       A16N,     051,          1,         30,         30,2,20030702,       1653,    40.0003,   -20.0022,       4759,    70.1,  14.1813,  35.8736,2,  35.8743,2,    247.0,2,   248.5,2,    1.74,2,    3.16,2,    0.45,2,    0.26,2,   3.059,2,   1.806,2,   0.253,2,  2105.6,2,  2350.5,6,    369.2,4,    20.00,   7.9243,2,    25.00,-999.000,9,-999.000,9,-999.000,9, -999.00,9,  -999.0,9,  -999.0,-999.000,9,-999.000,   3.446,2, -999.00,9, -999.00,9,   70.10,-999.0000,9,-999.0000,9,-999.0000,9,-999.0000,9,-999.0000,9,-999.0000,9,  14.1710,      0.317,2,     -999.0,9,     -999.0,9,     -999.0,9,         51,-999.000,-999.000,-999.000,     -999.0,9, -999.00,9, -999.00,9
33RO200306_01,       A16N,     051,          1,         29,         29,2,20030702,       1653,    40.0003,   -20.0022,       4759,    89.4,  14.0343,  35.8724,2,  35.8756,2,    229.8,2,   242.5,2,    1.88,2,    4.16,2,    0.56,2,    0.30,2,   3.055,2,   1.802,2,   0.246,2,  2108.2,2,  2349.4,2,   -999.0,9,  -999.00,   7.9131,2,    25.00,-999.000,9,-999.000,9,-999.000,9, -999.00,9,  -999.0,9,  -999.0,-999.000,9,-999.000,   2.652,2,   53.98,2,    8.72,2,   89.40,-999.0000,9,-999.0000,9,-999.0000,9,-999.0000,9,-999.0000,9,-999.0000,9,  14.0213,      0.211,2,     -999.0,9,     -999.0,9,     -999.0,9,         51,-999.000,-999.000,-999.000,     -999.0,9, -999.00,9, -999.00,9
33RO200306_01,       A16N,     051,          1,         28,         28,2,20030702,       1653,    40.0003,   -20.0022,       4759,   110.0,  13.9491,  35.8959,2,  35.8936,2,    226.7,2,   232.2,2,    2.09,2,    6.01,2,    0.01,2,    0.37,2,   3.007,2,   1.767,2,   0.200,2,  2115.2,2,  2350.3,2,    482.1,2,    20.00,   7.9024,2,    25.00,-999.000,9,-999.000,9,-999.000,9, -999.00,9,  -999.0,9,  -999.0,-999.000,9,-999.000,   2.065,2, -999.00,9, -999.00,9,  110.00,-999.0000,9,-999.0000,9,-999.0000,9,-999.0000,9,-999.0000,9,-999.0000,9,  13.9332,      0.070,2,     -999.0,9,     -999.0,9,     -999.0,9,         51,-999.000,-999.000,-999.000,     -999.0,9, -999.00,9, -999.00,9
33RO200306_01,       A16N,     051,          1,         27,         27,2,20030702,       1653,    40.0003,   -20.0022,       4759,   131.0,  13.7520,  35.8663,2,  35.8656,2,    233.7,2,   232.2,2,    2.19,2,    6.32,2,    0.01,2,    0.39,2,   3.019,2,   1.769,2,   0.196,2,  2116.4,2,  2349.2,2,   -999.0,9,  -999.00,   7.8928,2,    25.00,-999.000,9,-999.000,9,-999.000,9, -999.00,9,  -999.0,9,  -999.0,-999.000,9,-999.000,   1.515,2,   51.39,2,   10.20,2,  131.00,-999.0000,9,-999.0000,9,-999.0000,9,-999.0000,9,-999.0000,9,-999.0000,9,  13.7332,      0.176,2,     -999.0,9,     -999.0,9,     -999.0,9,         51,-999.000,-999.000,-999.000,     -999.0,9, -999.00,9, -999.00,9
33RO200306_01,       A16N,     051,          1,         26,         26,2,20030702,       1653,    40.0003,   -20.0022,       4759,   160.6,  13.5483,  35.8412,2,  35.8406,2,    231.5,2,   232.6,2,    2.35,2,    6.84,2,    0.01,2,    0.42,2,   3.031,2,   1.782,2,   0.197,2,  2118.1,2,  2347.4,2,    487.9,2,    20.00,   7.8864,2,    25.00,-999.000,9,-999.000,9,-999.000,9, -999.00,9,  -999.0,9,  -999.0,-999.000,9,-999.000,-999.000,9, -999.00,9, -999.00,9,  160.60,-999.0000,9,-999.0000,9,-999.0000,9,-999.0000,9,-999.0000,9,-999.0000,9,  13.5254,     -999.0,9,     -999.0,9,     -999.0,9,     -999.0,9,         51,-999.000,-999.000,-999.000,     -999.0,9, -999.00,9, -999.00,9
33RO200306_01,       A16N,     051,          1,         25,         25,2,20030702,       1653,    40.0003,   -20.0022,       4759,   168.4,  13.5108,  35.8374,2,  35.8359,2,    230.7,2,   232.6,2,    2.39,2,    6.95,2,    0.01,2,    0.43,2,   3.050,2,   1.784,2,   0.196,2,  2119.1,2,  2348.1,2,   -999.0,9,  -999.00,   7.8900,2,    25.00,-999.000,9,-999.000,9,-999.000,9, -999.00,9,  -999.0,9,  -999.0,-999.000,9,-999.000,-999.000,9,   51.30,2,   11.02,2,  168.40,-999.0000,9,-999.0000,9,-999.0000,9,-999.0000,9,-999.0000,9,-999.0000,9,  13.4869,     -999.0,9,     -999.0,9,     -999.0,9,     -999.0,9,         51,-999.000,-999.000,-999.000,     -999.0,9, -999.00,9, -999.00,9
33RO200306_01,       A16N,     051,          1,         24,         24,2,20030702,       1653,    40.0003,   -20.0022,       4759,   225.8,  13.1695,  35.7923,2,  35.7914,2,    228.1,2,   228.3,2,    2.92,2,    8.30,2,    0.01,2,    0.50,2,   3.014,2,   1.765,2,   0.167,2,  2124.8,2,  2345.0,2,    515.3,2,    20.00,   7.8896,2,    25.00,-999.000,9,-999.000,9,-999.000,9, -999.00,9,  -999.0,9,  -999.0,-999.000,9,-999.000,   1.201,2,   48.13,2,   12.00,2,  225.80,-999.0000,9,-999.0000,9,-999.0000,9,-999.0000,9,-999.0000,9,-999.0000,9,  13.1379,      0.047,2,     -999.0,9,     -999.0,9,     -999.0,9,         51,-999.000,-999.000,-999.000,     -999.0,9, -999.00,9, -999.00,9
33RO200306_01,       A16N,     051,          1,         23,         23,2,20030702,       1653,    40.0003,   -20.0022,       4759,   247.5,  13.0485,  35.7782,2,  35.7772,2,    223.9,2,   229.9,2,    2.96,2,    8.40,2,    0.01,2,    0.52,2,   3.040,2,   1.777,2,   0.167,2,  2125.8,2,  2344.8,2,   -999.0,9,  -999.00,   7.8848,2,    25.00,-999.000,9,-999.000,9,-999.000,9, -999.00,9,  -999.0,9,  -999.0,-999.000,9,-999.000,-999.000,9,   48.37,2,   12.30,2,  247.50,-999.0000,9,-999.0000,9,-999.0000,9,-999.0000,9,-999.0000,9,-999.0000,9,  13.0141,     -999.0,9,     -999.0,9,     -999.0,9,     -999.0,9,         51,-999.000,-999.000,-999.000,     -999.0,9, -999.00,9, -999.00,9
33RO200306_01,       A16N,     051,          1,         22,         22,2,20030702,       1653,    40.0003,   -20.0022,       4759,   299.1,  12.7774,  35.7327,2,  35.7306,2,    219.0,2,   224.6,2,    3.38,2,    9.58,2,    0.01,2,    0.59,2,   3.037,2,   1.752,2,   0.141,2,  2131.2,2,  2341.8,2,    535.3,2,    20.00,   7.8637,2,    25.00,-999.000,9,-999.000,9,-999.000,9, -999.00,9,  -999.0,9,  -999.0,-999.000,9,-999.000,-999.000,9,   49.10,2,   14.10,2,  299.10,-999.0000,9,-999.0000,9,-999.0000,9,-999.0000,9,-999.0000,9,-999.0000,9,  12.7363,     -999.0,9,     -999.0,9,     -999.0,9,     -999.0,9,         51,-999.000,-999.000,-999.000,     -999.0,9, -999.00,9, -999.00,9
33RO200306_01,       A16N,     051,          1,         21,         21,2,20030702,       1653,    40.0003,   -20.0022,       4759,   348.9,  12.4695,  35.6817,2,  35.6817,2,    213.5,2,   218.0,2,    3.90,2,   10.71,2,    0.01,2,    0.66,2,   2.994,2,   1.715,2,   0.114,2,  2136.2,2,  2338.2,2,   -999.0,9,  -999.00,   7.8537,2,    25.00,-999.000,9,-999.000,9,-999.000,9, -999.00,9,  -999.0,9,  -999.0,-999.000,9,-999.000,-999.000,9,   49.43,2,   14.46,2,  348.90,-999.0000,9,-999.0000,9,-999.0000,9,-999.0000,9,-999.0000,9,-999.0000,9,  12.4222,     -999.0,9,     -999.0,9,     -999.0,9,     -999.0,9,         51,-999.000,-999.000,-999.000,     -999.0,9, -999.00,9, -999.00,9
33RO200306_01,       A16N,     051,          1,         20,         20,2,20030702,       1653,    40.0003,   -20.0022,       4759,   400.1,  12.1419,  35.6335,2,  35.6323,2,    209.4,2,   212.9,2,    4.31,2,   11.65,2,    0.01,2,    0.72,2,   2.994,2,   1.695,2,   0.105,2,  2140.2,2,  2335.6,2,    583.5,2,    20.00,   7.8347,2,    25.00,-999.000,9,-999.000,9,-999.000,9, -999.00,9,  -999.0,9,  -999.0,-999.000,9,-999.000,-999.000,9,   49.76,2,   14.90,2,  400.10,-999.0000,9,-999.0000,9,-999.0000,9,-999.0000,9,-999.0000,9,-999.0000,9,  12.0885,     -999.0,9,     -999.0,9,     -999.0,9,     -999.0,9,         51,-999.000,-999.000,-999.000,     -999.0,9, -999.00,9, -999.00,9
33RO200306_01,       A16N,     051,          1,         19,         19,2,20030702,       1653,    40.0003,   -20.0022,       4759,   424.9,  11.9884,  35.6134,2,  35.6103,2,    207.4,2,   212.2,2,    4.51,2,   12.10,2,    0.01,2,    0.74,2,   2.991,2,   1.676,2,   0.102,2,  2142.8,2,  2335.0,2,    592.1,2,    20.00,   7.8248,2,    25.00,-999.000,9,-999.000,9,-999.000,9, -999.00,9,  -999.0,9,  -999.0,-999.000,9,-999.000,-999.000,9,   48.61,2,   17.44,2,  424.90,-999.0000,9,-999.0000,9,-999.0000,9,-999.0000,9,-999.0000,9,-999.0000,9,  11.9321,     -999.0,9,     -999.0,9,     -999.0,9,     -999.0,9,         51,-999.000,-999.000,-999.000,     -999.0,9, -999.00,9, -999.00,9
33RO200306_01,       A16N,     051,          1,         18,         18,2,20030702,       1653,    40.0003,   -20.0022,       4759,   599.9,  10.8118,  35.4936,2,  35.4943,2,    196.6,2,   198.3,2,    6.52,2,   15.19,2,    0.01,2,    0.93,2,   2.691,2,   1.461,2,   0.088,2,  2158.8,2,  2330.2,2,   -999.0,9,  -999.00,   7.7809,2,    25.00,-999.000,9,-999.000,9,-999.000,9, -999.00,9,  -999.0,9,  -999.0,-999.000,9,-999.000,-999.000,9,   48.37,2,   19.04,2,  599.90,-999.0000,9,-999.0000,9,-999.0000,9,-999.0000,9,-999.0000,9,-999.0000,9,  10.7369,     -999.0,9,     -999.0,9,     -999.0,9,     -999.0,9,         51,-999.000,-999.000,-999.000,     -999.0,9, -999.00,9, -999.00,9
33RO200306_01,       A16N,     051,          1,         17,         17,2,20030702,       1653,    40.0003,   -20.0022,       4759,   749.9,   9.6744,  35.4370,2,  35.4364,2,    183.0,2,   185.2,2,    9.22,2,   17.73,2,    0.00,2,    1.11,2,   2.073,2,   1.097,2,   0.064,2,  2173.2,2,  2331.0,2,    724.3,2,    20.00,   7.7485,2,    25.00,-999.000,9,-999.000,9,-999.000,9, -999.00,9,  -999.0,9,  -999.0,-999.000,9,-999.000,-999.000,9,   45.69,2,   21.43,2,  749.90,-999.0000,9,-999.0000,9,-999.0000,9,-999.0000,9,-999.0000,9,-999.0000,9,   9.5862,     -999.0,9,     -999.0,9,     -999.0,9,     -999.0,9,         51,-999.000,-999.000,-999.000,     -999.0,9, -999.00,9, -999.00,9
33RO200306_01,       A16N,     051,          1,         16,         16,2,20030702,       1653,    40.0003,   -20.0022,       4759,   879.1,   9.6893,  35.6488,2,  35.6503,2,    182.9,2,   185.2,2,    9.53,2,   17.30,2,    0.00,2,    1.07,2,   1.750,2,   0.916,2,   0.045,2,  2184.6,2,  2348.6,2,   -999.0,9,  -999.00,   7.7644,2,    25.00,-999.000,9,-999.000,9,-999.000,9, -999.00,9,  -999.0,9,  -999.0,-999.000,9,-999.000,-999.000,9,   46.34,2,   20.76,2,  879.10,-999.0000,9,-999.0000,9,-999.0000,9,-999.0000,9,-999.0000,9,-999.0000,9,   9.5849,     -999.0,9,     -999.0,9,     -999.0,9,     -999.0,9,         51,-999.000,-999.000,-999.000,     -999.0,9, -999.00,9, -999.00,9
33RO200306_01,       A16N,     051,          1,         15,         15,2,20030702,       1653,    40.0003,   -20.0022,       4759,  1046.3,   9.2532,  35.7333,2,  35.7324,2,    187.6,2,   190.3,2,   10.09,2,   17.25,2,    0.00,2,    1.06,2,   1.564,2,   0.814,2,   0.041,2,  2190.3,6,  2357.6,2,    699.4,3,    20.00,   7.7657,2,    25.00,-999.000,9,-999.000,9,-999.000,9, -999.00,9,  -999.0,9,  -999.0,-999.000,9,-999.000,-999.000,9,   44.31,2,   20.86,2, 1046.30,-999.0000,9,-999.0000,9,-999.0000,9,-999.0000,9,-999.0000,9,-999.0000,9,   9.1310,     -999.0,9,     -999.0,9,     -999.0,9,     -999.0,9,         51,-999.000,-999.000,-999.000,     -999.0,9, -999.00,9, -999.00,9
33RO200306_01,       A16N,     051,          1,         14,         14,2,20030702,       1653,    40.0003,   -20.0022,       4759,  1245.8,   7.8331,  35.5842,2,  35.5845,2,    200.6,2,   207.4,2,   10.94,6,   17.38,6,    0.00,6,    1.08,6,   1.529,2,   0.781,2,   0.049,2,  2184.4,2,  2349.4,6,   -999.0,9,  -999.00,   7.7647,2,    25.00,-999.000,9,-999.000,9,-999.000,9, -999.00,9,  -999.0,9,  -999.0,-999.000,9,-999.000,-999.000,9,   43.82,2,   21.12,2, 1245.80,-999.0000,9,-999.0000,9,-999.0000,9,-999.0000,9,-999.0000,9,-999.0000,9,   7.6991,     -999.0,9,     -999.0,9,     -999.0,9,     -999.0,9,         51,-999.000,-999.000,-999.000,     -999.0,9, -999.00,9, -999.00,9
33RO200306_01,       A16N,     051,          1,         10,         10,9,20030702,       1653,    40.0003,   -20.0022,       4759,  1307.3,   7.1352,  35.4695,2,-999.0000,9,    209.3,2,  -999.0,9, -999.00,9, -999.00,9, -999.00,9, -999.00,9,-999.000,9,-999.000,9,-999.000,9,  -999.0,9,  -999.0,9,   -999.0,9,  -999.00,-999.0000,9,  -999.00,-999.000,9,-999.000,9,-999.000,9, -999.00,9,  -999.0,9,  -999.0,-999.000,9,-999.000,-999.000,9, -999.00,9, -999.00,9, 1307.30,-999.0000,9,-999.0000,9,-999.0000,9,-999.0000,9,-999.0000,9,-999.0000,9,   7.0009,     -999.0,9,     -999.0,9,     -999.0,9,     -999.0,9,         51,-999.000,-999.000,-999.000,     -999.0,9, -999.00,9, -999.00,9
33RO200306_01,       A16N,     051,          1,         13,         13,2,20030702,       1653,    40.0003,   -20.0022,       4759,  1457.1,   5.5053,  35.2106,2,  35.2110,2,    229.0,2,   237.9,2,   11.79,6,   17.78,6,    0.00,6,    1.13,6,   1.767,2,   0.879,2,   0.070,2,  2171.1,2,  2323.6,2,    750.1,6,    20.00,   7.7351,2,    25.00,-999.000,9,-999.000,9,-999.000,9, -999.00,9,  -999.0,9,  -999.0,-999.000,9,-999.000,-999.000,9,   43.58,2,   22.40,2, 1457.10,-999.0000,9,-999.0000,9,-999.0000,9,-999.0000,9,-999.0000,9,-999.0000,9,   5.3721,     -999.0,9,     -999.0,9,     -999.0,9,     -999.0,9,         51,-999.000,-999.000,-999.000,     -999.0,9, -999.00,9, -999.00,9
33RO200306_01,       A16N,     051,          1,          9,          9,9,20030702,       1653,    40.0003,   -20.0022,       4759,  1501.0,   5.1457,  35.1558,2,-999.0000,9,    235.0,2,  -999.0,9, -999.00,9, -999.00,9, -999.00,9, -999.00,9,-999.000,9,-999.000,9,-999.000,9,  -999.0,9,  -999.0,9,   -999.0,9,  -999.00,-999.0000,9,  -999.00,-999.000,9,-999.000,9,-999.000,9, -999.00,9,  -999.0,9,  -999.0,-999.000,9,-999.000,-999.000,9, -999.00,9, -999.00,9, 1501.00,-999.0000,9,-999.0000,9,-999.0000,9,-999.0000,9,-999.0000,9,-999.0000,9,   5.0121,     -999.0,9,     -999.0,9,     -999.0,9,     -999.0,9,         51,-999.000,-999.000,-999.000,     -999.0,9, -999.00,9, -999.00,9
33RO200306_01,       A16N,     051,          1,          8,          8,9,20030702,       1653,    40.0003,   -20.0022,       4759,  1687.9,   4.2113,  35.0197,2,-999.0000,9,    252.0,2,  -999.0,9, -999.00,9, -999.00,9, -999.00,9, -999.00,9,-999.000,9,-999.000,9,-999.000,9,  -999.0,9,  -999.0,9,   -999.0,9,  -999.00,-999.0000,9,  -999.00,-999.000,9,-999.000,9,-999.000,9, -999.00,9,  -999.0,9,  -999.0,-999.000,9,-999.000,-999.000,9, -999.00,9, -999.00,9, 1687.90,-999.0000,9,-999.0000,9,-999.0000,9,-999.0000,9,-999.0000,9,-999.0000,9,   4.0709,     -999.0,9,     -999.0,9,     -999.0,9,     -999.0,9,         51,-999.000,-999.000,-999.000,     -999.0,9, -999.00,9, -999.00,9
33RO200306_01,       A16N,     051,          1,         12,         12,2,20030702,       1653,    40.0003,   -20.0022,       4759,  1694.9,   4.1795,  35.0152,2,  35.0155,2,    252.5,2,   258.3,2,   12.09,6,   17.64,6,    0.00,6,    1.13,6,   1.911,2,   0.938,2,   0.088,2,  2160.6,2,  2310.2,2,    755.9,2,    20.00,   7.7299,2,    25.00,-999.000,9,-999.000,9,-999.000,9, -999.00,9,  -999.0,9,  -999.0,-999.000,9,-999.000,-999.000,9, -999.00,9, -999.00,9, 1694.90,-999.0000,9,-999.0000,9,-999.0000,9,-999.0000,9,-999.0000,9,-999.0000,9,   4.0389,     -999.0,9,     -999.0,9,     -999.0,9,     -999.0,9,         51,-999.000,-999.000,-999.000,     -999.0,9, -999.00,9, -999.00,9
33RO200306_01,       A16N,     051,          1,          7,          7,9,20030702,       1653,    40.0003,   -20.0022,       4759,  1899.9,   3.7440,  34.9634,2,-999.0000,9,    262.9,2,  -999.0,9, -999.00,9, -999.00,9, -999.00,9, -999.00,9,-999.000,9,-999.000,9,-999.000,9,  -999.0,9,  -999.0,9,   -999.0,9,  -999.00,-999.0000,9,  -999.00,-999.000,9,-999.000,9,-999.000,9, -999.00,9,  -999.0,9,  -999.0,-999.000,9,-999.000,-999.000,9, -999.00,9, -999.00,9, 1899.90,-999.0000,9,-999.0000,9,-999.0000,9,-999.0000,9,-999.0000,9,-999.0000,9,   3.5899,     -999.0,9,     -999.0,9,     -999.0,9,     -999.0,9,         51,-999.000,-999.000,-999.000,     -999.0,9, -999.00,9, -999.00,9