BOTTLE,20230908CCHSIOCBG
EXPOCODE,SECT_ID,STNNBR,CASTNO,SAMPNO,BTLNBR,BTLNBR_FLAG_W,DATE,TIME,LATITUDE,LONGITUDE,DEPTH,CTDPRS,CTDTMP,CTDSAL,CTDSAL_FLAG_W,SALNTY,SALNTY_FLAG_W,CTDOXY,CTDOXY_FLAG_W,OXYGEN,OXYGEN_FLAG_W,SILCAT,SILCAT_FLAG_W,NITRAT,NITRAT_FLAG_W,NITRIT,NITRIT_FLAG_W,PHSPHT,PHSPHT_FLAG_W,CFC-11,CFC-11_FLAG_W,CFC-12,CFC-12_FLAG_W,CFC113,CFC113_FLAG_W,TCARBN,TCARBN_FLAG_W,ALKALI,ALKALI_FLAG_W,FCO2,FCO2_FLAG_W,FCO2TMP,PH_SWS,PH_SWS_FLAG_W,PH_TMP,TRITUM,TRITUM_FLAG_W,HELIUM,HELIUM_FLAG_W,DELHE3,DELHE3_FLAG_W,DELC13,DELC13_FLAG_W,DELC14,DELC14_FLAG_W,C14ERR,NEON,NEON_FLAG_W,NEONER,POC,POC_FLAG_W,DOC,DOC_FLAG_W,TDN,TDN_FLAG_W,CTDRAW,CDOM325,CDOM325_FLAG_W,CDOM340,CDOM340_FLAG_W,CDOM380,CDOM380_FLAG_W,CDOM412,CDOM412_FLAG_W,CDOMSL,CDOMSL_FLAG_W,CDOMSN,CDOMSN_FLAG_W,THETA,PON,PON_FLAG_W,HCFC-22,HCFC-22_FLAG_W,HCFC-142b,HCFC-142b_FLAG_W,HCFC-141b,HCFC-141b_FLAG_W,STNNBR_U,HELIER,DELHER,TRITER,CH3CL,CH3CL_FLAG_W,CH3BR,CH3BR_FLAG_W,CH3I,CH3I_FLAG_W
,,,,,,,,,,,METERS,DBAR,ITS-90,PSS-78,,PSS-78,,UMOL/KG,,UMOL/KG,,UMOL/KG,,UMOL/KG,,UMOL/KG,,UMOL/KG,,PMOL/KG,,PMOL/KG,,PMOL/KG,,UMOL/KG,,UMOL/KG,,UATM,,DEG C,,,DEG C,TU,,NMOL/KG,,PERCNT,,/MILLE,,/MILLE,,/MILLE,NMOL/KG,,NMOL/KG,UG/KG,,UMOL/KG,,UMOL/KG,,DBAR,1/M,,1/M,,1/M,,1/M,,1/NM,,1/NM,,DEG C,UMOL/L,,PMOL/KG,,PMOL/KG,,PMOL/KG,,,NMOL/KG,PERCNT,TU,PMOL/KG,,PMOL/KG,,PMOL/KG,
33RO200306_02,       A16N,     089,          1,         35,         35,2,20030722,       0615,    21.5000,   -28.1567,       5364,     3.4,  24.8071,  37.0107,2,  37.0131,2,    211.3,2,   210.7,2,    0.45,2,    0.05,2,    0.01,2,    0.08,2,   1.859,2,   1.190,2,   0.166,2,  2083.5,6,  -999.0,9,   -999.0,9,  -999.00,-999.0000,9,  -999.00,-999.000,9,-999.000,9,-999.000,9, -999.00,9,  -999.0,9,  -999.0,-999.000,9,-999.000,-999.000,9, -999.00,9, -999.00,9,    3.40,-999.0000,9,-999.0000,9,-999.0000,9,-999.0000,9,-999.0000,9,-999.0000,9,  24.8064,     -999.0,9,     -999.0,9,     -999.0,9,     -999.0,9,         89,-999.000,-999.000,-999.000,     -999.0,9, -999.00,9, -999.00,9
33RO200306_02,       A16N,     089,          1,         33,         33,2,20030722,       0615,    21.5000,   -28.1567,       5364,    19.9,  24.8118,  37.0102,2,  37.0136,2,    210.7,2,   210.0,2,    0.47,2,    0.05,2,    0.01,2,    0.08,2,-999.000,9,-999.000,9,-999.000,9,  -999.0,9,  -999.0,9,   -999.0,9,  -999.00,-999.0000,9,  -999.00,-999.000,9,-999.000,9,-999.000,9, -999.00,9,  -999.0,9,  -999.0,-999.000,9,-999.000,-999.000,9, -999.00,9, -999.00,9,   19.90,-999.0000,9,-999.0000,9,-999.0000,9,-999.0000,9,-999.0000,9,-999.0000,9,  24.8075,     -999.0,9,     -999.0,9,     -999.0,9,     -999.0,9,         89,-999.000,-999.000,-999.000,     -999.0,9, -999.00,9, -999.00,9
33RO200306_02,       A16N,     089,          1,         32,         32,2,20030722,       0615,    21.5000,   -28.1567,       5364,    40.2,  24.4120,  37.2698,2,  37.2757,2,    216.7,2,   217.5,2,    0.49,2,    0.05,2,    0.01,2,    0.05,2,   1.940,2,   1.228,2,   0.164,2,  2094.9,2,  2139.1,3,   -999.0,9,  -999.00,-999.0000,9,  -999.00,-999.000,9,-999.000,9,-999.000,9, -999.00,9,  -999.0,9,  -999.0,-999.000,9,-999.000,-999.000,9, -999.00,9, -999.00,9,   40.20,-999.0000,9,-999.0000,9,-999.0000,9,-999.0000,9,-999.0000,9,-999.0000,9,  24.4034,     -999.0,9,     -999.0,9,     -999.0,9,     -999.0,9,         89,-999.000,-999.000,-999.000,     -999.0,9, -999.00,9, -999.00,9
33RO200306_02,       A16N,     089,          1,         31,         31,2,20030722,       0615,    21.5000,   -28.1567,       5364,    60.5,  22.7779,  37.2917,2,  37.2878,2,    224.5,2,   224.6,2,    0.52,2,    0.06,2,    0.01,2,    0.06,2,-999.000,9,-999.000,9,-999.000,9,  -999.0,9,  -999.0,9,   -999.0,9,  -999.00,-999.0000,9,  -999.00,-999.000,9,-999.000,9,-999.000,9, -999.00,9,  -999.0,9,  -999.0,-999.000,9,-999.000,-999.000,9, -999.00,9, -999.00,9,   60.50,-999.0000,9,-999.0000,9,-999.0000,9,-999.0000,9,-999.0000,9,-999.0000,9,  22.7655,     -999.0,9,     -999.0,9,     -999.0,9,     -999.0,9,         89,-999.000,-999.000,-999.000,     -999.0,9, -999.00,9, -999.00,9
33RO200306_02,       A16N,     089,          1,         30,         30,2,20030722,       0615,    21.5000,   -28.1567,       5364,    80.2,  22.3521,  37.3020,2,  37.3069,2,    223.3,2,   222.4,2,    0.53,2,    0.06,2,    0.01,2,    0.06,2,-999.000,9,-999.000,9,-999.000,9,  -999.0,9,  -999.0,9,   -999.0,9,  -999.00,-999.0000,9,  -999.00,-999.000,9,-999.000,9,-999.000,9, -999.00,9,  -999.0,9,  -999.0,-999.000,9,-999.000,-999.000,9, -999.00,9, -999.00,9,   80.20,-999.0000,9,-999.0000,9,-999.0000,9,-999.0000,9,-999.0000,9,-999.0000,9,  22.3359,     -999.0,9,     -999.0,9,     -999.0,9,     -999.0,9,         89,-999.000,-999.000,-999.000,     -999.0,9, -999.00,9, -999.00,9
33RO200306_02,       A16N,     089,          1,         29,         29,2,20030722,       0615,    21.5000,   -28.1567,       5364,    99.9,  21.8634,  37.2869,2,  37.2853,2,    219.5,2,   219.3,2,    0.54,2,    0.07,2,    0.01,2,    0.06,2,   2.099,2,   1.315,2,   0.172,2,  2105.4,2,  2435.2,2,   -999.0,9,  -999.00,   8.0650,2,    25.00,-999.000,9,-999.000,9,-999.000,9, -999.00,9,  -999.0,9,  -999.0,-999.000,9,-999.000,-999.000,9, -999.00,9, -999.00,9,   99.90,-999.0000,9,-999.0000,9,-999.0000,9,-999.0000,9,-999.0000,9,-999.0000,9,  21.8435,     -999.0,9,     -999.0,9,     -999.0,9,     -999.0,9,         89,-999.000,-999.000,-999.000,     -999.0,9, -999.00,9, -999.00,9
33RO200306_02,       A16N,     089,          1,         28,         28,2,20030722,       0615,    21.5000,   -28.1567,       5364,   125.4,  21.3098,  37.2242,2,  37.2175,2,    212.3,2,   212.9,2,    0.59,2,    0.20,2,    0.11,2,    0.07,2,-999.000,9,-999.000,9,-999.000,9,  -999.0,9,  -999.0,9,   -999.0,9,  -999.00,-999.0000,9,  -999.00,-999.000,9,-999.000,9,-999.000,9, -999.00,9,  -999.0,9,  -999.0,-999.000,9,-999.000,-999.000,9, -999.00,9, -999.00,9,  125.40,-999.0000,9,-999.0000,9,-999.0000,9,-999.0000,9,-999.0000,9,-999.0000,9,  21.2853,     -999.0,9,     -999.0,9,     -999.0,9,     -999.0,9,         89,-999.000,-999.000,-999.000,     -999.0,9, -999.00,9, -999.00,9
33RO200306_02,       A16N,     089,          1,         27,         27,2,20030722,       0615,    21.5000,   -28.1567,       5364,   150.4,  20.5359,  37.0764,2,  37.0567,2,    205.6,2,   205.6,2,    0.73,2,    1.27,2,    0.05,2,    0.12,2,-999.000,9,-999.000,9,-999.000,9,  -999.0,9,  -999.0,9,   -999.0,9,  -999.00,-999.0000,9,  -999.00,-999.000,9,-999.000,9,-999.000,9, -999.00,9,  -999.0,9,  -999.0,-999.000,9,-999.000,-999.000,9, -999.00,9, -999.00,9,  150.40,-999.0000,9,-999.0000,9,-999.0000,9,-999.0000,9,-999.0000,9,-999.0000,9,  20.5073,     -999.0,9,     -999.0,9,     -999.0,9,     -999.0,9,         89,-999.000,-999.000,-999.000,     -999.0,9, -999.00,9, -999.00,9
33RO200306_02,       A16N,     089,          1,         26,         26,2,20030722,       0615,    21.5000,   -28.1567,       5364,   174.5,  18.9849,  36.7314,2,  36.7117,2,    189.2,2,   187.1,2,    1.40,2,    4.52,2,    0.03,2,    0.30,2,   2.303,2,   1.409,2,   0.090,2,  2128.8,2,  2396.7,2,   -999.0,9,  -999.00,   7.9042,2,    25.00,-999.000,9,-999.000,9,-999.000,9, -999.00,9,  -999.0,9,  -999.0,-999.000,9,-999.000,-999.000,9, -999.00,9, -999.00,9,  174.50,-999.0000,9,-999.0000,9,-999.0000,9,-999.0000,9,-999.0000,9,-999.0000,9,  18.9535,     -999.0,9,     -999.0,9,     -999.0,9,     -999.0,9,         89,-999.000,-999.000,-999.000,     -999.0,9, -999.00,9, -999.00,9
33RO200306_02,       A16N,     089,          1,         25,         25,2,20030722,       0615,    21.5000,   -28.1567,       5364,   200.3,  17.8630,  36.5034,2,  36.5010,2,    174.7,2,   178.9,2,    2.01,2,    7.06,2,    0.02,2,    0.44,2,-999.000,9,-999.000,9,-999.000,9,  -999.0,9,  -999.0,9,   -999.0,9,  -999.00,-999.0000,9,  -999.00,-999.000,9,-999.000,9,-999.000,9, -999.00,9,  -999.0,9,  -999.0,-999.000,9,-999.000,-999.000,9, -999.00,9, -999.00,9,  200.30,-999.0000,9,-999.0000,9,-999.0000,9,-999.0000,9,-999.0000,9,-999.0000,9,  17.8284,     -999.0,9,     -999.0,9,     -999.0,9,     -999.0,9,         89,-999.000,-999.000,-999.000,     -999.0,9, -999.00,9, -999.00,9
33RO200306_02,       A16N,     089,          1,         24,         24,2,20030722,       0615,    21.5000,   -28.1567,       5364,   249.7,  16.3916,  36.2331,2,  36.2169,2,    162.7,2,   160.1,2,    3.29,2,   11.11,2,    0.02,2,    0.68,2,-999.000,9,-999.000,9,-999.000,9,  -999.0,9,  -999.0,9,   -999.0,9,  -999.00,-999.0000,9,  -999.00,-999.000,9,-999.000,9,-999.000,9, -999.00,9,  -999.0,9,  -999.0,-999.000,9,-999.000,-999.000,9, -999.00,9, -999.00,9,  249.70,-999.0000,9,-999.0000,9,-999.0000,9,-999.0000,9,-999.0000,9,-999.0000,9,  16.3510,     -999.0,9,     -999.0,9,     -999.0,9,     -999.0,9,         89,-999.000,-999.000,-999.000,     -999.0,9, -999.00,9, -999.00,9
33RO200306_02,       A16N,     089,          1,         23,         23,2,20030722,       0615,    21.5000,   -28.1567,       5364,   300.6,  15.2414,  36.0623,2,  36.0641,2,    157.6,2,   161.3,2,    3.97,2,   12.52,2,    0.01,2,    0.76,2,   2.344,2,   1.339,2,   0.028,2,  2150.6,2,  2357.5,2,   -999.0,9,  -999.00,   7.8379,2,    25.00,-999.000,9,-999.000,9,-999.000,9, -999.00,9,  -999.0,9,  -999.0,-999.000,9,-999.000,-999.000,9, -999.00,9, -999.00,9,  300.60,-999.0000,9,-999.0000,9,-999.0000,9,-999.0000,9,-999.0000,9,-999.0000,9,  15.1948,     -999.0,9,     -999.0,9,     -999.0,9,     -999.0,9,         89,-999.000,-999.000,-999.000,     -999.0,9, -999.00,9, -999.00,9
33RO200306_02,       A16N,     089,          1,         22,         22,2,20030722,       0615,    21.5000,   -28.1567,       5364,   350.5,  14.3741,  35.9472,2,  35.9425,2,    167.9,2,   172.1,2,    4.39,2,   12.97,2,    0.01,2,    0.79,2,-999.000,9,-999.000,9,-999.000,9,  -999.0,9,  -999.0,9,   -999.0,9,  -999.00,-999.0000,9,  -999.00,-999.000,9,-999.000,9,-999.000,9, -999.00,9,  -999.0,9,  -999.0,-999.000,9,-999.000,-999.000,9, -999.00,9, -999.00,9,  350.50,-999.0000,9,-999.0000,9,-999.0000,9,-999.0000,9,-999.0000,9,-999.0000,9,  14.3219,     -999.0,9,     -999.0,9,     -999.0,9,     -999.0,9,         89,-999.000,-999.000,-999.000,     -999.0,9, -999.00,9, -999.00,9
33RO200306_02,       A16N,     089,          1,         21,         21,2,20030722,       0615,    21.5000,   -28.1567,       5364,   400.0,  13.4765,  35.8256,2,  35.8255,2,    164.5,2,   166.8,2,    5.27,2,   14.79,2,    0.01,2,    0.90,2,   2.300,2,   1.257,2,   0.030,2,  -999.0,9,  -999.0,9,   -999.0,9,  -999.00,-999.0000,9,  -999.00,-999.000,9,-999.000,9,-999.000,9, -999.00,9,  -999.0,9,  -999.0,-999.000,9,-999.000,-999.000,9, -999.00,9, -999.00,9,  400.00,-999.0000,9,-999.0000,9,-999.0000,9,-999.0000,9,-999.0000,9,-999.0000,9,  13.4193,     -999.0,9,     -999.0,9,     -999.0,9,     -999.0,9,         89,-999.000,-999.000,-999.000,     -999.0,9, -999.00,9, -999.00,9
33RO200306_02,       A16N,     089,          1,         20,         20,2,20030722,       0615,    21.5000,   -28.1567,       5364,   450.4,  12.4411,  35.6910,2,  35.6880,2,    164.4,2,   158.7,2,    6.72,2,   17.56,2,    0.01,2,    1.06,2,   2.014,2,   1.071,2,   0.031,2,  2166.6,2,  2340.2,2,   -999.0,9,  -999.00,   7.7735,2,    25.00,-999.000,9,-999.000,9,-999.000,9, -999.00,9,  -999.0,9,  -999.0,-999.000,9,-999.000,-999.000,9, -999.00,9, -999.00,9,  450.40,-999.0000,9,-999.0000,9,-999.0000,9,-999.0000,9,-999.0000,9,-999.0000,9,  12.3799,     -999.0,9,     -999.0,9,     -999.0,9,     -999.0,9,         89,-999.000,-999.000,-999.000,     -999.0,9, -999.00,9, -999.00,9
33RO200306_02,       A16N,     089,          1,         19,         19,2,20030722,       0615,    21.5000,   -28.1567,       5364,   500.5,  11.5745,  35.5788,2,  35.5800,2,    154.7,2,   150.5,2,    8.30,2,   19.88,2,    0.01,2,    1.21,2,   1.681,2,   0.890,2,   0.024,2,  -999.0,9,  -999.0,9,   -999.0,9,  -999.00,-999.0000,9,  -999.00,-999.000,9,-999.000,9,-999.000,9, -999.00,9,  -999.0,9,  -999.0,-999.000,9,-999.000,-999.000,9, -999.00,9, -999.00,9,  500.50,-999.0000,9,-999.0000,9,-999.0000,9,-999.0000,9,-999.0000,9,-999.0000,9,  11.5095,     -999.0,9,     -999.0,9,     -999.0,9,     -999.0,9,         89,-999.000,-999.000,-999.000,     -999.0,9, -999.00,9, -999.00,9
33RO200306_02,       A16N,     089,          1,         18,         18,2,20030722,       0615,    21.5000,   -28.1567,       5364,   599.7,  10.3459,  35.4299,2,  35.4229,2,    142.1,2,   144.4,2,   11.43,2,   22.95,2,    0.01,2,    1.42,2,-999.000,9,-999.000,9,-999.000,9,  -999.0,9,  -999.0,9,   -999.0,9,  -999.00,-999.0000,9,  -999.00,-999.000,9,-999.000,9,-999.000,9, -999.00,9,  -999.0,9,  -999.0,-999.000,9,-999.000,-999.000,9, -999.00,9, -999.00,9,  599.70,-999.0000,9,-999.0000,9,-999.0000,9,-999.0000,9,-999.0000,9,-999.0000,9,  10.2730,     -999.0,9,     -999.0,9,     -999.0,9,     -999.0,9,         89,-999.000,-999.000,-999.000,     -999.0,9, -999.00,9, -999.00,9
33RO200306_02,       A16N,     089,          1,         17,         17,2,20030722,       0615,    21.5000,   -28.1567,       5364,   700.7,   8.4090,  35.1488,2,  35.1534,2,    117.0,2,   111.5,2,   17.77,2,   30.13,2,    0.01,2,    1.91,2,   0.247,2,   0.136,2,   0.003,2,  2215.4,2,  2318.6,2,   -999.0,9,  -999.00,   7.5933,2,    25.00,-999.000,9,-999.000,9,-999.000,9, -999.00,9,  -999.0,9,  -999.0,-999.000,9,-999.000,-999.000,9, -999.00,9, -999.00,9,  700.70,-999.0000,9,-999.0000,9,-999.0000,9,-999.0000,9,-999.0000,9,-999.0000,9,   8.3335,     -999.0,9,     -999.0,9,     -999.0,9,     -999.0,9,         89,-999.000,-999.000,-999.000,     -999.0,9, -999.00,9, -999.00,9
33RO200306_02,       A16N,     089,          1,         16,         16,2,20030722,       0615,    21.5000,   -28.1567,       5364,   799.3,   7.5080,  35.0667,2,  35.0673,2,    125.5,2,   129.4,2,   19.59,2,   29.66,2,    0.01,2,    1.91,2,-999.000,9,-999.000,9,-999.000,9,  -999.0,9,  -999.0,9,   -999.0,9,  -999.00,-999.0000,9,  -999.00,-999.000,9,-999.000,9,-999.000,9, -999.00,9,  -999.0,9,  -999.0,-999.000,9,-999.000,-999.000,9, -999.00,9, -999.00,9,  799.30,-999.0000,9,-999.0000,9,-999.0000,9,-999.0000,9,-999.0000,9,-999.0000,9,   7.4268,     -999.0,9,     -999.0,9,     -999.0,9,     -999.0,9,         89,-999.000,-999.000,-999.000,     -999.0,9, -999.00,9, -999.00,9
33RO200306_02,       A16N,     089,          1,         15,         15,2,20030722,       0615,    21.5000,   -28.1567,       5364,   899.9,   6.5996,  34.9753,2,  34.9772,2,    134.1,2,   134.1,2,   21.84,2,   30.28,2,    0.01,2,    1.98,2,-999.000,9,-999.000,9,-999.000,9,  -999.0,9,  -999.0,9,   -999.0,9,  -999.00,-999.0000,9,  -999.00,-999.000,9,-999.000,9,-999.000,9, -999.00,9,  -999.0,9,  -999.0,-999.000,9,-999.000,-999.000,9, -999.00,9, -999.00,9,  899.90,-999.0000,9,-999.0000,9,-999.0000,9,-999.0000,9,-999.0000,9,-999.0000,9,   6.5138,     -999.0,9,     -999.0,9,     -999.0,9,     -999.0,9,         89,-999.000,-999.000,-999.000,     -999.0,9, -999.00,9, -999.00,9
33RO200306_02,       A16N,     089,          1,         14,         14,2,20030722,       0615,    21.5000,   -28.1567,       5364,   999.6,   6.3507,  35.0117,2,  35.0094,2,    148.3,2,   151.2,2,   21.28,2,   28.55,2,    0.01,2,    1.88,2,   0.052,2,   0.033,2,   0.002,2,  2205.6,2,  2319.0,2,   -999.0,9,  -999.00,   7.6292,2,    25.00,-999.000,9,-999.000,9,-999.000,9, -999.00,9,  -999.0,9,  -999.0,-999.000,9,-999.000,-999.000,9, -999.00,9, -999.00,9,  999.60,-999.0000,9,-999.0000,9,-999.0000,9,-999.0000,9,-999.0000,9,-999.0000,9,   6.2565,     -999.0,9,     -999.0,9,     -999.0,9,     -999.0,9,         89,-999.000,-999.000,-999.000,     -999.0,9, -999.00,9, -999.00,9
33RO200306_02,       A16N,     089,          1,         13,         13,2,20030722,       0615,    21.5000,   -28.1567,       5364,  1099.8,   6.2005,  35.0579,2,  35.0595,2,    162.5,2,   166.8,2,   20.40,2,   26.91,2,    0.01,2,    1.78,2,-999.000,9,-999.000,9,-999.000,9,  -999.0,9,  -999.0,9,   -999.0,9,  -999.00,-999.0000,9,  -999.00,-999.000,9,-999.000,9,-999.000,9, -999.00,9,  -999.0,9,  -999.0,-999.000,9,-999.000,-999.000,9, -999.00,9, -999.00,9, 1099.80,-999.0000,9,-999.0000,9,-999.0000,9,-999.0000,9,-999.0000,9,-999.0000,9,   6.0972,     -999.0,9,     -999.0,9,     -999.0,9,     -999.0,9,         89,-999.000,-999.000,-999.000,     -999.0,9, -999.00,9, -999.00,9
33RO200306_02,       A16N,     089,          1,         12,         12,2,20030722,       0615,    21.5000,   -28.1567,       5364,  1200.7,   5.9742,  35.0992,2,  35.1020,2,    178.2,2,   179.9,2,   19.70,2,   25.33,2,    0.01,2,    1.68,2,-999.000,9,-999.000,9,-999.000,9,  -999.0,9,  -999.0,9,   -999.0,9,  -999.00,-999.0000,9,  -999.00,-999.000,9,-999.000,9,-999.000,9, -999.00,9,  -999.0,9,  -999.0,-999.000,9,-999.000,-999.000,9, -999.00,9, -999.00,9, 1200.70,-999.0000,9,-999.0000,9,-999.0000,9,-999.0000,9,-999.0000,9,-999.0000,9,   5.8626,     -999.0,9,     -999.0,9,     -999.0,9,     -999.0,9,         89,-999.000,-999.000,-999.000,     -999.0,9, -999.00,9, -999.00,9
33RO200306_02,       A16N,     089,          1,         11,         11,2,20030722,       0615,    21.5000,   -28.1567,       5364,  1399.5,   5.2889,  35.1013,2,  35.1043,2,    199.6,2,   193.5,2,   19.92,2,   23.55,2,    0.01,2,    1.57,2,-999.000,9,-999.000,9,-999.000,9,  -999.0,9,  -999.0,9,   -999.0,9,  -999.00,-999.0000,9,  -999.00,-999.000,9,-999.000,9,-999.000,9, -999.00,9,  -999.0,9,  -999.0,-999.000,9,-999.000,-999.000,9, -999.00,9, -999.00,9, 1399.50,-999.0000,9,-999.0000,9,-999.0000,9,-999.0000,9,-999.0000,9,-999.0000,9,   5.1640,     -999.0,9,     -999.0,9,     -999.0,9,     -999.0,9,         89,-999.000,-999.000,-999.000,     -999.0,9, -999.00,9, -999.00,9
33RO200306_02,       A16N,     089,          1,         10,         10,2,20030722,       0615,    21.5000,   -28.1567,       5364,  1599.2,   4.6828,  35.0787,2,  35.0815,2,    215.8,2,   213.9,2,   20.83,2,   22.37,2,    0.01,2,    1.50,2,-999.000,9,-999.000,9,-999.000,9,  -999.0,9,  -999.0,9,   -999.0,9,  -999.00,-999.0000,9,  -999.00,-999.000,9,-999.000,9,-999.000,9, -999.00,9,  -999.0,9,  -999.0,-999.000,9,-999.000,-999.000,9, -999.00,9, -999.00,9, 1599.20,-999.0000,9,-999.0000,9,-999.0000,9,-999.0000,9,-999.0000,9,-999.0000,9,   4.5450,     -999.0,9,     -999.0,9,     -999.0,9,     -999.0,9,         89,-999.000,-999.000,-999.000,     -999.0,9, -999.00,9, -999.00,9
33RO200306_02,       A16N,     089,          1,          9,          9,2,20030722,       0615,    21.5000,   -28.1567,       5364,  1800.0,   4.0501,  35.0255,2,  35.0268,2,    225.2,2,   226.4,2,   22.93,2,   22.04,2,    0.01,2,    1.49,2,-999.000,9,-999.000,9,-999.000,9,  -999.0,9,  -999.0,9,   -999.0,9,  -999.00,-999.0000,9,  -999.00,-999.000,9,-999.000,9,-999.000,9, -999.00,9,  -999.0,9,  -999.0,-999.000,9,-999.000,-999.000,9, -999.00,9, -999.00,9, 1800.00,-999.0000,9,-999.0000,9,-999.0000,9,-999.0000,9,-999.0000,9,-999.0000,9,   3.9011,     -999.0,9,     -999.0,9,     -999.0,9,     -999.0,9,         89,-999.000,-999.000,-999.000,     -999.0,9, -999.00,9, -999.00,9
33RO200306_02,       A16N,     089,          1,          8,          8,2,20030722,       0615,    21.5000,   -28.1567,       5364,  1999.8,   3.6796,  35.0004,2,  35.0012,2,    231.9,2,   232.0,2,   24.81,2,   21.66,2,    0.01,2,    1.47,2,-999.000,9,-999.000,9,-999.000,9,  -999.0,9,  -999.0,9,   -999.0,9,  -999.00,-999.0000,9,  -999.00,-999.000,9,-999.000,9,-999.000,9, -999.00,9,  -999.0,9,  -999.0,-999.000,9,-999.000,-999.000,9, -999.00,9, -999.00,9, 1999.80,-999.0000,9,-999.0000,9,-999.0000,9,-999.0000,9,-999.0000,9,-999.0000,9,   3.5167,     -999.0,9,     -999.0,9,     -999.0,9,     -999.0,9,         89,-999.000,-999.000,-999.000,     -999.0,9, -999.00,9, -999.00,9