BOTTLE,20230908CCHSIOCBG
EXPOCODE,SECT_ID,STNNBR,CASTNO,SAMPNO,BTLNBR,BTLNBR_FLAG_W,DATE,TIME,LATITUDE,LONGITUDE,DEPTH,CTDPRS,CTDTMP,CTDSAL,CTDSAL_FLAG_W,SALNTY,SALNTY_FLAG_W,CTDOXY,CTDOXY_FLAG_W,OXYGEN,OXYGEN_FLAG_W,SILCAT,SILCAT_FLAG_W,NITRAT,NITRAT_FLAG_W,NITRIT,NITRIT_FLAG_W,PHSPHT,PHSPHT_FLAG_W,CFC-11,CFC-11_FLAG_W,CFC-12,CFC-12_FLAG_W,CFC113,CFC113_FLAG_W,TCARBN,TCARBN_FLAG_W,ALKALI,ALKALI_FLAG_W,FCO2,FCO2_FLAG_W,FCO2TMP,PH_SWS,PH_SWS_FLAG_W,PH_TMP,TRITUM,TRITUM_FLAG_W,HELIUM,HELIUM_FLAG_W,DELHE3,DELHE3_FLAG_W,DELC13,DELC13_FLAG_W,DELC14,DELC14_FLAG_W,C14ERR,NEON,NEON_FLAG_W,NEONER,POC,POC_FLAG_W,DOC,DOC_FLAG_W,TDN,TDN_FLAG_W,CTDRAW,CDOM325,CDOM325_FLAG_W,CDOM340,CDOM340_FLAG_W,CDOM380,CDOM380_FLAG_W,CDOM412,CDOM412_FLAG_W,CDOMSL,CDOMSL_FLAG_W,CDOMSN,CDOMSN_FLAG_W,THETA,PON,PON_FLAG_W,HCFC-22,HCFC-22_FLAG_W,HCFC-142b,HCFC-142b_FLAG_W,HCFC-141b,HCFC-141b_FLAG_W,STNNBR_U,HELIER,DELHER,TRITER,CH3CL,CH3CL_FLAG_W,CH3BR,CH3BR_FLAG_W,CH3I,CH3I_FLAG_W
,,,,,,,,,,,METERS,DBAR,ITS-90,PSS-78,,PSS-78,,UMOL/KG,,UMOL/KG,,UMOL/KG,,UMOL/KG,,UMOL/KG,,UMOL/KG,,PMOL/KG,,PMOL/KG,,PMOL/KG,,UMOL/KG,,UMOL/KG,,UATM,,DEG C,,,DEG C,TU,,NMOL/KG,,PERCNT,,/MILLE,,/MILLE,,/MILLE,NMOL/KG,,NMOL/KG,UG/KG,,UMOL/KG,,UMOL/KG,,DBAR,1/M,,1/M,,1/M,,1/M,,1/NM,,1/NM,,DEG C,UMOL/L,,PMOL/KG,,PMOL/KG,,PMOL/KG,,,NMOL/KG,PERCNT,TU,PMOL/KG,,PMOL/KG,,PMOL/KG,
33RO200306_02,       A16N,     082,          2,          7,          7,2,20030720,       0024,    25.0007,   -26.1842,       5398,  3549.0,   2.5182,  34.9149,2,  34.9165,2,    243.1,2,   242.7,2,   41.21,2,   21.92,2,    0.00,2,    1.50,2,   0.001,2,   0.003,2,   0.002,2,  2193.0,2,  -999.0,9,    761.6,6,    20.00,-999.0000,9,  -999.00,-999.000,9,-999.000,9,-999.000,9, -999.00,9,  -999.0,9,  -999.0,-999.000,9,-999.000,-999.000,9,   43.17,2,   27.00,2, 3549.00,-999.0000,9,-999.0000,9,-999.0000,9,-999.0000,9,-999.0000,9,-999.0000,9,   2.2200,     -999.0,9,       0.00,2,       0.00,2,       0.13,2,         82,-999.000,-999.000,-999.000,       24.1,2,    0.53,2,    0.17,2
33RO200306_02,       A16N,     082,          2,          6,          6,2,20030720,       0024,    25.0007,   -26.1842,       5398,  3849.3,   2.4539,  34.9059,2,  34.9061,2,    242.2,2,   242.2,2,   43.04,2,   22.10,2,    0.01,2,    1.52,2,  -0.001,2,   0.000,2,   0.001,2,  2193.7,2,  -999.0,9,   -999.0,9,  -999.00,-999.0000,9,  -999.00,-999.000,9,-999.000,9,-999.000,9, -999.00,9,  -999.0,9,  -999.0,-999.000,9,-999.000,-999.000,9,   41.87,2,   26.25,2, 3849.30,-999.0000,9,-999.0000,9,-999.0000,9,-999.0000,9,-999.0000,9,-999.0000,9,   2.1240,     -999.0,9,     -999.0,9,     -999.0,9,     -999.0,9,         82,-999.000,-999.000,-999.000,     -999.0,9, -999.00,9, -999.00,9
33RO200306_02,       A16N,     082,          2,          5,          5,2,20030720,       0024,    25.0007,   -26.1842,       5398,  4147.5,   2.4078,  34.8983,2,  34.8986,2,    242.5,2,   242.3,2,   44.64,2,   22.27,2,    0.01,2,    1.53,2,  -0.003,2,   0.005,2,   0.001,2,  2195.9,2,  -999.0,9,    765.1,2,    20.00,-999.0000,9,  -999.00,-999.000,9,-999.000,9,-999.000,9, -999.00,9,  -999.0,9,  -999.0,-999.000,9,-999.000,-999.000,9,   42.93,2,   25.72,2, 4147.50,-999.0000,9,-999.0000,9,-999.0000,9,-999.0000,9,-999.0000,9,-999.0000,9,   2.0451,     -999.0,9,     -999.0,9,     -999.0,9,     -999.0,9,         82,-999.000,-999.000,-999.000,     -999.0,9, -999.00,9, -999.00,9
33RO200306_02,       A16N,     082,          2,          4,          4,2,20030720,       0024,    25.0007,   -26.1842,       5398,  4448.9,   2.3884,  34.8927,2,  34.8942,2,    242.3,2,   242.2,2,   45.87,2,   22.40,2,    0.00,2,    1.54,2,   0.003,2,   0.004,2,   0.001,2,  2198.0,2,  -999.0,9,   -999.0,9,  -999.00,-999.0000,9,  -999.00,-999.000,9,-999.000,9,-999.000,9, -999.00,9,  -999.0,9,  -999.0,-999.000,9,-999.000,-999.000,9,   41.71,2,   26.54,2, 4448.90,-999.0000,9,-999.0000,9,-999.0000,9,-999.0000,9,-999.0000,9,-999.0000,9,   1.9907,     -999.0,9,     -999.0,9,     -999.0,9,     -999.0,9,         82,-999.000,-999.000,-999.000,     -999.0,9, -999.00,9, -999.00,9
33RO200306_02,       A16N,     082,          2,          3,          3,2,20030720,       0024,    25.0007,   -26.1842,       5398,  4747.8,   2.3901,  34.8887,2,  34.8896,2,    242.7,2,   242.4,2,   46.88,6,   22.50,6,    0.01,6,    1.55,6,   0.002,2,   0.003,2,   0.001,2,  2198.8,2,  -999.0,9,    766.5,6,    20.00,-999.0000,9,  -999.00,-999.000,9,-999.000,9,-999.000,9, -999.00,9,  -999.0,9,  -999.0,-999.000,9,-999.000,-999.000,9,   40.17,2,   26.20,2, 4747.80,-999.0000,9,-999.0000,9,-999.0000,9,-999.0000,9,-999.0000,9,-999.0000,9,   1.9560,     -999.0,9,       0.00,2,       0.00,2,       0.12,2,         82,-999.000,-999.000,-999.000,      56.42,2,    0.87,2,    0.29,2
33RO200306_02,       A16N,     082,          2,          2,          2,2,20030720,       0024,    25.0007,   -26.1842,       5398,  5049.6,   2.4169,  34.8870,2,  34.8866,2,    242.7,2,   243.0,2,   47.25,6,   22.52,6,    0.01,6,    1.55,6,   0.005,6,   0.002,6,   0.002,6,  2200.1,2,  -999.0,9,   -999.0,9,  -999.00,-999.0000,9,  -999.00,-999.000,9,-999.000,9,-999.000,9, -999.00,9,  -999.0,9,  -999.0,-999.000,9,-999.000,-999.000,9,   40.73,2,   26.79,2, 5049.60,-999.0000,9,-999.0000,9,-999.0000,9,-999.0000,9,-999.0000,9,-999.0000,9,   1.9440,     -999.0,9,     -999.0,9,     -999.0,9,     -999.0,9,         82,-999.000,-999.000,-999.000,     -999.0,9, -999.00,9, -999.00,9
33RO200306_02,       A16N,     082,          2,          1,          1,2,20030720,       0024,    25.0007,   -26.1842,       5398,  5490.6,   2.4683,  34.8858,2,  34.8864,2,    242.6,2,   242.6,2,   47.57,6,   22.57,6,    0.01,6,    1.56,6,   0.002,2,   0.003,2,   0.000,2,  2201.1,6,  -999.0,9,    765.2,2,    20.00,-999.0000,9,  -999.00,-999.000,9,-999.000,9,-999.000,9, -999.00,9,  -999.0,9,  -999.0,-999.000,9,-999.000,-999.000,9,   41.14,2,   27.44,2, 5490.60,-999.0000,9,-999.0000,9,-999.0000,9,-999.0000,9,-999.0000,9,-999.0000,9,   1.9363,     -999.0,9,       0.20,2,       0.00,2,       0.11,2,         82,-999.000,-999.000,-999.000,        0.0,2,     0.0,2,    0.15,2