BOTTLE,20230908CCHSIOCBG
EXPOCODE,SECT_ID,STNNBR,CASTNO,SAMPNO,BTLNBR,BTLNBR_FLAG_W,DATE,TIME,LATITUDE,LONGITUDE,DEPTH,CTDPRS,CTDTMP,CTDSAL,CTDSAL_FLAG_W,SALNTY,SALNTY_FLAG_W,CTDOXY,CTDOXY_FLAG_W,OXYGEN,OXYGEN_FLAG_W,SILCAT,SILCAT_FLAG_W,NITRAT,NITRAT_FLAG_W,NITRIT,NITRIT_FLAG_W,PHSPHT,PHSPHT_FLAG_W,CFC-11,CFC-11_FLAG_W,CFC-12,CFC-12_FLAG_W,CFC113,CFC113_FLAG_W,TCARBN,TCARBN_FLAG_W,ALKALI,ALKALI_FLAG_W,FCO2,FCO2_FLAG_W,FCO2TMP,PH_SWS,PH_SWS_FLAG_W,PH_TMP,TRITUM,TRITUM_FLAG_W,HELIUM,HELIUM_FLAG_W,DELHE3,DELHE3_FLAG_W,DELC13,DELC13_FLAG_W,DELC14,DELC14_FLAG_W,C14ERR,NEON,NEON_FLAG_W,NEONER,POC,POC_FLAG_W,DOC,DOC_FLAG_W,TDN,TDN_FLAG_W,CTDRAW,CDOM325,CDOM325_FLAG_W,CDOM340,CDOM340_FLAG_W,CDOM380,CDOM380_FLAG_W,CDOM412,CDOM412_FLAG_W,CDOMSL,CDOMSL_FLAG_W,CDOMSN,CDOMSN_FLAG_W,THETA,PON,PON_FLAG_W,HCFC-22,HCFC-22_FLAG_W,HCFC-142b,HCFC-142b_FLAG_W,HCFC-141b,HCFC-141b_FLAG_W,STNNBR_U,HELIER,DELHER,TRITER,CH3CL,CH3CL_FLAG_W,CH3BR,CH3BR_FLAG_W,CH3I,CH3I_FLAG_W
,,,,,,,,,,,METERS,DBAR,ITS-90,PSS-78,,PSS-78,,UMOL/KG,,UMOL/KG,,UMOL/KG,,UMOL/KG,,UMOL/KG,,UMOL/KG,,PMOL/KG,,PMOL/KG,,PMOL/KG,,UMOL/KG,,UMOL/KG,,UATM,,DEG C,,,DEG C,TU,,NMOL/KG,,PERCNT,,/MILLE,,/MILLE,,/MILLE,NMOL/KG,,NMOL/KG,UG/KG,,UMOL/KG,,UMOL/KG,,DBAR,1/M,,1/M,,1/M,,1/M,,1/NM,,1/NM,,DEG C,UMOL/L,,PMOL/KG,,PMOL/KG,,PMOL/KG,,,NMOL/KG,PERCNT,TU,PMOL/KG,,PMOL/KG,,PMOL/KG,
33RO200306_01,       A16N,     058,          1,          9,          9,2,20030705,       0118,    36.4998,   -20.0017,       5157,  4000.2,   2.4921,  34.9072,2,  34.9087,2,    243.7,2,   244.0,2,   42.72,6,   21.80,6,    0.00,2,    1.47,6,   0.008,2,   0.007,2,   0.003,2,  -999.0,9,  -999.0,9,   -999.0,9,  -999.00,-999.0000,9,  -999.00,-999.000,9,-999.000,9,-999.000,9, -999.00,9,  -999.0,9,  -999.0,-999.000,9,-999.000,-999.000,9, -999.00,9, -999.00,9, 4000.20,-999.0000,9,-999.0000,9,-999.0000,9,-999.0000,9,-999.0000,9,-999.0000,9,   2.1440,     -999.0,9,     -999.0,9,     -999.0,9,     -999.0,9,         58,-999.000,-999.000,-999.000,     -999.0,9, -999.00,9, -999.00,9
33RO200306_01,       A16N,     058,          1,          3,          3,9,20030705,       0118,    36.4998,   -20.0017,       5157,  4489.4,   2.4366,  34.8957,2,-999.0000,9,    243.5,2,  -999.0,9, -999.00,9, -999.00,9, -999.00,9, -999.00,9,-999.000,9,-999.000,9,-999.000,9,  -999.0,9,  -999.0,9,   -999.0,9,  -999.00,-999.0000,9,  -999.00,-999.000,9,-999.000,9,-999.000,9, -999.00,9,  -999.0,9,  -999.0,-999.000,9,-999.000,-999.000,9, -999.00,9, -999.00,9, 4489.40,-999.0000,9,-999.0000,9,-999.0000,9,-999.0000,9,-999.0000,9,-999.0000,9,   2.0325,     -999.0,9,     -999.0,9,     -999.0,9,     -999.0,9,         58,-999.000,-999.000,-999.000,     -999.0,9, -999.00,9, -999.00,9
33RO200306_01,       A16N,     058,          1,          8,          8,2,20030705,       0118,    36.4998,   -20.0017,       5157,  4490.1,   2.4349,  34.8956,2,  34.8968,2,    243.5,2,   243.9,2,   45.23,6,   22.04,6,    0.00,2,    1.49,6,-999.000,9,-999.000,9,-999.000,9,  -999.0,9,  -999.0,9,   -999.0,9,  -999.00,-999.0000,9,  -999.00,-999.000,9,-999.000,9,-999.000,9, -999.00,9,  -999.0,9,  -999.0,-999.000,9,-999.000,-999.000,9, -999.00,9, -999.00,9, 4490.10,-999.0000,9,-999.0000,9,-999.0000,9,-999.0000,9,-999.0000,9,-999.0000,9,   2.0308,     -999.0,9,       0.02,2,       0.34,2,       0.18,2,         58,-999.000,-999.000,-999.000,       7.99,2,     0.0,2,    0.02,2
33RO200306_01,       A16N,     058,          1,          7,          7,2,20030705,       0118,    36.4998,   -20.0017,       5157,  4998.9,   2.4617,  34.8914,2,  34.8934,2,    243.1,2,   243.4,2,   46.29,6,   22.16,6,    0.00,6,    1.49,2,   0.008,2,   0.019,2,   0.002,2,  -999.0,9,  -999.0,9,   -999.0,9,  -999.00,-999.0000,9,  -999.00,-999.000,9,-999.000,9,-999.000,9, -999.00,9,  -999.0,9,  -999.0,-999.000,9,-999.000,-999.000,9, -999.00,9, -999.00,9, 4998.90,-999.0000,9,-999.0000,9,-999.0000,9,-999.0000,9,-999.0000,9,-999.0000,9,   1.9937,     -999.0,9,     -999.0,9,     -999.0,9,     -999.0,9,         58,-999.000,-999.000,-999.000,     -999.0,9, -999.00,9, -999.00,9
33RO200306_01,       A16N,     058,          1,          2,          2,9,20030705,       0118,    36.4998,   -20.0017,       5157,  4999.2,   2.4620,  34.8913,2,-999.0000,9,    243.2,2,  -999.0,9, -999.00,9, -999.00,9, -999.00,9, -999.00,9,-999.000,9,-999.000,9,-999.000,9,  -999.0,9,  -999.0,9,   -999.0,9,  -999.00,-999.0000,9,  -999.00,-999.000,9,-999.000,9,-999.000,9, -999.00,9,  -999.0,9,  -999.0,-999.000,9,-999.000,-999.000,9, -999.00,9, -999.00,9, 4999.20,-999.0000,9,-999.0000,9,-999.0000,9,-999.0000,9,-999.0000,9,-999.0000,9,   1.9940,     -999.0,9,     -999.0,9,     -999.0,9,     -999.0,9,         58,-999.000,-999.000,-999.000,     -999.0,9, -999.00,9, -999.00,9
33RO200306_01,       A16N,     058,          1,          1,          1,9,20030705,       0118,    36.4998,   -20.0017,       5157,  5244.7,   2.4939,  34.8908,2,-999.0000,9,    243.2,2,  -999.0,9, -999.00,9, -999.00,9, -999.00,9, -999.00,9,-999.000,9,-999.000,9,-999.000,9,  -999.0,9,  -999.0,9,   -999.0,9,  -999.00,-999.0000,9,  -999.00,-999.000,9,-999.000,9,-999.000,9, -999.00,9,  -999.0,9,  -999.0,-999.000,9,-999.000,-999.000,9, -999.00,9, -999.00,9, 5244.70,-999.0000,9,-999.0000,9,-999.0000,9,-999.0000,9,-999.0000,9,-999.0000,9,   1.9933,     -999.0,9,     -999.0,9,     -999.0,9,     -999.0,9,         58,-999.000,-999.000,-999.000,     -999.0,9, -999.00,9, -999.00,9
33RO200306_01,       A16N,     058,          1,          6,          6,2,20030705,       0118,    36.4998,   -20.0017,       5157,  5245.3,   2.4941,  34.8910,2,  34.8962,4,    242.6,2,   249.8,4,   46.40,2,   22.18,2,    0.00,2,    1.49,2,   0.009,2,   0.046,2,   0.003,2,  -999.0,9,  -999.0,9,   -999.0,9,  -999.00,-999.0000,9,  -999.00,-999.000,9,-999.000,9,-999.000,9, -999.00,9,  -999.0,9,  -999.0,-999.000,9,-999.000,-999.000,9, -999.00,9, -999.00,9, 5245.30,-999.0000,9,-999.0000,9,-999.0000,9,-999.0000,9,-999.0000,9,-999.0000,9,   1.9934,     -999.0,9,     -999.0,9,       0.05,2,       0.07,2,         58,-999.000,-999.000,-999.000,      16.31,2,     0.0,2,     0.0,2