BOTTLE,20230908CCHSIOCBG
EXPOCODE,SECT_ID,STNNBR,CASTNO,SAMPNO,BTLNBR,BTLNBR_FLAG_W,DATE,TIME,LATITUDE,LONGITUDE,DEPTH,CTDPRS,CTDTMP,CTDSAL,CTDSAL_FLAG_W,SALNTY,SALNTY_FLAG_W,CTDOXY,CTDOXY_FLAG_W,OXYGEN,OXYGEN_FLAG_W,SILCAT,SILCAT_FLAG_W,NITRAT,NITRAT_FLAG_W,NITRIT,NITRIT_FLAG_W,PHSPHT,PHSPHT_FLAG_W,CFC-11,CFC-11_FLAG_W,CFC-12,CFC-12_FLAG_W,CFC113,CFC113_FLAG_W,TCARBN,TCARBN_FLAG_W,ALKALI,ALKALI_FLAG_W,FCO2,FCO2_FLAG_W,FCO2TMP,PH_SWS,PH_SWS_FLAG_W,PH_TMP,TRITUM,TRITUM_FLAG_W,HELIUM,HELIUM_FLAG_W,DELHE3,DELHE3_FLAG_W,DELC13,DELC13_FLAG_W,DELC14,DELC14_FLAG_W,C14ERR,NEON,NEON_FLAG_W,NEONER,POC,POC_FLAG_W,DOC,DOC_FLAG_W,TDN,TDN_FLAG_W,CTDRAW,CDOM325,CDOM325_FLAG_W,CDOM340,CDOM340_FLAG_W,CDOM380,CDOM380_FLAG_W,CDOM412,CDOM412_FLAG_W,CDOMSL,CDOMSL_FLAG_W,CDOMSN,CDOMSN_FLAG_W,THETA,PON,PON_FLAG_W,HCFC-22,HCFC-22_FLAG_W,HCFC-142b,HCFC-142b_FLAG_W,HCFC-141b,HCFC-141b_FLAG_W,STNNBR_U,HELIER,DELHER,TRITER,CH3CL,CH3CL_FLAG_W,CH3BR,CH3BR_FLAG_W,CH3I,CH3I_FLAG_W
,,,,,,,,,,,METERS,DBAR,ITS-90,PSS-78,,PSS-78,,UMOL/KG,,UMOL/KG,,UMOL/KG,,UMOL/KG,,UMOL/KG,,UMOL/KG,,PMOL/KG,,PMOL/KG,,PMOL/KG,,UMOL/KG,,UMOL/KG,,UATM,,DEG C,,,DEG C,TU,,NMOL/KG,,PERCNT,,/MILLE,,/MILLE,,/MILLE,NMOL/KG,,NMOL/KG,UG/KG,,UMOL/KG,,UMOL/KG,,DBAR,1/M,,1/M,,1/M,,1/M,,1/NM,,1/NM,,DEG C,UMOL/L,,PMOL/KG,,PMOL/KG,,PMOL/KG,,,NMOL/KG,PERCNT,TU,PMOL/KG,,PMOL/KG,,PMOL/KG,
33RO200306_02,       A16N,     082,          2,         35,         35,2,20030720,       0024,    25.0007,   -26.1842,       5398,     4.0,  24.4625,  37.3076,2,  37.3107,2,    215.3,2,   209.3,2,    0.42,2,    0.03,2,    0.00,2,    0.03,2,   1.913,6,   1.213,6,   0.164,6,  2100.5,6,  2439.0,6,    326.1,2,    20.00,   8.0536,6,    25.00,-999.000,9,-999.000,9,-999.000,9,    1.52,2,    86.6,2,     3.5,-999.000,9,-999.000,-999.000,9,   70.17,2,    7.17,2,    4.00,-999.0000,9,-999.0000,9,-999.0000,9,-999.0000,9,-999.0000,9,-999.0000,9,  24.4616,     -999.0,9,       5.02,2,       0.46,2,       1.28,2,         82,-999.000,-999.000,-999.000,       90.3,2,    2.15,2,   16.63,2
33RO200306_02,       A16N,     082,          2,         33,         33,2,20030720,       0024,    25.0007,   -26.1842,       5398,    13.4,  24.4629,  37.3070,2,  37.3088,2,    214.1,2,   209.5,2,    0.40,2,    0.02,2,    0.00,2,    0.03,2,   1.886,2,   1.200,2,   0.164,2,  2100.5,2,  2439.3,2,    326.6,2,    20.00,   8.0407,2,    25.00,-999.000,9,-999.000,9,-999.000,9, -999.00,9,  -999.0,9,  -999.0,-999.000,9,-999.000,-999.000,9,   69.19,2,    6.36,2,   13.40,-999.0000,9,-999.0000,9,-999.0000,9,-999.0000,9,-999.0000,9,-999.0000,9,  24.4600,     -999.0,9,       4.06,2,       0.19,2,       0.53,2,         82,-999.000,-999.000,-999.000,      68.09,2,    0.92,2,    15.2,2
33RO200306_02,       A16N,     082,          2,         32,         32,2,20030720,       0024,    25.0007,   -26.1842,       5398,    44.9,  23.7888,  37.2684,2,  37.2533,2,    215.7,2,   218.9,2,    0.41,2,    0.03,2,    0.00,2,    0.04,2,   2.038,2,   1.280,2,   0.174,2,  2100.3,2,  2435.2,2,    329.8,2,    20.00,   8.0660,2,    25.00,-999.000,9,-999.000,9,-999.000,9, -999.00,9,  -999.0,9,  -999.0,-999.000,9,-999.000,-999.000,9,   70.17,2,    5.65,2,   44.90,-999.0000,9,-999.0000,9,-999.0000,9,-999.0000,9,-999.0000,9,-999.0000,9,  23.7793,     -999.0,9,     -999.0,9,     -999.0,9,     -999.0,9,         82,-999.000,-999.000,-999.000,     -999.0,9, -999.00,9, -999.00,9
33RO200306_02,       A16N,     082,          2,         31,         31,2,20030720,       0024,    25.0007,   -26.1842,       5398,    65.0,  22.0619,  37.2792,2,  37.2804,2,    226.5,2,   225.1,2,    0.53,2,    0.02,2,    0.00,2,    0.04,2,   2.141,2,   1.344,2,   0.178,2,  2100.6,2,  2436.1,2,    329.1,2,    20.00,   8.0656,2,    25.00,-999.000,9,-999.000,9,-999.000,9, -999.00,9,  -999.0,9,  -999.0,-999.000,9,-999.000,-999.000,9, -999.00,9, -999.00,9,   65.00,-999.0000,9,-999.0000,9,-999.0000,9,-999.0000,9,-999.0000,9,-999.0000,9,  22.0489,     -999.0,9,       4.45,2,       0.24,2,       1.75,2,         82,-999.000,-999.000,-999.000,     136.31,2,    0.76,2,   23.59,2
33RO200306_02,       A16N,     082,          2,         30,         30,2,20030720,       0024,    25.0007,   -26.1842,       5398,    94.6,  21.3564,  37.2123,2,  37.1986,2,    221.6,2,   220.8,2,    0.56,2,    0.02,2,    0.00,2,    0.04,2,   2.167,2,   1.354,2,   0.179,2,  2100.9,2,  2437.0,2,    339.1,2,    20.00,   8.0326,2,    25.00,-999.000,9,-999.000,9,-999.000,9, -999.00,9,  -999.0,9,  -999.0,-999.000,9,-999.000,-999.000,9,   59.43,2,    5.04,2,   94.60,-999.0000,9,-999.0000,9,-999.0000,9,-999.0000,9,-999.0000,9,-999.0000,9,  21.3379,     -999.0,9,     -999.0,9,     -999.0,9,     -999.0,9,         82,-999.000,-999.000,-999.000,     -999.0,9, -999.00,9, -999.00,9
33RO200306_02,       A16N,     082,          2,         29,         29,2,20030720,       0024,    25.0007,   -26.1842,       5398,   114.5,  20.9571,  37.1602,2,  37.1526,2,    216.5,2,   217.5,2,    0.58,2,    0.04,2,    0.01,2,    0.04,2,   2.177,2,   1.344,2,   0.174,2,  2106.5,2,  2428.1,2,    346.2,2,    20.00,   8.0289,2,    25.00,-999.000,9,-999.000,9,-999.000,9, -999.00,9,  -999.0,9,  -999.0,-999.000,9,-999.000,-999.000,9, -999.00,9, -999.00,9,  114.50,-999.0000,9,-999.0000,9,-999.0000,9,-999.0000,9,-999.0000,9,-999.0000,9,  20.9350,     -999.0,9,       4.63,2,       0.16,2,       0.39,2,         82,-999.000,-999.000,-999.000,     150.91,2,    4.66,2,    6.92,2
33RO200306_02,       A16N,     082,          2,         28,         28,2,20030720,       0024,    25.0007,   -26.1842,       5398,   139.8,  20.0450,  36.9862,2,  36.9721,2,    208.8,2,   207.6,2,    0.72,2,    0.64,2,    0.07,2,    0.06,2,   2.261,2,   1.389,2,   0.160,2,  2113.4,2,  2422.0,2,   -999.0,9,  -999.00,   7.9918,2,    25.00,-999.000,9,-999.000,9,-999.000,9, -999.00,9,  -999.0,9,  -999.0,-999.000,9,-999.000,-999.000,9,   56.91,2,    5.61,2,  139.80,-999.0000,9,-999.0000,9,-999.0000,9,-999.0000,9,-999.0000,9,-999.0000,9,  20.0188,     -999.0,9,     -999.0,9,     -999.0,9,     -999.0,9,         82,-999.000,-999.000,-999.000,     -999.0,9, -999.00,9, -999.00,9
33RO200306_02,       A16N,     082,          2,         27,         27,2,20030720,       0024,    25.0007,   -26.1842,       5398,   164.2,  19.1166,  36.7910,2,  36.7729,2,    201.6,2,   200.5,2,    0.96,2,    1.97,2,    0.03,2,    0.12,2,   2.365,2,   1.442,2,   0.123,2,  2117.0,2,  2403.5,2,    395.0,2,    20.00,   7.9714,2,    25.00,-999.000,9,-999.000,9,-999.000,9, -999.00,9,  -999.0,9,  -999.0,-999.000,9,-999.000,-999.000,9, -999.00,9, -999.00,9,  164.20,-999.0000,9,-999.0000,9,-999.0000,9,-999.0000,9,-999.0000,9,-999.0000,9,  19.0869,     -999.0,9,       4.16,2,       0.19,2,       0.40,2,         82,-999.000,-999.000,-999.000,      20.37,2,     0.4,2,    0.59,2
33RO200306_02,       A16N,     082,          2,         26,         26,2,20030720,       0024,    25.0007,   -26.1842,       5398,   189.4,  18.4227,  36.6486,2,  36.6317,2,    195.3,2,   197.8,2,    1.16,2,    3.15,2,    0.02,2,    0.18,2,   2.411,2,   1.453,2,   0.088,2,  2116.7,2,  2393.7,2,   -999.0,9,  -999.00,   7.9416,2,    25.00,-999.000,9,-999.000,9,-999.000,9, -999.00,9,  -999.0,9,  -999.0,-999.000,9,-999.000,-999.000,9,   52.60,2,    8.29,2,  189.40,-999.0000,9,-999.0000,9,-999.0000,9,-999.0000,9,-999.0000,9,-999.0000,9,  18.3893,     -999.0,9,     -999.0,9,     -999.0,9,     -999.0,9,         82,-999.000,-999.000,-999.000,     -999.0,9, -999.00,9, -999.00,9
33RO200306_02,       A16N,     082,          2,         25,         25,2,20030720,       0024,    25.0007,   -26.1842,       5398,   224.3,  17.5565,  36.4778,2,  36.4628,2,    194.8,2,   197.0,2,    1.48,2,    4.49,2,    0.01,2,    0.26,2,   2.463,2,   1.467,2,   0.053,2,  2116.9,2,  2385.0,2,    426.2,2,    20.00,   7.9458,2,    25.00,-999.000,9,-999.000,9,-999.000,9, -999.00,9,  -999.0,9,  -999.0,-999.000,9,-999.000,-999.000,9,   49.27,2,    9.46,2,  224.30,-999.0000,9,-999.0000,9,-999.0000,9,-999.0000,9,-999.0000,9,-999.0000,9,  17.5182,     -999.0,9,       4.25,2,       0.17,2,       0.37,2,         82,-999.000,-999.000,-999.000,      44.54,2,    0.45,2,    0.13,2
33RO200306_02,       A16N,     082,          2,         24,         24,2,20030720,       0024,    25.0007,   -26.1842,       5398,   274.5,  16.2227,  36.2325,2,  36.2350,2,    185.9,2,   189.2,2,    2.35,2,    7.51,2,    0.01,2,    0.44,2,   2.510,2,   1.455,2,   0.038,2,  2126.0,2,  2376.6,2,   -999.0,9,  -999.00,   7.9137,2,    25.00,-999.000,9,-999.000,9,-999.000,9, -999.00,9,  -999.0,9,  -999.0,-999.000,9,-999.000,-999.000,9,   48.61,2,   11.59,2,  274.50,-999.0000,9,-999.0000,9,-999.0000,9,-999.0000,9,-999.0000,9,-999.0000,9,  16.1783,     -999.0,9,     -999.0,9,     -999.0,9,     -999.0,9,         82,-999.000,-999.000,-999.000,     -999.0,9, -999.00,9, -999.00,9
33RO200306_02,       A16N,     082,          2,         23,         23,2,20030720,       0024,    25.0007,   -26.1842,       5398,   325.0,  15.0929,  36.0538,2,  36.0601,2,    183.4,2,   181.5,2,    3.30,2,   10.12,2,    0.01,2,    0.60,2,   2.511,2,   1.432,2,   0.032,2,  2136.8,2,  2360.6,2,    521.7,2,    20.00,   7.8480,2,    25.00,-999.000,9,-999.000,9,-999.000,9, -999.00,9,  -999.0,9,  -999.0,-999.000,9,-999.000,-999.000,9,   48.61,2,   14.14,2,  325.00,-999.0000,9,-999.0000,9,-999.0000,9,-999.0000,9,-999.0000,9,-999.0000,9,  15.0429,     -999.0,9,     -999.0,9,     -999.0,9,     -999.0,9,         82,-999.000,-999.000,-999.000,     -999.0,9, -999.00,9, -999.00,9
33RO200306_02,       A16N,     082,          2,         22,         22,2,20030720,       0024,    25.0007,   -26.1842,       5398,   374.1,  14.4271,  35.9589,2,  35.9500,2,    173.7,2,   175.7,2,    4.06,2,   11.99,2,    0.01,2,    0.71,2,   2.471,2,   1.390,2,   0.031,2,  2144.5,2,  2354.0,2,   -999.0,9,  -999.00,   7.8384,2,    25.00,-999.000,9,-999.000,9,-999.000,9, -999.00,9,  -999.0,9,  -999.0,-999.000,9,-999.000,-999.000,9,   48.29,2,   15.95,2,  374.10,-999.0000,9,-999.0000,9,-999.0000,9,-999.0000,9,-999.0000,9,-999.0000,9,  14.3712,     -999.0,9,     -999.0,9,     -999.0,9,     -999.0,9,         82,-999.000,-999.000,-999.000,     -999.0,9, -999.00,9, -999.00,9
33RO200306_02,       A16N,     082,          2,         21,         21,2,20030720,       0024,    25.0007,   -26.1842,       5398,   449.4,  13.2284,  35.7955,2,  35.7915,2,    169.2,2,   173.1,2,    5.24,2,   14.29,2,    0.01,2,    0.85,2,   2.384,2,   1.300,2,   0.035,2,  2151.6,2,  2345.5,2,    611.5,2,    20.00,   7.8269,2,    25.00,-999.000,9,-999.000,9,-999.000,9, -999.00,9,  -999.0,9,  -999.0,-999.000,9,-999.000,-999.000,9,   47.32,2,   18.84,2,  449.40,-999.0000,9,-999.0000,9,-999.0000,9,-999.0000,9,-999.0000,9,-999.0000,9,  13.1648,     -999.0,9,       2.79,2,       0.05,2,       0.24,2,         82,-999.000,-999.000,-999.000,      54.44,2,    0.67,2,    0.34,2
33RO200306_02,       A16N,     082,          2,         20,         20,2,20030720,       0024,    25.0007,   -26.1842,       5398,   550.8,  11.4467,  35.5481,2,  35.5478,2,    148.8,2,   138.0,2,    8.99,2,   21.15,2,    0.00,2,    1.28,2,   1.638,2,   0.868,2,   0.026,2,  2182.2,2,  2333.4,2,    782.5,2,    20.00,   7.7220,2,    25.00,-999.000,9,-999.000,9,-999.000,9, -999.00,9,  -999.0,9,  -999.0,-999.000,9,-999.000,-999.000,9,   47.47,2,   25.00,2,  550.80,-999.0000,9,-999.0000,9,-999.0000,9,-999.0000,9,-999.0000,9,-999.0000,9,  11.3755,     -999.0,9,     -999.0,9,     -999.0,9,     -999.0,9,         82,-999.000,-999.000,-999.000,     -999.0,9, -999.00,9, -999.00,9
33RO200306_02,       A16N,     082,          2,         19,         19,2,20030720,       0024,    25.0007,   -26.1842,       5398,   648.8,  10.3395,  35.4181,2,  35.4152,2,    122.5,2,   127.5,2,   11.84,2,   24.28,2,    0.01,2,    1.48,2,   1.061,2,   0.553,2,   0.013,2,  2195.8,2,  2328.6,2,    866.7,2,    20.00,   7.6769,2,    25.00,-999.000,9,-999.000,9,-999.000,9, -999.00,9,  -999.0,9,  -999.0,-999.000,9,-999.000,-999.000,9,   45.85,2,   27.86,2,  648.80,-999.0000,9,-999.0000,9,-999.0000,9,-999.0000,9,-999.0000,9,-999.0000,9,  10.2605,     -999.0,9,     -999.0,9,     -999.0,9,     -999.0,9,         82,-999.000,-999.000,-999.000,     -999.0,9, -999.00,9, -999.00,9
33RO200306_02,       A16N,     082,          2,         18,         18,2,20030720,       0024,    25.0007,   -26.1842,       5398,   799.9,   9.5157,  35.4386,2,  35.4401,2,    153.6,2,   151.8,2,   12.85,6,   22.51,6,    0.00,6,    1.41,6,   0.824,2,   0.430,2,   0.011,2,  2190.6,3,  2336.1,2,    803.8,3,    20.00,   7.6996,2,    25.00,-999.000,9,-999.000,9,-999.000,9, -999.00,9,  -999.0,9,  -999.0,-999.000,9,-999.000,-999.000,9,   45.20,2,   26.00,2,  799.90,-999.0000,9,-999.0000,9,-999.0000,9,-999.0000,9,-999.0000,9,-999.0000,9,   9.4223,     -999.0,9,     -999.0,9,     -999.0,9,     -999.0,9,         82,-999.000,-999.000,-999.000,     -999.0,9, -999.00,9, -999.00,9
33RO200306_02,       A16N,     082,          2,         17,         17,2,20030720,       0024,    25.0007,   -26.1842,       5398,   949.3,   8.2124,  35.3405,2,  35.3461,2,    155.0,2,   153.6,2,   15.79,2,   24.17,2,    0.01,2,    1.54,2,   0.414,2,   0.224,2,   0.005,2,  2195.7,6,  2335.6,6,    842.8,2,    20.00,   7.7041,6,    25.00,-999.000,9,-999.000,9,-999.000,9, -999.00,9,  -999.0,9,  -999.0,-999.000,9,-999.000,-999.000,9,   44.80,2,   27.50,2,  949.30,-999.0000,9,-999.0000,9,-999.0000,9,-999.0000,9,-999.0000,9,-999.0000,9,   8.1098,     -999.0,9,     -999.0,9,     -999.0,9,     -999.0,9,         82,-999.000,-999.000,-999.000,     -999.0,9, -999.00,9, -999.00,9
33RO200306_02,       A16N,     082,          2,         16,         16,2,20030720,       0024,    25.0007,   -26.1842,       5398,  1099.3,   7.2965,  35.2957,2,  35.2964,2,    166.2,2,   168.0,2,   16.93,2,   23.80,2,    0.00,2,    1.54,2,   0.250,2,   0.137,2,   0.002,2,  2197.0,2,  2335.7,2,    830.9,2,    20.00,   7.6886,2,    25.00,-999.000,9,-999.000,9,-999.000,9, -999.00,9,  -999.0,9,  -999.0,-999.000,9,-999.000,-999.000,9,   43.09,2,   28.54,2, 1099.30,-999.0000,9,-999.0000,9,-999.0000,9,-999.0000,9,-999.0000,9,-999.0000,9,   7.1840,     -999.0,9,     -999.0,9,     -999.0,9,     -999.0,9,         82,-999.000,-999.000,-999.000,     -999.0,9, -999.00,9, -999.00,9
33RO200306_02,       A16N,     082,          2,         15,         15,2,20030720,       0024,    25.0007,   -26.1842,       5398,  1249.7,   6.8360,  35.3019,2,  35.3031,2,    179.8,2,   179.9,2,   17.15,2,   22.91,2,    0.00,2,    1.48,2,   0.216,2,   0.116,2,   0.003,2,  2193.5,2,  -999.0,9,   -999.0,9,  -999.00,-999.0000,9,  -999.00,-999.000,9,-999.000,9,-999.000,9, -999.00,9,  -999.0,9,  -999.0,-999.000,9,-999.000,-999.000,9,   42.36,2,   27.02,2, 1249.70,-999.0000,9,-999.0000,9,-999.0000,9,-999.0000,9,-999.0000,9,-999.0000,9,   6.7111,     -999.0,9,       0.01,2,       0.00,2,       0.15,2,         82,-999.000,-999.000,-999.000,      80.18,2,    0.88,2,    0.27,2
33RO200306_02,       A16N,     082,          2,         14,         14,2,20030720,       0024,    25.0007,   -26.1842,       5398,  1448.6,   5.8318,  35.2323,2,  35.2335,2,    199.2,2,   200.9,2,   18.03,2,   21.75,2,    0.01,2,    1.42,2,   0.124,2,   0.067,2,   0.003,2,  2186.5,2,  -999.0,9,    781.6,2,    20.00,-999.0000,9,  -999.00,-999.000,9,-999.000,9,-999.000,9, -999.00,9,  -999.0,9,  -999.0,-999.000,9,-999.000,-999.000,9,   41.77,2,   24.94,2, 1448.60,-999.0000,9,-999.0000,9,-999.0000,9,-999.0000,9,-999.0000,9,-999.0000,9,   5.6959,     -999.0,9,     -999.0,9,     -999.0,9,     -999.0,9,         82,-999.000,-999.000,-999.000,     -999.0,9, -999.00,9, -999.00,9
33RO200306_02,       A16N,     082,          2,         13,         13,2,20030720,       0024,    25.0007,   -26.1842,       5398,  1749.0,   4.6684,  35.1231,2,  35.1259,2,    216.5,2,   215.8,2,   21.54,2,   21.53,2,    0.01,2,    1.43,2,   0.032,2,   0.018,2,   0.002,2,  2182.2,2,  -999.0,9,   -999.0,9,  -999.00,-999.0000,9,  -999.00,-999.000,9,-999.000,9,-999.000,9, -999.00,9,  -999.0,9,  -999.0,-999.000,9,-999.000,-999.000,9,   43.34,2,   25.16,2, 1749.00,-999.0000,9,-999.0000,9,-999.0000,9,-999.0000,9,-999.0000,9,-999.0000,9,   4.5160,     -999.0,9,       0.07,2,       0.00,2,       0.24,2,         82,-999.000,-999.000,-999.000,        0.0,2,     0.0,2,    0.13,2
33RO200306_02,       A16N,     082,          2,         12,         12,2,20030720,       0024,    25.0007,   -26.1842,       5398,  2049.8,   3.9862,  35.0632,2,  35.0633,2,    231.5,2,   234.2,2,   23.41,2,   20.78,2,    0.01,2,    1.39,2,   0.018,2,   0.012,2,   0.000,2,  2178.0,2,  -999.0,9,    758.2,2,    20.00,-999.0000,9,  -999.00,-999.000,9,-999.000,9,-999.000,9, -999.00,9,  -999.0,9,  -999.0,-999.000,9,-999.000,-999.000,9,   41.63,2,   25.37,2, 2049.80,-999.0000,9,-999.0000,9,-999.0000,9,-999.0000,9,-999.0000,9,-999.0000,9,   3.8137,     -999.0,9,     -999.0,9,     -999.0,9,     -999.0,9,         82,-999.000,-999.000,-999.000,     -999.0,9, -999.00,9, -999.00,9
33RO200306_02,       A16N,     082,          2,         11,         11,2,20030720,       0024,    25.0007,   -26.1842,       5398,  2350.2,   3.4151,  35.0066,2,  35.0090,2,    240.2,2,   239.3,2,   26.81,2,   20.61,2,    0.01,2,    1.39,2,   0.013,2,   0.008,2,   0.002,2,  2179.5,2,  -999.0,9,   -999.0,9,  -999.00,-999.0000,9,  -999.00,-999.000,9,-999.000,9,-999.000,9, -999.00,9,  -999.0,9,  -999.0,-999.000,9,-999.000,-999.000,9,   41.22,2,   25.38,2, 2350.20,-999.0000,9,-999.0000,9,-999.0000,9,-999.0000,9,-999.0000,9,-999.0000,9,   3.2223,     -999.0,9,       0.18,2,       0.00,2,       0.14,2,         82,-999.000,-999.000,-999.000,        0.0,2,    0.23,2,    0.13,2
33RO200306_02,       A16N,     082,          2,         10,         10,2,20030720,       0024,    25.0007,   -26.1842,       5398,  2649.7,   3.0368,  34.9695,2,  34.9704,2,    243.8,2,   243.1,2,   30.76,2,   20.75,2,    0.01,2,    1.41,2,   0.008,2,   0.011,2,   0.001,2,  2182.3,2,  -999.0,9,    752.5,2,    20.00,-999.0000,9,  -999.00,-999.000,9,-999.000,9,-999.000,9, -999.00,9,  -999.0,9,  -999.0,-999.000,9,-999.000,-999.000,9,   42.36,2,   25.60,2, 2649.70,-999.0000,9,-999.0000,9,-999.0000,9,-999.0000,9,-999.0000,9,-999.0000,9,   2.8212,     -999.0,9,     -999.0,9,     -999.0,9,     -999.0,9,         82,-999.000,-999.000,-999.000,     -999.0,9, -999.00,9, -999.00,9
33RO200306_02,       A16N,     082,          2,          9,          9,2,20030720,       0024,    25.0007,   -26.1842,       5398,  2948.7,   2.7734,  34.9435,2,  34.9445,2,    242.8,2,   243.0,2,   35.06,2,   21.21,2,    0.01,2,    1.45,2,   0.011,2,   0.010,2,   0.002,2,  2188.0,2,  -999.0,9,   -999.0,9,  -999.00,-999.0000,9,  -999.00,-999.000,9,-999.000,9,-999.000,9, -999.00,9,  -999.0,9,  -999.0,-999.000,9,-999.000,-999.000,9,   41.30,2,   25.99,2, 2948.70,-999.0000,9,-999.0000,9,-999.0000,9,-999.0000,9,-999.0000,9,-999.0000,9,   2.5328,     -999.0,9,       0.00,2,       0.00,2,       0.13,2,         82,-999.000,-999.000,-999.000,       7.67,2,    0.38,2,    0.17,2
33RO200306_02,       A16N,     082,          2,          8,          8,2,20030720,       0024,    25.0007,   -26.1842,       5398,  3248.9,   2.6232,  34.9275,2,  34.9276,2,    242.6,2,   242.3,2,   38.59,2,   21.61,2,    0.01,2,    1.48,2,   0.008,2,   0.004,2,   0.001,2,  2190.9,2,  -999.0,9,   -999.0,9,  -999.00,-999.0000,9,  -999.00,-999.000,9,-999.000,9,-999.000,9, -999.00,9,  -999.0,9,  -999.0,-999.000,9,-999.000,-999.000,9,   41.54,2,   26.51,2, 3248.90,-999.0000,9,-999.0000,9,-999.0000,9,-999.0000,9,-999.0000,9,-999.0000,9,   2.3547,     -999.0,9,     -999.0,9,     -999.0,9,     -999.0,9,         82,-999.000,-999.000,-999.000,     -999.0,9, -999.00,9, -999.00,9