BOTTLE,20230908CCHSIOCBG
EXPOCODE,SECT_ID,STNNBR,CASTNO,SAMPNO,BTLNBR,BTLNBR_FLAG_W,DATE,TIME,LATITUDE,LONGITUDE,DEPTH,CTDPRS,CTDTMP,CTDSAL,CTDSAL_FLAG_W,SALNTY,SALNTY_FLAG_W,CTDOXY,CTDOXY_FLAG_W,OXYGEN,OXYGEN_FLAG_W,SILCAT,SILCAT_FLAG_W,NITRAT,NITRAT_FLAG_W,NITRIT,NITRIT_FLAG_W,PHSPHT,PHSPHT_FLAG_W,CFC-11,CFC-11_FLAG_W,CFC-12,CFC-12_FLAG_W,CFC113,CFC113_FLAG_W,TCARBN,TCARBN_FLAG_W,ALKALI,ALKALI_FLAG_W,FCO2,FCO2_FLAG_W,FCO2TMP,PH_SWS,PH_SWS_FLAG_W,PH_TMP,TRITUM,TRITUM_FLAG_W,HELIUM,HELIUM_FLAG_W,DELHE3,DELHE3_FLAG_W,DELC13,DELC13_FLAG_W,DELC14,DELC14_FLAG_W,C14ERR,NEON,NEON_FLAG_W,NEONER,POC,POC_FLAG_W,DOC,DOC_FLAG_W,TDN,TDN_FLAG_W,CTDRAW,CDOM325,CDOM325_FLAG_W,CDOM340,CDOM340_FLAG_W,CDOM380,CDOM380_FLAG_W,CDOM412,CDOM412_FLAG_W,CDOMSL,CDOMSL_FLAG_W,CDOMSN,CDOMSN_FLAG_W,THETA,PON,PON_FLAG_W,HCFC-22,HCFC-22_FLAG_W,HCFC-142b,HCFC-142b_FLAG_W,HCFC-141b,HCFC-141b_FLAG_W,STNNBR_U,HELIER,DELHER,TRITER,CH3CL,CH3CL_FLAG_W,CH3BR,CH3BR_FLAG_W,CH3I,CH3I_FLAG_W
,,,,,,,,,,,METERS,DBAR,ITS-90,PSS-78,,PSS-78,,UMOL/KG,,UMOL/KG,,UMOL/KG,,UMOL/KG,,UMOL/KG,,UMOL/KG,,PMOL/KG,,PMOL/KG,,PMOL/KG,,UMOL/KG,,UMOL/KG,,UATM,,DEG C,,,DEG C,TU,,NMOL/KG,,PERCNT,,/MILLE,,/MILLE,,/MILLE,NMOL/KG,,NMOL/KG,UG/KG,,UMOL/KG,,UMOL/KG,,DBAR,1/M,,1/M,,1/M,,1/M,,1/NM,,1/NM,,DEG C,UMOL/L,,PMOL/KG,,PMOL/KG,,PMOL/KG,,,NMOL/KG,PERCNT,TU,PMOL/KG,,PMOL/KG,,PMOL/KG,
33RO200306_02,       A16N,     122,          2,         35,         35,2,20030801,       2105,     4.9997,   -26.0000,       4520,     2.8,  28.0489,  35.7475,2,  35.7509,2,    200.0,2,   207.4,2,    0.75,2,   -0.02,2,    0.05,2,    0.05,2,   1.656,2,   1.059,2,   0.139,2,  1986.9,2,  2340.2,2,    262.4,2,    20.00,   8.1201,2,    25.00,   0.848,2,   1.705,2,  -2.745,2,    1.71,2,    66.4,2,     3.6,   6.618,2,   0.058,-999.000,9,   70.81,2,    7.65,2,    2.80,-999.0000,9,-999.0000,9,-999.0000,9,-999.0000,9,-999.0000,9,-999.0000,9,  28.0482,     -999.0,9,       3.52,2,       0.14,2,       0.36,2,        122,   0.003,   0.189,   0.030,      61.84,2,    0.34,2,    8.15,2
33RO200306_02,       A16N,     122,          2,         33,         33,2,20030801,       2105,     4.9997,   -26.0000,       4520,     9.9,  28.0525,  35.7460,2,  34.9172,3,    199.7,2,   204.4,2, -999.00,1, -999.00,1, -999.00,1, -999.00,1,   1.629,6,   1.044,6,   0.139,6,  1986.5,6,  2339.9,6,    262.1,2,    20.00,-999.0000,9,  -999.00,-999.000,9,-999.000,9,-999.000,9, -999.00,9,  -999.0,9,  -999.0,-999.000,9,-999.000,-999.000,9,   70.00,2,    8.10,2,    9.90,-999.0000,9,-999.0000,9,-999.0000,9,-999.0000,9,-999.0000,9,-999.0000,9,  28.0502,     -999.0,9,       3.74,2,       0.17,2,       0.58,2,        122,-999.000,-999.000,-999.000,     124.71,2,    1.63,2,    9.06,2
33RO200306_02,       A16N,     122,          2,         32,         32,2,20030801,       2105,     4.9997,   -26.0000,       4520,    30.7,  28.0561,  35.7462,2,  35.7520,2,    198.6,2,   201.9,2,    0.78,2,   -0.03,2,    0.05,2,    0.04,2,   1.631,2,   1.052,2,   0.137,2,  1986.5,2,  2342.8,2,    261.4,2,    20.00,   8.1080,2,    25.00,-999.000,9,   1.676,2,  -5.772,4, -999.00,9,  -999.0,9,  -999.0,-999.000,9,-999.000,-999.000,9, -999.00,9, -999.00,9,   30.70,-999.0000,9,-999.0000,9,-999.0000,9,-999.0000,9,-999.0000,9,-999.0000,9,  28.0488,     -999.0,9,     -999.0,9,     -999.0,9,     -999.0,9,        122,   0.004,   0.201,-999.000,     -999.0,9, -999.00,9, -999.00,9
33RO200306_02,       A16N,     122,          2,         31,         31,2,20030801,       2105,     4.9997,   -26.0000,       4520,    49.8,  28.1127,  35.7968,2,  35.7887,2,    199.1,2,   203.5,2,    0.78,2,   -0.02,2,    0.05,2,    0.05,2,   1.646,2,   1.050,2,   0.137,2,  1989.0,2,  2345.6,2,    264.1,2,    20.00,   8.1135,2,    25.00,-999.000,9,-999.000,9,-999.000,9, -999.00,9,  -999.0,9,  -999.0,-999.000,9,-999.000,-999.000,9,   69.10,2,    7.67,2,   49.80,-999.0000,9,-999.0000,9,-999.0000,9,-999.0000,9,-999.0000,9,-999.0000,9,  28.1009,     -999.0,9,       3.20,2,       0.21,2,       0.21,2,        122,-999.000,-999.000,-999.000,      44.25,2,    0.28,2,    7.61,2
33RO200306_02,       A16N,     122,          2,         30,         30,2,20030801,       2105,     4.9997,   -26.0000,       4520,    69.5,  27.5526,  36.2308,2,  36.2146,2,    206.9,2,   211.3,2,    0.85,2,   -0.02,2,    0.05,2,    0.05,2,   1.698,2,   1.092,2,   0.142,2,  2011.6,2,  2374.1,2,    269.1,2,    20.00,   8.1158,2,    25.00,   0.662,2,   1.706,2,  -2.291,2, -999.00,9,  -999.0,9,  -999.0,   6.590,2,   0.041,-999.000,9, -999.00,9, -999.00,9,   69.50,-999.0000,9,-999.0000,9,-999.0000,9,-999.0000,9,-999.0000,9,-999.0000,9,  27.5364,     -999.0,9,     -999.0,9,     -999.0,9,     -999.0,9,        122,   0.003,   0.196,   0.010,     -999.0,9, -999.00,9, -999.00,9
33RO200306_02,       A16N,     122,          2,         29,         29,2,20030801,       2105,     4.9997,   -26.0000,       4520,    90.0,  23.7562,  36.1535,2,  36.1247,2,    186.8,2,   177.9,2,    2.23,2,    2.01,2,    0.36,2,    0.29,2,-999.000,9,-999.000,9,-999.000,9,  2083.0,2,  2373.0,2,    377.6,2,    20.00,   7.9942,2,    25.00,-999.000,9,-999.000,9,-999.000,9, -999.00,9,  -999.0,9,  -999.0,-999.000,9,-999.000,-999.000,9,   64.15,2,    9.49,2,   90.00,-999.0000,9,-999.0000,9,-999.0000,9,-999.0000,9,-999.0000,9,-999.0000,9,  23.7373,     -999.0,9,       3.13,2,       0.12,2,       0.29,2,        122,-999.000,-999.000,-999.000,       66.8,2,     0.6,2,    2.75,2
33RO200306_02,       A16N,     122,          2,         28,         28,2,20030801,       2105,     4.9997,   -26.0000,       4520,   109.7,  18.8949,  35.8485,2,  35.8214,2,    153.2,2,   143.8,2,    4.51,2,   11.97,2,    0.12,2,    0.86,2,   1.941,2,   1.127,2,   0.065,2,  2138.9,2,  2352.4,2,    548.5,2,    20.00,   7.8541,2,    25.00,   0.563,2,   1.732,2,  -0.925,2, -999.00,9,  -999.0,9,  -999.0,   7.076,2,   0.039,-999.000,9, -999.00,9, -999.00,9,  109.70,-999.0000,9,-999.0000,9,-999.0000,9,-999.0000,9,-999.0000,9,-999.0000,9,  18.8753,     -999.0,9,     -999.0,9,     -999.0,9,     -999.0,9,        122,   0.004,   0.194,   0.010,     -999.0,9, -999.00,9, -999.00,9
33RO200306_02,       A16N,     122,          2,         27,         27,2,20030801,       2105,     4.9997,   -26.0000,       4520,   133.9,  15.5018,  35.5878,2,  35.5797,2,    131.2,2,   134.9,2, -999.00,1, -999.00,1, -999.00,1, -999.00,1,-999.000,9,-999.000,9,-999.000,9,  2158.9,2,  2339.6,2,   -999.0,9,  -999.00,-999.0000,9,  -999.00,-999.000,9,-999.000,9,-999.000,9, -999.00,9,  -999.0,9,  -999.0,-999.000,9,-999.000,-999.000,9,   56.75,2,   21.41,2,  133.90,-999.0000,9,-999.0000,9,-999.0000,9,-999.0000,9,-999.0000,9,-999.0000,9,  15.4810,     -999.0,9,       2.34,2,       0.12,2,       0.46,2,        122,-999.000,-999.000,-999.000,        0.0,2,     0.0,2,     1.3,2
33RO200306_02,       A16N,     122,          2,         26,         26,2,20030801,       2105,     4.9997,   -26.0000,       4520,   160.2,  13.7180,  35.4069,2,  35.4091,2,    138.8,2,   151.1,2,    6.95,2,   17.04,2,    0.07,2,    1.19,2,   2.071,2,   1.156,2,   0.043,2,  2158.5,2,  2331.7,2,    676.3,2,    20.00,   7.7738,2,    25.00,-999.000,9,-999.000,9,-999.000,9, -999.00,9,  -999.0,9,  -999.0,-999.000,9,-999.000,-999.000,9, -999.00,9, -999.00,9,  160.20,-999.0000,9,-999.0000,9,-999.0000,9,-999.0000,9,-999.0000,9,-999.0000,9,  13.6951,     -999.0,9,     -999.0,9,     -999.0,9,     -999.0,9,        122,-999.000,-999.000,-999.000,     -999.0,9, -999.00,9, -999.00,9
33RO200306_02,       A16N,     122,          2,         25,         25,2,20030801,       2105,     4.9997,   -26.0000,       4520,   184.6,  12.7641,  35.2619,2,  35.2544,2,    144.5,2,   153.7,2,    7.63,2,   18.17,2,    0.07,2,    1.27,2,   2.075,2,   1.148,2,   0.035,2,  2160.0,2,  2324.4,2,   -999.0,9,  -999.00,   7.7532,2,    25.00,-999.000,9,-999.000,9,-999.000,9, -999.00,9,  -999.0,9,  -999.0,-999.000,9,-999.000,-999.000,9,   49.02,2,   24.04,2,  184.60,-999.0000,9,-999.0000,9,-999.0000,9,-999.0000,9,-999.0000,9,-999.0000,9,  12.7390,     -999.0,9,       2.18,2,       0.06,2,       0.14,2,        122,-999.000,-999.000,-999.000,       35.3,2,    0.24,2,    0.62,2
33RO200306_02,       A16N,     122,          2,         24,         24,2,20030801,       2105,     4.9997,   -26.0000,       4520,   224.7,  11.8221,  35.1300,2,  35.1265,2,    137.6,2,   141.0,2,    9.12,2,   21.35,2,    0.07,2,    1.45,2,   1.819,2,   0.980,2,   0.022,2,  2173.9,2,  2317.2,2,    799.2,2,    20.00,   7.6982,2,    25.00,-999.000,9,-999.000,9,-999.000,9, -999.00,9,  -999.0,9,  -999.0,-999.000,9,-999.000,-999.000,9,   49.19,2,   25.81,2,  224.70,-999.0000,9,-999.0000,9,-999.0000,9,-999.0000,9,-999.0000,9,-999.0000,9,  11.7930,     -999.0,9,     -999.0,9,     -999.0,9,     -999.0,9,        122,-999.000,-999.000,-999.000,     -999.0,9, -999.00,9, -999.00,9
33RO200306_02,       A16N,     122,          2,         23,         23,2,20030801,       2105,     4.9997,   -26.0000,       4520,   274.3,  11.3393,  35.0851,2,  35.0860,2,    130.2,2,   119.0,2,   10.37,2,   24.23,2,    0.07,2,    1.60,2,   1.560,2,   0.841,2,   0.018,2,  2188.8,2,  2315.0,2,    901.4,2,    20.00,   7.6933,2,    25.00,-999.000,9,-999.000,9,-999.000,9, -999.00,9,  -999.0,9,  -999.0,-999.000,9,-999.000,-999.000,9,   48.37,2,   29.25,2,  274.30,-999.0000,9,-999.0000,9,-999.0000,9,-999.0000,9,-999.0000,9,-999.0000,9,  11.3047,     -999.0,9,       1.33,2,       0.04,2,       0.15,2,        122,-999.000,-999.000,-999.000,      50.33,2,     0.6,2,    0.36,2
33RO200306_02,       A16N,     122,          2,         22,         22,2,20030801,       2105,     4.9997,   -26.0000,       4520,   323.1,  10.5624,  35.0047,2,  35.0040,2,    109.9,2,   109.1,2,   11.86,2,   26.49,2,    0.07,2,    1.72,2,   1.315,2,   0.702,2,   0.016,2,  2198.5,2,  2312.4,2,    970.7,2,    20.00,   7.6323,2,    25.00,-999.000,9,-999.000,9,-999.000,9, -999.00,9,  -999.0,9,  -999.0,-999.000,9,-999.000,-999.000,9,   47.15,2,   32.68,2,  323.10,-999.0000,9,-999.0000,9,-999.0000,9,-999.0000,9,-999.0000,9,-999.0000,9,  10.5233,     -999.0,9,     -999.0,9,     -999.0,9,     -999.0,9,        122,-999.000,-999.000,-999.000,     -999.0,9, -999.00,9, -999.00,9
33RO200306_02,       A16N,     122,          2,         21,         21,2,20030801,       2105,     4.9997,   -26.0000,       4520,   374.6,   9.9562,  34.9549,2,  34.9555,2,    109.3,2,    94.9,2,   13.57,2,   29.60,2,    0.07,2,    1.89,2,   0.961,2,   0.515,2,   0.012,2,  2212.0,2,  2303.5,2,   -999.0,9,  -999.00,   7.5849,2,    25.00,-999.000,9,-999.000,9,-999.000,9, -999.00,9,  -999.0,9,  -999.0,-999.000,9,-999.000,-999.000,9,   46.66,2,   34.65,2,  374.60,-999.0000,9,-999.0000,9,-999.0000,9,-999.0000,9,-999.0000,9,-999.0000,9,   9.9125,     -999.0,9,     -999.0,9,     -999.0,9,     -999.0,9,        122,-999.000,-999.000,-999.000,     -999.0,9, -999.00,9, -999.00,9
33RO200306_02,       A16N,     122,          2,         20,         20,2,20030801,       2105,     4.9997,   -26.0000,       4520,   423.0,   9.5440,  34.9617,2,  34.9604,2,     72.2,2,    68.9,2,   15.37,2,   33.61,2,    0.07,2,    2.08,2,   0.524,2,   0.288,2,   0.002,2,  2236.1,2,  2302.3,2,   1320.5,2,    20.00,   7.5155,2,    25.00,-999.000,9,-999.000,9,-999.000,9, -999.00,9,  -999.0,9,  -999.0,-999.000,9,-999.000,-999.000,9,   45.59,2,   37.23,2,  423.00,-999.0000,9,-999.0000,9,-999.0000,9,-999.0000,9,-999.0000,9,-999.0000,9,   9.4958,     -999.0,9,       0.30,2,       0.00,2,       0.10,2,        122,-999.000,-999.000,-999.000,       92.4,2,    0.98,2,    0.94,2
33RO200306_02,       A16N,     122,          2,         19,         19,2,20030801,       2105,     4.9997,   -26.0000,       4520,   475.2,   8.5678,  34.8624,2,  34.8595,2,     69.5,2,    74.4,2,   17.63,2,   34.86,2,    0.07,2,    2.19,2,   0.330,2,   0.185,2,   0.004,2,  2231.0,2,  2299.8,2,   1347.8,2,    20.00,   7.5036,2,    25.00,-999.000,9,-999.000,9,-999.000,9, -999.00,9,  -999.0,9,  -999.0,-999.000,9,-999.000,-999.000,9,   43.49,2,   38.21,2,  475.20,-999.0000,9,-999.0000,9,-999.0000,9,-999.0000,9,-999.0000,9,-999.0000,9,   8.5169,     -999.0,9,     -999.0,9,     -999.0,9,     -999.0,9,        122,-999.000,-999.000,-999.000,     -999.0,9, -999.00,9, -999.00,9
33RO200306_02,       A16N,     122,          2,         18,         18,2,20030801,       2105,     4.9997,   -26.0000,       4520,   550.6,   7.3348,  34.7440,2,  34.7407,2,     82.9,2,    85.5,2,   20.97,2,   35.92,2,    0.07,2,    2.30,2,   0.151,2,   0.090,2,   0.003,2,  2231.3,2,  2298.2,2,   1369.0,2,    20.00,   7.5021,2,    25.00,-999.000,9,-999.000,9,-999.000,9, -999.00,9,  -999.0,9,  -999.0,-999.000,9,-999.000,-999.000,9,   45.37,2,   38.68,2,  550.60,-999.0000,9,-999.0000,9,-999.0000,9,-999.0000,9,-999.0000,9,-999.0000,9,   7.2807,     -999.0,9,     -999.0,9,     -999.0,9,     -999.0,9,        122,-999.000,-999.000,-999.000,     -999.0,9, -999.00,9, -999.00,9
33RO200306_02,       A16N,     122,          2,         17,         17,2,20030801,       2105,     4.9997,   -26.0000,       4520,   649.3,   6.1780,  34.6198,2,  34.6215,2,    112.8,2,   115.9,2,   24.24,2,   34.98,2,    0.07,2,    2.31,2,-999.000,9,-999.000,9,-999.000,9,  2223.0,2,  2298.5,6,   1272.0,2,    20.00,   7.5304,6,    25.00,-999.000,9,-999.000,9,-999.000,9, -999.00,9,  -999.0,9,  -999.0,-999.000,9,-999.000,-999.000,9,   44.71,2,   38.82,2,  649.30,-999.0000,9,-999.0000,9,-999.0000,9,-999.0000,9,-999.0000,9,-999.0000,9,   6.1196,     -999.0,9,       0.14,2,       0.00,2,       0.12,2,        122,-999.000,-999.000,-999.000,      50.36,2,    0.73,2,    0.22,2
33RO200306_02,       A16N,     122,          2,         16,         16,2,20030801,       2105,     4.9997,   -26.0000,       4520,   749.6,   5.5506,  34.5981,2,  34.5985,2,    126.1,2,   127.9,2,   26.99,2,   34.89,2,    0.07,2,    2.33,2,   0.091,2,   0.050,2,   0.001,2,  2225.8,2,  2300.7,2,   1254.5,2,    20.00,   7.5297,2,    25.00,-999.000,9,   1.806,2,   1.116,2, -999.00,9,  -999.0,9,  -999.0,   7.668,2,   0.068,-999.000,9,   44.47,2,   39.00,2,  749.60,-999.0000,9,-999.0000,9,-999.0000,9,-999.0000,9,-999.0000,9,-999.0000,9,   5.4862,     -999.0,9,     -999.0,9,     -999.0,9,     -999.0,9,        122,   0.003,   0.186,-999.000,     -999.0,9, -999.00,9, -999.00,9
33RO200306_02,       A16N,     122,          2,         15,         15,2,20030801,       2105,     4.9997,   -26.0000,       4520,   850.9,   5.1417,  34.6219,2,  34.6223,2,    133.9,2,   131.0,2,   28.68,2,   34.73,2,    0.07,2,    2.34,2,   0.034,2,   0.020,2,   0.001,2,  2228.9,2,  2303.5,2,   1243.4,2,    20.00,   7.5386,2,    25.00,-999.000,9,-999.000,9,-999.000,9, -999.00,9,  -999.0,9,  -999.0,-999.000,9,-999.000,-999.000,9,   42.12,2,   37.76,2,  850.90,-999.0000,9,-999.0000,9,-999.0000,9,-999.0000,9,-999.0000,9,-999.0000,9,   5.0706,     -999.0,9,     -999.0,9,     -999.0,9,     -999.0,9,        122,-999.000,-999.000,-999.000,     -999.0,9, -999.00,9, -999.00,9
33RO200306_02,       A16N,     122,          2,         14,         14,2,20030801,       2105,     4.9997,   -26.0000,       4520,   950.9,   4.9382,  34.6712,2,  34.6746,2,    138.2,2,   138.8,2,   28.79,2,   33.54,2,    0.07,2,    2.27,2,   0.011,2,   0.006,2,   0.000,2,  2225.6,2,  2306.7,2,   1201.2,2,    20.00,   7.5556,2,    25.00,-999.000,9,-999.000,9,-999.000,9, -999.00,9,  -999.0,9,  -999.0,-999.000,9,-999.000,-999.000,9,   42.21,2,   38.42,2,  950.90,-999.0000,9,-999.0000,9,-999.0000,9,-999.0000,9,-999.0000,9,-999.0000,9,   4.8595,     -999.0,9,       0.02,2,       0.00,2,       0.13,2,        122,-999.000,-999.000,-999.000,      60.64,2,    0.66,2,    0.26,2
33RO200306_02,       A16N,     122,          2,         13,         13,2,20030801,       2105,     4.9997,   -26.0000,       4520,  1051.4,   4.7875,  34.7541,2,  34.7542,2,    150.8,2,   154.4,2,   27.40,2,   31.33,2,    0.06,2,    2.14,2,   0.009,2,   0.007,2,   0.000,2,  2217.4,6,  2309.4,2,   1111.8,2,    20.00,   7.5789,2,    25.00,-999.000,9,-999.000,9,-999.000,9, -999.00,9,  -999.0,9,  -999.0,-999.000,9,-999.000,-999.000,9,   42.52,2,   35.25,2, 1051.40,-999.0000,9,-999.0000,9,-999.0000,9,-999.0000,9,-999.0000,9,-999.0000,9,   4.7008,     -999.0,9,     -999.0,9,     -999.0,9,     -999.0,9,        122,-999.000,-999.000,-999.000,     -999.0,9, -999.00,9, -999.00,9
33RO200306_02,       A16N,     122,          2,         12,         12,2,20030801,       2105,     4.9997,   -26.0000,       4520,  1149.3,   4.6923,  34.8160,2,  34.8177,2,    166.7,2,   167.2,2,   25.64,2,   29.22,2,    0.06,2,    1.98,2,   0.013,6,   0.008,6,   0.000,6,  2210.1,2,  2312.0,2,   1037.2,6,    20.00,   7.6091,2,    25.00,   0.148,2,-999.000,9,-999.000,9, -999.00,9,  -999.0,9,  -999.0,-999.000,9,-999.000,-999.000,9,   42.19,2,   32.33,2, 1149.30,-999.0000,9,-999.0000,9,-999.0000,9,-999.0000,9,-999.0000,9,-999.0000,9,   4.5974,     -999.0,9,     -999.0,9,     -999.0,9,     -999.0,9,        122,-999.000,-999.000,   0.010,     -999.0,9, -999.00,9, -999.00,9
33RO200306_02,       A16N,     122,          2,         11,         11,2,20030801,       2105,     4.9997,   -26.0000,       4520,  1300.2,   4.4696,  34.9092,2,  34.9105,2,    193.9,2,   200.9,2,   22.16,2,   25.38,2,    0.06,2,    1.73,2,   0.027,2,   0.022,2,   0.001,2,  2193.9,2,  2313.2,2,   -999.0,9,  -999.00,   7.6607,2,    25.00,-999.000,9,-999.000,9,-999.000,9, -999.00,9,  -999.0,9,  -999.0,-999.000,9,-999.000,-999.000,9,   41.74,2,   28.62,2, 1300.20,-999.0000,9,-999.0000,9,-999.0000,9,-999.0000,9,-999.0000,9,-999.0000,9,   4.3628,     -999.0,9,       0.08,2,       0.00,2,       0.12,2,        122,-999.000,-999.000,-999.000,        0.0,2,     0.0,2,    0.02,2
33RO200306_02,       A16N,     122,          2,         10,         10,2,20030801,       2105,     4.9997,   -26.0000,       4520,  1500.1,   4.1857,  34.9641,2,  34.9656,2,    227.2,2,   219.1,2,   19.00,2,   21.87,2,    0.06,2,    1.48,2,   0.084,2,   0.046,2,   0.001,2,  2176.8,2,  2313.7,2,    808.8,2,    20.00,   7.7117,2,    25.00,-999.000,9,-999.000,9,-999.000,9, -999.00,9,  -999.0,9,  -999.0,-999.000,9,-999.000,-999.000,9,   41.39,2,   26.69,2, 1500.10,-999.0000,9,-999.0000,9,-999.0000,9,-999.0000,9,-999.0000,9,-999.0000,9,   4.0634,     -999.0,9,     -999.0,9,     -999.0,9,     -999.0,9,        122,-999.000,-999.000,-999.000,     -999.0,9, -999.00,9, -999.00,9
33RO200306_02,       A16N,     122,          2,          9,          9,2,20030801,       2105,     4.9997,   -26.0000,       4520,  1699.4,   3.9488,  34.9731,2,  34.9751,2,    242.8,2,   247.7,2,   18.61,2,   20.63,2,    0.05,2,    1.40,2,   0.070,2,   0.041,2,   0.001,2,  2169.0,2,  2314.6,2,   -999.0,9,  -999.00,   7.7222,2,    25.00,-999.000,9,-999.000,9,-999.000,9, -999.00,9,  -999.0,9,  -999.0,-999.000,9,-999.000,-999.000,9,   41.79,2,   25.55,2, 1699.40,-999.0000,9,-999.0000,9,-999.0000,9,-999.0000,9,-999.0000,9,-999.0000,9,   3.8108,     -999.0,9,       0.11,2,       0.00,2,       0.10,2,        122,-999.000,-999.000,-999.000,        0.0,2,     0.0,2,    0.08,2
33RO200306_02,       A16N,     122,          2,          8,          8,2,20030801,       2105,     4.9997,   -26.0000,       4520,  1900.0,   3.6445,  34.9657,2,  34.9668,2,    248.5,2,   248.2,2,   20.79,2,   20.43,2,    0.05,2,    1.40,2,   0.041,2,   0.024,2,   0.000,2,  2169.2,2,  2316.5,2,    767.5,2,    20.00,   7.7257,2,    25.00,-999.000,9,-999.000,9,-999.000,9, -999.00,9,  -999.0,9,  -999.0,-999.000,9,-999.000,-999.000,9,   41.39,2,   24.47,2, 1900.00,-999.0000,9,-999.0000,9,-999.0000,9,-999.0000,9,-999.0000,9,-999.0000,9,   3.4917,     -999.0,9,     -999.0,9,     -999.0,9,     -999.0,9,        122,-999.000,-999.000,-999.000,     -999.0,9, -999.00,9, -999.00,9