BOTTLE,20230908CCHSIOCBG
EXPOCODE,SECT_ID,STNNBR,CASTNO,SAMPNO,BTLNBR,BTLNBR_FLAG_W,DATE,TIME,LATITUDE,LONGITUDE,DEPTH,CTDPRS,CTDTMP,CTDSAL,CTDSAL_FLAG_W,SALNTY,SALNTY_FLAG_W,CTDOXY,CTDOXY_FLAG_W,OXYGEN,OXYGEN_FLAG_W,SILCAT,SILCAT_FLAG_W,NITRAT,NITRAT_FLAG_W,NITRIT,NITRIT_FLAG_W,PHSPHT,PHSPHT_FLAG_W,CFC-11,CFC-11_FLAG_W,CFC-12,CFC-12_FLAG_W,CFC113,CFC113_FLAG_W,TCARBN,TCARBN_FLAG_W,ALKALI,ALKALI_FLAG_W,FCO2,FCO2_FLAG_W,FCO2TMP,PH_SWS,PH_SWS_FLAG_W,PH_TMP,TRITUM,TRITUM_FLAG_W,HELIUM,HELIUM_FLAG_W,DELHE3,DELHE3_FLAG_W,DELC13,DELC13_FLAG_W,DELC14,DELC14_FLAG_W,C14ERR,NEON,NEON_FLAG_W,NEONER,POC,POC_FLAG_W,DOC,DOC_FLAG_W,TDN,TDN_FLAG_W,CTDRAW,CDOM325,CDOM325_FLAG_W,CDOM340,CDOM340_FLAG_W,CDOM380,CDOM380_FLAG_W,CDOM412,CDOM412_FLAG_W,CDOMSL,CDOMSL_FLAG_W,CDOMSN,CDOMSN_FLAG_W,THETA,PON,PON_FLAG_W,HCFC-22,HCFC-22_FLAG_W,HCFC-142b,HCFC-142b_FLAG_W,HCFC-141b,HCFC-141b_FLAG_W,STNNBR_U,HELIER,DELHER,TRITER,CH3CL,CH3CL_FLAG_W,CH3BR,CH3BR_FLAG_W,CH3I,CH3I_FLAG_W
,,,,,,,,,,,METERS,DBAR,ITS-90,PSS-78,,PSS-78,,UMOL/KG,,UMOL/KG,,UMOL/KG,,UMOL/KG,,UMOL/KG,,UMOL/KG,,PMOL/KG,,PMOL/KG,,PMOL/KG,,UMOL/KG,,UMOL/KG,,UATM,,DEG C,,,DEG C,TU,,NMOL/KG,,PERCNT,,/MILLE,,/MILLE,,/MILLE,NMOL/KG,,NMOL/KG,UG/KG,,UMOL/KG,,UMOL/KG,,DBAR,1/M,,1/M,,1/M,,1/M,,1/NM,,1/NM,,DEG C,UMOL/L,,PMOL/KG,,PMOL/KG,,PMOL/KG,,,NMOL/KG,PERCNT,TU,PMOL/KG,,PMOL/KG,,PMOL/KG,
33RO200306_02,       A16N,     129,          1,         35,         35,2,20030803,       1723,     2.0002,   -25.0003,       3887,     4.1,  27.3010,  35.7017,2,  35.7066,2,    190.0,2,   205.6,2,    0.85,2,    0.13,2,    0.00,2,    0.05,2,   1.668,2,   1.075,2,   0.144,2,  1987.8,6,  2339.5,2,    266.6,2,    20.00,   8.1082,2,    25.00,   0.595,2,   1.695,2,  -2.264,2, -999.00,5,  -999.0,5,  -999.0,   6.583,2,   0.053,-999.000,9,   69.76,2,    6.95,2,    4.10,-999.0000,9,-999.0000,9,-999.0000,9,-999.0000,9,-999.0000,9,-999.0000,9,  27.3000,     -999.0,9,       2.84,2,       0.10,2,       0.18,2,        129,   0.003,    0.18,   0.010,      76.69,2,    2.92,2,    5.78,2
33RO200306_02,       A16N,     129,          1,         33,         33,2,20030803,       1723,     2.0002,   -25.0003,       3887,    19.6,  27.3051,  35.6996,2,  35.7054,2,    189.8,2,   204.3,2,    0.86,2,    0.14,2,    0.00,2,    0.05,2,   1.661,6,   1.070,6,   0.142,6,  1984.4,2,  2339.1,6,    267.1,6,    20.00,   8.1106,6,    25.00,-999.000,9,-999.000,9,-999.000,9, -999.00,9,  -999.0,9,  -999.0,-999.000,9,-999.000,-999.000,9,   71.39,2,    7.14,2,   19.60,-999.0000,9,-999.0000,9,-999.0000,9,-999.0000,9,-999.0000,9,-999.0000,9,  27.3006,     -999.0,9,       3.26,2,       0.20,2,       0.13,2,        129,-999.000,-999.000,-999.000,       97.9,2,    4.58,2,     6.0,2
33RO200306_02,       A16N,     129,          1,         32,         32,2,20030803,       1723,     2.0002,   -25.0003,       3887,    39.5,  27.2495,  35.6946,2,  35.7035,2,    189.8,2,   202.5,2,    0.90,2,    0.16,2,    0.00,2,    0.05,2,   1.671,2,   1.075,2,   0.138,2,  1987.6,2,  2337.2,2,    271.3,2,    20.00,   8.1106,2,    25.00,-999.000,9,-999.000,9,-999.000,9, -999.00,9,  -999.0,9,  -999.0,-999.000,9,-999.000,-999.000,9, -999.00,9, -999.00,9,   39.50,-999.0000,9,-999.0000,9,-999.0000,9,-999.0000,9,-999.0000,9,-999.0000,9,  27.2404,     -999.0,9,     -999.0,9,     -999.0,9,     -999.0,9,        129,-999.000,-999.000,-999.000,     -999.0,9, -999.00,9, -999.00,9
33RO200306_02,       A16N,     129,          1,         31,         31,2,20030803,       1723,     2.0002,   -25.0003,       3887,    58.5,  24.8788,  35.7569,2,  35.7714,2,    184.9,2,   187.6,2,    1.73,2,    1.73,2,    0.10,2,    0.26,2,   1.803,2,   1.115,2,   0.120,2,  2048.8,2,  2345.8,2,    354.5,2,    20.00,   8.0097,2,    25.00,-999.000,9,-999.000,9,-999.000,9, -999.00,9,  -999.0,9,  -999.0,-999.000,9,-999.000,-999.000,9,   63.74,2,    8.12,2,   58.50,-999.0000,9,-999.0000,9,-999.0000,9,-999.0000,9,-999.0000,9,-999.0000,9,  24.8661,     -999.0,9,       3.25,2,       0.11,2,       0.19,2,        129,-999.000,-999.000,-999.000,     100.73,2,    0.51,2,    6.27,2
33RO200306_02,       A16N,     129,          1,         30,         30,2,20030803,       1723,     2.0002,   -25.0003,       3887,    79.1,  17.6385,  35.6836,2,  35.6638,2,    127.8,2,   103.6,2,    5.33,2,   17.31,2,    0.08,2,    1.20,2,-999.000,9,-999.000,9,-999.000,9,  2169.5,2,  2339.5,2,    702.8,2,    20.00,   7.7836,2,    25.00,-999.000,9,-999.000,9,-999.000,9, -999.00,9,  -999.0,9,  -999.0,-999.000,9,-999.000,-999.000,9,   49.83,2,   21.10,2,   79.10,-999.0000,9,-999.0000,9,-999.0000,9,-999.0000,9,-999.0000,9,-999.0000,9,  17.6251,     -999.0,9,     -999.0,9,     -999.0,9,     -999.0,9,        129,-999.000,-999.000,-999.000,     -999.0,9, -999.00,9, -999.00,9
33RO200306_02,       A16N,     129,          1,         29,         29,2,20030803,       1723,     2.0002,   -25.0003,       3887,    99.9,  15.5739,  35.5888,2,  35.5881,2,     92.0,2,    98.1,2,    6.55,2,   20.68,2,    0.03,2,    1.40,2,   1.963,2,   1.110,2,   0.027,2,  2184.7,2,  2334.2,2,    793.8,2,    20.00,   7.7167,2,    25.00,-999.000,9,-999.000,9,-999.000,9, -999.00,9,  -999.0,9,  -999.0,-999.000,9,-999.000,-999.000,9, -999.00,9, -999.00,9,   99.90,-999.0000,9,-999.0000,9,-999.0000,9,-999.0000,9,-999.0000,9,-999.0000,9,  15.5583,     -999.0,9,       1.88,2,       0.00,2,       0.14,2,        129,-999.000,-999.000,-999.000,      11.32,2,    0.23,2,    0.52,2
33RO200306_02,       A16N,     129,          1,         28,         28,2,20030803,       1723,     2.0002,   -25.0003,       3887,   123.3,  15.1335,  35.5431,2,  35.5382,2,     90.4,2,    91.2,2,    7.26,2,   21.57,2,    0.01,2,    1.45,2,   1.887,2,   1.061,2,   0.016,2,  2189.2,2,  2330.0,2,    820.1,2,    20.00,   7.6948,2,    25.00,-999.000,9,-999.000,9,-999.000,9, -999.00,9,  -999.0,9,  -999.0,-999.000,9,-999.000,-999.000,9,   48.13,2,   25.52,2,  123.30,-999.0000,9,-999.0000,9,-999.0000,9,-999.0000,9,-999.0000,9,-999.0000,9,  15.1147,     -999.0,9,     -999.0,9,     -999.0,9,     -999.0,9,        129,-999.000,-999.000,-999.000,     -999.0,9, -999.00,9, -999.00,9
33RO200306_02,       A16N,     129,          1,         27,         27,2,20030803,       1723,     2.0002,   -25.0003,       3887,   149.9,  14.4689,  35.4591,2,  35.4626,2,     91.0,2,    99.6,2,    7.35,2,   21.62,2,    0.01,2,    1.45,2,   1.839,2,   1.011,2,   0.016,2,  2185.0,2,  2326.5,2,    818.1,2,    20.00,   7.7047,2,    25.00,-999.000,9,-999.000,9,-999.000,9, -999.00,9,  -999.0,9,  -999.0,-999.000,9,-999.000,-999.000,9, -999.00,9, -999.00,9,  149.90,-999.0000,9,-999.0000,9,-999.0000,9,-999.0000,9,-999.0000,9,-999.0000,9,  14.4467,     -999.0,9,       1.83,2,       0.00,2,       0.23,2,        129,-999.000,-999.000,-999.000,      14.87,2,    0.66,2,     0.9,2
33RO200306_02,       A16N,     129,          1,         26,         26,2,20030803,       1723,     2.0002,   -25.0003,       3887,   174.5,  14.0718,  35.4106,2,  35.4044,2,     97.3,2,    98.5,2,    7.94,2,   22.52,2,    0.01,2,    1.50,2,   1.756,2,   0.972,2,   0.015,2,  2188.9,2,  2324.7,2,   -999.0,9,  -999.00,   7.6929,2,    25.00,-999.000,9,-999.000,9,-999.000,9, -999.00,9,  -999.0,9,  -999.0,-999.000,9,-999.000,-999.000,9,   47.07,2,   26.97,2,  174.50,-999.0000,9,-999.0000,9,-999.0000,9,-999.0000,9,-999.0000,9,-999.0000,9,  14.0464,     -999.0,9,     -999.0,9,     -999.0,9,     -999.0,9,        129,-999.000,-999.000,-999.000,     -999.0,9, -999.00,9, -999.00,9
33RO200306_02,       A16N,     129,          1,         25,         25,2,20030803,       1723,     2.0002,   -25.0003,       3887,   199.8,  13.5985,  35.3508,2,  35.3517,2,     96.1,2,   100.8,2,    8.19,2,   22.75,2,    0.01,2,    1.51,2,-999.000,9,-999.000,9,-999.000,9,  2188.4,2,  2323.1,2,    856.6,2,    20.00,   7.6840,2,    25.00,-999.000,9,-999.000,9,-999.000,9, -999.00,9,  -999.0,9,  -999.0,-999.000,9,-999.000,-999.000,9,   47.32,2,   27.25,2,  199.80,-999.0000,9,-999.0000,9,-999.0000,9,-999.0000,9,-999.0000,9,-999.0000,9,  13.5701,     -999.0,9,       1.58,2,       0.09,2,       0.14,2,        129,-999.000,-999.000,-999.000,      25.71,2,    0.99,2,    0.13,2
33RO200306_02,       A16N,     129,          1,         24,         24,2,20030803,       1723,     2.0002,   -25.0003,       3887,   259.7,  12.7132,  35.2428,2,  35.2388,2,    114.4,2,   111.7,2,    8.86,2,   23.06,2,    0.01,2,    1.52,2,   1.665,2,   0.914,2,   0.018,2,  2185.1,2,  2318.6,2,   -999.0,9,  -999.00,   7.6825,2,    25.00,-999.000,9,-999.000,9,-999.000,9, -999.00,9,  -999.0,9,  -999.0,-999.000,9,-999.000,-999.000,9,   45.93,2,   26.31,2,  259.70,-999.0000,9,-999.0000,9,-999.0000,9,-999.0000,9,-999.0000,9,-999.0000,9,  12.6778,     -999.0,9,     -999.0,9,     -999.0,9,     -999.0,9,        129,-999.000,-999.000,-999.000,     -999.0,9, -999.00,9, -999.00,9
33RO200306_02,       A16N,     129,          1,         23,         23,2,20030803,       1723,     2.0002,   -25.0003,       3887,   299.5,  11.5925,  35.1246,2,  35.1251,2,     79.7,2,    79.0,2,   11.42,2,   28.56,2,    0.00,2,    1.82,2,-999.000,9,-999.000,9,-999.000,9,  2211.3,2,  2311.4,2,   1072.9,2,    20.00,   7.6015,2,    25.00,-999.000,9,-999.000,9,-999.000,9, -999.00,9,  -999.0,9,  -999.0,-999.000,9,-999.000,-999.000,9,   45.53,2,   34.43,2,  299.50,-999.0000,9,-999.0000,9,-999.0000,9,-999.0000,9,-999.0000,9,-999.0000,9,  11.5541,     -999.0,9,       0.89,2,       0.00,2,       0.14,2,        129,-999.000,-999.000,-999.000,       2.03,2,     0.0,2,    0.27,2
33RO200306_02,       A16N,     129,          1,         22,         22,2,20030803,       1723,     2.0002,   -25.0003,       3887,   349.1,   9.9276,  34.9390,2,  34.9396,2,     90.1,2,    88.7,2,   14.03,2,   30.79,2,    0.00,2,    1.96,2,   0.898,2,   0.480,2,   0.009,2,  2214.3,2,  2304.3,2,   -999.0,9,  -999.00,   7.5726,2,    25.00,   0.316,2,   1.773,2,   1.211,2, -999.00,9,  -999.0,9,  -999.0,   7.483,2,   0.066,-999.000,9,   43.90,2,   36.85,2,  349.10,-999.0000,9,-999.0000,9,-999.0000,9,-999.0000,9,-999.0000,9,-999.0000,9,   9.8870,     -999.0,9,     -999.0,9,     -999.0,9,     -999.0,9,        129,   0.003,   0.186,   0.010,     -999.0,9, -999.00,9, -999.00,9
33RO200306_02,       A16N,     129,          1,         21,         21,2,20030803,       1723,     2.0002,   -25.0003,       3887,   398.7,   8.3687,  34.7831,2,  34.7802,2,    117.8,2,   105.1,2,   17.14,2,   32.29,2,    0.00,2,    2.07,2,-999.000,9,-999.000,9,-999.000,9,  2214.9,2,  2300.6,2,   1174.5,2,    20.00,   7.5629,2,    25.00,-999.000,9,-999.000,9,-999.000,9, -999.00,9,  -999.0,9,  -999.0,-999.000,9,-999.000,-999.000,9,   42.44,2,   37.68,2,  398.70,-999.0000,9,-999.0000,9,-999.0000,9,-999.0000,9,-999.0000,9,-999.0000,9,   8.3269,     -999.0,9,     -999.0,9,     -999.0,9,     -999.0,9,        129,-999.000,-999.000,-999.000,     -999.0,9, -999.00,9, -999.00,9
33RO200306_02,       A16N,     129,          1,         20,         20,2,20030803,       1723,     2.0002,   -25.0003,       3887,   449.2,   7.3733,  34.6773,2,  34.6787,2,    118.8,2,   119.6,2,   19.43,2,   32.68,2,    0.00,2,    2.13,2,   0.584,2,   0.312,2,   0.011,2,  2212.1,2,  2300.9,2,   -999.0,9,  -999.00,   7.5633,2,    25.00,-999.000,9,-999.000,9,-999.000,9, -999.00,9,  -999.0,9,  -999.0,-999.000,9,-999.000,-999.000,9,   43.77,2,   36.55,2,  449.20,-999.0000,9,-999.0000,9,-999.0000,9,-999.0000,9,-999.0000,9,-999.0000,9,   7.3294,     -999.0,9,       0.32,2,       0.00,2,       0.08,2,        129,-999.000,-999.000,-999.000,       4.48,2,    0.06,2,    1.21,2
33RO200306_02,       A16N,     129,          1,         19,         19,2,20030803,       1723,     2.0002,   -25.0003,       3887,   494.9,   6.6543,  34.6086,2,  34.6090,2,    130.5,2,   133.0,2,   21.57,2,   32.87,2,    0.00,2,    2.17,2,-999.000,9,-999.000,9,-999.000,9,  2206.7,2,  2300.5,2,   1151.8,2,    20.00,   7.5716,2,    25.00,-999.000,9,-999.000,9,-999.000,9, -999.00,9,  -999.0,9,  -999.0,-999.000,9,-999.000,-999.000,9,   41.71,2,   37.80,2,  494.90,-999.0000,9,-999.0000,9,-999.0000,9,-999.0000,9,-999.0000,9,-999.0000,9,   6.6085,     -999.0,9,     -999.0,9,     -999.0,9,     -999.0,9,        129,-999.000,-999.000,-999.000,     -999.0,9, -999.00,9, -999.00,9
33RO200306_02,       A16N,     129,          1,         18,         18,2,20030803,       1723,     2.0002,   -25.0003,       3887,   548.9,   5.8433,  34.5342,2,  34.5344,2,    138.9,2,   146.7,2,   24.42,2,   33.60,2,    0.00,2,    2.25,2,   0.405,2,   0.212,2,   0.009,2,  2209.3,2,  2300.3,2,   -999.0,9,  -999.00,   7.5646,2,    25.00,   0.037,2,   1.784,2,   1.187,2, -999.00,9,  -999.0,9,  -999.0,   7.579,2,   0.066,-999.000,9,   40.65,2,   39.44,2,  548.90,-999.0000,9,-999.0000,9,-999.0000,9,-999.0000,9,-999.0000,9,-999.0000,9,   5.7958,     -999.0,9,     -999.0,9,     -999.0,9,     -999.0,9,        129,   0.003,   0.186,   0.000,     -999.0,9, -999.00,9, -999.00,9
33RO200306_02,       A16N,     129,          1,         17,         17,2,20030803,       1723,     2.0002,   -25.0003,       3887,   599.3,   5.4866,  34.5121,2,  34.5129,2,    141.5,2,   144.4,2,   26.00,2,   34.00,2,    0.00,2,    2.29,2,   0.326,2,   0.169,2,   0.008,2,  2210.9,2,  2300.2,6,   1175.7,2,    20.00,   7.5661,6,    25.00,-999.000,9,-999.000,9,-999.000,9, -999.00,9,  -999.0,9,  -999.0,-999.000,9,-999.000,-999.000,9,   40.65,2,   39.80,2,  599.30,-999.0000,9,-999.0000,9,-999.0000,9,-999.0000,9,-999.0000,9,-999.0000,9,   5.4362,     -999.0,9,       0.04,2,       0.00,2,       0.09,2,        129,-999.000,-999.000,-999.000,       6.06,2,    0.07,2,    0.11,2
33RO200306_02,       A16N,     129,          1,         16,         16,2,20030803,       1723,     2.0002,   -25.0003,       3887,   699.0,   5.2351,  34.5049,2,  34.5067,2,    144.8,2,   143.9,2,   27.67,2,   34.36,2,    0.00,2,    2.31,2,   0.232,2,   0.125,2,   0.007,2,  2213.2,2,  2299.4,2,   1190.6,2,    20.00,   7.5308,2,    25.00,-999.000,9,-999.000,9,-999.000,9, -999.00,9,  -999.0,9,  -999.0,-999.000,9,-999.000,-999.000,9,   40.41,2,   38.45,2,  699.00,-999.0000,9,-999.0000,9,-999.0000,9,-999.0000,9,-999.0000,9,-999.0000,9,   5.1771,     -999.0,9,     -999.0,9,     -999.0,9,     -999.0,9,        129,-999.000,-999.000,-999.000,     -999.0,9, -999.00,9, -999.00,9
33RO200306_02,       A16N,     129,          1,         15,         15,2,20030803,       1723,     2.0002,   -25.0003,       3887,   799.6,   4.9207,  34.5101,2,  34.5120,2,    151.2,2,   150.9,2,   29.28,2,   34.25,2,    0.00,2,    2.32,2,   0.180,2,   0.099,2,   0.003,2,  2213.5,2,  2303.0,2,   1174.1,2,    20.00,   7.5591,2,    25.00,-999.000,9,   1.792,2,   1.114,2, -999.00,9,  -999.0,9,  -999.0,   7.610,2,   0.059,-999.000,9,   40.81,2,   39.84,2,  799.60,-999.0000,9,-999.0000,9,-999.0000,9,-999.0000,9,-999.0000,9,-999.0000,9,   4.8557,     -999.0,9,     -999.0,9,     -999.0,9,     -999.0,9,        129,   0.003,   0.152,-999.000,     -999.0,9, -999.00,9, -999.00,9
33RO200306_02,       A16N,     129,          1,         14,         14,2,20030803,       1723,     2.0002,   -25.0003,       3887,   898.5,   4.7692,  34.5232,2,  34.5258,2,    155.0,2,   154.6,2,   30.14,2,   33.97,2,    0.00,2,    2.31,2,   0.157,2,   0.086,2,   0.005,2,  2215.1,2,  2303.7,2,   1165.4,2,    20.00,   7.5648,2,    25.00,-999.000,9,-999.000,9,-999.000,9, -999.00,9,  -999.0,9,  -999.0,-999.000,9,-999.000,-999.000,9,   41.00,2,   38.31,2,  898.50,-999.0000,9,-999.0000,9,-999.0000,9,-999.0000,9,-999.0000,9,-999.0000,9,   4.6966,     -999.0,9,       0.01,2,       0.00,2,       0.11,2,        129,-999.000,-999.000,-999.000,      14.68,2,    0.43,2,    0.26,2
33RO200306_02,       A16N,     129,          1,         13,         13,2,20030803,       1723,     2.0002,   -25.0003,       3887,   999.0,   4.6586,  34.5787,2,  34.5828,2,    155.2,2,   151.4,2,   30.47,2,   33.59,2,    0.00,2,    2.29,2,   0.071,2,   0.043,2,   0.006,2,  2217.2,6,  2306.5,2,   1149.5,2,    20.00,   7.5715,2,    25.00,-999.000,9,-999.000,9,-999.000,9, -999.00,9,  -999.0,9,  -999.0,-999.000,9,-999.000,-999.000,9,   40.17,2,   37.85,2,  999.00,-999.0000,9,-999.0000,9,-999.0000,9,-999.0000,9,-999.0000,9,-999.0000,9,   4.5778,     -999.0,9,     -999.0,9,     -999.0,9,     -999.0,9,        129,-999.000,-999.000,-999.000,     -999.0,9, -999.00,9, -999.00,9
33RO200306_02,       A16N,     129,          1,         12,         12,2,20030803,       1723,     2.0002,   -25.0003,       3887,  1099.5,   4.6523,  34.7443,2,  34.7459,2,    166.1,2,   162.9,2,   27.31,2,   30.50,2,    0.00,2,    2.08,2,   0.034,2,   0.019,2,   0.001,2,  2209.9,2,  2310.7,2,   1053.4,2,    20.00,   7.6051,2,    25.00,-999.000,9,-999.000,9,-999.000,9, -999.00,9,  -999.0,9,  -999.0,-999.000,9,-999.000,-999.000,9,   40.98,2,   34.83,2, 1099.50,-999.0000,9,-999.0000,9,-999.0000,9,-999.0000,9,-999.0000,9,-999.0000,9,   4.5624,     -999.0,9,     -999.0,9,     -999.0,9,     -999.0,9,        129,-999.000,-999.000,-999.000,     -999.0,9, -999.00,9, -999.00,9
33RO200306_02,       A16N,     129,          1,         11,         11,2,20030803,       1723,     2.0002,   -25.0003,       3887,  1198.5,   4.6600,  34.7983,2,  34.8023,2,    174.9,2,   172.9,2,   25.38,2,   28.82,2,    0.00,2,    1.96,2,   0.056,2,   0.031,2,   0.002,2,  2203.5,2,  2311.6,2,    995.9,2,    20.00,   7.6226,2,    25.00,-999.000,9,-999.000,9,-999.000,9, -999.00,9,  -999.0,9,  -999.0,-999.000,9,-999.000,-999.000,9,   40.57,2,   33.58,2, 1198.50,-999.0000,9,-999.0000,9,-999.0000,9,-999.0000,9,-999.0000,9,-999.0000,9,   4.5609,     -999.0,9,       0.00,2,       0.00,2,       0.10,2,        129,-999.000,-999.000,-999.000,       2.23,2,     0.0,2,     0.0,2
33RO200306_02,       A16N,     129,          1,         10,         10,2,20030803,       1723,     2.0002,   -25.0003,       3887,  1298.7,   4.6515,  34.8681,2,  34.8684,2,    187.5,2,   188.7,2,   23.14,2,   26.84,2,    0.00,2,    1.82,2,   0.079,2,   0.041,2,   0.002,2,  2197.7,2,  2313.0,2,    937.4,2,    20.00,   7.6466,2,    25.00,-999.000,9,-999.000,9,-999.000,9, -999.00,9,  -999.0,9,  -999.0,-999.000,9,-999.000,-999.000,9,   40.24,2,   30.97,2, 1298.70,-999.0000,9,-999.0000,9,-999.0000,9,-999.0000,9,-999.0000,9,-999.0000,9,   4.5432,     -999.0,9,     -999.0,9,     -999.0,9,     -999.0,9,        129,-999.000,-999.000,-999.000,     -999.0,9, -999.00,9, -999.00,9
33RO200306_02,       A16N,     129,          1,          9,          9,2,20030803,       1723,     2.0002,   -25.0003,       3887,  1498.9,   4.2599,  34.9635,2,  34.9681,2,    225.0,2,   230.4,2,   18.51,2,   21.99,2,    0.00,2,    1.49,2,   0.132,2,   0.071,2,   0.004,2,  2175.5,2,  2315.0,2,    808.6,2,    20.00,   7.7080,2,    25.00,-999.000,9,   1.854,2,   2.364,2, -999.00,9,  -999.0,9,  -999.0,   1.454,4,   0.005,-999.000,9,   41.71,2,   26.75,2, 1498.90,-999.0000,9,-999.0000,9,-999.0000,9,-999.0000,9,-999.0000,9,-999.0000,9,   4.1369,     -999.0,9,       0.00,2,       0.00,2,       0.03,2,        129,   0.027,   0.126,-999.000,       4.17,2,    0.16,2,     0.0,2
33RO200306_02,       A16N,     129,          1,          8,          8,2,20030803,       1723,     2.0002,   -25.0003,       3887,  1699.7,   3.8994,  34.9751,2,  34.9762,2,    240.4,2,   244.4,2,   18.30,2,   20.49,2,    0.00,2,    1.39,2,   0.085,2,   0.048,2,   0.003,2,  2168.8,2,  2315.0,2,   -999.0,9,  -999.00,   7.7282,2,    25.00,   0.079,2,   1.850,2,   1.906,2, -999.00,9,  -999.0,9,  -999.0,   7.960,2,   0.027,-999.000,9,   41.87,2,   24.68,2, 1699.70,-999.0000,9,-999.0000,9,-999.0000,9,-999.0000,9,-999.0000,9,-999.0000,9,   3.7620,     -999.0,9,     -999.0,9,     -999.0,9,     -999.0,9,        129,   0.003,   0.125,   0.070,     -999.0,9, -999.00,9, -999.00,9