BOTTLE,20230908CCHSIOCBG
EXPOCODE,SECT_ID,STNNBR,CASTNO,SAMPNO,BTLNBR,BTLNBR_FLAG_W,DATE,TIME,LATITUDE,LONGITUDE,DEPTH,CTDPRS,CTDTMP,CTDSAL,CTDSAL_FLAG_W,SALNTY,SALNTY_FLAG_W,CTDOXY,CTDOXY_FLAG_W,OXYGEN,OXYGEN_FLAG_W,SILCAT,SILCAT_FLAG_W,NITRAT,NITRAT_FLAG_W,NITRIT,NITRIT_FLAG_W,PHSPHT,PHSPHT_FLAG_W,CFC-11,CFC-11_FLAG_W,CFC-12,CFC-12_FLAG_W,CFC113,CFC113_FLAG_W,TCARBN,TCARBN_FLAG_W,ALKALI,ALKALI_FLAG_W,FCO2,FCO2_FLAG_W,FCO2TMP,PH_SWS,PH_SWS_FLAG_W,PH_TMP,TRITUM,TRITUM_FLAG_W,HELIUM,HELIUM_FLAG_W,DELHE3,DELHE3_FLAG_W,DELC13,DELC13_FLAG_W,DELC14,DELC14_FLAG_W,C14ERR,NEON,NEON_FLAG_W,NEONER,POC,POC_FLAG_W,DOC,DOC_FLAG_W,TDN,TDN_FLAG_W,CTDRAW,CDOM325,CDOM325_FLAG_W,CDOM340,CDOM340_FLAG_W,CDOM380,CDOM380_FLAG_W,CDOM412,CDOM412_FLAG_W,CDOMSL,CDOMSL_FLAG_W,CDOMSN,CDOMSN_FLAG_W,THETA,PON,PON_FLAG_W,HCFC-22,HCFC-22_FLAG_W,HCFC-142b,HCFC-142b_FLAG_W,HCFC-141b,HCFC-141b_FLAG_W,STNNBR_U,HELIER,DELHER,TRITER,CH3CL,CH3CL_FLAG_W,CH3BR,CH3BR_FLAG_W,CH3I,CH3I_FLAG_W
,,,,,,,,,,,METERS,DBAR,ITS-90,PSS-78,,PSS-78,,UMOL/KG,,UMOL/KG,,UMOL/KG,,UMOL/KG,,UMOL/KG,,UMOL/KG,,PMOL/KG,,PMOL/KG,,PMOL/KG,,UMOL/KG,,UMOL/KG,,UATM,,DEG C,,,DEG C,TU,,NMOL/KG,,PERCNT,,/MILLE,,/MILLE,,/MILLE,NMOL/KG,,NMOL/KG,UG/KG,,UMOL/KG,,UMOL/KG,,DBAR,1/M,,1/M,,1/M,,1/M,,1/NM,,1/NM,,DEG C,UMOL/L,,PMOL/KG,,PMOL/KG,,PMOL/KG,,,NMOL/KG,PERCNT,TU,PMOL/KG,,PMOL/KG,,PMOL/KG,
33RO200306_01,       A16N,     055,          2,         35,         35,2,20030703,       2329,    38.0003,   -20.0015,       5134,     3.5,  21.3798,  36.3399,2,  36.3419,2,    224.2,2,   224.0,2,    0.95,2,    0.00,2,    0.00,2,    0.01,2,   2.255,2,   1.394,2,   0.194,2,  2085.9,6,  -999.0,9,    371.2,2,    20.00,-999.0000,9,  -999.00,-999.000,9,-999.000,9,-999.000,9, -999.00,9,  -999.0,9,  -999.0,-999.000,9,-999.000,-999.000,9,   66.18,2,    5.80,2,    3.50,-999.0000,9,-999.0000,9,-999.0000,9,-999.0000,9,-999.0000,9,-999.0000,9,  21.3791,     -999.0,9,     -999.0,9,     -999.0,9,     -999.0,9,         55,-999.000,-999.000,-999.000,     -999.0,9, -999.00,9, -999.00,9
33RO200306_01,       A16N,     055,          2,         33,         33,2,20030703,       2329,    38.0003,   -20.0015,       5134,    14.9,  21.0912,  36.3368,2,  36.3296,2,    225.2,2,   228.2,2,    0.86,2,    0.00,2,    0.01,2,    0.00,2,   2.283,2,   1.403,2,   0.201,2,  2082.8,2,  2379.8,6,   -999.0,9,  -999.00,   7.9986,6,    25.00,-999.000,9,-999.000,9,-999.000,9, -999.00,9,  -999.0,9,  -999.0,-999.000,9,-999.000,-999.000,9,   63.98,2,    6.27,2,   14.90,-999.0000,9,-999.0000,9,-999.0000,9,-999.0000,9,-999.0000,9,-999.0000,9,  21.0883,     -999.0,9,     -999.0,9,     -999.0,9,     -999.0,9,         55,-999.000,-999.000,-999.000,     -999.0,9, -999.00,9, -999.00,9
33RO200306_01,       A16N,     055,          2,         32,         32,2,20030703,       2329,    38.0003,   -20.0015,       5134,    44.9,  17.3089,  36.1794,2,  36.1744,2,    260.4,2,   260.0,2,    0.82,2,    0.00,2,    0.01,2,    0.01,2,   2.738,2,   1.646,2,   0.228,2,  2078.0,2,  2379.7,2,    372.9,2,    20.00,   8.0089,2,    25.00,-999.000,9,-999.000,9,-999.000,9, -999.00,9,  -999.0,9,  -999.0,-999.000,9,-999.000,-999.000,9,   61.46,2,    7.00,2,   44.90,-999.0000,9,-999.0000,9,-999.0000,9,-999.0000,9,-999.0000,9,-999.0000,9,  17.3014,     -999.0,9,     -999.0,9,     -999.0,9,     -999.0,9,         55,-999.000,-999.000,-999.000,     -999.0,9, -999.00,9, -999.00,9
33RO200306_01,       A16N,     055,          2,         31,         31,2,20030703,       2329,    38.0003,   -20.0015,       5134,    64.3,  16.5639,  36.1702,2,  36.1649,2,    254.4,2,   253.3,2,    0.97,2,    0.10,2,    0.03,2,    0.02,2,   2.824,2,   1.741,2,   0.249,2,  2084.7,2,  2369.2,2,   -999.0,9,  -999.00,   7.9985,2,    25.00,-999.000,9,-999.000,9,-999.000,9, -999.00,9,  -999.0,9,  -999.0,-999.000,9,-999.000,-999.000,9, -999.00,9, -999.00,9,   64.30,-999.0000,9,-999.0000,9,-999.0000,9,-999.0000,9,-999.0000,9,-999.0000,9,  16.5534,     -999.0,9,     -999.0,9,     -999.0,9,     -999.0,9,         55,-999.000,-999.000,-999.000,     -999.0,9, -999.00,9, -999.00,9
33RO200306_01,       A16N,     055,          2,         30,         30,2,20030703,       2329,    38.0003,   -20.0015,       5134,    92.1,  15.8670,  36.1331,2,  36.1251,2,    236.7,2,   238.2,2,    1.25,2,    1.49,2,    0.21,2,    0.11,2,   2.780,2,   1.662,2,   0.220,2,  2099.1,6,  2369.5,2,   -999.0,9,  -999.00,   7.9850,2,    25.00,-999.000,9,-999.000,9,-999.000,9, -999.00,9,  -999.0,9,  -999.0,-999.000,9,-999.000,-999.000,9,   60.17,2,    8.46,2,   92.10,-999.0000,9,-999.0000,9,-999.0000,9,-999.0000,9,-999.0000,9,-999.0000,9,  15.8524,     -999.0,9,     -999.0,9,     -999.0,9,     -999.0,9,         55,-999.000,-999.000,-999.000,     -999.0,9, -999.00,9, -999.00,9
33RO200306_01,       A16N,     055,          2,         29,         29,2,20030703,       2329,    38.0003,   -20.0015,       5134,   108.5,  15.4436,  36.0874,2,  36.0878,2,    234.0,2,   235.1,2,    1.35,2,    2.39,2,    0.28,2,    0.17,2,   2.793,2,   1.660,2,   0.221,2,  2105.3,2,  2365.7,2,    438.0,3,    20.00,   7.9540,2,    25.00,-999.000,9,-999.000,9,-999.000,9, -999.00,9,  -999.0,9,  -999.0,-999.000,9,-999.000,-999.000,9, -999.00,9, -999.00,9,  108.50,-999.0000,9,-999.0000,9,-999.0000,9,-999.0000,9,-999.0000,9,-999.0000,9,  15.4267,     -999.0,9,     -999.0,9,     -999.0,9,     -999.0,9,         55,-999.000,-999.000,-999.000,     -999.0,9, -999.00,9, -999.00,9
33RO200306_01,       A16N,     055,          2,         28,         28,2,20030703,       2329,    38.0003,   -20.0015,       5134,   139.4,  15.1665,  36.0674,2,  36.0658,2,    223.7,2,   228.2,2,    1.77,2,    5.04,2,    0.03,2,    0.30,2,   2.806,2,   1.668,2,   0.177,2,  2112.1,2,  2361.9,2,   -999.0,9,  -999.00,   7.9376,2,    25.00,-999.000,9,-999.000,9,-999.000,9, -999.00,9,  -999.0,9,  -999.0,-999.000,9,-999.000,-999.000,9,   53.66,2,   10.04,2,  139.40,-999.0000,9,-999.0000,9,-999.0000,9,-999.0000,9,-999.0000,9,-999.0000,9,  15.1451,     -999.0,9,     -999.0,9,     -999.0,9,     -999.0,9,         55,-999.000,-999.000,-999.000,     -999.0,9, -999.00,9, -999.00,9
33RO200306_01,       A16N,     055,          2,         27,         27,2,20030703,       2329,    38.0003,   -20.0015,       5134,   164.8,  14.9022,  36.0359,2,  36.0359,2,    225.3,2,   220.2,2,    2.12,2,    6.23,2,    0.03,2,    0.37,2,   2.785,2,   1.634,2,   0.139,2,  2117.8,2,  2359.9,2,   -999.0,9,  -999.00,   7.9230,2,    25.00,-999.000,9,-999.000,9,-999.000,9, -999.00,9,  -999.0,9,  -999.0,-999.000,9,-999.000,-999.000,9, -999.00,9, -999.00,9,  164.80,-999.0000,9,-999.0000,9,-999.0000,9,-999.0000,9,-999.0000,9,-999.0000,9,  14.8772,     -999.0,9,     -999.0,9,     -999.0,9,     -999.0,9,         55,-999.000,-999.000,-999.000,     -999.0,9, -999.00,9, -999.00,9
33RO200306_01,       A16N,     055,          2,         26,         26,2,20030703,       2329,    38.0003,   -20.0015,       5134,   189.7,  14.7365,  36.0231,2,  36.0152,2,    225.4,2,   225.9,2,    1.87,2,    5.46,2,    0.02,2,    0.34,2,   2.849,2,   1.681,2,   0.168,2,  2116.9,2,  2358.1,2,    467.4,2,    20.00,   7.9108,2,    25.00,-999.000,9,-999.000,9,-999.000,9, -999.00,9,  -999.0,9,  -999.0,-999.000,9,-999.000,-999.000,9,   53.58,2,   10.95,2,  189.70,-999.0000,9,-999.0000,9,-999.0000,9,-999.0000,9,-999.0000,9,-999.0000,9,  14.7079,     -999.0,9,     -999.0,9,     -999.0,9,     -999.0,9,         55,-999.000,-999.000,-999.000,     -999.0,9, -999.00,9, -999.00,9
33RO200306_01,       A16N,     055,          2,         25,         25,2,20030703,       2329,    38.0003,   -20.0015,       5134,   225.3,  14.2278,  35.9428,2,  35.9338,2,    221.5,2,   220.5,2,    2.35,2,    7.15,2,    0.02,2,    0.44,2,   2.851,2,   1.665,2,   0.123,2,  2123.1,2,  2356.6,2,   -999.0,9,  -999.00,   7.9123,2,    25.00,-999.000,9,-999.000,9,-999.000,9, -999.00,9,  -999.0,9,  -999.0,-999.000,9,-999.000,-999.000,9,   51.71,2,   11.48,2,  225.30,-999.0000,9,-999.0000,9,-999.0000,9,-999.0000,9,-999.0000,9,-999.0000,9,  14.1946,     -999.0,9,     -999.0,9,     -999.0,9,     -999.0,9,         55,-999.000,-999.000,-999.000,     -999.0,9, -999.00,9, -999.00,9
33RO200306_01,       A16N,     055,          2,         24,         24,2,20030703,       2329,    38.0003,   -20.0015,       5134,   258.5,  13.7654,  35.8683,2,  35.8725,2,    222.0,2,   221.8,2,    2.62,2,    7.77,2,    0.01,2,    0.47,2,   2.922,2,   1.711,2,   0.128,2,  2125.9,2,  2354.3,2,   -999.0,9,  -999.00,   7.8897,2,    25.00,-999.000,9,-999.000,9,-999.000,9, -999.00,9,  -999.0,9,  -999.0,-999.000,9,-999.000,-999.000,9,   53.34,2,   13.66,2,  258.50,-999.0000,9,-999.0000,9,-999.0000,9,-999.0000,9,-999.0000,9,-999.0000,9,  13.7281,     -999.0,9,     -999.0,9,     -999.0,9,     -999.0,9,         55,-999.000,-999.000,-999.000,     -999.0,9, -999.00,9, -999.00,9
33RO200306_01,       A16N,     055,          2,         23,         23,2,20030703,       2329,    38.0003,   -20.0015,       5134,   325.2,  13.2913,  35.7956,2,  35.7951,2,    218.0,2,   217.9,2,    3.30,2,    9.32,2,    0.01,2,    0.57,2,   2.883,2,   1.659,2,   0.111,2,  2130.6,2,  2349.2,2,    541.3,3,    20.00,   7.8817,2,    25.00,-999.000,9,-999.000,9,-999.000,9, -999.00,9,  -999.0,9,  -999.0,-999.000,9,-999.000,-999.000,9,   53.49,2,   13.53,2,  325.20,-999.0000,9,-999.0000,9,-999.0000,9,-999.0000,9,-999.0000,9,-999.0000,9,  13.2454,     -999.0,9,     -999.0,9,     -999.0,9,     -999.0,9,         55,-999.000,-999.000,-999.000,     -999.0,9, -999.00,9, -999.00,9
33RO200306_01,       A16N,     055,          2,         22,         22,2,20030703,       2329,    38.0003,   -20.0015,       5134,   334.3,  13.2308,  35.7853,2,  35.7833,2,    216.8,2,   216.1,2,    3.46,2,    9.70,2,    0.01,2,    0.59,2,   2.861,2,   1.638,2,   0.105,2,  2131.3,2,  2344.8,2,   -999.0,9,  -999.00,   7.8624,2,    25.00,-999.000,9,-999.000,9,-999.000,9, -999.00,9,  -999.0,9,  -999.0,-999.000,9,-999.000,-999.000,9,   51.39,2,   14.15,2,  334.30,-999.0000,9,-999.0000,9,-999.0000,9,-999.0000,9,-999.0000,9,-999.0000,9,  13.1837,     -999.0,9,     -999.0,9,     -999.0,9,     -999.0,9,         55,-999.000,-999.000,-999.000,     -999.0,9, -999.00,9, -999.00,9
33RO200306_01,       A16N,     055,          2,         21,         21,2,20030703,       2329,    38.0003,   -20.0015,       5134,   444.7,  12.2727,  35.6489,2,  35.6467,2,    203.2,2,   205.5,2,    4.69,2,   12.41,2,    0.01,2,    0.75,2,   2.808,2,   1.580,2,   0.086,2,  2143.1,2,  2344.5,2,   -999.0,9,  -999.00,   7.8608,2,    25.00,-999.000,9,-999.000,9,-999.000,9, -999.00,9,  -999.0,9,  -999.0,-999.000,9,-999.000,-999.000,9,   51.05,2,   16.90,2,  444.70,-999.0000,9,-999.0000,9,-999.0000,9,-999.0000,9,-999.0000,9,-999.0000,9,  12.2128,     -999.0,9,     -999.0,9,     -999.0,9,     -999.0,9,         55,-999.000,-999.000,-999.000,     -999.0,9, -999.00,9, -999.00,9
33RO200306_01,       A16N,     055,          2,         20,         20,2,20030703,       2329,    38.0003,   -20.0015,       5134,   549.8,  11.2862,  35.5463,2,  35.5448,2,    193.8,2,   220.0,3,    6.38,2,   15.30,2,    0.01,2,    0.92,2,   2.491,2,   1.336,2,   0.064,2,  2156.0,2,  2337.2,2,    651.4,2,    20.00,   7.8180,2,    25.00,-999.000,9,-999.000,9,-999.000,9, -999.00,9,  -999.0,9,  -999.0,-999.000,9,-999.000,-999.000,9,   50.32,2,   19.03,2,  549.80,-999.0000,9,-999.0000,9,-999.0000,9,-999.0000,9,-999.0000,9,-999.0000,9,  11.2158,     -999.0,9,     -999.0,9,     -999.0,9,     -999.0,9,         55,-999.000,-999.000,-999.000,     -999.0,9, -999.00,9, -999.00,9
33RO200306_01,       A16N,     055,          2,         19,         19,2,20030703,       2329,    38.0003,   -20.0015,       5134,   655.3,  10.6333,  35.5086,2,  35.5089,2,    189.6,2,   188.2,2,    7.65,2,   16.66,2,    0.01,2,    1.01,2,   2.182,2,   1.159,2,   0.059,2,  2165.2,2,  2332.8,2,   -999.0,9,  -999.00,   7.7872,2,    25.00,-999.000,9,-999.000,9,-999.000,9, -999.00,9,  -999.0,9,  -999.0,-999.000,9,-999.000,-999.000,9,   49.19,2,   20.03,2,  655.30,-999.0000,9,-999.0000,9,-999.0000,9,-999.0000,9,-999.0000,9,-999.0000,9,  10.5521,     -999.0,9,     -999.0,9,     -999.0,9,     -999.0,9,         55,-999.000,-999.000,-999.000,     -999.0,9, -999.00,9, -999.00,9
33RO200306_01,       A16N,     055,          2,         18,         18,2,20030703,       2329,    38.0003,   -20.0015,       5134,   790.4,  10.1189,  35.5954,2,  35.6070,3,    185.4,2,   183.5,2,    9.02,2,   17.42,2,    0.00,2,    1.07,2,   1.744,2,   0.911,2,   0.039,2,  2178.2,2,  2333.2,2,    700.4,3,    20.00,   7.7674,2,    25.00,-999.000,9,-999.000,9,-999.000,9, -999.00,9,  -999.0,9,  -999.0,-999.000,9,-999.000,-999.000,9,   48.46,2,   20.97,2,  790.40,-999.0000,9,-999.0000,9,-999.0000,9,-999.0000,9,-999.0000,9,-999.0000,9,  10.0231,     -999.0,9,     -999.0,9,     -999.0,9,     -999.0,9,         55,-999.000,-999.000,-999.000,     -999.0,9, -999.00,9, -999.00,9
33RO200306_01,       A16N,     055,          2,         17,         17,2,20030703,       2329,    38.0003,   -20.0015,       5134,   949.5,  10.0083,  35.7950,2,  35.7972,2,    184.7,2,   183.0,2,    9.70,2,   17.15,2,    0.00,2,    1.05,2,   1.467,2,   0.769,2,   0.030,2,  2189.1,6,  2344.0,2,   -999.0,9,  -999.00,   7.7620,2,    25.00,-999.000,9,-999.000,9,-999.000,9, -999.00,9,  -999.0,9,  -999.0,-999.000,9,-999.000,-999.000,9,   47.40,2,   21.00,2,  949.50,-999.0000,9,-999.0000,9,-999.0000,9,-999.0000,9,-999.0000,9,-999.0000,9,   9.8928,     -999.0,9,     -999.0,9,     -999.0,9,     -999.0,9,         55,-999.000,-999.000,-999.000,     -999.0,9, -999.00,9, -999.00,9
33RO200306_01,       A16N,     055,          2,         16,         16,2,20030703,       2329,    38.0003,   -20.0015,       5134,  1094.7,   9.8255,  35.9014,2,  35.8987,2,    187.9,2,   187.1,2,   10.07,2,   16.84,2,    0.00,2,    1.03,2,   1.352,2,   0.709,2,   0.029,2,  2195.8,2,  2360.8,6,    679.4,3,    20.00,   7.7713,6,    25.00,-999.000,9,-999.000,9,-999.000,9, -999.00,9,  -999.0,9,  -999.0,-999.000,9,-999.000,-999.000,9,   46.91,2,   20.15,2, 1094.70,-999.0000,9,-999.0000,9,-999.0000,9,-999.0000,9,-999.0000,9,-999.0000,9,   9.6927,     -999.0,9,     -999.0,9,     -999.0,9,     -999.0,9,         55,-999.000,-999.000,-999.000,     -999.0,9, -999.00,9, -999.00,9
33RO200306_01,       A16N,     055,          2,         15,         15,2,20030703,       2329,    38.0003,   -20.0015,       5134,  1250.4,   8.7373,  35.7662,2,  35.7660,2,    195.7,2,   198.6,2,   10.78,2,   17.09,2,    0.00,2,    1.05,2,   1.301,2,   0.669,2,   0.033,2,  2193.7,2,  2366.5,2,   -999.0,9,  -999.00,   7.7694,2,    25.00,-999.000,9,-999.000,9,-999.000,9, -999.00,9,  -999.0,9,  -999.0,-999.000,9,-999.000,-999.000,9,   46.02,2,   20.86,2, 1250.40,-999.0000,9,-999.0000,9,-999.0000,9,-999.0000,9,-999.0000,9,-999.0000,9,   8.5943,     -999.0,9,     -999.0,9,     -999.0,9,     -999.0,9,         55,-999.000,-999.000,-999.000,     -999.0,9, -999.00,9, -999.00,9
33RO200306_01,       A16N,     055,          2,         14,         14,2,20030703,       2329,    38.0003,   -20.0015,       5134,  1450.3,   6.3684,  35.3781,2,  35.3773,2,    219.7,2,   227.9,2,   11.73,2,   17.68,2,    0.00,2,    1.11,2,   1.392,2,   0.695,2,   0.048,2,  2179.3,2,  2361.1,2,   -999.0,9,  -999.00,   7.7640,2,    25.00,-999.000,9,-999.000,9,-999.000,9, -999.00,9,  -999.0,9,  -999.0,-999.000,9,-999.000,-999.000,9,   45.12,2,   21.71,2, 1450.30,-999.0000,9,-999.0000,9,-999.0000,9,-999.0000,9,-999.0000,9,-999.0000,9,   6.2263,     -999.0,9,     -999.0,9,     -999.0,9,     -999.0,9,         55,-999.000,-999.000,-999.000,     -999.0,9, -999.00,9, -999.00,9
33RO200306_01,       A16N,     055,          2,         13,         13,2,20030703,       2329,    38.0003,   -20.0015,       5134,  1724.2,   4.6066,  35.1023,2,  35.1052,2,    247.5,2,   251.4,2,   12.42,2,   17.69,2,    0.00,2,    1.13,2,   1.446,2,   0.712,2,   0.056,2,  -999.0,9,  2337.3,2,   -999.0,9,  -999.00,   7.7405,2,    25.00,-999.000,9,-999.000,9,-999.000,9, -999.00,9,  -999.0,9,  -999.0,-999.000,9,-999.000,-999.000,9,   45.44,2,   21.30,2, 1724.20,-999.0000,9,-999.0000,9,-999.0000,9,-999.0000,9,-999.0000,9,-999.0000,9,   4.4575,     -999.0,9,     -999.0,9,     -999.0,9,     -999.0,9,         55,-999.000,-999.000,-999.000,     -999.0,9, -999.00,9, -999.00,9
33RO200306_01,       A16N,     055,          2,         12,         12,2,20030703,       2329,    38.0003,   -20.0015,       5134,  2050.0,   3.8494,  35.0137,2,  35.0147,2,    260.2,2,   260.7,2,   14.92,2,   17.79,2,    0.00,2,    1.15,2,   0.958,2,   0.481,2,   0.041,2,  2163.7,2,  2317.2,2,    743.4,2,    20.00,   7.7311,2,    25.00,-999.000,9,-999.000,9,-999.000,9, -999.00,9,  -999.0,9,  -999.0,-999.000,9,-999.000,-999.000,9,   45.20,2,   21.76,2, 2050.00,-999.0000,9,-999.0000,9,-999.0000,9,-999.0000,9,-999.0000,9,-999.0000,9,   3.6791,     -999.0,9,     -999.0,9,     -999.0,9,     -999.0,9,         55,-999.000,-999.000,-999.000,     -999.0,9, -999.00,9, -999.00,9
33RO200306_01,       A16N,     055,          2,         11,         11,2,20030703,       2329,    38.0003,   -20.0015,       5134,  2349.3,   3.4075,  34.9861,2,  34.9860,2,    259.2,2,   256.0,2,   19.96,2,   18.37,2,    0.00,2,    1.21,2,   0.407,2,   0.212,2,   0.017,2,  2167.9,2,  2314.3,2,   -999.0,9,  -999.00,   7.7379,2,    25.00,-999.000,9,-999.000,9,-999.000,9, -999.00,9,  -999.0,9,  -999.0,-999.000,9,-999.000,-999.000,9,   43.98,2,   22.89,2, 2349.30,-999.0000,9,-999.0000,9,-999.0000,9,-999.0000,9,-999.0000,9,-999.0000,9,   3.2150,     -999.0,9,     -999.0,9,     -999.0,9,     -999.0,9,         55,-999.000,-999.000,-999.000,     -999.0,9, -999.00,9, -999.00,9
33RO200306_01,       A16N,     055,          2,         10,         10,2,20030703,       2329,    38.0003,   -20.0015,       5134,  2649.5,   3.0778,  34.9643,2,  34.9643,2,    255.7,2,   252.6,2,   34.71,2,   20.42,2,    0.01,2,    1.37,2,   0.225,2,   0.121,2,   0.006,2,  2173.9,2,  2318.2,2,   -999.0,9,  -999.00,   7.7368,2,    25.00,-999.000,9,-999.000,9,-999.000,9, -999.00,9,  -999.0,9,  -999.0,-999.000,9,-999.000,-999.000,9,   43.17,2,   24.85,2, 2649.50,-999.0000,9,-999.0000,9,-999.0000,9,-999.0000,9,-999.0000,9,-999.0000,9,   2.8614,     -999.0,9,     -999.0,9,     -999.0,9,     -999.0,9,         55,-999.000,-999.000,-999.000,     -999.0,9, -999.00,9, -999.00,9
33RO200306_01,       A16N,     055,          2,          9,          9,2,20030703,       2329,    38.0003,   -20.0015,       5134,  2948.2,   2.8443,  34.9476,2,  34.9462,2,    251.9,2,   251.1,2,   30.26,2,   19.74,2,    0.01,2,    1.31,2,   0.154,2,   0.082,2,   0.006,2,  2181.7,2,  2325.3,2,   -999.0,9,  -999.00,   7.7390,2,    25.00,-999.000,9,-999.000,9,-999.000,9, -999.00,9,  -999.0,9,  -999.0,-999.000,9,-999.000,-999.000,9,   42.52,2,   24.14,2, 2948.20,-999.0000,9,-999.0000,9,-999.0000,9,-999.0000,9,-999.0000,9,-999.0000,9,   2.6022,     -999.0,9,     -999.0,9,     -999.0,9,     -999.0,9,         55,-999.000,-999.000,-999.000,     -999.0,9, -999.00,9, -999.00,9
33RO200306_01,       A16N,     055,          2,          8,          8,2,20030703,       2329,    38.0003,   -20.0015,       5134,  3250.2,   2.7096,  34.9351,2,  34.9337,2,    247.8,2,   248.0,2,   34.90,2,   20.46,2,    0.01,2,    1.36,2,   0.112,2,   0.062,2,   0.006,2,  2188.1,2,  -999.0,9,   -999.0,9,  -999.00,-999.0000,9,  -999.00,-999.000,9,-999.000,9,-999.000,9, -999.00,9,  -999.0,9,  -999.0,-999.000,9,-999.000,-999.000,9,   41.14,2,   25.08,2, 3250.20,-999.0000,9,-999.0000,9,-999.0000,9,-999.0000,9,-999.0000,9,-999.0000,9,   2.4389,     -999.0,9,     -999.0,9,     -999.0,9,     -999.0,9,         55,-999.000,-999.000,-999.000,     -999.0,9, -999.00,9, -999.00,9