BOTTLE,20230908CCHSIOCBG
EXPOCODE,SECT_ID,STNNBR,CASTNO,SAMPNO,BTLNBR,BTLNBR_FLAG_W,DATE,TIME,LATITUDE,LONGITUDE,DEPTH,CTDPRS,CTDTMP,CTDSAL,CTDSAL_FLAG_W,SALNTY,SALNTY_FLAG_W,CTDOXY,CTDOXY_FLAG_W,OXYGEN,OXYGEN_FLAG_W,SILCAT,SILCAT_FLAG_W,NITRAT,NITRAT_FLAG_W,NITRIT,NITRIT_FLAG_W,PHSPHT,PHSPHT_FLAG_W,CFC-11,CFC-11_FLAG_W,CFC-12,CFC-12_FLAG_W,CFC113,CFC113_FLAG_W,TCARBN,TCARBN_FLAG_W,ALKALI,ALKALI_FLAG_W,FCO2,FCO2_FLAG_W,FCO2TMP,PH_SWS,PH_SWS_FLAG_W,PH_TMP,TRITUM,TRITUM_FLAG_W,HELIUM,HELIUM_FLAG_W,DELHE3,DELHE3_FLAG_W,DELC13,DELC13_FLAG_W,DELC14,DELC14_FLAG_W,C14ERR,NEON,NEON_FLAG_W,NEONER,POC,POC_FLAG_W,DOC,DOC_FLAG_W,TDN,TDN_FLAG_W,CTDRAW,CDOM325,CDOM325_FLAG_W,CDOM340,CDOM340_FLAG_W,CDOM380,CDOM380_FLAG_W,CDOM412,CDOM412_FLAG_W,CDOMSL,CDOMSL_FLAG_W,CDOMSN,CDOMSN_FLAG_W,THETA,PON,PON_FLAG_W,HCFC-22,HCFC-22_FLAG_W,HCFC-142b,HCFC-142b_FLAG_W,HCFC-141b,HCFC-141b_FLAG_W,STNNBR_U,HELIER,DELHER,TRITER,CH3CL,CH3CL_FLAG_W,CH3BR,CH3BR_FLAG_W,CH3I,CH3I_FLAG_W
,,,,,,,,,,,METERS,DBAR,ITS-90,PSS-78,,PSS-78,,UMOL/KG,,UMOL/KG,,UMOL/KG,,UMOL/KG,,UMOL/KG,,UMOL/KG,,PMOL/KG,,PMOL/KG,,PMOL/KG,,UMOL/KG,,UMOL/KG,,UATM,,DEG C,,,DEG C,TU,,NMOL/KG,,PERCNT,,/MILLE,,/MILLE,,/MILLE,NMOL/KG,,NMOL/KG,UG/KG,,UMOL/KG,,UMOL/KG,,DBAR,1/M,,1/M,,1/M,,1/M,,1/NM,,1/NM,,DEG C,UMOL/L,,PMOL/KG,,PMOL/KG,,PMOL/KG,,,NMOL/KG,PERCNT,TU,PMOL/KG,,PMOL/KG,,PMOL/KG,
33RO200306_02,       A16N,     098,          2,          7,          7,2,20030725,       0215,    16.9998,   -29.0002,       4884,  1999.8,   3.5259,  34.9775,2,  34.9782,2,    235.4,2,   236.0,2,   24.27,2,   21.24,2,    0.01,2,    1.44,2,   0.007,2,   0.005,2,   0.000,2,  2177.4,2,  2324.8,2,    765.0,3,    20.00,   7.7240,2,    25.00,   0.001,2,   1.865,2,   0.157,2, -999.00,9,  -999.0,9,  -999.0,   7.934,2,   0.053,-999.000,9,   41.22,2,   25.41,2, 1999.80,-999.0000,9,-999.0000,9,-999.0000,9,-999.0000,9,-999.0000,9,-999.0000,9,   3.3654,     -999.0,9,     -999.0,9,     -999.0,9,     -999.0,9,         98,   0.003,   0.214,   0.010,     -999.0,9, -999.00,9, -999.00,9
33RO200306_02,       A16N,     098,          2,          6,          6,2,20030725,       0215,    16.9998,   -29.0002,       4884,  2499.5,   3.0909,  34.9560,2,  34.9584,2,    242.4,2,   242.9,2,   29.28,2,   21.03,2,    0.01,2,    1.44,2,-999.000,9,-999.000,9,-999.000,9,  2180.7,2,  2331.1,2,   -999.0,9,  -999.00,   7.7313,2,    25.00,-999.000,9,-999.000,9,-999.000,9, -999.00,9,  -999.0,9,  -999.0,-999.000,9,-999.000,-999.000,9,   40.57,2,   25.24,2, 2499.50,-999.0000,9,-999.0000,9,-999.0000,9,-999.0000,9,-999.0000,9,-999.0000,9,   2.8893,     -999.0,9,     -999.0,9,     -999.0,9,     -999.0,9,         98,-999.000,-999.000,-999.000,     -999.0,9, -999.00,9, -999.00,9
33RO200306_02,       A16N,     098,          2,          5,          5,2,20030725,       0215,    16.9998,   -29.0002,       4884,  2996.7,   2.7269,  34.9340,2,  34.9356,2,    241.9,2,   242.7,2,   35.97,2,   21.49,2,    0.01,2,    1.47,2,   0.004,2,   0.002,2,   0.000,2,  2189.7,2,  2340.1,2,    757.4,2,    20.00,   7.7357,2,    25.00,-999.000,9,   1.901,3,   1.663,2, -999.00,9,  -999.0,9,  -999.0,   8.168,2,   0.057,-999.000,9,   41.14,2,   25.72,2, 2996.70,-999.0000,9,-999.0000,9,-999.0000,9,-999.0000,9,-999.0000,9,-999.0000,9,   2.4824,     -999.0,9,     -999.0,9,     -999.0,9,     -999.0,9,         98,   0.003,   0.218,-999.000,     -999.0,9, -999.00,9, -999.00,9
33RO200306_02,       A16N,     098,          2,          4,          4,2,20030725,       0215,    16.9998,   -29.0002,       4884,  3500.7,   2.4741,  34.9103,2,  34.9124,2,    240.8,2,   240.8,2,   42.36,6,   22.15,6,    0.01,6,    1.53,6,-999.000,9,-999.000,9,-999.000,9,  2197.9,2,  2350.3,2,   -999.0,9,  -999.00,   7.7286,2,    25.00,-999.000,9,-999.000,9,-999.000,9, -999.00,9,  -999.0,9,  -999.0,-999.000,9,-999.000,-999.000,9,   41.05,2,   25.78,2, 3500.70,-999.0000,9,-999.0000,9,-999.0000,9,-999.0000,9,-999.0000,9,-999.0000,9,   2.1822,     -999.0,9,     -999.0,9,     -999.0,9,     -999.0,9,         98,-999.000,-999.000,-999.000,     -999.0,9, -999.00,9, -999.00,9
33RO200306_02,       A16N,     098,          2,          3,          3,2,20030725,       0215,    16.9998,   -29.0002,       4884,  3997.9,   2.3600,  34.8945,2,  34.8957,2,    240.5,2,   240.1,2,   46.25,6,   22.57,6,    0.01,6,    1.56,6,   0.009,2,   0.006,2,   0.002,2,  2203.8,2,  2355.2,2,    770.4,3,    20.00,   7.7316,2,    25.00,-999.000,9,-999.000,9,-999.000,9, -999.00,9,  -999.0,9,  -999.0,-999.000,9,-999.000,-999.000,9,   41.54,2,   27.65,2, 3997.90,-999.0000,9,-999.0000,9,-999.0000,9,-999.0000,9,-999.0000,9,-999.0000,9,   2.0159,     -999.0,9,     -999.0,9,     -999.0,9,     -999.0,9,         98,-999.000,-999.000,-999.000,     -999.0,9, -999.00,9, -999.00,9
33RO200306_02,       A16N,     098,          2,          2,          2,2,20030725,       0215,    16.9998,   -29.0002,       4884,  4498.9,   2.3344,  34.8850,2,  34.8866,2,    239.7,2,   239.2,2,   48.96,6,   22.88,6,    0.01,6,    1.58,6,-999.000,9,-999.000,9,-999.000,9,  2207.5,2,  2357.5,2,   -999.0,9,  -999.00,   7.7315,2,    25.00,-999.000,9,-999.000,9,-999.000,9, -999.00,9,  -999.0,9,  -999.0,-999.000,9,-999.000,-999.000,9,   41.46,2,   26.88,2, 4498.90,-999.0000,9,-999.0000,9,-999.0000,9,-999.0000,9,-999.0000,9,-999.0000,9,   1.9324,     -999.0,9,     -999.0,9,     -999.0,9,     -999.0,9,         98,-999.000,-999.000,-999.000,     -999.0,9, -999.00,9, -999.00,9
33RO200306_02,       A16N,     098,          2,          1,          1,2,20030725,       0215,    16.9998,   -29.0002,       4884,  4952.9,   2.3125,  34.8773,2,  34.8797,2,    242.6,2,   242.1,2,   49.73,6,   22.94,6,    0.01,6,    1.57,6,   0.006,2,   0.008,2,   0.001,2,  2201.3,2,  2354.7,6,    548.6,4,    20.00,   7.7195,6,    25.00,-999.000,9,   1.868,2,   2.271,2, -999.00,9,  -999.0,9,  -999.0,   8.303,2,   0.055,-999.000,9,   40.32,2,   27.13,2, 4952.90,-999.0000,9,-999.0000,9,-999.0000,9,-999.0000,9,-999.0000,9,-999.0000,9,   1.8554,     -999.0,9,     -999.0,9,     -999.0,9,     -999.0,9,         98,   0.003,   0.213,-999.000,     -999.0,9, -999.00,9, -999.00,9