BOTTLE,20230908CCHSIOCBG
EXPOCODE,SECT_ID,STNNBR,CASTNO,SAMPNO,BTLNBR,BTLNBR_FLAG_W,DATE,TIME,LATITUDE,LONGITUDE,DEPTH,CTDPRS,CTDTMP,CTDSAL,CTDSAL_FLAG_W,SALNTY,SALNTY_FLAG_W,CTDOXY,CTDOXY_FLAG_W,OXYGEN,OXYGEN_FLAG_W,SILCAT,SILCAT_FLAG_W,NITRAT,NITRAT_FLAG_W,NITRIT,NITRIT_FLAG_W,PHSPHT,PHSPHT_FLAG_W,CFC-11,CFC-11_FLAG_W,CFC-12,CFC-12_FLAG_W,CFC113,CFC113_FLAG_W,TCARBN,TCARBN_FLAG_W,ALKALI,ALKALI_FLAG_W,FCO2,FCO2_FLAG_W,FCO2TMP,PH_SWS,PH_SWS_FLAG_W,PH_TMP,TRITUM,TRITUM_FLAG_W,HELIUM,HELIUM_FLAG_W,DELHE3,DELHE3_FLAG_W,DELC13,DELC13_FLAG_W,DELC14,DELC14_FLAG_W,C14ERR,NEON,NEON_FLAG_W,NEONER,POC,POC_FLAG_W,DOC,DOC_FLAG_W,TDN,TDN_FLAG_W,CTDRAW,CDOM325,CDOM325_FLAG_W,CDOM340,CDOM340_FLAG_W,CDOM380,CDOM380_FLAG_W,CDOM412,CDOM412_FLAG_W,CDOMSL,CDOMSL_FLAG_W,CDOMSN,CDOMSN_FLAG_W,THETA,PON,PON_FLAG_W,HCFC-22,HCFC-22_FLAG_W,HCFC-142b,HCFC-142b_FLAG_W,HCFC-141b,HCFC-141b_FLAG_W,STNNBR_U,HELIER,DELHER,TRITER,CH3CL,CH3CL_FLAG_W,CH3BR,CH3BR_FLAG_W,CH3I,CH3I_FLAG_W
,,,,,,,,,,,METERS,DBAR,ITS-90,PSS-78,,PSS-78,,UMOL/KG,,UMOL/KG,,UMOL/KG,,UMOL/KG,,UMOL/KG,,UMOL/KG,,PMOL/KG,,PMOL/KG,,PMOL/KG,,UMOL/KG,,UMOL/KG,,UATM,,DEG C,,,DEG C,TU,,NMOL/KG,,PERCNT,,/MILLE,,/MILLE,,/MILLE,NMOL/KG,,NMOL/KG,UG/KG,,UMOL/KG,,UMOL/KG,,DBAR,1/M,,1/M,,1/M,,1/M,,1/NM,,1/NM,,DEG C,UMOL/L,,PMOL/KG,,PMOL/KG,,PMOL/KG,,,NMOL/KG,PERCNT,TU,PMOL/KG,,PMOL/KG,,PMOL/KG,
33RO200306_01,       A16N,     043,          1,         35,         35,2,20030630,       1359,    43.9987,   -20.0005,       4001,     3.8,  16.4307,  35.8359,2,  35.8371,2,    246.3,2,   250.1,2,    0.29,2,    0.35,2,    0.04,2,    0.07,2,   2.757,2,   1.676,2,   0.250,2,  2070.2,6,  2352.9,2,    375.5,2,    20.00,   7.9906,2,    25.00,-999.000,9,-999.000,9,-999.000,9,    1.27,2,    77.7,2,     3.4,-999.000,9,-999.000,   5.970,2,   60.81,2,    5.27,2,    3.80,   0.2000,2,   0.1400,2,   0.0600,2,   0.0360,2,   0.0200,2,   0.0210,2,  16.4301,      0.691,2,       6.11,2,       0.19,2,       0.65,2,         43,-999.000,-999.000,-999.000,      68.75,2,    1.75,2,   30.32,2
33RO200306_01,       A16N,     043,          1,         33,         33,2,20030630,       1359,    43.9987,   -20.0005,       4001,    10.5,  16.4246,  35.8361,2,  35.8373,2,    245.6,2,   249.3,2,    0.30,2,    0.36,2,    0.04,2,    0.08,2,   2.752,2,   1.672,2,   0.246,2,  2068.8,2,  2337.1,4,    379.4,2,    20.00,   7.9941,2,    25.00,-999.000,9,-999.000,9,-999.000,9, -999.00,9,  -999.0,9,  -999.0,-999.000,9,-999.000,   4.635,2,   59.59,2,    5.30,2,   10.50,-999.0000,9,-999.0000,9,-999.0000,9,-999.0000,9,-999.0000,9,-999.0000,9,  16.4229,      0.579,2,       5.29,2,       0.47,2,       0.62,2,         43,-999.000,-999.000,-999.000,      80.97,2,    2.02,2,   30.06,2
33RO200306_01,       A16N,     043,          1,         32,         32,2,20030630,       1359,    43.9987,   -20.0005,       4001,    30.4,  16.3997,  35.8352,2,  35.8373,2,    247.1,2,   249.5,2,    0.30,2,    0.37,2,    0.04,2,    0.08,2,-999.000,9,-999.000,9,-999.000,9,  2068.8,2,  2350.8,2,    376.7,2,    20.00,   7.9856,2,    25.00,-999.000,9,-999.000,9,-999.000,9, -999.00,9,  -999.0,9,  -999.0,-999.000,9,-999.000,   6.770,2, -999.00,9, -999.00,9,   30.40,   0.1540,2,   0.1080,2,   0.0440,2,   0.0250,2,   0.0220,2,   0.0230,2,  16.3948,      1.168,2,       6.24,2,       0.18,2,       0.77,2,         43,-999.000,-999.000,-999.000,      89.44,2,    3.56,2,   29.12,2
33RO200306_01,       A16N,     043,          1,         31,         31,2,20030630,       1359,    43.9987,   -20.0005,       4001,    50.7,  15.0090,  35.8342,2,  35.8363,2,    250.7,2,   252.9,2,    0.71,2,    1.92,2,    0.18,2,    0.22,2,   2.882,2,   1.749,2,   0.252,2,  2090.1,2,  2350.7,2,    422.8,2,    20.00,   7.9571,2,    25.00,-999.000,9,-999.000,9,-999.000,9, -999.00,9,  -999.0,9,  -999.0,-999.000,9,-999.000,   4.103,2,   57.73,2,    7.25,2,   50.70,   0.1620,2,   0.1120,2,   0.0490,2,   0.0300,2,   0.0200,2,   0.0210,2,  15.0013,      0.608,2,       7.22,2,       0.21,2,       1.14,2,         43,-999.000,-999.000,-999.000,     108.82,2,    6.22,2,   24.24,2
33RO200306_01,       A16N,     043,          1,         30,         30,2,20030630,       1359,    43.9987,   -20.0005,       4001,    71.6,  14.0162,  35.8651,2,  35.8671,2,    245.8,2,   242.0,2,    1.99,2,    5.21,2,    0.60,2,    0.38,2,-999.000,9,-999.000,9,-999.000,9,  2112.8,2,  2349.2,2,   -999.0,9,  -999.00,   7.9176,2,    25.00,-999.000,9,-999.000,9,-999.000,9, -999.00,9,  -999.0,9,  -999.0,-999.000,9,-999.000,   2.059,2, -999.00,9, -999.00,9,   71.60,-999.0000,9,-999.0000,9,-999.0000,9,-999.0000,9,-999.0000,9,-999.0000,9,  14.0058,      0.276,2,     -999.0,9,     -999.0,9,     -999.0,9,         43,-999.000,-999.000,-999.000,     -999.0,9, -999.00,9, -999.00,9
33RO200306_01,       A16N,     043,          1,         29,         29,2,20030630,       1359,    43.9987,   -20.0005,       4001,    89.6,  13.3738,  35.8100,2,  35.8191,2,    238.5,2,   243.6,2,    2.33,2,    6.74,2,    0.43,2,    0.45,2,   3.028,2,   1.821,2,   0.250,2,  2117.2,2,  2345.7,2,    485.5,2,    20.00,   7.8955,2,    25.00,-999.000,9,-999.000,9,-999.000,9, -999.00,9,  -999.0,9,  -999.0,-999.000,9,-999.000,   2.770,2,   54.31,2,   11.65,2,   89.60,-999.0000,9,-999.0000,9,-999.0000,9,-999.0000,9,-999.0000,9,-999.0000,9,  13.3612,      0.613,2,       6.37,2,       0.19,2,       0.65,2,         43,-999.000,-999.000,-999.000,      55.27,2,    0.82,2,    4.55,2
33RO200306_01,       A16N,     043,          1,         28,         28,2,20030630,       1359,    43.9987,   -20.0005,       4001,   110.8,  13.2215,  35.8099,2,  35.8106,2,    241.3,2,   242.8,2,    2.73,2,    7.59,2,    0.02,2,    0.46,2,   3.035,2,   1.819,2,   0.255,2,  2119.7,2,  2346.5,2,   -999.0,9,  -999.00,   7.8933,2,    25.00,-999.000,9,-999.000,9,-999.000,9, -999.00,9,  -999.0,9,  -999.0,-999.000,9,-999.000,   0.786,2, -999.00,9, -999.00,9,  110.80,   0.1520,2,   0.0920,2,   0.0350,2,   0.0210,2,   0.0260,2,   0.0290,2,  13.2060,      0.079,2,     -999.0,9,     -999.0,9,     -999.0,9,         43,-999.000,-999.000,-999.000,     -999.0,9, -999.00,9, -999.00,9
33RO200306_01,       A16N,     043,          1,         27,         27,2,20030630,       1359,    43.9987,   -20.0005,       4001,   135.5,  13.1161,  35.8052,2,  35.8068,2,    242.9,2,   243.4,2,    2.84,2,    7.71,2,    0.01,2,    0.47,2,   3.019,2,   1.810,2,   0.247,2,  2120.4,2,  2346.0,2,    496.8,3,    20.00,   7.8975,2,    25.00,-999.000,9,-999.000,9,-999.000,9, -999.00,9,  -999.0,9,  -999.0,-999.000,9,-999.000,-999.000,9,   52.36,2,   12.37,2,  135.50,-999.0000,9,-999.0000,9,-999.0000,9,-999.0000,9,-999.0000,9,-999.0000,9,  13.0972,     -999.0,9,     -999.0,9,     -999.0,9,     -999.0,9,         43,-999.000,-999.000,-999.000,     -999.0,9, -999.00,9, -999.00,9
33RO200306_01,       A16N,     043,          1,         26,         26,2,20030630,       1359,    43.9987,   -20.0005,       4001,   160.0,  12.9113,  35.7693,2,  35.7693,2,    242.0,2,   241.0,2,    2.75,2,    7.86,2,    0.01,2,    0.48,2,   3.047,2,   1.822,2,   0.217,2,  2123.1,2,  2343.0,2,   -999.0,9,  -999.00,   7.8808,2,    25.00,-999.000,9,-999.000,9,-999.000,9, -999.00,9,  -999.0,9,  -999.0,-999.000,9,-999.000,-999.000,9, -999.00,9, -999.00,9,  160.00,-999.0000,9,-999.0000,9,-999.0000,9,-999.0000,9,-999.0000,9,-999.0000,9,  12.8893,     -999.0,9,     -999.0,9,     -999.0,9,     -999.0,9,         43,-999.000,-999.000,-999.000,     -999.0,9, -999.00,9, -999.00,9
33RO200306_01,       A16N,     043,          1,         25,         25,2,20030630,       1359,    43.9987,   -20.0005,       4001,   186.1,  12.8928,  35.7774,2,  35.7765,2,    242.7,2,   244.0,2,    2.83,2,    7.93,2,    0.01,2,    0.49,2,   3.065,2,   1.827,2,   0.231,2,  2122.7,2,  2345.0,2,   -999.0,9,  -999.00,   7.8778,2,    25.00,-999.000,9,-999.000,9,-999.000,9, -999.00,9,  -999.0,9,  -999.0,-999.000,9,-999.000,   0.938,2,   51.14,2,   12.26,2,  186.10,   0.1230,2,   0.0810,2,   0.0320,2,   0.0190,2,   0.0250,2,   0.0260,2,  12.8672,      0.087,2,       7.54,2,       0.17,2,       0.77,2,         43,-999.000,-999.000,-999.000,        0.0,2,    1.72,2,    0.83,2
33RO200306_01,       A16N,     043,          1,         24,         24,2,20030630,       1359,    43.9987,   -20.0005,       4001,   226.0,  12.8387,  35.7751,2,  35.7761,2,    246.5,2,   245.0,2,    2.86,2,    7.93,2,    0.01,2,    0.48,2,-999.000,9,-999.000,9,-999.000,9,  2120.4,3,  2345.5,2,    506.9,2,    20.00,   7.8864,2,    25.00,-999.000,9,-999.000,9,-999.000,9, -999.00,9,  -999.0,9,  -999.0,-999.000,9,-999.000,-999.000,9,   52.52,2,   12.60,2,  226.00,-999.0000,9,-999.0000,9,-999.0000,9,-999.0000,9,-999.0000,9,-999.0000,9,  12.8076,     -999.0,9,     -999.0,9,     -999.0,9,     -999.0,9,         43,-999.000,-999.000,-999.000,     -999.0,9, -999.00,9, -999.00,9
33RO200306_01,       A16N,     043,          1,         23,         23,2,20030630,       1359,    43.9987,   -20.0005,       4001,   275.5,  12.7243,  35.7568,2,  35.7566,2,    246.2,2,   244.2,2,    2.99,2,    8.30,2,    0.01,2,    0.51,2,   3.051,2,   1.829,2,   0.229,2,  2122.4,2,  2344.0,2,   -999.0,9,  -999.00,   7.8855,2,    25.00,-999.000,9,-999.000,9,-999.000,9, -999.00,9,  -999.0,9,  -999.0,-999.000,9,-999.000,-999.000,9,   50.73,2,   12.80,2,  275.50,-999.0000,9,-999.0000,9,-999.0000,9,-999.0000,9,-999.0000,9,-999.0000,9,  12.6865,     -999.0,9,     -999.0,9,     -999.0,9,     -999.0,9,         43,-999.000,-999.000,-999.000,     -999.0,9, -999.00,9, -999.00,9
33RO200306_01,       A16N,     043,          1,         22,         22,2,20030630,       1359,    43.9987,   -20.0005,       4001,   327.0,  12.4419,  35.7019,2,  35.6973,2,    243.7,2,   241.6,2,    3.33,2,    9.14,2,    0.01,2,    0.56,2,   3.020,2,   1.797,2,   0.211,2,  2123.0,2,  2342.3,2,    523.8,2,    20.00,   7.8706,2,    25.00,-999.000,9,-999.000,9,-999.000,9, -999.00,9,  -999.0,9,  -999.0,-999.000,9,-999.000,-999.000,9,   52.52,2,   13.33,2,  327.00,   0.1100,2,   0.0730,2,   0.0370,2,   0.0290,2,   0.0160,2,   0.0190,2,  12.3977,     -999.0,9,       5.72,2,       0.12,2,       0.55,2,         43,-999.000,-999.000,-999.000,        0.0,2,    1.97,2,     0.0,2
33RO200306_01,       A16N,     043,          1,         21,         21,2,20030630,       1359,    43.9987,   -20.0005,       4001,   372.8,  12.1264,  35.6427,2,  35.6422,2,    231.8,2,   230.2,2,    3.69,2,   10.27,2,    0.01,2,    0.63,2,   3.068,2,   1.797,2,   0.158,2,  2133.0,3,  2338.1,2,   -999.0,9,  -999.00,   7.8514,2,    25.00,-999.000,9,-999.000,9,-999.000,9, -999.00,9,  -999.0,9,  -999.0,-999.000,9,-999.000,-999.000,9,   49.35,2,   14.22,2,  372.80,-999.0000,9,-999.0000,9,-999.0000,9,-999.0000,9,-999.0000,9,-999.0000,9,  12.0768,     -999.0,9,     -999.0,9,     -999.0,9,     -999.0,9,         43,-999.000,-999.000,-999.000,     -999.0,9, -999.00,9, -999.00,9
33RO200306_01,       A16N,     043,          1,         20,         20,2,20030630,       1359,    43.9987,   -20.0005,       4001,   426.5,  11.7326,  35.5860,2,  35.5835,2,    230.1,2,   232.8,2,    4.07,2,   10.87,2,    0.01,2,    0.67,2,   3.061,2,   1.787,2,   0.171,2,  2130.3,2,  2333.4,2,    565.7,2,    20.00,   7.8340,2,    25.00,-999.000,9,-999.000,9,-999.000,9, -999.00,9,  -999.0,9,  -999.0,-999.000,9,-999.000,-999.000,9,   49.27,2,   15.25,2,  426.50,-999.0000,9,-999.0000,9,-999.0000,9,-999.0000,9,-999.0000,9,-999.0000,9,  11.6769,     -999.0,9,       5.15,2,       0.12,2,       0.42,2,         43,-999.000,-999.000,-999.000,       10.8,2,    0.82,2,     0.0,2
33RO200306_01,       A16N,     043,          1,         19,         19,2,20030630,       1359,    43.9987,   -20.0005,       4001,   500.2,  11.2707,  35.5095,2,  35.5064,2,    229.4,2,   228.0,2,    4.92,2,   12.22,2,    0.01,2,    0.76,2,   3.031,2,   1.758,2,   0.170,2,  2137.7,2,  2329.8,2,    607.6,2,    20.00,   7.8274,2,    25.00,-999.000,9,-999.000,9,-999.000,9, -999.00,9,  -999.0,9,  -999.0,-999.000,9,-999.000,   0.515,2,   49.83,2,   16.07,2,  500.20,   0.1230,2,   0.0810,2,   0.0400,2,   0.0290,2,   0.0170,2,   0.0200,2,  11.2069,      0.045,2,     -999.0,9,     -999.0,9,     -999.0,9,         43,-999.000,-999.000,-999.000,     -999.0,9, -999.00,9, -999.00,9
33RO200306_01,       A16N,     043,          1,         18,         18,2,20030630,       1359,    43.9987,   -20.0005,       4001,   596.6,  10.6342,  35.4381,2,  35.4362,2,    213.1,2,   208.8,2,    6.38,2,   14.68,2,    0.00,2,    0.90,2,   2.748,2,   1.554,2,   0.120,2,  2150.6,2,  2327.2,2,    652.4,2,    20.00,   7.7927,2,    25.00,-999.000,9,-999.000,9,-999.000,9, -999.00,9,  -999.0,9,  -999.0,-999.000,9,-999.000,-999.000,9,   49.35,2,   18.21,2,  596.60,-999.0000,9,-999.0000,9,-999.0000,9,-999.0000,9,-999.0000,9,-999.0000,9,  10.5605,     -999.0,9,     -999.0,9,     -999.0,9,     -999.0,9,         43,-999.000,-999.000,-999.000,     -999.0,9, -999.00,9, -999.00,9
33RO200306_01,       A16N,     043,          1,         17,         17,2,20030630,       1359,    43.9987,   -20.0005,       4001,   699.8,  10.0450,  35.4205,2,  35.4207,2,    192.5,2,   188.3,2,    8.38,2,   17.20,2,    0.00,2,    1.06,2,   2.260,2,   1.223,2,   0.073,2,  2165.1,2,  2328.2,2,   -999.0,9,  -999.00,   7.7546,2,    25.00,-999.000,9,-999.000,9,-999.000,9, -999.00,9,  -999.0,9,  -999.0,-999.000,9,-999.000,-999.000,9,   48.21,2,   20.39,2,  699.80,-999.0000,9,-999.0000,9,-999.0000,9,-999.0000,9,-999.0000,9,-999.0000,9,   9.9611,     -999.0,9,     -999.0,9,     -999.0,9,     -999.0,9,         43,-999.000,-999.000,-999.000,     -999.0,9, -999.00,9, -999.00,9
33RO200306_01,       A16N,     043,          1,         16,         16,2,20030630,       1359,    43.9987,   -20.0005,       4001,   800.6,   9.6987,  35.5074,2,  35.5048,2,    184.8,2,   184.1,2,    9.31,2,   17.74,2,    0.00,2,    1.10,2,   1.895,2,   1.008,2,   0.057,2,  2174.8,2,  2337.7,2,    723.7,2,    20.00,   7.7563,2,    25.00,-999.000,9,-999.000,9,-999.000,9, -999.00,9,  -999.0,9,  -999.0,-999.000,9,-999.000,-999.000,9,   46.10,2,   20.75,2,  800.60,-999.0000,9,-999.0000,9,-999.0000,9,-999.0000,9,-999.0000,9,-999.0000,9,   9.6041,     -999.0,9,       1.90,2,       0.00,2,       0.61,2,         43,-999.000,-999.000,-999.000,       5.99,2,    0.25,2,    0.12,2
33RO200306_01,       A16N,     043,          1,         15,         15,2,20030630,       1359,    43.9987,   -20.0005,       4001,   900.0,   8.6704,  35.4475,2,  35.4339,3,    188.9,2,   190.5,2,   10.43,2,   18.35,2,    0.00,2,    1.15,2,   1.829,2,   0.962,2,   0.061,2,  2177.9,2,  2335.2,2,   -999.0,9,  -999.00,   7.7328,2,    25.00,-999.000,9,-999.000,9,-999.000,9, -999.00,9,  -999.0,9,  -999.0,-999.000,9,-999.000,-999.000,9,   47.00,2,   21.64,2,  900.00,-999.0000,9,-999.0000,9,-999.0000,9,-999.0000,9,-999.0000,9,-999.0000,9,   8.5702,     -999.0,9,     -999.0,9,     -999.0,9,     -999.0,9,         43,-999.000,-999.000,-999.000,     -999.0,9, -999.00,9, -999.00,9
33RO200306_01,       A16N,     043,          1,         14,         14,2,20030630,       1359,    43.9987,   -20.0005,       4001,  1002.7,   8.1902,  35.4660,2,  35.4642,2,    196.8,2,   197.8,2,   10.66,2,   18.09,2,    0.00,2,    1.13,2,   1.783,2,   0.934,2,   0.063,2,  2182.1,6,  2339.6,2,    739.6,2,    20.00,   7.7385,2,    25.00,-999.000,9,-999.000,9,-999.000,9, -999.00,9,  -999.0,9,  -999.0,-999.000,9,-999.000,-999.000,9,   44.22,2,   21.65,2, 1002.70,   0.1350,3,   0.0890,3,   0.0470,3,   0.0360,3,   0.0130,3,   0.0170,3,   8.0814,     -999.0,9,     -999.0,9,     -999.0,9,     -999.0,9,         43,-999.000,-999.000,-999.000,     -999.0,9, -999.00,9, -999.00,9
33RO200306_01,       A16N,     043,          1,         13,         13,2,20030630,       1359,    43.9987,   -20.0005,       4001,  1201.4,   7.4906,  35.5104,2,  35.5210,3,    206.9,2,   210.8,2,   11.04,2,   17.55,2,    0.00,2,    1.10,2,   1.603,2,   0.819,2,   0.054,2,  2184.9,2,  2345.0,2,    721.4,2,    20.00,   7.7534,2,    25.00,-999.000,9,-999.000,9,-999.000,9, -999.00,9,  -999.0,9,  -999.0,-999.000,9,-999.000,-999.000,9,   44.07,2,   21.16,2, 1201.40,-999.0000,9,-999.0000,9,-999.0000,9,-999.0000,9,-999.0000,9,-999.0000,9,   7.3648,     -999.0,9,       1.59,2,       0.00,2,       0.18,2,         43,-999.000,-999.000,-999.000,       1.78,2,    0.27,2,    0.13,2
33RO200306_01,       A16N,     043,          1,         12,         12,2,20030630,       1359,    43.9987,   -20.0005,       4001,  1402.3,   5.1633,  35.1190,2,  35.1164,2,    239.6,2,   242.9,2,   11.44,2,   17.96,2,    0.00,2,    1.15,2,   2.126,2,   1.083,2,   0.111,2,  2170.0,2,  2314.7,2,   -999.0,9,  -999.00,   7.7252,2,    25.00,-999.000,9,-999.000,9,-999.000,9, -999.00,9,  -999.0,9,  -999.0,-999.000,9,-999.000,-999.000,9,   44.22,2,   21.76,2, 1402.30,-999.0000,9,-999.0000,9,-999.0000,9,-999.0000,9,-999.0000,9,-999.0000,9,   5.0394,     -999.0,9,     -999.0,9,     -999.0,9,     -999.0,9,         43,-999.000,-999.000,-999.000,     -999.0,9, -999.00,9, -999.00,9
33RO200306_01,       A16N,     043,          1,         11,         11,2,20030630,       1359,    43.9987,   -20.0005,       4001,  1601.0,   4.0918,  34.9716,2,  34.9710,2,    259.7,2,   262.6,2,   11.53,2,   17.72,2,    0.00,2,    1.14,2,   2.377,2,   1.203,2,   0.129,2,  2162.5,2,  2305.2,2,    768.7,2,    20.00,   7.7198,2,    25.00,-999.000,9,-999.000,9,-999.000,9, -999.00,9,  -999.0,9,  -999.0,-999.000,9,-999.000,-999.000,9,   44.56,2,   22.93,2, 1601.00,-999.0000,9,-999.0000,9,-999.0000,9,-999.0000,9,-999.0000,9,-999.0000,9,   3.9612,     -999.0,9,       2.13,2,       0.00,2,       0.19,2,         43,-999.000,-999.000,-999.000,       5.34,2,    1.15,2,    0.05,2
33RO200306_01,       A16N,     043,          1,         10,         10,2,20030630,       1359,    43.9987,   -20.0005,       4001,  1803.0,   3.6376,  34.9212,2,  34.9217,2,    271.6,2,   272.7,2,   11.71,2,   17.44,2,    0.00,2,    1.13,2,   2.402,2,   1.200,2,   0.128,2,  2158.0,2,  2301.4,2,   -999.0,9,  -999.00,   7.7198,2,    25.00,-999.000,9,-999.000,9,-999.000,9, -999.00,9,  -999.0,9,  -999.0,-999.000,9,-999.000,-999.000,9,   44.63,2,   22.73,2, 1803.00,-999.0000,9,-999.0000,9,-999.0000,9,-999.0000,9,-999.0000,9,-999.0000,9,   3.4942,     -999.0,9,     -999.0,9,     -999.0,9,     -999.0,9,         43,-999.000,-999.000,-999.000,     -999.0,9, -999.00,9, -999.00,9
33RO200306_01,       A16N,     043,          1,          9,          9,2,20030630,       1359,    43.9987,   -20.0005,       4001,  2001.8,   3.3980,  34.9019,2,  34.9028,2,    279.9,2,   278.1,2,   11.88,2,   17.21,2,    0.00,2,    1.12,2,   2.519,2,   1.269,2,   0.146,2,  2157.3,2,  2301.4,2,    752.8,2,    20.00,   7.7222,2,    25.00,-999.000,9,-999.000,9,-999.000,9, -999.00,9,  -999.0,9,  -999.0,-999.000,9,-999.000,-999.000,9,   43.58,2,   21.60,2, 2001.80,   0.1270,3,   0.0860,3,   0.0460,3,   0.0350,3,   0.0140,3,   0.0170,3,   3.2395,     -999.0,9,     -999.0,9,     -999.0,9,     -999.0,9,         43,-999.000,-999.000,-999.000,     -999.0,9, -999.00,9, -999.00,9
33RO200306_01,       A16N,     043,          1,          8,          8,2,20030630,       1359,    43.9987,   -20.0005,       4001,  2250.8,   3.2844,  34.9147,2,  34.9146,2,    278.8,2,   276.3,2,   13.31,2,   17.19,2,    0.00,2,    1.13,2,   2.112,2,   1.059,2,   0.117,2,  2156.9,2,  2303.4,2,   -999.0,9,  -999.00,   7.7282,2,    25.00,-999.000,9,-999.000,9,-999.000,9, -999.00,9,  -999.0,9,  -999.0,-999.000,9,-999.000,-999.000,9,   44.31,2,   22.20,2, 2250.80,-999.0000,9,-999.0000,9,-999.0000,9,-999.0000,9,-999.0000,9,-999.0000,9,   3.1039,     -999.0,9,     -999.0,9,     -999.0,9,     -999.0,9,         43,-999.000,-999.000,-999.000,     -999.0,9, -999.00,9, -999.00,9