BOTTLE,20230908CCHSIOCBG
EXPOCODE,SECT_ID,STNNBR,CASTNO,SAMPNO,BTLNBR,BTLNBR_FLAG_W,DATE,TIME,LATITUDE,LONGITUDE,DEPTH,CTDPRS,CTDTMP,CTDSAL,CTDSAL_FLAG_W,SALNTY,SALNTY_FLAG_W,CTDOXY,CTDOXY_FLAG_W,OXYGEN,OXYGEN_FLAG_W,SILCAT,SILCAT_FLAG_W,NITRAT,NITRAT_FLAG_W,NITRIT,NITRIT_FLAG_W,PHSPHT,PHSPHT_FLAG_W,CFC-11,CFC-11_FLAG_W,CFC-12,CFC-12_FLAG_W,CFC113,CFC113_FLAG_W,TCARBN,TCARBN_FLAG_W,ALKALI,ALKALI_FLAG_W,FCO2,FCO2_FLAG_W,FCO2TMP,PH_SWS,PH_SWS_FLAG_W,PH_TMP,TRITUM,TRITUM_FLAG_W,HELIUM,HELIUM_FLAG_W,DELHE3,DELHE3_FLAG_W,DELC13,DELC13_FLAG_W,DELC14,DELC14_FLAG_W,C14ERR,NEON,NEON_FLAG_W,NEONER,POC,POC_FLAG_W,DOC,DOC_FLAG_W,TDN,TDN_FLAG_W,CTDRAW,CDOM325,CDOM325_FLAG_W,CDOM340,CDOM340_FLAG_W,CDOM380,CDOM380_FLAG_W,CDOM412,CDOM412_FLAG_W,CDOMSL,CDOMSL_FLAG_W,CDOMSN,CDOMSN_FLAG_W,THETA,PON,PON_FLAG_W,HCFC-22,HCFC-22_FLAG_W,HCFC-142b,HCFC-142b_FLAG_W,HCFC-141b,HCFC-141b_FLAG_W,STNNBR_U,HELIER,DELHER,TRITER,CH3CL,CH3CL_FLAG_W,CH3BR,CH3BR_FLAG_W,CH3I,CH3I_FLAG_W
,,,,,,,,,,,METERS,DBAR,ITS-90,PSS-78,,PSS-78,,UMOL/KG,,UMOL/KG,,UMOL/KG,,UMOL/KG,,UMOL/KG,,UMOL/KG,,PMOL/KG,,PMOL/KG,,PMOL/KG,,UMOL/KG,,UMOL/KG,,UATM,,DEG C,,,DEG C,TU,,NMOL/KG,,PERCNT,,/MILLE,,/MILLE,,/MILLE,NMOL/KG,,NMOL/KG,UG/KG,,UMOL/KG,,UMOL/KG,,DBAR,1/M,,1/M,,1/M,,1/M,,1/NM,,1/NM,,DEG C,UMOL/L,,PMOL/KG,,PMOL/KG,,PMOL/KG,,,NMOL/KG,PERCNT,TU,PMOL/KG,,PMOL/KG,,PMOL/KG,
33RO200306_01,       A16N,     049,          1,         33,         33,2,20030702,       0259,    41.0002,   -20.0002,       4708,     3.1,  19.0137,  36.0591,2,  36.0609,2,    236.0,2,   234.0,2,    0.91,6,    0.05,2,    0.00,6,    0.04,6,   2.462,2,   1.499,2,   0.214,2,  2074.8,2,  2367.5,2,    361.7,2,    20.00,   8.0086,2,    25.00,-999.000,9,-999.000,9,-999.000,9, -999.00,9,  -999.0,9,  -999.0,-999.000,9,-999.000,   6.526,2,   66.61,2,    8.57,2,    3.10,-999.0000,9,-999.0000,9,-999.0000,9,-999.0000,9,-999.0000,9,-999.0000,9,  19.0131,      1.141,2,     -999.0,9,     -999.0,9,     -999.0,9,         49,-999.000,-999.000,-999.000,     -999.0,9, -999.00,9, -999.00,9
33RO200306_01,       A16N,     049,          1,         32,         32,2,20030702,       0259,    41.0002,   -20.0002,       4708,    20.3,  18.8286,  36.0607,2,  36.0649,2,    232.6,2,   241.2,2,    0.96,6,    0.10,2,    0.01,6,    0.05,6,   2.550,2,   1.549,2,   0.224,2,  2077.2,2,  -999.0,9,    371.8,6,    20.00,-999.0000,9,  -999.00,-999.000,9,-999.000,9,-999.000,9, -999.00,9,  -999.0,9,  -999.0,-999.000,9,-999.000,   4.737,2,   66.02,2,    8.60,2,   20.30,-999.0000,9,-999.0000,9,-999.0000,9,-999.0000,9,-999.0000,9,-999.0000,9,  18.8250,      0.606,2,     -999.0,9,     -999.0,9,     -999.0,9,         49,-999.000,-999.000,-999.000,     -999.0,9, -999.00,9, -999.00,9
33RO200306_01,       A16N,     049,          1,         31,         31,2,20030702,       0259,    41.0002,   -20.0002,       4708,    40.4,  15.3256,  36.0862,2,  36.0830,2,    244.9,2,   237.8,2,    1.41,6,    2.83,2,    0.10,6,    0.20,6,   2.829,2,   1.675,2,   0.222,2,  2110.0,2,  -999.0,9,    428.2,2,    20.00,-999.0000,9,  -999.00,-999.000,9,-999.000,9,-999.000,9, -999.00,9,  -999.0,9,  -999.0,-999.000,9,-999.000,   3.618,2, -999.00,9, -999.00,9,   40.40,-999.0000,9,-999.0000,9,-999.0000,9,-999.0000,9,-999.0000,9,-999.0000,9,  15.3194,      0.573,2,     -999.0,9,     -999.0,9,     -999.0,9,         49,-999.000,-999.000,-999.000,     -999.0,9, -999.00,9, -999.00,9
33RO200306_01,       A16N,     049,          1,         30,         30,2,20030702,       0259,    41.0002,   -20.0002,       4708,    59.5,  14.9099,  36.0441,2,  36.0390,2,    228.3,2,   232.2,2,    1.72,6,    4.74,2,    0.03,6,    0.29,6,-999.000,9,-999.000,9,-999.000,9,  2112.6,2,  -999.0,9,    452.9,2,    20.00,-999.0000,9,  -999.00,-999.000,9,-999.000,9,-999.000,9, -999.00,9,  -999.0,9,  -999.0,-999.000,9,-999.000,   1.811,2,   56.18,2,   11.97,2,   59.50,-999.0000,9,-999.0000,9,-999.0000,9,-999.0000,9,-999.0000,9,-999.0000,9,  14.9009,      0.146,2,     -999.0,9,     -999.0,9,     -999.0,9,         49,-999.000,-999.000,-999.000,     -999.0,9, -999.00,9, -999.00,9
33RO200306_01,       A16N,     049,          1,         29,         29,2,20030702,       0259,    41.0002,   -20.0002,       4708,    80.3,  14.6395,  36.0089,2,  36.0049,2,    227.2,2,   233.0,2,    1.96,6,    5.52,2,    0.02,6,    0.33,6,   2.888,2,   1.713,2,   0.215,2,  2114.1,2,  2355.0,2,    456.3,2,    20.00,   7.9258,2,    25.00,   1.343,2,-999.000,9,-999.000,9, -999.00,9,  -999.0,9,  -999.0,-999.000,9,-999.000,   1.639,2, -999.00,9, -999.00,9,   80.30,-999.0000,9,-999.0000,9,-999.0000,9,-999.0000,9,-999.0000,9,-999.0000,9,  14.6275,      0.324,2,     -999.0,9,     -999.0,9,     -999.0,9,         49,-999.000,-999.000,   0.030,     -999.0,9, -999.00,9, -999.00,9
33RO200306_01,       A16N,     049,          1,         28,         28,2,20030702,       0259,    41.0002,   -20.0002,       4708,   100.1,  14.2496,  35.9476,2,  35.9405,2,    223.9,2,   221.5,2,    2.43,6,    7.27,2,    0.01,6,    0.42,6,   2.837,2,   1.663,2,   0.140,2,  2120.7,2,  2352.6,2,    491.1,3,    20.00,   7.8979,2,    25.00,-999.000,9,-999.000,9,-999.000,9, -999.00,9,  -999.0,9,  -999.0,-999.000,9,-999.000,-999.000,9,   52.20,2,   13.49,2,  100.10,-999.0000,9,-999.0000,9,-999.0000,9,-999.0000,9,-999.0000,9,-999.0000,9,  14.2349,     -999.0,9,     -999.0,9,     -999.0,9,     -999.0,9,         49,-999.000,-999.000,-999.000,     -999.0,9, -999.00,9, -999.00,9
33RO200306_01,       A16N,     049,          1,         27,         27,2,20030702,       0259,    41.0002,   -20.0002,       4708,   124.5,  13.8236,  35.8816,2,  35.8762,2,    219.0,2,   222.5,2,    2.68,6,    7.93,2,    0.01,6,    0.48,6,-999.000,9,-999.000,9,-999.000,9,  2125.6,2,  2349.0,2,   -999.0,9,  -999.00,   7.8900,2,    25.00,-999.000,9,-999.000,9,-999.000,9, -999.00,9,  -999.0,9,  -999.0,-999.000,9,-999.000,   1.432,2, -999.00,9, -999.00,9,  124.50,-999.0000,9,-999.0000,9,-999.0000,9,-999.0000,9,-999.0000,9,-999.0000,9,  13.8057,      0.121,2,     -999.0,9,     -999.0,9,     -999.0,9,         49,-999.000,-999.000,-999.000,     -999.0,9, -999.00,9, -999.00,9
33RO200306_01,       A16N,     049,          1,         26,         26,2,20030702,       0259,    41.0002,   -20.0002,       4708,   149.4,  13.5694,  35.8418,2,  35.8406,2,    218.7,2,   221.4,2,    2.86,6,    8.38,2,    0.01,6,    0.50,6,   2.906,2,   1.680,2,   0.138,2,  2134.6,3,  2346.9,2,    507.7,6,    20.00,   7.8817,2,    25.00,-999.000,9,-999.000,9,-999.000,9, -999.00,9,  -999.0,9,  -999.0,-999.000,9,-999.000,   1.573,2,   52.27,2,   13.41,2,  149.40,-999.0000,9,-999.0000,9,-999.0000,9,-999.0000,9,-999.0000,9,-999.0000,9,  13.5481,      0.057,2,     -999.0,9,     -999.0,9,     -999.0,9,         49,-999.000,-999.000,-999.000,     -999.0,9, -999.00,9, -999.00,9
33RO200306_01,       A16N,     049,          1,         25,         25,2,20030702,       0259,    41.0002,   -20.0002,       4708,   174.7,  13.4235,  35.8262,2,  35.8139,2,    219.2,2,   225.2,2,    3.00,6,    8.72,2,    0.01,6,    0.52,6,   2.938,2,   1.697,2,   0.139,2,  2129.6,3,  2346.0,2,   -999.0,9,  -999.00,   7.8721,2,    25.00,   1.343,2,-999.000,9,-999.000,9, -999.00,9,  -999.0,9,  -999.0,-999.000,9,-999.000,-999.000,9, -999.00,9, -999.00,9,  174.70,-999.0000,9,-999.0000,9,-999.0000,9,-999.0000,9,-999.0000,9,-999.0000,9,  13.3988,     -999.0,9,     -999.0,9,     -999.0,9,     -999.0,9,         49,-999.000,-999.000,   0.040,     -999.0,9, -999.00,9, -999.00,9
33RO200306_01,       A16N,     049,          1,         24,         24,2,20030702,       0259,    41.0002,   -20.0002,       4708,   192.3,  13.2009,  35.7853,2,  35.7823,2,    215.8,2,   216.2,2,    3.40,6,    9.74,2,    0.01,6,    0.58,6,   2.879,2,   1.656,2,   0.109,2,  2135.3,3,  2344.8,2,    530.6,2,    20.00,   7.8676,2,    25.00,-999.000,9,-999.000,9,-999.000,9, -999.00,9,  -999.0,9,  -999.0,-999.000,9,-999.000,-999.000,9,   52.36,2,   14.83,2,  192.30,-999.0000,9,-999.0000,9,-999.0000,9,-999.0000,9,-999.0000,9,-999.0000,9,  13.1740,     -999.0,9,     -999.0,9,     -999.0,9,     -999.0,9,         49,-999.000,-999.000,-999.000,     -999.0,9, -999.00,9, -999.00,9
33RO200306_01,       A16N,     049,          1,         23,         23,2,20030702,       0259,    41.0002,   -20.0002,       4708,   250.4,  12.7322,  35.7147,2,  35.7174,2,    224.2,2,   215.1,2,    3.88,6,   10.72,2,    0.01,6,    0.64,6,-999.000,9,-999.000,9,-999.000,9,  2134.7,2,  2341.1,2,    553.1,2,    20.00,   7.8582,2,    25.00,-999.000,9,-999.000,9,-999.000,9, -999.00,9,  -999.0,9,  -999.0,-999.000,9,-999.000,-999.000,9,   51.95,2,   16.55,2,  250.40,-999.0000,9,-999.0000,9,-999.0000,9,-999.0000,9,-999.0000,9,-999.0000,9,  12.6979,     -999.0,9,     -999.0,9,     -999.0,9,     -999.0,9,         49,-999.000,-999.000,-999.000,     -999.0,9, -999.00,9, -999.00,9
33RO200306_01,       A16N,     049,          1,         22,         22,2,20030702,       0259,    41.0002,   -20.0002,       4708,   299.8,  12.6751,  35.7328,2,  35.7281,2,    232.3,2,   231.2,2,    3.34,6,    9.35,2,    0.01,6,    0.56,6,   3.039,2,   1.746,2,   0.176,2,  2127.4,3,  2342.5,2,    527.0,2,    20.00,   7.8708,2,    25.00,-999.000,9,   1.786,2,  -0.482,2, -999.00,9,  -999.0,9,  -999.0,   7.394,2,   0.025,   1.093,2,   52.85,2,   15.41,2,  299.80,-999.0000,9,-999.0000,9,-999.0000,9,-999.0000,9,-999.0000,9,-999.0000,9,  12.6341,      0.081,2,     -999.0,9,     -999.0,9,     -999.0,9,         49,   0.003,   0.131,-999.000,     -999.0,9, -999.00,9, -999.00,9
33RO200306_01,       A16N,     049,          1,         21,         21,2,20030702,       0259,    41.0002,   -20.0002,       4708,   350.1,  12.1045,  35.6271,2,  35.6235,2,    221.7,2,   209.8,2,    4.63,6,   12.43,2,    0.01,6,    0.74,6,   2.872,2,   1.599,2,   0.095,2,  2146.9,2,  2336.4,2,    593.2,2,    20.00,   7.8298,2,    25.00,-999.000,9,   1.757,2,   1.500,2, -999.00,9,  -999.0,9,  -999.0,   7.294,2,   0.025,-999.000,9,   50.24,2,   17.56,2,  350.10,-999.0000,9,-999.0000,9,-999.0000,9,-999.0000,9,-999.0000,9,-999.0000,9,  12.0580,     -999.0,9,     -999.0,9,     -999.0,9,     -999.0,9,         49,   0.003,    0.13,-999.000,     -999.0,9, -999.00,9, -999.00,9
33RO200306_01,       A16N,     049,          1,         20,         20,2,20030702,       0259,    41.0002,   -20.0002,       4708,   401.6,  11.7767,  35.5830,2,  35.5811,2,    204.9,2,   205.1,2,    5.13,6,   13.34,2,    0.01,6,    0.79,6,   2.804,2,   1.555,2,   0.093,2,  2144.7,2,  2334.2,2,    607.3,2,    20.00,   7.8260,2,    25.00,-999.000,9,-999.000,9,-999.000,9, -999.00,9,  -999.0,9,  -999.0,-999.000,9,-999.000,-999.000,9,   50.57,2,   17.76,2,  401.60,-999.0000,9,-999.0000,9,-999.0000,9,-999.0000,9,-999.0000,9,-999.0000,9,  11.7242,     -999.0,9,     -999.0,9,     -999.0,9,     -999.0,9,         49,-999.000,-999.000,-999.000,     -999.0,9, -999.00,9, -999.00,9
33RO200306_01,       A16N,     049,          1,         19,         19,2,20030702,       0259,    41.0002,   -20.0002,       4708,   450.3,  11.4741,  35.5555,2,  35.5529,2,    198.8,2,   199.4,2,    5.68,6,   14.37,2,    0.01,6,    0.86,6,   2.808,2,   1.546,2,   0.084,2,  2147.6,2,  2332.9,2,    636.2,2,    20.00,   7.8015,2,    25.00,   1.278,2,   1.779,2,   3.111,2, -999.00,9,  -999.0,9,  -999.0,   7.453,2,   0.025,-999.000,9,   49.27,2,   19.33,2,  450.30,-999.0000,9,-999.0000,9,-999.0000,9,-999.0000,9,-999.0000,9,-999.0000,9,  11.4161,     -999.0,9,     -999.0,9,     -999.0,9,     -999.0,9,         49,   0.003,   0.179,   0.020,     -999.0,9, -999.00,9, -999.00,9
33RO200306_01,       A16N,     049,          1,         18,         18,2,20030702,       0259,    41.0002,   -20.0002,       4708,   500.4,  11.1520,  35.5239,2,  35.5213,2,    203.0,2,   202.1,2,    5.78,6,   14.52,2,    0.01,6,    0.87,6,   2.803,2,   1.527,2,   0.094,2,  2149.7,2,  2331.9,2,    644.0,2,    20.00,   7.7929,2,    25.00,-999.000,9,-999.000,9,-999.000,9, -999.00,9,  -999.0,9,  -999.0,-999.000,9,-999.000,   0.943,2,   47.32,2,   18.32,2,  500.40,-999.0000,9,-999.0000,9,-999.0000,9,-999.0000,9,-999.0000,9,-999.0000,9,  11.0885,      0.091,2,     -999.0,9,     -999.0,9,     -999.0,9,         49,-999.000,-999.000,-999.000,     -999.0,9, -999.00,9, -999.00,9
33RO200306_01,       A16N,     049,          1,         17,         17,2,20030702,       0259,    41.0002,   -20.0002,       4708,   600.3,  10.2943,  35.4370,2,  35.4422,2,    192.6,2,   191.6,2,    7.79,6,   16.75,2,    0.01,6,    1.02,6,   2.408,2,   1.284,2,   0.079,2,  2161.1,2,  2330.5,2,    695.9,2,    20.00,   7.7645,2,    25.00,   1.179,2,-999.000,9,-999.000,9, -999.00,9,  -999.0,9,  -999.0,-999.000,9,-999.000,-999.000,9,   47.88,2,   20.20,2,  600.30,-999.0000,9,-999.0000,9,-999.0000,9,-999.0000,9,-999.0000,9,-999.0000,9,  10.2216,     -999.0,9,     -999.0,9,     -999.0,9,     -999.0,9,         49,-999.000,-999.000,   0.030,     -999.0,9, -999.00,9, -999.00,9
33RO200306_01,       A16N,     049,          1,         16,         16,2,20030702,       0259,    41.0002,   -20.0002,       4708,   700.4,  10.1604,  35.5627,2,  35.5674,2,    184.9,2,   183.6,2,    8.73,6,   17.40,2,    0.00,6,    1.06,6,   1.947,2,   1.018,2,   0.053,2,  2171.2,2,  2340.0,2,    698.7,2,    20.00,   7.7672,2,    25.00,-999.000,9,   1.759,2,   4.505,2, -999.00,9,  -999.0,9,  -999.0,   7.390,2,   0.039,-999.000,9,   47.48,2,   21.00,2,  700.40,-999.0000,9,-999.0000,9,-999.0000,9,-999.0000,9,-999.0000,9,-999.0000,9,  10.0757,     -999.0,9,     -999.0,9,     -999.0,9,     -999.0,9,         49,   0.003,   0.155,-999.000,     -999.0,9, -999.00,9, -999.00,9
33RO200306_01,       A16N,     049,          1,         15,         15,2,20030702,       0259,    41.0002,   -20.0002,       4708,   800.9,   9.6834,  35.5853,2,  35.5856,2,    183.3,2,   184.8,2,    9.64,6,   17.92,2,    0.00,6,    1.10,6,   1.660,2,   0.871,2,   0.042,2,  2178.1,2,  2343.8,2,    712.2,2,    20.00,   7.7509,2,    25.00,-999.000,9,-999.000,9,-999.000,9, -999.00,9,  -999.0,9,  -999.0,-999.000,9,-999.000,-999.000,9,   47.40,2,   21.19,2,  800.90,-999.0000,9,-999.0000,9,-999.0000,9,-999.0000,9,-999.0000,9,-999.0000,9,   9.5888,     -999.0,9,     -999.0,9,     -999.0,9,     -999.0,9,         49,-999.000,-999.000,-999.000,     -999.0,9, -999.00,9, -999.00,9
33RO200306_01,       A16N,     049,          1,         14,         14,2,20030702,       0259,    41.0002,   -20.0002,       4708,   900.3,   9.4466,  35.6794,2,  35.6800,2,    185.2,2,   184.9,2,   10.08,6,   17.79,2,    0.00,6,    1.09,6,   1.492,2,   0.776,2,   0.035,2,  2185.8,2,  2352.2,2,    703.4,2,    20.00,   7.7611,2,    25.00,-999.000,9,   1.759,2,   8.205,2, -999.00,9,  -999.0,9,  -999.0,   7.407,2,   0.025,-999.000,9,   46.91,2,   21.88,2,  900.30,-999.0000,9,-999.0000,9,-999.0000,9,-999.0000,9,-999.0000,9,-999.0000,9,   9.3411,     -999.0,9,     -999.0,9,     -999.0,9,     -999.0,9,         49,   0.003,   0.128,-999.000,     -999.0,9, -999.00,9, -999.00,9
33RO200306_01,       A16N,     049,          1,         13,         13,2,20030702,       0259,    41.0002,   -20.0002,       4708,   999.9,   9.3283,  35.7542,2,  35.7532,2,    187.5,2,   188.7,2,   10.27,6,   17.46,2,    0.01,6,    1.07,6,   1.439,2,   0.742,2,   0.033,2,  2190.1,2,  2357.9,2,    696.8,2,    20.00,   7.7674,2,    25.00,-999.000,9,   1.787,2,   8.737,2, -999.00,9,  -999.0,9,  -999.0,   7.545,2,   0.026,-999.000,9,   46.66,2,   22.05,2,  999.90,-999.0000,9,-999.0000,9,-999.0000,9,-999.0000,9,-999.0000,9,-999.0000,9,   9.2113,     -999.0,9,     -999.0,9,     -999.0,9,     -999.0,9,         49,   0.003,   0.128,-999.000,     -999.0,9, -999.00,9, -999.00,9
33RO200306_01,       A16N,     049,          1,         12,         12,2,20030702,       0259,    41.0002,   -20.0002,       4708,  1100.3,   9.2844,  35.8319,2,  35.8342,2,    190.4,2,   190.7,2,   10.44,6,   17.17,2,    0.00,6,    1.05,6,   1.323,2,   0.688,2,   0.033,2,  2192.0,2,  2365.2,2,   -999.0,9,  -999.00,   7.7793,2,    25.00,   0.957,2,   1.826,2,   7.934,2, -999.00,9,  -999.0,9,  -999.0,   7.644,2,   0.025,-999.000,9,   46.02,2,   21.72,2, 1100.30,-999.0000,9,-999.0000,9,-999.0000,9,-999.0000,9,-999.0000,9,-999.0000,9,   9.1552,     -999.0,9,     -999.0,9,     -999.0,9,     -999.0,9,         49,   0.003,   0.177,   0.020,     -999.0,9, -999.00,9, -999.00,9
33RO200306_01,       A16N,     049,          1,         11,         11,2,20030702,       0259,    41.0002,   -20.0002,       4708,  1199.7,   8.6299,  35.7406,2,  35.7402,2,    198.5,2,   198.1,2,   10.76,2,   17.25,2,    0.00,6,    1.06,6,   1.343,2,   0.688,2,   0.034,2,  2189.6,2,  2358.6,2,    701.3,6,    20.00,   7.8589,3,    25.00,   1.022,2,   1.794,2,   8.583,2, -999.00,9,  -999.0,9,  -999.0,   7.560,2,   0.025,-999.000,9,   45.85,2,   21.17,2, 1199.70,-999.0000,9,-999.0000,9,-999.0000,9,-999.0000,9,-999.0000,9,-999.0000,9,   8.4940,     -999.0,9,     -999.0,9,     -999.0,9,     -999.0,9,         49,   0.003,   0.178,   0.020,     -999.0,9, -999.00,9, -999.00,9
33RO200306_01,       A16N,     049,          1,         10,         10,2,20030702,       0259,    41.0002,   -20.0002,       4708,  1399.5,   6.2677,  35.3461,2,  35.3444,2,    221.2,2,   225.9,2,   11.64,6,   17.81,2,    0.00,6,    1.12,6,   1.555,2,   0.772,2,   0.059,2,  2176.1,2,  2332.5,2,    734.3,2,    20.00,   7.7750,2,    25.00,-999.000,9,-999.000,9,-999.000,9, -999.00,9,  -999.0,9,  -999.0,-999.000,9,-999.000,-999.000,9,   45.69,2,   22.67,2, 1399.50,-999.0000,9,-999.0000,9,-999.0000,9,-999.0000,9,-999.0000,9,-999.0000,9,   6.1321,     -999.0,9,     -999.0,9,     -999.0,9,     -999.0,9,         49,-999.000,-999.000,-999.000,     -999.0,9, -999.00,9, -999.00,9
33RO200306_01,       A16N,     049,          1,          9,          9,2,20030702,       0259,    41.0002,   -20.0002,       4708,  1599.7,   4.7303,  35.0984,2,  35.0973,2,    242.8,2,   249.1,2,   11.97,6,   17.82,2,    0.00,6,    1.14,6,   1.762,2,   0.866,2,   0.075,2,  2165.0,2,  2313.5,2,    754.6,2,    20.00,   7.7297,2,    25.00,   1.033,2,   1.836,2,   8.983,2, -999.00,9,  -999.0,9,  -999.0,   7.863,2,   0.027,-999.000,9,   43.51,2,   21.74,2, 1599.70,-999.0000,9,-999.0000,9,-999.0000,9,-999.0000,9,-999.0000,9,-999.0000,9,   4.5919,     -999.0,9,     -999.0,9,     -999.0,9,     -999.0,9,         49,   0.003,   0.127,   0.030,     -999.0,9, -999.00,9, -999.00,9
33RO200306_01,       A16N,     049,          1,          8,          8,2,20030702,       0259,    41.0002,   -20.0002,       4708,  1800.8,   3.9887,  34.9939,2,  34.9914,2,    260.3,2,   261.4,2,   12.33,6,   17.64,2,    0.00,6,    1.14,6,   1.822,2,   0.894,2,   0.086,2,  2159.6,2,  2308.4,2,    751.8,2,    20.00,   7.7307,2,    25.00,-999.000,9,-999.000,9,-999.000,9, -999.00,9,  -999.0,9,  -999.0,-999.000,9,-999.000,-999.000,9,   41.33,2,   22.54,2, 1800.80,-999.0000,9,-999.0000,9,-999.0000,9,-999.0000,9,-999.0000,9,-999.0000,9,   3.8405,     -999.0,9,     -999.0,9,     -999.0,9,     -999.0,9,         49,-999.000,-999.000,-999.000,     -999.0,9, -999.00,9, -999.00,9
33RO200306_01,       A16N,     049,          1,          7,          7,2,20030702,       0259,    41.0002,   -20.0002,       4708,  2001.1,   3.6982,  34.9713,2,  34.9705,2,    263.8,2,   264.1,2,   13.49,6,   17.73,2,    0.00,6,    1.14,6,   1.511,2,   0.743,2,   0.068,2,  2159.4,2,  2307.9,2,    750.8,2,    20.00,   7.7359,2,    25.00,   0.842,2,-999.000,9,-999.000,9, -999.00,9,  -999.0,9,  -999.0,-999.000,9,-999.000,-999.000,9,   41.42,2,   22.65,2, 2001.10,-999.0000,9,-999.0000,9,-999.0000,9,-999.0000,9,-999.0000,9,-999.0000,9,   3.5350,     -999.0,9,     -999.0,9,     -999.0,9,     -999.0,9,         49,-999.000,-999.000,   0.020,     -999.0,9, -999.00,9, -999.00,9