BOTTLE,20230908CCHSIOCBG
EXPOCODE,SECT_ID,STNNBR,CASTNO,SAMPNO,BTLNBR,BTLNBR_FLAG_W,DATE,TIME,LATITUDE,LONGITUDE,DEPTH,CTDPRS,CTDTMP,CTDSAL,CTDSAL_FLAG_W,SALNTY,SALNTY_FLAG_W,CTDOXY,CTDOXY_FLAG_W,OXYGEN,OXYGEN_FLAG_W,SILCAT,SILCAT_FLAG_W,NITRAT,NITRAT_FLAG_W,NITRIT,NITRIT_FLAG_W,PHSPHT,PHSPHT_FLAG_W,CFC-11,CFC-11_FLAG_W,CFC-12,CFC-12_FLAG_W,CFC113,CFC113_FLAG_W,TCARBN,TCARBN_FLAG_W,ALKALI,ALKALI_FLAG_W,FCO2,FCO2_FLAG_W,FCO2TMP,PH_SWS,PH_SWS_FLAG_W,PH_TMP,TRITUM,TRITUM_FLAG_W,HELIUM,HELIUM_FLAG_W,DELHE3,DELHE3_FLAG_W,DELC13,DELC13_FLAG_W,DELC14,DELC14_FLAG_W,C14ERR,NEON,NEON_FLAG_W,NEONER,POC,POC_FLAG_W,DOC,DOC_FLAG_W,TDN,TDN_FLAG_W,CTDRAW,CDOM325,CDOM325_FLAG_W,CDOM340,CDOM340_FLAG_W,CDOM380,CDOM380_FLAG_W,CDOM412,CDOM412_FLAG_W,CDOMSL,CDOMSL_FLAG_W,CDOMSN,CDOMSN_FLAG_W,THETA,PON,PON_FLAG_W,HCFC-22,HCFC-22_FLAG_W,HCFC-142b,HCFC-142b_FLAG_W,HCFC-141b,HCFC-141b_FLAG_W,STNNBR_U,HELIER,DELHER,TRITER,CH3CL,CH3CL_FLAG_W,CH3BR,CH3BR_FLAG_W,CH3I,CH3I_FLAG_W
,,,,,,,,,,,METERS,DBAR,ITS-90,PSS-78,,PSS-78,,UMOL/KG,,UMOL/KG,,UMOL/KG,,UMOL/KG,,UMOL/KG,,UMOL/KG,,PMOL/KG,,PMOL/KG,,PMOL/KG,,UMOL/KG,,UMOL/KG,,UATM,,DEG C,,,DEG C,TU,,NMOL/KG,,PERCNT,,/MILLE,,/MILLE,,/MILLE,NMOL/KG,,NMOL/KG,UG/KG,,UMOL/KG,,UMOL/KG,,DBAR,1/M,,1/M,,1/M,,1/M,,1/NM,,1/NM,,DEG C,UMOL/L,,PMOL/KG,,PMOL/KG,,PMOL/KG,,,NMOL/KG,PERCNT,TU,PMOL/KG,,PMOL/KG,,PMOL/KG,
33RO200306_02,       A16N,     104,          2,          7,          7,2,20030727,       0041,    13.9995,   -28.9983,       5446,  3548.8,   2.5137,  34.9127,2,  34.9126,2,    244.8,2,   245.1,2,   40.40,2,   21.57,2,    0.00,2,    1.49,2,   0.009,2,   0.002,2,   0.001,2,  2197.2,2,  2343.8,2,    760.9,6,    20.00,   7.7310,2,    25.00,   0.001,2,-999.000,9,-999.000,9, -999.00,9,  -999.0,9,  -999.0,-999.000,9,-999.000,-999.000,9,   41.54,2,   25.84,2, 3548.80,-999.0000,9,-999.0000,9,-999.0000,9,-999.0000,9,-999.0000,9,-999.0000,9,   2.2156,     -999.0,9,     -999.0,9,     -999.0,9,     -999.0,9,        104,-999.000,-999.000,   0.000,     -999.0,9, -999.00,9, -999.00,9
33RO200306_02,       A16N,     104,          2,          6,          6,2,20030727,       0041,    13.9995,   -28.9983,       5446,  3849.9,   2.4246,  34.9027,2,  34.9024,2,    240.0,2,   239.3,2,   45.01,2,   22.30,2,    0.00,2,    1.55,2,-999.000,9,-999.000,9,-999.000,9,  2207.8,3,  2351.8,2,   -999.0,9,  -999.00,   7.7243,2,    25.00,-999.000,9,-999.000,9,-999.000,9, -999.00,9,  -999.0,9,  -999.0,-999.000,9,-999.000,-999.000,9,   41.30,2,   26.49,2, 3849.90,-999.0000,9,-999.0000,9,-999.0000,9,-999.0000,9,-999.0000,9,-999.0000,9,   2.0955,     -999.0,9,     -999.0,9,     -999.0,9,     -999.0,9,        104,-999.000,-999.000,-999.000,     -999.0,9, -999.00,9, -999.00,9
33RO200306_02,       A16N,     104,          2,          5,          5,2,20030727,       0041,    13.9995,   -28.9983,       5446,  4147.9,   2.3596,  34.8929,2,  34.8920,2,    237.6,2,   237.7,2,   48.08,2,   22.67,2,    0.00,2,    1.56,2,   0.013,2,   0.003,2,   0.001,2,  2212.7,2,  2356.3,2,    779.2,6,    20.00,   7.7200,2,    25.00,-999.000,9,-999.000,9,-999.000,9, -999.00,9,  -999.0,9,  -999.0,-999.000,9,-999.000,-999.000,9,   41.30,2,   26.68,2, 4147.90,-999.0000,9,-999.0000,9,-999.0000,9,-999.0000,9,-999.0000,9,-999.0000,9,   1.9983,     -999.0,9,     -999.0,9,     -999.0,9,     -999.0,9,        104,-999.000,-999.000,-999.000,     -999.0,9, -999.00,9, -999.00,9
33RO200306_02,       A16N,     104,          2,          4,          4,2,20030727,       0041,    13.9995,   -28.9983,       5446,  4448.6,   2.3262,  34.8851,2,  34.8844,2,    236.7,2,   236.6,2,   50.19,6,   22.96,6,    0.00,6,    1.58,6,-999.000,9,-999.000,9,-999.000,9,  2216.5,3,  2357.6,2,   -999.0,9,  -999.00,   7.7177,2,    25.00,-999.000,9,-999.000,9,-999.000,9, -999.00,9,  -999.0,9,  -999.0,-999.000,9,-999.000,-999.000,9,   40.73,2,   27.76,2, 4448.60,-999.0000,9,-999.0000,9,-999.0000,9,-999.0000,9,-999.0000,9,-999.0000,9,   1.9305,     -999.0,9,       0.00,2,       0.00,2,       0.06,2,        104,-999.000,-999.000,-999.000,        0.0,2,    0.14,2,    0.12,2
33RO200306_02,       A16N,     104,          2,          3,          3,2,20030727,       0041,    13.9995,   -28.9983,       5446,  4747.7,   2.3154,  34.8801,2,  34.8817,2,    237.1,2,   237.5,2,   51.16,6,   23.01,6,    0.00,6,    1.59,6,   0.010,2,   0.004,2,   0.000,2,  2214.1,2,  2358.2,2,   -999.0,9,  -999.00,   7.7172,2,    25.00,-999.000,9,   1.807,2,   2.513,2, -999.00,9,  -999.0,9,  -999.0,   7.397,4,   0.061,-999.000,9,   41.87,2,   27.64,2, 4747.70,-999.0000,9,-999.0000,9,-999.0000,9,-999.0000,9,-999.0000,9,-999.0000,9,   1.8837,     -999.0,9,     -999.0,9,     -999.0,9,     -999.0,9,        104,   0.004,   0.219,-999.000,     -999.0,9, -999.00,9, -999.00,9
33RO200306_02,       A16N,     104,          2,          2,          2,2,20030727,       0041,    13.9995,   -28.9983,       5446,  5048.7,   2.3046,  34.8766,2,  34.8770,2,    245.1,2,   245.2,2,   49.04,6,   22.43,6,    0.00,6,    1.57,6,   0.014,2,   0.007,2,   0.000,2,  2204.2,2,  2350.0,2,    777.5,2,    20.00,   7.7203,2,    25.00,-999.000,9,-999.000,9,-999.000,9, -999.00,9,  -999.0,9,  -999.0,-999.000,9,-999.000,-999.000,9,   40.98,2,   26.98,2, 5048.70,-999.0000,9,-999.0000,9,-999.0000,9,-999.0000,9,-999.0000,9,-999.0000,9,   1.8357,     -999.0,9,     -999.0,9,     -999.0,9,     -999.0,9,        104,-999.000,-999.000,-999.000,     -999.0,9, -999.00,9, -999.00,9
33RO200306_02,       A16N,     104,          2,          1,          1,2,20030727,       0041,    13.9995,   -28.9983,       5446,  5533.9,   2.3128,  34.8701,2,  34.8706,2,    246.2,2,   245.1,2,   50.41,6,   22.45,6,    0.00,6,    1.57,6,   0.020,2,   0.015,2,   0.002,2,  2207.5,6,  2352.1,2,    779.3,2,    20.00,   7.7146,2,    25.00,-999.000,9,   1.788,2,   3.284,4, -999.00,9,  -999.0,9,  -999.0,   7.126,4,   0.059,-999.000,9,   41.05,2,   25.81,2, 5533.90,-999.0000,9,-999.0000,9,-999.0000,9,-999.0000,9,-999.0000,9,-999.0000,9,   1.7808,     -999.0,9,     -999.0,9,       0.59,2,       0.67,2,        104,   0.004,   0.219,-999.000,        0.0,2,    0.94,2,    0.31,2