BOTTLE,20230908CCHSIOCBG
EXPOCODE,SECT_ID,STNNBR,CASTNO,SAMPNO,BTLNBR,BTLNBR_FLAG_W,DATE,TIME,LATITUDE,LONGITUDE,DEPTH,CTDPRS,CTDTMP,CTDSAL,CTDSAL_FLAG_W,SALNTY,SALNTY_FLAG_W,CTDOXY,CTDOXY_FLAG_W,OXYGEN,OXYGEN_FLAG_W,SILCAT,SILCAT_FLAG_W,NITRAT,NITRAT_FLAG_W,NITRIT,NITRIT_FLAG_W,PHSPHT,PHSPHT_FLAG_W,CFC-11,CFC-11_FLAG_W,CFC-12,CFC-12_FLAG_W,CFC113,CFC113_FLAG_W,TCARBN,TCARBN_FLAG_W,ALKALI,ALKALI_FLAG_W,FCO2,FCO2_FLAG_W,FCO2TMP,PH_SWS,PH_SWS_FLAG_W,PH_TMP,TRITUM,TRITUM_FLAG_W,HELIUM,HELIUM_FLAG_W,DELHE3,DELHE3_FLAG_W,DELC13,DELC13_FLAG_W,DELC14,DELC14_FLAG_W,C14ERR,NEON,NEON_FLAG_W,NEONER,POC,POC_FLAG_W,DOC,DOC_FLAG_W,TDN,TDN_FLAG_W,CTDRAW,CDOM325,CDOM325_FLAG_W,CDOM340,CDOM340_FLAG_W,CDOM380,CDOM380_FLAG_W,CDOM412,CDOM412_FLAG_W,CDOMSL,CDOMSL_FLAG_W,CDOMSN,CDOMSN_FLAG_W,THETA,PON,PON_FLAG_W,HCFC-22,HCFC-22_FLAG_W,HCFC-142b,HCFC-142b_FLAG_W,HCFC-141b,HCFC-141b_FLAG_W,STNNBR_U,HELIER,DELHER,TRITER,CH3CL,CH3CL_FLAG_W,CH3BR,CH3BR_FLAG_W,CH3I,CH3I_FLAG_W
,,,,,,,,,,,METERS,DBAR,ITS-90,PSS-78,,PSS-78,,UMOL/KG,,UMOL/KG,,UMOL/KG,,UMOL/KG,,UMOL/KG,,UMOL/KG,,PMOL/KG,,PMOL/KG,,PMOL/KG,,UMOL/KG,,UMOL/KG,,UATM,,DEG C,,,DEG C,TU,,NMOL/KG,,PERCNT,,/MILLE,,/MILLE,,/MILLE,NMOL/KG,,NMOL/KG,UG/KG,,UMOL/KG,,UMOL/KG,,DBAR,1/M,,1/M,,1/M,,1/M,,1/NM,,1/NM,,DEG C,UMOL/L,,PMOL/KG,,PMOL/KG,,PMOL/KG,,,NMOL/KG,PERCNT,TU,PMOL/KG,,PMOL/KG,,PMOL/KG,
33RO200306_01,       A16N,     037,          2,         23,         23,2,20030628,       1733,    47.0002,   -19.9980,       4535,     9.4,  15.2199,  35.7887,2,  35.7882,2,    254.7,2,  -999.0,9, -999.00,9, -999.00,9, -999.00,9, -999.00,9,   2.951,2,   1.760,2,   0.255,2,  -999.0,9,  -999.0,9,   -999.0,9,  -999.00,-999.0000,9,  -999.00,   1.098,2,-999.000,9,-999.000,9,    1.39,2,    80.5,2,     3.6,-999.000,9,-999.000,-999.000,9, -999.00,9, -999.00,9,    9.40,-999.0000,9,-999.0000,9,-999.0000,9,-999.0000,9,-999.0000,9,-999.0000,9,  15.2185,     -999.0,9,     -999.0,9,     -999.0,9,     -999.0,9,         37,-999.000,-999.000,   0.040,     -999.0,9, -999.00,9, -999.00,9
33RO200306_01,       A16N,     037,          2,         24,         24,2,20030628,       1733,    47.0002,   -19.9980,       4535,     9.5,  15.2243,  35.7888,2,  35.7892,2,    254.7,2,   254.0,2, -999.00,1, -999.00,1, -999.00,1, -999.00,1,-999.000,9,-999.000,9,-999.000,9,  2078.6,2,  2350.3,2,   -999.0,9,  -999.00,-999.0000,9,  -999.00,-999.000,9,-999.000,9,-999.000,9, -999.00,9,  -999.0,9,  -999.0,-999.000,9,-999.000,-999.000,9,   63.90,2,    8.13,2,    9.50,-999.0000,9,-999.0000,9,-999.0000,9,-999.0000,9,-999.0000,9,-999.0000,9,  15.2228,     -999.0,9,     -999.0,9,     -999.0,9,     -999.0,9,         37,-999.000,-999.000,-999.000,     -999.0,9, -999.00,9, -999.00,9
33RO200306_01,       A16N,     037,          2,         22,         22,2,20030628,       1733,    47.0002,   -19.9980,       4535,    49.4,  14.8662,  35.7796,2,  35.7777,2,    252.6,2,   255.1,2,    0.39,6,    2.08,6,    0.12,6,    0.20,6,-999.000,9,-999.000,9,-999.000,9,  2084.0,2,  2350.9,2,   -999.0,9,  -999.00,   7.9616,2,    25.00,-999.000,9,-999.000,9,-999.000,9, -999.00,9,  -999.0,9,  -999.0,-999.000,9,-999.000,-999.000,9,   56.75,2,    8.14,2,   49.40,-999.0000,9,-999.0000,9,-999.0000,9,-999.0000,9,-999.0000,9,-999.0000,9,  14.8587,     -999.0,9,     -999.0,9,     -999.0,9,     -999.0,9,         37,-999.000,-999.000,-999.000,     -999.0,9, -999.00,9, -999.00,9
33RO200306_01,       A16N,     037,          2,         21,         21,2,20030628,       1733,    47.0002,   -19.9980,       4535,    50.3,  14.8721,  35.7800,2,  35.7808,2,    253.0,2,  -999.0,9, -999.00,9, -999.00,9, -999.00,9, -999.00,9,   2.952,2,   1.777,2,   0.269,2,  -999.0,9,  -999.0,9,   -999.0,9,  -999.00,-999.0000,9,  -999.00,-999.000,9,   1.744,2,  -2.340,2, -999.00,9,  -999.0,9,  -999.0,   7.218,2,   0.025,-999.000,9, -999.00,9, -999.00,9,   50.30,-999.0000,9,-999.0000,9,-999.0000,9,-999.0000,9,-999.0000,9,-999.0000,9,  14.8645,     -999.0,9,     -999.0,9,     -999.0,9,     -999.0,9,         37,   0.004,   0.157,-999.000,     -999.0,9, -999.00,9, -999.00,9
33RO200306_01,       A16N,     037,          2,         20,         20,2,20030628,       1733,    47.0002,   -19.9980,       4535,    99.8,  13.4982,  35.8449,2,  35.8464,2,    238.1,2,   236.0,2, -999.00,9, -999.00,9, -999.00,9, -999.00,9,-999.000,9,-999.000,9,-999.000,9,  2118.4,2,  2350.1,2,   -999.0,9,  -999.00,-999.0000,9,  -999.00,-999.000,9,-999.000,9,-999.000,9, -999.00,9,  -999.0,9,  -999.0,-999.000,9,-999.000,-999.000,9, -999.00,9, -999.00,9,   99.80,-999.0000,9,-999.0000,9,-999.0000,9,-999.0000,9,-999.0000,9,-999.0000,9,  13.4841,     -999.0,9,     -999.0,9,     -999.0,9,     -999.0,9,         37,-999.000,-999.000,-999.000,     -999.0,9, -999.00,9, -999.00,9
33RO200306_01,       A16N,     037,          2,         19,         19,9,20030628,       1733,    47.0002,   -19.9980,       4535,   101.4,  13.4763,  35.8419,2,-999.0000,9,    238.0,2,  -999.0,9, -999.00,9, -999.00,9, -999.00,9, -999.00,9,-999.000,9,-999.000,9,-999.000,9,  -999.0,9,  -999.0,9,   -999.0,9,  -999.00,-999.0000,9,  -999.00,-999.000,9,-999.000,9,-999.000,9, -999.00,9,  -999.0,9,  -999.0,-999.000,9,-999.000,-999.000,9, -999.00,9, -999.00,9,  101.40,-999.0000,9,-999.0000,9,-999.0000,9,-999.0000,9,-999.0000,9,-999.0000,9,  13.4619,     -999.0,9,     -999.0,9,     -999.0,9,     -999.0,9,         37,-999.000,-999.000,-999.000,     -999.0,9, -999.00,9, -999.00,9
33RO200306_01,       A16N,     037,          2,         17,         17,2,20030628,       1733,    47.0002,   -19.9980,       4535,   150.3,  13.0990,  35.7973,2,  35.7966,2,    240.4,2,  -999.0,9,    3.17,6,    7.98,6,    0.02,6,    0.48,6,   3.051,2,   1.806,2,   0.245,2,  -999.0,9,  -999.0,9,   -999.0,9,  -999.00,-999.0000,9,  -999.00,-999.000,9,-999.000,9,-999.000,9, -999.00,9,  -999.0,9,  -999.0,-999.000,9,-999.000,-999.000,9, -999.00,9, -999.00,9,  150.30,-999.0000,9,-999.0000,9,-999.0000,9,-999.0000,9,-999.0000,9,-999.0000,9,  13.0781,     -999.0,9,     -999.0,9,     -999.0,9,     -999.0,9,         37,-999.000,-999.000,-999.000,     -999.0,9, -999.00,9, -999.00,9
33RO200306_01,       A16N,     037,          2,         18,         18,2,20030628,       1733,    47.0002,   -19.9980,       4535,   150.5,  13.0903,  35.7957,2,  35.7895,2,    240.4,2,   254.0,2, -999.00,9, -999.00,9, -999.00,9, -999.00,9,-999.000,9,-999.000,9,-999.000,9,  2079.9,4,  2350.9,2,   -999.0,9,  -999.00,-999.0000,9,  -999.00,-999.000,9,-999.000,9,-999.000,9, -999.00,9,  -999.0,9,  -999.0,-999.000,9,-999.000,-999.000,9,   55.04,2, -999.00,9,  150.50,-999.0000,9,-999.0000,9,-999.0000,9,-999.0000,9,-999.0000,9,-999.0000,9,  13.0694,     -999.0,9,     -999.0,9,     -999.0,9,     -999.0,9,         37,-999.000,-999.000,-999.000,     -999.0,9, -999.00,9, -999.00,9
33RO200306_01,       A16N,     037,          2,         15,         15,9,20030628,       1733,    47.0002,   -19.9980,       4535,   201.0,  12.8704,  35.7668,2,-999.0000,9,    240.7,2,  -999.0,9, -999.00,9, -999.00,9, -999.00,9, -999.00,9,-999.000,9,-999.000,9,-999.000,9,  -999.0,9,  -999.0,9,   -999.0,9,  -999.00,-999.0000,9,  -999.00,-999.000,9,-999.000,9,-999.000,9, -999.00,9,  -999.0,9,  -999.0,-999.000,9,-999.000,-999.000,9, -999.00,9, -999.00,9,  201.00,-999.0000,9,-999.0000,9,-999.0000,9,-999.0000,9,-999.0000,9,-999.0000,9,  12.8427,     -999.0,9,     -999.0,9,     -999.0,9,     -999.0,9,         37,-999.000,-999.000,-999.000,     -999.0,9, -999.00,9, -999.00,9
33RO200306_01,       A16N,     037,          2,         16,         16,2,20030628,       1733,    47.0002,   -19.9980,       4535,   201.1,  12.8715,  35.7671,2,  35.7686,2,    240.7,2,   242.4,2, -999.00,1, -999.00,1, -999.00,1, -999.00,1,-999.000,9,-999.000,9,-999.000,9,  2120.7,2,  2350.1,2,   -999.0,9,  -999.00,-999.0000,9,  -999.00,-999.000,9,-999.000,9,-999.000,9, -999.00,9,  -999.0,9,  -999.0,-999.000,9,-999.000,-999.000,9, -999.00,9, -999.00,9,  201.10,-999.0000,9,-999.0000,9,-999.0000,9,-999.0000,9,-999.0000,9,-999.0000,9,  12.8438,     -999.0,9,     -999.0,9,     -999.0,9,     -999.0,9,         37,-999.000,-999.000,-999.000,     -999.0,9, -999.00,9, -999.00,9
33RO200306_01,       A16N,     037,          2,         13,         13,2,20030628,       1733,    47.0002,   -19.9980,       4535,   250.1,  12.7190,  35.7483,2,  35.7482,2,    242.3,2,  -999.0,9, -999.00,9, -999.00,9, -999.00,9, -999.00,9,   3.097,2,   1.829,2,   0.232,2,  -999.0,9,  -999.0,9,   -999.0,9,  -999.00,-999.0000,9,  -999.00,   1.149,2,   1.787,2,  -1.467,2, -999.00,9,  -999.0,9,  -999.0,   7.440,2,   0.023,-999.000,9, -999.00,9, -999.00,9,  250.10,-999.0000,9,-999.0000,9,-999.0000,9,-999.0000,9,-999.0000,9,-999.0000,9,  12.6848,     -999.0,9,     -999.0,9,     -999.0,9,     -999.0,9,         37,   0.005,   0.133,   0.040,     -999.0,9, -999.00,9, -999.00,9
33RO200306_01,       A16N,     037,          2,         14,         14,2,20030628,       1733,    47.0002,   -19.9980,       4535,   251.6,  12.7138,  35.7476,2,  35.7478,2,    242.3,2,   243.6,2,    3.32,6,    8.55,6,    0.02,6,    0.52,6,-999.000,9,-999.000,9,-999.000,9,  2121.7,2,  -999.0,9,   -999.0,9,  -999.00,-999.0000,9,  -999.00,-999.000,9,-999.000,9,-999.000,9, -999.00,9,  -999.0,9,  -999.0,-999.000,9,-999.000,-999.000,9,   50.73,2, -999.00,9,  251.60,-999.0000,9,-999.0000,9,-999.0000,9,-999.0000,9,-999.0000,9,-999.0000,9,  12.6794,     -999.0,9,     -999.0,9,     -999.0,9,     -999.0,9,         37,-999.000,-999.000,-999.000,     -999.0,9, -999.00,9, -999.00,9
33RO200306_01,       A16N,     037,          2,         11,         11,2,20030628,       1733,    47.0002,   -19.9980,       4535,   300.9,  12.2129,  35.6450,2,  35.6441,2,    235.6,2,  -999.0,9, -999.00,9, -999.00,9, -999.00,9, -999.00,9,   3.001,2,   1.747,2,   0.216,2,  -999.0,9,  -999.0,9,   -999.0,9,  -999.00,-999.0000,9,  -999.00,   1.073,2,   1.695,2,  -0.900,2, -999.00,9,  -999.0,9,  -999.0,   7.334,2,   0.023,-999.000,9, -999.00,9, -999.00,9,  300.90,-999.0000,9,-999.0000,9,-999.0000,9,-999.0000,9,-999.0000,9,-999.0000,9,  12.1728,     -999.0,9,     -999.0,9,     -999.0,9,     -999.0,9,         37,   0.022,   0.134,   0.040,     -999.0,9, -999.00,9, -999.00,9
33RO200306_01,       A16N,     037,          2,         12,         12,2,20030628,       1733,    47.0002,   -19.9980,       4535,   302.3,  12.2065,  35.6435,2,  35.6449,2,    235.8,2,   235.2,2,    4.30,6,   10.32,6,    0.02,6,    0.63,6,-999.000,9,-999.000,9,-999.000,9,  2129.2,2,  -999.0,9,   -999.0,9,  -999.00,-999.0000,9,  -999.00,-999.000,9,-999.000,9,-999.000,9, -999.00,9,  -999.0,9,  -999.0,-999.000,9,-999.000,-999.000,9,   48.29,2, -999.00,9,  302.30,-999.0000,9,-999.0000,9,-999.0000,9,-999.0000,9,-999.0000,9,-999.0000,9,  12.1662,     -999.0,9,     -999.0,9,     -999.0,9,     -999.0,9,         37,-999.000,-999.000,-999.000,     -999.0,9, -999.00,9, -999.00,9
33RO200306_01,       A16N,     037,          2,          9,          9,9,20030628,       1733,    47.0002,   -19.9980,       4535,   401.1,  11.6066,  35.5447,2,-999.0000,9,    235.2,2,  -999.0,9, -999.00,9, -999.00,9, -999.00,9, -999.00,9,-999.000,9,-999.000,9,-999.000,9,  -999.0,9,  -999.0,9,   -999.0,9,  -999.00,-999.0000,9,  -999.00,-999.000,9,-999.000,9,-999.000,9, -999.00,9,  -999.0,9,  -999.0,-999.000,9,-999.000,-999.000,9, -999.00,9, -999.00,9,  401.10,-999.0000,9,-999.0000,9,-999.0000,9,-999.0000,9,-999.0000,9,-999.0000,9,  11.5546,     -999.0,9,     -999.0,9,     -999.0,9,     -999.0,9,         37,-999.000,-999.000,-999.000,     -999.0,9, -999.00,9, -999.00,9
33RO200306_01,       A16N,     037,          2,          8,          8,2,20030628,       1733,    47.0002,   -19.9980,       4535,   401.2,  11.6015,  35.5441,2,  35.5468,2,    235.2,2,  -999.0,9, -999.00,9, -999.00,9, -999.00,9, -999.00,9,   3.022,2,   1.765,2,   0.215,2,  -999.0,9,  -999.0,9,   -999.0,9,  -999.00,-999.0000,9,  -999.00,-999.000,9,   1.760,2,  -0.551,2, -999.00,9,  -999.0,9,  -999.0,   7.401,2,   0.023,-999.000,9, -999.00,9, -999.00,9,  401.20,-999.0000,9,-999.0000,9,-999.0000,9,-999.0000,9,-999.0000,9,-999.0000,9,  11.5495,     -999.0,9,     -999.0,9,     -999.0,9,     -999.0,9,         37,   0.004,   0.133,-999.000,     -999.0,9, -999.00,9, -999.00,9
33RO200306_01,       A16N,     037,          2,         10,         10,2,20030628,       1733,    47.0002,   -19.9980,       4535,   401.7,  11.6074,  35.5448,2,  35.5455,2,    235.2,2,   236.6,2,    4.67,6,   11.18,6,    0.01,6,    0.69,6,-999.000,9,-999.000,9,-999.000,9,  2130.7,2,  2337.7,2,   -999.0,9,  -999.00,   7.8565,2,    25.00,-999.000,9,-999.000,9,-999.000,9, -999.00,9,  -999.0,9,  -999.0,-999.000,9,-999.000,-999.000,9,   47.68,2, -999.00,9,  401.70,-999.0000,9,-999.0000,9,-999.0000,9,-999.0000,9,-999.0000,9,-999.0000,9,  11.5554,     -999.0,9,     -999.0,9,     -999.0,9,     -999.0,9,         37,-999.000,-999.000,-999.000,     -999.0,9, -999.00,9, -999.00,9
33RO200306_01,       A16N,     037,          2,          6,          6,3,20030628,       1733,    47.0002,   -19.9980,       4535,   499.4,  11.0362,  35.4598,2,-999.0000,1,    233.5,2,  -999.0,9, -999.00,9, -999.00,9, -999.00,9, -999.00,9,-999.000,9,-999.000,9,-999.000,9,  -999.0,9,  -999.0,9,   -999.0,9,  -999.00,-999.0000,9,  -999.00,-999.000,9,-999.000,9,-999.000,9, -999.00,9,  -999.0,9,  -999.0,-999.000,9,-999.000,-999.000,9, -999.00,9, -999.00,9,  499.40,-999.0000,9,-999.0000,9,-999.0000,9,-999.0000,9,-999.0000,9,-999.0000,9,  10.9733,     -999.0,9,     -999.0,9,     -999.0,9,     -999.0,9,         37,-999.000,-999.000,-999.000,     -999.0,9, -999.00,9, -999.00,9
33RO200306_01,       A16N,     037,          2,          7,          7,2,20030628,       1733,    47.0002,   -19.9980,       4535,   500.8,  11.0270,  35.4580,2,  35.4574,2,    234.1,2,   237.6,2,    5.34,6,   12.00,6,    0.02,6,    0.75,6,-999.000,9,-999.000,9,-999.000,9,  2134.3,2,  2334.0,2,   -999.0,9,  -999.00,   7.8459,2,    25.00,-999.000,9,-999.000,9,-999.000,9, -999.00,9,  -999.0,9,  -999.0,-999.000,9,-999.000,-999.000,9,   47.00,2, -999.00,9,  500.80,-999.0000,9,-999.0000,9,-999.0000,9,-999.0000,9,-999.0000,9,-999.0000,9,  10.9640,     -999.0,9,     -999.0,9,     -999.0,9,     -999.0,9,         37,-999.000,-999.000,-999.000,     -999.0,9, -999.00,9, -999.00,9
33RO200306_01,       A16N,     037,          2,          4,          4,2,20030628,       1733,    47.0002,   -19.9980,       4535,   601.9,  10.3291,  35.3640,2,  35.3625,2,    213.1,2,  -999.0,9, -999.00,9, -999.00,9, -999.00,9, -999.00,9,   2.758,2,   1.572,2,   0.150,2,  -999.0,9,  -999.0,9,   -999.0,9,  -999.00,-999.0000,9,  -999.00,   1.277,2,-999.000,9,-999.000,9, -999.00,9,  -999.0,9,  -999.0,-999.000,9,-999.000,-999.000,9, -999.00,9, -999.00,9,  601.90,-999.0000,9,-999.0000,9,-999.0000,9,-999.0000,9,-999.0000,9,-999.0000,9,  10.2561,     -999.0,9,     -999.0,9,     -999.0,9,     -999.0,9,         37,-999.000,-999.000,   0.020,     -999.0,9, -999.00,9, -999.00,9
33RO200306_01,       A16N,     037,          2,          5,          5,2,20030628,       1733,    47.0002,   -19.9980,       4535,   602.5,  10.3342,  35.3647,2,  35.3654,2,    213.1,2,   212.6,2,    7.13,6,   14.93,6,    0.02,6,    0.93,6,-999.000,9,-999.000,9,-999.000,9,  2150.7,2,  2330.4,2,   -999.0,9,  -999.00,   7.8364,2,    25.00,-999.000,9,-999.000,9,-999.000,9, -999.00,9,  -999.0,9,  -999.0,-999.000,9,-999.000,-999.000,9,   46.52,2, -999.00,9,  602.50,-999.0000,9,-999.0000,9,-999.0000,9,-999.0000,9,-999.0000,9,-999.0000,9,  10.2611,     -999.0,9,     -999.0,9,     -999.0,9,     -999.0,9,         37,-999.000,-999.000,-999.000,     -999.0,9, -999.00,9, -999.00,9
33RO200306_01,       A16N,     037,          2,          3,          3,2,20030628,       1733,    47.0002,   -19.9980,       4535,   702.7,   9.1967,  35.2371,2,  35.2407,2,    199.0,2,   213.3,2,    9.32,6,   17.50,6,    0.01,6,    1.10,6,-999.000,9,-999.000,9,-999.000,9,  2162.8,2,  -999.0,9,   -999.0,9,  -999.00,-999.0000,9,  -999.00,-999.000,9,-999.000,9,-999.000,9, -999.00,9,  -999.0,9,  -999.0,-999.000,9,-999.000,-999.000,9,   46.42,2, -999.00,9,  702.70,-999.0000,9,-999.0000,9,-999.0000,9,-999.0000,9,-999.0000,9,-999.0000,9,   9.1169,     -999.0,9,     -999.0,9,     -999.0,9,     -999.0,9,         37,-999.000,-999.000,-999.000,     -999.0,9, -999.00,9, -999.00,9
33RO200306_01,       A16N,     037,          2,          2,          2,2,20030628,       1733,    47.0002,   -19.9980,       4535,   703.0,   9.1913,  35.2371,2,  35.2380,2,    199.0,2,  -999.0,9, -999.00,9, -999.00,9, -999.00,9, -999.00,9,   2.476,2,   1.371,2,   0.126,2,  -999.0,9,  -999.0,9,   -999.0,9,  -999.00,-999.0000,9,  -999.00,-999.000,9,   1.764,2,   3.286,2, -999.00,9,  -999.0,9,  -999.0,   7.382,2,   0.063,-999.000,9, -999.00,9, -999.00,9,  703.00,-999.0000,9,-999.0000,9,-999.0000,9,-999.0000,9,-999.0000,9,-999.0000,9,   9.1115,     -999.0,9,     -999.0,9,     -999.0,9,     -999.0,9,         37,   0.004,   0.221,-999.000,     -999.0,9, -999.00,9, -999.00,9
33RO200306_01,       A16N,     037,          2,          1,          1,2,20030628,       1733,    47.0002,   -19.9980,       4535,   703.4,   9.1935,  35.2369,2,  35.2369,2,    199.0,2,  -999.0,9, -999.00,9, -999.00,9, -999.00,9, -999.00,9,-999.000,9,-999.000,9,-999.000,9,  -999.0,9,  -999.0,9,   -999.0,9,  -999.00,-999.0000,9,  -999.00,-999.000,9,-999.000,9,-999.000,9, -999.00,9,  -999.0,9,  -999.0,-999.000,9,-999.000,-999.000,9, -999.00,9, -999.00,9,  703.40,-999.0000,9,-999.0000,9,-999.0000,9,-999.0000,9,-999.0000,9,-999.0000,9,   9.1136,     -999.0,9,     -999.0,9,     -999.0,9,     -999.0,9,         37,-999.000,-999.000,-999.000,     -999.0,9, -999.00,9, -999.00,9