BOTTLE,20230908CCHSIOCBG
EXPOCODE,SECT_ID,STNNBR,CASTNO,SAMPNO,BTLNBR,BTLNBR_FLAG_W,DATE,TIME,LATITUDE,LONGITUDE,DEPTH,CTDPRS,CTDTMP,CTDSAL,CTDSAL_FLAG_W,SALNTY,SALNTY_FLAG_W,CTDOXY,CTDOXY_FLAG_W,OXYGEN,OXYGEN_FLAG_W,SILCAT,SILCAT_FLAG_W,NITRAT,NITRAT_FLAG_W,NITRIT,NITRIT_FLAG_W,PHSPHT,PHSPHT_FLAG_W,CFC-11,CFC-11_FLAG_W,CFC-12,CFC-12_FLAG_W,CFC113,CFC113_FLAG_W,TCARBN,TCARBN_FLAG_W,ALKALI,ALKALI_FLAG_W,FCO2,FCO2_FLAG_W,FCO2TMP,PH_SWS,PH_SWS_FLAG_W,PH_TMP,TRITUM,TRITUM_FLAG_W,HELIUM,HELIUM_FLAG_W,DELHE3,DELHE3_FLAG_W,DELC13,DELC13_FLAG_W,DELC14,DELC14_FLAG_W,C14ERR,NEON,NEON_FLAG_W,NEONER,POC,POC_FLAG_W,DOC,DOC_FLAG_W,TDN,TDN_FLAG_W,CTDRAW,CDOM325,CDOM325_FLAG_W,CDOM340,CDOM340_FLAG_W,CDOM380,CDOM380_FLAG_W,CDOM412,CDOM412_FLAG_W,CDOMSL,CDOMSL_FLAG_W,CDOMSN,CDOMSN_FLAG_W,THETA,PON,PON_FLAG_W,HCFC-22,HCFC-22_FLAG_W,HCFC-142b,HCFC-142b_FLAG_W,HCFC-141b,HCFC-141b_FLAG_W,STNNBR_U,HELIER,DELHER,TRITER,CH3CL,CH3CL_FLAG_W,CH3BR,CH3BR_FLAG_W,CH3I,CH3I_FLAG_W
,,,,,,,,,,,METERS,DBAR,ITS-90,PSS-78,,PSS-78,,UMOL/KG,,UMOL/KG,,UMOL/KG,,UMOL/KG,,UMOL/KG,,UMOL/KG,,PMOL/KG,,PMOL/KG,,PMOL/KG,,UMOL/KG,,UMOL/KG,,UATM,,DEG C,,,DEG C,TU,,NMOL/KG,,PERCNT,,/MILLE,,/MILLE,,/MILLE,NMOL/KG,,NMOL/KG,UG/KG,,UMOL/KG,,UMOL/KG,,DBAR,1/M,,1/M,,1/M,,1/M,,1/NM,,1/NM,,DEG C,UMOL/L,,PMOL/KG,,PMOL/KG,,PMOL/KG,,,NMOL/KG,PERCNT,TU,PMOL/KG,,PMOL/KG,,PMOL/KG,
33RO200306_02,       A16N,     074,          1,         35,         35,2,20030717,       1101,    28.9995,   -23.9367,       5189,     3.8,  24.1602,  37.3711,2,-999.0000,1,    213.3,2,   212.3,2,    0.43,2,    0.01,2,    0.00,2,    0.00,2,-999.000,5,-999.000,5,-999.000,5,  2111.0,6,  2442.0,6,    338.2,2,    20.00,   8.0567,6,    25.00,   1.200,2,-999.000,9,-999.000,9, -999.00,9,  -999.0,9,  -999.0,-999.000,9,-999.000,-999.000,9,   63.49,2,    7.68,2,    3.80,-999.0000,9,-999.0000,9,-999.0000,9,-999.0000,9,-999.0000,9,-999.0000,9,  24.1594,     -999.0,9,       4.73,2,       0.15,2,       2.36,2,         74,-999.000,-999.000,   0.050,      40.88,2,     0.0,2,   18.67,2
33RO200306_02,       A16N,     074,          1,         33,         33,2,20030717,       1101,    28.9995,   -23.9367,       5189,    19.9,  24.0001,  37.3643,2,  37.3650,2,    212.4,2,   212.8,2,    0.43,2,    0.00,2,    0.00,2,    0.01,2,-999.000,5,-999.000,5,-999.000,5,  2109.4,2,  2439.2,2,    336.5,2,    20.00,   8.0430,2,    25.00,-999.000,9,-999.000,9,-999.000,9, -999.00,9,  -999.0,9,  -999.0,-999.000,9,-999.000,-999.000,9,   63.00,2,    7.32,2,   19.90,-999.0000,9,-999.0000,9,-999.0000,9,-999.0000,9,-999.0000,9,-999.0000,9,  23.9959,     -999.0,9,       4.36,2,       0.23,2,       0.67,2,         74,-999.000,-999.000,-999.000,      53.88,2,    0.32,2,    16.8,2
33RO200306_02,       A16N,     074,          1,         32,         32,2,20030717,       1101,    28.9995,   -23.9367,       5189,    39.9,  21.5653,  37.1013,2,  37.1015,2,    229.0,2,   230.5,2,    0.45,2,    0.00,2,    0.00,2,    0.01,2,-999.000,5,-999.000,5,-999.000,5,  2097.5,2,  2424.7,2,    342.9,2,    20.00,   8.0363,2,    25.00,   1.267,2,-999.000,9,-999.000,9, -999.00,9,  -999.0,9,  -999.0,-999.000,9,-999.000,-999.000,9,   62.44,2,    6.27,2,   39.90,-999.0000,9,-999.0000,9,-999.0000,9,-999.0000,9,-999.0000,9,-999.0000,9,  21.5575,     -999.0,9,       4.48,2,       0.22,2,       0.55,2,         74,-999.000,-999.000,   0.020,     104.86,2,    0.02,2,   24.79,2
33RO200306_02,       A16N,     074,          1,         31,         31,2,20030717,       1101,    28.9995,   -23.9367,       5189,    60.0,  20.8809,  37.0673,2,  37.0717,2,    230.6,2,   230.3,2,    0.45,2,    0.01,2,    0.00,2,    0.01,2,-999.000,9,-999.000,9,-999.000,9,  2098.2,2,  2423.4,2,   -999.0,9,  -999.00,   8.0167,2,    25.00,-999.000,9,-999.000,9,-999.000,9, -999.00,9,  -999.0,9,  -999.0,-999.000,9,-999.000,-999.000,9, -999.00,9, -999.00,9,   60.00,-999.0000,9,-999.0000,9,-999.0000,9,-999.0000,9,-999.0000,9,-999.0000,9,  20.8694,     -999.0,9,     -999.0,9,     -999.0,9,     -999.0,9,         74,-999.000,-999.000,-999.000,     -999.0,9, -999.00,9, -999.00,9
33RO200306_02,       A16N,     074,          1,         30,         30,2,20030717,       1101,    28.9995,   -23.9367,       5189,    79.7,  20.4535,  37.0290,2,  37.0183,2,    228.5,2,   229.1,2,    0.45,2,    0.01,2,    0.00,2,    0.01,2,-999.000,5,-999.000,5,-999.000,5,  2104.3,2,  2418.4,2,    350.9,2,    20.00,   8.0009,2,    25.00,-999.000,9,-999.000,9,-999.000,9, -999.00,9,  -999.0,9,  -999.0,-999.000,9,-999.000,-999.000,9,   61.66,2,    7.12,2,   79.70,-999.0000,9,-999.0000,9,-999.0000,9,-999.0000,9,-999.0000,9,-999.0000,9,  20.4384,     -999.0,9,       4.60,2,       0.17,2,       0.61,2,         74,-999.000,-999.000,-999.000,     131.05,2,    3.97,2,   13.25,2
33RO200306_02,       A16N,     074,          1,         29,         29,2,20030717,       1101,    28.9995,   -23.9367,       5189,   100.1,  19.9892,  36.9566,2,  36.9509,2,    226.4,2,   226.6,2,    0.45,2,    0.01,2,    0.00,2,    0.01,2,-999.000,5,-999.000,5,-999.000,5,  2105.0,2,  2414.4,2,   -999.0,9,  -999.00,   8.0074,2,    25.00,-999.000,9,-999.000,9,-999.000,9, -999.00,9,  -999.0,9,  -999.0,-999.000,9,-999.000,-999.000,9, -999.00,9, -999.00,9,  100.10,-999.0000,9,-999.0000,9,-999.0000,9,-999.0000,9,-999.0000,9,-999.0000,9,  19.9705,     -999.0,9,     -999.0,9,     -999.0,9,     -999.0,9,         74,-999.000,-999.000,-999.000,     -999.0,9, -999.00,9, -999.00,9
33RO200306_02,       A16N,     074,          1,         28,         28,2,20030717,       1101,    28.9995,   -23.9367,       5189,   123.9,  19.4165,  36.8627,2,  36.8531,2,    223.7,2,   224.1,2,    0.51,2,    0.02,2,    0.01,2,    0.01,2,-999.000,5,-999.000,5,-999.000,5,  2106.7,2,  2408.8,2,    367.4,2,    20.00,   7.9988,2,    25.00,-999.000,9,-999.000,9,-999.000,9, -999.00,9,  -999.0,9,  -999.0,-999.000,9,-999.000,-999.000,9,   54.71,2,    6.60,2,  123.90,-999.0000,9,-999.0000,9,-999.0000,9,-999.0000,9,-999.0000,9,-999.0000,9,  19.3938,     -999.0,9,       4.94,2,       0.19,2,       0.58,2,         74,-999.000,-999.000,-999.000,      37.98,2,    0.55,2,    6.76,2
33RO200306_02,       A16N,     074,          1,         27,         27,2,20030717,       1101,    28.9995,   -23.9367,       5189,   149.6,  18.7987,  36.7626,2,  36.7472,2,    215.4,2,   214.1,2,    0.63,2,    0.95,2,    0.05,2,    0.06,2,-999.000,5,-999.000,5,-999.000,5,  2112.9,2,  2400.9,2,   -999.0,9,  -999.00,   7.9814,2,    25.00,-999.000,9,-999.000,9,-999.000,9, -999.00,9,  -999.0,9,  -999.0,-999.000,9,-999.000,-999.000,9, -999.00,9, -999.00,9,  149.60,-999.0000,9,-999.0000,9,-999.0000,9,-999.0000,9,-999.0000,9,-999.0000,9,  18.7720,     -999.0,9,     -999.0,9,     -999.0,9,     -999.0,9,         74,-999.000,-999.000,-999.000,     -999.0,9, -999.00,9, -999.00,9
33RO200306_02,       A16N,     074,          1,         26,         26,2,20030717,       1101,    28.9995,   -23.9367,       5189,   174.7,  18.1003,  36.6242,2,  36.5905,2,    210.6,2,   207.2,2,    0.92,2,    2.68,2,    0.02,2,    0.15,2,-999.000,9,-999.000,9,-999.000,9,  2116.3,2,  2390.3,2,    408.7,2,    20.00,   7.9709,2,    25.00,-999.000,9,-999.000,9,-999.000,9, -999.00,9,  -999.0,9,  -999.0,-999.000,9,-999.000,-999.000,9,   52.44,2,    9.06,2,  174.70,-999.0000,9,-999.0000,9,-999.0000,9,-999.0000,9,-999.0000,9,-999.0000,9,  18.0699,     -999.0,9,     -999.0,9,     -999.0,9,     -999.0,9,         74,-999.000,-999.000,-999.000,     -999.0,9, -999.00,9, -999.00,9
33RO200306_02,       A16N,     074,          1,         25,         25,2,20030717,       1101,    28.9995,   -23.9367,       5189,   199.8,  17.2126,  36.4377,2,  36.4283,2,    200.9,2,   201.0,2,    1.28,2,    4.35,2,    0.01,2,    0.24,2,-999.000,5,-999.000,5,-999.000,5,  2120.4,2,  2380.8,2,   -999.0,9,  -999.00,   7.9290,2,    25.00,-999.000,9,-999.000,9,-999.000,9, -999.00,9,  -999.0,9,  -999.0,-999.000,9,-999.000,-999.000,9,   51.30,2,    9.58,2,  199.80,-999.0000,9,-999.0000,9,-999.0000,9,-999.0000,9,-999.0000,9,-999.0000,9,  17.1790,     -999.0,9,     -999.0,9,     -999.0,9,     -999.0,9,         74,-999.000,-999.000,-999.000,     -999.0,9, -999.00,9, -999.00,9
33RO200306_02,       A16N,     074,          1,         24,         24,2,20030717,       1101,    28.9995,   -23.9367,       5189,   249.7,  16.0751,  36.2239,2,  36.2202,2,    197.8,2,   198.7,2,    1.94,2,    6.41,2,    0.01,2,    0.36,2,-999.000,5,-999.000,5,-999.000,5,  2124.7,2,  2368.4,2,    468.2,2,    20.00,   7.9161,2,    25.00,   1.288,2,   1.808,2,   1.460,2, -999.00,9,  -999.0,9,  -999.0,   7.381,2,   0.025,-999.000,9,   49.35,2,   11.04,2,  249.70,-999.0000,9,-999.0000,9,-999.0000,9,-999.0000,9,-999.0000,9,-999.0000,9,  16.0350,     -999.0,9,       4.38,2,       0.18,2,       0.66,2,         74,   0.003,   0.179,   0.030,       5.11,2,     0.7,2,    0.26,2
33RO200306_02,       A16N,     074,          1,         23,         23,2,20030717,       1101,    28.9995,   -23.9367,       5189,   300.0,  15.2001,  36.0735,2,  36.0656,2,    196.5,2,   197.3,2,    2.56,2,    8.21,2,    0.01,2,    0.47,2,-999.000,5,-999.000,5,-999.000,5,  2128.7,2,  2359.2,2,   -999.0,9,  -999.00,   7.8928,2,    25.00,-999.000,9,-999.000,9,-999.000,9, -999.00,9,  -999.0,9,  -999.0,-999.000,9,-999.000,-999.000,9,   47.48,2,   12.89,2,  300.00,-999.0000,9,-999.0000,9,-999.0000,9,-999.0000,9,-999.0000,9,-999.0000,9,  15.1537,     -999.0,9,     -999.0,9,     -999.0,9,     -999.0,9,         74,-999.000,-999.000,-999.000,     -999.0,9, -999.00,9, -999.00,9
33RO200306_02,       A16N,     074,          1,         22,         22,2,20030717,       1101,    28.9995,   -23.9367,       5189,   349.9,  14.4754,  35.9628,2,  35.9571,2,    193.5,2,   195.5,2,    3.18,2,    9.79,2,    0.00,2,    0.57,2,-999.000,5,-999.000,5,-999.000,5,  2134.4,2,  2355.5,2,    525.1,2,    20.00,   7.8830,2,    25.00,   1.007,2,-999.000,9,-999.000,9, -999.00,9,  -999.0,9,  -999.0,-999.000,9,-999.000,-999.000,9,   46.91,2,   15.55,2,  349.90,-999.0000,9,-999.0000,9,-999.0000,9,-999.0000,9,-999.0000,9,-999.0000,9,  14.4230,     -999.0,9,       4.26,2,       0.17,2,       0.80,2,         74,-999.000,-999.000,   0.020,      11.84,2,    1.06,2,    0.42,2
33RO200306_02,       A16N,     074,          1,         21,         21,2,20030717,       1101,    28.9995,   -23.9367,       5189,   400.3,  13.7610,  35.8594,2,  35.8587,2,    192.4,2,   194.0,2,    3.77,2,   11.10,2,    0.00,2,    0.65,2,-999.000,5,-999.000,5,-999.000,5,  2139.6,2,  2347.9,2,   -999.0,9,  -999.00,   7.8405,2,    25.00,-999.000,9,-999.000,9,-999.000,9, -999.00,9,  -999.0,9,  -999.0,-999.000,9,-999.000,-999.000,9,   46.02,2,   15.16,2,  400.30,-999.0000,9,-999.0000,9,-999.0000,9,-999.0000,9,-999.0000,9,-999.0000,9,  13.7030,     -999.0,9,     -999.0,9,     -999.0,9,     -999.0,9,         74,-999.000,-999.000,-999.000,     -999.0,9, -999.00,9, -999.00,9
33RO200306_02,       A16N,     074,          1,         20,         20,2,20030717,       1101,    28.9995,   -23.9367,       5189,   449.8,  13.1527,  35.7791,2,  35.7636,2,    190.1,2,   189.7,2,    4.57,2,   12.81,2,    0.00,2,    0.75,2,-999.000,5,-999.000,5,-999.000,5,  2144.6,2,  2343.7,2,    586.9,2,    20.00,   7.8348,2,    25.00,   0.998,2,   1.794,2,   3.261,2, -999.00,9,  -999.0,9,  -999.0,   7.355,2,   0.024,-999.000,9,   45.37,2,   16.70,2,  449.80,-999.0000,9,-999.0000,9,-999.0000,9,-999.0000,9,-999.0000,9,-999.0000,9,  13.0893,     -999.0,9,       3.26,2,       0.06,2,       0.75,2,         74,   0.003,   0.179,   0.050,       5.84,2,    1.54,2,    0.42,2
33RO200306_02,       A16N,     074,          1,         19,         19,2,20030717,       1101,    28.9995,   -23.9367,       5189,   499.3,  12.5250,  35.7009,2,  35.7021,2,    188.8,2,   188.8,2,    5.05,2,   13.72,2,    0.00,2,    0.80,2,-999.000,5,-999.000,5,-999.000,5,  2147.4,2,  2341.2,2,   -999.0,9,  -999.00,   7.8099,2,    25.00,-999.000,9,-999.000,9,-999.000,9, -999.00,9,  -999.0,9,  -999.0,-999.000,9,-999.000,-999.000,9,   44.71,2,   17.38,2,  499.30,-999.0000,9,-999.0000,9,-999.0000,9,-999.0000,9,-999.0000,9,-999.0000,9,  12.4567,     -999.0,9,     -999.0,9,     -999.0,9,     -999.0,9,         74,-999.000,-999.000,-999.000,     -999.0,9, -999.00,9, -999.00,9
33RO200306_02,       A16N,     074,          1,         18,         18,2,20030717,       1101,    28.9995,   -23.9367,       5189,   599.2,  11.5002,  35.5852,2,  35.5839,2,    186.9,2,   187.1,2,    6.35,2,   15.75,2,    0.00,2,    0.93,2,-999.000,5,-999.000,5,-999.000,5,  2155.9,2,  2335.2,2,    654.7,2,    20.00,   7.7898,2,    25.00,-999.000,9,-999.000,9,-999.000,9, -999.00,9,  -999.0,9,  -999.0,-999.000,9,-999.000,-999.000,9,   44.36,2,   19.46,2,  599.20,-999.0000,9,-999.0000,9,-999.0000,9,-999.0000,9,-999.0000,9,-999.0000,9,  11.4224,     -999.0,9,       2.62,2,       0.09,2,       0.77,2,         74,-999.000,-999.000,-999.000,      23.64,2,    2.39,2,    0.59,2
33RO200306_02,       A16N,     074,          1,         17,         17,2,20030717,       1101,    28.9995,   -23.9367,       5189,   699.8,  10.5773,  35.5069,2,  35.5109,2,    172.7,2,   170.2,2,    8.96,2,   18.90,2,    0.00,2,    1.14,2,-999.000,5,-999.000,5,-999.000,5,  2171.4,2,  2333.7,6,   -999.0,9,  -999.00,   7.7562,6,    25.00,   0.847,2,-999.000,9,-999.000,9, -999.00,9,  -999.0,9,  -999.0,-999.000,9,-999.000,-999.000,9,   43.66,2,   22.29,2,  699.80,-999.0000,9,-999.0000,9,-999.0000,9,-999.0000,9,-999.0000,9,-999.0000,9,  10.4906,     -999.0,9,     -999.0,9,     -999.0,9,     -999.0,9,         74,-999.000,-999.000,   0.030,     -999.0,9, -999.00,9, -999.00,9
33RO200306_02,       A16N,     074,          1,         16,         16,2,20030717,       1101,    28.9995,   -23.9367,       5189,   799.4,   9.7459,  35.4641,2,  35.4672,2,    158.5,2,   159.1,2,   11.62,2,   21.35,2,    0.00,2,    1.31,2,-999.000,5,-999.000,5,-999.000,5,  2184.3,2,  2334.4,2,    775.9,2,    20.00,   7.7223,2,    25.00,-999.000,9,-999.000,9,-999.000,9, -999.00,9,  -999.0,9,  -999.0,-999.000,9,-999.000,-999.000,9,   43.98,2,   24.51,2,  799.40,-999.0000,9,-999.0000,9,-999.0000,9,-999.0000,9,-999.0000,9,-999.0000,9,   9.6512,     -999.0,9,       0.83,2,       0.00,2,       0.80,2,         74,-999.000,-999.000,-999.000,      14.27,2,    1.79,2,    0.44,2
33RO200306_02,       A16N,     074,          1,         15,         15,2,20030717,       1101,    28.9995,   -23.9367,       5189,   900.1,   8.9478,  35.4263,2,  35.4264,2,    159.6,2,   158.6,2,   13.55,2,   22.46,2,    0.00,2,    1.40,2,-999.000,5,-999.000,5,-999.000,5,  2191.7,2,  2337.0,2,   -999.0,9,  -999.00,   7.7089,2,    25.00,   0.498,2,-999.000,9,-999.000,9, -999.00,9,  -999.0,9,  -999.0,-999.000,9,-999.000,-999.000,9,   42.52,2,   25.80,2,  900.10,-999.0000,9,-999.0000,9,-999.0000,9,-999.0000,9,-999.0000,9,-999.0000,9,   8.8459,     -999.0,9,     -999.0,9,     -999.0,9,     -999.0,9,         74,-999.000,-999.000,   0.010,     -999.0,9, -999.00,9, -999.00,9
33RO200306_02,       A16N,     074,          1,         14,         14,2,20030717,       1101,    28.9995,   -23.9367,       5189,   999.7,   8.5980,  35.4534,2,  35.4580,2,    165.6,2,   166.1,2,   13.97,2,   22.01,2,    0.00,2,    1.38,2,-999.000,5,-999.000,5,-999.000,5,  2191.4,6,  2340.1,2,    787.2,2,    20.00,   7.7186,2,    25.00,   0.412,2,-999.000,9,-999.000,9, -999.00,9,  -999.0,9,  -999.0,-999.000,9,-999.000,-999.000,9,   42.44,2,   24.93,2,  999.70,-999.0000,9,-999.0000,9,-999.0000,9,-999.0000,9,-999.0000,9,-999.0000,9,   8.4867,     -999.0,9,       0.42,2,       0.00,2,       0.54,2,         74,-999.000,-999.000,   0.010,      15.75,2,    0.92,2,    0.33,2
33RO200306_02,       A16N,     074,          1,         13,         13,2,20030717,       1101,    28.9995,   -23.9367,       5189,  1100.0,   8.2842,  35.4874,2,  35.4896,2,    173.0,2,   173.1,2,   14.30,2,   21.44,2,    0.00,2,    1.34,2,-999.000,5,-999.000,5,-999.000,5,  2193.0,2,  2344.3,2,   -999.0,9,  -999.00,   7.7310,2,    25.00,   0.441,2,-999.000,9,-999.000,9, -999.00,9,  -999.0,9,  -999.0,-999.000,9,-999.000,-999.000,9,   41.87,2,   24.98,2, 1100.00,-999.0000,9,-999.0000,9,-999.0000,9,-999.0000,9,-999.0000,9,-999.0000,9,   8.1634,     -999.0,9,     -999.0,9,     -999.0,9,     -999.0,9,         74,-999.000,-999.000,   0.020,     -999.0,9, -999.00,9, -999.00,9
33RO200306_02,       A16N,     074,          1,         12,         12,2,20030717,       1101,    28.9995,   -23.9367,       5189,  1199.4,   7.6180,  35.4400,2,  35.4406,2,    177.9,2,   179.6,2,   15.50,2,   21.62,2,    0.00,2,    1.36,2,-999.000,5,-999.000,5,-999.000,5,  2193.1,2,  2343.5,2,   -999.0,9,  -999.00,   7.7210,2,    25.00,   0.357,2,-999.000,9,-999.000,9, -999.00,9,  -999.0,9,  -999.0,-999.000,9,-999.000,-999.000,9,   40.49,2,   25.53,2, 1199.40,-999.0000,9,-999.0000,9,-999.0000,9,-999.0000,9,-999.0000,9,-999.0000,9,   7.4914,     -999.0,9,     -999.0,9,     -999.0,9,     -999.0,9,         74,-999.000,-999.000,   0.010,     -999.0,9, -999.00,9, -999.00,9
33RO200306_02,       A16N,     074,          1,         11,         11,2,20030717,       1101,    28.9995,   -23.9367,       5189,  1399.7,   6.5622,  35.3539,2,  35.3493,2,    198.7,2,   199.4,2,   16.23,2,   20.83,2,    0.00,2,    1.32,2,-999.000,5,-999.000,5,-999.000,5,  2187.7,2,  2338.6,2,    765.7,2,    20.00,   7.7199,2,    25.00,   0.252,2,-999.000,9,-999.000,9, -999.00,9,  -999.0,9,  -999.0,-999.000,9,-999.000,-999.000,9,   40.90,2,   25.34,2, 1399.70,-999.0000,9,-999.0000,9,-999.0000,9,-999.0000,9,-999.0000,9,-999.0000,9,   6.4236,     -999.0,9,       0.10,2,       0.00,2,       0.38,2,         74,-999.000,-999.000,   0.010,       14.9,2,    0.43,2,    0.18,2
33RO200306_02,       A16N,     074,          1,         10,         10,2,20030717,       1101,    28.9995,   -23.9367,       5189,  1599.1,   5.6682,  35.2676,2,  35.2643,2,    216.4,2,   215.2,2,   17.24,2,   20.16,2,    0.00,2,    1.29,2,-999.000,5,-999.000,5,-999.000,5,  2182.3,2,  2335.1,2,   -999.0,9,  -999.00,   7.7326,2,    25.00,-999.000,9,-999.000,9,-999.000,9, -999.00,9,  -999.0,9,  -999.0,-999.000,9,-999.000,-999.000,9,   41.54,2,   24.57,2, 1599.10,-999.0000,9,-999.0000,9,-999.0000,9,-999.0000,9,-999.0000,9,-999.0000,9,   5.5184,     -999.0,9,     -999.0,9,     -999.0,9,     -999.0,9,         74,-999.000,-999.000,-999.000,     -999.0,9, -999.00,9, -999.00,9
33RO200306_02,       A16N,     074,          1,          9,          9,2,20030717,       1101,    28.9995,   -23.9367,       5189,  1800.0,   4.8664,  35.1735,2,  35.1738,2,    226.5,2,   226.9,2,   18.97,2,   20.05,2,    0.00,2,    1.30,2,-999.000,5,-999.000,5,-999.000,5,  2180.2,2,  2331.9,2,   -999.0,9,  -999.00,   7.7323,2,    25.00,-999.000,9,   1.840,2,   2.662,2, -999.00,9,  -999.0,9,  -999.0,   8.351,3,   0.028,-999.000,9,   40.98,2,   24.25,2, 1800.00,-999.0000,9,-999.0000,9,-999.0000,9,-999.0000,9,-999.0000,9,-999.0000,9,   4.7061,     -999.0,9,     -999.0,9,     -999.0,9,     -999.0,9,         74,   0.004,   0.178,-999.000,     -999.0,9, -999.00,9, -999.00,9
33RO200306_02,       A16N,     074,          1,          8,          8,2,20030717,       1101,    28.9995,   -23.9367,       5189,  2000.4,   4.2881,  35.1063,2,  35.1098,2,    233.2,2,   232.3,2,   21.49,2,   20.18,2,    0.00,2,    1.32,2,-999.000,5,-999.000,5,-999.000,5,  2179.1,2,  2330.8,2,   -999.0,9,  -999.00,   7.7367,2,    25.00,-999.000,9,-999.000,9,-999.000,9, -999.00,9,  -999.0,9,  -999.0,-999.000,9,-999.000,-999.000,9,   40.73,2,   25.09,2, 2000.40,-999.0000,9,-999.0000,9,-999.0000,9,-999.0000,9,-999.0000,9,-999.0000,9,   4.1159,     -999.0,9,     -999.0,9,     -999.0,9,     -999.0,9,         74,-999.000,-999.000,-999.000,     -999.0,9, -999.00,9, -999.00,9