BOTTLE,20230908CCHSIOCBG
EXPOCODE,SECT_ID,STNNBR,CASTNO,SAMPNO,BTLNBR,BTLNBR_FLAG_W,DATE,TIME,LATITUDE,LONGITUDE,DEPTH,CTDPRS,CTDTMP,CTDSAL,CTDSAL_FLAG_W,SALNTY,SALNTY_FLAG_W,CTDOXY,CTDOXY_FLAG_W,OXYGEN,OXYGEN_FLAG_W,SILCAT,SILCAT_FLAG_W,NITRAT,NITRAT_FLAG_W,NITRIT,NITRIT_FLAG_W,PHSPHT,PHSPHT_FLAG_W,CFC-11,CFC-11_FLAG_W,CFC-12,CFC-12_FLAG_W,CFC113,CFC113_FLAG_W,TCARBN,TCARBN_FLAG_W,ALKALI,ALKALI_FLAG_W,FCO2,FCO2_FLAG_W,FCO2TMP,PH_SWS,PH_SWS_FLAG_W,PH_TMP,TRITUM,TRITUM_FLAG_W,HELIUM,HELIUM_FLAG_W,DELHE3,DELHE3_FLAG_W,DELC13,DELC13_FLAG_W,DELC14,DELC14_FLAG_W,C14ERR,NEON,NEON_FLAG_W,NEONER,POC,POC_FLAG_W,DOC,DOC_FLAG_W,TDN,TDN_FLAG_W,CTDRAW,CDOM325,CDOM325_FLAG_W,CDOM340,CDOM340_FLAG_W,CDOM380,CDOM380_FLAG_W,CDOM412,CDOM412_FLAG_W,CDOMSL,CDOMSL_FLAG_W,CDOMSN,CDOMSN_FLAG_W,THETA,PON,PON_FLAG_W,HCFC-22,HCFC-22_FLAG_W,HCFC-142b,HCFC-142b_FLAG_W,HCFC-141b,HCFC-141b_FLAG_W,STNNBR_U,HELIER,DELHER,TRITER,CH3CL,CH3CL_FLAG_W,CH3BR,CH3BR_FLAG_W,CH3I,CH3I_FLAG_W
,,,,,,,,,,,METERS,DBAR,ITS-90,PSS-78,,PSS-78,,UMOL/KG,,UMOL/KG,,UMOL/KG,,UMOL/KG,,UMOL/KG,,UMOL/KG,,PMOL/KG,,PMOL/KG,,PMOL/KG,,UMOL/KG,,UMOL/KG,,UATM,,DEG C,,,DEG C,TU,,NMOL/KG,,PERCNT,,/MILLE,,/MILLE,,/MILLE,NMOL/KG,,NMOL/KG,UG/KG,,UMOL/KG,,UMOL/KG,,DBAR,1/M,,1/M,,1/M,,1/M,,1/NM,,1/NM,,DEG C,UMOL/L,,PMOL/KG,,PMOL/KG,,PMOL/KG,,,NMOL/KG,PERCNT,TU,PMOL/KG,,PMOL/KG,,PMOL/KG,
33RO200306_02,       A16N,     075,          1,         35,         35,2,20030717,       1857,    28.5005,   -24.2188,       5201,     3.2,  24.3024,  37.4298,2,  37.4387,2,    214.9,2,   211.6,2,    0.42,2,    0.01,2,    0.00,2,    0.01,2,-999.000,9,-999.000,9,-999.000,9,  2111.9,6,  -999.0,9,    331.4,6,    20.00,-999.0000,9,  -999.00,-999.000,9,-999.000,9,-999.000,9, -999.00,9,  -999.0,9,  -999.0,-999.000,9,-999.000,-999.000,9, -999.00,9, -999.00,9,    3.20,-999.0000,9,-999.0000,9,-999.0000,9,-999.0000,9,-999.0000,9,-999.0000,9,  24.3017,     -999.0,9,     -999.0,9,     -999.0,9,     -999.0,9,         75,-999.000,-999.000,-999.000,     -999.0,9, -999.00,9, -999.00,9
33RO200306_02,       A16N,     075,          1,         33,         33,2,20030717,       1857,    28.5005,   -24.2188,       5201,     9.4,  24.2847,  37.4279,2,  37.4303,2,    216.2,2,   211.7,2,    0.41,2,    0.01,2,    0.00,2,    0.00,2,-999.000,9,-999.000,9,-999.000,9,  -999.0,9,  -999.0,9,   -999.0,9,  -999.00,-999.0000,9,  -999.00,-999.000,9,-999.000,9,-999.000,9, -999.00,9,  -999.0,9,  -999.0,-999.000,9,-999.000,-999.000,9, -999.00,9, -999.00,9,    9.40,-999.0000,9,-999.0000,9,-999.0000,9,-999.0000,9,-999.0000,9,-999.0000,9,  24.2827,     -999.0,9,     -999.0,9,     -999.0,9,     -999.0,9,         75,-999.000,-999.000,-999.000,     -999.0,9, -999.00,9, -999.00,9
33RO200306_02,       A16N,     075,          1,         32,         32,2,20030717,       1857,    28.5005,   -24.2188,       5201,    29.9,  24.1007,  37.4069,2,  37.3527,2,    215.0,2,   215.3,2,    0.43,2,    0.01,2,    0.00,2,    0.00,2,-999.000,9,-999.000,9,-999.000,9,  -999.0,9,  -999.0,9,   -999.0,9,  -999.00,-999.0000,9,  -999.00,-999.000,9,-999.000,9,-999.000,9, -999.00,9,  -999.0,9,  -999.0,-999.000,9,-999.000,-999.000,9, -999.00,9, -999.00,9,   29.90,-999.0000,9,-999.0000,9,-999.0000,9,-999.0000,9,-999.0000,9,-999.0000,9,  24.0943,     -999.0,9,     -999.0,9,     -999.0,9,     -999.0,9,         75,-999.000,-999.000,-999.000,     -999.0,9, -999.00,9, -999.00,9
33RO200306_02,       A16N,     075,          1,         31,         31,2,20030717,       1857,    28.5005,   -24.2188,       5201,    49.3,  21.1004,  37.0022,2,  37.0072,2,    231.7,2,   233.5,2,    0.49,2,    0.02,2,    0.00,2,    0.01,2,-999.000,9,-999.000,9,-999.000,9,  -999.0,9,  -999.0,9,   -999.0,9,  -999.00,-999.0000,9,  -999.00,-999.000,9,-999.000,9,-999.000,9, -999.00,9,  -999.0,9,  -999.0,-999.000,9,-999.000,-999.000,9, -999.00,9, -999.00,9,   49.30,-999.0000,9,-999.0000,9,-999.0000,9,-999.0000,9,-999.0000,9,-999.0000,9,  21.0909,     -999.0,9,     -999.0,9,     -999.0,9,     -999.0,9,         75,-999.000,-999.000,-999.000,     -999.0,9, -999.00,9, -999.00,9
33RO200306_02,       A16N,     075,          1,         29,         29,2,20030717,       1857,    28.5005,   -24.2188,       5201,    69.2,  20.4668,  36.9668,2,  36.9666,2,    233.2,2,   233.6,2,    0.49,2,    0.04,2,    0.00,2,    0.01,2,-999.000,9,-999.000,9,-999.000,9,  -999.0,9,  -999.0,9,   -999.0,9,  -999.00,-999.0000,9,  -999.00,-999.000,9,-999.000,9,-999.000,9, -999.00,9,  -999.0,9,  -999.0,-999.000,9,-999.000,-999.000,9, -999.00,9, -999.00,9,   69.20,-999.0000,9,-999.0000,9,-999.0000,9,-999.0000,9,-999.0000,9,-999.0000,9,  20.4537,     -999.0,9,     -999.0,9,     -999.0,9,     -999.0,9,         75,-999.000,-999.000,-999.000,     -999.0,9, -999.00,9, -999.00,9
33RO200306_02,       A16N,     075,          1,         30,         30,2,20030717,       1857,    28.5005,   -24.2188,       5201,    69.3,  20.4577,  36.9664,2,  36.9622,2,    233.2,2,   234.1,2,    0.49,2,    0.01,2,    0.00,2,    0.00,2,-999.000,9,-999.000,9,-999.000,9,  -999.0,9,  -999.0,9,   -999.0,9,  -999.00,-999.0000,9,  -999.00,-999.000,9,-999.000,9,-999.000,9, -999.00,9,  -999.0,9,  -999.0,-999.000,9,-999.000,-999.000,9, -999.00,9, -999.00,9,   69.30,-999.0000,9,-999.0000,9,-999.0000,9,-999.0000,9,-999.0000,9,-999.0000,9,  20.4446,     -999.0,9,     -999.0,9,     -999.0,9,     -999.0,9,         75,-999.000,-999.000,-999.000,     -999.0,9, -999.00,9, -999.00,9
33RO200306_02,       A16N,     075,          1,         28,         28,2,20030717,       1857,    28.5005,   -24.2188,       5201,   109.3,  19.3721,  36.8406,2,  36.8351,2,    229.3,2,   227.9,2,    0.53,2,    0.02,2,    0.00,2,    0.01,2,-999.000,9,-999.000,9,-999.000,9,  -999.0,9,  -999.0,9,   -999.0,9,  -999.00,-999.0000,9,  -999.00,-999.000,9,-999.000,9,-999.000,9, -999.00,9,  -999.0,9,  -999.0,-999.000,9,-999.000,-999.000,9, -999.00,9, -999.00,9,  109.30,-999.0000,9,-999.0000,9,-999.0000,9,-999.0000,9,-999.0000,9,-999.0000,9,  19.3522,     -999.0,9,     -999.0,9,     -999.0,9,     -999.0,9,         75,-999.000,-999.000,-999.000,     -999.0,9, -999.00,9, -999.00,9
33RO200306_02,       A16N,     075,          1,         27,         27,2,20030717,       1857,    28.5005,   -24.2188,       5201,   134.3,  18.9250,  36.7763,2,  36.7593,2,    223.2,2,   221.2,2,    0.58,2,    0.18,2,    0.03,2,    0.02,2,-999.000,9,-999.000,9,-999.000,9,  -999.0,9,  -999.0,9,   -999.0,9,  -999.00,-999.0000,9,  -999.00,-999.000,9,-999.000,9,-999.000,9, -999.00,9,  -999.0,9,  -999.0,-999.000,9,-999.000,-999.000,9, -999.00,9, -999.00,9,  134.30,-999.0000,9,-999.0000,9,-999.0000,9,-999.0000,9,-999.0000,9,-999.0000,9,  18.9009,     -999.0,9,     -999.0,9,     -999.0,9,     -999.0,9,         75,-999.000,-999.000,-999.000,     -999.0,9, -999.00,9, -999.00,9
33RO200306_02,       A16N,     075,          1,         26,         26,2,20030717,       1857,    28.5005,   -24.2188,       5201,   159.3,  18.1385,  36.6284,2,  36.6086,2,    212.3,2,   211.1,2,    0.85,2,    1.98,2,    0.04,2,    0.10,2,-999.000,9,-999.000,9,-999.000,9,  -999.0,9,  -999.0,9,   -999.0,9,  -999.00,-999.0000,9,  -999.00,-999.000,9,-999.000,9,-999.000,9, -999.00,9,  -999.0,9,  -999.0,-999.000,9,-999.000,-999.000,9, -999.00,9, -999.00,9,  159.30,-999.0000,9,-999.0000,9,-999.0000,9,-999.0000,9,-999.0000,9,-999.0000,9,  18.1107,     -999.0,9,     -999.0,9,     -999.0,9,     -999.0,9,         75,-999.000,-999.000,-999.000,     -999.0,9, -999.00,9, -999.00,9
33RO200306_02,       A16N,     075,          1,         25,         25,2,20030717,       1857,    28.5005,   -24.2188,       5201,   184.6,  17.4825,  36.4926,2,  36.4824,2,    204.1,2,   205.6,2,    1.14,2,    3.53,2,    0.02,2,    0.19,2,-999.000,9,-999.000,9,-999.000,9,  -999.0,9,  -999.0,9,   -999.0,9,  -999.00,-999.0000,9,  -999.00,-999.000,9,-999.000,9,-999.000,9, -999.00,9,  -999.0,9,  -999.0,-999.000,9,-999.000,-999.000,9, -999.00,9, -999.00,9,  184.60,-999.0000,9,-999.0000,9,-999.0000,9,-999.0000,9,-999.0000,9,-999.0000,9,  17.4511,     -999.0,9,     -999.0,9,     -999.0,9,     -999.0,9,         75,-999.000,-999.000,-999.000,     -999.0,9, -999.00,9, -999.00,9
33RO200306_02,       A16N,     075,          1,         24,         24,2,20030717,       1857,    28.5005,   -24.2188,       5201,   224.4,  16.6862,  36.3332,2,  36.3285,2,    199.6,2,   202.7,2,    1.55,2,    5.14,2,    0.01,2,    0.28,2,-999.000,9,-999.000,9,-999.000,9,  -999.0,9,  -999.0,9,   -999.0,9,  -999.00,-999.0000,9,  -999.00,-999.000,9,-999.000,9,-999.000,9, -999.00,9,  -999.0,9,  -999.0,-999.000,9,-999.000,-999.000,9, -999.00,9, -999.00,9,  224.40,-999.0000,9,-999.0000,9,-999.0000,9,-999.0000,9,-999.0000,9,-999.0000,9,  16.6493,     -999.0,9,     -999.0,9,     -999.0,9,     -999.0,9,         75,-999.000,-999.000,-999.000,     -999.0,9, -999.00,9, -999.00,9
33RO200306_02,       A16N,     075,          1,         23,         23,2,20030717,       1857,    28.5005,   -24.2188,       5201,   272.9,  15.5154,  36.1247,2,  36.1254,2,    200.3,2,   200.1,2,    2.29,2,    7.29,2,    0.01,2,    0.41,2,-999.000,9,-999.000,9,-999.000,9,  -999.0,9,  -999.0,9,   -999.0,9,  -999.00,-999.0000,9,  -999.00,-999.000,9,-999.000,9,-999.000,9, -999.00,9,  -999.0,9,  -999.0,-999.000,9,-999.000,-999.000,9, -999.00,9, -999.00,9,  272.90,-999.0000,9,-999.0000,9,-999.0000,9,-999.0000,9,-999.0000,9,-999.0000,9,  15.4726,     -999.0,9,     -999.0,9,     -999.0,9,     -999.0,9,         75,-999.000,-999.000,-999.000,     -999.0,9, -999.00,9, -999.00,9
33RO200306_02,       A16N,     075,          1,         22,         22,2,20030717,       1857,    28.5005,   -24.2188,       5201,   323.5,  14.7587,  36.0014,2,  35.9987,2,    199.9,2,   202.8,2,    2.76,2,    8.40,2,    0.01,2,    0.47,2,-999.000,9,-999.000,9,-999.000,9,  -999.0,9,  -999.0,9,   -999.0,9,  -999.00,-999.0000,9,  -999.00,-999.000,9,-999.000,9,-999.000,9, -999.00,9,  -999.0,9,  -999.0,-999.000,9,-999.000,-999.000,9, -999.00,9, -999.00,9,  323.50,-999.0000,9,-999.0000,9,-999.0000,9,-999.0000,9,-999.0000,9,-999.0000,9,  14.7096,     -999.0,9,     -999.0,9,     -999.0,9,     -999.0,9,         75,-999.000,-999.000,-999.000,     -999.0,9, -999.00,9, -999.00,9
33RO200306_02,       A16N,     075,          1,         21,         21,2,20030717,       1857,    28.5005,   -24.2188,       5201,   374.2,  13.8855,  35.8725,2,  35.8682,2,    197.7,2,   198.4,2,    3.56,2,   10.35,2,    0.00,2,    0.60,2,-999.000,9,-999.000,9,-999.000,9,  -999.0,9,  -999.0,9,   -999.0,9,  -999.00,-999.0000,9,  -999.00,-999.000,9,-999.000,9,-999.000,9, -999.00,9,  -999.0,9,  -999.0,-999.000,9,-999.000,-999.000,9, -999.00,9, -999.00,9,  374.20,-999.0000,9,-999.0000,9,-999.0000,9,-999.0000,9,-999.0000,9,-999.0000,9,  13.8310,     -999.0,9,     -999.0,9,     -999.0,9,     -999.0,9,         75,-999.000,-999.000,-999.000,     -999.0,9, -999.00,9, -999.00,9
33RO200306_02,       A16N,     075,          1,         20,         20,2,20030717,       1857,    28.5005,   -24.2188,       5201,   424.6,  13.2455,  35.7885,2,  35.7839,2,    195.5,2,   192.0,2,    4.37,2,   12.22,2,    0.00,2,    0.71,2,-999.000,9,-999.000,9,-999.000,9,  -999.0,9,  -999.0,9,   -999.0,9,  -999.00,-999.0000,9,  -999.00,-999.000,9,-999.000,9,-999.000,9, -999.00,9,  -999.0,9,  -999.0,-999.000,9,-999.000,-999.000,9, -999.00,9, -999.00,9,  424.60,-999.0000,9,-999.0000,9,-999.0000,9,-999.0000,9,-999.0000,9,-999.0000,9,  13.1854,     -999.0,9,     -999.0,9,     -999.0,9,     -999.0,9,         75,-999.000,-999.000,-999.000,     -999.0,9, -999.00,9, -999.00,9
33RO200306_02,       A16N,     075,          1,         19,         19,2,20030717,       1857,    28.5005,   -24.2188,       5201,   474.8,  12.5455,  35.7054,2,  35.7046,2,    187.0,2,   188.0,2,    5.13,2,   13.77,2,    0.00,2,    0.81,2,-999.000,9,-999.000,9,-999.000,9,  -999.0,9,  -999.0,9,   -999.0,9,  -999.00,-999.0000,9,  -999.00,-999.000,9,-999.000,9,-999.000,9, -999.00,9,  -999.0,9,  -999.0,-999.000,9,-999.000,-999.000,9, -999.00,9, -999.00,9,  474.80,-999.0000,9,-999.0000,9,-999.0000,9,-999.0000,9,-999.0000,9,-999.0000,9,  12.4806,     -999.0,9,     -999.0,9,     -999.0,9,     -999.0,9,         75,-999.000,-999.000,-999.000,     -999.0,9, -999.00,9, -999.00,9
33RO200306_02,       A16N,     075,          1,         18,         18,2,20030717,       1857,    28.5005,   -24.2188,       5201,   549.8,  11.7954,  35.6191,2,  35.6152,2,    183.8,2,   183.4,2,    6.25,2,   15.53,2,    0.00,2,    0.92,2,-999.000,9,-999.000,9,-999.000,9,  -999.0,9,  -999.0,9,   -999.0,9,  -999.00,-999.0000,9,  -999.00,-999.000,9,-999.000,9,-999.000,9, -999.00,9,  -999.0,9,  -999.0,-999.000,9,-999.000,-999.000,9, -999.00,9, -999.00,9,  549.80,-999.0000,9,-999.0000,9,-999.0000,9,-999.0000,9,-999.0000,9,-999.0000,9,  11.7230,     -999.0,9,     -999.0,9,     -999.0,9,     -999.0,9,         75,-999.000,-999.000,-999.000,     -999.0,9, -999.00,9, -999.00,9
33RO200306_02,       A16N,     075,          1,         17,         17,2,20030717,       1857,    28.5005,   -24.2188,       5201,   649.6,  10.8970,  35.5355,2,  35.5363,2,    173.5,2,   173.7,2,    8.18,2,   17.98,2,    0.00,2,    1.08,2,-999.000,9,-999.000,9,-999.000,9,  -999.0,9,  -999.0,9,   -999.0,9,  -999.00,-999.0000,9,  -999.00,-999.000,9,-999.000,9,-999.000,9, -999.00,9,  -999.0,9,  -999.0,-999.000,9,-999.000,-999.000,9, -999.00,9, -999.00,9,  649.60,-999.0000,9,-999.0000,9,-999.0000,9,-999.0000,9,-999.0000,9,-999.0000,9,  10.8152,     -999.0,9,     -999.0,9,     -999.0,9,     -999.0,9,         75,-999.000,-999.000,-999.000,     -999.0,9, -999.00,9, -999.00,9
33RO200306_02,       A16N,     075,          1,         16,         16,2,20030717,       1857,    28.5005,   -24.2188,       5201,   744.0,  10.0314,  35.4732,2,  35.4672,2,    163.8,2,   161.0,2,   10.87,2,   20.68,2,    0.00,2,    1.26,2,-999.000,5,-999.000,5,-999.000,5,  -999.0,9,  -999.0,9,   -999.0,9,  -999.00,-999.0000,9,  -999.00,-999.000,9,-999.000,9,-999.000,9, -999.00,9,  -999.0,9,  -999.0,-999.000,9,-999.000,-999.000,9, -999.00,9, -999.00,9,  744.00,-999.0000,9,-999.0000,9,-999.0000,9,-999.0000,9,-999.0000,9,-999.0000,9,   9.9420,     -999.0,9,     -999.0,9,     -999.0,9,     -999.0,9,         75,-999.000,-999.000,-999.000,     -999.0,9, -999.00,9, -999.00,9
33RO200306_02,       A16N,     075,          1,         15,         15,2,20030717,       1857,    28.5005,   -24.2188,       5201,   849.8,   8.9219,  35.3779,2,  35.3823,2,    157.0,2,   155.7,2,   13.65,2,   22.85,2,    0.00,2,    1.42,2,-999.000,5,-999.000,5,-999.000,5,  -999.0,9,  -999.0,9,   -999.0,9,  -999.00,-999.0000,9,  -999.00,-999.000,9,-999.000,9,-999.000,9, -999.00,9,  -999.0,9,  -999.0,-999.000,9,-999.000,-999.000,9, -999.00,9, -999.00,9,  849.80,-999.0000,9,-999.0000,9,-999.0000,9,-999.0000,9,-999.0000,9,-999.0000,9,   8.8261,     -999.0,9,     -999.0,9,     -999.0,9,     -999.0,9,         75,-999.000,-999.000,-999.000,     -999.0,9, -999.00,9, -999.00,9
33RO200306_02,       A16N,     075,          1,         14,         14,2,20030717,       1857,    28.5005,   -24.2188,       5201,   949.1,   8.3547,  35.3842,2,  35.3882,2,    158.3,2,   160.6,2,   14.88,2,   22.97,2,    0.00,2,    1.44,2,-999.000,5,-999.000,5,-999.000,5,  -999.0,9,  -999.0,9,   -999.0,9,  -999.00,-999.0000,9,  -999.00,-999.000,9,-999.000,9,-999.000,9, -999.00,9,  -999.0,9,  -999.0,-999.000,9,-999.000,-999.000,9, -999.00,9, -999.00,9,  949.10,-999.0000,9,-999.0000,9,-999.0000,9,-999.0000,9,-999.0000,9,-999.0000,9,   8.2510,     -999.0,9,     -999.0,9,     -999.0,9,     -999.0,9,         75,-999.000,-999.000,-999.000,     -999.0,9, -999.00,9, -999.00,9
33RO200306_02,       A16N,     075,          1,         13,         13,2,20030717,       1857,    28.5005,   -24.2188,       5201,  1049.8,   8.0192,  35.4036,2,  35.4065,2,    168.1,2,   167.7,2,   15.25,2,   22.53,2,    0.00,2,    1.42,2,-999.000,5,-999.000,5,-999.000,5,  -999.0,9,  -999.0,9,   -999.0,9,  -999.00,-999.0000,9,  -999.00,-999.000,9,-999.000,9,-999.000,9, -999.00,9,  -999.0,9,  -999.0,-999.000,9,-999.000,-999.000,9, -999.00,9, -999.00,9, 1049.80,-999.0000,9,-999.0000,9,-999.0000,9,-999.0000,9,-999.0000,9,-999.0000,9,   7.9064,     -999.0,9,     -999.0,9,     -999.0,9,     -999.0,9,         75,-999.000,-999.000,-999.000,     -999.0,9, -999.00,9, -999.00,9
33RO200306_02,       A16N,     075,          1,         12,         12,2,20030717,       1857,    28.5005,   -24.2188,       5201,  1146.7,   7.6392,  35.4121,2,  35.4123,2,    172.8,2,   176.6,2,   15.84,2,   22.17,2,    0.00,2,    1.40,2,-999.000,5,-999.000,5,-999.000,5,  -999.0,9,  -999.0,9,   -999.0,9,  -999.00,-999.0000,9,  -999.00,-999.000,9,-999.000,9,-999.000,9, -999.00,9,  -999.0,9,  -999.0,-999.000,9,-999.000,-999.000,9, -999.00,9, -999.00,9, 1146.70,-999.0000,9,-999.0000,9,-999.0000,9,-999.0000,9,-999.0000,9,-999.0000,9,   7.5184,     -999.0,9,     -999.0,9,     -999.0,9,     -999.0,9,         75,-999.000,-999.000,-999.000,     -999.0,9, -999.00,9, -999.00,9
33RO200306_02,       A16N,     075,          1,         11,         11,2,20030717,       1857,    28.5005,   -24.2188,       5201,  1299.5,   7.1486,  35.4217,2,  35.4236,2,    188.9,2,   188.8,2,   15.86,2,   20.94,2,    0.00,2,    1.33,2,-999.000,5,-999.000,5,-999.000,5,  -999.0,9,  -999.0,9,   -999.0,9,  -999.00,-999.0000,9,  -999.00,-999.000,9,-999.000,9,-999.000,9, -999.00,9,  -999.0,9,  -999.0,-999.000,9,-999.000,-999.000,9, -999.00,9, -999.00,9, 1299.50,-999.0000,9,-999.0000,9,-999.0000,9,-999.0000,9,-999.0000,9,-999.0000,9,   7.0151,     -999.0,9,     -999.0,9,     -999.0,9,     -999.0,9,         75,-999.000,-999.000,-999.000,     -999.0,9, -999.00,9, -999.00,9
33RO200306_02,       A16N,     075,          1,         10,         10,2,20030717,       1857,    28.5005,   -24.2188,       5201,  1499.4,   6.1172,  35.3187,2,  35.3209,2,    209.7,2,   209.5,2,   16.27,2,   20.08,2,    0.00,2,    1.28,2,-999.000,5,-999.000,5,-999.000,5,  -999.0,9,  -999.0,9,   -999.0,9,  -999.00,-999.0000,9,  -999.00,-999.000,9,-999.000,9,-999.000,9, -999.00,9,  -999.0,9,  -999.0,-999.000,9,-999.000,-999.000,9, -999.00,9, -999.00,9, 1499.40,-999.0000,9,-999.0000,9,-999.0000,9,-999.0000,9,-999.0000,9,-999.0000,9,   5.9727,     -999.0,9,     -999.0,9,     -999.0,9,     -999.0,9,         75,-999.000,-999.000,-999.000,     -999.0,9, -999.00,9, -999.00,9
33RO200306_02,       A16N,     075,          1,          9,          9,2,20030717,       1857,    28.5005,   -24.2188,       5201,  1699.9,   5.2308,  35.2217,2,  35.2237,2,    223.4,2,   222.9,2,   17.85,2,   19.82,2,    0.00,2,    1.28,2,-999.000,5,-999.000,5,-999.000,5,  -999.0,9,  -999.0,9,   -999.0,9,  -999.00,-999.0000,9,  -999.00,-999.000,9,-999.000,9,-999.000,9, -999.00,9,  -999.0,9,  -999.0,-999.000,9,-999.000,-999.000,9, -999.00,9, -999.00,9, 1699.90,-999.0000,9,-999.0000,9,-999.0000,9,-999.0000,9,-999.0000,9,-999.0000,9,   5.0759,     -999.0,9,     -999.0,9,     -999.0,9,     -999.0,9,         75,-999.000,-999.000,-999.000,     -999.0,9, -999.00,9, -999.00,9
33RO200306_02,       A16N,     075,          1,          8,          8,2,20030717,       1857,    28.5005,   -24.2188,       5201,  1899.7,   4.5327,  35.1374,2,  35.1400,2,    233.2,2,   233.6,2,   19.31,2,   19.67,2,    0.00,2,    1.27,2,-999.000,5,-999.000,5,-999.000,5,  -999.0,9,  -999.0,9,   -999.0,9,  -999.00,-999.0000,9,  -999.00,-999.000,9,-999.000,9,-999.000,9, -999.00,9,  -999.0,9,  -999.0,-999.000,9,-999.000,-999.000,9, -999.00,9, -999.00,9, 1899.70,-999.0000,9,-999.0000,9,-999.0000,9,-999.0000,9,-999.0000,9,-999.0000,9,   4.3670,     -999.0,9,     -999.0,9,     -999.0,9,     -999.0,9,         75,-999.000,-999.000,-999.000,     -999.0,9, -999.00,9, -999.00,9