BOTTLE,20230908CCHSIOCBG
EXPOCODE,SECT_ID,STNNBR,CASTNO,SAMPNO,BTLNBR,BTLNBR_FLAG_W,DATE,TIME,LATITUDE,LONGITUDE,DEPTH,CTDPRS,CTDTMP,CTDSAL,CTDSAL_FLAG_W,SALNTY,SALNTY_FLAG_W,CTDOXY,CTDOXY_FLAG_W,OXYGEN,OXYGEN_FLAG_W,SILCAT,SILCAT_FLAG_W,NITRAT,NITRAT_FLAG_W,NITRIT,NITRIT_FLAG_W,PHSPHT,PHSPHT_FLAG_W,CFC-11,CFC-11_FLAG_W,CFC-12,CFC-12_FLAG_W,CFC113,CFC113_FLAG_W,TCARBN,TCARBN_FLAG_W,ALKALI,ALKALI_FLAG_W,FCO2,FCO2_FLAG_W,FCO2TMP,PH_SWS,PH_SWS_FLAG_W,PH_TMP,TRITUM,TRITUM_FLAG_W,HELIUM,HELIUM_FLAG_W,DELHE3,DELHE3_FLAG_W,DELC13,DELC13_FLAG_W,DELC14,DELC14_FLAG_W,C14ERR,NEON,NEON_FLAG_W,NEONER,POC,POC_FLAG_W,DOC,DOC_FLAG_W,TDN,TDN_FLAG_W,CTDRAW,CDOM325,CDOM325_FLAG_W,CDOM340,CDOM340_FLAG_W,CDOM380,CDOM380_FLAG_W,CDOM412,CDOM412_FLAG_W,CDOMSL,CDOMSL_FLAG_W,CDOMSN,CDOMSN_FLAG_W,THETA,PON,PON_FLAG_W,HCFC-22,HCFC-22_FLAG_W,HCFC-142b,HCFC-142b_FLAG_W,HCFC-141b,HCFC-141b_FLAG_W,STNNBR_U,HELIER,DELHER,TRITER,CH3CL,CH3CL_FLAG_W,CH3BR,CH3BR_FLAG_W,CH3I,CH3I_FLAG_W
,,,,,,,,,,,METERS,DBAR,ITS-90,PSS-78,,PSS-78,,UMOL/KG,,UMOL/KG,,UMOL/KG,,UMOL/KG,,UMOL/KG,,UMOL/KG,,PMOL/KG,,PMOL/KG,,PMOL/KG,,UMOL/KG,,UMOL/KG,,UATM,,DEG C,,,DEG C,TU,,NMOL/KG,,PERCNT,,/MILLE,,/MILLE,,/MILLE,NMOL/KG,,NMOL/KG,UG/KG,,UMOL/KG,,UMOL/KG,,DBAR,1/M,,1/M,,1/M,,1/M,,1/NM,,1/NM,,DEG C,UMOL/L,,PMOL/KG,,PMOL/KG,,PMOL/KG,,,NMOL/KG,PERCNT,TU,PMOL/KG,,PMOL/KG,,PMOL/KG,
33RO200306_01,       A16N,     050,          1,          7,          7,2,20030702,       0926,    40.4995,   -20.0015,       4920,  1999.7,   3.7354,  34.9777,2,  34.9761,2,    262.6,2,   263.7,2,   13.70,2,   17.65,2,    0.00,2,    1.15,2,   1.484,2,   0.733,2,   0.064,2,  -999.0,9,  -999.0,9,   -999.0,9,  -999.00,-999.0000,9,  -999.00,-999.000,9,-999.000,9,-999.000,9, -999.00,9,  -999.0,9,  -999.0,-999.000,9,-999.000,-999.000,9, -999.00,9, -999.00,9, 1999.70,   0.1590,2,   0.1130,2,   0.0630,2,   0.0460,2,   0.0130,2,   0.0150,2,   3.5718,     -999.0,9,       1.05,2,       0.00,2,       0.10,2,         50,-999.000,-999.000,-999.000,      25.23,2,     0.3,2,    0.32,2
33RO200306_01,       A16N,     050,          1,          6,          6,2,20030702,       0926,    40.4995,   -20.0015,       4920,  2499.3,   3.1931,  34.9626,2,  34.9606,2,    257.8,2,   257.4,2,   21.33,2,   18.46,2,    0.00,2,    1.23,2,-999.000,9,-999.000,9,-999.000,9,  -999.0,9,  -999.0,9,   -999.0,9,  -999.00,-999.0000,9,  -999.00,-999.000,9,-999.000,9,-999.000,9, -999.00,9,  -999.0,9,  -999.0,-999.000,9,-999.000,-999.000,9, -999.00,9, -999.00,9, 2499.30,-999.0000,9,-999.0000,9,-999.0000,9,-999.0000,9,-999.0000,9,-999.0000,9,   2.9896,     -999.0,9,     -999.0,9,     -999.0,9,     -999.0,9,         50,-999.000,-999.000,-999.000,     -999.0,9, -999.00,9, -999.00,9
33RO200306_01,       A16N,     050,          1,          5,          5,2,20030702,       0926,    40.4995,   -20.0015,       4920,  3000.3,   2.7857,  34.9417,2,  34.9413,2,    249.7,2,   249.0,2,   31.37,2,   20.02,2,    0.00,2,    1.34,2,   0.275,2,   0.140,2,   0.008,2,  -999.0,9,  -999.0,9,   -999.0,9,  -999.00,-999.0000,9,  -999.00,-999.000,9,-999.000,9,-999.000,9, -999.00,9,  -999.0,9,  -999.0,-999.000,9,-999.000,-999.000,9, -999.00,9, -999.00,9, 3000.30,   0.3420,2,   0.2530,2,   0.1540,2,   0.1170,2,   0.0100,3,   0.0110,3,   2.5395,     -999.0,9,       0.00,2,       0.00,2,       0.12,2,         50,-999.000,-999.000,-999.000,      60.04,2,    2.38,2,     0.3,2
33RO200306_01,       A16N,     050,          1,          4,          4,2,20030702,       0926,    40.4995,   -20.0015,       4920,  3499.6,   2.6115,  34.9239,2,  34.9235,2,    244.0,2,   243.5,2,   38.47,6,   21.20,6,    0.00,6,    1.42,6,   0.167,2,   0.085,2,   0.011,2,  -999.0,9,  -999.0,9,   -999.0,9,  -999.00,-999.0000,9,  -999.00,-999.000,9,-999.000,9,-999.000,9, -999.00,9,  -999.0,9,  -999.0,-999.000,9,-999.000,-999.000,9, -999.00,9, -999.00,9, 3499.60,-999.0000,9,-999.0000,9,-999.0000,9,-999.0000,9,-999.0000,9,-999.0000,9,   2.3163,     -999.0,9,       0.00,2,       0.00,2,       0.16,2,         50,-999.000,-999.000,-999.000,      11.48,2,    0.16,2,     0.0,2
33RO200306_01,       A16N,     050,          1,          3,          3,2,20030702,       0926,    40.4995,   -20.0015,       4920,  3998.6,   2.5530,  34.9131,2,  34.9141,2,    242.1,2,   242.8,2,   42.02,6,   21.79,6,    0.00,6,    1.46,6,-999.000,9,-999.000,9,-999.000,9,  -999.0,9,  -999.0,9,   -999.0,9,  -999.00,-999.0000,9,  -999.00,-999.000,9,-999.000,9,-999.000,9, -999.00,9,  -999.0,9,  -999.0,-999.000,9,-999.000,-999.000,9, -999.00,9, -999.00,9, 3998.60,   0.1520,2,   0.1010,2,   0.0500,2,   0.0350,2,   0.0160,2,   0.0190,2,   2.2034,     -999.0,9,     -999.0,9,     -999.0,9,     -999.0,9,         50,-999.000,-999.000,-999.000,     -999.0,9, -999.00,9, -999.00,9
33RO200306_01,       A16N,     050,          1,          2,          2,2,20030702,       0926,    40.4995,   -20.0015,       4920,  4469.8,   2.5125,  34.9034,2,  34.9036,2,    243.2,2,   240.5,2,   44.16,6,   22.12,6,    0.00,6,    1.49,6,   0.025,2,   0.015,2,   0.006,2,  -999.0,9,  -999.0,9,   -999.0,9,  -999.00,-999.0000,9,  -999.00,-999.000,9,-999.000,9,-999.000,9, -999.00,9,  -999.0,9,  -999.0,-999.000,9,-999.000,-999.000,9, -999.00,9, -999.00,9, 4469.80,-999.0000,9,-999.0000,9,-999.0000,9,-999.0000,9,-999.0000,9,-999.0000,9,   2.1084,     -999.0,9,       0.00,2,       0.00,2,       0.15,2,         50,-999.000,-999.000,-999.000,      24.34,2,    0.15,2,    0.12,2
33RO200306_01,       A16N,     050,          1,          1,          1,2,20030702,       0926,    40.4995,   -20.0015,       4920,  4995.3,   2.5344,  34.8981,2,  34.8989,2,    244.7,2,   246.1,2,   45.19,6,   22.20,6,    0.00,6,    1.50,6,   0.013,2,   0.014,2,   0.003,2,  -999.0,9,  -999.0,9,   -999.0,9,  -999.00,-999.0000,9,  -999.00,-999.000,9,-999.000,9,-999.000,9, -999.00,9,  -999.0,9,  -999.0,-999.000,9,-999.000,-999.000,9, -999.00,9, -999.00,9, 4995.30,-999.0000,9,-999.0000,9,-999.0000,9,-999.0000,9,-999.0000,9,-999.0000,9,   2.0644,     -999.0,9,       0.00,2,       0.00,2,       0.25,2,         50,-999.000,-999.000,-999.000,      46.38,2,    0.81,2,    0.67,2