BOTTLE,20230908CCHSIOCBG
EXPOCODE,SECT_ID,STNNBR,CASTNO,SAMPNO,BTLNBR,BTLNBR_FLAG_W,DATE,TIME,LATITUDE,LONGITUDE,DEPTH,CTDPRS,CTDTMP,CTDSAL,CTDSAL_FLAG_W,SALNTY,SALNTY_FLAG_W,CTDOXY,CTDOXY_FLAG_W,OXYGEN,OXYGEN_FLAG_W,SILCAT,SILCAT_FLAG_W,NITRAT,NITRAT_FLAG_W,NITRIT,NITRIT_FLAG_W,PHSPHT,PHSPHT_FLAG_W,CFC-11,CFC-11_FLAG_W,CFC-12,CFC-12_FLAG_W,CFC113,CFC113_FLAG_W,TCARBN,TCARBN_FLAG_W,ALKALI,ALKALI_FLAG_W,FCO2,FCO2_FLAG_W,FCO2TMP,PH_SWS,PH_SWS_FLAG_W,PH_TMP,TRITUM,TRITUM_FLAG_W,HELIUM,HELIUM_FLAG_W,DELHE3,DELHE3_FLAG_W,DELC13,DELC13_FLAG_W,DELC14,DELC14_FLAG_W,C14ERR,NEON,NEON_FLAG_W,NEONER,POC,POC_FLAG_W,DOC,DOC_FLAG_W,TDN,TDN_FLAG_W,CTDRAW,CDOM325,CDOM325_FLAG_W,CDOM340,CDOM340_FLAG_W,CDOM380,CDOM380_FLAG_W,CDOM412,CDOM412_FLAG_W,CDOMSL,CDOMSL_FLAG_W,CDOMSN,CDOMSN_FLAG_W,THETA,PON,PON_FLAG_W,HCFC-22,HCFC-22_FLAG_W,HCFC-142b,HCFC-142b_FLAG_W,HCFC-141b,HCFC-141b_FLAG_W,STNNBR_U,HELIER,DELHER,TRITER,CH3CL,CH3CL_FLAG_W,CH3BR,CH3BR_FLAG_W,CH3I,CH3I_FLAG_W
,,,,,,,,,,,METERS,DBAR,ITS-90,PSS-78,,PSS-78,,UMOL/KG,,UMOL/KG,,UMOL/KG,,UMOL/KG,,UMOL/KG,,UMOL/KG,,PMOL/KG,,PMOL/KG,,PMOL/KG,,UMOL/KG,,UMOL/KG,,UATM,,DEG C,,,DEG C,TU,,NMOL/KG,,PERCNT,,/MILLE,,/MILLE,,/MILLE,NMOL/KG,,NMOL/KG,UG/KG,,UMOL/KG,,UMOL/KG,,DBAR,1/M,,1/M,,1/M,,1/M,,1/NM,,1/NM,,DEG C,UMOL/L,,PMOL/KG,,PMOL/KG,,PMOL/KG,,,NMOL/KG,PERCNT,TU,PMOL/KG,,PMOL/KG,,PMOL/KG,
33RO200306_02,       A16N,     080,          1,          7,          7,2,20030719,       0756,    25.9998,   -25.6255,       4277,  2650.6,   3.0196,  34.9677,2,  34.9701,2,    241.7,2,   242.8,2,   31.17,2,   20.78,2,    0.01,2,    1.40,2,   0.013,2,   0.010,2,   0.004,2,  2185.3,2,  2335.7,2,   -999.0,9,  -999.00,   7.7289,2,    25.00,-999.000,9,-999.000,9,-999.000,9, -999.00,9,  -999.0,9,  -999.0,-999.000,9,-999.000,-999.000,9,   40.57,2,   25.99,2, 2650.60,-999.0000,9,-999.0000,9,-999.0000,9,-999.0000,9,-999.0000,9,-999.0000,9,   2.8042,     -999.0,9,       0.00,2,       0.00,2,       0.15,2,         80,-999.000,-999.000,-999.000,      63.21,2,    1.14,2,     0.0,2
33RO200306_02,       A16N,     080,          1,          6,          6,2,20030719,       0756,    25.9998,   -25.6255,       4277,  2949.8,   2.7480,  34.9410,2,  34.9430,2,    243.0,2,   243.0,2,   35.48,2,   21.22,2,    0.01,2,    1.43,2,   0.012,2,   0.008,2,   0.003,2,  2190.3,2,  2340.0,2,    755.2,6,    20.00,   7.7244,2,    25.00,-999.000,9,-999.000,9,-999.000,9, -999.00,9,  -999.0,9,  -999.0,-999.000,9,-999.000,-999.000,9,   41.05,2,   25.23,2, 2949.80,-999.0000,9,-999.0000,9,-999.0000,9,-999.0000,9,-999.0000,9,-999.0000,9,   2.5078,     -999.0,9,     -999.0,9,     -999.0,9,     -999.0,9,         80,-999.000,-999.000,-999.000,     -999.0,9, -999.00,9, -999.00,9
33RO200306_02,       A16N,     080,          1,          5,          5,2,20030719,       0756,    25.9998,   -25.6255,       4277,  3364.4,   2.5677,  34.9206,2,  34.9225,2,    243.2,2,   243.0,2,   39.69,2,   21.69,2,    0.01,2,    1.48,2,   0.015,2,   0.006,2,   0.001,2,  2194.3,2,  2343.6,2,   -999.0,9,  -999.00,   7.7270,2,    25.00,-999.000,9,-999.000,9,-999.000,9, -999.00,9,  -999.0,9,  -999.0,-999.000,9,-999.000,-999.000,9,   40.57,2,   26.49,2, 3364.40,-999.0000,9,-999.0000,9,-999.0000,9,-999.0000,9,-999.0000,9,-999.0000,9,   2.2882,     -999.0,9,     -999.0,9,     -999.0,9,     -999.0,9,         80,-999.000,-999.000,-999.000,     -999.0,9, -999.00,9, -999.00,9
33RO200306_02,       A16N,     080,          1,          4,          4,2,20030719,       0756,    25.9998,   -25.6255,       4277,  3550.1,   2.5263,  34.9150,2,  34.9167,2,    242.8,2,   242.4,2,   41.08,6,   21.90,6,    0.01,6, -999.00,0,   0.003,2,   0.003,2,   0.002,2,  2195.5,2,  2344.9,2,    760.0,2,    20.00,   7.7371,2,    25.00,-999.000,9,-999.000,9,-999.000,9, -999.00,9,  -999.0,9,  -999.0,-999.000,9,-999.000,-999.000,9,   41.87,2,   26.38,2, 3550.10,-999.0000,9,-999.0000,9,-999.0000,9,-999.0000,9,-999.0000,9,-999.0000,9,   2.2277,     -999.0,9,     -999.0,9,     -999.0,9,     -999.0,9,         80,-999.000,-999.000,-999.000,     -999.0,9, -999.00,9, -999.00,9
33RO200306_02,       A16N,     080,          1,          3,          3,2,20030719,       0756,    25.9998,   -25.6255,       4277,  3850.2,   2.4551,  34.9051,2,  34.9079,2,    243.4,2,   242.4,2,   43.31,6,   22.13,6,    0.01,6, -999.00,0,   0.007,2,   0.004,2,   0.003,2,  2197.7,2,  2346.7,2,    760.6,2,    20.00,   7.7259,2,    25.00,-999.000,9,-999.000,9,-999.000,9, -999.00,9,  -999.0,9,  -999.0,-999.000,9,-999.000,-999.000,9,   40.73,2,   25.80,2, 3850.20,-999.0000,9,-999.0000,9,-999.0000,9,-999.0000,9,-999.0000,9,-999.0000,9,   2.1251,     -999.0,9,     -999.0,9,     -999.0,9,     -999.0,9,         80,-999.000,-999.000,-999.000,     -999.0,9, -999.00,9, -999.00,9
33RO200306_02,       A16N,     080,          1,          2,          2,2,20030719,       0756,    25.9998,   -25.6255,       4277,  4150.0,   2.4261,  34.8990,2,  34.9013,2,    243.2,2,   243.1,2,   44.68,6,   22.24,6,    0.01,6, -999.00,0,   0.006,2,   0.002,2,   0.001,2,  2199.2,2,  2347.6,2,    758.4,6,    20.00,   7.7252,2,    25.00,-999.000,9,-999.000,9,-999.000,9, -999.00,9,  -999.0,9,  -999.0,-999.000,9,-999.000,-999.000,9,   40.62,2,   26.24,2, 4150.00,-999.0000,9,-999.0000,9,-999.0000,9,-999.0000,9,-999.0000,9,-999.0000,9,   2.0626,     -999.0,9,     -999.0,9,     -999.0,9,     -999.0,9,         80,-999.000,-999.000,-999.000,     -999.0,9, -999.00,9, -999.00,9
33RO200306_02,       A16N,     080,          1,          1,          1,2,20030719,       0756,    25.9998,   -25.6255,       4277,  4432.5,   2.3936,  34.8924,2,  34.8943,2,    243.3,2,   243.6,2,   46.17,6,   22.38,6,    0.01,6, -999.00,0,   0.008,2,   0.001,2,   0.000,2,  2196.8,2,  2349.9,6,    757.3,2,    20.00,   7.7264,6,    25.00,-999.000,9,-999.000,9,-999.000,9, -999.00,9,  -999.0,9,  -999.0,-999.000,9,-999.000,-999.000,9,   41.14,2,   25.84,2, 4432.50,-999.0000,9,-999.0000,9,-999.0000,9,-999.0000,9,-999.0000,9,-999.0000,9,   1.9977,     -999.0,9,     -999.0,9,     -999.0,9,     -999.0,9,         80,-999.000,-999.000,-999.000,     -999.0,9, -999.00,9, -999.00,9