BOTTLE,20230908CCHSIOCBG
EXPOCODE,SECT_ID,STNNBR,CASTNO,SAMPNO,BTLNBR,BTLNBR_FLAG_W,DATE,TIME,LATITUDE,LONGITUDE,DEPTH,CTDPRS,CTDTMP,CTDSAL,CTDSAL_FLAG_W,SALNTY,SALNTY_FLAG_W,CTDOXY,CTDOXY_FLAG_W,OXYGEN,OXYGEN_FLAG_W,SILCAT,SILCAT_FLAG_W,NITRAT,NITRAT_FLAG_W,NITRIT,NITRIT_FLAG_W,PHSPHT,PHSPHT_FLAG_W,CFC-11,CFC-11_FLAG_W,CFC-12,CFC-12_FLAG_W,CFC113,CFC113_FLAG_W,TCARBN,TCARBN_FLAG_W,ALKALI,ALKALI_FLAG_W,FCO2,FCO2_FLAG_W,FCO2TMP,PH_SWS,PH_SWS_FLAG_W,PH_TMP,TRITUM,TRITUM_FLAG_W,HELIUM,HELIUM_FLAG_W,DELHE3,DELHE3_FLAG_W,DELC13,DELC13_FLAG_W,DELC14,DELC14_FLAG_W,C14ERR,NEON,NEON_FLAG_W,NEONER,POC,POC_FLAG_W,DOC,DOC_FLAG_W,TDN,TDN_FLAG_W,CTDRAW,CDOM325,CDOM325_FLAG_W,CDOM340,CDOM340_FLAG_W,CDOM380,CDOM380_FLAG_W,CDOM412,CDOM412_FLAG_W,CDOMSL,CDOMSL_FLAG_W,CDOMSN,CDOMSN_FLAG_W,THETA,PON,PON_FLAG_W,HCFC-22,HCFC-22_FLAG_W,HCFC-142b,HCFC-142b_FLAG_W,HCFC-141b,HCFC-141b_FLAG_W,STNNBR_U,HELIER,DELHER,TRITER,CH3CL,CH3CL_FLAG_W,CH3BR,CH3BR_FLAG_W,CH3I,CH3I_FLAG_W
,,,,,,,,,,,METERS,DBAR,ITS-90,PSS-78,,PSS-78,,UMOL/KG,,UMOL/KG,,UMOL/KG,,UMOL/KG,,UMOL/KG,,UMOL/KG,,PMOL/KG,,PMOL/KG,,PMOL/KG,,UMOL/KG,,UMOL/KG,,UATM,,DEG C,,,DEG C,TU,,NMOL/KG,,PERCNT,,/MILLE,,/MILLE,,/MILLE,NMOL/KG,,NMOL/KG,UG/KG,,UMOL/KG,,UMOL/KG,,DBAR,1/M,,1/M,,1/M,,1/M,,1/NM,,1/NM,,DEG C,UMOL/L,,PMOL/KG,,PMOL/KG,,PMOL/KG,,,NMOL/KG,PERCNT,TU,PMOL/KG,,PMOL/KG,,PMOL/KG,
33RO200306_02,       A16N,     110,          2,         35,         35,2,20030728,       2220,    11.0008,   -29.0003,       5974,     3.2,  27.9389,  36.1693,2,-999.0000,1,    183.8,2,   201.4,2, -999.00,1, -999.00,1, -999.00,1, -999.00,1,   1.698,2,   1.097,2,   0.148,2,  2026.0,6,  2363.7,6,    288.3,2,    20.00,-999.0000,9,  -999.00,-999.000,9,   1.816,2,  -2.337,2, -999.00,9,  -999.0,9,  -999.0,   7.123,9,   0.037,-999.000,9,   78.13,2,    6.14,2,    3.20,-999.0000,9,-999.0000,9,-999.0000,9,-999.0000,9,-999.0000,9,-999.0000,9,  27.9381,     -999.0,9,       3.78,2,       0.10,2,       0.37,2,        110,   0.004,   0.188,-999.000,      54.14,2,     0.5,2,   10.01,2
33RO200306_02,       A16N,     110,          2,         33,         33,2,20030728,       2220,    11.0008,   -29.0003,       5974,    23.7,  27.3740,  36.2444,2,  36.2275,2,    186.7,2,   206.8,2,    0.42,2,    0.15,2,    0.00,2,    0.05,2,   1.757,2,   1.127,2,   0.153,2,  2030.7,2,  2368.6,2,    293.8,2,    20.00,   8.0824,2,    25.00,-999.000,9,   1.778,3,  -2.176,2, -999.00,9,  -999.0,9,  -999.0,   6.932,2,   0.036,-999.000,9,   76.26,2,    7.20,2,   23.70,-999.0000,9,-999.0000,9,-999.0000,9,-999.0000,9,-999.0000,9,-999.0000,9,  27.3685,     -999.0,9,       3.77,2,       0.17,2,       0.29,2,        110,   0.004,   0.188,-999.000,      85.34,2,    0.92,2,   14.34,2
33RO200306_02,       A16N,     110,          2,         32,         32,2,20030728,       2220,    11.0008,   -29.0003,       5974,    50.6,  23.6270,  36.0384,2,  36.0509,2,    197.0,2,   211.8,2,    0.53,2,    0.15,2,    0.01,2,    0.11,2,   1.969,6,   1.249,6,   0.162,6,  2041.4,2,  2356.2,2,    320.5,2,    20.00,   8.0507,2,    25.00,-999.000,9,-999.000,9,-999.000,9, -999.00,9,  -999.0,9,  -999.0,-999.000,9,-999.000,-999.000,9, -999.00,9, -999.00,9,   50.60,-999.0000,9,-999.0000,9,-999.0000,9,-999.0000,9,-999.0000,9,-999.0000,9,  23.6164,     -999.0,9,     -999.0,9,     -999.0,9,     -999.0,9,        110,-999.000,-999.000,-999.000,     -999.0,9, -999.00,9, -999.00,9
33RO200306_02,       A16N,     110,          2,         31,         31,2,20030728,       2220,    11.0008,   -29.0003,       5974,    73.8,  18.2422,  35.7925,2,  35.7795,2,    117.0,2,    93.9,2,    4.41,2,   16.70,2,    0.46,2,    1.12,2,   1.778,2,   1.039,2,   0.066,2,  2176.6,2,  2338.1,2,    718.8,2,    20.00,   7.6570,3,    25.00,-999.000,9,   1.796,3,   0.074,2, -999.00,9,  -999.0,9,  -999.0,   7.295,2,   0.027,-999.000,9,   59.76,2,   21.32,2,   73.80,-999.0000,9,-999.0000,9,-999.0000,9,-999.0000,9,-999.0000,9,-999.0000,9,  18.2294,     -999.0,9,       2.34,2,       0.11,2,       0.19,2,        110,   0.005,   0.194,-999.000,      72.57,2,    0.78,2,    2.31,2
33RO200306_02,       A16N,     110,          2,         30,         30,2,20030728,       2220,    11.0008,   -29.0003,       5974,    99.4,  14.4145,  35.4629,2,  35.4577,2,     69.4,2,    61.0,2,    7.77,2,   26.36,2,    0.03,2,    1.63,2,-999.000,9,-999.000,9,-999.000,9,  2212.1,2,  2318.9,2,   1009.6,2,    20.00,-999.0000,9,  -999.00,-999.000,9,-999.000,9,-999.000,9, -999.00,9,  -999.0,9,  -999.0,-999.000,9,-999.000,-999.000,9,   50.17,2,   30.47,2,   99.40,-999.0000,9,-999.0000,9,-999.0000,9,-999.0000,9,-999.0000,9,-999.0000,9,  14.3998,     -999.0,9,     -999.0,9,     -999.0,9,     -999.0,9,        110,-999.000,-999.000,-999.000,     -999.0,9, -999.00,9, -999.00,9
33RO200306_02,       A16N,     110,          2,         29,         29,2,20030728,       2220,    11.0008,   -29.0003,       5974,   124.2,  13.5271,  35.4141,2,  35.4007,2,     63.1,2,    73.5,2,    8.66,2,   26.02,2,    0.01,2,    1.63,2,   1.542,2,   0.852,2,   0.021,2,  2208.3,2,  2317.7,2,    983.6,2,    20.00,   7.6571,2,    25.00,   0.540,2,-999.000,9,-999.000,9, -999.00,9,  -999.0,9,  -999.0,-999.000,9,-999.000,-999.000,9, -999.00,9, -999.00,9,  124.20,-999.0000,9,-999.0000,9,-999.0000,9,-999.0000,9,-999.0000,9,-999.0000,9,  13.5095,     -999.0,9,       1.20,2,       0.08,2,       0.16,2,        110,-999.000,-999.000,   0.010,     138.21,2,    0.35,2,    0.27,2
33RO200306_02,       A16N,     110,          2,         28,         28,2,20030728,       2220,    11.0008,   -29.0003,       5974,   149.1,  12.7233,  35.3223,2,  35.3149,2,     72.5,2,    77.5,2,    9.52,2,   26.62,2,    0.01,2,    1.67,2,   1.430,6,   0.791,6,   0.015,6,  2209.0,2,  2319.7,2,   1001.7,2,    20.00,   7.6324,2,    25.00,-999.000,9,-999.000,9,-999.000,9, -999.00,9,  -999.0,9,  -999.0,-999.000,9,-999.000,-999.000,9,   49.19,2,   31.58,2,  149.10,-999.0000,9,-999.0000,9,-999.0000,9,-999.0000,9,-999.0000,9,-999.0000,9,  12.7031,     -999.0,9,     -999.0,9,     -999.0,9,     -999.0,9,        110,-999.000,-999.000,-999.000,     -999.0,9, -999.00,9, -999.00,9
33RO200306_02,       A16N,     110,          2,         27,         27,2,20030728,       2220,    11.0008,   -29.0003,       5974,   174.8,  12.3707,  35.3019,2,  35.2998,2,     73.2,2,    74.9,2,    9.98,2,   27.23,2,    0.01,2,    1.70,2,   1.329,2,   0.730,2,   0.011,2,  2212.0,2,  2318.7,2,   -999.0,9,  -999.00,   7.6150,2,    25.00,   0.422,2,-999.000,9,-999.000,9, -999.00,9,  -999.0,9,  -999.0,-999.000,9,-999.000,-999.000,9, -999.00,9, -999.00,9,  174.80,-999.0000,9,-999.0000,9,-999.0000,9,-999.0000,9,-999.0000,9,-999.0000,9,  12.3474,     -999.0,9,       1.19,2,       0.00,2,       0.42,2,        110,-999.000,-999.000,   0.010,        0.0,2,     0.0,2,     0.4,2
33RO200306_02,       A16N,     110,          2,         26,         26,2,20030728,       2220,    11.0008,   -29.0003,       5974,   199.4,  12.0939,  35.2846,2,  35.2810,2,     72.3,2,    73.6,2,   10.40,2,   27.93,2,    0.01,2,    1.74,2,   1.250,2,   0.683,2,   0.011,2,  2209.9,2,  2317.8,2,   1048.7,6,    20.00,   7.5993,2,    25.00,-999.000,9,-999.000,9,-999.000,9, -999.00,9,  -999.0,9,  -999.0,-999.000,9,-999.000,-999.000,9,   47.40,2,   33.00,2,  199.40,-999.0000,9,-999.0000,9,-999.0000,9,-999.0000,9,-999.0000,9,-999.0000,9,  12.0677,     -999.0,9,     -999.0,9,     -999.0,9,     -999.0,9,        110,-999.000,-999.000,-999.000,     -999.0,9, -999.00,9, -999.00,9
33RO200306_02,       A16N,     110,          2,         25,         25,2,20030728,       2220,    11.0008,   -29.0003,       5974,   249.2,  11.7401,  35.2737,2,  35.2724,2,     67.0,2,    67.5,2,   11.04,2,   29.09,2,    0.01,2,    1.78,2,   1.088,2,   0.605,2,   0.008,2,  2215.2,2,  2317.7,2,   1102.5,2,    20.00,   7.5885,2,    25.00,   0.447,2,   1.827,3,   2.056,2, -999.00,9,  -999.0,9,  -999.0,   7.533,2,   0.014,-999.000,9,   48.29,2,   35.47,2,  249.20,-999.0000,9,-999.0000,9,-999.0000,9,-999.0000,9,-999.0000,9,-999.0000,9,  11.7079,     -999.0,9,       0.75,2,       0.00,2,       0.16,2,        110,   0.005,   0.138,   0.020,        0.0,2,     0.0,2,    0.34,2
33RO200306_02,       A16N,     110,          2,         24,         24,2,20030728,       2220,    11.0008,   -29.0003,       5974,   299.7,  11.2657,  35.2558,2,  35.2548,2,     62.4,2,    57.9,2,   12.06,2,   30.86,2,    0.01,2,    1.88,2,   0.874,2,   0.479,2,   0.007,2,  2223.9,2,  2316.0,2,   1178.5,2,    20.00,   7.5560,2,    25.00,-999.000,9,-999.000,9,-999.000,9, -999.00,9,  -999.0,9,  -999.0,-999.000,9,-999.000,-999.000,9,   48.05,2,   36.81,2,  299.70,-999.0000,9,-999.0000,9,-999.0000,9,-999.0000,9,-999.0000,9,-999.0000,9,  11.2279,     -999.0,9,     -999.0,9,     -999.0,9,     -999.0,9,        110,-999.000,-999.000,-999.000,     -999.0,9, -999.00,9, -999.00,9
33RO200306_02,       A16N,     110,          2,         23,         23,2,20030728,       2220,    11.0008,   -29.0003,       5974,   349.4,  10.8380,  35.2268,2,  35.2233,2,     52.8,2,    53.1,2,   13.09,2,   32.19,2,    0.01,2,    1.95,2,   0.666,2,   0.372,2,   0.005,2,  2228.4,2,  2315.1,2,   -999.0,9,  -999.00,   7.5253,2,    25.00,   0.515,2,   1.787,2,   3.631,2, -999.00,9,  -999.0,9,  -999.0,   7.477,2,   0.028,-999.000,9,   47.64,2,   37.62,2,  349.40,-999.0000,9,-999.0000,9,-999.0000,9,-999.0000,9,-999.0000,9,-999.0000,9,  10.7949,     -999.0,9,     -999.0,9,     -999.0,9,     -999.0,9,        110,   0.005,   0.193,   0.020,     -999.0,9, -999.00,9, -999.00,9
33RO200306_02,       A16N,     110,          2,         22,         22,2,20030728,       2220,    11.0008,   -29.0003,       5974,   399.5,  10.3759,  35.1883,2,  35.1850,2,     51.7,2,    54.3,2,   14.18,2,   33.38,2,    0.01,2,    2.02,2,   0.498,2,   0.280,2,   0.003,2,  2233.1,2,  2314.3,2,   1285.1,2,    20.00,   7.5172,2,    25.00,-999.000,9,-999.000,9,-999.000,9, -999.00,9,  -999.0,9,  -999.0,-999.000,9,-999.000,-999.000,9,   45.61,2,   40.33,2,  399.50,-999.0000,9,-999.0000,9,-999.0000,9,-999.0000,9,-999.0000,9,-999.0000,9,  10.3279,     -999.0,9,       0.29,2,       0.00,2,       0.11,2,        110,-999.000,-999.000,-999.000,        0.0,2,     0.0,2,    0.19,2
33RO200306_02,       A16N,     110,          2,         21,         21,2,20030728,       2220,    11.0008,   -29.0003,       5974,   499.7,   8.9813,  35.0142,2,  35.0102,2,     51.4,2,    50.0,2,   17.79,2,   36.36,2,    0.01,2,    2.25,2,   0.211,2,   0.118,2,   0.004,2,  2242.1,3,  2310.8,2,   1429.3,2,    20.00,   7.4882,2,    25.00,   0.375,2,-999.000,9,-999.000,9, -999.00,9,  -999.0,9,  -999.0,-999.000,9,-999.000,-999.000,9,   45.69,2,   42.60,2,  499.70,-999.0000,9,-999.0000,9,-999.0000,9,-999.0000,9,-999.0000,9,-999.0000,9,   8.9261,     -999.0,9,     -999.0,9,     -999.0,9,     -999.0,9,        110,-999.000,-999.000,   0.020,     -999.0,9, -999.00,9, -999.00,9
33RO200306_02,       A16N,     110,          2,         20,         20,2,20030728,       2220,    11.0008,   -29.0003,       5974,   599.6,   7.9592,  34.9211,2,  34.9180,2,     64.1,2,    64.1,2,   20.39,2,   36.91,2,    0.01,2,    2.31,2,   0.099,2,   0.058,2,   0.004,2,  2238.8,3,  2310.1,2,   1417.0,2,    20.00,   7.4593,2,    25.00,-999.000,9,-999.000,9,-999.000,9, -999.00,9,  -999.0,9,  -999.0,-999.000,9,-999.000,-999.000,9,   43.66,2,   43.58,2,  599.60,-999.0000,9,-999.0000,9,-999.0000,9,-999.0000,9,-999.0000,9,-999.0000,9,   7.8972,     -999.0,9,       0.12,2,       0.00,2,       0.10,2,        110,-999.000,-999.000,-999.000,      80.83,2,    0.69,2,    0.46,2
33RO200306_02,       A16N,     110,          2,         19,         19,2,20030728,       2220,    11.0008,   -29.0003,       5974,   697.9,   6.7557,  34.8002,2,  34.8017,2,     82.2,2,    80.8,2,   23.77,2,   37.21,2,    0.01,2,    2.38,2,   0.038,2,   0.024,2,   0.002,2,  2236.1,3,  2306.6,2,   1396.0,2,    20.00,   7.4960,2,    25.00,-999.000,9,   1.797,2,  -1.103,2, -999.00,9,  -999.0,9,  -999.0,   7.738,2,   0.029,-999.000,9,   41.71,2,   42.36,2,  697.90,-999.0000,9,-999.0000,9,-999.0000,9,-999.0000,9,-999.0000,9,-999.0000,9,   6.6895,     -999.0,9,     -999.0,9,     -999.0,9,     -999.0,9,        110,   0.005,   0.194,-999.000,     -999.0,9, -999.00,9, -999.00,9
33RO200306_02,       A16N,     110,          2,         18,         18,2,20030728,       2220,    11.0008,   -29.0003,       5974,   850.5,   5.7284,  34.7470,2,  34.7474,2,    106.7,2,   108.5,2,   26.80,2,   35.54,2,    0.00,2,    2.35,2,-999.000,9,-999.000,9,-999.000,9,  2229.3,2,  2309.9,2,   1297.0,2,    20.00,   7.5245,2,    25.00,-999.000,9,-999.000,9,-999.000,9, -999.00,9,  -999.0,9,  -999.0,-999.000,9,-999.000,-999.000,9,   41.87,2,   42.08,2,  850.50,-999.0000,9,-999.0000,9,-999.0000,9,-999.0000,9,-999.0000,9,-999.0000,9,   5.6534,     -999.0,9,       0.00,2,       0.06,2,       0.13,2,        110,-999.000,-999.000,-999.000,      47.03,2,    1.31,2,     0.0,2
33RO200306_02,       A16N,     110,          2,         17,         17,2,20030728,       2220,    11.0008,   -29.0003,       5974,   993.3,   5.3878,  34.8100,2,  34.8094,2,    126.8,2,   128.9,2,   26.48,2,   33.16,2,    0.00,2,    2.20,2,   0.008,2,   0.005,2,   0.001,2,  2222.1,2,  2313.6,6,   1177.3,2,    20.00,   7.5558,6,    25.00,-999.000,9,-999.000,9,-999.000,9, -999.00,9,  -999.0,9,  -999.0,-999.000,9,-999.000,-999.000,9,   41.79,2,   38.24,2,  993.30,-999.0000,9,-999.0000,9,-999.0000,9,-999.0000,9,-999.0000,9,-999.0000,9,   5.3017,     -999.0,9,     -999.0,9,     -999.0,9,     -999.0,9,        110,-999.000,-999.000,-999.000,     -999.0,9, -999.00,9, -999.00,9
33RO200306_02,       A16N,     110,          2,         16,         16,2,20030728,       2220,    11.0008,   -29.0003,       5974,  1123.2,   5.1200,  34.8750,2,  34.8754,2,    155.6,2,   153.9,2,   24.76,2,   29.99,2,    0.00,2,    2.00,2,-999.000,9,-999.000,9,-999.000,9,  2211.2,2,  2316.6,2,   1050.7,2,    20.00,   7.6010,2,    25.00,-999.000,9,-999.000,9,-999.000,9, -999.00,9,  -999.0,9,  -999.0,-999.000,9,-999.000,-999.000,9,   41.05,2,   36.09,2, 1123.20,-999.0000,9,-999.0000,9,-999.0000,9,-999.0000,9,-999.0000,9,-999.0000,9,   5.0237,     -999.0,9,       0.00,2,       0.00,2,       0.08,2,        110,-999.000,-999.000,-999.000,      63.77,2,     2.0,2,     0.0,2
33RO200306_02,       A16N,     110,          2,         15,         15,2,20030728,       2220,    11.0008,   -29.0003,       5974,  1299.1,   4.7750,  34.9432,2,  34.9436,2,    187.1,2,   186.6,2,   21.90,2,   26.19,2,    0.00,2,    1.75,2,   0.021,2,   0.012,2,  -0.001,2,  2193.4,2,  2318.9,2,    917.7,2,    20.00,   7.6521,2,    25.00,-999.000,9,   1.854,2,   0.962,2, -999.00,9,  -999.0,9,  -999.0,   8.103,2,   0.030,-999.000,9,   40.32,2,   30.79,2, 1299.10,-999.0000,9,-999.0000,9,-999.0000,9,-999.0000,9,-999.0000,9,-999.0000,9,   4.6653,     -999.0,9,     -999.0,9,     -999.0,9,     -999.0,9,        110,   0.005,   0.193,-999.000,     -999.0,9, -999.00,9, -999.00,9
33RO200306_02,       A16N,     110,          2,         14,         14,2,20030728,       2220,    11.0008,   -29.0003,       5974,  1449.3,   4.4517,  34.9680,2,  34.9694,2,    210.4,2,   209.8,2,   20.07,2,   23.68,2,    0.00,2,    1.58,2,   0.032,2,   0.019,2,   0.001,2,  2181.8,2,  2318.7,2,    844.3,2,    20.00,   7.6894,2,    25.00,-999.000,9,-999.000,9,-999.000,9, -999.00,9,  -999.0,9,  -999.0,-999.000,9,-999.000,-999.000,9,   41.87,2,   27.23,2, 1449.30,-999.0000,9,-999.0000,9,-999.0000,9,-999.0000,9,-999.0000,9,-999.0000,9,   4.3312,     -999.0,9,       0.01,2,       0.00,2,       0.19,2,        110,-999.000,-999.000,-999.000,      10.21,2,     0.0,2,    0.05,2
33RO200306_02,       A16N,     110,          2,         13,         13,2,20030728,       2220,    11.0008,   -29.0003,       5974,  1598.9,   4.1311,  34.9751,2,  34.9748,2,    226.4,2,   225.5,2,   19.42,2,   22.22,2,    0.00,2,    1.49,2,   0.018,2,   0.015,2,   0.001,2,  2173.4,2,  2318.0,2,   -999.0,9,  -999.00,   7.6990,2,    25.00,-999.000,9,-999.000,9,-999.000,9, -999.00,9,  -999.0,9,  -999.0,-999.000,9,-999.000,-999.000,9,   41.14,2,   25.67,2, 1598.90,-999.0000,9,-999.0000,9,-999.0000,9,-999.0000,9,-999.0000,9,-999.0000,9,   4.0002,     -999.0,9,     -999.0,9,     -999.0,9,     -999.0,9,        110,-999.000,-999.000,-999.000,     -999.0,9, -999.00,9, -999.00,9
33RO200306_02,       A16N,     110,          2,         12,         12,2,20030728,       2220,    11.0008,   -29.0003,       5974,  1899.9,   3.6592,  34.9720,2,  34.9714,2,    242.3,2,   241.8,2,   20.62,2,   20.87,2,    0.00,2,    1.41,2,   0.010,2,   0.008,2,   0.000,2,  2167.2,2,  2320.3,2,    763.4,6,    20.00,   7.7253,2,    25.00,-999.000,9,-999.000,9,-999.000,9, -999.00,9,  -999.0,9,  -999.0,-999.000,9,-999.000,-999.000,9,   41.14,2,   25.95,2, 1899.90,-999.0000,9,-999.0000,9,-999.0000,9,-999.0000,9,-999.0000,9,-999.0000,9,   3.5062,     -999.0,9,       0.02,2,       0.00,2,       0.08,2,        110,-999.000,-999.000,-999.000,     118.56,2,    0.59,2,    0.03,2
33RO200306_02,       A16N,     110,          2,         11,         11,2,20030728,       2220,    11.0008,   -29.0003,       5974,  2199.2,   3.3038,  34.9609,2,  34.9612,2,    244.3,2,   245.7,2,   24.35,2,   20.91,2,    0.00,2,    1.40,2,   0.006,2,   0.003,2,   0.000,2,  2169.9,2,  2325.5,2,   -999.0,9,  -999.00,   7.7299,2,    25.00,-999.000,9,-999.000,9,-999.000,9, -999.00,9,  -999.0,9,  -999.0,-999.000,9,-999.000,-999.000,9,   40.32,2,   25.95,2, 2199.20,-999.0000,9,-999.0000,9,-999.0000,9,-999.0000,9,-999.0000,9,-999.0000,9,   3.1278,     -999.0,9,     -999.0,9,     -999.0,9,     -999.0,9,        110,-999.000,-999.000,-999.000,     -999.0,9, -999.00,9, -999.00,9
33RO200306_02,       A16N,     110,          2,         10,         10,2,20030728,       2220,    11.0008,   -29.0003,       5974,  2499.4,   3.0183,  34.9473,2,  34.9482,2,    244.0,2,   244.2,2,   29.23,2,   21.16,2,    0.00,2,    1.44,2,   0.014,2,   0.008,2,   0.003,2,  2176.0,2,  2331.0,2,    760.9,2,    20.00,-999.0000,9,  -999.00,-999.000,9,-999.000,9,-999.000,9, -999.00,9,  -999.0,9,  -999.0,-999.000,9,-999.000,-999.000,9,   39.83,2,   25.57,2, 2499.40,-999.0000,9,-999.0000,9,-999.0000,9,-999.0000,9,-999.0000,9,-999.0000,9,   2.8181,     -999.0,9,       0.00,2,       0.00,2,       0.05,2,        110,-999.000,-999.000,-999.000,      24.39,2,    0.51,2,    0.17,2
33RO200306_02,       A16N,     110,          2,          9,          9,2,20030728,       2220,    11.0008,   -29.0003,       5974,  2799.4,   2.7960,  34.9332,2,  34.9326,2,    246.0,2,   246.5,2,   32.46,2,   21.19,2,    0.00,2,    1.45,2,   0.012,2,   0.004,2,   0.000,2,  2177.6,2,  2335.6,2,   -999.0,9,  -999.00,   7.7262,2,    25.00,   0.218,2,-999.000,9,-999.000,9, -999.00,9,  -999.0,9,  -999.0,-999.000,9,-999.000,-999.000,9,   41.05,2,   26.31,2, 2799.40,-999.0000,9,-999.0000,9,-999.0000,9,-999.0000,9,-999.0000,9,-999.0000,9,   2.5702,     -999.0,9,     -999.0,9,     -999.0,9,     -999.0,9,        110,-999.000,-999.000,   0.010,     -999.0,9, -999.00,9, -999.00,9
33RO200306_02,       A16N,     110,          2,          8,          8,2,20030728,       2220,    11.0008,   -29.0003,       5974,  3199.6,   2.6010,  34.9182,2,  34.9177,2,    247.2,2,   247.2,2,   36.77,2,   21.45,2,    0.00,2,    1.48,2,   0.004,2,   0.000,2,   0.001,2,  2182.2,2,  2338.4,2,    762.5,2,    20.00,   7.7280,2,    25.00,-999.000,9,-999.000,9,-999.000,9, -999.00,9,  -999.0,9,  -999.0,-999.000,9,-999.000,-999.000,9,   40.98,2,   25.34,2, 3199.60,-999.0000,9,-999.0000,9,-999.0000,9,-999.0000,9,-999.0000,9,-999.0000,9,   2.3382,     -999.0,9,     -999.0,9,     -999.0,9,     -999.0,9,        110,-999.000,-999.000,-999.000,     -999.0,9, -999.00,9, -999.00,9