BOTTLE,20230908CCHSIOCBG
EXPOCODE,SECT_ID,STNNBR,CASTNO,SAMPNO,BTLNBR,BTLNBR_FLAG_W,DATE,TIME,LATITUDE,LONGITUDE,DEPTH,CTDPRS,CTDTMP,CTDSAL,CTDSAL_FLAG_W,SALNTY,SALNTY_FLAG_W,CTDOXY,CTDOXY_FLAG_W,OXYGEN,OXYGEN_FLAG_W,SILCAT,SILCAT_FLAG_W,NITRAT,NITRAT_FLAG_W,NITRIT,NITRIT_FLAG_W,PHSPHT,PHSPHT_FLAG_W,CFC-11,CFC-11_FLAG_W,CFC-12,CFC-12_FLAG_W,CFC113,CFC113_FLAG_W,TCARBN,TCARBN_FLAG_W,ALKALI,ALKALI_FLAG_W,FCO2,FCO2_FLAG_W,FCO2TMP,PH_SWS,PH_SWS_FLAG_W,PH_TMP,TRITUM,TRITUM_FLAG_W,HELIUM,HELIUM_FLAG_W,DELHE3,DELHE3_FLAG_W,DELC13,DELC13_FLAG_W,DELC14,DELC14_FLAG_W,C14ERR,NEON,NEON_FLAG_W,NEONER,POC,POC_FLAG_W,DOC,DOC_FLAG_W,TDN,TDN_FLAG_W,CTDRAW,CDOM325,CDOM325_FLAG_W,CDOM340,CDOM340_FLAG_W,CDOM380,CDOM380_FLAG_W,CDOM412,CDOM412_FLAG_W,CDOMSL,CDOMSL_FLAG_W,CDOMSN,CDOMSN_FLAG_W,THETA,PON,PON_FLAG_W,HCFC-22,HCFC-22_FLAG_W,HCFC-142b,HCFC-142b_FLAG_W,HCFC-141b,HCFC-141b_FLAG_W,STNNBR_U,HELIER,DELHER,TRITER,CH3CL,CH3CL_FLAG_W,CH3BR,CH3BR_FLAG_W,CH3I,CH3I_FLAG_W
,,,,,,,,,,,METERS,DBAR,ITS-90,PSS-78,,PSS-78,,UMOL/KG,,UMOL/KG,,UMOL/KG,,UMOL/KG,,UMOL/KG,,UMOL/KG,,PMOL/KG,,PMOL/KG,,PMOL/KG,,UMOL/KG,,UMOL/KG,,UATM,,DEG C,,,DEG C,TU,,NMOL/KG,,PERCNT,,/MILLE,,/MILLE,,/MILLE,NMOL/KG,,NMOL/KG,UG/KG,,UMOL/KG,,UMOL/KG,,DBAR,1/M,,1/M,,1/M,,1/M,,1/NM,,1/NM,,DEG C,UMOL/L,,PMOL/KG,,PMOL/KG,,PMOL/KG,,,NMOL/KG,PERCNT,TU,PMOL/KG,,PMOL/KG,,PMOL/KG,
33RO200306_02,       A16N,     144,          2,          7,          7,2,20030807,       1306,    -2.9987,   -25.0022,       5322,  2749.4,   2.7948,  34.9220,2,  34.9218,2,    247.5,2,   247.9,2,   35.12,2,   21.04,2,    0.00,2,    1.38,2,   0.017,2,   0.008,2,   0.003,2,  2183.6,2,  2331.7,2,    770.1,2,    20.00,   7.7160,2,    25.00,-999.000,9,-999.000,9,-999.000,9, -999.00,9,  -999.0,9,  -999.0,-999.000,9,-999.000,-999.000,9,   40.32,2,   25.98,2, 2749.40,-999.0000,9,-999.0000,9,-999.0000,9,-999.0000,9,-999.0000,9,-999.0000,9,   2.5741,     -999.0,9,     -999.0,9,     -999.0,9,     -999.0,9,        144,-999.000,-999.000,-999.000,     -999.0,9, -999.00,9, -999.00,9
33RO200306_02,       A16N,     144,          2,          6,          6,2,20030807,       1306,    -2.9987,   -25.0022,       5322,  3249.0,   2.5841,  34.9117,2,  34.9117,2,    251.3,2,   251.4,2,   36.92,2,   20.71,2,    0.00,2,    1.38,2,   0.018,6,   0.008,6,   0.002,6,  2184.3,2,  2334.5,2,    766.2,2,    20.00,   7.7367,2,    25.00,-999.000,9,-999.000,9,-999.000,9, -999.00,9,  -999.0,9,  -999.0,-999.000,9,-999.000,-999.000,9,   40.65,2,   25.61,2, 3249.00,-999.0000,9,-999.0000,9,-999.0000,9,-999.0000,9,-999.0000,9,-999.0000,9,   2.3165,     -999.0,9,     -999.0,9,     -999.0,9,     -999.0,9,        144,-999.000,-999.000,-999.000,     -999.0,9, -999.00,9, -999.00,9
33RO200306_02,       A16N,     144,          2,          5,          5,2,20030807,       1306,    -2.9987,   -25.0022,       5322,  3749.0,   2.4081,  34.9053,2,  34.9065,2,    262.0,2,   262.1,2,   33.08,2,   19.79,2,    0.00,2,    1.30,2,   0.181,2,   0.092,2,   0.007,2,  2178.1,2,  2329.9,2,    751.5,2,    20.00,   7.7205,2,    25.00,-999.000,9,-999.000,9,-999.000,9, -999.00,9,  -999.0,9,  -999.0,-999.000,9,-999.000,-999.000,9,   40.98,2,   23.99,2, 3749.00,-999.0000,9,-999.0000,9,-999.0000,9,-999.0000,9,-999.0000,9,-999.0000,9,   2.0907,     -999.0,9,     -999.0,9,     -999.0,9,     -999.0,9,        144,-999.000,-999.000,-999.000,     -999.0,9, -999.00,9, -999.00,9
33RO200306_02,       A16N,     144,          2,          4,          4,2,20030807,       1306,    -2.9987,   -25.0022,       5322,  4200.4,   1.4868,  34.8025,2,-999.0000,1,    240.6,2,   240.5,2,   76.48,6,   26.02,6,    0.00,6,    1.77,6,   0.021,2,   0.016,2,   0.001,2,  2222.2,2,  2355.9,2,    875.2,2,    20.00,   7.6810,2,    25.00,-999.000,9,-999.000,9,-999.000,9, -999.00,9,  -999.0,9,  -999.0,-999.000,9,-999.000,-999.000,9,   40.98,2,   29.62,2, 4200.40,-999.0000,9,-999.0000,9,-999.0000,9,-999.0000,9,-999.0000,9,-999.0000,9,   1.1454,     -999.0,9,     -999.0,9,     -999.0,9,     -999.0,9,        144,-999.000,-999.000,-999.000,     -999.0,9, -999.00,9, -999.00,9
33RO200306_02,       A16N,     144,          2,          3,          3,2,20030807,       1306,    -2.9987,   -25.0022,       5322,  4599.9,   0.9371,  34.7397,2,  34.7397,2,    227.5,2,   227.8,2,  102.24,6,   29.45,6,    0.00,6,    2.05,6,   0.015,2,   0.009,2,   0.001,2,  2247.5,2,  2369.7,2,    962.6,6,    20.00,   7.6433,2,    25.00,-999.000,9,-999.000,9,-999.000,9, -999.00,9,  -999.0,9,  -999.0,-999.000,9,-999.000,-999.000,9,   39.19,2,   34.56,2, 4599.90,-999.0000,9,-999.0000,9,-999.0000,9,-999.0000,9,-999.0000,9,-999.0000,9,   0.5680,     -999.0,9,     -999.0,9,     -999.0,9,     -999.0,9,        144,-999.000,-999.000,-999.000,     -999.0,9, -999.00,9, -999.00,9
33RO200306_02,       A16N,     144,          2,          2,          2,2,20030807,       1306,    -2.9987,   -25.0022,       5322,  4998.6,   0.7690,  34.7159,2,  34.7160,2,    223.3,2,   223.9,2,  111.41,6,   30.68,6,    0.00,6,    2.15,6,   0.038,2,   0.021,2,   0.002,2,  2255.2,2,  2371.4,2,   1000.6,2,    20.00,   7.6327,2,    25.00,-999.000,9,-999.000,9,-999.000,9, -999.00,9,  -999.0,9,  -999.0,-999.000,9,-999.000,-999.000,9,   39.35,2,   33.95,2, 4998.60,-999.0000,9,-999.0000,9,-999.0000,9,-999.0000,9,-999.0000,9,-999.0000,9,   0.3596,     -999.0,9,     -999.0,9,     -999.0,9,     -999.0,9,        144,-999.000,-999.000,-999.000,     -999.0,9, -999.00,9, -999.00,9
33RO200306_02,       A16N,     144,          2,          1,          1,2,20030807,       1306,    -2.9987,   -25.0022,       5322,  5410.3,   0.7252,  34.7059,2,  34.7067,2,    221.7,2,   222.6,2,  115.02,6,   31.24,6,    0.00,6,    2.19,6,   0.047,2,   0.024,2,   0.003,2,  2257.3,6,  2372.6,6,   1018.2,2,    20.00,   7.8333,4,    25.00,-999.000,9,-999.000,9,-999.000,9, -999.00,9,  -999.0,9,  -999.0,-999.000,9,-999.000,-999.000,9,   38.29,2,   36.03,2, 5410.30,-999.0000,9,-999.0000,9,-999.0000,9,-999.0000,9,-999.0000,9,-999.0000,9,   0.2679,     -999.0,9,     -999.0,9,     -999.0,9,     -999.0,9,        144,-999.000,-999.000,-999.000,     -999.0,9, -999.00,9, -999.00,9