BOTTLE,20230908CCHSIOCBG
EXPOCODE,SECT_ID,STNNBR,CASTNO,SAMPNO,BTLNBR,BTLNBR_FLAG_W,DATE,TIME,LATITUDE,LONGITUDE,DEPTH,CTDPRS,CTDTMP,CTDSAL,CTDSAL_FLAG_W,SALNTY,SALNTY_FLAG_W,CTDOXY,CTDOXY_FLAG_W,OXYGEN,OXYGEN_FLAG_W,SILCAT,SILCAT_FLAG_W,NITRAT,NITRAT_FLAG_W,NITRIT,NITRIT_FLAG_W,PHSPHT,PHSPHT_FLAG_W,CFC-11,CFC-11_FLAG_W,CFC-12,CFC-12_FLAG_W,CFC113,CFC113_FLAG_W,TCARBN,TCARBN_FLAG_W,ALKALI,ALKALI_FLAG_W,FCO2,FCO2_FLAG_W,FCO2TMP,PH_SWS,PH_SWS_FLAG_W,PH_TMP,TRITUM,TRITUM_FLAG_W,HELIUM,HELIUM_FLAG_W,DELHE3,DELHE3_FLAG_W,DELC13,DELC13_FLAG_W,DELC14,DELC14_FLAG_W,C14ERR,NEON,NEON_FLAG_W,NEONER,POC,POC_FLAG_W,DOC,DOC_FLAG_W,TDN,TDN_FLAG_W,CTDRAW,CDOM325,CDOM325_FLAG_W,CDOM340,CDOM340_FLAG_W,CDOM380,CDOM380_FLAG_W,CDOM412,CDOM412_FLAG_W,CDOMSL,CDOMSL_FLAG_W,CDOMSN,CDOMSN_FLAG_W,THETA,PON,PON_FLAG_W,HCFC-22,HCFC-22_FLAG_W,HCFC-142b,HCFC-142b_FLAG_W,HCFC-141b,HCFC-141b_FLAG_W,STNNBR_U,HELIER,DELHER,TRITER,CH3CL,CH3CL_FLAG_W,CH3BR,CH3BR_FLAG_W,CH3I,CH3I_FLAG_W
,,,,,,,,,,,METERS,DBAR,ITS-90,PSS-78,,PSS-78,,UMOL/KG,,UMOL/KG,,UMOL/KG,,UMOL/KG,,UMOL/KG,,UMOL/KG,,PMOL/KG,,PMOL/KG,,PMOL/KG,,UMOL/KG,,UMOL/KG,,UATM,,DEG C,,,DEG C,TU,,NMOL/KG,,PERCNT,,/MILLE,,/MILLE,,/MILLE,NMOL/KG,,NMOL/KG,UG/KG,,UMOL/KG,,UMOL/KG,,DBAR,1/M,,1/M,,1/M,,1/M,,1/NM,,1/NM,,DEG C,UMOL/L,,PMOL/KG,,PMOL/KG,,PMOL/KG,,,NMOL/KG,PERCNT,TU,PMOL/KG,,PMOL/KG,,PMOL/KG,
33RO200306_02,       A16N,     078,          2,         35,         35,2,20030718,       1811,    27.0000,   -25.0638,       5244,     3.3,  24.3929,  37.4089,2,  37.4127,2,    212.6,2,   211.3,2,    0.46,2,    0.02,2,    0.01,2,    0.01,2,   1.926,6,   1.223,6,   0.165,6,  2103.6,6,  2444.6,6,    327.7,2,    20.00,   8.0568,6,    25.00,-999.000,9,-999.000,9,-999.000,9, -999.00,9,  -999.0,9,  -999.0,-999.000,9,-999.000,-999.000,9,   70.57,2,    7.90,2,    3.30,-999.0000,9,-999.0000,9,-999.0000,9,-999.0000,9,-999.0000,9,-999.0000,9,  24.3922,     -999.0,9,       4.28,2,       0.15,2,       0.60,2,         78,-999.000,-999.000,-999.000,     115.44,2,    1.04,2,    7.73,2
33RO200306_02,       A16N,     078,          2,         33,         33,2,20030718,       1811,    27.0000,   -25.0638,       5244,    20.0,  24.3872,  37.4050,2,  37.3863,2,    212.4,2,   212.7,2,    0.45,2,    0.02,2,    0.01,2,    0.01,2,   1.933,2,   1.226,2,   0.166,2,  2102.1,2,  2442.6,2,    327.5,2,    20.00,   8.0447,2,    25.00,-999.000,9,-999.000,9,-999.000,9, -999.00,9,  -999.0,9,  -999.0,-999.000,9,-999.000,-999.000,9,   67.56,2,    5.82,2,   20.00,-999.0000,9,-999.0000,9,-999.0000,9,-999.0000,9,-999.0000,9,-999.0000,9,  24.3829,     -999.0,9,       4.22,2,       0.31,2,       0.58,2,         78,-999.000,-999.000,-999.000,     134.68,2,    0.01,2,   18.27,2
33RO200306_02,       A16N,     078,          2,         32,         32,2,20030718,       1811,    27.0000,   -25.0638,       5244,    40.1,  22.0335,  37.0746,2,  37.0913,2,    230.2,2,   229.9,2,    0.57,2,    0.02,2,    0.01,2,    0.01,2,   2.153,2,   1.345,2,   0.185,2,  2087.6,2,  2422.8,2,    327.9,2,    20.00,   8.0465,2,    25.00,-999.000,9,-999.000,9,-999.000,9, -999.00,9,  -999.0,9,  -999.0,-999.000,9,-999.000,-999.000,9, -999.00,9, -999.00,9,   40.10,-999.0000,9,-999.0000,9,-999.0000,9,-999.0000,9,-999.0000,9,-999.0000,9,  22.0255,     -999.0,9,     -999.0,9,     -999.0,9,     -999.0,9,         78,-999.000,-999.000,-999.000,     -999.0,9, -999.00,9, -999.00,9
33RO200306_02,       A16N,     078,          2,         31,         31,2,20030718,       1811,    27.0000,   -25.0638,       5244,    59.0,  21.4878,  37.0552,2,  37.0627,2,    231.7,2,   232.2,2,    0.59,2,    0.01,2,    0.01,2,    0.01,2,   2.221,2,   1.397,2,   0.186,2,  2087.4,2,  2420.9,2,    328.5,2,    20.00,   8.0498,2,    25.00,-999.000,9,-999.000,9,-999.000,9, -999.00,9,  -999.0,9,  -999.0,-999.000,9,-999.000,-999.000,9,   67.32,2,    6.07,2,   59.00,-999.0000,9,-999.0000,9,-999.0000,9,-999.0000,9,-999.0000,9,-999.0000,9,  21.4762,     -999.0,9,       4.67,2,       0.21,2,       0.47,2,         78,-999.000,-999.000,-999.000,     126.62,2,    0.13,2,   24.14,2
33RO200306_02,       A16N,     078,          2,         30,         30,2,20030718,       1811,    27.0000,   -25.0638,       5244,    79.8,  21.0250,  37.0353,2,  37.0353,2,    231.3,2,   230.9,2,    0.57,2,    0.00,2,    0.01,2,    0.01,2,   2.250,2,   1.412,2,   0.190,2,  2092.5,2,  2420.0,2,   -999.0,9,  -999.00,   8.0296,2,    25.00,-999.000,9,-999.000,9,-999.000,9, -999.00,9,  -999.0,9,  -999.0,-999.000,9,-999.000,-999.000,9, -999.00,9, -999.00,9,   79.80,-999.0000,9,-999.0000,9,-999.0000,9,-999.0000,9,-999.0000,9,-999.0000,9,  21.0096,     -999.0,9,     -999.0,9,     -999.0,9,     -999.0,9,         78,-999.000,-999.000,-999.000,     -999.0,9, -999.00,9, -999.00,9
33RO200306_02,       A16N,     078,          2,         29,         29,2,20030718,       1811,    27.0000,   -25.0638,       5244,    99.2,  20.6244,  36.9717,2,  36.9702,2,    228.3,2,   228.7,2,    0.59,2,    0.00,2,    0.01,2,    0.02,2,   2.258,2,   1.404,2,   0.187,2,  2091.6,2,  2415.7,2,    342.1,2,    20.00,   8.0386,2,    25.00,-999.000,9,-999.000,9,-999.000,9, -999.00,9,  -999.0,9,  -999.0,-999.000,9,-999.000,-999.000,9,   64.15,2,    5.40,2,   99.20,-999.0000,9,-999.0000,9,-999.0000,9,-999.0000,9,-999.0000,9,-999.0000,9,  20.6055,     -999.0,9,       4.60,2,       0.13,2,       0.59,2,         78,-999.000,-999.000,-999.000,      73.45,2,    0.07,2,   13.51,2
33RO200306_02,       A16N,     078,          2,         28,         28,2,20030718,       1811,    27.0000,   -25.0638,       5244,   124.8,  19.6518,  36.8381,2,  36.8376,2,    223.4,2,   219.9,2,    0.66,2,    0.05,2,    0.01,2,    0.02,2,   2.324,2,   1.439,2,   0.169,2,  2097.9,2,  2407.0,2,   -999.0,9,  -999.00,   7.9988,2,    25.00,-999.000,9,-999.000,9,-999.000,9, -999.00,9,  -999.0,9,  -999.0,-999.000,9,-999.000,-999.000,9, -999.00,9, -999.00,9,  124.80,-999.0000,9,-999.0000,9,-999.0000,9,-999.0000,9,-999.0000,9,-999.0000,9,  19.6288,     -999.0,9,     -999.0,9,     -999.0,9,     -999.0,9,         78,-999.000,-999.000,-999.000,     -999.0,9, -999.00,9, -999.00,9
33RO200306_02,       A16N,     078,          2,         27,         27,2,20030718,       1811,    27.0000,   -25.0638,       5244,   148.9,  18.9383,  36.7444,2,  36.7256,2,    212.8,2,   210.0,2,    0.78,2,    0.93,2,    0.08,2,    0.06,2,   2.389,2,   1.465,2,   0.144,2,  2107.8,2,  2399.5,2,    386.6,2,    20.00,   7.9807,2,    25.00,-999.000,9,-999.000,9,-999.000,9, -999.00,9,  -999.0,9,  -999.0,-999.000,9,-999.000,-999.000,9,   58.61,2,    6.34,2,  148.90,-999.0000,9,-999.0000,9,-999.0000,9,-999.0000,9,-999.0000,9,-999.0000,9,  18.9115,     -999.0,9,       4.47,2,       0.19,2,       2.39,2,         78,-999.000,-999.000,-999.000,      129.5,2,     3.0,2,    3.96,2
33RO200306_02,       A16N,     078,          2,         26,         26,2,20030718,       1811,    27.0000,   -25.0638,       5244,   174.2,  17.8893,  36.5415,2,  36.5320,2,    197.1,2,   198.4,2,    1.27,2,    3.94,2,    0.02,2,    0.21,2,   2.436,2,   1.455,2,   0.063,2,  2114.2,2,  2387.2,2,   -999.0,9,  -999.00,   7.9537,2,    25.00,-999.000,9,-999.000,9,-999.000,9, -999.00,9,  -999.0,9,  -999.0,-999.000,9,-999.000,-999.000,9, -999.00,9, -999.00,9,  174.20,-999.0000,9,-999.0000,9,-999.0000,9,-999.0000,9,-999.0000,9,-999.0000,9,  17.8592,     -999.0,9,     -999.0,9,     -999.0,9,     -999.0,9,         78,-999.000,-999.000,-999.000,     -999.0,9, -999.00,9, -999.00,9
33RO200306_02,       A16N,     078,          2,         25,         25,2,20030718,       1811,    27.0000,   -25.0638,       5244,   199.3,  17.4181,  36.4470,2,  36.4413,2,    193.1,2,   196.6,2,    1.50,2,    4.96,2,    0.01,2,    0.27,2,   2.477,2,   1.483,2,   0.046,2,  2116.1,2,  2382.1,2,    432.3,2,    20.00,   7.9381,2,    25.00,-999.000,9,-999.000,9,-999.000,9, -999.00,9,  -999.0,9,  -999.0,-999.000,9,-999.000,-999.000,9,   52.20,2,    8.39,2,  199.30,-999.0000,9,-999.0000,9,-999.0000,9,-999.0000,9,-999.0000,9,-999.0000,9,  17.3843,     -999.0,9,       4.18,2,       0.15,2,       0.41,2,         78,-999.000,-999.000,-999.000,      34.22,2,    0.07,2,    0.02,2
33RO200306_02,       A16N,     078,          2,         24,         24,2,20030718,       1811,    27.0000,   -25.0638,       5244,   248.7,  16.3383,  36.2603,2,  36.2618,2,    196.1,2,   201.5,2,    1.94,2,    6.16,2,    0.01,2,    0.34,2,   2.550,2,   1.502,2,   0.045,2,  2117.3,2,  2372.2,2,   -999.0,9,  -999.00,   7.9150,2,    25.00,-999.000,9,-999.000,9,-999.000,9, -999.00,9,  -999.0,9,  -999.0,-999.000,9,-999.000,-999.000,9,   50.17,2,   11.23,2,  248.70,-999.0000,9,-999.0000,9,-999.0000,9,-999.0000,9,-999.0000,9,-999.0000,9,  16.2979,     -999.0,9,     -999.0,9,     -999.0,9,     -999.0,9,         78,-999.000,-999.000,-999.000,     -999.0,9, -999.00,9, -999.00,9
33RO200306_02,       A16N,     078,          2,         23,         23,2,20030718,       1811,    27.0000,   -25.0638,       5244,   300.1,  15.4810,  36.1142,2,  36.1119,2,    194.7,2,   196.8,2,    2.57,2,    8.07,2,    0.01,2,    0.46,2,   2.584,2,   1.496,2,   0.041,2,  2123.9,2,  2368.2,2,    482.9,2,    20.00,   7.8767,2,    25.00,-999.000,9,-999.000,9,-999.000,9, -999.00,9,  -999.0,9,  -999.0,-999.000,9,-999.000,-999.000,9,   49.68,2,   11.32,2,  300.10,-999.0000,9,-999.0000,9,-999.0000,9,-999.0000,9,-999.0000,9,-999.0000,9,  15.4340,     -999.0,9,       4.16,2,       0.16,2,       0.34,2,         78,-999.000,-999.000,-999.000,       8.64,2,    0.02,2,    0.05,2
33RO200306_02,       A16N,     078,          2,         22,         22,2,20030718,       1811,    27.0000,   -25.0638,       5244,   349.2,  14.6072,  35.9776,2,  35.9726,2,    192.5,2,   191.7,2,    3.47,2,   10.20,2,    0.01,2,    0.59,2,   2.566,2,   1.451,2,   0.039,2,  2131.6,2,  2360.6,2,   -999.0,9,  -999.00,   7.8715,2,    25.00,-999.000,9,-999.000,9,-999.000,9, -999.00,9,  -999.0,9,  -999.0,-999.000,9,-999.000,-999.000,9,   48.70,2,   14.88,2,  349.20,-999.0000,9,-999.0000,9,-999.0000,9,-999.0000,9,-999.0000,9,-999.0000,9,  14.5546,     -999.0,9,     -999.0,9,     -999.0,9,     -999.0,9,         78,-999.000,-999.000,-999.000,     -999.0,9, -999.00,9, -999.00,9
33RO200306_02,       A16N,     078,          2,         21,         21,2,20030718,       1811,    27.0000,   -25.0638,       5244,   399.3,  13.8244,  35.8676,2,  35.8659,2,    188.5,2,   188.2,2,    4.16,2,   11.80,2,    0.01,2,    0.69,2,   2.509,2,   1.407,2,   0.038,2,  2138.0,2,  2350.2,2,    554.8,2,    20.00,   7.8445,2,    25.00,-999.000,9,-999.000,9,-999.000,9, -999.00,9,  -999.0,9,  -999.0,-999.000,9,-999.000,-999.000,9,   48.05,2,   17.00,2,  399.30,-999.0000,9,-999.0000,9,-999.0000,9,-999.0000,9,-999.0000,9,-999.0000,9,  13.7663,     -999.0,9,       3.59,2,       0.13,2,       0.28,2,         78,-999.000,-999.000,-999.000,      54.31,2,    0.17,2,     0.1,2
33RO200306_02,       A16N,     078,          2,         20,         20,2,20030718,       1811,    27.0000,   -25.0638,       5244,   449.6,  13.0272,  35.7611,2,  35.7614,2,    184.9,2,   184.2,2,    5.05,2,   13.55,2,    0.01,2,    0.79,2,   2.392,2,   1.299,2,   0.039,2,  2145.6,2,  2344.2,2,   -999.0,9,  -999.00,   7.8272,2,    25.00,-999.000,9,-999.000,9,-999.000,9, -999.00,9,  -999.0,9,  -999.0,-999.000,9,-999.000,-999.000,9,   47.47,2,   17.46,2,  449.60,-999.0000,9,-999.0000,9,-999.0000,9,-999.0000,9,-999.0000,9,-999.0000,9,  12.9642,     -999.0,9,     -999.0,9,     -999.0,9,     -999.0,9,         78,-999.000,-999.000,-999.000,     -999.0,9, -999.00,9, -999.00,9
33RO200306_02,       A16N,     078,          2,         19,         19,2,20030718,       1811,    27.0000,   -25.0638,       5244,   500.0,  12.4528,  35.6909,2,  35.6895,2,    181.2,2,   181.4,2,    5.77,2,   14.69,2,    0.01,2,    0.87,2,   2.274,2,   1.233,2,   0.039,2,  2149.8,2,  2340.4,2,    618.3,2,    20.00,   7.8048,2,    25.00,-999.000,9,-999.000,9,-999.000,9, -999.00,9,  -999.0,9,  -999.0,-999.000,9,-999.000,-999.000,9,   46.66,2,   18.92,2,  500.00,-999.0000,9,-999.0000,9,-999.0000,9,-999.0000,9,-999.0000,9,-999.0000,9,  12.3847,     -999.0,9,       2.68,2,       0.11,2,       0.25,2,         78,-999.000,-999.000,-999.000,      59.83,2,    0.32,2,     0.0,2
33RO200306_02,       A16N,     078,          2,         18,         18,2,20030718,       1811,    27.0000,   -25.0638,       5244,   599.7,  11.3546,  35.5704,2,  35.5699,2,    175.3,2,   173.0,2,    7.55,2,   17.04,2,    0.00,2,    1.05,2,   1.839,2,   0.974,2,   0.030,2,  2164.0,2,  2335.3,2,    681.7,2,    20.00,   7.7674,2,    25.00,-999.000,9,-999.000,9,-999.000,9, -999.00,9,  -999.0,9,  -999.0,-999.000,9,-999.000,-999.000,9,   46.42,2,   21.95,2,  599.70,-999.0000,9,-999.0000,9,-999.0000,9,-999.0000,9,-999.0000,9,-999.0000,9,  11.2773,     -999.0,9,     -999.0,9,     -999.0,9,     -999.0,9,         78,-999.000,-999.000,-999.000,     -999.0,9, -999.00,9, -999.00,9
33RO200306_02,       A16N,     078,          2,         17,         17,2,20030718,       1811,    27.0000,   -25.0638,       5244,   699.7,  10.0463,  35.4441,2,  35.4457,2,    162.3,2,   158.8,2,   10.80,2,   21.09,2,    0.00,2,    1.28,2,   1.056,2,   0.549,2,   0.013,2,  2180.0,2,  2332.6,6,   -999.0,9,  -999.00,   7.7372,6,    25.00,-999.000,9,-999.000,9,-999.000,9, -999.00,9,  -999.0,9,  -999.0,-999.000,9,-999.000,-999.000,9,   45.78,2,   25.67,2,  699.70,-999.0000,9,-999.0000,9,-999.0000,9,-999.0000,9,-999.0000,9,-999.0000,9,   9.9624,     -999.0,9,       0.86,2,       0.00,2,       0.15,2,         78,-999.000,-999.000,-999.000,       32.8,2,     0.0,2,    0.11,2
33RO200306_02,       A16N,     078,          2,         16,         16,2,20030718,       1811,    27.0000,   -25.0638,       5244,   799.5,   9.0685,  35.3528,2,  35.3553,2,    152.1,2,   150.1,2,   13.60,2,   23.58,2,    0.00,2,    1.46,2,   0.577,2,   0.306,2,   0.006,2,  2191.9,2,  2331.1,2,    824.1,2,    20.00,   7.6940,2,    25.00,-999.000,9,-999.000,9,-999.000,9, -999.00,9,  -999.0,9,  -999.0,-999.000,9,-999.000,-999.000,9,   44.96,2,   27.55,2,  799.50,-999.0000,9,-999.0000,9,-999.0000,9,-999.0000,9,-999.0000,9,-999.0000,9,   8.9778,     -999.0,9,     -999.0,9,     -999.0,9,     -999.0,9,         78,-999.000,-999.000,-999.000,     -999.0,9, -999.00,9, -999.00,9
33RO200306_02,       A16N,     078,          2,         15,         15,2,20030718,       1811,    27.0000,   -25.0638,       5244,   899.1,   8.0664,  35.2765,2,  35.2782,2,    152.8,2,   153.3,2,   15.90,2,   24.75,2,    0.00,2,    1.56,2,   0.312,2,   0.172,2,   0.003,2,  2195.8,2,  2331.6,2,    857.7,2,    20.00,   7.6924,2,    25.00,-999.000,9,-999.000,9,-999.000,9, -999.00,9,  -999.0,9,  -999.0,-999.000,9,-999.000,-999.000,9,   44.80,2,   28.76,2,  899.10,-999.0000,9,-999.0000,9,-999.0000,9,-999.0000,9,-999.0000,9,-999.0000,9,   7.9705,     -999.0,9,       0.27,2,       0.06,2,       0.29,2,         78,-999.000,-999.000,-999.000,      83.07,2,     0.0,2,    0.16,2
33RO200306_02,       A16N,     078,          2,         14,         14,2,20030718,       1811,    27.0000,   -25.0638,       5244,   999.3,   7.4686,  35.2568,2,  35.2612,2,    160.2,2,   163.4,2,   16.74,2,   24.55,2,    0.00,2,    1.56,2,   0.247,2,   0.132,2,   0.003,2,  2197.2,2,  2331.4,2,    853.2,2,    20.00,   7.6756,2,    25.00,-999.000,9,-999.000,9,-999.000,9, -999.00,9,  -999.0,9,  -999.0,-999.000,9,-999.000,-999.000,9,   43.49,2,   28.00,2,  999.30,-999.0000,9,-999.0000,9,-999.0000,9,-999.0000,9,-999.0000,9,-999.0000,9,   7.3658,     -999.0,9,     -999.0,9,     -999.0,9,     -999.0,9,         78,-999.000,-999.000,-999.000,     -999.0,9, -999.00,9, -999.00,9
33RO200306_02,       A16N,     078,          2,         13,         13,2,20030718,       1811,    27.0000,   -25.0638,       5244,  1099.3,   7.1025,  35.2692,2,  35.2721,2,    170.4,2,   171.5,2,   16.90,2,   23.81,2,    0.00,2,    1.52,2,   0.215,2,   0.116,2,   0.003,2,  2195.0,2,  2339.2,2,    832.6,2,    20.00,   7.6988,2,    25.00,-999.000,9,-999.000,9,-999.000,9, -999.00,9,  -999.0,9,  -999.0,-999.000,9,-999.000,-999.000,9,   43.00,2,   28.81,2, 1099.30,-999.0000,9,-999.0000,9,-999.0000,9,-999.0000,9,-999.0000,9,-999.0000,9,   6.9916,     -999.0,9,     -999.0,9,     -999.0,9,     -999.0,9,         78,-999.000,-999.000,-999.000,     -999.0,9, -999.00,9, -999.00,9
33RO200306_02,       A16N,     078,          2,         12,         12,2,20030718,       1811,    27.0000,   -25.0638,       5244,  1199.7,   6.8436,  35.2891,2,  35.2913,2,    180.0,2,   180.2,2,   16.83,2,   23.02,2,    0.00,2,    1.46,2,   0.214,2,   0.114,2,   0.003,2,  2192.3,2,  2335.7,2,    811.2,2,    20.00,   7.6963,2,    25.00,-999.000,9,-999.000,9,-999.000,9, -999.00,9,  -999.0,9,  -999.0,-999.000,9,-999.000,-999.000,9,   41.87,2,   26.32,2, 1199.70,-999.0000,9,-999.0000,9,-999.0000,9,-999.0000,9,-999.0000,9,-999.0000,9,   6.7240,     -999.0,9,     -999.0,9,     -999.0,9,     -999.0,9,         78,-999.000,-999.000,-999.000,     -999.0,9, -999.00,9, -999.00,9
33RO200306_02,       A16N,     078,          2,         11,         11,2,20030718,       1811,    27.0000,   -25.0638,       5244,  1398.6,   6.0279,  35.2517,2,  35.2551,2,    197.9,2,   197.4,2,   17.79,2,   21.99,2,    0.00,2,    1.42,2,   0.145,2,   0.078,2,   0.002,2,  2189.1,2,  2340.2,2,   -999.0,9,  -999.00,   7.7113,2,    25.00,-999.000,9,-999.000,9,-999.000,9, -999.00,9,  -999.0,9,  -999.0,-999.000,9,-999.000,-999.000,9,   42.12,2,   25.32,2, 1398.60,-999.0000,9,-999.0000,9,-999.0000,9,-999.0000,9,-999.0000,9,-999.0000,9,   5.8951,     -999.0,9,       0.00,2,       0.00,2,       0.15,2,         78,-999.000,-999.000,-999.000,     176.67,2,     0.0,2,    0.16,2
33RO200306_02,       A16N,     078,          2,         10,         10,2,20030718,       1811,    27.0000,   -25.0638,       5244,  1599.0,   5.2994,  35.2034,2,  35.2068,2,    212.7,2,   212.4,2,   19.23,2,   21.19,2,    0.00,2,    1.38,2,   0.128,2,   0.068,2,   0.002,2,  2186.2,2,  -999.0,9,    772.2,2,    20.00,-999.0000,9,  -999.00,-999.000,9,-999.000,9,-999.000,9, -999.00,9,  -999.0,9,  -999.0,-999.000,9,-999.000,-999.000,9,   42.85,2,   26.44,2, 1599.00,-999.0000,9,-999.0000,9,-999.0000,9,-999.0000,9,-999.0000,9,-999.0000,9,   5.1541,     -999.0,9,     -999.0,9,     -999.0,9,     -999.0,9,         78,-999.000,-999.000,-999.000,     -999.0,9, -999.00,9, -999.00,9
33RO200306_02,       A16N,     078,          2,          9,          9,2,20030718,       1811,    27.0000,   -25.0638,       5244,  1799.0,   4.6904,  35.1461,2,  35.1483,2,    223.1,2,   224.5,2,   20.37,2,   20.61,2,    0.01,2,    1.35,2,   0.104,2,   0.060,2,   0.003,2,  2180.1,2,  2332.8,2,   -999.0,9,  -999.00,   7.7195,2,    25.00,-999.000,9,-999.000,9,-999.000,9, -999.00,9,  -999.0,9,  -999.0,-999.000,9,-999.000,-999.000,9,   42.68,2,   25.08,2, 1799.00,-999.0000,9,-999.0000,9,-999.0000,9,-999.0000,9,-999.0000,9,-999.0000,9,   4.5326,     -999.0,9,       0.00,2,       0.00,2,       0.18,2,         78,-999.000,-999.000,-999.000,     171.29,2,     0.0,2,    0.06,2
33RO200306_02,       A16N,     078,          2,          8,          8,2,20030718,       1811,    27.0000,   -25.0638,       5244,  1999.5,   4.0696,  35.0756,2,  35.0784,2,    232.7,2,   232.8,2,   22.71,2,   20.61,2,    0.01,2,    1.36,2,   0.041,2,   0.022,2,   0.002,2,  2179.4,2,  2330.7,2,    776.6,2,    20.00,   7.7303,2,    25.00,-999.000,9,-999.000,9,-999.000,9, -999.00,9,  -999.0,9,  -999.0,-999.000,9,-999.000,-999.000,9,   42.36,2,   24.45,2, 1999.50,-999.0000,9,-999.0000,9,-999.0000,9,-999.0000,9,-999.0000,9,-999.0000,9,   3.9008,     -999.0,9,     -999.0,9,     -999.0,9,     -999.0,9,         78,-999.000,-999.000,-999.000,     -999.0,9, -999.00,9, -999.00,9