BOTTLE,20230908CCHSIOCBG
EXPOCODE,SECT_ID,STNNBR,CASTNO,SAMPNO,BTLNBR,BTLNBR_FLAG_W,DATE,TIME,LATITUDE,LONGITUDE,DEPTH,CTDPRS,CTDTMP,CTDSAL,CTDSAL_FLAG_W,SALNTY,SALNTY_FLAG_W,CTDOXY,CTDOXY_FLAG_W,OXYGEN,OXYGEN_FLAG_W,SILCAT,SILCAT_FLAG_W,NITRAT,NITRAT_FLAG_W,NITRIT,NITRIT_FLAG_W,PHSPHT,PHSPHT_FLAG_W,CFC-11,CFC-11_FLAG_W,CFC-12,CFC-12_FLAG_W,CFC113,CFC113_FLAG_W,TCARBN,TCARBN_FLAG_W,ALKALI,ALKALI_FLAG_W,FCO2,FCO2_FLAG_W,FCO2TMP,PH_SWS,PH_SWS_FLAG_W,PH_TMP,TRITUM,TRITUM_FLAG_W,HELIUM,HELIUM_FLAG_W,DELHE3,DELHE3_FLAG_W,DELC13,DELC13_FLAG_W,DELC14,DELC14_FLAG_W,C14ERR,NEON,NEON_FLAG_W,NEONER,POC,POC_FLAG_W,DOC,DOC_FLAG_W,TDN,TDN_FLAG_W,CTDRAW,CDOM325,CDOM325_FLAG_W,CDOM340,CDOM340_FLAG_W,CDOM380,CDOM380_FLAG_W,CDOM412,CDOM412_FLAG_W,CDOMSL,CDOMSL_FLAG_W,CDOMSN,CDOMSN_FLAG_W,THETA,PON,PON_FLAG_W,HCFC-22,HCFC-22_FLAG_W,HCFC-142b,HCFC-142b_FLAG_W,HCFC-141b,HCFC-141b_FLAG_W,STNNBR_U,HELIER,DELHER,TRITER,CH3CL,CH3CL_FLAG_W,CH3BR,CH3BR_FLAG_W,CH3I,CH3I_FLAG_W
,,,,,,,,,,,METERS,DBAR,ITS-90,PSS-78,,PSS-78,,UMOL/KG,,UMOL/KG,,UMOL/KG,,UMOL/KG,,UMOL/KG,,UMOL/KG,,PMOL/KG,,PMOL/KG,,PMOL/KG,,UMOL/KG,,UMOL/KG,,UATM,,DEG C,,,DEG C,TU,,NMOL/KG,,PERCNT,,/MILLE,,/MILLE,,/MILLE,NMOL/KG,,NMOL/KG,UG/KG,,UMOL/KG,,UMOL/KG,,DBAR,1/M,,1/M,,1/M,,1/M,,1/NM,,1/NM,,DEG C,UMOL/L,,PMOL/KG,,PMOL/KG,,PMOL/KG,,,NMOL/KG,PERCNT,TU,PMOL/KG,,PMOL/KG,,PMOL/KG,
33RO200306_02,       A16N,     148,          2,         35,         35,2,20030808,       1710,    -4.9993,   -25.0113,       5721,     4.3,  26.2551,  35.9223,2,  35.9158,2,    202.1,2,   205.1,2,    1.02,2,    0.07,2,    0.00,2,    0.08,2,   1.757,2,   1.118,2,   0.145,2,  2017.4,6,  2358.8,6,    291.8,2,    20.00,   8.0828,6,    25.00,-999.000,9,-999.000,9,-999.000,9,    1.73,2,    51.0,2,     3.5,-999.000,9,-999.000,-999.000,9,   73.17,2,    6.51,2,    4.30,-999.0000,9,-999.0000,9,-999.0000,9,-999.0000,9,-999.0000,9,-999.0000,9,  26.2541,     -999.0,9,     -999.0,9,     -999.0,9,     -999.0,9,        148,-999.000,-999.000,-999.000,     -999.0,9, -999.00,9, -999.00,9
33RO200306_02,       A16N,     148,          2,         33,         33,2,20030808,       1710,    -4.9993,   -25.0113,       5721,    13.6,  26.2569,  35.9217,2,  35.9138,2,    202.4,2,   205.5,2,    1.04,2,    0.11,2,    0.00,2,    0.09,2,   1.769,2,   1.126,2,   0.148,2,  2018.2,2,  2358.7,2,    292.6,2,    20.00,   8.0798,2,    25.00,-999.000,9,-999.000,9,-999.000,9, -999.00,9,  -999.0,9,  -999.0,-999.000,9,-999.000,-999.000,9,   71.46,2,    6.43,2,   13.60,-999.0000,9,-999.0000,9,-999.0000,9,-999.0000,9,-999.0000,9,-999.0000,9,  26.2538,     -999.0,9,     -999.0,9,     -999.0,9,     -999.0,9,        148,-999.000,-999.000,-999.000,     -999.0,9, -999.00,9, -999.00,9
33RO200306_02,       A16N,     148,          2,         32,         32,2,20030808,       1710,    -4.9993,   -25.0113,       5721,    44.2,  26.1431,  35.9211,2,  35.9164,2,    202.4,2,   205.2,2,    1.02,2,    0.07,2,    0.00,2,    0.09,2,   1.756,2,   1.126,2,   0.151,2,  2018.6,2,  2359.5,2,    295.2,2,    20.00,   8.0817,2,    25.00,-999.000,9,-999.000,9,-999.000,9, -999.00,9,  -999.0,9,  -999.0,-999.000,9,-999.000,-999.000,9,   71.54,2,    6.49,2,   44.20,-999.0000,9,-999.0000,9,-999.0000,9,-999.0000,9,-999.0000,9,-999.0000,9,  26.1332,     -999.0,9,     -999.0,9,     -999.0,9,     -999.0,9,        148,-999.000,-999.000,-999.000,     -999.0,9, -999.00,9, -999.00,9
33RO200306_02,       A16N,     148,          2,         31,         31,2,20030808,       1710,    -4.9993,   -25.0113,       5721,    63.3,  26.0976,  35.9322,2,  35.9295,2,    202.5,2,   205.0,2,    1.10,2,    0.32,2,    0.00,2,    0.10,2,   1.764,2,   1.125,2,   0.145,2,  2021.4,2,  2360.7,2,    298.2,2,    20.00,   8.0717,2,    25.00,-999.000,9,-999.000,9,-999.000,9, -999.00,9,  -999.0,9,  -999.0,-999.000,9,-999.000,-999.000,9, -999.00,9, -999.00,9,   63.30,-999.0000,9,-999.0000,9,-999.0000,9,-999.0000,9,-999.0000,9,-999.0000,9,  26.0834,     -999.0,9,     -999.0,9,     -999.0,9,     -999.0,9,        148,-999.000,-999.000,-999.000,     -999.0,9, -999.00,9, -999.00,9
33RO200306_02,       A16N,     148,          2,         30,         30,2,20030808,       1710,    -4.9993,   -25.0113,       5721,    93.9,  21.3956,  36.2354,2,  36.1896,2,    166.9,2,   150.3,2,    2.92,2,    7.48,2,    0.06,2,    0.66,2,   1.979,2,   1.205,2,   0.120,2,  2126.7,2,  2376.2,2,    471.2,2,    20.00,   7.9130,2,    25.00,-999.000,9,-999.000,9,-999.000,9, -999.00,9,  -999.0,9,  -999.0,-999.000,9,-999.000,-999.000,9,   60.90,2,   13.42,2,   93.90,-999.0000,9,-999.0000,9,-999.0000,9,-999.0000,9,-999.0000,9,-999.0000,9,  21.3773,     -999.0,9,     -999.0,9,     -999.0,9,     -999.0,9,        148,-999.000,-999.000,-999.000,     -999.0,9, -999.00,9, -999.00,9
33RO200306_02,       A16N,     148,          2,         29,         29,2,20030808,       1710,    -4.9993,   -25.0113,       5721,   113.7,  18.7349,  35.9943,2,  35.9839,2,    137.4,2,   129.7,2,    4.05,2,   12.98,2,    0.03,2,    0.94,2,   1.973,2,   1.172,2,   0.096,2,  2153.0,2,  2362.7,2,    574.3,2,    20.00,   7.8416,2,    25.00,-999.000,9,-999.000,9,-999.000,9, -999.00,9,  -999.0,9,  -999.0,-999.000,9,-999.000,-999.000,9, -999.00,9, -999.00,9,  113.70,-999.0000,9,-999.0000,9,-999.0000,9,-999.0000,9,-999.0000,9,-999.0000,9,  18.7147,     -999.0,9,     -999.0,9,     -999.0,9,     -999.0,9,        148,-999.000,-999.000,-999.000,     -999.0,9, -999.00,9, -999.00,9
33RO200306_02,       A16N,     148,          2,         28,         28,2,20030808,       1710,    -4.9993,   -25.0113,       5721,   139.8,  15.6164,  35.6007,2,  35.5813,2,    109.2,2,   109.5,2,    6.13,2,   19.20,2,    0.01,2,    1.26,2,   1.897,2,   1.090,2,   0.053,2,  2176.2,2,  2336.5,2,    738.2,2,    20.00,   7.7464,2,    25.00,-999.000,9,-999.000,9,-999.000,9, -999.00,9,  -999.0,9,  -999.0,-999.000,9,-999.000,-999.000,9,   52.36,2,   23.94,2,  139.80,-999.0000,9,-999.0000,9,-999.0000,9,-999.0000,9,-999.0000,9,-999.0000,9,  15.5946,     -999.0,9,     -999.0,9,     -999.0,9,     -999.0,9,        148,-999.000,-999.000,-999.000,     -999.0,9, -999.00,9, -999.00,9
33RO200306_02,       A16N,     148,          2,         27,         27,2,20030808,       1710,    -4.9993,   -25.0113,       5721,   164.1,  13.3123,  35.3173,2,  35.3041,2,    110.5,2,   110.1,2,    7.97,2,   22.04,2,    0.01,2,    1.43,2,   1.795,6,   0.995,6,   0.029,6,  2182.2,2,  2322.2,2,   -999.0,9,  -999.00,   7.6980,2,    25.00,-999.000,9,-999.000,9,-999.000,9, -999.00,9,  -999.0,9,  -999.0,-999.000,9,-999.000,-999.000,9, -999.00,9, -999.00,9,  164.10,-999.0000,9,-999.0000,9,-999.0000,9,-999.0000,9,-999.0000,9,-999.0000,9,  13.2893,     -999.0,9,     -999.0,9,     -999.0,9,     -999.0,9,        148,-999.000,-999.000,-999.000,     -999.0,9, -999.00,9, -999.00,9
33RO200306_02,       A16N,     148,          2,         26,         26,2,20030808,       1710,    -4.9993,   -25.0113,       5721,   188.8,  12.1644,  35.1822,2,  35.1653,2,     99.6,2,   102.1,2,    9.66,2,   24.92,2,    0.01,2,    1.57,2,   1.573,2,   0.864,2,   0.020,2,  2191.5,2,  2315.9,2,    928.5,2,    20.00,   7.6559,2,    25.00,-999.000,9,-999.000,9,-999.000,9, -999.00,9,  -999.0,9,  -999.0,-999.000,9,-999.000,-999.000,9,   47.80,2,   30.91,2,  188.80,-999.0000,9,-999.0000,9,-999.0000,9,-999.0000,9,-999.0000,9,-999.0000,9,  12.1395,     -999.0,9,     -999.0,9,     -999.0,9,     -999.0,9,        148,-999.000,-999.000,-999.000,     -999.0,9, -999.00,9, -999.00,9
33RO200306_02,       A16N,     148,          2,         25,         25,2,20030808,       1710,    -4.9993,   -25.0113,       5721,   223.7,  11.0088,  35.0436,2,  35.0368,2,     99.3,2,   100.7,2,   11.22,2,   27.02,2,    0.00,2,    1.70,2,   1.323,2,   0.717,2,   0.015,2,  2200.1,2,  2310.3,2,   -999.0,9,  -999.00,   7.6237,2,    25.00,-999.000,9,-999.000,9,-999.000,9, -999.00,9,  -999.0,9,  -999.0,-999.000,9,-999.000,-999.000,9,   45.69,2,   32.39,2,  223.70,-999.0000,9,-999.0000,9,-999.0000,9,-999.0000,9,-999.0000,9,-999.0000,9,  10.9812,     -999.0,9,     -999.0,9,     -999.0,9,     -999.0,9,        148,-999.000,-999.000,-999.000,     -999.0,9, -999.00,9, -999.00,9
33RO200306_02,       A16N,     148,          2,         24,         24,2,20030808,       1710,    -4.9993,   -25.0113,       5721,   273.7,   9.9964,  34.9202,2,  34.9133,2,     92.0,2,    92.9,2,   13.38,2,   29.93,2,    0.00,2,    1.85,2,-999.000,9,-999.000,9,-999.000,9,  2208.5,2,  2306.4,2,   1113.5,2,    20.00,   7.5804,2,    25.00,-999.000,9,-999.000,9,-999.000,9, -999.00,9,  -999.0,9,  -999.0,-999.000,9,-999.000,-999.000,9,   45.78,2,   34.59,2,  273.70,-999.0000,9,-999.0000,9,-999.0000,9,-999.0000,9,-999.0000,9,-999.0000,9,   9.9646,     -999.0,9,     -999.0,9,     -999.0,9,     -999.0,9,        148,-999.000,-999.000,-999.000,     -999.0,9, -999.00,9, -999.00,9
33RO200306_02,       A16N,     148,          2,         23,         23,2,20030808,       1710,    -4.9993,   -25.0113,       5721,   325.0,   9.5424,  34.8706,2,  34.8634,2,     87.0,2,    88.3,2,   14.55,2,   31.41,2,    0.00,2,    1.93,2,   0.853,2,   0.458,2,   0.008,2,  2216.1,2,  2303.5,2,   -999.0,9,  -999.00,   7.5497,2,    25.00,-999.000,9,-999.000,9,-999.000,9, -999.00,9,  -999.0,9,  -999.0,-999.000,9,-999.000,-999.000,9,   45.44,2,   37.34,2,  325.00,-999.0000,9,-999.0000,9,-999.0000,9,-999.0000,9,-999.0000,9,-999.0000,9,   9.5056,     -999.0,9,     -999.0,9,     -999.0,9,     -999.0,9,        148,-999.000,-999.000,-999.000,     -999.0,9, -999.00,9, -999.00,9
33RO200306_02,       A16N,     148,          2,         22,         22,2,20030808,       1710,    -4.9993,   -25.0113,       5721,   374.8,   8.5930,  34.7706,2,  34.7690,2,     91.2,2,    90.6,2,   16.69,2,   33.13,2,    0.00,2,    2.05,2,-999.000,9,-999.000,9,-999.000,9,  2219.6,2,  2301.0,2,   1248.1,2,    20.00,   7.5364,2,    25.00,-999.000,9,-999.000,9,-999.000,9, -999.00,9,  -999.0,9,  -999.0,-999.000,9,-999.000,-999.000,9,   45.93,2,   39.13,2,  374.80,-999.0000,9,-999.0000,9,-999.0000,9,-999.0000,9,-999.0000,9,-999.0000,9,   8.5531,     -999.0,9,     -999.0,9,     -999.0,9,     -999.0,9,        148,-999.000,-999.000,-999.000,     -999.0,9, -999.00,9, -999.00,9
33RO200306_02,       A16N,     148,          2,         21,         21,2,20030808,       1710,    -4.9993,   -25.0113,       5721,   449.0,   7.3854,  34.6571,2,  34.6549,2,     95.8,2,    98.2,2,   20.03,2,   34.81,2,    0.00,2,    2.19,2,   0.451,2,   0.245,2,   0.008,2,  2221.9,2,  2298.7,2,   1297.8,2,    20.00,   7.5194,2,    25.00,-999.000,9,-999.000,9,-999.000,9, -999.00,9,  -999.0,9,  -999.0,-999.000,9,-999.000,-999.000,9,   44.71,2,   39.95,2,  449.00,-999.0000,9,-999.0000,9,-999.0000,9,-999.0000,9,-999.0000,9,-999.0000,9,   7.3415,     -999.0,9,     -999.0,9,     -999.0,9,     -999.0,9,        148,-999.000,-999.000,-999.000,     -999.0,9, -999.00,9, -999.00,9
33RO200306_02,       A16N,     148,          2,         20,         20,2,20030808,       1710,    -4.9993,   -25.0113,       5721,   548.4,   6.1762,  34.5504,2,  34.5471,2,    124.0,2,   125.0,2,   23.58,2,   34.49,2,    0.00,2,    2.23,2,   0.389,2,   0.211,2,   0.006,2,  2215.2,2,  2298.3,2,   1238.8,6,    20.00,   7.5346,2,    25.00,-999.000,9,-999.000,9,-999.000,9, -999.00,9,  -999.0,9,  -999.0,-999.000,9,-999.000,-999.000,9,   41.87,2,   40.18,2,  548.40,-999.0000,9,-999.0000,9,-999.0000,9,-999.0000,9,-999.0000,9,-999.0000,9,   6.1273,     -999.0,9,     -999.0,9,     -999.0,9,     -999.0,9,        148,-999.000,-999.000,-999.000,     -999.0,9, -999.00,9, -999.00,9
33RO200306_02,       A16N,     148,          2,         19,         19,2,20030808,       1710,    -4.9993,   -25.0113,       5721,   650.1,   5.4623,  34.5006,2,  34.4993,2,    136.6,2,   137.7,2,   26.67,2,   34.70,2,    0.00,2,    2.27,2,   0.282,2,   0.149,2,   0.006,2,  2215.0,2,  2297.2,2,   1213.3,2,    20.00,   7.5477,2,    25.00,-999.000,9,-999.000,9,-999.000,9, -999.00,9,  -999.0,9,  -999.0,-999.000,9,-999.000,-999.000,9,   41.71,2,   40.26,2,  650.10,-999.0000,9,-999.0000,9,-999.0000,9,-999.0000,9,-999.0000,9,-999.0000,9,   5.4075,     -999.0,9,     -999.0,9,     -999.0,9,     -999.0,9,        148,-999.000,-999.000,-999.000,     -999.0,9, -999.00,9, -999.00,9
33RO200306_02,       A16N,     148,          2,         18,         18,2,20030808,       1710,    -4.9993,   -25.0113,       5721,   798.7,   4.6819,  34.4749,2,  34.4710,2,    154.9,2,   153.8,2,   31.31,2,   34.35,2,    0.00,2,    2.27,2,   0.187,2,   0.103,2,   0.005,2,  2214.6,2,  -999.0,9,   1175.7,2,    20.00,-999.0000,9,  -999.00,-999.000,9,-999.000,9,-999.000,9, -999.00,9,  -999.0,9,  -999.0,-999.000,9,-999.000,-999.000,9,   41.30,2,   39.60,2,  798.70,-999.0000,9,-999.0000,9,-999.0000,9,-999.0000,9,-999.0000,9,-999.0000,9,   4.6185,     -999.0,9,     -999.0,9,     -999.0,9,     -999.0,9,        148,-999.000,-999.000,-999.000,     -999.0,9, -999.00,9, -999.00,9
33RO200306_02,       A16N,     148,          2,         17,         17,2,20030808,       1710,    -4.9993,   -25.0113,       5721,   950.3,   4.1620,  34.5400,2,  34.5352,2,    162.4,2,   164.5,2,   34.92,2,   33.28,2,    0.00,2,    2.22,2,   0.084,2,   0.049,2,   0.002,2,  2215.0,6,  2308.5,6,   1134.5,2,    20.00,   7.5760,6,    25.00,-999.000,9,-999.000,9,-999.000,9, -999.00,9,  -999.0,9,  -999.0,-999.000,9,-999.000,-999.000,9,   40.32,2,   39.15,2,  950.30,-999.0000,9,-999.0000,9,-999.0000,9,-999.0000,9,-999.0000,9,-999.0000,9,   4.0892,     -999.0,9,     -999.0,9,     -999.0,9,     -999.0,9,        148,-999.000,-999.000,-999.000,     -999.0,9, -999.00,9, -999.00,9
33RO200306_02,       A16N,     148,          2,         16,         16,2,20030808,       1710,    -4.9993,   -25.0113,       5721,  1099.6,   4.2355,  34.6870,2,  34.6849,2,    170.3,2,   169.3,2,   31.17,2,   30.59,2,    0.00,2,    2.05,2,   0.027,2,   0.014,2,   0.002,2,  2210.3,2,  2308.9,2,   -999.0,9,  -999.00,   7.5980,2,    25.00,-999.000,9,-999.000,9,-999.000,9, -999.00,9,  -999.0,9,  -999.0,-999.000,9,-999.000,-999.000,9,   40.41,2,   36.32,2, 1099.60,-999.0000,9,-999.0000,9,-999.0000,9,-999.0000,9,-999.0000,9,-999.0000,9,   4.1492,     -999.0,9,     -999.0,9,     -999.0,9,     -999.0,9,        148,-999.000,-999.000,-999.000,     -999.0,9, -999.00,9, -999.00,9
33RO200306_02,       A16N,     148,          2,         15,         15,2,20030808,       1710,    -4.9993,   -25.0113,       5721,  1249.6,   4.3824,  34.8278,2,  34.8251,2,    185.4,2,   187.7,2,   25.85,2,   27.21,2,    0.00,2,    1.81,2,   0.033,2,   0.020,2,   0.000,2,  2198.6,2,  2313.8,2,    955.1,2,    20.00,   7.6372,2,    25.00,-999.000,9,-999.000,9,-999.000,9, -999.00,9,  -999.0,9,  -999.0,-999.000,9,-999.000,-999.000,9,   40.60,2,   33.10,2, 1249.60,-999.0000,9,-999.0000,9,-999.0000,9,-999.0000,9,-999.0000,9,-999.0000,9,   4.2812,     -999.0,9,     -999.0,9,     -999.0,9,     -999.0,9,        148,-999.000,-999.000,-999.000,     -999.0,9, -999.00,9, -999.00,9
33RO200306_02,       A16N,     148,          2,         14,         14,2,20030808,       1710,    -4.9993,   -25.0113,       5721,  1500.8,   4.2701,  34.9529,2,  34.9514,2,    220.1,2,   223.7,2,   19.75,2,   22.27,2,    0.00,2,    1.46,2,   0.127,2,   0.072,2,   0.004,2,  2177.3,2,  2317.8,2,    818.4,2,    20.00,   7.6979,2,    25.00,-999.000,9,-999.000,9,-999.000,9, -999.00,9,  -999.0,9,  -999.0,-999.000,9,-999.000,-999.000,9,   41.19,2,   27.13,2, 1500.80,-999.0000,9,-999.0000,9,-999.0000,9,-999.0000,9,-999.0000,9,-999.0000,9,   4.1468,     -999.0,9,     -999.0,9,     -999.0,9,     -999.0,9,        148,-999.000,-999.000,-999.000,     -999.0,9, -999.00,9, -999.00,9
33RO200306_02,       A16N,     148,          2,         13,         13,2,20030808,       1710,    -4.9993,   -25.0113,       5721,  1698.8,   3.9732,  34.9781,2,  34.9743,2,    241.4,2,   238.3,2,   18.59,2,   20.55,2,    0.00,2,    1.33,2,   0.146,2,   0.079,2,   0.003,2,  2168.8,2,  2317.6,2,    758.8,2,    20.00,   7.7225,2,    25.00,-999.000,9,-999.000,9,-999.000,9, -999.00,9,  -999.0,9,  -999.0,-999.000,9,-999.000,-999.000,9,   40.73,2,   24.10,2, 1698.80,-999.0000,9,-999.0000,9,-999.0000,9,-999.0000,9,-999.0000,9,-999.0000,9,   3.8349,     -999.0,9,     -999.0,9,     -999.0,9,     -999.0,9,        148,-999.000,-999.000,-999.000,     -999.0,9, -999.00,9, -999.00,9
33RO200306_02,       A16N,     148,          2,         12,         12,2,20030808,       1710,    -4.9993,   -25.0113,       5721,  1899.7,   3.7283,  34.9781,2,  34.9746,2,    249.2,2,   246.8,2,   19.15,2,   19.73,2,    0.00,2,    1.28,2,   0.168,2,   0.091,2,   0.005,2,  2165.8,2,  2318.4,2,   -999.0,9,  -999.00,   7.7333,2,    25.00,-999.000,9,-999.000,9,-999.000,9, -999.00,9,  -999.0,9,  -999.0,-999.000,9,-999.000,-999.000,9,   39.19,2,   23.80,2, 1899.70,-999.0000,9,-999.0000,9,-999.0000,9,-999.0000,9,-999.0000,9,-999.0000,9,   3.5744,     -999.0,9,     -999.0,9,     -999.0,9,     -999.0,9,        148,-999.000,-999.000,-999.000,     -999.0,9, -999.00,9, -999.00,9
33RO200306_02,       A16N,     148,          2,         11,         11,2,20030808,       1710,    -4.9993,   -25.0113,       5721,  2047.7,   3.5131,  34.9630,2,  34.9594,2,    248.2,2,   242.6,2,   22.56,2,   20.39,2,    0.00,2,    1.33,2,   0.062,2,   0.038,2,   0.006,2,  2169.7,2,  2321.4,2,    754.4,2,    20.00,   7.7265,2,    25.00,-999.000,9,-999.000,9,-999.000,9, -999.00,9,  -999.0,9,  -999.0,-999.000,9,-999.000,-999.000,9,   39.73,2,   25.60,2, 2047.70,-999.0000,9,-999.0000,9,-999.0000,9,-999.0000,9,-999.0000,9,-999.0000,9,   3.3483,     -999.0,9,     -999.0,9,     -999.0,9,     -999.0,9,        148,-999.000,-999.000,-999.000,     -999.0,9, -999.00,9, -999.00,9
33RO200306_02,       A16N,     148,          2,         10,         10,2,20030808,       1710,    -4.9993,   -25.0113,       5721,  2288.3,   3.2277,  34.9538,2,  34.9508,2,    252.2,2,   251.6,2,   25.42,2,   20.25,2,    0.00,2,    1.32,2,   0.088,2,   0.048,2,   0.003,2,  2170.8,2,  2323.5,2,   -999.0,9,  -999.00,   7.7320,2,    25.00,-999.000,9,-999.000,9,-999.000,9, -999.00,9,  -999.0,9,  -999.0,-999.000,9,-999.000,-999.000,9,   40.17,2,   25.48,2, 2288.30,-999.0000,9,-999.0000,9,-999.0000,9,-999.0000,9,-999.0000,9,-999.0000,9,   3.0444,     -999.0,9,     -999.0,9,     -999.0,9,     -999.0,9,        148,-999.000,-999.000,-999.000,     -999.0,9, -999.00,9, -999.00,9
33RO200306_02,       A16N,     148,          2,          9,          9,2,20030808,       1710,    -4.9993,   -25.0113,       5721,  2598.2,   2.8757,  34.9291,2,  34.9272,2,    247.9,2,   247.6,2,   33.04,2,   21.20,2,    0.00,2,    1.40,2,   0.020,2,   0.014,2,  -0.001,2,  2179.6,2,  2329.7,2,    760.5,2,    20.00,   7.7307,2,    25.00,-999.000,9,-999.000,9,-999.000,9, -999.00,9,  -999.0,9,  -999.0,-999.000,9,-999.000,-999.000,9,   39.61,2,   25.34,2, 2598.20,-999.0000,9,-999.0000,9,-999.0000,9,-999.0000,9,-999.0000,9,-999.0000,9,   2.6685,     -999.0,9,     -999.0,9,     -999.0,9,     -999.0,9,        148,-999.000,-999.000,-999.000,     -999.0,9, -999.00,9, -999.00,9
33RO200306_02,       A16N,     148,          2,          8,          8,2,20030808,       1710,    -4.9993,   -25.0113,       5721,  2998.0,   2.6795,  34.9208,2,  34.9174,2,    250.0,2,   251.0,2,   34.57,2,   21.00,2,    0.00,2,    1.38,2,   0.026,2,   0.017,2,   0.004,2,  2178.7,2,  2331.3,2,    762.2,2,    20.00,   7.7291,2,    25.00,-999.000,9,-999.000,9,-999.000,9, -999.00,9,  -999.0,9,  -999.0,-999.000,9,-999.000,-999.000,9,   40.94,2,   26.27,2, 2998.00,-999.0000,9,-999.0000,9,-999.0000,9,-999.0000,9,-999.0000,9,-999.0000,9,   2.4360,     -999.0,9,     -999.0,9,     -999.0,9,     -999.0,9,        148,-999.000,-999.000,-999.000,     -999.0,9, -999.00,9, -999.00,9