BOTTLE,20230908CCHSIOCBG
EXPOCODE,SECT_ID,STNNBR,CASTNO,SAMPNO,BTLNBR,BTLNBR_FLAG_W,DATE,TIME,LATITUDE,LONGITUDE,DEPTH,CTDPRS,CTDTMP,CTDSAL,CTDSAL_FLAG_W,SALNTY,SALNTY_FLAG_W,CTDOXY,CTDOXY_FLAG_W,OXYGEN,OXYGEN_FLAG_W,SILCAT,SILCAT_FLAG_W,NITRAT,NITRAT_FLAG_W,NITRIT,NITRIT_FLAG_W,PHSPHT,PHSPHT_FLAG_W,CFC-11,CFC-11_FLAG_W,CFC-12,CFC-12_FLAG_W,CFC113,CFC113_FLAG_W,TCARBN,TCARBN_FLAG_W,ALKALI,ALKALI_FLAG_W,FCO2,FCO2_FLAG_W,FCO2TMP,PH_SWS,PH_SWS_FLAG_W,PH_TMP,TRITUM,TRITUM_FLAG_W,HELIUM,HELIUM_FLAG_W,DELHE3,DELHE3_FLAG_W,DELC13,DELC13_FLAG_W,DELC14,DELC14_FLAG_W,C14ERR,NEON,NEON_FLAG_W,NEONER,POC,POC_FLAG_W,DOC,DOC_FLAG_W,TDN,TDN_FLAG_W,CTDRAW,CDOM325,CDOM325_FLAG_W,CDOM340,CDOM340_FLAG_W,CDOM380,CDOM380_FLAG_W,CDOM412,CDOM412_FLAG_W,CDOMSL,CDOMSL_FLAG_W,CDOMSN,CDOMSN_FLAG_W,THETA,PON,PON_FLAG_W,HCFC-22,HCFC-22_FLAG_W,HCFC-142b,HCFC-142b_FLAG_W,HCFC-141b,HCFC-141b_FLAG_W,STNNBR_U,HELIER,DELHER,TRITER,CH3CL,CH3CL_FLAG_W,CH3BR,CH3BR_FLAG_W,CH3I,CH3I_FLAG_W
,,,,,,,,,,,METERS,DBAR,ITS-90,PSS-78,,PSS-78,,UMOL/KG,,UMOL/KG,,UMOL/KG,,UMOL/KG,,UMOL/KG,,UMOL/KG,,PMOL/KG,,PMOL/KG,,PMOL/KG,,UMOL/KG,,UMOL/KG,,UATM,,DEG C,,,DEG C,TU,,NMOL/KG,,PERCNT,,/MILLE,,/MILLE,,/MILLE,NMOL/KG,,NMOL/KG,UG/KG,,UMOL/KG,,UMOL/KG,,DBAR,1/M,,1/M,,1/M,,1/M,,1/NM,,1/NM,,DEG C,UMOL/L,,PMOL/KG,,PMOL/KG,,PMOL/KG,,,NMOL/KG,PERCNT,TU,PMOL/KG,,PMOL/KG,,PMOL/KG,
33RO200306_02,       A16N,     126,          2,         35,         35,2,20030803,       0200,     3.0070,   -24.9955,       4403,     3.2,  27.1309,  35.5550,2,  35.5608,2,    193.8,2,   208.4,2,    0.91,2,    0.15,2,    0.00,2,    0.06,2,   1.683,2,   1.087,2,   0.143,2,  1988.0,2,  2331.6,2,    277.9,2,    20.00,   8.1038,2,    25.00,-999.000,9,   1.728,2,  -2.651,2,    1.79,2,    73.8,2,     3.6,   6.700,2,   0.023,-999.000,9,   71.63,2,    6.09,2,    3.20,-999.0000,9,-999.0000,9,-999.0000,9,-999.0000,9,-999.0000,9,-999.0000,9,  27.1302,     -999.0,9,       3.63,2,       0.18,2,       0.18,2,        126,   0.002,   0.119,-999.000,     292.16,2,    1.96,2,     5.3,2
33RO200306_02,       A16N,     126,          2,         33,         33,2,20030803,       0200,     3.0070,   -24.9955,       4403,     9.7,  27.1631,  35.5543,2,  35.5648,2,    194.1,2,   204.9,2,    0.91,2,    0.15,2,    0.00,2,    0.06,2,-999.000,9,-999.000,9,-999.000,9,  1986.7,6,  2330.7,2,    278.8,2,    20.00,   8.0550,2,    25.00,-999.000,9,-999.000,9,-999.000,9, -999.00,9,  -999.0,9,  -999.0,-999.000,9,-999.000,-999.000,9,   69.19,2,    6.73,2,    9.70,-999.0000,9,-999.0000,9,-999.0000,9,-999.0000,9,-999.0000,9,-999.0000,9,  27.1609,     -999.0,9,       3.68,2,       0.15,2,       0.26,2,        126,-999.000,-999.000,-999.000,     299.96,2,    2.15,2,    6.08,2
33RO200306_02,       A16N,     126,          2,         32,         32,2,20030803,       0200,     3.0070,   -24.9955,       4403,    30.0,  27.1347,  35.5533,2,  35.5598,2,    193.9,2,   204.4,2,    0.93,2,    0.17,2,    0.00,2,    0.06,2,   1.692,2,   1.084,2,   0.144,2,  1987.7,2,  2331.2,2,   -999.0,9,  -999.00,   8.0941,2,    25.00,   0.680,2,   1.714,2,  -2.105,2, -999.00,9,  -999.0,9,  -999.0,   6.655,2,   0.023,-999.000,9, -999.00,9, -999.00,9,   30.00,-999.0000,9,-999.0000,9,-999.0000,9,-999.0000,9,-999.0000,9,-999.0000,9,  27.1278,     -999.0,9,     -999.0,9,     -999.0,9,     -999.0,9,        126,   0.002,   0.119,   0.020,     -999.0,9, -999.00,9, -999.00,9
33RO200306_02,       A16N,     126,          2,         31,         31,2,20030803,       0200,     3.0070,   -24.9955,       4403,    49.9,  27.1214,  35.5740,2,  35.6373,2,    189.1,2,   202.3,2,    1.03,2,    0.22,2,    0.01,2,    0.08,2,   1.700,2,   1.092,2,   0.139,2,  1996.8,2,  2336.2,2,    286.4,2,    20.00,   8.0959,2,    25.00,-999.000,9,-999.000,9,-999.000,9, -999.00,9,  -999.0,9,  -999.0,-999.000,9,-999.000,-999.000,9,   69.51,2,    6.23,2,   49.90,-999.0000,9,-999.0000,9,-999.0000,9,-999.0000,9,-999.0000,9,-999.0000,9,  27.1099,     -999.0,9,       3.52,2,       0.15,2,       0.25,2,        126,-999.000,-999.000,-999.000,      46.31,2,    0.04,2,    7.74,2
33RO200306_02,       A16N,     126,          2,         30,         30,2,20030803,       0200,     3.0070,   -24.9955,       4403,    69.6,  24.3306,  35.9095,2,  35.8734,2,    179.2,2,   168.1,2,    2.66,2,    4.55,2,    0.26,2,    0.45,2,-999.000,9,-999.000,9,-999.000,9,  2084.7,2,  2353.4,6,   -999.0,9,  -999.00,   7.9692,6,    25.00,   0.494,2,   1.718,2,  -1.127,2, -999.00,9,  -999.0,9,  -999.0,   6.862,2,   0.024,-999.000,9, -999.00,9, -999.00,9,   69.60,-999.0000,9,-999.0000,9,-999.0000,9,-999.0000,9,-999.0000,9,-999.0000,9,  24.3158,     -999.0,9,     -999.0,9,     -999.0,9,     -999.0,9,        126,   0.002,   0.118,   0.020,     -999.0,9, -999.00,9, -999.00,9
33RO200306_02,       A16N,     126,          2,         29,         29,2,20030803,       0200,     3.0070,   -24.9955,       4403,    89.1,  16.2238,  35.6240,2,  35.6285,2,    101.5,2,    91.1,2,    6.22,2,   20.59,2,    0.04,2,    1.38,2,   1.965,2,   1.108,2,   0.036,2,  2187.3,2,  2333.4,2,    800.5,2,    20.00,   7.7100,2,    25.00,-999.000,9,-999.000,9,-999.000,9, -999.00,9,  -999.0,9,  -999.0,-999.000,9,-999.000,-999.000,9,   49.68,2,   24.87,2,   89.10,-999.0000,9,-999.0000,9,-999.0000,9,-999.0000,9,-999.0000,9,-999.0000,9,  16.2095,     -999.0,9,       2.02,2,       0.00,2,       0.13,2,        126,-999.000,-999.000,-999.000,        0.0,2,     0.0,2,    1.06,2
33RO200306_02,       A16N,     126,          2,         28,         28,2,20030803,       0200,     3.0070,   -24.9955,       4403,   109.7,  15.5123,  35.5852,2,  35.5871,2,     89.3,2,    91.5,2,    6.79,2,   21.26,2,    0.03,2,    1.42,2,   1.930,2,   1.079,2,   0.024,2,  2187.9,2,  2332.4,2,   -999.0,9,  -999.00,   7.7163,2,    25.00,   0.309,2,   1.769,2,  -0.463,2, -999.00,9,  -999.0,9,  -999.0,   7.268,2,   0.025,-999.000,9, -999.00,9, -999.00,9,  109.70,-999.0000,9,-999.0000,9,-999.0000,9,-999.0000,9,-999.0000,9,-999.0000,9,  15.4953,     -999.0,9,     -999.0,9,     -999.0,9,     -999.0,9,        126,   0.002,   0.117,   0.010,     -999.0,9, -999.00,9, -999.00,9
33RO200306_02,       A16N,     126,          2,         27,         27,2,20030803,       0200,     3.0070,   -24.9955,       4403,   134.6,  15.1394,  35.5469,2,  35.5471,2,     94.4,2,    95.9,2,    7.18,2,   21.24,2,    0.02,2,    1.42,2,   1.890,2,   1.064,2,   0.017,2,  2184.8,2,  2332.5,2,    803.2,2,    20.00,   7.7076,2,    25.00,-999.000,9,-999.000,9,-999.000,9, -999.00,9,  -999.0,9,  -999.0,-999.000,9,-999.000,-999.000,9,   48.70,2,   25.77,2,  134.60,-999.0000,9,-999.0000,9,-999.0000,9,-999.0000,9,-999.0000,9,-999.0000,9,  15.1188,     -999.0,9,       1.91,2,       0.00,2,       0.33,2,        126,-999.000,-999.000,-999.000,      39.67,2,    0.03,2,    0.72,2
33RO200306_02,       A16N,     126,          2,         26,         26,2,20030803,       0200,     3.0070,   -24.9955,       4403,   159.8,  14.8095,  35.5043,2,  35.5042,2,     96.1,2,    96.2,2,    7.52,2,   21.70,2,    0.01,2,    1.45,2,   1.833,2,   1.019,2,   0.015,2,  2185.3,2,  2329.9,2,   -999.0,9,  -999.00,   7.7093,2,    25.00,-999.000,9,-999.000,9,-999.000,9, -999.00,9,  -999.0,9,  -999.0,-999.000,9,-999.000,-999.000,9, -999.00,9, -999.00,9,  159.80,-999.0000,9,-999.0000,9,-999.0000,9,-999.0000,9,-999.0000,9,-999.0000,9,  14.7854,     -999.0,9,     -999.0,9,     -999.0,9,     -999.0,9,        126,-999.000,-999.000,-999.000,     -999.0,9, -999.00,9, -999.00,9
33RO200306_02,       A16N,     126,          2,         25,         25,2,20030803,       0200,     3.0070,   -24.9955,       4403,   185.5,  14.2571,  35.4328,2,  35.4357,2,     90.5,2,    93.1,2,    8.07,2,   22.82,2,    0.01,2,    1.51,2,   1.752,2,   0.974,2,   0.014,2,  2189.0,2,  2326.6,2,    855.2,6,    20.00,   7.6833,2,    25.00,-999.000,9,-999.000,9,-999.000,9, -999.00,9,  -999.0,9,  -999.0,-999.000,9,-999.000,-999.000,9,   45.93,2,   25.84,2,  185.50,-999.0000,9,-999.0000,9,-999.0000,9,-999.0000,9,-999.0000,9,-999.0000,9,  14.2299,     -999.0,9,       1.63,2,       0.11,2,       0.08,2,        126,-999.000,-999.000,-999.000,      154.0,2,     1.0,2,    0.12,2
33RO200306_02,       A16N,     126,          2,         24,         24,2,20030803,       0200,     3.0070,   -24.9955,       4403,   224.6,  13.4808,  35.3354,2,  35.3326,2,    104.7,2,   103.5,2,    8.30,2,   22.75,2,    0.01,2,    1.50,2,   1.725,2,   0.953,2,   0.014,2,  2185.5,2,  2323.6,2,   -999.0,9,  -999.00,   7.6925,2,    25.00,-999.000,9,   1.814,3,   0.745,2, -999.00,9,  -999.0,9,  -999.0,   7.555,2,   0.042,-999.000,9,   45.69,2,   26.63,2,  224.60,-999.0000,9,-999.0000,9,-999.0000,9,-999.0000,9,-999.0000,9,-999.0000,9,  13.4490,     -999.0,9,     -999.0,9,     -999.0,9,     -999.0,9,        126,   0.004,   0.192,-999.000,     -999.0,9, -999.00,9, -999.00,9
33RO200306_02,       A16N,     126,          2,         23,         23,2,20030803,       0200,     3.0070,   -24.9955,       4403,   274.4,  12.2062,  35.1902,2,  35.1910,2,     86.1,2,    91.1,2,   10.28,2,   26.33,2,    0.01,2,    1.69,2,   1.361,2,   0.738,2,   0.013,2,  2200.0,2,  -999.0,9,    980.5,2,    20.00,-999.0000,9,  -999.00,-999.000,9,-999.000,9,-999.000,9, -999.00,9,  -999.0,9,  -999.0,-999.000,9,-999.000,-999.000,9,   45.37,2,   29.74,2,  274.40,-999.0000,9,-999.0000,9,-999.0000,9,-999.0000,9,-999.0000,9,-999.0000,9,  12.1698,     -999.0,9,       1.14,2,       0.00,2,       0.12,2,        126,-999.000,-999.000,-999.000,      42.82,2,    0.28,2,     0.2,2
33RO200306_02,       A16N,     126,          2,         22,         22,2,20030803,       0200,     3.0070,   -24.9955,       4403,   324.5,  10.1713,  34.9693,2,  34.9601,2,     71.4,2,    68.7,2,   14.65,2,   32.31,2,    0.01,2,    2.04,2,   0.769,2,   0.420,2,   0.008,2,  2225.1,3,  2299.8,2,   -999.0,9,  -999.00,   7.5368,2,    25.00,-999.000,9,-999.000,9,-999.000,9, -999.00,9,  -999.0,9,  -999.0,-999.000,9,-999.000,-999.000,9,   43.66,2,   36.94,2,  324.50,-999.0000,9,-999.0000,9,-999.0000,9,-999.0000,9,-999.0000,9,-999.0000,9,  10.1330,     -999.0,9,     -999.0,9,     -999.0,9,     -999.0,9,        126,-999.000,-999.000,-999.000,     -999.0,9, -999.00,9, -999.00,9
33RO200306_02,       A16N,     126,          2,         21,         21,2,20030803,       0200,     3.0070,   -24.9955,       4403,   374.1,   8.7030,  34.8095,2,  34.8066,2,     93.0,2,    97.5,2,   16.62,2,   32.47,2,    0.01,2,    2.06,2,-999.000,9,-999.000,9,-999.000,9,  2210.6,2,  2299.3,2,   1197.8,2,    20.00,   7.5498,2,    25.00,-999.000,9,-999.000,9,-999.000,9, -999.00,9,  -999.0,9,  -999.0,-999.000,9,-999.000,-999.000,9,   42.93,2,   38.89,2,  374.10,-999.0000,9,-999.0000,9,-999.0000,9,-999.0000,9,-999.0000,9,-999.0000,9,   8.6629,     -999.0,9,     -999.0,9,     -999.0,9,     -999.0,9,        126,-999.000,-999.000,-999.000,     -999.0,9, -999.00,9, -999.00,9
33RO200306_02,       A16N,     126,          2,         20,         20,2,20030803,       0200,     3.0070,   -24.9955,       4403,   426.1,   8.2102,  34.7538,2,  34.7577,2,    103.1,2,   101.2,2,   17.74,2,   33.24,2,    0.01,2,    2.12,2,   0.589,2,   0.319,2,   0.008,2,  2219.3,2,  -999.0,9,   -999.0,9,  -999.00,-999.0000,9,  -999.00,-999.000,9,-999.000,9,-999.000,9, -999.00,9,  -999.0,9,  -999.0,-999.000,9,-999.000,-999.000,9,   42.76,2,   37.26,2,  426.10,-999.0000,9,-999.0000,9,-999.0000,9,-999.0000,9,-999.0000,9,-999.0000,9,   8.1659,     -999.0,9,       0.40,2,       0.00,2,       0.09,2,        126,-999.000,-999.000,-999.000,     125.01,2,    1.34,2,    0.69,2
33RO200306_02,       A16N,     126,          2,         19,         19,2,20030803,       0200,     3.0070,   -24.9955,       4403,   476.0,   7.7768,  34.7087,2,  34.7100,2,    112.1,2,   113.7,2,   18.75,2,   32.86,2,    0.01,2,    2.12,2,   0.605,2,   0.323,2,   0.009,2,  2219.7,2,  2298.7,2,   1182.3,2,    20.00,   7.5542,2,    25.00,-999.000,9,-999.000,9,-999.000,9, -999.00,9,  -999.0,9,  -999.0,-999.000,9,-999.000,-999.000,9,   40.73,2,   38.24,2,  476.00,-999.0000,9,-999.0000,9,-999.0000,9,-999.0000,9,-999.0000,9,-999.0000,9,   7.7288,     -999.0,9,     -999.0,9,     -999.0,9,     -999.0,9,        126,-999.000,-999.000,-999.000,     -999.0,9, -999.00,9, -999.00,9
33RO200306_02,       A16N,     126,          2,         18,         18,2,20030803,       0200,     3.0070,   -24.9955,       4403,   549.7,   6.6676,  34.6208,2,  34.6222,2,    122.1,2,   120.3,2,   22.24,2,   34.32,2,    0.01,2,    2.23,2,   0.360,2,   0.192,2,   0.006,2,  2218.4,6,  2299.6,2,   -999.0,9,  -999.00,   7.5401,2,    25.00,-999.000,9,-999.000,9,-999.000,9, -999.00,9,  -999.0,9,  -999.0,-999.000,9,-999.000,-999.000,9,   40.08,2,   39.54,2,  549.70,-999.0000,9,-999.0000,9,-999.0000,9,-999.0000,9,-999.0000,9,-999.0000,9,   6.6165,     -999.0,9,     -999.0,9,     -999.0,9,     -999.0,9,        126,-999.000,-999.000,-999.000,     -999.0,9, -999.00,9, -999.00,9
33RO200306_02,       A16N,     126,          2,         17,         17,2,20030803,       0200,     3.0070,   -24.9955,       4403,   652.1,   5.7429,  34.5618,2,  34.5631,2,    132.7,2,   131.4,2,   26.12,2,   35.17,2,    0.00,2,    2.33,2,   0.187,2,   0.104,2,   0.003,2,  2221.8,2,  2301.5,6,   1232.3,2,    20.00,   7.5230,6,    25.00,-999.000,9,-999.000,9,-999.000,9, -999.00,9,  -999.0,9,  -999.0,-999.000,9,-999.000,-999.000,9,   40.41,2,   39.86,2,  652.10,-999.0000,9,-999.0000,9,-999.0000,9,-999.0000,9,-999.0000,9,-999.0000,9,   5.6864,     -999.0,9,       0.00,2,       0.00,2,       0.09,2,        126,-999.000,-999.000,-999.000,     153.91,2,    1.62,2,     0.0,2
33RO200306_02,       A16N,     126,          2,         16,         16,2,20030803,       0200,     3.0070,   -24.9955,       4403,   748.3,   5.1519,  34.5292,2,  34.5300,2,    148.3,2,   147.7,2,   28.64,2,   34.52,2,    0.01,2,    2.30,2,   0.208,2,   0.110,2,   0.006,2,  2222.7,2,  2303.0,2,   -999.0,9,  -999.00,   7.5514,2,    25.00,   0.089,2,   1.810,2,   1.456,2, -999.00,9,  -999.0,9,  -999.0,   7.765,2,   0.021,-999.000,9,   40.41,2,   39.72,2,  748.30,-999.0000,9,-999.0000,9,-999.0000,9,-999.0000,9,-999.0000,9,-999.0000,9,   5.0900,     -999.0,9,     -999.0,9,     -999.0,9,     -999.0,9,        126,   0.002,   0.161,   0.010,     -999.0,9, -999.00,9, -999.00,9
33RO200306_02,       A16N,     126,          2,         15,         15,2,20030803,       0200,     3.0070,   -24.9955,       4403,   848.8,   4.8821,  34.5581,2,  34.5586,2,    147.9,2,   146.8,2,   30.13,2,   34.41,2,    0.00,2,    2.32,2,   0.105,2,   0.055,2,   0.001,2,  2212.7,3,  2304.9,2,   -999.0,9,  -999.00,   7.5515,2,    25.00,-999.000,9,-999.000,9,-999.000,9, -999.00,9,  -999.0,9,  -999.0,-999.000,9,-999.000,-999.000,9,   42.12,2,   40.19,2,  848.80,-999.0000,9,-999.0000,9,-999.0000,9,-999.0000,9,-999.0000,9,-999.0000,9,   4.8130,     -999.0,9,     -999.0,9,     -999.0,9,     -999.0,9,        126,-999.000,-999.000,-999.000,     -999.0,9, -999.00,9, -999.00,9
33RO200306_02,       A16N,     126,          2,         14,         14,2,20030803,       0200,     3.0070,   -24.9955,       4403,   949.7,   4.6905,  34.6134,2,  34.6146,2,    151.7,2,   150.9,2,   30.60,2,   33.66,2,    0.00,2,    2.28,2,   0.042,2,   0.024,2,   0.001,2,  2222.5,2,  2308.6,2,   1158.4,2,    20.00,   7.5623,2,    25.00,-999.000,9,-999.000,9,-999.000,9, -999.00,9,  -999.0,9,  -999.0,-999.000,9,-999.000,-999.000,9,   39.35,2,   38.45,2,  949.70,-999.0000,9,-999.0000,9,-999.0000,9,-999.0000,9,-999.0000,9,-999.0000,9,   4.6138,     -999.0,9,       0.12,2,       0.00,2,       0.10,2,        126,-999.000,-999.000,-999.000,     174.35,2,    1.27,2,    1.17,2
33RO200306_02,       A16N,     126,          2,         13,         13,2,20030803,       0200,     3.0070,   -24.9955,       4403,  1049.5,   4.5775,  34.6893,2,  34.6930,2,    157.4,2,   156.4,2,   29.85,2,   32.28,2,    0.00,2,    2.19,2,   0.010,2,   0.007,2,   0.001,2,  2216.8,2,  2310.2,2,   -999.0,9,  -999.00,   7.5744,2,    25.00,-999.000,9,-999.000,9,-999.000,9, -999.00,9,  -999.0,9,  -999.0,-999.000,9,-999.000,-999.000,9,   39.27,2,   37.20,2, 1049.50,-999.0000,9,-999.0000,9,-999.0000,9,-999.0000,9,-999.0000,9,-999.0000,9,   4.4927,     -999.0,9,     -999.0,9,     -999.0,9,     -999.0,9,        126,-999.000,-999.000,-999.000,     -999.0,9, -999.00,9, -999.00,9
33RO200306_02,       A16N,     126,          2,         12,         12,2,20030803,       0200,     3.0070,   -24.9955,       4403,  1149.8,   4.5835,  34.7960,2,  34.7970,2,    171.5,2,   173.8,2,   26.56,2,   29.39,2,    0.00,2,    1.98,2,   0.024,2,   0.016,2,   0.002,2,  2204.4,2,  2312.9,2,   1019.0,2,    20.00,   7.6136,2,    25.00,-999.000,9,   1.861,3,   1.121,2, -999.00,9,  -999.0,9,  -999.0,   7.964,2,   0.026,-999.000,9,   41.22,2,   34.34,2, 1149.80,-999.0000,9,-999.0000,9,-999.0000,9,-999.0000,9,-999.0000,9,-999.0000,9,   4.4895,     -999.0,9,     -999.0,9,     -999.0,9,     -999.0,9,        126,   0.005,   0.191,-999.000,     -999.0,9, -999.00,9, -999.00,9
33RO200306_02,       A16N,     126,          2,         11,         11,2,20030803,       0200,     3.0070,   -24.9955,       4403,  1299.6,   4.5363,  34.8932,2,  34.8941,2,    196.8,2,   197.8,2,   22.64,2,   25.87,2,    0.00,2,    1.74,2,   0.069,2,   0.038,2,   0.001,2,  2192.6,2,  2315.5,2,   -999.0,9,  -999.00,   7.6567,2,    25.00,-999.000,9,-999.000,9,-999.000,9, -999.00,9,  -999.0,9,  -999.0,-999.000,9,-999.000,-999.000,9,   39.43,2,   29.14,2, 1299.60,-999.0000,9,-999.0000,9,-999.0000,9,-999.0000,9,-999.0000,9,-999.0000,9,   4.4290,     -999.0,9,       0.00,2,       0.00,2,       0.14,2,        126,-999.000,-999.000,-999.000,       0.83,2,    0.09,2,    0.09,2
33RO200306_02,       A16N,     126,          2,         10,         10,2,20030803,       0200,     3.0070,   -24.9955,       4403,  1499.3,   4.2490,  34.9558,2,  34.9570,2,    223.4,2,   214.4,2,   19.56,2,   22.55,2,    0.00,2,    1.52,2,   0.080,2,   0.046,2,   0.000,2,  2180.7,2,  2316.5,2,    820.7,2,    20.00,   7.7018,2,    25.00,-999.000,9,-999.000,9,-999.000,9, -999.00,9,  -999.0,9,  -999.0,-999.000,9,-999.000,-999.000,9,   40.65,2,   26.36,2, 1499.30,-999.0000,9,-999.0000,9,-999.0000,9,-999.0000,9,-999.0000,9,-999.0000,9,   4.1261,     -999.0,9,     -999.0,9,     -999.0,9,     -999.0,9,        126,-999.000,-999.000,-999.000,     -999.0,9, -999.00,9, -999.00,9
33RO200306_02,       A16N,     126,          2,          9,          9,2,20030803,       0200,     3.0070,   -24.9955,       4403,  1689.6,   3.9743,  34.9710,2,  34.9729,2,    237.4,2,   238.7,2,   18.95,2,   21.12,2,    0.00,2,    1.42,2,   0.051,6,   0.033,6,   0.001,6,  2174.9,2,  2316.5,2,   -999.0,9,  -999.00,   7.7163,2,    25.00,-999.000,9,-999.000,9,-999.000,9, -999.00,9,  -999.0,9,  -999.0,-999.000,9,-999.000,-999.000,9,   40.81,2,   26.22,2, 1689.60,-999.0000,9,-999.0000,9,-999.0000,9,-999.0000,9,-999.0000,9,-999.0000,9,   3.8369,     -999.0,9,       0.00,2,       0.00,2,       0.11,2,        126,-999.000,-999.000,-999.000,      18.09,2,    0.15,2,    0.08,2
33RO200306_02,       A16N,     126,          2,          8,          8,2,20030803,       0200,     3.0070,   -24.9955,       4403,  1899.2,   3.6678,  34.9707,2,  34.9728,2,    247.4,2,   248.5,2,   20.05,2,   20.23,2,    0.00,2,    1.37,2,   0.055,2,   0.034,2,   0.003,2,  2164.9,3,  2317.8,2,    758.3,6,    20.00,   7.7231,2,    25.00,-999.000,9,-999.000,9,-999.000,9, -999.00,9,  -999.0,9,  -999.0,-999.000,9,-999.000,-999.000,9,   41.54,2,   24.19,2, 1899.20,-999.0000,9,-999.0000,9,-999.0000,9,-999.0000,9,-999.0000,9,-999.0000,9,   3.5148,     -999.0,9,     -999.0,9,     -999.0,9,     -999.0,9,        126,-999.000,-999.000,-999.000,     -999.0,9, -999.00,9, -999.00,9