BOTTLE,20230908CCHSIOCBG
EXPOCODE,SECT_ID,STNNBR,CASTNO,SAMPNO,BTLNBR,BTLNBR_FLAG_W,DATE,TIME,LATITUDE,LONGITUDE,DEPTH,CTDPRS,CTDTMP,CTDSAL,CTDSAL_FLAG_W,SALNTY,SALNTY_FLAG_W,CTDOXY,CTDOXY_FLAG_W,OXYGEN,OXYGEN_FLAG_W,SILCAT,SILCAT_FLAG_W,NITRAT,NITRAT_FLAG_W,NITRIT,NITRIT_FLAG_W,PHSPHT,PHSPHT_FLAG_W,CFC-11,CFC-11_FLAG_W,CFC-12,CFC-12_FLAG_W,CFC113,CFC113_FLAG_W,TCARBN,TCARBN_FLAG_W,ALKALI,ALKALI_FLAG_W,FCO2,FCO2_FLAG_W,FCO2TMP,PH_SWS,PH_SWS_FLAG_W,PH_TMP,TRITUM,TRITUM_FLAG_W,HELIUM,HELIUM_FLAG_W,DELHE3,DELHE3_FLAG_W,DELC13,DELC13_FLAG_W,DELC14,DELC14_FLAG_W,C14ERR,NEON,NEON_FLAG_W,NEONER,POC,POC_FLAG_W,DOC,DOC_FLAG_W,TDN,TDN_FLAG_W,CTDRAW,CDOM325,CDOM325_FLAG_W,CDOM340,CDOM340_FLAG_W,CDOM380,CDOM380_FLAG_W,CDOM412,CDOM412_FLAG_W,CDOMSL,CDOMSL_FLAG_W,CDOMSN,CDOMSN_FLAG_W,THETA,PON,PON_FLAG_W,HCFC-22,HCFC-22_FLAG_W,HCFC-142b,HCFC-142b_FLAG_W,HCFC-141b,HCFC-141b_FLAG_W,STNNBR_U,HELIER,DELHER,TRITER,CH3CL,CH3CL_FLAG_W,CH3BR,CH3BR_FLAG_W,CH3I,CH3I_FLAG_W
,,,,,,,,,,,METERS,DBAR,ITS-90,PSS-78,,PSS-78,,UMOL/KG,,UMOL/KG,,UMOL/KG,,UMOL/KG,,UMOL/KG,,UMOL/KG,,PMOL/KG,,PMOL/KG,,PMOL/KG,,UMOL/KG,,UMOL/KG,,UATM,,DEG C,,,DEG C,TU,,NMOL/KG,,PERCNT,,/MILLE,,/MILLE,,/MILLE,NMOL/KG,,NMOL/KG,UG/KG,,UMOL/KG,,UMOL/KG,,DBAR,1/M,,1/M,,1/M,,1/M,,1/NM,,1/NM,,DEG C,UMOL/L,,PMOL/KG,,PMOL/KG,,PMOL/KG,,,NMOL/KG,PERCNT,TU,PMOL/KG,,PMOL/KG,,PMOL/KG,
33RO200306_01,       A16N,     069,          1,         35,         35,2,20030708,       1224,    30.9992,   -22.8142,       5247,     3.7,  24.1668,  36.9825,2,  36.9848,2,    216.4,2,   213.5,2,    0.57,2,    0.01,2,    0.00,2,    0.02,2,   1.997,2,   1.253,2,   0.169,2,  2101.5,6,  2415.0,2,    349.3,2,    20.00,   8.0392,2,    25.00,   1.071,2,-999.000,9,-999.000,9, -999.00,9,  -999.0,9,  -999.0,-999.000,9,-999.000,-999.000,9,   64.31,2,    5.13,2,    3.70,-999.0000,9,-999.0000,9,-999.0000,9,-999.0000,9,-999.0000,9,-999.0000,9,  24.1660,     -999.0,9,     -999.0,9,     -999.0,9,     -999.0,9,         69,-999.000,-999.000,   0.020,     -999.0,9, -999.00,9, -999.00,9
33RO200306_01,       A16N,     069,          1,         33,         33,2,20030708,       1224,    30.9992,   -22.8142,       5247,    20.9,  23.3938,  36.9301,2,  36.9157,2,    219.4,2,   224.2,2,    0.57,2,    0.00,2,    0.00,2,    0.01,2,-999.000,9,-999.000,9,-999.000,9,  2099.6,2,  2410.7,2,    348.4,2,    20.00,   8.0200,2,    25.00,   0.906,2,   1.706,2,  -2.047,2, -999.00,9,  -999.0,9,  -999.0,   6.742,2,   0.023,-999.000,9,   63.90,2,    5.85,2,   20.90,-999.0000,9,-999.0000,9,-999.0000,9,-999.0000,9,-999.0000,9,-999.0000,9,  23.3894,     -999.0,9,     -999.0,9,     -999.0,9,     -999.0,9,         69,   0.002,   0.129,   0.020,     -999.0,9, -999.00,9, -999.00,9
33RO200306_01,       A16N,     069,          1,         32,         32,2,20030708,       1224,    30.9992,   -22.8142,       5247,    40.7,  20.3870,  36.7886,2,  36.7854,2,    237.4,2,   224.6,2,    0.57,2,    0.01,2,    0.00,2,    0.02,2,   2.348,2,   1.449,2,   0.205,2,  2092.9,2,  2401.2,2,    349.4,2,    20.00,   8.0224,2,    25.00,-999.000,9,-999.000,9,-999.000,9, -999.00,9,  -999.0,9,  -999.0,-999.000,9,-999.000,   3.401,2, -999.00,9, -999.00,9,   40.70,-999.0000,9,-999.0000,9,-999.0000,9,-999.0000,9,-999.0000,9,-999.0000,9,  20.3793,     10.789,2,     -999.0,9,     -999.0,9,     -999.0,9,         69,-999.000,-999.000,-999.000,     -999.0,9, -999.00,9, -999.00,9
33RO200306_01,       A16N,     069,          1,         31,         31,2,20030708,       1224,    30.9992,   -22.8142,       5247,    59.9,  19.8137,  36.7732,2,  36.7712,2,    236.6,2,   239.4,2,    0.56,2,    0.01,2,    0.00,2,    0.02,2,-999.000,9,-999.000,9,-999.000,9,  2092.8,2,  2403.4,2,    348.5,2,    20.00,   8.0222,2,    25.00,-999.000,9,-999.000,9,-999.000,9, -999.00,9,  -999.0,9,  -999.0,-999.000,9,-999.000,   3.625,2,   62.27,2,    6.34,2,   59.90,-999.0000,9,-999.0000,9,-999.0000,9,-999.0000,9,-999.0000,9,-999.0000,9,  19.8026,     16.767,2,     -999.0,9,     -999.0,9,     -999.0,9,         69,-999.000,-999.000,-999.000,     -999.0,9, -999.00,9, -999.00,9
33RO200306_01,       A16N,     069,          1,         30,         30,2,20030708,       1224,    30.9992,   -22.8142,       5247,    80.9,  19.1699,  36.7261,2,  36.7131,2,    236.4,2,   239.3,2,    0.56,2,    0.01,2,    0.00,2,    0.02,2,   2.442,2,   1.508,2,   0.207,2,  2091.9,2,  2400.3,6,    353.1,2,    20.00,   8.0113,6,    25.00,-999.000,9,-999.000,9,-999.000,9, -999.00,9,  -999.0,9,  -999.0,-999.000,9,-999.000,   3.201,2, -999.00,9, -999.00,9,   80.90,-999.0000,9,-999.0000,9,-999.0000,9,-999.0000,9,-999.0000,9,-999.0000,9,  19.1553,      7.532,2,     -999.0,9,     -999.0,9,     -999.0,9,         69,-999.000,-999.000,-999.000,     -999.0,9, -999.00,9, -999.00,9
33RO200306_01,       A16N,     069,          1,         29,         29,2,20030708,       1224,    30.9992,   -22.8142,       5247,   100.4,  18.5464,  36.6652,2,  36.6564,2,    229.9,2,   231.9,2,    0.61,2,    0.01,2,    0.00,2,    0.02,2,-999.000,9,-999.000,9,-999.000,9,  2097.0,2,  2398.4,2,    365.2,2,    20.00,   8.0097,2,    25.00,   1.212,2,   1.725,2,  -2.089,2, -999.00,9,  -999.0,9,  -999.0,   6.978,2,   0.024,   3.123,2,   58.05,2,    5.63,2,  100.40,-999.0000,9,-999.0000,9,-999.0000,9,-999.0000,9,-999.0000,9,-999.0000,9,  18.5286,      8.766,2,     -999.0,9,     -999.0,9,     -999.0,9,         69,   0.003,   0.129,   0.020,     -999.0,9, -999.00,9, -999.00,9
33RO200306_01,       A16N,     069,          1,         28,         28,2,20030708,       1224,    30.9992,   -22.8142,       5247,   124.4,  17.6073,  36.5220,2,  36.5157,2,    215.8,2,   212.7,2,    0.91,2,    1.69,2,    0.08,2,    0.10,2,   2.474,2,   1.489,2,   0.140,2,  2108.4,2,  2386.4,2,   -999.0,9,  -999.00,   7.9704,2,    25.00,-999.000,9,-999.000,9,-999.000,9, -999.00,9,  -999.0,9,  -999.0,-999.000,9,-999.000,   1.289,2, -999.00,9, -999.00,9,  124.40,-999.0000,9,-999.0000,9,-999.0000,9,-999.0000,9,-999.0000,9,-999.0000,9,  17.5861,      1.301,2,     -999.0,9,     -999.0,9,     -999.0,9,         69,-999.000,-999.000,-999.000,     -999.0,9, -999.00,9, -999.00,9
33RO200306_01,       A16N,     069,          1,         27,         27,2,20030708,       1224,    30.9992,   -22.8142,       5247,   150.6,  17.0564,  36.4183,2,  36.4070,2,    206.9,2,   204.8,2,    1.22,2,    3.83,2,    0.04,2,    0.22,2,   2.561,6,   1.533,6,   0.097,6,  2112.9,2,  2379.0,2,    424.6,2,    20.00,   7.9502,2,    25.00,   1.194,2,   1.770,2,  -1.933,2, -999.00,9,  -999.0,9,  -999.0,   7.062,2,   0.024,-999.000,9,   52.52,2,    7.80,2,  150.60,-999.0000,9,-999.0000,9,-999.0000,9,-999.0000,9,-999.0000,9,-999.0000,9,  17.0313,     -999.0,9,     -999.0,9,     -999.0,9,     -999.0,9,         69,   0.021,   0.129,   0.010,     -999.0,9, -999.00,9, -999.00,9
33RO200306_01,       A16N,     069,          1,         26,         26,2,20030708,       1224,    30.9992,   -22.8142,       5247,   173.9,  16.5001,  36.3049,2,  36.2996,2,    204.2,2,   176.7,4,    1.54,2,    5.11,2,    0.01,2,    0.29,2,   2.552,2,   1.512,2,   0.066,2,  2116.8,2,  2373.2,2,   -999.0,9,  -999.00,   7.9395,2,    25.00,-999.000,9,-999.000,9,-999.000,9, -999.00,9,  -999.0,9,  -999.0,-999.000,9,-999.000,   0.702,2, -999.00,9, -999.00,9,  173.90,-999.0000,9,-999.0000,9,-999.0000,9,-999.0000,9,-999.0000,9,-999.0000,9,  16.4717,      1.162,2,     -999.0,9,     -999.0,9,     -999.0,9,         69,-999.000,-999.000,-999.000,     -999.0,9, -999.00,9, -999.00,9
33RO200306_01,       A16N,     069,          1,         25,         25,2,20030708,       1224,    30.9992,   -22.8142,       5247,   200.3,  16.1602,  36.2389,2,  36.2307,2,    202.8,2,   205.6,2,    1.77,2,    5.80,2,    0.01,2,    0.33,2,   2.624,2,   1.550,2,   0.061,2,  2118.5,2,  2369.3,2,    448.3,2,    20.00,   7.9603,2,    25.00,   1.172,2,-999.000,9,-999.000,9, -999.00,9,  -999.0,9,  -999.0,-999.000,9,-999.000,-999.000,9,   50.25,2,   10.21,2,  200.30,-999.0000,9,-999.0000,9,-999.0000,9,-999.0000,9,-999.0000,9,-999.0000,9,  16.1280,     -999.0,9,     -999.0,9,     -999.0,9,     -999.0,9,         69,-999.000,-999.000,   0.020,     -999.0,9, -999.00,9, -999.00,9
33RO200306_01,       A16N,     069,          1,         24,         24,2,20030708,       1224,    30.9992,   -22.8142,       5247,   250.3,  15.4222,  36.1085,2,  36.1039,2,    204.3,2,   206.8,2,    2.23,2,    7.02,2,    0.01,2,    0.40,2,   2.674,2,   1.577,2,   0.062,2,  2121.5,2,  2360.3,6,    472.1,2,    20.00,   7.9151,6,    25.00,-999.000,9,-999.000,9,-999.000,9, -999.00,9,  -999.0,9,  -999.0,-999.000,9,-999.000,-999.000,9,   49.43,2,   12.09,2,  250.30,-999.0000,9,-999.0000,9,-999.0000,9,-999.0000,9,-999.0000,9,-999.0000,9,  15.3832,     -999.0,9,     -999.0,9,     -999.0,9,     -999.0,9,         69,-999.000,-999.000,-999.000,     -999.0,9, -999.00,9, -999.00,9
33RO200306_01,       A16N,     069,          1,         23,         23,2,20030708,       1224,    30.9992,   -22.8142,       5247,   300.7,  14.8477,  36.0168,2,  36.0151,2,    206.1,2,   208.2,2,    2.55,2,    7.80,2,    0.01,2,    0.46,2,   2.709,2,   1.570,2,   0.062,2,  2124.7,2,  2355.9,2,    485.1,2,    20.00,   7.9013,2,    25.00,-999.000,9,-999.000,9,-999.000,9, -999.00,9,  -999.0,9,  -999.0,-999.000,9,-999.000,   0.500,2,   47.00,2,   11.84,2,  300.70,-999.0000,9,-999.0000,9,-999.0000,9,-999.0000,9,-999.0000,9,-999.0000,9,  14.8019,      0.658,2,     -999.0,9,     -999.0,9,     -999.0,9,         69,-999.000,-999.000,-999.000,     -999.0,9, -999.00,9, -999.00,9
33RO200306_01,       A16N,     069,          1,         22,         22,2,20030708,       1224,    30.9992,   -22.8142,       5247,   349.2,  14.1874,  35.9132,2,  35.9046,2,    199.3,2,   206.1,2,    3.08,2,    9.12,2,    0.01,2,    0.54,2,   2.733,2,   1.577,2,   0.063,2,  2130.2,2,  2349.8,2,   -999.0,9,  -999.00,   7.9086,2,    25.00,-999.000,9,-999.000,9,-999.000,9, -999.00,9,  -999.0,9,  -999.0,-999.000,9,-999.000,-999.000,9,   45.78,2,   13.26,2,  349.20,-999.0000,9,-999.0000,9,-999.0000,9,-999.0000,9,-999.0000,9,-999.0000,9,  14.1358,     -999.0,9,     -999.0,9,     -999.0,9,     -999.0,9,         69,-999.000,-999.000,-999.000,     -999.0,9, -999.00,9, -999.00,9
33RO200306_01,       A16N,     069,          1,         21,         21,2,20030708,       1224,    30.9992,   -22.8142,       5247,   400.3,  13.3800,  35.7964,2,  35.7951,2,    198.3,2,   201.1,2,    3.91,2,   10.98,2,    0.01,2,    0.65,2,   2.661,2,   1.498,2,   0.058,2,  2137.6,2,  2343.1,2,    551.5,2,    20.00,   7.8597,2,    25.00,   1.115,2,   1.796,2,   1.483,2, -999.00,9,  -999.0,9,  -999.0,   7.379,2,   0.025,-999.000,9,   46.51,2,   15.21,2,  400.30,-999.0000,9,-999.0000,9,-999.0000,9,-999.0000,9,-999.0000,9,-999.0000,9,  13.3231,     -999.0,9,     -999.0,9,     -999.0,9,     -999.0,9,         69,   0.003,   0.127,   0.020,     -999.0,9, -999.00,9, -999.00,9
33RO200306_01,       A16N,     069,          1,         20,         20,2,20030708,       1224,    30.9992,   -22.8142,       5247,   450.3,  12.9448,  35.7381,2,  35.7327,2,    193.1,2,   188.7,2,    4.41,2,   12.05,2,    0.01,2,    0.71,2,   2.676,2,   1.504,2,   0.059,2,  2142.3,2,  2342.7,2,   -999.0,9,  -999.00,   7.8319,2,    25.00,-999.000,9,-999.000,9,-999.000,9, -999.00,9,  -999.0,9,  -999.0,-999.000,9,-999.000,-999.000,9,   45.20,2,   15.55,2,  450.30,-999.0000,9,-999.0000,9,-999.0000,9,-999.0000,9,-999.0000,9,-999.0000,9,  12.8820,     -999.0,9,     -999.0,9,     -999.0,9,     -999.0,9,         69,-999.000,-999.000,-999.000,     -999.0,9, -999.00,9, -999.00,9
33RO200306_01,       A16N,     069,          1,         19,         19,2,20030708,       1224,    30.9992,   -22.8142,       5247,   499.9,  12.4040,  35.6757,2,  35.6736,2,    190.2,2,   184.8,2,    5.09,2,   13.44,2,    0.01,2,    0.80,2,   2.540,2,   1.391,2,   0.054,2,  2146.2,2,  2338.6,2,    602.3,2,    20.00,   7.8124,2,    25.00,-999.000,9,   1.769,2,   3.242,2, -999.00,9,  -999.0,9,  -999.0,   7.371,2,   0.027,-999.000,9,   44.88,2,   16.72,2,  499.90,-999.0000,9,-999.0000,9,-999.0000,9,-999.0000,9,-999.0000,9,-999.0000,9,  12.3361,     -999.0,9,     -999.0,9,     -999.0,9,     -999.0,9,         69,   0.003,   0.111,-999.000,     -999.0,9, -999.00,9, -999.00,9
33RO200306_01,       A16N,     069,          1,         18,         18,2,20030708,       1224,    30.9992,   -22.8142,       5247,   600.7,  11.4588,  35.5747,2,  35.5716,2,    186.3,2,   188.7,2,    6.37,2,   15.44,2,    0.01,2,    0.92,2,   2.389,2,   1.279,2,   0.051,2,  2157.1,2,  2334.0,2,    650.6,2,    20.00,   7.7883,2,    25.00,-999.000,9,   1.762,2,   5.292,2, -999.00,9,  -999.0,9,  -999.0,   7.362,2,   0.025,-999.000,9,   44.31,2,   19.38,2,  600.70,-999.0000,9,-999.0000,9,-999.0000,9,-999.0000,9,-999.0000,9,-999.0000,9,  11.3809,     -999.0,9,     -999.0,9,     -999.0,9,     -999.0,9,         69,   0.002,   0.177,-999.000,     -999.0,9, -999.00,9, -999.00,9
33RO200306_01,       A16N,     069,          1,         17,         17,2,20030708,       1224,    30.9992,   -22.8142,       5247,   700.4,  10.6642,  35.5194,2,  35.5184,2,    180.5,2,   183.0,2,    7.96,2,   17.19,2,    0.00,2,    1.04,2,   1.976,2,   1.032,2,   0.042,2,  2165.2,2,  2332.9,2,    687.9,2,    20.00,   7.7667,2,    25.00,   1.143,2,   1.769,2,   7.163,2, -999.00,9,  -999.0,9,  -999.0,   7.400,2,   0.041,-999.000,9,   43.90,2,   20.98,2,  700.40,-999.0000,9,-999.0000,9,-999.0000,9,-999.0000,9,-999.0000,9,-999.0000,9,  10.5770,     -999.0,9,     -999.0,9,     -999.0,9,     -999.0,9,         69,   0.004,   0.188,   0.020,     -999.0,9, -999.00,9, -999.00,9
33RO200306_01,       A16N,     069,          1,         16,         16,2,20030708,       1224,    30.9992,   -22.8142,       5247,   800.1,   9.9573,  35.5121,2,  35.5118,2,    175.3,2,   176.1,2,    9.92,2,   18.87,2,    0.00,2,    1.16,2,   1.392,2,   0.717,2,   0.024,2,  2176.0,2,  2335.1,2,    724.7,2,    20.00,   7.7508,2,    25.00,-999.000,9,   1.766,2,   8.007,2, -999.00,9,  -999.0,9,  -999.0,   7.336,2,   0.025,-999.000,9,   44.71,2,   22.17,2,  800.10,-999.0000,9,-999.0000,9,-999.0000,9,-999.0000,9,-999.0000,9,-999.0000,9,   9.8613,     -999.0,9,     -999.0,9,     -999.0,9,     -999.0,9,         69,   0.002,   0.176,-999.000,     -999.0,9, -999.00,9, -999.00,9
33RO200306_01,       A16N,     069,          1,         15,         15,2,20030708,       1224,    30.9992,   -22.8142,       5247,   900.2,   9.2982,  35.5353,2,  35.5363,2,    179.0,2,   178.5,2,   11.08,2,   19.25,2,    0.00,2,    1.19,2,   1.134,2,   0.592,2,   0.019,2,  2183.3,2,  2341.1,2,    733.4,2,    20.00,   7.7438,2,    25.00,   0.553,2,-999.000,9,-999.000,9, -999.00,9,  -999.0,9,  -999.0,-999.000,9,-999.000,-999.000,9,   42.36,2,   23.07,2,  900.20,-999.0000,9,-999.0000,9,-999.0000,9,-999.0000,9,-999.0000,9,-999.0000,9,   9.1938,     -999.0,9,     -999.0,9,     -999.0,9,     -999.0,9,         69,-999.000,-999.000,   0.050,     -999.0,9, -999.00,9, -999.00,9
33RO200306_01,       A16N,     069,          1,         14,         14,2,20030708,       1224,    30.9992,   -22.8142,       5247,  1001.6,   8.6993,  35.5478,2,  35.5473,2,    182.5,2,   180.4,2,   12.24,2,   19.70,2,    0.00,2,    1.22,2,   0.849,2,   0.440,2,   0.014,2,  2187.6,6,  2344.7,2,    744.6,2,    20.00,   7.7395,2,    25.00,   0.551,2,   1.770,2,   7.795,2, -999.00,9,  -999.0,9,  -999.0,   7.394,2,   0.025,-999.000,9,   40.98,2,   23.04,2, 1001.60,-999.0000,9,-999.0000,9,-999.0000,9,-999.0000,9,-999.0000,9,-999.0000,9,   8.5869,     -999.0,9,     -999.0,9,     -999.0,9,     -999.0,9,         69,   0.002,   0.176,   0.010,     -999.0,9, -999.00,9, -999.00,9
33RO200306_01,       A16N,     069,          1,         13,         13,2,20030708,       1224,    30.9992,   -22.8142,       5247,  1099.8,   8.2790,  35.5456,2,  35.5455,2,    185.7,2,   185.6,2,   12.88,2,   19.70,2,    0.00,2,    1.23,2,   0.722,2,   0.379,2,   0.012,2,  2188.8,2,  2345.1,2,    742.8,2,    20.00,   7.7355,2,    25.00,-999.000,9,   1.768,2,   7.073,2, -999.00,9,  -999.0,9,  -999.0,   7.511,2,   0.026,-999.000,9,   42.60,2,   22.79,2, 1099.80,-999.0000,9,-999.0000,9,-999.0000,9,-999.0000,9,-999.0000,9,-999.0000,9,   8.1582,     -999.0,9,     -999.0,9,     -999.0,9,     -999.0,9,         69,   0.002,   0.176,-999.000,     -999.0,9, -999.00,9, -999.00,9
33RO200306_01,       A16N,     069,          1,         12,         12,2,20030708,       1224,    30.9992,   -22.8142,       5247,  1199.3,   7.7183,  35.5074,2,  35.5058,2,    194.8,2,   194.9,2,   13.04,2,   19.33,2,    0.00,2,    1.21,2,   0.704,2,   0.363,2,   0.012,2,  2188.2,2,  2345.8,2,    739.4,6,    20.00,   7.7564,2,    25.00,   0.499,2,-999.000,9,-999.000,9, -999.00,9,  -999.0,9,  -999.0,-999.000,9,-999.000,-999.000,9,   41.79,2,   23.09,2, 1199.30,-999.0000,9,-999.0000,9,-999.0000,9,-999.0000,9,-999.0000,9,-999.0000,9,   7.5908,     -999.0,9,     -999.0,9,     -999.0,9,     -999.0,9,         69,-999.000,-999.000,   0.010,     -999.0,9, -999.00,9, -999.00,9
33RO200306_01,       A16N,     069,          1,         11,         11,2,20030708,       1224,    30.9992,   -22.8142,       5247,  1399.8,   6.6380,  35.4051,2,  35.4055,2,    212.2,2,   211.7,2,   13.78,2,   18.90,2,    0.00,2,    1.20,2,   0.680,2,   0.352,2,   0.015,2,  2183.6,2,  2339.9,2,    735.0,2,    20.00,   7.7461,2,    25.00,-999.000,9,   1.810,2,   7.004,2, -999.00,9,  -999.0,9,  -999.0,   7.687,2,   0.024,-999.000,9,   42.20,2,   22.11,2, 1399.80,-999.0000,9,-999.0000,9,-999.0000,9,-999.0000,9,-999.0000,9,-999.0000,9,   6.4985,     -999.0,9,     -999.0,9,     -999.0,9,     -999.0,9,         69,   0.003,   0.183,-999.000,     -999.0,9, -999.00,9, -999.00,9
33RO200306_01,       A16N,     069,          1,         10,         10,2,20030708,       1224,    30.9992,   -22.8142,       5247,  1600.9,   5.6760,  35.2954,2,  35.2954,2,    227.8,2,   228.2,2,   14.22,2,   18.40,2,    0.00,2,    1.18,2,   0.665,2,   0.345,2,   0.017,2,  2174.1,2,  2334.1,2,    731.1,2,    20.00,   7.7442,2,    25.00,   0.440,2,   1.841,2,   7.213,2, -999.00,9,  -999.0,9,  -999.0,   7.834,2,   0.025,-999.000,9,   42.20,2,   22.04,2, 1600.90,-999.0000,9,-999.0000,9,-999.0000,9,-999.0000,9,-999.0000,9,-999.0000,9,   5.5258,     -999.0,9,     -999.0,9,     -999.0,9,     -999.0,9,         69,   0.003,   0.183,   0.020,     -999.0,9, -999.00,9, -999.00,9
33RO200306_01,       A16N,     069,          1,          9,          9,2,20030708,       1224,    30.9992,   -22.8142,       5247,  1799.9,   4.9500,  35.2000,2,  35.2002,2,    237.3,2,   237.4,2,   15.54,2,   18.48,2,    0.00,2,    1.19,2,   0.477,2,   0.251,2,   0.015,2,  2174.1,3,  2328.9,2,   -999.0,9,  -999.00,   7.7354,2,    25.00,   0.481,2,   1.828,2,   6.318,2, -999.00,9,  -999.0,9,  -999.0,   7.821,2,   0.025,-999.000,9,   40.41,2,   23.00,2, 1799.90,-999.0000,9,-999.0000,9,-999.0000,9,-999.0000,9,-999.0000,9,-999.0000,9,   4.7885,     -999.0,9,     -999.0,9,     -999.0,9,     -999.0,9,         69,   0.003,   0.184,   0.010,     -999.0,9, -999.00,9, -999.00,9
33RO200306_01,       A16N,     069,          1,          8,          8,2,20030708,       1224,    30.9992,   -22.8142,       5247,  2000.5,   4.3161,  35.1160,2,  35.1167,2,    242.0,2,   241.6,2,   18.43,2,   18.91,2,    0.00,2,    1.23,2,   0.231,2,   0.121,2,   0.007,2,  2172.8,2,  2326.9,2,    739.7,2,    20.00,   7.7365,2,    25.00,-999.000,9,   1.830,2,   3.973,2, -999.00,9,  -999.0,9,  -999.0,   7.835,2,   0.025,-999.000,9,   41.87,2,   24.20,2, 2000.50,-999.0000,9,-999.0000,9,-999.0000,9,-999.0000,9,-999.0000,9,-999.0000,9,   4.1434,     -999.0,9,     -999.0,9,     -999.0,9,     -999.0,9,         69,   0.003,   0.184,-999.000,     -999.0,9, -999.00,9, -999.00,9