BOTTLE,20230908CCHSIOCBG
EXPOCODE,SECT_ID,STNNBR,CASTNO,SAMPNO,BTLNBR,BTLNBR_FLAG_W,DATE,TIME,LATITUDE,LONGITUDE,DEPTH,CTDPRS,CTDTMP,CTDSAL,CTDSAL_FLAG_W,SALNTY,SALNTY_FLAG_W,CTDOXY,CTDOXY_FLAG_W,OXYGEN,OXYGEN_FLAG_W,SILCAT,SILCAT_FLAG_W,NITRAT,NITRAT_FLAG_W,NITRIT,NITRIT_FLAG_W,PHSPHT,PHSPHT_FLAG_W,CFC-11,CFC-11_FLAG_W,CFC-12,CFC-12_FLAG_W,CFC113,CFC113_FLAG_W,TCARBN,TCARBN_FLAG_W,ALKALI,ALKALI_FLAG_W,FCO2,FCO2_FLAG_W,FCO2TMP,PH_SWS,PH_SWS_FLAG_W,PH_TMP,TRITUM,TRITUM_FLAG_W,HELIUM,HELIUM_FLAG_W,DELHE3,DELHE3_FLAG_W,DELC13,DELC13_FLAG_W,DELC14,DELC14_FLAG_W,C14ERR,NEON,NEON_FLAG_W,NEONER,POC,POC_FLAG_W,DOC,DOC_FLAG_W,TDN,TDN_FLAG_W,CTDRAW,CDOM325,CDOM325_FLAG_W,CDOM340,CDOM340_FLAG_W,CDOM380,CDOM380_FLAG_W,CDOM412,CDOM412_FLAG_W,CDOMSL,CDOMSL_FLAG_W,CDOMSN,CDOMSN_FLAG_W,THETA,PON,PON_FLAG_W,HCFC-22,HCFC-22_FLAG_W,HCFC-142b,HCFC-142b_FLAG_W,HCFC-141b,HCFC-141b_FLAG_W,STNNBR_U,HELIER,DELHER,TRITER,CH3CL,CH3CL_FLAG_W,CH3BR,CH3BR_FLAG_W,CH3I,CH3I_FLAG_W
,,,,,,,,,,,METERS,DBAR,ITS-90,PSS-78,,PSS-78,,UMOL/KG,,UMOL/KG,,UMOL/KG,,UMOL/KG,,UMOL/KG,,UMOL/KG,,PMOL/KG,,PMOL/KG,,PMOL/KG,,UMOL/KG,,UMOL/KG,,UATM,,DEG C,,,DEG C,TU,,NMOL/KG,,PERCNT,,/MILLE,,/MILLE,,/MILLE,NMOL/KG,,NMOL/KG,UG/KG,,UMOL/KG,,UMOL/KG,,DBAR,1/M,,1/M,,1/M,,1/M,,1/NM,,1/NM,,DEG C,UMOL/L,,PMOL/KG,,PMOL/KG,,PMOL/KG,,,NMOL/KG,PERCNT,TU,PMOL/KG,,PMOL/KG,,PMOL/KG,
33RO200306_02,       A16N,     139,          1,         33,         33,2,20030806,       0209,    -1.3343,   -25.0002,       4731,     3.4,  25.9793,  36.1376,2,  36.1410,2,    193.9,2,   206.2,2,    1.13,2,    0.09,2,    0.00,2,    0.17,2,   1.773,2,   1.133,2,   0.150,2,  2057.8,2,  2374.1,6,   -999.0,9,  -999.00,   8.0522,6,    25.00,-999.000,9,-999.000,9,-999.000,9, -999.00,9,  -999.0,9,  -999.0,-999.000,9,-999.000,-999.000,9, -999.00,9, -999.00,9,    3.40,-999.0000,9,-999.0000,9,-999.0000,9,-999.0000,9,-999.0000,9,-999.0000,9,  25.9785,     -999.0,9,     -999.0,9,     -999.0,9,     -999.0,9,        139,-999.000,-999.000,-999.000,     -999.0,9, -999.00,9, -999.00,9
33RO200306_02,       A16N,     139,          1,         35,         35,9,20030806,       0209,    -1.3343,   -25.0002,       4731,     3.4,  25.9780,  36.1377,2,-999.0000,9,    193.9,2,  -999.0,9, -999.00,9, -999.00,9, -999.00,9, -999.00,9,-999.000,9,-999.000,9,-999.000,9,  -999.0,9,  -999.0,9,   -999.0,9,  -999.00,-999.0000,9,  -999.00,-999.000,9,-999.000,9,-999.000,9, -999.00,9,  -999.0,9,  -999.0,-999.000,9,-999.000,-999.000,9, -999.00,9, -999.00,9,    3.40,-999.0000,9,-999.0000,9,-999.0000,9,-999.0000,9,-999.0000,9,-999.0000,9,  25.9772,     -999.0,9,     -999.0,9,     -999.0,9,     -999.0,9,        139,-999.000,-999.000,-999.000,     -999.0,9, -999.00,9, -999.00,9
33RO200306_02,       A16N,     139,          1,         32,         32,2,20030806,       0209,    -1.3343,   -25.0002,       4731,    20.3,  25.9767,  36.1362,2,  36.1428,2,    194.3,2,   204.3,2,    1.15,2,    0.09,2,    0.00,2,    0.16,2,-999.000,9,-999.000,9,-999.000,9,  -999.0,9,  -999.0,9,   -999.0,9,  -999.00,-999.0000,9,  -999.00,-999.000,9,-999.000,9,-999.000,9, -999.00,9,  -999.0,9,  -999.0,-999.000,9,-999.000,-999.000,9, -999.00,9, -999.00,9,   20.30,-999.0000,9,-999.0000,9,-999.0000,9,-999.0000,9,-999.0000,9,-999.0000,9,  25.9722,     -999.0,9,     -999.0,9,     -999.0,9,     -999.0,9,        139,-999.000,-999.000,-999.000,     -999.0,9, -999.00,9, -999.00,9
33RO200306_02,       A16N,     139,          1,         31,         31,2,20030806,       0209,    -1.3343,   -25.0002,       4731,    40.2,  25.9624,  36.1486,2,  36.1573,2,    194.1,2,   204.5,2,    1.16,2,    0.14,2,    0.00,2,    0.17,2,-999.000,9,-999.000,9,-999.000,9,  -999.0,9,  -999.0,9,   -999.0,9,  -999.00,-999.0000,9,  -999.00,-999.000,9,-999.000,9,-999.000,9, -999.00,9,  -999.0,9,  -999.0,-999.000,9,-999.000,-999.000,9, -999.00,9, -999.00,9,   40.20,-999.0000,9,-999.0000,9,-999.0000,9,-999.0000,9,-999.0000,9,-999.0000,9,  25.9534,     -999.0,9,     -999.0,9,     -999.0,9,     -999.0,9,        139,-999.000,-999.000,-999.000,     -999.0,9, -999.00,9, -999.00,9
33RO200306_02,       A16N,     139,          1,         30,         30,2,20030806,       0209,    -1.3343,   -25.0002,       4731,    61.8,  24.9271,  36.1364,2,  36.1718,2,    192.9,2,   199.4,2,    1.32,2,    0.47,2,    0.02,2,    0.21,2,-999.000,9,-999.000,9,-999.000,9,  -999.0,9,  -999.0,9,   -999.0,9,  -999.00,-999.0000,9,  -999.00,-999.000,9,-999.000,9,-999.000,9, -999.00,9,  -999.0,9,  -999.0,-999.000,9,-999.000,-999.000,9, -999.00,9, -999.00,9,   61.80,-999.0000,9,-999.0000,9,-999.0000,9,-999.0000,9,-999.0000,9,-999.0000,9,  24.9137,     -999.0,9,     -999.0,9,     -999.0,9,     -999.0,9,        139,-999.000,-999.000,-999.000,     -999.0,9, -999.00,9, -999.00,9
33RO200306_02,       A16N,     139,          1,         29,         29,2,20030806,       0209,    -1.3343,   -25.0002,       4731,    79.0,  17.8004,  35.7468,2,  35.7428,2,    140.0,2,   125.5,2,    4.88,2,   13.67,2,    0.38,2,    1.00,2,-999.000,9,-999.000,9,-999.000,9,  -999.0,9,  -999.0,9,   -999.0,9,  -999.00,-999.0000,9,  -999.00,-999.000,9,-999.000,9,-999.000,9, -999.00,9,  -999.0,9,  -999.0,-999.000,9,-999.000,-999.000,9, -999.00,9, -999.00,9,   79.00,-999.0000,9,-999.0000,9,-999.0000,9,-999.0000,9,-999.0000,9,-999.0000,9,  17.7869,     -999.0,9,     -999.0,9,     -999.0,9,     -999.0,9,        139,-999.000,-999.000,-999.000,     -999.0,9, -999.00,9, -999.00,9
33RO200306_02,       A16N,     139,          1,         28,         28,2,20030806,       0209,    -1.3343,   -25.0002,       4731,    99.8,  15.2037,  35.5217,2,  35.5132,2,    100.8,2,    99.2,2,    6.97,2,   20.62,2,    0.05,2,    1.34,2,   1.926,2,   1.084,2,   0.036,2,  2190.9,2,  2331.8,2,   -999.0,9,  -999.00,   7.7113,2,    25.00,-999.000,9,-999.000,9,-999.000,9, -999.00,9,  -999.0,9,  -999.0,-999.000,9,-999.000,-999.000,9, -999.00,9, -999.00,9,   99.80,-999.0000,9,-999.0000,9,-999.0000,9,-999.0000,9,-999.0000,9,-999.0000,9,  15.1884,     -999.0,9,     -999.0,9,     -999.0,9,     -999.0,9,        139,-999.000,-999.000,-999.000,     -999.0,9, -999.00,9, -999.00,9
33RO200306_02,       A16N,     139,          1,         27,         27,2,20030806,       0209,    -1.3343,   -25.0002,       4731,   125.9,  14.2385,  35.4289,2,  35.4267,2,     94.0,2,    94.1,2,    7.91,2,   22.25,2,    0.02,2,    1.43,2,-999.000,9,-999.000,9,-999.000,9,  -999.0,9,  -999.0,9,   -999.0,9,  -999.00,-999.0000,9,  -999.00,-999.000,9,-999.000,9,-999.000,9, -999.00,9,  -999.0,9,  -999.0,-999.000,9,-999.000,-999.000,9, -999.00,9, -999.00,9,  125.90,-999.0000,9,-999.0000,9,-999.0000,9,-999.0000,9,-999.0000,9,-999.0000,9,  14.2201,     -999.0,9,     -999.0,9,     -999.0,9,     -999.0,9,        139,-999.000,-999.000,-999.000,     -999.0,9, -999.00,9, -999.00,9
33RO200306_02,       A16N,     139,          1,         26,         26,2,20030806,       0209,    -1.3343,   -25.0002,       4731,   150.3,  13.7542,  35.3701,2,  35.3691,2,     93.2,2,    94.0,2,    8.47,2,   23.03,2,    0.01,2,    1.47,2,-999.000,9,-999.000,9,-999.000,9,  -999.0,9,  -999.0,9,   -999.0,9,  -999.00,-999.0000,9,  -999.00,-999.000,9,-999.000,9,-999.000,9, -999.00,9,  -999.0,9,  -999.0,-999.000,9,-999.000,-999.000,9, -999.00,9, -999.00,9,  150.30,-999.0000,9,-999.0000,9,-999.0000,9,-999.0000,9,-999.0000,9,-999.0000,9,  13.7327,     -999.0,9,     -999.0,9,     -999.0,9,     -999.0,9,        139,-999.000,-999.000,-999.000,     -999.0,9, -999.00,9, -999.00,9
33RO200306_02,       A16N,     139,          1,         25,         25,2,20030806,       0209,    -1.3343,   -25.0002,       4731,   175.1,  13.5696,  35.3447,2,  35.3368,2,     89.7,2,    90.2,2,    8.75,2,   23.72,2,    0.01,2,    1.50,2,-999.000,9,-999.000,9,-999.000,9,  -999.0,9,  -999.0,9,   -999.0,9,  -999.00,-999.0000,9,  -999.00,-999.000,9,-999.000,9,-999.000,9, -999.00,9,  -999.0,9,  -999.0,-999.000,9,-999.000,-999.000,9, -999.00,9, -999.00,9,  175.10,-999.0000,9,-999.0000,9,-999.0000,9,-999.0000,9,-999.0000,9,-999.0000,9,  13.5448,     -999.0,9,     -999.0,9,     -999.0,9,     -999.0,9,        139,-999.000,-999.000,-999.000,     -999.0,9, -999.00,9, -999.00,9
33RO200306_02,       A16N,     139,          1,         24,         24,2,20030806,       0209,    -1.3343,   -25.0002,       4731,   199.8,  13.3239,  35.3112,2,  35.3057,2,     88.6,2,    93.4,2,    8.94,2,   23.93,2,    0.01,2,    1.52,2,   1.693,2,   0.932,2,   0.015,2,  2191.0,2,  2322.0,2,   -999.0,9,  -999.00,   7.6533,2,    25.00,-999.000,9,-999.000,9,-999.000,9, -999.00,9,  -999.0,9,  -999.0,-999.000,9,-999.000,-999.000,9, -999.00,9, -999.00,9,  199.80,-999.0000,9,-999.0000,9,-999.0000,9,-999.0000,9,-999.0000,9,-999.0000,9,  13.2959,     -999.0,9,     -999.0,9,     -999.0,9,     -999.0,9,        139,-999.000,-999.000,-999.000,     -999.0,9, -999.00,9, -999.00,9
33RO200306_02,       A16N,     139,          1,         23,         23,2,20030806,       0209,    -1.3343,   -25.0002,       4731,   249.6,  12.4824,  35.2037,2,  35.2006,2,     92.7,2,    93.3,2,    9.85,2,   25.18,2,    0.00,2,    1.58,2,-999.000,9,-999.000,9,-999.000,9,  -999.0,9,  -999.0,9,   -999.0,9,  -999.00,-999.0000,9,  -999.00,-999.000,9,-999.000,9,-999.000,9, -999.00,9,  -999.0,9,  -999.0,-999.000,9,-999.000,-999.000,9, -999.00,9, -999.00,9,  249.60,-999.0000,9,-999.0000,9,-999.0000,9,-999.0000,9,-999.0000,9,-999.0000,9,  12.4488,     -999.0,9,     -999.0,9,     -999.0,9,     -999.0,9,        139,-999.000,-999.000,-999.000,     -999.0,9, -999.00,9, -999.00,9
33RO200306_02,       A16N,     139,          1,         22,         22,2,20030806,       0209,    -1.3343,   -25.0002,       4731,   299.9,  11.4905,  35.0821,2,  35.0607,2,     98.0,2,    89.0,2,   11.51,2,   27.71,2,    0.00,2,    1.72,2,-999.000,9,-999.000,9,-999.000,9,  -999.0,9,  -999.0,9,   -999.0,9,  -999.00,-999.0000,9,  -999.00,-999.000,9,-999.000,9,-999.000,9, -999.00,9,  -999.0,9,  -999.0,-999.000,9,-999.000,-999.000,9, -999.00,9, -999.00,9,  299.90,-999.0000,9,-999.0000,9,-999.0000,9,-999.0000,9,-999.0000,9,-999.0000,9,  11.4523,     -999.0,9,     -999.0,9,     -999.0,9,     -999.0,9,        139,-999.000,-999.000,-999.000,     -999.0,9, -999.00,9, -999.00,9
33RO200306_02,       A16N,     139,          1,         21,         21,2,20030806,       0209,    -1.3343,   -25.0002,       4731,   349.8,   9.7849,  34.8970,2,  34.9045,2,     80.4,2,    76.2,2,   14.50,2,   31.98,2,    0.00,2,    1.95,2,-999.000,9,-999.000,9,-999.000,9,  -999.0,9,  -999.0,9,   -999.0,9,  -999.00,-999.0000,9,  -999.00,-999.000,9,-999.000,9,-999.000,9, -999.00,9,  -999.0,9,  -999.0,-999.000,9,-999.000,-999.000,9, -999.00,9, -999.00,9,  349.80,-999.0000,9,-999.0000,9,-999.0000,9,-999.0000,9,-999.0000,9,-999.0000,9,   9.7446,     -999.0,9,     -999.0,9,     -999.0,9,     -999.0,9,        139,-999.000,-999.000,-999.000,     -999.0,9, -999.00,9, -999.00,9
33RO200306_02,       A16N,     139,          1,         20,         20,2,20030806,       0209,    -1.3343,   -25.0002,       4731,   399.0,   8.6592,  34.7726,2,  34.7717,2,     78.5,2,    83.4,2,   17.09,2,   33.94,2,    0.00,2,    2.09,2,   0.628,2,   0.346,2,   0.008,2,  2223.4,2,  2300.9,2,   -999.0,9,  -999.00,   7.5129,2,    25.00,-999.000,9,-999.000,9,-999.000,9, -999.00,9,  -999.0,9,  -999.0,-999.000,9,-999.000,-999.000,9, -999.00,9, -999.00,9,  399.00,-999.0000,9,-999.0000,9,-999.0000,9,-999.0000,9,-999.0000,9,-999.0000,9,   8.6165,     -999.0,9,     -999.0,9,     -999.0,9,     -999.0,9,        139,-999.000,-999.000,-999.000,     -999.0,9, -999.00,9, -999.00,9
33RO200306_02,       A16N,     139,          1,         19,         19,2,20030806,       0209,    -1.3343,   -25.0002,       4731,   449.6,   7.4062,  34.6297,2,  34.6279,2,    127.1,2,   139.4,2,   18.68,2,   30.72,2,    0.00,2,    1.95,2,-999.000,9,-999.000,9,-999.000,9,  -999.0,9,  -999.0,9,   -999.0,9,  -999.00,-999.0000,9,  -999.00,-999.000,9,-999.000,9,-999.000,9, -999.00,9,  -999.0,9,  -999.0,-999.000,9,-999.000,-999.000,9, -999.00,9, -999.00,9,  449.60,-999.0000,9,-999.0000,9,-999.0000,9,-999.0000,9,-999.0000,9,-999.0000,9,   7.3622,     -999.0,9,     -999.0,9,     -999.0,9,     -999.0,9,        139,-999.000,-999.000,-999.000,     -999.0,9, -999.00,9, -999.00,9
33RO200306_02,       A16N,     139,          1,         18,         18,2,20030806,       0209,    -1.3343,   -25.0002,       4731,   500.8,   5.7685,  34.4823,2,  34.4800,2,    169.0,2,   168.5,2,   24.02,2,   31.10,2,    0.00,2,    2.04,2,-999.000,9,-999.000,9,-999.000,9,  -999.0,9,  -999.0,9,   -999.0,9,  -999.00,-999.0000,9,  -999.00,-999.000,9,-999.000,9,-999.000,9, -999.00,9,  -999.0,9,  -999.0,-999.000,9,-999.000,-999.000,9, -999.00,9, -999.00,9,  500.80,-999.0000,9,-999.0000,9,-999.0000,9,-999.0000,9,-999.0000,9,-999.0000,9,   5.7256,     -999.0,9,     -999.0,9,     -999.0,9,     -999.0,9,        139,-999.000,-999.000,-999.000,     -999.0,9, -999.00,9, -999.00,9
33RO200306_02,       A16N,     139,          1,         17,         17,2,20030806,       0209,    -1.3343,   -25.0002,       4731,   600.1,   5.4555,  34.5007,2,  34.5008,2,    149.3,2,   149.5,2,   26.66,2,   33.52,2,    0.00,2,    2.19,2,   0.430,2,   0.228,2,   0.013,2,  -999.0,9,  -999.0,9,   -999.0,9,  -999.00,-999.0000,9,  -999.00,-999.000,9,-999.000,9,-999.000,9, -999.00,9,  -999.0,9,  -999.0,-999.000,9,-999.000,-999.000,9, -999.00,9, -999.00,9,  600.10,-999.0000,9,-999.0000,9,-999.0000,9,-999.0000,9,-999.0000,9,-999.0000,9,   5.4051,     -999.0,9,     -999.0,9,     -999.0,9,     -999.0,9,        139,-999.000,-999.000,-999.000,     -999.0,9, -999.00,9, -999.00,9
33RO200306_02,       A16N,     139,          1,         16,         16,2,20030806,       0209,    -1.3343,   -25.0002,       4731,   700.5,   5.1678,  34.5048,2,  34.5039,2,    146.7,2,   145.4,2,   28.79,2,   34.22,2,    0.00,2,    2.25,2,-999.000,9,-999.000,9,-999.000,9,  -999.0,9,  -999.0,9,   -999.0,9,  -999.00,-999.0000,9,  -999.00,-999.000,9,-999.000,9,-999.000,9, -999.00,9,  -999.0,9,  -999.0,-999.000,9,-999.000,-999.000,9, -999.00,9, -999.00,9,  700.50,-999.0000,9,-999.0000,9,-999.0000,9,-999.0000,9,-999.0000,9,-999.0000,9,   5.1101,     -999.0,9,     -999.0,9,     -999.0,9,     -999.0,9,        139,-999.000,-999.000,-999.000,     -999.0,9, -999.00,9, -999.00,9
33RO200306_02,       A16N,     139,          1,         15,         15,2,20030806,       0209,    -1.3343,   -25.0002,       4731,   800.2,   4.9080,  34.5102,2,  34.5101,2,    151.8,2,   149.0,2,   30.34,2,   34.17,2,    0.00,2,    2.25,2,   0.177,2,   0.100,2,   0.005,2,  -999.0,9,  -999.0,9,   -999.0,9,  -999.00,-999.0000,9,  -999.00,-999.000,9,-999.000,9,-999.000,9, -999.00,9,  -999.0,9,  -999.0,-999.000,9,-999.000,-999.000,9, -999.00,9, -999.00,9,  800.20,-999.0000,9,-999.0000,9,-999.0000,9,-999.0000,9,-999.0000,9,-999.0000,9,   4.8430,     -999.0,9,     -999.0,9,     -999.0,9,     -999.0,9,        139,-999.000,-999.000,-999.000,     -999.0,9, -999.00,9, -999.00,9
33RO200306_02,       A16N,     139,          1,         14,         14,2,20030806,       0209,    -1.3343,   -25.0002,       4731,   900.7,   4.5296,  34.5322,2,  34.5320,2,    158.7,2,   159.4,2,   32.75,2,   33.43,2,    0.00,2,    2.22,2,-999.000,9,-999.000,9,-999.000,9,  -999.0,9,  -999.0,9,   -999.0,9,  -999.00,-999.0000,9,  -999.00,-999.000,9,-999.000,9,-999.000,9, -999.00,9,  -999.0,9,  -999.0,-999.000,9,-999.000,-999.000,9, -999.00,9, -999.00,9,  900.70,-999.0000,9,-999.0000,9,-999.0000,9,-999.0000,9,-999.0000,9,-999.0000,9,   4.4584,     -999.0,9,     -999.0,9,     -999.0,9,     -999.0,9,        139,-999.000,-999.000,-999.000,     -999.0,9, -999.00,9, -999.00,9
33RO200306_02,       A16N,     139,          1,         13,         13,2,20030806,       0209,    -1.3343,   -25.0002,       4731,  1000.8,   4.4081,  34.6420,2,  34.6434,2,    165.2,2,   162.8,2,   31.54,2,   31.88,2,    0.00,2,    2.13,2,-999.000,9,-999.000,9,-999.000,9,  -999.0,9,  -999.0,9,   -999.0,9,  -999.00,-999.0000,9,  -999.00,-999.000,9,-999.000,9,-999.000,9, -999.00,9,  -999.0,9,  -999.0,-999.000,9,-999.000,-999.000,9, -999.00,9, -999.00,9, 1000.80,-999.0000,9,-999.0000,9,-999.0000,9,-999.0000,9,-999.0000,9,-999.0000,9,   4.3290,     -999.0,9,     -999.0,9,     -999.0,9,     -999.0,9,        139,-999.000,-999.000,-999.000,     -999.0,9, -999.00,9, -999.00,9
33RO200306_02,       A16N,     139,          1,         12,         12,2,20030806,       0209,    -1.3343,   -25.0002,       4731,  1099.4,   4.5396,  34.7693,2,  34.7685,2,    174.6,2,   174.3,2,   27.42,2,   29.19,2,    0.00,2,    1.92,2,-999.000,9,-999.000,9,-999.000,9,  -999.0,9,  -999.0,9,   -999.0,9,  -999.00,-999.0000,9,  -999.00,-999.000,9,-999.000,9,-999.000,9, -999.00,9,  -999.0,9,  -999.0,-999.000,9,-999.000,-999.000,9, -999.00,9, -999.00,9, 1099.40,-999.0000,9,-999.0000,9,-999.0000,9,-999.0000,9,-999.0000,9,-999.0000,9,   4.4506,     -999.0,9,     -999.0,9,     -999.0,9,     -999.0,9,        139,-999.000,-999.000,-999.000,     -999.0,9, -999.00,9, -999.00,9
33RO200306_02,       A16N,     139,          1,         11,         11,2,20030806,       0209,    -1.3343,   -25.0002,       4731,  1199.9,   4.5533,  34.8265,2,  34.8300,2,    185.2,2,   185.1,2,   25.19,2,   27.49,2,    0.00,2,    1.82,2,-999.000,9,-999.000,9,-999.000,9,  -999.0,9,  -999.0,9,   -999.0,9,  -999.00,-999.0000,9,  -999.00,-999.000,9,-999.000,9,-999.000,9, -999.00,9,  -999.0,9,  -999.0,-999.000,9,-999.000,-999.000,9, -999.00,9, -999.00,9, 1199.90,-999.0000,9,-999.0000,9,-999.0000,9,-999.0000,9,-999.0000,9,-999.0000,9,   4.4550,     -999.0,9,     -999.0,9,     -999.0,9,     -999.0,9,        139,-999.000,-999.000,-999.000,     -999.0,9, -999.00,9, -999.00,9
33RO200306_02,       A16N,     139,          1,         10,         10,2,20030806,       0209,    -1.3343,   -25.0002,       4731,  1398.5,   4.4589,  34.9406,2,  34.9429,2,    214.9,2,   215.3,2,   20.03,2,   23.07,2,    0.00,2,    1.51,2,-999.000,9,-999.000,9,-999.000,9,  -999.0,9,  -999.0,9,   -999.0,9,  -999.00,-999.0000,9,  -999.00,-999.000,9,-999.000,9,-999.000,9, -999.00,9,  -999.0,9,  -999.0,-999.000,9,-999.000,-999.000,9, -999.00,9, -999.00,9, 1398.50,-999.0000,9,-999.0000,9,-999.0000,9,-999.0000,9,-999.0000,9,-999.0000,9,   4.3431,     -999.0,9,     -999.0,9,     -999.0,9,     -999.0,9,        139,-999.000,-999.000,-999.000,     -999.0,9, -999.00,9, -999.00,9
33RO200306_02,       A16N,     139,          1,          9,          9,2,20030806,       0209,    -1.3343,   -25.0002,       4731,  1599.3,   4.1097,  34.9761,2,  34.9773,2,    240.5,2,   243.7,2,   18.14,2,   20.67,2,    0.00,2,    1.34,2,-999.000,9,-999.000,9,-999.000,9,  -999.0,9,  -999.0,9,   -999.0,9,  -999.00,-999.0000,9,  -999.00,-999.000,9,-999.000,9,-999.000,9, -999.00,9,  -999.0,9,  -999.0,-999.000,9,-999.000,-999.000,9, -999.00,9, -999.00,9, 1599.30,-999.0000,9,-999.0000,9,-999.0000,9,-999.0000,9,-999.0000,9,-999.0000,9,   3.9790,     -999.0,9,     -999.0,9,     -999.0,9,     -999.0,9,        139,-999.000,-999.000,-999.000,     -999.0,9, -999.00,9, -999.00,9
33RO200306_02,       A16N,     139,          1,          8,          8,2,20030806,       0209,    -1.3343,   -25.0002,       4731,  1799.6,   3.8819,  34.9794,2,  34.9792,2,    248.2,2,   246.2,2,   18.28,2,   19.83,2,    0.00,2,    1.30,2,-999.000,9,-999.000,9,-999.000,9,  -999.0,9,  -999.0,9,   -999.0,9,  -999.00,-999.0000,9,  -999.00,-999.000,9,-999.000,9,-999.000,9, -999.00,9,  -999.0,9,  -999.0,-999.000,9,-999.000,-999.000,9, -999.00,9, -999.00,9, 1799.60,-999.0000,9,-999.0000,9,-999.0000,9,-999.0000,9,-999.0000,9,-999.0000,9,   3.7353,     -999.0,9,     -999.0,9,     -999.0,9,     -999.0,9,        139,-999.000,-999.000,-999.000,     -999.0,9, -999.00,9, -999.00,9