BOTTLE,20230908CCHSIOCBG
EXPOCODE,SECT_ID,STNNBR,CASTNO,SAMPNO,BTLNBR,BTLNBR_FLAG_W,DATE,TIME,LATITUDE,LONGITUDE,DEPTH,CTDPRS,CTDTMP,CTDSAL,CTDSAL_FLAG_W,SALNTY,SALNTY_FLAG_W,CTDOXY,CTDOXY_FLAG_W,OXYGEN,OXYGEN_FLAG_W,SILCAT,SILCAT_FLAG_W,NITRAT,NITRAT_FLAG_W,NITRIT,NITRIT_FLAG_W,PHSPHT,PHSPHT_FLAG_W,CFC-11,CFC-11_FLAG_W,CFC-12,CFC-12_FLAG_W,CFC113,CFC113_FLAG_W,TCARBN,TCARBN_FLAG_W,ALKALI,ALKALI_FLAG_W,FCO2,FCO2_FLAG_W,FCO2TMP,PH_SWS,PH_SWS_FLAG_W,PH_TMP,TRITUM,TRITUM_FLAG_W,HELIUM,HELIUM_FLAG_W,DELHE3,DELHE3_FLAG_W,DELC13,DELC13_FLAG_W,DELC14,DELC14_FLAG_W,C14ERR,NEON,NEON_FLAG_W,NEONER,POC,POC_FLAG_W,DOC,DOC_FLAG_W,TDN,TDN_FLAG_W,CTDRAW,CDOM325,CDOM325_FLAG_W,CDOM340,CDOM340_FLAG_W,CDOM380,CDOM380_FLAG_W,CDOM412,CDOM412_FLAG_W,CDOMSL,CDOMSL_FLAG_W,CDOMSN,CDOMSN_FLAG_W,THETA,PON,PON_FLAG_W,HCFC-22,HCFC-22_FLAG_W,HCFC-142b,HCFC-142b_FLAG_W,HCFC-141b,HCFC-141b_FLAG_W,STNNBR_U,HELIER,DELHER,TRITER,CH3CL,CH3CL_FLAG_W,CH3BR,CH3BR_FLAG_W,CH3I,CH3I_FLAG_W
,,,,,,,,,,,METERS,DBAR,ITS-90,PSS-78,,PSS-78,,UMOL/KG,,UMOL/KG,,UMOL/KG,,UMOL/KG,,UMOL/KG,,UMOL/KG,,PMOL/KG,,PMOL/KG,,PMOL/KG,,UMOL/KG,,UMOL/KG,,UATM,,DEG C,,,DEG C,TU,,NMOL/KG,,PERCNT,,/MILLE,,/MILLE,,/MILLE,NMOL/KG,,NMOL/KG,UG/KG,,UMOL/KG,,UMOL/KG,,DBAR,1/M,,1/M,,1/M,,1/M,,1/NM,,1/NM,,DEG C,UMOL/L,,PMOL/KG,,PMOL/KG,,PMOL/KG,,,NMOL/KG,PERCNT,TU,PMOL/KG,,PMOL/KG,,PMOL/KG,
33RO200306_01,       A16N,     005,          1,         28,         28,2,20030620,       1612,    62.3333,   -19.9998,       1799,     1.4,  10.6724,  35.2672,2,  35.2683,2,    290.8,2,   288.9,2,    0.29,2,    5.50,2,    0.11,2,    0.37,2,   3.765,2,   2.062,2,   0.323,2,  2028.8,3,  2321.3,2,    457.9,2,    20.00,   7.9186,2,    25.00,-999.000,9,-999.000,9,-999.000,9, -999.00,9,  -999.0,9,  -999.0,-999.000,9,-999.000,-999.000,9,   58.29,2,    9.46,2,    1.40,   0.2260,2,   0.1570,2,   0.0570,2,   0.0350,2,   0.0210,2,   0.0240,2,  10.6722,     -999.0,9,     -999.0,9,     -999.0,9,     -999.0,9,          5,-999.000,-999.000,-999.000,     -999.0,9, -999.00,9, -999.00,9
33RO200306_01,       A16N,     005,          1,         27,         27,2,20030620,       1612,    62.3333,   -19.9998,       1799,    19.9,  10.5896,  35.2668,2,  35.2692,2,    290.4,2,   287.6,2,    0.52,2,    6.00,2,    0.12,2,    0.41,2,   3.801,2,   2.073,2,   0.320,2,  2083.6,2,  2321.9,2,    484.0,4,    20.00,   7.9064,2,    25.00,-999.000,9,-999.000,9,-999.000,9, -999.00,9,  -999.0,9,  -999.0,-999.000,9,-999.000,-999.000,9,   57.48,2,    9.56,2,   19.90,   0.1770,2,   0.1250,2,   0.0530,2,   0.0340,2,   0.0190,2,   0.0210,2,  10.5872,     -999.0,9,     -999.0,9,     -999.0,9,     -999.0,9,          5,-999.000,-999.000,-999.000,     -999.0,9, -999.00,9, -999.00,9
33RO200306_01,       A16N,     005,          1,         26,         26,2,20030620,       1612,    62.3333,   -19.9998,       1799,    40.5,   9.9208,  35.2678,2,  35.2703,2,    278.7,2,   276.6,2,    2.76,2,    9.69,2,    0.24,2,    0.66,2,   3.811,2,   2.101,2,   0.319,2,  2106.4,2,  2320.9,2,   -999.0,9,  -999.00,   7.8686,2,    25.00,-999.000,9,-999.000,9,-999.000,9, -999.00,9,  -999.0,9,  -999.0,-999.000,9,-999.000,-999.000,9,   54.07,2,   13.28,2,   40.50,-999.0000,9,-999.0000,9,-999.0000,9,-999.0000,9,-999.0000,9,-999.0000,9,   9.9161,     -999.0,9,     -999.0,9,     -999.0,9,     -999.0,9,          5,-999.000,-999.000,-999.000,     -999.0,9, -999.00,9, -999.00,9
33RO200306_01,       A16N,     005,          1,         25,         25,2,20030620,       1612,    62.3333,   -19.9998,       1799,    60.3,   9.2972,  35.2676,2,  35.2754,2,    272.6,2,   268.9,2,    1.34,2,    7.71,2,    0.16,2,    0.53,2,   3.850,2,   2.093,2,   0.316,2,  2123.6,2,  2315.3,2,    568.8,2,    20.00,   7.8472,2,    25.00,   1.047,2,-999.000,9,-999.000,9, -999.00,9,  -999.0,9,  -999.0,-999.000,9,-999.000,-999.000,9, -999.00,9, -999.00,9,   60.30,   0.1370,2,   0.0950,2,   0.0480,2,   0.0370,2,   0.0140,2,   0.0170,2,   9.2905,     -999.0,9,     -999.0,9,     -999.0,9,     -999.0,9,          5,-999.000,-999.000,   0.020,     -999.0,9, -999.00,9, -999.00,9
33RO200306_01,       A16N,     005,          1,         24,         24,2,20030620,       1612,    62.3333,   -19.9998,       1799,    79.3,   8.9449,  35.2842,2,  35.2859,2,    270.1,2,   276.4,2,    4.02,2,   11.47,2,    0.26,2,    0.74,2,   3.826,2,   2.088,2,   0.310,2,  2132.4,2,  2316.7,2,   -999.0,9,  -999.00,   7.8199,2,    25.00,-999.000,9,-999.000,9,-999.000,9, -999.00,9,  -999.0,9,  -999.0,-999.000,9,-999.000,-999.000,9,   52.97,2,   16.90,2,   79.30,-999.0000,9,-999.0000,9,-999.0000,9,-999.0000,9,-999.0000,9,-999.0000,9,   8.9363,     -999.0,9,     -999.0,9,     -999.0,9,     -999.0,9,          5,-999.000,-999.000,-999.000,     -999.0,9, -999.00,9, -999.00,9
33RO200306_01,       A16N,     005,          1,         23,         23,2,20030620,       1612,    62.3333,   -19.9998,       1799,    99.8,   8.8652,  35.2845,2,  35.2875,2,    268.2,2,   267.6,2,    4.48,2,   11.97,2,    0.10,2,    0.76,2,   3.826,2,   2.076,2,   0.310,2,  2136.5,2,  2317.2,2,    609.9,2,    20.00,   7.8151,2,    25.00,-999.000,9,-999.000,9,-999.000,9, -999.00,9,  -999.0,9,  -999.0,-999.000,9,-999.000,-999.000,9,   50.90,2,   16.00,2,   99.80,   0.1210,2,   0.0850,2,   0.0460,2,   0.0350,2,   0.0130,2,   0.0160,2,   8.8545,     -999.0,9,     -999.0,9,     -999.0,9,     -999.0,9,          5,-999.000,-999.000,-999.000,     -999.0,9, -999.00,9, -999.00,9
33RO200306_01,       A16N,     005,          1,         22,         22,2,20030620,       1612,    62.3333,   -19.9998,       1799,   125.4,   8.8026,  35.2834,2,  35.2850,2,    267.9,2,   268.2,2,    4.95,2,   12.26,2,    0.03,2,    0.77,2,   3.798,2,   2.084,2,   0.307,2,  2138.2,2,  2322.7,2,   -999.0,9,  -999.00,   7.8122,2,    25.00,   1.056,2,-999.000,9,-999.000,9, -999.00,9,  -999.0,9,  -999.0,-999.000,9,-999.000,-999.000,9,   51.46,2,   16.98,2,  125.40,-999.0000,9,-999.0000,9,-999.0000,9,-999.0000,9,-999.0000,9,-999.0000,9,   8.7892,     -999.0,9,     -999.0,9,     -999.0,9,     -999.0,9,          5,-999.000,-999.000,   0.020,     -999.0,9, -999.00,9, -999.00,9
33RO200306_01,       A16N,     005,          1,         21,         21,2,20030620,       1612,    62.3333,   -19.9998,       1799,   154.0,   8.7201,  35.2817,2,  35.2813,2,    268.9,2,   266.7,2,    5.19,2,   12.48,2,    0.01,2,    0.79,2,   4.011,4,   2.482,4,   0.362,4,  2139.6,2,  2323.2,2,    615.2,2,    20.00,   7.8073,2,    25.00,-999.000,9,-999.000,9,-999.000,9, -999.00,9,  -999.0,9,  -999.0,-999.000,9,-999.000,-999.000,9,   52.03,2,   17.26,2,  154.00,-999.0000,9,-999.0000,9,-999.0000,9,-999.0000,9,-999.0000,9,-999.0000,9,   8.7037,     -999.0,9,     -999.0,9,     -999.0,9,     -999.0,9,          5,-999.000,-999.000,-999.000,     -999.0,9, -999.00,9, -999.00,9
33RO200306_01,       A16N,     005,          1,         20,         20,2,20030620,       1612,    62.3333,   -19.9998,       1799,   174.9,   8.6616,  35.2763,2,  35.2766,2,    269.4,2,   271.5,2,    5.44,2,   12.64,2,    0.01,2,    0.80,2,   3.819,2,   2.066,2,   0.306,2,  2139.7,2,  2323.0,2,   -999.0,9,  -999.00,   7.8071,2,    25.00,-999.000,9,-999.000,9,-999.000,9, -999.00,9,  -999.0,9,  -999.0,-999.000,9,-999.000,-999.000,9,   50.90,2,   16.99,2,  174.90,-999.0000,9,-999.0000,9,-999.0000,9,-999.0000,9,-999.0000,9,-999.0000,9,   8.6430,     -999.0,9,     -999.0,9,     -999.0,9,     -999.0,9,          5,-999.000,-999.000,-999.000,     -999.0,9, -999.00,9, -999.00,9
33RO200306_01,       A16N,     005,          1,         19,         19,2,20030620,       1612,    62.3333,   -19.9998,       1799,   199.3,   8.6103,  35.2719,2,  35.2719,2,    270.0,2,   271.6,2,    5.57,2,   12.70,2,    0.01,2,    0.81,2,   3.806,2,   2.076,2,   0.307,2,  2139.7,2,  2322.7,2,    620.9,2,    20.00,   7.8041,2,    25.00,   1.035,2,   1.780,2,  -0.955,2, -999.00,9,  -999.0,9,  -999.0,   7.579,2,   0.064,-999.000,9,   50.49,2,   16.20,2,  199.30,   0.1380,2,   0.0940,2,   0.0460,2,   0.0330,2,   0.0160,2,   0.0190,2,   8.5891,     -999.0,9,     -999.0,9,     -999.0,9,     -999.0,9,          5,   0.004,   0.225,   0.010,     -999.0,9, -999.00,9, -999.00,9
33RO200306_01,       A16N,     005,          1,         18,         18,2,20030620,       1612,    62.3333,   -19.9998,       1799,   249.9,   8.5492,  35.2687,2,  35.2709,2,    270.3,2,   268.7,2,    5.69,2,   12.77,2,    0.01,2,    0.81,2,   3.835,2,   2.076,2,   0.306,2,  2140.3,2,  2315.9,2,    620.2,2,    20.00,   7.8015,2,    25.00,-999.000,9,-999.000,9,-999.000,9, -999.00,9,  -999.0,9,  -999.0,-999.000,9,-999.000,-999.000,9,   50.04,2,   16.03,2,  249.90,-999.0000,9,-999.0000,9,-999.0000,9,-999.0000,9,-999.0000,9,-999.0000,9,   8.5227,     -999.0,9,     -999.0,9,     -999.0,9,     -999.0,9,          5,-999.000,-999.000,-999.000,     -999.0,9, -999.00,9, -999.00,9
33RO200306_01,       A16N,     005,          1,         17,         17,2,20030620,       1612,    62.3333,   -19.9998,       1799,   300.7,   8.5225,  35.2680,2,  35.2696,2,    270.3,2,   267.9,2,    5.76,2,   12.79,2,    0.00,2,    0.81,2,   3.829,2,   2.084,2,   0.304,2,  2140.5,2,  2315.4,2,    625.6,2,    20.00,   7.7960,2,    25.00,-999.000,9,   1.814,2,   4.554,4, -999.00,9,  -999.0,9,  -999.0,   7.872,2,   0.067,-999.000,9,   52.27,2,   16.70,2,  300.70,   0.1250,2,   0.0860,2,   0.0440,2,   0.0330,2,   0.0150,2,   0.0170,2,   8.4906,     -999.0,9,     -999.0,9,     -999.0,9,     -999.0,9,          5,   0.004,   0.223,-999.000,     -999.0,9, -999.00,9, -999.00,9
33RO200306_01,       A16N,     005,          1,         16,         16,2,20030620,       1612,    62.3333,   -19.9998,       1799,   349.6,   8.4578,  35.2647,2,  35.2659,2,    268.8,2,   268.7,2,    5.89,2,   12.94,2,    0.00,2,    0.82,2,   3.817,2,   2.083,2,   0.299,2,  2141.5,2,  2314.9,2,   -999.0,9,  -999.00,   7.7998,2,    25.00,-999.000,9,-999.000,9,-999.000,9, -999.00,9,  -999.0,9,  -999.0,-999.000,9,-999.000,-999.000,9,   50.32,2,   16.69,2,  349.60,-999.0000,9,-999.0000,9,-999.0000,9,-999.0000,9,-999.0000,9,-999.0000,9,   8.4207,     -999.0,9,     -999.0,9,     -999.0,9,     -999.0,9,          5,-999.000,-999.000,-999.000,     -999.0,9, -999.00,9, -999.00,9
33RO200306_01,       A16N,     005,          1,         15,         15,2,20030620,       1612,    62.3333,   -19.9998,       1799,   400.7,   8.4001,  35.2597,2,  35.2604,2,    267.0,2,   269.6,2,    5.96,2,   12.99,2,    0.00,2,    0.83,2,   3.816,2,   2.060,2,   0.298,2,  2140.4,2,  2314.5,3,    628.0,2,    20.00,   7.7924,2,    25.00,   1.086,2,   1.855,2,  -1.713,4, -999.00,9,  -999.0,9,  -999.0,   7.795,2,   0.065,-999.000,9,   50.49,2,   16.24,2,  400.70,-999.0000,9,-999.0000,9,-999.0000,9,-999.0000,9,-999.0000,9,-999.0000,9,   8.3577,     -999.0,9,     -999.0,9,     -999.0,9,     -999.0,9,          5,   0.004,   0.224,   0.020,     -999.0,9, -999.00,9, -999.00,9
33RO200306_01,       A16N,     005,          1,         14,         14,2,20030620,       1612,    62.3333,   -19.9998,       1799,   450.7,   8.3599,  35.2568,2,  35.2580,2,    266.1,2,   280.3,2,    6.02,2,   13.08,2,    0.00,2,    0.83,2,   3.796,2,   2.071,2,   0.296,2,  2142.7,2,  2321.7,2,   -999.0,9,  -999.00,   7.7918,2,    25.00,-999.000,9,-999.000,9,-999.000,9, -999.00,9,  -999.0,9,  -999.0,-999.000,9,-999.000,-999.000,9,   51.14,2,   16.44,2,  450.70,   0.1490,2,   0.1000,2,   0.0480,2,   0.0360,2,   0.0150,2,   0.0190,2,   8.3122,     -999.0,9,     -999.0,9,     -999.0,9,     -999.0,9,          5,-999.000,-999.000,-999.000,     -999.0,9, -999.00,9, -999.00,9
33RO200306_01,       A16N,     005,          1,         13,         13,2,20030620,       1612,    62.3333,   -19.9998,       1799,   500.1,   8.2454,  35.2415,2,  35.2422,2,    263.0,2,   265.9,2,    6.32,2,   13.44,2,    0.00,2,    0.85,2,   3.805,2,   2.051,2,   0.297,2,  2143.7,2,  2321.9,2,    642.3,2,    20.00,   7.7922,2,    25.00,   1.072,2,-999.000,9,-999.000,9, -999.00,9,  -999.0,9,  -999.0,-999.000,9,-999.000,-999.000,9,   49.10,2,   16.84,2,  500.10,-999.0000,9,-999.0000,9,-999.0000,9,-999.0000,9,-999.0000,9,-999.0000,9,   8.1927,     -999.0,9,     -999.0,9,     -999.0,9,     -999.0,9,          5,-999.000,-999.000,   0.020,     -999.0,9, -999.00,9, -999.00,9
33RO200306_01,       A16N,     005,          1,         12,         12,2,20030620,       1612,    62.3333,   -19.9998,       1799,   600.0,   8.0061,  35.2217,2,  35.2231,2,    251.6,2,   250.3,2,    7.46,2,   14.72,2,    0.00,2,    0.93,2,   3.492,2,   1.869,2,   0.256,2,  2151.0,2,  2322.3,2,    668.7,2,    20.00,   7.7718,2,    25.00,-999.000,9,-999.000,9,-999.000,9, -999.00,9,  -999.0,9,  -999.0,-999.000,9,-999.000,-999.000,9,   49.35,2,   18.53,2,  600.00,   0.1350,2,   0.0920,2,   0.0480,2,   0.0360,2,   0.0140,2,   0.0170,2,   7.9436,     -999.0,9,     -999.0,9,     -999.0,9,     -999.0,9,          5,-999.000,-999.000,-999.000,     -999.0,9, -999.00,9, -999.00,9
33RO200306_01,       A16N,     005,          1,         11,         11,2,20030620,       1612,    62.3333,   -19.9998,       1799,   700.1,   7.7161,  35.2086,2,  35.2084,2,    250.1,2,   247.9,2,    7.93,2,   15.13,2,    0.00,2,    0.95,2,   3.425,2,   1.816,2,   0.242,2,  2153.6,2,  2321.0,2,   -999.0,9,  -999.00,   7.7642,2,    25.00,   1.027,2,   1.844,3,  -0.412,2, -999.00,9,  -999.0,9,  -999.0,   7.748,2,   0.066,-999.000,9,   47.97,2,   18.44,2,  700.10,-999.0000,9,-999.0000,9,-999.0000,9,-999.0000,9,-999.0000,9,-999.0000,9,   7.6442,     -999.0,9,     -999.0,9,     -999.0,9,     -999.0,9,          5,   0.004,   0.224,   0.020,     -999.0,9, -999.00,9, -999.00,9
33RO200306_01,       A16N,     005,          1,         10,         10,2,20030620,       1612,    62.3333,   -19.9998,       1799,   799.7,   7.2228,  35.1787,2,  35.1801,2,    239.7,2,   241.9,2,    8.74,2,   15.86,2,    0.00,2,    1.00,2,   3.207,2,   1.694,2,   0.215,2,  2158.4,2,  2320.3,2,    715.6,2,    20.00,   7.7423,2,    25.00,-999.000,9,-999.000,9,-999.000,9, -999.00,9,  -999.0,9,  -999.0,-999.000,9,-999.000,-999.000,9,   48.86,2,   19.18,2,  799.70,-999.0000,9,-999.0000,9,-999.0000,9,-999.0000,9,-999.0000,9,-999.0000,9,   7.1431,     -999.0,9,     -999.0,9,     -999.0,9,     -999.0,9,          5,-999.000,-999.000,-999.000,     -999.0,9, -999.00,9, -999.00,9
33RO200306_01,       A16N,     005,          1,          9,          9,2,20030620,       1612,    62.3333,   -19.9998,       1799,   899.9,   6.6815,  35.1499,2,  35.1534,2,    242.7,2,   232.2,2,    8.93,2,   15.78,2,    0.00,2,    1.00,2,   3.218,2,   1.679,2,   0.215,2,  2161.7,2,  2319.7,2,   -999.0,9,  -999.00,   7.7382,2,    25.00,   1.194,2,   1.843,2,   2.570,2, -999.00,9,  -999.0,9,  -999.0,   7.867,2,   0.067,-999.000,9,   47.97,2,   18.96,2,  899.90,-999.0000,9,-999.0000,9,-999.0000,9,-999.0000,9,-999.0000,9,-999.0000,9,   6.5949,     -999.0,9,     -999.0,9,     -999.0,9,     -999.0,9,          5,   0.004,   0.223,   0.030,     -999.0,9, -999.00,9, -999.00,9
33RO200306_01,       A16N,     005,          1,          8,          8,2,20030620,       1612,    62.3333,   -19.9998,       1799,   999.7,   6.1149,  35.1198,2,  35.1216,2,    248.5,2,   256.2,2,    8.53,2,   15.13,2,    0.00,2,    0.97,2,   3.448,2,   1.786,2,   0.242,2,  2157.2,6,  2316.3,2,    718.9,6,    20.00,   7.7161,2,    25.00,-999.000,9,-999.000,9,-999.000,9, -999.00,9,  -999.0,9,  -999.0,-999.000,9,-999.000,   2.322,2,   49.02,2,   18.83,2,  999.70,   0.1780,2,   0.1290,2,   0.0700,2,   0.0570,2,   0.0090,2,   0.0120,2,   6.0222,      0.142,2,     -999.0,9,     -999.0,9,     -999.0,9,          5,-999.000,-999.000,-999.000,     -999.0,9, -999.00,9, -999.00,9
33RO200306_01,       A16N,     005,          1,          7,          7,2,20030620,       1612,    62.3333,   -19.9998,       1799,  1100.4,   5.4473,  35.0870,2,  35.0855,2,    251.1,2,   257.3,2,    9.23,2,   15.64,2,    0.00,2,    1.00,2,   3.261,2,   1.667,2,   0.223,2,  2161.2,2,  2311.0,2,   -999.0,9,  -999.00,   7.6840,3,    25.00,   1.222,2,   1.816,2,   3.420,2, -999.00,9,  -999.0,9,  -999.0,   7.890,2,   0.068,-999.000,9,   49.14,2,   18.75,2, 1100.40,-999.0000,9,-999.0000,9,-999.0000,9,-999.0000,9,-999.0000,9,-999.0000,9,   5.3501,     -999.0,9,     -999.0,9,     -999.0,9,     -999.0,9,          5,   0.004,   0.223,   0.020,     -999.0,9, -999.00,9, -999.00,9
33RO200306_01,       A16N,     005,          1,          6,          6,2,20030620,       1612,    62.3333,   -19.9998,       1799,  1200.2,   4.7756,  35.0306,2,  35.0326,2,    254.3,2,   254.2,2,   10.32,2,   16.59,2,    0.00,2,    1.06,2,   3.020,2,   1.520,2,   0.191,2,  2163.9,2,  2308.6,2,    762.7,2,    20.00,   7.7233,2,    25.00,-999.000,9,-999.000,9,-999.000,9, -999.00,9,  -999.0,9,  -999.0,-999.000,9,-999.000,-999.000,9,   47.56,2,   20.47,2, 1200.20,-999.0000,9,-999.0000,9,-999.0000,9,-999.0000,9,-999.0000,9,-999.0000,9,   4.6749,     -999.0,9,     -999.0,9,     -999.0,9,     -999.0,9,          5,-999.000,-999.000,-999.000,     -999.0,9, -999.00,9, -999.00,9
33RO200306_01,       A16N,     005,          1,          5,          5,2,20030620,       1612,    62.3333,   -19.9998,       1799,  1300.3,   4.1066,  35.0049,2,  35.0087,2,    263.6,2,   258.9,2,   10.11,2,   16.02,2,    0.00,2,    1.03,2,   3.092,2,   1.540,2,   0.198,2,  2160.3,2,  2307.1,2,   -999.0,9,  -999.00,   7.7260,2,    25.00,   1.221,2,-999.000,9,-999.000,9, -999.00,9,  -999.0,9,  -999.0,-999.000,9,-999.000,-999.000,9,   47.07,2,   19.72,2, 1300.30,-999.0000,9,-999.0000,9,-999.0000,9,-999.0000,9,-999.0000,9,-999.0000,9,   4.0032,     -999.0,9,     -999.0,9,     -999.0,9,     -999.0,9,          5,-999.000,-999.000,   0.030,     -999.0,9, -999.00,9, -999.00,9
33RO200306_01,       A16N,     005,          1,          4,          4,2,20030620,       1612,    62.3333,   -19.9998,       1799,  1400.4,   3.8470,  35.0021,2,-999.0000,1,    269.3,2,   269.8,2,   10.06,2,   15.74,2,    0.00,2,    1.01,2,   3.089,2,   1.548,2,   0.199,2,  2159.9,2,  2307.3,2,    759.9,2,    20.00,   7.7217,2,    25.00,-999.000,9,-999.000,9,-999.000,9, -999.00,9,  -999.0,9,  -999.0,-999.000,9,-999.000,-999.000,9,   48.05,2,   19.74,2, 1400.40,-999.0000,9,-999.0000,9,-999.0000,9,-999.0000,9,-999.0000,9,-999.0000,9,   3.7373,     -999.0,9,     -999.0,9,     -999.0,9,     -999.0,9,          5,-999.000,-999.000,-999.000,     -999.0,9, -999.00,9, -999.00,9
33RO200306_01,       A16N,     005,          1,          3,          3,2,20030620,       1612,    62.3333,   -19.9998,       1799,  1498.4,   3.5536,  34.9908,2,  34.9924,2,    273.9,2,   271.6,2,   10.19,2,   15.52,2,    0.00,2,    1.00,2,   3.068,2,   1.536,2,   0.199,2,  2159.0,2,  2306.5,2,    755.0,2,    20.00,   7.7228,2,    25.00,   0.908,2,   1.807,2,   5.019,2, -999.00,9,  -999.0,9,  -999.0,   7.938,2,   0.067,-999.000,9,   47.07,2,   19.35,2, 1498.40,-999.0000,9,-999.0000,9,-999.0000,9,-999.0000,9,-999.0000,9,-999.0000,9,   3.4385,     -999.0,9,     -999.0,9,     -999.0,9,     -999.0,9,          5,   0.004,   0.223,   0.010,     -999.0,9, -999.00,9, -999.00,9
33RO200306_01,       A16N,     005,          1,          2,          2,2,20030620,       1612,    62.3333,   -19.9998,       1799,  1699.9,   2.9885,  34.9851,2,  34.9873,2,    276.9,2,   278.8,2,   10.43,2,   15.29,2,    0.00,2,    0.99,2,   2.946,2,   1.455,2,   0.189,2,  2162.0,2,  2306.4,2,    764.5,2,    20.00,   7.7219,2,    25.00,-999.000,9,-999.000,9,-999.000,9, -999.00,9,  -999.0,9,  -999.0,-999.000,9,-999.000,-999.000,9,   47.07,2,   18.93,2, 1699.90,   0.1870,2,   0.1380,2,   0.0830,2,   0.0700,2,   0.0080,2,   0.0100,2,   2.8627,     -999.0,9,     -999.0,9,     -999.0,9,     -999.0,9,          5,-999.000,-999.000,-999.000,     -999.0,9, -999.00,9, -999.00,9