BOTTLE,20230908CCHSIOCBG
EXPOCODE,SECT_ID,STNNBR,CASTNO,SAMPNO,BTLNBR,BTLNBR_FLAG_W,DATE,TIME,LATITUDE,LONGITUDE,DEPTH,CTDPRS,CTDTMP,CTDSAL,CTDSAL_FLAG_W,SALNTY,SALNTY_FLAG_W,CTDOXY,CTDOXY_FLAG_W,OXYGEN,OXYGEN_FLAG_W,SILCAT,SILCAT_FLAG_W,NITRAT,NITRAT_FLAG_W,NITRIT,NITRIT_FLAG_W,PHSPHT,PHSPHT_FLAG_W,CFC-11,CFC-11_FLAG_W,CFC-12,CFC-12_FLAG_W,CFC113,CFC113_FLAG_W,TCARBN,TCARBN_FLAG_W,ALKALI,ALKALI_FLAG_W,FCO2,FCO2_FLAG_W,FCO2TMP,PH_SWS,PH_SWS_FLAG_W,PH_TMP,TRITUM,TRITUM_FLAG_W,HELIUM,HELIUM_FLAG_W,DELHE3,DELHE3_FLAG_W,DELC13,DELC13_FLAG_W,DELC14,DELC14_FLAG_W,C14ERR,NEON,NEON_FLAG_W,NEONER,POC,POC_FLAG_W,DOC,DOC_FLAG_W,TDN,TDN_FLAG_W,CTDRAW,CDOM325,CDOM325_FLAG_W,CDOM340,CDOM340_FLAG_W,CDOM380,CDOM380_FLAG_W,CDOM412,CDOM412_FLAG_W,CDOMSL,CDOMSL_FLAG_W,CDOMSN,CDOMSN_FLAG_W,THETA,PON,PON_FLAG_W,HCFC-22,HCFC-22_FLAG_W,HCFC-142b,HCFC-142b_FLAG_W,HCFC-141b,HCFC-141b_FLAG_W,STNNBR_U,HELIER,DELHER,TRITER,CH3CL,CH3CL_FLAG_W,CH3BR,CH3BR_FLAG_W,CH3I,CH3I_FLAG_W
,,,,,,,,,,,METERS,DBAR,ITS-90,PSS-78,,PSS-78,,UMOL/KG,,UMOL/KG,,UMOL/KG,,UMOL/KG,,UMOL/KG,,UMOL/KG,,PMOL/KG,,PMOL/KG,,PMOL/KG,,UMOL/KG,,UMOL/KG,,UATM,,DEG C,,,DEG C,TU,,NMOL/KG,,PERCNT,,/MILLE,,/MILLE,,/MILLE,NMOL/KG,,NMOL/KG,UG/KG,,UMOL/KG,,UMOL/KG,,DBAR,1/M,,1/M,,1/M,,1/M,,1/NM,,1/NM,,DEG C,UMOL/L,,PMOL/KG,,PMOL/KG,,PMOL/KG,,,NMOL/KG,PERCNT,TU,PMOL/KG,,PMOL/KG,,PMOL/KG,
33RO200306_02,       A16N,     085,          1,         35,         35,2,20030720,       2306,    23.4995,   -27.0328,       5502,     3.6,  24.5536,  37.2937,2,  37.3035,2,    206.9,2,   208.6,2,    0.31,6,    0.03,6,    0.01,6, -999.00,0,-999.000,9,-999.000,9,-999.000,9,  2097.5,6,  2438.0,6,   -999.0,9,  -999.00,   8.0508,6,    25.00,-999.000,9,-999.000,9,-999.000,9, -999.00,9,  -999.0,9,  -999.0,-999.000,9,-999.000,-999.000,9, -999.00,9, -999.00,9,    3.60,-999.0000,9,-999.0000,9,-999.0000,9,-999.0000,9,-999.0000,9,-999.0000,9,  24.5528,     -999.0,9,     -999.0,9,     -999.0,9,     -999.0,9,         85,-999.000,-999.000,-999.000,     -999.0,9, -999.00,9, -999.00,9
33RO200306_02,       A16N,     085,          1,         33,         33,2,20030720,       2306,    23.4995,   -27.0328,       5502,    24.4,  24.5544,  37.2931,2,  37.2884,2,    207.5,2,   209.7,2,    0.32,2,    0.04,2,    0.01,2,    0.05,2,-999.000,9,-999.000,9,-999.000,9,  -999.0,9,  -999.0,9,   -999.0,9,  -999.00,-999.0000,9,  -999.00,-999.000,9,-999.000,9,-999.000,9, -999.00,9,  -999.0,9,  -999.0,-999.000,9,-999.000,-999.000,9, -999.00,9, -999.00,9,   24.40,-999.0000,9,-999.0000,9,-999.0000,9,-999.0000,9,-999.0000,9,-999.0000,9,  24.5491,     -999.0,9,     -999.0,9,     -999.0,9,     -999.0,9,         85,-999.000,-999.000,-999.000,     -999.0,9, -999.00,9, -999.00,9
33RO200306_02,       A16N,     085,          1,         32,         32,2,20030720,       2306,    23.4995,   -27.0328,       5502,    59.1,  22.6358,  37.0983,2,  37.0987,2,    222.7,2,   224.9,2,    0.29,2,    0.04,2,    0.01,2,    0.05,2,-999.000,9,-999.000,9,-999.000,9,  -999.0,9,  -999.0,9,   -999.0,9,  -999.00,-999.0000,9,  -999.00,-999.000,9,-999.000,9,-999.000,9, -999.00,9,  -999.0,9,  -999.0,-999.000,9,-999.000,-999.000,9, -999.00,9, -999.00,9,   59.10,-999.0000,9,-999.0000,9,-999.0000,9,-999.0000,9,-999.0000,9,-999.0000,9,  22.6238,     -999.0,9,     -999.0,9,     -999.0,9,     -999.0,9,         85,-999.000,-999.000,-999.000,     -999.0,9, -999.00,9, -999.00,9
33RO200306_02,       A16N,     085,          1,         31,         31,2,20030720,       2306,    23.4995,   -27.0328,       5502,    74.3,  22.2171,  37.0902,2,  37.0867,2,    220.6,2,   222.4,2,    0.31,2,    0.04,2,    0.01,2,    0.06,2,-999.000,9,-999.000,9,-999.000,9,  -999.0,9,  -999.0,9,   -999.0,9,  -999.00,-999.0000,9,  -999.00,-999.000,9,-999.000,9,-999.000,9, -999.00,9,  -999.0,9,  -999.0,-999.000,9,-999.000,-999.000,9, -999.00,9, -999.00,9,   74.30,-999.0000,9,-999.0000,9,-999.0000,9,-999.0000,9,-999.0000,9,-999.0000,9,  22.2022,     -999.0,9,     -999.0,9,     -999.0,9,     -999.0,9,         85,-999.000,-999.000,-999.000,     -999.0,9, -999.00,9, -999.00,9
33RO200306_02,       A16N,     085,          1,         30,         30,2,20030720,       2306,    23.4995,   -27.0328,       5502,    99.4,  21.2537,  36.9718,2,  36.9707,2,    218.3,2,   216.2,2,    0.40,2,    0.07,2,    0.01,2,    0.08,2,-999.000,9,-999.000,9,-999.000,9,  -999.0,9,  -999.0,9,   -999.0,9,  -999.00,-999.0000,9,  -999.00,-999.000,9,-999.000,9,-999.000,9, -999.00,9,  -999.0,9,  -999.0,-999.000,9,-999.000,-999.000,9, -999.00,9, -999.00,9,   99.40,-999.0000,9,-999.0000,9,-999.0000,9,-999.0000,9,-999.0000,9,-999.0000,9,  21.2343,     -999.0,9,     -999.0,9,     -999.0,9,     -999.0,9,         85,-999.000,-999.000,-999.000,     -999.0,9, -999.00,9, -999.00,9
33RO200306_02,       A16N,     085,          1,         29,         29,2,20030720,       2306,    23.4995,   -27.0328,       5502,   125.3,  20.9715,  37.0007,2,  37.0002,2,    206.5,2,   204.2,2,    0.58,2,    1.06,2,    0.06,2,    0.14,2,-999.000,9,-999.000,9,-999.000,9,  -999.0,9,  -999.0,9,   -999.0,9,  -999.00,-999.0000,9,  -999.00,-999.000,9,-999.000,9,-999.000,9, -999.00,9,  -999.0,9,  -999.0,-999.000,9,-999.000,-999.000,9, -999.00,9, -999.00,9,  125.30,-999.0000,9,-999.0000,9,-999.0000,9,-999.0000,9,-999.0000,9,-999.0000,9,  20.9473,     -999.0,9,     -999.0,9,     -999.0,9,     -999.0,9,         85,-999.000,-999.000,-999.000,     -999.0,9, -999.00,9, -999.00,9
33RO200306_02,       A16N,     085,          1,         28,         28,2,20030720,       2306,    23.4995,   -27.0328,       5502,   149.4,  20.6591,  37.0416,2,  37.0207,2,    199.6,2,   198.8,2,    0.73,2,    1.99,2,    0.03,2,    0.17,2,-999.000,9,-999.000,9,-999.000,9,  -999.0,9,  -999.0,9,   -999.0,9,  -999.00,-999.0000,9,  -999.00,-999.000,9,-999.000,9,-999.000,9, -999.00,9,  -999.0,9,  -999.0,-999.000,9,-999.000,-999.000,9, -999.00,9, -999.00,9,  149.40,-999.0000,9,-999.0000,9,-999.0000,9,-999.0000,9,-999.0000,9,-999.0000,9,  20.6305,     -999.0,9,     -999.0,9,     -999.0,9,     -999.0,9,         85,-999.000,-999.000,-999.000,     -999.0,9, -999.00,9, -999.00,9
33RO200306_02,       A16N,     085,          1,         27,         27,2,20030720,       2306,    23.4995,   -27.0328,       5502,   174.2,  19.3396,  36.7655,2,  36.7649,2,    184.8,2,   179.3,2,    1.32,6,    4.88,6,    0.02,6, -999.00,0,-999.000,9,-999.000,9,-999.000,9,  -999.0,9,  -999.0,9,   -999.0,9,  -999.00,-999.0000,9,  -999.00,-999.000,9,-999.000,9,-999.000,9, -999.00,9,  -999.0,9,  -999.0,-999.000,9,-999.000,-999.000,9, -999.00,9, -999.00,9,  174.20,-999.0000,9,-999.0000,9,-999.0000,9,-999.0000,9,-999.0000,9,-999.0000,9,  19.3078,     -999.0,9,     -999.0,9,     -999.0,9,     -999.0,9,         85,-999.000,-999.000,-999.000,     -999.0,9, -999.00,9, -999.00,9
33RO200306_02,       A16N,     085,          1,         26,         26,2,20030720,       2306,    23.4995,   -27.0328,       5502,   199.8,  18.5297,  36.6461,2,  36.6423,2,    183.1,2,   185.0,2,    1.36,2,    4.64,2,    0.02,2,    0.30,2,-999.000,9,-999.000,9,-999.000,9,  -999.0,9,  -999.0,9,   -999.0,9,  -999.00,-999.0000,9,  -999.00,-999.000,9,-999.000,9,-999.000,9, -999.00,9,  -999.0,9,  -999.0,-999.000,9,-999.000,-999.000,9, -999.00,9, -999.00,9,  199.80,-999.0000,9,-999.0000,9,-999.0000,9,-999.0000,9,-999.0000,9,-999.0000,9,  18.4943,     -999.0,9,     -999.0,9,     -999.0,9,     -999.0,9,         85,-999.000,-999.000,-999.000,     -999.0,9, -999.00,9, -999.00,9
33RO200306_02,       A16N,     085,          1,         25,         25,2,20030720,       2306,    23.4995,   -27.0328,       5502,   249.6,  17.1936,  36.3902,2,  36.3859,2,    177.2,2,   178.9,2,    2.09,2,    7.16,2,    0.01,2,    0.44,2,-999.000,9,-999.000,9,-999.000,9,  -999.0,9,  -999.0,9,   -999.0,9,  -999.00,-999.0000,9,  -999.00,-999.000,9,-999.000,9,-999.000,9, -999.00,9,  -999.0,9,  -999.0,-999.000,9,-999.000,-999.000,9, -999.00,9, -999.00,9,  249.60,-999.0000,9,-999.0000,9,-999.0000,9,-999.0000,9,-999.0000,9,-999.0000,9,  17.1516,     -999.0,9,     -999.0,9,     -999.0,9,     -999.0,9,         85,-999.000,-999.000,-999.000,     -999.0,9, -999.00,9, -999.00,9
33RO200306_02,       A16N,     085,          1,         24,         24,2,20030720,       2306,    23.4995,   -27.0328,       5502,   299.5,  16.0394,  36.1959,2,  36.1875,2,    169.4,2,   170.9,2,    2.97,2,    9.83,2,    0.01,2,    0.61,2,-999.000,9,-999.000,9,-999.000,9,  -999.0,9,  -999.0,9,   -999.0,9,  -999.00,-999.0000,9,  -999.00,-999.000,9,-999.000,9,-999.000,9, -999.00,9,  -999.0,9,  -999.0,-999.000,9,-999.000,-999.000,9, -999.00,9, -999.00,9,  299.50,-999.0000,9,-999.0000,9,-999.0000,9,-999.0000,9,-999.0000,9,-999.0000,9,  15.9914,     -999.0,9,     -999.0,9,     -999.0,9,     -999.0,9,         85,-999.000,-999.000,-999.000,     -999.0,9, -999.00,9, -999.00,9
33RO200306_02,       A16N,     085,          1,         23,         23,2,20030720,       2306,    23.4995,   -27.0328,       5502,   348.8,  15.0689,  36.0463,2,  36.0473,2,    158.8,2,   159.6,2,    4.02,2,   12.42,2,    0.01,2,    0.77,2,-999.000,9,-999.000,9,-999.000,9,  -999.0,9,  -999.0,9,   -999.0,9,  -999.00,-999.0000,9,  -999.00,-999.000,9,-999.000,9,-999.000,9, -999.00,9,  -999.0,9,  -999.0,-999.000,9,-999.000,-999.000,9, -999.00,9, -999.00,9,  348.80,-999.0000,9,-999.0000,9,-999.0000,9,-999.0000,9,-999.0000,9,-999.0000,9,  15.0152,     -999.0,9,     -999.0,9,     -999.0,9,     -999.0,9,         85,-999.000,-999.000,-999.000,     -999.0,9, -999.00,9, -999.00,9
33RO200306_02,       A16N,     085,          1,         22,         22,2,20030720,       2306,    23.4995,   -27.0328,       5502,   399.1,  14.1064,  35.9128,2,  35.9111,2,    157.2,2,   158.3,2,    4.90,2,   14.23,2,    0.01,2,    0.87,2,-999.000,9,-999.000,9,-999.000,9,  -999.0,9,  -999.0,9,   -999.0,9,  -999.00,-999.0000,9,  -999.00,-999.000,9,-999.000,9,-999.000,9, -999.00,9,  -999.0,9,  -999.0,-999.000,9,-999.000,-999.000,9, -999.00,9, -999.00,9,  399.10,-999.0000,9,-999.0000,9,-999.0000,9,-999.0000,9,-999.0000,9,-999.0000,9,  14.0476,     -999.0,9,     -999.0,9,     -999.0,9,     -999.0,9,         85,-999.000,-999.000,-999.000,     -999.0,9, -999.00,9, -999.00,9
33RO200306_02,       A16N,     085,          1,         21,         21,2,20030720,       2306,    23.4995,   -27.0328,       5502,   499.2,  12.4851,  35.6937,2,  35.6938,2,    148.6,2,   148.6,2,    7.05,2,   18.17,2,    0.01,2,    1.11,2,-999.000,9,-999.000,9,-999.000,9,  -999.0,9,  -999.0,9,   -999.0,9,  -999.00,-999.0000,9,  -999.00,-999.000,9,-999.000,9,-999.000,9, -999.00,9,  -999.0,9,  -999.0,-999.000,9,-999.000,-999.000,9, -999.00,9, -999.00,9,  499.20,-999.0000,9,-999.0000,9,-999.0000,9,-999.0000,9,-999.0000,9,-999.0000,9,  12.4170,     -999.0,9,     -999.0,9,     -999.0,9,     -999.0,9,         85,-999.000,-999.000,-999.000,     -999.0,9, -999.00,9, -999.00,9
33RO200306_02,       A16N,     085,          1,         20,         20,2,20030720,       2306,    23.4995,   -27.0328,       5502,   599.7,  10.9036,  35.4822,2,  35.4844,2,    130.7,2,   128.4,2,   10.63,2,   23.15,2,    0.00,2,    1.43,2,-999.000,9,-999.000,9,-999.000,9,  -999.0,9,  -999.0,9,   -999.0,9,  -999.00,-999.0000,9,  -999.00,-999.000,9,-999.000,9,-999.000,9, -999.00,9,  -999.0,9,  -999.0,-999.000,9,-999.000,-999.000,9, -999.00,9, -999.00,9,  599.70,-999.0000,9,-999.0000,9,-999.0000,9,-999.0000,9,-999.0000,9,-999.0000,9,  10.8283,     -999.0,9,     -999.0,9,     -999.0,9,     -999.0,9,         85,-999.000,-999.000,-999.000,     -999.0,9, -999.00,9, -999.00,9
33RO200306_02,       A16N,     085,          1,         19,         19,2,20030720,       2306,    23.4995,   -27.0328,       5502,   698.7,   9.5768,  35.3092,2,  35.3086,2,    116.6,2,   115.4,2,   14.28,2,   26.76,2,    0.01,2,    1.68,2,-999.000,9,-999.000,9,-999.000,9,  -999.0,9,  -999.0,9,   -999.0,9,  -999.00,-999.0000,9,  -999.00,-999.000,9,-999.000,9,-999.000,9, -999.00,9,  -999.0,9,  -999.0,-999.000,9,-999.000,-999.000,9, -999.00,9, -999.00,9,  698.70,-999.0000,9,-999.0000,9,-999.0000,9,-999.0000,9,-999.0000,9,-999.0000,9,   9.4955,     -999.0,9,     -999.0,9,     -999.0,9,     -999.0,9,         85,-999.000,-999.000,-999.000,     -999.0,9, -999.00,9, -999.00,9
33RO200306_02,       A16N,     085,          1,         18,         18,2,20030720,       2306,    23.4995,   -27.0328,       5502,   848.5,   8.1919,  35.1986,2,  35.1996,2,    124.0,2,   124.1,2,   17.56,2,   27.92,2,    0.01,2,    1.80,2,-999.000,9,-999.000,9,-999.000,9,  -999.0,9,  -999.0,9,   -999.0,9,  -999.00,-999.0000,9,  -999.00,-999.000,9,-999.000,9,-999.000,9, -999.00,9,  -999.0,9,  -999.0,-999.000,9,-999.000,-999.000,9, -999.00,9, -999.00,9,  848.50,-999.0000,9,-999.0000,9,-999.0000,9,-999.0000,9,-999.0000,9,-999.0000,9,   8.1010,     -999.0,9,     -999.0,9,     -999.0,9,     -999.0,9,         85,-999.000,-999.000,-999.000,     -999.0,9, -999.00,9, -999.00,9
33RO200306_02,       A16N,     085,          1,         17,         17,2,20030720,       2306,    23.4995,   -27.0328,       5502,   998.8,   6.9308,  35.1051,2,  35.1074,2,    143.7,2,   146.3,2,   19.52,2,   27.32,2,    0.01,2,    1.79,2,-999.000,9,-999.000,9,-999.000,9,  -999.0,9,  -999.0,9,   -999.0,9,  -999.00,-999.0000,9,  -999.00,-999.000,9,-999.000,9,-999.000,9, -999.00,9,  -999.0,9,  -999.0,-999.000,9,-999.000,-999.000,9, -999.00,9, -999.00,9,  998.80,-999.0000,9,-999.0000,9,-999.0000,9,-999.0000,9,-999.0000,9,-999.0000,9,   6.8322,     -999.0,9,     -999.0,9,     -999.0,9,     -999.0,9,         85,-999.000,-999.000,-999.000,     -999.0,9, -999.00,9, -999.00,9
33RO200306_02,       A16N,     085,          1,         16,         16,2,20030720,       2306,    23.4995,   -27.0328,       5502,  1149.8,   6.4259,  35.1415,2,  35.1439,2,    165.4,2,   167.6,2,   18.92,2,   25.26,2,    0.01,2,    1.67,2,-999.000,9,-999.000,9,-999.000,9,  -999.0,9,  -999.0,9,   -999.0,9,  -999.00,-999.0000,9,  -999.00,-999.000,9,-999.000,9,-999.000,9, -999.00,9,  -999.0,9,  -999.0,-999.000,9,-999.000,-999.000,9, -999.00,9, -999.00,9, 1149.80,-999.0000,9,-999.0000,9,-999.0000,9,-999.0000,9,-999.0000,9,-999.0000,9,   6.3155,     -999.0,9,     -999.0,9,     -999.0,9,     -999.0,9,         85,-999.000,-999.000,-999.000,     -999.0,9, -999.00,9, -999.00,9
33RO200306_02,       A16N,     085,          1,         15,         15,2,20030720,       2306,    23.4995,   -27.0328,       5502,  1300.6,   5.8120,  35.1292,2,  35.1317,2,    184.4,2,   184.3,2,   18.97,2,   23.99,2,    0.01,2,    1.59,2,-999.000,9,-999.000,9,-999.000,9,  -999.0,9,  -999.0,9,   -999.0,9,  -999.00,-999.0000,9,  -999.00,-999.000,9,-999.000,9,-999.000,9, -999.00,9,  -999.0,9,  -999.0,-999.000,9,-999.000,-999.000,9, -999.00,9, -999.00,9, 1300.60,-999.0000,9,-999.0000,9,-999.0000,9,-999.0000,9,-999.0000,9,-999.0000,9,   5.6917,     -999.0,9,     -999.0,9,     -999.0,9,     -999.0,9,         85,-999.000,-999.000,-999.000,     -999.0,9, -999.00,9, -999.00,9
33RO200306_02,       A16N,     085,          1,         14,         14,2,20030720,       2306,    23.4995,   -27.0328,       5502,  1599.4,   4.8134,  35.1029,2,  35.1057,2,    208.4,2,   210.0,2,   20.38,2,   22.12,2,    0.01,2,    1.49,2,-999.000,9,-999.000,9,-999.000,9,  -999.0,9,  -999.0,9,   -999.0,9,  -999.00,-999.0000,9,  -999.00,-999.000,9,-999.000,9,-999.000,9, -999.00,9,  -999.0,9,  -999.0,-999.000,9,-999.000,-999.000,9, -999.00,9, -999.00,9, 1599.40,-999.0000,9,-999.0000,9,-999.0000,9,-999.0000,9,-999.0000,9,-999.0000,9,   4.6740,     -999.0,9,     -999.0,9,     -999.0,9,     -999.0,9,         85,-999.000,-999.000,-999.000,     -999.0,9, -999.00,9, -999.00,9
33RO200306_02,       A16N,     085,          1,         13,         13,2,20030720,       2306,    23.4995,   -27.0328,       5502,  1798.2,   4.2803,  35.0685,2,  35.0724,2,    219.9,2,   220.5,2,   22.32,2,   21.63,2,    0.01,2,    1.46,2,-999.000,9,-999.000,9,-999.000,9,  -999.0,9,  -999.0,9,   -999.0,9,  -999.00,-999.0000,9,  -999.00,-999.000,9,-999.000,9,-999.000,9, -999.00,9,  -999.0,9,  -999.0,-999.000,9,-999.000,-999.000,9, -999.00,9, -999.00,9, 1798.20,-999.0000,9,-999.0000,9,-999.0000,9,-999.0000,9,-999.0000,9,-999.0000,9,   4.1283,     -999.0,9,     -999.0,9,     -999.0,9,     -999.0,9,         85,-999.000,-999.000,-999.000,     -999.0,9, -999.00,9, -999.00,9
33RO200306_02,       A16N,     085,          1,         12,         12,2,20030720,       2306,    23.4995,   -27.0328,       5502,  2000.2,   3.9389,  35.0424,2,  35.0447,2,    227.7,2,   226.8,2,   23.88,2,   21.36,2,    0.01,2,    1.45,2,-999.000,9,-999.000,9,-999.000,9,  -999.0,9,  -999.0,9,   -999.0,9,  -999.00,-999.0000,9,  -999.00,-999.000,9,-999.000,9,-999.000,9, -999.00,9,  -999.0,9,  -999.0,-999.000,9,-999.000,-999.000,9, -999.00,9, -999.00,9, 2000.20,-999.0000,9,-999.0000,9,-999.0000,9,-999.0000,9,-999.0000,9,-999.0000,9,   3.7720,     -999.0,9,     -999.0,9,     -999.0,9,     -999.0,9,         85,-999.000,-999.000,-999.000,     -999.0,9, -999.00,9, -999.00,9
33RO200306_02,       A16N,     085,          1,         11,         11,2,20030720,       2306,    23.4995,   -27.0328,       5502,  2198.9,   3.6182,  35.0160,2,  35.0185,2,    232.9,2,   231.8,2,   25.88,2,   21.17,2,    0.01,2,    1.44,2,-999.000,9,-999.000,9,-999.000,9,  -999.0,9,  -999.0,9,   -999.0,9,  -999.00,-999.0000,9,  -999.00,-999.000,9,-999.000,9,-999.000,9, -999.00,9,  -999.0,9,  -999.0,-999.000,9,-999.000,-999.000,9, -999.00,9, -999.00,9, 2198.90,-999.0000,9,-999.0000,9,-999.0000,9,-999.0000,9,-999.0000,9,-999.0000,9,   3.4369,     -999.0,9,     -999.0,9,     -999.0,9,     -999.0,9,         85,-999.000,-999.000,-999.000,     -999.0,9, -999.00,9, -999.00,9
33RO200306_02,       A16N,     085,          1,         10,         10,2,20030720,       2306,    23.4995,   -27.0328,       5502,  2498.9,   3.2530,  34.9873,2,  34.9909,2,    238.0,2,   236.4,2,   29.42,2,   21.06,2,    0.01,2,    1.45,2,-999.000,9,-999.000,9,-999.000,9,  -999.0,9,  -999.0,9,   -999.0,9,  -999.00,-999.0000,9,  -999.00,-999.000,9,-999.000,9,-999.000,9, -999.00,9,  -999.0,9,  -999.0,-999.000,9,-999.000,-999.000,9, -999.00,9, -999.00,9, 2498.90,-999.0000,9,-999.0000,9,-999.0000,9,-999.0000,9,-999.0000,9,-999.0000,9,   3.0483,     -999.0,9,     -999.0,9,     -999.0,9,     -999.0,9,         85,-999.000,-999.000,-999.000,     -999.0,9, -999.00,9, -999.00,9
33RO200306_02,       A16N,     085,          1,          9,          9,2,20030720,       2306,    23.4995,   -27.0328,       5502,  2798.4,   2.9266,  34.9573,2,  34.9594,2,    241.2,2,   239.3,2,   33.35,2,   21.14,2,    0.01,2,    1.47,2,-999.000,9,-999.000,9,-999.000,9,  -999.0,9,  -999.0,9,   -999.0,9,  -999.00,-999.0000,9,  -999.00,-999.000,9,-999.000,9,-999.000,9, -999.00,9,  -999.0,9,  -999.0,-999.000,9,-999.000,-999.000,9, -999.00,9, -999.00,9, 2798.40,-999.0000,9,-999.0000,9,-999.0000,9,-999.0000,9,-999.0000,9,-999.0000,9,   2.6981,     -999.0,9,     -999.0,9,     -999.0,9,     -999.0,9,         85,-999.000,-999.000,-999.000,     -999.0,9, -999.00,9, -999.00,9
33RO200306_02,       A16N,     085,          1,          8,          8,2,20030720,       2306,    23.4995,   -27.0328,       5502,  3200.1,   2.6449,  34.9301,2,  34.9321,2,    243.4,2,   242.7,2,   37.97,2,   21.47,2,    0.01,2,    1.49,2,-999.000,9,-999.000,9,-999.000,9,  -999.0,9,  -999.0,9,   -999.0,9,  -999.00,-999.0000,9,  -999.00,-999.000,9,-999.000,9,-999.000,9, -999.00,9,  -999.0,9,  -999.0,-999.000,9,-999.000,-999.000,9, -999.00,9, -999.00,9, 3200.10,-999.0000,9,-999.0000,9,-999.0000,9,-999.0000,9,-999.0000,9,-999.0000,9,   2.3810,     -999.0,9,     -999.0,9,     -999.0,9,     -999.0,9,         85,-999.000,-999.000,-999.000,     -999.0,9, -999.00,9, -999.00,9