BOTTLE,20230908CCHSIOCBG
EXPOCODE,SECT_ID,STNNBR,CASTNO,SAMPNO,BTLNBR,BTLNBR_FLAG_W,DATE,TIME,LATITUDE,LONGITUDE,DEPTH,CTDPRS,CTDTMP,CTDSAL,CTDSAL_FLAG_W,SALNTY,SALNTY_FLAG_W,CTDOXY,CTDOXY_FLAG_W,OXYGEN,OXYGEN_FLAG_W,SILCAT,SILCAT_FLAG_W,NITRAT,NITRAT_FLAG_W,NITRIT,NITRIT_FLAG_W,PHSPHT,PHSPHT_FLAG_W,CFC-11,CFC-11_FLAG_W,CFC-12,CFC-12_FLAG_W,CFC113,CFC113_FLAG_W,TCARBN,TCARBN_FLAG_W,ALKALI,ALKALI_FLAG_W,FCO2,FCO2_FLAG_W,FCO2TMP,PH_SWS,PH_SWS_FLAG_W,PH_TMP,TRITUM,TRITUM_FLAG_W,HELIUM,HELIUM_FLAG_W,DELHE3,DELHE3_FLAG_W,DELC13,DELC13_FLAG_W,DELC14,DELC14_FLAG_W,C14ERR,NEON,NEON_FLAG_W,NEONER,POC,POC_FLAG_W,DOC,DOC_FLAG_W,TDN,TDN_FLAG_W,CTDRAW,CDOM325,CDOM325_FLAG_W,CDOM340,CDOM340_FLAG_W,CDOM380,CDOM380_FLAG_W,CDOM412,CDOM412_FLAG_W,CDOMSL,CDOMSL_FLAG_W,CDOMSN,CDOMSN_FLAG_W,THETA,PON,PON_FLAG_W,HCFC-22,HCFC-22_FLAG_W,HCFC-142b,HCFC-142b_FLAG_W,HCFC-141b,HCFC-141b_FLAG_W,STNNBR_U,HELIER,DELHER,TRITER,CH3CL,CH3CL_FLAG_W,CH3BR,CH3BR_FLAG_W,CH3I,CH3I_FLAG_W
,,,,,,,,,,,METERS,DBAR,ITS-90,PSS-78,,PSS-78,,UMOL/KG,,UMOL/KG,,UMOL/KG,,UMOL/KG,,UMOL/KG,,UMOL/KG,,PMOL/KG,,PMOL/KG,,PMOL/KG,,UMOL/KG,,UMOL/KG,,UATM,,DEG C,,,DEG C,TU,,NMOL/KG,,PERCNT,,/MILLE,,/MILLE,,/MILLE,NMOL/KG,,NMOL/KG,UG/KG,,UMOL/KG,,UMOL/KG,,DBAR,1/M,,1/M,,1/M,,1/M,,1/NM,,1/NM,,DEG C,UMOL/L,,PMOL/KG,,PMOL/KG,,PMOL/KG,,,NMOL/KG,PERCNT,TU,PMOL/KG,,PMOL/KG,,PMOL/KG,
33RO200306_01,       A16N,     048,          2,         30,         30,2,20030701,       2102,    41.4960,   -20.0023,       2559,     3.0,  18.6866,  35.9054,2,  35.9075,2,    234.6,2,   238.6,2,    0.51,2,    0.06,2,    0.00,2,    0.03,2,-999.000,9,-999.000,9,-999.000,9,  2070.7,6,  2359.3,2,   -999.0,9,  -999.00,   7.9788,2,    25.00,-999.000,9,-999.000,9,-999.000,9, -999.00,9,  -999.0,9,  -999.0,-999.000,9,-999.000,-999.000,9, -999.00,9, -999.00,9,    3.00,-999.0000,9,-999.0000,9,-999.0000,9,-999.0000,9,-999.0000,9,-999.0000,9,  18.6861,     -999.0,9,     -999.0,9,     -999.0,9,     -999.0,9,         48,-999.000,-999.000,-999.000,     -999.0,9, -999.00,9, -999.00,9
33RO200306_01,       A16N,     048,          2,         29,         29,2,20030701,       2102,    41.4960,   -20.0023,       2559,     9.1,  18.4448,  35.8992,2,  35.9011,2,    235.6,2,   237.5,2,    0.50,2,    0.00,2,    0.00,2,    0.03,2,-999.000,9,-999.000,9,-999.000,9,  -999.0,9,  -999.0,9,   -999.0,9,  -999.00,-999.0000,9,  -999.00,-999.000,9,-999.000,9,-999.000,9, -999.00,9,  -999.0,9,  -999.0,-999.000,9,-999.000,-999.000,9, -999.00,9, -999.00,9,    9.10,-999.0000,9,-999.0000,9,-999.0000,9,-999.0000,9,-999.0000,9,-999.0000,9,  18.4432,     -999.0,9,     -999.0,9,     -999.0,9,     -999.0,9,         48,-999.000,-999.000,-999.000,     -999.0,9, -999.00,9, -999.00,9
33RO200306_01,       A16N,     048,          2,         28,         28,2,20030701,       2102,    41.4960,   -20.0023,       2559,    29.2,  18.3518,  35.8973,2,  35.8978,2,    235.9,2,   238.6,2,    0.50,2,    0.01,2,    0.00,2,    0.04,2,-999.000,9,-999.000,9,-999.000,9,  -999.0,9,  -999.0,9,   -999.0,9,  -999.00,-999.0000,9,  -999.00,-999.000,9,-999.000,9,-999.000,9, -999.00,9,  -999.0,9,  -999.0,-999.000,9,-999.000,-999.000,9, -999.00,9, -999.00,9,   29.20,-999.0000,9,-999.0000,9,-999.0000,9,-999.0000,9,-999.0000,9,-999.0000,9,  18.3467,     -999.0,9,     -999.0,9,     -999.0,9,     -999.0,9,         48,-999.000,-999.000,-999.000,     -999.0,9, -999.00,9, -999.00,9
33RO200306_01,       A16N,     048,          2,         27,         27,2,20030701,       2102,    41.4960,   -20.0023,       2559,    51.9,  14.6309,  35.8463,2,  35.8466,2,    258.1,2,   254.4,2,    1.02,2,    1.89,2,    0.36,2,    0.20,2,-999.000,9,-999.000,9,-999.000,9,  -999.0,9,  -999.0,9,   -999.0,9,  -999.00,-999.0000,9,  -999.00,-999.000,9,-999.000,9,-999.000,9, -999.00,9,  -999.0,9,  -999.0,-999.000,9,-999.000,-999.000,9, -999.00,9, -999.00,9,   51.90,-999.0000,9,-999.0000,9,-999.0000,9,-999.0000,9,-999.0000,9,-999.0000,9,  14.6232,     -999.0,9,     -999.0,9,     -999.0,9,     -999.0,9,         48,-999.000,-999.000,-999.000,     -999.0,9, -999.00,9, -999.00,9
33RO200306_01,       A16N,     048,          2,         26,         26,2,20030701,       2102,    41.4960,   -20.0023,       2559,    69.3,  13.9575,  35.8439,2,  35.8449,2,    248.7,2,   244.6,2,    1.78,2,    3.90,2,    0.59,2,    0.30,2,-999.000,9,-999.000,9,-999.000,9,  -999.0,9,  -999.0,9,   -999.0,9,  -999.00,-999.0000,9,  -999.00,-999.000,9,-999.000,9,-999.000,9, -999.00,9,  -999.0,9,  -999.0,-999.000,9,-999.000,-999.000,9, -999.00,9, -999.00,9,   69.30,-999.0000,9,-999.0000,9,-999.0000,9,-999.0000,9,-999.0000,9,-999.0000,9,  13.9475,     -999.0,9,     -999.0,9,     -999.0,9,     -999.0,9,         48,-999.000,-999.000,-999.000,     -999.0,9, -999.00,9, -999.00,9
33RO200306_01,       A16N,     048,          2,         25,         25,2,20030701,       2102,    41.4960,   -20.0023,       2559,    90.0,  13.6551,  35.8382,2,  35.8391,2,    240.0,2,   240.1,2,    2.03,2,    5.53,2,    0.03,2,    0.35,2,-999.000,9,-999.000,9,-999.000,9,  -999.0,9,  -999.0,9,   -999.0,9,  -999.00,-999.0000,9,  -999.00,-999.000,9,-999.000,9,-999.000,9, -999.00,9,  -999.0,9,  -999.0,-999.000,9,-999.000,-999.000,9, -999.00,9, -999.00,9,   90.00,-999.0000,9,-999.0000,9,-999.0000,9,-999.0000,9,-999.0000,9,-999.0000,9,  13.6423,     -999.0,9,     -999.0,9,     -999.0,9,     -999.0,9,         48,-999.000,-999.000,-999.000,     -999.0,9, -999.00,9, -999.00,9
33RO200306_01,       A16N,     048,          2,         24,         24,2,20030701,       2102,    41.4960,   -20.0023,       2559,   110.3,  13.5369,  35.8308,2,  35.8315,2,    238.4,2,   239.1,2,    2.03,2,    5.81,2,    0.02,2,    0.36,2,-999.000,9,-999.000,9,-999.000,9,  -999.0,9,  -999.0,9,   -999.0,9,  -999.00,-999.0000,9,  -999.00,-999.000,9,-999.000,9,-999.000,9, -999.00,9,  -999.0,9,  -999.0,-999.000,9,-999.000,-999.000,9, -999.00,9, -999.00,9,  110.30,-999.0000,9,-999.0000,9,-999.0000,9,-999.0000,9,-999.0000,9,-999.0000,9,  13.5212,     -999.0,9,     -999.0,9,     -999.0,9,     -999.0,9,         48,-999.000,-999.000,-999.000,     -999.0,9, -999.00,9, -999.00,9
33RO200306_01,       A16N,     048,          2,         23,         23,2,20030701,       2102,    41.4960,   -20.0023,       2559,   133.9,  13.3823,  35.8229,2,  35.8218,2,    237.4,2,   239.1,2,    2.20,2,    6.43,2,    0.01,2,    0.40,2,-999.000,9,-999.000,9,-999.000,9,  -999.0,9,  -999.0,9,   -999.0,9,  -999.00,-999.0000,9,  -999.00,-999.000,9,-999.000,9,-999.000,9, -999.00,9,  -999.0,9,  -999.0,-999.000,9,-999.000,-999.000,9, -999.00,9, -999.00,9,  133.90,-999.0000,9,-999.0000,9,-999.0000,9,-999.0000,9,-999.0000,9,-999.0000,9,  13.3634,     -999.0,9,     -999.0,9,     -999.0,9,     -999.0,9,         48,-999.000,-999.000,-999.000,     -999.0,9, -999.00,9, -999.00,9
33RO200306_01,       A16N,     048,          2,         22,         22,2,20030701,       2102,    41.4960,   -20.0023,       2559,   159.8,  13.1614,  35.7910,2,  35.7912,2,    236.7,2,   238.6,2,    2.35,2,    6.88,2,    0.01,2,    0.43,2,-999.000,9,-999.000,9,-999.000,9,  -999.0,9,  -999.0,9,   -999.0,9,  -999.00,-999.0000,9,  -999.00,-999.000,9,-999.000,9,-999.000,9, -999.00,9,  -999.0,9,  -999.0,-999.000,9,-999.000,-999.000,9, -999.00,9, -999.00,9,  159.80,-999.0000,9,-999.0000,9,-999.0000,9,-999.0000,9,-999.0000,9,-999.0000,9,  13.1391,     -999.0,9,     -999.0,9,     -999.0,9,     -999.0,9,         48,-999.000,-999.000,-999.000,     -999.0,9, -999.00,9, -999.00,9
33RO200306_01,       A16N,     048,          2,         21,         21,2,20030701,       2102,    41.4960,   -20.0023,       2559,   184.6,  13.0406,  35.7745,2,  35.7751,2,    237.1,2,   239.3,2,    2.42,2,    7.13,2,    0.01,2,    0.44,2,-999.000,9,-999.000,9,-999.000,9,  -999.0,9,  -999.0,9,   -999.0,9,  -999.00,-999.0000,9,  -999.00,-999.000,9,-999.000,9,-999.000,9, -999.00,9,  -999.0,9,  -999.0,-999.000,9,-999.000,-999.000,9, -999.00,9, -999.00,9,  184.60,-999.0000,9,-999.0000,9,-999.0000,9,-999.0000,9,-999.0000,9,-999.0000,9,  13.0150,     -999.0,9,     -999.0,9,     -999.0,9,     -999.0,9,         48,-999.000,-999.000,-999.000,     -999.0,9, -999.00,9, -999.00,9
33RO200306_01,       A16N,     048,          2,         20,         20,2,20030701,       2102,    41.4960,   -20.0023,       2559,   225.2,  12.8677,  35.7558,2,  35.7524,2,    237.4,2,   237.0,2,    2.71,2,    7.93,2,    0.01,2,    0.48,2,-999.000,9,-999.000,9,-999.000,9,  -999.0,9,  -999.0,9,   -999.0,9,  -999.00,-999.0000,9,  -999.00,-999.000,9,-999.000,9,-999.000,9, -999.00,9,  -999.0,9,  -999.0,-999.000,9,-999.000,-999.000,9, -999.00,9, -999.00,9,  225.20,-999.0000,9,-999.0000,9,-999.0000,9,-999.0000,9,-999.0000,9,-999.0000,9,  12.8367,     -999.0,9,     -999.0,9,     -999.0,9,     -999.0,9,         48,-999.000,-999.000,-999.000,     -999.0,9, -999.00,9, -999.00,9
33RO200306_01,       A16N,     048,          2,         19,         19,2,20030701,       2102,    41.4960,   -20.0023,       2559,   273.6,  12.6106,  35.7180,2,  35.7207,2,    230.9,2,   231.4,2,    3.19,2,    9.11,2,    0.01,2,    0.55,2,-999.000,9,-999.000,9,-999.000,9,  -999.0,9,  -999.0,9,   -999.0,9,  -999.00,-999.0000,9,  -999.00,-999.000,9,-999.000,9,-999.000,9, -999.00,9,  -999.0,9,  -999.0,-999.000,9,-999.000,-999.000,9, -999.00,9, -999.00,9,  273.60,-999.0000,9,-999.0000,9,-999.0000,9,-999.0000,9,-999.0000,9,-999.0000,9,  12.5733,     -999.0,9,     -999.0,9,     -999.0,9,     -999.0,9,         48,-999.000,-999.000,-999.000,     -999.0,9, -999.00,9, -999.00,9
33RO200306_01,       A16N,     048,          2,         18,         18,2,20030701,       2102,    41.4960,   -20.0023,       2559,   325.1,  12.2406,  35.6540,2,  35.6547,2,    221.8,2,   221.7,2,    3.92,2,   10.80,2,    0.01,2,    0.65,2,-999.000,9,-999.000,9,-999.000,9,  -999.0,9,  -999.0,9,   -999.0,9,  -999.00,-999.0000,9,  -999.00,-999.000,9,-999.000,9,-999.000,9, -999.00,9,  -999.0,9,  -999.0,-999.000,9,-999.000,-999.000,9, -999.00,9, -999.00,9,  325.10,-999.0000,9,-999.0000,9,-999.0000,9,-999.0000,9,-999.0000,9,-999.0000,9,  12.1971,     -999.0,9,     -999.0,9,     -999.0,9,     -999.0,9,         48,-999.000,-999.000,-999.000,     -999.0,9, -999.00,9, -999.00,9
33RO200306_01,       A16N,     048,          2,         17,         17,2,20030701,       2102,    41.4960,   -20.0023,       2559,   375.6,  11.8560,  35.5978,2,  35.6014,2,    216.9,2,   216.6,2,    4.36,2,   11.87,2,    0.01,2,    0.72,2,-999.000,9,-999.000,9,-999.000,9,  -999.0,9,  -999.0,9,   -999.0,9,  -999.00,-999.0000,9,  -999.00,-999.000,9,-999.000,9,-999.000,9, -999.00,9,  -999.0,9,  -999.0,-999.000,9,-999.000,-999.000,9, -999.00,9, -999.00,9,  375.60,-999.0000,9,-999.0000,9,-999.0000,9,-999.0000,9,-999.0000,9,-999.0000,9,  11.8067,     -999.0,9,     -999.0,9,     -999.0,9,     -999.0,9,         48,-999.000,-999.000,-999.000,     -999.0,9, -999.00,9, -999.00,9
33RO200306_01,       A16N,     048,          2,         16,         16,2,20030701,       2102,    41.4960,   -20.0023,       2559,   424.4,  11.5686,  35.5643,2,  35.5646,2,    212.7,2,   211.7,2,    4.78,2,   12.83,2,    0.01,2,    0.77,2,-999.000,9,-999.000,9,-999.000,9,  -999.0,9,  -999.0,9,   -999.0,9,  -999.00,-999.0000,9,  -999.00,-999.000,9,-999.000,9,-999.000,9, -999.00,9,  -999.0,9,  -999.0,-999.000,9,-999.000,-999.000,9, -999.00,9, -999.00,9,  424.40,-999.0000,9,-999.0000,9,-999.0000,9,-999.0000,9,-999.0000,9,-999.0000,9,  11.5137,     -999.0,9,     -999.0,9,     -999.0,9,     -999.0,9,         48,-999.000,-999.000,-999.000,     -999.0,9, -999.00,9, -999.00,9
33RO200306_01,       A16N,     048,          2,         15,         15,2,20030701,       2102,    41.4960,   -20.0023,       2559,   474.3,  11.2745,  35.5370,2,  35.5352,2,    208.2,2,   205.8,2,    5.38,2,   13.91,2,    0.01,2,    0.83,2,-999.000,9,-999.000,9,-999.000,9,  -999.0,9,  -999.0,9,   -999.0,9,  -999.00,-999.0000,9,  -999.00,-999.000,9,-999.000,9,-999.000,9, -999.00,9,  -999.0,9,  -999.0,-999.000,9,-999.000,-999.000,9, -999.00,9, -999.00,9,  474.30,-999.0000,9,-999.0000,9,-999.0000,9,-999.0000,9,-999.0000,9,-999.0000,9,  11.2140,     -999.0,9,     -999.0,9,     -999.0,9,     -999.0,9,         48,-999.000,-999.000,-999.000,     -999.0,9, -999.00,9, -999.00,9
33RO200306_01,       A16N,     048,          2,         14,         14,2,20030701,       2102,    41.4960,   -20.0023,       2559,   550.6,  10.8152,  35.5064,2,  35.5064,2,    200.5,2,   197.0,2,    6.51,2,   15.39,2,    0.01,2,    0.93,2,-999.000,9,-999.000,9,-999.000,9,  -999.0,9,  -999.0,9,   -999.0,9,  -999.00,-999.0000,9,  -999.00,-999.000,9,-999.000,9,-999.000,9, -999.00,9,  -999.0,9,  -999.0,-999.000,9,-999.000,-999.000,9, -999.00,9, -999.00,9,  550.60,-999.0000,9,-999.0000,9,-999.0000,9,-999.0000,9,-999.0000,9,-999.0000,9,  10.7465,     -999.0,9,     -999.0,9,     -999.0,9,     -999.0,9,         48,-999.000,-999.000,-999.000,     -999.0,9, -999.00,9, -999.00,9
33RO200306_01,       A16N,     048,          2,         13,         13,2,20030701,       2102,    41.4960,   -20.0023,       2559,   649.4,  10.3267,  35.5159,2,  35.5151,2,    188.4,2,   188.0,2,    8.00,2,   16.84,2,    0.00,2,    1.02,2,-999.000,9,-999.000,9,-999.000,9,  -999.0,9,  -999.0,9,   -999.0,9,  -999.00,-999.0000,9,  -999.00,-999.000,9,-999.000,9,-999.000,9, -999.00,9,  -999.0,9,  -999.0,-999.000,9,-999.000,-999.000,9, -999.00,9, -999.00,9,  649.40,-999.0000,9,-999.0000,9,-999.0000,9,-999.0000,9,-999.0000,9,-999.0000,9,  10.2476,     -999.0,9,     -999.0,9,     -999.0,9,     -999.0,9,         48,-999.000,-999.000,-999.000,     -999.0,9, -999.00,9, -999.00,9
33RO200306_01,       A16N,     048,          2,         12,         12,2,20030701,       2102,    41.4960,   -20.0023,       2559,   746.2,  10.0863,  35.5992,2,  35.5990,2,    183.5,2,   183.2,2,    8.91,2,   17.34,2,    0.00,2,    1.06,2,-999.000,9,-999.000,9,-999.000,9,  -999.0,9,  -999.0,9,   -999.0,9,  -999.00,-999.0000,9,  -999.00,-999.000,9,-999.000,9,-999.000,9, -999.00,9,  -999.0,9,  -999.0,-999.000,9,-999.000,-999.000,9, -999.00,9, -999.00,9,  746.20,-999.0000,9,-999.0000,9,-999.0000,9,-999.0000,9,-999.0000,9,-999.0000,9,   9.9962,     -999.0,9,     -999.0,9,     -999.0,9,     -999.0,9,         48,-999.000,-999.000,-999.000,     -999.0,9, -999.00,9, -999.00,9
33RO200306_01,       A16N,     048,          2,         11,         11,2,20030701,       2102,    41.4960,   -20.0023,       2559,   849.5,   9.6450,  35.6289,2,  35.6277,2,    183.7,2,   184.2,2,    9.60,2,   17.64,2,    0.00,2,    1.08,2,-999.000,9,-999.000,9,-999.000,9,  -999.0,9,  -999.0,9,   -999.0,9,  -999.00,-999.0000,9,  -999.00,-999.000,9,-999.000,9,-999.000,9, -999.00,9,  -999.0,9,  -999.0,-999.000,9,-999.000,-999.000,9, -999.00,9, -999.00,9,  849.50,-999.0000,9,-999.0000,9,-999.0000,9,-999.0000,9,-999.0000,9,-999.0000,9,   9.5446,     -999.0,9,     -999.0,9,     -999.0,9,     -999.0,9,         48,-999.000,-999.000,-999.000,     -999.0,9, -999.00,9, -999.00,9
33RO200306_01,       A16N,     048,          2,         10,         10,2,20030701,       2102,    41.4960,   -20.0023,       2559,   949.8,   9.5785,  35.7435,2,  35.7434,2,    185.2,2,   185.6,2,    9.90,2,   17.42,2,    0.00,2,    1.06,2,-999.000,9,-999.000,9,-999.000,9,  -999.0,9,  -999.0,9,   -999.0,9,  -999.00,-999.0000,9,  -999.00,-999.000,9,-999.000,9,-999.000,9, -999.00,9,  -999.0,9,  -999.0,-999.000,9,-999.000,-999.000,9, -999.00,9, -999.00,9,  949.80,-999.0000,9,-999.0000,9,-999.0000,9,-999.0000,9,-999.0000,9,-999.0000,9,   9.4659,     -999.0,9,     -999.0,9,     -999.0,9,     -999.0,9,         48,-999.000,-999.000,-999.000,     -999.0,9, -999.00,9, -999.00,9
33RO200306_01,       A16N,     048,          2,          9,          9,2,20030701,       2102,    41.4960,   -20.0023,       2559,  1049.2,   9.4031,  35.7997,2,  35.8000,2,    189.0,2,   189.3,2,   10.11,2,   17.21,2,    0.00,2,    1.05,2,-999.000,9,-999.000,9,-999.000,9,  -999.0,9,  -999.0,9,   -999.0,9,  -999.00,-999.0000,9,  -999.00,-999.000,9,-999.000,9,-999.000,9, -999.00,9,  -999.0,9,  -999.0,-999.000,9,-999.000,-999.000,9, -999.00,9, -999.00,9, 1049.20,-999.0000,9,-999.0000,9,-999.0000,9,-999.0000,9,-999.0000,9,-999.0000,9,   9.2794,     -999.0,9,     -999.0,9,     -999.0,9,     -999.0,9,         48,-999.000,-999.000,-999.000,     -999.0,9, -999.00,9, -999.00,9
33RO200306_01,       A16N,     048,          2,          8,          8,2,20030701,       2102,    41.4960,   -20.0023,       2559,  1149.7,   8.7341,  35.7272,2,  35.7297,2,    195.3,2,   196.5,2,   10.56,2,   17.30,2,    0.00,2,    1.06,2,   1.461,2,   0.758,2,   0.040,2,  -999.0,9,  -999.0,9,   -999.0,9,  -999.00,-999.0000,9,  -999.00,-999.000,9,-999.000,9,-999.000,9, -999.00,9,  -999.0,9,  -999.0,-999.000,9,-999.000,-999.000,9, -999.00,9, -999.00,9, 1149.70,-999.0000,9,-999.0000,9,-999.0000,9,-999.0000,9,-999.0000,9,-999.0000,9,   8.6034,     -999.0,9,     -999.0,9,     -999.0,9,     -999.0,9,         48,-999.000,-999.000,-999.000,     -999.0,9, -999.00,9, -999.00,9
33RO200306_01,       A16N,     048,          2,          7,          7,2,20030701,       2102,    41.4960,   -20.0023,       2559,  1249.9,   7.7024,  35.5630,2,  35.5667,2,    207.3,2,   208.0,2,   11.05,2,   17.61,2,    0.00,2,    1.09,2,-999.000,9,-999.000,9,-999.000,9,  -999.0,9,  -999.0,9,   -999.0,9,  -999.00,-999.0000,9,  -999.00,-999.000,9,-999.000,9,-999.000,9, -999.00,9,  -999.0,9,  -999.0,-999.000,9,-999.000,-999.000,9, -999.00,9, -999.00,9, 1249.90,-999.0000,9,-999.0000,9,-999.0000,9,-999.0000,9,-999.0000,9,-999.0000,9,   7.5691,     -999.0,9,     -999.0,9,     -999.0,9,     -999.0,9,         48,-999.000,-999.000,-999.000,     -999.0,9, -999.00,9, -999.00,9
33RO200306_01,       A16N,     048,          2,          6,          6,2,20030701,       2102,    41.4960,   -20.0023,       2559,  1323.9,   7.0870,  35.4635,2,  35.4671,2,    215.6,2,   216.0,2,   12.08,2,   17.90,2,    0.00,2,    1.14,2,   1.721,2,   0.791,2,   0.052,2,  -999.0,9,  -999.0,9,   -999.0,9,  -999.00,-999.0000,9,  -999.00,-999.000,9,-999.000,9,-999.000,9, -999.00,9,  -999.0,9,  -999.0,-999.000,9,-999.000,-999.000,9, -999.00,9, -999.00,9, 1323.90,-999.0000,9,-999.0000,9,-999.0000,9,-999.0000,9,-999.0000,9,-999.0000,9,   6.9513,     -999.0,9,     -999.0,9,     -999.0,9,     -999.0,9,         48,-999.000,-999.000,-999.000,     -999.0,9, -999.00,9, -999.00,9
33RO200306_01,       A16N,     048,          2,          5,          5,2,20030701,       2102,    41.4960,   -20.0023,       2559,  1585.1,   4.6213,  35.0798,2,  35.0858,3,    248.8,2,   250.8,2,   12.08,2,   17.90,2,    0.00,2,    1.14,2,   1.876,2,   0.932,2,   0.085,2,  -999.0,9,  -999.0,9,   -999.0,9,  -999.00,-999.0000,9,  -999.00,-999.000,9,-999.000,9,-999.000,9, -999.00,9,  -999.0,9,  -999.0,-999.000,9,-999.000,-999.000,9, -999.00,9, -999.00,9, 1585.10,-999.0000,9,-999.0000,9,-999.0000,9,-999.0000,9,-999.0000,9,-999.0000,9,   4.4856,     -999.0,9,     -999.0,9,     -999.0,9,     -999.0,9,         48,-999.000,-999.000,-999.000,     -999.0,9, -999.00,9, -999.00,9
33RO200306_01,       A16N,     048,          2,          4,          4,2,20030701,       2102,    41.4960,   -20.0023,       2559,  1799.8,   3.8789,  34.9808,2,  34.9818,2,    261.4,2,   263.7,2,   12.75,6,   17.74,6,    0.00,6,    1.14,6,-999.000,9,-999.000,9,-999.000,9,  -999.0,9,  -999.0,9,   -999.0,9,  -999.00,-999.0000,9,  -999.00,-999.000,9,-999.000,9,-999.000,9, -999.00,9,  -999.0,9,  -999.0,-999.000,9,-999.000,-999.000,9, -999.00,9, -999.00,9, 1799.80,-999.0000,9,-999.0000,9,-999.0000,9,-999.0000,9,-999.0000,9,-999.0000,9,   3.7323,     -999.0,9,     -999.0,9,     -999.0,9,     -999.0,9,         48,-999.000,-999.000,-999.000,     -999.0,9, -999.00,9, -999.00,9