BOTTLE,20230908CCHSIOCBG
EXPOCODE,SECT_ID,STNNBR,CASTNO,SAMPNO,BTLNBR,BTLNBR_FLAG_W,DATE,TIME,LATITUDE,LONGITUDE,DEPTH,CTDPRS,CTDTMP,CTDSAL,CTDSAL_FLAG_W,SALNTY,SALNTY_FLAG_W,CTDOXY,CTDOXY_FLAG_W,OXYGEN,OXYGEN_FLAG_W,SILCAT,SILCAT_FLAG_W,NITRAT,NITRAT_FLAG_W,NITRIT,NITRIT_FLAG_W,PHSPHT,PHSPHT_FLAG_W,CFC-11,CFC-11_FLAG_W,CFC-12,CFC-12_FLAG_W,CFC113,CFC113_FLAG_W,TCARBN,TCARBN_FLAG_W,ALKALI,ALKALI_FLAG_W,FCO2,FCO2_FLAG_W,FCO2TMP,PH_SWS,PH_SWS_FLAG_W,PH_TMP,TRITUM,TRITUM_FLAG_W,HELIUM,HELIUM_FLAG_W,DELHE3,DELHE3_FLAG_W,DELC13,DELC13_FLAG_W,DELC14,DELC14_FLAG_W,C14ERR,NEON,NEON_FLAG_W,NEONER,POC,POC_FLAG_W,DOC,DOC_FLAG_W,TDN,TDN_FLAG_W,CTDRAW,CDOM325,CDOM325_FLAG_W,CDOM340,CDOM340_FLAG_W,CDOM380,CDOM380_FLAG_W,CDOM412,CDOM412_FLAG_W,CDOMSL,CDOMSL_FLAG_W,CDOMSN,CDOMSN_FLAG_W,THETA,PON,PON_FLAG_W,HCFC-22,HCFC-22_FLAG_W,HCFC-142b,HCFC-142b_FLAG_W,HCFC-141b,HCFC-141b_FLAG_W,STNNBR_U,HELIER,DELHER,TRITER,CH3CL,CH3CL_FLAG_W,CH3BR,CH3BR_FLAG_W,CH3I,CH3I_FLAG_W
,,,,,,,,,,,METERS,DBAR,ITS-90,PSS-78,,PSS-78,,UMOL/KG,,UMOL/KG,,UMOL/KG,,UMOL/KG,,UMOL/KG,,UMOL/KG,,PMOL/KG,,PMOL/KG,,PMOL/KG,,UMOL/KG,,UMOL/KG,,UATM,,DEG C,,,DEG C,TU,,NMOL/KG,,PERCNT,,/MILLE,,/MILLE,,/MILLE,NMOL/KG,,NMOL/KG,UG/KG,,UMOL/KG,,UMOL/KG,,DBAR,1/M,,1/M,,1/M,,1/M,,1/NM,,1/NM,,DEG C,UMOL/L,,PMOL/KG,,PMOL/KG,,PMOL/KG,,,NMOL/KG,PERCNT,TU,PMOL/KG,,PMOL/KG,,PMOL/KG,
33RO200306_01,       A16N,     004,          1,         26,         26,2,20030620,       0942,    62.7485,   -20.0003,       1412,     1.7,  10.6493,  35.2567,2,  35.2576,2,    287.2,2,   281.9,2,    0.65,2,    5.68,2,    0.10,2,    0.35,2,-999.000,9,-999.000,9,-999.000,9,  2090.1,2,  2330.5,2,   -999.0,9,  -999.00,   7.9109,2,    25.00,-999.000,9,-999.000,9,-999.000,9,    1.36,2,    70.3,2,     3.4,-999.000,9,-999.000,-999.000,9, -999.00,9, -999.00,9,    1.70,-999.0000,9,-999.0000,9,-999.0000,9,-999.0000,9,-999.0000,9,-999.0000,9,  10.6491,     -999.0,9,     -999.0,9,     -999.0,9,     -999.0,9,          4,-999.000,-999.000,-999.000,     -999.0,9, -999.00,9, -999.00,9
33RO200306_01,       A16N,     004,          1,         25,         25,2,20030620,       0942,    62.7485,   -20.0003,       1412,     9.5,  10.6236,  35.2573,2,  35.2576,2,    286.8,2,   285.4,2,    0.65,2,    5.68,2,    0.10,2,    0.34,2,-999.000,9,-999.000,9,-999.000,9,  -999.0,9,  -999.0,9,   -999.0,9,  -999.00,-999.0000,9,  -999.00,-999.000,9,-999.000,9,-999.000,9, -999.00,9,  -999.0,9,  -999.0,-999.000,9,-999.000,-999.000,9, -999.00,9, -999.00,9,    9.50,-999.0000,9,-999.0000,9,-999.0000,9,-999.0000,9,-999.0000,9,-999.0000,9,  10.6225,     -999.0,9,     -999.0,9,     -999.0,9,     -999.0,9,          4,-999.000,-999.000,-999.000,     -999.0,9, -999.00,9, -999.00,9
33RO200306_01,       A16N,     004,          1,         24,         24,2,20030620,       0942,    62.7485,   -20.0003,       1412,    29.5,  10.4041,  35.2600,2,  35.2618,2,    283.9,2,  -999.0,1,    0.71,2,    6.18,2,    0.11,2,    0.39,2,-999.000,9,-999.000,9,-999.000,9,  -999.0,9,  -999.0,9,   -999.0,9,  -999.00,-999.0000,9,  -999.00,-999.000,9,-999.000,9,-999.000,9, -999.00,9,  -999.0,9,  -999.0,-999.000,9,-999.000,  18.147,2, -999.00,9, -999.00,9,   29.50,-999.0000,9,-999.0000,9,-999.0000,9,-999.0000,9,-999.0000,9,-999.0000,9,  10.4006,      1.023,2,     -999.0,9,     -999.0,9,     -999.0,9,          4,-999.000,-999.000,-999.000,     -999.0,9, -999.00,9, -999.00,9
33RO200306_01,       A16N,     004,          1,         23,         23,2,20030620,       0942,    62.7485,   -20.0003,       1412,    49.9,   9.9949,  35.2678,2,  35.2695,2,    274.9,2,   275.7,2,    1.45,2,    7.52,2,    0.18,2,    0.49,2,-999.000,9,-999.000,9,-999.000,9,  -999.0,9,  -999.0,9,   -999.0,9,  -999.00,-999.0000,9,  -999.00,-999.000,9,-999.000,9,-999.000,9, -999.00,9,  -999.0,9,  -999.0,-999.000,9,-999.000,   7.834,2, -999.00,9, -999.00,9,   49.90,-999.0000,9,-999.0000,9,-999.0000,9,-999.0000,9,-999.0000,9,-999.0000,9,   9.9891,      0.598,2,     -999.0,9,     -999.0,9,     -999.0,9,          4,-999.000,-999.000,-999.000,     -999.0,9, -999.00,9, -999.00,9
33RO200306_01,       A16N,     004,          1,         22,         22,2,20030620,       0942,    62.7485,   -20.0003,       1412,    70.2,   9.0310,  35.2657,2,  35.2656,2,    272.7,2,   276.7,2,    3.38,2,   10.15,2,    0.26,2,    0.66,2,-999.000,9,-999.000,9,-999.000,9,  -999.0,9,  -999.0,9,   -999.0,9,  -999.00,-999.0000,9,  -999.00,-999.000,9,-999.000,9,-999.000,9, -999.00,9,  -999.0,9,  -999.0,-999.000,9,-999.000,-999.000,9, -999.00,9, -999.00,9,   70.20,-999.0000,9,-999.0000,9,-999.0000,9,-999.0000,9,-999.0000,9,-999.0000,9,   9.0234,     -999.0,9,     -999.0,9,     -999.0,9,     -999.0,9,          4,-999.000,-999.000,-999.000,     -999.0,9, -999.00,9, -999.00,9
33RO200306_01,       A16N,     004,          1,         21,         21,2,20030620,       0942,    62.7485,   -20.0003,       1412,    90.2,   8.6673,  35.2574,2,  35.2557,2,    270.2,2,   266.1,2,    5.21,2,   12.37,2,    0.20,2,    0.76,2,-999.000,9,-999.000,9,-999.000,9,  -999.0,9,  -999.0,9,   -999.0,9,  -999.00,-999.0000,9,  -999.00,-999.000,9,-999.000,9,-999.000,9, -999.00,9,  -999.0,9,  -999.0,-999.000,9,-999.000,-999.000,9, -999.00,9, -999.00,9,   90.20,-999.0000,9,-999.0000,9,-999.0000,9,-999.0000,9,-999.0000,9,-999.0000,9,   8.6577,     -999.0,9,     -999.0,9,     -999.0,9,     -999.0,9,          4,-999.000,-999.000,-999.000,     -999.0,9, -999.00,9, -999.00,9
33RO200306_01,       A16N,     004,          1,         20,         20,2,20030620,       0942,    62.7485,   -20.0003,       1412,   110.8,   8.6049,  35.2545,2,  35.2546,2,    270.3,2,   268.1,2,    5.39,2,   12.62,2,    0.22,2,    0.76,2,-999.000,9,-999.000,9,-999.000,9,  -999.0,9,  -999.0,9,   -999.0,9,  -999.00,-999.0000,9,  -999.00,-999.000,9,-999.000,9,-999.000,9, -999.00,9,  -999.0,9,  -999.0,-999.000,9,-999.000,   5.363,2, -999.00,9, -999.00,9,  110.80,-999.0000,9,-999.0000,9,-999.0000,9,-999.0000,9,-999.0000,9,-999.0000,9,   8.5932,      0.245,2,     -999.0,9,     -999.0,9,     -999.0,9,          4,-999.000,-999.000,-999.000,     -999.0,9, -999.00,9, -999.00,9
33RO200306_01,       A16N,     004,          1,         19,         19,2,20030620,       0942,    62.7485,   -20.0003,       1412,   134.7,   8.4894,  35.2406,2,  35.2404,2,    269.5,2,   263.4,2,    6.13,2,   13.37,2,    0.06,2,    0.80,2,-999.000,9,-999.000,9,-999.000,9,  -999.0,9,  -999.0,9,   -999.0,9,  -999.00,-999.0000,9,  -999.00,-999.000,9,-999.000,9,-999.000,9, -999.00,9,  -999.0,9,  -999.0,-999.000,9,-999.000,-999.000,9, -999.00,9, -999.00,9,  134.70,-999.0000,9,-999.0000,9,-999.0000,9,-999.0000,9,-999.0000,9,-999.0000,9,   8.4753,     -999.0,9,     -999.0,9,     -999.0,9,     -999.0,9,          4,-999.000,-999.000,-999.000,     -999.0,9, -999.00,9, -999.00,9
33RO200306_01,       A16N,     004,          1,         18,         18,2,20030620,       0942,    62.7485,   -20.0003,       1412,   159.9,   8.4696,  35.2458,2,  35.2455,2,    264.3,2,   266.6,2,    6.07,2,   13.35,2,    0.02,2,    0.79,2,-999.000,9,-999.000,9,-999.000,9,  -999.0,9,  -999.0,9,   -999.0,9,  -999.00,-999.0000,9,  -999.00,-999.000,9,-999.000,9,-999.000,9, -999.00,9,  -999.0,9,  -999.0,-999.000,9,-999.000,-999.000,9, -999.00,9, -999.00,9,  159.90,-999.0000,9,-999.0000,9,-999.0000,9,-999.0000,9,-999.0000,9,-999.0000,9,   8.4528,     -999.0,9,     -999.0,9,     -999.0,9,     -999.0,9,          4,-999.000,-999.000,-999.000,     -999.0,9, -999.00,9, -999.00,9
33RO200306_01,       A16N,     004,          1,         17,         17,2,20030620,       0942,    62.7485,   -20.0003,       1412,   184.1,   8.3499,  35.2288,2,  35.2285,2,    269.1,2,   267.9,2,    6.54,2,   13.82,2,    0.01,2,    0.83,2,-999.000,9,-999.000,9,-999.000,9,  -999.0,9,  -999.0,9,   -999.0,9,  -999.00,-999.0000,9,  -999.00,-999.000,9,-999.000,9,-999.000,9, -999.00,9,  -999.0,9,  -999.0,-999.000,9,-999.000,-999.000,9, -999.00,9, -999.00,9,  184.10,-999.0000,9,-999.0000,9,-999.0000,9,-999.0000,9,-999.0000,9,-999.0000,9,   8.3307,     -999.0,9,     -999.0,9,     -999.0,9,     -999.0,9,          4,-999.000,-999.000,-999.000,     -999.0,9, -999.00,9, -999.00,9
33RO200306_01,       A16N,     004,          1,         16,         16,2,20030620,       0942,    62.7485,   -20.0003,       1412,   224.8,   8.4158,  35.2549,2,  35.2564,2,    267.6,2,   278.2,2,    5.91,2,   13.12,2,    0.02,2,    0.78,2,-999.000,9,-999.000,9,-999.000,9,  -999.0,9,  -999.0,9,   -999.0,9,  -999.00,-999.0000,9,  -999.00,-999.000,9,-999.000,9,-999.000,9, -999.00,9,  -999.0,9,  -999.0,-999.000,9,-999.000,-999.000,9, -999.00,9, -999.00,9,  224.80,-999.0000,9,-999.0000,9,-999.0000,9,-999.0000,9,-999.0000,9,-999.0000,9,   8.3922,     -999.0,9,     -999.0,9,     -999.0,9,     -999.0,9,          4,-999.000,-999.000,-999.000,     -999.0,9, -999.00,9, -999.00,9
33RO200306_01,       A16N,     004,          1,         15,         15,2,20030620,       0942,    62.7485,   -20.0003,       1412,   275.9,   8.3602,  35.2538,2,-999.0000,1,    275.8,2,   280.7,2,    5.92,2,   13.20,2,    0.01,2,    0.79,2,-999.000,9,-999.000,9,-999.000,9,  -999.0,9,  -999.0,9,   -999.0,9,  -999.00,-999.0000,9,  -999.00,-999.000,9,-999.000,9,-999.000,9, -999.00,9,  -999.0,9,  -999.0,-999.000,9,-999.000,   5.743,2, -999.00,9, -999.00,9,  275.90,-999.0000,9,-999.0000,9,-999.0000,9,-999.0000,9,-999.0000,9,-999.0000,9,   8.3313,      0.246,2,     -999.0,9,     -999.0,9,     -999.0,9,          4,-999.000,-999.000,-999.000,     -999.0,9, -999.00,9, -999.00,9
33RO200306_01,       A16N,     004,          1,         14,         14,2,20030620,       0942,    62.7485,   -20.0003,       1412,   325.4,   8.3357,  35.2537,2,  35.2537,2,    271.9,2,   274.9,2,    5.92,2,   13.20,2,    0.01,2,    0.78,2,-999.000,9,-999.000,9,-999.000,9,  -999.0,9,  -999.0,9,   -999.0,9,  -999.00,-999.0000,9,  -999.00,-999.000,9,-999.000,9,-999.000,9, -999.00,9,  -999.0,9,  -999.0,-999.000,9,-999.000,-999.000,9, -999.00,9, -999.00,9,  325.40,-999.0000,9,-999.0000,9,-999.0000,9,-999.0000,9,-999.0000,9,-999.0000,9,   8.3015,     -999.0,9,     -999.0,9,     -999.0,9,     -999.0,9,          4,-999.000,-999.000,-999.000,     -999.0,9, -999.00,9, -999.00,9
33RO200306_01,       A16N,     004,          1,         13,         13,2,20030620,       0942,    62.7485,   -20.0003,       1412,   374.8,   8.2927,  35.2494,2,  35.2502,2,    275.3,2,   272.2,2,    5.98,2,   13.30,2,    0.01,2,    0.79,2,-999.000,9,-999.000,9,-999.000,9,  -999.0,9,  -999.0,9,   -999.0,9,  -999.00,-999.0000,9,  -999.00,-999.000,9,-999.000,9,-999.000,9, -999.00,9,  -999.0,9,  -999.0,-999.000,9,-999.000,-999.000,9, -999.00,9, -999.00,9,  374.80,-999.0000,9,-999.0000,9,-999.0000,9,-999.0000,9,-999.0000,9,-999.0000,9,   8.2534,     -999.0,9,     -999.0,9,     -999.0,9,     -999.0,9,          4,-999.000,-999.000,-999.000,     -999.0,9, -999.00,9, -999.00,9
33RO200306_01,       A16N,     004,          1,         12,         12,2,20030620,       0942,    62.7485,   -20.0003,       1412,   424.7,   8.2535,  35.2471,2,  35.2468,2,    272.9,2,   273.9,2,    6.03,2,   13.33,2,    0.01,2,    0.79,2,-999.000,9,-999.000,9,-999.000,9,  -999.0,9,  -999.0,9,   -999.0,9,  -999.00,-999.0000,9,  -999.00,-999.000,9,-999.000,9,-999.000,9, -999.00,9,  -999.0,9,  -999.0,-999.000,9,-999.000,-999.000,9, -999.00,9, -999.00,9,  424.70,-999.0000,9,-999.0000,9,-999.0000,9,-999.0000,9,-999.0000,9,-999.0000,9,   8.2089,     -999.0,9,     -999.0,9,     -999.0,9,     -999.0,9,          4,-999.000,-999.000,-999.000,     -999.0,9, -999.00,9, -999.00,9
33RO200306_01,       A16N,     004,          1,         11,         11,2,20030620,       0942,    62.7485,   -20.0003,       1412,   475.5,   8.1631,  35.2374,2,  35.2378,2,    268.3,2,   273.1,2,    6.14,2,   13.51,2,    0.01,2,    0.81,2,-999.000,9,-999.000,9,-999.000,9,  -999.0,9,  -999.0,9,   -999.0,9,  -999.00,-999.0000,9,  -999.00,-999.000,9,-999.000,9,-999.000,9, -999.00,9,  -999.0,9,  -999.0,-999.000,9,-999.000,   4.857,2, -999.00,9, -999.00,9,  475.50,-999.0000,9,-999.0000,9,-999.0000,9,-999.0000,9,-999.0000,9,-999.0000,9,   8.1134,      0.276,2,     -999.0,9,     -999.0,9,     -999.0,9,          4,-999.000,-999.000,-999.000,     -999.0,9, -999.00,9, -999.00,9
33RO200306_01,       A16N,     004,          1,         10,         10,2,20030620,       0942,    62.7485,   -20.0003,       1412,   549.3,   7.9675,  35.2169,2,  35.2162,2,    258.6,2,   261.8,2,    6.82,2,   14.34,2,    0.01,2,    0.86,2,-999.000,9,-999.000,9,-999.000,9,  -999.0,9,  -999.0,9,   -999.0,9,  -999.00,-999.0000,9,  -999.00,-999.000,9,-999.000,9,-999.000,9, -999.00,9,  -999.0,9,  -999.0,-999.000,9,-999.000,-999.000,9, -999.00,9, -999.00,9,  549.30,-999.0000,9,-999.0000,9,-999.0000,9,-999.0000,9,-999.0000,9,-999.0000,9,   7.9106,     -999.0,9,     -999.0,9,     -999.0,9,     -999.0,9,          4,-999.000,-999.000,-999.000,     -999.0,9, -999.00,9, -999.00,9
33RO200306_01,       A16N,     004,          1,          9,          9,2,20030620,       0942,    62.7485,   -20.0003,       1412,   649.9,   7.5558,  35.1888,2,  35.1883,2,    242.9,2,   236.9,2,    8.37,2,   15.96,2,    0.01,2,    0.96,2,-999.000,9,-999.000,9,-999.000,9,  -999.0,9,  -999.0,9,   -999.0,9,  -999.00,-999.0000,9,  -999.00,-999.000,9,-999.000,9,-999.000,9, -999.00,9,  -999.0,9,  -999.0,-999.000,9,-999.000,-999.000,9, -999.00,9, -999.00,9,  649.90,-999.0000,9,-999.0000,9,-999.0000,9,-999.0000,9,-999.0000,9,-999.0000,9,   7.4901,     -999.0,9,     -999.0,9,     -999.0,9,     -999.0,9,          4,-999.000,-999.000,-999.000,     -999.0,9, -999.00,9, -999.00,9
33RO200306_01,       A16N,     004,          1,          8,          8,2,20030620,       0942,    62.7485,   -20.0003,       1412,   749.2,   6.9364,  35.1615,2,  35.1611,2,    241.8,2,   247.5,2,    8.75,2,   16.13,2,    0.01,2,    0.97,2,-999.000,9,-999.000,9,-999.000,9,  -999.0,9,  -999.0,9,   -999.0,9,  -999.00,-999.0000,9,  -999.00,-999.000,9,-999.000,9,-999.000,9, -999.00,9,  -999.0,9,  -999.0,-999.000,9,-999.000,-999.000,9, -999.00,9, -999.00,9,  749.20,-999.0000,9,-999.0000,9,-999.0000,9,-999.0000,9,-999.0000,9,-999.0000,9,   6.8636,     -999.0,9,     -999.0,9,     -999.0,9,     -999.0,9,          4,-999.000,-999.000,-999.000,     -999.0,9, -999.00,9, -999.00,9
33RO200306_01,       A16N,     004,          1,          7,          7,2,20030620,       0942,    62.7485,   -20.0003,       1412,   850.0,   6.2575,  35.1144,2,  35.1140,2,    239.8,2,   235.5,2,   10.48,2,   17.66,2,    0.01,2,    1.06,2,-999.000,9,-999.000,9,-999.000,9,  -999.0,9,  -999.0,9,   -999.0,9,  -999.00,-999.0000,9,  -999.00,-999.000,9,-999.000,9,-999.000,9, -999.00,9,  -999.0,9,  -999.0,-999.000,9,-999.000,-999.000,9, -999.00,9, -999.00,9,  850.00,-999.0000,9,-999.0000,9,-999.0000,9,-999.0000,9,-999.0000,9,-999.0000,9,   6.1787,     -999.0,9,     -999.0,9,     -999.0,9,     -999.0,9,          4,-999.000,-999.000,-999.000,     -999.0,9, -999.00,9, -999.00,9
33RO200306_01,       A16N,     004,          1,          6,          6,2,20030620,       0942,    62.7485,   -20.0003,       1412,   950.7,   5.6742,  35.0896,2,  35.0883,2,    251.3,2,   256.8,2,    9.34,2,   16.21,2,    0.01,2,    0.98,2,-999.000,9,-999.000,9,-999.000,9,  -999.0,9,  -999.0,9,   -999.0,9,  -999.00,-999.0000,9,  -999.00,-999.000,9,-999.000,9,-999.000,9, -999.00,9,  -999.0,9,  -999.0,-999.000,9,-999.000,-999.000,9, -999.00,9, -999.00,9,  950.70,-999.0000,9,-999.0000,9,-999.0000,9,-999.0000,9,-999.0000,9,-999.0000,9,   5.5896,     -999.0,9,     -999.0,9,     -999.0,9,     -999.0,9,          4,-999.000,-999.000,-999.000,     -999.0,9, -999.00,9, -999.00,9
33RO200306_01,       A16N,     004,          1,          5,          5,2,20030620,       0942,    62.7485,   -20.0003,       1412,  1049.8,   4.7597,  35.0364,2,  35.0361,2,    263.3,2,   267.5,2,    9.57,2,   16.05,2,    0.01,2,    0.97,2,-999.000,9,-999.000,9,-999.000,9,  -999.0,9,  -999.0,9,   -999.0,9,  -999.00,-999.0000,9,  -999.00,-999.000,9,-999.000,9,-999.000,9, -999.00,9,  -999.0,9,  -999.0,-999.000,9,-999.000,-999.000,9, -999.00,9, -999.00,9, 1049.80,-999.0000,9,-999.0000,9,-999.0000,9,-999.0000,9,-999.0000,9,-999.0000,9,   4.6729,     -999.0,9,     -999.0,9,     -999.0,9,     -999.0,9,          4,-999.000,-999.000,-999.000,     -999.0,9, -999.00,9, -999.00,9
33RO200306_01,       A16N,     004,          1,          4,          4,2,20030620,       0942,    62.7485,   -20.0003,       1412,  1148.5,   4.3916,  35.0314,2,  35.0320,2,    272.3,2,   272.7,2,    9.23,2,   15.52,2,    0.00,2,    0.95,2,-999.000,9,-999.000,9,-999.000,9,  -999.0,9,  -999.0,9,   -999.0,9,  -999.00,-999.0000,9,  -999.00,-999.000,9,-999.000,9,-999.000,9, -999.00,9,  -999.0,9,  -999.0,-999.000,9,-999.000,   4.752,2, -999.00,9, -999.00,9, 1148.50,-999.0000,9,-999.0000,9,-999.0000,9,-999.0000,9,-999.0000,9,-999.0000,9,   4.2990,      0.138,2,     -999.0,9,     -999.0,9,     -999.0,9,          4,-999.000,-999.000,-999.000,     -999.0,9, -999.00,9, -999.00,9
33RO200306_01,       A16N,     004,          1,          3,          3,2,20030620,       0942,    62.7485,   -20.0003,       1412,  1249.1,   3.9744,  35.0180,2,  35.0184,2,    281.1,2,   285.9,2,    9.05,2,   15.18,2,    0.00,2,    0.93,2,   3.352,6,   1.704,6,   0.234,6,  -999.0,9,  -999.0,9,   -999.0,9,  -999.00,-999.0000,9,  -999.00,-999.000,9,-999.000,9,-999.000,9, -999.00,9,  -999.0,9,  -999.0,-999.000,9,-999.000,-999.000,9, -999.00,9, -999.00,9, 1249.10,-999.0000,9,-999.0000,9,-999.0000,9,-999.0000,9,-999.0000,9,-999.0000,9,   3.8768,     -999.0,9,     -999.0,9,     -999.0,9,     -999.0,9,          4,-999.000,-999.000,-999.000,     -999.0,9, -999.00,9, -999.00,9
33RO200306_01,       A16N,     004,          1,          2,          2,2,20030620,       0942,    62.7485,   -20.0003,       1412,  1348.2,   3.7155,  35.0038,2,  35.0052,2,    284.7,2,   277.3,2,    9.51,2,   15.40,2,    0.01,2,    0.95,2,   3.196,2,   1.609,2,   0.220,2,  -999.0,9,  -999.0,9,   -999.0,9,  -999.00,-999.0000,9,  -999.00,-999.000,9,-999.000,9,-999.000,9, -999.00,9,  -999.0,9,  -999.0,-999.000,9,-999.000,-999.000,9, -999.00,9, -999.00,9, 1348.20,-999.0000,9,-999.0000,9,-999.0000,9,-999.0000,9,-999.0000,9,-999.0000,9,   3.6118,     -999.0,9,     -999.0,9,     -999.0,9,     -999.0,9,          4,-999.000,-999.000,-999.000,     -999.0,9, -999.00,9, -999.00,9
33RO200306_01,       A16N,     004,          1,          1,          1,2,20030620,       0942,    62.7485,   -20.0003,       1412,  1416.4,   3.6342,  34.9988,2,  35.0001,2,    289.6,2,   156.7,3,    9.77,2,   15.54,2,    0.01,2,    0.95,2,   3.137,2,   1.571,2,   0.207,2,  -999.0,9,  -999.0,9,   -999.0,9,  -999.00,-999.0000,9,  -999.00,-999.000,9,-999.000,9,-999.000,9, -999.00,9,  -999.0,9,  -999.0,-999.000,9,-999.000,-999.000,9, -999.00,9, -999.00,9, 1416.40,-999.0000,9,-999.0000,9,-999.0000,9,-999.0000,9,-999.0000,9,-999.0000,9,   3.5254,     -999.0,9,     -999.0,9,     -999.0,9,     -999.0,9,          4,-999.000,-999.000,-999.000,     -999.0,9, -999.00,9, -999.00,9