BOTTLE,20230908CCHSIOCBG
EXPOCODE,SECT_ID,STNNBR,CASTNO,SAMPNO,BTLNBR,BTLNBR_FLAG_W,DATE,TIME,LATITUDE,LONGITUDE,DEPTH,CTDPRS,CTDTMP,CTDSAL,CTDSAL_FLAG_W,SALNTY,SALNTY_FLAG_W,CTDOXY,CTDOXY_FLAG_W,OXYGEN,OXYGEN_FLAG_W,SILCAT,SILCAT_FLAG_W,NITRAT,NITRAT_FLAG_W,NITRIT,NITRIT_FLAG_W,PHSPHT,PHSPHT_FLAG_W,CFC-11,CFC-11_FLAG_W,CFC-12,CFC-12_FLAG_W,CFC113,CFC113_FLAG_W,TCARBN,TCARBN_FLAG_W,ALKALI,ALKALI_FLAG_W,FCO2,FCO2_FLAG_W,FCO2TMP,PH_SWS,PH_SWS_FLAG_W,PH_TMP,TRITUM,TRITUM_FLAG_W,HELIUM,HELIUM_FLAG_W,DELHE3,DELHE3_FLAG_W,DELC13,DELC13_FLAG_W,DELC14,DELC14_FLAG_W,C14ERR,NEON,NEON_FLAG_W,NEONER,POC,POC_FLAG_W,DOC,DOC_FLAG_W,TDN,TDN_FLAG_W,CTDRAW,CDOM325,CDOM325_FLAG_W,CDOM340,CDOM340_FLAG_W,CDOM380,CDOM380_FLAG_W,CDOM412,CDOM412_FLAG_W,CDOMSL,CDOMSL_FLAG_W,CDOMSN,CDOMSN_FLAG_W,THETA,PON,PON_FLAG_W,HCFC-22,HCFC-22_FLAG_W,HCFC-142b,HCFC-142b_FLAG_W,HCFC-141b,HCFC-141b_FLAG_W,STNNBR_U,HELIER,DELHER,TRITER,CH3CL,CH3CL_FLAG_W,CH3BR,CH3BR_FLAG_W,CH3I,CH3I_FLAG_W
,,,,,,,,,,,METERS,DBAR,ITS-90,PSS-78,,PSS-78,,UMOL/KG,,UMOL/KG,,UMOL/KG,,UMOL/KG,,UMOL/KG,,UMOL/KG,,PMOL/KG,,PMOL/KG,,PMOL/KG,,UMOL/KG,,UMOL/KG,,UATM,,DEG C,,,DEG C,TU,,NMOL/KG,,PERCNT,,/MILLE,,/MILLE,,/MILLE,NMOL/KG,,NMOL/KG,UG/KG,,UMOL/KG,,UMOL/KG,,DBAR,1/M,,1/M,,1/M,,1/M,,1/NM,,1/NM,,DEG C,UMOL/L,,PMOL/KG,,PMOL/KG,,PMOL/KG,,,NMOL/KG,PERCNT,TU,PMOL/KG,,PMOL/KG,,PMOL/KG,
33RO200306_02,       A16N,     135,          1,          7,          7,2,20030805,       0228,    -0.0003,   -25.0002,       3163,  1496.8,   4.3553,  34.9610,2,  34.9619,2,    221.1,2,   223.7,2,   18.56,2,   22.03,2,    0.00,2,    1.49,2,   0.177,2,   0.097,2,   0.005,2,  2175.5,2,  2315.5,2,    817.1,2,    20.00,   7.7025,2,    25.00,   0.247,2,-999.000,9,-999.000,9, -999.00,9,  -999.0,9,  -999.0,-999.000,9,-999.000,-999.000,9,   41.87,2,   27.01,2, 1496.80,-999.0000,9,-999.0000,9,-999.0000,9,-999.0000,9,-999.0000,9,-999.0000,9,   4.2314,     -999.0,9,       0.02,2,       0.00,2,       0.05,2,        135,-999.000,-999.000,   0.020,     106.34,2,    2.12,2,    0.04,2
33RO200306_02,       A16N,     135,          1,          6,          6,2,20030805,       0228,    -0.0003,   -25.0002,       3163,  1699.3,   4.0621,  34.9769,2,  34.9782,2,    238.9,2,   239.3,2,   17.72,2,   20.42,2,    0.00,2,    1.39,2,   0.176,2,   0.098,2,   0.006,2,  2168.3,2,  2318.8,2,   -999.0,9,  -999.00,   7.7273,2,    25.00,-999.000,9,-999.000,9,-999.000,9, -999.00,9,  -999.0,9,  -999.0,-999.000,9,-999.000,-999.000,9,   41.27,2,   25.65,2, 1699.30,-999.0000,9,-999.0000,9,-999.0000,9,-999.0000,9,-999.0000,9,-999.0000,9,   3.9226,     -999.0,9,     -999.0,9,     -999.0,9,     -999.0,9,        135,-999.000,-999.000,-999.000,     -999.0,9, -999.00,9, -999.00,9
33RO200306_02,       A16N,     135,          1,          5,          5,2,20030805,       0228,    -0.0003,   -25.0002,       3163,  1899.3,   3.7979,  34.9763,2,  34.9773,2,    247.5,2,   247.2,2,   18.30,2,   19.73,2,    0.00,2,    1.34,2,   0.172,2,   0.095,2,   0.005,2,  2164.8,2,  2318.0,2,    757.4,6,    20.00,   7.7233,2,    25.00,-999.000,9,-999.000,9,-999.000,9, -999.00,9,  -999.0,9,  -999.0,-999.000,9,-999.000,-999.000,9,   41.87,2,   24.20,2, 1899.30,-999.0000,9,-999.0000,9,-999.0000,9,-999.0000,9,-999.0000,9,-999.0000,9,   3.6430,     -999.0,9,       0.03,2,       0.00,2,       0.13,2,        135,-999.000,-999.000,-999.000,        0.0,2,     0.0,2,    0.24,2
33RO200306_02,       A16N,     135,          1,          4,          4,2,20030805,       0228,    -0.0003,   -25.0002,       3163,  2199.6,   3.3890,  34.9609,2,  34.9612,2,    250.9,2,   251.4,2,   22.27,6,   19.73,6,    0.00,6,    1.35,6,   0.108,2,   0.060,2,   0.003,2,  2167.0,2,  2320.5,2,   -999.0,9,  -999.00,   7.7346,2,    25.00,-999.000,9,-999.000,9,-999.000,9, -999.00,9,  -999.0,9,  -999.0,-999.000,9,-999.000,-999.000,9,   41.22,2,   23.54,2, 2199.60,-999.0000,9,-999.0000,9,-999.0000,9,-999.0000,9,-999.0000,9,-999.0000,9,   3.2115,     -999.0,9,     -999.0,9,     -999.0,9,     -999.0,9,        135,-999.000,-999.000,-999.000,     -999.0,9, -999.00,9, -999.00,9
33RO200306_02,       A16N,     135,          1,          3,          3,2,20030805,       0228,    -0.0003,   -25.0002,       3163,  2499.7,   3.0393,  34.9389,2,  34.9387,2,    248.6,2,   248.9,2,   28.73,6,   20.55,6,    0.00,6,    1.42,6,   0.042,6,   0.028,6,   0.002,6,  2174.0,2,  2326.8,2,    761.2,2,    20.00,   7.7257,2,    25.00,   0.134,2,   1.901,3,   2.541,2, -999.00,9,  -999.0,9,  -999.0,   8.111,2,   0.063,-999.000,9,   40.59,2,   25.29,2, 2499.70,-999.0000,9,-999.0000,9,-999.0000,9,-999.0000,9,-999.0000,9,-999.0000,9,   2.8387,     -999.0,9,       0.00,2,       0.00,2,       0.07,2,        135,   0.003,   0.149,   0.020,        0.0,2,    0.09,2,    0.28,2
33RO200306_02,       A16N,     135,          1,          2,          2,2,20030805,       0228,    -0.0003,   -25.0002,       3163,  2799.2,   2.7661,  34.9210,2,  34.9215,2,    247.9,2,   247.9,2,   33.81,6,   21.02,6,    0.00,6,    1.45,6,   0.036,2,   0.019,2,   0.001,2,  2181.0,2,  2332.2,6,    767.5,2,    20.00,   7.7254,6,    25.00,-999.000,9,-999.000,9,-999.000,9, -999.00,9,  -999.0,9,  -999.0,-999.000,9,-999.000,-999.000,9,   40.17,2,   25.92,2, 2799.20,-999.0000,9,-999.0000,9,-999.0000,9,-999.0000,9,-999.0000,9,-999.0000,9,   2.5410,     -999.0,9,     -999.0,9,     -999.0,9,     -999.0,9,        135,-999.000,-999.000,-999.000,     -999.0,9, -999.00,9, -999.00,9
33RO200306_02,       A16N,     135,          1,          1,          1,2,20030805,       0228,    -0.0003,   -25.0002,       3163,  3231.2,   2.5895,  34.9082,2,  34.9096,2,    249.6,2,   248.6,2,   36.98,2,   21.05,2,    0.00,2,    1.46,2,   0.041,2,   0.025,2,   0.002,2,  2185.0,6,  2337.2,2,    769.1,2,    20.00,   7.7239,2,    25.00,-999.000,9,   1.836,2,   6.301,4, -999.00,9,  -999.0,9,  -999.0,   7.886,2,   0.070,-999.000,9,   41.22,2,   26.29,2, 3231.20,-999.0000,9,-999.0000,9,-999.0000,9,-999.0000,9,-999.0000,9,-999.0000,9,   2.3237,     -999.0,9,       0.00,2,       0.00,2,       0.06,2,        135,   0.003,   0.183,-999.000,        0.0,2,     0.4,2,    0.31,2