BOTTLE,20230908CCHSIOCBG
EXPOCODE,SECT_ID,STNNBR,CASTNO,SAMPNO,BTLNBR,BTLNBR_FLAG_W,DATE,TIME,LATITUDE,LONGITUDE,DEPTH,CTDPRS,CTDTMP,CTDSAL,CTDSAL_FLAG_W,SALNTY,SALNTY_FLAG_W,CTDOXY,CTDOXY_FLAG_W,OXYGEN,OXYGEN_FLAG_W,SILCAT,SILCAT_FLAG_W,NITRAT,NITRAT_FLAG_W,NITRIT,NITRIT_FLAG_W,PHSPHT,PHSPHT_FLAG_W,CFC-11,CFC-11_FLAG_W,CFC-12,CFC-12_FLAG_W,CFC113,CFC113_FLAG_W,TCARBN,TCARBN_FLAG_W,ALKALI,ALKALI_FLAG_W,FCO2,FCO2_FLAG_W,FCO2TMP,PH_SWS,PH_SWS_FLAG_W,PH_TMP,TRITUM,TRITUM_FLAG_W,HELIUM,HELIUM_FLAG_W,DELHE3,DELHE3_FLAG_W,DELC13,DELC13_FLAG_W,DELC14,DELC14_FLAG_W,C14ERR,NEON,NEON_FLAG_W,NEONER,POC,POC_FLAG_W,DOC,DOC_FLAG_W,TDN,TDN_FLAG_W,CTDRAW,CDOM325,CDOM325_FLAG_W,CDOM340,CDOM340_FLAG_W,CDOM380,CDOM380_FLAG_W,CDOM412,CDOM412_FLAG_W,CDOMSL,CDOMSL_FLAG_W,CDOMSN,CDOMSN_FLAG_W,THETA,PON,PON_FLAG_W,HCFC-22,HCFC-22_FLAG_W,HCFC-142b,HCFC-142b_FLAG_W,HCFC-141b,HCFC-141b_FLAG_W,STNNBR_U,HELIER,DELHER,TRITER,CH3CL,CH3CL_FLAG_W,CH3BR,CH3BR_FLAG_W,CH3I,CH3I_FLAG_W
,,,,,,,,,,,METERS,DBAR,ITS-90,PSS-78,,PSS-78,,UMOL/KG,,UMOL/KG,,UMOL/KG,,UMOL/KG,,UMOL/KG,,UMOL/KG,,PMOL/KG,,PMOL/KG,,PMOL/KG,,UMOL/KG,,UMOL/KG,,UATM,,DEG C,,,DEG C,TU,,NMOL/KG,,PERCNT,,/MILLE,,/MILLE,,/MILLE,NMOL/KG,,NMOL/KG,UG/KG,,UMOL/KG,,UMOL/KG,,DBAR,1/M,,1/M,,1/M,,1/M,,1/NM,,1/NM,,DEG C,UMOL/L,,PMOL/KG,,PMOL/KG,,PMOL/KG,,,NMOL/KG,PERCNT,TU,PMOL/KG,,PMOL/KG,,PMOL/KG,
33RO200306_02,       A16N,     136,          1,         32,         32,2,20030805,       0824,    -0.3317,   -25.0015,       3059,     3.2,  25.8260,  36.0963,2,  36.0990,2,    201.2,2,   204.4,2,    1.37,2,    0.05,2,    0.02,2,    0.18,2,   1.783,2,   1.141,2,   0.149,2,  2044.9,6,  2369.8,2,   -999.0,9,  -999.00,   8.0564,2,    25.00,-999.000,9,-999.000,9,-999.000,9, -999.00,9,  -999.0,9,  -999.0,-999.000,9,-999.000,-999.000,9, -999.00,9, -999.00,9,    3.20,-999.0000,9,-999.0000,9,-999.0000,9,-999.0000,9,-999.0000,9,-999.0000,9,  25.8253,     -999.0,9,     -999.0,9,     -999.0,9,     -999.0,9,        136,-999.000,-999.000,-999.000,     -999.0,9, -999.00,9, -999.00,9
33RO200306_02,       A16N,     136,          1,         33,         33,9,20030805,       0824,    -0.3317,   -25.0015,       3059,     3.3,  25.8263,  36.0964,2,-999.0000,9,    201.2,2,  -999.0,9, -999.00,9, -999.00,9, -999.00,9, -999.00,9,-999.000,9,-999.000,9,-999.000,9,  -999.0,9,  -999.0,9,   -999.0,9,  -999.00,-999.0000,9,  -999.00,-999.000,9,-999.000,9,-999.000,9, -999.00,9,  -999.0,9,  -999.0,-999.000,9,-999.000,-999.000,9, -999.00,9, -999.00,9,    3.30,-999.0000,9,-999.0000,9,-999.0000,9,-999.0000,9,-999.0000,9,-999.0000,9,  25.8256,     -999.0,9,     -999.0,9,     -999.0,9,     -999.0,9,        136,-999.000,-999.000,-999.000,     -999.0,9, -999.00,9, -999.00,9
33RO200306_02,       A16N,     136,          1,         35,         35,9,20030805,       0824,    -0.3317,   -25.0015,       3059,     3.3,  25.8250,  36.0963,2,-999.0000,9,    201.2,2,  -999.0,9, -999.00,9, -999.00,9, -999.00,9, -999.00,9,-999.000,9,-999.000,9,-999.000,9,  -999.0,9,  -999.0,9,   -999.0,9,  -999.00,-999.0000,9,  -999.00,-999.000,9,-999.000,9,-999.000,9, -999.00,9,  -999.0,9,  -999.0,-999.000,9,-999.000,-999.000,9, -999.00,9, -999.00,9,    3.30,-999.0000,9,-999.0000,9,-999.0000,9,-999.0000,9,-999.0000,9,-999.0000,9,  25.8243,     -999.0,9,     -999.0,9,     -999.0,9,     -999.0,9,        136,-999.000,-999.000,-999.000,     -999.0,9, -999.00,9, -999.00,9
33RO200306_02,       A16N,     136,          1,         31,         31,2,20030805,       0824,    -0.3317,   -25.0015,       3059,    11.0,  25.8237,  36.0956,2,  36.0998,2,    200.7,2,   204.0,2,    2.42,2,    0.06,2,    0.02,2,    0.18,2,-999.000,9,-999.000,9,-999.000,9,  -999.0,9,  -999.0,9,   -999.0,9,  -999.00,-999.0000,9,  -999.00,-999.000,9,-999.000,9,-999.000,9, -999.00,9,  -999.0,9,  -999.0,-999.000,9,-999.000,-999.000,9, -999.00,9, -999.00,9,   11.00,-999.0000,9,-999.0000,9,-999.0000,9,-999.0000,9,-999.0000,9,-999.0000,9,  25.8212,     -999.0,9,     -999.0,9,     -999.0,9,     -999.0,9,        136,-999.000,-999.000,-999.000,     -999.0,9, -999.00,9, -999.00,9
33RO200306_02,       A16N,     136,          1,         30,         30,2,20030805,       0824,    -0.3317,   -25.0015,       3059,    30.2,  25.7304,  36.0932,2,  36.0986,2,    200.6,2,   202.3,2,    2.38,2,    0.20,2,    0.03,2,    0.19,2,-999.000,9,-999.000,9,-999.000,9,  -999.0,9,  -999.0,9,   -999.0,9,  -999.00,-999.0000,9,  -999.00,-999.000,9,-999.000,9,-999.000,9, -999.00,9,  -999.0,9,  -999.0,-999.000,9,-999.000,-999.000,9, -999.00,9, -999.00,9,   30.20,-999.0000,9,-999.0000,9,-999.0000,9,-999.0000,9,-999.0000,9,-999.0000,9,  25.7237,     -999.0,9,     -999.0,9,     -999.0,9,     -999.0,9,        136,-999.000,-999.000,-999.000,     -999.0,9, -999.00,9, -999.00,9
33RO200306_02,       A16N,     136,          1,         29,         29,2,20030805,       0824,    -0.3317,   -25.0015,       3059,    51.7,  24.0169,  36.1900,2,  36.1859,2,    187.8,2,   188.9,2,    2.73,2,    1.72,2,    0.24,2,    0.33,2,-999.000,9,-999.000,9,-999.000,9,  -999.0,9,  -999.0,9,   -999.0,9,  -999.00,-999.0000,9,  -999.00,-999.000,9,-999.000,9,-999.000,9, -999.00,9,  -999.0,9,  -999.0,-999.000,9,-999.000,-999.000,9, -999.00,9, -999.00,9,   51.70,-999.0000,9,-999.0000,9,-999.0000,9,-999.0000,9,-999.0000,9,-999.0000,9,  24.0060,     -999.0,9,     -999.0,9,     -999.0,9,     -999.0,9,        136,-999.000,-999.000,-999.000,     -999.0,9, -999.00,9, -999.00,9
33RO200306_02,       A16N,     136,          1,         28,         28,2,20030805,       0824,    -0.3317,   -25.0015,       3059,    70.1,  20.5208,  36.2428,2,  36.2420,2,    181.3,2,   181.6,2,    3.69,2,    5.93,2,    0.05,2,    0.57,2,-999.000,9,-999.000,9,-999.000,9,  2113.6,2,  2381.4,6,   -999.0,9,  -999.00,   7.9401,6,    25.00,-999.000,9,-999.000,9,-999.000,9, -999.00,9,  -999.0,9,  -999.0,-999.000,9,-999.000,-999.000,9, -999.00,9, -999.00,9,   70.10,-999.0000,9,-999.0000,9,-999.0000,9,-999.0000,9,-999.0000,9,-999.0000,9,  20.5075,     -999.0,9,     -999.0,9,     -999.0,9,     -999.0,9,        136,-999.000,-999.000,-999.000,     -999.0,9, -999.00,9, -999.00,9
33RO200306_02,       A16N,     136,          1,         27,         27,2,20030805,       0824,    -0.3317,   -25.0015,       3059,    90.4,  17.5026,  35.8757,2,  35.8720,2,    172.3,2,   168.4,2,    5.15,2,   10.35,2,    0.04,2,    0.84,2,-999.000,9,-999.000,9,-999.000,9,  -999.0,9,  -999.0,9,   -999.0,9,  -999.00,-999.0000,9,  -999.00,-999.000,9,-999.000,9,-999.000,9, -999.00,9,  -999.0,9,  -999.0,-999.000,9,-999.000,-999.000,9, -999.00,9, -999.00,9,   90.40,-999.0000,9,-999.0000,9,-999.0000,9,-999.0000,9,-999.0000,9,-999.0000,9,  17.4873,     -999.0,9,     -999.0,9,     -999.0,9,     -999.0,9,        136,-999.000,-999.000,-999.000,     -999.0,9, -999.00,9, -999.00,9
33RO200306_02,       A16N,     136,          1,         26,         26,2,20030805,       0824,    -0.3317,   -25.0015,       3059,   110.0,  14.7838,  35.5319,2,  35.5271,2,    170.5,2,   171.2,2,    6.59,2,   13.26,2,    0.02,2,    1.01,2,-999.000,9,-999.000,9,-999.000,9,  -999.0,9,  -999.0,9,   -999.0,9,  -999.00,-999.0000,9,  -999.00,-999.000,9,-999.000,9,-999.000,9, -999.00,9,  -999.0,9,  -999.0,-999.000,9,-999.000,-999.000,9, -999.00,9, -999.00,9,  110.00,-999.0000,9,-999.0000,9,-999.0000,9,-999.0000,9,-999.0000,9,-999.0000,9,  14.7673,     -999.0,9,     -999.0,9,     -999.0,9,     -999.0,9,        136,-999.000,-999.000,-999.000,     -999.0,9, -999.00,9, -999.00,9
33RO200306_02,       A16N,     136,          1,         25,         25,2,20030805,       0824,    -0.3317,   -25.0015,       3059,   135.5,  14.3519,  35.4689,2,  35.4693,2,    171.2,2,   171.2,2,    6.74,2,   13.68,2,    0.02,2,    1.04,2,   2.274,2,   1.281,2,   0.057,2,  2137.1,2,  2337.1,2,   -999.0,9,  -999.00,   7.8206,2,    25.00,-999.000,9,-999.000,9,-999.000,9, -999.00,9,  -999.0,9,  -999.0,-999.000,9,-999.000,-999.000,9, -999.00,9, -999.00,9,  135.50,-999.0000,9,-999.0000,9,-999.0000,9,-999.0000,9,-999.0000,9,-999.0000,9,  14.3319,     -999.0,9,     -999.0,9,     -999.0,9,     -999.0,9,        136,-999.000,-999.000,-999.000,     -999.0,9, -999.00,9, -999.00,9
33RO200306_02,       A16N,     136,          1,         24,         24,2,20030805,       0824,    -0.3317,   -25.0015,       3059,   160.3,  14.1401,  35.4360,2,  35.4360,2,    167.8,2,   168.4,2,    6.83,2,   14.33,2,    0.02,2,    1.08,2,-999.000,9,-999.000,9,-999.000,9,  -999.0,9,  -999.0,9,   -999.0,9,  -999.00,-999.0000,9,  -999.00,-999.000,9,-999.000,9,-999.000,9, -999.00,9,  -999.0,9,  -999.0,-999.000,9,-999.000,-999.000,9, -999.00,9, -999.00,9,  160.30,-999.0000,9,-999.0000,9,-999.0000,9,-999.0000,9,-999.0000,9,-999.0000,9,  14.1167,     -999.0,9,     -999.0,9,     -999.0,9,     -999.0,9,        136,-999.000,-999.000,-999.000,     -999.0,9, -999.00,9, -999.00,9
33RO200306_02,       A16N,     136,          1,         23,         23,2,20030805,       0824,    -0.3317,   -25.0015,       3059,   185.4,  13.5745,  35.3514,2,  35.3434,2,    158.0,2,   156.0,2,    7.51,2,   16.64,2,    0.02,2,    1.20,2,-999.000,9,-999.000,9,-999.000,9,  -999.0,9,  -999.0,9,   -999.0,9,  -999.00,-999.0000,9,  -999.00,-999.000,9,-999.000,9,-999.000,9, -999.00,9,  -999.0,9,  -999.0,-999.000,9,-999.000,-999.000,9, -999.00,9, -999.00,9,  185.40,-999.0000,9,-999.0000,9,-999.0000,9,-999.0000,9,-999.0000,9,-999.0000,9,  13.5482,     -999.0,9,     -999.0,9,     -999.0,9,     -999.0,9,        136,-999.000,-999.000,-999.000,     -999.0,9, -999.00,9, -999.00,9
33RO200306_02,       A16N,     136,          1,         22,         22,2,20030805,       0824,    -0.3317,   -25.0015,       3059,   224.9,  12.9737,  35.2651,2,  35.2584,2,     95.6,2,    91.7,2,    9.73,2,   24.47,2,    0.01,2,    1.61,2,   1.639,2,   0.902,2,   0.017,2,  2196.3,2,  2320.9,2,   -999.0,9,  -999.00,   7.6675,2,    25.00,-999.000,9,-999.000,9,-999.000,9, -999.00,9,  -999.0,9,  -999.0,-999.000,9,-999.000,-999.000,9, -999.00,9, -999.00,9,  224.90,-999.0000,9,-999.0000,9,-999.0000,9,-999.0000,9,-999.0000,9,-999.0000,9,  12.9427,     -999.0,9,     -999.0,9,     -999.0,9,     -999.0,9,        136,-999.000,-999.000,-999.000,     -999.0,9, -999.00,9, -999.00,9
33RO200306_02,       A16N,     136,          1,         21,         21,2,20030805,       0824,    -0.3317,   -25.0015,       3059,   275.3,  11.9008,  35.1353,2,  35.1366,2,     87.2,2,    87.3,2,   11.12,2,   26.88,2,    0.01,2,    1.74,2,-999.000,9,-999.000,9,-999.000,9,  -999.0,9,  -999.0,9,   -999.0,9,  -999.00,-999.0000,9,  -999.00,-999.000,9,-999.000,9,-999.000,9, -999.00,9,  -999.0,9,  -999.0,-999.000,9,-999.000,-999.000,9, -999.00,9, -999.00,9,  275.30,-999.0000,9,-999.0000,9,-999.0000,9,-999.0000,9,-999.0000,9,-999.0000,9,  11.8649,     -999.0,9,     -999.0,9,     -999.0,9,     -999.0,9,        136,-999.000,-999.000,-999.000,     -999.0,9, -999.00,9, -999.00,9
33RO200306_02,       A16N,     136,          1,         20,         20,2,20030805,       0824,    -0.3317,   -25.0015,       3059,   324.7,  10.4247,  34.9645,2,  34.9586,2,    100.7,2,   103.6,2,   13.09,2,   28.29,2,    0.01,2,    1.82,2,   1.271,2,   0.678,2,   0.020,2,  2204.3,2,  2308.8,2,   -999.0,9,  -999.00,   7.5982,2,    25.00,-999.000,9,-999.000,9,-999.000,9, -999.00,9,  -999.0,9,  -999.0,-999.000,9,-999.000,-999.000,9, -999.00,9, -999.00,9,  324.70,-999.0000,9,-999.0000,9,-999.0000,9,-999.0000,9,-999.0000,9,-999.0000,9,  10.3858,     -999.0,9,     -999.0,9,     -999.0,9,     -999.0,9,        136,-999.000,-999.000,-999.000,     -999.0,9, -999.00,9, -999.00,9
33RO200306_02,       A16N,     136,          1,         19,         19,2,20030805,       0824,    -0.3317,   -25.0015,       3059,   375.4,   8.1843,  34.7259,2,  34.7261,2,    117.8,2,   117.7,2,   17.40,2,   31.37,2,    0.01,2,    2.04,2,-999.000,9,-999.000,9,-999.000,9,  -999.0,9,  -999.0,9,   -999.0,9,  -999.00,-999.0000,9,  -999.00,-999.000,9,-999.000,9,-999.000,9, -999.00,9,  -999.0,9,  -999.0,-999.000,9,-999.000,-999.000,9, -999.00,9, -999.00,9,  375.40,-999.0000,9,-999.0000,9,-999.0000,9,-999.0000,9,-999.0000,9,-999.0000,9,   8.1455,     -999.0,9,     -999.0,9,     -999.0,9,     -999.0,9,        136,-999.000,-999.000,-999.000,     -999.0,9, -999.00,9, -999.00,9
33RO200306_02,       A16N,     136,          1,         18,         18,2,20030805,       0824,    -0.3317,   -25.0015,       3059,   424.8,   7.2038,  34.6240,2,  34.6206,2,    130.7,2,   134.7,2,   19.63,2,   31.64,2,    0.01,2,    2.09,2,-999.000,9,-999.000,9,-999.000,9,  -999.0,9,  -999.0,9,   -999.0,9,  -999.00,-999.0000,9,  -999.00,-999.000,9,-999.000,9,-999.000,9, -999.00,9,  -999.0,9,  -999.0,-999.000,9,-999.000,-999.000,9, -999.00,9, -999.00,9,  424.80,-999.0000,9,-999.0000,9,-999.0000,9,-999.0000,9,-999.0000,9,-999.0000,9,   7.1629,     -999.0,9,     -999.0,9,     -999.0,9,     -999.0,9,        136,-999.000,-999.000,-999.000,     -999.0,9, -999.00,9, -999.00,9
33RO200306_02,       A16N,     136,          1,         17,         17,2,20030805,       0824,    -0.3317,   -25.0015,       3059,   475.1,   6.6764,  34.5838,2,  34.5838,2,    136.7,2,   135.2,2,   21.43,2,   32.70,2,    0.01,2,    2.16,2,-999.000,9,-999.000,9,-999.000,9,  -999.0,9,  -999.0,9,   -999.0,9,  -999.00,-999.0000,9,  -999.00,-999.000,9,-999.000,9,-999.000,9, -999.00,9,  -999.0,9,  -999.0,-999.000,9,-999.000,-999.000,9, -999.00,9, -999.00,9,  475.10,-999.0000,9,-999.0000,9,-999.0000,9,-999.0000,9,-999.0000,9,-999.0000,9,   6.6325,     -999.0,9,     -999.0,9,     -999.0,9,     -999.0,9,        136,-999.000,-999.000,-999.000,     -999.0,9, -999.00,9, -999.00,9
33RO200306_02,       A16N,     136,          1,         16,         16,2,20030805,       0824,    -0.3317,   -25.0015,       3059,   550.0,   6.3476,  34.5610,2,  34.5632,2,    136.8,2,   137.4,2,   22.75,2,   33.27,2,    0.01,2,    2.20,2,   0.527,2,   0.276,2,   0.013,2,  2206.5,2,  2300.9,2,   -999.0,9,  -999.00,   7.5687,2,    25.00,-999.000,9,-999.000,9,-999.000,9, -999.00,9,  -999.0,9,  -999.0,-999.000,9,-999.000,-999.000,9, -999.00,9, -999.00,9,  550.00,-999.0000,9,-999.0000,9,-999.0000,9,-999.0000,9,-999.0000,9,-999.0000,9,   6.2978,     -999.0,9,     -999.0,9,     -999.0,9,     -999.0,9,        136,-999.000,-999.000,-999.000,     -999.0,9, -999.00,9, -999.00,9
33RO200306_02,       A16N,     136,          1,         15,         15,2,20030805,       0824,    -0.3317,   -25.0015,       3059,   650.5,   5.6000,  34.5114,2,  34.5124,2,    142.2,2,   143.5,2,   25.87,2,   34.14,2,    0.00,2,    2.27,2,-999.000,9,-999.000,9,-999.000,9,  -999.0,9,  -999.0,9,   -999.0,9,  -999.00,-999.0000,9,  -999.00,-999.000,9,-999.000,9,-999.000,9, -999.00,9,  -999.0,9,  -999.0,-999.000,9,-999.000,-999.000,9, -999.00,9, -999.00,9,  650.50,-999.0000,9,-999.0000,9,-999.0000,9,-999.0000,9,-999.0000,9,-999.0000,9,   5.5445,     -999.0,9,     -999.0,9,     -999.0,9,     -999.0,9,        136,-999.000,-999.000,-999.000,     -999.0,9, -999.00,9, -999.00,9
33RO200306_02,       A16N,     136,          1,         14,         14,2,20030805,       0824,    -0.3317,   -25.0015,       3059,   750.6,   5.0191,  34.5057,2,  34.5060,2,    146.8,2,   147.2,2,   29.38,2,   34.52,2,    0.01,2,    2.33,2,-999.000,9,-999.000,9,-999.000,9,  -999.0,9,  -999.0,9,   -999.0,9,  -999.00,-999.0000,9,  -999.00,-999.000,9,-999.000,9,-999.000,9, -999.00,9,  -999.0,9,  -999.0,-999.000,9,-999.000,-999.000,9, -999.00,9, -999.00,9,  750.60,-999.0000,9,-999.0000,9,-999.0000,9,-999.0000,9,-999.0000,9,-999.0000,9,   4.9578,     -999.0,9,     -999.0,9,     -999.0,9,     -999.0,9,        136,-999.000,-999.000,-999.000,     -999.0,9, -999.00,9, -999.00,9
33RO200306_02,       A16N,     136,          1,         13,         13,2,20030805,       0824,    -0.3317,   -25.0015,       3059,   850.8,   4.6107,  34.5309,2,  34.5304,2,    153.0,2,   154.0,2,   31.65,2,   34.02,2,    0.00,2,    2.31,2,   0.121,2,   0.067,2,   0.007,2,  2222.0,2,  2304.1,2,   -999.0,9,  -999.00,   7.5482,2,    25.00,-999.000,9,-999.000,9,-999.000,9, -999.00,9,  -999.0,9,  -999.0,-999.000,9,-999.000,-999.000,9, -999.00,9, -999.00,9,  850.80,-999.0000,9,-999.0000,9,-999.0000,9,-999.0000,9,-999.0000,9,-999.0000,9,   4.5432,     -999.0,9,     -999.0,9,     -999.0,9,     -999.0,9,        136,-999.000,-999.000,-999.000,     -999.0,9, -999.00,9, -999.00,9
33RO200306_02,       A16N,     136,          1,         12,         12,2,20030805,       0824,    -0.3317,   -25.0015,       3059,   950.7,   4.5002,  34.6262,2,  34.6265,2,    156.3,2,   158.2,2,   31.18,2,   32.69,2,    0.00,2,    2.23,2,-999.000,9,-999.000,9,-999.000,9,  -999.0,9,  -999.0,9,   -999.0,9,  -999.00,-999.0000,9,  -999.00,-999.000,9,-999.000,9,-999.000,9, -999.00,9,  -999.0,9,  -999.0,-999.000,9,-999.000,-999.000,9, -999.00,9, -999.00,9,  950.70,-999.0000,9,-999.0000,9,-999.0000,9,-999.0000,9,-999.0000,9,-999.0000,9,   4.4248,     -999.0,9,     -999.0,9,     -999.0,9,     -999.0,9,        136,-999.000,-999.000,-999.000,     -999.0,9, -999.00,9, -999.00,9
33RO200306_02,       A16N,     136,          1,         11,         11,2,20030805,       0824,    -0.3317,   -25.0015,       3059,  1051.1,   4.5589,  34.6862,2,  34.6861,2,    161.0,2,   161.5,2,   29.56,2,   31.58,2,    0.00,2,    2.16,2,-999.000,9,-999.000,9,-999.000,9,  -999.0,9,  -999.0,9,   -999.0,9,  -999.00,-999.0000,9,  -999.00,-999.000,9,-999.000,9,-999.000,9, -999.00,9,  -999.0,9,  -999.0,-999.000,9,-999.000,-999.000,9, -999.00,9, -999.00,9, 1051.10,-999.0000,9,-999.0000,9,-999.0000,9,-999.0000,9,-999.0000,9,-999.0000,9,   4.4742,     -999.0,9,     -999.0,9,     -999.0,9,     -999.0,9,        136,-999.000,-999.000,-999.000,     -999.0,9, -999.00,9, -999.00,9
33RO200306_02,       A16N,     136,          1,         10,         10,2,20030805,       0824,    -0.3317,   -25.0015,       3059,  1149.6,   4.5824,  34.7429,2,  34.7424,2,    168.4,2,   160.7,2,   27.98,2,   30.11,2,    0.00,2,    2.06,2,-999.000,9,-999.000,9,-999.000,9,  -999.0,9,  -999.0,9,   -999.0,9,  -999.00,-999.0000,9,  -999.00,-999.000,9,-999.000,9,-999.000,9, -999.00,9,  -999.0,9,  -999.0,-999.000,9,-999.000,-999.000,9, -999.00,9, -999.00,9, 1149.60,-999.0000,9,-999.0000,9,-999.0000,9,-999.0000,9,-999.0000,9,-999.0000,9,   4.4886,     -999.0,9,     -999.0,9,     -999.0,9,     -999.0,9,        136,-999.000,-999.000,-999.000,     -999.0,9, -999.00,9, -999.00,9
33RO200306_02,       A16N,     136,          1,          9,          9,2,20030805,       0824,    -0.3317,   -25.0015,       3059,  1300.3,   4.5594,  34.8888,2,  34.8906,2,    196.7,2,   197.8,2,   22.37,2,   25.57,2,    0.00,2,    1.73,2,-999.000,9,-999.000,9,-999.000,9,  -999.0,9,  -999.0,9,   -999.0,9,  -999.00,-999.0000,9,  -999.00,-999.000,9,-999.000,9,-999.000,9, -999.00,9,  -999.0,9,  -999.0,-999.000,9,-999.000,-999.000,9, -999.00,9, -999.00,9, 1300.30,-999.0000,9,-999.0000,9,-999.0000,9,-999.0000,9,-999.0000,9,-999.0000,9,   4.4518,     -999.0,9,     -999.0,9,     -999.0,9,     -999.0,9,        136,-999.000,-999.000,-999.000,     -999.0,9, -999.00,9, -999.00,9
33RO200306_02,       A16N,     136,          1,          8,          8,2,20030805,       0824,    -0.3317,   -25.0015,       3059,  1450.6,   4.3395,  34.9559,2,  34.9562,2,    222.9,2,   223.0,2,   19.00,2,   22.36,2,    0.00,2,    1.51,2,-999.000,9,-999.000,9,-999.000,9,  -999.0,9,  -999.0,9,   -999.0,9,  -999.00,-999.0000,9,  -999.00,-999.000,9,-999.000,9,-999.000,9, -999.00,9,  -999.0,9,  -999.0,-999.000,9,-999.000,-999.000,9, -999.00,9, -999.00,9, 1450.60,-999.0000,9,-999.0000,9,-999.0000,9,-999.0000,9,-999.0000,9,-999.0000,9,   4.2201,     -999.0,9,     -999.0,9,     -999.0,9,     -999.0,9,        136,-999.000,-999.000,-999.000,     -999.0,9, -999.00,9, -999.00,9