BOTTLE,20230908CCHSIOCBG
EXPOCODE,SECT_ID,STNNBR,CASTNO,SAMPNO,BTLNBR,BTLNBR_FLAG_W,DATE,TIME,LATITUDE,LONGITUDE,DEPTH,CTDPRS,CTDTMP,CTDSAL,CTDSAL_FLAG_W,SALNTY,SALNTY_FLAG_W,CTDOXY,CTDOXY_FLAG_W,OXYGEN,OXYGEN_FLAG_W,SILCAT,SILCAT_FLAG_W,NITRAT,NITRAT_FLAG_W,NITRIT,NITRIT_FLAG_W,PHSPHT,PHSPHT_FLAG_W,CFC-11,CFC-11_FLAG_W,CFC-12,CFC-12_FLAG_W,CFC113,CFC113_FLAG_W,TCARBN,TCARBN_FLAG_W,ALKALI,ALKALI_FLAG_W,FCO2,FCO2_FLAG_W,FCO2TMP,PH_SWS,PH_SWS_FLAG_W,PH_TMP,TRITUM,TRITUM_FLAG_W,HELIUM,HELIUM_FLAG_W,DELHE3,DELHE3_FLAG_W,DELC13,DELC13_FLAG_W,DELC14,DELC14_FLAG_W,C14ERR,NEON,NEON_FLAG_W,NEONER,POC,POC_FLAG_W,DOC,DOC_FLAG_W,TDN,TDN_FLAG_W,CTDRAW,CDOM325,CDOM325_FLAG_W,CDOM340,CDOM340_FLAG_W,CDOM380,CDOM380_FLAG_W,CDOM412,CDOM412_FLAG_W,CDOMSL,CDOMSL_FLAG_W,CDOMSN,CDOMSN_FLAG_W,THETA,PON,PON_FLAG_W,HCFC-22,HCFC-22_FLAG_W,HCFC-142b,HCFC-142b_FLAG_W,HCFC-141b,HCFC-141b_FLAG_W,STNNBR_U,HELIER,DELHER,TRITER,CH3CL,CH3CL_FLAG_W,CH3BR,CH3BR_FLAG_W,CH3I,CH3I_FLAG_W
,,,,,,,,,,,METERS,DBAR,ITS-90,PSS-78,,PSS-78,,UMOL/KG,,UMOL/KG,,UMOL/KG,,UMOL/KG,,UMOL/KG,,UMOL/KG,,PMOL/KG,,PMOL/KG,,PMOL/KG,,UMOL/KG,,UMOL/KG,,UATM,,DEG C,,,DEG C,TU,,NMOL/KG,,PERCNT,,/MILLE,,/MILLE,,/MILLE,NMOL/KG,,NMOL/KG,UG/KG,,UMOL/KG,,UMOL/KG,,DBAR,1/M,,1/M,,1/M,,1/M,,1/NM,,1/NM,,DEG C,UMOL/L,,PMOL/KG,,PMOL/KG,,PMOL/KG,,,NMOL/KG,PERCNT,TU,PMOL/KG,,PMOL/KG,,PMOL/KG,
33RO200306_01,       A16N,     018,          1,         25,         25,2,20030623,       1202,    56.5030,   -20.0017,       1375,     3.1,  12.2070,  35.4008,2,  35.3993,2,    270.4,2,   264.5,2,    0.10,2,    4.57,2,    0.10,2,    0.29,2,-999.000,9,-999.000,9,-999.000,9,  2089.9,2,  2326.8,2,    453.5,6,    20.00,   7.9223,2,    25.00,-999.000,9,-999.000,9,-999.000,9, -999.00,9,  -999.0,9,  -999.0,-999.000,9,-999.000,   5.965,2, -999.00,9, -999.00,9,    3.10,-999.0000,9,-999.0000,9,-999.0000,9,-999.0000,9,-999.0000,9,-999.0000,9,  12.2066,      0.777,2,     -999.0,9,     -999.0,9,     -999.0,9,         18,-999.000,-999.000,-999.000,     -999.0,9, -999.00,9, -999.00,9
33RO200306_01,       A16N,     018,          1,         24,         24,2,20030623,       1202,    56.5030,   -20.0017,       1375,    20.7,  12.1889,  35.4333,2,  35.4313,2,    269.1,2,   265.5,2,    0.15,2,    4.47,2,    0.09,2,    0.28,2,-999.000,9,-999.000,9,-999.000,9,  -999.0,9,  -999.0,9,   -999.0,9,  -999.00,-999.0000,9,  -999.00,-999.000,9,-999.000,9,-999.000,9, -999.00,9,  -999.0,9,  -999.0,-999.000,9,-999.000,   5.750,2, -999.00,9, -999.00,9,   20.70,-999.0000,9,-999.0000,9,-999.0000,9,-999.0000,9,-999.0000,9,-999.0000,9,  12.1862,      1.107,2,     -999.0,9,     -999.0,9,     -999.0,9,         18,-999.000,-999.000,-999.000,     -999.0,9, -999.00,9, -999.00,9
33RO200306_01,       A16N,     018,          1,         23,         23,2,20030623,       1202,    56.5030,   -20.0017,       1375,    40.9,  12.1053,  35.4296,2,  35.4288,2,    267.3,2,   265.4,2,    0.14,2,    4.53,2,    0.10,2,    0.30,2,-999.000,9,-999.000,9,-999.000,9,  -999.0,9,  -999.0,9,   -999.0,9,  -999.00,-999.0000,9,  -999.00,-999.000,9,-999.000,9,-999.000,9, -999.00,9,  -999.0,9,  -999.0,-999.000,9,-999.000,   5.527,2, -999.00,9, -999.00,9,   40.90,-999.0000,9,-999.0000,9,-999.0000,9,-999.0000,9,-999.0000,9,-999.0000,9,  12.0999,      0.798,2,     -999.0,9,     -999.0,9,     -999.0,9,         18,-999.000,-999.000,-999.000,     -999.0,9, -999.00,9, -999.00,9
33RO200306_01,       A16N,     018,          1,         22,         22,2,20030623,       1202,    56.5030,   -20.0017,       1375,    61.0,  11.4783,  35.4842,2,  35.4783,2,    265.3,2,   261.6,2,    0.63,2,    6.30,2,    0.17,2,    0.48,2,-999.000,9,-999.000,9,-999.000,9,  -999.0,9,  -999.0,9,   -999.0,9,  -999.00,-999.0000,9,  -999.00,-999.000,9,-999.000,9,-999.000,9, -999.00,9,  -999.0,9,  -999.0,-999.000,9,-999.000,   3.096,2, -999.00,9, -999.00,9,   61.00,-999.0000,9,-999.0000,9,-999.0000,9,-999.0000,9,-999.0000,9,-999.0000,9,  11.4706,      0.718,2,     -999.0,9,     -999.0,9,     -999.0,9,         18,-999.000,-999.000,-999.000,     -999.0,9, -999.00,9, -999.00,9
33RO200306_01,       A16N,     018,          1,         21,         21,2,20030623,       1202,    56.5030,   -20.0017,       1375,    81.8,  11.0922,  35.4795,2,  35.4750,2,    261.7,2,   254.3,2,    1.89,2,    8.32,2,    0.37,2,    0.59,2,-999.000,9,-999.000,9,-999.000,9,  -999.0,9,  -999.0,9,   -999.0,9,  -999.00,-999.0000,9,  -999.00,-999.000,9,-999.000,9,-999.000,9, -999.00,9,  -999.0,9,  -999.0,-999.000,9,-999.000,   1.862,2, -999.00,9, -999.00,9,   81.80,-999.0000,9,-999.0000,9,-999.0000,9,-999.0000,9,-999.0000,9,-999.0000,9,  11.0821,      0.310,2,     -999.0,9,     -999.0,9,     -999.0,9,         18,-999.000,-999.000,-999.000,     -999.0,9, -999.00,9, -999.00,9
33RO200306_01,       A16N,     018,          1,         20,         20,2,20030623,       1202,    56.5030,   -20.0017,       1375,   101.8,  10.8900,  35.4535,2,  35.4543,2,    259.9,2,   257.8,2,    2.34,2,    9.14,2,    0.37,2,    0.61,2,-999.000,9,-999.000,9,-999.000,9,  -999.0,9,  -999.0,9,   -999.0,9,  -999.00,-999.0000,9,  -999.00,-999.000,9,-999.000,9,-999.000,9, -999.00,9,  -999.0,9,  -999.0,-999.000,9,-999.000,   1.050,2, -999.00,9, -999.00,9,  101.80,-999.0000,9,-999.0000,9,-999.0000,9,-999.0000,9,-999.0000,9,-999.0000,9,  10.8775,      0.186,2,     -999.0,9,     -999.0,9,     -999.0,9,         18,-999.000,-999.000,-999.000,     -999.0,9, -999.00,9, -999.00,9
33RO200306_01,       A16N,     018,          1,         19,         19,2,20030623,       1202,    56.5030,   -20.0017,       1375,   126.1,  10.7862,  35.4432,2,  35.4388,2,    259.3,2,   251.9,2,    2.97,2,   10.02,2,    0.16,2,    0.64,2,-999.000,9,-999.000,9,-999.000,9,  -999.0,9,  -999.0,9,   -999.0,9,  -999.00,-999.0000,9,  -999.00,-999.000,9,-999.000,9,-999.000,9, -999.00,9,  -999.0,9,  -999.0,-999.000,9,-999.000,-999.000,9, -999.00,9, -999.00,9,  126.10,-999.0000,9,-999.0000,9,-999.0000,9,-999.0000,9,-999.0000,9,-999.0000,9,  10.7708,     -999.0,9,     -999.0,9,     -999.0,9,     -999.0,9,         18,-999.000,-999.000,-999.000,     -999.0,9, -999.00,9, -999.00,9
33RO200306_01,       A16N,     018,          1,         18,         18,2,20030623,       1202,    56.5030,   -20.0017,       1375,   151.2,  10.6863,  35.4344,2,  35.4338,2,    254.3,2,   250.4,2,    3.59,2,   10.59,2,    0.03,2,    0.66,2,-999.000,9,-999.000,9,-999.000,9,  -999.0,9,  -999.0,9,   -999.0,9,  -999.00,-999.0000,9,  -999.00,-999.000,9,-999.000,9,-999.000,9, -999.00,9,  -999.0,9,  -999.0,-999.000,9,-999.000,   0.823,2, -999.00,9, -999.00,9,  151.20,-999.0000,9,-999.0000,9,-999.0000,9,-999.0000,9,-999.0000,9,-999.0000,9,  10.6679,      0.109,2,     -999.0,9,     -999.0,9,     -999.0,9,         18,-999.000,-999.000,-999.000,     -999.0,9, -999.00,9, -999.00,9
33RO200306_01,       A16N,     018,          1,         17,         17,2,20030623,       1202,    56.5030,   -20.0017,       1375,   176.8,  10.6453,  35.4401,2,  35.4339,2,    237.5,2,   249.1,2,    4.33,2,   11.15,2,    0.03,2,    0.69,2,-999.000,9,-999.000,9,-999.000,9,  -999.0,9,  -999.0,9,   -999.0,9,  -999.00,-999.0000,9,  -999.00,-999.000,9,-999.000,9,-999.000,9, -999.00,9,  -999.0,9,  -999.0,-999.000,9,-999.000,-999.000,9, -999.00,9, -999.00,9,  176.80,-999.0000,9,-999.0000,9,-999.0000,9,-999.0000,9,-999.0000,9,-999.0000,9,  10.6239,     -999.0,9,     -999.0,9,     -999.0,9,     -999.0,9,         18,-999.000,-999.000,-999.000,     -999.0,9, -999.00,9, -999.00,9
33RO200306_01,       A16N,     018,          1,         16,         16,2,20030623,       1202,    56.5030,   -20.0017,       1375,   202.3,  10.5456,  35.4308,2,  35.4262,2,    238.6,2,   247.8,2,    4.67,2,   11.32,2,    0.02,2,    0.71,2,   3.371,2,   1.850,2,   0.248,2,  -999.0,9,  -999.0,9,   -999.0,9,  -999.00,-999.0000,9,  -999.00,   1.076,2,   1.848,3,  -1.058,2, -999.00,9,  -999.0,9,  -999.0,   7.685,2,   0.059,-999.000,9, -999.00,9, -999.00,9,  202.30,-999.0000,9,-999.0000,9,-999.0000,9,-999.0000,9,-999.0000,9,-999.0000,9,  10.5212,     -999.0,9,     -999.0,9,     -999.0,9,     -999.0,9,         18,   0.003,   0.146,   0.030,     -999.0,9, -999.00,9, -999.00,9
33RO200306_01,       A16N,     018,          1,         15,         15,2,20030623,       1202,    56.5030,   -20.0017,       1375,   251.7,  10.3177,  35.3976,2,  35.3942,2,    246.7,2,   248.2,2,    5.07,2,   11.71,2,    0.01,2,    0.73,2,-999.000,9,-999.000,9,-999.000,9,  -999.0,9,  -999.0,9,   -999.0,9,  -999.00,-999.0000,9,  -999.00,-999.000,9,-999.000,9,-999.000,9, -999.00,9,  -999.0,9,  -999.0,-999.000,9,-999.000,   1.167,2, -999.00,9, -999.00,9,  251.70,-999.0000,9,-999.0000,9,-999.0000,9,-999.0000,9,-999.0000,9,-999.0000,9,  10.2877,      0.153,2,     -999.0,9,     -999.0,9,     -999.0,9,         18,-999.000,-999.000,-999.000,     -999.0,9, -999.00,9, -999.00,9
33RO200306_01,       A16N,     018,          1,         14,         14,2,20030623,       1202,    56.5030,   -20.0017,       1375,   302.0,  10.1552,  35.3729,2,  35.3667,2,    245.2,2,   255.6,2,    5.23,2,   12.12,2,    0.01,2,    0.76,2,-999.000,9,-999.000,9,-999.000,9,  -999.0,9,  -999.0,9,   -999.0,9,  -999.00,-999.0000,9,  -999.00,-999.000,9,-999.000,9,-999.000,9, -999.00,9,  -999.0,9,  -999.0,-999.000,9,-999.000,-999.000,9, -999.00,9, -999.00,9,  302.00,-999.0000,9,-999.0000,9,-999.0000,9,-999.0000,9,-999.0000,9,-999.0000,9,  10.1195,     -999.0,9,     -999.0,9,     -999.0,9,     -999.0,9,         18,-999.000,-999.000,-999.000,     -999.0,9, -999.00,9, -999.00,9
33RO200306_01,       A16N,     018,          1,         13,         13,2,20030623,       1202,    56.5030,   -20.0017,       1375,   350.5,  10.0914,  35.3724,2,  35.3699,2,    245.4,2,   258.2,2,    4.93,2,   11.74,2,    0.01,2,    0.73,2,-999.000,9,-999.000,9,-999.000,9,  -999.0,9,  -999.0,9,   -999.0,9,  -999.00,-999.0000,9,  -999.00,-999.000,9,-999.000,9,-999.000,9, -999.00,9,  -999.0,9,  -999.0,-999.000,9,-999.000,-999.000,9, -999.00,9, -999.00,9,  350.50,-999.0000,9,-999.0000,9,-999.0000,9,-999.0000,9,-999.0000,9,-999.0000,9,  10.0500,     -999.0,9,     -999.0,9,     -999.0,9,     -999.0,9,         18,-999.000,-999.000,-999.000,     -999.0,9, -999.00,9, -999.00,9
33RO200306_01,       A16N,     018,          1,         12,         12,2,20030623,       1202,    56.5030,   -20.0017,       1375,   401.5,   9.9985,  35.3702,2,  35.3657,2,    243.2,2,   248.4,2,    5.26,2,   12.29,2,    0.01,2,    0.77,2,-999.000,9,-999.000,9,-999.000,9,  -999.0,9,  -999.0,9,   -999.0,9,  -999.00,-999.0000,9,  -999.00,   1.040,2,-999.000,9,-999.000,9, -999.00,9,  -999.0,9,  -999.0,-999.000,9,-999.000,-999.000,9, -999.00,9, -999.00,9,  401.50,-999.0000,9,-999.0000,9,-999.0000,9,-999.0000,9,-999.0000,9,-999.0000,9,   9.9512,     -999.0,9,     -999.0,9,     -999.0,9,     -999.0,9,         18,-999.000,-999.000,   0.020,     -999.0,9, -999.00,9, -999.00,9
33RO200306_01,       A16N,     018,          1,         11,         11,2,20030623,       1202,    56.5030,   -20.0017,       1375,   451.3,   9.5621,  35.3003,2,  35.3018,2,    235.1,2,   236.4,2,    6.35,2,   13.67,2,    0.01,2,    0.86,2,-999.000,9,-999.000,9,-999.000,9,  -999.0,9,  -999.0,9,   -999.0,9,  -999.00,-999.0000,9,  -999.00,-999.000,9,-999.000,9,-999.000,9, -999.00,9,  -999.0,9,  -999.0,-999.000,9,-999.000,-999.000,9, -999.00,9, -999.00,9,  451.30,-999.0000,9,-999.0000,9,-999.0000,9,-999.0000,9,-999.0000,9,-999.0000,9,   9.5103,     -999.0,9,     -999.0,9,     -999.0,9,     -999.0,9,         18,-999.000,-999.000,-999.000,     -999.0,9, -999.00,9, -999.00,9
33RO200306_01,       A16N,     018,          1,         10,         10,2,20030623,       1202,    56.5030,   -20.0017,       1375,   501.0,   9.2611,  35.2874,2,  35.2807,2,    220.1,2,   216.5,2,    7.82,2,   15.72,2,    0.01,2,    0.98,2,-999.000,9,-999.000,9,-999.000,9,  -999.0,9,  -999.0,9,   -999.0,9,  -999.00,-999.0000,9,  -999.00,-999.000,9,-999.000,9,-999.000,9, -999.00,9,  -999.0,9,  -999.0,-999.000,9,-999.000,   1.117,2, -999.00,9, -999.00,9,  501.00,-999.0000,9,-999.0000,9,-999.0000,9,-999.0000,9,-999.0000,9,-999.0000,9,   9.2045,      0.127,2,     -999.0,9,     -999.0,9,     -999.0,9,         18,-999.000,-999.000,-999.000,     -999.0,9, -999.00,9, -999.00,9
33RO200306_01,       A16N,     018,          1,          9,          9,2,20030623,       1202,    56.5030,   -20.0017,       1375,   601.2,   8.3811,  35.2151,2,  35.2132,2,    204.6,2,   197.8,2,   10.06,2,   18.18,2,    0.01,2,    1.14,2,   2.725,4,  -0.001,4,   0.112,4,  -999.0,9,  -999.0,9,   -999.0,9,  -999.00,-999.0000,9,  -999.00,   1.024,2,   1.797,2,   5.020,2, -999.00,9,  -999.0,9,  -999.0,   7.644,2,   0.017,-999.000,9, -999.00,9, -999.00,9,  601.20,-999.0000,9,-999.0000,9,-999.0000,9,-999.0000,9,-999.0000,9,-999.0000,9,   8.3168,     -999.0,9,     -999.0,9,     -999.0,9,     -999.0,9,         18,   0.002,    0.13,   0.030,     -999.0,9, -999.00,9, -999.00,9
33RO200306_01,       A16N,     018,          1,          8,          8,2,20030623,       1202,    56.5030,   -20.0017,       1375,   701.2,   7.5279,  35.1715,2,  35.1667,2,    207.9,2,   200.5,2,   10.97,2,   18.92,2,    0.01,2,    1.18,2,-999.000,9,-999.000,9,-999.000,9,  -999.0,9,  -999.0,9,   -999.0,9,  -999.00,-999.0000,9,  -999.00,-999.000,9,-999.000,9,-999.000,9, -999.00,9,  -999.0,9,  -999.0,-999.000,9,-999.000,-999.000,9, -999.00,9, -999.00,9,  701.20,-999.0000,9,-999.0000,9,-999.0000,9,-999.0000,9,-999.0000,9,-999.0000,9,   7.4569,     -999.0,9,     -999.0,9,     -999.0,9,     -999.0,9,         18,-999.000,-999.000,-999.000,     -999.0,9, -999.00,9, -999.00,9
33RO200306_01,       A16N,     018,          1,          7,          7,2,20030623,       1202,    56.5030,   -20.0017,       1375,   800.8,   6.3266,  35.0620,2,  35.0624,2,    203.8,2,   213.4,2,   11.43,2,   19.02,2,    0.01,2,    1.20,2,-999.000,9,-999.000,9,-999.000,9,  -999.0,9,  -999.0,9,   -999.0,9,  -999.00,-999.0000,9,  -999.00,-999.000,9,-999.000,9,-999.000,9, -999.00,9,  -999.0,9,  -999.0,-999.000,9,-999.000,-999.000,9, -999.00,9, -999.00,9,  800.80,-999.0000,9,-999.0000,9,-999.0000,9,-999.0000,9,-999.0000,9,-999.0000,9,   6.2523,     -999.0,9,     -999.0,9,     -999.0,9,     -999.0,9,         18,-999.000,-999.000,-999.000,     -999.0,9, -999.00,9, -999.00,9
33RO200306_01,       A16N,     018,          1,          6,          6,2,20030623,       1202,    56.5030,   -20.0017,       1375,   901.2,   6.1050,  35.1258,2,  35.1178,2,    223.9,2,   221.9,2,   11.48,2,   18.50,2,    0.00,2,    1.16,2,   2.455,6,   1.207,6,   0.129,6,  -999.0,9,  -999.0,9,   -999.0,9,  -999.00,-999.0000,9,  -999.00,   1.227,2,   1.807,2,   6.260,2, -999.00,9,  -999.0,9,  -999.0,   7.751,2,   0.017,-999.000,9, -999.00,9, -999.00,9,  901.20,-999.0000,9,-999.0000,9,-999.0000,9,-999.0000,9,-999.0000,9,-999.0000,9,   6.0221,     -999.0,9,     -999.0,9,     -999.0,9,     -999.0,9,         18,   0.003,    0.13,   0.020,     -999.0,9, -999.00,9, -999.00,9
33RO200306_01,       A16N,     018,          1,          5,          5,2,20030623,       1202,    56.5030,   -20.0017,       1375,  1002.0,   5.4712,  35.0665,2,  35.0663,2,    236.1,2,   232.2,2,   11.48,2,   18.22,2,    0.00,2,    1.15,2,   2.609,2,   1.284,2,   0.141,2,  -999.0,9,  -999.0,9,   -999.0,9,  -999.00,-999.0000,9,  -999.00,   1.248,2,   1.805,2,   6.371,2, -999.00,9,  -999.0,9,  -999.0,   7.781,2,   0.017,   0.835,2, -999.00,9, -999.00,9, 1002.00,-999.0000,9,-999.0000,9,-999.0000,9,-999.0000,9,-999.0000,9,-999.0000,9,   5.3832,      0.109,2,     -999.0,9,     -999.0,9,     -999.0,9,         18,   0.002,    0.13,   0.020,     -999.0,9, -999.00,9, -999.00,9
33RO200306_01,       A16N,     018,          1,          4,          4,2,20030623,       1202,    56.5030,   -20.0017,       1375,  1101.3,   4.9108,  35.0197,2,  35.0185,2,    243.7,2,   243.3,2,   11.45,2,   17.98,2,    0.00,2,    1.14,2,   2.744,2,   1.332,2,   0.150,2,  -999.0,9,  -999.0,9,   -999.0,9,  -999.00,-999.0000,9,  -999.00,-999.000,9,   1.807,2,   6.247,2, -999.00,9,  -999.0,9,  -999.0,   7.765,2,   0.017,-999.000,9, -999.00,9, -999.00,9, 1101.30,-999.0000,9,-999.0000,9,-999.0000,9,-999.0000,9,-999.0000,9,-999.0000,9,   4.8181,     -999.0,9,     -999.0,9,     -999.0,9,     -999.0,9,         18,   0.002,    0.13,-999.000,     -999.0,9, -999.00,9, -999.00,9
33RO200306_01,       A16N,     018,          1,          3,          3,2,20030623,       1202,    56.5030,   -20.0017,       1375,  1201.5,   4.5439,  35.0018,2,  35.0015,2,    247.6,2,   245.2,2,   13.89,2,   18.12,2,    0.01,2,    1.16,2,   2.540,2,   1.223,2,   0.130,2,  -999.0,9,  -999.0,9,   -999.0,9,  -999.00,-999.0000,9,  -999.00,-999.000,9,-999.000,9,-999.000,9, -999.00,9,  -999.0,9,  -999.0,-999.000,9,-999.000,-999.000,9, -999.00,9, -999.00,9, 1201.50,-999.0000,9,-999.0000,9,-999.0000,9,-999.0000,9,-999.0000,9,-999.0000,9,   4.4452,     -999.0,9,     -999.0,9,     -999.0,9,     -999.0,9,         18,-999.000,-999.000,-999.000,     -999.0,9, -999.00,9, -999.00,9
33RO200306_01,       A16N,     018,          1,          2,          2,2,20030623,       1202,    56.5030,   -20.0017,       1375,  1301.2,   4.2384,  34.9700,2,  34.9662,2,    250.1,2,   256.4,2,   12.72,2,   17.83,2,    0.01,2,    1.14,2,   2.693,2,   1.297,2,   0.149,2,  -999.0,9,  -999.0,9,   -999.0,9,  -999.00,-999.0000,9,  -999.00,-999.000,9,   1.816,2,   6.511,2, -999.00,9,  -999.0,9,  -999.0,   7.781,2,   0.059,-999.000,9, -999.00,9, -999.00,9, 1301.20,-999.0000,9,-999.0000,9,-999.0000,9,-999.0000,9,-999.0000,9,-999.0000,9,   4.1337,     -999.0,9,     -999.0,9,     -999.0,9,     -999.0,9,         18,   0.003,   0.144,-999.000,     -999.0,9, -999.00,9, -999.00,9
33RO200306_01,       A16N,     018,          1,          1,          1,2,20030623,       1202,    56.5030,   -20.0017,       1375,  1378.9,   3.8821,  34.9419,2,  34.9426,2,    257.9,2,   272.6,4,   12.78,2,   17.60,2,    0.01,2,    1.12,2,   2.682,2,   1.285,2,   0.147,2,  -999.0,9,  -999.0,9,   -999.0,9,  -999.00,-999.0000,9,  -999.00,-999.000,9,-999.000,9,-999.000,9, -999.00,9,  -999.0,9,  -999.0,-999.000,9,-999.000,-999.000,9, -999.00,9, -999.00,9, 1378.90,-999.0000,9,-999.0000,9,-999.0000,9,-999.0000,9,-999.0000,9,-999.0000,9,   3.7741,     -999.0,9,     -999.0,9,     -999.0,9,     -999.0,9,         18,-999.000,-999.000,-999.000,     -999.0,9, -999.00,9, -999.00,9