BOTTLE,20230908CCHSIOCBG
EXPOCODE,SECT_ID,STNNBR,CASTNO,SAMPNO,BTLNBR,BTLNBR_FLAG_W,DATE,TIME,LATITUDE,LONGITUDE,DEPTH,CTDPRS,CTDTMP,CTDSAL,CTDSAL_FLAG_W,SALNTY,SALNTY_FLAG_W,CTDOXY,CTDOXY_FLAG_W,OXYGEN,OXYGEN_FLAG_W,SILCAT,SILCAT_FLAG_W,NITRAT,NITRAT_FLAG_W,NITRIT,NITRIT_FLAG_W,PHSPHT,PHSPHT_FLAG_W,CFC-11,CFC-11_FLAG_W,CFC-12,CFC-12_FLAG_W,CFC113,CFC113_FLAG_W,TCARBN,TCARBN_FLAG_W,ALKALI,ALKALI_FLAG_W,FCO2,FCO2_FLAG_W,FCO2TMP,PH_SWS,PH_SWS_FLAG_W,PH_TMP,TRITUM,TRITUM_FLAG_W,HELIUM,HELIUM_FLAG_W,DELHE3,DELHE3_FLAG_W,DELC13,DELC13_FLAG_W,DELC14,DELC14_FLAG_W,C14ERR,NEON,NEON_FLAG_W,NEONER,POC,POC_FLAG_W,DOC,DOC_FLAG_W,TDN,TDN_FLAG_W,CTDRAW,CDOM325,CDOM325_FLAG_W,CDOM340,CDOM340_FLAG_W,CDOM380,CDOM380_FLAG_W,CDOM412,CDOM412_FLAG_W,CDOMSL,CDOMSL_FLAG_W,CDOMSN,CDOMSN_FLAG_W,THETA,PON,PON_FLAG_W,HCFC-22,HCFC-22_FLAG_W,HCFC-142b,HCFC-142b_FLAG_W,HCFC-141b,HCFC-141b_FLAG_W,STNNBR_U,HELIER,DELHER,TRITER,CH3CL,CH3CL_FLAG_W,CH3BR,CH3BR_FLAG_W,CH3I,CH3I_FLAG_W
,,,,,,,,,,,METERS,DBAR,ITS-90,PSS-78,,PSS-78,,UMOL/KG,,UMOL/KG,,UMOL/KG,,UMOL/KG,,UMOL/KG,,UMOL/KG,,PMOL/KG,,PMOL/KG,,PMOL/KG,,UMOL/KG,,UMOL/KG,,UATM,,DEG C,,,DEG C,TU,,NMOL/KG,,PERCNT,,/MILLE,,/MILLE,,/MILLE,NMOL/KG,,NMOL/KG,UG/KG,,UMOL/KG,,UMOL/KG,,DBAR,1/M,,1/M,,1/M,,1/M,,1/NM,,1/NM,,DEG C,UMOL/L,,PMOL/KG,,PMOL/KG,,PMOL/KG,,,NMOL/KG,PERCNT,TU,PMOL/KG,,PMOL/KG,,PMOL/KG,
33RO200306_01,       A16N,     008,          1,         30,         30,2,20030621,       0601,    61.3335,   -19.9988,       2358,     1.9,  11.3387,  35.2543,2,  35.2593,2,    288.1,2,   292.3,2,    0.15,2,    3.23,2,    0.07,2,    0.24,2,-999.000,9,-999.000,9,-999.000,9,  2068.8,6,  2322.5,2,    412.3,2,    20.00,   7.9558,2,    25.00,-999.000,9,-999.000,9,-999.000,9, -999.00,9,  -999.0,9,  -999.0,-999.000,9,-999.000,-999.000,9, -999.00,9, -999.00,9,    1.90,-999.0000,9,-999.0000,9,-999.0000,9,-999.0000,9,-999.0000,9,-999.0000,9,  11.3385,     -999.0,9,     -999.0,9,     -999.0,9,     -999.0,9,          8,-999.000,-999.000,-999.000,     -999.0,9, -999.00,9, -999.00,9
33RO200306_01,       A16N,     008,          1,         29,         29,2,20030621,       0601,    61.3335,   -19.9988,       2358,     9.8,  11.3332,  35.2541,2,  35.2581,2,    287.9,2,   291.1,2,    0.15,2,    3.28,2,    0.07,2,    0.25,2,-999.000,9,-999.000,9,-999.000,9,  -999.0,9,  -999.0,9,   -999.0,9,  -999.00,-999.0000,9,  -999.00,-999.000,9,-999.000,9,-999.000,9, -999.00,9,  -999.0,9,  -999.0,-999.000,9,-999.000,-999.000,9, -999.00,9, -999.00,9,    9.80,-999.0000,9,-999.0000,9,-999.0000,9,-999.0000,9,-999.0000,9,-999.0000,9,  11.3320,     -999.0,9,     -999.0,9,     -999.0,9,     -999.0,9,          8,-999.000,-999.000,-999.000,     -999.0,9, -999.00,9, -999.00,9
33RO200306_01,       A16N,     008,          1,         28,         28,2,20030621,       0601,    61.3335,   -19.9988,       2358,    28.0,  11.3330,  35.2536,2,  35.2575,2,    288.1,2,   290.7,2,    0.19,2,    3.63,2,    0.08,2,    0.27,2,-999.000,9,-999.000,9,-999.000,9,  -999.0,9,  -999.0,9,   -999.0,9,  -999.00,-999.0000,9,  -999.00,-999.000,9,-999.000,9,-999.000,9, -999.00,9,  -999.0,9,  -999.0,-999.000,9,-999.000,-999.000,9, -999.00,9, -999.00,9,   28.00,-999.0000,9,-999.0000,9,-999.0000,9,-999.0000,9,-999.0000,9,-999.0000,9,  11.3295,     -999.0,9,     -999.0,9,     -999.0,9,     -999.0,9,          8,-999.000,-999.000,-999.000,     -999.0,9, -999.00,9, -999.00,9
33RO200306_01,       A16N,     008,          1,         27,         27,2,20030621,       0601,    61.3335,   -19.9988,       2358,    49.7,   9.6617,  35.2794,2,  35.2797,2,    277.2,2,   272.6,2,    2.90,2,    9.48,2,    0.24,2,    0.67,2,-999.000,9,-999.000,9,-999.000,9,  -999.0,9,  -999.0,9,   -999.0,9,  -999.00,-999.0000,9,  -999.00,-999.000,9,-999.000,9,-999.000,9, -999.00,9,  -999.0,9,  -999.0,-999.000,9,-999.000,-999.000,9, -999.00,9, -999.00,9,   49.70,-999.0000,9,-999.0000,9,-999.0000,9,-999.0000,9,-999.0000,9,-999.0000,9,   9.6561,     -999.0,9,     -999.0,9,     -999.0,9,     -999.0,9,          8,-999.000,-999.000,-999.000,     -999.0,9, -999.00,9, -999.00,9
33RO200306_01,       A16N,     008,          1,         26,         26,2,20030621,       0601,    61.3335,   -19.9988,       2358,    70.0,   9.3351,  35.2735,2,  35.2769,2,    268.3,2,   270.2,2,    4.49,2,   11.51,2,    0.29,2,    0.74,2,-999.000,9,-999.000,9,-999.000,9,  -999.0,9,  -999.0,9,   -999.0,9,  -999.00,-999.0000,9,  -999.00,-999.000,9,-999.000,9,-999.000,9, -999.00,9,  -999.0,9,  -999.0,-999.000,9,-999.000,-999.000,9, -999.00,9, -999.00,9,   70.00,-999.0000,9,-999.0000,9,-999.0000,9,-999.0000,9,-999.0000,9,-999.0000,9,   9.3273,     -999.0,9,     -999.0,9,     -999.0,9,     -999.0,9,          8,-999.000,-999.000,-999.000,     -999.0,9, -999.00,9, -999.00,9
33RO200306_01,       A16N,     008,          1,         25,         25,2,20030621,       0601,    61.3335,   -19.9988,       2358,    86.2,   9.2855,  35.2757,2,  35.2762,2,    267.3,2,   269.0,2,    4.77,2,   11.90,2,    0.14,2,    0.75,2,-999.000,9,-999.000,9,-999.000,9,  -999.0,9,  -999.0,9,   -999.0,9,  -999.00,-999.0000,9,  -999.00,-999.000,9,-999.000,9,-999.000,9, -999.00,9,  -999.0,9,  -999.0,-999.000,9,-999.000,-999.000,9, -999.00,9, -999.00,9,   86.20,-999.0000,9,-999.0000,9,-999.0000,9,-999.0000,9,-999.0000,9,-999.0000,9,   9.2760,     -999.0,9,     -999.0,9,     -999.0,9,     -999.0,9,          8,-999.000,-999.000,-999.000,     -999.0,9, -999.00,9, -999.00,9
33RO200306_01,       A16N,     008,          1,         24,         24,2,20030621,       0601,    61.3335,   -19.9988,       2358,   109.7,   9.1306,  35.2560,2,  35.2602,2,    267.2,2,   270.1,2,    5.06,2,   12.14,2,    0.10,2,    0.77,2,-999.000,9,-999.000,9,-999.000,9,  -999.0,9,  -999.0,9,   -999.0,9,  -999.00,-999.0000,9,  -999.00,-999.000,9,-999.000,9,-999.000,9, -999.00,9,  -999.0,9,  -999.0,-999.000,9,-999.000,-999.000,9, -999.00,9, -999.00,9,  109.70,-999.0000,9,-999.0000,9,-999.0000,9,-999.0000,9,-999.0000,9,-999.0000,9,   9.1186,     -999.0,9,     -999.0,9,     -999.0,9,     -999.0,9,          8,-999.000,-999.000,-999.000,     -999.0,9, -999.00,9, -999.00,9
33RO200306_01,       A16N,     008,          1,         23,         23,2,20030621,       0601,    61.3335,   -19.9988,       2358,   135.3,   9.0780,  35.2633,2,  35.2687,2,    265.7,2,   267.1,2,    5.29,2,   12.27,2,    0.09,2,    0.77,2,-999.000,9,-999.000,9,-999.000,9,  -999.0,9,  -999.0,9,   -999.0,9,  -999.00,-999.0000,9,  -999.00,-999.000,9,-999.000,9,-999.000,9, -999.00,9,  -999.0,9,  -999.0,-999.000,9,-999.000,-999.000,9, -999.00,9, -999.00,9,  135.30,-999.0000,9,-999.0000,9,-999.0000,9,-999.0000,9,-999.0000,9,-999.0000,9,   9.0632,     -999.0,9,     -999.0,9,     -999.0,9,     -999.0,9,          8,-999.000,-999.000,-999.000,     -999.0,9, -999.00,9, -999.00,9
33RO200306_01,       A16N,     008,          1,         22,         22,2,20030621,       0601,    61.3335,   -19.9988,       2358,   160.8,   9.1074,  35.2813,2,  35.2808,2,    265.6,2,   265.0,2,    5.46,2,   12.48,2,    0.03,2,    0.78,2,-999.000,9,-999.000,9,-999.000,9,  -999.0,9,  -999.0,9,   -999.0,9,  -999.00,-999.0000,9,  -999.00,-999.000,9,-999.000,9,-999.000,9, -999.00,9,  -999.0,9,  -999.0,-999.000,9,-999.000,-999.000,9, -999.00,9, -999.00,9,  160.80,-999.0000,9,-999.0000,9,-999.0000,9,-999.0000,9,-999.0000,9,-999.0000,9,   9.0898,     -999.0,9,     -999.0,9,     -999.0,9,     -999.0,9,          8,-999.000,-999.000,-999.000,     -999.0,9, -999.00,9, -999.00,9
33RO200306_01,       A16N,     008,          1,         21,         21,2,20030621,       0601,    61.3335,   -19.9988,       2358,   185.4,   8.8071,  35.2343,2,  35.2331,2,    266.5,2,   265.7,2,    5.98,2,   13.00,2,    0.06,2,    0.82,2,-999.000,9,-999.000,9,-999.000,9,  -999.0,9,  -999.0,9,   -999.0,9,  -999.00,-999.0000,9,  -999.00,-999.000,9,-999.000,9,-999.000,9, -999.00,9,  -999.0,9,  -999.0,-999.000,9,-999.000,-999.000,9, -999.00,9, -999.00,9,  185.40,-999.0000,9,-999.0000,9,-999.0000,9,-999.0000,9,-999.0000,9,-999.0000,9,   8.7872,     -999.0,9,     -999.0,9,     -999.0,9,     -999.0,9,          8,-999.000,-999.000,-999.000,     -999.0,9, -999.00,9, -999.00,9
33RO200306_01,       A16N,     008,          1,         20,         20,2,20030621,       0601,    61.3335,   -19.9988,       2358,   225.2,   8.5820,  35.2165,2,  35.2197,2,    260.5,2,   265.3,2,    6.37,2,   13.42,2,    0.07,2,    0.85,2,-999.000,9,-999.000,9,-999.000,9,  -999.0,9,  -999.0,9,   -999.0,9,  -999.00,-999.0000,9,  -999.00,-999.000,9,-999.000,9,-999.000,9, -999.00,9,  -999.0,9,  -999.0,-999.000,9,-999.000,-999.000,9, -999.00,9, -999.00,9,  225.20,-999.0000,9,-999.0000,9,-999.0000,9,-999.0000,9,-999.0000,9,-999.0000,9,   8.5581,     -999.0,9,     -999.0,9,     -999.0,9,     -999.0,9,          8,-999.000,-999.000,-999.000,     -999.0,9, -999.00,9, -999.00,9
33RO200306_01,       A16N,     008,          1,         19,         19,2,20030621,       0601,    61.3335,   -19.9988,       2358,   274.6,   8.4520,  35.2167,2,  35.2157,2,    264.9,2,   266.3,2,    6.38,2,   13.47,2,    0.01,2,    0.85,2,-999.000,9,-999.000,9,-999.000,9,  -999.0,9,  -999.0,9,   -999.0,9,  -999.00,-999.0000,9,  -999.00,-999.000,9,-999.000,9,-999.000,9, -999.00,9,  -999.0,9,  -999.0,-999.000,9,-999.000,-999.000,9, -999.00,9, -999.00,9,  274.60,-999.0000,9,-999.0000,9,-999.0000,9,-999.0000,9,-999.0000,9,-999.0000,9,   8.4230,     -999.0,9,     -999.0,9,     -999.0,9,     -999.0,9,          8,-999.000,-999.000,-999.000,     -999.0,9, -999.00,9, -999.00,9
33RO200306_01,       A16N,     008,          1,         18,         18,2,20030621,       0601,    61.3335,   -19.9988,       2358,   325.4,   8.2917,  35.2060,2,  35.2089,2,    264.0,2,   250.0,2,    6.54,2,   13.76,2,    0.01,2,    0.87,2,-999.000,9,-999.000,9,-999.000,9,  -999.0,9,  -999.0,9,   -999.0,9,  -999.00,-999.0000,9,  -999.00,-999.000,9,-999.000,9,-999.000,9, -999.00,9,  -999.0,9,  -999.0,-999.000,9,-999.000,-999.000,9, -999.00,9, -999.00,9,  325.40,-999.0000,9,-999.0000,9,-999.0000,9,-999.0000,9,-999.0000,9,-999.0000,9,   8.2577,     -999.0,9,     -999.0,9,     -999.0,9,     -999.0,9,          8,-999.000,-999.000,-999.000,     -999.0,9, -999.00,9, -999.00,9
33RO200306_01,       A16N,     008,          1,         17,         17,2,20030621,       0601,    61.3335,   -19.9988,       2358,   371.2,   8.2580,  35.2163,2,  35.2207,2,    258.5,2,   260.5,2,    7.05,2,   14.38,2,    0.01,2,    0.91,2,-999.000,9,-999.000,9,-999.000,9,  -999.0,9,  -999.0,9,   -999.0,9,  -999.00,-999.0000,9,  -999.00,-999.000,9,-999.000,9,-999.000,9, -999.00,9,  -999.0,9,  -999.0,-999.000,9,-999.000,-999.000,9, -999.00,9, -999.00,9,  371.20,-999.0000,9,-999.0000,9,-999.0000,9,-999.0000,9,-999.0000,9,-999.0000,9,   8.2192,     -999.0,9,     -999.0,9,     -999.0,9,     -999.0,9,          8,-999.000,-999.000,-999.000,     -999.0,9, -999.00,9, -999.00,9
33RO200306_01,       A16N,     008,          1,         16,         16,2,20030621,       0601,    61.3335,   -19.9988,       2358,   425.4,   8.0982,  35.2071,2,  35.2082,2,    252.3,2,   249.8,2,    7.68,2,   15.16,2,    0.01,2,    0.95,2,-999.000,9,-999.000,9,-999.000,9,  -999.0,9,  -999.0,9,   -999.0,9,  -999.00,-999.0000,9,  -999.00,-999.000,9,-999.000,9,-999.000,9, -999.00,9,  -999.0,9,  -999.0,-999.000,9,-999.000,-999.000,9, -999.00,9, -999.00,9,  425.40,-999.0000,9,-999.0000,9,-999.0000,9,-999.0000,9,-999.0000,9,-999.0000,9,   8.0541,     -999.0,9,     -999.0,9,     -999.0,9,     -999.0,9,          8,-999.000,-999.000,-999.000,     -999.0,9, -999.00,9, -999.00,9
33RO200306_01,       A16N,     008,          1,         15,         15,2,20030621,       0601,    61.3335,   -19.9988,       2358,   475.5,   7.9154,  35.1888,2,  35.1925,2,    257.8,2,   257.8,2,    7.80,2,   15.31,2,    0.01,2,    0.96,2,-999.000,9,-999.000,9,-999.000,9,  -999.0,9,  -999.0,9,   -999.0,9,  -999.00,-999.0000,9,  -999.00,-999.000,9,-999.000,9,-999.000,9, -999.00,9,  -999.0,9,  -999.0,-999.000,9,-999.000,-999.000,9, -999.00,9, -999.00,9,  475.50,-999.0000,9,-999.0000,9,-999.0000,9,-999.0000,9,-999.0000,9,-999.0000,9,   7.8666,     -999.0,9,     -999.0,9,     -999.0,9,     -999.0,9,          8,-999.000,-999.000,-999.000,     -999.0,9, -999.00,9, -999.00,9
33RO200306_01,       A16N,     008,          1,         14,         14,2,20030621,       0601,    61.3335,   -19.9988,       2358,   543.7,   7.7438,  35.1849,2,  35.1871,2,    257.5,2,   256.5,2,    7.44,2,   14.89,2,    0.01,2,    0.94,2,-999.000,9,-999.000,9,-999.000,9,  -999.0,9,  -999.0,9,   -999.0,9,  -999.00,-999.0000,9,  -999.00,-999.000,9,-999.000,9,-999.000,9, -999.00,9,  -999.0,9,  -999.0,-999.000,9,-999.000,-999.000,9, -999.00,9, -999.00,9,  543.70,-999.0000,9,-999.0000,9,-999.0000,9,-999.0000,9,-999.0000,9,-999.0000,9,   7.6884,     -999.0,9,     -999.0,9,     -999.0,9,     -999.0,9,          8,-999.000,-999.000,-999.000,     -999.0,9, -999.00,9, -999.00,9
33RO200306_01,       A16N,     008,          1,         13,         13,2,20030621,       0601,    61.3335,   -19.9988,       2358,   649.1,   7.2369,  35.1598,2,  35.1607,2,    234.4,2,   229.8,2,    9.56,2,   17.05,2,    0.01,2,    1.06,2,-999.000,9,-999.000,9,-999.000,9,  -999.0,9,  -999.0,9,   -999.0,9,  -999.00,-999.0000,9,  -999.00,-999.000,9,-999.000,9,-999.000,9, -999.00,9,  -999.0,9,  -999.0,-999.000,9,-999.000,-999.000,9, -999.00,9, -999.00,9,  649.10,-999.0000,9,-999.0000,9,-999.0000,9,-999.0000,9,-999.0000,9,-999.0000,9,   7.1728,     -999.0,9,     -999.0,9,     -999.0,9,     -999.0,9,          8,-999.000,-999.000,-999.000,     -999.0,9, -999.00,9, -999.00,9
33RO200306_01,       A16N,     008,          1,         12,         12,2,20030621,       0601,    61.3335,   -19.9988,       2358,   749.9,   6.6149,  35.1357,2,  35.1381,2,    227.2,2,   234.3,2,   10.12,2,   17.31,2,    0.01,2,    1.08,2,-999.000,9,-999.000,9,-999.000,9,  -999.0,9,  -999.0,9,   -999.0,9,  -999.00,-999.0000,9,  -999.00,-999.000,9,-999.000,9,-999.000,9, -999.00,9,  -999.0,9,  -999.0,-999.000,9,-999.000,-999.000,9, -999.00,9, -999.00,9,  749.90,-999.0000,9,-999.0000,9,-999.0000,9,-999.0000,9,-999.0000,9,-999.0000,9,   6.5438,     -999.0,9,     -999.0,9,     -999.0,9,     -999.0,9,          8,-999.000,-999.000,-999.000,     -999.0,9, -999.00,9, -999.00,9
33RO200306_01,       A16N,     008,          1,         11,         11,2,20030621,       0601,    61.3335,   -19.9988,       2358,   850.3,   5.9015,  35.0822,2,  35.0854,2,    231.8,2,   227.5,2,   11.55,2,   18.50,2,    0.01,2,    1.15,2,-999.000,9,-999.000,9,-999.000,9,  -999.0,9,  -999.0,9,   -999.0,9,  -999.00,-999.0000,9,  -999.00,-999.000,9,-999.000,9,-999.000,9, -999.00,9,  -999.0,9,  -999.0,-999.000,9,-999.000,-999.000,9, -999.00,9, -999.00,9,  850.30,-999.0000,9,-999.0000,9,-999.0000,9,-999.0000,9,-999.0000,9,-999.0000,9,   5.8250,     -999.0,9,     -999.0,9,     -999.0,9,     -999.0,9,          8,-999.000,-999.000,-999.000,     -999.0,9, -999.00,9, -999.00,9
33RO200306_01,       A16N,     008,          1,         10,         10,2,20030621,       0601,    61.3335,   -19.9988,       2358,   949.9,   5.3546,  35.0427,2,  35.0439,2,    239.0,2,   239.4,2,   11.67,2,   18.35,2,    0.00,2,    1.15,2,-999.000,9,-999.000,9,-999.000,9,  -999.0,9,  -999.0,9,   -999.0,9,  -999.00,-999.0000,9,  -999.00,-999.000,9,-999.000,9,-999.000,9, -999.00,9,  -999.0,9,  -999.0,-999.000,9,-999.000,-999.000,9, -999.00,9, -999.00,9,  949.90,-999.0000,9,-999.0000,9,-999.0000,9,-999.0000,9,-999.0000,9,-999.0000,9,   5.2724,     -999.0,9,     -999.0,9,     -999.0,9,     -999.0,9,          8,-999.000,-999.000,-999.000,     -999.0,9, -999.00,9, -999.00,9
33RO200306_01,       A16N,     008,          1,          9,          9,2,20030621,       0601,    61.3335,   -19.9988,       2358,  1050.3,   4.8832,  35.0069,2,  35.0087,2,    247.1,2,   247.5,2,   11.73,2,   18.16,2,    0.00,2,    1.14,2,-999.000,9,-999.000,9,-999.000,9,  -999.0,9,  -999.0,9,   -999.0,9,  -999.00,-999.0000,9,  -999.00,-999.000,9,-999.000,9,-999.000,9, -999.00,9,  -999.0,9,  -999.0,-999.000,9,-999.000,-999.000,9, -999.00,9, -999.00,9, 1050.30,-999.0000,9,-999.0000,9,-999.0000,9,-999.0000,9,-999.0000,9,-999.0000,9,   4.7954,     -999.0,9,     -999.0,9,     -999.0,9,     -999.0,9,          8,-999.000,-999.000,-999.000,     -999.0,9, -999.00,9, -999.00,9
33RO200306_01,       A16N,     008,          1,          8,          8,2,20030621,       0601,    61.3335,   -19.9988,       2358,  1150.1,   4.4034,  34.9605,2,  34.9658,2,    256.0,2,   258.0,2,   11.50,2,   17.93,2,    0.00,2,    1.13,2,-999.000,9,-999.000,9,-999.000,9,  -999.0,9,  -999.0,9,   -999.0,9,  -999.00,-999.0000,9,  -999.00,-999.000,9,-999.000,9,-999.000,9, -999.00,9,  -999.0,9,  -999.0,-999.000,9,-999.000,-999.000,9, -999.00,9, -999.00,9, 1150.10,-999.0000,9,-999.0000,9,-999.0000,9,-999.0000,9,-999.0000,9,-999.0000,9,   4.3107,     -999.0,9,     -999.0,9,     -999.0,9,     -999.0,9,          8,-999.000,-999.000,-999.000,     -999.0,9, -999.00,9, -999.00,9
33RO200306_01,       A16N,     008,          1,          7,          7,2,20030621,       0601,    61.3335,   -19.9988,       2358,  1250.2,   4.1471,  34.9416,2,  34.9447,2,    261.9,2,   264.9,2,   11.51,2,   17.80,2,    0.00,2,    1.12,2,   3.026,2,   1.467,2,   0.182,2,  -999.0,9,  -999.0,9,   -999.0,9,  -999.00,-999.0000,9,  -999.00,-999.000,9,-999.000,9,-999.000,9, -999.00,9,  -999.0,9,  -999.0,-999.000,9,-999.000,-999.000,9, -999.00,9, -999.00,9, 1250.20,-999.0000,9,-999.0000,9,-999.0000,9,-999.0000,9,-999.0000,9,-999.0000,9,   4.0479,     -999.0,9,     -999.0,9,     -999.0,9,     -999.0,9,          8,-999.000,-999.000,-999.000,     -999.0,9, -999.00,9, -999.00,9
33RO200306_01,       A16N,     008,          1,          6,          6,2,20030621,       0601,    61.3335,   -19.9988,       2358,  1349.7,   3.9630,  34.9312,2,  34.9329,2,    265.8,2,   261.0,2,   11.68,2,   17.72,2,    0.00,2,    1.12,2,-999.000,9,-999.000,9,-999.000,9,  -999.0,9,  -999.0,9,   -999.0,9,  -999.00,-999.0000,9,  -999.00,-999.000,9,-999.000,9,-999.000,9, -999.00,9,  -999.0,9,  -999.0,-999.000,9,-999.000,-999.000,9, -999.00,9, -999.00,9, 1349.70,-999.0000,9,-999.0000,9,-999.0000,9,-999.0000,9,-999.0000,9,-999.0000,9,   3.8568,     -999.0,9,     -999.0,9,     -999.0,9,     -999.0,9,          8,-999.000,-999.000,-999.000,     -999.0,9, -999.00,9, -999.00,9
33RO200306_01,       A16N,     008,          1,          5,          5,2,20030621,       0601,    61.3335,   -19.9988,       2358,  1599.8,   3.5827,  34.9095,2,  34.9134,2,    275.8,2,   279.7,2,   11.57,2,   17.35,2,    0.00,2,    1.10,2,   2.964,2,   1.403,2,   0.170,2,  -999.0,9,  -999.0,9,   -999.0,9,  -999.00,-999.0000,9,  -999.00,-999.000,9,-999.000,9,-999.000,9, -999.00,9,  -999.0,9,  -999.0,-999.000,9,-999.000,-999.000,9, -999.00,9, -999.00,9, 1599.80,-999.0000,9,-999.0000,9,-999.0000,9,-999.0000,9,-999.0000,9,-999.0000,9,   3.4585,     -999.0,9,     -999.0,9,     -999.0,9,     -999.0,9,          8,-999.000,-999.000,-999.000,     -999.0,9, -999.00,9, -999.00,9
33RO200306_01,       A16N,     008,          1,          4,          4,2,20030621,       0601,    61.3335,   -19.9988,       2358,  1800.0,   3.3633,  34.9007,2,  34.9031,2,    282.2,2,   282.7,2,   11.57,2,   17.05,2,    0.00,2,    1.08,2,-999.000,9,-999.000,9,-999.000,9,  -999.0,9,  -999.0,9,   -999.0,9,  -999.00,-999.0000,9,  -999.00,-999.000,9,-999.000,9,-999.000,9, -999.00,9,  -999.0,9,  -999.0,-999.000,9,-999.000,-999.000,9, -999.00,9, -999.00,9, 1800.00,-999.0000,9,-999.0000,9,-999.0000,9,-999.0000,9,-999.0000,9,-999.0000,9,   3.2239,     -999.0,9,     -999.0,9,     -999.0,9,     -999.0,9,          8,-999.000,-999.000,-999.000,     -999.0,9, -999.00,9, -999.00,9