BOTTLE,20230908CCHSIOCBG
EXPOCODE,SECT_ID,STNNBR,CASTNO,SAMPNO,BTLNBR,BTLNBR_FLAG_W,DATE,TIME,LATITUDE,LONGITUDE,DEPTH,CTDPRS,CTDTMP,CTDSAL,CTDSAL_FLAG_W,SALNTY,SALNTY_FLAG_W,CTDOXY,CTDOXY_FLAG_W,OXYGEN,OXYGEN_FLAG_W,SILCAT,SILCAT_FLAG_W,NITRAT,NITRAT_FLAG_W,NITRIT,NITRIT_FLAG_W,PHSPHT,PHSPHT_FLAG_W,CFC-11,CFC-11_FLAG_W,CFC-12,CFC-12_FLAG_W,CFC113,CFC113_FLAG_W,TCARBN,TCARBN_FLAG_W,ALKALI,ALKALI_FLAG_W,FCO2,FCO2_FLAG_W,FCO2TMP,PH_SWS,PH_SWS_FLAG_W,PH_TMP,TRITUM,TRITUM_FLAG_W,HELIUM,HELIUM_FLAG_W,DELHE3,DELHE3_FLAG_W,DELC13,DELC13_FLAG_W,DELC14,DELC14_FLAG_W,C14ERR,NEON,NEON_FLAG_W,NEONER,POC,POC_FLAG_W,DOC,DOC_FLAG_W,TDN,TDN_FLAG_W,CTDRAW,CDOM325,CDOM325_FLAG_W,CDOM340,CDOM340_FLAG_W,CDOM380,CDOM380_FLAG_W,CDOM412,CDOM412_FLAG_W,CDOMSL,CDOMSL_FLAG_W,CDOMSN,CDOMSN_FLAG_W,THETA,PON,PON_FLAG_W,HCFC-22,HCFC-22_FLAG_W,HCFC-142b,HCFC-142b_FLAG_W,HCFC-141b,HCFC-141b_FLAG_W,STNNBR_U,HELIER,DELHER,TRITER,CH3CL,CH3CL_FLAG_W,CH3BR,CH3BR_FLAG_W,CH3I,CH3I_FLAG_W
,,,,,,,,,,,METERS,DBAR,ITS-90,PSS-78,,PSS-78,,UMOL/KG,,UMOL/KG,,UMOL/KG,,UMOL/KG,,UMOL/KG,,UMOL/KG,,PMOL/KG,,PMOL/KG,,PMOL/KG,,UMOL/KG,,UMOL/KG,,UATM,,DEG C,,,DEG C,TU,,NMOL/KG,,PERCNT,,/MILLE,,/MILLE,,/MILLE,NMOL/KG,,NMOL/KG,UG/KG,,UMOL/KG,,UMOL/KG,,DBAR,1/M,,1/M,,1/M,,1/M,,1/NM,,1/NM,,DEG C,UMOL/L,,PMOL/KG,,PMOL/KG,,PMOL/KG,,,NMOL/KG,PERCNT,TU,PMOL/KG,,PMOL/KG,,PMOL/KG,
33RO200306_02,       A16N,     115,          1,         35,         35,2,20030730,       1631,     8.4995,   -27.7508,       4934,     3.3,  27.8196,  35.3573,2,  35.3669,2,    181.0,2,   202.3,2,    0.82,2,    0.18,2,    0.00,2,    0.04,2,   1.672,2,   1.077,2,   0.158,2,  1959.0,2,  2317.3,6,   -999.0,9,  -999.00,   8.0971,6,    25.00,-999.000,9,-999.000,9,-999.000,9, -999.00,9,  -999.0,9,  -999.0,-999.000,9,-999.000,-999.000,9, -999.00,9, -999.00,9,    3.30,-999.0000,9,-999.0000,9,-999.0000,9,-999.0000,9,-999.0000,9,-999.0000,9,  27.8188,     -999.0,9,     -999.0,9,     -999.0,9,     -999.0,9,        115,-999.000,-999.000,-999.000,     -999.0,9, -999.00,9, -999.00,9
33RO200306_02,       A16N,     115,          1,         33,         33,2,20030730,       1631,     8.4995,   -27.7508,       4934,     8.8,  27.8295,  35.3703,2,  35.3996,2,    181.1,2,   200.9,2,    0.83,2,    0.18,2,    0.00,2,    0.04,2,-999.000,9,-999.000,9,-999.000,9,  -999.0,9,  -999.0,9,   -999.0,9,  -999.00,-999.0000,9,  -999.00,-999.000,9,-999.000,9,-999.000,9, -999.00,9,  -999.0,9,  -999.0,-999.000,9,-999.000,-999.000,9, -999.00,9, -999.00,9,    8.80,-999.0000,9,-999.0000,9,-999.0000,9,-999.0000,9,-999.0000,9,-999.0000,9,  27.8274,     -999.0,9,     -999.0,9,     -999.0,9,     -999.0,9,        115,-999.000,-999.000,-999.000,     -999.0,9, -999.00,9, -999.00,9
33RO200306_02,       A16N,     115,          1,         32,         32,2,20030730,       1631,     8.4995,   -27.7508,       4934,    29.3,  27.8843,  35.5242,2,  35.5858,2,    183.2,2,   202.3,2,    0.85,2,    0.29,2,    0.00,2,    0.05,2,-999.000,9,-999.000,9,-999.000,9,  -999.0,9,  -999.0,9,   -999.0,9,  -999.00,-999.0000,9,  -999.00,-999.000,9,-999.000,9,-999.000,9, -999.00,9,  -999.0,9,  -999.0,-999.000,9,-999.000,-999.000,9, -999.00,9, -999.00,9,   29.30,-999.0000,9,-999.0000,9,-999.0000,9,-999.0000,9,-999.0000,9,-999.0000,9,  27.8774,     -999.0,9,     -999.0,9,     -999.0,9,     -999.0,9,        115,-999.000,-999.000,-999.000,     -999.0,9, -999.00,9, -999.00,9
33RO200306_02,       A16N,     115,          1,         31,         31,2,20030730,       1631,     8.4995,   -27.7508,       4934,    49.9,  22.0502,  36.0102,2,  36.0022,2,    179.2,2,   171.0,2,    2.61,2,    3.04,2,    0.14,2,    0.33,2,-999.000,9,-999.000,9,-999.000,9,  -999.0,9,  -999.0,9,   -999.0,9,  -999.00,-999.0000,9,  -999.00,-999.000,9,-999.000,9,-999.000,9, -999.00,9,  -999.0,9,  -999.0,-999.000,9,-999.000,-999.000,9, -999.00,9, -999.00,9,   49.90,-999.0000,9,-999.0000,9,-999.0000,9,-999.0000,9,-999.0000,9,-999.0000,9,  22.0403,     -999.0,9,     -999.0,9,     -999.0,9,     -999.0,9,        115,-999.000,-999.000,-999.000,     -999.0,9, -999.00,9, -999.00,9
33RO200306_02,       A16N,     115,          1,         30,         30,2,20030730,       1631,     8.4995,   -27.7508,       4934,    69.8,  17.5134,  35.6866,2,  35.6506,2,    117.4,2,    99.7,2,    5.46,2,   18.15,2,    0.23,2,    1.19,2,-999.000,9,-999.000,9,-999.000,9,  -999.0,9,  -999.0,9,   -999.0,9,  -999.00,-999.0000,9,  -999.00,-999.000,9,-999.000,9,-999.000,9, -999.00,9,  -999.0,9,  -999.0,-999.000,9,-999.000,-999.000,9, -999.00,9, -999.00,9,   69.80,-999.0000,9,-999.0000,9,-999.0000,9,-999.0000,9,-999.0000,9,-999.0000,9,  17.5016,     -999.0,9,     -999.0,9,     -999.0,9,     -999.0,9,        115,-999.000,-999.000,-999.000,     -999.0,9, -999.00,9, -999.00,9
33RO200306_02,       A16N,     115,          1,         29,         29,2,20030730,       1631,     8.4995,   -27.7508,       4934,    89.2,  14.4512,  35.4656,2,  35.4580,2,     91.6,2,    99.9,2,    7.50,2,   21.96,2,    0.05,2,    1.41,2,-999.000,9,-999.000,9,-999.000,9,  -999.0,9,  -999.0,9,   -999.0,9,  -999.00,-999.0000,9,  -999.00,-999.000,9,-999.000,9,-999.000,9, -999.00,9,  -999.0,9,  -999.0,-999.000,9,-999.000,-999.000,9, -999.00,9, -999.00,9,   89.20,-999.0000,9,-999.0000,9,-999.0000,9,-999.0000,9,-999.0000,9,-999.0000,9,  14.4380,     -999.0,9,     -999.0,9,     -999.0,9,     -999.0,9,        115,-999.000,-999.000,-999.000,     -999.0,9, -999.00,9, -999.00,9
33RO200306_02,       A16N,     115,          1,         28,         28,2,20030730,       1631,     8.4995,   -27.7508,       4934,   109.5,  13.5307,  35.3698,2,  35.3561,2,     99.8,2,   111.5,2,    8.13,2,   21.80,2,    0.02,2,    1.42,2,-999.000,9,-999.000,9,-999.000,9,  -999.0,9,  -999.0,9,   -999.0,9,  -999.00,-999.0000,9,  -999.00,-999.000,9,-999.000,9,-999.000,9, -999.00,9,  -999.0,9,  -999.0,-999.000,9,-999.000,-999.000,9, -999.00,9, -999.00,9,  109.50,-999.0000,9,-999.0000,9,-999.0000,9,-999.0000,9,-999.0000,9,-999.0000,9,  13.5152,     -999.0,9,     -999.0,9,     -999.0,9,     -999.0,9,        115,-999.000,-999.000,-999.000,     -999.0,9, -999.00,9, -999.00,9
33RO200306_02,       A16N,     115,          1,         27,         27,2,20030730,       1631,     8.4995,   -27.7508,       4934,   133.7,  12.5877,  35.2578,2,  35.2589,2,    113.7,2,   114.2,2,    8.82,2,   22.60,2,    0.01,2,    1.48,2,-999.000,9,-999.000,9,-999.000,9,  -999.0,9,  -999.0,9,   -999.0,9,  -999.00,-999.0000,9,  -999.00,-999.000,9,-999.000,9,-999.000,9, -999.00,9,  -999.0,9,  -999.0,-999.000,9,-999.000,-999.000,9, -999.00,9, -999.00,9,  133.70,-999.0000,9,-999.0000,9,-999.0000,9,-999.0000,9,-999.0000,9,-999.0000,9,  12.5697,     -999.0,9,     -999.0,9,     -999.0,9,     -999.0,9,        115,-999.000,-999.000,-999.000,     -999.0,9, -999.00,9, -999.00,9
33RO200306_02,       A16N,     115,          1,         26,         26,2,20030730,       1631,     8.4995,   -27.7508,       4934,   159.4,  12.0027,  35.1811,2,  35.1747,2,    112.2,2,   113.4,2,    9.63,2,   23.73,2,    0.01,2,    1.55,2,-999.000,9,-999.000,9,-999.000,9,  -999.0,9,  -999.0,9,   -999.0,9,  -999.00,-999.0000,9,  -999.00,-999.000,9,-999.000,9,-999.000,9, -999.00,9,  -999.0,9,  -999.0,-999.000,9,-999.000,-999.000,9, -999.00,9, -999.00,9,  159.40,-999.0000,9,-999.0000,9,-999.0000,9,-999.0000,9,-999.0000,9,-999.0000,9,  11.9819,     -999.0,9,     -999.0,9,     -999.0,9,     -999.0,9,        115,-999.000,-999.000,-999.000,     -999.0,9, -999.00,9, -999.00,9
33RO200306_02,       A16N,     115,          1,         25,         25,2,20030730,       1631,     8.4995,   -27.7508,       4934,   185.3,  11.5904,  35.1341,2,  35.1352,2,    111.2,2,   103.2,2,   10.37,2,   25.41,2,    0.01,2,    1.64,2,-999.000,9,-999.000,9,-999.000,9,  -999.0,9,  -999.0,9,   -999.0,9,  -999.00,-999.0000,9,  -999.00,-999.000,9,-999.000,9,-999.000,9, -999.00,9,  -999.0,9,  -999.0,-999.000,9,-999.000,-999.000,9, -999.00,9, -999.00,9,  185.30,-999.0000,9,-999.0000,9,-999.0000,9,-999.0000,9,-999.0000,9,-999.0000,9,  11.5667,     -999.0,9,     -999.0,9,     -999.0,9,     -999.0,9,        115,-999.000,-999.000,-999.000,     -999.0,9, -999.00,9, -999.00,9
33RO200306_02,       A16N,     115,          1,         24,         24,2,20030730,       1631,     8.4995,   -27.7508,       4934,   225.6,  11.1217,  35.0761,2,  35.0730,2,    101.5,2,   110.0,2,   10.90,2,   25.54,2,    0.01,2,    1.65,2,-999.000,9,-999.000,9,-999.000,9,  -999.0,9,  -999.0,9,   -999.0,9,  -999.00,-999.0000,9,  -999.00,-999.000,9,-999.000,9,-999.000,9, -999.00,9,  -999.0,9,  -999.0,-999.000,9,-999.000,-999.000,9, -999.00,9, -999.00,9,  225.60,-999.0000,9,-999.0000,9,-999.0000,9,-999.0000,9,-999.0000,9,-999.0000,9,  11.0936,     -999.0,9,     -999.0,9,     -999.0,9,     -999.0,9,        115,-999.000,-999.000,-999.000,     -999.0,9, -999.00,9, -999.00,9
33RO200306_02,       A16N,     115,          1,         23,         23,2,20030730,       1631,     8.4995,   -27.7508,       4934,   274.4,  10.6645,  35.0438,2,  35.0436,2,     98.5,2,    89.1,2,   12.29,2,   28.73,2,    0.01,2,    1.81,2,-999.000,9,-999.000,9,-999.000,9,  -999.0,9,  -999.0,9,   -999.0,9,  -999.00,-999.0000,9,  -999.00,-999.000,9,-999.000,9,-999.000,9, -999.00,9,  -999.0,9,  -999.0,-999.000,9,-999.000,-999.000,9, -999.00,9, -999.00,9,  274.40,-999.0000,9,-999.0000,9,-999.0000,9,-999.0000,9,-999.0000,9,-999.0000,9,  10.6312,     -999.0,9,     -999.0,9,     -999.0,9,     -999.0,9,        115,-999.000,-999.000,-999.000,     -999.0,9, -999.00,9, -999.00,9
33RO200306_02,       A16N,     115,          1,         22,         22,2,20030730,       1631,     8.4995,   -27.7508,       4934,   318.5,  10.2952,  35.0271,2,  35.0286,2,     74.5,2,    73.0,2,   13.45,2,   31.18,2,    0.01,2,    1.93,2,-999.000,9,-999.000,9,-999.000,9,  -999.0,9,  -999.0,9,   -999.0,9,  -999.00,-999.0000,9,  -999.00,-999.000,9,-999.000,9,-999.000,9, -999.00,9,  -999.0,9,  -999.0,-999.000,9,-999.000,-999.000,9, -999.00,9, -999.00,9,  318.50,-999.0000,9,-999.0000,9,-999.0000,9,-999.0000,9,-999.0000,9,-999.0000,9,  10.2573,     -999.0,9,     -999.0,9,     -999.0,9,     -999.0,9,        115,-999.000,-999.000,-999.000,     -999.0,9, -999.00,9, -999.00,9
33RO200306_02,       A16N,     115,          1,         21,         21,2,20030730,       1631,     8.4995,   -27.7508,       4934,   373.5,   9.8252,  35.0040,2,  35.0017,2,     62.6,2,    62.9,2,   14.75,2,   33.03,2,    0.00,2,    2.04,2,-999.000,9,-999.000,9,-999.000,9,  -999.0,9,  -999.0,9,   -999.0,9,  -999.00,-999.0000,9,  -999.00,-999.000,9,-999.000,9,-999.000,9, -999.00,9,  -999.0,9,  -999.0,-999.000,9,-999.000,-999.000,9, -999.00,9, -999.00,9,  373.50,-999.0000,9,-999.0000,9,-999.0000,9,-999.0000,9,-999.0000,9,-999.0000,9,   9.7819,     -999.0,9,     -999.0,9,     -999.0,9,     -999.0,9,        115,-999.000,-999.000,-999.000,     -999.0,9, -999.00,9, -999.00,9
33RO200306_02,       A16N,     115,          1,         20,         20,2,20030730,       1631,     8.4995,   -27.7508,       4934,   424.3,   9.5557,  35.0143,2,  35.0124,2,     51.3,2,    50.8,2,   15.84,2,   34.68,2,    0.01,2,    2.13,2,-999.000,9,-999.000,9,-999.000,9,  -999.0,9,  -999.0,9,   -999.0,9,  -999.00,-999.0000,9,  -999.00,-999.000,9,-999.000,9,-999.000,9, -999.00,9,  -999.0,9,  -999.0,-999.000,9,-999.000,-999.000,9, -999.00,9, -999.00,9,  424.30,-999.0000,9,-999.0000,9,-999.0000,9,-999.0000,9,-999.0000,9,-999.0000,9,   9.5073,     -999.0,9,     -999.0,9,     -999.0,9,     -999.0,9,        115,-999.000,-999.000,-999.000,     -999.0,9, -999.00,9, -999.00,9
33RO200306_02,       A16N,     115,          1,         19,         19,2,20030730,       1631,     8.4995,   -27.7508,       4934,   474.2,   8.7855,  34.9244,2,  34.9226,2,     59.2,2,    60.4,2,   17.56,2,   35.48,2,    0.00,2,    2.20,2,-999.000,9,-999.000,9,-999.000,9,  -999.0,9,  -999.0,9,   -999.0,9,  -999.00,-999.0000,9,  -999.00,-999.000,9,-999.000,9,-999.000,9, -999.00,9,  -999.0,9,  -999.0,-999.000,9,-999.000,-999.000,9, -999.00,9, -999.00,9,  474.20,-999.0000,9,-999.0000,9,-999.0000,9,-999.0000,9,-999.0000,9,-999.0000,9,   8.7339,     -999.0,9,     -999.0,9,     -999.0,9,     -999.0,9,        115,-999.000,-999.000,-999.000,     -999.0,9, -999.00,9, -999.00,9
33RO200306_02,       A16N,     115,          1,         18,         18,2,20030730,       1631,     8.4995,   -27.7508,       4934,   548.6,   8.2756,  34.9062,2,  34.9035,2,     59.6,2,    56.9,2,   19.12,2,   36.48,2,    0.00,2,    2.29,2,-999.000,9,-999.000,9,-999.000,9,  -999.0,9,  -999.0,9,   -999.0,9,  -999.00,-999.0000,9,  -999.00,-999.000,9,-999.000,9,-999.000,9, -999.00,9,  -999.0,9,  -999.0,-999.000,9,-999.000,-999.000,9, -999.00,9, -999.00,9,  548.60,-999.0000,9,-999.0000,9,-999.0000,9,-999.0000,9,-999.0000,9,-999.0000,9,   8.2178,     -999.0,9,     -999.0,9,     -999.0,9,     -999.0,9,        115,-999.000,-999.000,-999.000,     -999.0,9, -999.00,9, -999.00,9
33RO200306_02,       A16N,     115,          1,         17,         17,2,20030730,       1631,     8.4995,   -27.7508,       4934,   649.1,   7.0023,  34.7639,2,  34.7617,2,     84.9,2,    86.6,2,   22.39,2,   35.87,2,    0.00,2,    2.32,2,   0.095,2,   0.055,2,   0.000,2,  -999.0,9,  -999.0,9,   -999.0,9,  -999.00,-999.0000,9,  -999.00,-999.000,9,-999.000,9,-999.000,9, -999.00,9,  -999.0,9,  -999.0,-999.000,9,-999.000,-999.000,9, -999.00,9, -999.00,9,  649.10,-999.0000,9,-999.0000,9,-999.0000,9,-999.0000,9,-999.0000,9,-999.0000,9,   6.9397,     -999.0,9,     -999.0,9,     -999.0,9,     -999.0,9,        115,-999.000,-999.000,-999.000,     -999.0,9, -999.00,9, -999.00,9
33RO200306_02,       A16N,     115,          1,         16,         16,2,20030730,       1631,     8.4995,   -27.7508,       4934,   740.0,   6.2178,  34.7004,2,  34.6975,2,    103.0,2,   102.6,2,   24.87,2,   35.66,2,    0.00,2,    2.33,2,-999.000,9,-999.000,9,-999.000,9,  -999.0,9,  -999.0,9,   -999.0,9,  -999.00,-999.0000,9,  -999.00,-999.000,9,-999.000,9,-999.000,9, -999.00,9,  -999.0,9,  -999.0,-999.000,9,-999.000,-999.000,9, -999.00,9, -999.00,9,  740.00,-999.0000,9,-999.0000,9,-999.0000,9,-999.0000,9,-999.0000,9,-999.0000,9,   6.1505,     -999.0,9,     -999.0,9,     -999.0,9,     -999.0,9,        115,-999.000,-999.000,-999.000,     -999.0,9, -999.00,9, -999.00,9
33RO200306_02,       A16N,     115,          1,         15,         15,2,20030730,       1631,     8.4995,   -27.7508,       4934,   850.2,   5.6665,  34.7058,2,  34.7032,2,    109.1,2,   109.6,2,   26.86,2,   35.36,2,    0.00,2,    2.34,2,-999.000,9,-999.000,9,-999.000,9,  -999.0,9,  -999.0,9,   -999.0,9,  -999.00,-999.0000,9,  -999.00,-999.000,9,-999.000,9,-999.000,9, -999.00,9,  -999.0,9,  -999.0,-999.000,9,-999.000,-999.000,9, -999.00,9, -999.00,9,  850.20,-999.0000,9,-999.0000,9,-999.0000,9,-999.0000,9,-999.0000,9,-999.0000,9,   5.5920,     -999.0,9,     -999.0,9,     -999.0,9,     -999.0,9,        115,-999.000,-999.000,-999.000,     -999.0,9, -999.00,9, -999.00,9
33RO200306_02,       A16N,     115,          1,         14,         14,2,20030730,       1631,     8.4995,   -27.7508,       4934,   948.5,   5.2320,  34.7195,2,  34.7182,2,    124.6,2,   127.1,2,   27.60,2,   33.94,2,    0.00,2,    2.27,2,-999.000,9,-999.000,9,-999.000,9,  -999.0,9,  -999.0,9,   -999.0,9,  -999.00,-999.0000,9,  -999.00,-999.000,9,-999.000,9,-999.000,9, -999.00,9,  -999.0,9,  -999.0,-999.000,9,-999.000,-999.000,9, -999.00,9, -999.00,9,  948.50,-999.0000,9,-999.0000,9,-999.0000,9,-999.0000,9,-999.0000,9,-999.0000,9,   5.1513,     -999.0,9,     -999.0,9,     -999.0,9,     -999.0,9,        115,-999.000,-999.000,-999.000,     -999.0,9, -999.00,9, -999.00,9
33RO200306_02,       A16N,     115,          1,         13,         13,2,20030730,       1631,     8.4995,   -27.7508,       4934,  1049.3,   4.9958,  34.7808,2,  34.7786,2,    143.3,2,   146.7,2,   26.61,2,   31.29,2,    0.00,2,    2.11,2,   0.014,2,   0.007,2,   0.002,2,  -999.0,9,  -999.0,9,   -999.0,9,  -999.00,-999.0000,9,  -999.00,-999.000,9,-999.000,9,-999.000,9, -999.00,9,  -999.0,9,  -999.0,-999.000,9,-999.000,-999.000,9, -999.00,9, -999.00,9, 1049.30,-999.0000,9,-999.0000,9,-999.0000,9,-999.0000,9,-999.0000,9,-999.0000,9,   4.9076,     -999.0,9,     -999.0,9,     -999.0,9,     -999.0,9,        115,-999.000,-999.000,-999.000,     -999.0,9, -999.00,9, -999.00,9
33RO200306_02,       A16N,     115,          1,         12,         12,2,20030730,       1631,     8.4995,   -27.7508,       4934,  1149.6,   4.8707,  34.8484,2,  34.8476,2,    158.8,2,   161.4,2,   24.88,2,   29.08,2,    0.00,2,    1.97,2,-999.000,9,-999.000,9,-999.000,9,  -999.0,9,  -999.0,9,   -999.0,9,  -999.00,-999.0000,9,  -999.00,-999.000,9,-999.000,9,-999.000,9, -999.00,9,  -999.0,9,  -999.0,-999.000,9,-999.000,-999.000,9, -999.00,9, -999.00,9, 1149.60,-999.0000,9,-999.0000,9,-999.0000,9,-999.0000,9,-999.0000,9,-999.0000,9,   4.7742,     -999.0,9,     -999.0,9,     -999.0,9,     -999.0,9,        115,-999.000,-999.000,-999.000,     -999.0,9, -999.00,9, -999.00,9
33RO200306_02,       A16N,     115,          1,         11,         11,2,20030730,       1631,     8.4995,   -27.7508,       4934,  1298.5,   4.6028,  34.9107,2,  34.9088,2,    184.5,2,   185.2,2,   22.71,2,   26.06,2,    0.00,2,    1.77,2,   0.015,2,   0.011,2,   0.002,2,  -999.0,9,  -999.0,9,   -999.0,9,  -999.00,-999.0000,9,  -999.00,-999.000,9,-999.000,9,-999.000,9, -999.00,9,  -999.0,9,  -999.0,-999.000,9,-999.000,-999.000,9, -999.00,9, -999.00,9, 1298.50,-999.0000,9,-999.0000,9,-999.0000,9,-999.0000,9,-999.0000,9,-999.0000,9,   4.4949,     -999.0,9,     -999.0,9,     -999.0,9,     -999.0,9,        115,-999.000,-999.000,-999.000,     -999.0,9, -999.00,9, -999.00,9
33RO200306_02,       A16N,     115,          1,         10,         10,2,20030730,       1631,     8.4995,   -27.7508,       4934,  1498.8,   4.2703,  34.9636,2,  34.9621,2,    221.0,2,   218.9,2,   19.42,2,   22.30,2,    0.00,2,    1.52,2,-999.000,9,-999.000,9,-999.000,9,  -999.0,9,  -999.0,9,   -999.0,9,  -999.00,-999.0000,9,  -999.00,-999.000,9,-999.000,9,-999.000,9, -999.00,9,  -999.0,9,  -999.0,-999.000,9,-999.000,-999.000,9, -999.00,9, -999.00,9, 1498.80,-999.0000,9,-999.0000,9,-999.0000,9,-999.0000,9,-999.0000,9,-999.0000,9,   4.1472,     -999.0,9,     -999.0,9,     -999.0,9,     -999.0,9,        115,-999.000,-999.000,-999.000,     -999.0,9, -999.00,9, -999.00,9
33RO200306_02,       A16N,     115,          1,          9,          9,2,20030730,       1631,     8.4995,   -27.7508,       4934,  1698.9,   3.9225,  34.9731,2,  34.9718,2,    236.9,2,   236.3,2,   18.87,2,   20.73,2,    0.00,2,    1.41,2,   0.045,2,   0.028,2,   0.002,2,  -999.0,9,  -999.0,9,   -999.0,9,  -999.00,-999.0000,9,  -999.00,-999.000,9,-999.000,9,-999.000,9, -999.00,9,  -999.0,9,  -999.0,-999.000,9,-999.000,-999.000,9, -999.00,9, -999.00,9, 1698.90,-999.0000,9,-999.0000,9,-999.0000,9,-999.0000,9,-999.0000,9,-999.0000,9,   3.7849,     -999.0,9,     -999.0,9,     -999.0,9,     -999.0,9,        115,-999.000,-999.000,-999.000,     -999.0,9, -999.00,9, -999.00,9
33RO200306_02,       A16N,     115,          1,          8,          8,2,20030730,       1631,     8.4995,   -27.7508,       4934,  1899.3,   3.6670,  34.9689,2,  34.9698,2,    244.2,2,   243.0,2,   20.08,2,   20.22,2,    0.00,2,    1.37,2,   0.033,2,   0.020,2,   0.002,2,  -999.0,9,  -999.0,9,   -999.0,9,  -999.00,-999.0000,9,  -999.00,-999.000,9,-999.000,9,-999.000,9, -999.00,9,  -999.0,9,  -999.0,-999.000,9,-999.000,-999.000,9, -999.00,9, -999.00,9, 1899.30,-999.0000,9,-999.0000,9,-999.0000,9,-999.0000,9,-999.0000,9,-999.0000,9,   3.5140,     -999.0,9,     -999.0,9,     -999.0,9,     -999.0,9,        115,-999.000,-999.000,-999.000,     -999.0,9, -999.00,9, -999.00,9