BOTTLE,20230908CCHSIOCBG
EXPOCODE,SECT_ID,STNNBR,CASTNO,SAMPNO,BTLNBR,BTLNBR_FLAG_W,DATE,TIME,LATITUDE,LONGITUDE,DEPTH,CTDPRS,CTDTMP,CTDSAL,CTDSAL_FLAG_W,SALNTY,SALNTY_FLAG_W,CTDOXY,CTDOXY_FLAG_W,OXYGEN,OXYGEN_FLAG_W,SILCAT,SILCAT_FLAG_W,NITRAT,NITRAT_FLAG_W,NITRIT,NITRIT_FLAG_W,PHSPHT,PHSPHT_FLAG_W,CFC-11,CFC-11_FLAG_W,CFC-12,CFC-12_FLAG_W,CFC113,CFC113_FLAG_W,TCARBN,TCARBN_FLAG_W,ALKALI,ALKALI_FLAG_W,FCO2,FCO2_FLAG_W,FCO2TMP,PH_SWS,PH_SWS_FLAG_W,PH_TMP,TRITUM,TRITUM_FLAG_W,HELIUM,HELIUM_FLAG_W,DELHE3,DELHE3_FLAG_W,DELC13,DELC13_FLAG_W,DELC14,DELC14_FLAG_W,C14ERR,NEON,NEON_FLAG_W,NEONER,POC,POC_FLAG_W,DOC,DOC_FLAG_W,TDN,TDN_FLAG_W,CTDRAW,CDOM325,CDOM325_FLAG_W,CDOM340,CDOM340_FLAG_W,CDOM380,CDOM380_FLAG_W,CDOM412,CDOM412_FLAG_W,CDOMSL,CDOMSL_FLAG_W,CDOMSN,CDOMSN_FLAG_W,THETA,PON,PON_FLAG_W,HCFC-22,HCFC-22_FLAG_W,HCFC-142b,HCFC-142b_FLAG_W,HCFC-141b,HCFC-141b_FLAG_W,STNNBR_U,HELIER,DELHER,TRITER,CH3CL,CH3CL_FLAG_W,CH3BR,CH3BR_FLAG_W,CH3I,CH3I_FLAG_W
,,,,,,,,,,,METERS,DBAR,ITS-90,PSS-78,,PSS-78,,UMOL/KG,,UMOL/KG,,UMOL/KG,,UMOL/KG,,UMOL/KG,,UMOL/KG,,PMOL/KG,,PMOL/KG,,PMOL/KG,,UMOL/KG,,UMOL/KG,,UATM,,DEG C,,,DEG C,TU,,NMOL/KG,,PERCNT,,/MILLE,,/MILLE,,/MILLE,NMOL/KG,,NMOL/KG,UG/KG,,UMOL/KG,,UMOL/KG,,DBAR,1/M,,1/M,,1/M,,1/M,,1/NM,,1/NM,,DEG C,UMOL/L,,PMOL/KG,,PMOL/KG,,PMOL/KG,,,NMOL/KG,PERCNT,TU,PMOL/KG,,PMOL/KG,,PMOL/KG,
33RO200306_02,       A16N,     076,          1,          7,          7,2,20030718,       0214,    28.0000,   -24.4995,       5217,  2248.6,   3.6313,  35.0292,2,  35.0338,2,    242.1,2,   242.1,2,   24.26,2,   20.31,2,    0.00,2,    1.35,2,-999.000,5,-999.000,5,-999.000,5,  2180.2,2,  -999.0,9,    749.5,6,    20.00,-999.0000,9,  -999.00,-999.000,9,-999.000,9,-999.000,9, -999.00,9,  -999.0,9,  -999.0,-999.000,9,-999.000,-999.000,9,   41.63,2,   25.06,2, 2248.60,-999.0000,9,-999.0000,9,-999.0000,9,-999.0000,9,-999.0000,9,-999.0000,9,   3.4448,     -999.0,9,       0.00,2,       0.00,2,       0.11,2,         76,-999.000,-999.000,-999.000,      15.24,2,    0.22,2,    0.05,2
33RO200306_02,       A16N,     076,          1,          6,          6,2,20030718,       0214,    28.0000,   -24.4995,       5217,  2748.9,   2.9599,  34.9615,2,  34.9632,2,    246.5,2,   247.0,2,   30.98,2,   20.72,2,    0.00,2,    1.39,2,   0.029,2,   0.017,2,   0.002,2,  2186.2,2,  -999.0,9,   -999.0,9,  -999.00,-999.0000,9,  -999.00,-999.000,9,-999.000,9,-999.000,9, -999.00,9,  -999.0,9,  -999.0,-999.000,9,-999.000,-999.000,9,   40.57,2,   25.97,2, 2748.90,-999.0000,9,-999.0000,9,-999.0000,9,-999.0000,9,-999.0000,9,-999.0000,9,   2.7358,     -999.0,9,     -999.0,9,     -999.0,9,     -999.0,9,         76,-999.000,-999.000,-999.000,     -999.0,9, -999.00,9, -999.00,9
33RO200306_02,       A16N,     076,          1,          5,          5,2,20030718,       0214,    28.0000,   -24.4995,       5217,  3249.4,   2.6416,  34.9286,2,  34.9305,2,    245.2,2,   245.5,2,   37.63,2,   21.53,2,    0.00,2,    1.46,2,-999.000,5,-999.000,5,-999.000,5,  2193.0,2,  -999.0,9,    762.4,2,    20.00,-999.0000,9,  -999.00,-999.000,9,-999.000,9,-999.000,9, -999.00,9,  -999.0,9,  -999.0,-999.000,9,-999.000,-999.000,9,   40.32,2,   26.83,2, 3249.40,-999.0000,9,-999.0000,9,-999.0000,9,-999.0000,9,-999.0000,9,-999.0000,9,   2.3726,     -999.0,9,     -999.0,9,     -999.0,9,     -999.0,9,         76,-999.000,-999.000,-999.000,     -999.0,9, -999.00,9, -999.00,9
33RO200306_02,       A16N,     076,          1,          4,          4,2,20030718,       0214,    28.0000,   -24.4995,       5217,  3749.5,   2.4827,  34.9086,2,  34.9103,2,    244.6,2,   244.9,2,   42.35,6,   22.14,6,    0.00,6, -999.00,0,   0.009,2,   0.005,2,   0.002,2,  2197.9,2,  -999.0,9,   -999.0,9,  -999.00,-999.0000,9,  -999.00,-999.000,9,-999.000,9,-999.000,9, -999.00,9,  -999.0,9,  -999.0,-999.000,9,-999.000,-999.000,9,   39.92,2,   26.44,2, 3749.50,-999.0000,9,-999.0000,9,-999.0000,9,-999.0000,9,-999.0000,9,-999.0000,9,   2.1633,     -999.0,9,     -999.0,9,     -999.0,9,     -999.0,9,         76,-999.000,-999.000,-999.000,     -999.0,9, -999.00,9, -999.00,9
33RO200306_02,       A16N,     076,          1,          3,          3,2,20030718,       0214,    28.0000,   -24.4995,       5217,  4244.4,   2.4120,  34.8964,2,  34.8987,2,    244.7,2,   244.9,2,   45.00,6,   22.42,6,    0.00,6, -999.00,0,-999.000,5,-999.000,5,-999.000,5,  2200.4,2,  -999.0,9,    760.2,2,    20.00,-999.0000,9,  -999.00,-999.000,9,-999.000,9,-999.000,9, -999.00,9,  -999.0,9,  -999.0,-999.000,9,-999.000,-999.000,9,   40.65,2,   27.48,2, 4244.40,-999.0000,9,-999.0000,9,-999.0000,9,-999.0000,9,-999.0000,9,-999.0000,9,   2.0379,     -999.0,9,       0.50,2,       0.00,2,       1.64,2,         76,-999.000,-999.000,-999.000,      29.66,2,     0.0,2,    0.98,2
33RO200306_02,       A16N,     076,          1,          2,          2,2,20030718,       0214,    28.0000,   -24.4995,       5217,  4747.6,   2.3930,  34.8884,2,  34.8909,2,    245.3,2,   245.3,2,   46.76,6,   22.57,6,    0.00,6, -999.00,0,   0.001,2,   0.006,2,   0.001,2,  2201.1,2,  -999.0,9,    769.9,2,    20.00,-999.0000,9,  -999.00,-999.000,9,-999.000,9,-999.000,9, -999.00,9,  -999.0,9,  -999.0,-999.000,9,-999.000,-999.000,9,   40.32,2,   25.93,2, 4747.60,-999.0000,9,-999.0000,9,-999.0000,9,-999.0000,9,-999.0000,9,-999.0000,9,   1.9588,     -999.0,9,     -999.0,9,     -999.0,9,     -999.0,9,         76,-999.000,-999.000,-999.000,     -999.0,9, -999.00,9, -999.00,9
33RO200306_02,       A16N,     076,          1,          1,          1,2,20030718,       0214,    28.0000,   -24.4995,       5217,  5306.0,   2.4509,  34.8863,2,  34.8891,2,    245.4,2,   244.5,2,   47.17,6,   22.63,6,    0.00,6, -999.00,0,   0.009,2,   0.006,2,   0.001,2,  2198.7,6,  2350.6,6,    767.9,2,    20.00,   7.7270,6,    25.00,-999.000,9,-999.000,9,-999.000,9, -999.00,9,  -999.0,9,  -999.0,-999.000,9,-999.000,-999.000,9,   41.63,2,   27.43,2, 5306.00,-999.0000,9,-999.0000,9,-999.0000,9,-999.0000,9,-999.0000,9,-999.0000,9,   1.9438,     -999.0,9,       0.20,2,       0.00,2,       1.70,2,         76,-999.000,-999.000,-999.000,       0.89,2,     0.0,2,    0.19,2