BOTTLE,20230908CCHSIOCBG
EXPOCODE,SECT_ID,STNNBR,CASTNO,SAMPNO,BTLNBR,BTLNBR_FLAG_W,DATE,TIME,LATITUDE,LONGITUDE,DEPTH,CTDPRS,CTDTMP,CTDSAL,CTDSAL_FLAG_W,SALNTY,SALNTY_FLAG_W,CTDOXY,CTDOXY_FLAG_W,OXYGEN,OXYGEN_FLAG_W,SILCAT,SILCAT_FLAG_W,NITRAT,NITRAT_FLAG_W,NITRIT,NITRIT_FLAG_W,PHSPHT,PHSPHT_FLAG_W,CFC-11,CFC-11_FLAG_W,CFC-12,CFC-12_FLAG_W,CFC113,CFC113_FLAG_W,TCARBN,TCARBN_FLAG_W,ALKALI,ALKALI_FLAG_W,FCO2,FCO2_FLAG_W,FCO2TMP,PH_SWS,PH_SWS_FLAG_W,PH_TMP,TRITUM,TRITUM_FLAG_W,HELIUM,HELIUM_FLAG_W,DELHE3,DELHE3_FLAG_W,DELC13,DELC13_FLAG_W,DELC14,DELC14_FLAG_W,C14ERR,NEON,NEON_FLAG_W,NEONER,POC,POC_FLAG_W,DOC,DOC_FLAG_W,TDN,TDN_FLAG_W,CTDRAW,CDOM325,CDOM325_FLAG_W,CDOM340,CDOM340_FLAG_W,CDOM380,CDOM380_FLAG_W,CDOM412,CDOM412_FLAG_W,CDOMSL,CDOMSL_FLAG_W,CDOMSN,CDOMSN_FLAG_W,THETA,PON,PON_FLAG_W,HCFC-22,HCFC-22_FLAG_W,HCFC-142b,HCFC-142b_FLAG_W,HCFC-141b,HCFC-141b_FLAG_W,STNNBR_U,HELIER,DELHER,TRITER,CH3CL,CH3CL_FLAG_W,CH3BR,CH3BR_FLAG_W,CH3I,CH3I_FLAG_W
,,,,,,,,,,,METERS,DBAR,ITS-90,PSS-78,,PSS-78,,UMOL/KG,,UMOL/KG,,UMOL/KG,,UMOL/KG,,UMOL/KG,,UMOL/KG,,PMOL/KG,,PMOL/KG,,PMOL/KG,,UMOL/KG,,UMOL/KG,,UATM,,DEG C,,,DEG C,TU,,NMOL/KG,,PERCNT,,/MILLE,,/MILLE,,/MILLE,NMOL/KG,,NMOL/KG,UG/KG,,UMOL/KG,,UMOL/KG,,DBAR,1/M,,1/M,,1/M,,1/M,,1/NM,,1/NM,,DEG C,UMOL/L,,PMOL/KG,,PMOL/KG,,PMOL/KG,,,NMOL/KG,PERCNT,TU,PMOL/KG,,PMOL/KG,,PMOL/KG,
33RO200306_01,       A16N,     043,          1,          7,          7,2,20030630,       1359,    43.9987,   -20.0005,       4001,  2502.3,   3.1983,  34.9375,2,  34.9385,2,    270.9,2,   271.7,2,   16.37,2,   17.48,2,    0.00,2,    1.15,2,   1.452,2,   0.719,2,   0.065,2,  2161.2,2,  2309.8,2,    754.8,2,    20.00,   7.7290,2,    25.00,-999.000,9,-999.000,9,-999.000,9, -999.00,9,  -999.0,9,  -999.0,-999.000,9,-999.000,-999.000,9,   44.47,2,   22.32,2, 2502.30,-999.0000,9,-999.0000,9,-999.0000,9,-999.0000,9,-999.0000,9,-999.0000,9,   2.9945,     -999.0,9,       0.00,2,       0.00,2,       0.15,2,         43,-999.000,-999.000,-999.000,        0.0,2,    0.07,2,    0.05,2
33RO200306_01,       A16N,     043,          1,          6,          6,2,20030630,       1359,    43.9987,   -20.0005,       4001,  2751.0,   3.0320,  34.9491,2,  34.9492,2,    262.4,2,   261.5,2,   21.97,2,   18.35,2,    0.00,2,    1.22,2,   0.916,6,   0.459,6,   0.036,6,  2169.9,2,  2319.0,2,   -999.0,9,  -999.00,   7.7330,2,    25.00,-999.000,9,-999.000,9,-999.000,9, -999.00,9,  -999.0,9,  -999.0,-999.000,9,-999.000,-999.000,9,   44.39,2,   23.06,2, 2751.00,-999.0000,9,-999.0000,9,-999.0000,9,-999.0000,9,-999.0000,9,-999.0000,9,   2.8063,     -999.0,9,     -999.0,9,     -999.0,9,     -999.0,9,         43,-999.000,-999.000,-999.000,     -999.0,9, -999.00,9, -999.00,9
33RO200306_01,       A16N,     043,          1,          5,          5,2,20030630,       1359,    43.9987,   -20.0005,       4001,  3000.8,   2.8594,  34.9452,2,  34.9450,2,    255.2,2,   254.1,2,   28.45,2,   19.43,2,    0.00,2,    1.30,2,   0.502,2,   0.254,2,   0.018,2,  2179.1,2,  2328.8,2,    760.2,6,    20.00,   7.7332,2,    25.00,-999.000,9,-999.000,9,-999.000,9, -999.00,9,  -999.0,9,  -999.0,-999.000,9,-999.000,-999.000,9,   42.03,2,   24.41,2, 3000.80,   0.1500,3,   0.0960,3,   0.0470,3,   0.0350,3,   0.0160,3,   0.0200,3,   2.6116,     -999.0,9,     -999.0,9,     -999.0,9,     -999.0,9,         43,-999.000,-999.000,-999.000,     -999.0,9, -999.00,9, -999.00,9
33RO200306_01,       A16N,     043,          1,          4,          4,2,20030630,       1359,    43.9987,   -20.0005,       4001,  3249.9,   2.7183,  34.9346,2,  34.9347,2,    251.2,2,   250.6,2,   32.65,6,   20.09,6,    0.00,6,    1.34,6,   0.434,2,   0.220,2,   0.020,2,  2186.1,2,  2336.6,2,   -999.0,9,  -999.00,   7.7276,2,    25.00,-999.000,9,-999.000,9,-999.000,9, -999.00,9,  -999.0,9,  -999.0,-999.000,9,-999.000,-999.000,9,   42.03,2,   25.18,2, 3249.90,-999.0000,9,-999.0000,9,-999.0000,9,-999.0000,9,-999.0000,9,-999.0000,9,   2.4474,     -999.0,9,     -999.0,9,     -999.0,9,     -999.0,9,         43,-999.000,-999.000,-999.000,     -999.0,9, -999.00,9, -999.00,9
33RO200306_01,       A16N,     043,          1,          3,          3,2,20030630,       1359,    43.9987,   -20.0005,       4001,  3500.3,   2.6208,  34.9241,2,  34.9243,2,    245.8,2,   245.9,2,   37.59,6,   20.95,6,    0.00,6,    1.41,6,   0.264,2,   0.136,2,   0.014,2,  2193.3,2,  2342.4,2,    766.5,2,    20.00,   7.7283,2,    25.00,-999.000,9,-999.000,9,-999.000,9, -999.00,9,  -999.0,9,  -999.0,-999.000,9,-999.000,-999.000,9,   41.95,2,   24.69,2, 3500.30,-999.0000,9,-999.0000,9,-999.0000,9,-999.0000,9,-999.0000,9,-999.0000,9,   2.3253,     -999.0,9,       0.03,2,       0.00,2,       0.12,2,         43,-999.000,-999.000,-999.000,        0.0,2,     0.0,2,     0.0,2
33RO200306_01,       A16N,     043,          1,          2,          2,2,20030630,       1359,    43.9987,   -20.0005,       4001,  3750.5,   2.5786,  34.9176,2,  34.9174,2,    242.1,2,   242.9,2,   40.39,6,   21.46,6,    0.00,6,    1.44,6,   0.166,2,   0.083,2,   0.014,2,  2196.4,2,  2346.3,2,    767.0,2,    20.00,   7.7316,2,    25.00,-999.000,9,-999.000,9,-999.000,9, -999.00,9,  -999.0,9,  -999.0,-999.000,9,-999.000,-999.000,9,   41.87,2,   26.19,2, 3750.50,   0.1890,3,   0.1300,3,   0.0700,3,   0.0500,3,   0.0140,3,   0.0160,3,   2.2565,     -999.0,9,     -999.0,9,     -999.0,9,     -999.0,9,         43,-999.000,-999.000,-999.000,     -999.0,9, -999.00,9, -999.00,9
33RO200306_01,       A16N,     043,          1,          1,          1,2,20030630,       1359,    43.9987,   -20.0005,       4001,  4066.3,   2.5756,  34.9134,2,  34.9137,2,    239.6,2,   260.9,3,   42.23,2,   21.81,2,    0.00,2,    1.47,2,   0.113,2,   0.054,2,   0.009,2,  2197.4,6,  2350.4,2,    766.7,2,    20.00,   7.7329,2,    25.00,-999.000,9,-999.000,9,-999.000,9, -999.00,9,  -999.0,9,  -999.0,-999.000,9,-999.000,-999.000,9,   41.87,2,   26.60,2, 4066.30,-999.0000,9,-999.0000,9,-999.0000,9,-999.0000,9,-999.0000,9,-999.0000,9,   2.2175,     -999.0,9,       0.00,2,       0.16,2,       0.22,2,         43,-999.000,-999.000,-999.000,       7.96,2,     0.0,2,    0.18,2