BOTTLE,20230908CCHSIOCBG
EXPOCODE,SECT_ID,STNNBR,CASTNO,SAMPNO,BTLNBR,BTLNBR_FLAG_W,DATE,TIME,LATITUDE,LONGITUDE,DEPTH,CTDPRS,CTDTMP,CTDSAL,CTDSAL_FLAG_W,SALNTY,SALNTY_FLAG_W,CTDOXY,CTDOXY_FLAG_W,OXYGEN,OXYGEN_FLAG_W,SILCAT,SILCAT_FLAG_W,NITRAT,NITRAT_FLAG_W,NITRIT,NITRIT_FLAG_W,PHSPHT,PHSPHT_FLAG_W,CFC-11,CFC-11_FLAG_W,CFC-12,CFC-12_FLAG_W,CFC113,CFC113_FLAG_W,TCARBN,TCARBN_FLAG_W,ALKALI,ALKALI_FLAG_W,FCO2,FCO2_FLAG_W,FCO2TMP,PH_SWS,PH_SWS_FLAG_W,PH_TMP,TRITUM,TRITUM_FLAG_W,HELIUM,HELIUM_FLAG_W,DELHE3,DELHE3_FLAG_W,DELC13,DELC13_FLAG_W,DELC14,DELC14_FLAG_W,C14ERR,NEON,NEON_FLAG_W,NEONER,POC,POC_FLAG_W,DOC,DOC_FLAG_W,TDN,TDN_FLAG_W,CTDRAW,CDOM325,CDOM325_FLAG_W,CDOM340,CDOM340_FLAG_W,CDOM380,CDOM380_FLAG_W,CDOM412,CDOM412_FLAG_W,CDOMSL,CDOMSL_FLAG_W,CDOMSN,CDOMSN_FLAG_W,THETA,PON,PON_FLAG_W,HCFC-22,HCFC-22_FLAG_W,HCFC-142b,HCFC-142b_FLAG_W,HCFC-141b,HCFC-141b_FLAG_W,STNNBR_U,HELIER,DELHER,TRITER,CH3CL,CH3CL_FLAG_W,CH3BR,CH3BR_FLAG_W,CH3I,CH3I_FLAG_W
,,,,,,,,,,,METERS,DBAR,ITS-90,PSS-78,,PSS-78,,UMOL/KG,,UMOL/KG,,UMOL/KG,,UMOL/KG,,UMOL/KG,,UMOL/KG,,PMOL/KG,,PMOL/KG,,PMOL/KG,,UMOL/KG,,UMOL/KG,,UATM,,DEG C,,,DEG C,TU,,NMOL/KG,,PERCNT,,/MILLE,,/MILLE,,/MILLE,NMOL/KG,,NMOL/KG,UG/KG,,UMOL/KG,,UMOL/KG,,DBAR,1/M,,1/M,,1/M,,1/M,,1/NM,,1/NM,,DEG C,UMOL/L,,PMOL/KG,,PMOL/KG,,PMOL/KG,,,NMOL/KG,PERCNT,TU,PMOL/KG,,PMOL/KG,,PMOL/KG,
33RO200306_02,       A16N,     127,          1,         35,         35,2,20030803,       0711,     2.6675,   -25.0003,       4105,     3.2,  27.0895,  35.5973,2,  35.6022,2,    195.0,2,   204.8,2,    0.80,2,    0.16,2,    0.00,2,    0.05,2,-999.000,9,-999.000,9,-999.000,9,  1989.8,6,  2305.2,3,   -999.0,9,  -999.00,-999.0000,9,  -999.00,-999.000,9,-999.000,9,-999.000,9, -999.00,9,  -999.0,9,  -999.0,-999.000,9,-999.000,-999.000,9, -999.00,9, -999.00,9,    3.20,-999.0000,9,-999.0000,9,-999.0000,9,-999.0000,9,-999.0000,9,-999.0000,9,  27.0888,     -999.0,9,     -999.0,9,     -999.0,9,     -999.0,9,        127,-999.000,-999.000,-999.000,     -999.0,9, -999.00,9, -999.00,9
33RO200306_02,       A16N,     127,          1,         33,         33,2,20030803,       0711,     2.6675,   -25.0003,       4105,    21.2,  27.0975,  35.5959,2,  35.6016,2,    194.9,2,   204.5,2,    0.80,2,    0.16,2,    0.00,2,    0.05,2,-999.000,9,-999.000,9,-999.000,9,  -999.0,9,  -999.0,9,   -999.0,9,  -999.00,-999.0000,9,  -999.00,-999.000,9,-999.000,9,-999.000,9, -999.00,9,  -999.0,9,  -999.0,-999.000,9,-999.000,-999.000,9, -999.00,9, -999.00,9,   21.20,-999.0000,9,-999.0000,9,-999.0000,9,-999.0000,9,-999.0000,9,-999.0000,9,  27.0926,     -999.0,9,     -999.0,9,     -999.0,9,     -999.0,9,        127,-999.000,-999.000,-999.000,     -999.0,9, -999.00,9, -999.00,9
33RO200306_02,       A16N,     127,          1,         32,         32,2,20030803,       0711,     2.6675,   -25.0003,       4105,    40.8,  27.1194,  35.6032,2,  35.6130,2,    190.9,2,   203.5,2,    0.82,2,    0.17,2,    0.00,2,    0.06,2,-999.000,9,-999.000,9,-999.000,9,  -999.0,9,  -999.0,9,   -999.0,9,  -999.00,-999.0000,9,  -999.00,-999.000,9,-999.000,9,-999.000,9, -999.00,9,  -999.0,9,  -999.0,-999.000,9,-999.000,-999.000,9, -999.00,9, -999.00,9,   40.80,-999.0000,9,-999.0000,9,-999.0000,9,-999.0000,9,-999.0000,9,-999.0000,9,  27.1100,     -999.0,9,     -999.0,9,     -999.0,9,     -999.0,9,        127,-999.000,-999.000,-999.000,     -999.0,9, -999.00,9, -999.00,9
33RO200306_02,       A16N,     127,          1,         31,         31,2,20030803,       0711,     2.6675,   -25.0003,       4105,    60.4,  27.0197,  35.7177,2,  35.8185,2,    190.1,2,   200.8,2,    1.05,2,    0.19,2,    0.02,2,    0.09,2,-999.000,9,-999.000,9,-999.000,9,  -999.0,9,  -999.0,9,   -999.0,9,  -999.00,-999.0000,9,  -999.00,-999.000,9,-999.000,9,-999.000,9, -999.00,9,  -999.0,9,  -999.0,-999.000,9,-999.000,-999.000,9, -999.00,9, -999.00,9,   60.40,-999.0000,9,-999.0000,9,-999.0000,9,-999.0000,9,-999.0000,9,-999.0000,9,  27.0058,     -999.0,9,     -999.0,9,     -999.0,9,     -999.0,9,        127,-999.000,-999.000,-999.000,     -999.0,9, -999.00,9, -999.00,9
33RO200306_02,       A16N,     127,          1,         30,         30,2,20030803,       0711,     2.6675,   -25.0003,       4105,    81.2,  18.7498,  35.7136,2,  35.7094,2,    147.1,2,   119.3,2,    4.11,2,   13.23,2,    0.10,2,    0.99,2,-999.000,9,-999.000,9,-999.000,9,  -999.0,9,  -999.0,9,   -999.0,9,  -999.00,-999.0000,9,  -999.00,-999.000,9,-999.000,9,-999.000,9, -999.00,9,  -999.0,9,  -999.0,-999.000,9,-999.000,-999.000,9, -999.00,9, -999.00,9,   81.20,-999.0000,9,-999.0000,9,-999.0000,9,-999.0000,9,-999.0000,9,-999.0000,9,  18.7354,     -999.0,9,     -999.0,9,     -999.0,9,     -999.0,9,        127,-999.000,-999.000,-999.000,     -999.0,9, -999.00,9, -999.00,9
33RO200306_02,       A16N,     127,          1,         29,         29,2,20030803,       0711,     2.6675,   -25.0003,       4105,   100.2,  15.7486,  35.5968,2,  35.5947,2,     95.5,2,    95.1,2,    6.47,2,   20.60,2,    0.03,2,    1.38,2,   1.945,2,   1.104,2,   0.029,2,  2185.6,2,  2298.5,3,   -999.0,9,  -999.00,-999.0000,9,  -999.00,-999.000,9,-999.000,9,-999.000,9, -999.00,9,  -999.0,9,  -999.0,-999.000,9,-999.000,-999.000,9, -999.00,9, -999.00,9,  100.20,-999.0000,9,-999.0000,9,-999.0000,9,-999.0000,9,-999.0000,9,-999.0000,9,  15.7329,     -999.0,9,     -999.0,9,     -999.0,9,     -999.0,9,        127,-999.000,-999.000,-999.000,     -999.0,9, -999.00,9, -999.00,9
33RO200306_02,       A16N,     127,          1,         28,         28,2,20030803,       0711,     2.6675,   -25.0003,       4105,   125.4,  15.2002,  35.5538,2,  35.5502,2,     94.7,2,    96.8,2,    6.99,2,   21.08,2,    0.02,2,    1.41,2,-999.000,9,-999.000,9,-999.000,9,  -999.0,9,  -999.0,9,   -999.0,9,  -999.00,-999.0000,9,  -999.00,-999.000,9,-999.000,9,-999.000,9, -999.00,9,  -999.0,9,  -999.0,-999.000,9,-999.000,-999.000,9, -999.00,9, -999.00,9,  125.40,-999.0000,9,-999.0000,9,-999.0000,9,-999.0000,9,-999.0000,9,-999.0000,9,  15.1810,     -999.0,9,     -999.0,9,     -999.0,9,     -999.0,9,        127,-999.000,-999.000,-999.000,     -999.0,9, -999.00,9, -999.00,9
33RO200306_02,       A16N,     127,          1,         27,         27,2,20030803,       0711,     2.6675,   -25.0003,       4105,   150.3,  14.8078,  35.5045,2,  35.5023,2,     93.9,2,    96.4,2,    7.44,2,   21.74,2,    0.01,2,    1.46,2,-999.000,9,-999.000,9,-999.000,9,  -999.0,9,  -999.0,9,   -999.0,9,  -999.00,-999.0000,9,  -999.00,-999.000,9,-999.000,9,-999.000,9, -999.00,9,  -999.0,9,  -999.0,-999.000,9,-999.000,-999.000,9, -999.00,9, -999.00,9,  150.30,-999.0000,9,-999.0000,9,-999.0000,9,-999.0000,9,-999.0000,9,-999.0000,9,  14.7852,     -999.0,9,     -999.0,9,     -999.0,9,     -999.0,9,        127,-999.000,-999.000,-999.000,     -999.0,9, -999.00,9, -999.00,9
33RO200306_02,       A16N,     127,          1,         26,         26,2,20030803,       0711,     2.6675,   -25.0003,       4105,   174.6,  14.5983,  35.4773,2,  35.4768,2,     93.0,2,    95.2,2,    7.58,2,   22.02,2,    0.01,2,    1.46,2,-999.000,9,-999.000,9,-999.000,9,  -999.0,9,  -999.0,9,   -999.0,9,  -999.00,-999.0000,9,  -999.00,-999.000,9,-999.000,9,-999.000,9, -999.00,9,  -999.0,9,  -999.0,-999.000,9,-999.000,-999.000,9, -999.00,9, -999.00,9,  174.60,-999.0000,9,-999.0000,9,-999.0000,9,-999.0000,9,-999.0000,9,-999.0000,9,  14.5723,     -999.0,9,     -999.0,9,     -999.0,9,     -999.0,9,        127,-999.000,-999.000,-999.000,     -999.0,9, -999.00,9, -999.00,9
33RO200306_02,       A16N,     127,          1,         25,         25,2,20030803,       0711,     2.6675,   -25.0003,       4105,   199.6,  14.0454,  35.4068,2,  35.4097,2,     97.1,2,   100.7,2,    7.93,2,   22.64,2,    0.01,2,    1.49,2,   1.732,2,   0.958,2,   0.015,2,  2187.6,2,  2297.5,3,   -999.0,9,  -999.00,-999.0000,9,  -999.00,-999.000,9,-999.000,9,-999.000,9, -999.00,9,  -999.0,9,  -999.0,-999.000,9,-999.000,-999.000,9, -999.00,9, -999.00,9,  199.60,-999.0000,9,-999.0000,9,-999.0000,9,-999.0000,9,-999.0000,9,-999.0000,9,  14.0164,     -999.0,9,     -999.0,9,     -999.0,9,     -999.0,9,        127,-999.000,-999.000,-999.000,     -999.0,9, -999.00,9, -999.00,9
33RO200306_02,       A16N,     127,          1,         24,         24,2,20030803,       0711,     2.6675,   -25.0003,       4105,   250.7,  13.2560,  35.3088,2,  35.3022,2,    102.9,2,   108.5,2,    8.43,2,   22.76,2,    0.01,2,    1.50,2,-999.000,9,-999.000,9,-999.000,9,  -999.0,9,  -999.0,9,   -999.0,9,  -999.00,-999.0000,9,  -999.00,-999.000,9,-999.000,9,-999.000,9, -999.00,9,  -999.0,9,  -999.0,-999.000,9,-999.000,-999.000,9, -999.00,9, -999.00,9,  250.70,-999.0000,9,-999.0000,9,-999.0000,9,-999.0000,9,-999.0000,9,-999.0000,9,  13.2209,     -999.0,9,     -999.0,9,     -999.0,9,     -999.0,9,        127,-999.000,-999.000,-999.000,     -999.0,9, -999.00,9, -999.00,9
33RO200306_02,       A16N,     127,          1,         23,         23,2,20030803,       0711,     2.6675,   -25.0003,       4105,   300.3,  11.7736,  35.1337,2,  35.1237,2,     82.3,2,    74.6,2,   11.94,2,   29.41,2,    0.01,2,    1.87,2,-999.000,9,-999.000,9,-999.000,9,  -999.0,9,  -999.0,9,   -999.0,9,  -999.00,-999.0000,9,  -999.00,-999.000,9,-999.000,9,-999.000,9, -999.00,9,  -999.0,9,  -999.0,-999.000,9,-999.000,-999.000,9, -999.00,9, -999.00,9,  300.30,-999.0000,9,-999.0000,9,-999.0000,9,-999.0000,9,-999.0000,9,-999.0000,9,  11.7347,     -999.0,9,     -999.0,9,     -999.0,9,     -999.0,9,        127,-999.000,-999.000,-999.000,     -999.0,9, -999.00,9, -999.00,9
33RO200306_02,       A16N,     127,          1,         22,         22,2,20030803,       0711,     2.6675,   -25.0003,       4105,   349.9,   9.4176,  34.8856,2,  34.8838,2,     82.5,2,    83.3,2,   15.36,2,   32.36,2,    0.01,2,    2.04,2,-999.000,9,-999.000,9,-999.000,9,  -999.0,9,  -999.0,9,   -999.0,9,  -999.00,-999.0000,9,  -999.00,-999.000,9,-999.000,9,-999.000,9, -999.00,9,  -999.0,9,  -999.0,-999.000,9,-999.000,-999.000,9, -999.00,9, -999.00,9,  349.90,-999.0000,9,-999.0000,9,-999.0000,9,-999.0000,9,-999.0000,9,-999.0000,9,   9.3782,     -999.0,9,     -999.0,9,     -999.0,9,     -999.0,9,        127,-999.000,-999.000,-999.000,     -999.0,9, -999.00,9, -999.00,9
33RO200306_02,       A16N,     127,          1,         21,         21,2,20030803,       0711,     2.6675,   -25.0003,       4105,   399.3,   8.4188,  34.7700,2,  34.7705,2,    116.1,2,   120.8,2,   16.43,2,   30.34,2,    0.01,2,    1.97,2,   0.931,2,   0.492,2,   0.015,2,  2202.6,2,  2301.5,2,   -999.0,9,  -999.00,   7.5889,2,    25.00,-999.000,9,-999.000,9,-999.000,9, -999.00,9,  -999.0,9,  -999.0,-999.000,9,-999.000,-999.000,9, -999.00,9, -999.00,9,  399.30,-999.0000,9,-999.0000,9,-999.0000,9,-999.0000,9,-999.0000,9,-999.0000,9,   8.3767,     -999.0,9,     -999.0,9,     -999.0,9,     -999.0,9,        127,-999.000,-999.000,-999.000,     -999.0,9, -999.00,9, -999.00,9
33RO200306_02,       A16N,     127,          1,         20,         20,2,20030803,       0711,     2.6675,   -25.0003,       4105,   450.7,   7.5882,  34.6969,2,  34.6994,2,    122.5,2,   117.4,2,   18.87,2,   32.65,2,    0.01,2,    2.10,2,-999.000,9,-999.000,9,-999.000,9,  -999.0,9,  -999.0,9,   -999.0,9,  -999.00,-999.0000,9,  -999.00,-999.000,9,-999.000,9,-999.000,9, -999.00,9,  -999.0,9,  -999.0,-999.000,9,-999.000,-999.000,9, -999.00,9, -999.00,9,  450.70,-999.0000,9,-999.0000,9,-999.0000,9,-999.0000,9,-999.0000,9,-999.0000,9,   7.5434,     -999.0,9,     -999.0,9,     -999.0,9,     -999.0,9,        127,-999.000,-999.000,-999.000,     -999.0,9, -999.00,9, -999.00,9
33RO200306_02,       A16N,     127,          1,         19,         19,2,20030803,       0711,     2.6675,   -25.0003,       4105,   499.8,   6.9613,  34.6442,2,  34.6444,2,    116.1,2,   116.8,2,   21.19,2,   33.99,2,    0.01,2,    2.21,2,-999.000,9,-999.000,9,-999.000,9,  -999.0,9,  -999.0,9,   -999.0,9,  -999.00,-999.0000,9,  -999.00,-999.000,9,-999.000,9,-999.000,9, -999.00,9,  -999.0,9,  -999.0,-999.000,9,-999.000,-999.000,9, -999.00,9, -999.00,9,  499.80,-999.0000,9,-999.0000,9,-999.0000,9,-999.0000,9,-999.0000,9,-999.0000,9,   6.9139,     -999.0,9,     -999.0,9,     -999.0,9,     -999.0,9,        127,-999.000,-999.000,-999.000,     -999.0,9, -999.00,9, -999.00,9
33RO200306_02,       A16N,     127,          1,         18,         18,2,20030803,       0711,     2.6675,   -25.0003,       4105,   600.7,   5.6357,  34.5451,2,  34.5539,2,    144.1,2,   140.8,2,   26.12,2,   34.20,2,    0.00,2,    2.28,2,   0.306,2,   0.161,2,   0.007,2,  2212.7,2,  2315.8,2,   -999.0,9,  -999.00,   7.5518,2,    25.00,-999.000,9,-999.000,9,-999.000,9, -999.00,9,  -999.0,9,  -999.0,-999.000,9,-999.000,-999.000,9, -999.00,9, -999.00,9,  600.70,-999.0000,9,-999.0000,9,-999.0000,9,-999.0000,9,-999.0000,9,-999.0000,9,   5.5844,     -999.0,9,     -999.0,9,     -999.0,9,     -999.0,9,        127,-999.000,-999.000,-999.000,     -999.0,9, -999.00,9, -999.00,9
33RO200306_02,       A16N,     127,          1,         17,         17,2,20030803,       0711,     2.6675,   -25.0003,       4105,   700.9,   5.1520,  34.5171,2,  34.5263,2,    150.9,2,   149.9,2,   28.22,2,   34.15,2,    0.00,2,    2.29,2,-999.000,9,-999.000,9,-999.000,9,  -999.0,9,  -999.0,9,   -999.0,9,  -999.00,-999.0000,9,  -999.00,-999.000,9,-999.000,9,-999.000,9, -999.00,9,  -999.0,9,  -999.0,-999.000,9,-999.000,-999.000,9, -999.00,9, -999.00,9,  700.90,-999.0000,9,-999.0000,9,-999.0000,9,-999.0000,9,-999.0000,9,-999.0000,9,   5.0943,     -999.0,9,     -999.0,9,     -999.0,9,     -999.0,9,        127,-999.000,-999.000,-999.000,     -999.0,9, -999.00,9, -999.00,9
33RO200306_02,       A16N,     127,          1,         16,         16,2,20030803,       0711,     2.6675,   -25.0003,       4105,   801.1,   4.9479,  34.5284,2,  34.5311,2,    150.5,2,   151.2,2,   29.47,2,   34.14,2,    0.00,2,    2.30,2,   0.164,2,   0.091,2,   0.004,2,  2216.3,2,  2306.3,2,   -999.0,9,  -999.00,   7.5634,2,    25.00,-999.000,9,-999.000,9,-999.000,9, -999.00,9,  -999.0,9,  -999.0,-999.000,9,-999.000,-999.000,9, -999.00,9, -999.00,9,  801.10,-999.0000,9,-999.0000,9,-999.0000,9,-999.0000,9,-999.0000,9,-999.0000,9,   4.8826,     -999.0,9,     -999.0,9,     -999.0,9,     -999.0,9,        127,-999.000,-999.000,-999.000,     -999.0,9, -999.00,9, -999.00,9
33RO200306_02,       A16N,     127,          1,         15,         15,2,20030803,       0711,     2.6675,   -25.0003,       4105,   901.3,   4.7969,  34.5856,2,  34.5902,2,    148.1,2,   148.8,2,   30.18,2,   33.97,2,    0.00,2,    2.30,2,-999.000,9,-999.000,9,-999.000,9,  -999.0,9,  -999.0,9,   -999.0,9,  -999.00,-999.0000,9,  -999.00,-999.000,9,-999.000,9,-999.000,9, -999.00,9,  -999.0,9,  -999.0,-999.000,9,-999.000,-999.000,9, -999.00,9, -999.00,9,  901.30,-999.0000,9,-999.0000,9,-999.0000,9,-999.0000,9,-999.0000,9,-999.0000,9,   4.7237,     -999.0,9,     -999.0,9,     -999.0,9,     -999.0,9,        127,-999.000,-999.000,-999.000,     -999.0,9, -999.00,9, -999.00,9
33RO200306_02,       A16N,     127,          1,         14,         14,2,20030803,       0711,     2.6675,   -25.0003,       4105,  1000.3,   4.6355,  34.6460,2,  34.6476,2,    151.8,2,   149.8,2,   30.38,2,   33.35,2,    0.00,2,    2.27,2,-999.000,9,-999.000,9,-999.000,9,  -999.0,9,  -999.0,9,   -999.0,9,  -999.00,-999.0000,9,  -999.00,-999.000,9,-999.000,9,-999.000,9, -999.00,9,  -999.0,9,  -999.0,-999.000,9,-999.000,-999.000,9, -999.00,9, -999.00,9, 1000.30,-999.0000,9,-999.0000,9,-999.0000,9,-999.0000,9,-999.0000,9,-999.0000,9,   4.5547,     -999.0,9,     -999.0,9,     -999.0,9,     -999.0,9,        127,-999.000,-999.000,-999.000,     -999.0,9, -999.00,9, -999.00,9
33RO200306_02,       A16N,     127,          1,         13,         13,2,20030803,       0711,     2.6675,   -25.0003,       4105,  1100.8,   4.5754,  34.7208,2,  34.7215,2,    157.7,2,   162.7,2,   28.84,2,   31.48,2,    0.00,2,    2.14,2,-999.000,9,-999.000,9,-999.000,9,  -999.0,9,  -999.0,9,   -999.0,9,  -999.00,-999.0000,9,  -999.00,-999.000,9,-999.000,9,-999.000,9, -999.00,9,  -999.0,9,  -999.0,-999.000,9,-999.000,-999.000,9, -999.00,9, -999.00,9, 1100.80,-999.0000,9,-999.0000,9,-999.0000,9,-999.0000,9,-999.0000,9,-999.0000,9,   4.4860,     -999.0,9,     -999.0,9,     -999.0,9,     -999.0,9,        127,-999.000,-999.000,-999.000,     -999.0,9, -999.00,9, -999.00,9
33RO200306_02,       A16N,     127,          1,         12,         12,2,20030803,       0711,     2.6675,   -25.0003,       4105,  1200.2,   4.6241,  34.8359,2,  34.8401,2,    179.6,2,   183.1,2,   24.59,2,   27.89,2,    0.00,2,    1.88,2,-999.000,9,-999.000,9,-999.000,9,  -999.0,9,  -999.0,9,   -999.0,9,  -999.00,-999.0000,9,  -999.00,-999.000,9,-999.000,9,-999.000,9, -999.00,9,  -999.0,9,  -999.0,-999.000,9,-999.000,-999.000,9, -999.00,9, -999.00,9, 1200.20,-999.0000,9,-999.0000,9,-999.0000,9,-999.0000,9,-999.0000,9,-999.0000,9,   4.5251,     -999.0,9,     -999.0,9,     -999.0,9,     -999.0,9,        127,-999.000,-999.000,-999.000,     -999.0,9, -999.00,9, -999.00,9
33RO200306_02,       A16N,     127,          1,         11,         11,2,20030803,       0711,     2.6675,   -25.0003,       4105,  1399.3,   4.4260,  34.9321,2,  34.9352,2,    213.2,2,   211.5,2,   20.48,2,   23.95,2,    0.00,2,    1.61,2,-999.000,9,-999.000,9,-999.000,9,  -999.0,9,  -999.0,9,   -999.0,9,  -999.00,-999.0000,9,  -999.00,-999.000,9,-999.000,9,-999.000,9, -999.00,9,  -999.0,9,  -999.0,-999.000,9,-999.000,-999.000,9, -999.00,9, -999.00,9, 1399.30,-999.0000,9,-999.0000,9,-999.0000,9,-999.0000,9,-999.0000,9,-999.0000,9,   4.3105,     -999.0,9,     -999.0,9,     -999.0,9,     -999.0,9,        127,-999.000,-999.000,-999.000,     -999.0,9, -999.00,9, -999.00,9
33RO200306_02,       A16N,     127,          1,         10,         10,2,20030803,       0711,     2.6675,   -25.0003,       4105,  1599.9,   4.0481,  34.9710,2,  34.9725,2,    239.5,2,   236.5,2,   18.50,2,   21.28,2,    0.00,2,    1.43,2,-999.000,9,-999.000,9,-999.000,9,  -999.0,9,  -999.0,9,   -999.0,9,  -999.00,-999.0000,9,  -999.00,-999.000,9,-999.000,9,-999.000,9, -999.00,9,  -999.0,9,  -999.0,-999.000,9,-999.000,-999.000,9, -999.00,9, -999.00,9, 1599.90,-999.0000,9,-999.0000,9,-999.0000,9,-999.0000,9,-999.0000,9,-999.0000,9,   3.9181,     -999.0,9,     -999.0,9,     -999.0,9,     -999.0,9,        127,-999.000,-999.000,-999.000,     -999.0,9, -999.00,9, -999.00,9
33RO200306_02,       A16N,     127,          1,          9,          9,2,20030803,       0711,     2.6675,   -25.0003,       4105,  1801.1,   3.7799,  34.9722,2,  34.9749,2,    248.1,2,   251.6,2,   19.20,2,   20.50,2,    0.00,2,    1.38,2,-999.000,9,-999.000,9,-999.000,9,  -999.0,9,  -999.0,9,   -999.0,9,  -999.00,-999.0000,9,  -999.00,-999.000,9,-999.000,9,-999.000,9, -999.00,9,  -999.0,9,  -999.0,-999.000,9,-999.000,-999.000,9, -999.00,9, -999.00,9, 1801.10,-999.0000,9,-999.0000,9,-999.0000,9,-999.0000,9,-999.0000,9,-999.0000,9,   3.6346,     -999.0,9,     -999.0,9,     -999.0,9,     -999.0,9,        127,-999.000,-999.000,-999.000,     -999.0,9, -999.00,9, -999.00,9
33RO200306_02,       A16N,     127,          1,          8,          8,2,20030803,       0711,     2.6675,   -25.0003,       4105,  2000.6,   3.5391,  34.9663,2,  34.9679,2,    253.3,2,   249.8,2,   21.09,2,   20.28,2,    0.00,2,    1.36,2,-999.000,9,-999.000,9,-999.000,9,  -999.0,9,  -999.0,9,   -999.0,9,  -999.00,-999.0000,9,  -999.00,-999.000,9,-999.000,9,-999.000,9, -999.00,9,  -999.0,9,  -999.0,-999.000,9,-999.000,-999.000,9, -999.00,9, -999.00,9, 2000.60,-999.0000,9,-999.0000,9,-999.0000,9,-999.0000,9,-999.0000,9,-999.0000,9,   3.3784,     -999.0,9,     -999.0,9,     -999.0,9,     -999.0,9,        127,-999.000,-999.000,-999.000,     -999.0,9, -999.00,9, -999.00,9