BOTTLE,20230908CCHSIOCBG
EXPOCODE,SECT_ID,STNNBR,CASTNO,SAMPNO,BTLNBR,BTLNBR_FLAG_W,DATE,TIME,LATITUDE,LONGITUDE,DEPTH,CTDPRS,CTDTMP,CTDSAL,CTDSAL_FLAG_W,SALNTY,SALNTY_FLAG_W,CTDOXY,CTDOXY_FLAG_W,OXYGEN,OXYGEN_FLAG_W,SILCAT,SILCAT_FLAG_W,NITRAT,NITRAT_FLAG_W,NITRIT,NITRIT_FLAG_W,PHSPHT,PHSPHT_FLAG_W,CFC-11,CFC-11_FLAG_W,CFC-12,CFC-12_FLAG_W,CFC113,CFC113_FLAG_W,TCARBN,TCARBN_FLAG_W,ALKALI,ALKALI_FLAG_W,FCO2,FCO2_FLAG_W,FCO2TMP,PH_SWS,PH_SWS_FLAG_W,PH_TMP,TRITUM,TRITUM_FLAG_W,HELIUM,HELIUM_FLAG_W,DELHE3,DELHE3_FLAG_W,DELC13,DELC13_FLAG_W,DELC14,DELC14_FLAG_W,C14ERR,NEON,NEON_FLAG_W,NEONER,POC,POC_FLAG_W,DOC,DOC_FLAG_W,TDN,TDN_FLAG_W,CTDRAW,CDOM325,CDOM325_FLAG_W,CDOM340,CDOM340_FLAG_W,CDOM380,CDOM380_FLAG_W,CDOM412,CDOM412_FLAG_W,CDOMSL,CDOMSL_FLAG_W,CDOMSN,CDOMSN_FLAG_W,THETA,PON,PON_FLAG_W,HCFC-22,HCFC-22_FLAG_W,HCFC-142b,HCFC-142b_FLAG_W,HCFC-141b,HCFC-141b_FLAG_W,STNNBR_U,HELIER,DELHER,TRITER,CH3CL,CH3CL_FLAG_W,CH3BR,CH3BR_FLAG_W,CH3I,CH3I_FLAG_W
,,,,,,,,,,,METERS,DBAR,ITS-90,PSS-78,,PSS-78,,UMOL/KG,,UMOL/KG,,UMOL/KG,,UMOL/KG,,UMOL/KG,,UMOL/KG,,PMOL/KG,,PMOL/KG,,PMOL/KG,,UMOL/KG,,UMOL/KG,,UATM,,DEG C,,,DEG C,TU,,NMOL/KG,,PERCNT,,/MILLE,,/MILLE,,/MILLE,NMOL/KG,,NMOL/KG,UG/KG,,UMOL/KG,,UMOL/KG,,DBAR,1/M,,1/M,,1/M,,1/M,,1/NM,,1/NM,,DEG C,UMOL/L,,PMOL/KG,,PMOL/KG,,PMOL/KG,,,NMOL/KG,PERCNT,TU,PMOL/KG,,PMOL/KG,,PMOL/KG,
33RO200306_02,       A16N,     105,          1,         35,         35,2,20030727,       0737,    13.4998,   -28.9997,       5540,     3.1,  27.6618,  36.4383,2,  36.4411,2,    203.7,2,   199.9,2, -999.00,1, -999.00,1, -999.00,1, -999.00,1,-999.000,9,-999.000,9,-999.000,9,  2025.6,6,  2384.2,6,   -999.0,9,  -999.00,-999.0000,9,  -999.00,-999.000,9,-999.000,9,-999.000,9,    1.64,2,    63.8,2,     4.5,-999.000,9,-999.000,-999.000,9, -999.00,9, -999.00,9,    3.10,-999.0000,9,-999.0000,9,-999.0000,9,-999.0000,9,-999.0000,9,-999.0000,9,  27.6611,     -999.0,9,     -999.0,9,     -999.0,9,     -999.0,9,        105,-999.000,-999.000,-999.000,     -999.0,9, -999.00,9, -999.00,9
33RO200306_02,       A16N,     105,          1,         33,         33,2,20030727,       0737,    13.4998,   -28.9997,       5540,    25.2,  27.4332,  36.4262,2,  36.4499,2,    202.9,2,   201.3,2,    0.65,2,    0.04,2,    0.00,2,    0.05,2,-999.000,9,-999.000,9,-999.000,9,  -999.0,9,  -999.0,9,   -999.0,9,  -999.00,-999.0000,9,  -999.00,-999.000,9,-999.000,9,-999.000,9, -999.00,9,  -999.0,9,  -999.0,-999.000,9,-999.000,-999.000,9, -999.00,9, -999.00,9,   25.20,-999.0000,9,-999.0000,9,-999.0000,9,-999.0000,9,-999.0000,9,-999.0000,9,  27.4273,     -999.0,9,     -999.0,9,     -999.0,9,     -999.0,9,        105,-999.000,-999.000,-999.000,     -999.0,9, -999.00,9, -999.00,9
33RO200306_02,       A16N,     105,          1,         32,         32,2,20030727,       0737,    13.4998,   -28.9997,       5540,    50.2,  24.2430,  36.5365,2,  36.5674,2,    221.8,2,   224.0,2,    0.39,2,    0.06,2,    0.00,2,    0.06,2,-999.000,9,-999.000,9,-999.000,9,  2053.6,2,  2393.2,2,   -999.0,9,  -999.00,   8.0654,2,    25.00,-999.000,9,-999.000,9,-999.000,9, -999.00,9,  -999.0,9,  -999.0,-999.000,9,-999.000,-999.000,9, -999.00,9, -999.00,9,   50.20,-999.0000,9,-999.0000,9,-999.0000,9,-999.0000,9,-999.0000,9,-999.0000,9,  24.2323,     -999.0,9,     -999.0,9,     -999.0,9,     -999.0,9,        105,-999.000,-999.000,-999.000,     -999.0,9, -999.00,9, -999.00,9
33RO200306_02,       A16N,     105,          1,         31,         31,2,20030727,       0737,    13.4998,   -28.9997,       5540,    75.0,  21.2096,  36.6275,2,  36.6098,2,    199.8,2,   181.4,2,    1.35,2,    1.64,2,    0.11,2,    0.26,2,-999.000,9,-999.000,9,-999.000,9,  -999.0,9,  -999.0,9,   -999.0,9,  -999.00,-999.0000,9,  -999.00,-999.000,9,-999.000,9,-999.000,9, -999.00,9,  -999.0,9,  -999.0,-999.000,9,-999.000,-999.000,9, -999.00,9, -999.00,9,   75.00,-999.0000,9,-999.0000,9,-999.0000,9,-999.0000,9,-999.0000,9,-999.0000,9,  21.1950,     -999.0,9,     -999.0,9,     -999.0,9,     -999.0,9,        105,-999.000,-999.000,-999.000,     -999.0,9, -999.00,9, -999.00,9
33RO200306_02,       A16N,     105,          1,         30,         30,2,20030727,       0737,    13.4998,   -28.9997,       5540,    99.8,  17.4607,  36.2401,2,  36.2300,2,     95.8,2,   110.3,2,    3.95,2,   15.46,2,    0.05,2,    0.95,2,-999.000,9,-999.000,9,-999.000,9,  2179.9,2,  2370.3,2,   -999.0,9,  -999.00,   7.7699,2,    25.00,-999.000,9,-999.000,9,-999.000,9, -999.00,9,  -999.0,9,  -999.0,-999.000,9,-999.000,-999.000,9, -999.00,9, -999.00,9,   99.80,-999.0000,9,-999.0000,9,-999.0000,9,-999.0000,9,-999.0000,9,-999.0000,9,  17.4438,     -999.0,9,     -999.0,9,     -999.0,9,     -999.0,9,        105,-999.000,-999.000,-999.000,     -999.0,9, -999.00,9, -999.00,9
33RO200306_02,       A16N,     105,          1,         29,         29,2,20030727,       0737,    13.4998,   -28.9997,       5540,   126.0,  15.7257,  36.0033,2,  36.0059,2,    104.0,2,   104.5,2,    5.30,2,   18.41,2,    0.02,2,    1.13,2,-999.000,9,-999.000,9,-999.000,9,  -999.0,9,  -999.0,9,   -999.0,9,  -999.00,-999.0000,9,  -999.00,-999.000,9,-999.000,9,-999.000,9, -999.00,9,  -999.0,9,  -999.0,-999.000,9,-999.000,-999.000,9, -999.00,9, -999.00,9,  126.00,-999.0000,9,-999.0000,9,-999.0000,9,-999.0000,9,-999.0000,9,-999.0000,9,  15.7059,     -999.0,9,     -999.0,9,     -999.0,9,     -999.0,9,        105,-999.000,-999.000,-999.000,     -999.0,9, -999.00,9, -999.00,9
33RO200306_02,       A16N,     105,          1,         28,         28,2,20030727,       0737,    13.4998,   -28.9997,       5540,   149.9,  14.5228,  35.8042,2,  35.8005,2,     96.3,2,    98.2,2,    6.65,2,   20.84,2,    0.01,2,    1.27,2,-999.000,9,-999.000,9,-999.000,9,  2193.4,2,  2347.9,2,   -999.0,9,  -999.00,   7.6718,2,    25.00,-999.000,9,-999.000,9,-999.000,9, -999.00,9,  -999.0,9,  -999.0,-999.000,9,-999.000,-999.000,9, -999.00,9, -999.00,9,  149.90,-999.0000,9,-999.0000,9,-999.0000,9,-999.0000,9,-999.0000,9,-999.0000,9,  14.5005,     -999.0,9,     -999.0,9,     -999.0,9,     -999.0,9,        105,-999.000,-999.000,-999.000,     -999.0,9, -999.00,9, -999.00,9
33RO200306_02,       A16N,     105,          1,         27,         27,2,20030727,       0737,    13.4998,   -28.9997,       5540,   174.1,  13.7222,  35.7038,2,  35.7091,2,     95.0,2,    94.6,2,    7.46,2,   22.25,2,    0.01,2,    1.35,2,-999.000,9,-999.000,9,-999.000,9,  -999.0,9,  -999.0,9,   -999.0,9,  -999.00,-999.0000,9,  -999.00,-999.000,9,-999.000,9,-999.000,9, -999.00,9,  -999.0,9,  -999.0,-999.000,9,-999.000,-999.000,9, -999.00,9, -999.00,9,  174.10,-999.0000,9,-999.0000,9,-999.0000,9,-999.0000,9,-999.0000,9,-999.0000,9,  13.6972,     -999.0,9,     -999.0,9,     -999.0,9,     -999.0,9,        105,-999.000,-999.000,-999.000,     -999.0,9, -999.00,9, -999.00,9
33RO200306_02,       A16N,     105,          1,         26,         26,2,20030727,       0737,    13.4998,   -28.9997,       5540,   200.6,  12.9701,  35.5668,2,  35.5501,2,     90.9,2,    91.0,2,    8.84,2,   24.25,2,    0.01,2,    1.49,2,-999.000,9,-999.000,9,-999.000,9,  2202.2,2,  2335.4,2,   -999.0,9,  -999.00,   7.6846,2,    25.00,-999.000,9,-999.000,9,-999.000,9, -999.00,9,  -999.0,9,  -999.0,-999.000,9,-999.000,-999.000,9, -999.00,9, -999.00,9,  200.60,-999.0000,9,-999.0000,9,-999.0000,9,-999.0000,9,-999.0000,9,-999.0000,9,  12.9424,     -999.0,9,     -999.0,9,     -999.0,9,     -999.0,9,        105,-999.000,-999.000,-999.000,     -999.0,9, -999.00,9, -999.00,9
33RO200306_02,       A16N,     105,          1,         25,         25,2,20030727,       0737,    13.4998,   -28.9997,       5540,   250.2,  11.2445,  35.2469,2,  35.2441,2,     81.8,2,    77.3,2,   11.52,2,   28.49,2,    0.01,2,    1.76,2,-999.000,9,-999.000,9,-999.000,9,  -999.0,9,  -999.0,9,   -999.0,9,  -999.00,-999.0000,9,  -999.00,-999.000,9,-999.000,9,-999.000,9, -999.00,9,  -999.0,9,  -999.0,-999.000,9,-999.000,-999.000,9, -999.00,9, -999.00,9,  250.20,-999.0000,9,-999.0000,9,-999.0000,9,-999.0000,9,-999.0000,9,-999.0000,9,  11.2130,     -999.0,9,     -999.0,9,     -999.0,9,     -999.0,9,        105,-999.000,-999.000,-999.000,     -999.0,9, -999.00,9, -999.00,9
33RO200306_02,       A16N,     105,          1,         24,         24,2,20030727,       0737,    13.4998,   -28.9997,       5540,   300.3,  10.7137,  35.1780,2,  35.1764,2,     77.9,2,    82.0,2,   12.37,2,   28.99,2,    0.01,2,    1.79,2,-999.000,9,-999.000,9,-999.000,9,  -999.0,9,  -999.0,9,   -999.0,9,  -999.00,-999.0000,9,  -999.00,-999.000,9,-999.000,9,-999.000,9, -999.00,9,  -999.0,9,  -999.0,-999.000,9,-999.000,-999.000,9, -999.00,9, -999.00,9,  300.30,-999.0000,9,-999.0000,9,-999.0000,9,-999.0000,9,-999.0000,9,-999.0000,9,  10.6770,     -999.0,9,     -999.0,9,     -999.0,9,     -999.0,9,        105,-999.000,-999.000,-999.000,     -999.0,9, -999.00,9, -999.00,9
33RO200306_02,       A16N,     105,          1,         23,         23,2,20030727,       0737,    13.4998,   -28.9997,       5540,   349.9,  10.3750,  35.1575,2,  35.1543,2,     78.8,2,    70.1,2,   13.45,2,   30.93,2,    0.01,2,    1.88,2,-999.000,9,-999.000,9,-999.000,9,  2221.5,2,  -999.0,9,   -999.0,9,  -999.00,-999.0000,9,  -999.00,-999.000,9,-999.000,9,-999.000,9, -999.00,9,  -999.0,9,  -999.0,-999.000,9,-999.000,-999.000,9, -999.00,9, -999.00,9,  349.90,-999.0000,9,-999.0000,9,-999.0000,9,-999.0000,9,-999.0000,9,-999.0000,9,  10.3331,     -999.0,9,     -999.0,9,     -999.0,9,     -999.0,9,        105,-999.000,-999.000,-999.000,     -999.0,9, -999.00,9, -999.00,9
33RO200306_02,       A16N,     105,          1,         22,         22,2,20030727,       0737,    13.4998,   -28.9997,       5540,   399.7,  10.2314,  35.1731,2,  35.1719,2,     71.5,2,    72.2,2,   13.64,2,   30.76,2,    0.01,2,    1.88,2,-999.000,9,-999.000,9,-999.000,9,  -999.0,9,  -999.0,9,   -999.0,9,  -999.00,-999.0000,9,  -999.00,-999.000,9,-999.000,9,-999.000,9, -999.00,9,  -999.0,9,  -999.0,-999.000,9,-999.000,-999.000,9, -999.00,9, -999.00,9,  399.70,-999.0000,9,-999.0000,9,-999.0000,9,-999.0000,9,-999.0000,9,-999.0000,9,  10.1838,     -999.0,9,     -999.0,9,     -999.0,9,     -999.0,9,        105,-999.000,-999.000,-999.000,     -999.0,9, -999.00,9, -999.00,9
33RO200306_02,       A16N,     105,          1,         21,         21,2,20030727,       0737,    13.4998,   -28.9997,       5540,   500.2,   9.2183,  35.0684,2,  35.0655,2,     61.6,2,    62.6,2,   16.66,2,   34.00,2,    0.01,2,    2.10,2,-999.000,9,-999.000,9,-999.000,9,  2234.9,2,  2321.6,2,   -999.0,9,  -999.00,   7.5200,2,    25.00,-999.000,9,-999.000,9,-999.000,9, -999.00,9,  -999.0,9,  -999.0,-999.000,9,-999.000,-999.000,9, -999.00,9, -999.00,9,  500.20,-999.0000,9,-999.0000,9,-999.0000,9,-999.0000,9,-999.0000,9,-999.0000,9,   9.1621,     -999.0,9,     -999.0,9,     -999.0,9,     -999.0,9,        105,-999.000,-999.000,-999.000,     -999.0,9, -999.00,9, -999.00,9
33RO200306_02,       A16N,     105,          1,         20,         20,2,20030727,       0737,    13.4998,   -28.9997,       5540,   600.4,   8.1622,  34.9484,2,  34.9487,2,     79.7,2,    79.7,2,   19.01,2,   34.10,2,    0.01,2,    2.15,2,-999.000,9,-999.000,9,-999.000,9,  -999.0,9,  -999.0,9,   -999.0,9,  -999.00,-999.0000,9,  -999.00,-999.000,9,-999.000,9,-999.000,9, -999.00,9,  -999.0,9,  -999.0,-999.000,9,-999.000,-999.000,9, -999.00,9, -999.00,9,  600.40,-999.0000,9,-999.0000,9,-999.0000,9,-999.0000,9,-999.0000,9,-999.0000,9,   8.0992,     -999.0,9,     -999.0,9,     -999.0,9,     -999.0,9,        105,-999.000,-999.000,-999.000,     -999.0,9, -999.00,9, -999.00,9
33RO200306_02,       A16N,     105,          1,         19,         19,2,20030727,       0737,    13.4998,   -28.9997,       5540,   700.5,   7.3801,  34.8907,2,  34.8904,2,     83.4,2,    83.6,2,   21.45,2,   35.04,2,    0.00,2,    2.23,2,-999.000,9,-999.000,9,-999.000,9,  2229.8,2,  2313.5,2,   -999.0,9,  -999.00,   7.5220,2,    25.00,-999.000,9,-999.000,9,-999.000,9, -999.00,9,  -999.0,9,  -999.0,-999.000,9,-999.000,-999.000,9, -999.00,9, -999.00,9,  700.50,-999.0000,9,-999.0000,9,-999.0000,9,-999.0000,9,-999.0000,9,-999.0000,9,   7.3102,     -999.0,9,     -999.0,9,     -999.0,9,     -999.0,9,        105,-999.000,-999.000,-999.000,     -999.0,9, -999.00,9, -999.00,9
33RO200306_02,       A16N,     105,          1,         18,         18,2,20030727,       0737,    13.4998,   -28.9997,       5540,   850.6,   6.4153,  34.8436,2,  34.8418,2,    100.6,2,   100.2,2,   24.18,2,   34.53,2,    0.00,2,    2.26,2,-999.000,9,-999.000,9,-999.000,9,  -999.0,9,  -999.0,9,   -999.0,9,  -999.00,-999.0000,9,  -999.00,-999.000,9,-999.000,9,-999.000,9, -999.00,9,  -999.0,9,  -999.0,-999.000,9,-999.000,-999.000,9, -999.00,9, -999.00,9,  850.60,-999.0000,9,-999.0000,9,-999.0000,9,-999.0000,9,-999.0000,9,-999.0000,9,   6.3358,     -999.0,9,     -999.0,9,     -999.0,9,     -999.0,9,        105,-999.000,-999.000,-999.000,     -999.0,9, -999.00,9, -999.00,9
33RO200306_02,       A16N,     105,          1,         17,         17,2,20030727,       0737,    13.4998,   -28.9997,       5540,  1000.6,   5.8106,  34.8834,2,  34.8828,2,    126.1,2,   126.8,2,   24.48,2,   31.90,2,    0.00,2,    2.11,2,-999.000,9,-999.000,9,-999.000,9,  2222.6,2,  2318.4,2,   -999.0,9,  -999.00,   7.5702,2,    25.00,-999.000,9,-999.000,9,-999.000,9, -999.00,9,  -999.0,9,  -999.0,-999.000,9,-999.000,-999.000,9, -999.00,9, -999.00,9, 1000.60,-999.0000,9,-999.0000,9,-999.0000,9,-999.0000,9,-999.0000,9,-999.0000,9,   5.7205,     -999.0,9,     -999.0,9,     -999.0,9,     -999.0,9,        105,-999.000,-999.000,-999.000,     -999.0,9, -999.00,9, -999.00,9
33RO200306_02,       A16N,     105,          1,         16,         16,2,20030727,       0737,    13.4998,   -28.9997,       5540,  1150.0,   5.3358,  34.9351,2,  34.9334,2,    153.0,2,   152.7,2,   23.64,2,   28.99,2,    0.00,2,    1.94,2,-999.000,9,-999.000,9,-999.000,9,  -999.0,9,  -999.0,9,   -999.0,9,  -999.00,-999.0000,9,  -999.00,-999.000,9,-999.000,9,-999.000,9, -999.00,9,  -999.0,9,  -999.0,-999.000,9,-999.000,-999.000,9, -999.00,9, -999.00,9, 1150.00,-999.0000,9,-999.0000,9,-999.0000,9,-999.0000,9,-999.0000,9,-999.0000,9,   5.2351,     -999.0,9,     -999.0,9,     -999.0,9,     -999.0,9,        105,-999.000,-999.000,-999.000,     -999.0,9, -999.00,9, -999.00,9
33RO200306_02,       A16N,     105,          1,         15,         15,2,20030727,       0737,    13.4998,   -28.9997,       5540,  1300.0,   4.8999,  34.9747,2,  34.9737,2,    179.1,2,   180.9,2,   22.20,2,   26.03,2,    0.00,2,    1.74,2,-999.000,9,-999.000,9,-999.000,9,  2197.7,2,  2324.4,2,   -999.0,9,  -999.00,   7.6458,2,    25.00,-999.000,9,-999.000,9,-999.000,9, -999.00,9,  -999.0,9,  -999.0,-999.000,9,-999.000,-999.000,9, -999.00,9, -999.00,9, 1300.00,-999.0000,9,-999.0000,9,-999.0000,9,-999.0000,9,-999.0000,9,-999.0000,9,   4.7888,     -999.0,9,     -999.0,9,     -999.0,9,     -999.0,9,        105,-999.000,-999.000,-999.000,     -999.0,9, -999.00,9, -999.00,9
33RO200306_02,       A16N,     105,          1,         14,         14,2,20030727,       0737,    13.4998,   -28.9997,       5540,  1599.8,   4.1779,  34.9889,2,  34.9891,2,    221.7,2,   228.2,2,   19.60,2,   21.83,2,    0.00,2,    1.48,2,-999.000,9,-999.000,9,-999.000,9,  -999.0,9,  -999.0,9,   -999.0,9,  -999.00,-999.0000,9,  -999.00,-999.000,9,-999.000,9,-999.000,9, -999.00,9,  -999.0,9,  -999.0,-999.000,9,-999.000,-999.000,9, -999.00,9, -999.00,9, 1599.80,-999.0000,9,-999.0000,9,-999.0000,9,-999.0000,9,-999.0000,9,-999.0000,9,   4.0463,     -999.0,9,     -999.0,9,     -999.0,9,     -999.0,9,        105,-999.000,-999.000,-999.000,     -999.0,9, -999.00,9, -999.00,9
33RO200306_02,       A16N,     105,          1,         13,         13,2,20030727,       0737,    13.4998,   -28.9997,       5540,  1797.1,   3.7993,  34.9824,2,  34.9817,2,    232.0,2,   238.3,2,   20.75,2,   21.00,2,    0.00,2,    1.42,2,-999.000,9,-999.000,9,-999.000,9,  -999.0,9,  -999.0,9,   -999.0,9,  -999.00,-999.0000,9,  -999.00,-999.000,9,-999.000,9,-999.000,9, -999.00,9,  -999.0,9,  -999.0,-999.000,9,-999.000,-999.000,9, -999.00,9, -999.00,9, 1797.10,-999.0000,9,-999.0000,9,-999.0000,9,-999.0000,9,-999.0000,9,-999.0000,9,   3.6541,     -999.0,9,     -999.0,9,     -999.0,9,     -999.0,9,        105,-999.000,-999.000,-999.000,     -999.0,9, -999.00,9, -999.00,9
33RO200306_02,       A16N,     105,          1,         12,         12,2,20030727,       0737,    13.4998,   -28.9997,       5540,  1999.2,   3.5568,  34.9735,2,  34.9727,2,    242.8,2,   243.0,2,   21.72,2,   20.47,2,    0.00,2,    1.39,2,-999.000,9,-999.000,9,-999.000,9,  -999.0,9,  -999.0,9,   -999.0,9,  -999.00,-999.0000,9,  -999.00,-999.000,9,-999.000,9,-999.000,9, -999.00,9,  -999.0,9,  -999.0,-999.000,9,-999.000,-999.000,9, -999.00,9, -999.00,9, 1999.20,-999.0000,9,-999.0000,9,-999.0000,9,-999.0000,9,-999.0000,9,-999.0000,9,   3.3959,     -999.0,9,     -999.0,9,     -999.0,9,     -999.0,9,        105,-999.000,-999.000,-999.000,     -999.0,9, -999.00,9, -999.00,9
33RO200306_02,       A16N,     105,          1,         11,         11,2,20030727,       0737,    13.4998,   -28.9997,       5540,  2198.9,   3.3135,  34.9639,2,  34.9637,2,    243.0,2,   240.8,2,   25.49,2,   20.87,2,    0.00,2,    1.43,2,-999.000,9,-999.000,9,-999.000,9,  -999.0,9,  -999.0,9,   -999.0,9,  -999.00,-999.0000,9,  -999.00,-999.000,9,-999.000,9,-999.000,9, -999.00,9,  -999.0,9,  -999.0,-999.000,9,-999.000,-999.000,9, -999.00,9, -999.00,9, 2198.90,-999.0000,9,-999.0000,9,-999.0000,9,-999.0000,9,-999.0000,9,-999.0000,9,   3.1373,     -999.0,9,     -999.0,9,     -999.0,9,     -999.0,9,        105,-999.000,-999.000,-999.000,     -999.0,9, -999.00,9, -999.00,9
33RO200306_02,       A16N,     105,          1,         10,         10,2,20030727,       0737,    13.4998,   -28.9997,       5540,  2499.2,   3.0788,  34.9524,2,  34.9513,2,    239.7,2,   239.1,2,   30.00,2,   21.32,2,    0.00,2,    1.46,2,-999.000,9,-999.000,9,-999.000,9,  -999.0,9,  -999.0,9,   -999.0,9,  -999.00,-999.0000,9,  -999.00,-999.000,9,-999.000,9,-999.000,9, -999.00,9,  -999.0,9,  -999.0,-999.000,9,-999.000,-999.000,9, -999.00,9, -999.00,9, 2499.20,-999.0000,9,-999.0000,9,-999.0000,9,-999.0000,9,-999.0000,9,-999.0000,9,   2.8775,     -999.0,9,     -999.0,9,     -999.0,9,     -999.0,9,        105,-999.000,-999.000,-999.000,     -999.0,9, -999.00,9, -999.00,9
33RO200306_02,       A16N,     105,          1,          9,          9,2,20030727,       0737,    13.4998,   -28.9997,       5540,  2799.4,   2.8588,  34.9394,2,  34.9371,2,    245.0,2,   245.0,2,   32.33,2,   21.08,2,    0.00,2,    1.45,2,-999.000,9,-999.000,9,-999.000,9,  -999.0,9,  -999.0,9,   -999.0,9,  -999.00,-999.0000,9,  -999.00,-999.000,9,-999.000,9,-999.000,9, -999.00,9,  -999.0,9,  -999.0,-999.000,9,-999.000,-999.000,9, -999.00,9, -999.00,9, 2799.40,-999.0000,9,-999.0000,9,-999.0000,9,-999.0000,9,-999.0000,9,-999.0000,9,   2.6317,     -999.0,9,     -999.0,9,     -999.0,9,     -999.0,9,        105,-999.000,-999.000,-999.000,     -999.0,9, -999.00,9, -999.00,9
33RO200306_02,       A16N,     105,          1,          8,          8,2,20030727,       0737,    13.4998,   -28.9997,       5540,  3200.5,   2.6503,  34.9238,2,  34.9238,2,    248.8,2,   247.8,2,   35.81,2,   21.11,2,    0.00,2,    1.45,2,-999.000,9,-999.000,9,-999.000,9,  -999.0,9,  -999.0,9,   -999.0,9,  -999.00,-999.0000,9,  -999.00,-999.000,9,-999.000,9,-999.000,9, -999.00,9,  -999.0,9,  -999.0,-999.000,9,-999.000,-999.000,9, -999.00,9, -999.00,9, 3200.50,-999.0000,9,-999.0000,9,-999.0000,9,-999.0000,9,-999.0000,9,-999.0000,9,   2.3863,     -999.0,9,     -999.0,9,     -999.0,9,     -999.0,9,        105,-999.000,-999.000,-999.000,     -999.0,9, -999.00,9, -999.00,9