BOTTLE,20230908CCHSIOCBG
EXPOCODE,SECT_ID,STNNBR,CASTNO,SAMPNO,BTLNBR,BTLNBR_FLAG_W,DATE,TIME,LATITUDE,LONGITUDE,DEPTH,CTDPRS,CTDTMP,CTDSAL,CTDSAL_FLAG_W,SALNTY,SALNTY_FLAG_W,CTDOXY,CTDOXY_FLAG_W,OXYGEN,OXYGEN_FLAG_W,SILCAT,SILCAT_FLAG_W,NITRAT,NITRAT_FLAG_W,NITRIT,NITRIT_FLAG_W,PHSPHT,PHSPHT_FLAG_W,CFC-11,CFC-11_FLAG_W,CFC-12,CFC-12_FLAG_W,CFC113,CFC113_FLAG_W,TCARBN,TCARBN_FLAG_W,ALKALI,ALKALI_FLAG_W,FCO2,FCO2_FLAG_W,FCO2TMP,PH_SWS,PH_SWS_FLAG_W,PH_TMP,TRITUM,TRITUM_FLAG_W,HELIUM,HELIUM_FLAG_W,DELHE3,DELHE3_FLAG_W,DELC13,DELC13_FLAG_W,DELC14,DELC14_FLAG_W,C14ERR,NEON,NEON_FLAG_W,NEONER,POC,POC_FLAG_W,DOC,DOC_FLAG_W,TDN,TDN_FLAG_W,CTDRAW,CDOM325,CDOM325_FLAG_W,CDOM340,CDOM340_FLAG_W,CDOM380,CDOM380_FLAG_W,CDOM412,CDOM412_FLAG_W,CDOMSL,CDOMSL_FLAG_W,CDOMSN,CDOMSN_FLAG_W,THETA,PON,PON_FLAG_W,HCFC-22,HCFC-22_FLAG_W,HCFC-142b,HCFC-142b_FLAG_W,HCFC-141b,HCFC-141b_FLAG_W,STNNBR_U,HELIER,DELHER,TRITER,CH3CL,CH3CL_FLAG_W,CH3BR,CH3BR_FLAG_W,CH3I,CH3I_FLAG_W
,,,,,,,,,,,METERS,DBAR,ITS-90,PSS-78,,PSS-78,,UMOL/KG,,UMOL/KG,,UMOL/KG,,UMOL/KG,,UMOL/KG,,UMOL/KG,,PMOL/KG,,PMOL/KG,,PMOL/KG,,UMOL/KG,,UMOL/KG,,UATM,,DEG C,,,DEG C,TU,,NMOL/KG,,PERCNT,,/MILLE,,/MILLE,,/MILLE,NMOL/KG,,NMOL/KG,UG/KG,,UMOL/KG,,UMOL/KG,,DBAR,1/M,,1/M,,1/M,,1/M,,1/NM,,1/NM,,DEG C,UMOL/L,,PMOL/KG,,PMOL/KG,,PMOL/KG,,,NMOL/KG,PERCNT,TU,PMOL/KG,,PMOL/KG,,PMOL/KG,
33RO200306_02,       A16N,     079,          1,         35,         35,2,20030719,       0116,    26.4990,   -25.3442,       5243,     3.3,  24.2726,  37.4532,2,  37.4559,2,    211.4,2,   211.1,2,    0.14,2,    0.04,2,    0.00,2,    0.02,2,   1.922,2,   1.220,2,   0.169,2,  2109.9,6,  2447.8,6,   -999.0,9,  -999.00,   8.0583,6,    25.00,-999.000,9,-999.000,9,-999.000,9, -999.00,9,  -999.0,9,  -999.0,-999.000,9,-999.000,-999.000,9, -999.00,9, -999.00,9,    3.30,-999.0000,9,-999.0000,9,-999.0000,9,-999.0000,9,-999.0000,9,-999.0000,9,  24.2719,     -999.0,9,     -999.0,9,     -999.0,9,     -999.0,9,         79,-999.000,-999.000,-999.000,     -999.0,9, -999.00,9, -999.00,9
33RO200306_02,       A16N,     079,          1,         33,         33,2,20030719,       0116,    26.4990,   -25.3442,       5243,    14.8,  24.2858,  37.4518,2,  37.4538,2,    211.8,2,   211.5,2,    0.16,2,    0.04,2,    0.00,2,    0.01,2,-999.000,9,-999.000,9,-999.000,9,  -999.0,9,  -999.0,9,   -999.0,9,  -999.00,-999.0000,9,  -999.00,-999.000,9,-999.000,9,-999.000,9, -999.00,9,  -999.0,9,  -999.0,-999.000,9,-999.000,-999.000,9, -999.00,9, -999.00,9,   14.80,-999.0000,9,-999.0000,9,-999.0000,9,-999.0000,9,-999.0000,9,-999.0000,9,  24.2826,     -999.0,9,     -999.0,9,     -999.0,9,     -999.0,9,         79,-999.000,-999.000,-999.000,     -999.0,9, -999.00,9, -999.00,9
33RO200306_02,       A16N,     079,          1,         32,         32,2,20030719,       0116,    26.4990,   -25.3442,       5243,    44.9,  22.6786,  37.2933,2,  37.2910,2,    220.8,2,   226.1,2,    0.20,2,    0.04,2,    0.01,2,    0.02,2,-999.000,9,-999.000,9,-999.000,9,  -999.0,9,  -999.0,9,   -999.0,9,  -999.00,-999.0000,9,  -999.00,-999.000,9,-999.000,9,-999.000,9, -999.00,9,  -999.0,9,  -999.0,-999.000,9,-999.000,-999.000,9, -999.00,9, -999.00,9,   44.90,-999.0000,9,-999.0000,9,-999.0000,9,-999.0000,9,-999.0000,9,-999.0000,9,  22.6694,     -999.0,9,     -999.0,9,     -999.0,9,     -999.0,9,         79,-999.000,-999.000,-999.000,     -999.0,9, -999.00,9, -999.00,9
33RO200306_02,       A16N,     079,          1,         31,         31,2,20030719,       0116,    26.4990,   -25.3442,       5243,    64.4,  21.9213,  37.2701,2,  37.2758,2,    225.1,2,   227.0,2,    0.24,2,    0.03,2,    0.01,2,    0.02,2,   2.142,2,   1.354,2,   0.181,2,  2099.9,2,  2435.4,2,   -999.0,9,  -999.00,   8.0520,2,    25.00,-999.000,9,-999.000,9,-999.000,9, -999.00,9,  -999.0,9,  -999.0,-999.000,9,-999.000,-999.000,9, -999.00,9, -999.00,9,   64.40,-999.0000,9,-999.0000,9,-999.0000,9,-999.0000,9,-999.0000,9,-999.0000,9,  21.9085,     -999.0,9,     -999.0,9,     -999.0,9,     -999.0,9,         79,-999.000,-999.000,-999.000,     -999.0,9, -999.00,9, -999.00,9
33RO200306_02,       A16N,     079,          1,         30,         30,2,20030719,       0116,    26.4990,   -25.3442,       5243,    94.3,  21.5664,  37.2544,2,  37.2463,2,    223.6,2,   223.5,2,    0.24,2,    0.03,2,    0.00,2,    0.02,2,-999.000,9,-999.000,9,-999.000,9,  -999.0,9,  -999.0,9,   -999.0,9,  -999.00,-999.0000,9,  -999.00,-999.000,9,-999.000,9,-999.000,9, -999.00,9,  -999.0,9,  -999.0,-999.000,9,-999.000,-999.000,9, -999.00,9, -999.00,9,   94.30,-999.0000,9,-999.0000,9,-999.0000,9,-999.0000,9,-999.0000,9,-999.0000,9,  21.5478,     -999.0,9,     -999.0,9,     -999.0,9,     -999.0,9,         79,-999.000,-999.000,-999.000,     -999.0,9, -999.00,9, -999.00,9
33RO200306_02,       A16N,     079,          1,         29,         29,2,20030719,       0116,    26.4990,   -25.3442,       5243,   114.6,  21.0158,  37.1796,2,  37.1786,2,    220.5,2,   219.2,2,    0.26,2,    0.07,2,    0.00,2,    0.02,2,-999.000,9,-999.000,9,-999.000,9,  -999.0,9,  -999.0,9,   -999.0,9,  -999.00,-999.0000,9,  -999.00,-999.000,9,-999.000,9,-999.000,9, -999.00,9,  -999.0,9,  -999.0,-999.000,9,-999.000,-999.000,9, -999.00,9, -999.00,9,  114.60,-999.0000,9,-999.0000,9,-999.0000,9,-999.0000,9,-999.0000,9,-999.0000,9,  20.9936,     -999.0,9,     -999.0,9,     -999.0,9,     -999.0,9,         79,-999.000,-999.000,-999.000,     -999.0,9, -999.00,9, -999.00,9
33RO200306_02,       A16N,     079,          1,         28,         28,2,20030719,       0116,    26.4990,   -25.3442,       5243,   139.8,  20.4442,  37.0700,2,  37.0572,2,    215.7,2,   212.6,2,    0.35,2,    0.32,2,    0.11,2,    0.04,2,   2.232,2,   1.396,2,   0.174,2,  2111.4,2,  2420.6,2,   -999.0,9,  -999.00,   8.0093,2,    25.00,-999.000,9,-999.000,9,-999.000,9, -999.00,9,  -999.0,9,  -999.0,-999.000,9,-999.000,-999.000,9, -999.00,9, -999.00,9,  139.80,-999.0000,9,-999.0000,9,-999.0000,9,-999.0000,9,-999.0000,9,-999.0000,9,  20.4177,     -999.0,9,     -999.0,9,     -999.0,9,     -999.0,9,         79,-999.000,-999.000,-999.000,     -999.0,9, -999.00,9, -999.00,9
33RO200306_02,       A16N,     079,          1,         27,         27,2,20030719,       0116,    26.4990,   -25.3442,       5243,   164.9,  19.8048,  36.9409,2,  36.8908,2,    209.0,2,   207.6,2,    0.50,2,    1.27,2,    0.05,2,    0.08,2,-999.000,9,-999.000,9,-999.000,9,  -999.0,9,  -999.0,9,   -999.0,9,  -999.00,-999.0000,9,  -999.00,-999.000,9,-999.000,9,-999.000,9, -999.00,9,  -999.0,9,  -999.0,-999.000,9,-999.000,-999.000,9, -999.00,9, -999.00,9,  164.90,-999.0000,9,-999.0000,9,-999.0000,9,-999.0000,9,-999.0000,9,-999.0000,9,  19.7742,     -999.0,9,     -999.0,9,     -999.0,9,     -999.0,9,         79,-999.000,-999.000,-999.000,     -999.0,9, -999.00,9, -999.00,9
33RO200306_02,       A16N,     079,          1,         26,         26,2,20030719,       0116,    26.4990,   -25.3442,       5243,   190.5,  18.5119,  36.6728,2,  36.6404,2,    203.4,2,   200.3,2,    0.82,2,    2.96,2,    0.02,2,    0.16,2,-999.000,9,-999.000,9,-999.000,9,  -999.0,9,  -999.0,9,   -999.0,9,  -999.00,-999.0000,9,  -999.00,-999.000,9,-999.000,9,-999.000,9, -999.00,9,  -999.0,9,  -999.0,-999.000,9,-999.000,-999.000,9, -999.00,9, -999.00,9,  190.50,-999.0000,9,-999.0000,9,-999.0000,9,-999.0000,9,-999.0000,9,-999.0000,9,  18.4782,     -999.0,9,     -999.0,9,     -999.0,9,     -999.0,9,         79,-999.000,-999.000,-999.000,     -999.0,9, -999.00,9, -999.00,9
33RO200306_02,       A16N,     079,          1,         25,         25,2,20030719,       0116,    26.4990,   -25.3442,       5243,   224.7,  17.5273,  36.4691,2,  36.4334,2,    200.2,2,   195.1,2,    1.39,2,    5.26,2,    0.01,2,    0.29,2,-999.000,9,-999.000,9,-999.000,9,  -999.0,9,  -999.0,9,   -999.0,9,  -999.00,-999.0000,9,  -999.00,-999.000,9,-999.000,9,-999.000,9, -999.00,9,  -999.0,9,  -999.0,-999.000,9,-999.000,-999.000,9, -999.00,9, -999.00,9,  224.70,-999.0000,9,-999.0000,9,-999.0000,9,-999.0000,9,-999.0000,9,-999.0000,9,  17.4890,     -999.0,9,     -999.0,9,     -999.0,9,     -999.0,9,         79,-999.000,-999.000,-999.000,     -999.0,9, -999.00,9, -999.00,9
33RO200306_02,       A16N,     079,          1,         24,         24,2,20030719,       0116,    26.4990,   -25.3442,       5243,   275.5,  16.3452,  36.2525,2,  36.2490,2,    187.1,2,   188.4,2,    2.12,2,    7.68,2,    0.01,2,    0.43,2,   2.492,2,   1.466,2,   0.037,2,  2127.7,2,  2362.3,2,   -999.0,9,  -999.00,   7.9024,2,    25.00,-999.000,9,-999.000,9,-999.000,9, -999.00,9,  -999.0,9,  -999.0,-999.000,9,-999.000,-999.000,9, -999.00,9, -999.00,9,  275.50,-999.0000,9,-999.0000,9,-999.0000,9,-999.0000,9,-999.0000,9,-999.0000,9,  16.3004,     -999.0,9,     -999.0,9,     -999.0,9,     -999.0,9,         79,-999.000,-999.000,-999.000,     -999.0,9, -999.00,9, -999.00,9
33RO200306_02,       A16N,     079,          1,         23,         23,2,20030719,       0116,    26.4990,   -25.3442,       5243,   325.0,  15.6773,  36.1409,2,  36.1359,2,    180.2,2,   184.5,2,    2.65,2,    9.22,2,    0.01,2,    0.52,2,-999.000,9,-999.000,9,-999.000,9,  -999.0,9,  -999.0,9,   -999.0,9,  -999.00,-999.0000,9,  -999.00,-999.000,9,-999.000,9,-999.000,9, -999.00,9,  -999.0,9,  -999.0,-999.000,9,-999.000,-999.000,9, -999.00,9, -999.00,9,  325.00,-999.0000,9,-999.0000,9,-999.0000,9,-999.0000,9,-999.0000,9,-999.0000,9,  15.6259,     -999.0,9,     -999.0,9,     -999.0,9,     -999.0,9,         79,-999.000,-999.000,-999.000,     -999.0,9, -999.00,9, -999.00,9
33RO200306_02,       A16N,     079,          1,         22,         22,2,20030719,       0116,    26.4990,   -25.3442,       5243,   374.8,  14.8890,  36.0210,2,  36.0161,2,    186.7,2,   190.4,2,    3.09,2,   10.00,2,    0.01,2,    0.57,2,-999.000,9,-999.000,9,-999.000,9,  -999.0,9,  -999.0,9,   -999.0,9,  -999.00,-999.0000,9,  -999.00,-999.000,9,-999.000,9,-999.000,9, -999.00,9,  -999.0,9,  -999.0,-999.000,9,-999.000,-999.000,9, -999.00,9, -999.00,9,  374.80,-999.0000,9,-999.0000,9,-999.0000,9,-999.0000,9,-999.0000,9,-999.0000,9,  14.8317,     -999.0,9,     -999.0,9,     -999.0,9,     -999.0,9,         79,-999.000,-999.000,-999.000,     -999.0,9, -999.00,9, -999.00,9
33RO200306_02,       A16N,     079,          1,         21,         21,2,20030719,       0116,    26.4990,   -25.3442,       5243,   449.8,  13.6965,  35.8540,2,  35.8520,2,    170.6,2,   171.3,2,    4.68,2,   13.94,2,    0.01,2,    0.81,2,-999.000,9,-999.000,9,-999.000,9,  -999.0,9,  -999.0,9,   -999.0,9,  -999.00,-999.0000,9,  -999.00,-999.000,9,-999.000,9,-999.000,9, -999.00,9,  -999.0,9,  -999.0,-999.000,9,-999.000,-999.000,9, -999.00,9, -999.00,9,  449.80,-999.0000,9,-999.0000,9,-999.0000,9,-999.0000,9,-999.0000,9,-999.0000,9,  13.6314,     -999.0,9,     -999.0,9,     -999.0,9,     -999.0,9,         79,-999.000,-999.000,-999.000,     -999.0,9, -999.00,9, -999.00,9
33RO200306_02,       A16N,     079,          1,         20,         20,2,20030719,       0116,    26.4990,   -25.3442,       5243,   550.6,  12.5162,  35.7029,2,  35.7008,2,    178.1,2,   178.4,2,    5.57,2,   15.24,2,    0.00,2,    0.89,2,   2.264,2,   1.226,2,   0.037,2,  2153.3,2,  2340.8,2,   -999.0,9,  -999.00,   7.8052,2,    25.00,-999.000,9,-999.000,9,-999.000,9, -999.00,9,  -999.0,9,  -999.0,-999.000,9,-999.000,-999.000,9, -999.00,9, -999.00,9,  550.60,-999.0000,9,-999.0000,9,-999.0000,9,-999.0000,9,-999.0000,9,-999.0000,9,  12.4408,     -999.0,9,     -999.0,9,     -999.0,9,     -999.0,9,         79,-999.000,-999.000,-999.000,     -999.0,9, -999.00,9, -999.00,9
33RO200306_02,       A16N,     079,          1,         19,         19,2,20030719,       0116,    26.4990,   -25.3442,       5243,   649.4,  10.9268,  35.5254,2,  35.5226,2,    169.8,2,   170.6,2,    8.34,2,   18.92,2,    0.00,2,    1.13,2,-999.000,9,-999.000,9,-999.000,9,  -999.0,9,  -999.0,9,   -999.0,9,  -999.00,-999.0000,9,  -999.00,-999.000,9,-999.000,9,-999.000,9, -999.00,9,  -999.0,9,  -999.0,-999.000,9,-999.000,-999.000,9, -999.00,9, -999.00,9,  649.40,-999.0000,9,-999.0000,9,-999.0000,9,-999.0000,9,-999.0000,9,-999.0000,9,  10.8449,     -999.0,9,     -999.0,9,     -999.0,9,     -999.0,9,         79,-999.000,-999.000,-999.000,     -999.0,9, -999.00,9, -999.00,9
33RO200306_02,       A16N,     079,          1,         18,         18,2,20030719,       0116,    26.4990,   -25.3442,       5243,   799.7,   9.3069,  35.3788,2,  35.3766,2,    155.5,2,   152.8,2,   12.87,2,   23.21,2,    0.00,2,    1.42,2,-999.000,9,-999.000,9,-999.000,9,  -999.0,9,  -999.0,9,   -999.0,9,  -999.00,-999.0000,9,  -999.00,-999.000,9,-999.000,9,-999.000,9, -999.00,9,  -999.0,9,  -999.0,-999.000,9,-999.000,-999.000,9, -999.00,9, -999.00,9,  799.70,-999.0000,9,-999.0000,9,-999.0000,9,-999.0000,9,-999.0000,9,-999.0000,9,   9.2148,     -999.0,9,     -999.0,9,     -999.0,9,     -999.0,9,         79,-999.000,-999.000,-999.000,     -999.0,9, -999.00,9, -999.00,9
33RO200306_02,       A16N,     079,          1,         17,         17,2,20030719,       0116,    26.4990,   -25.3442,       5243,   949.2,   7.8289,  35.2654,2,  35.2664,2,    156.6,2,   157.5,2,   16.20,2,   24.86,2,    0.00,2,    1.56,2,-999.000,9,-999.000,9,-999.000,9,  -999.0,9,  -999.0,9,   -999.0,9,  -999.00,-999.0000,9,  -999.00,-999.000,9,-999.000,9,-999.000,9, -999.00,9,  -999.0,9,  -999.0,-999.000,9,-999.000,-999.000,9, -999.00,9, -999.00,9,  949.20,-999.0000,9,-999.0000,9,-999.0000,9,-999.0000,9,-999.0000,9,-999.0000,9,   7.7290,     -999.0,9,     -999.0,9,     -999.0,9,     -999.0,9,         79,-999.000,-999.000,-999.000,     -999.0,9, -999.00,9, -999.00,9
33RO200306_02,       A16N,     079,          1,         16,         16,2,20030719,       0116,    26.4990,   -25.3442,       5243,  1099.4,   7.0595,  35.2339,2,  35.2336,2,    168.8,2,   169.2,2,   17.30,2,   24.57,2,    0.01,2,    1.57,2,-999.000,9,-999.000,9,-999.000,9,  -999.0,9,  -999.0,9,   -999.0,9,  -999.00,-999.0000,9,  -999.00,-999.000,9,-999.000,9,-999.000,9, -999.00,9,  -999.0,9,  -999.0,-999.000,9,-999.000,-999.000,9, -999.00,9, -999.00,9, 1099.40,-999.0000,9,-999.0000,9,-999.0000,9,-999.0000,9,-999.0000,9,-999.0000,9,   6.9490,     -999.0,9,     -999.0,9,     -999.0,9,     -999.0,9,         79,-999.000,-999.000,-999.000,     -999.0,9, -999.00,9, -999.00,9
33RO200306_02,       A16N,     079,          1,         15,         15,2,20030719,       0116,    26.4990,   -25.3442,       5243,  1249.6,   6.7081,  35.2952,2,  35.2954,2,    184.6,2,   183.3,2,   17.23,2,   22.99,2,    0.01,2,    1.46,2,-999.000,9,-999.000,9,-999.000,9,  -999.0,9,  -999.0,9,   -999.0,9,  -999.00,-999.0000,9,  -999.00,-999.000,9,-999.000,9,-999.000,9, -999.00,9,  -999.0,9,  -999.0,-999.000,9,-999.000,-999.000,9, -999.00,9, -999.00,9, 1249.60,-999.0000,9,-999.0000,9,-999.0000,9,-999.0000,9,-999.0000,9,-999.0000,9,   6.5844,     -999.0,9,     -999.0,9,     -999.0,9,     -999.0,9,         79,-999.000,-999.000,-999.000,     -999.0,9, -999.00,9, -999.00,9
33RO200306_02,       A16N,     079,          1,         14,         14,2,20030719,       0116,    26.4990,   -25.3442,       5243,  1449.0,   5.7692,  35.2364,2,  35.2372,2,    204.9,2,   205.3,2,   18.00,2,   21.67,2,    0.01,2,    1.40,2,-999.000,9,-999.000,9,-999.000,9,  -999.0,9,  -999.0,9,   -999.0,9,  -999.00,-999.0000,9,  -999.00,-999.000,9,-999.000,9,-999.000,9, -999.00,9,  -999.0,9,  -999.0,-999.000,9,-999.000,-999.000,9, -999.00,9, -999.00,9, 1449.00,-999.0000,9,-999.0000,9,-999.0000,9,-999.0000,9,-999.0000,9,-999.0000,9,   5.6339,     -999.0,9,     -999.0,9,     -999.0,9,     -999.0,9,         79,-999.000,-999.000,-999.000,     -999.0,9, -999.00,9, -999.00,9
33RO200306_02,       A16N,     079,          1,         13,         13,2,20030719,       0116,    26.4990,   -25.3442,       5243,  1749.4,   4.7500,  35.1417,2,  35.1414,2,    221.1,2,   220.9,2,   20.55,2,   21.15,2,    0.00,2,    1.38,2,-999.000,9,-999.000,9,-999.000,9,  -999.0,9,  -999.0,9,   -999.0,9,  -999.00,-999.0000,9,  -999.00,-999.000,9,-999.000,9,-999.000,9, -999.00,9,  -999.0,9,  -999.0,-999.000,9,-999.000,-999.000,9, -999.00,9, -999.00,9, 1749.40,-999.0000,9,-999.0000,9,-999.0000,9,-999.0000,9,-999.0000,9,-999.0000,9,   4.5964,     -999.0,9,     -999.0,9,     -999.0,9,     -999.0,9,         79,-999.000,-999.000,-999.000,     -999.0,9, -999.00,9, -999.00,9
33RO200306_02,       A16N,     079,          1,         12,         12,2,20030719,       0116,    26.4990,   -25.3442,       5243,  2033.4,   4.0290,  35.0725,2,  35.0711,2,    234.7,2,   237.1,2,   22.67,2,   20.62,2,    0.00,2,    1.36,2,-999.000,9,-999.000,9,-999.000,9,  -999.0,9,  -999.0,9,   -999.0,9,  -999.00,-999.0000,9,  -999.00,-999.000,9,-999.000,9,-999.000,9, -999.00,9,  -999.0,9,  -999.0,-999.000,9,-999.000,-999.000,9, -999.00,9, -999.00,9, 2033.40,-999.0000,9,-999.0000,9,-999.0000,9,-999.0000,9,-999.0000,9,-999.0000,9,   3.8574,     -999.0,9,     -999.0,9,     -999.0,9,     -999.0,9,         79,-999.000,-999.000,-999.000,     -999.0,9, -999.00,9, -999.00,9
33RO200306_02,       A16N,     079,          1,         11,         11,2,20030719,       0116,    26.4990,   -25.3442,       5243,  2348.3,   3.4424,  35.0101,2,  35.0088,2,    244.6,2,   244.3,2,   25.18,2,   20.32,2,    0.00,2,    1.33,2,-999.000,9,-999.000,9,-999.000,9,  -999.0,9,  -999.0,9,   -999.0,9,  -999.00,-999.0000,9,  -999.00,-999.000,9,-999.000,9,-999.000,9, -999.00,9,  -999.0,9,  -999.0,-999.000,9,-999.000,-999.000,9, -999.00,9, -999.00,9, 2348.30,-999.0000,9,-999.0000,9,-999.0000,9,-999.0000,9,-999.0000,9,-999.0000,9,   3.2493,     -999.0,9,     -999.0,9,     -999.0,9,     -999.0,9,         79,-999.000,-999.000,-999.000,     -999.0,9, -999.00,9, -999.00,9
33RO200306_02,       A16N,     079,          1,         10,         10,2,20030719,       0116,    26.4990,   -25.3442,       5243,  2647.0,   3.0069,  34.9665,2,  34.9675,2,    247.0,2,   246.8,2,   29.95,2,   20.69,2,    0.00,2,    1.38,2,-999.000,9,-999.000,9,-999.000,9,  -999.0,9,  -999.0,9,   -999.0,9,  -999.00,-999.0000,9,  -999.00,-999.000,9,-999.000,9,-999.000,9, -999.00,9,  -999.0,9,  -999.0,-999.000,9,-999.000,-999.000,9, -999.00,9, -999.00,9, 2647.00,-999.0000,9,-999.0000,9,-999.0000,9,-999.0000,9,-999.0000,9,-999.0000,9,   2.7921,     -999.0,9,     -999.0,9,     -999.0,9,     -999.0,9,         79,-999.000,-999.000,-999.000,     -999.0,9, -999.00,9, -999.00,9
33RO200306_02,       A16N,     079,          1,          9,          9,2,20030719,       0116,    26.4990,   -25.3442,       5243,  2945.8,   2.7652,  34.9425,2,  34.9431,2,    246.3,2,   245.5,2,   34.40,2,   21.25,2,    0.00,2,    1.43,2,-999.000,9,-999.000,9,-999.000,9,  -999.0,9,  -999.0,9,   -999.0,9,  -999.00,-999.0000,9,  -999.00,-999.000,9,-999.000,9,-999.000,9, -999.00,9,  -999.0,9,  -999.0,-999.000,9,-999.000,-999.000,9, -999.00,9, -999.00,9, 2945.80,-999.0000,9,-999.0000,9,-999.0000,9,-999.0000,9,-999.0000,9,-999.0000,9,   2.5251,     -999.0,9,     -999.0,9,     -999.0,9,     -999.0,9,         79,-999.000,-999.000,-999.000,     -999.0,9, -999.00,9, -999.00,9
33RO200306_02,       A16N,     079,          1,          8,          8,2,20030719,       0116,    26.4990,   -25.3442,       5243,  3249.7,   2.6304,  34.9278,2,  34.9303,2,    244.6,2,   244.5,2,   37.93,2,   21.76,2,    0.01,2,    1.47,2,-999.000,9,-999.000,9,-999.000,9,  -999.0,9,  -999.0,9,   -999.0,9,  -999.00,-999.0000,9,  -999.00,-999.000,9,-999.000,9,-999.000,9, -999.00,9,  -999.0,9,  -999.0,-999.000,9,-999.000,-999.000,9, -999.00,9, -999.00,9, 3249.70,-999.0000,9,-999.0000,9,-999.0000,9,-999.0000,9,-999.0000,9,-999.0000,9,   2.3616,     -999.0,9,     -999.0,9,     -999.0,9,     -999.0,9,         79,-999.000,-999.000,-999.000,     -999.0,9, -999.00,9, -999.00,9