BOTTLE,20230908CCHSIOCBG
EXPOCODE,SECT_ID,STNNBR,CASTNO,SAMPNO,BTLNBR,BTLNBR_FLAG_W,DATE,TIME,LATITUDE,LONGITUDE,DEPTH,CTDPRS,CTDTMP,CTDSAL,CTDSAL_FLAG_W,SALNTY,SALNTY_FLAG_W,CTDOXY,CTDOXY_FLAG_W,OXYGEN,OXYGEN_FLAG_W,SILCAT,SILCAT_FLAG_W,NITRAT,NITRAT_FLAG_W,NITRIT,NITRIT_FLAG_W,PHSPHT,PHSPHT_FLAG_W,CFC-11,CFC-11_FLAG_W,CFC-12,CFC-12_FLAG_W,CFC113,CFC113_FLAG_W,TCARBN,TCARBN_FLAG_W,ALKALI,ALKALI_FLAG_W,FCO2,FCO2_FLAG_W,FCO2TMP,PH_SWS,PH_SWS_FLAG_W,PH_TMP,TRITUM,TRITUM_FLAG_W,HELIUM,HELIUM_FLAG_W,DELHE3,DELHE3_FLAG_W,DELC13,DELC13_FLAG_W,DELC14,DELC14_FLAG_W,C14ERR,NEON,NEON_FLAG_W,NEONER,POC,POC_FLAG_W,DOC,DOC_FLAG_W,TDN,TDN_FLAG_W,CTDRAW,CDOM325,CDOM325_FLAG_W,CDOM340,CDOM340_FLAG_W,CDOM380,CDOM380_FLAG_W,CDOM412,CDOM412_FLAG_W,CDOMSL,CDOMSL_FLAG_W,CDOMSN,CDOMSN_FLAG_W,THETA,PON,PON_FLAG_W,HCFC-22,HCFC-22_FLAG_W,HCFC-142b,HCFC-142b_FLAG_W,HCFC-141b,HCFC-141b_FLAG_W,STNNBR_U,HELIER,DELHER,TRITER,CH3CL,CH3CL_FLAG_W,CH3BR,CH3BR_FLAG_W,CH3I,CH3I_FLAG_W
,,,,,,,,,,,METERS,DBAR,ITS-90,PSS-78,,PSS-78,,UMOL/KG,,UMOL/KG,,UMOL/KG,,UMOL/KG,,UMOL/KG,,UMOL/KG,,PMOL/KG,,PMOL/KG,,PMOL/KG,,UMOL/KG,,UMOL/KG,,UATM,,DEG C,,,DEG C,TU,,NMOL/KG,,PERCNT,,/MILLE,,/MILLE,,/MILLE,NMOL/KG,,NMOL/KG,UG/KG,,UMOL/KG,,UMOL/KG,,DBAR,1/M,,1/M,,1/M,,1/M,,1/NM,,1/NM,,DEG C,UMOL/L,,PMOL/KG,,PMOL/KG,,PMOL/KG,,,NMOL/KG,PERCNT,TU,PMOL/KG,,PMOL/KG,,PMOL/KG,
33RO200306_01,       A16N,     068,          1,         35,         35,2,20030708,       0520,    31.5003,   -22.5323,       5224,     3.2,  23.7465,  37.0708,2,  37.0710,2,    219.0,2,   215.0,2,    0.61,2,    0.00,2,    0.00,2,    0.02,2,   2.018,2,   1.268,2,   0.183,2,  2108.3,6,  2422.0,6,   -999.0,9,  -999.00,   8.0211,6,    25.00,-999.000,9,-999.000,9,-999.000,9,    1.27,2,    95.2,2,     3.1,-999.000,9,-999.000,   2.602,2, -999.00,9, -999.00,9,    3.20,   0.0650,2,   0.0350,2,   0.0080,2,   0.0030,2,   0.0430,2,   0.0430,2,  23.7458,      0.608,2,      12.27,2,       0.10,2,       1.16,2,         68,-999.000,-999.000,-999.000,       57.9,2,    0.51,2,   20.69,2
33RO200306_01,       A16N,     068,          1,         33,         33,2,20030708,       0520,    31.5003,   -22.5323,       5224,    15.4,  23.7436,  37.0665,2,  36.9950,2,    221.2,2,   220.6,2,    0.60,2,    0.00,2,    0.00,2,    0.02,2,-999.000,9,-999.000,9,-999.000,9,  -999.0,9,  -999.0,9,   -999.0,9,  -999.00,-999.0000,9,  -999.00,-999.000,9,-999.000,9,-999.000,9, -999.00,9,  -999.0,9,  -999.0,-999.000,9,-999.000,   2.335,2, -999.00,9, -999.00,9,   15.40,   0.0650,3,   0.0390,3,   0.0150,3,   0.0110,3,   0.0340,3,   0.0340,3,  23.7404,      0.412,2,       4.56,2,       0.17,2,       0.69,2,         68,-999.000,-999.000,-999.000,       74.1,2,     0.0,2,   28.11,2
33RO200306_01,       A16N,     068,          1,         32,         32,2,20030708,       0520,    31.5003,   -22.5323,       5224,    44.6,  20.1471,  36.7342,2,  36.7319,2,    236.8,2,   239.1,2,    0.66,2,    0.00,2,    0.00,2,    0.02,2,   2.394,2,   1.470,2,   0.202,2,  2093.6,2,  2400.6,2,   -999.0,9,  -999.00,   8.0165,2,    25.00,-999.000,9,-999.000,9,-999.000,9, -999.00,9,  -999.0,9,  -999.0,-999.000,9,-999.000,   2.578,2, -999.00,9, -999.00,9,   44.60,   0.1320,2,   0.0770,2,   0.0260,2,   0.0150,2,   0.0310,2,   0.0330,2,  20.1388,      0.401,2,       4.84,2,       0.17,2,       0.74,2,         68,-999.000,-999.000,-999.000,     102.98,2,    0.42,2,   45.67,2
33RO200306_01,       A16N,     068,          1,         31,         31,2,20030708,       0520,    31.5003,   -22.5323,       5224,    65.4,  18.9783,  36.6687,2,  36.6613,2,    238.0,2,   238.9,2,    0.68,2,    0.00,2,    0.00,2,    0.02,2,-999.000,9,-999.000,9,-999.000,9,  -999.0,9,  -999.0,9,   -999.0,9,  -999.00,-999.0000,9,  -999.00,-999.000,9,-999.000,9,-999.000,9, -999.00,9,  -999.0,9,  -999.0,-999.000,9,-999.000,-999.000,9, -999.00,9, -999.00,9,   65.40,-999.0000,9,-999.0000,9,-999.0000,9,-999.0000,9,-999.0000,9,-999.0000,9,  18.9666,     -999.0,9,       5.15,2,       0.22,2,       0.87,2,         68,-999.000,-999.000,-999.000,      87.46,2,    0.65,2,   29.84,2
33RO200306_01,       A16N,     068,          1,         30,         30,2,20030708,       0520,    31.5003,   -22.5323,       5224,    94.2,  18.5229,  36.6638,2,  36.6552,2,    232.1,2,   231.0,2,    0.71,2,    0.01,2,    0.00,2,    0.02,2,-999.000,9,-999.000,9,-999.000,9,  -999.0,9,  -999.0,9,   -999.0,9,  -999.00,-999.0000,9,  -999.00,-999.000,9,-999.000,9,-999.000,9, -999.00,9,  -999.0,9,  -999.0,-999.000,9,-999.000,-999.000,9, -999.00,9, -999.00,9,   94.20,   0.1000,2,   0.0680,2,   0.0300,2,   0.0210,2,   0.0220,2,   0.0240,2,  18.5063,     -999.0,9,       5.68,2,       0.22,2,       2.00,2,         68,-999.000,-999.000,-999.000,      62.69,2,    0.73,2,   10.56,2
33RO200306_01,       A16N,     068,          1,         29,         29,2,20030708,       0520,    31.5003,   -22.5323,       5224,   114.9,  18.0432,  36.5774,2,  36.5704,2,    228.4,2,   226.8,2,    0.77,2,    0.19,2,    0.07,2,    0.04,2,   2.485,2,   1.512,2,   0.191,2,  2103.1,2,  2390.6,2,   -999.0,9,  -999.00,   7.9853,2,    25.00,-999.000,9,-999.000,9,-999.000,9, -999.00,9,  -999.0,9,  -999.0,-999.000,9,-999.000,-999.000,9, -999.00,9, -999.00,9,  114.90,-999.0000,9,-999.0000,9,-999.0000,9,-999.0000,9,-999.0000,9,-999.0000,9,  18.0233,     -999.0,9,       4.61,2,       0.19,2,       0.61,2,         68,-999.000,-999.000,-999.000,      44.87,2,    0.42,2,     4.7,2
33RO200306_01,       A16N,     068,          1,         28,         28,2,20030708,       0520,    31.5003,   -22.5323,       5224,   139.7,  17.8032,  36.5741,2,  36.5557,2,    219.8,2,   216.4,2,    0.92,2,    1.81,2,    0.07,2,    0.13,2,-999.000,9,-999.000,9,-999.000,9,  -999.0,9,  -999.0,9,   -999.0,9,  -999.00,-999.0000,9,  -999.00,-999.000,9,-999.000,9,-999.000,9, -999.00,9,  -999.0,9,  -999.0,-999.000,9,-999.000,-999.000,9, -999.00,9, -999.00,9,  139.70,-999.0000,9,-999.0000,9,-999.0000,9,-999.0000,9,-999.0000,9,-999.0000,9,  17.7792,     -999.0,9,       4.26,2,       0.18,2,       0.74,2,         68,-999.000,-999.000,-999.000,       6.24,2,     0.0,2,    0.92,2
33RO200306_01,       A16N,     068,          1,         27,         27,2,20030708,       0520,    31.5003,   -22.5323,       5224,   164.7,  17.2984,  36.4730,2,  36.4310,2,    210.6,2,   210.2,2,    0.91,2,    1.82,2,    0.07,2,    0.13,2,-999.000,9,-999.000,9,-999.000,9,  -999.0,9,  -999.0,9,   -999.0,9,  -999.00,-999.0000,9,  -999.00,-999.000,9,-999.000,9,-999.000,9, -999.00,9,  -999.0,9,  -999.0,-999.000,9,-999.000,-999.000,9, -999.00,9, -999.00,9,  164.70,-999.0000,9,-999.0000,9,-999.0000,9,-999.0000,9,-999.0000,9,-999.0000,9,  17.2706,     -999.0,9,     -999.0,9,     -999.0,9,     -999.0,9,         68,-999.000,-999.000,-999.000,     -999.0,9, -999.00,9, -999.00,9
33RO200306_01,       A16N,     068,          1,         26,         26,2,20030708,       0520,    31.5003,   -22.5323,       5224,   190.1,  16.6012,  36.3375,2,  36.3121,2,    206.7,2,   206.6,2,    1.44,2,    4.62,2,    0.01,2,    0.29,2,   2.597,2,   1.551,2,   0.088,2,  2121.5,2,  2373.1,2,   -999.0,9,  -999.00,   7.9307,2,    25.00,-999.000,9,-999.000,9,-999.000,9, -999.00,9,  -999.0,9,  -999.0,-999.000,9,-999.000,-999.000,9, -999.00,9, -999.00,9,  190.10,   0.1090,2,   0.0720,2,   0.0320,2,   0.0230,2,   0.0220,2,   0.0240,2,  16.5700,     -999.0,9,       4.88,2,       0.18,2,       0.52,2,         68,-999.000,-999.000,-999.000,      34.15,2,    0.98,2,    0.26,2
33RO200306_01,       A16N,     068,          1,         25,         25,2,20030708,       0520,    31.5003,   -22.5323,       5224,   224.7,  15.7734,  36.1770,2,  36.1716,2,    202.4,2,   204.0,2,    1.93,2,    6.06,2,    0.01,2,    0.37,2,-999.000,9,-999.000,9,-999.000,9,  -999.0,9,  -999.0,9,   -999.0,9,  -999.00,-999.0000,9,  -999.00,-999.000,9,-999.000,9,-999.000,9, -999.00,9,  -999.0,9,  -999.0,-999.000,9,-999.000,-999.000,9, -999.00,9, -999.00,9,  224.70,-999.0000,9,-999.0000,9,-999.0000,9,-999.0000,9,-999.0000,9,-999.0000,9,  15.7378,     -999.0,9,       4.39,2,       0.15,2,       0.49,2,         68,-999.000,-999.000,-999.000,      81.13,2,    3.16,2,    0.75,2
33RO200306_01,       A16N,     068,          1,         24,         24,2,20030708,       0520,    31.5003,   -22.5323,       5224,   274.3,  14.9329,  36.0303,2,  36.0248,2,    199.0,2,   202.3,2,    2.60,2,    7.91,2,    0.01,2,    0.48,2,-999.000,9,-999.000,9,-999.000,9,  -999.0,9,  -999.0,9,   -999.0,9,  -999.00,-999.0000,9,  -999.00,-999.000,9,-999.000,9,-999.000,9, -999.00,9,  -999.0,9,  -999.0,-999.000,9,-999.000,-999.000,9, -999.00,9, -999.00,9,  274.30,-999.0000,9,-999.0000,9,-999.0000,9,-999.0000,9,-999.0000,9,-999.0000,9,  14.8910,     -999.0,9,     -999.0,9,     -999.0,9,     -999.0,9,         68,-999.000,-999.000,-999.000,     -999.0,9, -999.00,9, -999.00,9
33RO200306_01,       A16N,     068,          1,         23,         23,2,20030708,       0520,    31.5003,   -22.5323,       5224,   324.6,  14.3541,  35.9435,2,  35.9383,2,    197.9,2,   198.8,2,    3.09,2,    9.19,2,    0.01,2,    0.56,2,   2.729,2,   1.566,2,   0.052,2,  2134.1,2,  2352.1,2,   -999.0,9,  -999.00,   7.8710,2,    25.00,-999.000,9,-999.000,9,-999.000,9, -999.00,9,  -999.0,9,  -999.0,-999.000,9,-999.000,-999.000,9, -999.00,9, -999.00,9,  324.60,   0.1000,2,   0.0670,2,   0.0310,2,   0.0210,2,   0.0220,2,   0.0230,2,  14.3058,     -999.0,9,       3.78,2,       0.15,2,       0.43,2,         68,-999.000,-999.000,-999.000,      80.72,2,    1.45,2,    0.54,2
33RO200306_01,       A16N,     068,          1,         22,         22,2,20030708,       0520,    31.5003,   -22.5323,       5224,   373.6,  13.7957,  35.8600,2,  35.8602,2,    195.7,2,   197.7,2,    3.64,2,   10.40,2,    0.01,2,    0.62,2,-999.000,9,-999.000,9,-999.000,9,  -999.0,9,  -999.0,9,   -999.0,9,  -999.00,-999.0000,9,  -999.00,-999.000,9,-999.000,9,-999.000,9, -999.00,9,  -999.0,9,  -999.0,-999.000,9,-999.000,-999.000,9, -999.00,9, -999.00,9,  373.60,-999.0000,9,-999.0000,9,-999.0000,9,-999.0000,9,-999.0000,9,-999.0000,9,  13.7415,     -999.0,9,     -999.0,9,     -999.0,9,     -999.0,9,         68,-999.000,-999.000,-999.000,     -999.0,9, -999.00,9, -999.00,9
33RO200306_01,       A16N,     068,          1,         21,         21,2,20030708,       0520,    31.5003,   -22.5323,       5224,   449.6,  12.8909,  35.7415,2,  35.7415,2,    191.1,2,   193.2,2,    4.59,2,   12.46,2,    0.01,2,    0.74,2,-999.000,9,-999.000,9,-999.000,9,  -999.0,9,  -999.0,9,   -999.0,9,  -999.00,-999.0000,9,  -999.00,-999.000,9,-999.000,9,-999.000,9, -999.00,9,  -999.0,9,  -999.0,-999.000,9,-999.000,-999.000,9, -999.00,9, -999.00,9,  449.60,-999.0000,9,-999.0000,9,-999.0000,9,-999.0000,9,-999.0000,9,-999.0000,9,  12.8284,     -999.0,9,     -999.0,9,     -999.0,9,     -999.0,9,         68,-999.000,-999.000,-999.000,     -999.0,9, -999.00,9, -999.00,9
33RO200306_01,       A16N,     068,          1,         20,         20,2,20030708,       0520,    31.5003,   -22.5323,       5224,   549.8,  11.8921,  35.6354,2,  35.6321,2,    188.4,2,   185.9,2,    5.89,2,   14.91,2,    0.00,2,    0.89,2,   2.500,2,   1.350,2,   0.051,2,  2154.2,2,  2336.6,2,   -999.0,9,  -999.00,   7.7273,3,    25.00,-999.000,9,-999.000,9,-999.000,9, -999.00,9,  -999.0,9,  -999.0,-999.000,9,-999.000,-999.000,9, -999.00,9, -999.00,9,  549.80,   0.1070,2,   0.0720,2,   0.0360,2,   0.0250,2,   0.0190,2,   0.0210,2,  11.8193,     -999.0,9,       2.88,2,       0.00,2,       1.00,2,         68,-999.000,-999.000,-999.000,        0.0,2,    0.09,2,    0.05,2
33RO200306_01,       A16N,     068,          1,         19,         19,2,20030708,       0520,    31.5003,   -22.5323,       5224,   649.9,  11.0719,  35.5603,2,  35.5549,2,    182.1,2,   180.5,2,    7.57,2,   16.97,2,    0.00,2,    1.02,2,-999.000,9,-999.000,9,-999.000,9,  -999.0,9,  -999.0,9,   -999.0,9,  -999.00,-999.0000,9,  -999.00,-999.000,9,-999.000,9,-999.000,9, -999.00,9,  -999.0,9,  -999.0,-999.000,9,-999.000,-999.000,9, -999.00,9, -999.00,9,  649.90,-999.0000,9,-999.0000,9,-999.0000,9,-999.0000,9,-999.0000,9,-999.0000,9,  10.9893,     -999.0,9,     -999.0,9,     -999.0,9,     -999.0,9,         68,-999.000,-999.000,-999.000,     -999.0,9, -999.00,9, -999.00,9
33RO200306_01,       A16N,     068,          1,         18,         18,2,20030708,       0520,    31.5003,   -22.5323,       5224,   799.5,   9.9066,  35.5166,2,  35.5159,2,    173.0,2,   174.1,2,   10.37,2,   19.12,2,    0.00,2,    1.18,2,-999.000,9,-999.000,9,-999.000,9,  -999.0,9,  -999.0,9,   -999.0,9,  -999.00,-999.0000,9,  -999.00,-999.000,9,-999.000,9,-999.000,9, -999.00,9,  -999.0,9,  -999.0,-999.000,9,-999.000,-999.000,9, -999.00,9, -999.00,9,  799.50,-999.0000,9,-999.0000,9,-999.0000,9,-999.0000,9,-999.0000,9,-999.0000,9,   9.8109,     -999.0,9,     -999.0,9,     -999.0,9,     -999.0,9,         68,-999.000,-999.000,-999.000,     -999.0,9, -999.00,9, -999.00,9
33RO200306_01,       A16N,     068,          1,         17,         17,2,20030708,       0520,    31.5003,   -22.5323,       5224,   941.6,   9.0628,  35.5411,2,  35.5427,2,    173.9,2,   173.2,2,   12.37,2,   20.06,2,    0.00,2,    1.24,2,   0.879,2,   0.457,2,   0.015,2,  2186.7,6,  -999.0,9,   -999.0,9,  -999.00,-999.0000,9,  -999.00,-999.000,9,-999.000,9,-999.000,9, -999.00,9,  -999.0,9,  -999.0,-999.000,9,-999.000,-999.000,9, -999.00,9, -999.00,9,  941.60,   0.1090,2,   0.0720,2,   0.0360,2,   0.0260,2,   0.0180,2,   0.0210,2,   8.9550,     -999.0,9,       0.53,2,       0.00,2,       0.20,2,         68,-999.000,-999.000,-999.000,      14.99,2,    0.49,2,    0.34,2
33RO200306_01,       A16N,     068,          1,         16,         16,2,20030708,       0520,    31.5003,   -22.5323,       5224,  1100.8,   8.5681,  35.6050,2,  35.6057,2,    185.5,2,   184.4,2,   12.73,2,   19.23,2,    0.00,2,    1.20,2,-999.000,9,-999.000,9,-999.000,9,  -999.0,9,  -999.0,9,   -999.0,9,  -999.00,-999.0000,9,  -999.00,-999.000,9,-999.000,9,-999.000,9, -999.00,9,  -999.0,9,  -999.0,-999.000,9,-999.000,-999.000,9, -999.00,9, -999.00,9, 1100.80,-999.0000,9,-999.0000,9,-999.0000,9,-999.0000,9,-999.0000,9,-999.0000,9,   8.4448,     -999.0,9,     -999.0,9,     -999.0,9,     -999.0,9,         68,-999.000,-999.000,-999.000,     -999.0,9, -999.00,9, -999.00,9
33RO200306_01,       A16N,     068,          1,         15,         15,2,20030708,       0520,    31.5003,   -22.5323,       5224,  1250.4,   7.8496,  35.5616,2,  35.5575,2,    199.0,2,   202.9,2,   12.59,2,   18.46,2,    0.00,2,    1.16,2,-999.000,9,-999.000,9,-999.000,9,  -999.0,9,  -999.0,9,   -999.0,9,  -999.00,-999.0000,9,  -999.00,-999.000,9,-999.000,9,-999.000,9, -999.00,9,  -999.0,9,  -999.0,-999.000,9,-999.000,-999.000,9, -999.00,9, -999.00,9, 1250.40,-999.0000,9,-999.0000,9,-999.0000,9,-999.0000,9,-999.0000,9,-999.0000,9,   7.7149,     -999.0,9,     -999.0,9,     -999.0,9,     -999.0,9,         68,-999.000,-999.000,-999.000,     -999.0,9, -999.00,9, -999.00,9
33RO200306_01,       A16N,     068,          1,         14,         14,2,20030708,       0520,    31.5003,   -22.5323,       5224,  1450.8,   6.6834,  35.4180,2,  35.4160,2,    217.2,2,   216.3,2,   13.36,2,   18.37,2,    0.00,2,    1.17,2,   0.838,2,   0.429,2,   0.022,2,  2181.2,2,  -999.0,9,   -999.0,9,  -999.00,-999.0000,9,  -999.00,-999.000,9,-999.000,9,-999.000,9, -999.00,9,  -999.0,9,  -999.0,-999.000,9,-999.000,-999.000,9, -999.00,9, -999.00,9, 1450.80,-999.0000,9,-999.0000,9,-999.0000,9,-999.0000,9,-999.0000,9,-999.0000,9,   6.5378,     -999.0,9,       0.46,2,       0.00,2,       0.12,2,         68,-999.000,-999.000,-999.000,      26.29,2,    0.85,2,    0.32,2
33RO200306_01,       A16N,     068,          1,         13,         13,2,20030708,       0520,    31.5003,   -22.5323,       5224,  1750.4,   5.0240,  35.2081,2,  35.2082,2,    237.4,2,   237.5,2,   15.42,2,   18.37,2,    0.00,2,    1.18,2,-999.000,9,-999.000,9,-999.000,9,  -999.0,9,  -999.0,9,   -999.0,9,  -999.00,-999.0000,9,  -999.00,-999.000,9,-999.000,9,-999.000,9, -999.00,9,  -999.0,9,  -999.0,-999.000,9,-999.000,-999.000,9, -999.00,9, -999.00,9, 1750.40,-999.0000,9,-999.0000,9,-999.0000,9,-999.0000,9,-999.0000,9,-999.0000,9,   4.8666,     -999.0,9,     -999.0,9,     -999.0,9,     -999.0,9,         68,-999.000,-999.000,-999.000,     -999.0,9, -999.00,9, -999.00,9
33RO200306_01,       A16N,     068,          1,         12,         12,2,20030708,       0520,    31.5003,   -22.5323,       5224,  2050.5,   4.0742,  35.0830,2,  35.0818,2,    244.6,2,   246.6,2,   19.18,2,   18.77,2,    0.00,2,    1.23,2,-999.000,9,-999.000,9,-999.000,9,  -999.0,9,  -999.0,9,   -999.0,9,  -999.00,-999.0000,9,  -999.00,-999.000,9,-999.000,9,-999.000,9, -999.00,9,  -999.0,9,  -999.0,-999.000,9,-999.000,-999.000,9, -999.00,9, -999.00,9, 2050.50,   0.1260,3,   0.0830,3,   0.0380,3,   0.0250,3,   0.0200,3,   0.0230,3,   3.9002,     -999.0,9,     -999.0,9,     -999.0,9,     -999.0,9,         68,-999.000,-999.000,-999.000,     -999.0,9, -999.00,9, -999.00,9
33RO200306_01,       A16N,     068,          1,         11,         11,2,20030708,       0520,    31.5003,   -22.5323,       5224,  2350.1,   3.4753,  35.0150,2,  35.0154,2,    247.5,2,   246.7,2,   24.51,2,   19.53,2,    0.00,2,    1.29,2,-999.000,9,-999.000,9,-999.000,9,  -999.0,9,  -999.0,9,   -999.0,9,  -999.00,-999.0000,9,  -999.00,-999.000,9,-999.000,9,-999.000,9, -999.00,9,  -999.0,9,  -999.0,-999.000,9,-999.000,-999.000,9, -999.00,9, -999.00,9, 2350.10,-999.0000,9,-999.0000,9,-999.0000,9,-999.0000,9,-999.0000,9,-999.0000,9,   3.2814,     -999.0,9,     -999.0,9,     -999.0,9,     -999.0,9,         68,-999.000,-999.000,-999.000,     -999.0,9, -999.00,9, -999.00,9
33RO200306_01,       A16N,     068,          1,         10,         10,2,20030708,       0520,    31.5003,   -22.5323,       5224,  2650.5,   3.0479,  34.9693,2,  34.9708,2,    249.9,2,   249.4,2,   28.50,2,   19.78,2,    0.00,2,    1.32,2,-999.000,9,-999.000,9,-999.000,9,  -999.0,9,  -999.0,9,   -999.0,9,  -999.00,-999.0000,9,  -999.00,-999.000,9,-999.000,9,-999.000,9, -999.00,9,  -999.0,9,  -999.0,-999.000,9,-999.000,-999.000,9, -999.00,9, -999.00,9, 2650.50,-999.0000,9,-999.0000,9,-999.0000,9,-999.0000,9,-999.0000,9,-999.0000,9,   2.8320,     -999.0,9,     -999.0,9,     -999.0,9,     -999.0,9,         68,-999.000,-999.000,-999.000,     -999.0,9, -999.00,9, -999.00,9
33RO200306_01,       A16N,     068,          1,          9,          9,2,20030708,       0520,    31.5003,   -22.5323,       5224,  2950.9,   2.7953,  34.9463,2,  34.9460,2,    247.1,2,   245.8,2,   34.08,2,   20.65,2,    0.00,2,    1.38,2,-999.000,9,-999.000,9,-999.000,9,  -999.0,9,  -999.0,9,   -999.0,9,  -999.00,-999.0000,9,  -999.00,-999.000,9,-999.000,9,-999.000,9, -999.00,9,  -999.0,9,  -999.0,-999.000,9,-999.000,-999.000,9, -999.00,9, -999.00,9, 2950.90,   0.1320,3,   0.0820,3,   0.0350,3,   0.0230,3,   0.0230,3,   0.0260,3,   2.5540,     -999.0,9,     -999.0,9,     -999.0,9,     -999.0,9,         68,-999.000,-999.000,-999.000,     -999.0,9, -999.00,9, -999.00,9
33RO200306_01,       A16N,     068,          1,          8,          8,2,20030708,       0520,    31.5003,   -22.5323,       5224,  3250.0,   2.6419,  34.9297,2,  34.9289,2,    246.3,2,   245.5,2,   37.53,2,   21.07,2,    0.00,2,    1.42,2,-999.000,9,-999.000,9,-999.000,9,  -999.0,9,  -999.0,9,   -999.0,9,  -999.00,-999.0000,9,  -999.00,-999.000,9,-999.000,9,-999.000,9, -999.00,9,  -999.0,9,  -999.0,-999.000,9,-999.000,-999.000,9, -999.00,9, -999.00,9, 3250.00,-999.0000,9,-999.0000,9,-999.0000,9,-999.0000,9,-999.0000,9,-999.0000,9,   2.3728,     -999.0,9,       0.00,2,       0.10,2,       0.18,2,         68,-999.000,-999.000,-999.000,       5.88,2,    0.09,2,    0.01,2