BOTTLE,20230908CCHSIOCBG
EXPOCODE,SECT_ID,STNNBR,CASTNO,SAMPNO,BTLNBR,BTLNBR_FLAG_W,DATE,TIME,LATITUDE,LONGITUDE,DEPTH,CTDPRS,CTDTMP,CTDSAL,CTDSAL_FLAG_W,SALNTY,SALNTY_FLAG_W,CTDOXY,CTDOXY_FLAG_W,OXYGEN,OXYGEN_FLAG_W,SILCAT,SILCAT_FLAG_W,NITRAT,NITRAT_FLAG_W,NITRIT,NITRIT_FLAG_W,PHSPHT,PHSPHT_FLAG_W,CFC-11,CFC-11_FLAG_W,CFC-12,CFC-12_FLAG_W,CFC113,CFC113_FLAG_W,TCARBN,TCARBN_FLAG_W,ALKALI,ALKALI_FLAG_W,FCO2,FCO2_FLAG_W,FCO2TMP,PH_SWS,PH_SWS_FLAG_W,PH_TMP,TRITUM,TRITUM_FLAG_W,HELIUM,HELIUM_FLAG_W,DELHE3,DELHE3_FLAG_W,DELC13,DELC13_FLAG_W,DELC14,DELC14_FLAG_W,C14ERR,NEON,NEON_FLAG_W,NEONER,POC,POC_FLAG_W,DOC,DOC_FLAG_W,TDN,TDN_FLAG_W,CTDRAW,CDOM325,CDOM325_FLAG_W,CDOM340,CDOM340_FLAG_W,CDOM380,CDOM380_FLAG_W,CDOM412,CDOM412_FLAG_W,CDOMSL,CDOMSL_FLAG_W,CDOMSN,CDOMSN_FLAG_W,THETA,PON,PON_FLAG_W,HCFC-22,HCFC-22_FLAG_W,HCFC-142b,HCFC-142b_FLAG_W,HCFC-141b,HCFC-141b_FLAG_W,STNNBR_U,HELIER,DELHER,TRITER,CH3CL,CH3CL_FLAG_W,CH3BR,CH3BR_FLAG_W,CH3I,CH3I_FLAG_W
,,,,,,,,,,,METERS,DBAR,ITS-90,PSS-78,,PSS-78,,UMOL/KG,,UMOL/KG,,UMOL/KG,,UMOL/KG,,UMOL/KG,,UMOL/KG,,PMOL/KG,,PMOL/KG,,PMOL/KG,,UMOL/KG,,UMOL/KG,,UATM,,DEG C,,,DEG C,TU,,NMOL/KG,,PERCNT,,/MILLE,,/MILLE,,/MILLE,NMOL/KG,,NMOL/KG,UG/KG,,UMOL/KG,,UMOL/KG,,DBAR,1/M,,1/M,,1/M,,1/M,,1/NM,,1/NM,,DEG C,UMOL/L,,PMOL/KG,,PMOL/KG,,PMOL/KG,,,NMOL/KG,PERCNT,TU,PMOL/KG,,PMOL/KG,,PMOL/KG,
33RO200306_01,       A16N,     009,          1,         35,         35,2,20030621,       1111,    61.0007,   -20.0018,       2411,     2.4,  11.2605,  35.2210,2,  35.2268,2,    286.9,2,   287.9,2,    0.65,2,    3.78,2,    0.08,2,    0.28,2,   3.677,2,   2.018,2,   0.316,2,  2077.4,2,  2322.1,2,    435.6,2,    20.00,   7.9346,2,    25.00,-999.000,9,-999.000,9,-999.000,9,    1.48,2,    52.2,2,     3.1,-999.000,9,-999.000,  16.651,2, -999.00,9, -999.00,9,    2.40,-999.0000,9,-999.0000,9,-999.0000,9,-999.0000,9,-999.0000,9,-999.0000,9,  11.2602,      2.486,2,     -999.0,9,     -999.0,9,     -999.0,9,          9,-999.000,-999.000,-999.000,     -999.0,9, -999.00,9, -999.00,9
33RO200306_01,       A16N,     009,          1,         33,         33,2,20030621,       1111,    61.0007,   -20.0018,       2411,    20.5,  11.1786,  35.2196,2,  35.2256,2,    286.5,2,   287.1,2,    0.70,2,    3.99,2,    0.08,2,    0.29,2,   3.684,2,   2.023,2,   0.308,2,  2078.4,2,  2320.6,2,    436.0,6,    20.00,   7.9181,2,    25.00,-999.000,9,-999.000,9,-999.000,9, -999.00,9,  -999.0,9,  -999.0,-999.000,9,-999.000,  13.452,2,   58.95,2,    8.00,2,   20.50,-999.0000,9,-999.0000,9,-999.0000,9,-999.0000,9,-999.0000,9,-999.0000,9,  11.1761,      1.645,2,     -999.0,9,     -999.0,9,     -999.0,9,          9,-999.000,-999.000,-999.000,     -999.0,9, -999.00,9, -999.00,9
33RO200306_01,       A16N,     009,          1,         32,         32,2,20030621,       1111,    61.0007,   -20.0018,       2411,    40.6,   9.8178,  35.2473,2,  35.2530,2,    284.0,2,   285.3,2,    1.60,2,    7.15,2,    0.17,2,    0.54,2,-999.000,9,-999.000,9,-999.000,9,  2108.3,2,  2318.4,2,    513.8,2,    20.00,   7.8706,2,    25.00,-999.000,9,-999.000,9,-999.000,9, -999.00,9,  -999.0,9,  -999.0,-999.000,9,-999.000,   8.222,2,   54.07,2,   11.12,2,   40.60,-999.0000,9,-999.0000,9,-999.0000,9,-999.0000,9,-999.0000,9,-999.0000,9,   9.8132,      0.785,2,     -999.0,9,     -999.0,9,     -999.0,9,          9,-999.000,-999.000,-999.000,     -999.0,9, -999.00,9, -999.00,9
33RO200306_01,       A16N,     009,          1,         31,         31,2,20030621,       1111,    61.0007,   -20.0018,       2411,    60.1,   8.8437,  35.2520,2,  35.2553,2,    279.0,2,   279.3,2,    3.81,2,   10.13,2,    0.31,2,    0.74,2,   3.893,2,   2.128,2,   0.320,2,  2133.5,2,  2319.8,2,    587.6,2,    20.00,   7.8243,2,    25.00,-999.000,9,-999.000,9,-999.000,9, -999.00,9,  -999.0,9,  -999.0,-999.000,9,-999.000,   2.955,2,   52.27,2,   14.51,2,   60.10,-999.0000,9,-999.0000,9,-999.0000,9,-999.0000,9,-999.0000,9,-999.0000,9,   8.8373,      0.249,2,     -999.0,9,     -999.0,9,     -999.0,9,          9,-999.000,-999.000,-999.000,     -999.0,9, -999.00,9, -999.00,9
33RO200306_01,       A16N,     009,          1,         30,         30,2,20030621,       1111,    61.0007,   -20.0018,       2411,    79.9,   8.6920,  35.2464,2,  35.2476,2,    274.0,2,   273.3,2,    5.22,2,   11.89,2,    0.38,2,    0.79,2,-999.000,9,-999.000,9,-999.000,9,  2138.3,2,  2318.0,2,   -999.0,9,  -999.00,   7.8067,2,    25.00,-999.000,9,-999.000,9,-999.000,9, -999.00,9,  -999.0,9,  -999.0,-999.000,9,-999.000,-999.000,9,   48.95,2,   16.16,2,   79.90,-999.0000,9,-999.0000,9,-999.0000,9,-999.0000,9,-999.0000,9,-999.0000,9,   8.6835,     -999.0,9,     -999.0,9,     -999.0,9,     -999.0,9,          9,-999.000,-999.000,-999.000,     -999.0,9, -999.00,9, -999.00,9
33RO200306_01,       A16N,     009,          1,         29,         29,2,20030621,       1111,    61.0007,   -20.0018,       2411,   100.3,   8.5529,  35.2384,2,  35.2404,2,    271.1,2,   272.0,2,    6.13,2,   13.12,2,    0.09,2,    0.83,2,   3.787,2,   2.059,2,   0.304,2,  2140.7,2,  2319.4,2,    626.1,2,    20.00,   7.7964,2,    25.00,   1.142,2,-999.000,9,-999.000,9, -999.00,9,  -999.0,9,  -999.0,-999.000,9,-999.000,-999.000,9, -999.00,9, -999.00,9,  100.30,-999.0000,9,-999.0000,9,-999.0000,9,-999.0000,9,-999.0000,9,-999.0000,9,   8.5424,     -999.0,9,     -999.0,9,     -999.0,9,     -999.0,9,          9,-999.000,-999.000,   0.020,     -999.0,9, -999.00,9, -999.00,9
33RO200306_01,       A16N,     009,          1,         28,         28,2,20030621,       1111,    61.0007,   -20.0018,       2411,   125.4,   8.4759,  35.2351,2,  35.2387,2,    270.2,2,   268.9,2,    6.07,2,   13.13,2,    0.17,2,    0.83,2,-999.000,9,-999.000,9,-999.000,9,  2142.2,2,  2320.1,2,   -999.0,9,  -999.00,   7.7942,2,    25.00,-999.000,9,-999.000,9,-999.000,9, -999.00,9,  -999.0,9,  -999.0,-999.000,9,-999.000,-999.000,9,   49.51,2,   16.46,2,  125.40,-999.0000,9,-999.0000,9,-999.0000,9,-999.0000,9,-999.0000,9,-999.0000,9,   8.4628,     -999.0,9,     -999.0,9,     -999.0,9,     -999.0,9,          9,-999.000,-999.000,-999.000,     -999.0,9, -999.00,9, -999.00,9
33RO200306_01,       A16N,     009,          1,         27,         27,2,20030621,       1111,    61.0007,   -20.0018,       2411,   150.0,   8.3837,  35.2241,2,  35.2270,2,    269.9,2,   269.6,2,    6.36,2,   13.46,2,    0.05,2,    0.85,2,   3.712,2,   2.010,2,   0.291,2,  2141.2,2,  2319.3,2,    635.4,2,    20.00,   7.7885,2,    25.00,-999.000,9,-999.000,9,-999.000,9, -999.00,9,  -999.0,9,  -999.0,-999.000,9,-999.000,-999.000,9, -999.00,9, -999.00,9,  150.00,-999.0000,9,-999.0000,9,-999.0000,9,-999.0000,9,-999.0000,9,-999.0000,9,   8.3681,     -999.0,9,     -999.0,9,     -999.0,9,     -999.0,9,          9,-999.000,-999.000,-999.000,     -999.0,9, -999.00,9, -999.00,9
33RO200306_01,       A16N,     009,          1,         26,         26,2,20030621,       1111,    61.0007,   -20.0018,       2411,   180.3,   8.3089,  35.2200,2,  35.2222,2,    266.6,2,   265.6,2,    6.69,2,   13.77,2,    0.02,2,    0.87,2,-999.000,9,-999.000,9,-999.000,9,  2142.4,2,  2319.4,2,   -999.0,9,  -999.00,   7.7912,2,    25.00,-999.000,9,-999.000,9,-999.000,9, -999.00,9,  -999.0,9,  -999.0,-999.000,9,-999.000,-999.000,9,   48.37,2,   16.98,2,  180.30,-999.0000,9,-999.0000,9,-999.0000,9,-999.0000,9,-999.0000,9,-999.0000,9,   8.2902,     -999.0,9,     -999.0,9,     -999.0,9,     -999.0,9,          9,-999.000,-999.000,-999.000,     -999.0,9, -999.00,9, -999.00,9
33RO200306_01,       A16N,     009,          1,         25,         25,2,20030621,       1111,    61.0007,   -20.0018,       2411,   200.0,   8.2748,  35.2213,2,  35.2255,2,    265.8,2,   264.5,2,    6.81,2,   13.88,2,    0.02,2,    0.88,2,   3.637,2,   1.971,2,   0.279,2,  2143.5,2,  2315.2,2,    648.4,2,    20.00,   7.7824,2,    25.00,-999.000,9,   1.774,2,  -0.590,2, -999.00,9,  -999.0,9,  -999.0,   7.591,2,   0.055,-999.000,9, -999.00,9, -999.00,9,  200.00,-999.0000,9,-999.0000,9,-999.0000,9,-999.0000,9,-999.0000,9,-999.0000,9,   8.2541,     -999.0,9,     -999.0,9,     -999.0,9,     -999.0,9,          9,   0.004,   0.195,-999.000,     -999.0,9, -999.00,9, -999.00,9
33RO200306_01,       A16N,     009,          1,         24,         24,2,20030621,       1111,    61.0007,   -20.0018,       2411,   249.9,   8.1245,  35.2075,2,  35.2094,2,    257.0,2,   256.8,2,    7.31,2,   14.57,2,    0.01,2,    0.92,2,   3.526,2,   1.891,2,   0.259,2,  2147.4,2,  2314.7,2,   -999.0,9,  -999.00,   7.7770,2,    25.00,-999.000,9,-999.000,9,-999.000,9, -999.00,9,  -999.0,9,  -999.0,-999.000,9,-999.000,-999.000,9,   49.92,2,   18.07,2,  249.90,-999.0000,9,-999.0000,9,-999.0000,9,-999.0000,9,-999.0000,9,-999.0000,9,   8.0988,     -999.0,9,     -999.0,9,     -999.0,9,     -999.0,9,          9,-999.000,-999.000,-999.000,     -999.0,9, -999.00,9, -999.00,9
33RO200306_01,       A16N,     009,          1,         23,         23,2,20030621,       1111,    61.0007,   -20.0018,       2411,   300.0,   7.9922,  35.2000,2,  35.2043,2,    255.2,2,   255.7,2,    7.70,2,   14.95,2,    0.01,2,    0.94,2,   3.477,2,   1.863,2,   0.249,2,  2148.4,2,  2314.2,2,    673.3,2,    20.00,   7.7691,2,    25.00,   1.053,2,   1.794,2,  -0.220,2, -999.00,9,  -999.0,9,  -999.0,   7.577,2,   0.056,-999.000,9, -999.00,9, -999.00,9,  300.00,-999.0000,9,-999.0000,9,-999.0000,9,-999.0000,9,-999.0000,9,-999.0000,9,   7.9615,     -999.0,9,     -999.0,9,     -999.0,9,     -999.0,9,          9,   0.004,   0.195,   0.020,     -999.0,9, -999.00,9, -999.00,9
33RO200306_01,       A16N,     009,          1,         22,         22,9,20030621,       1111,    61.0007,   -20.0018,       2411,   351.2,   7.8518,  35.1923,2,-999.0000,1,    251.8,2,  -999.0,1,    8.05,2,   15.44,2,    0.01,2,    0.97,2,-999.000,9,-999.000,9,-999.000,9,  -999.0,9,  2314.4,2,   -999.0,9,  -999.00,   7.7632,2,    25.00,-999.000,9,-999.000,9,-999.000,9, -999.00,9,  -999.0,9,  -999.0,-999.000,9,-999.000,-999.000,9, -999.00,9, -999.00,9,  351.20,-999.0000,9,-999.0000,9,-999.0000,9,-999.0000,9,-999.0000,9,-999.0000,9,   7.8162,     -999.0,9,     -999.0,9,     -999.0,9,     -999.0,9,          9,-999.000,-999.000,-999.000,     -999.0,9, -999.00,9, -999.00,9
33RO200306_01,       A16N,     009,          1,         21,         21,2,20030621,       1111,    61.0007,   -20.0018,       2411,   401.2,   7.6702,  35.1825,2,  35.1864,2,    245.6,2,   249.0,2,    8.44,2,   15.83,2,    0.01,2,    0.99,2,   3.315,2,   1.754,2,   0.229,2,  2153.6,2,  2318.2,2,    699.0,2,    20.00,   7.7527,2,    25.00,-999.000,9,-999.000,9,-999.000,9, -999.00,9,  -999.0,9,  -999.0,-999.000,9,-999.000,-999.000,9,   47.73,2,   19.46,2,  401.20,-999.0000,9,-999.0000,9,-999.0000,9,-999.0000,9,-999.0000,9,-999.0000,9,   7.6299,     -999.0,9,     -999.0,9,     -999.0,9,     -999.0,9,          9,-999.000,-999.000,-999.000,     -999.0,9, -999.00,9, -999.00,9
33RO200306_01,       A16N,     009,          1,         20,         20,2,20030621,       1111,    61.0007,   -20.0018,       2411,   449.7,   7.4567,  35.1679,2,  35.1727,2,    244.0,2,  -999.0,1,    9.06,2,   16.48,2,    0.01,2,    1.03,2,-999.000,9,-999.000,9,-999.000,9,  2158.1,2,  2317.6,2,    715.1,2,    20.00,   7.7471,2,    25.00,   1.056,2,-999.000,9,-999.000,9, -999.00,9,  -999.0,9,  -999.0,-999.000,9,-999.000,-999.000,9,   47.07,2,   19.70,2,  449.70,-999.0000,9,-999.0000,9,-999.0000,9,-999.0000,9,-999.0000,9,-999.0000,9,   7.4121,     -999.0,9,     -999.0,9,     -999.0,9,     -999.0,9,          9,-999.000,-999.000,   0.020,     -999.0,9, -999.00,9, -999.00,9
33RO200306_01,       A16N,     009,          1,         19,         19,2,20030621,       1111,    61.0007,   -20.0018,       2411,   501.0,   7.2514,  35.1576,2,  35.1611,2,    235.2,2,   232.5,2,    9.74,2,   17.11,2,    0.01,2,    1.07,2,   3.003,4,   1.562,6,-999.000,5,  2162.5,2,  2318.0,2,    740.1,2,    20.00,   7.7354,2,    25.00,-999.000,9,-999.000,9,-999.000,9, -999.00,9,  -999.0,9,  -999.0,-999.000,9,-999.000,-999.000,9,   46.91,2,   20.20,2,  501.00,-999.0000,9,-999.0000,9,-999.0000,9,-999.0000,9,-999.0000,9,-999.0000,9,   7.2024,     -999.0,9,     -999.0,9,     -999.0,9,     -999.0,9,          9,-999.000,-999.000,-999.000,     -999.0,9, -999.00,9, -999.00,9
33RO200306_01,       A16N,     009,          1,         18,         18,2,20030621,       1111,    61.0007,   -20.0018,       2411,   599.3,   6.6879,  35.1285,2,  35.1309,2,    229.7,2,   228.5,2,   10.75,2,   17.79,2,    0.01,2,    1.12,2,   2.746,2,   1.405,2,   0.157,2,  2167.9,2,  2317.2,2,    767.1,2,    20.00,   7.7207,2,    25.00,-999.000,9,-999.000,9,-999.000,9, -999.00,9,  -999.0,9,  -999.0,-999.000,9,-999.000,-999.000,9,   46.34,2,   20.93,2,  599.30,-999.0000,9,-999.0000,9,-999.0000,9,-999.0000,9,-999.0000,9,-999.0000,9,   6.6314,     -999.0,9,     -999.0,9,     -999.0,9,     -999.0,9,          9,-999.000,-999.000,-999.000,     -999.0,9, -999.00,9, -999.00,9
33RO200306_01,       A16N,     009,          1,         17,         17,2,20030621,       1111,    61.0007,   -20.0018,       2411,   701.4,   6.1495,  35.0987,2,  35.1009,2,    232.8,2,   233.1,2,   11.14,2,   17.94,2,    0.01,2,    1.13,2,   2.732,2,   1.371,2,   0.154,2,  2170.6,2,  2313.1,2,    782.0,2,    20.00,   7.7010,2,    25.00,   1.182,2,-999.000,9,-999.000,9, -999.00,9,  -999.0,9,  -999.0,-999.000,9,-999.000,-999.000,9,   44.07,2,   20.99,2,  701.40,-999.0000,9,-999.0000,9,-999.0000,9,-999.0000,9,-999.0000,9,-999.0000,9,   6.0858,     -999.0,9,     -999.0,9,     -999.0,9,     -999.0,9,          9,-999.000,-999.000,   0.030,     -999.0,9, -999.00,9, -999.00,9
33RO200306_01,       A16N,     009,          1,         16,         16,2,20030621,       1111,    61.0007,   -20.0018,       2411,   801.3,   5.4176,  35.0429,2,  35.0466,2,    238.4,2,   240.9,2,   11.60,2,   18.26,2,    0.00,2,    1.16,2,   2.762,2,   1.356,2,   0.156,2,  2171.1,2,  2308.5,2,    791.5,2,    20.00,   7.7085,2,    25.00,-999.000,9,-999.000,9,-999.000,9, -999.00,9,  -999.0,9,  -999.0,-999.000,9,-999.000,-999.000,9,   44.56,2,   21.33,2,  801.30,-999.0000,9,-999.0000,9,-999.0000,9,-999.0000,9,-999.0000,9,-999.0000,9,   5.3487,     -999.0,9,     -999.0,9,     -999.0,9,     -999.0,9,          9,-999.000,-999.000,-999.000,     -999.0,9, -999.00,9, -999.00,9
33RO200306_01,       A16N,     009,          1,         15,         15,2,20030621,       1111,    61.0007,   -20.0018,       2411,   901.4,   4.9834,  35.0101,2,  35.0168,2,    248.7,2,   248.6,2,   11.32,2,   17.84,2,    0.00,2,    1.13,2,   2.882,2,   1.418,2,   0.170,2,  2167.9,2,  2305.8,2,    790.4,2,    20.00,   7.7031,2,    25.00,-999.000,9,-999.000,9,-999.000,9, -999.00,9,  -999.0,9,  -999.0,-999.000,9,-999.000,-999.000,9,   45.69,2,   21.64,2,  901.40,-999.0000,9,-999.0000,9,-999.0000,9,-999.0000,9,-999.0000,9,-999.0000,9,   4.9083,     -999.0,9,     -999.0,9,     -999.0,9,     -999.0,9,          9,-999.000,-999.000,-999.000,     -999.0,9, -999.00,9, -999.00,9
33RO200306_01,       A16N,     009,          1,         14,         14,2,20030621,       1111,    61.0007,   -20.0018,       2411,   999.9,   4.6287,  34.9838,2,  34.9857,2,    255.8,2,   255.4,2,   11.26,2,   17.67,2,    0.00,2,    1.12,2,   3.023,2,   1.482,2,   0.186,2,  2165.6,2,  2303.3,2,    783.7,2,    20.00,   7.7028,2,    25.00,   1.069,2,-999.000,9,-999.000,9, -999.00,9,  -999.0,9,  -999.0,-999.000,9,-999.000,-999.000,9,   46.51,2,   21.37,2,  999.90,-999.0000,9,-999.0000,9,-999.0000,9,-999.0000,9,-999.0000,9,-999.0000,9,   4.5474,     -999.0,9,     -999.0,9,     -999.0,9,     -999.0,9,          9,-999.000,-999.000,   0.020,     -999.0,9, -999.00,9, -999.00,9
33RO200306_01,       A16N,     009,          1,         13,         13,2,20030621,       1111,    61.0007,   -20.0018,       2411,  1100.0,   4.2719,  34.9552,2,  34.9585,2,    262.1,2,   261.3,2,   11.38,2,   17.64,2,    0.00,2,    1.12,2,-999.000,9,-999.000,9,-999.000,9,  2163.7,2,  2306.2,2,   -999.0,9,  -999.00,   7.7109,2,    25.00,-999.000,9,-999.000,9,-999.000,9, -999.00,9,  -999.0,9,  -999.0,-999.000,9,-999.000,-999.000,9,   45.85,2,   20.66,2, 1100.00,-999.0000,9,-999.0000,9,-999.0000,9,-999.0000,9,-999.0000,9,-999.0000,9,   4.1847,     -999.0,9,     -999.0,9,     -999.0,9,     -999.0,9,          9,-999.000,-999.000,-999.000,     -999.0,9, -999.00,9, -999.00,9
33RO200306_01,       A16N,     009,          1,         12,         12,2,20030621,       1111,    61.0007,   -20.0018,       2411,  1199.8,   4.0452,  34.9438,2,  34.9474,2,    266.7,2,   268.5,2,   11.32,2,   17.44,2,    0.00,2,    1.10,2,   3.040,2,   1.474,2,   0.186,2,  2161.6,2,  2304.7,2,    781.0,6,    20.00,   7.7153,2,    25.00,-999.000,9,-999.000,9,-999.000,9, -999.00,9,  -999.0,9,  -999.0,-999.000,9,-999.000,-999.000,9,   46.34,2,   20.34,2, 1199.80,-999.0000,9,-999.0000,9,-999.0000,9,-999.0000,9,-999.0000,9,-999.0000,9,   3.9513,     -999.0,9,     -999.0,9,     -999.0,9,     -999.0,9,          9,-999.000,-999.000,-999.000,     -999.0,9, -999.00,9, -999.00,9
33RO200306_01,       A16N,     009,          1,         11,         11,2,20030621,       1111,    61.0007,   -20.0018,       2411,  1300.4,   3.8621,  34.9335,2,  34.9379,2,    271.1,2,   273.0,2,   11.49,2,   17.36,2,    0.00,2,    1.10,2,-999.000,9,-999.000,9,-999.000,9,  2158.8,2,  2305.9,2,   -999.0,9,  -999.00,   7.7176,2,    25.00,-999.000,9,-999.000,9,-999.000,9, -999.00,9,  -999.0,9,  -999.0,-999.000,9,-999.000,-999.000,9,   45.53,2,   20.74,2, 1300.40,-999.0000,9,-999.0000,9,-999.0000,9,-999.0000,9,-999.0000,9,-999.0000,9,   3.7612,     -999.0,9,     -999.0,9,     -999.0,9,     -999.0,9,          9,-999.000,-999.000,-999.000,     -999.0,9, -999.00,9, -999.00,9
33RO200306_01,       A16N,     009,          1,         10,         10,2,20030621,       1111,    61.0007,   -20.0018,       2411,  1401.4,   3.6506,  34.9158,2,  34.9191,2,    275.6,2,   275.8,2,   11.54,2,   17.30,2,    0.00,2,    1.10,2,   2.995,2,   1.428,2,   0.175,2,  2157.3,2,  2302.7,2,    775.0,2,    20.00,   7.7126,2,    25.00,-999.000,9,   1.880,2,   4.758,2, -999.00,9,  -999.0,9,  -999.0,   7.924,2,   0.053,-999.000,9,   46.10,2,   21.13,2, 1401.40,-999.0000,9,-999.0000,9,-999.0000,9,-999.0000,9,-999.0000,9,-999.0000,9,   3.5431,     -999.0,9,     -999.0,9,     -999.0,9,     -999.0,9,          9,   0.004,   0.219,-999.000,     -999.0,9, -999.00,9, -999.00,9
33RO200306_01,       A16N,     009,          1,          9,          9,2,20030621,       1111,    61.0007,   -20.0018,       2411,  1500.5,   3.5375,  34.9077,2,  34.9114,2,    278.5,2,   277.3,2,   11.60,2,   17.20,2,    0.00,2,    1.09,2,   2.975,2,   1.424,2,   0.175,2,  2157.2,2,  2302.8,2,    767.9,2,    20.00,   7.7173,2,    25.00,-999.000,9,-999.000,9,-999.000,9, -999.00,9,  -999.0,9,  -999.0,-999.000,9,-999.000,-999.000,9,   46.42,2,   21.86,2, 1500.50,-999.0000,9,-999.0000,9,-999.0000,9,-999.0000,9,-999.0000,9,-999.0000,9,   3.4226,     -999.0,9,     -999.0,9,     -999.0,9,     -999.0,9,          9,-999.000,-999.000,-999.000,     -999.0,9, -999.00,9, -999.00,9
33RO200306_01,       A16N,     009,          1,          8,          8,2,20030621,       1111,    61.0007,   -20.0018,       2411,  1700.0,   3.3536,  34.9064,2,  34.9092,2,    283.2,2,   282.8,2,   11.43,2,   16.81,2,    0.00,2,    1.07,2,-999.000,9,-999.000,9,-999.000,9,  2155.1,2,  2298.8,2,    765.8,2,    20.00,   7.7219,2,    25.00,-999.000,9,-999.000,9,-999.000,9, -999.00,9,  -999.0,9,  -999.0,-999.000,9,-999.000,-999.000,9,   45.69,2,   21.56,2, 1700.00,-999.0000,9,-999.0000,9,-999.0000,9,-999.0000,9,-999.0000,9,-999.0000,9,   3.2233,     -999.0,9,     -999.0,9,     -999.0,9,     -999.0,9,          9,-999.000,-999.000,-999.000,     -999.0,9, -999.00,9, -999.00,9