BOTTLE,20230908CCHSIOCBG
EXPOCODE,SECT_ID,STNNBR,CASTNO,SAMPNO,BTLNBR,BTLNBR_FLAG_W,DATE,TIME,LATITUDE,LONGITUDE,DEPTH,CTDPRS,CTDTMP,CTDSAL,CTDSAL_FLAG_W,SALNTY,SALNTY_FLAG_W,CTDOXY,CTDOXY_FLAG_W,OXYGEN,OXYGEN_FLAG_W,SILCAT,SILCAT_FLAG_W,NITRAT,NITRAT_FLAG_W,NITRIT,NITRIT_FLAG_W,PHSPHT,PHSPHT_FLAG_W,CFC-11,CFC-11_FLAG_W,CFC-12,CFC-12_FLAG_W,CFC113,CFC113_FLAG_W,TCARBN,TCARBN_FLAG_W,ALKALI,ALKALI_FLAG_W,FCO2,FCO2_FLAG_W,FCO2TMP,PH_SWS,PH_SWS_FLAG_W,PH_TMP,TRITUM,TRITUM_FLAG_W,HELIUM,HELIUM_FLAG_W,DELHE3,DELHE3_FLAG_W,DELC13,DELC13_FLAG_W,DELC14,DELC14_FLAG_W,C14ERR,NEON,NEON_FLAG_W,NEONER,POC,POC_FLAG_W,DOC,DOC_FLAG_W,TDN,TDN_FLAG_W,CTDRAW,CDOM325,CDOM325_FLAG_W,CDOM340,CDOM340_FLAG_W,CDOM380,CDOM380_FLAG_W,CDOM412,CDOM412_FLAG_W,CDOMSL,CDOMSL_FLAG_W,CDOMSN,CDOMSN_FLAG_W,THETA,PON,PON_FLAG_W,HCFC-22,HCFC-22_FLAG_W,HCFC-142b,HCFC-142b_FLAG_W,HCFC-141b,HCFC-141b_FLAG_W,STNNBR_U,HELIER,DELHER,TRITER,CH3CL,CH3CL_FLAG_W,CH3BR,CH3BR_FLAG_W,CH3I,CH3I_FLAG_W
,,,,,,,,,,,METERS,DBAR,ITS-90,PSS-78,,PSS-78,,UMOL/KG,,UMOL/KG,,UMOL/KG,,UMOL/KG,,UMOL/KG,,UMOL/KG,,PMOL/KG,,PMOL/KG,,PMOL/KG,,UMOL/KG,,UMOL/KG,,UATM,,DEG C,,,DEG C,TU,,NMOL/KG,,PERCNT,,/MILLE,,/MILLE,,/MILLE,NMOL/KG,,NMOL/KG,UG/KG,,UMOL/KG,,UMOL/KG,,DBAR,1/M,,1/M,,1/M,,1/M,,1/NM,,1/NM,,DEG C,UMOL/L,,PMOL/KG,,PMOL/KG,,PMOL/KG,,,NMOL/KG,PERCNT,TU,PMOL/KG,,PMOL/KG,,PMOL/KG,
33RO200306_01,       A16N,     057,          2,          7,          7,2,20030704,       1527,    36.9980,   -20.0007,       3797,  1900.0,   4.1809,  35.0578,2,  35.0594,2,    255.3,2,   254.9,2,   14.15,2,   17.96,2,    0.00,2,    1.15,2,   0.958,2,   0.483,2,   0.035,2,  2165.1,2,  2318.2,2,    740.6,2,    20.00,   7.7385,2,    25.00,-999.000,9,   1.821,2,   7.891,2, -999.00,9,  -999.0,9,  -999.0,   7.851,2,   0.027,-999.000,9,   42.63,2,   21.58,2, 1900.00,-999.0000,9,-999.0000,9,-999.0000,9,-999.0000,9,-999.0000,9,-999.0000,9,   4.0203,     -999.0,9,     -999.0,9,     -999.0,9,     -999.0,9,         57,   0.004,   0.154,-999.000,     -999.0,9, -999.00,9, -999.00,9
33RO200306_01,       A16N,     057,          2,          6,          6,2,20030704,       1527,    36.9980,   -20.0007,       3797,  2192.8,   3.6156,  34.9961,2,  34.9983,2,    261.2,2,   257.7,2,   17.11,2,   18.11,2,    0.00,2,    1.18,2,   0.635,2,   0.324,2,   0.024,2,  2165.3,2,  2314.8,2,   -999.0,9,  -999.00,   7.7365,2,    25.00,-999.000,9,-999.000,9,-999.000,9, -999.00,9,  -999.0,9,  -999.0,-999.000,9,-999.000,-999.000,9,   40.41,2,   22.47,2, 2192.80,-999.0000,9,-999.0000,9,-999.0000,9,-999.0000,9,-999.0000,9,-999.0000,9,   3.4350,     -999.0,9,     -999.0,9,     -999.0,9,     -999.0,9,         57,-999.000,-999.000,-999.000,     -999.0,9, -999.00,9, -999.00,9
33RO200306_01,       A16N,     057,          2,          5,          5,2,20030704,       1527,    36.9980,   -20.0007,       3797,  2492.3,   3.1733,  34.9636,2,-999.0000,1,    259.3,2,   257.2,2, -999.00,1, -999.00,1, -999.00,1, -999.00,1,   0.427,2,   0.223,2,   0.011,2,  2171.1,2,  2320.3,2,    745.1,6,    20.00,-999.0000,9,  -999.00,-999.000,9,   1.860,2,   4.620,2, -999.00,9,  -999.0,9,  -999.0,   8.049,9,   0.044,-999.000,9, -999.00,9, -999.00,9, 2492.30,-999.0000,9,-999.0000,9,-999.0000,9,-999.0000,9,-999.0000,9,-999.0000,9,   2.9709,     -999.0,9,     -999.0,9,     -999.0,9,     -999.0,9,         57,   0.003,   0.154,-999.000,     -999.0,9, -999.00,9, -999.00,9
33RO200306_01,       A16N,     057,          2,          4,          4,2,20030704,       1527,    36.9980,   -20.0007,       3797,  2798.7,   2.9295,  34.9529,2,  34.9547,2,    252.8,2,   251.2,2,   28.60,6,   19.63,6,    0.00,6,    1.30,6,   0.178,2,   0.095,2,   0.006,2,  2180.7,2,  2329.4,2,   -999.0,9,  -999.00,   7.7413,2,    25.00,-999.000,9,-999.000,9,-999.000,9, -999.00,9,  -999.0,9,  -999.0,-999.000,9,-999.000,-999.000,9,   41.39,2,   23.38,2, 2798.70,-999.0000,9,-999.0000,9,-999.0000,9,-999.0000,9,-999.0000,9,-999.0000,9,   2.7010,     -999.0,9,     -999.0,9,     -999.0,9,     -999.0,9,         57,-999.000,-999.000,-999.000,     -999.0,9, -999.00,9, -999.00,9
33RO200306_01,       A16N,     057,          2,          3,          3,2,20030704,       1527,    36.9980,   -20.0007,       3797,  3100.1,   2.7547,  34.9381,2,  34.9405,2,    248.6,2,   248.9,2,   33.15,6,   20.29,6,    0.00,6,    1.36,6,   0.131,2,   0.073,2,   0.007,2,  2185.9,2,  2336.7,2,    754.5,2,    20.00,   7.7334,2,    25.00,   0.131,2,   1.857,2,   2.873,2, -999.00,9,  -999.0,9,  -999.0,   8.032,2,   0.017,-999.000,9,   41.63,2,   25.41,2, 3100.10,-999.0000,9,-999.0000,9,-999.0000,9,-999.0000,9,-999.0000,9,-999.0000,9,   2.4988,     -999.0,9,     -999.0,9,     -999.0,9,     -999.0,9,         57,   0.003,   0.356,   0.000,     -999.0,9, -999.00,9, -999.00,9
33RO200306_01,       A16N,     057,          2,          2,          2,2,20030704,       1527,    36.9980,   -20.0007,       3797,  3391.3,   2.6858,  34.9304,2,  34.9323,2,    245.2,2,   245.7,2,   35.95,6,   20.76,6,    0.00,6,    1.39,6,   0.117,6,   0.062,6,   0.006,6,  2190.6,2,  2339.4,2,    759.3,2,    20.00,   7.7263,2,    25.00,-999.000,9,-999.000,9,-999.000,9, -999.00,9,  -999.0,9,  -999.0,-999.000,9,-999.000,-999.000,9,   41.05,2,   24.50,2, 3391.30,-999.0000,9,-999.0000,9,-999.0000,9,-999.0000,9,-999.0000,9,-999.0000,9,   2.4005,     -999.0,9,     -999.0,9,     -999.0,9,     -999.0,9,         57,-999.000,-999.000,-999.000,     -999.0,9, -999.00,9, -999.00,9
33RO200306_01,       A16N,     057,          2,          1,          1,2,20030704,       1527,    36.9980,   -20.0007,       3797,  3875.2,   2.5727,  34.9151,2,  34.9165,2,    240.5,2,   276.9,3,   40.79,2,   21.56,2,    0.00,2,    1.44,2,   0.066,2,   0.037,2,   0.006,2,  2196.1,6,  2346.0,2,    759.9,2,    20.00,   7.7182,2,    25.00,   0.001,2,-999.000,9,-999.000,9, -999.00,9,  -999.0,9,  -999.0,-999.000,9,-999.000,-999.000,9,   41.93,2,   25.20,2, 3875.20,-999.0000,9,-999.0000,9,-999.0000,9,-999.0000,9,-999.0000,9,-999.0000,9,   2.2366,     -999.0,9,     -999.0,9,     -999.0,9,     -999.0,9,         57,-999.000,-999.000,   0.000,     -999.0,9, -999.00,9, -999.00,9