BOTTLE,20230908CCHSIOCBG
EXPOCODE,SECT_ID,STNNBR,CASTNO,SAMPNO,BTLNBR,BTLNBR_FLAG_W,DATE,TIME,LATITUDE,LONGITUDE,DEPTH,CTDPRS,CTDTMP,CTDSAL,CTDSAL_FLAG_W,SALNTY,SALNTY_FLAG_W,CTDOXY,CTDOXY_FLAG_W,OXYGEN,OXYGEN_FLAG_W,SILCAT,SILCAT_FLAG_W,NITRAT,NITRAT_FLAG_W,NITRIT,NITRIT_FLAG_W,PHSPHT,PHSPHT_FLAG_W,CFC-11,CFC-11_FLAG_W,CFC-12,CFC-12_FLAG_W,CFC113,CFC113_FLAG_W,TCARBN,TCARBN_FLAG_W,ALKALI,ALKALI_FLAG_W,FCO2,FCO2_FLAG_W,FCO2TMP,PH_SWS,PH_SWS_FLAG_W,PH_TMP,TRITUM,TRITUM_FLAG_W,HELIUM,HELIUM_FLAG_W,DELHE3,DELHE3_FLAG_W,DELC13,DELC13_FLAG_W,DELC14,DELC14_FLAG_W,C14ERR,NEON,NEON_FLAG_W,NEONER,POC,POC_FLAG_W,DOC,DOC_FLAG_W,TDN,TDN_FLAG_W,CTDRAW,CDOM325,CDOM325_FLAG_W,CDOM340,CDOM340_FLAG_W,CDOM380,CDOM380_FLAG_W,CDOM412,CDOM412_FLAG_W,CDOMSL,CDOMSL_FLAG_W,CDOMSN,CDOMSN_FLAG_W,THETA,PON,PON_FLAG_W,HCFC-22,HCFC-22_FLAG_W,HCFC-142b,HCFC-142b_FLAG_W,HCFC-141b,HCFC-141b_FLAG_W,STNNBR_U,HELIER,DELHER,TRITER,CH3CL,CH3CL_FLAG_W,CH3BR,CH3BR_FLAG_W,CH3I,CH3I_FLAG_W
,,,,,,,,,,,METERS,DBAR,ITS-90,PSS-78,,PSS-78,,UMOL/KG,,UMOL/KG,,UMOL/KG,,UMOL/KG,,UMOL/KG,,UMOL/KG,,PMOL/KG,,PMOL/KG,,PMOL/KG,,UMOL/KG,,UMOL/KG,,UATM,,DEG C,,,DEG C,TU,,NMOL/KG,,PERCNT,,/MILLE,,/MILLE,,/MILLE,NMOL/KG,,NMOL/KG,UG/KG,,UMOL/KG,,UMOL/KG,,DBAR,1/M,,1/M,,1/M,,1/M,,1/NM,,1/NM,,DEG C,UMOL/L,,PMOL/KG,,PMOL/KG,,PMOL/KG,,,NMOL/KG,PERCNT,TU,PMOL/KG,,PMOL/KG,,PMOL/KG,
33RO200306_01,       A16N,     015,          1,         27,         27,2,20030622,       2158,    58.0013,   -19.9978,       1638,     2.1,  12.3490,  35.3974,2,  35.4083,2,    272.1,2,   267.1,2,    0.14,2,    4.57,2,    0.10,2,    0.33,2,   3.421,2,   1.903,2,   0.288,2,  2090.1,6,  -999.0,9,    456.2,2,    20.00,-999.0000,9,  -999.00,-999.000,9,-999.000,9,-999.000,9,    1.31,2,    69.6,2,     3.7,-999.000,9,-999.000,-999.000,9,   53.17,2,    8.96,2,    2.10,-999.0000,9,-999.0000,9,-999.0000,9,-999.0000,9,-999.0000,9,-999.0000,9,  12.3487,     -999.0,9,     -999.0,9,     -999.0,9,     -999.0,9,         15,-999.000,-999.000,-999.000,     -999.0,9, -999.00,9, -999.00,9
33RO200306_01,       A16N,     015,          1,         28,         28,2,20030622,       2158,    58.0013,   -19.9978,       1638,     2.1,  12.3490,  35.3973,2,  35.4080,2,    272.1,2,   268.4,2,    0.08,2,    4.57,2,    0.10,2,    0.29,2,-999.000,9,-999.000,9,-999.000,9,  -999.0,9,  -999.0,9,   -999.0,9,  -999.00,-999.0000,9,  -999.00,-999.000,9,-999.000,9,-999.000,9, -999.00,9,  -999.0,9,  -999.0,-999.000,9,-999.000,-999.000,9, -999.00,9, -999.00,9,    2.10,-999.0000,9,-999.0000,9,-999.0000,9,-999.0000,9,-999.0000,9,-999.0000,9,  12.3487,     -999.0,9,     -999.0,9,     -999.0,9,     -999.0,9,         15,-999.000,-999.000,-999.000,     -999.0,9, -999.00,9, -999.00,9
33RO200306_01,       A16N,     015,          1,         26,         26,2,20030622,       2158,    58.0013,   -19.9978,       1638,    10.2,  12.3497,  35.3987,2,  35.4042,2,    271.7,2,   266.7,2,    0.13,2,    4.55,2,    0.10,2,    0.35,2,-999.000,9,-999.000,9,-999.000,9,  -999.0,9,  -999.0,9,   -999.0,9,  -999.00,-999.0000,9,  -999.00,-999.000,9,-999.000,9,-999.000,9, -999.00,9,  -999.0,9,  -999.0,-999.000,9,-999.000,-999.000,9, -999.00,9, -999.00,9,   10.20,-999.0000,9,-999.0000,9,-999.0000,9,-999.0000,9,-999.0000,9,-999.0000,9,  12.3483,     -999.0,9,     -999.0,9,     -999.0,9,     -999.0,9,         15,-999.000,-999.000,-999.000,     -999.0,9, -999.00,9, -999.00,9
33RO200306_01,       A16N,     015,          1,         25,         25,2,20030622,       2158,    58.0013,   -19.9978,       1638,    30.3,  11.7835,  35.3512,2,  35.3639,2,    263.2,2,   270.4,2,    0.23,2,    4.33,2,    0.11,2,    0.32,2,-999.000,9,-999.000,9,-999.000,9,  -999.0,9,  -999.0,9,   -999.0,9,  -999.00,-999.0000,9,  -999.00,-999.000,9,-999.000,9,-999.000,9, -999.00,9,  -999.0,9,  -999.0,-999.000,9,-999.000,-999.000,9, -999.00,9, -999.00,9,   30.30,-999.0000,9,-999.0000,9,-999.0000,9,-999.0000,9,-999.0000,9,-999.0000,9,  11.7796,     -999.0,9,     -999.0,9,     -999.0,9,     -999.0,9,         15,-999.000,-999.000,-999.000,     -999.0,9, -999.00,9, -999.00,9
33RO200306_01,       A16N,     015,          1,         24,         24,2,20030622,       2158,    58.0013,   -19.9978,       1638,    50.2,  10.8863,  35.4384,2,  35.4395,2,    261.4,2,   260.4,2,    1.14,2,    7.05,2,    0.22,2,    0.55,2,   3.497,2,   1.939,2,   0.282,2,  2120.6,2,  2335.4,2,    522.2,2,    20.00,   7.8688,2,    25.00,-999.000,9,-999.000,9,-999.000,9, -999.00,9,  -999.0,9,  -999.0,-999.000,9,-999.000,-999.000,9,   52.12,2,   14.44,2,   50.20,-999.0000,9,-999.0000,9,-999.0000,9,-999.0000,9,-999.0000,9,-999.0000,9,  10.8802,     -999.0,9,     -999.0,9,     -999.0,9,     -999.0,9,         15,-999.000,-999.000,-999.000,     -999.0,9, -999.00,9, -999.00,9
33RO200306_01,       A16N,     015,          1,         23,         23,2,20030622,       2158,    58.0013,   -19.9978,       1638,    69.9,  10.8160,  35.4559,2,  35.4566,2,    254.9,2,   255.9,2,    2.11,2,    9.23,2,    0.37,2,    0.61,2,-999.000,9,-999.000,9,-999.000,9,  -999.0,9,  -999.0,9,   -999.0,9,  -999.00,-999.0000,9,  -999.00,-999.000,9,-999.000,9,-999.000,9, -999.00,9,  -999.0,9,  -999.0,-999.000,9,-999.000,-999.000,9, -999.00,9, -999.00,9,   69.90,-999.0000,9,-999.0000,9,-999.0000,9,-999.0000,9,-999.0000,9,-999.0000,9,  10.8075,     -999.0,9,     -999.0,9,     -999.0,9,     -999.0,9,         15,-999.000,-999.000,-999.000,     -999.0,9, -999.00,9, -999.00,9
33RO200306_01,       A16N,     015,          1,         22,         22,2,20030622,       2158,    58.0013,   -19.9978,       1638,    89.9,  10.6876,  35.4389,2,  35.4403,2,    252.4,2,   255.0,2,    2.62,2,    9.95,2,    0.16,2,    0.63,2,-999.000,9,-999.000,9,-999.000,9,  -999.0,9,  -999.0,9,   -999.0,9,  -999.00,-999.0000,9,  -999.00,-999.000,9,-999.000,9,-999.000,9, -999.00,9,  -999.0,9,  -999.0,-999.000,9,-999.000,-999.000,9, -999.00,9, -999.00,9,   89.90,-999.0000,9,-999.0000,9,-999.0000,9,-999.0000,9,-999.0000,9,-999.0000,9,  10.6767,     -999.0,9,     -999.0,9,     -999.0,9,     -999.0,9,         15,-999.000,-999.000,-999.000,     -999.0,9, -999.00,9, -999.00,9
33RO200306_01,       A16N,     015,          1,         21,         21,2,20030622,       2158,    58.0013,   -19.9978,       1638,   107.7,  10.5437,  35.4178,2,  35.4213,2,    252.9,2,   254.6,2,    3.52,2,   10.56,2,    0.03,2,    0.66,2,   3.429,2,   1.886,2,   0.268,2,  2130.9,2,  2329.5,2,    569.9,2,    20.00,   7.8443,2,    25.00,   1.384,2,   1.767,2,  -1.865,2, -999.00,9,  -999.0,9,  -999.0,   7.397,2,   0.020,-999.000,9,   51.14,2,   14.59,2,  107.70,-999.0000,9,-999.0000,9,-999.0000,9,-999.0000,9,-999.0000,9,-999.0000,9,  10.5308,     -999.0,9,     -999.0,9,     -999.0,9,     -999.0,9,         15,   0.002,   0.163,   0.040,     -999.0,9, -999.00,9, -999.00,9
33RO200306_01,       A16N,     015,          1,         20,         20,2,20030622,       2158,    58.0013,   -19.9978,       1638,   131.5,  10.5099,  35.4211,2,  35.4227,2,    252.6,2,   255.4,2,    4.09,2,   10.90,2,    0.03,2,    0.68,2,-999.000,9,-999.000,9,-999.000,9,  -999.0,9,  -999.0,9,   -999.0,9,  -999.00,-999.0000,9,  -999.00,-999.000,9,-999.000,9,-999.000,9, -999.00,9,  -999.0,9,  -999.0,-999.000,9,-999.000,-999.000,9, -999.00,9, -999.00,9,  131.50,-999.0000,9,-999.0000,9,-999.0000,9,-999.0000,9,-999.0000,9,-999.0000,9,  10.4941,     -999.0,9,     -999.0,9,     -999.0,9,     -999.0,9,         15,-999.000,-999.000,-999.000,     -999.0,9, -999.00,9, -999.00,9
33RO200306_01,       A16N,     015,          1,         19,         19,2,20030622,       2158,    58.0013,   -19.9978,       1638,   159.6,  10.3940,  35.4082,2,  35.4107,2,    252.5,2,   251.1,2,    4.61,2,   11.35,2,    0.02,2,    0.71,2,   3.409,2,   1.873,2,   0.251,2,  2133.5,2,  2328.9,2,    580.6,2,    20.00,   7.8296,2,    25.00,   1.343,2,   1.805,2,  -1.714,2, -999.00,9,  -999.0,9,  -999.0,   7.539,2,   0.017,-999.000,9,   50.17,2,   15.14,2,  159.60,-999.0000,9,-999.0000,9,-999.0000,9,-999.0000,9,-999.0000,9,-999.0000,9,  10.3750,     -999.0,9,     -999.0,9,     -999.0,9,     -999.0,9,         15,   0.002,   0.132,   0.030,     -999.0,9, -999.00,9, -999.00,9
33RO200306_01,       A16N,     015,          1,         18,         18,2,20030622,       2158,    58.0013,   -19.9978,       1638,   184.6,  10.2952,  35.3949,2,  35.3967,2,    252.8,2,   251.2,2,    4.72,2,   11.57,2,    0.01,2,    0.72,2,-999.000,9,-999.000,9,-999.000,9,  -999.0,9,  -999.0,9,   -999.0,9,  -999.00,-999.0000,9,  -999.00,-999.000,9,-999.000,9,-999.000,9, -999.00,9,  -999.0,9,  -999.0,-999.000,9,-999.000,-999.000,9, -999.00,9, -999.00,9,  184.60,-999.0000,9,-999.0000,9,-999.0000,9,-999.0000,9,-999.0000,9,-999.0000,9,  10.2733,     -999.0,9,     -999.0,9,     -999.0,9,     -999.0,9,         15,-999.000,-999.000,-999.000,     -999.0,9, -999.00,9, -999.00,9
33RO200306_01,       A16N,     015,          1,         17,         17,2,20030622,       2158,    58.0013,   -19.9978,       1638,   224.6,  10.0958,  35.3638,2,  35.3653,2,    255.6,2,   249.9,2,    5.11,2,   12.04,2,    0.01,2,    0.75,2,   3.335,2,   1.824,2,   0.240,2,  2134.9,2,  -999.0,9,    601.7,2,    20.00,-999.0000,9,  -999.00,   1.437,2,   1.757,2,  -1.105,2, -999.00,9,  -999.0,9,  -999.0,   7.423,2,   0.024,-999.000,9,   51.39,2,   16.36,2,  224.60,-999.0000,9,-999.0000,9,-999.0000,9,-999.0000,9,-999.0000,9,-999.0000,9,  10.0694,     -999.0,9,     -999.0,9,     -999.0,9,     -999.0,9,         15,   0.003,   0.193,   0.040,     -999.0,9, -999.00,9, -999.00,9
33RO200306_01,       A16N,     015,          1,         16,         16,2,20030622,       2158,    58.0013,   -19.9978,       1638,   273.9,   9.9588,  35.3494,2,  35.3526,2,    258.9,2,   253.2,2,    4.93,2,   11.87,2,    0.01,2,    0.75,2,-999.000,9,-999.000,9,-999.000,9,  -999.0,9,  -999.0,9,   -999.0,9,  -999.00,-999.0000,9,  -999.00,-999.000,9,-999.000,9,-999.000,9, -999.00,9,  -999.0,9,  -999.0,-999.000,9,-999.000,-999.000,9, -999.00,9, -999.00,9,  273.90,-999.0000,9,-999.0000,9,-999.0000,9,-999.0000,9,-999.0000,9,-999.0000,9,   9.9268,     -999.0,9,     -999.0,9,     -999.0,9,     -999.0,9,         15,-999.000,-999.000,-999.000,     -999.0,9, -999.00,9, -999.00,9
33RO200306_01,       A16N,     015,          1,         15,         15,2,20030622,       2158,    58.0013,   -19.9978,       1638,   325.0,   9.8324,  35.3305,2,  35.3285,2,    248.8,2,   248.0,2,    5.44,2,   12.51,2,    0.01,2,    0.78,2,   3.376,2,   1.847,2,   0.246,2,  2138.0,2,  -999.0,9,    606.5,2,    20.00,-999.0000,9,  -999.00,   1.349,2,-999.000,9,-999.000,9, -999.00,9,  -999.0,9,  -999.0,-999.000,9,-999.000,-999.000,9,   48.21,2,   16.59,2,  325.00,-999.0000,9,-999.0000,9,-999.0000,9,-999.0000,9,-999.0000,9,-999.0000,9,   9.7947,     -999.0,9,     -999.0,9,     -999.0,9,     -999.0,9,         15,-999.000,-999.000,   0.020,     -999.0,9, -999.00,9, -999.00,9
33RO200306_01,       A16N,     015,          1,         14,         14,2,20030622,       2158,    58.0013,   -19.9978,       1638,   374.2,   9.1166,  35.2091,2,  35.2097,2,    235.3,2,   231.7,2,    7.10,2,   14.69,2,    0.01,2,    0.93,2,-999.000,9,-999.000,9,-999.000,9,  -999.0,9,  -999.0,9,   -999.0,9,  -999.00,-999.0000,9,  -999.00,-999.000,9,-999.000,9,-999.000,9, -999.00,9,  -999.0,9,  -999.0,-999.000,9,-999.000,-999.000,9, -999.00,9, -999.00,9,  374.20,-999.0000,9,-999.0000,9,-999.0000,9,-999.0000,9,-999.0000,9,-999.0000,9,   9.0751,     -999.0,9,     -999.0,9,     -999.0,9,     -999.0,9,         15,-999.000,-999.000,-999.000,     -999.0,9, -999.00,9, -999.00,9
33RO200306_01,       A16N,     015,          1,         13,         13,2,20030622,       2158,    58.0013,   -19.9978,       1638,   423.6,   9.2524,  35.2814,2,  35.2850,2,    226.5,2,   252.2,2,    5.89,2,   13.23,2,    0.01,2,    0.83,2,   3.400,2,   1.849,2,   0.251,2,  2141.1,2,  -999.0,9,    636.0,2,    20.00,-999.0000,9,  -999.00,   1.322,2,   1.762,2,  -0.656,2, -999.00,9,  -999.0,9,  -999.0,   7.526,2,   0.024,-999.000,9,   47.56,2,   17.50,2,  423.60,-999.0000,9,-999.0000,9,-999.0000,9,-999.0000,9,-999.0000,9,-999.0000,9,   9.2048,     -999.0,9,     -999.0,9,     -999.0,9,     -999.0,9,         15,   0.003,   0.192,   0.020,     -999.0,9, -999.00,9, -999.00,9
33RO200306_01,       A16N,     015,          1,         12,         12,2,20030622,       2158,    58.0013,   -19.9978,       1638,   474.5,   9.1823,  35.2826,2,  35.2831,2,    249.0,2,   249.7,2,    6.56,2,   13.28,2,    0.01,2,    0.83,2,-999.000,9,-999.000,9,-999.000,9,  -999.0,9,  -999.0,9,   -999.0,9,  -999.00,-999.0000,9,  -999.00,-999.000,9,-999.000,9,-999.000,9, -999.00,9,  -999.0,9,  -999.0,-999.000,9,-999.000,-999.000,9, -999.00,9, -999.00,9,  474.50,-999.0000,9,-999.0000,9,-999.0000,9,-999.0000,9,-999.0000,9,-999.0000,9,   9.1291,     -999.0,9,     -999.0,9,     -999.0,9,     -999.0,9,         15,-999.000,-999.000,-999.000,     -999.0,9, -999.00,9, -999.00,9
33RO200306_01,       A16N,     015,          1,         11,         11,2,20030622,       2158,    58.0013,   -19.9978,       1638,   549.3,   8.5871,  35.2067,2,  35.2075,2,    230.7,2,   228.7,2,    8.39,2,   16.18,2,    0.01,2,    1.02,2,   2.926,2,   1.556,2,   0.179,2,  2158.4,2,  2319.3,2,    704.8,2,    20.00,   7.7512,2,    25.00,-999.000,9,-999.000,9,-999.000,9, -999.00,9,  -999.0,9,  -999.0,-999.000,9,-999.000,-999.000,9,   45.44,2,   20.01,2,  549.30,-999.0000,9,-999.0000,9,-999.0000,9,-999.0000,9,-999.0000,9,-999.0000,9,   8.5277,     -999.0,9,     -999.0,9,     -999.0,9,     -999.0,9,         15,-999.000,-999.000,-999.000,     -999.0,9, -999.00,9, -999.00,9
33RO200306_01,       A16N,     015,          1,         10,         10,2,20030622,       2158,    58.0013,   -19.9978,       1638,   648.9,   8.1233,  35.2186,2,  35.2201,2,    210.4,2,   205.6,2,    9.87,2,   17.69,2,    0.00,2,    1.11,2,   2.505,2,   1.295,2,   0.129,2,  2169.5,2,  2318.0,2,   -999.0,9,  -999.00,   7.7249,2,    25.00,-999.000,9,-999.000,9,-999.000,9, -999.00,9,  -999.0,9,  -999.0,-999.000,9,-999.000,-999.000,9,   46.10,2,   21.72,2,  648.90,-999.0000,9,-999.0000,9,-999.0000,9,-999.0000,9,-999.0000,9,-999.0000,9,   8.0549,     -999.0,9,     -999.0,9,     -999.0,9,     -999.0,9,         15,-999.000,-999.000,-999.000,     -999.0,9, -999.00,9, -999.00,9
33RO200306_01,       A16N,     015,          1,          9,          9,2,20030622,       2158,    58.0013,   -19.9978,       1638,   749.7,   7.2681,  35.1617,2,  35.1581,2,    212.2,2,   209.8,2,   10.56,2,   18.26,2,    0.01,2,    1.15,2,   2.531,2,   1.291,2,   0.135,2,  2172.2,2,  2315.5,2,    776.9,2,    20.00,   7.7200,2,    25.00,   1.082,2,   1.804,2,   4.626,2, -999.00,9,  -999.0,9,  -999.0,   7.656,2,   0.017,-999.000,9,   45.20,2,   22.18,2,  749.70,-999.0000,9,-999.0000,9,-999.0000,9,-999.0000,9,-999.0000,9,-999.0000,9,   7.1934,     -999.0,9,     -999.0,9,     -999.0,9,     -999.0,9,         15,   0.002,    0.13,   0.030,     -999.0,9, -999.00,9, -999.00,9
33RO200306_01,       A16N,     015,          1,          8,          8,2,20030622,       2158,    58.0013,   -19.9978,       1638,   850.1,   6.4968,  35.1254,2,  35.1270,2,    214.6,2,   214.0,2,   11.18,2,   18.68,2,    0.00,2,    1.18,2,   2.420,2,   1.213,2,   0.124,2,  2175.7,2,  2314.7,2,   -999.0,9,  -999.00,   7.7125,2,    25.00,   1.163,2,   1.791,2,   6.047,2, -999.00,9,  -999.0,9,  -999.0,   7.730,2,   0.059,-999.000,9,   45.29,2,   23.83,2,  850.10,-999.0000,9,-999.0000,9,-999.0000,9,-999.0000,9,-999.0000,9,-999.0000,9,   6.4164,     -999.0,9,     -999.0,9,     -999.0,9,     -999.0,9,         15,   0.003,   0.145,   0.010,     -999.0,9, -999.00,9, -999.00,9
33RO200306_01,       A16N,     015,          1,          7,          7,2,20030622,       2158,    58.0013,   -19.9978,       1638,   950.2,   5.8317,  35.0937,2,  35.0950,2,    225.7,2,   226.1,2,   11.35,2,   18.43,2,    0.00,2,    1.16,2,   2.535,2,   1.266,2,   0.140,2,  2174.8,2,  2312.6,2,   -999.0,9,  -999.00,   7.7143,2,    25.00,-999.000,9,-999.000,9,-999.000,9, -999.00,9,  -999.0,9,  -999.0,-999.000,9,-999.000,-999.000,9,   44.88,2,   21.94,2,  950.20,-999.0000,9,-999.0000,9,-999.0000,9,-999.0000,9,-999.0000,9,-999.0000,9,   5.7460,     -999.0,9,     -999.0,9,     -999.0,9,     -999.0,9,         15,-999.000,-999.000,-999.000,     -999.0,9, -999.00,9, -999.00,9
33RO200306_01,       A16N,     015,          1,          6,          6,2,20030622,       2158,    58.0013,   -19.9978,       1638,  1048.8,   5.2884,  35.0590,2,  35.0594,2,    236.4,2,   235.9,2,   11.57,2,   18.17,2,    0.00,2,    1.15,2,   2.609,2,   1.283,2,   0.142,2,  2172.2,2,  2310.2,2,    784.7,2,    20.00,   7.7130,2,    25.00,-999.000,9,   1.811,2,   6.281,2, -999.00,9,  -999.0,9,  -999.0,   7.822,2,   0.021,-999.000,9,   46.02,2,   22.30,2, 1048.80,-999.0000,9,-999.0000,9,-999.0000,9,-999.0000,9,-999.0000,9,-999.0000,9,   5.1974,     -999.0,9,     -999.0,9,     -999.0,9,     -999.0,9,         15,   0.003,    0.16,-999.000,     -999.0,9, -999.00,9, -999.00,9
33RO200306_01,       A16N,     015,          1,          5,          5,2,20030622,       2158,    58.0013,   -19.9978,       1638,  1148.2,   4.7037,  35.0026,2,  35.0047,2,    247.6,2,   247.7,2,   11.56,2,   17.94,2,    0.00,2,    1.13,2,-999.000,9,-999.000,9,-999.000,9,  -999.0,9,  -999.0,9,   -999.0,9,  -999.00,-999.0000,9,  -999.00,-999.000,9,-999.000,9,-999.000,9, -999.00,9,  -999.0,9,  -999.0,-999.000,9,-999.000,-999.000,9, -999.00,9, -999.00,9, 1148.20,-999.0000,9,-999.0000,9,-999.0000,9,-999.0000,9,-999.0000,9,-999.0000,9,   4.6085,     -999.0,9,     -999.0,9,     -999.0,9,     -999.0,9,         15,-999.000,-999.000,-999.000,     -999.0,9, -999.00,9, -999.00,9
33RO200306_01,       A16N,     015,          1,          4,          4,2,20030622,       2158,    58.0013,   -19.9978,       1638,  1248.4,   4.2344,  34.9554,2,  34.9575,2,    256.7,2,   257.9,2,   11.56,2,   17.86,2,    0.00,2,    1.13,2,-999.000,9,-999.000,9,-999.000,9,  -999.0,9,  -999.0,9,   -999.0,9,  -999.00,-999.0000,9,  -999.00,-999.000,9,-999.000,9,-999.000,9, -999.00,9,  -999.0,9,  -999.0,-999.000,9,-999.000,-999.000,9, -999.00,9, -999.00,9, 1248.40,-999.0000,9,-999.0000,9,-999.0000,9,-999.0000,9,-999.0000,9,-999.0000,9,   4.1345,     -999.0,9,     -999.0,9,     -999.0,9,     -999.0,9,         15,-999.000,-999.000,-999.000,     -999.0,9, -999.00,9, -999.00,9
33RO200306_01,       A16N,     015,          1,          3,          3,2,20030622,       2158,    58.0013,   -19.9978,       1638,  1398.0,   3.9023,  34.9332,2,  34.9356,2,    263.9,2,   263.3,2,   11.95,2,   17.64,2,    0.00,2,    1.12,2,   2.823,2,   1.358,2,   0.164,2,  2164.5,2,  2301.4,2,    780.9,2,    20.00,   7.7132,2,    25.00,   1.295,2,   1.817,2,   6.522,2, -999.00,9,  -999.0,9,  -999.0,   7.848,2,   0.022,-999.000,9,   46.02,2,   20.78,2, 1398.00,-999.0000,9,-999.0000,9,-999.0000,9,-999.0000,9,-999.0000,9,-999.0000,9,   3.7924,     -999.0,9,     -999.0,9,     -999.0,9,     -999.0,9,         15,   0.002,    0.16,   0.030,     -999.0,9, -999.00,9, -999.00,9
33RO200306_01,       A16N,     015,          1,          2,          2,2,20030622,       2158,    58.0013,   -19.9978,       1638,  1591.4,   3.5608,  34.9158,2,  34.9180,2,    268.7,2,   269.9,2,   12.68,2,   17.39,2,    0.01,2,    1.11,2,-999.000,9,-999.000,9,-999.000,9,  -999.0,9,  -999.0,9,   -999.0,9,  -999.00,-999.0000,9,  -999.00,-999.000,9,-999.000,9,-999.000,9, -999.00,9,  -999.0,9,  -999.0,-999.000,9,-999.000,-999.000,9, -999.00,9, -999.00,9, 1591.40,-999.0000,9,-999.0000,9,-999.0000,9,-999.0000,9,-999.0000,9,-999.0000,9,   3.4376,     -999.0,9,     -999.0,9,     -999.0,9,     -999.0,9,         15,-999.000,-999.000,-999.000,     -999.0,9, -999.00,9, -999.00,9