BOTTLE,20230908CCHSIOCBG
EXPOCODE,SECT_ID,STNNBR,CASTNO,SAMPNO,BTLNBR,BTLNBR_FLAG_W,DATE,TIME,LATITUDE,LONGITUDE,DEPTH,CTDPRS,CTDTMP,CTDSAL,CTDSAL_FLAG_W,SALNTY,SALNTY_FLAG_W,CTDOXY,CTDOXY_FLAG_W,OXYGEN,OXYGEN_FLAG_W,SILCAT,SILCAT_FLAG_W,NITRAT,NITRAT_FLAG_W,NITRIT,NITRIT_FLAG_W,PHSPHT,PHSPHT_FLAG_W,CFC-11,CFC-11_FLAG_W,CFC-12,CFC-12_FLAG_W,CFC113,CFC113_FLAG_W,TCARBN,TCARBN_FLAG_W,ALKALI,ALKALI_FLAG_W,FCO2,FCO2_FLAG_W,FCO2TMP,PH_SWS,PH_SWS_FLAG_W,PH_TMP,TRITUM,TRITUM_FLAG_W,HELIUM,HELIUM_FLAG_W,DELHE3,DELHE3_FLAG_W,DELC13,DELC13_FLAG_W,DELC14,DELC14_FLAG_W,C14ERR,NEON,NEON_FLAG_W,NEONER,POC,POC_FLAG_W,DOC,DOC_FLAG_W,TDN,TDN_FLAG_W,CTDRAW,CDOM325,CDOM325_FLAG_W,CDOM340,CDOM340_FLAG_W,CDOM380,CDOM380_FLAG_W,CDOM412,CDOM412_FLAG_W,CDOMSL,CDOMSL_FLAG_W,CDOMSN,CDOMSN_FLAG_W,THETA,PON,PON_FLAG_W,HCFC-22,HCFC-22_FLAG_W,HCFC-142b,HCFC-142b_FLAG_W,HCFC-141b,HCFC-141b_FLAG_W,STNNBR_U,HELIER,DELHER,TRITER,CH3CL,CH3CL_FLAG_W,CH3BR,CH3BR_FLAG_W,CH3I,CH3I_FLAG_W
,,,,,,,,,,,METERS,DBAR,ITS-90,PSS-78,,PSS-78,,UMOL/KG,,UMOL/KG,,UMOL/KG,,UMOL/KG,,UMOL/KG,,UMOL/KG,,PMOL/KG,,PMOL/KG,,PMOL/KG,,UMOL/KG,,UMOL/KG,,UATM,,DEG C,,,DEG C,TU,,NMOL/KG,,PERCNT,,/MILLE,,/MILLE,,/MILLE,NMOL/KG,,NMOL/KG,UG/KG,,UMOL/KG,,UMOL/KG,,DBAR,1/M,,1/M,,1/M,,1/M,,1/NM,,1/NM,,DEG C,UMOL/L,,PMOL/KG,,PMOL/KG,,PMOL/KG,,,NMOL/KG,PERCNT,TU,PMOL/KG,,PMOL/KG,,PMOL/KG,
33RO200306_02,       A16N,     094,          2,         33,         33,2,20030723,       2222,    19.0003,   -29.0005,       4571,     3.1,  25.2608,  36.5296,2,  36.5341,2,    210.6,2,   210.7,2,    0.64,2,    0.07,2,    0.01,2,    0.09,2,   1.849,2,   1.173,2,   0.160,2,  2062.8,6,  2386.3,6,    314.8,2,    20.00,   8.0550,6,    25.00,   0.757,2,   1.710,2,  -2.839,2, -999.00,9,  -999.0,9,  -999.0,   6.663,2,   0.045,-999.000,9,   73.41,2,    5.13,2,    3.10,-999.0000,9,-999.0000,9,-999.0000,9,-999.0000,9,-999.0000,9,-999.0000,9,  25.2601,     -999.0,9,       4.00,2,       0.15,2,       0.42,2,         94,   0.003,   0.218,   0.030,      45.24,2,    0.36,2,   20.04,2
33RO200306_02,       A16N,     094,          2,         32,         32,2,20030723,       2222,    19.0003,   -29.0005,       4571,    19.7,  25.2701,  36.5287,2,  36.5313,2,    210.3,2,   210.2,2,    0.65,2,    0.08,2,    0.01,2,    0.10,2,   1.846,6,   1.170,6,   0.165,6,  2062.4,2,  2386.7,2,    314.6,2,    20.00,   8.0445,2,    25.00,-999.000,9,-999.000,9,-999.000,9, -999.00,9,  -999.0,9,  -999.0,-999.000,9,-999.000,-999.000,9, -999.00,9, -999.00,9,   19.70,-999.0000,9,-999.0000,9,-999.0000,9,-999.0000,9,-999.0000,9,-999.0000,9,  25.2658,     -999.0,9,     -999.0,9,     -999.0,9,     -999.0,9,         94,-999.000,-999.000,-999.000,     -999.0,9, -999.00,9, -999.00,9
33RO200306_02,       A16N,     094,          2,         31,         31,2,20030723,       2222,    19.0003,   -29.0005,       4571,    39.1,  25.2115,  36.5258,2,  36.5301,2,    210.6,2,   210.7,2,    0.65,2,    0.09,2,    0.01,2,    0.10,2,   1.868,2,   1.179,2,   0.161,2,  2064.0,3,  2385.1,2,    316.7,2,    20.00,   8.0494,2,    25.00,   0.874,2,-999.000,9,-999.000,9, -999.00,9,  -999.0,9,  -999.0,-999.000,9,-999.000,-999.000,9,   71.30,2,    5.52,2,   39.10,-999.0000,9,-999.0000,9,-999.0000,9,-999.0000,9,-999.0000,9,-999.0000,9,  25.2029,     -999.0,9,       4.07,2,       0.21,2,       0.37,2,         94,-999.000,-999.000,   0.030,      63.35,2,    1.06,2,   19.86,2
33RO200306_02,       A16N,     094,          2,         30,         30,2,20030723,       2222,    19.0003,   -29.0005,       4571,    59.0,  23.4604,  36.5934,2,  36.5892,2,    218.1,2,   222.7,2,    0.65,2,    0.15,2,    0.01,2,    0.15,2,   2.049,2,   1.273,2,   0.173,2,  2078.8,2,  2390.6,2,    336.0,2,    20.00,   8.1253,3,    25.00,   0.689,2,-999.000,9,-999.000,9, -999.00,9,  -999.0,9,  -999.0,-999.000,9,-999.000,-999.000,9,   68.37,2,    4.62,2,   59.00,-999.0000,9,-999.0000,9,-999.0000,9,-999.0000,9,-999.0000,9,-999.0000,9,  23.4481,     -999.0,9,     -999.0,9,     -999.0,9,     -999.0,9,         94,-999.000,-999.000,   0.020,     -999.0,9, -999.00,9, -999.00,9
33RO200306_02,       A16N,     094,          2,         29,         29,2,20030723,       2222,    19.0003,   -29.0005,       4571,    80.4,  20.4485,  36.4818,2,  36.4792,2,    209.9,2,   201.8,2,    1.21,2,    2.51,2,    0.22,2,    0.39,2,   2.222,2,   1.378,2,   0.172,2,  2122.2,2,  2382.3,2,    428.6,2,    20.00,   7.9742,2,    25.00,-999.000,9,-999.000,9,-999.000,9, -999.00,9,  -999.0,9,  -999.0,-999.000,9,-999.000,-999.000,9, -999.00,9, -999.00,9,   80.40,-999.0000,9,-999.0000,9,-999.0000,9,-999.0000,9,-999.0000,9,-999.0000,9,  20.4333,     -999.0,9,       4.42,2,       0.16,2,       0.62,2,         94,-999.000,-999.000,-999.000,      90.73,2,    1.46,2,   13.18,2
33RO200306_02,       A16N,     094,          2,         28,         28,2,20030723,       2222,    19.0003,   -29.0005,       4571,    99.2,  19.0017,  36.3885,2,  36.3889,2,    153.4,2,   151.3,2,    2.38,2,   10.96,2,    0.12,2,    0.77,2,   2.219,2,   1.347,2,   0.140,2,  2161.0,2,  2371.4,2,    552.9,2,    20.00,   7.9619,3,    25.00,   0.840,2,-999.000,9,-999.000,9, -999.00,9,  -999.0,9,  -999.0,-999.000,9,-999.000,-999.000,9,   56.75,2,   16.17,2,   99.20,-999.0000,9,-999.0000,9,-999.0000,9,-999.0000,9,-999.0000,9,-999.0000,9,  18.9839,     -999.0,9,     -999.0,9,     -999.0,9,     -999.0,9,         94,-999.000,-999.000,   0.030,     -999.0,9, -999.00,9, -999.00,9
33RO200306_02,       A16N,     094,          2,         27,         27,2,20030723,       2222,    19.0003,   -29.0005,       4571,   124.1,  17.3396,  36.2278,2,  36.2244,2,    112.2,2,   112.3,2,    4.23,2,   16.60,2,    0.03,2,    1.03,2,   2.122,6,   1.268,6,   0.072,6,  2187.9,2,  -999.0,9,   -999.0,9,  -999.00,-999.0000,9,  -999.00,-999.000,9,-999.000,9,-999.000,9, -999.00,9,  -999.0,9,  -999.0,-999.000,9,-999.000,-999.000,9, -999.00,9, -999.00,9,  124.10,-999.0000,9,-999.0000,9,-999.0000,9,-999.0000,9,-999.0000,9,-999.0000,9,  17.3187,     -999.0,9,       3.28,2,       0.16,2,       0.73,2,         94,-999.000,-999.000,-999.000,      15.56,2,    0.26,2,    1.39,2
33RO200306_02,       A16N,     094,          2,         26,         26,2,20030723,       2222,    19.0003,   -29.0005,       4571,   149.3,  16.3756,  36.0815,2,  36.0865,2,     99.5,2,   104.7,2,    5.12,2,   18.26,2,    0.02,2,    1.11,2,   2.047,2,   1.193,2,   0.041,2,  2190.9,2,  2353.1,2,    723.5,2,    20.00,   7.7491,2,    25.00,-999.000,9,-999.000,9,-999.000,9, -999.00,9,  -999.0,9,  -999.0,-999.000,9,-999.000,-999.000,9,   50.73,2,   21.56,2,  149.30,-999.0000,9,-999.0000,9,-999.0000,9,-999.0000,9,-999.0000,9,-999.0000,9,  16.3514,     -999.0,9,     -999.0,9,     -999.0,9,     -999.0,9,         94,-999.000,-999.000,-999.000,     -999.0,9, -999.00,9, -999.00,9
33RO200306_02,       A16N,     094,          2,         25,         25,2,20030723,       2222,    19.0003,   -29.0005,       4571,   175.0,  15.3651,  35.9579,2,  35.9435,2,    115.0,2,   117.0,2,    6.01,2,   19.66,2,    0.02,2,    1.19,2,   1.986,2,   1.134,2,   0.028,2,  2192.3,2,  2345.3,2,   -999.0,9,  -999.00,   7.7369,2,    25.00,-999.000,9,-999.000,9,-999.000,9, -999.00,9,  -999.0,9,  -999.0,-999.000,9,-999.000,-999.000,9, -999.00,9, -999.00,9,  175.00,-999.0000,9,-999.0000,9,-999.0000,9,-999.0000,9,-999.0000,9,-999.0000,9,  15.3380,     -999.0,9,       2.74,2,       0.10,2,       0.21,2,         94,-999.000,-999.000,-999.000,      15.65,2,    0.34,2,    0.46,2
33RO200306_02,       A16N,     094,          2,         24,         24,2,20030723,       2222,    19.0003,   -29.0005,       4571,   200.0,  14.9355,  35.9045,2,  35.8978,2,     90.9,2,   104.1,2,    6.30,2,   19.93,2,    0.02,2,    1.20,2,   1.954,2,   1.121,2,   0.024,2,  2191.2,2,  2344.2,2,    759.7,2,    20.00,   7.7288,2,    25.00,   0.901,2,   1.795,3,   0.883,2, -999.00,9,  -999.0,9,  -999.0,   7.331,2,   0.063,-999.000,9,   49.43,2,   24.84,2,  200.00,-999.0000,9,-999.0000,9,-999.0000,9,-999.0000,9,-999.0000,9,-999.0000,9,  14.9051,     -999.0,9,     -999.0,9,     -999.0,9,     -999.0,9,         94,   0.004,   0.221,   0.030,     -999.0,9, -999.00,9, -999.00,9
33RO200306_02,       A16N,     094,          2,         23,         23,2,20030723,       2222,    19.0003,   -29.0005,       4571,   249.7,  13.7485,  35.7365,2,  35.7501,2,    109.1,2,    97.2,2,    7.60,2,   22.51,2,    0.02,2,    1.34,2,   1.718,2,   0.953,2,   0.016,2,  2199.9,2,  2336.2,2,   -999.0,9,  -999.00,   7.6948,2,    25.00,-999.000,9,-999.000,9,-999.000,9, -999.00,9,  -999.0,9,  -999.0,-999.000,9,-999.000,-999.000,9,   47.80,2,   27.85,2,  249.70,-999.0000,9,-999.0000,9,-999.0000,9,-999.0000,9,-999.0000,9,-999.0000,9,  13.7125,     -999.0,9,       1.82,2,       0.07,2,       0.18,2,         94,-999.000,-999.000,-999.000,       28.8,2,    0.75,2,    0.21,2
33RO200306_02,       A16N,     094,          2,         22,         22,2,20030723,       2222,    19.0003,   -29.0005,       4571,   299.2,  12.8252,  35.6076,2,  35.6046,2,     85.2,2,    81.8,2,    9.21,2,   25.54,2,    0.02,2,    1.52,2,   1.388,2,   0.753,2,   0.011,2,  2212.8,2,  2326.0,2,    941.5,2,    20.00,   7.6509,2,    25.00,-999.000,9,   1.802,2,   3.309,2, -999.00,9,  -999.0,9,  -999.0,   7.339,2,   0.063,-999.000,9,   45.61,2,   29.54,2,  299.20,-999.0000,9,-999.0000,9,-999.0000,9,-999.0000,9,-999.0000,9,-999.0000,9,  12.7840,     -999.0,9,     -999.0,9,     -999.0,9,     -999.0,9,         94,   0.004,    0.22,-999.000,     -999.0,9, -999.00,9, -999.00,9
33RO200306_02,       A16N,     094,          2,         21,         21,2,20030723,       2222,    19.0003,   -29.0005,       4571,   348.9,  12.0640,  35.5095,2,  35.5032,2,     81.9,2,    77.0,2,   10.47,2,   27.20,2,    0.01,2,    1.63,2,   1.144,2,   0.614,2,   0.011,2,  2216.7,2,  2321.7,2,   -999.0,9,  -999.00,   7.6319,2,    25.00,-999.000,9,-999.000,9,-999.000,9, -999.00,9,  -999.0,9,  -999.0,-999.000,9,-999.000,-999.000,9,   44.71,2,   32.56,2,  348.90,-999.0000,9,-999.0000,9,-999.0000,9,-999.0000,9,-999.0000,9,-999.0000,9,  12.0178,     -999.0,9,       1.19,2,       0.00,2,       0.14,2,         94,-999.000,-999.000,-999.000,      47.96,2,    1.05,2,    0.31,2
33RO200306_02,       A16N,     094,          2,         20,         20,2,20030723,       2222,    19.0003,   -29.0005,       4571,   399.0,  11.2376,  35.4005,2,  35.3991,2,     79.2,2,    82.8,2,   11.73,2,   28.21,2,    0.01,2,    1.69,2,   0.874,2,   0.465,2,   0.007,2,  2213.1,2,  2318.2,2,   1019.8,2,    20.00,   7.6128,2,    25.00,   0.576,2,-999.000,9,-999.000,9, -999.00,9,  -999.0,9,  -999.0,-999.000,9,-999.000,-999.000,9,   43.98,2,   33.60,2,  399.00,-999.0000,9,-999.0000,9,-999.0000,9,-999.0000,9,-999.0000,9,-999.0000,9,  11.1870,     -999.0,9,     -999.0,9,     -999.0,9,     -999.0,9,         94,-999.000,-999.000,   0.020,     -999.0,9, -999.00,9, -999.00,9
33RO200306_02,       A16N,     094,          2,         19,         19,2,20030723,       2222,    19.0003,   -29.0005,       4571,   449.0,  10.5807,  35.3102,2,  35.3071,2,     86.5,2,    84.7,2,   13.06,2,   29.34,2,    0.01,2,    1.77,2,   0.677,2,   0.365,2,   0.007,2,  2213.2,2,  2315.4,2,   -999.0,9,  -999.00,-999.0000,9,  -999.00,   0.551,2,-999.000,9,-999.000,9, -999.00,9,  -999.0,9,  -999.0,-999.000,9,-999.000,-999.000,9,   44.47,2,   33.37,2,  449.00,-999.0000,9,-999.0000,9,-999.0000,9,-999.0000,9,-999.0000,9,-999.0000,9,  10.5259,     -999.0,9,     -999.0,9,     -999.0,9,     -999.0,9,         94,-999.000,-999.000,   0.020,     -999.0,9, -999.00,9, -999.00,9
33RO200306_02,       A16N,     094,          2,         18,         18,2,20030723,       2222,    19.0003,   -29.0005,       4571,   499.1,   9.9044,  35.2219,2,  35.2160,2,     86.4,2,    88.6,2,   14.70,2,   30.67,2,    0.01,2,    1.87,2,   0.499,2,   0.264,2,   0.005,2,  2220.1,2,  2311.9,2,   1103.8,2,    20.00,   7.5432,2,    25.00,-999.000,9,-999.000,9,-999.000,9, -999.00,9,  -999.0,9,  -999.0,-999.000,9,-999.000,-999.000,9,   43.74,2,   35.30,2,  499.10,-999.0000,9,-999.0000,9,-999.0000,9,-999.0000,9,-999.0000,9,-999.0000,9,   9.8458,     -999.0,9,     -999.0,9,     -999.0,9,     -999.0,9,         94,-999.000,-999.000,-999.000,     -999.0,9, -999.00,9, -999.00,9
33RO200306_02,       A16N,     094,          2,         17,         17,2,20030723,       2222,    19.0003,   -29.0005,       4571,   600.4,   8.6506,  35.0629,2,  35.0577,2,     90.0,2,    88.6,2,   17.79,2,   32.42,2,    0.01,2,    2.03,2,   0.242,2,   0.134,2,   0.003,2,  2219.8,2,  2308.0,6,   1168.2,2,    20.00,   7.5687,6,    25.00,   0.416,2,-999.000,9,-999.000,9, -999.00,9,  -999.0,9,  -999.0,-999.000,9,-999.000,-999.000,9,   41.54,2,   37.41,2,  600.40,-999.0000,9,-999.0000,9,-999.0000,9,-999.0000,9,-999.0000,9,-999.0000,9,   8.5853,     -999.0,9,       0.09,2,       0.00,2,       0.13,2,         94,-999.000,-999.000,   0.020,      13.25,2,     0.3,2,    0.24,2
33RO200306_02,       A16N,     094,          2,         16,         16,2,20030723,       2222,    19.0003,   -29.0005,       4571,   700.6,   7.9345,  35.0046,2,  35.0018,2,     98.8,2,    97.2,2,   19.56,2,   32.65,2,    0.01,2,    2.07,2,   0.139,2,   0.083,2,   0.003,2,  2222.6,2,  2308.3,2,   1158.1,2,    20.00,   7.5639,2,    25.00,-999.000,9,   1.821,2,   2.796,2, -999.00,9,  -999.0,9,  -999.0,   7.728,2,   0.067,-999.000,9,   40.81,2,   38.58,2,  700.60,-999.0000,9,-999.0000,9,-999.0000,9,-999.0000,9,-999.0000,9,-999.0000,9,   7.8616,     -999.0,9,     -999.0,9,     -999.0,9,     -999.0,9,         94,   0.004,    0.22,-999.000,     -999.0,9, -999.00,9, -999.00,9
33RO200306_02,       A16N,     094,          2,         15,         15,2,20030723,       2222,    19.0003,   -29.0005,       4571,   799.2,   6.9954,  34.9282,2,  34.9282,2,    110.3,2,   109.2,2,   21.97,2,   32.83,2,    0.01,2,    2.12,2,   0.060,2,   0.033,2,   0.001,2,  2218.8,2,  2305.6,2,   1151.3,2,    20.00,   7.5605,2,    25.00,-999.000,9,-999.000,9,-999.000,9, -999.00,9,  -999.0,9,  -999.0,-999.000,9,-999.000,-999.000,9,   41.14,2,   37.43,2,  799.20,-999.0000,9,-999.0000,9,-999.0000,9,-999.0000,9,-999.0000,9,-999.0000,9,   6.9174,     -999.0,9,       0.00,2,       0.00,2,       0.13,2,         94,-999.000,-999.000,-999.000,        0.0,2,     0.0,2,    0.18,2
33RO200306_02,       A16N,     094,          2,         14,         14,2,20030723,       2222,    19.0003,   -29.0005,       4571,   896.3,   6.5174,  34.9319,2,  34.9343,2,    124.4,2,   123.1,2,   22.69,2,   31.73,2,    0.01,2,    2.07,2,   0.032,2,   0.025,2,   0.002,2,  2216.9,2,  2313.9,2,   1102.1,2,    20.00,   7.5551,2,    25.00,-999.000,9,-999.000,9,-999.000,9, -999.00,9,  -999.0,9,  -999.0,-999.000,9,-999.000,-999.000,9,   40.98,2,   37.19,2,  896.30,-999.0000,9,-999.0000,9,-999.0000,9,-999.0000,9,-999.0000,9,-999.0000,9,   6.4325,     -999.0,9,     -999.0,9,     -999.0,9,     -999.0,9,         94,-999.000,-999.000,-999.000,     -999.0,9, -999.00,9, -999.00,9
33RO200306_02,       A16N,     094,          2,         13,         13,2,20030723,       2222,    19.0003,   -29.0005,       4571,   999.5,   6.2017,  34.9666,2,  34.9669,2,    140.4,2,   142.1,2,   22.32,2,   29.97,2,    0.01,2,    1.96,2,   0.039,2,   0.024,2,   0.002,2,  2213.7,2,  2317.3,2,   1020.8,2,    20.00,   7.6203,2,    25.00,   0.070,2,-999.000,9,-999.000,9, -999.00,9,  -999.0,9,  -999.0,-999.000,9,-999.000,-999.000,9,   41.05,2,   35.10,2,  999.50,-999.0000,9,-999.0000,9,-999.0000,9,-999.0000,9,-999.0000,9,-999.0000,9,   6.1087,     -999.0,9,       0.10,2,       0.00,2,       0.18,2,         94,-999.000,-999.000,   0.010,      11.74,2,    0.21,2,    0.15,2
33RO200306_02,       A16N,     094,          2,         12,         12,2,20030723,       2222,    19.0003,   -29.0005,       4571,  1095.2,   5.9218,  34.9975,2,  34.9976,2,    152.3,2,   152.9,2,   22.23,2,   28.68,2,    0.01,2,    1.89,2,   0.030,2,   0.016,2,   0.002,2,  2207.9,2,  2319.1,2,    991.6,2,    20.00,   7.6531,2,    25.00,   0.063,2,-999.000,9,-999.000,9, -999.00,9,  -999.0,9,  -999.0,-999.000,9,-999.000,-999.000,9,   39.48,2,   32.87,2, 1095.20,-999.0000,9,-999.0000,9,-999.0000,9,-999.0000,9,-999.0000,9,-999.0000,9,   5.8214,     -999.0,9,     -999.0,9,     -999.0,9,     -999.0,9,         94,-999.000,-999.000,   0.010,     -999.0,9, -999.00,9, -999.00,9
33RO200306_02,       A16N,     094,          2,         11,         11,2,20030723,       2222,    19.0003,   -29.0005,       4571,  1198.9,   5.7251,  35.0392,2,  35.0401,2,    164.3,2,   167.7,2,   21.46,2,   27.03,2,    0.01,2,    1.79,2,   0.030,2,   0.017,2,   0.001,2,  2203.4,2,  2322.9,2,    936.4,2,    20.00,   7.7244,3,    25.00,   0.104,2,   1.893,3,   0.513,2, -999.00,9,  -999.0,9,  -999.0,   7.938,2,   0.070,-999.000,9,   40.90,2,   30.49,2, 1198.90,-999.0000,9,-999.0000,9,-999.0000,9,-999.0000,9,-999.0000,9,-999.0000,9,   5.6160,     -999.0,9,       0.00,2,       0.00,2,       0.17,2,         94,   0.004,   0.219,   0.010,      60.41,2,    0.33,2,    0.34,2
33RO200306_02,       A16N,     094,          2,         10,         10,2,20030723,       2222,    19.0003,   -29.0005,       4571,  1399.8,   4.9901,  35.0469,2,  35.0494,2,    190.6,2,   195.1,2,   21.21,2,   24.54,2,    0.01,2,    1.63,2,-999.000,9,-999.000,9,-999.000,9,  2192.4,2,  2323.9,2,   -999.0,9,  -999.00,   7.7105,2,    25.00,-999.000,9,-999.000,9,-999.000,9, -999.00,9,  -999.0,9,  -999.0,-999.000,9,-999.000,-999.000,9,   40.81,2,   28.03,2, 1399.80,-999.0000,9,-999.0000,9,-999.0000,9,-999.0000,9,-999.0000,9,-999.0000,9,   4.8684,     -999.0,9,     -999.0,9,     -999.0,9,     -999.0,9,         94,-999.000,-999.000,-999.000,     -999.0,9, -999.00,9, -999.00,9
33RO200306_02,       A16N,     094,          2,          9,          9,2,20030723,       2222,    19.0003,   -29.0005,       4571,  1601.0,   4.3490,  35.0250,2,  35.0270,2,    211.3,2,   214.0,2,   21.96,2,   23.04,2,    0.01,2,    1.55,2,   0.005,2,   0.006,2,   0.001,2,  2182.8,2,  2323.2,2,    818.6,2,    20.00,   7.7084,2,    25.00,   0.046,2,-999.000,9,-999.000,9, -999.00,9,  -999.0,9,  -999.0,-999.000,9,-999.000,-999.000,9,   41.05,2,   27.27,2, 1601.00,-999.0000,9,-999.0000,9,-999.0000,9,-999.0000,9,-999.0000,9,-999.0000,9,   4.2152,     -999.0,9,       0.00,2,       0.00,2,       0.13,2,         94,-999.000,-999.000,   0.010,       35.3,2,     0.2,2,     0.3,2
33RO200306_02,       A16N,     094,          2,          8,          8,2,20030723,       2222,    19.0003,   -29.0005,       4571,  1799.1,   3.9192,  35.0001,2,  35.0012,2,    223.3,2,   227.6,2,   22.95,2,   22.20,2,    0.01,2,    1.50,2,-999.000,9,-999.000,9,-999.000,9,  2179.2,2,  2323.3,2,   -999.0,9,  -999.00,   7.7098,2,    25.00,-999.000,9,-999.000,9,-999.000,9, -999.00,9,  -999.0,9,  -999.0,-999.000,9,-999.000,-999.000,9,   41.22,2,   26.34,2, 1799.10,-999.0000,9,-999.0000,9,-999.0000,9,-999.0000,9,-999.0000,9,-999.0000,9,   3.7721,     -999.0,9,     -999.0,9,     -999.0,9,     -999.0,9,         94,-999.000,-999.000,-999.000,     -999.0,9, -999.00,9, -999.00,9
33RO200306_02,       A16N,     094,          2,          7,          7,2,20030723,       2222,    19.0003,   -29.0005,       4571,  1998.3,   3.6418,  34.9870,2,  34.9885,2,    232.2,2,  -999.0,1,   24.68,2,   21.87,2,    0.01,2,    1.48,2,   0.006,2,   0.002,2,   0.002,2,  2178.1,2,  2331.7,2,    784.2,2,    20.00,   7.7258,2,    25.00,-999.000,9,   1.868,3,   0.917,2, -999.00,9,  -999.0,9,  -999.0,   8.172,2,   0.072,-999.000,9,   40.73,2,   26.79,2, 1998.30,-999.0000,9,-999.0000,9,-999.0000,9,-999.0000,9,-999.0000,9,-999.0000,9,   3.4797,     -999.0,9,       0.00,2,       0.00,2,       0.16,2,         94,   0.004,    0.22,-999.000,      21.41,2,    0.44,2,    0.19,2