BOTTLE,20230908CCHSIOCBG
EXPOCODE,SECT_ID,STNNBR,CASTNO,SAMPNO,BTLNBR,BTLNBR_FLAG_W,DATE,TIME,LATITUDE,LONGITUDE,DEPTH,CTDPRS,CTDTMP,CTDSAL,CTDSAL_FLAG_W,SALNTY,SALNTY_FLAG_W,CTDOXY,CTDOXY_FLAG_W,OXYGEN,OXYGEN_FLAG_W,SILCAT,SILCAT_FLAG_W,NITRAT,NITRAT_FLAG_W,NITRIT,NITRIT_FLAG_W,PHSPHT,PHSPHT_FLAG_W,CFC-11,CFC-11_FLAG_W,CFC-12,CFC-12_FLAG_W,CFC113,CFC113_FLAG_W,TCARBN,TCARBN_FLAG_W,ALKALI,ALKALI_FLAG_W,FCO2,FCO2_FLAG_W,FCO2TMP,PH_SWS,PH_SWS_FLAG_W,PH_TMP,TRITUM,TRITUM_FLAG_W,HELIUM,HELIUM_FLAG_W,DELHE3,DELHE3_FLAG_W,DELC13,DELC13_FLAG_W,DELC14,DELC14_FLAG_W,C14ERR,NEON,NEON_FLAG_W,NEONER,POC,POC_FLAG_W,DOC,DOC_FLAG_W,TDN,TDN_FLAG_W,CTDRAW,CDOM325,CDOM325_FLAG_W,CDOM340,CDOM340_FLAG_W,CDOM380,CDOM380_FLAG_W,CDOM412,CDOM412_FLAG_W,CDOMSL,CDOMSL_FLAG_W,CDOMSN,CDOMSN_FLAG_W,THETA,PON,PON_FLAG_W,HCFC-22,HCFC-22_FLAG_W,HCFC-142b,HCFC-142b_FLAG_W,HCFC-141b,HCFC-141b_FLAG_W,STNNBR_U,HELIER,DELHER,TRITER,CH3CL,CH3CL_FLAG_W,CH3BR,CH3BR_FLAG_W,CH3I,CH3I_FLAG_W
,,,,,,,,,,,METERS,DBAR,ITS-90,PSS-78,,PSS-78,,UMOL/KG,,UMOL/KG,,UMOL/KG,,UMOL/KG,,UMOL/KG,,UMOL/KG,,PMOL/KG,,PMOL/KG,,PMOL/KG,,UMOL/KG,,UMOL/KG,,UATM,,DEG C,,,DEG C,TU,,NMOL/KG,,PERCNT,,/MILLE,,/MILLE,,/MILLE,NMOL/KG,,NMOL/KG,UG/KG,,UMOL/KG,,UMOL/KG,,DBAR,1/M,,1/M,,1/M,,1/M,,1/NM,,1/NM,,DEG C,UMOL/L,,PMOL/KG,,PMOL/KG,,PMOL/KG,,,NMOL/KG,PERCNT,TU,PMOL/KG,,PMOL/KG,,PMOL/KG,
33RO200306_01,       A16N,     015,          1,          1,          1,2,20030622,       2158,    58.0013,   -19.9978,       1638,  1646.5,   3.4243,  34.9084,2,-999.0000,1,    271.5,2,   275.0,2, -999.00,1, -999.00,1, -999.00,1, -999.00,1,   2.720,2,   1.297,2,   0.149,2,  2161.9,6,  2301.5,6,    763.7,2,    20.00,-999.0000,9,  -999.00,-999.000,9,-999.000,9,-999.000,9, -999.00,9,  -999.0,9,  -999.0,-999.000,9,-999.000,-999.000,9, -999.00,9, -999.00,9, 1646.50,-999.0000,9,-999.0000,9,-999.0000,9,-999.0000,9,-999.0000,9,-999.0000,9,   3.2979,     -999.0,9,     -999.0,9,     -999.0,9,     -999.0,9,         15,-999.000,-999.000,-999.000,     -999.0,9, -999.00,9, -999.00,9
33RO200306_01,       A16N,     016,          1,         24,         24,2,20030623,       0239,    57.4997,   -20.0015,       1168,     2.0,  12.1001,  35.3805,2,  35.3839,2,    265.6,2,   272.5,2,    0.20,2,    2.43,2,    0.08,2,    0.19,2,-999.000,9,-999.000,9,-999.000,9,  2071.7,2,  2329.8,2,   -999.0,9,  -999.00,   7.9633,2,    25.00,-999.000,9,-999.000,9,-999.000,9, -999.00,9,  -999.0,9,  -999.0,-999.000,9,-999.000,-999.000,9, -999.00,9, -999.00,9,    2.00,-999.0000,9,-999.0000,9,-999.0000,9,-999.0000,9,-999.0000,9,-999.0000,9,  12.0998,     -999.0,9,     -999.0,9,     -999.0,9,     -999.0,9,         16,-999.000,-999.000,-999.000,     -999.0,9, -999.00,9, -999.00,9
33RO200306_01,       A16N,     016,          1,         23,         23,2,20030623,       0239,    57.4997,   -20.0015,       1168,     9.8,  12.1051,  35.3799,2,  35.3831,2,    265.2,2,   272.8,2,    0.19,2,    2.48,2,    0.07,2,    0.19,2,-999.000,9,-999.000,9,-999.000,9,  -999.0,9,  -999.0,9,   -999.0,9,  -999.00,-999.0000,9,  -999.00,-999.000,9,-999.000,9,-999.000,9, -999.00,9,  -999.0,9,  -999.0,-999.000,9,-999.000,-999.000,9, -999.00,9, -999.00,9,    9.80,-999.0000,9,-999.0000,9,-999.0000,9,-999.0000,9,-999.0000,9,-999.0000,9,  12.1038,     -999.0,9,     -999.0,9,     -999.0,9,     -999.0,9,         16,-999.000,-999.000,-999.000,     -999.0,9, -999.00,9, -999.00,9
33RO200306_01,       A16N,     016,          1,         22,         22,2,20030623,       0239,    57.4997,   -20.0015,       1168,    30.0,  11.9055,  35.3954,2,  35.3973,2,    268.1,2,   266.3,2,    0.41,2,    3.96,2,    0.11,2,    0.31,2,-999.000,9,-999.000,9,-999.000,9,  -999.0,9,  -999.0,9,   -999.0,9,  -999.00,-999.0000,9,  -999.00,-999.000,9,-999.000,9,-999.000,9, -999.00,9,  -999.0,9,  -999.0,-999.000,9,-999.000,-999.000,9, -999.00,9, -999.00,9,   30.00,-999.0000,9,-999.0000,9,-999.0000,9,-999.0000,9,-999.0000,9,-999.0000,9,  11.9016,     -999.0,9,     -999.0,9,     -999.0,9,     -999.0,9,         16,-999.000,-999.000,-999.000,     -999.0,9, -999.00,9, -999.00,9
33RO200306_01,       A16N,     016,          1,         21,         21,2,20030623,       0239,    57.4997,   -20.0015,       1168,    49.7,  10.5256,  35.3981,2,  35.4050,2,    258.2,2,   256.5,2,    1.66,2,    7.99,2,    0.22,2,    0.61,2,-999.000,9,-999.000,9,-999.000,9,  -999.0,9,  -999.0,9,   -999.0,9,  -999.00,-999.0000,9,  -999.00,-999.000,9,-999.000,9,-999.000,9, -999.00,9,  -999.0,9,  -999.0,-999.000,9,-999.000,-999.000,9, -999.00,9, -999.00,9,   49.70,-999.0000,9,-999.0000,9,-999.0000,9,-999.0000,9,-999.0000,9,-999.0000,9,  10.5197,     -999.0,9,     -999.0,9,     -999.0,9,     -999.0,9,         16,-999.000,-999.000,-999.000,     -999.0,9, -999.00,9, -999.00,9
33RO200306_01,       A16N,     016,          1,         20,         20,2,20030623,       0239,    57.4997,   -20.0015,       1168,    70.4,  10.3519,  35.4127,2,  35.4124,2,    250.7,2,   255.6,2,    2.62,2,    9.73,2,    0.24,2,    0.65,2,-999.000,9,-999.000,9,-999.000,9,  -999.0,9,  -999.0,9,   -999.0,9,  -999.00,-999.0000,9,  -999.00,-999.000,9,-999.000,9,-999.000,9, -999.00,9,  -999.0,9,  -999.0,-999.000,9,-999.000,-999.000,9, -999.00,9, -999.00,9,   70.40,-999.0000,9,-999.0000,9,-999.0000,9,-999.0000,9,-999.0000,9,-999.0000,9,  10.3436,     -999.0,9,     -999.0,9,     -999.0,9,     -999.0,9,         16,-999.000,-999.000,-999.000,     -999.0,9, -999.00,9, -999.00,9
33RO200306_01,       A16N,     016,          1,         19,         19,2,20030623,       0239,    57.4997,   -20.0015,       1168,    89.7,  10.2321,  35.3992,2,  35.4006,2,    250.8,2,   256.1,2,    3.36,2,   10.75,2,    0.08,2,    0.67,2,-999.000,9,-999.000,9,-999.000,9,  -999.0,9,  -999.0,9,   -999.0,9,  -999.00,-999.0000,9,  -999.00,-999.000,9,-999.000,9,-999.000,9, -999.00,9,  -999.0,9,  -999.0,-999.000,9,-999.000,-999.000,9, -999.00,9, -999.00,9,   89.70,-999.0000,9,-999.0000,9,-999.0000,9,-999.0000,9,-999.0000,9,-999.0000,9,  10.2215,     -999.0,9,     -999.0,9,     -999.0,9,     -999.0,9,         16,-999.000,-999.000,-999.000,     -999.0,9, -999.00,9, -999.00,9
33RO200306_01,       A16N,     016,          1,         18,         18,2,20030623,       0239,    57.4997,   -20.0015,       1168,   109.7,  10.2005,  35.3984,2,  35.3983,2,    252.6,2,   256.9,2,    3.68,2,   10.92,2,    0.06,2,    0.68,2,   3.506,2,   1.928,2,   0.271,2,  -999.0,9,  -999.0,9,   -999.0,9,  -999.00,-999.0000,9,  -999.00,-999.000,9,-999.000,9,-999.000,9, -999.00,9,  -999.0,9,  -999.0,-999.000,9,-999.000,-999.000,9, -999.00,9, -999.00,9,  109.70,-999.0000,9,-999.0000,9,-999.0000,9,-999.0000,9,-999.0000,9,-999.0000,9,  10.1876,     -999.0,9,     -999.0,9,     -999.0,9,     -999.0,9,         16,-999.000,-999.000,-999.000,     -999.0,9, -999.00,9, -999.00,9
33RO200306_01,       A16N,     016,          1,         17,         17,2,20030623,       0239,    57.4997,   -20.0015,       1168,   135.8,  10.1617,  35.3979,2,  35.3173,3,    255.0,2,   242.3,2,    6.77,2,   13.71,2,    0.02,2,    0.86,2,-999.000,9,-999.000,9,-999.000,9,  -999.0,9,  -999.0,9,   -999.0,9,  -999.00,-999.0000,9,  -999.00,-999.000,9,-999.000,9,-999.000,9, -999.00,9,  -999.0,9,  -999.0,-999.000,9,-999.000,-999.000,9, -999.00,9, -999.00,9,  135.80,-999.0000,9,-999.0000,9,-999.0000,9,-999.0000,9,-999.0000,9,-999.0000,9,  10.1458,     -999.0,9,     -999.0,9,     -999.0,9,     -999.0,9,         16,-999.000,-999.000,-999.000,     -999.0,9, -999.00,9, -999.00,9
33RO200306_01,       A16N,     016,          1,         16,         16,2,20030623,       0239,    57.4997,   -20.0015,       1168,   160.2,  10.1168,  35.3901,2,  35.3920,2,    256.5,2,   259.0,2,    4.09,2,   11.08,2,    0.03,2,    0.69,2,-999.000,9,-999.000,9,-999.000,9,  -999.0,9,  -999.0,9,   -999.0,9,  -999.00,-999.0000,9,  -999.00,-999.000,9,-999.000,9,-999.000,9, -999.00,9,  -999.0,9,  -999.0,-999.000,9,-999.000,-999.000,9, -999.00,9, -999.00,9,  160.20,-999.0000,9,-999.0000,9,-999.0000,9,-999.0000,9,-999.0000,9,-999.0000,9,  10.0980,     -999.0,9,     -999.0,9,     -999.0,9,     -999.0,9,         16,-999.000,-999.000,-999.000,     -999.0,9, -999.00,9, -999.00,9
33RO200306_01,       A16N,     016,          1,         15,         15,2,20030623,       0239,    57.4997,   -20.0015,       1168,   184.9,  10.1372,  35.3983,2,  35.4002,2,    257.9,2,   257.7,2,    4.15,2,   11.06,2,    0.03,2,    0.69,2,-999.000,9,-999.000,9,-999.000,9,  -999.0,9,  -999.0,9,   -999.0,9,  -999.00,-999.0000,9,  -999.00,-999.000,9,-999.000,9,-999.000,9, -999.00,9,  -999.0,9,  -999.0,-999.000,9,-999.000,-999.000,9, -999.00,9, -999.00,9,  184.90,-999.0000,9,-999.0000,9,-999.0000,9,-999.0000,9,-999.0000,9,-999.0000,9,  10.1155,     -999.0,9,     -999.0,9,     -999.0,9,     -999.0,9,         16,-999.000,-999.000,-999.000,     -999.0,9, -999.00,9, -999.00,9
33RO200306_01,       A16N,     016,          1,         14,         14,2,20030623,       0239,    57.4997,   -20.0015,       1168,   225.3,  10.1296,  35.4020,2,  35.4030,2,    258.1,2,   258.6,2,    4.09,2,   11.03,2,    0.02,2,    0.69,2,   3.474,2,   1.907,2,   0.265,2,  -999.0,9,  -999.0,9,   -999.0,9,  -999.00,-999.0000,9,  -999.00,-999.000,9,-999.000,9,-999.000,9, -999.00,9,  -999.0,9,  -999.0,-999.000,9,-999.000,-999.000,9, -999.00,9, -999.00,9,  225.30,-999.0000,9,-999.0000,9,-999.0000,9,-999.0000,9,-999.0000,9,-999.0000,9,  10.1031,     -999.0,9,     -999.0,9,     -999.0,9,     -999.0,9,         16,-999.000,-999.000,-999.000,     -999.0,9, -999.00,9, -999.00,9
33RO200306_01,       A16N,     016,          1,         13,         13,2,20030623,       0239,    57.4997,   -20.0015,       1168,   273.1,   9.9941,  35.3815,2,  35.3845,2,    256.7,2,   258.2,2,    4.37,2,   11.27,2,    0.01,2,    0.71,2,-999.000,9,-999.000,9,-999.000,9,  -999.0,9,  -999.0,9,   -999.0,9,  -999.00,-999.0000,9,  -999.00,-999.000,9,-999.000,9,-999.000,9, -999.00,9,  -999.0,9,  -999.0,-999.000,9,-999.000,-999.000,9, -999.00,9, -999.00,9,  273.10,-999.0000,9,-999.0000,9,-999.0000,9,-999.0000,9,-999.0000,9,-999.0000,9,   9.9621,     -999.0,9,     -999.0,9,     -999.0,9,     -999.0,9,         16,-999.000,-999.000,-999.000,     -999.0,9, -999.00,9, -999.00,9
33RO200306_01,       A16N,     016,          1,         12,         12,2,20030623,       0239,    57.4997,   -20.0015,       1168,   325.2,   9.9183,  35.3827,2,  35.3841,2,    255.5,2,   257.3,2,    4.94,2,   11.65,2,    0.01,2,    0.73,2,   3.468,2,   1.900,2,   0.258,2,  -999.0,9,  -999.0,9,   -999.0,9,  -999.00,-999.0000,9,  -999.00,-999.000,9,-999.000,9,-999.000,9, -999.00,9,  -999.0,9,  -999.0,-999.000,9,-999.000,-999.000,9, -999.00,9, -999.00,9,  325.20,-999.0000,9,-999.0000,9,-999.0000,9,-999.0000,9,-999.0000,9,-999.0000,9,   9.8803,     -999.0,9,     -999.0,9,     -999.0,9,     -999.0,9,         16,-999.000,-999.000,-999.000,     -999.0,9, -999.00,9, -999.00,9
33RO200306_01,       A16N,     016,          1,         11,         11,2,20030623,       0239,    57.4997,   -20.0015,       1168,   375.5,   9.7792,  35.3698,2,  35.3736,2,    255.5,2,   257.9,2,    5.22,2,   11.96,2,    0.01,2,    0.75,2,-999.000,9,-999.000,9,-999.000,9,  -999.0,9,  -999.0,9,   -999.0,9,  -999.00,-999.0000,9,  -999.00,-999.000,9,-999.000,9,-999.000,9, -999.00,9,  -999.0,9,  -999.0,-999.000,9,-999.000,-999.000,9, -999.00,9, -999.00,9,  375.50,-999.0000,9,-999.0000,9,-999.0000,9,-999.0000,9,-999.0000,9,-999.0000,9,   9.7356,     -999.0,9,     -999.0,9,     -999.0,9,     -999.0,9,         16,-999.000,-999.000,-999.000,     -999.0,9, -999.00,9, -999.00,9
33RO200306_01,       A16N,     016,          1,         10,         10,2,20030623,       0239,    57.4997,   -20.0015,       1168,   404.6,   9.7283,  35.3666,2,  35.3695,2,    254.6,2,   253.7,2,    5.33,2,   12.18,2,    0.01,2,    0.77,2,   3.431,2,   1.878,2,   0.251,2,  -999.0,9,  -999.0,9,   -999.0,9,  -999.00,-999.0000,9,  -999.00,-999.000,9,-999.000,9,-999.000,9, -999.00,9,  -999.0,9,  -999.0,-999.000,9,-999.000,-999.000,9, -999.00,9, -999.00,9,  404.60,-999.0000,9,-999.0000,9,-999.0000,9,-999.0000,9,-999.0000,9,-999.0000,9,   9.6814,     -999.0,9,     -999.0,9,     -999.0,9,     -999.0,9,         16,-999.000,-999.000,-999.000,     -999.0,9, -999.00,9, -999.00,9
33RO200306_01,       A16N,     016,          1,          9,          9,2,20030623,       0239,    57.4997,   -20.0015,       1168,   473.3,   9.5510,  35.3474,2,  35.3499,2,    252.1,2,   251.9,2,    5.56,2,   12.62,2,    0.01,2,    0.79,2,-999.000,9,-999.000,9,-999.000,9,  -999.0,9,  -999.0,9,   -999.0,9,  -999.00,-999.0000,9,  -999.00,-999.000,9,-999.000,9,-999.000,9, -999.00,9,  -999.0,9,  -999.0,-999.000,9,-999.000,-999.000,9, -999.00,9, -999.00,9,  473.30,-999.0000,9,-999.0000,9,-999.0000,9,-999.0000,9,-999.0000,9,-999.0000,9,   9.4966,     -999.0,9,     -999.0,9,     -999.0,9,     -999.0,9,         16,-999.000,-999.000,-999.000,     -999.0,9, -999.00,9, -999.00,9
33RO200306_01,       A16N,     016,          1,          8,          8,2,20030623,       0239,    57.4997,   -20.0015,       1168,   542.8,   9.3209,  35.3217,2,  35.3222,2,    241.1,2,   247.9,2,    6.17,2,   13.37,2,    0.01,2,    0.84,2,   3.334,2,   1.813,2,   0.236,2,  -999.0,9,  -999.0,9,   -999.0,9,  -999.00,-999.0000,9,  -999.00,-999.000,9,-999.000,9,-999.000,9, -999.00,9,  -999.0,9,  -999.0,-999.000,9,-999.000,-999.000,9, -999.00,9, -999.00,9,  542.80,-999.0000,9,-999.0000,9,-999.0000,9,-999.0000,9,-999.0000,9,-999.0000,9,   9.2592,     -999.0,9,     -999.0,9,     -999.0,9,     -999.0,9,         16,-999.000,-999.000,-999.000,     -999.0,9, -999.00,9, -999.00,9
33RO200306_01,       A16N,     016,          1,          7,          7,2,20030623,       0239,    57.4997,   -20.0015,       1168,   650.5,   8.7722,  35.2814,2,  35.2827,2,    216.0,2,   212.8,2,    8.78,2,   16.56,2,    0.01,2,    1.03,2,-999.000,9,-999.000,9,-999.000,9,  -999.0,9,  -999.0,9,   -999.0,9,  -999.00,-999.0000,9,  -999.00,-999.000,9,-999.000,9,-999.000,9, -999.00,9,  -999.0,9,  -999.0,-999.000,9,-999.000,-999.000,9, -999.00,9, -999.00,9,  650.50,-999.0000,9,-999.0000,9,-999.0000,9,-999.0000,9,-999.0000,9,-999.0000,9,   8.7005,     -999.0,9,     -999.0,9,     -999.0,9,     -999.0,9,         16,-999.000,-999.000,-999.000,     -999.0,9, -999.00,9, -999.00,9
33RO200306_01,       A16N,     016,          1,          6,          6,2,20030623,       0239,    57.4997,   -20.0015,       1168,   749.9,   7.6890,  35.1769,2,  35.1845,2,    199.7,2,   201.7,2,   10.71,2,   18.58,2,    0.01,2,    1.16,2,   2.355,2,   1.200,2,   0.115,2,  -999.0,9,  -999.0,9,   -999.0,9,  -999.00,-999.0000,9,  -999.00,-999.000,9,-999.000,9,-999.000,9, -999.00,9,  -999.0,9,  -999.0,-999.000,9,-999.000,-999.000,9, -999.00,9, -999.00,9,  749.90,-999.0000,9,-999.0000,9,-999.0000,9,-999.0000,9,-999.0000,9,-999.0000,9,   7.6119,     -999.0,9,     -999.0,9,     -999.0,9,     -999.0,9,         16,-999.000,-999.000,-999.000,     -999.0,9, -999.00,9, -999.00,9
33RO200306_01,       A16N,     016,          1,          5,          5,2,20030623,       0239,    57.4997,   -20.0015,       1168,   850.2,   7.1077,  35.1958,2,  35.1980,2,    206.3,2,   206.2,2,   11.16,2,   18.56,2,    0.01,2,    1.16,2,-999.000,9,-999.000,9,-999.000,9,  -999.0,9,  -999.0,9,   -999.0,9,  -999.00,-999.0000,9,  -999.00,-999.000,9,-999.000,9,-999.000,9, -999.00,9,  -999.0,9,  -999.0,-999.000,9,-999.000,-999.000,9, -999.00,9, -999.00,9,  850.20,-999.0000,9,-999.0000,9,-999.0000,9,-999.0000,9,-999.0000,9,-999.0000,9,   7.0234,     -999.0,9,     -999.0,9,     -999.0,9,     -999.0,9,         16,-999.000,-999.000,-999.000,     -999.0,9, -999.00,9, -999.00,9
33RO200306_01,       A16N,     016,          1,          4,          4,2,20030623,       0239,    57.4997,   -20.0015,       1168,   950.0,   6.3029,  35.1435,2,  35.1435,2,    220.7,2,   218.8,2,   11.39,2,   18.41,2,    0.01,2,    1.15,2,-999.000,9,-999.000,9,-999.000,9,  -999.0,9,  -999.0,9,   -999.0,9,  -999.00,-999.0000,9,  -999.00,-999.000,9,-999.000,9,-999.000,9, -999.00,9,  -999.0,9,  -999.0,-999.000,9,-999.000,-999.000,9, -999.00,9, -999.00,9,  950.00,-999.0000,9,-999.0000,9,-999.0000,9,-999.0000,9,-999.0000,9,-999.0000,9,   6.2138,     -999.0,9,     -999.0,9,     -999.0,9,     -999.0,9,         16,-999.000,-999.000,-999.000,     -999.0,9, -999.00,9, -999.00,9
33RO200306_01,       A16N,     016,          1,          3,          3,2,20030623,       0239,    57.4997,   -20.0015,       1168,  1049.1,   5.7052,  35.1033,2,  35.1057,2,    232.6,2,   237.7,2,   12.64,2,   18.23,2,    0.01,2,    1.15,2,   2.400,2,   1.172,2,   0.117,2,  -999.0,9,  -999.0,9,   -999.0,9,  -999.00,-999.0000,9,  -999.00,-999.000,9,-999.000,9,-999.000,9, -999.00,9,  -999.0,9,  -999.0,-999.000,9,-999.000,-999.000,9, -999.00,9, -999.00,9, 1049.10,-999.0000,9,-999.0000,9,-999.0000,9,-999.0000,9,-999.0000,9,-999.0000,9,   5.6108,     -999.0,9,     -999.0,9,     -999.0,9,     -999.0,9,         16,-999.000,-999.000,-999.000,     -999.0,9, -999.00,9, -999.00,9
33RO200306_01,       A16N,     016,          1,          2,          2,2,20030623,       0239,    57.4997,   -20.0015,       1168,  1125.5,   5.2810,  35.0649,2,  35.0653,2,    242.7,2,   234.6,2,   12.74,2,   18.11,2,    0.01,2,    1.14,2,-999.000,9,-999.000,9,-999.000,9,  -999.0,9,  -999.0,9,   -999.0,9,  -999.00,-999.0000,9,  -999.00,-999.000,9,-999.000,9,-999.000,9, -999.00,9,  -999.0,9,  -999.0,-999.000,9,-999.000,-999.000,9, -999.00,9, -999.00,9, 1125.50,-999.0000,9,-999.0000,9,-999.0000,9,-999.0000,9,-999.0000,9,-999.0000,9,   5.1828,     -999.0,9,     -999.0,9,     -999.0,9,     -999.0,9,         16,-999.000,-999.000,-999.000,     -999.0,9, -999.00,9, -999.00,9
33RO200306_01,       A16N,     016,          1,          1,          1,2,20030623,       0239,    57.4997,   -20.0015,       1168,  1167.7,   5.1246,  35.0504,2,  35.0537,2,    248.9,2,   255.9,2,   12.86,2,   18.04,2,    0.01,2,    1.15,2,   2.501,2,   1.220,2,   0.129,2,  2172.1,6,  -999.0,9,   -999.0,9,  -999.00,-999.0000,9,  -999.00,-999.000,9,-999.000,9,-999.000,9, -999.00,9,  -999.0,9,  -999.0,-999.000,9,-999.000,-999.000,9, -999.00,9, -999.00,9, 1167.70,-999.0000,9,-999.0000,9,-999.0000,9,-999.0000,9,-999.0000,9,-999.0000,9,   5.0238,     -999.0,9,     -999.0,9,     -999.0,9,     -999.0,9,         16,-999.000,-999.000,-999.000,     -999.0,9, -999.00,9, -999.00,9