BOTTLE,20230908CCHSIOCBG
EXPOCODE,SECT_ID,STNNBR,CASTNO,SAMPNO,BTLNBR,BTLNBR_FLAG_W,DATE,TIME,LATITUDE,LONGITUDE,DEPTH,CTDPRS,CTDTMP,CTDSAL,CTDSAL_FLAG_W,SALNTY,SALNTY_FLAG_W,CTDOXY,CTDOXY_FLAG_W,OXYGEN,OXYGEN_FLAG_W,SILCAT,SILCAT_FLAG_W,NITRAT,NITRAT_FLAG_W,NITRIT,NITRIT_FLAG_W,PHSPHT,PHSPHT_FLAG_W,CFC-11,CFC-11_FLAG_W,CFC-12,CFC-12_FLAG_W,CFC113,CFC113_FLAG_W,TCARBN,TCARBN_FLAG_W,ALKALI,ALKALI_FLAG_W,FCO2,FCO2_FLAG_W,FCO2TMP,PH_SWS,PH_SWS_FLAG_W,PH_TMP,TRITUM,TRITUM_FLAG_W,HELIUM,HELIUM_FLAG_W,DELHE3,DELHE3_FLAG_W,DELC13,DELC13_FLAG_W,DELC14,DELC14_FLAG_W,C14ERR,NEON,NEON_FLAG_W,NEONER,POC,POC_FLAG_W,DOC,DOC_FLAG_W,TDN,TDN_FLAG_W,CTDRAW,CDOM325,CDOM325_FLAG_W,CDOM340,CDOM340_FLAG_W,CDOM380,CDOM380_FLAG_W,CDOM412,CDOM412_FLAG_W,CDOMSL,CDOMSL_FLAG_W,CDOMSN,CDOMSN_FLAG_W,THETA,PON,PON_FLAG_W,HCFC-22,HCFC-22_FLAG_W,HCFC-142b,HCFC-142b_FLAG_W,HCFC-141b,HCFC-141b_FLAG_W,STNNBR_U,HELIER,DELHER,TRITER,CH3CL,CH3CL_FLAG_W,CH3BR,CH3BR_FLAG_W,CH3I,CH3I_FLAG_W
,,,,,,,,,,,METERS,DBAR,ITS-90,PSS-78,,PSS-78,,UMOL/KG,,UMOL/KG,,UMOL/KG,,UMOL/KG,,UMOL/KG,,UMOL/KG,,PMOL/KG,,PMOL/KG,,PMOL/KG,,UMOL/KG,,UMOL/KG,,UATM,,DEG C,,,DEG C,TU,,NMOL/KG,,PERCNT,,/MILLE,,/MILLE,,/MILLE,NMOL/KG,,NMOL/KG,UG/KG,,UMOL/KG,,UMOL/KG,,DBAR,1/M,,1/M,,1/M,,1/M,,1/NM,,1/NM,,DEG C,UMOL/L,,PMOL/KG,,PMOL/KG,,PMOL/KG,,,NMOL/KG,PERCNT,TU,PMOL/KG,,PMOL/KG,,PMOL/KG,
33RO200306_02,       A16N,     094,          2,          6,          6,2,20030723,       2222,    19.0003,   -29.0005,       4571,  2499.6,   3.1495,  34.9629,2,  34.9634,2,    242.3,2,   235.1,2,   29.59,2,   21.42,2,    0.01,2,    1.46,2,-999.000,9,-999.000,9,-999.000,9,  2179.6,2,  2336.2,2,    764.5,6,    20.00,   7.7259,2,    25.00,-999.000,9,-999.000,9,-999.000,9, -999.00,9,  -999.0,9,  -999.0,-999.000,9,-999.000,-999.000,9,   41.46,2,   24.83,2, 2499.60,-999.0000,9,-999.0000,9,-999.0000,9,-999.0000,9,-999.0000,9,-999.0000,9,   2.9468,     -999.0,9,     -999.0,9,     -999.0,9,     -999.0,9,         94,-999.000,-999.000,-999.000,     -999.0,9, -999.00,9, -999.00,9
33RO200306_02,       A16N,     094,          2,          5,          5,2,20030723,       2222,    19.0003,   -29.0005,       4571,  2999.3,   2.7897,  34.9418,2,  34.9420,2,    245.2,2,   244.4,2,   35.50,6,   21.59,6,    0.01,6,    1.48,6,   0.012,3,   0.002,2,   0.000,2,  2187.7,2,  2340.8,2,   -999.0,9,  -999.00,   7.7248,2,    25.00,   0.099,2,-999.000,9,-999.000,9, -999.00,9,  -999.0,9,  -999.0,-999.000,9,-999.000,-999.000,9,   40.69,2,   26.30,2, 2999.30,-999.0000,9,-999.0000,9,-999.0000,9,-999.0000,9,-999.0000,9,-999.0000,9,   2.5435,     -999.0,9,       0.05,2,       0.00,2,       0.16,2,         94,-999.000,-999.000,   0.010,       70.6,2,    1.16,2,    0.48,2
33RO200306_02,       A16N,     094,          2,          4,          4,2,20030723,       2222,    19.0003,   -29.0005,       4571,  3501.2,   2.4725,  34.9111,2,  34.9124,2,    247.7,2,   246.6,2,   42.10,6,   22.19,6,    0.01,6,    1.53,6,-999.000,9,-999.000,9,-999.000,9,  2193.0,2,  2348.9,2,   -999.0,9,  -999.00,   7.7251,2,    25.00,-999.000,9,-999.000,9,-999.000,9, -999.00,9,  -999.0,9,  -999.0,-999.000,9,-999.000,-999.000,9,   39.27,2,   26.90,2, 3501.20,-999.0000,9,-999.0000,9,-999.0000,9,-999.0000,9,-999.0000,9,-999.0000,9,   2.1806,     -999.0,9,     -999.0,9,     -999.0,9,     -999.0,9,         94,-999.000,-999.000,-999.000,     -999.0,9, -999.00,9, -999.00,9
33RO200306_02,       A16N,     094,          2,          3,          3,2,20030723,       2222,    19.0003,   -29.0005,       4571,  4002.0,   2.3461,  34.8934,2,  34.8947,2,    250.6,2,   253.0,2,   45.92,6,   22.53,6,    0.01,6,    1.55,6,-999.000,9,-999.000,9,-999.000,9,  2199.2,2,  2351.4,2,    764.8,6,    20.00,   7.7255,2,    25.00,-999.000,9,-999.000,9,-999.000,9, -999.00,9,  -999.0,9,  -999.0,-999.000,9,-999.000,-999.000,9,   40.17,2,   26.83,2, 4002.00,-999.0000,9,-999.0000,9,-999.0000,9,-999.0000,9,-999.0000,9,-999.0000,9,   2.0019,     -999.0,9,     -999.0,9,     -999.0,9,     -999.0,9,         94,-999.000,-999.000,-999.000,     -999.0,9, -999.00,9, -999.00,9
33RO200306_02,       A16N,     094,          2,          2,          2,2,20030723,       2222,    19.0003,   -29.0005,       4571,  4250.0,   2.3429,  34.8898,2,  34.8904,2,    251.3,2,   250.3,2,   46.66,6,   22.38,6,    0.01,6,    1.56,6,-999.000,9,-999.000,9,-999.000,9,  2198.4,2,  2352.9,2,   -999.0,9,  -999.00,   7.7252,2,    25.00,-999.000,9,   1.815,2,   4.270,4, -999.00,9,  -999.0,9,  -999.0,   7.492,4,   0.066,-999.000,9,   41.71,2,   26.29,2, 4250.00,-999.0000,9,-999.0000,9,-999.0000,9,-999.0000,9,-999.0000,9,-999.0000,9,   1.9702,     -999.0,9,     -999.0,9,     -999.0,9,     -999.0,9,         94,   0.004,    0.22,-999.000,     -999.0,9, -999.00,9, -999.00,9
33RO200306_02,       A16N,     094,          2,          1,          1,2,20030723,       2222,    19.0003,   -29.0005,       4571,  4631.7,   2.3773,  34.8881,2,  34.8894,2,    253.2,2,   262.3,4,   47.03,6,   22.48,6,    0.01,6,    1.56,6,   0.010,3,   0.004,2,   0.001,2,  2200.6,6,  2353.7,6,    764.1,2,    20.00,   7.7242,6,    25.00,-999.000,9,   1.900,3,   1.208,2, -999.00,9,  -999.0,9,  -999.0,   8.148,2,   0.045,-999.000,9,   41.71,2,   27.01,2, 4631.70,-999.0000,9,-999.0000,9,-999.0000,9,-999.0000,9,-999.0000,9,-999.0000,9,   1.9579,     -999.0,9,       0.00,2,       0.00,2,       0.21,2,         94,   0.004,   0.187,-999.000,      52.05,2,     0.0,2,    0.36,2