BOTTLE,20230908CCHSIOCBG
EXPOCODE,SECT_ID,STNNBR,CASTNO,SAMPNO,BTLNBR,BTLNBR_FLAG_W,DATE,TIME,LATITUDE,LONGITUDE,DEPTH,CTDPRS,CTDTMP,CTDSAL,CTDSAL_FLAG_W,SALNTY,SALNTY_FLAG_W,CTDOXY,CTDOXY_FLAG_W,OXYGEN,OXYGEN_FLAG_W,SILCAT,SILCAT_FLAG_W,NITRAT,NITRAT_FLAG_W,NITRIT,NITRIT_FLAG_W,PHSPHT,PHSPHT_FLAG_W,CFC-11,CFC-11_FLAG_W,CFC-12,CFC-12_FLAG_W,CFC113,CFC113_FLAG_W,TCARBN,TCARBN_FLAG_W,ALKALI,ALKALI_FLAG_W,FCO2,FCO2_FLAG_W,FCO2TMP,PH_SWS,PH_SWS_FLAG_W,PH_TMP,TRITUM,TRITUM_FLAG_W,HELIUM,HELIUM_FLAG_W,DELHE3,DELHE3_FLAG_W,DELC13,DELC13_FLAG_W,DELC14,DELC14_FLAG_W,C14ERR,NEON,NEON_FLAG_W,NEONER,POC,POC_FLAG_W,DOC,DOC_FLAG_W,TDN,TDN_FLAG_W,CTDRAW,CDOM325,CDOM325_FLAG_W,CDOM340,CDOM340_FLAG_W,CDOM380,CDOM380_FLAG_W,CDOM412,CDOM412_FLAG_W,CDOMSL,CDOMSL_FLAG_W,CDOMSN,CDOMSN_FLAG_W,THETA,PON,PON_FLAG_W,HCFC-22,HCFC-22_FLAG_W,HCFC-142b,HCFC-142b_FLAG_W,HCFC-141b,HCFC-141b_FLAG_W,STNNBR_U,HELIER,DELHER,TRITER,CH3CL,CH3CL_FLAG_W,CH3BR,CH3BR_FLAG_W,CH3I,CH3I_FLAG_W
,,,,,,,,,,,METERS,DBAR,ITS-90,PSS-78,,PSS-78,,UMOL/KG,,UMOL/KG,,UMOL/KG,,UMOL/KG,,UMOL/KG,,UMOL/KG,,PMOL/KG,,PMOL/KG,,PMOL/KG,,UMOL/KG,,UMOL/KG,,UATM,,DEG C,,,DEG C,TU,,NMOL/KG,,PERCNT,,/MILLE,,/MILLE,,/MILLE,NMOL/KG,,NMOL/KG,UG/KG,,UMOL/KG,,UMOL/KG,,DBAR,1/M,,1/M,,1/M,,1/M,,1/NM,,1/NM,,DEG C,UMOL/L,,PMOL/KG,,PMOL/KG,,PMOL/KG,,,NMOL/KG,PERCNT,TU,PMOL/KG,,PMOL/KG,,PMOL/KG,
33RO200306_02,       A16N,     118,          2,          7,          7,2,20030731,       1610,     7.0007,   -26.9990,       4365,  1999.5,   3.5146,  34.9617,2,  34.9623,2,    244.0,2,   244.5,2,   22.13,2,   20.80,2,    0.00,2,    1.40,2,   0.024,2,   0.017,2,   0.002,2,  2174.3,2,  2317.1,2,    763.7,2,    20.00,   7.7253,2,    25.00,-999.000,9,-999.000,9,-999.000,9, -999.00,9,  -999.0,9,  -999.0,-999.000,9,-999.000,-999.000,9,   41.79,2,   25.76,2, 1999.50,-999.0000,9,-999.0000,9,-999.0000,9,-999.0000,9,-999.0000,9,-999.0000,9,   3.3543,     -999.0,9,       0.00,2,       0.00,2,       0.10,2,        118,-999.000,-999.000,-999.000,      48.64,2,    1.84,2,     0.0,2
33RO200306_02,       A16N,     118,          2,          6,          6,2,20030731,       1610,     7.0007,   -26.9990,       4365,  2500.6,   2.9945,  34.9385,2,  34.9388,2,    247.4,2,   248.4,2,   29.03,2,   20.93,2,    0.00,2,    1.43,2,   0.010,2,   0.007,2,   0.000,2,  2175.4,2,  2327.8,2,    758.9,2,    20.00,   7.7296,2,    25.00,-999.000,9,-999.000,9,-999.000,9, -999.00,9,  -999.0,9,  -999.0,-999.000,9,-999.000,-999.000,9,   42.03,2,   25.34,2, 2500.60,-999.0000,9,-999.0000,9,-999.0000,9,-999.0000,9,-999.0000,9,-999.0000,9,   2.7946,     -999.0,9,     -999.0,9,     -999.0,9,     -999.0,9,        118,-999.000,-999.000,-999.000,     -999.0,9, -999.00,9, -999.00,9
33RO200306_02,       A16N,     118,          2,          5,          5,2,20030731,       1610,     7.0007,   -26.9990,       4365,  2999.7,   2.6945,  34.9182,2,  34.9183,2,    248.5,2,   248.2,2,   35.02,2,   21.37,2,    0.00,2,    1.47,2,   0.004,2,   0.006,2,   0.002,2,  2183.7,2,  2332.9,2,    758.4,2,    20.00,   7.7299,2,    25.00,   0.103,2,-999.000,9,-999.000,9, -999.00,9,  -999.0,9,  -999.0,-999.000,9,-999.000,-999.000,9,   41.63,2,   25.32,2, 2999.70,-999.0000,9,-999.0000,9,-999.0000,9,-999.0000,9,-999.0000,9,-999.0000,9,   2.4505,     -999.0,9,       0.00,2,       0.00,2,       0.06,2,        118,-999.000,-999.000,   0.030,      94.79,2,    2.64,2,     0.0,2
33RO200306_02,       A16N,     118,          2,          4,          4,2,20030731,       1610,     7.0007,   -26.9990,       4365,  3499.0,   2.4996,  34.9037,2,  34.9040,2,    250.9,2,   250.0,2,   38.54,6,   21.63,6,    0.00,6,    1.48,6,   0.018,2,   0.009,2,   0.000,2,  2185.2,2,  2335.9,2,    767.7,2,    20.00,   7.7287,2,    25.00,-999.000,9,-999.000,9,-999.000,9, -999.00,9,  -999.0,9,  -999.0,-999.000,9,-999.000,-999.000,9,   41.26,2,   25.38,2, 3499.00,-999.0000,9,-999.0000,9,-999.0000,9,-999.0000,9,-999.0000,9,-999.0000,9,   2.2073,     -999.0,9,     -999.0,9,     -999.0,9,     -999.0,9,        118,-999.000,-999.000,-999.000,     -999.0,9, -999.00,9, -999.00,9
33RO200306_02,       A16N,     118,          2,          3,          3,2,20030731,       1610,     7.0007,   -26.9990,       4365,  3999.4,   2.3494,  34.8893,2,  34.8897,2,    251.5,2,   251.4,2,   42.63,6,   21.79,6,    0.00,6,    1.51,6,   0.026,2,   0.017,2,   0.002,2,  2189.8,2,  2340.2,2,    771.7,6,    20.00,   7.7309,2,    25.00,   0.118,2,   1.864,3,   2.139,2, -999.00,9,  -999.0,9,  -999.0,   8.016,2,   0.064,-999.000,9,   40.95,2,   26.13,2, 3999.40,-999.0000,9,-999.0000,9,-999.0000,9,-999.0000,9,-999.0000,9,-999.0000,9,   2.0055,     -999.0,9,       0.00,2,       0.07,2,       0.07,2,        118,   0.005,   0.248,   0.000,     130.83,2,    4.44,2,     0.0,2
33RO200306_02,       A16N,     118,          2,          2,          2,2,20030731,       1610,     7.0007,   -26.9990,       4365,  4199.7,   2.3447,  34.8871,2,  34.8879,2,    250.6,2,   250.0,2,   43.64,6,   21.92,6,    0.00,6,    1.51,6,   0.031,2,   0.019,2,   0.003,2,  2192.7,2,  2341.9,2,    770.9,2,    20.00,   7.7202,2,    25.00,-999.000,9,-999.000,9,-999.000,9, -999.00,9,  -999.0,9,  -999.0,-999.000,9,-999.000,-999.000,9,   40.73,2,   26.90,2, 4199.70,-999.0000,9,-999.0000,9,-999.0000,9,-999.0000,9,-999.0000,9,-999.0000,9,   1.9778,     -999.0,9,     -999.0,9,     -999.0,9,     -999.0,9,        118,-999.000,-999.000,-999.000,     -999.0,9, -999.00,9, -999.00,9
33RO200306_02,       A16N,     118,          2,          1,          1,2,20030731,       1610,     7.0007,   -26.9990,       4365,  4421.7,   2.3392,  34.8845,2,  34.8872,2,    249.3,2,   250.3,2,   44.89,6,   22.19,6,    0.00,6,    1.53,6,   0.025,2,   0.015,2,   0.003,2,  2193.1,6,  2343.4,6,    774.1,2,    20.00,   7.7302,6,    25.00,   0.071,2,-999.000,9,-999.000,9, -999.00,9,  -999.0,9,  -999.0,-999.000,9,-999.000,-999.000,9,   41.22,2,   25.86,2, 4421.70,-999.0000,9,-999.0000,9,-999.0000,9,-999.0000,9,-999.0000,9,-999.0000,9,   1.9463,     -999.0,9,       0.95,2,       0.00,2,       0.55,2,        118,-999.000,-999.000,   0.010,       2.22,2,    1.06,2,     0.4,2