BOTTLE,20230908CCHSIOCBG
EXPOCODE,SECT_ID,STNNBR,CASTNO,SAMPNO,BTLNBR,BTLNBR_FLAG_W,DATE,TIME,LATITUDE,LONGITUDE,DEPTH,CTDPRS,CTDTMP,CTDSAL,CTDSAL_FLAG_W,SALNTY,SALNTY_FLAG_W,CTDOXY,CTDOXY_FLAG_W,OXYGEN,OXYGEN_FLAG_W,SILCAT,SILCAT_FLAG_W,NITRAT,NITRAT_FLAG_W,NITRIT,NITRIT_FLAG_W,PHSPHT,PHSPHT_FLAG_W,CFC-11,CFC-11_FLAG_W,CFC-12,CFC-12_FLAG_W,CFC113,CFC113_FLAG_W,TCARBN,TCARBN_FLAG_W,ALKALI,ALKALI_FLAG_W,FCO2,FCO2_FLAG_W,FCO2TMP,PH_SWS,PH_SWS_FLAG_W,PH_TMP,TRITUM,TRITUM_FLAG_W,HELIUM,HELIUM_FLAG_W,DELHE3,DELHE3_FLAG_W,DELC13,DELC13_FLAG_W,DELC14,DELC14_FLAG_W,C14ERR,NEON,NEON_FLAG_W,NEONER,POC,POC_FLAG_W,DOC,DOC_FLAG_W,TDN,TDN_FLAG_W,CTDRAW,CDOM325,CDOM325_FLAG_W,CDOM340,CDOM340_FLAG_W,CDOM380,CDOM380_FLAG_W,CDOM412,CDOM412_FLAG_W,CDOMSL,CDOMSL_FLAG_W,CDOMSN,CDOMSN_FLAG_W,THETA,PON,PON_FLAG_W,HCFC-22,HCFC-22_FLAG_W,HCFC-142b,HCFC-142b_FLAG_W,HCFC-141b,HCFC-141b_FLAG_W,STNNBR_U,HELIER,DELHER,TRITER,CH3CL,CH3CL_FLAG_W,CH3BR,CH3BR_FLAG_W,CH3I,CH3I_FLAG_W
,,,,,,,,,,,METERS,DBAR,ITS-90,PSS-78,,PSS-78,,UMOL/KG,,UMOL/KG,,UMOL/KG,,UMOL/KG,,UMOL/KG,,UMOL/KG,,PMOL/KG,,PMOL/KG,,PMOL/KG,,UMOL/KG,,UMOL/KG,,UATM,,DEG C,,,DEG C,TU,,NMOL/KG,,PERCNT,,/MILLE,,/MILLE,,/MILLE,NMOL/KG,,NMOL/KG,UG/KG,,UMOL/KG,,UMOL/KG,,DBAR,1/M,,1/M,,1/M,,1/M,,1/NM,,1/NM,,DEG C,UMOL/L,,PMOL/KG,,PMOL/KG,,PMOL/KG,,,NMOL/KG,PERCNT,TU,PMOL/KG,,PMOL/KG,,PMOL/KG,
33RO200306_01,       A16N,     066,          1,         35,         35,2,20030707,       1428,    32.5000,   -21.9685,       5212,     3.3,  24.0418,  37.0495,2,  37.0526,2,    217.6,2,   215.0,2,    0.73,2,    0.00,2,    0.00,2,    0.02,2,   2.046,2,   1.275,2,   0.181,2,  2105.5,6,  2420.4,2,   -999.0,9,  -999.00,   8.0161,2,    25.00,-999.000,9,-999.000,9,-999.000,9, -999.00,9,  -999.0,9,  -999.0,-999.000,9,-999.000,   3.465,2, -999.00,9, -999.00,9,    3.30,-999.0000,9,-999.0000,9,-999.0000,9,-999.0000,9,-999.0000,9,-999.0000,9,  24.0411,      0.242,2,     -999.0,9,     -999.0,9,     -999.0,9,         66,-999.000,-999.000,-999.000,     -999.0,9, -999.00,9, -999.00,9
33RO200306_01,       A16N,     066,          1,         33,         33,2,20030707,       1428,    32.5000,   -21.9685,       5212,    26.8,  22.7279,  36.9250,2,  37.0367,2,    217.7,2,   215.9,2,    0.74,2,    0.00,2,    0.00,2,    0.01,2,-999.000,9,-999.000,9,-999.000,9,  -999.0,9,  -999.0,9,   -999.0,9,  -999.00,-999.0000,9,  -999.00,-999.000,9,-999.000,9,-999.000,9, -999.00,9,  -999.0,9,  -999.0,-999.000,9,-999.000,   4.570,2, -999.00,9, -999.00,9,   26.80,-999.0000,9,-999.0000,9,-999.0000,9,-999.0000,9,-999.0000,9,-999.0000,9,  22.7224,      8.382,2,     -999.0,9,     -999.0,9,     -999.0,9,         66,-999.000,-999.000,-999.000,     -999.0,9, -999.00,9, -999.00,9
33RO200306_01,       A16N,     066,          1,         32,         32,2,20030707,       1428,    32.5000,   -21.9685,       5212,    39.5,  21.3549,  36.8774,2,  36.8698,2,    230.9,2,   234.1,2,    0.74,2,    0.01,2,    0.00,2,    0.02,2,-999.000,9,-999.000,9,-999.000,9,  -999.0,9,  -999.0,9,   -999.0,9,  -999.00,-999.0000,9,  -999.00,-999.000,9,-999.000,9,-999.000,9, -999.00,9,  -999.0,9,  -999.0,-999.000,9,-999.000,   6.060,2, -999.00,9, -999.00,9,   39.50,-999.0000,9,-999.0000,9,-999.0000,9,-999.0000,9,-999.0000,9,-999.0000,9,  21.3472,      4.316,2,     -999.0,9,     -999.0,9,     -999.0,9,         66,-999.000,-999.000,-999.000,     -999.0,9, -999.00,9, -999.00,9
33RO200306_01,       A16N,     066,          1,         31,         31,2,20030707,       1428,    32.5000,   -21.9685,       5212,    59.0,  20.2750,  36.8333,2,  36.8317,2,    236.9,2,   237.3,2,    0.74,2,    0.00,2,    0.00,2,    0.02,2,-999.000,9,-999.000,9,-999.000,9,  -999.0,9,  -999.0,9,   -999.0,9,  -999.00,-999.0000,9,  -999.00,-999.000,9,-999.000,9,-999.000,9, -999.00,9,  -999.0,9,  -999.0,-999.000,9,-999.000,   3.756,2, -999.00,9, -999.00,9,   59.00,-999.0000,9,-999.0000,9,-999.0000,9,-999.0000,9,-999.0000,9,-999.0000,9,  20.2639,      1.752,2,     -999.0,9,     -999.0,9,     -999.0,9,         66,-999.000,-999.000,-999.000,     -999.0,9, -999.00,9, -999.00,9
33RO200306_01,       A16N,     066,          1,         30,         30,2,20030707,       1428,    32.5000,   -21.9685,       5212,    79.9,  19.3529,  36.7774,2,  36.7737,2,    235.9,2,   235.6,2,    0.76,2,    0.01,2,    0.00,2,    0.02,2,-999.000,9,-999.000,9,-999.000,9,  -999.0,9,  -999.0,9,   -999.0,9,  -999.00,-999.0000,9,  -999.00,-999.000,9,-999.000,9,-999.000,9, -999.00,9,  -999.0,9,  -999.0,-999.000,9,-999.000,   3.513,2, -999.00,9, -999.00,9,   79.90,-999.0000,9,-999.0000,9,-999.0000,9,-999.0000,9,-999.0000,9,-999.0000,9,  19.3383,      2.774,2,     -999.0,9,     -999.0,9,     -999.0,9,         66,-999.000,-999.000,-999.000,     -999.0,9, -999.00,9, -999.00,9
33RO200306_01,       A16N,     066,          1,         29,         29,2,20030707,       1428,    32.5000,   -21.9685,       5212,    99.9,  18.8206,  36.7256,2,  36.7297,2,    233.0,2,   233.6,2,    0.78,2,    0.02,2,    0.00,2,    0.03,2,   2.441,2,   1.490,2,   0.198,2,  -999.0,9,  -999.0,9,   -999.0,9,  -999.00,-999.0000,9,  -999.00,-999.000,9,-999.000,9,-999.000,9, -999.00,9,  -999.0,9,  -999.0,-999.000,9,-999.000,   4.010,2, -999.00,9, -999.00,9,   99.90,-999.0000,9,-999.0000,9,-999.0000,9,-999.0000,9,-999.0000,9,-999.0000,9,  18.8027,      2.392,2,     -999.0,9,     -999.0,9,     -999.0,9,         66,-999.000,-999.000,-999.000,     -999.0,9, -999.00,9, -999.00,9
33RO200306_01,       A16N,     066,          1,         28,         28,2,20030707,       1428,    32.5000,   -21.9685,       5212,   124.8,  18.2136,  36.6413,2,  36.6350,2,    224.1,2,   222.3,2,    0.89,2,    0.20,2,    0.05,2,    0.06,2,-999.000,9,-999.000,9,-999.000,9,  -999.0,9,  -999.0,9,   -999.0,9,  -999.00,-999.0000,9,  -999.00,-999.000,9,-999.000,9,-999.000,9, -999.00,9,  -999.0,9,  -999.0,-999.000,9,-999.000,   3.328,2, -999.00,9, -999.00,9,  124.80,-999.0000,9,-999.0000,9,-999.0000,9,-999.0000,9,-999.0000,9,-999.0000,9,  18.1918,      1.028,2,     -999.0,9,     -999.0,9,     -999.0,9,         66,-999.000,-999.000,-999.000,     -999.0,9, -999.00,9, -999.00,9
33RO200306_01,       A16N,     066,          1,         27,         27,2,20030707,       1428,    32.5000,   -21.9685,       5212,   149.9,  17.4722,  36.5003,2,  36.4839,2,    213.8,2,   211.7,2,    1.21,2,    2.73,2,    0.04,2,    0.19,2,-999.000,9,-999.000,9,-999.000,9,  -999.0,9,  -999.0,9,   -999.0,9,  -999.00,-999.0000,9,  -999.00,-999.000,9,-999.000,9,-999.000,9, -999.00,9,  -999.0,9,  -999.0,-999.000,9,-999.000,   2.525,2, -999.00,9, -999.00,9,  149.90,-999.0000,9,-999.0000,9,-999.0000,9,-999.0000,9,-999.0000,9,-999.0000,9,  17.4468,      0.905,2,     -999.0,9,     -999.0,9,     -999.0,9,         66,-999.000,-999.000,-999.000,     -999.0,9, -999.00,9, -999.00,9
33RO200306_01,       A16N,     066,          1,         26,         26,2,20030707,       1428,    32.5000,   -21.9685,       5212,   174.6,  16.4430,  36.3057,2,  36.3050,2,    204.8,2,   204.6,2,    1.68,2,    4.74,2,    0.01,2,    0.30,2,-999.000,9,-999.000,9,-999.000,9,  -999.0,9,  -999.0,9,   -999.0,9,  -999.00,-999.0000,9,  -999.00,-999.000,9,-999.000,9,-999.000,9, -999.00,9,  -999.0,9,  -999.0,-999.000,9,-999.000,-999.000,9, -999.00,9, -999.00,9,  174.60,-999.0000,9,-999.0000,9,-999.0000,9,-999.0000,9,-999.0000,9,-999.0000,9,  16.4146,     -999.0,9,     -999.0,9,     -999.0,9,     -999.0,9,         66,-999.000,-999.000,-999.000,     -999.0,9, -999.00,9, -999.00,9
33RO200306_01,       A16N,     066,          1,         25,         25,2,20030707,       1428,    32.5000,   -21.9685,       5212,   199.9,  15.9943,  36.2154,2,  36.2176,2,    201.9,2,   203.5,2,    1.95,2,    5.62,2,    0.01,2,    0.35,2,   2.669,2,   1.583,2,   0.075,2,  -999.0,9,  -999.0,9,   -999.0,9,  -999.00,-999.0000,9,  -999.00,-999.000,9,-999.000,9,-999.000,9, -999.00,9,  -999.0,9,  -999.0,-999.000,9,-999.000,-999.000,9, -999.00,9, -999.00,9,  199.90,-999.0000,9,-999.0000,9,-999.0000,9,-999.0000,9,-999.0000,9,-999.0000,9,  15.9624,     -999.0,9,     -999.0,9,     -999.0,9,     -999.0,9,         66,-999.000,-999.000,-999.000,     -999.0,9, -999.00,9, -999.00,9
33RO200306_01,       A16N,     066,          1,         24,         24,2,20030707,       1428,    32.5000,   -21.9685,       5212,   248.6,  15.0976,  36.0606,2,  36.0562,2,    198.0,2,   198.4,2,    2.68,2,    7.74,2,    0.01,2,    0.47,2,-999.000,9,-999.000,9,-999.000,9,  -999.0,9,  -999.0,9,   -999.0,9,  -999.00,-999.0000,9,  -999.00,-999.000,9,-999.000,9,-999.000,9, -999.00,9,  -999.0,9,  -999.0,-999.000,9,-999.000,   2.137,2, -999.00,9, -999.00,9,  248.60,-999.0000,9,-999.0000,9,-999.0000,9,-999.0000,9,-999.0000,9,-999.0000,9,  15.0594,      0.546,2,     -999.0,9,     -999.0,9,     -999.0,9,         66,-999.000,-999.000,-999.000,     -999.0,9, -999.00,9, -999.00,9
33RO200306_01,       A16N,     066,          1,         23,         23,2,20030707,       1428,    32.5000,   -21.9685,       5212,   298.6,  14.3370,  35.9424,2,  35.9436,2,    196.0,2,   196.9,2,    3.28,2,    9.30,2,    0.01,2,    0.56,2,-999.000,9,-999.000,9,-999.000,9,  -999.0,9,  -999.0,9,   -999.0,9,  -999.00,-999.0000,9,  -999.00,-999.000,9,-999.000,9,-999.000,9, -999.00,9,  -999.0,9,  -999.0,-999.000,9,-999.000,-999.000,9, -999.00,9, -999.00,9,  298.60,-999.0000,9,-999.0000,9,-999.0000,9,-999.0000,9,-999.0000,9,-999.0000,9,  14.2926,     -999.0,9,     -999.0,9,     -999.0,9,     -999.0,9,         66,-999.000,-999.000,-999.000,     -999.0,9, -999.00,9, -999.00,9
33RO200306_01,       A16N,     066,          1,         22,         22,2,20030707,       1428,    32.5000,   -21.9685,       5212,   350.2,  13.6298,  35.8395,2,  35.8437,2,    196.0,2,   197.2,2,    3.84,2,   10.57,2,    0.00,2,    0.63,2,-999.000,9,-999.000,9,-999.000,9,  -999.0,9,  -999.0,9,   -999.0,9,  -999.00,-999.0000,9,  -999.00,-999.000,9,-999.000,9,-999.000,9, -999.00,9,  -999.0,9,  -999.0,-999.000,9,-999.000,-999.000,9, -999.00,9, -999.00,9,  350.20,-999.0000,9,-999.0000,9,-999.0000,9,-999.0000,9,-999.0000,9,-999.0000,9,  13.5794,     -999.0,9,     -999.0,9,     -999.0,9,     -999.0,9,         66,-999.000,-999.000,-999.000,     -999.0,9, -999.00,9, -999.00,9
33RO200306_01,       A16N,     066,          1,         21,         21,2,20030707,       1428,    32.5000,   -21.9685,       5212,   399.7,  12.9957,  35.7449,2,  35.7508,2,    200.1,2,   199.6,2,    4.44,2,   11.54,2,    0.00,2,    0.69,2,   2.727,2,   1.525,2,   0.061,2,  -999.0,9,  -999.0,9,   -999.0,9,  -999.00,-999.0000,9,  -999.00,-999.000,9,-999.000,9,-999.000,9, -999.00,9,  -999.0,9,  -999.0,-999.000,9,-999.000,-999.000,9, -999.00,9, -999.00,9,  399.70,-999.0000,9,-999.0000,9,-999.0000,9,-999.0000,9,-999.0000,9,-999.0000,9,  12.9399,     -999.0,9,     -999.0,9,     -999.0,9,     -999.0,9,         66,-999.000,-999.000,-999.000,     -999.0,9, -999.00,9, -999.00,9
33RO200306_01,       A16N,     066,          1,         20,         20,2,20030707,       1428,    32.5000,   -21.9685,       5212,   450.1,  12.5611,  35.6887,2,  35.6878,2,    199.2,2,   197.2,2,    5.00,2,   12.68,2,    0.00,2,    0.76,2,-999.000,9,-999.000,9,-999.000,9,  -999.0,9,  -999.0,9,   -999.0,9,  -999.00,-999.0000,9,  -999.00,-999.000,9,-999.000,9,-999.000,9, -999.00,9,  -999.0,9,  -999.0,-999.000,9,-999.000,-999.000,9, -999.00,9, -999.00,9,  450.10,-999.0000,9,-999.0000,9,-999.0000,9,-999.0000,9,-999.0000,9,-999.0000,9,  12.4996,     -999.0,9,     -999.0,9,     -999.0,9,     -999.0,9,         66,-999.000,-999.000,-999.000,     -999.0,9, -999.00,9, -999.00,9
33RO200306_01,       A16N,     066,          1,         19,         19,2,20030707,       1428,    32.5000,   -21.9685,       5212,   501.0,  12.1139,  35.6296,2,  35.6276,2,    200.4,2,   200.4,2,    5.29,2,   13.13,2,    0.00,2,    0.79,2,   2.748,2,   1.521,2,   0.072,2,  -999.0,9,  -999.0,9,   -999.0,9,  -999.00,-999.0000,9,  -999.00,-999.000,9,-999.000,9,-999.000,9, -999.00,9,  -999.0,9,  -999.0,-999.000,9,-999.000,   1.499,2, -999.00,9, -999.00,9,  501.00,-999.0000,9,-999.0000,9,-999.0000,9,-999.0000,9,-999.0000,9,-999.0000,9,  12.0469,      0.310,2,     -999.0,9,     -999.0,9,     -999.0,9,         66,-999.000,-999.000,-999.000,     -999.0,9, -999.00,9, -999.00,9
33RO200306_01,       A16N,     066,          1,         18,         18,2,20030707,       1428,    32.5000,   -21.9685,       5212,   598.6,  11.2546,  35.5475,2,  35.5475,2,    194.6,2,   194.0,2,    6.52,2,   15.12,2,    0.00,2,    0.91,2,-999.000,9,-999.000,9,-999.000,9,  -999.0,9,  -999.0,9,   -999.0,9,  -999.00,-999.0000,9,  -999.00,-999.000,9,-999.000,9,-999.000,9, -999.00,9,  -999.0,9,  -999.0,-999.000,9,-999.000,-999.000,9, -999.00,9, -999.00,9,  598.60,-999.0000,9,-999.0000,9,-999.0000,9,-999.0000,9,-999.0000,9,-999.0000,9,  11.1779,     -999.0,9,     -999.0,9,     -999.0,9,     -999.0,9,         66,-999.000,-999.000,-999.000,     -999.0,9, -999.00,9, -999.00,9
33RO200306_01,       A16N,     066,          1,         17,         17,2,20030707,       1428,    32.5000,   -21.9685,       5212,   700.9,  10.5692,  35.5164,2,  35.5171,2,    183.7,2,   183.0,2,    8.39,2,   17.19,2,    0.00,2,    1.04,2,   1.987,2,   1.043,2,   0.044,2,  -999.0,9,  -999.0,9,   -999.0,9,  -999.00,-999.0000,9,  -999.00,-999.000,9,-999.000,9,-999.000,9, -999.00,9,  -999.0,9,  -999.0,-999.000,9,-999.000,-999.000,9, -999.00,9, -999.00,9,  700.90,-999.0000,9,-999.0000,9,-999.0000,9,-999.0000,9,-999.0000,9,-999.0000,9,  10.4824,     -999.0,9,     -999.0,9,     -999.0,9,     -999.0,9,         66,-999.000,-999.000,-999.000,     -999.0,9, -999.00,9, -999.00,9
33RO200306_01,       A16N,     066,          1,         16,         16,2,20030707,       1428,    32.5000,   -21.9685,       5212,   800.3,  10.0066,  35.5335,2,  35.5331,2,    177.2,2,   177.2,2,    9.86,2,   18.43,2,    0.00,2,    1.13,2,-999.000,9,-999.000,9,-999.000,9,  -999.0,9,  -999.0,9,   -999.0,9,  -999.00,-999.0000,9,  -999.00,-999.000,9,-999.000,9,-999.000,9, -999.00,9,  -999.0,9,  -999.0,-999.000,9,-999.000,-999.000,9, -999.00,9, -999.00,9,  800.30,-999.0000,9,-999.0000,9,-999.0000,9,-999.0000,9,-999.0000,9,-999.0000,9,   9.9103,     -999.0,9,     -999.0,9,     -999.0,9,     -999.0,9,         66,-999.000,-999.000,-999.000,     -999.0,9, -999.00,9, -999.00,9
33RO200306_01,       A16N,     066,          1,         15,         15,2,20030707,       1428,    32.5000,   -21.9685,       5212,   894.6,   9.3859,  35.5402,2,  35.5440,2,    176.0,2,   176.3,2,   11.24,2,   19.22,2,    0.00,2,    1.19,2,-999.000,9,-999.000,9,-999.000,9,  -999.0,9,  -999.0,9,   -999.0,9,  -999.00,-999.0000,9,  -999.00,-999.000,9,-999.000,9,-999.000,9, -999.00,9,  -999.0,9,  -999.0,-999.000,9,-999.000,-999.000,9, -999.00,9, -999.00,9,  894.60,-999.0000,9,-999.0000,9,-999.0000,9,-999.0000,9,-999.0000,9,-999.0000,9,   9.2817,     -999.0,9,     -999.0,9,     -999.0,9,     -999.0,9,         66,-999.000,-999.000,-999.000,     -999.0,9, -999.00,9, -999.00,9
33RO200306_01,       A16N,     066,          1,         14,         14,2,20030707,       1428,    32.5000,   -21.9685,       5212,   990.4,   9.0122,  35.5841,2,  35.5811,2,    180.1,2,   180.3,2,   11.95,2,   19.14,2,    0.00,2,    1.19,2,   1.020,2,   0.531,2,   0.017,2,  -999.0,9,  -999.0,9,   -999.0,9,  -999.00,-999.0000,9,  -999.00,-999.000,9,-999.000,9,-999.000,9, -999.00,9,  -999.0,9,  -999.0,-999.000,9,-999.000,-999.000,9, -999.00,9, -999.00,9,  990.40,-999.0000,9,-999.0000,9,-999.0000,9,-999.0000,9,-999.0000,9,-999.0000,9,   8.8988,     -999.0,9,     -999.0,9,     -999.0,9,     -999.0,9,         66,-999.000,-999.000,-999.000,     -999.0,9, -999.00,9, -999.00,9
33RO200306_01,       A16N,     066,          1,         13,         13,2,20030707,       1428,    32.5000,   -21.9685,       5212,  1082.1,   8.6483,  35.5987,2,  35.5965,2,    190.1,2,   190.7,2,   11.70,2,   18.32,2,    0.00,2,    1.15,2,-999.000,9,-999.000,9,-999.000,9,  -999.0,9,  -999.0,9,   -999.0,9,  -999.00,-999.0000,9,  -999.00,-999.000,9,-999.000,9,-999.000,9, -999.00,9,  -999.0,9,  -999.0,-999.000,9,-999.000,-999.000,9, -999.00,9, -999.00,9, 1082.10,-999.0000,9,-999.0000,9,-999.0000,9,-999.0000,9,-999.0000,9,-999.0000,9,   8.5266,     -999.0,9,     -999.0,9,     -999.0,9,     -999.0,9,         66,-999.000,-999.000,-999.000,     -999.0,9, -999.00,9, -999.00,9
33RO200306_01,       A16N,     066,          1,         12,         12,2,20030707,       1428,    32.5000,   -21.9685,       5212,  1200.1,   8.0091,  35.5711,2,  35.5703,2,    195.0,2,   192.3,2,   13.25,2,   19.06,2,    0.00,2,    1.20,2,-999.000,9,-999.000,9,-999.000,9,  -999.0,9,  -999.0,9,   -999.0,9,  -999.00,-999.0000,9,  -999.00,-999.000,9,-999.000,9,-999.000,9, -999.00,9,  -999.0,9,  -999.0,-999.000,9,-999.000,-999.000,9, -999.00,9, -999.00,9, 1200.10,-999.0000,9,-999.0000,9,-999.0000,9,-999.0000,9,-999.0000,9,-999.0000,9,   7.8788,     -999.0,9,     -999.0,9,     -999.0,9,     -999.0,9,         66,-999.000,-999.000,-999.000,     -999.0,9, -999.00,9, -999.00,9
33RO200306_01,       A16N,     066,          1,         11,         11,2,20030707,       1428,    32.5000,   -21.9685,       5212,  1387.1,   6.8552,  35.4342,2,  35.4286,2,    213.6,2,   216.0,2,   13.01,2,   18.29,2,    0.00,2,    1.16,2,   0.947,2,   0.480,2,   0.026,2,  -999.0,9,  -999.0,9,   -999.0,9,  -999.00,-999.0000,9,  -999.00,-999.000,9,-999.000,9,-999.000,9, -999.00,9,  -999.0,9,  -999.0,-999.000,9,-999.000,-999.000,9, -999.00,9, -999.00,9, 1387.10,-999.0000,9,-999.0000,9,-999.0000,9,-999.0000,9,-999.0000,9,-999.0000,9,   6.7148,     -999.0,9,     -999.0,9,     -999.0,9,     -999.0,9,         66,-999.000,-999.000,-999.000,     -999.0,9, -999.00,9, -999.00,9
33RO200306_01,       A16N,     066,          1,         10,         10,2,20030707,       1428,    32.5000,   -21.9685,       5212,  1593.3,   5.5806,  35.2716,2,  35.2710,2,    231.5,2,   233.1,2,   13.56,2,   18.08,2,    0.00,2,    1.16,2,-999.000,9,-999.000,9,-999.000,9,  -999.0,9,  -999.0,9,   -999.0,9,  -999.00,-999.0000,9,  -999.00,-999.000,9,-999.000,9,-999.000,9, -999.00,9,  -999.0,9,  -999.0,-999.000,9,-999.000,-999.000,9, -999.00,9, -999.00,9, 1593.30,-999.0000,9,-999.0000,9,-999.0000,9,-999.0000,9,-999.0000,9,-999.0000,9,   5.4324,     -999.0,9,     -999.0,9,     -999.0,9,     -999.0,9,         66,-999.000,-999.000,-999.000,     -999.0,9, -999.00,9, -999.00,9
33RO200306_01,       A16N,     066,          1,          9,          9,2,20030707,       1428,    32.5000,   -21.9685,       5212,  1800.4,   4.9389,  35.1915,2,  35.1913,2,    239.9,2,   240.7,2,   15.33,2,   18.25,2,    0.00,2,    1.18,2,-999.000,9,-999.000,9,-999.000,9,  -999.0,9,  -999.0,9,   -999.0,9,  -999.00,-999.0000,9,  -999.00,-999.000,9,-999.000,9,-999.000,9, -999.00,9,  -999.0,9,  -999.0,-999.000,9,-999.000,-999.000,9, -999.00,9, -999.00,9, 1800.40,-999.0000,9,-999.0000,9,-999.0000,9,-999.0000,9,-999.0000,9,-999.0000,9,   4.7776,     -999.0,9,     -999.0,9,     -999.0,9,     -999.0,9,         66,-999.000,-999.000,-999.000,     -999.0,9, -999.00,9, -999.00,9
33RO200306_01,       A16N,     066,          1,          8,          8,2,20030707,       1428,    32.5000,   -21.9685,       5212,  1999.8,   4.4446,  35.1346,2,  35.1337,2,    242.7,2,   241.6,2,   17.93,2,   18.64,2,    0.00,2,    1.21,2,   0.311,2,   0.168,2,   0.012,2,  -999.0,9,  -999.0,9,   -999.0,9,  -999.00,-999.0000,9,  -999.00,-999.000,9,-999.000,9,-999.000,9, -999.00,9,  -999.0,9,  -999.0,-999.000,9,-999.000,-999.000,9, -999.00,9, -999.00,9, 1999.80,-999.0000,9,-999.0000,9,-999.0000,9,-999.0000,9,-999.0000,9,-999.0000,9,   4.2700,     -999.0,9,     -999.0,9,     -999.0,9,     -999.0,9,         66,-999.000,-999.000,-999.000,     -999.0,9, -999.00,9, -999.00,9