BOTTLE,20230908CCHSIOCBG
EXPOCODE,SECT_ID,STNNBR,CASTNO,SAMPNO,BTLNBR,BTLNBR_FLAG_W,DATE,TIME,LATITUDE,LONGITUDE,DEPTH,CTDPRS,CTDTMP,CTDSAL,CTDSAL_FLAG_W,SALNTY,SALNTY_FLAG_W,CTDOXY,CTDOXY_FLAG_W,OXYGEN,OXYGEN_FLAG_W,SILCAT,SILCAT_FLAG_W,NITRAT,NITRAT_FLAG_W,NITRIT,NITRIT_FLAG_W,PHSPHT,PHSPHT_FLAG_W,CFC-11,CFC-11_FLAG_W,CFC-12,CFC-12_FLAG_W,CFC113,CFC113_FLAG_W,TCARBN,TCARBN_FLAG_W,ALKALI,ALKALI_FLAG_W,FCO2,FCO2_FLAG_W,FCO2TMP,PH_SWS,PH_SWS_FLAG_W,PH_TMP,TRITUM,TRITUM_FLAG_W,HELIUM,HELIUM_FLAG_W,DELHE3,DELHE3_FLAG_W,DELC13,DELC13_FLAG_W,DELC14,DELC14_FLAG_W,C14ERR,NEON,NEON_FLAG_W,NEONER,POC,POC_FLAG_W,DOC,DOC_FLAG_W,TDN,TDN_FLAG_W,CTDRAW,CDOM325,CDOM325_FLAG_W,CDOM340,CDOM340_FLAG_W,CDOM380,CDOM380_FLAG_W,CDOM412,CDOM412_FLAG_W,CDOMSL,CDOMSL_FLAG_W,CDOMSN,CDOMSN_FLAG_W,THETA,PON,PON_FLAG_W,HCFC-22,HCFC-22_FLAG_W,HCFC-142b,HCFC-142b_FLAG_W,HCFC-141b,HCFC-141b_FLAG_W,STNNBR_U,HELIER,DELHER,TRITER,CH3CL,CH3CL_FLAG_W,CH3BR,CH3BR_FLAG_W,CH3I,CH3I_FLAG_W
,,,,,,,,,,,METERS,DBAR,ITS-90,PSS-78,,PSS-78,,UMOL/KG,,UMOL/KG,,UMOL/KG,,UMOL/KG,,UMOL/KG,,UMOL/KG,,PMOL/KG,,PMOL/KG,,PMOL/KG,,UMOL/KG,,UMOL/KG,,UATM,,DEG C,,,DEG C,TU,,NMOL/KG,,PERCNT,,/MILLE,,/MILLE,,/MILLE,NMOL/KG,,NMOL/KG,UG/KG,,UMOL/KG,,UMOL/KG,,DBAR,1/M,,1/M,,1/M,,1/M,,1/NM,,1/NM,,DEG C,UMOL/L,,PMOL/KG,,PMOL/KG,,PMOL/KG,,,NMOL/KG,PERCNT,TU,PMOL/KG,,PMOL/KG,,PMOL/KG,
33RO200306_02,       A16N,     106,          2,         35,         35,2,20030727,       1542,    13.0000,   -29.0008,       5712,     3.8,  27.8771,  36.4183,2,  36.4215,2,    169.0,2,   201.1,2,    0.68,2,    0.04,2,    0.00,2,    0.05,2,   1.696,2,   1.086,2,   0.150,2,  2026.5,6,  2388.1,6,    273.9,2,    20.00,   8.1096,6,    25.00,-999.000,9,-999.000,9,-999.000,9, -999.00,9,  -999.0,9,  -999.0,-999.000,9,-999.000,-999.000,9,   78.95,2,    8.60,2,    3.80,-999.0000,9,-999.0000,9,-999.0000,9,-999.0000,9,-999.0000,9,-999.0000,9,  27.8762,     -999.0,9,       3.87,2,       0.20,2,       0.41,2,        106,-999.000,-999.000,-999.000,      36.42,2,    0.39,2,    17.9,2
33RO200306_02,       A16N,     106,          2,         33,         33,2,20030727,       1542,    13.0000,   -29.0008,       5712,    24.6,  27.4522,  36.4166,2,  36.4257,2,    170.9,2,   202.0,2,    0.67,2,    0.05,2,    0.00,2,    0.05,2,   1.700,2,   1.089,2,   0.147,2,  2027.5,2,  2389.3,2,    275.9,2,    20.00,   8.1807,3,    25.00,-999.000,9,-999.000,9,-999.000,9, -999.00,9,  -999.0,9,  -999.0,-999.000,9,-999.000,-999.000,9,   78.95,2,    8.63,2,   24.60,-999.0000,9,-999.0000,9,-999.0000,9,-999.0000,9,-999.0000,9,-999.0000,9,  27.4465,     -999.0,9,       4.28,2,       0.52,2,       0.68,2,        106,-999.000,-999.000,-999.000,      56.41,2,    1.27,2,   19.35,2
33RO200306_02,       A16N,     106,          2,         32,         32,2,20030727,       1542,    13.0000,   -29.0008,       5712,    49.3,  22.9690,  36.7275,2,  36.7169,2,    196.5,2,   211.6,2,    0.57,2,    0.20,2,    0.01,2,    0.08,2,   2.025,2,   1.275,2,   0.163,2,  2077.9,2,  2406.9,2,    330.9,2,    20.00,   8.0399,2,    25.00,-999.000,9,-999.000,9,-999.000,9, -999.00,9,  -999.0,9,  -999.0,-999.000,9,-999.000,-999.000,9, -999.00,9, -999.00,9,   49.30,-999.0000,9,-999.0000,9,-999.0000,9,-999.0000,9,-999.0000,9,-999.0000,9,  22.9589,     -999.0,9,     -999.0,9,     -999.0,9,     -999.0,9,        106,-999.000,-999.000,-999.000,     -999.0,9, -999.00,9, -999.00,9
33RO200306_02,       A16N,     106,          2,         31,         31,2,20030727,       1542,    13.0000,   -29.0008,       5712,    73.8,  19.8342,  36.4300,2,  36.3674,2,    148.9,2,   135.4,2,    2.59,2,    8.85,2,    0.34,2,    0.62,2,   2.009,2,   1.208,2,   0.099,2,  2156.9,2,  2381.2,2,    539.6,2,    20.00,   7.8599,2,    25.00,-999.000,9,-999.000,9,-999.000,9, -999.00,9,  -999.0,9,  -999.0,-999.000,9,-999.000,-999.000,9,   60.69,2,   14.58,2,   73.80,-999.0000,9,-999.0000,9,-999.0000,9,-999.0000,9,-999.0000,9,-999.0000,9,  19.8206,     -999.0,9,       3.08,2,       0.12,2,       0.24,2,        106,-999.000,-999.000,-999.000,      34.89,2,    0.15,2,    3.83,2
33RO200306_02,       A16N,     106,          2,         30,         30,2,20030727,       1542,    13.0000,   -29.0008,       5712,    88.4,  15.3614,  35.5579,2,  35.5175,2,     83.7,2,    71.9,2,    6.94,2,   23.80,2,    0.06,2,    1.49,2,   1.716,6,   0.963,6,   0.034,6,  2203.2,2,  2331.5,2,    923.7,2,    20.00,   7.7386,3,    25.00,-999.000,9,-999.000,9,-999.000,9, -999.00,9,  -999.0,9,  -999.0,-999.000,9,-999.000,-999.000,9,   53.58,2,   28.61,2,   88.40,-999.0000,9,-999.0000,9,-999.0000,9,-999.0000,9,-999.0000,9,-999.0000,9,  15.3478,     -999.0,9,     -999.0,9,     -999.0,9,     -999.0,9,        106,-999.000,-999.000,-999.000,     -999.0,9, -999.00,9, -999.00,9
33RO200306_02,       A16N,     106,          2,         29,         29,2,20030727,       1542,    13.0000,   -29.0008,       5712,   125.0,  14.4282,  35.6267,2,  35.6210,2,     71.3,2,    75.9,2,    7.34,2,   23.74,2,    0.03,2,    1.46,2,   1.682,2,   0.939,2,   0.025,2,  2206.2,2,  2337.5,2,    917.5,2,    20.00,   7.6702,2,    25.00,-999.000,9,-999.000,9,-999.000,9, -999.00,9,  -999.0,9,  -999.0,-999.000,9,-999.000,-999.000,9, -999.00,9, -999.00,9,  125.00,-999.0000,9,-999.0000,9,-999.0000,9,-999.0000,9,-999.0000,9,-999.0000,9,  14.4097,     -999.0,9,       1.68,2,       0.09,2,       0.23,2,        106,-999.000,-999.000,-999.000,        0.0,2,     0.0,2,    0.78,2
33RO200306_02,       A16N,     106,          2,         28,         28,2,20030727,       1542,    13.0000,   -29.0008,       5712,   149.9,  13.2709,  35.4518,2,  35.4536,2,     74.9,2,    77.4,2,    8.49,2,   25.05,2,    0.01,2,    1.57,2,   1.558,2,   0.864,2,   0.018,2,  2209.8,2,  2328.9,2,    953.0,2,    20.00,   7.6397,2,    25.00,-999.000,9,-999.000,9,-999.000,9, -999.00,9,  -999.0,9,  -999.0,-999.000,9,-999.000,-999.000,9,   47.24,2,   28.77,2,  149.90,-999.0000,9,-999.0000,9,-999.0000,9,-999.0000,9,-999.0000,9,-999.0000,9,  13.2499,     -999.0,9,     -999.0,9,     -999.0,9,     -999.0,9,        106,-999.000,-999.000,-999.000,     -999.0,9, -999.00,9, -999.00,9
33RO200306_02,       A16N,     106,          2,         27,         27,2,20030727,       1542,    13.0000,   -29.0008,       5712,   175.4,  12.5344,  35.3421,2,  35.3338,2,     75.9,2,    77.9,2,    9.49,2,   26.17,2,    0.01,2,    1.65,2,   1.408,2,   0.770,2,   0.015,2,  2211.5,2,  2324.3,2,    998.7,2,    20.00,   7.6265,2,    25.00,-999.000,9,-999.000,9,-999.000,9, -999.00,9,  -999.0,9,  -999.0,-999.000,9,-999.000,-999.000,9, -999.00,9, -999.00,9,  175.40,-999.0000,9,-999.0000,9,-999.0000,9,-999.0000,9,-999.0000,9,-999.0000,9,  12.5108,     -999.0,9,       1.27,2,       0.00,2,       0.42,2,        106,-999.000,-999.000,-999.000,        0.0,2,    0.18,2,    0.59,2
33RO200306_02,       A16N,     106,          2,         26,         26,2,20030727,       1542,    13.0000,   -29.0008,       5712,   199.4,  12.1283,  35.2998,2,  35.2976,2,     79.8,2,    81.5,2,    9.91,2,   26.39,2,    0.01,2,    1.66,2,   1.346,2,   0.742,2,   0.014,2,  2204.7,3,  2322.5,2,    997.9,2,    20.00,   7.6250,2,    25.00,-999.000,9,-999.000,9,-999.000,9, -999.00,9,  -999.0,9,  -999.0,-999.000,9,-999.000,-999.000,9,   48.46,2,   31.68,2,  199.40,-999.0000,9,-999.0000,9,-999.0000,9,-999.0000,9,-999.0000,9,-999.0000,9,  12.1020,     -999.0,9,     -999.0,9,     -999.0,9,     -999.0,9,        106,-999.000,-999.000,-999.000,     -999.0,9, -999.00,9, -999.00,9
33RO200306_02,       A16N,     106,          2,         25,         25,2,20030727,       1542,    13.0000,   -29.0008,       5712,   249.9,  11.5022,  35.2253,2,  35.2248,2,     78.7,2,    76.9,2,   10.97,2,   27.73,2,    0.01,2,    1.74,2,   1.149,2,   0.625,2,   0.010,2,  -999.0,9,  2321.2,2,   1061.3,2,    20.00,   7.6008,2,    25.00,-999.000,9,-999.000,9,-999.000,9, -999.00,9,  -999.0,9,  -999.0,-999.000,9,-999.000,-999.000,9,   47.40,2,   30.78,2,  249.90,-999.0000,9,-999.0000,9,-999.0000,9,-999.0000,9,-999.0000,9,-999.0000,9,  11.4703,     -999.0,9,       0.89,2,       0.00,2,       0.09,2,        106,-999.000,-999.000,-999.000,      24.69,2,    1.04,2,    0.26,2
33RO200306_02,       A16N,     106,          2,         24,         24,2,20030727,       1542,    13.0000,   -29.0008,       5712,   298.8,  11.1329,  35.2034,2,  35.2016,2,     73.6,2,    75.5,2,   11.63,2,   28.68,2,    0.01,2,    1.78,2,   1.001,2,   0.549,2,   0.009,2,  2217.3,2,  2320.2,2,   1086.7,2,    20.00,   7.5834,2,    25.00,-999.000,9,-999.000,9,-999.000,9, -999.00,9,  -999.0,9,  -999.0,-999.000,9,-999.000,-999.000,9,   47.40,2,   33.85,2,  298.80,-999.0000,9,-999.0000,9,-999.0000,9,-999.0000,9,-999.0000,9,-999.0000,9,  11.0955,     -999.0,9,     -999.0,9,     -999.0,9,     -999.0,9,        106,-999.000,-999.000,-999.000,     -999.0,9, -999.00,9, -999.00,9
33RO200306_02,       A16N,     106,          2,         23,         23,2,20030727,       1542,    13.0000,   -29.0008,       5712,   347.5,  10.8333,  35.1909,2,  35.1887,2,     61.9,2,    64.6,2,   12.42,2,   30.33,2,    0.01,2,    1.86,2,   0.800,2,   0.438,2,   0.007,2,  2228.1,2,  2318.1,2,   -999.0,9,  -999.00,   7.5783,2,    25.00,-999.000,9,-999.000,9,-999.000,9, -999.00,9,  -999.0,9,  -999.0,-999.000,9,-999.000,-999.000,9,   45.67,2,   34.77,2,  347.50,-999.0000,9,-999.0000,9,-999.0000,9,-999.0000,9,-999.0000,9,-999.0000,9,  10.7905,     -999.0,9,       0.56,2,       0.00,2,       0.14,2,        106,-999.000,-999.000,-999.000,      10.91,2,    0.54,2,    0.07,2
33RO200306_02,       A16N,     106,          2,         22,         22,2,20030727,       1542,    13.0000,   -29.0008,       5712,   398.7,  10.4427,  35.1566,2,  35.1548,2,     60.4,2,    58.0,2,   13.38,2,   31.80,2,    0.01,2,    1.94,2,   0.610,2,   0.333,2,   0.002,2,  2227.7,2,  2316.6,2,   1231.9,2,    20.00,   7.5409,2,    25.00,-999.000,9,-999.000,9,-999.000,9, -999.00,9,  -999.0,9,  -999.0,-999.000,9,-999.000,-999.000,9,   45.29,2,   37.79,2,  398.70,-999.0000,9,-999.0000,9,-999.0000,9,-999.0000,9,-999.0000,9,-999.0000,9,  10.3946,     -999.0,9,     -999.0,9,     -999.0,9,     -999.0,9,        106,-999.000,-999.000,-999.000,     -999.0,9, -999.00,9, -999.00,9
33RO200306_02,       A16N,     106,          2,         21,         21,2,20030727,       1542,    13.0000,   -29.0008,       5712,   499.6,   9.5206,  35.0838,2,  35.0797,2,     63.3,2,    61.4,2,   15.66,2,   33.28,2,    0.01,2,    2.05,2,   0.331,2,   0.190,2,   0.005,2,  2230.3,2,  2314.3,2,   -999.0,9,  -999.00,   7.5222,2,    25.00,-999.000,9,-999.000,9,-999.000,9, -999.00,9,  -999.0,9,  -999.0,-999.000,9,-999.000,-999.000,9,   46.75,2,   38.83,2,  499.60,-999.0000,9,-999.0000,9,-999.0000,9,-999.0000,9,-999.0000,9,-999.0000,9,   9.4634,     -999.0,9,       0.13,2,       0.01,2,       0.13,2,        106,-999.000,-999.000,-999.000,      14.88,2,    0.36,2,    0.77,2
33RO200306_02,       A16N,     106,          2,         20,         20,2,20030727,       1542,    13.0000,   -29.0008,       5712,   597.4,   8.5824,  35.0047,2,  35.0016,2,     68.5,2,    68.2,2,   18.19,2,   34.45,2,    0.01,2,    2.17,2,   0.171,2,   0.099,2,   0.001,2,  2234.3,2,  2308.9,2,   1326.0,2,    20.00,   7.5191,2,    25.00,-999.000,9,-999.000,9,-999.000,9, -999.00,9,  -999.0,9,  -999.0,-999.000,9,-999.000,-999.000,9,   42.68,2,   39.80,2,  597.40,-999.0000,9,-999.0000,9,-999.0000,9,-999.0000,9,-999.0000,9,-999.0000,9,   8.5178,     -999.0,9,     -999.0,9,     -999.0,9,     -999.0,9,        106,-999.000,-999.000,-999.000,     -999.0,9, -999.00,9, -999.00,9
33RO200306_02,       A16N,     106,          2,         19,         19,2,20030727,       1542,    13.0000,   -29.0008,       5712,   699.6,   7.6450,  34.9242,2,  34.9225,2,     79.9,2,    79.6,2,   20.64,2,   34.80,2,    0.01,2,    2.22,2,   0.087,2,   0.050,2,   0.001,2,  2232.3,2,  2308.0,2,   1324.4,2,    20.00,   7.5170,2,    25.00,-999.000,9,-999.000,9,-999.000,9, -999.00,9,  -999.0,9,  -999.0,-999.000,9,-999.000,-999.000,9,   42.93,2,   39.66,2,  699.60,-999.0000,9,-999.0000,9,-999.0000,9,-999.0000,9,-999.0000,9,-999.0000,9,   7.5738,     -999.0,9,       0.01,2,       0.00,2,       0.13,2,        106,-999.000,-999.000,-999.000,      17.96,2,     0.4,2,     0.0,2
33RO200306_02,       A16N,     106,          2,         18,         18,2,20030727,       1542,    13.0000,   -29.0008,       5712,   848.4,   6.4752,  34.8548,2,  34.8535,2,    100.7,2,   100.8,2,   23.72,2,   34.15,2,    0.00,2,    2.23,2,   0.024,2,   0.018,2,   0.001,2,  2230.8,2,  2309.5,2,   1264.2,2,    20.00,   7.5315,2,    25.00,-999.000,9,-999.000,9,-999.000,9, -999.00,9,  -999.0,9,  -999.0,-999.000,9,-999.000,-999.000,9,   43.49,2,   39.00,2,  848.40,-999.0000,9,-999.0000,9,-999.0000,9,-999.0000,9,-999.0000,9,-999.0000,9,   6.3955,     -999.0,9,     -999.0,9,     -999.0,9,     -999.0,9,        106,-999.000,-999.000,-999.000,     -999.0,9, -999.00,9, -999.00,9
33RO200306_02,       A16N,     106,          2,         17,         17,2,20030727,       1542,    13.0000,   -29.0008,       5712,   998.8,   5.7940,  34.8897,2,  34.8883,2,    125.4,2,   127.5,2,   24.20,2,   31.54,2,    0.01,2,    2.10,2,   0.023,2,   0.007,2,   0.001,2,  2222.3,2,  2313.8,6,   1146.2,2,    20.00,   7.5749,6,    25.00,-999.000,9,-999.000,9,-999.000,9, -999.00,9,  -999.0,9,  -999.0,-999.000,9,-999.000,-999.000,9,   42.03,2,   36.48,2,  998.80,-999.0000,9,-999.0000,9,-999.0000,9,-999.0000,9,-999.0000,9,-999.0000,9,   5.7042,     -999.0,9,       0.00,2,       0.00,2,       0.12,2,        106,-999.000,-999.000,-999.000,      13.14,2,    0.33,2,     0.0,2
33RO200306_02,       A16N,     106,          2,         16,         16,2,20030727,       1542,    13.0000,   -29.0008,       5712,  1149.7,   5.2981,  34.9401,2,  34.9384,2,    151.1,2,   157.3,2,   23.40,2,   28.58,2,    0.00,2,    1.92,2,   0.011,2,   0.007,2,   0.002,2,  2208.4,2,  2318.3,2,   1018.4,2,    20.00,   7.6162,2,    25.00,-999.000,9,-999.000,9,-999.000,9, -999.00,9,  -999.0,9,  -999.0,-999.000,9,-999.000,-999.000,9,   40.81,2,   34.02,2, 1149.70,-999.0000,9,-999.0000,9,-999.0000,9,-999.0000,9,-999.0000,9,-999.0000,9,   5.1977,     -999.0,9,     -999.0,9,     -999.0,9,     -999.0,9,        106,-999.000,-999.000,-999.000,     -999.0,9, -999.00,9, -999.00,9
33RO200306_02,       A16N,     106,          2,         15,         15,2,20030727,       1542,    13.0000,   -29.0008,       5712,  1299.6,   4.7971,  34.9623,2,  34.9608,2,    180.1,2,   185.7,2,   21.51,2,   25.45,2,    0.00,2,    1.72,2,   0.013,2,   0.011,2,   0.001,2,  2192.7,2,  2318.3,2,    908.3,2,    20.00,   7.6565,2,    25.00,-999.000,9,-999.000,9,-999.000,9, -999.00,9,  -999.0,9,  -999.0,-999.000,9,-999.000,-999.000,9,   40.41,2,   29.92,2, 1299.60,-999.0000,9,-999.0000,9,-999.0000,9,-999.0000,9,-999.0000,9,-999.0000,9,   4.6871,     -999.0,9,       0.00,2,       0.00,2,       0.25,2,        106,-999.000,-999.000,-999.000,       1.31,2,     0.0,2,     0.0,2
33RO200306_02,       A16N,     106,          2,         14,         14,2,20030727,       1542,    13.0000,   -29.0008,       5712,  1598.2,   4.1188,  34.9807,2,  34.9814,2,    225.3,2,   225.2,2,   19.32,2,   21.66,2,    0.00,2,    1.47,2,   0.023,2,   0.014,2,   0.002,2,  2173.4,2,  2320.5,2,   -999.0,9,  -999.00,   7.7081,2,    25.00,-999.000,9,-999.000,9,-999.000,9, -999.00,9,  -999.0,9,  -999.0,-999.000,9,-999.000,-999.000,9,   41.79,2,   25.63,2, 1598.20,-999.0000,9,-999.0000,9,-999.0000,9,-999.0000,9,-999.0000,9,-999.0000,9,   3.9881,     -999.0,9,     -999.0,9,     -999.0,9,     -999.0,9,        106,-999.000,-999.000,-999.000,     -999.0,9, -999.00,9, -999.00,9
33RO200306_02,       A16N,     106,          2,         13,         13,2,20030727,       1542,    13.0000,   -29.0008,       5712,  1798.9,   3.8034,  34.9765,2,  34.9759,2,    235.6,2,  -999.0,1,   20.10,2,   20.87,2,    0.00,2,    1.43,2,-999.000,9,-999.000,9,-999.000,9,  2170.7,2,  2321.4,2,    775.9,2,    20.00,   7.7148,2,    25.00,-999.000,9,-999.000,9,-999.000,9, -999.00,9,  -999.0,9,  -999.0,-999.000,9,-999.000,-999.000,9,   42.03,2,   25.79,2, 1798.90,-999.0000,9,-999.0000,9,-999.0000,9,-999.0000,9,-999.0000,9,-999.0000,9,   3.6579,     -999.0,9,     -999.0,9,     -999.0,9,     -999.0,9,        106,-999.000,-999.000,-999.000,     -999.0,9, -999.00,9, -999.00,9
33RO200306_02,       A16N,     106,          2,         12,         12,2,20030727,       1542,    13.0000,   -29.0008,       5712,  1999.1,   3.5462,  34.9698,2,  34.9690,2,    242.7,2,   236.8,2,   21.76,2,   20.55,2,    0.00,2,    1.41,2,   0.010,2,   0.003,2,   0.001,2,  2168.1,2,  2322.2,2,   -999.0,9,  -999.00,   7.7244,2,    25.00,-999.000,9,-999.000,9,-999.000,9, -999.00,9,  -999.0,9,  -999.0,-999.000,9,-999.000,-999.000,9,   42.52,2,   24.87,2, 1999.10,-999.0000,9,-999.0000,9,-999.0000,9,-999.0000,9,-999.0000,9,-999.0000,9,   3.3855,     -999.0,9,       0.00,2,       0.00,2,       0.11,2,        106,-999.000,-999.000,-999.000,       6.11,2,     0.0,2,     0.0,2
33RO200306_02,       A16N,     106,          2,         11,         11,2,20030727,       1542,    13.0000,   -29.0008,       5712,  2200.4,   3.3144,  34.9615,2,  34.9609,2,    242.3,2,   234.9,2,   24.88,2,   20.78,2,    0.00,2,    1.42,2,-999.000,9,-999.000,9,-999.000,9,  2170.6,2,  2327.8,2,    752.5,2,    20.00,   7.7264,2,    25.00,-999.000,9,-999.000,9,-999.000,9, -999.00,9,  -999.0,9,  -999.0,-999.000,9,-999.000,-999.000,9,   40.90,2,   25.55,2, 2200.40,-999.0000,9,-999.0000,9,-999.0000,9,-999.0000,9,-999.0000,9,-999.0000,9,   3.1381,     -999.0,9,     -999.0,9,     -999.0,9,     -999.0,9,        106,-999.000,-999.000,-999.000,     -999.0,9, -999.00,9, -999.00,9
33RO200306_02,       A16N,     106,          2,         10,         10,2,20030727,       1542,    13.0000,   -29.0008,       5712,  2500.2,   3.0737,  34.9509,2,  34.9502,2,    242.5,2,   239.6,2,   28.89,2,   20.94,2,    0.00,2,    1.44,2,   0.002,2,   0.005,2,   0.001,2,  2174.1,2,  2333.1,2,   -999.0,9,  -999.00,   7.7258,2,    25.00,-999.000,9,-999.000,9,-999.000,9, -999.00,9,  -999.0,9,  -999.0,-999.000,9,-999.000,-999.000,9,   40.49,2,   25.45,2, 2500.20,-999.0000,9,-999.0000,9,-999.0000,9,-999.0000,9,-999.0000,9,-999.0000,9,   2.8724,     -999.0,9,     -999.0,9,     -999.0,9,     -999.0,9,        106,-999.000,-999.000,-999.000,     -999.0,9, -999.00,9, -999.00,9
33RO200306_02,       A16N,     106,          2,          9,          9,2,20030727,       1542,    13.0000,   -29.0008,       5712,  2798.8,   2.8626,  34.9389,2,  34.9378,2,    245.8,2,   244.5,2,   31.52,2,   20.80,2,    0.01,2,    1.43,2,-999.000,9,-999.000,9,-999.000,9,  2177.6,2,  2336.1,2,    757.5,6,    20.00,   7.7276,2,    25.00,-999.000,9,-999.000,9,-999.000,9, -999.00,9,  -999.0,9,  -999.0,-999.000,9,-999.000,-999.000,9,   41.63,2,   24.35,2, 2798.80,-999.0000,9,-999.0000,9,-999.0000,9,-999.0000,9,-999.0000,9,-999.0000,9,   2.6355,     -999.0,9,       0.00,2,       0.00,2,       0.08,2,        106,-999.000,-999.000,-999.000,       13.3,2,    0.43,2,     0.0,2
33RO200306_02,       A16N,     106,          2,          8,          8,2,20030727,       1542,    13.0000,   -29.0008,       5712,  3199.0,   2.6561,  34.9244,2,  34.9232,2,    247.3,2,   246.9,2,   35.42,2,   20.97,2,    0.00,2,    1.45,2,   0.003,2,   0.004,2,   0.003,2,  2181.0,2,  2339.9,2,   -999.0,9,  -999.00,   7.7228,2,    25.00,-999.000,9,-999.000,9,-999.000,9, -999.00,9,  -999.0,9,  -999.0,-999.000,9,-999.000,-999.000,9,   41.71,2,   25.41,2, 3199.00,-999.0000,9,-999.0000,9,-999.0000,9,-999.0000,9,-999.0000,9,-999.0000,9,   2.3921,     -999.0,9,     -999.0,9,     -999.0,9,     -999.0,9,        106,-999.000,-999.000,-999.000,     -999.0,9, -999.00,9, -999.00,9