BOTTLE,20230908CCHSIOCBG
EXPOCODE,SECT_ID,STNNBR,CASTNO,SAMPNO,BTLNBR,BTLNBR_FLAG_W,DATE,TIME,LATITUDE,LONGITUDE,DEPTH,CTDPRS,CTDTMP,CTDSAL,CTDSAL_FLAG_W,SALNTY,SALNTY_FLAG_W,CTDOXY,CTDOXY_FLAG_W,OXYGEN,OXYGEN_FLAG_W,SILCAT,SILCAT_FLAG_W,NITRAT,NITRAT_FLAG_W,NITRIT,NITRIT_FLAG_W,PHSPHT,PHSPHT_FLAG_W,CFC-11,CFC-11_FLAG_W,CFC-12,CFC-12_FLAG_W,CFC113,CFC113_FLAG_W,TCARBN,TCARBN_FLAG_W,ALKALI,ALKALI_FLAG_W,FCO2,FCO2_FLAG_W,FCO2TMP,PH_SWS,PH_SWS_FLAG_W,PH_TMP,TRITUM,TRITUM_FLAG_W,HELIUM,HELIUM_FLAG_W,DELHE3,DELHE3_FLAG_W,DELC13,DELC13_FLAG_W,DELC14,DELC14_FLAG_W,C14ERR,NEON,NEON_FLAG_W,NEONER,POC,POC_FLAG_W,DOC,DOC_FLAG_W,TDN,TDN_FLAG_W,CTDRAW,CDOM325,CDOM325_FLAG_W,CDOM340,CDOM340_FLAG_W,CDOM380,CDOM380_FLAG_W,CDOM412,CDOM412_FLAG_W,CDOMSL,CDOMSL_FLAG_W,CDOMSN,CDOMSN_FLAG_W,THETA,PON,PON_FLAG_W,HCFC-22,HCFC-22_FLAG_W,HCFC-142b,HCFC-142b_FLAG_W,HCFC-141b,HCFC-141b_FLAG_W,STNNBR_U,HELIER,DELHER,TRITER,CH3CL,CH3CL_FLAG_W,CH3BR,CH3BR_FLAG_W,CH3I,CH3I_FLAG_W
,,,,,,,,,,,METERS,DBAR,ITS-90,PSS-78,,PSS-78,,UMOL/KG,,UMOL/KG,,UMOL/KG,,UMOL/KG,,UMOL/KG,,UMOL/KG,,PMOL/KG,,PMOL/KG,,PMOL/KG,,UMOL/KG,,UMOL/KG,,UATM,,DEG C,,,DEG C,TU,,NMOL/KG,,PERCNT,,/MILLE,,/MILLE,,/MILLE,NMOL/KG,,NMOL/KG,UG/KG,,UMOL/KG,,UMOL/KG,,DBAR,1/M,,1/M,,1/M,,1/M,,1/NM,,1/NM,,DEG C,UMOL/L,,PMOL/KG,,PMOL/KG,,PMOL/KG,,,NMOL/KG,PERCNT,TU,PMOL/KG,,PMOL/KG,,PMOL/KG,
33RO200306_01,       A16N,     010,          1,         32,         32,2,20030621,       1652,    60.5007,   -20.0000,       2528,     1.9,  11.7690,  35.2501,2,  35.2530,2,    299.3,2,   298.3,2,    0.07,2,    2.68,2,    0.07,2,    0.22,2,-999.000,9,-999.000,9,-999.000,9,  2064.4,6,  2327.8,2,    403.7,2,    20.00,   7.9574,2,    25.00,-999.000,9,-999.000,9,-999.000,9, -999.00,9,  -999.0,9,  -999.0,-999.000,9,-999.000,  17.964,2, -999.00,9, -999.00,9,    1.90,-999.0000,9,-999.0000,9,-999.0000,9,-999.0000,9,-999.0000,9,-999.0000,9,  11.7688,      1.770,2,     -999.0,9,     -999.0,9,     -999.0,9,         10,-999.000,-999.000,-999.000,     -999.0,9, -999.00,9, -999.00,9
33RO200306_01,       A16N,     010,          1,         31,         31,2,20030621,       1652,    60.5007,   -20.0000,       2528,    19.8,  11.3919,  35.2626,2,  35.2664,2,    296.0,2,   293.1,2,    0.06,2,    2.95,2,    0.07,2,    0.24,2,-999.000,9,-999.000,9,-999.000,9,  -999.0,9,  -999.0,9,    409.0,6,    20.00,-999.0000,9,  -999.00,-999.000,9,-999.000,9,-999.000,9, -999.00,9,  -999.0,9,  -999.0,-999.000,9,-999.000,  16.442,2, -999.00,9, -999.00,9,   19.80,-999.0000,9,-999.0000,9,-999.0000,9,-999.0000,9,-999.0000,9,-999.0000,9,  11.3894,      1.439,2,     -999.0,9,     -999.0,9,     -999.0,9,         10,-999.000,-999.000,-999.000,     -999.0,9, -999.00,9, -999.00,9
33RO200306_01,       A16N,     010,          1,         30,         30,2,20030621,       1652,    60.5007,   -20.0000,       2528,    39.9,   9.8908,  35.3198,2,  35.3203,2,    279.8,2,   277.2,2,    0.85,2,    7.63,2,    0.15,2,    0.59,2,-999.000,9,-999.000,9,-999.000,9,  -999.0,9,  -999.0,9,   -999.0,9,  -999.00,-999.0000,9,  -999.00,-999.000,9,-999.000,9,-999.000,9, -999.00,9,  -999.0,9,  -999.0,-999.000,9,-999.000,-999.000,9, -999.00,9, -999.00,9,   39.90,-999.0000,9,-999.0000,9,-999.0000,9,-999.0000,9,-999.0000,9,-999.0000,9,   9.8862,     -999.0,9,     -999.0,9,     -999.0,9,     -999.0,9,         10,-999.000,-999.000,-999.000,     -999.0,9, -999.00,9, -999.00,9
33RO200306_01,       A16N,     010,          1,         29,         29,2,20030621,       1652,    60.5007,   -20.0000,       2528,    59.4,   9.7757,  35.3194,2,  35.3169,2,    277.4,2,   277.0,2,    1.58,2,    8.13,2,    0.16,2,    0.61,2,-999.000,9,-999.000,9,-999.000,9,  -999.0,9,  -999.0,9,   -999.0,9,  -999.00,-999.0000,9,  -999.00,-999.000,9,-999.000,9,-999.000,9, -999.00,9,  -999.0,9,  -999.0,-999.000,9,-999.000,-999.000,9, -999.00,9, -999.00,9,   59.40,-999.0000,9,-999.0000,9,-999.0000,9,-999.0000,9,-999.0000,9,-999.0000,9,   9.7689,     -999.0,9,     -999.0,9,     -999.0,9,     -999.0,9,         10,-999.000,-999.000,-999.000,     -999.0,9, -999.00,9, -999.00,9
33RO200306_01,       A16N,     010,          1,         28,         28,2,20030621,       1652,    60.5007,   -20.0000,       2528,    81.1,   9.4534,  35.2890,2,  35.2903,2,    275.2,2,   277.2,2,    2.37,2,    9.03,2,    0.20,2,    0.67,2,-999.000,9,-999.000,9,-999.000,9,  -999.0,9,  -999.0,9,   -999.0,9,  -999.00,-999.0000,9,  -999.00,-999.000,9,-999.000,9,-999.000,9, -999.00,9,  -999.0,9,  -999.0,-999.000,9,-999.000,-999.000,9, -999.00,9, -999.00,9,   81.10,-999.0000,9,-999.0000,9,-999.0000,9,-999.0000,9,-999.0000,9,-999.0000,9,   9.4443,     -999.0,9,     -999.0,9,     -999.0,9,     -999.0,9,         10,-999.000,-999.000,-999.000,     -999.0,9, -999.00,9, -999.00,9
33RO200306_01,       A16N,     010,          1,         27,         27,2,20030621,       1652,    60.5007,   -20.0000,       2528,    99.9,   9.3080,  35.2819,2,  35.2825,2,    275.8,2,   274.1,2,    3.16,2,    9.91,2,    0.29,2,    0.70,2,-999.000,9,-999.000,9,-999.000,9,  -999.0,9,  -999.0,9,   -999.0,9,  -999.00,-999.0000,9,  -999.00,-999.000,9,-999.000,9,-999.000,9, -999.00,9,  -999.0,9,  -999.0,-999.000,9,-999.000,-999.000,9, -999.00,9, -999.00,9,   99.90,-999.0000,9,-999.0000,9,-999.0000,9,-999.0000,9,-999.0000,9,-999.0000,9,   9.2969,     -999.0,9,     -999.0,9,     -999.0,9,     -999.0,9,         10,-999.000,-999.000,-999.000,     -999.0,9, -999.00,9, -999.00,9
33RO200306_01,       A16N,     010,          1,         26,         26,2,20030621,       1652,    60.5007,   -20.0000,       2528,   125.2,   9.2278,  35.2808,2,  35.2816,2,    274.8,2,   274.3,2,    3.79,2,   10.58,2,    0.38,2,    0.72,2,-999.000,9,-999.000,9,-999.000,9,  -999.0,9,  -999.0,9,   -999.0,9,  -999.00,-999.0000,9,  -999.00,-999.000,9,-999.000,9,-999.000,9, -999.00,9,  -999.0,9,  -999.0,-999.000,9,-999.000,-999.000,9, -999.00,9, -999.00,9,  125.20,-999.0000,9,-999.0000,9,-999.0000,9,-999.0000,9,-999.0000,9,-999.0000,9,   9.2140,     -999.0,9,     -999.0,9,     -999.0,9,     -999.0,9,         10,-999.000,-999.000,-999.000,     -999.0,9, -999.00,9, -999.00,9
33RO200306_01,       A16N,     010,          1,         25,         25,2,20030621,       1652,    60.5007,   -20.0000,       2528,   149.4,   9.1182,  35.2681,2,  35.2704,2,    269.6,2,   277.0,2,    4.12,2,   11.11,2,    0.38,2,    0.74,2,-999.000,9,-999.000,9,-999.000,9,  -999.0,9,  -999.0,9,   -999.0,9,  -999.00,-999.0000,9,  -999.00,-999.000,9,-999.000,9,-999.000,9, -999.00,9,  -999.0,9,  -999.0,-999.000,9,-999.000,-999.000,9, -999.00,9, -999.00,9,  149.40,-999.0000,9,-999.0000,9,-999.0000,9,-999.0000,9,-999.0000,9,-999.0000,9,   9.1018,     -999.0,9,     -999.0,9,     -999.0,9,     -999.0,9,         10,-999.000,-999.000,-999.000,     -999.0,9, -999.00,9, -999.00,9
33RO200306_01,       A16N,     010,          1,         24,         24,2,20030621,       1652,    60.5007,   -20.0000,       2528,   174.6,   9.0872,  35.2717,2,  35.2725,2,    268.9,2,   271.8,2,    4.45,2,   11.62,2,    0.30,2,    0.75,2,-999.000,9,-999.000,9,-999.000,9,  -999.0,9,  -999.0,9,   -999.0,9,  -999.00,-999.0000,9,  -999.00,-999.000,9,-999.000,9,-999.000,9, -999.00,9,  -999.0,9,  -999.0,-999.000,9,-999.000,-999.000,9, -999.00,9, -999.00,9,  174.60,-999.0000,9,-999.0000,9,-999.0000,9,-999.0000,9,-999.0000,9,-999.0000,9,   9.0681,     -999.0,9,     -999.0,9,     -999.0,9,     -999.0,9,         10,-999.000,-999.000,-999.000,     -999.0,9, -999.00,9, -999.00,9
33RO200306_01,       A16N,     010,          1,         23,         23,2,20030621,       1652,    60.5007,   -20.0000,       2528,   200.5,   9.0000,  35.2627,2,  35.2647,2,    268.4,2,   268.7,2,    4.84,2,   12.11,2,    0.22,2,    0.77,2,-999.000,9,-999.000,9,-999.000,9,  -999.0,9,  -999.0,9,   -999.0,9,  -999.00,-999.0000,9,  -999.00,-999.000,9,-999.000,9,-999.000,9, -999.00,9,  -999.0,9,  -999.0,-999.000,9,-999.000,-999.000,9, -999.00,9, -999.00,9,  200.50,-999.0000,9,-999.0000,9,-999.0000,9,-999.0000,9,-999.0000,9,-999.0000,9,   8.9781,     -999.0,9,     -999.0,9,     -999.0,9,     -999.0,9,         10,-999.000,-999.000,-999.000,     -999.0,9, -999.00,9, -999.00,9
33RO200306_01,       A16N,     010,          1,         22,         22,2,20030621,       1652,    60.5007,   -20.0000,       2528,   250.5,   8.8105,  35.2469,2,  35.2450,2,    264.1,2,   260.7,2,    5.98,2,   13.24,2,    0.01,2,    0.84,2,-999.000,9,-999.000,9,-999.000,9,  -999.0,9,  -999.0,9,   -999.0,9,  -999.00,-999.0000,9,  -999.00,-999.000,9,-999.000,9,-999.000,9, -999.00,9,  -999.0,9,  -999.0,-999.000,9,-999.000,-999.000,9, -999.00,9, -999.00,9,  250.50,-999.0000,9,-999.0000,9,-999.0000,9,-999.0000,9,-999.0000,9,-999.0000,9,   8.7834,     -999.0,9,     -999.0,9,     -999.0,9,     -999.0,9,         10,-999.000,-999.000,-999.000,     -999.0,9, -999.00,9, -999.00,9
33RO200306_01,       A16N,     010,          1,         21,         21,2,20030621,       1652,    60.5007,   -20.0000,       2528,   300.6,   8.7202,  35.2458,2,  35.2469,2,    265.5,2,   262.8,2,    6.09,2,   13.35,2,    0.01,2,    0.84,2,-999.000,9,-999.000,9,-999.000,9,  -999.0,9,  -999.0,9,   -999.0,9,  -999.00,-999.0000,9,  -999.00,-999.000,9,-999.000,9,-999.000,9, -999.00,9,  -999.0,9,  -999.0,-999.000,9,-999.000,-999.000,9, -999.00,9, -999.00,9,  300.60,-999.0000,9,-999.0000,9,-999.0000,9,-999.0000,9,-999.0000,9,-999.0000,9,   8.6878,     -999.0,9,     -999.0,9,     -999.0,9,     -999.0,9,         10,-999.000,-999.000,-999.000,     -999.0,9, -999.00,9, -999.00,9
33RO200306_01,       A16N,     010,          1,         20,         20,2,20030621,       1652,    60.5007,   -20.0000,       2528,   350.7,   8.6322,  35.2437,2,  35.2444,2,    266.4,2,   266.5,2,    5.91,2,   13.24,2,    0.01,2,    0.83,2,-999.000,9,-999.000,9,-999.000,9,  -999.0,9,  -999.0,9,   -999.0,9,  -999.00,-999.0000,9,  -999.00,-999.000,9,-999.000,9,-999.000,9, -999.00,9,  -999.0,9,  -999.0,-999.000,9,-999.000,-999.000,9, -999.00,9, -999.00,9,  350.70,-999.0000,9,-999.0000,9,-999.0000,9,-999.0000,9,-999.0000,9,-999.0000,9,   8.5946,     -999.0,9,     -999.0,9,     -999.0,9,     -999.0,9,         10,-999.000,-999.000,-999.000,     -999.0,9, -999.00,9, -999.00,9
33RO200306_01,       A16N,     010,          1,         19,         19,2,20030621,       1652,    60.5007,   -20.0000,       2528,   399.4,   8.4996,  35.2265,2,  35.2268,2,    266.1,2,   265.6,2,    6.24,2,   13.57,2,    0.01,2,    0.86,2,-999.000,9,-999.000,9,-999.000,9,  -999.0,9,  -999.0,9,   -999.0,9,  -999.00,-999.0000,9,  -999.00,-999.000,9,-999.000,9,-999.000,9, -999.00,9,  -999.0,9,  -999.0,-999.000,9,-999.000,-999.000,9, -999.00,9, -999.00,9,  399.40,-999.0000,9,-999.0000,9,-999.0000,9,-999.0000,9,-999.0000,9,-999.0000,9,   8.4570,     -999.0,9,     -999.0,9,     -999.0,9,     -999.0,9,         10,-999.000,-999.000,-999.000,     -999.0,9, -999.00,9, -999.00,9
33RO200306_01,       A16N,     010,          1,         18,         18,2,20030621,       1652,    60.5007,   -20.0000,       2528,   451.4,   8.4035,  35.2279,2,  35.2305,2,    259.3,2,   252.6,2,    7.09,2,   14.53,2,    0.01,2,    0.91,2,-999.000,9,-999.000,9,-999.000,9,  -999.0,9,  -999.0,9,   -999.0,9,  -999.00,-999.0000,9,  -999.00,-999.000,9,-999.000,9,-999.000,9, -999.00,9,  -999.0,9,  -999.0,-999.000,9,-999.000,-999.000,9, -999.00,9, -999.00,9,  451.40,-999.0000,9,-999.0000,9,-999.0000,9,-999.0000,9,-999.0000,9,-999.0000,9,   8.3555,     -999.0,9,     -999.0,9,     -999.0,9,     -999.0,9,         10,-999.000,-999.000,-999.000,     -999.0,9, -999.00,9, -999.00,9
33RO200306_01,       A16N,     010,          1,         17,         17,2,20030621,       1652,    60.5007,   -20.0000,       2528,   501.0,   8.2325,  35.2117,2,  35.2134,2,    246.5,2,   253.7,2,    7.08,2,   14.56,2,    0.01,2,    0.92,2,-999.000,9,-999.000,9,-999.000,9,  -999.0,9,  -999.0,9,   -999.0,9,  -999.00,-999.0000,9,  -999.00,-999.000,9,-999.000,9,-999.000,9, -999.00,9,  -999.0,9,  -999.0,-999.000,9,-999.000,-999.000,9, -999.00,9, -999.00,9,  501.00,-999.0000,9,-999.0000,9,-999.0000,9,-999.0000,9,-999.0000,9,-999.0000,9,   8.1798,     -999.0,9,     -999.0,9,     -999.0,9,     -999.0,9,         10,-999.000,-999.000,-999.000,     -999.0,9, -999.00,9, -999.00,9
33RO200306_01,       A16N,     010,          1,         16,         16,2,20030621,       1652,    60.5007,   -20.0000,       2528,   599.7,   7.9031,  35.1930,2,  35.1949,2,    240.3,2,   248.6,2,    8.15,2,   15.75,2,    0.01,2,    1.00,2,-999.000,9,-999.000,9,-999.000,9,  -999.0,9,  -999.0,9,   -999.0,9,  -999.00,-999.0000,9,  -999.00,-999.000,9,-999.000,9,-999.000,9, -999.00,9,  -999.0,9,  -999.0,-999.000,9,-999.000,-999.000,9, -999.00,9, -999.00,9,  599.70,-999.0000,9,-999.0000,9,-999.0000,9,-999.0000,9,-999.0000,9,-999.0000,9,   7.8411,     -999.0,9,     -999.0,9,     -999.0,9,     -999.0,9,         10,-999.000,-999.000,-999.000,     -999.0,9, -999.00,9, -999.00,9
33RO200306_01,       A16N,     010,          1,         15,         15,2,20030621,       1652,    60.5007,   -20.0000,       2528,   700.0,   7.4197,  35.1585,2,  35.1568,2,    236.2,2,   232.7,2,    9.22,2,   16.85,2,    0.01,2,    1.06,2,-999.000,9,-999.000,9,-999.000,9,  -999.0,9,  -999.0,9,   -999.0,9,  -999.00,-999.0000,9,  -999.00,-999.000,9,-999.000,9,-999.000,9, -999.00,9,  -999.0,9,  -999.0,-999.000,9,-999.000,-999.000,9, -999.00,9, -999.00,9,  700.00,-999.0000,9,-999.0000,9,-999.0000,9,-999.0000,9,-999.0000,9,-999.0000,9,   7.3494,     -999.0,9,     -999.0,9,     -999.0,9,     -999.0,9,         10,-999.000,-999.000,-999.000,     -999.0,9, -999.00,9, -999.00,9
33RO200306_01,       A16N,     010,          1,         14,         14,2,20030621,       1652,    60.5007,   -20.0000,       2528,   800.2,   6.7429,  35.1239,2,  35.1230,2,    219.0,2,   217.1,2,   10.94,2,   18.43,2,    0.00,2,    1.16,2,-999.000,9,-999.000,9,-999.000,9,  -999.0,9,  -999.0,9,   -999.0,9,  -999.00,-999.0000,9,  -999.00,-999.000,9,-999.000,9,-999.000,9, -999.00,9,  -999.0,9,  -999.0,-999.000,9,-999.000,-999.000,9, -999.00,9, -999.00,9,  800.20,-999.0000,9,-999.0000,9,-999.0000,9,-999.0000,9,-999.0000,9,-999.0000,9,   6.6661,     -999.0,9,     -999.0,9,     -999.0,9,     -999.0,9,         10,-999.000,-999.000,-999.000,     -999.0,9, -999.00,9, -999.00,9
33RO200306_01,       A16N,     010,          1,         13,         13,2,20030621,       1652,    60.5007,   -20.0000,       2528,   900.1,   6.1428,  35.0936,2,  35.0922,2,    223.8,2,   223.0,2,   11.27,2,   18.56,2,    0.00,2,    1.17,2,-999.000,9,-999.000,9,-999.000,9,  -999.0,9,  -999.0,9,   -999.0,9,  -999.00,-999.0000,9,  -999.00,-999.000,9,-999.000,9,-999.000,9, -999.00,9,  -999.0,9,  -999.0,-999.000,9,-999.000,-999.000,9, -999.00,9, -999.00,9,  900.10,-999.0000,9,-999.0000,9,-999.0000,9,-999.0000,9,-999.0000,9,-999.0000,9,   6.0598,     -999.0,9,     -999.0,9,     -999.0,9,     -999.0,9,         10,-999.000,-999.000,-999.000,     -999.0,9, -999.00,9, -999.00,9
33RO200306_01,       A16N,     010,          1,         12,         12,2,20030621,       1652,    60.5007,   -20.0000,       2528,  1000.9,   5.4443,  35.0449,2,  35.0432,2,    234.7,2,   234.0,2,   11.39,2,   18.44,2,    0.00,2,    1.16,2,-999.000,9,-999.000,9,-999.000,9,  -999.0,9,  -999.0,9,   -999.0,9,  -999.00,-999.0000,9,  -999.00,-999.000,9,-999.000,9,-999.000,9, -999.00,9,  -999.0,9,  -999.0,-999.000,9,-999.000,-999.000,9, -999.00,9, -999.00,9, 1000.90,-999.0000,9,-999.0000,9,-999.0000,9,-999.0000,9,-999.0000,9,-999.0000,9,   5.3567,     -999.0,9,     -999.0,9,     -999.0,9,     -999.0,9,         10,-999.000,-999.000,-999.000,     -999.0,9, -999.00,9, -999.00,9
33RO200306_01,       A16N,     010,          1,         11,         11,2,20030621,       1652,    60.5007,   -20.0000,       2528,  1101.1,   4.8895,  34.9973,2,  34.9988,2,    248.4,2,   246.2,2,   11.04,2,   18.04,2,    0.00,2,    1.14,2,-999.000,9,-999.000,9,-999.000,9,  -999.0,9,  -999.0,9,   -999.0,9,  -999.00,-999.0000,9,  -999.00,-999.000,9,-999.000,9,-999.000,9, -999.00,9,  -999.0,9,  -999.0,-999.000,9,-999.000,-999.000,9, -999.00,9, -999.00,9, 1101.10,-999.0000,9,-999.0000,9,-999.0000,9,-999.0000,9,-999.0000,9,-999.0000,9,   4.7970,     -999.0,9,     -999.0,9,     -999.0,9,     -999.0,9,         10,-999.000,-999.000,-999.000,     -999.0,9, -999.00,9, -999.00,9
33RO200306_01,       A16N,     010,          1,         10,         10,2,20030621,       1652,    60.5007,   -20.0000,       2528,  1200.1,   4.4922,  34.9662,2,  34.9647,2,    256.5,2,   279.1,3,   11.03,2,   17.86,2,    0.00,2,    1.13,2,-999.000,9,-999.000,9,-999.000,9,  -999.0,9,  -999.0,9,   -999.0,9,  -999.00,-999.0000,9,  -999.00,-999.000,9,-999.000,9,-999.000,9, -999.00,9,  -999.0,9,  -999.0,-999.000,9,-999.000,-999.000,9, -999.00,9, -999.00,9, 1200.10,-999.0000,9,-999.0000,9,-999.0000,9,-999.0000,9,-999.0000,9,-999.0000,9,   4.3942,     -999.0,9,     -999.0,9,     -999.0,9,     -999.0,9,         10,-999.000,-999.000,-999.000,     -999.0,9, -999.00,9, -999.00,9
33RO200306_01,       A16N,     010,          1,          9,          9,2,20030621,       1652,    60.5007,   -20.0000,       2528,  1301.5,   4.1801,  34.9453,2,  34.9454,2,    263.5,2,   265.2,2,   11.08,2,   17.64,2,    0.00,2,    1.11,2,   3.085,2,   1.498,2,   0.185,2,  -999.0,9,  -999.0,9,   -999.0,9,  -999.00,-999.0000,9,  -999.00,-999.000,9,-999.000,9,-999.000,9, -999.00,9,  -999.0,9,  -999.0,-999.000,9,-999.000,-999.000,9, -999.00,9, -999.00,9, 1301.50,-999.0000,9,-999.0000,9,-999.0000,9,-999.0000,9,-999.0000,9,-999.0000,9,   4.0760,     -999.0,9,     -999.0,9,     -999.0,9,     -999.0,9,         10,-999.000,-999.000,-999.000,     -999.0,9, -999.00,9, -999.00,9
33RO200306_01,       A16N,     010,          1,          8,          8,2,20030621,       1652,    60.5007,   -20.0000,       2528,  1400.7,   3.9196,  34.9245,2,  34.9238,2,    270.1,2,   270.2,2,   11.07,2,   17.44,2,    0.00,2,    1.11,2,-999.000,9,-999.000,9,-999.000,9,  -999.0,9,  -999.0,9,   -999.0,9,  -999.00,-999.0000,9,  -999.00,-999.000,9,-999.000,9,-999.000,9, -999.00,9,  -999.0,9,  -999.0,-999.000,9,-999.000,-999.000,9, -999.00,9, -999.00,9, 1400.70,-999.0000,9,-999.0000,9,-999.0000,9,-999.0000,9,-999.0000,9,-999.0000,9,   3.8093,     -999.0,9,     -999.0,9,     -999.0,9,     -999.0,9,         10,-999.000,-999.000,-999.000,     -999.0,9, -999.00,9, -999.00,9
33RO200306_01,       A16N,     010,          1,          7,          7,2,20030621,       1652,    60.5007,   -20.0000,       2528,  1501.1,   3.8565,  34.9305,2,  34.9295,2,    272.1,2,   270.4,2,   11.18,2,   17.25,2,    0.00,2,    1.10,2,   3.019,6,   1.455,6,   0.179,6,  -999.0,9,  -999.0,9,   -999.0,9,  -999.00,-999.0000,9,  -999.00,-999.000,9,-999.000,9,-999.000,9, -999.00,9,  -999.0,9,  -999.0,-999.000,9,-999.000,-999.000,9, -999.00,9, -999.00,9, 1501.10,-999.0000,9,-999.0000,9,-999.0000,9,-999.0000,9,-999.0000,9,-999.0000,9,   3.7379,     -999.0,9,     -999.0,9,     -999.0,9,     -999.0,9,         10,-999.000,-999.000,-999.000,     -999.0,9, -999.00,9, -999.00,9
33RO200306_01,       A16N,     010,          1,          6,          6,2,20030621,       1652,    60.5007,   -20.0000,       2528,  1700.9,   3.6127,  34.9216,2,  34.9222,2,    278.7,2,   278.8,2,   11.06,2,   16.88,2,    0.00,2,    1.08,2,-999.000,9,-999.000,9,-999.000,9,  -999.0,9,  -999.0,9,   -999.0,9,  -999.00,-999.0000,9,  -999.00,-999.000,9,-999.000,9,-999.000,9, -999.00,9,  -999.0,9,  -999.0,-999.000,9,-999.000,-999.000,9, -999.00,9, -999.00,9, 1700.90,-999.0000,9,-999.0000,9,-999.0000,9,-999.0000,9,-999.0000,9,-999.0000,9,   3.4790,     -999.0,9,     -999.0,9,     -999.0,9,     -999.0,9,         10,-999.000,-999.000,-999.000,     -999.0,9, -999.00,9, -999.00,9