BOTTLE,20230908CCHSIOCBG
EXPOCODE,SECT_ID,STNNBR,CASTNO,SAMPNO,BTLNBR,BTLNBR_FLAG_W,DATE,TIME,LATITUDE,LONGITUDE,DEPTH,CTDPRS,CTDTMP,CTDSAL,CTDSAL_FLAG_W,SALNTY,SALNTY_FLAG_W,CTDOXY,CTDOXY_FLAG_W,OXYGEN,OXYGEN_FLAG_W,SILCAT,SILCAT_FLAG_W,NITRAT,NITRAT_FLAG_W,NITRIT,NITRIT_FLAG_W,PHSPHT,PHSPHT_FLAG_W,CFC-11,CFC-11_FLAG_W,CFC-12,CFC-12_FLAG_W,CFC113,CFC113_FLAG_W,TCARBN,TCARBN_FLAG_W,ALKALI,ALKALI_FLAG_W,FCO2,FCO2_FLAG_W,FCO2TMP,PH_SWS,PH_SWS_FLAG_W,PH_TMP,TRITUM,TRITUM_FLAG_W,HELIUM,HELIUM_FLAG_W,DELHE3,DELHE3_FLAG_W,DELC13,DELC13_FLAG_W,DELC14,DELC14_FLAG_W,C14ERR,NEON,NEON_FLAG_W,NEONER,POC,POC_FLAG_W,DOC,DOC_FLAG_W,TDN,TDN_FLAG_W,CTDRAW,CDOM325,CDOM325_FLAG_W,CDOM340,CDOM340_FLAG_W,CDOM380,CDOM380_FLAG_W,CDOM412,CDOM412_FLAG_W,CDOMSL,CDOMSL_FLAG_W,CDOMSN,CDOMSN_FLAG_W,THETA,PON,PON_FLAG_W,HCFC-22,HCFC-22_FLAG_W,HCFC-142b,HCFC-142b_FLAG_W,HCFC-141b,HCFC-141b_FLAG_W,STNNBR_U,HELIER,DELHER,TRITER,CH3CL,CH3CL_FLAG_W,CH3BR,CH3BR_FLAG_W,CH3I,CH3I_FLAG_W
,,,,,,,,,,,METERS,DBAR,ITS-90,PSS-78,,PSS-78,,UMOL/KG,,UMOL/KG,,UMOL/KG,,UMOL/KG,,UMOL/KG,,UMOL/KG,,PMOL/KG,,PMOL/KG,,PMOL/KG,,UMOL/KG,,UMOL/KG,,UATM,,DEG C,,,DEG C,TU,,NMOL/KG,,PERCNT,,/MILLE,,/MILLE,,/MILLE,NMOL/KG,,NMOL/KG,UG/KG,,UMOL/KG,,UMOL/KG,,DBAR,1/M,,1/M,,1/M,,1/M,,1/NM,,1/NM,,DEG C,UMOL/L,,PMOL/KG,,PMOL/KG,,PMOL/KG,,,NMOL/KG,PERCNT,TU,PMOL/KG,,PMOL/KG,,PMOL/KG,
33RO200306_02,       A16N,     147,          1,         35,         35,2,20030808,       0921,    -4.5068,   -25.0042,       5547,     2.3,  26.1572,  35.9152,2,  35.9084,2,    201.4,2,   206.4,2,    0.98,2,    0.09,2,    0.00,2,    0.10,2,   1.762,2,   1.118,2,   0.139,2,  2022.9,2,  2357.0,2,   -999.0,9,  -999.00,   8.0783,2,    25.00,-999.000,9,-999.000,9,-999.000,9, -999.00,9,  -999.0,9,  -999.0,-999.000,9,-999.000,-999.000,9, -999.00,9, -999.00,9,    2.30,-999.0000,9,-999.0000,9,-999.0000,9,-999.0000,9,-999.0000,9,-999.0000,9,  26.1567,     -999.0,9,     -999.0,9,     -999.0,9,     -999.0,9,        147,-999.000,-999.000,-999.000,     -999.0,9, -999.00,9, -999.00,9
33RO200306_02,       A16N,     147,          1,         33,         33,2,20030808,       0921,    -4.5068,   -25.0042,       5547,    15.1,  26.1610,  35.9146,2,  35.9080,2,    201.4,2,   204.9,2,    1.00,2,    0.08,2,    0.00,2,    0.09,2,-999.000,9,-999.000,9,-999.000,9,  -999.0,9,  -999.0,9,   -999.0,9,  -999.00,-999.0000,9,  -999.00,-999.000,9,-999.000,9,-999.000,9, -999.00,9,  -999.0,9,  -999.0,-999.000,9,-999.000,-999.000,9, -999.00,9, -999.00,9,   15.10,-999.0000,9,-999.0000,9,-999.0000,9,-999.0000,9,-999.0000,9,-999.0000,9,  26.1576,     -999.0,9,     -999.0,9,     -999.0,9,     -999.0,9,        147,-999.000,-999.000,-999.000,     -999.0,9, -999.00,9, -999.00,9
33RO200306_02,       A16N,     147,          1,         32,         32,2,20030808,       0921,    -4.5068,   -25.0042,       5547,    45.5,  26.1009,  35.9312,2,  35.9353,2,    201.6,2,   205.1,2,    1.01,2,    0.00,2,    0.00,2,    0.11,2,   1.776,2,   1.129,2,   0.151,2,  2026.7,2,  2358.5,2,   -999.0,9,  -999.00,   8.0748,2,    25.00,-999.000,9,-999.000,9,-999.000,9, -999.00,9,  -999.0,9,  -999.0,-999.000,9,-999.000,-999.000,9, -999.00,9, -999.00,9,   45.50,-999.0000,9,-999.0000,9,-999.0000,9,-999.0000,9,-999.0000,9,-999.0000,9,  26.0907,     -999.0,9,     -999.0,9,     -999.0,9,     -999.0,9,        147,-999.000,-999.000,-999.000,     -999.0,9, -999.00,9, -999.00,9
33RO200306_02,       A16N,     147,          1,         31,         31,2,20030808,       0921,    -4.5068,   -25.0042,       5547,    64.8,  25.7402,  36.1007,2,  36.0740,2,    201.7,2,   202.0,2,    1.24,2,    0.22,2,    0.01,2,    0.17,2,-999.000,9,-999.000,9,-999.000,9,  -999.0,9,  -999.0,9,   -999.0,9,  -999.00,-999.0000,9,  -999.00,-999.000,9,-999.000,9,-999.000,9, -999.00,9,  -999.0,9,  -999.0,-999.000,9,-999.000,-999.000,9, -999.00,9, -999.00,9,   64.80,-999.0000,9,-999.0000,9,-999.0000,9,-999.0000,9,-999.0000,9,-999.0000,9,  25.7258,     -999.0,9,     -999.0,9,     -999.0,9,     -999.0,9,        147,-999.000,-999.000,-999.000,     -999.0,9, -999.00,9, -999.00,9
33RO200306_02,       A16N,     147,          1,         30,         30,2,20030808,       0921,    -4.5068,   -25.0042,       5547,    96.7,  20.2193,  36.1558,2,  36.0993,2,    150.4,2,   145.1,2,    3.45,2,    9.82,2,    0.06,2,    0.80,2,   1.995,2,   1.197,2,   0.107,2,  2141.0,2,  2373.0,2,   -999.0,9,  -999.00,   7.8748,2,    25.00,-999.000,9,-999.000,9,-999.000,9, -999.00,9,  -999.0,9,  -999.0,-999.000,9,-999.000,-999.000,9, -999.00,9, -999.00,9,   96.70,-999.0000,9,-999.0000,9,-999.0000,9,-999.0000,9,-999.0000,9,-999.0000,9,  20.2012,     -999.0,9,     -999.0,9,     -999.0,9,     -999.0,9,        147,-999.000,-999.000,-999.000,     -999.0,9, -999.00,9, -999.00,9
33RO200306_02,       A16N,     147,          1,         29,         29,2,20030808,       0921,    -4.5068,   -25.0042,       5547,   115.7,  15.7196,  35.6338,2,  35.6062,2,    120.4,2,   122.0,2,    5.67,2,   17.10,2,    0.03,2,    1.17,2,-999.000,9,-999.000,9,-999.000,9,  -999.0,9,  -999.0,9,   -999.0,9,  -999.00,-999.0000,9,  -999.00,-999.000,9,-999.000,9,-999.000,9, -999.00,9,  -999.0,9,  -999.0,-999.000,9,-999.000,-999.000,9, -999.00,9, -999.00,9,  115.70,-999.0000,9,-999.0000,9,-999.0000,9,-999.0000,9,-999.0000,9,-999.0000,9,  15.7015,     -999.0,9,     -999.0,9,     -999.0,9,     -999.0,9,        147,-999.000,-999.000,-999.000,     -999.0,9, -999.00,9, -999.00,9
33RO200306_02,       A16N,     147,          1,         28,         28,2,20030808,       0921,    -4.5068,   -25.0042,       5547,   140.3,  13.5452,  35.3540,2,  35.3438,2,    104.2,2,   100.3,2,    8.12,2,   22.16,2,    0.01,2,    1.44,2,-999.000,9,-999.000,9,-999.000,9,  -999.0,9,  -999.0,9,   -999.0,9,  -999.00,-999.0000,9,  -999.00,-999.000,9,-999.000,9,-999.000,9, -999.00,9,  -999.0,9,  -999.0,-999.000,9,-999.000,-999.000,9, -999.00,9, -999.00,9,  140.30,-999.0000,9,-999.0000,9,-999.0000,9,-999.0000,9,-999.0000,9,-999.0000,9,  13.5253,     -999.0,9,     -999.0,9,     -999.0,9,     -999.0,9,        147,-999.000,-999.000,-999.000,     -999.0,9, -999.00,9, -999.00,9
33RO200306_02,       A16N,     147,          1,         27,         27,2,20030808,       0921,    -4.5068,   -25.0042,       5547,   164.7,  12.5986,  35.2238,2,  35.2137,2,    113.4,2,   110.6,2,    9.14,2,   23.11,2,    0.01,2,    1.50,2,-999.000,9,-999.000,9,-999.000,9,  -999.0,9,  -999.0,9,   -999.0,9,  -999.00,-999.0000,9,  -999.00,-999.000,9,-999.000,9,-999.000,9, -999.00,9,  -999.0,9,  -999.0,-999.000,9,-999.000,-999.000,9, -999.00,9, -999.00,9,  164.70,-999.0000,9,-999.0000,9,-999.0000,9,-999.0000,9,-999.0000,9,-999.0000,9,  12.5764,     -999.0,9,     -999.0,9,     -999.0,9,     -999.0,9,        147,-999.000,-999.000,-999.000,     -999.0,9, -999.00,9, -999.00,9
33RO200306_02,       A16N,     147,          1,         26,         26,2,20030808,       0921,    -4.5068,   -25.0042,       5547,   190.2,  11.8485,  35.1261,2,  35.1099,2,    112.8,2,   112.7,2,   10.00,2,   24.23,2,    0.01,2,    1.56,2,   1.663,2,   0.903,2,   0.020,2,  2188.5,2,  2314.5,2,   -999.0,9,  -999.00,   7.8470,3,    25.00,-999.000,9,-999.000,9,-999.000,9, -999.00,9,  -999.0,9,  -999.0,-999.000,9,-999.000,-999.000,9, -999.00,9, -999.00,9,  190.20,-999.0000,9,-999.0000,9,-999.0000,9,-999.0000,9,-999.0000,9,-999.0000,9,  11.8239,     -999.0,9,     -999.0,9,     -999.0,9,     -999.0,9,        147,-999.000,-999.000,-999.000,     -999.0,9, -999.00,9, -999.00,9
33RO200306_02,       A16N,     147,          1,         25,         25,2,20030808,       0921,    -4.5068,   -25.0042,       5547,   225.2,  11.0282,  35.0246,2,  35.0205,2,    107.0,2,   115.1,2,   11.01,2,   25.36,2,    0.01,2,    1.64,2,-999.000,9,-999.000,9,-999.000,9,  -999.0,9,  -999.0,9,   -999.0,9,  -999.00,-999.0000,9,  -999.00,-999.000,9,-999.000,9,-999.000,9, -999.00,9,  -999.0,9,  -999.0,-999.000,9,-999.000,-999.000,9, -999.00,9, -999.00,9,  225.20,-999.0000,9,-999.0000,9,-999.0000,9,-999.0000,9,-999.0000,9,-999.0000,9,  11.0003,     -999.0,9,     -999.0,9,     -999.0,9,     -999.0,9,        147,-999.000,-999.000,-999.000,     -999.0,9, -999.00,9, -999.00,9
33RO200306_02,       A16N,     147,          1,         24,         24,2,20030808,       0921,    -4.5068,   -25.0042,       5547,   274.4,  10.3087,  34.9476,2,  34.9373,2,    102.5,2,   101.8,2,   12.87,2,   28.50,2,    0.00,2,    1.75,2,-999.000,9,-999.000,9,-999.000,9,  -999.0,9,  -999.0,9,   -999.0,9,  -999.00,-999.0000,9,  -999.00,-999.000,9,-999.000,9,-999.000,9, -999.00,9,  -999.0,9,  -999.0,-999.000,9,-999.000,-999.000,9, -999.00,9, -999.00,9,  274.40,-999.0000,9,-999.0000,9,-999.0000,9,-999.0000,9,-999.0000,9,-999.0000,9,  10.2761,     -999.0,9,     -999.0,9,     -999.0,9,     -999.0,9,        147,-999.000,-999.000,-999.000,     -999.0,9, -999.00,9, -999.00,9
33RO200306_02,       A16N,     147,          1,         23,         23,2,20030808,       0921,    -4.5068,   -25.0042,       5547,   324.9,   9.5455,  34.8703,2,  34.8642,2,     90.2,2,    88.3,2,   14.47,2,   31.32,2,    0.00,2,    1.95,2,-999.000,9,-999.000,9,-999.000,9,  -999.0,9,  -999.0,9,   -999.0,9,  -999.00,-999.0000,9,  -999.00,-999.000,9,-999.000,9,-999.000,9, -999.00,9,  -999.0,9,  -999.0,-999.000,9,-999.000,-999.000,9, -999.00,9, -999.00,9,  324.90,-999.0000,9,-999.0000,9,-999.0000,9,-999.0000,9,-999.0000,9,-999.0000,9,   9.5087,     -999.0,9,     -999.0,9,     -999.0,9,     -999.0,9,        147,-999.000,-999.000,-999.000,     -999.0,9, -999.00,9, -999.00,9
33RO200306_02,       A16N,     147,          1,         22,         22,2,20030808,       0921,    -4.5068,   -25.0042,       5547,   375.7,   8.5683,  34.7686,2,  34.7602,2,     89.0,2,    85.7,2,   17.09,2,   34.03,2,    0.00,2,    2.11,2,-999.000,9,-999.000,9,-999.000,9,  -999.0,9,  -999.0,9,   -999.0,9,  -999.00,-999.0000,9,  -999.00,-999.000,9,-999.000,9,-999.000,9, -999.00,9,  -999.0,9,  -999.0,-999.000,9,-999.000,-999.000,9, -999.00,9, -999.00,9,  375.70,-999.0000,9,-999.0000,9,-999.0000,9,-999.0000,9,-999.0000,9,-999.0000,9,   8.5284,     -999.0,9,     -999.0,9,     -999.0,9,     -999.0,9,        147,-999.000,-999.000,-999.000,     -999.0,9, -999.00,9, -999.00,9
33RO200306_02,       A16N,     147,          1,         21,         21,2,20030808,       0921,    -4.5068,   -25.0042,       5547,   449.6,   7.3026,  34.6485,2,  34.6411,2,     98.5,2,   104.0,2,   20.21,2,   34.59,2,    0.00,2,    2.19,2,-999.000,9,-999.000,9,-999.000,9,  -999.0,9,  -999.0,9,   -999.0,9,  -999.00,-999.0000,9,  -999.00,-999.000,9,-999.000,9,-999.000,9, -999.00,9,  -999.0,9,  -999.0,-999.000,9,-999.000,-999.000,9, -999.00,9, -999.00,9,  449.60,-999.0000,9,-999.0000,9,-999.0000,9,-999.0000,9,-999.0000,9,-999.0000,9,   7.2589,     -999.0,9,     -999.0,9,     -999.0,9,     -999.0,9,        147,-999.000,-999.000,-999.000,     -999.0,9, -999.00,9, -999.00,9
33RO200306_02,       A16N,     147,          1,         20,         20,2,20030808,       0921,    -4.5068,   -25.0042,       5547,   549.6,   6.0542,  34.5425,2,  34.5378,2,    125.3,2,   126.9,2,   24.14,2,   34.91,2,    0.00,2,    2.25,2,-999.000,9,-999.000,9,-999.000,9,  -999.0,9,  -999.0,9,   -999.0,9,  -999.00,-999.0000,9,  -999.00,-999.000,9,-999.000,9,-999.000,9, -999.00,9,  -999.0,9,  -999.0,-999.000,9,-999.000,-999.000,9, -999.00,9, -999.00,9,  549.60,-999.0000,9,-999.0000,9,-999.0000,9,-999.0000,9,-999.0000,9,-999.0000,9,   6.0057,     -999.0,9,     -999.0,9,     -999.0,9,     -999.0,9,        147,-999.000,-999.000,-999.000,     -999.0,9, -999.00,9, -999.00,9
33RO200306_02,       A16N,     147,          1,         19,         19,2,20030808,       0921,    -4.5068,   -25.0042,       5547,   651.2,   5.3052,  34.4879,2,  34.4860,2,    138.6,2,   148.1,2,   27.36,2,   34.23,2,    0.00,2,    2.22,2,-999.000,9,-999.000,9,-999.000,9,  -999.0,9,  -999.0,9,   -999.0,9,  -999.00,-999.0000,9,  -999.00,-999.000,9,-999.000,9,-999.000,9, -999.00,9,  -999.0,9,  -999.0,-999.000,9,-999.000,-999.000,9, -999.00,9, -999.00,9,  651.20,-999.0000,9,-999.0000,9,-999.0000,9,-999.0000,9,-999.0000,9,-999.0000,9,   5.2511,     -999.0,9,     -999.0,9,     -999.0,9,     -999.0,9,        147,-999.000,-999.000,-999.000,     -999.0,9, -999.00,9, -999.00,9
33RO200306_02,       A16N,     147,          1,         18,         18,2,20030808,       0921,    -4.5068,   -25.0042,       5547,   799.5,   4.7300,  34.4863,2,  34.4866,2,    152.3,2,   153.3,2,   31.25,2,   34.65,2,    0.00,2,    2.28,2,-999.000,9,-999.000,9,-999.000,9,  -999.0,9,  -999.0,9,   -999.0,9,  -999.00,-999.0000,9,  -999.00,-999.000,9,-999.000,9,-999.000,9, -999.00,9,  -999.0,9,  -999.0,-999.000,9,-999.000,-999.000,9, -999.00,9, -999.00,9,  799.50,-999.0000,9,-999.0000,9,-999.0000,9,-999.0000,9,-999.0000,9,-999.0000,9,   4.6662,     -999.0,9,     -999.0,9,     -999.0,9,     -999.0,9,        147,-999.000,-999.000,-999.000,     -999.0,9, -999.00,9, -999.00,9
33RO200306_02,       A16N,     147,          1,         17,         17,2,20030808,       0921,    -4.5068,   -25.0042,       5547,   951.0,   4.3203,  34.5398,2,  34.5376,2,    163.0,2,   150.5,2,   33.77,2,   33.94,2,    0.00,2,    2.26,2,-999.000,9,-999.000,9,-999.000,9,  -999.0,9,  -999.0,9,   -999.0,9,  -999.00,-999.0000,9,  -999.00,-999.000,9,-999.000,9,-999.000,9, -999.00,9,  -999.0,9,  -999.0,-999.000,9,-999.000,-999.000,9, -999.00,9, -999.00,9,  951.00,-999.0000,9,-999.0000,9,-999.0000,9,-999.0000,9,-999.0000,9,-999.0000,9,   4.2463,     -999.0,9,     -999.0,9,     -999.0,9,     -999.0,9,        147,-999.000,-999.000,-999.000,     -999.0,9, -999.00,9, -999.00,9
33RO200306_02,       A16N,     147,          1,         16,         16,2,20030808,       0921,    -4.5068,   -25.0042,       5547,  1100.7,   4.3074,  34.6668,2,  34.6632,2,    166.1,2,   167.0,2,   31.70,2,   31.85,2,    0.00,2,    2.12,2,-999.000,9,-999.000,9,-999.000,9,  -999.0,9,  -999.0,9,   -999.0,9,  -999.00,-999.0000,9,  -999.00,-999.000,9,-999.000,9,-999.000,9, -999.00,9,  -999.0,9,  -999.0,-999.000,9,-999.000,-999.000,9, -999.00,9, -999.00,9, 1100.70,-999.0000,9,-999.0000,9,-999.0000,9,-999.0000,9,-999.0000,9,-999.0000,9,   4.2204,     -999.0,9,     -999.0,9,     -999.0,9,     -999.0,9,        147,-999.000,-999.000,-999.000,     -999.0,9, -999.00,9, -999.00,9
33RO200306_02,       A16N,     147,          1,         15,         15,2,20030808,       0921,    -4.5068,   -25.0042,       5547,  1251.7,   4.3915,  34.8188,2,  34.8148,2,    186.2,2,   185.9,2,   26.36,2,   27.98,2,    0.00,2,    1.85,2,-999.000,9,-999.000,9,-999.000,9,  -999.0,9,  -999.0,9,   -999.0,9,  -999.00,-999.0000,9,  -999.00,-999.000,9,-999.000,9,-999.000,9, -999.00,9,  -999.0,9,  -999.0,-999.000,9,-999.000,-999.000,9, -999.00,9, -999.00,9, 1251.70,-999.0000,9,-999.0000,9,-999.0000,9,-999.0000,9,-999.0000,9,-999.0000,9,   4.2901,     -999.0,9,     -999.0,9,     -999.0,9,     -999.0,9,        147,-999.000,-999.000,-999.000,     -999.0,9, -999.00,9, -999.00,9
33RO200306_02,       A16N,     147,          1,         14,         14,2,20030808,       0921,    -4.5068,   -25.0042,       5547,  1500.0,   4.2377,  34.9522,2,  34.9504,2,    225.4,2,   223.8,2,   19.93,2,   22.44,2,    0.00,2,    1.46,2,-999.000,9,-999.000,9,-999.000,9,  -999.0,9,  -999.0,9,   -999.0,9,  -999.00,-999.0000,9,  -999.00,-999.000,9,-999.000,9,-999.000,9, -999.00,9,  -999.0,9,  -999.0,-999.000,9,-999.000,-999.000,9, -999.00,9, -999.00,9, 1500.00,-999.0000,9,-999.0000,9,-999.0000,9,-999.0000,9,-999.0000,9,-999.0000,9,   4.1149,     -999.0,9,     -999.0,9,     -999.0,9,     -999.0,9,        147,-999.000,-999.000,-999.000,     -999.0,9, -999.00,9, -999.00,9
33RO200306_02,       A16N,     147,          1,         13,         13,2,20030808,       0921,    -4.5068,   -25.0042,       5547,  1700.2,   4.0253,  34.9788,2,  34.9757,2,    241.0,2,   239.1,2,   18.40,2,   20.58,2,    0.00,2,    1.34,2,-999.000,9,-999.000,9,-999.000,9,  -999.0,9,  -999.0,9,   -999.0,9,  -999.00,-999.0000,9,  -999.00,-999.000,9,-999.000,9,-999.000,9, -999.00,9,  -999.0,9,  -999.0,-999.000,9,-999.000,-999.000,9, -999.00,9, -999.00,9, 1700.20,-999.0000,9,-999.0000,9,-999.0000,9,-999.0000,9,-999.0000,9,-999.0000,9,   3.8862,     -999.0,9,     -999.0,9,     -999.0,9,     -999.0,9,        147,-999.000,-999.000,-999.000,     -999.0,9, -999.00,9, -999.00,9
33RO200306_02,       A16N,     147,          1,         12,         12,2,20030808,       0921,    -4.5068,   -25.0042,       5547,  1899.9,   3.7117,  34.9764,2,  34.9725,2,    249.1,2,   249.4,2,   19.60,2,   19.84,2,    0.00,2,    1.30,2,-999.000,9,-999.000,9,-999.000,9,  -999.0,9,  -999.0,9,   -999.0,9,  -999.00,-999.0000,9,  -999.00,-999.000,9,-999.000,9,-999.000,9, -999.00,9,  -999.0,9,  -999.0,-999.000,9,-999.000,-999.000,9, -999.00,9, -999.00,9, 1899.90,-999.0000,9,-999.0000,9,-999.0000,9,-999.0000,9,-999.0000,9,-999.0000,9,   3.5580,     -999.0,9,     -999.0,9,     -999.0,9,     -999.0,9,        147,-999.000,-999.000,-999.000,     -999.0,9, -999.00,9, -999.00,9
33RO200306_02,       A16N,     147,          1,         11,         11,2,20030808,       0921,    -4.5068,   -25.0042,       5547,  2099.5,   3.4455,  34.9653,2,  34.9614,2,    250.8,2,   251.6,2,   22.50,2,   19.98,2,    0.00,2,    1.31,2,-999.000,9,-999.000,9,-999.000,9,  -999.0,9,  -999.0,9,   -999.0,9,  -999.00,-999.0000,9,  -999.00,-999.000,9,-999.000,9,-999.000,9, -999.00,9,  -999.0,9,  -999.0,-999.000,9,-999.000,-999.000,9, -999.00,9, -999.00,9, 2099.50,-999.0000,9,-999.0000,9,-999.0000,9,-999.0000,9,-999.0000,9,-999.0000,9,   3.2768,     -999.0,9,     -999.0,9,     -999.0,9,     -999.0,9,        147,-999.000,-999.000,-999.000,     -999.0,9, -999.00,9, -999.00,9
33RO200306_02,       A16N,     147,          1,         10,         10,2,20030808,       0921,    -4.5068,   -25.0042,       5547,  2300.7,   3.2048,  34.9490,2,  34.9454,2,    247.9,2,   247.8,2,   27.16,2,   20.60,2,    0.00,2,    1.36,2,-999.000,9,-999.000,9,-999.000,9,  -999.0,9,  -999.0,9,   -999.0,9,  -999.00,-999.0000,9,  -999.00,-999.000,9,-999.000,9,-999.000,9, -999.00,9,  -999.0,9,  -999.0,-999.000,9,-999.000,-999.000,9, -999.00,9, -999.00,9, 2300.70,-999.0000,9,-999.0000,9,-999.0000,9,-999.0000,9,-999.0000,9,-999.0000,9,   3.0207,     -999.0,9,     -999.0,9,     -999.0,9,     -999.0,9,        147,-999.000,-999.000,-999.000,     -999.0,9, -999.00,9, -999.00,9
33RO200306_02,       A16N,     147,          1,          9,          9,2,20030808,       0921,    -4.5068,   -25.0042,       5547,  2600.2,   2.9448,  34.9339,2,  34.9310,2,    247.5,2,   248.1,2,   31.73,2,   20.97,2,    0.00,2,    1.40,2,-999.000,9,-999.000,9,-999.000,9,  -999.0,9,  -999.0,9,   -999.0,9,  -999.00,-999.0000,9,  -999.00,-999.000,9,-999.000,9,-999.000,9, -999.00,9,  -999.0,9,  -999.0,-999.000,9,-999.000,-999.000,9, -999.00,9, -999.00,9, 2600.20,-999.0000,9,-999.0000,9,-999.0000,9,-999.0000,9,-999.0000,9,-999.0000,9,   2.7360,     -999.0,9,     -999.0,9,     -999.0,9,     -999.0,9,        147,-999.000,-999.000,-999.000,     -999.0,9, -999.00,9, -999.00,9
33RO200306_02,       A16N,     147,          1,          8,          8,2,20030808,       0921,    -4.5068,   -25.0042,       5547,  3000.3,   2.7123,  34.9227,2,  34.9206,2,    249.9,2,   245.8,2,   34.30,2,   20.88,2,    0.00,2,    1.40,2,-999.000,9,-999.000,9,-999.000,9,  -999.0,9,  -999.0,9,   -999.0,9,  -999.00,-999.0000,9,  -999.00,-999.000,9,-999.000,9,-999.000,9, -999.00,9,  -999.0,9,  -999.0,-999.000,9,-999.000,-999.000,9, -999.00,9, -999.00,9, 3000.30,-999.0000,9,-999.0000,9,-999.0000,9,-999.0000,9,-999.0000,9,-999.0000,9,   2.4678,     -999.0,9,     -999.0,9,     -999.0,9,     -999.0,9,        147,-999.000,-999.000,-999.000,     -999.0,9, -999.00,9, -999.00,9