BOTTLE,20230908CCHSIOCBG
EXPOCODE,SECT_ID,STNNBR,CASTNO,SAMPNO,BTLNBR,BTLNBR_FLAG_W,DATE,TIME,LATITUDE,LONGITUDE,DEPTH,CTDPRS,CTDTMP,CTDSAL,CTDSAL_FLAG_W,SALNTY,SALNTY_FLAG_W,CTDOXY,CTDOXY_FLAG_W,OXYGEN,OXYGEN_FLAG_W,SILCAT,SILCAT_FLAG_W,NITRAT,NITRAT_FLAG_W,NITRIT,NITRIT_FLAG_W,PHSPHT,PHSPHT_FLAG_W,CFC-11,CFC-11_FLAG_W,CFC-12,CFC-12_FLAG_W,CFC113,CFC113_FLAG_W,TCARBN,TCARBN_FLAG_W,ALKALI,ALKALI_FLAG_W,FCO2,FCO2_FLAG_W,FCO2TMP,PH_SWS,PH_SWS_FLAG_W,PH_TMP,TRITUM,TRITUM_FLAG_W,HELIUM,HELIUM_FLAG_W,DELHE3,DELHE3_FLAG_W,DELC13,DELC13_FLAG_W,DELC14,DELC14_FLAG_W,C14ERR,NEON,NEON_FLAG_W,NEONER,POC,POC_FLAG_W,DOC,DOC_FLAG_W,TDN,TDN_FLAG_W,CTDRAW,CDOM325,CDOM325_FLAG_W,CDOM340,CDOM340_FLAG_W,CDOM380,CDOM380_FLAG_W,CDOM412,CDOM412_FLAG_W,CDOMSL,CDOMSL_FLAG_W,CDOMSN,CDOMSN_FLAG_W,THETA,PON,PON_FLAG_W,HCFC-22,HCFC-22_FLAG_W,HCFC-142b,HCFC-142b_FLAG_W,HCFC-141b,HCFC-141b_FLAG_W,STNNBR_U,HELIER,DELHER,TRITER,CH3CL,CH3CL_FLAG_W,CH3BR,CH3BR_FLAG_W,CH3I,CH3I_FLAG_W
,,,,,,,,,,,METERS,DBAR,ITS-90,PSS-78,,PSS-78,,UMOL/KG,,UMOL/KG,,UMOL/KG,,UMOL/KG,,UMOL/KG,,UMOL/KG,,PMOL/KG,,PMOL/KG,,PMOL/KG,,UMOL/KG,,UMOL/KG,,UATM,,DEG C,,,DEG C,TU,,NMOL/KG,,PERCNT,,/MILLE,,/MILLE,,/MILLE,NMOL/KG,,NMOL/KG,UG/KG,,UMOL/KG,,UMOL/KG,,DBAR,1/M,,1/M,,1/M,,1/M,,1/NM,,1/NM,,DEG C,UMOL/L,,PMOL/KG,,PMOL/KG,,PMOL/KG,,,NMOL/KG,PERCNT,TU,PMOL/KG,,PMOL/KG,,PMOL/KG,
33RO200306_01,       A16N,     031,          1,          7,          7,2,20030626,       1248,    49.9995,   -20.0012,       4402,  2302.2,   3.2649,  34.9052,2,  34.9049,2,    275.7,2,   275.1,2,   12.81,2,   17.19,2,    0.00,2,    1.09,2,   2.480,2,   1.229,2,   0.143,2,  2157.7,2,  2299.7,2,   -999.0,9,  -999.00,   7.7264,2,    25.00,-999.000,9,-999.000,9,-999.000,9, -999.00,9,  -999.0,9,  -999.0,-999.000,9,-999.000,-999.000,9,   46.02,2,   21.01,2, 2302.20,-999.0000,9,-999.0000,9,-999.0000,9,-999.0000,9,-999.0000,9,-999.0000,9,   3.0798,     -999.0,9,     -999.0,9,     -999.0,9,     -999.0,9,         31,-999.000,-999.000,-999.000,     -999.0,9, -999.00,9, -999.00,9
33RO200306_01,       A16N,     031,          1,          6,          6,2,20030626,       1248,    49.9995,   -20.0012,       4402,  2599.2,   3.1738,  34.9333,2,  34.9331,2,    267.4,2,   267.1,2,   16.16,2,   17.42,2,    0.00,2,    1.12,2,   1.717,2,   0.842,2,   0.080,2,  2163.0,2,  2306.3,2,   -999.0,9,  -999.00,   7.7298,2,    25.00,   0.662,2,-999.000,9,-999.000,9, -999.00,9,  -999.0,9,  -999.0,-999.000,9,-999.000,-999.000,9,   44.31,2,   21.09,2, 2599.20,-999.0000,9,-999.0000,9,-999.0000,9,-999.0000,9,-999.0000,9,-999.0000,9,   2.9608,     -999.0,9,     -999.0,9,     -999.0,9,     -999.0,9,         31,-999.000,-999.000,   0.010,     -999.0,9, -999.00,9, -999.00,9
33RO200306_01,       A16N,     031,          1,          5,          5,2,20030626,       1248,    49.9995,   -20.0012,       4402,  2900.4,   2.9808,  34.9465,2,  34.9469,2,    259.6,2,   258.0,2,   22.35,2,   18.21,2,    0.00,2,    1.18,2,   1.132,2,   0.557,2,   0.045,2,  2172.5,2,  2318.5,2,    757.5,2,    20.00,   7.7291,2,    25.00,-999.000,9,   1.835,2,   5.855,2, -999.00,9,  -999.0,9,  -999.0,   7.893,2,   0.059,-999.000,9,   44.15,2,   22.02,2, 2900.40,-999.0000,9,-999.0000,9,-999.0000,9,-999.0000,9,-999.0000,9,-999.0000,9,   2.7408,     -999.0,9,     -999.0,9,     -999.0,9,     -999.0,9,         31,   0.004,   0.191,-999.000,     -999.0,9, -999.00,9, -999.00,9
33RO200306_01,       A16N,     031,          1,          4,          4,2,20030626,       1248,    49.9995,   -20.0012,       4402,  3201.1,   2.8062,  34.9418,2,  34.9416,2,    253.5,2,   252.9,2,   27.65,6,   19.06,6,    0.00,6,    1.25,6,   0.923,2,   0.458,2,   0.041,2,  2177.6,2,  2325.6,2,   -999.0,9,  -999.00,   7.7253,2,    25.00,   0.569,2,   1.899,3,   4.707,2, -999.00,9,  -999.0,9,  -999.0,   8.136,2,   0.061,-999.000,9,   43.25,2,   23.44,2, 3201.10,-999.0000,9,-999.0000,9,-999.0000,9,-999.0000,9,-999.0000,9,-999.0000,9,   2.5385,     -999.0,9,     -999.0,9,     -999.0,9,     -999.0,9,         31,   0.004,    0.19,   0.020,     -999.0,9, -999.00,9, -999.00,9
33RO200306_01,       A16N,     031,          1,          3,          3,2,20030626,       1248,    49.9995,   -20.0012,       4402,  3600.5,   2.6348,  34.9252,2,  34.9244,2,    244.5,2,   242.8,2,   37.23,6,   20.91,6,    0.00,6,    1.38,6,   0.373,2,   0.188,2,   0.020,2,  2190.4,2,  2339.5,2,    767.7,2,    20.00,   7.7260,2,    25.00,-999.000,9,-999.000,9,-999.000,9, -999.00,9,  -999.0,9,  -999.0,-999.000,9,-999.000,-999.000,9,   43.41,2,   25.54,2, 3600.50,-999.0000,9,-999.0000,9,-999.0000,9,-999.0000,9,-999.0000,9,-999.0000,9,   2.3279,     -999.0,9,     -999.0,9,     -999.0,9,     -999.0,9,         31,-999.000,-999.000,-999.000,     -999.0,9, -999.00,9, -999.00,9
33RO200306_01,       A16N,     031,          1,          2,          2,2,20030626,       1248,    49.9995,   -20.0012,       4402,  4001.5,   2.5423,  34.9122,2,  34.9109,2,    238.3,2,   240.3,2,   42.99,6,   22.05,6,    0.00,6,    1.46,6,   0.065,2,   0.032,2,   0.007,2,  2199.2,2,  2347.0,2,   -999.0,9,  -999.00,   7.7279,2,    25.00,-999.000,9,   1.757,2,   2.751,2, -999.00,9,  -999.0,9,  -999.0,   7.191,4,   0.054,-999.000,9,   43.17,2,   26.46,2, 4001.50,-999.0000,9,-999.0000,9,-999.0000,9,-999.0000,9,-999.0000,9,-999.0000,9,   2.1926,     -999.0,9,     -999.0,9,     -999.0,9,     -999.0,9,         31,   0.004,   0.193,-999.000,     -999.0,9, -999.00,9, -999.00,9
33RO200306_01,       A16N,     031,          1,          1,          1,2,20030626,       1248,    49.9995,   -20.0012,       4402,  4472.1,   2.5414,  34.9059,2,  34.9057,2,    235.1,2,   235.3,2,   45.14,6,   22.28,6,    0.01,6,    1.48,6,   0.053,2,   0.021,2,   0.012,2,  2204.0,6,  2350.1,2,    756.3,2,    20.00,   7.7288,2,    25.00,   0.057,2,   1.907,3,   1.841,2, -999.00,9,  -999.0,9,  -999.0,   8.219,2,   0.055,-999.000,9,   41.40,2,   26.71,2, 4472.10,-999.0000,9,-999.0000,9,-999.0000,9,-999.0000,9,-999.0000,9,-999.0000,9,   2.1362,     -999.0,9,     -999.0,9,     -999.0,9,     -999.0,9,         31,   0.003,   0.213,   0.000,     -999.0,9, -999.00,9, -999.00,9