BOTTLE,20230908CCHSIOCBG
EXPOCODE,SECT_ID,STNNBR,CASTNO,SAMPNO,BTLNBR,BTLNBR_FLAG_W,DATE,TIME,LATITUDE,LONGITUDE,DEPTH,CTDPRS,CTDTMP,CTDSAL,CTDSAL_FLAG_W,SALNTY,SALNTY_FLAG_W,CTDOXY,CTDOXY_FLAG_W,OXYGEN,OXYGEN_FLAG_W,SILCAT,SILCAT_FLAG_W,NITRAT,NITRAT_FLAG_W,NITRIT,NITRIT_FLAG_W,PHSPHT,PHSPHT_FLAG_W,CFC-11,CFC-11_FLAG_W,CFC-12,CFC-12_FLAG_W,CFC113,CFC113_FLAG_W,TCARBN,TCARBN_FLAG_W,ALKALI,ALKALI_FLAG_W,FCO2,FCO2_FLAG_W,FCO2TMP,PH_SWS,PH_SWS_FLAG_W,PH_TMP,TRITUM,TRITUM_FLAG_W,HELIUM,HELIUM_FLAG_W,DELHE3,DELHE3_FLAG_W,DELC13,DELC13_FLAG_W,DELC14,DELC14_FLAG_W,C14ERR,NEON,NEON_FLAG_W,NEONER,POC,POC_FLAG_W,DOC,DOC_FLAG_W,TDN,TDN_FLAG_W,CTDRAW,CDOM325,CDOM325_FLAG_W,CDOM340,CDOM340_FLAG_W,CDOM380,CDOM380_FLAG_W,CDOM412,CDOM412_FLAG_W,CDOMSL,CDOMSL_FLAG_W,CDOMSN,CDOMSN_FLAG_W,THETA,PON,PON_FLAG_W,HCFC-22,HCFC-22_FLAG_W,HCFC-142b,HCFC-142b_FLAG_W,HCFC-141b,HCFC-141b_FLAG_W,STNNBR_U,HELIER,DELHER,TRITER,CH3CL,CH3CL_FLAG_W,CH3BR,CH3BR_FLAG_W,CH3I,CH3I_FLAG_W
,,,,,,,,,,,METERS,DBAR,ITS-90,PSS-78,,PSS-78,,UMOL/KG,,UMOL/KG,,UMOL/KG,,UMOL/KG,,UMOL/KG,,UMOL/KG,,PMOL/KG,,PMOL/KG,,PMOL/KG,,UMOL/KG,,UMOL/KG,,UATM,,DEG C,,,DEG C,TU,,NMOL/KG,,PERCNT,,/MILLE,,/MILLE,,/MILLE,NMOL/KG,,NMOL/KG,UG/KG,,UMOL/KG,,UMOL/KG,,DBAR,1/M,,1/M,,1/M,,1/M,,1/NM,,1/NM,,DEG C,UMOL/L,,PMOL/KG,,PMOL/KG,,PMOL/KG,,,NMOL/KG,PERCNT,TU,PMOL/KG,,PMOL/KG,,PMOL/KG,
33RO200306_01,       A16N,     056,          1,         33,         33,2,20030704,       0627,    37.5007,   -19.9998,       4845,     3.2,  21.5816,  36.4557,2,  36.4595,2,    239.5,2,   224.7,2,    0.63,2,    0.02,2,    0.00,2,    0.02,2,-999.000,9,-999.000,9,-999.000,9,  2083.2,2,  2385.2,6,    359.8,6,    20.00,   8.0029,6,    25.00,-999.000,9,-999.000,9,-999.000,9, -999.00,9,  -999.0,9,  -999.0,-999.000,9,-999.000,   4.248,2, -999.00,9, -999.00,9,    3.20,   0.0640,2,   0.0350,2,   0.0070,2,   0.0020,3,   0.0400,2,   0.0400,2,  21.5810,      0.439,2,     -999.0,9,     -999.0,9,     -999.0,9,         56,-999.000,-999.000,-999.000,     -999.0,9, -999.00,9, -999.00,9
33RO200306_01,       A16N,     056,          1,         35,         35,2,20030704,       0627,    37.5007,   -19.9998,       4845,     3.3,  21.5833,  36.4557,2,  36.4598,2,    239.5,2,  -999.0,1,    0.62,2,    0.01,2,    0.00,2,    0.02,2,-999.000,9,-999.000,9,-999.000,9,  -999.0,9,  -999.0,9,   -999.0,9,  -999.00,-999.0000,9,  -999.00,-999.000,9,-999.000,9,-999.000,9, -999.00,9,  -999.0,9,  -999.0,-999.000,9,-999.000,-999.000,9, -999.00,9, -999.00,9,    3.30,-999.0000,9,-999.0000,9,-999.0000,9,-999.0000,9,-999.0000,9,-999.0000,9,  21.5827,     -999.0,9,       4.83,2,       0.23,2,       0.83,2,         56,-999.000,-999.000,-999.000,     138.73,2,    2.75,2,    15.8,2
33RO200306_01,       A16N,     056,          1,         32,         32,2,20030704,       0627,    37.5007,   -19.9998,       4845,    24.4,  21.0394,  36.4017,2,  36.3558,2,    234.3,2,   236.7,2,    0.69,2,    0.02,2,    0.00,2,    0.02,2,-999.000,9,-999.000,9,-999.000,9,  -999.0,9,  -999.0,9,   -999.0,9,  -999.00,-999.0000,9,  -999.00,-999.000,9,-999.000,9,-999.000,9, -999.00,9,  -999.0,9,  -999.0,-999.000,9,-999.000,-999.000,9, -999.00,9, -999.00,9,   24.40,   0.0870,2,   0.0540,2,   0.0170,2,   0.0080,2,   0.0310,2,   0.0310,2,  21.0347,     -999.0,9,       4.70,2,       0.32,2,       0.65,2,         56,-999.000,-999.000,-999.000,     105.04,2,     1.4,2,    36.2,2
33RO200306_01,       A16N,     056,          1,         31,         31,2,20030704,       0627,    37.5007,   -19.9998,       4845,    50.4,  17.3161,  36.2384,2,  36.2422,2,    256.0,2,   254.7,2,    0.62,2,    0.02,2,    0.00,2,    0.03,2,-999.000,9,-999.000,9,-999.000,9,  -999.0,9,  -999.0,9,   -999.0,9,  -999.00,-999.0000,9,  -999.00,-999.000,9,-999.000,9,-999.000,9, -999.00,9,  -999.0,9,  -999.0,-999.000,9,-999.000,   2.862,2, -999.00,9, -999.00,9,   50.40,   0.1370,2,   0.0840,2,   0.0280,2,   0.0130,2,   0.0290,2,   0.0300,2,  17.3076,      0.360,2,       5.26,2,       0.30,2,       0.84,2,         56,-999.000,-999.000,-999.000,       97.8,2,    1.04,2,   50.66,2
33RO200306_01,       A16N,     056,          1,         30,         30,2,20030704,       0627,    37.5007,   -19.9998,       4845,   100.7,  16.0574,  36.1823,2,  36.1726,2,    233.3,2,   229.2,2,    1.38,2,    2.85,2,    0.13,2,    0.19,2,-999.000,9,-999.000,9,-999.000,9,  -999.0,9,  -999.0,9,   -999.0,9,  -999.00,-999.0000,9,  -999.00,-999.000,9,-999.000,9,-999.000,9, -999.00,9,  -999.0,9,  -999.0,-999.000,9,-999.000,   1.690,2, -999.00,9, -999.00,9,  100.70,   0.1170,2,   0.0700,2,   0.0230,2,   0.0130,2,   0.0310,2,   0.0330,2,  16.0413,      0.194,2,       5.38,2,       0.16,2,       1.03,2,         56,-999.000,-999.000,-999.000,      83.27,2,    1.32,2,    3.49,2
33RO200306_01,       A16N,     056,          1,         29,         29,2,20030704,       0627,    37.5007,   -19.9998,       4845,   151.6,  15.1468,  36.0696,2,  36.0656,2,    221.4,2,   220.1,2,    1.97,2,    5.83,2,    0.01,2,    0.35,2,-999.000,9,-999.000,9,-999.000,9,  -999.0,9,  -999.0,9,   -999.0,9,  -999.00,-999.0000,9,  -999.00,-999.000,9,-999.000,9,-999.000,9, -999.00,9,  -999.0,9,  -999.0,-999.000,9,-999.000,   0.863,2, -999.00,9, -999.00,9,  151.60,-999.0000,9,-999.0000,9,-999.0000,9,-999.0000,9,-999.0000,9,-999.0000,9,  15.1235,      0.092,2,     -999.0,9,     -999.0,9,     -999.0,9,         56,-999.000,-999.000,-999.000,     -999.0,9, -999.00,9, -999.00,9
33RO200306_01,       A16N,     056,          1,         28,         28,2,20030704,       0627,    37.5007,   -19.9998,       4845,   200.1,  14.6254,  35.9917,2,  35.9856,2,    213.4,2,   214.9,2,    2.54,2,    7.54,2,    0.01,2,    0.44,2,-999.000,9,-999.000,9,-999.000,9,  -999.0,9,  -999.0,9,   -999.0,9,  -999.00,-999.0000,9,  -999.00,-999.000,9,-999.000,9,-999.000,9, -999.00,9,  -999.0,9,  -999.0,-999.000,9,-999.000,   0.557,2, -999.00,9, -999.00,9,  200.10,   0.0900,2,   0.0560,2,   0.0210,2,   0.0120,2,   0.0280,2,   0.0300,2,  14.5954,      2.690,2,       4.74,2,       0.17,2,       0.52,2,         56,-999.000,-999.000,-999.000,      11.33,2,    0.42,2,    0.38,2
33RO200306_01,       A16N,     056,          1,         27,         27,2,20030704,       0627,    37.5007,   -19.9998,       4845,   271.4,  13.8043,  35.8756,2,  35.8745,2,    219.1,2,   224.2,2,    2.53,2,    7.52,2,    0.01,2,    0.45,2,-999.000,9,-999.000,9,-999.000,9,  -999.0,9,  -999.0,9,   -999.0,9,  -999.00,-999.0000,9,  -999.00,-999.000,9,-999.000,9,-999.000,9, -999.00,9,  -999.0,9,  -999.0,-999.000,9,-999.000,   0.225,2, -999.00,9, -999.00,9,  271.40,   0.1220,2,   0.0720,2,   0.0250,2,   0.0150,2,   0.0300,2,   0.0320,2,  13.7650,      0.011,2,     -999.0,9,     -999.0,9,     -999.0,9,         56,-999.000,-999.000,-999.000,     -999.0,9, -999.00,9, -999.00,9
33RO200306_01,       A16N,     056,          1,         26,         26,2,20030704,       0627,    37.5007,   -19.9998,       4845,   400.3,  12.5261,  35.6796,2,  35.6747,2,    203.5,2,   200.9,2,    4.86,2,   12.62,2,    0.00,2,    0.75,2,-999.000,9,-999.000,9,-999.000,9,  -999.0,9,  -999.0,9,   -999.0,9,  -999.00,-999.0000,9,  -999.00,-999.000,9,-999.000,9,-999.000,9, -999.00,9,  -999.0,9,  -999.0,-999.000,9,-999.000,-999.000,9, -999.00,9, -999.00,9,  400.30,-999.0000,9,-999.0000,9,-999.0000,9,-999.0000,9,-999.0000,9,-999.0000,9,  12.4716,     -999.0,9,       3.82,2,       0.11,2,       0.45,2,         56,-999.000,-999.000,-999.000,     101.07,2,    0.56,2,     0.0,2
33RO200306_01,       A16N,     056,          1,         25,         25,2,20030704,       0627,    37.5007,   -19.9998,       4845,   500.5,  11.6230,  35.5757,2,  35.5754,2,    195.4,2,   196.1,2,    5.93,2,   14.56,2,    0.01,2,    0.87,2,-999.000,9,-999.000,9,-999.000,9,  -999.0,9,  -999.0,9,   -999.0,9,  -999.00,-999.0000,9,  -999.00,-999.000,9,-999.000,9,-999.000,9, -999.00,9,  -999.0,9,  -999.0,-999.000,9,-999.000,   0.070,2, -999.00,9, -999.00,9,  500.50,   0.1100,3,   0.0730,3,   0.0330,3,   0.0220,3,   0.0220,3,   0.0230,3,  11.5578,      0.005,2,     -999.0,9,     -999.0,9,     -999.0,9,         56,-999.000,-999.000,-999.000,     -999.0,9, -999.00,9, -999.00,9
33RO200306_01,       A16N,     056,          1,         24,         24,2,20030704,       0627,    37.5007,   -19.9998,       4845,   600.3,  10.8267,  35.5160,2,  35.5166,2,    188.1,2,   189.2,2,    7.28,2,   16.25,2,    0.00,2,    0.98,2,-999.000,9,-999.000,9,-999.000,9,  -999.0,9,  -999.0,9,   -999.0,9,  -999.00,-999.0000,9,  -999.00,-999.000,9,-999.000,9,-999.000,9, -999.00,9,  -999.0,9,  -999.0,-999.000,9,-999.000,-999.000,9, -999.00,9, -999.00,9,  600.30,-999.0000,9,-999.0000,9,-999.0000,9,-999.0000,9,-999.0000,9,-999.0000,9,  10.7516,     -999.0,9,       2.66,2,       0.08,2,       0.39,2,         56,-999.000,-999.000,-999.000,        3.9,2,    0.12,2,    0.11,2
33RO200306_01,       A16N,     056,          1,         23,         23,2,20030704,       0627,    37.5007,   -19.9998,       4845,   699.5,  10.1369,  35.5120,2,  35.5126,2,    184.2,2,   183.1,2,    8.88,2,   17.65,2,    0.00,2,    1.08,2,-999.000,9,-999.000,9,-999.000,9,  -999.0,9,  -999.0,9,   -999.0,9,  -999.00,-999.0000,9,  -999.00,-999.000,9,-999.000,9,-999.000,9, -999.00,9,  -999.0,9,  -999.0,-999.000,9,-999.000,-999.000,9, -999.00,9, -999.00,9,  699.50,-999.0000,9,-999.0000,9,-999.0000,9,-999.0000,9,-999.0000,9,-999.0000,9,  10.0525,     -999.0,9,     -999.0,9,     -999.0,9,     -999.0,9,         56,-999.000,-999.000,-999.000,     -999.0,9, -999.00,9, -999.00,9
33RO200306_01,       A16N,     056,          1,         22,         22,2,20030704,       0627,    37.5007,   -19.9998,       4845,   800.2,   9.9267,  35.6056,2,  35.6073,2,    183.0,2,   183.4,2,    9.52,2,   17.72,2,    0.00,2,    1.08,2,   1.621,2,   0.858,2,   0.038,2,  -999.0,9,  -999.0,9,   -999.0,9,  -999.00,-999.0000,9,  -999.00,-999.000,9,-999.000,9,-999.000,9, -999.00,9,  -999.0,9,  -999.0,-999.000,9,-999.000,-999.000,9, -999.00,9, -999.00,9,  800.20,-999.0000,9,-999.0000,9,-999.0000,9,-999.0000,9,-999.0000,9,-999.0000,9,   9.8307,     -999.0,9,       1.42,2,       0.07,2,       0.29,2,         56,-999.000,-999.000,-999.000,      27.29,2,     0.0,2,     0.0,2
33RO200306_01,       A16N,     056,          1,         21,         21,2,20030704,       0627,    37.5007,   -19.9998,       4845,   900.9,  10.4857,  35.8659,2,  35.8692,2,    184.4,2,   181.3,2,    9.14,2,   16.60,2,    0.00,2,    1.01,2,   1.587,2,   0.844,2,   0.031,2,  -999.0,9,  -999.0,9,   -999.0,9,  -999.00,-999.0000,9,  -999.00,-999.000,9,-999.000,9,-999.000,9, -999.00,9,  -999.0,9,  -999.0,-999.000,9,-999.000,-999.000,9, -999.00,9, -999.00,9,  900.90,-999.0000,9,-999.0000,9,-999.0000,9,-999.0000,9,-999.0000,9,-999.0000,9,  10.3732,     -999.0,9,     -999.0,9,     -999.0,9,     -999.0,9,         56,-999.000,-999.000,-999.000,     -999.0,9, -999.00,9, -999.00,9
33RO200306_01,       A16N,     056,          1,         20,         20,2,20030704,       0627,    37.5007,   -19.9998,       4845,  1000.9,  10.5792,  35.9857,2,  35.9869,2,    184.3,2,   183.7,2,    9.39,2,   16.39,2,    0.00,2,    0.99,2,-999.000,9,-999.000,9,-999.000,9,  -999.0,9,  -999.0,9,   -999.0,9,  -999.00,-999.0000,9,  -999.00,-999.000,9,-999.000,9,-999.000,9, -999.00,9,  -999.0,9,  -999.0,-999.000,9,-999.000,-999.000,9, -999.00,9, -999.00,9, 1000.90,   0.1120,2,   0.0750,2,   0.0370,2,   0.0260,2,   0.0190,2,   0.0210,2,  10.4529,     -999.0,9,       1.20,2,       0.09,2,       0.31,2,         56,-999.000,-999.000,-999.000,      19.96,2,    0.04,2,    0.04,2
33RO200306_01,       A16N,     056,          1,         19,         19,2,20030704,       0627,    37.5007,   -19.9998,       4845,  1100.3,  10.3243,  36.0266,2,  36.0115,3,    186.0,2,   184.7,2,    9.82,2,   16.41,2,    0.00,2,    0.99,2,   1.366,2,   0.727,2,   0.029,2,  -999.0,9,  -999.0,9,   -999.0,9,  -999.00,-999.0000,9,  -999.00,-999.000,9,-999.000,9,-999.000,9, -999.00,9,  -999.0,9,  -999.0,-999.000,9,-999.000,-999.000,9, -999.00,9, -999.00,9, 1100.30,-999.0000,9,-999.0000,9,-999.0000,9,-999.0000,9,-999.0000,9,-999.0000,9,  10.1867,     -999.0,9,     -999.0,9,     -999.0,9,     -999.0,9,         56,-999.000,-999.000,-999.000,     -999.0,9, -999.00,9, -999.00,9
33RO200306_01,       A16N,     056,          1,         18,         18,2,20030704,       0627,    37.5007,   -19.9998,       4845,  1300.3,   8.3338,  35.7062,2,  35.7038,2,    197.8,2,   203.9,2,   10.99,2,   17.17,2,    0.00,2,    1.06,2,-999.000,9,-999.000,9,-999.000,9,  -999.0,9,  -999.0,9,   -999.0,9,  -999.00,-999.0000,9,  -999.00,-999.000,9,-999.000,9,-999.000,9, -999.00,9,  -999.0,9,  -999.0,-999.000,9,-999.000,-999.000,9, -999.00,9, -999.00,9, 1300.30,-999.0000,9,-999.0000,9,-999.0000,9,-999.0000,9,-999.0000,9,-999.0000,9,   8.1886,     -999.0,9,       0.90,2,       0.08,2,       0.79,2,         56,-999.000,-999.000,-999.000,        7.4,2,    0.34,2,     0.0,2
33RO200306_01,       A16N,     056,          1,         17,         17,2,20030704,       0627,    37.5007,   -19.9998,       4845,  1498.6,   6.2389,  35.3570,2,  35.3572,2,    221.8,2,   227.6,2,   11.82,2,   17.72,2,    0.00,2,    1.12,2,   1.369,2,   0.690,2,   0.047,2,  -999.0,9,  -999.0,9,   -999.0,9,  -999.00,-999.0000,9,  -999.00,-999.000,9,-999.000,9,-999.000,9, -999.00,9,  -999.0,9,  -999.0,-999.000,9,-999.000,-999.000,9, -999.00,9, -999.00,9, 1498.60,-999.0000,9,-999.0000,9,-999.0000,9,-999.0000,9,-999.0000,9,-999.0000,9,   6.0930,     -999.0,9,     -999.0,9,     -999.0,9,     -999.0,9,         56,-999.000,-999.000,-999.000,     -999.0,9, -999.00,9, -999.00,9
33RO200306_01,       A16N,     056,          1,         16,         16,2,20030704,       0627,    37.5007,   -19.9998,       4845,  1999.4,   3.9983,  35.0300,2,  35.0324,2,    258.8,2,   257.9,2,   14.13,2,   17.78,2,    0.00,2,    1.15,2,   1.083,2,   0.537,2,   0.045,2,  -999.0,9,  -999.0,9,   -999.0,9,  -999.00,-999.0000,9,  -999.00,-999.000,9,-999.000,9,-999.000,9, -999.00,9,  -999.0,9,  -999.0,-999.000,9,-999.000,-999.000,9, -999.00,9, -999.00,9, 1999.40,   0.1340,2,   0.0870,2,   0.0400,2,   0.0280,2,   0.0190,2,   0.0220,2,   3.8307,     -999.0,9,       0.62,2,       0.00,2,       0.19,2,         56,-999.000,-999.000,-999.000,       7.49,2,    0.36,2,     0.0,2
33RO200306_01,       A16N,     056,          1,         15,         15,2,20030704,       0627,    37.5007,   -19.9998,       4845,  2500.1,   3.2895,  34.9791,2,  34.9800,2,    257.6,2,   255.4,2,   21.82,2,   18.74,2,    0.00,2,    1.23,2,-999.000,9,-999.000,9,-999.000,9,  -999.0,9,  2320.9,2,   -999.0,9,  -999.00,-999.0000,9,  -999.00,-999.000,9,-999.000,9,-999.000,9, -999.00,9,  -999.0,9,  -999.0,-999.000,9,-999.000,-999.000,9, -999.00,9, -999.00,9, 2500.10,-999.0000,9,-999.0000,9,-999.0000,9,-999.0000,9,-999.0000,9,-999.0000,9,   3.0841,     -999.0,9,     -999.0,9,     -999.0,9,     -999.0,9,         56,-999.000,-999.000,-999.000,     -999.0,9, -999.00,9, -999.00,9
33RO200306_01,       A16N,     056,          1,          9,          9,9,20030704,       0627,    37.5007,   -19.9998,       4845,  2649.9,   3.0700,  34.9634,2,-999.0000,9,    256.4,2,  -999.0,9, -999.00,9, -999.00,9, -999.00,9, -999.00,9,-999.000,9,-999.000,9,-999.000,9,  -999.0,9,  -999.0,9,   -999.0,9,  -999.00,-999.0000,9,  -999.00,-999.000,9,-999.000,9,-999.000,9, -999.00,9,  -999.0,9,  -999.0,-999.000,9,-999.000,-999.000,9, -999.00,9, -999.00,9, 2649.90,-999.0000,9,-999.0000,9,-999.0000,9,-999.0000,9,-999.0000,9,-999.0000,9,   2.8537,     -999.0,9,     -999.0,9,     -999.0,9,     -999.0,9,         56,-999.000,-999.000,-999.000,     -999.0,9, -999.00,9, -999.00,9
33RO200306_01,       A16N,     056,          1,          8,          8,9,20030704,       0627,    37.5007,   -19.9998,       4845,  2947.5,   2.8358,  34.9462,2,-999.0000,9,    252.1,2,  -999.0,9, -999.00,9, -999.00,9, -999.00,9, -999.00,9,-999.000,9,-999.000,9,-999.000,9,  -999.0,9,  -999.0,9,   -999.0,9,  -999.00,-999.0000,9,  -999.00,-999.000,9,-999.000,9,-999.000,9, -999.00,9,  -999.0,9,  -999.0,-999.000,9,-999.000,-999.000,9, -999.00,9, -999.00,9, 2947.50,-999.0000,9,-999.0000,9,-999.0000,9,-999.0000,9,-999.0000,9,-999.0000,9,   2.5940,     -999.0,9,     -999.0,9,     -999.0,9,     -999.0,9,         56,-999.000,-999.000,-999.000,     -999.0,9, -999.00,9, -999.00,9
33RO200306_01,       A16N,     056,          1,         14,         14,2,20030704,       0627,    37.5007,   -19.9998,       4845,  3000.4,   2.8347,  34.9463,2,  34.9476,2,    251.3,2,   249.3,2,   30.83,2,   19.98,2,    0.00,2,    1.33,2,-999.000,9,-999.000,9,-999.000,9,  -999.0,9,  2332.5,2,   -999.0,9,  -999.00,-999.0000,9,  -999.00,-999.000,9,-999.000,9,-999.000,9, -999.00,9,  -999.0,9,  -999.0,-999.000,9,-999.000,-999.000,9, -999.00,9, -999.00,9, 3000.40,   0.1510,2,   0.1020,2,   0.0510,2,   0.0360,2,   0.0160,2,   0.0180,2,   2.5874,     -999.0,9,       0.00,2,       0.00,2,       0.20,2,         56,-999.000,-999.000,-999.000,      25.31,2,    2.41,2,     0.1,2
33RO200306_01,       A16N,     056,          1,          7,          7,9,20030704,       0627,    37.5007,   -19.9998,       4845,  3249.0,   2.6991,  34.9337,2,-999.0000,9,    248.6,2,  -999.0,9, -999.00,9, -999.00,9, -999.00,9, -999.00,9,-999.000,9,-999.000,9,-999.000,9,  -999.0,9,  -999.0,9,   -999.0,9,  -999.00,-999.0000,9,  -999.00,-999.000,9,-999.000,9,-999.000,9, -999.00,9,  -999.0,9,  -999.0,-999.000,9,-999.000,-999.000,9, -999.00,9, -999.00,9, 3249.00,-999.0000,9,-999.0000,9,-999.0000,9,-999.0000,9,-999.0000,9,-999.0000,9,   2.4288,     -999.0,9,     -999.0,9,     -999.0,9,     -999.0,9,         56,-999.000,-999.000,-999.000,     -999.0,9, -999.00,9, -999.00,9
33RO200306_01,       A16N,     056,          1,         13,         13,2,20030704,       0627,    37.5007,   -19.9998,       4845,  3500.7,   2.6313,  34.9261,2,  34.9266,2,    246.1,2,   279.2,3,   38.04,6,   21.12,6,    0.00,6,    1.41,6,-999.000,9,-999.000,9,-999.000,9,  -999.0,9,  2340.9,2,   -999.0,9,  -999.00,-999.0000,9,  -999.00,-999.000,9,-999.000,9,-999.000,9, -999.00,9,  -999.0,9,  -999.0,-999.000,9,-999.000,-999.000,9, -999.00,9, -999.00,9, 3500.70,-999.0000,9,-999.0000,9,-999.0000,9,-999.0000,9,-999.0000,9,-999.0000,9,   2.3355,     -999.0,9,     -999.0,9,     -999.0,9,     -999.0,9,         56,-999.000,-999.000,-999.000,     -999.0,9, -999.00,9, -999.00,9
33RO200306_01,       A16N,     056,          1,          6,          6,9,20030704,       0627,    37.5007,   -19.9998,       4845,  3549.9,   2.6055,  34.9229,2,-999.0000,9,    245.5,2,  -999.0,9, -999.00,9, -999.00,9, -999.00,9, -999.00,9,-999.000,9,-999.000,9,-999.000,9,  -999.0,9,  -999.0,9,   -999.0,9,  -999.00,-999.0000,9,  -999.00,-999.000,9,-999.000,9,-999.000,9, -999.00,9,  -999.0,9,  -999.0,-999.000,9,-999.000,-999.000,9, -999.00,9, -999.00,9, 3549.90,-999.0000,9,-999.0000,9,-999.0000,9,-999.0000,9,-999.0000,9,-999.0000,9,   2.3049,     -999.0,9,     -999.0,9,     -999.0,9,     -999.0,9,         56,-999.000,-999.000,-999.000,     -999.0,9, -999.00,9, -999.00,9
33RO200306_01,       A16N,     056,          1,          5,          5,9,20030704,       0627,    37.5007,   -19.9998,       4845,  3850.3,   2.5515,  34.9146,2,-999.0000,9,    243.9,2,  -999.0,9, -999.00,9, -999.00,9, -999.00,9, -999.00,9,-999.000,9,-999.000,9,-999.000,9,  -999.0,9,  -999.0,9,   -999.0,9,  -999.00,-999.0000,9,  -999.00,-999.000,9,-999.000,9,-999.000,9, -999.00,9,  -999.0,9,  -999.0,-999.000,9,-999.000,-999.000,9, -999.00,9, -999.00,9, 3850.30,-999.0000,9,-999.0000,9,-999.0000,9,-999.0000,9,-999.0000,9,-999.0000,9,   2.2189,     -999.0,9,     -999.0,9,     -999.0,9,     -999.0,9,         56,-999.000,-999.000,-999.000,     -999.0,9, -999.00,9, -999.00,9