BOTTLE,20230908CCHSIOCBG
EXPOCODE,SECT_ID,STNNBR,CASTNO,SAMPNO,BTLNBR,BTLNBR_FLAG_W,DATE,TIME,LATITUDE,LONGITUDE,DEPTH,CTDPRS,CTDTMP,CTDSAL,CTDSAL_FLAG_W,SALNTY,SALNTY_FLAG_W,CTDOXY,CTDOXY_FLAG_W,OXYGEN,OXYGEN_FLAG_W,SILCAT,SILCAT_FLAG_W,NITRAT,NITRAT_FLAG_W,NITRIT,NITRIT_FLAG_W,PHSPHT,PHSPHT_FLAG_W,CFC-11,CFC-11_FLAG_W,CFC-12,CFC-12_FLAG_W,CFC113,CFC113_FLAG_W,TCARBN,TCARBN_FLAG_W,ALKALI,ALKALI_FLAG_W,FCO2,FCO2_FLAG_W,FCO2TMP,PH_SWS,PH_SWS_FLAG_W,PH_TMP,TRITUM,TRITUM_FLAG_W,HELIUM,HELIUM_FLAG_W,DELHE3,DELHE3_FLAG_W,DELC13,DELC13_FLAG_W,DELC14,DELC14_FLAG_W,C14ERR,NEON,NEON_FLAG_W,NEONER,POC,POC_FLAG_W,DOC,DOC_FLAG_W,TDN,TDN_FLAG_W,CTDRAW,CDOM325,CDOM325_FLAG_W,CDOM340,CDOM340_FLAG_W,CDOM380,CDOM380_FLAG_W,CDOM412,CDOM412_FLAG_W,CDOMSL,CDOMSL_FLAG_W,CDOMSN,CDOMSN_FLAG_W,THETA,PON,PON_FLAG_W,HCFC-22,HCFC-22_FLAG_W,HCFC-142b,HCFC-142b_FLAG_W,HCFC-141b,HCFC-141b_FLAG_W,STNNBR_U,HELIER,DELHER,TRITER,CH3CL,CH3CL_FLAG_W,CH3BR,CH3BR_FLAG_W,CH3I,CH3I_FLAG_W
,,,,,,,,,,,METERS,DBAR,ITS-90,PSS-78,,PSS-78,,UMOL/KG,,UMOL/KG,,UMOL/KG,,UMOL/KG,,UMOL/KG,,UMOL/KG,,PMOL/KG,,PMOL/KG,,PMOL/KG,,UMOL/KG,,UMOL/KG,,UATM,,DEG C,,,DEG C,TU,,NMOL/KG,,PERCNT,,/MILLE,,/MILLE,,/MILLE,NMOL/KG,,NMOL/KG,UG/KG,,UMOL/KG,,UMOL/KG,,DBAR,1/M,,1/M,,1/M,,1/M,,1/NM,,1/NM,,DEG C,UMOL/L,,PMOL/KG,,PMOL/KG,,PMOL/KG,,,NMOL/KG,PERCNT,TU,PMOL/KG,,PMOL/KG,,PMOL/KG,
33RO200306_01,       A16N,     065,          1,         33,         33,2,20030707,       0637,    33.0002,   -21.6867,       5258,     3.1,  23.4864,  37.0970,2,  37.0819,2,    221.9,2,   216.3,2,    0.69,2,    0.02,2,    0.00,2,    0.01,2,   2.049,2,   1.272,2,   0.173,2,  2109.3,3,  2421.0,6,    347.6,2,    20.00,   8.0184,6,    25.00,-999.000,9,-999.000,9,-999.000,9, -999.00,9,  -999.0,9,  -999.0,-999.000,9,-999.000,   5.661,2,   64.88,2,    4.57,2,    3.10,-999.0000,9,-999.0000,9,-999.0000,9,-999.0000,9,-999.0000,9,-999.0000,9,  23.4858,      0.761,2,     -999.0,9,     -999.0,9,     -999.0,9,         65,-999.000,-999.000,-999.000,     -999.0,9, -999.00,9, -999.00,9
33RO200306_01,       A16N,     065,          1,         35,         35,2,20030707,       0637,    33.0002,   -21.6867,       5258,     3.1,  23.4846,  37.0975,2,  37.0943,2,    221.9,2,  -999.0,1, -999.00,1, -999.00,1, -999.00,1, -999.00,1,-999.000,9,-999.000,9,-999.000,9,  -999.0,9,  -999.0,9,   -999.0,9,  -999.00,-999.0000,9,  -999.00,-999.000,9,-999.000,9,-999.000,9, -999.00,9,  -999.0,9,  -999.0,-999.000,9,-999.000,-999.000,9, -999.00,9, -999.00,9,    3.10,-999.0000,9,-999.0000,9,-999.0000,9,-999.0000,9,-999.0000,9,-999.0000,9,  23.4840,     -999.0,9,     -999.0,9,     -999.0,9,     -999.0,9,         65,-999.000,-999.000,-999.000,     -999.0,9, -999.00,9, -999.00,9
33RO200306_01,       A16N,     065,          1,         32,         32,2,20030707,       0637,    33.0002,   -21.6867,       5258,    19.9,  21.7394,  36.9056,2,  36.8708,2,    227.3,2,   232.2,2,    0.71,2,    0.02,2,    0.00,2,    0.02,2,-999.000,9,-999.000,9,-999.000,9,  2098.1,2,  2408.2,2,    350.2,2,    20.00,   8.0202,2,    25.00,-999.000,9,-999.000,9,-999.000,9, -999.00,9,  -999.0,9,  -999.0,-999.000,9,-999.000,   2.856,2,   65.20,2,    4.71,2,   19.90,-999.0000,9,-999.0000,9,-999.0000,9,-999.0000,9,-999.0000,9,-999.0000,9,  21.7355,      0.326,2,     -999.0,9,     -999.0,9,     -999.0,9,         65,-999.000,-999.000,-999.000,     -999.0,9, -999.00,9, -999.00,9
33RO200306_01,       A16N,     065,          1,         31,         31,2,20030707,       0637,    33.0002,   -21.6867,       5258,    40.3,  20.1509,  36.8072,2,  36.8088,2,    238.7,2,   239.2,2,    0.70,2,    0.02,2,    0.00,2,    0.02,2,   2.390,2,   1.474,2,   0.201,2,  2095.0,2,  2404.5,2,    348.6,2,    20.00,   8.0219,2,    25.00,-999.000,9,   1.721,2,  -2.111,2, -999.00,9,  -999.0,9,  -999.0,   6.897,2,   0.029,   2.795,2, -999.00,9, -999.00,9,   40.30,-999.0000,9,-999.0000,9,-999.0000,9,-999.0000,9,-999.0000,9,-999.0000,9,  20.1434,      0.316,2,     -999.0,9,     -999.0,9,     -999.0,9,         65,   0.003,   0.211,-999.000,     -999.0,9, -999.00,9, -999.00,9
33RO200306_01,       A16N,     065,          1,         30,         30,2,20030707,       0637,    33.0002,   -21.6867,       5258,    60.0,  19.4347,  36.7758,2,  36.7541,2,    238.2,2,   236.1,2,    0.73,2,    0.02,2,    0.00,2,    0.02,2,-999.000,9,-999.000,9,-999.000,9,  2095.6,2,  2401.6,2,    356.1,2,    20.00,   8.0198,2,    25.00,-999.000,9,-999.000,9,-999.000,9, -999.00,9,  -999.0,9,  -999.0,-999.000,9,-999.000,   2.361,2,   64.15,2,    4.59,2,   60.00,-999.0000,9,-999.0000,9,-999.0000,9,-999.0000,9,-999.0000,9,-999.0000,9,  19.4237,      0.290,2,     -999.0,9,     -999.0,9,     -999.0,9,         65,-999.000,-999.000,-999.000,     -999.0,9, -999.00,9, -999.00,9
33RO200306_01,       A16N,     065,          1,         29,         29,2,20030707,       0637,    33.0002,   -21.6867,       5258,    80.8,  18.8831,  36.7120,2,  36.7069,2,    236.6,2,   233.4,2,    0.76,2,    0.02,2,    0.00,2,    0.02,2,   2.416,2,   1.470,2,   0.198,2,  2096.2,2,  2398.5,2,    359.8,2,    20.00,   8.0035,2,    25.00,   1.158,2,-999.000,9,-999.000,9, -999.00,9,  -999.0,9,  -999.0,-999.000,9,-999.000,   3.160,2, -999.00,9, -999.00,9,   80.80,-999.0000,9,-999.0000,9,-999.0000,9,-999.0000,9,-999.0000,9,-999.0000,9,  18.8686,      0.346,2,       6.02,2,       0.28,2,       1.64,2,         65,-999.000,-999.000,   0.010,      15.51,2,    1.39,2,   10.89,2
33RO200306_01,       A16N,     065,          1,         28,         28,2,20030707,       0637,    33.0002,   -21.6867,       5258,   100.3,  18.5321,  36.6810,2,  36.6775,2,    231.7,2,   228.3,2,    0.80,2,    0.03,2,    0.00,2,    0.02,2,   2.453,2,   1.502,2,   0.198,2,  2099.4,2,  2396.6,2,    368.9,2,    20.00,   8.0033,2,    25.00,-999.000,9,-999.000,9,-999.000,9, -999.00,9,  -999.0,9,  -999.0,-999.000,9,-999.000,   2.247,2,   61.05,2,    5.24,2,  100.30,-999.0000,9,-999.0000,9,-999.0000,9,-999.0000,9,-999.0000,9,-999.0000,9,  18.5144,      0.330,2,     -999.0,9,     -999.0,9,     -999.0,9,         65,-999.000,-999.000,-999.000,     -999.0,9, -999.00,9, -999.00,9
33RO200306_01,       A16N,     065,          1,         27,         27,2,20030707,       0637,    33.0002,   -21.6867,       5258,   123.9,  18.2678,  36.6378,2,  36.6377,2,    226.1,2,   223.9,2,    0.84,2,    0.28,2,    0.07,2,    0.04,2,   2.478,2,   1.513,2,   0.191,2,  2105.2,2,  2393.9,2,    375.9,2,    20.00,   7.9916,2,    25.00,   1.223,2,-999.000,9,-999.000,9, -999.00,9,  -999.0,9,  -999.0,-999.000,9,-999.000,-999.000,9,   58.70,2,    5.66,2,  123.90,-999.0000,9,-999.0000,9,-999.0000,9,-999.0000,9,-999.0000,9,-999.0000,9,  18.2461,     -999.0,9,       5.56,2,       0.29,2,       1.68,2,         65,-999.000,-999.000,   0.020,       9.54,2,    1.63,2,    2.34,2
33RO200306_01,       A16N,     065,          1,         26,         26,2,20030707,       0637,    33.0002,   -21.6867,       5258,   150.3,  17.8242,  36.5789,2,  36.5634,2,    219.7,2,   217.3,2,    0.97,2,    1.87,2,    0.03,2,    0.12,2,   2.505,2,   1.519,2,   0.161,2,  2113.5,2,  2388.4,2,    405.7,2,    20.00,   7.9664,2,    25.00,-999.000,9,-999.000,9,-999.000,9, -999.00,9,  -999.0,9,  -999.0,-999.000,9,-999.000,   1.650,2, -999.00,9, -999.00,9,  150.30,-999.0000,9,-999.0000,9,-999.0000,9,-999.0000,9,-999.0000,9,-999.0000,9,  17.7983,      0.197,2,     -999.0,9,     -999.0,9,     -999.0,9,         65,-999.000,-999.000,-999.000,     -999.0,9, -999.00,9, -999.00,9
33RO200306_01,       A16N,     065,          1,         25,         25,2,20030707,       0637,    33.0002,   -21.6867,       5258,   200.6,  16.6152,  36.3361,2,  36.3330,2,    208.2,2,   207.6,2,    1.57,2,    4.53,2,    0.01,2,    0.26,2,   2.583,2,   1.539,2,   0.083,2,  2118.8,2,  2373.9,2,    433.7,2,    20.00,   7.9442,2,    25.00,   1.271,2,-999.000,9,-999.000,9, -999.00,9,  -999.0,9,  -999.0,-999.000,9,-999.000,-999.000,9,   52.36,2,    8.92,2,  200.60,-999.0000,9,-999.0000,9,-999.0000,9,-999.0000,9,-999.0000,9,-999.0000,9,  16.5823,     -999.0,9,       5.10,2,       0.26,2,       1.15,2,         65,-999.000,-999.000,   0.020,        0.0,2,    0.11,2,     0.0,2
33RO200306_01,       A16N,     065,          1,         24,         24,2,20030707,       0637,    33.0002,   -21.6867,       5258,   250.1,  15.4591,  36.1144,2,  36.1114,2,    203.1,2,   205.6,2,    2.36,2,    6.98,2,    0.01,2,    0.40,2,   2.662,2,   1.563,2,   0.059,2,  2121.8,2,  2360.5,2,    470.5,2,    20.00,   7.9090,2,    25.00,-999.000,9,-999.000,9,-999.000,9, -999.00,9,  -999.0,9,  -999.0,-999.000,9,-999.000,   1.496,2,   48.78,2,   10.46,2,  250.10,-999.0000,9,-999.0000,9,-999.0000,9,-999.0000,9,-999.0000,9,-999.0000,9,  15.4200,      0.147,2,     -999.0,9,     -999.0,9,     -999.0,9,         65,-999.000,-999.000,-999.000,     -999.0,9, -999.00,9, -999.00,9
33RO200306_01,       A16N,     065,          1,         23,         23,2,20030707,       0637,    33.0002,   -21.6867,       5258,   300.8,  14.7209,  35.9972,2,  35.9903,2,    204.8,2,   207.6,2,    2.79,2,    8.04,2,    0.01,2,    0.47,2,   2.710,2,   1.565,2,   0.063,2,  2126.6,2,  2354.6,2,    492.1,2,    20.00,   7.8917,2,    25.00,-999.000,9,   1.751,2,  -0.058,2, -999.00,9,  -999.0,9,  -999.0,   7.159,2,   0.030,-999.000,9,   49.76,2,   11.38,2,  300.80,-999.0000,9,-999.0000,9,-999.0000,9,-999.0000,9,-999.0000,9,-999.0000,9,  14.6754,     -999.0,9,       4.28,2,       0.34,2,       0.42,2,         65,   0.003,    0.21,-999.000,        0.0,2,     0.0,2,     0.0,2
33RO200306_01,       A16N,     065,          1,         22,         22,2,20030707,       0637,    33.0002,   -21.6867,       5258,   351.0,  14.2363,  35.9216,2,  35.9115,2,    201.4,2,   207.2,2,    3.26,2,    9.20,2,    0.00,2,    0.54,2,   2.729,2,   1.563,2,   0.060,2,  2131.6,2,  2350.7,2,    514.4,2,    20.00,   7.8774,2,    25.00,-999.000,9,-999.000,9,-999.000,9, -999.00,9,  -999.0,9,  -999.0,-999.000,9,-999.000,-999.000,9,   49.10,2,   12.48,2,  351.00,-999.0000,9,-999.0000,9,-999.0000,9,-999.0000,9,-999.0000,9,-999.0000,9,  14.1843,     -999.0,9,     -999.0,9,     -999.0,9,     -999.0,9,         65,-999.000,-999.000,-999.000,     -999.0,9, -999.00,9, -999.00,9
33RO200306_01,       A16N,     065,          1,         21,         21,2,20030707,       0637,    33.0002,   -21.6867,       5258,   400.4,  13.5564,  35.8270,2,  35.8214,2,    197.8,2,   197.3,2,    3.97,2,   10.99,2,    0.00,2,    0.65,2,   2.718,2,   1.539,2,   0.054,2,  2139.3,2,  2345.5,2,    552.2,2,    20.00,   7.8509,2,    25.00,   1.292,2,-999.000,9,-999.000,9, -999.00,9,  -999.0,9,  -999.0,-999.000,9,-999.000,-999.000,9,   48.29,2,   14.55,2,  400.40,-999.0000,9,-999.0000,9,-999.0000,9,-999.0000,9,-999.0000,9,-999.0000,9,  13.4989,     -999.0,9,       4.40,2,       0.23,2,       0.91,2,         65,-999.000,-999.000,   0.020,        0.0,2,    0.04,2,     0.0,2
33RO200306_01,       A16N,     065,          1,         20,         20,2,20030707,       0637,    33.0002,   -21.6867,       5258,   502.3,  12.3627,  35.6686,2,  35.6651,2,    193.1,2,   195.4,2,    5.19,2,   13.40,2,    0.00,2,    0.79,2,   2.633,2,   1.446,2,   0.059,2,  2149.2,2,  2338.0,2,    603.2,3,    20.00,   7.8191,2,    25.00,-999.000,9,-999.000,9,-999.000,9, -999.00,9,  -999.0,9,  -999.0,-999.000,9,-999.000,   0.850,2,   46.66,2,   16.73,2,  502.30,-999.0000,9,-999.0000,9,-999.0000,9,-999.0000,9,-999.0000,9,-999.0000,9,  12.2946,      0.088,2,     -999.0,9,     -999.0,9,     -999.0,9,         65,-999.000,-999.000,-999.000,     -999.0,9, -999.00,9, -999.00,9
33RO200306_01,       A16N,     065,          1,         19,         19,2,20030707,       0637,    33.0002,   -21.6867,       5258,   600.4,  11.4669,  35.5852,2,  35.5863,2,    184.9,2,   185.3,2,    6.58,2,   15.76,2,    0.00,2,    0.94,2,   2.359,2,   1.254,2,   0.049,2,  2159.5,2,  2333.6,2,    655.1,2,    20.00,   7.7846,2,    25.00,   1.212,2,-999.000,9,-999.000,9, -999.00,9,  -999.0,9,  -999.0,-999.000,9,-999.000,-999.000,9,   45.93,2,   19.17,2,  600.40,-999.0000,9,-999.0000,9,-999.0000,9,-999.0000,9,-999.0000,9,-999.0000,9,  11.3890,     -999.0,9,     -999.0,9,     -999.0,9,     -999.0,9,         65,-999.000,-999.000,   0.020,     -999.0,9, -999.00,9, -999.00,9
33RO200306_01,       A16N,     065,          1,         18,         18,2,20030707,       0637,    33.0002,   -21.6867,       5258,   701.0,  10.6525,  35.5256,2,  35.5253,2,    177.1,2,   176.1,2,    8.61,2,   18.03,2,    0.00,2,    1.09,2,   1.789,2,   0.936,2,   0.034,2,  2169.3,2,  2332.5,2,    704.0,3,    20.00,   7.7605,2,    25.00,   0.923,2,   1.771,2,   7.001,2, -999.00,9,  -999.0,9,  -999.0,   7.374,2,   0.031,-999.000,9,   44.88,2,   21.21,2,  701.00,-999.0000,9,-999.0000,9,-999.0000,9,-999.0000,9,-999.0000,9,-999.0000,9,  10.5653,     -999.0,9,       1.61,2,       0.07,2,       0.33,2,         65,   0.003,   0.208,   0.030,      18.39,2,    0.34,2,     0.0,2
33RO200306_01,       A16N,     065,          1,         17,         17,2,20030707,       0637,    33.0002,   -21.6867,       5258,   800.4,  10.0608,  35.5149,2,  35.5151,2,    165.1,2,   166.0,2,   10.64,2,   19.89,2,    0.00,2,    1.21,2,   1.277,2,   0.659,2,   0.021,2,  2179.1,2,  2335.7,2,    742.6,2,    20.00,   7.7373,2,    25.00,   0.817,2,   1.775,2,   7.903,2, -999.00,9,  -999.0,9,  -999.0,   7.474,2,   0.056,-999.000,9,   46.51,2,   23.05,2,  800.40,-999.0000,9,-999.0000,9,-999.0000,9,-999.0000,9,-999.0000,9,-999.0000,9,   9.9642,     -999.0,9,     -999.0,9,     -999.0,9,     -999.0,9,         65,   0.004,   0.193,   0.030,     -999.0,9, -999.00,9, -999.00,9
33RO200306_01,       A16N,     065,          1,         16,         16,2,20030707,       0637,    33.0002,   -21.6867,       5258,   900.4,   9.5751,  35.5468,2,  35.5464,2,    165.5,2,   164.7,2,   12.01,2,   20.55,2,    0.00,2,    1.26,2,   0.997,6,   0.524,6,   0.017,6,  2187.5,2,  2340.7,2,    758.1,2,    20.00,   7.7305,2,    25.00,-999.000,9,-999.000,9,-999.000,9, -999.00,9,  -999.0,9,  -999.0,-999.000,9,-999.000,-999.000,9,   45.29,2,   23.76,2,  900.40,-999.0000,9,-999.0000,9,-999.0000,9,-999.0000,9,-999.0000,9,-999.0000,9,   9.4689,     -999.0,9,     -999.0,9,     -999.0,9,     -999.0,9,         65,-999.000,-999.000,-999.000,     -999.0,9, -999.00,9, -999.00,9
33RO200306_01,       A16N,     065,          1,         15,         15,2,20030707,       0637,    33.0002,   -21.6867,       5258,   999.5,   8.8062,  35.5104,2,  35.5084,2,    173.3,2,   172.5,2,   13.07,2,   20.69,2,    0.00,2,    1.28,2,   0.771,2,   0.400,2,   0.011,2,  2191.8,2,  2342.6,6,    758.4,2,    20.00,   7.7425,6,    25.00,   0.585,2,-999.000,9,-999.000,9, -999.00,9,  -999.0,9,  -999.0,-999.000,9,-999.000,-999.000,9,   44.15,2,   23.95,2,  999.50,-999.0000,9,-999.0000,9,-999.0000,9,-999.0000,9,-999.0000,9,-999.0000,9,   8.6933,     -999.0,9,       0.54,2,       0.00,2,       0.39,2,         65,-999.000,-999.000,   0.030,       4.81,2,    0.08,2,     0.0,2
33RO200306_01,       A16N,     065,          1,         14,         14,2,20030707,       0637,    33.0002,   -21.6867,       5258,  1099.3,   8.2680,  35.4868,2,  35.4888,2,    178.6,2,   178.0,2,   13.88,2,   20.82,2,    0.00,2,    1.30,2,   0.623,2,   0.327,2,   0.010,2,  2189.5,3,  2342.5,2,    766.9,6,    20.00,   7.7319,2,    25.00,   0.486,2,   1.777,2,   6.303,2, -999.00,9,  -999.0,9,  -999.0,   7.429,2,   0.056,-999.000,9,   43.17,2,   25.12,2, 1099.30,-999.0000,9,-999.0000,9,-999.0000,9,-999.0000,9,-999.0000,9,-999.0000,9,   8.1474,     -999.0,9,     -999.0,9,     -999.0,9,     -999.0,9,         65,   0.004,   0.193,   0.010,     -999.0,9, -999.00,9, -999.00,9
33RO200306_01,       A16N,     065,          1,         13,         13,2,20030707,       0637,    33.0002,   -21.6867,       5258,  1200.0,   8.1815,  35.5671,2,  35.5648,2,    189.5,2,   188.2,2,   13.10,2,   19.45,2,    0.00,2,    1.21,2,   0.783,2,   0.404,2,   0.013,2,  2191.7,2,  2348.9,2,    736.1,2,    20.00,   7.7443,2,    25.00,   0.575,2,   1.786,2,   7.102,2, -999.00,9,  -999.0,9,  -999.0,   7.438,2,   0.066,-999.000,9,   43.66,2,   23.18,2, 1200.00,-999.0000,9,-999.0000,9,-999.0000,9,-999.0000,9,-999.0000,9,-999.0000,9,   8.0498,     -999.0,9,       0.75,2,       0.00,2,       1.07,2,         65,   0.003,   0.184,   0.020,        0.0,2,    0.15,2,     0.0,2
33RO200306_01,       A16N,     065,          1,         12,         12,2,20030707,       0637,    33.0002,   -21.6867,       5258,  1400.7,   7.1370,  35.4780,2,  35.4734,2,    210.6,2,   210.9,2,   12.82,2,   18.41,2,    0.00,2,    1.16,2,   0.915,2,   0.468,2,   0.024,2,  2184.0,2,  2342.7,2,    723.5,2,    20.00,   7.7466,2,    25.00,-999.000,9,   1.791,2,   8.206,2, -999.00,9,  -999.0,9,  -999.0,   7.563,2,   0.047,-999.000,9,   42.68,2,   21.98,2, 1400.70,-999.0000,9,-999.0000,9,-999.0000,9,-999.0000,9,-999.0000,9,-999.0000,9,   6.9922,     -999.0,9,     -999.0,9,     -999.0,9,     -999.0,9,         65,   0.003,   0.191,-999.000,     -999.0,9, -999.00,9, -999.00,9
33RO200306_01,       A16N,     065,          1,         11,         11,9,20030707,       0637,    33.0002,   -21.6867,       5258,  1548.2,   6.0916,  35.3437,2,-999.0000,9,    221.6,2,  -999.0,9, -999.00,9, -999.00,9, -999.00,9, -999.00,9,-999.000,9,-999.000,9,-999.000,9,  -999.0,9,  -999.0,9,   -999.0,9,  -999.00,-999.0000,9,  -999.00,-999.000,9,-999.000,9,-999.000,9, -999.00,9,  -999.0,9,  -999.0,-999.000,9,-999.000,-999.000,9, -999.00,9, -999.00,9, 1548.20,-999.0000,9,-999.0000,9,-999.0000,9,-999.0000,9,-999.0000,9,-999.0000,9,   5.9421,     -999.0,9,     -999.0,9,     -999.0,9,     -999.0,9,         65,-999.000,-999.000,-999.000,     -999.0,9, -999.00,9, -999.00,9
33RO200306_01,       A16N,     065,          1,         10,         10,2,20030707,       0637,    33.0002,   -21.6867,       5258,  1600.1,   5.9720,  35.3400,2,  35.3393,2,    222.4,2,   221.9,2,   15.03,2,   18.76,2,    0.00,2,    1.19,2,   0.583,2,   0.305,2,   0.016,2,  2179.9,2,  2336.5,2,    732.3,2,    20.00,   7.7449,2,    25.00,   0.058,2,   1.801,2,   6.788,2, -999.00,9,  -999.0,9,  -999.0,   7.577,2,   0.067,-999.000,9,   42.68,2,   22.50,2, 1600.10,-999.0000,9,-999.0000,9,-999.0000,9,-999.0000,9,-999.0000,9,-999.0000,9,   5.8183,     -999.0,9,       0.46,2,       0.59,2,       0.21,2,         65,   0.003,   0.184,   0.010,      16.97,2,    0.49,2,     0.0,2
33RO200306_01,       A16N,     065,          1,          9,          9,2,20030707,       0637,    33.0002,   -21.6867,       5258,  1800.5,   4.9019,  35.1859,2,  35.1863,2,    239.8,2,   240.4,2,   14.96,2,   18.32,2,    0.00,2,    1.18,2,   0.647,2,   0.338,2,   0.021,2,  2170.6,2,  2323.1,2,    729.4,2,    20.00,   7.7420,2,    25.00,-999.000,9,   1.821,2,   6.478,2, -999.00,9,  -999.0,9,  -999.0,   7.758,2,   0.049,-999.000,9,   42.03,2,   22.91,2, 1800.50,-999.0000,9,-999.0000,9,-999.0000,9,-999.0000,9,-999.0000,9,-999.0000,9,   4.7411,     -999.0,9,     -999.0,9,     -999.0,9,     -999.0,9,         65,   0.003,   0.191,-999.000,     -999.0,9, -999.00,9, -999.00,9
33RO200306_01,       A16N,     065,          1,          8,          8,2,20030707,       0637,    33.0002,   -21.6867,       5258,  2000.5,   4.1648,  35.0805,2,  35.0805,2,    248.4,2,   249.8,2,   16.46,2,   18.34,2,    0.00,2,    1.19,2,   0.475,2,   0.249,2,   0.019,2,  2168.4,2,  2327.0,2,    735.0,6,    20.00,   7.7419,2,    25.00,-999.000,9,   1.830,2,   5.897,2, -999.00,9,  -999.0,9,  -999.0,   7.819,2,   0.049,-999.000,9,   41.63,2,   22.86,2, 2000.50,-999.0000,9,-999.0000,9,-999.0000,9,-999.0000,9,-999.0000,9,-999.0000,9,   3.9944,     -999.0,9,     -999.0,9,     -999.0,9,     -999.0,9,         65,   0.003,   0.191,-999.000,     -999.0,9, -999.00,9, -999.00,9