BOTTLE,20230908CCHSIOCBG
EXPOCODE,SECT_ID,STNNBR,CASTNO,SAMPNO,BTLNBR,BTLNBR_FLAG_W,DATE,TIME,LATITUDE,LONGITUDE,DEPTH,CTDPRS,CTDTMP,CTDSAL,CTDSAL_FLAG_W,SALNTY,SALNTY_FLAG_W,CTDOXY,CTDOXY_FLAG_W,OXYGEN,OXYGEN_FLAG_W,SILCAT,SILCAT_FLAG_W,NITRAT,NITRAT_FLAG_W,NITRIT,NITRIT_FLAG_W,PHSPHT,PHSPHT_FLAG_W,CFC-11,CFC-11_FLAG_W,CFC-12,CFC-12_FLAG_W,CFC113,CFC113_FLAG_W,TCARBN,TCARBN_FLAG_W,ALKALI,ALKALI_FLAG_W,FCO2,FCO2_FLAG_W,FCO2TMP,PH_SWS,PH_SWS_FLAG_W,PH_TMP,TRITUM,TRITUM_FLAG_W,HELIUM,HELIUM_FLAG_W,DELHE3,DELHE3_FLAG_W,DELC13,DELC13_FLAG_W,DELC14,DELC14_FLAG_W,C14ERR,NEON,NEON_FLAG_W,NEONER,POC,POC_FLAG_W,DOC,DOC_FLAG_W,TDN,TDN_FLAG_W,CTDRAW,CDOM325,CDOM325_FLAG_W,CDOM340,CDOM340_FLAG_W,CDOM380,CDOM380_FLAG_W,CDOM412,CDOM412_FLAG_W,CDOMSL,CDOMSL_FLAG_W,CDOMSN,CDOMSN_FLAG_W,THETA,PON,PON_FLAG_W,HCFC-22,HCFC-22_FLAG_W,HCFC-142b,HCFC-142b_FLAG_W,HCFC-141b,HCFC-141b_FLAG_W,STNNBR_U,HELIER,DELHER,TRITER,CH3CL,CH3CL_FLAG_W,CH3BR,CH3BR_FLAG_W,CH3I,CH3I_FLAG_W
,,,,,,,,,,,METERS,DBAR,ITS-90,PSS-78,,PSS-78,,UMOL/KG,,UMOL/KG,,UMOL/KG,,UMOL/KG,,UMOL/KG,,UMOL/KG,,PMOL/KG,,PMOL/KG,,PMOL/KG,,UMOL/KG,,UMOL/KG,,UATM,,DEG C,,,DEG C,TU,,NMOL/KG,,PERCNT,,/MILLE,,/MILLE,,/MILLE,NMOL/KG,,NMOL/KG,UG/KG,,UMOL/KG,,UMOL/KG,,DBAR,1/M,,1/M,,1/M,,1/M,,1/NM,,1/NM,,DEG C,UMOL/L,,PMOL/KG,,PMOL/KG,,PMOL/KG,,,NMOL/KG,PERCNT,TU,PMOL/KG,,PMOL/KG,,PMOL/KG,
33RO200306_02,       A16N,     087,          1,         35,         35,2,20030721,       1433,    22.5003,   -27.5938,       5488,     3.5,  24.6735,  36.9175,2,  36.9233,2,    214.1,2,   213.8,2,    0.38,2,    0.01,2,    0.01,2,    0.09,2,   1.886,6,   1.210,6,   0.167,6,  2082.8,6,  2417.1,6,   -999.0,9,  -999.00,   8.0474,6,    25.00,-999.000,9,-999.000,9,-999.000,9,    1.63,2,    77.3,2,     3.0,-999.000,9,-999.000,-999.000,9, -999.00,9, -999.00,9,    3.50,-999.0000,9,-999.0000,9,-999.0000,9,-999.0000,9,-999.0000,9,-999.0000,9,  24.6727,     -999.0,9,     -999.0,9,     -999.0,9,     -999.0,9,         87,-999.000,-999.000,-999.000,     -999.0,9, -999.00,9, -999.00,9
33RO200306_02,       A16N,     087,          1,         33,         33,2,20030721,       1433,    22.5003,   -27.5938,       5488,    14.4,  24.6596,  36.9176,2,  36.9261,2,    214.1,2,   214.0,2,    0.36,2,    0.00,2,    0.01,2,    0.09,2,-999.000,9,-999.000,9,-999.000,9,  -999.0,9,  -999.0,9,   -999.0,9,  -999.00,-999.0000,9,  -999.00,-999.000,9,-999.000,9,-999.000,9, -999.00,9,  -999.0,9,  -999.0,-999.000,9,-999.000,-999.000,9, -999.00,9, -999.00,9,   14.40,-999.0000,9,-999.0000,9,-999.0000,9,-999.0000,9,-999.0000,9,-999.0000,9,  24.6565,     -999.0,9,     -999.0,9,     -999.0,9,     -999.0,9,         87,-999.000,-999.000,-999.000,     -999.0,9, -999.00,9, -999.00,9
33RO200306_02,       A16N,     087,          1,         32,         32,2,20030721,       1433,    22.5003,   -27.5938,       5488,    44.4,  23.9606,  37.2801,2,  37.2763,2,    218.7,2,   220.3,2,    0.49,2,    0.01,2,    0.01,2,    0.05,2,-999.000,9,-999.000,9,-999.000,9,  -999.0,9,  -999.0,9,   -999.0,9,  -999.00,-999.0000,9,  -999.00,-999.000,9,-999.000,9,-999.000,9, -999.00,9,  -999.0,9,  -999.0,-999.000,9,-999.000,-999.000,9, -999.00,9, -999.00,9,   44.40,-999.0000,9,-999.0000,9,-999.0000,9,-999.0000,9,-999.0000,9,-999.0000,9,  23.9512,     -999.0,9,     -999.0,9,     -999.0,9,     -999.0,9,         87,-999.000,-999.000,-999.000,     -999.0,9, -999.00,9, -999.00,9
33RO200306_02,       A16N,     087,          1,         31,         31,2,20030721,       1433,    22.5003,   -27.5938,       5488,    64.5,  22.4325,  37.2805,2,  37.2835,2,    226.9,2,   226.3,2,    0.47,2,    0.01,2,    0.01,2,    0.05,2,   2.088,2,   1.327,2,   0.174,2,  -999.0,9,  -999.0,9,   -999.0,9,  -999.00,-999.0000,9,  -999.00,-999.000,9,-999.000,9,-999.000,9, -999.00,9,  -999.0,9,  -999.0,-999.000,9,-999.000,-999.000,9, -999.00,9, -999.00,9,   64.50,-999.0000,9,-999.0000,9,-999.0000,9,-999.0000,9,-999.0000,9,-999.0000,9,  22.4194,     -999.0,9,     -999.0,9,     -999.0,9,     -999.0,9,         87,-999.000,-999.000,-999.000,     -999.0,9, -999.00,9, -999.00,9
33RO200306_02,       A16N,     087,          1,         30,         30,2,20030721,       1433,    22.5003,   -27.5938,       5488,    93.6,  21.6139,  37.2205,2,  37.2192,2,    220.6,2,  -999.0,1,    0.53,2,    0.03,2,    0.01,2,    0.06,2,-999.000,9,-999.000,9,-999.000,9,  -999.0,9,  -999.0,9,   -999.0,9,  -999.00,-999.0000,9,  -999.00,-999.000,9,-999.000,9,-999.000,9, -999.00,9,  -999.0,9,  -999.0,-999.000,9,-999.000,-999.000,9, -999.00,9, -999.00,9,   93.60,-999.0000,9,-999.0000,9,-999.0000,9,-999.0000,9,-999.0000,9,-999.0000,9,  21.5954,     -999.0,9,     -999.0,9,     -999.0,9,     -999.0,9,         87,-999.000,-999.000,-999.000,     -999.0,9, -999.00,9, -999.00,9
33RO200306_02,       A16N,     087,          1,         29,         29,2,20030721,       1433,    22.5003,   -27.5938,       5488,   114.5,  21.1060,  37.1657,2,  37.1701,2,    213.7,2,   214.7,2,    0.57,2,    0.23,2,    0.11,2,    0.07,2,-999.000,9,-999.000,9,-999.000,9,  -999.0,9,  -999.0,9,   -999.0,9,  -999.00,-999.0000,9,  -999.00,-999.000,9,-999.000,9,-999.000,9, -999.00,9,  -999.0,9,  -999.0,-999.000,9,-999.000,-999.000,9, -999.00,9, -999.00,9,  114.50,-999.0000,9,-999.0000,9,-999.0000,9,-999.0000,9,-999.0000,9,-999.0000,9,  21.0838,     -999.0,9,     -999.0,9,     -999.0,9,     -999.0,9,         87,-999.000,-999.000,-999.000,     -999.0,9, -999.00,9, -999.00,9
33RO200306_02,       A16N,     087,          1,         28,         28,2,20030721,       1433,    22.5003,   -27.5938,       5488,   140.2,  20.5804,  37.1089,2,  37.1040,2,    213.5,2,   214.2,2,    0.64,2,    0.75,2,    0.08,2,    0.09,2,-999.000,9,-999.000,9,-999.000,9,  -999.0,9,  -999.0,9,   -999.0,9,  -999.00,-999.0000,9,  -999.00,-999.000,9,-999.000,9,-999.000,9, -999.00,9,  -999.0,9,  -999.0,-999.000,9,-999.000,-999.000,9, -999.00,9, -999.00,9,  140.20,-999.0000,9,-999.0000,9,-999.0000,9,-999.0000,9,-999.0000,9,-999.0000,9,  20.5537,     -999.0,9,     -999.0,9,     -999.0,9,     -999.0,9,         87,-999.000,-999.000,-999.000,     -999.0,9, -999.00,9, -999.00,9
33RO200306_02,       A16N,     087,          1,         27,         27,2,20030721,       1433,    22.5003,   -27.5938,       5488,   164.7,  19.2243,  36.8073,2,  36.7990,2,    202.7,2,   201.7,2,    0.92,2,    2.15,2,    0.03,2,    0.15,2,   2.337,2,   1.435,2,   0.116,2,  -999.0,9,  -999.0,9,   -999.0,9,  -999.00,-999.0000,9,  -999.00,-999.000,9,-999.000,9,-999.000,9, -999.00,9,  -999.0,9,  -999.0,-999.000,9,-999.000,-999.000,9, -999.00,9, -999.00,9,  164.70,-999.0000,9,-999.0000,9,-999.0000,9,-999.0000,9,-999.0000,9,-999.0000,9,  19.1944,     -999.0,9,     -999.0,9,     -999.0,9,     -999.0,9,         87,-999.000,-999.000,-999.000,     -999.0,9, -999.00,9, -999.00,9
33RO200306_02,       A16N,     087,          1,         26,         26,2,20030721,       1433,    22.5003,   -27.5938,       5488,   189.3,  18.0873,  36.5772,2,  36.5724,2,    201.1,2,   200.7,2,    1.23,2,    3.75,2,    0.02,2,    0.23,2,-999.000,9,-999.000,9,-999.000,9,  -999.0,9,  -999.0,9,   -999.0,9,  -999.00,-999.0000,9,  -999.00,-999.000,9,-999.000,9,-999.000,9, -999.00,9,  -999.0,9,  -999.0,-999.000,9,-999.000,-999.000,9, -999.00,9, -999.00,9,  189.30,-999.0000,9,-999.0000,9,-999.0000,9,-999.0000,9,-999.0000,9,-999.0000,9,  18.0543,     -999.0,9,     -999.0,9,     -999.0,9,     -999.0,9,         87,-999.000,-999.000,-999.000,     -999.0,9, -999.00,9, -999.00,9
33RO200306_02,       A16N,     087,          1,         25,         25,2,20030721,       1433,    22.5003,   -27.5938,       5488,   225.1,  17.1476,  36.3880,2,  36.3937,2,    192.1,2,   188.9,2,    1.92,2,    6.48,2,    0.01,2,    0.39,2,-999.000,9,-999.000,9,-999.000,9,  -999.0,9,  -999.0,9,   -999.0,9,  -999.00,-999.0000,9,  -999.00,-999.000,9,-999.000,9,-999.000,9, -999.00,9,  -999.0,9,  -999.0,-999.000,9,-999.000,-999.000,9, -999.00,9, -999.00,9,  225.10,-999.0000,9,-999.0000,9,-999.0000,9,-999.0000,9,-999.0000,9,-999.0000,9,  17.1098,     -999.0,9,     -999.0,9,     -999.0,9,     -999.0,9,         87,-999.000,-999.000,-999.000,     -999.0,9, -999.00,9, -999.00,9
33RO200306_02,       A16N,     087,          1,         24,         24,2,20030721,       1433,    22.5003,   -27.5938,       5488,   275.8,  16.0918,  36.1939,2,  36.1878,2,    168.2,2,   167.8,2,    3.18,2,   10.62,2,    0.01,2,    0.64,2,-999.000,9,-999.000,9,-999.000,9,  -999.0,9,  -999.0,9,   -999.0,9,  -999.00,-999.0000,9,  -999.00,-999.000,9,-999.000,9,-999.000,9, -999.00,9,  -999.0,9,  -999.0,-999.000,9,-999.000,-999.000,9, -999.00,9, -999.00,9,  275.80,-999.0000,9,-999.0000,9,-999.0000,9,-999.0000,9,-999.0000,9,-999.0000,9,  16.0475,     -999.0,9,     -999.0,9,     -999.0,9,     -999.0,9,         87,-999.000,-999.000,-999.000,     -999.0,9, -999.00,9, -999.00,9
33RO200306_02,       A16N,     087,          1,         23,         23,2,20030721,       1433,    22.5003,   -27.5938,       5488,   324.1,  15.0636,  36.0341,2,  36.0353,2,    160.3,2,   160.0,2,    4.12,2,   12.90,2,    0.01,2,    0.78,2,   2.337,2,   1.344,2,   0.025,2,  -999.0,9,  -999.0,9,   -999.0,9,  -999.00,-999.0000,9,  -999.00,-999.000,9,-999.000,9,-999.000,9, -999.00,9,  -999.0,9,  -999.0,-999.000,9,-999.000,-999.000,9, -999.00,9, -999.00,9,  324.10,-999.0000,9,-999.0000,9,-999.0000,9,-999.0000,9,-999.0000,9,-999.0000,9,  15.0138,     -999.0,9,     -999.0,9,     -999.0,9,     -999.0,9,         87,-999.000,-999.000,-999.000,     -999.0,9, -999.00,9, -999.00,9
33RO200306_02,       A16N,     087,          1,         22,         22,2,20030721,       1433,    22.5003,   -27.5938,       5488,   374.3,  14.1266,  35.9168,2,  35.9143,2,    171.6,2,   173.0,2,    4.44,2,   13.09,2,    0.01,2,    0.79,2,-999.000,9,-999.000,9,-999.000,9,  -999.0,9,  -999.0,9,   -999.0,9,  -999.00,-999.0000,9,  -999.00,-999.000,9,-999.000,9,-999.000,9, -999.00,9,  -999.0,9,  -999.0,-999.000,9,-999.000,-999.000,9, -999.00,9, -999.00,9,  374.30,-999.0000,9,-999.0000,9,-999.0000,9,-999.0000,9,-999.0000,9,-999.0000,9,  14.0714,     -999.0,9,     -999.0,9,     -999.0,9,     -999.0,9,         87,-999.000,-999.000,-999.000,     -999.0,9, -999.00,9, -999.00,9
33RO200306_02,       A16N,     087,          1,         21,         21,2,20030721,       1433,    22.5003,   -27.5938,       5488,   449.1,  12.9483,  35.7595,2,  35.7620,2,    168.7,2,   173.6,2,    5.69,2,   15.61,2,    0.01,2,    0.94,2,-999.000,9,-999.000,9,-999.000,9,  -999.0,9,  -999.0,9,   -999.0,9,  -999.00,-999.0000,9,  -999.00,-999.000,9,-999.000,9,-999.000,9, -999.00,9,  -999.0,9,  -999.0,-999.000,9,-999.000,-999.000,9, -999.00,9, -999.00,9,  449.10,-999.0000,9,-999.0000,9,-999.0000,9,-999.0000,9,-999.0000,9,-999.0000,9,  12.8857,     -999.0,9,     -999.0,9,     -999.0,9,     -999.0,9,         87,-999.000,-999.000,-999.000,     -999.0,9, -999.00,9, -999.00,9
33RO200306_02,       A16N,     087,          1,         20,         20,2,20030721,       1433,    22.5003,   -27.5938,       5488,   549.7,  11.5807,  35.5819,2,  35.5782,2,    154.1,2,   153.5,2,    8.17,2,   19.69,2,    0.01,2,    1.19,2,-999.000,9,-999.000,9,-999.000,9,  -999.0,9,  -999.0,9,   -999.0,9,  -999.00,-999.0000,9,  -999.00,-999.000,9,-999.000,9,-999.000,9, -999.00,9,  -999.0,9,  -999.0,-999.000,9,-999.000,-999.000,9, -999.00,9, -999.00,9,  549.70,-999.0000,9,-999.0000,9,-999.0000,9,-999.0000,9,-999.0000,9,-999.0000,9,  11.5091,     -999.0,9,     -999.0,9,     -999.0,9,     -999.0,9,         87,-999.000,-999.000,-999.000,     -999.0,9, -999.00,9, -999.00,9
33RO200306_02,       A16N,     087,          1,         19,         19,2,20030721,       1433,    22.5003,   -27.5938,       5488,   648.9,  10.0744,  35.3820,2,  35.3842,2,    129.2,2,   126.5,2,   12.46,2,   24.97,2,    0.01,2,    1.55,2,   0.846,2,   0.446,2,   0.006,2,  -999.0,9,  -999.0,9,   -999.0,9,  -999.00,-999.0000,9,  -999.00,-999.000,9,-999.000,9,-999.000,9, -999.00,9,  -999.0,9,  -999.0,-999.000,9,-999.000,-999.000,9, -999.00,9, -999.00,9,  648.90,-999.0000,9,-999.0000,9,-999.0000,9,-999.0000,9,-999.0000,9,-999.0000,9,   9.9967,     -999.0,9,     -999.0,9,     -999.0,9,     -999.0,9,         87,-999.000,-999.000,-999.000,     -999.0,9, -999.00,9, -999.00,9
33RO200306_02,       A16N,     087,          1,         18,         18,2,20030721,       1433,    22.5003,   -27.5938,       5488,   799.1,   8.0364,  35.1374,2,  35.1375,2,    127.2,2,   127.9,2,   17.94,2,   28.33,2,    0.01,2,    1.82,2,-999.000,9,-999.000,9,-999.000,9,  -999.0,9,  -999.0,9,   -999.0,9,  -999.00,-999.0000,9,  -999.00,-999.000,9,-999.000,9,-999.000,9, -999.00,9,  -999.0,9,  -999.0,-999.000,9,-999.000,-999.000,9, -999.00,9, -999.00,9,  799.10,-999.0000,9,-999.0000,9,-999.0000,9,-999.0000,9,-999.0000,9,-999.0000,9,   7.9520,     -999.0,9,     -999.0,9,     -999.0,9,     -999.0,9,         87,-999.000,-999.000,-999.000,     -999.0,9, -999.00,9, -999.00,9
33RO200306_02,       A16N,     087,          1,         17,         17,2,20030721,       1433,    22.5003,   -27.5938,       5488,   949.3,   6.8115,  35.0447,2,  35.0465,2,    143.7,2,   146.3,2,   20.39,2,   28.36,2,    0.01,2,    1.87,2,-999.000,9,-999.000,9,-999.000,9,  -999.0,9,  -999.0,9,   -999.0,9,  -999.00,-999.0000,9,  -999.00,-999.000,9,-999.000,9,-999.000,9, -999.00,9,  -999.0,9,  -999.0,-999.000,9,-999.000,-999.000,9, -999.00,9, -999.00,9,  949.30,-999.0000,9,-999.0000,9,-999.0000,9,-999.0000,9,-999.0000,9,-999.0000,9,   6.7190,     -999.0,9,     -999.0,9,     -999.0,9,     -999.0,9,         87,-999.000,-999.000,-999.000,     -999.0,9, -999.00,9, -999.00,9
33RO200306_02,       A16N,     087,          1,         16,         16,2,20030721,       1433,    22.5003,   -27.5938,       5488,  1098.8,   6.3221,  35.0766,2,  35.0760,2,    164.1,2,   163.2,2,   19.99,2,   26.42,2,    0.01,2,    1.75,2,   0.065,2,   0.040,2,   0.000,2,  -999.0,9,  -999.0,9,   -999.0,9,  -999.00,-999.0000,9,  -999.00,-999.000,9,-999.000,9,-999.000,9, -999.00,9,  -999.0,9,  -999.0,-999.000,9,-999.000,-999.000,9, -999.00,9, -999.00,9, 1098.80,-999.0000,9,-999.0000,9,-999.0000,9,-999.0000,9,-999.0000,9,-999.0000,9,   6.2179,     -999.0,9,     -999.0,9,     -999.0,9,     -999.0,9,         87,-999.000,-999.000,-999.000,     -999.0,9, -999.00,9, -999.00,9
33RO200306_02,       A16N,     087,          1,         15,         15,2,20030721,       1433,    22.5003,   -27.5938,       5488,  1250.9,   5.8237,  35.1056,2,  35.1055,2,    183.9,2,   182.2,2,   19.51,2,   24.63,2,    0.01,2,    1.64,2,-999.000,9,-999.000,9,-999.000,9,  -999.0,9,  -999.0,9,   -999.0,9,  -999.00,-999.0000,9,  -999.00,-999.000,9,-999.000,9,-999.000,9, -999.00,9,  -999.0,9,  -999.0,-999.000,9,-999.000,-999.000,9, -999.00,9, -999.00,9, 1250.90,-999.0000,9,-999.0000,9,-999.0000,9,-999.0000,9,-999.0000,9,-999.0000,9,   5.7083,     -999.0,9,     -999.0,9,     -999.0,9,     -999.0,9,         87,-999.000,-999.000,-999.000,     -999.0,9, -999.00,9, -999.00,9
33RO200306_02,       A16N,     087,          1,         14,         14,2,20030721,       1433,    22.5003,   -27.5938,       5488,  1450.4,   5.1756,  35.1051,2,  35.1061,2,    203.5,2,   205.8,2,   19.70,2,   22.87,2,    0.01,2,    1.53,2,   0.018,2,   0.012,2,  -0.002,2,  -999.0,9,  -999.0,9,   -999.0,9,  -999.00,-999.0000,9,  -999.00,-999.000,9,-999.000,9,-999.000,9, -999.00,9,  -999.0,9,  -999.0,-999.000,9,-999.000,-999.000,9, -999.00,9, -999.00,9, 1450.40,-999.0000,9,-999.0000,9,-999.0000,9,-999.0000,9,-999.0000,9,-999.0000,9,   5.0468,     -999.0,9,     -999.0,9,     -999.0,9,     -999.0,9,         87,-999.000,-999.000,-999.000,     -999.0,9, -999.00,9, -999.00,9
33RO200306_02,       A16N,     087,          1,         13,         13,2,20030721,       1433,    22.5003,   -27.5938,       5488,  1750.0,   4.3969,  35.0713,2,  35.0713,2,    223.5,2,   222.1,2,   21.56,2,   21.64,2,    0.01,2,    1.46,2,-999.000,9,-999.000,9,-999.000,9,  -999.0,9,  -999.0,9,   -999.0,9,  -999.00,-999.0000,9,  -999.00,-999.000,9,-999.000,9,-999.000,9, -999.00,9,  -999.0,9,  -999.0,-999.000,9,-999.000,-999.000,9, -999.00,9, -999.00,9, 1750.00,-999.0000,9,-999.0000,9,-999.0000,9,-999.0000,9,-999.0000,9,-999.0000,9,   4.2480,     -999.0,9,     -999.0,9,     -999.0,9,     -999.0,9,         87,-999.000,-999.000,-999.000,     -999.0,9, -999.00,9, -999.00,9
33RO200306_02,       A16N,     087,          1,         12,         12,2,20030721,       1433,    22.5003,   -27.5938,       5488,  2046.1,   3.7574,  35.0184,2,  35.0185,2,    234.8,2,   233.5,2,   24.27,2,   21.19,2,    0.01,2,    1.44,2,   0.005,2,   0.003,2,  -0.009,4,  -999.0,9,  -999.0,9,   -999.0,9,  -999.00,-999.0000,9,  -999.00,-999.000,9,-999.000,9,-999.000,9, -999.00,9,  -999.0,9,  -999.0,-999.000,9,-999.000,-999.000,9, -999.00,9, -999.00,9, 2046.10,-999.0000,9,-999.0000,9,-999.0000,9,-999.0000,9,-999.0000,9,-999.0000,9,   3.5888,     -999.0,9,     -999.0,9,     -999.0,9,     -999.0,9,         87,-999.000,-999.000,-999.000,     -999.0,9, -999.00,9, -999.00,9
33RO200306_02,       A16N,     087,          1,         11,         11,2,20030721,       1433,    22.5003,   -27.5938,       5488,  2344.9,   3.3924,  34.9957,2,  34.9953,2,    239.1,2,   240.2,2,   27.74,2,   21.09,2,    0.01,2,    1.45,2,-999.000,9,-999.000,9,-999.000,9,  -999.0,9,  -999.0,9,   -999.0,9,  -999.00,-999.0000,9,  -999.00,-999.000,9,-999.000,9,-999.000,9, -999.00,9,  -999.0,9,  -999.0,-999.000,9,-999.000,-999.000,9, -999.00,9, -999.00,9, 2344.90,-999.0000,9,-999.0000,9,-999.0000,9,-999.0000,9,-999.0000,9,-999.0000,9,   3.2006,     -999.0,9,     -999.0,9,     -999.0,9,     -999.0,9,         87,-999.000,-999.000,-999.000,     -999.0,9, -999.00,9, -999.00,9
33RO200306_02,       A16N,     087,          1,         10,         10,2,20030721,       1433,    22.5003,   -27.5938,       5488,  2649.7,   3.0317,  34.9684,2,  34.9707,2,    243.5,2,   243.2,2,   31.53,2,   20.95,2,    0.01,2,    1.45,2,-999.000,9,-999.000,9,-999.000,9,  -999.0,9,  -999.0,9,   -999.0,9,  -999.00,-999.0000,9,  -999.00,-999.000,9,-999.000,9,-999.000,9, -999.00,9,  -999.0,9,  -999.0,-999.000,9,-999.000,-999.000,9, -999.00,9, -999.00,9, 2649.70,-999.0000,9,-999.0000,9,-999.0000,9,-999.0000,9,-999.0000,9,-999.0000,9,   2.8162,     -999.0,9,     -999.0,9,     -999.0,9,     -999.0,9,         87,-999.000,-999.000,-999.000,     -999.0,9, -999.00,9, -999.00,9
33RO200306_02,       A16N,     087,          1,          9,          9,2,20030721,       1433,    22.5003,   -27.5938,       5488,  2949.4,   2.7774,  34.9443,2,  34.9434,2,    244.9,2,   245.4,2,   35.35,2,   21.20,2,    0.01,2,    1.47,2,-999.000,9,-999.000,9,-999.000,9,  -999.0,9,  -999.0,9,   -999.0,9,  -999.00,-999.0000,9,  -999.00,-999.000,9,-999.000,9,-999.000,9, -999.00,9,  -999.0,9,  -999.0,-999.000,9,-999.000,-999.000,9, -999.00,9, -999.00,9, 2949.40,-999.0000,9,-999.0000,9,-999.0000,9,-999.0000,9,-999.0000,9,-999.0000,9,   2.5366,     -999.0,9,     -999.0,9,     -999.0,9,     -999.0,9,         87,-999.000,-999.000,-999.000,     -999.0,9, -999.00,9, -999.00,9
33RO200306_02,       A16N,     087,          1,          8,          8,2,20030721,       1433,    22.5003,   -27.5938,       5488,  3249.5,   2.5988,  34.9261,2,  34.9255,2,    245.7,2,   245.6,2,   38.86,2,   21.49,2,    0.01,2,    1.50,2,-999.000,9,-999.000,9,-999.000,9,  -999.0,9,  -999.0,9,   -999.0,9,  -999.00,-999.0000,9,  -999.00,-999.000,9,-999.000,9,-999.000,9, -999.00,9,  -999.0,9,  -999.0,-999.000,9,-999.000,-999.000,9, -999.00,9, -999.00,9, 3249.50,-999.0000,9,-999.0000,9,-999.0000,9,-999.0000,9,-999.0000,9,-999.0000,9,   2.3308,     -999.0,9,     -999.0,9,     -999.0,9,     -999.0,9,         87,-999.000,-999.000,-999.000,     -999.0,9, -999.00,9, -999.00,9