BOTTLE,20230908CCHSIOCBG
EXPOCODE,SECT_ID,STNNBR,CASTNO,SAMPNO,BTLNBR,BTLNBR_FLAG_W,DATE,TIME,LATITUDE,LONGITUDE,DEPTH,CTDPRS,CTDTMP,CTDSAL,CTDSAL_FLAG_W,SALNTY,SALNTY_FLAG_W,CTDOXY,CTDOXY_FLAG_W,OXYGEN,OXYGEN_FLAG_W,SILCAT,SILCAT_FLAG_W,NITRAT,NITRAT_FLAG_W,NITRIT,NITRIT_FLAG_W,PHSPHT,PHSPHT_FLAG_W,CFC-11,CFC-11_FLAG_W,CFC-12,CFC-12_FLAG_W,CFC113,CFC113_FLAG_W,TCARBN,TCARBN_FLAG_W,ALKALI,ALKALI_FLAG_W,FCO2,FCO2_FLAG_W,FCO2TMP,PH_SWS,PH_SWS_FLAG_W,PH_TMP,TRITUM,TRITUM_FLAG_W,HELIUM,HELIUM_FLAG_W,DELHE3,DELHE3_FLAG_W,DELC13,DELC13_FLAG_W,DELC14,DELC14_FLAG_W,C14ERR,NEON,NEON_FLAG_W,NEONER,POC,POC_FLAG_W,DOC,DOC_FLAG_W,TDN,TDN_FLAG_W,CTDRAW,CDOM325,CDOM325_FLAG_W,CDOM340,CDOM340_FLAG_W,CDOM380,CDOM380_FLAG_W,CDOM412,CDOM412_FLAG_W,CDOMSL,CDOMSL_FLAG_W,CDOMSN,CDOMSN_FLAG_W,THETA,PON,PON_FLAG_W,HCFC-22,HCFC-22_FLAG_W,HCFC-142b,HCFC-142b_FLAG_W,HCFC-141b,HCFC-141b_FLAG_W,STNNBR_U,HELIER,DELHER,TRITER,CH3CL,CH3CL_FLAG_W,CH3BR,CH3BR_FLAG_W,CH3I,CH3I_FLAG_W
,,,,,,,,,,,METERS,DBAR,ITS-90,PSS-78,,PSS-78,,UMOL/KG,,UMOL/KG,,UMOL/KG,,UMOL/KG,,UMOL/KG,,UMOL/KG,,PMOL/KG,,PMOL/KG,,PMOL/KG,,UMOL/KG,,UMOL/KG,,UATM,,DEG C,,,DEG C,TU,,NMOL/KG,,PERCNT,,/MILLE,,/MILLE,,/MILLE,NMOL/KG,,NMOL/KG,UG/KG,,UMOL/KG,,UMOL/KG,,DBAR,1/M,,1/M,,1/M,,1/M,,1/NM,,1/NM,,DEG C,UMOL/L,,PMOL/KG,,PMOL/KG,,PMOL/KG,,,NMOL/KG,PERCNT,TU,PMOL/KG,,PMOL/KG,,PMOL/KG,
33RO200306_02,       A16N,     120,          1,         35,         35,2,20030801,       0539,     6.0003,   -26.4993,       4298,     4.0,  27.7194,  35.0789,2,  35.0856,2,    192.7,2,   202.1,2,    0.85,2,    0.04,2,    0.01,2,    0.04,2,   1.649,2,   1.062,2,   0.157,2,  1944.9,6,  -999.0,9,    252.0,2,    20.00,-999.0000,9,  -999.00,-999.000,9,-999.000,9,-999.000,9, -999.00,9,  -999.0,9,  -999.0,-999.000,9,-999.000,-999.000,9,   70.81,2,    5.46,2,    4.00,-999.0000,9,-999.0000,9,-999.0000,9,-999.0000,9,-999.0000,9,-999.0000,9,  27.7185,     -999.0,9,       3.48,2,       0.17,2,       0.26,2,        120,-999.000,-999.000,-999.000,      75.15,2,    0.75,2,    7.97,2
33RO200306_02,       A16N,     120,          1,         33,         33,2,20030801,       0539,     6.0003,   -26.4993,       4298,    20.3,  27.7401,  35.0880,2,  35.1380,2,    197.1,2,   200.9,2,    0.84,2,    0.05,2,    0.01,2,    0.04,2,-999.000,9,-999.000,9,-999.000,9,  1948.7,2,  -999.0,9,    250.9,2,    20.00,-999.0000,9,  -999.00,-999.000,9,-999.000,9,-999.000,9, -999.00,9,  -999.0,9,  -999.0,-999.000,9,-999.000,-999.000,9,   71.63,2,    5.44,2,   20.30,-999.0000,9,-999.0000,9,-999.0000,9,-999.0000,9,-999.0000,9,-999.0000,9,  27.7353,     -999.0,9,     -999.0,9,     -999.0,9,     -999.0,9,        120,-999.000,-999.000,-999.000,     -999.0,9, -999.00,9, -999.00,9
33RO200306_02,       A16N,     120,          1,         32,         32,2,20030801,       0539,     6.0003,   -26.4993,       4298,    39.7,  28.0109,  35.6315,2,  35.7939,2,    197.3,2,   206.5,2,    0.86,2,    0.06,2,    0.01,2,    0.05,2,   1.680,2,   1.089,2,   0.148,2,  1989.5,2,  2343.0,2,    263.5,2,    20.00,   8.1176,2,    25.00,-999.000,9,-999.000,9,-999.000,9, -999.00,9,  -999.0,9,  -999.0,-999.000,9,-999.000,-999.000,9, -999.00,9, -999.00,9,   39.70,-999.0000,9,-999.0000,9,-999.0000,9,-999.0000,9,-999.0000,9,-999.0000,9,  28.0015,     -999.0,9,     -999.0,9,     -999.0,9,     -999.0,9,        120,-999.000,-999.000,-999.000,     -999.0,9, -999.00,9, -999.00,9
33RO200306_02,       A16N,     120,          1,         31,         31,2,20030801,       0539,     6.0003,   -26.4993,       4298,    60.5,  26.2437,  36.2329,2,  36.1934,2,    199.5,2,   194.0,2,    1.51,2,    0.43,2,    0.04,2,    0.12,2,-999.000,9,-999.000,9,-999.000,9,  2051.7,2,  2369.4,2,    320.5,2,    20.00,   8.0608,2,    25.00,-999.000,9,-999.000,9,-999.000,9, -999.00,9,  -999.0,9,  -999.0,-999.000,9,-999.000,-999.000,9,   66.75,2,    6.02,2,   60.50,-999.0000,9,-999.0000,9,-999.0000,9,-999.0000,9,-999.0000,9,-999.0000,9,  26.2301,     -999.0,9,       3.38,2,       0.19,2,       0.38,2,        120,-999.000,-999.000,-999.000,     141.08,2,    0.67,2,    4.17,2
33RO200306_02,       A16N,     120,          1,         30,         30,2,20030801,       0539,     6.0003,   -26.4993,       4298,    79.6,  21.5202,  35.9860,2,  35.9843,2,    163.4,2,   159.1,2,    3.19,2,    5.19,2,    0.41,2,    0.47,2,   1.801,2,   1.093,2,   0.094,2,  2106.1,2,  -999.0,9,    440.4,2,    20.00,-999.0000,9,  -999.00,-999.000,9,-999.000,9,-999.000,9, -999.00,9,  -999.0,9,  -999.0,-999.000,9,-999.000,-999.000,9,   59.92,2,    9.32,2,   79.60,-999.0000,9,-999.0000,9,-999.0000,9,-999.0000,9,-999.0000,9,-999.0000,9,  21.5046,     -999.0,9,     -999.0,9,     -999.0,9,     -999.0,9,        120,-999.000,-999.000,-999.000,     -999.0,9, -999.00,9, -999.00,9
33RO200306_02,       A16N,     120,          1,         29,         29,2,20030801,       0539,     6.0003,   -26.4993,       4298,    99.3,  18.0858,  35.7750,2,  35.7375,2,    130.1,2,   132.6,2,    5.35,2,   14.76,2,    0.10,2,    1.01,2,   1.907,2,   1.111,2,   0.064,2,  2149.3,2,  2339.3,2,    596.1,6,    20.00,   7.8204,2,    25.00,-999.000,9,-999.000,9,-999.000,9, -999.00,9,  -999.0,9,  -999.0,-999.000,9,-999.000,-999.000,9, -999.00,9, -999.00,9,   99.30,-999.0000,9,-999.0000,9,-999.0000,9,-999.0000,9,-999.0000,9,-999.0000,9,  18.0686,     -999.0,9,       2.26,2,       0.05,2,       0.17,2,        120,-999.000,-999.000,-999.000,       20.0,2,    0.16,2,    1.07,2
33RO200306_02,       A16N,     120,          1,         28,         28,2,20030801,       0539,     6.0003,   -26.4993,       4298,   124.7,  14.4593,  35.4759,2,  35.4558,2,    134.5,2,   123.0,2,    7.03,2,   19.40,2,    0.03,2,    1.30,2,   1.961,2,   1.091,2,   0.036,2,  2169.1,2,  2329.3,2,   -999.0,9,  -999.00,   7.7363,2,    25.00,-999.000,9,-999.000,9,-999.000,9, -999.00,9,  -999.0,9,  -999.0,-999.000,9,-999.000,-999.000,9,   48.70,2,   23.65,2,  124.70,-999.0000,9,-999.0000,9,-999.0000,9,-999.0000,9,-999.0000,9,-999.0000,9,  14.4408,     -999.0,9,     -999.0,9,     -999.0,9,     -999.0,9,        120,-999.000,-999.000,-999.000,     -999.0,9, -999.00,9, -999.00,9
33RO200306_02,       A16N,     120,          1,         27,         27,2,20030801,       0539,     6.0003,   -26.4993,       4298,   150.0,  13.7021,  35.3729,2,  35.3691,2,     99.8,2,   100.8,2,    7.85,2,   22.52,2,    0.02,2,    1.48,2,   1.777,2,   0.977,2,   0.020,2,  2187.5,2,  2323.4,2,    839.2,2,    20.00,   7.6898,2,    25.00,-999.000,9,-999.000,9,-999.000,9, -999.00,9,  -999.0,9,  -999.0,-999.000,9,-999.000,-999.000,9, -999.00,9, -999.00,9,  150.00,-999.0000,9,-999.0000,9,-999.0000,9,-999.0000,9,-999.0000,9,-999.0000,9,  13.6807,     -999.0,9,       1.86,2,       0.09,2,       0.33,2,        120,-999.000,-999.000,-999.000,      25.17,2,     0.8,2,    0.69,2
33RO200306_02,       A16N,     120,          1,         26,         26,2,20030801,       0539,     6.0003,   -26.4993,       4298,   175.1,  13.3265,  35.3311,2,  35.3286,2,    115.6,2,   119.2,2,    7.86,2,   21.12,2,    0.02,2,    1.41,2,   1.866,2,   1.036,2,   0.025,2,  2178.0,2,  2322.6,2,   -999.0,9,  -999.00,   7.7116,2,    25.00,-999.000,9,-999.000,9,-999.000,9, -999.00,9,  -999.0,9,  -999.0,-999.000,9,-999.000,-999.000,9,   48.86,2,   25.93,2,  175.10,-999.0000,9,-999.0000,9,-999.0000,9,-999.0000,9,-999.0000,9,-999.0000,9,  13.3020,     -999.0,9,     -999.0,9,     -999.0,9,     -999.0,9,        120,-999.000,-999.000,-999.000,     -999.0,9, -999.00,9, -999.00,9
33RO200306_02,       A16N,     120,          1,         25,         25,2,20030801,       0539,     6.0003,   -26.4993,       4298,   199.6,  12.8170,  35.2626,2,  35.2611,2,    119.3,2,   125.5,2,    8.27,2,   21.23,2,    0.01,2,    1.42,2,   1.837,2,   1.004,2,   0.022,2,  2176.0,2,  2320.2,2,    796.2,2,    20.00,   7.7008,2,    25.00,-999.000,9,-999.000,9,-999.000,9, -999.00,9,  -999.0,9,  -999.0,-999.000,9,-999.000,-999.000,9,   46.26,2,   25.37,2,  199.60,-999.0000,9,-999.0000,9,-999.0000,9,-999.0000,9,-999.0000,9,-999.0000,9,  12.7897,     -999.0,9,       1.75,2,       0.09,2,       0.07,2,        120,-999.000,-999.000,-999.000,      45.22,2,    1.16,2,    0.74,2
33RO200306_02,       A16N,     120,          1,         24,         24,2,20030801,       0539,     6.0003,   -26.4993,       4298,   250.2,  11.8922,  35.1404,2,  35.1394,2,    124.6,2,   136.4,2,    9.14,2,   21.63,2,    0.01,2,    1.46,2,   1.847,2,   1.011,2,   0.031,2,  2173.1,2,  2315.6,2,   -999.0,9,  -999.00,   7.7104,2,    25.00,-999.000,9,-999.000,9,-999.000,9, -999.00,9,  -999.0,9,  -999.0,-999.000,9,-999.000,-999.000,9,   46.42,2,   26.09,2,  250.20,-999.0000,9,-999.0000,9,-999.0000,9,-999.0000,9,-999.0000,9,-999.0000,9,  11.8596,     -999.0,9,     -999.0,9,     -999.0,9,     -999.0,9,        120,-999.000,-999.000,-999.000,     -999.0,9, -999.00,9, -999.00,9
33RO200306_02,       A16N,     120,          1,         23,         23,2,20030801,       0539,     6.0003,   -26.4993,       4298,   299.9,  11.3308,  35.1100,2,  35.1088,2,     92.4,2,    83.6,2,   11.59,2,   28.41,2,    0.01,2,    1.79,2,   1.162,2,   0.630,2,   0.009,2,  2208.4,2,  2311.1,2,   1057.1,2,    20.00,   7.5934,2,    25.00,-999.000,9,-999.000,9,-999.000,9, -999.00,9,  -999.0,9,  -999.0,-999.000,9,-999.000,-999.000,9,   44.63,2,   32.98,2,  299.90,-999.0000,9,-999.0000,9,-999.0000,9,-999.0000,9,-999.0000,9,-999.0000,9,  11.2929,     -999.0,9,       0.79,2,       0.00,2,       0.12,2,        120,-999.000,-999.000,-999.000,      14.55,2,    0.21,2,    0.06,2
33RO200306_02,       A16N,     120,          1,         22,         22,2,20030801,       0539,     6.0003,   -26.4993,       4298,   350.0,  10.3317,  35.0249,2,  35.0124,2,     71.6,2,    71.9,2,   13.83,2,   31.77,2,    0.01,2,    1.98,2,   0.788,6,   0.431,6,   0.011,6,  2222.6,2,  2307.6,2,   -999.0,9,  -999.00,   7.5529,2,    25.00,-999.000,9,-999.000,9,-999.000,9, -999.00,9,  -999.0,9,  -999.0,-999.000,9,-999.000,-999.000,9,   44.63,2,   35.96,2,  350.00,-999.0000,9,-999.0000,9,-999.0000,9,-999.0000,9,-999.0000,9,-999.0000,9,  10.2899,     -999.0,9,     -999.0,9,     -999.0,9,     -999.0,9,        120,-999.000,-999.000,-999.000,     -999.0,9, -999.00,9, -999.00,9
33RO200306_02,       A16N,     120,          1,         21,         21,2,20030801,       0539,     6.0003,   -26.4993,       4298,   400.2,   9.5025,  34.9319,2,  34.9484,2,     77.4,2,    70.4,2,   15.32,2,   33.30,2,    0.01,2,    2.07,2,   0.591,2,   0.325,2,   0.006,2,  2228.1,2,  2301.3,2,   1270.7,2,    20.00,   7.5268,2,    25.00,-999.000,9,-999.000,9,-999.000,9, -999.00,9,  -999.0,9,  -999.0,-999.000,9,-999.000,-999.000,9,   44.31,2,   37.34,2,  400.20,-999.0000,9,-999.0000,9,-999.0000,9,-999.0000,9,-999.0000,9,-999.0000,9,   9.4571,     -999.0,9,       0.44,2,       0.00,2,       0.11,2,        120,-999.000,-999.000,-999.000,      23.94,2,    0.72,2,    0.84,2
33RO200306_02,       A16N,     120,          1,         20,         20,2,20030801,       0539,     6.0003,   -26.4993,       4298,   449.2,   9.1346,  34.9365,2,  34.9361,2,     56.9,2,    56.2,2,   16.96,2,   35.76,2,    0.01,2,    2.20,2,   0.329,2,   0.184,2,   0.002,2,  2238.3,6,  2300.4,2,   -999.0,9,  -999.00,   7.4883,2,    25.00,-999.000,9,-999.000,9,-999.000,9, -999.00,9,  -999.0,9,  -999.0,-999.000,9,-999.000,-999.000,9,   44.47,2,   40.25,2,  449.20,-999.0000,9,-999.0000,9,-999.0000,9,-999.0000,9,-999.0000,9,-999.0000,9,   9.0847,     -999.0,9,     -999.0,9,     -999.0,9,     -999.0,9,        120,-999.000,-999.000,-999.000,     -999.0,9, -999.00,9, -999.00,9
33RO200306_02,       A16N,     120,          1,         19,         19,2,20030801,       0539,     6.0003,   -26.4993,       4298,   499.4,   8.1817,  34.8372,2,  34.8314,2,     66.7,2,    72.5,2,   19.19,2,   36.00,2,    0.01,2,    2.27,2,   0.216,2,   0.123,2,   0.007,2,  2235.9,2,  2298.6,2,   1378.7,2,    20.00,   7.4972,2,    25.00,-999.000,9,-999.000,9,-999.000,9, -999.00,9,  -999.0,9,  -999.0,-999.000,9,-999.000,-999.000,9,   42.44,2,   40.00,2,  499.40,-999.0000,9,-999.0000,9,-999.0000,9,-999.0000,9,-999.0000,9,-999.0000,9,   8.1296,     -999.0,9,       0.06,2,       0.00,2,       0.09,2,        120,-999.000,-999.000,-999.000,        0.0,2,     0.0,2,    0.07,2
33RO200306_02,       A16N,     120,          1,         18,         18,2,20030801,       0539,     6.0003,   -26.4993,       4298,   600.3,   6.8140,  34.6903,2,  34.6901,2,     91.6,2,    95.0,2,   22.84,2,   36.41,2,    0.00,2,    2.35,2,-999.000,9,-999.000,9,-999.000,9,  2230.8,2,  2297.6,2,   1334.3,2,    20.00,   7.5026,2,    25.00,-999.000,9,-999.000,9,-999.000,9, -999.00,9,  -999.0,9,  -999.0,-999.000,9,-999.000,-999.000,9,   41.95,2,   39.97,2,  600.30,-999.0000,9,-999.0000,9,-999.0000,9,-999.0000,9,-999.0000,9,-999.0000,9,   6.7573,     -999.0,9,     -999.0,9,     -999.0,9,     -999.0,9,        120,-999.000,-999.000,-999.000,     -999.0,9, -999.00,9, -999.00,9
33RO200306_02,       A16N,     120,          1,         17,         17,2,20030801,       0539,     6.0003,   -26.4993,       4298,   700.0,   6.0506,  34.6387,2,  34.6386,2,    103.7,2,   104.6,2,   25.64,2,   36.67,2,    0.00,2,    2.41,2,   0.059,2,   0.035,2,   0.003,2,  2229.0,2,  2298.3,6,   -999.0,9,  -999.00,   7.5070,6,    25.00,-999.000,9,-999.000,9,-999.000,9, -999.00,9,  -999.0,9,  -999.0,-999.000,9,-999.000,-999.000,9,   41.46,2,   39.50,2,  700.00,-999.0000,9,-999.0000,9,-999.0000,9,-999.0000,9,-999.0000,9,-999.0000,9,   5.9880,     -999.0,9,       0.00,2,       0.00,2,       0.07,2,        120,-999.000,-999.000,-999.000,        6.1,2,    0.42,2,    0.25,2
33RO200306_02,       A16N,     120,          1,         16,         16,2,20030801,       0539,     6.0003,   -26.4993,       4298,   799.4,   5.4902,  34.6246,2,  34.6252,2,    115.8,2,   116.1,2,   27.96,2,   36.18,2,    0.00,2,    2.40,2,   0.023,2,   0.017,2,   0.001,2,  2229.8,2,  2300.1,2,   1296.0,2,    20.00,   7.5230,2,    25.00,-999.000,9,-999.000,9,-999.000,9, -999.00,9,  -999.0,9,  -999.0,-999.000,9,-999.000,-999.000,9,   41.46,2,   40.17,2,  799.40,-999.0000,9,-999.0000,9,-999.0000,9,-999.0000,9,-999.0000,9,-999.0000,9,   5.4216,     -999.0,9,     -999.0,9,     -999.0,9,     -999.0,9,        120,-999.000,-999.000,-999.000,     -999.0,9, -999.00,9, -999.00,9
33RO200306_02,       A16N,     120,          1,         15,         15,2,20030801,       0539,     6.0003,   -26.4993,       4298,   900.1,   5.0255,  34.6453,2,  34.6474,2,    133.6,2,   134.0,2,   29.19,2,   34.52,2,    0.00,2,    2.33,2,   0.023,2,   0.010,2,   0.000,2,  2224.8,2,  2303.7,2,   -999.0,9,  -999.00,   7.5405,2,    25.00,-999.000,9,-999.000,9,-999.000,9, -999.00,9,  -999.0,9,  -999.0,-999.000,9,-999.000,-999.000,9,   41.46,2,   38.25,2,  900.10,-999.0000,9,-999.0000,9,-999.0000,9,-999.0000,9,-999.0000,9,-999.0000,9,   4.9508,     -999.0,9,     -999.0,9,     -999.0,9,     -999.0,9,        120,-999.000,-999.000,-999.000,     -999.0,9, -999.00,9, -999.00,9
33RO200306_02,       A16N,     120,          1,         14,         14,2,20030801,       0539,     6.0003,   -26.4993,       4298,  1001.1,   4.9243,  34.7139,2,  34.7144,2,    142.2,2,   140.7,2,   28.45,2,   33.10,2,    0.00,2,    2.24,2,   0.013,2,   0.008,2,   0.003,2,  2222.7,2,  2310.1,2,   1158.2,2,    20.00,   7.5632,2,    25.00,-999.000,9,-999.000,9,-999.000,9, -999.00,9,  -999.0,9,  -999.0,-999.000,9,-999.000,-999.000,9,   40.41,2,   39.52,2, 1001.10,-999.0000,9,-999.0000,9,-999.0000,9,-999.0000,9,-999.0000,9,-999.0000,9,   4.8411,     -999.0,9,       0.06,2,       0.00,2,       0.16,2,        120,-999.000,-999.000,-999.000,      36.56,2,    1.09,2,    0.61,2
33RO200306_02,       A16N,     120,          1,         13,         13,2,20030801,       0539,     6.0003,   -26.4993,       4298,  1099.8,   4.7543,  34.7796,2,  34.7796,2,    158.5,2,   157.1,2,   27.01,2,   30.85,2,    0.00,2,    2.10,2,   0.018,2,   0.005,2,   0.001,2,  2213.0,2,  2312.1,2,   -999.0,9,  -999.00,   7.5961,2,    25.00,-999.000,9,-999.000,9,-999.000,9, -999.00,9,  -999.0,9,  -999.0,-999.000,9,-999.000,-999.000,9,   41.14,2,   35.71,2, 1099.80,-999.0000,9,-999.0000,9,-999.0000,9,-999.0000,9,-999.0000,9,-999.0000,9,   4.6634,     -999.0,9,     -999.0,9,     -999.0,9,     -999.0,9,        120,-999.000,-999.000,-999.000,     -999.0,9, -999.00,9, -999.00,9
33RO200306_02,       A16N,     120,          1,         12,         12,2,20030801,       0539,     6.0003,   -26.4993,       4298,  1200.5,   4.6717,  34.8391,2,  34.8420,2,    172.8,2,   172.5,2,   25.14,2,   28.66,2,    0.00,2,    1.95,2,   0.014,2,   0.010,2,   0.003,2,  2206.3,2,  2313.5,2,   1000.7,2,    20.00,   7.6210,2,    25.00,-999.000,9,-999.000,9,-999.000,9, -999.00,9,  -999.0,9,  -999.0,-999.000,9,-999.000,-999.000,9,   40.81,2,   33.04,2, 1200.50,-999.0000,9,-999.0000,9,-999.0000,9,-999.0000,9,-999.0000,9,-999.0000,9,   4.5723,     -999.0,9,     -999.0,9,     -999.0,9,     -999.0,9,        120,-999.000,-999.000,-999.000,     -999.0,9, -999.00,9, -999.00,9
33RO200306_02,       A16N,     120,          1,         11,         11,2,20030801,       0539,     6.0003,   -26.4993,       4298,  1399.6,   4.4667,  34.9474,2,  34.9481,2,    210.9,2,   211.8,2,   20.14,2,   23.76,2,    0.00,2,    1.61,2,   0.087,2,   0.047,2,   0.004,2,  2184.1,2,  2316.0,2,   -999.0,9,  -999.00,   7.6877,2,    25.00,-999.000,9,-999.000,9,-999.000,9, -999.00,9,  -999.0,9,  -999.0,-999.000,9,-999.000,-999.000,9,   41.14,2,   26.88,2, 1399.60,-999.0000,9,-999.0000,9,-999.0000,9,-999.0000,9,-999.0000,9,-999.0000,9,   4.3507,     -999.0,9,     -999.0,9,     -999.0,9,     -999.0,9,        120,-999.000,-999.000,-999.000,     -999.0,9, -999.00,9, -999.00,9
33RO200306_02,       A16N,     120,          1,         10,         10,2,20030801,       0539,     6.0003,   -26.4993,       4298,  1599.7,   4.0945,  34.9619,2,  34.9630,2,    228.8,2,   227.0,2,   19.79,2,   22.13,2,    0.00,2,    1.50,2,   0.051,2,   0.026,2,   0.005,2,  2175.9,2,  2317.1,2,    805.8,2,    20.00,-999.0000,9,  -999.00,-999.000,9,-999.000,9,-999.000,9, -999.00,9,  -999.0,9,  -999.0,-999.000,9,-999.000,-999.000,9,   41.30,2,   27.35,2, 1599.70,-999.0000,9,-999.0000,9,-999.0000,9,-999.0000,9,-999.0000,9,-999.0000,9,   3.9640,     -999.0,9,       0.00,2,       0.00,2,       0.12,2,        120,-999.000,-999.000,-999.000,       4.03,2,    0.15,2,     0.0,2
33RO200306_02,       A16N,     120,          1,          9,          9,2,20030801,       0539,     6.0003,   -26.4993,       4298,  1799.6,   3.7892,  34.9704,2,  34.9715,2,    244.6,2,   248.7,2,   19.72,2,   20.67,2,    0.00,2,    1.40,2,   0.066,2,   0.036,2,   0.002,2,  2170.9,2,  2319.2,2,   -999.0,9,  -999.00,   7.7229,2,    25.00,-999.000,9,-999.000,9,-999.000,9, -999.00,9,  -999.0,9,  -999.0,-999.000,9,-999.000,-999.000,9,   41.54,2,   25.15,2, 1799.60,-999.0000,9,-999.0000,9,-999.0000,9,-999.0000,9,-999.0000,9,-999.0000,9,   3.6439,     -999.0,9,     -999.0,9,     -999.0,9,     -999.0,9,        120,-999.000,-999.000,-999.000,     -999.0,9, -999.00,9, -999.00,9
33RO200306_02,       A16N,     120,          1,          8,          8,2,20030801,       0539,     6.0003,   -26.4993,       4298,  2000.0,   3.5811,  34.9625,2,  34.9635,2,    245.8,2,   243.2,2,   21.80,2,   20.79,2,    0.00,2,    1.42,2,   0.031,2,   0.018,2,   0.002,2,  2172.0,2,  2321.9,2,    767.1,2,    20.00,   7.7103,2,    25.00,-999.000,9,-999.000,9,-999.000,9, -999.00,9,  -999.0,9,  -999.0,-999.000,9,-999.000,-999.000,9,   41.79,2,   25.23,2, 2000.00,-999.0000,9,-999.0000,9,-999.0000,9,-999.0000,9,-999.0000,9,-999.0000,9,   3.4198,     -999.0,9,     -999.0,9,     -999.0,9,     -999.0,9,        120,-999.000,-999.000,-999.000,     -999.0,9, -999.00,9, -999.00,9