BOTTLE,20230908CCHSIOCBG
EXPOCODE,SECT_ID,STNNBR,CASTNO,SAMPNO,BTLNBR,BTLNBR_FLAG_W,DATE,TIME,LATITUDE,LONGITUDE,DEPTH,CTDPRS,CTDTMP,CTDSAL,CTDSAL_FLAG_W,SALNTY,SALNTY_FLAG_W,CTDOXY,CTDOXY_FLAG_W,OXYGEN,OXYGEN_FLAG_W,SILCAT,SILCAT_FLAG_W,NITRAT,NITRAT_FLAG_W,NITRIT,NITRIT_FLAG_W,PHSPHT,PHSPHT_FLAG_W,CFC-11,CFC-11_FLAG_W,CFC-12,CFC-12_FLAG_W,CFC113,CFC113_FLAG_W,TCARBN,TCARBN_FLAG_W,ALKALI,ALKALI_FLAG_W,FCO2,FCO2_FLAG_W,FCO2TMP,PH_SWS,PH_SWS_FLAG_W,PH_TMP,TRITUM,TRITUM_FLAG_W,HELIUM,HELIUM_FLAG_W,DELHE3,DELHE3_FLAG_W,DELC13,DELC13_FLAG_W,DELC14,DELC14_FLAG_W,C14ERR,NEON,NEON_FLAG_W,NEONER,POC,POC_FLAG_W,DOC,DOC_FLAG_W,TDN,TDN_FLAG_W,CTDRAW,CDOM325,CDOM325_FLAG_W,CDOM340,CDOM340_FLAG_W,CDOM380,CDOM380_FLAG_W,CDOM412,CDOM412_FLAG_W,CDOMSL,CDOMSL_FLAG_W,CDOMSN,CDOMSN_FLAG_W,THETA,PON,PON_FLAG_W,HCFC-22,HCFC-22_FLAG_W,HCFC-142b,HCFC-142b_FLAG_W,HCFC-141b,HCFC-141b_FLAG_W,STNNBR_U,HELIER,DELHER,TRITER,CH3CL,CH3CL_FLAG_W,CH3BR,CH3BR_FLAG_W,CH3I,CH3I_FLAG_W
,,,,,,,,,,,METERS,DBAR,ITS-90,PSS-78,,PSS-78,,UMOL/KG,,UMOL/KG,,UMOL/KG,,UMOL/KG,,UMOL/KG,,UMOL/KG,,PMOL/KG,,PMOL/KG,,PMOL/KG,,UMOL/KG,,UMOL/KG,,UATM,,DEG C,,,DEG C,TU,,NMOL/KG,,PERCNT,,/MILLE,,/MILLE,,/MILLE,NMOL/KG,,NMOL/KG,UG/KG,,UMOL/KG,,UMOL/KG,,DBAR,1/M,,1/M,,1/M,,1/M,,1/NM,,1/NM,,DEG C,UMOL/L,,PMOL/KG,,PMOL/KG,,PMOL/KG,,,NMOL/KG,PERCNT,TU,PMOL/KG,,PMOL/KG,,PMOL/KG,
33RO200306_01,       A16N,     046,          1,         33,         33,2,20030701,       0851,    42.4987,   -19.9987,       4150,     3.0,  17.3444,  35.8213,2,  35.8223,2,    236.7,2,   243.7,2,    0.50,2,    0.07,2,    0.00,2,    0.04,2,-999.000,9,-999.000,9,-999.000,9,  2067.6,6,  -999.0,9,   -999.0,9,  -999.00,-999.0000,9,  -999.00,-999.000,9,-999.000,9,-999.000,9,    1.50,2,    73.2,2,     2.8,-999.000,9,-999.000,-999.000,9, -999.00,9, -999.00,9,    3.00,-999.0000,9,-999.0000,9,-999.0000,9,-999.0000,9,-999.0000,9,-999.0000,9,  17.3439,     -999.0,9,       5.90,2,       0.19,2,       0.80,2,         46,-999.000,-999.000,-999.000,     100.87,2,    3.02,2,   20.35,2
33RO200306_01,       A16N,     046,          1,         35,         35,2,20030701,       0851,    42.4987,   -19.9987,       4150,     3.0,  17.3427,  35.8211,2,-999.0000,1,    236.7,2,  -999.0,9,    0.51,2,    0.07,2,    0.00,2,    0.04,2,-999.000,9,-999.000,9,-999.000,9,  -999.0,9,  -999.0,9,   -999.0,9,  -999.00,-999.0000,9,  -999.00,-999.000,9,-999.000,9,-999.000,9, -999.00,9,  -999.0,9,  -999.0,-999.000,9,-999.000,-999.000,9, -999.00,9, -999.00,9,    3.00,-999.0000,9,-999.0000,9,-999.0000,9,-999.0000,9,-999.0000,9,-999.0000,9,  17.3422,     -999.0,9,     -999.0,9,     -999.0,9,     -999.0,9,         46,-999.000,-999.000,-999.000,     -999.0,9, -999.00,9, -999.00,9
33RO200306_01,       A16N,     046,          1,         32,         32,2,20030701,       0851,    42.4987,   -19.9987,       4150,    21.2,  17.3042,  35.8187,2,  35.8191,2,    232.4,2,   235.0,2,    0.52,2,    0.09,2,    0.00,2,    0.04,2,-999.000,9,-999.000,9,-999.000,9,  -999.0,9,  -999.0,9,   -999.0,9,  -999.00,-999.0000,9,  -999.00,-999.000,9,-999.000,9,-999.000,9, -999.00,9,  -999.0,9,  -999.0,-999.000,9,-999.000,   5.748,2, -999.00,9, -999.00,9,   21.20,-999.0000,9,-999.0000,9,-999.0000,9,-999.0000,9,-999.0000,9,-999.0000,9,  17.3007,      0.718,2,     -999.0,9,     -999.0,9,     -999.0,9,         46,-999.000,-999.000,-999.000,     -999.0,9, -999.00,9, -999.00,9
33RO200306_01,       A16N,     046,          1,         31,         31,2,20030701,       0851,    42.4987,   -19.9987,       4150,    40.6,  13.9586,  35.7439,2,  35.7476,2,    259.3,2,   256.1,2,    1.14,2,    2.21,2,    0.44,2,    0.21,2,-999.000,9,-999.000,9,-999.000,9,  -999.0,9,  -999.0,9,   -999.0,9,  -999.00,-999.0000,9,  -999.00,-999.000,9,-999.000,9,-999.000,9, -999.00,9,  -999.0,9,  -999.0,-999.000,9,-999.000,   4.530,2, -999.00,9, -999.00,9,   40.60,-999.0000,9,-999.0000,9,-999.0000,9,-999.0000,9,-999.0000,9,-999.0000,9,  13.9527,      0.644,2,       6.40,2,       0.23,2,       0.65,2,         46,-999.000,-999.000,-999.000,       50.6,2,    1.11,2,   21.07,2
33RO200306_01,       A16N,     046,          1,         30,         30,2,20030701,       0851,    42.4987,   -19.9987,       4150,    60.6,  13.3062,  35.7578,2,  35.7572,2,    240.5,2,   242.2,2,    1.81,2,    5.30,2,    0.14,2,    0.35,2,-999.000,9,-999.000,9,-999.000,9,  -999.0,9,  -999.0,9,   -999.0,9,  -999.00,-999.0000,9,  -999.00,-999.000,9,-999.000,9,-999.000,9, -999.00,9,  -999.0,9,  -999.0,-999.000,9,-999.000,   2.724,2, -999.00,9, -999.00,9,   60.60,-999.0000,9,-999.0000,9,-999.0000,9,-999.0000,9,-999.0000,9,-999.0000,9,  13.2977,      0.332,2,     -999.0,9,     -999.0,9,     -999.0,9,         46,-999.000,-999.000,-999.000,     -999.0,9, -999.00,9, -999.00,9
33RO200306_01,       A16N,     046,          1,         29,         29,2,20030701,       0851,    42.4987,   -19.9987,       4150,    79.9,  13.0816,  35.7526,2,  35.7523,2,    238.5,2,   239.9,2,    2.02,2,    6.31,2,    0.01,2,    0.39,2,-999.000,9,-999.000,9,-999.000,9,  -999.0,9,  -999.0,9,   -999.0,9,  -999.00,-999.0000,9,  -999.00,-999.000,9,-999.000,9,-999.000,9, -999.00,9,  -999.0,9,  -999.0,-999.000,9,-999.000,   1.549,2, -999.00,9, -999.00,9,   79.90,-999.0000,9,-999.0000,9,-999.0000,9,-999.0000,9,-999.0000,9,-999.0000,9,  13.0705,      0.227,2,       6.05,2,       0.18,2,       0.76,2,         46,-999.000,-999.000,-999.000,       21.6,2,     1.5,2,    1.76,2
33RO200306_01,       A16N,     046,          1,         28,         28,2,20030701,       0851,    42.4987,   -19.9987,       4150,    99.8,  12.9716,  35.7534,2,  35.7522,2,    241.0,2,   240.7,2,    2.14,2,    6.62,2,    0.01,2,    0.41,2,-999.000,9,-999.000,9,-999.000,9,  -999.0,9,  -999.0,9,   -999.0,9,  -999.00,-999.0000,9,  -999.00,-999.000,9,-999.000,9,-999.000,9, -999.00,9,  -999.0,9,  -999.0,-999.000,9,-999.000,   1.241,2, -999.00,9, -999.00,9,   99.80,-999.0000,9,-999.0000,9,-999.0000,9,-999.0000,9,-999.0000,9,-999.0000,9,  12.9578,      0.211,2,     -999.0,9,     -999.0,9,     -999.0,9,         46,-999.000,-999.000,-999.000,     -999.0,9, -999.00,9, -999.00,9
33RO200306_01,       A16N,     046,          1,         27,         27,2,20030701,       0851,    42.4987,   -19.9987,       4150,   125.0,  12.8967,  35.7564,2,  35.7562,2,    241.0,2,   242.5,2,    2.28,2,    6.99,2,    0.01,2,    0.43,2,-999.000,9,-999.000,9,-999.000,9,  -999.0,9,  -999.0,9,   -999.0,9,  -999.00,-999.0000,9,  -999.00,-999.000,9,-999.000,9,-999.000,9, -999.00,9,  -999.0,9,  -999.0,-999.000,9,-999.000,-999.000,9, -999.00,9, -999.00,9,  125.00,-999.0000,9,-999.0000,9,-999.0000,9,-999.0000,9,-999.0000,9,-999.0000,9,  12.8795,     -999.0,9,       5.79,2,       0.16,2,       0.77,2,         46,-999.000,-999.000,-999.000,      36.21,2,    0.38,2,    0.78,2
33RO200306_01,       A16N,     046,          1,         26,         26,2,20030701,       0851,    42.4987,   -19.9987,       4150,   149.5,  12.8226,  35.7525,2,  35.7512,2,    240.3,2,   241.5,2,    2.40,2,    7.33,2,    0.01,2,    0.45,2,-999.000,9,-999.000,9,-999.000,9,  -999.0,9,  -999.0,9,   -999.0,9,  -999.00,-999.0000,9,  -999.00,-999.000,9,-999.000,9,-999.000,9, -999.00,9,  -999.0,9,  -999.0,-999.000,9,-999.000,   0.893,2, -999.00,9, -999.00,9,  149.50,-999.0000,9,-999.0000,9,-999.0000,9,-999.0000,9,-999.0000,9,-999.0000,9,  12.8021,      0.072,2,     -999.0,9,     -999.0,9,     -999.0,9,         46,-999.000,-999.000,-999.000,     -999.0,9, -999.00,9, -999.00,9
33RO200306_01,       A16N,     046,          1,         25,         25,2,20030701,       0851,    42.4987,   -19.9987,       4150,   173.7,  12.7044,  35.7395,2,  35.7396,2,    239.7,2,   242.3,2,    2.64,2,    7.89,2,    0.01,2,    0.48,2,-999.000,9,-999.000,9,-999.000,9,  -999.0,9,  -999.0,9,   -999.0,9,  -999.00,-999.0000,9,  -999.00,-999.000,9,-999.000,9,-999.000,9, -999.00,9,  -999.0,9,  -999.0,-999.000,9,-999.000,-999.000,9, -999.00,9, -999.00,9,  173.70,-999.0000,9,-999.0000,9,-999.0000,9,-999.0000,9,-999.0000,9,-999.0000,9,  12.6807,     -999.0,9,       6.04,2,       0.21,2,       1.30,2,         46,-999.000,-999.000,-999.000,      75.61,2,    7.85,2,    0.61,2
33RO200306_01,       A16N,     046,          1,         24,         24,2,20030701,       0851,    42.4987,   -19.9987,       4150,   199.4,  12.5493,  35.7173,2,  35.7170,2,    238.7,2,   237.8,2,    2.99,2,    8.72,2,    0.01,2,    0.53,2,-999.000,9,-999.000,9,-999.000,9,  -999.0,9,  -999.0,9,   -999.0,9,  -999.00,-999.0000,9,  -999.00,-999.000,9,-999.000,9,-999.000,9, -999.00,9,  -999.0,9,  -999.0,-999.000,9,-999.000,-999.000,9, -999.00,9, -999.00,9,  199.40,-999.0000,9,-999.0000,9,-999.0000,9,-999.0000,9,-999.0000,9,-999.0000,9,  12.5223,     -999.0,9,     -999.0,9,     -999.0,9,     -999.0,9,         46,-999.000,-999.000,-999.000,     -999.0,9, -999.00,9, -999.00,9
33RO200306_01,       A16N,     046,          1,         23,         23,2,20030701,       0851,    42.4987,   -19.9987,       4150,   249.2,  12.3951,  35.6976,2,  35.6972,2,    235.8,2,   239.8,2,    3.07,2,    8.95,2,    0.01,2,    0.55,2,-999.000,9,-999.000,9,-999.000,9,  -999.0,9,  -999.0,9,   -999.0,9,  -999.00,-999.0000,9,  -999.00,-999.000,9,-999.000,9,-999.000,9, -999.00,9,  -999.0,9,  -999.0,-999.000,9,-999.000,-999.000,9, -999.00,9, -999.00,9,  249.20,-999.0000,9,-999.0000,9,-999.0000,9,-999.0000,9,-999.0000,9,-999.0000,9,  12.3616,     -999.0,9,       5.90,2,       0.16,2,       0.66,2,         46,-999.000,-999.000,-999.000,      21.72,2,    1.06,2,    0.37,2
33RO200306_01,       A16N,     046,          1,         22,         22,2,20030701,       0851,    42.4987,   -19.9987,       4150,   301.1,  12.1627,  35.6575,2,  35.6557,2,    237.7,2,   236.0,2,    3.29,2,    9.49,2,    0.01,2,    0.58,2,-999.000,9,-999.000,9,-999.000,9,  -999.0,9,  -999.0,9,   -999.0,9,  -999.00,-999.0000,9,  -999.00,-999.000,9,-999.000,9,-999.000,9, -999.00,9,  -999.0,9,  -999.0,-999.000,9,-999.000,   0.737,2, -999.00,9, -999.00,9,  301.10,-999.0000,9,-999.0000,9,-999.0000,9,-999.0000,9,-999.0000,9,-999.0000,9,  12.1226,      0.125,2,     -999.0,9,     -999.0,9,     -999.0,9,         46,-999.000,-999.000,-999.000,     -999.0,9, -999.00,9, -999.00,9
33RO200306_01,       A16N,     046,          1,         21,         21,2,20030701,       0851,    42.4987,   -19.9987,       4150,   350.3,  11.8455,  35.6046,2,  35.6026,2,    230.8,2,   231.4,2,    3.84,2,   10.75,2,    0.01,2,    0.66,2,-999.000,9,-999.000,9,-999.000,9,  -999.0,9,  -999.0,9,   -999.0,9,  -999.00,-999.0000,9,  -999.00,-999.000,9,-999.000,9,-999.000,9, -999.00,9,  -999.0,9,  -999.0,-999.000,9,-999.000,-999.000,9, -999.00,9, -999.00,9,  350.30,-999.0000,9,-999.0000,9,-999.0000,9,-999.0000,9,-999.0000,9,-999.0000,9,  11.7996,     -999.0,9,     -999.0,9,     -999.0,9,     -999.0,9,         46,-999.000,-999.000,-999.000,     -999.0,9, -999.00,9, -999.00,9
33RO200306_01,       A16N,     046,          1,         20,         20,2,20030701,       0851,    42.4987,   -19.9987,       4150,   399.6,  11.5900,  35.5689,2,  35.5654,2,    224.1,2,   220.5,2,    4.31,2,   11.91,2,    0.01,2,    0.72,2,-999.000,9,-999.000,9,-999.000,9,  -999.0,9,  -999.0,9,   -999.0,9,  -999.00,-999.0000,9,  -999.00,-999.000,9,-999.000,9,-999.000,9, -999.00,9,  -999.0,9,  -999.0,-999.000,9,-999.000,-999.000,9, -999.00,9, -999.00,9,  399.60,-999.0000,9,-999.0000,9,-999.0000,9,-999.0000,9,-999.0000,9,-999.0000,9,  11.5383,     -999.0,9,     -999.0,9,     -999.0,9,     -999.0,9,         46,-999.000,-999.000,-999.000,     -999.0,9, -999.00,9, -999.00,9
33RO200306_01,       A16N,     046,          1,         19,         19,2,20030701,       0851,    42.4987,   -19.9987,       4150,   449.8,  11.2435,  35.5314,2,  35.5313,2,    218.8,2,   214.7,2,    4.98,2,   13.22,2,    0.01,2,    0.80,2,-999.000,9,-999.000,9,-999.000,9,  -999.0,9,  -999.0,9,   -999.0,9,  -999.00,-999.0000,9,  -999.00,-999.000,9,-999.000,9,-999.000,9, -999.00,9,  -999.0,9,  -999.0,-999.000,9,-999.000,-999.000,9, -999.00,9, -999.00,9,  449.80,-999.0000,9,-999.0000,9,-999.0000,9,-999.0000,9,-999.0000,9,-999.0000,9,  11.1863,     -999.0,9,       4.27,2,       0.15,2,       0.48,2,         46,-999.000,-999.000,-999.000,       51.2,2,    0.71,2,    0.28,2
33RO200306_01,       A16N,     046,          1,         18,         18,2,20030701,       0851,    42.4987,   -19.9987,       4150,   496.8,  11.0987,  35.5221,2,  35.5209,2,    212.3,2,   208.4,2,    5.41,2,   13.87,2,    0.01,2,    0.84,2,-999.000,9,-999.000,9,-999.000,9,  -999.0,9,  -999.0,9,   -999.0,9,  -999.00,-999.0000,9,  -999.00,-999.000,9,-999.000,9,-999.000,9, -999.00,9,  -999.0,9,  -999.0,-999.000,9,-999.000,   0.519,2, -999.00,9, -999.00,9,  496.80,-999.0000,9,-999.0000,9,-999.0000,9,-999.0000,9,-999.0000,9,-999.0000,9,  11.0359,      0.070,2,     -999.0,9,     -999.0,9,     -999.0,9,         46,-999.000,-999.000,-999.000,     -999.0,9, -999.00,9, -999.00,9
33RO200306_01,       A16N,     046,          1,         17,         17,2,20030701,       0851,    42.4987,   -19.9987,       4150,   598.9,  10.7069,  35.5145,2,  35.5143,2,    201.5,2,   197.6,2,    6.69,2,   15.46,2,    0.01,2,    0.94,2,-999.000,9,-999.000,9,-999.000,9,  -999.0,9,  -999.0,9,   -999.0,9,  -999.00,-999.0000,9,  -999.00,-999.000,9,-999.000,9,-999.000,9, -999.00,9,  -999.0,9,  -999.0,-999.000,9,-999.000,-999.000,9, -999.00,9, -999.00,9,  598.90,-999.0000,9,-999.0000,9,-999.0000,9,-999.0000,9,-999.0000,9,-999.0000,9,  10.6325,     -999.0,9,       3.26,2,       0.00,2,       0.47,2,         46,-999.000,-999.000,-999.000,        0.0,2,    0.31,2,    0.05,2
33RO200306_01,       A16N,     046,          1,         16,         16,2,20030701,       0851,    42.4987,   -19.9987,       4150,   699.9,  10.3677,  35.5496,2,  35.5606,2,    188.1,2,   187.1,2, -999.00,1, -999.00,1, -999.00,1, -999.00,1,-999.000,9,-999.000,9,-999.000,9,  -999.0,9,  -999.0,9,   -999.0,9,  -999.00,-999.0000,9,  -999.00,-999.000,9,-999.000,9,-999.000,9, -999.00,9,  -999.0,9,  -999.0,-999.000,9,-999.000,-999.000,9, -999.00,9, -999.00,9,  699.90,-999.0000,9,-999.0000,9,-999.0000,9,-999.0000,9,-999.0000,9,-999.0000,9,  10.2820,     -999.0,9,     -999.0,9,     -999.0,9,     -999.0,9,         46,-999.000,-999.000,-999.000,     -999.0,9, -999.00,9, -999.00,9
33RO200306_01,       A16N,     046,          1,         15,         15,2,20030701,       0851,    42.4987,   -19.9987,       4150,   800.2,  10.3306,  35.6892,2,  35.6879,2,    183.4,2,   185.1,2,    8.62,2,   16.74,2,    0.00,2,    1.02,2,-999.000,9,-999.000,9,-999.000,9,  -999.0,9,  -999.0,9,   -999.0,9,  -999.00,-999.0000,9,  -999.00,-999.000,9,-999.000,9,-999.000,9, -999.00,9,  -999.0,9,  -999.0,-999.000,9,-999.000,-999.000,9, -999.00,9, -999.00,9,  800.20,-999.0000,9,-999.0000,9,-999.0000,9,-999.0000,9,-999.0000,9,-999.0000,9,  10.2323,     -999.0,9,       1.71,2,       0.00,2,       0.32,2,         46,-999.000,-999.000,-999.000,       1.06,2,    0.09,2,    0.02,2
33RO200306_01,       A16N,     046,          1,         14,         14,2,20030701,       0851,    42.4987,   -19.9987,       4150,   899.9,  10.1737,  35.7679,2,  35.7713,2,    182.5,2,   184.0,2,    9.14,2,   16.82,2,    0.00,2,    1.03,2,-999.000,9,-999.000,9,-999.000,9,  -999.0,9,  -999.0,9,   -999.0,9,  -999.00,-999.0000,9,  -999.00,-999.000,9,-999.000,9,-999.000,9, -999.00,9,  -999.0,9,  -999.0,-999.000,9,-999.000,-999.000,9, -999.00,9, -999.00,9,  899.90,-999.0000,9,-999.0000,9,-999.0000,9,-999.0000,9,-999.0000,9,-999.0000,9,  10.0635,     -999.0,9,     -999.0,9,     -999.0,9,     -999.0,9,         46,-999.000,-999.000,-999.000,     -999.0,9, -999.00,9, -999.00,9
33RO200306_01,       A16N,     046,          1,         13,         13,2,20030701,       0851,    42.4987,   -19.9987,       4150,   999.3,   9.6586,  35.7724,2,  35.7720,2,    184.6,2,   187.4,2,    9.79,2,   17.10,2,    0.00,2,    1.05,2,-999.000,9,-999.000,9,-999.000,9,  -999.0,9,  -999.0,9,   -999.0,9,  -999.00,-999.0000,9,  -999.00,-999.000,9,-999.000,9,-999.000,9, -999.00,9,  -999.0,9,  -999.0,-999.000,9,-999.000,-999.000,9, -999.00,9, -999.00,9,  999.30,-999.0000,9,-999.0000,9,-999.0000,9,-999.0000,9,-999.0000,9,-999.0000,9,   9.5393,     -999.0,9,       1.26,2,       0.00,2,       0.30,2,         46,-999.000,-999.000,-999.000,      28.71,2,    0.74,2,    0.18,2
33RO200306_01,       A16N,     046,          1,         12,         12,2,20030701,       0851,    42.4987,   -19.9987,       4150,  1099.5,   8.9411,  35.6934,2,  35.6966,2,    192.8,2,   193.6,2,   10.36,2,   17.43,2,    0.00,2,    1.08,2,-999.000,9,-999.000,9,-999.000,9,  -999.0,9,  -999.0,9,   -999.0,9,  -999.00,-999.0000,9,  -999.00,-999.000,9,-999.000,9,-999.000,9, -999.00,9,  -999.0,9,  -999.0,-999.000,9,-999.000,-999.000,9, -999.00,9, -999.00,9, 1099.50,-999.0000,9,-999.0000,9,-999.0000,9,-999.0000,9,-999.0000,9,-999.0000,9,   8.8149,     -999.0,9,     -999.0,9,     -999.0,9,     -999.0,9,         46,-999.000,-999.000,-999.000,     -999.0,9, -999.00,9, -999.00,9
33RO200306_01,       A16N,     046,          1,         10,         10,2,20030701,       0851,    42.4987,   -19.9987,       4150,  1199.7,   8.3487,  35.6576,2,  35.6480,2,    202.1,2,   202.6,2,   10.77,2,   17.37,2,    0.00,2,    1.08,2,-999.000,9,-999.000,9,-999.000,9,  -999.0,9,  -999.0,9,   -999.0,9,  -999.00,-999.0000,9,  -999.00,-999.000,9,-999.000,9,-999.000,9, -999.00,9,  -999.0,9,  -999.0,-999.000,9,-999.000,-999.000,9, -999.00,9, -999.00,9, 1199.70,-999.0000,9,-999.0000,9,-999.0000,9,-999.0000,9,-999.0000,9,-999.0000,9,   8.2154,     -999.0,9,       1.07,2,       0.00,2,       0.59,2,         46,-999.000,-999.000,-999.000,       1.53,2,    0.48,2,    0.18,2
33RO200306_01,       A16N,     046,          1,         11,         11,2,20030701,       0851,    42.4987,   -19.9987,       4150,  1199.7,   8.3571,  35.6606,2,  35.6582,2,    202.1,2,  -999.0,1,   10.73,2,   17.35,2,    0.00,2,    1.07,2,-999.000,9,-999.000,9,-999.000,9,  -999.0,9,  -999.0,9,   -999.0,9,  -999.00,-999.0000,9,  -999.00,-999.000,9,-999.000,9,-999.000,9, -999.00,9,  -999.0,9,  -999.0,-999.000,9,-999.000,-999.000,9, -999.00,9, -999.00,9, 1199.70,-999.0000,9,-999.0000,9,-999.0000,9,-999.0000,9,-999.0000,9,-999.0000,9,   8.2237,     -999.0,9,     -999.0,9,     -999.0,9,     -999.0,9,         46,-999.000,-999.000,-999.000,     -999.0,9, -999.00,9, -999.00,9
33RO200306_01,       A16N,     046,          1,          9,          9,2,20030701,       0851,    42.4987,   -19.9987,       4150,  1598.2,   4.2011,  34.9890,2,  34.9890,2,    262.3,2,   260.7,2,   11.63,2,   17.82,2,    0.00,2,    1.14,2,   2.322,2,   1.161,2,   0.123,2,  -999.0,9,  -999.0,9,   -999.0,9,  -999.00,-999.0000,9,  -999.00,-999.000,9,-999.000,9,-999.000,9, -999.00,9,  -999.0,9,  -999.0,-999.000,9,-999.000,-999.000,9, -999.00,9, -999.00,9, 1598.20,-999.0000,9,-999.0000,9,-999.0000,9,-999.0000,9,-999.0000,9,-999.0000,9,   4.0694,     -999.0,9,       1.81,2,       0.00,2,       0.14,2,         46,-999.000,-999.000,-999.000,        0.0,2,    0.18,2,    0.09,2
33RO200306_01,       A16N,     046,          1,          8,          8,2,20030701,       0851,    42.4987,   -19.9987,       4150,  1799.8,   3.5939,  34.9191,2,  34.9182,2,    272.8,2,   274.1,2,   11.79,2,   17.48,2,    0.00,2,    1.13,2,-999.000,9,-999.000,9,-999.000,9,  -999.0,9,  -999.0,9,   -999.0,9,  -999.00,-999.0000,9,  -999.00,-999.000,9,-999.000,9,-999.000,9, -999.00,9,  -999.0,9,  -999.0,-999.000,9,-999.000,-999.000,9, -999.00,9, -999.00,9, 1799.80,-999.0000,9,-999.0000,9,-999.0000,9,-999.0000,9,-999.0000,9,-999.0000,9,   3.4513,     -999.0,9,     -999.0,9,     -999.0,9,     -999.0,9,         46,-999.000,-999.000,-999.000,     -999.0,9, -999.00,9, -999.00,9