BOTTLE,20230908CCHSIOCBG
EXPOCODE,SECT_ID,STNNBR,CASTNO,SAMPNO,BTLNBR,BTLNBR_FLAG_W,DATE,TIME,LATITUDE,LONGITUDE,DEPTH,CTDPRS,CTDTMP,CTDSAL,CTDSAL_FLAG_W,SALNTY,SALNTY_FLAG_W,CTDOXY,CTDOXY_FLAG_W,OXYGEN,OXYGEN_FLAG_W,SILCAT,SILCAT_FLAG_W,NITRAT,NITRAT_FLAG_W,NITRIT,NITRIT_FLAG_W,PHSPHT,PHSPHT_FLAG_W,CFC-11,CFC-11_FLAG_W,CFC-12,CFC-12_FLAG_W,CFC113,CFC113_FLAG_W,TCARBN,TCARBN_FLAG_W,ALKALI,ALKALI_FLAG_W,FCO2,FCO2_FLAG_W,FCO2TMP,PH_SWS,PH_SWS_FLAG_W,PH_TMP,TRITUM,TRITUM_FLAG_W,HELIUM,HELIUM_FLAG_W,DELHE3,DELHE3_FLAG_W,DELC13,DELC13_FLAG_W,DELC14,DELC14_FLAG_W,C14ERR,NEON,NEON_FLAG_W,NEONER,POC,POC_FLAG_W,DOC,DOC_FLAG_W,TDN,TDN_FLAG_W,CTDRAW,CDOM325,CDOM325_FLAG_W,CDOM340,CDOM340_FLAG_W,CDOM380,CDOM380_FLAG_W,CDOM412,CDOM412_FLAG_W,CDOMSL,CDOMSL_FLAG_W,CDOMSN,CDOMSN_FLAG_W,THETA,PON,PON_FLAG_W,HCFC-22,HCFC-22_FLAG_W,HCFC-142b,HCFC-142b_FLAG_W,HCFC-141b,HCFC-141b_FLAG_W,STNNBR_U,HELIER,DELHER,TRITER,CH3CL,CH3CL_FLAG_W,CH3BR,CH3BR_FLAG_W,CH3I,CH3I_FLAG_W
,,,,,,,,,,,METERS,DBAR,ITS-90,PSS-78,,PSS-78,,UMOL/KG,,UMOL/KG,,UMOL/KG,,UMOL/KG,,UMOL/KG,,UMOL/KG,,PMOL/KG,,PMOL/KG,,PMOL/KG,,UMOL/KG,,UMOL/KG,,UATM,,DEG C,,,DEG C,TU,,NMOL/KG,,PERCNT,,/MILLE,,/MILLE,,/MILLE,NMOL/KG,,NMOL/KG,UG/KG,,UMOL/KG,,UMOL/KG,,DBAR,1/M,,1/M,,1/M,,1/M,,1/NM,,1/NM,,DEG C,UMOL/L,,PMOL/KG,,PMOL/KG,,PMOL/KG,,,NMOL/KG,PERCNT,TU,PMOL/KG,,PMOL/KG,,PMOL/KG,
33RO200306_02,       A16N,     148,          2,          7,          7,2,20030808,       1710,    -4.9993,   -25.0113,       5721,  3395.5,   2.5677,  34.9176,2,  34.9148,2,    255.4,2,   256.9,2,   33.28,2,   20.32,2,    0.00,2,    1.35,2,   0.041,2,   0.026,2,   0.002,2,  2176.2,2,  2328.8,2,    749.6,2,    20.00,   7.7245,2,    25.00,-999.000,9,-999.000,9,-999.000,9, -999.00,9,  -999.0,9,  -999.0,-999.000,9,-999.000,-999.000,9,   40.88,2,   25.08,2, 3395.50,-999.0000,9,-999.0000,9,-999.0000,9,-999.0000,9,-999.0000,9,-999.0000,9,   2.2849,     -999.0,9,     -999.0,9,     -999.0,9,     -999.0,9,        148,-999.000,-999.000,-999.000,     -999.0,9, -999.00,9, -999.00,9
33RO200306_02,       A16N,     148,          2,          6,          6,2,20030808,       1710,    -4.9993,   -25.0113,       5721,  3801.0,   2.2741,  34.8913,2,  34.8908,2,    256.6,2,   256.4,2,   41.19,2,   21.22,2,    0.00,2,    1.41,2,   0.045,2,   0.030,2,   0.002,2,  2182.9,2,  2337.6,2,    768.2,2,    20.00,   7.7318,2,    25.00,-999.000,9,-999.000,9,-999.000,9, -999.00,9,  -999.0,9,  -999.0,-999.000,9,-999.000,-999.000,9,   39.78,2,   26.20,2, 3801.00,-999.0000,9,-999.0000,9,-999.0000,9,-999.0000,9,-999.0000,9,-999.0000,9,   1.9546,     -999.0,9,     -999.0,9,     -999.0,9,     -999.0,9,        148,-999.000,-999.000,-999.000,     -999.0,9, -999.00,9, -999.00,9
33RO200306_02,       A16N,     148,          2,          5,          5,2,20030808,       1710,    -4.9993,   -25.0113,       5721,  4197.8,   1.4374,  34.7991,2,  34.7960,2,    238.2,2,   238.1,2,   78.77,2,   26.67,2,    0.00,2,    1.82,2,   0.014,2,   0.012,2,   0.001,2,  2224.0,2,  2362.6,2,    879.5,2,    20.00,   7.6804,2,    25.00,-999.000,9,-999.000,9,-999.000,9, -999.00,9,  -999.0,9,  -999.0,-999.000,9,-999.000,-999.000,9,   40.81,2,   30.16,2, 4197.80,-999.0000,9,-999.0000,9,-999.0000,9,-999.0000,9,-999.0000,9,-999.0000,9,   1.0978,     -999.0,9,     -999.0,9,     -999.0,9,     -999.0,9,        148,-999.000,-999.000,-999.000,     -999.0,9, -999.00,9, -999.00,9
33RO200306_02,       A16N,     148,          2,          4,          4,2,20030808,       1710,    -4.9993,   -25.0113,       5721,  4597.9,   0.9200,  34.7404,2,  34.7393,2,    227.2,2,   227.2,2,  102.20,6,   29.71,6,    0.00,6,    2.08,6,   0.016,2,   0.008,2,   0.000,2,  2246.7,2,  2373.3,2,    963.7,2,    20.00,   7.6513,2,    25.00,-999.000,9,-999.000,9,-999.000,9, -999.00,9,  -999.0,9,  -999.0,-999.000,9,-999.000,-999.000,9,   39.76,2,   34.64,2, 4597.90,-999.0000,9,-999.0000,9,-999.0000,9,-999.0000,9,-999.0000,9,-999.0000,9,   0.5517,     -999.0,9,     -999.0,9,     -999.0,9,     -999.0,9,        148,-999.000,-999.000,-999.000,     -999.0,9, -999.00,9, -999.00,9
33RO200306_02,       A16N,     148,          2,          3,          3,2,20030808,       1710,    -4.9993,   -25.0113,       5721,  4998.7,   0.7686,  34.7189,2,  34.7189,2,    223.9,2,   230.4,2,  110.56,6,   30.88,6,    0.00,6,    2.16,6,   0.028,2,   0.018,2,   0.001,2,  2253.0,2,  2374.2,2,   1001.2,6,    20.00,   7.6342,2,    25.00,-999.000,9,-999.000,9,-999.000,9, -999.00,9,  -999.0,9,  -999.0,-999.000,9,-999.000,-999.000,9,   39.51,2,   34.84,2, 4998.70,-999.0000,9,-999.0000,9,-999.0000,9,-999.0000,9,-999.0000,9,-999.0000,9,   0.3591,     -999.0,9,     -999.0,9,     -999.0,9,     -999.0,9,        148,-999.000,-999.000,-999.000,     -999.0,9, -999.00,9, -999.00,9
33RO200306_02,       A16N,     148,          2,          2,          2,2,20030808,       1710,    -4.9993,   -25.0113,       5721,  5388.8,   0.7464,  34.7113,2,  34.7085,2,    222.9,2,   221.5,2,  113.31,6,   31.25,6,    0.00,6,    2.19,6,   0.034,2,   0.020,2,   0.002,2,  2256.3,2,  2371.3,2,   1011.0,2,    20.00,   7.6279,2,    25.00,-999.000,9,-999.000,9,-999.000,9, -999.00,9,  -999.0,9,  -999.0,-999.000,9,-999.000,-999.000,9,   39.43,2,   35.11,2, 5388.80,-999.0000,9,-999.0000,9,-999.0000,9,-999.0000,9,-999.0000,9,-999.0000,9,   0.2910,     -999.0,9,     -999.0,9,     -999.0,9,     -999.0,9,        148,-999.000,-999.000,-999.000,     -999.0,9, -999.00,9, -999.00,9
33RO200306_02,       A16N,     148,          2,          1,          1,2,20030808,       1710,    -4.9993,   -25.0113,       5721,  5807.0,   0.7855,  34.7094,2,  34.7087,2,    223.6,2,   222.4,2,  113.69,6,   31.37,6,    0.00,6,    2.19,6,   0.039,2,   0.024,2,   0.001,2,  2255.9,6,  2371.6,6,   1012.0,2,    20.00,   7.6264,6,    25.00,-999.000,9,-999.000,9,-999.000,9, -999.00,9,  -999.0,9,  -999.0,-999.000,9,-999.000,-999.000,9,   39.51,2,   35.98,2, 5807.00,-999.0000,9,-999.0000,9,-999.0000,9,-999.0000,9,-999.0000,9,-999.0000,9,   0.2763,     -999.0,9,     -999.0,9,     -999.0,9,     -999.0,9,        148,-999.000,-999.000,-999.000,     -999.0,9, -999.00,9, -999.00,9