BOTTLE,20230908CCHSIOCBG
EXPOCODE,SECT_ID,STNNBR,CASTNO,SAMPNO,BTLNBR,BTLNBR_FLAG_W,DATE,TIME,LATITUDE,LONGITUDE,DEPTH,CTDPRS,CTDTMP,CTDSAL,CTDSAL_FLAG_W,SALNTY,SALNTY_FLAG_W,CTDOXY,CTDOXY_FLAG_W,OXYGEN,OXYGEN_FLAG_W,SILCAT,SILCAT_FLAG_W,NITRAT,NITRAT_FLAG_W,NITRIT,NITRIT_FLAG_W,PHSPHT,PHSPHT_FLAG_W,CFC-11,CFC-11_FLAG_W,CFC-12,CFC-12_FLAG_W,CFC113,CFC113_FLAG_W,TCARBN,TCARBN_FLAG_W,ALKALI,ALKALI_FLAG_W,FCO2,FCO2_FLAG_W,FCO2TMP,PH_SWS,PH_SWS_FLAG_W,PH_TMP,TRITUM,TRITUM_FLAG_W,HELIUM,HELIUM_FLAG_W,DELHE3,DELHE3_FLAG_W,DELC13,DELC13_FLAG_W,DELC14,DELC14_FLAG_W,C14ERR,NEON,NEON_FLAG_W,NEONER,POC,POC_FLAG_W,DOC,DOC_FLAG_W,TDN,TDN_FLAG_W,CTDRAW,CDOM325,CDOM325_FLAG_W,CDOM340,CDOM340_FLAG_W,CDOM380,CDOM380_FLAG_W,CDOM412,CDOM412_FLAG_W,CDOMSL,CDOMSL_FLAG_W,CDOMSN,CDOMSN_FLAG_W,THETA,PON,PON_FLAG_W,HCFC-22,HCFC-22_FLAG_W,HCFC-142b,HCFC-142b_FLAG_W,HCFC-141b,HCFC-141b_FLAG_W,STNNBR_U,HELIER,DELHER,TRITER,CH3CL,CH3CL_FLAG_W,CH3BR,CH3BR_FLAG_W,CH3I,CH3I_FLAG_W
,,,,,,,,,,,METERS,DBAR,ITS-90,PSS-78,,PSS-78,,UMOL/KG,,UMOL/KG,,UMOL/KG,,UMOL/KG,,UMOL/KG,,UMOL/KG,,PMOL/KG,,PMOL/KG,,PMOL/KG,,UMOL/KG,,UMOL/KG,,UATM,,DEG C,,,DEG C,TU,,NMOL/KG,,PERCNT,,/MILLE,,/MILLE,,/MILLE,NMOL/KG,,NMOL/KG,UG/KG,,UMOL/KG,,UMOL/KG,,DBAR,1/M,,1/M,,1/M,,1/M,,1/NM,,1/NM,,DEG C,UMOL/L,,PMOL/KG,,PMOL/KG,,PMOL/KG,,,NMOL/KG,PERCNT,TU,PMOL/KG,,PMOL/KG,,PMOL/KG,
33RO200306_01,       A16N,     050,          1,         35,         35,2,20030702,       0926,    40.4995,   -20.0015,       4920,     3.4,  19.3775,  36.0303,2,  36.0314,2,    235.4,2,  -999.0,9,    0.85,2,    0.04,2,    0.00,2,    0.03,2,-999.000,9,-999.000,9,-999.000,9,  -999.0,9,  -999.0,9,   -999.0,9,  -999.00,-999.0000,9,  -999.00,-999.000,9,-999.000,9,-999.000,9, -999.00,9,  -999.0,9,  -999.0,-999.000,9,-999.000,-999.000,9, -999.00,9, -999.00,9,    3.40,-999.0000,9,-999.0000,9,-999.0000,9,-999.0000,9,-999.0000,9,-999.0000,9,  19.3769,     -999.0,9,       5.40,2,       0.00,2,       1.03,2,         50,-999.000,-999.000,-999.000,      95.45,2,    3.92,2,   17.41,2
33RO200306_01,       A16N,     050,          1,         33,         33,2,20030702,       0926,    40.4995,   -20.0015,       4920,     3.6,  19.3818,  36.0304,2,  36.0316,2,    235.4,2,   234.5,2,    0.85,2,    0.05,2,    0.00,2,    0.04,2,-999.000,9,-999.000,9,-999.000,9,  2067.6,2,  2364.0,2,   -999.0,9,  -999.00,   8.0226,2,    25.00,-999.000,9,-999.000,9,-999.000,9, -999.00,9,  -999.0,9,  -999.0,-999.000,9,-999.000,   4.710,2, -999.00,9, -999.00,9,    3.60,   0.1450,2,   0.1030,2,   0.0420,2,   0.0240,2,   0.0220,2,   0.0220,2,  19.3811,      0.489,2,     -999.0,9,     -999.0,9,     -999.0,9,         50,-999.000,-999.000,-999.000,     -999.0,9, -999.00,9, -999.00,9
33RO200306_01,       A16N,     050,          1,         32,         32,2,20030702,       0926,    40.4995,   -20.0015,       4920,    20.0,  18.8483,  36.0959,2,  36.0914,2,    235.2,2,   238.6,2,    0.90,2,    0.05,2,    0.00,2,    0.04,2,-999.000,9,-999.000,9,-999.000,9,  -999.0,9,  -999.0,9,   -999.0,9,  -999.00,-999.0000,9,  -999.00,-999.000,9,-999.000,9,-999.000,9, -999.00,9,  -999.0,9,  -999.0,-999.000,9,-999.000,   4.837,2, -999.00,9, -999.00,9,   20.00,   0.1500,2,   0.1010,2,   0.0400,2,   0.0200,2,   0.0240,2,   0.0250,2,  18.8447,      0.561,2,       5.69,2,       0.22,2,       0.89,2,         50,-999.000,-999.000,-999.000,     116.91,2,    1.98,2,   23.51,2
33RO200306_01,       A16N,     050,          1,         31,         31,2,20030702,       0926,    40.4995,   -20.0015,       4920,    40.0,  16.3394,  36.0325,2,  36.0324,2,    259.5,2,   264.1,2,    1.03,2,    0.11,2,    0.01,2,    0.05,2,-999.000,9,-999.000,9,-999.000,9,  -999.0,9,  -999.0,9,   -999.0,9,  -999.00,-999.0000,9,  -999.00,-999.000,9,-999.000,9,-999.000,9, -999.00,9,  -999.0,9,  -999.0,-999.000,9,-999.000,   5.977,2, -999.00,9, -999.00,9,   40.00,   0.2210,2,   0.1550,2,   0.0720,2,   0.0460,2,   0.0170,2,   0.0190,2,  16.3330,      0.870,2,       5.62,2,       0.49,2,       0.75,2,         50,-999.000,-999.000,-999.000,     116.37,2,    2.16,2,   36.41,2
33RO200306_01,       A16N,     050,          1,         30,         30,2,20030702,       0926,    40.4995,   -20.0015,       4920,    60.8,  15.0584,  36.0328,2,  35.8048,2,    248.4,2,   228.4,2,    4.02,3,    8.45,3,    0.07,3,    0.53,3,-999.000,9,-999.000,9,-999.000,9,  -999.0,9,  -999.0,9,   -999.0,9,  -999.00,-999.0000,9,  -999.00,-999.000,9,-999.000,9,-999.000,9, -999.00,9,  -999.0,9,  -999.0,-999.000,9,-999.000,   2.079,2, -999.00,9, -999.00,9,   60.80,-999.0000,9,-999.0000,9,-999.0000,9,-999.0000,9,-999.0000,9,-999.0000,9,  15.0491,      0.139,2,       4.75,2,       0.42,2,       0.68,2,         50,-999.000,-999.000,-999.000,      43.58,2,     0.0,2,    1.94,2
33RO200306_01,       A16N,     050,          1,         29,         29,2,20030702,       0926,    40.4995,   -20.0015,       4920,    81.2,  14.7175,  36.0154,2,  36.0107,2,    239.1,2,   230.7,2,    1.85,2,    5.12,2,    0.07,2,    0.32,2,-999.000,9,-999.000,9,-999.000,9,  -999.0,9,  -999.0,9,   -999.0,9,  -999.00,-999.0000,9,  -999.00,-999.000,9,-999.000,9,-999.000,9, -999.00,9,  -999.0,9,  -999.0,-999.000,9,-999.000,-999.000,9, -999.00,9, -999.00,9,   81.20,-999.0000,9,-999.0000,9,-999.0000,9,-999.0000,9,-999.0000,9,-999.0000,9,  14.7053,     -999.0,9,     -999.0,9,     -999.0,9,     -999.0,9,         50,-999.000,-999.000,-999.000,     -999.0,9, -999.00,9, -999.00,9
33RO200306_01,       A16N,     050,          1,         28,         28,2,20030702,       0926,    40.4995,   -20.0015,       4920,    99.2,  14.3548,  35.9581,2,  35.9571,2,    231.2,2,   237.0,2,    2.04,2,    5.14,2,    0.24,2,    0.32,2,-999.000,9,-999.000,9,-999.000,9,  -999.0,9,  -999.0,9,   -999.0,9,  -999.00,-999.0000,9,  -999.00,-999.000,9,-999.000,9,-999.000,9, -999.00,9,  -999.0,9,  -999.0,-999.000,9,-999.000,   3.824,2, -999.00,9, -999.00,9,   99.20,   0.1270,3,   0.0930,3,   0.0510,3,   0.0370,3,   0.0130,3,   0.0150,3,  14.3401,      0.133,2,       5.81,2,       0.94,2,       1.24,2,         50,-999.000,-999.000,-999.000,     104.83,2,     8.2,2,    3.46,2
33RO200306_01,       A16N,     050,          1,         27,         27,2,20030702,       0926,    40.4995,   -20.0015,       4920,   117.3,  14.1658,  35.9321,2,  35.9268,2,    226.0,2,   232.1,2,    2.19,2,    6.11,2,    0.02,2,    0.36,2,-999.000,9,-999.000,9,-999.000,9,  -999.0,9,  -999.0,9,   -999.0,9,  -999.00,-999.0000,9,  -999.00,-999.000,9,-999.000,9,-999.000,9, -999.00,9,  -999.0,9,  -999.0,-999.000,9,-999.000,-999.000,9, -999.00,9, -999.00,9,  117.30,-999.0000,9,-999.0000,9,-999.0000,9,-999.0000,9,-999.0000,9,-999.0000,9,  14.1486,     -999.0,9,     -999.0,9,     -999.0,9,     -999.0,9,         50,-999.000,-999.000,-999.000,     -999.0,9, -999.00,9, -999.00,9
33RO200306_01,       A16N,     050,          1,         26,         26,2,20030702,       0926,    40.4995,   -20.0015,       4920,   149.6,  13.7992,  35.8805,2,  35.8804,2,    226.8,2,   237.8,2,    2.38,2,    6.90,2,    0.01,2,    0.42,2,-999.000,9,-999.000,9,-999.000,9,  -999.0,9,  -999.0,9,   -999.0,9,  -999.00,-999.0000,9,  -999.00,-999.000,9,-999.000,9,-999.000,9, -999.00,9,  -999.0,9,  -999.0,-999.000,9,-999.000,   3.494,2, -999.00,9, -999.00,9,  149.60,-999.0000,9,-999.0000,9,-999.0000,9,-999.0000,9,-999.0000,9,-999.0000,9,  13.7776,      0.170,2,       5.74,2,       0.51,2,       0.69,2,         50,-999.000,-999.000,-999.000,      69.94,2,    2.71,2,    1.31,2
33RO200306_01,       A16N,     050,          1,         25,         25,2,20030702,       0926,    40.4995,   -20.0015,       4920,   174.3,  13.6724,  35.8719,2,  35.8713,2,    226.0,2,   236.8,2,    2.23,2,    6.53,2,    0.01,2,    0.40,2,-999.000,9,-999.000,9,-999.000,9,  -999.0,9,  -999.0,9,   -999.0,9,  -999.00,-999.0000,9,  -999.00,-999.000,9,-999.000,9,-999.000,9, -999.00,9,  -999.0,9,  -999.0,-999.000,9,-999.000,-999.000,9, -999.00,9, -999.00,9,  174.30,-999.0000,9,-999.0000,9,-999.0000,9,-999.0000,9,-999.0000,9,-999.0000,9,  13.6474,     -999.0,9,     -999.0,9,     -999.0,9,     -999.0,9,         50,-999.000,-999.000,-999.000,     -999.0,9, -999.00,9, -999.00,9
33RO200306_01,       A16N,     050,          1,         24,         24,2,20030702,       0926,    40.4995,   -20.0015,       4920,   199.8,  13.5450,  35.8612,2,  35.8603,2,    235.6,2,   240.4,2,    2.18,2,    6.32,2,    0.01,2,    0.39,2,-999.000,9,-999.000,9,-999.000,9,  -999.0,9,  -999.0,9,   -999.0,9,  -999.00,-999.0000,9,  -999.00,-999.000,9,-999.000,9,-999.000,9, -999.00,9,  -999.0,9,  -999.0,-999.000,9,-999.000,-999.000,9, -999.00,9, -999.00,9,  199.80,   0.1310,2,   0.0830,2,   0.0350,2,   0.0240,2,   0.0230,2,   0.0250,2,  13.5165,     -999.0,9,       5.81,2,       0.00,2,       0.65,2,         50,-999.000,-999.000,-999.000,      24.62,2,     0.0,2,    0.83,2
33RO200306_01,       A16N,     050,          1,         23,         23,2,20030702,       0926,    40.4995,   -20.0015,       4920,   248.9,  13.2957,  35.8226,2,  35.8199,2,    236.5,2,   236.1,2,    2.59,2,    7.38,2,    0.01,2,    0.46,2,-999.000,9,-999.000,9,-999.000,9,  -999.0,9,  -999.0,9,   -999.0,9,  -999.00,-999.0000,9,  -999.00,-999.000,9,-999.000,9,-999.000,9, -999.00,9,  -999.0,9,  -999.0,-999.000,9,-999.000,-999.000,9, -999.00,9, -999.00,9,  248.90,-999.0000,9,-999.0000,9,-999.0000,9,-999.0000,9,-999.0000,9,-999.0000,9,  13.2606,     -999.0,9,     -999.0,9,     -999.0,9,     -999.0,9,         50,-999.000,-999.000,-999.000,     -999.0,9, -999.00,9, -999.00,9
33RO200306_01,       A16N,     050,          1,         22,         22,2,20030702,       0926,    40.4995,   -20.0015,       4920,   299.4,  13.0129,  35.7797,2,  35.7779,2,    237.1,2,   234.6,2,    2.89,2,    8.13,2,    0.01,2,    0.50,2,-999.000,9,-999.000,9,-999.000,9,  -999.0,9,  -999.0,9,   -999.0,9,  -999.00,-999.0000,9,  -999.00,-999.000,9,-999.000,9,-999.000,9, -999.00,9,  -999.0,9,  -999.0,-999.000,9,-999.000,   1.428,2, -999.00,9, -999.00,9,  299.40,   0.1060,2,   0.0710,2,   0.0340,2,   0.0240,2,   0.0200,2,   0.0220,2,  12.9712,      0.126,2,     -999.0,9,     -999.0,9,     -999.0,9,         50,-999.000,-999.000,-999.000,     -999.0,9, -999.00,9, -999.00,9
33RO200306_01,       A16N,     050,          1,         21,         21,2,20030702,       0926,    40.4995,   -20.0015,       4920,   349.5,  12.7675,  35.7437,2,  35.7423,2,    234.8,2,   232.5,2,    3.22,2,    9.04,2,    0.01,2,    0.55,2,-999.000,9,-999.000,9,-999.000,9,  -999.0,9,  -999.0,9,   -999.0,9,  -999.00,-999.0000,9,  -999.00,-999.000,9,-999.000,9,-999.000,9, -999.00,9,  -999.0,9,  -999.0,-999.000,9,-999.000,-999.000,9, -999.00,9, -999.00,9,  349.50,-999.0000,9,-999.0000,9,-999.0000,9,-999.0000,9,-999.0000,9,-999.0000,9,  12.7194,     -999.0,9,       5.73,2,       0.22,2,       0.72,2,         50,-999.000,-999.000,-999.000,       56.9,2,     2.4,2,    0.09,2
33RO200306_01,       A16N,     050,          1,         20,         20,2,20030702,       0926,    40.4995,   -20.0015,       4920,   400.2,  12.3376,  35.6723,2,  35.6720,2,    231.4,2,   225.7,2,    3.76,2,   10.34,2,    0.01,2,    0.63,2,-999.000,9,-999.000,9,-999.000,9,  -999.0,9,  -999.0,9,   -999.0,9,  -999.00,-999.0000,9,  -999.00,-999.000,9,-999.000,9,-999.000,9, -999.00,9,  -999.0,9,  -999.0,-999.000,9,-999.000,-999.000,9, -999.00,9, -999.00,9,  400.20,-999.0000,9,-999.0000,9,-999.0000,9,-999.0000,9,-999.0000,9,-999.0000,9,  12.2836,     -999.0,9,     -999.0,9,     -999.0,9,     -999.0,9,         50,-999.000,-999.000,-999.000,     -999.0,9, -999.00,9, -999.00,9
33RO200306_01,       A16N,     050,          1,         19,         19,2,20030702,       0926,    40.4995,   -20.0015,       4920,   449.2,  11.8311,  35.5948,2,  35.5941,2,    204.9,2,   202.5,2,    5.11,2,   13.36,2,    0.00,2,    0.80,2,-999.000,9,-999.000,9,-999.000,9,  -999.0,9,  -999.0,9,   -999.0,9,  -999.00,-999.0000,9,  -999.00,-999.000,9,-999.000,9,-999.000,9, -999.00,9,  -999.0,9,  -999.0,-999.000,9,-999.000,-999.000,9, -999.00,9, -999.00,9,  449.20,-999.0000,9,-999.0000,9,-999.0000,9,-999.0000,9,-999.0000,9,-999.0000,9,  11.7721,     -999.0,9,     -999.0,9,     -999.0,9,     -999.0,9,         50,-999.000,-999.000,-999.000,     -999.0,9, -999.00,9, -999.00,9
33RO200306_01,       A16N,     050,          1,         18,         18,2,20030702,       0926,    40.4995,   -20.0015,       4920,   499.2,  11.3878,  35.5317,2,  35.5288,2,    202.6,2,   201.8,2,    5.82,2,   14.20,2,    0.01,2,    0.86,2,-999.000,9,-999.000,9,-999.000,9,  -999.0,9,  -999.0,9,   -999.0,9,  -999.00,-999.0000,9,  -999.00,-999.000,9,-999.000,9,-999.000,9, -999.00,9,  -999.0,9,  -999.0,-999.000,9,-999.000,   1.088,2, -999.00,9, -999.00,9,  499.20,   0.1050,3,   0.0740,3,   0.0390,3,   0.0280,3,   0.0160,3,   0.0180,3,  11.3237,      0.071,2,     -999.0,9,     -999.0,9,     -999.0,9,         50,-999.000,-999.000,-999.000,     -999.0,9, -999.00,9, -999.00,9
33RO200306_01,       A16N,     050,          1,         17,         17,2,20030702,       0926,    40.4995,   -20.0015,       4920,   599.6,  10.7420,  35.4873,2,  35.4861,2,    199.0,2,   197.1,2,    6.75,2,   15.52,2,    0.01,2,    0.95,2,-999.000,9,-999.000,9,-999.000,9,  -999.0,9,  -999.0,9,   -999.0,9,  -999.00,-999.0000,9,  -999.00,-999.000,9,-999.000,9,-999.000,9, -999.00,9,  -999.0,9,  -999.0,-999.000,9,-999.000,-999.000,9, -999.00,9, -999.00,9,  599.60,-999.0000,9,-999.0000,9,-999.0000,9,-999.0000,9,-999.0000,9,-999.0000,9,  10.6674,     -999.0,9,       3.43,2,       0.00,2,       0.38,2,         50,-999.000,-999.000,-999.000,       9.33,2,     0.0,2,    0.08,2
33RO200306_01,       A16N,     050,          1,         16,         16,2,20030702,       0926,    40.4995,   -20.0015,       4920,   699.3,  10.1086,  35.4669,2,  35.4611,2,    187.8,2,   186.1,2,    8.51,2,   17.25,2,    0.00,2,    1.07,2,-999.000,9,-999.000,9,-999.000,9,  -999.0,9,  -999.0,9,   -999.0,9,  -999.00,-999.0000,9,  -999.00,-999.000,9,-999.000,9,-999.000,9, -999.00,9,  -999.0,9,  -999.0,-999.000,9,-999.000,-999.000,9, -999.00,9, -999.00,9,  699.30,-999.0000,9,-999.0000,9,-999.0000,9,-999.0000,9,-999.0000,9,-999.0000,9,  10.0244,     -999.0,9,     -999.0,9,     -999.0,9,     -999.0,9,         50,-999.000,-999.000,-999.000,     -999.0,9, -999.00,9, -999.00,9
33RO200306_01,       A16N,     050,          1,         15,         15,2,20030702,       0926,    40.4995,   -20.0015,       4920,   799.8,  10.1387,  35.6491,2,  35.6457,2,    184.8,2,   183.9,2,    9.05,2,   17.20,2,    0.00,2,    1.07,2,-999.000,9,-999.000,9,-999.000,9,  -999.0,9,  -999.0,9,   -999.0,9,  -999.00,-999.0000,9,  -999.00,-999.000,9,-999.000,9,-999.000,9, -999.00,9,  -999.0,9,  -999.0,-999.000,9,-999.000,-999.000,9, -999.00,9, -999.00,9,  799.80,-999.0000,9,-999.0000,9,-999.0000,9,-999.0000,9,-999.0000,9,-999.0000,9,  10.0415,     -999.0,9,     -999.0,9,     -999.0,9,     -999.0,9,         50,-999.000,-999.000,-999.000,     -999.0,9, -999.00,9, -999.00,9
33RO200306_01,       A16N,     050,          1,         14,         14,2,20030702,       0926,    40.4995,   -20.0015,       4920,   900.2,  10.0998,  35.7899,2,  35.7894,2,    183.7,2,   183.1,2,    9.34,2,   16.83,2,    0.00,2,    1.04,2,-999.000,9,-999.000,9,-999.000,9,  -999.0,9,  -999.0,9,   -999.0,9,  -999.00,-999.0000,9,  -999.00,-999.000,9,-999.000,9,-999.000,9, -999.00,9,  -999.0,9,  -999.0,-999.000,9,-999.000,-999.000,9, -999.00,9, -999.00,9,  900.20,-999.0000,9,-999.0000,9,-999.0000,9,-999.0000,9,-999.0000,9,-999.0000,9,   9.9900,     -999.0,9,     -999.0,9,     -999.0,9,     -999.0,9,         50,-999.000,-999.000,-999.000,     -999.0,9, -999.00,9, -999.00,9
33RO200306_01,       A16N,     050,          1,         13,         13,2,20030702,       0926,    40.4995,   -20.0015,       4920,   999.4,   9.2723,  35.7069,2,  35.7034,2,    188.7,2,   188.1,2,   10.29,2,   17.53,2,    0.00,2,    1.09,2,-999.000,9,-999.000,9,-999.000,9,  -999.0,9,  -999.0,9,   -999.0,9,  -999.00,-999.0000,9,  -999.00,-999.000,9,-999.000,9,-999.000,9, -999.00,9,  -999.0,9,  -999.0,-999.000,9,-999.000,-999.000,9, -999.00,9, -999.00,9,  999.40,   0.1170,2,   0.0740,2,   0.0350,2,   0.0250,2,   0.0210,2,   0.0240,2,   9.1558,     -999.0,9,       1.14,2,       0.00,2,       0.21,2,         50,-999.000,-999.000,-999.000,      45.47,2,    1.64,2,    0.15,2
33RO200306_01,       A16N,     050,          1,         12,         12,2,20030702,       0926,    40.4995,   -20.0015,       4920,  1100.8,   8.9251,  35.7309,2,  35.7227,3,    192.2,2,   193.5,2,   10.62,2,   17.47,2,    0.00,2,    1.08,2,-999.000,9,-999.000,9,-999.000,9,  -999.0,9,  -999.0,9,   -999.0,9,  -999.00,-999.0000,9,  -999.00,-999.000,9,-999.000,9,-999.000,9, -999.00,9,  -999.0,9,  -999.0,-999.000,9,-999.000,-999.000,9, -999.00,9, -999.00,9, 1100.80,-999.0000,9,-999.0000,9,-999.0000,9,-999.0000,9,-999.0000,9,-999.0000,9,   8.7988,     -999.0,9,     -999.0,9,     -999.0,9,     -999.0,9,         50,-999.000,-999.000,-999.000,     -999.0,9, -999.00,9, -999.00,9
33RO200306_01,       A16N,     050,          1,         11,         11,2,20030702,       0926,    40.4995,   -20.0015,       4920,  1199.3,   8.1690,  35.6297,2,  35.6278,2,    200.4,2,   202.6,2,   10.95,2,   17.53,2,    0.00,2,    1.09,2,-999.000,9,-999.000,9,-999.000,9,  -999.0,9,  -999.0,9,   -999.0,9,  -999.00,-999.0000,9,  -999.00,-999.000,9,-999.000,9,-999.000,9, -999.00,9,  -999.0,9,  -999.0,-999.000,9,-999.000,-999.000,9, -999.00,9, -999.00,9, 1199.30,-999.0000,9,-999.0000,9,-999.0000,9,-999.0000,9,-999.0000,9,-999.0000,9,   8.0373,     -999.0,9,     -999.0,9,     -999.0,9,     -999.0,9,         50,-999.000,-999.000,-999.000,     -999.0,9, -999.00,9, -999.00,9
33RO200306_01,       A16N,     050,          1,         10,         10,2,20030702,       0926,    40.4995,   -20.0015,       4920,  1399.2,   6.3660,  35.3620,2,  35.3616,2,    223.3,2,   224.6,2,   11.64,2,   17.76,2,    0.00,2,    1.12,2,-999.000,9,-999.000,9,-999.000,9,  -999.0,9,  -999.0,9,   -999.0,9,  -999.00,-999.0000,9,  -999.00,-999.000,9,-999.000,9,-999.000,9, -999.00,9,  -999.0,9,  -999.0,-999.000,9,-999.000,-999.000,9, -999.00,9, -999.00,9, 1399.20,-999.0000,9,-999.0000,9,-999.0000,9,-999.0000,9,-999.0000,9,-999.0000,9,   6.2294,     -999.0,9,     -999.0,9,     -999.0,9,     -999.0,9,         50,-999.000,-999.000,-999.000,     -999.0,9, -999.00,9, -999.00,9
33RO200306_01,       A16N,     050,          1,          9,          9,2,20030702,       0926,    40.4995,   -20.0015,       4920,  1599.2,   4.7184,  35.0963,2,  35.0959,2,    246.5,2,   249.5,2,   11.97,2,   17.81,2,    0.00,2,    1.15,2,-999.000,9,-999.000,9,-999.000,9,  -999.0,9,  -999.0,9,   -999.0,9,  -999.00,-999.0000,9,  -999.00,-999.000,9,-999.000,9,-999.000,9, -999.00,9,  -999.0,9,  -999.0,-999.000,9,-999.000,-999.000,9, -999.00,9, -999.00,9, 1599.20,-999.0000,9,-999.0000,9,-999.0000,9,-999.0000,9,-999.0000,9,-999.0000,9,   4.5802,     -999.0,9,     -999.0,9,     -999.0,9,     -999.0,9,         50,-999.000,-999.000,-999.000,     -999.0,9, -999.00,9, -999.00,9
33RO200306_01,       A16N,     050,          1,          8,          8,2,20030702,       0926,    40.4995,   -20.0015,       4920,  1796.2,   4.1432,  35.0197,2,  35.0185,2,    258.3,2,   258.2,2,   12.45,2,   17.69,2,    0.00,2,    1.15,2,   1.723,2,   0.850,2,   0.076,2,  -999.0,9,  -999.0,9,   -999.0,9,  -999.00,-999.0000,9,  -999.00,-999.000,9,-999.000,9,-999.000,9, -999.00,9,  -999.0,9,  -999.0,-999.000,9,-999.000,-999.000,9, -999.00,9, -999.00,9, 1796.20,-999.0000,9,-999.0000,9,-999.0000,9,-999.0000,9,-999.0000,9,-999.0000,9,   3.9933,     -999.0,9,       1.14,2,       0.00,2,       0.55,2,         50,-999.000,-999.000,-999.000,      23.23,2,    2.54,2,    0.24,2