BOTTLE,20230908CCHSIOCBG
EXPOCODE,SECT_ID,STNNBR,CASTNO,SAMPNO,BTLNBR,BTLNBR_FLAG_W,DATE,TIME,LATITUDE,LONGITUDE,DEPTH,CTDPRS,CTDTMP,CTDSAL,CTDSAL_FLAG_W,SALNTY,SALNTY_FLAG_W,CTDOXY,CTDOXY_FLAG_W,OXYGEN,OXYGEN_FLAG_W,SILCAT,SILCAT_FLAG_W,NITRAT,NITRAT_FLAG_W,NITRIT,NITRIT_FLAG_W,PHSPHT,PHSPHT_FLAG_W,CFC-11,CFC-11_FLAG_W,CFC-12,CFC-12_FLAG_W,CFC113,CFC113_FLAG_W,TCARBN,TCARBN_FLAG_W,ALKALI,ALKALI_FLAG_W,FCO2,FCO2_FLAG_W,FCO2TMP,PH_SWS,PH_SWS_FLAG_W,PH_TMP,TRITUM,TRITUM_FLAG_W,HELIUM,HELIUM_FLAG_W,DELHE3,DELHE3_FLAG_W,DELC13,DELC13_FLAG_W,DELC14,DELC14_FLAG_W,C14ERR,NEON,NEON_FLAG_W,NEONER,POC,POC_FLAG_W,DOC,DOC_FLAG_W,TDN,TDN_FLAG_W,CTDRAW,CDOM325,CDOM325_FLAG_W,CDOM340,CDOM340_FLAG_W,CDOM380,CDOM380_FLAG_W,CDOM412,CDOM412_FLAG_W,CDOMSL,CDOMSL_FLAG_W,CDOMSN,CDOMSN_FLAG_W,THETA,PON,PON_FLAG_W,HCFC-22,HCFC-22_FLAG_W,HCFC-142b,HCFC-142b_FLAG_W,HCFC-141b,HCFC-141b_FLAG_W,STNNBR_U,HELIER,DELHER,TRITER,CH3CL,CH3CL_FLAG_W,CH3BR,CH3BR_FLAG_W,CH3I,CH3I_FLAG_W
,,,,,,,,,,,METERS,DBAR,ITS-90,PSS-78,,PSS-78,,UMOL/KG,,UMOL/KG,,UMOL/KG,,UMOL/KG,,UMOL/KG,,UMOL/KG,,PMOL/KG,,PMOL/KG,,PMOL/KG,,UMOL/KG,,UMOL/KG,,UATM,,DEG C,,,DEG C,TU,,NMOL/KG,,PERCNT,,/MILLE,,/MILLE,,/MILLE,NMOL/KG,,NMOL/KG,UG/KG,,UMOL/KG,,UMOL/KG,,DBAR,1/M,,1/M,,1/M,,1/M,,1/NM,,1/NM,,DEG C,UMOL/L,,PMOL/KG,,PMOL/KG,,PMOL/KG,,,NMOL/KG,PERCNT,TU,PMOL/KG,,PMOL/KG,,PMOL/KG,
33RO200306_02,       A16N,     101,          1,         35,         35,2,20030725,       2258,    15.4993,   -28.9998,       5268,     3.4,  26.4685,  36.4438,2,  36.4461,2,    198.7,2,   203.2,2,    0.58,2,    0.03,2,    0.00,2,    0.04,2,   1.973,2,   1.284,2,   0.175,2,  2035.8,6,  2388.8,6,   -999.0,9,  -999.00,   8.0780,6,    25.00,-999.000,9,-999.000,9,-999.000,9, -999.00,9,  -999.0,9,  -999.0,-999.000,9,-999.000,-999.000,9, -999.00,9, -999.00,9,    3.40,-999.0000,9,-999.0000,9,-999.0000,9,-999.0000,9,-999.0000,9,-999.0000,9,  26.4677,     -999.0,9,     -999.0,9,     -999.0,9,     -999.0,9,        101,-999.000,-999.000,-999.000,     -999.0,9, -999.00,9, -999.00,9
33RO200306_02,       A16N,     101,          1,         33,         33,2,20030725,       2258,    15.4993,   -28.9998,       5268,    19.1,  26.4554,  36.4398,2,  36.4420,2,    199.6,2,   203.4,2,    0.58,2,    0.03,2,    0.00,2,    0.04,2,-999.000,9,-999.000,9,-999.000,9,  -999.0,9,  -999.0,9,   -999.0,9,  -999.00,-999.0000,9,  -999.00,-999.000,9,-999.000,9,-999.000,9, -999.00,9,  -999.0,9,  -999.0,-999.000,9,-999.000,-999.000,9, -999.00,9, -999.00,9,   19.10,-999.0000,9,-999.0000,9,-999.0000,9,-999.0000,9,-999.0000,9,-999.0000,9,  26.4511,     -999.0,9,     -999.0,9,     -999.0,9,     -999.0,9,        101,-999.000,-999.000,-999.000,     -999.0,9, -999.00,9, -999.00,9
33RO200306_02,       A16N,     101,          1,         32,         32,2,20030725,       2258,    15.4993,   -28.9998,       5268,    38.9,  22.9042,  36.3011,2,  36.3039,2,    211.4,2,   218.4,2,    1.04,2,    0.10,2,    0.00,2,    0.10,2,   2.231,2,   1.409,2,   0.169,2,  -999.0,9,  -999.0,9,   -999.0,9,  -999.00,-999.0000,9,  -999.00,-999.000,9,-999.000,9,-999.000,9, -999.00,9,  -999.0,9,  -999.0,-999.000,9,-999.000,-999.000,9, -999.00,9, -999.00,9,   38.90,-999.0000,9,-999.0000,9,-999.0000,9,-999.0000,9,-999.0000,9,-999.0000,9,  22.8962,     -999.0,9,     -999.0,9,     -999.0,9,     -999.0,9,        101,-999.000,-999.000,-999.000,     -999.0,9, -999.00,9, -999.00,9
33RO200306_02,       A16N,     101,          1,         31,         31,2,20030725,       2258,    15.4993,   -28.9998,       5268,    58.9,  20.4312,  36.3105,2,  36.2998,2,    177.8,2,   167.3,2,    1.99,2,    4.28,2,    0.13,2,    0.41,2,-999.000,9,-999.000,9,-999.000,9,  2124.3,2,  2378.0,2,   -999.0,9,  -999.00,   7.9239,2,    25.00,-999.000,9,-999.000,9,-999.000,9, -999.00,9,  -999.0,9,  -999.0,-999.000,9,-999.000,-999.000,9, -999.00,9, -999.00,9,   58.90,-999.0000,9,-999.0000,9,-999.0000,9,-999.0000,9,-999.0000,9,-999.0000,9,  20.4201,     -999.0,9,     -999.0,9,     -999.0,9,     -999.0,9,        101,-999.000,-999.000,-999.000,     -999.0,9, -999.00,9, -999.00,9
33RO200306_02,       A16N,     101,          1,         30,         30,2,20030725,       2258,    15.4993,   -28.9998,       5268,    77.9,  18.0891,  36.1743,2,  36.1668,2,    111.4,2,   104.4,2,    3.95,2,   15.88,2,    0.13,2,    1.00,2,   2.240,2,   1.363,2,   0.093,2,  -999.0,9,  -999.0,9,   -999.0,9,  -999.00,-999.0000,9,  -999.00,-999.000,9,-999.000,9,-999.000,9, -999.00,9,  -999.0,9,  -999.0,-999.000,9,-999.000,-999.000,9, -999.00,9, -999.00,9,   77.90,-999.0000,9,-999.0000,9,-999.0000,9,-999.0000,9,-999.0000,9,-999.0000,9,  18.0756,     -999.0,9,     -999.0,9,     -999.0,9,     -999.0,9,        101,-999.000,-999.000,-999.000,     -999.0,9, -999.00,9, -999.00,9
33RO200306_02,       A16N,     101,          1,         29,         29,2,20030725,       2258,    15.4993,   -28.9998,       5268,    99.3,  16.6022,  36.1430,2,  36.1389,2,     92.6,2,   100.5,2,    4.66,2,   17.52,2,    0.03,2,    1.06,2,-999.000,9,-999.000,9,-999.000,9,  -999.0,9,  -999.0,9,   -999.0,9,  -999.00,-999.0000,9,  -999.00,-999.000,9,-999.000,9,-999.000,9, -999.00,9,  -999.0,9,  -999.0,-999.000,9,-999.000,-999.000,9, -999.00,9, -999.00,9,   99.30,-999.0000,9,-999.0000,9,-999.0000,9,-999.0000,9,-999.0000,9,-999.0000,9,  16.5860,     -999.0,9,     -999.0,9,     -999.0,9,     -999.0,9,        101,-999.000,-999.000,-999.000,     -999.0,9, -999.00,9, -999.00,9
33RO200306_02,       A16N,     101,          1,         28,         28,2,20030725,       2258,    15.4993,   -28.9998,       5268,   124.8,  15.6177,  36.0250,2,  35.8847,3,     91.0,2,    96.1,2,    5.55,2,   19.31,2,    0.02,2,    1.16,2,   2.149,2,   1.264,2,   0.024,2,  2193.4,2,  2354.8,2,   -999.0,9,  -999.00,   7.7402,2,    25.00,-999.000,9,-999.000,9,-999.000,9, -999.00,9,  -999.0,9,  -999.0,-999.000,9,-999.000,-999.000,9, -999.00,9, -999.00,9,  124.80,-999.0000,9,-999.0000,9,-999.0000,9,-999.0000,9,-999.0000,9,-999.0000,9,  15.5982,     -999.0,9,     -999.0,9,     -999.0,9,     -999.0,9,        101,-999.000,-999.000,-999.000,     -999.0,9, -999.00,9, -999.00,9
33RO200306_02,       A16N,     101,          1,         27,         27,2,20030725,       2258,    15.4993,   -28.9998,       5268,   149.3,  14.4056,  35.8244,2,  35.8098,2,     84.6,2,    83.9,2,    6.98,2,   22.30,2,    0.01,2,    1.33,2,-999.000,9,-999.000,9,-999.000,9,  -999.0,9,  -999.0,9,   -999.0,9,  -999.00,-999.0000,9,  -999.00,-999.000,9,-999.000,9,-999.000,9, -999.00,9,  -999.0,9,  -999.0,-999.000,9,-999.000,-999.000,9, -999.00,9, -999.00,9,  149.30,-999.0000,9,-999.0000,9,-999.0000,9,-999.0000,9,-999.0000,9,-999.0000,9,  14.3835,     -999.0,9,     -999.0,9,     -999.0,9,     -999.0,9,        101,-999.000,-999.000,-999.000,     -999.0,9, -999.00,9, -999.00,9
33RO200306_02,       A16N,     101,          1,         26,         26,2,20030725,       2258,    15.4993,   -28.9998,       5268,   174.7,  13.5009,  35.6766,2,  35.6610,2,     78.3,2,    79.3,2,    8.11,2,   24.14,2,    0.01,2,    1.45,2,   1.722,2,   0.968,2,   0.016,2,  2207.3,2,  2336.6,2,   -999.0,9,  -999.00,   7.6608,2,    25.00,-999.000,9,-999.000,9,-999.000,9, -999.00,9,  -999.0,9,  -999.0,-999.000,9,-999.000,-999.000,9, -999.00,9, -999.00,9,  174.70,-999.0000,9,-999.0000,9,-999.0000,9,-999.0000,9,-999.0000,9,-999.0000,9,  13.4761,     -999.0,9,     -999.0,9,     -999.0,9,     -999.0,9,        101,-999.000,-999.000,-999.000,     -999.0,9, -999.00,9, -999.00,9
33RO200306_02,       A16N,     101,          1,         25,         25,2,20030725,       2258,    15.4993,   -28.9998,       5268,   200.2,  13.0491,  35.6185,2,  35.6130,2,     76.0,2,    75.4,2,    8.69,2,   25.13,2,    0.01,2,    1.50,2,-999.000,9,-999.000,9,-999.000,9,  -999.0,9,  -999.0,9,   -999.0,9,  -999.00,-999.0000,9,  -999.00,-999.000,9,-999.000,9,-999.000,9, -999.00,9,  -999.0,9,  -999.0,-999.000,9,-999.000,-999.000,9, -999.00,9, -999.00,9,  200.20,-999.0000,9,-999.0000,9,-999.0000,9,-999.0000,9,-999.0000,9,-999.0000,9,  13.0213,     -999.0,9,     -999.0,9,     -999.0,9,     -999.0,9,        101,-999.000,-999.000,-999.000,     -999.0,9, -999.00,9, -999.00,9
33RO200306_02,       A16N,     101,          1,         24,         24,2,20030725,       2258,    15.4993,   -28.9998,       5268,   249.0,  12.1897,  35.4906,2,  35.4922,2,     72.0,2,    72.5,2,    9.98,2,   26.82,2,    0.01,2,    1.60,2,   1.288,2,   0.701,2,   0.010,2,  2218.3,2,  2328.5,2,   -999.0,9,  -999.00,   7.6248,2,    25.00,-999.000,9,-999.000,9,-999.000,9, -999.00,9,  -999.0,9,  -999.0,-999.000,9,-999.000,-999.000,9, -999.00,9, -999.00,9,  249.00,-999.0000,9,-999.0000,9,-999.0000,9,-999.0000,9,-999.0000,9,-999.0000,9,  12.1566,     -999.0,9,     -999.0,9,     -999.0,9,     -999.0,9,        101,-999.000,-999.000,-999.000,     -999.0,9, -999.00,9, -999.00,9
33RO200306_02,       A16N,     101,          1,         23,         23,2,20030725,       2258,    15.4993,   -28.9998,       5268,   298.5,  11.3128,  35.3545,2,  35.3545,2,     68.2,2,    65.4,2,   11.67,2,   29.24,2,    0.01,2,    1.75,2,-999.000,9,-999.000,9,-999.000,9,  -999.0,9,  -999.0,9,   -999.0,9,  -999.00,-999.0000,9,  -999.00,-999.000,9,-999.000,9,-999.000,9, -999.00,9,  -999.0,9,  -999.0,-999.000,9,-999.000,-999.000,9, -999.00,9, -999.00,9,  298.50,-999.0000,9,-999.0000,9,-999.0000,9,-999.0000,9,-999.0000,9,-999.0000,9,  11.2750,     -999.0,9,     -999.0,9,     -999.0,9,     -999.0,9,        101,-999.000,-999.000,-999.000,     -999.0,9, -999.00,9, -999.00,9
33RO200306_02,       A16N,     101,          1,         22,         22,2,20030725,       2258,    15.4993,   -28.9998,       5268,   348.8,  10.3931,  35.2112,2,  35.2096,2,     65.5,2,    65.9,2,   13.39,2,   31.01,2,    0.00,2,    1.87,2,   0.698,2,   0.379,2,   0.005,2,  2229.4,2,  2324.9,2,   -999.0,9,  -999.00,   7.5630,2,    25.00,-999.000,9,-999.000,9,-999.000,9, -999.00,9,  -999.0,9,  -999.0,-999.000,9,-999.000,-999.000,9, -999.00,9, -999.00,9,  348.80,-999.0000,9,-999.0000,9,-999.0000,9,-999.0000,9,-999.0000,9,-999.0000,9,  10.3512,     -999.0,9,     -999.0,9,     -999.0,9,     -999.0,9,        101,-999.000,-999.000,-999.000,     -999.0,9, -999.00,9, -999.00,9
33RO200306_02,       A16N,     101,          1,         21,         21,2,20030725,       2258,    15.4993,   -28.9998,       5268,   398.8,   9.9332,  35.1573,2,  35.1557,2,     66.3,2,    64.4,2,   14.52,2,   32.08,2,    0.00,2,    1.94,2,-999.000,9,-999.000,9,-999.000,9,  -999.0,9,  -999.0,9,   -999.0,9,  -999.00,-999.0000,9,  -999.00,-999.000,9,-999.000,9,-999.000,9, -999.00,9,  -999.0,9,  -999.0,-999.000,9,-999.000,-999.000,9, -999.00,9, -999.00,9,  398.80,-999.0000,9,-999.0000,9,-999.0000,9,-999.0000,9,-999.0000,9,-999.0000,9,   9.8865,     -999.0,9,     -999.0,9,     -999.0,9,     -999.0,9,        101,-999.000,-999.000,-999.000,     -999.0,9, -999.00,9, -999.00,9
33RO200306_02,       A16N,     101,          1,         20,         20,2,20030725,       2258,    15.4993,   -28.9998,       5268,   449.0,   9.5581,  35.1266,2,  35.1236,2,     65.9,2,    68.2,2,   15.63,2,   32.74,2,    0.01,2,    2.00,2,   0.417,2,   0.230,2,   0.004,2,  2234.1,2,  2313.9,2,   -999.0,9,  -999.00,   7.5416,2,    25.00,-999.000,9,-999.000,9,-999.000,9, -999.00,9,  -999.0,9,  -999.0,-999.000,9,-999.000,-999.000,9, -999.00,9, -999.00,9,  449.00,-999.0000,9,-999.0000,9,-999.0000,9,-999.0000,9,-999.0000,9,-999.0000,9,   9.5067,     -999.0,9,     -999.0,9,     -999.0,9,     -999.0,9,        101,-999.000,-999.000,-999.000,     -999.0,9, -999.00,9, -999.00,9
33RO200306_02,       A16N,     101,          1,         19,         19,2,20030725,       2258,    15.4993,   -28.9998,       5268,   497.1,   9.1329,  35.0745,2,  35.0729,2,     70.0,2,    69.7,2,   16.53,2,   33.09,2,    0.01,2,    2.03,2,-999.000,9,-999.000,9,-999.000,9,  -999.0,9,  -999.0,9,   -999.0,9,  -999.00,-999.0000,9,  -999.00,-999.000,9,-999.000,9,-999.000,9, -999.00,9,  -999.0,9,  -999.0,-999.000,9,-999.000,-999.000,9, -999.00,9, -999.00,9,  497.10,-999.0000,9,-999.0000,9,-999.0000,9,-999.0000,9,-999.0000,9,-999.0000,9,   9.0774,     -999.0,9,     -999.0,9,     -999.0,9,     -999.0,9,        101,-999.000,-999.000,-999.000,     -999.0,9, -999.00,9, -999.00,9
33RO200306_02,       A16N,     101,          1,         18,         18,2,20030725,       2258,    15.4993,   -28.9998,       5268,   599.3,   8.1067,  34.9642,2,  34.9593,2,     82.8,2,    85.5,2,   19.03,2,   33.37,2,    0.00,2,    2.10,2,   0.188,2,   0.107,2,   0.002,2,  2229.8,2,  2310.4,2,   -999.0,9,  -999.00,   7.5427,2,    25.00,-999.000,9,-999.000,9,-999.000,9, -999.00,9,  -999.0,9,  -999.0,-999.000,9,-999.000,-999.000,9, -999.00,9, -999.00,9,  599.30,-999.0000,9,-999.0000,9,-999.0000,9,-999.0000,9,-999.0000,9,-999.0000,9,   8.0440,     -999.0,9,     -999.0,9,     -999.0,9,     -999.0,9,        101,-999.000,-999.000,-999.000,     -999.0,9, -999.00,9, -999.00,9
33RO200306_02,       A16N,     101,          1,         17,         17,2,20030725,       2258,    15.4993,   -28.9998,       5268,   698.9,   7.2654,  34.8917,2,  34.8914,2,     92.9,2,    93.4,2,   21.36,2,   33.95,2,    0.00,2,    2.16,2,-999.000,9,-999.000,9,-999.000,9,  -999.0,9,  -999.0,9,   -999.0,9,  -999.00,-999.0000,9,  -999.00,-999.000,9,-999.000,9,-999.000,9, -999.00,9,  -999.0,9,  -999.0,-999.000,9,-999.000,-999.000,9, -999.00,9, -999.00,9,  698.90,-999.0000,9,-999.0000,9,-999.0000,9,-999.0000,9,-999.0000,9,-999.0000,9,   7.1963,     -999.0,9,     -999.0,9,     -999.0,9,     -999.0,9,        101,-999.000,-999.000,-999.000,     -999.0,9, -999.00,9, -999.00,9
33RO200306_02,       A16N,     101,          1,         16,         16,2,20030725,       2258,    15.4993,   -28.9998,       5268,   799.1,   6.6352,  34.8541,2,  34.8519,2,    103.0,2,   104.9,2,   23.08,2,   33.61,2,    0.00,2,    2.16,2,   0.042,2,   0.025,2,   0.002,2,  2229.4,2,  2310.5,2,   -999.0,9,  -999.00,   7.5455,2,    25.00,-999.000,9,-999.000,9,-999.000,9, -999.00,9,  -999.0,9,  -999.0,-999.000,9,-999.000,-999.000,9, -999.00,9, -999.00,9,  799.10,-999.0000,9,-999.0000,9,-999.0000,9,-999.0000,9,-999.0000,9,-999.0000,9,   6.5595,     -999.0,9,     -999.0,9,     -999.0,9,     -999.0,9,        101,-999.000,-999.000,-999.000,     -999.0,9, -999.00,9, -999.00,9
33RO200306_02,       A16N,     101,          1,         15,         15,2,20030725,       2258,    15.4993,   -28.9998,       5268,   897.2,   6.2120,  34.8616,2,  34.8604,2,    112.3,2,   112.8,2,   24.02,2,   33.12,2,    0.00,2,    2.15,2,-999.000,9,-999.000,9,-999.000,9,  -999.0,9,  -999.0,9,   -999.0,9,  -999.00,-999.0000,9,  -999.00,-999.000,9,-999.000,9,-999.000,9, -999.00,9,  -999.0,9,  -999.0,-999.000,9,-999.000,-999.000,9, -999.00,9, -999.00,9,  897.20,-999.0000,9,-999.0000,9,-999.0000,9,-999.0000,9,-999.0000,9,-999.0000,9,   6.1292,     -999.0,9,     -999.0,9,     -999.0,9,     -999.0,9,        101,-999.000,-999.000,-999.000,     -999.0,9, -999.00,9, -999.00,9
33RO200306_02,       A16N,     101,          1,         14,         14,2,20030725,       2258,    15.4993,   -28.9998,       5268,   999.8,   5.8925,  34.8850,2,  34.8878,2,    123.7,2,   124.2,2,   24.19,2,   31.84,2,    0.00,2,    2.09,2,   0.022,2,   0.010,2,   0.000,2,  2225.6,2,  2315.3,2,   -999.0,9,  -999.00,   7.5694,2,    25.00,-999.000,9,-999.000,9,-999.000,9, -999.00,9,  -999.0,9,  -999.0,-999.000,9,-999.000,-999.000,9, -999.00,9, -999.00,9,  999.80,-999.0000,9,-999.0000,9,-999.0000,9,-999.0000,9,-999.0000,9,-999.0000,9,   5.8019,     -999.0,9,     -999.0,9,     -999.0,9,     -999.0,9,        101,-999.000,-999.000,-999.000,     -999.0,9, -999.00,9, -999.00,9
33RO200306_02,       A16N,     101,          1,         13,         13,2,20030725,       2258,    15.4993,   -28.9998,       5268,  1098.6,   5.6443,  34.9165,2,  34.9153,2,    139.1,2,   137.9,2,   23.80,2,   30.27,2,    0.00,2,    1.99,2,-999.000,9,-999.000,9,-999.000,9,  -999.0,9,  -999.0,9,   -999.0,9,  -999.00,-999.0000,9,  -999.00,-999.000,9,-999.000,9,-999.000,9, -999.00,9,  -999.0,9,  -999.0,-999.000,9,-999.000,-999.000,9, -999.00,9, -999.00,9, 1098.60,-999.0000,9,-999.0000,9,-999.0000,9,-999.0000,9,-999.0000,9,-999.0000,9,   5.5459,     -999.0,9,     -999.0,9,     -999.0,9,     -999.0,9,        101,-999.000,-999.000,-999.000,     -999.0,9, -999.00,9, -999.00,9
33RO200306_02,       A16N,     101,          1,         12,         12,2,20030725,       2258,    15.4993,   -28.9998,       5268,  1201.0,   5.3745,  34.9455,2,  34.9437,2,    156.0,2,   154.9,2,   23.30,2,   28.62,2,    0.00,2,    1.90,2,   0.017,2,   0.007,2,  -0.001,2,  2213.9,2,  2320.7,2,   -999.0,9,  -999.00,   7.6166,2,    25.00,-999.000,9,-999.000,9,-999.000,9, -999.00,9,  -999.0,9,  -999.0,-999.000,9,-999.000,-999.000,9, -999.00,9, -999.00,9, 1201.00,-999.0000,9,-999.0000,9,-999.0000,9,-999.0000,9,-999.0000,9,-999.0000,9,   5.2685,     -999.0,9,     -999.0,9,     -999.0,9,     -999.0,9,        101,-999.000,-999.000,-999.000,     -999.0,9, -999.00,9, -999.00,9
33RO200306_02,       A16N,     101,          1,         11,         11,2,20030725,       2258,    15.4993,   -28.9998,       5268,  1399.9,   4.8270,  34.9881,2,  34.9871,2,    186.5,2,   183.4,2,   22.24,2,   25.46,2,    0.00,2,    1.70,2,-999.000,9,-999.000,9,-999.000,9,  -999.0,9,  -999.0,9,   -999.0,9,  -999.00,-999.0000,9,  -999.00,-999.000,9,-999.000,9,-999.000,9, -999.00,9,  -999.0,9,  -999.0,-999.000,9,-999.000,-999.000,9, -999.00,9, -999.00,9, 1399.90,-999.0000,9,-999.0000,9,-999.0000,9,-999.0000,9,-999.0000,9,-999.0000,9,   4.7071,     -999.0,9,     -999.0,9,     -999.0,9,     -999.0,9,        101,-999.000,-999.000,-999.000,     -999.0,9, -999.00,9, -999.00,9
33RO200306_02,       A16N,     101,          1,         10,         10,2,20030725,       2258,    15.4993,   -28.9998,       5268,  1599.6,   4.3291,  34.9959,2,  34.9956,2,    210.6,2,   210.7,2,   21.20,2,   22.93,2,    0.00,2,    1.53,2,-999.000,9,-999.000,9,-999.000,9,  -999.0,9,  -999.0,9,   -999.0,9,  -999.00,-999.0000,9,  -999.00,-999.000,9,-999.000,9,-999.000,9, -999.00,9,  -999.0,9,  -999.0,-999.000,9,-999.000,-999.000,9, -999.00,9, -999.00,9, 1599.60,-999.0000,9,-999.0000,9,-999.0000,9,-999.0000,9,-999.0000,9,-999.0000,9,   4.1957,     -999.0,9,     -999.0,9,     -999.0,9,     -999.0,9,        101,-999.000,-999.000,-999.000,     -999.0,9, -999.00,9, -999.00,9
33RO200306_02,       A16N,     101,          1,          9,          9,2,20030725,       2258,    15.4993,   -28.9998,       5268,  1798.2,   3.9691,  34.9921,2,  34.9920,2,    225.8,2,   225.4,2,   21.34,2,   21.68,2,    0.00,2,    1.46,2,   0.000,2,   0.004,2,   0.001,2,  -999.0,9,  -999.0,9,   -999.0,9,  -999.00,-999.0000,9,  -999.00,-999.000,9,-999.000,9,-999.000,9, -999.00,9,  -999.0,9,  -999.0,-999.000,9,-999.000,-999.000,9, -999.00,9, -999.00,9, 1798.20,-999.0000,9,-999.0000,9,-999.0000,9,-999.0000,9,-999.0000,9,-999.0000,9,   3.8214,     -999.0,9,     -999.0,9,     -999.0,9,     -999.0,9,        101,-999.000,-999.000,-999.000,     -999.0,9, -999.00,9, -999.00,9
33RO200306_02,       A16N,     101,          1,          8,          8,2,20030725,       2258,    15.4993,   -28.9998,       5268,  1999.6,   3.6415,  34.9797,2,  34.9793,2,    229.6,2,   231.5,2,   23.58,2,   21.39,2,    0.00,2,    1.43,2,-999.000,9,-999.000,9,-999.000,9,  -999.0,9,  -999.0,9,   -999.0,9,  -999.00,-999.0000,9,  -999.00,-999.000,9,-999.000,9,-999.000,9, -999.00,9,  -999.0,9,  -999.0,-999.000,9,-999.000,-999.000,9, -999.00,9, -999.00,9, 1999.60,-999.0000,9,-999.0000,9,-999.0000,9,-999.0000,9,-999.0000,9,-999.0000,9,   3.4793,     -999.0,9,     -999.0,9,     -999.0,9,     -999.0,9,        101,-999.000,-999.000,-999.000,     -999.0,9, -999.00,9, -999.00,9