BOTTLE,20230908CCHSIOCBG
EXPOCODE,SECT_ID,STNNBR,CASTNO,SAMPNO,BTLNBR,BTLNBR_FLAG_W,DATE,TIME,LATITUDE,LONGITUDE,DEPTH,CTDPRS,CTDTMP,CTDSAL,CTDSAL_FLAG_W,SALNTY,SALNTY_FLAG_W,CTDOXY,CTDOXY_FLAG_W,OXYGEN,OXYGEN_FLAG_W,SILCAT,SILCAT_FLAG_W,NITRAT,NITRAT_FLAG_W,NITRIT,NITRIT_FLAG_W,PHSPHT,PHSPHT_FLAG_W,CFC-11,CFC-11_FLAG_W,CFC-12,CFC-12_FLAG_W,CFC113,CFC113_FLAG_W,TCARBN,TCARBN_FLAG_W,ALKALI,ALKALI_FLAG_W,FCO2,FCO2_FLAG_W,FCO2TMP,PH_SWS,PH_SWS_FLAG_W,PH_TMP,TRITUM,TRITUM_FLAG_W,HELIUM,HELIUM_FLAG_W,DELHE3,DELHE3_FLAG_W,DELC13,DELC13_FLAG_W,DELC14,DELC14_FLAG_W,C14ERR,NEON,NEON_FLAG_W,NEONER,POC,POC_FLAG_W,DOC,DOC_FLAG_W,TDN,TDN_FLAG_W,CTDRAW,CDOM325,CDOM325_FLAG_W,CDOM340,CDOM340_FLAG_W,CDOM380,CDOM380_FLAG_W,CDOM412,CDOM412_FLAG_W,CDOMSL,CDOMSL_FLAG_W,CDOMSN,CDOMSN_FLAG_W,THETA,PON,PON_FLAG_W,HCFC-22,HCFC-22_FLAG_W,HCFC-142b,HCFC-142b_FLAG_W,HCFC-141b,HCFC-141b_FLAG_W,STNNBR_U,HELIER,DELHER,TRITER,CH3CL,CH3CL_FLAG_W,CH3BR,CH3BR_FLAG_W,CH3I,CH3I_FLAG_W
,,,,,,,,,,,METERS,DBAR,ITS-90,PSS-78,,PSS-78,,UMOL/KG,,UMOL/KG,,UMOL/KG,,UMOL/KG,,UMOL/KG,,UMOL/KG,,PMOL/KG,,PMOL/KG,,PMOL/KG,,UMOL/KG,,UMOL/KG,,UATM,,DEG C,,,DEG C,TU,,NMOL/KG,,PERCNT,,/MILLE,,/MILLE,,/MILLE,NMOL/KG,,NMOL/KG,UG/KG,,UMOL/KG,,UMOL/KG,,DBAR,1/M,,1/M,,1/M,,1/M,,1/NM,,1/NM,,DEG C,UMOL/L,,PMOL/KG,,PMOL/KG,,PMOL/KG,,,NMOL/KG,PERCNT,TU,PMOL/KG,,PMOL/KG,,PMOL/KG,
33RO200306_01,       A16N,     011,          1,         33,         33,2,20030621,       2305,    59.9998,   -20.0015,       2724,     3.0,  11.4604,  35.2548,2,  35.2554,2,    298.4,2,   299.5,2,    0.37,2,    2.92,2,    0.07,2,    0.23,2,   3.564,6,   1.962,6,   0.302,6,  2064.7,6,  2320.8,2,   -999.0,9,  -999.00,   7.9606,2,    25.00,-999.000,9,-999.000,9,-999.000,9, -999.00,9,  -999.0,9,  -999.0,-999.000,9,-999.000,-999.000,9,   63.82,2,    9.38,2,    3.00,-999.0000,9,-999.0000,9,-999.0000,9,-999.0000,9,-999.0000,9,-999.0000,9,  11.4600,     -999.0,9,     -999.0,9,     -999.0,9,     -999.0,9,         11,-999.000,-999.000,-999.000,     -999.0,9, -999.00,9, -999.00,9
33RO200306_01,       A16N,     011,          1,         35,         35,2,20030621,       2305,    59.9998,   -20.0015,       2724,     3.0,  11.4603,  35.2548,2,  35.2545,2,    298.4,2,   300.2,2, -999.00,9, -999.00,9, -999.00,9, -999.00,9,-999.000,9,-999.000,9,-999.000,9,  -999.0,9,  -999.0,9,   -999.0,9,  -999.00,-999.0000,9,  -999.00,-999.000,9,-999.000,9,-999.000,9, -999.00,9,  -999.0,9,  -999.0,-999.000,9,-999.000,-999.000,9, -999.00,9, -999.00,9,    3.00,-999.0000,9,-999.0000,9,-999.0000,9,-999.0000,9,-999.0000,9,-999.0000,9,  11.4599,     -999.0,9,     -999.0,9,     -999.0,9,     -999.0,9,         11,-999.000,-999.000,-999.000,     -999.0,9, -999.00,9, -999.00,9
33RO200306_01,       A16N,     011,          1,         32,         32,2,20030621,       2305,    59.9998,   -20.0015,       2724,    10.7,  11.4341,  35.2560,2,  35.2625,2,    297.1,2,   296.3,2,    0.42,2,    3.66,2,    0.08,2,    0.28,2,   3.571,2,   1.958,2,   0.298,2,  2072.4,2,  2321.4,2,   -999.0,9,  -999.00,   7.9452,2,    25.00,-999.000,9,-999.000,9,-999.000,9, -999.00,9,  -999.0,9,  -999.0,-999.000,9,-999.000,-999.000,9,   64.15,2,   10.60,2,   10.70,-999.0000,9,-999.0000,9,-999.0000,9,-999.0000,9,-999.0000,9,-999.0000,9,  11.4328,     -999.0,9,     -999.0,9,     -999.0,9,     -999.0,9,         11,-999.000,-999.000,-999.000,     -999.0,9, -999.00,9, -999.00,9
33RO200306_01,       A16N,     011,          1,         31,         31,2,20030621,       2305,    59.9998,   -20.0015,       2724,    30.3,  10.2351,  35.2955,2,  35.2971,2,    284.3,2,   280.9,2,    0.98,2,    6.85,2,    0.12,2,    0.54,2,   3.702,2,   2.039,2,   0.311,2,  2108.7,2,  2321.0,2,   -999.0,9,  -999.00,   7.8775,2,    25.00,-999.000,9,-999.000,9,-999.000,9, -999.00,9,  -999.0,9,  -999.0,-999.000,9,-999.000,-999.000,9, -999.00,9, -999.00,9,   30.30,-999.0000,9,-999.0000,9,-999.0000,9,-999.0000,9,-999.0000,9,-999.0000,9,  10.2315,     -999.0,9,     -999.0,9,     -999.0,9,     -999.0,9,         11,-999.000,-999.000,-999.000,     -999.0,9, -999.00,9, -999.00,9
33RO200306_01,       A16N,     011,          1,         30,         30,2,20030621,       2305,    59.9998,   -20.0015,       2724,    50.7,   9.7579,  35.3165,2,  35.3153,2,    278.3,2,   276.6,2,    2.11,2,    8.42,2,    0.17,2,    0.63,2,   3.701,2,   2.024,2,   0.303,2,  2119.9,2,  2309.3,2,   -999.0,9,  -999.00,   7.8567,2,    25.00,-999.000,9,-999.000,9,-999.000,9, -999.00,9,  -999.0,9,  -999.0,-999.000,9,-999.000,-999.000,9,   53.41,2,   15.14,2,   50.70,-999.0000,9,-999.0000,9,-999.0000,9,-999.0000,9,-999.0000,9,-999.0000,9,   9.7521,     -999.0,9,     -999.0,9,     -999.0,9,     -999.0,9,         11,-999.000,-999.000,-999.000,     -999.0,9, -999.00,9, -999.00,9
33RO200306_01,       A16N,     011,          1,         29,         29,2,20030621,       2305,    59.9998,   -20.0015,       2724,    70.5,   9.5351,  35.3069,2,  35.3008,2,    271.7,2,   270.3,2,    3.82,2,   10.55,2,    0.28,2,    0.71,2,   3.623,2,   1.973,2,   0.292,2,  2130.7,2,  2326.4,2,   -999.0,9,  -999.00,   7.8286,2,    25.00,   1.219,2,-999.000,9,-999.000,9, -999.00,9,  -999.0,9,  -999.0,-999.000,9,-999.000,-999.000,9, -999.00,9, -999.00,9,   70.50,-999.0000,9,-999.0000,9,-999.0000,9,-999.0000,9,-999.0000,9,-999.0000,9,   9.5272,     -999.0,9,     -999.0,9,     -999.0,9,     -999.0,9,         11,-999.000,-999.000,   0.030,     -999.0,9, -999.00,9, -999.00,9
33RO200306_01,       A16N,     011,          1,         28,         28,2,20030621,       2305,    59.9998,   -20.0015,       2724,    91.6,   9.3992,  35.2888,2,  35.2909,2,    272.1,2,   270.0,2,    4.50,2,   11.32,2,    0.26,2,    0.73,2,   3.632,2,   1.992,2,   0.292,2,  2133.3,2,  2325.3,2,   -999.0,9,  -999.00,   7.8202,2,    25.00,-999.000,9,-999.000,9,-999.000,9, -999.00,9,  -999.0,9,  -999.0,-999.000,9,-999.000,-999.000,9,   51.22,2,   15.58,2,   91.60,-999.0000,9,-999.0000,9,-999.0000,9,-999.0000,9,-999.0000,9,-999.0000,9,   9.3890,     -999.0,9,     -999.0,9,     -999.0,9,     -999.0,9,         11,-999.000,-999.000,-999.000,     -999.0,9, -999.00,9, -999.00,9
33RO200306_01,       A16N,     011,          1,         27,         27,2,20030621,       2305,    59.9998,   -20.0015,       2724,   110.9,   9.3866,  35.3014,2,  35.3036,2,    271.4,2,   274.8,2,    5.30,2,   11.92,2,    0.02,2,    0.75,2,   3.625,2,   1.974,2,   0.283,2,  2132.9,2,  2325.3,2,   -999.0,9,  -999.00,   7.8171,2,    25.00,   1.282,2,   1.750,2,  -1.445,2, -999.00,9,  -999.0,9,  -999.0,   7.406,2,   0.049,-999.000,9, -999.00,9, -999.00,9,  110.90,-999.0000,9,-999.0000,9,-999.0000,9,-999.0000,9,-999.0000,9,-999.0000,9,   9.3742,     -999.0,9,     -999.0,9,     -999.0,9,     -999.0,9,         11,   0.003,   0.222,   0.020,     -999.0,9, -999.00,9, -999.00,9
33RO200306_01,       A16N,     011,          1,         26,         26,2,20030621,       2305,    59.9998,   -20.0015,       2724,   135.9,   9.3275,  35.2932,2,  35.2901,2,    272.3,2,   272.9,2,    5.08,2,   11.88,2,    0.06,2,    0.75,2,   3.628,2,   1.993,2,   0.287,2,  2132.9,2,  2324.4,2,   -999.0,9,  -999.00,   7.8172,2,    25.00,-999.000,9,-999.000,9,-999.000,9, -999.00,9,  -999.0,9,  -999.0,-999.000,9,-999.000,-999.000,9,   49.68,2,   16.49,2,  135.90,-999.0000,9,-999.0000,9,-999.0000,9,-999.0000,9,-999.0000,9,-999.0000,9,   9.3124,     -999.0,9,     -999.0,9,     -999.0,9,     -999.0,9,         11,-999.000,-999.000,-999.000,     -999.0,9, -999.00,9, -999.00,9
33RO200306_01,       A16N,     011,          1,         25,         25,2,20030621,       2305,    59.9998,   -20.0015,       2724,   160.7,   9.2592,  35.2924,2,  35.2915,2,    274.5,2,   269.4,2,    4.84,2,   11.76,2,    0.12,2,    0.75,2,   3.642,2,   1.978,2,   0.287,2,  2133.5,2,  2324.9,2,   -999.0,9,  -999.00,   7.8215,2,    25.00,   1.128,2,   1.756,2,  -1.314,2, -999.00,9,  -999.0,9,  -999.0,   7.546,2,   0.056,-999.000,9, -999.00,9, -999.00,9,  160.70,-999.0000,9,-999.0000,9,-999.0000,9,-999.0000,9,-999.0000,9,-999.0000,9,   9.2414,     -999.0,9,     -999.0,9,     -999.0,9,     -999.0,9,         11,   0.003,   0.196,   0.030,     -999.0,9, -999.00,9, -999.00,9
33RO200306_01,       A16N,     011,          1,         24,         24,2,20030621,       2305,    59.9998,   -20.0015,       2724,   186.3,   9.2127,  35.2913,2,  35.2875,2,    271.2,2,   281.4,2,    5.07,2,   12.01,2,    0.04,2,    0.75,2,   3.716,2,   2.024,2,   0.299,2,  2134.0,2,  2321.4,2,   -999.0,9,  -999.00,   7.8109,2,    25.00,-999.000,9,-999.000,9,-999.000,9, -999.00,9,  -999.0,9,  -999.0,-999.000,9,-999.000,-999.000,9,   50.57,2,   15.57,2,  186.30,-999.0000,9,-999.0000,9,-999.0000,9,-999.0000,9,-999.0000,9,-999.0000,9,   9.1921,     -999.0,9,     -999.0,9,     -999.0,9,     -999.0,9,         11,-999.000,-999.000,-999.000,     -999.0,9, -999.00,9, -999.00,9
33RO200306_01,       A16N,     011,          1,         23,         23,2,20030621,       2305,    59.9998,   -20.0015,       2724,   225.1,   9.1732,  35.2945,2,  35.2948,2,    269.8,2,   268.7,2,    5.53,2,   12.21,2,    0.02,2,    0.77,2,   3.600,2,   1.962,2,   0.283,2,  2136.8,2,  2321.5,2,   -999.0,9,  -999.00,   7.8135,2,    25.00,   1.246,2,   1.788,2,  -1.876,2, -999.00,9,  -999.0,9,  -999.0,   7.534,2,   0.055,-999.000,9, -999.00,9, -999.00,9,  225.10,-999.0000,9,-999.0000,9,-999.0000,9,-999.0000,9,-999.0000,9,-999.0000,9,   9.1483,     -999.0,9,     -999.0,9,     -999.0,9,     -999.0,9,         11,   0.004,   0.195,   0.020,     -999.0,9, -999.00,9, -999.00,9
33RO200306_01,       A16N,     011,          1,         22,         22,2,20030621,       2305,    59.9998,   -20.0015,       2724,   275.8,   8.8831,  35.2486,2,  35.2419,2,    266.6,2,   266.5,2,    5.80,2,   12.70,2,    0.10,2,    0.83,2,   3.605,2,   1.944,2,   0.279,2,  2138.3,2,  2315.0,2,   -999.0,9,  -999.00,   7.8028,2,    25.00,-999.000,9,-999.000,9,-999.000,9, -999.00,9,  -999.0,9,  -999.0,-999.000,9,-999.000,-999.000,9, -999.00,9, -999.00,9,  275.80,-999.0000,9,-999.0000,9,-999.0000,9,-999.0000,9,-999.0000,9,-999.0000,9,   8.8531,     -999.0,9,     -999.0,9,     -999.0,9,     -999.0,9,         11,-999.000,-999.000,-999.000,     -999.0,9, -999.00,9, -999.00,9
33RO200306_01,       A16N,     011,          1,         21,         21,2,20030621,       2305,    59.9998,   -20.0015,       2724,   325.9,   8.8065,  35.2569,2,  35.2561,2,    264.6,2,   257.2,2,    6.55,2,   13.44,2,    0.01,2,    0.85,2,   3.549,2,   1.913,2,   0.264,2,  2143.6,3,  2315.8,2,   -999.0,9,  -999.00,   7.7959,2,    25.00,-999.000,9,   1.804,2,  -0.654,2, -999.00,9,  -999.0,9,  -999.0,   7.702,2,   0.064,-999.000,9, -999.00,9, -999.00,9,  325.90,-999.0000,9,-999.0000,9,-999.0000,9,-999.0000,9,-999.0000,9,-999.0000,9,   8.7712,     -999.0,9,     -999.0,9,     -999.0,9,     -999.0,9,         11,   0.004,    0.22,-999.000,     -999.0,9, -999.00,9, -999.00,9
33RO200306_01,       A16N,     011,          1,         20,         20,2,20030621,       2305,    59.9998,   -20.0015,       2724,   375.8,   8.6994,  35.2562,2,  35.2535,2,    268.4,2,   275.2,2,    6.20,2,   13.14,2,    0.01,2,    0.83,2,   3.644,2,   1.967,2,   0.285,2,  2142.0,2,  2315.4,2,   -999.0,9,  -999.00,   7.8018,2,    25.00,-999.000,9,-999.000,9,-999.000,9, -999.00,9,  -999.0,9,  -999.0,-999.000,9,-999.000,-999.000,9,   50.32,2,   17.67,2,  375.80,-999.0000,9,-999.0000,9,-999.0000,9,-999.0000,9,-999.0000,9,-999.0000,9,   8.6588,     -999.0,9,     -999.0,9,     -999.0,9,     -999.0,9,         11,-999.000,-999.000,-999.000,     -999.0,9, -999.00,9, -999.00,9
33RO200306_01,       A16N,     011,          1,         19,         19,2,20030621,       2305,    59.9998,   -20.0015,       2724,   426.0,   8.6082,  35.2497,2,  35.2485,2,    251.9,2,   259.1,2,    6.88,2,   13.92,2,    0.01,2,    0.88,2,   3.504,2,   1.883,2,   0.255,2,  2147.0,2,  2314.8,2,   -999.0,9,  -999.00,   7.7894,2,    25.00,   1.236,2,   1.773,2,  -0.193,2, -999.00,9,  -999.0,9,  -999.0,   7.436,2,   0.062,-999.000,9,   49.68,2,   17.29,2,  426.00,-999.0000,9,-999.0000,9,-999.0000,9,-999.0000,9,-999.0000,9,-999.0000,9,   8.5624,     -999.0,9,     -999.0,9,     -999.0,9,     -999.0,9,         11,   0.004,    0.22,   0.040,     -999.0,9, -999.00,9, -999.00,9
33RO200306_01,       A16N,     011,          1,         18,         18,2,20030621,       2305,    59.9998,   -20.0015,       2724,   475.7,   8.3649,  35.2188,2,  35.2174,2,    259.1,2,   257.0,2,    7.17,2,   14.36,2,    0.01,2,    0.91,2,   3.452,2,   1.857,2,   0.252,2,  2147.3,2,  2313.9,2,   -999.0,9,  -999.00,   7.7855,2,    25.00,-999.000,9,-999.000,9,-999.000,9, -999.00,9,  -999.0,9,  -999.0,-999.000,9,-999.000,-999.000,9,   48.13,2,   17.51,2,  475.70,-999.0000,9,-999.0000,9,-999.0000,9,-999.0000,9,-999.0000,9,-999.0000,9,   8.3144,     -999.0,9,     -999.0,9,     -999.0,9,     -999.0,9,         11,-999.000,-999.000,-999.000,     -999.0,9, -999.00,9, -999.00,9
33RO200306_01,       A16N,     011,          1,         17,         17,2,20030621,       2305,    59.9998,   -20.0015,       2724,   550.9,   8.2092,  35.2148,2,  35.2126,2,    252.1,2,   248.0,2,    7.90,2,   15.14,2,    0.00,2,    0.95,2,   3.254,2,   1.742,2,   0.226,2,  2152.4,2,  2313.8,2,   -999.0,9,  -999.00,   7.7633,2,    25.00,   1.159,2,-999.000,9,-999.000,9, -999.00,9,  -999.0,9,  -999.0,-999.000,9,-999.000,-999.000,9,   47.27,2,   19.90,2,  550.90,-999.0000,9,-999.0000,9,-999.0000,9,-999.0000,9,-999.0000,9,-999.0000,9,   8.1511,     -999.0,9,     -999.0,9,     -999.0,9,     -999.0,9,         11,-999.000,-999.000,   0.010,     -999.0,9, -999.00,9, -999.00,9
33RO200306_01,       A16N,     011,          1,         16,         16,2,20030621,       2305,    59.9998,   -20.0015,       2724,   650.9,   7.7681,  35.1908,2,  35.1868,2,    232.7,2,   233.9,2,    9.26,2,   16.71,2,    0.00,2,    1.06,2,   2.955,2,   1.538,2,   0.188,2,  2165.5,2,  2314.0,2,   -999.0,9,  -999.00,   7.7465,2,    25.00,-999.000,9,-999.000,9,-999.000,9, -999.00,9,  -999.0,9,  -999.0,-999.000,9,-999.000,-999.000,9,   47.64,2,   22.95,2,  650.90,-999.0000,9,-999.0000,9,-999.0000,9,-999.0000,9,-999.0000,9,-999.0000,9,   7.7012,     -999.0,9,     -999.0,9,     -999.0,9,     -999.0,9,         11,-999.000,-999.000,-999.000,     -999.0,9, -999.00,9, -999.00,9
33RO200306_01,       A16N,     011,          1,         15,         15,2,20030621,       2305,    59.9998,   -20.0015,       2724,   751.7,   7.0629,  35.1468,2,  35.1448,2,    224.1,2,   221.7,2,   10.74,2,   18.05,2,    0.00,2,    1.13,2,   2.654,2,   1.360,2,   0.147,2,  2171.6,2,  2317.3,2,   -999.0,9,  -999.00,   7.7198,2,    25.00,-999.000,9,   1.786,2,   4.468,2, -999.00,9,  -999.0,9,  -999.0,   7.600,2,   0.059,-999.000,9,   46.66,2,   21.80,2,  751.70,-999.0000,9,-999.0000,9,-999.0000,9,-999.0000,9,-999.0000,9,-999.0000,9,   6.9891,     -999.0,9,     -999.0,9,     -999.0,9,     -999.0,9,         11,   0.003,   0.145,-999.000,     -999.0,9, -999.00,9, -999.00,9
33RO200306_01,       A16N,     011,          1,         14,         14,2,20030621,       2305,    59.9998,   -20.0015,       2724,   851.0,   6.3895,  35.1152,2,  35.1113,2,    227.4,2,   224.5,2,   11.31,2,   18.34,2,    0.00,2,    1.15,2,   2.587,2,   1.301,2,   0.141,2,  2173.8,2,  2321.4,2,   -999.0,9,  -999.00,   7.7094,2,    25.00,-999.000,9,-999.000,9,-999.000,9, -999.00,9,  -999.0,9,  -999.0,-999.000,9,-999.000,-999.000,9,   46.75,2,   21.34,2,  851.00,-999.0000,9,-999.0000,9,-999.0000,9,-999.0000,9,-999.0000,9,-999.0000,9,   6.3097,     -999.0,9,     -999.0,9,     -999.0,9,     -999.0,9,         11,-999.000,-999.000,-999.000,     -999.0,9, -999.00,9, -999.00,9
33RO200306_01,       A16N,     011,          1,         13,         13,2,20030621,       2305,    59.9998,   -20.0015,       2724,   951.1,   5.6437,  35.0655,2,  35.0640,2,    234.9,2,   234.2,2,   11.72,2,   18.39,2,    0.00,2,    1.17,2,   2.622,2,   1.289,2,   0.144,2,  2172.6,2,  2318.3,2,   -999.0,9,  -999.00,   7.7066,2,    25.00,   1.089,2,-999.000,9,-999.000,9, -999.00,9,  -999.0,9,  -999.0,-999.000,9,-999.000,-999.000,9,   47.24,2,   22.67,2,  951.10,-999.0000,9,-999.0000,9,-999.0000,9,-999.0000,9,-999.0000,9,-999.0000,9,   5.5593,     -999.0,9,     -999.0,9,     -999.0,9,     -999.0,9,         11,-999.000,-999.000,   0.010,     -999.0,9, -999.00,9, -999.00,9
33RO200306_01,       A16N,     011,          1,         12,         12,2,20030621,       2305,    59.9998,   -20.0015,       2724,  1050.9,   4.8892,  34.9935,2,  34.9900,2,    247.2,2,   247.0,2,   11.38,2,   18.08,2,    0.00,2,    1.15,2,   2.915,2,   1.425,2,   0.171,2,  2168.3,6,  2309.9,2,   -999.0,9,  -999.00,   7.7056,2,    25.00,-999.000,9,-999.000,9,-999.000,9, -999.00,9,  -999.0,9,  -999.0,-999.000,9,-999.000,-999.000,9,   46.75,2,   21.73,2, 1050.90,-999.0000,9,-999.0000,9,-999.0000,9,-999.0000,9,-999.0000,9,-999.0000,9,   4.8013,     -999.0,9,     -999.0,9,     -999.0,9,     -999.0,9,         11,-999.000,-999.000,-999.000,     -999.0,9, -999.00,9, -999.00,9
33RO200306_01,       A16N,     011,          1,         11,         11,2,20030621,       2305,    59.9998,   -20.0015,       2724,  1149.9,   4.4869,  34.9609,2,  34.9596,2,    257.3,2,   256.7,2,   11.32,2,   17.83,2,    0.00,2,    1.14,2,   3.023,2,   1.471,2,   0.189,2,  2168.0,2,  2306.7,2,   -999.0,9,  -999.00,   7.7093,2,    25.00,   1.180,2,   1.853,2,   4.890,2, -999.00,9,  -999.0,9,  -999.0,   8.002,2,   0.062,-999.000,9,   45.20,2,   21.76,2, 1149.90,-999.0000,9,-999.0000,9,-999.0000,9,-999.0000,9,-999.0000,9,-999.0000,9,   4.3935,     -999.0,9,     -999.0,9,     -999.0,9,     -999.0,9,         11,   0.003,   0.144,   0.030,     -999.0,9, -999.00,9, -999.00,9
33RO200306_01,       A16N,     011,          1,         10,         10,2,20030621,       2305,    59.9998,   -20.0015,       2724,  1251.0,   4.1780,  34.9379,2,  34.9355,2,    264.4,2,   264.6,2,   11.14,2,   17.64,2,    0.00,2,    1.12,2,   3.172,2,   1.541,2,   0.197,2,  2164.7,2,  2305.4,2,   -999.0,9,  -999.00,   7.7035,2,    25.00,-999.000,9,-999.000,9,-999.000,9, -999.00,9,  -999.0,9,  -999.0,-999.000,9,-999.000,-999.000,9,   44.80,2,   23.06,2, 1251.00,-999.0000,9,-999.0000,9,-999.0000,9,-999.0000,9,-999.0000,9,-999.0000,9,   4.0784,     -999.0,9,     -999.0,9,     -999.0,9,     -999.0,9,         11,-999.000,-999.000,-999.000,     -999.0,9, -999.00,9, -999.00,9
33RO200306_01,       A16N,     011,          1,          9,          9,2,20030621,       2305,    59.9998,   -20.0015,       2724,  1350.8,   4.0005,  34.9326,2,  34.9317,2,    266.0,2,   268.9,2,   11.42,2,   17.65,2,    0.00,2,    1.12,2,   3.023,2,   1.454,2,   0.181,2,  2162.8,2,  2304.2,2,   -999.0,9,  -999.00,   7.7113,2,    25.00,-999.000,9,   1.758,2,   5.967,2, -999.00,9,  -999.0,9,  -999.0,   7.653,2,   0.059,-999.000,9,   44.15,2,   21.02,2, 1350.80,-999.0000,9,-999.0000,9,-999.0000,9,-999.0000,9,-999.0000,9,-999.0000,9,   3.8938,     -999.0,9,     -999.0,9,     -999.0,9,     -999.0,9,         11,   0.003,   0.145,-999.000,     -999.0,9, -999.00,9, -999.00,9
33RO200306_01,       A16N,     011,          1,          8,          8,2,20030621,       2305,    59.9998,   -20.0015,       2724,  1600.1,   3.6238,  34.9107,2,  34.9091,2,    275.5,2,   277.1,2,   11.48,2,   17.37,2,    0.00,2,    1.11,2,   2.953,2,   1.409,2,   0.173,2,  2161.6,2,  2302.5,2,   -999.0,9,  -999.00,   7.7193,2,    25.00,-999.000,9,-999.000,9,-999.000,9, -999.00,9,  -999.0,9,  -999.0,-999.000,9,-999.000,-999.000,9,   45.44,2,   21.00,2, 1600.10,-999.0000,9,-999.0000,9,-999.0000,9,-999.0000,9,-999.0000,9,-999.0000,9,   3.4991,     -999.0,9,     -999.0,9,     -999.0,9,     -999.0,9,         11,-999.000,-999.000,-999.000,     -999.0,9, -999.00,9, -999.00,9