BOTTLE,20230908CCHSIOCBG
EXPOCODE,SECT_ID,STNNBR,CASTNO,SAMPNO,BTLNBR,BTLNBR_FLAG_W,DATE,TIME,LATITUDE,LONGITUDE,DEPTH,CTDPRS,CTDTMP,CTDSAL,CTDSAL_FLAG_W,SALNTY,SALNTY_FLAG_W,CTDOXY,CTDOXY_FLAG_W,OXYGEN,OXYGEN_FLAG_W,SILCAT,SILCAT_FLAG_W,NITRAT,NITRAT_FLAG_W,NITRIT,NITRIT_FLAG_W,PHSPHT,PHSPHT_FLAG_W,CFC-11,CFC-11_FLAG_W,CFC-12,CFC-12_FLAG_W,CFC113,CFC113_FLAG_W,TCARBN,TCARBN_FLAG_W,ALKALI,ALKALI_FLAG_W,FCO2,FCO2_FLAG_W,FCO2TMP,PH_SWS,PH_SWS_FLAG_W,PH_TMP,TRITUM,TRITUM_FLAG_W,HELIUM,HELIUM_FLAG_W,DELHE3,DELHE3_FLAG_W,DELC13,DELC13_FLAG_W,DELC14,DELC14_FLAG_W,C14ERR,NEON,NEON_FLAG_W,NEONER,POC,POC_FLAG_W,DOC,DOC_FLAG_W,TDN,TDN_FLAG_W,CTDRAW,CDOM325,CDOM325_FLAG_W,CDOM340,CDOM340_FLAG_W,CDOM380,CDOM380_FLAG_W,CDOM412,CDOM412_FLAG_W,CDOMSL,CDOMSL_FLAG_W,CDOMSN,CDOMSN_FLAG_W,THETA,PON,PON_FLAG_W,HCFC-22,HCFC-22_FLAG_W,HCFC-142b,HCFC-142b_FLAG_W,HCFC-141b,HCFC-141b_FLAG_W,STNNBR_U,HELIER,DELHER,TRITER,CH3CL,CH3CL_FLAG_W,CH3BR,CH3BR_FLAG_W,CH3I,CH3I_FLAG_W
,,,,,,,,,,,METERS,DBAR,ITS-90,PSS-78,,PSS-78,,UMOL/KG,,UMOL/KG,,UMOL/KG,,UMOL/KG,,UMOL/KG,,UMOL/KG,,PMOL/KG,,PMOL/KG,,PMOL/KG,,UMOL/KG,,UMOL/KG,,UATM,,DEG C,,,DEG C,TU,,NMOL/KG,,PERCNT,,/MILLE,,/MILLE,,/MILLE,NMOL/KG,,NMOL/KG,UG/KG,,UMOL/KG,,UMOL/KG,,DBAR,1/M,,1/M,,1/M,,1/M,,1/NM,,1/NM,,DEG C,UMOL/L,,PMOL/KG,,PMOL/KG,,PMOL/KG,,,NMOL/KG,PERCNT,TU,PMOL/KG,,PMOL/KG,,PMOL/KG,
33RO200306_02,       A16N,     107,          1,         35,         35,2,20030727,       2237,    12.4900,   -29.0002,       5627,     3.2,  28.0393,  36.2841,2,  36.2871,2,    190.0,2,   199.6,2,    0.76,2,    0.08,2,    0.00,2,    0.05,2,   1.659,2,   1.062,2,   0.141,2,  2013.5,6,  2376.9,6,   -999.0,9,  -999.00,   8.1150,6,    25.00,-999.000,9,-999.000,9,-999.000,9, -999.00,9,  -999.0,9,  -999.0,-999.000,9,-999.000,-999.000,9, -999.00,9, -999.00,9,    3.20,-999.0000,9,-999.0000,9,-999.0000,9,-999.0000,9,-999.0000,9,-999.0000,9,  28.0385,     -999.0,9,     -999.0,9,     -999.0,9,     -999.0,9,        107,-999.000,-999.000,-999.000,     -999.0,9, -999.00,9, -999.00,9
33RO200306_02,       A16N,     107,          1,         33,         33,2,20030727,       2237,    12.4900,   -29.0002,       5627,     9.1,  28.0612,  36.2840,2,  36.2899,2,    190.3,2,   200.7,2,    0.76,2,    0.08,2,    0.00,2,    0.05,2,-999.000,9,-999.000,9,-999.000,9,  -999.0,9,  -999.0,9,   -999.0,9,  -999.00,-999.0000,9,  -999.00,-999.000,9,-999.000,9,-999.000,9, -999.00,9,  -999.0,9,  -999.0,-999.000,9,-999.000,-999.000,9, -999.00,9, -999.00,9,    9.10,-999.0000,9,-999.0000,9,-999.0000,9,-999.0000,9,-999.0000,9,-999.0000,9,  28.0590,     -999.0,9,     -999.0,9,     -999.0,9,     -999.0,9,        107,-999.000,-999.000,-999.000,     -999.0,9, -999.00,9, -999.00,9
33RO200306_02,       A16N,     107,          1,         32,         32,2,20030727,       2237,    12.4900,   -29.0002,       5627,    29.1,  27.7249,  36.3538,2,  36.3425,2,    190.0,2,   201.9,2,    0.77,2,    0.10,2,    0.00,2,    0.05,2,-999.000,9,-999.000,9,-999.000,9,  -999.0,9,  -999.0,9,   -999.0,9,  -999.00,-999.0000,9,  -999.00,-999.000,9,-999.000,9,-999.000,9, -999.00,9,  -999.0,9,  -999.0,-999.000,9,-999.000,-999.000,9, -999.00,9, -999.00,9,   29.10,-999.0000,9,-999.0000,9,-999.0000,9,-999.0000,9,-999.0000,9,-999.0000,9,  27.7181,     -999.0,9,     -999.0,9,     -999.0,9,     -999.0,9,        107,-999.000,-999.000,-999.000,     -999.0,9, -999.00,9, -999.00,9
33RO200306_02,       A16N,     107,          1,         31,         31,2,20030727,       2237,    12.4900,   -29.0002,       5627,    49.2,  22.8543,  36.0339,2,  36.0271,2,    199.2,2,   191.9,2,    1.61,2,    0.76,2,    0.04,2,    0.17,2,   1.830,2,   1.123,2,   0.117,2,  2075.9,2,  2363.5,2,   -999.0,9,  -999.00,   7.9051,3,    25.00,-999.000,9,-999.000,9,-999.000,9, -999.00,9,  -999.0,9,  -999.0,-999.000,9,-999.000,-999.000,9, -999.00,9, -999.00,9,   49.20,-999.0000,9,-999.0000,9,-999.0000,9,-999.0000,9,-999.0000,9,-999.0000,9,  22.8443,     -999.0,9,     -999.0,9,     -999.0,9,     -999.0,9,        107,-999.000,-999.000,-999.000,     -999.0,9, -999.00,9, -999.00,9
33RO200306_02,       A16N,     107,          1,         30,         30,2,20030727,       2237,    12.4900,   -29.0002,       5627,    70.1,  19.2482,  36.3549,2,  36.3696,2,    132.2,2,   128.7,2,    2.66,2,   10.34,2,    0.32,2,    0.69,2,-999.000,9,-999.000,9,-999.000,9,  -999.0,9,  -999.0,9,   -999.0,9,  -999.00,-999.0000,9,  -999.00,-999.000,9,-999.000,9,-999.000,9, -999.00,9,  -999.0,9,  -999.0,-999.000,9,-999.000,-999.000,9, -999.00,9, -999.00,9,   70.10,-999.0000,9,-999.0000,9,-999.0000,9,-999.0000,9,-999.0000,9,-999.0000,9,  19.2355,     -999.0,9,     -999.0,9,     -999.0,9,     -999.0,9,        107,-999.000,-999.000,-999.000,     -999.0,9, -999.00,9, -999.00,9
33RO200306_02,       A16N,     107,          1,         29,         29,2,20030727,       2237,    12.4900,   -29.0002,       5627,    90.2,  15.1312,  35.5251,2,  35.5271,2,     94.6,2,    77.7,2,    6.96,2,   23.17,2,    0.07,2,    1.45,2,-999.000,9,-999.000,9,-999.000,9,  -999.0,9,  -999.0,9,   -999.0,9,  -999.00,-999.0000,9,  -999.00,-999.000,9,-999.000,9,-999.000,9, -999.00,9,  -999.0,9,  -999.0,-999.000,9,-999.000,-999.000,9, -999.00,9, -999.00,9,   90.20,-999.0000,9,-999.0000,9,-999.0000,9,-999.0000,9,-999.0000,9,-999.0000,9,  15.1174,     -999.0,9,     -999.0,9,     -999.0,9,     -999.0,9,        107,-999.000,-999.000,-999.000,     -999.0,9, -999.00,9, -999.00,9
33RO200306_02,       A16N,     107,          1,         28,         28,2,20030727,       2237,    12.4900,   -29.0002,       5627,   108.0,  14.0073,  35.4230,2,  35.4205,2,     77.1,2,    91.3,2,    7.93,2,   23.37,2,    0.03,2,    1.48,2,   1.702,2,   0.937,2,   0.030,2,  2192.1,2,  2324.6,2,   -999.0,9,  -999.00,   7.6703,2,    25.00,-999.000,9,-999.000,9,-999.000,9, -999.00,9,  -999.0,9,  -999.0,-999.000,9,-999.000,-999.000,9, -999.00,9, -999.00,9,  108.00,-999.0000,9,-999.0000,9,-999.0000,9,-999.0000,9,-999.0000,9,-999.0000,9,  13.9917,     -999.0,9,     -999.0,9,     -999.0,9,     -999.0,9,        107,-999.000,-999.000,-999.000,     -999.0,9, -999.00,9, -999.00,9
33RO200306_02,       A16N,     107,          1,         27,         27,2,20030727,       2237,    12.4900,   -29.0002,       5627,   133.9,  12.9924,  35.3339,2,  35.3324,2,     84.3,2,    81.2,2,    8.88,2,   25.41,2,    0.01,2,    1.61,2,-999.000,9,-999.000,9,-999.000,9,  -999.0,9,  -999.0,9,   -999.0,9,  -999.00,-999.0000,9,  -999.00,-999.000,9,-999.000,9,-999.000,9, -999.00,9,  -999.0,9,  -999.0,-999.000,9,-999.000,-999.000,9, -999.00,9, -999.00,9,  133.90,-999.0000,9,-999.0000,9,-999.0000,9,-999.0000,9,-999.0000,9,-999.0000,9,  12.9740,     -999.0,9,     -999.0,9,     -999.0,9,     -999.0,9,        107,-999.000,-999.000,-999.000,     -999.0,9, -999.00,9, -999.00,9
33RO200306_02,       A16N,     107,          1,         26,         26,2,20030727,       2237,    12.4900,   -29.0002,       5627,   156.4,  12.6327,  35.3166,2,  35.3172,2,     75.1,2,    79.9,2,    9.31,2,   25.95,2,    0.01,2,    1.64,2,-999.000,9,-999.000,9,-999.000,9,  -999.0,9,  -999.0,9,   -999.0,9,  -999.00,-999.0000,9,  -999.00,-999.000,9,-999.000,9,-999.000,9, -999.00,9,  -999.0,9,  -999.0,-999.000,9,-999.000,-999.000,9, -999.00,9, -999.00,9,  156.40,-999.0000,9,-999.0000,9,-999.0000,9,-999.0000,9,-999.0000,9,-999.0000,9,  12.6116,     -999.0,9,     -999.0,9,     -999.0,9,     -999.0,9,        107,-999.000,-999.000,-999.000,     -999.0,9, -999.00,9, -999.00,9
33RO200306_02,       A16N,     107,          1,         25,         25,2,20030727,       2237,    12.4900,   -29.0002,       5627,   184.2,  12.1048,  35.2480,2,  35.2456,2,     76.9,2,    80.6,2,   10.03,2,   26.70,2,    0.01,2,    1.69,2,   1.346,2,   0.734,2,   0.015,2,  2206.8,2,  2316.4,2,   -999.0,9,  -999.00,   7.6128,2,    25.00,-999.000,9,-999.000,9,-999.000,9, -999.00,9,  -999.0,9,  -999.0,-999.000,9,-999.000,-999.000,9, -999.00,9, -999.00,9,  184.20,-999.0000,9,-999.0000,9,-999.0000,9,-999.0000,9,-999.0000,9,-999.0000,9,  12.0806,     -999.0,9,     -999.0,9,     -999.0,9,     -999.0,9,        107,-999.000,-999.000,-999.000,     -999.0,9, -999.00,9, -999.00,9
33RO200306_02,       A16N,     107,          1,         24,         24,2,20030727,       2237,    12.4900,   -29.0002,       5627,   223.1,  11.7377,  35.2327,2,  35.2349,2,     75.8,2,    75.4,2,   10.66,2,   27.76,2,    0.01,2,    1.72,2,-999.000,9,-999.000,9,-999.000,9,  -999.0,9,  -999.0,9,   -999.0,9,  -999.00,-999.0000,9,  -999.00,-999.000,9,-999.000,9,-999.000,9, -999.00,9,  -999.0,9,  -999.0,-999.000,9,-999.000,-999.000,9, -999.00,9, -999.00,9,  223.10,-999.0000,9,-999.0000,9,-999.0000,9,-999.0000,9,-999.0000,9,-999.0000,9,  11.7089,     -999.0,9,     -999.0,9,     -999.0,9,     -999.0,9,        107,-999.000,-999.000,-999.000,     -999.0,9, -999.00,9, -999.00,9
33RO200306_02,       A16N,     107,          1,         23,         23,2,20030727,       2237,    12.4900,   -29.0002,       5627,   273.7,  11.4650,  35.2426,2,  35.2404,2,     73.3,2,    72.4,2,   11.11,2,   28.44,2,    0.01,2,    1.77,2,-999.000,9,-999.000,9,-999.000,9,  -999.0,9,  -999.0,9,   -999.0,9,  -999.00,-999.0000,9,  -999.00,-999.000,9,-999.000,9,-999.000,9, -999.00,9,  -999.0,9,  -999.0,-999.000,9,-999.000,-999.000,9, -999.00,9, -999.00,9,  273.70,-999.0000,9,-999.0000,9,-999.0000,9,-999.0000,9,-999.0000,9,-999.0000,9,  11.4301,     -999.0,9,     -999.0,9,     -999.0,9,     -999.0,9,        107,-999.000,-999.000,-999.000,     -999.0,9, -999.00,9, -999.00,9
33RO200306_02,       A16N,     107,          1,         22,         22,2,20030727,       2237,    12.4900,   -29.0002,       5627,   324.2,  11.0550,  35.2149,2,  35.2137,2,     63.5,2,    63.6,2,   11.98,2,   29.98,2,    0.01,2,    1.84,2,   0.878,2,   0.479,2,   0.009,2,  2223.9,2,  2314.5,2,   -999.0,9,  -999.00,   7.5657,2,    25.00,-999.000,9,-999.000,9,-999.000,9, -999.00,9,  -999.0,9,  -999.0,-999.000,9,-999.000,-999.000,9, -999.00,9, -999.00,9,  324.20,-999.0000,9,-999.0000,9,-999.0000,9,-999.0000,9,-999.0000,9,-999.0000,9,  11.0146,     -999.0,9,     -999.0,9,     -999.0,9,     -999.0,9,        107,-999.000,-999.000,-999.000,     -999.0,9, -999.00,9, -999.00,9
33RO200306_02,       A16N,     107,          1,         21,         21,2,20030727,       2237,    12.4900,   -29.0002,       5627,   374.5,  10.6812,  35.1952,2,  35.1953,2,     53.5,2,    50.7,2,   13.11,2,   32.13,2,    0.01,2,    1.95,2,-999.000,9,-999.000,9,-999.000,9,  -999.0,9,  -999.0,9,   -999.0,9,  -999.00,-999.0000,9,  -999.00,-999.000,9,-999.000,9,-999.000,9, -999.00,9,  -999.0,9,  -999.0,-999.000,9,-999.000,-999.000,9, -999.00,9, -999.00,9,  374.50,-999.0000,9,-999.0000,9,-999.0000,9,-999.0000,9,-999.0000,9,-999.0000,9,  10.6354,     -999.0,9,     -999.0,9,     -999.0,9,     -999.0,9,        107,-999.000,-999.000,-999.000,     -999.0,9, -999.00,9, -999.00,9
33RO200306_02,       A16N,     107,          1,         20,         20,2,20030727,       2237,    12.4900,   -29.0002,       5627,   423.7,  10.1516,  35.1353,2,  35.1342,2,     62.8,2,    64.4,2,   13.92,2,   32.01,2,    0.01,2,    1.96,2,-999.000,9,-999.000,9,-999.000,9,  -999.0,9,  -999.0,9,   -999.0,9,  -999.00,-999.0000,9,  -999.00,-999.000,9,-999.000,9,-999.000,9, -999.00,9,  -999.0,9,  -999.0,-999.000,9,-999.000,-999.000,9, -999.00,9, -999.00,9,  423.70,-999.0000,9,-999.0000,9,-999.0000,9,-999.0000,9,-999.0000,9,-999.0000,9,  10.1013,     -999.0,9,     -999.0,9,     -999.0,9,     -999.0,9,        107,-999.000,-999.000,-999.000,     -999.0,9, -999.00,9, -999.00,9
33RO200306_02,       A16N,     107,          1,         19,         19,2,20030727,       2237,    12.4900,   -29.0002,       5627,   474.1,   9.6458,  35.0935,2,  35.0888,2,     62.7,2,    62.9,2,   15.31,2,   33.08,2,    0.01,2,    2.02,2,   0.374,2,   0.209,2,   0.006,2,  2231.0,2,  2310.6,2,   -999.0,9,  -999.00,   7.5308,2,    25.00,-999.000,9,-999.000,9,-999.000,9, -999.00,9,  -999.0,9,  -999.0,-999.000,9,-999.000,-999.000,9, -999.00,9, -999.00,9,  474.10,-999.0000,9,-999.0000,9,-999.0000,9,-999.0000,9,-999.0000,9,-999.0000,9,   9.5912,     -999.0,9,     -999.0,9,     -999.0,9,     -999.0,9,        107,-999.000,-999.000,-999.000,     -999.0,9, -999.00,9, -999.00,9
33RO200306_02,       A16N,     107,          1,         18,         18,2,20030727,       2237,    12.4900,   -29.0002,       5627,   550.0,   8.9459,  35.0271,2,  35.0241,2,     70.2,2,    68.4,2,   17.05,2,   33.80,2,    0.01,2,    2.11,2,-999.000,9,-999.000,9,-999.000,9,  -999.0,9,  -999.0,9,   -999.0,9,  -999.00,-999.0000,9,  -999.00,-999.000,9,-999.000,9,-999.000,9, -999.00,9,  -999.0,9,  -999.0,-999.000,9,-999.000,-999.000,9, -999.00,9, -999.00,9,  550.00,-999.0000,9,-999.0000,9,-999.0000,9,-999.0000,9,-999.0000,9,-999.0000,9,   8.8851,     -999.0,9,     -999.0,9,     -999.0,9,     -999.0,9,        107,-999.000,-999.000,-999.000,     -999.0,9, -999.00,9, -999.00,9
33RO200306_02,       A16N,     107,          1,         17,         17,2,20030727,       2237,    12.4900,   -29.0002,       5627,   643.2,   8.0194,  34.9641,2,  34.9610,2,     68.3,2,    69.3,2,   19.84,2,   35.25,2,    0.00,2,    2.23,2,-999.000,9,-999.000,9,-999.000,9,  -999.0,9,  -999.0,9,   -999.0,9,  -999.00,-999.0000,9,  -999.00,-999.000,9,-999.000,9,-999.000,9, -999.00,9,  -999.0,9,  -999.0,-999.000,9,-999.000,-999.000,9, -999.00,9, -999.00,9,  643.20,-999.0000,9,-999.0000,9,-999.0000,9,-999.0000,9,-999.0000,9,-999.0000,9,   7.9524,     -999.0,9,     -999.0,9,     -999.0,9,     -999.0,9,        107,-999.000,-999.000,-999.000,     -999.0,9, -999.00,9, -999.00,9
33RO200306_02,       A16N,     107,          1,         16,         16,2,20030727,       2237,    12.4900,   -29.0002,       5627,   748.9,   7.2297,  34.8968,2,  34.8941,2,     82.4,2,    83.1,2,   21.97,2,   35.12,2,    0.01,2,    2.26,2,-999.000,9,-999.000,9,-999.000,9,  -999.0,9,  -999.0,9,   -999.0,9,  -999.00,-999.0000,9,  -999.00,-999.000,9,-999.000,9,-999.000,9, -999.00,9,  -999.0,9,  -999.0,-999.000,9,-999.000,-999.000,9, -999.00,9, -999.00,9,  748.90,-999.0000,9,-999.0000,9,-999.0000,9,-999.0000,9,-999.0000,9,-999.0000,9,   7.1556,     -999.0,9,     -999.0,9,     -999.0,9,     -999.0,9,        107,-999.000,-999.000,-999.000,     -999.0,9, -999.00,9, -999.00,9
33RO200306_02,       A16N,     107,          1,         15,         15,2,20030727,       2237,    12.4900,   -29.0002,       5627,   850.0,   6.3461,  34.8404,2,  34.8390,2,    102.1,2,   101.9,2,   24.14,2,   34.31,2,    0.00,2,    2.25,2,-999.000,9,-999.000,9,-999.000,9,  -999.0,9,  -999.0,9,   -999.0,9,  -999.00,-999.0000,9,  -999.00,-999.000,9,-999.000,9,-999.000,9, -999.00,9,  -999.0,9,  -999.0,-999.000,9,-999.000,-999.000,9, -999.00,9, -999.00,9,  850.00,-999.0000,9,-999.0000,9,-999.0000,9,-999.0000,9,-999.0000,9,-999.0000,9,   6.2671,     -999.0,9,     -999.0,9,     -999.0,9,     -999.0,9,        107,-999.000,-999.000,-999.000,     -999.0,9, -999.00,9, -999.00,9
33RO200306_02,       A16N,     107,          1,         14,         14,2,20030727,       2237,    12.4900,   -29.0002,       5627,   949.9,   5.8841,  34.8489,2,  34.8496,2,    117.5,2,   118.8,2,   24.75,2,   32.78,2,    0.00,2,    2.17,2,-999.000,9,-999.000,9,-999.000,9,  -999.0,9,  -999.0,9,   -999.0,9,  -999.00,-999.0000,9,  -999.00,-999.000,9,-999.000,9,-999.000,9, -999.00,9,  -999.0,9,  -999.0,-999.000,9,-999.000,-999.000,9, -999.00,9, -999.00,9,  949.90,-999.0000,9,-999.0000,9,-999.0000,9,-999.0000,9,-999.0000,9,-999.0000,9,   5.7984,     -999.0,9,     -999.0,9,     -999.0,9,     -999.0,9,        107,-999.000,-999.000,-999.000,     -999.0,9, -999.00,9, -999.00,9
33RO200306_02,       A16N,     107,          1,         13,         13,2,20030727,       2237,    12.4900,   -29.0002,       5627,  1050.9,   5.4368,  34.8570,2,  34.8557,2,    136.9,2,   136.4,2,   24.85,2,   31.18,2,    0.00,2,    2.09,2,-999.000,9,-999.000,9,-999.000,9,  -999.0,9,  -999.0,9,   -999.0,9,  -999.00,-999.0000,9,  -999.00,-999.000,9,-999.000,9,-999.000,9, -999.00,9,  -999.0,9,  -999.0,-999.000,9,-999.000,-999.000,9, -999.00,9, -999.00,9, 1050.90,-999.0000,9,-999.0000,9,-999.0000,9,-999.0000,9,-999.0000,9,-999.0000,9,   5.3448,     -999.0,9,     -999.0,9,     -999.0,9,     -999.0,9,        107,-999.000,-999.000,-999.000,     -999.0,9, -999.00,9, -999.00,9
33RO200306_02,       A16N,     107,          1,         12,         12,2,20030727,       2237,    12.4900,   -29.0002,       5627,  1151.2,   5.1490,  34.9032,2,  34.9023,2,    153.8,2,   159.3,2,   23.65,2,   28.70,2,    0.00,2,    1.93,2,-999.000,9,-999.000,9,-999.000,9,  -999.0,9,  -999.0,9,   -999.0,9,  -999.00,-999.0000,9,  -999.00,-999.000,9,-999.000,9,-999.000,9, -999.00,9,  -999.0,9,  -999.0,-999.000,9,-999.000,-999.000,9, -999.00,9, -999.00,9, 1151.20,-999.0000,9,-999.0000,9,-999.0000,9,-999.0000,9,-999.0000,9,-999.0000,9,   5.0498,     -999.0,9,     -999.0,9,     -999.0,9,     -999.0,9,        107,-999.000,-999.000,-999.000,     -999.0,9, -999.00,9, -999.00,9
33RO200306_02,       A16N,     107,          1,         11,         11,2,20030727,       2237,    12.4900,   -29.0002,       5627,  1299.4,   4.7737,  34.9616,2,  34.9609,2,    180.0,2,   182.6,2,   22.00,2,   25.82,2,    0.01,2,    1.74,2,-999.000,9,-999.000,9,-999.000,9,  -999.0,9,  -999.0,9,   -999.0,9,  -999.00,-999.0000,9,  -999.00,-999.000,9,-999.000,9,-999.000,9, -999.00,9,  -999.0,9,  -999.0,-999.000,9,-999.000,-999.000,9, -999.00,9, -999.00,9, 1299.40,-999.0000,9,-999.0000,9,-999.0000,9,-999.0000,9,-999.0000,9,-999.0000,9,   4.6639,     -999.0,9,     -999.0,9,     -999.0,9,     -999.0,9,        107,-999.000,-999.000,-999.000,     -999.0,9, -999.00,9, -999.00,9
33RO200306_02,       A16N,     107,          1,         10,         10,2,20030727,       2237,    12.4900,   -29.0002,       5627,  1500.8,   4.2593,  34.9763,2,  34.9761,2,    215.0,2,   215.9,2,   19.80,2,   22.59,2,    0.00,2,    1.53,2,   0.016,2,   0.010,2,   0.002,2,  -999.0,9,  -999.0,9,   -999.0,9,  -999.00,-999.0000,9,  -999.00,-999.000,9,-999.000,9,-999.000,9, -999.00,9,  -999.0,9,  -999.0,-999.000,9,-999.000,-999.000,9, -999.00,9, -999.00,9, 1500.80,-999.0000,9,-999.0000,9,-999.0000,9,-999.0000,9,-999.0000,9,-999.0000,9,   4.1361,     -999.0,9,     -999.0,9,     -999.0,9,     -999.0,9,        107,-999.000,-999.000,-999.000,     -999.0,9, -999.00,9, -999.00,9
33RO200306_02,       A16N,     107,          1,          9,          9,2,20030727,       2237,    12.4900,   -29.0002,       5627,  1699.2,   3.8989,  34.9761,2,  34.9757,2,    231.9,2,   231.6,2,   19.65,2,   21.24,2,    0.00,2,    1.44,2,-999.000,9,-999.000,9,-999.000,9,  -999.0,9,  -999.0,9,   -999.0,9,  -999.00,-999.0000,9,  -999.00,-999.000,9,-999.000,9,-999.000,9, -999.00,9,  -999.0,9,  -999.0,-999.000,9,-999.000,-999.000,9, -999.00,9, -999.00,9, 1699.20,-999.0000,9,-999.0000,9,-999.0000,9,-999.0000,9,-999.0000,9,-999.0000,9,   3.7615,     -999.0,9,     -999.0,9,     -999.0,9,     -999.0,9,        107,-999.000,-999.000,-999.000,     -999.0,9, -999.00,9, -999.00,9
33RO200306_02,       A16N,     107,          1,          8,          8,2,20030727,       2237,    12.4900,   -29.0002,       5627,  1899.3,   3.6010,  34.9707,2,  34.9703,2,    240.8,2,   238.4,2,   21.20,2,   20.73,2,    0.00,2,    1.41,2,-999.000,9,-999.000,9,-999.000,9,  -999.0,9,  -999.0,9,   -999.0,9,  -999.00,-999.0000,9,  -999.00,-999.000,9,-999.000,9,-999.000,9, -999.00,9,  -999.0,9,  -999.0,-999.000,9,-999.000,-999.000,9, -999.00,9, -999.00,9, 1899.30,-999.0000,9,-999.0000,9,-999.0000,9,-999.0000,9,-999.0000,9,-999.0000,9,   3.4489,     -999.0,9,     -999.0,9,     -999.0,9,     -999.0,9,        107,-999.000,-999.000,-999.000,     -999.0,9, -999.00,9, -999.00,9