BOTTLE,20230908CCHSIOCBG
EXPOCODE,SECT_ID,STNNBR,CASTNO,SAMPNO,BTLNBR,BTLNBR_FLAG_W,DATE,TIME,LATITUDE,LONGITUDE,DEPTH,CTDPRS,CTDTMP,CTDSAL,CTDSAL_FLAG_W,SALNTY,SALNTY_FLAG_W,CTDOXY,CTDOXY_FLAG_W,OXYGEN,OXYGEN_FLAG_W,SILCAT,SILCAT_FLAG_W,NITRAT,NITRAT_FLAG_W,NITRIT,NITRIT_FLAG_W,PHSPHT,PHSPHT_FLAG_W,CFC-11,CFC-11_FLAG_W,CFC-12,CFC-12_FLAG_W,CFC113,CFC113_FLAG_W,TCARBN,TCARBN_FLAG_W,ALKALI,ALKALI_FLAG_W,FCO2,FCO2_FLAG_W,FCO2TMP,PH_SWS,PH_SWS_FLAG_W,PH_TMP,TRITUM,TRITUM_FLAG_W,HELIUM,HELIUM_FLAG_W,DELHE3,DELHE3_FLAG_W,DELC13,DELC13_FLAG_W,DELC14,DELC14_FLAG_W,C14ERR,NEON,NEON_FLAG_W,NEONER,POC,POC_FLAG_W,DOC,DOC_FLAG_W,TDN,TDN_FLAG_W,CTDRAW,CDOM325,CDOM325_FLAG_W,CDOM340,CDOM340_FLAG_W,CDOM380,CDOM380_FLAG_W,CDOM412,CDOM412_FLAG_W,CDOMSL,CDOMSL_FLAG_W,CDOMSN,CDOMSN_FLAG_W,THETA,PON,PON_FLAG_W,HCFC-22,HCFC-22_FLAG_W,HCFC-142b,HCFC-142b_FLAG_W,HCFC-141b,HCFC-141b_FLAG_W,STNNBR_U,HELIER,DELHER,TRITER,CH3CL,CH3CL_FLAG_W,CH3BR,CH3BR_FLAG_W,CH3I,CH3I_FLAG_W
,,,,,,,,,,,METERS,DBAR,ITS-90,PSS-78,,PSS-78,,UMOL/KG,,UMOL/KG,,UMOL/KG,,UMOL/KG,,UMOL/KG,,UMOL/KG,,PMOL/KG,,PMOL/KG,,PMOL/KG,,UMOL/KG,,UMOL/KG,,UATM,,DEG C,,,DEG C,TU,,NMOL/KG,,PERCNT,,/MILLE,,/MILLE,,/MILLE,NMOL/KG,,NMOL/KG,UG/KG,,UMOL/KG,,UMOL/KG,,DBAR,1/M,,1/M,,1/M,,1/M,,1/NM,,1/NM,,DEG C,UMOL/L,,PMOL/KG,,PMOL/KG,,PMOL/KG,,,NMOL/KG,PERCNT,TU,PMOL/KG,,PMOL/KG,,PMOL/KG,
33RO200306_01,       A16N,     046,          1,          7,          7,2,20030701,       0851,    42.4987,   -19.9987,       4150,  2001.2,   3.4592,  34.9229,2,  34.9223,2,    273.9,2,   275.1,2,   12.71,2,   17.42,2,    0.00,2,    1.13,2,   2.133,2,   1.051,2,   0.113,2,  -999.0,9,  -999.0,9,   -999.0,9,  -999.00,-999.0000,9,  -999.00,-999.000,9,-999.000,9,-999.000,9, -999.00,9,  -999.0,9,  -999.0,-999.000,9,-999.000,-999.000,9, -999.00,9, -999.00,9, 2001.20,-999.0000,9,-999.0000,9,-999.0000,9,-999.0000,9,-999.0000,9,-999.0000,9,   3.2997,     -999.0,9,       1.49,2,       0.00,2,       0.11,2,         46,-999.000,-999.000,-999.000,      11.26,2,    1.39,2,    0.21,2
33RO200306_01,       A16N,     046,          1,          6,          6,2,20030701,       0851,    42.4987,   -19.9987,       4150,  2502.2,   3.1237,  34.9424,2,  34.9425,2,    266.4,2,   267.6,2,   18.28,2,   17.77,2,    0.00,2,    1.17,2,-999.000,9,-999.000,9,-999.000,9,  -999.0,9,  -999.0,9,   -999.0,9,  -999.00,-999.0000,9,  -999.00,-999.000,9,-999.000,9,-999.000,9, -999.00,9,  -999.0,9,  -999.0,-999.000,9,-999.000,-999.000,9, -999.00,9, -999.00,9, 2502.20,-999.0000,9,-999.0000,9,-999.0000,9,-999.0000,9,-999.0000,9,-999.0000,9,   2.9213,     -999.0,9,     -999.0,9,     -999.0,9,     -999.0,9,         46,-999.000,-999.000,-999.000,     -999.0,9, -999.00,9, -999.00,9
33RO200306_01,       A16N,     046,          1,          5,          5,2,20030701,       0851,    42.4987,   -19.9987,       4150,  3001.6,   2.8249,  34.9412,2,  34.9418,2,    255.7,2,   256.0,2,   27.65,2,   19.16,2,    0.00,2,    1.27,2,   0.736,2,   0.372,2,   0.030,2,  -999.0,9,  -999.0,9,   -999.0,9,  -999.00,-999.0000,9,  -999.00,-999.000,9,-999.000,9,-999.000,9, -999.00,9,  -999.0,9,  -999.0,-999.000,9,-999.000,-999.000,9, -999.00,9, -999.00,9, 3001.60,-999.0000,9,-999.0000,9,-999.0000,9,-999.0000,9,-999.0000,9,-999.0000,9,   2.5777,     -999.0,9,       0.14,2,       0.00,2,       0.20,2,         46,-999.000,-999.000,-999.000,       1.15,2,    0.13,2,     0.0,2
33RO200306_01,       A16N,     046,          1,          4,          4,2,20030701,       0851,    42.4987,   -19.9987,       4150,  3499.7,   2.6366,  34.9254,2,  34.9244,2,    246.9,2,   247.0,2,   37.03,6,   20.85,6,    0.00,6,    1.39,6,-999.000,9,-999.000,9,-999.000,9,  -999.0,9,  -999.0,9,   -999.0,9,  -999.00,-999.0000,9,  -999.00,-999.000,9,-999.000,9,-999.000,9, -999.00,9,  -999.0,9,  -999.0,-999.000,9,-999.000,-999.000,9, -999.00,9, -999.00,9, 3499.70,-999.0000,9,-999.0000,9,-999.0000,9,-999.0000,9,-999.0000,9,-999.0000,9,   2.3408,     -999.0,9,     -999.0,9,     -999.0,9,     -999.0,9,         46,-999.000,-999.000,-999.000,     -999.0,9, -999.00,9, -999.00,9
33RO200306_01,       A16N,     046,          1,          3,          3,2,20030701,       0851,    42.4987,   -19.9987,       4150,  3800.3,   2.6048,  34.9195,2,  34.9195,2,    243.8,2,   243.7,2,   39.85,6,   21.36,6,    0.00,6,    1.43,6,   0.199,2,   0.102,2,   0.014,2,  -999.0,9,  -999.0,9,   -999.0,9,  -999.00,-999.0000,9,  -999.00,-999.000,9,-999.000,9,-999.000,9, -999.00,9,  -999.0,9,  -999.0,-999.000,9,-999.000,   5.936,2, -999.00,9, -999.00,9, 3800.30,-999.0000,9,-999.0000,9,-999.0000,9,-999.0000,9,-999.0000,9,-999.0000,9,   2.2764,      0.801,2,       0.00,2,       0.00,2,       0.83,2,         46,-999.000,-999.000,-999.000,        0.0,2,    0.29,2,     0.0,2
33RO200306_01,       A16N,     046,          1,          2,          2,2,20030701,       0851,    42.4987,   -19.9987,       4150,  4100.6,   2.6034,  34.9160,2,  34.9162,2,    242.6,2,   241.9,2,   41.33,6,   21.64,6,    0.00,6,    1.45,6,-999.000,9,-999.000,9,-999.000,9,  -999.0,9,  -999.0,9,   -999.0,9,  -999.00,-999.0000,9,  -999.00,-999.000,9,-999.000,9,-999.000,9, -999.00,9,  -999.0,9,  -999.0,-999.000,9,-999.000,-999.000,9, -999.00,9, -999.00,9, 4100.60,-999.0000,9,-999.0000,9,-999.0000,9,-999.0000,9,-999.0000,9,-999.0000,9,   2.2405,     -999.0,9,     -999.0,9,     -999.0,9,     -999.0,9,         46,-999.000,-999.000,-999.000,     -999.0,9, -999.00,9, -999.00,9
33RO200306_01,       A16N,     046,          1,          1,          1,2,20030701,       0851,    42.4987,   -19.9987,       4150,  4246.5,   2.6007,  34.9139,2,  34.9140,2,    242.5,2,   242.0,2,   41.97,6,   21.77,6,    0.00,6,    1.46,6,   0.115,2,   0.060,2,   0.011,2,  -999.0,9,  -999.0,9,   -999.0,9,  -999.00,-999.0000,9,  -999.00,-999.000,9,-999.000,9,-999.000,9, -999.00,9,  -999.0,9,  -999.0,-999.000,9,-999.000,-999.000,9, -999.00,9, -999.00,9, 4246.50,-999.0000,9,-999.0000,9,-999.0000,9,-999.0000,9,-999.0000,9,-999.0000,9,   2.2207,     -999.0,9,       0.00,2,       0.00,2,       0.20,2,         46,-999.000,-999.000,-999.000,       6.23,2,    0.26,2,    0.62,2