BOTTLE,20230908CCHSIOCBG
EXPOCODE,SECT_ID,STNNBR,CASTNO,SAMPNO,BTLNBR,BTLNBR_FLAG_W,DATE,TIME,LATITUDE,LONGITUDE,DEPTH,CTDPRS,CTDTMP,CTDSAL,CTDSAL_FLAG_W,SALNTY,SALNTY_FLAG_W,CTDOXY,CTDOXY_FLAG_W,OXYGEN,OXYGEN_FLAG_W,SILCAT,SILCAT_FLAG_W,NITRAT,NITRAT_FLAG_W,NITRIT,NITRIT_FLAG_W,PHSPHT,PHSPHT_FLAG_W,CFC-11,CFC-11_FLAG_W,CFC-12,CFC-12_FLAG_W,CFC113,CFC113_FLAG_W,TCARBN,TCARBN_FLAG_W,ALKALI,ALKALI_FLAG_W,FCO2,FCO2_FLAG_W,FCO2TMP,PH_SWS,PH_SWS_FLAG_W,PH_TMP,TRITUM,TRITUM_FLAG_W,HELIUM,HELIUM_FLAG_W,DELHE3,DELHE3_FLAG_W,DELC13,DELC13_FLAG_W,DELC14,DELC14_FLAG_W,C14ERR,NEON,NEON_FLAG_W,NEONER,POC,POC_FLAG_W,DOC,DOC_FLAG_W,TDN,TDN_FLAG_W,CTDRAW,CDOM325,CDOM325_FLAG_W,CDOM340,CDOM340_FLAG_W,CDOM380,CDOM380_FLAG_W,CDOM412,CDOM412_FLAG_W,CDOMSL,CDOMSL_FLAG_W,CDOMSN,CDOMSN_FLAG_W,THETA,PON,PON_FLAG_W,HCFC-22,HCFC-22_FLAG_W,HCFC-142b,HCFC-142b_FLAG_W,HCFC-141b,HCFC-141b_FLAG_W,STNNBR_U,HELIER,DELHER,TRITER,CH3CL,CH3CL_FLAG_W,CH3BR,CH3BR_FLAG_W,CH3I,CH3I_FLAG_W
,,,,,,,,,,,METERS,DBAR,ITS-90,PSS-78,,PSS-78,,UMOL/KG,,UMOL/KG,,UMOL/KG,,UMOL/KG,,UMOL/KG,,UMOL/KG,,PMOL/KG,,PMOL/KG,,PMOL/KG,,UMOL/KG,,UMOL/KG,,UATM,,DEG C,,,DEG C,TU,,NMOL/KG,,PERCNT,,/MILLE,,/MILLE,,/MILLE,NMOL/KG,,NMOL/KG,UG/KG,,UMOL/KG,,UMOL/KG,,DBAR,1/M,,1/M,,1/M,,1/M,,1/NM,,1/NM,,DEG C,UMOL/L,,PMOL/KG,,PMOL/KG,,PMOL/KG,,,NMOL/KG,PERCNT,TU,PMOL/KG,,PMOL/KG,,PMOL/KG,
33RO200306_01,       A16N,     040,          1,         24,         24,2,20030629,       1742,    45.5012,   -20.0002,       4546,     9.1,  15.9539,  35.8276,2,  35.8251,2,    250.6,2,   250.2,2, -999.00,9, -999.00,9, -999.00,9, -999.00,9,-999.000,9,-999.000,9,-999.000,9,  2074.7,2,  2351.5,2,   -999.0,9,  -999.00,-999.0000,9,  -999.00,-999.000,9,-999.000,9,-999.000,9, -999.00,9,  -999.0,9,  -999.0,-999.000,9,-999.000,-999.000,9, -999.00,9, -999.00,9,    9.10,-999.0000,9,-999.0000,9,-999.0000,9,-999.0000,9,-999.0000,9,-999.0000,9,  15.9525,     -999.0,9,       6.34,2,       0.05,2,       0.74,2,         40,-999.000,-999.000,-999.000,      91.85,2,    3.58,2,   15.86,2
33RO200306_01,       A16N,     040,          1,         23,         23,2,20030629,       1742,    45.5012,   -20.0002,       4546,    29.7,  15.9541,  35.8280,2,  35.8260,2,    251.1,2,   249.8,2, -999.00,9, -999.00,9, -999.00,9, -999.00,9,-999.000,9,-999.000,9,-999.000,9,  -999.0,9,  -999.0,9,   -999.0,9,  -999.00,-999.0000,9,  -999.00,-999.000,9,-999.000,9,-999.000,9, -999.00,9,  -999.0,9,  -999.0,-999.000,9,-999.000,   8.651,2, -999.00,9, -999.00,9,   29.70,-999.0000,9,-999.0000,9,-999.0000,9,-999.0000,9,-999.0000,9,-999.0000,9,  15.9494,      1.111,2,       8.06,2,       0.11,2,       0.87,2,         40,-999.000,-999.000,-999.000,      74.52,2,    2.44,2,    18.0,2
33RO200306_01,       A16N,     040,          1,         22,         22,2,20030629,       1742,    45.5012,   -20.0002,       4546,    50.4,  13.4483,  35.8108,2,  35.8089,2,    247.1,2,   246.5,2, -999.00,9, -999.00,9, -999.00,9, -999.00,9,-999.000,9,-999.000,9,-999.000,9,  -999.0,9,  -999.0,9,   -999.0,9,  -999.00,-999.0000,9,  -999.00,-999.000,9,-999.000,9,-999.000,9, -999.00,9,  -999.0,9,  -999.0,-999.000,9,-999.000,   4.657,2, -999.00,9, -999.00,9,   50.40,-999.0000,9,-999.0000,9,-999.0000,9,-999.0000,9,-999.0000,9,-999.0000,9,  13.4412,      0.546,2,       7.57,2,       0.12,2,       0.76,2,         40,-999.000,-999.000,-999.000,      63.28,2,    1.34,2,    8.55,2
33RO200306_01,       A16N,     040,          1,         21,         21,2,20030629,       1742,    45.5012,   -20.0002,       4546,    96.4,  13.0799,  35.8041,2,  35.8026,2,    243.6,2,   244.4,2, -999.00,9, -999.00,9, -999.00,9, -999.00,9,-999.000,9,-999.000,9,-999.000,9,  -999.0,9,  -999.0,9,   -999.0,9,  -999.00,-999.0000,9,  -999.00,-999.000,9,-999.000,9,-999.000,9, -999.00,9,  -999.0,9,  -999.0,-999.000,9,-999.000,   1.474,2, -999.00,9, -999.00,9,   96.40,-999.0000,9,-999.0000,9,-999.0000,9,-999.0000,9,-999.0000,9,-999.0000,9,  13.0665,      0.127,2,       0.00,2,       0.12,2,       0.96,2,         40,-999.000,-999.000,-999.000,      65.06,2,    0.73,2,    2.91,2
33RO200306_01,       A16N,     040,          1,         20,         20,2,20030629,       1742,    45.5012,   -20.0002,       4546,   147.2,  12.8697,  35.7789,2,  35.7767,2,    244.8,2,   230.9,2, -999.00,9, -999.00,9, -999.00,9, -999.00,9,-999.000,9,-999.000,9,-999.000,9,  -999.0,9,  -999.0,9,   -999.0,9,  -999.00,-999.0000,9,  -999.00,-999.000,9,-999.000,9,-999.000,9, -999.00,9,  -999.0,9,  -999.0,-999.000,9,-999.000,   1.305,2, -999.00,9, -999.00,9,  147.20,-999.0000,9,-999.0000,9,-999.0000,9,-999.0000,9,-999.0000,9,-999.0000,9,  12.8495,      0.080,2,       0.00,2,       0.42,2,       1.49,2,         40,-999.000,-999.000,-999.000,      60.12,2,    4.29,2,    2.04,2
33RO200306_01,       A16N,     040,          1,         19,         19,2,20030629,       1742,    45.5012,   -20.0002,       4546,   201.5,  12.8635,  35.7857,2,  35.7825,2,    245.1,2,   245.0,2, -999.00,9, -999.00,9, -999.00,9, -999.00,9,-999.000,9,-999.000,9,-999.000,9,  -999.0,9,  -999.0,9,   -999.0,9,  -999.00,-999.0000,9,  -999.00,-999.000,9,-999.000,9,-999.000,9, -999.00,9,  -999.0,9,  -999.0,-999.000,9,-999.000,-999.000,9, -999.00,9, -999.00,9,  201.50,-999.0000,9,-999.0000,9,-999.0000,9,-999.0000,9,-999.0000,9,-999.0000,9,  12.8358,     -999.0,9,       0.00,2,       0.44,2,       0.77,2,         40,-999.000,-999.000,-999.000,      63.11,2,    2.51,2,    2.06,2
33RO200306_01,       A16N,     040,          1,         18,         18,2,20030629,       1742,    45.5012,   -20.0002,       4546,   287.6,  12.6650,  35.7479,2,  35.7467,2,    244.4,2,   246.9,2, -999.00,9, -999.00,9, -999.00,9, -999.00,9,-999.000,9,-999.000,9,-999.000,9,  -999.0,9,  -999.0,9,   -999.0,9,  -999.00,-999.0000,9,  -999.00,-999.000,9,-999.000,9,-999.000,9, -999.00,9,  -999.0,9,  -999.0,-999.000,9,-999.000,   1.509,2, -999.00,9, -999.00,9,  287.60,-999.0000,9,-999.0000,9,-999.0000,9,-999.0000,9,-999.0000,9,-999.0000,9,  12.6257,      0.108,2,     -999.0,9,     -999.0,9,     -999.0,9,         40,-999.000,-999.000,-999.000,     -999.0,9, -999.00,9, -999.00,9
33RO200306_01,       A16N,     040,          1,         17,         17,2,20030629,       1742,    45.5012,   -20.0002,       4546,   395.4,  12.2188,  35.6637,2,  35.6616,2,    238.6,2,   244.5,2, -999.00,9, -999.00,9, -999.00,9, -999.00,9,-999.000,9,-999.000,9,-999.000,9,  -999.0,9,  -999.0,9,   -999.0,9,  -999.00,-999.0000,9,  -999.00,-999.000,9,-999.000,9,-999.000,9, -999.00,9,  -999.0,9,  -999.0,-999.000,9,-999.000,-999.000,9, -999.00,9, -999.00,9,  395.40,-999.0000,9,-999.0000,9,-999.0000,9,-999.0000,9,-999.0000,9,-999.0000,9,  12.1658,     -999.0,9,       0.00,2,       0.67,2,       0.82,2,         40,-999.000,-999.000,-999.000,      37.71,2,    0.56,2,    1.09,2
33RO200306_01,       A16N,     040,          1,         16,         16,2,20030629,       1742,    45.5012,   -20.0002,       4546,   500.2,  11.6472,  35.5775,2,  35.5769,2,    229.4,2,   240.1,2, -999.00,9, -999.00,9, -999.00,9, -999.00,9,-999.000,9,-999.000,9,-999.000,9,  -999.0,9,  -999.0,9,   -999.0,9,  -999.00,-999.0000,9,  -999.00,-999.000,9,-999.000,9,-999.000,9, -999.00,9,  -999.0,9,  -999.0,-999.000,9,-999.000,   1.378,2, -999.00,9, -999.00,9,  500.20,-999.0000,9,-999.0000,9,-999.0000,9,-999.0000,9,-999.0000,9,-999.0000,9,  11.5820,      0.129,2,       0.00,2,       0.40,2,       0.79,2,         40,-999.000,-999.000,-999.000,      22.47,2,    0.46,2,    0.55,2
33RO200306_01,       A16N,     040,          1,         15,         15,2,20030629,       1742,    45.5012,   -20.0002,       4546,   574.6,  11.1765,  35.5060,2,  35.5041,2,    219.8,2,   223.3,2, -999.00,9, -999.00,9, -999.00,9, -999.00,9,-999.000,9,-999.000,9,-999.000,9,  -999.0,9,  -999.0,9,   -999.0,9,  -999.00,-999.0000,9,  -999.00,-999.000,9,-999.000,9,-999.000,9, -999.00,9,  -999.0,9,  -999.0,-999.000,9,-999.000,-999.000,9, -999.00,9, -999.00,9,  574.60,-999.0000,9,-999.0000,9,-999.0000,9,-999.0000,9,-999.0000,9,-999.0000,9,  11.1033,     -999.0,9,       0.00,2,       0.29,2,       0.74,2,         40,-999.000,-999.000,-999.000,      26.28,2,    0.19,2,    0.39,2
33RO200306_01,       A16N,     040,          1,         14,         14,2,20030629,       1742,    45.5012,   -20.0002,       4546,   701.5,  10.3849,  35.4564,2,  35.4541,2,    199.6,2,   196.3,2, -999.00,9, -999.00,9, -999.00,9, -999.00,9,-999.000,9,-999.000,9,-999.000,9,  -999.0,9,  -999.0,9,   -999.0,9,  -999.00,-999.0000,9,  -999.00,-999.000,9,-999.000,9,-999.000,9, -999.00,9,  -999.0,9,  -999.0,-999.000,9,-999.000,-999.000,9, -999.00,9, -999.00,9,  701.50,-999.0000,9,-999.0000,9,-999.0000,9,-999.0000,9,-999.0000,9,-999.0000,9,  10.2990,     -999.0,9,       0.00,2,       0.00,2,       0.51,2,         40,-999.000,-999.000,-999.000,      43.52,2,    0.43,2,    0.26,2
33RO200306_01,       A16N,     040,          1,         13,         13,2,20030629,       1742,    45.5012,   -20.0002,       4546,   769.1,   9.6267,  35.3738,2,  35.3711,2,    192.7,2,   190.3,2, -999.00,9, -999.00,9, -999.00,9, -999.00,9,   2.242,2,   1.213,2,   0.083,2,  -999.0,9,  -999.0,9,   -999.0,9,  -999.00,-999.0000,9,  -999.00,-999.000,9,-999.000,9,-999.000,9, -999.00,9,  -999.0,9,  -999.0,-999.000,9,-999.000,-999.000,9, -999.00,9, -999.00,9,  769.10,-999.0000,9,-999.0000,9,-999.0000,9,-999.0000,9,-999.0000,9,-999.0000,9,   9.5365,     -999.0,9,       0.00,2,       0.00,2,       0.83,2,         40,-999.000,-999.000,-999.000,      24.39,2,    0.59,2,    0.26,2
33RO200306_01,       A16N,     040,          1,         12,         12,2,20030629,       1742,    45.5012,   -20.0002,       4546,   893.6,   9.2542,  35.4762,2,  35.4656,2,    188.2,2,   187.4,2, -999.00,9, -999.00,9, -999.00,9, -999.00,9,   1.926,2,   1.025,2,   0.066,2,  -999.0,9,  -999.0,9,   -999.0,9,  -999.00,-999.0000,9,  -999.00,-999.000,9,-999.000,9,-999.000,9, -999.00,9,  -999.0,9,  -999.0,-999.000,9,-999.000,-999.000,9, -999.00,9, -999.00,9,  893.60,-999.0000,9,-999.0000,9,-999.0000,9,-999.0000,9,-999.0000,9,-999.0000,9,   9.1510,     -999.0,9,       0.00,2,       0.00,2,       0.32,2,         40,-999.000,-999.000,-999.000,      20.18,2,    0.16,2,    0.14,2
33RO200306_01,       A16N,     040,          1,         11,         11,2,20030629,       1742,    45.5012,   -20.0002,       4546,   998.1,   8.3360,  35.4184,2,  35.4170,2,    194.5,2,   193.8,2, -999.00,9, -999.00,9, -999.00,9, -999.00,9,   1.861,2,   0.977,2,   0.069,2,  -999.0,9,  -999.0,9,   -999.0,9,  -999.00,-999.0000,9,  -999.00,-999.000,9,-999.000,9,-999.000,9, -999.00,9,  -999.0,9,  -999.0,-999.000,9,-999.000,-999.000,9, -999.00,9, -999.00,9,  998.10,-999.0000,9,-999.0000,9,-999.0000,9,-999.0000,9,-999.0000,9,-999.0000,9,   8.2268,     -999.0,9,       0.00,2,       0.00,2,       0.22,2,         40,-999.000,-999.000,-999.000,      15.65,2,    0.32,2,    0.08,2
33RO200306_01,       A16N,     040,          1,         10,         10,2,20030629,       1742,    45.5012,   -20.0002,       4546,  1248.3,   6.4928,  35.2792,2,  35.2781,2,    217.6,2,   220.5,2, -999.00,9, -999.00,9, -999.00,9, -999.00,9,   1.981,2,   1.020,2,   0.089,2,  -999.0,9,  -999.0,9,   -999.0,9,  -999.00,-999.0000,9,  -999.00,-999.000,9,-999.000,9,-999.000,9, -999.00,9,  -999.0,9,  -999.0,-999.000,9,-999.000,-999.000,9, -999.00,9, -999.00,9, 1248.30,-999.0000,9,-999.0000,9,-999.0000,9,-999.0000,9,-999.0000,9,-999.0000,9,   6.3712,     -999.0,9,     -999.0,9,     -999.0,9,     -999.0,9,         40,-999.000,-999.000,-999.000,     -999.0,9, -999.00,9, -999.00,9
33RO200306_01,       A16N,     040,          1,          9,          9,9,20030629,       1742,    45.5012,   -20.0002,       4546,  1248.5,   6.4867,  35.2783,2,-999.0000,9,    217.6,2,  -999.0,9, -999.00,9, -999.00,9, -999.00,9, -999.00,9,-999.000,9,-999.000,9,-999.000,9,  -999.0,9,  -999.0,9,   -999.0,9,  -999.00,-999.0000,9,  -999.00,-999.000,9,-999.000,9,-999.000,9, -999.00,9,  -999.0,9,  -999.0,-999.000,9,-999.000,-999.000,9, -999.00,9, -999.00,9, 1248.50,-999.0000,9,-999.0000,9,-999.0000,9,-999.0000,9,-999.0000,9,-999.0000,9,   6.3652,     -999.0,9,     -999.0,9,     -999.0,9,     -999.0,9,         40,-999.000,-999.000,-999.000,     -999.0,9, -999.00,9, -999.00,9
33RO200306_01,       A16N,     040,          1,          8,          8,2,20030629,       1742,    45.5012,   -20.0002,       4546,  1499.0,   4.5649,  35.0255,2,  35.0252,2,    250.4,2,   253.0,2, -999.00,9, -999.00,9, -999.00,9, -999.00,9,   2.327,2,   1.183,2,   0.127,2,  -999.0,9,  -999.0,9,   -999.0,9,  -999.00,-999.0000,9,  -999.00,-999.000,9,-999.000,9,-999.000,9, -999.00,9,  -999.0,9,  -999.0,-999.000,9,-999.000,-999.000,9, -999.00,9, -999.00,9, 1499.00,-999.0000,9,-999.0000,9,-999.0000,9,-999.0000,9,-999.0000,9,-999.0000,9,   4.4383,     -999.0,9,     -999.0,9,     -999.0,9,     -999.0,9,         40,-999.000,-999.000,-999.000,     -999.0,9, -999.00,9, -999.00,9
33RO200306_01,       A16N,     040,          1,          7,          7,2,20030629,       1742,    45.5012,   -20.0002,       4546,  2002.1,   3.5016,  34.9155,2,  34.9177,2,    276.1,2,   275.9,2, -999.00,9, -999.00,9, -999.00,9, -999.00,9,   2.315,2,   1.156,2,   0.126,2,  -999.0,9,  -999.0,9,   -999.0,9,  -999.00,-999.0000,9,  -999.00,-999.000,9,-999.000,9,-999.000,9, -999.00,9,  -999.0,9,  -999.0,-999.000,9,-999.000,-999.000,9, -999.00,9, -999.00,9, 2002.10,-999.0000,9,-999.0000,9,-999.0000,9,-999.0000,9,-999.0000,9,-999.0000,9,   3.3414,     -999.0,9,       3.18,2,       0.00,2,       0.33,2,         40,-999.000,-999.000,-999.000,        0.0,2,     0.0,2,    0.06,2
33RO200306_01,       A16N,     040,          1,          6,          6,2,20030629,       1742,    45.5012,   -20.0002,       4546,  2498.7,   3.2275,  34.9384,2,  35.0181,3,    271.7,2,   266.5,2, -999.00,9, -999.00,9, -999.00,9, -999.00,9,-999.000,9,-999.000,9,-999.000,9,  -999.0,9,  -999.0,9,   -999.0,9,  -999.00,-999.0000,9,  -999.00,-999.000,9,-999.000,9,-999.000,9, -999.00,9,  -999.0,9,  -999.0,-999.000,9,-999.000,-999.000,9, -999.00,9, -999.00,9, 2498.70,-999.0000,9,-999.0000,9,-999.0000,9,-999.0000,9,-999.0000,9,-999.0000,9,   3.0235,     -999.0,9,     -999.0,9,     -999.0,9,     -999.0,9,         40,-999.000,-999.000,-999.000,     -999.0,9, -999.00,9, -999.00,9
33RO200306_01,       A16N,     040,          1,          5,          5,9,20030629,       1742,    45.5012,   -20.0002,       4546,  3000.9,   2.9274,  34.9482,2,-999.0000,9,    259.8,2,  -999.0,9, -999.00,9, -999.00,9, -999.00,9, -999.00,9,-999.000,9,-999.000,9,-999.000,9,  -999.0,9,  -999.0,9,   -999.0,9,  -999.00,-999.0000,9,  -999.00,-999.000,9,-999.000,9,-999.000,9, -999.00,9,  -999.0,9,  -999.0,-999.000,9,-999.000,-999.000,9, -999.00,9, -999.00,9, 3000.90,-999.0000,9,-999.0000,9,-999.0000,9,-999.0000,9,-999.0000,9,-999.0000,9,   2.6781,     -999.0,9,     -999.0,9,     -999.0,9,     -999.0,9,         40,-999.000,-999.000,-999.000,     -999.0,9, -999.00,9, -999.00,9
33RO200306_01,       A16N,     040,          1,          4,          4,2,20030629,       1742,    45.5012,   -20.0002,       4546,  3498.6,   2.6837,  34.9310,2,  34.9310,2,    250.0,2,   249.5,2, -999.00,9, -999.00,9, -999.00,9, -999.00,9,   0.475,2,   0.237,2,   0.024,2,  -999.0,9,  -999.0,9,   -999.0,9,  -999.00,-999.0000,9,  -999.00,-999.000,9,-999.000,9,-999.000,9, -999.00,9,  -999.0,9,  -999.0,-999.000,9,-999.000,-999.000,9, -999.00,9, -999.00,9, 3498.60,-999.0000,9,-999.0000,9,-999.0000,9,-999.0000,9,-999.0000,9,-999.0000,9,   2.3868,     -999.0,9,       0.00,2,       0.00,2,       0.38,2,         40,-999.000,-999.000,-999.000,        0.0,2,     0.0,2,     0.0,2
33RO200306_01,       A16N,     040,          1,          3,          3,2,20030629,       1742,    45.5012,   -20.0002,       4546,  4000.3,   2.5887,  34.9177,2,  34.9177,2,    242.4,2,   243.2,2, -999.00,9, -999.00,9, -999.00,9, -999.00,9,   0.144,2,   0.070,2,   0.012,2,  -999.0,9,  -999.0,9,   -999.0,9,  -999.00,-999.0000,9,  -999.00,-999.000,9,-999.000,9,-999.000,9, -999.00,9,  -999.0,9,  -999.0,-999.000,9,-999.000,-999.000,9, -999.00,9, -999.00,9, 4000.30,-999.0000,9,-999.0000,9,-999.0000,9,-999.0000,9,-999.0000,9,-999.0000,9,   2.2378,     -999.0,9,     -999.0,9,     -999.0,9,     -999.0,9,         40,-999.000,-999.000,-999.000,     -999.0,9, -999.00,9, -999.00,9
33RO200306_01,       A16N,     040,          1,          2,          2,2,20030629,       1742,    45.5012,   -20.0002,       4546,  4616.2,   2.6068,  34.9119,2,  34.9121,2,    239.4,2,   239.8,2, -999.00,9, -999.00,9, -999.00,9, -999.00,9,   0.075,2,   0.035,2,   0.008,2,  -999.0,9,  -999.0,9,   -999.0,9,  -999.00,-999.0000,9,  -999.00,-999.000,9,-999.000,9,-999.000,9, -999.00,9,  -999.0,9,  -999.0,-999.000,9,-999.000,-999.000,9, -999.00,9, -999.00,9, 4616.20,-999.0000,9,-999.0000,9,-999.0000,9,-999.0000,9,-999.0000,9,-999.0000,9,   2.1819,     -999.0,9,       0.00,2,       0.00,2,       0.85,2,         40,-999.000,-999.000,-999.000,        0.0,2,     0.0,2,    0.71,2
33RO200306_01,       A16N,     040,          1,          1,          1,2,20030629,       1742,    45.5012,   -20.0002,       4546,  4616.3,   2.6073,  34.9117,2,  34.9116,2,    239.4,2,   262.9,3, -999.00,9, -999.00,9, -999.00,9, -999.00,9,-999.000,9,-999.000,9,-999.000,9,  -999.0,9,  -999.0,9,   -999.0,9,  -999.00,-999.0000,9,  -999.00,-999.000,9,-999.000,9,-999.000,9, -999.00,9,  -999.0,9,  -999.0,-999.000,9,-999.000,-999.000,9, -999.00,9, -999.00,9, 4616.30,-999.0000,9,-999.0000,9,-999.0000,9,-999.0000,9,-999.0000,9,-999.0000,9,   2.1824,     -999.0,9,     -999.0,9,     -999.0,9,     -999.0,9,         40,-999.000,-999.000,-999.000,     -999.0,9, -999.00,9, -999.00,9