BOTTLE,20230908CCHSIOCBG
EXPOCODE,SECT_ID,STNNBR,CASTNO,SAMPNO,BTLNBR,BTLNBR_FLAG_W,DATE,TIME,LATITUDE,LONGITUDE,DEPTH,CTDPRS,CTDTMP,CTDSAL,CTDSAL_FLAG_W,SALNTY,SALNTY_FLAG_W,CTDOXY,CTDOXY_FLAG_W,OXYGEN,OXYGEN_FLAG_W,SILCAT,SILCAT_FLAG_W,NITRAT,NITRAT_FLAG_W,NITRIT,NITRIT_FLAG_W,PHSPHT,PHSPHT_FLAG_W,CFC-11,CFC-11_FLAG_W,CFC-12,CFC-12_FLAG_W,CFC113,CFC113_FLAG_W,TCARBN,TCARBN_FLAG_W,ALKALI,ALKALI_FLAG_W,FCO2,FCO2_FLAG_W,FCO2TMP,PH_SWS,PH_SWS_FLAG_W,PH_TMP,TRITUM,TRITUM_FLAG_W,HELIUM,HELIUM_FLAG_W,DELHE3,DELHE3_FLAG_W,DELC13,DELC13_FLAG_W,DELC14,DELC14_FLAG_W,C14ERR,NEON,NEON_FLAG_W,NEONER,POC,POC_FLAG_W,DOC,DOC_FLAG_W,TDN,TDN_FLAG_W,CTDRAW,CDOM325,CDOM325_FLAG_W,CDOM340,CDOM340_FLAG_W,CDOM380,CDOM380_FLAG_W,CDOM412,CDOM412_FLAG_W,CDOMSL,CDOMSL_FLAG_W,CDOMSN,CDOMSN_FLAG_W,THETA,PON,PON_FLAG_W,HCFC-22,HCFC-22_FLAG_W,HCFC-142b,HCFC-142b_FLAG_W,HCFC-141b,HCFC-141b_FLAG_W,STNNBR_U,HELIER,DELHER,TRITER,CH3CL,CH3CL_FLAG_W,CH3BR,CH3BR_FLAG_W,CH3I,CH3I_FLAG_W
,,,,,,,,,,,METERS,DBAR,ITS-90,PSS-78,,PSS-78,,UMOL/KG,,UMOL/KG,,UMOL/KG,,UMOL/KG,,UMOL/KG,,UMOL/KG,,PMOL/KG,,PMOL/KG,,PMOL/KG,,UMOL/KG,,UMOL/KG,,UATM,,DEG C,,,DEG C,TU,,NMOL/KG,,PERCNT,,/MILLE,,/MILLE,,/MILLE,NMOL/KG,,NMOL/KG,UG/KG,,UMOL/KG,,UMOL/KG,,DBAR,1/M,,1/M,,1/M,,1/M,,1/NM,,1/NM,,DEG C,UMOL/L,,PMOL/KG,,PMOL/KG,,PMOL/KG,,,NMOL/KG,PERCNT,TU,PMOL/KG,,PMOL/KG,,PMOL/KG,
33RO200306_01,       A16N,     063,          2,         35,         35,2,20030706,       1553,    33.9992,   -21.1253,       5236,     3.1,  23.5149,  37.0561,2,  37.0592,2,    222.1,2,   216.2,2,    0.46,2,    0.01,2,    0.00,2,    0.02,2,   2.038,2,   1.282,2,   0.180,2,  2107.4,6,  2420.5,2,    350.0,2,    20.00,   8.0228,2,    25.00,-999.000,9,-999.000,9,-999.000,9, -999.00,9,  -999.0,9,  -999.0,-999.000,9,-999.000,   3.628,2,   61.87,2,    5.27,2,    3.10,-999.0000,9,-999.0000,9,-999.0000,9,-999.0000,9,-999.0000,9,-999.0000,9,  23.5143,      0.329,2,       4.99,2,       0.20,2,       1.07,2,         63,-999.000,-999.000,-999.000,      65.53,2,    1.02,2,   17.22,2
33RO200306_01,       A16N,     063,          2,         33,         33,2,20030706,       1553,    33.9992,   -21.1253,       5236,    29.8,  21.1552,  36.7019,2,  36.7049,2,    233.9,2,   236.2,2,    0.47,2,    0.00,2,    0.00,2,    0.01,2,   2.378,2,   1.474,2,   0.204,2,  2092.9,2,  2398.8,2,    350.9,2,    20.00,   8.0206,2,    25.00,-999.000,9,-999.000,9,-999.000,9, -999.00,9,  -999.0,9,  -999.0,-999.000,9,-999.000,   3.221,2,   59.83,2,    5.00,2,   29.80,-999.0000,9,-999.0000,9,-999.0000,9,-999.0000,9,-999.0000,9,-999.0000,9,  21.1494,      0.343,2,       5.60,2,       0.24,2,       0.95,2,         63,-999.000,-999.000,-999.000,      95.16,2,    0.78,2,   41.16,2
33RO200306_01,       A16N,     063,          2,         32,         32,2,20030706,       1553,    33.9992,   -21.1253,       5236,    50.1,  19.0751,  36.5304,2,  36.5378,2,    247.3,2,   246.2,2,    0.45,2,    0.00,2,    0.00,2,    0.02,2,   2.515,2,   1.547,2,   0.212,2,  2086.1,2,  2388.1,2,    354.0,2,    20.00,   8.0178,2,    25.00,-999.000,9,-999.000,9,-999.000,9, -999.00,9,  -999.0,9,  -999.0,-999.000,9,-999.000,   2.134,2,   63.09,2,    5.19,2,   50.10,-999.0000,9,-999.0000,9,-999.0000,9,-999.0000,9,-999.0000,9,-999.0000,9,  19.0661,      0.106,2,     -999.0,9,     -999.0,9,     -999.0,9,         63,-999.000,-999.000,-999.000,     -999.0,9, -999.00,9, -999.00,9
33RO200306_01,       A16N,     063,          2,         31,         31,2,20030706,       1553,    33.9992,   -21.1253,       5236,    70.4,  18.2926,  36.4906,2,  36.5113,2,    242.7,2,   242.2,2,    0.49,2,    0.01,2,    0.00,2,    0.02,2,-999.000,9,-999.000,9,-999.000,9,  2089.7,3,  2387.9,2,    353.4,2,    20.00,   8.0106,2,    25.00,-999.000,9,-999.000,9,-999.000,9, -999.00,9,  -999.0,9,  -999.0,-999.000,9,-999.000,   2.103,2, -999.00,9, -999.00,9,   70.40,-999.0000,9,-999.0000,9,-999.0000,9,-999.0000,9,-999.0000,9,-999.0000,9,  18.2803,      0.190,2,     -999.0,9,     -999.0,9,     -999.0,9,         63,-999.000,-999.000,-999.000,     -999.0,9, -999.00,9, -999.00,9
33RO200306_01,       A16N,     063,          2,         30,         30,2,20030706,       1553,    33.9992,   -21.1253,       5236,    91.0,  18.0696,  36.5405,2,  36.5365,2,    238.0,2,   235.5,2,    0.57,2,    0.03,2,    0.01,2,    0.02,2,   2.518,2,   1.541,2,   0.200,2,  2096.4,2,  2388.4,6,    373.8,2,    20.00,   8.0004,6,    25.00,-999.000,9,-999.000,9,-999.000,9, -999.00,9,  -999.0,9,  -999.0,-999.000,9,-999.000,   1.519,2,   55.12,2,    4.46,2,   91.00,-999.0000,9,-999.0000,9,-999.0000,9,-999.0000,9,-999.0000,9,-999.0000,9,  18.0538,      0.129,2,       5.26,2,       0.23,2,       0.97,2,         63,-999.000,-999.000,-999.000,      72.52,2,    0.66,2,   12.72,2
33RO200306_01,       A16N,     063,          2,         29,         29,2,20030706,       1553,    33.9992,   -21.1253,       5236,   109.6,  17.7257,  36.5094,2,  36.5115,2,    230.6,2,   228.3,2,    0.64,2,    0.25,2,    0.09,2,    0.04,2,-999.000,9,-999.000,9,-999.000,9,  2101.8,2,  2386.6,2,   -999.0,9,  -999.00,   7.9919,2,    25.00,-999.000,9,-999.000,9,-999.000,9, -999.00,9,  -999.0,9,  -999.0,-999.000,9,-999.000,   1.852,2, -999.00,9, -999.00,9,  109.60,-999.0000,9,-999.0000,9,-999.0000,9,-999.0000,9,-999.0000,9,-999.0000,9,  17.7069,      0.261,2,     -999.0,9,     -999.0,9,     -999.0,9,         63,-999.000,-999.000,-999.000,     -999.0,9, -999.00,9, -999.00,9
33RO200306_01,       A16N,     063,          2,         28,         28,2,20030706,       1553,    33.9992,   -21.1253,       5236,   130.9,  17.4528,  36.4617,2,  36.4715,2,    223.7,2,   223.3,2,    0.80,2,    1.42,2,    0.08,2,    0.09,2,   2.516,2,   1.517,2,   0.181,2,  2105.4,2,  2383.9,2,    395.2,2,    20.00,   7.9819,2,    25.00,-999.000,9,-999.000,9,-999.000,9, -999.00,9,  -999.0,9,  -999.0,-999.000,9,-999.000,   1.188,2,   56.34,2,    7.00,2,  130.90,-999.0000,9,-999.0000,9,-999.0000,9,-999.0000,9,-999.0000,9,-999.0000,9,  17.4306,      0.096,2,       5.50,2,       0.18,2,       1.13,2,         63,-999.000,-999.000,-999.000,      101.7,2,     0.5,2,    0.33,2
33RO200306_01,       A16N,     063,          2,         27,         27,2,20030706,       1553,    33.9992,   -21.1253,       5236,   160.5,  17.1302,  36.4335,2,  36.4249,2,    216.1,2,   216.9,2,    1.04,2,    2.89,2,    0.02,2,    0.17,2,-999.000,9,-999.000,9,-999.000,9,  2110.9,2,  2380.4,2,   -999.0,9,  -999.00,   7.9655,2,    25.00,-999.000,9,-999.000,9,-999.000,9, -999.00,9,  -999.0,9,  -999.0,-999.000,9,-999.000,   0.685,2, -999.00,9, -999.00,9,  160.50,-999.0000,9,-999.0000,9,-999.0000,9,-999.0000,9,-999.0000,9,-999.0000,9,  17.1033,      0.071,2,     -999.0,9,     -999.0,9,     -999.0,9,         63,-999.000,-999.000,-999.000,     -999.0,9, -999.00,9, -999.00,9
33RO200306_01,       A16N,     063,          2,         26,         26,2,20030706,       1553,    33.9992,   -21.1253,       5236,   183.2,  16.5725,  36.3258,2,  36.3183,2,    211.0,2,   210.7,2,    1.34,2,    4.42,2,    0.01,2,    0.25,2,   2.600,2,   1.561,2,   0.103,2,  2116.1,2,  2374.7,2,    433.2,2,    20.00,   7.9458,2,    25.00,-999.000,9,-999.000,9,-999.000,9, -999.00,9,  -999.0,9,  -999.0,-999.000,9,-999.000,-999.000,9,   53.17,2,    8.67,2,  183.20,-999.0000,9,-999.0000,9,-999.0000,9,-999.0000,9,-999.0000,9,-999.0000,9,  16.5425,     -999.0,9,     -999.0,9,     -999.0,9,     -999.0,9,         63,-999.000,-999.000,-999.000,     -999.0,9, -999.00,9, -999.00,9
33RO200306_01,       A16N,     063,          2,         25,         25,2,20030706,       1553,    33.9992,   -21.1253,       5236,   222.7,  15.8194,  36.1786,2,  36.1695,2,    205.9,2,   206.7,2,    1.86,2,    6.23,2,    0.01,2,    0.36,2,   2.653,2,   1.560,2,   0.067,2,  2121.6,2,  2365.9,2,   -999.0,9,  -999.00,   7.9180,2,    25.00,-999.000,9,-999.000,9,-999.000,9, -999.00,9,  -999.0,9,  -999.0,-999.000,9,-999.000,-999.000,9,   51.05,2,   11.57,2,  222.70,-999.0000,9,-999.0000,9,-999.0000,9,-999.0000,9,-999.0000,9,-999.0000,9,  15.7841,     -999.0,9,       4.58,2,       0.13,2,       1.29,2,         63,-999.000,-999.000,-999.000,      20.27,2,    0.88,2,    0.66,2
33RO200306_01,       A16N,     063,          2,         24,         24,2,20030706,       1553,    33.9992,   -21.1253,       5236,   275.1,  15.0905,  36.0567,2,  36.0491,2,    204.1,2,   207.0,2,    2.26,2,    7.27,2,    0.01,2,    0.42,2,   2.725,2,   1.600,2,   0.067,2,  2125.4,2,  2357.3,6,    482.3,2,    20.00,   7.9076,6,    25.00,-999.000,9,-999.000,9,-999.000,9, -999.00,9,  -999.0,9,  -999.0,-999.000,9,-999.000,-999.000,9,   50.49,2,   11.44,2,  275.10,-999.0000,9,-999.0000,9,-999.0000,9,-999.0000,9,-999.0000,9,-999.0000,9,  15.0482,     -999.0,9,     -999.0,9,     -999.0,9,     -999.0,9,         63,-999.000,-999.000,-999.000,     -999.0,9, -999.00,9, -999.00,9
33RO200306_01,       A16N,     063,          2,         23,         23,2,20030706,       1553,    33.9992,   -21.1253,       5236,   324.8,  14.4226,  35.9527,2,  35.9483,2,    205.0,2,   205.7,2,    2.75,2,    8.54,2,    0.01,2,    0.50,2,   2.763,2,   1.607,2,   0.063,2,  2130.4,2,  2352.0,2,   -999.0,9,  -999.00,   7.8855,2,    25.00,-999.000,9,-999.000,9,-999.000,9, -999.00,9,  -999.0,9,  -999.0,-999.000,9,-999.000,-999.000,9,   50.00,2,   12.25,2,  324.80,-999.0000,9,-999.0000,9,-999.0000,9,-999.0000,9,-999.0000,9,-999.0000,9,  14.3741,     -999.0,9,       3.84,2,       0.34,2,       0.33,2,         63,-999.000,-999.000,-999.000,      24.59,2,    0.04,2,    0.41,2
33RO200306_01,       A16N,     063,          2,         22,         22,2,20030706,       1553,    33.9992,   -21.1253,       5236,   375.8,  13.8180,  35.8585,2,  35.8494,2,    202.3,2,   204.5,2,    3.34,2,    9.89,2,    0.00,2,    0.58,2,   2.770,2,   1.591,2,   0.064,2,  2135.1,2,  2346.0,2,    533.2,2,    20.00,   7.8653,2,    25.00,-999.000,9,-999.000,9,-999.000,9, -999.00,9,  -999.0,9,  -999.0,-999.000,9,-999.000,-999.000,9,   51.05,2,   13.12,2,  375.80,-999.0000,9,-999.0000,9,-999.0000,9,-999.0000,9,-999.0000,9,-999.0000,9,  13.7634,     -999.0,9,     -999.0,9,     -999.0,9,     -999.0,9,         63,-999.000,-999.000,-999.000,     -999.0,9, -999.00,9, -999.00,9
33RO200306_01,       A16N,     063,          2,         21,         21,2,20030706,       1553,    33.9992,   -21.1253,       5236,   394.0,  13.5466,  35.8196,2,  35.8170,2,    203.4,2,   205.0,2,    3.51,2,   10.30,2,    0.00,2,    0.61,2,   2.772,2,   1.585,2,   0.065,2,  2136.4,2,  2344.4,2,   -999.0,9,  -999.00,   7.8646,2,    25.00,-999.000,9,-999.000,9,-999.000,9, -999.00,9,  -999.0,9,  -999.0,-999.000,9,-999.000,-999.000,9,   47.73,2,   14.76,2,  394.00,-999.0000,9,-999.0000,9,-999.0000,9,-999.0000,9,-999.0000,9,-999.0000,9,  13.4901,     -999.0,9,     -999.0,9,     -999.0,9,     -999.0,9,         63,-999.000,-999.000,-999.000,     -999.0,9, -999.00,9, -999.00,9
33RO200306_01,       A16N,     063,          2,         20,         20,2,20030706,       1553,    33.9992,   -21.1253,       5236,   471.2,  12.7845,  35.7168,2,  35.7116,2,    198.8,2,   200.9,2,    4.32,2,   12.08,2,    0.00,2,    0.71,2,   2.743,2,   1.547,2,   0.064,2,  2144.8,2,  2340.6,2,    585.7,2,    20.00,   7.8384,2,    25.00,-999.000,9,-999.000,9,-999.000,9, -999.00,9,  -999.0,9,  -999.0,-999.000,9,-999.000,   0.735,2,   47.73,2,   15.98,2,  471.20,-999.0000,9,-999.0000,9,-999.0000,9,-999.0000,9,-999.0000,9,-999.0000,9,  12.7193,      0.024,2,     -999.0,9,     -999.0,9,     -999.0,9,         63,-999.000,-999.000,-999.000,     -999.0,9, -999.00,9, -999.00,9
33RO200306_01,       A16N,     063,          2,         19,         19,2,20030706,       1553,    33.9992,   -21.1253,       5236,   550.2,  11.9422,  35.6153,2,  35.6112,2,    195.0,2,   195.0,2,    5.46,2,   14.08,2,    0.00,2,    0.83,2,   2.621,2,   1.440,2,   0.064,2,  2151.2,2,  2335.1,2,   -999.0,9,  -999.00,   7.8072,2,    25.00,-999.000,9,-999.000,9,-999.000,9, -999.00,9,  -999.0,9,  -999.0,-999.000,9,-999.000,-999.000,9,   44.22,2,   17.87,2,  550.20,-999.0000,9,-999.0000,9,-999.0000,9,-999.0000,9,-999.0000,9,-999.0000,9,  11.8691,     -999.0,9,       3.07,2,       0.00,2,       0.28,2,         63,-999.000,-999.000,-999.000,      53.98,2,    0.23,2,    0.35,2
33RO200306_01,       A16N,     063,          2,         18,         18,2,20030706,       1553,    33.9992,   -21.1253,       5236,   634.9,  11.2235,  35.5454,2,  35.5434,2,    189.3,2,   190.7,2,    6.60,2,   15.69,2,    0.00,2,    0.94,2,   2.384,2,   1.289,2,   0.057,2,  2158.7,2,  2332.6,2,    659.5,2,    20.00,   7.7821,2,    25.00,-999.000,9,-999.000,9,-999.000,9, -999.00,9,  -999.0,9,  -999.0,-999.000,9,-999.000,-999.000,9,   47.15,2,   20.23,2,  634.90,-999.0000,9,-999.0000,9,-999.0000,9,-999.0000,9,-999.0000,9,-999.0000,9,  11.1422,     -999.0,9,     -999.0,9,     -999.0,9,     -999.0,9,         63,-999.000,-999.000,-999.000,     -999.0,9, -999.00,9, -999.00,9
33RO200306_01,       A16N,     063,          2,         17,         17,2,20030706,       1553,    33.9992,   -21.1253,       5236,   740.7,  10.5523,  35.5352,2,  35.5361,2,    183.2,2,   182.9,2,    8.11,2,   17.28,2,    0.00,2,    1.05,2,   1.948,2,   1.030,2,   0.043,2,  2169.6,2,  2335.3,2,   -999.0,9,  -999.00,   7.7648,2,    25.00,-999.000,9,-999.000,9,-999.000,9, -999.00,9,  -999.0,9,  -999.0,-999.000,9,-999.000,-999.000,9,   44.22,2,   22.65,2,  740.70,-999.0000,9,-999.0000,9,-999.0000,9,-999.0000,9,-999.0000,9,-999.0000,9,  10.4605,     -999.0,9,     -999.0,9,     -999.0,9,     -999.0,9,         63,-999.000,-999.000,-999.000,     -999.0,9, -999.00,9, -999.00,9
33RO200306_01,       A16N,     063,          2,         16,         16,2,20030706,       1553,    33.9992,   -21.1253,       5236,   835.9,  10.1620,  35.5707,2,  35.5619,2,    180.9,2,   180.7,2,    9.38,2,   18.16,2,    0.00,2,    1.11,2,   1.587,2,   0.833,2,   0.032,2,  2177.8,2,  2338.3,2,    709.6,2,    20.00,   7.7574,2,    25.00,-999.000,9,-999.000,9,-999.000,9, -999.00,9,  -999.0,9,  -999.0,-999.000,9,-999.000,-999.000,9,   43.09,2,   24.00,2,  835.90,-999.0000,9,-999.0000,9,-999.0000,9,-999.0000,9,-999.0000,9,-999.0000,9,  10.0602,     -999.0,9,       2.40,2,       0.10,2,       0.84,2,         63,-999.000,-999.000,-999.000,        0.0,2,     0.0,2,    0.19,2
33RO200306_01,       A16N,     063,          2,         15,         15,2,20030706,       1553,    33.9992,   -21.1253,       5236,   947.7,   9.5635,  35.6092,2,  35.6109,2,    179.7,2,   179.3,2,   10.59,2,   18.69,2,    0.00,2,    1.15,2,   1.251,2,   0.655,2,   0.024,2,  2185.1,2,  2345.1,2,   -999.0,9,  -999.00,   7.7496,2,    25.00,-999.000,9,-999.000,9,-999.000,9, -999.00,9,  -999.0,9,  -999.0,-999.000,9,-999.000,-999.000,9,   43.98,2,   23.56,2,  947.70,-999.0000,9,-999.0000,9,-999.0000,9,-999.0000,9,-999.0000,9,-999.0000,9,   9.4515,     -999.0,9,     -999.0,9,     -999.0,9,     -999.0,9,         63,-999.000,-999.000,-999.000,     -999.0,9, -999.00,9, -999.00,9
33RO200306_01,       A16N,     063,          2,         14,         14,2,20030706,       1553,    33.9992,   -21.1253,       5236,  1050.6,   8.9505,  35.6114,2,  35.6132,2,    183.6,2,   182.4,2,   11.64,2,   19.05,2,    0.00,2,    1.17,2,   1.006,2,   0.527,2,   0.018,2,  2190.1,6,  2348.5,2,    725.8,6,    20.00,   7.7459,2,    25.00,-999.000,9,-999.000,9,-999.000,9, -999.00,9,  -999.0,9,  -999.0,-999.000,9,-999.000,-999.000,9,   42.12,2,   23.14,2, 1050.60,-999.0000,9,-999.0000,9,-999.0000,9,-999.0000,9,-999.0000,9,-999.0000,9,   8.8303,     -999.0,9,     -999.0,9,     -999.0,9,     -999.0,9,         63,-999.000,-999.000,-999.000,     -999.0,9, -999.00,9, -999.00,9
33RO200306_01,       A16N,     063,          2,         13,         13,2,20030706,       1553,    33.9992,   -21.1253,       5236,  1136.7,   8.8295,  35.6767,2,  35.6770,2,    186.9,2,   185.0,2,   12.01,2,   18.81,2,    0.00,2,    1.16,2,   0.944,2,   0.499,2,   0.017,2,  2193.7,2,  2354.3,2,   -999.0,9,  -999.00,   7.7549,2,    25.00,-999.000,9,-999.000,9,-999.000,9, -999.00,9,  -999.0,9,  -999.0,-999.000,9,-999.000,-999.000,9,   41.79,2,   22.99,2, 1136.70,-999.0000,9,-999.0000,9,-999.0000,9,-999.0000,9,-999.0000,9,-999.0000,9,   8.6997,     -999.0,9,     -999.0,9,     -999.0,9,     -999.0,9,         63,-999.000,-999.000,-999.000,     -999.0,9, -999.00,9, -999.00,9
33RO200306_01,       A16N,     063,          2,         12,         12,2,20030706,       1553,    33.9992,   -21.1253,       5236,  1299.7,   7.9486,  35.6033,2,  35.6010,2,    199.6,2,   200.9,2,   12.56,2,   18.56,2,    0.00,2,    1.15,2,   0.855,2,   0.448,2,   0.019,2,  2190.4,2,  2350.5,2,    720.1,2,    20.00,   7.7558,2,    25.00,-999.000,9,   1.796,2,   8.358,2, -999.00,9,  -999.0,9,  -999.0,   7.615,2,   0.058,-999.000,9,   43.59,2,   24.27,2, 1299.70,-999.0000,9,-999.0000,9,-999.0000,9,-999.0000,9,-999.0000,9,-999.0000,9,   7.8072,     -999.0,9,       0.87,2,       0.00,2,       0.29,2,         63,   0.004,   0.191,-999.000,        0.0,2,    0.11,2,    0.13,2
33RO200306_01,       A16N,     063,          2,         11,         11,2,20030706,       1553,    33.9992,   -21.1253,       5236,  1499.4,   6.2349,  35.3544,2,  35.3555,2,    220.9,2,   222.1,2,   13.21,2,   18.43,2,    0.00,2,    1.16,2,   0.899,2,   0.457,2,   0.026,2,  2179.2,2,  2335.3,2,    732.6,2,    20.00,   7.7491,2,    25.00,-999.000,9,-999.000,9,-999.000,9, -999.00,9,  -999.0,9,  -999.0,-999.000,9,-999.000,-999.000,9,   43.34,2,   22.97,2, 1499.40,-999.0000,9,-999.0000,9,-999.0000,9,-999.0000,9,-999.0000,9,-999.0000,9,   6.0890,     -999.0,9,     -999.0,9,     -999.0,9,     -999.0,9,         63,-999.000,-999.000,-999.000,     -999.0,9, -999.00,9, -999.00,9
33RO200306_01,       A16N,     063,          2,         10,         10,2,20030706,       1553,    33.9992,   -21.1253,       5236,  1699.2,   5.1920,  35.2120,2,  35.2118,2,    236.6,2,   238.5,2,   13.68,2,   18.26,2,    0.00,2,    1.16,2,   0.887,6,   0.452,6,   0.031,6,  2171.6,2,  2326.3,2,   -999.0,9,  -999.00,   7.7419,2,    25.00,-999.000,9,-999.000,9,-999.000,9, -999.00,9,  -999.0,9,  -999.0,-999.000,9,-999.000,-999.000,9,   43.34,2,   23.54,2, 1699.20,-999.0000,9,-999.0000,9,-999.0000,9,-999.0000,9,-999.0000,9,-999.0000,9,   5.0377,     -999.0,9,     -999.0,9,     -999.0,9,     -999.0,9,         63,-999.000,-999.000,-999.000,     -999.0,9, -999.00,9, -999.00,9
33RO200306_01,       A16N,     063,          2,          9,          9,2,20030706,       1553,    33.9992,   -21.1253,       5236,  1899.8,   4.4502,  35.1142,2,  35.1152,2,    246.3,2,   247.7,2,   15.17,2,   18.27,2,    0.00,2,    1.18,2,   0.655,2,   0.337,2,   0.024,2,  2167.6,2,  2322.0,2,    738.5,2,    20.00,   7.7389,2,    25.00,-999.000,9,-999.000,9,-999.000,9, -999.00,9,  -999.0,9,  -999.0,-999.000,9,-999.000,-999.000,9,   42.36,2,   22.17,2, 1899.80,-999.0000,9,-999.0000,9,-999.0000,9,-999.0000,9,-999.0000,9,-999.0000,9,   4.2857,     -999.0,9,       0.53,2,       0.02,2,       0.23,2,         63,-999.000,-999.000,-999.000,      13.28,2,    0.15,2,    0.11,2
33RO200306_01,       A16N,     063,          2,          8,          8,2,20030706,       1553,    33.9992,   -21.1253,       5236,  2249.2,   3.5929,  35.0099,2,  35.0100,2,    254.6,2,   254.0,2,   19.18,2,   18.62,2,    0.00,2,    1.22,2,   0.385,2,   0.205,2,   0.011,2,  2166.6,2,  2318.9,2,   -999.0,9,  -999.00,   7.7408,2,    25.00,-999.000,9,-999.000,9,-999.000,9, -999.00,9,  -999.0,9,  -999.0,-999.000,9,-999.000,-999.000,9,   43.09,2,   22.33,2, 2249.20,-999.0000,9,-999.0000,9,-999.0000,9,-999.0000,9,-999.0000,9,-999.0000,9,   3.4071,     -999.0,9,     -999.0,9,     -999.0,9,     -999.0,9,         63,-999.000,-999.000,-999.000,     -999.0,9, -999.00,9, -999.00,9