BOTTLE,20230908CCHSIOCBG
EXPOCODE,SECT_ID,STNNBR,CASTNO,SAMPNO,BTLNBR,BTLNBR_FLAG_W,DATE,TIME,LATITUDE,LONGITUDE,DEPTH,CTDPRS,CTDTMP,CTDSAL,CTDSAL_FLAG_W,SALNTY,SALNTY_FLAG_W,CTDOXY,CTDOXY_FLAG_W,OXYGEN,OXYGEN_FLAG_W,SILCAT,SILCAT_FLAG_W,NITRAT,NITRAT_FLAG_W,NITRIT,NITRIT_FLAG_W,PHSPHT,PHSPHT_FLAG_W,CFC-11,CFC-11_FLAG_W,CFC-12,CFC-12_FLAG_W,CFC113,CFC113_FLAG_W,TCARBN,TCARBN_FLAG_W,ALKALI,ALKALI_FLAG_W,FCO2,FCO2_FLAG_W,FCO2TMP,PH_SWS,PH_SWS_FLAG_W,PH_TMP,TRITUM,TRITUM_FLAG_W,HELIUM,HELIUM_FLAG_W,DELHE3,DELHE3_FLAG_W,DELC13,DELC13_FLAG_W,DELC14,DELC14_FLAG_W,C14ERR,NEON,NEON_FLAG_W,NEONER,POC,POC_FLAG_W,DOC,DOC_FLAG_W,TDN,TDN_FLAG_W,CTDRAW,CDOM325,CDOM325_FLAG_W,CDOM340,CDOM340_FLAG_W,CDOM380,CDOM380_FLAG_W,CDOM412,CDOM412_FLAG_W,CDOMSL,CDOMSL_FLAG_W,CDOMSN,CDOMSN_FLAG_W,THETA,PON,PON_FLAG_W,HCFC-22,HCFC-22_FLAG_W,HCFC-142b,HCFC-142b_FLAG_W,HCFC-141b,HCFC-141b_FLAG_W,STNNBR_U,HELIER,DELHER,TRITER,CH3CL,CH3CL_FLAG_W,CH3BR,CH3BR_FLAG_W,CH3I,CH3I_FLAG_W
,,,,,,,,,,,METERS,DBAR,ITS-90,PSS-78,,PSS-78,,UMOL/KG,,UMOL/KG,,UMOL/KG,,UMOL/KG,,UMOL/KG,,UMOL/KG,,PMOL/KG,,PMOL/KG,,PMOL/KG,,UMOL/KG,,UMOL/KG,,UATM,,DEG C,,,DEG C,TU,,NMOL/KG,,PERCNT,,/MILLE,,/MILLE,,/MILLE,NMOL/KG,,NMOL/KG,UG/KG,,UMOL/KG,,UMOL/KG,,DBAR,1/M,,1/M,,1/M,,1/M,,1/NM,,1/NM,,DEG C,UMOL/L,,PMOL/KG,,PMOL/KG,,PMOL/KG,,,NMOL/KG,PERCNT,TU,PMOL/KG,,PMOL/KG,,PMOL/KG,
33RO200306_02,       A16N,     098,          2,         35,         35,9,20030725,       0215,    16.9998,   -29.0002,       4884,     3.4,  26.2429,  36.4369,2,-999.0000,9,    199.0,2,  -999.0,9, -999.00,9, -999.00,9, -999.00,9, -999.00,9,-999.000,9,-999.000,9,-999.000,9,  -999.0,9,  -999.0,9,   -999.0,9,  -999.00,-999.0000,9,  -999.00,-999.000,9,-999.000,9,-999.000,9, -999.00,9,  -999.0,9,  -999.0,-999.000,9,-999.000,-999.000,9, -999.00,9, -999.00,9,    3.40,-999.0000,9,-999.0000,9,-999.0000,9,-999.0000,9,-999.0000,9,-999.0000,9,  26.2421,     -999.0,9,     -999.0,9,     -999.0,9,     -999.0,9,         98,-999.000,-999.000,-999.000,     -999.0,9, -999.00,9, -999.00,9
33RO200306_02,       A16N,     098,          2,         33,         33,2,20030725,       0215,    16.9998,   -29.0002,       4884,     3.6,  26.2448,  36.4369,2,  36.4407,2,    199.0,2,   202.9,2,    0.58,2,    0.08,2,    0.01,2,    0.05,2,   1.811,2,   1.169,2,   0.159,2,  2035.1,6,  2387.1,2,    284.2,2,    20.00,   8.0831,2,    25.00,-999.000,9,-999.000,9,-999.000,9, -999.00,9,  -999.0,9,  -999.0,-999.000,9,-999.000,-999.000,9,   74.33,2,    7.19,2,    3.60,-999.0000,9,-999.0000,9,-999.0000,9,-999.0000,9,-999.0000,9,-999.0000,9,  26.2440,     -999.0,9,     -999.0,9,     -999.0,9,     -999.0,9,         98,-999.000,-999.000,-999.000,     -999.0,9, -999.00,9, -999.00,9
33RO200306_02,       A16N,     098,          2,         32,         32,2,20030725,       0215,    16.9998,   -29.0002,       4884,    19.5,  26.2215,  36.4407,2,  36.4566,2,    200.0,2,   204.1,2,    0.57,2,    0.07,2,    0.01,2,    0.05,2,   1.850,2,   1.197,2,   0.166,2,  2039.2,2,  2387.1,2,    286.8,2,    20.00,   8.0845,2,    25.00,   0.751,2,-999.000,9,-999.000,9, -999.00,9,  -999.0,9,  -999.0,-999.000,9,-999.000,-999.000,9, -999.00,9, -999.00,9,   19.50,-999.0000,9,-999.0000,9,-999.0000,9,-999.0000,9,-999.0000,9,-999.0000,9,  26.2171,     -999.0,9,     -999.0,9,     -999.0,9,     -999.0,9,         98,-999.000,-999.000,   0.020,     -999.0,9, -999.00,9, -999.00,9
33RO200306_02,       A16N,     098,          2,         31,         31,2,20030725,       0215,    16.9998,   -29.0002,       4884,    40.3,  24.8736,  36.7289,2,  36.7326,2,    204.7,2,   211.6,2,    0.37,2,    0.09,2,    0.01,2,    0.08,2,-999.000,9,-999.000,9,-999.000,9,  2074.9,2,  2404.3,2,    316.4,2,    20.00,   8.0520,2,    25.00,-999.000,9,-999.000,9,-999.000,9, -999.00,9,  -999.0,9,  -999.0,-999.000,9,-999.000,-999.000,9,   73.82,2,    7.43,2,   40.30,-999.0000,9,-999.0000,9,-999.0000,9,-999.0000,9,-999.0000,9,-999.0000,9,  24.8648,     -999.0,9,     -999.0,9,     -999.0,9,     -999.0,9,         98,-999.000,-999.000,-999.000,     -999.0,9, -999.00,9, -999.00,9
33RO200306_02,       A16N,     098,          2,         30,         30,2,20030725,       0215,    16.9998,   -29.0002,       4884,    60.5,  22.9013,  36.6766,2,  36.6718,2,    211.8,2,   215.4,2,    0.54,2,    0.18,2,    0.02,2,    0.12,2,   2.141,2,   1.354,2,   0.179,2,  2083.7,2,  2400.3,2,    337.5,2,    20.00,   8.0180,2,    25.00,-999.000,9,-999.000,9,-999.000,9, -999.00,9,  -999.0,9,  -999.0,-999.000,9,-999.000,-999.000,9,   69.68,2,    8.68,2,   60.50,-999.0000,9,-999.0000,9,-999.0000,9,-999.0000,9,-999.0000,9,-999.0000,9,  22.8889,     -999.0,9,     -999.0,9,     -999.0,9,     -999.0,9,         98,-999.000,-999.000,-999.000,     -999.0,9, -999.00,9, -999.00,9
33RO200306_02,       A16N,     098,          2,         29,         29,2,20030725,       0215,    16.9998,   -29.0002,       4884,    80.4,  21.2478,  36.6322,2,  36.6429,2,    192.9,2,   182.6,2,    1.25,2,    2.83,2,    0.25,2,    0.30,2,   2.178,2,   1.356,2,   0.156,2,  2117.6,2,  2396.6,2,    403.3,2,    20.00,   7.9829,2,    25.00,-999.000,9,-999.000,9,-999.000,9, -999.00,9,  -999.0,9,  -999.0,-999.000,9,-999.000,-999.000,9, -999.00,9, -999.00,9,   80.40,-999.0000,9,-999.0000,9,-999.0000,9,-999.0000,9,-999.0000,9,-999.0000,9,  21.2322,     -999.0,9,     -999.0,9,     -999.0,9,     -999.0,9,         98,-999.000,-999.000,-999.000,     -999.0,9, -999.00,9, -999.00,9
33RO200306_02,       A16N,     098,          2,         28,         28,2,20030725,       0215,    16.9998,   -29.0002,       4884,   101.5,  18.8554,  36.4148,2,  36.3977,2,    133.3,2,   124.7,2,    2.98,2,   12.65,2,    0.07,2,    0.80,2,   2.138,2,   1.291,2,   0.101,2,  2170.0,2,  2377.3,2,    581.7,2,    20.00,   7.8278,2,    25.00,-999.000,9,-999.000,9,-999.000,9, -999.00,9,  -999.0,9,  -999.0,-999.000,9,-999.000,-999.000,9,   55.20,2,   18.33,2,  101.50,-999.0000,9,-999.0000,9,-999.0000,9,-999.0000,9,-999.0000,9,-999.0000,9,  18.8373,     -999.0,9,     -999.0,9,     -999.0,9,     -999.0,9,         98,-999.000,-999.000,-999.000,     -999.0,9, -999.00,9, -999.00,9
33RO200306_02,       A16N,     098,          2,         27,         27,2,20030725,       0215,    16.9998,   -29.0002,       4884,   125.7,  17.0212,  36.1941,2,  36.2001,2,    106.4,2,   106.9,2,    4.28,2,   16.73,2,    0.03,2,    1.01,2,   2.153,2,   1.287,2,   0.055,2,  2188.0,2,  2357.6,2,    678.3,2,    20.00,   7.7754,2,    25.00,-999.000,9,-999.000,9,-999.000,9, -999.00,9,  -999.0,9,  -999.0,-999.000,9,-999.000,-999.000,9, -999.00,9, -999.00,9,  125.70,-999.0000,9,-999.0000,9,-999.0000,9,-999.0000,9,-999.0000,9,-999.0000,9,  17.0003,     -999.0,9,     -999.0,9,     -999.0,9,     -999.0,9,         98,-999.000,-999.000,-999.000,     -999.0,9, -999.00,9, -999.00,9
33RO200306_02,       A16N,     098,          2,         26,         26,2,20030725,       0215,    16.9998,   -29.0002,       4884,   149.6,  15.9529,  36.0499,2,  36.0397,2,     96.9,2,    98.8,2,    5.37,2,   19.13,2,    0.02,2,    1.16,2,   2.003,2,   1.169,2,   0.028,2,  2194.5,2,  2348.7,2,    745.4,2,    20.00,   7.7720,2,    25.00,   0.777,2,-999.000,9,-999.000,9, -999.00,9,  -999.0,9,  -999.0,-999.000,9,-999.000,-999.000,9,   50.81,2,   23.53,2,  149.60,-999.0000,9,-999.0000,9,-999.0000,9,-999.0000,9,-999.0000,9,-999.0000,9,  15.9291,     -999.0,9,     -999.0,9,     -999.0,9,     -999.0,9,         98,-999.000,-999.000,   0.020,     -999.0,9, -999.00,9, -999.00,9
33RO200306_02,       A16N,     098,          2,         25,         25,2,20030725,       0215,    16.9998,   -29.0002,       4884,   175.7,  15.2638,  35.9479,2,  35.9514,2,     89.9,2,    91.7,2,    5.97,2,   20.43,2,    0.02,2,    1.23,2,   2.004,2,   1.166,2,   0.024,2,  2198.3,2,  2344.8,2,   -999.0,9,  -999.00,   7.7217,2,    25.00,-999.000,9,-999.000,9,-999.000,9, -999.00,9,  -999.0,9,  -999.0,-999.000,9,-999.000,-999.000,9, -999.00,9, -999.00,9,  175.70,-999.0000,9,-999.0000,9,-999.0000,9,-999.0000,9,-999.0000,9,-999.0000,9,  15.2367,     -999.0,9,     -999.0,9,     -999.0,9,     -999.0,9,         98,-999.000,-999.000,-999.000,     -999.0,9, -999.00,9, -999.00,9
33RO200306_02,       A16N,     098,          2,         24,         24,2,20030725,       0215,    16.9998,   -29.0002,       4884,   200.8,  14.7908,  35.8786,2,  35.8794,2,     86.0,2,    90.0,2,    6.51,2,   21.41,2,    0.02,2,    1.28,2,   1.899,2,   1.089,2,   0.021,2,  2200.4,2,  2341.3,2,    803.7,2,    20.00,   7.7059,2,    25.00,   0.796,2,-999.000,9,-999.000,9, -999.00,9,  -999.0,9,  -999.0,-999.000,9,-999.000,-999.000,9,   50.49,2,   24.83,2,  200.80,-999.0000,9,-999.0000,9,-999.0000,9,-999.0000,9,-999.0000,9,-999.0000,9,  14.7605,     -999.0,9,     -999.0,9,     -999.0,9,     -999.0,9,         98,-999.000,-999.000,   0.010,     -999.0,9, -999.00,9, -999.00,9
33RO200306_02,       A16N,     098,          2,         23,         23,2,20030725,       0215,    16.9998,   -29.0002,       4884,   251.7,  13.6450,  35.7091,2,  35.7066,2,     80.1,2,    81.8,2,    7.92,2,   23.93,2,    0.02,2,    1.43,2,   1.700,2,   0.957,2,   0.012,2,  2207.0,2,  2333.1,2,   -999.0,9,  -999.00,   7.6684,2,    25.00,-999.000,9,-999.000,9,-999.000,9, -999.00,9,  -999.0,9,  -999.0,-999.000,9,-999.000,-999.000,9,   50.62,2,   27.66,2,  251.70,-999.0000,9,-999.0000,9,-999.0000,9,-999.0000,9,-999.0000,9,-999.0000,9,  13.6089,     -999.0,9,     -999.0,9,     -999.0,9,     -999.0,9,         98,-999.000,-999.000,-999.000,     -999.0,9, -999.00,9, -999.00,9
33RO200306_02,       A16N,     098,          2,         22,         22,2,20030725,       0215,    16.9998,   -29.0002,       4884,   300.3,  12.7340,  35.5803,2,  35.5809,2,     74.4,2,    74.2,2,    9.23,2,   25.98,2,    0.02,2,    1.56,2,   1.400,6,   0.768,6,   0.013,6,  2213.5,2,  2326.0,2,    968.3,2,    20.00,   7.6364,2,    25.00,-999.000,9,   1.844,3,   3.482,2, -999.00,9,  -999.0,9,  -999.0,   7.550,2,   0.063,-999.000,9,   49.02,2,   29.59,2,  300.30,-999.0000,9,-999.0000,9,-999.0000,9,-999.0000,9,-999.0000,9,-999.0000,9,  12.6929,     -999.0,9,     -999.0,9,     -999.0,9,     -999.0,9,         98,   0.005,   0.248,-999.000,     -999.0,9, -999.00,9, -999.00,9
33RO200306_02,       A16N,     098,          2,         21,         21,2,20030725,       0215,    16.9998,   -29.0002,       4884,   351.3,  12.1114,  35.4964,2,  35.4950,2,     71.6,2,    71.8,2,   10.26,2,   27.39,2,    0.02,2,    1.64,2,   1.189,2,   0.641,2,   0.007,2,  2217.0,2,  2321.4,2,   -999.0,9,  -999.00,   7.6184,2,    25.00,-999.000,9,-999.000,9,-999.000,9, -999.00,9,  -999.0,9,  -999.0,-999.000,9,-999.000,-999.000,9,   48.37,2,   30.95,2,  351.30,-999.0000,9,-999.0000,9,-999.0000,9,-999.0000,9,-999.0000,9,-999.0000,9,  12.0648,     -999.0,9,     -999.0,9,     -999.0,9,     -999.0,9,         98,-999.000,-999.000,-999.000,     -999.0,9, -999.00,9, -999.00,9
33RO200306_02,       A16N,     098,          2,         20,         20,2,20030725,       0215,    16.9998,   -29.0002,       4884,   400.0,  11.3271,  35.3886,2,  35.3883,2,     70.8,2,    71.2,2,   11.72,2,   29.09,2,    0.02,2,    1.75,2,   0.910,2,   0.488,2,   0.007,2,  2225.5,3,  2318.0,2,   1070.9,2,    20.00,   7.5946,2,    25.00,   0.589,2,-999.000,9,-999.000,9, -999.00,9,  -999.0,9,  -999.0,-999.000,9,-999.000,-999.000,9,   47.73,2,   34.44,2,  400.00,-999.0000,9,-999.0000,9,-999.0000,9,-999.0000,9,-999.0000,9,-999.0000,9,  11.2762,     -999.0,9,     -999.0,9,     -999.0,9,     -999.0,9,         98,-999.000,-999.000,   0.020,     -999.0,9, -999.00,9, -999.00,9
33RO200306_02,       A16N,     098,          2,         19,         19,2,20030725,       0215,    16.9998,   -29.0002,       4884,   449.6,  10.6084,  35.2993,2,  35.2993,2,     80.4,2,    78.9,2,   12.94,2,   29.60,2,    0.02,2,    1.80,2,   0.721,2,   0.386,2,   0.004,2,  2217.3,2,  2316.2,2,   -999.0,9,  -999.00,   7.5948,2,    25.00,-999.000,9,   1.818,3,   5.139,2, -999.00,9,  -999.0,9,  -999.0,   7.519,2,   0.051,-999.000,9,   44.47,2,   33.31,2,  449.60,-999.0000,9,-999.0000,9,-999.0000,9,-999.0000,9,-999.0000,9,-999.0000,9,  10.5534,     -999.0,9,     -999.0,9,     -999.0,9,     -999.0,9,         98,   0.003,   0.218,-999.000,     -999.0,9, -999.00,9, -999.00,9
33RO200306_02,       A16N,     098,          2,         18,         18,2,20030725,       0215,    16.9998,   -29.0002,       4884,   500.6,   9.9440,  35.2154,2,  35.2137,2,     82.8,2,    81.2,2,   14.40,2,   30.56,2,    0.02,2,    1.87,2,   0.543,2,   0.297,2,   0.003,2,  2218.7,2,  2313.0,2,   1101.0,2,    20.00,   7.5812,2,    25.00,-999.000,9,-999.000,9,-999.000,9, -999.00,9,  -999.0,9,  -999.0,-999.000,9,-999.000,-999.000,9,   43.82,2,   34.14,2,  500.60,-999.0000,9,-999.0000,9,-999.0000,9,-999.0000,9,-999.0000,9,-999.0000,9,   9.8851,     -999.0,9,     -999.0,9,     -999.0,9,     -999.0,9,         98,-999.000,-999.000,-999.000,     -999.0,9, -999.00,9, -999.00,9
33RO200306_02,       A16N,     098,          2,         17,         17,2,20030725,       0215,    16.9998,   -29.0002,       4884,   598.8,   8.5431,  35.0363,2,  35.0388,2,     90.6,2,    90.0,2,   17.78,2,   32.29,2,    0.02,2,    2.01,2,   0.258,2,   0.143,2,   0.001,2,  2221.2,2,  2307.3,6,   1157.4,2,    20.00,   7.5660,6,    25.00,-999.000,9,-999.000,9,-999.000,9, -999.00,9,  -999.0,9,  -999.0,-999.000,9,-999.000,-999.000,9,   43.25,2,   36.58,2,  598.80,-999.0000,9,-999.0000,9,-999.0000,9,-999.0000,9,-999.0000,9,-999.0000,9,   8.4785,     -999.0,9,     -999.0,9,     -999.0,9,     -999.0,9,         98,-999.000,-999.000,-999.000,     -999.0,9, -999.00,9, -999.00,9
33RO200306_02,       A16N,     098,          2,         16,         16,2,20030725,       0215,    16.9998,   -29.0002,       4884,   699.0,   7.7548,  34.9651,2,  34.9654,2,     97.8,2,    97.4,2,   19.95,2,   32.92,2,    0.01,2,    2.09,2,   0.130,2,   0.076,2,   0.002,2,  2222.3,2,  2306.9,2,   1175.8,2,    20.00,   7.5572,2,    25.00,-999.000,9,-999.000,9,-999.000,9, -999.00,9,  -999.0,9,  -999.0,-999.000,9,-999.000,-999.000,9,   42.93,2,   36.77,2,  699.00,-999.0000,9,-999.0000,9,-999.0000,9,-999.0000,9,-999.0000,9,-999.0000,9,   7.6831,     -999.0,9,     -999.0,9,     -999.0,9,     -999.0,9,         98,-999.000,-999.000,-999.000,     -999.0,9, -999.00,9, -999.00,9
33RO200306_02,       A16N,     098,          2,         15,         15,2,20030725,       0215,    16.9998,   -29.0002,       4884,   799.6,   7.1677,  34.9610,2,  34.9618,2,    108.5,2,   107.7,2,   21.31,2,   32.41,2,    0.02,2,    2.09,2,   0.070,2,   0.040,2,   0.001,2,  2221.8,2,  2310.9,2,   1141.4,2,    20.00,   7.5719,2,    25.00,   0.240,2,   1.871,3,   1.251,2, -999.00,9,  -999.0,9,  -999.0,   7.974,2,   0.066,-999.000,9,   42.68,2,   37.79,2,  799.60,-999.0000,9,-999.0000,9,-999.0000,9,-999.0000,9,-999.0000,9,-999.0000,9,   7.0886,     -999.0,9,     -999.0,9,     -999.0,9,     -999.0,9,         98,   0.005,   0.249,   0.020,     -999.0,9, -999.00,9, -999.00,9
33RO200306_02,       A16N,     098,          2,         14,         14,2,20030725,       0215,    16.9998,   -29.0002,       4884,   900.1,   6.5533,  34.9377,2,  34.9391,2,    122.0,2,   121.2,2,   22.50,2,   31.64,2,    0.02,2,    2.07,2,   0.041,2,   0.025,2,   0.001,2,  2219.8,2,  2315.3,2,   1108.0,2,    20.00,   7.5811,2,    25.00,-999.000,9,-999.000,9,-999.000,9, -999.00,9,  -999.0,9,  -999.0,-999.000,9,-999.000,-999.000,9,   41.95,2,   34.83,2,  900.10,-999.0000,9,-999.0000,9,-999.0000,9,-999.0000,9,-999.0000,9,-999.0000,9,   6.4678,     -999.0,9,     -999.0,9,     -999.0,9,     -999.0,9,         98,-999.000,-999.000,-999.000,     -999.0,9, -999.00,9, -999.00,9
33RO200306_02,       A16N,     098,          2,         13,         13,2,20030725,       0215,    16.9998,   -29.0002,       4884,  1000.4,   6.2644,  34.9887,2,  34.9900,2,    141.0,2,   142.1,2,   21.85,2,   29.32,2,    0.01,2,    1.93,2,   0.039,2,   0.023,2,   0.000,2,  2211.4,6,  2325.2,3,   1014.7,2,    20.00,   7.6208,2,    25.00,   0.249,2,   1.830,2,   0.714,2, -999.00,9,  -999.0,9,  -999.0,   7.735,2,   0.052,-999.000,9,   42.93,2,   32.92,2, 1000.40,-999.0000,9,-999.0000,9,-999.0000,9,-999.0000,9,-999.0000,9,-999.0000,9,   6.1708,     -999.0,9,     -999.0,9,     -999.0,9,     -999.0,9,         98,   0.003,   0.214,   0.010,     -999.0,9, -999.00,9, -999.00,9
33RO200306_02,       A16N,     098,          2,         12,         12,2,20030725,       0215,    16.9998,   -29.0002,       4884,  1100.2,   5.6354,  34.9654,2,  34.9660,2,    154.1,2,   154.5,2,   22.60,2,   28.62,2,    0.01,2,    1.90,2,   0.024,2,   0.012,2,   0.001,2,  2210.2,2,  2318.9,2,    997.5,2,    20.00,   7.6285,2,    25.00,   0.062,2,   1.820,2,   0.403,2, -999.00,9,  -999.0,9,  -999.0,   7.744,2,   0.052,-999.000,9,   41.87,2,   32.58,2, 1100.20,-999.0000,9,-999.0000,9,-999.0000,9,-999.0000,9,-999.0000,9,-999.0000,9,   5.5369,     -999.0,9,     -999.0,9,     -999.0,9,     -999.0,9,         98,   0.003,   0.214,   0.010,     -999.0,9, -999.00,9, -999.00,9
33RO200306_02,       A16N,     098,          2,         11,         11,2,20030725,       0215,    16.9998,   -29.0002,       4884,  1201.1,   5.3682,  34.9947,2,  34.9929,2,    169.6,2,   168.8,2,   22.01,2,   27.00,2,    0.01,2,    1.79,2,   0.012,2,   0.009,2,   0.000,2,  2203.1,2,  2320.9,2,    942.1,2,    20.00,   7.6694,2,    25.00,   0.068,2,   1.841,2,   0.093,2, -999.00,9,  -999.0,9,  -999.0,   7.865,2,   0.053,-999.000,9,   41.30,2,   31.52,2, 1201.10,-999.0000,9,-999.0000,9,-999.0000,9,-999.0000,9,-999.0000,9,-999.0000,9,   5.2621,     -999.0,9,     -999.0,9,     -999.0,9,     -999.0,9,         98,   0.003,   0.214,   0.010,     -999.0,9, -999.00,9, -999.00,9
33RO200306_02,       A16N,     098,          2,         10,         10,2,20030725,       0215,    16.9998,   -29.0002,       4884,  1399.4,   4.8318,  35.0267,2,  35.0295,2,    192.8,2,   193.9,2,   21.50,2,   24.49,2,    0.01,2,    1.64,2,   0.008,2,   0.006,2,   0.001,2,  2192.8,2,  2322.6,2,    853.9,2,    20.00,   7.6827,2,    25.00,-999.000,9,   1.814,2,   0.240,2, -999.00,9,  -999.0,9,  -999.0,   7.710,2,   0.051,-999.000,9,   42.36,2,   28.83,2, 1399.40,-999.0000,9,-999.0000,9,-999.0000,9,-999.0000,9,-999.0000,9,-999.0000,9,   4.7118,     -999.0,9,     -999.0,9,     -999.0,9,     -999.0,9,         98,   0.003,   0.215,-999.000,     -999.0,9, -999.00,9, -999.00,9
33RO200306_02,       A16N,     098,          2,          9,          9,2,20030725,       0215,    16.9998,   -29.0002,       4884,  1601.0,   4.1649,  35.0048,2,  35.0061,2,    214.9,2,   216.3,2,   21.95,2,   22.68,2,    0.01,2,    1.52,2,  -0.003,2,   0.004,2,   0.000,2,  2184.7,2,  2322.4,2,    810.4,2,    20.00,   7.7022,2,    25.00,-999.000,9,-999.000,9,-999.000,9, -999.00,9,  -999.0,9,  -999.0,-999.000,9,-999.000,-999.000,9,   41.71,2,   27.29,2, 1601.00,-999.0000,9,-999.0000,9,-999.0000,9,-999.0000,9,-999.0000,9,-999.0000,9,   4.0333,     -999.0,9,     -999.0,9,     -999.0,9,     -999.0,9,         98,-999.000,-999.000,-999.000,     -999.0,9, -999.00,9, -999.00,9
33RO200306_02,       A16N,     098,          2,          8,          8,2,20030725,       0215,    16.9998,   -29.0002,       4884,  1800.1,   3.7998,  34.9886,2,  34.9897,2,    226.8,2,   228.8,2,   22.89,2,   21.73,2,    0.01,2,    1.47,2,  -0.004,2,   0.003,2,   0.000,2,  2178.8,2,  2323.7,2,    784.6,2,    20.00,   7.7207,2,    25.00,-999.000,9,-999.000,9,-999.000,9, -999.00,9,  -999.0,9,  -999.0,-999.000,9,-999.000,-999.000,9,   42.27,2,   25.98,2, 1800.10,-999.0000,9,-999.0000,9,-999.0000,9,-999.0000,9,-999.0000,9,-999.0000,9,   3.6542,     -999.0,9,     -999.0,9,     -999.0,9,     -999.0,9,         98,-999.000,-999.000,-999.000,     -999.0,9, -999.00,9, -999.00,9