BOTTLE,20230908CCHSIOCBG
EXPOCODE,SECT_ID,STNNBR,CASTNO,SAMPNO,BTLNBR,BTLNBR_FLAG_W,DATE,TIME,LATITUDE,LONGITUDE,DEPTH,CTDPRS,CTDTMP,CTDSAL,CTDSAL_FLAG_W,SALNTY,SALNTY_FLAG_W,CTDOXY,CTDOXY_FLAG_W,OXYGEN,OXYGEN_FLAG_W,SILCAT,SILCAT_FLAG_W,NITRAT,NITRAT_FLAG_W,NITRIT,NITRIT_FLAG_W,PHSPHT,PHSPHT_FLAG_W,CFC-11,CFC-11_FLAG_W,CFC-12,CFC-12_FLAG_W,CFC113,CFC113_FLAG_W,TCARBN,TCARBN_FLAG_W,ALKALI,ALKALI_FLAG_W,FCO2,FCO2_FLAG_W,FCO2TMP,PH_SWS,PH_SWS_FLAG_W,PH_TMP,TRITUM,TRITUM_FLAG_W,HELIUM,HELIUM_FLAG_W,DELHE3,DELHE3_FLAG_W,DELC13,DELC13_FLAG_W,DELC14,DELC14_FLAG_W,C14ERR,NEON,NEON_FLAG_W,NEONER,POC,POC_FLAG_W,DOC,DOC_FLAG_W,TDN,TDN_FLAG_W,CTDRAW,CDOM325,CDOM325_FLAG_W,CDOM340,CDOM340_FLAG_W,CDOM380,CDOM380_FLAG_W,CDOM412,CDOM412_FLAG_W,CDOMSL,CDOMSL_FLAG_W,CDOMSN,CDOMSN_FLAG_W,THETA,PON,PON_FLAG_W,HCFC-22,HCFC-22_FLAG_W,HCFC-142b,HCFC-142b_FLAG_W,HCFC-141b,HCFC-141b_FLAG_W,STNNBR_U,HELIER,DELHER,TRITER,CH3CL,CH3CL_FLAG_W,CH3BR,CH3BR_FLAG_W,CH3I,CH3I_FLAG_W
,,,,,,,,,,,METERS,DBAR,ITS-90,PSS-78,,PSS-78,,UMOL/KG,,UMOL/KG,,UMOL/KG,,UMOL/KG,,UMOL/KG,,UMOL/KG,,PMOL/KG,,PMOL/KG,,PMOL/KG,,UMOL/KG,,UMOL/KG,,UATM,,DEG C,,,DEG C,TU,,NMOL/KG,,PERCNT,,/MILLE,,/MILLE,,/MILLE,NMOL/KG,,NMOL/KG,UG/KG,,UMOL/KG,,UMOL/KG,,DBAR,1/M,,1/M,,1/M,,1/M,,1/NM,,1/NM,,DEG C,UMOL/L,,PMOL/KG,,PMOL/KG,,PMOL/KG,,,NMOL/KG,PERCNT,TU,PMOL/KG,,PMOL/KG,,PMOL/KG,
33RO200306_02,       A16N,     149,          1,         35,         35,2,20030808,       2325,    -5.5033,   -25.0017,       5666,     2.7,  26.4254,  36.0013,2,  35.9965,2,    199.9,2,   203.6,2,    1.17,2,    0.07,2,    0.00,2,    0.10,2,   1.729,2,   1.115,2,   0.148,2,  2021.8,2,  2361.8,2,   -999.0,9,  -999.00,   8.0729,2,    25.00,-999.000,9,-999.000,9,-999.000,9, -999.00,9,  -999.0,9,  -999.0,-999.000,9,-999.000,-999.000,9, -999.00,9, -999.00,9,    2.70,-999.0000,9,-999.0000,9,-999.0000,9,-999.0000,9,-999.0000,9,-999.0000,9,  26.4248,     -999.0,9,     -999.0,9,     -999.0,9,     -999.0,9,        149,-999.000,-999.000,-999.000,     -999.0,9, -999.00,9, -999.00,9
33RO200306_02,       A16N,     149,          1,         33,         33,2,20030808,       2325,    -5.5033,   -25.0017,       5666,    24.7,  26.4322,  35.9991,2,  35.9905,2,    200.3,2,   203.5,2,    1.16,2,    0.06,2,    0.00,2,    0.09,2,-999.000,9,-999.000,9,-999.000,9,  -999.0,9,  -999.0,9,   -999.0,9,  -999.00,-999.0000,9,  -999.00,-999.000,9,-999.000,9,-999.000,9, -999.00,9,  -999.0,9,  -999.0,-999.000,9,-999.000,-999.000,9, -999.00,9, -999.00,9,   24.70,-999.0000,9,-999.0000,9,-999.0000,9,-999.0000,9,-999.0000,9,-999.0000,9,  26.4266,     -999.0,9,     -999.0,9,     -999.0,9,     -999.0,9,        149,-999.000,-999.000,-999.000,     -999.0,9, -999.00,9, -999.00,9
33RO200306_02,       A16N,     149,          1,         32,         32,2,20030808,       2325,    -5.5033,   -25.0017,       5666,    49.5,  26.3470,  35.9790,2,  35.9727,2,    201.5,2,   203.9,2,    1.18,2,    0.01,2,    0.00,2,    0.09,2,   1.733,2,   1.116,2,   0.145,2,  2021.9,2,  2360.8,2,   -999.0,9,  -999.00,   8.0728,2,    25.00,-999.000,9,-999.000,9,-999.000,9, -999.00,9,  -999.0,9,  -999.0,-999.000,9,-999.000,-999.000,9, -999.00,9, -999.00,9,   49.50,-999.0000,9,-999.0000,9,-999.0000,9,-999.0000,9,-999.0000,9,-999.0000,9,  26.3358,     -999.0,9,     -999.0,9,     -999.0,9,     -999.0,9,        149,-999.000,-999.000,-999.000,     -999.0,9, -999.00,9, -999.00,9
33RO200306_02,       A16N,     149,          1,         31,         31,2,20030808,       2325,    -5.5033,   -25.0017,       5666,    68.9,  26.2326,  35.9677,2,  35.9678,2,    201.4,2,   204.7,2,    1.20,2,    0.01,2,    0.00,2,    0.10,2,-999.000,9,-999.000,9,-999.000,9,  -999.0,9,  -999.0,9,   -999.0,9,  -999.00,-999.0000,9,  -999.00,-999.000,9,-999.000,9,-999.000,9, -999.00,9,  -999.0,9,  -999.0,-999.000,9,-999.000,-999.000,9, -999.00,9, -999.00,9,   68.90,-999.0000,9,-999.0000,9,-999.0000,9,-999.0000,9,-999.0000,9,-999.0000,9,  26.2171,     -999.0,9,     -999.0,9,     -999.0,9,     -999.0,9,        149,-999.000,-999.000,-999.000,     -999.0,9, -999.00,9, -999.00,9
33RO200306_02,       A16N,     149,          1,         30,         30,2,20030808,       2325,    -5.5033,   -25.0017,       5666,    99.7,  21.3632,  36.1307,2,  36.1238,2,    168.0,2,   159.6,2,    2.99,2,    6.05,2,    0.14,2,    0.60,2,   1.928,2,   1.172,2,   0.114,2,  2120.9,2,  2371.5,2,   -999.0,9,  -999.00,   7.9208,2,    25.00,-999.000,9,-999.000,9,-999.000,9, -999.00,9,  -999.0,9,  -999.0,-999.000,9,-999.000,-999.000,9, -999.00,9, -999.00,9,   99.70,-999.0000,9,-999.0000,9,-999.0000,9,-999.0000,9,-999.0000,9,-999.0000,9,  21.3438,     -999.0,9,     -999.0,9,     -999.0,9,     -999.0,9,        149,-999.000,-999.000,-999.000,     -999.0,9, -999.00,9, -999.00,9
33RO200306_02,       A16N,     149,          1,         29,         29,2,20030808,       2325,    -5.5033,   -25.0017,       5666,   123.3,  17.0948,  35.7603,2,  35.7266,2,    112.4,2,   108.9,2,    5.54,2,   17.57,2,    0.03,2,    1.18,2,-999.000,9,-999.000,9,-999.000,9,  -999.0,9,  -999.0,9,   -999.0,9,  -999.00,-999.0000,9,  -999.00,-999.000,9,-999.000,9,-999.000,9, -999.00,9,  -999.0,9,  -999.0,-999.000,9,-999.000,-999.000,9, -999.00,9, -999.00,9,  123.30,-999.0000,9,-999.0000,9,-999.0000,9,-999.0000,9,-999.0000,9,-999.0000,9,  17.0743,     -999.0,9,     -999.0,9,     -999.0,9,     -999.0,9,        149,-999.000,-999.000,-999.000,     -999.0,9, -999.00,9, -999.00,9
33RO200306_02,       A16N,     149,          1,         28,         28,2,20030808,       2325,    -5.5033,   -25.0017,       5666,   148.4,  13.9462,  35.3992,2,  35.3865,2,    107.3,2,   110.5,2,    7.46,2,   21.02,2,    0.01,2,    1.36,2,-999.000,9,-999.000,9,-999.000,9,  -999.0,9,  -999.0,9,   -999.0,9,  -999.00,-999.0000,9,  -999.00,-999.000,9,-999.000,9,-999.000,9, -999.00,9,  -999.0,9,  -999.0,-999.000,9,-999.000,-999.000,9, -999.00,9, -999.00,9,  148.40,-999.0000,9,-999.0000,9,-999.0000,9,-999.0000,9,-999.0000,9,-999.0000,9,  13.9248,     -999.0,9,     -999.0,9,     -999.0,9,     -999.0,9,        149,-999.000,-999.000,-999.000,     -999.0,9, -999.00,9, -999.00,9
33RO200306_02,       A16N,     149,          1,         27,         27,2,20030808,       2325,    -5.5033,   -25.0017,       5666,   174.1,  11.8769,  35.1442,2,  35.1377,2,    111.4,2,   103.3,2,   10.06,2,   24.92,2,    0.01,2,    1.58,2,-999.000,9,-999.000,9,-999.000,9,  -999.0,9,  -999.0,9,   -999.0,9,  -999.00,-999.0000,9,  -999.00,-999.000,9,-999.000,9,-999.000,9, -999.00,9,  -999.0,9,  -999.0,-999.000,9,-999.000,-999.000,9, -999.00,9, -999.00,9,  174.10,-999.0000,9,-999.0000,9,-999.0000,9,-999.0000,9,-999.0000,9,-999.0000,9,  11.8543,     -999.0,9,     -999.0,9,     -999.0,9,     -999.0,9,        149,-999.000,-999.000,-999.000,     -999.0,9, -999.00,9, -999.00,9
33RO200306_02,       A16N,     149,          1,         26,         26,2,20030808,       2325,    -5.5033,   -25.0017,       5666,   199.7,  11.2831,  35.0761,2,  35.0638,2,    102.3,2,   102.2,2,   11.03,2,   26.19,2,    0.01,2,    1.66,2,   1.415,2,   0.757,2,   0.018,2,  2199.3,2,  2317.1,2,   -999.0,9,  -999.00,   7.6284,2,    25.00,-999.000,9,-999.000,9,-999.000,9, -999.00,9,  -999.0,9,  -999.0,-999.000,9,-999.000,-999.000,9, -999.00,9, -999.00,9,  199.70,-999.0000,9,-999.0000,9,-999.0000,9,-999.0000,9,-999.0000,9,-999.0000,9,  11.2580,     -999.0,9,     -999.0,9,     -999.0,9,     -999.0,9,        149,-999.000,-999.000,-999.000,     -999.0,9, -999.00,9, -999.00,9
33RO200306_02,       A16N,     149,          1,         25,         25,2,20030808,       2325,    -5.5033,   -25.0017,       5666,   249.2,  10.1272,  34.9338,2,  34.9310,2,     96.7,2,    96.2,2,   13.24,2,   29.01,2,    0.01,2,    1.81,2,-999.000,9,-999.000,9,-999.000,9,  -999.0,9,  -999.0,9,   -999.0,9,  -999.00,-999.0000,9,  -999.00,-999.000,9,-999.000,9,-999.000,9, -999.00,9,  -999.0,9,  -999.0,-999.000,9,-999.000,-999.000,9, -999.00,9, -999.00,9,  249.20,-999.0000,9,-999.0000,9,-999.0000,9,-999.0000,9,-999.0000,9,-999.0000,9,  10.0980,     -999.0,9,     -999.0,9,     -999.0,9,     -999.0,9,        149,-999.000,-999.000,-999.000,     -999.0,9, -999.00,9, -999.00,9
33RO200306_02,       A16N,     149,          1,         24,         24,2,20030808,       2325,    -5.5033,   -25.0017,       5666,   293.4,   9.5447,  34.8722,2,  34.8618,2,     88.0,2,    84.2,2,   14.94,2,   31.72,2,    0.01,2,    1.96,2,-999.000,9,-999.000,9,-999.000,9,  -999.0,9,  -999.0,9,   -999.0,9,  -999.00,-999.0000,9,  -999.00,-999.000,9,-999.000,9,-999.000,9, -999.00,9,  -999.0,9,  -999.0,-999.000,9,-999.000,-999.000,9, -999.00,9, -999.00,9,  293.40,-999.0000,9,-999.0000,9,-999.0000,9,-999.0000,9,-999.0000,9,-999.0000,9,   9.5115,     -999.0,9,     -999.0,9,     -999.0,9,     -999.0,9,        149,-999.000,-999.000,-999.000,     -999.0,9, -999.00,9, -999.00,9
33RO200306_02,       A16N,     149,          1,         23,         23,2,20030808,       2325,    -5.5033,   -25.0017,       5666,   348.6,   8.7314,  34.7911,2,  34.7868,2,     79.8,2,    77.0,2,   17.12,2,   34.15,2,    0.01,2,    2.10,2,-999.000,9,-999.000,9,-999.000,9,  -999.0,9,  -999.0,9,   -999.0,9,  -999.00,-999.0000,9,  -999.00,-999.000,9,-999.000,9,-999.000,9, -999.00,9,  -999.0,9,  -999.0,-999.000,9,-999.000,-999.000,9, -999.00,9, -999.00,9,  348.60,-999.0000,9,-999.0000,9,-999.0000,9,-999.0000,9,-999.0000,9,-999.0000,9,   8.6940,     -999.0,9,     -999.0,9,     -999.0,9,     -999.0,9,        149,-999.000,-999.000,-999.000,     -999.0,9, -999.00,9, -999.00,9
33RO200306_02,       A16N,     149,          1,         22,         22,2,20030808,       2325,    -5.5033,   -25.0017,       5666,   399.1,   8.0250,  34.7225,2,  34.7178,2,     78.9,2,    80.4,2,   19.01,2,   35.47,2,    0.01,2,    2.20,2,   0.395,2,   0.219,2,   0.004,2,  2230.1,2,  2296.9,2,   -999.0,9,  -999.00,   7.4975,2,    25.00,-999.000,9,-999.000,9,-999.000,9, -999.00,9,  -999.0,9,  -999.0,-999.000,9,-999.000,-999.000,9, -999.00,9, -999.00,9,  399.10,-999.0000,9,-999.0000,9,-999.0000,9,-999.0000,9,-999.0000,9,-999.0000,9,   7.9842,     -999.0,9,     -999.0,9,     -999.0,9,     -999.0,9,        149,-999.000,-999.000,-999.000,     -999.0,9, -999.00,9, -999.00,9
33RO200306_02,       A16N,     149,          1,         21,         21,2,20030808,       2325,    -5.5033,   -25.0017,       5666,   498.2,   6.8535,  34.6132,2,  34.6116,2,     97.3,2,   101.5,2,   21.94,2,   35.47,2,    0.01,2,    2.24,2,-999.000,9,-999.000,9,-999.000,9,  -999.0,9,  -999.0,9,   -999.0,9,  -999.00,-999.0000,9,  -999.00,-999.000,9,-999.000,9,-999.000,9, -999.00,9,  -999.0,9,  -999.0,-999.000,9,-999.000,-999.000,9, -999.00,9, -999.00,9,  498.20,-999.0000,9,-999.0000,9,-999.0000,9,-999.0000,9,-999.0000,9,-999.0000,9,   6.8067,     -999.0,9,     -999.0,9,     -999.0,9,     -999.0,9,        149,-999.000,-999.000,-999.000,     -999.0,9, -999.00,9, -999.00,9
33RO200306_02,       A16N,     149,          1,         20,         20,2,20030808,       2325,    -5.5033,   -25.0017,       5666,   599.6,   5.9651,  34.5379,2,  34.5323,2,    125.4,2,   124.7,2,   24.83,2,   35.02,2,    0.01,2,    2.25,2,   0.395,2,   0.219,2,   0.004,2,  -999.0,9,  -999.0,9,   -999.0,9,  -999.00,-999.0000,9,  -999.00,-999.000,9,-999.000,9,-999.000,9, -999.00,9,  -999.0,9,  -999.0,-999.000,9,-999.000,-999.000,9, -999.00,9, -999.00,9,  599.60,-999.0000,9,-999.0000,9,-999.0000,9,-999.0000,9,-999.0000,9,-999.0000,9,   5.9124,     -999.0,9,     -999.0,9,     -999.0,9,     -999.0,9,        149,-999.000,-999.000,-999.000,     -999.0,9, -999.00,9, -999.00,9
33RO200306_02,       A16N,     149,          1,         19,         19,2,20030808,       2325,    -5.5033,   -25.0017,       5666,   698.4,   5.3377,  34.4957,2,  34.4942,2,    134.7,2,   138.1,2,   27.72,2,   34.94,2,    0.01,2,    2.27,2,-999.000,9,-999.000,9,-999.000,9,  -999.0,9,  -999.0,9,   -999.0,9,  -999.00,-999.0000,9,  -999.00,-999.000,9,-999.000,9,-999.000,9, -999.00,9,  -999.0,9,  -999.0,-999.000,9,-999.000,-999.000,9, -999.00,9, -999.00,9,  698.40,-999.0000,9,-999.0000,9,-999.0000,9,-999.0000,9,-999.0000,9,-999.0000,9,   5.2792,     -999.0,9,     -999.0,9,     -999.0,9,     -999.0,9,        149,-999.000,-999.000,-999.000,     -999.0,9, -999.00,9, -999.00,9
33RO200306_02,       A16N,     149,          1,         18,         18,2,20030808,       2325,    -5.5033,   -25.0017,       5666,   849.8,   4.5344,  34.4806,2,  34.4759,2,    155.3,2,   156.0,2,   32.76,2,   34.27,2,    0.01,2,    2.29,2,-999.000,9,-999.000,9,-999.000,9,  -999.0,9,  -999.0,9,   -999.0,9,  -999.00,-999.0000,9,  -999.00,-999.000,9,-999.000,9,-999.000,9, -999.00,9,  -999.0,9,  -999.0,-999.000,9,-999.000,-999.000,9, -999.00,9, -999.00,9,  849.80,-999.0000,9,-999.0000,9,-999.0000,9,-999.0000,9,-999.0000,9,-999.0000,9,   4.4676,     -999.0,9,     -999.0,9,     -999.0,9,     -999.0,9,        149,-999.000,-999.000,-999.000,     -999.0,9, -999.00,9, -999.00,9
33RO200306_02,       A16N,     149,          1,         17,         17,2,20030808,       2325,    -5.5033,   -25.0017,       5666,  1000.5,   4.1307,  34.5634,2,  34.5589,2,    168.1,2,   167.5,2,   35.17,2,   32.69,2,    0.01,2,    2.18,2,-999.000,9,-999.000,9,-999.000,9,  -999.0,9,  -999.0,9,   -999.0,9,  -999.00,-999.0000,9,  -999.00,-999.000,9,-999.000,9,-999.000,9, -999.00,9,  -999.0,9,  -999.0,-999.000,9,-999.000,-999.000,9, -999.00,9, -999.00,9, 1000.50,-999.0000,9,-999.0000,9,-999.0000,9,-999.0000,9,-999.0000,9,-999.0000,9,   4.0539,     -999.0,9,     -999.0,9,     -999.0,9,     -999.0,9,        149,-999.000,-999.000,-999.000,     -999.0,9, -999.00,9, -999.00,9
33RO200306_02,       A16N,     149,          1,         16,         16,2,20030808,       2325,    -5.5033,   -25.0017,       5666,  1149.9,   4.3661,  34.7416,2,  34.7384,2,    175.6,2,   173.9,2,   29.45,2,   29.79,2,    0.00,2,    1.97,2,-999.000,9,-999.000,9,-999.000,9,  -999.0,9,  -999.0,9,   -999.0,9,  -999.00,-999.0000,9,  -999.00,-999.000,9,-999.000,9,-999.000,9, -999.00,9,  -999.0,9,  -999.0,-999.000,9,-999.000,-999.000,9, -999.00,9, -999.00,9, 1149.90,-999.0000,9,-999.0000,9,-999.0000,9,-999.0000,9,-999.0000,9,-999.0000,9,   4.2741,     -999.0,9,     -999.0,9,     -999.0,9,     -999.0,9,        149,-999.000,-999.000,-999.000,     -999.0,9, -999.00,9, -999.00,9
33RO200306_02,       A16N,     149,          1,         15,         15,2,20030808,       2325,    -5.5033,   -25.0017,       5666,  1299.4,   4.4266,  34.8552,2,  34.8520,2,    191.1,2,   192.4,2,   24.88,2,   26.54,2,    0.00,2,    1.75,2,-999.000,9,-999.000,9,-999.000,9,  -999.0,9,  -999.0,9,   -999.0,9,  -999.00,-999.0000,9,  -999.00,-999.000,9,-999.000,9,-999.000,9, -999.00,9,  -999.0,9,  -999.0,-999.000,9,-999.000,-999.000,9, -999.00,9, -999.00,9, 1299.40,-999.0000,9,-999.0000,9,-999.0000,9,-999.0000,9,-999.0000,9,-999.0000,9,   4.3204,     -999.0,9,     -999.0,9,     -999.0,9,     -999.0,9,        149,-999.000,-999.000,-999.000,     -999.0,9, -999.00,9, -999.00,9
33RO200306_02,       A16N,     149,          1,         14,         14,2,20030808,       2325,    -5.5033,   -25.0017,       5666,  1599.8,   4.1237,  34.9694,2,  34.9665,2,    233.3,2,   233.8,2,   19.16,2,   21.30,2,    0.00,2,    1.39,2,-999.000,9,-999.000,9,-999.000,9,  -999.0,9,  -999.0,9,   -999.0,9,  -999.00,-999.0000,9,  -999.00,-999.000,9,-999.000,9,-999.000,9, -999.00,9,  -999.0,9,  -999.0,-999.000,9,-999.000,-999.000,9, -999.00,9, -999.00,9, 1599.80,-999.0000,9,-999.0000,9,-999.0000,9,-999.0000,9,-999.0000,9,-999.0000,9,   3.9929,     -999.0,9,     -999.0,9,     -999.0,9,     -999.0,9,        149,-999.000,-999.000,-999.000,     -999.0,9, -999.00,9, -999.00,9
33RO200306_02,       A16N,     149,          1,         13,         13,2,20030808,       2325,    -5.5033,   -25.0017,       5666,  1800.1,   3.8415,  34.9779,2,  34.9739,2,    245.3,2,   245.8,2,   19.16,2,   20.11,2,    0.00,2,    1.31,2,-999.000,9,-999.000,9,-999.000,9,  -999.0,9,  -999.0,9,   -999.0,9,  -999.00,-999.0000,9,  -999.00,-999.000,9,-999.000,9,-999.000,9, -999.00,9,  -999.0,9,  -999.0,-999.000,9,-999.000,-999.000,9, -999.00,9, -999.00,9, 1800.10,-999.0000,9,-999.0000,9,-999.0000,9,-999.0000,9,-999.0000,9,-999.0000,9,   3.6954,     -999.0,9,     -999.0,9,     -999.0,9,     -999.0,9,        149,-999.000,-999.000,-999.000,     -999.0,9, -999.00,9, -999.00,9
33RO200306_02,       A16N,     149,          1,         12,         12,2,20030808,       2325,    -5.5033,   -25.0017,       5666,  1999.2,   3.5043,  34.9640,2,  34.9615,2,    248.2,2,   248.4,2,   22.70,2,   20.25,2,    0.00,2,    1.32,2,-999.000,9,-999.000,9,-999.000,9,  -999.0,9,  -999.0,9,   -999.0,9,  -999.00,-999.0000,9,  -999.00,-999.000,9,-999.000,9,-999.000,9, -999.00,9,  -999.0,9,  -999.0,-999.000,9,-999.000,-999.000,9, -999.00,9, -999.00,9, 1999.20,-999.0000,9,-999.0000,9,-999.0000,9,-999.0000,9,-999.0000,9,-999.0000,9,   3.3442,     -999.0,9,     -999.0,9,     -999.0,9,     -999.0,9,        149,-999.000,-999.000,-999.000,     -999.0,9, -999.00,9, -999.00,9
33RO200306_02,       A16N,     149,          1,         11,         11,2,20030808,       2325,    -5.5033,   -25.0017,       5666,  2200.8,   3.2280,  34.9492,2,  34.9475,2,    247.8,2,   249.1,2,   26.99,2,   20.55,2,    0.00,2,    1.35,2,-999.000,9,-999.000,9,-999.000,9,  -999.0,9,  -999.0,9,   -999.0,9,  -999.00,-999.0000,9,  -999.00,-999.000,9,-999.000,9,-999.000,9, -999.00,9,  -999.0,9,  -999.0,-999.000,9,-999.000,-999.000,9, -999.00,9, -999.00,9, 2200.80,-999.0000,9,-999.0000,9,-999.0000,9,-999.0000,9,-999.0000,9,-999.0000,9,   3.0531,     -999.0,9,     -999.0,9,     -999.0,9,     -999.0,9,        149,-999.000,-999.000,-999.000,     -999.0,9, -999.00,9, -999.00,9
33RO200306_02,       A16N,     149,          1,         10,         10,2,20030808,       2325,    -5.5033,   -25.0017,       5666,  2498.6,   2.9494,  34.9339,2,  34.9308,2,    247.5,2,   247.8,2,   31.87,2,   20.95,2,    0.00,2,    1.39,2,-999.000,9,-999.000,9,-999.000,9,  -999.0,9,  -999.0,9,   -999.0,9,  -999.00,-999.0000,9,  -999.00,-999.000,9,-999.000,9,-999.000,9, -999.00,9,  -999.0,9,  -999.0,-999.000,9,-999.000,-999.000,9, -999.00,9, -999.00,9, 2498.60,-999.0000,9,-999.0000,9,-999.0000,9,-999.0000,9,-999.0000,9,-999.0000,9,   2.7506,     -999.0,9,     -999.0,9,     -999.0,9,     -999.0,9,        149,-999.000,-999.000,-999.000,     -999.0,9, -999.00,9, -999.00,9
33RO200306_02,       A16N,     149,          1,          9,          9,2,20030808,       2325,    -5.5033,   -25.0017,       5666,  2798.6,   2.7816,  34.9245,2,  34.9223,2,    247.1,2,   254.8,2,   34.79,2,   21.17,2,    0.00,2,    1.39,2,-999.000,9,-999.000,9,-999.000,9,  -999.0,9,  -999.0,9,   -999.0,9,  -999.00,-999.0000,9,  -999.00,-999.000,9,-999.000,9,-999.000,9, -999.00,9,  -999.0,9,  -999.0,-999.000,9,-999.000,-999.000,9, -999.00,9, -999.00,9, 2798.60,-999.0000,9,-999.0000,9,-999.0000,9,-999.0000,9,-999.0000,9,-999.0000,9,   2.5562,     -999.0,9,     -999.0,9,     -999.0,9,     -999.0,9,        149,-999.000,-999.000,-999.000,     -999.0,9, -999.00,9, -999.00,9
33RO200306_02,       A16N,     149,          1,          8,          8,2,20030808,       2325,    -5.5033,   -25.0017,       5666,  3198.5,   2.6311,  34.9213,2,  34.9176,2,    253.2,2,   255.2,2,   33.76,2,   20.46,2,    0.00,2,    1.36,2,-999.000,9,-999.000,9,-999.000,9,  -999.0,9,  -999.0,9,   -999.0,9,  -999.00,-999.0000,9,  -999.00,-999.000,9,-999.000,9,-999.000,9, -999.00,9,  -999.0,9,  -999.0,-999.000,9,-999.000,-999.000,9, -999.00,9, -999.00,9, 3198.50,-999.0000,9,-999.0000,9,-999.0000,9,-999.0000,9,-999.0000,9,-999.0000,9,   2.3678,     -999.0,9,     -999.0,9,     -999.0,9,     -999.0,9,        149,-999.000,-999.000,-999.000,     -999.0,9, -999.00,9, -999.00,9