BOTTLE,20230908CCHSIOCBG
EXPOCODE,SECT_ID,STNNBR,CASTNO,SAMPNO,BTLNBR,BTLNBR_FLAG_W,DATE,TIME,LATITUDE,LONGITUDE,DEPTH,CTDPRS,CTDTMP,CTDSAL,CTDSAL_FLAG_W,SALNTY,SALNTY_FLAG_W,CTDOXY,CTDOXY_FLAG_W,OXYGEN,OXYGEN_FLAG_W,SILCAT,SILCAT_FLAG_W,NITRAT,NITRAT_FLAG_W,NITRIT,NITRIT_FLAG_W,PHSPHT,PHSPHT_FLAG_W,CFC-11,CFC-11_FLAG_W,CFC-12,CFC-12_FLAG_W,CFC113,CFC113_FLAG_W,TCARBN,TCARBN_FLAG_W,ALKALI,ALKALI_FLAG_W,FCO2,FCO2_FLAG_W,FCO2TMP,PH_SWS,PH_SWS_FLAG_W,PH_TMP,TRITUM,TRITUM_FLAG_W,HELIUM,HELIUM_FLAG_W,DELHE3,DELHE3_FLAG_W,DELC13,DELC13_FLAG_W,DELC14,DELC14_FLAG_W,C14ERR,NEON,NEON_FLAG_W,NEONER,POC,POC_FLAG_W,DOC,DOC_FLAG_W,TDN,TDN_FLAG_W,CTDRAW,CDOM325,CDOM325_FLAG_W,CDOM340,CDOM340_FLAG_W,CDOM380,CDOM380_FLAG_W,CDOM412,CDOM412_FLAG_W,CDOMSL,CDOMSL_FLAG_W,CDOMSN,CDOMSN_FLAG_W,THETA,PON,PON_FLAG_W,HCFC-22,HCFC-22_FLAG_W,HCFC-142b,HCFC-142b_FLAG_W,HCFC-141b,HCFC-141b_FLAG_W,STNNBR_U,HELIER,DELHER,TRITER,CH3CL,CH3CL_FLAG_W,CH3BR,CH3BR_FLAG_W,CH3I,CH3I_FLAG_W
,,,,,,,,,,,METERS,DBAR,ITS-90,PSS-78,,PSS-78,,UMOL/KG,,UMOL/KG,,UMOL/KG,,UMOL/KG,,UMOL/KG,,UMOL/KG,,PMOL/KG,,PMOL/KG,,PMOL/KG,,UMOL/KG,,UMOL/KG,,UATM,,DEG C,,,DEG C,TU,,NMOL/KG,,PERCNT,,/MILLE,,/MILLE,,/MILLE,NMOL/KG,,NMOL/KG,UG/KG,,UMOL/KG,,UMOL/KG,,DBAR,1/M,,1/M,,1/M,,1/M,,1/NM,,1/NM,,DEG C,UMOL/L,,PMOL/KG,,PMOL/KG,,PMOL/KG,,,NMOL/KG,PERCNT,TU,PMOL/KG,,PMOL/KG,,PMOL/KG,
33RO200306_01,       A16N,     035,          2,         24,         24,9,20030627,       1953,    48.0010,   -19.9967,       4362,     9.9,  14.0176,  35.5851,2,-999.0000,9,    249.6,2,  -999.0,9, -999.00,9, -999.00,9, -999.00,9, -999.00,9,-999.000,9,-999.000,9,-999.000,9,  -999.0,9,  -999.0,9,   -999.0,9,  -999.00,-999.0000,9,  -999.00,-999.000,9,-999.000,9,-999.000,9, -999.00,9,  -999.0,9,  -999.0,-999.000,9,-999.000,-999.000,9, -999.00,9, -999.00,9,    9.90,-999.0000,9,-999.0000,9,-999.0000,9,-999.0000,9,-999.0000,9,-999.0000,9,  14.0162,     -999.0,9,     -999.0,9,     -999.0,9,     -999.0,9,         35,-999.000,-999.000,-999.000,     -999.0,9, -999.00,9, -999.00,9
33RO200306_01,       A16N,     035,          2,         23,         23,2,20030627,       1953,    48.0010,   -19.9967,       4362,    24.0,  14.0107,  35.5833,2,  35.5838,2,    250.4,2,   259.7,2,    0.33,2,    2.88,2,    0.09,2,    0.25,2,   3.162,2,   1.872,2,   0.284,2,  2085.0,2,  -999.0,9,   -999.0,9,  -999.00,-999.0000,9,  -999.00,-999.000,9,-999.000,9,-999.000,9, -999.00,9,  -999.0,9,  -999.0,-999.000,9,-999.000,-999.000,9,   62.16,2,    6.98,2,   24.00,-999.0000,9,-999.0000,9,-999.0000,9,-999.0000,9,-999.0000,9,-999.0000,9,  14.0072,     -999.0,9,     -999.0,9,     -999.0,9,     -999.0,9,         35,-999.000,-999.000,-999.000,     -999.0,9, -999.00,9, -999.00,9
33RO200306_01,       A16N,     035,          2,         22,         22,2,20030627,       1953,    48.0010,   -19.9967,       4362,    50.0,  13.1239,  35.5716,2,  35.5732,2,    255.0,2,   260.6,2,    0.35,2,    3.46,2,    0.12,2,    0.31,2,   3.262,2,   1.920,2,   0.286,2,  2093.1,2,  -999.0,9,   -999.0,9,  -999.00,-999.0000,9,  -999.00,-999.000,9,-999.000,9,-999.000,9, -999.00,9,  -999.0,9,  -999.0,-999.000,9,-999.000,-999.000,9,   56.83,2,    9.39,2,   50.00,-999.0000,9,-999.0000,9,-999.0000,9,-999.0000,9,-999.0000,9,-999.0000,9,  13.1170,     -999.0,9,     -999.0,9,     -999.0,9,     -999.0,9,         35,-999.000,-999.000,-999.000,     -999.0,9, -999.00,9, -999.00,9
33RO200306_01,       A16N,     035,          2,         21,         21,2,20030627,       1953,    48.0010,   -19.9967,       4362,    75.3,  12.4979,  35.5961,2,  35.5884,2,    252.3,2,   252.2,2,    0.95,2,    5.09,2,    0.18,2,    0.45,2,   3.299,2,   1.942,2,   0.288,2,  2107.7,2,  -999.0,9,   -999.0,9,  -999.00,-999.0000,9,  -999.00,-999.000,9,-999.000,9,-999.000,9, -999.00,9,  -999.0,9,  -999.0,-999.000,9,-999.000,-999.000,9, -999.00,9, -999.00,9,   75.30,-999.0000,9,-999.0000,9,-999.0000,9,-999.0000,9,-999.0000,9,-999.0000,9,  12.4878,     -999.0,9,     -999.0,9,     -999.0,9,     -999.0,9,         35,-999.000,-999.000,-999.000,     -999.0,9, -999.00,9, -999.00,9
33RO200306_01,       A16N,     035,          2,         20,         20,2,20030627,       1953,    48.0010,   -19.9967,       4362,    99.6,  12.0210,  35.6228,2,  35.6232,2,    243.5,2,   242.5,2,    3.06,2,    9.26,2,    0.17,2,    0.58,2,   3.252,2,   1.901,2,   0.259,2,  2125.5,2,  -999.0,9,   -999.0,9,  -999.00,-999.0000,9,  -999.00,-999.000,9,-999.000,9,-999.000,9, -999.00,9,  -999.0,9,  -999.0,-999.000,9,-999.000,-999.000,9,   51.03,2, -999.00,5,   99.60,-999.0000,9,-999.0000,9,-999.0000,9,-999.0000,9,-999.0000,9,-999.0000,9,  12.0080,     -999.0,9,     -999.0,9,     -999.0,9,     -999.0,9,         35,-999.000,-999.000,-999.000,     -999.0,9, -999.00,9, -999.00,9
33RO200306_01,       A16N,     035,          2,         19,         19,2,20030627,       1953,    48.0010,   -19.9967,       4362,   148.1,  11.5041,  35.5499,2,  35.5514,2,    245.9,2,   253.1,2,    3.79,2,   10.16,2,    0.03,2,    0.63,2,   3.266,2,   1.906,2,   0.255,2,  2128.5,2,  -999.0,9,   -999.0,9,  -999.00,-999.0000,9,  -999.00,-999.000,9,-999.000,9,-999.000,9, -999.00,9,  -999.0,9,  -999.0,-999.000,9,-999.000,-999.000,9,   52.82,2, -999.00,9,  148.10,-999.0000,9,-999.0000,9,-999.0000,9,-999.0000,9,-999.0000,9,-999.0000,9,  11.4852,     -999.0,9,     -999.0,9,     -999.0,9,     -999.0,9,         35,-999.000,-999.000,-999.000,     -999.0,9, -999.00,9, -999.00,9
33RO200306_01,       A16N,     035,          2,         18,         18,2,20030627,       1953,    48.0010,   -19.9967,       4362,   201.4,  11.2286,  35.5118,2,  35.5117,2,    247.8,2,   244.2,2,    4.25,2,   10.54,2,    0.02,2,    0.66,2,   3.269,2,   1.891,2,   0.254,2,  2129.6,2,  -999.0,9,   -999.0,9,  -999.00,-999.0000,9,  -999.00,-999.000,9,-999.000,9,-999.000,9, -999.00,9,  -999.0,9,  -999.0,-999.000,9,-999.000,-999.000,9,   52.68,2, -999.00,9,  201.40,-999.0000,9,-999.0000,9,-999.0000,9,-999.0000,9,-999.0000,9,-999.0000,9,  11.2033,     -999.0,9,     -999.0,9,     -999.0,9,     -999.0,9,         35,-999.000,-999.000,-999.000,     -999.0,9, -999.00,9, -999.00,9
33RO200306_01,       A16N,     035,          2,         17,         17,2,20030627,       1953,    48.0010,   -19.9967,       4362,   301.0,  10.8434,  35.4518,2,  35.4550,2,    245.4,2,   243.6,2,    4.67,2,   11.16,2,    0.02,2,    0.71,2,   3.267,2,   1.869,2,   0.248,2,  2132.6,2,  -999.0,9,   -999.0,9,  -999.00,-999.0000,9,  -999.00,-999.000,9,-999.000,9,-999.000,9, -999.00,9,  -999.0,9,  -999.0,-999.000,9,-999.000,-999.000,9,   51.30,2, -999.00,9,  301.00,-999.0000,9,-999.0000,9,-999.0000,9,-999.0000,9,-999.0000,9,-999.0000,9,  10.8063,     -999.0,9,     -999.0,9,     -999.0,9,     -999.0,9,         35,-999.000,-999.000,-999.000,     -999.0,9, -999.00,9, -999.00,9
33RO200306_01,       A16N,     035,          2,         16,         16,2,20030627,       1953,    48.0010,   -19.9967,       4362,   394.5,  10.3460,  35.3844,2,  35.3859,2,    240.9,2,   238.7,2,    5.45,2,   12.33,2,    0.01,2,    0.78,2,   3.210,2,   1.829,2,   0.229,2,  2136.6,2,  -999.0,9,   -999.0,9,  -999.00,-999.0000,9,  -999.00,-999.000,9,-999.000,9,-999.000,9, -999.00,9,  -999.0,9,  -999.0,-999.000,9,-999.000,-999.000,9,   49.68,2, -999.00,9,  394.50,-999.0000,9,-999.0000,9,-999.0000,9,-999.0000,9,-999.0000,9,-999.0000,9,  10.2986,     -999.0,9,     -999.0,9,     -999.0,9,     -999.0,9,         35,-999.000,-999.000,-999.000,     -999.0,9, -999.00,9, -999.00,9
33RO200306_01,       A16N,     035,          2,         15,         15,2,20030627,       1953,    48.0010,   -19.9967,       4362,   500.5,   9.7502,  35.3101,2,  35.3123,2,    222.6,2,   215.7,2,    7.29,2,   15.17,2,    0.02,2,    0.95,2,   2.895,2,   1.613,2,   0.173,2,  2152.7,2,  -999.0,9,   -999.0,9,  -999.00,-999.0000,9,  -999.00,-999.000,9,-999.000,9,-999.000,9, -999.00,9,  -999.0,9,  -999.0,-999.000,9,-999.000,-999.000,9,   48.05,2, -999.00,9,  500.50,-999.0000,9,-999.0000,9,-999.0000,9,-999.0000,9,-999.0000,9,-999.0000,9,   9.6919,     -999.0,9,     -999.0,9,     -999.0,9,     -999.0,9,         35,-999.000,-999.000,-999.000,     -999.0,9, -999.00,9, -999.00,9
33RO200306_01,       A16N,     035,          2,         14,         14,2,20030627,       1953,    48.0010,   -19.9967,       4362,   598.8,   8.7430,  35.2211,2,  35.2231,2,    194.9,2,   192.4,2,    9.89,2,   18.29,2,    0.01,2,    1.14,2,   2.383,2,   1.272,2,   0.118,2,  2169.5,2,  -999.0,9,   -999.0,9,  -999.00,-999.0000,9,  -999.00,-999.000,9,-999.000,9,-999.000,9, -999.00,9,  -999.0,9,  -999.0,-999.000,9,-999.000,-999.000,9,   47.40,2, -999.00,9,  598.80,-999.0000,9,-999.0000,9,-999.0000,9,-999.0000,9,-999.0000,9,-999.0000,9,   8.6774,     -999.0,9,     -999.0,9,     -999.0,9,     -999.0,9,         35,-999.000,-999.000,-999.000,     -999.0,9, -999.00,9, -999.00,9
33RO200306_01,       A16N,     035,          2,         13,         13,2,20030627,       1953,    48.0010,   -19.9967,       4362,   699.9,   7.9253,  35.2359,2,  35.2338,2,    191.0,2,   192.0,2,   11.04,2,   19.00,2,    0.01,2,    1.20,2,   2.123,2,   1.106,2,   0.098,2,  2178.5,2,  -999.0,9,   -999.0,9,  -999.00,-999.0000,9,  -999.00,-999.000,9,-999.000,9,-999.000,9, -999.00,9,  -999.0,9,  -999.0,-999.000,9,-999.000,-999.000,9,   45.29,2, -999.00,9,  699.90,-999.0000,9,-999.0000,9,-999.0000,9,-999.0000,9,-999.0000,9,-999.0000,9,   7.8523,     -999.0,9,     -999.0,9,     -999.0,9,     -999.0,9,         35,-999.000,-999.000,-999.000,     -999.0,9, -999.00,9, -999.00,9
33RO200306_01,       A16N,     035,          2,         12,         12,2,20030627,       1953,    48.0010,   -19.9967,       4362,   798.8,   6.8457,  35.1520,2,  35.1530,2,    204.0,2,   204.4,2,   11.52,2,   18.96,2,    0.01,2,    1.21,2,   2.281,2,   1.193,2,   0.120,2,  2177.1,2,  -999.0,9,   -999.0,9,  -999.00,-999.0000,9,  -999.00,-999.000,9,-999.000,9,-999.000,9, -999.00,9,  -999.0,9,  -999.0,-999.000,9,-999.000,-999.000,9,   46.83,2, -999.00,5,  798.80,-999.0000,9,-999.0000,9,-999.0000,9,-999.0000,9,-999.0000,9,-999.0000,9,   6.7684,     -999.0,9,     -999.0,9,     -999.0,9,     -999.0,9,         35,-999.000,-999.000,-999.000,     -999.0,9, -999.00,9, -999.00,9
33RO200306_01,       A16N,     035,          2,         11,         11,2,20030627,       1953,    48.0010,   -19.9967,       4362,   898.4,   5.8125,  35.0539,2,  35.0559,2,    220.8,2,   222.3,2,   11.49,2,   18.61,2,    0.00,2,    1.21,2,   2.594,2,   1.337,2,   0.154,2,  2173.4,2,  -999.0,9,   -999.0,9,  -999.00,-999.0000,9,  -999.00,-999.000,9,-999.000,9,-999.000,9, -999.00,9,  -999.0,9,  -999.0,-999.000,9,-999.000,-999.000,9,   46.91,2, -999.00,9,  898.40,-999.0000,9,-999.0000,9,-999.0000,9,-999.0000,9,-999.0000,9,-999.0000,9,   5.7320,     -999.0,9,     -999.0,9,     -999.0,9,     -999.0,9,         35,-999.000,-999.000,-999.000,     -999.0,9, -999.00,9, -999.00,9
33RO200306_01,       A16N,     035,          2,         10,         10,2,20030627,       1953,    48.0010,   -19.9967,       4362,   999.7,   5.6864,  35.1139,2,  35.1166,2,    225.4,2,   227.2,2,   11.51,2,   18.32,2,    0.00,2,    1.16,2,   2.457,2,   1.257,2,   0.135,2,  2173.3,2,  -999.0,9,   -999.0,9,  -999.00,-999.0000,9,  -999.00,-999.000,9,-999.000,9,-999.000,9, -999.00,9,  -999.0,9,  -999.0,-999.000,9,-999.000,-999.000,9,   46.51,2, -999.00,9,  999.70,-999.0000,9,-999.0000,9,-999.0000,9,-999.0000,9,-999.0000,9,-999.0000,9,   5.5969,     -999.0,9,     -999.0,9,     -999.0,9,     -999.0,9,         35,-999.000,-999.000,-999.000,     -999.0,9, -999.00,9, -999.00,9
33RO200306_01,       A16N,     035,          2,          9,          9,9,20030627,       1953,    48.0010,   -19.9967,       4362,  1250.0,   4.5141,  34.9901,2,-999.0000,9,    256.9,2,  -999.0,9, -999.00,9, -999.00,9, -999.00,9, -999.00,9,-999.000,9,-999.000,9,-999.000,9,  -999.0,9,  -999.0,9,   -999.0,9,  -999.00,-999.0000,9,  -999.00,-999.000,9,-999.000,9,-999.000,9, -999.00,9,  -999.0,9,  -999.0,-999.000,9,-999.000,-999.000,9, -999.00,9, -999.00,9, 1250.00,-999.0000,9,-999.0000,9,-999.0000,9,-999.0000,9,-999.0000,9,-999.0000,9,   4.4113,     -999.0,9,     -999.0,9,     -999.0,9,     -999.0,9,         35,-999.000,-999.000,-999.000,     -999.0,9, -999.00,9, -999.00,9
33RO200306_01,       A16N,     035,          2,          8,          8,2,20030627,       1953,    48.0010,   -19.9967,       4362,  1501.8,   3.7484,  34.9177,2,  34.9181,2,    269.9,2,   267.1,2,   11.39,2,   17.53,2,    0.01,2,    1.14,2,   2.842,2,   1.409,2,   0.173,2,  2160.7,2,  -999.0,9,   -999.0,9,  -999.00,-999.0000,9,  -999.00,-999.000,9,-999.000,9,-999.000,9, -999.00,9,  -999.0,9,  -999.0,-999.000,9,-999.000,-999.000,9,   45.90,2,   22.60,2, 1501.80,-999.0000,9,-999.0000,9,-999.0000,9,-999.0000,9,-999.0000,9,-999.0000,9,   3.6310,     -999.0,9,     -999.0,9,     -999.0,9,     -999.0,9,         35,-999.000,-999.000,-999.000,     -999.0,9, -999.00,9, -999.00,9
33RO200306_01,       A16N,     035,          2,          7,          7,2,20030627,       1953,    48.0010,   -19.9967,       4362,  1749.5,   3.4530,  34.9000,2,  34.9008,2,    272.9,2,   273.7,2,   11.62,2,   17.31,2,    0.00,2,    1.12,2,   2.779,2,   1.354,2,   0.166,2,  2157.8,2,  -999.0,9,   -999.0,9,  -999.00,-999.0000,9,  -999.00,-999.000,9,-999.000,9,-999.000,9, -999.00,9,  -999.0,9,  -999.0,-999.000,9,-999.000,-999.000,9,   45.29,2,   21.13,3, 1749.50,-999.0000,9,-999.0000,9,-999.0000,9,-999.0000,9,-999.0000,9,-999.0000,9,   3.3170,     -999.0,9,     -999.0,9,     -999.0,9,     -999.0,9,         35,-999.000,-999.000,-999.000,     -999.0,9, -999.00,9, -999.00,9
33RO200306_01,       A16N,     035,          2,          6,          6,9,20030627,       1953,    48.0010,   -19.9967,       4362,  2000.6,   3.2654,  34.8949,2,-999.0000,9,    275.2,2,  -999.0,9, -999.00,9, -999.00,9, -999.00,9, -999.00,9,-999.000,9,-999.000,9,-999.000,9,  -999.0,9,  -999.0,9,   -999.0,9,  -999.00,-999.0000,9,  -999.00,-999.000,9,-999.000,9,-999.000,9, -999.00,9,  -999.0,9,  -999.0,-999.000,9,-999.000,-999.000,9, -999.00,9, -999.00,9, 2000.60,-999.0000,9,-999.0000,9,-999.0000,9,-999.0000,9,-999.0000,9,-999.0000,9,   3.1090,     -999.0,9,     -999.0,9,     -999.0,9,     -999.0,9,         35,-999.000,-999.000,-999.000,     -999.0,9, -999.00,9, -999.00,9
33RO200306_01,       A16N,     035,          2,          5,          5,2,20030627,       1953,    48.0010,   -19.9967,       4362,  2488.4,   3.1135,  34.9279,2,  34.9298,2,    269.8,2,   270.7,2,   14.65,2,   17.07,2,    0.01,2,    1.11,2,   1.974,2,   0.972,2,   0.098,2,  2160.2,2,  -999.0,9,   -999.0,9,  -999.00,-999.0000,9,  -999.00,-999.000,9,-999.000,9,-999.000,9, -999.00,9,  -999.0,9,  -999.0,-999.000,9,-999.000,-999.000,9, -999.00,9, -999.00,9, 2488.40,-999.0000,9,-999.0000,9,-999.0000,9,-999.0000,9,-999.0000,9,-999.0000,9,   2.9127,     -999.0,9,     -999.0,9,     -999.0,9,     -999.0,9,         35,-999.000,-999.000,-999.000,     -999.0,9, -999.00,9, -999.00,9
33RO200306_01,       A16N,     035,          2,          4,          4,2,20030627,       1953,    48.0010,   -19.9967,       4362,  2970.0,   2.8891,  34.9473,2,  34.9476,2,    253.6,2,   253.0,2,   26.52,2,   19.10,2,    0.00,2,    1.26,2,   0.747,2,   0.370,2,   0.033,2,  2176.3,2,  -999.0,9,   -999.0,9,  -999.00,-999.0000,9,  -999.00,-999.000,9,-999.000,9,-999.000,9, -999.00,9,  -999.0,9,  -999.0,-999.000,9,-999.000,-999.000,9,   40.24,2,   22.78,3, 2970.00,-999.0000,9,-999.0000,9,-999.0000,9,-999.0000,9,-999.0000,9,-999.0000,9,   2.6438,     -999.0,9,     -999.0,9,     -999.0,9,     -999.0,9,         35,-999.000,-999.000,-999.000,     -999.0,9, -999.00,9, -999.00,9
33RO200306_01,       A16N,     035,          2,          3,          3,2,20030627,       1953,    48.0010,   -19.9967,       4362,  3500.3,   2.6247,  34.9261,2,  34.9265,2,    241.7,2,   242.1,2,   37.71,2,   21.08,2,    0.00,2,    1.41,2,   0.257,2,   0.133,2,   0.017,2,  2192.5,2,  -999.0,9,   -999.0,9,  -999.00,-999.0000,9,  -999.00,-999.000,9,-999.000,9,-999.000,9, -999.00,9,  -999.0,9,  -999.0,-999.000,9,-999.000,-999.000,9,   41.95,2,   24.77,2, 3500.30,-999.0000,9,-999.0000,9,-999.0000,9,-999.0000,9,-999.0000,9,-999.0000,9,   2.3291,     -999.0,9,     -999.0,9,     -999.0,9,     -999.0,9,         35,-999.000,-999.000,-999.000,     -999.0,9, -999.00,9, -999.00,9
33RO200306_01,       A16N,     035,          2,          2,          2,2,20030627,       1953,    48.0010,   -19.9967,       4362,  3999.0,   2.5328,  34.9118,2,  34.9123,2,    238.0,2,   251.8,3,   43.34,2,   22.07,2,    0.00,2,    1.47,2,   0.072,2,   0.037,2,   0.012,2,  2200.4,2,  -999.0,9,   -999.0,9,  -999.00,-999.0000,9,  -999.00,-999.000,9,-999.000,9,-999.000,9, -999.00,9,  -999.0,9,  -999.0,-999.000,9,-999.000,-999.000,9,   41.87,2,   26.76,3, 3999.00,-999.0000,9,-999.0000,9,-999.0000,9,-999.0000,9,-999.0000,9,-999.0000,9,   2.1837,     -999.0,9,     -999.0,9,     -999.0,9,     -999.0,9,         35,-999.000,-999.000,-999.000,     -999.0,9, -999.00,9, -999.00,9
33RO200306_01,       A16N,     035,          2,          1,          1,9,20030627,       1953,    48.0010,   -19.9967,       4362,  4431.5,   2.5537,  34.9084,2,-999.0000,9,    238.8,2,  -999.0,9, -999.00,9, -999.00,9, -999.00,9, -999.00,9,-999.000,9,-999.000,9,-999.000,9,  -999.0,9,  -999.0,9,   -999.0,9,  -999.00,-999.0000,9,  -999.00,-999.000,9,-999.000,9,-999.000,9, -999.00,9,  -999.0,9,  -999.0,-999.000,9,-999.000,-999.000,9, -999.00,9, -999.00,9, 4431.50,-999.0000,9,-999.0000,9,-999.0000,9,-999.0000,9,-999.0000,9,-999.0000,9,   2.1530,     -999.0,9,     -999.0,9,     -999.0,9,     -999.0,9,         35,-999.000,-999.000,-999.000,     -999.0,9, -999.00,9, -999.00,9