BOTTLE,20230908CCHSIOCBG
EXPOCODE,SECT_ID,STNNBR,CASTNO,SAMPNO,BTLNBR,BTLNBR_FLAG_W,DATE,TIME,LATITUDE,LONGITUDE,DEPTH,CTDPRS,CTDTMP,CTDSAL,CTDSAL_FLAG_W,SALNTY,SALNTY_FLAG_W,CTDOXY,CTDOXY_FLAG_W,OXYGEN,OXYGEN_FLAG_W,SILCAT,SILCAT_FLAG_W,NITRAT,NITRAT_FLAG_W,NITRIT,NITRIT_FLAG_W,PHSPHT,PHSPHT_FLAG_W,CFC-11,CFC-11_FLAG_W,CFC-12,CFC-12_FLAG_W,CFC113,CFC113_FLAG_W,TCARBN,TCARBN_FLAG_W,ALKALI,ALKALI_FLAG_W,FCO2,FCO2_FLAG_W,FCO2TMP,PH_SWS,PH_SWS_FLAG_W,PH_TMP,TRITUM,TRITUM_FLAG_W,HELIUM,HELIUM_FLAG_W,DELHE3,DELHE3_FLAG_W,DELC13,DELC13_FLAG_W,DELC14,DELC14_FLAG_W,C14ERR,NEON,NEON_FLAG_W,NEONER,POC,POC_FLAG_W,DOC,DOC_FLAG_W,TDN,TDN_FLAG_W,CTDRAW,CDOM325,CDOM325_FLAG_W,CDOM340,CDOM340_FLAG_W,CDOM380,CDOM380_FLAG_W,CDOM412,CDOM412_FLAG_W,CDOMSL,CDOMSL_FLAG_W,CDOMSN,CDOMSN_FLAG_W,THETA,PON,PON_FLAG_W,HCFC-22,HCFC-22_FLAG_W,HCFC-142b,HCFC-142b_FLAG_W,HCFC-141b,HCFC-141b_FLAG_W,STNNBR_U,HELIER,DELHER,TRITER,CH3CL,CH3CL_FLAG_W,CH3BR,CH3BR_FLAG_W,CH3I,CH3I_FLAG_W
,,,,,,,,,,,METERS,DBAR,ITS-90,PSS-78,,PSS-78,,UMOL/KG,,UMOL/KG,,UMOL/KG,,UMOL/KG,,UMOL/KG,,UMOL/KG,,PMOL/KG,,PMOL/KG,,PMOL/KG,,UMOL/KG,,UMOL/KG,,UATM,,DEG C,,,DEG C,TU,,NMOL/KG,,PERCNT,,/MILLE,,/MILLE,,/MILLE,NMOL/KG,,NMOL/KG,UG/KG,,UMOL/KG,,UMOL/KG,,DBAR,1/M,,1/M,,1/M,,1/M,,1/NM,,1/NM,,DEG C,UMOL/L,,PMOL/KG,,PMOL/KG,,PMOL/KG,,,NMOL/KG,PERCNT,TU,PMOL/KG,,PMOL/KG,,PMOL/KG,
33RO200306_01,       A16N,     041,          2,         23,         23,2,20030630,       0236,    44.9983,   -19.9967,       4332,     3.6,  16.3078,  35.7679,2,  35.7647,2,    248.7,2,  -999.0,9, -999.00,9, -999.00,9, -999.00,9, -999.00,9,   2.770,2,   1.666,2,   0.248,2,  -999.0,9,  -999.0,9,   -999.0,9,  -999.00,-999.0000,9,  -999.00,   1.168,2,-999.000,9,-999.000,9, -999.00,9,  -999.0,9,  -999.0,-999.000,9,-999.000,-999.000,9, -999.00,9, -999.00,9,    3.60,-999.0000,9,-999.0000,9,-999.0000,9,-999.0000,9,-999.0000,9,-999.0000,9,  16.3072,     -999.0,9,     -999.0,9,     -999.0,9,     -999.0,9,         41,-999.000,-999.000,   0.040,     -999.0,9, -999.00,9, -999.00,9
33RO200306_01,       A16N,     041,          2,         24,         24,2,20030630,       0236,    44.9983,   -19.9967,       4332,     3.7,  16.3068,  35.7680,2,  35.7650,2,    248.7,2,   247.9,2,    0.48,2,    0.10,2,    0.01,2,    0.09,2,-999.000,9,-999.000,9,-999.000,9,  2069.7,6,  2348.8,6,   -999.0,9,  -999.00,   7.9938,2,    25.00,-999.000,9,-999.000,9,-999.000,9, -999.00,9,  -999.0,9,  -999.0,-999.000,9,-999.000,-999.000,9,   66.87,2,    5.97,2,    3.70,-999.0000,9,-999.0000,9,-999.0000,9,-999.0000,9,-999.0000,9,-999.0000,9,  16.3062,     -999.0,9,     -999.0,9,     -999.0,9,     -999.0,9,         41,-999.000,-999.000,-999.000,     -999.0,9, -999.00,9, -999.00,9
33RO200306_01,       A16N,     041,          2,         22,         22,2,20030630,       0236,    44.9983,   -19.9967,       4332,    50.3,  13.2462,  35.7486,2,  35.7446,2,    257.9,2,   258.1,2,    1.96,2,    4.04,2,    0.34,2,    0.36,2,-999.000,9,-999.000,9,-999.000,9,  2107.1,2,  2326.4,3,   -999.0,9,  -999.00,   7.9191,2,    25.00,-999.000,9,-999.000,9,-999.000,9, -999.00,9,  -999.0,9,  -999.0,-999.000,9,-999.000,-999.000,9,   60.13,2,    9.59,2,   50.30,-999.0000,9,-999.0000,9,-999.0000,9,-999.0000,9,-999.0000,9,-999.0000,9,  13.2392,     -999.0,9,     -999.0,9,     -999.0,9,     -999.0,9,         41,-999.000,-999.000,-999.000,     -999.0,9, -999.00,9, -999.00,9
33RO200306_01,       A16N,     041,          2,         21,         21,2,20030630,       0236,    44.9983,   -19.9967,       4332,    50.7,  13.2445,  35.7485,2,  35.7445,2,    257.9,2,  -999.0,9, -999.00,9, -999.00,9, -999.00,9, -999.00,9,   3.129,2,   1.841,2,   0.264,2,  -999.0,9,  -999.0,9,   -999.0,9,  -999.00,-999.0000,9,  -999.00,-999.000,9,-999.000,9,-999.000,9, -999.00,9,  -999.0,9,  -999.0,-999.000,9,-999.000,-999.000,9, -999.00,9, -999.00,9,   50.70,-999.0000,9,-999.0000,9,-999.0000,9,-999.0000,9,-999.0000,9,-999.0000,9,  13.2374,     -999.0,9,     -999.0,9,     -999.0,9,     -999.0,9,         41,-999.000,-999.000,-999.000,     -999.0,9, -999.00,9, -999.00,9
33RO200306_01,       A16N,     041,          2,         20,         20,2,20030630,       0236,    44.9983,   -19.9967,       4332,    98.9,  12.8314,  35.7597,2,  35.7560,2,    245.0,2,   244.9,2,    2.58,2,    7.50,2,    0.01,2,    0.47,2,-999.000,9,-999.000,9,-999.000,9,  2116.5,2,  2343.1,2,   -999.0,9,  -999.00,   7.8943,2,    25.00,-999.000,9,-999.000,9,-999.000,9, -999.00,9,  -999.0,9,  -999.0,-999.000,9,-999.000,-999.000,9,   52.85,2,   11.56,2,   98.90,-999.0000,9,-999.0000,9,-999.0000,9,-999.0000,9,-999.0000,9,-999.0000,9,  12.8179,     -999.0,9,     -999.0,9,     -999.0,9,     -999.0,9,         41,-999.000,-999.000,-999.000,     -999.0,9, -999.00,9, -999.00,9
33RO200306_01,       A16N,     041,          2,         19,         19,2,20030630,       0236,    44.9983,   -19.9967,       4332,    99.1,  12.8312,  35.7599,2,  35.7560,2,    245.0,2,  -999.0,9, -999.00,9, -999.00,9, -999.00,9, -999.00,9,   3.143,2,   1.851,2,   0.256,2,  -999.0,9,  -999.0,9,   -999.0,9,  -999.00,-999.0000,9,  -999.00,-999.000,9,-999.000,9,-999.000,9, -999.00,9,  -999.0,9,  -999.0,-999.000,9,-999.000,-999.000,9, -999.00,9, -999.00,9,   99.10,-999.0000,9,-999.0000,9,-999.0000,9,-999.0000,9,-999.0000,9,-999.0000,9,  12.8176,     -999.0,9,     -999.0,9,     -999.0,9,     -999.0,9,         41,-999.000,-999.000,-999.000,     -999.0,9, -999.00,9, -999.00,9
33RO200306_01,       A16N,     041,          2,         17,         17,2,20030630,       0236,    44.9983,   -19.9967,       4332,   151.1,  12.7903,  35.7703,2,  35.7659,2,    246.2,2,  -999.0,9, -999.00,9, -999.00,9, -999.00,9, -999.00,9,   3.109,2,   1.827,2,   0.244,2,  -999.0,9,  -999.0,9,   -999.0,9,  -999.00,-999.0000,9,  -999.00,   1.339,2,-999.000,9,-999.000,9, -999.00,9,  -999.0,9,  -999.0,-999.000,9,-999.000,-999.000,9, -999.00,9, -999.00,9,  151.10,-999.0000,9,-999.0000,9,-999.0000,9,-999.0000,9,-999.0000,9,-999.0000,9,  12.7696,     -999.0,9,     -999.0,9,     -999.0,9,     -999.0,9,         41,-999.000,-999.000,   0.020,     -999.0,9, -999.00,9, -999.00,9
33RO200306_01,       A16N,     041,          2,         18,         18,2,20030630,       0236,    44.9983,   -19.9967,       4332,   151.3,  12.7902,  35.7703,2,  35.7662,2,    246.2,2,   246.6,2,    2.76,2,    7.89,2,    0.02,2,    0.49,2,-999.000,9,-999.000,9,-999.000,9,  2118.1,2,  -999.0,9,   -999.0,9,  -999.00,-999.0000,9,  -999.00,-999.000,9,-999.000,9,-999.000,9, -999.00,9,  -999.0,9,  -999.0,-999.000,9,-999.000,-999.000,9,   52.37,2,   11.63,2,  151.30,-999.0000,9,-999.0000,9,-999.0000,9,-999.0000,9,-999.0000,9,-999.0000,9,  12.7695,     -999.0,9,     -999.0,9,     -999.0,9,     -999.0,9,         41,-999.000,-999.000,-999.000,     -999.0,9, -999.00,9, -999.00,9
33RO200306_01,       A16N,     041,          2,         15,         15,9,20030630,       0236,    44.9983,   -19.9967,       4332,   200.1,  12.7018,  35.7596,2,-999.0000,9,    247.0,2,  -999.0,9, -999.00,9, -999.00,9, -999.00,9, -999.00,9,-999.000,9,-999.000,9,-999.000,9,  -999.0,9,  -999.0,9,   -999.0,9,  -999.00,-999.0000,9,  -999.00,-999.000,9,-999.000,9,-999.000,9, -999.00,9,  -999.0,9,  -999.0,-999.000,9,-999.000,-999.000,9, -999.00,9, -999.00,9,  200.10,-999.0000,9,-999.0000,9,-999.0000,9,-999.0000,9,-999.0000,9,-999.0000,9,  12.6745,     -999.0,9,     -999.0,9,     -999.0,9,     -999.0,9,         41,-999.000,-999.000,-999.000,     -999.0,9, -999.00,9, -999.00,9
33RO200306_01,       A16N,     041,          2,         16,         16,2,20030630,       0236,    44.9983,   -19.9967,       4332,   200.2,  12.7028,  35.7597,2,  35.7556,2,    246.8,2,   247.6,2,    2.90,2,    8.22,2,    0.01,2,    0.51,2,   3.093,2,   1.819,2,   0.242,2,  2119.0,2,  -999.0,9,   -999.0,9,  -999.00,-999.0000,9,  -999.00,-999.000,9,-999.000,9,-999.000,9, -999.00,9,  -999.0,9,  -999.0,-999.000,9,-999.000,-999.000,9, -999.00,9, -999.00,9,  200.20,-999.0000,9,-999.0000,9,-999.0000,9,-999.0000,9,-999.0000,9,-999.0000,9,  12.6755,     -999.0,9,     -999.0,9,     -999.0,9,     -999.0,9,         41,-999.000,-999.000,-999.000,     -999.0,9, -999.00,9, -999.00,9
33RO200306_01,       A16N,     041,          2,         13,         13,2,20030630,       0236,    44.9983,   -19.9967,       4332,   249.9,  12.6160,  35.7452,2,  35.7417,2,    247.0,2,  -999.0,9, -999.00,9, -999.00,9, -999.00,9, -999.00,9,   3.110,2,   1.828,2,   0.244,2,  -999.0,9,  -999.0,9,   -999.0,9,  -999.00,-999.0000,9,  -999.00,-999.000,9,-999.000,9,-999.000,9, -999.00,9,  -999.0,9,  -999.0,-999.000,9,-999.000,-999.000,9, -999.00,9, -999.00,9,  249.90,-999.0000,9,-999.0000,9,-999.0000,9,-999.0000,9,-999.0000,9,-999.0000,9,  12.5820,     -999.0,9,     -999.0,9,     -999.0,9,     -999.0,9,         41,-999.000,-999.000,-999.000,     -999.0,9, -999.00,9, -999.00,9
33RO200306_01,       A16N,     041,          2,         14,         14,2,20030630,       0236,    44.9983,   -19.9967,       4332,   250.0,  12.6161,  35.7452,2,  35.7410,2,    247.0,2,   246.2,2,    2.96,2,    8.37,2,    0.01,2,    0.52,2,-999.000,9,-999.000,9,-999.000,9,  2121.2,2,  2342.3,2,   -999.0,9,  -999.00,   7.8821,2,    25.00,-999.000,9,-999.000,9,-999.000,9, -999.00,9,  -999.0,9,  -999.0,-999.000,9,-999.000,-999.000,9, -999.00,9, -999.00,9,  250.00,-999.0000,9,-999.0000,9,-999.0000,9,-999.0000,9,-999.0000,9,-999.0000,9,  12.5821,     -999.0,9,     -999.0,9,     -999.0,9,     -999.0,9,         41,-999.000,-999.000,-999.000,     -999.0,9, -999.00,9, -999.00,9
33RO200306_01,       A16N,     041,          2,         12,         12,2,20030630,       0236,    44.9983,   -19.9967,       4332,   298.5,  12.5666,  35.7381,2,  35.7347,2,    247.3,2,   248.0,2,    2.97,2,    8.40,2,    0.01,2,    0.52,2,-999.000,9,-999.000,9,-999.000,9,  2120.7,2,  2341.5,2,   -999.0,9,  -999.00,   7.8846,2,    25.00,-999.000,9,-999.000,9,-999.000,9, -999.00,9,  -999.0,9,  -999.0,-999.000,9,-999.000,-999.000,9,   51.46,2,   11.97,2,  298.50,-999.0000,9,-999.0000,9,-999.0000,9,-999.0000,9,-999.0000,9,-999.0000,9,  12.5260,     -999.0,9,     -999.0,9,     -999.0,9,     -999.0,9,         41,-999.000,-999.000,-999.000,     -999.0,9, -999.00,9, -999.00,9
33RO200306_01,       A16N,     041,          2,         11,         11,2,20030630,       0236,    44.9983,   -19.9967,       4332,   298.6,  12.5667,  35.7382,2,  35.7347,2,    247.3,2,  -999.0,9, -999.00,9, -999.00,9, -999.00,9, -999.00,9,   3.113,2,   1.827,2,   0.241,2,  -999.0,9,  -999.0,9,   -999.0,9,  -999.00,-999.0000,9,  -999.00,-999.000,9,   1.755,2,  -1.571,2, -999.00,9,  -999.0,9,  -999.0,   7.371,2,   0.023,-999.000,9, -999.00,9, -999.00,9,  298.60,-999.0000,9,-999.0000,9,-999.0000,9,-999.0000,9,-999.0000,9,-999.0000,9,  12.5261,     -999.0,9,     -999.0,9,     -999.0,9,     -999.0,9,         41,   0.004,   0.133,-999.000,     -999.0,9, -999.00,9, -999.00,9
33RO200306_01,       A16N,     041,          2,         10,         10,2,20030630,       0236,    44.9983,   -19.9967,       4332,   399.3,  12.1917,  35.6663,2,  35.6642,2,    242.4,2,   242.2,2,    3.38,2,    9.45,2,    0.01,2,    0.59,2,-999.000,9,-999.000,9,-999.000,9,  2126.2,2,  2326.4,3,   -999.0,9,  -999.00,-999.0000,9,  -999.00,-999.000,9,-999.000,9,-999.000,9, -999.00,9,  -999.0,9,  -999.0,-999.000,9,-999.000,-999.000,9,   50.20,2,   12.78,2,  399.30,-999.0000,9,-999.0000,9,-999.0000,9,-999.0000,9,-999.0000,9,-999.0000,9,  12.1383,     -999.0,9,     -999.0,9,     -999.0,9,     -999.0,9,         41,-999.000,-999.000,-999.000,     -999.0,9, -999.00,9, -999.00,9
33RO200306_01,       A16N,     041,          2,          9,          9,9,20030630,       0236,    44.9983,   -19.9967,       4332,   399.4,  12.1923,  35.6663,2,-999.0000,9,    242.4,2,  -999.0,9, -999.00,9, -999.00,9, -999.00,9, -999.00,9,-999.000,9,-999.000,9,-999.000,9,  -999.0,9,  -999.0,9,   -999.0,9,  -999.00,-999.0000,9,  -999.00,-999.000,9,-999.000,9,-999.000,9, -999.00,9,  -999.0,9,  -999.0,-999.000,9,-999.000,-999.000,9, -999.00,9, -999.00,9,  399.40,-999.0000,9,-999.0000,9,-999.0000,9,-999.0000,9,-999.0000,9,-999.0000,9,  12.1389,     -999.0,9,     -999.0,9,     -999.0,9,     -999.0,9,         41,-999.000,-999.000,-999.000,     -999.0,9, -999.00,9, -999.00,9
33RO200306_01,       A16N,     041,          2,          8,          8,2,20030630,       0236,    44.9983,   -19.9967,       4332,   399.5,  12.1914,  35.6662,2,  35.6639,2,    242.4,2,  -999.0,9,    3.38,2,    9.44,2,    0.01,2,    0.59,2,   3.111,2,   1.816,2,   0.200,2,  -999.0,9,  -999.0,9,   -999.0,9,  -999.00,-999.0000,9,  -999.00,   1.292,2,   1.758,2,  -1.278,2, -999.00,9,  -999.0,9,  -999.0,   7.336,2,   0.019,-999.000,9, -999.00,9, -999.00,9,  399.50,-999.0000,9,-999.0000,9,-999.0000,9,-999.0000,9,-999.0000,9,-999.0000,9,  12.1379,     -999.0,9,     -999.0,9,     -999.0,9,     -999.0,9,         41,   0.004,   0.208,   0.020,     -999.0,9, -999.00,9, -999.00,9
33RO200306_01,       A16N,     041,          2,          7,          7,2,20030630,       0236,    44.9983,   -19.9967,       4332,   499.6,  11.6965,  35.5839,2,  35.5802,2,    236.2,2,   237.4,2, -999.00,9, -999.00,9, -999.00,9, -999.00,9,-999.000,9,-999.000,9,-999.000,9,  2130.1,2,  -999.0,9,   -999.0,9,  -999.00,-999.0000,9,  -999.00,-999.000,9,-999.000,9,-999.000,9, -999.00,9,  -999.0,9,  -999.0,-999.000,9,-999.000,-999.000,9,   49.10,2,   13.80,2,  499.60,-999.0000,9,-999.0000,9,-999.0000,9,-999.0000,9,-999.0000,9,-999.0000,9,  11.6312,     -999.0,9,     -999.0,9,     -999.0,9,     -999.0,9,         41,-999.000,-999.000,-999.000,     -999.0,9, -999.00,9, -999.00,9
33RO200306_01,       A16N,     041,          2,          6,          6,2,20030630,       0236,    44.9983,   -19.9967,       4332,   499.9,  11.6970,  35.5841,2,  35.5797,2,    236.2,2,  -999.0,9,    4.03,2,   10.69,2,    0.01,2,    0.68,2,   3.095,2,   1.790,2,   0.189,2,  -999.0,9,  -999.0,9,   -999.0,9,  -999.00,-999.0000,9,  -999.00,   1.349,2,-999.000,9,-999.000,9, -999.00,9,  -999.0,9,  -999.0,-999.000,9,-999.000,-999.000,9, -999.00,9, -999.00,9,  499.90,-999.0000,9,-999.0000,9,-999.0000,9,-999.0000,9,-999.0000,9,-999.0000,9,  11.6316,     -999.0,9,     -999.0,9,     -999.0,9,     -999.0,9,         41,-999.000,-999.000,   0.020,     -999.0,9, -999.00,9, -999.00,9
33RO200306_01,       A16N,     041,          2,          4,          4,2,20030630,       0236,    44.9983,   -19.9967,       4332,   600.3,  11.1590,  35.5121,2,  35.5095,2,    222.8,2,  -999.0,9,    5.03,2,   12.78,2,    0.00,2,    0.79,2,   3.014,2,   1.709,2,   0.141,2,  -999.0,9,  -999.0,9,   -999.0,9,  -999.00,-999.0000,9,  -999.00,   1.343,2,   1.771,2,   0.773,2, -999.00,9,  -999.0,9,  -999.0,   7.468,2,   0.026,-999.000,9, -999.00,9, -999.00,9,  600.30,-999.0000,9,-999.0000,9,-999.0000,9,-999.0000,9,-999.0000,9,-999.0000,9,  11.0825,     -999.0,9,     -999.0,9,     -999.0,9,     -999.0,9,         41,   0.004,   0.156,   0.020,     -999.0,9, -999.00,9, -999.00,9
33RO200306_01,       A16N,     041,          2,          5,          5,2,20030630,       0236,    44.9983,   -19.9967,       4332,   600.4,  11.1603,  35.5125,2,  35.5095,2,    222.8,2,   221.9,2, -999.00,9, -999.00,9, -999.00,9, -999.00,9,-999.000,9,-999.000,9,-999.000,9,  2142.7,2,  2337.7,2,    619.1,3,    20.00,-999.0000,9,  -999.00,-999.000,9,-999.000,9,-999.000,9, -999.00,9,  -999.0,9,  -999.0,-999.000,9,-999.000,-999.000,9,   48.13,2,   16.02,2,  600.40,-999.0000,9,-999.0000,9,-999.0000,9,-999.0000,9,-999.0000,9,-999.0000,9,  11.0838,     -999.0,9,     -999.0,9,     -999.0,9,     -999.0,9,         41,-999.000,-999.000,-999.000,     -999.0,9, -999.00,9, -999.00,9
33RO200306_01,       A16N,     041,          2,          3,          3,2,20030630,       0236,    44.9983,   -19.9967,       4332,   700.9,  10.5521,  35.4453,2,  35.4446,2,    205.2,2,   205.6,2, -999.00,9, -999.00,9, -999.00,9, -999.00,9,-999.000,9,-999.000,9,-999.000,9,  2154.8,2,  2334.8,2,    663.4,3,    20.00,-999.0000,9,  -999.00,-999.000,9,-999.000,9,-999.000,9, -999.00,9,  -999.0,9,  -999.0,-999.000,9,-999.000,-999.000,9,   48.26,2,   18.44,2,  700.90,-999.0000,9,-999.0000,9,-999.0000,9,-999.0000,9,-999.0000,9,-999.0000,9,  10.4655,     -999.0,9,     -999.0,9,     -999.0,9,     -999.0,9,         41,-999.000,-999.000,-999.000,     -999.0,9, -999.00,9, -999.00,9
33RO200306_01,       A16N,     041,          2,          1,          1,2,20030630,       0236,    44.9983,   -19.9967,       4332,   701.1,  10.5491,  35.4446,2,  35.4432,2,    204.8,2,  -999.0,9, -999.00,9, -999.00,9, -999.00,9, -999.00,9,-999.000,9,-999.000,9,-999.000,9,  -999.0,9,  -999.0,9,   -999.0,9,  -999.00,-999.0000,9,  -999.00,-999.000,9,-999.000,9,-999.000,9, -999.00,9,  -999.0,9,  -999.0,-999.000,9,-999.000,-999.000,9, -999.00,9, -999.00,9,  701.10,-999.0000,9,-999.0000,9,-999.0000,9,-999.0000,9,-999.0000,9,-999.0000,9,  10.4625,     -999.0,9,     -999.0,9,     -999.0,9,     -999.0,9,         41,-999.000,-999.000,-999.000,     -999.0,9, -999.00,9, -999.00,9
33RO200306_01,       A16N,     041,          2,          2,          2,2,20030630,       0236,    44.9983,   -19.9967,       4332,   701.2,  10.5470,  35.4447,2,  35.4442,2,    204.8,2,  -999.0,9,    6.68,2,   15.22,2,    0.00,2,    0.94,2,   2.719,2,   1.506,2,   0.111,2,  -999.0,9,  -999.0,9,   -999.0,9,  -999.00,-999.0000,9,  -999.00,-999.000,9,   1.785,2,   2.966,2, -999.00,9,  -999.0,9,  -999.0,   7.466,2,   0.023,-999.000,9, -999.00,9, -999.00,9,  701.20,-999.0000,9,-999.0000,9,-999.0000,9,-999.0000,9,-999.0000,9,-999.0000,9,  10.4604,     -999.0,9,     -999.0,9,     -999.0,9,     -999.0,9,         41,   0.004,   0.132,-999.000,     -999.0,9, -999.00,9, -999.00,9