BOTTLE,20230908CCHSIOCBG
EXPOCODE,SECT_ID,STNNBR,CASTNO,SAMPNO,BTLNBR,BTLNBR_FLAG_W,DATE,TIME,LATITUDE,LONGITUDE,DEPTH,CTDPRS,CTDTMP,CTDSAL,CTDSAL_FLAG_W,SALNTY,SALNTY_FLAG_W,CTDOXY,CTDOXY_FLAG_W,OXYGEN,OXYGEN_FLAG_W,SILCAT,SILCAT_FLAG_W,NITRAT,NITRAT_FLAG_W,NITRIT,NITRIT_FLAG_W,PHSPHT,PHSPHT_FLAG_W,CFC-11,CFC-11_FLAG_W,CFC-12,CFC-12_FLAG_W,CFC113,CFC113_FLAG_W,TCARBN,TCARBN_FLAG_W,ALKALI,ALKALI_FLAG_W,FCO2,FCO2_FLAG_W,FCO2TMP,PH_SWS,PH_SWS_FLAG_W,PH_TMP,TRITUM,TRITUM_FLAG_W,HELIUM,HELIUM_FLAG_W,DELHE3,DELHE3_FLAG_W,DELC13,DELC13_FLAG_W,DELC14,DELC14_FLAG_W,C14ERR,NEON,NEON_FLAG_W,NEONER,POC,POC_FLAG_W,DOC,DOC_FLAG_W,TDN,TDN_FLAG_W,CTDRAW,CDOM325,CDOM325_FLAG_W,CDOM340,CDOM340_FLAG_W,CDOM380,CDOM380_FLAG_W,CDOM412,CDOM412_FLAG_W,CDOMSL,CDOMSL_FLAG_W,CDOMSN,CDOMSN_FLAG_W,THETA,PON,PON_FLAG_W,HCFC-22,HCFC-22_FLAG_W,HCFC-142b,HCFC-142b_FLAG_W,HCFC-141b,HCFC-141b_FLAG_W,STNNBR_U,HELIER,DELHER,TRITER,CH3CL,CH3CL_FLAG_W,CH3BR,CH3BR_FLAG_W,CH3I,CH3I_FLAG_W
,,,,,,,,,,,METERS,DBAR,ITS-90,PSS-78,,PSS-78,,UMOL/KG,,UMOL/KG,,UMOL/KG,,UMOL/KG,,UMOL/KG,,UMOL/KG,,PMOL/KG,,PMOL/KG,,PMOL/KG,,UMOL/KG,,UMOL/KG,,UATM,,DEG C,,,DEG C,TU,,NMOL/KG,,PERCNT,,/MILLE,,/MILLE,,/MILLE,NMOL/KG,,NMOL/KG,UG/KG,,UMOL/KG,,UMOL/KG,,DBAR,1/M,,1/M,,1/M,,1/M,,1/NM,,1/NM,,DEG C,UMOL/L,,PMOL/KG,,PMOL/KG,,PMOL/KG,,,NMOL/KG,PERCNT,TU,PMOL/KG,,PMOL/KG,,PMOL/KG,
33RO200306_01,       A16N,     060,          1,          7,          7,2,20030705,       1618,    35.4997,   -20.2820,       5280,  2738.7,   2.9749,  34.9594,2,  34.9597,2,    253.4,2,   250.3,2,   28.27,2,   19.84,2,    0.00,2,    1.31,2,-999.000,9,-999.000,9,-999.000,9,  -999.0,9,  -999.0,9,   -999.0,9,  -999.00,-999.0000,9,  -999.00,-999.000,9,-999.000,9,-999.000,9, -999.00,9,  -999.0,9,  -999.0,-999.000,9,-999.000,-999.000,9, -999.00,9, -999.00,9, 2738.70,-999.0000,9,-999.0000,9,-999.0000,9,-999.0000,9,-999.0000,9,-999.0000,9,   2.7515,     -999.0,9,       0.03,2,       0.12,2,       0.26,2,         60,-999.000,-999.000,-999.000,       7.28,2,    1.23,2,     0.0,2
33RO200306_01,       A16N,     060,          1,          6,          6,2,20030705,       1618,    35.4997,   -20.2820,       5280,  3248.5,   2.6895,  34.9332,2,  34.9329,2,    247.6,2,   246.0,2,   35.90,2,   21.01,2,    0.00,2,    1.40,2,   0.056,2,   0.032,2,   0.004,2,  -999.0,9,  -999.0,9,   -999.0,9,  -999.00,-999.0000,9,  -999.00,-999.000,9,-999.000,9,-999.000,9, -999.00,9,  -999.0,9,  -999.0,-999.000,9,-999.000,-999.000,9, -999.00,9, -999.00,9, 3248.50,-999.0000,9,-999.0000,9,-999.0000,9,-999.0000,9,-999.0000,9,-999.0000,9,   2.4194,     -999.0,9,     -999.0,9,     -999.0,9,     -999.0,9,         60,-999.000,-999.000,-999.000,     -999.0,9, -999.00,9, -999.00,9
33RO200306_01,       A16N,     060,          1,          5,          5,2,20030705,       1618,    35.4997,   -20.2820,       5280,  3749.3,   2.5428,  34.9147,2,  34.9146,2,    244.7,2,   244.1,2,   40.83,2,   21.67,2,    0.00,2,    1.45,2,   0.030,2,   0.016,2,   0.004,2,  -999.0,9,  -999.0,9,   -999.0,9,  -999.00,-999.0000,9,  -999.00,-999.000,9,-999.000,9,-999.000,9, -999.00,9,  -999.0,9,  -999.0,-999.000,9,-999.000,-999.000,9, -999.00,9, -999.00,9, 3749.30,-999.0000,9,-999.0000,9,-999.0000,9,-999.0000,9,-999.0000,9,-999.0000,9,   2.2218,     -999.0,9,       0.00,2,       0.16,2,       0.16,2,         60,-999.000,-999.000,-999.000,       1.22,2,     0.0,2,     0.0,2
33RO200306_01,       A16N,     060,          1,          4,          4,2,20030705,       1618,    35.4997,   -20.2820,       5280,  4249.1,   2.4662,  34.9017,2,  34.9016,2,    243.8,2,   244.1,2,   43.75,6,   22.04,6,    0.00,6,    1.48,6,   0.013,2,   0.007,2,   0.002,2,  -999.0,9,  -999.0,9,   -999.0,9,  -999.00,-999.0000,9,  -999.00,-999.000,9,-999.000,9,-999.000,9, -999.00,9,  -999.0,9,  -999.0,-999.000,9,-999.000,-999.000,9, -999.00,9, -999.00,9, 4249.10,-999.0000,9,-999.0000,9,-999.0000,9,-999.0000,9,-999.0000,9,-999.0000,9,   2.0899,     -999.0,9,     -999.0,9,     -999.0,9,     -999.0,9,         60,-999.000,-999.000,-999.000,     -999.0,9, -999.00,9, -999.00,9
33RO200306_01,       A16N,     060,          1,          3,          3,2,20030705,       1618,    35.4997,   -20.2820,       5280,  4745.6,   2.4465,  34.8935,2,  34.8943,2,    243.5,2,   259.5,3,   45.56,6,   22.23,6,    0.00,6,    1.50,6,   0.007,2,   0.005,2,   0.002,2,  -999.0,9,  -999.0,9,   -999.0,9,  -999.00,-999.0000,9,  -999.00,-999.000,9,-999.000,9,-999.000,9, -999.00,9,  -999.0,9,  -999.0,-999.000,9,-999.000,-999.000,9, -999.00,9, -999.00,9, 4745.60,-999.0000,9,-999.0000,9,-999.0000,9,-999.0000,9,-999.0000,9,-999.0000,9,   2.0108,     -999.0,9,       0.00,2,       0.31,2,       0.12,2,         60,-999.000,-999.000,-999.000,       0.48,2,     0.0,2,     0.0,2
33RO200306_01,       A16N,     060,          1,          2,          2,2,20030705,       1618,    35.4997,   -20.2820,       5280,  5000.2,   2.4632,  34.8917,2,  34.8956,3,    243.2,2,   244.4,2,   45.92,6,   22.28,6,    0.00,6,    1.50,6,   0.008,6,   0.006,6,   0.002,6,  -999.0,9,  -999.0,9,   -999.0,9,  -999.00,-999.0000,9,  -999.00,-999.000,9,-999.000,9,-999.000,9, -999.00,9,  -999.0,9,  -999.0,-999.000,9,-999.000,-999.000,9, -999.00,9, -999.00,9, 5000.20,-999.0000,9,-999.0000,9,-999.0000,9,-999.0000,9,-999.0000,9,-999.0000,9,   1.9950,     -999.0,9,     -999.0,9,     -999.0,9,     -999.0,9,         60,-999.000,-999.000,-999.000,     -999.0,9, -999.00,9, -999.00,9
33RO200306_01,       A16N,     060,          1,          1,          1,2,20030705,       1618,    35.4997,   -20.2820,       5280,  5357.6,   2.4980,  34.8899,2,  34.8911,2,    243.6,2,   244.1,2,   46.26,2,   22.31,2,    0.00,2,    1.50,2,   0.010,2,   0.005,2,   0.002,2,  -999.0,9,  -999.0,9,   -999.0,9,  -999.00,-999.0000,9,  -999.00,-999.000,9,-999.000,9,-999.000,9, -999.00,9,  -999.0,9,  -999.0,-999.000,9,-999.000,-999.000,9, -999.00,9, -999.00,9, 5357.60,-999.0000,9,-999.0000,9,-999.0000,9,-999.0000,9,-999.0000,9,-999.0000,9,   1.9825,     -999.0,9,     -999.0,9,     -999.0,9,     -999.0,9,         60,-999.000,-999.000,-999.000,     -999.0,9, -999.00,9, -999.00,9