BOTTLE,20230908CCHSIOCBG
EXPOCODE,SECT_ID,STNNBR,CASTNO,SAMPNO,BTLNBR,BTLNBR_FLAG_W,DATE,TIME,LATITUDE,LONGITUDE,DEPTH,CTDPRS,CTDTMP,CTDSAL,CTDSAL_FLAG_W,SALNTY,SALNTY_FLAG_W,CTDOXY,CTDOXY_FLAG_W,OXYGEN,OXYGEN_FLAG_W,SILCAT,SILCAT_FLAG_W,NITRAT,NITRAT_FLAG_W,NITRIT,NITRIT_FLAG_W,PHSPHT,PHSPHT_FLAG_W,CFC-11,CFC-11_FLAG_W,CFC-12,CFC-12_FLAG_W,CFC113,CFC113_FLAG_W,TCARBN,TCARBN_FLAG_W,ALKALI,ALKALI_FLAG_W,FCO2,FCO2_FLAG_W,FCO2TMP,PH_SWS,PH_SWS_FLAG_W,PH_TMP,TRITUM,TRITUM_FLAG_W,HELIUM,HELIUM_FLAG_W,DELHE3,DELHE3_FLAG_W,DELC13,DELC13_FLAG_W,DELC14,DELC14_FLAG_W,C14ERR,NEON,NEON_FLAG_W,NEONER,POC,POC_FLAG_W,DOC,DOC_FLAG_W,TDN,TDN_FLAG_W,CTDRAW,CDOM325,CDOM325_FLAG_W,CDOM340,CDOM340_FLAG_W,CDOM380,CDOM380_FLAG_W,CDOM412,CDOM412_FLAG_W,CDOMSL,CDOMSL_FLAG_W,CDOMSN,CDOMSN_FLAG_W,THETA,PON,PON_FLAG_W,HCFC-22,HCFC-22_FLAG_W,HCFC-142b,HCFC-142b_FLAG_W,HCFC-141b,HCFC-141b_FLAG_W,STNNBR_U,HELIER,DELHER,TRITER,CH3CL,CH3CL_FLAG_W,CH3BR,CH3BR_FLAG_W,CH3I,CH3I_FLAG_W
,,,,,,,,,,,METERS,DBAR,ITS-90,PSS-78,,PSS-78,,UMOL/KG,,UMOL/KG,,UMOL/KG,,UMOL/KG,,UMOL/KG,,UMOL/KG,,PMOL/KG,,PMOL/KG,,PMOL/KG,,UMOL/KG,,UMOL/KG,,UATM,,DEG C,,,DEG C,TU,,NMOL/KG,,PERCNT,,/MILLE,,/MILLE,,/MILLE,NMOL/KG,,NMOL/KG,UG/KG,,UMOL/KG,,UMOL/KG,,DBAR,1/M,,1/M,,1/M,,1/M,,1/NM,,1/NM,,DEG C,UMOL/L,,PMOL/KG,,PMOL/KG,,PMOL/KG,,,NMOL/KG,PERCNT,TU,PMOL/KG,,PMOL/KG,,PMOL/KG,
33RO200306_02,       A16N,     072,          2,         35,         35,2,20030716,       2050,    30.0003,   -23.3748,       5243,     3.1,  23.9623,  37.1280,2,  37.1343,2,    209.9,2,   213.4,2,    0.57,2,    0.01,2,    0.00,2,    0.00,2,-999.000,5,-999.000,5,-999.000,5,  2109.7,6,  2427.0,6,    346.6,2,    20.00,   8.0160,6,    25.00,-999.000,9,-999.000,9,-999.000,9, -999.00,9,  -999.0,9,  -999.0,-999.000,9,-999.000,-999.000,9,   66.75,2,    6.65,2,    3.10,-999.0000,9,-999.0000,9,-999.0000,9,-999.0000,9,-999.0000,9,-999.0000,9,  23.9616,     -999.0,9,       4.91,2,       0.12,2,       3.23,2,         72,-999.000,-999.000,-999.000,      38.45,2,     0.0,2,    10.7,2
33RO200306_02,       A16N,     072,          2,         33,         33,2,20030716,       2050,    30.0003,   -23.3748,       5243,    14.5,  23.8972,  37.1247,2,  37.1301,2,    209.9,2,   213.6,2,    0.58,2,    0.01,2,    0.00,2,    0.00,2,-999.000,5,-999.000,5,-999.000,5,  2106.2,2,  2426.6,2,    346.2,2,    20.00,   8.0299,2,    25.00,-999.000,9,-999.000,9,-999.000,9, -999.00,9,  -999.0,9,  -999.0,-999.000,9,-999.000,-999.000,9, -999.00,9, -999.00,9,   14.50,-999.0000,9,-999.0000,9,-999.0000,9,-999.0000,9,-999.0000,9,-999.0000,9,  23.8941,     -999.0,9,       4.33,2,       0.21,2,       0.76,2,         72,-999.000,-999.000,-999.000,      51.04,2,    0.79,2,   12.17,2
33RO200306_02,       A16N,     072,          2,         32,         32,2,20030716,       2050,    30.0003,   -23.3748,       5243,    44.5,  20.7510,  36.9290,2,  36.9263,2,    234.3,2,   235.0,2,    0.58,2,    0.01,2,    0.00,2,    0.00,2,-999.000,5,-999.000,5,-999.000,5,  2096.2,2,  2413.8,2,    344.5,2,    20.00,   8.0200,2,    25.00,-999.000,9,-999.000,9,-999.000,9, -999.00,9,  -999.0,9,  -999.0,-999.000,9,-999.000,-999.000,9,   66.51,2,    6.47,2,   44.50,-999.0000,9,-999.0000,9,-999.0000,9,-999.0000,9,-999.0000,9,-999.0000,9,  20.7425,     -999.0,9,     -999.0,9,     -999.0,9,     -999.0,9,         72,-999.000,-999.000,-999.000,     -999.0,9, -999.00,9, -999.00,9
33RO200306_02,       A16N,     072,          2,         31,         31,2,20030716,       2050,    30.0003,   -23.3748,       5243,    64.5,  19.9618,  36.8670,2,  36.8584,2,    234.6,2,   234.2,2,    0.60,2,    0.01,2,    0.00,2,    0.00,2,-999.000,5,-999.000,5,-999.000,5,  2095.3,6,  2409.6,2,    347.9,2,    20.00,   8.0220,2,    25.00,-999.000,9,-999.000,9,-999.000,9, -999.00,9,  -999.0,9,  -999.0,-999.000,9,-999.000,-999.000,9,   67.00,2,    6.34,2,   64.50,-999.0000,9,-999.0000,9,-999.0000,9,-999.0000,9,-999.0000,9,-999.0000,9,  19.9498,     -999.0,9,       4.64,2,       0.23,2,       0.47,2,         72,-999.000,-999.000,-999.000,      80.08,2,    0.13,2,   16.41,2
33RO200306_02,       A16N,     072,          2,         30,         30,2,20030716,       2050,    30.0003,   -23.3748,       5243,    94.0,  19.1309,  36.7427,2,  36.7297,2,    231.6,2,   230.1,2,    0.63,2,    0.02,2,    0.00,2,    0.00,2,-999.000,5,-999.000,5,-999.000,5,  2096.3,2,  2399.9,2,    359.8,2,    20.00,-999.0000,9,  -999.00,-999.000,9,-999.000,9,-999.000,9, -999.00,9,  -999.0,9,  -999.0,-999.000,9,-999.000,-999.000,9, -999.00,9, -999.00,9,   94.00,-999.0000,9,-999.0000,9,-999.0000,9,-999.0000,9,-999.0000,9,-999.0000,9,  19.1139,     -999.0,9,     -999.0,9,     -999.0,9,     -999.0,9,         72,-999.000,-999.000,-999.000,     -999.0,9, -999.00,9, -999.00,9
33RO200306_02,       A16N,     072,          2,         29,         29,2,20030716,       2050,    30.0003,   -23.3748,       5243,   113.9,  18.6306,  36.6586,2,  36.6686,2,    228.8,2,   224.3,2,    0.69,2,    0.13,2,    0.05,2,    0.01,2,-999.000,5,-999.000,5,-999.000,5,  2099.9,2,  2396.0,2,    370.5,2,    20.00,   7.9931,2,    25.00,-999.000,9,-999.000,9,-999.000,9, -999.00,9,  -999.0,9,  -999.0,-999.000,9,-999.000,-999.000,9,   61.63,2,    6.44,2,  113.90,-999.0000,9,-999.0000,9,-999.0000,9,-999.0000,9,-999.0000,9,-999.0000,9,  18.6104,     -999.0,9,       4.39,2,       0.23,2,       0.65,2,         72,-999.000,-999.000,-999.000,       20.5,2,     0.0,2,    3.15,2
33RO200306_02,       A16N,     072,          2,         28,         28,2,20030716,       2050,    30.0003,   -23.3748,       5243,   139.2,  18.1874,  36.5949,2,  36.5842,2,    219.0,2,   215.6,2,    0.93,2,    1.63,2,    0.08,2,    0.08,2,-999.000,5,-999.000,5,-999.000,5,  2107.2,2,  2389.2,2,   -999.0,9,  -999.00,   7.9695,2,    25.00,-999.000,9,-999.000,9,-999.000,9, -999.00,9,  -999.0,9,  -999.0,-999.000,9,-999.000,-999.000,9, -999.00,9, -999.00,9,  139.20,-999.0000,9,-999.0000,9,-999.0000,9,-999.0000,9,-999.0000,9,-999.0000,9,  18.1631,     -999.0,9,     -999.0,9,     -999.0,9,     -999.0,9,         72,-999.000,-999.000,-999.000,     -999.0,9, -999.00,9, -999.00,9
33RO200306_02,       A16N,     072,          2,         27,         27,2,20030716,       2050,    30.0003,   -23.3748,       5243,   164.5,  17.5637,  36.4696,2,  36.4573,2,    214.9,2,   211.7,2,    1.22,2,    3.10,2,    0.04,2,    0.16,2,-999.000,5,-999.000,5,-999.000,5,  2109.0,2,  2381.0,2,    407.0,2,    20.00,   7.9628,2,    25.00,-999.000,9,-999.000,9,-999.000,9, -999.00,9,  -999.0,9,  -999.0,-999.000,9,-999.000,-999.000,9,   58.46,2,    8.53,2,  164.50,-999.0000,9,-999.0000,9,-999.0000,9,-999.0000,9,-999.0000,9,-999.0000,9,  17.5357,     -999.0,9,       4.54,2,       0.19,2,       0.66,2,         72,-999.000,-999.000,-999.000,        2.0,2,    0.02,2,    0.29,2
33RO200306_02,       A16N,     072,          2,         26,         26,2,20030716,       2050,    30.0003,   -23.3748,       5243,   189.6,  16.9743,  36.3542,2,  36.3396,2,    205.7,2,   209.3,2,    1.58,2,    4.59,2,    0.02,2,    0.23,2,-999.000,5,-999.000,5,-999.000,5,  2112.5,2,  2374.1,2,    422.4,2,    20.00,   7.9498,2,    25.00,-999.000,9,-999.000,9,-999.000,9, -999.00,9,  -999.0,9,  -999.0,-999.000,9,-999.000,-999.000,9, -999.00,9, -999.00,9,  189.60,-999.0000,9,-999.0000,9,-999.0000,9,-999.0000,9,-999.0000,9,-999.0000,9,  16.9427,     -999.0,9,     -999.0,9,     -999.0,9,     -999.0,9,         72,-999.000,-999.000,-999.000,     -999.0,9, -999.00,9, -999.00,9
33RO200306_02,       A16N,     072,          2,         25,         25,2,20030716,       2050,    30.0003,   -23.3748,       5243,   225.1,  16.3161,  36.2479,2,  36.2477,2,    204.1,2,   208.6,2,    1.93,2,    5.77,2,    0.01,2,    0.30,2,-999.000,5,-999.000,5,-999.000,5,  2115.2,2,  2368.2,2,    440.5,2,    20.00,   7.9274,2,    25.00,-999.000,9,-999.000,9,-999.000,9, -999.00,9,  -999.0,9,  -999.0,-999.000,9,-999.000,-999.000,9,   56.34,2,   10.43,2,  225.10,-999.0000,9,-999.0000,9,-999.0000,9,-999.0000,9,-999.0000,9,-999.0000,9,  16.2796,     -999.0,9,       4.35,2,       0.15,2,       0.62,2,         72,-999.000,-999.000,-999.000,      10.53,2,    0.54,2,    0.14,2
33RO200306_02,       A16N,     072,          2,         24,         24,2,20030716,       2050,    30.0003,   -23.3748,       5243,   274.1,  15.7510,  36.1617,2,  36.1601,2,    210.4,2,   205.8,2,    2.16,2,    6.71,2,    0.01,2,    0.36,2,-999.000,5,-999.000,5,-999.000,5,  2122.0,2,  2364.7,2,   -999.0,9,  -999.00,-999.0000,9,  -999.00,-999.000,9,-999.000,9,-999.000,9, -999.00,9,  -999.0,9,  -999.0,-999.000,9,-999.000,-999.000,9,   51.39,2,   11.54,2,  274.10,-999.0000,9,-999.0000,9,-999.0000,9,-999.0000,9,-999.0000,9,-999.0000,9,  15.7076,     -999.0,9,     -999.0,9,     -999.0,9,     -999.0,9,         72,-999.000,-999.000,-999.000,     -999.0,9, -999.00,9, -999.00,9
33RO200306_02,       A16N,     072,          2,         23,         23,2,20030716,       2050,    30.0003,   -23.3748,       5243,   323.5,  15.1186,  36.0582,2,  36.0596,2,    202.9,2,   207.0,2,    2.54,2,    7.67,2,    0.01,2,    0.42,2,-999.000,5,-999.000,5,-999.000,5,  2125.4,2,  2359.7,2,    479.7,2,    20.00,   7.9070,2,    25.00,-999.000,9,-999.000,9,-999.000,9, -999.00,9,  -999.0,9,  -999.0,-999.000,9,-999.000,-999.000,9,   51.71,2,   11.95,2,  323.50,-999.0000,9,-999.0000,9,-999.0000,9,-999.0000,9,-999.0000,9,-999.0000,9,  15.0687,     -999.0,9,       4.43,2,       0.18,2,       0.58,2,         72,-999.000,-999.000,-999.000,      17.02,2,    0.81,2,    0.01,2
33RO200306_02,       A16N,     072,          2,         22,         22,2,20030716,       2050,    30.0003,   -23.3748,       5243,   374.1,  14.4808,  35.9591,2,  35.9605,2,    204.1,2,   208.0,2,    2.93,2,    8.59,2,    0.01,2,    0.48,2,-999.000,5,-999.000,5,-999.000,5,  2130.1,2,  2354.4,2,   -999.0,9,  -999.00,   7.8689,2,    25.00,-999.000,9,-999.000,9,-999.000,9, -999.00,9,  -999.0,9,  -999.0,-999.000,9,-999.000,-999.000,9,   51.30,2,   12.68,2,  374.10,-999.0000,9,-999.0000,9,-999.0000,9,-999.0000,9,-999.0000,9,-999.0000,9,  14.4247,     -999.0,9,     -999.0,9,     -999.0,9,     -999.0,9,         72,-999.000,-999.000,-999.000,     -999.0,9, -999.00,9, -999.00,9
33RO200306_02,       A16N,     072,          2,         21,         21,2,20030716,       2050,    30.0003,   -23.3748,       5243,   448.9,  13.3714,  35.7937,2,  35.7911,2,    201.7,2,   201.1,2,    4.04,2,   11.22,2,    0.01,2,    0.65,2,-999.000,5,-999.000,5,-999.000,5,  2141.0,2,  2346.3,2,    548.0,2,    20.00,   7.8465,2,    25.00,-999.000,9,-999.000,9,-999.000,9, -999.00,9,  -999.0,9,  -999.0,-999.000,9,-999.000,-999.000,9,   49.43,2,   15.09,2,  448.90,-999.0000,9,-999.0000,9,-999.0000,9,-999.0000,9,-999.0000,9,-999.0000,9,  13.3075,     -999.0,9,     -999.0,9,     -999.0,9,     -999.0,9,         72,-999.000,-999.000,-999.000,     -999.0,9, -999.00,9, -999.00,9
33RO200306_02,       A16N,     072,          2,         20,         20,2,20030716,       2050,    30.0003,   -23.3748,       5243,   549.7,  12.1380,  35.6415,2,  35.6420,2,    193.6,2,   192.9,2,    5.50,2,   14.19,2,    0.00,2,    0.82,2,-999.000,5,-999.000,5,-999.000,5,  2153.4,2,  2338.0,2,    614.1,2,    20.00,   7.8099,2,    25.00,-999.000,9,-999.000,9,-999.000,9, -999.00,9,  -999.0,9,  -999.0,-999.000,9,-999.000,-999.000,9,   46.51,2,   17.72,2,  549.70,-999.0000,9,-999.0000,9,-999.0000,9,-999.0000,9,-999.0000,9,-999.0000,9,  12.0642,     -999.0,9,     -999.0,9,     -999.0,9,     -999.0,9,         72,-999.000,-999.000,-999.000,     -999.0,9, -999.00,9, -999.00,9
33RO200306_02,       A16N,     072,          2,         19,         19,2,20030716,       2050,    30.0003,   -23.3748,       5243,   649.8,  11.1845,  35.5508,2,  35.5526,2,    182.1,2,   185.8,2,    7.53,2,   17.06,2,    0.00,2,    1.00,2,-999.000,5,-999.000,5,-999.000,5,  2165.6,2,  2334.5,2,    672.3,2,    20.00,   7.7759,2,    25.00,-999.000,9,-999.000,9,-999.000,9, -999.00,9,  -999.0,9,  -999.0,-999.000,9,-999.000,-999.000,9,   45.53,2,   20.89,2,  649.80,-999.0000,9,-999.0000,9,-999.0000,9,-999.0000,9,-999.0000,9,-999.0000,9,  11.1014,     -999.0,9,       2.12,2,       0.00,2,       0.46,2,         72,-999.000,-999.000,-999.000,       2.52,2,     0.0,2,    0.45,2
33RO200306_02,       A16N,     072,          2,         18,         18,2,20030716,       2050,    30.0003,   -23.3748,       5243,   799.9,   9.7747,  35.4710,2,  35.4745,2,    174.1,2,   173.1,2,   10.78,2,   20.14,2,    0.00,2,    1.21,2,-999.000,5,-999.000,5,-999.000,5,  2182.3,2,  2336.7,2,    740.5,2,    20.00,   7.7388,2,    25.00,-999.000,9,-999.000,9,-999.000,9, -999.00,9,  -999.0,9,  -999.0,-999.000,9,-999.000,-999.000,9,   43.49,2,   23.22,2,  799.90,-999.0000,9,-999.0000,9,-999.0000,9,-999.0000,9,-999.0000,9,-999.0000,9,   9.6798,     -999.0,9,     -999.0,9,     -999.0,9,     -999.0,9,         72,-999.000,-999.000,-999.000,     -999.0,9, -999.00,9, -999.00,9
33RO200306_02,       A16N,     072,          2,         17,         17,2,20030716,       2050,    30.0003,   -23.3748,       5243,   949.7,   8.5361,  35.3936,2,  35.3982,2,    169.5,2,   166.9,2,   13.79,2,   22.26,2,    0.00,2,    1.37,2,-999.000,5,-999.000,5,-999.000,5,  2188.8,6,  2335.6,6,    790.6,2,    20.00,-999.0000,9,  -999.00,-999.000,9,-999.000,9,-999.000,9, -999.00,9,  -999.0,9,  -999.0,-999.000,9,-999.000,-999.000,9,   43.41,2,   26.11,2,  949.70,-999.0000,9,-999.0000,9,-999.0000,9,-999.0000,9,-999.0000,9,-999.0000,9,   8.4311,     -999.0,9,       0.51,2,       0.00,2,       0.33,2,         72,-999.000,-999.000,-999.000,        0.0,2,     0.0,2,     0.0,2
33RO200306_02,       A16N,     072,          2,         16,         16,2,20030716,       2050,    30.0003,   -23.3748,       5243,  1099.5,   8.0560,  35.4550,2,  35.4521,2,    181.9,2,   181.9,2,   13.83,2,   21.07,2,    0.00,2,    1.30,2,-999.000,5,-999.000,5,-999.000,5,  2192.0,2,  2341.6,2,    765.2,2,    20.00,   7.7351,2,    25.00,-999.000,9,-999.000,9,-999.000,9, -999.00,9,  -999.0,9,  -999.0,-999.000,9,-999.000,-999.000,9,   43.25,2,   24.28,2, 1099.50,-999.0000,9,-999.0000,9,-999.0000,9,-999.0000,9,-999.0000,9,-999.0000,9,   7.9372,     -999.0,9,     -999.0,9,     -999.0,9,     -999.0,9,         72,-999.000,-999.000,-999.000,     -999.0,9, -999.00,9, -999.00,9
33RO200306_02,       A16N,     072,          2,         15,         15,2,20030716,       2050,    30.0003,   -23.3748,       5243,  1248.8,   7.6527,  35.5035,2,  35.5064,2,    197.3,2,   196.3,2,   13.29,2,   19.63,2,    0.00,2,    1.21,2,-999.000,5,-999.000,5,-999.000,5,  2189.0,2,  2343.9,2,    737.4,2,    20.00,   7.7279,2,    25.00,-999.000,9,-999.000,9,-999.000,9, -999.00,9,  -999.0,9,  -999.0,-999.000,9,-999.000,-999.000,9,   42.44,2,   23.33,2, 1248.80,-999.0000,9,-999.0000,9,-999.0000,9,-999.0000,9,-999.0000,9,-999.0000,9,   7.5201,     -999.0,9,       0.51,2,       0.00,2,       0.40,2,         72,-999.000,-999.000,-999.000,      23.05,2,    0.91,2,    0.46,2
33RO200306_02,       A16N,     072,          2,         14,         14,2,20030716,       2050,    30.0003,   -23.3748,       5243,  1449.3,   6.3965,  35.3652,2,  35.3704,2,    213.3,2,   212.7,2,   14.65,2,   19.55,2,    0.00,2,    1.23,2,-999.000,5,-999.000,5,-999.000,5,  2182.0,2,  2337.4,2,    740.2,2,    20.00,-999.0000,9,  -999.00,-999.000,9,-999.000,9,-999.000,9, -999.00,9,  -999.0,9,  -999.0,-999.000,9,-999.000,-999.000,9,   41.05,2,   23.33,2, 1449.30,-999.0000,9,-999.0000,9,-999.0000,9,-999.0000,9,-999.0000,9,-999.0000,9,   6.2542,     -999.0,9,     -999.0,9,     -999.0,9,     -999.0,9,         72,-999.000,-999.000,-999.000,     -999.0,9, -999.00,9, -999.00,9
33RO200306_02,       A16N,     072,          2,         13,         13,2,20030716,       2050,    30.0003,   -23.3748,       5243,  1749.0,   5.1086,  35.2176,2,  35.2232,2,    233.7,2,   234.3,2,   15.77,2,   18.99,2,    0.00,2,    1.20,2,-999.000,5,-999.000,5,-999.000,5,  2173.3,2,  2329.8,2,    733.7,6,    20.00,-999.0000,9,  -999.00,-999.000,9,-999.000,9,-999.000,9, -999.00,9,  -999.0,9,  -999.0,-999.000,9,-999.000,-999.000,9,   41.30,2,   23.79,2, 1749.00,-999.0000,9,-999.0000,9,-999.0000,9,-999.0000,9,-999.0000,9,-999.0000,9,   4.9502,     -999.0,9,       0.27,2,       0.00,2,       0.61,2,         72,-999.000,-999.000,-999.000,        0.0,2,     0.0,2,     0.1,2
33RO200306_02,       A16N,     072,          2,         12,         12,2,20030716,       2050,    30.0003,   -23.3748,       5243,  2049.8,   4.1614,  35.0953,2,  35.0998,2,    244.9,2,   244.2,2,   19.00,2,   19.22,2,    0.00,2,    1.23,2,-999.000,5,-999.000,5,-999.000,5,  2170.4,2,  2326.1,2,    738.1,2,    20.00,   7.7347,2,    25.00,-999.000,9,-999.000,9,-999.000,9, -999.00,9,  -999.0,9,  -999.0,-999.000,9,-999.000,-999.000,9,   40.90,2,   23.00,2, 2049.80,-999.0000,9,-999.0000,9,-999.0000,9,-999.0000,9,-999.0000,9,-999.0000,9,   3.9861,     -999.0,9,     -999.0,9,     -999.0,9,     -999.0,9,         72,-999.000,-999.000,-999.000,     -999.0,9, -999.00,9, -999.00,9
33RO200306_02,       A16N,     072,          2,         11,         11,2,20030716,       2050,    30.0003,   -23.3748,       5243,  2349.2,   3.4691,  35.0139,2,  35.0179,2,    246.3,2,   246.6,2,   24.30,2,   19.89,2,    0.00,2,    1.29,2,-999.000,5,-999.000,5,-999.000,5,  2175.8,2,  2328.6,2,    742.7,2,    20.00,   7.7230,2,    25.00,-999.000,9,-999.000,9,-999.000,9, -999.00,9,  -999.0,9,  -999.0,-999.000,9,-999.000,-999.000,9,   40.41,2,   24.20,2, 2349.20,-999.0000,9,-999.0000,9,-999.0000,9,-999.0000,9,-999.0000,9,-999.0000,9,   3.2754,     -999.0,9,       0.00,2,       0.00,2,       0.42,2,         72,-999.000,-999.000,-999.000,      22.88,2,    0.76,2,    0.24,2
33RO200306_02,       A16N,     072,          2,         10,         10,2,20030716,       2050,    30.0003,   -23.3748,       5243,  2650.2,   3.0388,  34.9699,2,  34.9737,2,    247.7,2,   248.0,2,   29.08,2,   20.34,2,    0.00,2,    1.34,2,-999.000,5,-999.000,5,-999.000,5,  2181.0,2,  2332.7,2,    750.8,6,    20.00,   7.7272,2,    25.00,-999.000,9,-999.000,9,-999.000,9, -999.00,9,  -999.0,9,  -999.0,-999.000,9,-999.000,-999.000,9,   40.57,2,   25.42,2, 2650.20,-999.0000,9,-999.0000,9,-999.0000,9,-999.0000,9,-999.0000,9,-999.0000,9,   2.8231,     -999.0,9,     -999.0,9,     -999.0,9,     -999.0,9,         72,-999.000,-999.000,-999.000,     -999.0,9, -999.00,9, -999.00,9
33RO200306_02,       A16N,     072,          2,          9,          9,2,20030716,       2050,    30.0003,   -23.3748,       5243,  2950.0,   2.7906,  34.9461,2,  34.9500,2,    245.9,2,   246.2,2,   33.55,2,   20.93,2,    0.00,2,    1.38,2,-999.000,5,-999.000,5,-999.000,5,  2187.2,2,  2338.5,2,    752.8,2,    20.00,   7.7313,2,    25.00,-999.000,9,-999.000,9,-999.000,9, -999.00,9,  -999.0,9,  -999.0,-999.000,9,-999.000,-999.000,9,   40.49,2,   25.53,2, 2950.00,-999.0000,9,-999.0000,9,-999.0000,9,-999.0000,9,-999.0000,9,-999.0000,9,   2.5495,     -999.0,9,       0.00,2,       0.00,2,       0.33,2,         72,-999.000,-999.000,-999.000,        0.0,2,     0.0,2,     0.0,2
33RO200306_02,       A16N,     072,          2,          8,          8,2,20030716,       2050,    30.0003,   -23.3748,       5243,  3250.1,   2.6292,  34.9290,2,  34.9325,2,    244.8,2,   245.0,2,   37.64,2,   21.52,2,    0.00,2,    1.43,2,-999.000,5,-999.000,5,-999.000,5,  2192.0,2,  2343.1,2,   -999.0,9,  -999.00,   7.7293,2,    25.00,-999.000,9,-999.000,9,-999.000,9, -999.00,9,  -999.0,9,  -999.0,-999.000,9,-999.000,-999.000,9,   40.65,2,   26.31,2, 3250.10,-999.0000,9,-999.0000,9,-999.0000,9,-999.0000,9,-999.0000,9,-999.0000,9,   2.3604,     -999.0,9,     -999.0,9,     -999.0,9,     -999.0,9,         72,-999.000,-999.000,-999.000,     -999.0,9, -999.00,9, -999.00,9