BOTTLE,20230908CCHSIOCBG
EXPOCODE,SECT_ID,STNNBR,CASTNO,SAMPNO,BTLNBR,BTLNBR_FLAG_W,DATE,TIME,LATITUDE,LONGITUDE,DEPTH,CTDPRS,CTDTMP,CTDSAL,CTDSAL_FLAG_W,SALNTY,SALNTY_FLAG_W,CTDOXY,CTDOXY_FLAG_W,OXYGEN,OXYGEN_FLAG_W,SILCAT,SILCAT_FLAG_W,NITRAT,NITRAT_FLAG_W,NITRIT,NITRIT_FLAG_W,PHSPHT,PHSPHT_FLAG_W,CFC-11,CFC-11_FLAG_W,CFC-12,CFC-12_FLAG_W,CFC113,CFC113_FLAG_W,TCARBN,TCARBN_FLAG_W,ALKALI,ALKALI_FLAG_W,FCO2,FCO2_FLAG_W,FCO2TMP,PH_SWS,PH_SWS_FLAG_W,PH_TMP,TRITUM,TRITUM_FLAG_W,HELIUM,HELIUM_FLAG_W,DELHE3,DELHE3_FLAG_W,DELC13,DELC13_FLAG_W,DELC14,DELC14_FLAG_W,C14ERR,NEON,NEON_FLAG_W,NEONER,POC,POC_FLAG_W,DOC,DOC_FLAG_W,TDN,TDN_FLAG_W,CTDRAW,CDOM325,CDOM325_FLAG_W,CDOM340,CDOM340_FLAG_W,CDOM380,CDOM380_FLAG_W,CDOM412,CDOM412_FLAG_W,CDOMSL,CDOMSL_FLAG_W,CDOMSN,CDOMSN_FLAG_W,THETA,PON,PON_FLAG_W,HCFC-22,HCFC-22_FLAG_W,HCFC-142b,HCFC-142b_FLAG_W,HCFC-141b,HCFC-141b_FLAG_W,STNNBR_U,HELIER,DELHER,TRITER,CH3CL,CH3CL_FLAG_W,CH3BR,CH3BR_FLAG_W,CH3I,CH3I_FLAG_W
,,,,,,,,,,,METERS,DBAR,ITS-90,PSS-78,,PSS-78,,UMOL/KG,,UMOL/KG,,UMOL/KG,,UMOL/KG,,UMOL/KG,,UMOL/KG,,PMOL/KG,,PMOL/KG,,PMOL/KG,,UMOL/KG,,UMOL/KG,,UATM,,DEG C,,,DEG C,TU,,NMOL/KG,,PERCNT,,/MILLE,,/MILLE,,/MILLE,NMOL/KG,,NMOL/KG,UG/KG,,UMOL/KG,,UMOL/KG,,DBAR,1/M,,1/M,,1/M,,1/M,,1/NM,,1/NM,,DEG C,UMOL/L,,PMOL/KG,,PMOL/KG,,PMOL/KG,,,NMOL/KG,PERCNT,TU,PMOL/KG,,PMOL/KG,,PMOL/KG,
33RO200306_02,       A16N,     077,          1,         35,         35,2,20030718,       1019,    27.4998,   -24.7812,       5206,     3.2,  24.4816,  37.4365,2,  37.4409,2,    210.8,2,   209.7,2,    0.43,2,    0.01,2,    0.00,2,    0.02,2,-999.000,9,-999.000,9,-999.000,9,  2107.7,2,  2448.7,6,   -999.0,9,  -999.00,   8.0286,6,    25.00,-999.000,9,-999.000,9,-999.000,9,    1.35,2,    80.9,2,     3.6,-999.000,9,-999.000,-999.000,9, -999.00,9, -999.00,9,    3.20,-999.0000,9,-999.0000,9,-999.0000,9,-999.0000,9,-999.0000,9,-999.0000,9,  24.4809,     -999.0,9,     -999.0,9,     -999.0,9,     -999.0,9,         77,-999.000,-999.000,-999.000,     -999.0,9, -999.00,9, -999.00,9
33RO200306_02,       A16N,     077,          1,         33,         33,2,20030718,       1019,    27.4998,   -24.7812,       5206,    19.3,  24.4294,  37.4333,2,  37.4382,2,    212.5,2,   210.2,2,    0.43,2,    0.01,2,    0.00,2,    0.02,2,-999.000,9,-999.000,9,-999.000,9,  -999.0,9,  -999.0,9,   -999.0,9,  -999.00,-999.0000,9,  -999.00,-999.000,9,-999.000,9,-999.000,9, -999.00,9,  -999.0,9,  -999.0,-999.000,9,-999.000,-999.000,9, -999.00,9, -999.00,9,   19.30,-999.0000,9,-999.0000,9,-999.0000,9,-999.0000,9,-999.0000,9,-999.0000,9,  24.4252,     -999.0,9,     -999.0,9,     -999.0,9,     -999.0,9,         77,-999.000,-999.000,-999.000,     -999.0,9, -999.00,9, -999.00,9
33RO200306_02,       A16N,     077,          1,         32,         32,2,20030718,       1019,    27.4998,   -24.7812,       5206,    39.3,  22.1807,  37.2208,2,  37.2219,2,    227.7,2,   230.0,2,    0.47,2,    0.01,2,    0.00,2,    0.02,2,-999.000,9,-999.000,9,-999.000,9,  -999.0,9,  -999.0,9,   -999.0,9,  -999.00,-999.0000,9,  -999.00,-999.000,9,-999.000,9,-999.000,9, -999.00,9,  -999.0,9,  -999.0,-999.000,9,-999.000,-999.000,9, -999.00,9, -999.00,9,   39.30,-999.0000,9,-999.0000,9,-999.0000,9,-999.0000,9,-999.0000,9,-999.0000,9,  22.1728,     -999.0,9,     -999.0,9,     -999.0,9,     -999.0,9,         77,-999.000,-999.000,-999.000,     -999.0,9, -999.00,9, -999.00,9
33RO200306_02,       A16N,     077,          1,         31,         31,2,20030718,       1019,    27.4998,   -24.7812,       5206,    59.8,  21.5157,  37.1738,2,  37.1818,2,    229.4,2,   229.8,2,    0.48,2,    0.01,2,    0.00,2,    0.02,2,-999.000,9,-999.000,9,-999.000,9,  -999.0,9,  -999.0,9,   -999.0,9,  -999.00,-999.0000,9,  -999.00,-999.000,9,-999.000,9,-999.000,9, -999.00,9,  -999.0,9,  -999.0,-999.000,9,-999.000,-999.000,9, -999.00,9, -999.00,9,   59.80,-999.0000,9,-999.0000,9,-999.0000,9,-999.0000,9,-999.0000,9,-999.0000,9,  21.5039,     -999.0,9,     -999.0,9,     -999.0,9,     -999.0,9,         77,-999.000,-999.000,-999.000,     -999.0,9, -999.00,9, -999.00,9
33RO200306_02,       A16N,     077,          1,         30,         30,2,20030718,       1019,    27.4998,   -24.7812,       5206,    79.8,  21.1054,  37.1347,2,  37.0954,2,    228.2,2,   227.1,2,    0.47,2,    0.02,2,    0.00,2,    0.02,2,-999.000,9,-999.000,9,-999.000,9,  -999.0,9,  -999.0,9,   -999.0,9,  -999.00,-999.0000,9,  -999.00,-999.000,9,-999.000,9,-999.000,9, -999.00,9,  -999.0,9,  -999.0,-999.000,9,-999.000,-999.000,9, -999.00,9, -999.00,9,   79.80,-999.0000,9,-999.0000,9,-999.0000,9,-999.0000,9,-999.0000,9,-999.0000,9,  21.0899,     -999.0,9,     -999.0,9,     -999.0,9,     -999.0,9,         77,-999.000,-999.000,-999.000,     -999.0,9, -999.00,9, -999.00,9
33RO200306_02,       A16N,     077,          1,         29,         29,2,20030718,       1019,    27.4998,   -24.7812,       5206,    99.7,  20.3264,  37.0208,2,  37.0065,2,    223.1,2,   223.0,2,    0.49,2,    0.02,2,    0.00,2,    0.02,2,-999.000,9,-999.000,9,-999.000,9,  -999.0,9,  -999.0,9,   -999.0,9,  -999.00,-999.0000,9,  -999.00,-999.000,9,-999.000,9,-999.000,9, -999.00,9,  -999.0,9,  -999.0,-999.000,9,-999.000,-999.000,9, -999.00,9, -999.00,9,   99.70,-999.0000,9,-999.0000,9,-999.0000,9,-999.0000,9,-999.0000,9,-999.0000,9,  20.3076,     -999.0,9,     -999.0,9,     -999.0,9,     -999.0,9,         77,-999.000,-999.000,-999.000,     -999.0,9, -999.00,9, -999.00,9
33RO200306_02,       A16N,     077,          1,         28,         28,2,20030718,       1019,    27.4998,   -24.7812,       5206,   124.4,  19.5163,  36.8782,2,  36.8624,2,    215.4,2,   215.3,2,    0.60,2,    0.05,2,    0.02,2,    0.03,2,-999.000,9,-999.000,9,-999.000,9,  -999.0,9,  -999.0,9,   -999.0,9,  -999.00,-999.0000,9,  -999.00,-999.000,9,-999.000,9,-999.000,9, -999.00,9,  -999.0,9,  -999.0,-999.000,9,-999.000,-999.000,9, -999.00,9, -999.00,9,  124.40,-999.0000,9,-999.0000,9,-999.0000,9,-999.0000,9,-999.0000,9,-999.0000,9,  19.4935,     -999.0,9,     -999.0,9,     -999.0,9,     -999.0,9,         77,-999.000,-999.000,-999.000,     -999.0,9, -999.00,9, -999.00,9
33RO200306_02,       A16N,     077,          1,         27,         27,2,20030718,       1019,    27.4998,   -24.7812,       5206,   149.7,  18.4788,  36.6800,2,  36.6718,2,    205.0,2,   204.3,2,    0.86,2,    1.28,2,    0.11,2,    0.07,2,-999.000,9,-999.000,9,-999.000,9,  -999.0,9,  -999.0,9,   -999.0,9,  -999.00,-999.0000,9,  -999.00,-999.000,9,-999.000,9,-999.000,9, -999.00,9,  -999.0,9,  -999.0,-999.000,9,-999.000,-999.000,9, -999.00,9, -999.00,9,  149.70,-999.0000,9,-999.0000,9,-999.0000,9,-999.0000,9,-999.0000,9,-999.0000,9,  18.4524,     -999.0,9,     -999.0,9,     -999.0,9,     -999.0,9,         77,-999.000,-999.000,-999.000,     -999.0,9, -999.00,9, -999.00,9
33RO200306_02,       A16N,     077,          1,         26,         26,2,20030718,       1019,    27.4998,   -24.7812,       5206,   175.2,  17.5120,  36.4870,2,  36.4722,2,    199.2,2,   200.8,2,    1.21,2,    3.79,2,    0.03,2,    0.21,2,-999.000,9,-999.000,9,-999.000,9,  -999.0,9,  -999.0,9,   -999.0,9,  -999.00,-999.0000,9,  -999.00,-999.000,9,-999.000,9,-999.000,9, -999.00,9,  -999.0,9,  -999.0,-999.000,9,-999.000,-999.000,9, -999.00,9, -999.00,9,  175.20,-999.0000,9,-999.0000,9,-999.0000,9,-999.0000,9,-999.0000,9,-999.0000,9,  17.4822,     -999.0,9,     -999.0,9,     -999.0,9,     -999.0,9,         77,-999.000,-999.000,-999.000,     -999.0,9, -999.00,9, -999.00,9
33RO200306_02,       A16N,     077,          1,         25,         25,2,20030718,       1019,    27.4998,   -24.7812,       5206,   200.0,  16.8522,  36.3620,2,  36.3344,2,    199.4,2,   200.4,2,    1.60,2,    5.24,2,    0.01,2,    0.30,2,-999.000,9,-999.000,9,-999.000,9,  -999.0,9,  -999.0,9,   -999.0,9,  -999.00,-999.0000,9,  -999.00,-999.000,9,-999.000,9,-999.000,9, -999.00,9,  -999.0,9,  -999.0,-999.000,9,-999.000,-999.000,9, -999.00,9, -999.00,9,  200.00,-999.0000,9,-999.0000,9,-999.0000,9,-999.0000,9,-999.0000,9,-999.0000,9,  16.8191,     -999.0,9,     -999.0,9,     -999.0,9,     -999.0,9,         77,-999.000,-999.000,-999.000,     -999.0,9, -999.00,9, -999.00,9
33RO200306_02,       A16N,     077,          1,         24,         24,2,20030718,       1019,    27.4998,   -24.7812,       5206,   250.0,  15.9401,  36.1953,2,  36.1843,2,    195.9,2,   196.9,2,    2.20,2,    7.12,2,    0.01,2,    0.41,2,-999.000,9,-999.000,9,-999.000,9,  -999.0,9,  -999.0,9,   -999.0,9,  -999.00,-999.0000,9,  -999.00,-999.000,9,-999.000,9,-999.000,9, -999.00,9,  -999.0,9,  -999.0,-999.000,9,-999.000,-999.000,9, -999.00,9, -999.00,9,  250.00,-999.0000,9,-999.0000,9,-999.0000,9,-999.0000,9,-999.0000,9,-999.0000,9,  15.9002,     -999.0,9,     -999.0,9,     -999.0,9,     -999.0,9,         77,-999.000,-999.000,-999.000,     -999.0,9, -999.00,9, -999.00,9
33RO200306_02,       A16N,     077,          1,         23,         23,2,20030718,       1019,    27.4998,   -24.7812,       5206,   300.6,  15.0445,  36.0485,2,  36.0501,2,    195.6,2,   196.3,2,    2.78,2,    8.62,2,    0.01,2,    0.51,2,-999.000,9,-999.000,9,-999.000,9,  -999.0,9,  -999.0,9,   -999.0,9,  -999.00,-999.0000,9,  -999.00,-999.000,9,-999.000,9,-999.000,9, -999.00,9,  -999.0,9,  -999.0,-999.000,9,-999.000,-999.000,9, -999.00,9, -999.00,9,  300.60,-999.0000,9,-999.0000,9,-999.0000,9,-999.0000,9,-999.0000,9,-999.0000,9,  14.9983,     -999.0,9,     -999.0,9,     -999.0,9,     -999.0,9,         77,-999.000,-999.000,-999.000,     -999.0,9, -999.00,9, -999.00,9
33RO200306_02,       A16N,     077,          1,         22,         22,2,20030718,       1019,    27.4998,   -24.7812,       5206,   349.5,  14.4151,  35.9536,2,  35.9515,2,    193.9,2,   194.6,2,    3.29,2,    9.90,2,    0.01,2,    0.58,2,-999.000,9,-999.000,9,-999.000,9,  -999.0,9,  -999.0,9,   -999.0,9,  -999.00,-999.0000,9,  -999.00,-999.000,9,-999.000,9,-999.000,9, -999.00,9,  -999.0,9,  -999.0,-999.000,9,-999.000,-999.000,9, -999.00,9, -999.00,9,  349.50,-999.0000,9,-999.0000,9,-999.0000,9,-999.0000,9,-999.0000,9,-999.0000,9,  14.3629,     -999.0,9,     -999.0,9,     -999.0,9,     -999.0,9,         77,-999.000,-999.000,-999.000,     -999.0,9, -999.00,9, -999.00,9
33RO200306_02,       A16N,     077,          1,         21,         21,2,20030718,       1019,    27.4998,   -24.7812,       5206,   400.0,  13.6951,  35.8525,2,  35.8493,2,    190.3,2,   191.1,2,    3.98,2,   11.51,2,    0.01,2,    0.68,2,-999.000,9,-999.000,9,-999.000,9,  -999.0,9,  -999.0,9,   -999.0,9,  -999.00,-999.0000,9,  -999.00,-999.000,9,-999.000,9,-999.000,9, -999.00,9,  -999.0,9,  -999.0,-999.000,9,-999.000,-999.000,9, -999.00,9, -999.00,9,  400.00,-999.0000,9,-999.0000,9,-999.0000,9,-999.0000,9,-999.0000,9,-999.0000,9,  13.6373,     -999.0,9,     -999.0,9,     -999.0,9,     -999.0,9,         77,-999.000,-999.000,-999.000,     -999.0,9, -999.00,9, -999.00,9
33RO200306_02,       A16N,     077,          1,         20,         20,2,20030718,       1019,    27.4998,   -24.7812,       5206,   449.9,  12.9455,  35.7566,2,  35.7594,2,    187.5,2,   187.9,2,    4.75,2,   13.13,2,    0.00,2,    0.78,2,-999.000,9,-999.000,9,-999.000,9,  -999.0,9,  -999.0,9,   -999.0,9,  -999.00,-999.0000,9,  -999.00,-999.000,9,-999.000,9,-999.000,9, -999.00,9,  -999.0,9,  -999.0,-999.000,9,-999.000,-999.000,9, -999.00,9, -999.00,9,  449.90,-999.0000,9,-999.0000,9,-999.0000,9,-999.0000,9,-999.0000,9,-999.0000,9,  12.8828,     -999.0,9,     -999.0,9,     -999.0,9,     -999.0,9,         77,-999.000,-999.000,-999.000,     -999.0,9, -999.00,9, -999.00,9
33RO200306_02,       A16N,     077,          1,         19,         19,2,20030718,       1019,    27.4998,   -24.7812,       5206,   499.9,  12.2969,  35.6755,2,  35.6722,2,    185.5,2,   185.7,2,    5.64,2,   14.59,2,    0.00,2,    0.87,2,-999.000,9,-999.000,9,-999.000,9,  -999.0,9,  -999.0,9,   -999.0,9,  -999.00,-999.0000,9,  -999.00,-999.000,9,-999.000,9,-999.000,9, -999.00,9,  -999.0,9,  -999.0,-999.000,9,-999.000,-999.000,9, -999.00,9, -999.00,9,  499.90,-999.0000,9,-999.0000,9,-999.0000,9,-999.0000,9,-999.0000,9,-999.0000,9,  12.2294,     -999.0,9,     -999.0,9,     -999.0,9,     -999.0,9,         77,-999.000,-999.000,-999.000,     -999.0,9, -999.00,9, -999.00,9
33RO200306_02,       A16N,     077,          1,         18,         18,2,20030718,       1019,    27.4998,   -24.7812,       5206,   599.8,  11.2693,  35.5635,2,  35.5605,2,    179.9,2,   177.6,2,    7.47,2,   17.14,2,    0.00,2,    1.03,2,-999.000,9,-999.000,9,-999.000,9,  -999.0,9,  -999.0,9,   -999.0,9,  -999.00,-999.0000,9,  -999.00,-999.000,9,-999.000,9,-999.000,9, -999.00,9,  -999.0,9,  -999.0,-999.000,9,-999.000,-999.000,9, -999.00,9, -999.00,9,  599.80,-999.0000,9,-999.0000,9,-999.0000,9,-999.0000,9,-999.0000,9,-999.0000,9,  11.1924,     -999.0,9,     -999.0,9,     -999.0,9,     -999.0,9,         77,-999.000,-999.000,-999.000,     -999.0,9, -999.00,9, -999.00,9
33RO200306_02,       A16N,     077,          1,         17,         17,2,20030718,       1019,    27.4998,   -24.7812,       5206,   699.3,  10.1948,  35.4744,2,  35.4745,2,    168.0,2,   164.5,2,   10.30,2,   20.22,2,    0.00,2,    1.24,2,-999.000,9,-999.000,9,-999.000,9,  -999.0,9,  -999.0,9,   -999.0,9,  -999.00,-999.0000,9,  -999.00,-999.000,9,-999.000,9,-999.000,9, -999.00,9,  -999.0,9,  -999.0,-999.000,9,-999.000,-999.000,9, -999.00,9, -999.00,9,  699.30,-999.0000,9,-999.0000,9,-999.0000,9,-999.0000,9,-999.0000,9,-999.0000,9,  10.1101,     -999.0,9,     -999.0,9,     -999.0,9,     -999.0,9,         77,-999.000,-999.000,-999.000,     -999.0,9, -999.00,9, -999.00,9
33RO200306_02,       A16N,     077,          1,         16,         16,2,20030718,       1019,    27.4998,   -24.7812,       5206,   800.0,   9.0922,  35.3883,2,  35.3882,2,    161.1,2,   160.1,2,   13.06,2,   22.37,2,    0.00,2,    1.39,2,-999.000,9,-999.000,9,-999.000,9,  -999.0,9,  -999.0,9,   -999.0,9,  -999.00,-999.0000,9,  -999.00,-999.000,9,-999.000,9,-999.000,9, -999.00,9,  -999.0,9,  -999.0,-999.000,9,-999.000,-999.000,9, -999.00,9, -999.00,9,  800.00,-999.0000,9,-999.0000,9,-999.0000,9,-999.0000,9,-999.0000,9,-999.0000,9,   9.0013,     -999.0,9,     -999.0,9,     -999.0,9,     -999.0,9,         77,-999.000,-999.000,-999.000,     -999.0,9, -999.00,9, -999.00,9
33RO200306_02,       A16N,     077,          1,         15,         15,2,20030718,       1019,    27.4998,   -24.7812,       5206,   899.9,   8.2552,  35.3430,2,  35.3439,2,    162.7,2,   159.1,2,   15.24,2,   23.63,2,    0.00,2,    1.49,2,-999.000,9,-999.000,9,-999.000,9,  -999.0,9,  -999.0,9,   -999.0,9,  -999.00,-999.0000,9,  -999.00,-999.000,9,-999.000,9,-999.000,9, -999.00,9,  -999.0,9,  -999.0,-999.000,9,-999.000,-999.000,9, -999.00,9, -999.00,9,  899.90,-999.0000,9,-999.0000,9,-999.0000,9,-999.0000,9,-999.0000,9,-999.0000,9,   8.1579,     -999.0,9,     -999.0,9,     -999.0,9,     -999.0,9,         77,-999.000,-999.000,-999.000,     -999.0,9, -999.00,9, -999.00,9
33RO200306_02,       A16N,     077,          1,         14,         14,2,20030718,       1019,    27.4998,   -24.7812,       5206,   999.9,   7.6750,  35.3458,2,  35.3449,2,    166.6,2,   171.2,2,   15.69,2,   22.95,2,    0.00,2,    1.46,2,-999.000,9,-999.000,9,-999.000,9,  -999.0,9,  -999.0,9,   -999.0,9,  -999.00,-999.0000,9,  -999.00,-999.000,9,-999.000,9,-999.000,9, -999.00,9,  -999.0,9,  -999.0,-999.000,9,-999.000,-999.000,9, -999.00,9, -999.00,9,  999.90,-999.0000,9,-999.0000,9,-999.0000,9,-999.0000,9,-999.0000,9,-999.0000,9,   7.5705,     -999.0,9,     -999.0,9,     -999.0,9,     -999.0,9,         77,-999.000,-999.000,-999.000,     -999.0,9, -999.00,9, -999.00,9
33RO200306_02,       A16N,     077,          1,         13,         13,2,20030718,       1019,    27.4998,   -24.7812,       5206,  1099.6,   7.2474,  35.3505,2,  35.3532,2,    180.7,2,   183.0,2,   15.56,2,   21.92,2,    0.00,2,    1.40,2,-999.000,9,-999.000,9,-999.000,9,  -999.0,9,  -999.0,9,   -999.0,9,  -999.00,-999.0000,9,  -999.00,-999.000,9,-999.000,9,-999.000,9, -999.00,9,  -999.0,9,  -999.0,-999.000,9,-999.000,-999.000,9, -999.00,9, -999.00,9, 1099.60,-999.0000,9,-999.0000,9,-999.0000,9,-999.0000,9,-999.0000,9,-999.0000,9,   7.1352,     -999.0,9,     -999.0,9,     -999.0,9,     -999.0,9,         77,-999.000,-999.000,-999.000,     -999.0,9, -999.00,9, -999.00,9
33RO200306_02,       A16N,     077,          1,         12,         12,2,20030718,       1019,    27.4998,   -24.7812,       5206,  1199.9,   6.7814,  35.3267,2,  35.3255,2,    187.9,2,   191.4,2,   16.43,2,   21.84,2,    0.00,2,    1.40,2,-999.000,9,-999.000,9,-999.000,9,  -999.0,9,  -999.0,9,   -999.0,9,  -999.00,-999.0000,9,  -999.00,-999.000,9,-999.000,9,-999.000,9, -999.00,9,  -999.0,9,  -999.0,-999.000,9,-999.000,-999.000,9, -999.00,9, -999.00,9, 1199.90,-999.0000,9,-999.0000,9,-999.0000,9,-999.0000,9,-999.0000,9,-999.0000,9,   6.6623,     -999.0,9,     -999.0,9,     -999.0,9,     -999.0,9,         77,-999.000,-999.000,-999.000,     -999.0,9, -999.00,9, -999.00,9
33RO200306_02,       A16N,     077,          1,         11,         11,2,20030718,       1019,    27.4998,   -24.7812,       5206,  1399.2,   5.9379,  35.2638,2,  35.2660,2,    204.4,2,   205.5,2,   17.28,2,   21.08,2,    0.00,2,    1.37,2,-999.000,9,-999.000,9,-999.000,9,  -999.0,9,  -999.0,9,   -999.0,9,  -999.00,-999.0000,9,  -999.00,-999.000,9,-999.000,9,-999.000,9, -999.00,9,  -999.0,9,  -999.0,-999.000,9,-999.000,-999.000,9, -999.00,9, -999.00,9, 1399.20,-999.0000,9,-999.0000,9,-999.0000,9,-999.0000,9,-999.0000,9,-999.0000,9,   5.8059,     -999.0,9,     -999.0,9,     -999.0,9,     -999.0,9,         77,-999.000,-999.000,-999.000,     -999.0,9, -999.00,9, -999.00,9
33RO200306_02,       A16N,     077,          1,         10,         10,2,20030718,       1019,    27.4998,   -24.7812,       5206,  1599.2,   5.1315,  35.1876,2,  35.1900,2,    218.0,2,   220.8,2,   18.98,2,   20.73,2,    0.00,2,    1.36,2,-999.000,9,-999.000,9,-999.000,9,  -999.0,9,  -999.0,9,   -999.0,9,  -999.00,-999.0000,9,  -999.00,-999.000,9,-999.000,9,-999.000,9, -999.00,9,  -999.0,9,  -999.0,-999.000,9,-999.000,-999.000,9, -999.00,9, -999.00,9, 1599.20,-999.0000,9,-999.0000,9,-999.0000,9,-999.0000,9,-999.0000,9,-999.0000,9,   4.9882,     -999.0,9,     -999.0,9,     -999.0,9,     -999.0,9,         77,-999.000,-999.000,-999.000,     -999.0,9, -999.00,9, -999.00,9
33RO200306_02,       A16N,     077,          1,          9,          9,2,20030718,       1019,    27.4998,   -24.7812,       5206,  1799.5,   4.4812,  35.1187,2,  35.1204,2,    227.8,2,   226.9,2,   21.11,2,   20.65,2,    0.00,2,    1.36,2,-999.000,9,-999.000,9,-999.000,9,  -999.0,9,  -999.0,9,   -999.0,9,  -999.00,-999.0000,9,  -999.00,-999.000,9,-999.000,9,-999.000,9, -999.00,9,  -999.0,9,  -999.0,-999.000,9,-999.000,-999.000,9, -999.00,9, -999.00,9, 1799.50,-999.0000,9,-999.0000,9,-999.0000,9,-999.0000,9,-999.0000,9,-999.0000,9,   4.3262,     -999.0,9,     -999.0,9,     -999.0,9,     -999.0,9,         77,-999.000,-999.000,-999.000,     -999.0,9, -999.00,9, -999.00,9
33RO200306_02,       A16N,     077,          1,          8,          8,2,20030718,       1019,    27.4998,   -24.7812,       5206,  1999.6,   4.0137,  35.0688,2,  35.0689,2,    234.2,2,   233.3,2,   23.16,2,   20.61,2,    0.00,2,    1.37,2,-999.000,9,-999.000,9,-999.000,9,  -999.0,9,  -999.0,9,   -999.0,9,  -999.00,-999.0000,9,  -999.00,-999.000,9,-999.000,9,-999.000,9, -999.00,9,  -999.0,9,  -999.0,-999.000,9,-999.000,-999.000,9, -999.00,9, -999.00,9, 1999.60,-999.0000,9,-999.0000,9,-999.0000,9,-999.0000,9,-999.0000,9,-999.0000,9,   3.8457,     -999.0,9,     -999.0,9,     -999.0,9,     -999.0,9,         77,-999.000,-999.000,-999.000,     -999.0,9, -999.00,9, -999.00,9