BOTTLE,20230908CCHSIOCBG
EXPOCODE,SECT_ID,STNNBR,CASTNO,SAMPNO,BTLNBR,BTLNBR_FLAG_W,DATE,TIME,LATITUDE,LONGITUDE,DEPTH,CTDPRS,CTDTMP,CTDSAL,CTDSAL_FLAG_W,SALNTY,SALNTY_FLAG_W,CTDOXY,CTDOXY_FLAG_W,OXYGEN,OXYGEN_FLAG_W,SILCAT,SILCAT_FLAG_W,NITRAT,NITRAT_FLAG_W,NITRIT,NITRIT_FLAG_W,PHSPHT,PHSPHT_FLAG_W,CFC-11,CFC-11_FLAG_W,CFC-12,CFC-12_FLAG_W,CFC113,CFC113_FLAG_W,TCARBN,TCARBN_FLAG_W,ALKALI,ALKALI_FLAG_W,FCO2,FCO2_FLAG_W,FCO2TMP,PH_SWS,PH_SWS_FLAG_W,PH_TMP,TRITUM,TRITUM_FLAG_W,HELIUM,HELIUM_FLAG_W,DELHE3,DELHE3_FLAG_W,DELC13,DELC13_FLAG_W,DELC14,DELC14_FLAG_W,C14ERR,NEON,NEON_FLAG_W,NEONER,POC,POC_FLAG_W,DOC,DOC_FLAG_W,TDN,TDN_FLAG_W,CTDRAW,CDOM325,CDOM325_FLAG_W,CDOM340,CDOM340_FLAG_W,CDOM380,CDOM380_FLAG_W,CDOM412,CDOM412_FLAG_W,CDOMSL,CDOMSL_FLAG_W,CDOMSN,CDOMSN_FLAG_W,THETA,PON,PON_FLAG_W,HCFC-22,HCFC-22_FLAG_W,HCFC-142b,HCFC-142b_FLAG_W,HCFC-141b,HCFC-141b_FLAG_W,STNNBR_U,HELIER,DELHER,TRITER,CH3CL,CH3CL_FLAG_W,CH3BR,CH3BR_FLAG_W,CH3I,CH3I_FLAG_W
,,,,,,,,,,,METERS,DBAR,ITS-90,PSS-78,,PSS-78,,UMOL/KG,,UMOL/KG,,UMOL/KG,,UMOL/KG,,UMOL/KG,,UMOL/KG,,PMOL/KG,,PMOL/KG,,PMOL/KG,,UMOL/KG,,UMOL/KG,,UATM,,DEG C,,,DEG C,TU,,NMOL/KG,,PERCNT,,/MILLE,,/MILLE,,/MILLE,NMOL/KG,,NMOL/KG,UG/KG,,UMOL/KG,,UMOL/KG,,DBAR,1/M,,1/M,,1/M,,1/M,,1/NM,,1/NM,,DEG C,UMOL/L,,PMOL/KG,,PMOL/KG,,PMOL/KG,,,NMOL/KG,PERCNT,TU,PMOL/KG,,PMOL/KG,,PMOL/KG,
33RO200306_01,       A16N,     060,          1,         35,         35,2,20030705,       1618,    35.4997,   -20.2820,       5280,     3.2,  22.5484,  36.4322,2,  36.4342,2,    233.3,2,   221.0,2,    0.64,2,    0.00,2,    0.00,2,    0.02,2,-999.000,9,-999.000,9,-999.000,9,  -999.0,9,  -999.0,9,   -999.0,9,  -999.00,-999.0000,9,  -999.00,-999.000,9,-999.000,9,-999.000,9, -999.00,9,  -999.0,9,  -999.0,-999.000,9,-999.000,-999.000,9, -999.00,9, -999.00,9,    3.20,-999.0000,9,-999.0000,9,-999.0000,9,-999.0000,9,-999.0000,9,-999.0000,9,  22.5478,     -999.0,9,       4.71,2,       0.00,2,       1.22,2,         60,-999.000,-999.000,-999.000,     100.55,2,    0.02,2,    9.72,2
33RO200306_01,       A16N,     060,          1,         33,         33,2,20030705,       1618,    35.4997,   -20.2820,       5280,     3.3,  22.5473,  36.4317,2,  36.4334,2,    233.3,2,   240.3,2,    0.63,2,    0.01,2,    0.00,2,    0.02,2,-999.000,9,-999.000,9,-999.000,9,  2089.6,6,  -999.0,9,   -999.0,9,  -999.00,-999.0000,9,  -999.00,-999.000,9,-999.000,9,-999.000,9, -999.00,9,  -999.0,9,  -999.0,-999.000,9,-999.000,   2.026,2, -999.00,9, -999.00,9,    3.30,-999.0000,9,-999.0000,9,-999.0000,9,-999.0000,9,-999.0000,9,-999.0000,9,  22.5466,      0.249,2,     -999.0,9,     -999.0,9,     -999.0,9,         60,-999.000,-999.000,-999.000,     -999.0,9, -999.00,9, -999.00,9
33RO200306_01,       A16N,     060,          1,         32,         32,2,20030705,       1618,    35.4997,   -20.2820,       5280,    25.0,  19.2099,  36.2608,2,  36.2363,2,    256.9,2,   259.7,2,    0.62,2,    0.01,2,    0.00,2,    0.02,2,-999.000,9,-999.000,9,-999.000,9,  -999.0,9,  -999.0,9,   -999.0,9,  -999.00,-999.0000,9,  -999.00,-999.000,9,-999.000,9,-999.000,9, -999.00,9,  -999.0,9,  -999.0,-999.000,9,-999.000,   2.758,2, -999.00,9, -999.00,9,   25.00,-999.0000,9,-999.0000,9,-999.0000,9,-999.0000,9,-999.0000,9,-999.0000,9,  19.2054,      0.284,2,       4.96,2,       0.00,2,       0.61,2,         60,-999.000,-999.000,-999.000,     186.04,2,    0.59,2,   23.83,2
33RO200306_01,       A16N,     060,          1,         31,         31,2,20030705,       1618,    35.4997,   -20.2820,       5280,    50.6,  16.6339,  36.1663,2,  36.1700,2,    260.0,2,   258.7,2,    0.83,2,    0.02,2,    0.00,2,    0.04,2,-999.000,9,-999.000,9,-999.000,9,  -999.0,9,  -999.0,9,   -999.0,9,  -999.00,-999.0000,9,  -999.00,-999.000,9,-999.000,9,-999.000,9, -999.00,9,  -999.0,9,  -999.0,-999.000,9,-999.000,   2.936,2, -999.00,9, -999.00,9,   50.60,-999.0000,9,-999.0000,9,-999.0000,9,-999.0000,9,-999.0000,9,-999.0000,9,  16.6256,      0.464,2,     -999.0,9,     -999.0,9,     -999.0,9,         60,-999.000,-999.000,-999.000,     -999.0,9, -999.00,9, -999.00,9
33RO200306_01,       A16N,     060,          1,         30,         30,2,20030705,       1618,    35.4997,   -20.2820,       5280,    70.6,  15.9179,  36.1499,2,  36.1480,2,    238.8,2,   235.2,2,    1.20,2,    1.85,2,    0.29,2,    0.15,2,-999.000,9,-999.000,9,-999.000,9,  -999.0,9,  -999.0,9,   -999.0,9,  -999.00,-999.0000,9,  -999.00,-999.000,9,-999.000,9,-999.000,9, -999.00,9,  -999.0,9,  -999.0,-999.000,9,-999.000,   2.042,2, -999.00,9, -999.00,9,   70.60,-999.0000,9,-999.0000,9,-999.0000,9,-999.0000,9,-999.0000,9,-999.0000,9,  15.9067,      0.322,2,       5.70,2,       0.00,2,       1.00,2,         60,-999.000,-999.000,-999.000,      38.71,2,    0.42,2,    5.51,2
33RO200306_01,       A16N,     060,          1,         29,         29,2,20030705,       1618,    35.4997,   -20.2820,       5280,    90.2,  15.7443,  36.1317,2,  36.1278,2,    229.9,2,   229.8,2,    1.38,2,    3.31,2,    0.08,2,    0.21,2,-999.000,9,-999.000,9,-999.000,9,  -999.0,9,  -999.0,9,   -999.0,9,  -999.00,-999.0000,9,  -999.00,-999.000,9,-999.000,9,-999.000,9, -999.00,9,  -999.0,9,  -999.0,-999.000,9,-999.000,   1.749,2, -999.00,9, -999.00,9,   90.20,-999.0000,9,-999.0000,9,-999.0000,9,-999.0000,9,-999.0000,9,-999.0000,9,  15.7301,      0.214,2,       6.38,2,       0.08,2,       1.54,2,         60,-999.000,-999.000,-999.000,      91.48,2,    0.54,2,    2.16,2
33RO200306_01,       A16N,     060,          1,         28,         28,2,20030705,       1618,    35.4997,   -20.2820,       5280,   110.2,  15.2763,  36.0806,2,  36.0800,2,    224.2,2,   224.8,2,    1.68,2,    4.92,2,    0.03,2,    0.30,2,-999.000,9,-999.000,9,-999.000,9,  -999.0,9,  -999.0,9,   -999.0,9,  -999.00,-999.0000,9,  -999.00,-999.000,9,-999.000,9,-999.000,9, -999.00,9,  -999.0,9,  -999.0,-999.000,9,-999.000,   0.932,2, -999.00,9, -999.00,9,  110.20,-999.0000,9,-999.0000,9,-999.0000,9,-999.0000,9,-999.0000,9,-999.0000,9,  15.2593,      0.107,2,       6.18,2,       0.06,2,       1.18,2,         60,-999.000,-999.000,-999.000,      32.24,2,     0.7,2,    1.61,2
33RO200306_01,       A16N,     060,          1,         26,         26,2,20030705,       1618,    35.4997,   -20.2820,       5280,   132.6,  14.9102,  36.0355,2,  36.0345,2,    218.2,2,   219.9,2,    2.08,2,    6.35,2,    0.01,2,    0.38,2,-999.000,9,-999.000,9,-999.000,9,  -999.0,9,  -999.0,9,   -999.0,9,  -999.00,-999.0000,9,  -999.00,-999.000,9,-999.000,9,-999.000,9, -999.00,9,  -999.0,9,  -999.0,-999.000,9,-999.000,-999.000,9, -999.00,9, -999.00,9,  132.60,-999.0000,9,-999.0000,9,-999.0000,9,-999.0000,9,-999.0000,9,-999.0000,9,  14.8901,     -999.0,9,     -999.0,9,     -999.0,9,     -999.0,9,         60,-999.000,-999.000,-999.000,     -999.0,9, -999.00,9, -999.00,9
33RO200306_01,       A16N,     060,          1,         27,         27,2,20030705,       1618,    35.4997,   -20.2820,       5280,   132.7,  14.9115,  36.0357,2,  36.0353,2,    218.2,2,   220.0,2,    2.06,2,    6.32,2,    0.02,2,    0.37,2,-999.000,9,-999.000,9,-999.000,9,  -999.0,9,  -999.0,9,   -999.0,9,  -999.00,-999.0000,9,  -999.00,-999.000,9,-999.000,9,-999.000,9, -999.00,9,  -999.0,9,  -999.0,-999.000,9,-999.000,   0.762,2, -999.00,9, -999.00,9,  132.70,-999.0000,9,-999.0000,9,-999.0000,9,-999.0000,9,-999.0000,9,-999.0000,9,  14.8914,      0.071,2,       5.80,2,       0.23,2,       1.05,2,         60,-999.000,-999.000,-999.000,      10.31,2,    1.42,2,    0.81,2
33RO200306_01,       A16N,     060,          1,         25,         25,2,20030705,       1618,    35.4997,   -20.2820,       5280,   182.0,  14.3770,  35.9568,2,  35.9537,2,    216.6,2,   220.0,2,    2.55,2,    7.60,2,    0.01,2,    0.45,2,-999.000,9,-999.000,9,-999.000,9,  -999.0,9,  -999.0,9,   -999.0,9,  -999.00,-999.0000,9,  -999.00,-999.000,9,-999.000,9,-999.000,9, -999.00,9,  -999.0,9,  -999.0,-999.000,9,-999.000,   0.430,2, -999.00,9, -999.00,9,  182.00,-999.0000,9,-999.0000,9,-999.0000,9,-999.0000,9,-999.0000,9,-999.0000,9,  14.3500,      0.072,2,       5.61,2,       0.26,2,       0.87,2,         60,-999.000,-999.000,-999.000,      17.55,2,    1.14,2,    0.81,2
33RO200306_01,       A16N,     060,          1,         24,         24,2,20030705,       1618,    35.4997,   -20.2820,       5280,   216.3,  14.0953,  35.9127,2,  35.9080,2,    216.5,2,   217.8,2,    2.87,2,    8.37,2,    0.01,2,    0.50,2,-999.000,9,-999.000,9,-999.000,9,  -999.0,9,  -999.0,9,   -999.0,9,  -999.00,-999.0000,9,  -999.00,-999.000,9,-999.000,9,-999.000,9, -999.00,9,  -999.0,9,  -999.0,-999.000,9,-999.000,-999.000,9, -999.00,9, -999.00,9,  216.30,-999.0000,9,-999.0000,9,-999.0000,9,-999.0000,9,-999.0000,9,-999.0000,9,  14.0636,     -999.0,9,     -999.0,9,     -999.0,9,     -999.0,9,         60,-999.000,-999.000,-999.000,     -999.0,9, -999.00,9, -999.00,9
33RO200306_01,       A16N,     060,          1,         23,         23,2,20030705,       1618,    35.4997,   -20.2820,       5280,   270.7,  13.5893,  35.8383,2,  35.8383,2,    216.5,2,   217.8,2,    3.25,2,    9.16,2,    0.01,2,    0.55,2,-999.000,9,-999.000,9,-999.000,9,  -999.0,9,  -999.0,9,   -999.0,9,  -999.00,-999.0000,9,  -999.00,-999.000,9,-999.000,9,-999.000,9, -999.00,9,  -999.0,9,  -999.0,-999.000,9,-999.000,-999.000,9, -999.00,9, -999.00,9,  270.70,-999.0000,9,-999.0000,9,-999.0000,9,-999.0000,9,-999.0000,9,-999.0000,9,  13.5506,     -999.0,9,       6.18,2,       0.27,2,       1.43,2,         60,-999.000,-999.000,-999.000,      19.03,2,    0.84,2,    0.42,2
33RO200306_01,       A16N,     060,          1,         22,         22,2,20030705,       1618,    35.4997,   -20.2820,       5280,   325.1,  13.0530,  35.7553,2,  35.7556,2,    212.9,2,   212.8,2,    3.89,2,   10.56,2,    0.01,2,    0.63,2,-999.000,9,-999.000,9,-999.000,9,  -999.0,9,  -999.0,9,   -999.0,9,  -999.00,-999.0000,9,  -999.00,-999.000,9,-999.000,9,-999.000,9, -999.00,9,  -999.0,9,  -999.0,-999.000,9,-999.000,   0.294,2, -999.00,9, -999.00,9,  325.10,-999.0000,9,-999.0000,9,-999.0000,9,-999.0000,9,-999.0000,9,-999.0000,9,  13.0076,      0.048,2,     -999.0,9,     -999.0,9,     -999.0,9,         60,-999.000,-999.000,-999.000,     -999.0,9, -999.00,9, -999.00,9
33RO200306_01,       A16N,     060,          1,         21,         21,2,20030705,       1618,    35.4997,   -20.2820,       5280,   369.5,  12.7098,  35.7072,2,  35.7051,2,    211.7,2,   211.8,2,    4.22,2,   11.29,2,    0.00,2,    0.68,2,-999.000,9,-999.000,9,-999.000,9,  -999.0,9,  -999.0,9,   -999.0,9,  -999.00,-999.0000,9,  -999.00,-999.000,9,-999.000,9,-999.000,9, -999.00,9,  -999.0,9,  -999.0,-999.000,9,-999.000,-999.000,9, -999.00,9, -999.00,9,  369.50,-999.0000,9,-999.0000,9,-999.0000,9,-999.0000,9,-999.0000,9,-999.0000,9,  12.6591,     -999.0,9,       4.22,2,       0.19,2,       0.59,2,         60,-999.000,-999.000,-999.000,       10.4,2,    0.54,2,    0.13,2
33RO200306_01,       A16N,     060,          1,         20,         20,2,20030705,       1618,    35.4997,   -20.2820,       5280,   423.0,  12.3049,  35.6528,2,  35.6509,2,    209.0,2,   207.9,2,    4.70,2,   12.31,2,    0.00,2,    0.74,2,-999.000,9,-999.000,9,-999.000,9,  -999.0,9,  -999.0,9,   -999.0,9,  -999.00,-999.0000,9,  -999.00,-999.000,9,-999.000,9,-999.000,9, -999.00,9,  -999.0,9,  -999.0,-999.000,9,-999.000,-999.000,9, -999.00,9, -999.00,9,  423.00,-999.0000,9,-999.0000,9,-999.0000,9,-999.0000,9,-999.0000,9,-999.0000,9,  12.2479,     -999.0,9,     -999.0,9,     -999.0,9,     -999.0,9,         60,-999.000,-999.000,-999.000,     -999.0,9, -999.00,9, -999.00,9
33RO200306_01,       A16N,     060,          1,         19,         19,2,20030705,       1618,    35.4997,   -20.2820,       5280,   469.1,  11.9233,  35.6024,2,  35.6052,2,    205.3,2,   204.5,2,    5.17,2,   13.20,2,    0.00,2,    0.79,2,-999.000,9,-999.000,9,-999.000,9,  -999.0,9,  -999.0,9,   -999.0,9,  -999.00,-999.0000,9,  -999.00,-999.000,9,-999.000,9,-999.000,9, -999.00,9,  -999.0,9,  -999.0,-999.000,9,-999.000,   0.237,2, -999.00,9, -999.00,9,  469.10,-999.0000,9,-999.0000,9,-999.0000,9,-999.0000,9,-999.0000,9,-999.0000,9,  11.8613,      0.048,2,     -999.0,9,     -999.0,9,     -999.0,9,         60,-999.000,-999.000,-999.000,     -999.0,9, -999.00,9, -999.00,9
33RO200306_01,       A16N,     060,          1,         18,         18,2,20030705,       1618,    35.4997,   -20.2820,       5280,   530.8,  11.3711,  35.5484,2,  35.5491,2,    197.1,2,   197.4,2,    6.03,2,   14.77,2,    0.00,2,    0.89,2,-999.000,9,-999.000,9,-999.000,9,  -999.0,9,  -999.0,9,   -999.0,9,  -999.00,-999.0000,9,  -999.00,-999.000,9,-999.000,9,-999.000,9, -999.00,9,  -999.0,9,  -999.0,-999.000,9,-999.000,-999.000,9, -999.00,9, -999.00,9,  530.80,-999.0000,9,-999.0000,9,-999.0000,9,-999.0000,9,-999.0000,9,-999.0000,9,  11.3029,     -999.0,9,     -999.0,9,     -999.0,9,     -999.0,9,         60,-999.000,-999.000,-999.000,     -999.0,9, -999.00,9, -999.00,9
33RO200306_01,       A16N,     060,          1,         17,         17,2,20030705,       1618,    35.4997,   -20.2820,       5280,   642.5,  10.6393,  35.5207,2,  35.5212,2,    187.4,2,   187.1,2,    7.69,2,   16.75,2,    0.00,2,    1.01,2,-999.000,9,-999.000,9,-999.000,9,  -999.0,9,  -999.0,9,   -999.0,9,  -999.00,-999.0000,9,  -999.00,-999.000,9,-999.000,9,-999.000,9, -999.00,9,  -999.0,9,  -999.0,-999.000,9,-999.000,-999.000,9, -999.00,9, -999.00,9,  642.50,-999.0000,9,-999.0000,9,-999.0000,9,-999.0000,9,-999.0000,9,-999.0000,9,  10.5596,     -999.0,9,       2.79,2,       0.23,2,       0.93,2,         60,-999.000,-999.000,-999.000,        0.0,2,    2.38,2,    0.34,2
33RO200306_01,       A16N,     060,          1,         16,         16,2,20030705,       1618,    35.4997,   -20.2820,       5280,   738.7,   9.9274,  35.5245,2,  35.5259,2,    184.0,2,   184.0,2,    9.14,2,   17.76,2,    0.00,2,    1.09,2,-999.000,9,-999.000,9,-999.000,9,  -999.0,9,  -999.0,9,   -999.0,9,  -999.00,-999.0000,9,  -999.00,-999.000,9,-999.000,9,-999.000,9, -999.00,9,  -999.0,9,  -999.0,-999.000,9,-999.000,-999.000,9, -999.00,9, -999.00,9,  738.70,-999.0000,9,-999.0000,9,-999.0000,9,-999.0000,9,-999.0000,9,-999.0000,9,   9.8392,     -999.0,9,     -999.0,9,     -999.0,9,     -999.0,9,         60,-999.000,-999.000,-999.000,     -999.0,9, -999.00,9, -999.00,9
33RO200306_01,       A16N,     060,          1,         15,         15,2,20030705,       1618,    35.4997,   -20.2820,       5280,   850.0,   9.5043,  35.5965,2,  35.5964,2,    182.0,2,   182.3,2,   10.29,2,   18.36,2,    0.00,2,    1.13,2,-999.000,9,-999.000,9,-999.000,9,  -999.0,9,  -999.0,9,   -999.0,9,  -999.00,-999.0000,9,  -999.00,-999.000,9,-999.000,9,-999.000,9, -999.00,9,  -999.0,9,  -999.0,-999.000,9,-999.000,-999.000,9, -999.00,9, -999.00,9,  850.00,-999.0000,9,-999.0000,9,-999.0000,9,-999.0000,9,-999.0000,9,-999.0000,9,   9.4047,     -999.0,9,     -999.0,9,     -999.0,9,     -999.0,9,         60,-999.000,-999.000,-999.000,     -999.0,9, -999.00,9, -999.00,9
33RO200306_01,       A16N,     060,          1,         14,         14,2,20030705,       1618,    35.4997,   -20.2820,       5280,  1000.7,   9.2677,  35.7328,2,  35.7339,2,    189.2,2,   188.7,2,   10.69,2,   17.82,2,    0.00,2,    1.09,2,-999.000,9,-999.000,9,-999.000,9,  -999.0,9,  -999.0,9,   -999.0,9,  -999.00,-999.0000,9,  -999.00,-999.000,9,-999.000,9,-999.000,9, -999.00,9,  -999.0,9,  -999.0,-999.000,9,-999.000,-999.000,9, -999.00,9, -999.00,9, 1000.70,-999.0000,9,-999.0000,9,-999.0000,9,-999.0000,9,-999.0000,9,-999.0000,9,   9.1510,     -999.0,9,       1.44,2,       0.05,2,       0.40,2,         60,-999.000,-999.000,-999.000,       1.09,2,    0.17,2,    0.04,2
33RO200306_01,       A16N,     060,          1,         13,         13,2,20030705,       1618,    35.4997,   -20.2820,       5280,  1250.3,   7.5314,  35.5430,2,  35.5429,2,    210.7,2,   212.8,2,   11.44,2,   17.79,2,    0.00,2,    1.11,2,-999.000,9,-999.000,9,-999.000,9,  -999.0,9,  -999.0,9,   -999.0,9,  -999.00,-999.0000,9,  -999.00,-999.000,9,-999.000,9,-999.000,9, -999.00,9,  -999.0,9,  -999.0,-999.000,9,-999.000,-999.000,9, -999.00,9, -999.00,9, 1250.30,-999.0000,9,-999.0000,9,-999.0000,9,-999.0000,9,-999.0000,9,-999.0000,9,   7.3996,     -999.0,9,     -999.0,9,     -999.0,9,     -999.0,9,         60,-999.000,-999.000,-999.000,     -999.0,9, -999.00,9, -999.00,9
33RO200306_01,       A16N,     060,          1,         12,         12,2,20030705,       1618,    35.4997,   -20.2820,       5280,  1499.9,   5.3203,  35.2121,2,  35.2164,2,    235.8,2,   241.0,2,   12.28,2,   17.96,2,    0.00,2,    1.14,2,-999.000,9,-999.000,9,-999.000,9,  -999.0,9,  -999.0,9,   -999.0,9,  -999.00,-999.0000,9,  -999.00,-999.000,9,-999.000,9,-999.000,9, -999.00,9,  -999.0,9,  -999.0,-999.000,9,-999.000,-999.000,9, -999.00,9, -999.00,9, 1499.90,-999.0000,9,-999.0000,9,-999.0000,9,-999.0000,9,-999.0000,9,-999.0000,9,   5.1847,     -999.0,9,     -999.0,9,     -999.0,9,     -999.0,9,         60,-999.000,-999.000,-999.000,     -999.0,9, -999.00,9, -999.00,9
33RO200306_01,       A16N,     060,          1,         11,         11,2,20030705,       1618,    35.4997,   -20.2820,       5280,  1500.0,   5.3018,  35.2093,2,  35.2134,2,    235.8,2,   241.4,2,   12.29,2,   17.95,2,    0.00,2,    1.14,2,-999.000,9,-999.000,9,-999.000,9,  -999.0,9,  -999.0,9,   -999.0,9,  -999.00,-999.0000,9,  -999.00,-999.000,9,-999.000,9,-999.000,9, -999.00,9,  -999.0,9,  -999.0,-999.000,9,-999.000,-999.000,9, -999.00,9, -999.00,9, 1500.00,-999.0000,9,-999.0000,9,-999.0000,9,-999.0000,9,-999.0000,9,-999.0000,9,   5.1664,     -999.0,9,     -999.0,9,     -999.0,9,     -999.0,9,         60,-999.000,-999.000,-999.000,     -999.0,9, -999.00,9, -999.00,9
33RO200306_01,       A16N,     060,          1,         10,         10,2,20030705,       1618,    35.4997,   -20.2820,       5280,  1699.9,   4.6784,  35.1308,2,  35.1315,2,    246.0,2,   248.1,2,   13.15,2,   17.95,2,    0.00,2,    1.15,2,   1.126,2,   0.586,2,   0.043,2,  -999.0,9,  -999.0,9,   -999.0,9,  -999.00,-999.0000,9,  -999.00,-999.000,9,-999.000,9,-999.000,9, -999.00,9,  -999.0,9,  -999.0,-999.000,9,-999.000,-999.000,9, -999.00,9, -999.00,9, 1699.90,-999.0000,9,-999.0000,9,-999.0000,9,-999.0000,9,-999.0000,9,-999.0000,9,   4.5307,     -999.0,9,     -999.0,9,     -999.0,9,     -999.0,9,         60,-999.000,-999.000,-999.000,     -999.0,9, -999.00,9, -999.00,9
33RO200306_01,       A16N,     060,          1,          9,          9,2,20030705,       1618,    35.4997,   -20.2820,       5280,  1900.3,   4.2505,  35.0796,2,  35.0784,2,    254.4,2,   253.4,2,   14.53,2,   18.04,2,    0.00,2,    1.16,2,-999.000,9,-999.000,9,-999.000,9,  -999.0,9,  -999.0,9,   -999.0,9,  -999.00,-999.0000,9,  -999.00,-999.000,9,-999.000,9,-999.000,9, -999.00,9,  -999.0,9,  -999.0,-999.000,9,-999.000,-999.000,9, -999.00,9, -999.00,9, 1900.30,-999.0000,9,-999.0000,9,-999.0000,9,-999.0000,9,-999.0000,9,-999.0000,9,   4.0888,     -999.0,9,     -999.0,9,     -999.0,9,     -999.0,9,         60,-999.000,-999.000,-999.000,     -999.0,9, -999.00,9, -999.00,9
33RO200306_01,       A16N,     060,          1,          8,          8,2,20030705,       1618,    35.4997,   -20.2820,       5280,  2250.5,   3.5823,  35.0167,2,  35.0171,2,    256.6,2,   252.1,2,   20.58,2,   18.92,2,    0.00,2,    1.23,2,   0.254,2,   0.139,2,   0.009,2,  -999.0,9,  -999.0,9,   -999.0,9,  -999.00,-999.0000,9,  -999.00,-999.000,9,-999.000,9,-999.000,9, -999.00,9,  -999.0,9,  -999.0,-999.000,9,-999.000,-999.000,9, -999.00,9, -999.00,9, 2250.50,-999.0000,9,-999.0000,9,-999.0000,9,-999.0000,9,-999.0000,9,-999.0000,9,   3.3965,     -999.0,9,     -999.0,9,     -999.0,9,     -999.0,9,         60,-999.000,-999.000,-999.000,     -999.0,9, -999.00,9, -999.00,9