BOTTLE,20230908CCHSIOCBG
EXPOCODE,SECT_ID,STNNBR,CASTNO,SAMPNO,BTLNBR,BTLNBR_FLAG_W,DATE,TIME,LATITUDE,LONGITUDE,DEPTH,CTDPRS,CTDTMP,CTDSAL,CTDSAL_FLAG_W,SALNTY,SALNTY_FLAG_W,CTDOXY,CTDOXY_FLAG_W,OXYGEN,OXYGEN_FLAG_W,SILCAT,SILCAT_FLAG_W,NITRAT,NITRAT_FLAG_W,NITRIT,NITRIT_FLAG_W,PHSPHT,PHSPHT_FLAG_W,CFC-11,CFC-11_FLAG_W,CFC-12,CFC-12_FLAG_W,CFC113,CFC113_FLAG_W,TCARBN,TCARBN_FLAG_W,ALKALI,ALKALI_FLAG_W,FCO2,FCO2_FLAG_W,FCO2TMP,PH_SWS,PH_SWS_FLAG_W,PH_TMP,TRITUM,TRITUM_FLAG_W,HELIUM,HELIUM_FLAG_W,DELHE3,DELHE3_FLAG_W,DELC13,DELC13_FLAG_W,DELC14,DELC14_FLAG_W,C14ERR,NEON,NEON_FLAG_W,NEONER,POC,POC_FLAG_W,DOC,DOC_FLAG_W,TDN,TDN_FLAG_W,CTDRAW,CDOM325,CDOM325_FLAG_W,CDOM340,CDOM340_FLAG_W,CDOM380,CDOM380_FLAG_W,CDOM412,CDOM412_FLAG_W,CDOMSL,CDOMSL_FLAG_W,CDOMSN,CDOMSN_FLAG_W,THETA,PON,PON_FLAG_W,HCFC-22,HCFC-22_FLAG_W,HCFC-142b,HCFC-142b_FLAG_W,HCFC-141b,HCFC-141b_FLAG_W,STNNBR_U,HELIER,DELHER,TRITER,CH3CL,CH3CL_FLAG_W,CH3BR,CH3BR_FLAG_W,CH3I,CH3I_FLAG_W
,,,,,,,,,,,METERS,DBAR,ITS-90,PSS-78,,PSS-78,,UMOL/KG,,UMOL/KG,,UMOL/KG,,UMOL/KG,,UMOL/KG,,UMOL/KG,,PMOL/KG,,PMOL/KG,,PMOL/KG,,UMOL/KG,,UMOL/KG,,UATM,,DEG C,,,DEG C,TU,,NMOL/KG,,PERCNT,,/MILLE,,/MILLE,,/MILLE,NMOL/KG,,NMOL/KG,UG/KG,,UMOL/KG,,UMOL/KG,,DBAR,1/M,,1/M,,1/M,,1/M,,1/NM,,1/NM,,DEG C,UMOL/L,,PMOL/KG,,PMOL/KG,,PMOL/KG,,,NMOL/KG,PERCNT,TU,PMOL/KG,,PMOL/KG,,PMOL/KG,
33RO200306_01,       A16N,     013,          1,          7,          7,2,20030622,       1015,    58.9985,   -19.9993,       2842,  1699.4,   3.5954,  34.9054,2,  34.9080,2,    271.9,2,   271.5,2,   11.52,2,   17.33,2,    0.00,2,    1.11,2,   2.977,2,   1.427,2,   0.174,2,  2158.5,2,  2302.7,2,    769.9,2,    20.00,   7.7211,2,    25.00,-999.000,9,   1.814,2,   6.853,2, -999.00,9,  -999.0,9,  -999.0,   7.981,2,   0.062,-999.000,9,   44.31,2,   22.21,2, 1699.40,-999.0000,9,-999.0000,9,-999.0000,9,-999.0000,9,-999.0000,9,-999.0000,9,   3.4621,     -999.0,9,     -999.0,9,     -999.0,9,     -999.0,9,         13,   0.003,   0.144,-999.000,     -999.0,9, -999.00,9, -999.00,9
33RO200306_01,       A16N,     013,          1,          6,          6,2,20030622,       1015,    58.9985,   -19.9993,       2842,  1900.2,   3.3815,  34.8953,2,  34.8979,2,    275.7,2,   276.6,2,   11.52,2,   17.07,2,    0.00,2,    1.10,2,   3.012,2,   1.430,2,   0.180,2,  2156.3,2,  2301.9,2,    764.7,2,    20.00,   7.7257,2,    25.00,-999.000,9,-999.000,9,-999.000,9, -999.00,9,  -999.0,9,  -999.0,-999.000,9,-999.000,-999.000,9,   44.56,2,   21.54,2, 1900.20,-999.0000,9,-999.0000,9,-999.0000,9,-999.0000,9,-999.0000,9,-999.0000,9,   3.2327,     -999.0,9,     -999.0,9,     -999.0,9,     -999.0,9,         13,-999.000,-999.000,-999.000,     -999.0,9, -999.00,9, -999.00,9
33RO200306_01,       A16N,     013,          1,          5,          5,2,20030622,       1015,    58.9985,   -19.9993,       2842,  2101.0,   3.2563,  34.8975,2,  34.8998,2,    278.1,2,   278.4,2,   11.68,2,   16.78,2,    0.00,2,    1.08,2,   2.931,2,   1.398,2,   0.171,2,  2155.0,2,  2296.5,2,    758.0,6,    20.00,   7.7297,2,    25.00,   0.691,2,   1.809,2,   6.237,2, -999.00,9,  -999.0,9,  -999.0,   7.956,2,   0.062,-999.000,9,   44.71,2,   21.65,2, 2101.00,-999.0000,9,-999.0000,9,-999.0000,9,-999.0000,9,-999.0000,9,-999.0000,9,   3.0906,     -999.0,9,     -999.0,9,     -999.0,9,     -999.0,9,         13,   0.003,   0.144,   0.010,     -999.0,9, -999.00,9, -999.00,9
33RO200306_01,       A16N,     013,          1,          4,          4,2,20030622,       1015,    58.9985,   -19.9993,       2842,  2301.2,   3.2274,  34.9258,2,  34.9276,2,    273.8,2,   274.3,2,   12.53,2,   16.54,2,    0.00,2,    1.08,2,   2.489,2,   1.193,2,   0.132,2,  2156.7,2,  2300.4,2,   -999.0,9,  -999.00,   7.7209,2,    25.00,-999.000,9,-999.000,9,-999.000,9, -999.00,9,  -999.0,9,  -999.0,-999.000,9,-999.000,-999.000,9,   44.63,2,   20.08,2, 2301.20,-999.0000,9,-999.0000,9,-999.0000,9,-999.0000,9,-999.0000,9,-999.0000,9,   3.0429,     -999.0,9,     -999.0,9,     -999.0,9,     -999.0,9,         13,-999.000,-999.000,-999.000,     -999.0,9, -999.00,9, -999.00,9
33RO200306_01,       A16N,     013,          1,          3,          3,2,20030622,       1015,    58.9985,   -19.9993,       2842,  2501.1,   3.1396,  34.9543,2,  34.9572,2,    269.6,2,   271.3,2,   13.72,2,   16.28,2,    0.00,2,    1.07,2,   2.327,2,   1.126,2,   0.121,2,  2160.4,2,  2304.7,2,    753.0,2,    20.00,   7.7268,2,    25.00,-999.000,9,   1.823,2,   6.465,2, -999.00,9,  -999.0,9,  -999.0,   7.909,2,   0.062,-999.000,9,   45.61,2,   21.10,2, 2501.10,-999.0000,9,-999.0000,9,-999.0000,9,-999.0000,9,-999.0000,9,-999.0000,9,   2.9369,     -999.0,9,     -999.0,9,     -999.0,9,     -999.0,9,         13,   0.003,   0.144,-999.000,     -999.0,9, -999.00,9, -999.00,9
33RO200306_01,       A16N,     013,          1,          2,          2,2,20030622,       1015,    58.9985,   -19.9993,       2842,  2700.7,   2.9226,  34.9646,2,  34.9672,2,    269.5,2,   268.9,2,   16.08,2,   16.37,2,    0.00,2,    1.08,2,   2.216,2,   1.084,2,   0.122,2,  2165.3,2,  2307.8,2,    764.0,2,    20.00,   7.7268,2,    25.00,-999.000,9,-999.000,9,-999.000,9, -999.00,9,  -999.0,9,  -999.0,-999.000,9,-999.000,-999.000,9,   45.37,2,   20.86,2, 2700.70,-999.0000,9,-999.0000,9,-999.0000,9,-999.0000,9,-999.0000,9,-999.0000,9,   2.7041,     -999.0,9,     -999.0,9,     -999.0,9,     -999.0,9,         13,-999.000,-999.000,-999.000,     -999.0,9, -999.00,9, -999.00,9
33RO200306_01,       A16N,     013,          1,          1,          1,2,20030622,       1015,    58.9985,   -19.9993,       2842,  2873.1,   2.6284,  34.9823,2,  34.9854,2,    274.6,2,   283.4,4,   12.65,2,   15.37,2,    0.01,2,    1.02,2,   2.807,2,   1.389,2,   0.172,2,  2167.6,2,  2304.3,2,    768.8,2,    20.00,   7.7184,2,    25.00,-999.000,9,   1.825,2,   4.857,2, -999.00,9,  -999.0,9,  -999.0,   8.022,2,   0.062,-999.000,9,   44.96,2,   19.57,2, 2873.10,-999.0000,9,-999.0000,9,-999.0000,9,-999.0000,9,-999.0000,9,-999.0000,9,   2.3984,     -999.0,9,     -999.0,9,     -999.0,9,     -999.0,9,         13,   0.003,   0.144,-999.000,     -999.0,9, -999.00,9, -999.00,9