BOTTLE,20230908CCHSIOCBG
EXPOCODE,SECT_ID,STNNBR,CASTNO,SAMPNO,BTLNBR,BTLNBR_FLAG_W,DATE,TIME,LATITUDE,LONGITUDE,DEPTH,CTDPRS,CTDTMP,CTDSAL,CTDSAL_FLAG_W,SALNTY,SALNTY_FLAG_W,CTDOXY,CTDOXY_FLAG_W,OXYGEN,OXYGEN_FLAG_W,SILCAT,SILCAT_FLAG_W,NITRAT,NITRAT_FLAG_W,NITRIT,NITRIT_FLAG_W,PHSPHT,PHSPHT_FLAG_W,CFC-11,CFC-11_FLAG_W,CFC-12,CFC-12_FLAG_W,CFC113,CFC113_FLAG_W,TCARBN,TCARBN_FLAG_W,ALKALI,ALKALI_FLAG_W,FCO2,FCO2_FLAG_W,FCO2TMP,PH_SWS,PH_SWS_FLAG_W,PH_TMP,TRITUM,TRITUM_FLAG_W,HELIUM,HELIUM_FLAG_W,DELHE3,DELHE3_FLAG_W,DELC13,DELC13_FLAG_W,DELC14,DELC14_FLAG_W,C14ERR,NEON,NEON_FLAG_W,NEONER,POC,POC_FLAG_W,DOC,DOC_FLAG_W,TDN,TDN_FLAG_W,CTDRAW,CDOM325,CDOM325_FLAG_W,CDOM340,CDOM340_FLAG_W,CDOM380,CDOM380_FLAG_W,CDOM412,CDOM412_FLAG_W,CDOMSL,CDOMSL_FLAG_W,CDOMSN,CDOMSN_FLAG_W,THETA,PON,PON_FLAG_W,HCFC-22,HCFC-22_FLAG_W,HCFC-142b,HCFC-142b_FLAG_W,HCFC-141b,HCFC-141b_FLAG_W,STNNBR_U,HELIER,DELHER,TRITER,CH3CL,CH3CL_FLAG_W,CH3BR,CH3BR_FLAG_W,CH3I,CH3I_FLAG_W
,,,,,,,,,,,METERS,DBAR,ITS-90,PSS-78,,PSS-78,,UMOL/KG,,UMOL/KG,,UMOL/KG,,UMOL/KG,,UMOL/KG,,UMOL/KG,,PMOL/KG,,PMOL/KG,,PMOL/KG,,UMOL/KG,,UMOL/KG,,UATM,,DEG C,,,DEG C,TU,,NMOL/KG,,PERCNT,,/MILLE,,/MILLE,,/MILLE,NMOL/KG,,NMOL/KG,UG/KG,,UMOL/KG,,UMOL/KG,,DBAR,1/M,,1/M,,1/M,,1/M,,1/NM,,1/NM,,DEG C,UMOL/L,,PMOL/KG,,PMOL/KG,,PMOL/KG,,,NMOL/KG,PERCNT,TU,PMOL/KG,,PMOL/KG,,PMOL/KG,
33RO200306_02,       A16N,     100,          2,          6,          6,2,20030725,       1632,    15.9998,   -29.0000,       4468,  2200.0,   3.3727,  34.9690,2,  34.9755,3,    238.6,2,   240.3,2,   25.26,2,   20.80,2,    0.00,2,    1.41,2,-999.000,9,-999.000,9,-999.000,9,  2173.9,2,  2327.2,2,    762.5,6,    20.00,   7.7221,2,    25.00,-999.000,9,-999.000,9,-999.000,9, -999.00,9,  -999.0,9,  -999.0,-999.000,9,-999.000,-999.000,9,   40.98,2,   25.23,2, 2200.00,-999.0000,9,-999.0000,9,-999.0000,9,-999.0000,9,-999.0000,9,-999.0000,9,   3.1954,     -999.0,9,     -999.0,9,     -999.0,9,     -999.0,9,        100,-999.000,-999.000,-999.000,     -999.0,9, -999.00,9, -999.00,9
33RO200306_02,       A16N,     100,          2,          5,          5,2,20030725,       1632,    15.9998,   -29.0000,       4468,  2498.8,   3.0740,  34.9546,2,  34.9557,2,    242.4,2,   242.7,2,   29.24,2,   20.82,2,    0.00,2,    1.42,2,   0.006,2,   0.004,2,   0.001,2,  2178.2,2,  2332.0,2,   -999.0,9,  -999.00,   7.7320,2,    25.00,-999.000,9,-999.000,9,-999.000,9, -999.00,9,  -999.0,9,  -999.0,-999.000,9,-999.000,-999.000,9,   40.41,2,   24.53,2, 2498.80,-999.0000,9,-999.0000,9,-999.0000,9,-999.0000,9,-999.0000,9,-999.0000,9,   2.8728,     -999.0,9,       0.00,2,       0.00,2,       0.17,2,        100,-999.000,-999.000,-999.000,        0.0,2,    0.04,2,    0.15,2
33RO200306_02,       A16N,     100,          2,          4,          4,2,20030725,       1632,    15.9998,   -29.0000,       4468,  2797.3,   2.8733,  34.9436,2,  34.9453,2,    243.9,2,   243.8,2,   32.62,6,   20.97,6,    0.00,6,    1.43,6,-999.000,9,-999.000,9,-999.000,9,  2182.4,2,  2337.1,2,    756.4,2,    20.00,   7.7345,2,    25.00,-999.000,9,-999.000,9,-999.000,9, -999.00,9,  -999.0,9,  -999.0,-999.000,9,-999.000,-999.000,9,   40.90,2,   25.58,2, 2797.30,-999.0000,9,-999.0000,9,-999.0000,9,-999.0000,9,-999.0000,9,-999.0000,9,   2.6461,     -999.0,9,     -999.0,9,     -999.0,9,     -999.0,9,        100,-999.000,-999.000,-999.000,     -999.0,9, -999.00,9, -999.00,9
33RO200306_02,       A16N,     100,          2,          3,          3,2,20030725,       1632,    15.9998,   -29.0000,       4468,  3099.5,   2.6803,  34.9289,2,  34.9312,2,    244.3,2,   244.7,2,   36.07,6,   21.18,6,    0.00,6,    1.44,6,   0.001,2,   0.002,2,   0.001,2,  2186.5,2,  2340.6,2,   -999.0,9,  -999.00,   7.7341,2,    25.00,-999.000,9,-999.000,9,-999.000,9, -999.00,9,  -999.0,9,  -999.0,-999.000,9,-999.000,-999.000,9,   40.41,2,   26.44,2, 3099.50,-999.0000,9,-999.0000,9,-999.0000,9,-999.0000,9,-999.0000,9,-999.0000,9,   2.4262,     -999.0,9,       0.02,2,       0.00,2,       0.19,2,        100,-999.000,-999.000,-999.000,        0.0,2,     0.0,2,    0.35,2
33RO200306_02,       A16N,     100,          2,          2,          2,2,20030725,       1632,    15.9998,   -29.0000,       4468,  3499.3,   2.5196,  34.9134,2,  34.9153,2,    244.0,2,   243.7,2,   40.15,6,   21.55,6,    0.00,6,    1.47,6,-999.000,9,-999.000,9,-999.000,9,  2191.3,2,  2345.3,2,    761.9,2,    20.00,   7.7303,2,    25.00,-999.000,9,-999.000,9,-999.000,9, -999.00,9,  -999.0,9,  -999.0,-999.000,9,-999.000,-999.000,9,   40.81,2,   26.34,2, 3499.30,-999.0000,9,-999.0000,9,-999.0000,9,-999.0000,9,-999.0000,9,-999.0000,9,   2.2267,     -999.0,9,     -999.0,9,     -999.0,9,     -999.0,9,        100,-999.000,-999.000,-999.000,     -999.0,9, -999.00,9, -999.00,9
33RO200306_02,       A16N,     100,          2,          1,          1,2,20030725,       1632,    15.9998,   -29.0000,       4468,  3891.8,   2.3760,  34.8969,2,  34.8989,2,    240.0,2,   238.9,2,   45.49,6,   22.32,6,    0.00,6,    1.53,6,   0.012,2,   0.002,2,   0.000,2,  2203.1,6,  2355.7,6,    768.4,2,    20.00,   7.7279,6,    25.00,-999.000,9,-999.000,9,-999.000,9, -999.00,9,  -999.0,9,  -999.0,-999.000,9,-999.000,-999.000,9,   40.81,2,   26.07,2, 3891.80,-999.0000,9,-999.0000,9,-999.0000,9,-999.0000,9,-999.0000,9,-999.0000,9,   2.0435,     -999.0,9,     -999.0,9,       0.00,2,       0.23,2,        100,-999.000,-999.000,-999.000,        0.0,2,     0.0,2,    0.73,2