BOTTLE,20230908CCHSIOCBG
EXPOCODE,SECT_ID,STNNBR,CASTNO,SAMPNO,BTLNBR,BTLNBR_FLAG_W,DATE,TIME,LATITUDE,LONGITUDE,DEPTH,CTDPRS,CTDTMP,CTDSAL,CTDSAL_FLAG_W,SALNTY,SALNTY_FLAG_W,CTDOXY,CTDOXY_FLAG_W,OXYGEN,OXYGEN_FLAG_W,SILCAT,SILCAT_FLAG_W,NITRAT,NITRAT_FLAG_W,NITRIT,NITRIT_FLAG_W,PHSPHT,PHSPHT_FLAG_W,CFC-11,CFC-11_FLAG_W,CFC-12,CFC-12_FLAG_W,CFC113,CFC113_FLAG_W,TCARBN,TCARBN_FLAG_W,ALKALI,ALKALI_FLAG_W,FCO2,FCO2_FLAG_W,FCO2TMP,PH_SWS,PH_SWS_FLAG_W,PH_TMP,TRITUM,TRITUM_FLAG_W,HELIUM,HELIUM_FLAG_W,DELHE3,DELHE3_FLAG_W,DELC13,DELC13_FLAG_W,DELC14,DELC14_FLAG_W,C14ERR,NEON,NEON_FLAG_W,NEONER,POC,POC_FLAG_W,DOC,DOC_FLAG_W,TDN,TDN_FLAG_W,CTDRAW,CDOM325,CDOM325_FLAG_W,CDOM340,CDOM340_FLAG_W,CDOM380,CDOM380_FLAG_W,CDOM412,CDOM412_FLAG_W,CDOMSL,CDOMSL_FLAG_W,CDOMSN,CDOMSN_FLAG_W,THETA,PON,PON_FLAG_W,HCFC-22,HCFC-22_FLAG_W,HCFC-142b,HCFC-142b_FLAG_W,HCFC-141b,HCFC-141b_FLAG_W,STNNBR_U,HELIER,DELHER,TRITER,CH3CL,CH3CL_FLAG_W,CH3BR,CH3BR_FLAG_W,CH3I,CH3I_FLAG_W
,,,,,,,,,,,METERS,DBAR,ITS-90,PSS-78,,PSS-78,,UMOL/KG,,UMOL/KG,,UMOL/KG,,UMOL/KG,,UMOL/KG,,UMOL/KG,,PMOL/KG,,PMOL/KG,,PMOL/KG,,UMOL/KG,,UMOL/KG,,UATM,,DEG C,,,DEG C,TU,,NMOL/KG,,PERCNT,,/MILLE,,/MILLE,,/MILLE,NMOL/KG,,NMOL/KG,UG/KG,,UMOL/KG,,UMOL/KG,,DBAR,1/M,,1/M,,1/M,,1/M,,1/NM,,1/NM,,DEG C,UMOL/L,,PMOL/KG,,PMOL/KG,,PMOL/KG,,,NMOL/KG,PERCNT,TU,PMOL/KG,,PMOL/KG,,PMOL/KG,
33RO200306_01,       A16N,     028,          2,         35,         35,2,20030625,       1953,    51.5000,   -19.9987,       3627,     2.2,  13.1102,  35.4779,2,  35.4802,2,    264.3,2,   267.9,2,    0.24,2,    3.16,2,    0.08,2,    0.26,2,-999.000,9,-999.000,9,-999.000,9,  2083.0,2,  2332.7,2,    424.4,2,    20.00,   7.9507,2,    25.00,-999.000,9,-999.000,9,-999.000,9, -999.00,9,  -999.0,9,  -999.0,-999.000,9,-999.000,  10.531,2, -999.00,9, -999.00,9,    2.20,-999.0000,9,-999.0000,9,-999.0000,9,-999.0000,9,-999.0000,9,-999.0000,9,  13.1099,      1.267,2,     -999.0,9,     -999.0,9,     -999.0,9,         28,-999.000,-999.000,-999.000,     -999.0,9, -999.00,9, -999.00,9
33RO200306_01,       A16N,     028,          2,         33,         33,2,20030625,       1953,    51.5000,   -19.9987,       3627,     9.9,  13.1130,  35.4758,2,  35.4788,2,    264.1,2,   267.1,2,    0.25,2,    3.17,2,    0.08,2,    0.25,2,-999.000,9,-999.000,9,-999.000,9,  -999.0,9,  -999.0,9,   -999.0,9,  -999.00,-999.0000,9,  -999.00,-999.000,9,-999.000,9,-999.000,9, -999.00,9,  -999.0,9,  -999.0,-999.000,9,-999.000,  10.050,2, -999.00,9, -999.00,9,    9.90,-999.0000,9,-999.0000,9,-999.0000,9,-999.0000,9,-999.0000,9,-999.0000,9,  13.1116,      1.307,2,     -999.0,9,     -999.0,9,     -999.0,9,         28,-999.000,-999.000,-999.000,     -999.0,9, -999.00,9, -999.00,9
33RO200306_01,       A16N,     028,          2,         32,         32,2,20030625,       1953,    51.5000,   -19.9987,       3627,    29.3,  13.0462,  35.4985,2,  35.5118,2,    263.1,2,   263.5,2,    0.31,2,    3.54,2,    0.10,2,    0.29,2,-999.000,9,-999.000,9,-999.000,9,  -999.0,9,  -999.0,9,   -999.0,9,  -999.00,-999.0000,9,  -999.00,-999.000,9,-999.000,9,-999.000,9, -999.00,9,  -999.0,9,  -999.0,-999.000,9,-999.000,   7.907,2, -999.00,9, -999.00,9,   29.30,-999.0000,9,-999.0000,9,-999.0000,9,-999.0000,9,-999.0000,9,-999.0000,9,  13.0422,      1.075,2,     -999.0,9,     -999.0,9,     -999.0,9,         28,-999.000,-999.000,-999.000,     -999.0,9, -999.00,9, -999.00,9
33RO200306_01,       A16N,     028,          2,         31,         31,2,20030625,       1953,    51.5000,   -19.9987,       3627,    49.6,  12.5442,  35.5714,2,  35.5773,2,    257.9,2,   254.5,2,    0.90,2,    5.07,2,    0.23,2,    0.40,2,-999.000,9,-999.000,9,-999.000,9,  -999.0,9,  -999.0,9,   -999.0,9,  -999.00,-999.0000,9,  -999.00,-999.000,9,-999.000,9,-999.000,9, -999.00,9,  -999.0,9,  -999.0,-999.000,9,-999.000,   3.000,2, -999.00,9, -999.00,9,   49.60,-999.0000,9,-999.0000,9,-999.0000,9,-999.0000,9,-999.0000,9,-999.0000,9,  12.5375,      0.461,2,     -999.0,9,     -999.0,9,     -999.0,9,         28,-999.000,-999.000,-999.000,     -999.0,9, -999.00,9, -999.00,9
33RO200306_01,       A16N,     028,          2,         30,         30,2,20030625,       1953,    51.5000,   -19.9987,       3627,    70.0,  12.2006,  35.6393,2,  35.6395,2,    251.5,2,   242.7,2,    2.82,2,    8.91,2,    0.21,2,    0.56,2,-999.000,9,-999.000,9,-999.000,9,  -999.0,9,  -999.0,9,   -999.0,9,  -999.00,-999.0000,9,  -999.00,-999.000,9,-999.000,9,-999.000,9, -999.00,9,  -999.0,9,  -999.0,-999.000,9,-999.000,   1.495,2, -999.00,9, -999.00,9,   70.00,-999.0000,9,-999.0000,9,-999.0000,9,-999.0000,9,-999.0000,9,-999.0000,9,  12.1914,      0.279,2,     -999.0,9,     -999.0,9,     -999.0,9,         28,-999.000,-999.000,-999.000,     -999.0,9, -999.00,9, -999.00,9
33RO200306_01,       A16N,     028,          2,         29,         29,2,20030625,       1953,    51.5000,   -19.9987,       3627,    90.2,  11.8942,  35.6103,2,  35.6094,2,    244.9,2,   242.8,2,    3.54,2,    9.76,2,    0.04,2,    0.60,2,-999.000,9,-999.000,9,-999.000,9,  -999.0,9,  -999.0,9,   -999.0,9,  -999.00,-999.0000,9,  -999.00,-999.000,9,-999.000,9,-999.000,9, -999.00,9,  -999.0,9,  -999.0,-999.000,9,-999.000,   0.971,2, -999.00,9, -999.00,9,   90.20,-999.0000,9,-999.0000,9,-999.0000,9,-999.0000,9,-999.0000,9,-999.0000,9,  11.8825,      0.165,2,     -999.0,9,     -999.0,9,     -999.0,9,         28,-999.000,-999.000,-999.000,     -999.0,9, -999.00,9, -999.00,9
33RO200306_01,       A16N,     028,          2,         28,         28,2,20030625,       1953,    51.5000,   -19.9987,       3627,   110.3,  11.7421,  35.5917,2,  35.5896,2,    242.2,2,   241.0,2,    3.79,2,   10.04,2,    0.03,2,    0.61,2,-999.000,9,-999.000,9,-999.000,9,  -999.0,9,  -999.0,9,   -999.0,9,  -999.00,-999.0000,9,  -999.00,-999.000,9,-999.000,9,-999.000,9, -999.00,9,  -999.0,9,  -999.0,-999.000,9,-999.000,   0.955,2, -999.00,9, -999.00,9,  110.30,-999.0000,9,-999.0000,9,-999.0000,9,-999.0000,9,-999.0000,9,-999.0000,9,  11.7279,      0.180,2,     -999.0,9,     -999.0,9,     -999.0,9,         28,-999.000,-999.000,-999.000,     -999.0,9, -999.00,9, -999.00,9
33RO200306_01,       A16N,     028,          2,         27,         27,2,20030625,       1953,    51.5000,   -19.9987,       3627,   134.3,  11.5936,  35.5707,2,  35.5702,2,    243.0,2,   242.3,2,    3.84,2,   10.13,2,    0.03,2,    0.62,2,-999.000,9,-999.000,9,-999.000,9,  -999.0,9,  -999.0,9,   -999.0,9,  -999.00,-999.0000,9,  -999.00,-999.000,9,-999.000,9,-999.000,9, -999.00,9,  -999.0,9,  -999.0,-999.000,9,-999.000,-999.000,9, -999.00,9, -999.00,9,  134.30,-999.0000,9,-999.0000,9,-999.0000,9,-999.0000,9,-999.0000,9,-999.0000,9,  11.5764,     -999.0,9,     -999.0,9,     -999.0,9,     -999.0,9,         28,-999.000,-999.000,-999.000,     -999.0,9, -999.00,9, -999.00,9
33RO200306_01,       A16N,     028,          2,         26,         26,2,20030625,       1953,    51.5000,   -19.9987,       3627,   160.2,  11.4498,  35.5458,2,  35.5345,2,    243.7,2,   244.8,2,    3.78,2,   10.18,2,    0.02,2,    0.63,2,-999.000,9,-999.000,9,-999.000,9,  -999.0,9,  -999.0,9,   -999.0,9,  -999.00,-999.0000,9,  -999.00,-999.000,9,-999.000,9,-999.000,9, -999.00,9,  -999.0,9,  -999.0,-999.000,9,-999.000,-999.000,9, -999.00,9, -999.00,9,  160.20,-999.0000,9,-999.0000,9,-999.0000,9,-999.0000,9,-999.0000,9,-999.0000,9,  11.4294,     -999.0,9,     -999.0,9,     -999.0,9,     -999.0,9,         28,-999.000,-999.000,-999.000,     -999.0,9, -999.00,9, -999.00,9
33RO200306_01,       A16N,     028,          2,         25,         25,2,20030625,       1953,    51.5000,   -19.9987,       3627,   180.7,  11.2086,  35.4979,2,  35.4958,2,    243.8,2,   245.8,2,    3.95,2,   10.48,2,    0.02,2,    0.65,2,-999.000,9,-999.000,9,-999.000,9,  -999.0,9,  -999.0,9,   -999.0,9,  -999.00,-999.0000,9,  -999.00,-999.000,9,-999.000,9,-999.000,9, -999.00,9,  -999.0,9,  -999.0,-999.000,9,-999.000,-999.000,9, -999.00,9, -999.00,9,  180.70,-999.0000,9,-999.0000,9,-999.0000,9,-999.0000,9,-999.0000,9,-999.0000,9,  11.1859,     -999.0,9,     -999.0,9,     -999.0,9,     -999.0,9,         28,-999.000,-999.000,-999.000,     -999.0,9, -999.00,9, -999.00,9
33RO200306_01,       A16N,     028,          2,         24,         24,2,20030625,       1953,    51.5000,   -19.9987,       3627,   224.6,  11.0010,  35.4683,2,  35.4680,2,    243.1,2,   249.4,2,    4.44,2,   10.91,2,    0.02,2,    0.68,2,-999.000,9,-999.000,9,-999.000,9,  -999.0,9,  -999.0,9,   -999.0,9,  -999.00,-999.0000,9,  -999.00,-999.000,9,-999.000,9,-999.000,9, -999.00,9,  -999.0,9,  -999.0,-999.000,9,-999.000,   0.602,2, -999.00,9, -999.00,9,  224.60,-999.0000,9,-999.0000,9,-999.0000,9,-999.0000,9,-999.0000,9,-999.0000,9,  10.9731,      0.110,2,     -999.0,9,     -999.0,9,     -999.0,9,         28,-999.000,-999.000,-999.000,     -999.0,9, -999.00,9, -999.00,9
33RO200306_01,       A16N,     028,          2,         23,         23,2,20030625,       1953,    51.5000,   -19.9987,       3627,   275.6,  10.7279,  35.4170,2,  35.4184,2,    245.0,2,   246.6,2,    4.71,2,   11.25,2,    0.02,2,    0.71,2,-999.000,9,-999.000,9,-999.000,9,  -999.0,9,  -999.0,9,   -999.0,9,  -999.00,-999.0000,9,  -999.00,-999.000,9,-999.000,9,-999.000,9, -999.00,9,  -999.0,9,  -999.0,-999.000,9,-999.000,-999.000,9, -999.00,9, -999.00,9,  275.60,-999.0000,9,-999.0000,9,-999.0000,9,-999.0000,9,-999.0000,9,-999.0000,9,  10.6942,     -999.0,9,     -999.0,9,     -999.0,9,     -999.0,9,         28,-999.000,-999.000,-999.000,     -999.0,9, -999.00,9, -999.00,9
33RO200306_01,       A16N,     028,          2,         22,         22,2,20030625,       1953,    51.5000,   -19.9987,       3627,   324.2,  10.4301,  35.3613,2,  35.3609,2,    246.1,2,   246.3,2,    5.21,2,   11.79,2,    0.02,2,    0.74,2,-999.000,9,-999.000,9,-999.000,9,  -999.0,9,  -999.0,9,   -999.0,9,  -999.00,-999.0000,9,  -999.00,-999.000,9,-999.000,9,-999.000,9, -999.00,9,  -999.0,9,  -999.0,-999.000,9,-999.000,-999.000,9, -999.00,9, -999.00,9,  324.20,-999.0000,9,-999.0000,9,-999.0000,9,-999.0000,9,-999.0000,9,-999.0000,9,  10.3911,     -999.0,9,     -999.0,9,     -999.0,9,     -999.0,9,         28,-999.000,-999.000,-999.000,     -999.0,9, -999.00,9, -999.00,9
33RO200306_01,       A16N,     028,          2,         21,         21,2,20030625,       1953,    51.5000,   -19.9987,       3627,   375.2,  10.1010,  35.3053,2,  35.3064,2,    241.6,2,   240.6,2,    5.84,2,   12.70,2,    0.02,2,    0.80,2,-999.000,9,-999.000,9,-999.000,9,  -999.0,9,  -999.0,9,   -999.0,9,  -999.00,-999.0000,9,  -999.00,-999.000,9,-999.000,9,-999.000,9, -999.00,9,  -999.0,9,  -999.0,-999.000,9,-999.000,-999.000,9, -999.00,9, -999.00,9,  375.20,-999.0000,9,-999.0000,9,-999.0000,9,-999.0000,9,-999.0000,9,-999.0000,9,  10.0566,     -999.0,9,     -999.0,9,     -999.0,9,     -999.0,9,         28,-999.000,-999.000,-999.000,     -999.0,9, -999.00,9, -999.00,9
33RO200306_01,       A16N,     028,          2,         20,         20,2,20030625,       1953,    51.5000,   -19.9987,       3627,   425.1,   9.7868,  35.2600,2,  35.2609,2,    225.5,2,   234.5,2,    6.58,2,   13.72,2,    0.02,2,    0.87,2,-999.000,9,-999.000,9,-999.000,9,  -999.0,9,  -999.0,9,   -999.0,9,  -999.00,-999.0000,9,  -999.00,-999.000,9,-999.000,9,-999.000,9, -999.00,9,  -999.0,9,  -999.0,-999.000,9,-999.000,-999.000,9, -999.00,9, -999.00,9,  425.10,-999.0000,9,-999.0000,9,-999.0000,9,-999.0000,9,-999.0000,9,-999.0000,9,   9.7374,     -999.0,9,     -999.0,9,     -999.0,9,     -999.0,9,         28,-999.000,-999.000,-999.000,     -999.0,9, -999.00,9, -999.00,9
33RO200306_01,       A16N,     028,          2,         19,         19,2,20030625,       1953,    51.5000,   -19.9987,       3627,   474.7,   9.4238,  35.2168,2,  35.2157,2,    217.4,2,   221.9,2,    7.60,2,   15.10,2,    0.02,2,    0.96,2,-999.000,9,-999.000,9,-999.000,9,  -999.0,9,  -999.0,9,   -999.0,9,  -999.00,-999.0000,9,  -999.00,-999.000,9,-999.000,9,-999.000,9, -999.00,9,  -999.0,9,  -999.0,-999.000,9,-999.000,   0.603,2, -999.00,9, -999.00,9,  474.70,-999.0000,9,-999.0000,9,-999.0000,9,-999.0000,9,-999.0000,9,-999.0000,9,   9.3698,      0.096,2,     -999.0,9,     -999.0,9,     -999.0,9,         28,-999.000,-999.000,-999.000,     -999.0,9, -999.00,9, -999.00,9
33RO200306_01,       A16N,     028,          2,         18,         18,2,20030625,       1953,    51.5000,   -19.9987,       3627,   549.8,   8.7714,  35.1631,2,  35.1662,2,    206.4,2,   204.5,2,    9.37,2,   17.45,2,    0.01,2,    1.10,2,-999.000,9,-999.000,9,-999.000,9,  -999.0,9,  -999.0,9,   -999.0,9,  -999.00,-999.0000,9,  -999.00,-999.000,9,-999.000,9,-999.000,9, -999.00,9,  -999.0,9,  -999.0,-999.000,9,-999.000,-999.000,9, -999.00,9, -999.00,9,  549.80,-999.0000,9,-999.0000,9,-999.0000,9,-999.0000,9,-999.0000,9,-999.0000,9,   8.7112,     -999.0,9,     -999.0,9,     -999.0,9,     -999.0,9,         28,-999.000,-999.000,-999.000,     -999.0,9, -999.00,9, -999.00,9
33RO200306_01,       A16N,     028,          2,         17,         17,2,20030625,       1953,    51.5000,   -19.9987,       3627,   643.9,   7.9935,  35.1187,2,  35.1230,2,    202.3,2,   198.4,2,   10.57,2,   18.72,2,    0.01,2,    1.19,2,-999.000,9,-999.000,9,-999.000,9,  -999.0,9,  -999.0,9,   -999.0,9,  -999.00,-999.0000,9,  -999.00,-999.000,9,-999.000,9,-999.000,9, -999.00,9,  -999.0,9,  -999.0,-999.000,9,-999.000,-999.000,9, -999.00,9, -999.00,9,  643.90,-999.0000,9,-999.0000,9,-999.0000,9,-999.0000,9,-999.0000,9,-999.0000,9,   7.9264,     -999.0,9,     -999.0,9,     -999.0,9,     -999.0,9,         28,-999.000,-999.000,-999.000,     -999.0,9, -999.00,9, -999.00,9
33RO200306_01,       A16N,     028,          2,         16,         16,2,20030625,       1953,    51.5000,   -19.9987,       3627,   749.6,   7.6202,  35.2223,2,  35.1942,3,    202.1,2,   207.3,2,   11.36,2,   18.88,2,    0.01,2,    1.18,2,-999.000,9,-999.000,9,-999.000,9,  -999.0,9,  -999.0,9,   -999.0,9,  -999.00,-999.0000,9,  -999.00,-999.000,9,-999.000,9,-999.000,9, -999.00,9,  -999.0,9,  -999.0,-999.000,9,-999.000,-999.000,9, -999.00,9, -999.00,9,  749.60,-999.0000,9,-999.0000,9,-999.0000,9,-999.0000,9,-999.0000,9,-999.0000,9,   7.5435,     -999.0,9,     -999.0,9,     -999.0,9,     -999.0,9,         28,-999.000,-999.000,-999.000,     -999.0,9, -999.00,9, -999.00,9
33RO200306_01,       A16N,     028,          2,         15,         15,2,20030625,       1953,    51.5000,   -19.9987,       3627,   849.3,   6.8751,  35.1848,2,  35.1940,2,    211.3,2,   207.2,2,   11.40,2,   18.99,2,    0.01,2,    1.19,2,-999.000,9,-999.000,9,-999.000,9,  -999.0,9,  -999.0,9,   -999.0,9,  -999.00,-999.0000,9,  -999.00,-999.000,9,-999.000,9,-999.000,9, -999.00,9,  -999.0,9,  -999.0,-999.000,9,-999.000,-999.000,9, -999.00,9, -999.00,9,  849.30,-999.0000,9,-999.0000,9,-999.0000,9,-999.0000,9,-999.0000,9,-999.0000,9,   6.7923,     -999.0,9,     -999.0,9,     -999.0,9,     -999.0,9,         28,-999.000,-999.000,-999.000,     -999.0,9, -999.00,9, -999.00,9
33RO200306_01,       A16N,     028,          2,         14,         14,2,20030625,       1953,    51.5000,   -19.9987,       3627,   944.1,   6.3307,  35.1694,2,  35.1723,2,    219.5,2,   217.1,2,   11.50,2,   18.73,2,    0.01,2,    1.17,2,-999.000,9,-999.000,9,-999.000,9,  -999.0,9,  -999.0,9,   -999.0,9,  -999.00,-999.0000,9,  -999.00,-999.000,9,-999.000,9,-999.000,9, -999.00,9,  -999.0,9,  -999.0,-999.000,9,-999.000,-999.000,9, -999.00,9, -999.00,9,  944.10,-999.0000,9,-999.0000,9,-999.0000,9,-999.0000,9,-999.0000,9,-999.0000,9,   6.2420,     -999.0,9,     -999.0,9,     -999.0,9,     -999.0,9,         28,-999.000,-999.000,-999.000,     -999.0,9, -999.00,9, -999.00,9
33RO200306_01,       A16N,     028,          2,         13,         13,2,20030625,       1953,    51.5000,   -19.9987,       3627,  1049.6,   5.5317,  35.0991,2,  35.1017,2,    232.5,2,   230.5,2,   11.57,2,   18.40,2,    0.01,2,    1.16,2,-999.000,9,-999.000,9,-999.000,9,  -999.0,9,  -999.0,9,   -999.0,9,  -999.00,-999.0000,9,  -999.00,-999.000,9,-999.000,9,-999.000,9, -999.00,9,  -999.0,9,  -999.0,-999.000,9,-999.000,-999.000,9, -999.00,9, -999.00,9, 1049.60,-999.0000,9,-999.0000,9,-999.0000,9,-999.0000,9,-999.0000,9,-999.0000,9,   5.4387,     -999.0,9,     -999.0,9,     -999.0,9,     -999.0,9,         28,-999.000,-999.000,-999.000,     -999.0,9, -999.00,9, -999.00,9
33RO200306_01,       A16N,     028,          2,         12,         12,2,20030625,       1953,    51.5000,   -19.9987,       3627,  1146.3,   5.0046,  35.0410,2,  35.0408,2,    241.1,2,   241.5,2,   11.50,2,   18.14,2,    0.01,2,    1.15,2,-999.000,9,-999.000,9,-999.000,9,  -999.0,9,  -999.0,9,   -999.0,9,  -999.00,-999.0000,9,  -999.00,-999.000,9,-999.000,9,-999.000,9, -999.00,9,  -999.0,9,  -999.0,-999.000,9,-999.000,-999.000,9, -999.00,9, -999.00,9, 1146.30,-999.0000,9,-999.0000,9,-999.0000,9,-999.0000,9,-999.0000,9,-999.0000,9,   4.9069,     -999.0,9,     -999.0,9,     -999.0,9,     -999.0,9,         28,-999.000,-999.000,-999.000,     -999.0,9, -999.00,9, -999.00,9
33RO200306_01,       A16N,     028,          2,         11,         11,2,20030625,       1953,    51.5000,   -19.9987,       3627,  1249.2,   4.2422,  34.9392,2,  34.9416,2,    256.4,2,   257.6,2,   11.06,2,   17.65,2,    0.01,2,    1.13,2,-999.000,9,-999.000,9,-999.000,9,  -999.0,9,  -999.0,9,   -999.0,9,  -999.00,-999.0000,9,  -999.00,-999.000,9,-999.000,9,-999.000,9, -999.00,9,  -999.0,9,  -999.0,-999.000,9,-999.000,-999.000,9, -999.00,9, -999.00,9, 1249.20,-999.0000,9,-999.0000,9,-999.0000,9,-999.0000,9,-999.0000,9,-999.0000,9,   4.1422,     -999.0,9,     -999.0,9,     -999.0,9,     -999.0,9,         28,-999.000,-999.000,-999.000,     -999.0,9, -999.00,9, -999.00,9
33RO200306_01,       A16N,     028,          2,         10,         10,2,20030625,       1953,    51.5000,   -19.9987,       3627,  1343.4,   4.0335,  34.9266,2,  34.9273,2,    262.9,2,   269.9,2,   11.04,2,   17.55,2,    0.01,2,    1.12,2,-999.000,9,-999.000,9,-999.000,9,  -999.0,9,  -999.0,9,   -999.0,9,  -999.00,-999.0000,9,  -999.00,-999.000,9,-999.000,9,-999.000,9, -999.00,9,  -999.0,9,  -999.0,-999.000,9,-999.000,-999.000,9, -999.00,9, -999.00,9, 1343.40,-999.0000,9,-999.0000,9,-999.0000,9,-999.0000,9,-999.0000,9,-999.0000,9,   3.9271,     -999.0,9,     -999.0,9,     -999.0,9,     -999.0,9,         28,-999.000,-999.000,-999.000,     -999.0,9, -999.00,9, -999.00,9
33RO200306_01,       A16N,     028,          2,          9,          9,2,20030625,       1953,    51.5000,   -19.9987,       3627,  1599.6,   3.6921,  34.9078,2,  34.9100,2,    270.4,2,   263.3,2,   11.22,2,   17.44,2,    0.01,2,    1.12,2,-999.000,9,-999.000,9,-999.000,9,  -999.0,9,  -999.0,9,   -999.0,9,  -999.00,-999.0000,9,  -999.00,-999.000,9,-999.000,9,-999.000,9, -999.00,9,  -999.0,9,  -999.0,-999.000,9,-999.000,-999.000,9, -999.00,9, -999.00,9, 1599.60,-999.0000,9,-999.0000,9,-999.0000,9,-999.0000,9,-999.0000,9,-999.0000,9,   3.5666,     -999.0,9,     -999.0,9,     -999.0,9,     -999.0,9,         28,-999.000,-999.000,-999.000,     -999.0,9, -999.00,9, -999.00,9
33RO200306_01,       A16N,     028,          2,          8,          8,2,20030625,       1953,    51.5000,   -19.9987,       3627,  1799.0,   3.4851,  34.8975,2,  34.8988,2,    274.1,2,   273.9,2,   11.41,2,   17.39,2,    0.01,2,    1.11,2,   3.000,2,   1.493,2,   0.188,2,  -999.0,9,  -999.0,9,   -999.0,9,  -999.00,-999.0000,9,  -999.00,-999.000,9,-999.000,9,-999.000,9, -999.00,9,  -999.0,9,  -999.0,-999.000,9,-999.000,-999.000,9, -999.00,9, -999.00,9, 1799.00,-999.0000,9,-999.0000,9,-999.0000,9,-999.0000,9,-999.0000,9,-999.0000,9,   3.3441,     -999.0,9,     -999.0,9,     -999.0,9,     -999.0,9,         28,-999.000,-999.000,-999.000,     -999.0,9, -999.00,9, -999.00,9