BOTTLE,20230908CCHSIOCBG
EXPOCODE,SECT_ID,STNNBR,CASTNO,SAMPNO,BTLNBR,BTLNBR_FLAG_W,DATE,TIME,LATITUDE,LONGITUDE,DEPTH,CTDPRS,CTDTMP,CTDSAL,CTDSAL_FLAG_W,SALNTY,SALNTY_FLAG_W,CTDOXY,CTDOXY_FLAG_W,OXYGEN,OXYGEN_FLAG_W,SILCAT,SILCAT_FLAG_W,NITRAT,NITRAT_FLAG_W,NITRIT,NITRIT_FLAG_W,PHSPHT,PHSPHT_FLAG_W,CFC-11,CFC-11_FLAG_W,CFC-12,CFC-12_FLAG_W,CFC113,CFC113_FLAG_W,TCARBN,TCARBN_FLAG_W,ALKALI,ALKALI_FLAG_W,FCO2,FCO2_FLAG_W,FCO2TMP,PH_SWS,PH_SWS_FLAG_W,PH_TMP,TRITUM,TRITUM_FLAG_W,HELIUM,HELIUM_FLAG_W,DELHE3,DELHE3_FLAG_W,DELC13,DELC13_FLAG_W,DELC14,DELC14_FLAG_W,C14ERR,NEON,NEON_FLAG_W,NEONER,POC,POC_FLAG_W,DOC,DOC_FLAG_W,TDN,TDN_FLAG_W,CTDRAW,CDOM325,CDOM325_FLAG_W,CDOM340,CDOM340_FLAG_W,CDOM380,CDOM380_FLAG_W,CDOM412,CDOM412_FLAG_W,CDOMSL,CDOMSL_FLAG_W,CDOMSN,CDOMSN_FLAG_W,THETA,PON,PON_FLAG_W,HCFC-22,HCFC-22_FLAG_W,HCFC-142b,HCFC-142b_FLAG_W,HCFC-141b,HCFC-141b_FLAG_W,STNNBR_U,HELIER,DELHER,TRITER,CH3CL,CH3CL_FLAG_W,CH3BR,CH3BR_FLAG_W,CH3I,CH3I_FLAG_W
,,,,,,,,,,,METERS,DBAR,ITS-90,PSS-78,,PSS-78,,UMOL/KG,,UMOL/KG,,UMOL/KG,,UMOL/KG,,UMOL/KG,,UMOL/KG,,PMOL/KG,,PMOL/KG,,PMOL/KG,,UMOL/KG,,UMOL/KG,,UATM,,DEG C,,,DEG C,TU,,NMOL/KG,,PERCNT,,/MILLE,,/MILLE,,/MILLE,NMOL/KG,,NMOL/KG,UG/KG,,UMOL/KG,,UMOL/KG,,DBAR,1/M,,1/M,,1/M,,1/M,,1/NM,,1/NM,,DEG C,UMOL/L,,PMOL/KG,,PMOL/KG,,PMOL/KG,,,NMOL/KG,PERCNT,TU,PMOL/KG,,PMOL/KG,,PMOL/KG,
33RO200306_02,       A16N,     132,          1,         33,         33,2,20030804,       0920,     1.0097,   -24.9958,       3356,     3.2,  25.4154,  36.0022,2,  36.0047,2,    199.4,2,   204.7,2,    2.59,2,    0.16,2,    0.01,2,    0.15,2,   1.816,2,   1.156,2,   0.139,2,  2038.5,6,  2365.6,6,    313.2,2,    20.00,   8.0596,6,    25.00,-999.000,9,-999.000,9,-999.000,9,    1.56,2,    79.4,2,     3.5,-999.000,9,-999.000,-999.000,9,   67.73,2,    7.49,2,    3.20,-999.0000,9,-999.0000,9,-999.0000,9,-999.0000,9,-999.0000,9,-999.0000,9,  25.4147,     -999.0,9,       3.53,2,       0.18,2,       0.27,2,        132,-999.000,-999.000,-999.000,      66.03,2,    0.77,2,    9.91,2
33RO200306_02,       A16N,     132,          1,         35,         35,2,20030804,       0920,     1.0097,   -24.9958,       3356,     3.3,  25.4163,  36.0021,2,-999.0000,9,    199.4,2,  -999.0,9, -999.00,9, -999.00,9, -999.00,9, -999.00,9,-999.000,9,-999.000,9,-999.000,9,  -999.0,9,  -999.0,9,   -999.0,9,  -999.00,-999.0000,9,  -999.00,-999.000,9,-999.000,9,-999.000,9, -999.00,9,  -999.0,9,  -999.0,-999.000,9,-999.000,-999.000,9, -999.00,9, -999.00,9,    3.30,-999.0000,9,-999.0000,9,-999.0000,9,-999.0000,9,-999.0000,9,-999.0000,9,  25.4156,     -999.0,9,     -999.0,9,     -999.0,9,     -999.0,9,        132,-999.000,-999.000,-999.000,     -999.0,9, -999.00,9, -999.00,9
33RO200306_02,       A16N,     132,          1,         32,         32,2,20030804,       0920,     1.0097,   -24.9958,       3356,    10.1,  25.4018,  36.0011,2,  36.0042,2,    198.8,2,   204.2,2,    2.56,2,    0.16,2,    0.01,2,    0.15,2,   1.811,2,   1.146,2,   0.138,2,  2038.2,2,  2363.1,2,    313.9,2,    20.00,   8.0585,2,    25.00,-999.000,9,-999.000,9,-999.000,9, -999.00,9,  -999.0,9,  -999.0,-999.000,9,-999.000,-999.000,9,   66.75,2,    6.78,2,   10.10,-999.0000,9,-999.0000,9,-999.0000,9,-999.0000,9,-999.0000,9,-999.0000,9,  25.3996,     -999.0,9,       3.40,2,       0.18,2,       0.27,2,        132,-999.000,-999.000,-999.000,      34.69,2,    0.69,2,    9.75,2
33RO200306_02,       A16N,     132,          1,         31,         31,2,20030804,       0920,     1.0097,   -24.9958,       3356,    29.6,  25.3479,  35.9963,2,  36.0007,2,    199.0,2,   203.3,2,    2.58,2,    0.21,2,    0.02,2,    0.15,2,   1.813,2,   1.150,2,   0.136,2,  2038.9,2,  2362.0,2,    315.3,2,    20.00,   8.0590,2,    25.00,-999.000,9,-999.000,9,-999.000,9, -999.00,9,  -999.0,9,  -999.0,-999.000,9,-999.000,-999.000,9, -999.00,9, -999.00,9,   29.60,-999.0000,9,-999.0000,9,-999.0000,9,-999.0000,9,-999.0000,9,-999.0000,9,  25.3414,     -999.0,9,       3.31,2,       0.13,2,       0.25,2,        132,-999.000,-999.000,-999.000,      76.29,2,    1.28,2,    9.85,2
33RO200306_02,       A16N,     132,          1,         30,         30,2,20030804,       0920,     1.0097,   -24.9958,       3356,    50.4,  25.2851,  35.9917,2,  35.9856,2,    196.9,2,   199.5,2,    2.69,2,    0.52,2,    0.04,2,    0.18,2,-999.000,9,-999.000,9,-999.000,9,  2040.0,2,  2360.8,2,    323.4,6,    20.00,   8.0614,2,     0.00,-999.000,9,-999.000,9,-999.000,9, -999.00,9,  -999.0,9,  -999.0,-999.000,9,-999.000,-999.000,9,   65.93,2,    7.51,2,   50.40,-999.0000,9,-999.0000,9,-999.0000,9,-999.0000,9,-999.0000,9,-999.0000,9,  25.2740,     -999.0,9,     -999.0,9,     -999.0,9,     -999.0,9,        132,-999.000,-999.000,-999.000,     -999.0,9, -999.00,9, -999.00,9
33RO200306_02,       A16N,     132,          1,         29,         29,2,20030804,       0920,     1.0097,   -24.9958,       3356,    71.6,  22.8564,  35.8708,2,  35.8741,2,    171.7,2,   169.6,2,    3.70,2,    3.62,2,    0.22,2,    0.41,2,   1.848,2,   1.136,2,   0.102,2,  2084.7,2,  2355.3,2,    406.8,2,    20.00,   7.9659,2,    25.00,-999.000,9,-999.000,9,-999.000,9, -999.00,9,  -999.0,9,  -999.0,-999.000,9,-999.000,-999.000,9, -999.00,9, -999.00,9,   71.60,-999.0000,9,-999.0000,9,-999.0000,9,-999.0000,9,-999.0000,9,-999.0000,9,  22.8418,     -999.0,9,       3.26,2,       0.09,2,       0.35,2,        132,-999.000,-999.000,-999.000,      38.96,2,    0.39,2,    6.87,2
33RO200306_02,       A16N,     132,          1,         28,         28,2,20030804,       0920,     1.0097,   -24.9958,       3356,    89.9,  18.5881,  35.8476,2,  35.8418,2,    125.5,2,   125.1,2,    5.88,2,   13.06,2,    0.04,2,    0.97,2,-999.000,9,-999.000,9,-999.000,9,  2157.3,2,  2352.0,2,    589.7,2,    20.00,   7.8285,2,    25.00,-999.000,9,-999.000,9,-999.000,9, -999.00,9,  -999.0,9,  -999.0,-999.000,9,-999.000,-999.000,9,   55.04,2,   16.91,2,   89.90,-999.0000,9,-999.0000,9,-999.0000,9,-999.0000,9,-999.0000,9,-999.0000,9,  18.5723,     -999.0,9,     -999.0,9,     -999.0,9,     -999.0,9,        132,-999.000,-999.000,-999.000,     -999.0,9, -999.00,9, -999.00,9
33RO200306_02,       A16N,     132,          1,         27,         27,2,20030804,       0920,     1.0097,   -24.9958,       3356,   111.0,  16.1892,  35.6764,2,  35.6558,2,    117.4,2,   110.2,2,    7.56,2,   18.47,2,    0.02,2,    1.26,2,   1.967,2,   1.131,2,   0.038,2,  2182.8,2,  2340.2,2,    713.2,2,    20.00,   7.7607,2,    25.00,-999.000,9,-999.000,9,-999.000,9, -999.00,9,  -999.0,9,  -999.0,-999.000,9,-999.000,-999.000,9, -999.00,9, -999.00,9,  111.00,-999.0000,9,-999.0000,9,-999.0000,9,-999.0000,9,-999.0000,9,-999.0000,9,  16.1714,     -999.0,9,       2.03,2,       0.00,2,       0.11,2,        132,-999.000,-999.000,-999.000,      12.76,2,    0.61,2,    0.91,2
33RO200306_02,       A16N,     132,          1,         26,         26,2,20030804,       0920,     1.0097,   -24.9958,       3356,   135.7,  14.7866,  35.5027,2,  35.4992,2,     99.5,2,    97.2,2,    8.66,2,   21.33,2,    0.01,2,    1.43,2,   1.871,2,   1.038,2,   0.020,2,  2205.5,2,  2330.8,2,   -999.0,9,  -999.00,   7.7053,2,    25.00,-999.000,9,-999.000,9,-999.000,9, -999.00,9,  -999.0,9,  -999.0,-999.000,9,-999.000,-999.000,9,   46.91,2,   25.76,2,  135.70,-999.0000,9,-999.0000,9,-999.0000,9,-999.0000,9,-999.0000,9,-999.0000,9,  14.7662,     -999.0,9,     -999.0,9,     -999.0,9,     -999.0,9,        132,-999.000,-999.000,-999.000,     -999.0,9, -999.00,9, -999.00,9
33RO200306_02,       A16N,     132,          1,         25,         25,2,20030804,       0920,     1.0097,   -24.9958,       3356,   160.1,  13.8405,  35.3808,2,  35.3802,2,     95.8,2,    94.0,2,    9.43,2,   23.00,2,    0.01,2,    1.52,2,   1.725,2,   0.959,2,   0.015,2,  2192.2,2,  2324.5,2,    862.6,2,    20.00,   7.6847,2,    25.00,-999.000,9,-999.000,9,-999.000,9, -999.00,9,  -999.0,9,  -999.0,-999.000,9,-999.000,-999.000,9, -999.00,9, -999.00,9,  160.10,-999.0000,9,-999.0000,9,-999.0000,9,-999.0000,9,-999.0000,9,-999.0000,9,  13.8175,     -999.0,9,       1.75,2,       0.00,2,       0.09,2,        132,-999.000,-999.000,-999.000,      42.94,2,    1.46,2,    0.28,2
33RO200306_02,       A16N,     132,          1,         24,         24,2,20030804,       0920,     1.0097,   -24.9958,       3356,   184.8,  13.6255,  35.3534,2,  35.3528,2,     95.1,2,    95.3,2,    9.64,2,   23.22,2,    0.01,2,    1.53,2,   1.703,2,   0.942,2,   0.017,2,  2190.1,2,  2323.8,2,    873.4,2,    20.00,   7.6769,2,    25.00,-999.000,9,-999.000,9,-999.000,9, -999.00,9,  -999.0,9,  -999.0,-999.000,9,-999.000,-999.000,9,   47.80,2,   28.27,2,  184.80,-999.0000,9,-999.0000,9,-999.0000,9,-999.0000,9,-999.0000,9,-999.0000,9,  13.5992,     -999.0,9,     -999.0,9,     -999.0,9,     -999.0,9,        132,-999.000,-999.000,-999.000,     -999.0,9, -999.00,9, -999.00,9
33RO200306_02,       A16N,     132,          1,         23,         23,2,20030804,       0920,     1.0097,   -24.9958,       3356,   225.7,  13.2737,  35.3082,2,  35.3094,2,     96.2,2,    98.1,2,    9.80,2,   23.45,2,    0.01,2,    1.54,2,   1.673,2,   0.923,2,   0.016,2,  2191.2,2,  2321.8,2,    877.4,2,    20.00,   7.6724,2,    25.00,-999.000,9,-999.000,9,-999.000,9, -999.00,9,  -999.0,9,  -999.0,-999.000,9,-999.000,-999.000,9,   47.07,2,   28.42,2,  225.70,-999.0000,9,-999.0000,9,-999.0000,9,-999.0000,9,-999.0000,9,-999.0000,9,  13.2421,     -999.0,9,       2.06,2,       0.07,2,       0.11,2,        132,-999.000,-999.000,-999.000,       5.83,2,     0.0,2,    1.69,2
33RO200306_02,       A16N,     132,          1,         22,         22,2,20030804,       0920,     1.0097,   -24.9958,       3356,   274.9,  11.6808,  35.1102,2,  35.1041,2,    101.0,2,   100.2,2,   11.84,2,   26.06,2,    0.01,2,    1.69,2,   1.456,2,   0.783,2,   0.017,2,  2197.9,2,  2312.6,2,    968.3,2,    20.00,   7.6369,2,    25.00,-999.000,9,-999.000,9,-999.000,9, -999.00,9,  -999.0,9,  -999.0,-999.000,9,-999.000,-999.000,9,   45.37,2,   30.42,2,  274.90,-999.0000,9,-999.0000,9,-999.0000,9,-999.0000,9,-999.0000,9,-999.0000,9,  11.6454,     -999.0,9,     -999.0,9,     -999.0,9,     -999.0,9,        132,-999.000,-999.000,-999.000,     -999.0,9, -999.00,9, -999.00,9
33RO200306_02,       A16N,     132,          1,         21,         21,2,20030804,       0920,     1.0097,   -24.9958,       3356,   326.0,  10.6647,  34.9953,2,  34.9824,2,    109.3,2,   110.1,2,   13.08,2,   27.00,2,    0.01,2,    1.75,2,   1.387,2,   0.746,2,   0.018,2,  2195.3,2,  2308.9,2,    992.5,2,    20.00,   7.6222,2,    25.00,-999.000,9,-999.000,9,-999.000,9, -999.00,9,  -999.0,9,  -999.0,-999.000,9,-999.000,-999.000,9,   44.39,2,   30.77,2,  326.00,-999.0000,9,-999.0000,9,-999.0000,9,-999.0000,9,-999.0000,9,-999.0000,9,  10.6251,     -999.0,9,     -999.0,9,     -999.0,9,     -999.0,9,        132,-999.000,-999.000,-999.000,     -999.0,9, -999.00,9, -999.00,9
33RO200306_02,       A16N,     132,          1,         20,         20,2,20030804,       0920,     1.0097,   -24.9958,       3356,   374.6,   8.4577,  34.7524,2,  34.7540,2,    110.5,2,   124.5,2,   16.89,2,   29.85,2,    0.01,2,    1.95,2,   1.055,2,   0.552,2,   0.020,2,  2200.9,2,  2301.4,2,   1066.3,2,    20.00,   7.6002,2,    25.00,-999.000,9,-999.000,9,-999.000,9, -999.00,9,  -999.0,9,  -999.0,-999.000,9,-999.000,-999.000,9,   43.39,2,   36.37,2,  374.60,-999.0000,9,-999.0000,9,-999.0000,9,-999.0000,9,-999.0000,9,-999.0000,9,   8.4182,     -999.0,9,       0.75,2,       0.06,2,       0.12,2,        132,-999.000,-999.000,-999.000,       36.3,2,    0.13,2,    0.38,2
33RO200306_02,       A16N,     132,          1,         19,         19,2,20030804,       0920,     1.0097,   -24.9958,       3356,   426.4,   7.8895,  34.6958,2,  34.6985,2,    114.7,2,   118.4,2,   18.64,2,   31.88,2,    0.00,2,    2.06,2,-999.000,9,-999.000,9,-999.000,9,  2208.1,2,  2298.1,2,   1141.5,2,    20.00,   7.5907,2,    25.00,-999.000,9,-999.000,9,-999.000,9, -999.00,9,  -999.0,9,  -999.0,-999.000,9,-999.000,-999.000,9,   41.39,2,   36.43,2,  426.40,-999.0000,9,-999.0000,9,-999.0000,9,-999.0000,9,-999.0000,9,-999.0000,9,   7.8462,     -999.0,9,     -999.0,9,     -999.0,9,     -999.0,9,        132,-999.000,-999.000,-999.000,     -999.0,9, -999.00,9, -999.00,9
33RO200306_02,       A16N,     132,          1,         18,         18,2,20030804,       0920,     1.0097,   -24.9958,       3356,   474.6,   7.1718,  34.6307,2,  34.6311,2,    126.6,2,   129.1,2,   20.37,2,   32.18,2,    0.00,2,    2.10,2,   0.706,2,   0.372,2,   0.014,2,  2207.2,2,  2297.7,2,   1136.8,2,    20.00,   7.5788,2,    25.00,-999.000,9,-999.000,9,-999.000,9, -999.00,9,  -999.0,9,  -999.0,-999.000,9,-999.000,-999.000,9,   41.46,2,   36.88,2,  474.60,-999.0000,9,-999.0000,9,-999.0000,9,-999.0000,9,-999.0000,9,-999.0000,9,   7.1261,     -999.0,9,     -999.0,9,     -999.0,9,     -999.0,9,        132,-999.000,-999.000,-999.000,     -999.0,9, -999.00,9, -999.00,9
33RO200306_02,       A16N,     132,          1,         17,         17,2,20030804,       0920,     1.0097,   -24.9958,       3356,   551.6,   6.5281,  34.5782,2,  34.5809,2,    131.8,2,   124.9,2,   22.47,2,   33.11,2,    0.00,2,    2.18,2,   0.540,6,   0.286,6,   0.014,6,  2209.0,2,  2299.8,6,   1161.3,2,    20.00,   7.5713,6,    25.00,-999.000,9,-999.000,9,-999.000,9, -999.00,9,  -999.0,9,  -999.0,-999.000,9,-999.000,-999.000,9,   41.63,2,   38.78,2,  551.60,-999.0000,9,-999.0000,9,-999.0000,9,-999.0000,9,-999.0000,9,-999.0000,9,   6.4774,     -999.0,9,       0.30,2,       0.00,2,       0.07,2,        132,-999.000,-999.000,-999.000,      70.03,2,    0.41,2,    0.44,2
33RO200306_02,       A16N,     132,          1,         16,         16,2,20030804,       0920,     1.0097,   -24.9958,       3356,   651.2,   5.7882,  34.5278,2,  34.5290,2,    141.2,2,   141.3,2,   25.53,2,   33.77,2,    0.00,2,    2.24,2,   0.400,2,   0.212,2,   0.008,2,  2210.5,2,  2300.9,2,   1168.8,2,    20.00,   7.5582,2,    25.00,-999.000,9,-999.000,9,-999.000,9, -999.00,9,  -999.0,9,  -999.0,-999.000,9,-999.000,-999.000,9,   41.87,2,   38.45,2,  651.20,-999.0000,9,-999.0000,9,-999.0000,9,-999.0000,9,-999.0000,9,-999.0000,9,   5.7316,     -999.0,9,     -999.0,9,     -999.0,9,     -999.0,9,        132,-999.000,-999.000,-999.000,     -999.0,9, -999.00,9, -999.00,9
33RO200306_02,       A16N,     132,          1,         15,         15,2,20030804,       0920,     1.0097,   -24.9958,       3356,   750.7,   5.1812,  34.5064,2,  34.5082,2,    145.1,2,   145.6,2,   28.81,2,   34.42,2,    0.00,2,    2.32,2,   0.223,2,   0.125,2,   0.006,2,  2214.9,2,  2303.4,2,   1185.2,6,    20.00,   7.5552,2,    25.00,-999.000,9,-999.000,9,-999.000,9, -999.00,9,  -999.0,9,  -999.0,-999.000,9,-999.000,-999.000,9,   41.22,2,   38.54,2,  750.70,-999.0000,9,-999.0000,9,-999.0000,9,-999.0000,9,-999.0000,9,-999.0000,9,   5.1190,     -999.0,9,     -999.0,9,     -999.0,9,     -999.0,9,        132,-999.000,-999.000,-999.000,     -999.0,9, -999.00,9, -999.00,9
33RO200306_02,       A16N,     132,          1,         14,         14,2,20030804,       0920,     1.0097,   -24.9958,       3356,   850.5,   4.7943,  34.5379,2,  34.5406,2,    150.8,2,   150.2,2,   30.97,2,   34.11,2,    0.00,2,    2.30,2,   0.133,2,   0.074,2,   0.002,2,  2218.7,2,  2303.7,2,   1169.8,2,    20.00,   7.5595,2,    25.00,-999.000,9,-999.000,9,-999.000,9, -999.00,9,  -999.0,9,  -999.0,-999.000,9,-999.000,-999.000,9,   40.00,2,   38.50,2,  850.50,-999.0000,9,-999.0000,9,-999.0000,9,-999.0000,9,-999.0000,9,-999.0000,9,   4.7256,     -999.0,9,     -999.0,9,     -999.0,9,     -999.0,9,        132,-999.000,-999.000,-999.000,     -999.0,9, -999.00,9, -999.00,9
33RO200306_02,       A16N,     132,          1,         13,         13,2,20030804,       0920,     1.0097,   -24.9958,       3356,   949.5,   4.5823,  34.5659,2,  34.5667,2,    156.3,2,   154.2,2,   31.92,2,   33.62,2,    0.00,2,    2.29,2,   0.081,2,   0.042,2,   0.002,2,  2217.9,2,  2307.1,2,   -999.0,9,  -999.00,   7.5668,2,    25.00,-999.000,9,-999.000,9,-999.000,9, -999.00,9,  -999.0,9,  -999.0,-999.000,9,-999.000,-999.000,9,   40.57,2,   39.18,2,  949.50,-999.0000,9,-999.0000,9,-999.0000,9,-999.0000,9,-999.0000,9,-999.0000,9,   4.5065,     -999.0,9,       0.00,2,       0.00,2,       0.16,2,        132,-999.000,-999.000,-999.000,      101.2,2,    1.05,2,     0.2,2
33RO200306_02,       A16N,     132,          1,         12,         12,2,20030804,       0920,     1.0097,   -24.9958,       3356,  1051.6,   4.5562,  34.6703,2,  34.6719,2,    162.7,2,   159.9,2,   30.31,2,   31.89,2,    0.00,2,    2.17,2,   0.041,2,   0.021,2,   0.002,2,  2212.8,6,  2311.3,2,   1091.8,2,    20.00,   7.5936,2,    25.00,-999.000,9,-999.000,9,-999.000,9, -999.00,9,  -999.0,9,  -999.0,-999.000,9,-999.000,-999.000,9,   40.73,2,   37.62,2, 1051.60,-999.0000,9,-999.0000,9,-999.0000,9,-999.0000,9,-999.0000,9,-999.0000,9,   4.4715,     -999.0,9,     -999.0,9,     -999.0,9,     -999.0,9,        132,-999.000,-999.000,-999.000,     -999.0,9, -999.00,9, -999.00,9
33RO200306_02,       A16N,     132,          1,         11,         11,2,20030804,       0920,     1.0097,   -24.9958,       3356,  1150.1,   4.5958,  34.7685,2,  34.7711,2,    173.4,2,   172.1,2,   27.44,2,   29.54,2,    0.00,2,    2.01,2,   0.044,2,   0.024,2,   0.003,2,  2205.7,2,  2312.1,2,   -999.0,9,  -999.00,   7.6148,2,    25.00,-999.000,9,-999.000,9,-999.000,9, -999.00,9,  -999.0,9,  -999.0,-999.000,9,-999.000,-999.000,9,   40.98,2,   34.44,2, 1150.10,-999.0000,9,-999.0000,9,-999.0000,9,-999.0000,9,-999.0000,9,-999.0000,9,   4.5018,     -999.0,9,     -999.0,9,     -999.0,9,     -999.0,9,        132,-999.000,-999.000,-999.000,     -999.0,9, -999.00,9, -999.00,9
33RO200306_02,       A16N,     132,          1,         10,         10,2,20030804,       0920,     1.0097,   -24.9958,       3356,  1301.1,   4.5656,  34.8437,2,  34.8463,2,    191.8,2,   187.5,2,   24.73,2,   27.16,2,    0.00,2,    1.84,2,   0.062,2,   0.037,2,   0.005,2,  2196.2,2,  2316.1,2,    947.2,2,    20.00,   7.6403,2,    25.00,-999.000,9,-999.000,9,-999.000,9, -999.00,9,  -999.0,9,  -999.0,-999.000,9,-999.000,-999.000,9,   40.81,2,   31.22,2, 1301.10,-999.0000,9,-999.0000,9,-999.0000,9,-999.0000,9,-999.0000,9,-999.0000,9,   4.4579,     -999.0,9,       0.00,2,       0.00,2,       0.04,2,        132,-999.000,-999.000,-999.000,       5.24,2,     0.0,2,    0.17,2
33RO200306_02,       A16N,     132,          1,          9,          9,2,20030804,       0920,     1.0097,   -24.9958,       3356,  1450.4,   4.4427,  34.9415,2,  34.9444,2,    214.0,2,   214.6,2,   20.27,2,   23.20,2,    0.00,2,    1.57,2,   0.145,2,   0.089,2,   0.005,2,  2179.6,2,  2317.1,2,   -999.0,9,  -999.00,   7.6885,2,    25.00,-999.000,9,-999.000,9,-999.000,9, -999.00,9,  -999.0,9,  -999.0,-999.000,9,-999.000,-999.000,9,   40.81,2,   26.75,2, 1450.40,-999.0000,9,-999.0000,9,-999.0000,9,-999.0000,9,-999.0000,9,-999.0000,9,   4.3222,     -999.0,9,     -999.0,9,     -999.0,9,     -999.0,9,        132,-999.000,-999.000,-999.000,     -999.0,9, -999.00,9, -999.00,9
33RO200306_02,       A16N,     132,          1,          8,          8,2,20030804,       0920,     1.0097,   -24.9958,       3356,  1601.0,   4.1659,  34.9793,2,  34.9815,2,    234.2,2,   232.7,2,   17.87,2,   20.66,2,    0.00,2,    1.39,2,   0.238,2,   0.126,2,   0.009,2,  2163.3,3,  2317.1,2,    778.1,2,    20.00,   7.7147,2,    25.00,-999.000,9,-999.000,9,-999.000,9, -999.00,9,  -999.0,9,  -999.0,-999.000,9,-999.000,-999.000,9,   41.46,2,   24.62,2, 1601.00,-999.0000,9,-999.0000,9,-999.0000,9,-999.0000,9,-999.0000,9,-999.0000,9,   4.0344,     -999.0,9,     -999.0,9,     -999.0,9,     -999.0,9,        132,-999.000,-999.000,-999.000,     -999.0,9, -999.00,9, -999.00,9