BOTTLE,20230908CCHSIOCBG
EXPOCODE,SECT_ID,STNNBR,CASTNO,SAMPNO,BTLNBR,BTLNBR_FLAG_W,DATE,TIME,LATITUDE,LONGITUDE,DEPTH,CTDPRS,CTDTMP,CTDSAL,CTDSAL_FLAG_W,SALNTY,SALNTY_FLAG_W,CTDOXY,CTDOXY_FLAG_W,OXYGEN,OXYGEN_FLAG_W,SILCAT,SILCAT_FLAG_W,NITRAT,NITRAT_FLAG_W,NITRIT,NITRIT_FLAG_W,PHSPHT,PHSPHT_FLAG_W,CFC-11,CFC-11_FLAG_W,CFC-12,CFC-12_FLAG_W,CFC113,CFC113_FLAG_W,TCARBN,TCARBN_FLAG_W,ALKALI,ALKALI_FLAG_W,FCO2,FCO2_FLAG_W,FCO2TMP,PH_SWS,PH_SWS_FLAG_W,PH_TMP,TRITUM,TRITUM_FLAG_W,HELIUM,HELIUM_FLAG_W,DELHE3,DELHE3_FLAG_W,DELC13,DELC13_FLAG_W,DELC14,DELC14_FLAG_W,C14ERR,NEON,NEON_FLAG_W,NEONER,POC,POC_FLAG_W,DOC,DOC_FLAG_W,TDN,TDN_FLAG_W,CTDRAW,CDOM325,CDOM325_FLAG_W,CDOM340,CDOM340_FLAG_W,CDOM380,CDOM380_FLAG_W,CDOM412,CDOM412_FLAG_W,CDOMSL,CDOMSL_FLAG_W,CDOMSN,CDOMSN_FLAG_W,THETA,PON,PON_FLAG_W,HCFC-22,HCFC-22_FLAG_W,HCFC-142b,HCFC-142b_FLAG_W,HCFC-141b,HCFC-141b_FLAG_W,STNNBR_U,HELIER,DELHER,TRITER,CH3CL,CH3CL_FLAG_W,CH3BR,CH3BR_FLAG_W,CH3I,CH3I_FLAG_W
,,,,,,,,,,,METERS,DBAR,ITS-90,PSS-78,,PSS-78,,UMOL/KG,,UMOL/KG,,UMOL/KG,,UMOL/KG,,UMOL/KG,,UMOL/KG,,PMOL/KG,,PMOL/KG,,PMOL/KG,,UMOL/KG,,UMOL/KG,,UATM,,DEG C,,,DEG C,TU,,NMOL/KG,,PERCNT,,/MILLE,,/MILLE,,/MILLE,NMOL/KG,,NMOL/KG,UG/KG,,UMOL/KG,,UMOL/KG,,DBAR,1/M,,1/M,,1/M,,1/M,,1/NM,,1/NM,,DEG C,UMOL/L,,PMOL/KG,,PMOL/KG,,PMOL/KG,,,NMOL/KG,PERCNT,TU,PMOL/KG,,PMOL/KG,,PMOL/KG,
33RO200306_02,       A16N,     090,          1,          7,          7,2,20030722,       1314,    20.9998,   -28.4368,       5031,  2499.1,   3.1827,  34.9765,2,  34.9764,2,    237.5,2,   241.2,2,   29.60,2,   20.88,2,    0.01,2,    1.37,2,   0.000,2,   0.002,2,   0.001,2,  2178.1,2,  2335.0,2,   -999.0,9,  -999.00,   7.7315,2,    25.00,   0.001,2,-999.000,9,-999.000,9, -999.00,9,  -999.0,9,  -999.0,-999.000,9,-999.000,-999.000,9,   40.49,2,   24.76,2, 2499.10,-999.0000,9,-999.0000,9,-999.0000,9,-999.0000,9,-999.0000,9,-999.0000,9,   2.9794,     -999.0,9,       0.00,2,       0.00,2,       0.11,2,         90,-999.000,-999.000,   0.000,      33.57,2,    1.71,2,     0.0,2
33RO200306_02,       A16N,     090,          1,          6,          6,2,20030722,       1314,    20.9998,   -28.4368,       5031,  3000.8,   2.7468,  34.9399,2,  34.9390,2,    240.6,2,   242.8,2,   36.04,2,   21.19,2,    0.01,2,    1.41,2,-999.000,9,-999.000,9,-999.000,9,  2191.5,4,  2345.1,2,   -999.0,9,  -999.00,   7.7370,2,    25.00,-999.000,9,-999.000,9,-999.000,9, -999.00,9,  -999.0,9,  -999.0,-999.000,9,-999.000,-999.000,9,   40.41,2,   24.66,2, 3000.80,-999.0000,9,-999.0000,9,-999.0000,9,-999.0000,9,-999.0000,9,-999.0000,9,   2.5014,     -999.0,9,     -999.0,9,     -999.0,9,     -999.0,9,         90,-999.000,-999.000,-999.000,     -999.0,9, -999.00,9, -999.00,9
33RO200306_02,       A16N,     090,          1,          5,          5,2,20030722,       1314,    20.9998,   -28.4368,       5031,  3499.8,   2.4782,  34.9120,2,  34.9121,2,    245.4,2,   248.4,2,   41.35,2,   21.65,2,    0.01,2,    1.43,2,   0.005,2,   0.001,2,  -0.001,2,  2184.8,3,  2348.6,2,    761.6,6,    20.00,   7.7327,2,    25.00,   0.001,2,-999.000,9,-999.000,9, -999.00,9,  -999.0,9,  -999.0,-999.000,9,-999.000,-999.000,9,   41.30,2,   25.71,2, 3499.80,-999.0000,9,-999.0000,9,-999.0000,9,-999.0000,9,-999.0000,9,-999.0000,9,   2.1863,     -999.0,9,       0.00,2,       0.00,2,       0.11,2,         90,-999.000,-999.000,   0.000,      60.62,2,    2.16,2,     0.0,2
33RO200306_02,       A16N,     090,          1,          4,          4,2,20030722,       1314,    20.9998,   -28.4368,       5031,  3999.7,   2.3746,  34.8966,2,  34.8967,2,    246.9,2,   245.4,2,   44.97,6,   22.11,6,    0.01,6,    1.49,6,-999.000,9,-999.000,9,-999.000,9,  2191.3,2,  2352.6,2,   -999.0,9,  -999.00,   7.7265,2,    25.00,-999.000,9,-999.000,9,-999.000,9, -999.00,9,  -999.0,9,  -999.0,-999.000,9,-999.000,-999.000,9,   40.17,2,   26.36,2, 3999.70,-999.0000,9,-999.0000,9,-999.0000,9,-999.0000,9,-999.0000,9,-999.0000,9,   2.0299,     -999.0,9,     -999.0,9,     -999.0,9,     -999.0,9,         90,-999.000,-999.000,-999.000,     -999.0,9, -999.00,9, -999.00,9
33RO200306_02,       A16N,     090,          1,          3,          3,2,20030722,       1314,    20.9998,   -28.4368,       5031,  4499.4,   2.3694,  34.8896,2,  34.8900,2,    248.7,2,   249.0,2,   46.52,6,   22.26,6,    0.01,6,    1.52,6,   0.006,2,   0.001,2,   0.000,2,  2196.2,2,  2354.0,2,   -999.0,9,  -999.00,   7.7268,2,    25.00,-999.000,9,-999.000,9,-999.000,9, -999.00,9,  -999.0,9,  -999.0,-999.000,9,-999.000,-999.000,9,   40.81,2,   26.82,2, 4499.40,-999.0000,9,-999.0000,9,-999.0000,9,-999.0000,9,-999.0000,9,-999.0000,9,   1.9662,     -999.0,9,       0.00,2,       0.00,2,       0.08,2,         90,-999.000,-999.000,-999.000,        9.9,2,     0.0,2,    0.04,2
33RO200306_02,       A16N,     090,          1,          2,          2,2,20030722,       1314,    20.9998,   -28.4368,       5031,  4999.5,   2.4018,  34.8859,2,  34.8865,2,    251.4,2,   246.4,2,   47.10,6,   22.25,6,    0.01,6,    1.52,6,-999.000,9,-999.000,9,-999.000,9,  2205.2,4,  2352.4,2,   -999.0,9,  -999.00,   7.7255,2,    25.00,-999.000,9,-999.000,9,-999.000,9, -999.00,9,  -999.0,9,  -999.0,-999.000,9,-999.000,-999.000,9,   40.90,2,   26.36,2, 4999.50,-999.0000,9,-999.0000,9,-999.0000,9,-999.0000,9,-999.0000,9,-999.0000,9,   1.9358,     -999.0,9,     -999.0,9,     -999.0,9,     -999.0,9,         90,-999.000,-999.000,-999.000,     -999.0,9, -999.00,9, -999.00,9
33RO200306_02,       A16N,     090,          1,          1,          1,2,20030722,       1314,    20.9998,   -28.4368,       5031,  5124.7,   2.4112,  34.8851,2,  34.8855,2,    252.4,2,   254.8,4,   47.25,6,   22.29,6,    0.01,6,    1.53,6,   0.009,2,   0.004,2,   0.000,2,  2198.7,6,  2352.4,6,    770.6,2,    20.00,   7.7255,2,    25.00,-999.000,9,-999.000,9,-999.000,9, -999.00,9,  -999.0,9,  -999.0,-999.000,9,-999.000,-999.000,9,   40.98,2,   26.41,2, 5124.70,-999.0000,9,-999.0000,9,-999.0000,9,-999.0000,9,-999.0000,9,-999.0000,9,   1.9289,     -999.0,9,       0.00,2,       0.00,2,       0.10,2,         90,-999.000,-999.000,-999.000,        0.0,2,     0.0,2,    0.29,2