BOTTLE,20230908CCHSIOCBG
EXPOCODE,SECT_ID,STNNBR,CASTNO,SAMPNO,BTLNBR,BTLNBR_FLAG_W,DATE,TIME,LATITUDE,LONGITUDE,DEPTH,CTDPRS,CTDTMP,CTDSAL,CTDSAL_FLAG_W,SALNTY,SALNTY_FLAG_W,CTDOXY,CTDOXY_FLAG_W,OXYGEN,OXYGEN_FLAG_W,SILCAT,SILCAT_FLAG_W,NITRAT,NITRAT_FLAG_W,NITRIT,NITRIT_FLAG_W,PHSPHT,PHSPHT_FLAG_W,CFC-11,CFC-11_FLAG_W,CFC-12,CFC-12_FLAG_W,CFC113,CFC113_FLAG_W,TCARBN,TCARBN_FLAG_W,ALKALI,ALKALI_FLAG_W,FCO2,FCO2_FLAG_W,FCO2TMP,PH_SWS,PH_SWS_FLAG_W,PH_TMP,TRITUM,TRITUM_FLAG_W,HELIUM,HELIUM_FLAG_W,DELHE3,DELHE3_FLAG_W,DELC13,DELC13_FLAG_W,DELC14,DELC14_FLAG_W,C14ERR,NEON,NEON_FLAG_W,NEONER,POC,POC_FLAG_W,DOC,DOC_FLAG_W,TDN,TDN_FLAG_W,CTDRAW,CDOM325,CDOM325_FLAG_W,CDOM340,CDOM340_FLAG_W,CDOM380,CDOM380_FLAG_W,CDOM412,CDOM412_FLAG_W,CDOMSL,CDOMSL_FLAG_W,CDOMSN,CDOMSN_FLAG_W,THETA,PON,PON_FLAG_W,HCFC-22,HCFC-22_FLAG_W,HCFC-142b,HCFC-142b_FLAG_W,HCFC-141b,HCFC-141b_FLAG_W,STNNBR_U,HELIER,DELHER,TRITER,CH3CL,CH3CL_FLAG_W,CH3BR,CH3BR_FLAG_W,CH3I,CH3I_FLAG_W
,,,,,,,,,,,METERS,DBAR,ITS-90,PSS-78,,PSS-78,,UMOL/KG,,UMOL/KG,,UMOL/KG,,UMOL/KG,,UMOL/KG,,UMOL/KG,,PMOL/KG,,PMOL/KG,,PMOL/KG,,UMOL/KG,,UMOL/KG,,UATM,,DEG C,,,DEG C,TU,,NMOL/KG,,PERCNT,,/MILLE,,/MILLE,,/MILLE,NMOL/KG,,NMOL/KG,UG/KG,,UMOL/KG,,UMOL/KG,,DBAR,1/M,,1/M,,1/M,,1/M,,1/NM,,1/NM,,DEG C,UMOL/L,,PMOL/KG,,PMOL/KG,,PMOL/KG,,,NMOL/KG,PERCNT,TU,PMOL/KG,,PMOL/KG,,PMOL/KG,
33RO200306_01,       A16N,     026,          1,         35,         35,2,20030625,       0524,    52.4995,   -20.0002,       2781,     2.3,  12.4358,  35.3898,2,  35.3909,2,    265.0,2,   260.9,2,    0.60,2,    4.28,2,    0.11,2,    0.29,2,-999.000,9,-999.000,9,-999.000,9,  -999.0,9,  -999.0,9,    453.2,6,    20.00,-999.0000,9,  -999.00,-999.000,9,-999.000,9,-999.000,9, -999.00,9,  -999.0,9,  -999.0,-999.000,9,-999.000,-999.000,9, -999.00,9, -999.00,9,    2.30,-999.0000,9,-999.0000,9,-999.0000,9,-999.0000,9,-999.0000,9,-999.0000,9,  12.4355,     -999.0,9,     -999.0,9,     -999.0,9,     -999.0,9,         26,-999.000,-999.000,-999.000,     -999.0,9, -999.00,9, -999.00,9
33RO200306_01,       A16N,     026,          1,         33,         33,2,20030625,       0524,    52.4995,   -20.0002,       2781,     2.5,  12.4357,  35.3901,2,  35.3917,2,    265.0,2,   261.3,2,    0.61,2,    4.26,2,    0.11,2,    0.30,2,-999.000,9,-999.000,9,-999.000,9,  2090.8,6,  -999.0,9,   -999.0,9,  -999.00,-999.0000,9,  -999.00,-999.000,9,-999.000,9,-999.000,9,    1.34,2,    55.1,2,     3.1,-999.000,9,-999.000,-999.000,9, -999.00,9, -999.00,9,    2.50,-999.0000,9,-999.0000,9,-999.0000,9,-999.0000,9,-999.0000,9,-999.0000,9,  12.4354,     -999.0,9,     -999.0,9,     -999.0,9,     -999.0,9,         26,-999.000,-999.000,-999.000,     -999.0,9, -999.00,9, -999.00,9
33RO200306_01,       A16N,     026,          1,         32,         32,2,20030625,       0524,    52.4995,   -20.0002,       2781,    20.9,  12.4383,  35.3934,2,  35.3968,2,    264.9,2,   261.4,2,    0.62,2,    4.24,2,    0.11,2,    0.30,2,-999.000,9,-999.000,9,-999.000,9,  -999.0,9,  -999.0,9,   -999.0,9,  -999.00,-999.0000,9,  -999.00,-999.000,9,-999.000,9,-999.000,9, -999.00,9,  -999.0,9,  -999.0,-999.000,9,-999.000,-999.000,9, -999.00,9, -999.00,9,   20.90,-999.0000,9,-999.0000,9,-999.0000,9,-999.0000,9,-999.0000,9,-999.0000,9,  12.4355,     -999.0,9,     -999.0,9,     -999.0,9,     -999.0,9,         26,-999.000,-999.000,-999.000,     -999.0,9, -999.00,9, -999.00,9
33RO200306_01,       A16N,     026,          1,         31,         31,2,20030625,       0524,    52.4995,   -20.0002,       2781,    41.3,  12.3354,  35.4378,2,  35.4421,2,    265.9,2,   263.7,2,    0.56,2,    4.10,2,    0.12,2,    0.32,2,-999.000,9,-999.000,9,-999.000,9,  -999.0,9,  -999.0,9,   -999.0,9,  -999.00,-999.0000,9,  -999.00,-999.000,9,-999.000,9,-999.000,9, -999.00,9,  -999.0,9,  -999.0,-999.000,9,-999.000,-999.000,9, -999.00,9, -999.00,9,   41.30,-999.0000,9,-999.0000,9,-999.0000,9,-999.0000,9,-999.0000,9,-999.0000,9,  12.3299,     -999.0,9,     -999.0,9,     -999.0,9,     -999.0,9,         26,-999.000,-999.000,-999.000,     -999.0,9, -999.00,9, -999.00,9
33RO200306_01,       A16N,     026,          1,         30,         30,2,20030625,       0524,    52.4995,   -20.0002,       2781,    61.5,  12.2197,  35.4698,2,  35.4715,2,    260.5,2,   259.9,2,    0.58,2,    4.31,2,    0.13,2,    0.36,2,-999.000,9,-999.000,9,-999.000,9,  -999.0,9,  -999.0,9,   -999.0,9,  -999.00,-999.0000,9,  -999.00,-999.000,9,-999.000,9,-999.000,9, -999.00,9,  -999.0,9,  -999.0,-999.000,9,-999.000,-999.000,9, -999.00,9, -999.00,9,   61.50,-999.0000,9,-999.0000,9,-999.0000,9,-999.0000,9,-999.0000,9,-999.0000,9,  12.2116,     -999.0,9,     -999.0,9,     -999.0,9,     -999.0,9,         26,-999.000,-999.000,-999.000,     -999.0,9, -999.00,9, -999.00,9
33RO200306_01,       A16N,     026,          1,         29,         29,2,20030625,       0524,    52.4995,   -20.0002,       2781,    82.0,  11.4677,  35.4762,2,  35.4752,2,    248.7,2,   252.0,2,    1.88,2,    7.32,2,    0.37,2,    0.55,2,-999.000,9,-999.000,9,-999.000,9,  -999.0,9,  -999.0,9,   -999.0,9,  -999.00,-999.0000,9,  -999.00,-999.000,9,-999.000,9,-999.000,9, -999.00,9,  -999.0,9,  -999.0,-999.000,9,-999.000,-999.000,9, -999.00,9, -999.00,9,   82.00,-999.0000,9,-999.0000,9,-999.0000,9,-999.0000,9,-999.0000,9,-999.0000,9,  11.4573,     -999.0,9,     -999.0,9,     -999.0,9,     -999.0,9,         26,-999.000,-999.000,-999.000,     -999.0,9, -999.00,9, -999.00,9
33RO200306_01,       A16N,     026,          1,         28,         28,2,20030625,       0524,    52.4995,   -20.0002,       2781,   100.6,  11.1616,  35.4608,2,  35.4626,2,    248.5,2,   250.0,2,    2.60,2,    9.30,2,    0.29,2,    0.60,2,-999.000,9,-999.000,9,-999.000,9,  -999.0,9,  -999.0,9,   -999.0,9,  -999.00,-999.0000,9,  -999.00,-999.000,9,-999.000,9,-999.000,9, -999.00,9,  -999.0,9,  -999.0,-999.000,9,-999.000,-999.000,9, -999.00,9, -999.00,9,  100.60,-999.0000,9,-999.0000,9,-999.0000,9,-999.0000,9,-999.0000,9,-999.0000,9,  11.1491,     -999.0,9,     -999.0,9,     -999.0,9,     -999.0,9,         26,-999.000,-999.000,-999.000,     -999.0,9, -999.00,9, -999.00,9
33RO200306_01,       A16N,     026,          1,         27,         27,2,20030625,       0524,    52.4995,   -20.0002,       2781,   126.1,  11.1375,  35.4830,2,  35.4806,2,    244.8,2,   247.0,2,    4.10,2,   10.39,2,    0.05,2,    0.64,2,-999.000,9,-999.000,9,-999.000,9,  -999.0,9,  -999.0,9,   -999.0,9,  -999.00,-999.0000,9,  -999.00,-999.000,9,-999.000,9,-999.000,9, -999.00,9,  -999.0,9,  -999.0,-999.000,9,-999.000,-999.000,9, -999.00,9, -999.00,9,  126.10,-999.0000,9,-999.0000,9,-999.0000,9,-999.0000,9,-999.0000,9,-999.0000,9,  11.1218,     -999.0,9,     -999.0,9,     -999.0,9,     -999.0,9,         26,-999.000,-999.000,-999.000,     -999.0,9, -999.00,9, -999.00,9
33RO200306_01,       A16N,     026,          1,         26,         26,2,20030625,       0524,    52.4995,   -20.0002,       2781,   152.0,  10.9581,  35.4585,2,  35.4555,2,    244.8,2,   246.0,2,    4.64,2,   10.79,2,    0.04,2,    0.67,2,-999.000,9,-999.000,9,-999.000,9,  -999.0,9,  -999.0,9,   -999.0,9,  -999.00,-999.0000,9,  -999.00,-999.000,9,-999.000,9,-999.000,9, -999.00,9,  -999.0,9,  -999.0,-999.000,9,-999.000,-999.000,9, -999.00,9, -999.00,9,  152.00,-999.0000,9,-999.0000,9,-999.0000,9,-999.0000,9,-999.0000,9,-999.0000,9,  10.9393,     -999.0,9,     -999.0,9,     -999.0,9,     -999.0,9,         26,-999.000,-999.000,-999.000,     -999.0,9, -999.00,9, -999.00,9
33RO200306_01,       A16N,     026,          1,         25,         25,2,20030625,       0524,    52.4995,   -20.0002,       2781,   173.6,  10.8222,  35.4365,2,  35.4358,2,    245.1,2,   246.5,2,    4.94,2,   11.00,2,    0.04,2,    0.68,2,-999.000,9,-999.000,9,-999.000,9,  -999.0,9,  -999.0,9,   -999.0,9,  -999.00,-999.0000,9,  -999.00,-999.000,9,-999.000,9,-999.000,9, -999.00,9,  -999.0,9,  -999.0,-999.000,9,-999.000,-999.000,9, -999.00,9, -999.00,9,  173.60,-999.0000,9,-999.0000,9,-999.0000,9,-999.0000,9,-999.0000,9,-999.0000,9,  10.8009,     -999.0,9,     -999.0,9,     -999.0,9,     -999.0,9,         26,-999.000,-999.000,-999.000,     -999.0,9, -999.00,9, -999.00,9
33RO200306_01,       A16N,     026,          1,         24,         24,2,20030625,       0524,    52.4995,   -20.0002,       2781,   201.0,  10.6482,  35.4046,2,  35.4045,2,    245.4,2,   246.0,2,    5.16,2,   11.25,2,    0.03,2,    0.70,2,-999.000,9,-999.000,9,-999.000,9,  -999.0,9,  -999.0,9,   -999.0,9,  -999.00,-999.0000,9,  -999.00,-999.000,9,-999.000,9,-999.000,9, -999.00,9,  -999.0,9,  -999.0,-999.000,9,-999.000,-999.000,9, -999.00,9, -999.00,9,  201.00,-999.0000,9,-999.0000,9,-999.0000,9,-999.0000,9,-999.0000,9,-999.0000,9,  10.6238,     -999.0,9,     -999.0,9,     -999.0,9,     -999.0,9,         26,-999.000,-999.000,-999.000,     -999.0,9, -999.00,9, -999.00,9
33RO200306_01,       A16N,     026,          1,         23,         23,2,20030625,       0524,    52.4995,   -20.0002,       2781,   252.4,  10.3786,  35.3601,2,  35.3566,2,    243.1,2,   245.4,2,    5.47,2,   11.69,2,    0.03,2,    0.73,2,-999.000,9,-999.000,9,-999.000,9,  -999.0,9,  -999.0,9,   -999.0,9,  -999.00,-999.0000,9,  -999.00,-999.000,9,-999.000,9,-999.000,9, -999.00,9,  -999.0,9,  -999.0,-999.000,9,-999.000,-999.000,9, -999.00,9, -999.00,9,  252.40,-999.0000,9,-999.0000,9,-999.0000,9,-999.0000,9,-999.0000,9,-999.0000,9,  10.3484,     -999.0,9,     -999.0,9,     -999.0,9,     -999.0,9,         26,-999.000,-999.000,-999.000,     -999.0,9, -999.00,9, -999.00,9
33RO200306_01,       A16N,     026,          1,         22,         22,2,20030625,       0524,    52.4995,   -20.0002,       2781,   303.1,   9.7988,  35.2582,2,  35.2594,2,    243.2,2,   242.3,2,    6.34,2,   12.80,2,    0.02,2,    0.81,2,-999.000,9,-999.000,9,-999.000,9,  -999.0,9,  -999.0,9,   -999.0,9,  -999.00,-999.0000,9,  -999.00,-999.000,9,-999.000,9,-999.000,9, -999.00,9,  -999.0,9,  -999.0,-999.000,9,-999.000,-999.000,9, -999.00,9, -999.00,9,  303.10,-999.0000,9,-999.0000,9,-999.0000,9,-999.0000,9,-999.0000,9,-999.0000,9,   9.7638,     -999.0,9,     -999.0,9,     -999.0,9,     -999.0,9,         26,-999.000,-999.000,-999.000,     -999.0,9, -999.00,9, -999.00,9
33RO200306_01,       A16N,     026,          1,         21,         21,2,20030625,       0524,    52.4995,   -20.0002,       2781,   351.1,   9.4095,  35.2038,2,  35.2043,2,    243.7,2,   248.0,2,    6.50,2,   12.88,2,    0.02,2,    0.82,2,-999.000,9,-999.000,9,-999.000,9,  -999.0,9,  -999.0,9,   -999.0,9,  -999.00,-999.0000,9,  -999.00,-999.000,9,-999.000,9,-999.000,9, -999.00,9,  -999.0,9,  -999.0,-999.000,9,-999.000,-999.000,9, -999.00,9, -999.00,9,  351.10,-999.0000,9,-999.0000,9,-999.0000,9,-999.0000,9,-999.0000,9,-999.0000,9,   9.3698,     -999.0,9,     -999.0,9,     -999.0,9,     -999.0,9,         26,-999.000,-999.000,-999.000,     -999.0,9, -999.00,9, -999.00,9
33RO200306_01,       A16N,     026,          1,         20,         20,2,20030625,       0524,    52.4995,   -20.0002,       2781,   403.1,   8.9299,  35.1361,2,  35.1361,2,    235.2,2,   231.8,2,    7.35,2,   14.14,2,    0.02,2,    0.90,2,-999.000,9,-999.000,9,-999.000,9,  -999.0,9,  -999.0,9,   -999.0,9,  -999.00,-999.0000,9,  -999.00,-999.000,9,-999.000,9,-999.000,9, -999.00,9,  -999.0,9,  -999.0,-999.000,9,-999.000,-999.000,9, -999.00,9, -999.00,9,  403.10,-999.0000,9,-999.0000,9,-999.0000,9,-999.0000,9,-999.0000,9,-999.0000,9,   8.8857,     -999.0,9,     -999.0,9,     -999.0,9,     -999.0,9,         26,-999.000,-999.000,-999.000,     -999.0,9, -999.00,9, -999.00,9
33RO200306_01,       A16N,     026,          1,         19,         19,2,20030625,       0524,    52.4995,   -20.0002,       2781,   451.3,   8.7208,  35.1536,2,  35.1476,2,    222.9,2,   213.1,2,    9.16,2,   16.73,2,    0.02,2,    1.05,2,-999.000,9,-999.000,9,-999.000,9,  -999.0,9,  -999.0,9,   -999.0,9,  -999.00,-999.0000,9,  -999.00,-999.000,9,-999.000,9,-999.000,9, -999.00,9,  -999.0,9,  -999.0,-999.000,9,-999.000,-999.000,9, -999.00,9, -999.00,9,  451.30,-999.0000,9,-999.0000,9,-999.0000,9,-999.0000,9,-999.0000,9,-999.0000,9,   8.6719,     -999.0,9,     -999.0,9,     -999.0,9,     -999.0,9,         26,-999.000,-999.000,-999.000,     -999.0,9, -999.00,9, -999.00,9
33RO200306_01,       A16N,     026,          1,         18,         18,2,20030625,       0524,    52.4995,   -20.0002,       2781,   501.9,   8.0012,  35.0683,2,  35.0830,2,    206.2,2,   213.6,2,    9.84,2,   17.35,2,    0.01,2,    1.10,2,-999.000,9,-999.000,9,-999.000,9,  -999.0,9,  -999.0,9,   -999.0,9,  -999.00,-999.0000,9,  -999.00,-999.000,9,-999.000,9,-999.000,9, -999.00,9,  -999.0,9,  -999.0,-999.000,9,-999.000,-999.000,9, -999.00,9, -999.00,9,  501.90,-999.0000,9,-999.0000,9,-999.0000,9,-999.0000,9,-999.0000,9,-999.0000,9,   7.9493,     -999.0,9,     -999.0,9,     -999.0,9,     -999.0,9,         26,-999.000,-999.000,-999.000,     -999.0,9, -999.00,9, -999.00,9
33RO200306_01,       A16N,     026,          1,         17,         17,2,20030625,       0524,    52.4995,   -20.0002,       2781,   602.2,   7.9639,  35.2003,2,  35.2031,2,    191.7,2,   193.5,2,   11.19,2,   18.93,2,    0.01,2,    1.17,2,-999.000,9,-999.000,9,-999.000,9,  -999.0,9,  -999.0,9,   -999.0,9,  -999.00,-999.0000,9,  -999.00,-999.000,9,-999.000,9,-999.000,9, -999.00,9,  -999.0,9,  -999.0,-999.000,9,-999.000,-999.000,9, -999.00,9, -999.00,9,  602.20,-999.0000,9,-999.0000,9,-999.0000,9,-999.0000,9,-999.0000,9,-999.0000,9,   7.9013,     -999.0,9,     -999.0,9,     -999.0,9,     -999.0,9,         26,-999.000,-999.000,-999.000,     -999.0,9, -999.00,9, -999.00,9
33RO200306_01,       A16N,     026,          1,         16,         16,2,20030625,       0524,    52.4995,   -20.0002,       2781,   701.6,   7.9311,  35.3391,2,  35.3344,2,    202.7,2,   196.0,2,   11.29,2,   18.46,2,    0.01,2,    1.14,2,-999.000,9,-999.000,9,-999.000,9,  -999.0,9,  -999.0,9,   -999.0,9,  -999.00,-999.0000,9,  -999.00,-999.000,9,-999.000,9,-999.000,9, -999.00,9,  -999.0,9,  -999.0,-999.000,9,-999.000,-999.000,9, -999.00,9, -999.00,9,  701.60,-999.0000,9,-999.0000,9,-999.0000,9,-999.0000,9,-999.0000,9,-999.0000,9,   7.8578,     -999.0,9,     -999.0,9,     -999.0,9,     -999.0,9,         26,-999.000,-999.000,-999.000,     -999.0,9, -999.00,9, -999.00,9
33RO200306_01,       A16N,     026,          1,         15,         15,2,20030625,       0524,    52.4995,   -20.0002,       2781,   801.6,   7.0507,  35.2690,2,  35.2709,2,    207.1,2,   206.0,2,   11.69,2,   18.53,2,    0.01,2,    1.15,2,-999.000,9,-999.000,9,-999.000,9,  -999.0,9,  -999.0,9,   -999.0,9,  -999.00,-999.0000,9,  -999.00,-999.000,9,-999.000,9,-999.000,9, -999.00,9,  -999.0,9,  -999.0,-999.000,9,-999.000,-999.000,9, -999.00,9, -999.00,9,  801.60,-999.0000,9,-999.0000,9,-999.0000,9,-999.0000,9,-999.0000,9,-999.0000,9,   6.9717,     -999.0,9,     -999.0,9,     -999.0,9,     -999.0,9,         26,-999.000,-999.000,-999.000,     -999.0,9, -999.00,9, -999.00,9
33RO200306_01,       A16N,     026,          1,         14,         14,2,20030625,       0524,    52.4995,   -20.0002,       2781,   901.7,   6.2610,  35.1908,2,  35.1917,2,    217.5,2,   217.8,2,   11.87,2,   18.45,2,    0.01,2,    1.15,2,-999.000,9,-999.000,9,-999.000,9,  -999.0,9,  -999.0,9,   -999.0,9,  -999.00,-999.0000,9,  -999.00,-999.000,9,-999.000,9,-999.000,9, -999.00,9,  -999.0,9,  -999.0,-999.000,9,-999.000,-999.000,9, -999.00,9, -999.00,9,  901.70,-999.0000,9,-999.0000,9,-999.0000,9,-999.0000,9,-999.0000,9,-999.0000,9,   6.1769,     -999.0,9,     -999.0,9,     -999.0,9,     -999.0,9,         26,-999.000,-999.000,-999.000,     -999.0,9, -999.00,9, -999.00,9
33RO200306_01,       A16N,     026,          1,         13,         13,2,20030625,       0524,    52.4995,   -20.0002,       2781,  1003.0,   5.4830,  35.1020,2,  35.0997,2,    227.7,2,   231.4,2,   11.89,2,   18.26,2,    0.01,2,    1.14,2,-999.000,9,-999.000,9,-999.000,9,  -999.0,9,  -999.0,9,   -999.0,9,  -999.00,-999.0000,9,  -999.00,-999.000,9,-999.000,9,-999.000,9, -999.00,9,  -999.0,9,  -999.0,-999.000,9,-999.000,-999.000,9, -999.00,9, -999.00,9, 1003.00,-999.0000,9,-999.0000,9,-999.0000,9,-999.0000,9,-999.0000,9,-999.0000,9,   5.3948,     -999.0,9,     -999.0,9,     -999.0,9,     -999.0,9,         26,-999.000,-999.000,-999.000,     -999.0,9, -999.00,9, -999.00,9
33RO200306_01,       A16N,     026,          1,         12,         12,2,20030625,       0524,    52.4995,   -20.0002,       2781,  1102.1,   4.9321,  35.0428,2,  35.0445,2,    239.3,2,   241.1,2,   11.90,2,   18.01,2,    0.01,2,    1.14,2,-999.000,9,-999.000,9,-999.000,9,  -999.0,9,  -999.0,9,   -999.0,9,  -999.00,-999.0000,9,  -999.00,-999.000,9,-999.000,9,-999.000,9, -999.00,9,  -999.0,9,  -999.0,-999.000,9,-999.000,-999.000,9, -999.00,9, -999.00,9, 1102.10,-999.0000,9,-999.0000,9,-999.0000,9,-999.0000,9,-999.0000,9,-999.0000,9,   4.8391,     -999.0,9,     -999.0,9,     -999.0,9,     -999.0,9,         26,-999.000,-999.000,-999.000,     -999.0,9, -999.00,9, -999.00,9
33RO200306_01,       A16N,     026,          1,         11,         11,2,20030625,       0524,    52.4995,   -20.0002,       2781,  1201.1,   4.5888,  35.0091,2,  35.0101,2,    246.0,2,   247.3,2,   11.96,2,   17.88,2,    0.01,2,    1.13,2,-999.000,9,-999.000,9,-999.000,9,  -999.0,9,  -999.0,9,   -999.0,9,  -999.00,-999.0000,9,  -999.00,-999.000,9,-999.000,9,-999.000,9, -999.00,9,  -999.0,9,  -999.0,-999.000,9,-999.000,-999.000,9, -999.00,9, -999.00,9, 1201.10,-999.0000,9,-999.0000,9,-999.0000,9,-999.0000,9,-999.0000,9,-999.0000,9,   4.4897,     -999.0,9,     -999.0,9,     -999.0,9,     -999.0,9,         26,-999.000,-999.000,-999.000,     -999.0,9, -999.00,9, -999.00,9
33RO200306_01,       A16N,     026,          1,         10,         10,2,20030625,       0524,    52.4995,   -20.0002,       2781,  1302.6,   4.1050,  34.9495,2,  34.9502,2,    256.6,2,   260.6,2,   11.68,2,   17.63,2,    0.01,2,    1.12,2,-999.000,9,-999.000,9,-999.000,9,  -999.0,9,  -999.0,9,   -999.0,9,  -999.00,-999.0000,9,  -999.00,-999.000,9,-999.000,9,-999.000,9, -999.00,9,  -999.0,9,  -999.0,-999.000,9,-999.000,-999.000,9, -999.00,9, -999.00,9, 1302.60,-999.0000,9,-999.0000,9,-999.0000,9,-999.0000,9,-999.0000,9,-999.0000,9,   4.0015,     -999.0,9,     -999.0,9,     -999.0,9,     -999.0,9,         26,-999.000,-999.000,-999.000,     -999.0,9, -999.00,9, -999.00,9
33RO200306_01,       A16N,     026,          1,          9,          9,2,20030625,       0524,    52.4995,   -20.0002,       2781,  1402.0,   3.9047,  34.9360,2,  34.9370,2,    262.4,2,  -999.0,1,   11.86,2,   17.48,2,    0.01,2,    1.11,2,-999.000,9,-999.000,9,-999.000,9,  -999.0,9,  -999.0,9,   -999.0,9,  -999.00,-999.0000,9,  -999.00,-999.000,9,-999.000,9,-999.000,9, -999.00,9,  -999.0,9,  -999.0,-999.000,9,-999.000,-999.000,9, -999.00,9, -999.00,9, 1402.00,-999.0000,9,-999.0000,9,-999.0000,9,-999.0000,9,-999.0000,9,-999.0000,9,   3.7944,     -999.0,9,     -999.0,9,     -999.0,9,     -999.0,9,         26,-999.000,-999.000,-999.000,     -999.0,9, -999.00,9, -999.00,9
33RO200306_01,       A16N,     026,          1,          8,          8,2,20030625,       0524,    52.4995,   -20.0002,       2781,  1502.0,   3.7260,  34.9208,2,  34.9210,2,    266.1,2,   266.5,2,   11.90,2,   17.38,2,    0.01,2,    1.11,2,-999.000,9,-999.000,9,-999.000,9,  -999.0,9,  -999.0,9,   -999.0,9,  -999.00,-999.0000,9,  -999.00,-999.000,9,-999.000,9,-999.000,9, -999.00,9,  -999.0,9,  -999.0,-999.000,9,-999.000,-999.000,9, -999.00,9, -999.00,9, 1502.00,-999.0000,9,-999.0000,9,-999.0000,9,-999.0000,9,-999.0000,9,-999.0000,9,   3.6088,     -999.0,9,     -999.0,9,     -999.0,9,     -999.0,9,         26,-999.000,-999.000,-999.000,     -999.0,9, -999.00,9, -999.00,9