BOTTLE,20230908CCHSIOCBG
EXPOCODE,SECT_ID,STNNBR,CASTNO,SAMPNO,BTLNBR,BTLNBR_FLAG_W,DATE,TIME,LATITUDE,LONGITUDE,DEPTH,CTDPRS,CTDTMP,CTDSAL,CTDSAL_FLAG_W,SALNTY,SALNTY_FLAG_W,CTDOXY,CTDOXY_FLAG_W,OXYGEN,OXYGEN_FLAG_W,SILCAT,SILCAT_FLAG_W,NITRAT,NITRAT_FLAG_W,NITRIT,NITRIT_FLAG_W,PHSPHT,PHSPHT_FLAG_W,CFC-11,CFC-11_FLAG_W,CFC-12,CFC-12_FLAG_W,CFC113,CFC113_FLAG_W,TCARBN,TCARBN_FLAG_W,ALKALI,ALKALI_FLAG_W,FCO2,FCO2_FLAG_W,FCO2TMP,PH_SWS,PH_SWS_FLAG_W,PH_TMP,TRITUM,TRITUM_FLAG_W,HELIUM,HELIUM_FLAG_W,DELHE3,DELHE3_FLAG_W,DELC13,DELC13_FLAG_W,DELC14,DELC14_FLAG_W,C14ERR,NEON,NEON_FLAG_W,NEONER,POC,POC_FLAG_W,DOC,DOC_FLAG_W,TDN,TDN_FLAG_W,CTDRAW,CDOM325,CDOM325_FLAG_W,CDOM340,CDOM340_FLAG_W,CDOM380,CDOM380_FLAG_W,CDOM412,CDOM412_FLAG_W,CDOMSL,CDOMSL_FLAG_W,CDOMSN,CDOMSN_FLAG_W,THETA,PON,PON_FLAG_W,HCFC-22,HCFC-22_FLAG_W,HCFC-142b,HCFC-142b_FLAG_W,HCFC-141b,HCFC-141b_FLAG_W,STNNBR_U,HELIER,DELHER,TRITER,CH3CL,CH3CL_FLAG_W,CH3BR,CH3BR_FLAG_W,CH3I,CH3I_FLAG_W
,,,,,,,,,,,METERS,DBAR,ITS-90,PSS-78,,PSS-78,,UMOL/KG,,UMOL/KG,,UMOL/KG,,UMOL/KG,,UMOL/KG,,UMOL/KG,,PMOL/KG,,PMOL/KG,,PMOL/KG,,UMOL/KG,,UMOL/KG,,UATM,,DEG C,,,DEG C,TU,,NMOL/KG,,PERCNT,,/MILLE,,/MILLE,,/MILLE,NMOL/KG,,NMOL/KG,UG/KG,,UMOL/KG,,UMOL/KG,,DBAR,1/M,,1/M,,1/M,,1/M,,1/NM,,1/NM,,DEG C,UMOL/L,,PMOL/KG,,PMOL/KG,,PMOL/KG,,,NMOL/KG,PERCNT,TU,PMOL/KG,,PMOL/KG,,PMOL/KG,
33RO200306_01,       A16N,     071,          1,          7,          7,2,20030709,       0241,    29.9988,   -23.3745,       5242,  3349.7,   2.5886,  34.9242,2,  34.9248,2,    245.1,2,   245.3,2,   39.33,2,   21.48,2,    0.00,2,    1.43,2,   0.007,2,   0.011,2,   0.005,2,  2191.1,2,  2341.0,2,    761.5,2,    20.00,-999.0000,9,  -999.00,-999.000,9,-999.000,9,-999.000,9, -999.00,9,  -999.0,9,  -999.0,-999.000,9,-999.000,-999.000,9,   41.71,2,   26.10,2, 3349.70,-999.0000,9,-999.0000,9,-999.0000,9,-999.0000,9,-999.0000,9,-999.0000,9,   2.3102,     -999.0,9,     -999.0,9,     -999.0,9,     -999.0,9,         71,-999.000,-999.000,-999.000,     -999.0,9, -999.00,9, -999.00,9
33RO200306_01,       A16N,     071,          1,          6,          6,2,20030709,       0241,    29.9988,   -23.3745,       5242,  3844.9,   2.4647,  34.9071,2,  34.9074,2,    244.6,2,   244.4,2,   43.35,2,   21.98,2,    0.00,2,    1.47,2,   0.006,2,   0.005,2,   0.002,2,  2194.2,2,  2343.8,2,   -999.0,9,  -999.00,   7.7383,2,    25.00,-999.000,9,-999.000,9,-999.000,9, -999.00,9,  -999.0,9,  -999.0,-999.000,9,-999.000,-999.000,9,   41.39,2,   26.35,2, 3844.90,-999.0000,9,-999.0000,9,-999.0000,9,-999.0000,9,-999.0000,9,-999.0000,9,   2.1350,     -999.0,9,     -999.0,9,     -999.0,9,     -999.0,9,         71,-999.000,-999.000,-999.000,     -999.0,9, -999.00,9, -999.00,9
33RO200306_01,       A16N,     071,          1,          5,          5,2,20030709,       0241,    29.9988,   -23.3745,       5242,  4098.8,   2.4267,  34.9004,2,  34.9009,2,    244.9,2,   244.6,2,   44.71,2,   22.11,2,    0.00,2,    1.48,2,   0.006,2,   0.003,2,   0.001,2,  2195.8,2,  2345.2,2,    754.1,2,    20.00,   7.7292,2,    25.00,-999.000,9,-999.000,9,-999.000,9, -999.00,9,  -999.0,9,  -999.0,-999.000,9,-999.000,-999.000,9,   40.32,2,   27.15,2, 4098.80,-999.0000,9,-999.0000,9,-999.0000,9,-999.0000,9,-999.0000,9,-999.0000,9,   2.0691,     -999.0,9,     -999.0,9,     -999.0,9,     -999.0,9,         71,-999.000,-999.000,-999.000,     -999.0,9, -999.00,9, -999.00,9
33RO200306_01,       A16N,     071,          1,          4,          4,2,20030709,       0241,    29.9988,   -23.3745,       5242,  4449.9,   2.3967,  34.8927,2,  34.8937,2,    245.1,2,   245.0,2,   46.16,6,   22.25,6,    0.00,6,    1.49,6,   0.006,2,   0.006,2,   0.002,2,  2196.6,2,  2346.1,2,   -999.0,9,  -999.00,   7.7296,2,    25.00,-999.000,9,-999.000,9,-999.000,9, -999.00,9,  -999.0,9,  -999.0,-999.000,9,-999.000,-999.000,9,   40.41,2,   26.69,2, 4449.90,-999.0000,9,-999.0000,9,-999.0000,9,-999.0000,9,-999.0000,9,-999.0000,9,   1.9986,     -999.0,9,     -999.0,9,     -999.0,9,     -999.0,9,         71,-999.000,-999.000,-999.000,     -999.0,9, -999.00,9, -999.00,9
33RO200306_01,       A16N,     071,          1,          3,          3,2,20030709,       0241,    29.9988,   -23.3745,       5242,  4749.7,   2.4020,  34.8892,2,  34.8903,2,    244.5,2,   244.8,2,   46.95,6,   22.31,6,    0.00,6,    1.49,6,   0.004,2,   0.005,2,   0.001,2,  2198.3,2,  2347.6,2,    768.8,2,    20.00,   7.7282,2,    25.00,-999.000,9,-999.000,9,-999.000,9, -999.00,9,  -999.0,9,  -999.0,-999.000,9,-999.000,-999.000,9,   40.17,2,   27.62,2, 4749.70,-999.0000,9,-999.0000,9,-999.0000,9,-999.0000,9,-999.0000,9,-999.0000,9,   1.9673,     -999.0,9,     -999.0,9,     -999.0,9,     -999.0,9,         71,-999.000,-999.000,-999.000,     -999.0,9, -999.00,9, -999.00,9
33RO200306_01,       A16N,     071,          1,          2,          2,2,20030709,       0241,    29.9988,   -23.3745,       5242,  5028.2,   2.4254,  34.8877,2,  34.8888,2,    244.5,2,   245.2,2,   47.22,6,   22.31,6,    0.00,6,    1.49,6,   0.010,2,   0.005,2,   0.001,2,  2198.7,2,  2348.0,2,   -999.0,9,  -999.00,   7.7193,2,    25.00,-999.000,9,-999.000,9,-999.000,9, -999.00,9,  -999.0,9,  -999.0,-999.000,9,-999.000,-999.000,9,   40.49,2,   26.27,2, 5028.20,-999.0000,9,-999.0000,9,-999.0000,9,-999.0000,9,-999.0000,9,-999.0000,9,   1.9550,     -999.0,9,     -999.0,9,     -999.0,9,     -999.0,9,         71,-999.000,-999.000,-999.000,     -999.0,9, -999.00,9, -999.00,9
33RO200306_01,       A16N,     071,          1,          1,          1,2,20030709,       0241,    29.9988,   -23.3745,       5242,  5331.9,   2.4621,  34.8869,2,  34.8887,2,    244.4,2,   244.8,2, -999.00,1, -999.00,1, -999.00,1, -999.00,1,   0.002,2,   0.003,2,   0.002,2,  2199.4,6,  2348.4,6,    767.6,2,    20.00,-999.0000,9,  -999.00,-999.000,9,-999.000,9,-999.000,9, -999.00,9,  -999.0,9,  -999.0,-999.000,9,-999.000,-999.000,9,   40.32,2,   24.99,2, 5331.90,-999.0000,9,-999.0000,9,-999.0000,9,-999.0000,9,-999.0000,9,-999.0000,9,   1.9512,     -999.0,9,     -999.0,9,     -999.0,9,     -999.0,9,         71,-999.000,-999.000,-999.000,     -999.0,9, -999.00,9, -999.00,9