BOTTLE,20230908CCHSIOCBG
EXPOCODE,SECT_ID,STNNBR,CASTNO,SAMPNO,BTLNBR,BTLNBR_FLAG_W,DATE,TIME,LATITUDE,LONGITUDE,DEPTH,CTDPRS,CTDTMP,CTDSAL,CTDSAL_FLAG_W,SALNTY,SALNTY_FLAG_W,CTDOXY,CTDOXY_FLAG_W,OXYGEN,OXYGEN_FLAG_W,SILCAT,SILCAT_FLAG_W,NITRAT,NITRAT_FLAG_W,NITRIT,NITRIT_FLAG_W,PHSPHT,PHSPHT_FLAG_W,CFC-11,CFC-11_FLAG_W,CFC-12,CFC-12_FLAG_W,CFC113,CFC113_FLAG_W,TCARBN,TCARBN_FLAG_W,ALKALI,ALKALI_FLAG_W,FCO2,FCO2_FLAG_W,FCO2TMP,PH_SWS,PH_SWS_FLAG_W,PH_TMP,TRITUM,TRITUM_FLAG_W,HELIUM,HELIUM_FLAG_W,DELHE3,DELHE3_FLAG_W,DELC13,DELC13_FLAG_W,DELC14,DELC14_FLAG_W,C14ERR,NEON,NEON_FLAG_W,NEONER,POC,POC_FLAG_W,DOC,DOC_FLAG_W,TDN,TDN_FLAG_W,CTDRAW,CDOM325,CDOM325_FLAG_W,CDOM340,CDOM340_FLAG_W,CDOM380,CDOM380_FLAG_W,CDOM412,CDOM412_FLAG_W,CDOMSL,CDOMSL_FLAG_W,CDOMSN,CDOMSN_FLAG_W,THETA,PON,PON_FLAG_W,HCFC-22,HCFC-22_FLAG_W,HCFC-142b,HCFC-142b_FLAG_W,HCFC-141b,HCFC-141b_FLAG_W,STNNBR_U,HELIER,DELHER,TRITER,CH3CL,CH3CL_FLAG_W,CH3BR,CH3BR_FLAG_W,CH3I,CH3I_FLAG_W
,,,,,,,,,,,METERS,DBAR,ITS-90,PSS-78,,PSS-78,,UMOL/KG,,UMOL/KG,,UMOL/KG,,UMOL/KG,,UMOL/KG,,UMOL/KG,,PMOL/KG,,PMOL/KG,,PMOL/KG,,UMOL/KG,,UMOL/KG,,UATM,,DEG C,,,DEG C,TU,,NMOL/KG,,PERCNT,,/MILLE,,/MILLE,,/MILLE,NMOL/KG,,NMOL/KG,UG/KG,,UMOL/KG,,UMOL/KG,,DBAR,1/M,,1/M,,1/M,,1/M,,1/NM,,1/NM,,DEG C,UMOL/L,,PMOL/KG,,PMOL/KG,,PMOL/KG,,,NMOL/KG,PERCNT,TU,PMOL/KG,,PMOL/KG,,PMOL/KG,
33RO200306_01,       A16N,     023,          1,         27,         27,2,20030624,       1311,    54.0002,   -19.9983,       1417,     2.6,  12.3221,  35.4582,2,-999.0000,9,    266.8,2,  -999.0,9, -999.00,9, -999.00,9, -999.00,9, -999.00,9,-999.000,9,-999.000,9,-999.000,9,  -999.0,9,  -999.0,9,   -999.0,9,  -999.00,-999.0000,9,  -999.00,-999.000,9,-999.000,9,-999.000,9, -999.00,9,  -999.0,9,  -999.0,-999.000,9,-999.000,-999.000,9, -999.00,9, -999.00,9,    2.60,-999.0000,9,-999.0000,9,-999.0000,9,-999.0000,9,-999.0000,9,-999.0000,9,  12.3218,     -999.0,9,     -999.0,9,     -999.0,9,     -999.0,9,         23,-999.000,-999.000,-999.000,     -999.0,9, -999.00,9, -999.00,9
33RO200306_01,       A16N,     023,          1,         26,         26,2,20030624,       1311,    54.0002,   -19.9983,       1417,     2.8,  12.3217,  35.4582,2,  35.4599,2,    266.8,2,   266.9,2,    0.12,2,    4.55,2,    0.11,2,    0.27,2,   3.405,2,   1.969,2,   0.303,2,  2091.2,2,  -999.0,9,    450.9,2,    20.00,-999.0000,9,  -999.00,-999.000,9,-999.000,9,-999.000,9, -999.00,9,  -999.0,9,  -999.0,-999.000,9,-999.000,   3.568,2,   57.00,2,    9.60,2,    2.80,-999.0000,9,-999.0000,9,-999.0000,9,-999.0000,9,-999.0000,9,-999.0000,9,  12.3213,      1.155,2,     -999.0,9,     -999.0,9,     -999.0,9,         23,-999.000,-999.000,-999.000,     -999.0,9, -999.00,9, -999.00,9
33RO200306_01,       A16N,     023,          1,         25,         25,2,20030624,       1311,    54.0002,   -19.9983,       1417,     9.9,  12.3386,  35.4580,2,  35.4596,2,    266.5,2,   267.4,2,    0.12,2,    4.58,2,    0.11,2,    0.27,2,-999.000,9,-999.000,9,-999.000,9,  2091.4,2,  2334.4,2,   -999.0,9,  -999.00,   7.9226,2,    25.00,-999.000,9,-999.000,9,-999.000,9, -999.00,9,  -999.0,9,  -999.0,-999.000,9,-999.000,   8.179,2,   54.63,2,    9.57,2,    9.90,-999.0000,9,-999.0000,9,-999.0000,9,-999.0000,9,-999.0000,9,-999.0000,9,  12.3373,      1.352,2,     -999.0,9,     -999.0,9,     -999.0,9,         23,-999.000,-999.000,-999.000,     -999.0,9, -999.00,9, -999.00,9
33RO200306_01,       A16N,     023,          1,         24,         24,2,20030624,       1311,    54.0002,   -19.9983,       1417,    30.5,  12.2573,  35.4582,2,  35.4595,2,    265.2,2,   265.8,2,    0.12,2,    4.52,2,    0.11,2,    0.26,2,   3.387,2,   1.958,2,   0.294,2,  2091.4,2,  2328.3,2,    448.6,2,    20.00,   7.9245,2,    25.00,-999.000,9,-999.000,9,-999.000,9, -999.00,9,  -999.0,9,  -999.0,-999.000,9,-999.000,-999.000,9, -999.00,9, -999.00,9,   30.50,-999.0000,9,-999.0000,9,-999.0000,9,-999.0000,9,-999.0000,9,-999.0000,9,  12.2533,     -999.0,9,     -999.0,9,     -999.0,9,     -999.0,9,         23,-999.000,-999.000,-999.000,     -999.0,9, -999.00,9, -999.00,9
33RO200306_01,       A16N,     023,          1,         23,         23,2,20030624,       1311,    54.0002,   -19.9983,       1417,    51.4,  11.6890,  35.4569,2,  35.4603,2,    261.3,2,   262.9,2,    0.22,2,    5.38,2,    0.15,2,    0.37,2,   3.478,2,   1.999,2,   0.302,2,  2102.6,2,  2327.7,2,   -999.0,9,  -999.00,   7.9018,2,    25.00,-999.000,9,   1.756,2,  -2.043,2, -999.00,9,  -999.0,9,  -999.0,   7.323,2,   0.015,   3.127,2,   55.04,2,   10.62,2,   51.40,-999.0000,9,-999.0000,9,-999.0000,9,-999.0000,9,-999.0000,9,-999.0000,9,  11.6824,      1.191,2,     -999.0,9,     -999.0,9,     -999.0,9,         23,   0.002,    0.17,-999.000,     -999.0,9, -999.00,9, -999.00,9
33RO200306_01,       A16N,     023,          1,         22,         22,2,20030624,       1311,    54.0002,   -19.9983,       1417,    70.2,  11.2670,  35.5089,2,  35.5087,2,    257.9,2,   257.0,2,    0.97,2,    7.47,2,    0.12,2,    0.52,2,   3.480,2,   2.010,2,   0.295,2,  2121.3,2,  2329.7,2,    525.9,2,    20.00,   7.8737,2,    25.00,-999.000,9,-999.000,9,-999.000,9, -999.00,9,  -999.0,9,  -999.0,-999.000,9,-999.000,   3.184,2, -999.00,9, -999.00,9,   70.20,-999.0000,9,-999.0000,9,-999.0000,9,-999.0000,9,-999.0000,9,-999.0000,9,  11.2582,      1.177,2,     -999.0,9,     -999.0,9,     -999.0,9,         23,-999.000,-999.000,-999.000,     -999.0,9, -999.00,9, -999.00,9
33RO200306_01,       A16N,     023,          1,         21,         21,2,20030624,       1311,    54.0002,   -19.9983,       1417,    89.8,  11.0945,  35.5033,2,  35.5046,2,    256.8,2,   254.5,2,    1.42,2,    8.70,2,    0.20,2,    0.56,2,   3.412,2,   1.949,2,   0.281,2,  2124.4,2,  2333.6,2,   -999.0,9,  -999.00,   7.8607,2,    25.00,-999.000,9,-999.000,9,-999.000,9, -999.00,9,  -999.0,9,  -999.0,-999.000,9,-999.000,   1.989,2,   53.09,2,   13.17,2,   89.80,-999.0000,9,-999.0000,9,-999.0000,9,-999.0000,9,-999.0000,9,-999.0000,9,  11.0834,      0.255,2,     -999.0,9,     -999.0,9,     -999.0,9,         23,-999.000,-999.000,-999.000,     -999.0,9, -999.00,9, -999.00,9
33RO200306_01,       A16N,     023,          1,         20,         20,2,20030624,       1311,    54.0002,   -19.9983,       1417,   110.0,  10.9510,  35.4888,2,  35.4892,2,    255.1,2,   254.3,2,    1.83,2,    9.33,2,    0.17,2,    0.57,2,-999.000,9,-999.000,9,-999.000,9,  2124.4,2,  2332.1,2,   -999.0,9,  -999.00,   7.8527,2,    25.00,-999.000,9,-999.000,9,-999.000,9, -999.00,9,  -999.0,9,  -999.0,-999.000,9,-999.000,   1.490,2, -999.00,9, -999.00,9,  110.00,-999.0000,9,-999.0000,9,-999.0000,9,-999.0000,9,-999.0000,9,-999.0000,9,  10.9375,      0.330,2,     -999.0,9,     -999.0,9,     -999.0,9,         23,-999.000,-999.000,-999.000,     -999.0,9, -999.00,9, -999.00,9
33RO200306_01,       A16N,     023,          1,         19,         19,2,20030624,       1311,    54.0002,   -19.9983,       1417,   134.2,  10.9586,  35.4962,2,  35.4978,2,    254.7,2,   255.5,2,    2.28,2,    9.68,2,    0.19,2,    0.59,2,   3.460,2,   1.989,2,   0.281,2,  2125.3,2,  2333.1,2,    548.9,2,    20.00,   7.8561,2,    25.00,   0.955,2,   1.783,2,  -2.564,2, -999.00,9,  -999.0,9,  -999.0,   7.486,2,   0.058,-999.000,9,   53.49,2,   13.82,2,  134.20,-999.0000,9,-999.0000,9,-999.0000,9,-999.0000,9,-999.0000,9,-999.0000,9,  10.9420,     -999.0,9,     -999.0,9,     -999.0,9,     -999.0,9,         23,   0.003,   0.154,   0.020,     -999.0,9, -999.00,9, -999.00,9
33RO200306_01,       A16N,     023,          1,         18,         18,2,20030624,       1311,    54.0002,   -19.9983,       1417,   160.3,  10.8379,  35.4808,2,  35.4824,2,    254.4,2,   254.1,2,    2.45,2,    9.89,2,    0.13,2,    0.59,2,-999.000,9,-999.000,9,-999.000,9,  2127.1,2,  2332.1,2,   -999.0,9,  -999.00,   7.8499,2,    25.00,-999.000,9,-999.000,9,-999.000,9, -999.00,9,  -999.0,9,  -999.0,-999.000,9,-999.000,   1.303,2, -999.00,9, -999.00,9,  160.30,-999.0000,9,-999.0000,9,-999.0000,9,-999.0000,9,-999.0000,9,-999.0000,9,  10.8182,      0.147,2,     -999.0,9,     -999.0,9,     -999.0,9,         23,-999.000,-999.000,-999.000,     -999.0,9, -999.00,9, -999.00,9
33RO200306_01,       A16N,     023,          1,         17,         17,2,20030624,       1311,    54.0002,   -19.9983,       1417,   186.0,  10.7417,  35.4713,2,  35.4721,2,    252.8,2,   254.4,2,    3.02,2,   10.48,2,    0.03,2,    0.62,2,   3.434,2,   1.951,2,   0.265,2,  2129.3,2,  2326.5,2,   -999.0,9,  -999.00,   7.8417,2,    25.00,   1.385,2,-999.000,9,-999.000,9, -999.00,9,  -999.0,9,  -999.0,-999.000,9,-999.000,-999.000,9,   52.68,2,   15.79,2,  186.00,-999.0000,9,-999.0000,9,-999.0000,9,-999.0000,9,-999.0000,9,-999.0000,9,  10.7190,     -999.0,9,     -999.0,9,     -999.0,9,     -999.0,9,         23,-999.000,-999.000,   0.020,     -999.0,9, -999.00,9, -999.00,9
33RO200306_01,       A16N,     023,          1,         16,         16,2,20030624,       1311,    54.0002,   -19.9983,       1417,   224.6,  10.5760,  35.4481,2,  35.4484,2,    250.7,2,   251.1,2,    3.82,2,   11.12,2,    0.02,2,    0.66,2,   3.439,2,   1.963,2,   0.269,2,  2131.2,2,  2325.6,2,    577.8,2,    20.00,   7.8352,2,    25.00,-999.000,9,-999.000,9,-999.000,9, -999.00,9,  -999.0,9,  -999.0,-999.000,9,-999.000,-999.000,9,   50.98,2,   15.40,2,  224.60,-999.0000,9,-999.0000,9,-999.0000,9,-999.0000,9,-999.0000,9,-999.0000,9,  10.5488,     -999.0,9,     -999.0,9,     -999.0,9,     -999.0,9,         23,-999.000,-999.000,-999.000,     -999.0,9, -999.00,9, -999.00,9
33RO200306_01,       A16N,     023,          1,         15,         15,2,20030624,       1311,    54.0002,   -19.9983,       1417,   276.1,  10.3365,  35.4157,2,  35.4156,2,    248.9,2,   251.7,2,    4.33,2,   11.55,2,    0.01,2,    0.69,2,   3.398,2,   1.917,2,   0.259,2,  2133.1,2,  2322.3,2,   -999.0,9,  -999.00,   7.8224,2,    25.00,-999.000,9,-999.000,9,-999.000,9, -999.00,9,  -999.0,9,  -999.0,-999.000,9,-999.000,-999.000,9,   54.96,2,   16.49,2,  276.10,-999.0000,9,-999.0000,9,-999.0000,9,-999.0000,9,-999.0000,9,-999.0000,9,  10.3035,     -999.0,9,     -999.0,9,     -999.0,9,     -999.0,9,         23,-999.000,-999.000,-999.000,     -999.0,9, -999.00,9, -999.00,9
33RO200306_01,       A16N,     023,          1,         14,         14,2,20030624,       1311,    54.0002,   -19.9983,       1417,   325.9,  10.1980,  35.4029,2,  35.4031,2,    250.1,2,   251.0,2,    4.68,2,   11.88,2,    0.01,2,    0.71,2,   3.432,2,   1.956,2,   0.256,2,  2135.7,2,  2322.6,2,    591.2,2,    20.00,   7.8188,2,    25.00,   1.346,2,   1.774,2,  -2.123,2, -999.00,9,  -999.0,9,  -999.0,   7.373,2,   0.065,-999.000,9,   49.35,2,   16.31,2,  325.90,-999.0000,9,-999.0000,9,-999.0000,9,-999.0000,9,-999.0000,9,-999.0000,9,  10.1593,     -999.0,9,     -999.0,9,     -999.0,9,     -999.0,9,         23,   0.003,   0.187,   0.020,     -999.0,9, -999.00,9, -999.00,9
33RO200306_01,       A16N,     023,          1,         13,         13,2,20030624,       1311,    54.0002,   -19.9983,       1417,   375.0,  10.1231,  35.4025,2,  35.4032,2,    246.5,2,   246.0,2,    5.07,2,   12.33,2,    0.01,2,    0.74,2,   3.341,2,   1.889,2,   0.243,2,  2138.5,2,  2327.6,2,   -999.0,9,  -999.00,   7.8185,2,    25.00,-999.000,9,-999.000,9,-999.000,9, -999.00,9,  -999.0,9,  -999.0,-999.000,9,-999.000,-999.000,9,   49.27,2,   16.39,2,  375.00,-999.0000,9,-999.0000,9,-999.0000,9,-999.0000,9,-999.0000,9,-999.0000,9,  10.0786,     -999.0,9,     -999.0,9,     -999.0,9,     -999.0,9,         23,-999.000,-999.000,-999.000,     -999.0,9, -999.00,9, -999.00,9
33RO200306_01,       A16N,     023,          1,         12,         12,2,20030624,       1311,    54.0002,   -19.9983,       1417,   425.4,   9.9347,  35.3817,2,  35.3817,2,    240.3,2,   236.5,2,    5.81,2,   13.31,2,    0.01,2,    0.80,2,   3.205,2,   1.806,2,   0.220,2,  2144.0,2,  2326.7,2,   -999.0,9,  -999.00,   7.8021,2,    25.00,-999.000,9,-999.000,9,-999.000,9, -999.00,9,  -999.0,9,  -999.0,-999.000,9,-999.000,-999.000,9,   49.43,2,   17.53,2,  425.40,-999.0000,9,-999.0000,9,-999.0000,9,-999.0000,9,-999.0000,9,-999.0000,9,   9.8847,     -999.0,9,     -999.0,9,     -999.0,9,     -999.0,9,         23,-999.000,-999.000,-999.000,     -999.0,9, -999.00,9, -999.00,9
33RO200306_01,       A16N,     023,          1,         11,         11,2,20030624,       1311,    54.0002,   -19.9983,       1417,   474.9,   9.7173,  35.3598,2,  35.3586,2,    227.8,2,   228.0,2,    6.49,2,   14.31,2,    0.01,2,    0.86,2,   3.011,2,   1.652,2,   0.187,2,  2151.0,2,  2326.7,2,    646.9,2,    20.00,   7.7919,2,    25.00,   1.051,2,   1.776,2,  -0.133,2, -999.00,9,  -999.0,9,  -999.0,   7.455,2,   0.066,-999.000,9,   47.88,2,   18.70,2,  474.90,-999.0000,9,-999.0000,9,-999.0000,9,-999.0000,9,-999.0000,9,-999.0000,9,   9.6621,     -999.0,9,     -999.0,9,     -999.0,9,     -999.0,9,         23,   0.004,   0.189,   0.010,     -999.0,9, -999.00,9, -999.00,9
33RO200306_01,       A16N,     023,          1,         10,         10,2,20030624,       1311,    54.0002,   -19.9983,       1417,   550.8,   9.1085,  35.3031,2,  35.3027,2,    211.6,2,   218.6,2,    7.91,2,   15.88,2,    0.01,2,    0.96,2,   2.864,2,   1.567,2,   0.169,2,  2160.2,2,  2324.4,2,   -999.0,9,  -999.00,   7.7598,2,    25.00,-999.000,9,-999.000,9,-999.000,9, -999.00,9,  -999.0,9,  -999.0,-999.000,9,-999.000,   0.543,2,   49.35,2,   19.43,2,  550.80,-999.0000,9,-999.0000,9,-999.0000,9,-999.0000,9,-999.0000,9,-999.0000,9,   9.0467,      0.073,2,     -999.0,9,     -999.0,9,     -999.0,9,         23,-999.000,-999.000,-999.000,     -999.0,9, -999.00,9, -999.00,9
33RO200306_01,       A16N,     023,          1,          9,          9,2,20030624,       1311,    54.0002,   -19.9983,       1417,   651.1,   8.1480,  35.2198,2,  35.2199,2,    205.5,2,   199.5,2,   10.08,2,   18.32,2,    0.00,2,    1.12,2,   2.382,2,   1.264,2,   0.119,2,  2173.8,2,  2322.3,2,    762.4,2,    20.00,   7.7274,2,    25.00,   0.905,2,-999.000,9,-999.000,9, -999.00,9,  -999.0,9,  -999.0,-999.000,9,-999.000,-999.000,9,   47.33,2,   23.12,2,  651.10,-999.0000,9,-999.0000,9,-999.0000,9,-999.0000,9,-999.0000,9,-999.0000,9,   8.0792,     -999.0,9,     -999.0,9,     -999.0,9,     -999.0,9,         23,-999.000,-999.000,   0.010,     -999.0,9, -999.00,9, -999.00,9
33RO200306_01,       A16N,     023,          1,          8,          8,2,20030624,       1311,    54.0002,   -19.9983,       1417,   750.6,   7.8406,  35.2841,2,  35.2883,2,    198.2,2,   197.1,2,   10.78,2,   18.69,2,    0.00,2,    1.13,2,   2.117,2,   1.110,2,   0.097,2,  2179.0,2,  2329.2,2,   -999.0,9,  -999.00,   7.7337,2,    25.00,-999.000,9,   1.792,2,   6.631,2, -999.00,9,  -999.0,9,  -999.0,   7.577,2,   0.059,-999.000,9,   45.31,2,   23.34,2,  750.60,-999.0000,9,-999.0000,9,-999.0000,9,-999.0000,9,-999.0000,9,-999.0000,9,   7.7625,     -999.0,9,     -999.0,9,     -999.0,9,     -999.0,9,         23,   0.003,    0.15,-999.000,     -999.0,9, -999.00,9, -999.00,9
33RO200306_01,       A16N,     023,          1,          7,          7,2,20030624,       1311,    54.0002,   -19.9983,       1417,   850.8,   7.0302,  35.2331,2,  35.2311,2,    207.7,2,   207.5,2,   11.00,2,   18.61,2,    0.01,2,    1.13,2,   2.227,2,   1.149,2,   0.105,2,  2178.1,2,  2321.5,2,    779.4,2,    20.00,   7.7190,2,    25.00,   1.105,2,   1.782,2,   6.805,2, -999.00,9,  -999.0,9,  -999.0,   7.537,2,   0.058,-999.000,9,   45.85,2,   22.90,2,  850.80,-999.0000,9,-999.0000,9,-999.0000,9,-999.0000,9,-999.0000,9,-999.0000,9,   6.9463,     -999.0,9,     -999.0,9,     -999.0,9,     -999.0,9,         23,   0.003,    0.15,   0.020,     -999.0,9, -999.00,9, -999.00,9
33RO200306_01,       A16N,     023,          1,          6,          6,2,20030624,       1311,    54.0002,   -19.9983,       1417,   949.4,   6.3390,  35.1704,2,  35.1697,2,    218.0,2,   223.1,2,   11.12,2,   18.49,2,    0.01,2,    1.12,2,   2.331,2,   1.180,2,   0.120,2,  2174.6,2,  2316.7,2,   -999.0,9,  -999.00,   7.7517,2,    25.00,-999.000,9,-999.000,9,-999.000,9, -999.00,9,  -999.0,9,  -999.0,-999.000,9,-999.000,-999.000,9,   44.71,2,   23.31,2,  949.40,-999.0000,9,-999.0000,9,-999.0000,9,-999.0000,9,-999.0000,9,-999.0000,9,   6.2497,     -999.0,9,     -999.0,9,     -999.0,9,     -999.0,9,         23,-999.000,-999.000,-999.000,     -999.0,9, -999.00,9, -999.00,9
33RO200306_01,       A16N,     023,          1,          5,          5,2,20030624,       1311,    54.0002,   -19.9983,       1417,  1050.5,   5.4233,  35.0738,2,  35.0722,2,    232.2,2,   234.6,2,   11.29,2,   18.27,2,    0.01,2,    1.12,2,   2.610,2,   1.343,2,   0.151,2,  2169.6,2,  2309.4,2,    782.2,2,    20.00,   7.7329,2,    25.00,   1.048,2,   1.850,2,   6.137,2, -999.00,9,  -999.0,9,  -999.0,   7.763,2,   0.068,-999.000,9,   43.98,2,   22.43,2, 1050.50,-999.0000,9,-999.0000,9,-999.0000,9,-999.0000,9,-999.0000,9,-999.0000,9,   5.3311,     -999.0,9,     -999.0,9,     -999.0,9,     -999.0,9,         23,   0.003,   0.183,   0.020,     -999.0,9, -999.00,9, -999.00,9
33RO200306_01,       A16N,     023,          1,          4,          4,9,20030624,       1311,    54.0002,   -19.9983,       1417,  1151.2,   4.7902,  35.0172,2,-999.0000,9,    245.7,2,  -999.0,9, -999.00,9, -999.00,9, -999.00,9, -999.00,9,-999.000,9,-999.000,9,-999.000,9,  -999.0,9,  -999.0,9,   -999.0,9,  -999.00,-999.0000,9,  -999.00,-999.000,9,-999.000,9,-999.000,9, -999.00,9,  -999.0,9,  -999.0,-999.000,9,-999.000,-999.000,9, -999.00,9, -999.00,9, 1151.20,-999.0000,9,-999.0000,9,-999.0000,9,-999.0000,9,-999.0000,9,-999.0000,9,   4.6939,     -999.0,9,     -999.0,9,     -999.0,9,     -999.0,9,         23,-999.000,-999.000,-999.000,     -999.0,9, -999.00,9, -999.00,9
33RO200306_01,       A16N,     023,          1,          3,          3,2,20030624,       1311,    54.0002,   -19.9983,       1417,  1250.4,   4.1991,  34.9689,2,  34.9701,2,    257.6,2,   258.9,2,   11.85,2,   17.68,2,    0.01,2,    1.09,2,   2.608,2,   1.286,2,   0.145,2,  2164.5,2,  2301.8,2,   -999.0,9,  -999.00,   7.7167,2,    25.00,-999.000,9,-999.000,9,-999.000,9, -999.00,9,  -999.0,9,  -999.0,-999.000,9,-999.000,-999.000,9,   44.96,2,   22.02,2, 1250.40,-999.0000,9,-999.0000,9,-999.0000,9,-999.0000,9,-999.0000,9,-999.0000,9,   4.0993,     -999.0,9,     -999.0,9,     -999.0,9,     -999.0,9,         23,-999.000,-999.000,-999.000,     -999.0,9, -999.00,9, -999.00,9
33RO200306_01,       A16N,     023,          1,          2,          2,2,20030624,       1311,    54.0002,   -19.9983,       1417,  1352.1,   3.8222,  34.9439,2,  34.9462,2,    266.6,2,   265.7,2,   12.37,2,   17.42,2,    0.01,2,    1.08,2,   2.558,2,   1.259,2,   0.143,2,  2161.0,2,  2302.7,2,    769.6,2,    20.00,   7.7188,2,    25.00,   1.168,2,   1.812,2,   6.884,2, -999.00,9,  -999.0,9,  -999.0,   7.753,2,   0.068,-999.000,9,   45.93,2,   23.18,2, 1352.10,-999.0000,9,-999.0000,9,-999.0000,9,-999.0000,9,-999.0000,9,-999.0000,9,   3.7172,     -999.0,9,     -999.0,9,     -999.0,9,     -999.0,9,         23,   0.003,   0.183,   0.020,     -999.0,9, -999.00,9, -999.00,9
33RO200306_01,       A16N,     023,          1,          1,          1,2,20030624,       1311,    54.0002,   -19.9983,       1417,  1417.7,   3.7265,  34.9374,2,  34.9390,2,    270.1,2,   268.2,2,   12.59,2,   17.35,2,    0.01,2,    1.09,2,   2.502,2,   1.224,2,   0.137,2,  2160.7,6,  2303.0,2,    765.1,2,    20.00,   7.7234,2,    25.00,-999.000,9,-999.000,9,-999.000,9, -999.00,9,  -999.0,9,  -999.0,-999.000,9,-999.000,-999.000,9,   45.12,2,   21.38,2, 1417.70,-999.0000,9,-999.0000,9,-999.0000,9,-999.0000,9,-999.0000,9,-999.0000,9,   3.6168,     -999.0,9,     -999.0,9,     -999.0,9,     -999.0,9,         23,-999.000,-999.000,-999.000,     -999.0,9, -999.00,9, -999.00,9