BOTTLE,20230908CCHSIOCBG
EXPOCODE,SECT_ID,STNNBR,CASTNO,SAMPNO,BTLNBR,BTLNBR_FLAG_W,DATE,TIME,LATITUDE,LONGITUDE,DEPTH,CTDPRS,CTDTMP,CTDSAL,CTDSAL_FLAG_W,SALNTY,SALNTY_FLAG_W,CTDOXY,CTDOXY_FLAG_W,OXYGEN,OXYGEN_FLAG_W,SILCAT,SILCAT_FLAG_W,NITRAT,NITRAT_FLAG_W,NITRIT,NITRIT_FLAG_W,PHSPHT,PHSPHT_FLAG_W,CFC-11,CFC-11_FLAG_W,CFC-12,CFC-12_FLAG_W,CFC113,CFC113_FLAG_W,TCARBN,TCARBN_FLAG_W,ALKALI,ALKALI_FLAG_W,FCO2,FCO2_FLAG_W,FCO2TMP,PH_SWS,PH_SWS_FLAG_W,PH_TMP,TRITUM,TRITUM_FLAG_W,HELIUM,HELIUM_FLAG_W,DELHE3,DELHE3_FLAG_W,DELC13,DELC13_FLAG_W,DELC14,DELC14_FLAG_W,C14ERR,NEON,NEON_FLAG_W,NEONER,POC,POC_FLAG_W,DOC,DOC_FLAG_W,TDN,TDN_FLAG_W,CTDRAW,CDOM325,CDOM325_FLAG_W,CDOM340,CDOM340_FLAG_W,CDOM380,CDOM380_FLAG_W,CDOM412,CDOM412_FLAG_W,CDOMSL,CDOMSL_FLAG_W,CDOMSN,CDOMSN_FLAG_W,THETA,PON,PON_FLAG_W,HCFC-22,HCFC-22_FLAG_W,HCFC-142b,HCFC-142b_FLAG_W,HCFC-141b,HCFC-141b_FLAG_W,STNNBR_U,HELIER,DELHER,TRITER,CH3CL,CH3CL_FLAG_W,CH3BR,CH3BR_FLAG_W,CH3I,CH3I_FLAG_W
,,,,,,,,,,,METERS,DBAR,ITS-90,PSS-78,,PSS-78,,UMOL/KG,,UMOL/KG,,UMOL/KG,,UMOL/KG,,UMOL/KG,,UMOL/KG,,PMOL/KG,,PMOL/KG,,PMOL/KG,,UMOL/KG,,UMOL/KG,,UATM,,DEG C,,,DEG C,TU,,NMOL/KG,,PERCNT,,/MILLE,,/MILLE,,/MILLE,NMOL/KG,,NMOL/KG,UG/KG,,UMOL/KG,,UMOL/KG,,DBAR,1/M,,1/M,,1/M,,1/M,,1/NM,,1/NM,,DEG C,UMOL/L,,PMOL/KG,,PMOL/KG,,PMOL/KG,,,NMOL/KG,PERCNT,TU,PMOL/KG,,PMOL/KG,,PMOL/KG,
33RO200306_02,       A16N,     091,          1,         35,         35,2,20030722,       2126,    20.4995,   -28.7205,       5149,     3.3,  25.0282,  36.5388,2,  36.5394,2,    216.9,2,   210.6,2,    0.47,2,    0.07,2,    0.01,2,    0.13,2,   1.849,2,   1.183,2,   0.160,2,  2065.0,6,  2391.1,6,   -999.0,9,  -999.00,   8.0483,6,    25.00,-999.000,9,-999.000,9,-999.000,9, -999.00,9,  -999.0,9,  -999.0,-999.000,9,-999.000,-999.000,9, -999.00,9, -999.00,9,    3.30,-999.0000,9,-999.0000,9,-999.0000,9,-999.0000,9,-999.0000,9,-999.0000,9,  25.0275,     -999.0,9,     -999.0,9,     -999.0,9,     -999.0,9,         91,-999.000,-999.000,-999.000,     -999.0,9, -999.00,9, -999.00,9
33RO200306_02,       A16N,     091,          1,         33,         33,2,20030722,       2126,    20.4995,   -28.7205,       5149,     8.9,  25.0300,  36.5384,2,  36.5384,2,    216.6,2,   210.6,2,    0.48,2,    0.08,2,    0.01,2,    0.13,2,-999.000,9,-999.000,9,-999.000,9,  -999.0,9,  -999.0,9,   -999.0,9,  -999.00,-999.0000,9,  -999.00,-999.000,9,-999.000,9,-999.000,9, -999.00,9,  -999.0,9,  -999.0,-999.000,9,-999.000,-999.000,9, -999.00,9, -999.00,9,    8.90,-999.0000,9,-999.0000,9,-999.0000,9,-999.0000,9,-999.0000,9,-999.0000,9,  25.0281,     -999.0,9,     -999.0,9,     -999.0,9,     -999.0,9,         91,-999.000,-999.000,-999.000,     -999.0,9, -999.00,9, -999.00,9
33RO200306_02,       A16N,     091,          1,         32,         32,2,20030722,       2126,    20.4995,   -28.7205,       5149,    28.8,  24.9432,  36.5358,2,  36.5464,2,    216.1,2,   211.3,2,    0.52,2,    0.11,2,    0.01,2,    0.13,2,-999.000,9,-999.000,9,-999.000,9,  -999.0,9,  -999.0,9,   -999.0,9,  -999.00,-999.0000,9,  -999.00,-999.000,9,-999.000,9,-999.000,9, -999.00,9,  -999.0,9,  -999.0,-999.000,9,-999.000,-999.000,9, -999.00,9, -999.00,9,   28.80,-999.0000,9,-999.0000,9,-999.0000,9,-999.0000,9,-999.0000,9,-999.0000,9,  24.9369,     -999.0,9,     -999.0,9,     -999.0,9,     -999.0,9,         91,-999.000,-999.000,-999.000,     -999.0,9, -999.00,9, -999.00,9
33RO200306_02,       A16N,     091,          1,         31,         31,2,20030722,       2126,    20.4995,   -28.7205,       5149,    50.0,  22.7760,  36.6268,2,  36.6704,2,    226.2,2,   236.0,2,    0.54,2,    0.34,3,    0.01,2,    0.16,3,   2.060,2,   1.296,2,   0.171,2,  -999.0,9,  -999.0,9,   -999.0,9,  -999.00,-999.0000,9,  -999.00,-999.000,9,-999.000,9,-999.000,9, -999.00,9,  -999.0,9,  -999.0,-999.000,9,-999.000,-999.000,9, -999.00,9, -999.00,9,   50.00,-999.0000,9,-999.0000,9,-999.0000,9,-999.0000,9,-999.0000,9,-999.0000,9,  22.7658,     -999.0,9,     -999.0,9,     -999.0,9,     -999.0,9,         91,-999.000,-999.000,-999.000,     -999.0,9, -999.00,9, -999.00,9
33RO200306_02,       A16N,     091,          1,         30,         30,2,20030722,       2126,    20.4995,   -28.7205,       5149,    70.5,  22.1554,  36.8155,2,  36.8422,2,    218.4,2,   219.6,2,    0.55,2,    0.10,2,    0.01,2,    0.13,2,-999.000,9,-999.000,9,-999.000,9,  -999.0,9,  -999.0,9,   -999.0,9,  -999.00,-999.0000,9,  -999.00,-999.000,9,-999.000,9,-999.000,9, -999.00,9,  -999.0,9,  -999.0,-999.000,9,-999.000,-999.000,9, -999.00,9, -999.00,9,   70.50,-999.0000,9,-999.0000,9,-999.0000,9,-999.0000,9,-999.0000,9,-999.0000,9,  22.1413,     -999.0,9,     -999.0,9,     -999.0,9,     -999.0,9,         91,-999.000,-999.000,-999.000,     -999.0,9, -999.00,9, -999.00,9
33RO200306_02,       A16N,     091,          1,         29,         29,2,20030722,       2126,    20.4995,   -28.7205,       5149,    79.4,  22.2218,  36.9494,2,  36.9486,2,    219.1,2,   217.2,2,    0.53,2,    0.12,2,    0.01,2,    0.12,2,-999.000,9,-999.000,9,-999.000,9,  -999.0,9,  -999.0,9,   -999.0,9,  -999.00,-999.0000,9,  -999.00,-999.000,9,-999.000,9,-999.000,9, -999.00,9,  -999.0,9,  -999.0,-999.000,9,-999.000,-999.000,9, -999.00,9, -999.00,9,   79.40,-999.0000,9,-999.0000,9,-999.0000,9,-999.0000,9,-999.0000,9,-999.0000,9,  22.2059,     -999.0,9,     -999.0,9,     -999.0,9,     -999.0,9,         91,-999.000,-999.000,-999.000,     -999.0,9, -999.00,9, -999.00,9
33RO200306_02,       A16N,     091,          1,         28,         28,2,20030722,       2126,    20.4995,   -28.7205,       5149,   109.2,  21.5644,  36.9902,2,  36.9833,2,    207.2,2,   200.5,2,    0.71,2,    1.19,2,    0.14,2,    0.18,2,-999.000,9,-999.000,9,-999.000,9,  -999.0,9,  -999.0,9,   -999.0,9,  -999.00,-999.0000,9,  -999.00,-999.000,9,-999.000,9,-999.000,9, -999.00,9,  -999.0,9,  -999.0,-999.000,9,-999.000,-999.000,9, -999.00,9, -999.00,9,  109.20,-999.0000,9,-999.0000,9,-999.0000,9,-999.0000,9,-999.0000,9,-999.0000,9,  21.5429,     -999.0,9,     -999.0,9,     -999.0,9,     -999.0,9,         91,-999.000,-999.000,-999.000,     -999.0,9, -999.00,9, -999.00,9
33RO200306_02,       A16N,     091,          1,         27,         27,2,20030722,       2126,    20.4995,   -28.7205,       5149,   134.3,  20.5754,  36.9206,2,  36.8644,2,    176.9,2,   178.9,2,    1.28,2,    4.70,2,    0.05,2,    0.34,2,   2.177,2,   1.349,2,   0.140,2,  -999.0,9,  -999.0,9,   -999.0,9,  -999.00,-999.0000,9,  -999.00,-999.000,9,-999.000,9,-999.000,9, -999.00,9,  -999.0,9,  -999.0,-999.000,9,-999.000,-999.000,9, -999.00,9, -999.00,9,  134.30,-999.0000,9,-999.0000,9,-999.0000,9,-999.0000,9,-999.0000,9,-999.0000,9,  20.5498,     -999.0,9,     -999.0,9,     -999.0,9,     -999.0,9,         91,-999.000,-999.000,-999.000,     -999.0,9, -999.00,9, -999.00,9
33RO200306_02,       A16N,     091,          1,         26,         26,2,20030722,       2126,    20.4995,   -28.7205,       5149,   160.5,  18.1866,  36.4899,2,  36.4855,2,    143.9,2,   147.5,2,    2.61,2,   10.04,2,    0.02,2,    0.63,2,-999.000,9,-999.000,9,-999.000,9,  -999.0,9,  -999.0,9,   -999.0,9,  -999.00,-999.0000,9,  -999.00,-999.000,9,-999.000,9,-999.000,9, -999.00,9,  -999.0,9,  -999.0,-999.000,9,-999.000,-999.000,9, -999.00,9, -999.00,9,  160.50,-999.0000,9,-999.0000,9,-999.0000,9,-999.0000,9,-999.0000,9,-999.0000,9,  18.1586,     -999.0,9,     -999.0,9,     -999.0,9,     -999.0,9,         91,-999.000,-999.000,-999.000,     -999.0,9, -999.00,9, -999.00,9
33RO200306_02,       A16N,     091,          1,         25,         25,2,20030722,       2126,    20.4995,   -28.7205,       5149,   184.9,  17.5879,  36.4538,2,  36.4453,2,    169.3,2,   170.4,2,    2.19,2,    7.88,2,    0.02,2,    0.47,2,-999.000,9,-999.000,9,-999.000,9,  -999.0,9,  -999.0,9,   -999.0,9,  -999.00,-999.0000,9,  -999.00,-999.000,9,-999.000,9,-999.000,9, -999.00,9,  -999.0,9,  -999.0,-999.000,9,-999.000,-999.000,9, -999.00,9, -999.00,9,  184.90,-999.0000,9,-999.0000,9,-999.0000,9,-999.0000,9,-999.0000,9,-999.0000,9,  17.5564,     -999.0,9,     -999.0,9,     -999.0,9,     -999.0,9,         91,-999.000,-999.000,-999.000,     -999.0,9, -999.00,9, -999.00,9
33RO200306_02,       A16N,     091,          1,         24,         24,2,20030722,       2126,    20.4995,   -28.7205,       5149,   224.2,  16.2575,  36.2049,2,  36.2051,2,    150.6,2,   147.9,2,    3.60,2,   12.34,2,    0.02,2,    0.75,2,-999.000,9,-999.000,9,-999.000,9,  -999.0,9,  -999.0,9,   -999.0,9,  -999.00,-999.0000,9,  -999.00,-999.000,9,-999.000,9,-999.000,9, -999.00,9,  -999.0,9,  -999.0,-999.000,9,-999.000,-999.000,9, -999.00,9, -999.00,9,  224.20,-999.0000,9,-999.0000,9,-999.0000,9,-999.0000,9,-999.0000,9,-999.0000,9,  16.2213,     -999.0,9,     -999.0,9,     -999.0,9,     -999.0,9,         91,-999.000,-999.000,-999.000,     -999.0,9, -999.00,9, -999.00,9
33RO200306_02,       A16N,     091,          1,         23,         23,2,20030722,       2126,    20.4995,   -28.7205,       5149,   275.2,  15.0645,  36.0213,2,  36.0180,2,    140.4,2,   141.5,2,    4.66,2,   14.84,2,    0.01,2,    0.89,2,   2.209,2,   1.265,2,   0.023,2,  -999.0,9,  -999.0,9,   -999.0,9,  -999.00,-999.0000,9,  -999.00,-999.000,9,-999.000,9,-999.000,9, -999.00,9,  -999.0,9,  -999.0,-999.000,9,-999.000,-999.000,9, -999.00,9, -999.00,9,  275.20,-999.0000,9,-999.0000,9,-999.0000,9,-999.0000,9,-999.0000,9,-999.0000,9,  15.0223,     -999.0,9,     -999.0,9,     -999.0,9,     -999.0,9,         91,-999.000,-999.000,-999.000,     -999.0,9, -999.00,9, -999.00,9
33RO200306_02,       A16N,     091,          1,         22,         22,2,20030722,       2126,    20.4995,   -28.7205,       5149,   325.0,  14.1644,  35.8877,2,  35.8859,2,    132.1,2,   132.0,2,    5.73,2,   17.25,2,    0.01,2,    1.03,2,-999.000,9,-999.000,9,-999.000,9,  -999.0,9,  -999.0,9,   -999.0,9,  -999.00,-999.0000,9,  -999.00,-999.000,9,-999.000,9,-999.000,9, -999.00,9,  -999.0,9,  -999.0,-999.000,9,-999.000,-999.000,9, -999.00,9, -999.00,9,  325.00,-999.0000,9,-999.0000,9,-999.0000,9,-999.0000,9,-999.0000,9,-999.0000,9,  14.1165,     -999.0,9,     -999.0,9,     -999.0,9,     -999.0,9,         91,-999.000,-999.000,-999.000,     -999.0,9, -999.00,9, -999.00,9
33RO200306_02,       A16N,     091,          1,         21,         21,2,20030722,       2126,    20.4995,   -28.7205,       5149,   375.4,  13.1249,  35.7203,2,  35.7180,2,    111.8,2,   109.5,2,    7.57,2,   21.38,2,    0.01,2,    1.27,2,-999.000,9,-999.000,9,-999.000,9,  -999.0,9,  -999.0,9,   -999.0,9,  -999.00,-999.0000,9,  -999.00,-999.000,9,-999.000,9,-999.000,9, -999.00,9,  -999.0,9,  -999.0,-999.000,9,-999.000,-999.000,9, -999.00,9, -999.00,9,  375.40,-999.0000,9,-999.0000,9,-999.0000,9,-999.0000,9,-999.0000,9,-999.0000,9,  13.0722,     -999.0,9,     -999.0,9,     -999.0,9,     -999.0,9,         91,-999.000,-999.000,-999.000,     -999.0,9, -999.00,9, -999.00,9
33RO200306_02,       A16N,     091,          1,         20,         20,2,20030722,       2126,    20.4995,   -28.7205,       5149,   424.3,  12.2310,  35.6014,2,  35.6010,2,    106.1,2,   107.1,2,    8.80,2,   23.21,2,    0.01,2,    1.39,2,-999.000,9,-999.000,9,-999.000,9,  -999.0,9,  -999.0,9,   -999.0,9,  -999.00,-999.0000,9,  -999.00,-999.000,9,-999.000,9,-999.000,9, -999.00,9,  -999.0,9,  -999.0,-999.000,9,-999.000,-999.000,9, -999.00,9, -999.00,9,  424.30,-999.0000,9,-999.0000,9,-999.0000,9,-999.0000,9,-999.0000,9,-999.0000,9,  12.1741,     -999.0,9,     -999.0,9,     -999.0,9,     -999.0,9,         91,-999.000,-999.000,-999.000,     -999.0,9, -999.00,9, -999.00,9
33RO200306_02,       A16N,     091,          1,         19,         19,2,20030722,       2126,    20.4995,   -28.7205,       5149,   475.4,  11.5915,  35.5128,2,  35.5095,2,    102.5,2,   103.6,2,   10.07,2,   24.94,2,    0.01,2,    1.49,2,   1.237,2,   0.652,2,   0.014,2,  -999.0,9,  -999.0,9,   -999.0,9,  -999.00,-999.0000,9,  -999.00,-999.000,9,-999.000,9,-999.000,9, -999.00,9,  -999.0,9,  -999.0,-999.000,9,-999.000,-999.000,9, -999.00,9, -999.00,9,  475.40,-999.0000,9,-999.0000,9,-999.0000,9,-999.0000,9,-999.0000,9,-999.0000,9,  11.5298,     -999.0,9,     -999.0,9,     -999.0,9,     -999.0,9,         91,-999.000,-999.000,-999.000,     -999.0,9, -999.00,9, -999.00,9
33RO200306_02,       A16N,     091,          1,         18,         18,2,20030722,       2126,    20.4995,   -28.7205,       5149,   549.8,  10.3060,  35.3330,2,  35.3230,2,     90.1,2,    92.3,2,   13.24,2,   28.41,2,    0.01,2,    1.73,2,-999.000,9,-999.000,9,-999.000,9,  -999.0,9,  -999.0,9,   -999.0,9,  -999.00,-999.0000,9,  -999.00,-999.000,9,-999.000,9,-999.000,9, -999.00,9,  -999.0,9,  -999.0,-999.000,9,-999.000,-999.000,9, -999.00,9, -999.00,9,  549.80,-999.0000,9,-999.0000,9,-999.0000,9,-999.0000,9,-999.0000,9,-999.0000,9,  10.2396,     -999.0,9,     -999.0,9,     -999.0,9,     -999.0,9,         91,-999.000,-999.000,-999.000,     -999.0,9, -999.00,9, -999.00,9
33RO200306_02,       A16N,     091,          1,         17,         17,2,20030722,       2126,    20.4995,   -28.7205,       5149,   649.9,   8.9477,  35.1659,2,  35.1659,2,    100.4,2,    99.3,2,   16.37,2,   30.02,2,    0.01,2,    1.88,2,-999.000,9,-999.000,9,-999.000,9,  -999.0,9,  -999.0,9,   -999.0,9,  -999.00,-999.0000,9,  -999.00,-999.000,9,-999.000,9,-999.000,9, -999.00,9,  -999.0,9,  -999.0,-999.000,9,-999.000,-999.000,9, -999.00,9, -999.00,9,  649.90,-999.0000,9,-999.0000,9,-999.0000,9,-999.0000,9,-999.0000,9,-999.0000,9,   8.8753,     -999.0,9,     -999.0,9,     -999.0,9,     -999.0,9,         91,-999.000,-999.000,-999.000,     -999.0,9, -999.00,9, -999.00,9
33RO200306_02,       A16N,     091,          1,         16,         16,2,20030722,       2126,    20.4995,   -28.7205,       5149,   743.2,   7.8300,  35.0258,2,  35.0241,2,    101.9,2,   100.7,2,   19.55,2,   31.94,2,    0.01,2,    2.04,2,-999.000,9,-999.000,9,-999.000,9,  -999.0,9,  -999.0,9,   -999.0,9,  -999.00,-999.0000,9,  -999.00,-999.000,9,-999.000,9,-999.000,9, -999.00,9,  -999.0,9,  -999.0,-999.000,9,-999.000,-999.000,9, -999.00,9, -999.00,9,  743.20,-999.0000,9,-999.0000,9,-999.0000,9,-999.0000,9,-999.0000,9,-999.0000,9,   7.7530,     -999.0,9,     -999.0,9,     -999.0,9,     -999.0,9,         91,-999.000,-999.000,-999.000,     -999.0,9, -999.00,9, -999.00,9
33RO200306_02,       A16N,     091,          1,         15,         15,2,20030722,       2126,    20.4995,   -28.7205,       5149,   849.7,   6.9468,  34.9654,2,  34.9650,2,    117.8,2,   117.1,2,   21.48,2,   31.47,2,    0.01,2,    2.05,2,   0.062,2,   0.033,2,   0.001,2,  -999.0,9,  -999.0,9,   -999.0,9,  -999.00,-999.0000,9,  -999.00,-999.000,9,-999.000,9,-999.000,9, -999.00,9,  -999.0,9,  -999.0,-999.000,9,-999.000,-999.000,9, -999.00,9, -999.00,9,  849.70,-999.0000,9,-999.0000,9,-999.0000,9,-999.0000,9,-999.0000,9,-999.0000,9,   6.8639,     -999.0,9,     -999.0,9,     -999.0,9,     -999.0,9,         91,-999.000,-999.000,-999.000,     -999.0,9, -999.00,9, -999.00,9
33RO200306_02,       A16N,     091,          1,         14,         14,2,20030722,       2126,    20.4995,   -28.7205,       5149,   949.6,   6.4459,  34.9511,2,  34.9504,2,    131.7,2,   131.7,2,   22.24,2,   30.63,2,    0.01,2,    2.01,2,-999.000,9,-999.000,9,-999.000,9,  -999.0,9,  -999.0,9,   -999.0,9,  -999.00,-999.0000,9,  -999.00,-999.000,9,-999.000,9,-999.000,9, -999.00,9,  -999.0,9,  -999.0,-999.000,9,-999.000,-999.000,9, -999.00,9, -999.00,9,  949.60,-999.0000,9,-999.0000,9,-999.0000,9,-999.0000,9,-999.0000,9,-999.0000,9,   6.3561,     -999.0,9,     -999.0,9,     -999.0,9,     -999.0,9,         91,-999.000,-999.000,-999.000,     -999.0,9, -999.00,9, -999.00,9
33RO200306_02,       A16N,     091,          1,         13,         13,2,20030722,       2126,    20.4995,   -28.7205,       5149,  1050.4,   6.0832,  34.9717,2,  34.9710,2,    147.0,2,   149.3,2,   22.08,2,   29.11,2,    0.01,2,    1.92,2,-999.000,9,-999.000,9,-999.000,9,  -999.0,9,  -999.0,9,   -999.0,9,  -999.00,-999.0000,9,  -999.00,-999.000,9,-999.000,9,-999.000,9, -999.00,9,  -999.0,9,  -999.0,-999.000,9,-999.000,-999.000,9, -999.00,9, -999.00,9, 1050.40,-999.0000,9,-999.0000,9,-999.0000,9,-999.0000,9,-999.0000,9,-999.0000,9,   5.9860,     -999.0,9,     -999.0,9,     -999.0,9,     -999.0,9,         91,-999.000,-999.000,-999.000,     -999.0,9, -999.00,9, -999.00,9
33RO200306_02,       A16N,     091,          1,         12,         12,2,20030722,       2126,    20.4995,   -28.7205,       5149,  1149.7,   5.8607,  35.0173,2,  35.0167,2,    160.5,2,   160.6,2,   21.41,2,   27.42,2,    0.01,2,    1.82,2,-999.000,9,-999.000,9,-999.000,9,  -999.0,9,  -999.0,9,   -999.0,9,  -999.00,-999.0000,9,  -999.00,-999.000,9,-999.000,9,-999.000,9, -999.00,9,  -999.0,9,  -999.0,-999.000,9,-999.000,-999.000,9, -999.00,9, -999.00,9, 1149.70,-999.0000,9,-999.0000,9,-999.0000,9,-999.0000,9,-999.0000,9,-999.0000,9,   5.7553,     -999.0,9,     -999.0,9,     -999.0,9,     -999.0,9,         91,-999.000,-999.000,-999.000,     -999.0,9, -999.00,9, -999.00,9
33RO200306_02,       A16N,     091,          1,         11,         11,2,20030722,       2126,    20.4995,   -28.7205,       5149,  1299.5,   5.4631,  35.0557,2,  35.0565,2,    179.8,2,   180.9,2,   20.63,2,   25.27,2,    0.01,2,    1.68,2,   0.027,2,   0.015,2,   0.003,2,  -999.0,9,  -999.0,9,   -999.0,9,  -999.00,-999.0000,9,  -999.00,-999.000,9,-999.000,9,-999.000,9, -999.00,9,  -999.0,9,  -999.0,-999.000,9,-999.000,-999.000,9, -999.00,9, -999.00,9, 1299.50,-999.0000,9,-999.0000,9,-999.0000,9,-999.0000,9,-999.0000,9,-999.0000,9,   5.3464,     -999.0,9,     -999.0,9,     -999.0,9,     -999.0,9,         91,-999.000,-999.000,-999.000,     -999.0,9, -999.00,9, -999.00,9
33RO200306_02,       A16N,     091,          1,         10,         10,2,20030722,       2126,    20.4995,   -28.7205,       5149,  1499.4,   4.8741,  35.0533,2,  35.0531,2,    203.0,2,   201.4,2,   20.67,2,   22.22,2,    0.01,2,    1.58,2,-999.000,9,-999.000,9,-999.000,9,  -999.0,9,  -999.0,9,   -999.0,9,  -999.00,-999.0000,9,  -999.00,-999.000,9,-999.000,9,-999.000,9, -999.00,9,  -999.0,9,  -999.0,-999.000,9,-999.000,-999.000,9, -999.00,9, -999.00,9, 1499.40,-999.0000,9,-999.0000,9,-999.0000,9,-999.0000,9,-999.0000,9,-999.0000,9,   4.7439,     -999.0,9,     -999.0,9,     -999.0,9,     -999.0,9,         91,-999.000,-999.000,-999.000,     -999.0,9, -999.00,9, -999.00,9
33RO200306_02,       A16N,     091,          1,          9,          9,2,20030722,       2126,    20.4995,   -28.7205,       5149,  1699.6,   4.4008,  35.0435,2,  35.0427,2,    217.5,2,   219.3,2,   20.99,2,   21.74,2,    0.01,2,    1.49,2,   0.004,2,   0.003,2,   0.000,2,  -999.0,9,  -999.0,9,   -999.0,9,  -999.00,-999.0000,9,  -999.00,-999.000,9,-999.000,9,-999.000,9, -999.00,9,  -999.0,9,  -999.0,-999.000,9,-999.000,-999.000,9, -999.00,9, -999.00,9, 1699.60,-999.0000,9,-999.0000,9,-999.0000,9,-999.0000,9,-999.0000,9,-999.0000,9,   4.2569,     -999.0,9,     -999.0,9,     -999.0,9,     -999.0,9,         91,-999.000,-999.000,-999.000,     -999.0,9, -999.00,9, -999.00,9
33RO200306_02,       A16N,     091,          1,          8,          8,2,20030722,       2126,    20.4995,   -28.7205,       5149,  1898.9,   3.9076,  35.0100,2,  35.0100,2,    229.1,2,   229.1,2,   22.85,2,   21.17,2,    0.01,2,    1.47,2,-999.000,9,-999.000,9,-999.000,9,  -999.0,9,  -999.0,9,   -999.0,9,  -999.00,-999.0000,9,  -999.00,-999.000,9,-999.000,9,-999.000,9, -999.00,9,  -999.0,9,  -999.0,-999.000,9,-999.000,-999.000,9, -999.00,9, -999.00,9, 1898.90,-999.0000,9,-999.0000,9,-999.0000,9,-999.0000,9,-999.0000,9,-999.0000,9,   3.7511,     -999.0,9,     -999.0,9,     -999.0,9,     -999.0,9,         91,-999.000,-999.000,-999.000,     -999.0,9, -999.00,9, -999.00,9