BOTTLE,20230908CCHSIOCBG
EXPOCODE,SECT_ID,STNNBR,CASTNO,SAMPNO,BTLNBR,BTLNBR_FLAG_W,DATE,TIME,LATITUDE,LONGITUDE,DEPTH,CTDPRS,CTDTMP,CTDSAL,CTDSAL_FLAG_W,SALNTY,SALNTY_FLAG_W,CTDOXY,CTDOXY_FLAG_W,OXYGEN,OXYGEN_FLAG_W,SILCAT,SILCAT_FLAG_W,NITRAT,NITRAT_FLAG_W,NITRIT,NITRIT_FLAG_W,PHSPHT,PHSPHT_FLAG_W,CFC-11,CFC-11_FLAG_W,CFC-12,CFC-12_FLAG_W,CFC113,CFC113_FLAG_W,TCARBN,TCARBN_FLAG_W,ALKALI,ALKALI_FLAG_W,FCO2,FCO2_FLAG_W,FCO2TMP,PH_SWS,PH_SWS_FLAG_W,PH_TMP,TRITUM,TRITUM_FLAG_W,HELIUM,HELIUM_FLAG_W,DELHE3,DELHE3_FLAG_W,DELC13,DELC13_FLAG_W,DELC14,DELC14_FLAG_W,C14ERR,NEON,NEON_FLAG_W,NEONER,POC,POC_FLAG_W,DOC,DOC_FLAG_W,TDN,TDN_FLAG_W,CTDRAW,CDOM325,CDOM325_FLAG_W,CDOM340,CDOM340_FLAG_W,CDOM380,CDOM380_FLAG_W,CDOM412,CDOM412_FLAG_W,CDOMSL,CDOMSL_FLAG_W,CDOMSN,CDOMSN_FLAG_W,THETA,PON,PON_FLAG_W,HCFC-22,HCFC-22_FLAG_W,HCFC-142b,HCFC-142b_FLAG_W,HCFC-141b,HCFC-141b_FLAG_W,STNNBR_U,HELIER,DELHER,TRITER,CH3CL,CH3CL_FLAG_W,CH3BR,CH3BR_FLAG_W,CH3I,CH3I_FLAG_W
,,,,,,,,,,,METERS,DBAR,ITS-90,PSS-78,,PSS-78,,UMOL/KG,,UMOL/KG,,UMOL/KG,,UMOL/KG,,UMOL/KG,,UMOL/KG,,PMOL/KG,,PMOL/KG,,PMOL/KG,,UMOL/KG,,UMOL/KG,,UATM,,DEG C,,,DEG C,TU,,NMOL/KG,,PERCNT,,/MILLE,,/MILLE,,/MILLE,NMOL/KG,,NMOL/KG,UG/KG,,UMOL/KG,,UMOL/KG,,DBAR,1/M,,1/M,,1/M,,1/M,,1/NM,,1/NM,,DEG C,UMOL/L,,PMOL/KG,,PMOL/KG,,PMOL/KG,,,NMOL/KG,PERCNT,TU,PMOL/KG,,PMOL/KG,,PMOL/KG,
33RO200306_01,       A16N,     034,          1,         35,         35,2,20030627,       1204,    48.5000,   -19.9993,       4046,     2.9,  14.1380,  35.5651,2,-999.0000,9,    261.3,2,   263.2,2, -999.00,9, -999.00,9, -999.00,9, -999.00,9,-999.000,9,-999.000,9,-999.000,9,  -999.0,9,  -999.0,9,   -999.0,9,  -999.00,-999.0000,9,  -999.00,-999.000,9,-999.000,9,-999.000,9, -999.00,9,  -999.0,9,  -999.0,-999.000,9,-999.000,-999.000,9, -999.00,9, -999.00,9,    2.90,-999.0000,9,-999.0000,9,-999.0000,9,-999.0000,9,-999.0000,9,-999.0000,9,  14.1376,     -999.0,9,     -999.0,9,     -999.0,9,     -999.0,9,         34,-999.000,-999.000,-999.000,     -999.0,9, -999.00,9, -999.00,9
33RO200306_01,       A16N,     034,          1,         33,         33,2,20030627,       1204,    48.5000,   -19.9993,       4046,     3.0,  14.1361,  35.5651,2,  35.5663,2,    261.3,2,   262.6,2,    0.11,2,    2.20,2,    0.07,2,    0.18,2,-999.000,9,-999.000,9,-999.000,9,  2072.3,6,  -999.0,9,    401.9,2,    20.00,-999.0000,9,  -999.00,-999.000,9,-999.000,9,-999.000,9, -999.00,9,  -999.0,9,  -999.0,-999.000,9,-999.000,  13.428,2, -999.00,9, -999.00,9,    3.00,-999.0000,9,-999.0000,9,-999.0000,9,-999.0000,9,-999.0000,9,-999.0000,9,  14.1357,      2.007,2,     -999.0,9,     -999.0,9,     -999.0,9,         34,-999.000,-999.000,-999.000,     -999.0,9, -999.00,9, -999.00,9
33RO200306_01,       A16N,     034,          1,         32,         32,2,20030627,       1204,    48.5000,   -19.9993,       4046,    20.9,  13.9274,  35.5627,2,  35.5643,2,    260.8,2,   264.2,2,    0.13,2,    2.37,2,    0.08,2,    0.20,2,-999.000,9,-999.000,9,-999.000,9,  -999.0,9,  -999.0,9,   -999.0,9,  -999.00,-999.0000,9,  -999.00,-999.000,9,-999.000,9,-999.000,9, -999.00,9,  -999.0,9,  -999.0,-999.000,9,-999.000,   0.404,2, -999.00,9, -999.00,9,   20.90,-999.0000,9,-999.0000,9,-999.0000,9,-999.0000,9,-999.0000,9,-999.0000,9,  13.9244,      0.071,2,     -999.0,9,     -999.0,9,     -999.0,9,         34,-999.000,-999.000,-999.000,     -999.0,9, -999.00,9, -999.00,9
33RO200306_01,       A16N,     034,          1,         31,         31,2,20030627,       1204,    48.5000,   -19.9993,       4046,    40.5,  12.5524,  35.5682,2,  35.5714,2,    260.6,2,   258.6,2,    0.39,2,    4.64,2,    0.15,2,    0.38,2,-999.000,9,-999.000,9,-999.000,9,  -999.0,9,  -999.0,9,   -999.0,9,  -999.00,-999.0000,9,  -999.00,-999.000,9,-999.000,9,-999.000,9, -999.00,9,  -999.0,9,  -999.0,-999.000,9,-999.000,   6.278,2, -999.00,9, -999.00,9,   40.50,-999.0000,9,-999.0000,9,-999.0000,9,-999.0000,9,-999.0000,9,-999.0000,9,  12.5470,      0.986,2,     -999.0,9,     -999.0,9,     -999.0,9,         34,-999.000,-999.000,-999.000,     -999.0,9, -999.00,9, -999.00,9
33RO200306_01,       A16N,     034,          1,         30,         30,2,20030627,       1204,    48.5000,   -19.9993,       4046,    60.9,  12.2143,  35.5949,2,  35.5867,2,    250.5,2,   249.0,2,    1.64,2,    6.99,2,    0.34,2,    0.51,2,-999.000,9,-999.000,9,-999.000,9,  -999.0,9,  -999.0,9,   -999.0,9,  -999.00,-999.0000,9,  -999.00,-999.000,9,-999.000,9,-999.000,9, -999.00,9,  -999.0,9,  -999.0,-999.000,9,-999.000,   2.975,2, -999.00,9, -999.00,9,   60.90,-999.0000,9,-999.0000,9,-999.0000,9,-999.0000,9,-999.0000,9,-999.0000,9,  12.2063,      0.462,2,     -999.0,9,     -999.0,9,     -999.0,9,         34,-999.000,-999.000,-999.000,     -999.0,9, -999.00,9, -999.00,9
33RO200306_01,       A16N,     034,          1,         29,         29,2,20030627,       1204,    48.5000,   -19.9993,       4046,    79.1,  12.1022,  35.6295,2,  35.6298,2,    245.7,2,   242.7,2,    2.94,2,    9.34,2,    0.07,2,    0.57,2,-999.000,9,-999.000,9,-999.000,9,  -999.0,9,  -999.0,9,   -999.0,9,  -999.00,-999.0000,9,  -999.00,-999.000,9,-999.000,9,-999.000,9, -999.00,9,  -999.0,9,  -999.0,-999.000,9,-999.000,   2.203,2, -999.00,9, -999.00,9,   79.10,-999.0000,9,-999.0000,9,-999.0000,9,-999.0000,9,-999.0000,9,-999.0000,9,  12.0918,      0.350,2,     -999.0,9,     -999.0,9,     -999.0,9,         34,-999.000,-999.000,-999.000,     -999.0,9, -999.00,9, -999.00,9
33RO200306_01,       A16N,     034,          1,         28,         28,2,20030627,       1204,    48.5000,   -19.9993,       4046,    99.5,  11.8701,  35.5920,2,  35.5887,2,    238.9,2,   245.1,2,    2.90,2,    9.58,2,    0.03,2,    0.59,2,-999.000,9,-999.000,9,-999.000,9,  -999.0,9,  -999.0,9,   -999.0,9,  -999.00,-999.0000,9,  -999.00,-999.000,9,-999.000,9,-999.000,9, -999.00,9,  -999.0,9,  -999.0,-999.000,9,-999.000,   1.766,2, -999.00,9, -999.00,9,   99.50,-999.0000,9,-999.0000,9,-999.0000,9,-999.0000,9,-999.0000,9,-999.0000,9,  11.8572,      0.346,2,     -999.0,9,     -999.0,9,     -999.0,9,         34,-999.000,-999.000,-999.000,     -999.0,9, -999.00,9, -999.00,9
33RO200306_01,       A16N,     034,          1,         27,         27,2,20030627,       1204,    48.5000,   -19.9993,       4046,   124.9,  11.5211,  35.5469,2,  35.5455,2,    239.3,2,   238.9,2,    3.85,2,   10.47,2,    0.02,2,    0.65,2,-999.000,9,-999.000,9,-999.000,9,  -999.0,9,  -999.0,9,   -999.0,9,  -999.00,-999.0000,9,  -999.00,-999.000,9,-999.000,9,-999.000,9, -999.00,9,  -999.0,9,  -999.0,-999.000,9,-999.000,-999.000,9, -999.00,9, -999.00,9,  124.90,-999.0000,9,-999.0000,9,-999.0000,9,-999.0000,9,-999.0000,9,-999.0000,9,  11.5052,     -999.0,9,     -999.0,9,     -999.0,9,     -999.0,9,         34,-999.000,-999.000,-999.000,     -999.0,9, -999.00,9, -999.00,9
33RO200306_01,       A16N,     034,          1,         26,         26,2,20030627,       1204,    48.5000,   -19.9993,       4046,   149.7,  11.3962,  35.5292,2,  35.5297,2,    238.7,2,   240.4,2,    3.95,2,   10.57,2,    0.02,2,    0.66,2,-999.000,9,-999.000,9,-999.000,9,  -999.0,9,  -999.0,9,   -999.0,9,  -999.00,-999.0000,9,  -999.00,-999.000,9,-999.000,9,-999.000,9, -999.00,9,  -999.0,9,  -999.0,-999.000,9,-999.000,-999.000,9, -999.00,9, -999.00,9,  149.70,-999.0000,9,-999.0000,9,-999.0000,9,-999.0000,9,-999.0000,9,-999.0000,9,  11.3772,     -999.0,9,     -999.0,9,     -999.0,9,     -999.0,9,         34,-999.000,-999.000,-999.000,     -999.0,9, -999.00,9, -999.00,9
33RO200306_01,       A16N,     034,          1,         25,         25,2,20030627,       1204,    48.5000,   -19.9993,       4046,   174.5,  11.2251,  35.5034,2,  35.5057,2,    238.7,2,   241.8,2,    4.15,2,   10.77,2,    0.02,2,    0.67,2,-999.000,9,-999.000,9,-999.000,9,  -999.0,9,  -999.0,9,   -999.0,9,  -999.00,-999.0000,9,  -999.00,-999.000,9,-999.000,9,-999.000,9, -999.00,9,  -999.0,9,  -999.0,-999.000,9,-999.000,-999.000,9, -999.00,9, -999.00,9,  174.50,-999.0000,9,-999.0000,9,-999.0000,9,-999.0000,9,-999.0000,9,-999.0000,9,  11.2032,     -999.0,9,     -999.0,9,     -999.0,9,     -999.0,9,         34,-999.000,-999.000,-999.000,     -999.0,9, -999.00,9, -999.00,9
33RO200306_01,       A16N,     034,          1,         24,         24,2,20030627,       1204,    48.5000,   -19.9993,       4046,   200.2,  11.1517,  35.4974,2,  35.4976,2,    241.6,2,   242.8,2,    4.15,2,   10.73,2,    0.02,2,    0.67,2,-999.000,9,-999.000,9,-999.000,9,  -999.0,9,  -999.0,9,   -999.0,9,  -999.00,-999.0000,9,  -999.00,-999.000,9,-999.000,9,-999.000,9, -999.00,9,  -999.0,9,  -999.0,-999.000,9,-999.000,-999.000,9, -999.00,9, -999.00,9,  200.20,-999.0000,9,-999.0000,9,-999.0000,9,-999.0000,9,-999.0000,9,-999.0000,9,  11.1267,     -999.0,9,     -999.0,9,     -999.0,9,     -999.0,9,         34,-999.000,-999.000,-999.000,     -999.0,9, -999.00,9, -999.00,9
33RO200306_01,       A16N,     034,          1,         23,         23,2,20030627,       1204,    48.5000,   -19.9993,       4046,   249.9,  10.9206,  35.4587,2,  35.4585,2,    240.6,2,   243.7,2,    4.41,2,   11.06,2,    0.01,2,    0.69,2,-999.000,9,-999.000,9,-999.000,9,  -999.0,9,  -999.0,9,   -999.0,9,  -999.00,-999.0000,9,  -999.00,-999.000,9,-999.000,9,-999.000,9, -999.00,9,  -999.0,9,  -999.0,-999.000,9,-999.000,-999.000,9, -999.00,9, -999.00,9,  249.90,-999.0000,9,-999.0000,9,-999.0000,9,-999.0000,9,-999.0000,9,-999.0000,9,  10.8897,     -999.0,9,     -999.0,9,     -999.0,9,     -999.0,9,         34,-999.000,-999.000,-999.000,     -999.0,9, -999.00,9, -999.00,9
33RO200306_01,       A16N,     034,          1,         22,         22,2,20030627,       1204,    48.5000,   -19.9993,       4046,   300.8,  10.7186,  35.4270,2,  35.4247,2,    241.0,2,   242.3,2,    4.63,2,   11.44,2,    0.01,2,    0.72,2,-999.000,9,-999.000,9,-999.000,9,  -999.0,9,  -999.0,9,   -999.0,9,  -999.00,-999.0000,9,  -999.00,-999.000,9,-999.000,9,-999.000,9, -999.00,9,  -999.0,9,  -999.0,-999.000,9,-999.000,-999.000,9, -999.00,9, -999.00,9,  300.80,-999.0000,9,-999.0000,9,-999.0000,9,-999.0000,9,-999.0000,9,-999.0000,9,  10.6818,     -999.0,9,     -999.0,9,     -999.0,9,     -999.0,9,         34,-999.000,-999.000,-999.000,     -999.0,9, -999.00,9, -999.00,9
33RO200306_01,       A16N,     034,          1,         21,         21,2,20030627,       1204,    48.5000,   -19.9993,       4046,   350.7,  10.2548,  35.3422,2,  35.3390,2,    240.2,2,   236.3,2,    5.43,2,   12.63,2,    0.01,2,    0.80,2,-999.000,9,-999.000,9,-999.000,9,  -999.0,9,  -999.0,9,   -999.0,9,  -999.00,-999.0000,9,  -999.00,-999.000,9,-999.000,9,-999.000,9, -999.00,9,  -999.0,9,  -999.0,-999.000,9,-999.000,-999.000,9, -999.00,9, -999.00,9,  350.70,-999.0000,9,-999.0000,9,-999.0000,9,-999.0000,9,-999.0000,9,-999.0000,9,  10.2130,     -999.0,9,     -999.0,9,     -999.0,9,     -999.0,9,         34,-999.000,-999.000,-999.000,     -999.0,9, -999.00,9, -999.00,9
33RO200306_01,       A16N,     034,          1,         20,         20,2,20030627,       1204,    48.5000,   -19.9993,       4046,   400.8,  10.1159,  35.3372,2,  35.3390,2,    239.2,2,   231.1,2,    5.82,2,   13.34,2,    0.01,2,    0.83,2,-999.000,9,-999.000,9,-999.000,9,  -999.0,9,  -999.0,9,   -999.0,9,  -999.00,-999.0000,9,  -999.00,-999.000,9,-999.000,9,-999.000,9, -999.00,9,  -999.0,9,  -999.0,-999.000,9,-999.000,-999.000,9, -999.00,9, -999.00,9,  400.80,-999.0000,9,-999.0000,9,-999.0000,9,-999.0000,9,-999.0000,9,-999.0000,9,  10.0684,     -999.0,9,     -999.0,9,     -999.0,9,     -999.0,9,         34,-999.000,-999.000,-999.000,     -999.0,9, -999.00,9, -999.00,9
33RO200306_01,       A16N,     034,          1,         19,         19,2,20030627,       1204,    48.5000,   -19.9993,       4046,   451.8,  10.0543,  35.3510,2,  35.3517,2,    233.4,2,   236.1,2,    5.61,2,   13.06,2,    0.01,2,    0.82,2,-999.000,9,-999.000,9,-999.000,9,  -999.0,9,  -999.0,9,   -999.0,9,  -999.00,-999.0000,9,  -999.00,-999.000,9,-999.000,9,-999.000,9, -999.00,9,  -999.0,9,  -999.0,-999.000,9,-999.000,-999.000,9, -999.00,9, -999.00,9,  451.80,-999.0000,9,-999.0000,9,-999.0000,9,-999.0000,9,-999.0000,9,-999.0000,9,  10.0008,     -999.0,9,     -999.0,9,     -999.0,9,     -999.0,9,         34,-999.000,-999.000,-999.000,     -999.0,9, -999.00,9, -999.00,9
33RO200306_01,       A16N,     034,          1,         18,         18,2,20030627,       1204,    48.5000,   -19.9993,       4046,   500.8,   9.1300,  35.2110,2,  35.2102,2,    206.2,2,   202.0,2,    8.70,2,   17.24,2,    0.01,2,    1.07,2,-999.000,9,-999.000,9,-999.000,9,  -999.0,9,  -999.0,9,   -999.0,9,  -999.00,-999.0000,9,  -999.00,-999.000,9,-999.000,9,-999.000,9, -999.00,9,  -999.0,9,  -999.0,-999.000,9,-999.000,   1.607,2, -999.00,9, -999.00,9,  500.80,-999.0000,9,-999.0000,9,-999.0000,9,-999.0000,9,-999.0000,9,-999.0000,9,   9.0740,      0.070,2,     -999.0,9,     -999.0,9,     -999.0,9,         34,-999.000,-999.000,-999.000,     -999.0,9, -999.00,9, -999.00,9
33RO200306_01,       A16N,     034,          1,         17,         17,2,20030627,       1204,    48.5000,   -19.9993,       4046,   599.5,   8.4444,  35.2069,2,  35.2102,2,    191.7,2,   190.8,2,   10.14,2,   18.71,2,    0.01,2,    1.16,2,-999.000,9,-999.000,9,-999.000,9,  -999.0,9,  -999.0,9,   -999.0,9,  -999.00,-999.0000,9,  -999.00,-999.000,9,-999.000,9,-999.000,9, -999.00,9,  -999.0,9,  -999.0,-999.000,9,-999.000,-999.000,9, -999.00,9, -999.00,9,  599.50,-999.0000,9,-999.0000,9,-999.0000,9,-999.0000,9,-999.0000,9,-999.0000,9,   8.3800,     -999.0,9,     -999.0,9,     -999.0,9,     -999.0,9,         34,-999.000,-999.000,-999.000,     -999.0,9, -999.00,9, -999.00,9
33RO200306_01,       A16N,     034,          1,         16,         16,2,20030627,       1204,    48.5000,   -19.9993,       4046,   699.6,   7.0039,  35.0917,2,  35.0907,2,    203.3,2,   201.5,2,   11.14,2,   19.16,2,    0.00,2,    1.21,2,-999.000,9,-999.000,9,-999.000,9,  -999.0,9,  -999.0,9,   -999.0,9,  -999.00,-999.0000,9,  -999.00,-999.000,9,-999.000,9,-999.000,9, -999.00,9,  -999.0,9,  -999.0,-999.000,9,-999.000,-999.000,9, -999.00,9, -999.00,9,  699.60,-999.0000,9,-999.0000,9,-999.0000,9,-999.0000,9,-999.0000,9,-999.0000,9,   6.9359,     -999.0,9,     -999.0,9,     -999.0,9,     -999.0,9,         34,-999.000,-999.000,-999.000,     -999.0,9, -999.00,9, -999.00,9
33RO200306_01,       A16N,     034,          1,         15,         15,2,20030627,       1204,    48.5000,   -19.9993,       4046,   799.6,   6.4923,  35.1165,2,  35.1192,2,    205.6,2,   209.8,2,   11.30,2,   18.87,2,    0.00,2,    1.20,2,-999.000,9,-999.000,9,-999.000,9,  -999.0,9,  -999.0,9,   -999.0,9,  -999.00,-999.0000,9,  -999.00,-999.000,9,-999.000,9,-999.000,9, -999.00,9,  -999.0,9,  -999.0,-999.000,9,-999.000,-999.000,9, -999.00,9, -999.00,9,  799.60,-999.0000,9,-999.0000,9,-999.0000,9,-999.0000,9,-999.0000,9,-999.0000,9,   6.4170,     -999.0,9,     -999.0,9,     -999.0,9,     -999.0,9,         34,-999.000,-999.000,-999.000,     -999.0,9, -999.00,9, -999.00,9
33RO200306_01,       A16N,     034,          1,         14,         14,2,20030627,       1204,    48.5000,   -19.9993,       4046,   899.7,   5.6555,  35.0603,2,  35.0612,2,    222.2,2,   224.6,2,   11.22,2,   18.52,2,    0.00,2,    1.18,2,-999.000,9,-999.000,9,-999.000,9,  -999.0,9,  -999.0,9,   -999.0,9,  -999.00,-999.0000,9,  -999.00,-999.000,9,-999.000,9,-999.000,9, -999.00,9,  -999.0,9,  -999.0,-999.000,9,-999.000,-999.000,9, -999.00,9, -999.00,9,  899.70,-999.0000,9,-999.0000,9,-999.0000,9,-999.0000,9,-999.0000,9,-999.0000,9,   5.5759,     -999.0,9,     -999.0,9,     -999.0,9,     -999.0,9,         34,-999.000,-999.000,-999.000,     -999.0,9, -999.00,9, -999.00,9
33RO200306_01,       A16N,     034,          1,         13,         13,2,20030627,       1204,    48.5000,   -19.9993,       4046,  1000.3,   5.3815,  35.0672,2,  35.0658,2,    231.3,2,   231.4,2,   11.11,2,   18.27,2,    0.00,2,    1.16,2,-999.000,9,-999.000,9,-999.000,9,  -999.0,9,  -999.0,9,   -999.0,9,  -999.00,-999.0000,9,  -999.00,-999.000,9,-999.000,9,-999.000,9, -999.00,9,  -999.0,9,  -999.0,-999.000,9,-999.000,-999.000,9, -999.00,9, -999.00,9, 1000.30,-999.0000,9,-999.0000,9,-999.0000,9,-999.0000,9,-999.0000,9,-999.0000,9,   5.2944,     -999.0,9,     -999.0,9,     -999.0,9,     -999.0,9,         34,-999.000,-999.000,-999.000,     -999.0,9, -999.00,9, -999.00,9
33RO200306_01,       A16N,     034,          1,         12,         12,2,20030627,       1204,    48.5000,   -19.9993,       4046,  1097.3,   5.1627,  35.0635,2,  35.0637,2,    236.4,2,   237.3,2,   11.22,2,   18.19,2,    0.00,2,    1.16,2,-999.000,9,-999.000,9,-999.000,9,  -999.0,9,  -999.0,9,   -999.0,9,  -999.00,-999.0000,9,  -999.00,-999.000,9,-999.000,9,-999.000,9, -999.00,9,  -999.0,9,  -999.0,-999.000,9,-999.000,-999.000,9, -999.00,9, -999.00,9, 1097.30,-999.0000,9,-999.0000,9,-999.0000,9,-999.0000,9,-999.0000,9,-999.0000,9,   5.0682,     -999.0,9,     -999.0,9,     -999.0,9,     -999.0,9,         34,-999.000,-999.000,-999.000,     -999.0,9, -999.00,9, -999.00,9
33RO200306_01,       A16N,     034,          1,         11,         11,2,20030627,       1204,    48.5000,   -19.9993,       4046,  1200.3,   4.5594,  34.9991,2,  35.0024,2,    248.2,2,   247.0,2,   11.21,2,   17.98,2,    0.00,2,    1.15,2,-999.000,9,-999.000,9,-999.000,9,  -999.0,9,  -999.0,9,   -999.0,9,  -999.00,-999.0000,9,  -999.00,-999.000,9,-999.000,9,-999.000,9, -999.00,9,  -999.0,9,  -999.0,-999.000,9,-999.000,-999.000,9, -999.00,9, -999.00,9, 1200.30,-999.0000,9,-999.0000,9,-999.0000,9,-999.0000,9,-999.0000,9,-999.0000,9,   4.4607,     -999.0,9,     -999.0,9,     -999.0,9,     -999.0,9,         34,-999.000,-999.000,-999.000,     -999.0,9, -999.00,9, -999.00,9
33RO200306_01,       A16N,     034,          1,         10,         10,2,20030627,       1204,    48.5000,   -19.9993,       4046,  1399.5,   3.9165,  34.9361,2,  34.9355,2,    260.3,2,   262.2,2,   11.18,2,   17.66,2,    0.00,2,    1.13,2,-999.000,9,-999.000,9,-999.000,9,  -999.0,9,  -999.0,9,   -999.0,9,  -999.00,-999.0000,9,  -999.00,-999.000,9,-999.000,9,-999.000,9, -999.00,9,  -999.0,9,  -999.0,-999.000,9,-999.000,-999.000,9, -999.00,9, -999.00,9, 1399.50,-999.0000,9,-999.0000,9,-999.0000,9,-999.0000,9,-999.0000,9,-999.0000,9,   3.8063,     -999.0,9,     -999.0,9,     -999.0,9,     -999.0,9,         34,-999.000,-999.000,-999.000,     -999.0,9, -999.00,9, -999.00,9
33RO200306_01,       A16N,     034,          1,          9,          9,2,20030627,       1204,    48.5000,   -19.9993,       4046,  1600.1,   3.5656,  34.9035,2,  34.9039,2,    272.2,2,   271.1,2,   11.08,2,   17.34,2,    0.00,2,    1.12,2,   2.977,2,   1.487,2,   0.185,2,  -999.0,9,  -999.0,9,   -999.0,9,  -999.00,-999.0000,9,  -999.00,-999.000,9,-999.000,9,-999.000,9, -999.00,9,  -999.0,9,  -999.0,-999.000,9,-999.000,-999.000,9, -999.00,9, -999.00,9, 1600.10,-999.0000,9,-999.0000,9,-999.0000,9,-999.0000,9,-999.0000,9,-999.0000,9,   3.4416,     -999.0,9,     -999.0,9,     -999.0,9,     -999.0,9,         34,-999.000,-999.000,-999.000,     -999.0,9, -999.00,9, -999.00,9
33RO200306_01,       A16N,     034,          1,          8,          8,2,20030627,       1204,    48.5000,   -19.9993,       4046,  1800.6,   3.3922,  34.8952,2,  34.8949,2,    276.2,2,   274.7,2,   11.32,2,   17.21,2,    0.00,2,    1.11,2,-999.000,9,-999.000,9,-999.000,9,  -999.0,9,  -999.0,9,   -999.0,9,  -999.00,-999.0000,9,  -999.00,-999.000,9,-999.000,9,-999.000,9, -999.00,9,  -999.0,9,  -999.0,-999.000,9,-999.000,-999.000,9, -999.00,9, -999.00,9, 1800.60,-999.0000,9,-999.0000,9,-999.0000,9,-999.0000,9,-999.0000,9,-999.0000,9,   3.2524,     -999.0,9,     -999.0,9,     -999.0,9,     -999.0,9,         34,-999.000,-999.000,-999.000,     -999.0,9, -999.00,9, -999.00,9