BOTTLE,20230908CCHSIOCBG
EXPOCODE,SECT_ID,STNNBR,CASTNO,SAMPNO,BTLNBR,BTLNBR_FLAG_W,DATE,TIME,LATITUDE,LONGITUDE,DEPTH,CTDPRS,CTDTMP,CTDSAL,CTDSAL_FLAG_W,SALNTY,SALNTY_FLAG_W,CTDOXY,CTDOXY_FLAG_W,OXYGEN,OXYGEN_FLAG_W,SILCAT,SILCAT_FLAG_W,NITRAT,NITRAT_FLAG_W,NITRIT,NITRIT_FLAG_W,PHSPHT,PHSPHT_FLAG_W,CFC-11,CFC-11_FLAG_W,CFC-12,CFC-12_FLAG_W,CFC113,CFC113_FLAG_W,TCARBN,TCARBN_FLAG_W,ALKALI,ALKALI_FLAG_W,FCO2,FCO2_FLAG_W,FCO2TMP,PH_SWS,PH_SWS_FLAG_W,PH_TMP,TRITUM,TRITUM_FLAG_W,HELIUM,HELIUM_FLAG_W,DELHE3,DELHE3_FLAG_W,DELC13,DELC13_FLAG_W,DELC14,DELC14_FLAG_W,C14ERR,NEON,NEON_FLAG_W,NEONER,POC,POC_FLAG_W,DOC,DOC_FLAG_W,TDN,TDN_FLAG_W,CTDRAW,CDOM325,CDOM325_FLAG_W,CDOM340,CDOM340_FLAG_W,CDOM380,CDOM380_FLAG_W,CDOM412,CDOM412_FLAG_W,CDOMSL,CDOMSL_FLAG_W,CDOMSN,CDOMSN_FLAG_W,THETA,PON,PON_FLAG_W,HCFC-22,HCFC-22_FLAG_W,HCFC-142b,HCFC-142b_FLAG_W,HCFC-141b,HCFC-141b_FLAG_W,STNNBR_U,HELIER,DELHER,TRITER,CH3CL,CH3CL_FLAG_W,CH3BR,CH3BR_FLAG_W,CH3I,CH3I_FLAG_W
,,,,,,,,,,,METERS,DBAR,ITS-90,PSS-78,,PSS-78,,UMOL/KG,,UMOL/KG,,UMOL/KG,,UMOL/KG,,UMOL/KG,,UMOL/KG,,PMOL/KG,,PMOL/KG,,PMOL/KG,,UMOL/KG,,UMOL/KG,,UATM,,DEG C,,,DEG C,TU,,NMOL/KG,,PERCNT,,/MILLE,,/MILLE,,/MILLE,NMOL/KG,,NMOL/KG,UG/KG,,UMOL/KG,,UMOL/KG,,DBAR,1/M,,1/M,,1/M,,1/M,,1/NM,,1/NM,,DEG C,UMOL/L,,PMOL/KG,,PMOL/KG,,PMOL/KG,,,NMOL/KG,PERCNT,TU,PMOL/KG,,PMOL/KG,,PMOL/KG,
33RO200306_01,       A16N,     020,          1,         23,         23,2,20030623,       2125,    55.5005,   -20.0005,       1090,     5.0,  11.9464,  35.2228,2,  35.2243,2,    276.0,2,   274.6,2,    0.28,2,    3.85,2,    0.10,2,    0.26,2,-999.000,9,-999.000,9,-999.000,9,  2086.6,2,  2324.2,2,   -999.0,9,  -999.00,   7.9247,2,    25.00,-999.000,9,-999.000,9,-999.000,9, -999.00,9,  -999.0,9,  -999.0,-999.000,9,-999.000,-999.000,9, -999.00,9, -999.00,9,    5.00,-999.0000,9,-999.0000,9,-999.0000,9,-999.0000,9,-999.0000,9,-999.0000,9,  11.9458,     -999.0,9,     -999.0,9,     -999.0,9,     -999.0,9,         20,-999.000,-999.000,-999.000,     -999.0,9, -999.00,9, -999.00,9
33RO200306_01,       A16N,     020,          1,         22,         22,2,20030623,       2125,    55.5005,   -20.0005,       1090,    10.3,  11.9436,  35.2229,2,  35.2241,2,    275.5,2,   273.1,2,    0.23,2,    3.84,2,    0.10,2,    0.27,2,-999.000,9,-999.000,9,-999.000,9,  -999.0,9,  -999.0,9,   -999.0,9,  -999.00,-999.0000,9,  -999.00,-999.000,9,-999.000,9,-999.000,9, -999.00,9,  -999.0,9,  -999.0,-999.000,9,-999.000,-999.000,9, -999.00,9, -999.00,9,   10.30,-999.0000,9,-999.0000,9,-999.0000,9,-999.0000,9,-999.0000,9,-999.0000,9,  11.9423,     -999.0,9,     -999.0,9,     -999.0,9,     -999.0,9,         20,-999.000,-999.000,-999.000,     -999.0,9, -999.00,9, -999.00,9
33RO200306_01,       A16N,     020,          1,         21,         21,2,20030623,       2125,    55.5005,   -20.0005,       1090,    29.9,  11.9270,  35.2228,2,  35.2285,2,    273.6,2,   270.2,2,    0.27,2,    3.89,2,    0.10,2,    0.28,2,-999.000,9,-999.000,9,-999.000,9,  -999.0,9,  -999.0,9,   -999.0,9,  -999.00,-999.0000,9,  -999.00,-999.000,9,-999.000,9,-999.000,9, -999.00,9,  -999.0,9,  -999.0,-999.000,9,-999.000,-999.000,9, -999.00,9, -999.00,9,   29.90,-999.0000,9,-999.0000,9,-999.0000,9,-999.0000,9,-999.0000,9,-999.0000,9,  11.9231,     -999.0,9,     -999.0,9,     -999.0,9,     -999.0,9,         20,-999.000,-999.000,-999.000,     -999.0,9, -999.00,9, -999.00,9
33RO200306_01,       A16N,     020,          1,         20,         20,2,20030623,       2125,    55.5005,   -20.0005,       1090,    49.9,  11.3340,  35.4416,2,  35.4620,2,    262.3,2,   259.4,2,    1.42,2,    7.63,2,    0.30,2,    0.55,2,-999.000,9,-999.000,9,-999.000,9,  -999.0,9,  -999.0,9,   -999.0,9,  -999.00,-999.0000,9,  -999.00,-999.000,9,-999.000,9,-999.000,9, -999.00,9,  -999.0,9,  -999.0,-999.000,9,-999.000,-999.000,9, -999.00,9, -999.00,9,   49.90,-999.0000,9,-999.0000,9,-999.0000,9,-999.0000,9,-999.0000,9,-999.0000,9,  11.3277,     -999.0,9,     -999.0,9,     -999.0,9,     -999.0,9,         20,-999.000,-999.000,-999.000,     -999.0,9, -999.00,9, -999.00,9
33RO200306_01,       A16N,     020,          1,         19,         19,2,20030623,       2125,    55.5005,   -20.0005,       1090,    69.7,  11.1736,  35.4876,2,  35.4881,2,    256.9,2,   268.6,2,    3.09,2,    9.95,2,    0.15,2,    0.61,2,-999.000,9,-999.000,9,-999.000,9,  -999.0,9,  -999.0,9,   -999.0,9,  -999.00,-999.0000,9,  -999.00,-999.000,9,-999.000,9,-999.000,9, -999.00,9,  -999.0,9,  -999.0,-999.000,9,-999.000,-999.000,9, -999.00,9, -999.00,9,   69.70,-999.0000,9,-999.0000,9,-999.0000,9,-999.0000,9,-999.0000,9,-999.0000,9,  11.1649,     -999.0,9,     -999.0,9,     -999.0,9,     -999.0,9,         20,-999.000,-999.000,-999.000,     -999.0,9, -999.00,9, -999.00,9
33RO200306_01,       A16N,     020,          1,         18,         18,2,20030623,       2125,    55.5005,   -20.0005,       1090,    85.3,  11.1457,  35.4977,2,  35.5010,2,    256.7,2,   252.3,2,    3.61,2,   10.30,2,    0.04,2,    0.62,2,-999.000,9,-999.000,9,-999.000,9,  -999.0,9,  -999.0,9,   -999.0,9,  -999.00,-999.0000,9,  -999.00,-999.000,9,-999.000,9,-999.000,9, -999.00,9,  -999.0,9,  -999.0,-999.000,9,-999.000,-999.000,9, -999.00,9, -999.00,9,   85.30,-999.0000,9,-999.0000,9,-999.0000,9,-999.0000,9,-999.0000,9,-999.0000,9,  11.1351,     -999.0,9,     -999.0,9,     -999.0,9,     -999.0,9,         20,-999.000,-999.000,-999.000,     -999.0,9, -999.00,9, -999.00,9
33RO200306_01,       A16N,     020,          1,         17,         17,2,20030623,       2125,    55.5005,   -20.0005,       1090,   106.5,  10.9648,  35.4662,2,  35.4687,2,    253.4,2,   251.2,2,    3.84,2,   10.52,2,    0.05,2,    0.63,2,-999.000,9,-999.000,9,-999.000,9,  -999.0,9,  -999.0,9,   -999.0,9,  -999.00,-999.0000,9,  -999.00,-999.000,9,-999.000,9,-999.000,9, -999.00,9,  -999.0,9,  -999.0,-999.000,9,-999.000,-999.000,9, -999.00,9, -999.00,9,  106.50,-999.0000,9,-999.0000,9,-999.0000,9,-999.0000,9,-999.0000,9,-999.0000,9,  10.9517,     -999.0,9,     -999.0,9,     -999.0,9,     -999.0,9,         20,-999.000,-999.000,-999.000,     -999.0,9, -999.00,9, -999.00,9
33RO200306_01,       A16N,     020,          1,         16,         16,2,20030623,       2125,    55.5005,   -20.0005,       1090,   133.6,  10.9098,  35.4626,2,  35.4625,2,    251.5,2,   251.3,2,    4.12,2,   10.83,2,    0.02,2,    0.65,2,-999.000,9,-999.000,9,-999.000,9,  -999.0,9,  -999.0,9,   -999.0,9,  -999.00,-999.0000,9,  -999.00,-999.000,9,-999.000,9,-999.000,9, -999.00,9,  -999.0,9,  -999.0,-999.000,9,-999.000,-999.000,9, -999.00,9, -999.00,9,  133.60,-999.0000,9,-999.0000,9,-999.0000,9,-999.0000,9,-999.0000,9,-999.0000,9,  10.8934,     -999.0,9,     -999.0,9,     -999.0,9,     -999.0,9,         20,-999.000,-999.000,-999.000,     -999.0,9, -999.00,9, -999.00,9
33RO200306_01,       A16N,     020,          1,         15,         15,2,20030623,       2125,    55.5005,   -20.0005,       1090,   153.9,  10.6948,  35.4188,2,  35.4247,2,    251.1,2,   251.5,2,    4.18,2,   10.98,2,    0.02,2,    0.66,2,-999.000,9,-999.000,9,-999.000,9,  -999.0,9,  -999.0,9,   -999.0,9,  -999.00,-999.0000,9,  -999.00,-999.000,9,-999.000,9,-999.000,9, -999.00,9,  -999.0,9,  -999.0,-999.000,9,-999.000,-999.000,9, -999.00,9, -999.00,9,  153.90,-999.0000,9,-999.0000,9,-999.0000,9,-999.0000,9,-999.0000,9,-999.0000,9,  10.6761,     -999.0,9,     -999.0,9,     -999.0,9,     -999.0,9,         20,-999.000,-999.000,-999.000,     -999.0,9, -999.00,9, -999.00,9
33RO200306_01,       A16N,     020,          1,         14,         14,2,20030623,       2125,    55.5005,   -20.0005,       1090,   174.5,  10.7267,  35.4355,2,  35.4382,2,    252.1,2,   252.6,2,    4.12,2,   10.80,2,    0.01,2,    0.65,2,-999.000,9,-999.000,9,-999.000,9,  -999.0,9,  -999.0,9,   -999.0,9,  -999.00,-999.0000,9,  -999.00,-999.000,9,-999.000,9,-999.000,9, -999.00,9,  -999.0,9,  -999.0,-999.000,9,-999.000,-999.000,9, -999.00,9, -999.00,9,  174.50,-999.0000,9,-999.0000,9,-999.0000,9,-999.0000,9,-999.0000,9,-999.0000,9,  10.7054,     -999.0,9,     -999.0,9,     -999.0,9,     -999.0,9,         20,-999.000,-999.000,-999.000,     -999.0,9, -999.00,9, -999.00,9
33RO200306_01,       A16N,     020,          1,         13,         13,2,20030623,       2125,    55.5005,   -20.0005,       1090,   221.4,  10.5831,  35.4212,2,  35.4233,2,    249.0,2,   249.5,2,    4.64,2,   11.33,2,    0.01,2,    0.69,2,-999.000,9,-999.000,9,-999.000,9,  -999.0,9,  -999.0,9,   -999.0,9,  -999.00,-999.0000,9,  -999.00,-999.000,9,-999.000,9,-999.000,9, -999.00,9,  -999.0,9,  -999.0,-999.000,9,-999.000,-999.000,9, -999.00,9, -999.00,9,  221.40,-999.0000,9,-999.0000,9,-999.0000,9,-999.0000,9,-999.0000,9,-999.0000,9,  10.5563,     -999.0,9,     -999.0,9,     -999.0,9,     -999.0,9,         20,-999.000,-999.000,-999.000,     -999.0,9, -999.00,9, -999.00,9
33RO200306_01,       A16N,     020,          1,         12,         12,2,20030623,       2125,    55.5005,   -20.0005,       1090,   273.9,  10.3858,  35.3967,2,  35.3977,2,    245.7,2,   247.9,2,    4.86,2,   11.79,2,    0.01,2,    0.72,2,-999.000,9,-999.000,9,-999.000,9,  -999.0,9,  -999.0,9,   -999.0,9,  -999.00,-999.0000,9,  -999.00,-999.000,9,-999.000,9,-999.000,9, -999.00,9,  -999.0,9,  -999.0,-999.000,9,-999.000,-999.000,9, -999.00,9, -999.00,9,  273.90,-999.0000,9,-999.0000,9,-999.0000,9,-999.0000,9,-999.0000,9,-999.0000,9,  10.3530,     -999.0,9,     -999.0,9,     -999.0,9,     -999.0,9,         20,-999.000,-999.000,-999.000,     -999.0,9, -999.00,9, -999.00,9
33RO200306_01,       A16N,     020,          1,         11,         11,2,20030623,       2125,    55.5005,   -20.0005,       1090,   312.4,  10.3436,  35.4015,2,  35.4023,2,    245.2,2,   252.2,2,    4.74,2,   11.60,2,    0.01,2,    0.71,2,-999.000,9,-999.000,9,-999.000,9,  -999.0,9,  -999.0,9,   -999.0,9,  -999.00,-999.0000,9,  -999.00,-999.000,9,-999.000,9,-999.000,9, -999.00,9,  -999.0,9,  -999.0,-999.000,9,-999.000,-999.000,9, -999.00,9, -999.00,9,  312.40,-999.0000,9,-999.0000,9,-999.0000,9,-999.0000,9,-999.0000,9,-999.0000,9,  10.3062,     -999.0,9,     -999.0,9,     -999.0,9,     -999.0,9,         20,-999.000,-999.000,-999.000,     -999.0,9, -999.00,9, -999.00,9
33RO200306_01,       A16N,     020,          1,         10,         10,2,20030623,       2125,    55.5005,   -20.0005,       1090,   374.4,   9.9268,  35.3257,2,  35.3251,2,    241.6,2,   241.1,2,    5.65,2,   12.93,2,    0.01,2,    0.79,2,-999.000,9,-999.000,9,-999.000,9,  -999.0,9,  -999.0,9,   -999.0,9,  -999.00,-999.0000,9,  -999.00,-999.000,9,-999.000,9,-999.000,9, -999.00,9,  -999.0,9,  -999.0,-999.000,9,-999.000,-999.000,9, -999.00,9, -999.00,9,  374.40,-999.0000,9,-999.0000,9,-999.0000,9,-999.0000,9,-999.0000,9,-999.0000,9,   9.8830,     -999.0,9,     -999.0,9,     -999.0,9,     -999.0,9,         20,-999.000,-999.000,-999.000,     -999.0,9, -999.00,9, -999.00,9
33RO200306_01,       A16N,     020,          1,          9,          9,2,20030623,       2125,    55.5005,   -20.0005,       1090,   424.8,   9.6132,  35.2786,2,  35.2787,2,    229.5,2,   229.5,2,    6.57,2,   14.14,2,    0.01,2,    0.86,2,-999.000,9,-999.000,9,-999.000,9,  -999.0,9,  -999.0,9,   -999.0,9,  -999.00,-999.0000,9,  -999.00,-999.000,9,-999.000,9,-999.000,9, -999.00,9,  -999.0,9,  -999.0,-999.000,9,-999.000,-999.000,9, -999.00,9, -999.00,9,  424.80,-999.0000,9,-999.0000,9,-999.0000,9,-999.0000,9,-999.0000,9,-999.0000,9,   9.5644,     -999.0,9,     -999.0,9,     -999.0,9,     -999.0,9,         20,-999.000,-999.000,-999.000,     -999.0,9, -999.00,9, -999.00,9
33RO200306_01,       A16N,     020,          1,          8,          8,2,20030623,       2125,    55.5005,   -20.0005,       1090,   473.2,   9.4076,  35.2732,2,  35.2687,2,    212.7,2,   208.4,2,    7.99,2,   16.17,2,    0.01,2,    0.98,2,-999.000,9,-999.000,9,-999.000,9,  -999.0,9,  -999.0,9,   -999.0,9,  -999.00,-999.0000,9,  -999.00,-999.000,9,-999.000,9,-999.000,9, -999.00,9,  -999.0,9,  -999.0,-999.000,9,-999.000,-999.000,9, -999.00,9, -999.00,9,  473.20,-999.0000,9,-999.0000,9,-999.0000,9,-999.0000,9,-999.0000,9,-999.0000,9,   9.3538,     -999.0,9,     -999.0,9,     -999.0,9,     -999.0,9,         20,-999.000,-999.000,-999.000,     -999.0,9, -999.00,9, -999.00,9
33RO200306_01,       A16N,     020,          1,          7,          7,2,20030623,       2125,    55.5005,   -20.0005,       1090,   549.7,   8.7456,  35.2063,2,  35.2090,2,    200.1,2,   195.3,2,    9.36,2,   17.64,2,    0.01,2,    1.07,2,-999.000,9,-999.000,9,-999.000,9,  -999.0,9,  -999.0,9,   -999.0,9,  -999.00,-999.0000,9,  -999.00,-999.000,9,-999.000,9,-999.000,9, -999.00,9,  -999.0,9,  -999.0,-999.000,9,-999.000,-999.000,9, -999.00,9, -999.00,9,  549.70,-999.0000,9,-999.0000,9,-999.0000,9,-999.0000,9,-999.0000,9,-999.0000,9,   8.6855,     -999.0,9,     -999.0,9,     -999.0,9,     -999.0,9,         20,-999.000,-999.000,-999.000,     -999.0,9, -999.00,9, -999.00,9
33RO200306_01,       A16N,     020,          1,          6,          6,2,20030623,       2125,    55.5005,   -20.0005,       1090,   650.9,   8.0842,  35.2309,2,  35.2299,2,    192.2,2,   194.9,2,   10.63,2,   18.70,2,    0.01,2,    1.14,2,-999.000,9,-999.000,9,-999.000,9,  -999.0,9,  -999.0,9,   -999.0,9,  -999.00,-999.0000,9,  -999.00,-999.000,9,-999.000,9,-999.000,9, -999.00,9,  -999.0,9,  -999.0,-999.000,9,-999.000,-999.000,9, -999.00,9, -999.00,9,  650.90,-999.0000,9,-999.0000,9,-999.0000,9,-999.0000,9,-999.0000,9,-999.0000,9,   8.0158,     -999.0,9,     -999.0,9,     -999.0,9,     -999.0,9,         20,-999.000,-999.000,-999.000,     -999.0,9, -999.00,9, -999.00,9
33RO200306_01,       A16N,     020,          1,          5,          5,2,20030623,       2125,    55.5005,   -20.0005,       1090,   749.9,   7.3405,  35.1833,2,  35.1848,2,    198.9,2,   201.0,2,   11.08,2,   18.85,2,    0.01,2,    1.16,2,-999.000,9,-999.000,9,-999.000,9,  -999.0,9,  -999.0,9,   -999.0,9,  -999.00,-999.0000,9,  -999.00,-999.000,9,-999.000,9,-999.000,9, -999.00,9,  -999.0,9,  -999.0,-999.000,9,-999.000,-999.000,9, -999.00,9, -999.00,9,  749.90,-999.0000,9,-999.0000,9,-999.0000,9,-999.0000,9,-999.0000,9,-999.0000,9,   7.2653,     -999.0,9,     -999.0,9,     -999.0,9,     -999.0,9,         20,-999.000,-999.000,-999.000,     -999.0,9, -999.00,9, -999.00,9
33RO200306_01,       A16N,     020,          1,          4,          4,2,20030623,       2125,    55.5005,   -20.0005,       1090,   849.0,   6.2583,  35.1196,2,  35.1243,2,    214.9,2,   221.3,2,   11.83,2,   18.53,2,    0.00,2,    1.15,2,-999.000,9,-999.000,9,-999.000,9,  -999.0,9,  -999.0,9,   -999.0,9,  -999.00,-999.0000,9,  -999.00,-999.000,9,-999.000,9,-999.000,9, -999.00,9,  -999.0,9,  -999.0,-999.000,9,-999.000,-999.000,9, -999.00,9, -999.00,9,  849.00,-999.0000,9,-999.0000,9,-999.0000,9,-999.0000,9,-999.0000,9,-999.0000,9,   6.1796,     -999.0,9,     -999.0,9,     -999.0,9,     -999.0,9,         20,-999.000,-999.000,-999.000,     -999.0,9, -999.00,9, -999.00,9
33RO200306_01,       A16N,     020,          1,          3,          3,2,20030623,       2125,    55.5005,   -20.0005,       1090,   948.5,   5.3909,  35.0247,2,  35.0266,2,    236.2,2,   231.4,2,   11.77,2,   18.38,2,    0.00,2,    1.15,2,-999.000,9,-999.000,9,-999.000,9,  -999.0,9,  -999.0,9,   -999.0,9,  -999.00,-999.0000,9,  -999.00,-999.000,9,-999.000,9,-999.000,9, -999.00,9,  -999.0,9,  -999.0,-999.000,9,-999.000,-999.000,9, -999.00,9, -999.00,9,  948.50,-999.0000,9,-999.0000,9,-999.0000,9,-999.0000,9,-999.0000,9,-999.0000,9,   5.3086,     -999.0,9,     -999.0,9,     -999.0,9,     -999.0,9,         20,-999.000,-999.000,-999.000,     -999.0,9, -999.00,9, -999.00,9
33RO200306_01,       A16N,     020,          1,          2,          2,2,20030623,       2125,    55.5005,   -20.0005,       1090,  1047.6,   5.0275,  35.0123,2,  35.0142,2,    246.1,2,   241.7,2,   11.72,2,   18.09,2,    0.01,2,    1.13,2,-999.000,9,-999.000,9,-999.000,9,  -999.0,9,  -999.0,9,   -999.0,9,  -999.00,-999.0000,9,  -999.00,-999.000,9,-999.000,9,-999.000,9, -999.00,9,  -999.0,9,  -999.0,-999.000,9,-999.000,-999.000,9, -999.00,9, -999.00,9, 1047.60,-999.0000,9,-999.0000,9,-999.0000,9,-999.0000,9,-999.0000,9,-999.0000,9,   4.9388,     -999.0,9,     -999.0,9,     -999.0,9,     -999.0,9,         20,-999.000,-999.000,-999.000,     -999.0,9, -999.00,9, -999.00,9
33RO200306_01,       A16N,     020,          1,          1,          1,2,20030623,       2125,    55.5005,   -20.0005,       1090,  1094.4,   4.8946,  35.0060,2,  35.0070,2,    250.6,2,   255.6,2,   11.75,2,   17.98,2,    0.01,2,    1.13,2,-999.000,9,-999.000,9,-999.000,9,  -999.0,9,  -999.0,9,   -999.0,9,  -999.00,-999.0000,9,  -999.00,-999.000,9,-999.000,9,-999.000,9, -999.00,9,  -999.0,9,  -999.0,-999.000,9,-999.000,-999.000,9, -999.00,9, -999.00,9, 1094.40,-999.0000,9,-999.0000,9,-999.0000,9,-999.0000,9,-999.0000,9,-999.0000,9,   4.8027,     -999.0,9,     -999.0,9,     -999.0,9,     -999.0,9,         20,-999.000,-999.000,-999.000,     -999.0,9, -999.00,9, -999.00,9