BOTTLE,20230908CCHSIOCBG
EXPOCODE,SECT_ID,STNNBR,CASTNO,SAMPNO,BTLNBR,BTLNBR_FLAG_W,DATE,TIME,LATITUDE,LONGITUDE,DEPTH,CTDPRS,CTDTMP,CTDSAL,CTDSAL_FLAG_W,SALNTY,SALNTY_FLAG_W,CTDOXY,CTDOXY_FLAG_W,OXYGEN,OXYGEN_FLAG_W,SILCAT,SILCAT_FLAG_W,NITRAT,NITRAT_FLAG_W,NITRIT,NITRIT_FLAG_W,PHSPHT,PHSPHT_FLAG_W,CFC-11,CFC-11_FLAG_W,CFC-12,CFC-12_FLAG_W,CFC113,CFC113_FLAG_W,TCARBN,TCARBN_FLAG_W,ALKALI,ALKALI_FLAG_W,FCO2,FCO2_FLAG_W,FCO2TMP,PH_SWS,PH_SWS_FLAG_W,PH_TMP,TRITUM,TRITUM_FLAG_W,HELIUM,HELIUM_FLAG_W,DELHE3,DELHE3_FLAG_W,DELC13,DELC13_FLAG_W,DELC14,DELC14_FLAG_W,C14ERR,NEON,NEON_FLAG_W,NEONER,POC,POC_FLAG_W,DOC,DOC_FLAG_W,TDN,TDN_FLAG_W,CTDRAW,CDOM325,CDOM325_FLAG_W,CDOM340,CDOM340_FLAG_W,CDOM380,CDOM380_FLAG_W,CDOM412,CDOM412_FLAG_W,CDOMSL,CDOMSL_FLAG_W,CDOMSN,CDOMSN_FLAG_W,THETA,PON,PON_FLAG_W,HCFC-22,HCFC-22_FLAG_W,HCFC-142b,HCFC-142b_FLAG_W,HCFC-141b,HCFC-141b_FLAG_W,STNNBR_U,HELIER,DELHER,TRITER,CH3CL,CH3CL_FLAG_W,CH3BR,CH3BR_FLAG_W,CH3I,CH3I_FLAG_W
,,,,,,,,,,,METERS,DBAR,ITS-90,PSS-78,,PSS-78,,UMOL/KG,,UMOL/KG,,UMOL/KG,,UMOL/KG,,UMOL/KG,,UMOL/KG,,PMOL/KG,,PMOL/KG,,PMOL/KG,,UMOL/KG,,UMOL/KG,,UATM,,DEG C,,,DEG C,TU,,NMOL/KG,,PERCNT,,/MILLE,,/MILLE,,/MILLE,NMOL/KG,,NMOL/KG,UG/KG,,UMOL/KG,,UMOL/KG,,DBAR,1/M,,1/M,,1/M,,1/M,,1/NM,,1/NM,,DEG C,UMOL/L,,PMOL/KG,,PMOL/KG,,PMOL/KG,,,NMOL/KG,PERCNT,TU,PMOL/KG,,PMOL/KG,,PMOL/KG,
33RO200306_01,       A16N,     067,          2,          7,          7,2,20030707,       2224,    32.0002,   -22.2508,       5170,  3549.9,   2.5411,  34.9170,2,  34.9190,2,    245.8,2,   244.4,2,   40.18,2,   21.52,2,    0.00,2,    1.44,2,   0.016,2,   0.008,2,   0.002,2,  2194.4,2,  2344.5,2,   -999.0,9,  -999.00,   7.7330,2,    25.00,-999.000,9,-999.000,9,-999.000,9, -999.00,9,  -999.0,9,  -999.0,-999.000,9,-999.000,-999.000,9,   40.57,2,   25.02,2, 3549.90,-999.0000,9,-999.0000,9,-999.0000,9,-999.0000,9,-999.0000,9,-999.0000,9,   2.2422,     -999.0,9,     -999.0,9,     -999.0,9,     -999.0,9,         67,-999.000,-999.000,-999.000,     -999.0,9, -999.00,9, -999.00,9
33RO200306_01,       A16N,     067,          2,          6,          6,2,20030707,       2224,    32.0002,   -22.2508,       5170,  3850.1,   2.4671,  34.9067,2,  34.9084,2,    244.6,2,   244.1,2,   42.57,2,   21.77,2,    0.00,2,    1.46,2,   0.007,2,   0.006,2,   0.002,2,  2195.1,2,  2345.8,2,    766.8,2,    20.00,   7.7272,2,    25.00,-999.000,9,-999.000,9,-999.000,9, -999.00,9,  -999.0,9,  -999.0,-999.000,9,-999.000,-999.000,9,   39.76,2,   26.21,2, 3850.10,-999.0000,9,-999.0000,9,-999.0000,9,-999.0000,9,-999.0000,9,-999.0000,9,   2.1368,     -999.0,9,     -999.0,9,     -999.0,9,     -999.0,9,         67,-999.000,-999.000,-999.000,     -999.0,9, -999.00,9, -999.00,9
33RO200306_01,       A16N,     067,          2,          5,          5,2,20030707,       2224,    32.0002,   -22.2508,       5170,  4150.6,   2.4232,  34.8990,2,  34.9005,2,    244.7,2,   244.4,2,   44.46,2,   21.94,2,    0.00,2,    1.47,2,   0.015,2,   0.005,2,   0.002,2,  2194.9,2,  2347.8,2,   -999.0,9,  -999.00,   7.7227,2,    25.00,-999.000,9,-999.000,9,-999.000,9, -999.00,9,  -999.0,9,  -999.0,-999.000,9,-999.000,-999.000,9,   40.65,2,   25.85,2, 4150.60,-999.0000,9,-999.0000,9,-999.0000,9,-999.0000,9,-999.0000,9,-999.0000,9,   2.0597,     -999.0,9,     -999.0,9,     -999.0,9,     -999.0,9,         67,-999.000,-999.000,-999.000,     -999.0,9, -999.00,9, -999.00,9
33RO200306_01,       A16N,     067,          2,          4,          4,2,20030707,       2224,    32.0002,   -22.2508,       5170,  4446.1,   2.4030,  34.8933,2,  34.8958,2,    244.2,2,   245.0,2,   45.63,6,   22.06,6,    0.00,6,    1.48,6,   0.005,2,   0.005,2,   0.002,2,  2196.5,2,  2351.5,2,   -999.0,9,  -999.00,   7.7295,2,    25.00,-999.000,9,-999.000,9,-999.000,9, -999.00,9,  -999.0,9,  -999.0,-999.000,9,-999.000,-999.000,9,   40.98,2,   26.33,2, 4446.10,-999.0000,9,-999.0000,9,-999.0000,9,-999.0000,9,-999.0000,9,-999.0000,9,   2.0052,     -999.0,9,     -999.0,9,     -999.0,9,     -999.0,9,         67,-999.000,-999.000,-999.000,     -999.0,9, -999.00,9, -999.00,9
33RO200306_01,       A16N,     067,          2,          3,          3,2,20030707,       2224,    32.0002,   -22.2508,       5170,  4707.3,   2.4061,  34.8901,2,  34.8917,2,    244.6,2,   244.6,2,   46.34,6,   22.13,6,    0.00,6,    1.49,6,   0.008,2,   0.004,2,   0.001,2,  2197.8,2,  2349.3,2,    770.0,6,    20.00,   7.7250,2,    25.00,-999.000,9,-999.000,9,-999.000,9, -999.00,9,  -999.0,9,  -999.0,-999.000,9,-999.000,-999.000,9,   42.22,2,   27.24,2, 4707.30,-999.0000,9,-999.0000,9,-999.0000,9,-999.0000,9,-999.0000,9,-999.0000,9,   1.9764,     -999.0,9,     -999.0,9,     -999.0,9,     -999.0,9,         67,-999.000,-999.000,-999.000,     -999.0,9, -999.00,9, -999.00,9
33RO200306_01,       A16N,     067,          2,          2,          2,2,20030707,       2224,    32.0002,   -22.2508,       5170,  5013.2,   2.4294,  34.8881,2,  34.8905,2,    244.1,2,   244.9,2,   46.74,6,   22.16,6,    0.00,6,    1.49,6,   0.013,2,   0.005,2,   0.001,2,  2199.0,2,  2350.0,2,   -999.0,9,  -999.00,   7.7143,2,    25.00,-999.000,9,-999.000,9,-999.000,9, -999.00,9,  -999.0,9,  -999.0,-999.000,9,-999.000,-999.000,9,   41.14,2,   26.83,2, 5013.20,-999.0000,9,-999.0000,9,-999.0000,9,-999.0000,9,-999.0000,9,-999.0000,9,   1.9607,     -999.0,9,     -999.0,9,     -999.0,9,     -999.0,9,         67,-999.000,-999.000,-999.000,     -999.0,9, -999.00,9, -999.00,9
33RO200306_01,       A16N,     067,          2,          1,          1,2,20030707,       2224,    32.0002,   -22.2508,       5170,  5252.0,   2.4562,  34.8874,2,  34.8895,2,    244.5,2,   244.0,2,   47.04,2,   22.18,2,    0.00,2,    1.49,2,   0.006,6,   0.006,6,   0.002,6,  2200.5,6,  2351.2,6,    769.4,2,    20.00,   7.7281,6,    25.00,-999.000,9,-999.000,9,-999.000,9, -999.00,9,  -999.0,9,  -999.0,-999.000,9,-999.000,-999.000,9,   41.05,2,   27.45,2, 5252.00,-999.0000,9,-999.0000,9,-999.0000,9,-999.0000,9,-999.0000,9,-999.0000,9,   1.9559,     -999.0,9,     -999.0,9,     -999.0,9,     -999.0,9,         67,-999.000,-999.000,-999.000,     -999.0,9, -999.00,9, -999.00,9