BOTTLE,20230908CCHSIOCBG
EXPOCODE,SECT_ID,STNNBR,CASTNO,SAMPNO,BTLNBR,BTLNBR_FLAG_W,DATE,TIME,LATITUDE,LONGITUDE,DEPTH,CTDPRS,CTDTMP,CTDSAL,CTDSAL_FLAG_W,SALNTY,SALNTY_FLAG_W,CTDOXY,CTDOXY_FLAG_W,OXYGEN,OXYGEN_FLAG_W,SILCAT,SILCAT_FLAG_W,NITRAT,NITRAT_FLAG_W,NITRIT,NITRIT_FLAG_W,PHSPHT,PHSPHT_FLAG_W,CFC-11,CFC-11_FLAG_W,CFC-12,CFC-12_FLAG_W,CFC113,CFC113_FLAG_W,TCARBN,TCARBN_FLAG_W,ALKALI,ALKALI_FLAG_W,FCO2,FCO2_FLAG_W,FCO2TMP,PH_SWS,PH_SWS_FLAG_W,PH_TMP,TRITUM,TRITUM_FLAG_W,HELIUM,HELIUM_FLAG_W,DELHE3,DELHE3_FLAG_W,DELC13,DELC13_FLAG_W,DELC14,DELC14_FLAG_W,C14ERR,NEON,NEON_FLAG_W,NEONER,POC,POC_FLAG_W,DOC,DOC_FLAG_W,TDN,TDN_FLAG_W,CTDRAW,CDOM325,CDOM325_FLAG_W,CDOM340,CDOM340_FLAG_W,CDOM380,CDOM380_FLAG_W,CDOM412,CDOM412_FLAG_W,CDOMSL,CDOMSL_FLAG_W,CDOMSN,CDOMSN_FLAG_W,THETA,PON,PON_FLAG_W,HCFC-22,HCFC-22_FLAG_W,HCFC-142b,HCFC-142b_FLAG_W,HCFC-141b,HCFC-141b_FLAG_W,STNNBR_U,HELIER,DELHER,TRITER,CH3CL,CH3CL_FLAG_W,CH3BR,CH3BR_FLAG_W,CH3I,CH3I_FLAG_W
,,,,,,,,,,,METERS,DBAR,ITS-90,PSS-78,,PSS-78,,UMOL/KG,,UMOL/KG,,UMOL/KG,,UMOL/KG,,UMOL/KG,,UMOL/KG,,PMOL/KG,,PMOL/KG,,PMOL/KG,,UMOL/KG,,UMOL/KG,,UATM,,DEG C,,,DEG C,TU,,NMOL/KG,,PERCNT,,/MILLE,,/MILLE,,/MILLE,NMOL/KG,,NMOL/KG,UG/KG,,UMOL/KG,,UMOL/KG,,DBAR,1/M,,1/M,,1/M,,1/M,,1/NM,,1/NM,,DEG C,UMOL/L,,PMOL/KG,,PMOL/KG,,PMOL/KG,,,NMOL/KG,PERCNT,TU,PMOL/KG,,PMOL/KG,,PMOL/KG,
33RO200306_02,       A16N,     108,          1,          7,          7,2,20030728,       0536,    12.1377,   -28.9997,       5680,  2750.6,   2.8381,  34.9374,2,  34.9377,2,    246.8,2,   245.4,2,   31.79,2,   20.93,2,    0.00,2,    1.44,2,   0.005,2,   0.003,2,   0.001,2,  2183.1,2,  2335.3,2,   -999.0,9,  -999.00,   7.7121,2,    25.00,-999.000,9,-999.000,9,-999.000,9, -999.00,9,  -999.0,9,  -999.0,-999.000,9,-999.000,-999.000,9,   41.30,2,   24.90,2, 2750.60,-999.0000,9,-999.0000,9,-999.0000,9,-999.0000,9,-999.0000,9,-999.0000,9,   2.6164,     -999.0,9,       0.00,2,       0.05,2,       0.09,2,        108,-999.000,-999.000,-999.000,       0.72,2,    0.23,2,    0.07,2
33RO200306_02,       A16N,     108,          1,          6,          6,2,20030728,       0536,    12.1377,   -28.9997,       5680,  3250.4,   2.5861,  34.9185,2,  34.9184,2,    249.4,2,   248.8,2,   36.57,2,   21.10,2,    0.00,2,    1.46,2,   0.008,2,   0.002,2,   0.002,2,  2187.1,2,  -999.0,9,    760.1,2,    20.00,-999.0000,9,  -999.00,-999.000,9,-999.000,9,-999.000,9, -999.00,9,  -999.0,9,  -999.0,-999.000,9,-999.000,-999.000,9,   40.90,2,   25.50,2, 3250.40,-999.0000,9,-999.0000,9,-999.0000,9,-999.0000,9,-999.0000,9,-999.0000,9,   2.3183,     -999.0,9,     -999.0,9,     -999.0,9,     -999.0,9,        108,-999.000,-999.000,-999.000,     -999.0,9, -999.00,9, -999.00,9
33RO200306_02,       A16N,     108,          1,          5,          5,2,20030728,       0536,    12.1377,   -28.9997,       5680,  3748.5,   2.4240,  34.9018,2,  34.9017,2,    247.9,2,   246.9,2,   41.78,2,   21.65,2,    0.00,2,    1.51,2,-999.000,9,-999.000,9,-999.000,9,  2194.9,2,  2350.8,2,   -999.0,9,  -999.00,   7.7292,2,    25.00,-999.000,9,-999.000,9,-999.000,9, -999.00,9,  -999.0,9,  -999.0,-999.000,9,-999.000,-999.000,9,   41.05,2,   25.02,2, 3748.50,-999.0000,9,-999.0000,9,-999.0000,9,-999.0000,9,-999.0000,9,-999.0000,9,   2.1063,     -999.0,9,       0.00,2,       0.00,2,       0.14,2,        108,-999.000,-999.000,-999.000,      45.91,2,    0.96,2,     0.1,2
33RO200306_02,       A16N,     108,          1,          4,          4,2,20030728,       0536,    12.1377,   -28.9997,       5680,  4249.3,   2.3131,  34.8862,2,  34.8864,2,    244.3,2,   245.0,2,   46.42,6,   22.23,6,    0.00,6,    1.54,6,   0.008,2,   0.004,2,   0.001,2,  2201.9,2,  -999.0,9,   -999.0,9,  -999.00,-999.0000,9,  -999.00,-999.000,9,-999.000,9,-999.000,9, -999.00,9,  -999.0,9,  -999.0,-999.000,9,-999.000,-999.000,9,   41.46,2,   27.09,2, 4249.30,-999.0000,9,-999.0000,9,-999.0000,9,-999.0000,9,-999.0000,9,-999.0000,9,   1.9414,     -999.0,9,     -999.0,9,     -999.0,9,     -999.0,9,        108,-999.000,-999.000,-999.000,     -999.0,9, -999.00,9, -999.00,9
33RO200306_02,       A16N,     108,          1,          3,          3,2,20030728,       0536,    12.1377,   -28.9997,       5680,  4743.3,   2.2769,  34.8773,2,  34.8776,2,    244.5,2,   244.9,2,   48.52,6,   22.38,6,    0.00,6,    1.55,6,   0.005,2,   0.008,2,   0.000,2,  2200.2,2,  2353.4,2,    783.3,2,    20.00,   7.7235,2,    25.00,-999.000,9,-999.000,9,-999.000,9, -999.00,9,  -999.0,9,  -999.0,-999.000,9,-999.000,-999.000,9,   42.03,2,   27.39,2, 4743.30,-999.0000,9,-999.0000,9,-999.0000,9,-999.0000,9,-999.0000,9,-999.0000,9,   1.8470,     -999.0,9,       0.00,2,       0.00,2,       0.07,2,        108,-999.000,-999.000,-999.000,        0.0,2,     0.0,2,     0.3,2
33RO200306_02,       A16N,     108,          1,          2,          2,2,20030728,       0536,    12.1377,   -28.9997,       5680,  5248.8,   2.2734,  34.8707,2,  34.8710,2,    246.2,2,   246.6,2,   49.48,6,   22.32,6,    0.00,6,    1.56,6,   0.018,2,   0.016,2,   0.003,2,  2199.6,2,  2353.1,2,   -999.0,9,  -999.00,   7.7201,2,    25.00,-999.000,9,-999.000,9,-999.000,9, -999.00,9,  -999.0,9,  -999.0,-999.000,9,-999.000,-999.000,9,   41.14,2,   27.19,2, 5248.80,-999.0000,9,-999.0000,9,-999.0000,9,-999.0000,9,-999.0000,9,-999.0000,9,   1.7800,     -999.0,9,     -999.0,9,     -999.0,9,     -999.0,9,        108,-999.000,-999.000,-999.000,     -999.0,9, -999.00,9, -999.00,9
33RO200306_02,       A16N,     108,          1,          1,          1,2,20030728,       0536,    12.1377,   -28.9997,       5680,  5797.8,   2.3183,  34.8670,2,  34.8697,2,    246.2,2,   247.3,2,   50.19,2,   22.32,2,    0.01,2,    1.56,2,   0.065,2,   0.064,2,   0.009,2,  2199.3,6,  2350.6,6,    790.1,2,    20.00,   7.7163,6,    25.00,-999.000,9,-999.000,9,-999.000,9, -999.00,9,  -999.0,9,  -999.0,-999.000,9,-999.000,-999.000,9,   41.58,2,   27.58,2, 5797.80,-999.0000,9,-999.0000,9,-999.0000,9,-999.0000,9,-999.0000,9,-999.0000,9,   1.7508,     -999.0,9,     -999.0,9,       0.00,2,       0.15,2,        108,-999.000,-999.000,-999.000,        0.0,2,     0.0,2,    0.29,2