BOTTLE,20230908CCHSIOCBG
EXPOCODE,SECT_ID,STNNBR,CASTNO,SAMPNO,BTLNBR,BTLNBR_FLAG_W,DATE,TIME,LATITUDE,LONGITUDE,DEPTH,CTDPRS,CTDTMP,CTDSAL,CTDSAL_FLAG_W,SALNTY,SALNTY_FLAG_W,CTDOXY,CTDOXY_FLAG_W,OXYGEN,OXYGEN_FLAG_W,SILCAT,SILCAT_FLAG_W,NITRAT,NITRAT_FLAG_W,NITRIT,NITRIT_FLAG_W,PHSPHT,PHSPHT_FLAG_W,CFC-11,CFC-11_FLAG_W,CFC-12,CFC-12_FLAG_W,CFC113,CFC113_FLAG_W,TCARBN,TCARBN_FLAG_W,ALKALI,ALKALI_FLAG_W,FCO2,FCO2_FLAG_W,FCO2TMP,PH_SWS,PH_SWS_FLAG_W,PH_TMP,TRITUM,TRITUM_FLAG_W,HELIUM,HELIUM_FLAG_W,DELHE3,DELHE3_FLAG_W,DELC13,DELC13_FLAG_W,DELC14,DELC14_FLAG_W,C14ERR,NEON,NEON_FLAG_W,NEONER,POC,POC_FLAG_W,DOC,DOC_FLAG_W,TDN,TDN_FLAG_W,CTDRAW,CDOM325,CDOM325_FLAG_W,CDOM340,CDOM340_FLAG_W,CDOM380,CDOM380_FLAG_W,CDOM412,CDOM412_FLAG_W,CDOMSL,CDOMSL_FLAG_W,CDOMSN,CDOMSN_FLAG_W,THETA,PON,PON_FLAG_W,HCFC-22,HCFC-22_FLAG_W,HCFC-142b,HCFC-142b_FLAG_W,HCFC-141b,HCFC-141b_FLAG_W,STNNBR_U,HELIER,DELHER,TRITER,CH3CL,CH3CL_FLAG_W,CH3BR,CH3BR_FLAG_W,CH3I,CH3I_FLAG_W
,,,,,,,,,,,METERS,DBAR,ITS-90,PSS-78,,PSS-78,,UMOL/KG,,UMOL/KG,,UMOL/KG,,UMOL/KG,,UMOL/KG,,UMOL/KG,,PMOL/KG,,PMOL/KG,,PMOL/KG,,UMOL/KG,,UMOL/KG,,UATM,,DEG C,,,DEG C,TU,,NMOL/KG,,PERCNT,,/MILLE,,/MILLE,,/MILLE,NMOL/KG,,NMOL/KG,UG/KG,,UMOL/KG,,UMOL/KG,,DBAR,1/M,,1/M,,1/M,,1/M,,1/NM,,1/NM,,DEG C,UMOL/L,,PMOL/KG,,PMOL/KG,,PMOL/KG,,,NMOL/KG,PERCNT,TU,PMOL/KG,,PMOL/KG,,PMOL/KG,
33RO200306_02,       A16N,     110,          2,          7,          7,2,20030728,       2220,    11.0008,   -29.0003,       5974,  3600.0,   2.4629,  34.9054,2,  34.9053,2,    245.6,2,   245.3,2,   41.00,2,   21.95,2,    0.00,2,    1.51,2,   0.006,2,   0.003,2,   0.001,2,  2188.7,2,  2342.3,2,   -999.0,9,  -999.00,   7.7243,2,    25.00,-999.000,9,-999.000,9,-999.000,9, -999.00,9,  -999.0,9,  -999.0,-999.000,9,-999.000,-999.000,9,   41.30,2,   25.65,2, 3600.00,-999.0000,9,-999.0000,9,-999.0000,9,-999.0000,9,-999.0000,9,-999.0000,9,   2.1605,     -999.0,9,       0.01,2,       0.00,2,       0.10,2,        110,-999.000,-999.000,-999.000,      26.71,2,    0.69,2,    0.11,2
33RO200306_02,       A16N,     110,          2,          6,          6,2,20030728,       2220,    11.0008,   -29.0003,       5974,  3999.7,   2.3733,  34.8941,2,  34.8940,2,    246.0,2,   246.7,2,   43.75,2,   22.16,2,    0.00,2,    1.52,2,   0.011,2,   0.000,2,   0.001,2,  2190.5,2,  2345.4,2,    772.8,2,    20.00,   7.7250,2,    25.00,-999.000,9,-999.000,9,-999.000,9, -999.00,9,  -999.0,9,  -999.0,-999.000,9,-999.000,-999.000,9,   41.46,2,   27.03,2, 3999.70,-999.0000,9,-999.0000,9,-999.0000,9,-999.0000,9,-999.0000,9,-999.0000,9,   2.0287,     -999.0,9,     -999.0,9,     -999.0,9,     -999.0,9,        110,-999.000,-999.000,-999.000,     -999.0,9, -999.00,9, -999.00,9
33RO200306_02,       A16N,     110,          2,          5,          5,2,20030728,       2220,    11.0008,   -29.0003,       5974,  4400.3,   2.3137,  34.8845,2,  34.8834,2,    245.0,2,   245.7,2,   46.99,2,   22.45,2,    0.01,2,    1.55,2,   0.007,2,   0.009,2,   0.001,2,  2196.1,2,  2348.3,2,    777.9,6,    20.00,   7.7213,2,    25.00,-999.000,9,-999.000,9,-999.000,9, -999.00,9,  -999.0,9,  -999.0,-999.000,9,-999.000,-999.000,9,   40.57,2,   27.05,2, 4400.30,-999.0000,9,-999.0000,9,-999.0000,9,-999.0000,9,-999.0000,9,-999.0000,9,   1.9241,     -999.0,9,     -999.0,9,     -999.0,9,     -999.0,9,        110,-999.000,-999.000,-999.000,     -999.0,9, -999.00,9, -999.00,9
33RO200306_02,       A16N,     110,          2,          4,          4,2,20030728,       2220,    11.0008,   -29.0003,       5974,  4799.0,   2.2649,  34.8757,2,  34.8755,2,    245.0,2,   245.1,2,   49.93,6,   22.73,6,    0.00,6,    1.57,6,   0.014,2,   0.008,2,   0.001,2,  2198.8,2,  2352.2,2,   -999.0,9,  -999.00,   7.7199,2,    25.00,-999.000,9,-999.000,9,-999.000,9, -999.00,9,  -999.0,9,  -999.0,-999.000,9,-999.000,-999.000,9,   40.65,2,   26.27,2, 4799.00,-999.0000,9,-999.0000,9,-999.0000,9,-999.0000,9,-999.0000,9,-999.0000,9,   1.8286,     -999.0,9,       0.00,2,       0.00,2,       0.06,2,        110,-999.000,-999.000,-999.000,      39.15,2,     1.3,2,    0.21,2
33RO200306_02,       A16N,     110,          2,          3,          3,2,20030728,       2220,    11.0008,   -29.0003,       5974,  5199.2,   2.2676,  34.8707,2,  34.8703,2,    246.9,2,   247.0,2,   50.50,6,   22.66,6,    0.00,6,    1.58,6,   0.026,2,   0.017,2,   0.001,2,  2197.3,2,  2350.5,2,    784.5,2,    20.00,   7.7215,2,    25.00,   0.233,2,-999.000,9,-999.000,9, -999.00,9,  -999.0,9,  -999.0,-999.000,9,-999.000,-999.000,9,   40.81,2,   27.47,2, 5199.20,-999.0000,9,-999.0000,9,-999.0000,9,-999.0000,9,-999.0000,9,-999.0000,9,   1.7808,     -999.0,9,     -999.0,9,     -999.0,9,     -999.0,9,        110,-999.000,-999.000,   0.010,     -999.0,9, -999.00,9, -999.00,9
33RO200306_02,       A16N,     110,          2,          2,          2,2,20030728,       2220,    11.0008,   -29.0003,       5974,  5600.2,   2.2984,  34.8681,2,  34.8684,2,    248.0,2,   247.5,2,   50.91,6,   22.66,6,    0.00,6,    1.58,6,   0.036,2,   0.024,2,   0.004,2,  2197.5,2,  2349.3,2,    786.2,2,    20.00,   7.7174,2,    25.00,-999.000,9,-999.000,9,-999.000,9, -999.00,9,  -999.0,9,  -999.0,-999.000,9,-999.000,-999.000,9,   40.00,2,   26.45,2, 5600.20,-999.0000,9,-999.0000,9,-999.0000,9,-999.0000,9,-999.0000,9,-999.0000,9,   1.7581,     -999.0,9,     -999.0,9,     -999.0,9,     -999.0,9,        110,-999.000,-999.000,-999.000,     -999.0,9, -999.00,9, -999.00,9
33RO200306_02,       A16N,     110,          2,          1,          1,2,20030728,       2220,    11.0008,   -29.0003,       5974,  6071.2,   2.3578,  34.8670,2,  34.8666,2,    248.2,2,   247.8,2,   51.16,6,   22.69,6,    0.01,6,    1.58,6,   0.047,2,   0.032,2,   0.004,2,  2198.1,6,  2350.6,6,    786.5,2,    20.00,   7.7175,6,    25.00,   0.192,2,   1.905,3,   3.445,2, -999.00,9,  -999.0,9,  -999.0,   8.110,2,   0.046,-999.000,9,   40.65,2,   26.32,2, 6071.20,-999.0000,9,-999.0000,9,-999.0000,9,-999.0000,9,-999.0000,9,-999.0000,9,   1.7513,     -999.0,9,     -999.0,9,       0.00,2,       0.75,2,        110,   0.004,   0.137,   0.010,      25.19,2,    1.74,2,    0.24,2