BOTTLE,20230908CCHSIOCBG
EXPOCODE,SECT_ID,STNNBR,CASTNO,SAMPNO,BTLNBR,BTLNBR_FLAG_W,DATE,TIME,LATITUDE,LONGITUDE,DEPTH,CTDPRS,CTDTMP,CTDSAL,CTDSAL_FLAG_W,SALNTY,SALNTY_FLAG_W,CTDOXY,CTDOXY_FLAG_W,OXYGEN,OXYGEN_FLAG_W,SILCAT,SILCAT_FLAG_W,NITRAT,NITRAT_FLAG_W,NITRIT,NITRIT_FLAG_W,PHSPHT,PHSPHT_FLAG_W,CFC-11,CFC-11_FLAG_W,CFC-12,CFC-12_FLAG_W,CFC113,CFC113_FLAG_W,TCARBN,TCARBN_FLAG_W,ALKALI,ALKALI_FLAG_W,FCO2,FCO2_FLAG_W,FCO2TMP,PH_SWS,PH_SWS_FLAG_W,PH_TMP,TRITUM,TRITUM_FLAG_W,HELIUM,HELIUM_FLAG_W,DELHE3,DELHE3_FLAG_W,DELC13,DELC13_FLAG_W,DELC14,DELC14_FLAG_W,C14ERR,NEON,NEON_FLAG_W,NEONER,POC,POC_FLAG_W,DOC,DOC_FLAG_W,TDN,TDN_FLAG_W,CTDRAW,CDOM325,CDOM325_FLAG_W,CDOM340,CDOM340_FLAG_W,CDOM380,CDOM380_FLAG_W,CDOM412,CDOM412_FLAG_W,CDOMSL,CDOMSL_FLAG_W,CDOMSN,CDOMSN_FLAG_W,THETA,PON,PON_FLAG_W,HCFC-22,HCFC-22_FLAG_W,HCFC-142b,HCFC-142b_FLAG_W,HCFC-141b,HCFC-141b_FLAG_W,STNNBR_U,HELIER,DELHER,TRITER,CH3CL,CH3CL_FLAG_W,CH3BR,CH3BR_FLAG_W,CH3I,CH3I_FLAG_W
,,,,,,,,,,,METERS,DBAR,ITS-90,PSS-78,,PSS-78,,UMOL/KG,,UMOL/KG,,UMOL/KG,,UMOL/KG,,UMOL/KG,,UMOL/KG,,PMOL/KG,,PMOL/KG,,PMOL/KG,,UMOL/KG,,UMOL/KG,,UATM,,DEG C,,,DEG C,TU,,NMOL/KG,,PERCNT,,/MILLE,,/MILLE,,/MILLE,NMOL/KG,,NMOL/KG,UG/KG,,UMOL/KG,,UMOL/KG,,DBAR,1/M,,1/M,,1/M,,1/M,,1/NM,,1/NM,,DEG C,UMOL/L,,PMOL/KG,,PMOL/KG,,PMOL/KG,,,NMOL/KG,PERCNT,TU,PMOL/KG,,PMOL/KG,,PMOL/KG,
33RO200306_01,       A16N,     061,          2,          7,          7,2,20030706,       0104,    34.9990,   -20.5628,       5141,  3397.1,   2.6520,  34.9282,2,  34.9293,2,    246.3,2,   246.0,2,   37.03,2,   20.99,2,    0.00,2,    1.41,2,   0.067,2,   0.037,2,   0.004,2,  2193.2,2,  2336.5,2,   -999.0,9,  -999.00,   7.7329,2,    25.00,   0.095,2,-999.000,9,-999.000,9, -999.00,9,  -999.0,9,  -999.0,-999.000,9,-999.000,-999.000,9,   41.13,2,   25.39,2, 3397.10,-999.0000,9,-999.0000,9,-999.0000,9,-999.0000,9,-999.0000,9,-999.0000,9,   2.3669,     -999.0,9,     -999.0,9,     -999.0,9,     -999.0,9,         61,-999.000,-999.000,   0.010,     -999.0,9, -999.00,9, -999.00,9
33RO200306_01,       A16N,     061,          2,          6,          6,2,20030706,       0104,    34.9990,   -20.5628,       5141,  3673.0,   2.5734,  34.9184,2,  34.9189,2,    245.8,2,   245.7,2,   39.72,2,   21.44,2,    0.00,2,    1.44,2,   0.030,2,   0.017,2,   0.004,2,  2195.2,2,  2338.4,2,    754.4,3,    20.00,   7.7300,2,    25.00,-999.000,9,-999.000,9,-999.000,9, -999.00,9,  -999.0,9,  -999.0,-999.000,9,-999.000,-999.000,9,   40.08,2,   25.57,2, 3673.00,-999.0000,9,-999.0000,9,-999.0000,9,-999.0000,9,-999.0000,9,-999.0000,9,   2.2601,     -999.0,9,     -999.0,9,     -999.0,9,     -999.0,9,         61,-999.000,-999.000,-999.000,     -999.0,9, -999.00,9, -999.00,9
33RO200306_01,       A16N,     061,          2,          5,          5,2,20030706,       0104,    34.9990,   -20.5628,       5141,  3949.7,   2.5210,  34.9103,2,  34.9114,2,    245.7,2,   244.9,2,   41.64,2,   21.69,2,    0.00,2,    1.46,2,   0.012,2,   0.008,2,   0.002,2,  2195.0,2,  2339.9,2,   -999.0,9,  -999.00,   7.7268,2,    25.00,   0.084,2,   1.826,2,   1.548,2, -999.00,9,  -999.0,9,  -999.0,   7.885,2,   0.060,-999.000,9,   39.83,2,   25.50,2, 3949.70,-999.0000,9,-999.0000,9,-999.0000,9,-999.0000,9,-999.0000,9,-999.0000,9,   2.1779,     -999.0,9,     -999.0,9,     -999.0,9,     -999.0,9,         61,   0.004,   0.192,   0.000,     -999.0,9, -999.00,9, -999.00,9
33RO200306_01,       A16N,     061,          2,          4,          4,2,20030706,       0104,    34.9990,   -20.5628,       5141,  4297.4,   2.4656,  34.9010,2,  34.9020,2,    245.6,2,   245.7,2,   43.69,2,   21.91,2,    0.00,2,    1.47,2,   0.006,2,   0.003,2,   0.002,2,  2197.7,2,  2342.0,2,    763.3,6,    20.00,   7.7310,2,    25.00,-999.000,9,-999.000,9,-999.000,9, -999.00,9,  -999.0,9,  -999.0,-999.000,9,-999.000,-999.000,9,   40.57,2,   26.17,2, 4297.40,-999.0000,9,-999.0000,9,-999.0000,9,-999.0000,9,-999.0000,9,-999.0000,9,   2.0836,     -999.0,9,     -999.0,9,     -999.0,9,     -999.0,9,         61,-999.000,-999.000,-999.000,     -999.0,9, -999.00,9, -999.00,9
33RO200306_01,       A16N,     061,          2,          3,          3,2,20030706,       0104,    34.9990,   -20.5628,       5141,  4599.8,   2.4381,  34.8946,2,  34.8952,2,    246.5,2,   249.1,3,   45.17,6,   22.06,6,    0.00,6,    1.48,6,   0.002,2,   0.005,2,   0.002,2,  2199.5,2,  2343.7,2,   -999.0,9,  -999.00,   7.7272,2,    25.00,-999.000,9,   1.846,2,   1.821,2, -999.00,9,  -999.0,9,  -999.0,   7.908,2,   0.060,-999.000,9,   41.63,2,   26.30,2, 4599.80,-999.0000,9,-999.0000,9,-999.0000,9,-999.0000,9,-999.0000,9,-999.0000,9,   2.0206,     -999.0,9,     -999.0,9,     -999.0,9,     -999.0,9,         61,   0.004,   0.192,-999.000,     -999.0,9, -999.00,9, -999.00,9
33RO200306_01,       A16N,     061,          2,          2,          2,2,20030706,       0104,    34.9990,   -20.5628,       5141,  4899.0,   2.4500,  34.8917,2,  34.8930,2,    246.1,2,   246.2,2,   45.77,6,   22.11,6,    0.00,6,    1.49,6,   0.007,2,   0.004,2,   0.003,2,  2201.5,2,  2344.7,2,    765.2,2,    20.00,   7.7285,2,    25.00,-999.000,9,-999.000,9,-999.000,9, -999.00,9,  -999.0,9,  -999.0,-999.000,9,-999.000,-999.000,9,   40.24,2,   26.73,2, 4899.00,-999.0000,9,-999.0000,9,-999.0000,9,-999.0000,9,-999.0000,9,-999.0000,9,   1.9951,     -999.0,9,     -999.0,9,     -999.0,9,     -999.0,9,         61,-999.000,-999.000,-999.000,     -999.0,9, -999.00,9, -999.00,9
33RO200306_01,       A16N,     061,          2,          1,          1,2,20030706,       0104,    34.9990,   -20.5628,       5141,  5214.8,   2.4821,  34.8905,2,  34.8917,2,    246.5,2,   251.9,3,   46.06,6,   22.18,6,    0.00,6,    1.49,6,   0.009,2,   0.008,2,   0.002,2,  2201.5,6,  2345.1,2,    765.4,2,    20.00,   7.7221,2,    25.00,   0.010,2,   1.846,2,   1.463,2, -999.00,9,  -999.0,9,  -999.0,   7.870,2,   0.059,-999.000,9,   40.81,2,   27.08,2, 5214.80,-999.0000,9,-999.0000,9,-999.0000,9,-999.0000,9,-999.0000,9,-999.0000,9,   1.9858,     -999.0,9,     -999.0,9,     -999.0,9,     -999.0,9,         61,   0.004,   0.192,   0.010,     -999.0,9, -999.00,9, -999.00,9