BOTTLE,20230908CCHSIOCBG
EXPOCODE,SECT_ID,STNNBR,CASTNO,SAMPNO,BTLNBR,BTLNBR_FLAG_W,DATE,TIME,LATITUDE,LONGITUDE,DEPTH,CTDPRS,CTDTMP,CTDSAL,CTDSAL_FLAG_W,SALNTY,SALNTY_FLAG_W,CTDOXY,CTDOXY_FLAG_W,OXYGEN,OXYGEN_FLAG_W,SILCAT,SILCAT_FLAG_W,NITRAT,NITRAT_FLAG_W,NITRIT,NITRIT_FLAG_W,PHSPHT,PHSPHT_FLAG_W,CFC-11,CFC-11_FLAG_W,CFC-12,CFC-12_FLAG_W,CFC113,CFC113_FLAG_W,TCARBN,TCARBN_FLAG_W,ALKALI,ALKALI_FLAG_W,FCO2,FCO2_FLAG_W,FCO2TMP,PH_SWS,PH_SWS_FLAG_W,PH_TMP,TRITUM,TRITUM_FLAG_W,HELIUM,HELIUM_FLAG_W,DELHE3,DELHE3_FLAG_W,DELC13,DELC13_FLAG_W,DELC14,DELC14_FLAG_W,C14ERR,NEON,NEON_FLAG_W,NEONER,POC,POC_FLAG_W,DOC,DOC_FLAG_W,TDN,TDN_FLAG_W,CTDRAW,CDOM325,CDOM325_FLAG_W,CDOM340,CDOM340_FLAG_W,CDOM380,CDOM380_FLAG_W,CDOM412,CDOM412_FLAG_W,CDOMSL,CDOMSL_FLAG_W,CDOMSN,CDOMSN_FLAG_W,THETA,PON,PON_FLAG_W,HCFC-22,HCFC-22_FLAG_W,HCFC-142b,HCFC-142b_FLAG_W,HCFC-141b,HCFC-141b_FLAG_W,STNNBR_U,HELIER,DELHER,TRITER,CH3CL,CH3CL_FLAG_W,CH3BR,CH3BR_FLAG_W,CH3I,CH3I_FLAG_W
,,,,,,,,,,,METERS,DBAR,ITS-90,PSS-78,,PSS-78,,UMOL/KG,,UMOL/KG,,UMOL/KG,,UMOL/KG,,UMOL/KG,,UMOL/KG,,PMOL/KG,,PMOL/KG,,PMOL/KG,,UMOL/KG,,UMOL/KG,,UATM,,DEG C,,,DEG C,TU,,NMOL/KG,,PERCNT,,/MILLE,,/MILLE,,/MILLE,NMOL/KG,,NMOL/KG,UG/KG,,UMOL/KG,,UMOL/KG,,DBAR,1/M,,1/M,,1/M,,1/M,,1/NM,,1/NM,,DEG C,UMOL/L,,PMOL/KG,,PMOL/KG,,PMOL/KG,,,NMOL/KG,PERCNT,TU,PMOL/KG,,PMOL/KG,,PMOL/KG,
33RO200306_02,       A16N,     083,          1,         35,         35,2,20030720,       0728,    24.5680,   -26.4298,       5424,     3.6,  24.6085,  37.4004,2,  37.4032,2,    212.2,2,   208.6,2,    0.49,2,    0.00,2,    0.01,2,    0.06,2,   1.880,2,   1.200,2,   0.167,2,  2101.6,6,  2446.3,6,   -999.0,9,  -999.00,   8.0400,6,    25.00,-999.000,9,-999.000,9,-999.000,9, -999.00,9,  -999.0,9,  -999.0,-999.000,9,-999.000,-999.000,9, -999.00,9, -999.00,9,    3.60,-999.0000,9,-999.0000,9,-999.0000,9,-999.0000,9,-999.0000,9,-999.0000,9,  24.6077,     -999.0,9,     -999.0,9,     -999.0,9,     -999.0,9,         83,-999.000,-999.000,-999.000,     -999.0,9, -999.00,9, -999.00,9
33RO200306_02,       A16N,     083,          1,         33,         33,2,20030720,       0728,    24.5680,   -26.4298,       5424,    15.0,  24.6049,  37.3988,2,  37.4021,2,    210.8,2,   208.2,2,    0.49,2,    0.01,2,    0.01,2,    0.05,2,-999.000,9,-999.000,9,-999.000,9,  -999.0,9,  -999.0,9,   -999.0,9,  -999.00,-999.0000,9,  -999.00,-999.000,9,-999.000,9,-999.000,9, -999.00,9,  -999.0,9,  -999.0,-999.000,9,-999.000,-999.000,9, -999.00,9, -999.00,9,   15.00,-999.0000,9,-999.0000,9,-999.0000,9,-999.0000,9,-999.0000,9,-999.0000,9,  24.6017,     -999.0,9,     -999.0,9,     -999.0,9,     -999.0,9,         83,-999.000,-999.000,-999.000,     -999.0,9, -999.00,9, -999.00,9
33RO200306_02,       A16N,     083,          1,         32,         32,2,20030720,       0728,    24.5680,   -26.4298,       5424,    45.6,  22.8224,  37.2843,2,  37.2855,2,    223.9,2,   224.6,2,    0.63,2,    0.02,2,    0.01,2,    0.05,2,-999.000,9,-999.000,9,-999.000,9,  -999.0,9,  -999.0,9,   -999.0,9,  -999.00,-999.0000,9,  -999.00,-999.000,9,-999.000,9,-999.000,9, -999.00,9,  -999.0,9,  -999.0,-999.000,9,-999.000,-999.000,9, -999.00,9, -999.00,9,   45.60,-999.0000,9,-999.0000,9,-999.0000,9,-999.0000,9,-999.0000,9,-999.0000,9,  22.8131,     -999.0,9,     -999.0,9,     -999.0,9,     -999.0,9,         83,-999.000,-999.000,-999.000,     -999.0,9, -999.00,9, -999.00,9
33RO200306_02,       A16N,     083,          1,         31,         31,2,20030720,       0728,    24.5680,   -26.4298,       5424,    65.5,  22.1925,  37.2892,2,  37.2905,2,    223.3,2,   223.5,2,    0.63,2,    0.02,2,    0.01,2,    0.05,2,   2.104,2,   1.325,2,   0.179,2,  2091.7,2,  2442.4,2,   -999.0,9,  -999.00,   8.0523,2,    25.00,-999.000,9,-999.000,9,-999.000,9, -999.00,9,  -999.0,9,  -999.0,-999.000,9,-999.000,-999.000,9, -999.00,9, -999.00,9,   65.50,-999.0000,9,-999.0000,9,-999.0000,9,-999.0000,9,-999.0000,9,-999.0000,9,  22.1793,     -999.0,9,     -999.0,9,     -999.0,9,     -999.0,9,         83,-999.000,-999.000,-999.000,     -999.0,9, -999.00,9, -999.00,9
33RO200306_02,       A16N,     083,          1,         30,         30,2,20030720,       0728,    24.5680,   -26.4298,       5424,    94.9,  21.4597,  37.1983,2,  37.1907,2,    221.6,2,   221.6,2,    0.64,2,    0.02,2,    0.01,2,    0.06,2,-999.000,9,-999.000,9,-999.000,9,  -999.0,9,  -999.0,9,   -999.0,9,  -999.00,-999.0000,9,  -999.00,-999.000,9,-999.000,9,-999.000,9, -999.00,9,  -999.0,9,  -999.0,-999.000,9,-999.000,-999.000,9, -999.00,9, -999.00,9,   94.90,-999.0000,9,-999.0000,9,-999.0000,9,-999.0000,9,-999.0000,9,-999.0000,9,  21.4411,     -999.0,9,     -999.0,9,     -999.0,9,     -999.0,9,         83,-999.000,-999.000,-999.000,     -999.0,9, -999.00,9, -999.00,9
33RO200306_02,       A16N,     083,          1,         29,         29,2,20030720,       0728,    24.5680,   -26.4298,       5424,   115.2,  20.9944,  37.1421,2,  37.1366,2,    218.7,2,   217.2,2,    0.65,2,    0.02,2,    0.01,2,    0.06,2,-999.000,9,-999.000,9,-999.000,9,  -999.0,9,  -999.0,9,   -999.0,9,  -999.00,-999.0000,9,  -999.00,-999.000,9,-999.000,9,-999.000,9, -999.00,9,  -999.0,9,  -999.0,-999.000,9,-999.000,-999.000,9, -999.00,9, -999.00,9,  115.20,-999.0000,9,-999.0000,9,-999.0000,9,-999.0000,9,-999.0000,9,-999.0000,9,  20.9721,     -999.0,9,     -999.0,9,     -999.0,9,     -999.0,9,         83,-999.000,-999.000,-999.000,     -999.0,9, -999.00,9, -999.00,9
33RO200306_02,       A16N,     083,          1,         28,         28,2,20030720,       0728,    24.5680,   -26.4298,       5424,   140.0,  20.2619,  37.0281,2,  37.0206,2,    210.8,2,   210.9,2,    0.74,2,    0.20,2,    0.08,2,    0.07,2,   2.250,2,   1.395,2,   0.164,2,  2110.0,2,  2420.5,2,   -999.0,9,  -999.00,   7.9811,2,    25.00,-999.000,9,-999.000,9,-999.000,9, -999.00,9,  -999.0,9,  -999.0,-999.000,9,-999.000,-999.000,9, -999.00,9, -999.00,9,  140.00,-999.0000,9,-999.0000,9,-999.0000,9,-999.0000,9,-999.0000,9,-999.0000,9,  20.2355,     -999.0,9,     -999.0,9,     -999.0,9,     -999.0,9,         83,-999.000,-999.000,-999.000,     -999.0,9, -999.00,9, -999.00,9
33RO200306_02,       A16N,     083,          1,         27,         27,2,20030720,       0728,    24.5680,   -26.4298,       5424,   165.4,  19.0729,  36.7729,2,  36.7788,2,    195.6,2,   194.8,2,    1.16,6,    2.71,6,    0.05,6, -999.00,0,-999.000,9,-999.000,9,-999.000,9,  -999.0,9,  -999.0,9,   -999.0,9,  -999.00,-999.0000,9,  -999.00,-999.000,9,-999.000,9,-999.000,9, -999.00,9,  -999.0,9,  -999.0,-999.000,9,-999.000,-999.000,9, -999.00,9, -999.00,9,  165.40,-999.0000,9,-999.0000,9,-999.0000,9,-999.0000,9,-999.0000,9,-999.0000,9,  19.0430,     -999.0,9,     -999.0,9,     -999.0,9,     -999.0,9,         83,-999.000,-999.000,-999.000,     -999.0,9, -999.00,9, -999.00,9
33RO200306_02,       A16N,     083,          1,         26,         26,2,20030720,       0728,    24.5680,   -26.4298,       5424,   190.3,  17.9678,  36.5351,2,  36.5329,2,    180.4,2,   183.2,2,    1.78,2,    5.56,2,    0.01,2,    0.35,2,-999.000,9,-999.000,9,-999.000,9,  -999.0,9,  -999.0,9,   -999.0,9,  -999.00,-999.0000,9,  -999.00,-999.000,9,-999.000,9,-999.000,9, -999.00,9,  -999.0,9,  -999.0,-999.000,9,-999.000,-999.000,9, -999.00,9, -999.00,9,  190.30,-999.0000,9,-999.0000,9,-999.0000,9,-999.0000,9,-999.0000,9,-999.0000,9,  17.9348,     -999.0,9,     -999.0,9,     -999.0,9,     -999.0,9,         83,-999.000,-999.000,-999.000,     -999.0,9, -999.00,9, -999.00,9
33RO200306_02,       A16N,     083,          1,         25,         25,2,20030720,       0728,    24.5680,   -26.4298,       5424,   225.8,  17.3422,  36.4246,2,  36.4184,2,    183.2,2,   185.1,2,    1.93,2,    6.27,2,    0.01,2,    0.38,2,   2.433,2,   1.441,2,   0.042,2,  2125.7,2,  2380.8,2,   -999.0,9,  -999.00,   7.9244,2,    25.00,-999.000,9,-999.000,9,-999.000,9, -999.00,9,  -999.0,9,  -999.0,-999.000,9,-999.000,-999.000,9, -999.00,9, -999.00,9,  225.80,-999.0000,9,-999.0000,9,-999.0000,9,-999.0000,9,-999.0000,9,-999.0000,9,  17.3040,     -999.0,9,     -999.0,9,     -999.0,9,     -999.0,9,         83,-999.000,-999.000,-999.000,     -999.0,9, -999.00,9, -999.00,9
33RO200306_02,       A16N,     083,          1,         24,         24,2,20030720,       0728,    24.5680,   -26.4298,       5424,   274.9,  16.2326,  36.2311,2,  36.2333,2,    182.0,2,   184.7,2,    2.53,2,    7.99,2,    0.01,2,    0.48,2,-999.000,9,-999.000,9,-999.000,9,  -999.0,9,  -999.0,9,   -999.0,9,  -999.00,-999.0000,9,  -999.00,-999.000,9,-999.000,9,-999.000,9, -999.00,9,  -999.0,9,  -999.0,-999.000,9,-999.000,-999.000,9, -999.00,9, -999.00,9,  274.90,-999.0000,9,-999.0000,9,-999.0000,9,-999.0000,9,-999.0000,9,-999.0000,9,  16.1882,     -999.0,9,     -999.0,9,     -999.0,9,     -999.0,9,         83,-999.000,-999.000,-999.000,     -999.0,9, -999.00,9, -999.00,9
33RO200306_02,       A16N,     083,          1,         23,         23,2,20030720,       0728,    24.5680,   -26.4298,       5424,   325.1,  15.3876,  36.0996,2,  36.1013,2,    181.2,2,   183.6,2,    3.13,2,    9.57,2,    0.01,2,    0.68,2,-999.000,9,-999.000,9,-999.000,9,  -999.0,9,  -999.0,9,   -999.0,9,  -999.00,-999.0000,9,  -999.00,-999.000,9,-999.000,9,-999.000,9, -999.00,9,  -999.0,9,  -999.0,-999.000,9,-999.000,-999.000,9, -999.00,9, -999.00,9,  325.10,-999.0000,9,-999.0000,9,-999.0000,9,-999.0000,9,-999.0000,9,-999.0000,9,  15.3369,     -999.0,9,     -999.0,9,     -999.0,9,     -999.0,9,         83,-999.000,-999.000,-999.000,     -999.0,9, -999.00,9, -999.00,9
33RO200306_02,       A16N,     083,          1,         22,         22,2,20030720,       0728,    24.5680,   -26.4298,       5424,   375.1,  14.5871,  35.9765,2,  35.9683,2,    179.3,2,   182.6,2,    3.83,2,   11.06,2,    0.01,2,    0.68,2,   2.494,2,   1.397,2,   0.034,2,  2138.6,2,  2354.8,2,   -999.0,9,  -999.00,   7.8591,2,    25.00,-999.000,9,-999.000,9,-999.000,9, -999.00,9,  -999.0,9,  -999.0,-999.000,9,-999.000,-999.000,9, -999.00,9, -999.00,9,  375.10,-999.0000,9,-999.0000,9,-999.0000,9,-999.0000,9,-999.0000,9,-999.0000,9,  14.5306,     -999.0,9,     -999.0,9,     -999.0,9,     -999.0,9,         83,-999.000,-999.000,-999.000,     -999.0,9, -999.00,9, -999.00,9
33RO200306_02,       A16N,     083,          1,         21,         21,2,20030720,       0728,    24.5680,   -26.4298,       5424,   450.5,  13.3265,  35.8061,2,  35.8013,2,    179.3,2,   169.5,2,    5.27,2,   14.50,2,    0.01,2,    0.88,2,-999.000,9,-999.000,9,-999.000,9,  -999.0,9,  -999.0,9,   -999.0,9,  -999.00,-999.0000,9,  -999.00,-999.000,9,-999.000,9,-999.000,9, -999.00,9,  -999.0,9,  -999.0,-999.000,9,-999.000,-999.000,9, -999.00,9, -999.00,9,  450.50,-999.0000,9,-999.0000,9,-999.0000,9,-999.0000,9,-999.0000,9,-999.0000,9,  13.2625,     -999.0,9,     -999.0,9,     -999.0,9,     -999.0,9,         83,-999.000,-999.000,-999.000,     -999.0,9, -999.00,9, -999.00,9
33RO200306_02,       A16N,     083,          1,         20,         20,2,20030720,       0728,    24.5680,   -26.4298,       5424,   550.2,  11.7508,  35.6122,2,  35.6155,2,    163.2,2,   164.8,2,    7.21,2,   17.57,2,    0.01,2,    1.08,2,-999.000,9,-999.000,9,-999.000,9,  -999.0,9,  -999.0,9,   -999.0,9,  -999.00,-999.0000,9,  -999.00,-999.000,9,-999.000,9,-999.000,9, -999.00,9,  -999.0,9,  -999.0,-999.000,9,-999.000,-999.000,9, -999.00,9, -999.00,9,  550.20,-999.0000,9,-999.0000,9,-999.0000,9,-999.0000,9,-999.0000,9,-999.0000,9,  11.6785,     -999.0,9,     -999.0,9,     -999.0,9,     -999.0,9,         83,-999.000,-999.000,-999.000,     -999.0,9, -999.00,9, -999.00,9
33RO200306_02,       A16N,     083,          1,         19,         19,2,20030720,       0728,    24.5680,   -26.4298,       5424,   650.1,  10.7163,  35.4902,2,  35.4950,2,    154.0,2,   152.2,2,    9.72,2,   20.73,2,    0.01,2,    1.27,2,   1.386,2,   0.722,2,   0.018,2,  2179.1,2,  2331.9,2,   -999.0,9,  -999.00,   7.7291,2,    25.00,-999.000,9,-999.000,9,-999.000,9, -999.00,9,  -999.0,9,  -999.0,-999.000,9,-999.000,-999.000,9, -999.00,9, -999.00,9,  650.10,-999.0000,9,-999.0000,9,-999.0000,9,-999.0000,9,-999.0000,9,-999.0000,9,  10.6353,     -999.0,9,     -999.0,9,     -999.0,9,     -999.0,9,         83,-999.000,-999.000,-999.000,     -999.0,9, -999.00,9, -999.00,9
33RO200306_02,       A16N,     083,          1,         18,         18,2,20030720,       0728,    24.5680,   -26.4298,       5424,   800.0,   8.7566,  35.2608,2,  35.2612,2,    131.1,2,   128.7,2,   15.84,2,   26.59,2,    0.01,2,    1.70,2,-999.000,9,-999.000,9,-999.000,9,  -999.0,9,  -999.0,9,   -999.0,9,  -999.00,-999.0000,9,  -999.00,-999.000,9,-999.000,9,-999.000,9, -999.00,9,  -999.0,9,  -999.0,-999.000,9,-999.000,-999.000,9, -999.00,9, -999.00,9,  800.00,-999.0000,9,-999.0000,9,-999.0000,9,-999.0000,9,-999.0000,9,-999.0000,9,   8.6678,     -999.0,9,     -999.0,9,     -999.0,9,     -999.0,9,         83,-999.000,-999.000,-999.000,     -999.0,9, -999.00,9, -999.00,9
33RO200306_02,       A16N,     083,          1,         17,         17,2,20030720,       0728,    24.5680,   -26.4298,       5424,   949.6,   7.4316,  35.1521,2,  35.1536,2,    142.2,2,  -999.0,1,   18.71,2,   27.34,2,    0.01,2,    1.79,2,   0.157,2,   0.087,2,   0.002,2,  2205.2,2,  2324.6,2,   -999.0,9,  -999.00,   7.6401,2,    25.00,-999.000,9,-999.000,9,-999.000,9, -999.00,9,  -999.0,9,  -999.0,-999.000,9,-999.000,-999.000,9, -999.00,9, -999.00,9,  949.60,-999.0000,9,-999.0000,9,-999.0000,9,-999.0000,9,-999.0000,9,-999.0000,9,   7.3346,     -999.0,9,     -999.0,9,     -999.0,9,     -999.0,9,         83,-999.000,-999.000,-999.000,     -999.0,9, -999.00,9, -999.00,9
33RO200306_02,       A16N,     083,          1,         16,         16,2,20030720,       0728,    24.5680,   -26.4298,       5424,  1099.9,   6.5999,  35.1367,2,  35.1387,2,    161.3,2,   162.5,2,   19.15,2,   25.76,2,    0.00,2,    1.70,2,   0.104,2,   0.059,2,   0.003,2,  -999.0,9,  -999.0,9,   -999.0,9,  -999.00,-999.0000,9,  -999.00,-999.000,9,-999.000,9,-999.000,9, -999.00,9,  -999.0,9,  -999.0,-999.000,9,-999.000,-999.000,9, -999.00,9, -999.00,9, 1099.90,-999.0000,9,-999.0000,9,-999.0000,9,-999.0000,9,-999.0000,9,-999.0000,9,   6.4932,     -999.0,9,     -999.0,9,     -999.0,9,     -999.0,9,         83,-999.000,-999.000,-999.000,     -999.0,9, -999.00,9, -999.00,9
33RO200306_02,       A16N,     083,          1,         15,         15,2,20030720,       0728,    24.5680,   -26.4298,       5424,  1250.4,   6.1943,  35.1651,2,  35.1638,2,    180.0,2,   189.3,2,   18.88,2,   24.28,2,    0.00,2,    1.47,2,-999.000,9,-999.000,9,-999.000,9,  -999.0,9,  -999.0,9,   -999.0,9,  -999.00,-999.0000,9,  -999.00,-999.000,9,-999.000,9,-999.000,9, -999.00,9,  -999.0,9,  -999.0,-999.000,9,-999.000,-999.000,9, -999.00,9, -999.00,9, 1250.40,-999.0000,9,-999.0000,9,-999.0000,9,-999.0000,9,-999.0000,9,-999.0000,9,   6.0755,     -999.0,9,     -999.0,9,     -999.0,9,     -999.0,9,         83,-999.000,-999.000,-999.000,     -999.0,9, -999.00,9, -999.00,9
33RO200306_02,       A16N,     083,          1,         14,         14,2,20030720,       0728,    24.5680,   -26.4298,       5424,  1500.4,   5.5050,  35.1848,2,  35.1873,2,    203.9,2,   201.1,2,   19.16,2,   22.14,2,    0.00,2,    1.46,2,-999.000,9,-999.000,9,-999.000,9,  -999.0,9,  -999.0,9,   -999.0,9,  -999.00,-999.0000,9,  -999.00,-999.000,9,-999.000,9,-999.000,9, -999.00,9,  -999.0,9,  -999.0,-999.000,9,-999.000,-999.000,9, -999.00,9, -999.00,9, 1500.40,-999.0000,9,-999.0000,9,-999.0000,9,-999.0000,9,-999.0000,9,-999.0000,9,   5.3674,     -999.0,9,     -999.0,9,     -999.0,9,     -999.0,9,         83,-999.000,-999.000,-999.000,     -999.0,9, -999.00,9, -999.00,9
33RO200306_02,       A16N,     083,          1,         13,         13,2,20030720,       0728,    24.5680,   -26.4298,       5424,  1700.4,   4.9086,  35.1436,2,  35.1440,2,    214.9,2,   213.6,2,   20.46,2,   21.49,2,    0.00,2,    1.44,2,-999.000,9,-999.000,9,-999.000,9,  -999.0,9,  -999.0,9,   -999.0,9,  -999.00,-999.0000,9,  -999.00,-999.000,9,-999.000,9,-999.000,9, -999.00,9,  -999.0,9,  -999.0,-999.000,9,-999.000,-999.000,9, -999.00,9, -999.00,9, 1700.40,-999.0000,9,-999.0000,9,-999.0000,9,-999.0000,9,-999.0000,9,-999.0000,9,   4.7579,     -999.0,9,     -999.0,9,     -999.0,9,     -999.0,9,         83,-999.000,-999.000,-999.000,     -999.0,9, -999.00,9, -999.00,9
33RO200306_02,       A16N,     083,          1,         12,         12,2,20030720,       0728,    24.5680,   -26.4298,       5424,  1900.0,   4.3161,  35.0874,2,  35.0874,2,    225.1,2,   226.2,2,   22.39,2,   21.23,2,    0.00,2,    1.44,2,-999.000,9,-999.000,9,-999.000,9,  -999.0,9,  -999.0,9,   -999.0,9,  -999.00,-999.0000,9,  -999.00,-999.000,9,-999.000,9,-999.000,9, -999.00,9,  -999.0,9,  -999.0,-999.000,9,-999.000,-999.000,9, -999.00,9, -999.00,9, 1900.00,-999.0000,9,-999.0000,9,-999.0000,9,-999.0000,9,-999.0000,9,-999.0000,9,   4.1535,     -999.0,9,     -999.0,9,     -999.0,9,     -999.0,9,         83,-999.000,-999.000,-999.000,     -999.0,9, -999.00,9, -999.00,9
33RO200306_02,       A16N,     083,          1,         11,         11,2,20030720,       0728,    24.5680,   -26.4298,       5424,  2100.1,   3.8955,  35.0512,2,  35.0518,2,    233.0,2,   231.9,2,   23.89,2,   20.81,2,    0.01,2,    1.42,2,-999.000,9,-999.000,9,-999.000,9,  -999.0,9,  -999.0,9,   -999.0,9,  -999.00,-999.0000,9,  -999.00,-999.000,9,-999.000,9,-999.000,9, -999.00,9,  -999.0,9,  -999.0,-999.000,9,-999.000,-999.000,9, -999.00,9, -999.00,9, 2100.10,-999.0000,9,-999.0000,9,-999.0000,9,-999.0000,9,-999.0000,9,-999.0000,9,   3.7194,     -999.0,9,     -999.0,9,     -999.0,9,     -999.0,9,         83,-999.000,-999.000,-999.000,     -999.0,9, -999.00,9, -999.00,9
33RO200306_02,       A16N,     083,          1,         10,         10,2,20030720,       0728,    24.5680,   -26.4298,       5424,  2300.1,   3.5294,  35.0163,2,  35.0178,2,    238.0,2,   237.3,2,   26.10,2,   20.67,2,    0.01,2,    1.42,2,-999.000,9,-999.000,9,-999.000,9,  -999.0,9,  -999.0,9,   -999.0,9,  -999.00,-999.0000,9,  -999.00,-999.000,9,-999.000,9,-999.000,9, -999.00,9,  -999.0,9,  -999.0,-999.000,9,-999.000,-999.000,9, -999.00,9, -999.00,9, 2300.10,-999.0000,9,-999.0000,9,-999.0000,9,-999.0000,9,-999.0000,9,-999.0000,9,   3.3396,     -999.0,9,     -999.0,9,     -999.0,9,     -999.0,9,         83,-999.000,-999.000,-999.000,     -999.0,9, -999.00,9, -999.00,9
33RO200306_02,       A16N,     083,          1,          9,          9,2,20030720,       0728,    24.5680,   -26.4298,       5424,  2600.6,   3.1055,  34.9762,2,  34.9758,2,    243.6,2,   242.9,2,   30.04,2,   20.65,2,    0.01,2,    1.41,2,-999.000,9,-999.000,9,-999.000,9,  -999.0,9,  -999.0,9,   -999.0,9,  -999.00,-999.0000,9,  -999.00,-999.000,9,-999.000,9,-999.000,9, -999.00,9,  -999.0,9,  -999.0,-999.000,9,-999.000,-999.000,9, -999.00,9, -999.00,9, 2600.60,-999.0000,9,-999.0000,9,-999.0000,9,-999.0000,9,-999.0000,9,-999.0000,9,   2.8935,     -999.0,9,     -999.0,9,     -999.0,9,     -999.0,9,         83,-999.000,-999.000,-999.000,     -999.0,9, -999.00,9, -999.00,9
33RO200306_02,       A16N,     083,          1,          8,          8,2,20030720,       0728,    24.5680,   -26.4298,       5424,  3001.3,   2.7454,  34.9406,2,  34.9406,2,    242.6,2,   241.9,2,   35.80,2,   21.26,2,    0.00,2,    1.48,2,-999.000,9,-999.000,9,-999.000,9,  -999.0,9,  -999.0,9,   -999.0,9,  -999.00,-999.0000,9,  -999.00,-999.000,9,-999.000,9,-999.000,9, -999.00,9,  -999.0,9,  -999.0,-999.000,9,-999.000,-999.000,9, -999.00,9, -999.00,9, 3001.30,-999.0000,9,-999.0000,9,-999.0000,9,-999.0000,9,-999.0000,9,-999.0000,9,   2.5000,     -999.0,9,     -999.0,9,     -999.0,9,     -999.0,9,         83,-999.000,-999.000,-999.000,     -999.0,9, -999.00,9, -999.00,9