BOTTLE,20230908CCHSIOCBG
EXPOCODE,SECT_ID,STNNBR,CASTNO,SAMPNO,BTLNBR,BTLNBR_FLAG_W,DATE,TIME,LATITUDE,LONGITUDE,DEPTH,CTDPRS,CTDTMP,CTDSAL,CTDSAL_FLAG_W,SALNTY,SALNTY_FLAG_W,CTDOXY,CTDOXY_FLAG_W,OXYGEN,OXYGEN_FLAG_W,SILCAT,SILCAT_FLAG_W,NITRAT,NITRAT_FLAG_W,NITRIT,NITRIT_FLAG_W,PHSPHT,PHSPHT_FLAG_W,CFC-11,CFC-11_FLAG_W,CFC-12,CFC-12_FLAG_W,CFC113,CFC113_FLAG_W,TCARBN,TCARBN_FLAG_W,ALKALI,ALKALI_FLAG_W,FCO2,FCO2_FLAG_W,FCO2TMP,PH_SWS,PH_SWS_FLAG_W,PH_TMP,TRITUM,TRITUM_FLAG_W,HELIUM,HELIUM_FLAG_W,DELHE3,DELHE3_FLAG_W,DELC13,DELC13_FLAG_W,DELC14,DELC14_FLAG_W,C14ERR,NEON,NEON_FLAG_W,NEONER,POC,POC_FLAG_W,DOC,DOC_FLAG_W,TDN,TDN_FLAG_W,CTDRAW,CDOM325,CDOM325_FLAG_W,CDOM340,CDOM340_FLAG_W,CDOM380,CDOM380_FLAG_W,CDOM412,CDOM412_FLAG_W,CDOMSL,CDOMSL_FLAG_W,CDOMSN,CDOMSN_FLAG_W,THETA,PON,PON_FLAG_W,HCFC-22,HCFC-22_FLAG_W,HCFC-142b,HCFC-142b_FLAG_W,HCFC-141b,HCFC-141b_FLAG_W,STNNBR_U,HELIER,DELHER,TRITER,CH3CL,CH3CL_FLAG_W,CH3BR,CH3BR_FLAG_W,CH3I,CH3I_FLAG_W
,,,,,,,,,,,METERS,DBAR,ITS-90,PSS-78,,PSS-78,,UMOL/KG,,UMOL/KG,,UMOL/KG,,UMOL/KG,,UMOL/KG,,UMOL/KG,,PMOL/KG,,PMOL/KG,,PMOL/KG,,UMOL/KG,,UMOL/KG,,UATM,,DEG C,,,DEG C,TU,,NMOL/KG,,PERCNT,,/MILLE,,/MILLE,,/MILLE,NMOL/KG,,NMOL/KG,UG/KG,,UMOL/KG,,UMOL/KG,,DBAR,1/M,,1/M,,1/M,,1/M,,1/NM,,1/NM,,DEG C,UMOL/L,,PMOL/KG,,PMOL/KG,,PMOL/KG,,,NMOL/KG,PERCNT,TU,PMOL/KG,,PMOL/KG,,PMOL/KG,
33RO200306_01,       A16N,     059,          1,          7,          7,2,20030705,       0817,    35.9998,   -20.0000,       5348,  2699.7,   3.0583,  34.9654,2,  34.9668,2,    253.1,2,   253.0,2,   26.68,2,   19.61,2,    0.00,2,    1.29,2,   0.145,2,   0.082,2,   0.010,2,  2178.9,2,  2324.6,2,   -999.0,9,  -999.00,   7.7338,2,    25.00,-999.000,9,-999.000,9,-999.000,9, -999.00,9,  -999.0,9,  -999.0,-999.000,9,-999.000,-999.000,9,   41.64,2,   24.22,2, 2699.70,-999.0000,9,-999.0000,9,-999.0000,9,-999.0000,9,-999.0000,9,-999.0000,9,   2.8372,     -999.0,9,     -999.0,9,     -999.0,9,     -999.0,9,         59,-999.000,-999.000,-999.000,     -999.0,9, -999.00,9, -999.00,9
33RO200306_01,       A16N,     059,          1,          6,          6,2,20030705,       0817,    35.9998,   -20.0000,       5348,  3199.6,   2.7254,  34.9367,2,  34.9380,2,    248.2,2,   249.7,2,   34.80,2,   20.80,2,    0.00,2,    1.38,2,   0.075,2,   0.040,2,   0.005,2,  2189.9,2,  2335.8,2,    755.6,2,    20.00,   7.7352,2,    25.00,-999.000,9,-999.000,9,-999.000,9, -999.00,9,  -999.0,9,  -999.0,-999.000,9,-999.000,-999.000,9,   40.98,2,   24.30,2, 3199.60,-999.0000,9,-999.0000,9,-999.0000,9,-999.0000,9,-999.0000,9,-999.0000,9,   2.4597,     -999.0,9,     -999.0,9,     -999.0,9,     -999.0,9,         59,-999.000,-999.000,-999.000,     -999.0,9, -999.00,9, -999.00,9
33RO200306_01,       A16N,     059,          1,          5,          5,2,20030705,       0817,    35.9998,   -20.0000,       5348,  3700.2,   2.5674,  34.9178,2,  34.9188,2,    245.6,2,   248.2,2,   40.28,2,   21.62,2,    0.00,2,    1.45,2,   0.029,2,   0.013,2,   0.008,2,  2199.7,3,  2342.2,2,    761.5,3,    20.00,   7.7340,2,    25.00,-999.000,9,-999.000,9,-999.000,9, -999.00,9,  -999.0,9,  -999.0,-999.000,9,-999.000,-999.000,9,   41.79,2,   26.51,2, 3700.20,-999.0000,9,-999.0000,9,-999.0000,9,-999.0000,9,-999.0000,9,-999.0000,9,   2.2512,     -999.0,9,     -999.0,9,     -999.0,9,     -999.0,9,         59,-999.000,-999.000,-999.000,     -999.0,9, -999.00,9, -999.00,9
33RO200306_01,       A16N,     059,          1,          4,          4,2,20030705,       0817,    35.9998,   -20.0000,       5348,  4200.5,   2.4682,  34.9026,2,  34.9037,2,    245.7,2,   246.1,2,   43.76,6,   22.03,6,    0.00,6,    1.48,6,   0.016,2,   0.007,2,   0.002,2,  2199.1,2,  2345.7,2,   -999.0,9,  -999.00,   7.7202,2,    25.00,-999.000,9,-999.000,9,-999.000,9, -999.00,9,  -999.0,9,  -999.0,-999.000,9,-999.000,-999.000,9,   41.54,2,   25.97,2, 4200.50,-999.0000,9,-999.0000,9,-999.0000,9,-999.0000,9,-999.0000,9,-999.0000,9,   2.0975,     -999.0,9,     -999.0,9,     -999.0,9,     -999.0,9,         59,-999.000,-999.000,-999.000,     -999.0,9, -999.00,9, -999.00,9
33RO200306_01,       A16N,     059,          1,          3,          3,2,20030705,       0817,    35.9998,   -20.0000,       5348,  4700.2,   2.4362,  34.8930,2,  34.8954,2,    246.4,2,   245.6,2,   45.81,6,   22.23,6,    0.00,6,    1.50,6,   0.005,2,   0.005,2,   0.004,2,  2203.1,3,  2348.0,2,    766.0,2,    20.00,   7.7285,2,    25.00,-999.000,9,-999.000,9,-999.000,9, -999.00,9,  -999.0,9,  -999.0,-999.000,9,-999.000,-999.000,9,   41.54,2,   26.96,2, 4700.20,-999.0000,9,-999.0000,9,-999.0000,9,-999.0000,9,-999.0000,9,-999.0000,9,   2.0064,     -999.0,9,     -999.0,9,     -999.0,9,     -999.0,9,         59,-999.000,-999.000,-999.000,     -999.0,9, -999.00,9, -999.00,9
33RO200306_01,       A16N,     059,          1,          2,          2,2,20030705,       0817,    35.9998,   -20.0000,       5348,  4891.6,   2.4482,  34.8916,2,  34.8930,2,    246.7,2,   245.0,2,   46.22,6,   22.29,6,    0.00,6,    1.50,6,   0.008,2,   0.030,2,   0.005,2,  2201.8,2,  2348.5,2,   -999.0,9,  -999.00,   7.7304,2,    25.00,-999.000,9,-999.000,9,-999.000,9, -999.00,9,  -999.0,9,  -999.0,-999.000,9,-999.000,-999.000,9,   41.54,2,   26.82,2, 4891.60,-999.0000,9,-999.0000,9,-999.0000,9,-999.0000,9,-999.0000,9,-999.0000,9,   1.9942,     -999.0,9,     -999.0,9,     -999.0,9,     -999.0,9,         59,-999.000,-999.000,-999.000,     -999.0,9, -999.00,9, -999.00,9
33RO200306_01,       A16N,     059,          1,          1,          1,2,20030705,       0817,    35.9998,   -20.0000,       5348,  5442.3,   2.5182,  34.8907,2,  34.8928,2,    247.6,2,   248.7,3,   46.38,6,   22.30,6,    0.00,6,    1.50,6,   0.005,2,   0.028,2,   0.007,2,  2198.8,2,  2350.9,6,    767.2,2,    20.00,   7.7294,6,    25.00,-999.000,9,-999.000,9,-999.000,9, -999.00,9,  -999.0,9,  -999.0,-999.000,9,-999.000,-999.000,9,   41.22,2,   26.86,2, 5442.30,-999.0000,9,-999.0000,9,-999.0000,9,-999.0000,9,-999.0000,9,-999.0000,9,   1.9908,     -999.0,9,     -999.0,9,     -999.0,9,     -999.0,9,         59,-999.000,-999.000,-999.000,     -999.0,9, -999.00,9, -999.00,9