BOTTLE,20230908CCHSIOCBG
EXPOCODE,SECT_ID,STNNBR,CASTNO,SAMPNO,BTLNBR,BTLNBR_FLAG_W,DATE,TIME,LATITUDE,LONGITUDE,DEPTH,CTDPRS,CTDTMP,CTDSAL,CTDSAL_FLAG_W,SALNTY,SALNTY_FLAG_W,CTDOXY,CTDOXY_FLAG_W,OXYGEN,OXYGEN_FLAG_W,SILCAT,SILCAT_FLAG_W,NITRAT,NITRAT_FLAG_W,NITRIT,NITRIT_FLAG_W,PHSPHT,PHSPHT_FLAG_W,CFC-11,CFC-11_FLAG_W,CFC-12,CFC-12_FLAG_W,CFC113,CFC113_FLAG_W,TCARBN,TCARBN_FLAG_W,ALKALI,ALKALI_FLAG_W,FCO2,FCO2_FLAG_W,FCO2TMP,PH_SWS,PH_SWS_FLAG_W,PH_TMP,TRITUM,TRITUM_FLAG_W,HELIUM,HELIUM_FLAG_W,DELHE3,DELHE3_FLAG_W,DELC13,DELC13_FLAG_W,DELC14,DELC14_FLAG_W,C14ERR,NEON,NEON_FLAG_W,NEONER,POC,POC_FLAG_W,DOC,DOC_FLAG_W,TDN,TDN_FLAG_W,CTDRAW,CDOM325,CDOM325_FLAG_W,CDOM340,CDOM340_FLAG_W,CDOM380,CDOM380_FLAG_W,CDOM412,CDOM412_FLAG_W,CDOMSL,CDOMSL_FLAG_W,CDOMSN,CDOMSN_FLAG_W,THETA,PON,PON_FLAG_W,HCFC-22,HCFC-22_FLAG_W,HCFC-142b,HCFC-142b_FLAG_W,HCFC-141b,HCFC-141b_FLAG_W,STNNBR_U,HELIER,DELHER,TRITER,CH3CL,CH3CL_FLAG_W,CH3BR,CH3BR_FLAG_W,CH3I,CH3I_FLAG_W
,,,,,,,,,,,METERS,DBAR,ITS-90,PSS-78,,PSS-78,,UMOL/KG,,UMOL/KG,,UMOL/KG,,UMOL/KG,,UMOL/KG,,UMOL/KG,,PMOL/KG,,PMOL/KG,,PMOL/KG,,UMOL/KG,,UMOL/KG,,UATM,,DEG C,,,DEG C,TU,,NMOL/KG,,PERCNT,,/MILLE,,/MILLE,,/MILLE,NMOL/KG,,NMOL/KG,UG/KG,,UMOL/KG,,UMOL/KG,,DBAR,1/M,,1/M,,1/M,,1/M,,1/NM,,1/NM,,DEG C,UMOL/L,,PMOL/KG,,PMOL/KG,,PMOL/KG,,,NMOL/KG,PERCNT,TU,PMOL/KG,,PMOL/KG,,PMOL/KG,
33RO200306_01,       A16N,     025,          1,          5,          5,2,20030625,       0025,    52.9998,   -19.9998,       2677,  1900.1,   3.2635,  34.9052,2,  34.9057,2,    277.6,2,   276.6,2,   12.77,2,   17.13,2,    0.00,2,    1.09,2,   2.503,2,   1.225,2,   0.143,2,  2155.6,2,  2299.5,2,    757.4,2,    20.00,   7.7256,2,    25.00,-999.000,9,-999.000,9,-999.000,9, -999.00,9,  -999.0,9,  -999.0,-999.000,9,-999.000,-999.000,9,   46.34,2,   21.42,2, 1900.10,-999.0000,9,-999.0000,9,-999.0000,9,-999.0000,9,-999.0000,9,-999.0000,9,   3.1163,     -999.0,9,     -999.0,9,     -999.0,9,     -999.0,9,         25,-999.000,-999.000,-999.000,     -999.0,9, -999.00,9, -999.00,9
33RO200306_01,       A16N,     025,          1,          4,          4,2,20030625,       0025,    52.9998,   -19.9998,       2677,  2100.5,   3.1882,  34.9237,2,  34.9222,2,    273.0,2,   271.4,2,   14.91,2,   17.30,2,    0.00,2,    1.11,2,   1.968,2,   0.962,2,   0.102,2,  2160.0,2,  2302.7,2,    756.8,2,    20.00,   7.7304,2,    25.00,-999.000,9,-999.000,9,-999.000,9, -999.00,9,  -999.0,9,  -999.0,-999.000,9,-999.000,-999.000,9,   46.26,2,   21.24,2, 2100.50,-999.0000,9,-999.0000,9,-999.0000,9,-999.0000,9,-999.0000,9,-999.0000,9,   3.0235,     -999.0,9,     -999.0,9,     -999.0,9,     -999.0,9,         25,-999.000,-999.000,-999.000,     -999.0,9, -999.00,9, -999.00,9
33RO200306_01,       A16N,     025,          1,          3,          3,2,20030625,       0025,    52.9998,   -19.9998,       2677,  2299.9,   3.0669,  34.9392,2,  34.9397,2,    265.1,2,   265.0,2,   19.03,6,   17.74,6,    0.00,6,    1.15,6,   1.437,2,   0.704,2,   0.066,2,  2165.5,2,  2310.2,2,    754.6,2,    20.00,   7.7309,2,    25.00,-999.000,9,-999.000,9,-999.000,9, -999.00,9,  -999.0,9,  -999.0,-999.000,9,-999.000,-999.000,9,   45.29,2,   22.60,2, 2299.90,-999.0000,9,-999.0000,9,-999.0000,9,-999.0000,9,-999.0000,9,-999.0000,9,   2.8852,     -999.0,9,     -999.0,9,     -999.0,9,     -999.0,9,         25,-999.000,-999.000,-999.000,     -999.0,9, -999.00,9, -999.00,9
33RO200306_01,       A16N,     025,          1,          2,          2,2,20030625,       0025,    52.9998,   -19.9998,       2677,  2499.5,   2.8690,  34.9413,2,  34.9414,2,    258.0,2,   257.4,2,   25.30,6,   18.60,6,    0.00,6,    1.21,6,   1.096,2,   0.539,2,   0.048,2,  2176.1,2,  2322.2,2,    764.7,2,    20.00,   7.7264,2,    25.00,-999.000,9,-999.000,9,-999.000,9, -999.00,9,  -999.0,9,  -999.0,-999.000,9,-999.000,-999.000,9,   44.07,2,   23.72,2, 2499.50,-999.0000,9,-999.0000,9,-999.0000,9,-999.0000,9,-999.0000,9,-999.0000,9,   2.6715,     -999.0,9,     -999.0,9,     -999.0,9,     -999.0,9,         25,-999.000,-999.000,-999.000,     -999.0,9, -999.00,9, -999.00,9
33RO200306_01,       A16N,     025,          1,          1,          1,2,20030625,       0025,    52.9998,   -19.9998,       2677,  2705.9,   2.6183,  34.9284,2,  34.9278,2,    245.7,2,   246.1,2,   35.29,6,   20.32,6,    0.00,6,    1.35,6,   0.514,2,   0.260,2,   0.027,2,  2190.1,6,  2334.3,2,    765.6,2,    20.00,   7.7274,2,    25.00,-999.000,9,-999.000,9,-999.000,9, -999.00,9,  -999.0,9,  -999.0,-999.000,9,-999.000,-999.000,9,   43.82,2,   24.60,2, 2705.90,-999.0000,9,-999.0000,9,-999.0000,9,-999.0000,9,-999.0000,9,-999.0000,9,   2.4054,     -999.0,9,     -999.0,9,     -999.0,9,     -999.0,9,         25,-999.000,-999.000,-999.000,     -999.0,9, -999.00,9, -999.00,9