BOTTLE,20230908CCHSIOCBG
EXPOCODE,SECT_ID,STNNBR,CASTNO,SAMPNO,BTLNBR,BTLNBR_FLAG_W,DATE,TIME,LATITUDE,LONGITUDE,DEPTH,CTDPRS,CTDTMP,CTDSAL,CTDSAL_FLAG_W,SALNTY,SALNTY_FLAG_W,CTDOXY,CTDOXY_FLAG_W,OXYGEN,OXYGEN_FLAG_W,SILCAT,SILCAT_FLAG_W,NITRAT,NITRAT_FLAG_W,NITRIT,NITRIT_FLAG_W,PHSPHT,PHSPHT_FLAG_W,CFC-11,CFC-11_FLAG_W,CFC-12,CFC-12_FLAG_W,CFC113,CFC113_FLAG_W,TCARBN,TCARBN_FLAG_W,ALKALI,ALKALI_FLAG_W,FCO2,FCO2_FLAG_W,FCO2TMP,PH_SWS,PH_SWS_FLAG_W,PH_TMP,TRITUM,TRITUM_FLAG_W,HELIUM,HELIUM_FLAG_W,DELHE3,DELHE3_FLAG_W,DELC13,DELC13_FLAG_W,DELC14,DELC14_FLAG_W,C14ERR,NEON,NEON_FLAG_W,NEONER,POC,POC_FLAG_W,DOC,DOC_FLAG_W,TDN,TDN_FLAG_W,CTDRAW,CDOM325,CDOM325_FLAG_W,CDOM340,CDOM340_FLAG_W,CDOM380,CDOM380_FLAG_W,CDOM412,CDOM412_FLAG_W,CDOMSL,CDOMSL_FLAG_W,CDOMSN,CDOMSN_FLAG_W,THETA,PON,PON_FLAG_W,HCFC-22,HCFC-22_FLAG_W,HCFC-142b,HCFC-142b_FLAG_W,HCFC-141b,HCFC-141b_FLAG_W,STNNBR_U,HELIER,DELHER,TRITER,CH3CL,CH3CL_FLAG_W,CH3BR,CH3BR_FLAG_W,CH3I,CH3I_FLAG_W
,,,,,,,,,,,METERS,DBAR,ITS-90,PSS-78,,PSS-78,,UMOL/KG,,UMOL/KG,,UMOL/KG,,UMOL/KG,,UMOL/KG,,UMOL/KG,,PMOL/KG,,PMOL/KG,,PMOL/KG,,UMOL/KG,,UMOL/KG,,UATM,,DEG C,,,DEG C,TU,,NMOL/KG,,PERCNT,,/MILLE,,/MILLE,,/MILLE,NMOL/KG,,NMOL/KG,UG/KG,,UMOL/KG,,UMOL/KG,,DBAR,1/M,,1/M,,1/M,,1/M,,1/NM,,1/NM,,DEG C,UMOL/L,,PMOL/KG,,PMOL/KG,,PMOL/KG,,,NMOL/KG,PERCNT,TU,PMOL/KG,,PMOL/KG,,PMOL/KG,
33RO200306_01,       A16N,     047,          1,         32,         32,2,20030701,       1508,    42.0005,   -20.0007,       2349,     3.2,  18.2820,  35.8323,2,  35.8330,2,    242.9,2,   240.8,2,    0.83,2,    0.00,2,    0.00,2,    0.04,2,-999.000,9,-999.000,9,-999.000,9,  -999.0,9,  -999.0,9,   -999.0,9,  -999.00,-999.0000,9,  -999.00,-999.000,9,-999.000,9,-999.000,9, -999.00,9,  -999.0,9,  -999.0,-999.000,9,-999.000,-999.000,9,   66.88,2,    6.17,2,    3.20,-999.0000,9,-999.0000,9,-999.0000,9,-999.0000,9,-999.0000,9,-999.0000,9,  18.2814,     -999.0,9,     -999.0,9,     -999.0,9,     -999.0,9,         47,-999.000,-999.000,-999.000,     -999.0,9, -999.00,9, -999.00,9
33RO200306_01,       A16N,     047,          1,         31,         31,2,20030701,       1508,    42.0005,   -20.0007,       2349,     3.3,  18.2802,  35.8321,2,  35.8334,2,    242.9,2,   240.9,2,    0.83,2,    0.01,2,    0.00,2,    0.04,2,   2.633,2,   1.601,2,   0.231,2,  2068.4,6,  -999.0,9,    374.7,2,    20.00,-999.0000,9,  -999.00,-999.000,9,-999.000,9,-999.000,9, -999.00,9,  -999.0,9,  -999.0,-999.000,9,-999.000,   6.477,2, -999.00,9, -999.00,9,    3.30,-999.0000,9,-999.0000,9,-999.0000,9,-999.0000,9,-999.0000,9,-999.0000,9,  18.2796,      0.625,2,     -999.0,9,     -999.0,9,     -999.0,9,         47,-999.000,-999.000,-999.000,     -999.0,9, -999.00,9, -999.00,9
33RO200306_01,       A16N,     047,          1,         30,         30,2,20030701,       1508,    42.0005,   -20.0007,       2349,     9.9,  18.1278,  35.8311,2,  35.8327,2,    242.8,2,   240.8,2,    0.83,2,    0.01,2,    0.00,2,    0.04,2,   2.634,6,   1.598,6,   0.232,6,  2068.4,2,  2350.9,2,   -999.0,9,  -999.00,   7.9963,2,    25.00,-999.000,9,-999.000,9,-999.000,9, -999.00,9,  -999.0,9,  -999.0,-999.000,9,-999.000,   6.902,2, -999.00,9, -999.00,9,    9.90,-999.0000,9,-999.0000,9,-999.0000,9,-999.0000,9,-999.0000,9,-999.0000,9,  18.1261,      0.575,2,     -999.0,9,     -999.0,9,     -999.0,9,         47,-999.000,-999.000,-999.000,     -999.0,9, -999.00,9, -999.00,9
33RO200306_01,       A16N,     047,          1,         29,         29,2,20030701,       1508,    42.0005,   -20.0007,       2349,    30.1,  17.7106,  35.8311,2,  35.8356,2,    238.9,2,   245.1,2,    0.83,2,    0.03,2,    0.00,2,    0.04,2,-999.000,9,-999.000,9,-999.000,9,  2068.6,2,  2350.7,2,    371.6,2,    20.00,   8.1100,3,    25.00,-999.000,9,-999.000,9,-999.000,9, -999.00,9,  -999.0,9,  -999.0,-999.000,9,-999.000,   6.893,2, -999.00,9, -999.00,9,   30.10,-999.0000,9,-999.0000,9,-999.0000,9,-999.0000,9,-999.0000,9,-999.0000,9,  17.7055,      0.544,2,     -999.0,9,     -999.0,9,     -999.0,9,         47,-999.000,-999.000,-999.000,     -999.0,9, -999.00,9, -999.00,9
33RO200306_01,       A16N,     047,          1,         28,         28,2,20030701,       1508,    42.0005,   -20.0007,       2349,    50.2,  14.5208,  35.8644,2,  35.8656,2,    262.3,2,   254.1,2,    1.09,2,    2.20,2,    0.39,2,    0.20,2,   3.059,2,   1.815,2,   0.257,2,  2099.6,2,  2351.2,2,   -999.0,9,  -999.00,   7.9431,2,    25.00,-999.000,9,-999.000,9,-999.000,9, -999.00,9,  -999.0,9,  -999.0,-999.000,9,-999.000,   4.883,2,   53.34,2,    9.17,2,   50.20,-999.0000,9,-999.0000,9,-999.0000,9,-999.0000,9,-999.0000,9,-999.0000,9,  14.5133,      0.692,2,     -999.0,9,     -999.0,9,     -999.0,9,         47,-999.000,-999.000,-999.000,     -999.0,9, -999.00,9, -999.00,9
33RO200306_01,       A16N,     047,          1,         27,         27,2,20030701,       1508,    42.0005,   -20.0007,       2349,    69.8,  13.9233,  35.8503,2,  35.8493,2,    243.8,2,   242.5,2,    1.77,2,    4.32,2,    0.39,2,    0.31,2,   3.080,2,   1.827,2,   0.254,2,  2110.6,2,  2347.6,2,    468.7,2,    20.00,   7.9163,2,    25.00,-999.000,9,-999.000,9,-999.000,9, -999.00,9,  -999.0,9,  -999.0,-999.000,9,-999.000,   2.178,2, -999.00,9, -999.00,9,   69.80,-999.0000,9,-999.0000,9,-999.0000,9,-999.0000,9,-999.0000,9,-999.0000,9,  13.9132,      0.322,2,     -999.0,9,     -999.0,9,     -999.0,9,         47,-999.000,-999.000,-999.000,     -999.0,9, -999.00,9, -999.00,9
33RO200306_01,       A16N,     047,          1,         26,         26,2,20030701,       1508,    42.0005,   -20.0007,       2349,    90.1,  13.5361,  35.8294,2,  35.8289,2,    233.7,2,   238.2,2,    1.91,2,    5.56,2,    0.01,2,    0.35,2,   3.103,2,   1.839,2,   0.240,2,  2116.8,2,  2346.6,2,   -999.0,9,  -999.00,   7.9044,2,    25.00,-999.000,9,-999.000,9,-999.000,9, -999.00,9,  -999.0,9,  -999.0,-999.000,9,-999.000,   0.866,2,   50.57,2,   11.10,2,   90.10,-999.0000,9,-999.0000,9,-999.0000,9,-999.0000,9,-999.0000,9,-999.0000,9,  13.5233,      0.139,2,     -999.0,9,     -999.0,9,     -999.0,9,         47,-999.000,-999.000,-999.000,     -999.0,9, -999.00,9, -999.00,9
33RO200306_01,       A16N,     047,          1,         25,         25,2,20030701,       1508,    42.0005,   -20.0007,       2349,   109.6,  13.4105,  35.8186,2,  35.8192,2,    233.2,2,   223.7,2,    2.04,2,    6.05,2,    0.01,2,    0.38,2,   3.096,2,   1.827,2,   0.230,2,  2117.9,2,  2346.3,2,    487.3,2,    20.00,   7.8955,2,    25.00,-999.000,9,-999.000,9,-999.000,9, -999.00,9,  -999.0,9,  -999.0,-999.000,9,-999.000,-999.000,9, -999.00,9, -999.00,9,  109.60,-999.0000,9,-999.0000,9,-999.0000,9,-999.0000,9,-999.0000,9,-999.0000,9,  13.3950,     -999.0,9,     -999.0,9,     -999.0,9,     -999.0,9,         47,-999.000,-999.000,-999.000,     -999.0,9, -999.00,9, -999.00,9
33RO200306_01,       A16N,     047,          1,         24,         24,2,20030701,       1508,    42.0005,   -20.0007,       2349,   134.9,  13.2818,  35.8092,2,  35.8070,2,    233.2,2,   238.5,2,    2.24,2,    6.62,2,    0.01,2,    0.41,2,   3.112,2,   1.834,2,   0.228,2,  2119.2,2,  2346.4,2,   -999.0,9,  -999.00,   7.8968,2,    25.00,-999.000,9,-999.000,9,-999.000,9, -999.00,9,  -999.0,9,  -999.0,-999.000,9,-999.000,   0.907,2,   48.86,2,   11.54,2,  134.90,-999.0000,9,-999.0000,9,-999.0000,9,-999.0000,9,-999.0000,9,-999.0000,9,  13.2629,      0.132,2,     -999.0,9,     -999.0,9,     -999.0,9,         47,-999.000,-999.000,-999.000,     -999.0,9, -999.00,9, -999.00,9
33RO200306_01,       A16N,     047,          1,         23,         23,2,20030701,       1508,    42.0005,   -20.0007,       2349,   157.7,  13.1200,  35.7872,2,  35.7859,2,    233.9,2,   237.6,2,    2.39,2,    7.11,2,    0.01,2,    0.44,2,   3.107,2,   1.830,2,   0.216,2,  2119.2,2,  2345.6,2,   -999.0,9,  -999.00,   7.8924,2,    25.00,-999.000,9,-999.000,9,-999.000,9, -999.00,9,  -999.0,9,  -999.0,-999.000,9,-999.000,   1.271,2, -999.00,9, -999.00,9,  157.70,-999.0000,9,-999.0000,9,-999.0000,9,-999.0000,9,-999.0000,9,-999.0000,9,  13.0980,      0.080,2,     -999.0,9,     -999.0,9,     -999.0,9,         47,-999.000,-999.000,-999.000,     -999.0,9, -999.00,9, -999.00,9
33RO200306_01,       A16N,     047,          1,         22,         22,2,20030701,       1508,    42.0005,   -20.0007,       2349,   185.4,  12.9984,  35.7750,2,  35.7739,2,    234.6,2,   236.0,2,    2.58,2,    7.64,2,    0.01,2,    0.47,2,   3.102,2,   1.830,2,   0.203,2,  2121.3,2,  2343.1,2,   -999.0,9,  -999.00,   7.8827,2,    25.00,-999.000,9,-999.000,9,-999.000,9, -999.00,9,  -999.0,9,  -999.0,-999.000,9,-999.000,-999.000,9,   47.40,2,   12.32,2,  185.40,-999.0000,9,-999.0000,9,-999.0000,9,-999.0000,9,-999.0000,9,-999.0000,9,  12.9727,     -999.0,9,     -999.0,9,     -999.0,9,     -999.0,9,         47,-999.000,-999.000,-999.000,     -999.0,9, -999.00,9, -999.00,9
33RO200306_01,       A16N,     047,          1,         21,         21,2,20030701,       1508,    42.0005,   -20.0007,       2349,   224.9,  12.8469,  35.7542,2,  35.7493,2,    233.6,2,   232.2,2,    2.77,2,    8.11,2,    0.01,2,    0.50,2,   3.122,2,   1.823,2,   0.192,2,  2126.3,2,  2342.1,2,    514.4,2,    20.00,   7.8798,2,    25.00,-999.000,9,-999.000,9,-999.000,9, -999.00,9,  -999.0,9,  -999.0,-999.000,9,-999.000,   0.604,2,   48.37,2,   12.25,2,  224.90,-999.0000,9,-999.0000,9,-999.0000,9,-999.0000,9,-999.0000,9,-999.0000,9,  12.8160,      0.105,2,     -999.0,9,     -999.0,9,     -999.0,9,         47,-999.000,-999.000,-999.000,     -999.0,9, -999.00,9, -999.00,9
33RO200306_01,       A16N,     047,          1,         20,         20,2,20030701,       1508,    42.0005,   -20.0007,       2349,   275.0,  12.4471,  35.6852,2,  35.6863,2,    227.5,2,   221.8,2,    3.34,2,    9.59,2,    0.01,2,    0.59,2,   3.118,2,   1.814,2,   0.148,2,  2131.6,2,  2338.1,2,   -999.0,9,  -999.00,   7.8500,2,    25.00,-999.000,9,-999.000,9,-999.000,9, -999.00,9,  -999.0,9,  -999.0,-999.000,9,-999.000,-999.000,9,   47.97,2,   14.18,2,  275.00,-999.0000,9,-999.0000,9,-999.0000,9,-999.0000,9,-999.0000,9,-999.0000,9,  12.4100,     -999.0,9,     -999.0,9,     -999.0,9,     -999.0,9,         47,-999.000,-999.000,-999.000,     -999.0,9, -999.00,9, -999.00,9
33RO200306_01,       A16N,     047,          1,         19,         19,2,20030701,       1508,    42.0005,   -20.0007,       2349,   324.2,  12.1851,  35.6449,2,  35.6458,2,    217.3,2,   222.3,2,    3.76,2,   10.60,2,    0.01,2,    0.65,2,   3.100,2,   1.783,2,   0.132,2,  2135.5,2,  2336.7,2,    563.6,2,    20.00,   7.8466,2,    25.00,-999.000,9,-999.000,9,-999.000,9, -999.00,9,  -999.0,9,  -999.0,-999.000,9,-999.000,-999.000,9,   49.00,2,   14.56,2,  324.20,-999.0000,9,-999.0000,9,-999.0000,9,-999.0000,9,-999.0000,9,-999.0000,9,  12.1419,     -999.0,9,     -999.0,9,     -999.0,9,     -999.0,9,         47,-999.000,-999.000,-999.000,     -999.0,9, -999.00,9, -999.00,9
33RO200306_01,       A16N,     047,          1,         18,         18,2,20030701,       1508,    42.0005,   -20.0007,       2349,   374.5,  11.8691,  35.5995,2,  35.5979,2,    209.6,2,   215.8,2,    4.29,2,   11.80,2,    0.00,2,    0.72,2,   3.051,2,   1.744,2,   0.116,2,  2140.0,2,  2333.8,2,   -999.0,9,  -999.00,   7.8422,2,    25.00,-999.000,9,-999.000,9,-999.000,9, -999.00,9,  -999.0,9,  -999.0,-999.000,9,-999.000,-999.000,9,   47.07,2,   15.84,2,  374.50,-999.0000,9,-999.0000,9,-999.0000,9,-999.0000,9,-999.0000,9,-999.0000,9,  11.8199,     -999.0,9,     -999.0,9,     -999.0,9,     -999.0,9,         47,-999.000,-999.000,-999.000,     -999.0,9, -999.00,9, -999.00,9
33RO200306_01,       A16N,     047,          1,         17,         17,2,20030701,       1508,    42.0005,   -20.0007,       2349,   423.8,  11.6850,  35.5763,2,  35.5756,2,    208.6,2,   210.2,2,    4.74,2,   12.75,2,    0.00,2,    0.77,2,-999.000,9,-999.000,9,-999.000,9,  2144.3,2,  2333.2,2,    613.5,2,    20.00,   7.8135,2,    25.00,-999.000,9,-999.000,9,-999.000,9, -999.00,9,  -999.0,9,  -999.0,-999.000,9,-999.000,-999.000,9,   49.48,2,   17.17,2,  423.80,-999.0000,9,-999.0000,9,-999.0000,9,-999.0000,9,-999.0000,9,-999.0000,9,  11.6298,     -999.0,9,     -999.0,9,     -999.0,9,     -999.0,9,         47,-999.000,-999.000,-999.000,     -999.0,9, -999.00,9, -999.00,9
33RO200306_01,       A16N,     047,          1,         16,         16,2,20030701,       1508,    42.0005,   -20.0007,       2349,   474.0,  11.3785,  35.5472,2,  35.5462,2,    202.3,2,   202.2,2,    5.38,2,   13.93,2,    0.00,2,    0.84,2,   2.870,2,   1.592,2,   0.089,2,  2150.6,2,  2332.5,2,   -999.0,9,  -999.00,   7.7992,2,    25.00,-999.000,9,-999.000,9,-999.000,9, -999.00,9,  -999.0,9,  -999.0,-999.000,9,-999.000,   0.384,2,   44.39,2,   17.88,2,  474.00,-999.0000,9,-999.0000,9,-999.0000,9,-999.0000,9,-999.0000,9,-999.0000,9,  11.3177,      0.096,2,     -999.0,9,     -999.0,9,     -999.0,9,         47,-999.000,-999.000,-999.000,     -999.0,9, -999.00,9, -999.00,9
33RO200306_01,       A16N,     047,          1,         15,         15,2,20030701,       1508,    42.0005,   -20.0007,       2349,   550.4,  10.9676,  35.5141,2,  35.5163,2,    195.5,2,   193.3,2,    6.49,2,   15.47,2,    0.00,2,    0.94,2,   2.593,2,   1.407,2,   0.076,2,  2159.1,2,  2330.8,2,    662.7,2,    20.00,   7.7700,2,    25.00,-999.000,9,-999.000,9,-999.000,9, -999.00,9,  -999.0,9,  -999.0,-999.000,9,-999.000,-999.000,9,   43.90,2,   18.66,2,  550.40,-999.0000,9,-999.0000,9,-999.0000,9,-999.0000,9,-999.0000,9,-999.0000,9,  10.8984,     -999.0,9,     -999.0,9,     -999.0,9,     -999.0,9,         47,-999.000,-999.000,-999.000,     -999.0,9, -999.00,9, -999.00,9
33RO200306_01,       A16N,     047,          1,         14,         14,2,20030701,       1508,    42.0005,   -20.0007,       2349,   650.3,  10.5782,  35.5231,2,  35.5243,2,    189.0,2,   187.5,2,    7.50,2,   16.50,2,    0.00,2,    1.01,2,-999.000,9,-999.000,9,-999.000,9,  2167.5,2,  2333.1,2,   -999.0,9,  -999.00,   7.7648,2,    25.00,-999.000,9,-999.000,9,-999.000,9, -999.00,9,  -999.0,9,  -999.0,-999.000,9,-999.000,-999.000,9,   45.12,2,   19.94,2,  650.30,-999.0000,9,-999.0000,9,-999.0000,9,-999.0000,9,-999.0000,9,-999.0000,9,  10.4978,     -999.0,9,     -999.0,9,     -999.0,9,     -999.0,9,         47,-999.000,-999.000,-999.000,     -999.0,9, -999.00,9, -999.00,9
33RO200306_01,       A16N,     047,          1,         13,         13,2,20030701,       1508,    42.0005,   -20.0007,       2349,   748.8,  10.0146,  35.5404,2,  35.5454,2,    185.3,2,   184.0,2,    8.76,2,   17.29,2,    0.00,2,    1.07,2,   2.017,2,   1.065,2,   0.055,2,  2177.6,2,  2338.2,2,    707.9,6,    20.00,   7.7488,2,    25.00,-999.000,9,-999.000,9,-999.000,9, -999.00,9,  -999.0,9,  -999.0,-999.000,9,-999.000,-999.000,9,   43.98,2,   20.87,2,  748.80,-999.0000,9,-999.0000,9,-999.0000,9,-999.0000,9,-999.0000,9,-999.0000,9,   9.9246,     -999.0,9,     -999.0,9,     -999.0,9,     -999.0,9,         47,-999.000,-999.000,-999.000,     -999.0,9, -999.00,9, -999.00,9
33RO200306_01,       A16N,     047,          1,         12,         12,2,20030701,       1508,    42.0005,   -20.0007,       2349,   849.9,   9.7251,  35.6523,2,  35.6518,2,    185.5,2,   183.8,2,    9.44,2,   17.35,2,    0.00,2,    1.07,2,-999.000,9,-999.000,9,-999.000,9,  2185.6,2,  2347.1,2,   -999.0,9,  -999.00,   7.7642,2,    25.00,-999.000,9,-999.000,9,-999.000,9, -999.00,9,  -999.0,9,  -999.0,-999.000,9,-999.000,-999.000,9,   43.58,2,   20.96,2,  849.90,-999.0000,9,-999.0000,9,-999.0000,9,-999.0000,9,-999.0000,9,-999.0000,9,   9.6241,     -999.0,9,     -999.0,9,     -999.0,9,     -999.0,9,         47,-999.000,-999.000,-999.000,     -999.0,9, -999.00,9, -999.00,9
33RO200306_01,       A16N,     047,          1,         11,         11,2,20030701,       1508,    42.0005,   -20.0007,       2349,   921.8,   9.5931,  35.7333,2,  35.7289,2,    186.4,2,   184.3,2,    9.76,2,   17.27,2,    0.00,2,    1.07,2,   1.570,2,   0.819,2,   0.038,2,  2190.1,2,  2354.4,2,    703.6,2,    20.00,   7.7656,2,    25.00,-999.000,9,-999.000,9,-999.000,9, -999.00,9,  -999.0,9,  -999.0,-999.000,9,-999.000,-999.000,9,   43.00,2,   21.07,2,  921.80,-999.0000,9,-999.0000,9,-999.0000,9,-999.0000,9,-999.0000,9,-999.0000,9,   9.4839,     -999.0,9,     -999.0,9,     -999.0,9,     -999.0,9,         47,-999.000,-999.000,-999.000,     -999.0,9, -999.00,9, -999.00,9
33RO200306_01,       A16N,     047,          1,         10,         10,2,20030701,       1508,    42.0005,   -20.0007,       2349,  1049.3,   9.1926,  35.7684,2,  35.7672,2,    191.3,2,   190.3,2,   10.15,2,   17.12,2,    0.00,2,    1.06,2,-999.000,9,-999.000,9,-999.000,9,  2192.6,6,  2359.1,2,   -999.0,9,  -999.00,   7.7618,2,    25.00,-999.000,9,-999.000,9,-999.000,9, -999.00,9,  -999.0,9,  -999.0,-999.000,9,-999.000,-999.000,9,   44.15,2,   20.95,2, 1049.30,-999.0000,9,-999.0000,9,-999.0000,9,-999.0000,9,-999.0000,9,-999.0000,9,   9.0705,     -999.0,9,     -999.0,9,     -999.0,9,     -999.0,9,         47,-999.000,-999.000,-999.000,     -999.0,9, -999.00,9, -999.00,9
33RO200306_01,       A16N,     047,          1,          9,          9,2,20030701,       1508,    42.0005,   -20.0007,       2349,  1150.7,   8.4789,  35.6835,2,  35.6806,2,    197.7,2,   199.7,2,   10.55,2,   17.25,2,    0.00,2,    1.07,2,   1.495,2,   0.772,2,   0.043,2,  2191.5,2,  2352.8,2,   -999.0,9,  -999.00,   7.7586,2,    25.00,-999.000,9,-999.000,9,-999.000,9, -999.00,9,  -999.0,9,  -999.0,-999.000,9,-999.000,-999.000,9,   43.41,2,   21.01,2, 1150.70,-999.0000,9,-999.0000,9,-999.0000,9,-999.0000,9,-999.0000,9,-999.0000,9,   8.3503,     -999.0,9,     -999.0,9,     -999.0,9,     -999.0,9,         47,-999.000,-999.000,-999.000,     -999.0,9, -999.00,9, -999.00,9
33RO200306_01,       A16N,     047,          1,          8,          8,2,20030701,       1508,    42.0005,   -20.0007,       2349,  1250.3,   7.5317,  35.5273,2,  35.5292,2,    207.7,2,   210.7,2,   10.96,2,   17.54,2,    0.00,2,    1.10,2,-999.000,9,-999.000,9,-999.000,9,  2187.4,2,  2344.2,2,    722.7,2,    20.00,   7.7542,2,    25.00,-999.000,9,-999.000,9,-999.000,9, -999.00,9,  -999.0,9,  -999.0,-999.000,9,-999.000,-999.000,9,   43.17,2,   21.13,2, 1250.30,-999.0000,9,-999.0000,9,-999.0000,9,-999.0000,9,-999.0000,9,-999.0000,9,   7.4000,     -999.0,9,     -999.0,9,     -999.0,9,     -999.0,9,         47,-999.000,-999.000,-999.000,     -999.0,9, -999.00,9, -999.00,9
33RO200306_01,       A16N,     047,          1,          7,          7,2,20030701,       1508,    42.0005,   -20.0007,       2349,  1350.3,   6.4373,  35.3497,2,  35.3509,2,    219.8,2,   223.5,2,   11.41,2,   17.79,2,    0.00,2,    1.12,2,   1.715,2,   0.867,2,   0.069,2,  2180.6,2,  2333.0,2,   -999.0,9,  -999.00,   7.7401,2,    25.00,-999.000,9,-999.000,9,-999.000,9, -999.00,9,  -999.0,9,  -999.0,-999.000,9,-999.000,-999.000,9,   44.39,2,   21.69,2, 1350.30,-999.0000,9,-999.0000,9,-999.0000,9,-999.0000,9,-999.0000,9,-999.0000,9,   6.3053,     -999.0,9,     -999.0,9,     -999.0,9,     -999.0,9,         47,-999.000,-999.000,-999.000,     -999.0,9, -999.00,9, -999.00,9
33RO200306_01,       A16N,     047,          1,          6,          6,2,20030701,       1508,    42.0005,   -20.0007,       2349,  1499.9,   5.2588,  35.1720,2,  35.1712,2,    238.0,2,   240.7,2,   11.85,2,   17.85,2,    0.00,2,    1.14,2,   1.822,2,   0.910,2,   0.083,2,  2173.4,2,  2320.6,2,    744.1,2,    20.00,   7.7350,2,    25.00,-999.000,9,-999.000,9,-999.000,9, -999.00,9,  -999.0,9,  -999.0,-999.000,9,-999.000,-999.000,9,   42.40,2,   22.37,2, 1499.90,-999.0000,9,-999.0000,9,-999.0000,9,-999.0000,9,-999.0000,9,-999.0000,9,   5.1240,     -999.0,9,     -999.0,9,     -999.0,9,     -999.0,9,         47,-999.000,-999.000,-999.000,     -999.0,9, -999.00,9, -999.00,9