BOTTLE,20230908CCHSIOCBG
EXPOCODE,SECT_ID,STNNBR,CASTNO,SAMPNO,BTLNBR,BTLNBR_FLAG_W,DATE,TIME,LATITUDE,LONGITUDE,DEPTH,CTDPRS,CTDTMP,CTDSAL,CTDSAL_FLAG_W,SALNTY,SALNTY_FLAG_W,CTDOXY,CTDOXY_FLAG_W,OXYGEN,OXYGEN_FLAG_W,SILCAT,SILCAT_FLAG_W,NITRAT,NITRAT_FLAG_W,NITRIT,NITRIT_FLAG_W,PHSPHT,PHSPHT_FLAG_W,CFC-11,CFC-11_FLAG_W,CFC-12,CFC-12_FLAG_W,CFC113,CFC113_FLAG_W,TCARBN,TCARBN_FLAG_W,ALKALI,ALKALI_FLAG_W,FCO2,FCO2_FLAG_W,FCO2TMP,PH_SWS,PH_SWS_FLAG_W,PH_TMP,TRITUM,TRITUM_FLAG_W,HELIUM,HELIUM_FLAG_W,DELHE3,DELHE3_FLAG_W,DELC13,DELC13_FLAG_W,DELC14,DELC14_FLAG_W,C14ERR,NEON,NEON_FLAG_W,NEONER,POC,POC_FLAG_W,DOC,DOC_FLAG_W,TDN,TDN_FLAG_W,CTDRAW,CDOM325,CDOM325_FLAG_W,CDOM340,CDOM340_FLAG_W,CDOM380,CDOM380_FLAG_W,CDOM412,CDOM412_FLAG_W,CDOMSL,CDOMSL_FLAG_W,CDOMSN,CDOMSN_FLAG_W,THETA,PON,PON_FLAG_W,HCFC-22,HCFC-22_FLAG_W,HCFC-142b,HCFC-142b_FLAG_W,HCFC-141b,HCFC-141b_FLAG_W,STNNBR_U,HELIER,DELHER,TRITER,CH3CL,CH3CL_FLAG_W,CH3BR,CH3BR_FLAG_W,CH3I,CH3I_FLAG_W
,,,,,,,,,,,METERS,DBAR,ITS-90,PSS-78,,PSS-78,,UMOL/KG,,UMOL/KG,,UMOL/KG,,UMOL/KG,,UMOL/KG,,UMOL/KG,,PMOL/KG,,PMOL/KG,,PMOL/KG,,UMOL/KG,,UMOL/KG,,UATM,,DEG C,,,DEG C,TU,,NMOL/KG,,PERCNT,,/MILLE,,/MILLE,,/MILLE,NMOL/KG,,NMOL/KG,UG/KG,,UMOL/KG,,UMOL/KG,,DBAR,1/M,,1/M,,1/M,,1/M,,1/NM,,1/NM,,DEG C,UMOL/L,,PMOL/KG,,PMOL/KG,,PMOL/KG,,,NMOL/KG,PERCNT,TU,PMOL/KG,,PMOL/KG,,PMOL/KG,
33RO200306_01,       A16N,     011,          1,          7,          7,2,20030621,       2305,    59.9998,   -20.0015,       2724,  1799.4,   3.4352,  34.9012,2,  34.9025,2,    283.0,2,   281.1,2,   11.37,2,   17.14,2,    0.00,2,    1.10,2,   3.017,2,   1.430,2,   0.178,2,  2160.3,2,  2297.3,2,   -999.0,9,  -999.00,   7.7193,2,    25.00,   1.122,2,   1.822,2,   5.870,2, -999.00,9,  -999.0,9,  -999.0,   7.884,2,   0.025,-999.000,9,   45.20,2,   22.41,2, 1799.40,-999.0000,9,-999.0000,9,-999.0000,9,-999.0000,9,-999.0000,9,-999.0000,9,   3.2949,     -999.0,9,     -999.0,9,     -999.0,9,     -999.0,9,         11,   0.003,    0.19,   0.020,     -999.0,9, -999.00,9, -999.00,9
33RO200306_01,       A16N,     011,          1,          6,          6,2,20030621,       2305,    59.9998,   -20.0015,       2724,  1999.6,   3.2826,  34.8989,2,  34.8981,2,    288.8,2,   283.7,2,   11.53,2,   16.94,2,    0.00,2,    1.08,2,   2.964,2,   1.405,2,   0.172,2,  2157.5,2,  2297.4,2,   -999.0,9,  -999.00,   7.7220,2,    25.00,-999.000,9,-999.000,9,-999.000,9, -999.00,9,  -999.0,9,  -999.0,-999.000,9,-999.000,-999.000,9,   44.47,2,   21.19,2, 1999.60,-999.0000,9,-999.0000,9,-999.0000,9,-999.0000,9,-999.0000,9,-999.0000,9,   3.1260,     -999.0,9,     -999.0,9,     -999.0,9,     -999.0,9,         11,-999.000,-999.000,-999.000,     -999.0,9, -999.00,9, -999.00,9
33RO200306_01,       A16N,     011,          1,          5,          5,2,20030621,       2305,    59.9998,   -20.0015,       2724,  2195.4,   3.2359,  34.9181,2,  34.9178,2,    289.8,2,   287.2,2,   12.15,2,   16.71,2,    0.00,2,    1.07,2,   2.607,2,   1.238,2,   0.142,2,  2158.3,2,  2299.4,2,   -999.0,9,  -999.00,   7.7332,2,    25.00,-999.000,9,   1.841,2,   6.064,2, -999.00,9,  -999.0,9,  -999.0,   7.850,2,   0.060,-999.000,9,   44.15,2,   21.63,2, 2195.40,-999.0000,9,-999.0000,9,-999.0000,9,-999.0000,9,-999.0000,9,-999.0000,9,   3.0615,     -999.0,9,     -999.0,9,     -999.0,9,     -999.0,9,         11,   0.003,   0.144,-999.000,     -999.0,9, -999.00,9, -999.00,9
33RO200306_01,       A16N,     011,          1,          4,          4,2,20030621,       2305,    59.9998,   -20.0015,       2724,  2400.0,   3.1451,  34.9499,2,  34.9511,2,    278.1,2,   278.5,2,   13.80,2,   16.53,2,    0.00,2,    1.07,2,   2.206,2,   1.055,2,   0.115,2,  2162.1,2,  2303.1,2,   -999.0,9,  -999.00,   7.7260,2,    25.00,-999.000,9,-999.000,9,-999.000,9, -999.00,9,  -999.0,9,  -999.0,-999.000,9,-999.000,-999.000,9,   44.71,2,   20.59,2, 2400.00,-999.0000,9,-999.0000,9,-999.0000,9,-999.0000,9,-999.0000,9,-999.0000,9,   2.9523,     -999.0,9,     -999.0,9,     -999.0,9,     -999.0,9,         11,-999.000,-999.000,-999.000,     -999.0,9, -999.00,9, -999.00,9
33RO200306_01,       A16N,     011,          1,          3,          3,2,20030621,       2305,    59.9998,   -20.0015,       2724,  2599.7,   2.9692,  34.9682,2,  34.9680,2,    275.5,2,   277.9,2,   15.46,2,   16.45,2,    0.00,2,    1.07,2,   2.208,2,   1.077,2,   0.122,2,  2165.6,2,  2306.7,2,   -999.0,9,  -999.00,   7.7249,2,    25.00,   0.960,2,   1.817,2,   6.085,2, -999.00,9,  -999.0,9,  -999.0,   7.914,2,   0.060,-999.000,9,   43.90,2,   20.50,2, 2599.70,-999.0000,9,-999.0000,9,-999.0000,9,-999.0000,9,-999.0000,9,-999.0000,9,   2.7599,     -999.0,9,     -999.0,9,     -999.0,9,     -999.0,9,         11,   0.003,   0.144,   0.030,     -999.0,9, -999.00,9, -999.00,9
33RO200306_01,       A16N,     011,          1,          2,          2,2,20030621,       2305,    59.9998,   -20.0015,       2724,  2651.1,   2.8990,  34.9708,2,  34.9716,2,    276.0,2,   278.4,2,   15.88,2,   16.41,2,    0.00,2,    1.07,2,   2.273,2,   1.104,2,   0.132,2,  2166.7,2,  2307.7,2,   -999.0,9,  -999.00,   7.7218,2,    25.00,-999.000,9,-999.000,9,-999.000,9, -999.00,9,  -999.0,9,  -999.0,-999.000,9,-999.000,-999.000,9,   45.07,2,   20.18,2, 2651.10,-999.0000,9,-999.0000,9,-999.0000,9,-999.0000,9,-999.0000,9,-999.0000,9,   2.6859,     -999.0,9,     -999.0,9,     -999.0,9,     -999.0,9,         11,-999.000,-999.000,-999.000,     -999.0,9, -999.00,9, -999.00,9
33RO200306_01,       A16N,     011,          1,          1,          1,2,20030621,       2305,    59.9998,   -20.0015,       2724,  2753.8,   2.6796,  34.9839,2,  34.9827,2,    280.9,2,   280.1,2,   13.59,2,   15.67,2,    0.01,2,    1.03,2,   2.702,6,   1.329,6,   0.167,6,  2168.0,2,  2302.9,2,   -999.0,9,  -999.00,   7.7159,2,    25.00,-999.000,9,   1.850,2,   4.127,2, -999.00,9,  -999.0,9,  -999.0,   7.862,2,   0.060,-999.000,9,   45.69,2,   19.78,2, 2753.80,-999.0000,9,-999.0000,9,-999.0000,9,-999.0000,9,-999.0000,9,-999.0000,9,   2.4605,     -999.0,9,     -999.0,9,     -999.0,9,     -999.0,9,         11,   0.003,   0.144,-999.000,     -999.0,9, -999.00,9, -999.00,9