BOTTLE,20230908CCHSIOCBG
EXPOCODE,SECT_ID,STNNBR,CASTNO,SAMPNO,BTLNBR,BTLNBR_FLAG_W,DATE,TIME,LATITUDE,LONGITUDE,DEPTH,CTDPRS,CTDTMP,CTDSAL,CTDSAL_FLAG_W,SALNTY,SALNTY_FLAG_W,CTDOXY,CTDOXY_FLAG_W,OXYGEN,OXYGEN_FLAG_W,SILCAT,SILCAT_FLAG_W,NITRAT,NITRAT_FLAG_W,NITRIT,NITRIT_FLAG_W,PHSPHT,PHSPHT_FLAG_W,CFC-11,CFC-11_FLAG_W,CFC-12,CFC-12_FLAG_W,CFC113,CFC113_FLAG_W,TCARBN,TCARBN_FLAG_W,ALKALI,ALKALI_FLAG_W,FCO2,FCO2_FLAG_W,FCO2TMP,PH_SWS,PH_SWS_FLAG_W,PH_TMP,TRITUM,TRITUM_FLAG_W,HELIUM,HELIUM_FLAG_W,DELHE3,DELHE3_FLAG_W,DELC13,DELC13_FLAG_W,DELC14,DELC14_FLAG_W,C14ERR,NEON,NEON_FLAG_W,NEONER,POC,POC_FLAG_W,DOC,DOC_FLAG_W,TDN,TDN_FLAG_W,CTDRAW,CDOM325,CDOM325_FLAG_W,CDOM340,CDOM340_FLAG_W,CDOM380,CDOM380_FLAG_W,CDOM412,CDOM412_FLAG_W,CDOMSL,CDOMSL_FLAG_W,CDOMSN,CDOMSN_FLAG_W,THETA,PON,PON_FLAG_W,HCFC-22,HCFC-22_FLAG_W,HCFC-142b,HCFC-142b_FLAG_W,HCFC-141b,HCFC-141b_FLAG_W,STNNBR_U,HELIER,DELHER,TRITER,CH3CL,CH3CL_FLAG_W,CH3BR,CH3BR_FLAG_W,CH3I,CH3I_FLAG_W
,,,,,,,,,,,METERS,DBAR,ITS-90,PSS-78,,PSS-78,,UMOL/KG,,UMOL/KG,,UMOL/KG,,UMOL/KG,,UMOL/KG,,UMOL/KG,,PMOL/KG,,PMOL/KG,,PMOL/KG,,UMOL/KG,,UMOL/KG,,UATM,,DEG C,,,DEG C,TU,,NMOL/KG,,PERCNT,,/MILLE,,/MILLE,,/MILLE,NMOL/KG,,NMOL/KG,UG/KG,,UMOL/KG,,UMOL/KG,,DBAR,1/M,,1/M,,1/M,,1/M,,1/NM,,1/NM,,DEG C,UMOL/L,,PMOL/KG,,PMOL/KG,,PMOL/KG,,,NMOL/KG,PERCNT,TU,PMOL/KG,,PMOL/KG,,PMOL/KG,
33RO200306_01,       A16N,     045,          1,         35,         35,2,20030701,       0240,    42.9995,   -20.0013,       5539,     3.4,  17.4625,  35.7897,2,  35.7919,2,    239.5,2,   242.4,2,    0.99,2,    0.03,2,    0.00,2,    0.04,2,   2.584,2,   1.605,2,   0.233,2,  2067.2,6,  2349.1,2,    374.7,2,    20.00,   7.9913,2,    25.00,   1.532,2,-999.000,9,-999.000,9, -999.00,9,  -999.0,9,  -999.0,-999.000,9,-999.000,-999.000,9,   66.42,2,    5.44,2,    3.40,-999.0000,9,-999.0000,9,-999.0000,9,-999.0000,9,-999.0000,9,-999.0000,9,  17.4619,     -999.0,9,     -999.0,9,     -999.0,9,     -999.0,9,         45,-999.000,-999.000,   0.020,     -999.0,9, -999.00,9, -999.00,9
33RO200306_01,       A16N,     045,          1,         33,         33,2,20030701,       0240,    42.9995,   -20.0013,       5539,    19.9,  17.4396,  35.7894,2,  35.7926,2,    239.7,2,   243.4,2,    0.99,2,    0.08,2,    0.01,2,    0.05,2,-999.000,9,-999.000,9,-999.000,9,  2069.2,2,  2348.1,2,    381.9,6,    20.00,   7.9951,2,    25.00,-999.000,9,-999.000,9,-999.000,9, -999.00,9,  -999.0,9,  -999.0,-999.000,9,-999.000,-999.000,9,   63.25,2,    5.46,2,   19.90,-999.0000,9,-999.0000,9,-999.0000,9,-999.0000,9,-999.0000,9,-999.0000,9,  17.4363,     -999.0,9,     -999.0,9,     -999.0,9,     -999.0,9,         45,-999.000,-999.000,-999.000,     -999.0,9, -999.00,9, -999.00,9
33RO200306_01,       A16N,     045,          1,         32,         32,2,20030701,       0240,    42.9995,   -20.0013,       5539,    39.5,  14.1952,  35.8198,2,  35.8070,2,    251.2,2,   251.7,2,    1.43,2,    3.11,2,    0.66,2,    0.27,2,   3.086,2,   1.834,2,   0.264,2,  2105.0,2,  2347.5,2,    450.7,2,    20.00,   7.9246,2,    25.00,-999.000,9,-999.000,9,-999.000,9, -999.00,9,  -999.0,9,  -999.0,-999.000,9,-999.000,-999.000,9, -999.00,9, -999.00,9,   39.50,-999.0000,9,-999.0000,9,-999.0000,9,-999.0000,9,-999.0000,9,-999.0000,9,  14.1894,     -999.0,9,     -999.0,9,     -999.0,9,     -999.0,9,         45,-999.000,-999.000,-999.000,     -999.0,9, -999.00,9, -999.00,9
33RO200306_01,       A16N,     045,          1,         31,         31,2,20030701,       0240,    42.9995,   -20.0013,       5539,    60.0,  13.3451,  35.7700,2,  35.7746,2,    245.4,2,   243.8,2,    1.87,2,    5.28,2,    0.14,2,    0.35,2,   3.083,2,   1.835,2,   0.257,2,  2111.3,2,  2342.7,2,    482.2,2,    20.00,   7.9050,2,    25.00,   1.373,2,-999.000,9,-999.000,9, -999.00,9,  -999.0,9,  -999.0,-999.000,9,-999.000,-999.000,9,   63.25,2,    9.99,2,   60.00,-999.0000,9,-999.0000,9,-999.0000,9,-999.0000,9,-999.0000,9,-999.0000,9,  13.3367,     -999.0,9,     -999.0,9,     -999.0,9,     -999.0,9,         45,-999.000,-999.000,   0.020,     -999.0,9, -999.00,9, -999.00,9
33RO200306_01,       A16N,     045,          1,         30,         30,2,20030701,       0240,    42.9995,   -20.0013,       5539,    79.6,  13.3941,  35.8253,2,  35.8250,2,    242.7,2,   240.5,2,    2.20,2,    6.41,2,    0.01,2,    0.40,2,-999.000,9,-999.000,9,-999.000,9,  2114.8,2,  2345.4,2,    486.6,2,    20.00,   7.8982,2,    25.00,-999.000,9,-999.000,9,-999.000,9, -999.00,9,  -999.0,9,  -999.0,-999.000,9,-999.000,-999.000,9, -999.00,9, -999.00,9,   79.60,-999.0000,9,-999.0000,9,-999.0000,9,-999.0000,9,-999.0000,9,-999.0000,9,  13.3829,     -999.0,9,     -999.0,9,     -999.0,9,     -999.0,9,         45,-999.000,-999.000,-999.000,     -999.0,9, -999.00,9, -999.00,9
33RO200306_01,       A16N,     045,          1,         29,         29,2,20030701,       0240,    42.9995,   -20.0013,       5539,    99.7,  13.1567,  35.7865,2,  35.7861,2,    239.7,2,   242.6,2,    2.22,2,    6.55,2,    0.01,2,    0.40,2,   3.044,2,   1.830,2,   0.243,2,  2115.7,2,  2343.2,2,    494.1,2,    20.00,   7.8997,2,    25.00,-999.000,9,   1.737,2,  -1.913,2, -999.00,9,  -999.0,9,  -999.0,   7.157,2,   0.026,-999.000,9,   52.44,2,   11.21,2,   99.70,-999.0000,9,-999.0000,9,-999.0000,9,-999.0000,9,-999.0000,9,-999.0000,9,  13.1428,     -999.0,9,     -999.0,9,     -999.0,9,     -999.0,9,         45,   0.003,   0.113,-999.000,     -999.0,9, -999.00,9, -999.00,9
33RO200306_01,       A16N,     045,          1,         28,         28,2,20030701,       0240,    42.9995,   -20.0013,       5539,   125.1,  13.0089,  35.7712,2,  35.7726,2,    242.0,2,   242.6,2,    2.34,2,    6.89,2,    0.01,2,    0.43,2,   3.032,2,   1.844,2,   0.238,2,  2118.2,2,  2342.2,2,   -999.0,9,  -999.00,   7.8900,2,    25.00,-999.000,9,-999.000,9,-999.000,9, -999.00,9,  -999.0,9,  -999.0,-999.000,9,-999.000,-999.000,9, -999.00,9, -999.00,9,  125.10,-999.0000,9,-999.0000,9,-999.0000,9,-999.0000,9,-999.0000,9,-999.0000,9,  12.9916,     -999.0,9,     -999.0,9,     -999.0,9,     -999.0,9,         45,-999.000,-999.000,-999.000,     -999.0,9, -999.00,9, -999.00,9
33RO200306_01,       A16N,     045,          1,         27,         27,2,20030701,       0240,    42.9995,   -20.0013,       5539,   151.0,  12.9196,  35.7679,2,  35.7679,2,    240.0,2,   240.9,2,    2.70,2,    7.71,2,    0.01,2,    0.47,2,   3.028,2,   1.794,2,   0.210,2,  2122.8,2,  2342.7,2,    507.8,2,    20.00,   7.8819,2,    25.00,-999.000,9,   1.805,3,  -1.530,2, -999.00,9,  -999.0,9,  -999.0,   7.440,2,   0.027,-999.000,9,   53.34,2,   11.84,2,  151.00,-999.0000,9,-999.0000,9,-999.0000,9,-999.0000,9,-999.0000,9,-999.0000,9,  12.8988,     -999.0,9,     -999.0,9,     -999.0,9,     -999.0,9,         45,   0.003,   0.112,-999.000,     -999.0,9, -999.00,9, -999.00,9
33RO200306_01,       A16N,     045,          1,         26,         26,2,20030701,       0240,    42.9995,   -20.0013,       5539,   174.1,  12.7961,  35.7525,2,  35.7545,2,    239.5,2,   241.5,2,    2.83,2,    8.00,2,    0.01,2,    0.49,2,-999.000,9,-999.000,9,-999.000,9,  2123.6,2,  2340.6,2,   -999.0,9,  -999.00,   7.8833,2,    25.00,-999.000,9,-999.000,9,-999.000,9, -999.00,9,  -999.0,9,  -999.0,-999.000,9,-999.000,-999.000,9, -999.00,9, -999.00,9,  174.10,-999.0000,9,-999.0000,9,-999.0000,9,-999.0000,9,-999.0000,9,-999.0000,9,  12.7722,     -999.0,9,     -999.0,9,     -999.0,9,     -999.0,9,         45,-999.000,-999.000,-999.000,     -999.0,9, -999.00,9, -999.00,9
33RO200306_01,       A16N,     045,          1,         25,         25,2,20030701,       0240,    42.9995,   -20.0013,       5539,   201.0,  12.7100,  35.7399,2,  35.7400,2,    241.1,2,   241.9,2,    2.78,2,    8.01,2,    0.01,2,    0.49,2,   3.155,2,   1.853,2,   0.216,2,  2120.9,2,  2341.5,2,    510.7,6,    20.00,   7.8782,2,    25.00,   1.267,2,   1.782,2,  -1.761,2, -999.00,9,  -999.0,9,  -999.0,   7.407,2,   0.027,-999.000,9,   52.20,2,   12.28,2,  201.00,-999.0000,9,-999.0000,9,-999.0000,9,-999.0000,9,-999.0000,9,-999.0000,9,  12.6826,     -999.0,9,     -999.0,9,     -999.0,9,     -999.0,9,         45,   0.003,   0.112,   0.030,     -999.0,9, -999.00,9, -999.00,9
33RO200306_01,       A16N,     045,          1,         24,         24,2,20030701,       0240,    42.9995,   -20.0013,       5539,   250.7,  12.5147,  35.7089,2,  35.7089,2,    236.8,2,   234.9,2,    3.33,2,    9.24,2,    0.01,2,    0.57,2,   3.011,2,   1.790,2,   0.177,2,  2127.5,2,  2339.9,2,   -999.0,9,  -999.00,   7.8667,2,    25.00,-999.000,9,-999.000,9,-999.000,9, -999.00,9,  -999.0,9,  -999.0,-999.000,9,-999.000,-999.000,9,   49.59,2,   13.17,2,  250.70,-999.0000,9,-999.0000,9,-999.0000,9,-999.0000,9,-999.0000,9,-999.0000,9,  12.4808,     -999.0,9,     -999.0,9,     -999.0,9,     -999.0,9,         45,-999.000,-999.000,-999.000,     -999.0,9, -999.00,9, -999.00,9
33RO200306_01,       A16N,     045,          1,         23,         23,2,20030701,       0240,    42.9995,   -20.0013,       5539,   299.7,  12.2220,  35.6563,2,  35.6544,2,    230.8,2,   228.0,2,    3.89,2,   10.47,2,    0.01,2,    0.64,2,   2.984,2,   1.743,2,   0.148,2,  2130.3,2,  2338.3,2,    556.3,2,    20.00,   7.8473,2,    25.00,-999.000,9,-999.000,9,-999.000,9, -999.00,9,  -999.0,9,  -999.0,-999.000,9,-999.000,-999.000,9,   49.92,2,   13.85,2,  299.70,-999.0000,9,-999.0000,9,-999.0000,9,-999.0000,9,-999.0000,9,-999.0000,9,  12.1820,     -999.0,9,     -999.0,9,     -999.0,9,     -999.0,9,         45,-999.000,-999.000,-999.000,     -999.0,9, -999.00,9, -999.00,9
33RO200306_01,       A16N,     045,          1,         22,         22,2,20030701,       0240,    42.9995,   -20.0013,       5539,   349.3,  11.9465,  35.6108,2,  35.6110,2,    227.5,2,   225.4,2,    4.19,2,   11.15,2,    0.00,2,    0.68,2,   2.977,2,   1.725,2,   0.140,2,  2134.3,2,  2335.3,2,   -999.0,9,  -999.00,   7.8378,2,    25.00,-999.000,9,-999.000,9,-999.000,9, -999.00,9,  -999.0,9,  -999.0,-999.000,9,-999.000,-999.000,9,   48.95,2,   14.86,2,  349.30,-999.0000,9,-999.0000,9,-999.0000,9,-999.0000,9,-999.0000,9,-999.0000,9,  11.9005,     -999.0,9,     -999.0,9,     -999.0,9,     -999.0,9,         45,-999.000,-999.000,-999.000,     -999.0,9, -999.00,9, -999.00,9
33RO200306_01,       A16N,     045,          1,         21,         21,2,20030701,       0240,    42.9995,   -20.0013,       5539,   401.1,  11.7301,  35.5803,2,  35.5804,2,    227.0,2,   226.0,2,    4.27,2,   11.37,2,    0.01,2,    0.70,2,   3.018,2,   1.759,2,   0.143,2,  2134.6,2,  2335.7,2,    576.8,2,    20.00,   7.8318,2,    25.00,   1.118,2,-999.000,9,-999.000,9, -999.00,9,  -999.0,9,  -999.0,-999.000,9,-999.000,-999.000,9,   50.17,2,   15.84,2,  401.10,-999.0000,9,-999.0000,9,-999.0000,9,-999.0000,9,-999.0000,9,-999.0000,9,  11.6778,     -999.0,9,     -999.0,9,     -999.0,9,     -999.0,9,         45,-999.000,-999.000,   0.030,     -999.0,9, -999.00,9, -999.00,9
33RO200306_01,       A16N,     045,          1,         20,         20,2,20030701,       0240,    42.9995,   -20.0013,       5539,   450.4,  11.4873,  35.5543,2,  35.5533,2,    217.2,2,   220.0,2,    4.63,2,   12.37,2,    0.01,2,    0.75,2,   3.029,2,   1.752,2,   0.122,2,  2142.8,2,  2332.9,2,   -999.0,9,  -999.00,   7.8232,2,    25.00,-999.000,9,-999.000,9,-999.000,9, -999.00,9,  -999.0,9,  -999.0,-999.000,9,-999.000,-999.000,9,   49.68,2,   16.59,2,  450.40,-999.0000,9,-999.0000,9,-999.0000,9,-999.0000,9,-999.0000,9,-999.0000,9,  11.4292,     -999.0,9,     -999.0,9,     -999.0,9,     -999.0,9,         45,-999.000,-999.000,-999.000,     -999.0,9, -999.00,9, -999.00,9
33RO200306_01,       A16N,     045,          1,         19,         19,2,20030701,       0240,    42.9995,   -20.0013,       5539,   501.0,  11.1821,  35.5209,2,  35.5226,2,    209.2,2,   208.4,2,    5.46,2,   13.79,2,    0.00,2,    0.83,2,   2.868,2,   1.626,2,   0.104,2,  2149.8,2,  2330.9,2,    635.2,2,    20.00,   7.8005,2,    25.00,-999.000,9,-999.000,9,-999.000,9, -999.00,9,  -999.0,9,  -999.0,-999.000,9,-999.000,-999.000,9,   47.00,2,   18.25,2,  501.00,-999.0000,9,-999.0000,9,-999.0000,9,-999.0000,9,-999.0000,9,-999.0000,9,  11.1185,     -999.0,9,     -999.0,9,     -999.0,9,     -999.0,9,         45,-999.000,-999.000,-999.000,     -999.0,9, -999.00,9, -999.00,9
33RO200306_01,       A16N,     045,          1,         18,         18,2,20030701,       0240,    42.9995,   -20.0013,       5539,   601.3,  10.3055,  35.4178,2,  35.4243,2,    197.1,2,   193.9,2,    7.65,2,   16.38,2,    0.00,2,    1.01,2,   2.467,2,   1.358,2,   0.091,2,  2162.7,2,  2328.8,2,    687.2,2,    20.00,   7.7671,2,    25.00,-999.000,9,-999.000,9,-999.000,9, -999.00,9,  -999.0,9,  -999.0,-999.000,9,-999.000,-999.000,9,   46.51,2,   20.06,2,  601.30,-999.0000,9,-999.0000,9,-999.0000,9,-999.0000,9,-999.0000,9,-999.0000,9,  10.2326,     -999.0,9,     -999.0,9,     -999.0,9,     -999.0,9,         45,-999.000,-999.000,-999.000,     -999.0,9, -999.00,9, -999.00,9
33RO200306_01,       A16N,     045,          1,         17,         17,2,20030701,       0240,    42.9995,   -20.0013,       5539,   699.6,   9.9463,  35.4836,2,  35.4829,2,    186.6,2,   185.1,2,    8.87,2,   17.44,2,    0.00,2,    1.08,2,   2.067,2,   1.101,2,   0.062,2,  2172.7,2,  2334.7,2,    712.3,2,    20.00,   7.7559,2,    25.00,   0.940,2,-999.000,9,-999.000,9, -999.00,9,  -999.0,9,  -999.0,-999.000,9,-999.000,-999.000,9,   45.78,2,   20.60,2,  699.60,-999.0000,9,-999.0000,9,-999.0000,9,-999.0000,9,-999.0000,9,-999.0000,9,   9.8628,     -999.0,9,     -999.0,9,     -999.0,9,     -999.0,9,         45,-999.000,-999.000,   0.020,     -999.0,9, -999.00,9, -999.00,9
33RO200306_01,       A16N,     045,          1,         16,         16,2,20030701,       0240,    42.9995,   -20.0013,       5539,   800.7,   9.6357,  35.5650,2,  35.5630,2,    184.3,2,   184.3,2,    9.57,2,   17.64,2,    0.00,2,    1.09,2,   1.818,2,   0.960,2,   0.051,2,  2177.8,2,  2342.7,2,    712.4,2,    20.00,   7.7589,2,    25.00,-999.000,9,-999.000,9,-999.000,9, -999.00,9,  -999.0,9,  -999.0,-999.000,9,-999.000,-999.000,9,   44.15,2,   20.86,2,  800.70,-999.0000,9,-999.0000,9,-999.0000,9,-999.0000,9,-999.0000,9,-999.0000,9,   9.5414,     -999.0,9,     -999.0,9,     -999.0,9,     -999.0,9,         45,-999.000,-999.000,-999.000,     -999.0,9, -999.00,9, -999.00,9
33RO200306_01,       A16N,     045,          1,         15,         15,2,20030701,       0240,    42.9995,   -20.0013,       5539,   900.3,   8.9762,  35.5233,2,  35.5224,2,    188.9,2,   188.2,2,   10.26,2,   18.03,2,    0.00,2,    1.12,2,   1.750,2,   0.919,2,   0.051,2,  2180.6,2,  2340.3,2,    728.7,2,    20.00,   7.7508,2,    25.00,   0.929,2,-999.000,9,-999.000,9, -999.00,9,  -999.0,9,  -999.0,-999.000,9,-999.000,-999.000,9,   44.15,2,   21.32,2,  900.30,-999.0000,9,-999.0000,9,-999.0000,9,-999.0000,9,-999.0000,9,-999.0000,9,   8.8739,     -999.0,9,     -999.0,9,     -999.0,9,     -999.0,9,         45,-999.000,-999.000,   0.030,     -999.0,9, -999.00,9, -999.00,9
33RO200306_01,       A16N,     045,          1,         14,         14,2,20030701,       0240,    42.9995,   -20.0013,       5539,  1001.0,   8.5577,  35.5553,2,  35.5540,2,    194.2,2,   194.6,2,   10.53,2,   17.85,2,    0.00,2,    1.11,2,   1.668,2,   0.878,2,   0.058,2,  2184.3,6,  2343.8,2,    724.1,2,    20.00,   7.7468,2,    25.00,   0.839,2,-999.000,9,-999.000,9, -999.00,9,  -999.0,9,  -999.0,-999.000,9,-999.000,-999.000,9,   43.58,2,   20.83,2, 1001.00,-999.0000,9,-999.0000,9,-999.0000,9,-999.0000,9,-999.0000,9,-999.0000,9,   8.4463,     -999.0,9,     -999.0,9,     -999.0,9,     -999.0,9,         45,-999.000,-999.000,   0.010,     -999.0,9, -999.00,9, -999.00,9
33RO200306_01,       A16N,     045,          1,         13,         13,2,20030701,       0240,    42.9995,   -20.0013,       5539,  1100.9,   7.6650,  35.4665,2,  35.4684,2,    203.5,2,   207.9,2,   10.94,2,   17.90,2,    0.00,2,    1.12,2,   1.756,2,   0.904,2,   0.068,2,  2182.5,2,  2338.3,2,   -999.0,9,  -999.00,   7.7438,2,    25.00,   0.825,2,-999.000,9,-999.000,9, -999.00,9,  -999.0,9,  -999.0,-999.000,9,-999.000,-999.000,9,   44.60,2,   21.68,2, 1100.90,-999.0000,9,-999.0000,9,-999.0000,9,-999.0000,9,-999.0000,9,-999.0000,9,   7.5491,     -999.0,9,     -999.0,9,     -999.0,9,     -999.0,9,         45,-999.000,-999.000,   0.010,     -999.0,9, -999.00,9, -999.00,9
33RO200306_01,       A16N,     045,          1,         12,         12,2,20030701,       0240,    42.9995,   -20.0013,       5539,  1200.0,   7.4812,  35.4939,2,  35.4940,2,    208.8,2,   209.5,2,   11.15,2,   17.73,2,    0.00,2,    1.11,2,   1.648,2,   0.846,2,   0.059,2,  2069.3,4,  2341.3,2,    728.4,2,    20.00,   7.7468,2,    25.00,   0.780,2,   1.801,2,   8.089,2, -999.00,9,  -999.0,9,  -999.0,   7.605,2,   0.028,-999.000,9,   44.47,2,   20.78,2, 1200.00,-999.0000,9,-999.0000,9,-999.0000,9,-999.0000,9,-999.0000,9,-999.0000,9,   7.3557,     -999.0,9,     -999.0,9,     -999.0,9,     -999.0,9,         45,   0.003,   0.108,   0.010,     -999.0,9, -999.00,9, -999.00,9
33RO200306_01,       A16N,     045,          1,         11,         11,2,20030701,       0240,    42.9995,   -20.0013,       5539,  1401.5,   5.8403,  35.2533,2,  35.2523,2,    229.9,2,   235.4,2,   11.74,2,   17.93,2,    0.00,2,    1.13,2,   1.802,2,   0.911,2,   0.078,2,  2174.2,2,  2324.3,2,    746.0,2,    20.00,-999.0000,9,  -999.00,-999.000,9,   1.834,2,   8.440,2, -999.00,9,  -999.0,9,  -999.0,   7.797,2,   0.029,-999.000,9,   43.90,2,   21.76,2, 1401.50,-999.0000,9,-999.0000,9,-999.0000,9,-999.0000,9,-999.0000,9,-999.0000,9,   5.7091,     -999.0,9,     -999.0,9,     -999.0,9,     -999.0,9,         45,   0.003,   0.107,-999.000,     -999.0,9, -999.00,9, -999.00,9
33RO200306_01,       A16N,     045,          1,         10,         10,2,20030701,       0240,    42.9995,   -20.0013,       5539,  1599.9,   4.2662,  35.0035,2,  35.0041,2,    258.1,2,   258.5,2,   11.78,2,   17.86,2,    0.00,2,    1.14,2,   2.197,2,   1.097,2,   0.113,2,  2162.9,2,  2307.1,2,   -999.0,9,  -999.00,   7.7214,2,    25.00,-999.000,9,   1.832,2,   8.303,2, -999.00,9,  -999.0,9,  -999.0,   7.870,2,   0.029,-999.000,9,   44.80,2,   22.20,2, 1599.90,-999.0000,9,-999.0000,9,-999.0000,9,-999.0000,9,-999.0000,9,-999.0000,9,   4.1335,     -999.0,9,     -999.0,9,     -999.0,9,     -999.0,9,         45,   0.009,   0.107,-999.000,     -999.0,9, -999.00,9, -999.00,9
33RO200306_01,       A16N,     045,          1,          9,          9,2,20030701,       0240,    42.9995,   -20.0013,       5539,  1800.0,   3.7165,  34.9385,2,  34.9393,2,    269.8,2,   270.8,2,   11.86,2,   17.58,2,    0.00,2,    1.13,2,   2.267,2,   1.127,2,   0.120,2,  2159.4,2,  2303.1,2,    761.4,2,    20.00,   7.7239,2,    25.00,-999.000,9,-999.000,9,-999.000,9, -999.00,9,  -999.0,9,  -999.0,-999.000,9,-999.000,-999.000,9,   44.71,2,   22.16,2, 1800.00,-999.0000,9,-999.0000,9,-999.0000,9,-999.0000,9,-999.0000,9,-999.0000,9,   3.5722,     -999.0,9,     -999.0,9,     -999.0,9,     -999.0,9,         45,-999.000,-999.000,-999.000,     -999.0,9, -999.00,9, -999.00,9
33RO200306_01,       A16N,     045,          1,          8,          8,2,20030701,       0240,    42.9995,   -20.0013,       5539,  2000.5,   3.4795,  34.9223,2,  34.9235,2,    273.3,2,   274.0,2,   12.42,2,   17.34,2,    0.00,2,    1.12,2,   2.200,2,   1.088,2,   0.119,2,  2157.5,2,  2302.0,2,    755.2,2,    20.00,   7.7284,2,    25.00,-999.000,9,-999.000,9,-999.000,9, -999.00,9,  -999.0,9,  -999.0,-999.000,9,-999.000,-999.000,9,   44.88,2,   20.83,2, 2000.50,-999.0000,9,-999.0000,9,-999.0000,9,-999.0000,9,-999.0000,9,-999.0000,9,   3.3198,     -999.0,9,     -999.0,9,     -999.0,9,     -999.0,9,         45,-999.000,-999.000,-999.000,     -999.0,9, -999.00,9, -999.00,9