BOTTLE,20230908CCHSIOCBG
EXPOCODE,SECT_ID,STNNBR,CASTNO,SAMPNO,BTLNBR,BTLNBR_FLAG_W,DATE,TIME,LATITUDE,LONGITUDE,DEPTH,CTDPRS,CTDTMP,CTDSAL,CTDSAL_FLAG_W,SALNTY,SALNTY_FLAG_W,CTDOXY,CTDOXY_FLAG_W,OXYGEN,OXYGEN_FLAG_W,SILCAT,SILCAT_FLAG_W,NITRAT,NITRAT_FLAG_W,NITRIT,NITRIT_FLAG_W,PHSPHT,PHSPHT_FLAG_W,CFC-11,CFC-11_FLAG_W,CFC-12,CFC-12_FLAG_W,CFC113,CFC113_FLAG_W,TCARBN,TCARBN_FLAG_W,ALKALI,ALKALI_FLAG_W,FCO2,FCO2_FLAG_W,FCO2TMP,PH_SWS,PH_SWS_FLAG_W,PH_TMP,TRITUM,TRITUM_FLAG_W,HELIUM,HELIUM_FLAG_W,DELHE3,DELHE3_FLAG_W,DELC13,DELC13_FLAG_W,DELC14,DELC14_FLAG_W,C14ERR,NEON,NEON_FLAG_W,NEONER,POC,POC_FLAG_W,DOC,DOC_FLAG_W,TDN,TDN_FLAG_W,CTDRAW,CDOM325,CDOM325_FLAG_W,CDOM340,CDOM340_FLAG_W,CDOM380,CDOM380_FLAG_W,CDOM412,CDOM412_FLAG_W,CDOMSL,CDOMSL_FLAG_W,CDOMSN,CDOMSN_FLAG_W,THETA,PON,PON_FLAG_W,HCFC-22,HCFC-22_FLAG_W,HCFC-142b,HCFC-142b_FLAG_W,HCFC-141b,HCFC-141b_FLAG_W,STNNBR_U,HELIER,DELHER,TRITER,CH3CL,CH3CL_FLAG_W,CH3BR,CH3BR_FLAG_W,CH3I,CH3I_FLAG_W
,,,,,,,,,,,METERS,DBAR,ITS-90,PSS-78,,PSS-78,,UMOL/KG,,UMOL/KG,,UMOL/KG,,UMOL/KG,,UMOL/KG,,UMOL/KG,,PMOL/KG,,PMOL/KG,,PMOL/KG,,UMOL/KG,,UMOL/KG,,UATM,,DEG C,,,DEG C,TU,,NMOL/KG,,PERCNT,,/MILLE,,/MILLE,,/MILLE,NMOL/KG,,NMOL/KG,UG/KG,,UMOL/KG,,UMOL/KG,,DBAR,1/M,,1/M,,1/M,,1/M,,1/NM,,1/NM,,DEG C,UMOL/L,,PMOL/KG,,PMOL/KG,,PMOL/KG,,,NMOL/KG,PERCNT,TU,PMOL/KG,,PMOL/KG,,PMOL/KG,
33RO200306_02,       A16N,     141,          1,          7,          7,2,20030806,       1321,    -2.0000,   -25.0003,       4951,  2800.5,   2.7752,  34.9191,2,  34.9200,2,    246.6,2,   246.5,2,   35.71,2,   21.74,2,    0.00,2,    1.41,2,   0.014,2,   0.011,2,   0.002,2,  2181.9,2,  2334.4,2,   -999.0,9,  -999.00,   7.7164,2,    25.00,-999.000,9,-999.000,9,-999.000,9, -999.00,9,  -999.0,9,  -999.0,-999.000,9,-999.000,-999.000,9,   41.54,2,   26.51,2, 2800.50,-999.0000,9,-999.0000,9,-999.0000,9,-999.0000,9,-999.0000,9,-999.0000,9,   2.5498,     -999.0,9,       0.19,2,       0.00,2,       0.32,2,        141,-999.000,-999.000,-999.000,      15.95,2,    0.53,2,    0.19,2
33RO200306_02,       A16N,     141,          1,          6,          6,2,20030806,       1321,    -2.0000,   -25.0003,       4951,  3200.2,   2.6173,  34.9162,2,  34.9170,2,    253.3,2,   257.8,2,   33.62,2,   20.71,2,    0.00,2,    1.36,2,   0.045,2,   0.027,2,   0.004,2,  2177.6,2,  2334.9,2,    692.6,2,    20.00,   7.7332,2,    25.00,   0.250,2,-999.000,9,-999.000,9, -999.00,9,  -999.0,9,  -999.0,-999.000,9,-999.000,-999.000,9,   40.65,2,   25.06,2, 3200.20,-999.0000,9,-999.0000,9,-999.0000,9,-999.0000,9,-999.0000,9,-999.0000,9,   2.3541,     -999.0,9,     -999.0,9,     -999.0,9,     -999.0,9,        141,-999.000,-999.000,   0.020,     -999.0,9, -999.00,9, -999.00,9
33RO200306_02,       A16N,     141,          1,          5,          5,2,20030806,       1321,    -2.0000,   -25.0003,       4951,  3599.4,   2.4708,  34.9085,2,  34.9094,2,    260.3,2,   260.9,2,   32.60,2,   20.02,2,    0.00,2,    1.32,2,   0.133,2,   0.073,2,   0.005,2,  2174.4,2,  2334.9,2,   -999.0,9,  -999.00,   7.7406,2,    25.00,   0.001,2,-999.000,9,-999.000,9, -999.00,9,  -999.0,9,  -999.0,-999.000,9,-999.000,-999.000,9,   40.24,2,   25.24,2, 3599.40,-999.0000,9,-999.0000,9,-999.0000,9,-999.0000,9,-999.0000,9,-999.0000,9,   2.1683,     -999.0,9,       0.32,2,       0.00,2,       0.25,2,        141,-999.000,-999.000,   0.000,       5.88,2,     0.0,2,     0.3,2
33RO200306_02,       A16N,     141,          1,          4,          4,2,20030806,       1321,    -2.0000,   -25.0003,       4951,  3999.6,   1.9514,  34.8551,2,  34.8557,2,    255.6,2,   252.8,2,   53.01,6,   22.76,6,    0.00,6,    1.53,6,   0.114,2,   0.062,2,   0.004,2,  2194.3,2,  2344.8,2,    799.8,6,    20.00,   7.7228,2,    25.00,   0.035,2,-999.000,9,-999.000,9, -999.00,9,  -999.0,9,  -999.0,-999.000,9,-999.000,-999.000,9,   40.57,2,   26.19,2, 3999.60,-999.0000,9,-999.0000,9,-999.0000,9,-999.0000,9,-999.0000,9,-999.0000,9,   1.6188,     -999.0,9,     -999.0,9,     -999.0,9,     -999.0,9,        141,-999.000,-999.000,   0.000,     -999.0,9, -999.00,9, -999.00,9
33RO200306_02,       A16N,     141,          1,          3,          3,2,20030806,       1321,    -2.0000,   -25.0003,       4951,  4399.1,   1.0040,  34.7491,2,  34.7496,2,    232.4,2,   240.2,2,   97.39,6,   29.22,6,    0.00,6,    2.02,6,   0.042,2,   0.018,2,   0.002,2,  2241.0,2,  2367.8,2,   -999.0,9,  -999.00,   7.6517,2,    25.00,-999.000,9,-999.000,9,-999.000,9, -999.00,9,  -999.0,9,  -999.0,-999.000,9,-999.000,-999.000,9,   39.51,2,   33.66,2, 4399.10,-999.0000,9,-999.0000,9,-999.0000,9,-999.0000,9,-999.0000,9,-999.0000,9,   0.6553,     -999.0,9,       0.46,2,       0.00,2,       0.46,2,        141,-999.000,-999.000,-999.000,        0.0,2,    0.26,2,    0.44,2
33RO200306_02,       A16N,     141,          1,          2,          2,2,20030806,       1321,    -2.0000,   -25.0003,       4951,  4799.1,   0.7799,  34.7197,2,  34.7204,2,    226.9,2,   224.2,2,  109.16,6,   30.94,6,    0.00,6,    2.14,6,   0.044,2,   0.026,2,   0.001,2,  2254.2,2,  2374.0,2,    989.3,2,    20.00,   7.6318,2,    25.00,-999.000,9,-999.000,9,-999.000,9, -999.00,9,  -999.0,9,  -999.0,-999.000,9,-999.000,-999.000,9,   39.27,2,   34.70,2, 4799.10,-999.0000,9,-999.0000,9,-999.0000,9,-999.0000,9,-999.0000,9,-999.0000,9,   0.3933,     -999.0,9,     -999.0,9,     -999.0,9,     -999.0,9,        141,-999.000,-999.000,-999.000,     -999.0,9, -999.00,9, -999.00,9
33RO200306_02,       A16N,     141,          1,          1,          1,2,20030806,       1321,    -2.0000,   -25.0003,       4951,  5019.1,   0.7557,  34.7144,2,  34.7164,2,    226.5,2,   223.7,2,  111.15,6,   31.33,6,    0.00,6,    2.17,6,   0.040,2,   0.021,2,   0.000,2,  2257.0,6,  2375.4,2,    995.6,2,    20.00,   7.6332,2,    25.00,-999.000,9,-999.000,9,-999.000,9, -999.00,9,  -999.0,9,  -999.0,-999.000,9,-999.000,-999.000,9,   40.41,2,   34.58,2, 5019.10,-999.0000,9,-999.0000,9,-999.0000,9,-999.0000,9,-999.0000,9,-999.0000,9,   0.3443,     -999.0,9,       0.11,2,       0.00,2,       0.29,2,        141,-999.000,-999.000,-999.000,        0.0,2,     0.0,2,    0.37,2