BOTTLE,20230908CCHSIOCBG
EXPOCODE,SECT_ID,STNNBR,CASTNO,SAMPNO,BTLNBR,BTLNBR_FLAG_W,DATE,TIME,LATITUDE,LONGITUDE,DEPTH,CTDPRS,CTDTMP,CTDSAL,CTDSAL_FLAG_W,SALNTY,SALNTY_FLAG_W,CTDOXY,CTDOXY_FLAG_W,OXYGEN,OXYGEN_FLAG_W,SILCAT,SILCAT_FLAG_W,NITRAT,NITRAT_FLAG_W,NITRIT,NITRIT_FLAG_W,PHSPHT,PHSPHT_FLAG_W,CFC-11,CFC-11_FLAG_W,CFC-12,CFC-12_FLAG_W,CFC113,CFC113_FLAG_W,TCARBN,TCARBN_FLAG_W,ALKALI,ALKALI_FLAG_W,FCO2,FCO2_FLAG_W,FCO2TMP,PH_SWS,PH_SWS_FLAG_W,PH_TMP,TRITUM,TRITUM_FLAG_W,HELIUM,HELIUM_FLAG_W,DELHE3,DELHE3_FLAG_W,DELC13,DELC13_FLAG_W,DELC14,DELC14_FLAG_W,C14ERR,NEON,NEON_FLAG_W,NEONER,POC,POC_FLAG_W,DOC,DOC_FLAG_W,TDN,TDN_FLAG_W,CTDRAW,CDOM325,CDOM325_FLAG_W,CDOM340,CDOM340_FLAG_W,CDOM380,CDOM380_FLAG_W,CDOM412,CDOM412_FLAG_W,CDOMSL,CDOMSL_FLAG_W,CDOMSN,CDOMSN_FLAG_W,THETA,PON,PON_FLAG_W,HCFC-22,HCFC-22_FLAG_W,HCFC-142b,HCFC-142b_FLAG_W,HCFC-141b,HCFC-141b_FLAG_W,STNNBR_U,HELIER,DELHER,TRITER,CH3CL,CH3CL_FLAG_W,CH3BR,CH3BR_FLAG_W,CH3I,CH3I_FLAG_W
,,,,,,,,,,,METERS,DBAR,ITS-90,PSS-78,,PSS-78,,UMOL/KG,,UMOL/KG,,UMOL/KG,,UMOL/KG,,UMOL/KG,,UMOL/KG,,PMOL/KG,,PMOL/KG,,PMOL/KG,,UMOL/KG,,UMOL/KG,,UATM,,DEG C,,,DEG C,TU,,NMOL/KG,,PERCNT,,/MILLE,,/MILLE,,/MILLE,NMOL/KG,,NMOL/KG,UG/KG,,UMOL/KG,,UMOL/KG,,DBAR,1/M,,1/M,,1/M,,1/M,,1/NM,,1/NM,,DEG C,UMOL/L,,PMOL/KG,,PMOL/KG,,PMOL/KG,,,NMOL/KG,PERCNT,TU,PMOL/KG,,PMOL/KG,,PMOL/KG,
33RO200306_02,       A16N,     090,          1,         35,         35,2,20030722,       1314,    20.9998,   -28.4368,       5031,     3.3,  24.8716,  36.8842,2,  36.8865,2,    214.2,2,   211.7,2,    0.51,2,    0.00,2,    0.01,2,    0.06,2,   1.878,2,   1.195,2,   0.164,2,  2074.0,2,  2410.1,6,    316.2,2,    20.00,   8.0389,6,    25.00,   0.809,2,-999.000,9,-999.000,9, -999.00,9,  -999.0,9,  -999.0,-999.000,9,-999.000,-999.000,9,   71.14,2,    5.35,2,    3.30,-999.0000,9,-999.0000,9,-999.0000,9,-999.0000,9,-999.0000,9,-999.0000,9,  24.8709,     -999.0,9,       4.97,2,       0.00,2,       0.80,2,         90,-999.000,-999.000,   0.010,      67.74,2,    1.23,2,   14.07,2
33RO200306_02,       A16N,     090,          1,         33,         33,2,20030722,       1314,    20.9998,   -28.4368,       5031,    19.4,  24.8280,  36.8846,2,  36.8883,2,    214.0,2,   210.4,2,    0.51,2,    0.00,2,    0.01,2,    0.06,2,   1.885,2,   1.205,2,   0.165,2,  2075.4,2,  2413.8,2,    316.4,2,    20.00,   8.0489,2,    25.00,   0.904,2,-999.000,9,-999.000,9, -999.00,9,  -999.0,9,  -999.0,-999.000,9,-999.000,-999.000,9,   71.63,2,    5.09,2,   19.40,-999.0000,9,-999.0000,9,-999.0000,9,-999.0000,9,-999.0000,9,-999.0000,9,  24.8238,     -999.0,9,       5.10,2,       0.14,2,       1.00,2,         90,-999.000,-999.000,   0.030,      73.52,2,    1.18,2,    20.5,2
33RO200306_02,       A16N,     090,          1,         32,         32,2,20030722,       1314,    20.9998,   -28.4368,       5031,    38.7,  24.7776,  36.8871,2,  36.9100,2,    214.5,2,   212.7,2,    0.50,2,    0.00,2,    0.01,2,    0.05,2,   1.901,2,   1.209,2,   0.161,2,  2078.6,2,  2414.7,2,    316.8,2,    20.00,   8.0551,2,    25.00,-999.000,9,-999.000,9,-999.000,9, -999.00,9,  -999.0,9,  -999.0,-999.000,9,-999.000,-999.000,9, -999.00,9, -999.00,9,   38.70,-999.0000,9,-999.0000,9,-999.0000,9,-999.0000,9,-999.0000,9,-999.0000,9,  24.7692,     -999.0,9,     -999.0,9,     -999.0,9,     -999.0,9,         90,-999.000,-999.000,-999.000,     -999.0,9, -999.00,9, -999.00,9
33RO200306_02,       A16N,     090,          1,         31,         31,2,20030722,       1314,    20.9998,   -28.4368,       5031,    59.3,  22.5317,  37.0157,2,  37.0234,2,    223.1,2,   222.9,2,    0.58,2,    0.01,2,    0.01,2,    0.06,2,   2.065,2,   1.305,2,   0.177,2,  2094.2,2,  2419.1,2,    332.4,2,    20.00,   8.0539,2,    25.00,-999.000,9,-999.000,9,-999.000,9, -999.00,9,  -999.0,9,  -999.0,-999.000,9,-999.000,-999.000,9,   68.46,2,    5.22,2,   59.30,-999.0000,9,-999.0000,9,-999.0000,9,-999.0000,9,-999.0000,9,-999.0000,9,  22.5197,     -999.0,9,       4.45,2,       0.19,2,       0.35,2,         90,-999.000,-999.000,-999.000,      99.44,2,    0.86,2,    5.36,2
33RO200306_02,       A16N,     090,          1,         30,         30,2,20030722,       1314,    20.9998,   -28.4368,       5031,    79.3,  21.7858,  37.0636,2,  37.0736,2,    210.1,2,   208.7,2,    0.66,2,    0.25,2,    0.11,2,    0.09,2,-999.000,9,-999.000,9,-999.000,9,  2108.5,2,  2421.6,2,    353.0,2,    20.00,   8.0138,2,    25.00,-999.000,9,-999.000,9,-999.000,9, -999.00,9,  -999.0,9,  -999.0,-999.000,9,-999.000,-999.000,9, -999.00,9, -999.00,9,   79.30,-999.0000,9,-999.0000,9,-999.0000,9,-999.0000,9,-999.0000,9,-999.0000,9,  21.7701,     -999.0,9,     -999.0,9,     -999.0,9,     -999.0,9,         90,-999.000,-999.000,-999.000,     -999.0,9, -999.00,9, -999.00,9
33RO200306_02,       A16N,     090,          1,         29,         29,2,20030722,       1314,    20.9998,   -28.4368,       5031,    98.7,  21.4522,  37.1274,2,  37.1277,2,    204.7,2,   208.7,2,    0.64,2,    0.25,2,    0.18,2,    0.07,2,   2.141,2,   1.341,2,   0.163,2,  2113.8,2,  2425.4,2,    356.2,2,    20.00,   8.0100,2,    25.00,-999.000,9,-999.000,9,-999.000,9, -999.00,9,  -999.0,9,  -999.0,-999.000,9,-999.000,-999.000,9,   59.43,2,    6.34,2,   98.70,-999.0000,9,-999.0000,9,-999.0000,9,-999.0000,9,-999.0000,9,-999.0000,9,  21.4328,     -999.0,9,       4.21,2,       0.22,2,       0.44,2,         90,-999.000,-999.000,-999.000,      55.33,2,    1.52,2,    1.07,2
33RO200306_02,       A16N,     090,          1,         28,         28,2,20030722,       1314,    20.9998,   -28.4368,       5031,   124.4,  19.9063,  36.8813,2,  36.8636,2,    191.9,2,   187.0,2,    1.14,2,    3.60,2,    0.03,2,    0.21,2,   2.253,2,   1.397,2,   0.116,2,  2129.5,2,  2406.4,2,   -999.0,9,  -999.00,   7.9730,2,    25.00,   1.107,2,-999.000,9,-999.000,9, -999.00,9,  -999.0,9,  -999.0,-999.000,9,-999.000,-999.000,9, -999.00,9, -999.00,9,  124.40,-999.0000,9,-999.0000,9,-999.0000,9,-999.0000,9,-999.0000,9,-999.0000,9,  19.8832,     -999.0,9,     -999.0,9,     -999.0,9,     -999.0,9,         90,-999.000,-999.000,   0.020,     -999.0,9, -999.00,9, -999.00,9
33RO200306_02,       A16N,     090,          1,         27,         27,2,20030722,       1314,    20.9998,   -28.4368,       5031,   149.1,  19.0778,  36.7254,2,  36.7223,2,    181.1,2,   182.2,2,    1.40,2,    4.75,2,    0.03,2,    0.26,2,   2.313,2,   1.406,2,   0.077,2,  2137.4,3,  2397.2,2,    429.6,2,    20.00,   7.9468,2,    25.00,-999.000,9,-999.000,9,-999.000,9, -999.00,9,  -999.0,9,  -999.0,-999.000,9,-999.000,-999.000,9,   50.49,2,    9.01,2,  149.10,-999.0000,9,-999.0000,9,-999.0000,9,-999.0000,9,-999.0000,9,-999.0000,9,  19.0509,     -999.0,9,       4.22,2,       0.15,2,       1.11,2,         90,-999.000,-999.000,-999.000,      49.58,2,    2.84,2,     0.0,2
33RO200306_02,       A16N,     090,          1,         26,         26,2,20030722,       1314,    20.9998,   -28.4368,       5031,   175.3,  18.0259,  36.5316,2,  36.5217,2,    173.3,2,   174.7,2,    1.95,2,    6.87,2,    0.02,2,    0.36,2,   2.353,2,   1.409,2,   0.043,2,  2137.1,2,  2385.4,2,   -999.0,9,  -999.00,   7.9159,2,    25.00,   1.158,2,-999.000,9,-999.000,9, -999.00,9,  -999.0,9,  -999.0,-999.000,9,-999.000,-999.000,9, -999.00,9, -999.00,9,  175.30,-999.0000,9,-999.0000,9,-999.0000,9,-999.0000,9,-999.0000,9,-999.0000,9,  17.9955,     -999.0,9,     -999.0,9,     -999.0,9,     -999.0,9,         90,-999.000,-999.000,   0.030,     -999.0,9, -999.00,9, -999.00,9
33RO200306_02,       A16N,     090,          1,         25,         25,2,20030722,       1314,    20.9998,   -28.4368,       5031,   199.1,  17.1449,  36.3528,2,  36.3531,2,    157.0,2,   157.5,2,    2.81,2,   10.06,2,    0.02,2,    0.55,2,   2.311,6,   1.370,6,   0.034,6,  2152.3,2,  2376.5,2,    517.6,2,    20.00,   7.8685,2,    25.00,-999.000,9,-999.000,9,-999.000,9, -999.00,9,  -999.0,9,  -999.0,-999.000,9,-999.000,-999.000,9,   50.98,2,   14.34,2,  199.10,-999.0000,9,-999.0000,9,-999.0000,9,-999.0000,9,-999.0000,9,-999.0000,9,  17.1115,     -999.0,9,       3.86,2,       0.14,2,       0.27,2,         90,-999.000,-999.000,-999.000,      74.69,2,    3.44,2,     0.0,2
33RO200306_02,       A16N,     090,          1,         24,         24,2,20030722,       1314,    20.9998,   -28.4368,       5031,   249.6,  15.8054,  36.1077,2,  36.0998,2,    139.6,2,   135.7,2,    4.40,2,   14.64,2,    0.01,2,    0.82,2,   2.174,2,   1.260,2,   0.025,2,  2169.2,2,  2365.7,2,   -999.0,9,  -999.00,   7.8046,2,    25.00,   1.053,2,   1.791,3,   0.488,2, -999.00,9,  -999.0,9,  -999.0,   7.274,2,   0.026,-999.000,9,   49.51,2,   18.39,2,  249.60,-999.0000,9,-999.0000,9,-999.0000,9,-999.0000,9,-999.0000,9,-999.0000,9,  15.7658,     -999.0,9,     -999.0,9,     -999.0,9,     -999.0,9,         90,   0.002,   0.222,   0.020,     -999.0,9, -999.00,9, -999.00,9
33RO200306_02,       A16N,     090,          1,         23,         23,2,20030722,       1314,    20.9998,   -28.4368,       5031,   299.1,  14.4594,  35.8746,2,  35.8831,2,    108.7,2,   124.7,2,    6.07,2,   18.71,2,    0.01,2,    1.06,2,   1.953,2,   1.107,2,   0.017,2,  2181.8,2,  2349.3,2,    722.8,2,    20.00,   7.7537,2,    25.00,-999.000,9,-999.000,9,-999.000,9, -999.00,9,  -999.0,9,  -999.0,-999.000,9,-999.000,-999.000,9,   48.46,2,   21.91,2,  299.10,-999.0000,9,-999.0000,9,-999.0000,9,-999.0000,9,-999.0000,9,-999.0000,9,  14.4147,     -999.0,9,       2.52,2,       0.12,2,       0.25,2,         90,-999.000,-999.000,-999.000,      25.88,2,    1.04,2,     0.0,2
33RO200306_02,       A16N,     090,          1,         22,         22,2,20030722,       1314,    20.9998,   -28.4368,       5031,   350.2,  13.9714,  35.8647,2,  35.8580,2,    132.9,2,   135.3,2,    5.87,2,   17.33,2,    0.01,2,    0.98,2,   2.094,2,   1.163,2,   0.022,2,  2176.7,2,  2347.1,2,   -999.0,9,  -999.00,   7.7590,2,    25.00,   0.952,2,-999.000,9,-999.000,9, -999.00,9,  -999.0,9,  -999.0,-999.000,9,-999.000,-999.000,9,   47.80,2,   20.73,2,  350.20,-999.0000,9,-999.0000,9,-999.0000,9,-999.0000,9,-999.0000,9,-999.0000,9,  13.9202,     -999.0,9,     -999.0,9,     -999.0,9,     -999.0,9,         90,-999.000,-999.000,   0.030,     -999.0,9, -999.00,9, -999.00,9
33RO200306_02,       A16N,     090,          1,         21,         21,2,20030722,       1314,    20.9998,   -28.4368,       5031,   399.8,  13.1103,  35.7558,2,  35.7537,2,    133.6,2,   140.5,2,    6.61,2,   18.40,2,    0.01,2,    1.03,2,   1.972,2,   1.077,2,   0.024,2,  2178.0,2,  2341.7,2,    709.0,2,    20.00,   7.7501,2,    25.00,   0.876,2,   1.808,3,   3.987,2, -999.00,9,  -999.0,9,  -999.0,   7.421,2,   0.026,-999.000,9,   45.44,2,   22.89,2,  399.80,-999.0000,9,-999.0000,9,-999.0000,9,-999.0000,9,-999.0000,9,-999.0000,9,  13.0542,     -999.0,9,     -999.0,9,     -999.0,9,     -999.0,9,         90,   0.003,   0.221,   0.010,     -999.0,9, -999.00,9, -999.00,9
33RO200306_02,       A16N,     090,          1,         20,         20,2,20030722,       1314,    20.9998,   -28.4368,       5031,   449.5,  12.2021,  35.6408,2,  35.6320,2,    144.7,2,   132.8,2,    8.00,2,   20.47,2,    0.01,2,    1.17,2,   1.757,2,   0.943,2,   0.024,2,  2184.3,2,  2340.0,2,   -999.0,9,  -999.00,   7.7281,2,    25.00,-999.000,9,   1.803,2,   5.546,2, -999.00,9,  -999.0,9,  -999.0,   7.461,2,   0.051,-999.000,9,   45.44,2,   24.30,2,  449.50,-999.0000,9,-999.0000,9,-999.0000,9,-999.0000,9,-999.0000,9,-999.0000,9,  12.1418,     -999.0,9,     -999.0,9,     -999.0,9,     -999.0,9,         90,   0.003,   0.203,-999.000,     -999.0,9, -999.00,9, -999.00,9
33RO200306_02,       A16N,     090,          1,         19,         19,2,20030722,       1314,    20.9998,   -28.4368,       5031,   500.4,  11.6855,  35.5766,2,  35.5664,2,    134.4,2,   135.7,2,    8.78,2,   21.26,2,    0.01,2,    1.22,2,   1.540,2,   0.811,2,   0.021,2,  2184.6,2,  2335.1,2,    781.6,2,    20.00,   7.6984,2,    25.00,-999.000,9,-999.000,9,-999.000,9, -999.00,9,  -999.0,9,  -999.0,-999.000,9,-999.000,-999.000,9,   45.12,2,   25.91,2,  500.40,-999.0000,9,-999.0000,9,-999.0000,9,-999.0000,9,-999.0000,9,-999.0000,9,  11.6201,     -999.0,9,       1.59,2,       0.00,2,       0.18,2,         90,-999.000,-999.000,-999.000,      59.16,2,    1.55,2,     0.0,2
33RO200306_02,       A16N,     090,          1,         18,         18,2,20030722,       1314,    20.9998,   -28.4368,       5031,   600.0,   9.8741,  35.3178,2,  35.3118,2,    116.5,2,   113.2,2,   13.68,2,   27.02,2,    0.01,2,    1.58,2,   0.626,2,   0.328,2,   0.005,2,  2205.0,2,  2324.2,2,   -999.0,9,  -999.00,   7.6414,2,    25.00,-999.000,9,-999.000,9,-999.000,9, -999.00,9,  -999.0,9,  -999.0,-999.000,9,-999.000,-999.000,9,   43.09,2,   31.95,2,  600.00,-999.0000,9,-999.0000,9,-999.0000,9,-999.0000,9,-999.0000,9,-999.0000,9,   9.8033,     -999.0,9,     -999.0,9,     -999.0,9,     -999.0,9,         90,-999.000,-999.000,-999.000,     -999.0,9, -999.00,9, -999.00,9
33RO200306_02,       A16N,     090,          1,         17,         17,2,20030722,       1314,    20.9998,   -28.4368,       5031,   700.1,   8.2712,  35.0971,2,  35.0918,2,    112.0,2,   107.4,2,   18.16,2,   30.48,2,    0.01,2,    1.87,2,   0.200,2,   0.110,2,   0.002,2,  2213.3,2,  2321.1,6,   1078.3,3,    20.00,   7.8173,4,    25.00,   0.270,2,-999.000,9,-999.000,9, -999.00,9,  -999.0,9,  -999.0,-999.000,9,-999.000,-999.000,9,   42.52,2,   34.55,2,  700.10,-999.0000,9,-999.0000,9,-999.0000,9,-999.0000,9,-999.0000,9,-999.0000,9,   8.1966,     -999.0,9,       0.12,2,       0.00,2,       0.13,2,         90,-999.000,-999.000,   0.010,      57.01,2,    3.01,2,     0.0,2
33RO200306_02,       A16N,     090,          1,         16,         16,2,20030722,       1314,    20.9998,   -28.4368,       5031,   798.8,   7.2034,  34.9975,2,  34.9949,2,    122.3,2,   119.2,2,   20.71,2,   30.75,2,    0.01,2,    1.92,2,   0.079,2,   0.046,2,   0.000,2,  2212.7,2,  2314.7,2,   1077.2,2,    20.00,   7.5898,2,    25.00,-999.000,9,-999.000,9,-999.000,9, -999.00,9,  -999.0,9,  -999.0,-999.000,9,-999.000,-999.000,9,   41.30,2,   35.26,2,  798.80,-999.0000,9,-999.0000,9,-999.0000,9,-999.0000,9,-999.0000,9,-999.0000,9,   7.1241,     -999.0,9,     -999.0,9,     -999.0,9,     -999.0,9,         90,-999.000,-999.000,-999.000,     -999.0,9, -999.00,9, -999.00,9
33RO200306_02,       A16N,     090,          1,         15,         15,2,20030722,       1314,    20.9998,   -28.4368,       5031,   898.3,   6.5492,  34.9511,2,  34.9510,2,    130.6,2,   128.4,2,   20.38,2,   30.62,2,    0.01,2,    1.94,2,   0.042,2,   0.025,2,   0.000,2,  2212.5,2,  2314.9,2,   1078.4,6,    20.00,   7.5901,2,    25.00,-999.000,9,   1.820,2,   0.744,2, -999.00,9,  -999.0,9,  -999.0,   7.749,2,   0.053,-999.000,9,   40.90,2,   35.02,2,  898.30,-999.0000,9,-999.0000,9,-999.0000,9,-999.0000,9,-999.0000,9,-999.0000,9,   6.4639,     -999.0,9,       0.00,2,       0.00,2,       0.28,2,         90,   0.003,   0.204,-999.000,     114.29,2,     4.7,2,     0.0,2
33RO200306_02,       A16N,     090,          1,         14,         14,2,20030722,       1314,    20.9998,   -28.4368,       5031,  1000.2,   6.1899,  34.9641,2,  34.9699,2,    143.1,2,   143.3,2,   22.12,2,   29.30,2,    0.01,2,    1.86,2,   0.033,2,   0.023,2,   0.000,2,  2209.0,6,  2314.1,2,   1027.3,2,    20.00,   7.6177,2,    25.00,   0.044,2,-999.000,9,-999.000,9, -999.00,9,  -999.0,9,  -999.0,-999.000,9,-999.000,-999.000,9,   40.41,2,   36.47,2, 1000.20,-999.0000,9,-999.0000,9,-999.0000,9,-999.0000,9,-999.0000,9,-999.0000,9,   6.0969,     -999.0,9,     -999.0,9,     -999.0,9,     -999.0,9,         90,-999.000,-999.000,   0.000,     -999.0,9, -999.00,9, -999.00,9
33RO200306_02,       A16N,     090,          1,         13,         13,2,20030722,       1314,    20.9998,   -28.4368,       5031,  1099.9,   5.9186,  34.9944,2,  34.9932,2,    157.1,2,  -999.0,1,   21.62,2,   27.80,2,    0.01,2,    1.78,2,-999.000,5,-999.000,5,-999.000,5,  -999.0,9,  -999.0,9,   -999.0,9,  -999.00,-999.0000,9,  -999.00,-999.000,9,-999.000,9,-999.000,9, -999.00,9,  -999.0,9,  -999.0,-999.000,9,-999.000,-999.000,9, -999.00,9, -999.00,9, 1099.90,-999.0000,9,-999.0000,9,-999.0000,9,-999.0000,9,-999.0000,9,-999.0000,9,   5.8177,     -999.0,9,     -999.0,9,     -999.0,9,     -999.0,9,         90,-999.000,-999.000,-999.000,     -999.0,9, -999.00,9, -999.00,9
33RO200306_02,       A16N,     090,          1,         12,         12,2,20030722,       1314,    20.9998,   -28.4368,       5031,  1199.8,   5.6810,  35.0393,2,  35.0412,2,    170.0,2,   172.1,2,   20.87,2,   26.04,2,    0.01,2,    1.66,2,   0.034,2,   0.021,2,   0.000,2,  2194.7,2,  -999.0,9,    920.3,2,    20.00,-999.0000,9,  -999.00,   0.000,2,-999.000,9,-999.000,9, -999.00,9,  -999.0,9,  -999.0,-999.000,9,-999.000,-999.000,9,   41.14,2,   29.85,2, 1199.80,-999.0000,9,-999.0000,9,-999.0000,9,-999.0000,9,-999.0000,9,-999.0000,9,   5.5722,     -999.0,9,     -999.0,9,     -999.0,9,     -999.0,9,         90,-999.000,-999.000,   0.000,     -999.0,9, -999.00,9, -999.00,9
33RO200306_02,       A16N,     090,          1,         11,         11,2,20030722,       1314,    20.9998,   -28.4368,       5031,  1399.5,   5.1392,  35.0642,2,  35.0630,2,    193.5,2,   196.2,2,   20.17,2,   23.70,2,    0.01,2,    1.51,2,   0.033,2,   0.017,2,  -0.001,2,  2185.8,2,  2322.5,2,   -999.0,9,  -999.00,   7.6907,2,    25.00,-999.000,9,-999.000,9,-999.000,9, -999.00,9,  -999.0,9,  -999.0,-999.000,9,-999.000,-999.000,9,   41.63,2,   27.57,2, 1399.50,-999.0000,9,-999.0000,9,-999.0000,9,-999.0000,9,-999.0000,9,-999.0000,9,   5.0159,     -999.0,9,       0.18,2,       0.00,2,       0.24,2,         90,-999.000,-999.000,-999.000,        0.0,2,    0.12,2,     0.0,2
33RO200306_02,       A16N,     090,          1,         10,         10,2,20030722,       1314,    20.9998,   -28.4368,       5031,  1600.8,   4.5607,  35.0512,2,  35.0513,2,    209.6,2,   204.3,2,   20.76,2,   22.31,2,    0.01,2,    1.42,2,   0.010,2,   0.006,2,   0.000,2,  2179.8,2,  2322.4,2,    807.6,2,    20.00,   7.7022,2,    25.00,   0.005,2,-999.000,9,-999.000,9, -999.00,9,  -999.0,9,  -999.0,-999.000,9,-999.000,-999.000,9,   40.65,2,   25.74,2, 1600.80,-999.0000,9,-999.0000,9,-999.0000,9,-999.0000,9,-999.0000,9,-999.0000,9,   4.4243,     -999.0,9,     -999.0,9,     -999.0,9,     -999.0,9,         90,-999.000,-999.000,   0.000,     -999.0,9, -999.00,9, -999.00,9
33RO200306_02,       A16N,     090,          1,          9,          9,2,20030722,       1314,    20.9998,   -28.4368,       5031,  1799.5,   4.1003,  35.0276,2,  35.0278,2,    220.0,2,   225.7,2,   22.07,2,   21.57,2,    0.01,2,    1.40,2,   0.004,2,   0.003,2,   0.001,2,  2175.8,2,  2323.1,2,   -999.0,9,  -999.00,   7.7135,2,    25.00,-999.000,9,-999.000,9,-999.000,9, -999.00,9,  -999.0,9,  -999.0,-999.000,9,-999.000,-999.000,9,   40.73,2,   25.90,2, 1799.50,-999.0000,9,-999.0000,9,-999.0000,9,-999.0000,9,-999.0000,9,-999.0000,9,   3.9507,     -999.0,9,       0.04,2,       0.00,2,       0.10,2,         90,-999.000,-999.000,-999.000,      12.74,2,    0.54,2,     0.0,2
33RO200306_02,       A16N,     090,          1,          8,          8,2,20030722,       1314,    20.9998,   -28.4368,       5031,  2000.0,   3.8010,  35.0138,2,  35.0138,2,    228.1,2,   232.9,2,   23.59,2,   21.12,2,    0.01,2,    1.37,2,   0.001,2,   0.005,2,   0.001,2,  2176.4,2,  2325.0,2,    772.9,2,    20.00,   7.7238,2,    25.00,-999.000,9,-999.000,9,-999.000,9, -999.00,9,  -999.0,9,  -999.0,-999.000,9,-999.000,-999.000,9,   40.32,2,   24.82,2, 2000.00,-999.0000,9,-999.0000,9,-999.0000,9,-999.0000,9,-999.0000,9,-999.0000,9,   3.6363,     -999.0,9,     -999.0,9,     -999.0,9,     -999.0,9,         90,-999.000,-999.000,-999.000,     -999.0,9, -999.00,9, -999.00,9