BOTTLE,20230908CCHSIOCBG
EXPOCODE,SECT_ID,STNNBR,CASTNO,SAMPNO,BTLNBR,BTLNBR_FLAG_W,DATE,TIME,LATITUDE,LONGITUDE,DEPTH,CTDPRS,CTDTMP,CTDSAL,CTDSAL_FLAG_W,SALNTY,SALNTY_FLAG_W,CTDOXY,CTDOXY_FLAG_W,OXYGEN,OXYGEN_FLAG_W,SILCAT,SILCAT_FLAG_W,NITRAT,NITRAT_FLAG_W,NITRIT,NITRIT_FLAG_W,PHSPHT,PHSPHT_FLAG_W,CFC-11,CFC-11_FLAG_W,CFC-12,CFC-12_FLAG_W,CFC113,CFC113_FLAG_W,TCARBN,TCARBN_FLAG_W,ALKALI,ALKALI_FLAG_W,FCO2,FCO2_FLAG_W,FCO2TMP,PH_SWS,PH_SWS_FLAG_W,PH_TMP,TRITUM,TRITUM_FLAG_W,HELIUM,HELIUM_FLAG_W,DELHE3,DELHE3_FLAG_W,DELC13,DELC13_FLAG_W,DELC14,DELC14_FLAG_W,C14ERR,NEON,NEON_FLAG_W,NEONER,POC,POC_FLAG_W,DOC,DOC_FLAG_W,TDN,TDN_FLAG_W,CTDRAW,CDOM325,CDOM325_FLAG_W,CDOM340,CDOM340_FLAG_W,CDOM380,CDOM380_FLAG_W,CDOM412,CDOM412_FLAG_W,CDOMSL,CDOMSL_FLAG_W,CDOMSN,CDOMSN_FLAG_W,THETA,PON,PON_FLAG_W,HCFC-22,HCFC-22_FLAG_W,HCFC-142b,HCFC-142b_FLAG_W,HCFC-141b,HCFC-141b_FLAG_W,STNNBR_U,HELIER,DELHER,TRITER,CH3CL,CH3CL_FLAG_W,CH3BR,CH3BR_FLAG_W,CH3I,CH3I_FLAG_W
,,,,,,,,,,,METERS,DBAR,ITS-90,PSS-78,,PSS-78,,UMOL/KG,,UMOL/KG,,UMOL/KG,,UMOL/KG,,UMOL/KG,,UMOL/KG,,PMOL/KG,,PMOL/KG,,PMOL/KG,,UMOL/KG,,UMOL/KG,,UATM,,DEG C,,,DEG C,TU,,NMOL/KG,,PERCNT,,/MILLE,,/MILLE,,/MILLE,NMOL/KG,,NMOL/KG,UG/KG,,UMOL/KG,,UMOL/KG,,DBAR,1/M,,1/M,,1/M,,1/M,,1/NM,,1/NM,,DEG C,UMOL/L,,PMOL/KG,,PMOL/KG,,PMOL/KG,,,NMOL/KG,PERCNT,TU,PMOL/KG,,PMOL/KG,,PMOL/KG,
33RO200306_01,       A16N,     070,          1,         33,         33,2,20030708,       2019,    30.5000,   -23.0935,       5284,     2.9,  24.1571,  37.0893,2,  37.0910,2,    225.4,2,   214.0,2,    0.53,2,    0.00,2,    0.00,2,    0.01,2,-999.000,9,-999.000,9,-999.000,9,  2103.2,6,  -999.0,9,   -999.0,9,  -999.00,-999.0000,9,  -999.00,-999.000,9,-999.000,9,-999.000,9, -999.00,9,  -999.0,9,  -999.0,-999.000,9,-999.000,-999.000,9, -999.00,9, -999.00,9,    2.90,-999.0000,9,-999.0000,9,-999.0000,9,-999.0000,9,-999.0000,9,-999.0000,9,  24.1565,     -999.0,9,       5.30,2,       0.17,2,       1.12,2,         70,-999.000,-999.000,-999.000,      73.78,2,    1.48,2,   12.41,2
33RO200306_01,       A16N,     070,          1,         32,         32,2,20030708,       2019,    30.5000,   -23.0935,       5284,    18.6,  21.3372,  36.7875,2,  36.7639,2,    236.2,2,   237.0,2,    0.53,2,    0.00,2,    0.00,2,    0.01,2,-999.000,9,-999.000,9,-999.000,9,  -999.0,9,  -999.0,9,   -999.0,9,  -999.00,-999.0000,9,  -999.00,-999.000,9,-999.000,9,-999.000,9, -999.00,9,  -999.0,9,  -999.0,-999.000,9,-999.000,-999.000,9, -999.00,9, -999.00,9,   18.60,-999.0000,9,-999.0000,9,-999.0000,9,-999.0000,9,-999.0000,9,-999.0000,9,  21.3336,     -999.0,9,       5.39,2,       0.23,2,       0.97,2,         70,-999.000,-999.000,-999.000,     122.69,2,    0.48,2,   41.28,2
33RO200306_01,       A16N,     070,          1,         31,         31,2,20030708,       2019,    30.5000,   -23.0935,       5284,    39.8,  19.9903,  36.7846,2,  36.7633,2,    240.2,2,   239.2,2,    0.56,2,    0.00,2,    0.00,2,    0.02,2,-999.000,9,-999.000,9,-999.000,9,  -999.0,9,  -999.0,9,   -999.0,9,  -999.00,-999.0000,9,  -999.00,-999.000,9,-999.000,9,-999.000,9, -999.00,9,  -999.0,9,  -999.0,-999.000,9,-999.000,-999.000,9, -999.00,9, -999.00,9,   39.80,-999.0000,9,-999.0000,9,-999.0000,9,-999.0000,9,-999.0000,9,-999.0000,9,  19.9829,     -999.0,9,       4.96,2,       0.20,2,       0.58,2,         70,-999.000,-999.000,-999.000,     119.51,2,     0.2,2,   32.76,2
33RO200306_01,       A16N,     070,          1,         30,         30,2,20030708,       2019,    30.5000,   -23.0935,       5284,    60.0,  19.1738,  36.6487,2,  36.6391,2,    236.7,2,   240.3,2,    0.56,2,    0.00,2,    0.00,2,    0.02,2,-999.000,9,-999.000,9,-999.000,9,  -999.0,9,  -999.0,9,   -999.0,9,  -999.00,-999.0000,9,  -999.00,-999.000,9,-999.000,9,-999.000,9, -999.00,9,  -999.0,9,  -999.0,-999.000,9,-999.000,-999.000,9, -999.00,9, -999.00,9,   60.00,-999.0000,9,-999.0000,9,-999.0000,9,-999.0000,9,-999.0000,9,-999.0000,9,  19.1630,     -999.0,9,     -999.0,9,     -999.0,9,     -999.0,9,         70,-999.000,-999.000,-999.000,     -999.0,9, -999.00,9, -999.00,9
33RO200306_01,       A16N,     070,          1,         29,         29,2,20030708,       2019,    30.5000,   -23.0935,       5284,    80.5,  18.6390,  36.6038,2,  36.6037,2,    236.5,2,   234.3,2,    0.58,2,    0.01,2,    0.00,2,    0.02,2,-999.000,9,-999.000,9,-999.000,9,  -999.0,9,  -999.0,9,   -999.0,9,  -999.00,-999.0000,9,  -999.00,-999.000,9,-999.000,9,-999.000,9, -999.00,9,  -999.0,9,  -999.0,-999.000,9,-999.000,-999.000,9, -999.00,9, -999.00,9,   80.50,-999.0000,9,-999.0000,9,-999.0000,9,-999.0000,9,-999.0000,9,-999.0000,9,  18.6247,     -999.0,9,       5.23,2,       0.15,2,       0.73,2,         70,-999.000,-999.000,-999.000,      79.61,2,    0.09,2,   15.73,2
33RO200306_01,       A16N,     070,          1,         28,         28,2,20030708,       2019,    30.5000,   -23.0935,       5284,   109.3,  18.2008,  36.5510,2,  36.5574,2,    225.9,2,   224.2,2,    0.73,2,    0.60,2,    0.05,2,    0.05,2,-999.000,9,-999.000,9,-999.000,9,  -999.0,9,  -999.0,9,   -999.0,9,  -999.00,-999.0000,9,  -999.00,-999.000,9,-999.000,9,-999.000,9, -999.00,9,  -999.0,9,  -999.0,-999.000,9,-999.000,-999.000,9, -999.00,9, -999.00,9,  109.30,-999.0000,9,-999.0000,9,-999.0000,9,-999.0000,9,-999.0000,9,-999.0000,9,  18.1817,     -999.0,9,     -999.0,9,     -999.0,9,     -999.0,9,         70,-999.000,-999.000,-999.000,     -999.0,9, -999.00,9, -999.00,9
33RO200306_01,       A16N,     070,          1,         27,         27,2,20030708,       2019,    30.5000,   -23.0935,       5284,   124.0,  18.1845,  36.5878,2,  36.5955,2,    223.3,2,   223.2,2,    0.74,2,    0.77,2,    0.06,2,    0.06,2,-999.000,9,-999.000,9,-999.000,9,  -999.0,9,  -999.0,9,   -999.0,9,  -999.00,-999.0000,9,  -999.00,-999.000,9,-999.000,9,-999.000,9, -999.00,9,  -999.0,9,  -999.0,-999.000,9,-999.000,-999.000,9, -999.00,9, -999.00,9,  124.00,-999.0000,9,-999.0000,9,-999.0000,9,-999.0000,9,-999.0000,9,-999.0000,9,  18.1629,     -999.0,9,       4.45,2,       0.17,2,       0.47,2,         70,-999.000,-999.000,-999.000,      43.58,2,     0.0,2,    2.53,2
33RO200306_01,       A16N,     070,          1,         26,         26,2,20030708,       2019,    30.5000,   -23.0935,       5284,   149.9,  17.6330,  36.5143,2,  36.5140,2,    215.1,2,   213.0,2,    1.01,2,    2.50,2,    0.04,2,    0.14,2,-999.000,9,-999.000,9,-999.000,9,  -999.0,9,  -999.0,9,   -999.0,9,  -999.00,-999.0000,9,  -999.00,-999.000,9,-999.000,9,-999.000,9, -999.00,9,  -999.0,9,  -999.0,-999.000,9,-999.000,-999.000,9, -999.00,9, -999.00,9,  149.90,-999.0000,9,-999.0000,9,-999.0000,9,-999.0000,9,-999.0000,9,-999.0000,9,  17.6074,     -999.0,9,     -999.0,9,     -999.0,9,     -999.0,9,         70,-999.000,-999.000,-999.000,     -999.0,9, -999.00,9, -999.00,9
33RO200306_01,       A16N,     070,          1,         25,         25,2,20030708,       2019,    30.5000,   -23.0935,       5284,   199.5,  16.8389,  36.3613,2,  36.3552,2,    207.2,2,   208.0,2,    1.44,2,    4.52,2,    0.01,2,    0.26,2,-999.000,9,-999.000,9,-999.000,9,  -999.0,9,  -999.0,9,   -999.0,9,  -999.00,-999.0000,9,  -999.00,-999.000,9,-999.000,9,-999.000,9, -999.00,9,  -999.0,9,  -999.0,-999.000,9,-999.000,-999.000,9, -999.00,9, -999.00,9,  199.50,-999.0000,9,-999.0000,9,-999.0000,9,-999.0000,9,-999.0000,9,-999.0000,9,  16.8059,     -999.0,9,       4.00,2,       0.17,2,       0.47,2,         70,-999.000,-999.000,-999.000,      43.22,2,     0.0,2,     0.0,2
33RO200306_01,       A16N,     070,          1,         24,         24,2,20030708,       2019,    30.5000,   -23.0935,       5284,   226.0,  16.3773,  36.2732,2,  36.2691,2,    205.9,2,   205.8,2,    1.72,2,    5.45,2,    0.01,2,    0.31,2,-999.000,9,-999.000,9,-999.000,9,  -999.0,9,  -999.0,9,   -999.0,9,  -999.00,-999.0000,9,  -999.00,-999.000,9,-999.000,9,-999.000,9, -999.00,9,  -999.0,9,  -999.0,-999.000,9,-999.000,-999.000,9, -999.00,9, -999.00,9,  226.00,-999.0000,9,-999.0000,9,-999.0000,9,-999.0000,9,-999.0000,9,-999.0000,9,  16.3406,     -999.0,9,     -999.0,9,     -999.0,9,     -999.0,9,         70,-999.000,-999.000,-999.000,     -999.0,9, -999.00,9, -999.00,9
33RO200306_01,       A16N,     070,          1,         23,         23,2,20030708,       2019,    30.5000,   -23.0935,       5284,   299.9,  15.1143,  36.0560,2,  36.0535,2,    204.8,2,   205.9,2,    2.52,2,    7.64,2,    0.00,2,    0.45,2,-999.000,9,-999.000,9,-999.000,9,  -999.0,9,  -999.0,9,   -999.0,9,  -999.00,-999.0000,9,  -999.00,-999.000,9,-999.000,9,-999.000,9, -999.00,9,  -999.0,9,  -999.0,-999.000,9,-999.000,-999.000,9, -999.00,9, -999.00,9,  299.90,-999.0000,9,-999.0000,9,-999.0000,9,-999.0000,9,-999.0000,9,-999.0000,9,  15.0681,     -999.0,9,     -999.0,9,     -999.0,9,     -999.0,9,         70,-999.000,-999.000,-999.000,     -999.0,9, -999.00,9, -999.00,9
33RO200306_01,       A16N,     070,          1,         22,         22,2,20030708,       2019,    30.5000,   -23.0935,       5284,   349.3,  14.4530,  35.9571,2,  35.9581,2,    207.0,2,   208.0,2,    2.87,2,    8.43,2,    0.00,2,    0.50,2,-999.000,9,-999.000,9,-999.000,9,  -999.0,9,  -999.0,9,   -999.0,9,  -999.00,-999.0000,9,  -999.00,-999.000,9,-999.000,9,-999.000,9, -999.00,9,  -999.0,9,  -999.0,-999.000,9,-999.000,-999.000,9, -999.00,9, -999.00,9,  349.30,-999.0000,9,-999.0000,9,-999.0000,9,-999.0000,9,-999.0000,9,-999.0000,9,  14.4007,     -999.0,9,     -999.0,9,     -999.0,9,     -999.0,9,         70,-999.000,-999.000,-999.000,     -999.0,9, -999.00,9, -999.00,9
33RO200306_01,       A16N,     070,          1,         21,         21,2,20030708,       2019,    30.5000,   -23.0935,       5284,   399.6,  13.6667,  35.8356,2,  35.8393,2,    204.2,2,   203.9,2,    3.61,2,   10.16,2,    0.00,2,    0.60,2,-999.000,9,-999.000,9,-999.000,9,  -999.0,9,  -999.0,9,   -999.0,9,  -999.00,-999.0000,9,  -999.00,-999.000,9,-999.000,9,-999.000,9, -999.00,9,  -999.0,9,  -999.0,-999.000,9,-999.000,-999.000,9, -999.00,9, -999.00,9,  399.60,-999.0000,9,-999.0000,9,-999.0000,9,-999.0000,9,-999.0000,9,-999.0000,9,  13.6090,     -999.0,9,       3.79,2,       0.18,2,       0.88,2,         70,-999.000,-999.000,-999.000,       13.4,2,    0.03,2,    0.04,2
33RO200306_01,       A16N,     070,          1,         20,         20,2,20030708,       2019,    30.5000,   -23.0935,       5284,   449.7,  13.0717,  35.7528,2,  35.7512,2,    197.8,2,   200.1,2,    4.27,2,   11.60,2,    0.00,2,    0.69,2,-999.000,9,-999.000,9,-999.000,9,  -999.0,9,  -999.0,9,   -999.0,9,  -999.00,-999.0000,9,  -999.00,-999.000,9,-999.000,9,-999.000,9, -999.00,9,  -999.0,9,  -999.0,-999.000,9,-999.000,-999.000,9, -999.00,9, -999.00,9,  449.70,-999.0000,9,-999.0000,9,-999.0000,9,-999.0000,9,-999.0000,9,-999.0000,9,  13.0086,     -999.0,9,     -999.0,9,     -999.0,9,     -999.0,9,         70,-999.000,-999.000,-999.000,     -999.0,9, -999.00,9, -999.00,9
33RO200306_01,       A16N,     070,          1,         19,         19,2,20030708,       2019,    30.5000,   -23.0935,       5284,   499.3,  12.4568,  35.6762,2,  35.6792,2,    195.7,2,   198.0,2,    4.86,2,   12.78,2,    0.00,2,    0.76,2,-999.000,9,-999.000,9,-999.000,9,  -999.0,9,  -999.0,9,   -999.0,9,  -999.00,-999.0000,9,  -999.00,-999.000,9,-999.000,9,-999.000,9, -999.00,9,  -999.0,9,  -999.0,-999.000,9,-999.000,-999.000,9, -999.00,9, -999.00,9,  499.30,-999.0000,9,-999.0000,9,-999.0000,9,-999.0000,9,-999.0000,9,-999.0000,9,  12.3888,     -999.0,9,     -999.0,9,     -999.0,9,     -999.0,9,         70,-999.000,-999.000,-999.000,     -999.0,9, -999.00,9, -999.00,9
33RO200306_01,       A16N,     070,          1,         18,         18,2,20030708,       2019,    30.5000,   -23.0935,       5284,   599.7,  11.5054,  35.5723,2,  35.5734,2,    191.8,2,   192.3,2,    6.19,2,   14.99,2,    0.00,2,    0.90,2,   2.424,2,   1.312,2,   0.059,2,  -999.0,9,  -999.0,9,   -999.0,9,  -999.00,-999.0000,9,  -999.00,-999.000,9,-999.000,9,-999.000,9, -999.00,9,  -999.0,9,  -999.0,-999.000,9,-999.000,-999.000,9, -999.00,9, -999.00,9,  599.70,-999.0000,9,-999.0000,9,-999.0000,9,-999.0000,9,-999.0000,9,-999.0000,9,  11.4275,     -999.0,9,     -999.0,9,     -999.0,9,     -999.0,9,         70,-999.000,-999.000,-999.000,     -999.0,9, -999.00,9, -999.00,9
33RO200306_01,       A16N,     070,          1,         17,         17,2,20030708,       2019,    30.5000,   -23.0935,       5284,   699.7,  10.6613,  35.5172,2,  35.5177,2,    182.4,2,   183.7,2,    8.01,2,   17.11,2,    0.00,2,    1.03,2,-999.000,9,-999.000,9,-999.000,9,  -999.0,9,  -999.0,9,   -999.0,9,  -999.00,-999.0000,9,  -999.00,-999.000,9,-999.000,9,-999.000,9, -999.00,9,  -999.0,9,  -999.0,-999.000,9,-999.000,-999.000,9, -999.00,9, -999.00,9,  699.70,-999.0000,9,-999.0000,9,-999.0000,9,-999.0000,9,-999.0000,9,-999.0000,9,  10.5742,     -999.0,9,       1.98,2,       0.00,2,       0.19,2,         70,-999.000,-999.000,-999.000,      10.05,2,     0.2,2,    0.02,2
33RO200306_01,       A16N,     070,          1,         16,         16,2,20030708,       2019,    30.5000,   -23.0935,       5284,   799.4,  10.0636,  35.5415,2,  35.5432,2,    179.3,2,   180.1,2,    9.44,2,   18.06,2,    0.00,2,    1.11,2,-999.000,9,-999.000,9,-999.000,9,  -999.0,9,  -999.0,9,   -999.0,9,  -999.00,-999.0000,9,  -999.00,-999.000,9,-999.000,9,-999.000,9, -999.00,9,  -999.0,9,  -999.0,-999.000,9,-999.000,-999.000,9, -999.00,9, -999.00,9,  799.40,-999.0000,9,-999.0000,9,-999.0000,9,-999.0000,9,-999.0000,9,-999.0000,9,   9.9670,     -999.0,9,     -999.0,9,     -999.0,9,     -999.0,9,         70,-999.000,-999.000,-999.000,     -999.0,9, -999.00,9, -999.00,9
33RO200306_01,       A16N,     070,          1,         15,         15,2,20030708,       2019,    30.5000,   -23.0935,       5284,   899.6,   9.2531,  35.5082,2,  35.5120,2,    177.6,2,   177.3,2,   11.39,2,   19.52,2,    0.00,2,    1.20,2,   1.071,2,   0.549,2,   0.018,2,  -999.0,9,  -999.0,9,   -999.0,9,  -999.00,-999.0000,9,  -999.00,-999.000,9,-999.000,9,-999.000,9, -999.00,9,  -999.0,9,  -999.0,-999.000,9,-999.000,-999.000,9, -999.00,9, -999.00,9,  899.60,-999.0000,9,-999.0000,9,-999.0000,9,-999.0000,9,-999.0000,9,-999.0000,9,   9.1491,     -999.0,9,     -999.0,9,     -999.0,9,     -999.0,9,         70,-999.000,-999.000,-999.000,     -999.0,9, -999.00,9, -999.00,9
33RO200306_01,       A16N,     070,          1,         14,         14,2,20030708,       2019,    30.5000,   -23.0935,       5284,   989.1,   8.9347,  35.5598,2,  35.5622,2,    178.6,2,   178.7,2,   12.10,2,   19.64,2,    0.00,2,    1.21,2,-999.000,9,-999.000,9,-999.000,9,  -999.0,9,  -999.0,9,   -999.0,9,  -999.00,-999.0000,9,  -999.00,-999.000,9,-999.000,9,-999.000,9, -999.00,9,  -999.0,9,  -999.0,-999.000,9,-999.000,-999.000,9, -999.00,9, -999.00,9,  989.10,-999.0000,9,-999.0000,9,-999.0000,9,-999.0000,9,-999.0000,9,-999.0000,9,   8.8221,     -999.0,9,     -999.0,9,     -999.0,9,     -999.0,9,         70,-999.000,-999.000,-999.000,     -999.0,9, -999.00,9, -999.00,9
33RO200306_01,       A16N,     070,          1,         12,         12,2,20030708,       2019,    30.5000,   -23.0935,       5284,  1091.5,   8.5354,  35.5885,2,  35.5883,2,    187.8,2,   187.0,2,   12.31,2,   19.16,2,    0.00,2,    1.19,2,-999.000,9,-999.000,9,-999.000,9,  -999.0,9,  -999.0,9,   -999.0,9,  -999.00,-999.0000,9,  -999.00,-999.000,9,-999.000,9,-999.000,9, -999.00,9,  -999.0,9,  -999.0,-999.000,9,-999.000,-999.000,9, -999.00,9, -999.00,9, 1091.50,-999.0000,9,-999.0000,9,-999.0000,9,-999.0000,9,-999.0000,9,-999.0000,9,   8.4135,     -999.0,9,     -999.0,9,     -999.0,9,     -999.0,9,         70,-999.000,-999.000,-999.000,     -999.0,9, -999.00,9, -999.00,9
33RO200306_01,       A16N,     070,          1,         13,         13,2,20030708,       2019,    30.5000,   -23.0935,       5284,  1091.5,   8.5375,  35.5881,2,  35.5890,2,    187.8,2,   186.1,2,   12.32,2,   19.15,2,    0.00,2,    1.19,2,   0.855,2,   0.441,2,   0.016,2,  -999.0,9,  -999.0,9,   -999.0,9,  -999.00,-999.0000,9,  -999.00,-999.000,9,-999.000,9,-999.000,9, -999.00,9,  -999.0,9,  -999.0,-999.000,9,-999.000,-999.000,9, -999.00,9, -999.00,9, 1091.50,-999.0000,9,-999.0000,9,-999.0000,9,-999.0000,9,-999.0000,9,-999.0000,9,   8.4156,     -999.0,9,       0.64,2,       0.00,2,       0.11,2,         70,-999.000,-999.000,-999.000,       45.9,2,    0.58,2,     0.0,2
33RO200306_01,       A16N,     070,          1,         11,         11,2,20030708,       2019,    30.5000,   -23.0935,       5284,  1399.7,   6.5470,  35.3868,2,  35.3869,2,    213.4,2,   214.2,2,   13.94,2,   18.87,2,    0.00,2,    1.20,2,-999.000,9,-999.000,9,-999.000,9,  -999.0,9,  -999.0,9,   -999.0,9,  -999.00,-999.0000,9,  -999.00,-999.000,9,-999.000,9,-999.000,9, -999.00,9,  -999.0,9,  -999.0,-999.000,9,-999.000,-999.000,9, -999.00,9, -999.00,9, 1399.70,-999.0000,9,-999.0000,9,-999.0000,9,-999.0000,9,-999.0000,9,-999.0000,9,   6.4085,     -999.0,9,     -999.0,9,     -999.0,9,     -999.0,9,         70,-999.000,-999.000,-999.000,     -999.0,9, -999.00,9, -999.00,9
33RO200306_01,       A16N,     070,          1,         10,         10,2,20030708,       2019,    30.5000,   -23.0935,       5284,  1598.3,   5.6763,  35.2963,2,  35.2972,2,    228.7,2,   228.7,2,   14.31,2,   18.41,2,    0.00,2,    1.17,2,   0.668,2,   0.340,2,   0.022,2,  -999.0,9,  -999.0,9,   -999.0,9,  -999.00,-999.0000,9,  -999.00,-999.000,9,-999.000,9,-999.000,9, -999.00,9,  -999.0,9,  -999.0,-999.000,9,-999.000,-999.000,9, -999.00,9, -999.00,9, 1598.30,-999.0000,9,-999.0000,9,-999.0000,9,-999.0000,9,-999.0000,9,-999.0000,9,   5.5264,     -999.0,9,     -999.0,9,     -999.0,9,     -999.0,9,         70,-999.000,-999.000,-999.000,     -999.0,9, -999.00,9, -999.00,9
33RO200306_01,       A16N,     070,          1,          9,          9,2,20030708,       2019,    30.5000,   -23.0935,       5284,  1791.7,   4.8670,  35.1892,2,  35.1930,2,    239.5,2,   239.4,2,   15.56,2,   18.38,2,    0.00,2,    1.18,2,-999.000,9,-999.000,9,-999.000,9,  -999.0,9,  -999.0,9,   -999.0,9,  -999.00,-999.0000,9,  -999.00,-999.000,9,-999.000,9,-999.000,9, -999.00,9,  -999.0,9,  -999.0,-999.000,9,-999.000,-999.000,9, -999.00,9, -999.00,9, 1791.70,-999.0000,9,-999.0000,9,-999.0000,9,-999.0000,9,-999.0000,9,-999.0000,9,   4.7075,     -999.0,9,       0.20,2,       0.00,2,       0.23,2,         70,-999.000,-999.000,-999.000,      19.83,2,     0.0,2,    0.08,2
33RO200306_01,       A16N,     070,          1,          8,          8,2,20030708,       2019,    30.5000,   -23.0935,       5284,  1998.8,   4.1797,  35.0969,2,  35.0996,2,    245.0,2,   245.9,2,   18.42,2,   18.75,2,    0.00,2,    1.22,2,   0.255,2,   0.137,2,   0.010,2,  -999.0,9,  -999.0,9,   -999.0,9,  -999.00,-999.0000,9,  -999.00,-999.000,9,-999.000,9,-999.000,9, -999.00,9,  -999.0,9,  -999.0,-999.000,9,-999.000,-999.000,9, -999.00,9, -999.00,9, 1998.80,-999.0000,9,-999.0000,9,-999.0000,9,-999.0000,9,-999.0000,9,-999.0000,9,   4.0092,     -999.0,9,     -999.0,9,     -999.0,9,     -999.0,9,         70,-999.000,-999.000,-999.000,     -999.0,9, -999.00,9, -999.00,9
33RO200306_01,       A16N,     070,          1,          7,          7,2,20030708,       2019,    30.5000,   -23.0935,       5284,  2499.1,   3.1685,  34.9812,2,  34.9824,2,    249.6,2,   249.6,2,   26.61,2,   19.63,2,    0.00,2,    1.29,2,-999.000,9,-999.000,9,-999.000,9,  -999.0,9,  -999.0,9,   -999.0,9,  -999.00,-999.0000,9,  -999.00,-999.000,9,-999.000,9,-999.000,9, -999.00,9,  -999.0,9,  -999.0,-999.000,9,-999.000,-999.000,9, -999.00,9, -999.00,9, 2499.10,-999.0000,9,-999.0000,9,-999.0000,9,-999.0000,9,-999.0000,9,-999.0000,9,   2.9654,     -999.0,9,     -999.0,9,     -999.0,9,     -999.0,9,         70,-999.000,-999.000,-999.000,     -999.0,9, -999.00,9, -999.00,9