BOTTLE,20230908CCHSIOCBG
EXPOCODE,SECT_ID,STNNBR,CASTNO,SAMPNO,BTLNBR,BTLNBR_FLAG_W,DATE,TIME,LATITUDE,LONGITUDE,DEPTH,CTDPRS,CTDTMP,CTDSAL,CTDSAL_FLAG_W,SALNTY,SALNTY_FLAG_W,CTDOXY,CTDOXY_FLAG_W,OXYGEN,OXYGEN_FLAG_W,SILCAT,SILCAT_FLAG_W,NITRAT,NITRAT_FLAG_W,NITRIT,NITRIT_FLAG_W,PHSPHT,PHSPHT_FLAG_W,CFC-11,CFC-11_FLAG_W,CFC-12,CFC-12_FLAG_W,CFC113,CFC113_FLAG_W,TCARBN,TCARBN_FLAG_W,ALKALI,ALKALI_FLAG_W,FCO2,FCO2_FLAG_W,FCO2TMP,PH_SWS,PH_SWS_FLAG_W,PH_TMP,TRITUM,TRITUM_FLAG_W,HELIUM,HELIUM_FLAG_W,DELHE3,DELHE3_FLAG_W,DELC13,DELC13_FLAG_W,DELC14,DELC14_FLAG_W,C14ERR,NEON,NEON_FLAG_W,NEONER,POC,POC_FLAG_W,DOC,DOC_FLAG_W,TDN,TDN_FLAG_W,CTDRAW,CDOM325,CDOM325_FLAG_W,CDOM340,CDOM340_FLAG_W,CDOM380,CDOM380_FLAG_W,CDOM412,CDOM412_FLAG_W,CDOMSL,CDOMSL_FLAG_W,CDOMSN,CDOMSN_FLAG_W,THETA,PON,PON_FLAG_W,HCFC-22,HCFC-22_FLAG_W,HCFC-142b,HCFC-142b_FLAG_W,HCFC-141b,HCFC-141b_FLAG_W,STNNBR_U,HELIER,DELHER,TRITER,CH3CL,CH3CL_FLAG_W,CH3BR,CH3BR_FLAG_W,CH3I,CH3I_FLAG_W
,,,,,,,,,,,METERS,DBAR,ITS-90,PSS-78,,PSS-78,,UMOL/KG,,UMOL/KG,,UMOL/KG,,UMOL/KG,,UMOL/KG,,UMOL/KG,,PMOL/KG,,PMOL/KG,,PMOL/KG,,UMOL/KG,,UMOL/KG,,UATM,,DEG C,,,DEG C,TU,,NMOL/KG,,PERCNT,,/MILLE,,/MILLE,,/MILLE,NMOL/KG,,NMOL/KG,UG/KG,,UMOL/KG,,UMOL/KG,,DBAR,1/M,,1/M,,1/M,,1/M,,1/NM,,1/NM,,DEG C,UMOL/L,,PMOL/KG,,PMOL/KG,,PMOL/KG,,,NMOL/KG,PERCNT,TU,PMOL/KG,,PMOL/KG,,PMOL/KG,
33RO200306_01,       A16N,     021,          1,         26,         26,2,20030624,       0205,    55.0025,   -19.9997,       1611,     9.4,  11.9837,  35.3203,2,  35.3216,2,    272.3,2,   267.9,2,    0.12,2,    4.36,2,    0.12,2,    0.32,2,   3.437,6,   1.889,6,   0.286,6,  2088.8,6,  2328.5,2,    453.0,2,    20.00,   7.9169,2,    25.00,-999.000,9,-999.000,9,-999.000,9,    1.33,2,    63.3,2,     3.9,-999.000,9,-999.000,-999.000,9, -999.00,9, -999.00,9,    9.40,-999.0000,9,-999.0000,9,-999.0000,9,-999.0000,9,-999.0000,9,-999.0000,9,  11.9825,     -999.0,9,     -999.0,9,     -999.0,9,     -999.0,9,         21,-999.000,-999.000,-999.000,     -999.0,9, -999.00,9, -999.00,9
33RO200306_01,       A16N,     021,          1,         25,         25,2,20030624,       0205,    55.0025,   -19.9997,       1611,     9.5,  11.9891,  35.3210,2,  35.3221,2,    272.3,2,   268.3,2,    0.12,2,    4.36,2,    0.12,2,    0.32,2,   3.439,2,   1.899,2,   0.287,2,  2089.3,2,  2328.5,2,   -999.0,9,  -999.00,   7.9169,2,    25.00,-999.000,9,-999.000,9,-999.000,9, -999.00,9,  -999.0,9,  -999.0,-999.000,9,-999.000,-999.000,9,   56.75,2,    9.13,2,    9.50,-999.0000,9,-999.0000,9,-999.0000,9,-999.0000,9,-999.0000,9,-999.0000,9,  11.9879,     -999.0,9,     -999.0,9,     -999.0,9,     -999.0,9,         21,-999.000,-999.000,-999.000,     -999.0,9, -999.00,9, -999.00,9
33RO200306_01,       A16N,     021,          1,         24,         24,2,20030624,       0205,    55.0025,   -19.9997,       1611,    20.2,  11.9969,  35.3227,2,  35.3241,2,    272.0,2,   268.8,2,    0.12,2,    4.35,2,    0.12,2,    0.32,2,   3.417,2,   1.869,2,   0.286,2,  2087.7,2,  2330.0,2,    455.5,2,    20.00,   7.9209,2,    25.00,-999.000,9,-999.000,9,-999.000,9, -999.00,9,  -999.0,9,  -999.0,-999.000,9,-999.000,-999.000,9,   59.27,2,    9.92,2,   20.20,-999.0000,9,-999.0000,9,-999.0000,9,-999.0000,9,-999.0000,9,-999.0000,9,  11.9943,     -999.0,9,     -999.0,9,     -999.0,9,     -999.0,9,         21,-999.000,-999.000,-999.000,     -999.0,9, -999.00,9, -999.00,9
33RO200306_01,       A16N,     021,          1,         23,         23,2,20030624,       0205,    55.0025,   -19.9997,       1611,    39.8,  11.9608,  35.3197,2,  35.3198,2,    271.6,2,   270.0,2,    0.05,2,    4.45,2,    0.12,2,    0.33,2,   3.405,2,   1.903,2,   0.284,2,  2089.5,2,  2328.6,2,    455.1,2,    20.00,   7.9208,2,    25.00,-999.000,9,-999.000,9,-999.000,9, -999.00,9,  -999.0,9,  -999.0,-999.000,9,-999.000,-999.000,9,   59.10,2,   10.93,2,   39.80,-999.0000,9,-999.0000,9,-999.0000,9,-999.0000,9,-999.0000,9,-999.0000,9,  11.9556,     -999.0,9,     -999.0,9,     -999.0,9,     -999.0,9,         21,-999.000,-999.000,-999.000,     -999.0,9, -999.00,9, -999.00,9
33RO200306_01,       A16N,     021,          1,         22,         22,2,20030624,       0205,    55.0025,   -19.9997,       1611,    59.8,  11.6354,  35.3924,2,  35.4048,2,    266.5,2,   262.0,2,    1.03,2,    5.57,2,    0.16,2,    0.43,2,   3.414,2,   1.878,2,   0.281,2,  2104.9,2,  2326.1,2,    492.0,2,    20.00,   7.8915,2,    25.00,-999.000,9,-999.000,9,-999.000,9, -999.00,9,  -999.0,9,  -999.0,-999.000,9,-999.000,-999.000,9, -999.00,9, -999.00,9,   59.80,-999.0000,9,-999.0000,9,-999.0000,9,-999.0000,9,-999.0000,9,-999.0000,9,  11.6278,     -999.0,9,     -999.0,9,     -999.0,9,     -999.0,9,         21,-999.000,-999.000,-999.000,     -999.0,9, -999.00,9, -999.00,9
33RO200306_01,       A16N,     021,          1,         21,         21,2,20030624,       0205,    55.0025,   -19.9997,       1611,    80.7,  11.2893,  35.4765,2,  35.4772,2,    255.0,2,   259.5,2,    1.37,2,    7.45,2,    0.29,2,    0.55,2,   3.435,2,   1.890,2,   0.275,2,  2121.3,2,  2329.6,2,   -999.0,9,  -999.00,   7.8660,2,    25.00,-999.000,9,-999.000,9,-999.000,9, -999.00,9,  -999.0,9,  -999.0,-999.000,9,-999.000,-999.000,9,   51.71,2,   13.01,2,   80.70,-999.0000,9,-999.0000,9,-999.0000,9,-999.0000,9,-999.0000,9,-999.0000,9,  11.2792,     -999.0,9,     -999.0,9,     -999.0,9,     -999.0,9,         21,-999.000,-999.000,-999.000,     -999.0,9, -999.00,9, -999.00,9
33RO200306_01,       A16N,     021,          1,         20,         20,2,20030624,       0205,    55.0025,   -19.9997,       1611,   100.1,  11.0826,  35.4618,2,  35.4600,2,    252.9,2,   253.6,2,    2.46,2,    9.36,2,    0.29,2,    0.60,2,   3.390,2,   1.881,2,   0.268,2,  2124.5,2,  2327.5,2,    543.7,2,    20.00,   7.8485,2,    25.00,-999.000,9,-999.000,9,-999.000,9, -999.00,9,  -999.0,9,  -999.0,-999.000,9,-999.000,-999.000,9, -999.00,9, -999.00,9,  100.10,-999.0000,9,-999.0000,9,-999.0000,9,-999.0000,9,-999.0000,9,-999.0000,9,  11.0702,     -999.0,9,     -999.0,9,     -999.0,9,     -999.0,9,         21,-999.000,-999.000,-999.000,     -999.0,9, -999.00,9, -999.00,9
33RO200306_01,       A16N,     021,          1,         19,         19,2,20030624,       0205,    55.0025,   -19.9997,       1611,   125.5,  11.0503,  35.4740,2,  35.4744,2,    251.7,2,   252.8,2,    2.74,2,    9.84,2,    0.15,2,    0.61,2,   3.387,2,   1.872,2,   0.264,2,  2126.0,2,  2327.5,2,   -999.0,9,  -999.00,   7.8507,2,    25.00,-999.000,9,-999.000,9,-999.000,9, -999.00,9,  -999.0,9,  -999.0,-999.000,9,-999.000,-999.000,9,   49.92,2,   14.35,2,  125.50,-999.0000,9,-999.0000,9,-999.0000,9,-999.0000,9,-999.0000,9,-999.0000,9,  11.0347,     -999.0,9,     -999.0,9,     -999.0,9,     -999.0,9,         21,-999.000,-999.000,-999.000,     -999.0,9, -999.00,9, -999.00,9
33RO200306_01,       A16N,     021,          1,         18,         18,2,20030624,       0205,    55.0025,   -19.9997,       1611,   151.2,  11.1504,  35.5135,2,  35.5142,2,    251.4,2,   249.6,2,    3.78,2,   10.27,2,    0.04,2,    0.62,2,   3.271,2,   1.816,2,   0.241,2,  2129.0,3,  2327.7,2,    559.7,2,    20.00,   7.8456,2,    25.00,-999.000,9,-999.000,9,-999.000,9, -999.00,9,  -999.0,9,  -999.0,-999.000,9,-999.000,-999.000,9, -999.00,9, -999.00,9,  151.20,-999.0000,9,-999.0000,9,-999.0000,9,-999.0000,9,-999.0000,9,-999.0000,9,  11.1315,     -999.0,9,     -999.0,9,     -999.0,9,     -999.0,9,         21,-999.000,-999.000,-999.000,     -999.0,9, -999.00,9, -999.00,9
33RO200306_01,       A16N,     021,          1,         17,         17,2,20030624,       0205,    55.0025,   -19.9997,       1611,   176.4,  11.0580,  35.5003,2,  35.4963,2,    251.1,2,   251.8,2,    3.66,2,   10.32,2,    0.04,2,    0.63,2,   3.319,2,   1.818,2,   0.244,2,  2127.6,2,  2326.6,2,    559.0,2,    20.00,   7.8433,2,    25.00,-999.000,9,-999.000,9,-999.000,9, -999.00,9,  -999.0,9,  -999.0,-999.000,9,-999.000,-999.000,9,   49.68,2,   14.50,2,  176.40,-999.0000,9,-999.0000,9,-999.0000,9,-999.0000,9,-999.0000,9,-999.0000,9,  11.0361,     -999.0,9,     -999.0,9,     -999.0,9,     -999.0,9,         21,-999.000,-999.000,-999.000,     -999.0,9, -999.00,9, -999.00,9
33RO200306_01,       A16N,     021,          1,         16,         16,2,20030624,       0205,    55.0025,   -19.9997,       1611,   201.6,  11.0938,  35.5181,2,  35.5160,2,    250.8,2,   252.7,2,    3.83,2,   10.38,2,    0.03,2,    0.62,2,   3.293,2,   1.792,2,   0.237,2,  2128.8,2,  2332.8,3,    594.9,2,    20.00,   7.8453,2,    25.00,-999.000,9,-999.000,9,-999.000,9, -999.00,9,  -999.0,9,  -999.0,-999.000,9,-999.000,-999.000,9,   49.35,2,   14.05,2,  201.60,-999.0000,9,-999.0000,9,-999.0000,9,-999.0000,9,-999.0000,9,-999.0000,9,  11.0687,     -999.0,9,     -999.0,9,     -999.0,9,     -999.0,9,         21,-999.000,-999.000,-999.000,     -999.0,9, -999.00,9, -999.00,9
33RO200306_01,       A16N,     021,          1,         15,         15,2,20030624,       0205,    55.0025,   -19.9997,       1611,   251.4,  10.5625,  35.4147,2,  35.4156,2,    248.5,2,   249.4,2,    4.34,2,   11.24,2,    0.02,2,    0.68,2,   3.329,2,   1.816,2,   0.242,2,  2131.4,2,  2326.9,2,   -999.0,9,  -999.00,   7.8298,2,    25.00,-999.000,9,-999.000,9,-999.000,9, -999.00,9,  -999.0,9,  -999.0,-999.000,9,-999.000,-999.000,9,   49.10,2,   14.81,2,  251.40,-999.0000,9,-999.0000,9,-999.0000,9,-999.0000,9,-999.0000,9,-999.0000,9,  10.5321,     -999.0,9,     -999.0,9,     -999.0,9,     -999.0,9,         21,-999.000,-999.000,-999.000,     -999.0,9, -999.00,9, -999.00,9
33RO200306_01,       A16N,     021,          1,         14,         14,2,20030624,       0205,    55.0025,   -19.9997,       1611,   301.3,  10.4169,  35.4002,2,  35.3987,2,    248.9,2,   249.5,2,    4.74,2,   11.59,2,    0.01,2,    0.71,2,   3.288,2,   1.784,2,   0.235,2,  2133.4,2,  -999.0,9,    647.3,2,    20.00,-999.0000,9,  -999.00,-999.000,9,-999.000,9,-999.000,9, -999.00,9,  -999.0,9,  -999.0,-999.000,9,-999.000,-999.000,9,   48.86,2,   16.47,2,  301.30,-999.0000,9,-999.0000,9,-999.0000,9,-999.0000,9,-999.0000,9,-999.0000,9,  10.3807,     -999.0,9,     -999.0,9,     -999.0,9,     -999.0,9,         21,-999.000,-999.000,-999.000,     -999.0,9, -999.00,9, -999.00,9
33RO200306_01,       A16N,     021,          1,         13,         13,2,20030624,       0205,    55.0025,   -19.9997,       1611,   401.4,   9.8680,  35.3073,2,  35.3066,2,    244.8,2,   249.9,2,    5.43,2,   12.50,2,    0.01,2,    0.77,2,   3.344,2,   1.843,2,   0.241,2,  2136.7,2,  -999.0,9,   -999.0,9,  -999.00,-999.0000,9,  -999.00,-999.000,9,-999.000,9,-999.000,9, -999.00,9,  -999.0,9,  -999.0,-999.000,9,-999.000,-999.000,9,   48.37,2,   16.52,2,  401.40,-999.0000,9,-999.0000,9,-999.0000,9,-999.0000,9,-999.0000,9,-999.0000,9,   9.8211,     -999.0,9,     -999.0,9,     -999.0,9,     -999.0,9,         21,-999.000,-999.000,-999.000,     -999.0,9, -999.00,9, -999.00,9
33RO200306_01,       A16N,     021,          1,         12,         12,2,20030624,       0205,    55.0025,   -19.9997,       1611,   498.8,   9.3674,  35.2547,2,  35.2556,2,    234.6,2,   236.1,2,    6.56,2,   14.17,2,    0.01,2,    0.86,2,   3.155,2,   1.681,2,   0.210,2,  2145.4,3,  -999.0,9,    740.7,2,    20.00,-999.0000,9,  -999.00,-999.000,9,-999.000,9,-999.000,9, -999.00,9,  -999.0,9,  -999.0,-999.000,9,-999.000,-999.000,9,   47.64,2,   18.23,2,  498.80,-999.0000,9,-999.0000,9,-999.0000,9,-999.0000,9,-999.0000,9,-999.0000,9,   9.3107,     -999.0,9,     -999.0,9,     -999.0,9,     -999.0,9,         21,-999.000,-999.000,-999.000,     -999.0,9, -999.00,9, -999.00,9
33RO200306_01,       A16N,     021,          1,         11,         11,2,20030624,       0205,    55.0025,   -19.9997,       1611,   595.7,   8.3170,  35.1365,2,  35.1380,2,    212.2,2,   202.2,2,    9.14,2,   17.34,2,    0.01,2,    1.07,2,   2.725,2,   1.428,2,   0.161,2,  2162.6,2,  -999.0,9,    781.3,3,    20.00,-999.0000,9,  -999.00,-999.000,9,-999.000,9,-999.000,9, -999.00,9,  -999.0,9,  -999.0,-999.000,9,-999.000,-999.000,9,   45.44,2,   21.09,2,  595.70,-999.0000,9,-999.0000,9,-999.0000,9,-999.0000,9,-999.0000,9,-999.0000,9,   8.2536,     -999.0,9,     -999.0,9,     -999.0,9,     -999.0,9,         21,-999.000,-999.000,-999.000,     -999.0,9, -999.00,9, -999.00,9
33RO200306_01,       A16N,     021,          1,         10,         10,2,20030624,       0205,    55.0025,   -19.9997,       1611,   701.8,   7.6958,  35.1573,2,  35.1544,2,    201.2,2,   200.2,2,   10.57,2,   18.71,2,    0.00,2,    1.15,2,   2.364,2,   1.206,2,   0.116,2,  2177.6,2,  2317.6,2,   -999.0,9,  -999.00,   7.7153,2,    25.00,-999.000,9,-999.000,9,-999.000,9, -999.00,9,  -999.0,9,  -999.0,-999.000,9,-999.000,-999.000,9,   46.18,2,   22.66,2,  701.80,-999.0000,9,-999.0000,9,-999.0000,9,-999.0000,9,-999.0000,9,-999.0000,9,   7.6239,     -999.0,9,     -999.0,9,     -999.0,9,     -999.0,9,         21,-999.000,-999.000,-999.000,     -999.0,9, -999.00,9, -999.00,9
33RO200306_01,       A16N,     021,          1,          9,          9,2,20030624,       0205,    55.0025,   -19.9997,       1611,   797.3,   7.2969,  35.1926,2,  35.1882,2,    201.0,2,   203.4,2,   10.92,2,   18.72,2,    0.00,2,    1.15,2,   2.238,2,   1.114,2,   0.102,2,  2175.8,2,  2319.9,2,    781.0,2,    20.00,   7.6903,3,    25.00,-999.000,9,-999.000,9,-999.000,9, -999.00,9,  -999.0,9,  -999.0,-999.000,9,-999.000,-999.000,9,   43.90,2,   23.09,2,  797.30,-999.0000,9,-999.0000,9,-999.0000,9,-999.0000,9,-999.0000,9,-999.0000,9,   7.2170,     -999.0,9,     -999.0,9,     -999.0,9,     -999.0,9,         21,-999.000,-999.000,-999.000,     -999.0,9, -999.00,9, -999.00,9
33RO200306_01,       A16N,     021,          1,          8,          8,2,20030624,       0205,    55.0025,   -19.9997,       1611,   900.9,   6.5985,  35.1868,2,  35.1864,2,    211.3,2,   216.3,2,   11.15,2,   18.48,2,    0.00,2,    1.14,2,   2.284,2,   1.138,2,   0.111,2,  2176.4,2,  2317.5,2,   -999.0,9,  -999.00,   7.7272,2,    25.00,-999.000,9,-999.000,9,-999.000,9, -999.00,9,  -999.0,9,  -999.0,-999.000,9,-999.000,-999.000,9,   44.96,2,   22.88,2,  900.90,-999.0000,9,-999.0000,9,-999.0000,9,-999.0000,9,-999.0000,9,-999.0000,9,   6.5123,     -999.0,9,     -999.0,9,     -999.0,9,     -999.0,9,         21,-999.000,-999.000,-999.000,     -999.0,9, -999.00,9, -999.00,9
33RO200306_01,       A16N,     021,          1,          7,          7,2,20030624,       0205,    55.0025,   -19.9997,       1611,   995.7,   5.9976,  35.1402,2,  35.1403,2,    222.1,2,   222.2,2,   11.15,2,   18.20,2,    0.00,2,    1.12,2,   2.354,2,   1.166,2,   0.115,2,  2172.6,2,  -999.0,9,    778.5,2,    20.00,-999.0000,9,  -999.00,-999.000,9,-999.000,9,-999.000,9, -999.00,9,  -999.0,9,  -999.0,-999.000,9,-999.000,-999.000,9,   44.96,2,   21.76,2,  995.70,-999.0000,9,-999.0000,9,-999.0000,9,-999.0000,9,-999.0000,9,-999.0000,9,   5.9062,     -999.0,9,     -999.0,9,     -999.0,9,     -999.0,9,         21,-999.000,-999.000,-999.000,     -999.0,9, -999.00,9, -999.00,9
33RO200306_01,       A16N,     021,          1,          6,          6,2,20030624,       0205,    55.0025,   -19.9997,       1611,  1101.1,   5.0135,  35.0164,2,  35.0162,2,    237.2,2,   236.4,2,   10.98,2,   18.02,2,    0.00,2,    1.13,2,   2.795,2,   1.364,2,   0.165,2,  2168.0,2,  2309.7,2,   -999.0,9,  -999.00,   7.7110,2,    25.00,-999.000,9,-999.000,9,-999.000,9, -999.00,9,  -999.0,9,  -999.0,-999.000,9,-999.000,-999.000,9,   45.20,2,   21.56,2, 1101.10,-999.0000,9,-999.0000,9,-999.0000,9,-999.0000,9,-999.0000,9,-999.0000,9,   4.9199,     -999.0,9,     -999.0,9,     -999.0,9,     -999.0,9,         21,-999.000,-999.000,-999.000,     -999.0,9, -999.00,9, -999.00,9
33RO200306_01,       A16N,     021,          1,          5,          5,2,20030624,       0205,    55.0025,   -19.9997,       1611,  1200.5,   4.7480,  35.0084,2,  35.0100,2,    245.7,2,   248.3,2,   11.09,2,   17.83,2,    0.00,2,    1.11,2,   2.700,2,   1.330,2,   0.157,2,  2165.7,2,  2307.5,2,   -999.0,9,  -999.00,   7.7155,2,    25.00,-999.000,9,-999.000,9,-999.000,9, -999.00,9,  -999.0,9,  -999.0,-999.000,9,-999.000,-999.000,9,   44.88,2,   21.79,2, 1200.50,-999.0000,9,-999.0000,9,-999.0000,9,-999.0000,9,-999.0000,9,-999.0000,9,   4.6476,     -999.0,9,     -999.0,9,     -999.0,9,     -999.0,9,         21,-999.000,-999.000,-999.000,     -999.0,9, -999.00,9, -999.00,9
33RO200306_01,       A16N,     021,          1,          4,          4,2,20030624,       0205,    55.0025,   -19.9997,       1611,  1300.2,   4.3519,  34.9624,2,  34.9613,2,    255.0,2,   256.2,2,   10.98,2,   17.76,2,    0.00,2,    1.10,2,   2.935,2,   1.414,2,   0.175,2,  2163.1,2,  2303.6,2,   -999.0,9,  -999.00,   7.7124,2,    25.00,-999.000,9,-999.000,9,-999.000,9, -999.00,9,  -999.0,9,  -999.0,-999.000,9,-999.000,-999.000,9,   43.98,2,   21.35,2, 1300.20,-999.0000,9,-999.0000,9,-999.0000,9,-999.0000,9,-999.0000,9,-999.0000,9,   4.2462,     -999.0,9,     -999.0,9,     -999.0,9,     -999.0,9,         21,-999.000,-999.000,-999.000,     -999.0,9, -999.00,9, -999.00,9
33RO200306_01,       A16N,     021,          1,          3,          3,2,20030624,       0205,    55.0025,   -19.9997,       1611,  1397.6,   4.1877,  34.9635,2,  34.9634,2,    260.1,2,   259.3,2,   11.54,2,   17.61,2,    0.00,2,    1.09,2,   2.686,2,   1.314,2,   0.153,2,  2161.4,2,  2303.6,2,    774.1,2,    20.00,   7.7164,2,    25.00,-999.000,9,-999.000,9,-999.000,9, -999.00,9,  -999.0,9,  -999.0,-999.000,9,-999.000,-999.000,9,   45.04,2,   22.40,2, 1397.60,-999.0000,9,-999.0000,9,-999.0000,9,-999.0000,9,-999.0000,9,-999.0000,9,   4.0748,     -999.0,9,     -999.0,9,     -999.0,9,     -999.0,9,         21,-999.000,-999.000,-999.000,     -999.0,9, -999.00,9, -999.00,9
33RO200306_01,       A16N,     021,          1,          2,          2,2,20030624,       0205,    55.0025,   -19.9997,       1611,  1501.3,   3.8737,  34.9461,2,  34.9468,2,    265.4,2,   264.7,2,   12.29,2,   17.42,2,    0.01,2,    1.08,2,   2.556,2,   1.212,2,   0.138,2,  2160.9,2,  2303.7,2,   -999.0,9,  -999.00,   7.7210,2,    25.00,-999.000,9,-999.000,9,-999.000,9, -999.00,9,  -999.0,9,  -999.0,-999.000,9,-999.000,-999.000,9,   44.71,2,   22.18,2, 1501.30,-999.0000,9,-999.0000,9,-999.0000,9,-999.0000,9,-999.0000,9,-999.0000,9,   3.7549,     -999.0,9,     -999.0,9,     -999.0,9,     -999.0,9,         21,-999.000,-999.000,-999.000,     -999.0,9, -999.00,9, -999.00,9
33RO200306_01,       A16N,     021,          1,          1,          1,2,20030624,       0205,    55.0025,   -19.9997,       1611,  1611.8,   3.4688,  34.9144,2,  34.9143,2,    273.8,2,   272.7,2,   12.59,2,   17.21,2,    0.00,2,    1.08,2,   2.577,2,   1.240,2,   0.143,2,  2159.9,2,  2302.2,2,    761.9,2,    20.00,   7.7252,2,    25.00,-999.000,9,-999.000,9,-999.000,9, -999.00,9,  -999.0,9,  -999.0,-999.000,9,-999.000,-999.000,9,   45.69,2,   21.44,2, 1611.80,-999.0000,9,-999.0000,9,-999.0000,9,-999.0000,9,-999.0000,9,-999.0000,9,   3.3449,     -999.0,9,     -999.0,9,     -999.0,9,     -999.0,9,         21,-999.000,-999.000,-999.000,     -999.0,9, -999.00,9, -999.00,9