BOTTLE,20230908CCHSIOCBG
EXPOCODE,SECT_ID,STNNBR,CASTNO,SAMPNO,BTLNBR,BTLNBR_FLAG_W,DATE,TIME,LATITUDE,LONGITUDE,DEPTH,CTDPRS,CTDTMP,CTDSAL,CTDSAL_FLAG_W,SALNTY,SALNTY_FLAG_W,CTDOXY,CTDOXY_FLAG_W,OXYGEN,OXYGEN_FLAG_W,SILCAT,SILCAT_FLAG_W,NITRAT,NITRAT_FLAG_W,NITRIT,NITRIT_FLAG_W,PHSPHT,PHSPHT_FLAG_W,CFC-11,CFC-11_FLAG_W,CFC-12,CFC-12_FLAG_W,CFC113,CFC113_FLAG_W,TCARBN,TCARBN_FLAG_W,ALKALI,ALKALI_FLAG_W,FCO2,FCO2_FLAG_W,FCO2TMP,PH_SWS,PH_SWS_FLAG_W,PH_TMP,TRITUM,TRITUM_FLAG_W,HELIUM,HELIUM_FLAG_W,DELHE3,DELHE3_FLAG_W,DELC13,DELC13_FLAG_W,DELC14,DELC14_FLAG_W,C14ERR,NEON,NEON_FLAG_W,NEONER,POC,POC_FLAG_W,DOC,DOC_FLAG_W,TDN,TDN_FLAG_W,CTDRAW,CDOM325,CDOM325_FLAG_W,CDOM340,CDOM340_FLAG_W,CDOM380,CDOM380_FLAG_W,CDOM412,CDOM412_FLAG_W,CDOMSL,CDOMSL_FLAG_W,CDOMSN,CDOMSN_FLAG_W,THETA,PON,PON_FLAG_W,HCFC-22,HCFC-22_FLAG_W,HCFC-142b,HCFC-142b_FLAG_W,HCFC-141b,HCFC-141b_FLAG_W,STNNBR_U,HELIER,DELHER,TRITER,CH3CL,CH3CL_FLAG_W,CH3BR,CH3BR_FLAG_W,CH3I,CH3I_FLAG_W
,,,,,,,,,,,METERS,DBAR,ITS-90,PSS-78,,PSS-78,,UMOL/KG,,UMOL/KG,,UMOL/KG,,UMOL/KG,,UMOL/KG,,UMOL/KG,,PMOL/KG,,PMOL/KG,,PMOL/KG,,UMOL/KG,,UMOL/KG,,UATM,,DEG C,,,DEG C,TU,,NMOL/KG,,PERCNT,,/MILLE,,/MILLE,,/MILLE,NMOL/KG,,NMOL/KG,UG/KG,,UMOL/KG,,UMOL/KG,,DBAR,1/M,,1/M,,1/M,,1/M,,1/NM,,1/NM,,DEG C,UMOL/L,,PMOL/KG,,PMOL/KG,,PMOL/KG,,,NMOL/KG,PERCNT,TU,PMOL/KG,,PMOL/KG,,PMOL/KG,
33RO200306_02,       A16N,     078,          2,          7,          7,2,20030718,       1811,    27.0000,   -25.0638,       5244,  2498.4,   3.1741,  34.9829,2,  34.9855,2,    246.6,2,   246.1,2,   27.76,2,   20.10,2,    0.00,2,    1.35,2,   0.027,2,   0.018,2,   0.001,2,  2177.2,2,  2332.4,2,   -999.0,9,  -999.00,   7.7319,2,    25.00,-999.000,9,-999.000,9,-999.000,9, -999.00,9,  -999.0,9,  -999.0,-999.000,9,-999.000,-999.000,9,   41.87,2,   23.53,2, 2498.40,-999.0000,9,-999.0000,9,-999.0000,9,-999.0000,9,-999.0000,9,-999.0000,9,   2.9710,     -999.0,9,       0.00,2,       0.00,2,       0.14,2,         78,-999.000,-999.000,-999.000,      97.17,2,    0.03,2,    0.06,2
33RO200306_02,       A16N,     078,          2,          6,          6,2,20030718,       1811,    27.0000,   -25.0638,       5244,  2998.9,   2.7122,  34.9376,2,  34.9393,2,    245.7,2,   244.9,2,   35.57,2,   21.14,2,    0.00,2,    1.44,2,   0.012,2,   0.008,2,   0.001,2,  2190.4,2,  2340.6,2,    756.0,6,    20.00,   7.7327,2,    25.00,-999.000,9,-999.000,9,-999.000,9, -999.00,9,  -999.0,9,  -999.0,-999.000,9,-999.000,-999.000,9,   42.36,2,   24.56,2, 2998.90,-999.0000,9,-999.0000,9,-999.0000,9,-999.0000,9,-999.0000,9,-999.0000,9,   2.4678,     -999.0,9,     -999.0,9,     -999.0,9,     -999.0,9,         78,-999.000,-999.000,-999.000,     -999.0,9, -999.00,9, -999.00,9
33RO200306_02,       A16N,     078,          2,          5,          5,2,20030718,       1811,    27.0000,   -25.0638,       5244,  3499.1,   2.5273,  34.9160,2,  34.9188,2,    245.0,2,   244.4,2,   40.45,2,   21.82,2,    0.00,2,    1.48,2,   0.012,2,   0.002,2,   0.001,2,  2193.8,2,  2344.8,2,   -999.0,9,  -999.00,   7.7286,2,    25.00,-999.000,9,-999.000,9,-999.000,9, -999.00,9,  -999.0,9,  -999.0,-999.000,9,-999.000,-999.000,9,   41.92,2,   26.20,2, 3499.10,-999.0000,9,-999.0000,9,-999.0000,9,-999.0000,9,-999.0000,9,-999.0000,9,   2.2343,     -999.0,9,     -999.0,9,     -999.0,9,     -999.0,9,         78,-999.000,-999.000,-999.000,     -999.0,9, -999.00,9, -999.00,9
33RO200306_02,       A16N,     078,          2,          4,          4,2,20030718,       1811,    27.0000,   -25.0638,       5244,  3999.8,   2.4397,  34.9024,2,  34.9027,2,    244.3,2,   244.3,2,   43.31,6,   22.20,6,    0.00,6, -999.00,0,   0.002,2,   0.004,2,   0.001,2,  2195.3,2,  -999.0,9,    763.4,2,    20.00,-999.0000,9,  -999.00,-999.000,9,-999.000,9,-999.000,9, -999.00,9,  -999.0,9,  -999.0,-999.000,9,-999.000,-999.000,9,   40.65,2,   26.22,2, 3999.80,-999.0000,9,-999.0000,9,-999.0000,9,-999.0000,9,-999.0000,9,-999.0000,9,   2.0931,     -999.0,9,     -999.0,9,     -999.0,9,     -999.0,9,         78,-999.000,-999.000,-999.000,     -999.0,9, -999.00,9, -999.00,9
33RO200306_02,       A16N,     078,          2,          3,          3,2,20030718,       1811,    27.0000,   -25.0638,       5244,  4499.6,   2.4001,  34.8926,2,  34.8950,2,    244.5,2,   244.5,2,   45.43,6,   22.44,6,    0.00,6, -999.00,0,   0.002,2,   0.001,2,   0.000,2,  2197.4,2,  2351.8,2,   -999.0,9,  -999.00,   7.7295,2,    25.00,-999.000,9,-999.000,9,-999.000,9, -999.00,9,  -999.0,9,  -999.0,-999.000,9,-999.000,-999.000,9,   42.44,2,   26.41,2, 4499.60,-999.0000,9,-999.0000,9,-999.0000,9,-999.0000,9,-999.0000,9,-999.0000,9,   1.9959,     -999.0,9,       0.00,2,       0.00,2,       0.15,2,         78,-999.000,-999.000,-999.000,        0.0,2,    0.31,2,    0.14,2
33RO200306_02,       A16N,     078,          2,          2,          2,2,20030718,       1811,    27.0000,   -25.0638,       5244,  5000.0,   2.4187,  34.8877,2,  34.8895,2,    244.5,2,   244.7,2,   46.52,6,   22.50,6,    0.00,6, -999.00,0,   0.005,6,   0.003,6,   0.002,6,  2198.5,2,  2350.6,2,    765.1,6,    20.00,   7.7273,2,    25.00,-999.000,9,-999.000,9,-999.000,9, -999.00,9,  -999.0,9,  -999.0,-999.000,9,-999.000,-999.000,9,   41.85,2,   26.06,2, 5000.00,-999.0000,9,-999.0000,9,-999.0000,9,-999.0000,9,-999.0000,9,-999.0000,9,   1.9521,     -999.0,9,     -999.0,9,     -999.0,9,     -999.0,9,         78,-999.000,-999.000,-999.000,     -999.0,9, -999.00,9, -999.00,9
33RO200306_02,       A16N,     078,          2,          1,          1,3,20030718,       1811,    27.0000,   -25.0638,       5244,  5329.1,   2.4531,  34.8864,2,  34.9109,3,    244.6,2,   244.9,2,   42.27,3,   22.06,3,    0.00,6,    1.51,3,   0.014,3,   0.010,3,   0.001,2,  2193.8,6,  2347.7,6,    752.8,2,    20.00,   7.7294,6,    25.00,-999.000,9,-999.000,9,-999.000,9, -999.00,9,  -999.0,9,  -999.0,-999.000,9,-999.000,-999.000,9,   41.71,2,   26.00,2, 5329.10,-999.0000,9,-999.0000,9,-999.0000,9,-999.0000,9,-999.0000,9,-999.0000,9,   1.9429,     -999.0,9,       0.39,2,       0.11,2,       2.00,2,         78,-999.000,-999.000,-999.000,      20.17,2,     0.0,2,     0.2,2