BOTTLE,20230908CCHSIOCBG
EXPOCODE,SECT_ID,STNNBR,CASTNO,SAMPNO,BTLNBR,BTLNBR_FLAG_W,DATE,TIME,LATITUDE,LONGITUDE,DEPTH,CTDPRS,CTDTMP,CTDSAL,CTDSAL_FLAG_W,SALNTY,SALNTY_FLAG_W,CTDOXY,CTDOXY_FLAG_W,OXYGEN,OXYGEN_FLAG_W,SILCAT,SILCAT_FLAG_W,NITRAT,NITRAT_FLAG_W,NITRIT,NITRIT_FLAG_W,PHSPHT,PHSPHT_FLAG_W,CFC-11,CFC-11_FLAG_W,CFC-12,CFC-12_FLAG_W,CFC113,CFC113_FLAG_W,TCARBN,TCARBN_FLAG_W,ALKALI,ALKALI_FLAG_W,FCO2,FCO2_FLAG_W,FCO2TMP,PH_SWS,PH_SWS_FLAG_W,PH_TMP,TRITUM,TRITUM_FLAG_W,HELIUM,HELIUM_FLAG_W,DELHE3,DELHE3_FLAG_W,DELC13,DELC13_FLAG_W,DELC14,DELC14_FLAG_W,C14ERR,NEON,NEON_FLAG_W,NEONER,POC,POC_FLAG_W,DOC,DOC_FLAG_W,TDN,TDN_FLAG_W,CTDRAW,CDOM325,CDOM325_FLAG_W,CDOM340,CDOM340_FLAG_W,CDOM380,CDOM380_FLAG_W,CDOM412,CDOM412_FLAG_W,CDOMSL,CDOMSL_FLAG_W,CDOMSN,CDOMSN_FLAG_W,THETA,PON,PON_FLAG_W,HCFC-22,HCFC-22_FLAG_W,HCFC-142b,HCFC-142b_FLAG_W,HCFC-141b,HCFC-141b_FLAG_W,STNNBR_U,HELIER,DELHER,TRITER,CH3CL,CH3CL_FLAG_W,CH3BR,CH3BR_FLAG_W,CH3I,CH3I_FLAG_W
,,,,,,,,,,,METERS,DBAR,ITS-90,PSS-78,,PSS-78,,UMOL/KG,,UMOL/KG,,UMOL/KG,,UMOL/KG,,UMOL/KG,,UMOL/KG,,PMOL/KG,,PMOL/KG,,PMOL/KG,,UMOL/KG,,UMOL/KG,,UATM,,DEG C,,,DEG C,TU,,NMOL/KG,,PERCNT,,/MILLE,,/MILLE,,/MILLE,NMOL/KG,,NMOL/KG,UG/KG,,UMOL/KG,,UMOL/KG,,DBAR,1/M,,1/M,,1/M,,1/M,,1/NM,,1/NM,,DEG C,UMOL/L,,PMOL/KG,,PMOL/KG,,PMOL/KG,,,NMOL/KG,PERCNT,TU,PMOL/KG,,PMOL/KG,,PMOL/KG,
33RO200306_01,       A16N,     039,          1,         24,         24,2,20030629,       1151,    46.0023,   -20.0015,       4842,     4.1,  16.2817,  35.7707,2,  35.7718,2,    243.8,2,   272.1,3,    0.52,2,    0.27,2,    0.05,2,    0.10,2,   2.775,2,   1.681,2,   0.246,2,  2070.5,2,  -999.0,9,   -999.0,9,  -999.00,-999.0000,9,  -999.00,-999.000,9,-999.000,9,-999.000,9, -999.00,9,  -999.0,9,  -999.0,-999.000,9,-999.000,-999.000,9, -999.00,9, -999.00,9,    4.10,-999.0000,9,-999.0000,9,-999.0000,9,-999.0000,9,-999.0000,9,-999.0000,9,  16.2810,     -999.0,9,     -999.0,9,     -999.0,9,     -999.0,9,         39,-999.000,-999.000,-999.000,     -999.0,9, -999.00,9, -999.00,9
33RO200306_01,       A16N,     039,          1,         23,         23,2,20030629,       1151,    46.0023,   -20.0015,       4842,    25.8,  16.2624,  35.7702,2,  35.7722,2,    244.0,2,   247.7,2,    0.52,2,    0.28,2,    0.06,2,    0.10,2,   2.797,2,   1.701,2,   0.250,2,  2071.1,2,  2348.8,2,   -999.0,9,  -999.00,   7.9845,2,    25.00,-999.000,9,-999.000,9,-999.000,9, -999.00,9,  -999.0,9,  -999.0,-999.000,9,-999.000,-999.000,9, -999.00,9, -999.00,9,   25.80,-999.0000,9,-999.0000,9,-999.0000,9,-999.0000,9,-999.0000,9,-999.0000,9,  16.2583,     -999.0,9,     -999.0,9,     -999.0,9,     -999.0,9,         39,-999.000,-999.000,-999.000,     -999.0,9, -999.00,9, -999.00,9
33RO200306_01,       A16N,     039,          1,         22,         22,2,20030629,       1151,    46.0023,   -20.0015,       4842,    74.0,  13.1657,  35.7920,2,  35.7904,2,    242.3,2,   241.2,2,    2.72,2,    7.60,2,    0.05,2,    0.52,2,   3.083,2,   1.842,2,   0.260,2,  2118.8,2,  2349.1,2,   -999.0,9,  -999.00,   7.9888,2,    25.00,-999.000,9,-999.000,9,-999.000,9, -999.00,9,  -999.0,9,  -999.0,-999.000,9,-999.000,-999.000,9, -999.00,9, -999.00,9,   74.00,-999.0000,9,-999.0000,9,-999.0000,9,-999.0000,9,-999.0000,9,-999.0000,9,  13.1554,     -999.0,9,     -999.0,9,     -999.0,9,     -999.0,9,         39,-999.000,-999.000,-999.000,     -999.0,9, -999.00,9, -999.00,9
33RO200306_01,       A16N,     039,          1,         21,         21,2,20030629,       1151,    46.0023,   -20.0015,       4842,   126.2,  12.8960,  35.7764,2,  35.7743,2,    245.0,2,   244.4,2,    2.79,2,    7.78,2,    0.02,2,    0.49,2,   3.095,2,   1.842,2,   0.273,2,  2120.2,2,  2345.3,2,   -999.0,9,  -999.00,   7.8969,2,    25.00,-999.000,9,-999.000,9,-999.000,9, -999.00,9,  -999.0,9,  -999.0,-999.000,9,-999.000,-999.000,9, -999.00,9, -999.00,9,  126.20,-999.0000,9,-999.0000,9,-999.0000,9,-999.0000,9,-999.0000,9,-999.0000,9,  12.8786,     -999.0,9,     -999.0,9,     -999.0,9,     -999.0,9,         39,-999.000,-999.000,-999.000,     -999.0,9, -999.00,9, -999.00,9
33RO200306_01,       A16N,     039,          1,         20,         20,2,20030629,       1151,    46.0023,   -20.0015,       4842,   175.2,  12.8278,  35.7782,2,  35.7763,2,    244.5,2,   265.9,3,    2.84,2,    7.87,2,    0.01,2,    0.49,2,   3.110,2,   1.844,2,   0.242,2,  2120.7,2,  2345.0,2,   -999.0,9,  -999.00,   7.8978,2,    25.00,-999.000,9,-999.000,9,-999.000,9, -999.00,9,  -999.0,9,  -999.0,-999.000,9,-999.000,-999.000,9, -999.00,9, -999.00,9,  175.20,-999.0000,9,-999.0000,9,-999.0000,9,-999.0000,9,-999.0000,9,-999.0000,9,  12.8038,     -999.0,9,     -999.0,9,     -999.0,9,     -999.0,9,         39,-999.000,-999.000,-999.000,     -999.0,9, -999.00,9, -999.00,9
33RO200306_01,       A16N,     039,          1,         19,         19,2,20030629,       1151,    46.0023,   -20.0015,       4842,   251.7,  12.4518,  35.7056,2,  35.7050,2,    243.0,2,   242.4,2,    3.31,2,    9.08,2,    0.01,2,    0.56,2,   3.077,2,   1.829,2,   0.214,2,  2124.8,2,  -999.0,9,   -999.0,9,  -999.00,-999.0000,9,  -999.00,-999.000,9,-999.000,9,-999.000,9, -999.00,9,  -999.0,9,  -999.0,-999.000,9,-999.000,-999.000,9, -999.00,9, -999.00,9,  251.70,-999.0000,9,-999.0000,9,-999.0000,9,-999.0000,9,-999.0000,9,-999.0000,9,  12.4178,     -999.0,9,     -999.0,9,     -999.0,9,     -999.0,9,         39,-999.000,-999.000,-999.000,     -999.0,9, -999.00,9, -999.00,9
33RO200306_01,       A16N,     039,          1,         18,         18,2,20030629,       1151,    46.0023,   -20.0015,       4842,   352.2,  11.9592,  35.6139,2,  35.6147,2,    233.5,2,   232.1,2,    4.03,2,   10.66,2,    0.01,2,    0.66,2,   3.048,2,   1.777,2,   0.176,2,  2131.1,2,  2341.3,2,   -999.0,9,  -999.00,   7.8672,2,    25.00,-999.000,9,-999.000,9,-999.000,9, -999.00,9,  -999.0,9,  -999.0,-999.000,9,-999.000,-999.000,9, -999.00,9, -999.00,9,  352.20,-999.0000,9,-999.0000,9,-999.0000,9,-999.0000,9,-999.0000,9,-999.0000,9,  11.9128,     -999.0,9,     -999.0,9,     -999.0,9,     -999.0,9,         39,-999.000,-999.000,-999.000,     -999.0,9, -999.00,9, -999.00,9
33RO200306_01,       A16N,     039,          1,         17,         17,2,20030629,       1151,    46.0023,   -20.0015,       4842,   452.4,  11.4030,  35.5249,2,  35.5249,2,    229.3,2,   228.1,2,    4.75,2,   12.04,2,    0.01,2,    0.75,2,   3.013,2,   1.727,2,   0.168,2,  2137.9,2,  2337.4,2,   -999.0,9,  -999.00,   7.8495,2,    25.00,-999.000,9,-999.000,9,-999.000,9, -999.00,9,  -999.0,9,  -999.0,-999.000,9,-999.000,-999.000,9, -999.00,9, -999.00,9,  452.40,-999.0000,9,-999.0000,9,-999.0000,9,-999.0000,9,-999.0000,9,-999.0000,9,  11.3449,     -999.0,9,     -999.0,9,     -999.0,9,     -999.0,9,         39,-999.000,-999.000,-999.000,     -999.0,9, -999.00,9, -999.00,9
33RO200306_01,       A16N,     039,          1,         16,         16,2,20030629,       1151,    46.0023,   -20.0015,       4842,   549.9,  10.8291,  35.4420,2,  35.4425,2,    219.5,2,   224.8,2,    5.55,2,   13.16,2,    0.02,2,    0.82,2,   2.979,2,   1.710,2,   0.166,2,  2143.4,2,  2323.8,2,   -999.0,9,  -999.00,   7.8252,2,    25.00,-999.000,9,-999.000,9,-999.000,9, -999.00,9,  -999.0,9,  -999.0,-999.000,9,-999.000,-999.000,9, -999.00,9, -999.00,9,  549.90,-999.0000,9,-999.0000,9,-999.0000,9,-999.0000,9,-999.0000,9,-999.0000,9,  10.7605,     -999.0,9,     -999.0,9,     -999.0,9,     -999.0,9,         39,-999.000,-999.000,-999.000,     -999.0,9, -999.00,9, -999.00,9
33RO200306_01,       A16N,     039,          1,         15,         15,2,20030629,       1151,    46.0023,   -20.0015,       4842,   652.9,  10.1025,  35.3836,2,  35.3837,2,    195.6,2,   196.7,2,    7.86,2,   16.56,2,    0.01,2,    1.02,2,   2.477,2,   1.364,2,   0.102,2,  2162.0,2,  2322.6,2,   -999.0,9,  -999.00,   7.8068,2,    25.00,-999.000,9,-999.000,9,-999.000,9, -999.00,9,  -999.0,9,  -999.0,-999.000,9,-999.000,-999.000,9, -999.00,9, -999.00,9,  652.90,-999.0000,9,-999.0000,9,-999.0000,9,-999.0000,9,-999.0000,9,-999.0000,9,  10.0241,     -999.0,9,     -999.0,9,     -999.0,9,     -999.0,9,         39,-999.000,-999.000,-999.000,     -999.0,9, -999.00,9, -999.00,9
33RO200306_01,       A16N,     039,          1,         14,         14,2,20030629,       1151,    46.0023,   -20.0015,       4842,   751.4,   9.7572,  35.4515,2,  35.4499,2,    189.1,2,   188.0,2,    8.93,2,   17.55,2,    0.00,2,    1.08,2,   2.130,2,   1.141,2,   0.070,2,  2172.1,2,  2324.9,2,   -999.0,9,  -999.00,   7.7566,2,    25.00,-999.000,9,-999.000,9,-999.000,9, -999.00,9,  -999.0,9,  -999.0,-999.000,9,-999.000,-999.000,9, -999.00,9, -999.00,9,  751.40,-999.0000,9,-999.0000,9,-999.0000,9,-999.0000,9,-999.0000,9,-999.0000,9,   9.6684,     -999.0,9,     -999.0,9,     -999.0,9,     -999.0,9,         39,-999.000,-999.000,-999.000,     -999.0,9, -999.00,9, -999.00,9
33RO200306_01,       A16N,     039,          1,         13,         13,2,20030629,       1151,    46.0023,   -20.0015,       4842,   851.2,   9.4508,  35.5382,2,  35.5377,2,    187.9,2,   187.0,2,    9.63,2,   17.75,2,    0.00,2,    1.09,2,   1.868,2,   0.978,2,   0.057,2,  2179.2,2,  2331.9,2,   -999.0,9,  -999.00,   7.7462,2,    25.00,-999.000,9,-999.000,9,-999.000,9, -999.00,9,  -999.0,9,  -999.0,-999.000,9,-999.000,-999.000,9, -999.00,9, -999.00,9,  851.20,-999.0000,9,-999.0000,9,-999.0000,9,-999.0000,9,-999.0000,9,-999.0000,9,   9.3514,     -999.0,9,     -999.0,9,     -999.0,9,     -999.0,9,         39,-999.000,-999.000,-999.000,     -999.0,9, -999.00,9, -999.00,9
33RO200306_01,       A16N,     039,          1,         12,         12,2,20030629,       1151,    46.0023,   -20.0015,       4842,   948.5,   8.1618,  35.3853,2,  35.3862,2,    196.7,2,   196.0,2,   10.70,2,   18.51,2,    0.00,2,    1.15,2,   1.905,2,   1.013,2,   0.069,2,  2179.5,2,  2340.2,2,   -999.0,9,  -999.00,   7.7496,2,    25.00,-999.000,9,-999.000,9,-999.000,9, -999.00,9,  -999.0,9,  -999.0,-999.000,9,-999.000,-999.000,9, -999.00,9, -999.00,9,  948.50,-999.0000,9,-999.0000,9,-999.0000,9,-999.0000,9,-999.0000,9,-999.0000,9,   8.0595,     -999.0,9,     -999.0,9,     -999.0,9,     -999.0,9,         39,-999.000,-999.000,-999.000,     -999.0,9, -999.00,9, -999.00,9
33RO200306_01,       A16N,     039,          1,         11,         11,2,20030629,       1151,    46.0023,   -20.0015,       4842,  1150.7,   6.0924,  35.1787,2,  35.1790,2,    227.5,2,   227.7,2,   11.26,2,   18.39,2,    0.00,2,    1.16,2,   2.260,2,   1.181,2,   0.116,2,  2173.3,2,  2333.7,2,   -999.0,9,  -999.00,   7.7355,2,    25.00,-999.000,9,-999.000,9,-999.000,9, -999.00,9,  -999.0,9,  -999.0,-999.000,9,-999.000,-999.000,9, -999.00,9, -999.00,9, 1150.70,-999.0000,9,-999.0000,9,-999.0000,9,-999.0000,9,-999.0000,9,-999.0000,9,   5.9846,     -999.0,9,     -999.0,9,     -999.0,9,     -999.0,9,         39,-999.000,-999.000,-999.000,     -999.0,9, -999.00,9, -999.00,9
33RO200306_01,       A16N,     039,          1,         10,         10,2,20030629,       1151,    46.0023,   -20.0015,       4842,  1351.3,   5.0670,  35.0796,2,  35.0785,2,    245.3,2,   245.4,2,   11.44,2,   18.13,2,    0.00,2,    1.19,2,   2.416,2,   1.303,2,   0.137,2,  2168.1,2,  2319.9,2,   -999.0,9,  -999.00,   7.7188,2,    25.00,-999.000,9,-999.000,9,-999.000,9, -999.00,9,  -999.0,9,  -999.0,-999.000,9,-999.000,-999.000,9, -999.00,9, -999.00,9, 1351.30,-999.0000,9,-999.0000,9,-999.0000,9,-999.0000,9,-999.0000,9,-999.0000,9,   4.9491,     -999.0,9,     -999.0,9,     -999.0,9,     -999.0,9,         39,-999.000,-999.000,-999.000,     -999.0,9, -999.00,9, -999.00,9
33RO200306_01,       A16N,     039,          1,          9,          9,9,20030629,       1151,    46.0023,   -20.0015,       4842,  1750.5,   3.6768,  34.9182,2,-999.0000,9,    273.1,2,  -999.0,9, -999.00,9, -999.00,9, -999.00,9, -999.00,9,-999.000,9,-999.000,9,-999.000,9,  -999.0,9,  -999.0,9,   -999.0,9,  -999.00,-999.0000,9,  -999.00,-999.000,9,-999.000,9,-999.000,9, -999.00,9,  -999.0,9,  -999.0,-999.000,9,-999.000,-999.000,9, -999.00,9, -999.00,9, 1750.50,-999.0000,9,-999.0000,9,-999.0000,9,-999.0000,9,-999.0000,9,-999.0000,9,   3.5377,     -999.0,9,     -999.0,9,     -999.0,9,     -999.0,9,         39,-999.000,-999.000,-999.000,     -999.0,9, -999.00,9, -999.00,9
33RO200306_01,       A16N,     039,          1,          8,          8,2,20030629,       1151,    46.0023,   -20.0015,       4842,  1751.0,   3.6776,  34.9185,2,  34.9208,2,    273.1,2,   272.9,2,   11.54,2,   17.64,2,    0.00,2,    1.13,2,   2.630,2,   1.324,2,   0.156,2,  2157.7,2,  -999.0,9,   -999.0,9,  -999.00,-999.0000,9,  -999.00,-999.000,9,-999.000,9,-999.000,9, -999.00,9,  -999.0,9,  -999.0,-999.000,9,-999.000,-999.000,9, -999.00,9, -999.00,9, 1751.00,-999.0000,9,-999.0000,9,-999.0000,9,-999.0000,9,-999.0000,9,-999.0000,9,   3.5384,     -999.0,9,     -999.0,9,     -999.0,9,     -999.0,9,         39,-999.000,-999.000,-999.000,     -999.0,9, -999.00,9, -999.00,9
33RO200306_01,       A16N,     039,          1,          7,          7,2,20030629,       1151,    46.0023,   -20.0015,       4842,  2251.2,   3.2634,  34.9051,2,  34.9058,2,    279.9,2,   279.8,2,   12.54,2,   17.25,2,    0.00,2,    1.11,2,   2.427,2,   1.199,2,   0.142,2,  2155.5,2,  -999.0,9,   -999.0,9,  -999.00,-999.0000,9,  -999.00,-999.000,9,-999.000,9,-999.000,9, -999.00,9,  -999.0,9,  -999.0,-999.000,9,-999.000,-999.000,9, -999.00,9, -999.00,9, 2251.20,-999.0000,9,-999.0000,9,-999.0000,9,-999.0000,9,-999.0000,9,-999.0000,9,   3.0832,     -999.0,9,     -999.0,9,     -999.0,9,     -999.0,9,         39,-999.000,-999.000,-999.000,     -999.0,9, -999.00,9, -999.00,9
33RO200306_01,       A16N,     039,          1,          6,          6,9,20030629,       1151,    46.0023,   -20.0015,       4842,  2750.5,   3.0827,  34.9380,2,-999.0000,9,    270.0,2,  -999.0,9, -999.00,9, -999.00,9, -999.00,9, -999.00,9,-999.000,9,-999.000,9,-999.000,9,  -999.0,9,  -999.0,9,   -999.0,9,  -999.00,-999.0000,9,  -999.00,-999.000,9,-999.000,9,-999.000,9, -999.00,9,  -999.0,9,  -999.0,-999.000,9,-999.000,-999.000,9, -999.00,9, -999.00,9, 2750.50,-999.0000,9,-999.0000,9,-999.0000,9,-999.0000,9,-999.0000,9,-999.0000,9,   2.8561,     -999.0,9,     -999.0,9,     -999.0,9,     -999.0,9,         39,-999.000,-999.000,-999.000,     -999.0,9, -999.00,9, -999.00,9
33RO200306_01,       A16N,     039,          1,          5,          5,9,20030629,       1151,    46.0023,   -20.0015,       4842,  3247.8,   2.8291,  34.9431,2,-999.0000,9,    256.5,2,  -999.0,9, -999.00,9, -999.00,9, -999.00,9, -999.00,9,-999.000,9,-999.000,9,-999.000,9,  -999.0,9,  -999.0,9,   -999.0,9,  -999.00,-999.0000,9,  -999.00,-999.000,9,-999.000,9,-999.000,9, -999.00,9,  -999.0,9,  -999.0,-999.000,9,-999.000,-999.000,9, -999.00,9, -999.00,9, 3247.80,-999.0000,9,-999.0000,9,-999.0000,9,-999.0000,9,-999.0000,9,-999.0000,9,   2.5558,     -999.0,9,     -999.0,9,     -999.0,9,     -999.0,9,         39,-999.000,-999.000,-999.000,     -999.0,9, -999.00,9, -999.00,9
33RO200306_01,       A16N,     039,          1,          4,          4,2,20030629,       1151,    46.0023,   -20.0015,       4842,  3749.2,   2.6154,  34.9229,2,  34.9224,2,    245.3,2,   245.0,2,   39.32,2,   21.32,2,    0.00,2,    1.42,2,   0.180,2,   0.093,2,   0.016,2,  2193.7,2,  2352.9,2,   -999.0,9,  -999.00,   7.7361,2,    25.00,-999.000,9,-999.000,9,-999.000,9, -999.00,9,  -999.0,9,  -999.0,-999.000,9,-999.000,-999.000,9, -999.00,9, -999.00,9, 3749.20,-999.0000,9,-999.0000,9,-999.0000,9,-999.0000,9,-999.0000,9,-999.0000,9,   2.2924,     -999.0,9,     -999.0,9,     -999.0,9,     -999.0,9,         39,-999.000,-999.000,-999.000,     -999.0,9, -999.00,9, -999.00,9
33RO200306_01,       A16N,     039,          1,          3,          3,2,20030629,       1151,    46.0023,   -20.0015,       4842,  4330.7,   2.5836,  34.9131,2,  34.9137,2,    241.4,2,   241.2,2,   43.20,2,   21.91,2,    0.00,2,    1.46,2,   0.073,2,   0.041,2,   0.009,2,  2199.6,2,  2351.3,2,   -999.0,9,  -999.00,   7.7237,2,    25.00,-999.000,9,-999.000,9,-999.000,9, -999.00,9,  -999.0,9,  -999.0,-999.000,9,-999.000,-999.000,9, -999.00,9, -999.00,9, 4330.70,-999.0000,9,-999.0000,9,-999.0000,9,-999.0000,9,-999.0000,9,-999.0000,9,   2.1941,     -999.0,9,     -999.0,9,     -999.0,9,     -999.0,9,         39,-999.000,-999.000,-999.000,     -999.0,9, -999.00,9, -999.00,9
33RO200306_01,       A16N,     039,          1,          1,          1,9,20030629,       1151,    46.0023,   -20.0015,       4842,  4919.4,   2.6438,  34.9112,2,-999.0000,9,    240.7,2,  -999.0,9, -999.00,9, -999.00,9, -999.00,9, -999.00,9,-999.000,9,-999.000,9,-999.000,9,  -999.0,9,  -999.0,9,   -999.0,9,  -999.00,-999.0000,9,  -999.00,-999.000,9,-999.000,9,-999.000,9, -999.00,9,  -999.0,9,  -999.0,-999.000,9,-999.000,-999.000,9, -999.00,9, -999.00,9, 4919.40,-999.0000,9,-999.0000,9,-999.0000,9,-999.0000,9,-999.0000,9,-999.0000,9,   2.1798,     -999.0,9,     -999.0,9,     -999.0,9,     -999.0,9,         39,-999.000,-999.000,-999.000,     -999.0,9, -999.00,9, -999.00,9
33RO200306_01,       A16N,     039,          1,          2,          2,2,20030629,       1151,    46.0023,   -20.0015,       4842,  4922.0,   2.6440,  34.9112,2,  34.9118,2,    240.8,2,   241.2,2,   43.61,2,   22.02,2,    0.00,2,    1.47,2,   0.072,2,   0.033,2,   0.013,2,  2200.2,2,  -999.0,9,   -999.0,9,  -999.00,-999.0000,9,  -999.00,-999.000,9,-999.000,9,-999.000,9, -999.00,9,  -999.0,9,  -999.0,-999.000,9,-999.000,-999.000,9, -999.00,9, -999.00,9, 4922.00,-999.0000,9,-999.0000,9,-999.0000,9,-999.0000,9,-999.0000,9,-999.0000,9,   2.1796,     -999.0,9,     -999.0,9,     -999.0,9,     -999.0,9,         39,-999.000,-999.000,-999.000,     -999.0,9, -999.00,9, -999.00,9