BOTTLE,20230908CCHSIOCBG
EXPOCODE,SECT_ID,STNNBR,CASTNO,SAMPNO,BTLNBR,BTLNBR_FLAG_W,DATE,TIME,LATITUDE,LONGITUDE,DEPTH,CTDPRS,CTDTMP,CTDSAL,CTDSAL_FLAG_W,SALNTY,SALNTY_FLAG_W,CTDOXY,CTDOXY_FLAG_W,OXYGEN,OXYGEN_FLAG_W,SILCAT,SILCAT_FLAG_W,NITRAT,NITRAT_FLAG_W,NITRIT,NITRIT_FLAG_W,PHSPHT,PHSPHT_FLAG_W,CFC-11,CFC-11_FLAG_W,CFC-12,CFC-12_FLAG_W,CFC113,CFC113_FLAG_W,TCARBN,TCARBN_FLAG_W,ALKALI,ALKALI_FLAG_W,FCO2,FCO2_FLAG_W,FCO2TMP,PH_SWS,PH_SWS_FLAG_W,PH_TMP,TRITUM,TRITUM_FLAG_W,HELIUM,HELIUM_FLAG_W,DELHE3,DELHE3_FLAG_W,DELC13,DELC13_FLAG_W,DELC14,DELC14_FLAG_W,C14ERR,NEON,NEON_FLAG_W,NEONER,POC,POC_FLAG_W,DOC,DOC_FLAG_W,TDN,TDN_FLAG_W,CTDRAW,CDOM325,CDOM325_FLAG_W,CDOM340,CDOM340_FLAG_W,CDOM380,CDOM380_FLAG_W,CDOM412,CDOM412_FLAG_W,CDOMSL,CDOMSL_FLAG_W,CDOMSN,CDOMSN_FLAG_W,THETA,PON,PON_FLAG_W,HCFC-22,HCFC-22_FLAG_W,HCFC-142b,HCFC-142b_FLAG_W,HCFC-141b,HCFC-141b_FLAG_W,STNNBR_U,HELIER,DELHER,TRITER,CH3CL,CH3CL_FLAG_W,CH3BR,CH3BR_FLAG_W,CH3I,CH3I_FLAG_W
,,,,,,,,,,,METERS,DBAR,ITS-90,PSS-78,,PSS-78,,UMOL/KG,,UMOL/KG,,UMOL/KG,,UMOL/KG,,UMOL/KG,,UMOL/KG,,PMOL/KG,,PMOL/KG,,PMOL/KG,,UMOL/KG,,UMOL/KG,,UATM,,DEG C,,,DEG C,TU,,NMOL/KG,,PERCNT,,/MILLE,,/MILLE,,/MILLE,NMOL/KG,,NMOL/KG,UG/KG,,UMOL/KG,,UMOL/KG,,DBAR,1/M,,1/M,,1/M,,1/M,,1/NM,,1/NM,,DEG C,UMOL/L,,PMOL/KG,,PMOL/KG,,PMOL/KG,,,NMOL/KG,PERCNT,TU,PMOL/KG,,PMOL/KG,,PMOL/KG,
33RO200306_02,       A16N,     135,          1,         35,         35,9,20030805,       0228,    -0.0003,   -25.0002,       3163,     3.7,  25.5021,  36.0771,2,-999.0000,9,    199.4,2,  -999.0,9, -999.00,9, -999.00,9, -999.00,9, -999.00,9,-999.000,9,-999.000,9,-999.000,9,  -999.0,9,  -999.0,9,   -999.0,9,  -999.00,-999.0000,9,  -999.00,-999.000,9,-999.000,9,-999.000,9, -999.00,9,  -999.0,9,  -999.0,-999.000,9,-999.000,-999.000,9, -999.00,9, -999.00,9,    3.70,-999.0000,9,-999.0000,9,-999.0000,9,-999.0000,9,-999.0000,9,-999.0000,9,  25.5013,     -999.0,9,       3.31,2,       0.23,2,       0.30,2,        135,-999.000,-999.000,-999.000,      15.83,2,     0.0,2,   16.82,2
33RO200306_02,       A16N,     135,          1,         32,         32,2,20030805,       0228,    -0.0003,   -25.0002,       3163,     3.8,  25.4993,  36.0764,2,  36.0789,2,    199.4,2,   202.8,2,    1.19,2,    0.10,2,    0.02,2,    0.18,2,   1.816,2,   1.150,2,   0.143,2,  2039.8,2,  -999.0,9,   -999.0,9,  -999.00,-999.0000,9,  -999.00,-999.000,9,   1.734,2,  -2.335,2, -999.00,9,  -999.0,9,  -999.0,   6.842,2,   0.057,-999.000,9, -999.00,9, -999.00,9,    3.80,-999.0000,9,-999.0000,9,-999.0000,9,-999.0000,9,-999.0000,9,-999.0000,9,  25.4985,     -999.0,9,     -999.0,9,     -999.0,9,     -999.0,9,        135,   0.003,    0.19,-999.000,     -999.0,9, -999.00,9, -999.00,9
33RO200306_02,       A16N,     135,          1,         33,         33,2,20030805,       0228,    -0.0003,   -25.0002,       3163,     3.8,  25.4988,  36.0763,2,  36.0789,2,    199.4,2,   203.9,2,    1.19,2,    0.11,2,    0.02,2,    0.18,2,-999.000,9,-999.000,9,-999.000,9,  2044.8,6,  -999.0,9,   -999.0,9,  -999.00,-999.0000,9,  -999.00,-999.000,9,-999.000,9,-999.000,9,    1.59,2,    76.3,2,     2.9,-999.000,9,-999.000,-999.000,9,   68.29,2,    6.67,2,    3.80,-999.0000,9,-999.0000,9,-999.0000,9,-999.0000,9,-999.0000,9,-999.0000,9,  25.4980,     -999.0,9,     -999.0,9,     -999.0,9,     -999.0,9,        135,-999.000,-999.000,-999.000,     -999.0,9, -999.00,9, -999.00,9
33RO200306_02,       A16N,     135,          1,         31,         31,2,20030805,       0228,    -0.0003,   -25.0002,       3163,    19.8,  25.4352,  36.0761,2,  36.0810,2,    198.7,2,   202.2,2,    1.23,2,    0.20,2,    0.04,2,    0.18,2,   1.817,2,   1.147,2,   0.144,2,  2047.3,2,  2369.1,2,   -999.0,9,  -999.00,   8.0609,2,    25.00,-999.000,9,-999.000,9,-999.000,9, -999.00,9,  -999.0,9,  -999.0,-999.000,9,-999.000,-999.000,9,   65.61,2,    6.75,2,   19.80,-999.0000,9,-999.0000,9,-999.0000,9,-999.0000,9,-999.0000,9,-999.0000,9,  25.4308,     -999.0,9,       3.70,2,       0.19,2,       0.32,2,        135,-999.000,-999.000,-999.000,      57.82,2,    1.24,2,   11.79,2
33RO200306_02,       A16N,     135,          1,         30,         30,2,20030805,       0228,    -0.0003,   -25.0002,       3163,    40.4,  25.0904,  36.1064,2,  36.1077,2,    196.0,2,   194.1,2,    1.30,2,    0.54,2,    0.10,2,    0.21,2,-999.000,9,-999.000,9,-999.000,9,  2059.0,2,  2370.3,2,   -999.0,9,  -999.00,-999.0000,9,  -999.00,   0.619,2,-999.000,9,-999.000,9, -999.00,9,  -999.0,9,  -999.0,-999.000,9,-999.000,-999.000,9, -999.00,9, -999.00,9,   40.40,-999.0000,9,-999.0000,9,-999.0000,9,-999.0000,9,-999.0000,9,-999.0000,9,  25.0816,     -999.0,9,     -999.0,9,     -999.0,9,     -999.0,9,        135,-999.000,-999.000,   0.020,     -999.0,9, -999.00,9, -999.00,9
33RO200306_02,       A16N,     135,          1,         29,         29,2,20030805,       0228,    -0.0003,   -25.0002,       3163,    63.4,  23.6094,  36.3767,2,  36.3450,2,    184.3,2,   189.2,2,    1.62,2,    2.08,2,    0.21,2,    0.33,2,   1.902,2,   1.200,2,   0.135,2,  2084.2,2,  2385.3,2,   -999.0,9,  -999.00,   7.9805,2,    25.00,-999.000,9,-999.000,9,-999.000,9, -999.00,9,  -999.0,9,  -999.0,-999.000,9,-999.000,-999.000,9,   61.39,2,    7.93,2,   63.40,-999.0000,9,-999.0000,9,-999.0000,9,-999.0000,9,-999.0000,9,-999.0000,9,  23.5961,     -999.0,9,       3.42,2,       0.15,2,       0.25,2,        135,-999.000,-999.000,-999.000,       26.2,2,    2.98,2,     4.1,2
33RO200306_02,       A16N,     135,          1,         28,         28,2,20030805,       0228,    -0.0003,   -25.0002,       3163,    79.6,  20.8541,  36.2628,2,  36.2686,2,    179.2,2,   177.7,2,    2.64,2,    5.82,2,    0.04,2,    0.55,2,   2.058,2,   1.244,2,   0.107,2,  2110.5,2,  2382.5,2,    419.3,6,    20.00,   7.9502,2,    25.00,-999.000,9,-999.000,9,-999.000,9, -999.00,9,  -999.0,9,  -999.0,-999.000,9,-999.000,-999.000,9, -999.00,9, -999.00,9,   79.60,-999.0000,9,-999.0000,9,-999.0000,9,-999.0000,9,-999.0000,9,-999.0000,9,  20.8389,     -999.0,9,     -999.0,9,     -999.0,9,     -999.0,9,        135,-999.000,-999.000,-999.000,     -999.0,9, -999.00,9, -999.00,9
33RO200306_02,       A16N,     135,          1,         27,         27,2,20030805,       0228,    -0.0003,   -25.0002,       3163,    99.3,  18.5959,  36.0113,2,  36.0067,2,    171.3,2,   174.0,2,    3.73,2,    8.72,2,    0.03,2,    0.73,2,   2.142,2,   1.260,2,   0.091,2,  2125.1,2,  2367.9,2,    470.1,2,    20.00,   7.8479,3,    25.00,   0.573,2,   1.822,3,  -1.332,2, -999.00,9,  -999.0,9,  -999.0,   7.246,2,   0.061,-999.000,9,   54.07,2,   12.38,2,   99.30,-999.0000,9,-999.0000,9,-999.0000,9,-999.0000,9,-999.0000,9,-999.0000,9,  18.5784,     -999.0,9,       3.17,2,       0.15,2,       0.38,2,        135,   0.003,   0.187,   0.040,      48.26,2,    4.71,2,    0.81,2
33RO200306_02,       A16N,     135,          1,         26,         26,2,20030805,       0228,    -0.0003,   -25.0002,       3163,   124.8,  15.3167,  35.6083,2,  35.5963,2,    167.5,2,   171.8,2,    5.50,2,   12.56,2,    0.02,2,    0.97,2,   2.206,2,   1.256,2,   0.062,2,  2139.1,2,  2345.2,2,    559.3,2,    20.00,   7.8489,2,    25.00,   0.375,2,   1.827,3,  -0.536,2, -999.00,9,  -999.0,9,  -999.0,   7.419,2,   0.062,-999.000,9, -999.00,9, -999.00,9,  124.80,-999.0000,9,-999.0000,9,-999.0000,9,-999.0000,9,-999.0000,9,-999.0000,9,  15.2975,     -999.0,9,     -999.0,9,     -999.0,9,     -999.0,9,        135,   0.003,   0.187,   0.010,     -999.0,9, -999.00,9, -999.00,9
33RO200306_02,       A16N,     135,          1,         25,         25,2,20030805,       0228,    -0.0003,   -25.0002,       3163,   151.2,  13.9037,  35.4014,2,  35.4002,2,    163.0,2,   165.8,2,    6.28,2,   14.74,2,    0.01,2,    1.10,2,   2.231,2,   1.244,2,   0.047,2,  2145.6,2,  2333.1,2,    617.4,2,    20.00,   7.7921,2,    25.00,   0.733,2,-999.000,9,-999.000,9, -999.00,9,  -999.0,9,  -999.0,-999.000,9,-999.000,-999.000,9,   48.54,2,   18.24,2,  151.20,-999.0000,9,-999.0000,9,-999.0000,9,-999.0000,9,-999.0000,9,-999.0000,9,  13.8819,     -999.0,9,       2.56,2,       0.00,2,       0.16,2,        135,-999.000,-999.000,   0.020,        0.0,2,     0.0,2,    1.62,2
33RO200306_02,       A16N,     135,          1,         24,         24,2,20030805,       0228,    -0.0003,   -25.0002,       3163,   174.4,  13.8345,  35.3901,2,  35.3913,2,    159.5,2,   164.8,2,    6.40,2,   15.07,2,    0.01,2,    1.11,2,-999.000,9,-999.000,9,-999.000,9,  2147.5,2,  2332.5,2,    625.5,2,    20.00,   7.8068,2,    25.00,-999.000,9,-999.000,9,-999.000,9, -999.00,9,  -999.0,9,  -999.0,-999.000,9,-999.000,-999.000,9, -999.00,9, -999.00,9,  174.40,-999.0000,9,-999.0000,9,-999.0000,9,-999.0000,9,-999.0000,9,-999.0000,9,  13.8094,     -999.0,9,     -999.0,9,     -999.0,9,     -999.0,9,        135,-999.000,-999.000,-999.000,     -999.0,9, -999.00,9, -999.00,9
33RO200306_02,       A16N,     135,          1,         23,         23,2,20030805,       0228,    -0.0003,   -25.0002,       3163,   200.0,  13.5613,  35.3485,2,  35.3479,2,    156.2,2,   156.0,2,    6.88,2,   16.48,2,    0.01,2,    1.18,2,   2.126,2,   1.190,2,   0.044,2,  2155.0,2,  2330.1,2,    659.2,2,    20.00,   7.7816,2,    25.00,-999.000,9,-999.000,9,-999.000,9, -999.00,9,  -999.0,9,  -999.0,-999.000,9,-999.000,-999.000,9,   47.24,2,   19.45,2,  200.00,-999.0000,9,-999.0000,9,-999.0000,9,-999.0000,9,-999.0000,9,-999.0000,9,  13.5329,     -999.0,9,       2.43,2,       0.07,2,       0.18,2,        135,-999.000,-999.000,-999.000,        0.0,2,     0.0,2,    0.54,2
33RO200306_02,       A16N,     135,          1,         22,         22,2,20030805,       0228,    -0.0003,   -25.0002,       3163,   250.8,  12.7855,  35.2424,2,  35.2382,2,    122.1,2,    96.3,2,    9.37,2,   24.44,2,    0.01,2,    1.60,2,   1.588,2,   0.866,2,   0.018,2,  2195.7,2,  2319.2,2,    916.3,2,    20.00,   7.6664,2,    25.00,-999.000,9,   1.752,2,   0.635,2, -999.00,9,  -999.0,9,  -999.0,   7.214,2,   0.063,-999.000,9,   49.59,2,   27.57,2,  250.80,-999.0000,9,-999.0000,9,-999.0000,9,-999.0000,9,-999.0000,9,-999.0000,9,  12.7512,     -999.0,9,     -999.0,9,     -999.0,9,     -999.0,9,        135,   0.003,   0.187,-999.000,     -999.0,9, -999.00,9, -999.00,9
33RO200306_02,       A16N,     135,          1,         21,         21,2,20030805,       0228,    -0.0003,   -25.0002,       3163,   300.5,  10.3248,  34.9547,2,  34.9523,2,     97.8,2,   105.9,2,   12.63,2,   27.95,2,    0.01,2,    1.81,2,   1.286,2,   0.689,2,   0.017,2,  2202.1,2,  2309.1,2,   1025.5,2,    20.00,   7.6119,2,    25.00,   0.306,2,-999.000,9,-999.000,9, -999.00,9,  -999.0,9,  -999.0,-999.000,9,-999.000,-999.000,9,   42.76,2,   30.99,2,  300.50,-999.0000,9,-999.0000,9,-999.0000,9,-999.0000,9,-999.0000,9,-999.0000,9,  10.2891,     -999.0,9,       1.08,2,       0.00,2,       0.12,2,        135,-999.000,-999.000,   0.030,        0.0,2,     0.0,2,     0.4,2
33RO200306_02,       A16N,     135,          1,         20,         20,2,20030805,       0228,    -0.0003,   -25.0002,       3163,   349.8,   8.9731,  34.8039,2,  34.8046,2,    115.8,2,   113.8,2,   15.01,2,   29.68,2,    0.00,2,    1.93,2,   1.066,2,   0.561,2,   0.018,2,  2203.5,2,  2304.1,2,   1082.8,2,    20.00,   7.5890,2,    25.00,-999.000,9,-999.000,9,-999.000,9, -999.00,9,  -999.0,9,  -999.0,-999.000,9,-999.000,-999.000,9,   43.17,2,   32.67,2,  349.80,-999.0000,9,-999.0000,9,-999.0000,9,-999.0000,9,-999.0000,9,-999.0000,9,   8.9349,     -999.0,9,     -999.0,9,     -999.0,9,     -999.0,9,        135,-999.000,-999.000,-999.000,     -999.0,9, -999.00,9, -999.00,9
33RO200306_02,       A16N,     135,          1,         19,         19,2,20030805,       0228,    -0.0003,   -25.0002,       3163,   399.4,   8.4058,  34.7476,2,  34.7482,2,    111.3,2,   113.9,2,   16.51,2,   31.03,2,    0.00,2,    2.01,2,   0.898,2,   0.483,2,   0.016,2,  2206.5,2,  2301.6,2,   1120.9,2,    20.00,   7.5753,2,    25.00,   0.143,2,   1.790,2,   0.653,2, -999.00,9,  -999.0,9,  -999.0,-999.000,5,-999.000,-999.000,9,   43.09,2,   34.00,2,  399.40,-999.0000,9,-999.0000,9,-999.0000,9,-999.0000,9,-999.0000,9,-999.0000,9,   8.3638,     -999.0,9,     -999.0,9,     -999.0,9,     -999.0,9,        135,   0.003,   0.226,   0.010,     -999.0,9, -999.00,9, -999.00,9
33RO200306_02,       A16N,     135,          1,         18,         18,2,20030805,       0228,    -0.0003,   -25.0002,       3163,   449.6,   7.2462,  34.6298,2,  34.6313,2,    122.2,2,   131.1,2,   19.08,2,   31.59,2,    0.00,2,    2.09,2,   0.791,2,   0.416,2,   0.019,2,  2204.3,2,  2298.5,2,   1117.8,2,    20.00,   7.5874,2,    25.00,-999.000,9,   1.802,2,   0.987,2, -999.00,9,  -999.0,9,  -999.0,   7.749,2,   0.065,-999.000,9,   42.52,2,   34.67,2,  449.60,-999.0000,9,-999.0000,9,-999.0000,9,-999.0000,9,-999.0000,9,-999.0000,9,   7.2027,     -999.0,9,       0.35,2,       0.02,2,       0.11,2,        135,   0.003,   0.187,-999.000,      28.91,2,    1.18,2,    1.34,2
33RO200306_02,       A16N,     135,          1,         17,         17,2,20030805,       0228,    -0.0003,   -25.0002,       3163,   499.3,   6.7338,  34.5915,2,  34.5909,2,    131.4,2,   131.5,2,   20.99,2,   32.61,2,    0.00,2,    2.16,2,   0.600,2,   0.316,2,   0.013,2,  2208.7,2,  2299.1,6,   1151.0,2,    20.00,   7.5647,6,    25.00,-999.000,9,   1.866,3,  -1.001,2, -999.00,9,  -999.0,9,  -999.0,-999.000,5,-999.000,-999.000,9,   42.36,2,   35.68,2,  499.30,-999.0000,9,-999.0000,9,-999.0000,9,-999.0000,9,-999.0000,9,-999.0000,9,   6.6873,     -999.0,9,     -999.0,9,     -999.0,9,     -999.0,9,        135,   0.004,   0.225,-999.000,     -999.0,9, -999.00,9, -999.00,9
33RO200306_02,       A16N,     135,          1,         16,         16,2,20030805,       0228,    -0.0003,   -25.0002,       3163,   600.6,   6.2679,  34.5576,2,  34.5578,2,    134.9,2,   135.5,2,   22.91,2,   33.08,2,    0.00,2,    2.21,2,   0.484,2,   0.254,2,   0.010,2,  2211.0,2,  2298.5,2,   1162.5,2,    20.00,   7.5666,2,    25.00,-999.000,9,-999.000,9,-999.000,9, -999.00,9,  -999.0,9,  -999.0,-999.000,9,-999.000,-999.000,9,   42.20,2,   37.07,2,  600.60,-999.0000,9,-999.0000,9,-999.0000,9,-999.0000,9,-999.0000,9,-999.0000,9,   6.2137,     -999.0,9,       0.04,2,       0.00,2,       0.08,2,        135,-999.000,-999.000,-999.000,      59.53,2,     0.9,2,     0.0,2
33RO200306_02,       A16N,     135,          1,         15,         15,2,20030805,       0228,    -0.0003,   -25.0002,       3163,   700.3,   5.6000,  34.5133,2,  34.5143,2,    142.2,2,   142.4,2,   25.63,2,   33.81,2,    0.00,2,    2.27,2,   0.350,2,   0.185,2,   0.008,2,  2211.0,2,  2300.4,2,   1175.0,2,    20.00,   7.5570,2,    25.00,   0.114,2,-999.000,9,-999.000,9, -999.00,9,  -999.0,9,  -999.0,-999.000,9,-999.000,-999.000,9,   40.73,2,   36.78,2,  700.30,-999.0000,9,-999.0000,9,-999.0000,9,-999.0000,9,-999.0000,9,-999.0000,9,   5.5399,     -999.0,9,     -999.0,9,     -999.0,9,     -999.0,9,        135,-999.000,-999.000,   0.010,     -999.0,9, -999.00,9, -999.00,9
33RO200306_02,       A16N,     135,          1,         14,         14,2,20030805,       0228,    -0.0003,   -25.0002,       3163,   799.4,   4.8266,  34.5157,2,  34.5182,2,    149.3,2,   149.8,2,   30.15,2,   34.08,2,    0.00,2,    2.32,2,   0.147,2,   0.083,2,   0.005,2,  2216.4,2,  2304.6,2,   1177.5,6,    20.00,   7.5580,2,    25.00,-999.000,9,-999.000,9,-999.000,9, -999.00,9,  -999.0,9,  -999.0,-999.000,9,-999.000,-999.000,9,   41.71,2,   36.89,2,  799.40,-999.0000,9,-999.0000,9,-999.0000,9,-999.0000,9,-999.0000,9,-999.0000,9,   4.7622,     -999.0,9,     -999.0,9,     -999.0,9,     -999.0,9,        135,-999.000,-999.000,-999.000,     -999.0,9, -999.00,9, -999.00,9
33RO200306_02,       A16N,     135,          1,         13,         13,2,20030805,       0228,    -0.0003,   -25.0002,       3163,   899.9,   4.6150,  34.5547,2,  34.5548,2,    153.2,2,   151.4,2,   31.17,2,   33.63,2,    0.00,2,    2.30,2,   0.086,2,   0.049,2,   0.003,2,  2216.6,2,  2307.9,2,   -999.0,9,  -999.00,   7.5638,2,    25.00,-999.000,9,-999.000,9,-999.000,9, -999.00,9,  -999.0,9,  -999.0,-999.000,9,-999.000,-999.000,9,   40.17,2,   36.20,2,  899.90,-999.0000,9,-999.0000,9,-999.0000,9,-999.0000,9,-999.0000,9,-999.0000,9,   4.5433,     -999.0,9,       0.00,2,       0.00,2,       0.11,2,        135,-999.000,-999.000,-999.000,      87.77,2,    0.97,2,    0.29,2
33RO200306_02,       A16N,     135,          1,         12,         12,2,20030805,       0228,    -0.0003,   -25.0002,       3163,  1000.2,   4.5182,  34.6236,2,  34.6293,2,    157.6,2,   155.9,2,   30.62,2,   32.35,2,    0.00,2,    2.23,2,   0.035,2,   0.022,2,   0.002,2,  2216.5,6,  2310.8,2,   1122.3,2,    20.00,   7.5680,2,    25.00,   0.083,2,   1.856,2,   1.047,2, -999.00,9,  -999.0,9,  -999.0,   8.020,2,   0.066,-999.000,9,   40.00,2,   36.37,2, 1000.20,-999.0000,9,-999.0000,9,-999.0000,9,-999.0000,9,-999.0000,9,-999.0000,9,   4.4383,     -999.0,9,     -999.0,9,     -999.0,9,     -999.0,9,        135,   0.003,   0.176,   0.010,     -999.0,9, -999.00,9, -999.00,9
33RO200306_02,       A16N,     135,          1,         11,         11,2,20030805,       0228,    -0.0003,   -25.0002,       3163,  1099.6,   4.5188,  34.7139,2,  34.7147,2,    168.0,2,   163.7,2,   28.58,2,   30.64,2,    0.00,2,    2.10,2,   0.032,2,   0.021,2,   0.004,2,  2210.0,2,  2312.7,2,   -999.0,9,  -999.00,   7.6046,2,    25.00,-999.000,9,-999.000,9,-999.000,9, -999.00,9,  -999.0,9,  -999.0,-999.000,9,-999.000,-999.000,9,   40.57,2,   33.76,2, 1099.60,-999.0000,9,-999.0000,9,-999.0000,9,-999.0000,9,-999.0000,9,-999.0000,9,   4.4300,     -999.0,9,     -999.0,9,     -999.0,9,     -999.0,9,        135,-999.000,-999.000,-999.000,     -999.0,9, -999.00,9, -999.00,9
33RO200306_02,       A16N,     135,          1,         10,         10,2,20030805,       0228,    -0.0003,   -25.0002,       3163,  1199.6,   4.5820,  34.7683,2,  34.7707,2,    172.6,2,   173.2,2,   26.78,2,   29.28,2,    0.00,2,    2.01,2,   0.032,2,   0.024,2,   0.001,2,  2205.7,2,  2312.7,2,   1024.4,2,    20.00,   7.6569,2,    25.00,-999.000,9,-999.000,9,-999.000,9, -999.00,9,  -999.0,9,  -999.0,-999.000,9,-999.000,-999.000,9,   41.71,2,   33.00,2, 1199.60,-999.0000,9,-999.0000,9,-999.0000,9,-999.0000,9,-999.0000,9,-999.0000,9,   4.4836,     -999.0,9,       0.06,2,       0.00,2,       0.07,2,        135,-999.000,-999.000,-999.000,      34.61,2,    0.38,2,    0.08,2
33RO200306_02,       A16N,     135,          1,          9,          9,2,20030805,       0228,    -0.0003,   -25.0002,       3163,  1299.3,   4.5759,  34.8949,2,  34.8946,2,    197.1,2,   197.7,2,   21.99,2,   25.38,2,    0.00,2,    1.73,2,   0.111,2,   0.058,2,   0.006,2,  2190.5,2,  2315.3,2,   -999.0,9,  -999.00,   7.6603,2,    25.00,-999.000,9,-999.000,9,-999.000,9, -999.00,9,  -999.0,9,  -999.0,-999.000,9,-999.000,-999.000,9,   40.90,2,   29.60,2, 1299.30,-999.0000,9,-999.0000,9,-999.0000,9,-999.0000,9,-999.0000,9,-999.0000,9,   4.4682,     -999.0,9,     -999.0,9,     -999.0,9,     -999.0,9,        135,-999.000,-999.000,-999.000,     -999.0,9, -999.00,9, -999.00,9
33RO200306_02,       A16N,     135,          1,          8,          8,2,20030805,       0228,    -0.0003,   -25.0002,       3163,  1399.9,   4.4443,  34.9380,2,  34.9393,2,    212.3,2,   213.9,2,   19.80,2,   23.27,2,    0.00,2,    1.59,2,   0.135,2,   0.074,2,   0.003,2,  2180.1,2,  2316.4,2,    849.4,2,    20.00,   7.6857,2,    25.00,   0.188,2,   1.821,2,   2.021,2, -999.00,9,  -999.0,9,  -999.0,   7.784,2,   0.069,-999.000,9,   40.83,2,   26.62,2, 1399.90,-999.0000,9,-999.0000,9,-999.0000,9,-999.0000,9,-999.0000,9,-999.0000,9,   4.3285,     -999.0,9,     -999.0,9,     -999.0,9,     -999.0,9,        135,   0.003,   0.185,   0.010,     -999.0,9, -999.00,9, -999.00,9