BOTTLE,20230908CCHSIOCBG
EXPOCODE,SECT_ID,STNNBR,CASTNO,SAMPNO,BTLNBR,BTLNBR_FLAG_W,DATE,TIME,LATITUDE,LONGITUDE,DEPTH,CTDPRS,CTDTMP,CTDSAL,CTDSAL_FLAG_W,SALNTY,SALNTY_FLAG_W,CTDOXY,CTDOXY_FLAG_W,OXYGEN,OXYGEN_FLAG_W,SILCAT,SILCAT_FLAG_W,NITRAT,NITRAT_FLAG_W,NITRIT,NITRIT_FLAG_W,PHSPHT,PHSPHT_FLAG_W,CFC-11,CFC-11_FLAG_W,CFC-12,CFC-12_FLAG_W,CFC113,CFC113_FLAG_W,TCARBN,TCARBN_FLAG_W,ALKALI,ALKALI_FLAG_W,FCO2,FCO2_FLAG_W,FCO2TMP,PH_SWS,PH_SWS_FLAG_W,PH_TMP,TRITUM,TRITUM_FLAG_W,HELIUM,HELIUM_FLAG_W,DELHE3,DELHE3_FLAG_W,DELC13,DELC13_FLAG_W,DELC14,DELC14_FLAG_W,C14ERR,NEON,NEON_FLAG_W,NEONER,POC,POC_FLAG_W,DOC,DOC_FLAG_W,TDN,TDN_FLAG_W,CTDRAW,CDOM325,CDOM325_FLAG_W,CDOM340,CDOM340_FLAG_W,CDOM380,CDOM380_FLAG_W,CDOM412,CDOM412_FLAG_W,CDOMSL,CDOMSL_FLAG_W,CDOMSN,CDOMSN_FLAG_W,THETA,PON,PON_FLAG_W,HCFC-22,HCFC-22_FLAG_W,HCFC-142b,HCFC-142b_FLAG_W,HCFC-141b,HCFC-141b_FLAG_W,STNNBR_U,HELIER,DELHER,TRITER,CH3CL,CH3CL_FLAG_W,CH3BR,CH3BR_FLAG_W,CH3I,CH3I_FLAG_W
,,,,,,,,,,,METERS,DBAR,ITS-90,PSS-78,,PSS-78,,UMOL/KG,,UMOL/KG,,UMOL/KG,,UMOL/KG,,UMOL/KG,,UMOL/KG,,PMOL/KG,,PMOL/KG,,PMOL/KG,,UMOL/KG,,UMOL/KG,,UATM,,DEG C,,,DEG C,TU,,NMOL/KG,,PERCNT,,/MILLE,,/MILLE,,/MILLE,NMOL/KG,,NMOL/KG,UG/KG,,UMOL/KG,,UMOL/KG,,DBAR,1/M,,1/M,,1/M,,1/M,,1/NM,,1/NM,,DEG C,UMOL/L,,PMOL/KG,,PMOL/KG,,PMOL/KG,,,NMOL/KG,PERCNT,TU,PMOL/KG,,PMOL/KG,,PMOL/KG,
33RO200306_01,       A16N,     059,          1,         35,         35,2,20030705,       0817,    35.9998,   -20.0000,       5348,     2.9,  21.9482,  36.3868,2,  36.3908,2,    228.1,2,   223.0,2,    0.82,2,    0.01,2,    0.00,2,    0.03,2,   2.220,2,   1.386,2,   0.194,2,  2090.1,6,  -999.0,9,    369.1,2,    20.00,-999.0000,9,  -999.00,-999.000,9,-999.000,9,-999.000,9, -999.00,9,  -999.0,9,  -999.0,-999.000,9,-999.000,   3.631,2,   63.09,2,    8.08,2,    2.90,-999.0000,9,-999.0000,9,-999.0000,9,-999.0000,9,-999.0000,9,-999.0000,9,  21.9476,      0.218,2,     -999.0,9,     -999.0,9,     -999.0,9,         59,-999.000,-999.000,-999.000,     -999.0,9, -999.00,9, -999.00,9
33RO200306_01,       A16N,     059,          1,         33,         33,2,20030705,       0817,    35.9998,   -20.0000,       5348,    24.3,  20.1516,  36.3023,2,  36.2933,2,    237.6,2,   242.0,2,    0.78,2,    0.00,2,    0.00,2,    0.03,2,   2.533,2,   1.556,2,   0.223,2,  2085.6,2,  2377.7,6,   -999.0,9,  -999.00,   8.0183,6,    25.00,-999.000,9,-999.000,9,-999.000,9, -999.00,9,  -999.0,9,  -999.0,-999.000,9,-999.000,   4.320,2,   61.71,2,    7.91,2,   24.30,-999.0000,9,-999.0000,9,-999.0000,9,-999.0000,9,-999.0000,9,-999.0000,9,  20.1471,      0.418,2,     -999.0,9,     -999.0,9,     -999.0,9,         59,-999.000,-999.000,-999.000,     -999.0,9, -999.00,9, -999.00,9
33RO200306_01,       A16N,     059,          1,         32,         32,2,20030705,       0817,    35.9998,   -20.0000,       5348,    49.5,  16.7779,  36.2006,2,  36.2040,2,    253.1,2,   254.0,2,    0.77,2,    0.02,2,    0.00,2,    0.03,2,   2.748,2,   1.655,2,   0.233,2,  2088.7,2,  2371.9,2,    378.1,2,    20.00,   7.9938,2,    25.00,-999.000,9,-999.000,9,-999.000,9, -999.00,9,  -999.0,9,  -999.0,-999.000,9,-999.000,   2.880,2,   58.78,2,    8.63,2,   49.50,-999.0000,9,-999.0000,9,-999.0000,9,-999.0000,9,-999.0000,9,-999.0000,9,  16.7698,      0.163,2,     -999.0,9,     -999.0,9,     -999.0,9,         59,-999.000,-999.000,-999.000,     -999.0,9, -999.00,9, -999.00,9
33RO200306_01,       A16N,     059,          1,         31,         31,2,20030705,       0817,    35.9998,   -20.0000,       5348,    69.9,  16.0510,  36.1466,2,  36.1485,2,    250.0,2,   242.7,2,    1.03,2,    0.47,2,    0.08,2,    0.08,2,-999.000,9,-999.000,9,-999.000,9,  2097.7,2,  2366.2,2,   -999.0,9,  -999.00,   7.9538,2,    25.00,-999.000,9,-999.000,9,-999.000,9, -999.00,9,  -999.0,9,  -999.0,-999.000,9,-999.000,   4.290,2, -999.00,9, -999.00,9,   69.90,-999.0000,9,-999.0000,9,-999.0000,9,-999.0000,9,-999.0000,9,-999.0000,9,  16.0399,      0.372,2,     -999.0,9,     -999.0,9,     -999.0,9,         59,-999.000,-999.000,-999.000,     -999.0,9, -999.00,9, -999.00,9
33RO200306_01,       A16N,     059,          1,         30,         30,2,20030705,       0817,    35.9998,   -20.0000,       5348,    90.6,  15.7111,  36.1415,2,  36.1335,2,    233.0,2,   230.5,2,    1.25,2,    2.67,2,    0.08,2,    0.18,2,   2.788,2,   1.682,2,   0.221,2,  2108.7,2,  2363.4,2,    428.0,3,    20.00,   7.9433,2,    25.00,-999.000,9,-999.000,9,-999.000,9, -999.00,9,  -999.0,9,  -999.0,-999.000,9,-999.000,   3.538,2,   60.73,2,    9.32,2,   90.60,-999.0000,9,-999.0000,9,-999.0000,9,-999.0000,9,-999.0000,9,-999.0000,9,  15.6969,      0.187,2,     -999.0,9,     -999.0,9,     -999.0,9,         59,-999.000,-999.000,-999.000,     -999.0,9, -999.00,9, -999.00,9
33RO200306_01,       A16N,     059,          1,         29,         29,2,20030705,       0817,    35.9998,   -20.0000,       5348,   110.3,  15.3501,  36.0968,2,  36.0959,2,    223.6,2,   227.0,2,    1.45,2,    3.95,2,    0.02,2,    0.25,2,-999.000,9,-999.000,9,-999.000,9,  2113.0,2,  2360.4,2,   -999.0,9,  -999.00,   7.9489,2,    25.00,-999.000,9,-999.000,9,-999.000,9, -999.00,9,  -999.0,9,  -999.0,-999.000,9,-999.000,   1.394,2,   52.93,2,    9.99,2,  110.30,-999.0000,9,-999.0000,9,-999.0000,9,-999.0000,9,-999.0000,9,-999.0000,9,  15.3330,      0.064,2,     -999.0,9,     -999.0,9,     -999.0,9,         59,-999.000,-999.000,-999.000,     -999.0,9, -999.00,9, -999.00,9
33RO200306_01,       A16N,     059,          1,         28,         28,2,20030705,       0817,    35.9998,   -20.0000,       5348,   134.9,  15.0151,  36.0590,2,  36.0513,2,    218.1,2,   222.8,2,    1.81,2,    5.37,2,    0.01,2,    0.33,2,   2.838,2,   1.682,2,   0.159,2,  2119.0,2,  2357.9,2,    461.4,2,    20.00,   7.9195,2,    25.00,-999.000,9,-999.000,9,-999.000,9, -999.00,9,  -999.0,9,  -999.0,-999.000,9,-999.000,-999.000,9,   52.68,2,   10.97,2,  134.90,-999.0000,9,-999.0000,9,-999.0000,9,-999.0000,9,-999.0000,9,-999.0000,9,  14.9945,     -999.0,9,     -999.0,9,     -999.0,9,     -999.0,9,         59,-999.000,-999.000,-999.000,     -999.0,9, -999.00,9, -999.00,9
33RO200306_01,       A16N,     059,          1,         27,         27,2,20030705,       0817,    35.9998,   -20.0000,       5348,   175.8,  14.5654,  35.9919,2,  35.9917,2,    211.8,2,   207.9,2,    2.14,2,    6.47,2,    0.01,2,    0.39,2,   2.855,6,   1.691,6,   0.139,6,  2126.2,2,  2354.8,2,   -999.0,9,  -999.00,   7.8924,2,    25.00,-999.000,9,-999.000,9,-999.000,9, -999.00,9,  -999.0,9,  -999.0,-999.000,9,-999.000,-999.000,9,   52.44,2,   12.23,2,  175.80,-999.0000,9,-999.0000,9,-999.0000,9,-999.0000,9,-999.0000,9,-999.0000,9,  14.5391,     -999.0,9,     -999.0,9,     -999.0,9,     -999.0,9,         59,-999.000,-999.000,-999.000,     -999.0,9, -999.00,9, -999.00,9
33RO200306_01,       A16N,     059,          1,         26,         26,2,20030705,       0817,    35.9998,   -20.0000,       5348,   226.1,  13.9717,  35.8964,2,  35.8939,2,    213.0,2,   218.1,2,    2.73,2,    8.15,2,    0.01,2,    0.49,2,-999.000,9,-999.000,9,-999.000,9,  2126.9,2,  2348.4,2,    502.9,2,    20.00,   7.8802,2,    25.00,-999.000,9,-999.000,9,-999.000,9, -999.00,9,  -999.0,9,  -999.0,-999.000,9,-999.000,-999.000,9,   50.98,2,   13.62,2,  226.10,-999.0000,9,-999.0000,9,-999.0000,9,-999.0000,9,-999.0000,9,-999.0000,9,  13.9388,     -999.0,9,     -999.0,9,     -999.0,9,     -999.0,9,         59,-999.000,-999.000,-999.000,     -999.0,9, -999.00,9, -999.00,9
33RO200306_01,       A16N,     059,          1,         25,         25,2,20030705,       0817,    35.9998,   -20.0000,       5348,   275.1,  13.4210,  35.8090,2,  35.8072,2,    211.2,2,   211.5,2,    3.42,2,    9.85,2,    0.00,2,    0.58,2,   2.857,2,   1.659,2,   0.088,2,  2132.4,2,  2344.3,2,   -999.0,9,  -999.00,   7.8518,2,    25.00,-999.000,9,-999.000,9,-999.000,9, -999.00,9,  -999.0,9,  -999.0,-999.000,9,-999.000,   0.702,2,   50.65,2,   15.40,2,  275.10,-999.0000,9,-999.0000,9,-999.0000,9,-999.0000,9,-999.0000,9,-999.0000,9,  13.3819,      0.035,2,     -999.0,9,     -999.0,9,     -999.0,9,         59,-999.000,-999.000,-999.000,     -999.0,9, -999.00,9, -999.00,9
33RO200306_01,       A16N,     059,          1,         24,         24,2,20030705,       0817,    35.9998,   -20.0000,       5348,   323.6,  12.9910,  35.7494,2,  35.7451,2,    209.2,2,   211.3,2,    3.75,2,   10.60,2,    0.00,2,    0.63,2,   2.865,2,   1.636,2,   0.089,2,  2135.0,2,  2340.5,2,    551.1,2,    20.00,   7.8608,2,    25.00,-999.000,9,-999.000,9,-999.000,9, -999.00,9,  -999.0,9,  -999.0,-999.000,9,-999.000,-999.000,9,   48.54,2,   16.10,2,  323.60,-999.0000,9,-999.0000,9,-999.0000,9,-999.0000,9,-999.0000,9,-999.0000,9,  12.9460,     -999.0,9,     -999.0,9,     -999.0,9,     -999.0,9,         59,-999.000,-999.000,-999.000,     -999.0,9, -999.00,9, -999.00,9
33RO200306_01,       A16N,     059,          1,         23,         23,2,20030705,       0817,    35.9998,   -20.0000,       5348,   374.6,  12.5320,  35.6870,2,  35.6846,2,    208.9,2,   207.9,2,    4.14,2,   11.55,2,    0.00,2,    0.69,2,   2.918,2,   1.657,2,   0.089,2,  2139.7,2,  2338.2,2,   -999.0,9,  -999.00,   7.8372,2,    25.00,-999.000,9,-999.000,9,-999.000,9, -999.00,9,  -999.0,9,  -999.0,-999.000,9,-999.000,-999.000,9,   49.10,2,   15.99,2,  374.60,-999.0000,9,-999.0000,9,-999.0000,9,-999.0000,9,-999.0000,9,-999.0000,9,  12.4810,     -999.0,9,     -999.0,9,     -999.0,9,     -999.0,9,         59,-999.000,-999.000,-999.000,     -999.0,9, -999.00,9, -999.00,9
33RO200306_01,       A16N,     059,          1,         22,         22,2,20030705,       0817,    35.9998,   -20.0000,       5348,   425.1,  12.0576,  35.6273,2,  35.6271,2,    204.1,2,   201.1,2,    4.73,2,   12.80,2,    0.00,2,    0.76,2,   2.849,2,   1.583,2,   0.087,2,  2144.4,2,  2334.3,2,   -999.0,9,  -999.00,   7.8186,2,    25.00,-999.000,9,-999.000,9,-999.000,9, -999.00,9,  -999.0,9,  -999.0,-999.000,9,-999.000,-999.000,9,   47.80,2,   17.89,2,  425.10,-999.0000,9,-999.0000,9,-999.0000,9,-999.0000,9,-999.0000,9,-999.0000,9,  12.0011,     -999.0,9,     -999.0,9,     -999.0,9,     -999.0,9,         59,-999.000,-999.000,-999.000,     -999.0,9, -999.00,9, -999.00,9
33RO200306_01,       A16N,     059,          1,         21,         21,2,20030705,       0817,    35.9998,   -20.0000,       5348,   474.9,  11.6692,  35.5898,2,  35.5894,2,    201.1,2,   202.0,2,    5.23,2,   13.82,2,    0.00,2,    0.82,2,   2.809,2,   1.544,2,   0.081,2,  2150.2,2,  2332.7,2,    622.0,2,    20.00,   7.7955,2,    25.00,-999.000,9,-999.000,9,-999.000,9, -999.00,9,  -999.0,9,  -999.0,-999.000,9,-999.000,   0.341,2,   47.40,2,   19.00,2,  474.90,-999.0000,9,-999.0000,9,-999.0000,9,-999.0000,9,-999.0000,9,-999.0000,9,  11.6073,      0.032,2,     -999.0,9,     -999.0,9,     -999.0,9,         59,-999.000,-999.000,-999.000,     -999.0,9, -999.00,9, -999.00,9
33RO200306_01,       A16N,     059,          1,         20,         20,2,20030705,       0817,    35.9998,   -20.0000,       5348,   550.3,  11.1424,  35.5518,2,  35.5507,2,    195.5,2,   195.4,2,    6.36,2,   15.37,2,    0.00,2,    0.91,2,   2.586,2,   1.397,2,   0.067,2,  2156.8,2,  2332.1,2,   -999.0,9,  -999.00,   7.7985,2,    25.00,-999.000,9,-999.000,9,-999.000,9, -999.00,9,  -999.0,9,  -999.0,-999.000,9,-999.000,-999.000,9,   46.10,2,   20.92,2,  550.30,-999.0000,9,-999.0000,9,-999.0000,9,-999.0000,9,-999.0000,9,-999.0000,9,  11.0725,     -999.0,9,     -999.0,9,     -999.0,9,     -999.0,9,         59,-999.000,-999.000,-999.000,     -999.0,9, -999.00,9, -999.00,9
33RO200306_01,       A16N,     059,          1,         19,         19,2,20030705,       0817,    35.9998,   -20.0000,       5348,   649.7,  10.4278,  35.5212,2,  35.5225,2,    183.4,2,   191.6,2,    8.27,2,   17.32,2,    0.00,2,    1.05,2,   2.001,2,   1.054,2,   0.048,2,  2166.8,2,  2332.7,2,    690.7,2,    20.00,   7.7719,2,    25.00,-999.000,9,-999.000,9,-999.000,9, -999.00,9,  -999.0,9,  -999.0,-999.000,9,-999.000,-999.000,9,   44.88,2,   22.16,2,  649.70,-999.0000,9,-999.0000,9,-999.0000,9,-999.0000,9,-999.0000,9,-999.0000,9,  10.3482,     -999.0,9,     -999.0,9,     -999.0,9,     -999.0,9,         59,-999.000,-999.000,-999.000,     -999.0,9, -999.00,9, -999.00,9
33RO200306_01,       A16N,     059,          1,         18,         18,2,20030705,       0817,    35.9998,   -20.0000,       5348,   752.2,  10.2519,  35.6423,2,  35.6477,2,    181.8,2,  -999.0,1,    9.24,2,   17.68,2,    0.00,2,    1.07,2,   1.615,2,   0.851,2,   0.031,2,  2177.3,2,  2344.7,2,   -999.0,9,  -999.00,   7.7597,2,    25.00,-999.000,9,-999.000,9,-999.000,9, -999.00,9,  -999.0,9,  -999.0,-999.000,9,-999.000,-999.000,9,   44.71,2,   23.36,2,  752.20,-999.0000,9,-999.0000,9,-999.0000,9,-999.0000,9,-999.0000,9,-999.0000,9,  10.1601,     -999.0,9,     -999.0,9,     -999.0,9,     -999.0,9,         59,-999.000,-999.000,-999.000,     -999.0,9, -999.00,9, -999.00,9
33RO200306_01,       A16N,     059,          1,         17,         17,2,20030705,       0817,    35.9998,   -20.0000,       5348,   850.3,  10.1131,  35.7483,2,  35.7514,2,    181.9,2,   181.9,2,    9.76,2,   17.59,2,    0.00,2,    1.07,2,   1.427,2,   0.756,2,   0.031,2,  2183.6,2,  2354.8,2,    695.2,2,    20.00,   7.7650,2,    25.00,-999.000,9,-999.000,9,-999.000,9, -999.00,9,  -999.0,9,  -999.0,-999.000,9,-999.000,-999.000,9,   44.56,2,   22.54,2,  850.30,-999.0000,9,-999.0000,9,-999.0000,9,-999.0000,9,-999.0000,9,-999.0000,9,  10.0096,     -999.0,9,     -999.0,9,     -999.0,9,     -999.0,9,         59,-999.000,-999.000,-999.000,     -999.0,9, -999.00,9, -999.00,9
33RO200306_01,       A16N,     059,          1,         16,         16,2,20030705,       0817,    35.9998,   -20.0000,       5348,   950.0,   9.8952,  35.8120,2,  35.8118,2,    181.5,2,   185.0,2,   10.36,2,   17.68,2,    0.00,2,    1.08,2,   1.274,2,   0.674,2,   0.024,2,  2190.1,2,  2360.4,2,   -999.0,9,  -999.00,   7.7575,2,    25.00,-999.000,9,-999.000,9,-999.000,9, -999.00,9,  -999.0,9,  -999.0,-999.000,9,-999.000,-999.000,9,   43.58,2,   23.08,2,  950.00,-999.0000,9,-999.0000,9,-999.0000,9,-999.0000,9,-999.0000,9,-999.0000,9,   9.7804,     -999.0,9,     -999.0,9,     -999.0,9,     -999.0,9,         59,-999.000,-999.000,-999.000,     -999.0,9, -999.00,9, -999.00,9
33RO200306_01,       A16N,     059,          1,         15,         15,2,20030705,       0817,    35.9998,   -20.0000,       5348,  1050.6,   9.6260,  35.8502,2,  35.8493,2,    185.7,2,   177.3,2,   10.57,2,   17.42,2,    0.00,2,    1.06,2,   1.203,2,   0.634,2,   0.027,2,  2194.2,6,  2366.4,6,    687.6,2,    20.00,   7.7628,6,    25.00,-999.000,9,-999.000,9,-999.000,9, -999.00,9,  -999.0,9,  -999.0,-999.000,9,-999.000,-999.000,9,   43.34,2,   22.73,2, 1050.60,-999.0000,9,-999.0000,9,-999.0000,9,-999.0000,9,-999.0000,9,-999.0000,9,   9.5004,     -999.0,9,     -999.0,9,     -999.0,9,     -999.0,9,         59,-999.000,-999.000,-999.000,     -999.0,9, -999.00,9, -999.00,9
33RO200306_01,       A16N,     059,          1,         14,         14,2,20030705,       0817,    35.9998,   -20.0000,       5348,  1149.8,   8.8616,  35.7523,2,  35.7540,2,    192.9,2,   187.6,2,   10.90,2,   17.48,2,    0.00,2,    1.07,2,   1.234,2,   0.645,2,   0.027,2,  2190.7,2,  2361.2,2,   -999.0,9,  -999.00,   7.7635,2,    25.00,-999.000,9,-999.000,9,-999.000,9, -999.00,9,  -999.0,9,  -999.0,-999.000,9,-999.000,-999.000,9,   43.49,2,   22.05,2, 1149.80,-999.0000,9,-999.0000,9,-999.0000,9,-999.0000,9,-999.0000,9,-999.0000,9,   8.7298,     -999.0,9,     -999.0,9,     -999.0,9,     -999.0,9,         59,-999.000,-999.000,-999.000,     -999.0,9, -999.00,9, -999.00,9
33RO200306_01,       A16N,     059,          1,         13,         13,2,20030705,       0817,    35.9998,   -20.0000,       5348,  1301.1,   8.0423,  35.6691,2,  35.6698,2,    203.6,2,   205.4,2,   11.55,2,   17.55,2,    0.00,2,    1.09,2,   1.081,2,   0.566,2,   0.029,2,  2188.2,2,  2355.8,2,   -999.0,9,  -999.00,   7.7617,2,    25.00,-999.000,9,-999.000,9,-999.000,9, -999.00,9,  -999.0,9,  -999.0,-999.000,9,-999.000,-999.000,9,   43.34,2,   21.58,2, 1301.10,-999.0000,9,-999.0000,9,-999.0000,9,-999.0000,9,-999.0000,9,-999.0000,9,   7.8998,     -999.0,9,     -999.0,9,     -999.0,9,     -999.0,9,         59,-999.000,-999.000,-999.000,     -999.0,9, -999.00,9, -999.00,9
33RO200306_01,       A16N,     059,          1,         12,         12,2,20030705,       0817,    35.9998,   -20.0000,       5348,  1399.8,   7.1571,  35.5191,2,  35.5201,2,    216.2,2,   217.2,2,   11.94,2,   17.71,2,    0.00,2,    1.11,2,   1.136,2,   0.582,2,   0.032,2,  2182.8,2,  2347.4,2,    713.3,2,    20.00,   7.7551,2,    25.00,-999.000,9,-999.000,9,-999.000,9, -999.00,9,  -999.0,9,  -999.0,-999.000,9,-999.000,-999.000,9,   43.82,2,   21.72,2, 1399.80,-999.0000,9,-999.0000,9,-999.0000,9,-999.0000,9,-999.0000,9,-999.0000,9,   7.0121,     -999.0,9,     -999.0,9,     -999.0,9,     -999.0,9,         59,-999.000,-999.000,-999.000,     -999.0,9, -999.00,9, -999.00,9
33RO200306_01,       A16N,     059,          1,         11,         11,2,20030705,       0817,    35.9998,   -20.0000,       5348,  1500.1,   6.4480,  35.4039,2,  35.3868,3,    226.4,2,   227.7,2,   12.40,2,   17.84,2,    0.00,2,    1.12,2,   1.086,2,   0.552,2,   0.038,2,  2180.1,2,  2336.2,2,   -999.0,9,  -999.00,   7.7518,2,    25.00,-999.000,9,-999.000,9,-999.000,9, -999.00,9,  -999.0,9,  -999.0,-999.000,9,-999.000,-999.000,9,   43.58,2,   21.49,2, 1500.10,-999.0000,9,-999.0000,9,-999.0000,9,-999.0000,9,-999.0000,9,-999.0000,9,   6.2996,     -999.0,9,     -999.0,9,     -999.0,9,     -999.0,9,         59,-999.000,-999.000,-999.000,     -999.0,9, -999.00,9, -999.00,9
33RO200306_01,       A16N,     059,          1,         10,         10,2,20030705,       0817,    35.9998,   -20.0000,       5348,  1700.6,   5.2567,  35.2307,2,  35.2307,2,    242.0,2,   241.2,2,   13.22,2,   17.95,2,    0.00,2,    1.14,2,   1.025,2,   0.520,2,   0.034,2,  2173.9,2,  2328.0,2,    730.8,2,    20.00,   7.7481,2,    25.00,-999.000,9,-999.000,9,-999.000,9, -999.00,9,  -999.0,9,  -999.0,-999.000,9,-999.000,-999.000,9,   42.93,2,   22.93,2, 1700.60,-999.0000,9,-999.0000,9,-999.0000,9,-999.0000,9,-999.0000,9,-999.0000,9,   5.1014,     -999.0,9,     -999.0,9,     -999.0,9,     -999.0,9,         59,-999.000,-999.000,-999.000,     -999.0,9, -999.00,9, -999.00,9
33RO200306_01,       A16N,     059,          1,          9,          9,2,20030705,       0817,    35.9998,   -20.0000,       5348,  1900.5,   4.7509,  35.1721,2,  35.1724,2,    244.0,2,   244.7,2,   15.28,2,   18.27,2,    0.00,2,    1.17,2,   0.585,2,   0.308,2,   0.026,2,  2172.7,2,  2330.9,2,   -999.0,9,  -999.00,   7.7360,2,    25.00,-999.000,9,-999.000,9,-999.000,9, -999.00,9,  -999.0,9,  -999.0,-999.000,9,-999.000,-999.000,9,   42.85,2,   23.59,2, 1900.50,-999.0000,9,-999.0000,9,-999.0000,9,-999.0000,9,-999.0000,9,-999.0000,9,   4.5819,     -999.0,9,     -999.0,9,     -999.0,9,     -999.0,9,         59,-999.000,-999.000,-999.000,     -999.0,9, -999.00,9, -999.00,9
33RO200306_01,       A16N,     059,          1,          8,          8,2,20030705,       0817,    35.9998,   -20.0000,       5348,  2200.3,   3.8398,  35.0493,2,  35.0507,2,    251.6,2,   251.8,2,   19.29,2,   18.76,2,    0.00,2,    1.22,2,   0.282,2,   0.154,2,   0.013,2,  2172.1,2,  2343.6,3,    737.4,2,    20.00,   7.7473,2,    25.00,-999.000,9,-999.000,9,-999.000,9, -999.00,9,  -999.0,9,  -999.0,-999.000,9,-999.000,-999.000,9,   42.85,2,   23.06,2, 2200.30,-999.0000,9,-999.0000,9,-999.0000,9,-999.0000,9,-999.0000,9,-999.0000,9,   3.6547,     -999.0,9,     -999.0,9,     -999.0,9,     -999.0,9,         59,-999.000,-999.000,-999.000,     -999.0,9, -999.00,9, -999.00,9