BOTTLE,20230908CCHSIOCBG
EXPOCODE,SECT_ID,STNNBR,CASTNO,SAMPNO,BTLNBR,BTLNBR_FLAG_W,DATE,TIME,LATITUDE,LONGITUDE,DEPTH,CTDPRS,CTDTMP,CTDSAL,CTDSAL_FLAG_W,SALNTY,SALNTY_FLAG_W,CTDOXY,CTDOXY_FLAG_W,OXYGEN,OXYGEN_FLAG_W,SILCAT,SILCAT_FLAG_W,NITRAT,NITRAT_FLAG_W,NITRIT,NITRIT_FLAG_W,PHSPHT,PHSPHT_FLAG_W,CFC-11,CFC-11_FLAG_W,CFC-12,CFC-12_FLAG_W,CFC113,CFC113_FLAG_W,TCARBN,TCARBN_FLAG_W,ALKALI,ALKALI_FLAG_W,FCO2,FCO2_FLAG_W,FCO2TMP,PH_SWS,PH_SWS_FLAG_W,PH_TMP,TRITUM,TRITUM_FLAG_W,HELIUM,HELIUM_FLAG_W,DELHE3,DELHE3_FLAG_W,DELC13,DELC13_FLAG_W,DELC14,DELC14_FLAG_W,C14ERR,NEON,NEON_FLAG_W,NEONER,POC,POC_FLAG_W,DOC,DOC_FLAG_W,TDN,TDN_FLAG_W,CTDRAW,CDOM325,CDOM325_FLAG_W,CDOM340,CDOM340_FLAG_W,CDOM380,CDOM380_FLAG_W,CDOM412,CDOM412_FLAG_W,CDOMSL,CDOMSL_FLAG_W,CDOMSN,CDOMSN_FLAG_W,THETA,PON,PON_FLAG_W,HCFC-22,HCFC-22_FLAG_W,HCFC-142b,HCFC-142b_FLAG_W,HCFC-141b,HCFC-141b_FLAG_W,STNNBR_U,HELIER,DELHER,TRITER,CH3CL,CH3CL_FLAG_W,CH3BR,CH3BR_FLAG_W,CH3I,CH3I_FLAG_W
,,,,,,,,,,,METERS,DBAR,ITS-90,PSS-78,,PSS-78,,UMOL/KG,,UMOL/KG,,UMOL/KG,,UMOL/KG,,UMOL/KG,,UMOL/KG,,PMOL/KG,,PMOL/KG,,PMOL/KG,,UMOL/KG,,UMOL/KG,,UATM,,DEG C,,,DEG C,TU,,NMOL/KG,,PERCNT,,/MILLE,,/MILLE,,/MILLE,NMOL/KG,,NMOL/KG,UG/KG,,UMOL/KG,,UMOL/KG,,DBAR,1/M,,1/M,,1/M,,1/M,,1/NM,,1/NM,,DEG C,UMOL/L,,PMOL/KG,,PMOL/KG,,PMOL/KG,,,NMOL/KG,PERCNT,TU,PMOL/KG,,PMOL/KG,,PMOL/KG,
33RO200306_01,       A16N,     037,          1,         24,         24,2,20030628,       1338,    47.0005,   -19.9978,       4535,   800.5,   7.9723,  35.1878,2,  35.1871,2,    183.8,2,   184.9,2,   11.20,6,   19.17,6,    0.01,6,    1.21,6,-999.000,9,-999.000,9,-999.000,9,  2173.6,2,  2318.6,2,   -999.0,9,  -999.00,   7.7197,2,    25.00,-999.000,9,-999.000,9,-999.000,9, -999.00,9,  -999.0,9,  -999.0,-999.000,9,-999.000,-999.000,9, -999.00,9, -999.00,9,  800.50,-999.0000,9,-999.0000,9,-999.0000,9,-999.0000,9,-999.0000,9,-999.0000,9,   7.8881,     -999.0,9,     -999.0,9,     -999.0,9,     -999.0,9,         37,-999.000,-999.000,-999.000,     -999.0,9, -999.00,9, -999.00,9
33RO200306_01,       A16N,     037,          1,         23,         23,2,20030628,       1338,    47.0005,   -19.9978,       4535,   801.3,   7.9701,  35.1877,2,  35.1861,2,    183.8,2,  -999.0,9, -999.00,9, -999.00,9, -999.00,9, -999.00,9,   2.149,2,   1.133,2,   0.099,2,  -999.0,9,  2320.9,2,   -999.0,9,  -999.00,-999.0000,9,  -999.00,-999.000,9,-999.000,9,-999.000,9, -999.00,9,  -999.0,9,  -999.0,-999.000,9,-999.000,-999.000,9,   45.12,2,   22.24,2,  801.30,-999.0000,9,-999.0000,9,-999.0000,9,-999.0000,9,-999.0000,9,-999.0000,9,   7.8858,     -999.0,9,     -999.0,9,     -999.0,9,     -999.0,9,         37,-999.000,-999.000,-999.000,     -999.0,9, -999.00,9, -999.00,9
33RO200306_01,       A16N,     037,          1,         21,         21,2,20030628,       1338,    47.0005,   -19.9978,       4535,   900.0,   7.4669,  35.2256,2,  35.2253,2,    193.7,2,  -999.0,9, -999.00,9, -999.00,9, -999.00,9, -999.00,9,-999.000,5,-999.000,5,-999.000,5,  -999.0,9,  -999.0,9,   -999.0,9,  -999.00,-999.0000,9,  -999.00,   1.276,2,   1.790,2,   6.128,2, -999.00,9,  -999.0,9,  -999.0,   7.729,2,   0.065,-999.000,9,   44.63,2,   21.95,2,  900.00,-999.0000,9,-999.0000,9,-999.0000,9,-999.0000,9,-999.0000,9,-999.0000,9,   7.3749,     -999.0,9,     -999.0,9,     -999.0,9,     -999.0,9,         37,   0.004,    0.22,   0.020,     -999.0,9, -999.00,9, -999.00,9
33RO200306_01,       A16N,     037,          1,         22,         22,2,20030628,       1338,    47.0005,   -19.9978,       4535,   900.3,   7.4681,  35.2256,2,  35.2112,3,    193.7,2,   193.6,2,   11.35,6,   19.01,6,    0.01,6,    1.21,6,-999.000,9,-999.000,9,-999.000,9,  2175.8,2,  -999.0,9,   -999.0,9,  -999.00,-999.0000,9,  -999.00,-999.000,9,-999.000,9,-999.000,9, -999.00,9,  -999.0,9,  -999.0,-999.000,9,-999.000,-999.000,9, -999.00,9, -999.00,9,  900.30,-999.0000,9,-999.0000,9,-999.0000,9,-999.0000,9,-999.0000,9,-999.0000,9,   7.3761,     -999.0,9,     -999.0,9,     -999.0,9,     -999.0,9,         37,-999.000,-999.000,-999.000,     -999.0,9, -999.00,9, -999.00,9
33RO200306_01,       A16N,     037,          1,         20,         20,2,20030628,       1338,    47.0005,   -19.9978,       4535,  1003.1,   6.2694,  35.1317,2,  35.1304,2,    213.0,2,   214.4,2,   11.63,6,   18.71,6,    0.01,6,    1.19,6,   2.370,2,   1.231,2,   0.126,2,  2173.9,2,  2314.7,2,   -999.0,9,  -999.00,   7.7122,2,    25.00,-999.000,9,-999.000,9,-999.000,9, -999.00,9,  -999.0,9,  -999.0,-999.000,9,-999.000,-999.000,9,   44.39,2, -999.00,9, 1003.10,-999.0000,9,-999.0000,9,-999.0000,9,-999.0000,9,-999.0000,9,-999.0000,9,   6.1752,     -999.0,9,     -999.0,9,     -999.0,9,     -999.0,9,         37,-999.000,-999.000,-999.000,     -999.0,9, -999.00,9, -999.00,9
33RO200306_01,       A16N,     037,          1,         19,         19,9,20030628,       1338,    47.0005,   -19.9978,       4535,  1003.4,   6.2650,  35.1318,2,-999.0000,9,    212.9,2,  -999.0,9, -999.00,9, -999.00,9, -999.00,9, -999.00,9,-999.000,9,-999.000,9,-999.000,9,  -999.0,9,  -999.0,9,   -999.0,9,  -999.00,-999.0000,9,  -999.00,-999.000,9,-999.000,9,-999.000,9, -999.00,9,  -999.0,9,  -999.0,-999.000,9,-999.000,-999.000,9, -999.00,9, -999.00,9, 1003.40,-999.0000,9,-999.0000,9,-999.0000,9,-999.0000,9,-999.0000,9,-999.0000,9,   6.1708,     -999.0,9,     -999.0,9,     -999.0,9,     -999.0,9,         37,-999.000,-999.000,-999.000,     -999.0,9, -999.00,9, -999.00,9
33RO200306_01,       A16N,     037,          1,         18,         18,2,20030628,       1338,    47.0005,   -19.9978,       4535,  1201.1,   5.3297,  35.0814,2,  35.0797,2,    234.8,2,   233.7,2,   11.60,6,   18.22,6,    0.01,6,    1.17,6,-999.000,9,-999.000,9,-999.000,9,  2168.8,2,  -999.0,9,   -999.0,9,  -999.00,-999.0000,9,  -999.00,-999.000,9,-999.000,9,-999.000,9, -999.00,9,  -999.0,9,  -999.0,-999.000,9,-999.000,-999.000,9, -999.00,9, -999.00,9, 1201.10,-999.0000,9,-999.0000,9,-999.0000,9,-999.0000,9,-999.0000,9,-999.0000,9,   5.2238,     -999.0,9,     -999.0,9,     -999.0,9,     -999.0,9,         37,-999.000,-999.000,-999.000,     -999.0,9, -999.00,9, -999.00,9
33RO200306_01,       A16N,     037,          1,         17,         17,2,20030628,       1338,    47.0005,   -19.9978,       4535,  1201.3,   5.3296,  35.0813,2,  35.0800,2,    234.8,2,  -999.0,9, -999.00,9, -999.00,9, -999.00,9, -999.00,9,   2.510,2,   1.288,2,   0.144,2,  -999.0,9,  -999.0,9,   -999.0,9,  -999.00,-999.0000,9,  -999.00,   1.169,2,   1.797,2,   6.367,2, -999.00,9,  -999.0,9,  -999.0,   7.812,2,   0.065,-999.000,9,   43.98,2,   20.02,2, 1201.30,-999.0000,9,-999.0000,9,-999.0000,9,-999.0000,9,-999.0000,9,-999.0000,9,   5.2237,     -999.0,9,     -999.0,9,     -999.0,9,     -999.0,9,         37,   0.004,   0.219,   0.030,     -999.0,9, -999.00,9, -999.00,9
33RO200306_01,       A16N,     037,          1,         16,         16,2,20030628,       1338,    47.0005,   -19.9978,       4535,  1603.2,   3.8436,  34.9301,2,  34.9296,2,    262.4,2,   263.5,2,   11.66,6,   17.63,6,    0.01,6,    1.13,6,   2.745,2,   1.370,2,   0.165,2,  2159.1,2,  2303.2,2,   -999.0,9,  -999.00,   7.7179,2,    25.00,-999.000,9,-999.000,9,-999.000,9, -999.00,9,  -999.0,9,  -999.0,-999.000,9,-999.000,-999.000,9,   45.61,2,   22.53,2, 1603.20,-999.0000,9,-999.0000,9,-999.0000,9,-999.0000,9,-999.0000,9,-999.0000,9,   3.7159,     -999.0,9,     -999.0,9,     -999.0,9,     -999.0,9,         37,-999.000,-999.000,-999.000,     -999.0,9, -999.00,9, -999.00,9
33RO200306_01,       A16N,     037,          1,         15,         15,9,20030628,       1338,    47.0005,   -19.9978,       4535,  1603.4,   3.8437,  34.9300,2,-999.0000,9,    262.4,2,  -999.0,9, -999.00,9, -999.00,9, -999.00,9, -999.00,9,-999.000,9,-999.000,9,-999.000,9,  -999.0,9,  -999.0,9,   -999.0,9,  -999.00,-999.0000,9,  -999.00,-999.000,9,-999.000,9,-999.000,9, -999.00,9,  -999.0,9,  -999.0,-999.000,9,-999.000,-999.000,9, -999.00,9, -999.00,9, 1603.40,-999.0000,9,-999.0000,9,-999.0000,9,-999.0000,9,-999.0000,9,-999.0000,9,   3.7160,     -999.0,9,     -999.0,9,     -999.0,9,     -999.0,9,         37,-999.000,-999.000,-999.000,     -999.0,9, -999.00,9, -999.00,9
33RO200306_01,       A16N,     037,          1,         13,         13,2,20030628,       1338,    47.0005,   -19.9978,       4535,  1999.9,   3.3602,  34.8967,2,  34.8958,2,    273.3,2,  -999.0,9, -999.00,9, -999.00,9, -999.00,9, -999.00,9,   2.752,2,   1.350,2,   0.163,2,  -999.0,9,  -999.0,9,   -999.0,9,  -999.00,-999.0000,9,  -999.00,-999.000,9,-999.000,9,-999.000,9, -999.00,9,  -999.0,9,  -999.0,-999.000,9,-999.000,-999.000,9,   44.07,2,   22.28,2, 1999.90,-999.0000,9,-999.0000,9,-999.0000,9,-999.0000,9,-999.0000,9,-999.0000,9,   3.2024,     -999.0,9,     -999.0,9,     -999.0,9,     -999.0,9,         37,-999.000,-999.000,-999.000,     -999.0,9, -999.00,9, -999.00,9
33RO200306_01,       A16N,     037,          1,         14,         14,2,20030628,       1338,    47.0005,   -19.9978,       4535,  2000.1,   3.3608,  34.8967,2,  34.8958,2,    273.3,2,   275.1,2,   12.06,6,   17.27,6,    0.00,6,    1.11,6,-999.000,9,-999.000,9,-999.000,9,  2155.7,2,  2326.3,2,   -999.0,9,  -999.00,   7.7296,2,    25.00,-999.000,9,-999.000,9,-999.000,9, -999.00,9,  -999.0,9,  -999.0,-999.000,9,-999.000,-999.000,9, -999.00,9, -999.00,9, 2000.10,-999.0000,9,-999.0000,9,-999.0000,9,-999.0000,9,-999.0000,9,-999.0000,9,   3.2030,     -999.0,9,     -999.0,9,     -999.0,9,     -999.0,9,         37,-999.000,-999.000,-999.000,     -999.0,9, -999.00,9, -999.00,9
33RO200306_01,       A16N,     037,          1,         11,         11,2,20030628,       1338,    47.0005,   -19.9978,       4535,  2503.7,   3.2449,  34.9438,2,  34.9434,2,    262.6,2,  -999.0,9, -999.00,9, -999.00,9, -999.00,9, -999.00,9,   1.346,2,   0.663,2,   0.058,2,  -999.0,9,  -999.0,9,   -999.0,9,  -999.00,-999.0000,9,  -999.00,   0.550,2,-999.000,9,-999.000,9, -999.00,9,  -999.0,9,  -999.0,-999.000,9,-999.000,-999.000,9,   42.68,2,   20.99,2, 2503.70,-999.0000,9,-999.0000,9,-999.0000,9,-999.0000,9,-999.0000,9,-999.0000,9,   3.0401,     -999.0,9,     -999.0,9,     -999.0,9,     -999.0,9,         37,-999.000,-999.000,   0.020,     -999.0,9, -999.00,9, -999.00,9
33RO200306_01,       A16N,     037,          1,         12,         12,2,20030628,       1338,    47.0005,   -19.9978,       4535,  2504.0,   3.2450,  34.9439,2,  34.9430,2,    262.6,2,   262.5,2,   17.53,6,   17.80,6,    0.01,6,    1.16,6,-999.000,9,-999.000,9,-999.000,9,  2162.2,2,  -999.0,9,   -999.0,9,  -999.00,-999.0000,9,  -999.00,-999.000,9,-999.000,9,-999.000,9, -999.00,9,  -999.0,9,  -999.0,-999.000,9,-999.000,-999.000,9, -999.00,9, -999.00,9, 2504.00,-999.0000,9,-999.0000,9,-999.0000,9,-999.0000,9,-999.0000,9,-999.0000,9,   3.0402,     -999.0,9,     -999.0,9,     -999.0,9,     -999.0,9,         37,-999.000,-999.000,-999.000,     -999.0,9, -999.00,9, -999.00,9
33RO200306_01,       A16N,     037,          1,          8,          8,9,20030628,       1338,    47.0005,   -19.9978,       4535,  3001.3,   2.9074,  34.9489,2,-999.0000,9,    251.9,2,  -999.0,9, -999.00,9, -999.00,9, -999.00,9, -999.00,9,-999.000,9,-999.000,9,-999.000,9,  -999.0,9,  -999.0,9,   -999.0,9,  -999.00,-999.0000,9,  -999.00,-999.000,9,-999.000,9,-999.000,9, -999.00,9,  -999.0,9,  -999.0,-999.000,9,-999.000,-999.000,9, -999.00,9, -999.00,9, 3001.30,-999.0000,9,-999.0000,9,-999.0000,9,-999.0000,9,-999.0000,9,-999.0000,9,   2.6585,     -999.0,9,     -999.0,9,     -999.0,9,     -999.0,9,         37,-999.000,-999.000,-999.000,     -999.0,9, -999.00,9, -999.00,9
33RO200306_01,       A16N,     037,          1,         10,         10,2,20030628,       1338,    47.0005,   -19.9978,       4535,  3001.5,   2.9080,  34.9487,2,  34.9477,2,    251.9,2,   251.4,2,   27.05,6,   19.14,6,    0.01,6,    1.26,6,   0.660,2,   0.329,2,   0.022,2,  2176.5,2,  2318.6,2,   -999.0,9,  -999.00,   7.7197,2,    25.00,-999.000,9,-999.000,9,-999.000,9, -999.00,9,  -999.0,9,  -999.0,-999.000,9,-999.000,-999.000,9,   41.82,2,   22.91,2, 3001.50,-999.0000,9,-999.0000,9,-999.0000,9,-999.0000,9,-999.0000,9,-999.0000,9,   2.6590,     -999.0,9,     -999.0,9,     -999.0,9,     -999.0,9,         37,-999.000,-999.000,-999.000,     -999.0,9, -999.00,9, -999.00,9
33RO200306_01,       A16N,     037,          1,          9,          9,9,20030628,       1338,    47.0005,   -19.9978,       4535,  3001.8,   2.9079,  34.9487,2,-999.0000,9,    251.9,2,  -999.0,9, -999.00,9, -999.00,9, -999.00,9, -999.00,9,-999.000,9,-999.000,9,-999.000,9,  -999.0,9,  -999.0,9,   -999.0,9,  -999.00,-999.0000,9,  -999.00,-999.000,9,-999.000,9,-999.000,9, -999.00,9,  -999.0,9,  -999.0,-999.000,9,-999.000,-999.000,9, -999.00,9, -999.00,9, 3001.80,-999.0000,9,-999.0000,9,-999.0000,9,-999.0000,9,-999.0000,9,-999.0000,9,   2.6589,     -999.0,9,     -999.0,9,     -999.0,9,     -999.0,9,         37,-999.000,-999.000,-999.000,     -999.0,9, -999.00,9, -999.00,9
33RO200306_01,       A16N,     037,          1,          6,          6,2,20030628,       1338,    47.0005,   -19.9978,       4535,  3500.7,   2.6528,  34.9289,2,  34.9280,2,    242.3,2,  -999.0,9, -999.00,9, -999.00,9, -999.00,9, -999.00,9,   0.279,2,   0.141,2,   0.016,2,  -999.0,9,  -999.0,9,   -999.0,9,  -999.00,-999.0000,9,  -999.00,   0.143,2,-999.000,9,-999.000,9, -999.00,9,  -999.0,9,  -999.0,-999.000,9,-999.000,-999.000,9,   41.46,2,   22.69,2, 3500.70,-999.0000,9,-999.0000,9,-999.0000,9,-999.0000,9,-999.0000,9,-999.0000,9,   2.3564,     -999.0,9,     -999.0,9,     -999.0,9,     -999.0,9,         37,-999.000,-999.000,   0.010,     -999.0,9, -999.00,9, -999.00,9
33RO200306_01,       A16N,     037,          1,          7,          7,2,20030628,       1338,    47.0005,   -19.9978,       4535,  3500.8,   2.6530,  34.9292,2,  34.9272,2,    242.3,2,   242.3,2,   36.70,6,   20.93,6,    0.00,6,    1.40,6,-999.000,9,-999.000,9,-999.000,9,  2190.6,2,  2314.7,2,   -999.0,9,  -999.00,   7.7122,2,    25.00,-999.000,9,-999.000,9,-999.000,9, -999.00,9,  -999.0,9,  -999.0,-999.000,9,-999.000,-999.000,9, -999.00,9, -999.00,9, 3500.80,-999.0000,9,-999.0000,9,-999.0000,9,-999.0000,9,-999.0000,9,-999.0000,9,   2.3566,     -999.0,9,     -999.0,9,     -999.0,9,     -999.0,9,         37,-999.000,-999.000,-999.000,     -999.0,9, -999.00,9, -999.00,9
33RO200306_01,       A16N,     037,          1,          5,          5,9,20030628,       1338,    47.0005,   -19.9978,       4535,  4000.0,   2.5615,  34.9152,2,-999.0000,9,    236.7,2,  -999.0,9, -999.00,9, -999.00,9, -999.00,9, -999.00,9,-999.000,9,-999.000,9,-999.000,9,  -999.0,9,  -999.0,9,   -999.0,9,  -999.00,-999.0000,9,  -999.00,-999.000,9,-999.000,9,-999.000,9, -999.00,9,  -999.0,9,  -999.0,-999.000,9,-999.000,-999.000,9, -999.00,9, -999.00,9, 4000.00,-999.0000,9,-999.0000,9,-999.0000,9,-999.0000,9,-999.0000,9,-999.0000,9,   2.2115,     -999.0,9,     -999.0,9,     -999.0,9,     -999.0,9,         37,-999.000,-999.000,-999.000,     -999.0,9, -999.00,9, -999.00,9
33RO200306_01,       A16N,     037,          1,          4,          4,2,20030628,       1338,    47.0005,   -19.9978,       4535,  4001.7,   2.5613,  34.9151,2,  34.9137,2,    236.6,2,   235.8,2,   42.48,6,   21.81,6,    0.01,6,    1.47,6,   0.084,2,   0.044,2,   0.011,2,  -999.0,9,  -999.0,9,   -999.0,9,  -999.00,-999.0000,9,  -999.00,-999.000,9,-999.000,9,-999.000,9, -999.00,9,  -999.0,9,  -999.0,-999.000,9,-999.000,-999.000,9, -999.00,9, -999.00,9, 4001.70,-999.0000,9,-999.0000,9,-999.0000,9,-999.0000,9,-999.0000,9,-999.0000,9,   2.2111,     -999.0,9,     -999.0,9,     -999.0,9,     -999.0,9,         37,-999.000,-999.000,-999.000,     -999.0,9, -999.00,9, -999.00,9
33RO200306_01,       A16N,     037,          1,          2,          2,2,20030628,       1338,    47.0005,   -19.9978,       4535,  4605.8,   2.5783,  34.9091,2,-999.0000,1,    236.7,2,  -999.0,9, -999.00,9, -999.00,9, -999.00,9, -999.00,9,   0.052,2,   0.027,2,   0.012,2,  -999.0,9,  -999.0,9,   -999.0,9,  -999.00,-999.0000,9,  -999.00,   0.034,2,-999.000,9,-999.000,9, -999.00,9,  -999.0,9,  -999.0,-999.000,9,-999.000,-999.000,9,   41.22,2,   24.15,2, 4605.80,-999.0000,9,-999.0000,9,-999.0000,9,-999.0000,9,-999.0000,9,-999.0000,9,   2.1556,     -999.0,9,     -999.0,9,     -999.0,9,     -999.0,9,         37,-999.000,-999.000,   0.010,     -999.0,9, -999.00,9, -999.00,9
33RO200306_01,       A16N,     037,          1,          3,          3,2,20030628,       1338,    47.0005,   -19.9978,       4535,  4605.9,   2.5784,  34.9091,2,  34.9081,2,    236.7,2,   238.7,2,   44.26,6,   22.13,6,    0.00,6,    1.49,6,-999.000,9,-999.000,9,-999.000,9,  2202.1,2,  -999.0,9,   -999.0,9,  -999.00,-999.0000,9,  -999.00,-999.000,9,-999.000,9,-999.000,9, -999.00,9,  -999.0,9,  -999.0,-999.000,9,-999.000,-999.000,9, -999.00,9, -999.00,9, 4605.90,-999.0000,9,-999.0000,9,-999.0000,9,-999.0000,9,-999.0000,9,-999.0000,9,   2.1557,     -999.0,9,     -999.0,9,     -999.0,9,     -999.0,9,         37,-999.000,-999.000,-999.000,     -999.0,9, -999.00,9, -999.00,9
33RO200306_01,       A16N,     037,          1,          1,          1,9,20030628,       1338,    47.0005,   -19.9978,       4535,  4606.1,   2.5783,  34.9091,2,-999.0000,9,    236.7,2,  -999.0,9, -999.00,9, -999.00,9, -999.00,9, -999.00,9,-999.000,9,-999.000,9,-999.000,9,  -999.0,9,  -999.0,9,   -999.0,9,  -999.00,-999.0000,9,  -999.00,-999.000,9,-999.000,9,-999.000,9, -999.00,9,  -999.0,9,  -999.0,-999.000,9,-999.000,-999.000,9, -999.00,9, -999.00,9, 4606.10,-999.0000,9,-999.0000,9,-999.0000,9,-999.0000,9,-999.0000,9,-999.0000,9,   2.1556,     -999.0,9,     -999.0,9,     -999.0,9,     -999.0,9,         37,-999.000,-999.000,-999.000,     -999.0,9, -999.00,9, -999.00,9