BOTTLE,20230908CCHSIOCBG
EXPOCODE,SECT_ID,STNNBR,CASTNO,SAMPNO,BTLNBR,BTLNBR_FLAG_W,DATE,TIME,LATITUDE,LONGITUDE,DEPTH,CTDPRS,CTDTMP,CTDSAL,CTDSAL_FLAG_W,SALNTY,SALNTY_FLAG_W,CTDOXY,CTDOXY_FLAG_W,OXYGEN,OXYGEN_FLAG_W,SILCAT,SILCAT_FLAG_W,NITRAT,NITRAT_FLAG_W,NITRIT,NITRIT_FLAG_W,PHSPHT,PHSPHT_FLAG_W,CFC-11,CFC-11_FLAG_W,CFC-12,CFC-12_FLAG_W,CFC113,CFC113_FLAG_W,TCARBN,TCARBN_FLAG_W,ALKALI,ALKALI_FLAG_W,FCO2,FCO2_FLAG_W,FCO2TMP,PH_SWS,PH_SWS_FLAG_W,PH_TMP,TRITUM,TRITUM_FLAG_W,HELIUM,HELIUM_FLAG_W,DELHE3,DELHE3_FLAG_W,DELC13,DELC13_FLAG_W,DELC14,DELC14_FLAG_W,C14ERR,NEON,NEON_FLAG_W,NEONER,POC,POC_FLAG_W,DOC,DOC_FLAG_W,TDN,TDN_FLAG_W,CTDRAW,CDOM325,CDOM325_FLAG_W,CDOM340,CDOM340_FLAG_W,CDOM380,CDOM380_FLAG_W,CDOM412,CDOM412_FLAG_W,CDOMSL,CDOMSL_FLAG_W,CDOMSN,CDOMSN_FLAG_W,THETA,PON,PON_FLAG_W,HCFC-22,HCFC-22_FLAG_W,HCFC-142b,HCFC-142b_FLAG_W,HCFC-141b,HCFC-141b_FLAG_W,STNNBR_U,HELIER,DELHER,TRITER,CH3CL,CH3CL_FLAG_W,CH3BR,CH3BR_FLAG_W,CH3I,CH3I_FLAG_W
,,,,,,,,,,,METERS,DBAR,ITS-90,PSS-78,,PSS-78,,UMOL/KG,,UMOL/KG,,UMOL/KG,,UMOL/KG,,UMOL/KG,,UMOL/KG,,PMOL/KG,,PMOL/KG,,PMOL/KG,,UMOL/KG,,UMOL/KG,,UATM,,DEG C,,,DEG C,TU,,NMOL/KG,,PERCNT,,/MILLE,,/MILLE,,/MILLE,NMOL/KG,,NMOL/KG,UG/KG,,UMOL/KG,,UMOL/KG,,DBAR,1/M,,1/M,,1/M,,1/M,,1/NM,,1/NM,,DEG C,UMOL/L,,PMOL/KG,,PMOL/KG,,PMOL/KG,,,NMOL/KG,PERCNT,TU,PMOL/KG,,PMOL/KG,,PMOL/KG,
33RO200306_02,       A16N,     088,          2,         35,         35,2,20030721,       2304,    21.9992,   -27.8762,       5434,     3.5,  24.8048,  37.2481,2,  37.2514,2,    121.1,2,   211.5,2,    0.49,2,    0.06,2,    0.01,2,    0.05,2,   1.874,2,   1.191,2,   0.159,2,  2086.0,6,  2437.4,6,    316.2,2,    20.00,   8.0381,6,    25.00,-999.000,9,-999.000,9,-999.000,9, -999.00,9,  -999.0,9,  -999.0,-999.000,9,-999.000,-999.000,9,   73.41,2,    6.07,2,    3.50,-999.0000,9,-999.0000,9,-999.0000,9,-999.0000,9,-999.0000,9,-999.0000,9,  24.8040,     -999.0,9,       3.98,2,       0.15,2,       0.37,2,         88,-999.000,-999.000,-999.000,       5.51,2,     0.0,2,   12.49,2
33RO200306_02,       A16N,     088,          2,         33,         33,2,20030721,       2304,    21.9992,   -27.8762,       5434,    14.8,  24.8141,  37.2478,2,  37.2492,2,    226.3,2,   210.5,2,    0.48,2,    0.06,2,    0.01,2,    0.05,2,   1.869,2,   1.186,2,   0.162,2,  2085.3,2,  2437.1,2,    316.2,2,    20.00,   8.1118,3,    25.00,-999.000,9,-999.000,9,-999.000,9, -999.00,9,  -999.0,9,  -999.0,-999.000,9,-999.000,-999.000,9,   73.49,2,    6.20,2,   14.80,-999.0000,9,-999.0000,9,-999.0000,9,-999.0000,9,-999.0000,9,-999.0000,9,  24.8109,     -999.0,9,       4.70,2,       0.10,2,       0.90,2,         88,-999.000,-999.000,-999.000,      40.54,2,    0.19,2,   14.66,2
33RO200306_02,       A16N,     088,          2,         32,         32,2,20030721,       2304,    21.9992,   -27.8762,       5434,    44.2,  24.6145,  37.3055,2,  37.3030,2,    205.6,2,   216.0,2,    0.49,2,    0.06,2,    0.01,2,    0.05,2,   1.914,2,   1.221,2,   0.165,2,  2097.6,2,  2441.2,2,    318.8,2,    20.00,-999.0000,9,  -999.00,-999.000,9,-999.000,9,-999.000,9, -999.00,9,  -999.0,9,  -999.0,-999.000,9,-999.000,-999.000,9,   71.79,2,    6.46,2,   44.20,-999.0000,9,-999.0000,9,-999.0000,9,-999.0000,9,-999.0000,9,-999.0000,9,  24.6049,     -999.0,9,     -999.0,9,     -999.0,9,     -999.0,9,         88,-999.000,-999.000,-999.000,     -999.0,9, -999.00,9, -999.00,9
33RO200306_02,       A16N,     088,          2,         31,         31,2,20030721,       2304,    21.9992,   -27.8762,       5434,    65.2,  22.6171,  37.2156,2,  37.2234,2,    222.0,2,   232.1,2,    0.53,2,    0.06,2,    0.01,2,    0.05,2,   2.082,2,   1.308,2,   0.180,2,  2088.4,2,  2434.8,2,    326.1,2,    20.00,   8.0853,2,    25.00,-999.000,9,-999.000,9,-999.000,9, -999.00,9,  -999.0,9,  -999.0,-999.000,9,-999.000,-999.000,9, -999.00,9, -999.00,9,   65.20,-999.0000,9,-999.0000,9,-999.0000,9,-999.0000,9,-999.0000,9,-999.0000,9,  22.6038,     -999.0,9,       4.28,2,       0.21,2,       0.35,2,         88,-999.000,-999.000,-999.000,     141.71,2,    0.45,2,    8.35,2
33RO200306_02,       A16N,     088,          2,         30,         30,2,20030721,       2304,    21.9992,   -27.8762,       5434,    94.0,  21.8788,  37.2300,2,  37.2220,2,    219.2,2,   220.1,2,    0.60,2,    0.06,2,    0.01,2,    0.06,2,   2.141,2,   1.338,2,   0.176,2,  2097.4,3,  2433.8,2,    339.9,2,    20.00,   8.0853,3,    25.00,-999.000,9,-999.000,9,-999.000,9, -999.00,9,  -999.0,9,  -999.0,-999.000,9,-999.000,-999.000,9,   64.88,2,    5.66,2,   94.00,-999.0000,9,-999.0000,9,-999.0000,9,-999.0000,9,-999.0000,9,-999.0000,9,  21.8601,     -999.0,9,     -999.0,9,     -999.0,9,     -999.0,9,         88,-999.000,-999.000,-999.000,     -999.0,9, -999.00,9, -999.00,9
33RO200306_02,       A16N,     088,          2,         29,         29,2,20030721,       2304,    21.9992,   -27.8762,       5434,   114.5,  21.1663,  37.1756,2,  37.1755,2,    211.2,2,   216.1,2,    0.65,2,    0.11,2,    0.03,2,    0.06,2,   2.152,2,   1.329,2,   0.167,2,  2110.4,2,  2430.6,2,    349.9,2,    20.00,   8.0538,2,    25.00,-999.000,9,-999.000,9,-999.000,9, -999.00,9,  -999.0,9,  -999.0,-999.000,9,-999.000,-999.000,9, -999.00,9, -999.00,9,  114.50,-999.0000,9,-999.0000,9,-999.0000,9,-999.0000,9,-999.0000,9,-999.0000,9,  21.1440,     -999.0,9,       4.02,2,       0.20,2,       0.50,2,         88,-999.000,-999.000,-999.000,      34.44,2,     0.0,2,    6.18,2
33RO200306_02,       A16N,     088,          2,         28,         28,2,20030721,       2304,    21.9992,   -27.8762,       5434,   139.6,  20.6038,  37.0844,2,  37.0694,2,    208.3,2,   202.7,2,    0.79,2,    1.07,2,    0.14,2,    0.11,2,   2.218,2,   1.362,2,   0.153,2,  2113.2,2,  2422.9,2,    372.7,2,    20.00,   8.0416,2,    25.00,-999.000,9,-999.000,9,-999.000,9, -999.00,9,  -999.0,9,  -999.0,-999.000,9,-999.000,-999.000,9,   58.46,2,    6.25,2,  139.60,-999.0000,9,-999.0000,9,-999.0000,9,-999.0000,9,-999.0000,9,-999.0000,9,  20.5772,     -999.0,9,     -999.0,9,     -999.0,9,     -999.0,9,         88,-999.000,-999.000,-999.000,     -999.0,9, -999.00,9, -999.00,9
33RO200306_02,       A16N,     088,          2,         27,         27,2,20030721,       2304,    21.9992,   -27.8762,       5434,   155.5,  19.5476,  36.8510,2,  36.8432,2,    199.0,2,   196.4,2,    1.20,2,    3.38,2,    0.05,2,    0.23,2,   2.253,2,   1.373,2,   0.113,2,  2135.0,2,  2407.8,3,    409.2,2,    20.00,-999.0000,9,  -999.00,-999.000,9,-999.000,9,-999.000,9, -999.00,9,  -999.0,9,  -999.0,-999.000,9,-999.000,-999.000,9, -999.00,9, -999.00,9,  155.50,-999.0000,9,-999.0000,9,-999.0000,9,-999.0000,9,-999.0000,9,-999.0000,9,  19.5190,     -999.0,9,       4.00,2,       0.15,2,       1.18,2,         88,-999.000,-999.000,-999.000,      21.86,2,    1.24,2,    1.25,2
33RO200306_02,       A16N,     088,          2,         26,         26,2,20030721,       2304,    21.9992,   -27.8762,       5434,   189.2,  18.1422,  36.5563,2,  36.5493,2,    176.4,2,   179.0,2,    1.84,2,    6.32,2,    0.02,2,    0.39,2,   2.373,2,   1.425,2,   0.057,2,  2127.8,2,  2389.4,2,    457.9,2,    20.00,   7.9638,2,    25.00,-999.000,9,-999.000,9,-999.000,9, -999.00,9,  -999.0,9,  -999.0,-999.000,9,-999.000,-999.000,9,   50.65,2,   10.99,2,  189.20,-999.0000,9,-999.0000,9,-999.0000,9,-999.0000,9,-999.0000,9,-999.0000,9,  18.1092,     -999.0,9,     -999.0,9,     -999.0,9,     -999.0,9,         88,-999.000,-999.000,-999.000,     -999.0,9, -999.00,9, -999.00,9
33RO200306_02,       A16N,     088,          2,         25,         25,2,20030721,       2304,    21.9992,   -27.8762,       5434,   223.6,  17.2994,  36.4111,2,  36.4045,2,    180.7,2,   183.5,2,    2.07,2,    6.86,2,    0.02,2,    0.42,2,   2.405,2,   1.430,2,   0.039,2,  2129.7,2,  2379.7,2,    463.1,2,    20.00,   7.9073,2,    25.00,-999.000,9,-999.000,9,-999.000,9, -999.00,9,  -999.0,9,  -999.0,-999.000,9,-999.000,-999.000,9,   49.35,2,   12.09,2,  223.60,-999.0000,9,-999.0000,9,-999.0000,9,-999.0000,9,-999.0000,9,-999.0000,9,  17.2617,     -999.0,9,       3.78,2,       0.15,2,       0.35,2,         88,-999.000,-999.000,-999.000,      53.89,2,    1.07,2,    0.05,2
33RO200306_02,       A16N,     088,          2,         24,         24,2,20030721,       2304,    21.9992,   -27.8762,       5434,   274.7,  16.4555,  36.2682,2,  36.2564,2,    190.8,2,   189.3,2,    2.37,2,    7.62,2,    0.02,2,    0.46,2,   2.480,2,   1.451,2,   0.035,2,  2126.7,2,  2373.8,2,    473.3,2,    20.00,   7.8683,2,    25.00,-999.000,9,-999.000,9,-999.000,9, -999.00,9,  -999.0,9,  -999.0,-999.000,9,-999.000,-999.000,9,   47.24,2,   11.69,2,  274.70,-999.0000,9,-999.0000,9,-999.0000,9,-999.0000,9,-999.0000,9,-999.0000,9,  16.4107,     -999.0,9,     -999.0,9,     -999.0,9,     -999.0,9,         88,-999.000,-999.000,-999.000,     -999.0,9, -999.00,9, -999.00,9
33RO200306_02,       A16N,     088,          2,         23,         23,2,20030721,       2304,    21.9992,   -27.8762,       5434,   324.6,  15.0571,  36.0463,2,  36.0394,2,    176.2,2,   178.4,2,    3.63,2,   11.06,2,    0.01,2,    0.67,2,   2.453,2,   1.385,2,   0.029,2,  2137.3,2,  2359.7,2,    537.8,2,    20.00,   7.8616,2,    25.00,-999.000,9,-999.000,9,-999.000,9, -999.00,9,  -999.0,9,  -999.0,-999.000,9,-999.000,-999.000,9,   47.48,2,   16.00,2,  324.60,-999.0000,9,-999.0000,9,-999.0000,9,-999.0000,9,-999.0000,9,-999.0000,9,  15.0072,     -999.0,9,       3.27,2,       0.14,2,       0.27,2,         88,-999.000,-999.000,-999.000,      23.75,2,    0.22,2,    0.02,2
33RO200306_02,       A16N,     088,          2,         22,         22,2,20030721,       2304,    21.9992,   -27.8762,       5434,   375.2,  14.2517,  35.9278,2,  35.9255,2,    163.4,2,   164.3,2,    4.75,2,   13.90,2,    0.01,2,    0.83,2,   2.300,2,   1.271,2,   0.025,2,  2151.9,2,  2350.1,2,    595.9,2,    20.00,   7.7954,2,    25.00,-999.000,9,-999.000,9,-999.000,9, -999.00,9,  -999.0,9,  -999.0,-999.000,9,-999.000,-999.000,9,   47.07,2,   17.80,2,  375.20,-999.0000,9,-999.0000,9,-999.0000,9,-999.0000,9,-999.0000,9,-999.0000,9,  14.1961,     -999.0,9,     -999.0,9,     -999.0,9,     -999.0,9,         88,-999.000,-999.000,-999.000,     -999.0,9, -999.00,9, -999.00,9
33RO200306_02,       A16N,     088,          2,         21,         21,2,20030721,       2304,    21.9992,   -27.8762,       5434,   449.1,  13.0581,  35.7678,2,  35.7588,2,    163.7,2,   163.9,2,    5.95,2,   16.02,2,    0.01,2,    0.96,2,   2.124,2,   1.139,2,   0.030,2,  2159.4,2,  2344.9,2,    646.2,2,    20.00,   7.7949,2,    25.00,-999.000,9,-999.000,9,-999.000,9, -999.00,9,  -999.0,9,  -999.0,-999.000,9,-999.000,-999.000,9,   46.91,2,   19.20,2,  449.10,-999.0000,9,-999.0000,9,-999.0000,9,-999.0000,9,-999.0000,9,-999.0000,9,  12.9951,     -999.0,9,       2.57,2,       0.04,2,       0.18,2,         88,-999.000,-999.000,-999.000,      61.39,2,    0.93,2,    0.04,2
33RO200306_02,       A16N,     088,          2,         20,         20,2,20030721,       2304,    21.9992,   -27.8762,       5434,   549.8,  11.5745,  35.5728,2,  35.5722,2,    148.0,2,   145.7,2,    8.54,2,   20.47,2,    0.01,2,    1.23,2,   1.601,2,   0.837,2,   0.023,2,  2178.2,2,  2335.6,2,    758.9,2,    20.00,   7.7390,2,    25.00,-999.000,9,-999.000,9,-999.000,9, -999.00,9,  -999.0,9,  -999.0,-999.000,9,-999.000,-999.000,9,   46.83,2,   24.30,2,  549.80,-999.0000,9,-999.0000,9,-999.0000,9,-999.0000,9,-999.0000,9,-999.0000,9,  11.5029,     -999.0,9,     -999.0,9,     -999.0,9,     -999.0,9,         88,-999.000,-999.000,-999.000,     -999.0,9, -999.00,9, -999.00,9
33RO200306_02,       A16N,     088,          2,         19,         19,2,20030721,       2304,    21.9992,   -27.8762,       5434,   649.1,  10.0746,  35.3895,2,  35.3943,2,    138.7,2,   134.5,2,   12.24,2,   24.29,2,    0.01,2,    1.50,2,   0.854,2,   0.441,2,   0.008,2,  2194.9,2,  2329.7,2,    860.4,2,    20.00,   7.6905,2,    25.00,-999.000,9,-999.000,9,-999.000,9, -999.00,9,  -999.0,9,  -999.0,-999.000,9,-999.000,-999.000,9,   46.34,2,   29.80,2,  649.10,-999.0000,9,-999.0000,9,-999.0000,9,-999.0000,9,-999.0000,9,-999.0000,9,   9.9968,     -999.0,9,       0.61,2,       0.00,2,       0.11,2,         88,-999.000,-999.000,-999.000,       43.8,2,    0.74,2,    0.11,2
33RO200306_02,       A16N,     088,          2,         18,         18,2,20030721,       2304,    21.9992,   -27.8762,       5434,   799.3,   8.0960,  35.1677,2,  35.1716,2,    135.8,2,   131.5,2,   17.51,2,   27.73,2,    0.01,2,    1.77,2,   0.232,2,   0.124,2,   0.004,2,  2205.7,2,  2323.3,2,    954.9,2,    20.00,   7.6371,2,    25.00,-999.000,9,-999.000,9,-999.000,9, -999.00,9,  -999.0,9,  -999.0,-999.000,9,-999.000,-999.000,9,   44.96,2,   31.56,2,  799.30,-999.0000,9,-999.0000,9,-999.0000,9,-999.0000,9,-999.0000,9,-999.0000,9,   8.0112,     -999.0,9,     -999.0,9,     -999.0,9,     -999.0,9,         88,-999.000,-999.000,-999.000,     -999.0,9, -999.00,9, -999.00,9
33RO200306_02,       A16N,     088,          2,         17,         17,2,20030721,       2304,    21.9992,   -27.8762,       5434,   949.2,   6.5592,  35.0249,2,  35.0220,2,    141.9,2,   145.8,2,   21.35,2,   28.99,2,    0.01,2,    1.90,2,   0.065,2,   0.037,2,  -0.001,2,  2209.3,6,  2321.1,6,   1002.1,6,    20.00,   7.6266,6,    25.00,-999.000,9,-999.000,9,-999.000,9, -999.00,9,  -999.0,9,  -999.0,-999.000,9,-999.000,-999.000,9,   41.79,2,   32.17,2,  949.20,-999.0000,9,-999.0000,9,-999.0000,9,-999.0000,9,-999.0000,9,-999.0000,9,   6.4686,     -999.0,9,       0.00,2,       0.00,2,       0.15,2,         88,-999.000,-999.000,-999.000,     130.54,2,    1.94,2,     0.0,2
33RO200306_02,       A16N,     088,          2,         16,         16,2,20030721,       2304,    21.9992,   -27.8762,       5434,  1099.3,   5.9733,  35.0445,2,  35.0448,2,    166.9,2,   168.4,2,   20.78,2,   26.78,2,    0.01,2,    1.77,2,   0.046,2,   0.027,2,   0.002,2,  2200.7,2,  2322.8,2,    927.9,2,    20.00,   7.6235,2,    25.00,-999.000,9,-999.000,9,-999.000,9, -999.00,9,  -999.0,9,  -999.0,-999.000,9,-999.000,-999.000,9,   40.98,2,   30.45,2, 1099.30,-999.0000,9,-999.0000,9,-999.0000,9,-999.0000,9,-999.0000,9,-999.0000,9,   5.8720,     -999.0,9,     -999.0,9,     -999.0,9,     -999.0,9,         88,-999.000,-999.000,-999.000,     -999.0,9, -999.00,9, -999.00,9
33RO200306_02,       A16N,     088,          2,         15,         15,2,20030721,       2304,    21.9992,   -27.8762,       5434,  1249.1,   5.5640,  35.0777,2,  35.0209,4,    186.2,2,   186.4,2,   20.11,2,   24.86,2,    0.01,2,    1.65,2,   0.031,2,   0.019,2,   0.001,2,  2193.8,2,  2325.8,2,    869.1,2,    20.00,   7.6625,2,    25.00,-999.000,9,-999.000,9,-999.000,9, -999.00,9,  -999.0,9,  -999.0,-999.000,9,-999.000,-999.000,9,   42.85,2,   29.57,2, 1249.10,-999.0000,9,-999.0000,9,-999.0000,9,-999.0000,9,-999.0000,9,-999.0000,9,   5.4513,     -999.0,9,       0.00,2,       0.00,2,       0.14,2,         88,-999.000,-999.000,-999.000,      12.73,2,     0.0,2,    0.09,2
33RO200306_02,       A16N,     088,          2,         14,         14,2,20030721,       2304,    21.9992,   -27.8762,       5434,  1449.8,   5.0472,  35.0914,2,  35.0919,2,    204.5,2,   205.9,2,   19.83,2,   22.86,2,    0.01,2,    1.53,2,   0.015,2,   0.015,2,   0.002,2,  2184.2,2,  2326.8,2,    812.7,2,    20.00,-999.0000,9,  -999.00,-999.000,9,-999.000,9,-999.000,9, -999.00,9,  -999.0,9,  -999.0,-999.000,9,-999.000,-999.000,9,   40.17,2,   26.16,2, 1449.80,-999.0000,9,-999.0000,9,-999.0000,9,-999.0000,9,-999.0000,9,-999.0000,9,   4.9199,     -999.0,9,     -999.0,9,     -999.0,9,     -999.0,9,         88,-999.000,-999.000,-999.000,     -999.0,9, -999.00,9, -999.00,9
33RO200306_02,       A16N,     088,          2,         13,         13,2,20030721,       2304,    21.9992,   -27.8762,       5434,  1750.0,   4.3843,  35.0737,2,  35.0732,2,    222.9,2,   224.6,2,   21.55,2,   21.62,2,    0.01,2,    1.45,2,   0.013,2,   0.004,2,   0.002,2,  2180.1,2,  2329.8,2,   -999.0,9,  -999.00,   7.7010,2,    25.00,-999.000,9,-999.000,9,-999.000,9, -999.00,9,  -999.0,9,  -999.0,-999.000,9,-999.000,-999.000,9,   41.22,2,   26.40,2, 1750.00,-999.0000,9,-999.0000,9,-999.0000,9,-999.0000,9,-999.0000,9,-999.0000,9,   4.2356,     -999.0,9,       0.01,2,       0.00,2,       0.12,2,         88,-999.000,-999.000,-999.000,      29.04,2,     0.0,2,    0.16,2
33RO200306_02,       A16N,     088,          2,         12,         12,2,20030721,       2304,    21.9992,   -27.8762,       5434,  2048.8,   3.7370,  35.0229,2,  35.0224,2,    236.7,2,   234.7,2,   24.60,2,   21.17,2,    0.01,2,    1.44,2,   0.002,2,   0.002,2,   0.000,2,  2178.4,2,  2330.4,2,    761.9,2,    20.00,   7.7220,2,    25.00,-999.000,9,-999.000,9,-999.000,9, -999.00,9,  -999.0,9,  -999.0,-999.000,9,-999.000,-999.000,9,   41.39,2,   25.07,2, 2048.80,-999.0000,9,-999.0000,9,-999.0000,9,-999.0000,9,-999.0000,9,-999.0000,9,   3.5685,     -999.0,9,     -999.0,9,     -999.0,9,     -999.0,9,         88,-999.000,-999.000,-999.000,     -999.0,9, -999.00,9, -999.00,9
33RO200306_02,       A16N,     088,          2,         11,         11,2,20030721,       2304,    21.9992,   -27.8762,       5434,  2349.7,   3.3270,  34.9897,2,  34.9899,2,    240.6,2,   242.4,2,   28.33,2,   21.19,2,    0.01,2,    1.45,2,  -0.003,2,   0.002,2,   0.000,2,  2181.7,2,  2334.0,2,   -999.0,9,  -999.00,   7.7149,2,    25.00,-999.000,9,-999.000,9,-999.000,9, -999.00,9,  -999.0,9,  -999.0,-999.000,9,-999.000,-999.000,9,   41.05,2,   24.97,2, 2349.70,-999.0000,9,-999.0000,9,-999.0000,9,-999.0000,9,-999.0000,9,-999.0000,9,   3.1358,     -999.0,9,       0.00,2,       0.00,2,       0.07,2,         88,-999.000,-999.000,-999.000,       27.4,2,    0.39,2,    0.11,2
33RO200306_02,       A16N,     088,          2,         10,         10,2,20030721,       2304,    21.9992,   -27.8762,       5434,  2648.7,   3.0119,  34.9659,2,  34.9663,2,    244.0,2,   243.6,2,   31.86,2,   21.10,2,    0.01,2,    1.45,2,-999.000,9,-999.000,9,-999.000,9,  2185.9,2,  2339.4,2,    758.9,2,    20.00,   7.7144,2,    25.00,-999.000,9,-999.000,9,-999.000,9, -999.00,9,  -999.0,9,  -999.0,-999.000,9,-999.000,-999.000,9,   40.17,2,   25.24,2, 2648.70,-999.0000,9,-999.0000,9,-999.0000,9,-999.0000,9,-999.0000,9,-999.0000,9,   2.7969,     -999.0,9,     -999.0,9,     -999.0,9,     -999.0,9,         88,-999.000,-999.000,-999.000,     -999.0,9, -999.00,9, -999.00,9
33RO200306_02,       A16N,     088,          2,          9,          9,2,20030721,       2304,    21.9992,   -27.8762,       5434,  2947.5,   2.7538,  34.9419,2,  34.9409,2,    244.5,2,   244.5,2,   35.85,2,   21.38,2, -999.00,0,    1.48,2,   0.000,2,   0.005,2,   0.001,2,  2189.6,2,  2345.0,2,   -999.0,9,  -999.00,   7.7143,2,    25.00,-999.000,9,-999.000,9,-999.000,9, -999.00,9,  -999.0,9,  -999.0,-999.000,9,-999.000,-999.000,9,   41.54,2,   26.26,2, 2947.50,-999.0000,9,-999.0000,9,-999.0000,9,-999.0000,9,-999.0000,9,-999.0000,9,   2.5138,     -999.0,9,       0.00,2,       0.00,2,       0.15,2,         88,-999.000,-999.000,-999.000,      79.81,2,    0.83,2,    0.13,2
33RO200306_02,       A16N,     088,          2,          8,          8,2,20030721,       2304,    21.9992,   -27.8762,       5434,  3249.7,   2.5802,  34.9241,2,  34.9258,2,    245.6,2,   246.1,2,   39.23,2,   21.65,2,    0.01,2,    1.50,2,-999.000,9,-999.000,9,-999.000,9,  2192.4,2,  2344.9,2,    759.1,2,    20.00,   7.7221,2,    25.00,-999.000,9,-999.000,9,-999.000,9, -999.00,9,  -999.0,9,  -999.0,-999.000,9,-999.000,-999.000,9,   41.05,2,   26.51,2, 3249.70,-999.0000,9,-999.0000,9,-999.0000,9,-999.0000,9,-999.0000,9,-999.0000,9,   2.3126,     -999.0,9,     -999.0,9,     -999.0,9,     -999.0,9,         88,-999.000,-999.000,-999.000,     -999.0,9, -999.00,9, -999.00,9