BOTTLE,20230908CCHSIOCBG
EXPOCODE,SECT_ID,STNNBR,CASTNO,SAMPNO,BTLNBR,BTLNBR_FLAG_W,DATE,TIME,LATITUDE,LONGITUDE,DEPTH,CTDPRS,CTDTMP,CTDSAL,CTDSAL_FLAG_W,SALNTY,SALNTY_FLAG_W,CTDOXY,CTDOXY_FLAG_W,OXYGEN,OXYGEN_FLAG_W,SILCAT,SILCAT_FLAG_W,NITRAT,NITRAT_FLAG_W,NITRIT,NITRIT_FLAG_W,PHSPHT,PHSPHT_FLAG_W,CFC-11,CFC-11_FLAG_W,CFC-12,CFC-12_FLAG_W,CFC113,CFC113_FLAG_W,TCARBN,TCARBN_FLAG_W,ALKALI,ALKALI_FLAG_W,FCO2,FCO2_FLAG_W,FCO2TMP,PH_SWS,PH_SWS_FLAG_W,PH_TMP,TRITUM,TRITUM_FLAG_W,HELIUM,HELIUM_FLAG_W,DELHE3,DELHE3_FLAG_W,DELC13,DELC13_FLAG_W,DELC14,DELC14_FLAG_W,C14ERR,NEON,NEON_FLAG_W,NEONER,POC,POC_FLAG_W,DOC,DOC_FLAG_W,TDN,TDN_FLAG_W,CTDRAW,CDOM325,CDOM325_FLAG_W,CDOM340,CDOM340_FLAG_W,CDOM380,CDOM380_FLAG_W,CDOM412,CDOM412_FLAG_W,CDOMSL,CDOMSL_FLAG_W,CDOMSN,CDOMSN_FLAG_W,THETA,PON,PON_FLAG_W,HCFC-22,HCFC-22_FLAG_W,HCFC-142b,HCFC-142b_FLAG_W,HCFC-141b,HCFC-141b_FLAG_W,STNNBR_U,HELIER,DELHER,TRITER,CH3CL,CH3CL_FLAG_W,CH3BR,CH3BR_FLAG_W,CH3I,CH3I_FLAG_W
,,,,,,,,,,,METERS,DBAR,ITS-90,PSS-78,,PSS-78,,UMOL/KG,,UMOL/KG,,UMOL/KG,,UMOL/KG,,UMOL/KG,,UMOL/KG,,PMOL/KG,,PMOL/KG,,PMOL/KG,,UMOL/KG,,UMOL/KG,,UATM,,DEG C,,,DEG C,TU,,NMOL/KG,,PERCNT,,/MILLE,,/MILLE,,/MILLE,NMOL/KG,,NMOL/KG,UG/KG,,UMOL/KG,,UMOL/KG,,DBAR,1/M,,1/M,,1/M,,1/M,,1/NM,,1/NM,,DEG C,UMOL/L,,PMOL/KG,,PMOL/KG,,PMOL/KG,,,NMOL/KG,PERCNT,TU,PMOL/KG,,PMOL/KG,,PMOL/KG,
33RO200306_01,       A16N,     053,          1,         33,         33,2,20030703,       0638,    39.0018,   -19.9992,       4750,     3.2,  20.0549,  35.9426,2,  35.9446,2,    232.5,2,   232.0,2,    0.55,2,    0.00,2,    0.01,2,    0.04,2,   2.439,2,   1.495,2,   0.223,2,  2065.0,2,  2358.9,2,    353.3,2,    20.00,   7.9828,4,    25.00,   1.424,2,   1.728,2,  -2.798,2, -999.00,9,  -999.0,9,  -999.0,   6.954,2,   0.015,-999.000,9,   65.44,2,    6.35,2,    3.20,-999.0000,9,-999.0000,9,-999.0000,9,-999.0000,9,-999.0000,9,-999.0000,9,  20.0543,     -999.0,9,       5.06,2,       0.28,2,       0.63,2,         53,   0.002,   0.357,   0.040,      46.29,2,    2.03,2,   18.55,2
33RO200306_01,       A16N,     053,          1,         35,         35,2,20030703,       0638,    39.0018,   -19.9992,       4750,     3.4,  20.0561,  35.9425,2,  35.9458,2,    232.5,2,   231.8,2,    0.55,2,    0.00,2,    0.01,2,    0.03,2,-999.000,9,-999.000,9,-999.000,9,  -999.0,9,  -999.0,9,   -999.0,9,  -999.00,-999.0000,9,  -999.00,-999.000,9,-999.000,9,-999.000,9, -999.00,9,  -999.0,9,  -999.0,-999.000,9,-999.000,   4.046,2, -999.00,9, -999.00,9,    3.40,-999.0000,9,-999.0000,9,-999.0000,9,-999.0000,9,-999.0000,9,-999.0000,9,  20.0555,      0.431,2,     -999.0,9,     -999.0,9,     -999.0,9,         53,-999.000,-999.000,-999.000,     -999.0,9, -999.00,9, -999.00,9
33RO200306_01,       A16N,     053,          1,         32,         32,2,20030703,       0638,    39.0018,   -19.9992,       4750,    19.4,  19.8246,  35.9658,2,  35.9692,2,    235.0,2,   235.0,2,    0.56,2,    0.01,2,    0.01,2,    0.04,2,-999.000,9,-999.000,9,-999.000,9,  2066.9,6,  2360.5,6,    354.0,2,    20.00,   7.9916,4,    25.00,-999.000,9,-999.000,9,-999.000,9, -999.00,9,  -999.0,9,  -999.0,-999.000,9,-999.000,   6.153,2,   65.44,2,    6.37,2,   19.40,-999.0000,9,-999.0000,9,-999.0000,9,-999.0000,9,-999.0000,9,-999.0000,9,  19.8210,      0.834,2,     -999.0,9,     -999.0,9,     -999.0,9,         53,-999.000,-999.000,-999.000,     -999.0,9, -999.00,9, -999.00,9
33RO200306_01,       A16N,     053,          1,         31,         31,2,20030703,       0638,    39.0018,   -19.9992,       4750,    40.1,  16.7604,  35.8946,2,  35.8916,2,    262.1,2,   265.9,2,    0.57,2,    0.15,2,    0.02,2,    0.06,2,   2.849,2,   1.703,2,   0.246,2,  2068.5,2,  2355.7,2,    365.1,2,    20.00,   7.9749,4,    25.00,   1.271,2,   1.744,2,  -2.345,2, -999.00,9,  -999.0,9,  -999.0,   7.121,2,   0.016,   3.230,2, -999.00,9, -999.00,9,   40.10,-999.0000,9,-999.0000,9,-999.0000,9,-999.0000,9,-999.0000,9,-999.0000,9,  16.7538,      0.465,2,       5.82,2,       0.28,2,       0.69,2,         53,   0.002,   0.123,   0.040,     118.17,2,     2.0,2,   29.39,2
33RO200306_01,       A16N,     053,          1,         30,         30,2,20030703,       0638,    39.0018,   -19.9992,       4750,    59.1,  14.3867,  35.8651,2,  35.8607,2,    260.3,2,   252.9,2,    1.25,2,    2.99,2,    0.30,2,    0.26,2,   3.061,2,   1.807,2,   0.254,2,  2101.0,2,  2351.6,2,    437.4,3,    20.00,   7.9051,4,    25.00,-999.000,9,-999.000,9,-999.000,9, -999.00,9,  -999.0,9,  -999.0,-999.000,9,-999.000,   2.037,2,   57.24,2,    8.15,2,   59.10,-999.0000,9,-999.0000,9,-999.0000,9,-999.0000,9,-999.0000,9,-999.0000,9,  14.3780,      0.167,2,       5.84,2,       0.26,2,       0.51,2,         53,-999.000,-999.000,-999.000,     117.56,2,    1.79,2,    5.82,2
33RO200306_01,       A16N,     053,          1,         29,         29,2,20030703,       0638,    39.0018,   -19.9992,       4750,    79.4,  13.8097,  35.8594,2,  35.8544,2,    240.6,2,   241.2,2,    2.08,2,    5.09,2,    0.57,2,    0.37,2,-999.000,9,-999.000,9,-999.000,9,  2109.1,2,  2348.4,2,    468.9,2,    20.00,   7.8871,4,    25.00,   1.265,2,   1.747,2,  -2.660,2, -999.00,9,  -999.0,9,  -999.0,   7.135,2,   0.025,   1.323,2, -999.00,9, -999.00,9,   79.40,-999.0000,9,-999.0000,9,-999.0000,9,-999.0000,9,-999.0000,9,-999.0000,9,  13.7983,      0.067,2,     -999.0,9,     -999.0,9,     -999.0,9,         53,   0.002,   0.244,   0.080,     -999.0,9, -999.00,9, -999.00,9
33RO200306_01,       A16N,     053,          1,         28,         28,2,20030703,       0638,    39.0018,   -19.9992,       4750,    99.2,  13.5744,  35.8420,2,  35.8441,2,    234.7,2,   238.0,2,    2.22,2,    6.42,2,    0.03,2,    0.41,2,   3.070,2,   1.808,2,   0.237,2,  2110.9,2,  2348.0,2,    481.2,3,    20.00,   7.8811,4,    25.00,-999.000,9,-999.000,9,-999.000,9, -999.00,9,  -999.0,9,  -999.0,-999.000,9,-999.000,   0.751,2,   54.15,2,   11.26,2,   99.20,-999.0000,9,-999.0000,9,-999.0000,9,-999.0000,9,-999.0000,9,-999.0000,9,  13.5603,      0.015,2,       5.37,2,       0.22,2,       0.76,2,         53,-999.000,-999.000,-999.000,      24.42,2,     0.0,2,    1.37,2
33RO200306_01,       A16N,     053,          1,         27,         27,2,20030703,       0638,    39.0018,   -19.9992,       4750,   124.4,  13.4823,  35.8432,2,  35.8399,2,    235.6,2,   236.2,2,    2.36,2,    6.87,2,    0.01,2,    0.43,2,   3.039,2,   1.779,2,   0.224,2,  2116.8,2,  2347.9,2,   -999.0,9,  -999.00,   7.8751,4,    25.00,   1.399,2,   1.762,2,  -1.452,2, -999.00,9,  -999.0,9,  -999.0,   7.268,2,   0.017,-999.000,9, -999.00,9, -999.00,9,  124.40,-999.0000,9,-999.0000,9,-999.0000,9,-999.0000,9,-999.0000,9,-999.0000,9,  13.4647,     -999.0,9,     -999.0,9,     -999.0,9,     -999.0,9,         53,   0.002,   0.122,   0.040,     -999.0,9, -999.00,9, -999.00,9
33RO200306_01,       A16N,     053,          1,         26,         26,2,20030703,       0638,    39.0018,   -19.9992,       4750,   149.6,  13.3247,  35.8268,2,  35.8256,2,    237.2,2,   239.3,2,    2.48,2,    7.15,2,    0.01,2,    0.45,2,   3.078,2,   1.813,2,   0.225,2,  2116.3,2,  2346.7,2,    490.6,2,    20.00,-999.0000,9,  -999.00,-999.000,9,-999.000,9,-999.000,9, -999.00,9,  -999.0,9,  -999.0,-999.000,9,-999.000,-999.000,9,   52.27,2,   11.38,2,  149.60,-999.0000,9,-999.0000,9,-999.0000,9,-999.0000,9,-999.0000,9,-999.0000,9,  13.3037,     -999.0,9,       5.42,2,       0.21,2,       1.07,2,         53,-999.000,-999.000,-999.000,      27.08,2,    3.29,2,    1.47,2
33RO200306_01,       A16N,     053,          1,         25,         25,2,20030703,       0638,    39.0018,   -19.9992,       4750,   174.7,  13.2426,  35.8155,2,  35.8145,2,    237.4,2,   237.6,2,    2.56,2,    7.33,2,    0.01,2,    0.46,2,   3.080,2,   1.814,2,   0.222,2,  2114.0,2,  2346.1,2,   -999.0,9,  -999.00,   7.8720,4,    25.00,-999.000,9,   1.764,2,  -1.824,2, -999.00,9,  -999.0,9,  -999.0,   7.256,2,   0.017,   1.053,2, -999.00,9, -999.00,9,  174.70,-999.0000,9,-999.0000,9,-999.0000,9,-999.0000,9,-999.0000,9,-999.0000,9,  13.2181,      0.136,2,     -999.0,9,     -999.0,9,     -999.0,9,         53,   0.002,   0.122,-999.000,     -999.0,9, -999.00,9, -999.00,9
33RO200306_01,       A16N,     053,          1,         24,         24,2,20030703,       0638,    39.0018,   -19.9992,       4750,   199.7,  13.1570,  35.8039,2,  35.8053,2,    237.3,2,   237.7,2,    2.68,2,    7.60,2,    0.01,2,    0.47,2,   3.078,6,   1.810,6,   0.211,6,  2115.8,2,  2346.8,2,    500.7,2,    20.00,   7.8649,4,    25.00,-999.000,9,-999.000,9,-999.000,9, -999.00,9,  -999.0,9,  -999.0,-999.000,9,-999.000,-999.000,9,   50.90,2,   11.63,2,  199.70,-999.0000,9,-999.0000,9,-999.0000,9,-999.0000,9,-999.0000,9,-999.0000,9,  13.1291,     -999.0,9,     -999.0,9,     -999.0,9,     -999.0,9,         53,-999.000,-999.000,-999.000,     -999.0,9, -999.00,9, -999.00,9
33RO200306_01,       A16N,     053,          1,         23,         23,2,20030703,       0638,    39.0018,   -19.9992,       4750,   250.5,  12.9234,  35.7689,2,  35.7662,2,    234.4,2,   234.8,2,    3.02,2,    8.42,2,    0.01,2,    0.52,2,   3.044,2,   1.764,2,   0.186,2,  2123.7,2,  2344.3,2,   -999.0,9,  -999.00,   7.8471,4,    25.00,-999.000,9,-999.000,9,-999.000,9, -999.00,9,  -999.0,9,  -999.0,-999.000,9,-999.000,-999.000,9,   51.51,2,   12.82,2,  250.50,-999.0000,9,-999.0000,9,-999.0000,9,-999.0000,9,-999.0000,9,-999.0000,9,  12.8888,     -999.0,9,       5.33,2,       0.12,2,       0.50,2,         53,-999.000,-999.000,-999.000,      32.11,2,     1.5,2,    1.23,2
33RO200306_01,       A16N,     053,          1,         22,         22,2,20030703,       0638,    39.0018,   -19.9992,       4750,   299.6,  12.7918,  35.7574,2,  35.7571,2,    237.6,2,  -999.0,1,    3.05,2,    8.53,2,    0.01,2,    0.52,2,   3.075,2,   1.783,2,   0.191,2,  2122.9,2,  2343.4,2,    513.5,2,    20.00,   7.8528,4,    25.00,-999.000,9,-999.000,9,-999.000,9, -999.00,9,  -999.0,9,  -999.0,-999.000,9,-999.000,   0.535,2,   52.12,2,   12.03,2,  299.60,-999.0000,9,-999.0000,9,-999.0000,9,-999.0000,9,-999.0000,9,-999.0000,9,  12.7506,      0.010,2,     -999.0,9,     -999.0,9,     -999.0,9,         53,-999.000,-999.000,-999.000,     -999.0,9, -999.00,9, -999.00,9
33RO200306_01,       A16N,     053,          1,         21,         21,2,20030703,       0638,    39.0018,   -19.9992,       4750,   348.8,  12.5176,  35.7034,2,  35.6995,2,    229.2,2,   228.7,2,    3.52,2,    9.73,2,    0.01,2,    0.59,2,   3.094,2,   1.787,2,   0.155,2,  2128.4,2,  2339.7,2,   -999.0,9,  -999.00,   7.8365,4,    25.00,-999.000,9,-999.000,9,-999.000,9, -999.00,9,  -999.0,9,  -999.0,-999.000,9,-999.000,-999.000,9,   52.43,2,   14.40,2,  348.80,-999.0000,9,-999.0000,9,-999.0000,9,-999.0000,9,-999.0000,9,-999.0000,9,  12.4702,     -999.0,9,       5.15,2,       0.09,2,       0.52,2,         53,-999.000,-999.000,-999.000,        0.0,2,     0.3,2,    0.98,2
33RO200306_01,       A16N,     053,          1,         20,         20,2,20030703,       0638,    39.0018,   -19.9992,       4750,   400.3,  12.0947,  35.6294,2,  35.6279,2,    220.8,2,   220.8,2,    4.10,2,   11.12,2,    0.00,2,    0.68,2,-999.000,9,-999.000,9,-999.000,9,  2136.0,2,  2335.5,2,    571.9,6,    20.00,   7.8167,4,    25.00,-999.000,9,-999.000,9,-999.000,9, -999.00,9,  -999.0,9,  -999.0,-999.000,9,-999.000,-999.000,9,   52.51,2,   14.57,2,  400.30,-999.0000,9,-999.0000,9,-999.0000,9,-999.0000,9,-999.0000,9,-999.0000,9,  12.0414,     -999.0,9,     -999.0,9,     -999.0,9,     -999.0,9,         53,-999.000,-999.000,-999.000,     -999.0,9, -999.00,9, -999.00,9
33RO200306_01,       A16N,     053,          1,         19,         19,2,20030703,       0638,    39.0018,   -19.9992,       4750,   448.6,  11.8220,  35.5907,2,  35.5901,2,    217.5,2,   218.0,2,    4.38,2,   11.77,2,    0.00,2,    0.72,2,   3.082,2,   1.744,2,   0.121,2,  2140.3,2,  2333.0,2,   -999.0,9,  -999.00,   7.8073,4,    25.00,   1.446,2,   1.804,2,   0.396,2, -999.00,9,  -999.0,9,  -999.0,   7.500,2,   0.017,-999.000,9,   51.54,2,   15.55,2,  448.60,-999.0000,9,-999.0000,9,-999.0000,9,-999.0000,9,-999.0000,9,-999.0000,9,  11.7631,     -999.0,9,     -999.0,9,     -999.0,9,     -999.0,9,         53,   0.002,   0.121,   0.040,     -999.0,9, -999.00,9, -999.00,9
33RO200306_01,       A16N,     053,          1,         18,         18,2,20030703,       0638,    39.0018,   -19.9992,       4750,   500.0,  11.4884,  35.5491,2,  35.5473,2,    211.7,2,   212.6,2,    4.95,2,   12.85,2,    0.00,2,    0.79,2,   3.002,2,   1.679,2,   0.110,2,  2143.8,2,  2284.1,4,    608.6,2,    20.00,   7.7823,4,    25.00,-999.000,9,-999.000,9,-999.000,9, -999.00,9,  -999.0,9,  -999.0,-999.000,9,-999.000,-999.000,9,   50.87,2,   17.52,2,  500.00,-999.0000,9,-999.0000,9,-999.0000,9,-999.0000,9,-999.0000,9,-999.0000,9,  11.4238,     -999.0,9,       4.27,2,       0.13,2,       0.54,2,         53,-999.000,-999.000,-999.000,        0.0,2,     0.0,2,    0.72,2
33RO200306_01,       A16N,     053,          1,         17,         17,2,20030703,       0638,    39.0018,   -19.9992,       4750,   599.9,  10.9209,  35.5120,2,  35.5107,2,    202.1,2,   200.6,2,    6.18,2,   14.86,2,    0.00,2,    0.90,2,   2.767,2,   1.509,2,   0.088,2,  2155.4,2,  -999.0,9,   -999.0,9,  -999.00,-999.0000,9,  -999.00,   1.338,2,   1.792,2,   2.554,2, -999.00,9,  -999.0,9,  -999.0,   7.443,2,   0.015,-999.000,9,   50.68,2,   18.67,2,  599.90,-999.0000,9,-999.0000,9,-999.0000,9,-999.0000,9,-999.0000,9,-999.0000,9,  10.8455,     -999.0,9,     -999.0,9,     -999.0,9,     -999.0,9,         53,   0.003,   0.356,   0.040,     -999.0,9, -999.00,9, -999.00,9
33RO200306_01,       A16N,     053,          1,         16,         16,2,20030703,       0638,    39.0018,   -19.9992,       4750,   701.8,  10.3921,  35.5111,2,  35.5095,2,    190.1,2,   189.2,2,    7.83,2,   16.52,2,    0.00,2,    1.01,2,   2.316,2,   1.225,2,   0.068,2,  2166.3,2,  -999.0,9,    687.6,2,    20.00,-999.0000,9,  -999.00,-999.000,9,   1.744,2,   6.579,2, -999.00,9,  -999.0,9,  -999.0,   7.130,4,   0.014,-999.000,9,   47.15,2,   19.64,2,  701.80,-999.0000,9,-999.0000,9,-999.0000,9,-999.0000,9,-999.0000,9,-999.0000,9,  10.3061,     -999.0,9,     -999.0,9,     -999.0,9,     -999.0,9,         53,   0.002,   0.357,-999.000,     -999.0,9, -999.00,9, -999.00,9
33RO200306_01,       A16N,     053,          1,         15,         15,2,20030703,       0638,    39.0018,   -19.9992,       4750,   800.3,  10.0222,  35.5947,2,  35.5940,2,    184.2,2,   185.8,2,    9.01,2,   17.26,2,    0.00,2,    1.07,2,   1.868,2,   0.972,2,   0.047,2,  2171.9,2,  -999.0,9,   -999.0,9,  -999.00,-999.0000,9,  -999.00,   1.161,2,   1.812,2,   6.845,2, -999.00,9,  -999.0,9,  -999.0,   7.568,2,   0.016,-999.000,9,   46.51,2,   20.64,2,  800.30,-999.0000,9,-999.0000,9,-999.0000,9,-999.0000,9,-999.0000,9,-999.0000,9,   9.9257,     -999.0,9,       1.75,2,       0.00,2,       0.29,2,         53,   0.003,   0.356,   0.030,        0.0,2,    0.34,2,    0.44,2
33RO200306_01,       A16N,     053,          1,         14,         14,2,20030703,       0638,    39.0018,   -19.9992,       4750,   900.1,   9.5404,  35.6213,2,  35.6236,2,    184.5,2,   186.7,2,    9.82,2,   17.63,2,    0.00,2,    1.09,2,   1.609,2,   0.838,2,   0.042,2,  2179.3,6,  2347.0,6,    708.5,2,    20.00,   7.7335,4,    25.00,-999.000,9,   1.781,2,   8.965,2, -999.00,9,  -999.0,9,  -999.0,   7.482,2,   0.016,-999.000,9,   45.85,2,   20.88,2,  900.10,-999.0000,9,-999.0000,9,-999.0000,9,-999.0000,9,-999.0000,9,-999.0000,9,   9.4344,     -999.0,9,     -999.0,9,     -999.0,9,     -999.0,9,         53,   0.003,   0.356,-999.000,     -999.0,9, -999.00,9, -999.00,9
33RO200306_01,       A16N,     053,          1,         13,         13,2,20030703,       0638,    39.0018,   -19.9992,       4750,  1000.1,   9.1943,  35.6611,2,  35.6603,2,    189.2,2,   182.6,2,   10.19,2,   17.56,2,    0.00,2,    1.09,2,   1.544,2,   0.799,2,   0.040,2,  2181.0,2,  2351.4,2,   -999.0,9,  -999.00,   7.7320,4,    25.00,   0.966,2,-999.000,9,-999.000,9, -999.00,9,  -999.0,9,  -999.0,-999.000,9,-999.000,-999.000,9,   47.00,2,   21.97,2, 1000.10,-999.0000,9,-999.0000,9,-999.0000,9,-999.0000,9,-999.0000,9,-999.0000,9,   9.0783,     -999.0,9,       1.36,2,       0.00,2,       0.31,2,         53,-999.000,-999.000,   0.030,      49.12,2,    0.62,2,    0.23,2
33RO200306_01,       A16N,     053,          1,         12,         12,2,20030703,       0638,    39.0018,   -19.9992,       4750,  1099.9,   8.0269,  35.5045,2,  35.5122,3,    198.6,2,   201.0,2,   10.88,2,   17.90,2,    0.00,2,    1.12,2,   1.589,2,   0.807,2,   0.051,2,  2177.0,3,  2342.4,2,    715.4,6,    20.00,   7.7346,4,    25.00,-999.000,9,-999.000,9,-999.000,9, -999.00,9,  -999.0,9,  -999.0,-999.000,9,-999.000,-999.000,9,   46.62,2,   21.28,2, 1099.90,-999.0000,9,-999.0000,9,-999.0000,9,-999.0000,9,-999.0000,9,-999.0000,9,   7.9082,     -999.0,9,     -999.0,9,     -999.0,9,     -999.0,9,         53,-999.000,-999.000,-999.000,     -999.0,9, -999.00,9, -999.00,9
33RO200306_01,       A16N,     053,          1,         11,         11,2,20030703,       0638,    39.0018,   -19.9992,       4750,  1199.6,   7.5580,  35.4883,2,  35.4864,2,    206.9,2,   208.1,2,   11.12,2,   17.79,2,    0.00,2,    1.12,2,   1.542,2,   0.780,2,   0.051,2,  2180.7,2,  2340.9,2,   -999.0,9,  -999.00,   7.7239,4,    25.00,   0.742,2,   1.811,2,   8.397,2, -999.00,9,  -999.0,9,  -999.0,   6.838,4,   0.007,-999.000,9,   46.02,2,   20.95,2, 1199.60,-999.0000,9,-999.0000,9,-999.0000,9,-999.0000,9,-999.0000,9,-999.0000,9,   7.4318,     -999.0,9,       1.40,2,       0.00,2,       1.09,2,         53,   0.005,   0.151,   0.010,       2.74,2,    1.11,2,    0.13,2
33RO200306_01,       A16N,     053,          1,         10,         10,2,20030703,       0638,    39.0018,   -19.9992,       4750,  1399.7,   6.2290,  35.3249,2,  35.3195,2,    222.4,2,   226.6,2,   11.65,2,   17.80,2,    0.00,2,    1.13,2,   1.580,2,   0.789,2,   0.061,2,  2173.2,2,  2330.5,2,    739.3,2,    20.00,   7.7164,4,    25.00,-999.000,9,   1.855,3,   7.316,2, -999.00,9,  -999.0,9,  -999.0,   6.808,4,   0.007,-999.000,9,   45.37,2,   21.89,2, 1399.70,-999.0000,9,-999.0000,9,-999.0000,9,-999.0000,9,-999.0000,9,-999.0000,9,   6.0939,     -999.0,9,     -999.0,9,     -999.0,9,     -999.0,9,         53,   0.006,    0.27,-999.000,     -999.0,9, -999.00,9, -999.00,9
33RO200306_01,       A16N,     053,          1,          9,          9,2,20030703,       0638,    39.0018,   -19.9992,       4750,  1601.1,   4.7337,  35.0820,2,  35.0776,2,    249.0,2,   249.4,2,   11.79,2,   17.82,2,    0.00,2,    1.15,2,   1.881,2,   0.920,2,   0.084,2,  2162.5,2,  2313.8,2,   -999.0,9,  -999.00,   7.7029,4,    25.00,   0.837,2,-999.000,9,-999.000,9, -999.00,9,  -999.0,9,  -999.0,-999.000,9,-999.000,-999.000,9,   43.95,2,   21.31,2, 1601.10,-999.0000,9,-999.0000,9,-999.0000,9,-999.0000,9,-999.0000,9,-999.0000,9,   4.5952,     -999.0,9,       1.31,2,       0.00,2,       0.14,2,         53,-999.000,-999.000,   0.030,       94.9,2,    1.61,2,     0.0,2
33RO200306_01,       A16N,     053,          1,          8,          8,2,20030703,       0638,    39.0018,   -19.9992,       4750,  1801.3,   3.9919,  34.9939,2,  34.9943,2,    262.2,2,   262.2,2,   12.21,2,   17.55,2,    0.00,2,    1.14,2,   1.839,2,   0.904,2,   0.086,2,  2159.1,2,  2307.8,2,    752.4,2,    20.00,   7.7048,4,    25.00,-999.000,9,   1.847,2,   8.499,2, -999.00,9,  -999.0,9,  -999.0,   6.799,4,   0.007,-999.000,9,   43.00,2,   21.59,2, 1801.30,-999.0000,9,-999.0000,9,-999.0000,9,-999.0000,9,-999.0000,9,-999.0000,9,   3.8436,     -999.0,9,     -999.0,9,     -999.0,9,     -999.0,9,         53,   0.005,   0.273,-999.000,     -999.0,9, -999.00,9, -999.00,9