BOTTLE,20230908CCHSIOCBG
EXPOCODE,SECT_ID,STNNBR,CASTNO,SAMPNO,BTLNBR,BTLNBR_FLAG_W,DATE,TIME,LATITUDE,LONGITUDE,DEPTH,CTDPRS,CTDTMP,CTDSAL,CTDSAL_FLAG_W,SALNTY,SALNTY_FLAG_W,CTDOXY,CTDOXY_FLAG_W,OXYGEN,OXYGEN_FLAG_W,SILCAT,SILCAT_FLAG_W,NITRAT,NITRAT_FLAG_W,NITRIT,NITRIT_FLAG_W,PHSPHT,PHSPHT_FLAG_W,CFC-11,CFC-11_FLAG_W,CFC-12,CFC-12_FLAG_W,CFC113,CFC113_FLAG_W,TCARBN,TCARBN_FLAG_W,ALKALI,ALKALI_FLAG_W,FCO2,FCO2_FLAG_W,FCO2TMP,PH_SWS,PH_SWS_FLAG_W,PH_TMP,TRITUM,TRITUM_FLAG_W,HELIUM,HELIUM_FLAG_W,DELHE3,DELHE3_FLAG_W,DELC13,DELC13_FLAG_W,DELC14,DELC14_FLAG_W,C14ERR,NEON,NEON_FLAG_W,NEONER,POC,POC_FLAG_W,DOC,DOC_FLAG_W,TDN,TDN_FLAG_W,CTDRAW,CDOM325,CDOM325_FLAG_W,CDOM340,CDOM340_FLAG_W,CDOM380,CDOM380_FLAG_W,CDOM412,CDOM412_FLAG_W,CDOMSL,CDOMSL_FLAG_W,CDOMSN,CDOMSN_FLAG_W,THETA,PON,PON_FLAG_W,HCFC-22,HCFC-22_FLAG_W,HCFC-142b,HCFC-142b_FLAG_W,HCFC-141b,HCFC-141b_FLAG_W,STNNBR_U,HELIER,DELHER,TRITER,CH3CL,CH3CL_FLAG_W,CH3BR,CH3BR_FLAG_W,CH3I,CH3I_FLAG_W
,,,,,,,,,,,METERS,DBAR,ITS-90,PSS-78,,PSS-78,,UMOL/KG,,UMOL/KG,,UMOL/KG,,UMOL/KG,,UMOL/KG,,UMOL/KG,,PMOL/KG,,PMOL/KG,,PMOL/KG,,UMOL/KG,,UMOL/KG,,UATM,,DEG C,,,DEG C,TU,,NMOL/KG,,PERCNT,,/MILLE,,/MILLE,,/MILLE,NMOL/KG,,NMOL/KG,UG/KG,,UMOL/KG,,UMOL/KG,,DBAR,1/M,,1/M,,1/M,,1/M,,1/NM,,1/NM,,DEG C,UMOL/L,,PMOL/KG,,PMOL/KG,,PMOL/KG,,,NMOL/KG,PERCNT,TU,PMOL/KG,,PMOL/KG,,PMOL/KG,
33RO200306_02,       A16N,     099,          1,         35,         35,2,20030725,       0849,    16.5000,   -29.0005,       4873,     3.5,  26.4640,  36.4399,2,  36.4548,2,    202.3,2,   203.0,2,    0.63,2,    0.15,2,    0.00,2,    0.05,2,-999.000,9,-999.000,9,-999.000,9,  2029.6,2,  2386.0,6,   -999.0,9,  -999.00,   8.0929,6,    25.00,-999.000,9,-999.000,9,-999.000,9, -999.00,9,  -999.0,9,  -999.0,-999.000,9,-999.000,-999.000,9, -999.00,9, -999.00,9,    3.50,-999.0000,9,-999.0000,9,-999.0000,9,-999.0000,9,-999.0000,9,-999.0000,9,  26.4632,     -999.0,9,     -999.0,9,     -999.0,9,     -999.0,9,         99,-999.000,-999.000,-999.000,     -999.0,9, -999.00,9, -999.00,9
33RO200306_02,       A16N,     099,          1,         33,         33,2,20030725,       0849,    16.5000,   -29.0005,       4873,    10.0,  26.4604,  36.4393,2,  36.4428,2,    202.9,2,   203.1,2,    0.63,2,    0.14,2,    0.00,2,    0.05,2,-999.000,9,-999.000,9,-999.000,9,  -999.0,9,  -999.0,9,   -999.0,9,  -999.00,-999.0000,9,  -999.00,-999.000,9,-999.000,9,-999.000,9, -999.00,9,  -999.0,9,  -999.0,-999.000,9,-999.000,-999.000,9, -999.00,9, -999.00,9,   10.00,-999.0000,9,-999.0000,9,-999.0000,9,-999.0000,9,-999.0000,9,-999.0000,9,  26.4581,     -999.0,9,     -999.0,9,     -999.0,9,     -999.0,9,         99,-999.000,-999.000,-999.000,     -999.0,9, -999.00,9, -999.00,9
33RO200306_02,       A16N,     099,          1,         32,         32,2,20030725,       0849,    16.5000,   -29.0005,       4873,    29.5,  26.4562,  36.4374,2,  36.4431,2,    202.3,2,   200.8,2,    0.63,2,    0.15,2,    0.00,2,    0.05,2,-999.000,9,-999.000,9,-999.000,9,  -999.0,9,  -999.0,9,   -999.0,9,  -999.00,-999.0000,9,  -999.00,-999.000,9,-999.000,9,-999.000,9, -999.00,9,  -999.0,9,  -999.0,-999.000,9,-999.000,-999.000,9, -999.00,9, -999.00,9,   29.50,-999.0000,9,-999.0000,9,-999.0000,9,-999.0000,9,-999.0000,9,-999.0000,9,  26.4495,     -999.0,9,     -999.0,9,     -999.0,9,     -999.0,9,         99,-999.000,-999.000,-999.000,     -999.0,9, -999.00,9, -999.00,9
33RO200306_02,       A16N,     099,          1,         31,         31,2,20030725,       0849,    16.5000,   -29.0005,       4873,    50.2,  22.2364,  36.3594,2,  36.3897,2,    206.2,2,   200.0,2,    0.97,2,    0.16,2,    0.00,2,    0.11,2,-999.000,9,-999.000,9,-999.000,9,  2076.9,2,  2384.4,2,   -999.0,9,  -999.00,   8.0309,2,    25.00,-999.000,9,-999.000,9,-999.000,9, -999.00,9,  -999.0,9,  -999.0,-999.000,9,-999.000,-999.000,9, -999.00,9, -999.00,9,   50.20,-999.0000,9,-999.0000,9,-999.0000,9,-999.0000,9,-999.0000,9,-999.0000,9,  22.2263,     -999.0,9,     -999.0,9,     -999.0,9,     -999.0,9,         99,-999.000,-999.000,-999.000,     -999.0,9, -999.00,9, -999.00,9
33RO200306_02,       A16N,     099,          1,         30,         30,2,20030725,       0849,    16.5000,   -29.0005,       4873,    70.2,  22.2221,  36.8366,2,  36.8434,2,    190.0,2,   212.5,2,    0.59,2,    0.39,2,    0.02,2,    0.14,2,-999.000,9,-999.000,9,-999.000,9,  -999.0,9,  -999.0,9,   -999.0,9,  -999.00,-999.0000,9,  -999.00,-999.000,9,-999.000,9,-999.000,9, -999.00,9,  -999.0,9,  -999.0,-999.000,9,-999.000,-999.000,9, -999.00,9, -999.00,9,   70.20,-999.0000,9,-999.0000,9,-999.0000,9,-999.0000,9,-999.0000,9,-999.0000,9,  22.2080,     -999.0,9,     -999.0,9,     -999.0,9,     -999.0,9,         99,-999.000,-999.000,-999.000,     -999.0,9, -999.00,9, -999.00,9
33RO200306_02,       A16N,     099,          1,         29,         29,2,20030725,       0849,    16.5000,   -29.0005,       4873,    89.8,  20.5535,  36.8083,2,  36.7735,2,    178.6,2,   172.5,2,    1.37,2,    5.41,2,    0.07,2,    0.40,2,-999.000,9,-999.000,9,-999.000,9,  -999.0,9,  -999.0,9,   -999.0,9,  -999.00,-999.0000,9,  -999.00,   1.187,2,-999.000,9,-999.000,9, -999.00,9,  -999.0,9,  -999.0,-999.000,9,-999.000,-999.000,9, -999.00,9, -999.00,9,   89.80,-999.0000,9,-999.0000,9,-999.0000,9,-999.0000,9,-999.0000,9,-999.0000,9,  20.5364,     -999.0,9,     -999.0,9,     -999.0,9,     -999.0,9,         99,-999.000,-999.000,   0.020,     -999.0,9, -999.00,9, -999.00,9
33RO200306_02,       A16N,     099,          1,         28,         28,2,20030725,       0849,    16.5000,   -29.0005,       4873,   111.8,  18.6350,  36.5170,2,  36.5132,2,    145.1,2,   143.0,2,    2.58,2,   10.53,2,    0.03,2,    0.67,2,-999.000,9,-999.000,9,-999.000,9,  2158.1,2,  2387.5,2,   -999.0,9,  -999.00,   7.8757,2,    25.00,-999.000,9,-999.000,9,-999.000,9, -999.00,9,  -999.0,9,  -999.0,-999.000,9,-999.000,-999.000,9, -999.00,9, -999.00,9,  111.80,-999.0000,9,-999.0000,9,-999.0000,9,-999.0000,9,-999.0000,9,-999.0000,9,  18.6152,     -999.0,9,     -999.0,9,     -999.0,9,     -999.0,9,         99,-999.000,-999.000,-999.000,     -999.0,9, -999.00,9, -999.00,9
33RO200306_02,       A16N,     099,          1,         27,         27,2,20030725,       0849,    16.5000,   -29.0005,       4873,   134.9,  16.9697,  36.2343,2,  36.2267,2,    118.5,2,   120.1,2,    4.10,2,   15.02,2,    0.01,2,    0.92,2,-999.000,9,-999.000,9,-999.000,9,  -999.0,9,  -999.0,9,   -999.0,9,  -999.00,-999.0000,9,  -999.00,-999.000,9,-999.000,9,-999.000,9, -999.00,9,  -999.0,9,  -999.0,-999.000,9,-999.000,-999.000,9, -999.00,9, -999.00,9,  134.90,-999.0000,9,-999.0000,9,-999.0000,9,-999.0000,9,-999.0000,9,-999.0000,9,  16.9473,     -999.0,9,     -999.0,9,     -999.0,9,     -999.0,9,         99,-999.000,-999.000,-999.000,     -999.0,9, -999.00,9, -999.00,9
33RO200306_02,       A16N,     099,          1,         26,         26,2,20030725,       0849,    16.5000,   -29.0005,       4873,   161.4,  15.4629,  35.9839,2,  35.9828,2,    103.7,2,   105.2,2,    5.65,2,   18.66,2,    0.00,2,    1.14,2,-999.000,9,-999.000,9,-999.000,9,  2183.6,2,  2352.7,2,   -999.0,9,  -999.00,   7.7501,2,    25.00,-999.000,9,-999.000,9,-999.000,9, -999.00,9,  -999.0,9,  -999.0,-999.000,9,-999.000,-999.000,9, -999.00,9, -999.00,9,  161.40,-999.0000,9,-999.0000,9,-999.0000,9,-999.0000,9,-999.0000,9,-999.0000,9,  15.4378,     -999.0,9,     -999.0,9,     -999.0,9,     -999.0,9,         99,-999.000,-999.000,-999.000,     -999.0,9, -999.00,9, -999.00,9
33RO200306_02,       A16N,     099,          1,         25,         25,2,20030725,       0849,    16.5000,   -29.0005,       4873,   185.0,  14.9746,  35.9431,2,  35.9395,2,    101.8,2,   110.7,2,    5.79,2,   18.67,2,    0.00,2,    1.13,2,-999.000,9,-999.000,9,-999.000,9,  -999.0,9,  -999.0,9,   -999.0,9,  -999.00,-999.0000,9,  -999.00,-999.000,9,-999.000,9,-999.000,9, -999.00,9,  -999.0,9,  -999.0,-999.000,9,-999.000,-999.000,9, -999.00,9, -999.00,9,  185.00,-999.0000,9,-999.0000,9,-999.0000,9,-999.0000,9,-999.0000,9,-999.0000,9,  14.9464,     -999.0,9,     -999.0,9,     -999.0,9,     -999.0,9,         99,-999.000,-999.000,-999.000,     -999.0,9, -999.00,9, -999.00,9
33RO200306_02,       A16N,     099,          1,         24,         24,2,20030725,       0849,    16.5000,   -29.0005,       4873,   225.5,  13.9879,  35.7625,2,  35.7638,2,    100.1,2,    89.2,2,    7.39,2,   22.23,2,    0.00,2,    1.33,2,-999.000,9,-999.000,9,-999.000,9,  -999.0,9,  -999.0,9,   -999.0,9,  -999.00,-999.0000,9,  -999.00,-999.000,9,-999.000,9,-999.000,9, -999.00,9,  -999.0,9,  -999.0,-999.000,9,-999.000,-999.000,9, -999.00,9, -999.00,9,  225.50,-999.0000,9,-999.0000,9,-999.0000,9,-999.0000,9,-999.0000,9,-999.0000,9,  13.9551,     -999.0,9,     -999.0,9,     -999.0,9,     -999.0,9,         99,-999.000,-999.000,-999.000,     -999.0,9, -999.00,9, -999.00,9
33RO200306_02,       A16N,     099,          1,         23,         23,2,20030725,       0849,    16.5000,   -29.0005,       4873,   274.9,  13.3213,  35.7053,2,  35.7013,2,     94.7,2,    91.5,2,    7.89,2,   22.64,2,    0.00,2,    1.35,2,-999.000,9,-999.000,9,-999.000,9,  2196.9,2,  2338.1,2,   -999.0,9,  -999.00,   7.6878,2,    25.00,-999.000,9,-999.000,9,-999.000,9, -999.00,9,  -999.0,9,  -999.0,-999.000,9,-999.000,-999.000,9, -999.00,9, -999.00,9,  274.90,-999.0000,9,-999.0000,9,-999.0000,9,-999.0000,9,-999.0000,9,-999.0000,9,  13.2825,     -999.0,9,     -999.0,9,     -999.0,9,     -999.0,9,         99,-999.000,-999.000,-999.000,     -999.0,9, -999.00,9, -999.00,9
33RO200306_02,       A16N,     099,          1,         22,         22,2,20030725,       0849,    16.5000,   -29.0005,       4873,   325.8,  12.4597,  35.5692,2,  35.5603,2,     91.0,2,    83.8,2,    9.52,2,   25.43,2,    0.01,2,    1.53,2,-999.000,9,-999.000,9,-999.000,9,  -999.0,9,  -999.0,9,   -999.0,9,  -999.00,-999.0000,9,  -999.00,-999.000,9,-999.000,9,-999.000,9, -999.00,9,  -999.0,9,  -999.0,-999.000,9,-999.000,-999.000,9, -999.00,9, -999.00,9,  325.80,-999.0000,9,-999.0000,9,-999.0000,9,-999.0000,9,-999.0000,9,-999.0000,9,  12.4157,     -999.0,9,     -999.0,9,     -999.0,9,     -999.0,9,         99,-999.000,-999.000,-999.000,     -999.0,9, -999.00,9, -999.00,9
33RO200306_02,       A16N,     099,          1,         21,         21,2,20030725,       0849,    16.5000,   -29.0005,       4873,   375.4,  12.0545,  35.5485,2,  35.5467,2,     89.3,2,    92.3,2,    9.74,2,   25.20,2,    0.01,2,    1.50,2,-999.000,9,-999.000,9,-999.000,9,  -999.0,9,  -999.0,9,   -999.0,9,  -999.00,-999.0000,9,  -999.00,-999.000,9,-999.000,9,-999.000,9, -999.00,9,  -999.0,9,  -999.0,-999.000,9,-999.000,-999.000,9, -999.00,9, -999.00,9,  375.40,-999.0000,9,-999.0000,9,-999.0000,9,-999.0000,9,-999.0000,9,-999.0000,9,  12.0047,     -999.0,9,     -999.0,9,     -999.0,9,     -999.0,9,         99,-999.000,-999.000,-999.000,     -999.0,9, -999.00,9, -999.00,9
33RO200306_02,       A16N,     099,          1,         20,         20,2,20030725,       0849,    16.5000,   -29.0005,       4873,   424.8,  11.3627,  35.4625,2,  35.4615,2,     85.8,2,    88.6,2,   11.10,2,   26.91,2,    0.01,2,    1.62,2,   1.199,2,   0.636,2,   0.008,2,  2211.4,2,  2320.7,2,   -999.0,9,  -999.00,   7.6310,2,    25.00,-999.000,9,-999.000,9,-999.000,9, -999.00,9,  -999.0,9,  -999.0,-999.000,9,-999.000,-999.000,9, -999.00,9, -999.00,9,  424.80,-999.0000,9,-999.0000,9,-999.0000,9,-999.0000,9,-999.0000,9,-999.0000,9,  11.3084,     -999.0,9,     -999.0,9,     -999.0,9,     -999.0,9,         99,-999.000,-999.000,-999.000,     -999.0,9, -999.00,9, -999.00,9
33RO200306_02,       A16N,     099,          1,         19,         19,2,20030725,       0849,    16.5000,   -29.0005,       4873,   475.2,  10.2464,  35.2832,2,  35.2839,2,     79.8,2,    81.4,2,   13.66,2,   29.17,2,    0.02,2,    1.82,2,   0.673,2,   0.362,2,   0.005,2,  -999.0,9,  -999.0,9,   -999.0,9,  -999.00,-999.0000,9,  -999.00,-999.000,9,-999.000,9,-999.000,9, -999.00,9,  -999.0,9,  -999.0,-999.000,9,-999.000,-999.000,9, -999.00,9, -999.00,9,  475.20,-999.0000,9,-999.0000,9,-999.0000,9,-999.0000,9,-999.0000,9,-999.0000,9,  10.1894,     -999.0,9,     -999.0,9,     -999.0,9,     -999.0,9,         99,-999.000,-999.000,-999.000,     -999.0,9, -999.00,9, -999.00,9
33RO200306_02,       A16N,     099,          1,         18,         18,2,20030725,       0849,    16.5000,   -29.0005,       4873,   550.7,   8.7070,  35.0526,2,  35.0540,2,     79.8,2,    81.9,2,   17.67,2,   32.65,2,    0.02,2,    2.05,2,   0.268,2,   0.150,2,   0.003,2,  -999.0,9,  -999.0,9,   -999.0,9,  -999.00,-999.0000,9,  -999.00,-999.000,9,-999.000,9,-999.000,9, -999.00,9,  -999.0,9,  -999.0,-999.000,9,-999.000,-999.000,9, -999.00,9, -999.00,9,  550.70,-999.0000,9,-999.0000,9,-999.0000,9,-999.0000,9,-999.0000,9,-999.0000,9,   8.6471,     -999.0,9,     -999.0,9,     -999.0,9,     -999.0,9,         99,-999.000,-999.000,-999.000,     -999.0,9, -999.00,9, -999.00,9
33RO200306_02,       A16N,     099,          1,         17,         17,2,20030725,       0849,    16.5000,   -29.0005,       4873,   650.2,   7.8673,  34.9595,2,  34.9601,2,     90.9,2,    93.1,2,   19.74,2,   33.06,2,    0.02,2,    2.10,2,   0.147,2,   0.083,2,   0.001,2,  2225.8,2,  2307.9,2,   -999.0,9,  -999.00,   7.5546,2,    25.00,-999.000,9,-999.000,9,-999.000,9, -999.00,9,  -999.0,9,  -999.0,-999.000,9,-999.000,-999.000,9, -999.00,9, -999.00,9,  650.20,-999.0000,9,-999.0000,9,-999.0000,9,-999.0000,9,-999.0000,9,-999.0000,9,   7.8002,     -999.0,9,     -999.0,9,     -999.0,9,     -999.0,9,         99,-999.000,-999.000,-999.000,     -999.0,9, -999.00,9, -999.00,9
33RO200306_02,       A16N,     099,          1,         16,         16,2,20030725,       0849,    16.5000,   -29.0005,       4873,   751.2,   7.1165,  34.9035,2,  34.9032,2,    101.7,2,   103.1,2,   21.92,2,   33.14,2,    0.02,2,    2.15,2,   0.069,2,   0.041,2,   0.002,2,  -999.0,9,  -999.0,9,   -999.0,9,  -999.00,-999.0000,9,  -999.00,-999.000,9,-999.000,9,-999.000,9, -999.00,9,  -999.0,9,  -999.0,-999.000,9,-999.000,-999.000,9, -999.00,9, -999.00,9,  751.20,-999.0000,9,-999.0000,9,-999.0000,9,-999.0000,9,-999.0000,9,-999.0000,9,   7.0428,     -999.0,9,     -999.0,9,     -999.0,9,     -999.0,9,         99,-999.000,-999.000,-999.000,     -999.0,9, -999.00,9, -999.00,9
33RO200306_02,       A16N,     099,          1,         15,         15,2,20030725,       0849,    16.5000,   -29.0005,       4873,   850.2,   6.5418,  34.8807,2,  34.8817,2,    113.4,2,   114.5,2,   23.28,2,   32.67,2,    0.02,2,    2.13,2,   0.034,2,   0.021,2,   0.001,2,  -999.0,9,  -999.0,9,   -999.0,9,  -999.00,-999.0000,9,  -999.00,-999.000,9,-999.000,9,-999.000,9, -999.00,9,  -999.0,9,  -999.0,-999.000,9,-999.000,-999.000,9, -999.00,9, -999.00,9,  850.20,-999.0000,9,-999.0000,9,-999.0000,9,-999.0000,9,-999.0000,9,-999.0000,9,   6.4615,     -999.0,9,     -999.0,9,     -999.0,9,     -999.0,9,         99,-999.000,-999.000,-999.000,     -999.0,9, -999.00,9, -999.00,9
33RO200306_02,       A16N,     099,          1,         14,         14,2,20030725,       0849,    16.5000,   -29.0005,       4873,   950.7,   6.0675,  34.8927,2,  34.8950,2,    129.7,2,   129.7,2,   23.74,2,   31.34,2,    0.02,2,    2.07,2,   0.026,2,   0.013,2,   0.000,2,  2219.1,2,  2310.6,2,   -999.0,9,  -999.00,   7.5809,2,    25.00,-999.000,9,-999.000,9,-999.000,9, -999.00,9,  -999.0,9,  -999.0,-999.000,9,-999.000,-999.000,9, -999.00,9, -999.00,9,  950.70,-999.0000,9,-999.0000,9,-999.0000,9,-999.0000,9,-999.0000,9,-999.0000,9,   5.9804,     -999.0,9,     -999.0,9,     -999.0,9,     -999.0,9,         99,-999.000,-999.000,-999.000,     -999.0,9, -999.00,9, -999.00,9
33RO200306_02,       A16N,     099,          1,         13,         13,2,20030725,       0849,    16.5000,   -29.0005,       4873,  1050.3,   5.7859,  34.9223,2,  34.9230,2,    144.3,2,   141.4,2,   23.57,2,   30.07,2,    0.03,2,    2.00,2,   0.023,2,   0.025,2,   0.004,2,  -999.0,9,  -999.0,9,   -999.0,9,  -999.00,-999.0000,9,  -999.00,-999.000,9,-999.000,9,-999.000,9, -999.00,9,  -999.0,9,  -999.0,-999.000,9,-999.000,-999.000,9, -999.00,9, -999.00,9, 1050.30,-999.0000,9,-999.0000,9,-999.0000,9,-999.0000,9,-999.0000,9,-999.0000,9,   5.6911,     -999.0,9,     -999.0,9,     -999.0,9,     -999.0,9,         99,-999.000,-999.000,-999.000,     -999.0,9, -999.00,9, -999.00,9
33RO200306_02,       A16N,     099,          1,         12,         12,2,20030725,       0849,    16.5000,   -29.0005,       4873,  1150.6,   5.5420,  34.9698,2,  34.9719,2,    162.1,2,   159.2,2,   22.61,2,   27.96,2,    0.03,2,    1.87,2,-999.000,9,-999.000,9,-999.000,9,  -999.0,9,  -999.0,9,   -999.0,9,  -999.00,-999.0000,9,  -999.00,-999.000,9,-999.000,9,-999.000,9, -999.00,9,  -999.0,9,  -999.0,-999.000,9,-999.000,-999.000,9, -999.00,9, -999.00,9, 1150.60,-999.0000,9,-999.0000,9,-999.0000,9,-999.0000,9,-999.0000,9,-999.0000,9,   5.4394,     -999.0,9,     -999.0,9,     -999.0,9,     -999.0,9,         99,-999.000,-999.000,-999.000,     -999.0,9, -999.00,9, -999.00,9
33RO200306_02,       A16N,     099,          1,         11,         11,2,20030725,       0849,    16.5000,   -29.0005,       4873,  1300.8,   5.0087,  34.9982,2,  35.0006,2,    181.4,2,   181.4,2,   22.14,2,   25.71,2,    0.03,2,    1.72,2,-999.000,9,-999.000,9,-999.000,9,  -999.0,9,  -999.0,9,   -999.0,9,  -999.00,-999.0000,9,  -999.00,-999.000,9,-999.000,9,-999.000,9, -999.00,9,  -999.0,9,  -999.0,-999.000,9,-999.000,-999.000,9, -999.00,9, -999.00,9, 1300.80,-999.0000,9,-999.0000,9,-999.0000,9,-999.0000,9,-999.0000,9,-999.0000,9,   4.8964,     -999.0,9,     -999.0,9,     -999.0,9,     -999.0,9,         99,-999.000,-999.000,-999.000,     -999.0,9, -999.00,9, -999.00,9
33RO200306_02,       A16N,     099,          1,         10,         10,2,20030725,       0849,    16.5000,   -29.0005,       4873,  1500.2,   4.4527,  34.9977,2,  34.3460,4,    202.2,2,   203.8,2,   22.27,2,   23.77,2,    0.03,2,    1.60,2,-999.000,9,-999.000,9,-999.000,9,  -999.0,9,  -999.0,9,   -999.0,9,  -999.00,-999.0000,9,  -999.00,-999.000,9,-999.000,9,-999.000,9, -999.00,9,  -999.0,9,  -999.0,-999.000,9,-999.000,-999.000,9, -999.00,9, -999.00,9, 1500.20,-999.0000,9,-999.0000,9,-999.0000,9,-999.0000,9,-999.0000,9,-999.0000,9,   4.3273,     -999.0,9,     -999.0,9,     -999.0,9,     -999.0,9,         99,-999.000,-999.000,-999.000,     -999.0,9, -999.00,9, -999.00,9
33RO200306_02,       A16N,     099,          1,          9,          9,2,20030725,       0849,    16.5000,   -29.0005,       4873,  1700.8,   4.0149,  34.9957,2,  34.9969,2,    221.2,2,   222.7,2,   22.18,2,   22.10,2,    0.03,2,    1.50,2,-999.000,9,-999.000,9,-999.000,9,  -999.0,9,  -999.0,9,   -999.0,9,  -999.00,-999.0000,9,  -999.00,-999.000,9,-999.000,9,-999.000,9, -999.00,9,  -999.0,9,  -999.0,-999.000,9,-999.000,-999.000,9, -999.00,9, -999.00,9, 1700.80,-999.0000,9,-999.0000,9,-999.0000,9,-999.0000,9,-999.0000,9,-999.0000,9,   3.8758,     -999.0,9,     -999.0,9,     -999.0,9,     -999.0,9,         99,-999.000,-999.000,-999.000,     -999.0,9, -999.00,9, -999.00,9
33RO200306_02,       A16N,     099,          1,          8,          8,2,20030725,       0849,    16.5000,   -29.0005,       4873,  1900.6,   3.7355,  34.9864,2,  34.9873,2,    231.5,2,   232.1,2,   23.06,2,   21.38,2,    0.03,2,    1.45,2,-999.000,9,-999.000,9,-999.000,9,  -999.0,9,  -999.0,9,   -999.0,9,  -999.00,-999.0000,9,  -999.00,-999.000,9,-999.000,9,-999.000,9, -999.00,9,  -999.0,9,  -999.0,-999.000,9,-999.000,-999.000,9, -999.00,9, -999.00,9, 1900.60,-999.0000,9,-999.0000,9,-999.0000,9,-999.0000,9,-999.0000,9,-999.0000,9,   3.5813,     -999.0,9,     -999.0,9,     -999.0,9,     -999.0,9,         99,-999.000,-999.000,-999.000,     -999.0,9, -999.00,9, -999.00,9