BOTTLE,20230908CCHSIOCBG
EXPOCODE,SECT_ID,STNNBR,CASTNO,SAMPNO,BTLNBR,BTLNBR_FLAG_W,DATE,TIME,LATITUDE,LONGITUDE,DEPTH,CTDPRS,CTDTMP,CTDSAL,CTDSAL_FLAG_W,SALNTY,SALNTY_FLAG_W,CTDOXY,CTDOXY_FLAG_W,OXYGEN,OXYGEN_FLAG_W,SILCAT,SILCAT_FLAG_W,NITRAT,NITRAT_FLAG_W,NITRIT,NITRIT_FLAG_W,PHSPHT,PHSPHT_FLAG_W,CFC-11,CFC-11_FLAG_W,CFC-12,CFC-12_FLAG_W,CFC113,CFC113_FLAG_W,TCARBN,TCARBN_FLAG_W,ALKALI,ALKALI_FLAG_W,FCO2,FCO2_FLAG_W,FCO2TMP,PH_SWS,PH_SWS_FLAG_W,PH_TMP,TRITUM,TRITUM_FLAG_W,HELIUM,HELIUM_FLAG_W,DELHE3,DELHE3_FLAG_W,DELC13,DELC13_FLAG_W,DELC14,DELC14_FLAG_W,C14ERR,NEON,NEON_FLAG_W,NEONER,POC,POC_FLAG_W,DOC,DOC_FLAG_W,TDN,TDN_FLAG_W,CTDRAW,CDOM325,CDOM325_FLAG_W,CDOM340,CDOM340_FLAG_W,CDOM380,CDOM380_FLAG_W,CDOM412,CDOM412_FLAG_W,CDOMSL,CDOMSL_FLAG_W,CDOMSN,CDOMSN_FLAG_W,THETA,PON,PON_FLAG_W,HCFC-22,HCFC-22_FLAG_W,HCFC-142b,HCFC-142b_FLAG_W,HCFC-141b,HCFC-141b_FLAG_W,STNNBR_U,HELIER,DELHER,TRITER,CH3CL,CH3CL_FLAG_W,CH3BR,CH3BR_FLAG_W,CH3I,CH3I_FLAG_W
,,,,,,,,,,,METERS,DBAR,ITS-90,PSS-78,,PSS-78,,UMOL/KG,,UMOL/KG,,UMOL/KG,,UMOL/KG,,UMOL/KG,,UMOL/KG,,PMOL/KG,,PMOL/KG,,PMOL/KG,,UMOL/KG,,UMOL/KG,,UATM,,DEG C,,,DEG C,TU,,NMOL/KG,,PERCNT,,/MILLE,,/MILLE,,/MILLE,NMOL/KG,,NMOL/KG,UG/KG,,UMOL/KG,,UMOL/KG,,DBAR,1/M,,1/M,,1/M,,1/M,,1/NM,,1/NM,,DEG C,UMOL/L,,PMOL/KG,,PMOL/KG,,PMOL/KG,,,NMOL/KG,PERCNT,TU,PMOL/KG,,PMOL/KG,,PMOL/KG,
33RO200306_01,       A16N,     013,          1,         35,         35,2,20030622,       1015,    58.9985,   -19.9993,       2842,     2.2,  11.6956,  35.2626,2,-999.0000,1,    290.8,2,  -999.0,9, -999.00,1, -999.00,1, -999.00,1, -999.00,1,-999.000,9,-999.000,9,-999.000,9,  -999.0,9,  -999.0,9,   -999.0,9,  -999.00,-999.0000,9,  -999.00,-999.000,9,-999.000,9,-999.000,9, -999.00,9,  -999.0,9,  -999.0,-999.000,9,-999.000,-999.000,9, -999.00,9, -999.00,9,    2.20,-999.0000,9,-999.0000,9,-999.0000,9,-999.0000,9,-999.0000,9,-999.0000,9,  11.6953,     -999.0,9,     -999.0,9,     -999.0,9,     -999.0,9,         13,-999.000,-999.000,-999.000,     -999.0,9, -999.00,9, -999.00,9
33RO200306_01,       A16N,     013,          1,         33,         33,2,20030622,       1015,    58.9985,   -19.9993,       2842,     2.3,  11.6979,  35.2624,2,  35.2660,2,    290.8,2,   291.2,2,    0.16,2,    2.44,2,    0.06,2,    0.21,2,   3.579,2,   1.982,2,   0.308,2,  2063.3,6,  -999.0,9,    395.2,2,    20.00,-999.0000,9,  -999.00,-999.000,9,-999.000,9,-999.000,9,    1.62,2,    54.0,2,     3.4,-999.000,9,-999.000,  17.916,2,   59.59,2,    9.37,2,    2.30,-999.0000,9,-999.0000,9,-999.0000,9,-999.0000,9,-999.0000,9,-999.0000,9,  11.6976,      2.387,2,     -999.0,9,     -999.0,9,     -999.0,9,         13,-999.000,-999.000,-999.000,     -999.0,9, -999.00,9, -999.00,9
33RO200306_01,       A16N,     013,          1,         32,         32,2,20030622,       1015,    58.9985,   -19.9993,       2842,    19.8,  11.4628,  35.2612,2,  35.2645,2,    290.7,2,   284.4,2,    0.21,2,    3.35,2,    0.07,2,    0.28,2,-999.000,9,-999.000,9,-999.000,9,  2077.5,2,  2327.2,2,    429.6,3,    20.00,   7.9527,2,    25.00,-999.000,9,-999.000,9,-999.000,9, -999.00,9,  -999.0,9,  -999.0,-999.000,9,-999.000,  18.046,2, -999.00,9, -999.00,9,   19.80,-999.0000,9,-999.0000,9,-999.0000,9,-999.0000,9,-999.0000,9,-999.0000,9,  11.4603,      2.267,2,     -999.0,9,     -999.0,9,     -999.0,9,         13,-999.000,-999.000,-999.000,     -999.0,9, -999.00,9, -999.00,9
33RO200306_01,       A16N,     013,          1,         31,         31,2,20030622,       1015,    58.9985,   -19.9993,       2842,    40.1,  10.8174,  35.3322,2,  35.3428,2,    275.8,2,   269.1,2,    1.00,2,    6.63,2,    0.19,2,    0.51,2,   3.627,2,   2.007,2,   0.297,2,  2107.6,2,  2328.8,2,    497.5,2,    20.00,   7.8836,2,    25.00,-999.000,9,-999.000,9,-999.000,9, -999.00,9,  -999.0,9,  -999.0,-999.000,9,-999.000,  12.494,2,   52.60,2,   13.36,2,   40.10,-999.0000,9,-999.0000,9,-999.0000,9,-999.0000,9,-999.0000,9,-999.0000,9,  10.8125,      1.596,2,     -999.0,9,     -999.0,9,     -999.0,9,         13,-999.000,-999.000,-999.000,     -999.0,9, -999.00,9, -999.00,9
33RO200306_01,       A16N,     013,          1,         30,         30,2,20030622,       1015,    58.9985,   -19.9993,       2842,    59.1,  10.1382,  35.3553,2,  35.3578,2,    259.3,2,   259.9,2,    3.23,2,   10.08,2,    0.20,2,    0.67,2,   3.569,2,   1.972,2,   0.282,2,  2126.9,2,  2322.1,2,    566.6,2,    20.00,   7.8519,2,    25.00,-999.000,9,   1.761,2,  -2.099,2, -999.00,9,  -999.0,9,  -999.0,   7.334,2,   0.056,  12.096,2, -999.00,9, -999.00,9,   59.10,-999.0000,9,-999.0000,9,-999.0000,9,-999.0000,9,-999.0000,9,-999.0000,9,  10.1313,      1.479,2,     -999.0,9,     -999.0,9,     -999.0,9,         13,   0.003,   0.147,-999.000,     -999.0,9, -999.00,9, -999.00,9
33RO200306_01,       A16N,     013,          1,         29,         29,2,20030622,       1015,    58.9985,   -19.9993,       2842,    79.2,   9.8129,  35.3176,2,  35.3204,2,    268.1,2,   267.2,2,    2.93,2,    9.60,2,    0.28,2,    0.67,2,   3.659,2,   2.020,2,   0.295,2,  2126.0,2,  2321.5,2,    559.9,2,    20.00,   7.8406,2,    25.00,-999.000,9,-999.000,9,-999.000,9, -999.00,9,  -999.0,9,  -999.0,-999.000,9,-999.000,   2.939,2,   49.68,2,   15.16,2,   79.20,-999.0000,9,-999.0000,9,-999.0000,9,-999.0000,9,-999.0000,9,-999.0000,9,   9.8038,      0.517,2,     -999.0,9,     -999.0,9,     -999.0,9,         13,-999.000,-999.000,-999.000,     -999.0,9, -999.00,9, -999.00,9
33RO200306_01,       A16N,     013,          1,         28,         28,2,20030622,       1015,    58.9985,   -19.9993,       2842,    99.4,   9.6731,  35.3190,2,  35.3147,2,    264.7,2,   262.8,2,    4.02,2,   10.92,2,    0.18,2,    0.73,2,   3.586,2,   1.973,2,   0.283,2,  2130.7,2,  2319.0,2,    590.1,2,    20.00,   7.8283,2,    25.00,-999.000,9,-999.000,9,-999.000,9, -999.00,9,  -999.0,9,  -999.0,-999.000,9,-999.000,   3.396,2, -999.00,9, -999.00,9,   99.40,-999.0000,9,-999.0000,9,-999.0000,9,-999.0000,9,-999.0000,9,-999.0000,9,   9.6618,      0.412,2,     -999.0,9,     -999.0,9,     -999.0,9,         13,-999.000,-999.000,-999.000,     -999.0,9, -999.00,9, -999.00,9
33RO200306_01,       A16N,     013,          1,         27,         27,2,20030622,       1015,    58.9985,   -19.9993,       2842,   124.9,   9.4861,  35.2969,2,  35.3008,2,    264.5,2,   269.6,2,    3.90,2,   10.79,2,    0.26,2,    0.73,2,   3.659,2,   2.014,2,   0.289,2,  2130.5,2,  2324.0,2,   -999.0,9,  -999.00,   7.8283,2,    25.00,   1.170,2,   1.708,2,  -2.367,2, -999.00,9,  -999.0,9,  -999.0,   7.264,4,   0.056,-999.000,9,   50.19,2,   16.80,2,  124.90,-999.0000,9,-999.0000,9,-999.0000,9,-999.0000,9,-999.0000,9,-999.0000,9,   9.4721,     -999.0,9,     -999.0,9,     -999.0,9,     -999.0,9,         13,   0.003,   0.148,   0.040,     -999.0,9, -999.00,9, -999.00,9
33RO200306_01,       A16N,     013,          1,         26,         26,2,20030622,       1015,    58.9985,   -19.9993,       2842,   150.1,   9.3867,  35.2931,2,  35.2895,2,    264.2,2,   253.9,2,    4.75,2,   11.87,2,    0.12,2,    0.76,2,   3.647,2,   2.001,2,   0.288,2,  2133.0,2,  2322.7,2,    598.3,2,    20.00,   7.8163,2,    25.00,-999.000,9,-999.000,9,-999.000,9, -999.00,9,  -999.0,9,  -999.0,-999.000,9,-999.000,   3.240,2, -999.00,9, -999.00,9,  150.10,-999.0000,9,-999.0000,9,-999.0000,9,-999.0000,9,-999.0000,9,-999.0000,9,   9.3699,      0.413,2,     -999.0,9,     -999.0,9,     -999.0,9,         13,-999.000,-999.000,-999.000,     -999.0,9, -999.00,9, -999.00,9
33RO200306_01,       A16N,     013,          1,         25,         25,2,20030622,       1015,    58.9985,   -19.9993,       2842,   174.5,   9.3579,  35.2929,2,  35.2941,2,    262.3,2,   264.5,2,    4.47,2,   11.62,2,    0.17,2,    0.75,2,   3.649,2,   2.010,2,   0.291,2,  2130.4,3,  2322.8,2,   -999.0,9,  -999.00,   7.8153,2,    25.00,-999.000,9,-999.000,9,-999.000,9, -999.00,9,  -999.0,9,  -999.0,-999.000,9,-999.000,-999.000,9,   50.41,2,   16.06,2,  174.50,-999.0000,9,-999.0000,9,-999.0000,9,-999.0000,9,-999.0000,9,-999.0000,9,   9.3384,     -999.0,9,     -999.0,9,     -999.0,9,     -999.0,9,         13,-999.000,-999.000,-999.000,     -999.0,9, -999.00,9, -999.00,9
33RO200306_01,       A16N,     013,          1,         24,         24,2,20030622,       1015,    58.9985,   -19.9993,       2842,   203.4,   9.3285,  35.3021,2,  35.3066,2,    264.1,2,   270.4,2,    3.89,2,   11.01,2,    0.34,2,    0.73,2,   3.705,2,   2.038,2,   0.298,2,  2130.0,2,  2324.0,2,    591.3,2,    20.00,   7.8266,2,    25.00,-999.000,9,-999.000,9,-999.000,9, -999.00,9,  -999.0,9,  -999.0,-999.000,9,-999.000,-999.000,9,   49.27,2,   17.14,2,  203.40,-999.0000,9,-999.0000,9,-999.0000,9,-999.0000,9,-999.0000,9,-999.0000,9,   9.3058,     -999.0,9,     -999.0,9,     -999.0,9,     -999.0,9,         13,-999.000,-999.000,-999.000,     -999.0,9, -999.00,9, -999.00,9
33RO200306_01,       A16N,     013,          1,         23,         23,2,20030622,       1015,    58.9985,   -19.9993,       2842,   250.2,   9.2546,  35.3037,2,  35.3102,2,    262.9,2,   263.7,2,    5.25,2,   12.18,2,    0.01,2,    0.78,2,   3.647,2,   2.001,2,   0.291,2,  2133.9,2,  2316.4,2,   -999.0,9,  -999.00,   7.8154,2,    25.00,-999.000,9,-999.000,9,-999.000,9, -999.00,9,  -999.0,9,  -999.0,-999.000,9,-999.000,-999.000,9,   50.08,2,   17.75,2,  250.20,-999.0000,9,-999.0000,9,-999.0000,9,-999.0000,9,-999.0000,9,-999.0000,9,   9.2267,     -999.0,9,     -999.0,9,     -999.0,9,     -999.0,9,         13,-999.000,-999.000,-999.000,     -999.0,9, -999.00,9, -999.00,9
33RO200306_01,       A16N,     013,          1,         22,         22,2,20030622,       1015,    58.9985,   -19.9993,       2842,   299.9,   9.2233,  35.3025,2,  35.3032,2,    262.2,2,   265.7,2,    5.54,2,   12.35,2,    0.01,2,    0.79,2,   3.632,2,   2.000,2,   0.283,2,  2135.0,2,  2317.4,2,    606.4,2,    20.00,   7.8126,2,    25.00,-999.000,9,-999.000,9,-999.000,9, -999.00,9,  -999.0,9,  -999.0,-999.000,9,-999.000,   2.759,2,   48.29,2,   17.35,2,  299.90,-999.0000,9,-999.0000,9,-999.0000,9,-999.0000,9,-999.0000,9,-999.0000,9,   9.1899,      0.347,2,     -999.0,9,     -999.0,9,     -999.0,9,         13,-999.000,-999.000,-999.000,     -999.0,9, -999.00,9, -999.00,9
33RO200306_01,       A16N,     013,          1,         21,         21,2,20030622,       1015,    58.9985,   -19.9993,       2842,   349.8,   8.9523,  35.2583,2,  35.2617,2,    259.7,2,   259.7,2,    5.94,2,   12.95,2,    0.01,2,    0.82,2,   3.597,2,   1.967,2,   0.278,2,  2136.6,2,  2315.4,2,   -999.0,9,  -999.00,   7.8037,2,    25.00,-999.000,9,   1.844,2,  -1.303,2, -999.00,9,  -999.0,9,  -999.0,   7.726,2,   0.025,-999.000,9,   49.35,2,   17.94,2,  349.80,-999.0000,9,-999.0000,9,-999.0000,9,-999.0000,9,-999.0000,9,-999.0000,9,   8.9139,     -999.0,9,     -999.0,9,     -999.0,9,     -999.0,9,         13,   0.003,   0.192,-999.000,     -999.0,9, -999.00,9, -999.00,9
33RO200306_01,       A16N,     013,          1,         20,         20,2,20030622,       1015,    58.9985,   -19.9993,       2842,   399.5,   8.8795,  35.2711,2,  35.2720,2,    258.4,2,   257.9,2,    6.28,2,   13.25,2,    0.01,2,    0.85,2,   3.591,2,   1.959,2,   0.274,2,  2138.7,2,  2317.0,2,    635.7,2,    20.00,   7.8028,2,    25.00,-999.000,9,   1.761,2,  -1.371,2, -999.00,9,  -999.0,9,  -999.0,   7.427,2,   0.017,-999.000,9,   47.88,2,   18.22,2,  399.50,-999.0000,9,-999.0000,9,-999.0000,9,-999.0000,9,-999.0000,9,-999.0000,9,   8.8358,     -999.0,9,     -999.0,9,     -999.0,9,     -999.0,9,         13,   0.002,   0.133,-999.000,     -999.0,9, -999.00,9, -999.00,9
33RO200306_01,       A16N,     013,          1,         19,         19,2,20030622,       1015,    58.9985,   -19.9993,       2842,   450.0,   8.7651,  35.2643,2,  35.2607,2,    248.3,2,   265.6,2,    6.21,2,   13.28,2,    0.01,2,    0.84,2,-999.000,9,-999.000,9,-999.000,9,  2139.4,2,  2319.9,2,   -999.0,9,  -999.00,   7.8019,2,    25.00,-999.000,9,-999.000,9,-999.000,9, -999.00,9,  -999.0,9,  -999.0,-999.000,9,-999.000,-999.000,9,   49.76,2,   18.90,2,  450.00,-999.0000,9,-999.0000,9,-999.0000,9,-999.0000,9,-999.0000,9,-999.0000,9,   8.7161,     -999.0,9,     -999.0,9,     -999.0,9,     -999.0,9,         13,-999.000,-999.000,-999.000,     -999.0,9, -999.00,9, -999.00,9
33RO200306_01,       A16N,     013,          1,         18,         18,2,20030622,       1015,    58.9985,   -19.9993,       2842,   499.7,   8.4916,  35.2234,2,  35.2181,2,    245.4,2,   256.9,2,    6.88,2,   14.03,2,    0.01,2,    0.89,2,  -0.003,4,  -0.001,4,-999.000,5,  2144.8,2,  2317.5,2,    646.8,2,    20.00,   7.7885,2,    25.00,-999.000,9,-999.000,9,-999.000,9, -999.00,9,  -999.0,9,  -999.0,-999.000,9,-999.000,   2.902,2,   48.95,2,   20.10,2,  499.70,-999.0000,9,-999.0000,9,-999.0000,9,-999.0000,9,-999.0000,9,-999.0000,9,   8.4381,      0.349,2,     -999.0,9,     -999.0,9,     -999.0,9,         13,-999.000,-999.000,-999.000,     -999.0,9, -999.00,9, -999.00,9
33RO200306_01,       A16N,     013,          1,         17,         17,2,20030622,       1015,    58.9985,   -19.9993,       2842,   599.7,   7.9071,  35.1492,2,  35.1651,2,    247.0,2,   234.6,2,    8.60,2,   16.10,2,    0.01,2,    1.02,2,   3.149,2,   1.675,2,   0.212,2,  2155.7,2,  2316.5,2,    710.2,2,    20.00,   7.7521,2,    25.00,   0.986,2,   1.768,2,   1.535,2, -999.00,9,  -999.0,9,  -999.0,   7.542,2,   0.024,-999.000,9,   46.10,2,   21.40,2,  599.70,-999.0000,9,-999.0000,9,-999.0000,9,-999.0000,9,-999.0000,9,-999.0000,9,   7.8451,     -999.0,9,     -999.0,9,     -999.0,9,     -999.0,9,         13,   0.003,   0.192,   0.010,     -999.0,9, -999.00,9, -999.00,9
33RO200306_01,       A16N,     013,          1,         16,         16,2,20030622,       1015,    58.9985,   -19.9993,       2842,   700.3,   7.7040,  35.1815,2,  35.1817,2,    231.1,2,   233.9,2,    9.04,2,   16.47,2,    0.01,2,    1.04,2,   3.111,2,   1.650,2,   0.206,2,  2159.1,2,  2319.1,2,    715.4,2,    20.00,   7.7374,2,    25.00,-999.000,9,-999.000,9,-999.000,9, -999.00,9,  -999.0,9,  -999.0,-999.000,9,-999.000,-999.000,9,   46.75,2,   22.61,2,  700.30,-999.0000,9,-999.0000,9,-999.0000,9,-999.0000,9,-999.0000,9,-999.0000,9,   7.6322,     -999.0,9,     -999.0,9,     -999.0,9,     -999.0,9,         13,-999.000,-999.000,-999.000,     -999.0,9, -999.00,9, -999.00,9
33RO200306_01,       A16N,     013,          1,         15,         15,2,20030622,       1015,    58.9985,   -19.9993,       2842,   800.4,   7.0606,  35.1436,2,  35.1452,2,    218.6,2,   216.7,2,   10.81,2,   18.13,2,    0.01,2,    1.15,2,   2.648,2,   1.357,2,   0.148,2,  2170.3,2,  2312.8,2,    776.3,2,    20.00,   7.7153,2,    25.00,-999.000,9,   1.790,2,   5.144,2, -999.00,9,  -999.0,9,  -999.0,   7.622,2,   0.059,-999.000,9,   45.29,2,   23.13,2,  800.40,-999.0000,9,-999.0000,9,-999.0000,9,-999.0000,9,-999.0000,9,-999.0000,9,   6.9818,     -999.0,9,     -999.0,9,     -999.0,9,     -999.0,9,         13,   0.003,   0.145,-999.000,     -999.0,9, -999.00,9, -999.00,9
33RO200306_01,       A16N,     013,          1,         14,         14,2,20030622,       1015,    58.9985,   -19.9993,       2842,   898.7,   6.3439,  35.1081,2,  35.1094,2,    221.5,2,   218.2,2,   11.44,2,   18.44,2,    0.00,2,    1.17,2,   2.571,2,   1.295,2,   0.138,2,  2172.8,2,  2311.1,2,   -999.0,9,  -999.00,   7.7056,2,    25.00,-999.000,9,-999.000,9,-999.000,9, -999.00,9,  -999.0,9,  -999.0,-999.000,9,-999.000,-999.000,9,   46.22,2,   24.11,2,  898.70,-999.0000,9,-999.0000,9,-999.0000,9,-999.0000,9,-999.0000,9,-999.0000,9,   6.2597,     -999.0,9,     -999.0,9,     -999.0,9,     -999.0,9,         13,-999.000,-999.000,-999.000,     -999.0,9, -999.00,9, -999.00,9
33RO200306_01,       A16N,     013,          1,         13,         13,2,20030622,       1015,    58.9985,   -19.9993,       2842,   999.9,   5.5930,  35.0534,2,  35.0545,2,    229.8,2,   228.4,2,   11.61,2,   18.34,2,    0.00,2,    1.17,2,   2.697,2,   1.342,2,   0.149,2,  2170.5,2,  2307.6,2,    795.8,2,    20.00,   7.7089,2,    25.00,-999.000,9,-999.000,9,-999.000,9, -999.00,9,  -999.0,9,  -999.0,-999.000,9,-999.000,-999.000,9, -999.00,9, -999.00,9,  999.90,-999.0000,9,-999.0000,9,-999.0000,9,-999.0000,9,-999.0000,9,-999.0000,9,   5.5043,     -999.0,9,     -999.0,9,     -999.0,9,     -999.0,9,         13,-999.000,-999.000,-999.000,     -999.0,9, -999.00,9, -999.00,9
33RO200306_01,       A16N,     013,          1,         12,         12,2,20030622,       1015,    58.9985,   -19.9993,       2842,  1101.3,   4.9697,  35.0025,2,  35.0036,2,    243.0,2,   240.6,2,   11.44,2,   17.86,2,    0.00,2,    1.15,2,   2.866,2,   1.416,2,   0.169,2,  2167.3,2,  2304.1,2,    799.3,2,    20.00,   7.7120,2,    25.00,-999.000,9,-999.000,9,-999.000,9, -999.00,9,  -999.0,9,  -999.0,-999.000,9,-999.000,   2.400,2,   45.61,2,   23.72,2, 1101.30,-999.0000,9,-999.0000,9,-999.0000,9,-999.0000,9,-999.0000,9,-999.0000,9,   4.8765,      0.354,2,     -999.0,9,     -999.0,9,     -999.0,9,         13,-999.000,-999.000,-999.000,     -999.0,9, -999.00,9, -999.00,9
33RO200306_01,       A16N,     013,          1,         11,         11,2,20030622,       1015,    58.9985,   -19.9993,       2842,  1198.7,   4.4922,  34.9608,2,  34.9644,2,    253.2,2,   251.4,2,   11.37,2,   17.86,2,    0.00,2,    1.15,2,   3.031,6,   1.492,6,   0.186,6,  2165.1,2,  2306.8,2,   -999.0,9,  -999.00,   7.7089,2,    25.00,-999.000,9,   1.807,2,   5.893,2, -999.00,9,  -999.0,9,  -999.0,   7.795,2,   0.061,-999.000,9,   45.78,2,   24.25,2, 1198.70,-999.0000,9,-999.0000,9,-999.0000,9,-999.0000,9,-999.0000,9,-999.0000,9,   4.3943,     -999.0,9,     -999.0,9,     -999.0,9,     -999.0,9,         13,   0.003,   0.144,-999.000,     -999.0,9, -999.00,9, -999.00,9
33RO200306_01,       A16N,     013,          1,         10,         10,2,20030622,       1015,    58.9985,   -19.9993,       2842,  1299.5,   4.2355,  34.9440,2,  34.9460,2,    259.8,2,   258.6,2,   11.37,2,   17.72,2,    0.00,2,    1.14,2,   3.081,2,   1.507,2,   0.187,2,  2163.3,2,  2305.4,2,    785.4,2,    20.00,   7.6995,2,    25.00,-999.000,9,-999.000,9,-999.000,9, -999.00,9,  -999.0,9,  -999.0,-999.000,9,-999.000,-999.000,9,   46.42,2,   23.37,2, 1299.50,-999.0000,9,-999.0000,9,-999.0000,9,-999.0000,9,-999.0000,9,-999.0000,9,   4.1310,     -999.0,9,     -999.0,9,     -999.0,9,     -999.0,9,         13,-999.000,-999.000,-999.000,     -999.0,9, -999.00,9, -999.00,9
33RO200306_01,       A16N,     013,          1,          9,          9,2,20030622,       1015,    58.9985,   -19.9993,       2842,  1399.9,   4.0174,  34.9285,2,  34.9300,2,    264.5,2,   263.0,2,   11.47,2,   17.57,2,    0.00,2,    1.13,2,-999.000,9,-999.000,9,-999.000,9,  2162.5,2,  2305.6,2,   -999.0,9,  -999.00,   7.7098,2,    25.00,-999.000,9,-999.000,9,-999.000,9, -999.00,9,  -999.0,9,  -999.0,-999.000,9,-999.000,-999.000,9,   46.34,2,   22.79,2, 1399.90,-999.0000,9,-999.0000,9,-999.0000,9,-999.0000,9,-999.0000,9,-999.0000,9,   3.9062,     -999.0,9,     -999.0,9,     -999.0,9,     -999.0,9,         13,-999.000,-999.000,-999.000,     -999.0,9, -999.00,9, -999.00,9
33RO200306_01,       A16N,     013,          1,          8,          8,2,20030622,       1015,    58.9985,   -19.9993,       2842,  1499.8,   3.8516,  34.9189,2,  34.9210,2,    267.6,2,   268.3,2,   11.53,2,   17.54,2,    0.00,2,    1.12,2,   3.026,2,   1.463,2,   0.185,2,  2160.6,2,  2304.0,2,    782.3,2,    20.00,   7.7164,2,    25.00,   1.017,2,   1.802,2,   6.398,2, -999.00,9,  -999.0,9,  -999.0,   7.820,2,   0.061,-999.000,9,   44.71,2,   22.94,2, 1499.80,-999.0000,9,-999.0000,9,-999.0000,9,-999.0000,9,-999.0000,9,-999.0000,9,   3.7332,     -999.0,9,     -999.0,9,     -999.0,9,     -999.0,9,         13,   0.003,   0.144,   0.040,     -999.0,9, -999.00,9, -999.00,9