BOTTLE,20230908CCHSIOCBG
EXPOCODE,SECT_ID,STNNBR,CASTNO,SAMPNO,BTLNBR,BTLNBR_FLAG_W,DATE,TIME,LATITUDE,LONGITUDE,DEPTH,CTDPRS,CTDTMP,CTDSAL,CTDSAL_FLAG_W,SALNTY,SALNTY_FLAG_W,CTDOXY,CTDOXY_FLAG_W,OXYGEN,OXYGEN_FLAG_W,SILCAT,SILCAT_FLAG_W,NITRAT,NITRAT_FLAG_W,NITRIT,NITRIT_FLAG_W,PHSPHT,PHSPHT_FLAG_W,CFC-11,CFC-11_FLAG_W,CFC-12,CFC-12_FLAG_W,CFC113,CFC113_FLAG_W,TCARBN,TCARBN_FLAG_W,ALKALI,ALKALI_FLAG_W,FCO2,FCO2_FLAG_W,FCO2TMP,PH_SWS,PH_SWS_FLAG_W,PH_TMP,TRITUM,TRITUM_FLAG_W,HELIUM,HELIUM_FLAG_W,DELHE3,DELHE3_FLAG_W,DELC13,DELC13_FLAG_W,DELC14,DELC14_FLAG_W,C14ERR,NEON,NEON_FLAG_W,NEONER,POC,POC_FLAG_W,DOC,DOC_FLAG_W,TDN,TDN_FLAG_W,CTDRAW,CDOM325,CDOM325_FLAG_W,CDOM340,CDOM340_FLAG_W,CDOM380,CDOM380_FLAG_W,CDOM412,CDOM412_FLAG_W,CDOMSL,CDOMSL_FLAG_W,CDOMSN,CDOMSN_FLAG_W,THETA,PON,PON_FLAG_W,HCFC-22,HCFC-22_FLAG_W,HCFC-142b,HCFC-142b_FLAG_W,HCFC-141b,HCFC-141b_FLAG_W,STNNBR_U,HELIER,DELHER,TRITER,CH3CL,CH3CL_FLAG_W,CH3BR,CH3BR_FLAG_W,CH3I,CH3I_FLAG_W
,,,,,,,,,,,METERS,DBAR,ITS-90,PSS-78,,PSS-78,,UMOL/KG,,UMOL/KG,,UMOL/KG,,UMOL/KG,,UMOL/KG,,UMOL/KG,,PMOL/KG,,PMOL/KG,,PMOL/KG,,UMOL/KG,,UMOL/KG,,UATM,,DEG C,,,DEG C,TU,,NMOL/KG,,PERCNT,,/MILLE,,/MILLE,,/MILLE,NMOL/KG,,NMOL/KG,UG/KG,,UMOL/KG,,UMOL/KG,,DBAR,1/M,,1/M,,1/M,,1/M,,1/NM,,1/NM,,DEG C,UMOL/L,,PMOL/KG,,PMOL/KG,,PMOL/KG,,,NMOL/KG,PERCNT,TU,PMOL/KG,,PMOL/KG,,PMOL/KG,
33RO200306_01,       A16N,     063,          2,          7,          7,2,20030706,       1553,    33.9992,   -21.1253,       5236,  2749.5,   2.9833,  34.9582,2,  34.9579,2,    252.5,2,   251.8,2,   27.63,2,   19.60,2,    0.00,2,    1.30,2,   0.223,2,   0.117,2,   0.006,2,  2176.5,2,  2329.7,2,    751.5,2,    20.00,   7.7357,2,    25.00,-999.000,9,-999.000,9,-999.000,9, -999.00,9,  -999.0,9,  -999.0,-999.000,9,-999.000,-999.000,9,   42.20,2,   24.85,2, 2749.50,-999.0000,9,-999.0000,9,-999.0000,9,-999.0000,9,-999.0000,9,-999.0000,9,   2.7587,     -999.0,9,     -999.0,9,     -999.0,9,     -999.0,9,         63,-999.000,-999.000,-999.000,     -999.0,9, -999.00,9, -999.00,9
33RO200306_01,       A16N,     063,          2,          6,          6,2,20030706,       1553,    33.9992,   -21.1253,       5236,  3250.4,   2.7208,  34.9362,2,  34.9360,2,    247.4,2,   246.4,2,   35.10,2,   20.81,2,    0.00,2,    1.38,2,   0.077,2,   0.044,2,   0.006,2,  2186.4,2,  2337.6,2,   -999.0,9,  -999.00,   7.7343,2,    25.00,-999.000,9,-999.000,9,-999.000,9, -999.00,9,  -999.0,9,  -999.0,-999.000,9,-999.000,-999.000,9,   41.63,2,   24.97,2, 3250.40,-999.0000,9,-999.0000,9,-999.0000,9,-999.0000,9,-999.0000,9,-999.0000,9,   2.4498,     -999.0,9,       0.14,2,       0.00,2,       0.30,2,         63,-999.000,-999.000,-999.000,      15.92,2,    0.07,2,     0.0,2
33RO200306_01,       A16N,     063,          2,          5,          5,2,20030706,       1553,    33.9992,   -21.1253,       5236,  3721.4,   2.5595,  34.9169,2,  34.9171,2,    245.2,2,   244.2,2,   40.27,6,   21.57,6,    0.00,6,    1.44,6,   0.011,2,   0.008,2,   0.002,2,  2191.7,2,  2341.7,2,    761.9,2,    20.00,   7.7330,2,    25.00,-999.000,9,-999.000,9,-999.000,9, -999.00,9,  -999.0,9,  -999.0,-999.000,9,-999.000,-999.000,9,   42.68,2,   26.73,2, 3721.40,-999.0000,9,-999.0000,9,-999.0000,9,-999.0000,9,-999.0000,9,-999.0000,9,   2.2411,     -999.0,9,       0.07,2,       0.01,2,       0.15,2,         63,-999.000,-999.000,-999.000,      54.52,2,    0.15,2,     0.0,2
33RO200306_01,       A16N,     063,          2,          4,          4,2,20030706,       1553,    33.9992,   -21.1253,       5236,  4228.7,   2.4636,  34.9017,2,  34.9070,3,    244.6,2,   244.6,2,   43.62,6,   21.96,6,    0.00,6,    1.47,6,   0.006,2,   0.002,2,   0.003,2,  2194.5,2,  2345.3,2,   -999.0,9,  -999.00,   7.7255,2,    25.00,-999.000,9,-999.000,9,-999.000,9, -999.00,9,  -999.0,9,  -999.0,-999.000,9,-999.000,-999.000,9,   42.27,2,   25.64,2, 4228.70,-999.0000,9,-999.0000,9,-999.0000,9,-999.0000,9,-999.0000,9,-999.0000,9,   2.0898,     -999.0,9,       0.29,2,       0.00,2,       0.32,2,         63,-999.000,-999.000,-999.000,       96.6,2,    0.39,2,     0.0,2
33RO200306_01,       A16N,     063,          2,          3,          3,2,20030706,       1553,    33.9992,   -21.1253,       5236,  4749.3,   2.4259,  34.8916,2,  34.8923,2,    244.2,2,   244.7,2,   45.89,6,   22.18,6,    0.00,6,    1.49,6,   0.005,2,   0.004,2,  -0.001,2,  2196.5,2,  2348.3,2,   -999.0,9,  -999.00,   7.7285,2,    25.00,-999.000,9,-999.000,9,-999.000,9, -999.00,9,  -999.0,9,  -999.0,-999.000,9,-999.000,-999.000,9,   41.87,2,   26.52,2, 4749.30,-999.0000,9,-999.0000,9,-999.0000,9,-999.0000,9,-999.0000,9,-999.0000,9,   1.9904,     -999.0,9,       0.15,2,       0.02,2,       0.10,2,         63,-999.000,-999.000,-999.000,        0.0,2,     0.0,2,    0.35,2
33RO200306_01,       A16N,     063,          2,          2,          2,2,20030706,       1553,    33.9992,   -21.1253,       5236,  4999.8,   2.4421,  34.8897,2,  34.8912,2,    244.0,2,   244.7,2,   46.40,6,   22.24,6,    0.00,6,    1.49,6,   0.001,2,   0.006,2,   0.002,2,  2198.0,2,  2348.7,2,    765.5,6,    20.00,   7.7284,2,    25.00,-999.000,9,-999.000,9,-999.000,9, -999.00,9,  -999.0,9,  -999.0,-999.000,9,-999.000,-999.000,9,   42.12,2,   27.27,2, 4999.80,-999.0000,9,-999.0000,9,-999.0000,9,-999.0000,9,-999.0000,9,-999.0000,9,   1.9747,     -999.0,9,       0.01,2,       0.05,2,       0.16,2,         63,-999.000,-999.000,-999.000,       4.27,2,    0.01,2,    0.22,2
33RO200306_01,       A16N,     063,          2,          1,          1,2,20030706,       1553,    33.9992,   -21.1253,       5236,  5319.4,   2.4749,  34.8883,2,  34.8895,2,    243.5,2,   243.7,2,   46.69,6,   22.25,6,    0.00,6,    1.49,6,   0.007,6,   0.005,6,   0.001,6,  2200.1,6,  2349.3,2,    764.5,2,    20.00,   7.7278,2,    25.00,-999.000,9,-999.000,9,-999.000,9, -999.00,9,  -999.0,9,  -999.0,-999.000,9,-999.000,-999.000,9,   40.65,2,   25.84,2, 5319.40,-999.0000,9,-999.0000,9,-999.0000,9,-999.0000,9,-999.0000,9,-999.0000,9,   1.9652,     -999.0,9,       0.63,2,       0.10,2,       0.26,2,         63,-999.000,-999.000,-999.000,      25.84,2,    0.13,2,    1.28,2