BOTTLE,20230908CCHSIOCBG
EXPOCODE,SECT_ID,STNNBR,CASTNO,SAMPNO,BTLNBR,BTLNBR_FLAG_W,DATE,TIME,LATITUDE,LONGITUDE,DEPTH,CTDPRS,CTDTMP,CTDSAL,CTDSAL_FLAG_W,SALNTY,SALNTY_FLAG_W,CTDOXY,CTDOXY_FLAG_W,OXYGEN,OXYGEN_FLAG_W,SILCAT,SILCAT_FLAG_W,NITRAT,NITRAT_FLAG_W,NITRIT,NITRIT_FLAG_W,PHSPHT,PHSPHT_FLAG_W,CFC-11,CFC-11_FLAG_W,CFC-12,CFC-12_FLAG_W,CFC113,CFC113_FLAG_W,TCARBN,TCARBN_FLAG_W,ALKALI,ALKALI_FLAG_W,FCO2,FCO2_FLAG_W,FCO2TMP,PH_SWS,PH_SWS_FLAG_W,PH_TMP,TRITUM,TRITUM_FLAG_W,HELIUM,HELIUM_FLAG_W,DELHE3,DELHE3_FLAG_W,DELC13,DELC13_FLAG_W,DELC14,DELC14_FLAG_W,C14ERR,NEON,NEON_FLAG_W,NEONER,POC,POC_FLAG_W,DOC,DOC_FLAG_W,TDN,TDN_FLAG_W,CTDRAW,CDOM325,CDOM325_FLAG_W,CDOM340,CDOM340_FLAG_W,CDOM380,CDOM380_FLAG_W,CDOM412,CDOM412_FLAG_W,CDOMSL,CDOMSL_FLAG_W,CDOMSN,CDOMSN_FLAG_W,THETA,PON,PON_FLAG_W,HCFC-22,HCFC-22_FLAG_W,HCFC-142b,HCFC-142b_FLAG_W,HCFC-141b,HCFC-141b_FLAG_W,STNNBR_U,HELIER,DELHER,TRITER,CH3CL,CH3CL_FLAG_W,CH3BR,CH3BR_FLAG_W,CH3I,CH3I_FLAG_W
,,,,,,,,,,,METERS,DBAR,ITS-90,PSS-78,,PSS-78,,UMOL/KG,,UMOL/KG,,UMOL/KG,,UMOL/KG,,UMOL/KG,,UMOL/KG,,PMOL/KG,,PMOL/KG,,PMOL/KG,,UMOL/KG,,UMOL/KG,,UATM,,DEG C,,,DEG C,TU,,NMOL/KG,,PERCNT,,/MILLE,,/MILLE,,/MILLE,NMOL/KG,,NMOL/KG,UG/KG,,UMOL/KG,,UMOL/KG,,DBAR,1/M,,1/M,,1/M,,1/M,,1/NM,,1/NM,,DEG C,UMOL/L,,PMOL/KG,,PMOL/KG,,PMOL/KG,,,NMOL/KG,PERCNT,TU,PMOL/KG,,PMOL/KG,,PMOL/KG,
33RO200306_02,       A16N,     086,          1,         35,         35,2,20030721,       0611,    22.9992,   -27.3133,       5517,     2.9,  24.5059,  37.3071,2,  37.3096,2,    207.4,2,   209.0,2,    0.40,2,    0.02,2,    0.00,2,    0.04,2,   1.914,2,   1.219,2,   0.161,2,  2100.1,6,  2439.2,6,    322.6,2,    20.00,   8.0530,6,    25.00,-999.000,9,-999.000,9,-999.000,9, -999.00,9,  -999.0,9,  -999.0,-999.000,9,-999.000,-999.000,9,   69.27,2,    6.52,2,    2.90,-999.0000,9,-999.0000,9,-999.0000,9,-999.0000,9,-999.0000,9,-999.0000,9,  24.5053,     -999.0,9,       4.32,2,       0.19,2,       0.45,2,         86,-999.000,-999.000,-999.000,      98.32,2,    2.13,2,   16.56,2
33RO200306_02,       A16N,     086,          1,         33,         33,2,20030721,       0611,    22.9992,   -27.3133,       5517,    25.3,  24.5104,  37.3063,2,  37.3092,2,    208.6,2,   209.4,2,    0.39,2,    0.02,2,    0.00,2,    0.04,2,   1.899,2,   1.219,2,   0.172,2,  2099.7,2,  2439.3,2,    322.6,2,    20.00,   8.0435,2,    25.00,-999.000,9,-999.000,9,-999.000,9, -999.00,9,  -999.0,9,  -999.0,-999.000,9,-999.000,-999.000,9,   70.57,2,    6.42,2,   25.30,-999.0000,9,-999.0000,9,-999.0000,9,-999.0000,9,-999.0000,9,-999.0000,9,  24.5049,     -999.0,9,       4.19,2,       0.20,2,       0.48,2,         86,-999.000,-999.000,-999.000,       83.6,2,    1.27,2,   15.14,2
33RO200306_02,       A16N,     086,          1,         32,         32,2,20030721,       0611,    22.9992,   -27.3133,       5517,    50.1,  23.1047,  37.1621,2,  37.1664,2,    220.8,2,   223.3,2,    0.42,2,    0.02,2,    0.00,2,    0.04,2,-999.000,9,-999.000,9,-999.000,9,  2091.9,2,  2429.8,2,   -999.0,9,  -999.00,-999.0000,9,  -999.00,-999.000,9,-999.000,9,-999.000,9, -999.00,9,  -999.0,9,  -999.0,-999.000,9,-999.000,-999.000,9,   68.80,2,    7.32,2,   50.10,-999.0000,9,-999.0000,9,-999.0000,9,-999.0000,9,-999.0000,9,-999.0000,9,  23.0943,     -999.0,9,     -999.0,9,     -999.0,9,     -999.0,9,         86,-999.000,-999.000,-999.000,     -999.0,9, -999.00,9, -999.00,9
33RO200306_02,       A16N,     086,          1,         31,         31,2,20030721,       0611,    22.9992,   -27.3133,       5517,    75.0,  21.9643,  37.1325,2,  37.1370,2,    219.3,2,   216.8,2,    0.47,2,    0.03,2,    0.00,2,    0.06,2,   2.107,2,   1.320,2,   0.176,2,  2101.1,2,  2428.6,2,    339.0,2,    20.00,   8.0362,2,    25.00,-999.000,9,-999.000,9,-999.000,9, -999.00,9,  -999.0,9,  -999.0,-999.000,9,-999.000,-999.000,9, -999.00,9, -999.00,9,   75.00,-999.0000,9,-999.0000,9,-999.0000,9,-999.0000,9,-999.0000,9,-999.0000,9,  21.9493,     -999.0,9,       4.14,2,       0.16,2,       0.42,2,         86,-999.000,-999.000,-999.000,     183.89,2,    1.95,2,    9.43,2
33RO200306_02,       A16N,     086,          1,         30,         30,2,20030721,       0611,    22.9992,   -27.3133,       5517,    99.8,  21.4983,  37.1590,2,  37.1488,2,    211.4,2,   209.0,2,    0.59,2,    0.27,2,    0.03,2,    0.08,2,   2.140,2,   1.327,2,   0.167,2,  2109.5,2,  2428.4,2,    354.4,2,    20.00,   8.0257,2,    25.00,-999.000,9,-999.000,9,-999.000,9, -999.00,9,  -999.0,9,  -999.0,-999.000,9,-999.000,-999.000,9,   59.76,2,    7.18,2,   99.80,-999.0000,9,-999.0000,9,-999.0000,9,-999.0000,9,-999.0000,9,-999.0000,9,  21.4787,     -999.0,9,     -999.0,9,     -999.0,9,     -999.0,9,         86,-999.000,-999.000,-999.000,     -999.0,9, -999.00,9, -999.00,9
33RO200306_02,       A16N,     086,          1,         29,         29,2,20030721,       0611,    22.9992,   -27.3133,       5517,   124.7,  20.7107,  37.0638,2,  37.0663,2,    196.9,2,   198.4,2,    0.76,2,    1.60,2,    0.05,2,    0.14,2,   2.195,2,   1.366,2,   0.159,2,  2117.8,2,  2424.5,2,   -999.0,9,  -999.00,   8.0016,2,    25.00,-999.000,9,-999.000,9,-999.000,9, -999.00,9,  -999.0,9,  -999.0,-999.000,9,-999.000,-999.000,9, -999.00,9, -999.00,9,  124.70,-999.0000,9,-999.0000,9,-999.0000,9,-999.0000,9,-999.0000,9,-999.0000,9,  20.6868,     -999.0,9,       4.24,2,       0.15,2,       0.49,2,         86,-999.000,-999.000,-999.000,       42.0,2,    0.66,2,    1.07,2
33RO200306_02,       A16N,     086,          1,         28,         28,2,20030721,       0611,    22.9992,   -27.3133,       5517,   149.5,  19.8462,  36.8971,2,  36.8933,2,    194.9,2,   192.2,2,    1.01,2,    2.96,2,    0.03,2,    0.21,2,   2.259,2,   1.401,2,   0.137,2,  2124.8,2,  2419.2,2,    402.7,3,    20.00,   7.9760,2,    25.00,-999.000,9,-999.000,9,-999.000,9, -999.00,9,  -999.0,9,  -999.0,-999.000,9,-999.000,-999.000,9,   54.78,2,    9.11,2,  149.50,-999.0000,9,-999.0000,9,-999.0000,9,-999.0000,9,-999.0000,9,-999.0000,9,  19.8184,     -999.0,9,     -999.0,9,     -999.0,9,     -999.0,9,         86,-999.000,-999.000,-999.000,     -999.0,9, -999.00,9, -999.00,9
33RO200306_02,       A16N,     086,          1,         27,         27,2,20030721,       0611,    22.9992,   -27.3133,       5517,   175.6,  18.7876,  36.6927,2,  36.6945,2,    186.0,2,   187.1,2,    1.29,2,    4.15,2,    0.02,2,    0.27,2,   2.355,2,   1.425,2,   0.095,2,  2127.6,2,  2424.3,2,   -999.0,9,  -999.00,-999.0000,9,  -999.00,-999.000,9,-999.000,9,-999.000,9, -999.00,9,  -999.0,9,  -999.0,-999.000,9,-999.000,-999.000,9,   54.23,2,    9.09,2,  175.60,-999.0000,9,-999.0000,9,-999.0000,9,-999.0000,9,-999.0000,9,-999.0000,9,  18.7562,     -999.0,9,       4.19,2,       0.19,2,       1.48,2,         86,-999.000,-999.000,-999.000,      61.67,2,    4.05,2,    0.66,2
33RO200306_02,       A16N,     086,          1,         26,         26,2,20030721,       0611,    22.9992,   -27.3133,       5517,   200.7,  17.8092,  36.4916,2,  36.4863,2,    171.5,2,   173.6,2,    2.00,2,    7.00,2,    0.01,2,    0.43,2,   2.371,2,   1.425,2,   0.053,2,  2135.9,2,  -999.0,9,    470.9,2,    20.00,-999.0000,9,  -999.00,-999.000,9,-999.000,9,-999.000,9, -999.00,9,  -999.0,9,  -999.0,-999.000,9,-999.000,-999.000,9,   51.22,2,   11.60,2,  200.70,-999.0000,9,-999.0000,9,-999.0000,9,-999.0000,9,-999.0000,9,-999.0000,9,  17.7746,     -999.0,9,     -999.0,9,     -999.0,9,     -999.0,9,         86,-999.000,-999.000,-999.000,     -999.0,9, -999.00,9, -999.00,9
33RO200306_02,       A16N,     086,          1,         25,         25,2,20030721,       0611,    22.9992,   -27.3133,       5517,   250.1,  16.3307,  36.2398,2,  36.2353,2,    170.9,2,   168.5,2,    2.89,2,    9.59,2,    0.01,2,    0.58,2,   2.402,2,   1.398,2,   0.036,2,  2141.9,2,  -999.0,9,    516.6,2,    20.00,-999.0000,9,  -999.00,-999.000,9,-999.000,9,-999.000,9, -999.00,9,  -999.0,9,  -999.0,-999.000,9,-999.000,-999.000,9,   51.54,2,   13.48,2,  250.10,-999.0000,9,-999.0000,9,-999.0000,9,-999.0000,9,-999.0000,9,-999.0000,9,  16.2901,     -999.0,9,       3.85,2,       0.20,2,       0.33,2,         86,-999.000,-999.000,-999.000,       8.44,2,    0.27,2,    0.12,2
33RO200306_02,       A16N,     086,          1,         24,         24,2,20030721,       0611,    22.9992,   -27.3133,       5517,   300.5,  15.5034,  36.1117,2,  36.1019,2,    175.4,2,   178.2,2,    3.17,2,   10.01,2,    0.01,2,    0.60,2,   2.468,2,   1.410,2,   0.034,2,  2136.7,3,  2371.0,2,    519.1,2,    20.00,   7.8726,2,    25.00,-999.000,9,-999.000,9,-999.000,9, -999.00,9,  -999.0,9,  -999.0,-999.000,9,-999.000,-999.000,9,   50.04,2,   14.00,2,  300.50,-999.0000,9,-999.0000,9,-999.0000,9,-999.0000,9,-999.0000,9,-999.0000,9,  15.4563,     -999.0,9,     -999.0,9,     -999.0,9,     -999.0,9,         86,-999.000,-999.000,-999.000,     -999.0,9, -999.00,9, -999.00,9
33RO200306_02,       A16N,     086,          1,         23,         23,2,20030721,       0611,    22.9992,   -27.3133,       5517,   349.7,  14.7217,  35.9957,2,  35.9989,2,    168.6,2,   168.4,2,    3.92,2,   12.20,2,    0.01,2,    0.73,2,   2.436,2,   1.379,2,   0.029,2,  2147.5,2,  2365.1,2,    564.4,2,    20.00,   7.8307,2,    25.00,-999.000,9,-999.000,9,-999.000,9, -999.00,9,  -999.0,9,  -999.0,-999.000,9,-999.000,-999.000,9,   49.51,2,   15.37,2,  349.70,-999.0000,9,-999.0000,9,-999.0000,9,-999.0000,9,-999.0000,9,-999.0000,9,  14.6687,     -999.0,9,       3.49,2,       0.11,2,       0.24,2,         86,-999.000,-999.000,-999.000,      19.57,2,    0.71,2,    0.16,2
33RO200306_02,       A16N,     086,          1,         22,         22,2,20030721,       0611,    22.9992,   -27.3133,       5517,   400.7,  13.7633,  35.8415,2,  35.8461,2,    138.2,2,   138.9,2,    5.87,2,   17.14,2,    0.00,2,    1.02,2,   2.125,2,   1.173,2,   0.025,2,  2171.8,2,  2346.9,2,    672.5,2,    20.00,   7.7671,2,    25.00,-999.000,9,-999.000,9,-999.000,9, -999.00,9,  -999.0,9,  -999.0,-999.000,9,-999.000,-999.000,9,   48.96,2,   20.34,2,  400.70,-999.0000,9,-999.0000,9,-999.0000,9,-999.0000,9,-999.0000,9,-999.0000,9,  13.7052,     -999.0,9,     -999.0,9,     -999.0,9,     -999.0,9,         86,-999.000,-999.000,-999.000,     -999.0,9, -999.00,9, -999.00,9
33RO200306_02,       A16N,     086,          1,         21,         21,2,20030721,       0611,    22.9992,   -27.3133,       5517,   500.4,  12.3293,  35.6750,2,  35.6769,2,    151.5,2,   151.7,2,    6.94,2,   18.12,2,    0.00,2,    1.07,2,   1.993,2,   1.074,2,   0.029,2,  2171.2,2,  2339.1,2,    699.0,2,    20.00,   7.7637,2,    25.00,-999.000,9,-999.000,9,-999.000,9, -999.00,9,  -999.0,9,  -999.0,-999.000,9,-999.000,-999.000,9,   48.63,2,   21.26,2,  500.40,-999.0000,9,-999.0000,9,-999.0000,9,-999.0000,9,-999.0000,9,-999.0000,9,  12.2616,     -999.0,9,       2.35,2,       0.00,2,       0.20,2,         86,-999.000,-999.000,-999.000,      75.59,2,    2.35,2,     0.5,2
33RO200306_02,       A16N,     086,          1,         20,         20,2,20030721,       0611,    22.9992,   -27.3133,       5517,   600.0,  10.9783,  35.4974,2,  35.4989,2,    136.1,2,   135.6,2,    9.94,2,   22.26,2,    0.00,2,    1.35,2,   1.336,6,   0.695,6,   0.018,6,  2188.4,2,  2331.4,2,    801.4,2,    20.00,   7.7059,2,    25.00,-999.000,9,-999.000,9,-999.000,9, -999.00,9,  -999.0,9,  -999.0,-999.000,9,-999.000,-999.000,9,   45.61,2,   25.65,2,  600.00,-999.0000,9,-999.0000,9,-999.0000,9,-999.0000,9,-999.0000,9,-999.0000,9,  10.9026,     -999.0,9,     -999.0,9,     -999.0,9,     -999.0,9,         86,-999.000,-999.000,-999.000,     -999.0,9, -999.00,9, -999.00,9
33RO200306_02,       A16N,     086,          1,         19,         19,2,20030721,       0611,    22.9992,   -27.3133,       5517,   699.9,   9.6497,  35.3407,2,  35.3407,2,    127.5,2,   127.7,2,   13.50,2,   25.50,2,    0.00,2,    1.57,2,   0.640,2,   0.334,2,   0.006,2,  2199.2,2,  2326.9,2,    891.2,2,    20.00,   7.6686,2,    25.00,-999.000,9,-999.000,9,-999.000,9, -999.00,9,  -999.0,9,  -999.0,-999.000,9,-999.000,-999.000,9,   42.93,2,   28.77,2,  699.90,-999.0000,9,-999.0000,9,-999.0000,9,-999.0000,9,-999.0000,9,-999.0000,9,   9.5678,     -999.0,9,       0.57,2,       0.00,2,       0.27,2,         86,-999.000,-999.000,-999.000,       17.6,2,    0.48,2,    0.26,2
33RO200306_02,       A16N,     086,          1,         18,         18,2,20030721,       0611,    22.9992,   -27.3133,       5517,   849.7,   7.7824,  35.1669,2,  35.1670,2,    133.9,2,   133.9,2,   18.21,2,   27.69,2,    0.00,2,    1.78,2,   0.193,2,   0.105,2,   0.000,2,  2207.4,2,  2325.1,2,    950.3,2,    20.00,   7.6522,2,    25.00,-999.000,9,-999.000,9,-999.000,9, -999.00,9,  -999.0,9,  -999.0,-999.000,9,-999.000,-999.000,9,   42.19,2,   31.65,2,  849.70,-999.0000,9,-999.0000,9,-999.0000,9,-999.0000,9,-999.0000,9,-999.0000,9,   7.6940,     -999.0,9,     -999.0,9,     -999.0,9,     -999.0,9,         86,-999.000,-999.000,-999.000,     -999.0,9, -999.00,9, -999.00,9
33RO200306_02,       A16N,     086,          1,         17,         17,2,20030721,       0611,    22.9992,   -27.3133,       5517,  1001.6,   6.7827,  35.1094,2,  35.1097,2,    151.2,2,   151.9,2,   19.63,2,   27.02,2,    0.00,2,    1.76,2,   0.099,2,   0.056,2,   0.002,2,  2203.2,2,  2325.4,3,    928.5,2,    20.00,-999.0000,9,  -999.00,-999.000,9,-999.000,9,-999.000,9, -999.00,9,  -999.0,9,  -999.0,-999.000,9,-999.000,-999.000,9,   43.17,2,   30.67,2, 1001.60,-999.0000,9,-999.0000,9,-999.0000,9,-999.0000,9,-999.0000,9,-999.0000,9,   6.6849,     -999.0,9,       0.00,2,       0.00,2,       0.21,2,         86,-999.000,-999.000,-999.000,        1.7,2,     0.0,2,    0.03,2
33RO200306_02,       A16N,     086,          1,         16,         16,2,20030721,       0611,    22.9992,   -27.3133,       5517,  1150.4,   6.1911,  35.1188,2,  35.1229,2,    171.1,2,   171.4,2,   19.28,2,   25.29,2,    0.00,2,    1.66,2,   0.077,2,   0.043,2,   0.003,2,  2196.4,2,  2326.9,3,    877.2,2,    20.00,-999.0000,9,  -999.00,-999.000,9,-999.000,9,-999.000,9, -999.00,9,  -999.0,9,  -999.0,-999.000,9,-999.000,-999.000,9,   41.87,2,   28.18,2, 1150.40,-999.0000,9,-999.0000,9,-999.0000,9,-999.0000,9,-999.0000,9,-999.0000,9,   6.0826,     -999.0,9,     -999.0,9,     -999.0,9,     -999.0,9,         86,-999.000,-999.000,-999.000,     -999.0,9, -999.00,9, -999.00,9
33RO200306_02,       A16N,     086,          1,         15,         15,2,20030721,       0611,    22.9992,   -27.3133,       5517,  1375.5,   5.4715,  35.1264,2,  35.1268,2,    193.5,2,   193.9,2,   19.35,2,   23.38,2,    0.00,2,    1.54,2,   0.033,2,   0.020,2,   0.001,2,  2187.7,2,  2327.9,2,    823.7,2,    20.00,   7.7020,2,    25.00,-999.000,9,-999.000,9,-999.000,9, -999.00,9,  -999.0,9,  -999.0,-999.000,9,-999.000,-999.000,9,   42.66,2,   26.76,2, 1375.50,-999.0000,9,-999.0000,9,-999.0000,9,-999.0000,9,-999.0000,9,-999.0000,9,   5.3470,     -999.0,9,       0.00,2,       0.00,2,       0.17,2,         86,-999.000,-999.000,-999.000,        0.0,2,     0.0,2,     0.0,2
33RO200306_02,       A16N,     086,          1,         14,         14,2,20030721,       0611,    22.9992,   -27.3133,       5517,  1599.7,   4.8727,  35.1111,2,  35.1134,2,    207.1,2,   198.2,2,   20.79,2,   22.36,2,    0.00,2,    1.49,2,   0.019,2,   0.012,2,   0.001,2,  2184.3,2,  2328.8,2,    798.0,2,    20.00,   7.6997,2,    25.00,-999.000,9,-999.000,9,-999.000,9, -999.00,9,  -999.0,9,  -999.0,-999.000,9,-999.000,-999.000,9,   41.37,2,   26.77,2, 1599.70,-999.0000,9,-999.0000,9,-999.0000,9,-999.0000,9,-999.0000,9,-999.0000,9,   4.7326,     -999.0,9,     -999.0,9,     -999.0,9,     -999.0,9,         86,-999.000,-999.000,-999.000,     -999.0,9, -999.00,9, -999.00,9
33RO200306_02,       A16N,     086,          1,         13,         13,2,20030721,       0611,    22.9992,   -27.3133,       5517,  1799.0,   4.3693,  35.0765,2,  35.0772,2,    216.6,2,   218.1,2,   22.25,2,   21.80,2,    0.00,2,    1.46,2,   0.013,2,   0.006,2,   0.000,2,  2184.5,3,  2328.9,2,   -999.0,9,  -999.00,   7.7172,2,    25.00,-999.000,9,-999.000,9,-999.000,9, -999.00,9,  -999.0,9,  -999.0,-999.000,9,-999.000,-999.000,9,   41.22,2,   26.78,2, 1799.00,-999.0000,9,-999.0000,9,-999.0000,9,-999.0000,9,-999.0000,9,-999.0000,9,   4.2160,     -999.0,9,       0.00,2,       0.00,2,       0.16,2,         86,-999.000,-999.000,-999.000,       0.38,2,     0.0,2,     0.0,2
33RO200306_02,       A16N,     086,          1,         12,         12,2,20030721,       0611,    22.9992,   -27.3133,       5517,  1999.7,   3.9557,  35.0447,2,  35.0461,2,    223.4,2,   226.1,2,   24.04,2,   21.43,2,    0.00,2,    1.44,2,   0.005,2,   0.002,2,   0.000,2,  2184.8,3,  2329.0,2,   -999.0,9,  -999.00,   7.7279,2,    25.00,-999.000,9,-999.000,9,-999.000,9, -999.00,9,  -999.0,9,  -999.0,-999.000,9,-999.000,-999.000,9,   41.14,2,   24.87,2, 1999.70,-999.0000,9,-999.0000,9,-999.0000,9,-999.0000,9,-999.0000,9,-999.0000,9,   3.7886,     -999.0,9,     -999.0,9,     -999.0,9,     -999.0,9,         86,-999.000,-999.000,-999.000,     -999.0,9, -999.00,9, -999.00,9
33RO200306_02,       A16N,     086,          1,         11,         11,2,20030721,       0611,    22.9992,   -27.3133,       5517,  2198.8,   3.5834,  35.0135,2,  35.0144,2,    228.4,2,   231.3,2,   26.50,2,   21.31,2,    0.00,2,    1.45,2,   0.007,2,   0.007,2,   0.000,2,  2193.4,4,  2330.5,2,    767.4,2,    20.00,   7.7285,2,    25.00,-999.000,9,-999.000,9,-999.000,9, -999.00,9,  -999.0,9,  -999.0,-999.000,9,-999.000,-999.000,9,   40.81,2,   25.25,2, 2198.80,-999.0000,9,-999.0000,9,-999.0000,9,-999.0000,9,-999.0000,9,-999.0000,9,   3.4027,     -999.0,9,       0.00,2,       0.00,2,       0.19,2,         86,-999.000,-999.000,-999.000,       7.34,2,     0.7,2,     0.0,2
33RO200306_02,       A16N,     086,          1,         10,         10,2,20030721,       0611,    22.9992,   -27.3133,       5517,  2499.0,   3.2274,  34.9856,2,  34.9867,2,    233.9,2,   233.5,2,   29.96,2,   21.13,2,    0.00,2,    1.45,2,   0.006,2,   0.003,2,   0.003,2,  2189.1,3,  2336.1,2,   -999.0,9,  -999.00,   7.7202,2,    25.00,-999.000,9,-999.000,9,-999.000,9, -999.00,9,  -999.0,9,  -999.0,-999.000,9,-999.000,-999.000,9,   40.63,2,   24.94,2, 2499.00,-999.0000,9,-999.0000,9,-999.0000,9,-999.0000,9,-999.0000,9,-999.0000,9,   3.0232,     -999.0,9,     -999.0,9,     -999.0,9,     -999.0,9,         86,-999.000,-999.000,-999.000,     -999.0,9, -999.00,9, -999.00,9
33RO200306_02,       A16N,     086,          1,          9,          9,2,20030721,       0611,    22.9992,   -27.3133,       5517,  2800.9,   2.8975,  34.9554,2,  34.9558,2,    237.7,2,   234.9,2,   33.54,2,   21.15,2,    0.00,2,    1.45,2,   0.005,2,   0.005,2,   0.001,2,  2190.9,3,  2341.0,2,   -999.0,9,  -999.00,-999.0000,9,  -999.00,-999.000,9,-999.000,9,-999.000,9, -999.00,9,  -999.0,9,  -999.0,-999.000,9,-999.000,-999.000,9,   40.81,2,   26.19,2, 2800.90,-999.0000,9,-999.0000,9,-999.0000,9,-999.0000,9,-999.0000,9,-999.0000,9,   2.6694,     -999.0,9,       0.00,2,       0.00,2,       0.11,2,         86,-999.000,-999.000,-999.000,        0.0,2,     0.0,2,    0.37,2
33RO200306_02,       A16N,     086,          1,          8,          8,2,20030721,       0611,    22.9992,   -27.3133,       5517,  3199.4,   2.6199,  34.9279,2,  34.9280,2,    238.7,2,   241.1,2,   38.69,2,   21.65,2,    0.00,2,    1.50,2,-999.000,9,-999.000,9,-999.000,9,  2197.1,3,  2348.0,2,    761.4,2,    20.00,   7.7216,2,    25.00,-999.000,9,-999.000,9,-999.000,9, -999.00,9,  -999.0,9,  -999.0,-999.000,9,-999.000,-999.000,9,   40.24,2,   26.86,2, 3199.40,-999.0000,9,-999.0000,9,-999.0000,9,-999.0000,9,-999.0000,9,-999.0000,9,   2.3567,     -999.0,9,     -999.0,9,     -999.0,9,     -999.0,9,         86,-999.000,-999.000,-999.000,     -999.0,9, -999.00,9, -999.00,9