BOTTLE,20230908CCHSIOCBG
EXPOCODE,SECT_ID,STNNBR,CASTNO,SAMPNO,BTLNBR,BTLNBR_FLAG_W,DATE,TIME,LATITUDE,LONGITUDE,DEPTH,CTDPRS,CTDTMP,CTDSAL,CTDSAL_FLAG_W,SALNTY,SALNTY_FLAG_W,CTDOXY,CTDOXY_FLAG_W,OXYGEN,OXYGEN_FLAG_W,SILCAT,SILCAT_FLAG_W,NITRAT,NITRAT_FLAG_W,NITRIT,NITRIT_FLAG_W,PHSPHT,PHSPHT_FLAG_W,CFC-11,CFC-11_FLAG_W,CFC-12,CFC-12_FLAG_W,CFC113,CFC113_FLAG_W,TCARBN,TCARBN_FLAG_W,ALKALI,ALKALI_FLAG_W,FCO2,FCO2_FLAG_W,FCO2TMP,PH_SWS,PH_SWS_FLAG_W,PH_TMP,TRITUM,TRITUM_FLAG_W,HELIUM,HELIUM_FLAG_W,DELHE3,DELHE3_FLAG_W,DELC13,DELC13_FLAG_W,DELC14,DELC14_FLAG_W,C14ERR,NEON,NEON_FLAG_W,NEONER,POC,POC_FLAG_W,DOC,DOC_FLAG_W,TDN,TDN_FLAG_W,CTDRAW,CDOM325,CDOM325_FLAG_W,CDOM340,CDOM340_FLAG_W,CDOM380,CDOM380_FLAG_W,CDOM412,CDOM412_FLAG_W,CDOMSL,CDOMSL_FLAG_W,CDOMSN,CDOMSN_FLAG_W,THETA,PON,PON_FLAG_W,HCFC-22,HCFC-22_FLAG_W,HCFC-142b,HCFC-142b_FLAG_W,HCFC-141b,HCFC-141b_FLAG_W,STNNBR_U,HELIER,DELHER,TRITER,CH3CL,CH3CL_FLAG_W,CH3BR,CH3BR_FLAG_W,CH3I,CH3I_FLAG_W
,,,,,,,,,,,METERS,DBAR,ITS-90,PSS-78,,PSS-78,,UMOL/KG,,UMOL/KG,,UMOL/KG,,UMOL/KG,,UMOL/KG,,UMOL/KG,,PMOL/KG,,PMOL/KG,,PMOL/KG,,UMOL/KG,,UMOL/KG,,UATM,,DEG C,,,DEG C,TU,,NMOL/KG,,PERCNT,,/MILLE,,/MILLE,,/MILLE,NMOL/KG,,NMOL/KG,UG/KG,,UMOL/KG,,UMOL/KG,,DBAR,1/M,,1/M,,1/M,,1/M,,1/NM,,1/NM,,DEG C,UMOL/L,,PMOL/KG,,PMOL/KG,,PMOL/KG,,,NMOL/KG,PERCNT,TU,PMOL/KG,,PMOL/KG,,PMOL/KG,
33RO200306_02,       A16N,     144,          2,         35,         35,2,20030807,       1306,    -2.9987,   -25.0022,       5322,     3.2,  25.6781,  35.9771,2,  35.9740,2,    202.4,2,   208.8,2, -999.00,1, -999.00,1, -999.00,1, -999.00,1,   1.815,2,   1.156,2,   0.148,2,  2037.1,6,  2362.7,6,    313.3,2,    20.00,-999.0000,9,  -999.00,-999.000,9,-999.000,9,-999.000,9,    1.69,6,    66.0,6,     2.0,-999.000,9,-999.000,-999.000,9,   70.73,2,    7.26,2,    3.20,-999.0000,9,-999.0000,9,-999.0000,9,-999.0000,9,-999.0000,9,-999.0000,9,  25.6774,     -999.0,9,     -999.0,9,     -999.0,9,     -999.0,9,        144,-999.000,-999.000,-999.000,     -999.0,9, -999.00,9, -999.00,9
33RO200306_02,       A16N,     144,          2,         33,         33,2,20030807,       1306,    -2.9987,   -25.0022,       5322,    24.9,  25.5359,  35.9726,2,  35.9700,2,    202.0,2,   209.3,2,    1.91,2,    0.06,2,    0.00,2,    0.12,2,   1.859,2,   1.179,2,   0.150,2,  2036.8,2,  2360.9,2,    315.2,2,    20.00,   8.0622,2,    25.00,-999.000,9,-999.000,9,-999.000,9, -999.00,9,  -999.0,9,  -999.0,-999.000,9,-999.000,-999.000,9,   71.22,2,    7.05,2,   24.90,-999.0000,9,-999.0000,9,-999.0000,9,-999.0000,9,-999.0000,9,-999.0000,9,  25.5304,     -999.0,9,     -999.0,9,     -999.0,9,     -999.0,9,        144,-999.000,-999.000,-999.000,     -999.0,9, -999.00,9, -999.00,9
33RO200306_02,       A16N,     144,          2,         32,         32,2,20030807,       1306,    -2.9987,   -25.0022,       5322,    49.8,  25.5181,  35.9747,2,  35.9750,2,    201.4,2,   208.3,2,    1.84,2,    0.26,2,    0.00,2,    0.13,2,   1.825,2,   1.154,2,   0.146,2,  2037.8,2,  2362.0,2,    317.2,2,    20.00,   8.0461,2,    25.00,-999.000,9,-999.000,9,-999.000,9, -999.00,9,  -999.0,9,  -999.0,-999.000,9,-999.000,-999.000,9,   68.70,2,    7.38,2,   49.80,-999.0000,9,-999.0000,9,-999.0000,9,-999.0000,9,-999.0000,9,-999.0000,9,  25.5071,     -999.0,9,     -999.0,9,     -999.0,9,     -999.0,9,        144,-999.000,-999.000,-999.000,     -999.0,9, -999.00,9, -999.00,9
33RO200306_02,       A16N,     144,          2,         31,         31,2,20030807,       1306,    -2.9987,   -25.0022,       5322,    71.0,  21.9075,  36.3831,2,  36.3187,2,    172.0,2,   165.0,2,    3.36,2,    5.84,2,    0.20,2,    0.55,2,-999.000,9,-999.000,9,-999.000,9,  2120.7,2,  2385.7,2,    441.6,2,    20.00,   7.9403,2,    25.00,-999.000,9,-999.000,9,-999.000,9, -999.00,9,  -999.0,9,  -999.0,-999.000,9,-999.000,-999.000,9, -999.00,9, -999.00,9,   71.00,-999.0000,9,-999.0000,9,-999.0000,9,-999.0000,9,-999.0000,9,-999.0000,9,  21.8934,     -999.0,9,     -999.0,9,     -999.0,9,     -999.0,9,        144,-999.000,-999.000,-999.000,     -999.0,9, -999.00,9, -999.00,9
33RO200306_02,       A16N,     144,          2,         30,         30,2,20030807,       1306,    -2.9987,   -25.0022,       5322,    89.4,  16.5758,  35.6574,2,  35.6337,2,    111.5,2,   108.1,2,    6.64,2,   17.76,2,    0.12,2,    1.19,2,   1.964,2,   1.125,2,   0.053,2,  2170.9,2,  2337.6,2,    718.7,2,    20.00,   7.7509,2,    25.00,-999.000,9,-999.000,9,-999.000,9, -999.00,9,  -999.0,9,  -999.0,-999.000,9,-999.000,-999.000,9,   63.98,2,   22.74,2,   89.40,-999.0000,9,-999.0000,9,-999.0000,9,-999.0000,9,-999.0000,9,-999.0000,9,  16.5613,     -999.0,9,     -999.0,9,     -999.0,9,     -999.0,9,        144,-999.000,-999.000,-999.000,     -999.0,9, -999.00,9, -999.00,9
33RO200306_02,       A16N,     144,          2,         29,         29,2,20030807,       1306,    -2.9987,   -25.0022,       5322,   109.8,  15.2414,  35.5551,2,  35.5506,2,    101.4,2,   101.7,2,    7.54,2,   19.97,2,    0.03,2,    1.29,2,   1.988,2,   1.126,2,   0.032,2,  2180.0,2,  2333.4,2,    779.9,2,    20.00,   7.7146,2,    25.00,-999.000,9,-999.000,9,-999.000,9, -999.00,9,  -999.0,9,  -999.0,-999.000,9,-999.000,-999.000,9, -999.00,9, -999.00,9,  109.80,-999.0000,9,-999.0000,9,-999.0000,9,-999.0000,9,-999.0000,9,-999.0000,9,  15.2246,     -999.0,9,     -999.0,9,     -999.0,9,     -999.0,9,        144,-999.000,-999.000,-999.000,     -999.0,9, -999.00,9, -999.00,9
33RO200306_02,       A16N,     144,          2,         28,         28,2,20030807,       1306,    -2.9987,   -25.0022,       5322,   133.8,  14.6772,  35.4931,2,  35.4828,2,     97.9,2,    95.2,2,    8.16,2,   20.99,2,    0.02,2,    1.35,2,   1.900,2,   1.072,2,   0.024,2,  2184.2,2,  2333.2,2,    815.0,2,    20.00,   7.7036,2,    25.00,-999.000,9,-999.000,9,-999.000,9, -999.00,9,  -999.0,9,  -999.0,-999.000,9,-999.000,-999.000,9,   55.20,2,   26.10,2,  133.80,-999.0000,9,-999.0000,9,-999.0000,9,-999.0000,9,-999.0000,9,-999.0000,9,  14.6572,     -999.0,9,     -999.0,9,     -999.0,9,     -999.0,9,        144,-999.000,-999.000,-999.000,     -999.0,9, -999.00,9, -999.00,9
33RO200306_02,       A16N,     144,          2,         27,         27,2,20030807,       1306,    -2.9987,   -25.0022,       5322,   160.5,  14.2603,  35.4410,2,  35.4367,2,    104.8,2,   107.1,2,    8.27,2,   20.66,2,    0.01,2,    1.33,2,   1.894,2,   1.064,2,   0.019,2,  2179.9,2,  2330.8,2,    798.7,2,    20.00,   7.7046,2,    25.00,-999.000,9,-999.000,9,-999.000,9, -999.00,9,  -999.0,9,  -999.0,-999.000,9,-999.000,-999.000,9, -999.00,9, -999.00,9,  160.50,-999.0000,9,-999.0000,9,-999.0000,9,-999.0000,9,-999.0000,9,-999.0000,9,  14.2367,     -999.0,9,     -999.0,9,     -999.0,9,     -999.0,9,        144,-999.000,-999.000,-999.000,     -999.0,9, -999.00,9, -999.00,9
33RO200306_02,       A16N,     144,          2,         26,         26,2,20030807,       1306,    -2.9987,   -25.0022,       5322,   184.8,  13.9492,  35.3971,2,  35.3943,2,     97.9,2,    97.1,2,    8.64,2,   22.32,2,    0.01,2,    1.42,2,   1.806,2,   1.007,2,   0.021,2,  2188.3,2,  2325.6,2,    855.1,2,    20.00,   7.6870,2,    25.00,-999.000,9,-999.000,9,-999.000,9, -999.00,9,  -999.0,9,  -999.0,-999.000,9,-999.000,-999.000,9,   48.95,2,   26.19,2,  184.80,-999.0000,9,-999.0000,9,-999.0000,9,-999.0000,9,-999.0000,9,-999.0000,9,  13.9225,     -999.0,9,     -999.0,9,     -999.0,9,     -999.0,9,        144,-999.000,-999.000,-999.000,     -999.0,9, -999.00,9, -999.00,9
33RO200306_02,       A16N,     144,          2,         25,         25,2,20030807,       1306,    -2.9987,   -25.0022,       5322,   225.1,  13.4257,  35.3279,2,  35.3218,2,     93.4,2,    88.4,2,    9.39,2,   23.87,2,    0.01,2,    1.50,2,   1.687,2,   0.942,2,   0.017,2,  2195.4,2,  2319.4,2,    919.0,2,    20.00,   7.6590,2,    25.00,-999.000,9,-999.000,9,-999.000,9, -999.00,9,  -999.0,9,  -999.0,-999.000,9,-999.000,-999.000,9,   49.43,2,   28.68,2,  225.10,-999.0000,9,-999.0000,9,-999.0000,9,-999.0000,9,-999.0000,9,-999.0000,9,  13.3939,     -999.0,9,     -999.0,9,     -999.0,9,     -999.0,9,        144,-999.000,-999.000,-999.000,     -999.0,9, -999.00,9, -999.00,9
33RO200306_02,       A16N,     144,          2,         24,         24,2,20030807,       1306,    -2.9987,   -25.0022,       5322,   275.0,  12.2756,  35.1800,2,  35.1727,2,    103.5,2,   106.6,2,   10.08,2,   23.94,2,    0.01,2,    1.52,2,   1.651,2,   0.903,2,   0.019,2,  2188.5,2,  2313.9,2,   -999.0,9,  -999.00,   7.6628,2,    25.00,-999.000,9,-999.000,9,-999.000,9, -999.00,9,  -999.0,9,  -999.0,-999.000,9,-999.000,-999.000,9,   46.83,2,   30.19,2,  275.00,-999.0000,9,-999.0000,9,-999.0000,9,-999.0000,9,-999.0000,9,-999.0000,9,  12.2390,     -999.0,9,     -999.0,9,     -999.0,9,     -999.0,9,        144,-999.000,-999.000,-999.000,     -999.0,9, -999.00,9, -999.00,9
33RO200306_02,       A16N,     144,          2,         23,         23,2,20030807,       1306,    -2.9987,   -25.0022,       5322,   324.8,  11.4209,  35.0700,2,  35.0621,2,    113.1,2,   114.1,2,   12.06,2,   25.04,2,    0.00,2,    1.56,2,   1.587,2,   0.854,2,   0.020,2,  2187.8,2,  2309.2,2,    913.3,3,    20.00,   7.6546,2,    25.00,-999.000,9,-999.000,9,-999.000,9, -999.00,9,  -999.0,9,  -999.0,-999.000,9,-999.000,-999.000,9,   47.15,2,   29.08,2,  324.80,-999.0000,9,-999.0000,9,-999.0000,9,-999.0000,9,-999.0000,9,-999.0000,9,  11.3796,     -999.0,9,     -999.0,9,     -999.0,9,     -999.0,9,        144,-999.000,-999.000,-999.000,     -999.0,9, -999.00,9, -999.00,9
33RO200306_02,       A16N,     144,          2,         22,         22,2,20030807,       1306,    -2.9987,   -25.0022,       5322,   374.5,  10.0060,  34.9215,2,  34.9135,2,     79.3,2,    77.5,2,   15.52,2,   31.61,2,    0.00,2,    1.92,2,   0.915,2,   0.488,2,   0.013,2,  2218.6,2,  2303.8,2,   -999.0,9,  -999.00,   7.5406,2,    25.00,-999.000,9,-999.000,9,-999.000,9, -999.00,9,  -999.0,9,  -999.0,-999.000,9,-999.000,-999.000,9,   45.93,2,   37.00,2,  374.50,-999.0000,9,-999.0000,9,-999.0000,9,-999.0000,9,-999.0000,9,-999.0000,9,   9.9622,     -999.0,9,     -999.0,9,     -999.0,9,     -999.0,9,        144,-999.000,-999.000,-999.000,     -999.0,9, -999.00,9, -999.00,9
33RO200306_02,       A16N,     144,          2,         21,         21,2,20030807,       1306,    -2.9987,   -25.0022,       5322,   424.0,   9.0578,  34.8219,2,  34.8160,2,     72.1,2,    70.9,2,   17.82,2,   34.21,2,    0.00,2,    2.07,2,-999.000,9,-999.000,9,-999.000,9,  2228.5,2,  2300.3,2,   1350.0,2,    20.00,   7.5104,2,    25.00,-999.000,9,-999.000,9,-999.000,9, -999.00,9,  -999.0,9,  -999.0,-999.000,9,-999.000,-999.000,9,   44.56,2,   41.23,2,  424.00,-999.0000,9,-999.0000,9,-999.0000,9,-999.0000,9,-999.0000,9,-999.0000,9,   9.0111,     -999.0,9,     -999.0,9,     -999.0,9,     -999.0,9,        144,-999.000,-999.000,-999.000,     -999.0,9, -999.00,9, -999.00,9
33RO200306_02,       A16N,     144,          2,         20,         20,2,20030807,       1306,    -2.9987,   -25.0022,       5322,   474.4,   8.0334,  34.7197,2,  34.7144,2,     79.7,2,    82.4,2,   20.01,2,   35.08,2,    0.00,2,    2.16,2,   0.459,2,   0.252,2,   0.006,2,  2229.0,2,  2296.9,2,   -999.0,9,  -999.00,   7.5033,2,    25.00,-999.000,9,-999.000,9,-999.000,9, -999.00,9,  -999.0,9,  -999.0,-999.000,9,-999.000,-999.000,9,   43.34,2,   40.27,2,  474.40,-999.0000,9,-999.0000,9,-999.0000,9,-999.0000,9,-999.0000,9,-999.0000,9,   7.9846,     -999.0,9,     -999.0,9,     -999.0,9,     -999.0,9,        144,-999.000,-999.000,-999.000,     -999.0,9, -999.00,9, -999.00,9
33RO200306_02,       A16N,     144,          2,         19,         19,2,20030807,       1306,    -2.9987,   -25.0022,       5322,   549.2,   6.2409,  34.5465,2,  34.5468,2,    117.9,2,   132.3,2,   24.14,2,   33.64,2,    0.00,2,    2.15,2,   0.526,2,   0.273,2,   0.013,2,  2210.4,2,  2297.3,2,   1196.0,2,    20.00,   7.5526,2,    25.00,-999.000,9,-999.000,9,-999.000,9, -999.00,9,  -999.0,9,  -999.0,-999.000,9,-999.000,-999.000,9,   44.47,2,   39.69,2,  549.20,-999.0000,9,-999.0000,9,-999.0000,9,-999.0000,9,-999.0000,9,-999.0000,9,   6.1917,     -999.0,9,     -999.0,9,     -999.0,9,     -999.0,9,        144,-999.000,-999.000,-999.000,     -999.0,9, -999.00,9, -999.00,9
33RO200306_02,       A16N,     144,          2,         18,         18,2,20030807,       1306,    -2.9987,   -25.0022,       5322,   651.0,   5.2786,  34.4802,2,  34.6313,2,    147.3,2,   152.2,2,   28.26,2,   33.52,2,    0.00,2,    2.19,2,   0.433,2,   0.223,2,   0.011,2,  2208.6,2,  2298.7,2,   1157.8,2,    20.00,   7.5602,2,    25.00,-999.000,9,-999.000,9,-999.000,9, -999.00,9,  -999.0,9,  -999.0,-999.000,9,-999.000,-999.000,9,   43.49,2,   37.83,2,  651.00,-999.0000,9,-999.0000,9,-999.0000,9,-999.0000,9,-999.0000,9,-999.0000,9,   5.2246,     -999.0,9,     -999.0,9,     -999.0,9,     -999.0,9,        144,-999.000,-999.000,-999.000,     -999.0,9, -999.00,9, -999.00,9
33RO200306_02,       A16N,     144,          2,         17,         17,2,20030807,       1306,    -2.9987,   -25.0022,       5322,   750.3,   4.7995,  34.4759,2,  34.4755,2,    157.0,2,   148.3,2,   31.46,2,   33.77,2,    0.00,2,    2.21,2,   0.291,2,   0.150,2,   0.009,2,  2214.7,2,  2301.7,6,   1160.8,2,    20.00,   7.8052,4,    25.00,-999.000,9,-999.000,9,-999.000,9, -999.00,9,  -999.0,9,  -999.0,-999.000,9,-999.000,-999.000,9,   41.63,2,   38.40,2,  750.30,-999.0000,9,-999.0000,9,-999.0000,9,-999.0000,9,-999.0000,9,-999.0000,9,   4.7395,     -999.0,9,     -999.0,9,     -999.0,9,     -999.0,9,        144,-999.000,-999.000,-999.000,     -999.0,9, -999.00,9, -999.00,9
33RO200306_02,       A16N,     144,          2,         16,         16,2,20030807,       1306,    -2.9987,   -25.0022,       5322,   850.3,   4.4999,  34.4961,2,  34.4959,2,    158.4,2,   156.5,2,   33.56,2,   33.84,2,    0.00,2,    2.24,2,   0.129,2,   0.071,2,   0.005,2,  2215.5,2,  2304.3,2,   1171.8,2,    20.00,   7.5660,2,    25.00,-999.000,9,-999.000,9,-999.000,9, -999.00,9,  -999.0,9,  -999.0,-999.000,9,-999.000,-999.000,9,   41.54,2,   38.68,2,  850.30,-999.0000,9,-999.0000,9,-999.0000,9,-999.0000,9,-999.0000,9,-999.0000,9,   4.4333,     -999.0,9,     -999.0,9,     -999.0,9,     -999.0,9,        144,-999.000,-999.000,-999.000,     -999.0,9, -999.00,9, -999.00,9
33RO200306_02,       A16N,     144,          2,         15,         15,2,20030807,       1306,    -2.9987,   -25.0022,       5322,   948.6,   4.4106,  34.5441,2,  34.5417,2,    156.1,2,   154.7,2,   34.02,2,   33.70,2,    0.00,2,    2.23,2,   0.053,2,   0.034,2,   0.001,2,  2217.7,2,  2310.2,2,   1172.9,3,    20.00,   7.5564,2,    25.00,-999.000,9,-999.000,9,-999.000,9, -999.00,9,  -999.0,9,  -999.0,-999.000,9,-999.000,-999.000,9,   41.87,2,   38.86,2,  948.60,-999.0000,9,-999.0000,9,-999.0000,9,-999.0000,9,-999.0000,9,-999.0000,9,   4.3361,     -999.0,9,     -999.0,9,     -999.0,9,     -999.0,9,        144,-999.000,-999.000,-999.000,     -999.0,9, -999.00,9, -999.00,9
33RO200306_02,       A16N,     144,          2,         14,         14,2,20030807,       1306,    -2.9987,   -25.0022,       5322,  1050.0,   4.3188,  34.5885,2,  34.5886,2,    161.4,2,   159.7,2,   33.94,2,   32.75,2,    0.00,2,    2.16,2,   0.039,2,   0.022,2,   0.000,2,  2215.4,6,  2304.3,3,   1138.1,2,    20.00,   7.5674,2,    25.00,-999.000,9,-999.000,9,-999.000,9, -999.00,9,  -999.0,9,  -999.0,-999.000,9,-999.000,-999.000,9,   41.63,2,   38.99,2, 1050.00,-999.0000,9,-999.0000,9,-999.0000,9,-999.0000,9,-999.0000,9,-999.0000,9,   4.2362,     -999.0,9,     -999.0,9,     -999.0,9,     -999.0,9,        144,-999.000,-999.000,-999.000,     -999.0,9, -999.00,9, -999.00,9
33RO200306_02,       A16N,     144,          2,         13,         13,2,20030807,       1306,    -2.9987,   -25.0022,       5322,  1150.9,   4.3273,  34.6863,2,  34.6893,2,    168.1,2,   167.6,2,   31.57,2,   30.68,2,    0.00,2,    2.04,2,   0.019,2,   0.012,2,   0.002,2,  2241.9,4,  2318.8,2,   1078.0,2,    20.00,   7.5920,2,    25.00,-999.000,9,-999.000,9,-999.000,9, -999.00,9,  -999.0,9,  -999.0,-999.000,9,-999.000,-999.000,9,   41.14,2,   36.44,2, 1150.90,-999.0000,9,-999.0000,9,-999.0000,9,-999.0000,9,-999.0000,9,-999.0000,9,   4.2357,     -999.0,9,     -999.0,9,     -999.0,9,     -999.0,9,        144,-999.000,-999.000,-999.000,     -999.0,9, -999.00,9, -999.00,9
33RO200306_02,       A16N,     144,          2,         12,         12,2,20030807,       1306,    -2.9987,   -25.0022,       5322,  1299.9,   4.3816,  34.8247,2,  34.8272,2,    189.5,2,   187.8,2,   26.38,2,   26.94,2,    0.00,2,    1.77,2,   0.033,2,   0.018,2,   0.000,2,  2199.9,2,  2318.0,2,   -999.0,9,  -999.00,   7.6460,2,    25.00,-999.000,9,-999.000,9,-999.000,9, -999.00,9,  -999.0,9,  -999.0,-999.000,9,-999.000,-999.000,9,   42.27,2,   31.44,2, 1299.90,-999.0000,9,-999.0000,9,-999.0000,9,-999.0000,9,-999.0000,9,-999.0000,9,   4.2759,     -999.0,9,     -999.0,9,     -999.0,9,     -999.0,9,        144,-999.000,-999.000,-999.000,     -999.0,9, -999.00,9, -999.00,9
33RO200306_02,       A16N,     144,          2,         11,         11,2,20030807,       1306,    -2.9987,   -25.0022,       5322,  1498.5,   4.2685,  34.9442,2,  34.9432,2,    221.7,2,   221.2,2,   20.79,2,   22.50,2,    0.00,2,    1.46,2,   0.125,2,   0.066,2,   0.004,2,  2181.0,2,  2320.4,2,    829.1,2,    20.00,   7.6921,2,    25.00,-999.000,9,-999.000,9,-999.000,9, -999.00,9,  -999.0,9,  -999.0,-999.000,9,-999.000,-999.000,9,   42.20,2,   27.40,2, 1498.50,-999.0000,9,-999.0000,9,-999.0000,9,-999.0000,9,-999.0000,9,-999.0000,9,   4.1455,     -999.0,9,     -999.0,9,     -999.0,9,     -999.0,9,        144,-999.000,-999.000,-999.000,     -999.0,9, -999.00,9, -999.00,9
33RO200306_02,       A16N,     144,          2,         10,         10,2,20030807,       1306,    -2.9987,   -25.0022,       5322,  1699.4,   3.8488,  34.9737,2,  34.9729,2,    245.0,2,   247.4,2,   19.71,2,   19.94,2,    0.00,2,    1.30,2,   0.120,2,   0.065,2,   0.004,2,  2170.0,2,  2320.1,2,   -999.0,9,  -999.00,   7.7198,2,    25.00,-999.000,9,-999.000,9,-999.000,9, -999.00,9,  -999.0,9,  -999.0,-999.000,9,-999.000,-999.000,9,   41.30,2,   23.63,2, 1699.40,-999.0000,9,-999.0000,9,-999.0000,9,-999.0000,9,-999.0000,9,-999.0000,9,   3.7121,     -999.0,9,     -999.0,9,     -999.0,9,     -999.0,9,        144,-999.000,-999.000,-999.000,     -999.0,9, -999.00,9, -999.00,9
33RO200306_02,       A16N,     144,          2,          9,          9,2,20030807,       1306,    -2.9987,   -25.0022,       5322,  1899.6,   3.5571,  34.9700,2,  34.9691,2,    252.0,2,   251.2,2,   21.05,2,   19.48,2,    0.00,2,    1.27,2,   0.127,2,   0.071,2,   0.004,2,  2168.8,2,  2322.5,2,    750.2,6,    20.00,   7.7251,2,    25.00,-999.000,9,-999.000,9,-999.000,9, -999.00,9,  -999.0,9,  -999.0,-999.000,9,-999.000,-999.000,9,   41.46,2,   23.88,2, 1899.60,-999.0000,9,-999.0000,9,-999.0000,9,-999.0000,9,-999.0000,9,-999.0000,9,   3.4056,     -999.0,9,     -999.0,9,     -999.0,9,     -999.0,9,        144,-999.000,-999.000,-999.000,     -999.0,9, -999.00,9, -999.00,9
33RO200306_02,       A16N,     144,          2,          8,          8,2,20030807,       1306,    -2.9987,   -25.0022,       5322,  2251.2,   3.2314,  34.9544,2,  34.9538,2,    252.9,2,   248.1,2,   25.23,2,   19.77,2,    0.00,2,    1.29,2,   0.082,2,   0.043,2,   0.005,2,  2172.4,2,  2323.1,2,   -999.0,9,  -999.00,   7.7340,2,    25.00,-999.000,9,-999.000,9,-999.000,9, -999.00,9,  -999.0,9,  -999.0,-999.000,9,-999.000,-999.000,9,   40.90,2,   23.59,2, 2251.20,-999.0000,9,-999.0000,9,-999.0000,9,-999.0000,9,-999.0000,9,-999.0000,9,   3.0516,     -999.0,9,     -999.0,9,     -999.0,9,     -999.0,9,        144,-999.000,-999.000,-999.000,     -999.0,9, -999.00,9, -999.00,9