BOTTLE,20230908CCHSIOCBG
EXPOCODE,SECT_ID,STNNBR,CASTNO,SAMPNO,BTLNBR,BTLNBR_FLAG_W,DATE,TIME,LATITUDE,LONGITUDE,DEPTH,CTDPRS,CTDTMP,CTDSAL,CTDSAL_FLAG_W,SALNTY,SALNTY_FLAG_W,CTDOXY,CTDOXY_FLAG_W,OXYGEN,OXYGEN_FLAG_W,SILCAT,SILCAT_FLAG_W,NITRAT,NITRAT_FLAG_W,NITRIT,NITRIT_FLAG_W,PHSPHT,PHSPHT_FLAG_W,CFC-11,CFC-11_FLAG_W,CFC-12,CFC-12_FLAG_W,CFC113,CFC113_FLAG_W,TCARBN,TCARBN_FLAG_W,ALKALI,ALKALI_FLAG_W,FCO2,FCO2_FLAG_W,FCO2TMP,PH_SWS,PH_SWS_FLAG_W,PH_TMP,TRITUM,TRITUM_FLAG_W,HELIUM,HELIUM_FLAG_W,DELHE3,DELHE3_FLAG_W,DELC13,DELC13_FLAG_W,DELC14,DELC14_FLAG_W,C14ERR,NEON,NEON_FLAG_W,NEONER,POC,POC_FLAG_W,DOC,DOC_FLAG_W,TDN,TDN_FLAG_W,CTDRAW,CDOM325,CDOM325_FLAG_W,CDOM340,CDOM340_FLAG_W,CDOM380,CDOM380_FLAG_W,CDOM412,CDOM412_FLAG_W,CDOMSL,CDOMSL_FLAG_W,CDOMSN,CDOMSN_FLAG_W,THETA,PON,PON_FLAG_W,HCFC-22,HCFC-22_FLAG_W,HCFC-142b,HCFC-142b_FLAG_W,HCFC-141b,HCFC-141b_FLAG_W,STNNBR_U,HELIER,DELHER,TRITER,CH3CL,CH3CL_FLAG_W,CH3BR,CH3BR_FLAG_W,CH3I,CH3I_FLAG_W
,,,,,,,,,,,METERS,DBAR,ITS-90,PSS-78,,PSS-78,,UMOL/KG,,UMOL/KG,,UMOL/KG,,UMOL/KG,,UMOL/KG,,UMOL/KG,,PMOL/KG,,PMOL/KG,,PMOL/KG,,UMOL/KG,,UMOL/KG,,UATM,,DEG C,,,DEG C,TU,,NMOL/KG,,PERCNT,,/MILLE,,/MILLE,,/MILLE,NMOL/KG,,NMOL/KG,UG/KG,,UMOL/KG,,UMOL/KG,,DBAR,1/M,,1/M,,1/M,,1/M,,1/NM,,1/NM,,DEG C,UMOL/L,,PMOL/KG,,PMOL/KG,,PMOL/KG,,,NMOL/KG,PERCNT,TU,PMOL/KG,,PMOL/KG,,PMOL/KG,
33RO200306_02,       A16N,     131,          1,         35,         35,2,20030804,       0427,     1.3340,   -25.0003,       3642,     3.8,  25.6343,  35.7515,2,  35.7551,2,    193.2,2,   208.7,2,    0.99,2,    0.16,2,    0.00,2,    0.12,2,-999.000,9,-999.000,9,-999.000,9,  2021.9,2,  2344.7,2,    309.8,2,    20.00,   8.0632,2,    25.00,-999.000,9,-999.000,9,-999.000,9, -999.00,9,  -999.0,9,  -999.0,-999.000,9,-999.000,-999.000,9, -999.00,9, -999.00,9,    3.80,-999.0000,9,-999.0000,9,-999.0000,9,-999.0000,9,-999.0000,9,-999.0000,9,  25.6335,     -999.0,9,     -999.0,9,     -999.0,9,     -999.0,9,        131,-999.000,-999.000,-999.000,     -999.0,9, -999.00,9, -999.00,9
33RO200306_02,       A16N,     131,          1,         33,         33,2,20030804,       0427,     1.3340,   -25.0003,       3642,     9.6,  25.6332,  35.7511,2,  35.7549,2,    193.0,2,   207.4,2,    0.99,2,    0.16,2,    0.00,2,    0.12,2,-999.000,9,-999.000,9,-999.000,9,  -999.0,9,  -999.0,9,   -999.0,9,  -999.00,-999.0000,9,  -999.00,-999.000,9,-999.000,9,-999.000,9, -999.00,9,  -999.0,9,  -999.0,-999.000,9,-999.000,-999.000,9, -999.00,9, -999.00,9,    9.60,-999.0000,9,-999.0000,9,-999.0000,9,-999.0000,9,-999.0000,9,-999.0000,9,  25.6311,     -999.0,9,     -999.0,9,     -999.0,9,     -999.0,9,        131,-999.000,-999.000,-999.000,     -999.0,9, -999.00,9, -999.00,9
33RO200306_02,       A16N,     131,          1,         32,         32,2,20030804,       0427,     1.3340,   -25.0003,       3642,    30.0,  25.6345,  35.7507,2,  35.7546,2,    192.9,2,   206.5,2,    1.02,2,    0.16,2,    0.00,2,    0.13,2,-999.000,9,-999.000,9,-999.000,9,  -999.0,9,  -999.0,9,   -999.0,9,  -999.00,-999.0000,9,  -999.00,-999.000,9,-999.000,9,-999.000,9, -999.00,9,  -999.0,9,  -999.0,-999.000,9,-999.000,-999.000,9, -999.00,9, -999.00,9,   30.00,-999.0000,9,-999.0000,9,-999.0000,9,-999.0000,9,-999.0000,9,-999.0000,9,  25.6279,     -999.0,9,     -999.0,9,     -999.0,9,     -999.0,9,        131,-999.000,-999.000,-999.000,     -999.0,9, -999.00,9, -999.00,9
33RO200306_02,       A16N,     131,          1,         31,         31,2,20030804,       0427,     1.3340,   -25.0003,       3642,    51.4,  25.5967,  35.7495,2,  35.7550,2,    192.5,2,   209.0,2,    1.05,2,    0.19,2,    0.00,2,    0.13,2,-999.000,9,-999.000,9,-999.000,9,  -999.0,9,  -999.0,9,   -999.0,9,  -999.00,-999.0000,9,  -999.00,-999.000,9,-999.000,9,-999.000,9, -999.00,9,  -999.0,9,  -999.0,-999.000,9,-999.000,-999.000,9, -999.00,9, -999.00,9,   51.40,-999.0000,9,-999.0000,9,-999.0000,9,-999.0000,9,-999.0000,9,-999.0000,9,  25.5853,     -999.0,9,     -999.0,9,     -999.0,9,     -999.0,9,        131,-999.000,-999.000,-999.000,     -999.0,9, -999.00,9, -999.00,9
33RO200306_02,       A16N,     131,          1,         30,         30,2,20030804,       0427,     1.3340,   -25.0003,       3642,    68.7,  22.5489,  35.7761,2,  35.7487,2,    177.5,2,   148.0,2,    3.26,2,    8.21,2,    0.24,2,    0.70,2,-999.000,9,-999.000,9,-999.000,9,  -999.0,9,  -999.0,9,   -999.0,9,  -999.00,-999.0000,9,  -999.00,-999.000,9,-999.000,9,-999.000,9, -999.00,9,  -999.0,9,  -999.0,-999.000,9,-999.000,-999.000,9, -999.00,9, -999.00,9,   68.70,-999.0000,9,-999.0000,9,-999.0000,9,-999.0000,9,-999.0000,9,-999.0000,9,  22.5350,     -999.0,9,     -999.0,9,     -999.0,9,     -999.0,9,        131,-999.000,-999.000,-999.000,     -999.0,9, -999.00,9, -999.00,9
33RO200306_02,       A16N,     131,          1,         29,         29,2,20030804,       0427,     1.3340,   -25.0003,       3642,    89.6,  16.2103,  35.6320,2,  35.6308,2,    109.2,2,   103.1,2,    5.82,2,   19.24,2,    0.04,2,    1.31,2,-999.000,9,-999.000,9,-999.000,9,  -999.0,9,  -999.0,9,   -999.0,9,  -999.00,-999.0000,9,  -999.00,-999.000,9,-999.000,9,-999.000,9, -999.00,9,  -999.0,9,  -999.0,-999.000,9,-999.000,-999.000,9, -999.00,9, -999.00,9,   89.60,-999.0000,9,-999.0000,9,-999.0000,9,-999.0000,9,-999.0000,9,-999.0000,9,  16.1960,     -999.0,9,     -999.0,9,     -999.0,9,     -999.0,9,        131,-999.000,-999.000,-999.000,     -999.0,9, -999.00,9, -999.00,9
33RO200306_02,       A16N,     131,          1,         28,         28,2,20030804,       0427,     1.3340,   -25.0003,       3642,   110.4,  15.0768,  35.5394,2,  35.5306,2,    109.2,2,   108.1,2,    7.00,2,   20.26,2,    0.02,2,    1.37,2,-999.000,9,-999.000,9,-999.000,9,  -999.0,9,  -999.0,9,   -999.0,9,  -999.00,-999.0000,9,  -999.00,-999.000,9,-999.000,9,-999.000,9, -999.00,9,  -999.0,9,  -999.0,-999.000,9,-999.000,-999.000,9, -999.00,9, -999.00,9,  110.40,-999.0000,9,-999.0000,9,-999.0000,9,-999.0000,9,-999.0000,9,-999.0000,9,  15.0600,     -999.0,9,     -999.0,9,     -999.0,9,     -999.0,9,        131,-999.000,-999.000,-999.000,     -999.0,9, -999.00,9, -999.00,9
33RO200306_02,       A16N,     131,          1,         27,         27,2,20030804,       0427,     1.3340,   -25.0003,       3642,   134.8,  14.5577,  35.4725,2,  35.4696,2,    103.5,2,   110.2,2,    7.66,2,   22.07,2,    0.02,2,    1.47,2,-999.000,9,-999.000,9,-999.000,9,  -999.0,9,  -999.0,9,   -999.0,9,  -999.00,-999.0000,9,  -999.00,-999.000,9,-999.000,9,-999.000,9, -999.00,9,  -999.0,9,  -999.0,-999.000,9,-999.000,-999.000,9, -999.00,9, -999.00,9,  134.80,-999.0000,9,-999.0000,9,-999.0000,9,-999.0000,9,-999.0000,9,-999.0000,9,  14.5377,     -999.0,9,     -999.0,9,     -999.0,9,     -999.0,9,        131,-999.000,-999.000,-999.000,     -999.0,9, -999.00,9, -999.00,9
33RO200306_02,       A16N,     131,          1,         26,         26,2,20030804,       0427,     1.3340,   -25.0003,       3642,   159.2,  14.3076,  35.4442,2,  35.4451,2,    101.2,2,   105.6,2,    7.60,2,   21.32,2,    0.01,2,    1.43,2,-999.000,9,-999.000,9,-999.000,9,  -999.0,9,  -999.0,9,   -999.0,9,  -999.00,-999.0000,9,  -999.00,-999.000,9,-999.000,9,-999.000,9, -999.00,9,  -999.0,9,  -999.0,-999.000,9,-999.000,-999.000,9, -999.00,9, -999.00,9,  159.20,-999.0000,9,-999.0000,9,-999.0000,9,-999.0000,9,-999.0000,9,-999.0000,9,  14.2842,     -999.0,9,     -999.0,9,     -999.0,9,     -999.0,9,        131,-999.000,-999.000,-999.000,     -999.0,9, -999.00,9, -999.00,9
33RO200306_02,       A16N,     131,          1,         25,         25,2,20030804,       0427,     1.3340,   -25.0003,       3642,   184.1,  13.8791,  35.3868,2,  35.3918,2,    105.2,2,   110.9,2,    7.92,2,   21.66,2,    0.01,2,    1.45,2,-999.000,9,-999.000,9,-999.000,9,  -999.0,9,  -999.0,9,   -999.0,9,  -999.00,-999.0000,9,  -999.00,-999.000,9,-999.000,9,-999.000,9, -999.00,9,  -999.0,9,  -999.0,-999.000,9,-999.000,-999.000,9, -999.00,9, -999.00,9,  184.10,-999.0000,9,-999.0000,9,-999.0000,9,-999.0000,9,-999.0000,9,-999.0000,9,  13.8526,     -999.0,9,     -999.0,9,     -999.0,9,     -999.0,9,        131,-999.000,-999.000,-999.000,     -999.0,9, -999.00,9, -999.00,9
33RO200306_02,       A16N,     131,          1,         24,         24,2,20030804,       0427,     1.3340,   -25.0003,       3642,   225.1,  13.1570,  35.2949,2,  35.2906,2,    107.5,2,   103.8,2,    8.67,2,   23.50,2,    0.01,2,    1.54,2,-999.000,9,-999.000,9,-999.000,9,  -999.0,9,  -999.0,9,   -999.0,9,  -999.00,-999.0000,9,  -999.00,-999.000,9,-999.000,9,-999.000,9, -999.00,9,  -999.0,9,  -999.0,-999.000,9,-999.000,-999.000,9, -999.00,9, -999.00,9,  225.10,-999.0000,9,-999.0000,9,-999.0000,9,-999.0000,9,-999.0000,9,-999.0000,9,  13.1257,     -999.0,9,     -999.0,9,     -999.0,9,     -999.0,9,        131,-999.000,-999.000,-999.000,     -999.0,9, -999.00,9, -999.00,9
33RO200306_02,       A16N,     131,          1,         23,         23,2,20030804,       0427,     1.3340,   -25.0003,       3642,   274.6,  11.6973,  35.1110,2,  35.1139,2,    112.0,2,   116.0,2,   10.27,2,   24.64,2,    0.01,2,    1.61,2,-999.000,9,-999.000,9,-999.000,9,  -999.0,9,  -999.0,9,   -999.0,9,  -999.00,-999.0000,9,  -999.00,-999.000,9,-999.000,9,-999.000,9, -999.00,9,  -999.0,9,  -999.0,-999.000,9,-999.000,-999.000,9, -999.00,9, -999.00,9,  274.60,-999.0000,9,-999.0000,9,-999.0000,9,-999.0000,9,-999.0000,9,-999.0000,9,  11.6619,     -999.0,9,     -999.0,9,     -999.0,9,     -999.0,9,        131,-999.000,-999.000,-999.000,     -999.0,9, -999.00,9, -999.00,9
33RO200306_02,       A16N,     131,          1,         22,         22,2,20030804,       0427,     1.3340,   -25.0003,       3642,   324.6,   9.7113,  34.8800,2,  34.8728,2,    135.9,2,   134.2,2,   13.02,2,   26.09,2,    0.01,2,    1.72,2,-999.000,9,-999.000,9,-999.000,9,  -999.0,9,  -999.0,9,   -999.0,9,  -999.00,-999.0000,9,  -999.00,-999.000,9,-999.000,9,-999.000,9, -999.00,9,  -999.0,9,  -999.0,-999.000,9,-999.000,-999.000,9, -999.00,9, -999.00,9,  324.60,-999.0000,9,-999.0000,9,-999.0000,9,-999.0000,9,-999.0000,9,-999.0000,9,   9.6741,     -999.0,9,     -999.0,9,     -999.0,9,     -999.0,9,        131,-999.000,-999.000,-999.000,     -999.0,9, -999.00,9, -999.00,9
33RO200306_02,       A16N,     131,          1,         21,         21,2,20030804,       0427,     1.3340,   -25.0003,       3642,   375.6,   8.0924,  34.7140,2,  34.7163,2,    142.0,2,   144.7,2,   16.45,2,   29.13,2,    0.01,2,    1.91,2,-999.000,9,-999.000,9,-999.000,9,  -999.0,9,  -999.0,9,   -999.0,9,  -999.00,-999.0000,9,  -999.00,-999.000,9,-999.000,9,-999.000,9, -999.00,9,  -999.0,9,  -999.0,-999.000,9,-999.000,-999.000,9, -999.00,9, -999.00,9,  375.60,-999.0000,9,-999.0000,9,-999.0000,9,-999.0000,9,-999.0000,9,-999.0000,9,   8.0538,     -999.0,9,     -999.0,9,     -999.0,9,     -999.0,9,        131,-999.000,-999.000,-999.000,     -999.0,9, -999.00,9, -999.00,9
33RO200306_02,       A16N,     131,          1,         20,         20,2,20030804,       0427,     1.3340,   -25.0003,       3642,   424.6,   7.4478,  34.6539,2,  34.6521,2,    132.9,2,   131.8,2,   18.90,2,   31.94,2,    0.01,2,    2.08,2,-999.000,9,-999.000,9,-999.000,9,  -999.0,9,  -999.0,9,   -999.0,9,  -999.00,-999.0000,9,  -999.00,-999.000,9,-999.000,9,-999.000,9, -999.00,9,  -999.0,9,  -999.0,-999.000,9,-999.000,-999.000,9, -999.00,9, -999.00,9,  424.60,-999.0000,9,-999.0000,9,-999.0000,9,-999.0000,9,-999.0000,9,-999.0000,9,   7.4062,     -999.0,9,     -999.0,9,     -999.0,9,     -999.0,9,        131,-999.000,-999.000,-999.000,     -999.0,9, -999.00,9, -999.00,9
33RO200306_02,       A16N,     131,          1,         19,         19,2,20030804,       0427,     1.3340,   -25.0003,       3642,   474.8,   6.9982,  34.6162,2,  34.6185,2,    134.1,2,   130.8,2,   20.16,2,   32.60,2,    0.01,2,    2.13,2,-999.000,9,-999.000,9,-999.000,9,  -999.0,9,  -999.0,9,   -999.0,9,  -999.00,-999.0000,9,  -999.00,-999.000,9,-999.000,9,-999.000,9, -999.00,9,  -999.0,9,  -999.0,-999.000,9,-999.000,-999.000,9, -999.00,9, -999.00,9,  474.80,-999.0000,9,-999.0000,9,-999.0000,9,-999.0000,9,-999.0000,9,-999.0000,9,   6.9531,     -999.0,9,     -999.0,9,     -999.0,9,     -999.0,9,        131,-999.000,-999.000,-999.000,     -999.0,9, -999.00,9, -999.00,9
33RO200306_02,       A16N,     131,          1,         18,         18,2,20030804,       0427,     1.3340,   -25.0003,       3642,   550.4,   6.3534,  34.5650,2,  34.5654,2,    143.2,2,   139.5,2,   22.47,2,   33.07,2,    0.01,2,    2.17,2,-999.000,9,-999.000,9,-999.000,9,  -999.0,9,  -999.0,9,   -999.0,9,  -999.00,-999.0000,9,  -999.00,-999.000,9,-999.000,9,-999.000,9, -999.00,9,  -999.0,9,  -999.0,-999.000,9,-999.000,-999.000,9, -999.00,9, -999.00,9,  550.40,-999.0000,9,-999.0000,9,-999.0000,9,-999.0000,9,-999.0000,9,-999.0000,9,   6.3036,     -999.0,9,     -999.0,9,     -999.0,9,     -999.0,9,        131,-999.000,-999.000,-999.000,     -999.0,9, -999.00,9, -999.00,9
33RO200306_02,       A16N,     131,          1,         17,         17,2,20030804,       0427,     1.3340,   -25.0003,       3642,   649.6,   5.5954,  34.5196,2,  34.5208,2,    148.2,2,   144.2,2,   25.83,2,   34.10,2,    0.01,2,    2.28,2,-999.000,9,-999.000,9,-999.000,9,  -999.0,9,  -999.0,9,   -999.0,9,  -999.00,-999.0000,9,  -999.00,-999.000,9,-999.000,9,-999.000,9, -999.00,9,  -999.0,9,  -999.0,-999.000,9,-999.000,-999.000,9, -999.00,9, -999.00,9,  649.60,-999.0000,9,-999.0000,9,-999.0000,9,-999.0000,9,-999.0000,9,-999.0000,9,   5.5399,     -999.0,9,     -999.0,9,     -999.0,9,     -999.0,9,        131,-999.000,-999.000,-999.000,     -999.0,9, -999.00,9, -999.00,9
33RO200306_02,       A16N,     131,          1,         16,         16,2,20030804,       0427,     1.3340,   -25.0003,       3642,   749.9,   5.1111,  34.5071,2,  34.5072,2,    151.3,2,   147.5,2,   28.62,2,   34.51,2,    0.01,2,    2.32,2,-999.000,9,-999.000,9,-999.000,9,  -999.0,9,  -999.0,9,   -999.0,9,  -999.00,-999.0000,9,  -999.00,-999.000,9,-999.000,9,-999.000,9, -999.00,9,  -999.0,9,  -999.0,-999.000,9,-999.000,-999.000,9, -999.00,9, -999.00,9,  749.90,-999.0000,9,-999.0000,9,-999.0000,9,-999.0000,9,-999.0000,9,-999.0000,9,   5.0493,     -999.0,9,     -999.0,9,     -999.0,9,     -999.0,9,        131,-999.000,-999.000,-999.000,     -999.0,9, -999.00,9, -999.00,9
33RO200306_02,       A16N,     131,          1,         15,         15,2,20030804,       0427,     1.3340,   -25.0003,       3642,   849.6,   4.7818,  34.5206,2,  34.5214,2,    157.3,2,   153.6,2,   30.44,2,   34.05,2,    0.01,2,    2.30,2,-999.000,9,-999.000,9,-999.000,9,  -999.0,9,  -999.0,9,   -999.0,9,  -999.00,-999.0000,9,  -999.00,-999.000,9,-999.000,9,-999.000,9, -999.00,9,  -999.0,9,  -999.0,-999.000,9,-999.000,-999.000,9, -999.00,9, -999.00,9,  849.60,-999.0000,9,-999.0000,9,-999.0000,9,-999.0000,9,-999.0000,9,-999.0000,9,   4.7133,     -999.0,9,     -999.0,9,     -999.0,9,     -999.0,9,        131,-999.000,-999.000,-999.000,     -999.0,9, -999.00,9, -999.00,9
33RO200306_02,       A16N,     131,          1,         14,         14,2,20030804,       0427,     1.3340,   -25.0003,       3642,   950.0,   4.5705,  34.5613,2,  34.5662,2,    160.1,2,   156.7,2,   31.38,2,   33.62,2,    0.01,2,    2.28,2,-999.000,9,-999.000,9,-999.000,9,  -999.0,9,  -999.0,9,   -999.0,9,  -999.00,-999.0000,9,  -999.00,-999.000,9,-999.000,9,-999.000,9, -999.00,9,  -999.0,9,  -999.0,-999.000,9,-999.000,-999.000,9, -999.00,9, -999.00,9,  950.00,-999.0000,9,-999.0000,9,-999.0000,9,-999.0000,9,-999.0000,9,-999.0000,9,   4.4947,     -999.0,9,     -999.0,9,     -999.0,9,     -999.0,9,        131,-999.000,-999.000,-999.000,     -999.0,9, -999.00,9, -999.00,9
33RO200306_02,       A16N,     131,          1,         13,         13,2,20030804,       0427,     1.3340,   -25.0003,       3642,  1049.3,   4.5701,  34.6791,2,  34.6767,2,    164.1,2,   166.5,2,   29.51,2,   31.86,2,    0.01,2,    2.16,2,   0.037,2,   0.024,2,   0.002,2,  2212.4,2,  2308.8,2,   1090.7,6,    20.00,   7.5831,2,    25.00,-999.000,9,-999.000,9,-999.000,9, -999.00,9,  -999.0,9,  -999.0,-999.000,9,-999.000,-999.000,9, -999.00,9, -999.00,9, 1049.30,-999.0000,9,-999.0000,9,-999.0000,9,-999.0000,9,-999.0000,9,-999.0000,9,   4.4854,     -999.0,9,     -999.0,9,     -999.0,9,     -999.0,9,        131,-999.000,-999.000,-999.000,     -999.0,9, -999.00,9, -999.00,9
33RO200306_02,       A16N,     131,          1,         12,         12,2,20030804,       0427,     1.3340,   -25.0003,       3642,  1149.8,   4.5632,  34.7758,2,  34.7765,2,    176.9,2,   178.3,2,   26.74,2,   29.46,2,    0.01,2,    1.99,2,-999.000,9,-999.000,9,-999.000,9,  -999.0,9,  -999.0,9,   -999.0,9,  -999.00,-999.0000,9,  -999.00,-999.000,9,-999.000,9,-999.000,9, -999.00,9,  -999.0,9,  -999.0,-999.000,9,-999.000,-999.000,9, -999.00,9, -999.00,9, 1149.80,-999.0000,9,-999.0000,9,-999.0000,9,-999.0000,9,-999.0000,9,-999.0000,9,   4.4695,     -999.0,9,     -999.0,9,     -999.0,9,     -999.0,9,        131,-999.000,-999.000,-999.000,     -999.0,9, -999.00,9, -999.00,9
33RO200306_02,       A16N,     131,          1,         11,         11,2,20030804,       0427,     1.3340,   -25.0003,       3642,  1300.2,   4.6212,  34.8986,2,  34.9011,2,    191.8,2,   199.8,2,   21.85,2,   25.52,2,    0.01,2,    1.72,2,-999.000,9,-999.000,9,-999.000,9,  -999.0,9,  -999.0,9,   -999.0,9,  -999.00,-999.0000,9,  -999.00,-999.000,9,-999.000,9,-999.000,9, -999.00,9,  -999.0,9,  -999.0,-999.000,9,-999.000,-999.000,9, -999.00,9, -999.00,9, 1300.20,-999.0000,9,-999.0000,9,-999.0000,9,-999.0000,9,-999.0000,9,-999.0000,9,   4.5130,     -999.0,9,     -999.0,9,     -999.0,9,     -999.0,9,        131,-999.000,-999.000,-999.000,     -999.0,9, -999.00,9, -999.00,9
33RO200306_02,       A16N,     131,          1,         10,         10,2,20030804,       0427,     1.3340,   -25.0003,       3642,  1450.2,   4.3992,  34.9682,2,  34.9699,2,    219.9,2,   216.3,2,   18.14,2,   21.97,2,    0.01,2,    1.47,2,   0.228,2,   0.119,2,   0.007,2,  2174.4,2,  2314.7,2,    809.3,2,    20.00,   7.7050,2,    25.00,-999.000,9,-999.000,9,-999.000,9, -999.00,9,  -999.0,9,  -999.0,-999.000,9,-999.000,-999.000,9, -999.00,9, -999.00,9, 1450.20,-999.0000,9,-999.0000,9,-999.0000,9,-999.0000,9,-999.0000,9,-999.0000,9,   4.2792,     -999.0,9,     -999.0,9,     -999.0,9,     -999.0,9,        131,-999.000,-999.000,-999.000,     -999.0,9, -999.00,9, -999.00,9
33RO200306_02,       A16N,     131,          1,          9,          9,2,20030804,       0427,     1.3340,   -25.0003,       3642,  1599.6,   4.1398,  34.9820,2,  34.9837,2,    235.8,2,   242.1,2,   17.15,2,   20.42,2,    0.01,2,    1.38,2,   0.266,2,   0.137,2,   0.007,2,  2168.8,2,  2315.1,2,   -999.0,9,  -999.00,   7.7196,2,    25.00,-999.000,9,-999.000,9,-999.000,9, -999.00,9,  -999.0,9,  -999.0,-999.000,9,-999.000,-999.000,9, -999.00,9, -999.00,9, 1599.60,-999.0000,9,-999.0000,9,-999.0000,9,-999.0000,9,-999.0000,9,-999.0000,9,   4.0087,     -999.0,9,     -999.0,9,     -999.0,9,     -999.0,9,        131,-999.000,-999.000,-999.000,     -999.0,9, -999.00,9, -999.00,9
33RO200306_02,       A16N,     131,          1,          8,          8,2,20030804,       0427,     1.3340,   -25.0003,       3642,  1801.3,   3.9165,  34.9781,2,  34.9808,2,    242.5,2,   246.2,2,   18.00,2,   20.06,2,    0.01,2,    1.36,2,   0.178,2,   0.092,2,   0.007,2,  2167.7,2,  2315.6,2,    762.0,2,    20.00,   7.7180,2,    25.00,-999.000,9,-999.000,9,-999.000,9, -999.00,9,  -999.0,9,  -999.0,-999.000,9,-999.000,-999.000,9, -999.00,9, -999.00,9, 1801.30,-999.0000,9,-999.0000,9,-999.0000,9,-999.0000,9,-999.0000,9,-999.0000,9,   3.7693,     -999.0,9,     -999.0,9,     -999.0,9,     -999.0,9,        131,-999.000,-999.000,-999.000,     -999.0,9, -999.00,9, -999.00,9