BOTTLE,20230908CCHSIOCBG
EXPOCODE,SECT_ID,STNNBR,CASTNO,SAMPNO,BTLNBR,BTLNBR_FLAG_W,DATE,TIME,LATITUDE,LONGITUDE,DEPTH,CTDPRS,CTDTMP,CTDSAL,CTDSAL_FLAG_W,SALNTY,SALNTY_FLAG_W,CTDOXY,CTDOXY_FLAG_W,OXYGEN,OXYGEN_FLAG_W,SILCAT,SILCAT_FLAG_W,NITRAT,NITRAT_FLAG_W,NITRIT,NITRIT_FLAG_W,PHSPHT,PHSPHT_FLAG_W,CFC-11,CFC-11_FLAG_W,CFC-12,CFC-12_FLAG_W,CFC113,CFC113_FLAG_W,TCARBN,TCARBN_FLAG_W,ALKALI,ALKALI_FLAG_W,FCO2,FCO2_FLAG_W,FCO2TMP,PH_SWS,PH_SWS_FLAG_W,PH_TMP,TRITUM,TRITUM_FLAG_W,HELIUM,HELIUM_FLAG_W,DELHE3,DELHE3_FLAG_W,DELC13,DELC13_FLAG_W,DELC14,DELC14_FLAG_W,C14ERR,NEON,NEON_FLAG_W,NEONER,POC,POC_FLAG_W,DOC,DOC_FLAG_W,TDN,TDN_FLAG_W,CTDRAW,CDOM325,CDOM325_FLAG_W,CDOM340,CDOM340_FLAG_W,CDOM380,CDOM380_FLAG_W,CDOM412,CDOM412_FLAG_W,CDOMSL,CDOMSL_FLAG_W,CDOMSN,CDOMSN_FLAG_W,THETA,PON,PON_FLAG_W,HCFC-22,HCFC-22_FLAG_W,HCFC-142b,HCFC-142b_FLAG_W,HCFC-141b,HCFC-141b_FLAG_W,STNNBR_U,HELIER,DELHER,TRITER,CH3CL,CH3CL_FLAG_W,CH3BR,CH3BR_FLAG_W,CH3I,CH3I_FLAG_W
,,,,,,,,,,,METERS,DBAR,ITS-90,PSS-78,,PSS-78,,UMOL/KG,,UMOL/KG,,UMOL/KG,,UMOL/KG,,UMOL/KG,,UMOL/KG,,PMOL/KG,,PMOL/KG,,PMOL/KG,,UMOL/KG,,UMOL/KG,,UATM,,DEG C,,,DEG C,TU,,NMOL/KG,,PERCNT,,/MILLE,,/MILLE,,/MILLE,NMOL/KG,,NMOL/KG,UG/KG,,UMOL/KG,,UMOL/KG,,DBAR,1/M,,1/M,,1/M,,1/M,,1/NM,,1/NM,,DEG C,UMOL/L,,PMOL/KG,,PMOL/KG,,PMOL/KG,,,NMOL/KG,PERCNT,TU,PMOL/KG,,PMOL/KG,,PMOL/KG,
33RO200306_02,       A16N,     084,          1,         35,         35,2,20030720,       1451,    23.9992,   -26.7498,       5460,     3.9,  24.6323,  37.2885,2,  37.2909,2,    210.2,2,   209.5,2,    0.32,2,    0.04,2,    0.01,2,    0.05,2,   1.917,2,   1.221,2,   0.162,2,  2102.1,6,  2438.3,6,    323.8,2,    20.00,   8.0492,6,    25.00,   0.942,2,-999.000,9,-999.000,9, -999.00,9,  -999.0,9,  -999.0,-999.000,9,-999.000,-999.000,9,   68.78,2,    7.34,2,    3.90,-999.0000,9,-999.0000,9,-999.0000,9,-999.0000,9,-999.0000,9,-999.0000,9,  24.6315,     -999.0,9,       5.72,2,       0.43,2,       1.27,2,         84,-999.000,-999.000,   0.010,     148.97,2,    3.07,2,   16.05,2
33RO200306_02,       A16N,     084,          1,         33,         33,2,20030720,       1451,    23.9992,   -26.7498,       5460,    13.2,  24.6290,  37.2879,2,  37.2893,2,    209.8,2,   209.8,2,    0.31,2,    0.04,2,    0.01,2,    0.05,2,   1.918,2,   1.218,2,   0.161,2,  2102.8,2,  2437.9,2,    323.9,2,    20.00,   8.0563,2,    25.00,-999.000,9,-999.000,9,-999.000,9, -999.00,9,  -999.0,9,  -999.0,-999.000,9,-999.000,-999.000,9,   68.05,2,    8.54,2,   13.20,-999.0000,9,-999.0000,9,-999.0000,9,-999.0000,9,-999.0000,9,-999.0000,9,  24.6261,     -999.0,9,       4.17,2,       0.16,2,       0.35,2,         84,-999.000,-999.000,-999.000,      52.51,2,    0.72,2,   19.74,2
33RO200306_02,       A16N,     084,          1,         32,         32,2,20030720,       1451,    23.9992,   -26.7498,       5460,    44.1,  24.4651,  37.2799,2,  37.2382,2,    209.9,2,   213.1,2,    0.33,2,    0.04,2,    0.01,2,    0.06,2,   1.956,6,   1.244,6,   0.180,6,  2099.0,2,  2434.4,2,    324.2,2,    20.00,   8.0552,2,    25.00,-999.000,9,-999.000,9,-999.000,9, -999.00,9,  -999.0,9,  -999.0,-999.000,9,-999.000,-999.000,9, -999.00,9, -999.00,9,   44.10,-999.0000,9,-999.0000,9,-999.0000,9,-999.0000,9,-999.0000,9,-999.0000,9,  24.4556,     -999.0,9,     -999.0,9,     -999.0,9,     -999.0,9,         84,-999.000,-999.000,-999.000,     -999.0,9, -999.00,9, -999.00,9
33RO200306_02,       A16N,     084,          1,         31,         31,2,20030720,       1451,    23.9992,   -26.7498,       5460,    64.2,  22.5792,  37.0813,2,  37.0626,2,    224.2,2,   222.4,2,    0.32,2,    0.05,2,    0.01,2,    0.07,2,   2.124,2,   1.334,2,   0.191,2,  2097.5,2,  2423.0,2,    331.9,2,    20.00,   8.0439,2,    25.00,-999.000,9,-999.000,9,-999.000,9, -999.00,9,  -999.0,9,  -999.0,-999.000,9,-999.000,-999.000,9,   66.66,2,    8.12,2,   64.20,-999.0000,9,-999.0000,9,-999.0000,9,-999.0000,9,-999.0000,9,-999.0000,9,  22.5662,     -999.0,9,       4.38,2,       0.26,2,       0.37,2,         84,-999.000,-999.000,-999.000,     118.01,2,    1.32,2,   20.63,2
33RO200306_02,       A16N,     084,          1,         30,         30,2,20030720,       1451,    23.9992,   -26.7498,       5460,    94.1,  21.5836,  37.0373,2,  37.0726,2,    214.9,2,   219.0,2,    0.46,2,    0.02,2,    0.01,2,    0.09,2,   2.137,2,   1.342,2,   0.183,2,  2107.6,2,  2427.7,2,    348.2,2,    20.00,   8.0254,2,    25.00,-999.000,9,-999.000,9,-999.000,9, -999.00,9,  -999.0,9,  -999.0,-999.000,9,-999.000,-999.000,9,   63.74,2,    8.46,2,   94.10,-999.0000,9,-999.0000,9,-999.0000,9,-999.0000,9,-999.0000,9,-999.0000,9,  21.5651,     -999.0,9,     -999.0,9,     -999.0,9,     -999.0,9,         84,-999.000,-999.000,-999.000,     -999.0,9, -999.00,9, -999.00,9
33RO200306_02,       A16N,     084,          1,         29,         29,2,20030720,       1451,    23.9992,   -26.7498,       5460,   114.3,  21.5241,  37.1870,2,  37.1841,2,    209.8,2,   207.9,2,    0.51,2,    1.99,2,    0.11,2,    0.09,2,   2.149,2,   1.349,2,   0.174,2,  2114.8,2,  2430.7,2,    352.5,2,    20.00,   8.0236,2,    25.00,-999.000,9,-999.000,9,-999.000,9, -999.00,9,  -999.0,9,  -999.0,-999.000,9,-999.000,-999.000,9, -999.00,9, -999.00,9,  114.30,-999.0000,9,-999.0000,9,-999.0000,9,-999.0000,9,-999.0000,9,-999.0000,9,  21.5016,     -999.0,9,       3.86,2,       0.14,2,       0.44,2,         84,-999.000,-999.000,-999.000,      73.66,2,    1.56,2,    3.82,2
33RO200306_02,       A16N,     084,          1,         28,         28,2,20030720,       1451,    23.9992,   -26.7498,       5460,   139.5,  20.6599,  37.0235,2,  37.0213,2,    199.0,2,   193.7,2,    0.81,2,    5.20,2,    0.05,2,    0.18,2,   2.207,2,   1.363,2,   0.149,2,  2124.7,2,  2424.3,2,    385.8,2,    20.00,   7.9927,2,    25.00,-999.000,9,-999.000,9,-999.000,9, -999.00,9,  -999.0,9,  -999.0,-999.000,9,-999.000,-999.000,9,   58.21,2,   10.26,2,  139.50,-999.0000,9,-999.0000,9,-999.0000,9,-999.0000,9,-999.0000,9,-999.0000,9,  20.6332,     -999.0,9,     -999.0,9,     -999.0,9,     -999.0,9,         84,-999.000,-999.000,-999.000,     -999.0,9, -999.00,9, -999.00,9
33RO200306_02,       A16N,     084,          1,         27,         27,2,20030720,       1451,    23.9992,   -26.7498,       5460,   164.2,  19.2778,  36.7529,2,  36.7465,2,    181.0,2,   176.0,2,    1.38,2,    5.84,2,    0.02,2,    0.34,2,   2.284,2,   1.396,2,   0.109,2,  2137.9,2,  2400.0,2,    438.7,2,    20.00,   7.9439,2,    25.00,   0.891,2,-999.000,9,-999.000,9, -999.00,9,  -999.0,9,  -999.0,-999.000,9,-999.000,-999.000,9, -999.00,9, -999.00,9,  164.20,-999.0000,9,-999.0000,9,-999.0000,9,-999.0000,9,-999.0000,9,-999.0000,9,  19.2479,     -999.0,9,       4.00,2,       0.19,2,       1.46,2,         84,-999.000,-999.000,   0.050,      34.92,2,     3.0,2,    1.06,2
33RO200306_02,       A16N,     084,          1,         26,         26,2,20030720,       1451,    23.9992,   -26.7498,       5460,   189.0,  18.5664,  36.6288,2,  36.6255,2,    172.9,2,   176.3,2,    1.51,2,    5.35,2,    0.01,2,    0.36,2,   2.333,2,   1.419,2,   0.068,2,  2136.7,2,  2393.8,2,    449.4,2,    20.00,   7.9049,2,    25.00,-999.000,9,-999.000,9,-999.000,9, -999.00,9,  -999.0,9,  -999.0,-999.000,9,-999.000,-999.000,9,   55.85,2,   13.82,2,  189.00,-999.0000,9,-999.0000,9,-999.0000,9,-999.0000,9,-999.0000,9,-999.0000,9,  18.5329,     -999.0,9,     -999.0,9,     -999.0,9,     -999.0,9,         84,-999.000,-999.000,-999.000,     -999.0,9, -999.00,9, -999.00,9
33RO200306_02,       A16N,     084,          1,         25,         25,2,20030720,       1451,    23.9992,   -26.7498,       5460,   224.5,  17.5639,  36.4460,2,  36.4394,2,    169.0,2,   169.6,2,    2.08,2,    7.79,2,    0.01,2,    0.48,2,   2.374,2,   1.420,2,   0.045,2,  2141.6,2,  -999.0,9,    482.7,2,    20.00,-999.0000,9,  -999.00,-999.000,9,-999.000,9,-999.000,9, -999.00,9,  -999.0,9,  -999.0,-999.000,9,-999.000,-999.000,9,   51.46,2,   13.63,2,  224.50,-999.0000,9,-999.0000,9,-999.0000,9,-999.0000,9,-999.0000,9,-999.0000,9,  17.5256,     -999.0,9,       3.92,2,       0.15,2,       0.32,2,         84,-999.000,-999.000,-999.000,        0.0,2,     0.0,2,    0.17,2
33RO200306_02,       A16N,     084,          1,         24,         24,2,20030720,       1451,    23.9992,   -26.7498,       5460,   273.7,  16.0134,  36.1722,2,  36.1711,2,    156.9,2,   155.1,2,    3.35,2,   11.68,2,    0.01,2,    0.72,2,   2.333,2,   1.360,2,   0.033,2,  2154.2,2,  -999.0,9,    554.8,2,    20.00,-999.0000,9,  -999.00,-999.000,9,-999.000,9,-999.000,9, -999.00,9,  -999.0,9,  -999.0,-999.000,9,-999.000,-999.000,9,   49.83,2,   17.30,2,  273.70,-999.0000,9,-999.0000,9,-999.0000,9,-999.0000,9,-999.0000,9,-999.0000,9,  15.9696,     -999.0,9,     -999.0,9,     -999.0,9,     -999.0,9,         84,-999.000,-999.000,-999.000,     -999.0,9, -999.00,9, -999.00,9
33RO200306_02,       A16N,     084,          1,         23,         23,2,20030720,       1451,    23.9992,   -26.7498,       5460,   324.3,  15.1074,  36.0369,2,  36.0333,2,    144.4,2,   151.4,2,    4.19,2,   16.29,2,    0.01,2,    0.83,2,   2.307,2,   1.313,2,   0.026,2,  2160.7,2,  2359.1,2,    593.6,2,    20.00,   7.8259,2,    25.00,-999.000,9,-999.000,9,-999.000,9, -999.00,9,  -999.0,9,  -999.0,-999.000,9,-999.000,-999.000,9,   47.40,2,   19.35,2,  324.30,-999.0000,9,-999.0000,9,-999.0000,9,-999.0000,9,-999.0000,9,-999.0000,9,  15.0574,     -999.0,9,       2.97,2,       0.16,2,       0.34,2,         84,-999.000,-999.000,-999.000,        0.0,2,     0.0,2,    0.17,2
33RO200306_02,       A16N,     084,          1,         22,         22,2,20030720,       1451,    23.9992,   -26.7498,       5460,   373.9,  14.1688,  35.8961,2,  35.8965,2,    140.3,2,   140.4,2,    5.26,2,   17.83,2,    0.01,2,    0.97,2,   2.204,2,   1.234,2,   0.027,2,  2171.7,2,  2349.6,2,    655.9,2,    20.00,   7.7885,2,    25.00,-999.000,9,-999.000,9,-999.000,9, -999.00,9,  -999.0,9,  -999.0,-999.000,9,-999.000,-999.000,9,   46.65,2,   21.30,2,  373.90,-999.0000,9,-999.0000,9,-999.0000,9,-999.0000,9,-999.0000,9,-999.0000,9,  14.1136,     -999.0,9,     -999.0,9,     -999.0,9,     -999.0,9,         84,-999.000,-999.000,-999.000,     -999.0,9, -999.00,9, -999.00,9
33RO200306_02,       A16N,     084,          1,         21,         21,2,20030720,       1451,    23.9992,   -26.7498,       5460,   449.6,  13.0181,  35.7530,2,  35.7513,2,    144.2,2,   144.3,2,    6.20,2,   20.97,2,    0.01,2,    1.06,2,   2.072,2,   1.137,2,   0.028,2,  2171.2,2,  2341.6,2,    692.7,2,    20.00,   7.7687,2,    25.00,-999.000,9,-999.000,9,-999.000,9, -999.00,9,  -999.0,9,  -999.0,-999.000,9,-999.000,-999.000,9,   45.85,2,   24.06,2,  449.60,-999.0000,9,-999.0000,9,-999.0000,9,-999.0000,9,-999.0000,9,-999.0000,9,  12.9552,     -999.0,9,     -999.0,9,     -999.0,9,     -999.0,9,         84,-999.000,-999.000,-999.000,     -999.0,9, -999.00,9, -999.00,9
33RO200306_02,       A16N,     084,          1,         20,         20,2,20030720,       1451,    23.9992,   -26.7498,       5460,   549.0,  11.7630,  35.5883,2,  35.5883,2,    138.6,2,   135.9,2,    8.24,2,   24.25,2,    0.01,2,    1.25,2,   1.689,2,   0.891,2,   0.025,2,  2183.5,2,  2334.4,2,    772.2,2,    20.00,   7.7224,2,    25.00,-999.000,9,-999.000,9,-999.000,9, -999.00,9,  -999.0,9,  -999.0,-999.000,9,-999.000,-999.000,9,   44.80,2,   27.51,3,  549.00,-999.0000,9,-999.0000,9,-999.0000,9,-999.0000,9,-999.0000,9,-999.0000,9,  11.6908,     -999.0,9,     -999.0,9,     -999.0,9,     -999.0,9,         84,-999.000,-999.000,-999.000,     -999.0,9, -999.00,9, -999.00,9
33RO200306_02,       A16N,     084,          1,         19,         19,2,20030720,       1451,    23.9992,   -26.7498,       5460,   645.1,  10.5136,  35.4328,2,  35.4295,2,    122.5,2,   126.2,2,   11.14,2,   24.07,2,    0.01,2,    1.48,2,   1.050,2,   0.550,2,   0.013,2,  2196.3,2,  2328.8,2,    859.9,2,    20.00,   7.6856,2,    25.00,-999.000,9,-999.000,9,-999.000,9, -999.00,9,  -999.0,9,  -999.0,-999.000,9,-999.000,-999.000,9,   42.52,2,   28.60,2,  645.10,-999.0000,9,-999.0000,9,-999.0000,9,-999.0000,9,-999.0000,9,-999.0000,9,  10.4343,     -999.0,9,       1.06,2,       0.00,2,       0.27,2,         84,-999.000,-999.000,-999.000,        3.0,2,    0.25,2,    0.49,2
33RO200306_02,       A16N,     084,          1,         18,         18,2,20030720,       1451,    23.9992,   -26.7498,       5460,   798.8,   8.8512,  35.2790,2,  35.2771,2,    131.4,2,   130.6,2,   15.08,2,   26.12,2,    0.01,2,    1.66,2,   0.411,2,   0.220,2,   0.003,2,  2202.7,2,  2326.9,2,    908.8,2,    20.00,   7.6609,2,    25.00,   0.361,2,-999.000,9,-999.000,9, -999.00,9,  -999.0,9,  -999.0,-999.000,9,-999.000,-999.000,9,   42.27,2,   31.35,2,  798.80,-999.0000,9,-999.0000,9,-999.0000,9,-999.0000,9,-999.0000,9,-999.0000,9,   8.7620,     -999.0,9,     -999.0,9,     -999.0,9,     -999.0,9,         84,-999.000,-999.000,   0.020,     -999.0,9, -999.00,9, -999.00,9
33RO200306_02,       A16N,     084,          1,         17,         17,2,20030720,       1451,    23.9992,   -26.7498,       5460,   949.8,   7.6036,  35.1800,2,  35.1790,2,    141.9,2,   141.8,2,   17.78,2,   26.77,2,    0.01,2,    1.74,2,   0.193,2,   0.102,2,   0.005,2,  2205.3,6,  2326.6,6,    924.3,2,    20.00,   7.6581,6,    25.00,   0.196,2,-999.000,9,-999.000,9, -999.00,9,  -999.0,9,  -999.0,-999.000,9,-999.000,-999.000,9,   41.39,2,   32.10,2,  949.80,-999.0000,9,-999.0000,9,-999.0000,9,-999.0000,9,-999.0000,9,-999.0000,9,   7.5054,     -999.0,9,       0.01,2,       0.00,2,       0.34,2,         84,-999.000,-999.000,   0.010,     -999.0,5,    0.64,2, -999.00,5
33RO200306_02,       A16N,     084,          1,         16,         16,2,20030720,       1451,    23.9992,   -26.7498,       5460,  1099.9,   6.7867,  35.1503,2,  35.1542,2,    156.6,2,   149.8,2,   18.66,2,   25.97,2,    0.01,2,    1.70,2,   0.115,2,   0.060,2,   0.004,2,  2201.1,2,  2326.7,2,    897.9,6,    20.00,   7.6680,2,    25.00,   0.104,2,-999.000,9,-999.000,9, -999.00,9,  -999.0,9,  -999.0,-999.000,9,-999.000,-999.000,9,   41.63,2,   29.51,2, 1099.90,-999.0000,9,-999.0000,9,-999.0000,9,-999.0000,9,-999.0000,9,-999.0000,9,   6.6785,     -999.0,9,     -999.0,9,     -999.0,9,     -999.0,9,         84,-999.000,-999.000,   0.020,     -999.0,9, -999.00,9, -999.00,9
33RO200306_02,       A16N,     084,          1,         15,         15,2,20030720,       1451,    23.9992,   -26.7498,       5460,  1248.8,   6.2695,  35.1793,2,  35.1796,2,    175.4,2,   176.5,2,   18.45,2,   24.29,2,    0.01,2,    1.60,2,   0.087,2,   0.048,2,   0.000,2,  2195.3,2,  -999.0,9,    848.0,2,    20.00,-999.0000,9,  -999.00,-999.000,9,-999.000,9,-999.000,9, -999.00,9,  -999.0,9,  -999.0,-999.000,9,-999.000,-999.000,9,   40.49,2,   28.73,2, 1248.80,-999.0000,9,-999.0000,9,-999.0000,9,-999.0000,9,-999.0000,9,-999.0000,9,   6.1501,     -999.0,9,       0.00,2,       0.00,2,       0.37,2,         84,-999.000,-999.000,-999.000,     -999.0,5,    0.65,2,    0.24,2
33RO200306_02,       A16N,     084,          1,         14,         14,2,20030720,       1451,    23.9992,   -26.7498,       5460,  1500.8,   5.4215,  35.1669,2,  35.1680,2,    199.0,2,   200.2,2,   19.14,2,   22.38,2,    0.01,2,    1.49,2,   0.044,2,   0.025,2,   0.003,2,  2186.6,2,  -999.0,9,    799.6,2,    20.00,-999.0000,9,  -999.00,-999.000,9,-999.000,9,-999.000,9, -999.00,9,  -999.0,9,  -999.0,-999.000,9,-999.000,-999.000,9,   41.05,2,   27.58,2, 1500.80,-999.0000,9,-999.0000,9,-999.0000,9,-999.0000,9,-999.0000,9,-999.0000,9,   5.2848,     -999.0,9,     -999.0,9,     -999.0,9,     -999.0,9,         84,-999.000,-999.000,-999.000,     -999.0,9, -999.00,9, -999.00,9
33RO200306_02,       A16N,     084,          1,         13,         13,2,20030720,       1451,    23.9992,   -26.7498,       5460,  1690.3,   4.7581,  35.1220,2,  35.1217,2,    213.7,2,   215.7,2,   20.18,2,   21.11,2,    0.01,2,    1.44,2,   0.029,2,   0.014,2,   0.002,2,  2182.8,2,  2331.5,2,   -999.0,9,  -999.00,   7.7216,2,    25.00,-999.000,9,-999.000,9,-999.000,9, -999.00,9,  -999.0,9,  -999.0,-999.000,9,-999.000,-999.000,9,   41.54,2,   25.78,2, 1690.30,-999.0000,9,-999.0000,9,-999.0000,9,-999.0000,9,-999.0000,9,-999.0000,9,   4.6104,     -999.0,9,       0.00,2,       0.00,2,       0.44,2,         84,-999.000,-999.000,-999.000,        0.0,2,     0.0,2,    0.05,2
33RO200306_02,       A16N,     084,          1,         12,         12,2,20030720,       1451,    23.9992,   -26.7498,       5460,  1899.2,   4.2664,  35.0824,2,  35.0821,2,    222.7,2,   222.4,2,   21.85,2,   21.11,2,    0.01,2,    1.42,2,   0.011,2,   0.011,2,   0.003,2,  2180.2,2,  2332.1,2,    765.0,6,    20.00,   7.7270,2,    25.00,   0.030,2,   1.885,3,  -0.726,2, -999.00,9,  -999.0,9,  -999.0,   7.872,2,   0.064,-999.000,9,   40.32,2,   24.72,2, 1899.20,-999.0000,9,-999.0000,9,-999.0000,9,-999.0000,9,-999.0000,9,-999.0000,9,   4.1046,     -999.0,9,     -999.0,9,     -999.0,9,     -999.0,9,         84,   0.004,    0.22,   0.010,     -999.0,9, -999.00,9, -999.00,9
33RO200306_02,       A16N,     084,          1,         11,         11,2,20030720,       1451,    23.9992,   -26.7498,       5460,  2098.5,   3.8649,  35.0471,2,  35.0487,2,    230.3,2,   226.4,2,   23.70,2,   20.89,2,    0.01,2,    1.42,2,   0.007,2,   0.004,2,   0.001,2,  2180.4,2,  2331.7,2,   -999.0,9,  -999.00,   7.7274,2,    25.00,-999.000,9,-999.000,9,-999.000,9, -999.00,9,  -999.0,9,  -999.0,-999.000,9,-999.000,-999.000,9,   41.22,2,   25.33,2, 2098.50,-999.0000,9,-999.0000,9,-999.0000,9,-999.0000,9,-999.0000,9,-999.0000,9,   3.6895,     -999.0,9,       0.00,2,       0.00,2,       0.24,2,         84,-999.000,-999.000,-999.000,        0.0,2,    0.24,2,    0.22,2
33RO200306_02,       A16N,     084,          1,         10,         10,2,20030720,       1451,    23.9992,   -26.7498,       5460,  2299.0,   3.5174,  35.0156,2,  35.0164,2,    235.1,2,   237.3,2,   25.88,2,   20.74,2,    0.01,2,    1.41,2,   0.005,2,   0.006,2,   0.002,2,  2180.3,2,  2332.6,2,    755.7,2,    20.00,   7.7340,2,    25.00,-999.000,9,   1.867,2,   0.461,2, -999.00,9,  -999.0,9,  -999.0,   7.995,2,   0.028,-999.000,9,   41.23,2,   25.04,2, 2299.00,-999.0000,9,-999.0000,9,-999.0000,9,-999.0000,9,-999.0000,9,-999.0000,9,   3.3279,     -999.0,9,     -999.0,9,     -999.0,9,     -999.0,9,         84,   0.003,   0.177,-999.000,     -999.0,9, -999.00,9, -999.00,9
33RO200306_02,       A16N,     084,          1,          9,          9,2,20030720,       1451,    23.9992,   -26.7498,       5460,  2599.4,   3.1106,  34.9766,2,  34.9766,2,    240.2,2,   241.7,2,   29.65,2,   20.71,2,    0.00,2,    1.42,2,   0.011,3,   0.006,2,   0.001,2,  2183.5,2,  2337.5,2,   -999.0,9,  -999.00,   7.7362,2,    25.00,-999.000,9,-999.000,9,-999.000,9, -999.00,9,  -999.0,9,  -999.0,-999.000,9,-999.000,-999.000,9,   40.00,2,   24.16,2, 2599.40,-999.0000,9,-999.0000,9,-999.0000,9,-999.0000,9,-999.0000,9,-999.0000,9,   2.8986,     -999.0,9,       0.00,2,       0.00,2,       0.23,2,         84,-999.000,-999.000,-999.000,      43.73,2,    1.06,2,    0.25,2
33RO200306_02,       A16N,     084,          1,          8,          8,2,20030720,       1451,    23.9992,   -26.7498,       5460,  3000.4,   2.7478,  34.9408,2,  34.9420,2,    240.8,2,   242.4,2,   35.27,2,   21.29,2,    0.00,2,    1.47,2,   0.000,2,   0.004,2,   0.000,2,  2187.7,2,  2343.1,2,    760.8,2,    20.00,   7.7345,2,    25.00,-999.000,9,-999.000,9,-999.000,9, -999.00,9,  -999.0,9,  -999.0,-999.000,9,-999.000,-999.000,9,   41.22,2,   26.55,2, 3000.40,-999.0000,9,-999.0000,9,-999.0000,9,-999.0000,9,-999.0000,9,-999.0000,9,   2.5024,     -999.0,9,     -999.0,9,     -999.0,9,     -999.0,9,         84,-999.000,-999.000,-999.000,     -999.0,9, -999.00,9, -999.00,9