BOTTLE,20230908CCHSIOCBG
EXPOCODE,SECT_ID,STNNBR,CASTNO,SAMPNO,BTLNBR,BTLNBR_FLAG_W,DATE,TIME,LATITUDE,LONGITUDE,DEPTH,CTDPRS,CTDTMP,CTDSAL,CTDSAL_FLAG_W,SALNTY,SALNTY_FLAG_W,CTDOXY,CTDOXY_FLAG_W,OXYGEN,OXYGEN_FLAG_W,SILCAT,SILCAT_FLAG_W,NITRAT,NITRAT_FLAG_W,NITRIT,NITRIT_FLAG_W,PHSPHT,PHSPHT_FLAG_W,CFC-11,CFC-11_FLAG_W,CFC-12,CFC-12_FLAG_W,CFC113,CFC113_FLAG_W,TCARBN,TCARBN_FLAG_W,ALKALI,ALKALI_FLAG_W,FCO2,FCO2_FLAG_W,FCO2TMP,PH_SWS,PH_SWS_FLAG_W,PH_TMP,TRITUM,TRITUM_FLAG_W,HELIUM,HELIUM_FLAG_W,DELHE3,DELHE3_FLAG_W,DELC13,DELC13_FLAG_W,DELC14,DELC14_FLAG_W,C14ERR,NEON,NEON_FLAG_W,NEONER,POC,POC_FLAG_W,DOC,DOC_FLAG_W,TDN,TDN_FLAG_W,CTDRAW,CDOM325,CDOM325_FLAG_W,CDOM340,CDOM340_FLAG_W,CDOM380,CDOM380_FLAG_W,CDOM412,CDOM412_FLAG_W,CDOMSL,CDOMSL_FLAG_W,CDOMSN,CDOMSN_FLAG_W,THETA,PON,PON_FLAG_W,HCFC-22,HCFC-22_FLAG_W,HCFC-142b,HCFC-142b_FLAG_W,HCFC-141b,HCFC-141b_FLAG_W,STNNBR_U,HELIER,DELHER,TRITER,CH3CL,CH3CL_FLAG_W,CH3BR,CH3BR_FLAG_W,CH3I,CH3I_FLAG_W
,,,,,,,,,,,METERS,DBAR,ITS-90,PSS-78,,PSS-78,,UMOL/KG,,UMOL/KG,,UMOL/KG,,UMOL/KG,,UMOL/KG,,UMOL/KG,,PMOL/KG,,PMOL/KG,,PMOL/KG,,UMOL/KG,,UMOL/KG,,UATM,,DEG C,,,DEG C,TU,,NMOL/KG,,PERCNT,,/MILLE,,/MILLE,,/MILLE,NMOL/KG,,NMOL/KG,UG/KG,,UMOL/KG,,UMOL/KG,,DBAR,1/M,,1/M,,1/M,,1/M,,1/NM,,1/NM,,DEG C,UMOL/L,,PMOL/KG,,PMOL/KG,,PMOL/KG,,,NMOL/KG,PERCNT,TU,PMOL/KG,,PMOL/KG,,PMOL/KG,
33RO200306_02,       A16N,     106,          2,          7,          7,2,20030727,       1542,    13.0000,   -29.0008,       5712,  3500.4,   2.5408,  34.9142,2,  34.9139,2,    245.6,2,   245.7,2,   38.62,2,   21.29,2,    0.01,2,    1.48,2,   0.002,2,   0.000,2,   0.001,2,  2187.7,2,  2344.2,2,   -999.0,9,  -999.00,   7.7260,2,    25.00,-999.000,9,-999.000,9,-999.000,9, -999.00,9,  -999.0,9,  -999.0,-999.000,9,-999.000,-999.000,9,   42.36,2,   25.15,2, 3500.40,-999.0000,9,-999.0000,9,-999.0000,9,-999.0000,9,-999.0000,9,-999.0000,9,   2.2473,     -999.0,9,     -999.0,9,     -999.0,9,     -999.0,9,        106,-999.000,-999.000,-999.000,     -999.0,9, -999.00,9, -999.00,9
33RO200306_02,       A16N,     106,          2,          6,          6,2,20030727,       1542,    13.0000,   -29.0008,       5712,  3998.4,   2.3922,  34.8976,2,  34.8963,2,    238.6,2,   237.7,2,   45.58,2,   22.34,2,    0.00,2,    1.55,2,-999.000,9,-999.000,9,-999.000,9,  2202.1,2,  2353.6,2,    777.0,6,    20.00,   7.7199,2,    25.00,-999.000,9,-999.000,9,-999.000,9, -999.00,9,  -999.0,9,  -999.0,-999.000,9,-999.000,-999.000,9,   40.73,2,   26.84,2, 3998.40,-999.0000,9,-999.0000,9,-999.0000,9,-999.0000,9,-999.0000,9,-999.0000,9,   2.0472,     -999.0,9,       0.00,2,       0.00,2,       0.12,2,        106,-999.000,-999.000,-999.000,      19.49,2,    0.35,2,     0.0,2
33RO200306_02,       A16N,     106,          2,          5,          5,2,20030727,       1542,    13.0000,   -29.0008,       5712,  4398.8,   2.3205,  34.8848,2,  34.8851,2,    236.3,2,   236.9,2,   49.47,2,   22.82,2,    0.00,2,    1.58,2,   0.012,2,   0.007,2,   0.000,2,  2207.3,2,  2357.8,2,   -999.0,9,  -999.00,   7.7205,2,    25.00,-999.000,9,-999.000,9,-999.000,9, -999.00,9,  -999.0,9,  -999.0,-999.000,9,-999.000,-999.000,9,   39.92,2,   28.02,2, 4398.80,-999.0000,9,-999.0000,9,-999.0000,9,-999.0000,9,-999.0000,9,-999.0000,9,   1.9309,     -999.0,9,     -999.0,9,     -999.0,9,     -999.0,9,        106,-999.000,-999.000,-999.000,     -999.0,9, -999.00,9, -999.00,9
33RO200306_02,       A16N,     106,          2,          4,          4,2,20030727,       1542,    13.0000,   -29.0008,       5712,  4721.1,   2.3069,  34.8795,2,  34.8788,2,    236.7,2,   237.0,2,   50.74,6,   22.89,6,    0.00,6,    1.59,6,-999.000,9,-999.000,9,-999.000,9,  2208.9,2,  2359.2,2,   -999.0,9,  -999.00,   7.7198,2,    25.00,-999.000,9,-999.000,9,-999.000,9, -999.00,9,  -999.0,9,  -999.0,-999.000,9,-999.000,-999.000,9,   42.44,2,   26.61,2, 4721.10,-999.0000,9,-999.0000,9,-999.0000,9,-999.0000,9,-999.0000,9,-999.0000,9,   1.8788,     -999.0,9,     -999.0,9,     -999.0,9,     -999.0,9,        106,-999.000,-999.000,-999.000,     -999.0,9, -999.00,9, -999.00,9
33RO200306_02,       A16N,     106,          2,          3,          3,2,20030727,       1542,    13.0000,   -29.0008,       5712,  5199.5,   2.2920,  34.8732,2,  34.8747,2,    244.5,2,   245.3,2,   49.40,6,   22.29,6,    0.00,6,    1.56,6,   0.015,2,   0.009,2,   0.004,2,  2197.9,2,  2349.2,2,    777.0,2,    20.00,   7.7236,2,    25.00,-999.000,9,-999.000,9,-999.000,9, -999.00,9,  -999.0,9,  -999.0,-999.000,9,-999.000,-999.000,9,   41.36,2,   27.24,2, 5199.50,-999.0000,9,-999.0000,9,-999.0000,9,-999.0000,9,-999.0000,9,-999.0000,9,   1.8043,     -999.0,9,     -999.0,9,     -999.0,9,     -999.0,9,        106,-999.000,-999.000,-999.000,     -999.0,9, -999.00,9, -999.00,9
33RO200306_02,       A16N,     106,          2,          2,          2,2,20030727,       1542,    13.0000,   -29.0008,       5712,  5498.2,   2.3063,  34.8705,2,  34.8698,2,    244.7,2,   247.0,2,   49.96,6,   22.29,6,    0.00,6,    1.56,6,   0.021,2,   0.011,2,   0.003,2,  2197.9,2,  2349.5,2,   -999.0,9,  -999.00,   7.7216,2,    25.00,-999.000,9,-999.000,9,-999.000,9, -999.00,9,  -999.0,9,  -999.0,-999.000,9,-999.000,-999.000,9,   41.14,2,   26.23,2, 5498.20,-999.0000,9,-999.0000,9,-999.0000,9,-999.0000,9,-999.0000,9,-999.0000,9,   1.7793,     -999.0,9,     -999.0,9,     -999.0,9,     -999.0,9,        106,-999.000,-999.000,-999.000,     -999.0,9, -999.00,9, -999.00,9
33RO200306_02,       A16N,     106,          2,          1,          1,2,20030727,       1542,    13.0000,   -29.0008,       5712,  5796.1,   2.3414,  34.8694,2,  34.8727,2,    244.4,2,   245.6,2,   50.13,6,   22.22,6,    0.00,6,    1.56,6,   0.021,2,   0.015,2,   0.001,2,  2198.2,6,  2351.0,6,    778.1,2,    20.00,   7.7243,6,    25.00,-999.000,9,-999.000,9,-999.000,9, -999.00,9,  -999.0,9,  -999.0,-999.000,9,-999.000,-999.000,9,   41.71,2,   27.31,2, 5796.10,-999.0000,9,-999.0000,9,-999.0000,9,-999.0000,9,-999.0000,9,-999.0000,9,   1.7732,     -999.0,9,     -999.0,9,     -999.0,9,     -999.0,9,        106,-999.000,-999.000,-999.000,     -999.0,9, -999.00,9, -999.00,9