BOTTLE,20230908CCHSIOCBG
EXPOCODE,SECT_ID,STNNBR,CASTNO,SAMPNO,BTLNBR,BTLNBR_FLAG_W,DATE,TIME,LATITUDE,LONGITUDE,DEPTH,CTDPRS,CTDTMP,CTDSAL,CTDSAL_FLAG_W,SALNTY,SALNTY_FLAG_W,CTDOXY,CTDOXY_FLAG_W,OXYGEN,OXYGEN_FLAG_W,SILCAT,SILCAT_FLAG_W,NITRAT,NITRAT_FLAG_W,NITRIT,NITRIT_FLAG_W,PHSPHT,PHSPHT_FLAG_W,CFC-11,CFC-11_FLAG_W,CFC-12,CFC-12_FLAG_W,CFC113,CFC113_FLAG_W,TCARBN,TCARBN_FLAG_W,ALKALI,ALKALI_FLAG_W,FCO2,FCO2_FLAG_W,FCO2TMP,PH_SWS,PH_SWS_FLAG_W,PH_TMP,TRITUM,TRITUM_FLAG_W,HELIUM,HELIUM_FLAG_W,DELHE3,DELHE3_FLAG_W,DELC13,DELC13_FLAG_W,DELC14,DELC14_FLAG_W,C14ERR,NEON,NEON_FLAG_W,NEONER,POC,POC_FLAG_W,DOC,DOC_FLAG_W,TDN,TDN_FLAG_W,CTDRAW,CDOM325,CDOM325_FLAG_W,CDOM340,CDOM340_FLAG_W,CDOM380,CDOM380_FLAG_W,CDOM412,CDOM412_FLAG_W,CDOMSL,CDOMSL_FLAG_W,CDOMSN,CDOMSN_FLAG_W,THETA,PON,PON_FLAG_W,HCFC-22,HCFC-22_FLAG_W,HCFC-142b,HCFC-142b_FLAG_W,HCFC-141b,HCFC-141b_FLAG_W,STNNBR_U,HELIER,DELHER,TRITER,CH3CL,CH3CL_FLAG_W,CH3BR,CH3BR_FLAG_W,CH3I,CH3I_FLAG_W
,,,,,,,,,,,METERS,DBAR,ITS-90,PSS-78,,PSS-78,,UMOL/KG,,UMOL/KG,,UMOL/KG,,UMOL/KG,,UMOL/KG,,UMOL/KG,,PMOL/KG,,PMOL/KG,,PMOL/KG,,UMOL/KG,,UMOL/KG,,UATM,,DEG C,,,DEG C,TU,,NMOL/KG,,PERCNT,,/MILLE,,/MILLE,,/MILLE,NMOL/KG,,NMOL/KG,UG/KG,,UMOL/KG,,UMOL/KG,,DBAR,1/M,,1/M,,1/M,,1/M,,1/NM,,1/NM,,DEG C,UMOL/L,,PMOL/KG,,PMOL/KG,,PMOL/KG,,,NMOL/KG,PERCNT,TU,PMOL/KG,,PMOL/KG,,PMOL/KG,
33RO200306_01,       A16N,     058,          1,         33,         33,2,20030705,       0118,    36.4998,   -20.0017,       5157,     3.6,  21.9251,  36.4647,2,  36.4658,2,    230.6,2,   214.1,2,    0.71,2,    0.00,2,    0.00,2,    0.00,9,-999.000,9,-999.000,9,-999.000,9,  -999.0,9,  -999.0,9,   -999.0,9,  -999.00,-999.0000,9,  -999.00,-999.000,9,-999.000,9,-999.000,9, -999.00,9,  -999.0,9,  -999.0,-999.000,9,-999.000,-999.000,9, -999.00,9, -999.00,9,    3.60,-999.0000,9,-999.0000,9,-999.0000,9,-999.0000,9,-999.0000,9,-999.0000,9,  21.9244,     -999.0,9,     -999.0,9,     -999.0,9,     -999.0,9,         58,-999.000,-999.000,-999.000,     -999.0,9, -999.00,9, -999.00,9
33RO200306_01,       A16N,     058,          1,         35,         35,2,20030705,       0118,    36.4998,   -20.0017,       5157,     3.6,  21.9233,  36.4648,2,  36.4678,2,    230.6,2,   221.6,2,    0.70,2,    0.00,2,    0.00,2,    0.00,9,-999.000,9,-999.000,9,-999.000,9,  2092.6,6,  -999.0,9,   -999.0,9,  -999.00,-999.0000,9,  -999.00,-999.000,9,-999.000,9,-999.000,9,    1.33,2,    81.9,2,     3.3,-999.000,9,-999.000,-999.000,9, -999.00,9, -999.00,9,    3.60,-999.0000,9,-999.0000,9,-999.0000,9,-999.0000,9,-999.0000,9,-999.0000,9,  21.9226,     -999.0,9,       7.02,2,       0.37,2,       1.28,2,         58,-999.000,-999.000,-999.000,      86.38,2,    1.69,2,    4.87,2
33RO200306_01,       A16N,     058,          1,         32,         32,2,20030705,       0118,    36.4998,   -20.0017,       5157,    17.0,  21.5829,  36.4621,2,-999.0000,1,    230.6,2,   230.3,2,    0.77,2,    0.00,2,    0.00,2,    0.02,2,-999.000,9,-999.000,9,-999.000,9,  -999.0,9,  -999.0,9,   -999.0,9,  -999.00,-999.0000,9,  -999.00,-999.000,9,-999.000,9,-999.000,9, -999.00,9,  -999.0,9,  -999.0,-999.000,9,-999.000,-999.000,9, -999.00,9, -999.00,9,   17.00,-999.0000,9,-999.0000,9,-999.0000,9,-999.0000,9,-999.0000,9,-999.0000,9,  21.5796,     -999.0,9,       6.25,2,       0.51,2,       1.39,2,         58,-999.000,-999.000,-999.000,     130.97,2,    1.58,2,    13.1,2
33RO200306_01,       A16N,     058,          1,         31,         31,2,20030705,       0118,    36.4998,   -20.0017,       5157,    40.3,  17.5275,  36.1892,2,  36.1904,2,    254.1,2,   257.3,2,    0.86,2,    0.01,2,    0.00,2,    0.03,2,-999.000,9,-999.000,9,-999.000,9,  -999.0,9,  -999.0,9,   -999.0,9,  -999.00,-999.0000,9,  -999.00,-999.000,9,-999.000,9,-999.000,9, -999.00,9,  -999.0,9,  -999.0,-999.000,9,-999.000,-999.000,9, -999.00,9, -999.00,9,   40.30,-999.0000,9,-999.0000,9,-999.0000,9,-999.0000,9,-999.0000,9,-999.0000,9,  17.5207,     -999.0,9,       6.08,2,       0.25,2,       1.07,2,         58,-999.000,-999.000,-999.000,     128.07,2,     2.0,2,   38.96,2
33RO200306_01,       A16N,     058,          1,         30,         30,2,20030705,       0118,    36.4998,   -20.0017,       5157,    60.7,  16.4035,  36.1079,2,  36.1087,2,    253.3,2,   253.9,2,    0.95,2,    0.03,2,    0.00,2,    0.04,2,-999.000,9,-999.000,9,-999.000,9,  -999.0,9,  -999.0,9,   -999.0,9,  -999.00,-999.0000,9,  -999.00,-999.000,9,-999.000,9,-999.000,9, -999.00,9,  -999.0,9,  -999.0,-999.000,9,-999.000,-999.000,9, -999.00,9, -999.00,9,   60.70,-999.0000,9,-999.0000,9,-999.0000,9,-999.0000,9,-999.0000,9,-999.0000,9,  16.3937,     -999.0,9,       6.21,2,       0.24,2,       1.16,2,         58,-999.000,-999.000,-999.000,     111.93,2,    1.46,2,   29.67,2
33RO200306_01,       A16N,     058,          1,         29,         29,2,20030705,       0118,    36.4998,   -20.0017,       5157,    80.1,  15.7077,  36.0989,2,  36.1016,2,    244.9,2,   242.9,2,    0.97,2,    0.25,2,    0.09,2,    0.07,2,-999.000,9,-999.000,9,-999.000,9,  -999.0,9,  -999.0,9,   -999.0,9,  -999.00,-999.0000,9,  -999.00,-999.000,9,-999.000,9,-999.000,9, -999.00,9,  -999.0,9,  -999.0,-999.000,9,-999.000,-999.000,9, -999.00,9, -999.00,9,   80.10,-999.0000,9,-999.0000,9,-999.0000,9,-999.0000,9,-999.0000,9,-999.0000,9,  15.6951,     -999.0,9,       6.39,2,       0.34,2,       1.37,2,         58,-999.000,-999.000,-999.000,     111.84,2,    2.72,2,   11.03,2
33RO200306_01,       A16N,     058,          1,         28,         28,2,20030705,       0118,    36.4998,   -20.0017,       5157,    99.5,  15.3681,  36.0892,2,  36.0917,2,    231.8,2,   230.4,2,    1.24,2,    2.65,2,    0.09,2,    0.19,2,-999.000,9,-999.000,9,-999.000,9,  -999.0,9,  -999.0,9,   -999.0,9,  -999.00,-999.0000,9,  -999.00,-999.000,9,-999.000,9,-999.000,9, -999.00,9,  -999.0,9,  -999.0,-999.000,9,-999.000,-999.000,9, -999.00,9, -999.00,9,   99.50,-999.0000,9,-999.0000,9,-999.0000,9,-999.0000,9,-999.0000,9,-999.0000,9,  15.3527,     -999.0,9,       6.42,2,       0.36,2,       1.15,2,         58,-999.000,-999.000,-999.000,      31.76,2,    0.43,2,    4.09,2
33RO200306_01,       A16N,     058,          1,         27,         27,2,20030705,       0118,    36.4998,   -20.0017,       5157,   124.7,  14.9370,  36.0278,2,  36.0314,2,    219.3,2,   229.3,2,    1.37,2,    3.66,2,    0.03,2,    0.24,2,-999.000,9,-999.000,9,-999.000,9,  -999.0,9,  -999.0,9,   -999.0,9,  -999.00,-999.0000,9,  -999.00,-999.000,9,-999.000,9,-999.000,9, -999.00,9,  -999.0,9,  -999.0,-999.000,9,-999.000,-999.000,9, -999.00,9, -999.00,9,  124.70,-999.0000,9,-999.0000,9,-999.0000,9,-999.0000,9,-999.0000,9,-999.0000,9,  14.9180,     -999.0,9,     -999.0,9,     -999.0,9,     -999.0,9,         58,-999.000,-999.000,-999.000,     -999.0,9, -999.00,9, -999.00,9
33RO200306_01,       A16N,     058,          1,         26,         26,2,20030705,       0118,    36.4998,   -20.0017,       5157,   149.3,  14.7052,  36.0129,2,  36.0108,2,    220.6,2,   220.8,2,    2.06,2,    6.10,2,    0.01,2,    0.37,2,-999.000,9,-999.000,9,-999.000,9,  -999.0,9,  -999.0,9,   -999.0,9,  -999.00,-999.0000,9,  -999.00,-999.000,9,-999.000,9,-999.000,9, -999.00,9,  -999.0,9,  -999.0,-999.000,9,-999.000,-999.000,9, -999.00,9, -999.00,9,  149.30,-999.0000,9,-999.0000,9,-999.0000,9,-999.0000,9,-999.0000,9,-999.0000,9,  14.6827,     -999.0,9,       5.56,2,       0.39,2,       0.58,2,         58,-999.000,-999.000,-999.000,      18.14,2,    0.23,2,    0.52,2
33RO200306_01,       A16N,     058,          1,         25,         25,2,20030705,       0118,    36.4998,   -20.0017,       5157,   175.3,  14.3774,  35.9594,2,  35.9608,2,    218.3,2,   216.4,2,    2.45,2,    7.38,2,    0.01,2,    0.44,2,-999.000,9,-999.000,9,-999.000,9,  -999.0,9,  -999.0,9,   -999.0,9,  -999.00,-999.0000,9,  -999.00,-999.000,9,-999.000,9,-999.000,9, -999.00,9,  -999.0,9,  -999.0,-999.000,9,-999.000,-999.000,9, -999.00,9, -999.00,9,  175.30,-999.0000,9,-999.0000,9,-999.0000,9,-999.0000,9,-999.0000,9,-999.0000,9,  14.3514,     -999.0,9,     -999.0,9,     -999.0,9,     -999.0,9,         58,-999.000,-999.000,-999.000,     -999.0,9, -999.00,9, -999.00,9
33RO200306_01,       A16N,     058,          1,         24,         24,2,20030705,       0118,    36.4998,   -20.0017,       5157,   200.0,  14.1267,  35.9248,2,  35.9225,2,    215.2,2,   218.7,2,    2.35,2,    7.28,2,    0.01,2,    0.44,2,-999.000,9,-999.000,9,-999.000,9,  -999.0,9,  -999.0,9,   -999.0,9,  -999.00,-999.0000,9,  -999.00,-999.000,9,-999.000,9,-999.000,9, -999.00,9,  -999.0,9,  -999.0,-999.000,9,-999.000,-999.000,9, -999.00,9, -999.00,9,  200.00,-999.0000,9,-999.0000,9,-999.0000,9,-999.0000,9,-999.0000,9,-999.0000,9,  14.0974,     -999.0,9,     -999.0,9,     -999.0,9,     -999.0,9,         58,-999.000,-999.000,-999.000,     -999.0,9, -999.00,9, -999.00,9
33RO200306_01,       A16N,     058,          1,         23,         23,2,20030705,       0118,    36.4998,   -20.0017,       5157,   249.6,  13.6041,  35.8423,2,  35.8444,2,    217.9,2,   218.0,2,    2.74,2,    8.30,2,    0.01,2,    0.50,2,-999.000,9,-999.000,9,-999.000,9,  -999.0,9,  -999.0,9,   -999.0,9,  -999.00,-999.0000,9,  -999.00,-999.000,9,-999.000,9,-999.000,9, -999.00,9,  -999.0,9,  -999.0,-999.000,9,-999.000,-999.000,9, -999.00,9, -999.00,9,  249.60,-999.0000,9,-999.0000,9,-999.0000,9,-999.0000,9,-999.0000,9,-999.0000,9,  13.5684,     -999.0,9,       6.19,2,       0.31,2,       1.15,2,         58,-999.000,-999.000,-999.000,      84.48,2,    0.84,2,    0.03,2
33RO200306_01,       A16N,     058,          1,         22,         22,2,20030705,       0118,    36.4998,   -20.0017,       5157,   284.6,  13.2358,  35.7834,2,  35.7811,2,    210.2,2,   211.5,2,    3.50,2,   10.01,2,    0.01,2,    0.60,2,-999.000,9,-999.000,9,-999.000,9,  -999.0,9,  -999.0,9,   -999.0,9,  -999.00,-999.0000,9,  -999.00,-999.000,9,-999.000,9,-999.000,9, -999.00,9,  -999.0,9,  -999.0,-999.000,9,-999.000,-999.000,9, -999.00,9, -999.00,9,  284.60,-999.0000,9,-999.0000,9,-999.0000,9,-999.0000,9,-999.0000,9,-999.0000,9,  13.1958,     -999.0,9,     -999.0,9,     -999.0,9,     -999.0,9,         58,-999.000,-999.000,-999.000,     -999.0,9, -999.00,9, -999.00,9
33RO200306_01,       A16N,     058,          1,         21,         21,2,20030705,       0118,    36.4998,   -20.0017,       5157,   339.4,  12.7814,  35.7208,2,  35.7182,2,    209.9,2,   208.7,2,    3.86,2,   10.95,2,    0.01,2,    0.66,2,-999.000,9,-999.000,9,-999.000,9,  -999.0,9,  -999.0,9,   -999.0,9,  -999.00,-999.0000,9,  -999.00,-999.000,9,-999.000,9,-999.000,9, -999.00,9,  -999.0,9,  -999.0,-999.000,9,-999.000,-999.000,9, -999.00,9, -999.00,9,  339.40,-999.0000,9,-999.0000,9,-999.0000,9,-999.0000,9,-999.0000,9,-999.0000,9,  12.7347,     -999.0,9,     -999.0,9,     -999.0,9,     -999.0,9,         58,-999.000,-999.000,-999.000,     -999.0,9, -999.00,9, -999.00,9
33RO200306_01,       A16N,     058,          1,         20,         20,2,20030705,       0118,    36.4998,   -20.0017,       5157,   425.2,  12.0516,  35.6298,2,  35.6296,2,    207.2,2,   204.5,2,    4.62,2,   12.64,2,    0.01,2,    0.76,2,-999.000,9,-999.000,9,-999.000,9,  -999.0,9,  -999.0,9,   -999.0,9,  -999.00,-999.0000,9,  -999.00,-999.000,9,-999.000,9,-999.000,9, -999.00,9,  -999.0,9,  -999.0,-999.000,9,-999.000,-999.000,9, -999.00,9, -999.00,9,  425.20,-999.0000,9,-999.0000,9,-999.0000,9,-999.0000,9,-999.0000,9,-999.0000,9,  11.9951,     -999.0,9,       4.51,2,       0.25,2,       0.49,2,         58,-999.000,-999.000,-999.000,       4.75,2,    0.02,2,     0.1,2
33RO200306_01,       A16N,     058,          1,         19,         19,2,20030705,       0118,    36.4998,   -20.0017,       5157,   600.5,  10.8937,  35.5381,2,  35.5411,2,    191.6,2,   191.4,2,    7.05,2,   16.07,2,    0.01,2,    0.97,2,-999.000,9,-999.000,9,-999.000,9,  -999.0,9,  -999.0,9,   -999.0,9,  -999.00,-999.0000,9,  -999.00,-999.000,9,-999.000,9,-999.000,9, -999.00,9,  -999.0,9,  -999.0,-999.000,9,-999.000,-999.000,9, -999.00,9, -999.00,9,  600.50,-999.0000,9,-999.0000,9,-999.0000,9,-999.0000,9,-999.0000,9,-999.0000,9,  10.8183,     -999.0,9,     -999.0,9,     -999.0,9,     -999.0,9,         58,-999.000,-999.000,-999.000,     -999.0,9, -999.00,9, -999.00,9
33RO200306_01,       A16N,     058,          1,         18,         18,2,20030705,       0118,    36.4998,   -20.0017,       5157,   849.2,   9.9759,  35.7007,2,  35.7019,2,    180.2,2,   180.2,2,    9.98,2,   17.88,2,    0.00,2,    1.09,2,-999.000,9,-999.000,9,-999.000,9,  -999.0,9,  -999.0,9,   -999.0,9,  -999.00,-999.0000,9,  -999.00,-999.000,9,-999.000,9,-999.000,9, -999.00,9,  -999.0,9,  -999.0,-999.000,9,-999.000,-999.000,9, -999.00,9, -999.00,9,  849.20,-999.0000,9,-999.0000,9,-999.0000,9,-999.0000,9,-999.0000,9,-999.0000,9,   9.8734,     -999.0,9,       1.20,2,       0.04,2,       0.27,2,         58,-999.000,-999.000,-999.000,       2.06,2,    0.34,2,    0.16,2
33RO200306_01,       A16N,     058,          1,         17,         17,2,20030705,       0118,    36.4998,   -20.0017,       5157,   938.0,   9.8780,  35.7739,2,  35.7740,2,    180.8,2,   181.1,2,   10.21,2,   17.65,2,    0.00,2,    1.08,2,   1.299,2,   0.679,2,   0.024,2,  -999.0,9,  -999.0,9,   -999.0,9,  -999.00,-999.0000,9,  -999.00,-999.000,9,-999.000,9,-999.000,9, -999.00,9,  -999.0,9,  -999.0,-999.000,9,-999.000,-999.000,9, -999.00,9, -999.00,9,  938.00,-999.0000,9,-999.0000,9,-999.0000,9,-999.0000,9,-999.0000,9,-999.0000,9,   9.7649,     -999.0,9,     -999.0,9,     -999.0,9,     -999.0,9,         58,-999.000,-999.000,-999.000,     -999.0,9, -999.00,9, -999.00,9
33RO200306_01,       A16N,     058,          1,         16,         16,2,20030705,       0118,    36.4998,   -20.0017,       5157,  1245.3,   8.4810,  35.7361,2,  35.7353,2,    201.3,2,   202.4,2,   10.93,2,   17.11,2,    0.00,2,    1.06,2,   1.288,2,   0.663,2,   0.033,2,  -999.0,9,  -999.0,9,   -999.0,9,  -999.00,-999.0000,9,  -999.00,-999.000,9,-999.000,9,-999.000,9, -999.00,9,  -999.0,9,  -999.0,-999.000,9,-999.000,-999.000,9, -999.00,9, -999.00,9, 1245.30,-999.0000,9,-999.0000,9,-999.0000,9,-999.0000,9,-999.0000,9,-999.0000,9,   8.3410,     -999.0,9,       1.18,2,       0.11,2,       0.79,2,         58,-999.000,-999.000,-999.000,       63.6,2,    0.73,2,     0.0,2
33RO200306_01,       A16N,     058,          1,         15,         15,2,20030705,       0118,    36.4998,   -20.0017,       5157,  1500.6,   5.5326,  35.2347,2,  35.2354,2,    231.3,2,   236.5,2,   12.22,2,   17.91,2,    0.00,2,    1.14,2,   1.338,2,   0.663,2,   0.047,2,  -999.0,9,  -999.0,9,   -999.0,9,  -999.00,-999.0000,9,  -999.00,-999.000,9,-999.000,9,-999.000,9, -999.00,9,  -999.0,9,  -999.0,-999.000,9,-999.000,-999.000,9, -999.00,9, -999.00,9, 1500.60,-999.0000,9,-999.0000,9,-999.0000,9,-999.0000,9,-999.0000,9,-999.0000,9,   5.3946,     -999.0,9,     -999.0,9,     -999.0,9,     -999.0,9,         58,-999.000,-999.000,-999.000,     -999.0,9, -999.00,9, -999.00,9
33RO200306_01,       A16N,     058,          1,         14,         14,2,20030705,       0118,    36.4998,   -20.0017,       5157,  1690.5,   4.6611,  35.1192,2,  35.1248,2,    245.2,2,   248.8,2,   13.01,2,   17.88,2,    0.00,2,    1.15,2,   1.163,2,   0.577,2,   0.044,2,  -999.0,9,  -999.0,9,   -999.0,9,  -999.00,-999.0000,9,  -999.00,-999.000,9,-999.000,9,-999.000,9, -999.00,9,  -999.0,9,  -999.0,-999.000,9,-999.000,-999.000,9, -999.00,9, -999.00,9, 1690.50,-999.0000,9,-999.0000,9,-999.0000,9,-999.0000,9,-999.0000,9,-999.0000,9,   4.5145,     -999.0,9,       0.83,2,       0.00,2,       0.21,2,         58,-999.000,-999.000,-999.000,      14.43,2,    0.51,2,    0.13,2
33RO200306_01,       A16N,     058,          1,         13,         13,2,20030705,       0118,    36.4998,   -20.0017,       5157,  1958.8,   3.9492,  35.0319,2,  35.0335,2,    255.8,2,   255.7,2,   15.02,2,   17.97,2,    0.00,2,    1.16,2,   0.822,2,   0.418,2,   0.032,2,  -999.0,9,  -999.0,9,   -999.0,9,  -999.00,-999.0000,9,  -999.00,-999.000,9,-999.000,9,-999.000,9, -999.00,9,  -999.0,9,  -999.0,-999.000,9,-999.000,-999.000,9, -999.00,9, -999.00,9, 1958.80,-999.0000,9,-999.0000,9,-999.0000,9,-999.0000,9,-999.0000,9,-999.0000,9,   3.7862,     -999.0,9,     -999.0,9,     -999.0,9,     -999.0,9,         58,-999.000,-999.000,-999.000,     -999.0,9, -999.00,9, -999.00,9
33RO200306_01,       A16N,     058,          1,         12,         12,2,20030705,       0118,    36.4998,   -20.0017,       5157,  2491.5,   3.1551,  34.9662,2,  34.9671,2,    257.9,2,   255.6,2,   22.95,2,   18.81,2,    0.00,2,    1.24,2,-999.000,9,-999.000,9,-999.000,9,  -999.0,9,  -999.0,9,   -999.0,9,  -999.00,-999.0000,9,  -999.00,-999.000,9,-999.000,9,-999.000,9, -999.00,9,  -999.0,9,  -999.0,-999.000,9,-999.000,-999.000,9, -999.00,9, -999.00,9, 2491.50,-999.0000,9,-999.0000,9,-999.0000,9,-999.0000,9,-999.0000,9,-999.0000,9,   2.9531,     -999.0,9,       0.23,2,       0.01,2,       0.21,2,         58,-999.000,-999.000,-999.000,      62.78,2,    1.45,2,    0.07,2
33RO200306_01,       A16N,     058,          1,         11,         11,2,20030705,       0118,    36.4998,   -20.0017,       5157,  2962.1,   2.8011,  34.9441,2,  34.9449,2,    251.4,2,   248.6,2,   31.62,2,   20.10,2,    0.00,2,    1.34,2,   0.159,2,   0.086,2,   0.006,2,  -999.0,9,  -999.0,9,   -999.0,9,  -999.00,-999.0000,9,  -999.00,-999.000,9,-999.000,9,-999.000,9, -999.00,9,  -999.0,9,  -999.0,-999.000,9,-999.000,-999.000,9, -999.00,9, -999.00,9, 2962.10,-999.0000,9,-999.0000,9,-999.0000,9,-999.0000,9,-999.0000,9,-999.0000,9,   2.5585,     -999.0,9,     -999.0,9,     -999.0,9,     -999.0,9,         58,-999.000,-999.000,-999.000,     -999.0,9, -999.00,9, -999.00,9
33RO200306_01,       A16N,     058,          1,          5,          5,9,20030705,       0118,    36.4998,   -20.0017,       5157,  3416.0,   2.6513,  34.9285,2,-999.0000,9,    245.3,2,  -999.0,9, -999.00,9, -999.00,9, -999.00,9, -999.00,9,-999.000,9,-999.000,9,-999.000,9,  -999.0,9,  -999.0,9,   -999.0,9,  -999.00,-999.0000,9,  -999.00,-999.000,9,-999.000,9,-999.000,9, -999.00,9,  -999.0,9,  -999.0,-999.000,9,-999.000,-999.000,9, -999.00,9, -999.00,9, 3416.00,-999.0000,9,-999.0000,9,-999.0000,9,-999.0000,9,-999.0000,9,-999.0000,9,   2.3642,     -999.0,9,     -999.0,9,     -999.0,9,     -999.0,9,         58,-999.000,-999.000,-999.000,     -999.0,9, -999.00,9, -999.00,9
33RO200306_01,       A16N,     058,          1,         10,         10,2,20030705,       0118,    36.4998,   -20.0017,       5157,  3500.4,   2.6140,  34.9244,2,  34.9256,2,    244.8,2,   244.1,2,   38.60,2,   21.25,2,    0.00,2,    1.42,2,-999.000,9,-999.000,9,-999.000,9,  -999.0,9,  -999.0,9,   -999.0,9,  -999.00,-999.0000,9,  -999.00,-999.000,9,-999.000,9,-999.000,9, -999.00,9,  -999.0,9,  -999.0,-999.000,9,-999.000,-999.000,9, -999.00,9, -999.00,9, 3500.40,-999.0000,9,-999.0000,9,-999.0000,9,-999.0000,9,-999.0000,9,-999.0000,9,   2.3186,     -999.0,9,     -999.0,9,       0.00,2,       0.29,2,         58,-999.000,-999.000,-999.000,      81.46,2,    0.62,2,    0.01,2
33RO200306_01,       A16N,     058,          1,          4,          4,9,20030705,       0118,    36.4998,   -20.0017,       5157,  3999.8,   2.5019,  34.9080,2,-999.0000,9,    243.7,2,  -999.0,9, -999.00,9, -999.00,9, -999.00,9, -999.00,9,-999.000,9,-999.000,9,-999.000,9,  -999.0,9,  -999.0,9,   -999.0,9,  -999.00,-999.0000,9,  -999.00,-999.000,9,-999.000,9,-999.000,9, -999.00,9,  -999.0,9,  -999.0,-999.000,9,-999.000,-999.000,9, -999.00,9, -999.00,9, 3999.80,-999.0000,9,-999.0000,9,-999.0000,9,-999.0000,9,-999.0000,9,-999.0000,9,   2.1536,     -999.0,9,     -999.0,9,     -999.0,9,     -999.0,9,         58,-999.000,-999.000,-999.000,     -999.0,9, -999.00,9, -999.00,9