BOTTLE,20230908CCHSIOCBG
EXPOCODE,SECT_ID,STNNBR,CASTNO,SAMPNO,BTLNBR,BTLNBR_FLAG_W,DATE,TIME,LATITUDE,LONGITUDE,DEPTH,CTDPRS,CTDTMP,CTDSAL,CTDSAL_FLAG_W,SALNTY,SALNTY_FLAG_W,CTDOXY,CTDOXY_FLAG_W,OXYGEN,OXYGEN_FLAG_W,SILCAT,SILCAT_FLAG_W,NITRAT,NITRAT_FLAG_W,NITRIT,NITRIT_FLAG_W,PHSPHT,PHSPHT_FLAG_W,CFC-11,CFC-11_FLAG_W,CFC-12,CFC-12_FLAG_W,CFC113,CFC113_FLAG_W,TCARBN,TCARBN_FLAG_W,ALKALI,ALKALI_FLAG_W,FCO2,FCO2_FLAG_W,FCO2TMP,PH_SWS,PH_SWS_FLAG_W,PH_TMP,TRITUM,TRITUM_FLAG_W,HELIUM,HELIUM_FLAG_W,DELHE3,DELHE3_FLAG_W,DELC13,DELC13_FLAG_W,DELC14,DELC14_FLAG_W,C14ERR,NEON,NEON_FLAG_W,NEONER,POC,POC_FLAG_W,DOC,DOC_FLAG_W,TDN,TDN_FLAG_W,CTDRAW,CDOM325,CDOM325_FLAG_W,CDOM340,CDOM340_FLAG_W,CDOM380,CDOM380_FLAG_W,CDOM412,CDOM412_FLAG_W,CDOMSL,CDOMSL_FLAG_W,CDOMSN,CDOMSN_FLAG_W,THETA,PON,PON_FLAG_W,HCFC-22,HCFC-22_FLAG_W,HCFC-142b,HCFC-142b_FLAG_W,HCFC-141b,HCFC-141b_FLAG_W,STNNBR_U,HELIER,DELHER,TRITER,CH3CL,CH3CL_FLAG_W,CH3BR,CH3BR_FLAG_W,CH3I,CH3I_FLAG_W
,,,,,,,,,,,METERS,DBAR,ITS-90,PSS-78,,PSS-78,,UMOL/KG,,UMOL/KG,,UMOL/KG,,UMOL/KG,,UMOL/KG,,UMOL/KG,,PMOL/KG,,PMOL/KG,,PMOL/KG,,UMOL/KG,,UMOL/KG,,UATM,,DEG C,,,DEG C,TU,,NMOL/KG,,PERCNT,,/MILLE,,/MILLE,,/MILLE,NMOL/KG,,NMOL/KG,UG/KG,,UMOL/KG,,UMOL/KG,,DBAR,1/M,,1/M,,1/M,,1/M,,1/NM,,1/NM,,DEG C,UMOL/L,,PMOL/KG,,PMOL/KG,,PMOL/KG,,,NMOL/KG,PERCNT,TU,PMOL/KG,,PMOL/KG,,PMOL/KG,
33RO200306_02,       A16N,     092,          1,          7,          7,2,20030723,       0427,    20.0007,   -29.0003,       4800,  1898.7,   3.8386,  35.0027,2,  35.0038,2,    227.2,2,   229.8,2,   23.85,2,   21.98,2,    0.01,2,    1.48,2,-999.000,9,-999.000,9,-999.000,9,  2179.6,2,  2325.9,2,    792.0,2,    20.00,   7.6973,2,    25.00,-999.000,9,-999.000,9,-999.000,9, -999.00,9,  -999.0,9,  -999.0,-999.000,9,-999.000,-999.000,9,   40.36,2,   26.87,2, 1898.70,-999.0000,9,-999.0000,9,-999.0000,9,-999.0000,9,-999.0000,9,-999.0000,9,   3.6831,     -999.0,9,     -999.0,9,     -999.0,9,     -999.0,9,         92,-999.000,-999.000,-999.000,     -999.0,9, -999.00,9, -999.00,9
33RO200306_02,       A16N,     092,          1,          6,          6,2,20030723,       0427,    20.0007,   -29.0003,       4800,  2249.6,   3.4110,  34.9828,2,  34.9841,2,    237.7,2,   237.8,2,   26.82,2,   21.32,2,    0.01,2,    1.45,2,  -0.004,2,   0.002,2,   0.001,2,  2178.4,2,  2329.0,2,    769.1,2,    20.00,   7.7254,2,    25.00,-999.000,9,-999.000,9,-999.000,9, -999.00,9,  -999.0,9,  -999.0,-999.000,9,-999.000,-999.000,9,   40.00,2,   25.64,2, 2249.60,-999.0000,9,-999.0000,9,-999.0000,9,-999.0000,9,-999.0000,9,-999.0000,9,   3.2282,     -999.0,9,     -999.0,9,     -999.0,9,     -999.0,9,         92,-999.000,-999.000,-999.000,     -999.0,9, -999.00,9, -999.00,9
33RO200306_02,       A16N,     092,          1,          5,          5,2,20030723,       0427,    20.0007,   -29.0003,       4800,  2750.0,   2.9815,  34.9607,2,  34.9611,2,    243.1,2,   242.9,2,   32.43,2,   21.20,2,    0.01,2,    1.45,2,-999.000,9,-999.000,9,-999.000,9,  2184.5,2,  2336.1,2,    762.2,2,    20.00,   7.7095,2,    25.00,-999.000,9,-999.000,9,-999.000,9, -999.00,9,  -999.0,9,  -999.0,-999.000,9,-999.000,-999.000,9,   40.73,2,   24.74,2, 2750.00,-999.0000,9,-999.0000,9,-999.0000,9,-999.0000,9,-999.0000,9,-999.0000,9,   2.7568,     -999.0,9,     -999.0,9,     -999.0,9,     -999.0,9,         92,-999.000,-999.000,-999.000,     -999.0,9, -999.00,9, -999.00,9
33RO200306_02,       A16N,     092,          1,          4,          4,2,20030723,       0427,    20.0007,   -29.0003,       4800,  3248.7,   2.5974,  34.9249,2,  34.9243,2,    242.7,2,   255.3,4,   39.31,6,   21.77,6,    0.01,6,    1.50,6,   0.007,2,   0.003,2,   0.001,2,  2193.4,2,  2345.5,2,    763.4,2,    20.00,   7.7106,2,    25.00,-999.000,9,-999.000,9,-999.000,9, -999.00,9,  -999.0,9,  -999.0,-999.000,9,-999.000,-999.000,9,   40.00,2,   25.35,2, 3248.70,-999.0000,9,-999.0000,9,-999.0000,9,-999.0000,9,-999.0000,9,-999.0000,9,   2.3295,     -999.0,9,       0.00,2,       0.00,2,       0.10,2,         92,-999.000,-999.000,-999.000,      32.13,2,    0.99,2,     0.0,2
33RO200306_02,       A16N,     092,          1,          3,          3,2,20030723,       0427,    20.0007,   -29.0003,       4800,  3749.7,   2.4160,  34.9035,2,  34.9040,2,    244.9,2,    -1.3,4,   43.52,6,   22.14,6,    0.01,6,    1.53,6,-999.000,9,-999.000,9,-999.000,9,  2195.2,2,  2347.1,2,    765.0,2,    20.00,   7.7346,2,    25.00,-999.000,9,-999.000,9,-999.000,9, -999.00,9,  -999.0,9,  -999.0,-999.000,9,-999.000,-999.000,9,   40.00,2,   25.92,2, 3749.70,-999.0000,9,-999.0000,9,-999.0000,9,-999.0000,9,-999.0000,9,-999.0000,9,   2.0983,     -999.0,9,     -999.0,9,     -999.0,9,     -999.0,9,         92,-999.000,-999.000,-999.000,     -999.0,9, -999.00,9, -999.00,9
33RO200306_02,       A16N,     092,          1,          2,          2,2,20030723,       0427,    20.0007,   -29.0003,       4800,  4249.9,   2.3591,  34.8918,2,  34.8926,2,    244.5,2,   244.9,2,   46.24,6,   22.42,6,    0.01,6,    1.55,6,   0.007,2,   0.002,2,   0.000,2,  2198.6,2,  2351.8,2,    767.2,2,    20.00,   7.7283,2,    25.00,-999.000,9,-999.000,9,-999.000,9, -999.00,9,  -999.0,9,  -999.0,-999.000,9,-999.000,-999.000,9,   40.32,2,   25.91,2, 4249.90,-999.0000,9,-999.0000,9,-999.0000,9,-999.0000,9,-999.0000,9,-999.0000,9,   1.9859,     -999.0,9,     -999.0,9,     -999.0,9,     -999.0,9,         92,-999.000,-999.000,-999.000,     -999.0,9, -999.00,9, -999.00,9
33RO200306_02,       A16N,     092,          1,          1,          1,2,20030723,       0427,    20.0007,   -29.0003,       4800,  4873.9,   2.3908,  34.8864,2,  34.8875,2,    245.3,2,   245.1,2,   47.27,6,   22.50,6,    0.01,6,    1.55,6,  -0.004,2,   0.004,2,   0.002,2,  2201.0,6,  2351.4,6,    769.4,2,    20.00,   7.7311,6,    25.00,-999.000,9,-999.000,9,-999.000,9, -999.00,9,  -999.0,9,  -999.0,-999.000,9,-999.000,-999.000,9,   41.30,2,   26.48,2, 4873.90,-999.0000,9,-999.0000,9,-999.0000,9,-999.0000,9,-999.0000,9,-999.0000,9,   1.9410,     -999.0,9,       0.00,2,       0.00,2,       0.15,2,         92,-999.000,-999.000,-999.000,      26.63,2,    1.97,2,     0.0,2
33RO200306_02,       A16N,     093,          1,         11,         11,2,20030723,       1149,    19.5038,   -29.0003,       4959,  1400.6,   5.0380,  35.0466,2,  35.0467,2,    193.9,2,   193.9,2,   21.11,2,   24.47,2,    0.01,2,    1.64,2,   0.011,2,   0.006,2,   0.001,2,  -999.0,9,  -999.0,9,   -999.0,9,  -999.00,-999.0000,9,  -999.00,-999.000,9,-999.000,9,-999.000,9, -999.00,9,  -999.0,9,  -999.0,-999.000,9,-999.000,-999.000,9, -999.00,9, -999.00,9, 1400.60,-999.0000,9,-999.0000,9,-999.0000,9,-999.0000,9,-999.0000,9,-999.0000,9,   4.9157,     -999.0,9,     -999.0,9,     -999.0,9,     -999.0,9,         93,-999.000,-999.000,-999.000,     -999.0,9, -999.00,9, -999.00,9
33RO200306_02,       A16N,     093,          1,         10,         10,2,20030723,       1149,    19.5038,   -29.0003,       4959,  1599.6,   4.3860,  35.0228,2,  35.0233,2,    211.4,2,   212.7,2,   21.89,2,   23.04,2,    0.01,2,    1.54,2,-999.000,9,-999.000,9,-999.000,9,  -999.0,9,  -999.0,9,   -999.0,9,  -999.00,-999.0000,9,  -999.00,-999.000,9,-999.000,9,-999.000,9, -999.00,9,  -999.0,9,  -999.0,-999.000,9,-999.000,-999.000,9, -999.00,9, -999.00,9, 1599.60,-999.0000,9,-999.0000,9,-999.0000,9,-999.0000,9,-999.0000,9,-999.0000,9,   4.2519,     -999.0,9,     -999.0,9,     -999.0,9,     -999.0,9,         93,-999.000,-999.000,-999.000,     -999.0,9, -999.00,9, -999.00,9
33RO200306_02,       A16N,     093,          1,          9,          9,2,20030723,       1149,    19.5038,   -29.0003,       4959,  1799.2,   4.0235,  35.0093,2,  35.0107,2,    221.6,2,   219.3,2,   22.64,2,   22.15,2,    0.01,2,    1.49,2,-999.000,9,-999.000,9,-999.000,9,  -999.0,9,  -999.0,9,   -999.0,9,  -999.00,-999.0000,9,  -999.00,-999.000,9,-999.000,9,-999.000,9, -999.00,9,  -999.0,9,  -999.0,-999.000,9,-999.000,-999.000,9, -999.00,9, -999.00,9, 1799.20,-999.0000,9,-999.0000,9,-999.0000,9,-999.0000,9,-999.0000,9,-999.0000,9,   3.8750,     -999.0,9,     -999.0,9,     -999.0,9,     -999.0,9,         93,-999.000,-999.000,-999.000,     -999.0,9, -999.00,9, -999.00,9
33RO200306_02,       A16N,     093,          1,          8,          8,2,20030723,       1149,    19.5038,   -29.0003,       4959,  1999.9,   3.7329,  34.9989,2,  34.9995,2,    234.0,2,   234.0,2,   23.79,2,   21.47,2,    0.01,2,    1.44,2,-999.000,9,-999.000,9,-999.000,9,  -999.0,9,  -999.0,9,   -999.0,9,  -999.00,-999.0000,9,  -999.00,-999.000,9,-999.000,9,-999.000,9, -999.00,9,  -999.0,9,  -999.0,-999.000,9,-999.000,-999.000,9, -999.00,9, -999.00,9, 1999.90,-999.0000,9,-999.0000,9,-999.0000,9,-999.0000,9,-999.0000,9,-999.0000,9,   3.5692,     -999.0,9,     -999.0,9,     -999.0,9,     -999.0,9,         93,-999.000,-999.000,-999.000,     -999.0,9, -999.00,9, -999.00,9
33RO200306_02,       A16N,     093,          1,          7,          7,2,20030723,       1149,    19.5038,   -29.0003,       4959,  2498.4,   3.1899,  34.9704,2,  34.9707,2,    240.7,2,   241.5,2,   29.21,2,   21.16,2,    0.01,2,    1.44,2,-999.000,9,-999.000,9,-999.000,9,  -999.0,9,  -999.0,9,   -999.0,9,  -999.00,-999.0000,9,  -999.00,-999.000,9,-999.000,9,-999.000,9, -999.00,9,  -999.0,9,  -999.0,-999.000,9,-999.000,-999.000,9, -999.00,9, -999.00,9, 2498.40,-999.0000,9,-999.0000,9,-999.0000,9,-999.0000,9,-999.0000,9,-999.0000,9,   2.9865,     -999.0,9,     -999.0,9,     -999.0,9,     -999.0,9,         93,-999.000,-999.000,-999.000,     -999.0,9, -999.00,9, -999.00,9
33RO200306_02,       A16N,     093,          1,          6,          6,2,20030723,       1149,    19.5038,   -29.0003,       4959,  2999.2,   2.7670,  34.9408,2,  34.9410,2,    244.6,2,   246.1,2,   35.74,2,   21.47,2,    0.01,2,    1.47,2,-999.000,9,-999.000,9,-999.000,9,  -999.0,9,  -999.0,9,   -999.0,9,  -999.00,-999.0000,9,  -999.00,-999.000,9,-999.000,9,-999.000,9, -999.00,9,  -999.0,9,  -999.0,-999.000,9,-999.000,-999.000,9, -999.00,9, -999.00,9, 2999.20,-999.0000,9,-999.0000,9,-999.0000,9,-999.0000,9,-999.0000,9,-999.0000,9,   2.5213,     -999.0,9,     -999.0,9,     -999.0,9,     -999.0,9,         93,-999.000,-999.000,-999.000,     -999.0,9, -999.00,9, -999.00,9
33RO200306_02,       A16N,     093,          1,          5,          5,2,20030723,       1149,    19.5038,   -29.0003,       4959,  3499.1,   2.4724,  34.9111,2,  34.9123,2,    248.2,2,   246.8,2,   41.88,2,   21.99,2,    0.01,2,    1.51,2,-999.000,9,-999.000,9,-999.000,9,  -999.0,9,  -999.0,9,   -999.0,9,  -999.00,-999.0000,9,  -999.00,-999.000,9,-999.000,9,-999.000,9, -999.00,9,  -999.0,9,  -999.0,-999.000,9,-999.000,-999.000,9, -999.00,9, -999.00,9, 3499.10,-999.0000,9,-999.0000,9,-999.0000,9,-999.0000,9,-999.0000,9,-999.0000,9,   2.1808,     -999.0,9,     -999.0,9,     -999.0,9,     -999.0,9,         93,-999.000,-999.000,-999.000,     -999.0,9, -999.00,9, -999.00,9
33RO200306_02,       A16N,     093,          1,          4,          4,2,20030723,       1149,    19.5038,   -29.0003,       4959,  4000.3,   2.3663,  34.8956,2,  34.8961,2,    249.0,2,   248.0,2,   45.13,6,   22.26,6,    0.01,6,    1.54,6,-999.000,9,-999.000,9,-999.000,9,  -999.0,9,  -999.0,9,   -999.0,9,  -999.00,-999.0000,9,  -999.00,-999.000,9,-999.000,9,-999.000,9, -999.00,9,  -999.0,9,  -999.0,-999.000,9,-999.000,-999.000,9, -999.00,9, -999.00,9, 4000.30,-999.0000,9,-999.0000,9,-999.0000,9,-999.0000,9,-999.0000,9,-999.0000,9,   2.0218,     -999.0,9,     -999.0,9,     -999.0,9,     -999.0,9,         93,-999.000,-999.000,-999.000,     -999.0,9, -999.00,9, -999.00,9
33RO200306_02,       A16N,     093,          1,          3,          3,2,20030723,       1149,    19.5038,   -29.0003,       4959,  4499.4,   2.3743,  34.8900,2,  34.8912,2,    249.5,2,   250.8,2,   46.36,6,   22.42,6,    0.01,6,    1.54,6,-999.000,9,-999.000,9,-999.000,9,  -999.0,9,  -999.0,9,   -999.0,9,  -999.00,-999.0000,9,  -999.00,-999.000,9,-999.000,9,-999.000,9, -999.00,9,  -999.0,9,  -999.0,-999.000,9,-999.000,-999.000,9, -999.00,9, -999.00,9, 4499.40,-999.0000,9,-999.0000,9,-999.0000,9,-999.0000,9,-999.0000,9,-999.0000,9,   1.9710,     -999.0,9,     -999.0,9,     -999.0,9,     -999.0,9,         93,-999.000,-999.000,-999.000,     -999.0,9, -999.00,9, -999.00,9
33RO200306_02,       A16N,     093,          1,          2,          2,2,20030723,       1149,    19.5038,   -29.0003,       4959,  4799.1,   2.3999,  34.8885,2,  34.8891,2,    249.4,2,   249.1,2,   46.79,6,   22.45,6,    0.01,6,    1.55,6,-999.000,9,-999.000,9,-999.000,9,  -999.0,9,  -999.0,9,   -999.0,9,  -999.00,-999.0000,9,  -999.00,-999.000,9,-999.000,9,-999.000,9, -999.00,9,  -999.0,9,  -999.0,-999.000,9,-999.000,-999.000,9, -999.00,9, -999.00,9, 4799.10,-999.0000,9,-999.0000,9,-999.0000,9,-999.0000,9,-999.0000,9,-999.0000,9,   1.9591,     -999.0,9,     -999.0,9,     -999.0,9,     -999.0,9,         93,-999.000,-999.000,-999.000,     -999.0,9, -999.00,9, -999.00,9
33RO200306_02,       A16N,     093,          1,          1,          1,2,20030723,       1149,    19.5038,   -29.0003,       4959,  5035.0,   2.4300,  34.8882,2,  34.8891,2,    250.7,2,   258.7,4,   46.67,6,   22.49,6,    0.01,6,    1.55,6,   0.013,2,   0.004,2,   0.002,2,  -999.0,9,  -999.0,9,   -999.0,9,  -999.00,-999.0000,9,  -999.00,-999.000,9,-999.000,9,-999.000,9, -999.00,9,  -999.0,9,  -999.0,-999.000,9,-999.000,-999.000,9, -999.00,9, -999.00,9, 5035.00,-999.0000,9,-999.0000,9,-999.0000,9,-999.0000,9,-999.0000,9,-999.0000,9,   1.9585,     -999.0,9,     -999.0,9,     -999.0,9,     -999.0,9,         93,-999.000,-999.000,-999.000,     -999.0,9, -999.00,9, -999.00,9