BOTTLE,20230908CCHSIOCBG
EXPOCODE,SECT_ID,STNNBR,CASTNO,SAMPNO,BTLNBR,BTLNBR_FLAG_W,DATE,TIME,LATITUDE,LONGITUDE,DEPTH,CTDPRS,CTDTMP,CTDSAL,CTDSAL_FLAG_W,SALNTY,SALNTY_FLAG_W,CTDOXY,CTDOXY_FLAG_W,OXYGEN,OXYGEN_FLAG_W,SILCAT,SILCAT_FLAG_W,NITRAT,NITRAT_FLAG_W,NITRIT,NITRIT_FLAG_W,PHSPHT,PHSPHT_FLAG_W,CFC-11,CFC-11_FLAG_W,CFC-12,CFC-12_FLAG_W,CFC113,CFC113_FLAG_W,TCARBN,TCARBN_FLAG_W,ALKALI,ALKALI_FLAG_W,FCO2,FCO2_FLAG_W,FCO2TMP,PH_SWS,PH_SWS_FLAG_W,PH_TMP,TRITUM,TRITUM_FLAG_W,HELIUM,HELIUM_FLAG_W,DELHE3,DELHE3_FLAG_W,DELC13,DELC13_FLAG_W,DELC14,DELC14_FLAG_W,C14ERR,NEON,NEON_FLAG_W,NEONER,POC,POC_FLAG_W,DOC,DOC_FLAG_W,TDN,TDN_FLAG_W,CTDRAW,CDOM325,CDOM325_FLAG_W,CDOM340,CDOM340_FLAG_W,CDOM380,CDOM380_FLAG_W,CDOM412,CDOM412_FLAG_W,CDOMSL,CDOMSL_FLAG_W,CDOMSN,CDOMSN_FLAG_W,THETA,PON,PON_FLAG_W,HCFC-22,HCFC-22_FLAG_W,HCFC-142b,HCFC-142b_FLAG_W,HCFC-141b,HCFC-141b_FLAG_W,STNNBR_U,HELIER,DELHER,TRITER,CH3CL,CH3CL_FLAG_W,CH3BR,CH3BR_FLAG_W,CH3I,CH3I_FLAG_W
,,,,,,,,,,,METERS,DBAR,ITS-90,PSS-78,,PSS-78,,UMOL/KG,,UMOL/KG,,UMOL/KG,,UMOL/KG,,UMOL/KG,,UMOL/KG,,PMOL/KG,,PMOL/KG,,PMOL/KG,,UMOL/KG,,UMOL/KG,,UATM,,DEG C,,,DEG C,TU,,NMOL/KG,,PERCNT,,/MILLE,,/MILLE,,/MILLE,NMOL/KG,,NMOL/KG,UG/KG,,UMOL/KG,,UMOL/KG,,DBAR,1/M,,1/M,,1/M,,1/M,,1/NM,,1/NM,,DEG C,UMOL/L,,PMOL/KG,,PMOL/KG,,PMOL/KG,,,NMOL/KG,PERCNT,TU,PMOL/KG,,PMOL/KG,,PMOL/KG,
33RO200306_01,       A16N,     012,          1,         32,         32,2,20030622,       0426,    59.5000,   -19.9973,       2768,     1.6,  11.6328,  35.2462,2,  35.2493,2,    291.9,2,   298.0,2,    0.06,2,    2.43,2,    0.06,2,    0.19,2,-999.000,9,-999.000,9,-999.000,9,  2062.6,6,  2321.4,2,   -999.0,9,  -999.00,   7.9734,2,    25.00,-999.000,9,-999.000,9,-999.000,9,    1.55,2,    58.0,2,     3.5,-999.000,9,-999.000,  30.210,2, -999.00,9, -999.00,9,    1.60,   0.2660,2,   0.1950,2,   0.0830,2,   0.0480,2,   0.0190,2,   0.0200,2,  11.6326,      5.230,2,     -999.0,9,     -999.0,9,     -999.0,9,         12,-999.000,-999.000,-999.000,     -999.0,9, -999.00,9, -999.00,9
33RO200306_01,       A16N,     012,          1,         31,         31,2,20030622,       0426,    59.5000,   -19.9973,       2768,    10.2,  11.6104,  35.2471,2,  35.2523,2,    292.3,2,   299.8,2,    0.04,2,    2.54,2,    0.06,2,    0.20,2,-999.000,9,-999.000,9,-999.000,9,  -999.0,9,  -999.0,9,   -999.0,9,  -999.00,-999.0000,9,  -999.00,-999.000,9,-999.000,9,-999.000,9, -999.00,9,  -999.0,9,  -999.0,-999.000,9,-999.000,  19.688,2, -999.00,9, -999.00,9,   10.20,-999.0000,9,-999.0000,9,-999.0000,9,-999.0000,9,-999.0000,9,-999.0000,9,  11.6091,      2.657,2,     -999.0,9,     -999.0,9,     -999.0,9,         12,-999.000,-999.000,-999.000,     -999.0,9, -999.00,9, -999.00,9
33RO200306_01,       A16N,     012,          1,         30,         30,2,20030622,       0426,    59.5000,   -19.9973,       2768,    30.3,  10.9782,  35.2563,2,  35.2790,2,    286.5,2,   286.8,2,    0.64,2,    6.02,2,    0.11,2,    0.46,2,-999.000,9,-999.000,9,-999.000,9,  -999.0,9,  -999.0,9,   -999.0,9,  -999.00,-999.0000,9,  -999.00,-999.000,9,-999.000,9,-999.000,9, -999.00,9,  -999.0,9,  -999.0,-999.000,9,-999.000,  11.937,2, -999.00,9, -999.00,9,   30.30,   0.1830,2,   0.1240,2,   0.0530,2,   0.0340,2,   0.0190,2,   0.0220,2,  10.9745,      2.277,2,     -999.0,9,     -999.0,9,     -999.0,9,         12,-999.000,-999.000,-999.000,     -999.0,9, -999.00,9, -999.00,9
33RO200306_01,       A16N,     012,          1,         29,         29,2,20030622,       0426,    59.5000,   -19.9973,       2768,    50.4,   9.6197,  35.2866,2,  35.2905,2,    285.3,2,   282.4,2,    1.37,2,    7.94,2,    0.17,2,    0.61,2,-999.000,9,-999.000,9,-999.000,9,  -999.0,9,  -999.0,9,   -999.0,9,  -999.00,-999.0000,9,  -999.00,-999.000,9,-999.000,9,-999.000,9, -999.00,9,  -999.0,9,  -999.0,-999.000,9,-999.000,   4.254,2, -999.00,9, -999.00,9,   50.40,   0.1340,2,   0.0960,2,   0.0470,2,   0.0320,2,   0.0160,2,   0.0180,2,   9.6140,      0.676,2,     -999.0,9,     -999.0,9,     -999.0,9,         12,-999.000,-999.000,-999.000,     -999.0,9, -999.00,9, -999.00,9
33RO200306_01,       A16N,     012,          1,         28,         28,2,20030622,       0426,    59.5000,   -19.9973,       2768,    69.7,   9.3076,  35.2825,2,  35.2851,2,    276.6,2,   277.8,2,    2.71,2,    9.86,2,    0.27,2,    0.70,2,-999.000,9,-999.000,9,-999.000,9,  -999.0,9,  -999.0,9,   -999.0,9,  -999.00,-999.0000,9,  -999.00,-999.000,9,-999.000,9,-999.000,9, -999.00,9,  -999.0,9,  -999.0,-999.000,9,-999.000,   2.066,2, -999.00,9, -999.00,9,   69.70,-999.0000,9,-999.0000,9,-999.0000,9,-999.0000,9,-999.0000,9,-999.0000,9,   9.2999,      0.278,2,     -999.0,9,     -999.0,9,     -999.0,9,         12,-999.000,-999.000,-999.000,     -999.0,9, -999.00,9, -999.00,9
33RO200306_01,       A16N,     012,          1,         27,         27,2,20030622,       0426,    59.5000,   -19.9973,       2768,    90.5,   9.2278,  35.2789,2,  35.2832,2,    273.5,2,   276.4,2,    3.26,2,   10.45,2,    0.33,2,    0.71,2,-999.000,9,-999.000,9,-999.000,9,  -999.0,9,  -999.0,9,   -999.0,9,  -999.00,-999.0000,9,  -999.00,-999.000,9,-999.000,9,-999.000,9, -999.00,9,  -999.0,9,  -999.0,-999.000,9,-999.000,   2.383,2, -999.00,9, -999.00,9,   90.50,   0.1300,2,   0.0840,2,   0.0360,2,   0.0230,2,   0.0230,2,   0.0250,2,   9.2178,      0.269,2,     -999.0,9,     -999.0,9,     -999.0,9,         12,-999.000,-999.000,-999.000,     -999.0,9, -999.00,9, -999.00,9
33RO200306_01,       A16N,     012,          1,         26,         26,2,20030622,       0426,    59.5000,   -19.9973,       2768,   110.4,   9.2004,  35.2839,2,  35.2868,2,    273.9,2,   275.1,2,    4.15,2,   11.52,2,    0.32,2,    0.74,2,-999.000,9,-999.000,9,-999.000,9,  -999.0,9,  -999.0,9,   -999.0,9,  -999.00,-999.0000,9,  -999.00,-999.000,9,-999.000,9,-999.000,9, -999.00,9,  -999.0,9,  -999.0,-999.000,9,-999.000,-999.000,9, -999.00,9, -999.00,9,  110.40,-999.0000,9,-999.0000,9,-999.0000,9,-999.0000,9,-999.0000,9,-999.0000,9,   9.1882,     -999.0,9,     -999.0,9,     -999.0,9,     -999.0,9,         12,-999.000,-999.000,-999.000,     -999.0,9, -999.00,9, -999.00,9
33RO200306_01,       A16N,     012,          1,         25,         25,2,20030622,       0426,    59.5000,   -19.9973,       2768,   135.5,   9.1700,  35.2900,2,  35.2952,2,    270.3,2,   274.4,2,    4.64,2,   12.01,2,    0.05,2,    0.75,2,-999.000,9,-999.000,9,-999.000,9,  -999.0,9,  -999.0,9,   -999.0,9,  -999.00,-999.0000,9,  -999.00,-999.000,9,-999.000,9,-999.000,9, -999.00,9,  -999.0,9,  -999.0,-999.000,9,-999.000,   1.914,2, -999.00,9, -999.00,9,  135.50,-999.0000,9,-999.0000,9,-999.0000,9,-999.0000,9,-999.0000,9,-999.0000,9,   9.1551,      0.295,2,     -999.0,9,     -999.0,9,     -999.0,9,         12,-999.000,-999.000,-999.000,     -999.0,9, -999.00,9, -999.00,9
33RO200306_01,       A16N,     012,          1,         24,         24,2,20030622,       0426,    59.5000,   -19.9973,       2768,   159.9,   9.1132,  35.2878,2,  35.2895,2,    270.2,2,   271.2,2,    5.14,2,   12.29,2,    0.01,2,    0.77,2,-999.000,9,-999.000,9,-999.000,9,  -999.0,9,  -999.0,9,   -999.0,9,  -999.00,-999.0000,9,  -999.00,-999.000,9,-999.000,9,-999.000,9, -999.00,9,  -999.0,9,  -999.0,-999.000,9,-999.000,-999.000,9, -999.00,9, -999.00,9,  159.90,-999.0000,9,-999.0000,9,-999.0000,9,-999.0000,9,-999.0000,9,-999.0000,9,   9.0957,     -999.0,9,     -999.0,9,     -999.0,9,     -999.0,9,         12,-999.000,-999.000,-999.000,     -999.0,9, -999.00,9, -999.00,9
33RO200306_01,       A16N,     012,          1,         23,         23,2,20030622,       0426,    59.5000,   -19.9973,       2768,   185.4,   8.9756,  35.2680,2,  35.2689,2,    269.7,2,   265.8,2,    5.46,2,   12.77,2,    0.01,2,    0.80,2,-999.000,9,-999.000,9,-999.000,9,  -999.0,9,  -999.0,9,   -999.0,9,  -999.00,-999.0000,9,  -999.00,-999.000,9,-999.000,9,-999.000,9, -999.00,9,  -999.0,9,  -999.0,-999.000,9,-999.000,-999.000,9, -999.00,9, -999.00,9,  185.40,-999.0000,9,-999.0000,9,-999.0000,9,-999.0000,9,-999.0000,9,-999.0000,9,   8.9554,     -999.0,9,     -999.0,9,     -999.0,9,     -999.0,9,         12,-999.000,-999.000,-999.000,     -999.0,9, -999.00,9, -999.00,9
33RO200306_01,       A16N,     012,          1,         22,         22,2,20030622,       0426,    59.5000,   -19.9973,       2768,   225.5,   8.7611,  35.2417,2,  35.2467,2,    267.1,2,   272.3,2,    5.50,2,   12.93,2,    0.02,2,    0.81,2,-999.000,9,-999.000,9,-999.000,9,  -999.0,9,  -999.0,9,   -999.0,9,  -999.00,-999.0000,9,  -999.00,-999.000,9,-999.000,9,-999.000,9, -999.00,9,  -999.0,9,  -999.0,-999.000,9,-999.000,   1.672,2, -999.00,9, -999.00,9,  225.50,   0.1210,2,   0.0790,2,   0.0350,2,   0.0240,2,   0.0220,2,   0.0240,2,   8.7369,      0.094,2,     -999.0,9,     -999.0,9,     -999.0,9,         12,-999.000,-999.000,-999.000,     -999.0,9, -999.00,9, -999.00,9
33RO200306_01,       A16N,     012,          1,         21,         21,2,20030622,       0426,    59.5000,   -19.9973,       2768,   274.9,   8.6667,  35.2413,2,  35.2457,2,    266.2,2,   259.4,2,    6.22,2,   13.74,2,    0.01,2,    0.86,2,-999.000,9,-999.000,9,-999.000,9,  -999.0,9,  -999.0,9,   -999.0,9,  -999.00,-999.0000,9,  -999.00,-999.000,9,-999.000,9,-999.000,9, -999.00,9,  -999.0,9,  -999.0,-999.000,9,-999.000,-999.000,9, -999.00,9, -999.00,9,  274.90,-999.0000,9,-999.0000,9,-999.0000,9,-999.0000,9,-999.0000,9,-999.0000,9,   8.6373,     -999.0,9,     -999.0,9,     -999.0,9,     -999.0,9,         12,-999.000,-999.000,-999.000,     -999.0,9, -999.00,9, -999.00,9
33RO200306_01,       A16N,     012,          1,         20,         20,2,20030622,       0426,    59.5000,   -19.9973,       2768,   324.7,   8.5803,  35.2361,2,  35.2385,2,    268.6,2,   262.4,2,    6.09,2,   13.57,2,    0.01,2,    0.86,2,-999.000,9,-999.000,9,-999.000,9,  -999.0,9,  -999.0,9,   -999.0,9,  -999.00,-999.0000,9,  -999.00,-999.000,9,-999.000,9,-999.000,9, -999.00,9,  -999.0,9,  -999.0,-999.000,9,-999.000,-999.000,9, -999.00,9, -999.00,9,  324.70,   0.1100,2,   0.0770,2,   0.0400,2,   0.0280,2,   0.0160,2,   0.0180,2,   8.5456,     -999.0,9,     -999.0,9,     -999.0,9,     -999.0,9,         12,-999.000,-999.000,-999.000,     -999.0,9, -999.00,9, -999.00,9
33RO200306_01,       A16N,     012,          1,         19,         19,2,20030622,       0426,    59.5000,   -19.9973,       2768,   375.9,   8.4718,  35.2246,2,  35.2321,2,    265.2,2,   263.3,2,    6.19,2,   13.67,2,    0.01,2,    0.86,2,-999.000,9,-999.000,9,-999.000,9,  -999.0,9,  -999.0,9,   -999.0,9,  -999.00,-999.0000,9,  -999.00,-999.000,9,-999.000,9,-999.000,9, -999.00,9,  -999.0,9,  -999.0,-999.000,9,-999.000,-999.000,9, -999.00,9, -999.00,9,  375.90,-999.0000,9,-999.0000,9,-999.0000,9,-999.0000,9,-999.0000,9,-999.0000,9,   8.4319,     -999.0,9,     -999.0,9,     -999.0,9,     -999.0,9,         12,-999.000,-999.000,-999.000,     -999.0,9, -999.00,9, -999.00,9
33RO200306_01,       A16N,     012,          1,         18,         18,2,20030622,       0426,    59.5000,   -19.9973,       2768,   425.7,   8.3743,  35.2221,2,  35.2242,2,    258.3,2,   258.1,2,    6.62,2,   14.21,2,    0.01,2,    0.90,2,-999.000,9,-999.000,9,-999.000,9,  -999.0,9,  -999.0,9,   -999.0,9,  -999.00,-999.0000,9,  -999.00,-999.000,9,-999.000,9,-999.000,9, -999.00,9,  -999.0,9,  -999.0,-999.000,9,-999.000,-999.000,9, -999.00,9, -999.00,9,  425.70,-999.0000,9,-999.0000,9,-999.0000,9,-999.0000,9,-999.0000,9,-999.0000,9,   8.3292,     -999.0,9,     -999.0,9,     -999.0,9,     -999.0,9,         12,-999.000,-999.000,-999.000,     -999.0,9, -999.00,9, -999.00,9
33RO200306_01,       A16N,     012,          1,         17,         17,2,20030622,       0426,    59.5000,   -19.9973,       2768,   475.0,   8.2054,  35.2090,2,  35.2113,2,    253.0,2,   247.8,2,    7.28,2,   15.14,2,    0.01,2,    0.95,2,-999.000,9,-999.000,9,-999.000,9,  -999.0,9,  -999.0,9,   -999.0,9,  -999.00,-999.0000,9,  -999.00,-999.000,9,-999.000,9,-999.000,9, -999.00,9,  -999.0,9,  -999.0,-999.000,9,-999.000,   1.698,2, -999.00,9, -999.00,9,  475.00,   0.1550,2,   0.0960,2,   0.0410,2,   0.0280,2,   0.0210,2,   0.0250,2,   8.1556,      0.064,2,     -999.0,9,     -999.0,9,     -999.0,9,         12,-999.000,-999.000,-999.000,     -999.0,9, -999.00,9, -999.00,9
33RO200306_01,       A16N,     012,          1,         16,         16,2,20030622,       0426,    59.5000,   -19.9973,       2768,   550.5,   7.8711,  35.1853,2,  35.1867,2,    239.5,2,   237.8,2,    8.22,2,   16.14,2,    0.01,2,    1.01,2,-999.000,9,-999.000,9,-999.000,9,  -999.0,9,  -999.0,9,   -999.0,9,  -999.00,-999.0000,9,  -999.00,-999.000,9,-999.000,9,-999.000,9, -999.00,9,  -999.0,9,  -999.0,-999.000,9,-999.000,-999.000,9, -999.00,9, -999.00,9,  550.50,-999.0000,9,-999.0000,9,-999.0000,9,-999.0000,9,-999.0000,9,-999.0000,9,   7.8145,     -999.0,9,     -999.0,9,     -999.0,9,     -999.0,9,         12,-999.000,-999.000,-999.000,     -999.0,9, -999.00,9, -999.00,9
33RO200306_01,       A16N,     012,          1,         15,         15,2,20030622,       0426,    59.5000,   -19.9973,       2768,   651.4,   7.3324,  35.1615,2,  35.1637,2,    222.6,2,   221.9,2,    9.80,2,   17.71,2,    0.00,2,    1.11,2,-999.000,9,-999.000,9,-999.000,9,  -999.0,9,  -999.0,9,   -999.0,9,  -999.00,-999.0000,9,  -999.00,-999.000,9,-999.000,9,-999.000,9, -999.00,9,  -999.0,9,  -999.0,-999.000,9,-999.000,-999.000,9, -999.00,9, -999.00,9,  651.40,-999.0000,9,-999.0000,9,-999.0000,9,-999.0000,9,-999.0000,9,-999.0000,9,   7.2676,     -999.0,9,     -999.0,9,     -999.0,9,     -999.0,9,         12,-999.000,-999.000,-999.000,     -999.0,9, -999.00,9, -999.00,9
33RO200306_01,       A16N,     012,          1,         14,         14,2,20030622,       0426,    59.5000,   -19.9973,       2768,   751.3,   6.6550,  35.1218,2,  35.1238,2,    219.9,2,   219.7,2,   10.64,2,   18.40,2,    0.00,2,    1.15,2,-999.000,9,-999.000,9,-999.000,9,  -999.0,9,  -999.0,9,   -999.0,9,  -999.00,-999.0000,9,  -999.00,-999.000,9,-999.000,9,-999.000,9, -999.00,9,  -999.0,9,  -999.0,-999.000,9,-999.000,-999.000,9, -999.00,9, -999.00,9,  751.30,-999.0000,9,-999.0000,9,-999.0000,9,-999.0000,9,-999.0000,9,-999.0000,9,   6.5836,     -999.0,9,     -999.0,9,     -999.0,9,     -999.0,9,         12,-999.000,-999.000,-999.000,     -999.0,9, -999.00,9, -999.00,9
33RO200306_01,       A16N,     012,          1,         13,         13,2,20030622,       0426,    59.5000,   -19.9973,       2768,   849.5,   6.1099,  35.0985,2,  35.1010,2,    224.3,2,   226.2,2,   10.96,2,   18.43,2,    0.00,2,    1.15,2,-999.000,9,-999.000,9,-999.000,9,  -999.0,9,  -999.0,9,   -999.0,9,  -999.00,-999.0000,9,  -999.00,-999.000,9,-999.000,9,-999.000,9, -999.00,9,  -999.0,9,  -999.0,-999.000,9,-999.000,-999.000,9, -999.00,9, -999.00,9,  849.50,-999.0000,9,-999.0000,9,-999.0000,9,-999.0000,9,-999.0000,9,-999.0000,9,   6.0321,     -999.0,9,     -999.0,9,     -999.0,9,     -999.0,9,         12,-999.000,-999.000,-999.000,     -999.0,9, -999.00,9, -999.00,9
33RO200306_01,       A16N,     012,          1,         12,         12,2,20030622,       0426,    59.5000,   -19.9973,       2768,   950.7,   5.5791,  35.0533,2,  35.0543,2,    233.8,2,   237.4,2,   11.01,2,   18.33,2,    0.00,2,    1.16,2,-999.000,9,-999.000,9,-999.000,9,  -999.0,9,  -999.0,9,   -999.0,9,  -999.00,-999.0000,9,  -999.00,-999.000,9,-999.000,9,-999.000,9, -999.00,9,  -999.0,9,  -999.0,-999.000,9,-999.000,   1.173,2, -999.00,9, -999.00,9,  950.70,   0.1450,2,   0.0970,2,   0.0470,2,   0.0340,2,   0.0160,2,   0.0190,2,   5.4952,      0.201,2,     -999.0,9,     -999.0,9,     -999.0,9,         12,-999.000,-999.000,-999.000,     -999.0,9, -999.00,9, -999.00,9
33RO200306_01,       A16N,     012,          1,         11,         11,2,20030622,       0426,    59.5000,   -19.9973,       2768,  1050.5,   4.9876,  35.0085,2,  35.0113,2,    245.0,2,   245.4,2,   10.99,2,   18.08,2,    0.00,2,    1.15,2,-999.000,9,-999.000,9,-999.000,9,  -999.0,9,  -999.0,9,   -999.0,9,  -999.00,-999.0000,9,  -999.00,-999.000,9,-999.000,9,-999.000,9, -999.00,9,  -999.0,9,  -999.0,-999.000,9,-999.000,-999.000,9, -999.00,9, -999.00,9, 1050.50,-999.0000,9,-999.0000,9,-999.0000,9,-999.0000,9,-999.0000,9,-999.0000,9,   4.8989,     -999.0,9,     -999.0,9,     -999.0,9,     -999.0,9,         12,-999.000,-999.000,-999.000,     -999.0,9, -999.00,9, -999.00,9
33RO200306_01,       A16N,     012,          1,         10,         10,2,20030622,       0426,    59.5000,   -19.9973,       2768,  1149.7,   4.5848,  34.9722,2,  34.9807,2,    255.8,2,   254.4,2,   10.86,2,   17.89,2,    0.00,2,    1.13,2,-999.000,9,-999.000,9,-999.000,9,  -999.0,9,  -999.0,9,   -999.0,9,  -999.00,-999.0000,9,  -999.00,-999.000,9,-999.000,9,-999.000,9, -999.00,9,  -999.0,9,  -999.0,-999.000,9,-999.000,-999.000,9, -999.00,9, -999.00,9, 1149.70,-999.0000,9,-999.0000,9,-999.0000,9,-999.0000,9,-999.0000,9,-999.0000,9,   4.4905,     -999.0,9,     -999.0,9,     -999.0,9,     -999.0,9,         12,-999.000,-999.000,-999.000,     -999.0,9, -999.00,9, -999.00,9
33RO200306_01,       A16N,     012,          1,          9,          9,2,20030622,       0426,    59.5000,   -19.9973,       2768,  1250.0,   4.3127,  34.9549,2,  34.9585,2,    261.8,2,   260.0,2,   10.96,2,   17.77,2,    0.00,2,    1.13,2,-999.000,9,-999.000,9,-999.000,9,  -999.0,9,  -999.0,9,   -999.0,9,  -999.00,-999.0000,9,  -999.00,-999.000,9,-999.000,9,-999.000,9, -999.00,9,  -999.0,9,  -999.0,-999.000,9,-999.000,-999.000,9, -999.00,9, -999.00,9, 1250.00,-999.0000,9,-999.0000,9,-999.0000,9,-999.0000,9,-999.0000,9,-999.0000,9,   4.2119,     -999.0,9,     -999.0,9,     -999.0,9,     -999.0,9,         12,-999.000,-999.000,-999.000,     -999.0,9, -999.00,9, -999.00,9
33RO200306_01,       A16N,     012,          1,          8,          8,2,20030622,       0426,    59.5000,   -19.9973,       2768,  1351.7,   4.0503,  34.9332,2,  34.9359,2,    267.4,2,   266.0,2,   10.88,2,   17.62,2,    0.00,2,    1.12,2,-999.000,9,-999.000,9,-999.000,9,  -999.0,9,  -999.0,9,   -999.0,9,  -999.00,-999.0000,9,  -999.00,-999.000,9,-999.000,9,-999.000,9, -999.00,9,  -999.0,9,  -999.0,-999.000,9,-999.000,-999.000,9, -999.00,9, -999.00,9, 1351.70,-999.0000,9,-999.0000,9,-999.0000,9,-999.0000,9,-999.0000,9,-999.0000,9,   3.9430,     -999.0,9,     -999.0,9,     -999.0,9,     -999.0,9,         12,-999.000,-999.000,-999.000,     -999.0,9, -999.00,9, -999.00,9
33RO200306_01,       A16N,     012,          1,          7,          7,2,20030622,       0426,    59.5000,   -19.9973,       2768,  1599.9,   3.7029,  34.9128,2,  34.9153,2,    274.6,2,   276.1,2,   11.04,2,   17.42,2,    0.00,2,    1.10,2,-999.000,9,-999.000,9,-999.000,9,  -999.0,9,  -999.0,9,   -999.0,9,  -999.00,-999.0000,9,  -999.00,-999.000,9,-999.000,9,-999.000,9, -999.00,9,  -999.0,9,  -999.0,-999.000,9,-999.000,-999.000,9, -999.00,9, -999.00,9, 1599.90,-999.0000,9,-999.0000,9,-999.0000,9,-999.0000,9,-999.0000,9,-999.0000,9,   3.5772,     -999.0,9,     -999.0,9,     -999.0,9,     -999.0,9,         12,-999.000,-999.000,-999.000,     -999.0,9, -999.00,9, -999.00,9
33RO200306_01,       A16N,     012,          1,          6,          6,2,20030622,       0426,    59.5000,   -19.9973,       2768,  1800.8,   3.4897,  34.9025,2,  34.9064,2,    281.2,2,   280.8,2,   10.90,2,   17.14,2,    0.00,2,    1.09,2,-999.000,9,-999.000,9,-999.000,9,  -999.0,9,  -999.0,9,   -999.0,9,  -999.00,-999.0000,9,  -999.00,-999.000,9,-999.000,9,-999.000,9, -999.00,9,  -999.0,9,  -999.0,-999.000,9,-999.000,-999.000,9, -999.00,9, -999.00,9, 1800.80,-999.0000,9,-999.0000,9,-999.0000,9,-999.0000,9,-999.0000,9,-999.0000,9,   3.3485,     -999.0,9,     -999.0,9,     -999.0,9,     -999.0,9,         12,-999.000,-999.000,-999.000,     -999.0,9, -999.00,9, -999.00,9