BOTTLE,20230908CCHSIOCBG
EXPOCODE,SECT_ID,STNNBR,CASTNO,SAMPNO,BTLNBR,BTLNBR_FLAG_W,DATE,TIME,LATITUDE,LONGITUDE,DEPTH,CTDPRS,CTDTMP,CTDSAL,CTDSAL_FLAG_W,SALNTY,SALNTY_FLAG_W,CTDOXY,CTDOXY_FLAG_W,OXYGEN,OXYGEN_FLAG_W,SILCAT,SILCAT_FLAG_W,NITRAT,NITRAT_FLAG_W,NITRIT,NITRIT_FLAG_W,PHSPHT,PHSPHT_FLAG_W,CFC-11,CFC-11_FLAG_W,CFC-12,CFC-12_FLAG_W,CFC113,CFC113_FLAG_W,TCARBN,TCARBN_FLAG_W,ALKALI,ALKALI_FLAG_W,FCO2,FCO2_FLAG_W,FCO2TMP,PH_SWS,PH_SWS_FLAG_W,PH_TMP,TRITUM,TRITUM_FLAG_W,HELIUM,HELIUM_FLAG_W,DELHE3,DELHE3_FLAG_W,DELC13,DELC13_FLAG_W,DELC14,DELC14_FLAG_W,C14ERR,NEON,NEON_FLAG_W,NEONER,POC,POC_FLAG_W,DOC,DOC_FLAG_W,TDN,TDN_FLAG_W,CTDRAW,CDOM325,CDOM325_FLAG_W,CDOM340,CDOM340_FLAG_W,CDOM380,CDOM380_FLAG_W,CDOM412,CDOM412_FLAG_W,CDOMSL,CDOMSL_FLAG_W,CDOMSN,CDOMSN_FLAG_W,THETA,PON,PON_FLAG_W,HCFC-22,HCFC-22_FLAG_W,HCFC-142b,HCFC-142b_FLAG_W,HCFC-141b,HCFC-141b_FLAG_W,STNNBR_U,HELIER,DELHER,TRITER,CH3CL,CH3CL_FLAG_W,CH3BR,CH3BR_FLAG_W,CH3I,CH3I_FLAG_W
,,,,,,,,,,,METERS,DBAR,ITS-90,PSS-78,,PSS-78,,UMOL/KG,,UMOL/KG,,UMOL/KG,,UMOL/KG,,UMOL/KG,,UMOL/KG,,PMOL/KG,,PMOL/KG,,PMOL/KG,,UMOL/KG,,UMOL/KG,,UATM,,DEG C,,,DEG C,TU,,NMOL/KG,,PERCNT,,/MILLE,,/MILLE,,/MILLE,NMOL/KG,,NMOL/KG,UG/KG,,UMOL/KG,,UMOL/KG,,DBAR,1/M,,1/M,,1/M,,1/M,,1/NM,,1/NM,,DEG C,UMOL/L,,PMOL/KG,,PMOL/KG,,PMOL/KG,,,NMOL/KG,PERCNT,TU,PMOL/KG,,PMOL/KG,,PMOL/KG,
33RO200306_02,       A16N,     122,          2,          7,          7,2,20030801,       2105,     4.9997,   -26.0000,       4520,  2100.2,   3.4137,  34.9572,2,  34.9586,2,    249.3,2,   346.1,4,   23.38,2,   20.50,2,    0.05,2,    1.41,2,   0.016,2,   0.012,2,   0.000,2,  2170.4,2,  2319.8,2,   -999.0,9,  -999.00,   7.7255,2,    25.00,   0.078,2,   1.882,2,   0.953,2, -999.00,9,  -999.0,9,  -999.0,   7.986,2,   0.050,-999.000,9,   41.79,2,   24.41,2, 2100.20,-999.0000,9,-999.0000,9,-999.0000,9,-999.0000,9,-999.0000,9,-999.0000,9,   3.2454,     -999.0,9,       0.11,2,       0.00,2,       0.07,2,        122,   0.003,   0.192,   0.010,      38.67,2,    0.95,2,    0.19,2
33RO200306_02,       A16N,     122,          2,          6,          6,2,20030801,       2105,     4.9997,   -26.0000,       4520,  2299.2,   3.1984,  34.9482,2,  34.9493,2,    251.5,2,   356.2,4,   26.11,2,   20.48,2,    0.05,2,    1.41,2,   0.020,2,   0.011,2,   0.000,2,  2175.3,2,  2327.0,2,    763.0,2,    20.00,   7.7356,2,    25.00,-999.000,9,-999.000,9,-999.000,9, -999.00,9,  -999.0,9,  -999.0,-999.000,9,-999.000,-999.000,9,   41.87,2,   25.64,2, 2299.20,-999.0000,9,-999.0000,9,-999.0000,9,-999.0000,9,-999.0000,9,-999.0000,9,   3.0145,     -999.0,9,     -999.0,9,     -999.0,9,     -999.0,9,        122,-999.000,-999.000,-999.000,     -999.0,9, -999.00,9, -999.00,9
33RO200306_02,       A16N,     122,          2,          5,          5,2,20030801,       2105,     4.9997,   -26.0000,       4520,  2600.2,   2.8960,  34.9318,2,  34.9334,2,    250.7,2,   315.3,4,   31.25,2,   20.94,2,    0.05,2,    1.45,2,   0.007,2,   0.004,2,   0.001,2,  2178.3,2,  2331.3,2,    767.6,2,    20.00,   7.7086,2,    25.00,-999.000,9,   1.892,2,   0.794,2, -999.00,9,  -999.0,9,  -999.0,   8.094,2,   0.045,-999.000,9,   40.98,2,   24.90,2, 2600.20,-999.0000,9,-999.0000,9,-999.0000,9,-999.0000,9,-999.0000,9,-999.0000,9,   2.6882,     -999.0,9,       0.13,2,       0.00,2,       0.09,2,        122,   0.004,    0.19,-999.000,       4.39,2,    0.03,2,     0.0,2
33RO200306_02,       A16N,     122,          2,          4,          4,2,20030801,       2105,     4.9997,   -26.0000,       4520,  2999.6,   2.6519,  34.9155,2,  34.9167,2,    251.2,2,   318.7,4,   35.97,6,   21.23,6,    0.03,6,    1.47,6,   0.011,2,   0.006,2,   0.001,2,  2183.6,2,  2335.1,2,    769.8,6,    20.00,   7.7279,2,    25.00,-999.000,9,-999.000,9,-999.000,9, -999.00,9,  -999.0,9,  -999.0,-999.000,9,-999.000,-999.000,9,   40.17,2,   25.72,2, 2999.60,-999.0000,9,-999.0000,9,-999.0000,9,-999.0000,9,-999.0000,9,-999.0000,9,   2.4088,     -999.0,9,     -999.0,9,     -999.0,9,     -999.0,9,        122,-999.000,-999.000,-999.000,     -999.0,9, -999.00,9, -999.00,9
33RO200306_02,       A16N,     122,          2,          3,          3,2,20030801,       2105,     4.9997,   -26.0000,       4520,  3399.7,   2.5355,  34.9061,2,  34.9098,2,    250.5,2,   276.6,4,   38.51,6,   21.37,6,    0.03,6,    1.48,6,   0.016,2,   0.008,2,   0.001,2,  2185.7,2,  2338.6,2,    772.0,2,    20.00,   7.7219,2,    25.00,   0.116,2,   1.857,2,   1.805,2, -999.00,9,  -999.0,9,  -999.0,   7.756,2,   0.069,-999.000,9,   39.51,2,   25.60,2, 3399.70,-999.0000,9,-999.0000,9,-999.0000,9,-999.0000,9,-999.0000,9,-999.0000,9,   2.2530,     -999.0,9,     -999.0,9,     -999.0,9,     -999.0,9,        122,   0.003,   0.184,   0.010,     -999.0,9, -999.00,9, -999.00,9
33RO200306_02,       A16N,     122,          2,          2,          2,2,20030801,       2105,     4.9997,   -26.0000,       4520,  3899.5,   2.3427,  34.8893,2,  34.8903,2,    249.2,2,   248.5,2,   43.86,6,   21.85,6,    0.03,6,    1.52,6,   0.011,2,   0.007,2,   0.001,2,  2194.7,2,  2345.0,2,    777.2,2,    20.00,   7.7112,2,    25.00,-999.000,9,-999.000,9,-999.000,9, -999.00,9,  -999.0,9,  -999.0,-999.000,9,-999.000,-999.000,9,   39.76,2,   26.70,2, 3899.50,-999.0000,9,-999.0000,9,-999.0000,9,-999.0000,9,-999.0000,9,-999.0000,9,   2.0103,     -999.0,9,     -999.0,9,     -999.0,9,     -999.0,9,        122,-999.000,-999.000,-999.000,     -999.0,9, -999.00,9, -999.00,9
33RO200306_02,       A16N,     122,          2,          1,          1,2,20030801,       2105,     4.9997,   -26.0000,       4520,  4576.9,   2.3858,  34.8848,2,  34.8879,2,    246.2,2,   245.4,2,   45.92,6,   22.23,6,    0.03,6,    1.55,6,   0.023,2,   0.012,2,   0.000,2,  2197.4,6,  2348.8,6,    783.2,2,    20.00,   7.7106,6,    25.00,   0.055,2,   1.891,2,   1.334,2, -999.00,9,  -999.0,9,  -999.0,   8.098,2,   0.011,-999.000,9,   41.11,2,   25.97,2, 4576.90,-999.0000,9,-999.0000,9,-999.0000,9,-999.0000,9,-999.0000,9,-999.0000,9,   1.9728,     -999.0,9,       0.05,2,       0.00,2,       0.36,2,        122,   0.003,   0.208,   0.000,        0.0,2,    0.09,2,    0.08,2