BOTTLE,20230908CCHSIOCBG
EXPOCODE,SECT_ID,STNNBR,CASTNO,SAMPNO,BTLNBR,BTLNBR_FLAG_W,DATE,TIME,LATITUDE,LONGITUDE,DEPTH,CTDPRS,CTDTMP,CTDSAL,CTDSAL_FLAG_W,SALNTY,SALNTY_FLAG_W,CTDOXY,CTDOXY_FLAG_W,OXYGEN,OXYGEN_FLAG_W,SILCAT,SILCAT_FLAG_W,NITRAT,NITRAT_FLAG_W,NITRIT,NITRIT_FLAG_W,PHSPHT,PHSPHT_FLAG_W,CFC-11,CFC-11_FLAG_W,CFC-12,CFC-12_FLAG_W,CFC113,CFC113_FLAG_W,TCARBN,TCARBN_FLAG_W,ALKALI,ALKALI_FLAG_W,FCO2,FCO2_FLAG_W,FCO2TMP,PH_SWS,PH_SWS_FLAG_W,PH_TMP,TRITUM,TRITUM_FLAG_W,HELIUM,HELIUM_FLAG_W,DELHE3,DELHE3_FLAG_W,DELC13,DELC13_FLAG_W,DELC14,DELC14_FLAG_W,C14ERR,NEON,NEON_FLAG_W,NEONER,POC,POC_FLAG_W,DOC,DOC_FLAG_W,TDN,TDN_FLAG_W,CTDRAW,CDOM325,CDOM325_FLAG_W,CDOM340,CDOM340_FLAG_W,CDOM380,CDOM380_FLAG_W,CDOM412,CDOM412_FLAG_W,CDOMSL,CDOMSL_FLAG_W,CDOMSN,CDOMSN_FLAG_W,THETA,PON,PON_FLAG_W,HCFC-22,HCFC-22_FLAG_W,HCFC-142b,HCFC-142b_FLAG_W,HCFC-141b,HCFC-141b_FLAG_W,STNNBR_U,HELIER,DELHER,TRITER,CH3CL,CH3CL_FLAG_W,CH3BR,CH3BR_FLAG_W,CH3I,CH3I_FLAG_W
,,,,,,,,,,,METERS,DBAR,ITS-90,PSS-78,,PSS-78,,UMOL/KG,,UMOL/KG,,UMOL/KG,,UMOL/KG,,UMOL/KG,,UMOL/KG,,PMOL/KG,,PMOL/KG,,PMOL/KG,,UMOL/KG,,UMOL/KG,,UATM,,DEG C,,,DEG C,TU,,NMOL/KG,,PERCNT,,/MILLE,,/MILLE,,/MILLE,NMOL/KG,,NMOL/KG,UG/KG,,UMOL/KG,,UMOL/KG,,DBAR,1/M,,1/M,,1/M,,1/M,,1/NM,,1/NM,,DEG C,UMOL/L,,PMOL/KG,,PMOL/KG,,PMOL/KG,,,NMOL/KG,PERCNT,TU,PMOL/KG,,PMOL/KG,,PMOL/KG,
33RO200306_01,       A16N,     047,          1,          5,          5,2,20030701,       1508,    42.0005,   -20.0007,       2349,  1641.5,   4.5080,  35.0660,2,  35.0661,2,    251.2,2,   252.3,2,   12.17,2,   17.74,2,    0.00,2,    1.14,2,-999.000,9,-999.000,9,-999.000,9,  2168.7,2,  2313.6,2,   -999.0,9,  -999.00,   7.7356,2,    25.00,-999.000,9,-999.000,9,-999.000,9, -999.00,9,  -999.0,9,  -999.0,-999.000,9,-999.000,-999.000,9,   43.00,2,   21.37,2, 1641.50,-999.0000,9,-999.0000,9,-999.0000,9,-999.0000,9,-999.0000,9,-999.0000,9,   4.3683,     -999.0,9,     -999.0,9,     -999.0,9,     -999.0,9,         47,-999.000,-999.000,-999.000,     -999.0,9, -999.00,9, -999.00,9
33RO200306_01,       A16N,     047,          1,          4,          4,2,20030701,       1508,    42.0005,   -20.0007,       2349,  1794.7,   4.0441,  35.0107,2,  35.0110,2,    258.8,2,   259.2,2,   12.97,6,   17.69,6,    0.00,6,    1.14,6,   1.727,2,   0.860,2,   0.080,2,  2164.5,2,  2311.6,2,   -999.0,9,  -999.00,   7.7320,2,    25.00,-999.000,9,-999.000,9,-999.000,9, -999.00,9,  -999.0,9,  -999.0,-999.000,9,-999.000,-999.000,9,   42.76,2,   23.06,2, 1794.70,-999.0000,9,-999.0000,9,-999.0000,9,-999.0000,9,-999.0000,9,-999.0000,9,   3.8957,     -999.0,9,     -999.0,9,     -999.0,9,     -999.0,9,         47,-999.000,-999.000,-999.000,     -999.0,9, -999.00,9, -999.00,9
33RO200306_01,       A16N,     047,          1,          3,          3,2,20030701,       1508,    42.0005,   -20.0007,       2349,  1999.7,   3.4734,  34.9401,2,  34.9411,2,    269.6,2,   268.4,2,   13.60,6,   17.48,6,    0.00,6,    1.14,6,   1.797,2,   0.886,2,   0.090,2,  2159.1,2,  2306.1,2,    751.2,6,    20.00,   7.7295,2,    25.00,-999.000,9,-999.000,9,-999.000,9, -999.00,9,  -999.0,9,  -999.0,-999.000,9,-999.000,-999.000,9,   42.27,2,   21.88,2, 1999.70,-999.0000,9,-999.0000,9,-999.0000,9,-999.0000,9,-999.0000,9,-999.0000,9,   3.3138,     -999.0,9,     -999.0,9,     -999.0,9,     -999.0,9,         47,-999.000,-999.000,-999.000,     -999.0,9, -999.00,9, -999.00,9
33RO200306_01,       A16N,     047,          1,          2,          2,2,20030701,       1508,    42.0005,   -20.0007,       2349,  2199.7,   3.2462,  34.9366,2,  34.9371,2,    270.5,2,   266.7,2,   15.57,6,   17.49,6,    0.00,6,    1.14,6,   1.486,2,   0.738,2,   0.069,2,  2160.7,2,  2308.4,2,   -999.0,9,  -999.00,   7.7341,2,    25.00,-999.000,9,-999.000,9,-999.000,9, -999.00,9,  -999.0,9,  -999.0,-999.000,9,-999.000,-999.000,9,   43.58,2,   21.41,2, 2199.70,-999.0000,9,-999.0000,9,-999.0000,9,-999.0000,9,-999.0000,9,-999.0000,9,   3.0711,     -999.0,9,     -999.0,9,     -999.0,9,     -999.0,9,         47,-999.000,-999.000,-999.000,     -999.0,9, -999.00,9, -999.00,9
33RO200306_01,       A16N,     047,          1,          1,          1,2,20030701,       1508,    42.0005,   -20.0007,       2349,  2457.5,   3.0873,  34.9492,2,  34.9500,2,    265.3,2,   265.1,2,   20.45,6,   18.17,6,    0.00,6,    1.20,6,   0.963,2,   0.481,2,   0.040,2,  2169.3,6,  2320.3,2,    737.6,2,    20.00,   7.7341,2,    25.00,-999.000,9,-999.000,9,-999.000,9, -999.00,9,  -999.0,9,  -999.0,-999.000,9,-999.000,-999.000,9,   42.36,2,   21.78,2, 2457.50,-999.0000,9,-999.0000,9,-999.0000,9,-999.0000,9,-999.0000,9,-999.0000,9,   2.8899,     -999.0,9,     -999.0,9,     -999.0,9,     -999.0,9,         47,-999.000,-999.000,-999.000,     -999.0,9, -999.00,9, -999.00,9