BOTTLE,20230908CCHSIOCBG
EXPOCODE,SECT_ID,STNNBR,CASTNO,SAMPNO,BTLNBR,BTLNBR_FLAG_W,DATE,TIME,LATITUDE,LONGITUDE,DEPTH,CTDPRS,CTDTMP,CTDSAL,CTDSAL_FLAG_W,SALNTY,SALNTY_FLAG_W,CTDOXY,CTDOXY_FLAG_W,OXYGEN,OXYGEN_FLAG_W,SILCAT,SILCAT_FLAG_W,NITRAT,NITRAT_FLAG_W,NITRIT,NITRIT_FLAG_W,PHSPHT,PHSPHT_FLAG_W,CFC-11,CFC-11_FLAG_W,CFC-12,CFC-12_FLAG_W,CFC113,CFC113_FLAG_W,TCARBN,TCARBN_FLAG_W,ALKALI,ALKALI_FLAG_W,FCO2,FCO2_FLAG_W,FCO2TMP,PH_SWS,PH_SWS_FLAG_W,PH_TMP,TRITUM,TRITUM_FLAG_W,HELIUM,HELIUM_FLAG_W,DELHE3,DELHE3_FLAG_W,DELC13,DELC13_FLAG_W,DELC14,DELC14_FLAG_W,C14ERR,NEON,NEON_FLAG_W,NEONER,POC,POC_FLAG_W,DOC,DOC_FLAG_W,TDN,TDN_FLAG_W,CTDRAW,CDOM325,CDOM325_FLAG_W,CDOM340,CDOM340_FLAG_W,CDOM380,CDOM380_FLAG_W,CDOM412,CDOM412_FLAG_W,CDOMSL,CDOMSL_FLAG_W,CDOMSN,CDOMSN_FLAG_W,THETA,PON,PON_FLAG_W,HCFC-22,HCFC-22_FLAG_W,HCFC-142b,HCFC-142b_FLAG_W,HCFC-141b,HCFC-141b_FLAG_W,STNNBR_U,HELIER,DELHER,TRITER,CH3CL,CH3CL_FLAG_W,CH3BR,CH3BR_FLAG_W,CH3I,CH3I_FLAG_W
,,,,,,,,,,,METERS,DBAR,ITS-90,PSS-78,,PSS-78,,UMOL/KG,,UMOL/KG,,UMOL/KG,,UMOL/KG,,UMOL/KG,,UMOL/KG,,PMOL/KG,,PMOL/KG,,PMOL/KG,,UMOL/KG,,UMOL/KG,,UATM,,DEG C,,,DEG C,TU,,NMOL/KG,,PERCNT,,/MILLE,,/MILLE,,/MILLE,NMOL/KG,,NMOL/KG,UG/KG,,UMOL/KG,,UMOL/KG,,DBAR,1/M,,1/M,,1/M,,1/M,,1/NM,,1/NM,,DEG C,UMOL/L,,PMOL/KG,,PMOL/KG,,PMOL/KG,,,NMOL/KG,PERCNT,TU,PMOL/KG,,PMOL/KG,,PMOL/KG,
33RO200306_02,       A16N,     114,          1,          7,          7,2,20030730,       0816,     8.9998,   -28.0000,       5203,  2501.1,   3.0597,  34.9456,2,  34.9448,2,    253.7,2,   249.3,2,   26.81,2,   20.47,2,    0.00,2,    1.38,2,   0.013,2,   0.004,2,   0.000,2,  2174.6,2,  2323.1,2,    751.3,2,    20.00,   7.7322,2,    25.00,   0.064,2,-999.000,9,-999.000,9, -999.00,9,  -999.0,9,  -999.0,-999.000,9,-999.000,-999.000,9,   42.03,2,   25.02,2, 2501.10,-999.0000,9,-999.0000,9,-999.0000,9,-999.0000,9,-999.0000,9,-999.0000,9,   2.8585,     -999.0,9,       0.00,2,       0.00,2,       0.06,2,        114,-999.000,-999.000,   0.010,        0.0,2,     0.0,2,     0.0,2
33RO200306_02,       A16N,     114,          1,          6,          6,2,20030730,       0816,     8.9998,   -28.0000,       5203,  3001.4,   2.7142,  34.9210,2,  34.9211,2,    251.8,2,   248.6,2,   33.61,2,   21.00,2,    0.00,2,    1.45,2,-999.000,9,-999.000,9,-999.000,9,  2181.2,2,  2332.1,2,    761.8,2,    20.00,   7.7202,2,    25.00,-999.000,9,-999.000,9,-999.000,9, -999.00,9,  -999.0,9,  -999.0,-999.000,9,-999.000,-999.000,9,   40.24,2,   25.12,2, 3001.40,-999.0000,9,-999.0000,9,-999.0000,9,-999.0000,9,-999.0000,9,-999.0000,9,   2.4695,     -999.0,9,     -999.0,9,     -999.0,9,     -999.0,9,        114,-999.000,-999.000,-999.000,     -999.0,9, -999.00,9, -999.00,9
33RO200306_02,       A16N,     114,          1,          5,          5,2,20030730,       0816,     8.9998,   -28.0000,       5203,  3501.2,   2.5197,  34.9061,2,  34.9061,2,    251.4,2,   249.1,2,   38.12,2,   21.28,2,    0.00,2,    1.47,2,   0.007,2,   0.006,2,   0.001,2,  2185.9,2,  2335.7,2,    766.1,2,    20.00,   7.7175,2,    25.00,   0.219,2,   1.900,3,   1.599,2, -999.00,9,  -999.0,9,  -999.0,   8.113,2,   0.042,-999.000,9,   41.05,2,   24.67,2, 3501.20,-999.0000,9,-999.0000,9,-999.0000,9,-999.0000,9,-999.0000,9,-999.0000,9,   2.2267,     -999.0,9,       0.00,2,       0.00,2,       0.11,2,        114,   0.005,   0.187,   0.030,      14.47,2,    0.19,2,     0.0,2
33RO200306_02,       A16N,     114,          1,          4,          4,2,20030730,       0816,     8.9998,   -28.0000,       5203,  4000.5,   2.3797,  34.8928,2,  34.8928,2,    252.6,2,   251.3,2,   41.06,6,   21.33,6,    0.01,6,    1.48,6,   0.023,2,   0.015,2,   0.002,2,  2187.4,2,  2337.6,2,    769.1,2,    20.00,   7.7238,2,    25.00,-999.000,9,-999.000,9,-999.000,9, -999.00,9,  -999.0,9,  -999.0,-999.000,9,-999.000,-999.000,9,   42.27,2,   25.38,2, 4000.50,-999.0000,9,-999.0000,9,-999.0000,9,-999.0000,9,-999.0000,9,-999.0000,9,   2.0348,     -999.0,9,     -999.0,9,     -999.0,9,     -999.0,9,        114,-999.000,-999.000,-999.000,     -999.0,9, -999.00,9, -999.00,9
33RO200306_02,       A16N,     114,          1,          3,          3,2,20030730,       0816,     8.9998,   -28.0000,       5203,  4500.9,   2.3015,  34.8814,2,  34.8811,2,    247.8,2,   248.5,2,   46.00,6,   22.02,6,    0.01,6,    1.53,6,-999.000,9,-999.000,9,-999.000,9,  2196.8,2,  2345.9,2,    776.2,6,    20.00,   7.7219,2,    25.00,-999.000,9,-999.000,9,-999.000,9, -999.00,9,  -999.0,9,  -999.0,-999.000,9,-999.000,-999.000,9,   40.17,2,   25.90,2, 4500.90,-999.0000,9,-999.0000,9,-999.0000,9,-999.0000,9,-999.0000,9,-999.0000,9,   1.9003,     -999.0,9,     -999.0,9,       0.00,2,       0.05,2,        114,-999.000,-999.000,-999.000,       4.12,2,    0.43,2,     0.1,2
33RO200306_02,       A16N,     114,          1,          2,          2,2,20030730,       0816,     8.9998,   -28.0000,       5203,  4900.7,   2.2901,  34.8761,2,  34.8765,2,    242.8,2,   243.8,2,   49.43,6,   22.60,6,    0.01,6,    1.58,6,   0.017,2,   0.009,2,   0.000,2,  2205.0,2,  2354.1,2,    781.5,2,    20.00,   7.7216,2,    25.00,-999.000,9,-999.000,9,-999.000,9, -999.00,9,  -999.0,9,  -999.0,-999.000,9,-999.000,-999.000,9,   41.71,2,   27.50,2, 4900.70,-999.0000,9,-999.0000,9,-999.0000,9,-999.0000,9,-999.0000,9,-999.0000,9,   1.8403,     -999.0,9,     -999.0,9,     -999.0,9,     -999.0,9,        114,-999.000,-999.000,-999.000,     -999.0,9, -999.00,9, -999.00,9
33RO200306_02,       A16N,     114,          1,          1,          1,2,20030730,       0816,     8.9998,   -28.0000,       5203,  5295.8,   2.3075,  34.8727,2,  34.8743,2,    242.0,2,   242.9,2,   50.46,6,   22.75,6,    0.01,6,    1.59,6,   0.012,2,   0.011,2,   0.001,2,  2205.2,6,  2356.0,6,    778.5,2,    20.00,   7.7217,6,    25.00,   0.072,2,   1.863,2,   2.190,2, -999.00,9,  -999.0,9,  -999.0,   7.993,2,   0.016,-999.000,9,   40.73,2,   26.93,2, 5295.80,-999.0000,9,-999.0000,9,-999.0000,9,-999.0000,9,-999.0000,9,-999.0000,9,   1.8069,     -999.0,9,       0.00,2,       0.00,2,       0.13,2,        114,   0.004,   0.137,   0.010,       8.88,2,     0.9,2,    0.26,2