BOTTLE,20230908CCHSIOCBG
EXPOCODE,SECT_ID,STNNBR,CASTNO,SAMPNO,BTLNBR,BTLNBR_FLAG_W,DATE,TIME,LATITUDE,LONGITUDE,DEPTH,CTDPRS,CTDTMP,CTDSAL,CTDSAL_FLAG_W,SALNTY,SALNTY_FLAG_W,CTDOXY,CTDOXY_FLAG_W,OXYGEN,OXYGEN_FLAG_W,SILCAT,SILCAT_FLAG_W,NITRAT,NITRAT_FLAG_W,NITRIT,NITRIT_FLAG_W,PHSPHT,PHSPHT_FLAG_W,CFC-11,CFC-11_FLAG_W,CFC-12,CFC-12_FLAG_W,CFC113,CFC113_FLAG_W,TCARBN,TCARBN_FLAG_W,ALKALI,ALKALI_FLAG_W,FCO2,FCO2_FLAG_W,FCO2TMP,PH_SWS,PH_SWS_FLAG_W,PH_TMP,TRITUM,TRITUM_FLAG_W,HELIUM,HELIUM_FLAG_W,DELHE3,DELHE3_FLAG_W,DELC13,DELC13_FLAG_W,DELC14,DELC14_FLAG_W,C14ERR,NEON,NEON_FLAG_W,NEONER,POC,POC_FLAG_W,DOC,DOC_FLAG_W,TDN,TDN_FLAG_W,CTDRAW,CDOM325,CDOM325_FLAG_W,CDOM340,CDOM340_FLAG_W,CDOM380,CDOM380_FLAG_W,CDOM412,CDOM412_FLAG_W,CDOMSL,CDOMSL_FLAG_W,CDOMSN,CDOMSN_FLAG_W,THETA,PON,PON_FLAG_W,HCFC-22,HCFC-22_FLAG_W,HCFC-142b,HCFC-142b_FLAG_W,HCFC-141b,HCFC-141b_FLAG_W,STNNBR_U,HELIER,DELHER,TRITER,CH3CL,CH3CL_FLAG_W,CH3BR,CH3BR_FLAG_W,CH3I,CH3I_FLAG_W
,,,,,,,,,,,METERS,DBAR,ITS-90,PSS-78,,PSS-78,,UMOL/KG,,UMOL/KG,,UMOL/KG,,UMOL/KG,,UMOL/KG,,UMOL/KG,,PMOL/KG,,PMOL/KG,,PMOL/KG,,UMOL/KG,,UMOL/KG,,UATM,,DEG C,,,DEG C,TU,,NMOL/KG,,PERCNT,,/MILLE,,/MILLE,,/MILLE,NMOL/KG,,NMOL/KG,UG/KG,,UMOL/KG,,UMOL/KG,,DBAR,1/M,,1/M,,1/M,,1/M,,1/NM,,1/NM,,DEG C,UMOL/L,,PMOL/KG,,PMOL/KG,,PMOL/KG,,,NMOL/KG,PERCNT,TU,PMOL/KG,,PMOL/KG,,PMOL/KG,
33RO200306_02,       A16N,     073,          1,         35,         35,2,20030717,       0405,    29.4990,   -23.6565,       5242,     3.6,  23.9836,  37.2270,2,  37.2323,2,    212.3,2,   212.8,2,    0.41,2,    0.01,2,    0.00,2,    0.00,2,-999.000,5,-999.000,5,-999.000,5,  2109.7,2,  2432.1,6,   -999.0,9,  -999.00,   8.0248,6,    25.00,-999.000,9,-999.000,9,-999.000,9, -999.00,9,  -999.0,9,  -999.0,-999.000,9,-999.000,-999.000,9, -999.00,9, -999.00,9,    3.60,-999.0000,9,-999.0000,9,-999.0000,9,-999.0000,9,-999.0000,9,-999.0000,9,  23.9828,     -999.0,9,     -999.0,9,     -999.0,9,     -999.0,9,         73,-999.000,-999.000,-999.000,     -999.0,9, -999.00,9, -999.00,9
33RO200306_02,       A16N,     073,          1,         33,         33,2,20030717,       0405,    29.4990,   -23.6565,       5242,    19.8,  23.9863,  37.2257,2,  37.2270,2,    211.8,2,   212.6,2,    0.41,2,    0.01,2,    0.00,2,    0.00,2,-999.000,9,-999.000,9,-999.000,9,  -999.0,9,  -999.0,9,   -999.0,9,  -999.00,-999.0000,9,  -999.00,-999.000,9,-999.000,9,-999.000,9, -999.00,9,  -999.0,9,  -999.0,-999.000,9,-999.000,-999.000,9, -999.00,9, -999.00,9,   19.80,-999.0000,9,-999.0000,9,-999.0000,9,-999.0000,9,-999.0000,9,-999.0000,9,  23.9821,     -999.0,9,     -999.0,9,     -999.0,9,     -999.0,9,         73,-999.000,-999.000,-999.000,     -999.0,9, -999.00,9, -999.00,9
33RO200306_02,       A16N,     073,          1,         32,         32,2,20030717,       0405,    29.4990,   -23.6565,       5242,    39.7,  21.9001,  36.9794,2,  37.0116,2,    223.0,2,   216.1,2,    0.47,2,    0.01,2,    0.00,2,    0.00,2,-999.000,5,-999.000,5,-999.000,5,  2101.9,2,  2419.3,2,   -999.0,9,  -999.00,   8.0089,2,    25.00,-999.000,9,-999.000,9,-999.000,9, -999.00,9,  -999.0,9,  -999.0,-999.000,9,-999.000,-999.000,9, -999.00,9, -999.00,9,   39.70,-999.0000,9,-999.0000,9,-999.0000,9,-999.0000,9,-999.0000,9,-999.0000,9,  21.8922,     -999.0,9,     -999.0,9,     -999.0,9,     -999.0,9,         73,-999.000,-999.000,-999.000,     -999.0,9, -999.00,9, -999.00,9
33RO200306_02,       A16N,     073,          1,         31,         31,2,20030717,       0405,    29.4990,   -23.6565,       5242,    59.7,  20.9552,  37.0259,2,  37.0322,2,    228.1,2,   230.9,2,    0.43,2,    0.01,2,    0.00,2,    0.01,2,-999.000,9,-999.000,9,-999.000,9,  -999.0,9,  -999.0,9,   -999.0,9,  -999.00,-999.0000,9,  -999.00,-999.000,9,-999.000,9,-999.000,9, -999.00,9,  -999.0,9,  -999.0,-999.000,9,-999.000,-999.000,9, -999.00,9, -999.00,9,   59.70,-999.0000,9,-999.0000,9,-999.0000,9,-999.0000,9,-999.0000,9,-999.0000,9,  20.9437,     -999.0,9,     -999.0,9,     -999.0,9,     -999.0,9,         73,-999.000,-999.000,-999.000,     -999.0,9, -999.00,9, -999.00,9
33RO200306_02,       A16N,     073,          1,         30,         30,2,20030717,       0405,    29.4990,   -23.6565,       5242,    79.7,  20.0549,  36.9096,2,  36.8935,2,    226.3,2,   232.1,2,    0.49,2,    0.01,2,    0.00,2,    0.01,2,-999.000,9,-999.000,9,-999.000,9,  -999.0,9,  -999.0,9,   -999.0,9,  -999.00,-999.0000,9,  -999.00,-999.000,9,-999.000,9,-999.000,9, -999.00,9,  -999.0,9,  -999.0,-999.000,9,-999.000,-999.000,9, -999.00,9, -999.00,9,   79.70,-999.0000,9,-999.0000,9,-999.0000,9,-999.0000,9,-999.0000,9,-999.0000,9,  20.0400,     -999.0,9,     -999.0,9,     -999.0,9,     -999.0,9,         73,-999.000,-999.000,-999.000,     -999.0,9, -999.00,9, -999.00,9
33RO200306_02,       A16N,     073,          1,         29,         29,2,20030717,       0405,    29.4990,   -23.6565,       5242,    99.7,  19.6309,  36.8666,2,  36.8679,2,    232.1,2,   228.8,2,    0.50,2,    0.01,2,    0.00,2,    0.01,2,-999.000,5,-999.000,5,-999.000,5,  2099.5,2,  2408.8,2,   -999.0,9,  -999.00,   8.0261,2,    25.00,-999.000,9,-999.000,9,-999.000,9, -999.00,9,  -999.0,9,  -999.0,-999.000,9,-999.000,-999.000,9, -999.00,9, -999.00,9,   99.70,-999.0000,9,-999.0000,9,-999.0000,9,-999.0000,9,-999.0000,9,-999.0000,9,  19.6125,     -999.0,9,     -999.0,9,     -999.0,9,     -999.0,9,         73,-999.000,-999.000,-999.000,     -999.0,9, -999.00,9, -999.00,9
33RO200306_02,       A16N,     073,          1,         28,         28,2,20030717,       0405,    29.4990,   -23.6565,       5242,   124.0,  19.1165,  36.7779,2,  36.7659,2,    222.0,2,   223.7,2,    0.55,2,    0.02,2,    0.01,2,    0.01,2,-999.000,9,-999.000,9,-999.000,9,  -999.0,9,  -999.0,9,   -999.0,9,  -999.00,-999.0000,9,  -999.00,-999.000,9,-999.000,9,-999.000,9, -999.00,9,  -999.0,9,  -999.0,-999.000,9,-999.000,-999.000,9, -999.00,9, -999.00,9,  124.00,-999.0000,9,-999.0000,9,-999.0000,9,-999.0000,9,-999.0000,9,-999.0000,9,  19.0941,     -999.0,9,     -999.0,9,     -999.0,9,     -999.0,9,         73,-999.000,-999.000,-999.000,     -999.0,9, -999.00,9, -999.00,9
33RO200306_02,       A16N,     073,          1,         27,         27,2,20030717,       0405,    29.4990,   -23.6565,       5242,   150.2,  18.6865,  36.6966,2,  36.6993,2,    219.8,2,   215.9,2,    0.61,2,    0.27,2,    0.07,2,    0.02,2,-999.000,9,-999.000,9,-999.000,9,  -999.0,9,  -999.0,9,   -999.0,9,  -999.00,-999.0000,9,  -999.00,-999.000,9,-999.000,9,-999.000,9, -999.00,9,  -999.0,9,  -999.0,-999.000,9,-999.000,-999.000,9, -999.00,9, -999.00,9,  150.20,-999.0000,9,-999.0000,9,-999.0000,9,-999.0000,9,-999.0000,9,-999.0000,9,  18.6598,     -999.0,9,     -999.0,9,     -999.0,9,     -999.0,9,         73,-999.000,-999.000,-999.000,     -999.0,9, -999.00,9, -999.00,9
33RO200306_02,       A16N,     073,          1,         26,         26,2,20030717,       0405,    29.4990,   -23.6565,       5242,   174.2,  18.2515,  36.6413,2,  36.6143,2,    209.8,2,   211.6,2,    0.79,2,    1.87,2,    0.05,2,    0.10,2,-999.000,9,-999.000,9,-999.000,9,  -999.0,9,  -999.0,9,   -999.0,9,  -999.00,-999.0000,9,  -999.00,-999.000,9,-999.000,9,-999.000,9, -999.00,9,  -999.0,9,  -999.0,-999.000,9,-999.000,-999.000,9, -999.00,9, -999.00,9,  174.20,-999.0000,9,-999.0000,9,-999.0000,9,-999.0000,9,-999.0000,9,-999.0000,9,  18.2210,     -999.0,9,     -999.0,9,     -999.0,9,     -999.0,9,         73,-999.000,-999.000,-999.000,     -999.0,9, -999.00,9, -999.00,9
33RO200306_02,       A16N,     073,          1,         25,         25,2,20030717,       0405,    29.4990,   -23.6565,       5242,   199.8,  17.4724,  36.4862,2,  36.4788,2,    203.3,2,   207.1,2,    1.05,2,    3.36,2,    0.02,2,    0.18,2,-999.000,5,-999.000,5,-999.000,5,  2114.1,2,  2384.2,2,   -999.0,9,  -999.00,   7.9096,2,    25.00,-999.000,9,-999.000,9,-999.000,9, -999.00,9,  -999.0,9,  -999.0,-999.000,9,-999.000,-999.000,9, -999.00,9, -999.00,9,  199.80,-999.0000,9,-999.0000,9,-999.0000,9,-999.0000,9,-999.0000,9,-999.0000,9,  17.4384,     -999.0,9,     -999.0,9,     -999.0,9,     -999.0,9,         73,-999.000,-999.000,-999.000,     -999.0,9, -999.00,9, -999.00,9
33RO200306_02,       A16N,     073,          1,         24,         24,2,20030717,       0405,    29.4990,   -23.6565,       5242,   249.6,  16.5985,  36.3153,2,  36.3014,2,    200.6,2,   203.1,2,    1.56,2,    5.25,2,    0.01,2,    0.29,2,-999.000,9,-999.000,9,-999.000,9,  -999.0,9,  -999.0,9,   -999.0,9,  -999.00,-999.0000,9,  -999.00,-999.000,9,-999.000,9,-999.000,9, -999.00,9,  -999.0,9,  -999.0,-999.000,9,-999.000,-999.000,9, -999.00,9, -999.00,9,  249.60,-999.0000,9,-999.0000,9,-999.0000,9,-999.0000,9,-999.0000,9,-999.0000,9,  16.5575,     -999.0,9,     -999.0,9,     -999.0,9,     -999.0,9,         73,-999.000,-999.000,-999.000,     -999.0,9, -999.00,9, -999.00,9
33RO200306_02,       A16N,     073,          1,         23,         23,2,20030717,       0405,    29.4990,   -23.6565,       5242,   299.6,  15.5120,  36.1217,2,  36.1220,2,    199.6,2,   203.1,2,    2.20,2,    7.13,2,    0.01,2,    0.40,2,-999.000,9,-999.000,9,-999.000,9,  -999.0,9,  -999.0,9,   -999.0,9,  -999.00,-999.0000,9,  -999.00,-999.000,9,-999.000,9,-999.000,9, -999.00,9,  -999.0,9,  -999.0,-999.000,9,-999.000,-999.000,9, -999.00,9, -999.00,9,  299.60,-999.0000,9,-999.0000,9,-999.0000,9,-999.0000,9,-999.0000,9,-999.0000,9,  15.4650,     -999.0,9,     -999.0,9,     -999.0,9,     -999.0,9,         73,-999.000,-999.000,-999.000,     -999.0,9, -999.00,9, -999.00,9
33RO200306_02,       A16N,     073,          1,         22,         22,2,20030717,       0405,    29.4990,   -23.6565,       5242,   349.5,  14.6988,  35.9913,2,  35.9912,2,    201.0,2,   203.5,2,    2.76,2,    8.51,2,    0.01,2,    0.49,2,-999.000,9,-999.000,9,-999.000,9,  -999.0,9,  -999.0,9,   -999.0,9,  -999.00,-999.0000,9,  -999.00,-999.000,9,-999.000,9,-999.000,9, -999.00,9,  -999.0,9,  -999.0,-999.000,9,-999.000,-999.000,9, -999.00,9, -999.00,9,  349.50,-999.0000,9,-999.0000,9,-999.0000,9,-999.0000,9,-999.0000,9,-999.0000,9,  14.6459,     -999.0,9,     -999.0,9,     -999.0,9,     -999.0,9,         73,-999.000,-999.000,-999.000,     -999.0,9, -999.00,9, -999.00,9
33RO200306_02,       A16N,     073,          1,         21,         21,2,20030717,       0405,    29.4990,   -23.6565,       5242,   399.2,  13.9865,  35.8837,2,  35.8821,2,    200.1,2,   201.1,2,    3.36,2,   10.01,2,    0.01,2,    0.58,2,-999.000,5,-999.000,5,-999.000,5,  2133.8,2,  2351.2,2,   -999.0,9,  -999.00,   7.8572,2,    25.00,-999.000,9,-999.000,9,-999.000,9, -999.00,9,  -999.0,9,  -999.0,-999.000,9,-999.000,-999.000,9, -999.00,9, -999.00,9,  399.20,-999.0000,9,-999.0000,9,-999.0000,9,-999.0000,9,-999.0000,9,-999.0000,9,  13.9280,     -999.0,9,     -999.0,9,     -999.0,9,     -999.0,9,         73,-999.000,-999.000,-999.000,     -999.0,9, -999.00,9, -999.00,9
33RO200306_02,       A16N,     073,          1,         20,         20,2,20030717,       0405,    29.4990,   -23.6565,       5242,   449.8,  13.3978,  35.8032,2,  35.8046,2,    195.1,2,   186.3,2,    4.01,2,   11.47,2,    0.00,2,    0.68,2,-999.000,9,-999.000,9,-999.000,9,  -999.0,9,  -999.0,9,   -999.0,9,  -999.00,-999.0000,9,  -999.00,-999.000,9,-999.000,9,-999.000,9, -999.00,9,  -999.0,9,  -999.0,-999.000,9,-999.000,-999.000,9, -999.00,9, -999.00,9,  449.80,-999.0000,9,-999.0000,9,-999.0000,9,-999.0000,9,-999.0000,9,-999.0000,9,  13.3336,     -999.0,9,     -999.0,9,     -999.0,9,     -999.0,9,         73,-999.000,-999.000,-999.000,     -999.0,9, -999.00,9, -999.00,9
33RO200306_02,       A16N,     073,          1,         19,         19,2,20030717,       0405,    29.4990,   -23.6565,       5242,   498.7,  12.7671,  35.7243,2,  35.7264,2,    191.6,2,   185.4,2,    4.64,2,   12.84,2,    0.01,2,    0.75,2,-999.000,9,-999.000,9,-999.000,9,  -999.0,9,  -999.0,9,   -999.0,9,  -999.00,-999.0000,9,  -999.00,-999.000,9,-999.000,9,-999.000,9, -999.00,9,  -999.0,9,  -999.0,-999.000,9,-999.000,-999.000,9, -999.00,9, -999.00,9,  498.70,-999.0000,9,-999.0000,9,-999.0000,9,-999.0000,9,-999.0000,9,-999.0000,9,  12.6981,     -999.0,9,     -999.0,9,     -999.0,9,     -999.0,9,         73,-999.000,-999.000,-999.000,     -999.0,9, -999.00,9, -999.00,9
33RO200306_02,       A16N,     073,          1,         18,         18,2,20030717,       0405,    29.4990,   -23.6565,       5242,   600.4,  11.5130,  35.5850,2,  35.5859,2,    181.1,2,   187.4,2,    6.34,2,   15.70,2,    0.00,2,    0.92,2,-999.000,9,-999.000,9,-999.000,9,  -999.0,9,  -999.0,9,   -999.0,9,  -999.00,-999.0000,9,  -999.00,-999.000,9,-999.000,9,-999.000,9, -999.00,9,  -999.0,9,  -999.0,-999.000,9,-999.000,-999.000,9, -999.00,9, -999.00,9,  600.40,-999.0000,9,-999.0000,9,-999.0000,9,-999.0000,9,-999.0000,9,-999.0000,9,  11.4349,     -999.0,9,     -999.0,9,     -999.0,9,     -999.0,9,         73,-999.000,-999.000,-999.000,     -999.0,9, -999.00,9, -999.00,9
33RO200306_02,       A16N,     073,          1,         17,         17,2,20030717,       0405,    29.4990,   -23.6565,       5242,   699.3,  10.6749,  35.5219,2,  35.5238,2,    173.5,2,   170.3,2,   11.60,2,   21.23,2,    0.00,2,    1.30,2,-999.000,9,-999.000,9,-999.000,9,  -999.0,9,  -999.0,9,   -999.0,9,  -999.00,-999.0000,9,  -999.00,-999.000,9,-999.000,9,-999.000,9, -999.00,9,  -999.0,9,  -999.0,-999.000,9,-999.000,-999.000,9, -999.00,9, -999.00,9,  699.30,-999.0000,9,-999.0000,9,-999.0000,9,-999.0000,9,-999.0000,9,-999.0000,9,  10.5878,     -999.0,9,     -999.0,9,     -999.0,9,     -999.0,9,         73,-999.000,-999.000,-999.000,     -999.0,9, -999.00,9, -999.00,9
33RO200306_02,       A16N,     073,          1,         16,         16,2,20030717,       0405,    29.4990,   -23.6565,       5242,   799.2,   9.7572,  35.4709,2,  35.4692,2,    161.0,2,   160.6,2,   11.60,2,   21.23,2,    0.00,2,    1.29,2,-999.000,9,-999.000,9,-999.000,9,  -999.0,9,  -999.0,9,   -999.0,9,  -999.00,-999.0000,9,  -999.00,-999.000,9,-999.000,9,-999.000,9, -999.00,9,  -999.0,9,  -999.0,-999.000,9,-999.000,-999.000,9, -999.00,9, -999.00,9,  799.20,-999.0000,9,-999.0000,9,-999.0000,9,-999.0000,9,-999.0000,9,-999.0000,9,   9.6625,     -999.0,9,     -999.0,9,     -999.0,9,     -999.0,9,         73,-999.000,-999.000,-999.000,     -999.0,9, -999.00,9, -999.00,9
33RO200306_02,       A16N,     073,          1,         15,         15,2,20030717,       0405,    29.4990,   -23.6565,       5242,   899.4,   8.9794,  35.4584,2,  35.4605,2,    167.9,2,   167.9,2,   12.78,2,   21.34,2,    0.00,2,    1.32,2,-999.000,9,-999.000,9,-999.000,9,  -999.0,9,  -999.0,9,   -999.0,9,  -999.00,-999.0000,9,  -999.00,-999.000,9,-999.000,9,-999.000,9, -999.00,9,  -999.0,9,  -999.0,-999.000,9,-999.000,-999.000,9, -999.00,9, -999.00,9,  899.40,-999.0000,9,-999.0000,9,-999.0000,9,-999.0000,9,-999.0000,9,-999.0000,9,   8.8773,     -999.0,9,     -999.0,9,     -999.0,9,     -999.0,9,         73,-999.000,-999.000,-999.000,     -999.0,9, -999.00,9, -999.00,9
33RO200306_02,       A16N,     073,          1,         14,         14,2,20030717,       0405,    29.4990,   -23.6565,       5242,  1000.0,   8.3506,  35.4328,2,  35.4346,2,    167.8,2,   171.8,2,   13.91,2,   21.73,2,    0.00,2,    1.36,2,-999.000,9,-999.000,9,-999.000,9,  -999.0,9,  -999.0,9,   -999.0,9,  -999.00,-999.0000,9,  -999.00,-999.000,9,-999.000,9,-999.000,9, -999.00,9,  -999.0,9,  -999.0,-999.000,9,-999.000,-999.000,9, -999.00,9, -999.00,9, 1000.00,-999.0000,9,-999.0000,9,-999.0000,9,-999.0000,9,-999.0000,9,-999.0000,9,   8.2410,     -999.0,9,     -999.0,9,     -999.0,9,     -999.0,9,         73,-999.000,-999.000,-999.000,     -999.0,9, -999.00,9, -999.00,9
33RO200306_02,       A16N,     073,          1,         13,         13,2,20030717,       0405,    29.4990,   -23.6565,       5242,  1099.8,   7.8937,  35.4406,2,  35.4538,3,    179.4,2,   178.3,2,   14.56,2,   21.47,2,    0.00,2,    1.35,2,-999.000,9,-999.000,9,-999.000,9,  -999.0,9,  -999.0,9,   -999.0,9,  -999.00,-999.0000,9,  -999.00,-999.000,9,-999.000,9,-999.000,9, -999.00,9,  -999.0,9,  -999.0,-999.000,9,-999.000,-999.000,9, -999.00,9, -999.00,9, 1099.80,-999.0000,9,-999.0000,9,-999.0000,9,-999.0000,9,-999.0000,9,-999.0000,9,   7.7761,     -999.0,9,     -999.0,9,     -999.0,9,     -999.0,9,         73,-999.000,-999.000,-999.000,     -999.0,9, -999.00,9, -999.00,9
33RO200306_02,       A16N,     073,          1,         12,         12,2,20030717,       0405,    29.4990,   -23.6565,       5242,  1199.4,   7.8230,  35.5126,2,  35.5131,2,    186.1,2,   185.5,2,   14.35,2,   20.53,2,    0.00,2,    1.29,2,-999.000,9,-999.000,9,-999.000,9,  -999.0,9,  -999.0,9,   -999.0,9,  -999.00,-999.0000,9,  -999.00,-999.000,9,-999.000,9,-999.000,9, -999.00,9,  -999.0,9,  -999.0,-999.000,9,-999.000,-999.000,9, -999.00,9, -999.00,9, 1199.40,-999.0000,9,-999.0000,9,-999.0000,9,-999.0000,9,-999.0000,9,-999.0000,9,   7.6945,     -999.0,9,     -999.0,9,     -999.0,9,     -999.0,9,         73,-999.000,-999.000,-999.000,     -999.0,9, -999.00,9, -999.00,9
33RO200306_02,       A16N,     073,          1,         11,         11,2,20030717,       0405,    29.4990,   -23.6565,       5242,  1399.1,   6.7662,  35.4122,2,  35.4134,2,    201.5,2,   202.2,2,   15.42,2,   20.07,2,    0.00,2,    1.27,2,-999.000,9,-999.000,9,-999.000,9,  -999.0,9,  -999.0,9,   -999.0,9,  -999.00,-999.0000,9,  -999.00,-999.000,9,-999.000,9,-999.000,9, -999.00,9,  -999.0,9,  -999.0,-999.000,9,-999.000,-999.000,9, -999.00,9, -999.00,9, 1399.10,-999.0000,9,-999.0000,9,-999.0000,9,-999.0000,9,-999.0000,9,-999.0000,9,   6.6255,     -999.0,9,     -999.0,9,     -999.0,9,     -999.0,9,         73,-999.000,-999.000,-999.000,     -999.0,9, -999.00,9, -999.00,9
33RO200306_02,       A16N,     073,          1,         10,         10,2,20030717,       0405,    29.4990,   -23.6565,       5242,  1599.7,   5.7403,  35.2908,2,  35.2911,2,    219.5,2,   221.1,2,   15.87,2,   19.48,2,    0.00,2,    1.24,2,-999.000,9,-999.000,9,-999.000,9,  -999.0,9,  -999.0,9,   -999.0,9,  -999.00,-999.0000,9,  -999.00,-999.000,9,-999.000,9,-999.000,9, -999.00,9,  -999.0,9,  -999.0,-999.000,9,-999.000,-999.000,9, -999.00,9, -999.00,9, 1599.70,-999.0000,9,-999.0000,9,-999.0000,9,-999.0000,9,-999.0000,9,-999.0000,9,   5.5895,     -999.0,9,     -999.0,9,     -999.0,9,     -999.0,9,         73,-999.000,-999.000,-999.000,     -999.0,9, -999.00,9, -999.00,9
33RO200306_02,       A16N,     073,          1,          9,          9,2,20030717,       0405,    29.4990,   -23.6565,       5242,  1800.2,   4.7770,  35.1623,2,  35.1616,2,    225.7,2,   222.9,2,   20.81,2,   20.62,2,    0.00,2,    1.34,2,-999.000,9,-999.000,9,-999.000,9,  -999.0,9,  -999.0,9,   -999.0,9,  -999.00,-999.0000,9,  -999.00,-999.000,9,-999.000,9,-999.000,9, -999.00,9,  -999.0,9,  -999.0,-999.000,9,-999.000,-999.000,9, -999.00,9, -999.00,9, 1800.20,-999.0000,9,-999.0000,9,-999.0000,9,-999.0000,9,-999.0000,9,-999.0000,9,   4.6179,     -999.0,9,     -999.0,9,     -999.0,9,     -999.0,9,         73,-999.000,-999.000,-999.000,     -999.0,9, -999.00,9, -999.00,9
33RO200306_02,       A16N,     073,          1,          8,          8,2,20030717,       0405,    29.4990,   -23.6565,       5242,  1999.9,   4.2276,  35.0979,2,  35.0981,2,    229.2,2,   230.5,2,   22.65,2,   20.55,2,    0.00,2,    1.35,2,-999.000,9,-999.000,9,-999.000,9,  -999.0,9,  -999.0,9,   -999.0,9,  -999.00,-999.0000,9,  -999.00,-999.000,9,-999.000,9,-999.000,9, -999.00,9,  -999.0,9,  -999.0,-999.000,9,-999.000,-999.000,9, -999.00,9, -999.00,9, 1999.90,-999.0000,9,-999.0000,9,-999.0000,9,-999.0000,9,-999.0000,9,-999.0000,9,   4.0563,     -999.0,9,     -999.0,9,     -999.0,9,     -999.0,9,         73,-999.000,-999.000,-999.000,     -999.0,9, -999.00,9, -999.00,9