BOTTLE,20230908CCHSIOCBG
EXPOCODE,SECT_ID,STNNBR,CASTNO,SAMPNO,BTLNBR,BTLNBR_FLAG_W,DATE,TIME,LATITUDE,LONGITUDE,DEPTH,CTDPRS,CTDTMP,CTDSAL,CTDSAL_FLAG_W,SALNTY,SALNTY_FLAG_W,CTDOXY,CTDOXY_FLAG_W,OXYGEN,OXYGEN_FLAG_W,SILCAT,SILCAT_FLAG_W,NITRAT,NITRAT_FLAG_W,NITRIT,NITRIT_FLAG_W,PHSPHT,PHSPHT_FLAG_W,CFC-11,CFC-11_FLAG_W,CFC-12,CFC-12_FLAG_W,CFC113,CFC113_FLAG_W,TCARBN,TCARBN_FLAG_W,ALKALI,ALKALI_FLAG_W,FCO2,FCO2_FLAG_W,FCO2TMP,PH_SWS,PH_SWS_FLAG_W,PH_TMP,TRITUM,TRITUM_FLAG_W,HELIUM,HELIUM_FLAG_W,DELHE3,DELHE3_FLAG_W,DELC13,DELC13_FLAG_W,DELC14,DELC14_FLAG_W,C14ERR,NEON,NEON_FLAG_W,NEONER,POC,POC_FLAG_W,DOC,DOC_FLAG_W,TDN,TDN_FLAG_W,CTDRAW,CDOM325,CDOM325_FLAG_W,CDOM340,CDOM340_FLAG_W,CDOM380,CDOM380_FLAG_W,CDOM412,CDOM412_FLAG_W,CDOMSL,CDOMSL_FLAG_W,CDOMSN,CDOMSN_FLAG_W,THETA,PON,PON_FLAG_W,HCFC-22,HCFC-22_FLAG_W,HCFC-142b,HCFC-142b_FLAG_W,HCFC-141b,HCFC-141b_FLAG_W,STNNBR_U,HELIER,DELHER,TRITER,CH3CL,CH3CL_FLAG_W,CH3BR,CH3BR_FLAG_W,CH3I,CH3I_FLAG_W
,,,,,,,,,,,METERS,DBAR,ITS-90,PSS-78,,PSS-78,,UMOL/KG,,UMOL/KG,,UMOL/KG,,UMOL/KG,,UMOL/KG,,UMOL/KG,,PMOL/KG,,PMOL/KG,,PMOL/KG,,UMOL/KG,,UMOL/KG,,UATM,,DEG C,,,DEG C,TU,,NMOL/KG,,PERCNT,,/MILLE,,/MILLE,,/MILLE,NMOL/KG,,NMOL/KG,UG/KG,,UMOL/KG,,UMOL/KG,,DBAR,1/M,,1/M,,1/M,,1/M,,1/NM,,1/NM,,DEG C,UMOL/L,,PMOL/KG,,PMOL/KG,,PMOL/KG,,,NMOL/KG,PERCNT,TU,PMOL/KG,,PMOL/KG,,PMOL/KG,
33RO200306_01,       A16N,     002,          1,         18,         18,2,20030620,       0331,    63.2140,   -19.9938,        554,     1.9,   9.6856,  35.2391,2,  35.2419,2,    289.9,2,   289.3,2,    2.16,2,    8.09,2,    0.21,2,    0.48,2,   3.855,2,   2.160,2,   0.335,2,  2105.8,6,  2321.9,2,    522.0,2,    20.00,   7.8736,2,    25.00,   1.486,2,   1.770,2,  -1.877,2, -999.00,9,  -999.0,9,  -999.0,   7.506,2,   0.024,-999.000,9, -999.00,9, -999.00,9,    1.90,-999.0000,9,-999.0000,9,-999.0000,9,-999.0000,9,-999.0000,9,-999.0000,9,   9.6854,     -999.0,9,     -999.0,9,     -999.0,9,     -999.0,9,          2,   0.003,   0.186,   0.020,     -999.0,9, -999.00,9, -999.00,9
33RO200306_01,       A16N,     002,          1,         19,         19,2,20030620,       0331,    63.2140,   -19.9938,        554,     2.0,   9.6860,  35.2391,2,-999.0000,1,    289.9,2,   289.5,2,    2.05,2,    7.81,2,    0.20,2,    0.45,2,-999.000,9,-999.000,9,-999.000,9,  -999.0,9,  -999.0,9,   -999.0,9,  -999.00,-999.0000,9,  -999.00,-999.000,9,-999.000,9,-999.000,9, -999.00,9,  -999.0,9,  -999.0,-999.000,9,-999.000,  14.768,2, -999.00,9, -999.00,9,    2.00,-999.0000,9,-999.0000,9,-999.0000,9,-999.0000,9,-999.0000,9,-999.0000,9,   9.6858,      1.203,2,     -999.0,9,     -999.0,9,     -999.0,9,          2,-999.000,-999.000,-999.000,     -999.0,9, -999.00,9, -999.00,9
33RO200306_01,       A16N,     002,          1,         17,         17,2,20030620,       0331,    63.2140,   -19.9938,        554,    19.8,   9.4362,  35.2364,2,  35.2405,2,    289.6,2,   293.2,2,    2.22,2,    8.31,2,    0.22,2,    0.51,2,-999.000,9,-999.000,9,-999.000,9,  -999.0,9,  -999.0,9,   -999.0,9,  -999.00,-999.0000,9,  -999.00,-999.000,9,-999.000,9,-999.000,9, -999.00,9,  -999.0,9,  -999.0,-999.000,9,-999.000,  14.639,2, -999.00,9, -999.00,9,   19.80,-999.0000,9,-999.0000,9,-999.0000,9,-999.0000,9,-999.0000,9,-999.0000,9,   9.4340,      0.829,2,     -999.0,9,     -999.0,9,     -999.0,9,          2,-999.000,-999.000,-999.000,     -999.0,9, -999.00,9, -999.00,9
33RO200306_01,       A16N,     002,          1,         16,         16,2,20030620,       0331,    63.2140,   -19.9938,        554,    40.0,   9.3701,  35.2380,2,  35.2440,2,    285.1,2,   284.2,2,    2.62,2,    8.76,2,    0.24,2,    0.54,2,   3.882,2,   2.157,2,   0.336,2,  2113.8,2,  2327.2,2,    535.3,2,    20.00,   7.8515,2,    25.00,-999.000,9,   1.783,2,  -1.975,2, -999.00,9,  -999.0,9,  -999.0,   7.629,2,   0.024,-999.000,9, -999.00,9, -999.00,9,   40.00,-999.0000,9,-999.0000,9,-999.0000,9,-999.0000,9,-999.0000,9,-999.0000,9,   9.3657,     -999.0,9,     -999.0,9,     -999.0,9,     -999.0,9,          2,   0.003,   0.186,-999.000,     -999.0,9, -999.00,9, -999.00,9
33RO200306_01,       A16N,     002,          1,         15,         15,2,20030620,       0331,    63.2140,   -19.9938,        554,    59.9,   9.2769,  35.2409,2,  35.2421,2,    284.0,2,   282.8,2,    3.31,2,    9.72,2,    0.27,2,    0.60,2,-999.000,9,-999.000,9,-999.000,9,  -999.0,9,  -999.0,9,   -999.0,9,  -999.00,-999.0000,9,  -999.00,-999.000,9,-999.000,9,-999.000,9, -999.00,9,  -999.0,9,  -999.0,-999.000,9,-999.000,   6.871,2, -999.00,9, -999.00,9,   59.90,-999.0000,9,-999.0000,9,-999.0000,9,-999.0000,9,-999.0000,9,-999.0000,9,   9.2703,      0.445,2,     -999.0,9,     -999.0,9,     -999.0,9,          2,-999.000,-999.000,-999.000,     -999.0,9, -999.00,9, -999.00,9
33RO200306_01,       A16N,     002,          1,         14,         14,2,20030620,       0331,    63.2140,   -19.9938,        554,    79.7,   9.1048,  35.2449,2,  35.2479,2,    282.1,2,   280.1,2,    5.03,2,   12.11,2,    0.30,2,    0.74,2,-999.000,9,-999.000,9,-999.000,9,  -999.0,9,  -999.0,9,   -999.0,9,  -999.00,-999.0000,9,  -999.00,-999.000,9,-999.000,9,-999.000,9, -999.00,9,  -999.0,9,  -999.0,-999.000,9,-999.000,-999.000,9, -999.00,9, -999.00,9,   79.70,-999.0000,9,-999.0000,9,-999.0000,9,-999.0000,9,-999.0000,9,-999.0000,9,   9.0961,     -999.0,9,     -999.0,9,     -999.0,9,     -999.0,9,          2,-999.000,-999.000,-999.000,     -999.0,9, -999.00,9, -999.00,9
33RO200306_01,       A16N,     002,          1,         13,         13,2,20030620,       0331,    63.2140,   -19.9938,        554,    99.9,   8.5615,  35.2527,2,  35.2551,2,    278.8,2,   307.8,3,    5.59,2,   12.87,2,    0.20,2,    0.76,2,   3.894,2,   2.150,2,   0.323,2,  2138.4,2,  2338.7,3,    622.7,3,    20.00,   7.8058,2,    25.00,   1.351,2,   1.769,2,  -1.569,2, -999.00,9,  -999.0,9,  -999.0,   7.518,2,   0.024,-999.000,9, -999.00,9, -999.00,9,   99.90,-999.0000,9,-999.0000,9,-999.0000,9,-999.0000,9,-999.0000,9,-999.0000,9,   8.5510,     -999.0,9,     -999.0,9,     -999.0,9,     -999.0,9,          2,   0.003,   0.186,   0.020,     -999.0,9, -999.00,9, -999.00,9
33RO200306_01,       A16N,     002,          1,         12,         12,2,20030620,       0331,    63.2140,   -19.9938,        554,   125.2,   8.4098,  35.2528,2,  35.2538,2,    275.7,2,   280.5,2,    5.83,2,   13.05,2,    0.07,2,    0.76,2,   3.882,2,   2.150,2,   0.321,2,  2141.9,2,  2328.9,2,   -999.0,9,  -999.00,   7.7950,2,    25.00,-999.000,9,-999.000,9,-999.000,9, -999.00,9,  -999.0,9,  -999.0,-999.000,9,-999.000,-999.000,9, -999.00,9, -999.00,9,  125.20,-999.0000,9,-999.0000,9,-999.0000,9,-999.0000,9,-999.0000,9,-999.0000,9,   8.3967,     -999.0,9,     -999.0,9,     -999.0,9,     -999.0,9,          2,-999.000,-999.000,-999.000,     -999.0,9, -999.00,9, -999.00,9
33RO200306_01,       A16N,     002,          1,         11,         11,3,20030620,       0331,    63.2140,   -19.9938,        554,   150.0,   8.3689,  35.2513,2,  35.2562,2,    278.0,2,   276.3,2,    5.83,2,   13.07,2,    0.04,2,    0.76,2,-999.000,9,-999.000,9,-999.000,9,  -999.0,9,  -999.0,9,   -999.0,9,  -999.00,-999.0000,9,  -999.00,-999.000,9,-999.000,9,-999.000,9, -999.00,9,  -999.0,9,  -999.0,-999.000,9,-999.000,   3.502,2, -999.00,9, -999.00,9,  150.00,-999.0000,9,-999.0000,9,-999.0000,9,-999.0000,9,-999.0000,9,-999.0000,9,   8.3533,      0.307,2,     -999.0,9,     -999.0,9,     -999.0,9,          2,-999.000,-999.000,-999.000,     -999.0,9, -999.00,9, -999.00,9
33RO200306_01,       A16N,     002,          1,         10,         10,2,20030620,       0331,    63.2140,   -19.9938,        554,   174.8,   8.3518,  35.2517,2,  35.2553,2,    278.0,2,   276.7,2,    5.95,2,   13.10,2,    0.02,2,    0.76,2,-999.000,9,-999.000,9,-999.000,9,  -999.0,9,  -999.0,9,   -999.0,9,  -999.00,-999.0000,9,  -999.00,-999.000,9,-999.000,9,-999.000,9, -999.00,9,  -999.0,9,  -999.0,-999.000,9,-999.000,-999.000,9, -999.00,9, -999.00,9,  174.80,-999.0000,9,-999.0000,9,-999.0000,9,-999.0000,9,-999.0000,9,-999.0000,9,   8.3336,     -999.0,9,     -999.0,9,     -999.0,9,     -999.0,9,          2,-999.000,-999.000,-999.000,     -999.0,9, -999.00,9, -999.00,9
33RO200306_01,       A16N,     002,          1,          9,          9,2,20030620,       0331,    63.2140,   -19.9938,        554,   200.0,   8.3095,  35.2500,2,  35.2507,2,    278.4,2,   276.1,2,    6.00,2,   13.19,2,    0.01,2,    0.76,2,   3.880,2,   2.169,2,   0.324,2,  2141.9,2,  2330.1,2,   -999.0,9,  -999.00,   7.7990,2,    25.00,-999.000,9,   1.752,2,  -1.576,2, -999.00,9,  -999.0,9,  -999.0,   7.552,2,   0.024,-999.000,9, -999.00,9, -999.00,9,  200.00,-999.0000,9,-999.0000,9,-999.0000,9,-999.0000,9,-999.0000,9,-999.0000,9,   8.2887,     -999.0,9,     -999.0,9,     -999.0,9,     -999.0,9,          2,   0.003,   0.186,-999.000,     -999.0,9, -999.00,9, -999.00,9
33RO200306_01,       A16N,     002,          1,          8,          8,2,20030620,       0331,    63.2140,   -19.9938,        554,   249.8,   8.2542,  35.2454,2,  35.2533,2,    277.5,2,   280.4,2,    6.06,2,   13.37,2,    0.01,2,    0.77,2,-999.000,9,-999.000,9,-999.000,9,  -999.0,9,  -999.0,9,   -999.0,9,  -999.00,-999.0000,9,  -999.00,-999.000,9,-999.000,9,-999.000,9, -999.00,9,  -999.0,9,  -999.0,-999.000,9,-999.000,-999.000,9, -999.00,9, -999.00,9,  249.80,-999.0000,9,-999.0000,9,-999.0000,9,-999.0000,9,-999.0000,9,-999.0000,9,   8.2283,     -999.0,9,     -999.0,9,     -999.0,9,     -999.0,9,          2,-999.000,-999.000,-999.000,     -999.0,9, -999.00,9, -999.00,9
33RO200306_01,       A16N,     002,          1,          7,          7,2,20030620,       0331,    63.2140,   -19.9938,        554,   299.8,   8.1918,  35.2380,2,  35.2408,2,    277.1,2,   279.9,2,    6.06,2,   13.57,2,    0.01,2,    0.78,2,   3.878,2,   2.158,2,   0.317,2,  2143.0,2,  2329.5,2,   -999.0,9,  -999.00,   7.7871,2,    25.00,-999.000,9,   1.766,2,  -1.222,2, -999.00,9,  -999.0,9,  -999.0,   7.526,2,   0.026,-999.000,9, -999.00,9, -999.00,9,  299.80,-999.0000,9,-999.0000,9,-999.0000,9,-999.0000,9,-999.0000,9,-999.0000,9,   8.1607,     -999.0,9,     -999.0,9,     -999.0,9,     -999.0,9,          2,   0.003,   0.128,-999.000,     -999.0,9, -999.00,9, -999.00,9
33RO200306_01,       A16N,     002,          1,          6,          6,2,20030620,       0331,    63.2140,   -19.9938,        554,   350.0,   8.1396,  35.2329,2,  35.2352,2,    274.0,2,   274.6,2,    6.18,2,   13.68,2,    0.01,2,    0.79,2,-999.000,9,-999.000,9,-999.000,9,  -999.0,9,  -999.0,9,   -999.0,9,  -999.00,-999.0000,9,  -999.00,-999.000,9,-999.000,9,-999.000,9, -999.00,9,  -999.0,9,  -999.0,-999.000,9,-999.000,-999.000,9, -999.00,9, -999.00,9,  350.00,-999.0000,9,-999.0000,9,-999.0000,9,-999.0000,9,-999.0000,9,-999.0000,9,   8.1033,     -999.0,9,     -999.0,9,     -999.0,9,     -999.0,9,          2,-999.000,-999.000,-999.000,     -999.0,9, -999.00,9, -999.00,9
33RO200306_01,       A16N,     002,          1,          5,          5,2,20030620,       0331,    63.2140,   -19.9938,        554,   400.3,   8.0868,  35.2285,2,  35.2326,2,    270.8,2,   270.1,2,    6.47,2,   13.91,2,    0.01,2,    0.81,2,   3.845,2,   2.118,2,   0.312,2,  2145.0,2,  2327.2,2,   -999.0,9,  -999.00,   7.7886,2,    25.00,-999.000,9,-999.000,9,-999.000,9, -999.00,9,  -999.0,9,  -999.0,-999.000,9,-999.000,-999.000,9, -999.00,9, -999.00,9,  400.30,-999.0000,9,-999.0000,9,-999.0000,9,-999.0000,9,-999.0000,9,-999.0000,9,   8.0453,     -999.0,9,     -999.0,9,     -999.0,9,     -999.0,9,          2,-999.000,-999.000,-999.000,     -999.0,9, -999.00,9, -999.00,9
33RO200306_01,       A16N,     002,          1,          4,          4,2,20030620,       0331,    63.2140,   -19.9938,        554,   449.0,   7.9907,  35.2219,2,  35.2268,2,    266.2,2,   267.3,2,    6.76,2,   14.24,2,    0.01,2,    0.83,2,-999.000,9,-999.000,9,-999.000,9,  -999.0,9,  -999.0,9,   -999.0,9,  -999.00,-999.0000,9,  -999.00,-999.000,9,-999.000,9,-999.000,9, -999.00,9,  -999.0,9,  -999.0,-999.000,9,-999.000,   2.644,2, -999.00,9, -999.00,9,  449.00,-999.0000,9,-999.0000,9,-999.0000,9,-999.0000,9,-999.0000,9,-999.0000,9,   7.9444,      0.273,2,     -999.0,9,     -999.0,9,     -999.0,9,          2,-999.000,-999.000,-999.000,     -999.0,9, -999.00,9, -999.00,9
33RO200306_01,       A16N,     002,          1,          3,          3,2,20030620,       0331,    63.2140,   -19.9938,        554,   499.9,   7.8815,  35.2146,2,  35.2150,2,    262.4,2,   263.8,2,    7.91,2,   15.13,2,    0.02,2,    0.90,2,   3.701,2,   2.035,2,   0.288,2,  2151.0,2,  2327.7,2,   -999.0,9,  -999.00,   7.7826,2,    25.00,-999.000,9,   1.773,2,  -0.266,2, -999.00,9,  -999.0,9,  -999.0,   7.544,2,   0.024,-999.000,9, -999.00,9, -999.00,9,  499.90,-999.0000,9,-999.0000,9,-999.0000,9,-999.0000,9,-999.0000,9,-999.0000,9,   7.8302,     -999.0,9,     -999.0,9,     -999.0,9,     -999.0,9,          2,   0.003,   0.185,-999.000,     -999.0,9, -999.00,9, -999.00,9
33RO200306_01,       A16N,     002,          1,          2,          2,2,20030620,       0331,    63.2140,   -19.9938,        554,   553.3,   7.2907,  35.1820,2,  35.1865,2,    255.6,2,   255.8,2,    7.85,2,   15.01,2,    0.02,2,    0.89,2,-999.000,9,-999.000,9,-999.000,9,  -999.0,9,  -999.0,9,   -999.0,9,  -999.00,-999.0000,9,  -999.00,-999.000,9,-999.000,9,-999.000,9, -999.00,9,  -999.0,9,  -999.0,-999.000,9,-999.000,   2.320,2, -999.00,9, -999.00,9,  553.30,-999.0000,9,-999.0000,9,-999.0000,9,-999.0000,9,-999.0000,9,-999.0000,9,   7.2362,      0.171,2,     -999.0,9,     -999.0,9,     -999.0,9,          2,-999.000,-999.000,-999.000,     -999.0,9, -999.00,9, -999.00,9
33RO200306_01,       A16N,     002,          1,          1,          1,2,20030620,       0331,    63.2140,   -19.9938,        554,   553.4,   7.3084,  35.1819,2,  35.1886,2,    255.6,2,   256.6,2,    7.85,2,   15.02,2,    0.02,2,    0.89,2,   3.479,2,   1.886,2,   0.259,2,  2157.6,6,  -999.0,9,    503.1,6,    20.00,-999.0000,9,  -999.00,   1.283,2,-999.000,9,-999.000,9, -999.00,9,  -999.0,9,  -999.0,-999.000,9,-999.000,-999.000,9, -999.00,9, -999.00,9,  553.40,-999.0000,9,-999.0000,9,-999.0000,9,-999.0000,9,-999.0000,9,-999.0000,9,   7.2538,     -999.0,9,     -999.0,9,     -999.0,9,     -999.0,9,          2,-999.000,-999.000,   0.020,     -999.0,9, -999.00,9, -999.00,9