BOTTLE,20230908CCHSIOCBG
EXPOCODE,SECT_ID,STNNBR,CASTNO,SAMPNO,BTLNBR,BTLNBR_FLAG_W,DATE,TIME,LATITUDE,LONGITUDE,DEPTH,CTDPRS,CTDTMP,CTDSAL,CTDSAL_FLAG_W,SALNTY,SALNTY_FLAG_W,CTDOXY,CTDOXY_FLAG_W,OXYGEN,OXYGEN_FLAG_W,SILCAT,SILCAT_FLAG_W,NITRAT,NITRAT_FLAG_W,NITRIT,NITRIT_FLAG_W,PHSPHT,PHSPHT_FLAG_W,CFC-11,CFC-11_FLAG_W,CFC-12,CFC-12_FLAG_W,CFC113,CFC113_FLAG_W,TCARBN,TCARBN_FLAG_W,ALKALI,ALKALI_FLAG_W,FCO2,FCO2_FLAG_W,FCO2TMP,PH_SWS,PH_SWS_FLAG_W,PH_TMP,TRITUM,TRITUM_FLAG_W,HELIUM,HELIUM_FLAG_W,DELHE3,DELHE3_FLAG_W,DELC13,DELC13_FLAG_W,DELC14,DELC14_FLAG_W,C14ERR,NEON,NEON_FLAG_W,NEONER,POC,POC_FLAG_W,DOC,DOC_FLAG_W,TDN,TDN_FLAG_W,CTDRAW,CDOM325,CDOM325_FLAG_W,CDOM340,CDOM340_FLAG_W,CDOM380,CDOM380_FLAG_W,CDOM412,CDOM412_FLAG_W,CDOMSL,CDOMSL_FLAG_W,CDOMSN,CDOMSN_FLAG_W,THETA,PON,PON_FLAG_W,HCFC-22,HCFC-22_FLAG_W,HCFC-142b,HCFC-142b_FLAG_W,HCFC-141b,HCFC-141b_FLAG_W,STNNBR_U,HELIER,DELHER,TRITER,CH3CL,CH3CL_FLAG_W,CH3BR,CH3BR_FLAG_W,CH3I,CH3I_FLAG_W
,,,,,,,,,,,METERS,DBAR,ITS-90,PSS-78,,PSS-78,,UMOL/KG,,UMOL/KG,,UMOL/KG,,UMOL/KG,,UMOL/KG,,UMOL/KG,,PMOL/KG,,PMOL/KG,,PMOL/KG,,UMOL/KG,,UMOL/KG,,UATM,,DEG C,,,DEG C,TU,,NMOL/KG,,PERCNT,,/MILLE,,/MILLE,,/MILLE,NMOL/KG,,NMOL/KG,UG/KG,,UMOL/KG,,UMOL/KG,,DBAR,1/M,,1/M,,1/M,,1/M,,1/NM,,1/NM,,DEG C,UMOL/L,,PMOL/KG,,PMOL/KG,,PMOL/KG,,,NMOL/KG,PERCNT,TU,PMOL/KG,,PMOL/KG,,PMOL/KG,
33RO200306_02,       A16N,     123,          1,         35,         35,2,20030802,       0356,     4.5007,   -25.7490,       4094,     3.5,  27.6774,  35.7468,2,  35.7492,2,    200.9,2,   204.7,2,    0.75,2,    0.01,2,    0.00,2,    0.05,2,-999.000,9,-999.000,9,-999.000,9,  1987.8,6,  2340.6,6,   -999.0,9,  -999.00,   8.1152,6,    25.00,-999.000,9,-999.000,9,-999.000,9, -999.00,9,  -999.0,9,  -999.0,-999.000,9,-999.000,-999.000,9, -999.00,9, -999.00,9,    3.50,-999.0000,9,-999.0000,9,-999.0000,9,-999.0000,9,-999.0000,9,-999.0000,9,  27.6766,     -999.0,9,     -999.0,9,     -999.0,9,     -999.0,9,        123,-999.000,-999.000,-999.000,     -999.0,9, -999.00,9, -999.00,9
33RO200306_02,       A16N,     123,          1,         33,         33,2,20030802,       0356,     4.5007,   -25.7490,       4094,    20.6,  27.6979,  35.7454,2,  35.7470,2,    201.1,2,   204.0,2,    0.76,2,    0.00,2,    0.00,2,    0.05,2,-999.000,9,-999.000,9,-999.000,9,  -999.0,9,  -999.0,9,   -999.0,9,  -999.00,-999.0000,9,  -999.00,-999.000,9,-999.000,9,-999.000,9, -999.00,9,  -999.0,9,  -999.0,-999.000,9,-999.000,-999.000,9, -999.00,9, -999.00,9,   20.60,-999.0000,9,-999.0000,9,-999.0000,9,-999.0000,9,-999.0000,9,-999.0000,9,  27.6931,     -999.0,9,     -999.0,9,     -999.0,9,     -999.0,9,        123,-999.000,-999.000,-999.000,     -999.0,9, -999.00,9, -999.00,9
33RO200306_02,       A16N,     123,          1,         32,         32,2,20030802,       0356,     4.5007,   -25.7490,       4094,    40.4,  27.6947,  35.7433,2,  35.7388,2,    200.6,2,   202.9,2,    0.78,2,    0.01,2,    0.00,2,    0.06,2,-999.000,9,-999.000,9,-999.000,9,  -999.0,9,  -999.0,9,   -999.0,9,  -999.00,-999.0000,9,  -999.00,-999.000,9,-999.000,9,-999.000,9, -999.00,9,  -999.0,9,  -999.0,-999.000,9,-999.000,-999.000,9, -999.00,9, -999.00,9,   40.40,-999.0000,9,-999.0000,9,-999.0000,9,-999.0000,9,-999.0000,9,-999.0000,9,  27.6852,     -999.0,9,     -999.0,9,     -999.0,9,     -999.0,9,        123,-999.000,-999.000,-999.000,     -999.0,9, -999.00,9, -999.00,9
33RO200306_02,       A16N,     123,          1,         31,         31,2,20030802,       0356,     4.5007,   -25.7490,       4094,    60.6,  26.2230,  35.7090,2,  35.7136,2,    203.4,2,   205.2,2,    0.91,2,    0.02,2,    0.00,2,    0.11,2,-999.000,9,-999.000,9,-999.000,9,  -999.0,9,  -999.0,9,   -999.0,9,  -999.00,-999.0000,9,  -999.00,-999.000,9,-999.000,9,-999.000,9, -999.00,9,  -999.0,9,  -999.0,-999.000,9,-999.000,-999.000,9, -999.00,9, -999.00,9,   60.60,-999.0000,9,-999.0000,9,-999.0000,9,-999.0000,9,-999.0000,9,-999.0000,9,  26.2094,     -999.0,9,     -999.0,9,     -999.0,9,     -999.0,9,        123,-999.000,-999.000,-999.000,     -999.0,9, -999.00,9, -999.00,9
33RO200306_02,       A16N,     123,          1,         30,         30,2,20030802,       0356,     4.5007,   -25.7490,       4094,    79.2,  25.9558,  35.7462,2,  35.8051,2,    201.1,2,   199.5,2,    1.02,2,    0.16,2,    0.04,2,    0.14,2,-999.000,9,-999.000,9,-999.000,9,  -999.0,9,  -999.0,9,   -999.0,9,  -999.00,-999.0000,9,  -999.00,-999.000,9,-999.000,9,-999.000,9, -999.00,9,  -999.0,9,  -999.0,-999.000,9,-999.000,-999.000,9, -999.00,9, -999.00,9,   79.20,-999.0000,9,-999.0000,9,-999.0000,9,-999.0000,9,-999.0000,9,-999.0000,9,  25.9381,     -999.0,9,     -999.0,9,     -999.0,9,     -999.0,9,        123,-999.000,-999.000,-999.000,     -999.0,9, -999.00,9, -999.00,9
33RO200306_02,       A16N,     123,          1,         29,         29,2,20030802,       0356,     4.5007,   -25.7490,       4094,    99.9,  19.2080,  35.8603,2,  35.8546,2,    156.4,2,   151.4,2,    4.15,2,   10.39,2,    0.11,2,    0.76,2,-999.000,9,-999.000,9,-999.000,9,  -999.0,9,  -999.0,9,   -999.0,9,  -999.00,-999.0000,9,  -999.00,-999.000,9,-999.000,9,-999.000,9, -999.00,9,  -999.0,9,  -999.0,-999.000,9,-999.000,-999.000,9, -999.00,9, -999.00,9,   99.90,-999.0000,9,-999.0000,9,-999.0000,9,-999.0000,9,-999.0000,9,-999.0000,9,  19.1900,     -999.0,9,     -999.0,9,     -999.0,9,     -999.0,9,        123,-999.000,-999.000,-999.000,     -999.0,9, -999.00,9, -999.00,9
33RO200306_02,       A16N,     123,          1,         28,         28,2,20030802,       0356,     4.5007,   -25.7490,       4094,   125.1,  15.5195,  35.6444,2,  35.6361,2,    139.9,2,   140.4,2,    5.99,2,   16.22,2,    0.04,2,    1.11,2,-999.000,9,-999.000,9,-999.000,9,  -999.0,9,  -999.0,9,   -999.0,9,  -999.00,-999.0000,9,  -999.00,-999.000,9,-999.000,9,-999.000,9, -999.00,9,  -999.0,9,  -999.0,-999.000,9,-999.000,-999.000,9, -999.00,9, -999.00,9,  125.10,-999.0000,9,-999.0000,9,-999.0000,9,-999.0000,9,-999.0000,9,-999.0000,9,  15.5001,     -999.0,9,     -999.0,9,     -999.0,9,     -999.0,9,        123,-999.000,-999.000,-999.000,     -999.0,9, -999.00,9, -999.00,9
33RO200306_02,       A16N,     123,          1,         27,         27,2,20030802,       0356,     4.5007,   -25.7490,       4094,   149.5,  14.0191,  35.4545,2,  35.4353,2,    143.8,2,   144.7,2,    6.95,2,   17.59,2,    0.02,2,    1.21,2,-999.000,9,-999.000,9,-999.000,9,  -999.0,9,  -999.0,9,   -999.0,9,  -999.00,-999.0000,9,  -999.00,-999.000,9,-999.000,9,-999.000,9, -999.00,9,  -999.0,9,  -999.0,-999.000,9,-999.000,-999.000,9, -999.00,9, -999.00,9,  149.50,-999.0000,9,-999.0000,9,-999.0000,9,-999.0000,9,-999.0000,9,-999.0000,9,  13.9974,     -999.0,9,     -999.0,9,     -999.0,9,     -999.0,9,        123,-999.000,-999.000,-999.000,     -999.0,9, -999.00,9, -999.00,9
33RO200306_02,       A16N,     123,          1,         26,         26,2,20030802,       0356,     4.5007,   -25.7490,       4094,   175.1,  12.7145,  35.2632,2,  35.2571,2,    145.0,2,   154.6,2,    7.71,2,   18.26,2,    0.01,2,    1.28,2,-999.000,9,-999.000,9,-999.000,9,  -999.0,9,  -999.0,9,   -999.0,9,  -999.00,-999.0000,9,  -999.00,-999.000,9,-999.000,9,-999.000,9, -999.00,9,  -999.0,9,  -999.0,-999.000,9,-999.000,-999.000,9, -999.00,9, -999.00,9,  175.10,-999.0000,9,-999.0000,9,-999.0000,9,-999.0000,9,-999.0000,9,-999.0000,9,  12.6907,     -999.0,9,     -999.0,9,     -999.0,9,     -999.0,9,        123,-999.000,-999.000,-999.000,     -999.0,9, -999.00,9, -999.00,9
33RO200306_02,       A16N,     123,          1,         25,         25,2,20030802,       0356,     4.5007,   -25.7490,       4094,   199.2,  12.2773,  35.1933,2,  35.1857,2,    153.7,2,   151.7,2,    8.07,2,   19.17,2,    0.01,2,    1.33,2,-999.000,9,-999.000,9,-999.000,9,  -999.0,9,  -999.0,9,   -999.0,9,  -999.00,-999.0000,9,  -999.00,-999.000,9,-999.000,9,-999.000,9, -999.00,9,  -999.0,9,  -999.0,-999.000,9,-999.000,-999.000,9, -999.00,9, -999.00,9,  199.20,-999.0000,9,-999.0000,9,-999.0000,9,-999.0000,9,-999.0000,9,-999.0000,9,  12.2509,     -999.0,9,     -999.0,9,     -999.0,9,     -999.0,9,        123,-999.000,-999.000,-999.000,     -999.0,9, -999.00,9, -999.00,9
33RO200306_02,       A16N,     123,          1,         24,         24,2,20030802,       0356,     4.5007,   -25.7490,       4094,   249.5,  11.5501,  35.0973,2,  35.0957,2,    138.5,2,   138.4,2,    9.41,2,   22.11,2,    0.01,2,    1.48,2,-999.000,9,-999.000,9,-999.000,9,  -999.0,9,  -999.0,9,   -999.0,9,  -999.00,-999.0000,9,  -999.00,-999.000,9,-999.000,9,-999.000,9, -999.00,9,  -999.0,9,  -999.0,-999.000,9,-999.000,-999.000,9, -999.00,9, -999.00,9,  249.50,-999.0000,9,-999.0000,9,-999.0000,9,-999.0000,9,-999.0000,9,-999.0000,9,  11.5182,     -999.0,9,     -999.0,9,     -999.0,9,     -999.0,9,        123,-999.000,-999.000,-999.000,     -999.0,9, -999.00,9, -999.00,9
33RO200306_02,       A16N,     123,          1,         23,         23,2,20030802,       0356,     4.5007,   -25.7490,       4094,   299.6,  10.6748,  35.0240,2,  35.0250,2,    122.6,2,   110.7,2,   11.64,2,   27.07,2,    0.01,2,    1.74,2,-999.000,9,-999.000,9,-999.000,9,  -999.0,9,  -999.0,9,   -999.0,9,  -999.00,-999.0000,9,  -999.00,-999.000,9,-999.000,9,-999.000,9, -999.00,9,  -999.0,9,  -999.0,-999.000,9,-999.000,-999.000,9, -999.00,9, -999.00,9,  299.60,-999.0000,9,-999.0000,9,-999.0000,9,-999.0000,9,-999.0000,9,-999.0000,9,  10.6384,     -999.0,9,     -999.0,9,     -999.0,9,     -999.0,9,        123,-999.000,-999.000,-999.000,     -999.0,9, -999.00,9, -999.00,9
33RO200306_02,       A16N,     123,          1,         22,         22,2,20030802,       0356,     4.5007,   -25.7490,       4094,   349.9,  10.0129,  34.9786,2,  34.9779,2,     85.2,2,    81.5,2,   13.73,2,   31.18,2,    0.00,2,    1.96,2,-999.000,9,-999.000,9,-999.000,9,  -999.0,9,  -999.0,9,   -999.0,9,  -999.00,-999.0000,9,  -999.00,-999.000,9,-999.000,9,-999.000,9, -999.00,9,  -999.0,9,  -999.0,-999.000,9,-999.000,-999.000,9, -999.00,9, -999.00,9,  349.90,-999.0000,9,-999.0000,9,-999.0000,9,-999.0000,9,-999.0000,9,-999.0000,9,   9.9720,     -999.0,9,     -999.0,9,     -999.0,9,     -999.0,9,        123,-999.000,-999.000,-999.000,     -999.0,9, -999.00,9, -999.00,9
33RO200306_02,       A16N,     123,          1,         21,         21,2,20030802,       0356,     4.5007,   -25.7490,       4094,   400.6,   8.8208,  34.8229,2,  34.8174,2,     92.2,2,   100.8,2,   15.90,2,   31.95,2,    0.00,2,    2.04,2,-999.000,9,-999.000,9,-999.000,9,  -999.0,9,  -999.0,9,   -999.0,9,  -999.00,-999.0000,9,  -999.00,-999.000,9,-999.000,9,-999.000,9, -999.00,9,  -999.0,9,  -999.0,-999.000,9,-999.000,-999.000,9, -999.00,9, -999.00,9,  400.60,-999.0000,9,-999.0000,9,-999.0000,9,-999.0000,9,-999.0000,9,-999.0000,9,   8.7774,     -999.0,9,     -999.0,9,     -999.0,9,     -999.0,9,        123,-999.000,-999.000,-999.000,     -999.0,9, -999.00,9, -999.00,9
33RO200306_02,       A16N,     123,          1,         20,         20,2,20030802,       0356,     4.5007,   -25.7490,       4094,   449.5,   8.1198,  34.7454,2,  34.7419,2,    109.9,2,   112.4,2,   17.35,2,   32.29,2,    0.00,2,    2.08,2,-999.000,9,-999.000,9,-999.000,9,  -999.0,9,  -999.0,9,   -999.0,9,  -999.00,-999.0000,9,  -999.00,-999.000,9,-999.000,9,-999.000,9, -999.00,9,  -999.0,9,  -999.0,-999.000,9,-999.000,-999.000,9, -999.00,9, -999.00,9,  449.50,-999.0000,9,-999.0000,9,-999.0000,9,-999.0000,9,-999.0000,9,-999.0000,9,   8.0733,     -999.0,9,     -999.0,9,     -999.0,9,     -999.0,9,        123,-999.000,-999.000,-999.000,     -999.0,9, -999.00,9, -999.00,9
33RO200306_02,       A16N,     123,          1,         19,         19,2,20030802,       0356,     4.5007,   -25.7490,       4094,   499.6,   7.5144,  34.6890,2,  34.6887,2,    113.2,2,   113.4,2,   18.97,2,   33.13,2,    0.00,2,    2.15,2,-999.000,9,-999.000,9,-999.000,9,  -999.0,9,  -999.0,9,   -999.0,9,  -999.00,-999.0000,9,  -999.00,-999.000,9,-999.000,9,-999.000,9, -999.00,9,  -999.0,9,  -999.0,-999.000,9,-999.000,-999.000,9, -999.00,9, -999.00,9,  499.60,-999.0000,9,-999.0000,9,-999.0000,9,-999.0000,9,-999.0000,9,-999.0000,9,   7.4649,     -999.0,9,     -999.0,9,     -999.0,9,     -999.0,9,        123,-999.000,-999.000,-999.000,     -999.0,9, -999.00,9, -999.00,9
33RO200306_02,       A16N,     123,          1,         18,         18,2,20030802,       0356,     4.5007,   -25.7490,       4094,   600.6,   6.5655,  34.6078,2,  34.6063,2,    124.9,2,   122.4,2,   22.01,2,   33.93,2,    0.00,2,    2.23,2,-999.000,9,-999.000,9,-999.000,9,  -999.0,9,  -999.0,9,   -999.0,9,  -999.00,-999.0000,9,  -999.00,-999.000,9,-999.000,9,-999.000,9, -999.00,9,  -999.0,9,  -999.0,-999.000,9,-999.000,-999.000,9, -999.00,9, -999.00,9,  600.60,-999.0000,9,-999.0000,9,-999.0000,9,-999.0000,9,-999.0000,9,-999.0000,9,   6.5099,     -999.0,9,     -999.0,9,     -999.0,9,     -999.0,9,        123,-999.000,-999.000,-999.000,     -999.0,9, -999.00,9, -999.00,9
33RO200306_02,       A16N,     123,          1,         17,         17,2,20030802,       0356,     4.5007,   -25.7490,       4094,   700.4,   5.7317,  34.5679,2,  34.5657,2,    131.0,2,   128.1,2,   25.81,2,   34.99,2,    0.00,2,    2.33,2,-999.000,9,-999.000,9,-999.000,9,  -999.0,9,  -999.0,9,   -999.0,9,  -999.00,-999.0000,9,  -999.00,-999.000,9,-999.000,9,-999.000,9, -999.00,9,  -999.0,9,  -999.0,-999.000,9,-999.000,-999.000,9, -999.00,9, -999.00,9,  700.40,-999.0000,9,-999.0000,9,-999.0000,9,-999.0000,9,-999.0000,9,-999.0000,9,   5.6709,     -999.0,9,     -999.0,9,     -999.0,9,     -999.0,9,        123,-999.000,-999.000,-999.000,     -999.0,9, -999.00,9, -999.00,9
33RO200306_02,       A16N,     123,          1,         16,         16,2,20030802,       0356,     4.5007,   -25.7490,       4094,   800.2,   5.1909,  34.5657,2,  34.5652,2,    138.3,2,   136.7,2,   28.36,2,   34.84,2,    0.00,2,    2.34,2,-999.000,9,-999.000,9,-999.000,9,  -999.0,9,  -999.0,9,   -999.0,9,  -999.00,-999.0000,9,  -999.00,-999.000,9,-999.000,9,-999.000,9, -999.00,9,  -999.0,9,  -999.0,-999.000,9,-999.000,-999.000,9, -999.00,9, -999.00,9,  800.20,-999.0000,9,-999.0000,9,-999.0000,9,-999.0000,9,-999.0000,9,-999.0000,9,   5.1241,     -999.0,9,     -999.0,9,     -999.0,9,     -999.0,9,        123,-999.000,-999.000,-999.000,     -999.0,9, -999.00,9, -999.00,9
33RO200306_02,       A16N,     123,          1,         15,         15,2,20030802,       0356,     4.5007,   -25.7490,       4094,   900.2,   4.9658,  34.6518,2,  34.6511,2,    141.6,2,   149.2,2,   28.58,2,   33.51,2,    0.00,2,    2.27,2,-999.000,9,-999.000,9,-999.000,9,  -999.0,9,  -999.0,9,   -999.0,9,  -999.00,-999.0000,9,  -999.00,-999.000,9,-999.000,9,-999.000,9, -999.00,9,  -999.0,9,  -999.0,-999.000,9,-999.000,-999.000,9, -999.00,9, -999.00,9,  900.20,-999.0000,9,-999.0000,9,-999.0000,9,-999.0000,9,-999.0000,9,-999.0000,9,   4.8915,     -999.0,9,     -999.0,9,     -999.0,9,     -999.0,9,        123,-999.000,-999.000,-999.000,     -999.0,9, -999.00,9, -999.00,9
33RO200306_02,       A16N,     123,          1,         14,         14,2,20030802,       0356,     4.5007,   -25.7490,       4094,   999.9,   4.7995,  34.7431,2,  34.7441,2,    154.6,2,   152.6,2,   27.39,2,   31.75,2,    0.00,2,    2.16,2,-999.000,9,-999.000,9,-999.000,9,  -999.0,9,  -999.0,9,   -999.0,9,  -999.00,-999.0000,9,  -999.00,-999.000,9,-999.000,9,-999.000,9, -999.00,9,  -999.0,9,  -999.0,-999.000,9,-999.000,-999.000,9, -999.00,9, -999.00,9,  999.90,-999.0000,9,-999.0000,9,-999.0000,9,-999.0000,9,-999.0000,9,-999.0000,9,   4.7173,     -999.0,9,     -999.0,9,     -999.0,9,     -999.0,9,        123,-999.000,-999.000,-999.000,     -999.0,9, -999.00,9, -999.00,9
33RO200306_02,       A16N,     123,          1,         13,         13,2,20030802,       0356,     4.5007,   -25.7490,       4094,  1099.7,   4.7406,  34.8159,2,  34.8148,2,    171.0,2,   170.4,2,   25.11,2,   29.11,2,    0.00,2,    1.97,2,-999.000,9,-999.000,9,-999.000,9,  -999.0,9,  -999.0,9,   -999.0,9,  -999.00,-999.0000,9,  -999.00,-999.000,9,-999.000,9,-999.000,9, -999.00,9,  -999.0,9,  -999.0,-999.000,9,-999.000,-999.000,9, -999.00,9, -999.00,9, 1099.70,-999.0000,9,-999.0000,9,-999.0000,9,-999.0000,9,-999.0000,9,-999.0000,9,   4.6498,     -999.0,9,     -999.0,9,     -999.0,9,     -999.0,9,        123,-999.000,-999.000,-999.000,     -999.0,9, -999.00,9, -999.00,9
33RO200306_02,       A16N,     123,          1,         12,         12,2,20030802,       0356,     4.5007,   -25.7490,       4094,  1200.1,   4.6190,  34.8764,2,  34.8761,2,    188.3,2,   190.9,2,   22.71,2,   26.49,2,    0.00,2,    1.80,2,-999.000,9,-999.000,9,-999.000,9,  -999.0,9,  -999.0,9,   -999.0,9,  -999.00,-999.0000,9,  -999.00,-999.000,9,-999.000,9,-999.000,9, -999.00,9,  -999.0,9,  -999.0,-999.000,9,-999.000,-999.000,9, -999.00,9, -999.00,9, 1200.10,-999.0000,9,-999.0000,9,-999.0000,9,-999.0000,9,-999.0000,9,-999.0000,9,   4.5200,     -999.0,9,     -999.0,9,     -999.0,9,     -999.0,9,        123,-999.000,-999.000,-999.000,     -999.0,9, -999.00,9, -999.00,9
33RO200306_02,       A16N,     123,          1,         11,         11,2,20030802,       0356,     4.5007,   -25.7490,       4094,  1400.7,   4.4720,  34.9546,2,  34.9548,2,    218.0,2,   216.9,2,   18.90,2,   22.89,2,    0.00,2,    1.55,2,-999.000,9,-999.000,9,-999.000,9,  -999.0,9,  -999.0,9,   -999.0,9,  -999.00,-999.0000,9,  -999.00,-999.000,9,-999.000,9,-999.000,9, -999.00,9,  -999.0,9,  -999.0,-999.000,9,-999.000,-999.000,9, -999.00,9, -999.00,9, 1400.70,-999.0000,9,-999.0000,9,-999.0000,9,-999.0000,9,-999.0000,9,-999.0000,9,   4.3558,     -999.0,9,     -999.0,9,     -999.0,9,     -999.0,9,        123,-999.000,-999.000,-999.000,     -999.0,9, -999.00,9, -999.00,9
33RO200306_02,       A16N,     123,          1,         10,         10,2,20030802,       0356,     4.5007,   -25.7490,       4094,  1599.5,   4.1504,  34.9743,2,  34.9750,2,    236.8,2,   236.1,2,   17.69,2,   21.04,2,    0.00,2,    1.42,2,-999.000,9,-999.000,9,-999.000,9,  -999.0,9,  -999.0,9,   -999.0,9,  -999.00,-999.0000,9,  -999.00,-999.000,9,-999.000,9,-999.000,9, -999.00,9,  -999.0,9,  -999.0,-999.000,9,-999.000,-999.000,9, -999.00,9, -999.00,9, 1599.50,-999.0000,9,-999.0000,9,-999.0000,9,-999.0000,9,-999.0000,9,-999.0000,9,   4.0192,     -999.0,9,     -999.0,9,     -999.0,9,     -999.0,9,        123,-999.000,-999.000,-999.000,     -999.0,9, -999.00,9, -999.00,9
33RO200306_02,       A16N,     123,          1,          9,          9,2,20030802,       0356,     4.5007,   -25.7490,       4094,  1798.4,   3.7619,  34.9675,2,  34.9681,2,    242.0,2,   248.5,2,   19.78,2,   20.68,2,    0.00,2,    1.41,2,-999.000,9,-999.000,9,-999.000,9,  -999.0,9,  -999.0,9,   -999.0,9,  -999.00,-999.0000,9,  -999.00,-999.000,9,-999.000,9,-999.000,9, -999.00,9,  -999.0,9,  -999.0,-999.000,9,-999.000,-999.000,9, -999.00,9, -999.00,9, 1798.40,-999.0000,9,-999.0000,9,-999.0000,9,-999.0000,9,-999.0000,9,-999.0000,9,   3.6171,     -999.0,9,     -999.0,9,     -999.0,9,     -999.0,9,        123,-999.000,-999.000,-999.000,     -999.0,9, -999.00,9, -999.00,9
33RO200306_02,       A16N,     123,          1,          8,          8,2,20030802,       0356,     4.5007,   -25.7490,       4094,  1999.7,   3.5464,  34.9612,2,  34.9595,2,    245.4,2,   244.1,2,   21.80,2,   20.61,2,    0.00,2,    1.41,2,-999.000,9,-999.000,9,-999.000,9,  -999.0,9,  -999.0,9,   -999.0,9,  -999.00,-999.0000,9,  -999.00,-999.000,9,-999.000,9,-999.000,9, -999.00,9,  -999.0,9,  -999.0,-999.000,9,-999.000,-999.000,9, -999.00,9, -999.00,9, 1999.70,-999.0000,9,-999.0000,9,-999.0000,9,-999.0000,9,-999.0000,9,-999.0000,9,   3.3857,     -999.0,9,     -999.0,9,     -999.0,9,     -999.0,9,        123,-999.000,-999.000,-999.000,     -999.0,9, -999.00,9, -999.00,9