BOTTLE,20230908CCHSIOCBG
EXPOCODE,SECT_ID,STNNBR,CASTNO,SAMPNO,BTLNBR,BTLNBR_FLAG_W,DATE,TIME,LATITUDE,LONGITUDE,DEPTH,CTDPRS,CTDTMP,CTDSAL,CTDSAL_FLAG_W,SALNTY,SALNTY_FLAG_W,CTDOXY,CTDOXY_FLAG_W,OXYGEN,OXYGEN_FLAG_W,SILCAT,SILCAT_FLAG_W,NITRAT,NITRAT_FLAG_W,NITRIT,NITRIT_FLAG_W,PHSPHT,PHSPHT_FLAG_W,CFC-11,CFC-11_FLAG_W,CFC-12,CFC-12_FLAG_W,CFC113,CFC113_FLAG_W,TCARBN,TCARBN_FLAG_W,ALKALI,ALKALI_FLAG_W,FCO2,FCO2_FLAG_W,FCO2TMP,PH_SWS,PH_SWS_FLAG_W,PH_TMP,TRITUM,TRITUM_FLAG_W,HELIUM,HELIUM_FLAG_W,DELHE3,DELHE3_FLAG_W,DELC13,DELC13_FLAG_W,DELC14,DELC14_FLAG_W,C14ERR,NEON,NEON_FLAG_W,NEONER,POC,POC_FLAG_W,DOC,DOC_FLAG_W,TDN,TDN_FLAG_W,CTDRAW,CDOM325,CDOM325_FLAG_W,CDOM340,CDOM340_FLAG_W,CDOM380,CDOM380_FLAG_W,CDOM412,CDOM412_FLAG_W,CDOMSL,CDOMSL_FLAG_W,CDOMSN,CDOMSN_FLAG_W,THETA,PON,PON_FLAG_W,HCFC-22,HCFC-22_FLAG_W,HCFC-142b,HCFC-142b_FLAG_W,HCFC-141b,HCFC-141b_FLAG_W,STNNBR_U,HELIER,DELHER,TRITER,CH3CL,CH3CL_FLAG_W,CH3BR,CH3BR_FLAG_W,CH3I,CH3I_FLAG_W
,,,,,,,,,,,METERS,DBAR,ITS-90,PSS-78,,PSS-78,,UMOL/KG,,UMOL/KG,,UMOL/KG,,UMOL/KG,,UMOL/KG,,UMOL/KG,,PMOL/KG,,PMOL/KG,,PMOL/KG,,UMOL/KG,,UMOL/KG,,UATM,,DEG C,,,DEG C,TU,,NMOL/KG,,PERCNT,,/MILLE,,/MILLE,,/MILLE,NMOL/KG,,NMOL/KG,UG/KG,,UMOL/KG,,UMOL/KG,,DBAR,1/M,,1/M,,1/M,,1/M,,1/NM,,1/NM,,DEG C,UMOL/L,,PMOL/KG,,PMOL/KG,,PMOL/KG,,,NMOL/KG,PERCNT,TU,PMOL/KG,,PMOL/KG,,PMOL/KG,
33RO200306_01,       A16N,     022,          1,         25,         25,2,20030624,       0834,    54.5013,   -19.9995,       1384,     6.0,  12.3500,  35.4693,2,  35.4707,2,    271.3,2,   269.5,2,    0.13,2,    3.46,2,    0.07,2,    0.24,2,-999.000,9,-999.000,9,-999.000,9,  2083.1,6,  2334.2,2,    432.6,2,    20.00,   7.9409,2,    25.00,-999.000,9,-999.000,9,-999.000,9, -999.00,9,  -999.0,9,  -999.0,-999.000,9,-999.000,-999.000,9, -999.00,9, -999.00,9,    6.00,   0.1810,2,   0.1250,2,   0.0490,2,   0.0300,2,   0.0210,2,   0.0240,2,  12.3492,     -999.0,9,     -999.0,9,     -999.0,9,     -999.0,9,         22,-999.000,-999.000,-999.000,     -999.0,9, -999.00,9, -999.00,9
33RO200306_01,       A16N,     022,          1,         24,         24,2,20030624,       0834,    54.5013,   -19.9995,       1384,    19.1,  12.3426,  35.4693,2,  35.4698,2,    270.7,2,   270.3,2,    0.13,2,    3.47,2,    0.08,2,    0.24,2,-999.000,9,-999.000,9,-999.000,9,  -999.0,9,  -999.0,9,   -999.0,9,  -999.00,-999.0000,9,  -999.00,-999.000,9,-999.000,9,-999.000,9, -999.00,9,  -999.0,9,  -999.0,-999.000,9,-999.000,   6.967,2, -999.00,9, -999.00,9,   19.10,   0.1490,2,   0.1060,2,   0.0480,2,   0.0300,2,   0.0190,2,   0.0200,2,  12.3401,      0.862,2,     -999.0,9,     -999.0,9,     -999.0,9,         22,-999.000,-999.000,-999.000,     -999.0,9, -999.00,9, -999.00,9
33RO200306_01,       A16N,     022,          1,         23,         23,2,20030624,       0834,    54.5013,   -19.9995,       1384,    38.9,  12.1880,  35.4734,2,  35.4737,2,    269.8,2,   276.0,2,    0.12,2,    3.76,2,    0.08,2,    0.26,2,-999.000,9,-999.000,9,-999.000,9,  -999.0,9,  -999.0,9,   -999.0,9,  -999.00,-999.0000,9,  -999.00,-999.000,9,-999.000,9,-999.000,9, -999.00,9,  -999.0,9,  -999.0,-999.000,9,-999.000,   5.752,2, -999.00,9, -999.00,9,   38.90,   0.1790,2,   0.1190,2,   0.0450,2,   0.0270,2,   0.0230,2,   0.0250,2,  12.1829,      0.741,2,     -999.0,9,     -999.0,9,     -999.0,9,         22,-999.000,-999.000,-999.000,     -999.0,9, -999.00,9, -999.00,9
33RO200306_01,       A16N,     022,          1,         22,         22,2,20030624,       0834,    54.5013,   -19.9995,       1384,    59.9,  11.2478,  35.4778,2,  35.4785,2,    259.4,2,   257.9,2,    0.89,2,    6.68,2,    0.24,2,    0.50,2,-999.000,9,-999.000,9,-999.000,9,  -999.0,9,  -999.0,9,   -999.0,9,  -999.00,-999.0000,9,  -999.00,-999.000,9,-999.000,9,-999.000,9, -999.00,9,  -999.0,9,  -999.0,-999.000,9,-999.000,   2.296,2, -999.00,9, -999.00,9,   59.90,-999.0000,9,-999.0000,9,-999.0000,9,-999.0000,9,-999.0000,9,-999.0000,9,  11.2403,      0.222,2,     -999.0,9,     -999.0,9,     -999.0,9,         22,-999.000,-999.000,-999.000,     -999.0,9, -999.00,9, -999.00,9
33RO200306_01,       A16N,     022,          1,         21,         21,2,20030624,       0834,    54.5013,   -19.9995,       1384,    80.3,  11.0302,  35.4832,2,  35.4827,2,    256.3,2,   256.0,2,    1.51,2,    8.09,2,    0.34,2,    0.55,2,-999.000,9,-999.000,9,-999.000,9,  -999.0,9,  -999.0,9,   -999.0,9,  -999.00,-999.0000,9,  -999.00,-999.000,9,-999.000,9,-999.000,9, -999.00,9,  -999.0,9,  -999.0,-999.000,9,-999.000,   1.870,2, -999.00,9, -999.00,9,   80.30,-999.0000,9,-999.0000,9,-999.0000,9,-999.0000,9,-999.0000,9,-999.0000,9,  11.0203,      0.348,2,     -999.0,9,     -999.0,9,     -999.0,9,         22,-999.000,-999.000,-999.000,     -999.0,9, -999.00,9, -999.00,9
33RO200306_01,       A16N,     022,          1,         20,         20,2,20030624,       0834,    54.5013,   -19.9995,       1384,    99.7,  10.8715,  35.4759,2,  35.4767,2,    253.6,2,   253.6,2,    2.20,2,    9.17,2,    0.37,2,    0.58,2,-999.000,9,-999.000,9,-999.000,9,  -999.0,9,  -999.0,9,   -999.0,9,  -999.00,-999.0000,9,  -999.00,-999.000,9,-999.000,9,-999.000,9, -999.00,9,  -999.0,9,  -999.0,-999.000,9,-999.000,   2.522,2, -999.00,9, -999.00,9,   99.70,   0.1330,2,   0.0850,2,   0.0340,2,   0.0200,2,   0.0250,2,   0.0260,2,  10.8593,      0.789,2,     -999.0,9,     -999.0,9,     -999.0,9,         22,-999.000,-999.000,-999.000,     -999.0,9, -999.00,9, -999.00,9
33RO200306_01,       A16N,     022,          1,         19,         19,2,20030624,       0834,    54.5013,   -19.9995,       1384,   125.1,  10.7860,  35.4680,2,  35.4689,2,    253.3,2,   253.1,2,    2.77,2,    9.97,2,    0.19,2,    0.61,2,-999.000,9,-999.000,9,-999.000,9,  -999.0,9,  -999.0,9,   -999.0,9,  -999.00,-999.0000,9,  -999.00,-999.000,9,-999.000,9,-999.000,9, -999.00,9,  -999.0,9,  -999.0,-999.000,9,-999.000,-999.000,9, -999.00,9, -999.00,9,  125.10,-999.0000,9,-999.0000,9,-999.0000,9,-999.0000,9,-999.0000,9,-999.0000,9,  10.7707,     -999.0,9,     -999.0,9,     -999.0,9,     -999.0,9,         22,-999.000,-999.000,-999.000,     -999.0,9, -999.00,9, -999.00,9
33RO200306_01,       A16N,     022,          1,         18,         18,2,20030624,       0834,    54.5013,   -19.9995,       1384,   150.0,  10.6998,  35.4588,2,  35.4572,2,    252.5,2,   251.1,2,    3.80,2,   10.57,2,    0.04,2,    0.63,2,-999.000,9,-999.000,9,-999.000,9,  -999.0,9,  -999.0,9,   -999.0,9,  -999.00,-999.0000,9,  -999.00,-999.000,9,-999.000,9,-999.000,9, -999.00,9,  -999.0,9,  -999.0,-999.000,9,-999.000,-999.000,9, -999.00,9, -999.00,9,  150.00,-999.0000,9,-999.0000,9,-999.0000,9,-999.0000,9,-999.0000,9,-999.0000,9,  10.6816,     -999.0,9,     -999.0,9,     -999.0,9,     -999.0,9,         22,-999.000,-999.000,-999.000,     -999.0,9, -999.00,9, -999.00,9
33RO200306_01,       A16N,     022,          1,         17,         17,2,20030624,       0834,    54.5013,   -19.9995,       1384,   173.9,  10.6333,  35.4514,2,  35.4509,2,    252.3,2,   252.6,2,    3.91,2,   10.66,2,    0.02,2,    0.64,2,-999.000,9,-999.000,9,-999.000,9,  -999.0,9,  -999.0,9,   -999.0,9,  -999.00,-999.0000,9,  -999.00,-999.000,9,-999.000,9,-999.000,9, -999.00,9,  -999.0,9,  -999.0,-999.000,9,-999.000,-999.000,9, -999.00,9, -999.00,9,  173.90,-999.0000,9,-999.0000,9,-999.0000,9,-999.0000,9,-999.0000,9,-999.0000,9,  10.6122,     -999.0,9,     -999.0,9,     -999.0,9,     -999.0,9,         22,-999.000,-999.000,-999.000,     -999.0,9, -999.00,9, -999.00,9
33RO200306_01,       A16N,     022,          1,         16,         16,2,20030624,       0834,    54.5013,   -19.9995,       1384,   201.5,  10.4929,  35.4319,2,  35.4286,2,    251.0,2,   250.2,2,    4.07,2,   11.25,2,    0.02,2,    0.67,2,-999.000,9,-999.000,9,-999.000,9,  -999.0,9,  -999.0,9,   -999.0,9,  -999.00,-999.0000,9,  -999.00,-999.000,9,-999.000,9,-999.000,9, -999.00,9,  -999.0,9,  -999.0,-999.000,9,-999.000,-999.000,9, -999.00,9, -999.00,9,  201.50,   0.1300,2,   0.0860,2,   0.0380,2,   0.0250,2,   0.0210,2,   0.0230,2,  10.4687,     -999.0,9,     -999.0,9,     -999.0,9,     -999.0,9,         22,-999.000,-999.000,-999.000,     -999.0,9, -999.00,9, -999.00,9
33RO200306_01,       A16N,     022,          1,         15,         15,2,20030624,       0834,    54.5013,   -19.9995,       1384,   250.7,  10.2278,  35.3872,2,  35.3868,2,    248.8,2,   249.1,2,    4.81,2,   11.86,2,    0.02,2,    0.72,2,-999.000,9,-999.000,9,-999.000,9,  -999.0,9,  -999.0,9,   -999.0,9,  -999.00,-999.0000,9,  -999.00,-999.000,9,-999.000,9,-999.000,9, -999.00,9,  -999.0,9,  -999.0,-999.000,9,-999.000,   0.992,2, -999.00,9, -999.00,9,  250.70,-999.0000,9,-999.0000,9,-999.0000,9,-999.0000,9,-999.0000,9,-999.0000,9,  10.1981,      0.156,2,     -999.0,9,     -999.0,9,     -999.0,9,         22,-999.000,-999.000,-999.000,     -999.0,9, -999.00,9, -999.00,9
33RO200306_01,       A16N,     022,          1,         14,         14,2,20030624,       0834,    54.5013,   -19.9995,       1384,   299.9,  10.0341,  35.3613,2,  35.3616,2,    248.1,2,   250.1,2,    5.11,2,   12.19,2,    0.01,2,    0.74,2,-999.000,9,-999.000,9,-999.000,9,  -999.0,9,  -999.0,9,   -999.0,9,  -999.00,-999.0000,9,  -999.00,-999.000,9,-999.000,9,-999.000,9, -999.00,9,  -999.0,9,  -999.0,-999.000,9,-999.000,-999.000,9, -999.00,9, -999.00,9,  299.90,   0.1390,2,   0.0940,2,   0.0420,2,   0.0270,2,   0.0200,2,   0.0220,2,   9.9989,     -999.0,9,     -999.0,9,     -999.0,9,     -999.0,9,         22,-999.000,-999.000,-999.000,     -999.0,9, -999.00,9, -999.00,9
33RO200306_01,       A16N,     022,          1,         13,         13,2,20030624,       0834,    54.5013,   -19.9995,       1384,   351.2,  10.1410,  35.3989,2,  35.3989,2,    251.2,2,   254.5,2,    4.75,2,   11.86,2,    0.01,2,    0.72,2,-999.000,9,-999.000,9,-999.000,9,  -999.0,9,  -999.0,9,   -999.0,9,  -999.00,-999.0000,9,  -999.00,-999.000,9,-999.000,9,-999.000,9, -999.00,9,  -999.0,9,  -999.0,-999.000,9,-999.000,-999.000,9, -999.00,9, -999.00,9,  351.20,-999.0000,9,-999.0000,9,-999.0000,9,-999.0000,9,-999.0000,9,-999.0000,9,  10.0994,     -999.0,9,     -999.0,9,     -999.0,9,     -999.0,9,         22,-999.000,-999.000,-999.000,     -999.0,9, -999.00,9, -999.00,9
33RO200306_01,       A16N,     022,          1,         12,         12,2,20030624,       0834,    54.5013,   -19.9995,       1384,   401.1,  10.0708,  35.3981,2,  35.3969,2,    246.8,2,   250.2,2,    5.09,2,   12.22,2,    0.01,2,    0.74,2,-999.000,9,-999.000,9,-999.000,9,  -999.0,9,  -999.0,9,   -999.0,9,  -999.00,-999.0000,9,  -999.00,-999.000,9,-999.000,9,-999.000,9, -999.00,9,  -999.0,9,  -999.0,-999.000,9,-999.000,-999.000,9, -999.00,9, -999.00,9,  401.10,-999.0000,9,-999.0000,9,-999.0000,9,-999.0000,9,-999.0000,9,-999.0000,9,  10.0233,     -999.0,9,     -999.0,9,     -999.0,9,     -999.0,9,         22,-999.000,-999.000,-999.000,     -999.0,9, -999.00,9, -999.00,9
33RO200306_01,       A16N,     022,          1,         11,         11,2,20030624,       0834,    54.5013,   -19.9995,       1384,   450.1,   9.7926,  35.3622,2,  35.3582,2,    238.3,2,   232.6,2,    6.23,2,   13.85,2,    0.01,2,    0.83,2,-999.000,9,-999.000,9,-999.000,9,  -999.0,9,  -999.0,9,   -999.0,9,  -999.00,-999.0000,9,  -999.00,-999.000,9,-999.000,9,-999.000,9, -999.00,9,  -999.0,9,  -999.0,-999.000,9,-999.000,-999.000,9, -999.00,9, -999.00,9,  450.10,-999.0000,9,-999.0000,9,-999.0000,9,-999.0000,9,-999.0000,9,-999.0000,9,   9.7401,     -999.0,9,     -999.0,9,     -999.0,9,     -999.0,9,         22,-999.000,-999.000,-999.000,     -999.0,9, -999.00,9, -999.00,9
33RO200306_01,       A16N,     022,          1,         10,         10,2,20030624,       0834,    54.5013,   -19.9995,       1384,   500.6,   9.4329,  35.3213,2,  35.3177,2,    219.3,2,   215.7,2,    7.48,2,   15.54,2,    0.01,2,    0.94,2,-999.000,9,-999.000,9,-999.000,9,  -999.0,9,  -999.0,9,   -999.0,9,  -999.00,-999.0000,9,  -999.00,-999.000,9,-999.000,9,-999.000,9, -999.00,9,  -999.0,9,  -999.0,-999.000,9,-999.000,   1.097,2, -999.00,9, -999.00,9,  500.60,   0.1210,2,   0.0820,2,   0.0380,2,   0.0250,2,   0.0200,2,   0.0220,2,   9.3757,      0.460,2,     -999.0,9,     -999.0,9,     -999.0,9,         22,-999.000,-999.000,-999.000,     -999.0,9, -999.00,9, -999.00,9
33RO200306_01,       A16N,     022,          1,          9,          9,2,20030624,       0834,    54.5013,   -19.9995,       1384,   601.8,   8.8274,  35.2952,2,  35.2948,2,    206.9,2,   203.9,2,    9.07,2,   17.24,2,    0.01,2,    1.04,2,-999.000,9,-999.000,9,-999.000,9,  -999.0,9,  -999.0,9,   -999.0,9,  -999.00,-999.0000,9,  -999.00,-999.000,9,-999.000,9,-999.000,9, -999.00,9,  -999.0,9,  -999.0,-999.000,9,-999.000,-999.000,9, -999.00,9, -999.00,9,  601.80,-999.0000,9,-999.0000,9,-999.0000,9,-999.0000,9,-999.0000,9,-999.0000,9,   8.7610,     -999.0,9,     -999.0,9,     -999.0,9,     -999.0,9,         22,-999.000,-999.000,-999.000,     -999.0,9, -999.00,9, -999.00,9
33RO200306_01,       A16N,     022,          1,          8,          8,2,20030624,       0834,    54.5013,   -19.9995,       1384,   700.1,   8.3109,  35.3059,2,  35.3060,2,    196.9,2,   201.6,2,    9.99,2,   17.82,2,    0.01,2,    1.08,2,-999.000,9,-999.000,9,-999.000,9,  -999.0,9,  -999.0,9,   -999.0,9,  -999.00,-999.0000,9,  -999.00,-999.000,9,-999.000,9,-999.000,9, -999.00,9,  -999.0,9,  -999.0,-999.000,9,-999.000,-999.000,9, -999.00,9, -999.00,9,  700.10,-999.0000,9,-999.0000,9,-999.0000,9,-999.0000,9,-999.0000,9,-999.0000,9,   8.2358,     -999.0,9,     -999.0,9,     -999.0,9,     -999.0,9,         22,-999.000,-999.000,-999.000,     -999.0,9, -999.00,9, -999.00,9
33RO200306_01,       A16N,     022,          1,          7,          7,2,20030624,       0834,    54.5013,   -19.9995,       1384,   799.8,   7.5966,  35.2852,2,  35.2848,2,    203.2,2,   202.4,2,   10.79,2,   18.19,2,    0.01,2,    1.11,2,-999.000,9,-999.000,9,-999.000,9,  -999.0,9,  -999.0,9,   -999.0,9,  -999.00,-999.0000,9,  -999.00,-999.000,9,-999.000,9,-999.000,9, -999.00,9,  -999.0,9,  -999.0,-999.000,9,-999.000,-999.000,9, -999.00,9, -999.00,9,  799.80,   0.1320,2,   0.0920,2,   0.0430,2,   0.0280,2,   0.0190,2,   0.0210,2,   7.5146,     -999.0,9,     -999.0,9,     -999.0,9,     -999.0,9,         22,-999.000,-999.000,-999.000,     -999.0,9, -999.00,9, -999.00,9
33RO200306_01,       A16N,     022,          1,          6,          6,2,20030624,       0834,    54.5013,   -19.9995,       1384,   901.5,   6.9007,  35.2264,2,  35.2260,2,    211.0,2,   210.3,2,   11.07,2,   18.30,2,    0.00,2,    1.12,2,-999.000,9,-999.000,9,-999.000,9,  -999.0,9,  -999.0,9,   -999.0,9,  -999.00,-999.0000,9,  -999.00,-999.000,9,-999.000,9,-999.000,9, -999.00,9,  -999.0,9,  -999.0,-999.000,9,-999.000,-999.000,9, -999.00,9, -999.00,9,  901.50,-999.0000,9,-999.0000,9,-999.0000,9,-999.0000,9,-999.0000,9,-999.0000,9,   6.8123,     -999.0,9,     -999.0,9,     -999.0,9,     -999.0,9,         22,-999.000,-999.000,-999.000,     -999.0,9, -999.00,9, -999.00,9
33RO200306_01,       A16N,     022,          1,          5,          5,2,20030624,       0834,    54.5013,   -19.9995,       1384,  1001.8,   5.9268,  35.1333,2,  35.1338,2,    223.3,2,   227.1,2,   11.24,2,   18.18,2,    0.00,2,    1.12,2,-999.000,9,-999.000,9,-999.000,9,  -999.0,9,  -999.0,9,   -999.0,9,  -999.00,-999.0000,9,  -999.00,-999.000,9,-999.000,9,-999.000,9, -999.00,9,  -999.0,9,  -999.0,-999.000,9,-999.000,-999.000,9, -999.00,9, -999.00,9, 1001.80,   0.1290,2,   0.0800,2,   0.0310,2,   0.0170,2,   0.0260,2,   0.0280,2,   5.8353,     -999.0,9,     -999.0,9,     -999.0,9,     -999.0,9,         22,-999.000,-999.000,-999.000,     -999.0,9, -999.00,9, -999.00,9
33RO200306_01,       A16N,     022,          1,          4,          4,2,20030624,       0834,    54.5013,   -19.9995,       1384,  1100.4,   5.2359,  35.0614,2,  35.0637,2,    236.6,2,   238.8,2,   11.24,2,   17.92,2,    0.00,2,    1.11,2,-999.000,9,-999.000,9,-999.000,9,  -999.0,9,  -999.0,9,   -999.0,9,  -999.00,-999.0000,9,  -999.00,-999.000,9,-999.000,9,-999.000,9, -999.00,9,  -999.0,9,  -999.0,-999.000,9,-999.000,-999.000,9, -999.00,9, -999.00,9, 1100.40,-999.0000,9,-999.0000,9,-999.0000,9,-999.0000,9,-999.0000,9,-999.0000,9,   5.1405,     -999.0,9,     -999.0,9,     -999.0,9,     -999.0,9,         22,-999.000,-999.000,-999.000,     -999.0,9, -999.00,9, -999.00,9
33RO200306_01,       A16N,     022,          1,          3,          3,2,20030624,       0834,    54.5013,   -19.9995,       1384,  1200.5,   4.6990,  35.0127,2,  35.0131,2,    248.1,2,   248.7,2,   11.46,2,   17.65,2,    0.00,2,    1.10,2,-999.000,9,-999.000,9,-999.000,9,  -999.0,9,  -999.0,9,   -999.0,9,  -999.00,-999.0000,9,  -999.00,-999.000,9,-999.000,9,-999.000,9, -999.00,9,  -999.0,9,  -999.0,-999.000,9,-999.000,-999.000,9, -999.00,9, -999.00,9, 1200.50,-999.0000,9,-999.0000,9,-999.0000,9,-999.0000,9,-999.0000,9,-999.0000,9,   4.5990,     -999.0,9,     -999.0,9,     -999.0,9,     -999.0,9,         22,-999.000,-999.000,-999.000,     -999.0,9, -999.00,9, -999.00,9
33RO200306_01,       A16N,     022,          1,          2,          2,2,20030624,       0834,    54.5013,   -19.9995,       1384,  1300.7,   4.2780,  34.9734,2,  34.9730,2,    257.1,2,   257.8,2,   11.62,2,   17.60,2,    0.00,2,    1.09,2,-999.000,9,-999.000,9,-999.000,9,  -999.0,9,  -999.0,9,   -999.0,9,  -999.00,-999.0000,9,  -999.00,-999.000,9,-999.000,9,-999.000,9, -999.00,9,  -999.0,9,  -999.0,-999.000,9,-999.000,-999.000,9, -999.00,9, -999.00,9, 1300.70,-999.0000,9,-999.0000,9,-999.0000,9,-999.0000,9,-999.0000,9,-999.0000,9,   4.1729,     -999.0,9,     -999.0,9,     -999.0,9,     -999.0,9,         22,-999.000,-999.000,-999.000,     -999.0,9, -999.00,9, -999.00,9
33RO200306_01,       A16N,     022,          1,          1,          1,2,20030624,       0834,    54.5013,   -19.9995,       1384,  1386.6,   3.8470,  34.9391,2,  34.9396,2,    268.0,2,   265.5,2,   12.48,2,   17.50,2,    0.01,2,    1.09,2,-999.000,9,-999.000,9,-999.000,9,  -999.0,9,  -999.0,9,   -999.0,9,  -999.00,-999.0000,9,  -999.00,-999.000,9,-999.000,9,-999.000,9, -999.00,9,  -999.0,9,  -999.0,-999.000,9,-999.000,-999.000,9, -999.00,9, -999.00,9, 1386.60,   0.1350,2,   0.0890,2,   0.0390,2,   0.0240,2,   0.0210,2,   0.0230,2,   3.7387,     -999.0,9,     -999.0,9,     -999.0,9,     -999.0,9,         22,-999.000,-999.000,-999.000,     -999.0,9, -999.00,9, -999.00,9