BOTTLE,20230908CCHSIOCBG
EXPOCODE,SECT_ID,STNNBR,CASTNO,SAMPNO,BTLNBR,BTLNBR_FLAG_W,DATE,TIME,LATITUDE,LONGITUDE,DEPTH,CTDPRS,CTDTMP,CTDSAL,CTDSAL_FLAG_W,SALNTY,SALNTY_FLAG_W,CTDOXY,CTDOXY_FLAG_W,OXYGEN,OXYGEN_FLAG_W,SILCAT,SILCAT_FLAG_W,NITRAT,NITRAT_FLAG_W,NITRIT,NITRIT_FLAG_W,PHSPHT,PHSPHT_FLAG_W,CFC-11,CFC-11_FLAG_W,CFC-12,CFC-12_FLAG_W,CFC113,CFC113_FLAG_W,TCARBN,TCARBN_FLAG_W,ALKALI,ALKALI_FLAG_W,FCO2,FCO2_FLAG_W,FCO2TMP,PH_SWS,PH_SWS_FLAG_W,PH_TMP,TRITUM,TRITUM_FLAG_W,HELIUM,HELIUM_FLAG_W,DELHE3,DELHE3_FLAG_W,DELC13,DELC13_FLAG_W,DELC14,DELC14_FLAG_W,C14ERR,NEON,NEON_FLAG_W,NEONER,POC,POC_FLAG_W,DOC,DOC_FLAG_W,TDN,TDN_FLAG_W,CTDRAW,CDOM325,CDOM325_FLAG_W,CDOM340,CDOM340_FLAG_W,CDOM380,CDOM380_FLAG_W,CDOM412,CDOM412_FLAG_W,CDOMSL,CDOMSL_FLAG_W,CDOMSN,CDOMSN_FLAG_W,THETA,PON,PON_FLAG_W,HCFC-22,HCFC-22_FLAG_W,HCFC-142b,HCFC-142b_FLAG_W,HCFC-141b,HCFC-141b_FLAG_W,STNNBR_U,HELIER,DELHER,TRITER,CH3CL,CH3CL_FLAG_W,CH3BR,CH3BR_FLAG_W,CH3I,CH3I_FLAG_W
,,,,,,,,,,,METERS,DBAR,ITS-90,PSS-78,,PSS-78,,UMOL/KG,,UMOL/KG,,UMOL/KG,,UMOL/KG,,UMOL/KG,,UMOL/KG,,PMOL/KG,,PMOL/KG,,PMOL/KG,,UMOL/KG,,UMOL/KG,,UATM,,DEG C,,,DEG C,TU,,NMOL/KG,,PERCNT,,/MILLE,,/MILLE,,/MILLE,NMOL/KG,,NMOL/KG,UG/KG,,UMOL/KG,,UMOL/KG,,DBAR,1/M,,1/M,,1/M,,1/M,,1/NM,,1/NM,,DEG C,UMOL/L,,PMOL/KG,,PMOL/KG,,PMOL/KG,,,NMOL/KG,PERCNT,TU,PMOL/KG,,PMOL/KG,,PMOL/KG,
33RO200306_02,       A16N,     116,          2,          7,          7,2,20030731,       0037,     8.0000,   -27.5008,       5086,  2249.5,   3.2261,  34.9519,2,  34.9513,2,    247.1,2,   248.4,2,   25.01,2,   20.70,2,    0.00,2,    1.41,2,-999.000,9,-999.000,9,-999.000,9,  2172.9,2,  2320.6,2,    755.4,6,    20.00,   7.7226,2,    25.00,-999.000,9,-999.000,9,-999.000,9, -999.00,9,  -999.0,9,  -999.0,-999.000,9,-999.000,-999.000,9,   41.05,2,   25.59,2, 2249.50,-999.0000,9,-999.0000,9,-999.0000,9,-999.0000,9,-999.0000,9,-999.0000,9,   3.0465,     -999.0,9,       0.00,2,       0.00,2,       0.09,2,        116,-999.000,-999.000,-999.000,      46.08,2,    0.68,2,    0.03,2
33RO200306_02,       A16N,     116,          2,          6,          6,2,20030731,       0037,     8.0000,   -27.5008,       5086,  2733.8,   2.8517,  34.9301,2,  34.9305,2,    247.3,2,   248.2,2,   31.56,2,   21.16,2,    0.00,2,    1.44,2,   0.008,2,   0.004,2,   0.001,2,  2178.9,2,  2330.8,2,   -999.0,9,  -999.00,   7.7413,2,    25.00,-999.000,9,-999.000,9,-999.000,9, -999.00,9,  -999.0,9,  -999.0,-999.000,9,-999.000,-999.000,9,   40.90,2,   25.90,2, 2733.80,-999.0000,9,-999.0000,9,-999.0000,9,-999.0000,9,-999.0000,9,-999.0000,9,   2.6314,     -999.0,9,     -999.0,9,     -999.0,9,     -999.0,9,        116,-999.000,-999.000,-999.000,     -999.0,9, -999.00,9, -999.00,9
33RO200306_02,       A16N,     116,          2,          5,          5,2,20030731,       0037,     8.0000,   -27.5008,       5086,  3248.8,   2.6133,  34.9126,2,  34.9122,2,    246.9,2,   247.3,2,   36.99,2,   21.54,2,    0.00,2,    1.48,2,   0.007,2,   0.005,2,   0.000,2,  2182.6,2,  2336.4,2,    770.3,2,    20.00,   7.7077,2,    25.00,-999.000,9,-999.000,9,-999.000,9, -999.00,9,  -999.0,9,  -999.0,-999.000,9,-999.000,-999.000,9,   40.81,2,   26.20,2, 3248.80,-999.0000,9,-999.0000,9,-999.0000,9,-999.0000,9,-999.0000,9,-999.0000,9,   2.3451,     -999.0,9,       0.00,2,       0.00,2,       0.08,2,        116,-999.000,-999.000,-999.000,      79.63,2,    0.94,2,    0.07,2
33RO200306_02,       A16N,     116,          2,          4,          4,2,20030731,       0037,     8.0000,   -27.5008,       5086,  3747.9,   2.4277,  34.8980,2,  34.8979,2,    250.9,2,   251.1,2,   40.30,6,   21.44,6,    0.00,6,    1.48,6,   0.022,2,   0.014,2,   0.001,2,  2183.3,2,  2337.3,2,   -999.0,9,  -999.00,   7.7286,2,    25.00,-999.000,9,-999.000,9,-999.000,9, -999.00,9,  -999.0,9,  -999.0,-999.000,9,-999.000,-999.000,9,   40.65,2,   25.71,2, 3747.90,-999.0000,9,-999.0000,9,-999.0000,9,-999.0000,9,-999.0000,9,-999.0000,9,   2.1100,     -999.0,9,     -999.0,9,     -999.0,9,     -999.0,9,        116,-999.000,-999.000,-999.000,     -999.0,9, -999.00,9, -999.00,9
33RO200306_02,       A16N,     116,          2,          3,          3,2,20030731,       0037,     8.0000,   -27.5008,       5086,  4249.5,   2.3179,  34.8846,2,  34.8841,2,    250.7,2,   250.3,2,   44.67,6,   21.89,6,    0.00,6,    1.51,6,   0.035,2,   0.023,2,   0.002,2,  2190.4,2,  2341.6,2,    776.1,6,    20.00,   7.7261,2,    25.00,-999.000,9,-999.000,9,-999.000,9, -999.00,9,  -999.0,9,  -999.0,-999.000,9,-999.000,-999.000,9,   41.71,2,   27.01,2, 4249.50,-999.0000,9,-999.0000,9,-999.0000,9,-999.0000,9,-999.0000,9,-999.0000,9,   1.9460,     -999.0,9,       0.00,2,       0.00,2,       0.02,2,        116,-999.000,-999.000,-999.000,     146.88,2,    3.23,2,    0.07,2
33RO200306_02,       A16N,     116,          2,          2,          2,2,20030731,       0037,     8.0000,   -27.5008,       5086,  4745.4,   2.3145,  34.8795,2,  34.8784,2,    246.0,2,   245.3,2,   48.45,6,   22.56,6,    0.00,6,    1.56,6,   0.020,6,   0.012,6,   0.001,6,  2201.3,2,  2351.0,2,    779.1,2,    20.00,   7.7247,2,    25.00,-999.000,9,-999.000,9,-999.000,9, -999.00,9,  -999.0,9,  -999.0,-999.000,9,-999.000,-999.000,9,   40.65,2,   26.76,2, 4745.40,-999.0000,9,-999.0000,9,-999.0000,9,-999.0000,9,-999.0000,9,-999.0000,9,   1.8832,     -999.0,9,     -999.0,9,     -999.0,9,     -999.0,9,        116,-999.000,-999.000,-999.000,     -999.0,9, -999.00,9, -999.00,9
33RO200306_02,       A16N,     116,          2,          1,          1,2,20030731,       0037,     8.0000,   -27.5008,       5086,  5161.7,   2.3262,  34.8757,2,  34.8758,2,    243.6,2,   243.0,2,   50.79,6,   22.96,6,    0.00,6,    1.58,6,   0.013,2,   0.012,2,   0.002,2,  2206.6,6,  2357.2,6,    767.3,2,    20.00,   7.7125,6,    25.00,-999.000,9,-999.000,9,-999.000,9, -999.00,9,  -999.0,9,  -999.0,-999.000,9,-999.000,-999.000,9,   41.14,2,   27.25,2, 5161.70,-999.0000,9,-999.0000,9,-999.0000,9,-999.0000,9,-999.0000,9,-999.0000,9,   1.8422,     -999.0,9,     -999.0,9,       0.00,2,       0.51,2,        116,-999.000,-999.000,-999.000,        0.0,2,    1.04,2,    0.13,2