BOTTLE,20230908CCHSIOCBG
EXPOCODE,SECT_ID,STNNBR,CASTNO,SAMPNO,BTLNBR,BTLNBR_FLAG_W,DATE,TIME,LATITUDE,LONGITUDE,DEPTH,CTDPRS,CTDTMP,CTDSAL,CTDSAL_FLAG_W,SALNTY,SALNTY_FLAG_W,CTDOXY,CTDOXY_FLAG_W,OXYGEN,OXYGEN_FLAG_W,SILCAT,SILCAT_FLAG_W,NITRAT,NITRAT_FLAG_W,NITRIT,NITRIT_FLAG_W,PHSPHT,PHSPHT_FLAG_W,CFC-11,CFC-11_FLAG_W,CFC-12,CFC-12_FLAG_W,CFC113,CFC113_FLAG_W,TCARBN,TCARBN_FLAG_W,ALKALI,ALKALI_FLAG_W,FCO2,FCO2_FLAG_W,FCO2TMP,PH_SWS,PH_SWS_FLAG_W,PH_TMP,TRITUM,TRITUM_FLAG_W,HELIUM,HELIUM_FLAG_W,DELHE3,DELHE3_FLAG_W,DELC13,DELC13_FLAG_W,DELC14,DELC14_FLAG_W,C14ERR,NEON,NEON_FLAG_W,NEONER,POC,POC_FLAG_W,DOC,DOC_FLAG_W,TDN,TDN_FLAG_W,CTDRAW,CDOM325,CDOM325_FLAG_W,CDOM340,CDOM340_FLAG_W,CDOM380,CDOM380_FLAG_W,CDOM412,CDOM412_FLAG_W,CDOMSL,CDOMSL_FLAG_W,CDOMSN,CDOMSN_FLAG_W,THETA,PON,PON_FLAG_W,HCFC-22,HCFC-22_FLAG_W,HCFC-142b,HCFC-142b_FLAG_W,HCFC-141b,HCFC-141b_FLAG_W,STNNBR_U,HELIER,DELHER,TRITER,CH3CL,CH3CL_FLAG_W,CH3BR,CH3BR_FLAG_W,CH3I,CH3I_FLAG_W
,,,,,,,,,,,METERS,DBAR,ITS-90,PSS-78,,PSS-78,,UMOL/KG,,UMOL/KG,,UMOL/KG,,UMOL/KG,,UMOL/KG,,UMOL/KG,,PMOL/KG,,PMOL/KG,,PMOL/KG,,UMOL/KG,,UMOL/KG,,UATM,,DEG C,,,DEG C,TU,,NMOL/KG,,PERCNT,,/MILLE,,/MILLE,,/MILLE,NMOL/KG,,NMOL/KG,UG/KG,,UMOL/KG,,UMOL/KG,,DBAR,1/M,,1/M,,1/M,,1/M,,1/NM,,1/NM,,DEG C,UMOL/L,,PMOL/KG,,PMOL/KG,,PMOL/KG,,,NMOL/KG,PERCNT,TU,PMOL/KG,,PMOL/KG,,PMOL/KG,
33RO200306_02,       A16N,     150,          1,         35,         35,2,20030809,       0545,    -6.0040,   -24.9995,       5808,     4.0,  26.2322,  35.9420,2,  35.9363,2,    201.4,2,   204.7,2,    0.87,2,    0.08,2,    0.01,2,    0.10,2,   1.757,2,   1.124,2,   0.147,2,  2020.1,6,  -999.0,9,   -999.0,9,  -999.00,-999.0000,9,  -999.00,-999.000,9,-999.000,9,-999.000,9,    1.71,2,    66.6,2,     3.0,-999.000,9,-999.000,-999.000,9,   73.90,2,    7.06,2,    4.00,-999.0000,9,-999.0000,9,-999.0000,9,-999.0000,9,-999.0000,9,-999.0000,9,  26.2313,     -999.0,9,     -999.0,9,     -999.0,9,     -999.0,9,        150,-999.000,-999.000,-999.000,     -999.0,9, -999.00,9, -999.00,9
33RO200306_02,       A16N,     150,          1,         33,         33,2,20030809,       0545,    -6.0040,   -24.9995,       5808,    25.7,  26.2381,  35.9413,2,  35.9346,2,    201.3,2,   204.6,2,    0.88,2,    0.08,2,    0.01,2,    0.09,2,-999.000,9,-999.000,9,-999.000,9,  2024.2,2,  2360.8,6,    293.2,6,    20.00,   7.8570,3,    25.00,-999.000,9,-999.000,9,-999.000,9, -999.00,9,  -999.0,9,  -999.0,-999.000,9,-999.000,-999.000,9,   74.22,2,    7.34,2,   25.70,-999.0000,9,-999.0000,9,-999.0000,9,-999.0000,9,-999.0000,9,-999.0000,9,  26.2323,     -999.0,9,     -999.0,9,     -999.0,9,     -999.0,9,        150,-999.000,-999.000,-999.000,     -999.0,9, -999.00,9, -999.00,9
33RO200306_02,       A16N,     150,          1,         32,         32,2,20030809,       0545,    -6.0040,   -24.9995,       5808,    49.8,  26.2470,  35.9421,2,  35.9352,2,    201.4,2,   204.7,2,    0.92,2,    0.03,2,    0.01,2,    0.09,2,   1.747,2,   1.117,2,   0.147,2,  2021.2,2,  2359.5,2,    293.6,2,    20.00,   8.0809,2,    25.00,-999.000,9,-999.000,9,-999.000,9, -999.00,9,  -999.0,9,  -999.0,-999.000,9,-999.000,-999.000,9,   73.25,2,    7.10,2,   49.80,-999.0000,9,-999.0000,9,-999.0000,9,-999.0000,9,-999.0000,9,-999.0000,9,  26.2358,     -999.0,9,     -999.0,9,     -999.0,9,     -999.0,9,        150,-999.000,-999.000,-999.000,     -999.0,9, -999.00,9, -999.00,9
33RO200306_02,       A16N,     150,          1,         31,         31,2,20030809,       0545,    -6.0040,   -24.9995,       5808,    76.2,  25.6463,  36.2788,2,  36.2593,2,    198.6,2,   200.7,2,    1.14,2,    0.14,2,    0.02,2,    0.16,2,-999.000,9,-999.000,9,-999.000,9,  2051.2,2,  2379.3,2,    318.9,2,    20.00,   8.0521,2,    25.00,-999.000,9,-999.000,9,-999.000,9, -999.00,9,  -999.0,9,  -999.0,-999.000,9,-999.000,-999.000,9,   70.08,2,    8.01,2,   76.20,-999.0000,9,-999.0000,9,-999.0000,9,-999.0000,9,-999.0000,9,-999.0000,9,  25.6294,     -999.0,9,     -999.0,9,     -999.0,9,     -999.0,9,        150,-999.000,-999.000,-999.000,     -999.0,9, -999.00,9, -999.00,9
33RO200306_02,       A16N,     150,          1,         30,         30,2,20030809,       0545,    -6.0040,   -24.9995,       5808,   100.3,  21.7446,  36.0952,2,  36.0942,2,    171.6,2,   164.6,2,    2.62,2,    4.80,2,    0.39,2,    0.56,2,   1.931,2,   1.176,2,   0.109,2,  2115.3,2,  2370.0,2,    447.3,3,    20.00,-999.0000,9,  -999.00,-999.000,9,-999.000,9,-999.000,9, -999.00,9,  -999.0,9,  -999.0,-999.000,9,-999.000,-999.000,9, -999.00,9, -999.00,9,  100.30,-999.0000,9,-999.0000,9,-999.0000,9,-999.0000,9,-999.0000,9,-999.0000,9,  21.7248,     -999.0,9,     -999.0,9,     -999.0,9,     -999.0,9,        150,-999.000,-999.000,-999.000,     -999.0,9, -999.00,9, -999.00,9
33RO200306_02,       A16N,     150,          1,         29,         29,2,20030809,       0545,    -6.0040,   -24.9995,       5808,   126.5,  17.9306,  35.9142,2,  35.9099,2,    121.8,2,   127.0,2,    4.30,2,   14.10,2,    0.03,2,    1.01,2,-999.000,9,-999.000,9,-999.000,9,  2158.1,2,  2356.3,2,   -999.0,9,  -999.00,   7.8185,2,    25.00,-999.000,9,-999.000,9,-999.000,9, -999.00,9,  -999.0,9,  -999.0,-999.000,9,-999.000,-999.000,9,   57.00,2,   18.21,2,  126.50,-999.0000,9,-999.0000,9,-999.0000,9,-999.0000,9,-999.0000,9,-999.0000,9,  17.9088,     -999.0,9,     -999.0,9,     -999.0,9,     -999.0,9,        150,-999.000,-999.000,-999.000,     -999.0,9, -999.00,9, -999.00,9
33RO200306_02,       A16N,     150,          1,         28,         28,2,20030809,       0545,    -6.0040,   -24.9995,       5808,   150.5,  15.1975,  35.5904,2,  35.5858,2,    112.7,2,   108.6,2,    6.13,2,   19.03,2,    0.02,2,    1.27,2,   1.894,2,   1.086,2,   0.053,2,  2176.8,2,  2337.4,2,    735.3,2,    20.00,   7.7417,2,    25.00,-999.000,9,-999.000,9,-999.000,9, -999.00,9,  -999.0,9,  -999.0,-999.000,9,-999.000,-999.000,9, -999.00,9, -999.00,9,  150.50,-999.0000,9,-999.0000,9,-999.0000,9,-999.0000,9,-999.0000,9,-999.0000,9,  15.1744,     -999.0,9,     -999.0,9,     -999.0,9,     -999.0,9,        150,-999.000,-999.000,-999.000,     -999.0,9, -999.00,9, -999.00,9
33RO200306_02,       A16N,     150,          1,         27,         27,2,20030809,       0545,    -6.0040,   -24.9995,       5808,   200.0,  11.7680,  35.1357,2,  35.1364,2,    101.6,2,   104.0,2,    9.81,2,   25.26,2,    0.01,2,    1.61,2,   1.528,2,   0.836,2,   0.020,2,  2193.4,2,  2314.7,2,    928.8,3,    20.00,   7.6431,2,    25.00,-999.000,9,-999.000,9,-999.000,9, -999.00,9,  -999.0,9,  -999.0,-999.000,9,-999.000,-999.000,9,   47.64,2,   27.86,2,  200.00,-999.0000,9,-999.0000,9,-999.0000,9,-999.0000,9,-999.0000,9,-999.0000,9,  11.7422,     -999.0,9,     -999.0,9,     -999.0,9,     -999.0,9,        150,-999.000,-999.000,-999.000,     -999.0,9, -999.00,9, -999.00,9
33RO200306_02,       A16N,     150,          1,         26,         26,2,20030809,       0545,    -6.0040,   -24.9995,       5808,   251.1,  10.2369,  34.9473,2,  34.9396,2,     90.4,2,    91.2,2,   12.99,2,   29.73,2,    0.01,2,    1.85,2,   1.077,2,   0.571,2,   0.011,2,  2210.5,2,  2305.3,2,   -999.0,9,  -999.00,   7.5786,2,    25.00,-999.000,9,-999.000,9,-999.000,9, -999.00,9,  -999.0,9,  -999.0,-999.000,9,-999.000,-999.000,9,   45.12,2,   32.82,2,  251.10,-999.0000,9,-999.0000,9,-999.0000,9,-999.0000,9,-999.0000,9,-999.0000,9,  10.2073,     -999.0,9,     -999.0,9,     -999.0,9,     -999.0,9,        150,-999.000,-999.000,-999.000,     -999.0,9, -999.00,9, -999.00,9
33RO200306_02,       A16N,     150,          1,         25,         25,2,20030809,       0545,    -6.0040,   -24.9995,       5808,   300.3,   9.5384,  34.8711,2,  34.8690,2,     83.9,2,    86.3,2,   14.56,2,   31.64,2,    0.01,2,    1.97,2,   0.834,2,   0.449,2,   0.009,2,  2217.3,2,  2298.6,2,   1188.3,2,    20.00,   7.5537,2,    25.00,-999.000,9,-999.000,9,-999.000,9, -999.00,9,  -999.0,9,  -999.0,-999.000,9,-999.000,-999.000,9,   44.22,2,   33.88,2,  300.30,-999.0000,9,-999.0000,9,-999.0000,9,-999.0000,9,-999.0000,9,-999.0000,9,   9.5044,     -999.0,9,     -999.0,9,     -999.0,9,     -999.0,9,        150,-999.000,-999.000,-999.000,     -999.0,9, -999.00,9, -999.00,9
33RO200306_02,       A16N,     150,          1,         24,         24,2,20030809,       0545,    -6.0040,   -24.9995,       5808,   349.7,   9.0720,  34.8223,2,  34.8149,2,     83.8,2,    83.6,2,   15.76,2,   33.10,2,    0.01,2,    2.05,2,-999.000,9,-999.000,9,-999.000,9,  2219.4,2,  2300.7,2,   1245.3,2,    20.00,   7.5274,2,    25.00,-999.000,9,-999.000,9,-999.000,9, -999.00,9,  -999.0,9,  -999.0,-999.000,9,-999.000,-999.000,9,   44.07,2,   36.00,2,  349.70,-999.0000,9,-999.0000,9,-999.0000,9,-999.0000,9,-999.0000,9,-999.0000,9,   9.0336,     -999.0,9,     -999.0,9,     -999.0,9,     -999.0,9,        150,-999.000,-999.000,-999.000,     -999.0,9, -999.00,9, -999.00,9
33RO200306_02,       A16N,     150,          1,         23,         23,2,20030809,       0545,    -6.0040,   -24.9995,       5808,   399.6,   8.4604,  34.7633,2,  34.7589,2,     79.7,2,    79.5,2,   17.49,2,   34.85,2,    0.01,2,    2.15,2,   0.489,2,   0.269,2,   0.005,2,  2226.1,2,  2301.3,2,   1331.1,2,    20.00,   7.5189,2,    25.00,-999.000,9,-999.000,9,-999.000,9, -999.00,9,  -999.0,9,  -999.0,-999.000,9,-999.000,-999.000,9,   44.15,2,   37.41,2,  399.60,-999.0000,9,-999.0000,9,-999.0000,9,-999.0000,9,-999.0000,9,-999.0000,9,   8.4182,     -999.0,9,     -999.0,9,     -999.0,9,     -999.0,9,        150,-999.000,-999.000,-999.000,     -999.0,9, -999.00,9, -999.00,9
33RO200306_02,       A16N,     150,          1,         22,         22,2,20030809,       0545,    -6.0040,   -24.9995,       5808,   500.3,   7.1124,  34.6322,2,  34.6278,2,    101.5,2,   101.7,2,   20.86,2,   35.42,2,    0.01,2,    2.24,2,   0.379,2,   0.211,2,   0.009,2,  2220.6,2,  2304.0,2,   1299.1,2,    20.00,   7.5099,2,    25.00,-999.000,9,-999.000,9,-999.000,9, -999.00,9,  -999.0,9,  -999.0,-999.000,9,-999.000,-999.000,9,   43.34,2,   38.26,3,  500.30,-999.0000,9,-999.0000,9,-999.0000,9,-999.0000,9,-999.0000,9,-999.0000,9,   7.0644,     -999.0,9,     -999.0,9,     -999.0,9,     -999.0,9,        150,-999.000,-999.000,-999.000,     -999.0,9, -999.00,9, -999.00,9
33RO200306_02,       A16N,     150,          1,         21,         21,2,20030809,       0545,    -6.0040,   -24.9995,       5808,   600.3,   6.1088,  34.5450,2,  34.5430,2,    122.7,2,   124.2,2,   23.90,2,   35.09,2,    0.01,2,    2.26,2,   0.310,2,   0.173,2,   0.008,2,  2216.3,2,  2297.8,2,   1241.4,2,    20.00,   7.5340,2,    25.00,-999.000,9,-999.000,9,-999.000,9, -999.00,9,  -999.0,9,  -999.0,-999.000,9,-999.000,-999.000,9,   42.85,2,   37.69,2,  600.30,-999.0000,9,-999.0000,9,-999.0000,9,-999.0000,9,-999.0000,9,-999.0000,9,   6.0554,     -999.0,9,     -999.0,9,     -999.0,9,     -999.0,9,        150,-999.000,-999.000,-999.000,     -999.0,9, -999.00,9, -999.00,9
33RO200306_02,       A16N,     150,          1,         20,         20,2,20030809,       0545,    -6.0040,   -24.9995,       5808,   700.0,   5.2177,  34.4807,2,  34.4772,2,    145.9,2,   148.1,2,   27.74,2,   34.54,2,    0.01,2,    2.28,2,   0.316,2,   0.164,2,   0.008,2,  2211.2,2,  2299.8,2,   -999.0,9,  -999.00,   7.5527,2,    25.00,-999.000,9,-999.000,9,-999.000,9, -999.00,9,  -999.0,9,  -999.0,-999.000,9,-999.000,-999.000,9,   42.03,2,   37.62,2,  700.00,-999.0000,9,-999.0000,9,-999.0000,9,-999.0000,9,-999.0000,9,-999.0000,9,   5.1598,     -999.0,9,     -999.0,9,     -999.0,9,     -999.0,9,        150,-999.000,-999.000,-999.000,     -999.0,9, -999.00,9, -999.00,9
33RO200306_02,       A16N,     150,          1,         19,         19,2,20030809,       0545,    -6.0040,   -24.9995,       5808,   850.8,   4.3902,  34.4664,2,  34.4659,2,    165.9,2,   165.8,2,   33.27,2,   34.04,2,    0.01,2,    2.27,2,   0.244,2,   0.128,2,   0.006,2,  2210.7,2,  2304.0,2,   1122.7,2,    20.00,   7.5672,2,    25.00,-999.000,9,-999.000,9,-999.000,9, -999.00,9,  -999.0,9,  -999.0,-999.000,9,-999.000,-999.000,9,   42.20,2,   37.04,2,  850.80,-999.0000,9,-999.0000,9,-999.0000,9,-999.0000,9,-999.0000,9,-999.0000,9,   4.3243,     -999.0,9,     -999.0,9,     -999.0,9,     -999.0,9,        150,-999.000,-999.000,-999.000,     -999.0,9, -999.00,9, -999.00,9
33RO200306_02,       A16N,     150,          1,         18,         18,2,20030809,       0545,    -6.0040,   -24.9995,       5808,  1000.4,   4.0022,  34.5533,2,  34.5511,2,    171.9,2,   170.7,2,   36.13,2,   33.04,2,    0.00,2,    2.21,2,   0.087,2,   0.046,2,   0.002,2,  2214.9,6,  2310.8,2,   1096.3,2,    20.00,   7.5810,2,    25.00,-999.000,9,-999.000,9,-999.000,9, -999.00,9,  -999.0,9,  -999.0,-999.000,9,-999.000,-999.000,9,   42.12,2,   35.80,2, 1000.40,-999.0000,9,-999.0000,9,-999.0000,9,-999.0000,9,-999.0000,9,-999.0000,9,   3.9264,     -999.0,9,     -999.0,9,     -999.0,9,     -999.0,9,        150,-999.000,-999.000,-999.000,     -999.0,9, -999.00,9, -999.00,9
33RO200306_02,       A16N,     150,          1,         17,         17,2,20030809,       0545,    -6.0040,   -24.9995,       5808,  1148.9,   4.2372,  34.7453,2,  34.7401,2,    181.0,2,   170.4,2,   29.71,2,   29.49,2,    0.00,2,    1.98,2,   0.023,2,   0.017,2,   0.000,2,  2203.8,2,  2315.4,2,   -999.0,9,  -999.00,   7.6238,2,    25.00,-999.000,9,-999.000,9,-999.000,9, -999.00,9,  -999.0,9,  -999.0,-999.000,9,-999.000,-999.000,9,   42.60,2,   32.43,2, 1148.90,-999.0000,9,-999.0000,9,-999.0000,9,-999.0000,9,-999.0000,9,-999.0000,9,   4.1465,     -999.0,9,     -999.0,9,     -999.0,9,     -999.0,9,        150,-999.000,-999.000,-999.000,     -999.0,9, -999.00,9, -999.00,9
33RO200306_02,       A16N,     150,          1,         16,         16,2,20030809,       0545,    -6.0040,   -24.9995,       5808,  1301.5,   4.3796,  34.8722,2,  34.8689,2,    198.7,2,   198.7,2,   23.91,2,   26.13,2,    0.00,2,    1.73,2,   0.062,2,   0.033,2,   0.005,2,  2190.3,2,  2316.9,2,    906.4,2,    20.00,   7.6568,2,    25.00,-999.000,9,-999.000,9,-999.000,9, -999.00,9,  -999.0,9,  -999.0,-999.000,9,-999.000,-999.000,9,   42.60,2,   29.24,2, 1301.50,-999.0000,9,-999.0000,9,-999.0000,9,-999.0000,9,-999.0000,9,-999.0000,9,   4.2737,     -999.0,9,     -999.0,9,     -999.0,9,     -999.0,9,        150,-999.000,-999.000,-999.000,     -999.0,9, -999.00,9, -999.00,9
33RO200306_02,       A16N,     150,          1,         15,         15,2,20030809,       0545,    -6.0040,   -24.9995,       5808,  1396.8,   4.3155,  34.9159,2,  34.9157,2,    207.8,2,   211.9,2,   21.78,2,   24.29,2,    0.00,2,    1.59,2,   0.066,2,   0.041,2,   0.002,2,  2183.2,2,  2318.6,2,   -999.0,9,  -999.00,   7.6766,2,    25.00,-999.000,9,-999.000,9,-999.000,9, -999.00,9,  -999.0,9,  -999.0,-999.000,9,-999.000,-999.000,9,   41.71,2,   27.87,2, 1396.80,-999.0000,9,-999.0000,9,-999.0000,9,-999.0000,9,-999.0000,9,-999.0000,9,   4.2014,     -999.0,9,     -999.0,9,     -999.0,9,     -999.0,9,        150,-999.000,-999.000,-999.000,     -999.0,9, -999.00,9, -999.00,9
33RO200306_02,       A16N,     150,          1,         14,         14,2,20030809,       0545,    -6.0040,   -24.9995,       5808,  1601.9,   4.1175,  34.9678,2,  34.9656,2,    231.0,2,   234.2,2,   19.05,2,   21.56,2,    0.00,2,    1.41,2,   0.107,2,   0.060,2,   0.004,2,  2173.4,2,  2318.7,2,    787.5,2,    20.00,   7.7186,2,    25.00,-999.000,9,-999.000,9,-999.000,9, -999.00,9,  -999.0,9,  -999.0,-999.000,9,-999.000,-999.000,9,   42.12,2,   26.35,2, 1601.90,-999.0000,9,-999.0000,9,-999.0000,9,-999.0000,9,-999.0000,9,-999.0000,9,   3.9865,     -999.0,9,     -999.0,9,     -999.0,9,     -999.0,9,        150,-999.000,-999.000,-999.000,     -999.0,9, -999.00,9, -999.00,9
33RO200306_02,       A16N,     150,          1,         13,         13,2,20030809,       0545,    -6.0040,   -24.9995,       5808,  1800.1,   3.7920,  34.9679,2,  34.9651,2,    240.6,2,   242.8,2,   20.46,2,   20.83,2,    0.00,2,    1.38,2,   0.067,2,   0.041,2,   0.002,2,  2169.6,2,  2320.5,2,    768.4,2,    20.00,   7.7127,2,    25.00,-999.000,9,-999.000,9,-999.000,9, -999.00,9,  -999.0,9,  -999.0,-999.000,9,-999.000,-999.000,9,   41.58,2,   25.47,2, 1800.10,-999.0000,9,-999.0000,9,-999.0000,9,-999.0000,9,-999.0000,9,-999.0000,9,   3.6466,     -999.0,9,     -999.0,9,     -999.0,9,     -999.0,9,        150,-999.000,-999.000,-999.000,     -999.0,9, -999.00,9, -999.00,9
33RO200306_02,       A16N,     150,          1,         12,         12,2,20030809,       0545,    -6.0040,   -24.9995,       5808,  2000.1,   3.4409,  34.9529,2,  34.9511,2,    243.3,2,   246.1,2,   24.89,2,   21.05,2,    0.00,2,    1.39,2,   0.032,2,   0.019,2,   0.000,2,  2172.3,2,  2323.9,2,    764.0,2,    20.00,   7.7164,2,    25.00,-999.000,9,-999.000,9,-999.000,9, -999.00,9,  -999.0,9,  -999.0,-999.000,9,-999.000,-999.000,9,   41.05,2,   24.46,2, 2000.10,-999.0000,9,-999.0000,9,-999.0000,9,-999.0000,9,-999.0000,9,-999.0000,9,   3.2817,     -999.0,9,     -999.0,9,     -999.0,9,     -999.0,9,        150,-999.000,-999.000,-999.000,     -999.0,9, -999.00,9, -999.00,9
33RO200306_02,       A16N,     150,          1,         11,         11,2,20030809,       0545,    -6.0040,   -24.9995,       5808,  2200.2,   3.1710,  34.9394,2,  34.9380,2,    244.0,2,   245.2,2,   29.40,2,   21.28,2,    0.00,2,    1.40,2,   0.021,2,   0.014,2,   0.001,2,  2184.9,2,  2328.6,2,   -999.0,9,  -999.00,   7.7073,2,    25.00,-999.000,9,-999.000,9,-999.000,9, -999.00,9,  -999.0,9,  -999.0,-999.000,9,-999.000,-999.000,9,   40.98,2,   24.96,2, 2200.20,-999.0000,9,-999.0000,9,-999.0000,9,-999.0000,9,-999.0000,9,-999.0000,9,   2.9971,     -999.0,9,     -999.0,9,     -999.0,9,     -999.0,9,        150,-999.000,-999.000,-999.000,     -999.0,9, -999.00,9, -999.00,9
33RO200306_02,       A16N,     150,          1,         10,         10,2,20030809,       0545,    -6.0040,   -24.9995,       5808,  2501.3,   2.8878,  34.9206,2,  34.9183,2,    241.7,2,   242.9,2,   35.78,2,   22.13,2,    0.00,2,    1.47,2,   0.008,2,   0.008,2,   0.002,2,  2182.0,2,  2334.6,2,    778.6,2,    20.00,   7.7692,2,    25.00,-999.000,9,-999.000,9,-999.000,9, -999.00,9,  -999.0,9,  -999.0,-999.000,9,-999.000,-999.000,9,   40.56,2,   27.12,2, 2501.30,-999.0000,9,-999.0000,9,-999.0000,9,-999.0000,9,-999.0000,9,-999.0000,9,   2.6899,     -999.0,9,     -999.0,9,     -999.0,9,     -999.0,9,        150,-999.000,-999.000,-999.000,     -999.0,9, -999.00,9, -999.00,9
33RO200306_02,       A16N,     150,          1,          9,          9,2,20030809,       0545,    -6.0040,   -24.9995,       5808,  2800.6,   2.7375,  34.9162,2,  34.9147,2,    243.8,2,   245.2,2,   37.52,2,   21.98,2,    0.00,2,    1.46,2,   0.009,2,   0.006,2,   0.000,2,  2183.4,2,  2337.0,2,   -999.0,9,  -999.00,   7.6906,2,    25.00,-999.000,9,-999.000,9,-999.000,9, -999.00,9,  -999.0,9,  -999.0,-999.000,9,-999.000,-999.000,9,   40.65,2,   26.92,2, 2800.60,-999.0000,9,-999.0000,9,-999.0000,9,-999.0000,9,-999.0000,9,-999.0000,9,   2.5129,     -999.0,9,     -999.0,9,     -999.0,9,     -999.0,9,        150,-999.000,-999.000,-999.000,     -999.0,9, -999.00,9, -999.00,9
33RO200306_02,       A16N,     150,          1,          8,          8,2,20030809,       0545,    -6.0040,   -24.9995,       5808,  3198.7,   2.6378,  34.9191,2,  34.9164,2,    252.5,2,   248.7,2,   34.30,2,   20.85,2,    0.00,2,    1.39,2,   0.036,2,   0.019,2,   0.002,2,  2176.1,2,  2331.1,2,    755.1,2,    20.00,   7.7367,2,    25.00,-999.000,9,-999.000,9,-999.000,9, -999.00,9,  -999.0,9,  -999.0,-999.000,9,-999.000,-999.000,9,   40.36,2,   25.48,2, 3198.70,-999.0000,9,-999.0000,9,-999.0000,9,-999.0000,9,-999.0000,9,-999.0000,9,   2.3743,     -999.0,9,     -999.0,9,     -999.0,9,     -999.0,9,        150,-999.000,-999.000,-999.000,     -999.0,9, -999.00,9, -999.00,9