BOTTLE,20230908CCHSIOCBG
EXPOCODE,SECT_ID,STNNBR,CASTNO,SAMPNO,BTLNBR,BTLNBR_FLAG_W,DATE,TIME,LATITUDE,LONGITUDE,DEPTH,CTDPRS,CTDTMP,CTDSAL,CTDSAL_FLAG_W,SALNTY,SALNTY_FLAG_W,CTDOXY,CTDOXY_FLAG_W,OXYGEN,OXYGEN_FLAG_W,SILCAT,SILCAT_FLAG_W,NITRAT,NITRAT_FLAG_W,NITRIT,NITRIT_FLAG_W,PHSPHT,PHSPHT_FLAG_W,CFC-11,CFC-11_FLAG_W,CFC-12,CFC-12_FLAG_W,CFC113,CFC113_FLAG_W,TCARBN,TCARBN_FLAG_W,ALKALI,ALKALI_FLAG_W,FCO2,FCO2_FLAG_W,FCO2TMP,PH_SWS,PH_SWS_FLAG_W,PH_TMP,TRITUM,TRITUM_FLAG_W,HELIUM,HELIUM_FLAG_W,DELHE3,DELHE3_FLAG_W,DELC13,DELC13_FLAG_W,DELC14,DELC14_FLAG_W,C14ERR,NEON,NEON_FLAG_W,NEONER,POC,POC_FLAG_W,DOC,DOC_FLAG_W,TDN,TDN_FLAG_W,CTDRAW,CDOM325,CDOM325_FLAG_W,CDOM340,CDOM340_FLAG_W,CDOM380,CDOM380_FLAG_W,CDOM412,CDOM412_FLAG_W,CDOMSL,CDOMSL_FLAG_W,CDOMSN,CDOMSN_FLAG_W,THETA,PON,PON_FLAG_W,HCFC-22,HCFC-22_FLAG_W,HCFC-142b,HCFC-142b_FLAG_W,HCFC-141b,HCFC-141b_FLAG_W,STNNBR_U,HELIER,DELHER,TRITER,CH3CL,CH3CL_FLAG_W,CH3BR,CH3BR_FLAG_W,CH3I,CH3I_FLAG_W
,,,,,,,,,,,METERS,DBAR,ITS-90,PSS-78,,PSS-78,,UMOL/KG,,UMOL/KG,,UMOL/KG,,UMOL/KG,,UMOL/KG,,UMOL/KG,,PMOL/KG,,PMOL/KG,,PMOL/KG,,UMOL/KG,,UMOL/KG,,UATM,,DEG C,,,DEG C,TU,,NMOL/KG,,PERCNT,,/MILLE,,/MILLE,,/MILLE,NMOL/KG,,NMOL/KG,UG/KG,,UMOL/KG,,UMOL/KG,,DBAR,1/M,,1/M,,1/M,,1/M,,1/NM,,1/NM,,DEG C,UMOL/L,,PMOL/KG,,PMOL/KG,,PMOL/KG,,,NMOL/KG,PERCNT,TU,PMOL/KG,,PMOL/KG,,PMOL/KG,
33RO200306_02,       A16N,     141,          1,         35,         35,2,20030806,       1321,    -2.0000,   -25.0003,       4951,     2.9,  26.4084,  36.0475,2,  36.0522,2,    196.1,2,   204.3,2,    1.11,2,    0.20,2,    0.00,2,    0.16,2,   1.777,2,   1.130,2,   0.155,2,  2040.2,6,  2369.6,6,    312.2,2,    20.00,   8.0456,6,    25.00,   0.513,2,-999.000,9,-999.000,9,    1.66,2,    68.9,2,     3.0,-999.000,9,-999.000,-999.000,9,   70.98,2,    7.99,2,    2.90,-999.0000,9,-999.0000,9,-999.0000,9,-999.0000,9,-999.0000,9,-999.0000,9,  26.4077,     -999.0,9,       9.09,2,       0.29,2,       2.67,2,        141,-999.000,-999.000,   0.010,     107.03,2,     0.0,2,    11.8,2
33RO200306_02,       A16N,     141,          1,         33,         33,2,20030806,       1321,    -2.0000,   -25.0003,       4951,    19.4,  26.2300,  36.0409,2,  36.0464,2,    195.1,2,   204.6,2,    1.12,2,    0.25,2,    0.00,2,    0.14,2,   1.777,2,   1.138,2,   0.154,2,  2039.7,2,  2365.9,2,    311.7,2,    20.00,   8.0477,2,    25.00,-999.000,9,-999.000,9,-999.000,9, -999.00,9,  -999.0,9,  -999.0,-999.000,9,-999.000,-999.000,9,   67.88,2,    8.41,2,   19.40,-999.0000,9,-999.0000,9,-999.0000,9,-999.0000,9,-999.0000,9,-999.0000,9,  26.2256,     -999.0,9,       7.74,2,       0.20,2,       2.67,2,        141,-999.000,-999.000,-999.000,     149.46,2,     0.0,2,    9.68,2
33RO200306_02,       A16N,     141,          1,         32,         32,2,20030806,       1321,    -2.0000,   -25.0003,       4951,    39.1,  26.1501,  36.0672,2,  36.0934,2,    195.5,2,   204.3,2,    1.18,2,    0.23,2,    0.00,2,    0.15,2,   1.797,6,   1.145,6,   0.152,6,  2044.0,2,  2368.4,2,    314.4,2,    20.00,   8.0540,2,    25.00,-999.000,9,-999.000,9,-999.000,9, -999.00,9,  -999.0,9,  -999.0,-999.000,9,-999.000,-999.000,9,   69.68,2,    8.06,2,   39.10,-999.0000,9,-999.0000,9,-999.0000,9,-999.0000,9,-999.0000,9,-999.0000,9,  26.1413,     -999.0,9,     -999.0,9,     -999.0,9,     -999.0,9,        141,-999.000,-999.000,-999.000,     -999.0,9, -999.00,9, -999.00,9
33RO200306_02,       A16N,     141,          1,         31,         31,2,20030806,       1321,    -2.0000,   -25.0003,       4951,    64.5,  21.2836,  36.0019,2,  35.9895,2,    167.0,2,   160.8,2,    3.11,2,    6.50,2,    0.32,2,    0.63,2,   1.939,2,   1.165,2,   0.100,2,  2118.7,2,  2361.0,2,    463.6,2,    20.00,   7.9229,2,    25.00,-999.000,9,-999.000,9,-999.000,9, -999.00,9,  -999.0,9,  -999.0,-999.000,9,-999.000,-999.000,9,   61.30,2,   14.26,2,   64.50,-999.0000,9,-999.0000,9,-999.0000,9,-999.0000,9,-999.0000,9,-999.0000,9,  21.2711,     -999.0,9,       6.11,2,       0.14,2,       1.77,2,        141,-999.000,-999.000,-999.000,      162.8,2,    0.04,2,    5.07,2
33RO200306_02,       A16N,     141,          1,         30,         30,2,20030806,       1321,    -2.0000,   -25.0003,       4951,    89.9,  16.4610,  35.6182,2,  35.6099,2,    117.3,2,   104.6,2,    5.91,2,   18.61,2,    0.14,2,    1.23,2,   1.951,2,   1.110,2,   0.049,2,  2175.0,2,  2333.6,2,    723.3,2,    20.00,   7.7532,2,    25.00,-999.000,9,-999.000,9,-999.000,9, -999.00,9,  -999.0,9,  -999.0,-999.000,9,-999.000,-999.000,9, -999.00,9, -999.00,9,   89.90,-999.0000,9,-999.0000,9,-999.0000,9,-999.0000,9,-999.0000,9,-999.0000,9,  16.4465,     -999.0,9,     -999.0,9,     -999.0,9,     -999.0,9,        141,-999.000,-999.000,-999.000,     -999.0,9, -999.00,9, -999.00,9
33RO200306_02,       A16N,     141,          1,         29,         29,2,20030806,       1321,    -2.0000,   -25.0003,       4951,   114.6,  15.0007,  35.5015,2,  35.4960,2,     96.9,2,    96.9,2,    7.10,2,   21.68,2,    0.03,2,    1.37,2,   1.931,2,   1.092,2,   0.029,2,  2186.2,2,  2328.5,2,    809.3,2,    20.00,   7.7075,2,    25.00,-999.000,9,-999.000,9,-999.000,9, -999.00,9,  -999.0,9,  -999.0,-999.000,9,-999.000,-999.000,9,   54.47,2,   25.17,2,  114.60,-999.0000,9,-999.0000,9,-999.0000,9,-999.0000,9,-999.0000,9,-999.0000,9,  14.9833,     -999.0,9,       5.97,2,       0.13,2,       2.14,2,        141,-999.000,-999.000,-999.000,       89.0,2,    1.68,2,    2.58,2
33RO200306_02,       A16N,     141,          1,         28,         28,2,20030806,       1321,    -2.0000,   -25.0003,       4951,   150.0,  14.1887,  35.4248,2,  35.4253,2,     93.4,2,    94.9,2,    8.04,2,   22.83,2,    0.01,2,    1.43,2,   1.842,2,   1.022,2,   0.019,2,  2189.6,2,  2328.5,2,    844.3,2,    20.00,   7.6856,2,    25.00,-999.000,9,-999.000,9,-999.000,9, -999.00,9,  -999.0,9,  -999.0,-999.000,9,-999.000,-999.000,9, -999.00,9, -999.00,9,  150.00,-999.0000,9,-999.0000,9,-999.0000,9,-999.0000,9,-999.0000,9,-999.0000,9,  14.1668,     -999.0,9,     -999.0,9,     -999.0,9,     -999.0,9,        141,-999.000,-999.000,-999.000,     -999.0,9, -999.00,9, -999.00,9
33RO200306_02,       A16N,     141,          1,         27,         27,2,20030806,       1321,    -2.0000,   -25.0003,       4951,   185.3,  13.8371,  35.3804,2,  35.3643,2,     96.4,2,    97.5,2,    8.42,2,   23.16,2,    0.01,2,    1.45,2,   1.783,2,   0.989,2,   0.018,2,  2187.6,2,  2325.7,2,    856.4,2,    20.00,   7.6799,2,    25.00,-999.000,9,-999.000,9,-999.000,9, -999.00,9,  -999.0,9,  -999.0,-999.000,9,-999.000,-999.000,9,   47.64,2,   26.54,2,  185.30,-999.0000,9,-999.0000,9,-999.0000,9,-999.0000,9,-999.0000,9,-999.0000,9,  13.8105,     -999.0,9,       9.96,2,       0.10,2,       5.11,2,        141,-999.000,-999.000,-999.000,      60.67,2,    0.94,2,    0.67,2
33RO200306_02,       A16N,     141,          1,         26,         26,2,20030806,       1321,    -2.0000,   -25.0003,       4951,   219.8,  13.0593,  35.2813,2,  35.2807,2,     86.9,2,    88.4,2,    9.34,2,   25.27,2,    0.01,2,    1.56,2,-999.000,9,-999.000,9,-999.000,9,  2195.9,2,  2321.0,2,    933.8,6,    20.00,   7.6494,2,    25.00,-999.000,9,-999.000,9,-999.000,9, -999.00,9,  -999.0,9,  -999.0,-999.000,9,-999.000,-999.000,9,   48.13,2,   28.95,2,  219.80,-999.0000,9,-999.0000,9,-999.0000,9,-999.0000,9,-999.0000,9,-999.0000,9,  13.0289,     -999.0,9,     -999.0,9,     -999.0,9,     -999.0,9,        141,-999.000,-999.000,-999.000,     -999.0,9, -999.00,9, -999.00,9
33RO200306_02,       A16N,     141,          1,         25,         25,2,20030806,       1321,    -2.0000,   -25.0003,       4951,   254.2,  12.6356,  35.2245,2,  35.2261,2,     90.7,2,    93.9,2,    9.65,2,   25.52,2,    0.01,2,    1.57,2,   1.590,2,   0.872,2,   0.017,2,  2194.8,2,  2318.7,2,    938.6,2,    20.00,   7.6436,2,    25.00,-999.000,9,-999.000,9,-999.000,9, -999.00,9,  -999.0,9,  -999.0,-999.000,9,-999.000,-999.000,9,   46.91,2,   28.89,2,  254.20,-999.0000,9,-999.0000,9,-999.0000,9,-999.0000,9,-999.0000,9,-999.0000,9,  12.6011,     -999.0,9,       3.17,2,       0.05,2,       1.50,2,        141,-999.000,-999.000,-999.000,      58.21,2,    1.09,2,    0.55,2
33RO200306_02,       A16N,     141,          1,         24,         24,2,20030806,       1321,    -2.0000,   -25.0003,       4951,   301.0,  11.9503,  35.1375,2,  35.1358,2,     97.5,2,    99.7,2,   10.21,2,   25.86,2,    0.01,2,    1.60,2,   1.544,2,   0.833,2,   0.015,2,  2193.7,2,  2315.9,2,    951.7,2,    20.00,   7.6374,2,    25.00,-999.000,9,-999.000,9,-999.000,9, -999.00,9,  -999.0,9,  -999.0,-999.000,9,-999.000,-999.000,9,   47.24,2,   29.20,2,  301.00,-999.0000,9,-999.0000,9,-999.0000,9,-999.0000,9,-999.0000,9,-999.0000,9,  11.9109,     -999.0,9,     -999.0,9,     -999.0,9,     -999.0,9,        141,-999.000,-999.000,-999.000,     -999.0,9, -999.00,9, -999.00,9
33RO200306_02,       A16N,     141,          1,         23,         23,2,20030806,       1321,    -2.0000,   -25.0003,       4951,   350.4,  10.5033,  34.9750,2,  34.9723,2,     82.5,2,    79.3,2,   13.18,2,   31.03,2,    0.00,2,    1.87,2,   1.046,2,   0.564,2,   0.011,2,  2214.3,2,  2307.9,2,   1161.1,2,    20.00,   7.5661,2,    25.00,-999.000,9,-999.000,9,-999.000,9, -999.00,9,  -999.0,9,  -999.0,-999.000,9,-999.000,-999.000,9,   48.70,2,   34.25,2,  350.40,-999.0000,9,-999.0000,9,-999.0000,9,-999.0000,9,-999.0000,9,-999.0000,9,  10.4611,     -999.0,9,       3.42,2,       0.00,2,       1.63,2,        141,-999.000,-999.000,-999.000,       25.7,2,    0.72,2,    1.07,2
33RO200306_02,       A16N,     141,          1,         22,         22,2,20030806,       1321,    -2.0000,   -25.0003,       4951,   400.7,   9.3114,  34.8502,2,  34.8458,2,     68.3,2,    68.2,2,   15.97,2,   34.65,2,    0.01,2,    2.08,2,-999.000,9,-999.000,9,-999.000,9,  2229.7,2,  2302.1,2,   1335.4,2,    20.00,   7.5045,2,    25.00,-999.000,9,-999.000,9,-999.000,9, -999.00,9,  -999.0,9,  -999.0,-999.000,9,-999.000,-999.000,9,   43.90,2,   37.75,2,  400.70,-999.0000,9,-999.0000,9,-999.0000,9,-999.0000,9,-999.0000,9,-999.0000,9,   9.2665,     -999.0,9,     -999.0,9,     -999.0,9,     -999.0,9,        141,-999.000,-999.000,-999.000,     -999.0,9, -999.00,9, -999.00,9
33RO200306_02,       A16N,     141,          1,         21,         21,2,20030806,       1321,    -2.0000,   -25.0003,       4951,   449.7,   7.7153,  34.6711,2,  34.6678,2,    113.3,2,   117.7,2,   18.33,2,   32.86,2,    0.00,2,    2.04,2,   0.797,2,   0.419,2,   0.015,2,  2210.5,2,  2300.2,2,   1168.9,2,    20.00,   7.5648,2,    25.00,-999.000,9,-999.000,9,-999.000,9, -999.00,9,  -999.0,9,  -999.0,-999.000,9,-999.000,-999.000,9,   43.74,2,   36.71,2,  449.70,-999.0000,9,-999.0000,9,-999.0000,9,-999.0000,9,-999.0000,9,-999.0000,9,   7.6702,     -999.0,9,     -999.0,9,     -999.0,9,     -999.0,9,        141,-999.000,-999.000,-999.000,     -999.0,9, -999.00,9, -999.00,9
33RO200306_02,       A16N,     141,          1,         20,         20,2,20030806,       1321,    -2.0000,   -25.0003,       4951,   499.7,   6.6526,  34.5747,2,  34.5738,2,    130.6,2,   133.4,2,   21.42,2,   33.82,2,    0.00,2,    2.12,2,-999.000,9,-999.000,9,-999.000,9,  2211.2,2,  2296.7,2,   1180.3,2,    20.00,   7.5563,2,    25.00,-999.000,9,   1.803,2,   0.612,2, -999.00,9,  -999.0,9,  -999.0,   7.649,2,   0.028,-999.000,9,   41.95,2,   36.88,2,  499.70,-999.0000,9,-999.0000,9,-999.0000,9,-999.0000,9,-999.0000,9,-999.0000,9,   6.6064,     -999.0,9,     -999.0,9,       0.00,2,     -999.0,9,        141,   0.003,    0.11,-999.000,      27.26,2,    0.94,2,    1.64,2
33RO200306_02,       A16N,     141,          1,         19,         19,2,20030806,       1321,    -2.0000,   -25.0003,       4951,   599.7,   5.4285,  34.5063,2,  34.5087,2,    143.7,2,   149.9,2,   26.84,2,   34.44,2,    0.00,2,    2.21,2,   0.329,2,   0.173,2,   0.007,2,  2212.2,2,  2300.5,2,   1169.3,2,    20.00,   7.5553,2,    25.00,-999.000,9,-999.000,9,-999.000,9, -999.00,9,  -999.0,9,  -999.0,-999.000,9,-999.000,-999.000,9,   42.03,2,   37.55,2,  599.70,-999.0000,9,-999.0000,9,-999.0000,9,-999.0000,9,-999.0000,9,-999.0000,9,   5.3783,     -999.0,9,     -999.0,9,     -999.0,9,     -999.0,9,        141,-999.000,-999.000,-999.000,     -999.0,9, -999.00,9, -999.00,9
33RO200306_02,       A16N,     141,          1,         18,         18,2,20030806,       1321,    -2.0000,   -25.0003,       4951,   699.8,   5.2718,  34.5082,2,  34.5077,2,    145.7,2,   145.9,2,   28.03,2,   34.73,2,    0.00,2,    2.24,2,-999.000,9,-999.000,9,-999.000,9,  2214.9,2,  2298.6,2,   1180.8,2,    20.00,   7.5498,2,    25.00,   0.001,2,   1.823,2,   1.300,2, -999.00,9,  -999.0,9,  -999.0,   7.804,2,   0.029,-999.000,9,   42.12,2,   37.79,2,  699.80,-999.0000,9,-999.0000,9,-999.0000,9,-999.0000,9,-999.0000,9,-999.0000,9,   5.2136,     -999.0,9,     -999.0,9,     -999.0,9,     -999.0,9,        141,   0.003,    0.11,   0.000,     -999.0,9, -999.00,9, -999.00,9
33RO200306_02,       A16N,     141,          1,         17,         17,2,20030806,       1321,    -2.0000,   -25.0003,       4951,   800.4,   4.8616,  34.4852,2,  34.4856,2,    165.6,2,   159.5,2,   30.00,2,   34.05,2,    0.00,2,    2.20,2,   0.318,2,   0.166,2,   0.009,2,  2211.7,2,  2300.6,6,   1140.0,2,    20.00,   7.5623,6,    25.00,-999.000,9,-999.000,9,-999.000,9, -999.00,9,  -999.0,9,  -999.0,-999.000,9,-999.000,-999.000,9,   41.87,2,   37.09,2,  800.40,-999.0000,9,-999.0000,9,-999.0000,9,-999.0000,9,-999.0000,9,-999.0000,9,   4.7969,     -999.0,9,       1.17,2,       0.00,2,       0.63,2,        141,-999.000,-999.000,-999.000,       20.4,2,    0.74,2,    0.72,2
33RO200306_02,       A16N,     141,          1,         16,         16,2,20030806,       1321,    -2.0000,   -25.0003,       4951,   898.4,   4.4381,  34.5295,2,  34.5324,2,    159.6,2,   153.5,2,   32.95,2,   34.28,2,    0.00,2,    2.25,2,   0.081,2,   0.044,2,   0.004,2,  2220.0,2,  2305.4,2,   -999.0,9,  -999.00,   7.5781,2,    25.00,-999.000,9,-999.000,9,-999.000,9, -999.00,9,  -999.0,9,  -999.0,-999.000,9,-999.000,-999.000,9,   42.03,2,   37.39,2,  898.40,-999.0000,9,-999.0000,9,-999.0000,9,-999.0000,9,-999.0000,9,-999.0000,9,   4.3677,     -999.0,9,     -999.0,9,     -999.0,9,     -999.0,9,        141,-999.000,-999.000,-999.000,     -999.0,9, -999.00,9, -999.00,9
33RO200306_02,       A16N,     141,          1,         15,         15,2,20030806,       1321,    -2.0000,   -25.0003,       4951,  1000.3,   4.3354,  34.5863,2,  34.5872,2,    161.8,2,   162.0,2,   32.83,2,   33.30,2,    0.00,2,    2.17,2,   0.066,2,   0.034,2,  -0.001,2,  2216.5,6,  2309.4,2,   1127.8,2,    20.00,   7.6162,2,    25.00,-999.000,9,-999.000,9,-999.000,9, -999.00,9,  -999.0,9,  -999.0,-999.000,9,-999.000,-999.000,9,   41.39,2,   35.97,2, 1000.30,-999.0000,9,-999.0000,9,-999.0000,9,-999.0000,9,-999.0000,9,-999.0000,9,   4.2570,     -999.0,9,     -999.0,9,     -999.0,9,     -999.0,9,        141,-999.000,-999.000,-999.000,     -999.0,9, -999.00,9, -999.00,9
33RO200306_02,       A16N,     141,          1,         14,         14,2,20030806,       1321,    -2.0000,   -25.0003,       4951,  1199.6,   4.4616,  34.7652,2,  34.7680,2,    178.1,2,   176.8,2,   27.61,2,   29.62,2,    0.00,2,    1.92,2,   0.035,2,   0.021,2,   0.001,2,  2208.3,2,  2315.9,2,   1016.4,2,    20.00,   7.6933,2,    25.00,-999.000,9,-999.000,9,-999.000,9, -999.00,9,  -999.0,9,  -999.0,-999.000,9,-999.000,-999.000,9,   42.27,2,   32.39,2, 1199.60,-999.0000,9,-999.0000,9,-999.0000,9,-999.0000,9,-999.0000,9,-999.0000,9,   4.3643,     -999.0,9,       3.96,2,       0.00,2,       2.73,2,        141,-999.000,-999.000,-999.000,       5.77,2,    0.39,2,    0.83,2
33RO200306_02,       A16N,     141,          1,         13,         13,2,20030806,       1321,    -2.0000,   -25.0003,       4951,  1400.1,   4.4080,  34.9540,2,  34.9557,2,    219.0,2,   218.5,2,   19.16,2,   22.73,2,    0.00,2,    1.46,2,   0.191,2,   0.107,2,   0.005,2,  2179.7,2,  2318.6,2,   -999.0,9,  -999.00,   7.7265,2,    25.00,-999.000,9,-999.000,9,-999.000,9, -999.00,9,  -999.0,9,  -999.0,-999.000,9,-999.000,-999.000,9,   41.95,2,   25.79,2, 1400.10,-999.0000,9,-999.0000,9,-999.0000,9,-999.0000,9,-999.0000,9,-999.0000,9,   4.2926,     -999.0,9,     -999.0,9,     -999.0,9,     -999.0,9,        141,-999.000,-999.000,-999.000,     -999.0,9, -999.00,9, -999.00,9
33RO200306_02,       A16N,     141,          1,         12,         12,2,20030806,       1321,    -2.0000,   -25.0003,       4951,  1599.5,   4.1280,  34.9808,2,  34.9823,2,    238.5,2,   238.7,2,   17.27,2,   20.55,2,    0.00,2,    1.31,2,   0.305,2,   0.161,2,   0.009,2,  2170.0,2,  2319.1,2,    778.6,2,    20.00,   7.7243,2,    25.00,-999.000,9,-999.000,9,-999.000,9, -999.00,9,  -999.0,9,  -999.0,-999.000,9,-999.000,-999.000,9,   43.00,2,   24.82,2, 1599.50,-999.0000,9,-999.0000,9,-999.0000,9,-999.0000,9,-999.0000,9,-999.0000,9,   3.9971,     -999.0,9,     -999.0,9,     -999.0,9,     -999.0,9,        141,-999.000,-999.000,-999.000,     -999.0,9, -999.00,9, -999.00,9
33RO200306_02,       A16N,     141,          1,         11,         11,2,20030806,       1321,    -2.0000,   -25.0003,       4951,  1798.5,   3.8596,  34.9823,2,  34.9813,2,    249.9,2,   245.0,2,   17.48,2,   19.66,2,    0.00,2,    1.25,2,   0.329,2,   0.171,2,   0.011,2,  2162.6,2,  2319.4,2,   -999.0,9,  -999.00,   7.7324,2,    25.00,-999.000,9,-999.000,9,-999.000,9, -999.00,9,  -999.0,9,  -999.0,-999.000,9,-999.000,-999.000,9,   42.20,2,   23.51,2, 1798.50,-999.0000,9,-999.0000,9,-999.0000,9,-999.0000,9,-999.0000,9,-999.0000,9,   3.7134,     -999.0,9,       0.90,2,       0.00,2,       0.64,2,        141,-999.000,-999.000,-999.000,       1.03,2,    0.13,2,    0.21,2
33RO200306_02,       A16N,     141,          1,         10,         10,2,20030806,       1321,    -2.0000,   -25.0003,       4951,  1999.5,   3.5282,  34.9698,2,  34.9711,2,    252.7,2,   254.8,2,   20.01,2,   19.60,2,    0.00,2,    1.26,2,   0.195,2,   0.105,2,   0.005,2,  2164.2,2,  2321.8,2,    748.5,2,    20.00,   7.7369,2,    25.00,-999.000,9,-999.000,9,-999.000,9, -999.00,9,  -999.0,9,  -999.0,-999.000,9,-999.000,-999.000,9,   41.20,2,   23.04,2, 1999.50,-999.0000,9,-999.0000,9,-999.0000,9,-999.0000,9,-999.0000,9,-999.0000,9,   3.3677,     -999.0,9,     -999.0,9,     -999.0,9,     -999.0,9,        141,-999.000,-999.000,-999.000,     -999.0,9, -999.00,9, -999.00,9
33RO200306_02,       A16N,     141,          1,          9,          9,2,20030806,       1321,    -2.0000,   -25.0003,       4951,  2198.5,   3.2709,  34.9556,2,  34.9593,2,    253.1,2,   253.0,2,   24.07,2,   20.06,2,    0.00,2,    1.30,2,   0.092,2,   0.049,2,   0.001,2,  2169.0,2,  2325.5,2,   -999.0,9,  -999.00,   7.7341,2,    25.00,-999.000,9,-999.000,9,-999.000,9, -999.00,9,  -999.0,9,  -999.0,-999.000,9,-999.000,-999.000,9,   40.98,2,   25.16,2, 2198.50,-999.0000,9,-999.0000,9,-999.0000,9,-999.0000,9,-999.0000,9,-999.0000,9,   3.0955,     -999.0,9,       0.47,2,       0.00,2,       0.41,2,        141,-999.000,-999.000,-999.000,        0.0,2,    0.64,2,    0.43,2
33RO200306_02,       A16N,     141,          1,          8,          8,2,20030806,       1321,    -2.0000,   -25.0003,       4951,  2400.4,   3.0139,  34.9364,2,  34.9372,2,    248.2,2,   249.1,2,   29.94,2,   20.92,2,    0.00,2,    1.37,2,   0.032,2,   0.021,2,   0.000,2,  2176.2,2,  2329.5,2,    759.1,2,    20.00,   7.7349,2,    25.00,-999.000,9,-999.000,9,-999.000,9, -999.00,9,  -999.0,9,  -999.0,-999.000,9,-999.000,-999.000,9,   40.98,2,   24.43,2, 2400.40,-999.0000,9,-999.0000,9,-999.0000,9,-999.0000,9,-999.0000,9,-999.0000,9,   2.8234,     -999.0,9,     -999.0,9,     -999.0,9,     -999.0,9,        141,-999.000,-999.000,-999.000,     -999.0,9, -999.00,9, -999.00,9