BOTTLE,20230908CCHSIOCBG
EXPOCODE,SECT_ID,STNNBR,CASTNO,SAMPNO,BTLNBR,BTLNBR_FLAG_W,DATE,TIME,LATITUDE,LONGITUDE,DEPTH,CTDPRS,CTDTMP,CTDSAL,CTDSAL_FLAG_W,SALNTY,SALNTY_FLAG_W,CTDOXY,CTDOXY_FLAG_W,OXYGEN,OXYGEN_FLAG_W,SILCAT,SILCAT_FLAG_W,NITRAT,NITRAT_FLAG_W,NITRIT,NITRIT_FLAG_W,PHSPHT,PHSPHT_FLAG_W,CFC-11,CFC-11_FLAG_W,CFC-12,CFC-12_FLAG_W,CFC113,CFC113_FLAG_W,TCARBN,TCARBN_FLAG_W,ALKALI,ALKALI_FLAG_W,FCO2,FCO2_FLAG_W,FCO2TMP,PH_SWS,PH_SWS_FLAG_W,PH_TMP,TRITUM,TRITUM_FLAG_W,HELIUM,HELIUM_FLAG_W,DELHE3,DELHE3_FLAG_W,DELC13,DELC13_FLAG_W,DELC14,DELC14_FLAG_W,C14ERR,NEON,NEON_FLAG_W,NEONER,POC,POC_FLAG_W,DOC,DOC_FLAG_W,TDN,TDN_FLAG_W,CTDRAW,CDOM325,CDOM325_FLAG_W,CDOM340,CDOM340_FLAG_W,CDOM380,CDOM380_FLAG_W,CDOM412,CDOM412_FLAG_W,CDOMSL,CDOMSL_FLAG_W,CDOMSN,CDOMSN_FLAG_W,THETA,PON,PON_FLAG_W,HCFC-22,HCFC-22_FLAG_W,HCFC-142b,HCFC-142b_FLAG_W,HCFC-141b,HCFC-141b_FLAG_W,STNNBR_U,HELIER,DELHER,TRITER,CH3CL,CH3CL_FLAG_W,CH3BR,CH3BR_FLAG_W,CH3I,CH3I_FLAG_W
,,,,,,,,,,,METERS,DBAR,ITS-90,PSS-78,,PSS-78,,UMOL/KG,,UMOL/KG,,UMOL/KG,,UMOL/KG,,UMOL/KG,,UMOL/KG,,PMOL/KG,,PMOL/KG,,PMOL/KG,,UMOL/KG,,UMOL/KG,,UATM,,DEG C,,,DEG C,TU,,NMOL/KG,,PERCNT,,/MILLE,,/MILLE,,/MILLE,NMOL/KG,,NMOL/KG,UG/KG,,UMOL/KG,,UMOL/KG,,DBAR,1/M,,1/M,,1/M,,1/M,,1/NM,,1/NM,,DEG C,UMOL/L,,PMOL/KG,,PMOL/KG,,PMOL/KG,,,NMOL/KG,PERCNT,TU,PMOL/KG,,PMOL/KG,,PMOL/KG,
33RO200306_01,       A16N,     062,          1,         35,         35,2,20030706,       0828,    34.4998,   -20.8435,       5169,     2.9,  23.2528,  36.8340,2,  36.8359,2,    216.0,2,   216.6,2,    0.52,2,    0.00,2,    0.00,2,    0.01,2,-999.000,9,-999.000,9,-999.000,9,  2095.4,6,  2405.2,6,    355.1,2,    20.00,   8.0343,6,    25.00,-999.000,9,-999.000,9,-999.000,9,    1.24,2,    91.1,2,     3.4,-999.000,9,-999.000,   2.662,2, -999.00,9, -999.00,9,    2.90,   0.0370,2,   0.0210,2,   0.0040,3,   0.0000,4,   0.0370,2,   0.0310,2,  23.2522,      0.214,2,       4.84,2,       0.00,2,       1.32,2,         62,-999.000,-999.000,-999.000,      56.69,2,     0.0,2,   20.15,2
33RO200306_01,       A16N,     062,          1,         33,         33,2,20030706,       0828,    34.4998,   -20.8435,       5169,    25.2,  20.1687,  36.6355,2,  36.6352,2,    239.6,2,   242.0,2,    0.55,2,    0.01,2,    0.00,2,    0.02,2,-999.000,9,-999.000,9,-999.000,9,  -999.0,9,  -999.0,9,   -999.0,9,  -999.00,-999.0000,9,  -999.00,-999.000,9,-999.000,9,-999.000,9, -999.00,9,  -999.0,9,  -999.0,-999.000,9,-999.000,   2.702,2, -999.00,9, -999.00,9,   25.20,   0.0920,2,   0.0550,2,   0.0170,2,   0.0060,2,   0.0320,2,   0.0330,2,  20.1640,      0.285,2,     -999.0,9,     -999.0,9,     -999.0,9,         62,-999.000,-999.000,-999.000,     -999.0,9, -999.00,9, -999.00,9
33RO200306_01,       A16N,     062,          1,         32,         32,2,20030706,       0828,    34.4998,   -20.8435,       5169,    49.7,  19.1982,  36.6112,2,  36.6123,2,    240.1,2,   240.7,2,    0.59,2,    0.00,2,    0.00,2,    0.01,2,-999.000,9,-999.000,9,-999.000,9,  -999.0,9,  -999.0,9,   -999.0,9,  -999.00,-999.0000,9,  -999.00,-999.000,9,-999.000,9,-999.000,9, -999.00,9,  -999.0,9,  -999.0,-999.000,9,-999.000,   2.809,2, -999.00,9, -999.00,9,   49.70,   0.1240,2,   0.0760,2,   0.0230,2,   0.0090,2,   0.0300,2,   0.0310,2,  19.1892,      0.248,2,       6.57,2,       0.18,2,       2.27,2,         62,-999.000,-999.000,-999.000,      98.93,2,    0.31,2,   43.98,2
33RO200306_01,       A16N,     062,          1,         31,         31,2,20030706,       0828,    34.4998,   -20.8435,       5169,    75.2,  18.6899,  36.6287,2,  36.6242,2,    234.0,2,   232.4,2,    0.63,2,    0.01,2,    0.00,2,    0.02,2,-999.000,9,-999.000,9,-999.000,9,  -999.0,9,  -999.0,9,   -999.0,9,  -999.00,-999.0000,9,  -999.00,-999.000,9,-999.000,9,-999.000,9, -999.00,9,  -999.0,9,  -999.0,-999.000,9,-999.000,   2.208,2, -999.00,9, -999.00,9,   75.20,-999.0000,9,-999.0000,9,-999.0000,9,-999.0000,9,-999.0000,9,-999.0000,9,  18.6765,      0.321,2,     -999.0,9,     -999.0,9,     -999.0,9,         62,-999.000,-999.000,-999.000,     -999.0,9, -999.00,9, -999.00,9
33RO200306_01,       A16N,     062,          1,         30,         30,2,20030706,       0828,    34.4998,   -20.8435,       5169,   100.7,  18.2311,  36.5626,2,  36.5436,2,    228.3,2,   225.7,2,    0.71,2,    0.44,2,    0.07,2,    0.04,2,-999.000,9,-999.000,9,-999.000,9,  -999.0,9,  -999.0,9,   -999.0,9,  -999.00,-999.0000,9,  -999.00,-999.000,9,-999.000,9,-999.000,9, -999.00,9,  -999.0,9,  -999.0,-999.000,9,-999.000,   2.173,2, -999.00,9, -999.00,9,  100.70,   0.0910,2,   0.0600,2,   0.0230,2,   0.0130,2,   0.0250,2,   0.0260,2,  18.2135,      0.286,2,       6.76,2,       0.39,2,       1.93,2,         62,-999.000,-999.000,-999.000,      99.52,2,    0.35,2,    3.03,2
33RO200306_01,       A16N,     062,          1,         29,         29,2,20030706,       0828,    34.4998,   -20.8435,       5169,   125.0,  17.6147,  36.4424,2,  36.4414,2,    219.5,2,   219.5,2,    0.89,2,    1.91,2,    0.05,2,    0.11,2,-999.000,9,-999.000,9,-999.000,9,  -999.0,9,  -999.0,9,   -999.0,9,  -999.00,-999.0000,9,  -999.00,-999.000,9,-999.000,9,-999.000,9, -999.00,9,  -999.0,9,  -999.0,-999.000,9,-999.000,   2.043,2, -999.00,9, -999.00,9,  125.00,-999.0000,9,-999.0000,9,-999.0000,9,-999.0000,9,-999.0000,9,-999.0000,9,  17.5934,      0.178,2,     -999.0,9,     -999.0,9,     -999.0,9,         62,-999.000,-999.000,-999.000,     -999.0,9, -999.00,9, -999.00,9
33RO200306_01,       A16N,     062,          1,         28,         28,2,20030706,       0828,    34.4998,   -20.8435,       5169,   150.3,  17.2644,  36.3907,2,  36.3881,2,    216.4,2,   216.5,2,    1.14,2,    3.00,2,    0.02,2,    0.17,2,-999.000,9,-999.000,9,-999.000,9,  -999.0,9,  -999.0,9,   -999.0,9,  -999.00,-999.0000,9,  -999.00,-999.000,9,-999.000,9,-999.000,9, -999.00,9,  -999.0,9,  -999.0,-999.000,9,-999.000,   1.517,2, -999.00,9, -999.00,9,  150.30,-999.0000,9,-999.0000,9,-999.0000,9,-999.0000,9,-999.0000,9,-999.0000,9,  17.2391,      0.237,2,     -999.0,9,     -999.0,9,     -999.0,9,         62,-999.000,-999.000,-999.000,     -999.0,9, -999.00,9, -999.00,9
33RO200306_01,       A16N,     062,          1,         27,         27,2,20030706,       0828,    34.4998,   -20.8435,       5169,   175.8,  17.0373,  36.3640,2,  36.3576,2,    212.8,2,   211.4,2,    1.42,2,    4.00,2,    0.01,2,    0.22,2,-999.000,9,-999.000,9,-999.000,9,  -999.0,9,  -999.0,9,   -999.0,9,  -999.00,-999.0000,9,  -999.00,-999.000,9,-999.000,9,-999.000,9, -999.00,9,  -999.0,9,  -999.0,-999.000,9,-999.000,-999.000,9, -999.00,9, -999.00,9,  175.80,-999.0000,9,-999.0000,9,-999.0000,9,-999.0000,9,-999.0000,9,-999.0000,9,  17.0080,     -999.0,9,     -999.0,9,     -999.0,9,     -999.0,9,         62,-999.000,-999.000,-999.000,     -999.0,9, -999.00,9, -999.00,9
33RO200306_01,       A16N,     062,          1,         26,         26,2,20030706,       0828,    34.4998,   -20.8435,       5169,   200.9,  16.6649,  36.3043,2,  36.2916,2,    207.6,2,   209.8,2,    1.71,2,    5.05,2,    0.01,2,    0.28,2,-999.000,9,-999.000,9,-999.000,9,  -999.0,9,  -999.0,9,   -999.0,9,  -999.00,-999.0000,9,  -999.00,-999.000,9,-999.000,9,-999.000,9, -999.00,9,  -999.0,9,  -999.0,-999.000,9,-999.000,   0.597,2, -999.00,9, -999.00,9,  200.90,   0.0940,2,   0.0600,2,   0.0230,2,   0.0130,2,   0.0270,2,   0.0280,2,  16.6319,      0.048,2,     -999.0,9,     -999.0,9,     -999.0,9,         62,-999.000,-999.000,-999.000,     -999.0,9, -999.00,9, -999.00,9
33RO200306_01,       A16N,     062,          1,         25,         25,2,20030706,       0828,    34.4998,   -20.8435,       5169,   250.7,  15.7822,  36.1678,2,  36.1610,2,    205.4,2,   205.7,2,    2.16,2,    6.66,2,    0.01,2,    0.38,2,-999.000,9,-999.000,9,-999.000,9,  -999.0,9,  -999.0,9,   -999.0,9,  -999.00,-999.0000,9,  -999.00,-999.000,9,-999.000,9,-999.000,9, -999.00,9,  -999.0,9,  -999.0,-999.000,9,-999.000,-999.000,9, -999.00,9, -999.00,9,  250.70,-999.0000,9,-999.0000,9,-999.0000,9,-999.0000,9,-999.0000,9,-999.0000,9,  15.7425,     -999.0,9,     -999.0,9,     -999.0,9,     -999.0,9,         62,-999.000,-999.000,-999.000,     -999.0,9, -999.00,9, -999.00,9
33RO200306_01,       A16N,     062,          1,         24,         24,2,20030706,       0828,    34.4998,   -20.8435,       5169,   300.7,  15.2032,  36.0759,2,  36.0659,2,    206.0,2,   207.8,2,    2.56,2,    7.59,2,    0.01,2,    0.43,2,-999.000,9,-999.000,9,-999.000,9,  -999.0,9,  -999.0,9,   -999.0,9,  -999.00,-999.0000,9,  -999.00,-999.000,9,-999.000,9,-999.000,9, -999.00,9,  -999.0,9,  -999.0,-999.000,9,-999.000,   0.269,2, -999.00,9, -999.00,9,  300.70,   0.1130,2,   0.0680,2,   0.0240,2,   0.0130,2,   0.0290,2,   0.0310,2,  15.1567,      0.024,2,     -999.0,9,     -999.0,9,     -999.0,9,         62,-999.000,-999.000,-999.000,     -999.0,9, -999.00,9, -999.00,9
33RO200306_01,       A16N,     062,          1,         23,         23,2,20030706,       0828,    34.4998,   -20.8435,       5169,   349.5,  14.5780,  35.9752,2,  35.9725,2,    207.0,2,   207.2,2,    2.96,2,    8.52,2,    0.01,2,    0.50,2,-999.000,9,-999.000,9,-999.000,9,  -999.0,9,  -999.0,9,   -999.0,9,  -999.00,-999.0000,9,  -999.00,-999.000,9,-999.000,9,-999.000,9, -999.00,9,  -999.0,9,  -999.0,-999.000,9,-999.000,-999.000,9, -999.00,9, -999.00,9,  349.50,-999.0000,9,-999.0000,9,-999.0000,9,-999.0000,9,-999.0000,9,-999.0000,9,  14.5254,     -999.0,9,     -999.0,9,     -999.0,9,     -999.0,9,         62,-999.000,-999.000,-999.000,     -999.0,9, -999.00,9, -999.00,9
33RO200306_01,       A16N,     062,          1,         22,         22,2,20030706,       0828,    34.4998,   -20.8435,       5169,   399.6,  13.9877,  35.8843,2,  35.8782,2,    205.7,2,   206.0,2,    3.60,2,    9.86,2,    0.00,2,    0.58,2,-999.000,9,-999.000,9,-999.000,9,  -999.0,9,  -999.0,9,   -999.0,9,  -999.00,-999.0000,9,  -999.00,-999.000,9,-999.000,9,-999.000,9, -999.00,9,  -999.0,9,  -999.0,-999.000,9,-999.000,-999.000,9, -999.00,9, -999.00,9,  399.60,-999.0000,9,-999.0000,9,-999.0000,9,-999.0000,9,-999.0000,9,-999.0000,9,  13.9291,     -999.0,9,     -999.0,9,     -999.0,9,     -999.0,9,         62,-999.000,-999.000,-999.000,     -999.0,9, -999.00,9, -999.00,9
33RO200306_01,       A16N,     062,          1,         21,         21,2,20030706,       0828,    34.4998,   -20.8435,       5169,   500.7,  12.7631,  35.7092,2,  35.7051,2,    197.3,2,   195.9,2,    5.02,2,   12.72,2,    0.00,2,    0.75,2,-999.000,9,-999.000,9,-999.000,9,  -999.0,9,  -999.0,9,   -999.0,9,  -999.00,-999.0000,9,  -999.00,-999.000,9,-999.000,9,-999.000,9, -999.00,9,  -999.0,9,  -999.0,-999.000,9,-999.000,   0.103,2, -999.00,9, -999.00,9,  500.70,   0.0990,2,   0.0640,2,   0.0260,2,   0.0150,2,   0.0250,2,   0.0270,2,  12.6938,      0.095,2,     -999.0,9,     -999.0,9,     -999.0,9,         62,-999.000,-999.000,-999.000,     -999.0,9, -999.00,9, -999.00,9
33RO200306_01,       A16N,     062,          1,         20,         20,2,20030706,       0828,    34.4998,   -20.8435,       5169,   600.1,  11.6583,  35.5745,2,  35.5723,2,    189.0,2,   189.9,2,    6.54,2,   15.11,2,    0.00,2,    0.91,2,-999.000,9,-999.000,9,-999.000,9,  -999.0,9,  -999.0,9,   -999.0,9,  -999.00,-999.0000,9,  -999.00,-999.000,9,-999.000,9,-999.000,9, -999.00,9,  -999.0,9,  -999.0,-999.000,9,-999.000,-999.000,9, -999.00,9, -999.00,9,  600.10,-999.0000,9,-999.0000,9,-999.0000,9,-999.0000,9,-999.0000,9,-999.0000,9,  11.5797,     -999.0,9,     -999.0,9,     -999.0,9,     -999.0,9,         62,-999.000,-999.000,-999.000,     -999.0,9, -999.00,9, -999.00,9
33RO200306_01,       A16N,     062,          1,         19,         19,2,20030706,       0828,    34.4998,   -20.8435,       5169,   699.4,  10.8224,  35.5221,2,  35.5213,2,    189.2,2,   189.1,2,    7.35,2,   16.35,2,    0.00,2,    0.98,2,-999.000,9,-999.000,9,-999.000,9,  -999.0,9,  -999.0,9,   -999.0,9,  -999.00,-999.0000,9,  -999.00,-999.000,9,-999.000,9,-999.000,9, -999.00,9,  -999.0,9,  -999.0,-999.000,9,-999.000,-999.000,9, -999.00,9, -999.00,9,  699.40,-999.0000,9,-999.0000,9,-999.0000,9,-999.0000,9,-999.0000,9,-999.0000,9,  10.7346,     -999.0,9,     -999.0,9,     -999.0,9,     -999.0,9,         62,-999.000,-999.000,-999.000,     -999.0,9, -999.00,9, -999.00,9
33RO200306_01,       A16N,     062,          1,         18,         18,2,20030706,       0828,    34.4998,   -20.8435,       5169,   848.8,   9.9037,  35.5664,2,  35.5713,2,    181.7,2,   181.6,2,    9.61,2,   17.98,2,    0.00,2,    1.10,2,-999.000,9,-999.000,9,-999.000,9,  -999.0,9,  -999.0,9,   -999.0,9,  -999.00,-999.0000,9,  -999.00,-999.000,9,-999.000,9,-999.000,9, -999.00,9,  -999.0,9,  -999.0,-999.000,9,-999.000,-999.000,9, -999.00,9, -999.00,9,  848.80,-999.0000,9,-999.0000,9,-999.0000,9,-999.0000,9,-999.0000,9,-999.0000,9,   9.8019,     -999.0,9,     -999.0,9,     -999.0,9,     -999.0,9,         62,-999.000,-999.000,-999.000,     -999.0,9, -999.00,9, -999.00,9
33RO200306_01,       A16N,     062,          1,         17,         17,2,20030706,       0828,    34.4998,   -20.8435,       5169,   999.8,   9.2420,  35.6275,2,  35.6297,2,    187.2,2,   187.0,2,   10.51,2,   18.05,2,    0.00,2,    1.11,2,-999.000,9,-999.000,9,-999.000,9,  -999.0,9,  -999.0,9,   -999.0,9,  -999.00,-999.0000,9,  -999.00,-999.000,9,-999.000,9,-999.000,9, -999.00,9,  -999.0,9,  -999.0,-999.000,9,-999.000,-999.000,9, -999.00,9, -999.00,9,  999.80,   0.0990,2,   0.0640,2,   0.0260,2,   0.0140,2,   0.0250,2,   0.0260,2,   9.1258,     -999.0,9,     -999.0,9,     -999.0,9,     -999.0,9,         62,-999.000,-999.000,-999.000,     -999.0,9, -999.00,9, -999.00,9
33RO200306_01,       A16N,     062,          1,         16,         16,2,20030706,       0828,    34.4998,   -20.8435,       5169,  1149.7,   8.4502,  35.6091,2,  35.6120,2,    196.1,2,   195.2,2,   11.35,2,   18.11,2,    0.00,2,    1.12,2,   1.183,2,   0.606,2,   0.028,2,  -999.0,9,  -999.0,9,   -999.0,9,  -999.00,-999.0000,9,  -999.00,-999.000,9,-999.000,9,-999.000,9, -999.00,9,  -999.0,9,  -999.0,-999.000,9,-999.000,-999.000,9, -999.00,9, -999.00,9, 1149.70,-999.0000,9,-999.0000,9,-999.0000,9,-999.0000,9,-999.0000,9,-999.0000,9,   8.3221,     -999.0,9,     -999.0,9,     -999.0,9,     -999.0,9,         62,-999.000,-999.000,-999.000,     -999.0,9, -999.00,9, -999.00,9
33RO200306_01,       A16N,     062,          1,         15,         15,2,20030706,       0828,    34.4998,   -20.8435,       5169,  1298.9,   7.4321,  35.5071,2,  35.5075,2,    208.4,2,   209.5,2,   11.82,2,   18.01,2,    0.00,2,    1.12,2,   1.217,2,   0.623,2,   0.033,2,  -999.0,9,  -999.0,9,   -999.0,9,  -999.00,-999.0000,9,  -999.00,-999.000,9,-999.000,9,-999.000,9, -999.00,9,  -999.0,9,  -999.0,-999.000,9,-999.000,-999.000,9, -999.00,9, -999.00,9, 1298.90,-999.0000,9,-999.0000,9,-999.0000,9,-999.0000,9,-999.0000,9,-999.0000,9,   7.2958,     -999.0,9,     -999.0,9,     -999.0,9,     -999.0,9,         62,-999.000,-999.000,-999.000,     -999.0,9, -999.00,9, -999.00,9
33RO200306_01,       A16N,     062,          1,         14,         14,2,20030706,       0828,    34.4998,   -20.8435,       5169,  1599.8,   5.3642,  35.2194,2,  35.2253,2,    237.6,2,   237.7,2,   12.78,2,   18.00,2,    0.00,2,    1.14,2,   1.159,2,   0.579,2,   0.040,2,  -999.0,9,  -999.0,9,   -999.0,9,  -999.00,-999.0000,9,  -999.00,-999.000,9,-999.000,9,-999.000,9, -999.00,9,  -999.0,9,  -999.0,-999.000,9,-999.000,-999.000,9, -999.00,9, -999.00,9, 1599.80,-999.0000,9,-999.0000,9,-999.0000,9,-999.0000,9,-999.0000,9,-999.0000,9,   5.2180,     -999.0,9,     -999.0,9,     -999.0,9,     -999.0,9,         62,-999.000,-999.000,-999.000,     -999.0,9, -999.00,9, -999.00,9
33RO200306_01,       A16N,     062,          1,         13,         13,2,20030706,       0828,    34.4998,   -20.8435,       5169,  1900.7,   4.3502,  35.0919,2,  35.0906,2,    249.7,2,   251.9,2,   14.45,2,   18.00,2,    0.00,2,    1.16,2,   0.897,2,   0.452,2,   0.035,2,  -999.0,9,  -999.0,9,   -999.0,9,  -999.00,-999.0000,9,  -999.00,-999.000,9,-999.000,9,-999.000,9, -999.00,9,  -999.0,9,  -999.0,-999.000,9,-999.000,-999.000,9, -999.00,9, -999.00,9, 1900.70,   0.1160,2,   0.0740,2,   0.0290,2,   0.0160,2,   0.0260,2,   0.0270,2,   4.1871,     -999.0,9,     -999.0,9,     -999.0,9,     -999.0,9,         62,-999.000,-999.000,-999.000,     -999.0,9, -999.00,9, -999.00,9
33RO200306_01,       A16N,     062,          1,         12,         12,2,20030706,       0828,    34.4998,   -20.8435,       5169,  2200.4,   3.6852,  35.0191,2,  35.0191,2,    254.5,2,   254.6,2,   18.41,2,   18.43,2,    0.00,2,    1.20,2,   0.448,2,   0.234,2,   0.017,2,  -999.0,9,  -999.0,9,   -999.0,9,  -999.00,-999.0000,9,  -999.00,-999.000,9,-999.000,9,-999.000,9, -999.00,9,  -999.0,9,  -999.0,-999.000,9,-999.000,-999.000,9, -999.00,9, -999.00,9, 2200.40,-999.0000,9,-999.0000,9,-999.0000,9,-999.0000,9,-999.0000,9,-999.0000,9,   3.5027,     -999.0,9,     -999.0,9,     -999.0,9,     -999.0,9,         62,-999.000,-999.000,-999.000,     -999.0,9, -999.00,9, -999.00,9
33RO200306_01,       A16N,     062,          1,         11,         11,2,20030706,       0828,    34.4998,   -20.8435,       5169,  2496.1,   3.1717,  34.9678,2,  34.9678,2,    255.0,2,   255.7,2,   22.95,2,   18.81,2,    0.00,2,    1.24,2,-999.000,9,-999.000,9,-999.000,9,  -999.0,9,  -999.0,9,   -999.0,9,  -999.00,-999.0000,9,  -999.00,-999.000,9,-999.000,9,-999.000,9, -999.00,9,  -999.0,9,  -999.0,-999.000,9,-999.000,-999.000,9, -999.00,9, -999.00,9, 2496.10,-999.0000,9,-999.0000,9,-999.0000,9,-999.0000,9,-999.0000,9,-999.0000,9,   2.9689,     -999.0,9,     -999.0,9,     -999.0,9,     -999.0,9,         62,-999.000,-999.000,-999.000,     -999.0,9, -999.00,9, -999.00,9
33RO200306_01,       A16N,     062,          1,         10,         10,2,20030706,       0828,    34.4998,   -20.8435,       5169,  2799.5,   2.9159,  34.9520,2,  34.9520,2,    252.6,2,   250.9,2,   28.68,2,   19.72,2,    0.00,2,    1.30,2,-999.000,9,-999.000,9,-999.000,9,  -999.0,9,  -999.0,9,   -999.0,9,  -999.00,-999.0000,9,  -999.00,-999.000,9,-999.000,9,-999.000,9, -999.00,9,  -999.0,9,  -999.0,-999.000,9,-999.000,-999.000,9, -999.00,9, -999.00,9, 2799.50,-999.0000,9,-999.0000,9,-999.0000,9,-999.0000,9,-999.0000,9,-999.0000,9,   2.6876,     -999.0,9,     -999.0,9,     -999.0,9,     -999.0,9,         62,-999.000,-999.000,-999.000,     -999.0,9, -999.00,9, -999.00,9
33RO200306_01,       A16N,     062,          1,          9,          9,2,20030706,       0828,    34.4998,   -20.8435,       5169,  3100.0,   2.7451,  34.9380,2,  34.9370,2,    249.1,2,   247.7,2,   33.59,2,   20.46,2,    0.00,2,    1.36,2,-999.000,9,-999.000,9,-999.000,9,  -999.0,9,  -999.0,9,   -999.0,9,  -999.00,-999.0000,9,  -999.00,-999.000,9,-999.000,9,-999.000,9, -999.00,9,  -999.0,9,  -999.0,-999.000,9,-999.000,-999.000,9, -999.00,9, -999.00,9, 3100.00,   0.1190,2,   0.0750,2,   0.0300,2,   0.0160,2,   0.0250,2,   0.0270,2,   2.4894,     -999.0,9,     -999.0,9,     -999.0,9,     -999.0,9,         62,-999.000,-999.000,-999.000,     -999.0,9, -999.00,9, -999.00,9
33RO200306_01,       A16N,     062,          1,          8,          8,2,20030706,       0828,    34.4998,   -20.8435,       5169,  3400.4,   2.6443,  34.9274,2,  34.9275,2,    245.9,2,   245.4,2,   37.25,2,   21.06,2,    0.00,2,    1.40,2,-999.000,9,-999.000,9,-999.000,9,  -999.0,9,  -999.0,9,   -999.0,9,  -999.00,-999.0000,9,  -999.00,-999.000,9,-999.000,9,-999.000,9, -999.00,9,  -999.0,9,  -999.0,-999.000,9,-999.000,-999.000,9, -999.00,9, -999.00,9, 3400.40,-999.0000,9,-999.0000,9,-999.0000,9,-999.0000,9,-999.0000,9,-999.0000,9,   2.3590,     -999.0,9,     -999.0,9,     -999.0,9,     -999.0,9,         62,-999.000,-999.000,-999.000,     -999.0,9, -999.00,9, -999.00,9