BOTTLE,20230908CCHSIOCBG
EXPOCODE,SECT_ID,STNNBR,CASTNO,SAMPNO,BTLNBR,BTLNBR_FLAG_W,DATE,TIME,LATITUDE,LONGITUDE,DEPTH,CTDPRS,CTDTMP,CTDSAL,CTDSAL_FLAG_W,SALNTY,SALNTY_FLAG_W,CTDOXY,CTDOXY_FLAG_W,OXYGEN,OXYGEN_FLAG_W,SILCAT,SILCAT_FLAG_W,NITRAT,NITRAT_FLAG_W,NITRIT,NITRIT_FLAG_W,PHSPHT,PHSPHT_FLAG_W,CFC-11,CFC-11_FLAG_W,CFC-12,CFC-12_FLAG_W,CFC113,CFC113_FLAG_W,TCARBN,TCARBN_FLAG_W,ALKALI,ALKALI_FLAG_W,FCO2,FCO2_FLAG_W,FCO2TMP,PH_SWS,PH_SWS_FLAG_W,PH_TMP,TRITUM,TRITUM_FLAG_W,HELIUM,HELIUM_FLAG_W,DELHE3,DELHE3_FLAG_W,DELC13,DELC13_FLAG_W,DELC14,DELC14_FLAG_W,C14ERR,NEON,NEON_FLAG_W,NEONER,POC,POC_FLAG_W,DOC,DOC_FLAG_W,TDN,TDN_FLAG_W,CTDRAW,CDOM325,CDOM325_FLAG_W,CDOM340,CDOM340_FLAG_W,CDOM380,CDOM380_FLAG_W,CDOM412,CDOM412_FLAG_W,CDOMSL,CDOMSL_FLAG_W,CDOMSN,CDOMSN_FLAG_W,THETA,PON,PON_FLAG_W,HCFC-22,HCFC-22_FLAG_W,HCFC-142b,HCFC-142b_FLAG_W,HCFC-141b,HCFC-141b_FLAG_W,STNNBR_U,HELIER,DELHER,TRITER,CH3CL,CH3CL_FLAG_W,CH3BR,CH3BR_FLAG_W,CH3I,CH3I_FLAG_W
,,,,,,,,,,,METERS,DBAR,ITS-90,PSS-78,,PSS-78,,UMOL/KG,,UMOL/KG,,UMOL/KG,,UMOL/KG,,UMOL/KG,,UMOL/KG,,PMOL/KG,,PMOL/KG,,PMOL/KG,,UMOL/KG,,UMOL/KG,,UATM,,DEG C,,,DEG C,TU,,NMOL/KG,,PERCNT,,/MILLE,,/MILLE,,/MILLE,NMOL/KG,,NMOL/KG,UG/KG,,UMOL/KG,,UMOL/KG,,DBAR,1/M,,1/M,,1/M,,1/M,,1/NM,,1/NM,,DEG C,UMOL/L,,PMOL/KG,,PMOL/KG,,PMOL/KG,,,NMOL/KG,PERCNT,TU,PMOL/KG,,PMOL/KG,,PMOL/KG,
33RO200306_01,       A16N,     041,          1,         24,         24,2,20030629,       2338,    44.9988,   -19.9987,       4311,   797.6,   9.9477,  35.4620,2,  35.4565,2,    190.5,2,   187.9,2,    8.60,2,   17.39,2,    0.00,2,    1.07,2,-999.000,9,-999.000,9,-999.000,9,  2175.0,2,  2311.5,2,    713.9,2,    20.00,   7.7202,2,    25.00,-999.000,9,-999.000,9,-999.000,9, -999.00,9,  -999.0,9,  -999.0,-999.000,9,-999.000,-999.000,9,   46.02,2,   21.62,2,  797.60,-999.0000,9,-999.0000,9,-999.0000,9,-999.0000,9,-999.0000,9,-999.0000,9,   9.8521,     -999.0,9,     -999.0,9,     -999.0,9,     -999.0,9,         41,-999.000,-999.000,-999.000,     -999.0,9, -999.00,9, -999.00,9
33RO200306_01,       A16N,     041,          1,         23,         23,2,20030629,       2338,    44.9988,   -19.9987,       4311,   798.1,   9.9487,  35.4625,2,-999.0000,1,    190.5,2,  -999.0,9, -999.00,9, -999.00,9, -999.00,9, -999.00,9,   2.194,2,   1.176,2,   0.071,2,  -999.0,9,  -999.0,9,   -999.0,9,  -999.00,-999.0000,9,  -999.00,-999.000,9,-999.000,9,-999.000,9, -999.00,9,  -999.0,9,  -999.0,-999.000,9,-999.000,-999.000,9, -999.00,9, -999.00,9,  798.10,-999.0000,9,-999.0000,9,-999.0000,9,-999.0000,9,-999.0000,9,-999.0000,9,   9.8530,     -999.0,9,     -999.0,9,     -999.0,9,     -999.0,9,         41,-999.000,-999.000,-999.000,     -999.0,9, -999.00,9, -999.00,9
33RO200306_01,       A16N,     041,          1,         22,         22,2,20030629,       2338,    44.9988,   -19.9987,       4311,   893.8,   9.1735,  35.4208,2,  35.4078,2,    188.4,2,   186.0,2, -999.00,9, -999.00,9, -999.00,9, -999.00,9,-999.000,9,-999.000,9,-999.000,9,  2170.9,3,  2332.2,2,    736.5,2,    20.00,-999.0000,9,  -999.00,-999.000,9,-999.000,9,-999.000,9, -999.00,9,  -999.0,9,  -999.0,-999.000,9,-999.000,-999.000,9,   45.04,2,   22.12,2,  893.80,-999.0000,9,-999.0000,9,-999.0000,9,-999.0000,9,-999.0000,9,-999.0000,9,   9.0709,     -999.0,9,     -999.0,9,     -999.0,9,     -999.0,9,         41,-999.000,-999.000,-999.000,     -999.0,9, -999.00,9, -999.00,9
33RO200306_01,       A16N,     041,          1,         21,         21,2,20030629,       2338,    44.9988,   -19.9987,       4311,   893.9,   9.1726,  35.4207,2,  35.4103,2,    188.4,2,  -999.0,9,    9.85,2,   18.34,2,    0.00,2,    1.14,2,-999.000,9,-999.000,9,-999.000,9,  -999.0,9,  -999.0,9,    739.3,6,    20.00,-999.0000,9,  -999.00,-999.000,9,   1.830,3,   4.865,2, -999.00,9,  -999.0,9,  -999.0,   7.555,2,   0.026,-999.000,9, -999.00,9, -999.00,9,  893.90,-999.0000,9,-999.0000,9,-999.0000,9,-999.0000,9,-999.0000,9,-999.0000,9,   9.0700,     -999.0,9,     -999.0,9,     -999.0,9,     -999.0,9,         41,   0.016,   0.155,-999.000,     -999.0,9, -999.00,9, -999.00,9
33RO200306_01,       A16N,     041,          1,         19,         19,2,20030629,       2338,    44.9988,   -19.9987,       4311,  1000.3,   8.4900,  35.4320,2,  35.4279,2,    192.7,2,  -999.0,9,   10.47,2,   18.36,2,    0.00,2,    1.15,2,   1.869,2,   0.973,2,   0.068,2,  -999.0,9,  -999.0,9,   -999.0,9,  -999.00,-999.0000,9,  -999.00,-999.000,9,   1.809,2,   7.436,2, -999.00,9,  -999.0,9,  -999.0,   7.683,2,   0.027,-999.000,9, -999.00,9, -999.00,9, 1000.30,-999.0000,9,-999.0000,9,-999.0000,9,-999.0000,9,-999.0000,9,-999.0000,9,   8.3794,     -999.0,9,     -999.0,9,     -999.0,9,     -999.0,9,         41,   0.004,   0.153,-999.000,     -999.0,9, -999.00,9, -999.00,9
33RO200306_01,       A16N,     041,          1,         20,         20,2,20030629,       2338,    44.9988,   -19.9987,       4311,  1000.9,   8.4882,  35.4322,2,  35.4265,2,    193.1,2,   193.7,2, -999.00,9, -999.00,9, -999.00,9, -999.00,9,-999.000,9,-999.000,9,-999.000,9,  2180.5,6,  2336.3,2,   -999.0,9,  -999.00,-999.0000,9,  -999.00,-999.000,9,-999.000,9,-999.000,9, -999.00,9,  -999.0,9,  -999.0,-999.000,9,-999.000,-999.000,9,   44.31,2,   22.11,2, 1000.90,-999.0000,9,-999.0000,9,-999.0000,9,-999.0000,9,-999.0000,9,-999.0000,9,   8.3775,     -999.0,9,     -999.0,9,     -999.0,9,     -999.0,9,         41,-999.000,-999.000,-999.000,     -999.0,9, -999.00,9, -999.00,9
33RO200306_01,       A16N,     041,          1,         18,         18,2,20030629,       2338,    44.9988,   -19.9987,       4311,  1197.9,   7.2402,  35.3762,2,  35.3743,2,    213.7,2,   204.0,2, -999.00,9, -999.00,9, -999.00,9, -999.00,9,-999.000,9,-999.000,9,-999.000,9,  2183.4,2,  2336.0,2,    749.0,2,    20.00,-999.0000,9,  -999.00,-999.000,9,-999.000,9,-999.000,9, -999.00,9,  -999.0,9,  -999.0,-999.000,9,-999.000,-999.000,9,   44.56,2,   21.20,2, 1197.90,-999.0000,9,-999.0000,9,-999.0000,9,-999.0000,9,-999.0000,9,-999.0000,9,   7.1172,     -999.0,9,     -999.0,9,     -999.0,9,     -999.0,9,         41,-999.000,-999.000,-999.000,     -999.0,9, -999.00,9, -999.00,9
33RO200306_01,       A16N,     041,          1,         17,         17,2,20030629,       2338,    44.9988,   -19.9987,       4311,  1198.0,   7.2426,  35.3766,2,  35.3729,2,    213.7,2,  -999.0,9,   11.03,2,   18.11,2,    0.00,2,    1.14,2,   1.894,2,   0.982,2,   0.083,2,  -999.0,9,  -999.0,9,   -999.0,9,  -999.00,-999.0000,9,  -999.00,   1.398,2,   1.807,2,   7.932,2, -999.00,9,  -999.0,9,  -999.0,   7.724,2,   0.027,-999.000,9, -999.00,9, -999.00,9, 1198.00,-999.0000,9,-999.0000,9,-999.0000,9,-999.0000,9,-999.0000,9,-999.0000,9,   7.1196,     -999.0,9,     -999.0,9,     -999.0,9,     -999.0,9,         41,   0.004,   0.153,   0.340,     -999.0,9, -999.00,9, -999.00,9
33RO200306_01,       A16N,     041,          1,         16,         16,2,20030629,       2338,    44.9988,   -19.9987,       4311,  1595.3,   4.1489,  34.9666,2,  34.9643,2,    259.5,2,   261.7,2,   11.37,2,   17.76,2,    0.00,2,    1.15,2,-999.000,9,-999.000,9,-999.000,9,  2162.3,2,  -999.0,9,    775.9,3,    20.00,-999.0000,9,  -999.00,-999.000,9,-999.000,9,-999.000,9, -999.00,9,  -999.0,9,  -999.0,-999.000,9,-999.000,-999.000,9, -999.00,9, -999.00,9, 1595.30,-999.0000,9,-999.0000,9,-999.0000,9,-999.0000,9,-999.0000,9,-999.0000,9,   4.0182,     -999.0,9,     -999.0,9,     -999.0,9,     -999.0,9,         41,-999.000,-999.000,-999.000,     -999.0,9, -999.00,9, -999.00,9
33RO200306_01,       A16N,     041,          1,         15,         15,9,20030629,       2338,    44.9988,   -19.9987,       4311,  1595.7,   4.1437,  34.9659,2,-999.0000,9,    259.6,2,  -999.0,9, -999.00,9, -999.00,9, -999.00,9, -999.00,9,-999.000,9,-999.000,9,-999.000,9,  -999.0,9,  -999.0,9,   -999.0,9,  -999.00,-999.0000,9,  -999.00,-999.000,9,-999.000,9,-999.000,9, -999.00,9,  -999.0,9,  -999.0,-999.000,9,-999.000,-999.000,9, -999.00,9, -999.00,9, 1595.70,-999.0000,9,-999.0000,9,-999.0000,9,-999.0000,9,-999.0000,9,-999.0000,9,   4.0130,     -999.0,9,     -999.0,9,     -999.0,9,     -999.0,9,         41,-999.000,-999.000,-999.000,     -999.0,9, -999.00,9, -999.00,9
33RO200306_01,       A16N,     041,          1,         13,         13,2,20030629,       2338,    44.9988,   -19.9987,       4311,  1986.5,   3.5250,  34.9192,2,  34.9179,2,    275.5,2,  -999.0,9,   12.01,2,   17.33,2,    0.00,2,    1.13,2,   2.285,2,   1.136,2,   0.120,2,  -999.0,9,  -999.0,9,   -999.0,9,  -999.00,-999.0000,9,  -999.00,   0.955,2,-999.000,9,-999.000,9, -999.00,9,  -999.0,9,  -999.0,-999.000,9,-999.000,-999.000,9, -999.00,9, -999.00,9, 1986.50,-999.0000,9,-999.0000,9,-999.0000,9,-999.0000,9,-999.0000,9,-999.0000,9,   3.3660,     -999.0,9,     -999.0,9,     -999.0,9,     -999.0,9,         41,-999.000,-999.000,   0.020,     -999.0,9, -999.00,9, -999.00,9
33RO200306_01,       A16N,     041,          1,         14,         14,2,20030629,       2338,    44.9988,   -19.9987,       4311,  1987.7,   3.5253,  34.9192,2,  34.9656,3,    275.5,2,   261.3,2, -999.00,9, -999.00,9, -999.00,9, -999.00,9,-999.000,9,-999.000,9,-999.000,9,  2162.7,2,  -999.0,9,    776.0,2,    20.00,-999.0000,9,  -999.00,-999.000,9,-999.000,9,-999.000,9, -999.00,9,  -999.0,9,  -999.0,-999.000,9,-999.000,-999.000,9,   43.90,2,   21.23,2, 1987.70,-999.0000,9,-999.0000,9,-999.0000,9,-999.0000,9,-999.0000,9,-999.0000,9,   3.3661,     -999.0,9,     -999.0,9,     -999.0,9,     -999.0,9,         41,-999.000,-999.000,-999.000,     -999.0,9, -999.00,9, -999.00,9
33RO200306_01,       A16N,     041,          1,         12,         12,2,20030629,       2338,    44.9988,   -19.9987,       4311,  2500.5,   3.2116,  34.9422,2,  34.9411,2,    270.3,2,   269.5,2, -999.00,9, -999.00,9, -999.00,9, -999.00,9,-999.000,9,-999.000,9,-999.000,9,  2160.9,2,  -999.0,9,    752.9,2,    20.00,-999.0000,9,  -999.00,-999.000,9,-999.000,9,-999.000,9, -999.00,9,  -999.0,9,  -999.0,-999.000,9,-999.000,-999.000,9,   44.39,2,   20.78,2, 2500.50,-999.0000,9,-999.0000,9,-999.0000,9,-999.0000,9,-999.0000,9,-999.0000,9,   3.0077,     -999.0,9,     -999.0,9,     -999.0,9,     -999.0,9,         41,-999.000,-999.000,-999.000,     -999.0,9, -999.00,9, -999.00,9
33RO200306_01,       A16N,     041,          1,         11,         11,2,20030629,       2338,    44.9988,   -19.9987,       4311,  2501.2,   3.2114,  34.9422,2,  34.9406,2,    270.1,2,  -999.0,9,   16.38,2,   17.51,2,    0.00,2,    1.16,2,   1.366,2,   0.678,2,   0.059,2,  -999.0,9,  -999.0,9,   -999.0,9,  -999.00,-999.0000,9,  -999.00,   0.615,2,   1.832,2,   7.422,2, -999.00,9,  -999.0,9,  -999.0,   8.021,2,   0.028,-999.000,9, -999.00,9, -999.00,9, 2501.20,-999.0000,9,-999.0000,9,-999.0000,9,-999.0000,9,-999.0000,9,-999.0000,9,   3.0075,     -999.0,9,     -999.0,9,     -999.0,9,     -999.0,9,         41,   0.004,   0.153,   0.020,     -999.0,9, -999.00,9, -999.00,9
33RO200306_01,       A16N,     041,          1,          8,          8,9,20030629,       2338,    44.9988,   -19.9987,       4311,  3000.3,   2.8742,  34.9452,2,-999.0000,9,    260.5,2,  -999.0,9, -999.00,9, -999.00,9, -999.00,9, -999.00,9,-999.000,9,-999.000,9,-999.000,9,  -999.0,9,  -999.0,9,   -999.0,9,  -999.00,-999.0000,9,  -999.00,-999.000,9,-999.000,9,-999.000,9, -999.00,9,  -999.0,9,  -999.0,-999.000,9,-999.000,-999.000,9, -999.00,9, -999.00,9, 3000.30,-999.0000,9,-999.0000,9,-999.0000,9,-999.0000,9,-999.0000,9,-999.0000,9,   2.6261,     -999.0,9,     -999.0,9,     -999.0,9,     -999.0,9,         41,-999.000,-999.000,-999.000,     -999.0,9, -999.00,9, -999.00,9
33RO200306_01,       A16N,     041,          1,         10,         10,2,20030629,       2338,    44.9988,   -19.9987,       4311,  3000.5,   2.8749,  34.9453,2,  34.9437,2,    260.5,2,   259.7,2,   24.58,2,   18.57,2,    0.00,2,    1.24,2,-999.000,9,-999.000,9,-999.000,9,  2173.0,2,  -999.0,9,    755.8,2,    20.00,-999.0000,9,  -999.00,-999.000,9,-999.000,9,-999.000,9, -999.00,9,  -999.0,9,  -999.0,-999.000,9,-999.000,-999.000,9,   43.17,2,   22.59,2, 3000.50,-999.0000,9,-999.0000,9,-999.0000,9,-999.0000,9,-999.0000,9,-999.0000,9,   2.6268,     -999.0,9,     -999.0,9,     -999.0,9,     -999.0,9,         41,-999.000,-999.000,-999.000,     -999.0,9, -999.00,9, -999.00,9
33RO200306_01,       A16N,     041,          1,          9,          9,9,20030629,       2338,    44.9988,   -19.9987,       4311,  3000.9,   2.8744,  34.9452,2,-999.0000,9,    260.5,2,  -999.0,9, -999.00,9, -999.00,9, -999.00,9, -999.00,9,-999.000,9,-999.000,9,-999.000,9,  -999.0,9,  -999.0,9,   -999.0,9,  -999.00,-999.0000,9,  -999.00,-999.000,9,-999.000,9,-999.000,9, -999.00,9,  -999.0,9,  -999.0,-999.000,9,-999.000,-999.000,9, -999.00,9, -999.00,9, 3000.90,-999.0000,9,-999.0000,9,-999.0000,9,-999.0000,9,-999.0000,9,-999.0000,9,   2.6262,     -999.0,9,     -999.0,9,     -999.0,9,     -999.0,9,         41,-999.000,-999.000,-999.000,     -999.0,9, -999.00,9, -999.00,9
33RO200306_01,       A16N,     041,          1,          7,          7,2,20030629,       2338,    44.9988,   -19.9987,       4311,  3499.4,   2.6588,  34.9298,2,  34.9280,2,    248.8,2,   247.3,2, -999.00,9, -999.00,9, -999.00,9, -999.00,9,-999.000,9,-999.000,9,-999.000,9,  2189.8,2,  -999.0,9,    766.9,2,    20.00,-999.0000,9,  -999.00,-999.000,9,-999.000,9,-999.000,9, -999.00,9,  -999.0,9,  -999.0,-999.000,9,-999.000,-999.000,9,   40.81,2,   24.07,2, 3499.40,-999.0000,9,-999.0000,9,-999.0000,9,-999.0000,9,-999.0000,9,-999.0000,9,   2.3624,     -999.0,9,     -999.0,9,     -999.0,9,     -999.0,9,         41,-999.000,-999.000,-999.000,     -999.0,9, -999.00,9, -999.00,9
33RO200306_01,       A16N,     041,          1,          6,          6,2,20030629,       2338,    44.9988,   -19.9987,       4311,  3499.6,   2.6589,  34.9298,2,  34.9288,2,    248.8,2,  -999.0,9,   35.56,6,   20.64,6,    0.00,6,    1.38,6,   0.391,2,   0.197,2,   0.020,2,  -999.0,9,  -999.0,9,   -999.0,9,  -999.00,-999.0000,9,  -999.00,   0.283,2,   1.790,2,   3.619,2, -999.00,9,  -999.0,9,  -999.0,   7.817,2,   0.028,-999.000,9, -999.00,9, -999.00,9, 3499.60,-999.0000,9,-999.0000,9,-999.0000,9,-999.0000,9,-999.0000,9,-999.0000,9,   2.3625,     -999.0,9,     -999.0,9,     -999.0,9,     -999.0,9,         41,   0.004,   0.154,   0.010,     -999.0,9, -999.00,9, -999.00,9
33RO200306_01,       A16N,     041,          1,          4,          4,2,20030629,       2338,    44.9988,   -19.9987,       4311,  4000.5,   2.5853,  34.9180,2,  34.9158,2,    241.9,2,  -999.0,9,   41.30,6,   21.74,6,    0.01,6,    1.46,6,   0.144,2,   0.067,2,   0.009,2,  -999.0,9,  -999.0,9,   -999.0,9,  -999.00,-999.0000,9,  -999.00,   0.168,2,   1.862,2,   2.421,2, -999.00,9,  -999.0,9,  -999.0,   8.106,2,   0.028,-999.000,9, -999.00,9, -999.00,9, 4000.50,-999.0000,9,-999.0000,9,-999.0000,9,-999.0000,9,-999.0000,9,-999.0000,9,   2.2345,     -999.0,9,     -999.0,9,     -999.0,9,     -999.0,9,         41,   0.005,   0.154,   0.010,     -999.0,9, -999.00,9, -999.00,9
33RO200306_01,       A16N,     041,          1,          5,          5,2,20030629,       2338,    44.9988,   -19.9987,       4311,  4000.5,   2.5855,  34.9178,2,  34.9171,2,    241.9,2,   241.6,2, -999.00,9, -999.00,9, -999.00,9, -999.00,9,-999.000,9,-999.000,9,-999.000,9,  2198.3,2,  -999.0,9,    767.5,2,    20.00,-999.0000,9,  -999.00,-999.000,9,-999.000,9,-999.000,9, -999.00,9,  -999.0,9,  -999.0,-999.000,9,-999.000,-999.000,9,   40.24,2,   25.61,2, 4000.50,-999.0000,9,-999.0000,9,-999.0000,9,-999.0000,9,-999.0000,9,-999.0000,9,   2.2347,     -999.0,9,     -999.0,9,     -999.0,9,     -999.0,9,         41,-999.000,-999.000,-999.000,     -999.0,9, -999.00,9, -999.00,9
33RO200306_01,       A16N,     041,          1,          2,          2,2,20030629,       2338,    44.9988,   -19.9987,       4311,  4393.7,   2.6045,  34.9149,2,  34.9135,2,    240.3,2,  -999.0,9,   42.60,6,   21.99,6,    0.00,6,    1.47,6,   0.097,2,   0.052,2,   0.010,2,  -999.0,9,  -999.0,9,   -999.0,9,  -999.00,-999.0000,9,  -999.00,   0.088,2,   1.844,2,   2.510,2, -999.00,9,  -999.0,9,  -999.0,   7.989,2,   0.025,-999.000,9, -999.00,9, -999.00,9, 4393.70,-999.0000,9,-999.0000,9,-999.0000,9,-999.0000,9,-999.0000,9,-999.0000,9,   2.2068,     -999.0,9,     -999.0,9,     -999.0,9,     -999.0,9,         41,   0.004,   0.131,   0.010,     -999.0,9, -999.00,9, -999.00,9
33RO200306_01,       A16N,     041,          1,          1,          1,9,20030629,       2338,    44.9988,   -19.9987,       4311,  4394.1,   2.6045,  34.9148,2,-999.0000,9,    240.3,2,  -999.0,9, -999.00,9, -999.00,9, -999.00,9, -999.00,9,-999.000,9,-999.000,9,-999.000,9,  -999.0,9,  -999.0,9,   -999.0,9,  -999.00,-999.0000,9,  -999.00,-999.000,9,-999.000,9,-999.000,9, -999.00,9,  -999.0,9,  -999.0,-999.000,9,-999.000,-999.000,9, -999.00,9, -999.00,9, 4394.10,-999.0000,9,-999.0000,9,-999.0000,9,-999.0000,9,-999.0000,9,-999.0000,9,   2.2067,     -999.0,9,     -999.0,9,     -999.0,9,     -999.0,9,         41,-999.000,-999.000,-999.000,     -999.0,9, -999.00,9, -999.00,9
33RO200306_01,       A16N,     041,          1,          3,          3,2,20030629,       2338,    44.9988,   -19.9987,       4311,  4394.2,   2.6042,  34.9149,2,  34.9153,2,    240.3,2,   244.3,2, -999.00,9, -999.00,9, -999.00,9, -999.00,9,-999.000,9,-999.000,9,-999.000,9,  2199.2,2,  -999.0,9,   -999.0,9,  -999.00,-999.0000,9,  -999.00,-999.000,9,-999.000,9,-999.000,9, -999.00,9,  -999.0,9,  -999.0,-999.000,9,-999.000,-999.000,9,   40.08,2,   25.98,2, 4394.20,-999.0000,9,-999.0000,9,-999.0000,9,-999.0000,9,-999.0000,9,-999.0000,9,   2.2064,     -999.0,9,     -999.0,9,     -999.0,9,     -999.0,9,         41,-999.000,-999.000,-999.000,     -999.0,9, -999.00,9, -999.00,9