BOTTLE,20230908CCHSIOCBG
EXPOCODE,SECT_ID,STNNBR,CASTNO,SAMPNO,BTLNBR,BTLNBR_FLAG_W,DATE,TIME,LATITUDE,LONGITUDE,DEPTH,CTDPRS,CTDTMP,CTDSAL,CTDSAL_FLAG_W,SALNTY,SALNTY_FLAG_W,CTDOXY,CTDOXY_FLAG_W,OXYGEN,OXYGEN_FLAG_W,SILCAT,SILCAT_FLAG_W,NITRAT,NITRAT_FLAG_W,NITRIT,NITRIT_FLAG_W,PHSPHT,PHSPHT_FLAG_W,CFC-11,CFC-11_FLAG_W,CFC-12,CFC-12_FLAG_W,CFC113,CFC113_FLAG_W,TCARBN,TCARBN_FLAG_W,ALKALI,ALKALI_FLAG_W,FCO2,FCO2_FLAG_W,FCO2TMP,PH_SWS,PH_SWS_FLAG_W,PH_TMP,TRITUM,TRITUM_FLAG_W,HELIUM,HELIUM_FLAG_W,DELHE3,DELHE3_FLAG_W,DELC13,DELC13_FLAG_W,DELC14,DELC14_FLAG_W,C14ERR,NEON,NEON_FLAG_W,NEONER,POC,POC_FLAG_W,DOC,DOC_FLAG_W,TDN,TDN_FLAG_W,CTDRAW,CDOM325,CDOM325_FLAG_W,CDOM340,CDOM340_FLAG_W,CDOM380,CDOM380_FLAG_W,CDOM412,CDOM412_FLAG_W,CDOMSL,CDOMSL_FLAG_W,CDOMSN,CDOMSN_FLAG_W,THETA,PON,PON_FLAG_W,HCFC-22,HCFC-22_FLAG_W,HCFC-142b,HCFC-142b_FLAG_W,HCFC-141b,HCFC-141b_FLAG_W,STNNBR_U,HELIER,DELHER,TRITER,CH3CL,CH3CL_FLAG_W,CH3BR,CH3BR_FLAG_W,CH3I,CH3I_FLAG_W
,,,,,,,,,,,METERS,DBAR,ITS-90,PSS-78,,PSS-78,,UMOL/KG,,UMOL/KG,,UMOL/KG,,UMOL/KG,,UMOL/KG,,UMOL/KG,,PMOL/KG,,PMOL/KG,,PMOL/KG,,UMOL/KG,,UMOL/KG,,UATM,,DEG C,,,DEG C,TU,,NMOL/KG,,PERCNT,,/MILLE,,/MILLE,,/MILLE,NMOL/KG,,NMOL/KG,UG/KG,,UMOL/KG,,UMOL/KG,,DBAR,1/M,,1/M,,1/M,,1/M,,1/NM,,1/NM,,DEG C,UMOL/L,,PMOL/KG,,PMOL/KG,,PMOL/KG,,,NMOL/KG,PERCNT,TU,PMOL/KG,,PMOL/KG,,PMOL/KG,
33RO200306_02,       A16N,     096,          1,          7,          7,2,20030724,       1112,    17.9995,   -28.9988,       4554,  2950.3,   2.7553,  34.9355,2,  34.9362,2,    242.2,2,   244.6,2,   35.28,2,   20.95,2,    0.01,2,    1.46,2,-999.000,9,-999.000,9,-999.000,9,  2188.6,2,  2338.1,2,   -999.0,9,  -999.00,   7.7208,2,    25.00,-999.000,9,-999.000,9,-999.000,9, -999.00,9,  -999.0,9,  -999.0,-999.000,9,-999.000,-999.000,9,   41.87,2,   25.25,2, 2950.30,-999.0000,9,-999.0000,9,-999.0000,9,-999.0000,9,-999.0000,9,-999.0000,9,   2.5150,     -999.0,9,     -999.0,9,     -999.0,9,     -999.0,9,         96,-999.000,-999.000,-999.000,     -999.0,9, -999.00,9, -999.00,9
33RO200306_02,       A16N,     096,          1,          6,          6,2,20030724,       1112,    17.9995,   -28.9988,       4554,  3250.3,   2.5780,  34.9216,2,  34.9220,2,    241.5,2,   242.0,2,   39.72,2,   21.46,2,    0.01,2,    1.50,2,   0.002,2,   0.003,2,   0.000,2,  2194.6,2,  2348.5,2,    765.6,6,    20.00,   7.7178,2,    25.00,-999.000,9,-999.000,9,-999.000,9, -999.00,9,  -999.0,9,  -999.0,-999.000,9,-999.000,-999.000,9,   40.98,2,   26.08,2, 3250.30,-999.0000,9,-999.0000,9,-999.0000,9,-999.0000,9,-999.0000,9,-999.0000,9,   2.3104,     -999.0,9,     -999.0,9,     -999.0,9,     -999.0,9,         96,-999.000,-999.000,-999.000,     -999.0,9, -999.00,9, -999.00,9
33RO200306_02,       A16N,     096,          1,          5,          5,2,20030724,       1112,    17.9995,   -28.9988,       4554,  3549.7,   2.4513,  34.9079,2,  34.9087,2,    242.6,2,   242.5,2,   43.05,2,   21.72,2,    0.01,2,    1.53,2,-999.000,9,-999.000,9,-999.000,9,  2199.1,2,  2352.1,2,   -999.0,9,  -999.00,   7.7325,2,    25.00,-999.000,9,-999.000,9,-999.000,9, -999.00,9,  -999.0,9,  -999.0,-999.000,9,-999.000,-999.000,9,   41.39,2,   26.47,2, 3549.70,-999.0000,9,-999.0000,9,-999.0000,9,-999.0000,9,-999.0000,9,-999.0000,9,   2.1547,     -999.0,9,     -999.0,9,     -999.0,9,     -999.0,9,         96,-999.000,-999.000,-999.000,     -999.0,9, -999.00,9, -999.00,9
33RO200306_02,       A16N,     096,          1,          4,          4,2,20030724,       1112,    17.9995,   -28.9988,       4554,  3850.0,   2.3689,  34.8973,2,  34.9041,4,    244.5,2,   244.2,2,   45.03,2,   21.85,2,    0.01,2,    1.54,2,   0.019,3,   0.006,2,   0.002,2,  2199.3,2,  2351.5,2,   -999.0,9,  -999.00,   7.7353,2,    25.00,-999.000,9,-999.000,9,-999.000,9, -999.00,9,  -999.0,9,  -999.0,-999.000,9,-999.000,-999.000,9,   42.85,2,   26.93,2, 3850.00,-999.0000,9,-999.0000,9,-999.0000,9,-999.0000,9,-999.0000,9,-999.0000,9,   2.0413,     -999.0,9,     -999.0,9,     -999.0,9,     -999.0,9,         96,-999.000,-999.000,-999.000,     -999.0,9, -999.00,9, -999.00,9
33RO200306_02,       A16N,     096,          1,          3,          3,2,20030724,       1112,    17.9995,   -28.9988,       4554,  4150.3,   2.3467,  34.8913,2,  34.9264,4,    245.8,2,   244.8,2,   46.12,6,   21.90,6,    0.01,6,    1.54,6,-999.000,9,-999.000,9,-999.000,9,  2200.4,2,  2352.5,2,    767.0,6,    20.00,   7.7312,2,    25.00,-999.000,9,-999.000,9,-999.000,9, -999.00,9,  -999.0,9,  -999.0,-999.000,9,-999.000,-999.000,9,   41.30,2,   27.20,2, 4150.30,-999.0000,9,-999.0000,9,-999.0000,9,-999.0000,9,-999.0000,9,-999.0000,9,   1.9855,     -999.0,9,     -999.0,9,     -999.0,9,     -999.0,9,         96,-999.000,-999.000,-999.000,     -999.0,9, -999.00,9, -999.00,9
33RO200306_02,       A16N,     096,          1,          2,          2,2,20030724,       1112,    17.9995,   -28.9988,       4554,  4400.4,   2.3597,  34.8894,2,  34.8897,2,    246.8,2,   244.8,2,   46.47,6,   21.91,6,    0.01,6,    1.54,6,   0.000,2,   0.003,2,   0.004,2,  2200.6,2,  2352.5,2,   -999.0,9,  -999.00,   7.7304,2,    25.00,-999.000,9,-999.000,9,-999.000,9, -999.00,9,  -999.0,9,  -999.0,-999.000,9,-999.000,-999.000,9,   41.30,2,   26.09,2, 4400.40,-999.0000,9,-999.0000,9,-999.0000,9,-999.0000,9,-999.0000,9,-999.0000,9,   1.9687,     -999.0,9,       0.00,2,       0.00,2,       0.04,2,         96,-999.000,-999.000,-999.000,      58.56,2,     0.1,2,    0.05,2
33RO200306_02,       A16N,     096,          1,          1,          1,2,20030724,       1112,    17.9995,   -28.9988,       4554,  4612.1,   2.3772,  34.8883,2,  34.8901,2,    246.9,2,   244.9,2,   46.84,6,   21.96,6,    0.01,6,    1.54,6,   0.003,2,   0.003,2,   0.002,2,  2202.5,6,  2354.7,6,    767.7,2,    20.00,   7.7304,6,    25.00,-999.000,9,-999.000,9,-999.000,9, -999.00,9,  -999.0,9,  -999.0,-999.000,9,-999.000,-999.000,9,   40.94,2,   27.00,2, 4612.10,-999.0000,9,-999.0000,9,-999.0000,9,-999.0000,9,-999.0000,9,-999.0000,9,   1.9601,     -999.0,9,     -999.0,9,       0.00,2,       0.42,2,         96,-999.000,-999.000,-999.000,      11.44,2,     0.0,2,    0.44,2