BOTTLE,20230908CCHSIOCBG
EXPOCODE,SECT_ID,STNNBR,CASTNO,SAMPNO,BTLNBR,BTLNBR_FLAG_W,DATE,TIME,LATITUDE,LONGITUDE,DEPTH,CTDPRS,CTDTMP,CTDSAL,CTDSAL_FLAG_W,SALNTY,SALNTY_FLAG_W,CTDOXY,CTDOXY_FLAG_W,OXYGEN,OXYGEN_FLAG_W,SILCAT,SILCAT_FLAG_W,NITRAT,NITRAT_FLAG_W,NITRIT,NITRIT_FLAG_W,PHSPHT,PHSPHT_FLAG_W,CFC-11,CFC-11_FLAG_W,CFC-12,CFC-12_FLAG_W,CFC113,CFC113_FLAG_W,TCARBN,TCARBN_FLAG_W,ALKALI,ALKALI_FLAG_W,FCO2,FCO2_FLAG_W,FCO2TMP,PH_SWS,PH_SWS_FLAG_W,PH_TMP,TRITUM,TRITUM_FLAG_W,HELIUM,HELIUM_FLAG_W,DELHE3,DELHE3_FLAG_W,DELC13,DELC13_FLAG_W,DELC14,DELC14_FLAG_W,C14ERR,NEON,NEON_FLAG_W,NEONER,POC,POC_FLAG_W,DOC,DOC_FLAG_W,TDN,TDN_FLAG_W,CTDRAW,CDOM325,CDOM325_FLAG_W,CDOM340,CDOM340_FLAG_W,CDOM380,CDOM380_FLAG_W,CDOM412,CDOM412_FLAG_W,CDOMSL,CDOMSL_FLAG_W,CDOMSN,CDOMSN_FLAG_W,THETA,PON,PON_FLAG_W,HCFC-22,HCFC-22_FLAG_W,HCFC-142b,HCFC-142b_FLAG_W,HCFC-141b,HCFC-141b_FLAG_W,STNNBR_U,HELIER,DELHER,TRITER,CH3CL,CH3CL_FLAG_W,CH3BR,CH3BR_FLAG_W,CH3I,CH3I_FLAG_W
,,,,,,,,,,,METERS,DBAR,ITS-90,PSS-78,,PSS-78,,UMOL/KG,,UMOL/KG,,UMOL/KG,,UMOL/KG,,UMOL/KG,,UMOL/KG,,PMOL/KG,,PMOL/KG,,PMOL/KG,,UMOL/KG,,UMOL/KG,,UATM,,DEG C,,,DEG C,TU,,NMOL/KG,,PERCNT,,/MILLE,,/MILLE,,/MILLE,NMOL/KG,,NMOL/KG,UG/KG,,UMOL/KG,,UMOL/KG,,DBAR,1/M,,1/M,,1/M,,1/M,,1/NM,,1/NM,,DEG C,UMOL/L,,PMOL/KG,,PMOL/KG,,PMOL/KG,,,NMOL/KG,PERCNT,TU,PMOL/KG,,PMOL/KG,,PMOL/KG,
33RO200306_01,       A16N,     045,          1,          7,          7,2,20030701,       0240,    42.9995,   -20.0013,       5539,  2501.5,   3.1791,  34.9462,2,  34.9478,2,    266.7,2,   266.1,2,   17.88,2,   17.72,2,    0.00,2,    1.17,2,   1.176,2,   0.578,2,   0.046,2,  2164.7,2,  2313.8,2,   -999.0,9,  -999.00,   7.7381,2,    25.00,-999.000,9,-999.000,9,-999.000,9, -999.00,9,  -999.0,9,  -999.0,-999.000,9,-999.000,-999.000,9,   43.49,2,   21.45,2, 2501.50,-999.0000,9,-999.0000,9,-999.0000,9,-999.0000,9,-999.0000,9,-999.0000,9,   2.9757,     -999.0,9,     -999.0,9,     -999.0,9,     -999.0,9,         45,-999.000,-999.000,-999.000,     -999.0,9, -999.00,9, -999.00,9
33RO200306_01,       A16N,     045,          1,          6,          6,2,20030701,       0240,    42.9995,   -20.0013,       5539,  3001.5,   2.8230,  34.9430,2,  34.9442,2,    256.1,2,   254.2,2,   28.21,2,   19.31,2,    0.00,2,    1.29,2,   0.600,2,   0.305,2,   0.025,2,  2180.1,2,  2328.0,2,    758.4,2,    20.00,   7.7335,2,    25.00,   0.348,2,   1.814,2,   4.838,2, -999.00,9,  -999.0,9,  -999.0,   7.864,2,   0.025,-999.000,9,   42.03,2,   23.75,2, 3001.50,-999.0000,9,-999.0000,9,-999.0000,9,-999.0000,9,-999.0000,9,-999.0000,9,   2.5759,     -999.0,9,     -999.0,9,     -999.0,9,     -999.0,9,         45,   0.004,   0.131,   0.010,     -999.0,9, -999.00,9, -999.00,9
33RO200306_01,       A16N,     045,          1,          5,          5,2,20030701,       0240,    42.9995,   -20.0013,       5539,  3500.2,   2.6076,  34.9234,2,  34.9240,2,    247.2,2,   244.9,2,   38.16,2,   21.06,2,    0.00,2,    1.42,2,   0.261,2,   0.131,2,   0.015,2,  2194.9,2,  2342.2,2,   -999.0,9,  -999.00,   7.7291,2,    25.00,-999.000,9,   1.825,2,   3.332,2, -999.00,9,  -999.0,9,  -999.0,   7.689,4,   0.024,-999.000,9,   42.44,2,   25.20,2, 3500.20,-999.0000,9,-999.0000,9,-999.0000,9,-999.0000,9,-999.0000,9,-999.0000,9,   2.3124,     -999.0,9,     -999.0,9,     -999.0,9,     -999.0,9,         45,   0.004,   0.131,-999.000,     -999.0,9, -999.00,9, -999.00,9
33RO200306_01,       A16N,     045,          1,          4,          4,2,20030701,       0240,    42.9995,   -20.0013,       5539,  3983.9,   2.5759,  34.9153,2,  34.9160,2,    243.2,2,   241.0,2,   41.78,6,   21.70,6,    0.00,6,    1.46,6,   0.113,2,   0.056,2,   0.011,2,  2199.8,2,  2349.0,2,    768.5,2,    20.00,   7.7296,2,    25.00,   0.203,2,   1.762,2,   2.643,2, -999.00,9,  -999.0,9,  -999.0,   8.006,2,   0.025,-999.000,9,   42.85,2,   26.93,2, 3983.90,-999.0000,9,-999.0000,9,-999.0000,9,-999.0000,9,-999.0000,9,-999.0000,9,   2.2273,     -999.0,9,     -999.0,9,     -999.0,9,     -999.0,9,         45,   0.054,   0.132,   0.010,     -999.0,9, -999.00,9, -999.00,9
33RO200306_01,       A16N,     045,          1,          3,          3,2,20030701,       0240,    42.9995,   -20.0013,       5539,  4499.7,   2.6183,  34.9129,2,  34.9142,2,    241.9,2,   240.1,2,   42.59,6,   21.88,6,    0.00,6,    1.47,6,   0.083,2,   0.047,2,   0.007,2,  2200.8,2,  2350.5,2,    769.5,6,    20.00,   7.7285,2,    25.00,   0.119,2,   1.883,2,   2.185,2, -999.00,9,  -999.0,9,  -999.0,   8.128,2,   0.025,-999.000,9,   41.46,2,   26.34,2, 4499.70,-999.0000,9,-999.0000,9,-999.0000,9,-999.0000,9,-999.0000,9,-999.0000,9,   2.2073,     -999.0,9,     -999.0,9,     -999.0,9,     -999.0,9,         45,   0.004,    0.13,   0.010,     -999.0,9, -999.00,9, -999.00,9
33RO200306_01,       A16N,     045,          1,          2,          2,2,20030701,       0240,    42.9995,   -20.0013,       5539,  4994.3,   2.6784,  34.9122,2,  34.9140,2,    240.0,2,   240.3,2,   42.71,6,   21.93,6,    0.00,6,    1.47,6,   0.077,2,   0.044,2,   0.010,2,  2200.4,2,  2349.9,2,    765.7,2,    20.00,   7.7333,2,    25.00,   0.108,2,-999.000,9,-999.000,9, -999.00,9,  -999.0,9,  -999.0,-999.000,9,-999.000,-999.000,9,   41.05,2,   25.30,2, 4994.30,-999.0000,9,-999.0000,9,-999.0000,9,-999.0000,9,-999.0000,9,-999.0000,9,   2.2037,     -999.0,9,     -999.0,9,     -999.0,9,     -999.0,9,         45,-999.000,-999.000,   0.000,     -999.0,9, -999.00,9, -999.00,9
33RO200306_01,       A16N,     045,          1,          1,          1,2,20030701,       0240,    42.9995,   -20.0013,       5539,  5239.7,   2.7086,  34.9118,2,  34.9136,2,    238.8,2,   242.0,2,   42.96,2,   21.99,2,    0.00,2,    1.48,2,   0.072,6,   0.040,6,   0.010,6,  2200.0,6,  2346.2,2,    762.9,2,    20.00,   7.7319,2,    25.00,-999.000,9,-999.000,9,-999.000,9, -999.00,9,  -999.0,9,  -999.0,-999.000,9,-999.000,-999.000,9,   40.32,2,   26.53,2, 5239.70,-999.0000,9,-999.0000,9,-999.0000,9,-999.0000,9,-999.0000,9,-999.0000,9,   2.2010,     -999.0,9,     -999.0,9,     -999.0,9,     -999.0,9,         45,-999.000,-999.000,-999.000,     -999.0,9, -999.00,9, -999.00,9