BOTTLE,20230908CCHSIOCBG
EXPOCODE,SECT_ID,STNNBR,CASTNO,SAMPNO,BTLNBR,BTLNBR_FLAG_W,DATE,TIME,LATITUDE,LONGITUDE,DEPTH,CTDPRS,CTDTMP,CTDSAL,CTDSAL_FLAG_W,SALNTY,SALNTY_FLAG_W,CTDOXY,CTDOXY_FLAG_W,OXYGEN,OXYGEN_FLAG_W,SILCAT,SILCAT_FLAG_W,NITRAT,NITRAT_FLAG_W,NITRIT,NITRIT_FLAG_W,PHSPHT,PHSPHT_FLAG_W,CFC-11,CFC-11_FLAG_W,CFC-12,CFC-12_FLAG_W,CFC113,CFC113_FLAG_W,TCARBN,TCARBN_FLAG_W,ALKALI,ALKALI_FLAG_W,FCO2,FCO2_FLAG_W,FCO2TMP,PH_SWS,PH_SWS_FLAG_W,PH_TMP,TRITUM,TRITUM_FLAG_W,HELIUM,HELIUM_FLAG_W,DELHE3,DELHE3_FLAG_W,DELC13,DELC13_FLAG_W,DELC14,DELC14_FLAG_W,C14ERR,NEON,NEON_FLAG_W,NEONER,POC,POC_FLAG_W,DOC,DOC_FLAG_W,TDN,TDN_FLAG_W,CTDRAW,CDOM325,CDOM325_FLAG_W,CDOM340,CDOM340_FLAG_W,CDOM380,CDOM380_FLAG_W,CDOM412,CDOM412_FLAG_W,CDOMSL,CDOMSL_FLAG_W,CDOMSN,CDOMSN_FLAG_W,THETA,PON,PON_FLAG_W,HCFC-22,HCFC-22_FLAG_W,HCFC-142b,HCFC-142b_FLAG_W,HCFC-141b,HCFC-141b_FLAG_W,STNNBR_U,HELIER,DELHER,TRITER,CH3CL,CH3CL_FLAG_W,CH3BR,CH3BR_FLAG_W,CH3I,CH3I_FLAG_W
,,,,,,,,,,,METERS,DBAR,ITS-90,PSS-78,,PSS-78,,UMOL/KG,,UMOL/KG,,UMOL/KG,,UMOL/KG,,UMOL/KG,,UMOL/KG,,PMOL/KG,,PMOL/KG,,PMOL/KG,,UMOL/KG,,UMOL/KG,,UATM,,DEG C,,,DEG C,TU,,NMOL/KG,,PERCNT,,/MILLE,,/MILLE,,/MILLE,NMOL/KG,,NMOL/KG,UG/KG,,UMOL/KG,,UMOL/KG,,DBAR,1/M,,1/M,,1/M,,1/M,,1/NM,,1/NM,,DEG C,UMOL/L,,PMOL/KG,,PMOL/KG,,PMOL/KG,,,NMOL/KG,PERCNT,TU,PMOL/KG,,PMOL/KG,,PMOL/KG,
33RO200306_01,       A16N,     069,          1,          7,          7,2,20030708,       1224,    30.9992,   -22.8142,       5247,  2499.5,   3.2381,  34.9899,2,  34.9895,2,    246.7,2,   247.8,2,   26.59,2,   19.80,2,    0.00,2,    1.31,2,   0.057,2,   0.037,2,   0.004,2,  2178.5,2,  2331.2,2,   -999.0,9,  -999.00,   7.7326,2,    25.00,-999.000,9,   1.843,2,   1.775,2, -999.00,9,  -999.0,9,  -999.0,   7.928,2,   0.025,-999.000,9,   41.54,2,   23.22,2, 2499.50,-999.0000,9,-999.0000,9,-999.0000,9,-999.0000,9,-999.0000,9,-999.0000,9,   3.0337,     -999.0,9,     -999.0,9,     -999.0,9,     -999.0,9,         69,   0.003,   0.184,-999.000,     -999.0,9, -999.00,9, -999.00,9
33RO200306_01,       A16N,     069,          1,          6,          6,2,20030708,       1224,    30.9992,   -22.8142,       5247,  2999.5,   2.7650,  34.9431,2,  34.9440,2,    245.8,2,   246.1,2,   34.40,2,   20.77,2,    0.00,2,    1.39,2,   0.034,2,   0.016,3,   0.001,2,  2188.2,2,  2337.5,2,    757.1,6,    20.00,   7.7449,2,    25.00,-999.000,9,-999.000,9,-999.000,9, -999.00,9,  -999.0,9,  -999.0,-999.000,9,-999.000,-999.000,9,   39.92,2,   25.69,2, 2999.50,-999.0000,9,-999.0000,9,-999.0000,9,-999.0000,9,-999.0000,9,-999.0000,9,   2.5193,     -999.0,9,     -999.0,9,     -999.0,9,     -999.0,9,         69,-999.000,-999.000,-999.000,     -999.0,9, -999.00,9, -999.00,9
33RO200306_01,       A16N,     069,          1,          5,          5,2,20030708,       1224,    30.9992,   -22.8142,       5247,  3500.1,   2.5613,  34.9197,2,  34.9206,2,    244.8,2,   244.1,2,   39.78,2,   21.47,2,    0.01,2,    1.44,2,   0.008,2,   0.009,2,   0.002,2,  2193.9,2,  2342.7,2,   -999.0,9,  -999.00,   7.7350,2,    25.00,-999.000,9,-999.000,9,-999.000,9, -999.00,9,  -999.0,9,  -999.0,-999.000,9,-999.000,-999.000,9,   40.41,2,   25.54,2, 3500.10,-999.0000,9,-999.0000,9,-999.0000,9,-999.0000,9,-999.0000,9,-999.0000,9,   2.2673,     -999.0,9,     -999.0,9,     -999.0,9,     -999.0,9,         69,-999.000,-999.000,-999.000,     -999.0,9, -999.00,9, -999.00,9
33RO200306_01,       A16N,     069,          1,          4,          4,2,20030708,       1224,    30.9992,   -22.8142,       5247,  4000.4,   2.4490,  34.9034,2,  34.9045,2,    244.3,2,   244.1,2,   43.30,6,   21.89,6,    0.00,6,    1.47,6,   0.009,2,   0.006,2,   0.002,2,  2197.0,2,  2345.7,2,    765.4,6,    20.00,   7.7295,2,    25.00,-999.000,9,-999.000,9,-999.000,9, -999.00,9,  -999.0,9,  -999.0,-999.000,9,-999.000,-999.000,9,   40.98,2,   27.10,2, 4000.40,-999.0000,9,-999.0000,9,-999.0000,9,-999.0000,9,-999.0000,9,-999.0000,9,   2.1021,     -999.0,9,     -999.0,9,     -999.0,9,     -999.0,9,         69,-999.000,-999.000,-999.000,     -999.0,9, -999.00,9, -999.00,9
33RO200306_01,       A16N,     069,          1,          3,          3,2,20030708,       1224,    30.9992,   -22.8142,       5247,  4499.8,   2.3974,  34.8921,2,  34.8931,2,    244.6,2,   244.7,2,   45.65,6,   22.10,6,    0.00,6,    1.49,6,   0.007,2,   0.002,2,   0.001,2,  2199.2,2,  -999.0,9,    764.4,2,    20.00,-999.0000,9,  -999.00,-999.000,9,   1.859,2,   2.220,2, -999.00,9,  -999.0,9,  -999.0,   8.030,2,   0.026,-999.000,9,   40.73,2,   26.67,2, 4499.80,-999.0000,9,-999.0000,9,-999.0000,9,-999.0000,9,-999.0000,9,-999.0000,9,   1.9933,     -999.0,9,     -999.0,9,     -999.0,9,     -999.0,9,         69,   0.003,   0.184,-999.000,     -999.0,9, -999.00,9, -999.00,9
33RO200306_01,       A16N,     069,          1,          2,          2,2,20030708,       1224,    30.9992,   -22.8142,       5247,  5001.3,   2.4249,  34.8878,2,  34.8893,2,    244.1,2,   244.7,2,   46.56,6,   22.20,6,    0.00,6,    1.49,6,   0.009,2,   0.005,2,   0.001,2,  2200.2,2,  2349.0,2,    764.8,2,    20.00,   7.7350,2,    25.00,-999.000,9,-999.000,9,-999.000,9, -999.00,9,  -999.0,9,  -999.0,-999.000,9,-999.000,-999.000,9,   41.63,2,   26.40,2, 5001.30,-999.0000,9,-999.0000,9,-999.0000,9,-999.0000,9,-999.0000,9,-999.0000,9,   1.9579,     -999.0,9,     -999.0,9,     -999.0,9,     -999.0,9,         69,-999.000,-999.000,-999.000,     -999.0,9, -999.00,9, -999.00,9
33RO200306_01,       A16N,     069,          1,          1,          1,2,20030708,       1224,    30.9992,   -22.8142,       5247,  5316.5,   2.4617,  34.8871,2,  34.8890,2,    244.4,2,   244.3,2,   46.57,6,   22.18,6,    0.01,6,    1.49,6,   0.005,2,   0.003,2,   0.000,2,  2199.7,6,  2348.7,2,    760.3,2,    20.00,   7.7298,2,    25.00,   0.001,2,   1.853,2,   2.358,2, -999.00,9,  -999.0,9,  -999.0,   8.080,2,   0.026,-999.000,9,   40.32,2,   26.44,2, 5316.50,-999.0000,9,-999.0000,9,-999.0000,9,-999.0000,9,-999.0000,9,-999.0000,9,   1.9528,     -999.0,9,     -999.0,9,     -999.0,9,     -999.0,9,         69,   0.003,   0.184,   0.000,     -999.0,9, -999.00,9, -999.00,9