BOTTLE,20230908CCHSIOCBG
EXPOCODE,SECT_ID,STNNBR,CASTNO,SAMPNO,BTLNBR,BTLNBR_FLAG_W,DATE,TIME,LATITUDE,LONGITUDE,DEPTH,CTDPRS,CTDTMP,CTDSAL,CTDSAL_FLAG_W,SALNTY,SALNTY_FLAG_W,CTDOXY,CTDOXY_FLAG_W,OXYGEN,OXYGEN_FLAG_W,SILCAT,SILCAT_FLAG_W,NITRAT,NITRAT_FLAG_W,NITRIT,NITRIT_FLAG_W,PHSPHT,PHSPHT_FLAG_W,CFC-11,CFC-11_FLAG_W,CFC-12,CFC-12_FLAG_W,CFC113,CFC113_FLAG_W,TCARBN,TCARBN_FLAG_W,ALKALI,ALKALI_FLAG_W,FCO2,FCO2_FLAG_W,FCO2TMP,PH_SWS,PH_SWS_FLAG_W,PH_TMP,TRITUM,TRITUM_FLAG_W,HELIUM,HELIUM_FLAG_W,DELHE3,DELHE3_FLAG_W,DELC13,DELC13_FLAG_W,DELC14,DELC14_FLAG_W,C14ERR,NEON,NEON_FLAG_W,NEONER,POC,POC_FLAG_W,DOC,DOC_FLAG_W,TDN,TDN_FLAG_W,CTDRAW,CDOM325,CDOM325_FLAG_W,CDOM340,CDOM340_FLAG_W,CDOM380,CDOM380_FLAG_W,CDOM412,CDOM412_FLAG_W,CDOMSL,CDOMSL_FLAG_W,CDOMSN,CDOMSN_FLAG_W,THETA,PON,PON_FLAG_W,HCFC-22,HCFC-22_FLAG_W,HCFC-142b,HCFC-142b_FLAG_W,HCFC-141b,HCFC-141b_FLAG_W,STNNBR_U,HELIER,DELHER,TRITER,CH3CL,CH3CL_FLAG_W,CH3BR,CH3BR_FLAG_W,CH3I,CH3I_FLAG_W
,,,,,,,,,,,METERS,DBAR,ITS-90,PSS-78,,PSS-78,,UMOL/KG,,UMOL/KG,,UMOL/KG,,UMOL/KG,,UMOL/KG,,UMOL/KG,,PMOL/KG,,PMOL/KG,,PMOL/KG,,UMOL/KG,,UMOL/KG,,UATM,,DEG C,,,DEG C,TU,,NMOL/KG,,PERCNT,,/MILLE,,/MILLE,,/MILLE,NMOL/KG,,NMOL/KG,UG/KG,,UMOL/KG,,UMOL/KG,,DBAR,1/M,,1/M,,1/M,,1/M,,1/NM,,1/NM,,DEG C,UMOL/L,,PMOL/KG,,PMOL/KG,,PMOL/KG,,,NMOL/KG,PERCNT,TU,PMOL/KG,,PMOL/KG,,PMOL/KG,
33RO200306_01,       A16N,     052,          1,         33,         33,2,20030703,       0016,    39.4995,   -20.0005,       4657,     3.6,  19.9210,  36.0457,2,  36.0565,2,    236.9,2,   233.4,2,    0.78,2,    0.00,2,    0.01,2,    0.03,2,-999.000,9,-999.000,9,-999.000,9,  2069.9,6,  2364.4,6,    358.9,2,    20.00,-999.0000,9,  -999.00,-999.000,9,-999.000,9,-999.000,9,    1.46,2,    79.0,2,     3.5,-999.000,9,-999.000,-999.000,9, -999.00,9, -999.00,9,    3.60,-999.0000,9,-999.0000,9,-999.0000,9,-999.0000,9,-999.0000,9,-999.0000,9,  19.9203,     -999.0,9,     -999.0,9,     -999.0,9,     -999.0,9,         52,-999.000,-999.000,-999.000,     -999.0,9, -999.00,9, -999.00,9
33RO200306_01,       A16N,     052,          1,         32,         32,2,20030703,       0016,    39.4995,   -20.0005,       4657,    10.2,  19.3697,  36.0662,2,  36.0698,2,    237.7,2,   234.2,2,    0.77,2,    0.00,2,    0.01,2,    0.03,2,-999.000,9,-999.000,9,-999.000,9,  -999.0,9,  -999.0,9,   -999.0,9,  -999.00,-999.0000,9,  -999.00,-999.000,9,-999.000,9,-999.000,9, -999.00,9,  -999.0,9,  -999.0,-999.000,9,-999.000,-999.000,9, -999.00,9, -999.00,9,   10.20,-999.0000,9,-999.0000,9,-999.0000,9,-999.0000,9,-999.0000,9,-999.0000,9,  19.3678,     -999.0,9,     -999.0,9,     -999.0,9,     -999.0,9,         52,-999.000,-999.000,-999.000,     -999.0,9, -999.00,9, -999.00,9
33RO200306_01,       A16N,     052,          1,         31,         31,2,20030703,       0016,    39.4995,   -20.0005,       4657,    30.2,  17.1505,  36.0794,2,  36.0812,2,    251.5,2,   258.4,2,    0.92,2,    0.07,2,    0.01,2,    0.05,2,-999.000,9,-999.000,9,-999.000,9,  -999.0,9,  -999.0,9,   -999.0,9,  -999.00,-999.0000,9,  -999.00,-999.000,9,-999.000,9,-999.000,9, -999.00,9,  -999.0,9,  -999.0,-999.000,9,-999.000,-999.000,9, -999.00,9, -999.00,9,   30.20,-999.0000,9,-999.0000,9,-999.0000,9,-999.0000,9,-999.0000,9,-999.0000,9,  17.1455,     -999.0,9,     -999.0,9,     -999.0,9,     -999.0,9,         52,-999.000,-999.000,-999.000,     -999.0,9, -999.00,9, -999.00,9
33RO200306_01,       A16N,     052,          1,         30,         30,2,20030703,       0016,    39.4995,   -20.0005,       4657,    49.9,  15.4839,  36.1139,2,  36.1093,2,    242.0,2,   236.2,2,    1.26,2,    2.46,2,    0.19,2,    0.18,2,-999.000,9,-999.000,9,-999.000,9,  -999.0,9,  -999.0,9,   -999.0,9,  -999.00,-999.0000,9,  -999.00,-999.000,9,-999.000,9,-999.000,9, -999.00,9,  -999.0,9,  -999.0,-999.000,9,-999.000,-999.000,9, -999.00,9, -999.00,9,   49.90,-999.0000,9,-999.0000,9,-999.0000,9,-999.0000,9,-999.0000,9,-999.0000,9,  15.4761,     -999.0,9,     -999.0,9,     -999.0,9,     -999.0,9,         52,-999.000,-999.000,-999.000,     -999.0,9, -999.00,9, -999.00,9
33RO200306_01,       A16N,     052,          1,         29,         29,2,20030703,       0016,    39.4995,   -20.0005,       4657,    70.1,  15.1530,  36.0858,2,  36.0848,2,    229.2,2,   230.7,2,    1.48,2,    3.86,2,    0.02,2,    0.25,2,-999.000,9,-999.000,9,-999.000,9,  -999.0,9,  -999.0,9,   -999.0,9,  -999.00,-999.0000,9,  -999.00,-999.000,9,-999.000,9,-999.000,9, -999.00,9,  -999.0,9,  -999.0,-999.000,9,-999.000,-999.000,9, -999.00,9, -999.00,9,   70.10,-999.0000,9,-999.0000,9,-999.0000,9,-999.0000,9,-999.0000,9,-999.0000,9,  15.1423,     -999.0,9,     -999.0,9,     -999.0,9,     -999.0,9,         52,-999.000,-999.000,-999.000,     -999.0,9, -999.00,9, -999.00,9
33RO200306_01,       A16N,     052,          1,         28,         28,2,20030703,       0016,    39.4995,   -20.0005,       4657,    90.8,  14.8098,  36.0354,2,  36.0358,2,    230.8,2,   232.8,2,    1.71,2,    4.66,2,    0.01,2,    0.29,2,-999.000,9,-999.000,9,-999.000,9,  -999.0,9,  -999.0,9,   -999.0,9,  -999.00,-999.0000,9,  -999.00,-999.000,9,-999.000,9,-999.000,9, -999.00,9,  -999.0,9,  -999.0,-999.000,9,-999.000,-999.000,9, -999.00,9, -999.00,9,   90.80,-999.0000,9,-999.0000,9,-999.0000,9,-999.0000,9,-999.0000,9,-999.0000,9,  14.7961,     -999.0,9,     -999.0,9,     -999.0,9,     -999.0,9,         52,-999.000,-999.000,-999.000,     -999.0,9, -999.00,9, -999.00,9
33RO200306_01,       A16N,     052,          1,         27,         27,2,20030703,       0016,    39.4995,   -20.0005,       4657,   111.2,  14.6715,  36.0143,2,  36.0099,2,    234.6,2,   234.2,2,    1.80,2,    4.93,2,    0.01,2,    0.31,2,-999.000,9,-999.000,9,-999.000,9,  -999.0,9,  -999.0,9,   -999.0,9,  -999.00,-999.0000,9,  -999.00,-999.000,9,-999.000,9,-999.000,9, -999.00,9,  -999.0,9,  -999.0,-999.000,9,-999.000,-999.000,9, -999.00,9, -999.00,9,  111.20,-999.0000,9,-999.0000,9,-999.0000,9,-999.0000,9,-999.0000,9,-999.0000,9,  14.6548,     -999.0,9,     -999.0,9,     -999.0,9,     -999.0,9,         52,-999.000,-999.000,-999.000,     -999.0,9, -999.00,9, -999.00,9
33RO200306_01,       A16N,     052,          1,         26,         26,2,20030703,       0016,    39.4995,   -20.0005,       4657,   131.8,  14.3505,  35.9633,2,  35.9573,2,    231.3,2,   228.2,2,    2.15,2,    6.23,2,    0.01,2,    0.38,2,-999.000,9,-999.000,9,-999.000,9,  -999.0,9,  -999.0,9,   -999.0,9,  -999.00,-999.0000,9,  -999.00,-999.000,9,-999.000,9,-999.000,9, -999.00,9,  -999.0,9,  -999.0,-999.000,9,-999.000,-999.000,9, -999.00,9, -999.00,9,  131.80,-999.0000,9,-999.0000,9,-999.0000,9,-999.0000,9,-999.0000,9,-999.0000,9,  14.3310,     -999.0,9,     -999.0,9,     -999.0,9,     -999.0,9,         52,-999.000,-999.000,-999.000,     -999.0,9, -999.00,9, -999.00,9
33RO200306_01,       A16N,     052,          1,         25,         25,2,20030703,       0016,    39.4995,   -20.0005,       4657,   158.1,  13.9647,  35.9072,2,  35.9021,2,    226.6,2,   227.7,2,    2.55,2,    7.26,2,    0.00,2,    0.44,2,-999.000,9,-999.000,9,-999.000,9,  -999.0,9,  -999.0,9,   -999.0,9,  -999.00,-999.0000,9,  -999.00,-999.000,9,-999.000,9,-999.000,9, -999.00,9,  -999.0,9,  -999.0,-999.000,9,-999.000,-999.000,9, -999.00,9, -999.00,9,  158.10,-999.0000,9,-999.0000,9,-999.0000,9,-999.0000,9,-999.0000,9,-999.0000,9,  13.9417,     -999.0,9,     -999.0,9,     -999.0,9,     -999.0,9,         52,-999.000,-999.000,-999.000,     -999.0,9, -999.00,9, -999.00,9
33RO200306_01,       A16N,     052,          1,         24,         24,2,20030703,       0016,    39.4995,   -20.0005,       4657,   184.9,  13.7034,  35.8614,2,  35.8589,2,    222.4,2,   222.2,2,    2.82,2,    8.11,2,    0.00,2,    0.49,2,-999.000,9,-999.000,9,-999.000,9,  -999.0,9,  -999.0,9,   -999.0,9,  -999.00,-999.0000,9,  -999.00,-999.000,9,-999.000,9,-999.000,9, -999.00,9,  -999.0,9,  -999.0,-999.000,9,-999.000,-999.000,9, -999.00,9, -999.00,9,  184.90,-999.0000,9,-999.0000,9,-999.0000,9,-999.0000,9,-999.0000,9,-999.0000,9,  13.6769,     -999.0,9,     -999.0,9,     -999.0,9,     -999.0,9,         52,-999.000,-999.000,-999.000,     -999.0,9, -999.00,9, -999.00,9
33RO200306_01,       A16N,     052,          1,         23,         23,2,20030703,       0016,    39.4995,   -20.0005,       4657,   225.0,  13.5347,  35.8561,2,  35.8561,2,    237.3,2,   239.7,2,    2.19,2,    6.33,2,    0.00,2,    0.39,2,-999.000,9,-999.000,9,-999.000,9,  -999.0,9,  -999.0,9,   -999.0,9,  -999.00,-999.0000,9,  -999.00,-999.000,9,-999.000,9,-999.000,9, -999.00,9,  -999.0,9,  -999.0,-999.000,9,-999.000,-999.000,9, -999.00,9, -999.00,9,  225.00,-999.0000,9,-999.0000,9,-999.0000,9,-999.0000,9,-999.0000,9,-999.0000,9,  13.5026,     -999.0,9,     -999.0,9,     -999.0,9,     -999.0,9,         52,-999.000,-999.000,-999.000,     -999.0,9, -999.00,9, -999.00,9
33RO200306_01,       A16N,     052,          1,         22,         22,2,20030703,       0016,    39.4995,   -20.0005,       4657,   275.2,  13.1979,  35.8011,2,  35.8006,2,    228.8,2,   232.3,2,    2.78,2,    7.92,2,    0.00,2,    0.48,2,-999.000,9,-999.000,9,-999.000,9,  -999.0,9,  -999.0,9,   -999.0,9,  -999.00,-999.0000,9,  -999.00,-999.000,9,-999.000,9,-999.000,9, -999.00,9,  -999.0,9,  -999.0,-999.000,9,-999.000,-999.000,9, -999.00,9, -999.00,9,  275.20,-999.0000,9,-999.0000,9,-999.0000,9,-999.0000,9,-999.0000,9,-999.0000,9,  13.1593,     -999.0,9,     -999.0,9,     -999.0,9,     -999.0,9,         52,-999.000,-999.000,-999.000,     -999.0,9, -999.00,9, -999.00,9
33RO200306_01,       A16N,     052,          1,         21,         21,2,20030703,       0016,    39.4995,   -20.0005,       4657,   324.8,  12.9526,  35.7736,2,  35.7724,2,    239.5,2,   236.8,2,    2.85,2,    8.01,2,    0.01,2,    0.49,2,-999.000,9,-999.000,9,-999.000,9,  -999.0,9,  -999.0,9,   -999.0,9,  -999.00,-999.0000,9,  -999.00,-999.000,9,-999.000,9,-999.000,9, -999.00,9,  -999.0,9,  -999.0,-999.000,9,-999.000,-999.000,9, -999.00,9, -999.00,9,  324.80,-999.0000,9,-999.0000,9,-999.0000,9,-999.0000,9,-999.0000,9,-999.0000,9,  12.9075,     -999.0,9,     -999.0,9,     -999.0,9,     -999.0,9,         52,-999.000,-999.000,-999.000,     -999.0,9, -999.00,9, -999.00,9
33RO200306_01,       A16N,     052,          1,         20,         20,2,20030703,       0016,    39.4995,   -20.0005,       4657,   374.0,  12.8162,  35.7576,2,  35.7577,2,    241.1,2,   236.6,2,    3.02,2,    8.46,2,    0.01,2,    0.51,2,-999.000,9,-999.000,9,-999.000,9,  -999.0,9,  -999.0,9,   -999.0,9,  -999.00,-999.0000,9,  -999.00,-999.000,9,-999.000,9,-999.000,9, -999.00,9,  -999.0,9,  -999.0,-999.000,9,-999.000,-999.000,9, -999.00,9, -999.00,9,  374.00,-999.0000,9,-999.0000,9,-999.0000,9,-999.0000,9,-999.0000,9,-999.0000,9,  12.7645,     -999.0,9,     -999.0,9,     -999.0,9,     -999.0,9,         52,-999.000,-999.000,-999.000,     -999.0,9, -999.00,9, -999.00,9
33RO200306_01,       A16N,     052,          1,         19,         19,2,20030703,       0016,    39.4995,   -20.0005,       4657,   420.6,  12.6673,  35.7358,2,  35.7352,2,    235.3,2,   237.9,2,    3.20,2,    8.94,2,    0.01,2,    0.54,2,-999.000,9,-999.000,9,-999.000,9,  -999.0,9,  -999.0,9,   -999.0,9,  -999.00,-999.0000,9,  -999.00,-999.000,9,-999.000,9,-999.000,9, -999.00,9,  -999.0,9,  -999.0,-999.000,9,-999.000,-999.000,9, -999.00,9, -999.00,9,  420.60,-999.0000,9,-999.0000,9,-999.0000,9,-999.0000,9,-999.0000,9,-999.0000,9,  12.6095,     -999.0,9,     -999.0,9,     -999.0,9,     -999.0,9,         52,-999.000,-999.000,-999.000,     -999.0,9, -999.00,9, -999.00,9
33RO200306_01,       A16N,     052,          1,         18,         18,2,20030703,       0016,    39.4995,   -20.0005,       4657,   475.7,  12.2487,  35.6572,2,  35.6544,2,    222.0,2,   225.8,2,    3.87,2,   10.44,2,    0.00,2,    0.64,2,-999.000,9,-999.000,9,-999.000,9,  -999.0,9,  -999.0,9,   -999.0,9,  -999.00,-999.0000,9,  -999.00,-999.000,9,-999.000,9,-999.000,9, -999.00,9,  -999.0,9,  -999.0,-999.000,9,-999.000,-999.000,9, -999.00,9, -999.00,9,  475.70,-999.0000,9,-999.0000,9,-999.0000,9,-999.0000,9,-999.0000,9,-999.0000,9,  12.1847,     -999.0,9,     -999.0,9,     -999.0,9,     -999.0,9,         52,-999.000,-999.000,-999.000,     -999.0,9, -999.00,9, -999.00,9
33RO200306_01,       A16N,     052,          1,         17,         17,2,20030703,       0016,    39.4995,   -20.0005,       4657,   539.8,  11.7495,  35.5796,2,  35.5789,2,    214.5,2,   215.8,2,    4.52,2,   12.08,2,    0.00,2,    0.74,2,-999.000,9,-999.000,9,-999.000,9,  -999.0,9,  -999.0,9,   -999.0,9,  -999.00,-999.0000,9,  -999.00,-999.000,9,-999.000,9,-999.000,9, -999.00,9,  -999.0,9,  -999.0,-999.000,9,-999.000,-999.000,9, -999.00,9, -999.00,9,  539.80,-999.0000,9,-999.0000,9,-999.0000,9,-999.0000,9,-999.0000,9,-999.0000,9,  11.6786,     -999.0,9,     -999.0,9,     -999.0,9,     -999.0,9,         52,-999.000,-999.000,-999.000,     -999.0,9, -999.00,9, -999.00,9
33RO200306_01,       A16N,     052,          1,         16,         16,2,20030703,       0016,    39.4995,   -20.0005,       4657,   649.5,  10.8941,  35.4975,2,  35.4976,2,    198.5,2,   199.1,2,    6.37,2,   15.03,2,    0.00,2,    0.92,2,-999.000,9,-999.000,9,-999.000,9,  -999.0,9,  -999.0,9,   -999.0,9,  -999.00,-999.0000,9,  -999.00,-999.000,9,-999.000,9,-999.000,9, -999.00,9,  -999.0,9,  -999.0,-999.000,9,-999.000,-999.000,9, -999.00,9, -999.00,9,  649.50,-999.0000,9,-999.0000,9,-999.0000,9,-999.0000,9,-999.0000,9,-999.0000,9,  10.8124,     -999.0,9,     -999.0,9,     -999.0,9,     -999.0,9,         52,-999.000,-999.000,-999.000,     -999.0,9, -999.00,9, -999.00,9
33RO200306_01,       A16N,     052,          1,         15,         15,2,20030703,       0016,    39.4995,   -20.0005,       4657,   750.4,  10.4127,  35.5494,2,  35.5527,2,    188.0,2,   187.7,2,    7.98,2,   16.61,2,    0.00,2,    1.02,2,-999.000,9,-999.000,9,-999.000,9,  -999.0,9,  -999.0,9,   -999.0,9,  -999.00,-999.0000,9,  -999.00,-999.000,9,-999.000,9,-999.000,9, -999.00,9,  -999.0,9,  -999.0,-999.000,9,-999.000,-999.000,9, -999.00,9, -999.00,9,  750.40,-999.0000,9,-999.0000,9,-999.0000,9,-999.0000,9,-999.0000,9,-999.0000,9,  10.3204,     -999.0,9,     -999.0,9,     -999.0,9,     -999.0,9,         52,-999.000,-999.000,-999.000,     -999.0,9, -999.00,9, -999.00,9
33RO200306_01,       A16N,     052,          1,         14,         14,2,20030703,       0016,    39.4995,   -20.0005,       4657,   849.7,   9.7573,  35.5934,2,  35.6027,2,    184.9,2,   183.8,2,    9.38,2,   17.42,2,    0.00,2,    1.08,2,-999.000,9,-999.000,9,-999.000,9,  -999.0,9,  -999.0,9,   -999.0,9,  -999.00,-999.0000,9,  -999.00,-999.000,9,-999.000,9,-999.000,9, -999.00,9,  -999.0,9,  -999.0,-999.000,9,-999.000,-999.000,9, -999.00,9, -999.00,9,  849.70,-999.0000,9,-999.0000,9,-999.0000,9,-999.0000,9,-999.0000,9,-999.0000,9,   9.6562,     -999.0,9,     -999.0,9,     -999.0,9,     -999.0,9,         52,-999.000,-999.000,-999.000,     -999.0,9, -999.00,9, -999.00,9
33RO200306_01,       A16N,     052,          1,         13,         13,2,20030703,       0016,    39.4995,   -20.0005,       4657,   949.0,   9.7859,  35.7291,2,  35.7249,2,    185.9,2,   185.5,2,    9.65,2,   17.19,2,    0.00,2,    1.06,2,-999.000,9,-999.000,9,-999.000,9,  -999.0,9,  -999.0,9,   -999.0,9,  -999.00,-999.0000,9,  -999.00,-999.000,9,-999.000,9,-999.000,9, -999.00,9,  -999.0,9,  -999.0,-999.000,9,-999.000,-999.000,9, -999.00,9, -999.00,9,  949.00,-999.0000,9,-999.0000,9,-999.0000,9,-999.0000,9,-999.0000,9,-999.0000,9,   9.6721,     -999.0,9,     -999.0,9,     -999.0,9,     -999.0,9,         52,-999.000,-999.000,-999.000,     -999.0,9, -999.00,9, -999.00,9
33RO200306_01,       A16N,     052,          1,         12,         12,2,20030703,       0016,    39.4995,   -20.0005,       4657,  1049.7,   9.5335,  35.7949,2,  35.7948,2,    188.5,2,   188.2,2,    9.95,2,   17.02,2,    0.00,2,    1.05,2,-999.000,9,-999.000,9,-999.000,9,  -999.0,9,  -999.0,9,   -999.0,9,  -999.00,-999.0000,9,  -999.00,-999.000,9,-999.000,9,-999.000,9, -999.00,9,  -999.0,9,  -999.0,-999.000,9,-999.000,-999.000,9, -999.00,9, -999.00,9, 1049.70,-999.0000,9,-999.0000,9,-999.0000,9,-999.0000,9,-999.0000,9,-999.0000,9,   9.4087,     -999.0,9,     -999.0,9,     -999.0,9,     -999.0,9,         52,-999.000,-999.000,-999.000,     -999.0,9, -999.00,9, -999.00,9
33RO200306_01,       A16N,     052,          1,         11,         11,2,20030703,       0016,    39.4995,   -20.0005,       4657,  1149.3,   8.8977,  35.7372,2,  35.7369,2,    194.8,2,   195.0,2,   10.46,2,   17.15,2,    0.00,2,    1.06,2,-999.000,9,-999.000,9,-999.000,9,  -999.0,9,  -999.0,9,   -999.0,9,  -999.00,-999.0000,9,  -999.00,-999.000,9,-999.000,9,-999.000,9, -999.00,9,  -999.0,9,  -999.0,-999.000,9,-999.000,-999.000,9, -999.00,9, -999.00,9, 1149.30,-999.0000,9,-999.0000,9,-999.0000,9,-999.0000,9,-999.0000,9,-999.0000,9,   8.7657,     -999.0,9,     -999.0,9,     -999.0,9,     -999.0,9,         52,-999.000,-999.000,-999.000,     -999.0,9, -999.00,9, -999.00,9
33RO200306_01,       A16N,     052,          1,         10,         10,2,20030703,       0016,    39.4995,   -20.0005,       4657,  1273.0,   7.6676,  35.5532,2,  35.5495,2,    207.5,2,   208.2,2,   11.19,2,   17.58,2,    0.00,2,    1.10,2,-999.000,9,-999.000,9,-999.000,9,  -999.0,9,  -999.0,9,   -999.0,9,  -999.00,-999.0000,9,  -999.00,-999.000,9,-999.000,9,-999.000,9, -999.00,9,  -999.0,9,  -999.0,-999.000,9,-999.000,-999.000,9, -999.00,9, -999.00,9, 1273.00,-999.0000,9,-999.0000,9,-999.0000,9,-999.0000,9,-999.0000,9,-999.0000,9,   7.5320,     -999.0,9,     -999.0,9,     -999.0,9,     -999.0,9,         52,-999.000,-999.000,-999.000,     -999.0,9, -999.00,9, -999.00,9
33RO200306_01,       A16N,     052,          1,          9,          9,2,20030703,       0016,    39.4995,   -20.0005,       4657,  1499.8,   5.8246,  35.2842,2,  35.2831,2,    230.3,2,   233.9,2,   11.92,2,   17.71,2,    0.00,2,    1.13,2,-999.000,9,-999.000,9,-999.000,9,  -999.0,9,  -999.0,9,   -999.0,9,  -999.00,-999.0000,9,  -999.00,-999.000,9,-999.000,9,-999.000,9, -999.00,9,  -999.0,9,  -999.0,-999.000,9,-999.000,-999.000,9, -999.00,9, -999.00,9, 1499.80,-999.0000,9,-999.0000,9,-999.0000,9,-999.0000,9,-999.0000,9,-999.0000,9,   5.6833,     -999.0,9,     -999.0,9,     -999.0,9,     -999.0,9,         52,-999.000,-999.000,-999.000,     -999.0,9, -999.00,9, -999.00,9
33RO200306_01,       A16N,     052,          1,          8,          8,2,20030703,       0016,    39.4995,   -20.0005,       4657,  1700.2,   4.7462,  35.1261,2,  35.1252,2,    246.2,2,   248.8,2,   12.37,2,   17.63,2,    0.00,2,    1.13,2,   1.457,2,   0.714,2,   0.059,2,  -999.0,9,  -999.0,9,   -999.0,9,  -999.00,-999.0000,9,  -999.00,-999.000,9,-999.000,9,-999.000,9, -999.00,9,  -999.0,9,  -999.0,-999.000,9,-999.000,-999.000,9, -999.00,9, -999.00,9, 1700.20,-999.0000,9,-999.0000,9,-999.0000,9,-999.0000,9,-999.0000,9,-999.0000,9,   4.5976,     -999.0,9,     -999.0,9,     -999.0,9,     -999.0,9,         52,-999.000,-999.000,-999.000,     -999.0,9, -999.00,9, -999.00,9
33RO200306_01,       A16N,     052,          1,          7,          7,2,20030703,       0016,    39.4995,   -20.0005,       4657,  1901.0,   3.8271,  34.9847,2,  34.9853,2,    262.3,2,   263.6,2,   12.76,2,   17.51,2,    0.00,2,    1.13,2,   1.704,2,   0.836,2,   0.080,2,  -999.0,9,  -999.0,9,   -999.0,9,  -999.00,-999.0000,9,  -999.00,-999.000,9,-999.000,9,-999.000,9, -999.00,9,  -999.0,9,  -999.0,-999.000,9,-999.000,-999.000,9, -999.00,9, -999.00,9, 1901.00,-999.0000,9,-999.0000,9,-999.0000,9,-999.0000,9,-999.0000,9,-999.0000,9,   3.6716,     -999.0,9,     -999.0,9,     -999.0,9,     -999.0,9,         52,-999.000,-999.000,-999.000,     -999.0,9, -999.00,9, -999.00,9