BOTTLE,20230908CCHSIOCBG
EXPOCODE,SECT_ID,STNNBR,CASTNO,SAMPNO,BTLNBR,BTLNBR_FLAG_W,DATE,TIME,LATITUDE,LONGITUDE,DEPTH,CTDPRS,CTDTMP,CTDSAL,CTDSAL_FLAG_W,SALNTY,SALNTY_FLAG_W,CTDOXY,CTDOXY_FLAG_W,OXYGEN,OXYGEN_FLAG_W,SILCAT,SILCAT_FLAG_W,NITRAT,NITRAT_FLAG_W,NITRIT,NITRIT_FLAG_W,PHSPHT,PHSPHT_FLAG_W,CFC-11,CFC-11_FLAG_W,CFC-12,CFC-12_FLAG_W,CFC113,CFC113_FLAG_W,TCARBN,TCARBN_FLAG_W,ALKALI,ALKALI_FLAG_W,FCO2,FCO2_FLAG_W,FCO2TMP,PH_SWS,PH_SWS_FLAG_W,PH_TMP,TRITUM,TRITUM_FLAG_W,HELIUM,HELIUM_FLAG_W,DELHE3,DELHE3_FLAG_W,DELC13,DELC13_FLAG_W,DELC14,DELC14_FLAG_W,C14ERR,NEON,NEON_FLAG_W,NEONER,POC,POC_FLAG_W,DOC,DOC_FLAG_W,TDN,TDN_FLAG_W,CTDRAW,CDOM325,CDOM325_FLAG_W,CDOM340,CDOM340_FLAG_W,CDOM380,CDOM380_FLAG_W,CDOM412,CDOM412_FLAG_W,CDOMSL,CDOMSL_FLAG_W,CDOMSN,CDOMSN_FLAG_W,THETA,PON,PON_FLAG_W,HCFC-22,HCFC-22_FLAG_W,HCFC-142b,HCFC-142b_FLAG_W,HCFC-141b,HCFC-141b_FLAG_W,STNNBR_U,HELIER,DELHER,TRITER,CH3CL,CH3CL_FLAG_W,CH3BR,CH3BR_FLAG_W,CH3I,CH3I_FLAG_W
,,,,,,,,,,,METERS,DBAR,ITS-90,PSS-78,,PSS-78,,UMOL/KG,,UMOL/KG,,UMOL/KG,,UMOL/KG,,UMOL/KG,,UMOL/KG,,PMOL/KG,,PMOL/KG,,PMOL/KG,,UMOL/KG,,UMOL/KG,,UATM,,DEG C,,,DEG C,TU,,NMOL/KG,,PERCNT,,/MILLE,,/MILLE,,/MILLE,NMOL/KG,,NMOL/KG,UG/KG,,UMOL/KG,,UMOL/KG,,DBAR,1/M,,1/M,,1/M,,1/M,,1/NM,,1/NM,,DEG C,UMOL/L,,PMOL/KG,,PMOL/KG,,PMOL/KG,,,NMOL/KG,PERCNT,TU,PMOL/KG,,PMOL/KG,,PMOL/KG,
33RO200306_01,       A16N,     024,          1,         31,         31,2,20030624,       1939,    53.5023,   -19.9993,       2288,     2.6,  12.5095,  35.4356,2,  35.4382,2,    271.7,2,   267.4,2,    0.09,2,    4.06,2,    0.09,2,    0.26,2,-999.000,9,-999.000,9,-999.000,9,  2088.7,6,  2334.1,2,   -999.0,9,  -999.00,   7.9077,2,    25.00,-999.000,9,-999.000,9,-999.000,9, -999.00,9,  -999.0,9,  -999.0,-999.000,9,-999.000,   4.124,2, -999.00,9, -999.00,9,    2.60,-999.0000,9,-999.0000,9,-999.0000,9,-999.0000,9,-999.0000,9,-999.0000,9,  12.5092,      1.456,2,     -999.0,9,     -999.0,9,     -999.0,9,         24,-999.000,-999.000,-999.000,     -999.0,9, -999.00,9, -999.00,9
33RO200306_01,       A16N,     024,          1,         30,         30,2,20030624,       1939,    53.5023,   -19.9993,       2288,    10.5,  12.5086,  35.4358,2,  35.4376,2,    271.8,2,   269.0,2,    0.09,2,    4.05,2,    0.10,2,    0.26,2,-999.000,9,-999.000,9,-999.000,9,  -999.0,9,  -999.0,9,   -999.0,9,  -999.00,-999.0000,9,  -999.00,-999.000,9,-999.000,9,-999.000,9, -999.00,9,  -999.0,9,  -999.0,-999.000,9,-999.000,   3.990,2, -999.00,9, -999.00,9,   10.50,-999.0000,9,-999.0000,9,-999.0000,9,-999.0000,9,-999.0000,9,-999.0000,9,  12.5072,      1.185,2,     -999.0,9,     -999.0,9,     -999.0,9,         24,-999.000,-999.000,-999.000,     -999.0,9, -999.00,9, -999.00,9
33RO200306_01,       A16N,     024,          1,         29,         29,2,20030624,       1939,    53.5023,   -19.9993,       2288,    29.9,  12.4701,  35.4387,2,  35.4416,2,    266.2,2,   267.1,2,    0.09,2,    4.16,2,    0.10,2,    0.28,2,-999.000,9,-999.000,9,-999.000,9,  -999.0,9,  -999.0,9,   -999.0,9,  -999.00,-999.0000,9,  -999.00,-999.000,9,-999.000,9,-999.000,9, -999.00,9,  -999.0,9,  -999.0,-999.000,9,-999.000,-999.000,9, -999.00,9, -999.00,9,   29.90,-999.0000,9,-999.0000,9,-999.0000,9,-999.0000,9,-999.0000,9,-999.0000,9,  12.4661,     -999.0,9,     -999.0,9,     -999.0,9,     -999.0,9,         24,-999.000,-999.000,-999.000,     -999.0,9, -999.00,9, -999.00,9
33RO200306_01,       A16N,     024,          1,         28,         28,2,20030624,       1939,    53.5023,   -19.9993,       2288,    49.0,  12.2261,  35.4732,2,-999.0000,1,    264.6,2,   263.9,2,    0.20,2,    4.89,2,    0.13,2,    0.37,2,-999.000,9,-999.000,9,-999.000,9,  -999.0,9,  -999.0,9,   -999.0,9,  -999.00,-999.0000,9,  -999.00,-999.000,9,-999.000,9,-999.000,9, -999.00,9,  -999.0,9,  -999.0,-999.000,9,-999.000,-999.000,9, -999.00,9, -999.00,9,   49.00,-999.0000,9,-999.0000,9,-999.0000,9,-999.0000,9,-999.0000,9,-999.0000,9,  12.2196,     -999.0,9,     -999.0,9,     -999.0,9,     -999.0,9,         24,-999.000,-999.000,-999.000,     -999.0,9, -999.00,9, -999.00,9
33RO200306_01,       A16N,     024,          1,         27,         27,2,20030624,       1939,    53.5023,   -19.9993,       2288,    69.3,  11.7139,  35.5502,2,  35.5515,2,    254.9,2,   257.5,2,    1.00,2,    6.95,2,    0.24,2,    0.51,2,-999.000,9,-999.000,9,-999.000,9,  -999.0,9,  -999.0,9,   -999.0,9,  -999.00,-999.0000,9,  -999.00,-999.000,9,-999.000,9,-999.000,9, -999.00,9,  -999.0,9,  -999.0,-999.000,9,-999.000,-999.000,9, -999.00,9, -999.00,9,   69.30,-999.0000,9,-999.0000,9,-999.0000,9,-999.0000,9,-999.0000,9,-999.0000,9,  11.7050,     -999.0,9,     -999.0,9,     -999.0,9,     -999.0,9,         24,-999.000,-999.000,-999.000,     -999.0,9, -999.00,9, -999.00,9
33RO200306_01,       A16N,     024,          1,         26,         26,2,20030624,       1939,    53.5023,   -19.9993,       2288,    89.9,  11.4211,  35.5370,2,  35.5389,2,    249.7,2,   250.6,2,    2.67,2,    9.66,2,    0.09,2,    0.58,2,-999.000,9,-999.000,9,-999.000,9,  -999.0,9,  -999.0,9,   -999.0,9,  -999.00,-999.0000,9,  -999.00,-999.000,9,-999.000,9,-999.000,9, -999.00,9,  -999.0,9,  -999.0,-999.000,9,-999.000,-999.000,9, -999.00,9, -999.00,9,   89.90,-999.0000,9,-999.0000,9,-999.0000,9,-999.0000,9,-999.0000,9,-999.0000,9,  11.4097,     -999.0,9,     -999.0,9,     -999.0,9,     -999.0,9,         24,-999.000,-999.000,-999.000,     -999.0,9, -999.00,9, -999.00,9
33RO200306_01,       A16N,     024,          1,         25,         25,2,20030624,       1939,    53.5023,   -19.9993,       2288,   109.7,  11.3644,  35.5341,2,  35.5351,2,    251.3,2,   252.1,2,    2.79,2,    9.68,2,    0.05,2,    0.58,2,-999.000,9,-999.000,9,-999.000,9,  -999.0,9,  -999.0,9,   -999.0,9,  -999.00,-999.0000,9,  -999.00,-999.000,9,-999.000,9,-999.000,9, -999.00,9,  -999.0,9,  -999.0,-999.000,9,-999.000,   2.751,2, -999.00,9, -999.00,9,  109.70,-999.0000,9,-999.0000,9,-999.0000,9,-999.0000,9,-999.0000,9,-999.0000,9,  11.3506,      0.476,2,     -999.0,9,     -999.0,9,     -999.0,9,         24,-999.000,-999.000,-999.000,     -999.0,9, -999.00,9, -999.00,9
33RO200306_01,       A16N,     024,          1,         24,         24,2,20030624,       1939,    53.5023,   -19.9993,       2288,   125.2,  11.2919,  35.5242,2,  35.5251,2,    251.4,2,   254.3,2,    2.96,2,    9.61,2,    0.05,2,    0.58,2,-999.000,9,-999.000,9,-999.000,9,  -999.0,9,  -999.0,9,   -999.0,9,  -999.00,-999.0000,9,  -999.00,-999.000,9,-999.000,9,-999.000,9, -999.00,9,  -999.0,9,  -999.0,-999.000,9,-999.000,-999.000,9, -999.00,9, -999.00,9,  125.20,-999.0000,9,-999.0000,9,-999.0000,9,-999.0000,9,-999.0000,9,-999.0000,9,  11.2762,     -999.0,9,     -999.0,9,     -999.0,9,     -999.0,9,         24,-999.000,-999.000,-999.000,     -999.0,9, -999.00,9, -999.00,9
33RO200306_01,       A16N,     024,          1,         23,         23,2,20030624,       1939,    53.5023,   -19.9993,       2288,   156.0,  11.1474,  35.5013,2,  35.5020,2,    252.4,2,   252.7,2,    3.65,2,   10.12,2,    0.04,2,    0.61,2,-999.000,9,-999.000,9,-999.000,9,  -999.0,9,  -999.0,9,   -999.0,9,  -999.00,-999.0000,9,  -999.00,-999.000,9,-999.000,9,-999.000,9, -999.00,9,  -999.0,9,  -999.0,-999.000,9,-999.000,-999.000,9, -999.00,9, -999.00,9,  156.00,-999.0000,9,-999.0000,9,-999.0000,9,-999.0000,9,-999.0000,9,-999.0000,9,  11.1279,     -999.0,9,     -999.0,9,     -999.0,9,     -999.0,9,         24,-999.000,-999.000,-999.000,     -999.0,9, -999.00,9, -999.00,9
33RO200306_01,       A16N,     024,          1,         22,         22,2,20030624,       1939,    53.5023,   -19.9993,       2288,   183.0,  11.0558,  35.4911,2,  35.4931,2,    252.0,2,   252.4,2,    3.99,2,   10.36,2,    0.04,2,    0.63,2,-999.000,9,-999.000,9,-999.000,9,  -999.0,9,  -999.0,9,   -999.0,9,  -999.00,-999.0000,9,  -999.00,-999.000,9,-999.000,9,-999.000,9, -999.00,9,  -999.0,9,  -999.0,-999.000,9,-999.000,-999.000,9, -999.00,9, -999.00,9,  183.00,-999.0000,9,-999.0000,9,-999.0000,9,-999.0000,9,-999.0000,9,-999.0000,9,  11.0330,     -999.0,9,     -999.0,9,     -999.0,9,     -999.0,9,         24,-999.000,-999.000,-999.000,     -999.0,9, -999.00,9, -999.00,9
33RO200306_01,       A16N,     024,          1,         21,         21,2,20030624,       1939,    53.5023,   -19.9993,       2288,   217.4,  11.0616,  35.5032,2,  35.5051,2,    250.9,2,   250.8,2,    4.11,2,   10.38,2,    0.04,2,    0.63,2,-999.000,9,-999.000,9,-999.000,9,  -999.0,9,  -999.0,9,   -999.0,9,  -999.00,-999.0000,9,  -999.00,-999.000,9,-999.000,9,-999.000,9, -999.00,9,  -999.0,9,  -999.0,-999.000,9,-999.000,-999.000,9, -999.00,9, -999.00,9,  217.40,-999.0000,9,-999.0000,9,-999.0000,9,-999.0000,9,-999.0000,9,-999.0000,9,  11.0345,     -999.0,9,     -999.0,9,     -999.0,9,     -999.0,9,         24,-999.000,-999.000,-999.000,     -999.0,9, -999.00,9, -999.00,9
33RO200306_01,       A16N,     024,          1,         20,         20,2,20030624,       1939,    53.5023,   -19.9993,       2288,   274.5,  10.9464,  35.4889,2,  35.4889,2,    250.2,2,   271.9,3,    4.22,2,   10.71,2,    0.03,2,    0.65,2,-999.000,9,-999.000,9,-999.000,9,  -999.0,9,  -999.0,9,   -999.0,9,  -999.00,-999.0000,9,  -999.00,-999.000,9,-999.000,9,-999.000,9, -999.00,9,  -999.0,9,  -999.0,-999.000,9,-999.000,-999.000,9, -999.00,9, -999.00,9,  274.50,-999.0000,9,-999.0000,9,-999.0000,9,-999.0000,9,-999.0000,9,-999.0000,9,  10.9123,     -999.0,9,     -999.0,9,     -999.0,9,     -999.0,9,         24,-999.000,-999.000,-999.000,     -999.0,9, -999.00,9, -999.00,9
33RO200306_01,       A16N,     024,          1,         19,         19,2,20030624,       1939,    53.5023,   -19.9993,       2288,   324.0,  10.4685,  35.4009,2,  35.4037,2,    246.3,2,   244.0,2,    4.97,2,   11.88,2,    0.03,2,    0.72,2,-999.000,9,-999.000,9,-999.000,9,  -999.0,9,  -999.0,9,   -999.0,9,  -999.00,-999.0000,9,  -999.00,-999.000,9,-999.000,9,-999.000,9, -999.00,9,  -999.0,9,  -999.0,-999.000,9,-999.000,-999.000,9, -999.00,9, -999.00,9,  324.00,-999.0000,9,-999.0000,9,-999.0000,9,-999.0000,9,-999.0000,9,-999.0000,9,  10.4294,     -999.0,9,     -999.0,9,     -999.0,9,     -999.0,9,         24,-999.000,-999.000,-999.000,     -999.0,9, -999.00,9, -999.00,9
33RO200306_01,       A16N,     024,          1,         18,         18,2,20030624,       1939,    53.5023,   -19.9993,       2288,   346.0,  10.4046,  35.3930,2,  35.3948,2,    245.2,2,   242.0,2,    5.08,2,   12.15,2,    0.03,2,    0.74,2,-999.000,9,-999.000,9,-999.000,9,  -999.0,9,  -999.0,9,   -999.0,9,  -999.00,-999.0000,9,  -999.00,-999.000,9,-999.000,9,-999.000,9, -999.00,9,  -999.0,9,  -999.0,-999.000,9,-999.000,-999.000,9, -999.00,9, -999.00,9,  346.00,-999.0000,9,-999.0000,9,-999.0000,9,-999.0000,9,-999.0000,9,-999.0000,9,  10.3629,     -999.0,9,     -999.0,9,     -999.0,9,     -999.0,9,         24,-999.000,-999.000,-999.000,     -999.0,9, -999.00,9, -999.00,9
33RO200306_01,       A16N,     024,          1,         17,         17,2,20030624,       1939,    53.5023,   -19.9993,       2288,   426.3,  10.1306,  35.3554,2,  35.3553,2,    245.7,2,   239.2,2,    5.53,2,   12.83,2,    0.03,2,    0.78,2,-999.000,9,-999.000,9,-999.000,9,  -999.0,9,  -999.0,9,   -999.0,9,  -999.00,-999.0000,9,  -999.00,-999.000,9,-999.000,9,-999.000,9, -999.00,9,  -999.0,9,  -999.0,-999.000,9,-999.000,   1.198,2, -999.00,9, -999.00,9,  426.30,-999.0000,9,-999.0000,9,-999.0000,9,-999.0000,9,-999.0000,9,-999.0000,9,  10.0799,      0.402,2,     -999.0,9,     -999.0,9,     -999.0,9,         24,-999.000,-999.000,-999.000,     -999.0,9, -999.00,9, -999.00,9
33RO200306_01,       A16N,     024,          1,         16,         16,2,20030624,       1939,    53.5023,   -19.9993,       2288,   475.4,   9.8017,  35.3067,2,  35.3072,2,    232.8,2,   241.9,2,    6.33,2,   13.95,2,    0.03,2,    0.85,2,-999.000,9,-999.000,9,-999.000,9,  -999.0,9,  -999.0,9,   -999.0,9,  -999.00,-999.0000,9,  -999.00,-999.000,9,-999.000,9,-999.000,9, -999.00,9,  -999.0,9,  -999.0,-999.000,9,-999.000,-999.000,9, -999.00,9, -999.00,9,  475.40,-999.0000,9,-999.0000,9,-999.0000,9,-999.0000,9,-999.0000,9,-999.0000,9,   9.7462,     -999.0,9,     -999.0,9,     -999.0,9,     -999.0,9,         24,-999.000,-999.000,-999.000,     -999.0,9, -999.00,9, -999.00,9
33RO200306_01,       A16N,     024,          1,         15,         15,2,20030624,       1939,    53.5023,   -19.9993,       2288,   548.5,   9.1093,  35.2060,2,  35.2087,2,    215.1,2,   212.5,2,    8.24,2,   16.38,2,    0.03,2,    1.00,2,-999.000,9,-999.000,9,-999.000,9,  -999.0,9,  -999.0,9,   -999.0,9,  -999.00,-999.0000,9,  -999.00,-999.000,9,-999.000,9,-999.000,9, -999.00,9,  -999.0,9,  -999.0,-999.000,9,-999.000,-999.000,9, -999.00,9, -999.00,9,  548.50,-999.0000,9,-999.0000,9,-999.0000,9,-999.0000,9,-999.0000,9,-999.0000,9,   9.0479,     -999.0,9,     -999.0,9,     -999.0,9,     -999.0,9,         24,-999.000,-999.000,-999.000,     -999.0,9, -999.00,9, -999.00,9
33RO200306_01,       A16N,     024,          1,         14,         14,2,20030624,       1939,    53.5023,   -19.9993,       2288,   648.7,   8.2686,  35.1656,2,  35.1650,2,    197.8,2,   197.1,2,    9.98,2,   18.37,2,    0.03,2,    1.15,2,-999.000,9,-999.000,9,-999.000,9,  -999.0,9,  -999.0,9,   -999.0,9,  -999.00,-999.0000,9,  -999.00,-999.000,9,-999.000,9,-999.000,9, -999.00,9,  -999.0,9,  -999.0,-999.000,9,-999.000,-999.000,9, -999.00,9, -999.00,9,  648.70,-999.0000,9,-999.0000,9,-999.0000,9,-999.0000,9,-999.0000,9,-999.0000,9,   8.1996,     -999.0,9,     -999.0,9,     -999.0,9,     -999.0,9,         24,-999.000,-999.000,-999.000,     -999.0,9, -999.00,9, -999.00,9
33RO200306_01,       A16N,     024,          1,         13,         13,2,20030624,       1939,    53.5023,   -19.9993,       2288,   750.1,   7.6417,  35.1977,2,  35.2028,2,    201.9,2,   197.8,2,   10.73,2,   18.73,2,    0.03,2,    1.15,2,-999.000,9,-999.000,9,-999.000,9,  -999.0,9,  -999.0,9,   -999.0,9,  -999.00,-999.0000,9,  -999.00,-999.000,9,-999.000,9,-999.000,9, -999.00,9,  -999.0,9,  -999.0,-999.000,9,-999.000,-999.000,9, -999.00,9, -999.00,9,  750.10,-999.0000,9,-999.0000,9,-999.0000,9,-999.0000,9,-999.0000,9,-999.0000,9,   7.5648,     -999.0,9,     -999.0,9,     -999.0,9,     -999.0,9,         24,-999.000,-999.000,-999.000,     -999.0,9, -999.00,9, -999.00,9
33RO200306_01,       A16N,     024,          1,         12,         12,2,20030624,       1939,    53.5023,   -19.9993,       2288,   849.1,   7.6996,  35.3459,2,  35.3417,2,    198.9,2,   199.7,2,   10.83,2,   18.36,2,    0.03,2,    1.11,2,-999.000,9,-999.000,9,-999.000,9,  -999.0,9,  -999.0,9,   -999.0,9,  -999.00,-999.0000,9,  -999.00,-999.000,9,-999.000,9,-999.000,9, -999.00,9,  -999.0,9,  -999.0,-999.000,9,-999.000,-999.000,9, -999.00,9, -999.00,9,  849.10,-999.0000,9,-999.0000,9,-999.0000,9,-999.0000,9,-999.0000,9,-999.0000,9,   7.6115,     -999.0,9,     -999.0,9,     -999.0,9,     -999.0,9,         24,-999.000,-999.000,-999.000,     -999.0,9, -999.00,9, -999.00,9
33RO200306_01,       A16N,     024,          1,         11,         11,2,20030624,       1939,    53.5023,   -19.9993,       2288,   950.5,   6.4207,  35.1744,2,  35.1735,2,    212.5,2,   216.7,2,   11.13,2,   18.45,2,    0.03,2,    1.14,2,-999.000,9,-999.000,9,-999.000,9,  -999.0,9,  -999.0,9,   -999.0,9,  -999.00,-999.0000,9,  -999.00,-999.000,9,-999.000,9,-999.000,9, -999.00,9,  -999.0,9,  -999.0,-999.000,9,-999.000,-999.000,9, -999.00,9, -999.00,9,  950.50,-999.0000,9,-999.0000,9,-999.0000,9,-999.0000,9,-999.0000,9,-999.0000,9,   6.3307,     -999.0,9,     -999.0,9,     -999.0,9,     -999.0,9,         24,-999.000,-999.000,-999.000,     -999.0,9, -999.00,9, -999.00,9
33RO200306_01,       A16N,     024,          1,         10,         10,2,20030624,       1939,    53.5023,   -19.9993,       2288,  1050.7,   5.7878,  35.1182,2,  35.1197,2,    228.1,2,   227.5,2,   11.24,2,   18.26,2,    0.03,2,    1.13,2,-999.000,9,-999.000,9,-999.000,9,  -999.0,9,  -999.0,9,   -999.0,9,  -999.00,-999.0000,9,  -999.00,-999.000,9,-999.000,9,-999.000,9, -999.00,9,  -999.0,9,  -999.0,-999.000,9,-999.000,-999.000,9, -999.00,9, -999.00,9, 1050.70,-999.0000,9,-999.0000,9,-999.0000,9,-999.0000,9,-999.0000,9,-999.0000,9,   5.6926,     -999.0,9,     -999.0,9,     -999.0,9,     -999.0,9,         24,-999.000,-999.000,-999.000,     -999.0,9, -999.00,9, -999.00,9
33RO200306_01,       A16N,     024,          1,          9,          9,2,20030624,       1939,    53.5023,   -19.9993,       2288,  1150.0,   5.1945,  35.0589,2,  35.0608,2,    239.1,2,   239.7,2,   11.24,2,   18.12,2,    0.03,2,    1.12,2,-999.000,9,-999.000,9,-999.000,9,  -999.0,9,  -999.0,9,   -999.0,9,  -999.00,-999.0000,9,  -999.00,-999.000,9,-999.000,9,-999.000,9, -999.00,9,  -999.0,9,  -999.0,-999.000,9,-999.000,-999.000,9, -999.00,9, -999.00,9, 1150.00,-999.0000,9,-999.0000,9,-999.0000,9,-999.0000,9,-999.0000,9,-999.0000,9,   5.0947,     -999.0,9,     -999.0,9,     -999.0,9,     -999.0,9,         24,-999.000,-999.000,-999.000,     -999.0,9, -999.00,9, -999.00,9
33RO200306_01,       A16N,     024,          1,          8,          8,2,20030624,       1939,    53.5023,   -19.9993,       2288,  1249.0,   4.6681,  35.0116,2,  35.0136,2,    249.1,2,   250.6,2,   11.30,2,   17.65,2,    0.03,2,    1.10,2,-999.000,9,-999.000,9,-999.000,9,  -999.0,9,  -999.0,9,   -999.0,9,  -999.00,-999.0000,9,  -999.00,-999.000,9,-999.000,9,-999.000,9, -999.00,9,  -999.0,9,  -999.0,-999.000,9,-999.000,-999.000,9, -999.00,9, -999.00,9, 1249.00,-999.0000,9,-999.0000,9,-999.0000,9,-999.0000,9,-999.0000,9,-999.0000,9,   4.5639,     -999.0,9,     -999.0,9,     -999.0,9,     -999.0,9,         24,-999.000,-999.000,-999.000,     -999.0,9, -999.00,9, -999.00,9
33RO200306_01,       A16N,     024,          1,          7,          7,2,20030624,       1939,    53.5023,   -19.9993,       2288,  1349.7,   4.3837,  34.9924,2,  34.9950,2,    258.1,2,   258.5,2,   11.40,2,   17.30,2,    0.03,2,    1.08,2,-999.000,9,-999.000,9,-999.000,9,  -999.0,9,  -999.0,9,   -999.0,9,  -999.00,-999.0000,9,  -999.00,-999.000,9,-999.000,9,-999.000,9, -999.00,9,  -999.0,9,  -999.0,-999.000,9,-999.000,-999.000,9, -999.00,9, -999.00,9, 1349.70,-999.0000,9,-999.0000,9,-999.0000,9,-999.0000,9,-999.0000,9,-999.0000,9,   4.2731,     -999.0,9,     -999.0,9,     -999.0,9,     -999.0,9,         24,-999.000,-999.000,-999.000,     -999.0,9, -999.00,9, -999.00,9
33RO200306_01,       A16N,     024,          1,          6,          6,2,20030624,       1939,    53.5023,   -19.9993,       2288,  1599.7,   3.7048,  34.9233,2,  34.9252,2,    269.0,2,   268.9,2,   11.81,2,   17.34,2,    0.03,2,    1.09,2,-999.000,9,-999.000,9,-999.000,9,  -999.0,9,  -999.0,9,   -999.0,9,  -999.00,-999.0000,9,  -999.00,-999.000,9,-999.000,9,-999.000,9, -999.00,9,  -999.0,9,  -999.0,-999.000,9,-999.000,-999.000,9, -999.00,9, -999.00,9, 1599.70,-999.0000,9,-999.0000,9,-999.0000,9,-999.0000,9,-999.0000,9,-999.0000,9,   3.5791,     -999.0,9,     -999.0,9,     -999.0,9,     -999.0,9,         24,-999.000,-999.000,-999.000,     -999.0,9, -999.00,9, -999.00,9
33RO200306_01,       A16N,     024,          1,          5,          5,2,20030624,       1939,    53.5023,   -19.9993,       2288,  1798.5,   3.4799,  34.9111,2,  34.9126,2,    274.3,2,   272.2,2,   12.15,2,   17.13,2,    0.03,2,    1.08,2,-999.000,9,-999.000,9,-999.000,9,  -999.0,9,  -999.0,9,   -999.0,9,  -999.00,-999.0000,9,  -999.00,-999.000,9,-999.000,9,-999.000,9, -999.00,9,  -999.0,9,  -999.0,-999.000,9,-999.000,-999.000,9, -999.00,9, -999.00,9, 1798.50,-999.0000,9,-999.0000,9,-999.0000,9,-999.0000,9,-999.0000,9,-999.0000,9,   3.3390,     -999.0,9,     -999.0,9,     -999.0,9,     -999.0,9,         24,-999.000,-999.000,-999.000,     -999.0,9, -999.00,9, -999.00,9