BOTTLE,20230908CCHSIOCBG
EXPOCODE,SECT_ID,STNNBR,CASTNO,SAMPNO,BTLNBR,BTLNBR_FLAG_W,DATE,TIME,LATITUDE,LONGITUDE,DEPTH,CTDPRS,CTDTMP,CTDSAL,CTDSAL_FLAG_W,SALNTY,SALNTY_FLAG_W,CTDOXY,CTDOXY_FLAG_W,OXYGEN,OXYGEN_FLAG_W,SILCAT,SILCAT_FLAG_W,NITRAT,NITRAT_FLAG_W,NITRIT,NITRIT_FLAG_W,PHSPHT,PHSPHT_FLAG_W,CFC-11,CFC-11_FLAG_W,CFC-12,CFC-12_FLAG_W,CFC113,CFC113_FLAG_W,TCARBN,TCARBN_FLAG_W,ALKALI,ALKALI_FLAG_W,FCO2,FCO2_FLAG_W,FCO2TMP,PH_SWS,PH_SWS_FLAG_W,PH_TMP,TRITUM,TRITUM_FLAG_W,HELIUM,HELIUM_FLAG_W,DELHE3,DELHE3_FLAG_W,DELC13,DELC13_FLAG_W,DELC14,DELC14_FLAG_W,C14ERR,NEON,NEON_FLAG_W,NEONER,POC,POC_FLAG_W,DOC,DOC_FLAG_W,TDN,TDN_FLAG_W,CTDRAW,CDOM325,CDOM325_FLAG_W,CDOM340,CDOM340_FLAG_W,CDOM380,CDOM380_FLAG_W,CDOM412,CDOM412_FLAG_W,CDOMSL,CDOMSL_FLAG_W,CDOMSN,CDOMSN_FLAG_W,THETA,PON,PON_FLAG_W,HCFC-22,HCFC-22_FLAG_W,HCFC-142b,HCFC-142b_FLAG_W,HCFC-141b,HCFC-141b_FLAG_W,STNNBR_U,HELIER,DELHER,TRITER,CH3CL,CH3CL_FLAG_W,CH3BR,CH3BR_FLAG_W,CH3I,CH3I_FLAG_W
,,,,,,,,,,,METERS,DBAR,ITS-90,PSS-78,,PSS-78,,UMOL/KG,,UMOL/KG,,UMOL/KG,,UMOL/KG,,UMOL/KG,,UMOL/KG,,PMOL/KG,,PMOL/KG,,PMOL/KG,,UMOL/KG,,UMOL/KG,,UATM,,DEG C,,,DEG C,TU,,NMOL/KG,,PERCNT,,/MILLE,,/MILLE,,/MILLE,NMOL/KG,,NMOL/KG,UG/KG,,UMOL/KG,,UMOL/KG,,DBAR,1/M,,1/M,,1/M,,1/M,,1/NM,,1/NM,,DEG C,UMOL/L,,PMOL/KG,,PMOL/KG,,PMOL/KG,,,NMOL/KG,PERCNT,TU,PMOL/KG,,PMOL/KG,,PMOL/KG,
33RO200306_02,       A16N,     086,          1,          7,          7,2,20030721,       0611,    22.9992,   -27.3133,       5517,  3600.7,   2.4798,  34.9110,2,  34.9115,2,    240.3,2,   243.4,2,   42.03,2,   21.97,2,    0.00,2,    1.53,2,   0.008,2,   0.005,2,   0.000,2,  2209.7,4,  2360.3,3,   -999.0,9,  -999.00,   7.7218,2,    25.00,-999.000,9,-999.000,9,-999.000,9, -999.00,9,  -999.0,9,  -999.0,-999.000,9,-999.000,-999.000,9,   41.82,2,   26.69,2, 3600.70,-999.0000,9,-999.0000,9,-999.0000,9,-999.0000,9,-999.0000,9,-999.0000,9,   2.1769,     -999.0,9,     -999.0,9,     -999.0,9,     -999.0,9,         86,-999.000,-999.000,-999.000,     -999.0,9, -999.00,9, -999.00,9
33RO200306_02,       A16N,     086,          1,          6,          6,2,20030721,       0611,    22.9992,   -27.3133,       5517,  3999.4,   2.4025,  34.8999,2,  34.9005,2,    240.7,2,   242.1,2,   44.58,2,   22.27,2,    0.00,2,    1.55,2,   0.006,2,   0.002,2,   0.002,2,  2201.3,3,  2367.7,3,   -999.0,9,  -999.00,   7.7210,2,    25.00,-999.000,9,-999.000,9,-999.000,9, -999.00,9,  -999.0,9,  -999.0,-999.000,9,-999.000,-999.000,9,   41.58,2,   26.26,2, 3999.40,-999.0000,9,-999.0000,9,-999.0000,9,-999.0000,9,-999.0000,9,-999.0000,9,   2.0570,     -999.0,9,     -999.0,9,     -999.0,9,     -999.0,9,         86,-999.000,-999.000,-999.000,     -999.0,9, -999.00,9, -999.00,9
33RO200306_02,       A16N,     086,          1,          5,          5,2,20030721,       0611,    22.9992,   -27.3133,       5517,  4399.6,   2.3773,  34.8924,2,  34.8935,2,    241.4,2,   242.4,2,   46.37,2,   22.45,2,    0.00,2,    1.56,2,-999.000,9,-999.000,9,-999.000,9,  2220.7,4,  2353.0,2,    765.7,6,    20.00,   7.7311,2,    25.00,-999.000,9,-999.000,9,-999.000,9, -999.00,9,  -999.0,9,  -999.0,-999.000,9,-999.000,-999.000,9,   41.33,2,   26.97,2, 4399.60,-999.0000,9,-999.0000,9,-999.0000,9,-999.0000,9,-999.0000,9,-999.0000,9,   1.9858,     -999.0,9,     -999.0,9,     -999.0,9,     -999.0,9,         86,-999.000,-999.000,-999.000,     -999.0,9, -999.00,9, -999.00,9
33RO200306_02,       A16N,     086,          1,          4,          4,2,20030721,       0611,    22.9992,   -27.3133,       5517,  4799.8,   2.3911,  34.8881,2,  34.8885,2,    242.3,2,   243.0,2,   47.24,2,   22.52,2,    0.00,2,    1.55,2,   0.003,2,   0.002,2,   0.002,2,  2199.1,2,  2355.8,2,   -999.0,9,  -999.00,   7.7435,2,    25.00,-999.000,9,-999.000,9,-999.000,9, -999.00,9,  -999.0,9,  -999.0,-999.000,9,-999.000,-999.000,9,   41.05,2,   25.94,2, 4799.80,-999.0000,9,-999.0000,9,-999.0000,9,-999.0000,9,-999.0000,9,-999.0000,9,   1.9505,     -999.0,9,     -999.0,9,     -999.0,9,     -999.0,9,         86,-999.000,-999.000,-999.000,     -999.0,9, -999.00,9, -999.00,9
33RO200306_02,       A16N,     086,          1,          3,          3,2,20030721,       0611,    22.9992,   -27.3133,       5517,  5199.6,   2.4300,  34.8863,2,  34.8870,2,    243.5,2,   242.6,2,   47.54,6,   22.54,6,    0.00,6,    1.56,6,  -0.005,2,   0.002,2,   0.001,2,  2238.0,4,  2355.3,2,   -999.0,9,  -999.00,   7.7415,2,    25.00,-999.000,9,-999.000,9,-999.000,9, -999.00,9,  -999.0,9,  -999.0,-999.000,9,-999.000,-999.000,9,   40.14,2,   26.05,2, 5199.60,-999.0000,9,-999.0000,9,-999.0000,9,-999.0000,9,-999.0000,9,-999.0000,9,   1.9375,     -999.0,9,     -999.0,9,     -999.0,9,     -999.0,9,         86,-999.000,-999.000,-999.000,     -999.0,9, -999.00,9, -999.00,9
33RO200306_02,       A16N,     086,          1,          2,          2,2,20030721,       0611,    22.9992,   -27.3133,       5517,  5399.4,   2.4535,  34.8857,2,  34.8859,2,    243.6,2,   242.0,2,   47.63,6,   22.52,6,    0.00,6,    1.57,6,-999.000,9,-999.000,9,-999.000,9,  2194.8,4,  2356.3,2,   -999.0,9,  -999.00,   7.7263,2,    25.00,-999.000,9,-999.000,9,-999.000,9, -999.00,9,  -999.0,9,  -999.0,-999.000,9,-999.000,-999.000,9,   41.33,2,   27.08,2, 5399.40,-999.0000,9,-999.0000,9,-999.0000,9,-999.0000,9,-999.0000,9,-999.0000,9,   1.9341,     -999.0,9,     -999.0,9,     -999.0,9,     -999.0,9,         86,-999.000,-999.000,-999.000,     -999.0,9, -999.00,9, -999.00,9
33RO200306_02,       A16N,     086,          1,          1,          1,2,20030721,       0611,    22.9992,   -27.3133,       5517,  5611.2,   2.4813,  34.8852,2,  34.8857,2,    244.2,2,   242.9,2,   47.68,6,   22.59,6,    0.00,6,    1.55,6,   0.009,3,   0.004,2,   0.001,2,  2202.8,2,  2356.0,6,    766.1,6,    20.00,   7.7325,6,    25.00,-999.000,9,-999.000,9,-999.000,9, -999.00,9,  -999.0,9,  -999.0,-999.000,9,-999.000,-999.000,9,   41.54,2,   26.46,2, 5611.20,-999.0000,9,-999.0000,9,-999.0000,9,-999.0000,9,-999.0000,9,-999.0000,9,   1.9327,     -999.0,9,     -999.0,9,     -999.0,9,     -999.0,9,         86,-999.000,-999.000,-999.000,     -999.0,9, -999.00,9, -999.00,9