BOTTLE,20230908CCHSIOCBG
EXPOCODE,SECT_ID,STNNBR,CASTNO,SAMPNO,BTLNBR,BTLNBR_FLAG_W,DATE,TIME,LATITUDE,LONGITUDE,DEPTH,CTDPRS,CTDTMP,CTDSAL,CTDSAL_FLAG_W,SALNTY,SALNTY_FLAG_W,CTDOXY,CTDOXY_FLAG_W,OXYGEN,OXYGEN_FLAG_W,SILCAT,SILCAT_FLAG_W,NITRAT,NITRAT_FLAG_W,NITRIT,NITRIT_FLAG_W,PHSPHT,PHSPHT_FLAG_W,CFC-11,CFC-11_FLAG_W,CFC-12,CFC-12_FLAG_W,CFC113,CFC113_FLAG_W,TCARBN,TCARBN_FLAG_W,ALKALI,ALKALI_FLAG_W,FCO2,FCO2_FLAG_W,FCO2TMP,PH_SWS,PH_SWS_FLAG_W,PH_TMP,TRITUM,TRITUM_FLAG_W,HELIUM,HELIUM_FLAG_W,DELHE3,DELHE3_FLAG_W,DELC13,DELC13_FLAG_W,DELC14,DELC14_FLAG_W,C14ERR,NEON,NEON_FLAG_W,NEONER,POC,POC_FLAG_W,DOC,DOC_FLAG_W,TDN,TDN_FLAG_W,CTDRAW,CDOM325,CDOM325_FLAG_W,CDOM340,CDOM340_FLAG_W,CDOM380,CDOM380_FLAG_W,CDOM412,CDOM412_FLAG_W,CDOMSL,CDOMSL_FLAG_W,CDOMSN,CDOMSN_FLAG_W,THETA,PON,PON_FLAG_W,HCFC-22,HCFC-22_FLAG_W,HCFC-142b,HCFC-142b_FLAG_W,HCFC-141b,HCFC-141b_FLAG_W,STNNBR_U,HELIER,DELHER,TRITER,CH3CL,CH3CL_FLAG_W,CH3BR,CH3BR_FLAG_W,CH3I,CH3I_FLAG_W
,,,,,,,,,,,METERS,DBAR,ITS-90,PSS-78,,PSS-78,,UMOL/KG,,UMOL/KG,,UMOL/KG,,UMOL/KG,,UMOL/KG,,UMOL/KG,,PMOL/KG,,PMOL/KG,,PMOL/KG,,UMOL/KG,,UMOL/KG,,UATM,,DEG C,,,DEG C,TU,,NMOL/KG,,PERCNT,,/MILLE,,/MILLE,,/MILLE,NMOL/KG,,NMOL/KG,UG/KG,,UMOL/KG,,UMOL/KG,,DBAR,1/M,,1/M,,1/M,,1/M,,1/NM,,1/NM,,DEG C,UMOL/L,,PMOL/KG,,PMOL/KG,,PMOL/KG,,,NMOL/KG,PERCNT,TU,PMOL/KG,,PMOL/KG,,PMOL/KG,
33RO200306_01,       A16N,     067,          2,         35,         35,2,20030707,       2224,    32.0002,   -22.2508,       5170,     3.5,  23.8564,  36.9741,2,  36.9765,2,    224.9,2,   215.0,2,    0.64,2,   -0.01,2,    0.01,2,    0.01,2,   2.045,2,   1.277,2,   0.176,2,  2104.1,6,  -999.0,9,    353.2,2,    20.00,-999.0000,9,  -999.00,-999.000,9,-999.000,9,-999.000,9, -999.00,9,  -999.0,9,  -999.0,-999.000,9,-999.000,-999.000,9,   65.04,2,    7.77,2,    3.50,-999.0000,9,-999.0000,9,-999.0000,9,-999.0000,9,-999.0000,9,-999.0000,9,  23.8557,     -999.0,9,     -999.0,9,     -999.0,9,     -999.0,9,         67,-999.000,-999.000,-999.000,     -999.0,9, -999.00,9, -999.00,9
33RO200306_01,       A16N,     067,          2,         33,         33,2,20030707,       2224,    32.0002,   -22.2508,       5170,    14.8,  23.6841,  36.9684,2,  36.8984,2,    225.9,2,   224.7,2,    0.66,2,    0.00,2,    0.01,2,    0.01,2,   2.153,2,   1.332,2,   0.184,2,  2100.5,2,  2409.2,2,    351.1,2,    20.00,   8.0181,2,    25.00,-999.000,9,-999.000,9,-999.000,9, -999.00,9,  -999.0,9,  -999.0,-999.000,9,-999.000,-999.000,9,   63.49,2,    7.67,2,   14.80,-999.0000,9,-999.0000,9,-999.0000,9,-999.0000,9,-999.0000,9,-999.0000,9,  23.6810,     -999.0,9,     -999.0,9,     -999.0,9,     -999.0,9,         67,-999.000,-999.000,-999.000,     -999.0,9, -999.00,9, -999.00,9
33RO200306_01,       A16N,     067,          2,         32,         32,2,20030707,       2224,    32.0002,   -22.2508,       5170,    45.0,  19.7415,  36.6751,2,  36.6396,2,    243.0,2,   242.6,2,    0.63,2,    0.00,2,    0.01,2,    0.01,2,   2.467,2,   1.507,2,   0.206,2,  2087.2,2,  2393.3,2,    354.2,2,    20.00,   8.0530,3,    25.00,-999.000,9,-999.000,9,-999.000,9, -999.00,9,  -999.0,9,  -999.0,-999.000,9,-999.000,-999.000,9,   64.35,2,    7.95,2,   45.00,-999.0000,9,-999.0000,9,-999.0000,9,-999.0000,9,-999.0000,9,-999.0000,9,  19.7332,     -999.0,9,     -999.0,9,     -999.0,9,     -999.0,9,         67,-999.000,-999.000,-999.000,     -999.0,9, -999.00,9, -999.00,9
33RO200306_01,       A16N,     067,          2,         31,         31,2,20030707,       2224,    32.0002,   -22.2508,       5170,    65.0,  19.2163,  36.7097,2,  36.6983,2,    241.0,2,   239.0,2,    0.65,2,    0.00,2,    0.01,2,    0.02,2,   2.433,2,   1.484,2,   0.202,2,  2092.4,2,  2397.8,2,   -999.0,9,  -999.00,   8.0169,2,    25.00,-999.000,9,-999.000,9,-999.000,9, -999.00,9,  -999.0,9,  -999.0,-999.000,9,-999.000,-999.000,9, -999.00,9, -999.00,9,   65.00,-999.0000,9,-999.0000,9,-999.0000,9,-999.0000,9,-999.0000,9,-999.0000,9,  19.2045,     -999.0,9,     -999.0,9,     -999.0,9,     -999.0,9,         67,-999.000,-999.000,-999.000,     -999.0,9, -999.00,9, -999.00,9
33RO200306_01,       A16N,     067,          2,         30,         30,2,20030707,       2224,    32.0002,   -22.2508,       5170,    94.8,  18.5414,  36.6781,2,  36.6574,2,    231.5,2,   232.4,2,    0.73,2,    0.08,2,    0.02,2,    0.02,2,   2.462,2,   1.504,2,   0.196,2,  2097.8,2,  2396.5,2,    370.7,2,    20.00,   7.9965,2,    25.00,-999.000,9,-999.000,9,-999.000,9, -999.00,9,  -999.0,9,  -999.0,-999.000,9,-999.000,-999.000,9,   57.24,2,    7.01,2,   94.80,-999.0000,9,-999.0000,9,-999.0000,9,-999.0000,9,-999.0000,9,-999.0000,9,  18.5246,     -999.0,9,     -999.0,9,     -999.0,9,     -999.0,9,         67,-999.000,-999.000,-999.000,     -999.0,9, -999.00,9, -999.00,9
33RO200306_01,       A16N,     067,          2,         29,         29,2,20030707,       2224,    32.0002,   -22.2508,       5170,   114.4,  18.0663,  36.5951,2,  36.5762,2,    226.3,2,   223.4,2,    0.81,2,    0.70,2,    0.06,2,    0.06,2,   2.485,2,   1.498,2,   0.180,2,  -999.0,9,  2391.6,2,   -999.0,9,  -999.00,   7.9799,2,    25.00,-999.000,9,-999.000,9,-999.000,9, -999.00,9,  -999.0,9,  -999.0,-999.000,9,-999.000,-999.000,9, -999.00,9, -999.00,9,  114.40,-999.0000,9,-999.0000,9,-999.0000,9,-999.0000,9,-999.0000,9,-999.0000,9,  18.0464,     -999.0,9,     -999.0,9,     -999.0,9,     -999.0,9,         67,-999.000,-999.000,-999.000,     -999.0,9, -999.00,9, -999.00,9
33RO200306_01,       A16N,     067,          2,         28,         28,2,20030707,       2224,    32.0002,   -22.2508,       5170,   129.0,  17.6980,  36.5186,2,  36.5024,2,    221.3,2,   221.6,2,    0.89,2,    1.44,2,    0.05,2,    0.09,2,   2.536,2,   1.538,2,   0.179,2,  2102.6,2,  2386.1,2,    397.2,2,    20.00,   7.9732,2,    25.00,-999.000,9,-999.000,9,-999.000,9, -999.00,9,  -999.0,9,  -999.0,-999.000,9,-999.000,-999.000,9,   55.78,2,    8.27,2,  129.00,-999.0000,9,-999.0000,9,-999.0000,9,-999.0000,9,-999.0000,9,-999.0000,9,  17.6759,     -999.0,9,     -999.0,9,     -999.0,9,     -999.0,9,         67,-999.000,-999.000,-999.000,     -999.0,9, -999.00,9, -999.00,9
33RO200306_01,       A16N,     067,          2,         27,         27,2,20030707,       2224,    32.0002,   -22.2508,       5170,   160.6,  17.1529,  36.4271,2,  36.4197,2,    211.3,2,   211.7,2,    1.25,2,    3.51,2,    0.02,2,    0.20,2,   2.547,2,   1.526,2,   0.113,2,  2110.2,2,  2380.4,2,   -999.0,9,  -999.00,   7.9540,2,    25.00,-999.000,9,-999.000,9,-999.000,9, -999.00,9,  -999.0,9,  -999.0,-999.000,9,-999.000,-999.000,9, -999.00,9, -999.00,9,  160.60,-999.0000,9,-999.0000,9,-999.0000,9,-999.0000,9,-999.0000,9,-999.0000,9,  17.1260,     -999.0,9,     -999.0,9,     -999.0,9,     -999.0,9,         67,-999.000,-999.000,-999.000,     -999.0,9, -999.00,9, -999.00,9
33RO200306_01,       A16N,     067,          2,         26,         26,2,20030707,       2224,    32.0002,   -22.2508,       5170,   186.7,  16.4123,  36.2714,2,  36.2644,2,    211.3,2,   212.3,2,    1.60,2,    4.62,2,    0.02,2,    0.26,2,   2.612,2,   1.547,2,   0.102,2,  2110.9,2,  2371.2,2,    434.1,2,    20.00,   7.9400,2,    25.00,-999.000,9,-999.000,9,-999.000,9, -999.00,9,  -999.0,9,  -999.0,-999.000,9,-999.000,-999.000,9,   53.09,2,   10.07,2,  186.70,-999.0000,9,-999.0000,9,-999.0000,9,-999.0000,9,-999.0000,9,-999.0000,9,  16.3820,     -999.0,9,     -999.0,9,     -999.0,9,     -999.0,9,         67,-999.000,-999.000,-999.000,     -999.0,9, -999.00,9, -999.00,9
33RO200306_01,       A16N,     067,          2,         25,         25,2,20030707,       2224,    32.0002,   -22.2508,       5170,   224.6,  15.6179,  36.1411,2,  36.1398,2,    203.1,2,   206.4,2,    2.16,2,    6.59,2,    0.01,2,    0.38,2,   2.648,2,   1.546,2,   0.066,2,  2120.0,2,  2363.3,2,   -999.0,9,  -999.00,   7.9039,2,    25.00,-999.000,9,-999.000,9,-999.000,9, -999.00,9,  -999.0,9,  -999.0,-999.000,9,-999.000,-999.000,9,   51.95,2,   12.60,2,  224.60,-999.0000,9,-999.0000,9,-999.0000,9,-999.0000,9,-999.0000,9,-999.0000,9,  15.5826,     -999.0,9,     -999.0,9,     -999.0,9,     -999.0,9,         67,-999.000,-999.000,-999.000,     -999.0,9, -999.00,9, -999.00,9
33RO200306_01,       A16N,     067,          2,         24,         24,2,20030707,       2224,    32.0002,   -22.2508,       5170,   274.6,  14.9608,  36.0375,2,  36.0314,2,    206.1,2,   206.8,2,    2.54,2,    7.58,2,    0.01,2,    0.44,2,   2.722,2,   1.579,2,   0.063,2,  2126.1,2,  2357.7,2,    490.1,2,    20.00,   7.8966,2,    25.00,-999.000,9,-999.000,9,-999.000,9, -999.00,9,  -999.0,9,  -999.0,-999.000,9,-999.000,-999.000,9,   49.43,2,   12.96,2,  274.60,-999.0000,9,-999.0000,9,-999.0000,9,-999.0000,9,-999.0000,9,-999.0000,9,  14.9188,     -999.0,9,     -999.0,9,     -999.0,9,     -999.0,9,         67,-999.000,-999.000,-999.000,     -999.0,9, -999.00,9, -999.00,9
33RO200306_01,       A16N,     067,          2,         23,         23,2,20030707,       2224,    32.0002,   -22.2508,       5170,   325.8,  14.2428,  35.9257,2,  35.9237,2,    205.8,2,   207.1,2,    3.05,2,    8.82,2,    0.01,2,    0.52,2,   2.727,2,   1.562,2,   0.065,2,  2129.7,2,  2352.4,2,   -999.0,9,  -999.00,   7.8766,2,    25.00,-999.000,9,-999.000,9,-999.000,9, -999.00,9,  -999.0,9,  -999.0,-999.000,9,-999.000,-999.000,9,   49.27,2,   12.63,2,  325.80,-999.0000,9,-999.0000,9,-999.0000,9,-999.0000,9,-999.0000,9,-999.0000,9,  14.1946,     -999.0,9,     -999.0,9,     -999.0,9,     -999.0,9,         67,-999.000,-999.000,-999.000,     -999.0,9, -999.00,9, -999.00,9
33RO200306_01,       A16N,     067,          2,         22,         22,2,20030707,       2224,    32.0002,   -22.2508,       5170,   349.1,  13.9965,  35.8914,2,  35.8899,2,    200.6,2,   200.7,2,    3.38,2,    9.79,2,    0.01,2,    0.58,2,   2.734,2,   1.555,2,   0.055,2,  2136.2,2,  2347.5,2,    533.4,2,    20.00,   7.8571,2,    25.00,-999.000,9,-999.000,9,-999.000,9, -999.00,9,  -999.0,9,  -999.0,-999.000,9,-999.000,-999.000,9,   48.29,2,   14.47,2,  349.10,-999.0000,9,-999.0000,9,-999.0000,9,-999.0000,9,-999.0000,9,-999.0000,9,  13.9454,     -999.0,9,     -999.0,9,     -999.0,9,     -999.0,9,         67,-999.000,-999.000,-999.000,     -999.0,9, -999.00,9, -999.00,9
33RO200306_01,       A16N,     067,          2,         21,         21,2,20030707,       2224,    32.0002,   -22.2508,       5170,   449.7,  12.7315,  35.7234,2,  35.7208,2,    190.5,2,   192.2,2,    4.81,2,   12.93,2,    0.01,2,    0.76,2,   2.641,2,   1.438,2,   0.051,2,  2149.6,2,  2339.0,2,    598.5,2,    20.00,   7.8233,2,    25.00,-999.000,9,-999.000,9,-999.000,9, -999.00,9,  -999.0,9,  -999.0,-999.000,9,-999.000,-999.000,9,   47.73,2,   16.37,2,  449.70,-999.0000,9,-999.0000,9,-999.0000,9,-999.0000,9,-999.0000,9,-999.0000,9,  12.6695,     -999.0,9,     -999.0,9,     -999.0,9,     -999.0,9,         67,-999.000,-999.000,-999.000,     -999.0,9, -999.00,9, -999.00,9
33RO200306_01,       A16N,     067,          2,         20,         20,2,20030707,       2224,    32.0002,   -22.2508,       5170,   539.8,  11.8623,  35.6333,2,  35.6332,2,    187.1,2,   186.5,2,    5.88,2,   14.94,2,    0.01,2,    0.88,2,   2.514,2,   1.343,2,   0.052,2,  2159.9,2,  2335.3,2,   -999.0,9,  -999.00,   7.7881,2,    25.00,-999.000,9,-999.000,9,-999.000,9, -999.00,9,  -999.0,9,  -999.0,-999.000,9,-999.000,-999.000,9,   46.66,2,   18.91,2,  539.80,-999.0000,9,-999.0000,9,-999.0000,9,-999.0000,9,-999.0000,9,-999.0000,9,  11.7909,     -999.0,9,     -999.0,9,     -999.0,9,     -999.0,9,         67,-999.000,-999.000,-999.000,     -999.0,9, -999.00,9, -999.00,9
33RO200306_01,       A16N,     067,          2,         19,         19,2,20030707,       2224,    32.0002,   -22.2508,       5170,   649.8,  10.9372,  35.5411,2,  35.5413,2,    184.0,2,   182.3,2,    7.61,2,   16.87,2,    0.01,2,    1.01,2,   2.094,2,   1.100,2,   0.042,2,  2163.9,2,  2332.7,2,    684.1,2,    20.00,   7.7657,2,    25.00,-999.000,9,-999.000,9,-999.000,9, -999.00,9,  -999.0,9,  -999.0,-999.000,9,-999.000,-999.000,9,   46.75,2,   19.91,2,  649.80,-999.0000,9,-999.0000,9,-999.0000,9,-999.0000,9,-999.0000,9,-999.0000,9,  10.8552,     -999.0,9,     -999.0,9,     -999.0,9,     -999.0,9,         67,-999.000,-999.000,-999.000,     -999.0,9, -999.00,9, -999.00,9
33RO200306_01,       A16N,     067,          2,         18,         18,2,20030707,       2224,    32.0002,   -22.2508,       5170,   800.0,   9.9086,  35.5210,2,  35.5185,2,    172.1,2,   173.7,2,   10.41,2,   19.15,2,    0.00,2,    1.17,2,   1.320,2,   0.680,2,   0.023,2,  2179.5,2,  2337.0,2,    732.3,6,    20.00,   7.7436,2,    25.00,-999.000,9,-999.000,9,-999.000,9, -999.00,9,  -999.0,9,  -999.0,-999.000,9,-999.000,-999.000,9,   45.53,2,   22.94,2,  800.00,-999.0000,9,-999.0000,9,-999.0000,9,-999.0000,9,-999.0000,9,-999.0000,9,   9.8129,     -999.0,9,     -999.0,9,     -999.0,9,     -999.0,9,         67,-999.000,-999.000,-999.000,     -999.0,9, -999.00,9, -999.00,9
33RO200306_01,       A16N,     067,          2,         17,         17,2,20030707,       2224,    32.0002,   -22.2508,       5170,   950.5,   9.1315,  35.5547,2,  35.5555,2,    175.1,2,   174.1,2,   12.20,2,   19.94,2,    0.00,2,    1.23,2,   0.914,2,   0.481,2,   0.015,2,  2190.2,6,  2344.1,6,    739.2,2,    20.00,   7.7355,6,    25.00,-999.000,9,-999.000,9,-999.000,9, -999.00,9,  -999.0,9,  -999.0,-999.000,9,-999.000,-999.000,9,   43.41,2,   23.41,2,  950.50,-999.0000,9,-999.0000,9,-999.0000,9,-999.0000,9,-999.0000,9,-999.0000,9,   9.0221,     -999.0,9,     -999.0,9,     -999.0,9,     -999.0,9,         67,-999.000,-999.000,-999.000,     -999.0,9, -999.00,9, -999.00,9
33RO200306_01,       A16N,     067,          2,         16,         16,2,20030707,       2224,    32.0002,   -22.2508,       5170,  1100.5,   8.6095,  35.6152,2,  35.6172,2,    191.0,2,   187.6,2,   12.07,2,   18.78,2,    0.00,2,    1.17,2,   0.968,2,   0.495,2,   0.020,2,  2190.6,2,  2351.3,2,    729.2,6,    20.00,   7.7484,2,    25.00,-999.000,9,-999.000,9,-999.000,9, -999.00,9,  -999.0,9,  -999.0,-999.000,9,-999.000,-999.000,9,   43.98,2,   22.81,2, 1100.50,-999.0000,9,-999.0000,9,-999.0000,9,-999.0000,9,-999.0000,9,-999.0000,9,   8.4859,     -999.0,9,     -999.0,9,     -999.0,9,     -999.0,9,         67,-999.000,-999.000,-999.000,     -999.0,9, -999.00,9, -999.00,9
33RO200306_01,       A16N,     067,          2,         15,         15,2,20030707,       2224,    32.0002,   -22.2508,       5170,  1249.6,   7.7413,  35.5497,2,  35.5491,2,    197.1,2,   198.5,2,   12.95,2,   18.77,2,    0.00,2,    1.18,2,   0.828,2,   0.429,2,   0.019,2,  2189.2,2,  2347.2,2,    727.9,2,    20.00,   7.7472,2,    25.00,-999.000,9,-999.000,9,-999.000,9, -999.00,9,  -999.0,9,  -999.0,-999.000,9,-999.000,-999.000,9,   43.49,2,   22.16,2, 1249.60,-999.0000,9,-999.0000,9,-999.0000,9,-999.0000,9,-999.0000,9,-999.0000,9,   7.6077,     -999.0,9,     -999.0,9,     -999.0,9,     -999.0,9,         67,-999.000,-999.000,-999.000,     -999.0,9, -999.00,9, -999.00,9
33RO200306_01,       A16N,     067,          2,         14,         14,2,20030707,       2224,    32.0002,   -22.2508,       5170,  1434.8,   6.1976,  35.3456,2,  35.3482,2,    219.1,2,   223.9,2,   13.02,2,   18.23,2,    0.00,2,    1.16,2,   0.987,2,   0.496,2,   0.029,2,  2179.5,2,  2333.2,2,    737.9,2,    20.00,   7.7433,2,    25.00,-999.000,9,-999.000,9,-999.000,9, -999.00,9,  -999.0,9,  -999.0,-999.000,9,-999.000,-999.000,9,   43.82,2,   21.87,2, 1434.80,-999.0000,9,-999.0000,9,-999.0000,9,-999.0000,9,-999.0000,9,-999.0000,9,   6.0590,     -999.0,9,     -999.0,9,     -999.0,9,     -999.0,9,         67,-999.000,-999.000,-999.000,     -999.0,9, -999.00,9, -999.00,9
33RO200306_01,       A16N,     067,          2,         13,         13,2,20030707,       2224,    32.0002,   -22.2508,       5170,  1739.4,   5.0139,  35.2026,2,  35.2073,2,    238.6,2,   239.0,2,   14.68,2,   18.23,2,    0.00,2,    1.17,2,   0.679,2,   0.347,2,   0.021,2,  2173.6,2,  2326.4,2,    734.4,2,    20.00,   7.7405,2,    25.00,-999.000,9,-999.000,9,-999.000,9, -999.00,9,  -999.0,9,  -999.0,-999.000,9,-999.000,-999.000,9,   42.68,2,   22.05,2, 1739.40,-999.0000,9,-999.0000,9,-999.0000,9,-999.0000,9,-999.0000,9,-999.0000,9,   4.8578,     -999.0,9,     -999.0,9,     -999.0,9,     -999.0,9,         67,-999.000,-999.000,-999.000,     -999.0,9, -999.00,9, -999.00,9
33RO200306_01,       A16N,     067,          2,         12,         12,2,20030707,       2224,    32.0002,   -22.2508,       5170,  2050.3,   4.0720,  35.0786,2,  35.0794,2,    248.8,2,   247.6,2,   18.31,2,   18.61,2,    0.00,2,    1.21,2,   0.313,2,   0.167,2,   0.013,2,  2170.9,2,  2322.5,2,    741.5,2,    20.00,   7.7338,2,    25.00,-999.000,9,-999.000,9,-999.000,9, -999.00,9,  -999.0,9,  -999.0,-999.000,9,-999.000,-999.000,9,   42.03,2,   23.08,2, 2050.30,-999.0000,9,-999.0000,9,-999.0000,9,-999.0000,9,-999.0000,9,-999.0000,9,   3.8981,     -999.0,9,     -999.0,9,     -999.0,9,     -999.0,9,         67,-999.000,-999.000,-999.000,     -999.0,9, -999.00,9, -999.00,9
33RO200306_01,       A16N,     067,          2,         11,         11,2,20030707,       2224,    32.0002,   -22.2508,       5170,  2295.5,   3.5081,  35.0111,2,  35.0115,2,    251.5,2,   251.8,2,   21.57,2,   18.91,2,    0.00,2,    1.24,2,   0.206,2,   0.114,2,   0.010,2,  2171.0,2,  2322.0,2,   -999.0,9,  -999.00,   7.8360,4,    25.00,-999.000,9,-999.000,9,-999.000,9, -999.00,9,  -999.0,9,  -999.0,-999.000,9,-999.000,-999.000,9,   42.27,2,   22.84,2, 2295.50,-999.0000,9,-999.0000,9,-999.0000,9,-999.0000,9,-999.0000,9,-999.0000,9,   3.3191,     -999.0,9,     -999.0,9,     -999.0,9,     -999.0,9,         67,-999.000,-999.000,-999.000,     -999.0,9, -999.00,9, -999.00,9
33RO200306_01,       A16N,     067,          2,         10,         10,2,20030707,       2224,    32.0002,   -22.2508,       5170,  2640.3,   3.0714,  34.9735,2,  34.9734,2,    249.0,2,   249.7,2,   29.04,2,   20.05,2,    0.00,2,    1.33,2,   0.068,2,   0.040,2,   0.006,2,  2182.4,2,  2331.4,2,   -999.0,9,  -999.00,   7.7333,2,    25.00,-999.000,9,-999.000,9,-999.000,9, -999.00,9,  -999.0,9,  -999.0,-999.000,9,-999.000,-999.000,9,   42.80,2,   23.82,2, 2640.30,-999.0000,9,-999.0000,9,-999.0000,9,-999.0000,9,-999.0000,9,-999.0000,9,   2.8560,     -999.0,9,     -999.0,9,     -999.0,9,     -999.0,9,         67,-999.000,-999.000,-999.000,     -999.0,9, -999.00,9, -999.00,9
33RO200306_01,       A16N,     067,          2,          9,          9,2,20030707,       2224,    32.0002,   -22.2508,       5170,  2944.3,   2.8089,  34.9473,2,  34.9485,2,    247.4,2,   246.3,2,   33.45,2,   20.55,2,    0.00,2,    1.37,2,   0.046,2,   0.029,2,   0.004,2,  2187.9,2,  2335.2,2,    758.3,2,    20.00,   7.7311,2,    25.00,-999.000,9,-999.000,9,-999.000,9, -999.00,9,  -999.0,9,  -999.0,-999.000,9,-999.000,-999.000,9,   40.47,2,   25.54,2, 2944.30,-999.0000,9,-999.0000,9,-999.0000,9,-999.0000,9,-999.0000,9,-999.0000,9,   2.5680,     -999.0,9,     -999.0,9,     -999.0,9,     -999.0,9,         67,-999.000,-999.000,-999.000,     -999.0,9, -999.00,9, -999.00,9
33RO200306_01,       A16N,     067,          2,          8,          8,2,20030707,       2224,    32.0002,   -22.2508,       5170,  3249.4,   2.6495,  34.9303,2,  34.9323,2,    245.4,2,   245.5,2,   37.26,2,   21.07,2,    0.00,2,    1.40,2,   0.028,2,   0.017,2,   0.003,2,  2191.7,2,  2340.4,2,   -999.0,9,  -999.00,   7.7298,2,    25.00,-999.000,9,-999.000,9,-999.000,9, -999.00,9,  -999.0,9,  -999.0,-999.000,9,-999.000,-999.000,9,   41.71,2,   26.20,2, 3249.40,-999.0000,9,-999.0000,9,-999.0000,9,-999.0000,9,-999.0000,9,-999.0000,9,   2.3803,     -999.0,9,     -999.0,9,     -999.0,9,     -999.0,9,         67,-999.000,-999.000,-999.000,     -999.0,9, -999.00,9, -999.00,9