BOTTLE,20230908CCHSIOCBG
EXPOCODE,SECT_ID,STNNBR,CASTNO,SAMPNO,BTLNBR,BTLNBR_FLAG_W,DATE,TIME,LATITUDE,LONGITUDE,DEPTH,CTDPRS,CTDTMP,CTDSAL,CTDSAL_FLAG_W,SALNTY,SALNTY_FLAG_W,CTDOXY,CTDOXY_FLAG_W,OXYGEN,OXYGEN_FLAG_W,SILCAT,SILCAT_FLAG_W,NITRAT,NITRAT_FLAG_W,NITRIT,NITRIT_FLAG_W,PHSPHT,PHSPHT_FLAG_W,CFC-11,CFC-11_FLAG_W,CFC-12,CFC-12_FLAG_W,CFC113,CFC113_FLAG_W,TCARBN,TCARBN_FLAG_W,ALKALI,ALKALI_FLAG_W,FCO2,FCO2_FLAG_W,FCO2TMP,PH_SWS,PH_SWS_FLAG_W,PH_TMP,TRITUM,TRITUM_FLAG_W,HELIUM,HELIUM_FLAG_W,DELHE3,DELHE3_FLAG_W,DELC13,DELC13_FLAG_W,DELC14,DELC14_FLAG_W,C14ERR,NEON,NEON_FLAG_W,NEONER,POC,POC_FLAG_W,DOC,DOC_FLAG_W,TDN,TDN_FLAG_W,CTDRAW,CDOM325,CDOM325_FLAG_W,CDOM340,CDOM340_FLAG_W,CDOM380,CDOM380_FLAG_W,CDOM412,CDOM412_FLAG_W,CDOMSL,CDOMSL_FLAG_W,CDOMSN,CDOMSN_FLAG_W,THETA,PON,PON_FLAG_W,HCFC-22,HCFC-22_FLAG_W,HCFC-142b,HCFC-142b_FLAG_W,HCFC-141b,HCFC-141b_FLAG_W,STNNBR_U,HELIER,DELHER,TRITER,CH3CL,CH3CL_FLAG_W,CH3BR,CH3BR_FLAG_W,CH3I,CH3I_FLAG_W
,,,,,,,,,,,METERS,DBAR,ITS-90,PSS-78,,PSS-78,,UMOL/KG,,UMOL/KG,,UMOL/KG,,UMOL/KG,,UMOL/KG,,UMOL/KG,,PMOL/KG,,PMOL/KG,,PMOL/KG,,UMOL/KG,,UMOL/KG,,UATM,,DEG C,,,DEG C,TU,,NMOL/KG,,PERCNT,,/MILLE,,/MILLE,,/MILLE,NMOL/KG,,NMOL/KG,UG/KG,,UMOL/KG,,UMOL/KG,,DBAR,1/M,,1/M,,1/M,,1/M,,1/NM,,1/NM,,DEG C,UMOL/L,,PMOL/KG,,PMOL/KG,,PMOL/KG,,,NMOL/KG,PERCNT,TU,PMOL/KG,,PMOL/KG,,PMOL/KG,
33RO200306_02,       A16N,     100,          2,         33,         33,2,20030725,       1632,    15.9998,   -29.0000,       4468,     3.5,  26.3209,  36.4207,2,  36.4251,2,    188.9,2,   206.0,2,    0.66,2,    0.08,2,    0.00,2,    0.06,2,   2.018,2,   1.310,2,   0.179,2,  2048.2,6,  2388.1,6,    299.6,2,    20.00,   8.0705,6,    25.00,-999.000,9,-999.000,9,-999.000,9, -999.00,9,  -999.0,9,  -999.0,-999.000,9,-999.000,-999.000,9,   74.33,2,    7.23,2,    3.50,-999.0000,9,-999.0000,9,-999.0000,9,-999.0000,9,-999.0000,9,-999.0000,9,  26.3201,     -999.0,9,       4.03,2,       0.14,2,       0.30,2,        100,-999.000,-999.000,-999.000,      64.46,2,     0.0,2,    14.9,2
33RO200306_02,       A16N,     100,          2,         32,         32,2,20030725,       1632,    15.9998,   -29.0000,       4468,     9.3,  26.2806,  36.4191,2,  36.4223,2,    186.6,2,   206.3,2,    0.63,2,    0.10,2,    0.00,2,    0.06,2,   2.065,2,   1.345,2,   0.179,2,  2048.0,2,  2386.9,2,    303.2,2,    20.00,   8.0691,2,    25.00,-999.000,9,-999.000,9,-999.000,9, -999.00,9,  -999.0,9,  -999.0,-999.000,9,-999.000,-999.000,9, -999.00,9, -999.00,9,    9.30,-999.0000,9,-999.0000,9,-999.0000,9,-999.0000,9,-999.0000,9,-999.0000,9,  26.2785,     -999.0,9,     -999.0,9,     -999.0,9,     -999.0,9,        100,-999.000,-999.000,-999.000,     -999.0,9, -999.00,9, -999.00,9
33RO200306_02,       A16N,     100,          2,         31,         31,2,20030725,       1632,    15.9998,   -29.0000,       4468,    29.5,  26.0529,  36.4121,2,  36.4188,2,    187.9,2,   206.5,2,    0.70,2,    0.10,2,    0.00,2,    0.07,2,   2.026,2,   1.314,2,   0.179,2,  2049.1,2,  2386.3,3,    302.7,2,    20.00,-999.0000,9,  -999.00,-999.000,9,-999.000,9,-999.000,9, -999.00,9,  -999.0,9,  -999.0,-999.000,9,-999.000,-999.000,9,   74.07,2,    7.42,2,   29.50,-999.0000,9,-999.0000,9,-999.0000,9,-999.0000,9,-999.0000,9,-999.0000,9,  26.0463,     -999.0,9,       3.80,2,       0.19,2,       0.27,2,        100,-999.000,-999.000,-999.000,       74.1,2,     0.0,2,   14.78,2
33RO200306_02,       A16N,     100,          2,         30,         30,2,20030725,       1632,    15.9998,   -29.0000,       4468,    49.6,  21.3350,  36.1355,2,  36.1320,2,    200.3,2,   192.0,2,    2.47,2,    3.35,2,    0.05,2,    0.32,2,-999.000,9,-999.000,9,-999.000,9,  2102.9,2,  2371.1,3,    414.2,2,    20.00,-999.0000,9,  -999.00,-999.000,9,-999.000,9,-999.000,9, -999.00,9,  -999.0,9,  -999.0,-999.000,9,-999.000,-999.000,9,   64.07,2,    9.60,2,   49.60,-999.0000,9,-999.0000,9,-999.0000,9,-999.0000,9,-999.0000,9,-999.0000,9,  21.3254,     -999.0,9,     -999.0,9,     -999.0,9,     -999.0,9,        100,-999.000,-999.000,-999.000,     -999.0,9, -999.00,9, -999.00,9
33RO200306_02,       A16N,     100,          2,         29,         29,2,20030725,       1632,    15.9998,   -29.0000,       4468,    69.2,  16.4232,  35.9475,2,  35.9461,2,     98.0,2,    71.9,2,    5.53,2,   21.48,2,    0.07,2,    1.28,2,   2.086,2,   1.232,2,   0.058,2,  2211.5,3,  2350.9,2,    841.6,2,    20.00,   7.6881,2,    25.00,-999.000,9,-999.000,9,-999.000,9, -999.00,9,  -999.0,9,  -999.0,-999.000,9,-999.000,-999.000,9, -999.00,9, -999.00,9,   69.20,-999.0000,9,-999.0000,9,-999.0000,9,-999.0000,9,-999.0000,9,-999.0000,9,  16.4120,     -999.0,9,       2.25,2,       0.12,2,       0.32,2,        100,-999.000,-999.000,-999.000,      48.24,2,    1.14,2,    3.62,2
33RO200306_02,       A16N,     100,          2,         28,         28,2,20030725,       1632,    15.9998,   -29.0000,       4468,    88.5,  15.5317,  35.8924,2,  35.8898,2,     71.9,2,    73.4,2,    6.26,2,   22.36,2,    0.04,2,    1.33,2,   2.049,6,   1.201,6,   0.035,6,  2212.9,3,  2347.6,2,    862.2,2,    20.00,   7.6941,2,    25.00,-999.000,9,-999.000,9,-999.000,9, -999.00,9,  -999.0,9,  -999.0,-999.000,9,-999.000,-999.000,9,   52.27,2,   26.00,2,   88.50,-999.0000,9,-999.0000,9,-999.0000,9,-999.0000,9,-999.0000,9,-999.0000,9,  15.5179,     -999.0,9,     -999.0,9,     -999.0,9,     -999.0,9,        100,-999.000,-999.000,-999.000,     -999.0,9, -999.00,9, -999.00,9
33RO200306_02,       A16N,     100,          2,         27,         27,2,20030725,       1632,    15.9998,   -29.0000,       4468,   108.5,  14.8585,  35.7847,2,  35.7908,2,     66.4,2,    66.9,2,    7.03,2,   23.96,2,    0.02,2,    1.43,2,   1.948,2,   1.127,2,   0.022,2,  2216.6,3,  2344.3,2,    917.5,2,    20.00,   7.6582,2,    25.00,-999.000,9,-999.000,9,-999.000,9, -999.00,9,  -999.0,9,  -999.0,-999.000,9,-999.000,-999.000,9, -999.00,9, -999.00,9,  108.50,-999.0000,9,-999.0000,9,-999.0000,9,-999.0000,9,-999.0000,9,-999.0000,9,  14.8421,     -999.0,9,       1.91,2,       0.06,2,       0.49,2,        100,-999.000,-999.000,-999.000,      20.86,2,    2.12,2,    1.07,2
33RO200306_02,       A16N,     100,          2,         26,         26,2,20030725,       1632,    15.9998,   -29.0000,       4468,   133.6,  14.6673,  35.8407,2,  35.8389,2,     71.6,2,    84.5,2,    6.74,2,   21.87,2,    0.01,2,    1.31,2,   2.046,2,   1.177,2,   0.022,2,  2205.3,2,  2346.6,2,    836.2,2,    20.00,   7.6943,2,    25.00,-999.000,9,-999.000,9,-999.000,9, -999.00,9,  -999.0,9,  -999.0,-999.000,9,-999.000,-999.000,9,   51.46,2,   25.16,2,  133.60,-999.0000,9,-999.0000,9,-999.0000,9,-999.0000,9,-999.0000,9,-999.0000,9,  14.6473,     -999.0,9,     -999.0,9,     -999.0,9,     -999.0,9,        100,-999.000,-999.000,-999.000,     -999.0,9, -999.00,9, -999.00,9
33RO200306_02,       A16N,     100,          2,         25,         25,2,20030725,       1632,    15.9998,   -29.0000,       4468,   160.5,  14.1033,  35.7418,2,  35.7439,2,     77.1,2,    79.4,2,    7.48,2,   23.25,2,    0.01,2,    1.39,2,   1.934,2,   1.106,2,   0.019,2,  2209.5,2,  2340.9,2,    882.2,2,    20.00,   7.6698,2,    25.00,-999.000,9,-999.000,9,-999.000,9, -999.00,9,  -999.0,9,  -999.0,-999.000,9,-999.000,-999.000,9, -999.00,9, -999.00,9,  160.50,-999.0000,9,-999.0000,9,-999.0000,9,-999.0000,9,-999.0000,9,-999.0000,9,  14.0799,     -999.0,9,       1.85,2,       0.06,2,       0.18,2,        100,-999.000,-999.000,-999.000,      29.49,2,     2.5,2,    0.35,2
33RO200306_02,       A16N,     100,          2,         24,         24,2,20030725,       1632,    15.9998,   -29.0000,       4468,   184.0,  13.8670,  35.7384,2,  35.7341,2,     77.7,2,    81.1,2,    7.60,2,   23.35,2,    0.01,2,    1.40,2,   1.859,2,   1.059,2,   0.012,2,  2209.3,2,  2340.3,2,    880.3,2,    20.00,   7.6760,2,    25.00,-999.000,9,-999.000,9,-999.000,9, -999.00,9,  -999.0,9,  -999.0,-999.000,9,-999.000,-999.000,9,   49.92,2,   26.74,2,  184.00,-999.0000,9,-999.0000,9,-999.0000,9,-999.0000,9,-999.0000,9,-999.0000,9,  13.8404,     -999.0,9,     -999.0,9,     -999.0,9,     -999.0,9,        100,-999.000,-999.000,-999.000,     -999.0,9, -999.00,9, -999.00,9
33RO200306_02,       A16N,     100,          2,         23,         23,2,20030725,       1632,    15.9998,   -29.0000,       4468,   225.1,  12.7570,  35.5599,2,  35.5577,2,     74.0,2,    77.3,2,    9.04,2,   25.46,2,    0.01,2,    1.51,2,   1.499,2,   0.824,2,   0.010,2,  2212.9,2,  2332.6,2,    953.1,2,    20.00,   7.6481,2,    25.00,-999.000,9,-999.000,9,-999.000,9, -999.00,9,  -999.0,9,  -999.0,-999.000,9,-999.000,-999.000,9,   48.78,2,   29.70,2,  225.10,-999.0000,9,-999.0000,9,-999.0000,9,-999.0000,9,-999.0000,9,-999.0000,9,  12.7262,     -999.0,9,       1.21,2,       0.00,2,       0.17,2,        100,-999.000,-999.000,-999.000,      93.24,2,    2.83,2,    0.58,2
33RO200306_02,       A16N,     100,          2,         22,         22,2,20030725,       1632,    15.9998,   -29.0000,       4468,   273.2,  11.7882,  35.3998,2,  35.3990,2,     74.6,2,    74.5,2,   10.55,2,   27.44,2,    0.01,2,    1.65,2,   1.229,2,   0.670,2,   0.006,2,  2218.6,2,  2324.9,2,   1030.0,2,    20.00,   7.6158,2,    25.00,-999.000,9,-999.000,9,-999.000,9, -999.00,9,  -999.0,9,  -999.0,-999.000,9,-999.000,-999.000,9,   47.80,2,   30.60,2,  273.20,-999.0000,9,-999.0000,9,-999.0000,9,-999.0000,9,-999.0000,9,-999.0000,9,  11.7527,     -999.0,9,     -999.0,9,     -999.0,9,     -999.0,9,        100,-999.000,-999.000,-999.000,     -999.0,9, -999.00,9, -999.00,9
33RO200306_02,       A16N,     100,          2,         21,         21,2,20030725,       1632,    15.9998,   -29.0000,       4468,   324.1,  11.3164,  35.3521,2,  35.3525,2,     69.2,2,    68.9,2,   11.78,2,   28.81,2,    0.01,2,    1.73,2,   0.978,2,   0.529,2,   0.006,2,  2222.0,2,  2323.7,2,   1082.1,2,    20.00,   7.5887,2,    25.00,-999.000,9,-999.000,9,-999.000,9, -999.00,9,  -999.0,9,  -999.0,-999.000,9,-999.000,-999.000,9,   46.91,2,   32.36,2,  324.10,-999.0000,9,-999.0000,9,-999.0000,9,-999.0000,9,-999.0000,9,-999.0000,9,  11.2753,     -999.0,9,     -999.0,9,     -999.0,9,     -999.0,9,        100,-999.000,-999.000,-999.000,     -999.0,9, -999.00,9, -999.00,9
33RO200306_02,       A16N,     100,          2,         20,         20,2,20030725,       1632,    15.9998,   -29.0000,       4468,   372.2,  10.8893,  35.2916,2,  35.2861,2,     68.7,2,    68.8,2,   12.62,2,   29.80,2,    0.01,2,    1.80,2,   0.850,2,   0.454,2,   0.006,2,  2224.4,2,  2321.1,2,   1122.2,2,    20.00,   7.5803,2,    25.00,-999.000,9,-999.000,9,-999.000,9, -999.00,9,  -999.0,9,  -999.0,-999.000,9,-999.000,-999.000,9,   45.85,2,   32.99,2,  372.20,-999.0000,9,-999.0000,9,-999.0000,9,-999.0000,9,-999.0000,9,-999.0000,9,  10.8432,     -999.0,9,     -999.0,9,     -999.0,9,     -999.0,9,        100,-999.000,-999.000,-999.000,     -999.0,9, -999.00,9, -999.00,9
33RO200306_02,       A16N,     100,          2,         19,         19,2,20030725,       1632,    15.9998,   -29.0000,       4468,   423.8,  10.3492,  35.2223,2,  35.2226,2,     70.9,2,    70.3,2,   13.64,2,   30.61,2,    0.01,2,    1.86,2,   0.682,2,   0.364,2,   0.004,2,  2225.4,2,  2310.6,2,   1142.6,2,    20.00,   7.5703,2,    25.00,-999.000,9,-999.000,9,-999.000,9, -999.00,9,  -999.0,9,  -999.0,-999.000,9,-999.000,-999.000,9,   45.69,2,   34.88,2,  423.80,-999.0000,9,-999.0000,9,-999.0000,9,-999.0000,9,-999.0000,9,-999.0000,9,  10.2982,     -999.0,9,       0.74,2,       0.00,2,       0.11,2,        100,-999.000,-999.000,-999.000,        8.2,2,     0.0,2,     0.5,2
33RO200306_02,       A16N,     100,          2,         18,         18,2,20030725,       1632,    15.9998,   -29.0000,       4468,   474.7,   9.8472,  35.1661,2,  35.1629,2,     71.1,2,    70.1,2,   14.99,2,   31.76,2,    0.01,2,    1.94,2,   0.524,2,   0.280,2,   0.004,2,  2228.9,2,  2312.4,2,   1184.1,2,    20.00,   7.5504,2,    25.00,-999.000,9,-999.000,9,-999.000,9, -999.00,9,  -999.0,9,  -999.0,-999.000,9,-999.000,-999.000,9,   45.20,2,   35.22,2,  474.70,-999.0000,9,-999.0000,9,-999.0000,9,-999.0000,9,-999.0000,9,-999.0000,9,   9.7917,     -999.0,9,     -999.0,9,     -999.0,9,     -999.0,9,        100,-999.000,-999.000,-999.000,     -999.0,9, -999.00,9, -999.00,9
33RO200306_02,       A16N,     100,          2,         17,         17,2,20030725,       1632,    15.9998,   -29.0000,       4468,   548.5,   8.8229,  35.0431,2,  35.0425,2,     74.6,2,    72.9,2,   17.43,2,   33.27,2,    0.01,2,    2.06,2,   0.277,2,   0.152,2,   0.004,2,  2231.0,2,  2305.8,6,   1248.2,2,    20.00,   7.5380,6,    25.00,-999.000,9,-999.000,9,-999.000,9, -999.00,9,  -999.0,9,  -999.0,-999.000,9,-999.000,-999.000,9,   45.04,2,   37.31,2,  548.50,-999.0000,9,-999.0000,9,-999.0000,9,-999.0000,9,-999.0000,9,-999.0000,9,   8.7628,     -999.0,9,       0.06,2,       0.07,2,       0.08,2,        100,-999.000,-999.000,-999.000,        0.0,2,    0.11,2,    0.11,2
33RO200306_02,       A16N,     100,          2,         16,         16,2,20030725,       1632,    15.9998,   -29.0000,       4468,   649.2,   8.0504,  34.9625,2,  34.9600,2,     85.1,2,    83.0,2,   19.47,2,   33.70,2,    0.00,2,    2.12,2,   0.165,2,   0.092,2,   0.002,2,  2231.1,2,  2307.7,2,   1249.4,2,    20.00,   7.5516,2,    25.00,-999.000,9,-999.000,9,-999.000,9, -999.00,9,  -999.0,9,  -999.0,-999.000,9,-999.000,-999.000,9,   43.25,2,   37.24,2,  649.20,-999.0000,9,-999.0000,9,-999.0000,9,-999.0000,9,-999.0000,9,-999.0000,9,   7.9826,     -999.0,9,     -999.0,9,     -999.0,9,     -999.0,9,        100,-999.000,-999.000,-999.000,     -999.0,9, -999.00,9, -999.00,9
33RO200306_02,       A16N,     100,          2,         15,         15,2,20030725,       1632,    15.9998,   -29.0000,       4468,   749.7,   7.1432,  34.8853,2,  34.8855,2,     98.8,2,    97.9,2,   21.87,2,   33.59,2,    0.00,2,    2.15,2,   0.077,2,   0.045,2,   0.002,2,  2228.1,2,  2312.4,2,   1221.5,2,    20.00,   7.5419,2,    25.00,-999.000,9,-999.000,9,-999.000,9, -999.00,9,  -999.0,9,  -999.0,-999.000,9,-999.000,-999.000,9,   42.68,2,   39.31,2,  749.70,-999.0000,9,-999.0000,9,-999.0000,9,-999.0000,9,-999.0000,9,-999.0000,9,   7.0695,     -999.0,9,     -999.0,9,     -999.0,9,     -999.0,9,        100,-999.000,-999.000,-999.000,     -999.0,9, -999.00,9, -999.00,9
33RO200306_02,       A16N,     100,          2,         14,         14,2,20030725,       1632,    15.9998,   -29.0000,       4468,   849.5,   6.4652,  34.8561,2,  34.8589,2,    111.9,2,   111.3,2,   23.45,2,   33.03,2,    0.00,2,    2.14,2,   0.044,2,   0.023,2,   0.001,2,  2225.1,2,  2312.5,2,   1184.0,6,    20.00,   7.5513,2,    25.00,-999.000,9,-999.000,9,-999.000,9, -999.00,9,  -999.0,9,  -999.0,-999.000,9,-999.000,-999.000,9,   42.85,2,   36.74,2,  849.50,-999.0000,9,-999.0000,9,-999.0000,9,-999.0000,9,-999.0000,9,-999.0000,9,   6.3855,     -999.0,9,     -999.0,9,     -999.0,9,     -999.0,9,        100,-999.000,-999.000,-999.000,     -999.0,9, -999.00,9, -999.00,9
33RO200306_02,       A16N,     100,          2,         13,         13,2,20030725,       1632,    15.9998,   -29.0000,       4468,   950.2,   6.0808,  34.8699,2,  34.8712,2,    123.7,2,   123.2,2,   23.95,2,   32.02,2,    0.00,2,    2.10,2,   0.021,2,   0.011,2,   0.001,2,  2222.6,2,  2314.9,2,   1140.3,2,    20.00,   7.5706,2,    25.00,-999.000,9,-999.000,9,-999.000,9, -999.00,9,  -999.0,9,  -999.0,-999.000,9,-999.000,-999.000,9,   41.79,2,   35.83,2,  950.20,-999.0000,9,-999.0000,9,-999.0000,9,-999.0000,9,-999.0000,9,-999.0000,9,   5.9937,     -999.0,9,       0.00,2,       0.00,2,       0.11,2,        100,-999.000,-999.000,-999.000,       0.22,2,    0.02,2,    0.05,2
33RO200306_02,       A16N,     100,          2,         12,         12,2,20030725,       1632,    15.9998,   -29.0000,       4468,  1049.7,   5.8217,  34.8965,2,  34.8974,2,    134.1,2,   132.3,2,   23.99,2,   31.01,2,    0.00,2,    2.05,2,   0.012,2,   0.007,2,   0.002,2,  2220.2,6,  -999.0,9,   1106.6,2,    20.00,-999.0000,9,  -999.00,-999.000,9,-999.000,9,-999.000,9, -999.00,9,  -999.0,9,  -999.0,-999.000,9,-999.000,-999.000,9,   41.22,2,   37.29,2, 1049.70,-999.0000,9,-999.0000,9,-999.0000,9,-999.0000,9,-999.0000,9,-999.0000,9,   5.7267,     -999.0,9,     -999.0,9,     -999.0,9,     -999.0,9,        100,-999.000,-999.000,-999.000,     -999.0,9, -999.00,9, -999.00,9
33RO200306_02,       A16N,     100,          2,         11,         11,2,20030725,       1632,    15.9998,   -29.0000,       4468,  1149.4,   5.5289,  34.9427,2,  34.9428,2,    149.8,2,   151.3,2,   23.11,2,   28.82,2,    0.00,2,    1.90,2,   0.012,2,   0.008,2,   0.002,2,  2211.0,2,  -999.0,9,   1019.7,2,    20.00,-999.0000,9,  -999.00,-999.000,9,-999.000,9,-999.000,9, -999.00,9,  -999.0,9,  -999.0,-999.000,9,-999.000,-999.000,9,   41.63,2,   32.49,2, 1149.40,-999.0000,9,-999.0000,9,-999.0000,9,-999.0000,9,-999.0000,9,-999.0000,9,   5.4265,     -999.0,9,       0.09,2,       0.00,2,       0.16,2,        100,-999.000,-999.000,-999.000,       3.59,2,    0.14,2,     0.1,2
33RO200306_02,       A16N,     100,          2,         10,         10,2,20030725,       1632,    15.9998,   -29.0000,       4468,  1299.1,   5.2154,  35.0009,2,  35.0029,2,    173.7,2,   174.0,2,   21.88,2,   26.07,2,    0.00,2,    1.74,2,   0.020,2,   0.016,2,   0.003,2,  2200.5,2,  2323.0,2,    926.0,2,    20.00,   7.6526,2,    25.00,-999.000,9,-999.000,9,-999.000,9, -999.00,9,  -999.0,9,  -999.0,-999.000,9,-999.000,-999.000,9,   41.63,2,   29.84,2, 1299.10,-999.0000,9,-999.0000,9,-999.0000,9,-999.0000,9,-999.0000,9,-999.0000,9,   5.1013,     -999.0,9,     -999.0,9,     -999.0,9,     -999.0,9,        100,-999.000,-999.000,-999.000,     -999.0,9, -999.00,9, -999.00,9
33RO200306_02,       A16N,     100,          2,          9,          9,2,20030725,       1632,    15.9998,   -29.0000,       4468,  1500.5,   4.5291,  35.0028,2,  35.0044,2,    198.4,2,   200.1,2,   21.75,2,   23.80,2,    0.00,2,    1.59,2,   0.005,2,   0.004,2,   0.002,2,  2189.8,2,  2323.2,2,   -999.0,9,  -999.00,   7.6876,2,    25.00,-999.000,9,-999.000,9,-999.000,9, -999.00,9,  -999.0,9,  -999.0,-999.000,9,-999.000,-999.000,9,   41.71,2,   27.50,2, 1500.50,-999.0000,9,-999.0000,9,-999.0000,9,-999.0000,9,-999.0000,9,-999.0000,9,   4.4028,     -999.0,9,       0.00,2,       0.00,2,       0.09,2,        100,-999.000,-999.000,-999.000,      13.56,2,     0.4,2,     0.1,2
33RO200306_02,       A16N,     100,          2,          8,          8,2,20030725,       1632,    15.9998,   -29.0000,       4468,  1699.3,   4.1245,  34.9987,2,  35.0024,2,    216.3,2,   218.0,2,   21.86,2,   22.28,2,    0.00,2,    1.50,2,   0.013,2,   0.004,2,   0.000,2,  2182.6,2,  2323.0,2,    808.4,2,    20.00,   7.7025,2,    25.00,-999.000,9,-999.000,9,-999.000,9, -999.00,9,  -999.0,9,  -999.0,-999.000,9,-999.000,-999.000,9,   41.05,2,   27.13,2, 1699.30,-999.0000,9,-999.0000,9,-999.0000,9,-999.0000,9,-999.0000,9,-999.0000,9,   3.9842,     -999.0,9,     -999.0,9,     -999.0,9,     -999.0,9,        100,-999.000,-999.000,-999.000,     -999.0,9, -999.00,9, -999.00,9
33RO200306_02,       A16N,     100,          2,          7,          7,2,20030725,       1632,    15.9998,   -29.0000,       4468,  1899.1,   3.7557,  34.9868,2,  34.9887,2,    228.3,2,   230.9,2,   22.76,2,   21.31,2,    0.00,2,    1.43,2,   0.006,2,   0.003,2,   0.002,2,  2175.7,2,  2322.7,2,   -999.0,9,  -999.00,   7.7187,2,    25.00,-999.000,9,-999.000,9,-999.000,9, -999.00,9,  -999.0,9,  -999.0,-999.000,9,-999.000,-999.000,9,   41.14,2,   26.49,2, 1899.10,-999.0000,9,-999.0000,9,-999.0000,9,-999.0000,9,-999.0000,9,-999.0000,9,   3.6014,     -999.0,9,       0.05,2,       0.00,2,       0.10,2,        100,-999.000,-999.000,-999.000,       2.36,2,    0.28,2,    0.03,2