BOTTLE,20230908CCHSIOCBG
EXPOCODE,SECT_ID,STNNBR,CASTNO,SAMPNO,BTLNBR,BTLNBR_FLAG_W,DATE,TIME,LATITUDE,LONGITUDE,DEPTH,CTDPRS,CTDTMP,CTDSAL,CTDSAL_FLAG_W,SALNTY,SALNTY_FLAG_W,CTDOXY,CTDOXY_FLAG_W,OXYGEN,OXYGEN_FLAG_W,SILCAT,SILCAT_FLAG_W,NITRAT,NITRAT_FLAG_W,NITRIT,NITRIT_FLAG_W,PHSPHT,PHSPHT_FLAG_W,CFC-11,CFC-11_FLAG_W,CFC-12,CFC-12_FLAG_W,CFC113,CFC113_FLAG_W,TCARBN,TCARBN_FLAG_W,ALKALI,ALKALI_FLAG_W,FCO2,FCO2_FLAG_W,FCO2TMP,PH_SWS,PH_SWS_FLAG_W,PH_TMP,TRITUM,TRITUM_FLAG_W,HELIUM,HELIUM_FLAG_W,DELHE3,DELHE3_FLAG_W,DELC13,DELC13_FLAG_W,DELC14,DELC14_FLAG_W,C14ERR,NEON,NEON_FLAG_W,NEONER,POC,POC_FLAG_W,DOC,DOC_FLAG_W,TDN,TDN_FLAG_W,CTDRAW,CDOM325,CDOM325_FLAG_W,CDOM340,CDOM340_FLAG_W,CDOM380,CDOM380_FLAG_W,CDOM412,CDOM412_FLAG_W,CDOMSL,CDOMSL_FLAG_W,CDOMSN,CDOMSN_FLAG_W,THETA,PON,PON_FLAG_W,HCFC-22,HCFC-22_FLAG_W,HCFC-142b,HCFC-142b_FLAG_W,HCFC-141b,HCFC-141b_FLAG_W,STNNBR_U,HELIER,DELHER,TRITER,CH3CL,CH3CL_FLAG_W,CH3BR,CH3BR_FLAG_W,CH3I,CH3I_FLAG_W
,,,,,,,,,,,METERS,DBAR,ITS-90,PSS-78,,PSS-78,,UMOL/KG,,UMOL/KG,,UMOL/KG,,UMOL/KG,,UMOL/KG,,UMOL/KG,,PMOL/KG,,PMOL/KG,,PMOL/KG,,UMOL/KG,,UMOL/KG,,UATM,,DEG C,,,DEG C,TU,,NMOL/KG,,PERCNT,,/MILLE,,/MILLE,,/MILLE,NMOL/KG,,NMOL/KG,UG/KG,,UMOL/KG,,UMOL/KG,,DBAR,1/M,,1/M,,1/M,,1/M,,1/NM,,1/NM,,DEG C,UMOL/L,,PMOL/KG,,PMOL/KG,,PMOL/KG,,,NMOL/KG,PERCNT,TU,PMOL/KG,,PMOL/KG,,PMOL/KG,
33RO200306_02,       A16N,     132,          1,          7,          7,2,20030804,       0920,     1.0097,   -24.9958,       3356,  1800.8,   3.9170,  34.9785,2,  34.9800,2,    242.1,2,   245.0,2,   18.30,2,   20.08,2,    0.00,2,    1.36,2,   0.177,2,   0.096,2,   0.005,2,  2165.6,2,  -999.0,9,    761.1,2,    20.00,-999.0000,9,  -999.00,-999.000,9,-999.000,9,-999.000,9, -999.00,9,  -999.0,9,  -999.0,-999.000,9,-999.000,-999.000,9,   40.65,2,   24.69,2, 1800.80,-999.0000,9,-999.0000,9,-999.0000,9,-999.0000,9,-999.0000,9,-999.0000,9,   3.7698,     -999.0,9,       0.00,2,       0.00,2,       0.00,2,        132,-999.000,-999.000,-999.000,      33.85,2,    0.75,2,    0.13,2
33RO200306_02,       A16N,     132,          1,          6,          6,2,20030804,       0920,     1.0097,   -24.9958,       3356,  2000.6,   3.5865,  34.9710,2,  34.9724,2,    248.0,2,   251.8,2,   19.94,2,   19.59,2,    0.00,2,    1.33,2,   0.169,2,   0.089,2,   0.005,2,  2165.3,2,  2319.6,2,   -999.0,9,  -999.00,   7.7173,2,    25.00,-999.000,9,-999.000,9,-999.000,9, -999.00,9,  -999.0,9,  -999.0,-999.000,9,-999.000,-999.000,9,   41.54,2,   23.66,2, 2000.60,-999.0000,9,-999.0000,9,-999.0000,9,-999.0000,9,-999.0000,9,-999.0000,9,   3.4250,     -999.0,9,     -999.0,9,     -999.0,9,     -999.0,9,        132,-999.000,-999.000,-999.000,     -999.0,9, -999.00,9, -999.00,9
33RO200306_02,       A16N,     132,          1,          5,          5,2,20030804,       0920,     1.0097,   -24.9958,       3356,  2300.0,   3.1175,  34.9455,2,  34.9471,2,    247.7,2,   250.1,2,   27.08,2,   20.35,2,    0.00,2,    1.40,2,   0.052,2,   0.027,2,   0.003,2,  2172.3,2,  2326.0,2,    755.3,2,    20.00,   7.7360,2,    25.00,-999.000,9,-999.000,9,-999.000,9, -999.00,9,  -999.0,9,  -999.0,-999.000,9,-999.000,-999.000,9,   41.79,2,   24.40,2, 2300.00,-999.0000,9,-999.0000,9,-999.0000,9,-999.0000,9,-999.0000,9,-999.0000,9,   2.9349,     -999.0,9,       0.00,2,       0.00,2,       0.00,2,        132,-999.000,-999.000,-999.000,      38.61,2,    0.46,2,    0.15,2
33RO200306_02,       A16N,     132,          1,          4,          4,2,20030804,       0920,     1.0097,   -24.9958,       3356,  2600.4,   2.8717,  34.9270,2,  34.9283,2,    245.1,2,   246.7,2,   33.63,6,   21.17,6,    0.00,6,    1.46,6,   0.023,2,   0.014,2,   0.001,2,  2178.7,2,  2331.8,2,   -999.0,9,  -999.00,   7.7242,2,    25.00,-999.000,9,-999.000,9,-999.000,9, -999.00,9,  -999.0,9,  -999.0,-999.000,9,-999.000,-999.000,9,   40.81,2,   25.72,2, 2600.40,-999.0000,9,-999.0000,9,-999.0000,9,-999.0000,9,-999.0000,9,-999.0000,9,   2.6643,     -999.0,9,     -999.0,9,     -999.0,9,     -999.0,9,        132,-999.000,-999.000,-999.000,     -999.0,9, -999.00,9, -999.00,9
33RO200306_02,       A16N,     132,          1,          3,          3,2,20030804,       0920,     1.0097,   -24.9958,       3356,  2900.3,   2.7339,  34.9187,2,  34.9197,2,    247.3,2,   247.5,2,   35.79,6,   21.17,6,    0.00,6,    1.46,6,   0.026,2,   0.017,2,   0.003,2,  2182.4,2,  2331.9,2,    768.2,6,    20.00,   7.7256,2,    25.00,-999.000,9,-999.000,9,-999.000,9, -999.00,9,  -999.0,9,  -999.0,-999.000,9,-999.000,-999.000,9,   40.57,2,   24.88,2, 2900.30,-999.0000,9,-999.0000,9,-999.0000,9,-999.0000,9,-999.0000,9,-999.0000,9,   2.4992,     -999.0,9,       0.00,2,       0.00,2,       0.00,2,        132,-999.000,-999.000,-999.000,      34.05,2,    2.23,2,    0.18,2
33RO200306_02,       A16N,     132,          1,          2,          2,2,20030804,       0920,     1.0097,   -24.9958,       3356,  3200.4,   2.5697,  34.9079,2,  34.9091,2,    248.8,2,   247.9,2,   38.51,6,   21.34,6,    0.00,6,    1.48,6,   0.023,2,   0.018,2,   0.001,2,  2188.6,2,  2336.0,2,    770.6,2,    20.00,   7.7215,2,    25.00,-999.000,9,-999.000,9,-999.000,9, -999.00,9,  -999.0,9,  -999.0,-999.000,9,-999.000,-999.000,9,   40.57,2,   26.54,2, 3200.40,-999.0000,9,-999.0000,9,-999.0000,9,-999.0000,9,-999.0000,9,-999.0000,9,   2.3076,     -999.0,9,     -999.0,9,     -999.0,9,     -999.0,9,        132,-999.000,-999.000,-999.000,     -999.0,9, -999.00,9, -999.00,9
33RO200306_02,       A16N,     132,          1,          1,          1,2,20030804,       0920,     1.0097,   -24.9958,       3356,  3358.1,   2.5322,  34.9047,2,  34.9081,2,    250.3,2,   248.0,2,   39.27,6,   21.47,6,    0.00,6,    1.48,6,   0.033,2,   0.018,2,   0.002,2,  2186.2,6,  2336.8,6,    766.1,2,    20.00,   7.7229,6,    25.00,-999.000,9,-999.000,9,-999.000,9, -999.00,9,  -999.0,9,  -999.0,-999.000,9,-999.000,-999.000,9,   40.49,2,   25.43,2, 3358.10,-999.0000,9,-999.0000,9,-999.0000,9,-999.0000,9,-999.0000,9,-999.0000,9,   2.2543,     -999.0,9,       0.07,2,       0.00,2,       0.04,2,        132,-999.000,-999.000,-999.000,      21.94,2,    0.82,2,    0.18,2