BOTTLE,20230908CCHSIOCBG
EXPOCODE,SECT_ID,STNNBR,CASTNO,SAMPNO,BTLNBR,BTLNBR_FLAG_W,DATE,TIME,LATITUDE,LONGITUDE,DEPTH,CTDPRS,CTDTMP,CTDSAL,CTDSAL_FLAG_W,SALNTY,SALNTY_FLAG_W,CTDOXY,CTDOXY_FLAG_W,OXYGEN,OXYGEN_FLAG_W,SILCAT,SILCAT_FLAG_W,NITRAT,NITRAT_FLAG_W,NITRIT,NITRIT_FLAG_W,PHSPHT,PHSPHT_FLAG_W,CFC-11,CFC-11_FLAG_W,CFC-12,CFC-12_FLAG_W,CFC113,CFC113_FLAG_W,TCARBN,TCARBN_FLAG_W,ALKALI,ALKALI_FLAG_W,FCO2,FCO2_FLAG_W,FCO2TMP,PH_SWS,PH_SWS_FLAG_W,PH_TMP,TRITUM,TRITUM_FLAG_W,HELIUM,HELIUM_FLAG_W,DELHE3,DELHE3_FLAG_W,DELC13,DELC13_FLAG_W,DELC14,DELC14_FLAG_W,C14ERR,NEON,NEON_FLAG_W,NEONER,POC,POC_FLAG_W,DOC,DOC_FLAG_W,TDN,TDN_FLAG_W,CTDRAW,CDOM325,CDOM325_FLAG_W,CDOM340,CDOM340_FLAG_W,CDOM380,CDOM380_FLAG_W,CDOM412,CDOM412_FLAG_W,CDOMSL,CDOMSL_FLAG_W,CDOMSN,CDOMSN_FLAG_W,THETA,PON,PON_FLAG_W,HCFC-22,HCFC-22_FLAG_W,HCFC-142b,HCFC-142b_FLAG_W,HCFC-141b,HCFC-141b_FLAG_W,STNNBR_U,HELIER,DELHER,TRITER,CH3CL,CH3CL_FLAG_W,CH3BR,CH3BR_FLAG_W,CH3I,CH3I_FLAG_W
,,,,,,,,,,,METERS,DBAR,ITS-90,PSS-78,,PSS-78,,UMOL/KG,,UMOL/KG,,UMOL/KG,,UMOL/KG,,UMOL/KG,,UMOL/KG,,PMOL/KG,,PMOL/KG,,PMOL/KG,,UMOL/KG,,UMOL/KG,,UATM,,DEG C,,,DEG C,TU,,NMOL/KG,,PERCNT,,/MILLE,,/MILLE,,/MILLE,NMOL/KG,,NMOL/KG,UG/KG,,UMOL/KG,,UMOL/KG,,DBAR,1/M,,1/M,,1/M,,1/M,,1/NM,,1/NM,,DEG C,UMOL/L,,PMOL/KG,,PMOL/KG,,PMOL/KG,,,NMOL/KG,PERCNT,TU,PMOL/KG,,PMOL/KG,,PMOL/KG,
33RO200306_01,       A16N,     049,          1,          6,          6,2,20030702,       0259,    41.0002,   -20.0002,       4708,  2501.7,   3.1993,  34.9627,2,  34.9612,2,    259.1,2,   257.2,2,   21.03,6,   18.61,2,    0.00,6,    1.22,6,   0.614,2,   0.312,2,   0.025,2,  2167.7,2,  2318.2,2,   -999.0,9,  -999.00,   7.7383,2,    25.00,   0.466,2,   1.872,2,   5.299,2, -999.00,9,  -999.0,9,  -999.0,   8.030,2,   0.025,-999.000,9,   41.68,2,   22.72,2, 2501.70,-999.0000,9,-999.0000,9,-999.0000,9,-999.0000,9,-999.0000,9,-999.0000,9,   2.9955,     -999.0,9,     -999.0,9,     -999.0,9,     -999.0,9,         49,   0.008,   0.201,   0.010,     -999.0,9, -999.00,9, -999.00,9
33RO200306_01,       A16N,     049,          1,          5,          5,2,20030702,       0259,    41.0002,   -20.0002,       4708,  3000.0,   2.8375,  34.9453,2,  34.9456,2,    251.6,2,   250.7,2,   29.88,6,   19.90,2,    0.00,6,    1.31,6,   0.297,2,   0.156,2,   0.012,2,  2188.8,3,  2330.9,2,    754.1,2,    20.00,   7.7333,2,    25.00,-999.000,9,   1.854,2,   3.532,2, -999.00,9,  -999.0,9,  -999.0,   7.970,2,   0.024,-999.000,9,   41.01,2,   23.61,2, 3000.00,-999.0000,9,-999.0000,9,-999.0000,9,-999.0000,9,-999.0000,9,-999.0000,9,   2.5902,     -999.0,9,     -999.0,9,     -999.0,9,     -999.0,9,         49,   0.008,   0.201,-999.000,     -999.0,9, -999.00,9, -999.00,9
33RO200306_01,       A16N,     049,          1,          4,          4,2,20030702,       0259,    41.0002,   -20.0002,       4708,  3500.0,   2.6393,  34.9265,2,  34.9258,2,    244.3,2,   243.6,2,   37.60,6,   21.16,2,    0.00,6,    1.41,6,   0.178,6,   0.096,6,   0.012,6,  2189.1,2,  2341.1,2,   -999.0,9,  -999.00,   7.7317,2,    25.00,   0.148,2,   1.850,2,   3.184,2, -999.00,9,  -999.0,9,  -999.0,   8.010,2,   0.025,-999.000,9,   41.54,2,   25.27,2, 3500.00,-999.0000,9,-999.0000,9,-999.0000,9,-999.0000,9,-999.0000,9,-999.0000,9,   2.3433,     -999.0,9,     -999.0,9,     -999.0,9,     -999.0,9,         49,   0.008,   0.201,   0.010,     -999.0,9, -999.00,9, -999.00,9
33RO200306_01,       A16N,     049,          1,          3,          3,2,20030702,       0259,    41.0002,   -20.0002,       4708,  4000.0,   2.5633,  34.9143,2,  34.9132,2,    241.2,2,   240.1,2,   41.87,6,   21.87,2,    0.00,6,    1.46,6,   0.065,2,   0.040,2,   0.008,2,  2195.2,2,  2347.3,2,    766.0,2,    20.00,   7.7298,2,    25.00,   0.160,2,   1.844,2,   2.418,2, -999.00,9,  -999.0,9,  -999.0,   7.980,2,   0.027,-999.000,9,   41.39,2,   25.63,2, 4000.00,-999.0000,9,-999.0000,9,-999.0000,9,-999.0000,9,-999.0000,9,-999.0000,9,   2.2132,     -999.0,9,     -999.0,9,     -999.0,9,     -999.0,9,         49,   0.003,   0.128,   0.010,     -999.0,9, -999.00,9, -999.00,9
33RO200306_01,       A16N,     049,          1,          2,          2,2,20030702,       0259,    41.0002,   -20.0002,       4708,  4473.2,   2.4976,  34.9023,2,  34.9006,2,    241.1,2,   241.3,2,   44.56,6,   22.21,2,    0.01,6,    1.49,6,   0.018,2,   0.014,2,   0.006,2,  2199.0,2,  2351.1,2,   -999.0,9,  -999.00,   7.7337,2,    25.00,-999.000,9,-999.000,9,-999.000,9, -999.00,9,  -999.0,9,  -999.0,-999.000,9,-999.000,-999.000,9,   40.41,2,   26.36,2, 4473.20,-999.0000,9,-999.0000,9,-999.0000,9,-999.0000,9,-999.0000,9,-999.0000,9,   2.0936,     -999.0,9,     -999.0,9,     -999.0,9,     -999.0,9,         49,-999.000,-999.000,-999.000,     -999.0,9, -999.00,9, -999.00,9
33RO200306_01,       A16N,     049,          1,          1,          1,2,20030702,       0259,    41.0002,   -20.0002,       4708,  4775.0,   2.5145,  34.8996,2,  34.8990,2,    241.2,2,   241.2,2,   45.17,6,   22.30,2,    0.01,6,    1.50,6,   0.012,2,   0.008,2,   0.003,2,  2197.9,6,  2353.4,2,    756.9,2,    20.00,   7.7317,2,    25.00,   0.078,2,-999.000,9,-999.000,9, -999.00,9,  -999.0,9,  -999.0,-999.000,9,-999.000,-999.000,9,   40.08,2,   27.00,2, 4775.00,-999.0000,9,-999.0000,9,-999.0000,9,-999.0000,9,-999.0000,9,-999.0000,9,   2.0729,     -999.0,9,     -999.0,9,     -999.0,9,     -999.0,9,         49,-999.000,-999.000,   0.000,     -999.0,9, -999.00,9, -999.00,9