BOTTLE,20230908CCHSIOCBG
EXPOCODE,SECT_ID,STNNBR,CASTNO,SAMPNO,BTLNBR,BTLNBR_FLAG_W,DATE,TIME,LATITUDE,LONGITUDE,DEPTH,CTDPRS,CTDTMP,CTDSAL,CTDSAL_FLAG_W,SALNTY,SALNTY_FLAG_W,CTDOXY,CTDOXY_FLAG_W,OXYGEN,OXYGEN_FLAG_W,SILCAT,SILCAT_FLAG_W,NITRAT,NITRAT_FLAG_W,NITRIT,NITRIT_FLAG_W,PHSPHT,PHSPHT_FLAG_W,CFC-11,CFC-11_FLAG_W,CFC-12,CFC-12_FLAG_W,CFC113,CFC113_FLAG_W,TCARBN,TCARBN_FLAG_W,ALKALI,ALKALI_FLAG_W,FCO2,FCO2_FLAG_W,FCO2TMP,PH_SWS,PH_SWS_FLAG_W,PH_TMP,TRITUM,TRITUM_FLAG_W,HELIUM,HELIUM_FLAG_W,DELHE3,DELHE3_FLAG_W,DELC13,DELC13_FLAG_W,DELC14,DELC14_FLAG_W,C14ERR,NEON,NEON_FLAG_W,NEONER,POC,POC_FLAG_W,DOC,DOC_FLAG_W,TDN,TDN_FLAG_W,CTDRAW,CDOM325,CDOM325_FLAG_W,CDOM340,CDOM340_FLAG_W,CDOM380,CDOM380_FLAG_W,CDOM412,CDOM412_FLAG_W,CDOMSL,CDOMSL_FLAG_W,CDOMSN,CDOMSN_FLAG_W,THETA,PON,PON_FLAG_W,HCFC-22,HCFC-22_FLAG_W,HCFC-142b,HCFC-142b_FLAG_W,HCFC-141b,HCFC-141b_FLAG_W,STNNBR_U,HELIER,DELHER,TRITER,CH3CL,CH3CL_FLAG_W,CH3BR,CH3BR_FLAG_W,CH3I,CH3I_FLAG_W
,,,,,,,,,,,METERS,DBAR,ITS-90,PSS-78,,PSS-78,,UMOL/KG,,UMOL/KG,,UMOL/KG,,UMOL/KG,,UMOL/KG,,UMOL/KG,,PMOL/KG,,PMOL/KG,,PMOL/KG,,UMOL/KG,,UMOL/KG,,UATM,,DEG C,,,DEG C,TU,,NMOL/KG,,PERCNT,,/MILLE,,/MILLE,,/MILLE,NMOL/KG,,NMOL/KG,UG/KG,,UMOL/KG,,UMOL/KG,,DBAR,1/M,,1/M,,1/M,,1/M,,1/NM,,1/NM,,DEG C,UMOL/L,,PMOL/KG,,PMOL/KG,,PMOL/KG,,,NMOL/KG,PERCNT,TU,PMOL/KG,,PMOL/KG,,PMOL/KG,
33RO200306_01,       A16N,     029,          1,         35,         35,2,20030626,       0125,    51.0005,   -20.0003,       3658,    20.3,  13.3097,  35.5395,2,  35.5429,2,    258.5,2,   260.6,2,    0.23,2,    3.48,2,    0.09,2,    0.25,2,   3.231,2,   1.877,2,   0.292,2,  2086.3,6,  -999.0,9,    431.4,2,    20.00,-999.0000,9,  -999.00,-999.000,9,-999.000,9,-999.000,9, -999.00,9,  -999.0,9,  -999.0,-999.000,9,-999.000,-999.000,9,   57.80,2,   10.19,2,   20.30,-999.0000,9,-999.0000,9,-999.0000,9,-999.0000,9,-999.0000,9,-999.0000,9,  13.3069,     -999.0,9,     -999.0,9,     -999.0,9,     -999.0,9,         29,-999.000,-999.000,-999.000,     -999.0,9, -999.00,9, -999.00,9
33RO200306_01,       A16N,     029,          1,         33,         33,2,20030626,       0125,    51.0005,   -20.0003,       3658,    40.1,  12.7874,  35.5543,2,  35.5584,2,    259.6,2,   260.6,2,    0.31,2,    4.45,2,    0.12,2,    0.31,2,   3.283,2,   1.906,2,   0.291,2,  2096.8,2,  2340.7,2,    448.5,2,    20.00,   7.9411,2,    25.00,-999.000,9,-999.000,9,-999.000,9, -999.00,9,  -999.0,9,  -999.0,-999.000,9,-999.000,-999.000,9,   57.40,2,   11.42,2,   40.10,-999.0000,9,-999.0000,9,-999.0000,9,-999.0000,9,-999.0000,9,-999.0000,9,  12.7819,     -999.0,9,     -999.0,9,     -999.0,9,     -999.0,9,         29,-999.000,-999.000,-999.000,     -999.0,9, -999.00,9, -999.00,9
33RO200306_01,       A16N,     029,          1,         32,         32,2,20030626,       0125,    51.0005,   -20.0003,       3658,    60.0,  12.0286,  35.5580,2,  35.5598,2,    258.0,2,   256.2,2,    0.92,2,    6.25,2,    0.24,2,    0.48,2,-999.000,9,-999.000,9,-999.000,9,  2113.2,2,  2340.8,2,    500.9,3,    20.00,   7.9302,2,    25.00,-999.000,9,-999.000,9,-999.000,9, -999.00,9,  -999.0,9,  -999.0,-999.000,9,-999.000,-999.000,9, -999.00,9, -999.00,9,   60.00,-999.0000,9,-999.0000,9,-999.0000,9,-999.0000,9,-999.0000,9,-999.0000,9,  12.0208,     -999.0,9,     -999.0,9,     -999.0,9,     -999.0,9,         29,-999.000,-999.000,-999.000,     -999.0,9, -999.00,9, -999.00,9
33RO200306_01,       A16N,     029,          1,         31,         31,2,20030626,       0125,    51.0005,   -20.0003,       3658,    80.0,  11.6518,  35.5602,2,  35.5615,2,    252.5,2,   249.2,2,    2.00,2,    8.67,2,    0.33,2,    0.58,2,   3.359,2,   1.960,2,   0.281,2,  2121.6,2,  2341.1,2,    530.2,2,    20.00,   7.8901,2,    25.00,-999.000,9,-999.000,9,-999.000,9, -999.00,9,  -999.0,9,  -999.0,-999.000,9,-999.000,-999.000,9,   57.80,2,   14.80,2,   80.00,-999.0000,9,-999.0000,9,-999.0000,9,-999.0000,9,-999.0000,9,-999.0000,9,  11.6415,     -999.0,9,     -999.0,9,     -999.0,9,     -999.0,9,         29,-999.000,-999.000,-999.000,     -999.0,9, -999.00,9, -999.00,9
33RO200306_01,       A16N,     029,          1,         30,         30,2,20030626,       0125,    51.0005,   -20.0003,       3658,    99.4,  11.5031,  35.5498,2,  35.5514,2,    247.2,2,   246.1,2,    2.92,2,    9.69,2,    0.09,2,    0.61,2,   3.321,2,   1.915,2,   0.268,2,  2123.2,2,  2338.6,2,    545.1,2,    20.00,   7.8706,2,    25.00,-999.000,9,-999.000,9,-999.000,9, -999.00,9,  -999.0,9,  -999.0,-999.000,9,-999.000,-999.000,9, -999.00,9, -999.00,9,   99.40,-999.0000,9,-999.0000,9,-999.0000,9,-999.0000,9,-999.0000,9,-999.0000,9,  11.4905,     -999.0,9,     -999.0,9,     -999.0,9,     -999.0,9,         29,-999.000,-999.000,-999.000,     -999.0,9, -999.00,9, -999.00,9
33RO200306_01,       A16N,     029,          1,         29,         29,2,20030626,       0125,    51.0005,   -20.0003,       3658,   124.5,  11.3993,  35.5437,2,  35.5453,2,    246.2,2,   246.4,2,    3.76,2,   10.20,2,    0.06,2,    0.64,2,   3.267,2,   1.889,2,   0.269,2,  2125.7,2,  2336.4,2,    550.8,2,    20.00,   7.8550,2,    25.00,-999.000,9,-999.000,9,-999.000,9, -999.00,9,  -999.0,9,  -999.0,-999.000,9,-999.000,-999.000,9,   56.42,2,   15.90,2,  124.50,-999.0000,9,-999.0000,9,-999.0000,9,-999.0000,9,-999.0000,9,-999.0000,9,  11.3835,     -999.0,9,     -999.0,9,     -999.0,9,     -999.0,9,         29,-999.000,-999.000,-999.000,     -999.0,9, -999.00,9, -999.00,9
33RO200306_01,       A16N,     029,          1,         28,         28,2,20030626,       0125,    51.0005,   -20.0003,       3658,   149.3,  11.3032,  35.5333,2,  35.5334,2,    246.1,2,   247.0,2,    3.99,2,   10.27,2,    0.04,2,    0.64,2,   3.329,2,   1.929,2,   0.253,2,  2124.0,2,  2337.6,2,   -999.0,9,  -999.00,   7.8447,2,    25.00,-999.000,9,-999.000,9,-999.000,9, -999.00,9,  -999.0,9,  -999.0,-999.000,9,-999.000,-999.000,9, -999.00,9, -999.00,9,  149.30,-999.0000,9,-999.0000,9,-999.0000,9,-999.0000,9,-999.0000,9,-999.0000,9,  11.2844,     -999.0,9,     -999.0,9,     -999.0,9,     -999.0,9,         29,-999.000,-999.000,-999.000,     -999.0,9, -999.00,9, -999.00,9
33RO200306_01,       A16N,     029,          1,         27,         27,2,20030626,       0125,    51.0005,   -20.0003,       3658,   175.1,  11.2066,  35.5217,2,  35.5236,2,    248.5,2,   249.0,2,    4.01,2,   10.21,2,    0.03,2,    0.64,2,   3.303,2,   1.901,2,   0.263,2,  2128.6,2,  2335.9,2,    554.7,2,    20.00,   7.8166,2,    25.00,-999.000,9,-999.000,9,-999.000,9, -999.00,9,  -999.0,9,  -999.0,-999.000,9,-999.000,-999.000,9,   49.92,2,   16.59,2,  175.10,-999.0000,9,-999.0000,9,-999.0000,9,-999.0000,9,-999.0000,9,-999.0000,9,  11.1846,     -999.0,9,     -999.0,9,     -999.0,9,     -999.0,9,         29,-999.000,-999.000,-999.000,     -999.0,9, -999.00,9, -999.00,9
33RO200306_01,       A16N,     029,          1,         26,         26,2,20030626,       0125,    51.0005,   -20.0003,       3658,   199.8,  11.1749,  35.5217,2,  35.5243,2,    249.3,2,   250.0,2,    3.96,2,   10.18,2,    0.03,2,    0.64,2,   3.353,2,   1.943,2,   0.262,2,  2130.9,2,  2336.4,2,   -999.0,9,  -999.00,   7.8402,2,    25.00,-999.000,9,-999.000,9,-999.000,9, -999.00,9,  -999.0,9,  -999.0,-999.000,9,-999.000,-999.000,9, -999.00,9, -999.00,9,  199.80,-999.0000,9,-999.0000,9,-999.0000,9,-999.0000,9,-999.0000,9,-999.0000,9,  11.1499,     -999.0,9,     -999.0,9,     -999.0,9,     -999.0,9,         29,-999.000,-999.000,-999.000,     -999.0,9, -999.00,9, -999.00,9
33RO200306_01,       A16N,     029,          1,         25,         25,2,20030626,       0125,    51.0005,   -20.0003,       3658,   250.3,  11.2254,  35.5445,2,  35.5476,2,    249.1,2,   250.2,2,    3.84,2,   10.09,2,    0.03,2,    0.62,2,   3.325,2,   1.913,2,   0.256,2,  2127.9,2,  2336.7,2,    549.6,2,    20.00,   7.8487,2,    25.00,-999.000,9,-999.000,9,-999.000,9, -999.00,9,  -999.0,9,  -999.0,-999.000,9,-999.000,-999.000,9,   51.95,2,   15.34,2,  250.30,-999.0000,9,-999.0000,9,-999.0000,9,-999.0000,9,-999.0000,9,-999.0000,9,  11.1939,     -999.0,9,     -999.0,9,     -999.0,9,     -999.0,9,         29,-999.000,-999.000,-999.000,     -999.0,9, -999.00,9, -999.00,9
33RO200306_01,       A16N,     029,          1,         24,         24,2,20030626,       0125,    51.0005,   -20.0003,       3658,   300.5,  11.2437,  35.5527,2,  35.5538,2,    248.4,2,   250.1,2,    3.91,2,   10.12,2,    0.02,2,    0.62,2,   3.318,2,   1.910,2,   0.249,2,  2128.6,2,  2330.1,2,   -999.0,9,  -999.00,   7.8507,2,    25.00,-999.000,9,-999.000,9,-999.000,9, -999.00,9,  -999.0,9,  -999.0,-999.000,9,-999.000,-999.000,9,   49.19,2,   15.10,2,  300.50,-999.0000,9,-999.0000,9,-999.0000,9,-999.0000,9,-999.0000,9,-999.0000,9,  11.2057,     -999.0,9,     -999.0,9,     -999.0,9,     -999.0,9,         29,-999.000,-999.000,-999.000,     -999.0,9, -999.00,9, -999.00,9
33RO200306_01,       A16N,     029,          1,         23,         23,2,20030626,       0125,    51.0005,   -20.0003,       3658,   344.5,  11.1123,  35.5263,2,  35.5246,2,    248.7,2,   250.8,2,    4.12,2,   10.39,2,    0.02,2,    0.64,2,   3.346,2,   1.931,2,   0.253,2,  2128.3,2,  2332.1,2,    558.2,2,    20.00,   7.8499,2,    25.00,-999.000,9,-999.000,9,-999.000,9, -999.00,9,  -999.0,9,  -999.0,-999.000,9,-999.000,-999.000,9,   50.17,2,   15.51,2,  344.50,-999.0000,9,-999.0000,9,-999.0000,9,-999.0000,9,-999.0000,9,-999.0000,9,  11.0690,     -999.0,9,     -999.0,9,     -999.0,9,     -999.0,9,         29,-999.000,-999.000,-999.000,     -999.0,9, -999.00,9, -999.00,9
33RO200306_01,       A16N,     029,          1,         22,         22,2,20030626,       0125,    51.0005,   -20.0003,       3658,   400.5,  10.8060,  35.4692,2,  35.4694,2,    247.1,2,   248.0,2,    4.47,2,   10.97,2,    0.02,2,    0.68,2,   3.337,2,   1.926,2,   0.251,2,  2129.2,2,  2332.3,2,   -999.0,9,  -999.00,   7.8440,2,    25.00,-999.000,9,-999.000,9,-999.000,9, -999.00,9,  -999.0,9,  -999.0,-999.000,9,-999.000,-999.000,9,   48.21,2,   14.90,2,  400.50,-999.0000,9,-999.0000,9,-999.0000,9,-999.0000,9,-999.0000,9,-999.0000,9,  10.7564,     -999.0,9,     -999.0,9,     -999.0,9,     -999.0,9,         29,-999.000,-999.000,-999.000,     -999.0,9, -999.00,9, -999.00,9
33RO200306_01,       A16N,     029,          1,         21,         21,2,20030626,       0125,    51.0005,   -20.0003,       3658,   449.4,  10.6405,  35.4418,2,  35.4427,2,    245.4,2,   246.8,2,    4.74,2,   11.38,2,    0.02,2,    0.71,2,   3.301,2,   1.884,2,   0.241,2,  2133.2,2,  2328.9,2,    578.2,2,    20.00,   7.8362,2,    25.00,-999.000,9,-999.000,9,-999.000,9, -999.00,9,  -999.0,9,  -999.0,-999.000,9,-999.000,-999.000,9,   49.19,2,   17.33,2,  449.40,-999.0000,9,-999.0000,9,-999.0000,9,-999.0000,9,-999.0000,9,-999.0000,9,  10.5853,     -999.0,9,     -999.0,9,     -999.0,9,     -999.0,9,         29,-999.000,-999.000,-999.000,     -999.0,9, -999.00,9, -999.00,9
33RO200306_01,       A16N,     029,          1,         20,         20,2,20030626,       0125,    51.0005,   -20.0003,       3658,   500.0,  10.4832,  35.4183,2,  35.4198,2,    244.9,2,   244.8,2,    4.92,2,   11.70,2,    0.02,2,    0.73,2,-999.000,9,-999.000,9,-999.000,9,  2134.1,2,  2326.7,2,   -999.0,9,  -999.00,   7.8310,2,    25.00,-999.000,9,-999.000,9,-999.000,9, -999.00,9,  -999.0,9,  -999.0,-999.000,9,-999.000,-999.000,9,   49.76,2,   15.40,2,  500.00,-999.0000,9,-999.0000,9,-999.0000,9,-999.0000,9,-999.0000,9,-999.0000,9,  10.4222,     -999.0,9,     -999.0,9,     -999.0,9,     -999.0,9,         29,-999.000,-999.000,-999.000,     -999.0,9, -999.00,9, -999.00,9
33RO200306_01,       A16N,     029,          1,         19,         19,2,20030626,       0125,    51.0005,   -20.0003,       3658,   604.4,  10.0017,  35.3441,2,  35.3441,2,    230.9,2,   228.3,2,    6.41,2,   13.89,2,    0.02,2,    0.87,2,   3.016,2,   1.683,2,   0.191,2,  2144.5,2,  2324.5,2,    643.7,2,    20.00,   7.8308,2,    25.00,-999.000,9,-999.000,9,-999.000,9, -999.00,9,  -999.0,9,  -999.0,-999.000,9,-999.000,-999.000,9,   48.13,2,   17.68,2,  604.40,-999.0000,9,-999.0000,9,-999.0000,9,-999.0000,9,-999.0000,9,-999.0000,9,   9.9298,     -999.0,9,     -999.0,9,     -999.0,9,     -999.0,9,         29,-999.000,-999.000,-999.000,     -999.0,9, -999.00,9, -999.00,9
33RO200306_01,       A16N,     029,          1,         18,         18,2,20030626,       0125,    51.0005,   -20.0003,       3658,   699.4,   9.0775,  35.2455,2,  35.2484,2,    198.5,2,   198.5,2,    9.14,2,   17.47,2,    0.01,2,    1.09,2,   2.482,2,   1.343,2,   0.124,2,  2164.4,2,  2321.3,2,    725.4,2,    20.00,   7.7855,2,    25.00,-999.000,9,-999.000,9,-999.000,9, -999.00,9,  -999.0,9,  -999.0,-999.000,9,-999.000,-999.000,9,   46.42,2,   20.71,2,  699.40,-999.0000,9,-999.0000,9,-999.0000,9,-999.0000,9,-999.0000,9,-999.0000,9,   8.9987,     -999.0,9,     -999.0,9,     -999.0,9,     -999.0,9,         29,-999.000,-999.000,-999.000,     -999.0,9, -999.00,9, -999.00,9
33RO200306_01,       A16N,     029,          1,         17,         17,2,20030626,       0125,    51.0005,   -20.0003,       3658,   800.0,   8.1297,  35.2125,2,  35.2129,2,    194.0,2,   192.7,2,   10.65,2,   18.88,2,    0.01,2,    1.17,2,   2.228,2,   1.178,2,   0.102,2,  2172.8,2,  2318.0,2,    775.2,2,    20.00,   7.7454,2,    25.00,-999.000,9,-999.000,9,-999.000,9, -999.00,9,  -999.0,9,  -999.0,-999.000,9,-999.000,-999.000,9,   45.85,2,   23.40,2,  800.00,-999.0000,9,-999.0000,9,-999.0000,9,-999.0000,9,-999.0000,9,-999.0000,9,   8.0446,     -999.0,9,     -999.0,9,     -999.0,9,     -999.0,9,         29,-999.000,-999.000,-999.000,     -999.0,9, -999.00,9, -999.00,9
33RO200306_01,       A16N,     029,          1,         16,         16,2,20030626,       0125,    51.0005,   -20.0003,       3658,   900.1,   7.4463,  35.2368,2,  35.2369,2,    200.5,2,   199.2,2,   11.19,2,   18.96,2,    0.01,2,    1.18,2,-999.000,5,-999.000,5,-999.000,5,  2176.9,2,  2324.7,2,    778.1,2,    20.00,   7.7164,2,    25.00,-999.000,9,-999.000,9,-999.000,9, -999.00,9,  -999.0,9,  -999.0,-999.000,9,-999.000,-999.000,9,   46.42,2,   23.98,2,  900.10,-999.0000,9,-999.0000,9,-999.0000,9,-999.0000,9,-999.0000,9,-999.0000,9,   7.3544,     -999.0,9,     -999.0,9,     -999.0,9,     -999.0,9,         29,-999.000,-999.000,-999.000,     -999.0,9, -999.00,9, -999.00,9
33RO200306_01,       A16N,     029,          1,         15,         15,2,20030626,       0125,    51.0005,   -20.0003,       3658,  1000.8,   6.5552,  35.1684,2,  35.1670,2,    214.9,2,   223.4,2,   11.40,2,   18.82,2,    0.01,2,    1.17,2,   2.313,2,   1.195,2,   0.126,2,  2176.1,2,  2328.0,2,    785.4,2,    20.00,   7.7210,2,    25.00,-999.000,9,-999.000,9,-999.000,9, -999.00,9,  -999.0,9,  -999.0,-999.000,9,-999.000,-999.000,9,   46.42,2,   21.89,2, 1000.80,-999.0000,9,-999.0000,9,-999.0000,9,-999.0000,9,-999.0000,9,-999.0000,9,   6.4591,     -999.0,9,     -999.0,9,     -999.0,9,     -999.0,9,         29,-999.000,-999.000,-999.000,     -999.0,9, -999.00,9, -999.00,9
33RO200306_01,       A16N,     029,          1,         14,         14,2,20030626,       0125,    51.0005,   -20.0003,       3658,  1100.3,   5.8244,  35.1120,2,  35.1095,2,    228.5,2,   226.8,2,   11.41,2,   18.54,2,    0.01,2,    1.16,2,   2.498,6,   1.283,6,   0.142,6,  2172.0,6,  2324.8,2,    785.3,2,    20.00,   7.7143,2,    25.00,-999.000,9,-999.000,9,-999.000,9, -999.00,9,  -999.0,9,  -999.0,-999.000,9,-999.000,-999.000,9,   46.02,2,   22.37,2, 1100.30,-999.0000,9,-999.0000,9,-999.0000,9,-999.0000,9,-999.0000,9,-999.0000,9,   5.7241,     -999.0,9,     -999.0,9,     -999.0,9,     -999.0,9,         29,-999.000,-999.000,-999.000,     -999.0,9, -999.00,9, -999.00,9
33RO200306_01,       A16N,     029,          1,         13,         13,2,20030626,       0125,    51.0005,   -20.0003,       3658,  1196.3,   5.3800,  35.0861,2,  35.0872,2,    235.5,2,   232.7,2,   11.52,2,   18.29,2,    0.01,2,    1.15,2,   2.472,2,   1.252,2,   0.139,2,  2169.8,2,  2320.0,2,    783.3,2,    20.00,   7.7116,2,    25.00,-999.000,9,-999.000,9,-999.000,9, -999.00,9,  -999.0,9,  -999.0,-999.000,9,-999.000,-999.000,9,   46.42,2,   23.40,2, 1196.30,-999.0000,9,-999.0000,9,-999.0000,9,-999.0000,9,-999.0000,9,-999.0000,9,   5.2741,     -999.0,9,     -999.0,9,     -999.0,9,     -999.0,9,         29,-999.000,-999.000,-999.000,     -999.0,9, -999.00,9, -999.00,9
33RO200306_01,       A16N,     029,          1,         12,         12,9,20030626,       0125,    51.0005,   -20.0003,       3658,  1300.0,   4.8023,  35.0211,2,-999.0000,9,    245.1,2,  -999.0,9, -999.00,9, -999.00,9, -999.00,9, -999.00,9,-999.000,9,-999.000,9,-999.000,9,  -999.0,9,  -999.0,9,   -999.0,9,  -999.00,-999.0000,9,  -999.00,-999.000,9,-999.000,9,-999.000,9, -999.00,9,  -999.0,9,  -999.0,-999.000,9,-999.000,-999.000,9, -999.00,9, -999.00,9, 1300.00,-999.0000,9,-999.0000,9,-999.0000,9,-999.0000,9,-999.0000,9,-999.0000,9,   4.6921,     -999.0,9,     -999.0,9,     -999.0,9,     -999.0,9,         29,-999.000,-999.000,-999.000,     -999.0,9, -999.00,9, -999.00,9
33RO200306_01,       A16N,     029,          1,         11,         11,2,20030626,       0125,    51.0005,   -20.0003,       3658,  1300.3,   4.8017,  35.0208,2,  35.0216,2,    245.1,2,   244.0,2, -999.00,1, -999.00,1, -999.00,1, -999.00,1,   2.650,2,   1.332,2,   0.156,2,  2169.1,2,  -999.0,9,   -999.0,9,  -999.00,-999.0000,9,  -999.00,-999.000,9,-999.000,9,-999.000,9, -999.00,9,  -999.0,9,  -999.0,-999.000,9,-999.000,-999.000,9,   46.66,2,   20.99,2, 1300.30,-999.0000,9,-999.0000,9,-999.0000,9,-999.0000,9,-999.0000,9,-999.0000,9,   4.6914,     -999.0,9,     -999.0,9,     -999.0,9,     -999.0,9,         29,-999.000,-999.000,-999.000,     -999.0,9, -999.00,9, -999.00,9
33RO200306_01,       A16N,     029,          1,         10,         10,2,20030626,       0125,    51.0005,   -20.0003,       3658,  1400.3,   4.3002,  34.9654,2,  34.9672,2,    254.7,2,   254.8,2,   11.36,2,   17.80,2,    0.01,2,    1.13,2,   2.820,2,   1.421,2,   0.174,2,  2165.0,2,  2309.4,2,    781.6,2,    20.00,   7.7128,2,    25.00,-999.000,9,-999.000,9,-999.000,9, -999.00,9,  -999.0,9,  -999.0,-999.000,9,-999.000,-999.000,9,   47.64,2,   22.44,2, 1400.30,-999.0000,9,-999.0000,9,-999.0000,9,-999.0000,9,-999.0000,9,-999.0000,9,   4.1858,     -999.0,9,     -999.0,9,     -999.0,9,     -999.0,9,         29,-999.000,-999.000,-999.000,     -999.0,9, -999.00,9, -999.00,9
33RO200306_01,       A16N,     029,          1,          9,          9,2,20030626,       0125,    51.0005,   -20.0003,       3658,  1499.9,   4.0234,  34.9419,2,  34.9447,2,    262.1,2,   260.0,2,   11.39,2,   17.69,2,    0.01,2,    1.13,2,   2.786,2,   1.386,2,   0.164,2,  2162.2,2,  2308.0,2,   -999.0,9,  -999.00,   7.7146,2,    25.00,-999.000,9,-999.000,9,-999.000,9, -999.00,9,  -999.0,9,  -999.0,-999.000,9,-999.000,-999.000,9,   46.75,2,   22.25,2, 1499.90,-999.0000,9,-999.0000,9,-999.0000,9,-999.0000,9,-999.0000,9,-999.0000,9,   3.9030,     -999.0,9,     -999.0,9,     -999.0,9,     -999.0,9,         29,-999.000,-999.000,-999.000,     -999.0,9, -999.00,9, -999.00,9
33RO200306_01,       A16N,     029,          1,          8,          8,2,20030626,       0125,    51.0005,   -20.0003,       3658,  1690.4,   3.6542,  34.9091,2,  34.9113,2,    269.0,2,   269.8,2,   11.36,6,   17.37,6,    0.01,6,    1.11,6,   2.883,2,   1.425,2,   0.179,2,  2158.8,2,  2300.7,2,    773.1,2,    20.00,   7.7180,2,    25.00,-999.000,9,-999.000,9,-999.000,9, -999.00,9,  -999.0,9,  -999.0,-999.000,9,-999.000,-999.000,9,   47.75,2,   21.88,2, 1690.40,-999.0000,9,-999.0000,9,-999.0000,9,-999.0000,9,-999.0000,9,-999.0000,9,   3.5209,     -999.0,9,     -999.0,9,     -999.0,9,     -999.0,9,         29,-999.000,-999.000,-999.000,     -999.0,9, -999.00,9, -999.00,9