BOTTLE,20230908CCHSIOCBG
EXPOCODE,SECT_ID,STNNBR,CASTNO,SAMPNO,BTLNBR,BTLNBR_FLAG_W,DATE,TIME,LATITUDE,LONGITUDE,DEPTH,CTDPRS,CTDTMP,CTDSAL,CTDSAL_FLAG_W,SALNTY,SALNTY_FLAG_W,CTDOXY,CTDOXY_FLAG_W,OXYGEN,OXYGEN_FLAG_W,SILCAT,SILCAT_FLAG_W,NITRAT,NITRAT_FLAG_W,NITRIT,NITRIT_FLAG_W,PHSPHT,PHSPHT_FLAG_W,CFC-11,CFC-11_FLAG_W,CFC-12,CFC-12_FLAG_W,CFC113,CFC113_FLAG_W,TCARBN,TCARBN_FLAG_W,ALKALI,ALKALI_FLAG_W,FCO2,FCO2_FLAG_W,FCO2TMP,PH_SWS,PH_SWS_FLAG_W,PH_TMP,TRITUM,TRITUM_FLAG_W,HELIUM,HELIUM_FLAG_W,DELHE3,DELHE3_FLAG_W,DELC13,DELC13_FLAG_W,DELC14,DELC14_FLAG_W,C14ERR,NEON,NEON_FLAG_W,NEONER,POC,POC_FLAG_W,DOC,DOC_FLAG_W,TDN,TDN_FLAG_W,CTDRAW,CDOM325,CDOM325_FLAG_W,CDOM340,CDOM340_FLAG_W,CDOM380,CDOM380_FLAG_W,CDOM412,CDOM412_FLAG_W,CDOMSL,CDOMSL_FLAG_W,CDOMSN,CDOMSN_FLAG_W,THETA,PON,PON_FLAG_W,HCFC-22,HCFC-22_FLAG_W,HCFC-142b,HCFC-142b_FLAG_W,HCFC-141b,HCFC-141b_FLAG_W,STNNBR_U,HELIER,DELHER,TRITER,CH3CL,CH3CL_FLAG_W,CH3BR,CH3BR_FLAG_W,CH3I,CH3I_FLAG_W
,,,,,,,,,,,METERS,DBAR,ITS-90,PSS-78,,PSS-78,,UMOL/KG,,UMOL/KG,,UMOL/KG,,UMOL/KG,,UMOL/KG,,UMOL/KG,,PMOL/KG,,PMOL/KG,,PMOL/KG,,UMOL/KG,,UMOL/KG,,UATM,,DEG C,,,DEG C,TU,,NMOL/KG,,PERCNT,,/MILLE,,/MILLE,,/MILLE,NMOL/KG,,NMOL/KG,UG/KG,,UMOL/KG,,UMOL/KG,,DBAR,1/M,,1/M,,1/M,,1/M,,1/NM,,1/NM,,DEG C,UMOL/L,,PMOL/KG,,PMOL/KG,,PMOL/KG,,,NMOL/KG,PERCNT,TU,PMOL/KG,,PMOL/KG,,PMOL/KG,
33RO200306_02,       A16N,     081,          1,         35,         35,2,20030719,       1602,    25.5002,   -25.9078,       5354,     4.2,  24.3519,  37.1112,2,  37.1168,2,    209.8,2,   210.4,2,    0.37,2,    0.03,2,    0.00,2,    0.03,2,   1.931,6,   1.229,6,   0.167,6,  2096.7,6,  2427.2,6,   -999.0,9,  -999.00,   8.0389,6,    25.00,-999.000,9,-999.000,9,-999.000,9, -999.00,9,  -999.0,9,  -999.0,-999.000,9,-999.000,-999.000,9, -999.00,9, -999.00,9,    4.20,-999.0000,9,-999.0000,9,-999.0000,9,-999.0000,9,-999.0000,9,-999.0000,9,  24.3510,     -999.0,9,     -999.0,9,     -999.0,9,     -999.0,9,         81,-999.000,-999.000,-999.000,     -999.0,9, -999.00,9, -999.00,9
33RO200306_02,       A16N,     081,          1,         33,         33,2,20030719,       1602,    25.5002,   -25.9078,       5354,    19.7,  24.3168,  37.1099,2,  37.1159,2,    211.1,2,   210.6,2,    0.32,2,    0.01,2,    0.00,2,    0.03,2,-999.000,9,-999.000,9,-999.000,9,  -999.0,9,  -999.0,9,   -999.0,9,  -999.00,-999.0000,9,  -999.00,-999.000,9,-999.000,9,-999.000,9, -999.00,9,  -999.0,9,  -999.0,-999.000,9,-999.000,-999.000,9, -999.00,9, -999.00,9,   19.70,-999.0000,9,-999.0000,9,-999.0000,9,-999.0000,9,-999.0000,9,-999.0000,9,  24.3126,     -999.0,9,     -999.0,9,     -999.0,9,     -999.0,9,         81,-999.000,-999.000,-999.000,     -999.0,9, -999.00,9, -999.00,9
33RO200306_02,       A16N,     081,          1,         32,         32,2,20030719,       1602,    25.5002,   -25.9078,       5354,    39.5,  24.2127,  37.1021,2,  37.1054,2,    209.9,2,   210.9,2,    0.32,2,    0.02,2,    0.00,2,    0.03,2,-999.000,9,-999.000,9,-999.000,9,  -999.0,9,  -999.0,9,   -999.0,9,  -999.00,-999.0000,9,  -999.00,-999.000,9,-999.000,9,-999.000,9, -999.00,9,  -999.0,9,  -999.0,-999.000,9,-999.000,-999.000,9, -999.00,9, -999.00,9,   39.50,-999.0000,9,-999.0000,9,-999.0000,9,-999.0000,9,-999.0000,9,-999.0000,9,  24.2043,     -999.0,9,     -999.0,9,     -999.0,9,     -999.0,9,         81,-999.000,-999.000,-999.000,     -999.0,9, -999.00,9, -999.00,9
33RO200306_02,       A16N,     081,          1,         31,         31,2,20030719,       1602,    25.5002,   -25.9078,       5354,    59.4,  23.7105,  37.1046,2,  37.0875,2,    216.5,2,   218.1,2,    0.40,2,    0.02,2,    0.00,2,    0.03,2,-999.000,9,-999.000,9,-999.000,9,  -999.0,9,  -999.0,9,   -999.0,9,  -999.00,-999.0000,9,  -999.00,-999.000,9,-999.000,9,-999.000,9, -999.00,9,  -999.0,9,  -999.0,-999.000,9,-999.000,-999.000,9, -999.00,9, -999.00,9,   59.40,-999.0000,9,-999.0000,9,-999.0000,9,-999.0000,9,-999.0000,9,-999.0000,9,  23.6980,     -999.0,9,     -999.0,9,     -999.0,9,     -999.0,9,         81,-999.000,-999.000,-999.000,     -999.0,9, -999.00,9, -999.00,9
33RO200306_02,       A16N,     081,          1,         30,         30,2,20030719,       1602,    25.5002,   -25.9078,       5354,    79.8,  22.1468,  36.9767,2,  36.9860,2,    224.9,2,  -999.0,1,    0.53,2,    0.03,2,    0.00,2,    0.04,2,-999.000,9,-999.000,9,-999.000,9,  -999.0,9,  -999.0,9,   -999.0,9,  -999.00,-999.0000,9,  -999.00,-999.000,9,-999.000,9,-999.000,9, -999.00,9,  -999.0,9,  -999.0,-999.000,9,-999.000,-999.000,9, -999.00,9, -999.00,9,   79.80,-999.0000,9,-999.0000,9,-999.0000,9,-999.0000,9,-999.0000,9,-999.0000,9,  22.1308,     -999.0,9,     -999.0,9,     -999.0,9,     -999.0,9,         81,-999.000,-999.000,-999.000,     -999.0,9, -999.00,9, -999.00,9
33RO200306_02,       A16N,     081,          1,         29,         29,2,20030719,       1602,    25.5002,   -25.9078,       5354,    99.4,  21.5447,  37.0929,2,  37.0768,2,    221.2,2,   220.2,2,    0.61,2,    0.13,2,    0.02,2,    0.04,2,   2.179,2,   1.359,2,   0.179,2,  2106.3,2,  2423.0,2,   -999.0,9,  -999.00,   8.0201,2,    25.00,-999.000,9,-999.000,9,-999.000,9, -999.00,9,  -999.0,9,  -999.0,-999.000,9,-999.000,-999.000,9, -999.00,9, -999.00,9,   99.40,-999.0000,9,-999.0000,9,-999.0000,9,-999.0000,9,-999.0000,9,-999.0000,9,  21.5251,     -999.0,9,     -999.0,9,     -999.0,9,     -999.0,9,         81,-999.000,-999.000,-999.000,     -999.0,9, -999.00,9, -999.00,9
33RO200306_02,       A16N,     081,          1,         28,         28,2,20030719,       1602,    25.5002,   -25.9078,       5354,   123.8,  20.6532,  37.0175,2,  36.9939,2,    212.9,2,   212.0,2,    0.74,2,    0.61,2,    0.10,2,    0.08,2,-999.000,9,-999.000,9,-999.000,9,  -999.0,9,  -999.0,9,   -999.0,9,  -999.00,-999.0000,9,  -999.00,-999.000,9,-999.000,9,-999.000,9, -999.00,9,  -999.0,9,  -999.0,-999.000,9,-999.000,-999.000,9, -999.00,9, -999.00,9,  123.80,-999.0000,9,-999.0000,9,-999.0000,9,-999.0000,9,-999.0000,9,-999.0000,9,  20.6296,     -999.0,9,     -999.0,9,     -999.0,9,     -999.0,9,         81,-999.000,-999.000,-999.000,     -999.0,9, -999.00,9, -999.00,9
33RO200306_02,       A16N,     081,          1,         27,         27,2,20030719,       1602,    25.5002,   -25.9078,       5354,   148.9,  19.4276,  36.7418,2,  36.7465,2,    185.3,2,   184.3,2,    1.52,2,    4.79,2,    0.05,2,    0.31,2,-999.000,9,-999.000,9,-999.000,9,  -999.0,9,  -999.0,9,   -999.0,9,  -999.00,-999.0000,9,  -999.00,-999.000,9,-999.000,9,-999.000,9, -999.00,9,  -999.0,9,  -999.0,-999.000,9,-999.000,-999.000,9, -999.00,9, -999.00,9,  148.90,-999.0000,9,-999.0000,9,-999.0000,9,-999.0000,9,-999.0000,9,-999.0000,9,  19.4004,     -999.0,9,     -999.0,9,     -999.0,9,     -999.0,9,         81,-999.000,-999.000,-999.000,     -999.0,9, -999.00,9, -999.00,9
33RO200306_02,       A16N,     081,          1,         26,         26,2,20030719,       1602,    25.5002,   -25.9078,       5354,   175.1,  18.3157,  36.5788,2,  36.5805,2,    175.9,2,   180.4,2,    1.77,2,    5.71,2,    0.02,2,    0.35,2,-999.000,9,-999.000,9,-999.000,9,  -999.0,9,  -999.0,9,   -999.0,9,  -999.00,-999.0000,9,  -999.00,-999.000,9,-999.000,9,-999.000,9, -999.00,9,  -999.0,9,  -999.0,-999.000,9,-999.000,-999.000,9, -999.00,9, -999.00,9,  175.10,-999.0000,9,-999.0000,9,-999.0000,9,-999.0000,9,-999.0000,9,-999.0000,9,  18.2850,     -999.0,9,     -999.0,9,     -999.0,9,     -999.0,9,         81,-999.000,-999.000,-999.000,     -999.0,9, -999.00,9, -999.00,9
33RO200306_02,       A16N,     081,          1,         25,         25,2,20030719,       1602,    25.5002,   -25.9078,       5354,   199.9,  17.4219,  36.4140,2,  36.3892,2,    167.5,2,   166.4,2,    2.53,2,    8.44,2,    0.02,2,    0.49,2,   2.355,2,   1.407,2,   0.062,2,  2142.8,2,  2379.9,2,   -999.0,9,  -999.00,   7.8868,2,    25.00,-999.000,9,-999.000,9,-999.000,9, -999.00,9,  -999.0,9,  -999.0,-999.000,9,-999.000,-999.000,9, -999.00,9, -999.00,9,  199.90,-999.0000,9,-999.0000,9,-999.0000,9,-999.0000,9,-999.0000,9,-999.0000,9,  17.3880,     -999.0,9,     -999.0,9,     -999.0,9,     -999.0,9,         81,-999.000,-999.000,-999.000,     -999.0,9, -999.00,9, -999.00,9
33RO200306_02,       A16N,     081,          1,         24,         24,2,20030719,       1602,    25.5002,   -25.9078,       5354,   249.4,  15.4997,  36.0096,2,  36.0036,2,    123.7,2,   115.1,2,    5.33,2,   17.21,2,    0.01,2,    1.01,2,-999.000,9,-999.000,9,-999.000,9,  -999.0,9,  -999.0,9,   -999.0,9,  -999.00,-999.0000,9,  -999.00,-999.000,9,-999.000,9,-999.000,9, -999.00,9,  -999.0,9,  -999.0,-999.000,9,-999.000,-999.000,9, -999.00,9, -999.00,9,  249.40,-999.0000,9,-999.0000,9,-999.0000,9,-999.0000,9,-999.0000,9,-999.0000,9,  15.4607,     -999.0,9,     -999.0,9,     -999.0,9,     -999.0,9,         81,-999.000,-999.000,-999.000,     -999.0,9, -999.00,9, -999.00,9
33RO200306_02,       A16N,     081,          1,         23,         23,2,20030719,       1602,    25.5002,   -25.9078,       5354,   299.9,  14.7376,  35.9605,2,  35.9512,2,    135.5,2,   141.8,2,    5.04,2,   15.25,2,    0.01,2,    0.89,2,   2.245,2,   1.280,2,   0.027,2,  2164.8,3,  2352.3,2,   -999.0,9,  -999.00,   7.8019,2,    25.00,-999.000,9,-999.000,9,-999.000,9, -999.00,9,  -999.0,9,  -999.0,-999.000,9,-999.000,-999.000,9, -999.00,9, -999.00,9,  299.90,-999.0000,9,-999.0000,9,-999.0000,9,-999.0000,9,-999.0000,9,-999.0000,9,  14.6922,     -999.0,9,     -999.0,9,     -999.0,9,     -999.0,9,         81,-999.000,-999.000,-999.000,     -999.0,9, -999.00,9, -999.00,9
33RO200306_02,       A16N,     081,          1,         22,         22,2,20030719,       1602,    25.5002,   -25.9078,       5354,   349.4,  13.9520,  35.8741,2,  35.8716,2,    140.5,2,   154.6,2,    5.20,2,   14.99,2,    0.01,2,    0.87,2,-999.000,9,-999.000,9,-999.000,9,  -999.0,9,  -999.0,9,   -999.0,9,  -999.00,-999.0000,9,  -999.00,-999.000,9,-999.000,9,-999.000,9, -999.00,9,  -999.0,9,  -999.0,-999.000,9,-999.000,-999.000,9, -999.00,9, -999.00,9,  349.40,-999.0000,9,-999.0000,9,-999.0000,9,-999.0000,9,-999.0000,9,-999.0000,9,  13.9010,     -999.0,9,     -999.0,9,     -999.0,9,     -999.0,9,         81,-999.000,-999.000,-999.000,     -999.0,9, -999.00,9, -999.00,9
33RO200306_02,       A16N,     081,          1,         21,         21,2,20030719,       1602,    25.5002,   -25.9078,       5354,   399.2,  13.2983,  35.8011,2,  35.8025,2,    166.3,2,   170.9,2,    5.16,2,   14.31,2,    0.01,2,    0.84,2,-999.000,9,-999.000,9,-999.000,9,  -999.0,9,  -999.0,9,   -999.0,9,  -999.00,-999.0000,9,  -999.00,-999.000,9,-999.000,9,-999.000,9, -999.00,9,  -999.0,9,  -999.0,-999.000,9,-999.000,-999.000,9, -999.00,9, -999.00,9,  399.20,-999.0000,9,-999.0000,9,-999.0000,9,-999.0000,9,-999.0000,9,-999.0000,9,  13.2417,     -999.0,9,     -999.0,9,     -999.0,9,     -999.0,9,         81,-999.000,-999.000,-999.000,     -999.0,9, -999.00,9, -999.00,9
33RO200306_02,       A16N,     081,          1,         20,         20,2,20030719,       1602,    25.5002,   -25.9078,       5354,   450.0,  12.7143,  35.7222,2,  35.7240,2,    174.9,2,   163.4,2,    5.99,2,   16.13,2,    0.01,2,    0.94,2,-999.000,9,-999.000,9,-999.000,9,  -999.0,9,  -999.0,9,   -999.0,9,  -999.00,-999.0000,9,  -999.00,-999.000,9,-999.000,9,-999.000,9, -999.00,9,  -999.0,9,  -999.0,-999.000,9,-999.000,-999.000,9, -999.00,9, -999.00,9,  450.00,-999.0000,9,-999.0000,9,-999.0000,9,-999.0000,9,-999.0000,9,-999.0000,9,  12.6523,     -999.0,9,     -999.0,9,     -999.0,9,     -999.0,9,         81,-999.000,-999.000,-999.000,     -999.0,9, -999.00,9, -999.00,9
33RO200306_02,       A16N,     081,          1,         19,         19,2,20030719,       1602,    25.5002,   -25.9078,       5354,   499.0,  12.2141,  35.6720,2,  35.6706,2,    167.5,2,   173.8,2,    6.13,2,   15.82,2,    0.01,2,    0.94,2,   2.250,2,   1.205,2,   0.041,2,  2157.3,2,  2340.2,2,   -999.0,9,  -999.00,   7.7914,2,    25.00,-999.000,9,-999.000,9,-999.000,9, -999.00,9,  -999.0,9,  -999.0,-999.000,9,-999.000,-999.000,9, -999.00,9, -999.00,9,  499.00,-999.0000,9,-999.0000,9,-999.0000,9,-999.0000,9,-999.0000,9,-999.0000,9,  12.1470,     -999.0,9,     -999.0,9,     -999.0,9,     -999.0,9,         81,-999.000,-999.000,-999.000,     -999.0,9, -999.00,9, -999.00,9
33RO200306_02,       A16N,     081,          1,         18,         18,2,20030719,       1602,    25.5002,   -25.9078,       5354,   599.2,  11.0123,  35.5041,2,  35.5008,2,    143.6,2,   139.5,2,    9.72,2,   21.70,2,    0.00,2,    1.30,2,-999.000,9,-999.000,9,-999.000,9,  -999.0,9,  -999.0,9,   -999.0,9,  -999.00,-999.0000,9,  -999.00,-999.000,9,-999.000,9,-999.000,9, -999.00,9,  -999.0,9,  -999.0,-999.000,9,-999.000,-999.000,9, -999.00,9, -999.00,9,  599.20,-999.0000,9,-999.0000,9,-999.0000,9,-999.0000,9,-999.0000,9,-999.0000,9,  10.9366,     -999.0,9,     -999.0,9,     -999.0,9,     -999.0,9,         81,-999.000,-999.000,-999.000,     -999.0,9, -999.00,9, -999.00,9
33RO200306_02,       A16N,     081,          1,         17,         17,2,20030719,       1602,    25.5002,   -25.9078,       5354,   699.6,   9.8007,  35.3943,2,  35.4006,2,    158.4,2,   141.7,2,   12.26,2,   23.29,2,    0.00,2,    1.42,2,-999.000,9,-999.000,9,-999.000,9,  -999.0,9,  -999.0,9,   -999.0,9,  -999.00,-999.0000,9,  -999.00,-999.000,9,-999.000,9,-999.000,9, -999.00,9,  -999.0,9,  -999.0,-999.000,9,-999.000,-999.000,9, -999.00,9, -999.00,9,  699.60,-999.0000,9,-999.0000,9,-999.0000,9,-999.0000,9,-999.0000,9,-999.0000,9,   9.7180,     -999.0,9,     -999.0,9,     -999.0,9,     -999.0,9,         81,-999.000,-999.000,-999.000,     -999.0,9, -999.00,9, -999.00,9
33RO200306_02,       A16N,     081,          1,         16,         16,2,20030719,       1602,    25.5002,   -25.9078,       5354,   800.0,   9.0591,  35.3253,2,  35.3296,2,    127.3,2,   131.2,2,   14.29,2,   24.70,2,    0.00,2,    1.53,2,-999.000,9,-999.000,9,-999.000,9,  -999.0,9,  -999.0,9,   -999.0,9,  -999.00,-999.0000,9,  -999.00,-999.000,9,-999.000,9,-999.000,9, -999.00,9,  -999.0,9,  -999.0,-999.000,9,-999.000,-999.000,9, -999.00,9, -999.00,9,  800.00,-999.0000,9,-999.0000,9,-999.0000,9,-999.0000,9,-999.0000,9,-999.0000,9,   8.9685,     -999.0,9,     -999.0,9,     -999.0,9,     -999.0,9,         81,-999.000,-999.000,-999.000,     -999.0,9, -999.00,9, -999.00,9
33RO200306_02,       A16N,     081,          1,         15,         15,2,20030719,       1602,    25.5002,   -25.9078,       5354,   899.3,   8.1427,  35.2629,2,  35.2640,2,    146.6,2,   146.5,2,   16.19,2,   25.21,2,    0.00,2,    1.59,2,-999.000,9,-999.000,9,-999.000,9,  -999.0,9,  -999.0,9,   -999.0,9,  -999.00,-999.0000,9,  -999.00,-999.000,9,-999.000,9,-999.000,9, -999.00,9,  -999.0,9,  -999.0,-999.000,9,-999.000,-999.000,9, -999.00,9, -999.00,9,  899.30,-999.0000,9,-999.0000,9,-999.0000,9,-999.0000,9,-999.0000,9,-999.0000,9,   8.0463,     -999.0,9,     -999.0,9,     -999.0,9,     -999.0,9,         81,-999.000,-999.000,-999.000,     -999.0,9, -999.00,9, -999.00,9
33RO200306_02,       A16N,     081,          1,         14,         14,2,20030719,       1602,    25.5002,   -25.9078,       5354,   999.9,   7.4053,  35.2211,2,  35.2218,2,    153.0,2,   155.6,2,   17.46,2,   25.21,2,    0.00,2,    1.60,2,-999.000,9,-999.000,9,-999.000,9,  -999.0,9,  -999.0,9,   -999.0,9,  -999.00,-999.0000,9,  -999.00,-999.000,9,-999.000,9,-999.000,9, -999.00,9,  -999.0,9,  -999.0,-999.000,9,-999.000,-999.000,9, -999.00,9, -999.00,9,  999.90,-999.0000,9,-999.0000,9,-999.0000,9,-999.0000,9,-999.0000,9,-999.0000,9,   7.3029,     -999.0,9,     -999.0,9,     -999.0,9,     -999.0,9,         81,-999.000,-999.000,-999.000,     -999.0,9, -999.00,9, -999.00,9
33RO200306_02,       A16N,     081,          1,         13,         13,2,20030719,       1602,    25.5002,   -25.9078,       5354,  1099.6,   7.0935,  35.2447,2,  35.2472,2,    164.6,2,   166.1,2,   17.46,2,   24.29,2,    0.01,2,    1.55,2,-999.000,9,-999.000,9,-999.000,9,  -999.0,9,  -999.0,9,   -999.0,9,  -999.00,-999.0000,9,  -999.00,-999.000,9,-999.000,9,-999.000,9, -999.00,9,  -999.0,9,  -999.0,-999.000,9,-999.000,-999.000,9, -999.00,9, -999.00,9, 1099.60,-999.0000,9,-999.0000,9,-999.0000,9,-999.0000,9,-999.0000,9,-999.0000,9,   6.9827,     -999.0,9,     -999.0,9,     -999.0,9,     -999.0,9,         81,-999.000,-999.000,-999.000,     -999.0,9, -999.00,9, -999.00,9
33RO200306_02,       A16N,     081,          1,         12,         12,2,20030719,       1602,    25.5002,   -25.9078,       5354,  1200.1,   6.7494,  35.2524,2,  35.2574,2,    174.7,2,   173.0,2,   17.57,2,   23.56,2,    0.01,2,    1.51,2,   0.183,2,   0.099,2,   0.004,2,  -999.0,9,  -999.0,9,   -999.0,9,  -999.00,-999.0000,9,  -999.00,-999.000,9,-999.000,9,-999.000,9, -999.00,9,  -999.0,9,  -999.0,-999.000,9,-999.000,-999.000,9, -999.00,9, -999.00,9, 1200.10,-999.0000,9,-999.0000,9,-999.0000,9,-999.0000,9,-999.0000,9,-999.0000,9,   6.6307,     -999.0,9,     -999.0,9,     -999.0,9,     -999.0,9,         81,-999.000,-999.000,-999.000,     -999.0,9, -999.00,9, -999.00,9
33RO200306_02,       A16N,     081,          1,         11,         11,2,20030719,       1602,    25.5002,   -25.9078,       5354,  1401.0,   5.8435,  35.2165,2,  35.2174,2,    193.6,2,   193.9,2,   17.89,2,   22.01,2,    0.01,2,    1.42,2,   0.110,2,   0.062,2,   0.002,2,  -999.0,9,  -999.0,9,   -999.0,9,  -999.00,-999.0000,9,  -999.00,-999.000,9,-999.000,9,-999.000,9, -999.00,9,  -999.0,9,  -999.0,-999.000,9,-999.000,-999.000,9, -999.00,9, -999.00,9, 1401.00,-999.0000,9,-999.0000,9,-999.0000,9,-999.0000,9,-999.0000,9,-999.0000,9,   5.7124,     -999.0,9,     -999.0,9,     -999.0,9,     -999.0,9,         81,-999.000,-999.000,-999.000,     -999.0,9, -999.00,9, -999.00,9
33RO200306_02,       A16N,     081,          1,         10,         10,2,20030719,       1602,    25.5002,   -25.9078,       5354,  1599.3,   5.1987,  35.1776,2,  35.1821,2,    208.3,2,   209.7,2,   19.69,2,   21.49,2,    0.01,2,    1.40,2,   0.077,2,   0.039,2,   0.003,2,  -999.0,9,  -999.0,9,   -999.0,9,  -999.00,-999.0000,9,  -999.00,-999.000,9,-999.000,9,-999.000,9, -999.00,9,  -999.0,9,  -999.0,-999.000,9,-999.000,-999.000,9, -999.00,9, -999.00,9, 1599.30,-999.0000,9,-999.0000,9,-999.0000,9,-999.0000,9,-999.0000,9,-999.0000,9,   5.0546,     -999.0,9,     -999.0,9,     -999.0,9,     -999.0,9,         81,-999.000,-999.000,-999.000,     -999.0,9, -999.00,9, -999.00,9
33RO200306_02,       A16N,     081,          1,          9,          9,2,20030719,       1602,    25.5002,   -25.9078,       5354,  1799.6,   4.5494,  35.1190,2,  35.1216,2,    217.8,2,   219.6,2,   21.98,2,   21.15,2,    0.01,2,    1.39,2,-999.000,9,-999.000,9,-999.000,9,  -999.0,9,  -999.0,9,   -999.0,9,  -999.00,-999.0000,9,  -999.00,-999.000,9,-999.000,9,-999.000,9, -999.00,9,  -999.0,9,  -999.0,-999.000,9,-999.000,-999.000,9, -999.00,9, -999.00,9, 1799.60,-999.0000,9,-999.0000,9,-999.0000,9,-999.0000,9,-999.0000,9,-999.0000,9,   4.3935,     -999.0,9,     -999.0,9,     -999.0,9,     -999.0,9,         81,-999.000,-999.000,-999.000,     -999.0,9, -999.00,9, -999.00,9
33RO200306_02,       A16N,     081,          1,          8,          8,2,20030719,       1602,    25.5002,   -25.9078,       5354,  1999.1,   4.1064,  35.0757,2,  35.0778,2,    226.6,2,   227.7,2,   23.43,2,   20.80,2,    0.00,2,    1.38,2,-999.000,9,-999.000,9,-999.000,9,  -999.0,9,  -999.0,9,   -999.0,9,  -999.00,-999.0000,9,  -999.00,-999.000,9,-999.000,9,-999.000,9, -999.00,9,  -999.0,9,  -999.0,-999.000,9,-999.000,-999.000,9, -999.00,9, -999.00,9, 1999.10,-999.0000,9,-999.0000,9,-999.0000,9,-999.0000,9,-999.0000,9,-999.0000,9,   3.9371,     -999.0,9,     -999.0,9,     -999.0,9,     -999.0,9,         81,-999.000,-999.000,-999.000,     -999.0,9, -999.00,9, -999.00,9