BOTTLE,20230908CCHSIOCBG
EXPOCODE,SECT_ID,STNNBR,CASTNO,SAMPNO,BTLNBR,BTLNBR_FLAG_W,DATE,TIME,LATITUDE,LONGITUDE,DEPTH,CTDPRS,CTDTMP,CTDSAL,CTDSAL_FLAG_W,SALNTY,SALNTY_FLAG_W,CTDOXY,CTDOXY_FLAG_W,OXYGEN,OXYGEN_FLAG_W,SILCAT,SILCAT_FLAG_W,NITRAT,NITRAT_FLAG_W,NITRIT,NITRIT_FLAG_W,PHSPHT,PHSPHT_FLAG_W,CFC-11,CFC-11_FLAG_W,CFC-12,CFC-12_FLAG_W,CFC113,CFC113_FLAG_W,TCARBN,TCARBN_FLAG_W,ALKALI,ALKALI_FLAG_W,FCO2,FCO2_FLAG_W,FCO2TMP,PH_SWS,PH_SWS_FLAG_W,PH_TMP,TRITUM,TRITUM_FLAG_W,HELIUM,HELIUM_FLAG_W,DELHE3,DELHE3_FLAG_W,DELC13,DELC13_FLAG_W,DELC14,DELC14_FLAG_W,C14ERR,NEON,NEON_FLAG_W,NEONER,POC,POC_FLAG_W,DOC,DOC_FLAG_W,TDN,TDN_FLAG_W,CTDRAW,CDOM325,CDOM325_FLAG_W,CDOM340,CDOM340_FLAG_W,CDOM380,CDOM380_FLAG_W,CDOM412,CDOM412_FLAG_W,CDOMSL,CDOMSL_FLAG_W,CDOMSN,CDOMSN_FLAG_W,THETA,PON,PON_FLAG_W,HCFC-22,HCFC-22_FLAG_W,HCFC-142b,HCFC-142b_FLAG_W,HCFC-141b,HCFC-141b_FLAG_W,STNNBR_U,HELIER,DELHER,TRITER,CH3CL,CH3CL_FLAG_W,CH3BR,CH3BR_FLAG_W,CH3I,CH3I_FLAG_W
,,,,,,,,,,,METERS,DBAR,ITS-90,PSS-78,,PSS-78,,UMOL/KG,,UMOL/KG,,UMOL/KG,,UMOL/KG,,UMOL/KG,,UMOL/KG,,PMOL/KG,,PMOL/KG,,PMOL/KG,,UMOL/KG,,UMOL/KG,,UATM,,DEG C,,,DEG C,TU,,NMOL/KG,,PERCNT,,/MILLE,,/MILLE,,/MILLE,NMOL/KG,,NMOL/KG,UG/KG,,UMOL/KG,,UMOL/KG,,DBAR,1/M,,1/M,,1/M,,1/M,,1/NM,,1/NM,,DEG C,UMOL/L,,PMOL/KG,,PMOL/KG,,PMOL/KG,,,NMOL/KG,PERCNT,TU,PMOL/KG,,PMOL/KG,,PMOL/KG,
33RO200306_01,       A16N,     007,          1,         29,         29,2,20030621,       0141,    61.6130,   -20.0000,       2060,     2.2,  11.0979,  35.2545,2,  35.2564,2,    287.7,2,   288.0,2,    0.12,2,    4.41,2,    0.09,2,    0.31,2,   3.675,2,   2.025,2,   0.312,2,  2079.5,6,  2325.5,2,   -999.0,9,  -999.00,   7.9219,2,    25.00,   1.129,2,   1.742,2,  -2.415,2,    1.45,2,    65.6,2,     3.3,   7.351,2,   0.054,-999.000,9,   57.40,2,    9.07,2,    2.20,-999.0000,9,-999.0000,9,-999.0000,9,-999.0000,9,-999.0000,9,-999.0000,9,  11.0976,     -999.0,9,     -999.0,9,     -999.0,9,     -999.0,9,          7,   0.003,   0.196,   0.020,     -999.0,9, -999.00,9, -999.00,9
33RO200306_01,       A16N,     007,          1,         28,         28,2,20030621,       0141,    61.6130,   -20.0000,       2060,     9.8,  11.0992,  35.2546,2,  35.2558,2,    287.6,2,   290.3,2,    0.17,2,    4.43,2,    0.08,2,    0.31,2,-999.000,9,-999.000,9,-999.000,9,  2078.3,3,  2320.2,2,   -999.0,9,  -999.00,   7.9271,2,    25.00,-999.000,9,-999.000,9,-999.000,9, -999.00,9,  -999.0,9,  -999.0,-999.000,9,-999.000,-999.000,9,   57.80,2,    9.29,2,    9.80,-999.0000,9,-999.0000,9,-999.0000,9,-999.0000,9,-999.0000,9,-999.0000,9,  11.0980,     -999.0,9,     -999.0,9,     -999.0,9,     -999.0,9,          7,-999.000,-999.000,-999.000,     -999.0,9, -999.00,9, -999.00,9
33RO200306_01,       A16N,     007,          1,         27,         27,2,20030621,       0141,    61.6130,   -20.0000,       2060,    29.7,  10.9295,  35.2569,2,  35.2659,2,    288.1,2,   285.4,2,    0.49,2,    5.46,2,    0.10,2,    0.39,2,-999.000,9,-999.000,9,-999.000,9,  2090.0,2,  2321.0,2,   -999.0,9,  -999.00,   7.9070,2,    25.00,   1.184,2,-999.000,9,-999.000,9, -999.00,9,  -999.0,9,  -999.0,-999.000,9,-999.000,-999.000,9,   58.61,2,   10.11,2,   29.70,-999.0000,9,-999.0000,9,-999.0000,9,-999.0000,9,-999.0000,9,-999.0000,9,  10.9259,     -999.0,9,     -999.0,9,     -999.0,9,     -999.0,9,          7,-999.000,-999.000,   0.020,     -999.0,9, -999.00,9, -999.00,9
33RO200306_01,       A16N,     007,          1,         26,         26,2,20030621,       0141,    61.6130,   -20.0000,       2060,    49.7,   9.5488,  35.2986,2,  35.2990,2,    280.9,2,   275.6,2,    2.36,2,    9.23,2,    0.21,2,    0.67,2,   3.751,2,   2.069,2,   0.310,2,  2125.6,2,  2325.4,2,   -999.0,9,  -999.00,   7.8365,2,    25.00,-999.000,9,-999.000,9,-999.000,9, -999.00,9,  -999.0,9,  -999.0,-999.000,9,-999.000,-999.000,9, -999.00,9, -999.00,9,   49.70,-999.0000,9,-999.0000,9,-999.0000,9,-999.0000,9,-999.0000,9,-999.0000,9,   9.5432,     -999.0,9,     -999.0,9,     -999.0,9,     -999.0,9,          7,-999.000,-999.000,-999.000,     -999.0,9, -999.00,9, -999.00,9
33RO200306_01,       A16N,     007,          1,         25,         25,2,20030621,       0141,    61.6130,   -20.0000,       2060,    70.5,   9.3409,  35.2876,2,  35.2876,2,    273.1,2,   272.2,2,    3.39,2,   10.59,2,    0.27,2,    0.72,2,-999.000,9,-999.000,9,-999.000,9,  2130.3,2,  2323.6,2,   -999.0,9,  -999.00,   7.8277,2,    25.00,-999.000,9,   1.771,2,  -1.762,2, -999.00,9,  -999.0,9,  -999.0,   7.569,2,   0.065,-999.000,9,   54.80,2,   14.99,2,   70.50,-999.0000,9,-999.0000,9,-999.0000,9,-999.0000,9,-999.0000,9,-999.0000,9,   9.3331,     -999.0,9,     -999.0,9,     -999.0,9,     -999.0,9,          7,   0.003,   0.188,-999.000,     -999.0,9, -999.00,9, -999.00,9
33RO200306_01,       A16N,     007,          1,         24,         24,2,20030621,       0141,    61.6130,   -20.0000,       2060,    90.2,   9.2926,  35.2867,2,  35.2891,2,    274.0,2,   276.1,2,    3.14,2,   10.37,2,    0.29,2,    0.71,2,   3.746,2,   2.073,2,   0.308,2,  2129.2,2,  2323.9,2,   -999.0,9,  -999.00,   7.8278,2,    25.00,-999.000,9,-999.000,9,-999.000,9, -999.00,9,  -999.0,9,  -999.0,-999.000,9,-999.000,-999.000,9, -999.00,9, -999.00,9,   90.20,-999.0000,9,-999.0000,9,-999.0000,9,-999.0000,9,-999.0000,9,-999.0000,9,   9.2826,     -999.0,9,     -999.0,9,     -999.0,9,     -999.0,9,          7,-999.000,-999.000,-999.000,     -999.0,9, -999.00,9, -999.00,9
33RO200306_01,       A16N,     007,          1,         23,         23,2,20030621,       0141,    61.6130,   -20.0000,       2060,   109.9,   9.3118,  35.3022,2,  35.3019,2,    274.3,2,   274.4,2,    3.18,2,   10.54,2,    0.35,2,    0.71,2,-999.000,9,-999.000,9,-999.000,9,  2129.5,2,  2323.7,2,   -999.0,9,  -999.00,   7.8247,2,    25.00,   1.118,2,   1.759,2,  -2.181,2, -999.00,9,  -999.0,9,  -999.0,   7.441,2,   0.060,-999.000,9,   51.30,2,   14.73,2,  109.90,-999.0000,9,-999.0000,9,-999.0000,9,-999.0000,9,-999.0000,9,-999.0000,9,   9.2996,     -999.0,9,     -999.0,9,     -999.0,9,     -999.0,9,          7,   0.003,   0.179,   0.020,     -999.0,9, -999.00,9, -999.00,9
33RO200306_01,       A16N,     007,          1,         22,         22,2,20030621,       0141,    61.6130,   -20.0000,       2060,   134.4,   9.1685,  35.2842,2,  35.2853,2,    270.7,2,   272.3,2,    5.01,2,   12.20,2,    0.02,2,    0.77,2,   3.694,2,   2.033,2,   0.295,2,  2135.9,2,  2322.1,2,   -999.0,9,  -999.00,   7.8131,2,    25.00,-999.000,9,-999.000,9,-999.000,9, -999.00,9,  -999.0,9,  -999.0,-999.000,9,-999.000,-999.000,9, -999.00,9, -999.00,9,  134.40,-999.0000,9,-999.0000,9,-999.0000,9,-999.0000,9,-999.0000,9,-999.0000,9,   9.1537,     -999.0,9,     -999.0,9,     -999.0,9,     -999.0,9,          7,-999.000,-999.000,-999.000,     -999.0,9, -999.00,9, -999.00,9
33RO200306_01,       A16N,     007,          1,         21,         21,2,20030621,       0141,    61.6130,   -20.0000,       2060,   159.5,   9.2119,  35.2995,2,  35.2996,2,    269.6,2,   268.3,2,    5.22,2,   12.30,2,    0.02,2,    0.78,2,-999.000,9,-999.000,9,-999.000,9,  2134.6,2,  2326.3,2,   -999.0,9,  -999.00,   7.8135,2,    25.00,-999.000,9,   1.768,2,  -1.748,2, -999.00,9,  -999.0,9,  -999.0,   7.436,2,   0.066,-999.000,9,   49.27,2,   15.87,2,  159.50,-999.0000,9,-999.0000,9,-999.0000,9,-999.0000,9,-999.0000,9,-999.0000,9,   9.1943,     -999.0,9,     -999.0,9,     -999.0,9,     -999.0,9,          7,   0.004,   0.189,-999.000,     -999.0,9, -999.00,9, -999.00,9
33RO200306_01,       A16N,     007,          1,         20,         20,2,20030621,       0141,    61.6130,   -20.0000,       2060,   184.9,   9.1585,  35.2919,2,  35.2914,2,    267.7,2,   268.7,2,    5.33,2,   12.43,2,    0.01,2,    0.78,2,   3.695,2,   2.024,2,   0.295,2,  2134.7,2,  2318.0,2,   -999.0,9,  -999.00,   7.8113,2,    25.00,-999.000,9,-999.000,9,-999.000,9, -999.00,9,  -999.0,9,  -999.0,-999.000,9,-999.000,-999.000,9, -999.00,9, -999.00,9,  184.90,-999.0000,9,-999.0000,9,-999.0000,9,-999.0000,9,-999.0000,9,-999.0000,9,   9.1381,     -999.0,9,     -999.0,9,     -999.0,9,     -999.0,9,          7,-999.000,-999.000,-999.000,     -999.0,9, -999.00,9, -999.00,9
33RO200306_01,       A16N,     007,          1,         19,         19,2,20030621,       0141,    61.6130,   -20.0000,       2060,   224.2,   8.9739,  35.2713,2,  35.2718,2,    264.9,2,   257.3,2,    5.50,2,   12.77,2,    0.02,2,    0.80,2,   3.653,2,   2.009,2,   0.287,2,  2137.5,2,  2317.0,2,   -999.0,9,  -999.00,   7.8029,2,    25.00,-999.000,9,-999.000,9,-999.000,9, -999.00,9,  -999.0,9,  -999.0,-999.000,9,-999.000,-999.000,9,   48.78,2,   15.94,2,  224.20,-999.0000,9,-999.0000,9,-999.0000,9,-999.0000,9,-999.0000,9,-999.0000,9,   8.9494,     -999.0,9,     -999.0,9,     -999.0,9,     -999.0,9,          7,-999.000,-999.000,-999.000,     -999.0,9, -999.00,9, -999.00,9
33RO200306_01,       A16N,     007,          1,         18,         18,2,20030621,       0141,    61.6130,   -20.0000,       2060,   274.8,   8.7382,  35.2500,2,  35.2506,2,    264.8,2,   265.6,2,    5.89,2,   13.13,2,    0.01,2,    0.83,2,   3.654,2,   2.004,2,   0.285,2,  2138.6,2,  2316.2,2,   -999.0,9,  -999.00,   7.8041,2,    25.00,-999.000,9,-999.000,9,-999.000,9, -999.00,9,  -999.0,9,  -999.0,-999.000,9,-999.000,-999.000,9,   50.32,2,   16.30,2,  274.80,-999.0000,9,-999.0000,9,-999.0000,9,-999.0000,9,-999.0000,9,-999.0000,9,   8.7086,     -999.0,9,     -999.0,9,     -999.0,9,     -999.0,9,          7,-999.000,-999.000,-999.000,     -999.0,9, -999.00,9, -999.00,9
33RO200306_01,       A16N,     007,          1,         17,         17,2,20030621,       0141,    61.6130,   -20.0000,       2060,   322.9,   8.7206,  35.2587,2,  35.2579,2,    269.1,2,   268.7,2,    5.76,2,   12.92,2,    0.01,2,    0.82,2,   3.694,2,   2.030,2,   0.291,2,  2137.0,3,  2316.0,2,   -999.0,9,  -999.00,   7.8079,2,    25.00,-999.000,9,   1.754,2,  -1.400,2, -999.00,9,  -999.0,9,  -999.0,   7.395,2,   0.065,-999.000,9,   50.24,2,   16.84,2,  322.90,-999.0000,9,-999.0000,9,-999.0000,9,-999.0000,9,-999.0000,9,-999.0000,9,   8.6858,     -999.0,9,     -999.0,9,     -999.0,9,     -999.0,9,          7,   0.004,    0.19,-999.000,     -999.0,9, -999.00,9, -999.00,9
33RO200306_01,       A16N,     007,          1,         16,         16,2,20030621,       0141,    61.6130,   -20.0000,       2060,   368.6,   8.5708,  35.2423,2,  35.2413,2,    265.9,2,   264.8,2,    6.15,2,   13.46,2,    0.01,2,    0.85,2,   3.690,2,   2.007,2,   0.287,2,  2140.2,2,  2314.5,2,   -999.0,9,  -999.00,   7.8284,2,    25.00,-999.000,9,-999.000,9,-999.000,9, -999.00,9,  -999.0,9,  -999.0,-999.000,9,-999.000,-999.000,9,   50.08,2,   16.78,2,  368.60,-999.0000,9,-999.0000,9,-999.0000,9,-999.0000,9,-999.0000,9,-999.0000,9,   8.5314,     -999.0,9,     -999.0,9,     -999.0,9,     -999.0,9,          7,-999.000,-999.000,-999.000,     -999.0,9, -999.00,9, -999.00,9
33RO200306_01,       A16N,     007,          1,         15,         15,2,20030621,       0141,    61.6130,   -20.0000,       2060,   425.4,   8.3963,  35.2297,2,  35.2311,2,    259.9,2,   266.9,2,    6.42,2,   13.73,2,    0.01,2,    0.87,2,   3.665,2,   1.997,2,   0.286,2,  2142.3,2,  2319.5,2,   -999.0,9,  -999.00,   7.7950,2,    25.00,   1.055,2,   1.774,2,  -1.046,2, -999.00,9,  -999.0,9,  -999.0,   7.601,2,   0.067,-999.000,9,   50.57,2,   17.03,2,  425.40,-999.0000,9,-999.0000,9,-999.0000,9,-999.0000,9,-999.0000,9,-999.0000,9,   8.3512,     -999.0,9,     -999.0,9,     -999.0,9,     -999.0,9,          7,   0.004,   0.189,   0.020,     -999.0,9, -999.00,9, -999.00,9
33RO200306_01,       A16N,     007,          1,         14,         14,2,20030621,       0141,    61.6130,   -20.0000,       2060,   474.7,   8.2130,  35.2110,2,  35.2112,2,    257.1,2,   262.7,2,    7.22,2,   14.67,2,    0.01,2,    0.93,2,   3.467,2,   1.878,2,   0.255,2,  2146.5,2,  2318.7,2,   -999.0,9,  -999.00,   7.7788,2,    25.00,-999.000,9,-999.000,9,-999.000,9, -999.00,9,  -999.0,9,  -999.0,-999.000,9,-999.000,-999.000,9,   50.24,2,   18.17,2,  474.70,-999.0000,9,-999.0000,9,-999.0000,9,-999.0000,9,-999.0000,9,-999.0000,9,   8.1632,     -999.0,9,     -999.0,9,     -999.0,9,     -999.0,9,          7,-999.000,-999.000,-999.000,     -999.0,9, -999.00,9, -999.00,9
33RO200306_01,       A16N,     007,          1,         13,         13,2,20030621,       0141,    61.6130,   -20.0000,       2060,   550.2,   7.8956,  35.1903,2,  35.1911,2,    246.4,2,   247.7,2,    8.06,2,   15.67,2,    0.01,2,    0.99,2,   3.299,2,   1.768,2,   0.231,2,  2154.2,2,  2317.9,2,   -999.0,9,  -999.00,   7.7585,2,    25.00,   1.014,2,   1.787,2,   0.994,2, -999.00,9,  -999.0,9,  -999.0,   7.656,2,   0.067,-999.000,9,   49.68,2,   19.65,2,  550.20,-999.0000,9,-999.0000,9,-999.0000,9,-999.0000,9,-999.0000,9,-999.0000,9,   7.8389,     -999.0,9,     -999.0,9,     -999.0,9,     -999.0,9,          7,   0.004,   0.188,   0.010,     -999.0,9, -999.00,9, -999.00,9
33RO200306_01,       A16N,     007,          1,         12,         12,2,20030621,       0141,    61.6130,   -20.0000,       2060,   650.4,   7.4555,  35.1633,2,  35.1642,2,    227.1,2,   224.2,2,    9.52,2,   17.22,2,    0.00,2,    1.08,2,   2.963,2,   1.542,2,   0.184,2,  2164.3,2,  2318.7,2,   -999.0,9,  -999.00,   7.7401,2,    25.00,-999.000,9,-999.000,9,-999.000,9, -999.00,9,  -999.0,9,  -999.0,-999.000,9,-999.000,-999.000,9,   46.83,2,   20.71,2,  650.40,-999.0000,9,-999.0000,9,-999.0000,9,-999.0000,9,-999.0000,9,-999.0000,9,   7.3902,     -999.0,9,     -999.0,9,     -999.0,9,     -999.0,9,          7,-999.000,-999.000,-999.000,     -999.0,9, -999.00,9, -999.00,9
33RO200306_01,       A16N,     007,          1,         11,         11,2,20030621,       0141,    61.6130,   -20.0000,       2060,   749.5,   6.8802,  35.1408,2,  35.1414,2,    214.4,2,   212.5,2,   10.89,2,   18.38,2,    0.00,2,    1.16,2,-999.000,9,-999.000,9,-999.000,9,  2172.4,2,  2317.9,2,   -999.0,9,  -999.00,   7.7240,2,    25.00,   0.908,2,   1.775,2,   5.838,2, -999.00,9,  -999.0,9,  -999.0,   7.594,2,   0.066,-999.000,9,   46.83,2,   22.07,2,  749.50,-999.0000,9,-999.0000,9,-999.0000,9,-999.0000,9,-999.0000,9,-999.0000,9,   6.8077,     -999.0,9,     -999.0,9,     -999.0,9,     -999.0,9,          7,   0.004,   0.187,   0.010,     -999.0,9, -999.00,9, -999.00,9
33RO200306_01,       A16N,     007,          1,         10,         10,2,20030621,       0141,    61.6130,   -20.0000,       2060,   850.4,   6.1186,  35.0946,2,  35.0920,2,    220.1,2,   220.9,2,   11.28,2,   18.52,2,    0.00,2,    1.17,2,   2.587,2,   1.302,2,   0.143,2,  2172.3,2,  2314.5,2,   -999.0,9,  -999.00,   7.7135,2,    25.00,-999.000,9,-999.000,9,-999.000,9, -999.00,9,  -999.0,9,  -999.0,-999.000,9,-999.000,-999.000,9,   47.24,2,   23.51,2,  850.40,-999.0000,9,-999.0000,9,-999.0000,9,-999.0000,9,-999.0000,9,-999.0000,9,   6.0407,     -999.0,9,     -999.0,9,     -999.0,9,     -999.0,9,          7,-999.000,-999.000,-999.000,     -999.0,9, -999.00,9, -999.00,9
33RO200306_01,       A16N,     007,          1,          9,          9,2,20030621,       0141,    61.6130,   -20.0000,       2060,   950.2,   5.4375,  35.0474,2,  35.0456,2,    230.6,2,   232.6,2,   11.45,2,   18.43,2,    0.00,2,    1.16,2,   2.684,2,   1.345,2,   0.150,2,  2171.9,2,  2311.9,2,   -999.0,9,  -999.00,   7.7075,2,    25.00,   0.934,2,   1.795,2,   6.184,2, -999.00,9,  -999.0,9,  -999.0,   7.928,2,   0.063,-999.000,9,   46.18,2,   21.81,2,  950.20,-999.0000,9,-999.0000,9,-999.0000,9,-999.0000,9,-999.0000,9,-999.0000,9,   5.3547,     -999.0,9,     -999.0,9,     -999.0,9,     -999.0,9,          7,   0.003,   0.175,   0.010,     -999.0,9, -999.00,9, -999.00,9
33RO200306_01,       A16N,     007,          1,          8,          8,2,20030621,       0141,    61.6130,   -20.0000,       2060,  1049.6,   4.7332,  34.9855,2,  34.9867,2,    244.3,2,   243.6,2,   11.32,2,   18.20,2,    0.00,2,    1.15,2,-999.000,9,-999.000,9,-999.000,9,  2167.3,2,  2307.9,2,   -999.0,9,  -999.00,   7.7111,2,    25.00,-999.000,9,-999.000,9,-999.000,9, -999.00,9,  -999.0,9,  -999.0,-999.000,9,-999.000,-999.000,9,   46.18,2,   21.82,2, 1049.60,-999.0000,9,-999.0000,9,-999.0000,9,-999.0000,9,-999.0000,9,-999.0000,9,   4.6467,     -999.0,9,     -999.0,9,     -999.0,9,     -999.0,9,          7,-999.000,-999.000,-999.000,     -999.0,9, -999.00,9, -999.00,9
33RO200306_01,       A16N,     007,          1,          7,          7,2,20030621,       0141,    61.6130,   -20.0000,       2060,  1149.6,   4.3226,  34.9537,2,  34.9564,2,    254.9,2,   254.1,2,   11.20,2,   17.80,2,    0.00,2,    1.13,2,   3.052,2,   1.493,2,   0.187,2,  2164.0,2,  2300.8,2,   -999.0,9,  -999.00,   7.7124,2,    25.00,   0.956,2,   1.789,2,   6.326,2, -999.00,9,  -999.0,9,  -999.0,   7.821,2,   0.068,-999.000,9,   46.83,2,   21.33,2, 1149.60,-999.0000,9,-999.0000,9,-999.0000,9,-999.0000,9,-999.0000,9,-999.0000,9,   4.2306,     -999.0,9,     -999.0,9,     -999.0,9,     -999.0,9,          7,   0.004,   0.187,   0.020,     -999.0,9, -999.00,9, -999.00,9
33RO200306_01,       A16N,     007,          1,          6,          6,2,20030621,       0141,    61.6130,   -20.0000,       2060,  1250.4,   4.0556,  34.9396,2,  34.9399,2,    260.6,2,   258.8,2,   11.31,2,   17.63,2,    0.00,2,    1.12,2,-999.000,9,-999.000,9,-999.000,9,  2162.7,2,  2299.8,2,   -999.0,9,  -999.00,   7.7102,2,    25.00,-999.000,9,-999.000,9,-999.000,9, -999.00,9,  -999.0,9,  -999.0,-999.000,9,-999.000,-999.000,9,   46.34,2,   21.23,2, 1250.40,-999.0000,9,-999.0000,9,-999.0000,9,-999.0000,9,-999.0000,9,-999.0000,9,   3.9572,     -999.0,9,     -999.0,9,     -999.0,9,     -999.0,9,          7,-999.000,-999.000,-999.000,     -999.0,9, -999.00,9, -999.00,9
33RO200306_01,       A16N,     007,          1,          5,          5,2,20030621,       0141,    61.6130,   -20.0000,       2060,  1349.8,   3.8295,  34.9249,2,  34.9243,2,    265.8,2,   264.2,2,   11.36,2,   17.49,2,    0.00,2,    1.11,2,   2.961,2,   1.423,2,   0.177,2,  2160.9,2,  2299.1,2,   -999.0,9,  -999.00,   7.7163,2,    25.00,   0.950,2,-999.000,9,-999.000,9, -999.00,9,  -999.0,9,  -999.0,-999.000,9,-999.000,-999.000,9,   45.69,2,   20.49,2, 1349.80,-999.0000,9,-999.0000,9,-999.0000,9,-999.0000,9,-999.0000,9,-999.0000,9,   3.7247,     -999.0,9,     -999.0,9,     -999.0,9,     -999.0,9,          7,-999.000,-999.000,   0.020,     -999.0,9, -999.00,9, -999.00,9
33RO200306_01,       A16N,     007,          1,          4,          4,2,20030621,       0141,    61.6130,   -20.0000,       2060,  1599.3,   3.4734,  34.9130,2,  34.9135,2,    274.5,2,   275.7,2,   11.23,2,   16.87,2,    0.00,2,    1.08,2,   2.980,2,   1.435,2,   0.178,2,  2155.6,2,  2298.3,2,   -999.0,9,  -999.00,   7.7227,2,    25.00,-999.000,9,-999.000,9,-999.000,9, -999.00,9,  -999.0,9,  -999.0,-999.000,9,-999.000,-999.000,9,   46.18,2,   20.61,2, 1599.30,-999.0000,9,-999.0000,9,-999.0000,9,-999.0000,9,-999.0000,9,-999.0000,9,   3.3506,     -999.0,9,     -999.0,9,     -999.0,9,     -999.0,9,          7,-999.000,-999.000,-999.000,     -999.0,9, -999.00,9, -999.00,9
33RO200306_01,       A16N,     007,          1,          3,          3,2,20030621,       0141,    61.6130,   -20.0000,       2060,  1801.3,   3.2182,  34.9268,2,  34.9292,2,    275.4,2,   275.2,2,   12.22,2,   16.56,2,    0.00,2,    1.07,2,   2.598,2,   1.255,2,   0.146,2,  2157.5,2,  2300.3,2,   -999.0,9,  -999.00,   7.7269,2,    25.00,   0.876,2,   1.813,2,   6.597,2, -999.00,9,  -999.0,9,  -999.0,   7.954,2,   0.069,-999.000,9,   46.51,2,   20.38,2, 1801.30,-999.0000,9,-999.0000,9,-999.0000,9,-999.0000,9,-999.0000,9,-999.0000,9,   3.0806,     -999.0,9,     -999.0,9,     -999.0,9,     -999.0,9,          7,   0.004,   0.186,   0.010,     -999.0,9, -999.00,9, -999.00,9