BOTTLE,20230908CCHSIOCBG
EXPOCODE,SECT_ID,STNNBR,CASTNO,SAMPNO,BTLNBR,BTLNBR_FLAG_W,DATE,TIME,LATITUDE,LONGITUDE,DEPTH,CTDPRS,CTDTMP,CTDSAL,CTDSAL_FLAG_W,SALNTY,SALNTY_FLAG_W,CTDOXY,CTDOXY_FLAG_W,OXYGEN,OXYGEN_FLAG_W,SILCAT,SILCAT_FLAG_W,NITRAT,NITRAT_FLAG_W,NITRIT,NITRIT_FLAG_W,PHSPHT,PHSPHT_FLAG_W,CFC-11,CFC-11_FLAG_W,CFC-12,CFC-12_FLAG_W,CFC113,CFC113_FLAG_W,TCARBN,TCARBN_FLAG_W,ALKALI,ALKALI_FLAG_W,FCO2,FCO2_FLAG_W,FCO2TMP,PH_SWS,PH_SWS_FLAG_W,PH_TMP,TRITUM,TRITUM_FLAG_W,HELIUM,HELIUM_FLAG_W,DELHE3,DELHE3_FLAG_W,DELC13,DELC13_FLAG_W,DELC14,DELC14_FLAG_W,C14ERR,NEON,NEON_FLAG_W,NEONER,POC,POC_FLAG_W,DOC,DOC_FLAG_W,TDN,TDN_FLAG_W,CTDRAW,CDOM325,CDOM325_FLAG_W,CDOM340,CDOM340_FLAG_W,CDOM380,CDOM380_FLAG_W,CDOM412,CDOM412_FLAG_W,CDOMSL,CDOMSL_FLAG_W,CDOMSN,CDOMSN_FLAG_W,THETA,PON,PON_FLAG_W,HCFC-22,HCFC-22_FLAG_W,HCFC-142b,HCFC-142b_FLAG_W,HCFC-141b,HCFC-141b_FLAG_W,STNNBR_U,HELIER,DELHER,TRITER,CH3CL,CH3CL_FLAG_W,CH3BR,CH3BR_FLAG_W,CH3I,CH3I_FLAG_W
,,,,,,,,,,,METERS,DBAR,ITS-90,PSS-78,,PSS-78,,UMOL/KG,,UMOL/KG,,UMOL/KG,,UMOL/KG,,UMOL/KG,,UMOL/KG,,PMOL/KG,,PMOL/KG,,PMOL/KG,,UMOL/KG,,UMOL/KG,,UATM,,DEG C,,,DEG C,TU,,NMOL/KG,,PERCNT,,/MILLE,,/MILLE,,/MILLE,NMOL/KG,,NMOL/KG,UG/KG,,UMOL/KG,,UMOL/KG,,DBAR,1/M,,1/M,,1/M,,1/M,,1/NM,,1/NM,,DEG C,UMOL/L,,PMOL/KG,,PMOL/KG,,PMOL/KG,,,NMOL/KG,PERCNT,TU,PMOL/KG,,PMOL/KG,,PMOL/KG,
33RO200306_02,       A16N,     118,          2,         35,         35,9,20030731,       1610,     7.0007,   -26.9990,       4365,     3.1,  27.8480,  35.2924,2,-999.0000,9,    189.4,2,  -999.0,9, -999.00,9, -999.00,9, -999.00,9, -999.00,9,-999.000,9,-999.000,9,-999.000,9,  -999.0,9,  -999.0,9,    252.6,6,    20.00,-999.0000,9,  -999.00,-999.000,9,-999.000,9,-999.000,9, -999.00,9,  -999.0,9,  -999.0,-999.000,9,-999.000,-999.000,9, -999.00,9, -999.00,9,    3.10,-999.0000,9,-999.0000,9,-999.0000,9,-999.0000,9,-999.0000,9,-999.0000,9,  27.8473,     -999.0,9,     -999.0,9,     -999.0,9,     -999.0,9,        118,-999.000,-999.000,-999.000,     -999.0,9, -999.00,9, -999.00,9
33RO200306_02,       A16N,     118,          2,         33,         33,2,20030731,       1610,     7.0007,   -26.9990,       4365,     3.2,  27.8522,  35.2922,2,-999.0000,1,    189.4,2,   202.2,2,    0.82,2,    0.00,2,    0.00,2,    0.04,2,   1.671,2,   1.070,2,   0.143,2,  1954.8,6,  -999.0,9,    252.0,6,    20.00,-999.0000,9,  -999.00,-999.000,9,-999.000,9,-999.000,9, -999.00,9,  -999.0,9,  -999.0,-999.000,9,-999.000,-999.000,9,   72.44,2,    6.83,2,    3.20,-999.0000,9,-999.0000,9,-999.0000,9,-999.0000,9,-999.0000,9,-999.0000,9,  27.8514,     -999.0,9,       3.60,2,       0.14,2,       0.22,2,        118,-999.000,-999.000,-999.000,     276.51,2,    3.43,2,    1.08,2
33RO200306_02,       A16N,     118,          2,         32,         32,2,20030731,       1610,     7.0007,   -26.9990,       4365,    18.9,  27.7495,  35.2874,2,  35.3006,2,    191.2,2,   202.1,2,    0.84,2,    0.24,2,    0.00,2,    0.04,2,   1.676,2,   1.073,2,   0.147,2,  1955.1,2,  2309.5,2,    251.6,2,    20.00,   8.1247,2,    25.00,-999.000,9,   1.739,2,  -2.396,2, -999.00,9,  -999.0,9,  -999.0,   6.712,2,   0.052,-999.000,9, -999.00,9, -999.00,9,   18.90,-999.0000,9,-999.0000,9,-999.0000,9,-999.0000,9,-999.0000,9,-999.0000,9,  27.7451,     -999.0,9,       3.42,2,       0.24,2,       0.23,2,        118,   0.005,   0.252,-999.000,     315.55,2,    5.79,2,    0.02,2
33RO200306_02,       A16N,     118,          2,         31,         31,2,20030731,       1610,     7.0007,   -26.9990,       4365,    39.1,  27.8262,  35.7657,2,  35.7713,2,    197.0,2,   209.3,2,    0.91,2,    0.24,2,    0.00,2,    0.05,2,   1.682,6,   1.085,6,   0.145,6,  1981.8,2,  2341.2,2,    256.8,2,    20.00,   8.1395,2,    25.00,-999.000,9,-999.000,9,-999.000,9, -999.00,9,  -999.0,9,  -999.0,-999.000,9,-999.000,-999.000,9,   70.73,2,    7.47,2,   39.10,-999.0000,9,-999.0000,9,-999.0000,9,-999.0000,9,-999.0000,9,-999.0000,9,  27.8170,     -999.0,9,       3.43,2,       0.16,2,       0.36,2,        118,-999.000,-999.000,-999.000,      71.69,2,    0.12,2,    4.01,2
33RO200306_02,       A16N,     118,          2,         30,         30,2,20030731,       1610,     7.0007,   -26.9990,       4365,    59.2,  26.2808,  36.2369,2,  36.2019,2,    202.7,2,   200.6,2,    1.40,2,    0.60,2,    0.05,2,    0.10,2,   1.753,2,   1.112,2,   0.132,2,  2039.7,2,  2369.4,2,    301.9,2,    20.00,   8.0706,2,    25.00,-999.000,9,   1.768,3,  -2.079,2, -999.00,9,  -999.0,9,  -999.0,   6.917,2,   0.055,-999.000,9,   72.68,2,    8.02,2,   59.20,-999.0000,9,-999.0000,9,-999.0000,9,-999.0000,9,-999.0000,9,-999.0000,9,  26.2674,     -999.0,9,     -999.0,9,     -999.0,9,     -999.0,9,        118,   0.005,   0.251,-999.000,     -999.0,9, -999.00,9, -999.00,9
33RO200306_02,       A16N,     118,          2,         29,         29,2,20030731,       1610,     7.0007,   -26.9990,       4365,    78.8,  21.9570,  35.9864,2,  35.9172,2,    167.7,2,   153.9,2,    3.54,2,    6.59,2,    0.35,2,    0.54,2,   1.841,2,   1.094,2,   0.086,2,  2114.3,2,  2353.5,2,    461.2,2,    20.00,   7.9151,2,    25.00,   0.508,2,-999.000,9,-999.000,9, -999.00,9,  -999.0,9,  -999.0,-999.000,9,-999.000,-999.000,9, -999.00,9, -999.00,9,   78.80,-999.0000,9,-999.0000,9,-999.0000,9,-999.0000,9,-999.0000,9,-999.0000,9,  21.9414,     -999.0,9,       3.37,2,       0.23,2,       0.79,2,        118,-999.000,-999.000,   0.020,       52.3,2,    1.71,2,    4.89,2
33RO200306_02,       A16N,     118,          2,         28,         28,2,20030731,       1610,     7.0007,   -26.9990,       4365,    99.2,  16.7446,  35.6862,2,  35.6426,2,    125.0,2,   125.5,2,    5.93,2,   16.88,2,    0.07,2,    1.13,2,   1.932,2,   1.101,2,   0.047,2,  2161.7,2,  2340.2,2,    646.8,2,    20.00,   7.7875,2,    25.00,-999.000,9,   1.830,3,  -0.299,2, -999.00,9,  -999.0,9,  -999.0,   7.426,2,   0.047,-999.000,9,   55.85,2,   20.84,2,   99.20,-999.0000,9,-999.0000,9,-999.0000,9,-999.0000,9,-999.0000,9,-999.0000,9,  16.7284,     -999.0,9,     -999.0,9,     -999.0,9,     -999.0,9,        118,   0.003,   0.193,-999.000,     -999.0,9, -999.00,9, -999.00,9
33RO200306_02,       A16N,     118,          2,         27,         27,2,20030731,       1610,     7.0007,   -26.9990,       4365,   123.6,  14.2359,  35.4354,2,  35.4324,2,     97.4,2,    98.9,2,    7.39,2,   22.08,2,    0.01,2,    1.44,2,   1.820,2,   1.001,2,   0.022,2,  2188.8,2,  2327.0,2,   -999.0,9,  -999.00,   7.6949,2,    25.00,-999.000,9,-999.000,9,-999.000,9, -999.00,9,  -999.0,9,  -999.0,-999.000,9,-999.000,-999.000,9, -999.00,9, -999.00,9,  123.60,-999.0000,9,-999.0000,9,-999.0000,9,-999.0000,9,-999.0000,9,-999.0000,9,  14.2178,     -999.0,9,       0.00,2,       0.00,2,       0.00,2,        118,-999.000,-999.000,-999.000,        0.0,2,     0.0,2,     0.0,2
33RO200306_02,       A16N,     118,          2,         26,         26,2,20030731,       1610,     7.0007,   -26.9990,       4365,   147.9,  13.6039,  35.3584,2,  35.3556,2,     87.6,2,    87.5,2,    8.30,2,   24.17,2,    0.01,2,    1.57,2,   1.644,2,   0.896,2,   0.014,2,  2197.8,2,  2322.1,2,    895.0,2,    20.00,   7.6602,2,    25.00,-999.000,9,   1.789,2,   0.756,2, -999.00,9,  -999.0,9,  -999.0,   7.323,2,   0.058,-999.000,9,   49.92,2,   27.29,2,  147.90,-999.0000,9,-999.0000,9,-999.0000,9,-999.0000,9,-999.0000,9,-999.0000,9,  13.5829,     -999.0,9,     -999.0,9,     -999.0,9,     -999.0,9,        118,   0.005,   0.198,-999.000,     -999.0,9, -999.00,9, -999.00,9
33RO200306_02,       A16N,     118,          2,         25,         25,2,20030731,       1610,     7.0007,   -26.9990,       4365,   173.0,  13.3403,  35.3298,2,  35.3256,2,     76.5,2,    78.4,2,    8.87,2,   25.59,2,    0.01,2,    1.64,2,   1.516,2,   0.825,2,   0.011,2,  2206.2,2,  2320.3,2,   -999.0,9,  -999.00,   7.6441,2,    25.00,   0.363,2,-999.000,9,-999.000,9, -999.00,9,  -999.0,9,  -999.0,-999.000,9,-999.000,-999.000,9, -999.00,9, -999.00,9,  173.00,-999.0000,9,-999.0000,9,-999.0000,9,-999.0000,9,-999.0000,9,-999.0000,9,  13.3160,     -999.0,9,       1.34,2,       0.08,2,       0.17,2,        118,-999.000,-999.000,   0.020,     139.08,2,    2.66,2,     0.0,2
33RO200306_02,       A16N,     118,          2,         24,         24,2,20030731,       1610,     7.0007,   -26.9990,       4365,   199.6,  12.8687,  35.2721,2,  35.2694,2,    102.5,2,   102.2,2,    8.73,2,   23.64,2,    0.01,2,    1.54,2,   1.659,2,   0.905,2,   0.014,2,  2191.1,2,  2319.1,2,    873.7,6,    20.00,   7.6242,2,    25.00,-999.000,9,-999.000,9,-999.000,9, -999.00,9,  -999.0,9,  -999.0,-999.000,9,-999.000,-999.000,9,   50.08,2,   27.29,2,  199.60,-999.0000,9,-999.0000,9,-999.0000,9,-999.0000,9,-999.0000,9,-999.0000,9,  12.8414,     -999.0,9,     -999.0,9,     -999.0,9,     -999.0,9,        118,-999.000,-999.000,-999.000,     -999.0,9, -999.00,9, -999.00,9
33RO200306_02,       A16N,     118,          2,         23,         23,2,20030731,       1610,     7.0007,   -26.9990,       4365,   249.3,  12.1389,  35.2040,2,  35.1911,2,     75.9,2,    75.6,2,   10.73,2,   27.97,2,    0.00,2,    1.76,2,   1.249,2,   0.671,2,   0.009,2,  2215.0,2,  2313.8,2,   -999.0,9,  -999.00,   7.6002,2,    25.00,-999.000,9,-999.000,9,-999.000,9, -999.00,9,  -999.0,9,  -999.0,-999.000,9,-999.000,-999.000,9,   48.70,2,   31.71,2,  249.30,-999.0000,9,-999.0000,9,-999.0000,9,-999.0000,9,-999.0000,9,-999.0000,9,  12.1060,     -999.0,9,       1.14,2,       0.09,2,       0.11,2,        118,-999.000,-999.000,-999.000,       2.97,2,    0.93,2,    0.21,2
33RO200306_02,       A16N,     118,          2,         22,         22,2,20030731,       1610,     7.0007,   -26.9990,       4365,   299.6,  11.1359,  35.1202,2,  35.1207,2,     64.4,2,    61.9,2,   12.45,2,   31.01,2,    0.00,2,    1.92,2,   0.905,2,   0.495,2,   0.007,2,  2227.5,2,  2310.8,2,   1192.3,2,    20.00,   7.5588,2,    25.00,-999.000,9,   1.775,2,   1.697,2, -999.00,9,  -999.0,9,  -999.0,   7.327,2,   0.059,-999.000,9,   47.40,2,   35.46,2,  299.60,-999.0000,9,-999.0000,9,-999.0000,9,-999.0000,9,-999.0000,9,-999.0000,9,  11.0984,     -999.0,9,     -999.0,9,     -999.0,9,     -999.0,9,        118,   0.005,    0.25,-999.000,     -999.0,9, -999.00,9, -999.00,9
33RO200306_02,       A16N,     118,          2,         21,         21,2,20030731,       1610,     7.0007,   -26.9990,       4365,   349.7,  10.3713,  35.0661,2,  35.0626,2,     51.9,2,    48.6,2,   14.36,2,   34.11,2,    0.00,2,    2.07,2,   0.599,2,   0.326,2,   0.004,2,  2241.3,2,  2305.4,2,   -999.0,9,  -999.00,   7.5065,2,    25.00,   0.269,2,-999.000,9,-999.000,9, -999.00,9,  -999.0,9,  -999.0,-999.000,9,-999.000,-999.000,9,   45.78,2,   38.20,2,  349.70,-999.0000,9,-999.0000,9,-999.0000,9,-999.0000,9,-999.0000,9,-999.0000,9,  10.3294,     -999.0,9,     -999.0,9,     -999.0,9,     -999.0,9,        118,-999.000,-999.000,   0.010,     -999.0,9, -999.00,9, -999.00,9
33RO200306_02,       A16N,     118,          2,         20,         20,2,20030731,       1610,     7.0007,   -26.9990,       4365,   399.5,   9.5610,  34.9896,2,  34.9814,2,     48.9,2,    48.9,2,   16.21,2,   35.69,2,    0.00,2,    2.18,2,   0.377,2,   0.213,2,   0.004,2,  2246.6,2,  2302.0,2,   1414.4,2,    20.00,   7.4856,2,    25.00,-999.000,9,   1.834,3,   2.314,2, -999.00,9,  -999.0,9,  -999.0,   7.665,2,   0.059,-999.000,9,   45.69,2,   40.44,2,  399.50,-999.0000,9,-999.0000,9,-999.0000,9,-999.0000,9,-999.0000,9,-999.0000,9,   9.5154,     -999.0,9,       0.12,2,       0.00,2,       0.10,2,        118,   0.005,   0.249,-999.000,        0.0,2,    0.36,2,     0.0,2
33RO200306_02,       A16N,     118,          2,         19,         19,2,20030731,       1610,     7.0007,   -26.9990,       4365,   449.4,   8.6012,  34.8825,2,  34.8824,2,     58.1,2,    60.9,2,   18.11,2,   36.26,2,    0.00,2,    2.25,2,   0.263,2,   0.147,2,   0.004,2,  2242.0,2,  2300.3,2,   -999.0,9,  -999.00,   7.4898,2,    25.00,-999.000,9,-999.000,9,-999.000,9, -999.00,9,  -999.0,9,  -999.0,-999.000,9,-999.000,-999.000,9,   45.04,2,   41.26,2,  449.40,-999.0000,9,-999.0000,9,-999.0000,9,-999.0000,9,-999.0000,9,-999.0000,9,   8.5530,     -999.0,9,     -999.0,9,     -999.0,9,     -999.0,9,        118,-999.000,-999.000,-999.000,     -999.0,9, -999.00,9, -999.00,9
33RO200306_02,       A16N,     118,          2,         18,         18,2,20030731,       1610,     7.0007,   -26.9990,       4365,   499.3,   7.7798,  34.7867,2,  34.7815,2,     75.2,2,    81.3,2,   19.93,2,   35.84,2,    0.00,2,    2.27,2,   0.203,2,   0.120,2,   0.003,2,  2234.3,2,  2298.0,2,   1348.4,2,    20.00,   7.5064,2,    25.00,-999.000,9,-999.000,9,-999.000,9, -999.00,9,  -999.0,9,  -999.0,-999.000,9,-999.000,-999.000,9,   44.22,2,   39.27,2,  499.30,-999.0000,9,-999.0000,9,-999.0000,9,-999.0000,9,-999.0000,9,-999.0000,9,   7.7293,     -999.0,9,     -999.0,9,     -999.0,9,     -999.0,9,        118,-999.000,-999.000,-999.000,     -999.0,9, -999.00,9, -999.00,9
33RO200306_02,       A16N,     118,          2,         17,         17,2,20030731,       1610,     7.0007,   -26.9990,       4365,   599.8,   6.8549,  34.6931,2,  34.6912,2,     92.5,2,    93.3,2,   22.54,2,   36.38,2,    0.00,2,    2.34,2,   0.129,2,   0.076,2,   0.002,2,  2231.1,2,  2297.0,6,   1356.6,2,    20.00,   7.5058,6,    25.00,   0.170,2,   1.791,2,   1.088,2, -999.00,9,  -999.0,9,  -999.0,   7.627,2,   0.059,-999.000,9,   44.47,2,   40.20,2,  599.80,-999.0000,9,-999.0000,9,-999.0000,9,-999.0000,9,-999.0000,9,-999.0000,9,   6.7980,     -999.0,9,       0.00,2,       0.00,2,       0.06,2,        118,   0.005,    0.25,   0.030,        0.0,2,    0.55,2,     0.0,2
33RO200306_02,       A16N,     118,          2,         16,         16,2,20030731,       1610,     7.0007,   -26.9990,       4365,   699.4,   6.1944,  34.6655,2,  34.6601,2,     94.8,2,    98.4,2,   25.31,2,   37.06,2,    0.00,2,    2.41,2,   0.050,2,   0.031,2,   0.002,2,  2237.7,2,  2298.6,2,   1369.7,2,    20.00,   7.5060,2,    25.00,-999.000,9,-999.000,9,-999.000,9, -999.00,9,  -999.0,9,  -999.0,-999.000,9,-999.000,-999.000,9,   44.39,2,   40.54,2,  699.40,-999.0000,9,-999.0000,9,-999.0000,9,-999.0000,9,-999.0000,9,-999.0000,9,   6.1311,     -999.0,9,     -999.0,9,     -999.0,9,     -999.0,9,        118,-999.000,-999.000,-999.000,     -999.0,9, -999.00,9, -999.00,9
33RO200306_02,       A16N,     118,          2,         15,         15,2,20030731,       1610,     7.0007,   -26.9990,       4365,   800.0,   5.5783,  34.6298,2,  34.6293,2,    116.0,2,   114.5,2,   27.47,2,   36.26,2,    0.00,2,    2.40,2,   0.035,2,   0.022,2,   0.002,2,  2232.8,2,  2301.3,2,   1311.2,2,    20.00,   7.5124,2,    25.00,-999.000,9,-999.000,9,-999.000,9, -999.00,9,  -999.0,9,  -999.0,-999.000,9,-999.000,-999.000,9,   43.25,2,   39.69,2,  800.00,-999.0000,9,-999.0000,9,-999.0000,9,-999.0000,9,-999.0000,9,-999.0000,9,   5.5091,     -999.0,9,     -999.0,9,     -999.0,9,     -999.0,9,        118,-999.000,-999.000,-999.000,     -999.0,9, -999.00,9, -999.00,9
33RO200306_02,       A16N,     118,          2,         14,         14,2,20030731,       1610,     7.0007,   -26.9990,       4365,   899.2,   5.1586,  34.6295,2,  34.6310,2,    128.8,2,   128.2,2,   28.83,2,   35.26,2,    0.00,2,    2.36,2,   0.022,2,   0.013,2,   0.002,2,  2227.5,2,  2302.1,2,   1251.8,2,    20.00,   7.5415,2,    25.00,-999.000,9,-999.000,9,-999.000,9, -999.00,9,  -999.0,9,  -999.0,-999.000,9,-999.000,-999.000,9,   42.20,2,   38.60,2,  899.20,-999.0000,9,-999.0000,9,-999.0000,9,-999.0000,9,-999.0000,9,-999.0000,9,   5.0831,     -999.0,9,       0.00,2,       0.00,2,       0.16,2,        118,-999.000,-999.000,-999.000,      48.64,2,     1.3,2,     0.0,2
33RO200306_02,       A16N,     118,          2,         13,         13,2,20030731,       1610,     7.0007,   -26.9990,       4365,   999.6,   4.9575,  34.6702,2,  34.6716,2,    143.9,2,   140.2,2,   28.84,2,   33.81,2,    0.00,2,    2.27,2,   0.020,6,   0.011,6,   0.001,6,  2224.7,6,  2304.8,2,   1189.4,2,    20.00,   7.5592,2,    25.00,-999.000,9,-999.000,9,-999.000,9, -999.00,9,  -999.0,9,  -999.0,-999.000,9,-999.000,-999.000,9,   41.87,2,   37.18,2,  999.60,-999.0000,9,-999.0000,9,-999.0000,9,-999.0000,9,-999.0000,9,-999.0000,9,   4.8743,     -999.0,9,     -999.0,9,     -999.0,9,     -999.0,9,        118,-999.000,-999.000,-999.000,     -999.0,9, -999.00,9, -999.00,9
33RO200306_02,       A16N,     118,          2,         12,         12,2,20030731,       1610,     7.0007,   -26.9990,       4365,  1098.9,   4.8333,  34.7330,2,  34.7334,2,    150.4,2,   147.0,2,   28.02,2,   32.54,2,    0.00,2,    2.19,2,   0.006,2,   0.006,2,   0.000,2,  2222.5,2,  2307.3,2,   -999.0,9,  -999.00,   7.5791,2,    25.00,-999.000,9,-999.000,9,-999.000,9, -999.00,9,  -999.0,9,  -999.0,-999.000,9,-999.000,-999.000,9,   41.79,2,   35.51,2, 1098.90,-999.0000,9,-999.0000,9,-999.0000,9,-999.0000,9,-999.0000,9,-999.0000,9,   4.7419,     -999.0,9,     -999.0,9,     -999.0,9,     -999.0,9,        118,-999.000,-999.000,-999.000,     -999.0,9, -999.00,9, -999.00,9
33RO200306_02,       A16N,     118,          2,         11,         11,2,20030731,       1610,     7.0007,   -26.9990,       4365,  1199.5,   4.7585,  34.7998,2,  34.8004,2,    168.2,2,   162.4,2,   26.13,2,   30.14,2,    0.00,2,    2.04,2,   0.009,2,   0.010,2,   0.002,2,  2211.0,2,  2309.9,2,   1053.1,6,    20.00,   7.6002,2,    25.00,   0.039,2,   1.857,2,   0.926,2, -999.00,9,  -999.0,9,  -999.0,   7.962,2,   0.054,-999.000,9,   42.03,2,   33.39,2, 1199.50,-999.0000,9,-999.0000,9,-999.0000,9,-999.0000,9,-999.0000,9,-999.0000,9,   4.6585,     -999.0,9,     -999.0,9,     -999.0,9,     -999.0,9,        118,   0.003,   0.219,   0.010,     -999.0,9, -999.00,9, -999.00,9
33RO200306_02,       A16N,     118,          2,         10,         10,2,20030731,       1610,     7.0007,   -26.9990,       4365,  1399.6,   4.5868,  34.9277,2,  34.9278,2,    197.5,2,   198.8,2,   21.30,2,   25.25,2,    0.00,2,    1.69,2,   0.063,2,   0.034,2,   0.000,2,  2189.8,2,  2315.1,2,   -999.0,9,  -999.00,   7.6744,2,    25.00,-999.000,9,-999.000,9,-999.000,9, -999.00,9,  -999.0,9,  -999.0,-999.000,9,-999.000,-999.000,9,   41.87,2,   28.09,2, 1399.60,-999.0000,9,-999.0000,9,-999.0000,9,-999.0000,9,-999.0000,9,-999.0000,9,   4.4696,     -999.0,9,       0.00,2,       0.00,2,       0.11,2,        118,-999.000,-999.000,-999.000,        0.0,2,     0.0,2,    0.06,2
33RO200306_02,       A16N,     118,          2,          9,          9,2,20030731,       1610,     7.0007,   -26.9990,       4365,  1598.7,   4.1481,  34.9709,2,  34.9717,2,    229.1,2,   235.8,2,   18.79,2,   21.81,2,    0.00,2,    1.46,2,   0.075,2,   0.046,2,   0.003,2,  2173.8,2,  2314.7,2,    799.0,2,    20.00,   7.7080,2,    25.00,-999.000,9,   1.855,2,   1.594,2, -999.00,9,  -999.0,9,  -999.0,   7.890,2,   0.061,-999.000,9,   42.44,2,   26.96,2, 1598.70,-999.0000,9,-999.0000,9,-999.0000,9,-999.0000,9,-999.0000,9,-999.0000,9,   4.0171,     -999.0,9,     -999.0,9,     -999.0,9,     -999.0,9,        118,   0.005,   0.249,-999.000,     -999.0,9, -999.00,9, -999.00,9
33RO200306_02,       A16N,     118,          2,          8,          8,2,20030731,       1610,     7.0007,   -26.9990,       4365,  1799.6,   3.7623,  34.9654,2,  34.9655,2,    238.3,2,   238.1,2,   20.55,2,   21.28,2,    0.00,2,    1.43,2,   0.026,2,   0.018,2,   0.001,2,  2170.0,2,  2315.3,2,   -999.0,9,  -999.00,   7.7324,2,    25.00,-999.000,9,-999.000,9,-999.000,9, -999.00,9,  -999.0,9,  -999.0,-999.000,9,-999.000,-999.000,9,   42.03,2,   24.82,2, 1799.60,-999.0000,9,-999.0000,9,-999.0000,9,-999.0000,9,-999.0000,9,-999.0000,9,   3.6174,     -999.0,9,     -999.0,9,     -999.0,9,     -999.0,9,        118,-999.000,-999.000,-999.000,     -999.0,9, -999.00,9, -999.00,9