BOTTLE,20230908CCHSIOCBG
EXPOCODE,SECT_ID,STNNBR,CASTNO,SAMPNO,BTLNBR,BTLNBR_FLAG_W,DATE,TIME,LATITUDE,LONGITUDE,DEPTH,CTDPRS,CTDTMP,CTDSAL,CTDSAL_FLAG_W,SALNTY,SALNTY_FLAG_W,CTDOXY,CTDOXY_FLAG_W,OXYGEN,OXYGEN_FLAG_W,SILCAT,SILCAT_FLAG_W,NITRAT,NITRAT_FLAG_W,NITRIT,NITRIT_FLAG_W,PHSPHT,PHSPHT_FLAG_W,CFC-11,CFC-11_FLAG_W,CFC-12,CFC-12_FLAG_W,CFC113,CFC113_FLAG_W,TCARBN,TCARBN_FLAG_W,ALKALI,ALKALI_FLAG_W,FCO2,FCO2_FLAG_W,FCO2TMP,PH_SWS,PH_SWS_FLAG_W,PH_TMP,TRITUM,TRITUM_FLAG_W,HELIUM,HELIUM_FLAG_W,DELHE3,DELHE3_FLAG_W,DELC13,DELC13_FLAG_W,DELC14,DELC14_FLAG_W,C14ERR,NEON,NEON_FLAG_W,NEONER,POC,POC_FLAG_W,DOC,DOC_FLAG_W,TDN,TDN_FLAG_W,CTDRAW,CDOM325,CDOM325_FLAG_W,CDOM340,CDOM340_FLAG_W,CDOM380,CDOM380_FLAG_W,CDOM412,CDOM412_FLAG_W,CDOMSL,CDOMSL_FLAG_W,CDOMSN,CDOMSN_FLAG_W,THETA,PON,PON_FLAG_W,HCFC-22,HCFC-22_FLAG_W,HCFC-142b,HCFC-142b_FLAG_W,HCFC-141b,HCFC-141b_FLAG_W,STNNBR_U,HELIER,DELHER,TRITER,CH3CL,CH3CL_FLAG_W,CH3BR,CH3BR_FLAG_W,CH3I,CH3I_FLAG_W
,,,,,,,,,,,METERS,DBAR,ITS-90,PSS-78,,PSS-78,,UMOL/KG,,UMOL/KG,,UMOL/KG,,UMOL/KG,,UMOL/KG,,UMOL/KG,,PMOL/KG,,PMOL/KG,,PMOL/KG,,UMOL/KG,,UMOL/KG,,UATM,,DEG C,,,DEG C,TU,,NMOL/KG,,PERCNT,,/MILLE,,/MILLE,,/MILLE,NMOL/KG,,NMOL/KG,UG/KG,,UMOL/KG,,UMOL/KG,,DBAR,1/M,,1/M,,1/M,,1/M,,1/NM,,1/NM,,DEG C,UMOL/L,,PMOL/KG,,PMOL/KG,,PMOL/KG,,,NMOL/KG,PERCNT,TU,PMOL/KG,,PMOL/KG,,PMOL/KG,
33RO200306_01,       A16N,     030,          1,         33,         33,2,20030626,       0719,    50.5002,   -19.9995,       3933,     1.7,  13.5043,  35.5017,2,  35.5061,2,    255.4,2,   260.7,2,    0.29,2,    3.48,2,    0.07,2,    0.26,2,-999.000,9,-999.000,9,-999.000,9,  2082.2,6,  2333.2,2,    424.2,2,    20.00,   7.9420,2,    25.00,-999.000,9,-999.000,9,-999.000,9, -999.00,9,  -999.0,9,  -999.0,-999.000,9,-999.000,   5.342,2, -999.00,9, -999.00,9,    1.70,   0.1380,2,   0.0840,2,   0.0260,2,   0.0130,2,   0.0310,2,   0.0320,2,  13.5041,      0.930,2,     -999.0,9,     -999.0,9,     -999.0,9,         30,-999.000,-999.000,-999.000,     -999.0,9, -999.00,9, -999.00,9
33RO200306_01,       A16N,     030,          1,         35,         35,2,20030626,       0719,    50.5002,   -19.9995,       3933,     1.8,  13.5030,  35.5018,2,-999.0000,9,    255.4,2,  -999.0,9, -999.00,9, -999.00,9, -999.00,9, -999.00,9,-999.000,9,-999.000,9,-999.000,9,  -999.0,9,  -999.0,9,   -999.0,9,  -999.00,-999.0000,9,  -999.00,-999.000,9,-999.000,9,-999.000,9, -999.00,9,  -999.0,9,  -999.0,-999.000,9,-999.000,-999.000,9, -999.00,9, -999.00,9,    1.80,-999.0000,9,-999.0000,9,-999.0000,9,-999.0000,9,-999.0000,9,-999.0000,9,  13.5027,     -999.0,9,     -999.0,9,     -999.0,9,     -999.0,9,         30,-999.000,-999.000,-999.000,     -999.0,9, -999.00,9, -999.00,9
33RO200306_01,       A16N,     030,          1,         32,         32,2,20030626,       0719,    50.5002,   -19.9995,       3933,    19.4,  13.4862,  35.5014,2,  35.5043,2,    255.3,2,   260.6,2,    0.29,2,    3.48,2,    0.07,2,    0.26,2,-999.000,9,-999.000,9,-999.000,9,  -999.0,9,  -999.0,9,   -999.0,9,  -999.00,-999.0000,9,  -999.00,-999.000,9,-999.000,9,-999.000,9, -999.00,9,  -999.0,9,  -999.0,-999.000,9,-999.000,   6.769,2, -999.00,9, -999.00,9,   19.40,   0.1050,2,   0.0680,2,   0.0220,2,   0.0110,2,   0.0290,2,   0.0290,2,  13.4835,      1.286,2,     -999.0,9,     -999.0,9,     -999.0,9,         30,-999.000,-999.000,-999.000,     -999.0,9, -999.00,9, -999.00,9
33RO200306_01,       A16N,     030,          1,         31,         31,2,20030626,       0719,    50.5002,   -19.9995,       3933,    39.4,  12.8239,  35.4990,2,  35.5044,2,    263.0,2,   264.8,2,    0.39,2,    3.52,2,    0.05,2,    0.31,2,-999.000,9,-999.000,9,-999.000,9,  -999.0,9,  -999.0,9,   -999.0,9,  -999.00,-999.0000,9,  -999.00,-999.000,9,-999.000,9,-999.000,9, -999.00,9,  -999.0,9,  -999.0,-999.000,9,-999.000,  11.855,2, -999.00,9, -999.00,9,   39.40,-999.0000,9,-999.0000,9,-999.0000,9,-999.0000,9,-999.0000,9,-999.0000,9,  12.8185,      1.494,2,     -999.0,9,     -999.0,9,     -999.0,9,         30,-999.000,-999.000,-999.000,     -999.0,9, -999.00,9, -999.00,9
33RO200306_01,       A16N,     030,          1,         30,         30,2,20030626,       0719,    50.5002,   -19.9995,       3933,    59.6,  12.1175,  35.5664,2,  35.5710,2,    252.9,2,   256.2,2,    1.01,2,    5.90,2,    0.19,2,    0.49,2,-999.000,9,-999.000,9,-999.000,9,  -999.0,9,  -999.0,9,   -999.0,9,  -999.00,-999.0000,9,  -999.00,-999.000,9,-999.000,9,-999.000,9, -999.00,9,  -999.0,9,  -999.0,-999.000,9,-999.000,   2.747,2, -999.00,9, -999.00,9,   59.60,   0.1330,2,   0.0880,2,   0.0340,2,   0.0210,2,   0.0240,2,   0.0260,2,  12.1097,      0.479,2,     -999.0,9,     -999.0,9,     -999.0,9,         30,-999.000,-999.000,-999.000,     -999.0,9, -999.00,9, -999.00,9
33RO200306_01,       A16N,     030,          1,         29,         29,2,20030626,       0719,    50.5002,   -19.9995,       3933,    77.3,  12.0099,  35.5958,2,  35.5988,2,    253.2,2,   250.7,2,    1.40,2,    6.88,2,    0.28,2,    0.52,2,-999.000,9,-999.000,9,-999.000,9,  -999.0,9,  -999.0,9,   -999.0,9,  -999.00,-999.0000,9,  -999.00,-999.000,9,-999.000,9,-999.000,9, -999.00,9,  -999.0,9,  -999.0,-999.000,9,-999.000,   2.030,2, -999.00,9, -999.00,9,   77.30,-999.0000,9,-999.0000,9,-999.0000,9,-999.0000,9,-999.0000,9,-999.0000,9,  11.9998,      0.399,2,     -999.0,9,     -999.0,9,     -999.0,9,         30,-999.000,-999.000,-999.000,     -999.0,9, -999.00,9, -999.00,9
33RO200306_01,       A16N,     030,          1,         28,         28,2,20030626,       0719,    50.5002,   -19.9995,       3933,    99.0,  11.8772,  35.5930,2,  35.5950,2,    247.2,2,   245.8,2,    2.23,2,    8.62,2,    0.33,2,    0.56,2,-999.000,9,-999.000,9,-999.000,9,  -999.0,9,  -999.0,9,   -999.0,9,  -999.00,-999.0000,9,  -999.00,-999.000,9,-999.000,9,-999.000,9, -999.00,9,  -999.0,9,  -999.0,-999.000,9,-999.000,   1.691,2, -999.00,9, -999.00,9,   99.00,   0.0990,2,   0.0640,2,   0.0240,2,   0.0130,2,   0.0270,2,   0.0280,2,  11.8643,      0.338,2,     -999.0,9,     -999.0,9,     -999.0,9,         30,-999.000,-999.000,-999.000,     -999.0,9, -999.00,9, -999.00,9
33RO200306_01,       A16N,     030,          1,         27,         27,2,20030626,       0719,    50.5002,   -19.9995,       3933,   123.6,  11.6113,  35.5647,2,  35.5658,2,    245.3,2,   243.7,2,    3.27,2,    9.93,2,    0.03,2,    0.61,2,-999.000,9,-999.000,9,-999.000,9,  -999.0,9,  -999.0,9,   -999.0,9,  -999.00,-999.0000,9,  -999.00,-999.000,9,-999.000,9,-999.000,9, -999.00,9,  -999.0,9,  -999.0,-999.000,9,-999.000,-999.000,9, -999.00,9, -999.00,9,  123.60,-999.0000,9,-999.0000,9,-999.0000,9,-999.0000,9,-999.0000,9,-999.0000,9,  11.5955,     -999.0,9,     -999.0,9,     -999.0,9,     -999.0,9,         30,-999.000,-999.000,-999.000,     -999.0,9, -999.00,9, -999.00,9
33RO200306_01,       A16N,     030,          1,         26,         26,2,20030626,       0719,    50.5002,   -19.9995,       3933,   149.2,  11.4226,  35.5391,2,  35.5425,2,    247.5,2,   246.4,2,    3.42,2,    9.98,2,    0.02,2,    0.62,2,-999.000,9,-999.000,9,-999.000,9,  -999.0,9,  -999.0,9,   -999.0,9,  -999.00,-999.0000,9,  -999.00,-999.000,9,-999.000,9,-999.000,9, -999.00,9,  -999.0,9,  -999.0,-999.000,9,-999.000,   0.942,2, -999.00,9, -999.00,9,  149.20,-999.0000,9,-999.0000,9,-999.0000,9,-999.0000,9,-999.0000,9,-999.0000,9,  11.4037,      0.186,2,     -999.0,9,     -999.0,9,     -999.0,9,         30,-999.000,-999.000,-999.000,     -999.0,9, -999.00,9, -999.00,9
33RO200306_01,       A16N,     030,          1,         25,         25,2,20030626,       0719,    50.5002,   -19.9995,       3933,   174.2,  11.2908,  35.5226,2,  35.5252,2,    246.2,2,   246.7,2,    3.62,2,   10.15,2,    0.03,2,    0.63,2,-999.000,9,-999.000,9,-999.000,9,  -999.0,9,  -999.0,9,   -999.0,9,  -999.00,-999.0000,9,  -999.00,-999.000,9,-999.000,9,-999.000,9, -999.00,9,  -999.0,9,  -999.0,-999.000,9,-999.000,-999.000,9, -999.00,9, -999.00,9,  174.20,-999.0000,9,-999.0000,9,-999.0000,9,-999.0000,9,-999.0000,9,-999.0000,9,  11.2688,     -999.0,9,     -999.0,9,     -999.0,9,     -999.0,9,         30,-999.000,-999.000,-999.000,     -999.0,9, -999.00,9, -999.00,9
33RO200306_01,       A16N,     030,          1,         24,         24,2,20030626,       0719,    50.5002,   -19.9995,       3933,   198.6,  11.2653,  35.5231,2,  35.5257,2,    241.9,2,   246.5,2,    3.75,2,   10.24,2,    0.02,2,    0.63,2,-999.000,9,-999.000,9,-999.000,9,  -999.0,9,  -999.0,9,   -999.0,9,  -999.00,-999.0000,9,  -999.00,-999.000,9,-999.000,9,-999.000,9, -999.00,9,  -999.0,9,  -999.0,-999.000,9,-999.000,-999.000,9, -999.00,9, -999.00,9,  198.60,   0.0900,2,   0.0560,2,   0.0190,2,   0.0090,2,   0.0300,2,   0.0310,2,  11.2403,     -999.0,9,     -999.0,9,     -999.0,9,     -999.0,9,         30,-999.000,-999.000,-999.000,     -999.0,9, -999.00,9, -999.00,9
33RO200306_01,       A16N,     030,          1,         23,         23,2,20030626,       0719,    50.5002,   -19.9995,       3933,   249.9,  11.0736,  35.4943,2,  35.4970,2,    239.5,2,   240.4,2,    4.55,6,   11.12,6,    0.02,6,    0.69,6,-999.000,9,-999.000,9,-999.000,9,  -999.0,9,  -999.0,9,   -999.0,9,  -999.00,-999.0000,9,  -999.00,-999.000,9,-999.000,9,-999.000,9, -999.00,9,  -999.0,9,  -999.0,-999.000,9,-999.000,-999.000,9, -999.00,9, -999.00,9,  249.90,-999.0000,9,-999.0000,9,-999.0000,9,-999.0000,9,-999.0000,9,-999.0000,9,  11.0424,     -999.0,9,     -999.0,9,     -999.0,9,     -999.0,9,         30,-999.000,-999.000,-999.000,     -999.0,9, -999.00,9, -999.00,9
33RO200306_01,       A16N,     030,          1,         22,         22,2,20030626,       0719,    50.5002,   -19.9995,       3933,   300.4,  11.1191,  35.5207,2,  35.5232,2,    245.8,2,   245.7,2,    4.25,2,   10.64,6,    0.02,6,    0.65,6,-999.000,9,-999.000,9,-999.000,9,  -999.0,9,  -999.0,9,   -999.0,9,  -999.00,-999.0000,9,  -999.00,-999.000,9,-999.000,9,-999.000,9, -999.00,9,  -999.0,9,  -999.0,-999.000,9,-999.000,-999.000,9, -999.00,9, -999.00,9,  300.40,   0.0850,2,   0.0540,2,   0.0170,2,   0.0080,2,   0.0300,2,   0.0310,2,  11.0814,     -999.0,9,     -999.0,9,     -999.0,9,     -999.0,9,         30,-999.000,-999.000,-999.000,     -999.0,9, -999.00,9, -999.00,9
33RO200306_01,       A16N,     030,          1,         21,         21,2,20030626,       0719,    50.5002,   -19.9995,       3933,   349.2,  10.9757,  35.4964,2,  35.4979,2,    245.9,2,   245.3,2,    4.49,2,   10.97,6,    0.01,6,    0.67,6,-999.000,9,-999.000,9,-999.000,9,  -999.0,9,  -999.0,9,   -999.0,9,  -999.00,-999.0000,9,  -999.00,-999.000,9,-999.000,9,-999.000,9, -999.00,9,  -999.0,9,  -999.0,-999.000,9,-999.000,-999.000,9, -999.00,9, -999.00,9,  349.20,-999.0000,9,-999.0000,9,-999.0000,9,-999.0000,9,-999.0000,9,-999.0000,9,  10.9322,     -999.0,9,     -999.0,9,     -999.0,9,     -999.0,9,         30,-999.000,-999.000,-999.000,     -999.0,9, -999.00,9, -999.00,9
33RO200306_01,       A16N,     030,          1,         20,         20,2,20030626,       0719,    50.5002,   -19.9995,       3933,   399.6,  10.7218,  35.4540,2,  35.4571,2,    242.7,2,   238.9,2,    4.99,2,   11.85,6,    0.01,6,    0.72,6,-999.000,9,-999.000,9,-999.000,9,  -999.0,9,  -999.0,9,   -999.0,9,  -999.00,-999.0000,9,  -999.00,-999.000,9,-999.000,9,-999.000,9, -999.00,9,  -999.0,9,  -999.0,-999.000,9,-999.000,-999.000,9, -999.00,9, -999.00,9,  399.60,-999.0000,9,-999.0000,9,-999.0000,9,-999.0000,9,-999.0000,9,-999.0000,9,  10.6726,     -999.0,9,     -999.0,9,     -999.0,9,     -999.0,9,         30,-999.000,-999.000,-999.000,     -999.0,9, -999.00,9, -999.00,9
33RO200306_01,       A16N,     030,          1,         19,         19,2,20030626,       0719,    50.5002,   -19.9995,       3933,   450.3,  10.4582,  35.4113,2,  35.4126,2,    242.0,2,   233.5,2,    5.64,2,   12.83,6,    0.01,6,    0.78,6,-999.000,9,-999.000,9,-999.000,9,  -999.0,9,  -999.0,9,   -999.0,9,  -999.00,-999.0000,9,  -999.00,-999.000,9,-999.000,9,-999.000,9, -999.00,9,  -999.0,9,  -999.0,-999.000,9,-999.000,-999.000,9, -999.00,9, -999.00,9,  450.30,-999.0000,9,-999.0000,9,-999.0000,9,-999.0000,9,-999.0000,9,-999.0000,9,  10.4035,     -999.0,9,     -999.0,9,     -999.0,9,     -999.0,9,         30,-999.000,-999.000,-999.000,     -999.0,9, -999.00,9, -999.00,9
33RO200306_01,       A16N,     030,          1,         18,         18,2,20030626,       0719,    50.5002,   -19.9995,       3933,   499.4,  10.3959,  35.4087,2,  35.4088,2,    232.5,2,   238.6,2,    5.43,2,   12.39,6,    0.01,6,    0.76,6,-999.000,9,-999.000,9,-999.000,9,  -999.0,9,  -999.0,9,   -999.0,9,  -999.00,-999.0000,9,  -999.00,-999.000,9,-999.000,9,-999.000,9, -999.00,9,  -999.0,9,  -999.0,-999.000,9,-999.000,   0.692,2, -999.00,9, -999.00,9,  499.40,   0.1200,2,   0.0680,2,   0.0180,2,   0.0070,3,   0.0360,2,   0.0370,2,  10.3353,      0.149,2,     -999.0,9,     -999.0,9,     -999.0,9,         30,-999.000,-999.000,-999.000,     -999.0,9, -999.00,9, -999.00,9
33RO200306_01,       A16N,     030,          1,         17,         17,2,20030626,       0719,    50.5002,   -19.9995,       3933,   599.4,   9.9000,  35.3621,2,  35.3633,2,    212.8,2,   205.8,2,    7.72,2,   15.70,6,    0.01,6,    0.96,6,-999.000,9,-999.000,9,-999.000,9,  -999.0,9,  -999.0,9,   -999.0,9,  -999.00,-999.0000,9,  -999.00,-999.000,9,-999.000,9,-999.000,9, -999.00,9,  -999.0,9,  -999.0,-999.000,9,-999.000,-999.000,9, -999.00,9, -999.00,9,  599.40,-999.0000,9,-999.0000,9,-999.0000,9,-999.0000,9,-999.0000,9,-999.0000,9,   9.8291,     -999.0,9,     -999.0,9,     -999.0,9,     -999.0,9,         30,-999.000,-999.000,-999.000,     -999.0,9, -999.00,9, -999.00,9
33RO200306_01,       A16N,     030,          1,         16,         16,2,20030626,       0719,    50.5002,   -19.9995,       3933,   700.2,   8.9883,  35.2932,2,  35.2951,2,    191.6,2,   189.8,2,    9.82,2,   18.02,6,    0.01,6,    1.11,6,-999.000,9,-999.000,9,-999.000,9,  -999.0,9,  -999.0,9,   -999.0,9,  -999.00,-999.0000,9,  -999.00,-999.000,9,-999.000,9,-999.000,9, -999.00,9,  -999.0,9,  -999.0,-999.000,9,-999.000,-999.000,9, -999.00,9, -999.00,9,  700.20,-999.0000,9,-999.0000,9,-999.0000,9,-999.0000,9,-999.0000,9,-999.0000,9,   8.9098,     -999.0,9,     -999.0,9,     -999.0,9,     -999.0,9,         30,-999.000,-999.000,-999.000,     -999.0,9, -999.00,9, -999.00,9
33RO200306_01,       A16N,     030,          1,         15,         15,2,20030626,       0719,    50.5002,   -19.9995,       3933,   800.5,   7.8044,  35.2050,2,  35.2064,2,    192.5,2,   194.0,2,   11.01,6,   18.89,6,    0.00,6,    1.18,6,-999.000,9,-999.000,9,-999.000,9,  -999.0,9,  -999.0,9,   -999.0,9,  -999.00,-999.0000,9,  -999.00,-999.000,9,-999.000,9,-999.000,9, -999.00,9,  -999.0,9,  -999.0,-999.000,9,-999.000,-999.000,9, -999.00,9, -999.00,9,  800.50,-999.0000,9,-999.0000,9,-999.0000,9,-999.0000,9,-999.0000,9,-999.0000,9,   7.7211,     -999.0,9,     -999.0,9,     -999.0,9,     -999.0,9,         30,-999.000,-999.000,-999.000,     -999.0,9, -999.00,9, -999.00,9
33RO200306_01,       A16N,     030,          1,         14,         14,2,20030626,       0719,    50.5002,   -19.9995,       3933,   899.9,   6.9036,  35.1630,2,  35.1720,3,    204.1,2,   204.6,2,   11.38,2,   18.79,2,    0.00,2,    1.18,2,-999.000,9,-999.000,9,-999.000,9,  -999.0,9,  -999.0,9,   -999.0,9,  -999.00,-999.0000,9,  -999.00,-999.000,9,-999.000,9,-999.000,9, -999.00,9,  -999.0,9,  -999.0,-999.000,9,-999.000,-999.000,9, -999.00,9, -999.00,9,  899.90,-999.0000,9,-999.0000,9,-999.0000,9,-999.0000,9,-999.0000,9,-999.0000,9,   6.8155,     -999.0,9,     -999.0,9,     -999.0,9,     -999.0,9,         30,-999.000,-999.000,-999.000,     -999.0,9, -999.00,9, -999.00,9
33RO200306_01,       A16N,     030,          1,         13,         13,2,20030626,       0719,    50.5002,   -19.9995,       3933,  1000.1,   6.4140,  35.1588,2,  35.1602,2,    214.0,2,   214.0,2,   11.43,2,   18.58,2,    0.00,2,    1.17,2,-999.000,9,-999.000,9,-999.000,9,  -999.0,9,  -999.0,9,   -999.0,9,  -999.00,-999.0000,9,  -999.00,-999.000,9,-999.000,9,-999.000,9, -999.00,9,  -999.0,9,  -999.0,-999.000,9,-999.000,-999.000,9, -999.00,9, -999.00,9, 1000.10,   0.1130,2,   0.0660,2,   0.0190,2,   0.0080,2,   0.0330,2,   0.0350,2,   6.3190,     -999.0,9,     -999.0,9,     -999.0,9,     -999.0,9,         30,-999.000,-999.000,-999.000,     -999.0,9, -999.00,9, -999.00,9
33RO200306_01,       A16N,     030,          1,         12,         12,2,20030626,       0719,    50.5002,   -19.9995,       3933,  1100.7,   5.2739,  35.0262,2,  35.0256,2,    229.3,2,   233.4,2,   11.37,2,   18.35,2,    0.00,2,    1.16,2,-999.000,9,-999.000,9,-999.000,9,  -999.0,9,  -999.0,9,   -999.0,9,  -999.00,-999.0000,9,  -999.00,-999.000,9,-999.000,9,-999.000,9, -999.00,9,  -999.0,9,  -999.0,-999.000,9,-999.000,-999.000,9, -999.00,9, -999.00,9, 1100.70,-999.0000,9,-999.0000,9,-999.0000,9,-999.0000,9,-999.0000,9,-999.0000,9,   5.1782,     -999.0,9,     -999.0,9,     -999.0,9,     -999.0,9,         30,-999.000,-999.000,-999.000,     -999.0,9, -999.00,9, -999.00,9
33RO200306_01,       A16N,     030,          1,         11,         11,2,20030626,       0719,    50.5002,   -19.9995,       3933,  1200.4,   4.7145,  34.9821,2,  34.9833,2,    246.5,2,   246.7,2,   11.18,2,   17.98,2,    0.00,2,    1.15,2,-999.000,9,-999.000,9,-999.000,9,  -999.0,9,  -999.0,9,   -999.0,9,  -999.00,-999.0000,9,  -999.00,-999.000,9,-999.000,9,-999.000,9, -999.00,9,  -999.0,9,  -999.0,-999.000,9,-999.000,-999.000,9, -999.00,9, -999.00,9, 1200.40,-999.0000,9,-999.0000,9,-999.0000,9,-999.0000,9,-999.0000,9,-999.0000,9,   4.6144,     -999.0,9,     -999.0,9,     -999.0,9,     -999.0,9,         30,-999.000,-999.000,-999.000,     -999.0,9, -999.00,9, -999.00,9
33RO200306_01,       A16N,     030,          1,         10,         10,2,20030626,       0719,    50.5002,   -19.9995,       3933,  1401.2,   4.1155,  34.9374,2,  34.9400,2,    261.0,2,   260.1,2,   11.20,2,   17.65,2,    0.00,2,    1.13,2,-999.000,9,-999.000,9,-999.000,9,  -999.0,9,  -999.0,9,   -999.0,9,  -999.00,-999.0000,9,  -999.00,-999.000,9,-999.000,9,-999.000,9, -999.00,9,  -999.0,9,  -999.0,-999.000,9,-999.000,-999.000,9, -999.00,9, -999.00,9, 1401.20,-999.0000,9,-999.0000,9,-999.0000,9,-999.0000,9,-999.0000,9,-999.0000,9,   4.0031,     -999.0,9,     -999.0,9,     -999.0,9,     -999.0,9,         30,-999.000,-999.000,-999.000,     -999.0,9, -999.00,9, -999.00,9
33RO200306_01,       A16N,     030,          1,          9,          9,2,20030626,       0719,    50.5002,   -19.9995,       3933,  1600.5,   3.7408,  34.9120,2,  34.9138,2,    267.9,2,   269.1,2,   11.33,2,   17.49,2,    0.00,2,    1.11,2,-999.000,9,-999.000,9,-999.000,9,  -999.0,9,  -999.0,9,   -999.0,9,  -999.00,-999.0000,9,  -999.00,-999.000,9,-999.000,9,-999.000,9, -999.00,9,  -999.0,9,  -999.0,-999.000,9,-999.000,-999.000,9, -999.00,9, -999.00,9, 1600.50,-999.0000,9,-999.0000,9,-999.0000,9,-999.0000,9,-999.0000,9,-999.0000,9,   3.6146,     -999.0,9,     -999.0,9,     -999.0,9,     -999.0,9,         30,-999.000,-999.000,-999.000,     -999.0,9, -999.00,9, -999.00,9
33RO200306_01,       A16N,     030,          1,          8,          8,2,20030626,       0719,    50.5002,   -19.9995,       3933,  1788.5,   3.5107,  34.8985,2,  34.9007,2,    273.1,2,   272.1,2,   11.44,2,   17.34,2,    0.00,2,    1.11,2,-999.000,9,-999.000,9,-999.000,9,  -999.0,9,  -999.0,9,   -999.0,9,  -999.00,-999.0000,9,  -999.00,-999.000,9,-999.000,9,-999.000,9, -999.00,9,  -999.0,9,  -999.0,-999.000,9,-999.000,-999.000,9, -999.00,9, -999.00,9, 1788.50,-999.0000,9,-999.0000,9,-999.0000,9,-999.0000,9,-999.0000,9,-999.0000,9,   3.3704,     -999.0,9,     -999.0,9,     -999.0,9,     -999.0,9,         30,-999.000,-999.000,-999.000,     -999.0,9, -999.00,9, -999.00,9