BOTTLE,20230908CCHSIOCBG
EXPOCODE,SECT_ID,STNNBR,CASTNO,SAMPNO,BTLNBR,BTLNBR_FLAG_W,DATE,TIME,LATITUDE,LONGITUDE,DEPTH,CTDPRS,CTDTMP,CTDSAL,CTDSAL_FLAG_W,SALNTY,SALNTY_FLAG_W,CTDOXY,CTDOXY_FLAG_W,OXYGEN,OXYGEN_FLAG_W,SILCAT,SILCAT_FLAG_W,NITRAT,NITRAT_FLAG_W,NITRIT,NITRIT_FLAG_W,PHSPHT,PHSPHT_FLAG_W,CFC-11,CFC-11_FLAG_W,CFC-12,CFC-12_FLAG_W,CFC113,CFC113_FLAG_W,TCARBN,TCARBN_FLAG_W,ALKALI,ALKALI_FLAG_W,FCO2,FCO2_FLAG_W,FCO2TMP,PH_SWS,PH_SWS_FLAG_W,PH_TMP,TRITUM,TRITUM_FLAG_W,HELIUM,HELIUM_FLAG_W,DELHE3,DELHE3_FLAG_W,DELC13,DELC13_FLAG_W,DELC14,DELC14_FLAG_W,C14ERR,NEON,NEON_FLAG_W,NEONER,POC,POC_FLAG_W,DOC,DOC_FLAG_W,TDN,TDN_FLAG_W,CTDRAW,CDOM325,CDOM325_FLAG_W,CDOM340,CDOM340_FLAG_W,CDOM380,CDOM380_FLAG_W,CDOM412,CDOM412_FLAG_W,CDOMSL,CDOMSL_FLAG_W,CDOMSN,CDOMSN_FLAG_W,THETA,PON,PON_FLAG_W,HCFC-22,HCFC-22_FLAG_W,HCFC-142b,HCFC-142b_FLAG_W,HCFC-141b,HCFC-141b_FLAG_W,STNNBR_U,HELIER,DELHER,TRITER,CH3CL,CH3CL_FLAG_W,CH3BR,CH3BR_FLAG_W,CH3I,CH3I_FLAG_W
,,,,,,,,,,,METERS,DBAR,ITS-90,PSS-78,,PSS-78,,UMOL/KG,,UMOL/KG,,UMOL/KG,,UMOL/KG,,UMOL/KG,,UMOL/KG,,PMOL/KG,,PMOL/KG,,PMOL/KG,,UMOL/KG,,UMOL/KG,,UATM,,DEG C,,,DEG C,TU,,NMOL/KG,,PERCNT,,/MILLE,,/MILLE,,/MILLE,NMOL/KG,,NMOL/KG,UG/KG,,UMOL/KG,,UMOL/KG,,DBAR,1/M,,1/M,,1/M,,1/M,,1/NM,,1/NM,,DEG C,UMOL/L,,PMOL/KG,,PMOL/KG,,PMOL/KG,,,NMOL/KG,PERCNT,TU,PMOL/KG,,PMOL/KG,,PMOL/KG,
33RO200306_01,       A16N,     033,          1,          7,          7,2,20030627,       0345,    49.0037,   -20.0017,       4415,  2198.5,   3.2461,  34.9154,2,  34.9155,2,    273.4,2,   272.8,2,   13.24,2,   17.12,2,    0.00,2,    1.10,2,   2.159,2,   1.068,2,   0.118,2,  2156.4,2,  2304.6,2,   -999.0,9,  -999.00,   7.7360,2,    25.00,-999.000,9,-999.000,9,-999.000,9, -999.00,9,  -999.0,9,  -999.0,-999.000,9,-999.000,-999.000,9,   45.29,2,   21.02,2, 2198.50,-999.0000,9,-999.0000,9,-999.0000,9,-999.0000,9,-999.0000,9,-999.0000,9,   3.0712,     -999.0,9,     -999.0,9,     -999.0,9,     -999.0,9,         33,-999.000,-999.000,-999.000,     -999.0,9, -999.00,9, -999.00,9
33RO200306_01,       A16N,     033,          1,          6,          6,2,20030627,       0345,    49.0037,   -20.0017,       4415,  2400.2,   3.1671,  34.9293,2,  34.9317,2,    269.3,2,   268.4,2,   14.92,2,   17.21,2,    0.00,2,    1.11,2,   1.810,2,   0.888,2,   0.088,2,  2158.7,2,  2307.1,2,    753.0,2,    20.00,   7.7309,2,    25.00,-999.000,9,-999.000,9,-999.000,9, -999.00,9,  -999.0,9,  -999.0,-999.000,9,-999.000,-999.000,9,   43.74,2,   22.43,2, 2400.20,-999.0000,9,-999.0000,9,-999.0000,9,-999.0000,9,-999.0000,9,-999.0000,9,   2.9740,     -999.0,9,     -999.0,9,     -999.0,9,     -999.0,9,         33,-999.000,-999.000,-999.000,     -999.0,9, -999.00,9, -999.00,9
33RO200306_01,       A16N,     033,          1,          5,          5,2,20030627,       0345,    49.0037,   -20.0017,       4415,  2800.9,   2.9698,  34.9463,2,  34.9454,2,    259.2,2,   258.5,2,   21.33,2,   18.14,2,    0.00,2,    1.18,2,   1.142,2,   0.562,2,   0.048,2,  2166.5,2,  2318.6,2,   -999.0,9,  -999.00,   7.7305,2,    25.00,-999.000,9,-999.000,9,-999.000,9, -999.00,9,  -999.0,9,  -999.0,-999.000,9,-999.000,-999.000,9,   42.76,2,   21.78,2, 2800.90,-999.0000,9,-999.0000,9,-999.0000,9,-999.0000,9,-999.0000,9,-999.0000,9,   2.7403,     -999.0,9,     -999.0,9,     -999.0,9,     -999.0,9,         33,-999.000,-999.000,-999.000,     -999.0,9, -999.00,9, -999.00,9
33RO200306_01,       A16N,     033,          1,          4,          4,2,20030627,       0345,    49.0037,   -20.0017,       4415,  3198.3,   2.7608,  34.9386,2,  34.9395,2,    249.2,2,   234.1,3,   30.35,2,   19.77,2,    0.00,2,    1.29,2,   0.605,2,   0.302,2,   0.027,2,  2179.6,2,  2332.3,2,    770.9,2,    20.00,   7.7276,2,    25.00,-999.000,9,-999.000,9,-999.000,9, -999.00,9,  -999.0,9,  -999.0,-999.000,9,-999.000,-999.000,9,   42.52,2,   25.08,2, 3198.30,-999.0000,9,-999.0000,9,-999.0000,9,-999.0000,9,-999.0000,9,-999.0000,9,   2.4944,     -999.0,9,     -999.0,9,     -999.0,9,     -999.0,9,         33,-999.000,-999.000,-999.000,     -999.0,9, -999.00,9, -999.00,9
33RO200306_01,       A16N,     033,          1,          3,          3,2,20030627,       0345,    49.0037,   -20.0017,       4415,  3601.1,   2.6027,  34.9222,2,  34.9231,2,    240.5,2,   240.4,2,   38.67,6,   21.30,6,    0.01,6,    1.40,6,   0.203,6,   0.108,6,   0.012,6,  2191.7,2,  2344.7,2,   -999.0,9,  -999.00,   7.7283,2,    25.00,-999.000,9,-999.000,9,-999.000,9, -999.00,9,  -999.0,9,  -999.0,-999.000,9,-999.000,-999.000,9,   41.71,2,   26.15,2, 3601.10,-999.0000,9,-999.0000,9,-999.0000,9,-999.0000,9,-999.0000,9,-999.0000,9,   2.2966,     -999.0,9,     -999.0,9,     -999.0,9,     -999.0,9,         33,-999.000,-999.000,-999.000,     -999.0,9, -999.00,9, -999.00,9
33RO200306_01,       A16N,     033,          1,          2,          2,2,20030627,       0345,    49.0037,   -20.0017,       4415,  4000.4,   2.5549,  34.9130,2,  34.9124,2,    236.6,2,   237.7,2,   42.29,6,   21.92,6,    0.01,6,    1.45,6,   0.094,2,   0.049,2,   0.013,2,  2197.1,2,  2351.7,2,    775.2,6,    20.00,   7.7301,2,    25.00,-999.000,9,-999.000,9,-999.000,9, -999.00,9,  -999.0,9,  -999.0,-999.000,9,-999.000,-999.000,9,   40.57,2,   25.73,2, 4000.40,-999.0000,9,-999.0000,9,-999.0000,9,-999.0000,9,-999.0000,9,-999.0000,9,   2.2050,     -999.0,9,     -999.0,9,     -999.0,9,     -999.0,9,         33,-999.000,-999.000,-999.000,     -999.0,9, -999.00,9, -999.00,9
33RO200306_01,       A16N,     033,          1,          1,          1,2,20030627,       0345,    49.0037,   -20.0017,       4415,  4482.0,   2.5631,  34.9077,2,  34.9085,2,    236.6,2,   236.2,2,   43.97,6,   22.12,6,    0.01,6,    1.46,6,   0.053,2,   0.026,2,   0.010,2,  2201.4,6,  2351.7,2,    770.1,2,    20.00,   7.7297,2,    25.00,-999.000,9,-999.000,9,-999.000,9, -999.00,9,  -999.0,9,  -999.0,-999.000,9,-999.000,-999.000,9,   42.27,2,   26.63,2, 4482.00,-999.0000,9,-999.0000,9,-999.0000,9,-999.0000,9,-999.0000,9,-999.0000,9,   2.1560,     -999.0,9,     -999.0,9,     -999.0,9,     -999.0,9,         33,-999.000,-999.000,-999.000,     -999.0,9, -999.00,9, -999.00,9