BOTTLE,20230908CCHSIOCBG
EXPOCODE,SECT_ID,STNNBR,CASTNO,SAMPNO,BTLNBR,BTLNBR_FLAG_W,DATE,TIME,LATITUDE,LONGITUDE,DEPTH,CTDPRS,CTDTMP,CTDSAL,CTDSAL_FLAG_W,SALNTY,SALNTY_FLAG_W,CTDOXY,CTDOXY_FLAG_W,OXYGEN,OXYGEN_FLAG_W,SILCAT,SILCAT_FLAG_W,NITRAT,NITRAT_FLAG_W,NITRIT,NITRIT_FLAG_W,PHSPHT,PHSPHT_FLAG_W,CFC-11,CFC-11_FLAG_W,CFC-12,CFC-12_FLAG_W,CFC113,CFC113_FLAG_W,TCARBN,TCARBN_FLAG_W,ALKALI,ALKALI_FLAG_W,FCO2,FCO2_FLAG_W,FCO2TMP,PH_SWS,PH_SWS_FLAG_W,PH_TMP,TRITUM,TRITUM_FLAG_W,HELIUM,HELIUM_FLAG_W,DELHE3,DELHE3_FLAG_W,DELC13,DELC13_FLAG_W,DELC14,DELC14_FLAG_W,C14ERR,NEON,NEON_FLAG_W,NEONER,POC,POC_FLAG_W,DOC,DOC_FLAG_W,TDN,TDN_FLAG_W,CTDRAW,CDOM325,CDOM325_FLAG_W,CDOM340,CDOM340_FLAG_W,CDOM380,CDOM380_FLAG_W,CDOM412,CDOM412_FLAG_W,CDOMSL,CDOMSL_FLAG_W,CDOMSN,CDOMSN_FLAG_W,THETA,PON,PON_FLAG_W,HCFC-22,HCFC-22_FLAG_W,HCFC-142b,HCFC-142b_FLAG_W,HCFC-141b,HCFC-141b_FLAG_W,STNNBR_U,HELIER,DELHER,TRITER,CH3CL,CH3CL_FLAG_W,CH3BR,CH3BR_FLAG_W,CH3I,CH3I_FLAG_W
,,,,,,,,,,,METERS,DBAR,ITS-90,PSS-78,,PSS-78,,UMOL/KG,,UMOL/KG,,UMOL/KG,,UMOL/KG,,UMOL/KG,,UMOL/KG,,PMOL/KG,,PMOL/KG,,PMOL/KG,,UMOL/KG,,UMOL/KG,,UATM,,DEG C,,,DEG C,TU,,NMOL/KG,,PERCNT,,/MILLE,,/MILLE,,/MILLE,NMOL/KG,,NMOL/KG,UG/KG,,UMOL/KG,,UMOL/KG,,DBAR,1/M,,1/M,,1/M,,1/M,,1/NM,,1/NM,,DEG C,UMOL/L,,PMOL/KG,,PMOL/KG,,PMOL/KG,,,NMOL/KG,PERCNT,TU,PMOL/KG,,PMOL/KG,,PMOL/KG,
33RO200306_02,       A16N,     112,          1,         35,         35,2,20030729,       1240,     9.9992,   -28.4992,       5334,     3.0,  27.7365,  35.8917,2,  35.8964,2,    187.0,2,   200.9,2,    0.61,2,    0.14,2,    0.00,2,    0.05,2,   1.693,2,   1.092,2,   0.146,2,  2004.8,6,  2351.3,6,    278.5,2,    20.00,   8.1023,6,    25.00,-999.000,9,-999.000,9,-999.000,9,    1.69,2,    65.5,2,     4.9,-999.000,9,-999.000,-999.000,9,   72.68,2,    6.09,2,    3.00,-999.0000,9,-999.0000,9,-999.0000,9,-999.0000,9,-999.0000,9,-999.0000,9,  27.7358,     -999.0,9,       3.58,2,       0.20,2,       0.29,2,        112,-999.000,-999.000,-999.000,        0.0,2,     0.0,2,    8.65,2
33RO200306_02,       A16N,     112,          1,         33,         33,2,20030729,       1240,     9.9992,   -28.4992,       5334,    14.5,  27.5913,  35.8904,2,  35.9330,2,    186.8,2,   203.5,2,    0.65,2,    0.16,2,    0.00,2,    0.05,2,   1.707,2,   1.099,2,   0.146,2,  2005.2,2,  2354.6,2,    277.8,6,    20.00,   8.1010,2,    25.00,-999.000,9,-999.000,9,-999.000,9, -999.00,9,  -999.0,9,  -999.0,-999.000,9,-999.000,-999.000,9,   75.10,2,    6.31,2,   14.50,-999.0000,9,-999.0000,9,-999.0000,9,-999.0000,9,-999.0000,9,-999.0000,9,  27.5879,     -999.0,9,       3.47,2,       0.10,2,       0.29,2,        112,-999.000,-999.000,-999.000,      28.17,2,     0.0,2,    9.63,2
33RO200306_02,       A16N,     112,          1,         32,         32,2,20030729,       1240,     9.9992,   -28.4992,       5334,    44.7,  21.4035,  35.8600,2,  35.8417,2,    191.5,2,   175.4,2,    2.37,2,    1.76,2,    0.06,2,    0.30,2,   1.809,2,   1.082,2,   0.093,2,  2102.5,2,  2358.4,2,    434.2,2,    20.00,   7.9372,2,    25.00,-999.000,9,-999.000,9,-999.000,9, -999.00,9,  -999.0,9,  -999.0,-999.000,9,-999.000,-999.000,9, -999.00,9, -999.00,9,   44.70,-999.0000,9,-999.0000,9,-999.0000,9,-999.0000,9,-999.0000,9,-999.0000,9,  21.3948,     -999.0,9,     -999.0,9,     -999.0,9,     -999.0,9,        112,-999.000,-999.000,-999.000,     -999.0,9, -999.00,9, -999.00,9
33RO200306_02,       A16N,     112,          1,         31,         31,2,20030729,       1240,     9.9992,   -28.4992,       5334,    64.6,  17.2503,  35.7211,2,  35.7016,2,    106.8,2,   109.6,2,    5.51,2,   17.46,2,    0.19,2,    1.14,2,   1.827,2,   1.057,2,   0.053,2,  2170.9,2,  2341.9,2,    687.2,2,    20.00,   7.7699,2,    25.00,-999.000,9,-999.000,9,-999.000,9, -999.00,9,  -999.0,9,  -999.0,-999.000,9,-999.000,-999.000,9,   53.00,2,   22.11,2,   64.60,-999.0000,9,-999.0000,9,-999.0000,9,-999.0000,9,-999.0000,9,-999.0000,9,  17.2395,     -999.0,9,       2.07,2,       0.05,2,       0.19,2,        112,-999.000,-999.000,-999.000,     153.79,2,    0.43,2,    1.08,2
33RO200306_02,       A16N,     112,          1,         30,         30,2,20030729,       1240,     9.9992,   -28.4992,       5334,    94.5,  14.1126,  35.4325,2,  35.4150,2,     96.0,2,   102.1,2,    7.83,2,   22.40,2,    0.03,2,    1.45,2,   1.784,2,   0.992,2,   0.026,2,  2188.0,2,  2327.0,2,    835.4,2,    20.00,   7.7367,2,    25.00,-999.000,9,-999.000,9,-999.000,9, -999.00,9,  -999.0,9,  -999.0,-999.000,9,-999.000,-999.000,9,   47.56,2,   27.88,2,   94.50,-999.0000,9,-999.0000,9,-999.0000,9,-999.0000,9,-999.0000,9,-999.0000,9,  14.0989,     -999.0,9,     -999.0,9,     -999.0,9,     -999.0,9,        112,-999.000,-999.000,-999.000,     -999.0,9, -999.00,9, -999.00,9
33RO200306_02,       A16N,     112,          1,         29,         29,2,20030729,       1240,     9.9992,   -28.4992,       5334,   114.8,  13.3192,  35.3487,2,  35.3365,2,    119.3,2,   121.5,2,    8.17,2,   21.27,2,    0.02,2,    1.41,2,   1.843,2,   1.023,2,   0.026,2,  2178.4,2,  2325.6,2,    786.9,2,    20.00,   7.7181,2,    25.00,-999.000,9,-999.000,9,-999.000,9, -999.00,9,  -999.0,9,  -999.0,-999.000,9,-999.000,-999.000,9, -999.00,9, -999.00,9,  114.80,-999.0000,9,-999.0000,9,-999.0000,9,-999.0000,9,-999.0000,9,-999.0000,9,  13.3031,     -999.0,9,       1.70,2,       0.07,2,       0.13,2,        112,-999.000,-999.000,-999.000,       1.14,2,     0.0,2,    0.27,2
33RO200306_02,       A16N,     112,          1,         28,         28,2,20030729,       1240,     9.9992,   -28.4992,       5334,   139.6,  12.5034,  35.2439,2,  35.2334,2,    126.0,2,   126.9,2,    8.84,2,   21.88,2,    0.01,2,    1.45,2,   1.785,2,   0.981,2,   0.026,2,  2178.5,2,  2315.3,2,    808.9,2,    20.00,   7.6998,2,    25.00,-999.000,9,-999.000,9,-999.000,9, -999.00,9,  -999.0,9,  -999.0,-999.000,9,-999.000,-999.000,9,   44.63,2,   25.67,2,  139.60,-999.0000,9,-999.0000,9,-999.0000,9,-999.0000,9,-999.0000,9,-999.0000,9,  12.4847,     -999.0,9,     -999.0,9,     -999.0,9,     -999.0,9,        112,-999.000,-999.000,-999.000,     -999.0,9, -999.00,9, -999.00,9
33RO200306_02,       A16N,     112,          1,         27,         27,2,20030729,       1240,     9.9992,   -28.4992,       5334,   164.9,  12.0667,  35.1876,2,  35.1803,2,    126.2,2,   125.1,2,    9.42,2,   22.77,2,    0.01,2,    1.51,2,-999.000,9,-999.000,9,-999.000,9,  2181.8,2,  2311.5,2,    836.9,2,    20.00,   7.6943,2,    25.00,-999.000,9,-999.000,9,-999.000,9, -999.00,9,  -999.0,9,  -999.0,-999.000,9,-999.000,-999.000,9, -999.00,9, -999.00,9,  164.90,-999.0000,9,-999.0000,9,-999.0000,9,-999.0000,9,-999.0000,9,-999.0000,9,  12.0451,     -999.0,9,       1.60,2,       0.00,2,       0.39,2,        112,-999.000,-999.000,-999.000,        0.0,2,     0.0,2,    0.27,2
33RO200306_02,       A16N,     112,          1,         26,         26,2,20030729,       1240,     9.9992,   -28.4992,       5334,   190.1,  11.5671,  35.1288,2,  35.1267,2,    115.8,2,   117.7,2,   10.17,2,   24.23,2,    0.01,2,    1.57,2,   1.584,2,   0.867,2,   0.021,2,  2189.1,2,  2307.5,2,    887.9,2,    20.00,   7.6605,2,    25.00,-999.000,9,-999.000,9,-999.000,9, -999.00,9,  -999.0,9,  -999.0,-999.000,9,-999.000,-999.000,9,   45.44,2,   27.41,2,  190.10,-999.0000,9,-999.0000,9,-999.0000,9,-999.0000,9,-999.0000,9,-999.0000,9,  11.5429,     -999.0,9,     -999.0,9,     -999.0,9,     -999.0,9,        112,-999.000,-999.000,-999.000,     -999.0,9, -999.00,9, -999.00,9
33RO200306_02,       A16N,     112,          1,         25,         25,2,20030729,       1240,     9.9992,   -28.4992,       5334,   224.7,  11.1877,  35.0970,2,  35.0930,2,    102.6,2,   101.7,2,   11.17,2,   26.71,2,    0.00,2,    1.72,2,   1.351,2,   0.727,2,   0.015,2,  2201.2,2,  2305.3,2,    984.0,2,    20.00,   7.6319,2,    25.00,-999.000,9,-999.000,9,-999.000,9, -999.00,9,  -999.0,9,  -999.0,-999.000,9,-999.000,-999.000,9,   44.80,2,   30.64,2,  224.70,-999.0000,9,-999.0000,9,-999.0000,9,-999.0000,9,-999.0000,9,-999.0000,9,  11.1596,     -999.0,9,       1.05,2,       0.08,2,       0.14,2,        112,-999.000,-999.000,-999.000,      29.03,2,     0.0,2,     0.0,2
33RO200306_02,       A16N,     112,          1,         24,         24,2,20030729,       1240,     9.9992,   -28.4992,       5334,   275.2,  10.5523,  35.0261,2,  35.0243,2,     97.4,2,    93.7,2,   12.51,2,   28.86,2,    0.00,2,    1.82,2,   1.107,2,   0.600,2,   0.012,2,  2210.8,2,  2301.4,2,   1073.7,2,    20.00,   7.5972,2,    25.00,-999.000,9,-999.000,9,-999.000,9, -999.00,9,  -999.0,9,  -999.0,-999.000,9,-999.000,-999.000,9,   43.00,2,   33.97,2,  275.20,-999.0000,9,-999.0000,9,-999.0000,9,-999.0000,9,-999.0000,9,-999.0000,9,  10.5191,     -999.0,9,     -999.0,9,     -999.0,9,     -999.0,9,        112,-999.000,-999.000,-999.000,     -999.0,9, -999.00,9, -999.00,9
33RO200306_02,       A16N,     112,          1,         23,         23,2,20030729,       1240,     9.9992,   -28.4992,       5334,   324.2,  10.0389,  34.9944,2,  34.9974,2,     84.9,2,    78.6,2,   13.91,2,   31.31,2,    0.00,2,    1.96,2,   0.803,2,   0.438,2,   0.006,2,  2222.3,2,  2300.5,2,   1178.6,2,    20.00,   7.5555,2,    25.00,-999.000,9,-999.000,9,-999.000,9, -999.00,9,  -999.0,9,  -999.0,-999.000,9,-999.000,-999.000,9,   43.25,2,   35.06,2,  324.20,-999.0000,9,-999.0000,9,-999.0000,9,-999.0000,9,-999.0000,9,-999.0000,9,  10.0009,     -999.0,9,       0.54,2,       0.00,2,       0.15,2,        112,-999.000,-999.000,-999.000,     127.29,2,     1.4,2,     0.0,2
33RO200306_02,       A16N,     112,          1,         22,         22,2,20030729,       1240,     9.9992,   -28.4992,       5334,   374.8,   9.9195,  35.0493,2,  35.0505,2,     64.5,2,    57.5,2,   14.70,2,   33.61,2,    0.00,2,    2.06,2,-999.000,5,-999.000,5,-999.000,5,  2237.8,2,  2302.2,2,   1307.8,2,    20.00,   7.5212,2,    25.00,-999.000,9,-999.000,9,-999.000,9, -999.00,9,  -999.0,9,  -999.0,-999.000,9,-999.000,-999.000,9,   44.63,2,   37.88,2,  374.80,-999.0000,9,-999.0000,9,-999.0000,9,-999.0000,9,-999.0000,9,-999.0000,9,   9.8758,     -999.0,9,     -999.0,9,     -999.0,9,     -999.0,9,        112,-999.000,-999.000,-999.000,     -999.0,9, -999.00,9, -999.00,9
33RO200306_02,       A16N,     112,          1,         21,         21,2,20030729,       1240,     9.9992,   -28.4992,       5334,   449.5,   9.1549,  34.9950,2,  35.0765,3,     54.4,2,    57.1,2,   16.99,2,   35.39,2,    0.00,2,    2.19,2,   0.284,2,   0.159,2,   0.001,2,  2239.6,2,  -999.0,9,   1380.2,2,    20.00,-999.0000,9,  -999.00,-999.000,9,-999.000,9,-999.000,9, -999.00,9,  -999.0,9,  -999.0,-999.000,9,-999.000,-999.000,9,   43.74,2,   40.67,2,  449.50,-999.0000,9,-999.0000,9,-999.0000,9,-999.0000,9,-999.0000,9,-999.0000,9,   9.1048,     -999.0,9,     -999.0,9,     -999.0,9,     -999.0,9,        112,-999.000,-999.000,-999.000,     -999.0,9, -999.00,9, -999.00,9
33RO200306_02,       A16N,     112,          1,         20,         20,2,20030729,       1240,     9.9992,   -28.4992,       5334,   550.1,   7.8967,  34.8643,2,  34.8646,2,     62.4,2,    65.3,2,   20.34,2,   36.97,2,    0.00,2,    2.34,2,   0.125,2,   0.071,2,   0.003,2,  2243.4,2,  2303.3,2,   1433.0,6,    20.00,   7.4875,2,    25.00,-999.000,9,-999.000,9,-999.000,9, -999.00,9,  -999.0,9,  -999.0,-999.000,9,-999.000,-999.000,9,   43.17,2,   40.78,2,  550.10,-999.0000,9,-999.0000,9,-999.0000,9,-999.0000,9,-999.0000,9,-999.0000,9,   7.8403,     -999.0,9,       0.18,2,       0.00,2,       0.09,2,        112,-999.000,-999.000,-999.000,      14.46,2,    0.31,2,    0.49,2
33RO200306_02,       A16N,     112,          1,         19,         19,2,20030729,       1240,     9.9992,   -28.4992,       5334,   649.0,   6.9439,  34.7731,2,  34.7731,2,     74.7,2,    75.8,2,   23.09,2,   37.53,2,    0.00,2,    2.41,2,   0.061,2,   0.038,2,   0.004,2,  2242.9,2,  2301.8,2,   1443.6,2,    20.00,   7.4822,2,    25.00,-999.000,9,-999.000,9,-999.000,9, -999.00,9,  -999.0,9,  -999.0,-999.000,9,-999.000,-999.000,9,   43.58,2,   40.53,2,  649.00,-999.0000,9,-999.0000,9,-999.0000,9,-999.0000,9,-999.0000,9,-999.0000,9,   6.8816,     -999.0,9,     -999.0,9,     -999.0,9,     -999.0,9,        112,-999.000,-999.000,-999.000,     -999.0,9, -999.00,9, -999.00,9
33RO200306_02,       A16N,     112,          1,         18,         18,2,20030729,       1240,     9.9992,   -28.4992,       5334,   800.3,   5.7995,  34.6830,2,  34.6834,2,    108.2,2,   109.6,2,   26.58,2,   35.77,2,    0.00,2,    2.37,2,   0.024,2,   0.016,2,   0.001,2,  2232.8,2,  2303.6,2,   1294.5,2,    20.00,   7.5246,2,    25.00,-999.000,9,-999.000,9,-999.000,9, -999.00,9,  -999.0,9,  -999.0,-999.000,9,-999.000,-999.000,9,   41.30,2,   38.63,2,  800.30,-999.0000,9,-999.0000,9,-999.0000,9,-999.0000,9,-999.0000,9,-999.0000,9,   5.7289,     -999.0,9,     -999.0,9,     -999.0,9,     -999.0,9,        112,-999.000,-999.000,-999.000,     -999.0,9, -999.00,9, -999.00,9
33RO200306_02,       A16N,     112,          1,         17,         17,2,20030729,       1240,     9.9992,   -28.4992,       5334,   949.9,   5.3088,  34.7180,2,  34.7176,2,    129.8,2,   129.8,2,   27.57,2,   33.82,2,    0.00,2,    2.27,2,   0.013,2,   0.007,2,   0.001,2,  2226.5,6,  2308.7,6,   1194.5,2,    20.00,   7.5581,6,    25.00,-999.000,9,-999.000,9,-999.000,9, -999.00,9,  -999.0,9,  -999.0,-999.000,9,-999.000,-999.000,9,   41.71,2,   37.36,2,  949.90,-999.0000,9,-999.0000,9,-999.0000,9,-999.0000,9,-999.0000,9,-999.0000,9,   5.2274,     -999.0,9,       0.00,2,       0.00,2,       0.10,2,        112,-999.000,-999.000,-999.000,        0.0,2,     0.0,2,    0.09,2
33RO200306_02,       A16N,     112,          1,         16,         16,2,20030729,       1240,     9.9992,   -28.4992,       5334,  1100.1,   5.0469,  34.8153,2,  34.8160,2,    151.8,2,   153.0,2,   25.82,2,   30.67,2,    0.00,2,    2.07,2,   0.008,2,   0.010,2,   0.000,2,  2215.3,2,  2314.7,2,   1074.6,2,    20.00,   7.5923,2,    25.00,-999.000,9,-999.000,9,-999.000,9, -999.00,9,  -999.0,9,  -999.0,-999.000,9,-999.000,-999.000,9,   42.36,2,   33.85,2, 1100.10,-999.0000,9,-999.0000,9,-999.0000,9,-999.0000,9,-999.0000,9,-999.0000,9,   4.9535,     -999.0,9,     -999.0,9,     -999.0,9,     -999.0,9,        112,-999.000,-999.000,-999.000,     -999.0,9, -999.00,9, -999.00,9
33RO200306_02,       A16N,     112,          1,         15,         15,2,20030729,       1240,     9.9992,   -28.4992,       5334,  1250.3,   4.8499,  34.9009,2,  34.9015,2,    171.2,2,   174.6,2,   23.40,2,   27.70,2,    0.00,2,    1.86,2,   0.012,2,   0.012,2,   0.001,2,  2204.1,2,  2318.7,2,    969.5,2,    20.00,   7.6266,2,    25.00,-999.000,9,-999.000,9,-999.000,9, -999.00,9,  -999.0,9,  -999.0,-999.000,9,-999.000,-999.000,9,   42.68,2,   31.14,2, 1250.30,-999.0000,9,-999.0000,9,-999.0000,9,-999.0000,9,-999.0000,9,-999.0000,9,   4.7441,     -999.0,9,     -999.0,9,     -999.0,9,     -999.0,9,        112,-999.000,-999.000,-999.000,     -999.0,9, -999.00,9, -999.00,9
33RO200306_02,       A16N,     112,          1,         14,         14,2,20030729,       1240,     9.9992,   -28.4992,       5334,  1449.9,   4.4472,  34.9583,2,  34.9595,2,    205.8,2,   209.7,2,   20.53,2,   23.98,2,    0.00,2,    1.61,2,   0.033,2,   0.017,2,   0.001,2,  2185.8,2,  2317.9,2,   -999.0,9,  -999.00,   7.6822,2,    25.00,-999.000,9,-999.000,9,-999.000,9, -999.00,9,  -999.0,9,  -999.0,-999.000,9,-999.000,-999.000,9,   42.20,2,   27.43,2, 1449.90,-999.0000,9,-999.0000,9,-999.0000,9,-999.0000,9,-999.0000,9,-999.0000,9,   4.3267,     -999.0,9,       0.00,2,       0.00,2,       0.12,2,        112,-999.000,-999.000,-999.000,        0.0,2,     0.0,2,    0.09,2
33RO200306_02,       A16N,     112,          1,         13,         13,2,20030729,       1240,     9.9992,   -28.4992,       5334,  1749.6,   3.8305,  34.9708,2,  34.9712,2,    233.9,2,   235.7,2,   20.03,2,   21.31,2,    0.00,2,    1.45,2,   0.012,2,   0.008,2,   0.000,2,  2172.6,2,  2319.8,2,    779.5,2,    20.00,   7.7192,2,    25.00,-999.000,9,-999.000,9,-999.000,9, -999.00,9,  -999.0,9,  -999.0,-999.000,9,-999.000,-999.000,9,   41.71,2,   25.64,2, 1749.60,-999.0000,9,-999.0000,9,-999.0000,9,-999.0000,9,-999.0000,9,-999.0000,9,   3.6893,     -999.0,9,     -999.0,9,     -999.0,9,     -999.0,9,        112,-999.000,-999.000,-999.000,     -999.0,9, -999.00,9, -999.00,9
33RO200306_02,       A16N,     112,          1,         12,         12,2,20030729,       1240,     9.9992,   -28.4992,       5334,  2049.2,   3.4553,  34.9639,2,  34.9643,2,    243.9,2,   239.3,2,   22.09,2,   20.60,2,    0.00,2,    1.39,2,   0.005,2,   0.005,2,   0.001,2,  2170.9,2,  -999.0,9,   -999.0,9,  -999.00,-999.0000,9,  -999.00,-999.000,9,-999.000,9,-999.000,9, -999.00,9,  -999.0,9,  -999.0,-999.000,9,-999.000,-999.000,9,   40.81,2,   25.00,2, 2049.20,-999.0000,9,-999.0000,9,-999.0000,9,-999.0000,9,-999.0000,9,-999.0000,9,   3.2912,     -999.0,9,     -999.0,9,     -999.0,9,     -999.0,9,        112,-999.000,-999.000,-999.000,     -999.0,9, -999.00,9, -999.00,9
33RO200306_02,       A16N,     112,          1,         11,         11,2,20030729,       1240,     9.9992,   -28.4992,       5334,  2350.0,   3.1780,  34.9538,2,  34.9540,2,    248.2,2,   242.4,2,   25.40,2,   20.49,2,    0.00,2,    1.39,2,-999.000,9,-999.000,9,-999.000,9,  2174.0,2,  -999.0,9,    739.4,2,    20.00,-999.0000,9,  -999.00,-999.000,9,-999.000,9,-999.000,9, -999.00,9,  -999.0,9,  -999.0,-999.000,9,-999.000,-999.000,9, -999.00,9, -999.00,9, 2350.00,-999.0000,9,-999.0000,9,-999.0000,9,-999.0000,9,-999.0000,9,-999.0000,9,   2.9895,     -999.0,9,       0.04,2,       0.00,2,       0.14,2,        112,-999.000,-999.000,-999.000,     121.77,2,     0.0,2,     0.0,2
33RO200306_02,       A16N,     112,          1,         10,         10,2,20030729,       1240,     9.9992,   -28.4992,       5334,  2649.7,   2.9479,  34.9411,2,  34.9414,2,    247.6,2,   248.7,2,   29.06,2,   20.65,2,    0.00,2,    1.42,2,   0.004,2,   0.004,2,   0.000,2,  2174.4,2,  2325.3,2,   -999.0,9,  -999.00,   7.7338,2,    25.00,-999.000,9,-999.000,9,-999.000,9, -999.00,9,  -999.0,9,  -999.0,-999.000,9,-999.000,-999.000,9,   40.81,2,   24.28,2, 2649.70,-999.0000,9,-999.0000,9,-999.0000,9,-999.0000,9,-999.0000,9,-999.0000,9,   2.7341,     -999.0,9,     -999.0,9,     -999.0,9,     -999.0,9,        112,-999.000,-999.000,-999.000,     -999.0,9, -999.00,9, -999.00,9
33RO200306_02,       A16N,     112,          1,          9,          9,2,20030729,       1240,     9.9992,   -28.4992,       5334,  2950.7,   2.7480,  34.9279,2,  34.9281,2,    248.1,2,   248.7,2,   32.87,2,   21.04,2,    0.00,2,    1.45,2,   0.005,2,   0.003,2,   0.001,2,  2179.3,2,  2329.1,2,    755.6,2,    20.00,   7.7311,2,    25.00,-999.000,9,-999.000,9,-999.000,9, -999.00,9,  -999.0,9,  -999.0,-999.000,9,-999.000,-999.000,9,   40.73,2,   24.44,2, 2950.70,-999.0000,9,-999.0000,9,-999.0000,9,-999.0000,9,-999.0000,9,-999.0000,9,   2.5078,     -999.0,9,       0.03,2,       0.00,2,       0.08,2,        112,-999.000,-999.000,-999.000,      27.63,2,    0.23,2,     0.0,2
33RO200306_02,       A16N,     112,          1,          8,          8,2,20030729,       1240,     9.9992,   -28.4992,       5334,  3250.8,   2.6064,  34.9162,2,  34.9164,2,    247.1,2,   248.3,2,   36.54,2,   21.40,2,    0.00,2,    1.46,2,-999.000,9,-999.000,9,-999.000,9,  2183.5,2,  -999.0,9,   -999.0,9,  -999.00,-999.0000,9,  -999.00,-999.000,9,-999.000,9,-999.000,9, -999.00,9,  -999.0,9,  -999.0,-999.000,9,-999.000,-999.000,9,   40.57,2,   25.43,2, 3250.80,-999.0000,9,-999.0000,9,-999.0000,9,-999.0000,9,-999.0000,9,-999.0000,9,   2.3381,     -999.0,9,     -999.0,9,     -999.0,9,     -999.0,9,        112,-999.000,-999.000,-999.000,     -999.0,9, -999.00,9, -999.00,9