BOTTLE,20230908CCHSIOCBG
EXPOCODE,SECT_ID,STNNBR,CASTNO,SAMPNO,BTLNBR,BTLNBR_FLAG_W,DATE,TIME,LATITUDE,LONGITUDE,DEPTH,CTDPRS,CTDTMP,CTDSAL,CTDSAL_FLAG_W,SALNTY,SALNTY_FLAG_W,CTDOXY,CTDOXY_FLAG_W,OXYGEN,OXYGEN_FLAG_W,SILCAT,SILCAT_FLAG_W,NITRAT,NITRAT_FLAG_W,NITRIT,NITRIT_FLAG_W,PHSPHT,PHSPHT_FLAG_W,CFC-11,CFC-11_FLAG_W,CFC-12,CFC-12_FLAG_W,CFC113,CFC113_FLAG_W,TCARBN,TCARBN_FLAG_W,ALKALI,ALKALI_FLAG_W,FCO2,FCO2_FLAG_W,FCO2TMP,PH_SWS,PH_SWS_FLAG_W,PH_TMP,TRITUM,TRITUM_FLAG_W,HELIUM,HELIUM_FLAG_W,DELHE3,DELHE3_FLAG_W,DELC13,DELC13_FLAG_W,DELC14,DELC14_FLAG_W,C14ERR,NEON,NEON_FLAG_W,NEONER,POC,POC_FLAG_W,DOC,DOC_FLAG_W,TDN,TDN_FLAG_W,CTDRAW,CDOM325,CDOM325_FLAG_W,CDOM340,CDOM340_FLAG_W,CDOM380,CDOM380_FLAG_W,CDOM412,CDOM412_FLAG_W,CDOMSL,CDOMSL_FLAG_W,CDOMSN,CDOMSN_FLAG_W,THETA,PON,PON_FLAG_W,HCFC-22,HCFC-22_FLAG_W,HCFC-142b,HCFC-142b_FLAG_W,HCFC-141b,HCFC-141b_FLAG_W,STNNBR_U,HELIER,DELHER,TRITER,CH3CL,CH3CL_FLAG_W,CH3BR,CH3BR_FLAG_W,CH3I,CH3I_FLAG_W
,,,,,,,,,,,METERS,DBAR,ITS-90,PSS-78,,PSS-78,,UMOL/KG,,UMOL/KG,,UMOL/KG,,UMOL/KG,,UMOL/KG,,UMOL/KG,,PMOL/KG,,PMOL/KG,,PMOL/KG,,UMOL/KG,,UMOL/KG,,UATM,,DEG C,,,DEG C,TU,,NMOL/KG,,PERCNT,,/MILLE,,/MILLE,,/MILLE,NMOL/KG,,NMOL/KG,UG/KG,,UMOL/KG,,UMOL/KG,,DBAR,1/M,,1/M,,1/M,,1/M,,1/NM,,1/NM,,DEG C,UMOL/L,,PMOL/KG,,PMOL/KG,,PMOL/KG,,,NMOL/KG,PERCNT,TU,PMOL/KG,,PMOL/KG,,PMOL/KG,
33RO200306_02,       A16N,     080,          1,         35,         35,2,20030719,       0756,    25.9998,   -25.6255,       4277,     3.0,  24.3232,  37.3459,2,  37.3504,2,    213.3,2,   209.7,2,    0.39,2,    0.00,2,    0.01,2,    0.02,2,   1.917,2,   1.222,2,   0.167,2,  2108.1,6,  -999.0,9,    330.2,2,    20.00,-999.0000,9,  -999.00,-999.000,9,-999.000,9,-999.000,9, -999.00,9,  -999.0,9,  -999.0,-999.000,9,-999.000,-999.000,9,   70.57,2,    7.62,2,    3.00,-999.0000,9,-999.0000,9,-999.0000,9,-999.0000,9,-999.0000,9,-999.0000,9,  24.3226,     -999.0,9,       4.34,2,       0.15,2,       0.55,2,         80,-999.000,-999.000,-999.000,      49.55,2,    0.55,2,   16.68,2
33RO200306_02,       A16N,     080,          1,         33,         33,2,20030719,       0756,    25.9998,   -25.6255,       4277,    15.2,  24.3239,  37.3458,2,  37.3551,2,    211.6,2,   209.1,2,    0.39,2,    0.00,2,    0.01,2,    0.02,2,   1.915,2,   1.229,2,   0.170,2,  2107.3,2,  2441.6,2,    330.2,2,    20.00,   8.0442,2,    25.00,-999.000,9,-999.000,9,-999.000,9, -999.00,9,  -999.0,9,  -999.0,-999.000,9,-999.000,-999.000,9,   68.54,2,    7.80,2,   15.20,-999.0000,9,-999.0000,9,-999.0000,9,-999.0000,9,-999.0000,9,-999.0000,9,  24.3206,     -999.0,9,       4.89,2,       0.40,2,       1.47,2,         80,-999.000,-999.000,-999.000,     107.17,2,    2.77,2,   15.89,2
33RO200306_02,       A16N,     080,          1,         32,         32,2,20030719,       0756,    25.9998,   -25.6255,       4277,    45.1,  22.7582,  37.2397,2,  37.2394,2,    221.7,2,   224.2,2,    0.50,2,    0.00,2,    0.01,2,    0.02,2,-999.000,9,-999.000,9,-999.000,9,  2099.0,2,  2433.8,2,    328.8,2,    20.00,   8.0405,2,    25.00,-999.000,9,-999.000,9,-999.000,9, -999.00,9,  -999.0,9,  -999.0,-999.000,9,-999.000,-999.000,9,   69.83,2,    8.01,2,   45.10,-999.0000,9,-999.0000,9,-999.0000,9,-999.0000,9,-999.0000,9,-999.0000,9,  22.7490,     -999.0,9,     -999.0,9,     -999.0,9,     -999.0,9,         80,-999.000,-999.000,-999.000,     -999.0,9, -999.00,9, -999.00,9
33RO200306_02,       A16N,     080,          1,         31,         31,2,20030719,       0756,    25.9998,   -25.6255,       4277,    64.8,  21.7666,  37.1600,2,  37.1722,2,    225.1,2,   226.6,2,    0.53,2,    0.00,2,    0.01,2,    0.02,2,   2.173,2,   1.371,2,   0.187,2,  2098.6,2,  2437.5,2,    329.6,2,    20.00,   8.0431,2,    25.00,-999.000,9,-999.000,9,-999.000,9, -999.00,9,  -999.0,9,  -999.0,-999.000,9,-999.000,-999.000,9, -999.00,9, -999.00,9,   64.80,-999.0000,9,-999.0000,9,-999.0000,9,-999.0000,9,-999.0000,9,-999.0000,9,  21.7538,     -999.0,9,       4.80,2,       0.15,2,       0.27,2,         80,-999.000,-999.000,-999.000,     116.51,2,    0.55,2,   19.28,2
33RO200306_02,       A16N,     080,          1,         30,         30,2,20030719,       0756,    25.9998,   -25.6255,       4277,    95.4,  21.1634,  37.1164,2,  37.1447,2,    221.4,2,   222.5,2,    0.53,2,    0.01,2,    0.01,2,    0.02,2,-999.000,9,-999.000,9,-999.000,9,  2101.2,2,  2428.0,2,    337.8,2,    20.00,   8.0359,2,    25.00,-999.000,9,-999.000,9,-999.000,9, -999.00,9,  -999.0,9,  -999.0,-999.000,9,-999.000,-999.000,9,   64.96,2,    8.11,2,   95.40,-999.0000,9,-999.0000,9,-999.0000,9,-999.0000,9,-999.0000,9,-999.0000,9,  21.1449,     -999.0,9,     -999.0,9,     -999.0,9,     -999.0,9,         80,-999.000,-999.000,-999.000,     -999.0,9, -999.00,9, -999.00,9
33RO200306_02,       A16N,     080,          1,         29,         29,2,20030719,       0756,    25.9998,   -25.6255,       4277,   114.8,  20.9899,  37.1488,2,  37.1379,2,    219.0,2,   217.4,2,    0.55,2,    0.01,2,    0.01,2,    0.02,2,   2.191,2,   1.374,2,   0.179,2,  2106.9,2,  2432.1,2,    345.9,2,    20.00,   8.0246,2,    25.00,-999.000,9,-999.000,9,-999.000,9, -999.00,9,  -999.0,9,  -999.0,-999.000,9,-999.000,-999.000,9, -999.00,9, -999.00,9,  114.80,-999.0000,9,-999.0000,9,-999.0000,9,-999.0000,9,-999.0000,9,-999.0000,9,  20.9677,     -999.0,9,       4.31,2,       0.17,2,       0.55,2,         80,-999.000,-999.000,-999.000,      46.03,2,    0.29,2,    5.16,2
33RO200306_02,       A16N,     080,          1,         28,         28,2,20030719,       0756,    25.9998,   -25.6255,       4277,   140.8,  20.3372,  37.0356,2,  37.0283,2,    211.3,2,   208.1,2,    0.68,2,    0.49,2,    0.10,2,    0.05,2,-999.000,9,-999.000,9,-999.000,9,  2112.5,2,  2419.9,2,    368.9,2,    20.00,   8.0176,2,    25.00,-999.000,9,-999.000,9,-999.000,9, -999.00,9,  -999.0,9,  -999.0,-999.000,9,-999.000,-999.000,9,   57.56,2,    8.99,2,  140.80,-999.0000,9,-999.0000,9,-999.0000,9,-999.0000,9,-999.0000,9,-999.0000,9,  20.3106,     -999.0,9,     -999.0,9,     -999.0,9,     -999.0,9,         80,-999.000,-999.000,-999.000,     -999.0,9, -999.00,9, -999.00,9
33RO200306_02,       A16N,     080,          1,         27,         27,2,20030719,       0756,    25.9998,   -25.6255,       4277,   164.9,  19.0285,  36.7651,2,  36.7589,2,    198.3,2,   196.1,2,    1.05,2,    2.71,2,    0.03,2,    0.16,2,   2.336,2,   1.432,2,   0.117,2,  2119.8,2,  2406.6,3,   -999.0,9,  -999.00,-999.0000,9,  -999.00,-999.000,9,   1.768,2,  -1.491,2, -999.00,9,  -999.0,9,  -999.0,   7.142,2,   0.053,-999.000,9, -999.00,9, -999.00,9,  164.90,-999.0000,9,-999.0000,9,-999.0000,9,-999.0000,9,-999.0000,9,-999.0000,9,  18.9988,     -999.0,9,       4.39,2,       0.14,2,       2.43,2,         80,   0.004,   0.196,-999.000,     106.44,2,    8.54,2,    1.01,2
33RO200306_02,       A16N,     080,          1,         26,         26,2,20030719,       0756,    25.9998,   -25.6255,       4277,   190.0,  18.2384,  36.6070,2,  36.6000,2,    191.2,2,   194.0,2,    1.28,2,    3.79,2,    0.02,2,    0.21,2,   2.408,2,   1.466,2,   0.080,2,  2119.4,2,  2392.4,2,    420.2,6,    20.00,   7.9565,2,    25.00,-999.000,9,-999.000,9,-999.000,9, -999.00,9,  -999.0,9,  -999.0,-999.000,9,-999.000,-999.000,9,   50.57,2,    9.56,2,  190.00,-999.0000,9,-999.0000,9,-999.0000,9,-999.0000,9,-999.0000,9,-999.0000,9,  18.2051,     -999.0,9,     -999.0,9,     -999.0,9,     -999.0,9,         80,-999.000,-999.000,-999.000,     -999.0,9, -999.00,9, -999.00,9
33RO200306_02,       A16N,     080,          1,         25,         25,2,20030719,       0756,    25.9998,   -25.6255,       4277,   225.2,  17.5075,  36.4667,2,  36.4627,2,    194.6,2,   198.0,2,    1.48,2,    4.57,2,    0.01,2,    0.25,2,   2.481,2,   1.490,2,   0.055,2,  2115.9,2,  2384.0,2,   -999.0,9,  -999.00,   7.9513,2,    25.00,-999.000,9,   1.772,2,  -1.306,2, -999.00,9,  -999.0,9,  -999.0,   7.214,2,   0.054,-999.000,9,   49.59,2,   10.61,2,  225.20,-999.0000,9,-999.0000,9,-999.0000,9,-999.0000,9,-999.0000,9,-999.0000,9,  17.4692,     -999.0,9,       4.20,2,       0.22,2,       0.37,2,         80,   0.004,   0.196,-999.000,      24.88,2,    0.43,2,    0.19,2
33RO200306_02,       A16N,     080,          1,         24,         24,2,20030719,       0756,    25.9998,   -25.6255,       4277,   275.3,  16.5330,  36.2890,2,  36.2788,2,    192.1,2,   194.1,2,    2.04,2,    6.56,2,    0.01,2,    0.37,2,   2.525,2,   1.488,2,   0.042,2,  2121.8,2,  2377.7,2,    457.3,2,    20.00,   7.9247,2,    25.00,-999.000,9,-999.000,9,-999.000,9, -999.00,9,  -999.0,9,  -999.0,-999.000,9,-999.000,-999.000,9,   48.61,2,   13.50,2,  275.30,-999.0000,9,-999.0000,9,-999.0000,9,-999.0000,9,-999.0000,9,-999.0000,9,  16.4879,     -999.0,9,     -999.0,9,     -999.0,9,     -999.0,9,         80,-999.000,-999.000,-999.000,     -999.0,9, -999.00,9, -999.00,9
33RO200306_02,       A16N,     080,          1,         23,         23,2,20030719,       0756,    25.9998,   -25.6255,       4277,   324.9,  15.2540,  36.0760,2,  36.0785,2,    189.0,2,   191.3,2,    2.92,2,    9.02,2,    0.01,2,    0.52,2,   2.555,2,   1.471,2,   0.038,2,  2129.9,2,  2361.3,2,    493.4,2,    20.00,   7.8779,2,    25.00,-999.000,9,-999.000,9,-999.000,9, -999.00,9,  -999.0,9,  -999.0,-999.000,9,-999.000,-999.000,9,   45.85,2,   14.14,2,  324.90,-999.0000,9,-999.0000,9,-999.0000,9,-999.0000,9,-999.0000,9,-999.0000,9,  15.2036,     -999.0,9,       3.64,2,       0.12,2,       0.48,2,         80,-999.000,-999.000,-999.000,        0.0,2,     0.1,2,    0.04,2
33RO200306_02,       A16N,     080,          1,         22,         22,2,20030719,       0756,    25.9998,   -25.6255,       4277,   374.9,  14.3715,  35.9455,2,  35.9460,2,    188.8,2,   189.1,2,    3.68,2,   10.70,2,    0.01,2,    0.63,2,   2.538,2,   1.447,2,   0.041,2,  2137.8,2,  2352.8,2,    540.9,2,    20.00,   7.8697,2,    25.00,-999.000,9,-999.000,9,-999.000,9, -999.00,9,  -999.0,9,  -999.0,-999.000,9,-999.000,-999.000,9,   43.86,2,   14.48,2,  374.90,-999.0000,9,-999.0000,9,-999.0000,9,-999.0000,9,-999.0000,9,-999.0000,9,  14.3156,     -999.0,9,     -999.0,9,     -999.0,9,     -999.0,9,         80,-999.000,-999.000,-999.000,     -999.0,9, -999.00,9, -999.00,9
33RO200306_02,       A16N,     080,          1,         21,         21,2,20030719,       0756,    25.9998,   -25.6255,       4277,   450.3,  13.2930,  35.8014,2,  35.8019,2,    182.9,2,   182.7,2,    4.82,2,   13.16,2,    0.01,2,    0.78,2,   2.425,6,   1.337,6,   0.040,6,  2148.6,2,  2345.7,2,    577.6,2,    20.00,   7.8329,2,    25.00,-999.000,9,-999.000,9,-999.000,9, -999.00,9,  -999.0,9,  -999.0,-999.000,9,-999.000,-999.000,9,   44.80,2,   17.54,2,  450.30,-999.0000,9,-999.0000,9,-999.0000,9,-999.0000,9,-999.0000,9,-999.0000,9,  13.2291,     -999.0,9,       3.05,2,       0.11,2,       0.41,2,         80,-999.000,-999.000,-999.000,      36.36,2,     1.1,2,    0.93,2
33RO200306_02,       A16N,     080,          1,         20,         20,2,20030719,       0756,    25.9998,   -25.6255,       4277,   525.1,  12.3972,  35.6906,2,  35.6911,2,    178.1,2,   176.9,2,    5.93,2,   15.25,2,    0.01,2,    0.90,2,   2.210,2,   1.197,2,   0.041,2,  2156.1,2,  2339.9,2,    638.7,2,    20.00,   7.8051,2,    25.00,-999.000,9,-999.000,9,-999.000,9, -999.00,9,  -999.0,9,  -999.0,-999.000,9,-999.000,-999.000,9,   45.53,2,   20.25,2,  525.10,-999.0000,9,-999.0000,9,-999.0000,9,-999.0000,9,-999.0000,9,-999.0000,9,  12.3258,     -999.0,9,     -999.0,9,     -999.0,9,     -999.0,9,         80,-999.000,-999.000,-999.000,     -999.0,9, -999.00,9, -999.00,9
33RO200306_02,       A16N,     080,          1,         19,         19,2,20030719,       0756,    25.9998,   -25.6255,       4277,   599.8,  11.5932,  35.5969,2,  35.6012,2,    172.1,2,   169.4,2,    7.29,2,   17.42,2,    0.01,2,    1.04,2,   1.932,2,   1.022,2,   0.033,2,  2165.9,2,  2335.7,2,    675.5,2,    20.00,   7.7741,2,    25.00,-999.000,9,-999.000,9,-999.000,9, -999.00,9,  -999.0,9,  -999.0,-999.000,9,-999.000,-999.000,9,   44.96,2,   21.38,2,  599.80,-999.0000,9,-999.0000,9,-999.0000,9,-999.0000,9,-999.0000,9,-999.0000,9,  11.5149,     -999.0,9,       1.71,2,       0.00,2,       0.74,2,         80,-999.000,-999.000,-999.000,        0.0,2,     0.0,2,     0.0,2
33RO200306_02,       A16N,     080,          1,         18,         18,2,20030719,       0756,    25.9998,   -25.6255,       4277,   674.0,  10.6817,  35.4977,2,  35.4984,2,    161.9,2,   159.2,2,    9.49,2,   20.09,2,    0.01,2,    1.21,2,   1.507,2,   0.997,2,   0.058,2,  2177.9,2,  2332.1,2,    737.6,2,    20.00,   7.7425,2,    25.00,-999.000,9,-999.000,9,-999.000,9, -999.00,9,  -999.0,9,  -999.0,-999.000,9,-999.000,-999.000,9,   43.98,2,   23.30,2,  674.00,-999.0000,9,-999.0000,9,-999.0000,9,-999.0000,9,-999.0000,9,-999.0000,9,  10.5978,     -999.0,9,     -999.0,9,     -999.0,9,     -999.0,9,         80,-999.000,-999.000,-999.000,     -999.0,9, -999.00,9, -999.00,9
33RO200306_02,       A16N,     080,          1,         17,         17,2,20030719,       0756,    25.9998,   -25.6255,       4277,   750.4,   9.8671,  35.4200,2,  35.4262,2,    156.1,2,   152.1,2,   11.74,2,   22.14,2,    0.01,2,    1.36,2,   0.910,2,   0.472,2,   0.011,2,  2186.2,2,  2331.1,6,    693.0,4,    20.00,   7.7127,6,    25.00,-999.000,9,-999.000,9,-999.000,9, -999.00,9,  -999.0,9,  -999.0,-999.000,9,-999.000,-999.000,9,   43.09,2,   25.76,2,  750.40,-999.0000,9,-999.0000,9,-999.0000,9,-999.0000,9,-999.0000,9,-999.0000,9,   9.7778,     -999.0,9,       0.63,2,       0.00,2,       0.23,2,         80,-999.000,-999.000,-999.000,        0.0,2,     0.0,2,     0.0,2
33RO200306_02,       A16N,     080,          1,         16,         16,2,20030719,       0756,    25.9998,   -25.6255,       4277,   824.9,   9.2725,  35.3622,2,  35.3655,2,    148.4,2,   146.9,2,   13.42,2,   23.60,2,    0.01,2,    1.46,2,   0.625,2,   0.332,2,   0.009,2,  2189.7,2,  2331.0,2,    826.2,2,    20.00,   7.6926,2,    25.00,-999.000,9,-999.000,9,-999.000,9, -999.00,9,  -999.0,9,  -999.0,-999.000,9,-999.000,-999.000,9,   41.30,2,   26.90,2,  824.90,-999.0000,9,-999.0000,9,-999.0000,9,-999.0000,9,-999.0000,9,-999.0000,9,   9.1776,     -999.0,9,     -999.0,9,     -999.0,9,     -999.0,9,         80,-999.000,-999.000,-999.000,     -999.0,9, -999.00,9, -999.00,9
33RO200306_02,       A16N,     080,          1,         15,         15,2,20030719,       0756,    25.9998,   -25.6255,       4277,   900.7,   8.4431,  35.2967,2,  35.2983,2,    148.0,2,   149.8,2,   15.42,2,   24.59,2,    0.01,2,    1.55,2,   0.388,2,   0.207,2,   0.007,2,  2193.9,2,  2329.8,2,    852.5,2,    20.00,   7.6779,2,    25.00,-999.000,9,   1.819,2,   5.027,2, -999.00,9,  -999.0,9,  -999.0,   7.604,2,   0.066,-999.000,9,   41.30,2,   27.56,2,  900.70,-999.0000,9,-999.0000,9,-999.0000,9,-999.0000,9,-999.0000,9,-999.0000,9,   8.3445,     -999.0,9,       0.14,2,       0.00,2,       0.24,2,         80,   0.003,   0.184,-999.000,      12.32,2,    0.11,2,     0.0,2
33RO200306_02,       A16N,     080,          1,         14,         14,2,20030719,       0756,    25.9998,   -25.6255,       4277,  1000.3,   7.5885,  35.2339,2,  35.2335,2,    153.6,2,   157.0,2,   17.10,2,   25.06,2,    0.01,2,    1.60,2,   0.246,2,   0.129,2,   0.003,2,  2196.4,6,  2330.7,2,    857.0,2,    20.00,   7.6760,2,    25.00,-999.000,9,-999.000,9,-999.000,9, -999.00,9,  -999.0,9,  -999.0,-999.000,9,-999.000,-999.000,9,   42.44,2,   28.58,2, 1000.30,-999.0000,9,-999.0000,9,-999.0000,9,-999.0000,9,-999.0000,9,-999.0000,9,   7.4847,     -999.0,9,     -999.0,9,     -999.0,9,     -999.0,9,         80,-999.000,-999.000,-999.000,     -999.0,9, -999.00,9, -999.00,9
33RO200306_02,       A16N,     080,          1,         13,         13,2,20030719,       0756,    25.9998,   -25.6255,       4277,  1150.1,   7.2422,  35.3112,2,  35.3143,2,    168.7,2,   173.7,2,   16.92,2,   23.46,2,    0.01,2,    1.50,2,   0.262,2,   0.143,2,   0.004,2,  2194.9,2,  2336.6,2,    804.6,2,    20.00,   7.6908,2,    25.00,-999.000,9,-999.000,9,-999.000,9, -999.00,9,  -999.0,9,  -999.0,-999.000,9,-999.000,-999.000,9,   42.60,2,   26.82,2, 1150.10,-999.0000,9,-999.0000,9,-999.0000,9,-999.0000,9,-999.0000,9,-999.0000,9,   7.1246,     -999.0,9,     -999.0,9,     -999.0,9,     -999.0,9,         80,-999.000,-999.000,-999.000,     -999.0,9, -999.00,9, -999.00,9
33RO200306_02,       A16N,     080,          1,         12,         12,2,20030719,       0756,    25.9998,   -25.6255,       4277,  1299.6,   6.4605,  35.2602,2,  35.2606,2,    185.9,2,   185.7,2,   17.48,2,   22.76,2,    0.01,2,    1.46,2,   0.154,2,   0.088,2,   0.004,2,  2190.8,2,  2335.2,2,    804.7,2,    20.00,   7.7108,2,    25.00,-999.000,9,   1.870,3,   3.419,2, -999.00,9,  -999.0,9,  -999.0,   7.477,2,   0.065,-999.000,9,   42.27,2,   26.46,2, 1299.60,-999.0000,9,-999.0000,9,-999.0000,9,-999.0000,9,-999.0000,9,-999.0000,9,   6.3338,     -999.0,9,     -999.0,9,     -999.0,9,     -999.0,9,         80,   0.004,   0.186,-999.000,     -999.0,9, -999.00,9, -999.00,9
33RO200306_02,       A16N,     080,          1,         11,         11,2,20030719,       0756,    25.9998,   -25.6255,       4277,  1450.0,   6.0703,  35.2549,2,  35.2571,2,    199.5,2,   196.7,2,   17.74,2,   21.86,2,    0.01,2,    1.41,2,   0.162,2,   0.087,2,   0.003,2,  2188.0,2,  2335.5,2,   -999.0,9,  -999.00,   7.7198,2,    25.00,-999.000,9,   1.853,3,   2.915,2, -999.00,9,  -999.0,9,  -999.0,   7.844,2,   0.061,-999.000,9,   42.03,2,   25.48,2, 1450.00,-999.0000,9,-999.0000,9,-999.0000,9,-999.0000,9,-999.0000,9,-999.0000,9,   5.9317,     -999.0,9,       0.00,2,       0.00,2,       0.17,2,         80,   0.003,    0.15,-999.000,      22.38,2,    0.26,2,     0.0,2
33RO200306_02,       A16N,     080,          1,         10,         10,2,20030719,       0756,    25.9998,   -25.6255,       4277,  1750.6,   4.9122,  35.1612,2,  35.1674,3,    219.9,2,   219.0,2,   19.87,2,   20.86,2,    0.01,2,    1.36,2,   0.095,2,   0.054,2,   0.001,2,  2184.4,2,  2332.7,2,    762.8,6,    20.00,   7.7246,2,    25.00,-999.000,9,-999.000,9,-999.000,9, -999.00,9,  -999.0,9,  -999.0,-999.000,9,-999.000,-999.000,9,   40.49,2,   25.45,2, 1750.60,-999.0000,9,-999.0000,9,-999.0000,9,-999.0000,9,-999.0000,9,-999.0000,9,   4.7564,     -999.0,9,     -999.0,9,     -999.0,9,     -999.0,9,         80,-999.000,-999.000,-999.000,     -999.0,9, -999.00,9, -999.00,9
33RO200306_02,       A16N,     080,          1,          9,          9,2,20030719,       0756,    25.9998,   -25.6255,       4277,  2050.5,   4.0396,  35.0729,2,  35.0763,2,    234.2,2,   234.9,2,   22.14,2,   20.24,2,    0.01,2,    1.34,2,   0.052,2,   0.032,2,   0.002,2,  2181.2,2,  2336.3,2,   -999.0,9,  -999.00,   7.7284,2,    25.00,-999.000,9,-999.000,9,-999.000,9, -999.00,9,  -999.0,9,  -999.0,-999.000,9,-999.000,-999.000,9,   42.68,2,   25.27,2, 2050.50,-999.0000,9,-999.0000,9,-999.0000,9,-999.0000,9,-999.0000,9,-999.0000,9,   3.8662,     -999.0,9,       0.00,2,       0.00,2,       0.16,2,         80,-999.000,-999.000,-999.000,      33.48,2,    0.57,2,     0.0,2
33RO200306_02,       A16N,     080,          1,          8,          8,2,20030719,       0756,    25.9998,   -25.6255,       4277,  2350.3,   3.4371,  35.0086,2,  35.0118,2,    237.9,2,   238.4,2,   27.19,2,   20.67,2,    0.01,2,    1.38,2,   0.015,2,   0.010,2,   0.001,2,  2183.2,2,  2335.0,2,    755.4,2,    20.00,   7.7292,2,    25.00,-999.000,9,-999.000,9,-999.000,9, -999.00,9,  -999.0,9,  -999.0,-999.000,9,-999.000,-999.000,9,   42.27,2,   25.07,2, 2350.30,-999.0000,9,-999.0000,9,-999.0000,9,-999.0000,9,-999.0000,9,-999.0000,9,   3.2439,     -999.0,9,     -999.0,9,     -999.0,9,     -999.0,9,         80,-999.000,-999.000,-999.000,     -999.0,9, -999.00,9, -999.00,9