BOTTLE,20230908CCHSIOCBG
EXPOCODE,SECT_ID,STNNBR,CASTNO,SAMPNO,BTLNBR,BTLNBR_FLAG_W,DATE,TIME,LATITUDE,LONGITUDE,DEPTH,CTDPRS,CTDTMP,CTDSAL,CTDSAL_FLAG_W,SALNTY,SALNTY_FLAG_W,CTDOXY,CTDOXY_FLAG_W,OXYGEN,OXYGEN_FLAG_W,SILCAT,SILCAT_FLAG_W,NITRAT,NITRAT_FLAG_W,NITRIT,NITRIT_FLAG_W,PHSPHT,PHSPHT_FLAG_W,CFC-11,CFC-11_FLAG_W,CFC-12,CFC-12_FLAG_W,CFC113,CFC113_FLAG_W,TCARBN,TCARBN_FLAG_W,ALKALI,ALKALI_FLAG_W,FCO2,FCO2_FLAG_W,FCO2TMP,PH_SWS,PH_SWS_FLAG_W,PH_TMP,TRITUM,TRITUM_FLAG_W,HELIUM,HELIUM_FLAG_W,DELHE3,DELHE3_FLAG_W,DELC13,DELC13_FLAG_W,DELC14,DELC14_FLAG_W,C14ERR,NEON,NEON_FLAG_W,NEONER,POC,POC_FLAG_W,DOC,DOC_FLAG_W,TDN,TDN_FLAG_W,CTDRAW,CDOM325,CDOM325_FLAG_W,CDOM340,CDOM340_FLAG_W,CDOM380,CDOM380_FLAG_W,CDOM412,CDOM412_FLAG_W,CDOMSL,CDOMSL_FLAG_W,CDOMSN,CDOMSN_FLAG_W,THETA,PON,PON_FLAG_W,HCFC-22,HCFC-22_FLAG_W,HCFC-142b,HCFC-142b_FLAG_W,HCFC-141b,HCFC-141b_FLAG_W,STNNBR_U,HELIER,DELHER,TRITER,CH3CL,CH3CL_FLAG_W,CH3BR,CH3BR_FLAG_W,CH3I,CH3I_FLAG_W
,,,,,,,,,,,METERS,DBAR,ITS-90,PSS-78,,PSS-78,,UMOL/KG,,UMOL/KG,,UMOL/KG,,UMOL/KG,,UMOL/KG,,UMOL/KG,,PMOL/KG,,PMOL/KG,,PMOL/KG,,UMOL/KG,,UMOL/KG,,UATM,,DEG C,,,DEG C,TU,,NMOL/KG,,PERCNT,,/MILLE,,/MILLE,,/MILLE,NMOL/KG,,NMOL/KG,UG/KG,,UMOL/KG,,UMOL/KG,,DBAR,1/M,,1/M,,1/M,,1/M,,1/NM,,1/NM,,DEG C,UMOL/L,,PMOL/KG,,PMOL/KG,,PMOL/KG,,,NMOL/KG,PERCNT,TU,PMOL/KG,,PMOL/KG,,PMOL/KG,
33RO200306_02,       A16N,     150,          1,          7,          7,2,20030809,       0545,    -6.0040,   -24.9995,       5808,  3599.9,   2.4646,  34.9099,2,  34.9065,2,    257.0,2,   259.0,2,   34.69,2,   20.41,2,    0.00,2,    1.37,2,   0.058,2,   0.034,2,   0.001,2,  2174.9,2,  2331.2,2,   -999.0,9,  -999.00,   7.7379,2,    25.00,-999.000,9,-999.000,9,-999.000,9, -999.00,9,  -999.0,9,  -999.0,-999.000,9,-999.000,-999.000,9,   40.90,2,   24.01,2, 3599.90,-999.0000,9,-999.0000,9,-999.0000,9,-999.0000,9,-999.0000,9,-999.0000,9,   2.1622,     -999.0,9,     -999.0,9,     -999.0,9,     -999.0,9,        150,-999.000,-999.000,-999.000,     -999.0,9, -999.00,9, -999.00,9
33RO200306_02,       A16N,     150,          1,          6,          6,2,20030809,       0545,    -6.0040,   -24.9995,       5808,  4000.7,   1.9052,  34.8492,2,  34.8455,2,    246.2,2,   247.2,2,   59.02,2,   23.88,2,    0.00,2,    1.62,2,   0.032,2,   0.020,2,   0.002,2,  2200.8,2,  2345.9,2,    817.9,3,    20.00,   7.7148,2,    25.00,-999.000,9,-999.000,9,-999.000,9, -999.00,9,  -999.0,9,  -999.0,-999.000,9,-999.000,-999.000,9,   39.59,2,   28.27,2, 4000.70,-999.0000,9,-999.0000,9,-999.0000,9,-999.0000,9,-999.0000,9,-999.0000,9,   1.5738,     -999.0,9,     -999.0,9,     -999.0,9,     -999.0,9,        150,-999.000,-999.000,-999.000,     -999.0,9, -999.00,9, -999.00,9
33RO200306_02,       A16N,     150,          1,          5,          5,2,20030809,       0545,    -6.0040,   -24.9995,       5808,  4399.3,   1.1394,  34.7658,2,  34.7623,2,    231.3,2,  -999.0,1,   92.76,6,   28.51,6,    0.00,6,    1.99,6,   0.011,2,   0.004,2,  -0.001,2,  2236.7,2,  2364.1,2,   -999.0,9,  -999.00,   7.6592,2,    25.00,-999.000,9,-999.000,9,-999.000,9, -999.00,9,  -999.0,9,  -999.0,-999.000,9,-999.000,-999.000,9,   40.00,2,   32.38,2, 4399.30,-999.0000,9,-999.0000,9,-999.0000,9,-999.0000,9,-999.0000,9,-999.0000,9,   0.7865,     -999.0,9,     -999.0,9,     -999.0,9,     -999.0,9,        150,-999.000,-999.000,-999.000,     -999.0,9, -999.00,9, -999.00,9
33RO200306_02,       A16N,     150,          1,          4,          4,2,20030809,       0545,    -6.0040,   -24.9995,       5808,  4799.3,   0.8220,  34.7275,2,  34.7241,2,    225.0,2,   225.2,2,  107.76,6,   30.53,6,    0.01,6,    2.15,6,   0.016,2,   0.010,2,   0.001,2,  2250.8,2,  2370.9,2,    980.3,2,    20.00,   7.6466,2,    25.00,-999.000,9,-999.000,9,-999.000,9, -999.00,9,  -999.0,9,  -999.0,-999.000,9,-999.000,-999.000,9,   38.95,2,   34.01,2, 4799.30,-999.0000,9,-999.0000,9,-999.0000,9,-999.0000,9,-999.0000,9,-999.0000,9,   0.4340,     -999.0,9,     -999.0,9,     -999.0,9,     -999.0,9,        150,-999.000,-999.000,-999.000,     -999.0,9, -999.00,9, -999.00,9
33RO200306_02,       A16N,     150,          1,          3,          3,2,20030809,       0545,    -6.0040,   -24.9995,       5808,  5199.1,   0.7402,  34.7134,2,  34.7123,2,    223.2,2,   224.9,2,  113.01,6,   31.35,6,    0.00,6,    2.21,6,-999.000,9,-999.000,9,-999.000,9,  2254.1,2,  2371.6,2,   -999.0,9,  -999.00,   7.6251,2,    25.00,-999.000,9,-999.000,9,-999.000,9, -999.00,9,  -999.0,9,  -999.0,-999.000,9,-999.000,-999.000,9,   39.59,2,   36.41,2, 5199.10,-999.0000,9,-999.0000,9,-999.0000,9,-999.0000,9,-999.0000,9,-999.0000,9,   0.3080,     -999.0,9,     -999.0,9,     -999.0,9,     -999.0,9,        150,-999.000,-999.000,-999.000,     -999.0,9, -999.00,9, -999.00,9
33RO200306_02,       A16N,     150,          1,          2,          2,2,20030809,       0545,    -6.0040,   -24.9995,       5808,  5571.9,   0.7224,  34.7065,2,  34.7035,2,    222.8,2,   222.4,2,  115.70,6,   31.71,6,    0.01,6,    2.24,6,   0.035,2,   0.023,2,   0.000,2,  2256.2,2,  2369.4,2,   1016.0,2,    20.00,   7.6231,2,    25.00,-999.000,9,-999.000,9,-999.000,9, -999.00,9,  -999.0,9,  -999.0,-999.000,9,-999.000,-999.000,9,   40.24,2,   36.03,2, 5571.90,-999.0000,9,-999.0000,9,-999.0000,9,-999.0000,9,-999.0000,9,-999.0000,9,   0.2453,     -999.0,9,     -999.0,9,     -999.0,9,     -999.0,9,        150,-999.000,-999.000,-999.000,     -999.0,9, -999.00,9, -999.00,9