BOTTLE,20230908CCHSIOCBG
EXPOCODE,SECT_ID,STNNBR,CASTNO,SAMPNO,BTLNBR,BTLNBR_FLAG_W,DATE,TIME,LATITUDE,LONGITUDE,DEPTH,CTDPRS,CTDTMP,CTDSAL,CTDSAL_FLAG_W,SALNTY,SALNTY_FLAG_W,CTDOXY,CTDOXY_FLAG_W,OXYGEN,OXYGEN_FLAG_W,SILCAT,SILCAT_FLAG_W,NITRAT,NITRAT_FLAG_W,NITRIT,NITRIT_FLAG_W,PHSPHT,PHSPHT_FLAG_W,CFC-11,CFC-11_FLAG_W,CFC-12,CFC-12_FLAG_W,CFC113,CFC113_FLAG_W,TCARBN,TCARBN_FLAG_W,ALKALI,ALKALI_FLAG_W,FCO2,FCO2_FLAG_W,FCO2TMP,PH_SWS,PH_SWS_FLAG_W,PH_TMP,TRITUM,TRITUM_FLAG_W,HELIUM,HELIUM_FLAG_W,DELHE3,DELHE3_FLAG_W,DELC13,DELC13_FLAG_W,DELC14,DELC14_FLAG_W,C14ERR,NEON,NEON_FLAG_W,NEONER,POC,POC_FLAG_W,DOC,DOC_FLAG_W,TDN,TDN_FLAG_W,CTDRAW,CDOM325,CDOM325_FLAG_W,CDOM340,CDOM340_FLAG_W,CDOM380,CDOM380_FLAG_W,CDOM412,CDOM412_FLAG_W,CDOMSL,CDOMSL_FLAG_W,CDOMSN,CDOMSN_FLAG_W,THETA,PON,PON_FLAG_W,HCFC-22,HCFC-22_FLAG_W,HCFC-142b,HCFC-142b_FLAG_W,HCFC-141b,HCFC-141b_FLAG_W,STNNBR_U,HELIER,DELHER,TRITER,CH3CL,CH3CL_FLAG_W,CH3BR,CH3BR_FLAG_W,CH3I,CH3I_FLAG_W
,,,,,,,,,,,METERS,DBAR,ITS-90,PSS-78,,PSS-78,,UMOL/KG,,UMOL/KG,,UMOL/KG,,UMOL/KG,,UMOL/KG,,UMOL/KG,,PMOL/KG,,PMOL/KG,,PMOL/KG,,UMOL/KG,,UMOL/KG,,UATM,,DEG C,,,DEG C,TU,,NMOL/KG,,PERCNT,,/MILLE,,/MILLE,,/MILLE,NMOL/KG,,NMOL/KG,UG/KG,,UMOL/KG,,UMOL/KG,,DBAR,1/M,,1/M,,1/M,,1/M,,1/NM,,1/NM,,DEG C,UMOL/L,,PMOL/KG,,PMOL/KG,,PMOL/KG,,,NMOL/KG,PERCNT,TU,PMOL/KG,,PMOL/KG,,PMOL/KG,
33RO200306_01,       A16N,     029,          1,          7,          7,2,20030626,       0125,    51.0005,   -20.0003,       3658,  1901.6,   3.4457,  34.8954,2,  34.8976,2,    274.6,2,   275.3,2,   11.34,6,   17.20,6,    0.01,6,    1.11,6,   3.027,2,   1.499,2,   0.192,2,  2156.9,2,  2300.1,2,    766.5,2,    20.00,   7.7284,2,    25.00,-999.000,9,-999.000,9,-999.000,9, -999.00,9,  -999.0,9,  -999.0,-999.000,9,-999.000,-999.000,9,   46.72,2,   22.07,2, 1901.60,-999.0000,9,-999.0000,9,-999.0000,9,-999.0000,9,-999.0000,9,-999.0000,9,   3.2958,     -999.0,9,     -999.0,9,     -999.0,9,     -999.0,9,         29,-999.000,-999.000,-999.000,     -999.0,9, -999.00,9, -999.00,9
33RO200306_01,       A16N,     029,          1,          6,          6,2,20030626,       0125,    51.0005,   -20.0003,       3658,  2200.2,   3.2392,  34.8928,2,  34.8950,2,    278.1,2,   278.4,2,   11.83,2,   17.00,2,    0.01,2,    1.09,2,   2.864,2,   1.411,2,   0.170,2,  2156.1,2,  2301.8,2,   -999.0,9,  -999.00,   7.7259,2,    25.00,-999.000,9,-999.000,9,-999.000,9, -999.00,9,  -999.0,9,  -999.0,-999.000,9,-999.000,-999.000,9,   45.00,2,   21.39,2, 2200.20,-999.0000,9,-999.0000,9,-999.0000,9,-999.0000,9,-999.0000,9,-999.0000,9,   3.0644,     -999.0,9,     -999.0,9,     -999.0,9,     -999.0,9,         29,-999.000,-999.000,-999.000,     -999.0,9, -999.00,9, -999.00,9
33RO200306_01,       A16N,     029,          1,          5,          5,2,20030626,       0125,    51.0005,   -20.0003,       3658,  2500.5,   3.1903,  34.9186,2,  34.9212,2,    272.1,2,   271.9,2,   13.96,2,   17.10,2,    0.01,2,    1.10,2,   2.200,2,   1.086,2,   0.117,2,  2158.9,2,  2305.7,2,    757.0,2,    20.00,   7.7272,2,    25.00,-999.000,9,-999.000,9,-999.000,9, -999.00,9,  -999.0,9,  -999.0,-999.000,9,-999.000,-999.000,9,   44.15,2,   21.65,2, 2500.50,-999.0000,9,-999.0000,9,-999.0000,9,-999.0000,9,-999.0000,9,-999.0000,9,   2.9869,     -999.0,9,     -999.0,9,     -999.0,9,     -999.0,9,         29,-999.000,-999.000,-999.000,     -999.0,9, -999.00,9, -999.00,9
33RO200306_01,       A16N,     029,          1,          4,          4,2,20030626,       0125,    51.0005,   -20.0003,       3658,  2799.4,   3.0349,  34.9435,2,  34.9447,2,    259.5,2,   260.7,2,   20.89,2,   18.11,2,    0.01,2,    1.18,2,   1.288,2,   0.637,2,   0.057,2,  2170.2,2,  2316.6,2,   -999.0,9,  -999.00,   7.7293,2,    25.00,-999.000,9,-999.000,9,-999.000,9, -999.00,9,  -999.0,9,  -999.0,-999.000,9,-999.000,-999.000,9,   44.07,2,   23.09,2, 2799.40,-999.0000,9,-999.0000,9,-999.0000,9,-999.0000,9,-999.0000,9,-999.0000,9,   2.8042,     -999.0,9,     -999.0,9,     -999.0,9,     -999.0,9,         29,-999.000,-999.000,-999.000,     -999.0,9, -999.00,9, -999.00,9
33RO200306_01,       A16N,     029,          1,          3,          3,2,20030626,       0125,    51.0005,   -20.0003,       3658,  3236.4,   2.7271,  34.9358,2,  34.9373,2,    250.5,2,   250.3,2,   31.28,2,   19.81,2,    0.01,2,    1.29,2,   0.782,2,   0.395,2,   0.041,2,  2185.1,2,  2331.9,2,    764.5,2,    20.00,   7.7264,2,    25.00,-999.000,9,-999.000,9,-999.000,9, -999.00,9,  -999.0,9,  -999.0,-999.000,9,-999.000,-999.000,9,   44.22,2,   23.94,2, 3236.40,-999.0000,9,-999.0000,9,-999.0000,9,-999.0000,9,-999.0000,9,-999.0000,9,   2.4574,     -999.0,9,     -999.0,9,     -999.0,9,     -999.0,9,         29,-999.000,-999.000,-999.000,     -999.0,9, -999.00,9, -999.00,9
33RO200306_01,       A16N,     029,          1,          2,          2,2,20030626,       0125,    51.0005,   -20.0003,       3658,  3449.9,   2.5931,  34.9224,2,  34.9240,2,    243.1,2,   242.6,2,   39.02,2,   21.25,2,    0.01,2,    1.40,2,   0.299,2,   0.155,2,   0.022,2,  2194.4,2,  2343.4,2,    769.1,2,    20.00,   7.7235,2,    25.00,-999.000,9,-999.000,9,-999.000,9, -999.00,9,  -999.0,9,  -999.0,-999.000,9,-999.000,-999.000,9,   42.20,2,   24.85,2, 3449.90,-999.0000,9,-999.0000,9,-999.0000,9,-999.0000,9,-999.0000,9,-999.0000,9,   2.3038,     -999.0,9,     -999.0,9,     -999.0,9,     -999.0,9,         29,-999.000,-999.000,-999.000,     -999.0,9, -999.00,9, -999.00,9
33RO200306_01,       A16N,     029,          1,          1,          1,2,20030626,       0125,    51.0005,   -20.0003,       3658,  3718.4,   2.4855,  34.9093,2,  34.9108,2,    237.0,2,   291.2,3,   45.06,2,   22.07,2,    0.01,2,    1.48,2,   0.078,2,   0.038,2,   0.012,2,  2205.8,2,  2351.6,2,    769.1,2,    20.00,   7.7324,2,    25.00,-999.000,9,-999.000,9,-999.000,9, -999.00,9,  -999.0,9,  -999.0,-999.000,9,-999.000,-999.000,9,   43.58,2,   26.63,2, 3718.40,-999.0000,9,-999.0000,9,-999.0000,9,-999.0000,9,-999.0000,9,-999.0000,9,   2.1694,     -999.0,9,     -999.0,9,     -999.0,9,     -999.0,9,         29,-999.000,-999.000,-999.000,     -999.0,9, -999.00,9, -999.00,9