BOTTLE,20230908CCHSIOCBG
EXPOCODE,SECT_ID,STNNBR,CASTNO,SAMPNO,BTLNBR,BTLNBR_FLAG_W,DATE,TIME,LATITUDE,LONGITUDE,DEPTH,CTDPRS,CTDTMP,CTDSAL,CTDSAL_FLAG_W,SALNTY,SALNTY_FLAG_W,CTDOXY,CTDOXY_FLAG_W,OXYGEN,OXYGEN_FLAG_W,SILCAT,SILCAT_FLAG_W,NITRAT,NITRAT_FLAG_W,NITRIT,NITRIT_FLAG_W,PHSPHT,PHSPHT_FLAG_W,CFC-11,CFC-11_FLAG_W,CFC-12,CFC-12_FLAG_W,CFC113,CFC113_FLAG_W,TCARBN,TCARBN_FLAG_W,ALKALI,ALKALI_FLAG_W,FCO2,FCO2_FLAG_W,FCO2TMP,PH_SWS,PH_SWS_FLAG_W,PH_TMP,TRITUM,TRITUM_FLAG_W,HELIUM,HELIUM_FLAG_W,DELHE3,DELHE3_FLAG_W,DELC13,DELC13_FLAG_W,DELC14,DELC14_FLAG_W,C14ERR,NEON,NEON_FLAG_W,NEONER,POC,POC_FLAG_W,DOC,DOC_FLAG_W,TDN,TDN_FLAG_W,CTDRAW,CDOM325,CDOM325_FLAG_W,CDOM340,CDOM340_FLAG_W,CDOM380,CDOM380_FLAG_W,CDOM412,CDOM412_FLAG_W,CDOMSL,CDOMSL_FLAG_W,CDOMSN,CDOMSN_FLAG_W,THETA,PON,PON_FLAG_W,HCFC-22,HCFC-22_FLAG_W,HCFC-142b,HCFC-142b_FLAG_W,HCFC-141b,HCFC-141b_FLAG_W,STNNBR_U,HELIER,DELHER,TRITER,CH3CL,CH3CL_FLAG_W,CH3BR,CH3BR_FLAG_W,CH3I,CH3I_FLAG_W
,,,,,,,,,,,METERS,DBAR,ITS-90,PSS-78,,PSS-78,,UMOL/KG,,UMOL/KG,,UMOL/KG,,UMOL/KG,,UMOL/KG,,UMOL/KG,,PMOL/KG,,PMOL/KG,,PMOL/KG,,UMOL/KG,,UMOL/KG,,UATM,,DEG C,,,DEG C,TU,,NMOL/KG,,PERCNT,,/MILLE,,/MILLE,,/MILLE,NMOL/KG,,NMOL/KG,UG/KG,,UMOL/KG,,UMOL/KG,,DBAR,1/M,,1/M,,1/M,,1/M,,1/NM,,1/NM,,DEG C,UMOL/L,,PMOL/KG,,PMOL/KG,,PMOL/KG,,,NMOL/KG,PERCNT,TU,PMOL/KG,,PMOL/KG,,PMOL/KG,
33RO200306_02,       A16N,     102,          2,         24,         24,2,20030726,       0936,    14.9998,   -29.0000,       5299,     2.9,  27.0713,  36.4833,2,  36.4795,2,    200.0,2,   201.5,2,    0.44,2,    0.02,2,    0.00,2,    0.04,2,   1.982,3,   1.284,2,   0.167,2,  2034.9,2,  2385.4,2,   -999.0,9,  -999.00,   8.0900,2,    25.00,-999.000,9,-999.000,9,-999.000,9, -999.00,9,  -999.0,9,  -999.0,-999.000,9,-999.000,-999.000,9, -999.00,9, -999.00,9,    2.90,-999.0000,9,-999.0000,9,-999.0000,9,-999.0000,9,-999.0000,9,-999.0000,9,  27.0706,     -999.0,9,     -999.0,9,     -999.0,9,     -999.0,9,        102,-999.000,-999.000,-999.000,     -999.0,9, -999.00,9, -999.00,9
33RO200306_02,       A16N,     102,          2,         23,         23,2,20030726,       0936,    14.9998,   -29.0000,       5299,    29.8,  26.0453,  36.4482,2,  36.4443,2,    208.2,2,   209.1,2,    0.47,2,    0.03,2,    0.00,2,    0.05,2,   2.055,3,   1.322,2,   0.172,2,  2037.9,2,  2383.0,2,   -999.0,9,  -999.00,   8.0823,2,    25.00,-999.000,9,-999.000,9,-999.000,9, -999.00,9,  -999.0,9,  -999.0,-999.000,9,-999.000,-999.000,9,   75.44,2,    7.49,2,   29.80,-999.0000,9,-999.0000,9,-999.0000,9,-999.0000,9,-999.0000,9,-999.0000,9,  26.0386,     -999.0,9,     -999.0,9,     -999.0,9,     -999.0,9,        102,-999.000,-999.000,-999.000,     -999.0,9, -999.00,9, -999.00,9
33RO200306_02,       A16N,     102,          2,         22,         22,2,20030726,       0936,    14.9998,   -29.0000,       5299,    49.1,  21.7482,  36.5572,2,  36.5521,2,    204.4,2,   201.9,2,    0.93,2,    0.39,2,    0.01,2,    0.14,2,   2.334,3,   1.469,2,   0.165,2,  2099.6,2,  2390.0,2,   -999.0,9,  -999.00,   7.9950,2,    25.00,-999.000,9,-999.000,9,-999.000,9, -999.00,9,  -999.0,9,  -999.0,-999.000,9,-999.000,-999.000,9, -999.00,9, -999.00,9,   49.10,-999.0000,9,-999.0000,9,-999.0000,9,-999.0000,9,-999.0000,9,-999.0000,9,  21.7385,     -999.0,9,     -999.0,9,     -999.0,9,     -999.0,9,        102,-999.000,-999.000,-999.000,     -999.0,9, -999.00,9, -999.00,9
33RO200306_02,       A16N,     102,          2,         21,         21,2,20030726,       0936,    14.9998,   -29.0000,       5299,   100.0,  17.1690,  36.2165,2,  36.2157,2,    103.4,2,   104.7,2,    3.79,2,   16.04,2,    0.06,2,    1.02,2,   2.297,3,   1.387,2,   0.065,2,  2190.5,2,  2361.0,2,   -999.0,9,  -999.00,   7.7643,2,    25.00,-999.000,9,-999.000,9,-999.000,9, -999.00,9,  -999.0,9,  -999.0,-999.000,9,-999.000,-999.000,9,   62.72,2,   20.11,2,  100.00,-999.0000,9,-999.0000,9,-999.0000,9,-999.0000,9,-999.0000,9,-999.0000,9,  17.1523,     -999.0,9,     -999.0,9,     -999.0,9,     -999.0,9,        102,-999.000,-999.000,-999.000,     -999.0,9, -999.00,9, -999.00,9
33RO200306_02,       A16N,     102,          2,         20,         20,2,20030726,       0936,    14.9998,   -29.0000,       5299,   150.1,  14.4485,  35.7941,2,  35.7927,2,     81.6,2,    81.5,2,   27.30,4,   21.77,2,    0.01,2,    1.38,2,   1.996,3,   1.131,2,   0.023,2,  2207.2,2,  2340.2,2,   -999.0,9,  -999.00,   7.6964,2,    25.00,-999.000,9,-999.000,9,-999.000,9, -999.00,9,  -999.0,9,  -999.0,-999.000,9,-999.000,-999.000,9,   52.65,2,   26.57,2,  150.10,-999.0000,9,-999.0000,9,-999.0000,9,-999.0000,9,-999.0000,9,-999.0000,9,  14.4262,     -999.0,9,     -999.0,9,     -999.0,9,     -999.0,9,        102,-999.000,-999.000,-999.000,     -999.0,9, -999.00,9, -999.00,9
33RO200306_02,       A16N,     102,          2,         19,         19,2,20030726,       0936,    14.9998,   -29.0000,       5299,   201.1,  13.1703,  35.6174,2,  35.6073,2,     75.5,2,    75.4,2,   27.26,4,   24.42,2,    0.01,2,    1.54,2,   1.656,3,   0.936,2,   0.015,2,  2215.0,2,  2358.4,3,   -999.0,9,  -999.00,-999.0000,9,  -999.00,-999.000,9,-999.000,9,-999.000,9, -999.00,9,  -999.0,9,  -999.0,-999.000,9,-999.000,-999.000,9, -999.00,9, -999.00,9,  201.10,-999.0000,9,-999.0000,9,-999.0000,9,-999.0000,9,-999.0000,9,-999.0000,9,  13.1422,     -999.0,9,     -999.0,9,     -999.0,9,     -999.0,9,        102,-999.000,-999.000,-999.000,     -999.0,9, -999.00,9, -999.00,9
33RO200306_02,       A16N,     102,          2,         18,         18,2,20030726,       0936,    14.9998,   -29.0000,       5299,   300.7,  11.1645,  35.3223,2,  35.3169,2,     67.1,2,    67.8,2,   11.93,2,   28.70,2,    0.01,2,    1.80,2,   0.969,3,   0.524,2,   0.007,2,  2227.3,2,  2314.3,2,   -999.0,9,  -999.00,   7.6072,2,    25.00,-999.000,9,-999.000,9,-999.000,9, -999.00,9,  -999.0,9,  -999.0,-999.000,9,-999.000,-999.000,9,   46.02,2,   32.57,2,  300.70,-999.0000,9,-999.0000,9,-999.0000,9,-999.0000,9,-999.0000,9,-999.0000,9,  11.1268,     -999.0,9,     -999.0,9,     -999.0,9,     -999.0,9,        102,-999.000,-999.000,-999.000,     -999.0,9, -999.00,9, -999.00,9
33RO200306_02,       A16N,     102,          2,         17,         17,2,20030726,       0936,    14.9998,   -29.0000,       5299,   400.1,  10.0222,  35.1772,2,  35.1710,2,     66.3,2,    65.5,2,   14.47,2,   31.13,2,    0.00,2,    1.97,2,   0.566,3,   0.301,2,   0.007,2,  2233.8,2,  2309.2,2,   -999.0,9,  -999.00,   7.5794,2,    25.00,-999.000,9,-999.000,9,-999.000,9, -999.00,9,  -999.0,9,  -999.0,-999.000,9,-999.000,-999.000,9,   45.04,2,   35.62,2,  400.10,-999.0000,9,-999.0000,9,-999.0000,9,-999.0000,9,-999.0000,9,-999.0000,9,   9.9751,     -999.0,9,     -999.0,9,     -999.0,9,     -999.0,9,        102,-999.000,-999.000,-999.000,     -999.0,9, -999.00,9, -999.00,9
33RO200306_02,       A16N,     102,          2,         16,         16,2,20030726,       0936,    14.9998,   -29.0000,       5299,   500.9,   9.0848,  35.0875,2,  35.0843,2,     70.1,2,    69.7,2,   16.88,2,   32.85,2,    0.01,2,    2.09,2,   0.325,3,   0.178,2,   0.005,2,  2235.2,2,  2303.9,2,   -999.0,9,  -999.00,   7.5338,2,    25.00,-999.000,9,-999.000,9,-999.000,9, -999.00,9,  -999.0,9,  -999.0,-999.000,9,-999.000,-999.000,9,   43.79,2,   36.97,2,  500.90,-999.0000,9,-999.0000,9,-999.0000,9,-999.0000,9,-999.0000,9,-999.0000,9,   9.0290,     -999.0,9,     -999.0,9,     -999.0,9,     -999.0,9,        102,-999.000,-999.000,-999.000,     -999.0,9, -999.00,9, -999.00,9
33RO200306_02,       A16N,     102,          2,         15,         15,2,20030726,       0936,    14.9998,   -29.0000,       5299,   600.6,   8.5752,  35.0459,2,  35.0423,2,     76.0,2,    75.7,2,   18.26,2,   33.03,2,    0.01,2,    2.12,2,   0.256,3,   0.135,2,   0.001,2,  2234.8,2,  2304.5,2,   -999.0,9,  -999.00,   7.5334,2,    25.00,-999.000,9,-999.000,9,-999.000,9, -999.00,9,  -999.0,9,  -999.0,-999.000,9,-999.000,-999.000,9,   42.95,2,   35.80,2,  600.60,-999.0000,9,-999.0000,9,-999.0000,9,-999.0000,9,-999.0000,9,-999.0000,9,   8.5102,     -999.0,9,     -999.0,9,     -999.0,9,     -999.0,9,        102,-999.000,-999.000,-999.000,     -999.0,9, -999.00,9, -999.00,9
33RO200306_02,       A16N,     102,          2,         14,         14,2,20030726,       0936,    14.9998,   -29.0000,       5299,   698.7,   7.9156,  34.9744,2,  34.9706,2,     82.9,2,    83.8,2,   19.96,2,   33.44,2,    0.00,2,    2.19,2,   0.157,3,   0.083,2,   0.003,2,  2235.0,2,  2299.4,2,   -999.0,9,  -999.00,   7.5295,2,    25.00,-999.000,9,-999.000,9,-999.000,9, -999.00,9,  -999.0,9,  -999.0,-999.000,9,-999.000,-999.000,9,   41.59,2,   36.07,2,  698.70,-999.0000,9,-999.0000,9,-999.0000,9,-999.0000,9,-999.0000,9,-999.0000,9,   7.8431,     -999.0,9,     -999.0,9,     -999.0,9,     -999.0,9,        102,-999.000,-999.000,-999.000,     -999.0,9, -999.00,9, -999.00,9
33RO200306_02,       A16N,     102,          2,         13,         13,2,20030726,       0936,    14.9998,   -29.0000,       5299,   901.1,   6.3845,  34.8803,2,  34.8767,2,    113.2,2,   112.9,2,   23.52,2,   32.12,2,    0.00,2,    2.15,2,   0.033,3,   0.020,2,   0.003,2,  2228.0,2,  2300.2,2,   -999.0,9,  -999.00,   7.5543,2,    25.00,-999.000,9,-999.000,9,-999.000,9, -999.00,9,  -999.0,9,  -999.0,-999.000,9,-999.000,-999.000,9,   42.16,2,   37.54,2,  901.10,-999.0000,9,-999.0000,9,-999.0000,9,-999.0000,9,-999.0000,9,-999.0000,9,   6.3001,     -999.0,9,     -999.0,9,     -999.0,9,     -999.0,9,        102,-999.000,-999.000,-999.000,     -999.0,9, -999.00,9, -999.00,9
33RO200306_02,       A16N,     102,          2,         12,         12,2,20030726,       0936,    14.9998,   -29.0000,       5299,  1100.5,   5.5916,  34.9504,2,  34.9472,2,    146.9,2,   148.6,2,   23.25,2,   28.30,2,    0.00,2,    1.95,2,   0.026,3,   0.012,2,   0.003,2,  2214.6,2,  -999.0,9,   -999.0,9,  -999.00,-999.0000,9,  -999.00,-999.000,9,-999.000,9,-999.000,9, -999.00,9,  -999.0,9,  -999.0,-999.000,9,-999.000,-999.000,9,   40.75,2,   32.88,2, 1100.50,-999.0000,9,-999.0000,9,-999.0000,9,-999.0000,9,-999.0000,9,-999.0000,9,   5.4934,     -999.0,9,     -999.0,9,     -999.0,9,     -999.0,9,        102,-999.000,-999.000,-999.000,     -999.0,9, -999.00,9, -999.00,9
33RO200306_02,       A16N,     102,          2,         11,         11,2,20030726,       0936,    14.9998,   -29.0000,       5299,  1300.8,   4.9895,  34.9830,2,  34.9812,2,    177.4,2,   177.5,2,   22.32,2,   26.55,2,    0.00,2,    1.76,2,   0.023,3,   0.007,2,   0.002,2,  2201.0,2,  2309.6,2,   -999.0,9,  -999.00,   7.6561,2,    25.00,-999.000,9,-999.000,9,-999.000,9, -999.00,9,  -999.0,9,  -999.0,-999.000,9,-999.000,-999.000,9, -999.00,9, -999.00,9, 1300.80,-999.0000,9,-999.0000,9,-999.0000,9,-999.0000,9,-999.0000,9,-999.0000,9,   4.8774,     -999.0,9,     -999.0,9,     -999.0,9,     -999.0,9,        102,-999.000,-999.000,-999.000,     -999.0,9, -999.00,9, -999.00,9
33RO200306_02,       A16N,     102,          2,         10,         10,2,20030726,       0936,    14.9998,   -29.0000,       5299,  1500.7,   4.4449,  34.9935,2,  34.9917,2,    202.4,2,   202.6,2,   21.96,2,   24.36,2,    0.00,2,    1.60,2,   0.015,3,   0.006,2,   0.000,2,  2189.7,2,  2310.6,2,   -999.0,9,  -999.00,   7.6889,2,    25.00,-999.000,9,-999.000,9,-999.000,9, -999.00,9,  -999.0,9,  -999.0,-999.000,9,-999.000,-999.000,9,   41.14,2,   28.56,2, 1500.70,-999.0000,9,-999.0000,9,-999.0000,9,-999.0000,9,-999.0000,9,-999.0000,9,   4.3196,     -999.0,9,     -999.0,9,     -999.0,9,     -999.0,9,        102,-999.000,-999.000,-999.000,     -999.0,9, -999.00,9, -999.00,9
33RO200306_02,       A16N,     102,          2,          9,          9,2,20030726,       0936,    14.9998,   -29.0000,       5299,  1600.6,   4.2148,  34.9924,2,  34.9922,2,    214.7,2,   213.9,2,   21.54,2,   23.30,2,    0.01,2,    1.54,2,   0.045,3,   0.011,2,   0.004,2,  2183.3,2,  2313.3,2,   -999.0,9,  -999.00,   7.6851,2,    25.00,-999.000,9,-999.000,9,-999.000,9, -999.00,9,  -999.0,9,  -999.0,-999.000,9,-999.000,-999.000,9,   42.68,2,   27.66,2, 1600.60,-999.0000,9,-999.0000,9,-999.0000,9,-999.0000,9,-999.0000,9,-999.0000,9,   4.0827,     -999.0,9,     -999.0,9,     -999.0,9,     -999.0,9,        102,-999.000,-999.000,-999.000,     -999.0,9, -999.00,9, -999.00,9
33RO200306_02,       A16N,     102,          2,          8,          8,2,20030726,       0936,    14.9998,   -29.0000,       5299,  1700.7,   3.9947,  34.9885,2,  34.9881,2,    223.1,2,   223.1,2,   21.57,2,   22.52,2,    0.01,2,    1.50,2,   0.030,3,   0.007,2,   0.000,2,  2179.9,2,  2312.6,2,   -999.0,9,  -999.00,   7.7120,2,    25.00,-999.000,9,-999.000,9,-999.000,9, -999.00,9,  -999.0,9,  -999.0,-999.000,9,-999.000,-999.000,9,   41.79,2,   26.68,2, 1700.70,-999.0000,9,-999.0000,9,-999.0000,9,-999.0000,9,-999.0000,9,-999.0000,9,   3.8559,     -999.0,9,     -999.0,9,     -999.0,9,     -999.0,9,        102,-999.000,-999.000,-999.000,     -999.0,9, -999.00,9, -999.00,9
33RO200306_02,       A16N,     102,          2,          7,          7,2,20030726,       0936,    14.9998,   -29.0000,       5299,  2300.4,   3.2342,  34.9607,2,  34.9608,2,    236.9,2,   236.5,2,   27.90,6,   21.13,6,    0.00,6,    1.46,6,   0.014,3,   0.002,2,   0.000,2,  2180.2,2,  2320.8,2,   -999.0,9,  -999.00,   7.7246,2,    25.00,-999.000,9,-999.000,9,-999.000,9, -999.00,9,  -999.0,9,  -999.0,-999.000,9,-999.000,-999.000,9,   41.05,2,   25.31,2, 2300.40,-999.0000,9,-999.0000,9,-999.0000,9,-999.0000,9,-999.0000,9,-999.0000,9,   3.0495,     -999.0,9,     -999.0,9,     -999.0,9,     -999.0,9,        102,-999.000,-999.000,-999.000,     -999.0,9, -999.00,9, -999.00,9
33RO200306_02,       A16N,     102,          2,          6,          6,9,20030726,       0936,    14.9998,   -29.0000,       5299,  2901.5,   2.7930,  34.9351,2,-999.0000,9,    241.4,2,  -999.0,9, -999.00,9, -999.00,9, -999.00,9, -999.00,9,-999.000,9,-999.000,9,-999.000,9,  -999.0,9,  -999.0,9,   -999.0,9,  -999.00,-999.0000,9,  -999.00,-999.000,9,-999.000,9,-999.000,9, -999.00,9,  -999.0,9,  -999.0,-999.000,9,-999.000,-999.000,9, -999.00,9, -999.00,9, 2901.50,-999.0000,9,-999.0000,9,-999.0000,9,-999.0000,9,-999.0000,9,-999.0000,9,   2.5569,     -999.0,9,     -999.0,9,     -999.0,9,     -999.0,9,        102,-999.000,-999.000,-999.000,     -999.0,9, -999.00,9, -999.00,9
33RO200306_02,       A16N,     102,          2,          5,          5,9,20030726,       0936,    14.9998,   -29.0000,       5299,  3501.1,   2.5711,  34.9169,2,-999.0000,9,    241.7,2,  -999.0,9, -999.00,9, -999.00,9, -999.00,9, -999.00,9,-999.000,9,-999.000,9,-999.000,9,  -999.0,9,  -999.0,9,   -999.0,9,  -999.00,-999.0000,9,  -999.00,-999.000,9,-999.000,9,-999.000,9, -999.00,9,  -999.0,9,  -999.0,-999.000,9,-999.000,-999.000,9, -999.00,9, -999.00,9, 3501.10,-999.0000,9,-999.0000,9,-999.0000,9,-999.0000,9,-999.0000,9,-999.0000,9,   2.2768,     -999.0,9,     -999.0,9,     -999.0,9,     -999.0,9,        102,-999.000,-999.000,-999.000,     -999.0,9, -999.00,9, -999.00,9
33RO200306_02,       A16N,     102,          2,          4,          4,2,20030726,       0936,    14.9998,   -29.0000,       5299,  4102.0,   2.3560,  34.8924,2,  34.8927,2,    238.9,2,   238.5,2,   47.14,6,   22.40,6,    0.00,6,    1.56,6,   0.014,3,   0.006,2,   0.001,2,  2205.3,2,  2349.5,2,   -999.0,9,  -999.00,   7.7245,2,    25.00,-999.000,9,-999.000,9,-999.000,9, -999.00,9,  -999.0,9,  -999.0,-999.000,9,-999.000,-999.000,9,   39.93,2,   27.54,2, 4102.00,-999.0000,9,-999.0000,9,-999.0000,9,-999.0000,9,-999.0000,9,-999.0000,9,   2.0001,     -999.0,9,     -999.0,9,     -999.0,9,     -999.0,9,        102,-999.000,-999.000,-999.000,     -999.0,9, -999.00,9, -999.00,9
33RO200306_02,       A16N,     102,          2,          3,          3,2,20030726,       0936,    14.9998,   -29.0000,       5299,  4700.1,   2.3138,  34.8802,2,  34.8820,2,    238.0,2,   237.4,2,   50.35,6,   22.68,6,    0.00,6,    1.59,6,   0.016,3,   0.007,2,   0.001,2,  2208.9,2,  2349.5,2,   -999.0,9,  -999.00,   7.7211,2,    25.00,-999.000,9,-999.000,9,-999.000,9, -999.00,9,  -999.0,9,  -999.0,-999.000,9,-999.000,-999.000,9,   40.73,2,   26.83,2, 4700.10,-999.0000,9,-999.0000,9,-999.0000,9,-999.0000,9,-999.0000,9,-999.0000,9,   1.8881,     -999.0,9,     -999.0,9,     -999.0,9,     -999.0,9,        102,-999.000,-999.000,-999.000,     -999.0,9, -999.00,9, -999.00,9
33RO200306_02,       A16N,     102,          2,          2,          2,2,20030726,       0936,    14.9998,   -29.0000,       5299,  5249.9,   2.3091,  34.8735,2,  34.8749,2,    245.3,2,   245.8,2,   49.26,2,   22.67,2,    0.00,2,    1.56,2,   0.017,3,   0.011,2,   0.001,2,  2200.6,2,  2342.5,2,   -999.0,9,  -999.00,   7.7211,2,    25.00,-999.000,9,-999.000,9,-999.000,9, -999.00,9,  -999.0,9,  -999.0,-999.000,9,-999.000,-999.000,9,   41.82,2,   26.40,2, 5249.90,-999.0000,9,-999.0000,9,-999.0000,9,-999.0000,9,-999.0000,9,-999.0000,9,   1.8143,     -999.0,9,     -999.0,9,     -999.0,9,     -999.0,9,        102,-999.000,-999.000,-999.000,     -999.0,9, -999.00,9, -999.00,9
33RO200306_02,       A16N,     102,          2,          1,          1,2,20030726,       0936,    14.9998,   -29.0000,       5299,  5368.5,   2.3091,  34.8716,2,  34.8735,2,    244.9,2,   245.5,2,   49.70,6,   22.00,6,    0.00,6,    1.56,6,   0.024,3,   0.015,2,   0.002,2,  2202.7,2,  -999.0,9,   -999.0,9,  -999.00,-999.0000,9,  -999.00,-999.000,9,-999.000,9,-999.000,9, -999.00,9,  -999.0,9,  -999.0,-999.000,9,-999.000,-999.000,9,   42.12,2,   26.90,2, 5368.50,-999.0000,9,-999.0000,9,-999.0000,9,-999.0000,9,-999.0000,9,-999.0000,9,   1.7990,     -999.0,9,     -999.0,9,     -999.0,9,     -999.0,9,        102,-999.000,-999.000,-999.000,     -999.0,9, -999.00,9, -999.00,9