BOTTLE,20230908CCHSIOCBG
EXPOCODE,SECT_ID,STNNBR,CASTNO,SAMPNO,BTLNBR,BTLNBR_FLAG_W,DATE,TIME,LATITUDE,LONGITUDE,DEPTH,CTDPRS,CTDTMP,CTDSAL,CTDSAL_FLAG_W,SALNTY,SALNTY_FLAG_W,CTDOXY,CTDOXY_FLAG_W,OXYGEN,OXYGEN_FLAG_W,SILCAT,SILCAT_FLAG_W,NITRAT,NITRAT_FLAG_W,NITRIT,NITRIT_FLAG_W,PHSPHT,PHSPHT_FLAG_W,CFC-11,CFC-11_FLAG_W,CFC-12,CFC-12_FLAG_W,CFC113,CFC113_FLAG_W,TCARBN,TCARBN_FLAG_W,ALKALI,ALKALI_FLAG_W,FCO2,FCO2_FLAG_W,FCO2TMP,PH_SWS,PH_SWS_FLAG_W,PH_TMP,TRITUM,TRITUM_FLAG_W,HELIUM,HELIUM_FLAG_W,DELHE3,DELHE3_FLAG_W,DELC13,DELC13_FLAG_W,DELC14,DELC14_FLAG_W,C14ERR,NEON,NEON_FLAG_W,NEONER,POC,POC_FLAG_W,DOC,DOC_FLAG_W,TDN,TDN_FLAG_W,CTDRAW,CDOM325,CDOM325_FLAG_W,CDOM340,CDOM340_FLAG_W,CDOM380,CDOM380_FLAG_W,CDOM412,CDOM412_FLAG_W,CDOMSL,CDOMSL_FLAG_W,CDOMSN,CDOMSN_FLAG_W,THETA,PON,PON_FLAG_W,HCFC-22,HCFC-22_FLAG_W,HCFC-142b,HCFC-142b_FLAG_W,HCFC-141b,HCFC-141b_FLAG_W,STNNBR_U,HELIER,DELHER,TRITER,CH3CL,CH3CL_FLAG_W,CH3BR,CH3BR_FLAG_W,CH3I,CH3I_FLAG_W
,,,,,,,,,,,METERS,DBAR,ITS-90,PSS-78,,PSS-78,,UMOL/KG,,UMOL/KG,,UMOL/KG,,UMOL/KG,,UMOL/KG,,UMOL/KG,,PMOL/KG,,PMOL/KG,,PMOL/KG,,UMOL/KG,,UMOL/KG,,UATM,,DEG C,,,DEG C,TU,,NMOL/KG,,PERCNT,,/MILLE,,/MILLE,,/MILLE,NMOL/KG,,NMOL/KG,UG/KG,,UMOL/KG,,UMOL/KG,,DBAR,1/M,,1/M,,1/M,,1/M,,1/NM,,1/NM,,DEG C,UMOL/L,,PMOL/KG,,PMOL/KG,,PMOL/KG,,,NMOL/KG,PERCNT,TU,PMOL/KG,,PMOL/KG,,PMOL/KG,
33RO200306_02,       A16N,     103,          1,         24,         24,2,20030726,       1633,    14.4998,   -29.0000,       5382,     3.1,  27.5484,  36.4680,2,  36.4622,2,    197.3,2,   202.3,2,    0.54,2,    0.05,2,    0.00,2,    0.06,2,   1.981,3,   1.272,2,   0.177,2,  2035.0,2,  2384.0,2,   -999.0,9,  -999.00,   8.0739,2,    25.00,-999.000,9,-999.000,9,-999.000,9, -999.00,9,  -999.0,9,  -999.0,-999.000,9,-999.000,-999.000,9, -999.00,9, -999.00,9,    3.10,-999.0000,9,-999.0000,9,-999.0000,9,-999.0000,9,-999.0000,9,-999.0000,9,  27.5477,     -999.0,9,     -999.0,9,     -999.0,9,     -999.0,9,        103,-999.000,-999.000,-999.000,     -999.0,9, -999.00,9, -999.00,9
33RO200306_02,       A16N,     103,          1,         23,         23,2,20030726,       1633,    14.4998,   -29.0000,       5382,    19.6,  26.9701,  36.4535,2,  36.4486,2,    198.2,2,   202.9,2,    0.53,2,    0.12,2,    0.00,2,    0.05,2,-999.000,9,-999.000,9,-999.000,9,  -999.0,9,  -999.0,9,   -999.0,9,  -999.00,-999.0000,9,  -999.00,-999.000,9,-999.000,9,-999.000,9, -999.00,9,  -999.0,9,  -999.0,-999.000,9,-999.000,-999.000,9, -999.00,9, -999.00,9,   19.60,-999.0000,9,-999.0000,9,-999.0000,9,-999.0000,9,-999.0000,9,-999.0000,9,  26.9656,     -999.0,9,     -999.0,9,     -999.0,9,     -999.0,9,        103,-999.000,-999.000,-999.000,     -999.0,9, -999.00,9, -999.00,9
33RO200306_02,       A16N,     103,          1,         22,         22,2,20030726,       1633,    14.4998,   -29.0000,       5382,    69.3,  19.2478,  36.4496,2,  36.4446,2,    137.9,2,   131.1,2,    2.49,2,   10.09,2,    0.30,2,    0.67,2,   2.359,3,   1.441,2,   0.109,2,  2166.4,2,  2376.3,2,   -999.0,9,  -999.00,   7.8485,2,    25.00,-999.000,9,-999.000,9,-999.000,9, -999.00,9,  -999.0,9,  -999.0,-999.000,9,-999.000,-999.000,9, -999.00,9, -999.00,9,   69.30,-999.0000,9,-999.0000,9,-999.0000,9,-999.0000,9,-999.0000,9,-999.0000,9,  19.2352,     -999.0,9,     -999.0,9,     -999.0,9,     -999.0,9,        103,-999.000,-999.000,-999.000,     -999.0,9, -999.00,9, -999.00,9
33RO200306_02,       A16N,     103,          1,         21,         21,2,20030726,       1633,    14.4998,   -29.0000,       5382,   119.7,  16.4225,  36.1227,2,  36.1253,2,    103.0,2,   102.4,2,    4.72,2,   17.62,2,    0.04,2,    1.07,2,-999.000,9,-999.000,9,-999.000,9,  -999.0,9,  -999.0,9,   -999.0,9,  -999.00,-999.0000,9,  -999.00,-999.000,9,-999.000,9,-999.000,9, -999.00,9,  -999.0,9,  -999.0,-999.000,9,-999.000,-999.000,9, -999.00,9, -999.00,9,  119.70,-999.0000,9,-999.0000,9,-999.0000,9,-999.0000,9,-999.0000,9,-999.0000,9,  16.4031,     -999.0,9,     -999.0,9,     -999.0,9,     -999.0,9,        103,-999.000,-999.000,-999.000,     -999.0,9, -999.00,9, -999.00,9
33RO200306_02,       A16N,     103,          1,         20,         20,2,20030726,       1633,    14.4998,   -29.0000,       5382,   173.6,  13.5974,  35.6209,2,  35.6176,2,     76.3,2,    80.9,2,    8.32,2,   25.03,2,    0.01,2,    1.53,2,-999.000,9,-999.000,9,-999.000,9,  -999.0,9,  -999.0,9,   -999.0,9,  -999.00,-999.0000,9,  -999.00,-999.000,9,-999.000,9,-999.000,9, -999.00,9,  -999.0,9,  -999.0,-999.000,9,-999.000,-999.000,9, -999.00,9, -999.00,9,  173.60,-999.0000,9,-999.0000,9,-999.0000,9,-999.0000,9,-999.0000,9,-999.0000,9,  13.5727,     -999.0,9,     -999.0,9,     -999.0,9,     -999.0,9,        103,-999.000,-999.000,-999.000,     -999.0,9, -999.00,9, -999.00,9
33RO200306_02,       A16N,     103,          1,         19,         19,2,20030726,       1633,    14.4998,   -29.0000,       5382,   249.5,  12.0255,  35.3978,2,  35.3932,2,     68.7,2,    66.4,2,   10.50,2,   28.04,2,    0.01,2,    1.71,2,   1.316,3,   0.726,2,   0.010,2,  2222.5,2,  2320.2,2,   -999.0,9,  -999.00,   7.5980,2,    25.00,-999.000,9,-999.000,9,-999.000,9, -999.00,9,  -999.0,9,  -999.0,-999.000,9,-999.000,-999.000,9, -999.00,9, -999.00,9,  249.50,-999.0000,9,-999.0000,9,-999.0000,9,-999.0000,9,-999.0000,9,-999.0000,9,  11.9927,     -999.0,9,     -999.0,9,     -999.0,9,     -999.0,9,        103,-999.000,-999.000,-999.000,     -999.0,9, -999.00,9, -999.00,9
33RO200306_02,       A16N,     103,          1,         18,         18,2,20030726,       1633,    14.4998,   -29.0000,       5382,   349.9,  10.8964,  35.2721,2,  35.2694,2,     64.5,2,    69.8,2,   12.54,2,   30.56,2,    0.01,2,    1.86,2,-999.000,9,-999.000,9,-999.000,9,  -999.0,9,  -999.0,9,   -999.0,9,  -999.00,-999.0000,9,  -999.00,-999.000,9,-999.000,9,-999.000,9, -999.00,9,  -999.0,9,  -999.0,-999.000,9,-999.000,-999.000,9, -999.00,9, -999.00,9,  349.90,-999.0000,9,-999.0000,9,-999.0000,9,-999.0000,9,-999.0000,9,-999.0000,9,  10.8531,     -999.0,9,     -999.0,9,     -999.0,9,     -999.0,9,        103,-999.000,-999.000,-999.000,     -999.0,9, -999.00,9, -999.00,9
33RO200306_02,       A16N,     103,          1,         17,         17,2,20030726,       1633,    14.4998,   -29.0000,       5382,   452.7,   9.8187,  35.1538,2,  35.1483,2,     65.2,2,    63.8,2,   14.97,2,   32.48,2,    0.01,2,    2.00,2,   0.509,3,   0.267,2,   0.003,2,  2232.9,2,  2311.1,2,   -999.0,9,  -999.00,   7.5353,2,    25.00,-999.000,9,-999.000,9,-999.000,9, -999.00,9,  -999.0,9,  -999.0,-999.000,9,-999.000,-999.000,9, -999.00,9, -999.00,9,  452.70,-999.0000,9,-999.0000,9,-999.0000,9,-999.0000,9,-999.0000,9,-999.0000,9,   9.7660,     -999.0,9,     -999.0,9,     -999.0,9,     -999.0,9,        103,-999.000,-999.000,-999.000,     -999.0,9, -999.00,9, -999.00,9
33RO200306_02,       A16N,     103,          1,         16,         16,2,20030726,       1633,    14.4998,   -29.0000,       5382,   550.5,   9.0667,  35.0797,2,  35.0812,2,     72.1,2,    69.0,2,   16.83,2,   33.36,2,    0.01,2,    2.08,2,-999.000,9,-999.000,9,-999.000,9,  -999.0,9,  -999.0,9,   -999.0,9,  -999.00,-999.0000,9,  -999.00,-999.000,9,-999.000,9,-999.000,9, -999.00,9,  -999.0,9,  -999.0,-999.000,9,-999.000,-999.000,9, -999.00,9, -999.00,9,  550.50,-999.0000,9,-999.0000,9,-999.0000,9,-999.0000,9,-999.0000,9,-999.0000,9,   9.0053,     -999.0,9,     -999.0,9,     -999.0,9,     -999.0,9,        103,-999.000,-999.000,-999.000,     -999.0,9, -999.00,9, -999.00,9
33RO200306_02,       A16N,     103,          1,         15,         15,2,20030726,       1633,    14.4998,   -29.0000,       5382,   648.5,   7.9437,  34.9653,2,  34.9616,2,     83.0,2,    80.2,2,   19.76,2,   34.22,2,    0.01,2,    2.18,2,-999.000,9,-999.000,9,-999.000,9,  -999.0,9,  -999.0,9,   -999.0,9,  -999.00,-999.0000,9,  -999.00,-999.000,9,-999.000,9,-999.000,9, -999.00,9,  -999.0,9,  -999.0,-999.000,9,-999.000,-999.000,9, -999.00,9, -999.00,9,  648.50,-999.0000,9,-999.0000,9,-999.0000,9,-999.0000,9,-999.0000,9,-999.0000,9,   7.8765,     -999.0,9,     -999.0,9,     -999.0,9,     -999.0,9,        103,-999.000,-999.000,-999.000,     -999.0,9, -999.00,9, -999.00,9
33RO200306_02,       A16N,     103,          1,         14,         14,2,20030726,       1633,    14.4998,   -29.0000,       5382,   749.4,   7.2178,  34.9189,2,  34.9113,2,     93.0,2,    92.6,2,   21.77,2,   34.04,2,    0.00,2,    2.20,2,-999.000,9,-999.000,9,-999.000,9,  -999.0,9,  -999.0,9,   -999.0,9,  -999.00,-999.0000,9,  -999.00,-999.000,9,-999.000,9,-999.000,9, -999.00,9,  -999.0,9,  -999.0,-999.000,9,-999.000,-999.000,9, -999.00,9, -999.00,9,  749.40,-999.0000,9,-999.0000,9,-999.0000,9,-999.0000,9,-999.0000,9,-999.0000,9,   7.1437,     -999.0,9,     -999.0,9,     -999.0,9,     -999.0,9,        103,-999.000,-999.000,-999.000,     -999.0,9, -999.00,9, -999.00,9
33RO200306_02,       A16N,     103,          1,         13,         13,2,20030726,       1633,    14.4998,   -29.0000,       5382,   949.3,   6.1194,  34.8978,2,  34.8945,2,    120.6,2,   122.1,2,   23.79,2,   32.04,2,    0.00,2,    2.12,2,   0.033,3,   0.019,2,   0.001,2,  2224.7,2,  2310.5,2,   -999.0,9,  -999.00,   7.5620,2,    25.00,-999.000,9,-999.000,9,-999.000,9, -999.00,9,  -999.0,9,  -999.0,-999.000,9,-999.000,-999.000,9, -999.00,9, -999.00,9,  949.30,-999.0000,9,-999.0000,9,-999.0000,9,-999.0000,9,-999.0000,9,-999.0000,9,   6.0320,     -999.0,9,     -999.0,9,     -999.0,9,     -999.0,9,        103,-999.000,-999.000,-999.000,     -999.0,9, -999.00,9, -999.00,9
33RO200306_02,       A16N,     103,          1,         12,         12,2,20030726,       1633,    14.4998,   -29.0000,       5382,  1151.1,   5.3367,  34.9519,2,  34.9494,2,    153.8,2,   154.2,2,   21.88,2,   25.17,2,    0.00,2,    1.70,2,-999.000,9,-999.000,9,-999.000,9,  -999.0,9,  -999.0,9,   -999.0,9,  -999.00,-999.0000,9,  -999.00,-999.000,9,-999.000,9,-999.000,9, -999.00,9,  -999.0,9,  -999.0,-999.000,9,-999.000,-999.000,9, -999.00,9, -999.00,9, 1151.10,-999.0000,9,-999.0000,9,-999.0000,9,-999.0000,9,-999.0000,9,-999.0000,9,   5.2358,     -999.0,9,     -999.0,9,     -999.0,9,     -999.0,9,        103,-999.000,-999.000,-999.000,     -999.0,9, -999.00,9, -999.00,9
33RO200306_02,       A16N,     103,          1,         11,         11,2,20030726,       1633,    14.4998,   -29.0000,       5382,  1349.3,   4.7695,  34.9885,2,  34.9866,2,    183.6,2,   184.0,2,   23.19,2,   28.33,3,    0.00,2,    1.90,3,-999.000,9,-999.000,9,-999.000,9,  -999.0,9,  -999.0,9,   -999.0,9,  -999.00,-999.0000,9,  -999.00,-999.000,9,-999.000,9,-999.000,9, -999.00,9,  -999.0,9,  -999.0,-999.000,9,-999.000,-999.000,9, -999.00,9, -999.00,9, 1349.30,-999.0000,9,-999.0000,9,-999.0000,9,-999.0000,9,-999.0000,9,-999.0000,9,   4.6550,     -999.0,9,     -999.0,9,     -999.0,9,     -999.0,9,        103,-999.000,-999.000,-999.000,     -999.0,9, -999.00,9, -999.00,9
33RO200306_02,       A16N,     103,          1,         10,         10,2,20030726,       1633,    14.4998,   -29.0000,       5382,  1497.8,   4.3836,  34.9946,2,  34.9934,2,    202.8,2,   204.7,2,   21.93,2,   23.64,2,    0.00,2,    1.60,2,-999.000,9,-999.000,9,-999.000,9,  -999.0,9,  -999.0,9,   -999.0,9,  -999.00,-999.0000,9,  -999.00,-999.000,9,-999.000,9,-999.000,9, -999.00,9,  -999.0,9,  -999.0,-999.000,9,-999.000,-999.000,9, -999.00,9, -999.00,9, 1497.80,-999.0000,9,-999.0000,9,-999.0000,9,-999.0000,9,-999.0000,9,-999.0000,9,   4.2592,     -999.0,9,     -999.0,9,     -999.0,9,     -999.0,9,        103,-999.000,-999.000,-999.000,     -999.0,9, -999.00,9, -999.00,9
33RO200306_02,       A16N,     103,          1,          9,          9,2,20030726,       1633,    14.4998,   -29.0000,       5382,  1999.6,   3.5377,  34.9749,2,  34.9742,2,    231.6,2,   231.6,2,   24.70,2,   21.46,2,    0.00,2,    1.47,2,   0.035,3,   0.002,2,   0.005,2,  2179.2,2,  2320.7,2,   -999.0,9,  -999.00,   7.7178,2,    25.00,-999.000,9,-999.000,9,-999.000,9, -999.00,9,  -999.0,9,  -999.0,-999.000,9,-999.000,-999.000,9, -999.00,9, -999.00,9, 1999.60,-999.0000,9,-999.0000,9,-999.0000,9,-999.0000,9,-999.0000,9,-999.0000,9,   3.3770,     -999.0,9,     -999.0,9,     -999.0,9,     -999.0,9,        103,-999.000,-999.000,-999.000,     -999.0,9, -999.00,9, -999.00,9
33RO200306_02,       A16N,     103,          1,          8,          8,9,20030726,       1633,    14.4998,   -29.0000,       5382,  2499.3,   3.0637,  34.9535,2,-999.0000,9,    237.3,2,  -999.0,9, -999.00,9, -999.00,9, -999.00,9, -999.00,9,-999.000,9,-999.000,9,-999.000,9,  -999.0,9,  -999.0,9,   -999.0,9,  -999.00,-999.0000,9,  -999.00,-999.000,9,-999.000,9,-999.000,9, -999.00,9,  -999.0,9,  -999.0,-999.000,9,-999.000,-999.000,9, -999.00,9, -999.00,9, 2499.30,-999.0000,9,-999.0000,9,-999.0000,9,-999.0000,9,-999.0000,9,-999.0000,9,   2.8626,     -999.0,9,     -999.0,9,     -999.0,9,     -999.0,9,        103,-999.000,-999.000,-999.000,     -999.0,9, -999.00,9, -999.00,9
33RO200306_02,       A16N,     103,          1,          7,          7,2,20030726,       1633,    14.4998,   -29.0000,       5382,  2998.3,   2.7609,  34.9351,2,  34.9353,2,    244.2,2,   245.4,2,   34.16,2,   21.05,2,    0.00,2,    1.45,2,-999.000,9,-999.000,9,-999.000,9,  2184.2,2,  2333.5,2,   -999.0,9,  -999.00,   7.7334,2,    25.00,-999.000,9,-999.000,9,-999.000,9, -999.00,9,  -999.0,9,  -999.0,-999.000,9,-999.000,-999.000,9, -999.00,9, -999.00,9, 2998.30,-999.0000,9,-999.0000,9,-999.0000,9,-999.0000,9,-999.0000,9,-999.0000,9,   2.5155,     -999.0,9,     -999.0,9,     -999.0,9,     -999.0,9,        103,-999.000,-999.000,-999.000,     -999.0,9, -999.00,9, -999.00,9
33RO200306_02,       A16N,     103,          1,          6,          6,2,20030726,       1633,    14.4998,   -29.0000,       5382,  3500.1,   2.5245,  34.9157,2,  34.9266,3,    243.5,2,   244.0,2,   40.03,2,   21.58,2,    0.00,2,    1.49,2,-999.000,9,-999.000,9,-999.000,9,  -999.0,9,  -999.0,9,   -999.0,9,  -999.00,-999.0000,9,  -999.00,-999.000,9,-999.000,9,-999.000,9, -999.00,9,  -999.0,9,  -999.0,-999.000,9,-999.000,-999.000,9, -999.00,9, -999.00,9, 3500.10,-999.0000,9,-999.0000,9,-999.0000,9,-999.0000,9,-999.0000,9,-999.0000,9,   2.2314,     -999.0,9,     -999.0,9,     -999.0,9,     -999.0,9,        103,-999.000,-999.000,-999.000,     -999.0,9, -999.00,9, -999.00,9
33RO200306_02,       A16N,     103,          1,          5,          5,9,20030726,       1633,    14.4998,   -29.0000,       5382,  3749.2,   2.4358,  34.9057,2,-999.0000,9,    241.1,2,  -999.0,9, -999.00,9, -999.00,9, -999.00,9, -999.00,9,-999.000,9,-999.000,9,-999.000,9,  -999.0,9,  -999.0,9,   -999.0,9,  -999.00,-999.0000,9,  -999.00,-999.000,9,-999.000,9,-999.000,9, -999.00,9,  -999.0,9,  -999.0,-999.000,9,-999.000,-999.000,9, -999.00,9, -999.00,9, 3749.20,-999.0000,9,-999.0000,9,-999.0000,9,-999.0000,9,-999.0000,9,-999.0000,9,   2.1176,     -999.0,9,     -999.0,9,     -999.0,9,     -999.0,9,        103,-999.000,-999.000,-999.000,     -999.0,9, -999.00,9, -999.00,9
33RO200306_02,       A16N,     103,          1,          4,          4,2,20030726,       1633,    14.4998,   -29.0000,       5382,  4000.0,   2.3729,  34.8971,2,  34.9045,3,    238.0,2,   238.3,2,   46.28,2,   22.45,2,    0.00,2,    1.56,2,   0.009,3,   0.006,2,   0.001,2,  2205.3,2,  2346.2,2,   -999.0,9,  -999.00,   7.7251,2,    25.00,-999.000,9,-999.000,9,-999.000,9, -999.00,9,  -999.0,9,  -999.0,-999.000,9,-999.000,-999.000,9, -999.00,9, -999.00,9, 4000.00,-999.0000,9,-999.0000,9,-999.0000,9,-999.0000,9,-999.0000,9,-999.0000,9,   2.0282,     -999.0,9,     -999.0,9,     -999.0,9,     -999.0,9,        103,-999.000,-999.000,-999.000,     -999.0,9, -999.00,9, -999.00,9
33RO200306_02,       A16N,     103,          1,          3,          3,2,20030726,       1633,    14.4998,   -29.0000,       5382,  4498.6,   2.3197,  34.8849,2,  34.8882,2,    236.2,2,   236.1,2,   48.51,2,   22.72,2,    0.00,2,    1.58,2,-999.000,9,-999.000,9,-999.000,9,  -999.0,9,  -999.0,9,   -999.0,9,  -999.00,-999.0000,9,  -999.00,-999.000,9,-999.000,9,-999.000,9, -999.00,9,  -999.0,9,  -999.0,-999.000,9,-999.000,-999.000,9, -999.00,9, -999.00,9, 4498.60,-999.0000,9,-999.0000,9,-999.0000,9,-999.0000,9,-999.0000,9,-999.0000,9,   1.9182,     -999.0,9,     -999.0,9,     -999.0,9,     -999.0,9,        103,-999.000,-999.000,-999.000,     -999.0,9, -999.00,9, -999.00,9
33RO200306_02,       A16N,     103,          1,          2,          2,2,20030726,       1633,    14.4998,   -29.0000,       5382,  4999.5,   2.3066,  34.8785,2,  34.8800,2,    244.0,2,   243.6,2,   49.06,2,   22.46,2,    0.00,2,    1.57,2,   0.007,3,   0.007,2,   0.001,2,  2201.5,2,  2341.3,2,   -999.0,9,  -999.00,   7.7235,2,    25.00,-999.000,9,-999.000,9,-999.000,9, -999.00,9,  -999.0,9,  -999.0,-999.000,9,-999.000,-999.000,9, -999.00,9, -999.00,9, 4999.50,-999.0000,9,-999.0000,9,-999.0000,9,-999.0000,9,-999.0000,9,-999.0000,9,   1.8439,     -999.0,9,     -999.0,9,     -999.0,9,     -999.0,9,        103,-999.000,-999.000,-999.000,     -999.0,9, -999.00,9, -999.00,9
33RO200306_02,       A16N,     103,          1,          1,          1,2,20030726,       1633,    14.4998,   -29.0000,       5382,  5458.7,   2.3073,  34.8722,2,  34.8741,2,    245.6,2,   244.7,2,   49.72,2,   22.49,2,    0.00,2,    1.57,2,   0.020,3,   0.019,2,   0.004,2,  2202.1,2,  2343.5,2,   -999.0,9,  -999.00,   7.7249,2,    25.00,-999.000,9,-999.000,9,-999.000,9, -999.00,9,  -999.0,9,  -999.0,-999.000,9,-999.000,-999.000,9, -999.00,9, -999.00,9, 5458.70,-999.0000,9,-999.0000,9,-999.0000,9,-999.0000,9,-999.0000,9,-999.0000,9,   1.7854,     -999.0,9,     -999.0,9,     -999.0,9,     -999.0,9,        103,-999.000,-999.000,-999.000,     -999.0,9, -999.00,9, -999.00,9