BOTTLE,20230908CCHSIOCBG
EXPOCODE,SECT_ID,STNNBR,CASTNO,SAMPNO,BTLNBR,BTLNBR_FLAG_W,DATE,TIME,LATITUDE,LONGITUDE,DEPTH,CTDPRS,CTDTMP,CTDSAL,CTDSAL_FLAG_W,SALNTY,SALNTY_FLAG_W,CTDOXY,CTDOXY_FLAG_W,OXYGEN,OXYGEN_FLAG_W,SILCAT,SILCAT_FLAG_W,NITRAT,NITRAT_FLAG_W,NITRIT,NITRIT_FLAG_W,PHSPHT,PHSPHT_FLAG_W,CFC-11,CFC-11_FLAG_W,CFC-12,CFC-12_FLAG_W,CFC113,CFC113_FLAG_W,TCARBN,TCARBN_FLAG_W,ALKALI,ALKALI_FLAG_W,FCO2,FCO2_FLAG_W,FCO2TMP,PH_SWS,PH_SWS_FLAG_W,PH_TMP,TRITUM,TRITUM_FLAG_W,HELIUM,HELIUM_FLAG_W,DELHE3,DELHE3_FLAG_W,DELC13,DELC13_FLAG_W,DELC14,DELC14_FLAG_W,C14ERR,NEON,NEON_FLAG_W,NEONER,POC,POC_FLAG_W,DOC,DOC_FLAG_W,TDN,TDN_FLAG_W,CTDRAW,CDOM325,CDOM325_FLAG_W,CDOM340,CDOM340_FLAG_W,CDOM380,CDOM380_FLAG_W,CDOM412,CDOM412_FLAG_W,CDOMSL,CDOMSL_FLAG_W,CDOMSN,CDOMSN_FLAG_W,THETA,PON,PON_FLAG_W,HCFC-22,HCFC-22_FLAG_W,HCFC-142b,HCFC-142b_FLAG_W,HCFC-141b,HCFC-141b_FLAG_W,STNNBR_U,HELIER,DELHER,TRITER,CH3CL,CH3CL_FLAG_W,CH3BR,CH3BR_FLAG_W,CH3I,CH3I_FLAG_W
,,,,,,,,,,,METERS,DBAR,ITS-90,PSS-78,,PSS-78,,UMOL/KG,,UMOL/KG,,UMOL/KG,,UMOL/KG,,UMOL/KG,,UMOL/KG,,PMOL/KG,,PMOL/KG,,PMOL/KG,,UMOL/KG,,UMOL/KG,,UATM,,DEG C,,,DEG C,TU,,NMOL/KG,,PERCNT,,/MILLE,,/MILLE,,/MILLE,NMOL/KG,,NMOL/KG,UG/KG,,UMOL/KG,,UMOL/KG,,DBAR,1/M,,1/M,,1/M,,1/M,,1/NM,,1/NM,,DEG C,UMOL/L,,PMOL/KG,,PMOL/KG,,PMOL/KG,,,NMOL/KG,PERCNT,TU,PMOL/KG,,PMOL/KG,,PMOL/KG,
33RO200306_01,       A16N,     064,          1,         35,         35,2,20030706,       2321,    33.5000,   -21.4072,       5336,     3.7,  23.2050,  36.7365,2,  36.7389,2,    216.8,2,   217.2,2,    0.42,2,    0.00,2,    0.00,2,    0.01,2,-999.000,9,-999.000,9,-999.000,9,  2094.4,6,  2425.9,3,   -999.0,9,  -999.00,   8.0071,3,    25.00,-999.000,9,-999.000,9,-999.000,9, -999.00,9,  -999.0,9,  -999.0,-999.000,9,-999.000,-999.000,9, -999.00,9, -999.00,9,    3.70,-999.0000,9,-999.0000,9,-999.0000,9,-999.0000,9,-999.0000,9,-999.0000,9,  23.2042,     -999.0,9,     -999.0,9,     -999.0,9,     -999.0,9,         64,-999.000,-999.000,-999.000,     -999.0,9, -999.00,9, -999.00,9
33RO200306_01,       A16N,     064,          1,         33,         33,2,20030706,       2321,    33.5000,   -21.4072,       5336,    10.3,  23.1692,  36.7361,2,  36.7410,2,    217.5,2,   217.7,2,    0.43,2,    0.00,2,    0.00,2,    0.01,2,-999.000,9,-999.000,9,-999.000,9,  -999.0,9,  -999.0,9,   -999.0,9,  -999.00,-999.0000,9,  -999.00,-999.000,9,-999.000,9,-999.000,9, -999.00,9,  -999.0,9,  -999.0,-999.000,9,-999.000,-999.000,9, -999.00,9, -999.00,9,   10.30,-999.0000,9,-999.0000,9,-999.0000,9,-999.0000,9,-999.0000,9,-999.0000,9,  23.1671,     -999.0,9,     -999.0,9,     -999.0,9,     -999.0,9,         64,-999.000,-999.000,-999.000,     -999.0,9, -999.00,9, -999.00,9
33RO200306_01,       A16N,     064,          1,         32,         32,2,20030706,       2321,    33.5000,   -21.4072,       5336,    30.1,  19.7659,  36.6699,2,  36.6691,2,    234.3,2,   237.9,2,    0.51,2,    0.00,2,    0.00,2,    0.01,2,-999.000,9,-999.000,9,-999.000,9,  -999.0,9,  -999.0,9,   -999.0,9,  -999.00,-999.0000,9,  -999.00,-999.000,9,-999.000,9,-999.000,9, -999.00,9,  -999.0,9,  -999.0,-999.000,9,-999.000,-999.000,9, -999.00,9, -999.00,9,   30.10,-999.0000,9,-999.0000,9,-999.0000,9,-999.0000,9,-999.0000,9,-999.0000,9,  19.7603,     -999.0,9,     -999.0,9,     -999.0,9,     -999.0,9,         64,-999.000,-999.000,-999.000,     -999.0,9, -999.00,9, -999.00,9
33RO200306_01,       A16N,     064,          1,         31,         31,2,20030706,       2321,    33.5000,   -21.4072,       5336,    48.4,  18.9838,  36.6489,2,  36.6490,2,    235.2,2,   234.5,2,    0.52,2,    0.01,2,    0.00,2,    0.02,2,-999.000,9,-999.000,9,-999.000,9,  -999.0,9,  -999.0,9,   -999.0,9,  -999.00,-999.0000,9,  -999.00,-999.000,9,-999.000,9,-999.000,9, -999.00,9,  -999.0,9,  -999.0,-999.000,9,-999.000,-999.000,9, -999.00,9, -999.00,9,   48.40,-999.0000,9,-999.0000,9,-999.0000,9,-999.0000,9,-999.0000,9,-999.0000,9,  18.9751,     -999.0,9,     -999.0,9,     -999.0,9,     -999.0,9,         64,-999.000,-999.000,-999.000,     -999.0,9, -999.00,9, -999.00,9
33RO200306_01,       A16N,     064,          1,         30,         30,2,20030706,       2321,    33.5000,   -21.4072,       5336,    70.5,  18.5171,  36.6543,2,  36.6539,2,    232.9,2,   231.5,2,    0.57,2,    0.01,2,    0.00,2,    0.02,2,-999.000,9,-999.000,9,-999.000,9,  -999.0,9,  -999.0,9,   -999.0,9,  -999.00,-999.0000,9,  -999.00,-999.000,9,-999.000,9,-999.000,9, -999.00,9,  -999.0,9,  -999.0,-999.000,9,-999.000,-999.000,9, -999.00,9, -999.00,9,   70.50,-999.0000,9,-999.0000,9,-999.0000,9,-999.0000,9,-999.0000,9,-999.0000,9,  18.5047,     -999.0,9,     -999.0,9,     -999.0,9,     -999.0,9,         64,-999.000,-999.000,-999.000,     -999.0,9, -999.00,9, -999.00,9
33RO200306_01,       A16N,     064,          1,         29,         29,2,20030706,       2321,    33.5000,   -21.4072,       5336,    90.2,  18.3646,  36.6405,2,  36.6384,2,    228.9,2,   228.6,2,    0.57,2,    0.03,2,    0.01,2,    0.02,2,-999.000,9,-999.000,9,-999.000,9,  -999.0,9,  -999.0,9,   -999.0,9,  -999.00,-999.0000,9,  -999.00,-999.000,9,-999.000,9,-999.000,9, -999.00,9,  -999.0,9,  -999.0,-999.000,9,-999.000,-999.000,9, -999.00,9, -999.00,9,   90.20,-999.0000,9,-999.0000,9,-999.0000,9,-999.0000,9,-999.0000,9,-999.0000,9,  18.3488,     -999.0,9,     -999.0,9,     -999.0,9,     -999.0,9,         64,-999.000,-999.000,-999.000,     -999.0,9, -999.00,9, -999.00,9
33RO200306_01,       A16N,     064,          1,         28,         28,2,20030706,       2321,    33.5000,   -21.4072,       5336,   109.4,  18.1454,  36.6090,2,  36.5938,2,    223.1,2,   222.7,2,    0.64,2,    0.69,2,    0.05,2,    0.06,2,-999.000,9,-999.000,9,-999.000,9,  -999.0,9,  -999.0,9,   -999.0,9,  -999.00,-999.0000,9,  -999.00,-999.000,9,-999.000,9,-999.000,9, -999.00,9,  -999.0,9,  -999.0,-999.000,9,-999.000,-999.000,9, -999.00,9, -999.00,9,  109.40,-999.0000,9,-999.0000,9,-999.0000,9,-999.0000,9,-999.0000,9,-999.0000,9,  18.1263,     -999.0,9,     -999.0,9,     -999.0,9,     -999.0,9,         64,-999.000,-999.000,-999.000,     -999.0,9, -999.00,9, -999.00,9
33RO200306_01,       A16N,     064,          1,         27,         27,2,20030706,       2321,    33.5000,   -21.4072,       5336,   131.5,  17.6343,  36.5220,2,  36.5219,2,    216.7,2,   222.3,2,    0.77,2,    1.43,2,    0.04,2,    0.10,2,-999.000,9,-999.000,9,-999.000,9,  -999.0,9,  -999.0,9,   -999.0,9,  -999.00,-999.0000,9,  -999.00,-999.000,9,-999.000,9,-999.000,9, -999.00,9,  -999.0,9,  -999.0,-999.000,9,-999.000,-999.000,9, -999.00,9, -999.00,9,  131.50,-999.0000,9,-999.0000,9,-999.0000,9,-999.0000,9,-999.0000,9,-999.0000,9,  17.6118,     -999.0,9,     -999.0,9,     -999.0,9,     -999.0,9,         64,-999.000,-999.000,-999.000,     -999.0,9, -999.00,9, -999.00,9
33RO200306_01,       A16N,     064,          1,         26,         26,2,20030706,       2321,    33.5000,   -21.4072,       5336,   161.5,  17.5177,  36.5212,2,  36.4816,2,    218.6,2,   217.6,2,    0.96,2,    2.47,2,    0.02,2,    0.15,2,-999.000,9,-999.000,9,-999.000,9,  -999.0,9,  -999.0,9,   -999.0,9,  -999.00,-999.0000,9,  -999.00,-999.000,9,-999.000,9,-999.000,9, -999.00,9,  -999.0,9,  -999.0,-999.000,9,-999.000,-999.000,9, -999.00,9, -999.00,9,  161.50,-999.0000,9,-999.0000,9,-999.0000,9,-999.0000,9,-999.0000,9,-999.0000,9,  17.4902,     -999.0,9,     -999.0,9,     -999.0,9,     -999.0,9,         64,-999.000,-999.000,-999.000,     -999.0,9, -999.00,9, -999.00,9
33RO200306_01,       A16N,     064,          1,         25,         25,2,20030706,       2321,    33.5000,   -21.4072,       5336,   185.1,  16.7438,  36.3528,2,  36.3450,2,    207.6,2,   206.7,2,    1.38,2,    4.63,2,    0.01,2,    0.26,2,-999.000,9,-999.000,9,-999.000,9,  -999.0,9,  -999.0,9,   -999.0,9,  -999.00,-999.0000,9,  -999.00,-999.000,9,-999.000,9,-999.000,9, -999.00,9,  -999.0,9,  -999.0,-999.000,9,-999.000,-999.000,9, -999.00,9, -999.00,9,  185.10,-999.0000,9,-999.0000,9,-999.0000,9,-999.0000,9,-999.0000,9,-999.0000,9,  16.7133,     -999.0,9,     -999.0,9,     -999.0,9,     -999.0,9,         64,-999.000,-999.000,-999.000,     -999.0,9, -999.00,9, -999.00,9
33RO200306_01,       A16N,     064,          1,         24,         24,2,20030706,       2321,    33.5000,   -21.4072,       5336,   224.3,  16.0092,  36.2110,2,  36.2100,2,    202.0,2,   195.5,2,    1.79,2,    5.94,2,    0.01,2,    0.34,2,-999.000,9,-999.000,9,-999.000,9,  -999.0,9,  -999.0,9,   -999.0,9,  -999.00,-999.0000,9,  -999.00,-999.000,9,-999.000,9,-999.000,9, -999.00,9,  -999.0,9,  -999.0,-999.000,9,-999.000,-999.000,9, -999.00,9, -999.00,9,  224.30,-999.0000,9,-999.0000,9,-999.0000,9,-999.0000,9,-999.0000,9,-999.0000,9,  15.9733,     -999.0,9,     -999.0,9,     -999.0,9,     -999.0,9,         64,-999.000,-999.000,-999.000,     -999.0,9, -999.00,9, -999.00,9
33RO200306_01,       A16N,     064,          1,         23,         23,2,20030706,       2321,    33.5000,   -21.4072,       5336,   275.5,  15.2039,  36.0720,2,  36.0630,2,    198.4,2,   194.3,2,    2.33,2,    7.55,2,    0.01,2,    0.44,2,-999.000,9,-999.000,9,-999.000,9,  -999.0,9,  -999.0,9,   -999.0,9,  -999.00,-999.0000,9,  -999.00,-999.000,9,-999.000,9,-999.000,9, -999.00,9,  -999.0,9,  -999.0,-999.000,9,-999.000,-999.000,9, -999.00,9, -999.00,9,  275.50,-999.0000,9,-999.0000,9,-999.0000,9,-999.0000,9,-999.0000,9,-999.0000,9,  15.1613,     -999.0,9,     -999.0,9,     -999.0,9,     -999.0,9,         64,-999.000,-999.000,-999.000,     -999.0,9, -999.00,9, -999.00,9
33RO200306_01,       A16N,     064,          1,         22,         22,2,20030706,       2321,    33.5000,   -21.4072,       5336,   325.2,  14.5551,  35.9715,2,  35.9628,2,    200.1,2,   202.2,2,    2.81,2,    8.74,2,    0.00,2,    0.52,2,-999.000,9,-999.000,9,-999.000,9,  -999.0,9,  -999.0,9,   -999.0,9,  -999.00,-999.0000,9,  -999.00,-999.000,9,-999.000,9,-999.000,9, -999.00,9,  -999.0,9,  -999.0,-999.000,9,-999.000,-999.000,9, -999.00,9, -999.00,9,  325.20,-999.0000,9,-999.0000,9,-999.0000,9,-999.0000,9,-999.0000,9,-999.0000,9,  14.5063,     -999.0,9,     -999.0,9,     -999.0,9,     -999.0,9,         64,-999.000,-999.000,-999.000,     -999.0,9, -999.00,9, -999.00,9
33RO200306_01,       A16N,     064,          1,         21,         21,2,20030706,       2321,    33.5000,   -21.4072,       5336,   374.9,  13.9881,  35.8904,2,  35.8881,2,    192.2,2,   196.0,2,    3.30,2,   10.13,2,    0.00,2,    0.60,2,-999.000,9,-999.000,9,-999.000,9,  -999.0,9,  -999.0,9,   -999.0,9,  -999.00,-999.0000,9,  -999.00,-999.000,9,-999.000,9,-999.000,9, -999.00,9,  -999.0,9,  -999.0,-999.000,9,-999.000,-999.000,9, -999.00,9, -999.00,9,  374.90,-999.0000,9,-999.0000,9,-999.0000,9,-999.0000,9,-999.0000,9,-999.0000,9,  13.9332,     -999.0,9,     -999.0,9,     -999.0,9,     -999.0,9,         64,-999.000,-999.000,-999.000,     -999.0,9, -999.00,9, -999.00,9
33RO200306_01,       A16N,     064,          1,         20,         20,2,20030706,       2321,    33.5000,   -21.4072,       5336,   424.1,  13.4327,  35.8190,2,  35.8163,2,    190.3,2,   192.6,2,    3.86,2,   11.44,2,    0.00,2,    0.68,2,-999.000,9,-999.000,9,-999.000,9,  -999.0,9,  -999.0,9,   -999.0,9,  -999.00,-999.0000,9,  -999.00,-999.000,9,-999.000,9,-999.000,9, -999.00,9,  -999.0,9,  -999.0,-999.000,9,-999.000,-999.000,9, -999.00,9, -999.00,9,  424.10,-999.0000,9,-999.0000,9,-999.0000,9,-999.0000,9,-999.0000,9,-999.0000,9,  13.3721,     -999.0,9,     -999.0,9,     -999.0,9,     -999.0,9,         64,-999.000,-999.000,-999.000,     -999.0,9, -999.00,9, -999.00,9
33RO200306_01,       A16N,     064,          1,         19,         19,2,20030706,       2321,    33.5000,   -21.4072,       5336,   473.0,  12.8519,  35.7460,2,  35.7442,2,    188.2,2,   189.9,2,    4.55,2,   12.85,2,    0.00,2,    0.76,2,-999.000,9,-999.000,9,-999.000,9,  -999.0,9,  -999.0,9,   -999.0,9,  -999.00,-999.0000,9,  -999.00,-999.000,9,-999.000,9,-999.000,9, -999.00,9,  -999.0,9,  -999.0,-999.000,9,-999.000,-999.000,9, -999.00,9, -999.00,9,  473.00,-999.0000,9,-999.0000,9,-999.0000,9,-999.0000,9,-999.0000,9,-999.0000,9,  12.7862,     -999.0,9,     -999.0,9,     -999.0,9,     -999.0,9,         64,-999.000,-999.000,-999.000,     -999.0,9, -999.00,9, -999.00,9
33RO200306_01,       A16N,     064,          1,         18,         18,2,20030706,       2321,    33.5000,   -21.4072,       5336,   532.2,  12.1840,  35.6601,2,  35.6575,2,    188.2,2,   189.9,2,    5.28,2,   14.11,2,    0.00,2,    0.83,2,-999.000,9,-999.000,9,-999.000,9,  -999.0,9,  -999.0,9,   -999.0,9,  -999.00,-999.0000,9,  -999.00,-999.000,9,-999.000,9,-999.000,9, -999.00,9,  -999.0,9,  -999.0,-999.000,9,-999.000,-999.000,9, -999.00,9, -999.00,9,  532.20,-999.0000,9,-999.0000,9,-999.0000,9,-999.0000,9,-999.0000,9,-999.0000,9,  12.1125,     -999.0,9,     -999.0,9,     -999.0,9,     -999.0,9,         64,-999.000,-999.000,-999.000,     -999.0,9, -999.00,9, -999.00,9
33RO200306_01,       A16N,     064,          1,         17,         17,2,20030706,       2321,    33.5000,   -21.4072,       5336,   606.5,  11.4044,  35.5722,2,  35.5729,2,    185.8,2,   186.7,2,    6.45,2,   15.72,2,    0.00,2,    0.94,2,   2.316,2,   1.233,2,   0.048,2,  -999.0,9,  -999.0,9,   -999.0,9,  -999.00,-999.0000,9,  -999.00,-999.000,9,-999.000,9,-999.000,9, -999.00,9,  -999.0,9,  -999.0,-999.000,9,-999.000,-999.000,9, -999.00,9, -999.00,9,  606.50,-999.0000,9,-999.0000,9,-999.0000,9,-999.0000,9,-999.0000,9,-999.0000,9,  11.3260,     -999.0,9,     -999.0,9,     -999.0,9,     -999.0,9,         64,-999.000,-999.000,-999.000,     -999.0,9, -999.00,9, -999.00,9
33RO200306_01,       A16N,     064,          1,         16,         16,2,20030706,       2321,    33.5000,   -21.4072,       5336,   753.1,  10.3024,  35.5207,2,  35.5242,2,    182.9,2,   183.5,2,    8.50,2,   17.45,2,    0.00,2,    1.06,2,-999.000,9,-999.000,9,-999.000,9,  -999.0,9,  -999.0,9,   -999.0,9,  -999.00,-999.0000,9,  -999.00,-999.000,9,-999.000,9,-999.000,9, -999.00,9,  -999.0,9,  -999.0,-999.000,9,-999.000,-999.000,9, -999.00,9, -999.00,9,  753.10,-999.0000,9,-999.0000,9,-999.0000,9,-999.0000,9,-999.0000,9,-999.0000,9,  10.2104,     -999.0,9,     -999.0,9,     -999.0,9,     -999.0,9,         64,-999.000,-999.000,-999.000,     -999.0,9, -999.00,9, -999.00,9
33RO200306_01,       A16N,     064,          1,         15,         15,2,20030706,       2321,    33.5000,   -21.4072,       5336,   825.3,  10.0450,  35.5866,2,  35.5926,2,    181.8,2,   179.3,2,    9.47,2,   18.10,2,    0.00,2,    1.11,2,   1.536,2,   0.798,2,   0.031,2,  -999.0,9,  -999.0,9,   -999.0,9,  -999.00,-999.0000,9,  -999.00,-999.000,9,-999.000,9,-999.000,9, -999.00,9,  -999.0,9,  -999.0,-999.000,9,-999.000,-999.000,9, -999.00,9, -999.00,9,  825.30,-999.0000,9,-999.0000,9,-999.0000,9,-999.0000,9,-999.0000,9,-999.0000,9,   9.9452,     -999.0,9,     -999.0,9,     -999.0,9,     -999.0,9,         64,-999.000,-999.000,-999.000,     -999.0,9, -999.00,9, -999.00,9
33RO200306_01,       A16N,     064,          1,         14,         14,2,20030706,       2321,    33.5000,   -21.4072,       5336,   949.9,   9.3622,  35.6064,2,  35.6075,2,    178.4,2,   179.8,2,   11.17,2,   19.06,2,    0.00,2,    1.17,2,-999.000,9,-999.000,9,-999.000,9,  -999.0,9,  -999.0,9,   -999.0,9,  -999.00,-999.0000,9,  -999.00,-999.000,9,-999.000,9,-999.000,9, -999.00,9,  -999.0,9,  -999.0,-999.000,9,-999.000,-999.000,9, -999.00,9, -999.00,9,  949.90,-999.0000,9,-999.0000,9,-999.0000,9,-999.0000,9,-999.0000,9,-999.0000,9,   9.2513,     -999.0,9,     -999.0,9,     -999.0,9,     -999.0,9,         64,-999.000,-999.000,-999.000,     -999.0,9, -999.00,9, -999.00,9
33RO200306_01,       A16N,     064,          1,         13,         13,2,20030706,       2321,    33.5000,   -21.4072,       5336,  1045.0,   8.9348,  35.6153,2,  35.6155,2,    179.2,2,   179.9,2,   12.19,2,   19.51,2,    0.00,2,    1.20,2,   0.903,2,   0.474,2,   0.016,2,  -999.0,9,  -999.0,9,   -999.0,9,  -999.00,-999.0000,9,  -999.00,-999.000,9,-999.000,9,-999.000,9, -999.00,9,  -999.0,9,  -999.0,-999.000,9,-999.000,-999.000,9, -999.00,9, -999.00,9, 1045.00,-999.0000,9,-999.0000,9,-999.0000,9,-999.0000,9,-999.0000,9,-999.0000,9,   8.8154,     -999.0,9,     -999.0,9,     -999.0,9,     -999.0,9,         64,-999.000,-999.000,-999.000,     -999.0,9, -999.00,9, -999.00,9
33RO200306_01,       A16N,     064,          1,         12,         12,2,20030706,       2321,    33.5000,   -21.4072,       5336,  1102.0,   8.8198,  35.6387,2,  35.6394,2,    182.6,2,   181.7,2,   12.28,2,   19.24,2,    0.00,2,    1.19,2,-999.000,9,-999.000,9,-999.000,9,  -999.0,9,  -999.0,9,   -999.0,9,  -999.00,-999.0000,9,  -999.00,-999.000,9,-999.000,9,-999.000,9, -999.00,9,  -999.0,9,  -999.0,-999.000,9,-999.000,-999.000,9, -999.00,9, -999.00,9, 1102.00,-999.0000,9,-999.0000,9,-999.0000,9,-999.0000,9,-999.0000,9,-999.0000,9,   8.6943,     -999.0,9,     -999.0,9,     -999.0,9,     -999.0,9,         64,-999.000,-999.000,-999.000,     -999.0,9, -999.00,9, -999.00,9
33RO200306_01,       A16N,     064,          1,         11,         11,2,20030706,       2321,    33.5000,   -21.4072,       5336,  1286.1,   8.1538,  35.6287,2,  35.6290,2,    197.2,2,   195.6,2,   12.40,2,   18.48,2,    0.00,2,    1.15,2,   0.889,2,   0.462,2,   0.018,2,  -999.0,9,  -999.0,9,   -999.0,9,  -999.00,-999.0000,9,  -999.00,-999.000,9,-999.000,9,-999.000,9, -999.00,9,  -999.0,9,  -999.0,-999.000,9,-999.000,-999.000,9, -999.00,9, -999.00,9, 1286.10,-999.0000,9,-999.0000,9,-999.0000,9,-999.0000,9,-999.0000,9,-999.0000,9,   8.0121,     -999.0,9,     -999.0,9,     -999.0,9,     -999.0,9,         64,-999.000,-999.000,-999.000,     -999.0,9, -999.00,9, -999.00,9
33RO200306_01,       A16N,     064,          1,         10,         10,2,20030706,       2321,    33.5000,   -21.4072,       5336,  1426.4,   7.1376,  35.4966,2,  35.4940,2,    210.3,2,   209.7,2,   13.02,2,   18.43,2,    0.00,2,    1.16,2,   0.819,2,   0.424,2,   0.022,2,  -999.0,9,  -999.0,9,   -999.0,9,  -999.00,-999.0000,9,  -999.00,-999.000,9,-999.000,9,-999.000,9, -999.00,9,  -999.0,9,  -999.0,-999.000,9,-999.000,-999.000,9, -999.00,9, -999.00,9, 1426.40,-999.0000,9,-999.0000,9,-999.0000,9,-999.0000,9,-999.0000,9,-999.0000,9,   6.9899,     -999.0,9,     -999.0,9,     -999.0,9,     -999.0,9,         64,-999.000,-999.000,-999.000,     -999.0,9, -999.00,9, -999.00,9
33RO200306_01,       A16N,     064,          1,          9,          9,2,20030706,       2321,    33.5000,   -21.4072,       5336,  1700.8,   5.4584,  35.2714,2,  35.2716,2,    230.9,2,   231.7,2,   14.64,2,   18.44,2,    0.00,2,    1.18,2,   0.640,2,   0.332,2,   0.018,2,  -999.0,9,  -999.0,9,   -999.0,9,  -999.00,-999.0000,9,  -999.00,-999.000,9,-999.000,9,-999.000,9, -999.00,9,  -999.0,9,  -999.0,-999.000,9,-999.000,-999.000,9, -999.00,9, -999.00,9, 1700.80,-999.0000,9,-999.0000,9,-999.0000,9,-999.0000,9,-999.0000,9,-999.0000,9,   5.3005,     -999.0,9,     -999.0,9,     -999.0,9,     -999.0,9,         64,-999.000,-999.000,-999.000,     -999.0,9, -999.00,9, -999.00,9
33RO200306_01,       A16N,     064,          1,          8,          8,2,20030706,       2321,    33.5000,   -21.4072,       5336,  1897.8,   4.8145,  35.1849,2,  35.1847,2,    238.3,2,   238.8,2,   16.32,2,   18.56,2,    0.00,2,    1.19,2,-999.000,9,-999.000,9,-999.000,9,  -999.0,9,  -999.0,9,   -999.0,9,  -999.00,-999.0000,9,  -999.00,-999.000,9,-999.000,9,-999.000,9, -999.00,9,  -999.0,9,  -999.0,-999.000,9,-999.000,-999.000,9, -999.00,9, -999.00,9, 1897.80,-999.0000,9,-999.0000,9,-999.0000,9,-999.0000,9,-999.0000,9,-999.0000,9,   4.6449,     -999.0,9,     -999.0,9,     -999.0,9,     -999.0,9,         64,-999.000,-999.000,-999.000,     -999.0,9, -999.00,9, -999.00,9