BOTTLE,20230908CCHSIOCBG
EXPOCODE,SECT_ID,STNNBR,CASTNO,SAMPNO,BTLNBR,BTLNBR_FLAG_W,DATE,TIME,LATITUDE,LONGITUDE,DEPTH,CTDPRS,CTDTMP,CTDSAL,CTDSAL_FLAG_W,SALNTY,SALNTY_FLAG_W,CTDOXY,CTDOXY_FLAG_W,OXYGEN,OXYGEN_FLAG_W,SILCAT,SILCAT_FLAG_W,NITRAT,NITRAT_FLAG_W,NITRIT,NITRIT_FLAG_W,PHSPHT,PHSPHT_FLAG_W,CFC-11,CFC-11_FLAG_W,CFC-12,CFC-12_FLAG_W,CFC113,CFC113_FLAG_W,TCARBN,TCARBN_FLAG_W,ALKALI,ALKALI_FLAG_W,FCO2,FCO2_FLAG_W,FCO2TMP,PH_SWS,PH_SWS_FLAG_W,PH_TMP,TRITUM,TRITUM_FLAG_W,HELIUM,HELIUM_FLAG_W,DELHE3,DELHE3_FLAG_W,DELC13,DELC13_FLAG_W,DELC14,DELC14_FLAG_W,C14ERR,NEON,NEON_FLAG_W,NEONER,POC,POC_FLAG_W,DOC,DOC_FLAG_W,TDN,TDN_FLAG_W,CTDRAW,CDOM325,CDOM325_FLAG_W,CDOM340,CDOM340_FLAG_W,CDOM380,CDOM380_FLAG_W,CDOM412,CDOM412_FLAG_W,CDOMSL,CDOMSL_FLAG_W,CDOMSN,CDOMSN_FLAG_W,THETA,PON,PON_FLAG_W,HCFC-22,HCFC-22_FLAG_W,HCFC-142b,HCFC-142b_FLAG_W,HCFC-141b,HCFC-141b_FLAG_W,STNNBR_U,HELIER,DELHER,TRITER,CH3CL,CH3CL_FLAG_W,CH3BR,CH3BR_FLAG_W,CH3I,CH3I_FLAG_W
,,,,,,,,,,,METERS,DBAR,ITS-90,PSS-78,,PSS-78,,UMOL/KG,,UMOL/KG,,UMOL/KG,,UMOL/KG,,UMOL/KG,,UMOL/KG,,PMOL/KG,,PMOL/KG,,PMOL/KG,,UMOL/KG,,UMOL/KG,,UATM,,DEG C,,,DEG C,TU,,NMOL/KG,,PERCNT,,/MILLE,,/MILLE,,/MILLE,NMOL/KG,,NMOL/KG,UG/KG,,UMOL/KG,,UMOL/KG,,DBAR,1/M,,1/M,,1/M,,1/M,,1/NM,,1/NM,,DEG C,UMOL/L,,PMOL/KG,,PMOL/KG,,PMOL/KG,,,NMOL/KG,PERCNT,TU,PMOL/KG,,PMOL/KG,,PMOL/KG,
33RO200306_02,       A16N,     130,          1,         35,         35,2,20030803,       2330,     1.6663,   -25.0002,       3829,     3.0,  26.3353,  35.6717,2,  35.6783,2,    193.3,2,   208.6,2,    0.88,2,    0.16,2,    0.00,2,    0.08,2,   1.738,2,   1.104,2,   0.140,2,  1995.2,6,  2338.4,6,    280.8,2,    20.00,   8.0840,6,    25.00,-999.000,9,-999.000,9,-999.000,9, -999.00,9,  -999.0,9,  -999.0,-999.000,9,-999.000,-999.000,9, -999.00,9, -999.00,9,    3.00,-999.0000,9,-999.0000,9,-999.0000,9,-999.0000,9,-999.0000,9,-999.0000,9,  26.3346,     -999.0,9,     -999.0,9,     -999.0,9,     -999.0,9,        130,-999.000,-999.000,-999.000,     -999.0,9, -999.00,9, -999.00,9
33RO200306_02,       A16N,     130,          1,         33,         33,2,20030803,       2330,     1.6663,   -25.0002,       3829,     9.3,  26.3380,  35.6713,2,  35.6760,2,    192.4,2,   205.2,2,    0.87,2,    0.14,2,    0.00,2,    0.07,2,-999.000,9,-999.000,9,-999.000,9,  -999.0,9,  -999.0,9,   -999.0,9,  -999.00,-999.0000,9,  -999.00,-999.000,9,-999.000,9,-999.000,9, -999.00,9,  -999.0,9,  -999.0,-999.000,9,-999.000,-999.000,9, -999.00,9, -999.00,9,    9.30,-999.0000,9,-999.0000,9,-999.0000,9,-999.0000,9,-999.0000,9,-999.0000,9,  26.3359,     -999.0,9,     -999.0,9,     -999.0,9,     -999.0,9,        130,-999.000,-999.000,-999.000,     -999.0,9, -999.00,9, -999.00,9
33RO200306_02,       A16N,     130,          1,         32,         32,2,20030803,       2330,     1.6663,   -25.0002,       3829,    29.5,  26.2869,  35.6760,2,  35.6846,2,    193.3,2,   205.3,2,    0.90,2,    0.15,2,    0.00,2,    0.08,2,-999.000,9,-999.000,9,-999.000,9,  -999.0,9,  -999.0,9,   -999.0,9,  -999.00,-999.0000,9,  -999.00,-999.000,9,-999.000,9,-999.000,9, -999.00,9,  -999.0,9,  -999.0,-999.000,9,-999.000,-999.000,9, -999.00,9, -999.00,9,   29.50,-999.0000,9,-999.0000,9,-999.0000,9,-999.0000,9,-999.0000,9,-999.0000,9,  26.2803,     -999.0,9,     -999.0,9,     -999.0,9,     -999.0,9,        130,-999.000,-999.000,-999.000,     -999.0,9, -999.00,9, -999.00,9
33RO200306_02,       A16N,     130,          1,         31,         31,2,20030803,       2330,     1.6663,   -25.0002,       3829,    49.7,  25.3191,  35.7447,2,  35.7683,2,    197.2,2,   207.2,2,    0.92,2,    0.12,2,    0.00,2,    0.13,2,-999.000,9,-999.000,9,-999.000,9,  -999.0,9,  -999.0,9,   -999.0,9,  -999.00,-999.0000,9,  -999.00,-999.000,9,-999.000,9,-999.000,9, -999.00,9,  -999.0,9,  -999.0,-999.000,9,-999.000,-999.000,9, -999.00,9, -999.00,9,   49.70,-999.0000,9,-999.0000,9,-999.0000,9,-999.0000,9,-999.0000,9,-999.0000,9,  25.3082,     -999.0,9,     -999.0,9,     -999.0,9,     -999.0,9,        130,-999.000,-999.000,-999.000,     -999.0,9, -999.00,9, -999.00,9
33RO200306_02,       A16N,     130,          1,         30,         30,2,20030803,       2330,     1.6663,   -25.0002,       3829,    69.2,  22.5723,  35.7970,2,  35.7967,2,    166.0,2,   168.6,2,    2.43,2,    3.96,2,    0.24,2,    0.44,2,-999.000,9,-999.000,9,-999.000,9,  -999.0,9,  -999.0,9,   -999.0,9,  -999.00,-999.0000,9,  -999.00,-999.000,9,-999.000,9,-999.000,9, -999.00,9,  -999.0,9,  -999.0,-999.000,9,-999.000,-999.000,9, -999.00,9, -999.00,9,   69.20,-999.0000,9,-999.0000,9,-999.0000,9,-999.0000,9,-999.0000,9,-999.0000,9,  22.5583,     -999.0,9,     -999.0,9,     -999.0,9,     -999.0,9,        130,-999.000,-999.000,-999.000,     -999.0,9, -999.00,9, -999.00,9
33RO200306_02,       A16N,     130,          1,         29,         29,2,20030803,       2330,     1.6663,   -25.0002,       3829,    90.4,  16.4465,  35.6369,2,  35.6342,2,    107.0,2,    97.1,2,    5.66,2,   19.28,2,    0.07,2,    1.32,2,   1.977,2,   1.109,2,   0.037,2,  2177.6,2,  2334.8,2,    756.8,6,    20.00,   7.7155,2,    25.00,-999.000,9,-999.000,9,-999.000,9, -999.00,9,  -999.0,9,  -999.0,-999.000,9,-999.000,-999.000,9, -999.00,9, -999.00,9,   90.40,-999.0000,9,-999.0000,9,-999.0000,9,-999.0000,9,-999.0000,9,-999.0000,9,  16.4319,     -999.0,9,     -999.0,9,     -999.0,9,     -999.0,9,        130,-999.000,-999.000,-999.000,     -999.0,9, -999.00,9, -999.00,9
33RO200306_02,       A16N,     130,          1,         28,         28,2,20030803,       2330,     1.6663,   -25.0002,       3829,   110.3,  15.6227,  35.5863,2,  35.5805,2,     91.1,2,    90.2,2,    6.72,2,   21.27,2,    0.03,2,    1.42,2,-999.000,9,-999.000,9,-999.000,9,  -999.0,9,  -999.0,9,   -999.0,9,  -999.00,-999.0000,9,  -999.00,-999.000,9,-999.000,9,-999.000,9, -999.00,9,  -999.0,9,  -999.0,-999.000,9,-999.000,-999.000,9, -999.00,9, -999.00,9,  110.30,-999.0000,9,-999.0000,9,-999.0000,9,-999.0000,9,-999.0000,9,-999.0000,9,  15.6055,     -999.0,9,     -999.0,9,     -999.0,9,     -999.0,9,        130,-999.000,-999.000,-999.000,     -999.0,9, -999.00,9, -999.00,9
33RO200306_02,       A16N,     130,          1,         27,         27,2,20030803,       2330,     1.6663,   -25.0002,       3829,   134.7,  14.8233,  35.5044,2,  35.5077,2,     91.6,2,    91.3,2,    7.48,2,   21.94,2,    0.01,2,    1.46,2,-999.000,9,-999.000,9,-999.000,9,  -999.0,9,  -999.0,9,   -999.0,9,  -999.00,-999.0000,9,  -999.00,-999.000,9,-999.000,9,-999.000,9, -999.00,9,  -999.0,9,  -999.0,-999.000,9,-999.000,-999.000,9, -999.00,9, -999.00,9,  134.70,-999.0000,9,-999.0000,9,-999.0000,9,-999.0000,9,-999.0000,9,-999.0000,9,  14.8030,     -999.0,9,     -999.0,9,     -999.0,9,     -999.0,9,        130,-999.000,-999.000,-999.000,     -999.0,9, -999.00,9, -999.00,9
33RO200306_02,       A16N,     130,          1,         26,         26,2,20030803,       2330,     1.6663,   -25.0002,       3829,   160.1,  14.4601,  35.4587,2,  35.4534,2,     95.9,2,    97.8,2,    7.63,2,   21.90,2,    0.01,2,    1.45,2,-999.000,9,-999.000,9,-999.000,9,  -999.0,9,  -999.0,9,   -999.0,9,  -999.00,-999.0000,9,  -999.00,-999.000,9,-999.000,9,-999.000,9, -999.00,9,  -999.0,9,  -999.0,-999.000,9,-999.000,-999.000,9, -999.00,9, -999.00,9,  160.10,-999.0000,9,-999.0000,9,-999.0000,9,-999.0000,9,-999.0000,9,-999.0000,9,  14.4364,     -999.0,9,     -999.0,9,     -999.0,9,     -999.0,9,        130,-999.000,-999.000,-999.000,     -999.0,9, -999.00,9, -999.00,9
33RO200306_02,       A16N,     130,          1,         25,         25,2,20030803,       2330,     1.6663,   -25.0002,       3829,   184.6,  13.9734,  35.3971,2,  35.3948,2,    105.4,2,   106.5,2,    7.74,2,   21.80,2,    0.01,2,    1.45,2,   1.820,2,   1.009,2,   0.020,2,  2184.9,2,  2324.4,2,    815.6,6,    20.00,   7.6923,2,    25.00,-999.000,9,-999.000,9,-999.000,9, -999.00,9,  -999.0,9,  -999.0,-999.000,9,-999.000,-999.000,9, -999.00,9, -999.00,9,  184.60,-999.0000,9,-999.0000,9,-999.0000,9,-999.0000,9,-999.0000,9,-999.0000,9,  13.9467,     -999.0,9,     -999.0,9,     -999.0,9,     -999.0,9,        130,-999.000,-999.000,-999.000,     -999.0,9, -999.00,9, -999.00,9
33RO200306_02,       A16N,     130,          1,         24,         24,2,20030803,       2330,     1.6663,   -25.0002,       3829,   216.4,  13.2204,  35.3024,2,  35.2989,2,     95.8,2,    95.0,2,    8.84,2,   24.05,2,    0.01,2,    1.57,2,-999.000,9,-999.000,9,-999.000,9,  -999.0,9,  -999.0,9,   -999.0,9,  -999.00,-999.0000,9,  -999.00,-999.000,9,-999.000,9,-999.000,9, -999.00,9,  -999.0,9,  -999.0,-999.000,9,-999.000,-999.000,9, -999.00,9, -999.00,9,  216.40,-999.0000,9,-999.0000,9,-999.0000,9,-999.0000,9,-999.0000,9,-999.0000,9,  13.1902,     -999.0,9,     -999.0,9,     -999.0,9,     -999.0,9,        130,-999.000,-999.000,-999.000,     -999.0,9, -999.00,9, -999.00,9
33RO200306_02,       A16N,     130,          1,         23,         23,2,20030803,       2330,     1.6663,   -25.0002,       3829,   274.3,  12.0961,  35.1755,2,  35.1701,2,     87.0,2,    89.5,2,   10.48,2,   26.66,2,    0.01,2,    1.70,2,-999.000,9,-999.000,9,-999.000,9,  -999.0,9,  -999.0,9,   -999.0,9,  -999.00,-999.0000,9,  -999.00,-999.000,9,-999.000,9,-999.000,9, -999.00,9,  -999.0,9,  -999.0,-999.000,9,-999.000,-999.000,9, -999.00,9, -999.00,9,  274.30,-999.0000,9,-999.0000,9,-999.0000,9,-999.0000,9,-999.0000,9,-999.0000,9,  12.0599,     -999.0,9,     -999.0,9,     -999.0,9,     -999.0,9,        130,-999.000,-999.000,-999.000,     -999.0,9, -999.00,9, -999.00,9
33RO200306_02,       A16N,     130,          1,         22,         22,2,20030803,       2330,     1.6663,   -25.0002,       3829,   321.7,  10.1427,  34.9390,2,  34.9400,2,    128.0,2,   133.2,2,   12.18,2,   25.51,2,    0.01,2,    1.68,2,-999.000,9,-999.000,9,-999.000,9,  -999.0,9,  -999.0,9,   -999.0,9,  -999.00,-999.0000,9,  -999.00,-999.000,9,-999.000,9,-999.000,9, -999.00,9,  -999.0,9,  -999.0,-999.000,9,-999.000,-999.000,9, -999.00,9, -999.00,9,  321.70,-999.0000,9,-999.0000,9,-999.0000,9,-999.0000,9,-999.0000,9,-999.0000,9,  10.1048,     -999.0,9,     -999.0,9,     -999.0,9,     -999.0,9,        130,-999.000,-999.000,-999.000,     -999.0,9, -999.00,9, -999.00,9
33RO200306_02,       A16N,     130,          1,         21,         21,2,20030803,       2330,     1.6663,   -25.0002,       3829,   363.6,   8.9030,  34.8171,2,  34.8173,2,    120.0,2,   125.5,2,   15.07,2,   28.95,2,    0.00,2,    1.86,2,   1.107,2,   0.580,2,   0.020,2,  2202.2,2,  2302.0,2,   1019.8,2,    20.00,   7.5889,2,    25.00,-999.000,9,-999.000,9,-999.000,9, -999.00,9,  -999.0,9,  -999.0,-999.000,9,-999.000,-999.000,9, -999.00,9, -999.00,9,  363.60,-999.0000,9,-999.0000,9,-999.0000,9,-999.0000,9,-999.0000,9,-999.0000,9,   8.8635,     -999.0,9,     -999.0,9,     -999.0,9,     -999.0,9,        130,-999.000,-999.000,-999.000,     -999.0,9, -999.00,9, -999.00,9
33RO200306_02,       A16N,     130,          1,         20,         20,2,20030803,       2330,     1.6663,   -25.0002,       3829,   423.4,   7.2860,  34.6474,2,  34.6486,2,    134.4,2,   132.4,2,   19.29,2,   31.66,2,    0.00,2,    2.07,2,   1.107,2,   0.580,2,   0.020,2,  -999.0,9,  -999.0,9,   -999.0,9,  -999.00,-999.0000,9,  -999.00,-999.000,9,-999.000,9,-999.000,9, -999.00,9,  -999.0,9,  -999.0,-999.000,9,-999.000,-999.000,9, -999.00,9, -999.00,9,  423.40,-999.0000,9,-999.0000,9,-999.0000,9,-999.0000,9,-999.0000,9,-999.0000,9,   7.2450,     -999.0,9,     -999.0,9,     -999.0,9,     -999.0,9,        130,-999.000,-999.000,-999.000,     -999.0,9, -999.00,9, -999.00,9
33RO200306_02,       A16N,     130,          1,         19,         19,2,20030803,       2330,     1.6663,   -25.0002,       3829,   471.7,   6.6469,  34.5858,2,  34.5879,2,    140.9,2,   138.4,2,   21.25,2,   32.41,2,    0.00,2,    2.14,2,-999.000,9,-999.000,9,-999.000,9,  -999.0,9,  -999.0,9,   -999.0,9,  -999.00,-999.0000,9,  -999.00,-999.000,9,-999.000,9,-999.000,9, -999.00,9,  -999.0,9,  -999.0,-999.000,9,-999.000,-999.000,9, -999.00,9, -999.00,9,  471.70,-999.0000,9,-999.0000,9,-999.0000,9,-999.0000,9,-999.0000,9,-999.0000,9,   6.6034,     -999.0,9,     -999.0,9,     -999.0,9,     -999.0,9,        130,-999.000,-999.000,-999.000,     -999.0,9, -999.00,9, -999.00,9
33RO200306_02,       A16N,     130,          1,         18,         18,2,20030803,       2330,     1.6663,   -25.0002,       3829,   546.5,   6.0540,  34.5454,2,  34.5458,2,    143.6,2,   139.8,2,   23.68,2,   33.46,2,    0.00,2,    2.22,2,   0.474,2,   0.251,2,   0.012,2,  2212.3,2,  2297.9,2,   1156.7,2,    20.00,   7.5518,2,    25.00,-999.000,9,-999.000,9,-999.000,9, -999.00,9,  -999.0,9,  -999.0,-999.000,9,-999.000,-999.000,9, -999.00,9, -999.00,9,  546.50,-999.0000,9,-999.0000,9,-999.0000,9,-999.0000,9,-999.0000,9,-999.0000,9,   6.0058,     -999.0,9,     -999.0,9,     -999.0,9,     -999.0,9,        130,-999.000,-999.000,-999.000,     -999.0,9, -999.00,9, -999.00,9
33RO200306_02,       A16N,     130,          1,         17,         17,2,20030803,       2330,     1.6663,   -25.0002,       3829,   648.1,   5.5070,  34.5159,2,  34.5066,2,    147.1,2,   144.3,2,   26.31,2,   34.13,2,    0.00,2,    2.27,2,-999.000,9,-999.000,9,-999.000,9,  -999.0,9,  -999.0,9,   -999.0,9,  -999.00,-999.0000,9,  -999.00,-999.000,9,-999.000,9,-999.000,9, -999.00,9,  -999.0,9,  -999.0,-999.000,9,-999.000,-999.000,9, -999.00,9, -999.00,9,  648.10,-999.0000,9,-999.0000,9,-999.0000,9,-999.0000,9,-999.0000,9,-999.0000,9,   5.4521,     -999.0,9,     -999.0,9,     -999.0,9,     -999.0,9,        130,-999.000,-999.000,-999.000,     -999.0,9, -999.00,9, -999.00,9
33RO200306_02,       A16N,     130,          1,         16,         16,2,20030803,       2330,     1.6663,   -25.0002,       3829,   747.7,   4.9936,  34.5061,2,  34.5164,2,    151.3,2,   150.0,2,   29.16,2,   34.40,2,    0.00,2,    2.30,2,   0.207,2,   0.110,2,   0.005,2,  2212.2,2,  2301.4,2,   1177.3,6,    20.00,   7.5634,2,    25.00,-999.000,9,-999.000,9,-999.000,9, -999.00,9,  -999.0,9,  -999.0,-999.000,9,-999.000,-999.000,9, -999.00,9, -999.00,9,  747.70,-999.0000,9,-999.0000,9,-999.0000,9,-999.0000,9,-999.0000,9,-999.0000,9,   4.9327,     -999.0,9,     -999.0,9,     -999.0,9,     -999.0,9,        130,-999.000,-999.000,-999.000,     -999.0,9, -999.00,9, -999.00,9
33RO200306_02,       A16N,     130,          1,         15,         15,2,20030803,       2330,     1.6663,   -25.0002,       3829,   847.0,   4.8132,  34.5167,2,  34.5172,2,    154.7,2,   152.1,2,   30.29,2,   34.08,2,    0.00,2,    2.30,2,-999.000,9,-999.000,9,-999.000,9,  -999.0,9,  -999.0,9,   -999.0,9,  -999.00,-999.0000,9,  -999.00,-999.000,9,-999.000,9,-999.000,9, -999.00,9,  -999.0,9,  -999.0,-999.000,9,-999.000,-999.000,9, -999.00,9, -999.00,9,  847.00,-999.0000,9,-999.0000,9,-999.0000,9,-999.0000,9,-999.0000,9,-999.0000,9,   4.7448,     -999.0,9,     -999.0,9,     -999.0,9,     -999.0,9,        130,-999.000,-999.000,-999.000,     -999.0,9, -999.00,9, -999.00,9
33RO200306_02,       A16N,     130,          1,         14,         14,2,20030803,       2330,     1.6663,   -25.0002,       3829,   948.6,   4.6533,  34.5583,2,  34.5619,2,    155.4,2,   155.7,2,   30.98,2,   33.80,2,    0.00,2,    2.28,2,-999.000,9,-999.000,9,-999.000,9,  -999.0,9,  -999.0,9,   -999.0,9,  -999.00,-999.0000,9,  -999.00,-999.000,9,-999.000,9,-999.000,9, -999.00,9,  -999.0,9,  -999.0,-999.000,9,-999.000,-999.000,9, -999.00,9, -999.00,9,  948.60,-999.0000,9,-999.0000,9,-999.0000,9,-999.0000,9,-999.0000,9,-999.0000,9,   4.5770,     -999.0,9,     -999.0,9,     -999.0,9,     -999.0,9,        130,-999.000,-999.000,-999.000,     -999.0,9, -999.00,9, -999.00,9
33RO200306_02,       A16N,     130,          1,         13,         13,2,20030803,       2330,     1.6663,   -25.0002,       3829,  1049.1,   4.5598,  34.6682,2,  34.6690,2,    161.8,2,   162.6,2,   29.75,2,   32.03,2,    0.00,2,    2.17,2,-999.000,9,-999.000,9,-999.000,9,  -999.0,9,  -999.0,9,   -999.0,9,  -999.00,-999.0000,9,  -999.00,-999.000,9,-999.000,9,-999.000,9, -999.00,9,  -999.0,9,  -999.0,-999.000,9,-999.000,-999.000,9, -999.00,9, -999.00,9, 1049.10,-999.0000,9,-999.0000,9,-999.0000,9,-999.0000,9,-999.0000,9,-999.0000,9,   4.4753,     -999.0,9,     -999.0,9,     -999.0,9,     -999.0,9,        130,-999.000,-999.000,-999.000,     -999.0,9, -999.00,9, -999.00,9
33RO200306_02,       A16N,     130,          1,         12,         12,2,20030803,       2330,     1.6663,   -25.0002,       3829,  1149.6,   4.6221,  34.7665,2,  34.7682,2,    172.2,2,   172.8,2,   26.82,2,   29.73,2,    0.00,2,    2.00,2,-999.000,9,-999.000,9,-999.000,9,  -999.0,9,  -999.0,9,   -999.0,9,  -999.00,-999.0000,9,  -999.00,-999.000,9,-999.000,9,-999.000,9, -999.00,9,  -999.0,9,  -999.0,-999.000,9,-999.000,-999.000,9, -999.00,9, -999.00,9, 1149.60,-999.0000,9,-999.0000,9,-999.0000,9,-999.0000,9,-999.0000,9,-999.0000,9,   4.5279,     -999.0,9,     -999.0,9,     -999.0,9,     -999.0,9,        130,-999.000,-999.000,-999.000,     -999.0,9, -999.00,9, -999.00,9
33RO200306_02,       A16N,     130,          1,         11,         11,2,20030803,       2330,     1.6663,   -25.0002,       3829,  1249.5,   4.6937,  34.8391,2,  34.8473,3,    183.7,2,   183.9,2,   24.32,2,   27.88,2,    0.00,2,    1.87,2,-999.000,9,-999.000,9,-999.000,9,  -999.0,9,  -999.0,9,   -999.0,9,  -999.00,-999.0000,9,  -999.00,-999.000,9,-999.000,9,-999.000,9, -999.00,9,  -999.0,9,  -999.0,-999.000,9,-999.000,-999.000,9, -999.00,9, -999.00,9, 1249.50,-999.0000,9,-999.0000,9,-999.0000,9,-999.0000,9,-999.0000,9,-999.0000,9,   4.5896,     -999.0,9,     -999.0,9,     -999.0,9,     -999.0,9,        130,-999.000,-999.000,-999.000,     -999.0,9, -999.00,9, -999.00,9
33RO200306_02,       A16N,     130,          1,         10,         10,2,20030803,       2330,     1.6663,   -25.0002,       3829,  1349.8,   4.6095,  34.9224,2,  34.9224,2,    207.3,2,   205.1,2,   20.88,2,   24.75,2,    0.00,2,    1.65,2,-999.000,9,-999.000,9,-999.000,9,  -999.0,9,  -999.0,9,   -999.0,9,  -999.00,-999.0000,9,  -999.00,-999.000,9,-999.000,9,-999.000,9, -999.00,9,  -999.0,9,  -999.0,-999.000,9,-999.000,-999.000,9, -999.00,9, -999.00,9, 1349.80,-999.0000,9,-999.0000,9,-999.0000,9,-999.0000,9,-999.0000,9,-999.0000,9,   4.4967,     -999.0,9,     -999.0,9,     -999.0,9,     -999.0,9,        130,-999.000,-999.000,-999.000,     -999.0,9, -999.00,9, -999.00,9
33RO200306_02,       A16N,     130,          1,          9,          9,2,20030803,       2330,     1.6663,   -25.0002,       3829,  1598.2,   4.1186,  34.9712,2,  34.9721,2,    236.8,2,   240.4,2,   18.36,2,   21.38,2,    0.00,2,    1.43,2,-999.000,9,-999.000,9,-999.000,9,  -999.0,9,  -999.0,9,   -999.0,9,  -999.00,-999.0000,9,  -999.00,-999.000,9,-999.000,9,-999.000,9, -999.00,9,  -999.0,9,  -999.0,-999.000,9,-999.000,-999.000,9, -999.00,9, -999.00,9, 1598.20,-999.0000,9,-999.0000,9,-999.0000,9,-999.0000,9,-999.0000,9,-999.0000,9,   3.9880,     -999.0,9,     -999.0,9,     -999.0,9,     -999.0,9,        130,-999.000,-999.000,-999.000,     -999.0,9, -999.00,9, -999.00,9
33RO200306_02,       A16N,     130,          1,          8,          8,2,20030803,       2330,     1.6663,   -25.0002,       3829,  1798.6,   3.8888,  34.9786,2,  34.9790,2,    248.0,2,   250.4,2,   17.94,2,   20.08,2,    0.00,2,    1.35,2,-999.000,9,-999.000,9,-999.000,9,  -999.0,9,  -999.0,9,   -999.0,9,  -999.00,-999.0000,9,  -999.00,-999.000,9,-999.000,9,-999.000,9, -999.00,9,  -999.0,9,  -999.0,-999.000,9,-999.000,-999.000,9, -999.00,9, -999.00,9, 1798.60,-999.0000,9,-999.0000,9,-999.0000,9,-999.0000,9,-999.0000,9,-999.0000,9,   3.7422,     -999.0,9,     -999.0,9,     -999.0,9,     -999.0,9,        130,-999.000,-999.000,-999.000,     -999.0,9, -999.00,9, -999.00,9