BOTTLE,20230908CCHSIOCBG
EXPOCODE,SECT_ID,STNNBR,CASTNO,SAMPNO,BTLNBR,BTLNBR_FLAG_W,DATE,TIME,LATITUDE,LONGITUDE,DEPTH,CTDPRS,CTDTMP,CTDSAL,CTDSAL_FLAG_W,SALNTY,SALNTY_FLAG_W,CTDOXY,CTDOXY_FLAG_W,OXYGEN,OXYGEN_FLAG_W,SILCAT,SILCAT_FLAG_W,NITRAT,NITRAT_FLAG_W,NITRIT,NITRIT_FLAG_W,PHSPHT,PHSPHT_FLAG_W,CFC-11,CFC-11_FLAG_W,CFC-12,CFC-12_FLAG_W,CFC113,CFC113_FLAG_W,TCARBN,TCARBN_FLAG_W,ALKALI,ALKALI_FLAG_W,FCO2,FCO2_FLAG_W,FCO2TMP,PH_SWS,PH_SWS_FLAG_W,PH_TMP,TRITUM,TRITUM_FLAG_W,HELIUM,HELIUM_FLAG_W,DELHE3,DELHE3_FLAG_W,DELC13,DELC13_FLAG_W,DELC14,DELC14_FLAG_W,C14ERR,NEON,NEON_FLAG_W,NEONER,POC,POC_FLAG_W,DOC,DOC_FLAG_W,TDN,TDN_FLAG_W,CTDRAW,CDOM325,CDOM325_FLAG_W,CDOM340,CDOM340_FLAG_W,CDOM380,CDOM380_FLAG_W,CDOM412,CDOM412_FLAG_W,CDOMSL,CDOMSL_FLAG_W,CDOMSN,CDOMSN_FLAG_W,THETA,PON,PON_FLAG_W,HCFC-22,HCFC-22_FLAG_W,HCFC-142b,HCFC-142b_FLAG_W,HCFC-141b,HCFC-141b_FLAG_W,STNNBR_U,HELIER,DELHER,TRITER,CH3CL,CH3CL_FLAG_W,CH3BR,CH3BR_FLAG_W,CH3I,CH3I_FLAG_W
,,,,,,,,,,,METERS,DBAR,ITS-90,PSS-78,,PSS-78,,UMOL/KG,,UMOL/KG,,UMOL/KG,,UMOL/KG,,UMOL/KG,,UMOL/KG,,PMOL/KG,,PMOL/KG,,PMOL/KG,,UMOL/KG,,UMOL/KG,,UATM,,DEG C,,,DEG C,TU,,NMOL/KG,,PERCNT,,/MILLE,,/MILLE,,/MILLE,NMOL/KG,,NMOL/KG,UG/KG,,UMOL/KG,,UMOL/KG,,DBAR,1/M,,1/M,,1/M,,1/M,,1/NM,,1/NM,,DEG C,UMOL/L,,PMOL/KG,,PMOL/KG,,PMOL/KG,,,NMOL/KG,PERCNT,TU,PMOL/KG,,PMOL/KG,,PMOL/KG,
33RO200306_01,       A16N,     071,          1,         35,         35,2,20030709,       0241,    29.9988,   -23.3745,       5242,     3.2,  24.0804,  37.0140,2,  37.0166,2,    216.9,2,   213.2,2,    0.55,2,    0.00,2,    0.00,2,    0.01,2,   1.935,2,   1.208,2,   0.171,2,  2103.0,6,  -999.0,9,    347.7,2,    20.00,-999.0000,9,  -999.00,-999.000,9,-999.000,9,-999.000,9,    1.28,2,   104.8,2,     3.1,-999.000,9,-999.000,-999.000,9,   64.82,2,    5.72,2,    3.20,-999.0000,9,-999.0000,9,-999.0000,9,-999.0000,9,-999.0000,9,-999.0000,9,  24.0797,     -999.0,9,       5.05,2,       0.15,2,       0.63,2,         71,-999.000,-999.000,-999.000,      83.74,2,    0.64,2,   15.39,2
33RO200306_01,       A16N,     071,          1,         32,         32,2,20030709,       0241,    29.9988,   -23.3745,       5242,    15.2,  24.0731,  37.0131,2,  36.9945,2,    216.9,2,   215.7,2,    0.55,2,    0.00,2,    0.00,2,    0.01,2,   2.032,2,   1.277,2,   0.173,2,  2102.2,2,  2416.4,2,    347.0,3,    20.00,   8.0133,2,    25.00,-999.000,9,-999.000,9,-999.000,9, -999.00,9,  -999.0,9,  -999.0,-999.000,9,-999.000,-999.000,9,   64.56,2,    5.40,2,   15.20,-999.0000,9,-999.0000,9,-999.0000,9,-999.0000,9,-999.0000,9,-999.0000,9,  24.0699,     -999.0,9,     -999.0,9,     -999.0,9,     -999.0,9,         71,-999.000,-999.000,-999.000,     -999.0,9, -999.00,9, -999.00,9
33RO200306_01,       A16N,     071,          1,         33,         33,2,20030709,       0241,    29.9988,   -23.3745,       5242,    15.2,  24.0692,  37.0129,2,  37.0078,2,    216.9,2,  -999.0,9,    0.55,2,    0.00,2,    0.00,2,    0.01,2,-999.000,9,-999.000,9,-999.000,9,  -999.0,9,  -999.0,9,   -999.0,9,  -999.00,-999.0000,9,  -999.00,-999.000,9,-999.000,9,-999.000,9, -999.00,9,  -999.0,9,  -999.0,-999.000,9,-999.000,-999.000,9, -999.00,9, -999.00,9,   15.20,-999.0000,9,-999.0000,9,-999.0000,9,-999.0000,9,-999.0000,9,-999.0000,9,  24.0660,     -999.0,9,     -999.0,9,     -999.0,9,     -999.0,9,         71,-999.000,-999.000,-999.000,     -999.0,9, -999.00,9, -999.00,9
33RO200306_01,       A16N,     071,          1,         31,         31,2,20030709,       0241,    29.9988,   -23.3745,       5242,    45.2,  20.3229,  36.7606,2,  36.7582,2,    238.6,2,   238.9,2,    0.54,2,    0.00,2,    0.00,2,    0.01,2,   2.346,2,   1.442,2,   0.196,2,  2089.8,2,  2400.1,2,    347.3,3,    20.00,   8.0176,2,    25.00,-999.000,9,-999.000,9,-999.000,9, -999.00,9,  -999.0,9,  -999.0,-999.000,9,-999.000,-999.000,9,   62.93,2,    6.05,2,   45.20,-999.0000,9,-999.0000,9,-999.0000,9,-999.0000,9,-999.0000,9,-999.0000,9,  20.3144,     -999.0,9,     -999.0,9,     -999.0,9,     -999.0,9,         71,-999.000,-999.000,-999.000,     -999.0,9, -999.00,9, -999.00,9
33RO200306_01,       A16N,     071,          1,         30,         30,2,20030709,       0241,    29.9988,   -23.3745,       5242,    65.7,  19.5369,  36.7551,2,  36.7517,2,    237.4,2,   236.6,2,    0.57,2,    0.00,2,    0.00,2,    0.01,2,-999.000,9,-999.000,9,-999.000,9,  2091.5,2,  2399.3,2,    349.2,2,    20.00,   8.0080,2,    25.00,-999.000,9,-999.000,9,-999.000,9, -999.00,9,  -999.0,9,  -999.0,-999.000,9,-999.000,-999.000,9, -999.00,9, -999.00,9,   65.70,-999.0000,9,-999.0000,9,-999.0000,9,-999.0000,9,-999.0000,9,-999.0000,9,  19.5249,     -999.0,9,     -999.0,9,     -999.0,9,     -999.0,9,         71,-999.000,-999.000,-999.000,     -999.0,9, -999.00,9, -999.00,9
33RO200306_01,       A16N,     071,          1,         29,         29,2,20030709,       0241,    29.9988,   -23.3745,       5242,    95.1,  18.8588,  36.6973,2,  36.6987,2,    228.3,2,   231.7,2,    0.64,2,    0.01,2,    0.00,2,    0.02,2,   2.367,2,   1.443,2,   0.194,2,  2095.6,2,  2395.4,2,    361.8,2,    20.00,   8.0046,2,    25.00,-999.000,9,-999.000,9,-999.000,9, -999.00,9,  -999.0,9,  -999.0,-999.000,9,-999.000,-999.000,9, -999.00,9, -999.00,9,   95.10,-999.0000,9,-999.0000,9,-999.0000,9,-999.0000,9,-999.0000,9,-999.0000,9,  18.8418,     -999.0,9,     -999.0,9,     -999.0,9,     -999.0,9,         71,-999.000,-999.000,-999.000,     -999.0,9, -999.00,9, -999.00,9
33RO200306_01,       A16N,     071,          1,         28,         28,2,20030709,       0241,    29.9988,   -23.3745,       5242,   115.4,  18.3989,  36.6087,2,  36.5979,2,    227.1,2,   225.6,2,    0.75,2,    0.34,2,    0.05,2,    0.03,2,   2.458,2,   1.503,2,   0.194,2,  2098.0,2,  2389.4,2,    372.0,3,    20.00,   7.9897,2,    25.00,-999.000,9,-999.000,9,-999.000,9, -999.00,9,  -999.0,9,  -999.0,-999.000,9,-999.000,-999.000,9, -999.00,9, -999.00,9,  115.40,-999.0000,9,-999.0000,9,-999.0000,9,-999.0000,9,-999.0000,9,-999.0000,9,  18.3786,     -999.0,9,     -999.0,9,     -999.0,9,     -999.0,9,         71,-999.000,-999.000,-999.000,     -999.0,9, -999.00,9, -999.00,9
33RO200306_01,       A16N,     071,          1,         27,         27,2,20030709,       0241,    29.9988,   -23.3745,       5242,   140.8,  18.0573,  36.5442,2,  36.5379,2,    218.8,2,   218.9,2,    0.91,2,    1.52,2,    0.05,2,    0.09,2,   2.447,6,   1.481,6,   0.169,6,  2102.8,2,  2388.1,2,   -999.0,9,  -999.00,   7.9749,2,    25.00,-999.000,9,-999.000,9,-999.000,9, -999.00,9,  -999.0,9,  -999.0,-999.000,9,-999.000,-999.000,9,   55.93,2,    6.40,2,  140.80,-999.0000,9,-999.0000,9,-999.0000,9,-999.0000,9,-999.0000,9,-999.0000,9,  18.0329,     -999.0,9,     -999.0,9,     -999.0,9,     -999.0,9,         71,-999.000,-999.000,-999.000,     -999.0,9, -999.00,9, -999.00,9
33RO200306_01,       A16N,     071,          1,         26,         26,2,20030709,       0241,    29.9988,   -23.3745,       5242,   159.6,  17.8541,  36.5241,2,  36.5426,2,    217.7,2,   217.8,2,    0.94,2,    1.80,2,    0.03,2,    0.11,2,   2.463,2,   1.500,2,   0.163,2,  2106.2,2,  2388.8,2,    392.7,3,    20.00,   7.9739,2,    25.00,-999.000,9,-999.000,9,-999.000,9, -999.00,9,  -999.0,9,  -999.0,-999.000,9,-999.000,-999.000,9, -999.00,9, -999.00,9,  159.60,-999.0000,9,-999.0000,9,-999.0000,9,-999.0000,9,-999.0000,9,-999.0000,9,  17.8266,     -999.0,9,     -999.0,9,     -999.0,9,     -999.0,9,         71,-999.000,-999.000,-999.000,     -999.0,9, -999.00,9, -999.00,9
33RO200306_01,       A16N,     071,          1,         25,         25,2,20030709,       0241,    29.9988,   -23.3745,       5242,   190.5,  17.3734,  36.4715,2,  36.4594,2,    214.1,2,   211.2,2,    1.17,2,    3.31,2,    0.02,2,    0.18,2,   2.525,2,   1.518,2,   0.109,2,  2112.7,2,  2383.5,2,    411.8,3,    20.00,   7.9584,2,    25.00,-999.000,9,-999.000,9,-999.000,9, -999.00,9,  -999.0,9,  -999.0,-999.000,9,-999.000,-999.000,9,   54.31,2,    8.68,2,  190.50,-999.0000,9,-999.0000,9,-999.0000,9,-999.0000,9,-999.0000,9,-999.0000,9,  17.3412,     -999.0,9,     -999.0,9,     -999.0,9,     -999.0,9,         71,-999.000,-999.000,-999.000,     -999.0,9, -999.00,9, -999.00,9
33RO200306_01,       A16N,     071,          1,         24,         24,2,20030709,       0241,    29.9988,   -23.3745,       5242,   225.2,  16.5257,  36.3047,2,  36.2981,2,    207.5,2,   205.9,2,    1.67,2,    5.17,2,    0.01,2,    0.29,2,   2.561,2,   1.516,2,   0.064,2,  2118.2,2,  2374.0,2,    440.8,2,    20.00,   7.9359,2,    25.00,-999.000,9,-999.000,9,-999.000,9, -999.00,9,  -999.0,9,  -999.0,-999.000,9,-999.000,-999.000,9,   51.87,2,    9.09,2,  225.20,-999.0000,9,-999.0000,9,-999.0000,9,-999.0000,9,-999.0000,9,-999.0000,9,  16.4889,     -999.0,9,     -999.0,9,     -999.0,9,     -999.0,9,         71,-999.000,-999.000,-999.000,     -999.0,9, -999.00,9, -999.00,9
33RO200306_01,       A16N,     071,          1,         23,         23,2,20030709,       0241,    29.9988,   -23.3745,       5242,   249.4,  16.0437,  36.2149,2,  36.2069,2,    204.9,2,   206.1,2,    1.96,2,    6.11,2,    0.01,2,    0.34,2,   2.608,2,   1.540,2,   0.058,2,  2116.2,3,  2369.3,2,   -999.0,9,  -999.00,   7.9157,2,    25.00,-999.000,9,-999.000,9,-999.000,9, -999.00,9,  -999.0,9,  -999.0,-999.000,9,-999.000,-999.000,9,   50.73,2,   10.53,2,  249.40,-999.0000,9,-999.0000,9,-999.0000,9,-999.0000,9,-999.0000,9,-999.0000,9,  16.0037,     -999.0,9,     -999.0,9,     -999.0,9,     -999.0,9,         71,-999.000,-999.000,-999.000,     -999.0,9, -999.00,9, -999.00,9
33RO200306_01,       A16N,     071,          1,         22,         22,2,20030709,       0241,    29.9988,   -23.3745,       5242,   350.3,  14.7361,  36.0022,2,  35.9976,2,    210.7,2,   211.5,2,    2.64,2,    7.75,2,    0.01,2,    0.45,2,   2.704,2,   1.575,2,   0.069,2,  2122.7,2,  2354.1,2,    487.2,2,    20.00,   7.8954,2,    25.00,-999.000,9,-999.000,9,-999.000,9, -999.00,9,  -999.0,9,  -999.0,-999.000,9,-999.000,-999.000,9,   50.08,2,   11.18,2,  350.30,-999.0000,9,-999.0000,9,-999.0000,9,-999.0000,9,-999.0000,9,-999.0000,9,  14.6830,     -999.0,9,     -999.0,9,     -999.0,9,     -999.0,9,         71,-999.000,-999.000,-999.000,     -999.0,9, -999.00,9, -999.00,9
33RO200306_01,       A16N,     071,          1,         21,         21,2,20030709,       0241,    29.9988,   -23.3745,       5242,   452.0,  13.4812,  35.8097,2,  35.8062,2,    201.2,2,   202.8,2,    3.91,2,   10.75,2,    0.00,2,    0.64,2,   2.706,2,   1.530,2,   0.062,2,  2134.4,2,  2343.0,2,    548.7,2,    20.00,   7.8537,2,    25.00,-999.000,9,-999.000,9,-999.000,9, -999.00,9,  -999.0,9,  -999.0,-999.000,9,-999.000,-999.000,9,   47.83,2,   14.82,2,  452.00,-999.0000,9,-999.0000,9,-999.0000,9,-999.0000,9,-999.0000,9,-999.0000,9,  13.4165,     -999.0,9,     -999.0,9,     -999.0,9,     -999.0,9,         71,-999.000,-999.000,-999.000,     -999.0,9, -999.00,9, -999.00,9
33RO200306_01,       A16N,     071,          1,         20,         20,2,20030709,       0241,    29.9988,   -23.3745,       5242,   551.2,  12.1783,  35.6473,2,  35.6465,2,    191.5,2,   193.9,2,    5.50,2,   13.88,2,    0.00,2,    0.82,2,   2.549,2,   1.385,2,   0.055,2,  2148.0,2,  2334.3,2,    611.9,2,    20.00,   7.8089,2,    25.00,-999.000,9,-999.000,9,-999.000,9, -999.00,9,  -999.0,9,  -999.0,-999.000,9,-999.000,-999.000,9,   47.24,2,   17.69,2,  551.20,-999.0000,9,-999.0000,9,-999.0000,9,-999.0000,9,-999.0000,9,-999.0000,9,  12.1042,     -999.0,9,     -999.0,9,     -999.0,9,     -999.0,9,         71,-999.000,-999.000,-999.000,     -999.0,9, -999.00,9, -999.00,9
33RO200306_01,       A16N,     071,          1,         19,         19,2,20030709,       0241,    29.9988,   -23.3745,       5242,   650.7,  11.1017,  35.5446,2,  35.5439,2,    181.4,2,   180.1,2,    7.69,2,   16.97,2,    0.00,2,    1.02,2,   1.968,2,   1.044,2,   0.036,2,  2160.4,2,  2330.5,2,    677.3,2,    20.00,   7.7728,2,    25.00,-999.000,9,-999.000,9,-999.000,9, -999.00,9,  -999.0,9,  -999.0,-999.000,9,-999.000,-999.000,9,   45.69,2,   20.77,2,  650.70,-999.0000,9,-999.0000,9,-999.0000,9,-999.0000,9,-999.0000,9,-999.0000,9,  11.0189,     -999.0,9,     -999.0,9,     -999.0,9,     -999.0,9,         71,-999.000,-999.000,-999.000,     -999.0,9, -999.00,9, -999.00,9
33RO200306_01,       A16N,     071,          1,         18,         18,2,20030709,       0241,    29.9988,   -23.3745,       5242,   803.0,   9.5410,  35.4254,2,  35.4240,2,    167.4,2,   165.3,2,   11.78,2,   20.98,2,    0.00,2,    1.28,2,   0.986,2,   0.507,2,   0.015,2,  2181.1,2,  2329.1,2,    763.0,2,    20.00,   7.7228,2,    25.00,-999.000,9,-999.000,9,-999.000,9, -999.00,9,  -999.0,9,  -999.0,-999.000,9,-999.000,-999.000,9,   44.80,2,   24.77,2,  803.00,-999.0000,9,-999.0000,9,-999.0000,9,-999.0000,9,-999.0000,9,-999.0000,9,   9.4471,     -999.0,9,     -999.0,9,     -999.0,9,     -999.0,9,         71,-999.000,-999.000,-999.000,     -999.0,9, -999.00,9, -999.00,9
33RO200306_01,       A16N,     071,          1,         17,         17,2,20030709,       0241,    29.9988,   -23.3745,       5242,   951.0,   8.7212,  35.4508,2,  35.4580,2,    170.6,2,   172.0,2,   13.12,2,   21.08,2,    0.00,2,    1.30,2,   0.763,2,   0.400,2,   0.012,2,  2186.6,6,  2336.0,6,    769.7,2,    20.00,   7.7228,6,    25.00,-999.000,9,-999.000,9,-999.000,9, -999.00,9,  -999.0,9,  -999.0,-999.000,9,-999.000,-999.000,9,   43.49,2,   24.51,2,  951.00,-999.0000,9,-999.0000,9,-999.0000,9,-999.0000,9,-999.0000,9,-999.0000,9,   8.6147,     -999.0,9,     -999.0,9,     -999.0,9,     -999.0,9,         71,-999.000,-999.000,-999.000,     -999.0,9, -999.00,9, -999.00,9
33RO200306_01,       A16N,     071,          1,         16,         16,2,20030709,       0241,    29.9988,   -23.3745,       5242,  1098.3,   8.2170,  35.5278,2,  35.5267,2,    183.0,2,   184.5,2,   13.36,2,   20.06,2,    0.00,2,    1.25,2,   0.698,2,   0.364,2,   0.012,2,  2188.7,2,  2343.7,2,    745.4,2,    20.00,   7.7316,2,    25.00,-999.000,9,-999.000,9,-999.000,9, -999.00,9,  -999.0,9,  -999.0,-999.000,9,-999.000,-999.000,9,   43.80,2,   23.51,2, 1098.30,-999.0000,9,-999.0000,9,-999.0000,9,-999.0000,9,-999.0000,9,-999.0000,9,   8.0969,     -999.0,9,     -999.0,9,     -999.0,9,     -999.0,9,         71,-999.000,-999.000,-999.000,     -999.0,9, -999.00,9, -999.00,9
33RO200306_01,       A16N,     071,          1,         15,         15,2,20030709,       0241,    29.9988,   -23.3745,       5242,  1251.0,   7.5566,  35.5030,2,  35.5035,2,    196.9,2,   197.0,2,   13.70,2,   19.51,2,    0.00,2,    1.22,2,   0.648,2,   0.339,2,   0.010,2,  2186.5,2,  2346.5,2,    737.7,2,    20.00,   7.7395,2,    25.00,-999.000,9,-999.000,9,-999.000,9, -999.00,9,  -999.0,9,  -999.0,-999.000,9,-999.000,-999.000,9,   43.41,2,   22.87,2, 1251.00,-999.0000,9,-999.0000,9,-999.0000,9,-999.0000,9,-999.0000,9,-999.0000,9,   7.4246,     -999.0,9,     -999.0,9,     -999.0,9,     -999.0,9,         71,-999.000,-999.000,-999.000,     -999.0,9, -999.00,9, -999.00,9
33RO200306_01,       A16N,     071,          1,         14,         14,2,20030709,       0241,    29.9988,   -23.3745,       5242,  1440.1,   6.3536,  35.3668,2,  35.3667,2,    214.6,2,   213.4,2,   14.90,2,   19.35,2,    0.00,2,    1.22,2,   0.547,2,   0.286,2,   0.013,2,  2180.5,2,  2338.8,2,    738.8,2,    20.00,   7.7328,2,    25.00,-999.000,9,-999.000,9,-999.000,9, -999.00,9,  -999.0,9,  -999.0,-999.000,9,-999.000,-999.000,9,   44.22,2,   22.56,2, 1440.10,-999.0000,9,-999.0000,9,-999.0000,9,-999.0000,9,-999.0000,9,-999.0000,9,   6.2128,     -999.0,9,     -999.0,9,     -999.0,9,     -999.0,9,         71,-999.000,-999.000,-999.000,     -999.0,9, -999.00,9, -999.00,9
33RO200306_01,       A16N,     071,          1,         13,         13,2,20030709,       0241,    29.9988,   -23.3745,       5242,  1750.0,   5.1324,  35.2239,2,  35.2247,2,    233.6,2,   234.1,2,   15.85,2,   18.79,2,    0.00,2,    1.20,2,   0.458,2,   0.243,2,   0.013,2,  2174.2,2,  2330.5,2,    731.2,6,    20.00,   7.7347,2,    25.00,-999.000,9,-999.000,9,-999.000,9, -999.00,9,  -999.0,9,  -999.0,-999.000,9,-999.000,-999.000,9,   44.47,2,   23.70,2, 1750.00,-999.0000,9,-999.0000,9,-999.0000,9,-999.0000,9,-999.0000,9,-999.0000,9,   4.9736,     -999.0,9,     -999.0,9,     -999.0,9,     -999.0,9,         71,-999.000,-999.000,-999.000,     -999.0,9, -999.00,9, -999.00,9
33RO200306_01,       A16N,     071,          1,         12,         12,2,20030709,       0241,    29.9988,   -23.3745,       5242,  2051.4,   4.1604,  35.0964,2,  35.0964,2,    244.2,2,   243.5,2,   19.40,2,   19.11,2,    0.00,2,    1.24,2,   0.202,2,   0.114,2,   0.007,2,  2172.8,2,  2326.1,2,    738.9,2,    20.00,   7.7378,2,    25.00,-999.000,9,-999.000,9,-999.000,9, -999.00,9,  -999.0,9,  -999.0,-999.000,9,-999.000,-999.000,9,   43.17,2,   23.81,2, 2051.40,-999.0000,9,-999.0000,9,-999.0000,9,-999.0000,9,-999.0000,9,-999.0000,9,   3.9850,     -999.0,9,     -999.0,9,     -999.0,9,     -999.0,9,         71,-999.000,-999.000,-999.000,     -999.0,9, -999.00,9, -999.00,9
33RO200306_01,       A16N,     071,          1,         11,         11,2,20030709,       0241,    29.9988,   -23.3745,       5242,  2350.7,   3.4288,  35.0097,2,  35.0101,2,    247.8,2,   247.9,2,   24.63,2,   19.67,2,    0.00,2,    1.29,2,   0.093,2,   0.056,2,   0.004,2,  2174.5,2,  2328.1,2,    742.2,2,    20.00,   7.7332,2,    25.00,-999.000,9,-999.000,9,-999.000,9, -999.00,9,  -999.0,9,  -999.0,-999.000,9,-999.000,-999.000,9,   43.20,2,   24.67,2, 2350.70,-999.0000,9,-999.0000,9,-999.0000,9,-999.0000,9,-999.0000,9,-999.0000,9,   3.2357,     -999.0,9,     -999.0,9,     -999.0,9,     -999.0,9,         71,-999.000,-999.000,-999.000,     -999.0,9, -999.00,9, -999.00,9
33RO200306_01,       A16N,     071,          1,         10,         10,2,20030709,       0241,    29.9988,   -23.3745,       5242,  2650.8,   3.0331,  34.9700,2,  34.9704,2,    248.8,2,   250.6,2,   29.64,2,   20.22,2,    0.00,2,    1.34,2,   0.049,2,   0.035,2,   0.001,2,  2180.4,2,  2333.2,2,    751.0,6,    20.00,   7.7322,2,    25.00,-999.000,9,-999.000,9,-999.000,9, -999.00,9,  -999.0,9,  -999.0,-999.000,9,-999.000,-999.000,9,   42.36,2,   24.00,2, 2650.80,-999.0000,9,-999.0000,9,-999.0000,9,-999.0000,9,-999.0000,9,-999.0000,9,   2.8174,     -999.0,9,     -999.0,9,     -999.0,9,     -999.0,9,         71,-999.000,-999.000,-999.000,     -999.0,9, -999.00,9, -999.00,9
33RO200306_01,       A16N,     071,          1,          9,          9,2,20030709,       0241,    29.9988,   -23.3745,       5242,  2945.9,   2.7851,  34.9457,2,  34.9459,2,    247.9,2,   246.5,2,   34.01,2,   20.75,2,    0.00,2,    1.38,2,   0.039,2,   0.025,2,   0.001,2,  2185.2,2,  2338.3,2,    755.9,2,    20.00,   7.7307,2,    25.00,-999.000,9,-999.000,9,-999.000,9, -999.00,9,  -999.0,9,  -999.0,-999.000,9,-999.000,-999.000,9,   42.52,2,   24.93,2, 2945.90,-999.0000,9,-999.0000,9,-999.0000,9,-999.0000,9,-999.0000,9,-999.0000,9,   2.5445,     -999.0,9,     -999.0,9,     -999.0,9,     -999.0,9,         71,-999.000,-999.000,-999.000,     -999.0,9, -999.00,9, -999.00,9
33RO200306_01,       A16N,     071,          1,          8,          8,2,20030709,       0241,    29.9988,   -23.3745,       5242,  3248.7,   2.6306,  34.9291,2,  34.9291,2,    246.3,2,   245.1,2,   38.10,2,   21.30,2,    0.00,2,    1.42,2,   0.022,2,   0.014,2,   0.001,2,  2189.9,2,  2343.3,2,   -999.0,9,  -999.00,   7.7253,2,    25.00,-999.000,9,-999.000,9,-999.000,9, -999.00,9,  -999.0,9,  -999.0,-999.000,9,-999.000,-999.000,9,   42.52,2,   25.51,2, 3248.70,-999.0000,9,-999.0000,9,-999.0000,9,-999.0000,9,-999.0000,9,-999.0000,9,   2.3619,     -999.0,9,     -999.0,9,     -999.0,9,     -999.0,9,         71,-999.000,-999.000,-999.000,     -999.0,9, -999.00,9, -999.00,9