BOTTLE,20230908CCHSIOCBG
EXPOCODE,SECT_ID,STNNBR,CASTNO,SAMPNO,BTLNBR,BTLNBR_FLAG_W,DATE,TIME,LATITUDE,LONGITUDE,DEPTH,CTDPRS,CTDTMP,CTDSAL,CTDSAL_FLAG_W,SALNTY,SALNTY_FLAG_W,CTDOXY,CTDOXY_FLAG_W,OXYGEN,OXYGEN_FLAG_W,SILCAT,SILCAT_FLAG_W,NITRAT,NITRAT_FLAG_W,NITRIT,NITRIT_FLAG_W,PHSPHT,PHSPHT_FLAG_W,CFC-11,CFC-11_FLAG_W,CFC-12,CFC-12_FLAG_W,CFC113,CFC113_FLAG_W,TCARBN,TCARBN_FLAG_W,ALKALI,ALKALI_FLAG_W,FCO2,FCO2_FLAG_W,FCO2TMP,PH_SWS,PH_SWS_FLAG_W,PH_TMP,TRITUM,TRITUM_FLAG_W,HELIUM,HELIUM_FLAG_W,DELHE3,DELHE3_FLAG_W,DELC13,DELC13_FLAG_W,DELC14,DELC14_FLAG_W,C14ERR,NEON,NEON_FLAG_W,NEONER,POC,POC_FLAG_W,DOC,DOC_FLAG_W,TDN,TDN_FLAG_W,CTDRAW,CDOM325,CDOM325_FLAG_W,CDOM340,CDOM340_FLAG_W,CDOM380,CDOM380_FLAG_W,CDOM412,CDOM412_FLAG_W,CDOMSL,CDOMSL_FLAG_W,CDOMSN,CDOMSN_FLAG_W,THETA,PON,PON_FLAG_W,HCFC-22,HCFC-22_FLAG_W,HCFC-142b,HCFC-142b_FLAG_W,HCFC-141b,HCFC-141b_FLAG_W,STNNBR_U,HELIER,DELHER,TRITER,CH3CL,CH3CL_FLAG_W,CH3BR,CH3BR_FLAG_W,CH3I,CH3I_FLAG_W
,,,,,,,,,,,METERS,DBAR,ITS-90,PSS-78,,PSS-78,,UMOL/KG,,UMOL/KG,,UMOL/KG,,UMOL/KG,,UMOL/KG,,UMOL/KG,,PMOL/KG,,PMOL/KG,,PMOL/KG,,UMOL/KG,,UMOL/KG,,UATM,,DEG C,,,DEG C,TU,,NMOL/KG,,PERCNT,,/MILLE,,/MILLE,,/MILLE,NMOL/KG,,NMOL/KG,UG/KG,,UMOL/KG,,UMOL/KG,,DBAR,1/M,,1/M,,1/M,,1/M,,1/NM,,1/NM,,DEG C,UMOL/L,,PMOL/KG,,PMOL/KG,,PMOL/KG,,,NMOL/KG,PERCNT,TU,PMOL/KG,,PMOL/KG,,PMOL/KG,
33RO200306_02,       A16N,     088,          2,          7,          7,2,20030721,       2304,    21.9992,   -27.8762,       5434,  3548.0,   2.4670,  34.9108,2,  34.9107,2,    245.9,2,   245.6,2,   42.13,2,   21.96,2,    0.01,2,    1.53,2,-999.000,9,-999.000,9,-999.000,9,  2193.0,2,  2359.4,3,   -999.0,9,  -999.00,   7.7294,2,    25.00,-999.000,9,-999.000,9,-999.000,9, -999.00,9,  -999.0,9,  -999.0,-999.000,9,-999.000,-999.000,9,   41.14,2,   26.38,2, 3548.00,-999.0000,9,-999.0000,9,-999.0000,9,-999.0000,9,-999.0000,9,-999.0000,9,   2.1702,     -999.0,9,     -999.0,9,     -999.0,9,     -999.0,9,         88,-999.000,-999.000,-999.000,     -999.0,9, -999.00,9, -999.00,9
33RO200306_02,       A16N,     088,          2,          6,          6,2,20030721,       2304,    21.9992,   -27.8762,       5434,  3849.0,   2.4012,  34.9014,2,  34.9032,2,    246.2,2,   246.0,2,   44.25,2,   22.19,2,    0.01,2,    1.54,2,-999.000,9,-999.000,9,-999.000,9,  2194.4,2,  2359.2,3,    763.1,6,    20.00,   7.7326,2,    25.00,-999.000,9,-999.000,9,-999.000,9, -999.00,9,  -999.0,9,  -999.0,-999.000,9,-999.000,-999.000,9,   41.54,2,   26.89,2, 3849.00,-999.0000,9,-999.0000,9,-999.0000,9,-999.0000,9,-999.0000,9,-999.0000,9,   2.0728,     -999.0,9,     -999.0,9,     -999.0,9,     -999.0,9,         88,-999.000,-999.000,-999.000,     -999.0,9, -999.00,9, -999.00,9
33RO200306_02,       A16N,     088,          2,          5,          5,2,20030721,       2304,    21.9992,   -27.8762,       5434,  4149.1,   2.3666,  34.8945,2,  34.8941,2,    246.3,2,   246.4,2,   45.86,2,   22.35,2,    0.01,2,    1.56,2,   0.008,2,   0.002,2,   0.000,2,  2197.0,2,  2353.5,2,   -999.0,9,  -999.00,   7.7463,2,    25.00,-999.000,9,-999.000,9,-999.000,9, -999.00,9,  -999.0,9,  -999.0,-999.000,9,-999.000,-999.000,9,   40.65,2,   27.00,2, 4149.10,-999.0000,9,-999.0000,9,-999.0000,9,-999.0000,9,-999.0000,9,-999.0000,9,   2.0049,     -999.0,9,       0.00,2,       0.00,2,       0.05,2,         88,-999.000,-999.000,-999.000,      28.84,2,     0.2,2,    0.15,2
33RO200306_02,       A16N,     088,          2,          4,          4,2,20030721,       2304,    21.9992,   -27.8762,       5434,  4449.5,   2.3631,  34.8902,2,  34.8919,2,    246.2,2,   246.0,2,   46.91,6,   22.49,6,    0.01,6,    1.56,6,-999.000,9,-999.000,9,-999.000,9,  2198.4,2,  2353.6,2,    766.6,6,    20.00,   7.7436,2,    25.00,-999.000,9,-999.000,9,-999.000,9, -999.00,9,  -999.0,9,  -999.0,-999.000,9,-999.000,-999.000,9,   41.39,2,   26.10,2, 4449.50,-999.0000,9,-999.0000,9,-999.0000,9,-999.0000,9,-999.0000,9,-999.0000,9,   1.9661,     -999.0,9,     -999.0,9,     -999.0,9,     -999.0,9,         88,-999.000,-999.000,-999.000,     -999.0,9, -999.00,9, -999.00,9
33RO200306_02,       A16N,     088,          2,          3,          3,2,20030721,       2304,    21.9992,   -27.8762,       5434,  4750.3,   2.3794,  34.8876,2,  34.8870,2,    246.6,2,   247.0,2,   47.45,6,   22.51,6,    0.01,6,    1.56,6,-999.000,9,-999.000,9,-999.000,9,  2199.1,2,  2355.2,2,   -999.0,9,  -999.00,   7.7247,2,    25.00,-999.000,9,-999.000,9,-999.000,9, -999.00,9,  -999.0,9,  -999.0,-999.000,9,-999.000,-999.000,9,   40.41,2,   27.80,2, 4750.30,-999.0000,9,-999.0000,9,-999.0000,9,-999.0000,9,-999.0000,9,-999.0000,9,   1.9453,     -999.0,9,     -999.0,9,     -999.0,9,     -999.0,9,         88,-999.000,-999.000,-999.000,     -999.0,9, -999.00,9, -999.00,9
33RO200306_02,       A16N,     088,          2,          2,          2,2,20030721,       2304,    21.9992,   -27.8762,       5434,  5050.6,   2.4083,  34.8860,2,  34.8857,2,    247.2,2,   246.9,2,   47.64,6,   22.52,6,    0.01,6,    1.56,6,-999.000,9,-999.000,9,-999.000,9,  2200.1,2,  2363.1,3,    765.3,2,    20.00,   7.7261,2,    25.00,-999.000,9,-999.000,9,-999.000,9, -999.00,9,  -999.0,9,  -999.0,-999.000,9,-999.000,-999.000,9,   40.81,2,   26.34,2, 5050.60,-999.0000,9,-999.0000,9,-999.0000,9,-999.0000,9,-999.0000,9,-999.0000,9,   1.9356,     -999.0,9,     -999.0,9,     -999.0,9,     -999.0,9,         88,-999.000,-999.000,-999.000,     -999.0,9, -999.00,9, -999.00,9
33RO200306_02,       A16N,     088,          2,          1,          1,2,20030721,       2304,    21.9992,   -27.8762,       5434,  5528.2,   2.4594,  34.8843,2,  34.8866,2,    247.6,2,   247.6,2,   47.82,6,   22.53,6,    0.01,6,    1.56,6,   0.003,2,   0.005,2,   0.002,2,  2201.2,6,  2354.7,6,    767.9,2,    20.00,   7.7248,6,    25.00,-999.000,9,-999.000,9,-999.000,9, -999.00,9,  -999.0,9,  -999.0,-999.000,9,-999.000,-999.000,9,   40.98,2,   27.36,2, 5528.20,-999.0000,9,-999.0000,9,-999.0000,9,-999.0000,9,-999.0000,9,-999.0000,9,   1.9227,     -999.0,9,     -999.0,9,     -999.0,9,     -999.0,9,         88,-999.000,-999.000,-999.000,     -999.0,9, -999.00,9, -999.00,9