BOTTLE,20230908CCHSIOCBG
EXPOCODE,SECT_ID,STNNBR,CASTNO,SAMPNO,BTLNBR,BTLNBR_FLAG_W,DATE,TIME,LATITUDE,LONGITUDE,DEPTH,CTDPRS,CTDTMP,CTDSAL,CTDSAL_FLAG_W,SALNTY,SALNTY_FLAG_W,CTDOXY,CTDOXY_FLAG_W,OXYGEN,OXYGEN_FLAG_W,SILCAT,SILCAT_FLAG_W,NITRAT,NITRAT_FLAG_W,NITRIT,NITRIT_FLAG_W,PHSPHT,PHSPHT_FLAG_W,CFC-11,CFC-11_FLAG_W,CFC-12,CFC-12_FLAG_W,CFC113,CFC113_FLAG_W,TCARBN,TCARBN_FLAG_W,ALKALI,ALKALI_FLAG_W,FCO2,FCO2_FLAG_W,FCO2TMP,PH_SWS,PH_SWS_FLAG_W,PH_TMP,TRITUM,TRITUM_FLAG_W,HELIUM,HELIUM_FLAG_W,DELHE3,DELHE3_FLAG_W,DELC13,DELC13_FLAG_W,DELC14,DELC14_FLAG_W,C14ERR,NEON,NEON_FLAG_W,NEONER,POC,POC_FLAG_W,DOC,DOC_FLAG_W,TDN,TDN_FLAG_W,CTDRAW,CDOM325,CDOM325_FLAG_W,CDOM340,CDOM340_FLAG_W,CDOM380,CDOM380_FLAG_W,CDOM412,CDOM412_FLAG_W,CDOMSL,CDOMSL_FLAG_W,CDOMSN,CDOMSN_FLAG_W,THETA,PON,PON_FLAG_W,HCFC-22,HCFC-22_FLAG_W,HCFC-142b,HCFC-142b_FLAG_W,HCFC-141b,HCFC-141b_FLAG_W,STNNBR_U,HELIER,DELHER,TRITER,CH3CL,CH3CL_FLAG_W,CH3BR,CH3BR_FLAG_W,CH3I,CH3I_FLAG_W
,,,,,,,,,,,METERS,DBAR,ITS-90,PSS-78,,PSS-78,,UMOL/KG,,UMOL/KG,,UMOL/KG,,UMOL/KG,,UMOL/KG,,UMOL/KG,,PMOL/KG,,PMOL/KG,,PMOL/KG,,UMOL/KG,,UMOL/KG,,UATM,,DEG C,,,DEG C,TU,,NMOL/KG,,PERCNT,,/MILLE,,/MILLE,,/MILLE,NMOL/KG,,NMOL/KG,UG/KG,,UMOL/KG,,UMOL/KG,,DBAR,1/M,,1/M,,1/M,,1/M,,1/NM,,1/NM,,DEG C,UMOL/L,,PMOL/KG,,PMOL/KG,,PMOL/KG,,,NMOL/KG,PERCNT,TU,PMOL/KG,,PMOL/KG,,PMOL/KG,
33RO200306_02,       A16N,     095,          1,         35,         35,2,20030724,       0453,    18.4993,   -29.0002,       4693,     3.9,  25.1112,  36.5478,2,  36.5513,2,    210.4,2,   210.2,2,    0.49,2,    0.08,2,    0.01,2,    0.11,2,   1.863,2,   1.181,2,   0.163,2,  2064.9,6,  2392.3,6,   -999.0,9,  -999.00,   8.0611,6,    25.00,-999.000,9,-999.000,9,-999.000,9, -999.00,9,  -999.0,9,  -999.0,-999.000,9,-999.000,-999.000,9, -999.00,9, -999.00,9,    3.90,-999.0000,9,-999.0000,9,-999.0000,9,-999.0000,9,-999.0000,9,-999.0000,9,  25.1103,     -999.0,9,     -999.0,9,     -999.0,9,     -999.0,9,         95,-999.000,-999.000,-999.000,     -999.0,9, -999.00,9, -999.00,9
33RO200306_02,       A16N,     095,          1,         33,         33,2,20030724,       0453,    18.4993,   -29.0002,       4693,    14.6,  25.1078,  36.5467,2,  36.5505,2,    210.5,2,   209.9,2,    0.50,2,    0.09,2,    0.01,2,    0.11,2,-999.000,9,-999.000,9,-999.000,9,  -999.0,9,  -999.0,9,   -999.0,9,  -999.00,-999.0000,9,  -999.00,-999.000,9,-999.000,9,-999.000,9, -999.00,9,  -999.0,9,  -999.0,-999.000,9,-999.000,-999.000,9, -999.00,9, -999.00,9,   14.60,-999.0000,9,-999.0000,9,-999.0000,9,-999.0000,9,-999.0000,9,-999.0000,9,  25.1046,     -999.0,9,     -999.0,9,     -999.0,9,     -999.0,9,         95,-999.000,-999.000,-999.000,     -999.0,9, -999.00,9, -999.00,9
33RO200306_02,       A16N,     095,          1,         32,         32,2,20030724,       0453,    18.4993,   -29.0002,       4693,    44.7,  22.9761,  36.6059,2,  36.6126,2,    220.0,2,   221.9,2,    0.50,2,    0.10,2,    0.01,2,    0.14,2,   2.076,2,   1.289,2,   0.177,2,  2079.5,2,  2396.7,2,   -999.0,9,  -999.00,   8.0198,2,    25.00,-999.000,9,-999.000,9,-999.000,9, -999.00,9,  -999.0,9,  -999.0,-999.000,9,-999.000,-999.000,9, -999.00,9, -999.00,9,   44.70,-999.0000,9,-999.0000,9,-999.0000,9,-999.0000,9,-999.0000,9,-999.0000,9,  22.9669,     -999.0,9,     -999.0,9,     -999.0,9,     -999.0,9,         95,-999.000,-999.000,-999.000,     -999.0,9, -999.00,9, -999.00,9
33RO200306_02,       A16N,     095,          1,         31,         31,2,20030724,       0453,    18.4993,   -29.0002,       4693,    65.6,  20.9389,  36.4909,2,  36.4886,2,    212.1,2,   208.7,2,    0.89,2,    0.67,2,    0.07,2,    0.28,2,-999.000,9,-999.000,9,-999.000,9,  -999.0,9,  -999.0,9,   -999.0,9,  -999.00,-999.0000,9,  -999.00,-999.000,9,-999.000,9,-999.000,9, -999.00,9,  -999.0,9,  -999.0,-999.000,9,-999.000,-999.000,9, -999.00,9, -999.00,9,   65.60,-999.0000,9,-999.0000,9,-999.0000,9,-999.0000,9,-999.0000,9,-999.0000,9,  20.9263,     -999.0,9,     -999.0,9,     -999.0,9,     -999.0,9,         95,-999.000,-999.000,-999.000,     -999.0,9, -999.00,9, -999.00,9
33RO200306_02,       A16N,     095,          1,         30,         30,2,20030724,       0453,    18.4993,   -29.0002,       4693,    95.2,  19.5874,  36.6601,2,  36.6410,2,    159.2,2,   164.2,2,    1.78,2,    7.77,2,    0.05,2,    0.54,2,   2.205,2,   1.354,2,   0.135,2,  2145.9,2,  2392.7,2,   -999.0,9,  -999.00,   7.8871,2,    25.00,-999.000,9,-999.000,9,-999.000,9, -999.00,9,  -999.0,9,  -999.0,-999.000,9,-999.000,-999.000,9, -999.00,9, -999.00,9,   95.20,-999.0000,9,-999.0000,9,-999.0000,9,-999.0000,9,-999.0000,9,-999.0000,9,  19.5699,     -999.0,9,     -999.0,9,     -999.0,9,     -999.0,9,         95,-999.000,-999.000,-999.000,     -999.0,9, -999.00,9, -999.00,9
33RO200306_02,       A16N,     095,          1,         29,         29,2,20030724,       0453,    18.4993,   -29.0002,       4693,   114.8,  18.8259,  36.5940,2,  36.5633,2,    151.7,2,   153.7,2,    2.32,2,    9.18,2,    0.03,2,    0.58,2,-999.000,9,-999.000,9,-999.000,9,  -999.0,9,  -999.0,9,   -999.0,9,  -999.00,-999.0000,9,  -999.00,-999.000,9,-999.000,9,-999.000,9, -999.00,9,  -999.0,9,  -999.0,-999.000,9,-999.000,-999.000,9, -999.00,9, -999.00,9,  114.80,-999.0000,9,-999.0000,9,-999.0000,9,-999.0000,9,-999.0000,9,-999.0000,9,  18.8054,     -999.0,9,     -999.0,9,     -999.0,9,     -999.0,9,         95,-999.000,-999.000,-999.000,     -999.0,9, -999.00,9, -999.00,9
33RO200306_02,       A16N,     095,          1,         28,         28,2,20030724,       0453,    18.4993,   -29.0002,       4693,   139.9,  17.6330,  36.3643,2,  36.3305,2,    134.6,2,   130.1,2,    3.54,2,   13.37,2,    0.03,2,    0.83,2,   2.129,2,   1.269,2,   0.053,2,  2169.7,2,  2372.5,2,   -999.0,9,  -999.00,   7.8324,2,    25.00,-999.000,9,-999.000,9,-999.000,9, -999.00,9,  -999.0,9,  -999.0,-999.000,9,-999.000,-999.000,9, -999.00,9, -999.00,9,  139.90,-999.0000,9,-999.0000,9,-999.0000,9,-999.0000,9,-999.0000,9,-999.0000,9,  17.6091,     -999.0,9,     -999.0,9,     -999.0,9,     -999.0,9,         95,-999.000,-999.000,-999.000,     -999.0,9, -999.00,9, -999.00,9
33RO200306_02,       A16N,     095,          1,         27,         27,2,20030724,       0453,    18.4993,   -29.0002,       4693,   165.4,  16.1876,  36.1198,2,  36.1081,2,    113.6,2,   116.3,2,    4.82,2,   16.85,2,    0.02,2,    1.02,2,-999.000,9,-999.000,9,-999.000,9,  -999.0,9,  -999.0,9,   -999.0,9,  -999.00,-999.0000,9,  -999.00,-999.000,9,-999.000,9,-999.000,9, -999.00,9,  -999.0,9,  -999.0,-999.000,9,-999.000,-999.000,9, -999.00,9, -999.00,9,  165.40,-999.0000,9,-999.0000,9,-999.0000,9,-999.0000,9,-999.0000,9,-999.0000,9,  16.1610,     -999.0,9,     -999.0,9,     -999.0,9,     -999.0,9,         95,-999.000,-999.000,-999.000,     -999.0,9, -999.00,9, -999.00,9
33RO200306_02,       A16N,     095,          1,         26,         26,2,20030724,       0453,    18.4993,   -29.0002,       4693,   189.8,  15.1148,  35.9144,2,  35.8965,2,    102.8,2,    93.3,2,    6.39,2,   20.77,2,    0.01,2,    1.26,2,   1.850,2,   1.062,2,   0.020,2,  2195.8,2,  2340.5,2,   -999.0,9,  -999.00,   7.7152,2,    25.00,-999.000,9,-999.000,9,-999.000,9, -999.00,9,  -999.0,9,  -999.0,-999.000,9,-999.000,-999.000,9, -999.00,9, -999.00,9,  189.80,-999.0000,9,-999.0000,9,-999.0000,9,-999.0000,9,-999.0000,9,-999.0000,9,  15.0857,     -999.0,9,     -999.0,9,     -999.0,9,     -999.0,9,         95,-999.000,-999.000,-999.000,     -999.0,9, -999.00,9, -999.00,9
33RO200306_02,       A16N,     095,          1,         25,         25,2,20030724,       0453,    18.4993,   -29.0002,       4693,   225.3,  14.3258,  35.8109,2,  35.8021,2,     86.9,2,    94.3,2,    7.15,2,   22.25,2,    0.01,2,    1.34,2,-999.000,9,-999.000,9,-999.000,9,  -999.0,9,  -999.0,9,   -999.0,9,  -999.00,-999.0000,9,  -999.00,-999.000,9,-999.000,9,-999.000,9, -999.00,9,  -999.0,9,  -999.0,-999.000,9,-999.000,-999.000,9, -999.00,9, -999.00,9,  225.30,-999.0000,9,-999.0000,9,-999.0000,9,-999.0000,9,-999.0000,9,-999.0000,9,  14.2925,     -999.0,9,     -999.0,9,     -999.0,9,     -999.0,9,         95,-999.000,-999.000,-999.000,     -999.0,9, -999.00,9, -999.00,9
33RO200306_02,       A16N,     095,          1,         24,         24,2,20030724,       0453,    18.4993,   -29.0002,       4693,   274.6,  13.3632,  35.6817,2,  35.6820,2,     79.5,2,    86.2,2,    8.21,2,   24.09,2,    0.01,2,    1.44,2,   1.542,2,   0.847,2,   0.012,2,  2205.7,2,  2336.8,2,   -999.0,9,  -999.00,   7.6680,2,    25.00,-999.000,9,-999.000,9,-999.000,9, -999.00,9,  -999.0,9,  -999.0,-999.000,9,-999.000,-999.000,9, -999.00,9, -999.00,9,  274.60,-999.0000,9,-999.0000,9,-999.0000,9,-999.0000,9,-999.0000,9,-999.0000,9,  13.3244,     -999.0,9,     -999.0,9,     -999.0,9,     -999.0,9,         95,-999.000,-999.000,-999.000,     -999.0,9, -999.00,9, -999.00,9
33RO200306_02,       A16N,     095,          1,         23,         23,2,20030724,       0453,    18.4993,   -29.0002,       4693,   325.0,  12.5796,  35.5723,2,  35.5671,2,     80.2,2,    80.7,2,    9.46,2,   25.88,2,    0.01,2,    1.55,2,-999.000,9,-999.000,9,-999.000,9,  -999.0,9,  -999.0,9,   -999.0,9,  -999.00,-999.0000,9,  -999.00,-999.000,9,-999.000,9,-999.000,9, -999.00,9,  -999.0,9,  -999.0,-999.000,9,-999.000,-999.000,9, -999.00,9, -999.00,9,  325.00,-999.0000,9,-999.0000,9,-999.0000,9,-999.0000,9,-999.0000,9,-999.0000,9,  12.5354,     -999.0,9,     -999.0,9,     -999.0,9,     -999.0,9,         95,-999.000,-999.000,-999.000,     -999.0,9, -999.00,9, -999.00,9
33RO200306_02,       A16N,     095,          1,         22,         22,2,20030724,       0453,    18.4993,   -29.0002,       4693,   375.1,  11.8022,  35.4614,2,  35.4634,2,     78.8,2,    77.4,2,   10.71,2,   27.47,2,    0.01,2,    1.65,2,   1.043,2,   0.563,2,   0.009,2,  2215.1,2,  2326.9,2,   -999.0,9,  -999.00,   7.6226,2,    25.00,-999.000,9,-999.000,9,-999.000,9, -999.00,9,  -999.0,9,  -999.0,-999.000,9,-999.000,-999.000,9, -999.00,9, -999.00,9,  375.10,-999.0000,9,-999.0000,9,-999.0000,9,-999.0000,9,-999.0000,9,-999.0000,9,  11.7532,     -999.0,9,     -999.0,9,     -999.0,9,     -999.0,9,         95,-999.000,-999.000,-999.000,     -999.0,9, -999.00,9, -999.00,9
33RO200306_02,       A16N,     095,          1,         21,         21,2,20030724,       0453,    18.4993,   -29.0002,       4693,   450.7,  10.9063,  35.3535,2,  35.3505,2,     84.8,2,    82.6,2,   12.33,2,   28.68,2,    0.01,2,    1.73,2,-999.000,9,-999.000,9,-999.000,9,  -999.0,9,  -999.0,9,   -999.0,9,  -999.00,-999.0000,9,  -999.00,-999.000,9,-999.000,9,-999.000,9, -999.00,9,  -999.0,9,  -999.0,-999.000,9,-999.000,-999.000,9, -999.00,9, -999.00,9,  450.70,-999.0000,9,-999.0000,9,-999.0000,9,-999.0000,9,-999.0000,9,-999.0000,9,  10.8502,     -999.0,9,     -999.0,9,     -999.0,9,     -999.0,9,         95,-999.000,-999.000,-999.000,     -999.0,9, -999.00,9, -999.00,9
33RO200306_02,       A16N,     095,          1,         20,         20,2,20030724,       0453,    18.4993,   -29.0002,       4693,   550.6,   9.4558,  35.1623,2,  35.1606,2,     86.0,2,    85.7,2,   15.62,2,   31.15,2,    0.01,2,    1.93,2,   0.392,2,   0.216,2,   0.003,2,  2221.0,2,  2316.5,2,   -999.0,9,  -999.00,   7.5735,2,    25.00,-999.000,9,-999.000,9,-999.000,9, -999.00,9,  -999.0,9,  -999.0,-999.000,9,-999.000,-999.000,9, -999.00,9, -999.00,9,  550.60,-999.0000,9,-999.0000,9,-999.0000,9,-999.0000,9,-999.0000,9,-999.0000,9,   9.3928,     -999.0,9,     -999.0,9,     -999.0,9,     -999.0,9,         95,-999.000,-999.000,-999.000,     -999.0,9, -999.00,9, -999.00,9
33RO200306_02,       A16N,     095,          1,         19,         19,2,20030724,       0453,    18.4993,   -29.0002,       4693,   650.4,   8.2881,  35.0427,2,  35.0444,2,     95.4,2,    95.0,2,   18.50,2,   32.23,2,    0.01,2,    2.03,2,-999.000,9,-999.000,9,-999.000,9,  -999.0,9,  -999.0,9,   -999.0,9,  -999.00,-999.0000,9,  -999.00,-999.000,9,-999.000,9,-999.000,9, -999.00,9,  -999.0,9,  -999.0,-999.000,9,-999.000,-999.000,9, -999.00,9, -999.00,9,  650.40,-999.0000,9,-999.0000,9,-999.0000,9,-999.0000,9,-999.0000,9,-999.0000,9,   8.2189,     -999.0,9,     -999.0,9,     -999.0,9,     -999.0,9,         95,-999.000,-999.000,-999.000,     -999.0,9, -999.00,9, -999.00,9
33RO200306_02,       A16N,     095,          1,         18,         18,2,20030724,       0453,    18.4993,   -29.0002,       4693,   749.9,   7.6732,  35.0153,2,  35.0099,2,    108.0,2,   106.6,2,   20.00,2,   31.84,2,    0.01,2,    2.04,2,-999.000,9,-999.000,9,-999.000,9,  -999.0,9,  -999.0,9,   -999.0,9,  -999.00,-999.0000,9,  -999.00,-999.000,9,-999.000,9,-999.000,9, -999.00,9,  -999.0,9,  -999.0,-999.000,9,-999.000,-999.000,9, -999.00,9, -999.00,9,  749.90,-999.0000,9,-999.0000,9,-999.0000,9,-999.0000,9,-999.0000,9,-999.0000,9,   7.5964,     -999.0,9,     -999.0,9,     -999.0,9,     -999.0,9,         95,-999.000,-999.000,-999.000,     -999.0,9, -999.00,9, -999.00,9
33RO200306_02,       A16N,     095,          1,         17,         17,2,20030724,       0453,    18.4993,   -29.0002,       4693,   850.9,   6.5794,  34.8921,2,  34.8919,2,    119.4,2,   118.7,2,   22.88,2,   32.37,2,    0.01,2,    2.12,2,   0.045,2,   0.024,2,   0.001,2,  -999.0,9,  -999.0,9,   -999.0,9,  -999.00,-999.0000,9,  -999.00,-999.000,9,-999.000,9,-999.000,9, -999.00,9,  -999.0,9,  -999.0,-999.000,9,-999.000,-999.000,9, -999.00,9, -999.00,9,  850.90,-999.0000,9,-999.0000,9,-999.0000,9,-999.0000,9,-999.0000,9,-999.0000,9,   6.4988,     -999.0,9,     -999.0,9,     -999.0,9,     -999.0,9,         95,-999.000,-999.000,-999.000,     -999.0,9, -999.00,9, -999.00,9
33RO200306_02,       A16N,     095,          1,         16,         16,2,20030724,       0453,    18.4993,   -29.0002,       4693,   950.4,   6.2985,  34.9340,2,  34.9359,2,    131.9,2,   131.3,2,   22.81,2,   30.93,2,    0.01,2,    2.04,2,-999.000,9,-999.000,9,-999.000,9,  -999.0,9,  -999.0,9,   -999.0,9,  -999.00,-999.0000,9,  -999.00,-999.000,9,-999.000,9,-999.000,9, -999.00,9,  -999.0,9,  -999.0,-999.000,9,-999.000,-999.000,9, -999.00,9, -999.00,9,  950.40,-999.0000,9,-999.0000,9,-999.0000,9,-999.0000,9,-999.0000,9,-999.0000,9,   6.2097,     -999.0,9,     -999.0,9,     -999.0,9,     -999.0,9,         95,-999.000,-999.000,-999.000,     -999.0,9, -999.00,9, -999.00,9
33RO200306_02,       A16N,     095,          1,         15,         15,2,20030724,       0453,    18.4993,   -29.0002,       4693,  1149.5,   5.7227,  35.0174,2,  35.0193,2,    160.5,2,   163.8,2,   21.65,2,   27.28,2,    0.01,2,    1.82,2,-999.000,9,-999.000,9,-999.000,9,  -999.0,9,  -999.0,9,   -999.0,9,  -999.00,-999.0000,9,  -999.00,-999.000,9,-999.000,9,-999.000,9, -999.00,9,  -999.0,9,  -999.0,-999.000,9,-999.000,-999.000,9, -999.00,9, -999.00,9, 1149.50,-999.0000,9,-999.0000,9,-999.0000,9,-999.0000,9,-999.0000,9,-999.0000,9,   5.6185,     -999.0,9,     -999.0,9,     -999.0,9,     -999.0,9,         95,-999.000,-999.000,-999.000,     -999.0,9, -999.00,9, -999.00,9
33RO200306_02,       A16N,     095,          1,         14,         14,2,20030724,       0453,    18.4993,   -29.0002,       4693,  1349.4,   5.1198,  35.0484,2,  35.0491,2,    187.0,2,   189.6,2,   21.15,2,   24.74,2,    0.01,2,    1.66,2,   0.012,2,   0.008,2,   0.002,2,  -999.0,9,  -999.0,9,   -999.0,9,  -999.00,-999.0000,9,  -999.00,-999.000,9,-999.000,9,-999.000,9, -999.00,9,  -999.0,9,  -999.0,-999.000,9,-999.000,-999.000,9, -999.00,9, -999.00,9, 1349.40,-999.0000,9,-999.0000,9,-999.0000,9,-999.0000,9,-999.0000,9,-999.0000,9,   5.0016,     -999.0,9,     -999.0,9,     -999.0,9,     -999.0,9,         95,-999.000,-999.000,-999.000,     -999.0,9, -999.00,9, -999.00,9
33RO200306_02,       A16N,     095,          1,         13,         13,2,20030724,       0453,    18.4993,   -29.0002,       4693,  1549.8,   4.4908,  35.0283,2,  35.0304,2,    205.6,2,   206.9,2,   22.21,2,   23.45,2,    0.01,2,    1.58,2,-999.000,9,-999.000,9,-999.000,9,  -999.0,9,  -999.0,9,   -999.0,9,  -999.00,-999.0000,9,  -999.00,-999.000,9,-999.000,9,-999.000,9, -999.00,9,  -999.0,9,  -999.0,-999.000,9,-999.000,-999.000,9, -999.00,9, -999.00,9, 1549.80,-999.0000,9,-999.0000,9,-999.0000,9,-999.0000,9,-999.0000,9,-999.0000,9,   4.3602,     -999.0,9,     -999.0,9,     -999.0,9,     -999.0,9,         95,-999.000,-999.000,-999.000,     -999.0,9, -999.00,9, -999.00,9
33RO200306_02,       A16N,     095,          1,         12,         12,2,20030724,       0453,    18.4993,   -29.0002,       4693,  1749.2,   4.0818,  35.0103,2,  35.0117,2,    220.5,2,   220.4,2,   22.78,2,   22.44,2,    0.01,2,    1.52,2,-999.000,9,-999.000,9,-999.000,9,  -999.0,9,  -999.0,9,   -999.0,9,  -999.00,-999.0000,9,  -999.00,-999.000,9,-999.000,9,-999.000,9, -999.00,9,  -999.0,9,  -999.0,-999.000,9,-999.000,-999.000,9, -999.00,9, -999.00,9, 1749.20,-999.0000,9,-999.0000,9,-999.0000,9,-999.0000,9,-999.0000,9,-999.0000,9,   3.9373,     -999.0,9,     -999.0,9,     -999.0,9,     -999.0,9,         95,-999.000,-999.000,-999.000,     -999.0,9, -999.00,9, -999.00,9
33RO200306_02,       A16N,     095,          1,         11,         11,2,20030724,       0453,    18.4993,   -29.0002,       4693,  2049.3,   3.5659,  34.9838,2,  34.9852,2,    233.8,2,   234.9,2,   25.13,2,   21.58,2,    0.01,2,    1.47,2,-999.000,9,-999.000,9,-999.000,9,  -999.0,9,  -999.0,9,   -999.0,9,  -999.00,-999.0000,9,  -999.00,-999.000,9,-999.000,9,-999.000,9, -999.00,9,  -999.0,9,  -999.0,-999.000,9,-999.000,-999.000,9, -999.00,9, -999.00,9, 2049.30,-999.0000,9,-999.0000,9,-999.0000,9,-999.0000,9,-999.0000,9,-999.0000,9,   3.4000,     -999.0,9,     -999.0,9,     -999.0,9,     -999.0,9,         95,-999.000,-999.000,-999.000,     -999.0,9, -999.00,9, -999.00,9
33RO200306_02,       A16N,     095,          1,         10,         10,2,20030724,       0453,    18.4993,   -29.0002,       4693,  2349.8,   3.2225,  34.9641,2,  34.9656,2,    240.6,2,   240.5,2,   28.44,2,   21.32,2,    0.01,2,    1.46,2,-999.000,9,-999.000,9,-999.000,9,  -999.0,9,  -999.0,9,   -999.0,9,  -999.00,-999.0000,9,  -999.00,-999.000,9,-999.000,9,-999.000,9, -999.00,9,  -999.0,9,  -999.0,-999.000,9,-999.000,-999.000,9, -999.00,9, -999.00,9, 2349.80,-999.0000,9,-999.0000,9,-999.0000,9,-999.0000,9,-999.0000,9,-999.0000,9,   3.0332,     -999.0,9,     -999.0,9,     -999.0,9,     -999.0,9,         95,-999.000,-999.000,-999.000,     -999.0,9, -999.00,9, -999.00,9
33RO200306_02,       A16N,     095,          1,          9,          9,2,20030724,       0453,    18.4993,   -29.0002,       4693,  2649.9,   3.0020,  34.9524,2,  34.9533,2,    244.1,2,   244.6,2,   31.14,2,   21.21,2,    0.01,2,    1.46,2,-999.000,9,-999.000,9,-999.000,9,  -999.0,9,  -999.0,9,   -999.0,9,  -999.00,-999.0000,9,  -999.00,-999.000,9,-999.000,9,-999.000,9, -999.00,9,  -999.0,9,  -999.0,-999.000,9,-999.000,-999.000,9, -999.00,9, -999.00,9, 2649.90,-999.0000,9,-999.0000,9,-999.0000,9,-999.0000,9,-999.0000,9,-999.0000,9,   2.7871,     -999.0,9,     -999.0,9,     -999.0,9,     -999.0,9,         95,-999.000,-999.000,-999.000,     -999.0,9, -999.00,9, -999.00,9
33RO200306_02,       A16N,     095,          1,          8,          8,2,20030724,       0453,    18.4993,   -29.0002,       4693,  2950.2,   2.7826,  34.9382,2,  34.9386,2,    245.0,2,   244.7,2,   34.99,2,   21.40,2,    0.01,2,    1.48,2,-999.000,9,-999.000,9,-999.000,9,  -999.0,9,  -999.0,9,   -999.0,9,  -999.00,-999.0000,9,  -999.00,-999.000,9,-999.000,9,-999.000,9, -999.00,9,  -999.0,9,  -999.0,-999.000,9,-999.000,-999.000,9, -999.00,9, -999.00,9, 2950.20,-999.0000,9,-999.0000,9,-999.0000,9,-999.0000,9,-999.0000,9,-999.0000,9,   2.5417,     -999.0,9,     -999.0,9,     -999.0,9,     -999.0,9,         95,-999.000,-999.000,-999.000,     -999.0,9, -999.00,9, -999.00,9