BOTTLE,20230908CCHSIOCBG
EXPOCODE,SECT_ID,STNNBR,CASTNO,SAMPNO,BTLNBR,BTLNBR_FLAG_W,DATE,TIME,LATITUDE,LONGITUDE,DEPTH,CTDPRS,CTDTMP,CTDSAL,CTDSAL_FLAG_W,SALNTY,SALNTY_FLAG_W,CTDOXY,CTDOXY_FLAG_W,OXYGEN,OXYGEN_FLAG_W,SILCAT,SILCAT_FLAG_W,NITRAT,NITRAT_FLAG_W,NITRIT,NITRIT_FLAG_W,PHSPHT,PHSPHT_FLAG_W,CFC-11,CFC-11_FLAG_W,CFC-12,CFC-12_FLAG_W,CFC113,CFC113_FLAG_W,TCARBN,TCARBN_FLAG_W,ALKALI,ALKALI_FLAG_W,FCO2,FCO2_FLAG_W,FCO2TMP,PH_SWS,PH_SWS_FLAG_W,PH_TMP,TRITUM,TRITUM_FLAG_W,HELIUM,HELIUM_FLAG_W,DELHE3,DELHE3_FLAG_W,DELC13,DELC13_FLAG_W,DELC14,DELC14_FLAG_W,C14ERR,NEON,NEON_FLAG_W,NEONER,POC,POC_FLAG_W,DOC,DOC_FLAG_W,TDN,TDN_FLAG_W,CTDRAW,CDOM325,CDOM325_FLAG_W,CDOM340,CDOM340_FLAG_W,CDOM380,CDOM380_FLAG_W,CDOM412,CDOM412_FLAG_W,CDOMSL,CDOMSL_FLAG_W,CDOMSN,CDOMSN_FLAG_W,THETA,PON,PON_FLAG_W,HCFC-22,HCFC-22_FLAG_W,HCFC-142b,HCFC-142b_FLAG_W,HCFC-141b,HCFC-141b_FLAG_W,STNNBR_U,HELIER,DELHER,TRITER,CH3CL,CH3CL_FLAG_W,CH3BR,CH3BR_FLAG_W,CH3I,CH3I_FLAG_W
,,,,,,,,,,,METERS,DBAR,ITS-90,PSS-78,,PSS-78,,UMOL/KG,,UMOL/KG,,UMOL/KG,,UMOL/KG,,UMOL/KG,,UMOL/KG,,PMOL/KG,,PMOL/KG,,PMOL/KG,,UMOL/KG,,UMOL/KG,,UATM,,DEG C,,,DEG C,TU,,NMOL/KG,,PERCNT,,/MILLE,,/MILLE,,/MILLE,NMOL/KG,,NMOL/KG,UG/KG,,UMOL/KG,,UMOL/KG,,DBAR,1/M,,1/M,,1/M,,1/M,,1/NM,,1/NM,,DEG C,UMOL/L,,PMOL/KG,,PMOL/KG,,PMOL/KG,,,NMOL/KG,PERCNT,TU,PMOL/KG,,PMOL/KG,,PMOL/KG,
33RO200306_01,       A16N,     053,          1,          7,          7,2,20030703,       0638,    39.0018,   -19.9992,       4750,  1998.5,   3.8308,  34.9968,2,  34.9966,2,    262.9,2,   261.7,2,   13.60,2,   17.62,2,    0.00,2,    1.15,2,   1.416,2,   0.700,2,   0.064,2,  2159.2,2,  2310.6,2,    741.5,2,    20.00,   7.7095,4,    25.00,-999.000,9,   1.831,2,   8.049,2, -999.00,9,  -999.0,9,  -999.0,   7.880,2,   0.024,-999.000,9,   41.91,2,   21.54,2, 1998.50,-999.0000,9,-999.0000,9,-999.0000,9,-999.0000,9,-999.0000,9,-999.0000,9,   3.6658,     -999.0,9,       0.91,2,       0.00,2,       0.11,2,         53,   0.007,     0.2,-999.000,        0.0,2,    1.24,2,    0.23,2
33RO200306_01,       A16N,     053,          1,          6,          6,2,20030703,       0638,    39.0018,   -19.9992,       4750,  2500.7,   3.3376,  34.9858,2,  34.9855,2,    253.8,2,   253.1,2,   21.69,2,   18.78,2,    0.00,2,    1.24,2,   0.258,2,   0.142,2,   0.010,2,  2169.4,2,  2322.0,2,   -999.0,9,  -999.00,   7.7129,4,    25.00,   0.317,2,   1.838,2,   3.934,2, -999.00,9,  -999.0,9,  -999.0,   8.017,2,   0.018,-999.000,9,   41.95,2,   22.87,2, 2500.70,-999.0000,9,-999.0000,9,-999.0000,9,-999.0000,9,-999.0000,9,-999.0000,9,   3.1312,     -999.0,9,     -999.0,9,     -999.0,9,     -999.0,9,         53,   0.005,   0.177,   0.010,     -999.0,9, -999.00,9, -999.00,9
33RO200306_01,       A16N,     053,          1,          5,          5,2,20030703,       0638,    39.0018,   -19.9992,       4750,  2999.0,   2.8634,  34.9475,2,  34.9470,2,    250.8,2,   250.3,2,   29.45,2,   19.73,2,    0.00,2,    1.32,2,   0.203,2,   0.107,2,   0.005,2,  2183.6,2,  2331.9,2,    748.7,2,    20.00,   7.7131,4,    25.00,   0.181,2,   1.855,2,   3.132,2, -999.00,9,  -999.0,9,  -999.0,   6.816,4,   0.007,-999.000,9,   42.03,2,   24.70,2, 2999.00,-999.0000,9,-999.0000,9,-999.0000,9,-999.0000,9,-999.0000,9,-999.0000,9,   2.6156,     -999.0,9,       0.02,2,       0.00,2,       0.04,2,         53,   0.005,   0.273,   0.010,      42.61,2,    0.59,2,    0.25,2
33RO200306_01,       A16N,     053,          1,          4,          4,2,20030703,       0638,    39.0018,   -19.9992,       4750,  3500.3,   2.6520,  34.9278,2,  34.9274,2,    244.2,2,   244.4,2,   37.12,6,   20.94,6,    0.00,6,    1.41,6,   0.121,2,   0.065,2,   0.008,2,  2190.7,2,  2341.2,2,   -999.0,9,  -999.00,   7.7067,4,    25.00,-999.000,9,   1.838,2,   2.709,2, -999.00,9,  -999.0,9,  -999.0,   8.012,2,   0.025,-999.000,9,   40.98,2,   25.60,2, 3500.30,-999.0000,9,-999.0000,9,-999.0000,9,-999.0000,9,-999.0000,9,-999.0000,9,   2.3557,     -999.0,9,     -999.0,9,     -999.0,9,     -999.0,9,         53,   0.011,   0.202,-999.000,     -999.0,9, -999.00,9, -999.00,9
33RO200306_01,       A16N,     053,          1,          3,          3,2,20030703,       0638,    39.0018,   -19.9992,       4750,  4001.6,   2.5672,  34.9147,2,  34.9143,2,    241.8,2,   241.5,2,   41.27,6,   21.63,6,    0.00,6,    1.46,6,   0.052,2,   0.036,2,   0.006,2,  2196.0,2,  2346.9,2,    761.9,2,    20.00,   7.7062,4,    25.00,   0.099,2,   1.851,2,   1.732,2, -999.00,9,  -999.0,9,  -999.0,   6.798,4,   0.007,-999.000,9,   40.90,2,   26.08,2, 4001.60,-999.0000,9,-999.0000,9,-999.0000,9,-999.0000,9,-999.0000,9,-999.0000,9,   2.2168,     -999.0,9,       0.00,2,       0.00,2,       0.04,2,         53,   0.007,   0.273,   0.010,        0.0,2,     0.0,2,     0.0,2
33RO200306_01,       A16N,     053,          1,          2,          2,2,20030703,       0638,    39.0018,   -19.9992,       4750,  4500.5,   2.5459,  34.9064,2,  34.9073,2,    241.7,2,   242.4,2,   43.36,6,   21.95,6,    0.00,6,    1.48,6,   0.029,2,   0.019,2,   0.006,2,  2197.8,2,  2349.1,2,   -999.0,9,  -999.00,   7.7105,4,    25.00,-999.000,9,-999.000,9,-999.000,9, -999.00,9,  -999.0,9,  -999.0,-999.000,9,-999.000,-999.000,9,   40.51,2,   25.99,2, 4500.50,-999.0000,9,-999.0000,9,-999.0000,9,-999.0000,9,-999.0000,9,-999.0000,9,   2.1371,     -999.0,9,     -999.0,9,     -999.0,9,     -999.0,9,         53,-999.000,-999.000,-999.000,     -999.0,9, -999.00,9, -999.00,9
33RO200306_01,       A16N,     053,          1,          1,          1,2,20030703,       0638,    39.0018,   -19.9992,       4750,  4825.6,   2.5258,  34.8999,2,  34.8997,2,    242.3,2,   241.9,2,   44.58,6,   22.10,6,    0.00,6,    1.49,6,   0.012,2,   0.015,2,   0.007,2,  2201.0,6,  2352.4,6,    760.0,2,    20.00,   7.7055,4,    25.00,-999.000,9,   1.869,2,   2.177,2, -999.00,9,  -999.0,9,  -999.0,   8.005,2,   0.024,-999.000,9,   40.93,2,   25.84,2, 4825.60,-999.0000,9,-999.0000,9,-999.0000,9,-999.0000,9,-999.0000,9,-999.0000,9,   2.0775,     -999.0,9,       0.00,2,       0.00,2,       0.09,2,         53,   0.008,   0.201,-999.000,        0.0,2,     0.0,2,    0.69,2