BOTTLE,20230908CCHSIOCBG
EXPOCODE,SECT_ID,STNNBR,CASTNO,SAMPNO,BTLNBR,BTLNBR_FLAG_W,DATE,TIME,LATITUDE,LONGITUDE,DEPTH,CTDPRS,CTDTMP,CTDSAL,CTDSAL_FLAG_W,SALNTY,SALNTY_FLAG_W,CTDOXY,CTDOXY_FLAG_W,OXYGEN,OXYGEN_FLAG_W,SILCAT,SILCAT_FLAG_W,NITRAT,NITRAT_FLAG_W,NITRIT,NITRIT_FLAG_W,PHSPHT,PHSPHT_FLAG_W,CFC-11,CFC-11_FLAG_W,CFC-12,CFC-12_FLAG_W,CFC113,CFC113_FLAG_W,TCARBN,TCARBN_FLAG_W,ALKALI,ALKALI_FLAG_W,FCO2,FCO2_FLAG_W,FCO2TMP,PH_SWS,PH_SWS_FLAG_W,PH_TMP,TRITUM,TRITUM_FLAG_W,HELIUM,HELIUM_FLAG_W,DELHE3,DELHE3_FLAG_W,DELC13,DELC13_FLAG_W,DELC14,DELC14_FLAG_W,C14ERR,NEON,NEON_FLAG_W,NEONER,POC,POC_FLAG_W,DOC,DOC_FLAG_W,TDN,TDN_FLAG_W,CTDRAW,CDOM325,CDOM325_FLAG_W,CDOM340,CDOM340_FLAG_W,CDOM380,CDOM380_FLAG_W,CDOM412,CDOM412_FLAG_W,CDOMSL,CDOMSL_FLAG_W,CDOMSN,CDOMSN_FLAG_W,THETA,PON,PON_FLAG_W,HCFC-22,HCFC-22_FLAG_W,HCFC-142b,HCFC-142b_FLAG_W,HCFC-141b,HCFC-141b_FLAG_W,STNNBR_U,HELIER,DELHER,TRITER,CH3CL,CH3CL_FLAG_W,CH3BR,CH3BR_FLAG_W,CH3I,CH3I_FLAG_W
,,,,,,,,,,,METERS,DBAR,ITS-90,PSS-78,,PSS-78,,UMOL/KG,,UMOL/KG,,UMOL/KG,,UMOL/KG,,UMOL/KG,,UMOL/KG,,PMOL/KG,,PMOL/KG,,PMOL/KG,,UMOL/KG,,UMOL/KG,,UATM,,DEG C,,,DEG C,TU,,NMOL/KG,,PERCNT,,/MILLE,,/MILLE,,/MILLE,NMOL/KG,,NMOL/KG,UG/KG,,UMOL/KG,,UMOL/KG,,DBAR,1/M,,1/M,,1/M,,1/M,,1/NM,,1/NM,,DEG C,UMOL/L,,PMOL/KG,,PMOL/KG,,PMOL/KG,,,NMOL/KG,PERCNT,TU,PMOL/KG,,PMOL/KG,,PMOL/KG,
33RO200306_02,       A16N,     145,          1,         35,         35,2,20030807,       1949,    -3.4998,   -25.0005,       5571,     3.0,  25.7857,  35.9861,2,  35.9823,2,    200.4,2,   207.9,2, -999.00,1, -999.00,1, -999.00,1, -999.00,1,   1.805,2,   1.144,2,   0.147,2,  2030.4,2,  2364.1,2,   -999.0,9,  -999.00,-999.0000,9,  -999.00,-999.000,9,-999.000,9,-999.000,9, -999.00,9,  -999.0,9,  -999.0,-999.000,9,-999.000,-999.000,9, -999.00,9, -999.00,9,    3.00,-999.0000,9,-999.0000,9,-999.0000,9,-999.0000,9,-999.0000,9,-999.0000,9,  25.7850,     -999.0,9,     -999.0,9,     -999.0,9,     -999.0,9,        145,-999.000,-999.000,-999.000,     -999.0,9, -999.00,9, -999.00,9
33RO200306_02,       A16N,     145,          1,         33,         33,2,20030807,       1949,    -3.4998,   -25.0005,       5571,    24.4,  25.7858,  35.9847,2,  35.9816,2,    200.6,2,   207.7,2,    0.97,2,    0.07,2,    0.00,2,    0.13,2,-999.000,9,-999.000,9,-999.000,9,  -999.0,9,  -999.0,9,   -999.0,9,  -999.00,-999.0000,9,  -999.00,-999.000,9,-999.000,9,-999.000,9, -999.00,9,  -999.0,9,  -999.0,-999.000,9,-999.000,-999.000,9, -999.00,9, -999.00,9,   24.40,-999.0000,9,-999.0000,9,-999.0000,9,-999.0000,9,-999.0000,9,-999.0000,9,  25.7804,     -999.0,9,     -999.0,9,     -999.0,9,     -999.0,9,        145,-999.000,-999.000,-999.000,     -999.0,9, -999.00,9, -999.00,9
33RO200306_02,       A16N,     145,          1,         32,         32,2,20030807,       1949,    -3.4998,   -25.0005,       5571,    49.8,  25.7198,  35.9866,2,  35.9966,2,    199.2,2,   207.1,2,    1.07,2,    0.08,2,    0.00,2,    0.15,2,   1.807,2,   1.143,2,   0.150,2,  2036.4,2,  2366.5,2,   -999.0,9,  -999.00,   8.0506,2,    25.00,-999.000,9,-999.000,9,-999.000,9, -999.00,9,  -999.0,9,  -999.0,-999.000,9,-999.000,-999.000,9, -999.00,9, -999.00,9,   49.80,-999.0000,9,-999.0000,9,-999.0000,9,-999.0000,9,-999.0000,9,-999.0000,9,  25.7087,     -999.0,9,     -999.0,9,     -999.0,9,     -999.0,9,        145,-999.000,-999.000,-999.000,     -999.0,9, -999.00,9, -999.00,9
33RO200306_02,       A16N,     145,          1,         31,         31,2,20030807,       1949,    -3.4998,   -25.0005,       5571,    74.6,  24.1690,  36.4842,2,  36.4286,2,    190.3,2,   186.5,2,    1.85,2,    2.32,2,    0.12,2,    0.34,2,-999.000,9,-999.000,9,-999.000,9,  -999.0,9,  -999.0,9,   -999.0,9,  -999.00,-999.0000,9,  -999.00,-999.000,9,-999.000,9,-999.000,9, -999.00,9,  -999.0,9,  -999.0,-999.000,9,-999.000,-999.000,9, -999.00,9, -999.00,9,   74.60,-999.0000,9,-999.0000,9,-999.0000,9,-999.0000,9,-999.0000,9,-999.0000,9,  24.1531,     -999.0,9,     -999.0,9,     -999.0,9,     -999.0,9,        145,-999.000,-999.000,-999.000,     -999.0,9, -999.00,9, -999.00,9
33RO200306_02,       A16N,     145,          1,         30,         30,2,20030807,       1949,    -3.4998,   -25.0005,       5571,    99.7,  15.5124,  35.5755,2,  35.5637,2,    105.1,2,   100.1,2,    6.67,2,   19.74,2,    0.04,2,    1.31,2,   1.994,2,   1.124,2,   0.035,2,  2179.4,2,  2334.0,2,   -999.0,9,  -999.00,   7.7262,2,    25.00,-999.000,9,-999.000,9,-999.000,9, -999.00,9,  -999.0,9,  -999.0,-999.000,9,-999.000,-999.000,9, -999.00,9, -999.00,9,   99.70,-999.0000,9,-999.0000,9,-999.0000,9,-999.0000,9,-999.0000,9,-999.0000,9,  15.4969,     -999.0,9,     -999.0,9,     -999.0,9,     -999.0,9,        145,-999.000,-999.000,-999.000,     -999.0,9, -999.00,9, -999.00,9
33RO200306_02,       A16N,     145,          1,         29,         29,2,20030807,       1949,    -3.4998,   -25.0005,       5571,   124.5,  14.6565,  35.4892,2,  35.4847,2,     96.4,2,    95.8,2,    7.70,2,   21.36,2,    0.01,2,    1.40,2,-999.000,9,-999.000,9,-999.000,9,  -999.0,9,  -999.0,9,   -999.0,9,  -999.00,-999.0000,9,  -999.00,-999.000,9,-999.000,9,-999.000,9, -999.00,9,  -999.0,9,  -999.0,-999.000,9,-999.000,-999.000,9, -999.00,9, -999.00,9,  124.50,-999.0000,9,-999.0000,9,-999.0000,9,-999.0000,9,-999.0000,9,-999.0000,9,  14.6379,     -999.0,9,     -999.0,9,     -999.0,9,     -999.0,9,        145,-999.000,-999.000,-999.000,     -999.0,9, -999.00,9, -999.00,9
33RO200306_02,       A16N,     145,          1,         28,         28,2,20030807,       1949,    -3.4998,   -25.0005,       5571,   150.6,  14.2447,  35.4372,2,  35.4304,2,    100.4,2,   100.4,2,    7.97,2,   21.41,2,    0.01,2,    1.41,2,-999.000,9,-999.000,9,-999.000,9,  -999.0,9,  -999.0,9,   -999.0,9,  -999.00,-999.0000,9,  -999.00,-999.000,9,-999.000,9,-999.000,9, -999.00,9,  -999.0,9,  -999.0,-999.000,9,-999.000,-999.000,9, -999.00,9, -999.00,9,  150.60,-999.0000,9,-999.0000,9,-999.0000,9,-999.0000,9,-999.0000,9,-999.0000,9,  14.2226,     -999.0,9,     -999.0,9,     -999.0,9,     -999.0,9,        145,-999.000,-999.000,-999.000,     -999.0,9, -999.00,9, -999.00,9
33RO200306_02,       A16N,     145,          1,         27,         27,2,20030807,       1949,    -3.4998,   -25.0005,       5571,   174.7,  13.6876,  35.3662,2,  35.3623,2,     96.0,2,    96.2,2,    8.56,2,   22.87,2,    0.01,2,    1.49,2,-999.000,9,-999.000,9,-999.000,9,  -999.0,9,  -999.0,9,   -999.0,9,  -999.00,-999.0000,9,  -999.00,-999.000,9,-999.000,9,-999.000,9, -999.00,9,  -999.0,9,  -999.0,-999.000,9,-999.000,-999.000,9, -999.00,9, -999.00,9,  174.70,-999.0000,9,-999.0000,9,-999.0000,9,-999.0000,9,-999.0000,9,-999.0000,9,  13.6627,     -999.0,9,     -999.0,9,     -999.0,9,     -999.0,9,        145,-999.000,-999.000,-999.000,     -999.0,9, -999.00,9, -999.00,9
33RO200306_02,       A16N,     145,          1,         26,         26,2,20030807,       1949,    -3.4998,   -25.0005,       5571,   197.8,  13.3425,  35.3205,2,  35.3161,2,     90.6,2,    89.8,2,    9.13,2,   23.92,2,    0.01,2,    1.54,2,   1.663,2,   0.915,2,   0.018,2,  2194.2,2,  2320.0,2,   -999.0,9,  -999.00,   7.6705,2,    25.00,-999.000,9,-999.000,9,-999.000,9, -999.00,9,  -999.0,9,  -999.0,-999.000,9,-999.000,-999.000,9, -999.00,9, -999.00,9,  197.80,-999.0000,9,-999.0000,9,-999.0000,9,-999.0000,9,-999.0000,9,-999.0000,9,  13.3147,     -999.0,9,     -999.0,9,     -999.0,9,     -999.0,9,        145,-999.000,-999.000,-999.000,     -999.0,9, -999.00,9, -999.00,9
33RO200306_02,       A16N,     145,          1,         25,         25,2,20030807,       1949,    -3.4998,   -25.0005,       5571,   249.7,  12.2868,  35.1810,2,  35.1791,2,    102.7,2,   104.8,2,    9.76,2,   24.22,2,    0.01,2,    1.55,2,-999.000,9,-999.000,9,-999.000,9,  -999.0,9,  -999.0,9,   -999.0,9,  -999.00,-999.0000,9,  -999.00,-999.000,9,-999.000,9,-999.000,9, -999.00,9,  -999.0,9,  -999.0,-999.000,9,-999.000,-999.000,9, -999.00,9, -999.00,9,  249.70,-999.0000,9,-999.0000,9,-999.0000,9,-999.0000,9,-999.0000,9,-999.0000,9,  12.2536,     -999.0,9,     -999.0,9,     -999.0,9,     -999.0,9,        145,-999.000,-999.000,-999.000,     -999.0,9, -999.00,9, -999.00,9
33RO200306_02,       A16N,     145,          1,         24,         24,2,20030807,       1949,    -3.4998,   -25.0005,       5571,   299.5,  11.6451,  35.0986,2,  35.0905,2,    106.9,2,  -999.0,1,   10.76,2,   25.68,2,    0.01,2,    1.63,2,   1.491,2,   0.803,2,   0.016,2,  2194.4,2,  2314.1,2,   -999.0,9,  -999.00,   7.6364,2,    25.00,-999.000,9,-999.000,9,-999.000,9, -999.00,9,  -999.0,9,  -999.0,-999.000,9,-999.000,-999.000,9, -999.00,9, -999.00,9,  299.50,-999.0000,9,-999.0000,9,-999.0000,9,-999.0000,9,-999.0000,9,-999.0000,9,  11.6066,     -999.0,9,     -999.0,9,     -999.0,9,     -999.0,9,        145,-999.000,-999.000,-999.000,     -999.0,9, -999.00,9, -999.00,9
33RO200306_02,       A16N,     145,          1,         23,         23,2,20030807,       1949,    -3.4998,   -25.0005,       5571,   349.4,  10.6073,  34.9787,2,  34.9751,2,    102.0,2,   101.6,2,   12.31,2,   27.86,2,    0.00,2,    1.74,2,-999.000,9,-999.000,9,-999.000,9,  -999.0,9,  -999.0,9,   -999.0,9,  -999.00,-999.0000,9,  -999.00,-999.000,9,-999.000,9,-999.000,9, -999.00,9,  -999.0,9,  -999.0,-999.000,9,-999.000,-999.000,9, -999.00,9, -999.00,9,  349.40,-999.0000,9,-999.0000,9,-999.0000,9,-999.0000,9,-999.0000,9,-999.0000,9,  10.5649,     -999.0,9,     -999.0,9,     -999.0,9,     -999.0,9,        145,-999.000,-999.000,-999.000,     -999.0,9, -999.00,9, -999.00,9
33RO200306_02,       A16N,     145,          1,         22,         22,2,20030807,       1949,    -3.4998,   -25.0005,       5571,   399.9,   9.3557,  34.8480,2,  34.8453,2,     84.3,2,    82.0,2,   15.38,2,   32.56,2,    0.00,2,    2.01,2,   0.800,2,   0.428,2,   0.012,2,  2219.8,2,  2304.6,2,   -999.0,9,  -999.00,   7.5385,2,    25.00,-999.000,9,-999.000,9,-999.000,9, -999.00,9,  -999.0,9,  -999.0,-999.000,9,-999.000,-999.000,9, -999.00,9, -999.00,9,  399.90,-999.0000,9,-999.0000,9,-999.0000,9,-999.0000,9,-999.0000,9,-999.0000,9,   9.3108,     -999.0,9,     -999.0,9,     -999.0,9,     -999.0,9,        145,-999.000,-999.000,-999.000,     -999.0,9, -999.00,9, -999.00,9
33RO200306_02,       A16N,     145,          1,         21,         21,2,20030807,       1949,    -3.4998,   -25.0005,       5571,   500.0,   7.1568,  34.6277,2,  34.6273,2,    104.4,2,   111.0,2,   20.48,2,   34.09,2,    0.00,2,    2.16,2,   0.551,2,   0.288,2,   0.013,2,  2218.1,2,  2301.6,2,   -999.0,9,  -999.00,   7.5308,2,    25.00,-999.000,9,-999.000,9,-999.000,9, -999.00,9,  -999.0,9,  -999.0,-999.000,9,-999.000,-999.000,9, -999.00,9, -999.00,9,  500.00,-999.0000,9,-999.0000,9,-999.0000,9,-999.0000,9,-999.0000,9,-999.0000,9,   7.1086,     -999.0,9,     -999.0,9,     -999.0,9,     -999.0,9,        145,-999.000,-999.000,-999.000,     -999.0,9, -999.00,9, -999.00,9
33RO200306_02,       A16N,     145,          1,         20,         20,2,20030807,       1949,    -3.4998,   -25.0005,       5571,   599.2,   5.8395,  34.5136,2,  34.5140,2,    139.1,2,   141.9,2,   24.30,2,   33.66,2,    0.00,2,    2.18,2,   0.535,2,   0.274,2,   0.016,2,  2209.3,2,  2297.2,2,   -999.0,9,  -999.00,   7.5611,2,    25.00,-999.000,9,-999.000,9,-999.000,9, -999.00,9,  -999.0,9,  -999.0,-999.000,9,-999.000,-999.000,9, -999.00,9, -999.00,9,  599.20,-999.0000,9,-999.0000,9,-999.0000,9,-999.0000,9,-999.0000,9,-999.0000,9,   5.7875,     -999.0,9,     -999.0,9,     -999.0,9,     -999.0,9,        145,-999.000,-999.000,-999.000,     -999.0,9, -999.00,9, -999.00,9
33RO200306_02,       A16N,     145,          1,         19,         19,2,20030807,       1949,    -3.4998,   -25.0005,       5571,   699.8,   5.1696,  34.4880,2,  34.4895,2,    141.8,2,   141.8,2,   28.38,2,   34.87,2,    0.00,2,    2.29,2,   0.260,2,   0.133,2,   0.009,2,  2216.6,2,  2298.3,2,   -999.0,9,  -999.00,   7.5455,2,    25.00,-999.000,9,-999.000,9,-999.000,9, -999.00,9,  -999.0,9,  -999.0,-999.000,9,-999.000,-999.000,9, -999.00,9, -999.00,9,  699.80,-999.0000,9,-999.0000,9,-999.0000,9,-999.0000,9,-999.0000,9,-999.0000,9,   5.1119,     -999.0,9,     -999.0,9,     -999.0,9,     -999.0,9,        145,-999.000,-999.000,-999.000,     -999.0,9, -999.00,9, -999.00,9
33RO200306_02,       A16N,     145,          1,         18,         18,2,20030807,       1949,    -3.4998,   -25.0005,       5571,   849.0,   4.6030,  34.5049,2,  34.5024,2,    154.3,2,   154.6,2,   32.11,2,   34.17,2,    0.00,2,    2.27,2,-999.000,9,-999.000,9,-999.000,9,  -999.0,9,  -999.0,9,   -999.0,9,  -999.00,-999.0000,9,  -999.00,-999.000,9,-999.000,9,-999.000,9, -999.00,9,  -999.0,9,  -999.0,-999.000,9,-999.000,-999.000,9, -999.00,9, -999.00,9,  849.00,-999.0000,9,-999.0000,9,-999.0000,9,-999.0000,9,-999.0000,9,-999.0000,9,   4.5358,     -999.0,9,     -999.0,9,     -999.0,9,     -999.0,9,        145,-999.000,-999.000,-999.000,     -999.0,9, -999.00,9, -999.00,9
33RO200306_02,       A16N,     145,          1,         17,         17,2,20030807,       1949,    -3.4998,   -25.0005,       5571,   999.1,   4.3514,  34.5639,2,  34.5616,2,    157.8,2,   157.4,2,   33.58,2,   33.50,2,    0.00,2,    2.23,2,   0.056,2,   0.028,2,   0.002,2,  2217.6,2,  2308.8,2,   -999.0,9,  -999.00,   7.5557,2,    25.00,-999.000,9,-999.000,9,-999.000,9, -999.00,9,  -999.0,9,  -999.0,-999.000,9,-999.000,-999.000,9, -999.00,9, -999.00,9,  999.10,-999.0000,9,-999.0000,9,-999.0000,9,-999.0000,9,-999.0000,9,-999.0000,9,   4.2730,     -999.0,9,     -999.0,9,     -999.0,9,     -999.0,9,        145,-999.000,-999.000,-999.000,     -999.0,9, -999.00,9, -999.00,9
33RO200306_02,       A16N,     145,          1,         16,         16,2,20030807,       1949,    -3.4998,   -25.0005,       5571,  1148.7,   4.3221,  34.6728,2,  34.6716,2,    166.5,2,   163.7,2,   31.46,2,   30.85,2,    0.00,2,    2.09,2,-999.000,9,-999.000,9,-999.000,9,  -999.0,9,  -999.0,9,   -999.0,9,  -999.00,-999.0000,9,  -999.00,-999.000,9,-999.000,9,-999.000,9, -999.00,9,  -999.0,9,  -999.0,-999.000,9,-999.000,-999.000,9, -999.00,9, -999.00,9, 1148.70,-999.0000,9,-999.0000,9,-999.0000,9,-999.0000,9,-999.0000,9,-999.0000,9,   4.2308,     -999.0,9,     -999.0,9,     -999.0,9,     -999.0,9,        145,-999.000,-999.000,-999.000,     -999.0,9, -999.00,9, -999.00,9
33RO200306_02,       A16N,     145,          1,         15,         15,2,20030807,       1949,    -3.4998,   -25.0005,       5571,  1300.5,   4.3821,  34.8189,2,  34.8200,2,    186.3,2,   186.4,2,   26.14,2,   27.11,2,    0.00,2,    1.81,2,-999.000,9,-999.000,9,-999.000,9,  -999.0,9,  -999.0,9,   -999.0,9,  -999.00,-999.0000,9,  -999.00,-999.000,9,-999.000,9,-999.000,9, -999.00,9,  -999.0,9,  -999.0,-999.000,9,-999.000,-999.000,9, -999.00,9, -999.00,9, 1300.50,-999.0000,9,-999.0000,9,-999.0000,9,-999.0000,9,-999.0000,9,-999.0000,9,   4.2763,     -999.0,9,     -999.0,9,     -999.0,9,     -999.0,9,        145,-999.000,-999.000,-999.000,     -999.0,9, -999.00,9, -999.00,9
33RO200306_02,       A16N,     145,          1,         14,         14,2,20030807,       1949,    -3.4998,   -25.0005,       5571,  1598.7,   4.0298,  34.9674,2,  34.9651,2,    234.6,2,   235.1,2,   19.49,2,   20.96,2,    0.00,2,    1.39,2,-999.000,9,-999.000,9,-999.000,9,  -999.0,9,  -999.0,9,   -999.0,9,  -999.00,-999.0000,9,  -999.00,-999.000,9,-999.000,9,-999.000,9, -999.00,9,  -999.0,9,  -999.0,-999.000,9,-999.000,-999.000,9, -999.00,9, -999.00,9, 1598.70,-999.0000,9,-999.0000,9,-999.0000,9,-999.0000,9,-999.0000,9,-999.0000,9,   3.9002,     -999.0,9,     -999.0,9,     -999.0,9,     -999.0,9,        145,-999.000,-999.000,-999.000,     -999.0,9, -999.00,9, -999.00,9
33RO200306_02,       A16N,     145,          1,         13,         13,2,20030807,       1949,    -3.4998,   -25.0005,       5571,  1898.8,   3.6318,  34.9709,2,  34.9704,2,    248.7,2,   245.5,2,   20.53,2,   19.74,2,    0.00,2,    1.30,2,-999.000,9,-999.000,9,-999.000,9,  -999.0,9,  -999.0,9,   -999.0,9,  -999.00,-999.0000,9,  -999.00,-999.000,9,-999.000,9,-999.000,9, -999.00,9,  -999.0,9,  -999.0,-999.000,9,-999.000,-999.000,9, -999.00,9, -999.00,9, 1898.80,-999.0000,9,-999.0000,9,-999.0000,9,-999.0000,9,-999.0000,9,-999.0000,9,   3.4793,     -999.0,9,     -999.0,9,     -999.0,9,     -999.0,9,        145,-999.000,-999.000,-999.000,     -999.0,9, -999.00,9, -999.00,9
33RO200306_02,       A16N,     145,          1,         12,         12,2,20030807,       1949,    -3.4998,   -25.0005,       5571,  2200.6,   3.3305,  34.9594,2,  34.9583,2,    251.8,2,   248.8,2,   23.48,2,   19.70,2,    0.00,2,    1.30,2,-999.000,9,-999.000,9,-999.000,9,  -999.0,9,  -999.0,9,   -999.0,9,  -999.00,-999.0000,9,  -999.00,-999.000,9,-999.000,9,-999.000,9, -999.00,9,  -999.0,9,  -999.0,-999.000,9,-999.000,-999.000,9, -999.00,9, -999.00,9, 2200.60,-999.0000,9,-999.0000,9,-999.0000,9,-999.0000,9,-999.0000,9,-999.0000,9,   3.1539,     -999.0,9,     -999.0,9,     -999.0,9,     -999.0,9,        145,-999.000,-999.000,-999.000,     -999.0,9, -999.00,9, -999.00,9
33RO200306_02,       A16N,     145,          1,         11,         11,2,20030807,       1949,    -3.4998,   -25.0005,       5571,  2499.4,   2.9860,  34.9352,2,  34.9344,2,    248.1,2,   243.6,2,   30.43,2,   20.61,2,    0.00,2,    1.37,2,-999.000,9,-999.000,9,-999.000,9,  -999.0,9,  -999.0,9,   -999.0,9,  -999.00,-999.0000,9,  -999.00,-999.000,9,-999.000,9,-999.000,9, -999.00,9,  -999.0,9,  -999.0,-999.000,9,-999.000,-999.000,9, -999.00,9, -999.00,9, 2499.40,-999.0000,9,-999.0000,9,-999.0000,9,-999.0000,9,-999.0000,9,-999.0000,9,   2.7864,     -999.0,9,     -999.0,9,     -999.0,9,     -999.0,9,        145,-999.000,-999.000,-999.000,     -999.0,9, -999.00,9, -999.00,9
33RO200306_02,       A16N,     145,          1,         10,         10,2,20030807,       1949,    -3.4998,   -25.0005,       5571,  2798.9,   2.7532,  34.9183,2,  34.9176,2,    246.3,2,   246.4,2,   36.20,2,   21.19,2,    0.00,2,    1.43,2,-999.000,9,-999.000,9,-999.000,9,  -999.0,9,  -999.0,9,   -999.0,9,  -999.00,-999.0000,9,  -999.00,-999.000,9,-999.000,9,-999.000,9, -999.00,9,  -999.0,9,  -999.0,-999.000,9,-999.000,-999.000,9, -999.00,9, -999.00,9, 2798.90,-999.0000,9,-999.0000,9,-999.0000,9,-999.0000,9,-999.0000,9,-999.0000,9,   2.5284,     -999.0,9,     -999.0,9,     -999.0,9,     -999.0,9,        145,-999.000,-999.000,-999.000,     -999.0,9, -999.00,9, -999.00,9
33RO200306_02,       A16N,     145,          1,          9,          9,2,20030807,       1949,    -3.4998,   -25.0005,       5571,  3099.4,   2.6368,  34.9157,2,  34.9147,2,    250.9,2,   251.0,2,   35.67,2,   20.74,2,    0.00,2,    1.40,2,-999.000,9,-999.000,9,-999.000,9,  -999.0,9,  -999.0,9,   -999.0,9,  -999.00,-999.0000,9,  -999.00,-999.000,9,-999.000,9,-999.000,9, -999.00,9,  -999.0,9,  -999.0,-999.000,9,-999.000,-999.000,9, -999.00,9, -999.00,9, 3099.40,-999.0000,9,-999.0000,9,-999.0000,9,-999.0000,9,-999.0000,9,-999.0000,9,   2.3837,     -999.0,9,     -999.0,9,     -999.0,9,     -999.0,9,        145,-999.000,-999.000,-999.000,     -999.0,9, -999.00,9, -999.00,9
33RO200306_02,       A16N,     145,          1,          8,          8,2,20030807,       1949,    -3.4998,   -25.0005,       5571,  3400.9,   2.5159,  34.9100,2,  34.9091,2,    254.0,2,   255.0,2,   35.54,2,   20.22,2,    0.00,2,    1.37,2,-999.000,9,-999.000,9,-999.000,9,  -999.0,9,  -999.0,9,   -999.0,9,  -999.00,-999.0000,9,  -999.00,-999.000,9,-999.000,9,-999.000,9, -999.00,9,  -999.0,9,  -999.0,-999.000,9,-999.000,-999.000,9, -999.00,9, -999.00,9, 3400.90,-999.0000,9,-999.0000,9,-999.0000,9,-999.0000,9,-999.0000,9,-999.0000,9,   2.2338,     -999.0,9,     -999.0,9,     -999.0,9,     -999.0,9,        145,-999.000,-999.000,-999.000,     -999.0,9, -999.00,9, -999.00,9