BOTTLE,20230908CCHSIOCBG
EXPOCODE,SECT_ID,STNNBR,CASTNO,SAMPNO,BTLNBR,BTLNBR_FLAG_W,DATE,TIME,LATITUDE,LONGITUDE,DEPTH,CTDPRS,CTDTMP,CTDSAL,CTDSAL_FLAG_W,SALNTY,SALNTY_FLAG_W,CTDOXY,CTDOXY_FLAG_W,OXYGEN,OXYGEN_FLAG_W,SILCAT,SILCAT_FLAG_W,NITRAT,NITRAT_FLAG_W,NITRIT,NITRIT_FLAG_W,PHSPHT,PHSPHT_FLAG_W,CFC-11,CFC-11_FLAG_W,CFC-12,CFC-12_FLAG_W,CFC113,CFC113_FLAG_W,TCARBN,TCARBN_FLAG_W,ALKALI,ALKALI_FLAG_W,FCO2,FCO2_FLAG_W,FCO2TMP,PH_SWS,PH_SWS_FLAG_W,PH_TMP,TRITUM,TRITUM_FLAG_W,HELIUM,HELIUM_FLAG_W,DELHE3,DELHE3_FLAG_W,DELC13,DELC13_FLAG_W,DELC14,DELC14_FLAG_W,C14ERR,NEON,NEON_FLAG_W,NEONER,POC,POC_FLAG_W,DOC,DOC_FLAG_W,TDN,TDN_FLAG_W,CTDRAW,CDOM325,CDOM325_FLAG_W,CDOM340,CDOM340_FLAG_W,CDOM380,CDOM380_FLAG_W,CDOM412,CDOM412_FLAG_W,CDOMSL,CDOMSL_FLAG_W,CDOMSN,CDOMSN_FLAG_W,THETA,PON,PON_FLAG_W,HCFC-22,HCFC-22_FLAG_W,HCFC-142b,HCFC-142b_FLAG_W,HCFC-141b,HCFC-141b_FLAG_W,STNNBR_U,HELIER,DELHER,TRITER,CH3CL,CH3CL_FLAG_W,CH3BR,CH3BR_FLAG_W,CH3I,CH3I_FLAG_W
,,,,,,,,,,,METERS,DBAR,ITS-90,PSS-78,,PSS-78,,UMOL/KG,,UMOL/KG,,UMOL/KG,,UMOL/KG,,UMOL/KG,,UMOL/KG,,PMOL/KG,,PMOL/KG,,PMOL/KG,,UMOL/KG,,UMOL/KG,,UATM,,DEG C,,,DEG C,TU,,NMOL/KG,,PERCNT,,/MILLE,,/MILLE,,/MILLE,NMOL/KG,,NMOL/KG,UG/KG,,UMOL/KG,,UMOL/KG,,DBAR,1/M,,1/M,,1/M,,1/M,,1/NM,,1/NM,,DEG C,UMOL/L,,PMOL/KG,,PMOL/KG,,PMOL/KG,,,NMOL/KG,PERCNT,TU,PMOL/KG,,PMOL/KG,,PMOL/KG,
33RO200306_02,       A16N,     097,          1,         33,         33,2,20030724,       1834,    17.5005,   -29.0007,       4615,     3.4,  25.4655,  36.5472,2,  36.5512,2,    214.2,2,   207.2,2,    0.45,2,    0.10,2,    0.01,2,    0.09,2,   1.850,2,   1.183,2,   0.162,2,  2063.7,6,  -999.0,9,   -999.0,9,  -999.00,-999.0000,9,  -999.00,-999.000,9,-999.000,9,-999.000,9, -999.00,9,  -999.0,9,  -999.0,-999.000,9,-999.000,-999.000,9, -999.00,9, -999.00,9,    3.40,-999.0000,9,-999.0000,9,-999.0000,9,-999.0000,9,-999.0000,9,-999.0000,9,  25.4647,     -999.0,9,     -999.0,9,     -999.0,9,     -999.0,9,         97,-999.000,-999.000,-999.000,     -999.0,9, -999.00,9, -999.00,9
33RO200306_02,       A16N,     097,          1,         32,         32,2,20030724,       1834,    17.5005,   -29.0007,       4615,    19.5,  25.2764,  36.5579,2,  36.5570,2,    213.8,2,   208.3,2,    0.42,2,    0.09,2,    0.01,2,    0.10,2,-999.000,9,-999.000,9,-999.000,9,  -999.0,9,  -999.0,9,   -999.0,9,  -999.00,-999.0000,9,  -999.00,-999.000,9,-999.000,9,-999.000,9, -999.00,9,  -999.0,9,  -999.0,-999.000,9,-999.000,-999.000,9, -999.00,9, -999.00,9,   19.50,-999.0000,9,-999.0000,9,-999.0000,9,-999.0000,9,-999.0000,9,-999.0000,9,  25.2721,     -999.0,9,     -999.0,9,     -999.0,9,     -999.0,9,         97,-999.000,-999.000,-999.000,     -999.0,9, -999.00,9, -999.00,9
33RO200306_02,       A16N,     097,          1,         31,         31,2,20030724,       1834,    17.5005,   -29.0007,       4615,    39.8,  24.2682,  36.6410,2,  36.6496,2,    214.1,2,   212.4,2,    0.43,2,    0.10,2,    0.01,2,    0.10,2,   1.964,2,   1.249,2,   0.174,2,  2071.2,2,  2391.7,2,   -999.0,9,  -999.00,   8.0555,2,    25.00,-999.000,9,-999.000,9,-999.000,9, -999.00,9,  -999.0,9,  -999.0,-999.000,9,-999.000,-999.000,9, -999.00,9, -999.00,9,   39.80,-999.0000,9,-999.0000,9,-999.0000,9,-999.0000,9,-999.0000,9,-999.0000,9,  24.2597,     -999.0,9,     -999.0,9,     -999.0,9,     -999.0,9,         97,-999.000,-999.000,-999.000,     -999.0,9, -999.00,9, -999.00,9
33RO200306_02,       A16N,     097,          1,         30,         30,2,20030724,       1834,    17.5005,   -29.0007,       4615,    60.0,  22.5474,  36.7448,2,  36.7426,2,    210.4,2,   211.1,2,    0.62,2,    0.29,2,    0.03,2,    0.13,2,-999.000,9,-999.000,9,-999.000,9,  -999.0,9,  -999.0,9,   -999.0,9,  -999.00,-999.0000,9,  -999.00,-999.000,9,-999.000,9,-999.000,9, -999.00,9,  -999.0,9,  -999.0,-999.000,9,-999.000,-999.000,9, -999.00,9, -999.00,9,   60.00,-999.0000,9,-999.0000,9,-999.0000,9,-999.0000,9,-999.0000,9,-999.0000,9,  22.5352,     -999.0,9,     -999.0,9,     -999.0,9,     -999.0,9,         97,-999.000,-999.000,-999.000,     -999.0,9, -999.00,9, -999.00,9
33RO200306_02,       A16N,     097,          1,         29,         29,2,20030724,       1834,    17.5005,   -29.0007,       4615,    79.9,  21.0350,  36.6494,2,  36.6779,2,    177.8,2,   185.2,2,    1.20,2,    2.89,2,    0.23,2,    0.31,2,-999.000,9,-999.000,9,-999.000,9,  -999.0,9,  -999.0,9,   -999.0,9,  -999.00,-999.0000,9,  -999.00,-999.000,9,-999.000,9,-999.000,9, -999.00,9,  -999.0,9,  -999.0,-999.000,9,-999.000,-999.000,9, -999.00,9, -999.00,9,   79.90,-999.0000,9,-999.0000,9,-999.0000,9,-999.0000,9,-999.0000,9,-999.0000,9,  21.0196,     -999.0,9,     -999.0,9,     -999.0,9,     -999.0,9,         97,-999.000,-999.000,-999.000,     -999.0,9, -999.00,9, -999.00,9
33RO200306_02,       A16N,     097,          1,         28,         28,2,20030724,       1834,    17.5005,   -29.0007,       4615,    99.5,  21.3483,  36.9743,2,  36.9734,2,    182.1,2,   210.0,2,    0.58,2,    0.79,2,    0.15,2,    0.16,2,   2.143,2,   1.342,2,   0.176,2,  2115.6,2,  2409.5,2,   -999.0,9,  -999.00,   8.0030,2,    25.00,-999.000,9,-999.000,9,-999.000,9, -999.00,9,  -999.0,9,  -999.0,-999.000,9,-999.000,-999.000,9, -999.00,9, -999.00,9,   99.50,-999.0000,9,-999.0000,9,-999.0000,9,-999.0000,9,-999.0000,9,-999.0000,9,  21.3289,     -999.0,9,     -999.0,9,     -999.0,9,     -999.0,9,         97,-999.000,-999.000,-999.000,     -999.0,9, -999.00,9, -999.00,9
33RO200306_02,       A16N,     097,          1,         27,         27,2,20030724,       1834,    17.5005,   -29.0007,       4615,   124.3,  18.5442,  36.3723,2,  36.3203,2,    160.5,2,   130.9,2,    3.07,2,   13.50,2,    0.05,2,    0.90,2,-999.000,9,-999.000,9,-999.000,9,  -999.0,9,  -999.0,9,   -999.0,9,  -999.00,-999.0000,9,  -999.00,-999.000,9,-999.000,9,-999.000,9, -999.00,9,  -999.0,9,  -999.0,-999.000,9,-999.000,-999.000,9, -999.00,9, -999.00,9,  124.30,-999.0000,9,-999.0000,9,-999.0000,9,-999.0000,9,-999.0000,9,-999.0000,9,  18.5223,     -999.0,9,     -999.0,9,     -999.0,9,     -999.0,9,         97,-999.000,-999.000,-999.000,     -999.0,9, -999.00,9, -999.00,9
33RO200306_02,       A16N,     097,          1,         26,         26,2,20030724,       1834,    17.5005,   -29.0007,       4615,   149.6,  16.6857,  36.1142,2,  36.1165,2,     94.2,2,    96.7,2,    4.77,2,   17.71,2,    0.02,2,    1.12,2,   2.024,2,   1.207,2,   0.058,2,  2193.9,2,  2352.1,2,   -999.0,9,  -999.00,   7.7459,2,    25.00,-999.000,9,-999.000,9,-999.000,9, -999.00,9,  -999.0,9,  -999.0,-999.000,9,-999.000,-999.000,9, -999.00,9, -999.00,9,  149.60,-999.0000,9,-999.0000,9,-999.0000,9,-999.0000,9,-999.0000,9,-999.0000,9,  16.6612,     -999.0,9,     -999.0,9,     -999.0,9,     -999.0,9,         97,-999.000,-999.000,-999.000,     -999.0,9, -999.00,9, -999.00,9
33RO200306_02,       A16N,     097,          1,         25,         25,2,20030724,       1834,    17.5005,   -29.0007,       4615,   174.1,  15.8859,  36.0494,2,  36.0453,2,     92.9,2,   105.4,2,    5.24,2,   17.51,2,    0.02,2,    1.09,2,-999.000,9,-999.000,9,-999.000,9,  -999.0,9,  -999.0,9,   -999.0,9,  -999.00,-999.0000,9,  -999.00,-999.000,9,-999.000,9,-999.000,9, -999.00,9,  -999.0,9,  -999.0,-999.000,9,-999.000,-999.000,9, -999.00,9, -999.00,9,  174.10,-999.0000,9,-999.0000,9,-999.0000,9,-999.0000,9,-999.0000,9,-999.0000,9,  15.8583,     -999.0,9,     -999.0,9,     -999.0,9,     -999.0,9,         97,-999.000,-999.000,-999.000,     -999.0,9, -999.00,9, -999.00,9
33RO200306_02,       A16N,     097,          1,         24,         24,2,20030724,       1834,    17.5005,   -29.0007,       4615,   200.3,  14.7960,  35.8585,2,  35.8460,2,     92.4,2,    87.8,2,    6.71,2,   20.92,2,    0.02,2,    1.30,2,   1.827,2,   1.042,2,   0.022,2,  2198.4,2,  2338.3,3,   -999.0,9,  -999.00,-999.0000,9,  -999.00,-999.000,9,-999.000,9,-999.000,9, -999.00,9,  -999.0,9,  -999.0,-999.000,9,-999.000,-999.000,9, -999.00,9, -999.00,9,  200.30,-999.0000,9,-999.0000,9,-999.0000,9,-999.0000,9,-999.0000,9,-999.0000,9,  14.7657,     -999.0,9,     -999.0,9,     -999.0,9,     -999.0,9,         97,-999.000,-999.000,-999.000,     -999.0,9, -999.00,9, -999.00,9
33RO200306_02,       A16N,     097,          1,         23,         23,2,20030724,       1834,    17.5005,   -29.0007,       4615,   250.2,  13.8879,  35.7661,2,  35.7605,2,     82.1,2,    88.9,2,    7.40,2,   21.84,2,    0.02,2,    1.34,2,-999.000,9,-999.000,9,-999.000,9,  -999.0,9,  -999.0,9,   -999.0,9,  -999.00,-999.0000,9,  -999.00,-999.000,9,-999.000,9,-999.000,9, -999.00,9,  -999.0,9,  -999.0,-999.000,9,-999.000,-999.000,9, -999.00,9, -999.00,9,  250.20,-999.0000,9,-999.0000,9,-999.0000,9,-999.0000,9,-999.0000,9,-999.0000,9,  13.8516,     -999.0,9,     -999.0,9,     -999.0,9,     -999.0,9,         97,-999.000,-999.000,-999.000,     -999.0,9, -999.00,9, -999.00,9
33RO200306_02,       A16N,     097,          1,         22,         22,2,20030724,       1834,    17.5005,   -29.0007,       4615,   299.8,  13.6295,  35.8099,2,  35.7967,2,     98.9,2,    90.4,2,    6.53,2,   18.78,2,    0.01,2,    1.15,2,   1.973,2,   1.083,2,   0.023,2,  2181.3,2,  2336.6,2,   -999.0,9,  -999.00,   7.6773,2,    25.00,-999.000,9,-999.000,9,-999.000,9, -999.00,9,  -999.0,9,  -999.0,-999.000,9,-999.000,-999.000,9, -999.00,9, -999.00,9,  299.80,-999.0000,9,-999.0000,9,-999.0000,9,-999.0000,9,-999.0000,9,-999.0000,9,  13.5865,     -999.0,9,     -999.0,9,     -999.0,9,     -999.0,9,         97,-999.000,-999.000,-999.000,     -999.0,9, -999.00,9, -999.00,9
33RO200306_02,       A16N,     097,          1,         21,         21,2,20030724,       1834,    17.5005,   -29.0007,       4615,   349.7,  12.2420,  35.5700,2,  35.5769,2,     83.8,2,    91.5,2,    9.53,2,   24.91,2,    0.01,2,    1.52,2,-999.000,9,-999.000,9,-999.000,9,  -999.0,9,  -999.0,9,   -999.0,9,  -999.00,-999.0000,9,  -999.00,-999.000,9,-999.000,9,-999.000,9, -999.00,9,  -999.0,9,  -999.0,-999.000,9,-999.000,-999.000,9, -999.00,9, -999.00,9,  349.70,-999.0000,9,-999.0000,9,-999.0000,9,-999.0000,9,-999.0000,9,-999.0000,9,  12.1952,     -999.0,9,     -999.0,9,     -999.0,9,     -999.0,9,         97,-999.000,-999.000,-999.000,     -999.0,9, -999.00,9, -999.00,9
33RO200306_02,       A16N,     097,          1,         20,         20,2,20030724,       1834,    17.5005,   -29.0007,       4615,   399.6,  11.2243,  35.4265,2,  35.4324,2,     83.6,2,    78.0,2,   11.55,2,   27.60,2,    0.01,2,    1.69,2,   1.016,2,   0.545,2,   0.014,2,  2218.8,2,  2319.3,2,   -999.0,9,  -999.00,   7.6092,2,    25.00,-999.000,9,-999.000,9,-999.000,9, -999.00,9,  -999.0,9,  -999.0,-999.000,9,-999.000,-999.000,9, -999.00,9, -999.00,9,  399.60,-999.0000,9,-999.0000,9,-999.0000,9,-999.0000,9,-999.0000,9,-999.0000,9,  11.1737,     -999.0,9,     -999.0,9,     -999.0,9,     -999.0,9,         97,-999.000,-999.000,-999.000,     -999.0,9, -999.00,9, -999.00,9
33RO200306_02,       A16N,     097,          1,         19,         19,2,20030724,       1834,    17.5005,   -29.0007,       4615,   450.9,  10.6065,  35.3405,2,  35.3405,2,     80.5,2,    75.6,2,   12.96,2,   28.83,2,    0.01,2,    1.79,2,-999.000,9,-999.000,9,-999.000,9,  -999.0,9,  -999.0,9,   -999.0,9,  -999.00,-999.0000,9,  -999.00,-999.000,9,-999.000,9,-999.000,9, -999.00,9,  -999.0,9,  -999.0,-999.000,9,-999.000,-999.000,9, -999.00,9, -999.00,9,  450.90,-999.0000,9,-999.0000,9,-999.0000,9,-999.0000,9,-999.0000,9,-999.0000,9,  10.5513,     -999.0,9,     -999.0,9,     -999.0,9,     -999.0,9,         97,-999.000,-999.000,-999.000,     -999.0,9, -999.00,9, -999.00,9
33RO200306_02,       A16N,     097,          1,         18,         18,2,20030724,       1834,    17.5005,   -29.0007,       4615,   499.5,  10.0509,  35.2829,2,  35.2844,2,     81.1,2,    87.9,2,   13.88,2,   28.79,2,    0.01,2,    1.81,2,   0.605,2,   0.316,2,   0.004,2,  2219.1,2,  2317.4,2,   -999.0,9,  -999.00,   7.5918,2,    25.00,-999.000,9,-999.000,9,-999.000,9, -999.00,9,  -999.0,9,  -999.0,-999.000,9,-999.000,-999.000,9, -999.00,9, -999.00,9,  499.50,-999.0000,9,-999.0000,9,-999.0000,9,-999.0000,9,-999.0000,9,-999.0000,9,   9.9917,     -999.0,9,     -999.0,9,     -999.0,9,     -999.0,9,         97,-999.000,-999.000,-999.000,     -999.0,9, -999.00,9, -999.00,9
33RO200306_02,       A16N,     097,          1,         17,         17,2,20030724,       1834,    17.5005,   -29.0007,       4615,   600.4,   8.6073,  35.0998,2,  35.0990,2,     90.2,2,    91.0,2,   17.53,2,   30.73,2,    0.01,2,    1.98,2,-999.000,9,-999.000,9,-999.000,9,  -999.0,9,  -999.0,9,   -999.0,9,  -999.00,-999.0000,9,  -999.00,-999.000,9,-999.000,9,-999.000,9, -999.00,9,  -999.0,9,  -999.0,-999.000,9,-999.000,-999.000,9, -999.00,9, -999.00,9,  600.40,-999.0000,9,-999.0000,9,-999.0000,9,-999.0000,9,-999.0000,9,-999.0000,9,   8.5422,     -999.0,9,     -999.0,9,     -999.0,9,     -999.0,9,         97,-999.000,-999.000,-999.000,     -999.0,9, -999.00,9, -999.00,9
33RO200306_02,       A16N,     097,          1,         16,         16,2,20030724,       1834,    17.5005,   -29.0007,       4615,   699.9,   7.4202,  34.9572,2,  34.9572,2,    101.8,2,   101.2,2,   20.67,2,   31.86,2,    0.01,2,    2.09,2,-999.000,9,-999.000,9,-999.000,9,  -999.0,9,  -999.0,9,   -999.0,9,  -999.00,-999.0000,9,  -999.00,-999.000,9,-999.000,9,-999.000,9, -999.00,9,  -999.0,9,  -999.0,-999.000,9,-999.000,-999.000,9, -999.00,9, -999.00,9,  699.90,-999.0000,9,-999.0000,9,-999.0000,9,-999.0000,9,-999.0000,9,-999.0000,9,   7.3501,     -999.0,9,     -999.0,9,     -999.0,9,     -999.0,9,         97,-999.000,-999.000,-999.000,     -999.0,9, -999.00,9, -999.00,9
33RO200306_02,       A16N,     097,          1,         15,         15,2,20030724,       1834,    17.5005,   -29.0007,       4615,   799.4,   6.7627,  34.9102,2,  34.9120,2,    113.9,2,   113.5,2,   22.23,2,   31.66,2,    0.01,2,    2.10,2,-999.000,9,-999.000,9,-999.000,9,  -999.0,9,  -999.0,9,   -999.0,9,  -999.00,-999.0000,9,  -999.00,-999.000,9,-999.000,9,-999.000,9, -999.00,9,  -999.0,9,  -999.0,-999.000,9,-999.000,-999.000,9, -999.00,9, -999.00,9,  799.40,-999.0000,9,-999.0000,9,-999.0000,9,-999.0000,9,-999.0000,9,-999.0000,9,   6.6861,     -999.0,9,     -999.0,9,     -999.0,9,     -999.0,9,         97,-999.000,-999.000,-999.000,     -999.0,9, -999.00,9, -999.00,9
33RO200306_02,       A16N,     097,          1,         14,         14,2,20030724,       1834,    17.5005,   -29.0007,       4615,   899.8,   6.3033,  34.9136,2,  34.9166,2,    127.2,2,   126.7,2,   22.86,2,   30.60,2,    0.01,2,    2.06,2,-999.000,9,-999.000,9,-999.000,9,  -999.0,9,  -999.0,9,   -999.0,9,  -999.00,-999.0000,9,  -999.00,-999.000,9,-999.000,9,-999.000,9, -999.00,9,  -999.0,9,  -999.0,-999.000,9,-999.000,-999.000,9, -999.00,9, -999.00,9,  899.80,-999.0000,9,-999.0000,9,-999.0000,9,-999.0000,9,-999.0000,9,-999.0000,9,   6.2195,     -999.0,9,     -999.0,9,     -999.0,9,     -999.0,9,         97,-999.000,-999.000,-999.000,     -999.0,9, -999.00,9, -999.00,9
33RO200306_02,       A16N,     097,          1,         13,         13,2,20030724,       1834,    17.5005,   -29.0007,       4615,  1000.4,   6.0808,  34.9639,2,  34.9684,2,    143.5,2,   168.9,3,   22.23,2,   28.77,2,    0.01,2,    1.95,2,-999.000,9,-999.000,9,-999.000,9,  -999.0,9,  -999.0,9,   -999.0,9,  -999.00,-999.0000,9,  -999.00,-999.000,9,-999.000,9,-999.000,9, -999.00,9,  -999.0,9,  -999.0,-999.000,9,-999.000,-999.000,9, -999.00,9, -999.00,9, 1000.40,-999.0000,9,-999.0000,9,-999.0000,9,-999.0000,9,-999.0000,9,-999.0000,9,   5.9886,     -999.0,9,     -999.0,9,     -999.0,9,     -999.0,9,         97,-999.000,-999.000,-999.000,     -999.0,9, -999.00,9, -999.00,9
33RO200306_02,       A16N,     097,          1,         12,         12,2,20030724,       1834,    17.5005,   -29.0007,       4615,  1100.0,   5.8387,  35.0217,2,  35.0232,2,    158.6,2,   159.1,2,   21.45,2,   26.83,2,    0.01,2,    1.83,2,-999.000,9,-999.000,9,-999.000,9,  -999.0,9,  -999.0,9,   -999.0,9,  -999.00,-999.0000,9,  -999.00,-999.000,9,-999.000,9,-999.000,9, -999.00,9,  -999.0,9,  -999.0,-999.000,9,-999.000,-999.000,9, -999.00,9, -999.00,9, 1100.00,-999.0000,9,-999.0000,9,-999.0000,9,-999.0000,9,-999.0000,9,-999.0000,9,   5.7384,     -999.0,9,     -999.0,9,     -999.0,9,     -999.0,9,         97,-999.000,-999.000,-999.000,     -999.0,9, -999.00,9, -999.00,9
33RO200306_02,       A16N,     097,          1,         11,         11,2,20030724,       1834,    17.5005,   -29.0007,       4615,  1199.9,   5.4656,  35.0343,2,  35.0369,2,    171.4,2,   170.3,2,   21.38,2,   25.54,2,    0.01,2,    1.74,2,-999.000,9,-999.000,9,-999.000,9,  -999.0,9,  -999.0,9,   -999.0,9,  -999.00,-999.0000,9,  -999.00,-999.000,9,-999.000,9,-999.000,9, -999.00,9,  -999.0,9,  -999.0,-999.000,9,-999.000,-999.000,9, -999.00,9, -999.00,9, 1199.90,-999.0000,9,-999.0000,9,-999.0000,9,-999.0000,9,-999.0000,9,-999.0000,9,   5.3587,     -999.0,9,     -999.0,9,     -999.0,9,     -999.0,9,         97,-999.000,-999.000,-999.000,     -999.0,9, -999.00,9, -999.00,9
33RO200306_02,       A16N,     097,          1,         10,         10,2,20030724,       1834,    17.5005,   -29.0007,       4615,  1448.8,   4.5228,  35.0164,2,  35.0187,2,    197.8,2,   201.9,2,   21.54,2,   22.96,2,    0.01,2,    1.58,2,-999.000,9,-999.000,9,-999.000,9,  -999.0,9,  -999.0,9,   -999.0,9,  -999.00,-999.0000,9,  -999.00,-999.000,9,-999.000,9,-999.000,9, -999.00,9,  -999.0,9,  -999.0,-999.000,9,-999.000,-999.000,9, -999.00,9, -999.00,9, 1448.80,-999.0000,9,-999.0000,9,-999.0000,9,-999.0000,9,-999.0000,9,-999.0000,9,   4.4014,     -999.0,9,     -999.0,9,     -999.0,9,     -999.0,9,         97,-999.000,-999.000,-999.000,     -999.0,9, -999.00,9, -999.00,9
33RO200306_02,       A16N,     097,          1,          9,          9,2,20030724,       1834,    17.5005,   -29.0007,       4615,  1598.9,   4.1851,  35.0062,2,  35.0086,2,    213.8,2,   211.7,2,   21.73,2,   22.00,2,    0.01,2,    1.52,2,   0.010,2,   0.003,2,   0.002,2,  -999.0,9,  -999.0,9,   -999.0,9,  -999.00,-999.0000,9,  -999.00,-999.000,9,-999.000,9,-999.000,9, -999.00,9,  -999.0,9,  -999.0,-999.000,9,-999.000,-999.000,9, -999.00,9, -999.00,9, 1598.90,-999.0000,9,-999.0000,9,-999.0000,9,-999.0000,9,-999.0000,9,-999.0000,9,   4.0535,     -999.0,9,     -999.0,9,     -999.0,9,     -999.0,9,         97,-999.000,-999.000,-999.000,     -999.0,9, -999.00,9, -999.00,9
33RO200306_02,       A16N,     097,          1,          8,          8,2,20030724,       1834,    17.5005,   -29.0007,       4615,  1799.3,   3.8353,  34.9911,2,  34.9932,2,    227.0,2,   228.6,2,   22.34,2,   21.10,2,    0.01,2,    1.46,2,-999.000,9,-999.000,9,-999.000,9,  -999.0,9,  -999.0,9,   -999.0,9,  -999.00,-999.0000,9,  -999.00,-999.000,9,-999.000,9,-999.000,9, -999.00,9,  -999.0,9,  -999.0,-999.000,9,-999.000,-999.000,9, -999.00,9, -999.00,9, 1799.30,-999.0000,9,-999.0000,9,-999.0000,9,-999.0000,9,-999.0000,9,-999.0000,9,   3.6893,     -999.0,9,     -999.0,9,     -999.0,9,     -999.0,9,         97,-999.000,-999.000,-999.000,     -999.0,9, -999.00,9, -999.00,9
33RO200306_02,       A16N,     097,          1,          7,          7,2,20030724,       1834,    17.5005,   -29.0007,       4615,  1999.0,   3.5349,  34.9775,2,  34.9796,2,    234.6,2,   239.0,2,   24.06,2,   20.62,2,    0.01,2,    1.43,2,   0.005,2,   0.000,2,   0.000,2,  -999.0,9,  -999.0,9,   -999.0,9,  -999.00,-999.0000,9,  -999.00,-999.000,9,-999.000,9,-999.000,9, -999.00,9,  -999.0,9,  -999.0,-999.000,9,-999.000,-999.000,9, -999.00,9, -999.00,9, 1999.00,-999.0000,9,-999.0000,9,-999.0000,9,-999.0000,9,-999.0000,9,-999.0000,9,   3.3743,     -999.0,9,     -999.0,9,     -999.0,9,     -999.0,9,         97,-999.000,-999.000,-999.000,     -999.0,9, -999.00,9, -999.00,9