BOTTLE,20230908CCHSIOCBG
EXPOCODE,SECT_ID,STNNBR,CASTNO,SAMPNO,BTLNBR,BTLNBR_FLAG_W,DATE,TIME,LATITUDE,LONGITUDE,DEPTH,CTDPRS,CTDTMP,CTDSAL,CTDSAL_FLAG_W,SALNTY,SALNTY_FLAG_W,CTDOXY,CTDOXY_FLAG_W,OXYGEN,OXYGEN_FLAG_W,SILCAT,SILCAT_FLAG_W,NITRAT,NITRAT_FLAG_W,NITRIT,NITRIT_FLAG_W,PHSPHT,PHSPHT_FLAG_W,CFC-11,CFC-11_FLAG_W,CFC-12,CFC-12_FLAG_W,CFC113,CFC113_FLAG_W,TCARBN,TCARBN_FLAG_W,ALKALI,ALKALI_FLAG_W,FCO2,FCO2_FLAG_W,FCO2TMP,PH_SWS,PH_SWS_FLAG_W,PH_TMP,TRITUM,TRITUM_FLAG_W,HELIUM,HELIUM_FLAG_W,DELHE3,DELHE3_FLAG_W,DELC13,DELC13_FLAG_W,DELC14,DELC14_FLAG_W,C14ERR,NEON,NEON_FLAG_W,NEONER,POC,POC_FLAG_W,DOC,DOC_FLAG_W,TDN,TDN_FLAG_W,CTDRAW,CDOM325,CDOM325_FLAG_W,CDOM340,CDOM340_FLAG_W,CDOM380,CDOM380_FLAG_W,CDOM412,CDOM412_FLAG_W,CDOMSL,CDOMSL_FLAG_W,CDOMSN,CDOMSN_FLAG_W,THETA,PON,PON_FLAG_W,HCFC-22,HCFC-22_FLAG_W,HCFC-142b,HCFC-142b_FLAG_W,HCFC-141b,HCFC-141b_FLAG_W,STNNBR_U,HELIER,DELHER,TRITER,CH3CL,CH3CL_FLAG_W,CH3BR,CH3BR_FLAG_W,CH3I,CH3I_FLAG_W
,,,,,,,,,,,METERS,DBAR,ITS-90,PSS-78,,PSS-78,,UMOL/KG,,UMOL/KG,,UMOL/KG,,UMOL/KG,,UMOL/KG,,UMOL/KG,,PMOL/KG,,PMOL/KG,,PMOL/KG,,UMOL/KG,,UMOL/KG,,UATM,,DEG C,,,DEG C,TU,,NMOL/KG,,PERCNT,,/MILLE,,/MILLE,,/MILLE,NMOL/KG,,NMOL/KG,UG/KG,,UMOL/KG,,UMOL/KG,,DBAR,1/M,,1/M,,1/M,,1/M,,1/NM,,1/NM,,DEG C,UMOL/L,,PMOL/KG,,PMOL/KG,,PMOL/KG,,,NMOL/KG,PERCNT,TU,PMOL/KG,,PMOL/KG,,PMOL/KG,
33RO200306_01,       A16N,     036,          1,         24,         24,2,20030628,       0629,    47.4785,   -19.9977,       4552,     8.0,  15.0419,  35.7254,2,  35.7242,2,    258.0,2,   251.0,2,    0.18,6,    1.45,6,    0.09,6,    0.17,2,-999.000,9,-999.000,9,-999.000,9,  2079.6,6,  2343.9,6,   -999.0,9,  -999.00,   7.9675,2,    25.00,-999.000,9,-999.000,9,-999.000,9, -999.00,9,  -999.0,9,  -999.0,-999.000,9,-999.000,-999.000,9, -999.00,9, -999.00,9,    8.00,-999.0000,9,-999.0000,9,-999.0000,9,-999.0000,9,-999.0000,9,-999.0000,9,  15.0407,     -999.0,9,     -999.0,9,     -999.0,9,     -999.0,9,         36,-999.000,-999.000,-999.000,     -999.0,9, -999.00,9, -999.00,9
33RO200306_01,       A16N,     036,          1,         23,         23,2,20030628,       0629,    47.4785,   -19.9977,       4552,    22.0,  15.0468,  35.7236,2,  35.7237,2,    257.5,2,   251.0,2,    0.18,6,    1.44,6,    0.09,6,    0.16,2,-999.000,9,-999.000,9,-999.000,9,  -999.0,9,  -999.0,9,   -999.0,9,  -999.00,-999.0000,9,  -999.00,-999.000,9,-999.000,9,-999.000,9, -999.00,9,  -999.0,9,  -999.0,-999.000,9,-999.000,  13.488,2, -999.00,9, -999.00,9,   22.00,   0.1750,2,   0.1180,2,   0.0410,2,   0.0190,2,   0.0260,2,   0.0260,2,  15.0435,      2.703,2,     -999.0,9,     -999.0,9,     -999.0,9,         36,-999.000,-999.000,-999.000,     -999.0,9, -999.00,9, -999.00,9
33RO200306_01,       A16N,     036,          1,         22,         22,2,20030628,       0629,    47.4785,   -19.9977,       4552,    50.2,  14.1150,  35.7682,2,  35.7642,2,    257.3,2,   272.1,2,    0.40,6,    2.37,6,    0.14,6,    0.24,2,-999.000,9,-999.000,9,-999.000,9,  -999.0,9,  -999.0,9,   -999.0,9,  -999.00,-999.0000,9,  -999.00,-999.000,9,-999.000,9,-999.000,9, -999.00,9,  -999.0,9,  -999.0,-999.000,9,-999.000,   9.485,2, -999.00,9, -999.00,9,   50.20,   0.1540,2,   0.1010,2,   0.0340,2,   0.0160,2,   0.0270,2,   0.0280,2,  14.1077,      1.133,2,     -999.0,9,     -999.0,9,     -999.0,9,         36,-999.000,-999.000,-999.000,     -999.0,9, -999.00,9, -999.00,9
33RO200306_01,       A16N,     036,          1,         21,         21,2,20030628,       0629,    47.4785,   -19.9977,       4552,    99.8,  13.1724,  35.7908,2,  35.7879,2,    239.4,2,   236.4,2,    2.81,6,    7.56,6,    0.06,6,    0.49,2,-999.000,9,-999.000,9,-999.000,9,  -999.0,9,  -999.0,9,   -999.0,9,  -999.00,-999.0000,9,  -999.00,-999.000,9,-999.000,9,-999.000,9, -999.00,9,  -999.0,9,  -999.0,-999.000,9,-999.000,   3.668,2, -999.00,9, -999.00,9,   99.80,   0.1090,2,   0.0620,2,   0.0140,2,   0.0040,3,   0.0370,2,   0.0370,2,  13.1585,      0.214,2,     -999.0,9,     -999.0,9,     -999.0,9,         36,-999.000,-999.000,-999.000,     -999.0,9, -999.00,9, -999.00,9
33RO200306_01,       A16N,     036,          1,         20,         20,2,20030628,       0629,    47.4785,   -19.9977,       4552,   150.1,  12.8476,  35.7528,2,  35.7505,2,    235.1,2,   235.0,2,    3.34,6,    8.72,6,    0.02,6,    0.54,2,-999.000,9,-999.000,9,-999.000,9,  -999.0,9,  -999.0,9,   -999.0,9,  -999.00,-999.0000,9,  -999.00,-999.000,9,-999.000,9,-999.000,9, -999.00,9,  -999.0,9,  -999.0,-999.000,9,-999.000,   2.107,2, -999.00,9, -999.00,9,  150.10,-999.0000,9,-999.0000,9,-999.0000,9,-999.0000,9,-999.0000,9,-999.0000,9,  12.8270,      0.131,2,     -999.0,9,     -999.0,9,     -999.0,9,         36,-999.000,-999.000,-999.000,     -999.0,9, -999.00,9, -999.00,9
33RO200306_01,       A16N,     036,          1,         19,         19,2,20030628,       0629,    47.4785,   -19.9977,       4552,   200.1,  12.6861,  35.7353,2,  35.7310,2,    239.7,2,   235.9,2,    3.32,6,    8.87,6,    0.02,6,    0.54,2,-999.000,9,-999.000,9,-999.000,9,  -999.0,9,  -999.0,9,   -999.0,9,  -999.00,-999.0000,9,  -999.00,-999.000,9,-999.000,9,-999.000,9, -999.00,9,  -999.0,9,  -999.0,-999.000,9,-999.000,   2.074,2, -999.00,9, -999.00,9,  200.10,   0.0790,2,   0.0470,2,   0.0120,2,   0.0030,3,   0.0340,2,   0.0350,2,  12.6588,      0.180,2,     -999.0,9,     -999.0,9,     -999.0,9,         36,-999.000,-999.000,-999.000,     -999.0,9, -999.00,9, -999.00,9
33RO200306_01,       A16N,     036,          1,         18,         18,2,20030628,       0629,    47.4785,   -19.9977,       4552,   300.0,  11.9781,  35.6069,2,  35.6051,2,    231.2,2,   227.6,2,    4.35,6,   10.85,6,    0.02,6,    0.68,2,-999.000,9,-999.000,9,-999.000,9,  -999.0,9,  -999.0,9,   -999.0,9,  -999.00,-999.0000,9,  -999.00,-999.000,9,-999.000,9,-999.000,9, -999.00,9,  -999.0,9,  -999.0,-999.000,9,-999.000,-999.000,9, -999.00,9, -999.00,9,  300.00,   0.1160,2,   0.0700,2,   0.0240,2,   0.0130,2,   0.0300,2,   0.0320,2,  11.9386,     -999.0,9,     -999.0,9,     -999.0,9,     -999.0,9,         36,-999.000,-999.000,-999.000,     -999.0,9, -999.00,9, -999.00,9
33RO200306_01,       A16N,     036,          1,         17,         17,2,20030628,       0629,    47.4785,   -19.9977,       4552,   400.5,  11.4515,  35.5314,2,  35.5294,2,    223.2,2,   228.9,2,    4.66,6,   11.59,6,    0.01,6,    0.71,2,-999.000,9,-999.000,9,-999.000,9,  -999.0,9,  -999.0,9,   -999.0,9,  -999.00,-999.0000,9,  -999.00,-999.000,9,-999.000,9,-999.000,9, -999.00,9,  -999.0,9,  -999.0,-999.000,9,-999.000,-999.000,9, -999.00,9, -999.00,9,  400.50,-999.0000,9,-999.0000,9,-999.0000,9,-999.0000,9,-999.0000,9,-999.0000,9,  11.4001,     -999.0,9,     -999.0,9,     -999.0,9,     -999.0,9,         36,-999.000,-999.000,-999.000,     -999.0,9, -999.00,9, -999.00,9
33RO200306_01,       A16N,     036,          1,         16,         16,2,20030628,       0629,    47.4785,   -19.9977,       4552,   499.7,  10.7380,  35.4302,2,  35.4287,2,    219.3,2,   213.0,2,    6.05,6,   13.86,6,    0.01,6,    0.86,2,-999.000,9,-999.000,9,-999.000,9,  -999.0,9,  -999.0,9,   -999.0,9,  -999.00,-999.0000,9,  -999.00,-999.000,9,-999.000,9,-999.000,9, -999.00,9,  -999.0,9,  -999.0,-999.000,9,-999.000,   1.976,2, -999.00,9, -999.00,9,  499.70,   0.1050,2,   0.0670,2,   0.0240,2,   0.0140,2,   0.0280,2,   0.0290,2,  10.6762,      0.087,2,     -999.0,9,     -999.0,9,     -999.0,9,         36,-999.000,-999.000,-999.000,     -999.0,9, -999.00,9, -999.00,9
33RO200306_01,       A16N,     036,          1,         15,         15,9,20030628,       0629,    47.4785,   -19.9977,       4552,   600.6,   9.7520,  35.3231,2,-999.0000,9,    196.3,2,  -999.0,9, -999.00,9, -999.00,9, -999.00,9, -999.00,9,-999.000,9,-999.000,9,-999.000,9,  -999.0,9,  -999.0,9,   -999.0,9,  -999.00,-999.0000,9,  -999.00,-999.000,9,-999.000,9,-999.000,9, -999.00,9,  -999.0,9,  -999.0,-999.000,9,-999.000,-999.000,9, -999.00,9, -999.00,9,  600.60,-999.0000,9,-999.0000,9,-999.0000,9,-999.0000,9,-999.0000,9,-999.0000,9,   9.6817,     -999.0,9,     -999.0,9,     -999.0,9,     -999.0,9,         36,-999.000,-999.000,-999.000,     -999.0,9, -999.00,9, -999.00,9
33RO200306_01,       A16N,     036,          1,         14,         14,2,20030628,       0629,    47.4785,   -19.9977,       4552,   701.3,   8.5139,  35.2102,2,  35.2072,2,    189.5,2,   187.9,2,   10.39,6,   18.73,6,    0.01,6,    1.18,2,-999.000,9,-999.000,9,-999.000,9,  -999.0,9,  -999.0,9,   -999.0,9,  -999.00,-999.0000,9,  -999.00,-999.000,9,-999.000,9,-999.000,9, -999.00,9,  -999.0,9,  -999.0,-999.000,9,-999.000,-999.000,9, -999.00,9, -999.00,9,  701.30,-999.0000,9,-999.0000,9,-999.0000,9,-999.0000,9,-999.0000,9,-999.0000,9,   8.4378,     -999.0,9,     -999.0,9,     -999.0,9,     -999.0,9,         36,-999.000,-999.000,-999.000,     -999.0,9, -999.00,9, -999.00,9
33RO200306_01,       A16N,     036,          1,         13,         13,2,20030628,       0629,    47.4785,   -19.9977,       4552,   799.6,   7.8816,  35.2492,2,  35.2435,2,    192.4,2,   190.9,2,   11.03,6,   18.92,6,    0.01,6,    1.20,2,-999.000,9,-999.000,9,-999.000,9,  -999.0,9,  -999.0,9,   -999.0,9,  -999.00,-999.0000,9,  -999.00,-999.000,9,-999.000,9,-999.000,9, -999.00,9,  -999.0,9,  -999.0,-999.000,9,-999.000,-999.000,9, -999.00,9, -999.00,9,  799.60,-999.0000,9,-999.0000,9,-999.0000,9,-999.0000,9,-999.0000,9,-999.0000,9,   7.7980,     -999.0,9,     -999.0,9,     -999.0,9,     -999.0,9,         36,-999.000,-999.000,-999.000,     -999.0,9, -999.00,9, -999.00,9
33RO200306_01,       A16N,     036,          1,         12,         12,2,20030628,       0629,    47.4785,   -19.9977,       4552,   900.6,   7.1348,  35.2585,2,  35.2638,2,    201.7,2,   204.8,2,   11.20,6,   18.50,6,    0.01,6,    1.18,2,-999.000,9,-999.000,9,-999.000,9,  -999.0,9,  -999.0,9,   -999.0,9,  -999.00,-999.0000,9,  -999.00,-999.000,9,-999.000,9,-999.000,9, -999.00,9,  -999.0,9,  -999.0,-999.000,9,-999.000,-999.000,9, -999.00,9, -999.00,9,  900.60,-999.0000,9,-999.0000,9,-999.0000,9,-999.0000,9,-999.0000,9,-999.0000,9,   7.0449,     -999.0,9,     -999.0,9,     -999.0,9,     -999.0,9,         36,-999.000,-999.000,-999.000,     -999.0,9, -999.00,9, -999.00,9
33RO200306_01,       A16N,     036,          1,         11,         11,2,20030628,       0629,    47.4785,   -19.9977,       4552,   999.2,   5.8477,  35.1047,2,  35.1046,2,    218.7,2,   223.1,2,   11.34,6,   18.40,6,    0.00,6,    1.18,2,-999.000,9,-999.000,9,-999.000,9,  -999.0,9,  -999.0,9,   -999.0,9,  -999.00,-999.0000,9,  -999.00,-999.000,9,-999.000,9,-999.000,9, -999.00,9,  -999.0,9,  -999.0,-999.000,9,-999.000,-999.000,9, -999.00,9, -999.00,9,  999.20,   0.1130,2,   0.0720,2,   0.0290,2,   0.0160,2,   0.0250,2,   0.0270,2,   5.7571,     -999.0,9,     -999.0,9,     -999.0,9,     -999.0,9,         36,-999.000,-999.000,-999.000,     -999.0,9, -999.00,9, -999.00,9
33RO200306_01,       A16N,     036,          1,         10,         10,2,20030628,       0629,    47.4785,   -19.9977,       4552,  1249.3,   4.6114,  35.0043,2,  35.0036,2,    245.8,2,   248.1,2,   11.19,6,   17.84,6,    0.00,6,    1.15,2,-999.000,9,-999.000,9,-999.000,9,  2166.8,2,  2304.6,2,   -999.0,9,  -999.00,   7.7190,2,    25.00,-999.000,9,-999.000,9,-999.000,9, -999.00,9,  -999.0,9,  -999.0,-999.000,9,-999.000,-999.000,9, -999.00,9, -999.00,9, 1249.30,-999.0000,9,-999.0000,9,-999.0000,9,-999.0000,9,-999.0000,9,-999.0000,9,   4.5077,     -999.0,9,     -999.0,9,     -999.0,9,     -999.0,9,         36,-999.000,-999.000,-999.000,     -999.0,9, -999.00,9, -999.00,9
33RO200306_01,       A16N,     036,          1,          9,          9,9,20030628,       0629,    47.4785,   -19.9977,       4552,  1500.4,   3.8940,  34.9319,2,-999.0000,9,    262.5,2,  -999.0,9, -999.00,9, -999.00,9, -999.00,9, -999.00,9,-999.000,9,-999.000,9,-999.000,9,  -999.0,9,  -999.0,9,   -999.0,9,  -999.00,-999.0000,9,  -999.00,-999.000,9,-999.000,9,-999.000,9, -999.00,9,  -999.0,9,  -999.0,-999.000,9,-999.000,-999.000,9, -999.00,9, -999.00,9, 1500.40,-999.0000,9,-999.0000,9,-999.0000,9,-999.0000,9,-999.0000,9,-999.0000,9,   3.7750,     -999.0,9,     -999.0,9,     -999.0,9,     -999.0,9,         36,-999.000,-999.000,-999.000,     -999.0,9, -999.00,9, -999.00,9
33RO200306_01,       A16N,     036,          1,          8,          8,9,20030628,       0629,    47.4785,   -19.9977,       4552,  1750.1,   3.5099,  34.9022,2,-999.0000,9,    273.8,2,  -999.0,9, -999.00,9, -999.00,9, -999.00,9, -999.00,9,-999.000,9,-999.000,9,-999.000,9,  -999.0,9,  -999.0,9,   -999.0,9,  -999.00,-999.0000,9,  -999.00,-999.000,9,-999.000,9,-999.000,9, -999.00,9,  -999.0,9,  -999.0,-999.000,9,-999.000,-999.000,9, -999.00,9, -999.00,9, 1750.10,-999.0000,9,-999.0000,9,-999.0000,9,-999.0000,9,-999.0000,9,-999.0000,9,   3.3731,     -999.0,9,     -999.0,9,     -999.0,9,     -999.0,9,         36,-999.000,-999.000,-999.000,     -999.0,9, -999.00,9, -999.00,9
33RO200306_01,       A16N,     036,          1,          7,          7,2,20030628,       0629,    47.4785,   -19.9977,       4552,  2000.0,   3.3291,  34.8954,2,  34.8941,2,    278.8,2,   295.7,3,   11.68,6,   17.11,6,    0.00,6,    1.11,2,-999.000,9,-999.000,9,-999.000,9,  2156.6,2,  2297.5,2,   -999.0,9,  -999.00,   7.7280,2,    25.00,-999.000,9,-999.000,9,-999.000,9, -999.00,9,  -999.0,9,  -999.0,-999.000,9,-999.000,-999.000,9, -999.00,9, -999.00,9, 2000.00,-999.0000,9,-999.0000,9,-999.0000,9,-999.0000,9,-999.0000,9,-999.0000,9,   3.1718,     -999.0,9,     -999.0,9,     -999.0,9,     -999.0,9,         36,-999.000,-999.000,-999.000,     -999.0,9, -999.00,9, -999.00,9
33RO200306_01,       A16N,     036,          1,          6,          6,2,20030628,       0629,    47.4785,   -19.9977,       4552,  2499.8,   3.1757,  34.9275,2,  34.9240,2,    273.8,2,   269.7,2,   14.61,6,   17.16,6,    0.01,6,    1.14,2,-999.000,9,-999.000,9,-999.000,9,  -999.0,9,  -999.0,9,   -999.0,9,  -999.00,-999.0000,9,  -999.00,-999.000,9,-999.000,9,-999.000,9, -999.00,9,  -999.0,9,  -999.0,-999.000,9,-999.000,-999.000,9, -999.00,9, -999.00,9, 2499.80,   0.1270,2,   0.0790,2,   0.0310,2,   0.0180,2,   0.0260,2,   0.0280,2,   2.9726,     -999.0,9,     -999.0,9,     -999.0,9,     -999.0,9,         36,-999.000,-999.000,-999.000,     -999.0,9, -999.00,9, -999.00,9
33RO200306_01,       A16N,     036,          1,          5,          5,2,20030628,       0629,    47.4785,   -19.9977,       4552,  2999.7,   2.9295,  34.9474,2,  34.9453,2,    257.3,2,   257.0,2,   23.63,6,   18.49,6,    0.01,6,    1.22,2,   1.005,2,   0.498,2,   0.043,2,  -999.0,9,  -999.0,9,   -999.0,9,  -999.00,-999.0000,9,  -999.00,-999.000,9,-999.000,9,-999.000,9, -999.00,9,  -999.0,9,  -999.0,-999.000,9,-999.000,-999.000,9, -999.00,9, -999.00,9, 2999.70,   0.1330,2,   0.0820,2,   0.0300,2,   0.0170,2,   0.0270,2,   0.0290,2,   2.6803,     -999.0,9,     -999.0,9,     -999.0,9,     -999.0,9,         36,-999.000,-999.000,-999.000,     -999.0,9, -999.00,9, -999.00,9
33RO200306_01,       A16N,     036,          1,          4,          4,2,20030628,       0629,    47.4785,   -19.9977,       4552,  3500.2,   2.6747,  34.9308,2,  34.9286,2,    244.2,2,   243.6,2,   35.46,6,   20.61,6,    0.00,6,    1.37,2,   0.392,2,   0.200,2,   0.022,2,  -999.0,9,  -999.0,9,   -999.0,9,  -999.00,-999.0000,9,  -999.00,-999.000,9,-999.000,9,-999.000,9, -999.00,9,  -999.0,9,  -999.0,-999.000,9,-999.000,-999.000,9, -999.00,9, -999.00,9, 3500.20,-999.0000,9,-999.0000,9,-999.0000,9,-999.0000,9,-999.0000,9,-999.0000,9,   2.3778,     -999.0,9,     -999.0,9,     -999.0,9,     -999.0,9,         36,-999.000,-999.000,-999.000,     -999.0,9, -999.00,9, -999.00,9
33RO200306_01,       A16N,     036,          1,          3,          3,2,20030628,       0629,    47.4785,   -19.9977,       4552,  4001.5,   2.5693,  34.9157,2,  34.9138,2,    235.8,2,   237.5,2,   42.29,6,   21.82,6,    0.00,6,    1.45,2,   0.108,2,   0.057,2,   0.011,2,  -999.0,9,  -999.0,9,   -999.0,9,  -999.00,-999.0000,9,  -999.00,-999.000,9,-999.000,9,-999.000,9, -999.00,9,  -999.0,9,  -999.0,-999.000,9,-999.000,-999.000,9, -999.00,9, -999.00,9, 4001.50,   0.1170,2,   0.0720,2,   0.0280,2,   0.0150,2,   0.0270,2,   0.0290,2,   2.2189,     -999.0,9,     -999.0,9,     -999.0,9,     -999.0,9,         36,-999.000,-999.000,-999.000,     -999.0,9, -999.00,9, -999.00,9
33RO200306_01,       A16N,     036,          1,          2,          2,2,20030628,       0629,    47.4785,   -19.9977,       4552,  4622.0,   2.5635,  34.9072,2,  34.9060,2,    231.0,2,   248.1,4,   44.98,6,   22.26,6,    0.00,6,    1.48,2,   0.054,2,   0.025,2,   0.012,2,  2204.6,2,  2348.2,2,   -999.0,9,  -999.00,   7.7322,2,    25.00,-999.000,9,-999.000,9,-999.000,9, -999.00,9,  -999.0,9,  -999.0,-999.000,9,-999.000,-999.000,9, -999.00,9, -999.00,9, 4622.00,-999.0000,9,-999.0000,9,-999.0000,9,-999.0000,9,-999.0000,9,-999.0000,9,   2.1393,     -999.0,9,     -999.0,9,     -999.0,9,     -999.0,9,         36,-999.000,-999.000,-999.000,     -999.0,9, -999.00,9, -999.00,9
33RO200306_01,       A16N,     036,          1,          1,          1,9,20030628,       0629,    47.4785,   -19.9977,       4552,  4622.4,   2.5636,  34.9071,2,-999.0000,9,    231.0,2,  -999.0,9, -999.00,9, -999.00,9, -999.00,9, -999.00,9,-999.000,9,-999.000,9,-999.000,9,  -999.0,9,  -999.0,9,   -999.0,9,  -999.00,-999.0000,9,  -999.00,-999.000,9,-999.000,9,-999.000,9, -999.00,9,  -999.0,9,  -999.0,-999.000,9,-999.000,-999.000,9, -999.00,9, -999.00,9, 4622.40,-999.0000,9,-999.0000,9,-999.0000,9,-999.0000,9,-999.0000,9,-999.0000,9,   2.1393,     -999.0,9,     -999.0,9,     -999.0,9,     -999.0,9,         36,-999.000,-999.000,-999.000,     -999.0,9, -999.00,9, -999.00,9