BOTTLE,20230908CCHSIOCBG
EXPOCODE,SECT_ID,STNNBR,CASTNO,SAMPNO,BTLNBR,BTLNBR_FLAG_W,DATE,TIME,LATITUDE,LONGITUDE,DEPTH,CTDPRS,CTDTMP,CTDSAL,CTDSAL_FLAG_W,SALNTY,SALNTY_FLAG_W,CTDOXY,CTDOXY_FLAG_W,OXYGEN,OXYGEN_FLAG_W,SILCAT,SILCAT_FLAG_W,NITRAT,NITRAT_FLAG_W,NITRIT,NITRIT_FLAG_W,PHSPHT,PHSPHT_FLAG_W,CFC-11,CFC-11_FLAG_W,CFC-12,CFC-12_FLAG_W,CFC113,CFC113_FLAG_W,TCARBN,TCARBN_FLAG_W,ALKALI,ALKALI_FLAG_W,FCO2,FCO2_FLAG_W,FCO2TMP,PH_SWS,PH_SWS_FLAG_W,PH_TMP,TRITUM,TRITUM_FLAG_W,HELIUM,HELIUM_FLAG_W,DELHE3,DELHE3_FLAG_W,DELC13,DELC13_FLAG_W,DELC14,DELC14_FLAG_W,C14ERR,NEON,NEON_FLAG_W,NEONER,POC,POC_FLAG_W,DOC,DOC_FLAG_W,TDN,TDN_FLAG_W,CTDRAW,CDOM325,CDOM325_FLAG_W,CDOM340,CDOM340_FLAG_W,CDOM380,CDOM380_FLAG_W,CDOM412,CDOM412_FLAG_W,CDOMSL,CDOMSL_FLAG_W,CDOMSN,CDOMSN_FLAG_W,THETA,PON,PON_FLAG_W,HCFC-22,HCFC-22_FLAG_W,HCFC-142b,HCFC-142b_FLAG_W,HCFC-141b,HCFC-141b_FLAG_W,STNNBR_U,HELIER,DELHER,TRITER,CH3CL,CH3CL_FLAG_W,CH3BR,CH3BR_FLAG_W,CH3I,CH3I_FLAG_W
,,,,,,,,,,,METERS,DBAR,ITS-90,PSS-78,,PSS-78,,UMOL/KG,,UMOL/KG,,UMOL/KG,,UMOL/KG,,UMOL/KG,,UMOL/KG,,PMOL/KG,,PMOL/KG,,PMOL/KG,,UMOL/KG,,UMOL/KG,,UATM,,DEG C,,,DEG C,TU,,NMOL/KG,,PERCNT,,/MILLE,,/MILLE,,/MILLE,NMOL/KG,,NMOL/KG,UG/KG,,UMOL/KG,,UMOL/KG,,DBAR,1/M,,1/M,,1/M,,1/M,,1/NM,,1/NM,,DEG C,UMOL/L,,PMOL/KG,,PMOL/KG,,PMOL/KG,,,NMOL/KG,PERCNT,TU,PMOL/KG,,PMOL/KG,,PMOL/KG,
33RO200306_02,       A16N,     084,          1,          7,          7,2,20030720,       1451,    23.9992,   -26.7498,       5460,  3400.6,   2.5516,  34.9195,2,  34.9215,2,    241.3,2,   242.5,2,   39.49,2,   21.75,2,    0.01,2,    1.51,2,   0.015,3,   0.004,2,   0.002,2,  2191.9,2,  -999.0,9,   -999.0,9,  -999.00,-999.0000,9,  -999.00,   0.001,2,-999.000,9,-999.000,9, -999.00,9,  -999.0,9,  -999.0,-999.000,9,-999.000,-999.000,9,   40.24,2,   26.84,2, 3400.60,-999.0000,9,-999.0000,9,-999.0000,9,-999.0000,9,-999.0000,9,-999.0000,9,   2.2686,     -999.0,9,       0.00,2,       0.00,2,       0.10,2,         84,-999.000,-999.000,   0.000,       4.83,2,    0.45,2,    0.09,2
33RO200306_02,       A16N,     084,          1,          6,          6,2,20030720,       1451,    23.9992,   -26.7498,       5460,  3799.5,   2.4492,  34.9060,2,  34.9064,2,    241.4,2,   243.2,2,   42.45,2,   22.13,2,    0.01,2,    1.54,2,   0.003,2,   0.000,2,   0.004,2,  2194.9,2,  2347.5,2,    768.1,6,    20.00,   7.7331,2,    25.00,-999.000,9,-999.000,9,-999.000,9, -999.00,9,  -999.0,9,  -999.0,-999.000,9,-999.000,-999.000,9,   41.54,2,   27.40,2, 3799.50,-999.0000,9,-999.0000,9,-999.0000,9,-999.0000,9,-999.0000,9,-999.0000,9,   2.1251,     -999.0,9,     -999.0,9,     -999.0,9,     -999.0,9,         84,-999.000,-999.000,-999.000,     -999.0,9, -999.00,9, -999.00,9
33RO200306_02,       A16N,     084,          1,          5,          5,2,20030720,       1451,    23.9992,   -26.7498,       5460,  4199.3,   2.3979,  34.8968,2,  34.8967,2,    242.2,2,   243.1,2,   44.48,2,   22.44,2,    0.01,2,    1.56,2,   0.008,2,   0.002,2,   0.001,2,  2197.9,2,  2349.2,2,   -999.0,9,  -999.00,   7.7373,2,    25.00,-999.000,9,-999.000,9,-999.000,9, -999.00,9,  -999.0,9,  -999.0,-999.000,9,-999.000,-999.000,9,   40.26,2,   27.35,2, 4199.30,-999.0000,9,-999.0000,9,-999.0000,9,-999.0000,9,-999.0000,9,-999.0000,9,   2.0295,     -999.0,9,     -999.0,9,     -999.0,9,     -999.0,9,         84,-999.000,-999.000,-999.000,     -999.0,9, -999.00,9, -999.00,9
33RO200306_02,       A16N,     084,          1,          4,          4,2,20030720,       1451,    23.9992,   -26.7498,       5460,  4599.8,   2.3810,  34.8900,2,  34.8901,2,    242.8,2,   243.7,2,   45.95,6,   22.50,6,    0.01,6, -999.00,0,   0.013,3,   0.000,2,   0.001,2,  2199.7,2,  2350.9,2,    772.4,2,    20.00,   7.7367,2,    25.00,-999.000,9,-999.000,9,-999.000,9, -999.00,9,  -999.0,9,  -999.0,-999.000,9,-999.000,-999.000,9,   41.14,2,   26.21,2, 4599.80,-999.0000,9,-999.0000,9,-999.0000,9,-999.0000,9,-999.0000,9,-999.0000,9,   1.9653,     -999.0,9,       0.00,2,       0.00,2,       0.10,2,         84,-999.000,-999.000,-999.000,      50.72,2,    1.22,2,    0.45,2
33RO200306_02,       A16N,     084,          1,          3,          3,2,20030720,       1451,    23.9992,   -26.7498,       5460,  4999.0,   2.4108,  34.8872,2,  34.8877,2,    243.2,2,   242.5,2,   46.47,6,   22.47,6,    0.01,6, -999.00,0,   0.009,2,   0.002,2,  -0.001,2,  2201.2,2,  2352.5,2,   -999.0,9,  -999.00,   7.7308,2,    25.00,   0.020,2,-999.000,9,-999.000,9, -999.00,9,  -999.0,9,  -999.0,-999.000,9,-999.000,-999.000,9,   40.81,2,   26.67,2, 4999.00,-999.0000,9,-999.0000,9,-999.0000,9,-999.0000,9,-999.0000,9,-999.0000,9,   1.9446,     -999.0,9,     -999.0,9,     -999.0,9,     -999.0,9,         84,-999.000,-999.000,   0.010,     -999.0,9, -999.00,9, -999.00,9
33RO200306_02,       A16N,     084,          1,          2,          2,2,20030720,       1451,    23.9992,   -26.7498,       5460,  5299.6,   2.4445,  34.8861,2,  34.8859,2,    243.7,2,   242.7,2,   46.67,6,   22.48,6,    0.01,6, -999.00,0,  -0.001,2,   0.003,2,   0.002,2,  2203.1,2,  2354.1,2,    770.5,6,    20.00,   7.7308,2,    25.00,-999.000,9,-999.000,9,-999.000,9, -999.00,9,  -999.0,9,  -999.0,-999.000,9,-999.000,-999.000,9,   41.39,2,   26.82,2, 5299.60,-999.0000,9,-999.0000,9,-999.0000,9,-999.0000,9,-999.0000,9,-999.0000,9,   1.9385,     -999.0,9,     -999.0,9,     -999.0,9,     -999.0,9,         84,-999.000,-999.000,-999.000,     -999.0,9, -999.00,9, -999.00,9
33RO200306_02,       A16N,     084,          1,          1,          1,2,20030720,       1451,    23.9992,   -26.7498,       5460,  5551.4,   2.4778,  34.8859,2,  34.8863,2,    244.1,2,   242.1,2,   46.79,6,   22.49,6,    0.01,6, -999.00,0,   0.006,2,   0.006,2,   0.001,2,  2202.9,6,  2355.3,6,    765.8,2,    20.00,   7.7302,6,    25.00,-999.000,9,-999.000,9,-999.000,9, -999.00,9,  -999.0,9,  -999.0,-999.000,9,-999.000,-999.000,9,   41.01,2,   27.08,2, 5551.40,-999.0000,9,-999.0000,9,-999.0000,9,-999.0000,9,-999.0000,9,-999.0000,9,   1.9374,     -999.0,9,     -999.0,9,       0.35,2,       0.99,2,         84,-999.000,-999.000,-999.000,       3.64,2,    0.73,2,    0.68,2