BOTTLE,20230908CCHSIOCBG
EXPOCODE,SECT_ID,STNNBR,CASTNO,SAMPNO,BTLNBR,BTLNBR_FLAG_W,DATE,TIME,LATITUDE,LONGITUDE,DEPTH,CTDPRS,CTDTMP,CTDSAL,CTDSAL_FLAG_W,SALNTY,SALNTY_FLAG_W,CTDOXY,CTDOXY_FLAG_W,OXYGEN,OXYGEN_FLAG_W,SILCAT,SILCAT_FLAG_W,NITRAT,NITRAT_FLAG_W,NITRIT,NITRIT_FLAG_W,PHSPHT,PHSPHT_FLAG_W,CFC-11,CFC-11_FLAG_W,CFC-12,CFC-12_FLAG_W,CFC113,CFC113_FLAG_W,TCARBN,TCARBN_FLAG_W,ALKALI,ALKALI_FLAG_W,FCO2,FCO2_FLAG_W,FCO2TMP,PH_SWS,PH_SWS_FLAG_W,PH_TMP,TRITUM,TRITUM_FLAG_W,HELIUM,HELIUM_FLAG_W,DELHE3,DELHE3_FLAG_W,DELC13,DELC13_FLAG_W,DELC14,DELC14_FLAG_W,C14ERR,NEON,NEON_FLAG_W,NEONER,POC,POC_FLAG_W,DOC,DOC_FLAG_W,TDN,TDN_FLAG_W,CTDRAW,CDOM325,CDOM325_FLAG_W,CDOM340,CDOM340_FLAG_W,CDOM380,CDOM380_FLAG_W,CDOM412,CDOM412_FLAG_W,CDOMSL,CDOMSL_FLAG_W,CDOMSN,CDOMSN_FLAG_W,THETA,PON,PON_FLAG_W,HCFC-22,HCFC-22_FLAG_W,HCFC-142b,HCFC-142b_FLAG_W,HCFC-141b,HCFC-141b_FLAG_W,STNNBR_U,HELIER,DELHER,TRITER,CH3CL,CH3CL_FLAG_W,CH3BR,CH3BR_FLAG_W,CH3I,CH3I_FLAG_W
,,,,,,,,,,,METERS,DBAR,ITS-90,PSS-78,,PSS-78,,UMOL/KG,,UMOL/KG,,UMOL/KG,,UMOL/KG,,UMOL/KG,,UMOL/KG,,PMOL/KG,,PMOL/KG,,PMOL/KG,,UMOL/KG,,UMOL/KG,,UATM,,DEG C,,,DEG C,TU,,NMOL/KG,,PERCNT,,/MILLE,,/MILLE,,/MILLE,NMOL/KG,,NMOL/KG,UG/KG,,UMOL/KG,,UMOL/KG,,DBAR,1/M,,1/M,,1/M,,1/M,,1/NM,,1/NM,,DEG C,UMOL/L,,PMOL/KG,,PMOL/KG,,PMOL/KG,,,NMOL/KG,PERCNT,TU,PMOL/KG,,PMOL/KG,,PMOL/KG,
33RO200306_02,       A16N,     119,          1,         35,         35,2,20030731,       2259,     6.5007,   -26.7497,       4647,     2.9,  27.8003,  35.2255,2,  35.2307,2,    197.4,2,   202.1,2,    0.76,2,    0.02,2,    0.00,2,    0.03,2,-999.000,9,-999.000,9,-999.000,9,  1951.9,6,  -999.0,9,   -999.0,9,  -999.00,-999.0000,9,  -999.00,-999.000,9,-999.000,9,-999.000,9, -999.00,9,  -999.0,9,  -999.0,-999.000,9,-999.000,-999.000,9, -999.00,9, -999.00,9,    2.90,-999.0000,9,-999.0000,9,-999.0000,9,-999.0000,9,-999.0000,9,-999.0000,9,  27.7996,     -999.0,9,     -999.0,9,     -999.0,9,     -999.0,9,        119,-999.000,-999.000,-999.000,     -999.0,9, -999.00,9, -999.00,9
33RO200306_02,       A16N,     119,          1,         33,         33,2,20030731,       2259,     6.5007,   -26.7497,       4647,    18.5,  27.8074,  35.2237,2,  35.2300,2,    196.2,2,   201.8,2,    0.79,2,    0.03,2,    0.00,2,    0.04,2,-999.000,9,-999.000,9,-999.000,9,  -999.0,9,  -999.0,9,   -999.0,9,  -999.00,-999.0000,9,  -999.00,-999.000,9,-999.000,9,-999.000,9, -999.00,9,  -999.0,9,  -999.0,-999.000,9,-999.000,-999.000,9, -999.00,9, -999.00,9,   18.50,-999.0000,9,-999.0000,9,-999.0000,9,-999.0000,9,-999.0000,9,-999.0000,9,  27.8031,     -999.0,9,     -999.0,9,     -999.0,9,     -999.0,9,        119,-999.000,-999.000,-999.000,     -999.0,9, -999.00,9, -999.00,9
33RO200306_02,       A16N,     119,          1,         32,         32,2,20030731,       2259,     6.5007,   -26.7497,       4647,    39.2,  28.0450,  35.9265,2,  35.8780,2,    198.8,2,   208.0,2,    0.79,2,    0.03,2,    0.00,2,    0.04,2,-999.000,9,-999.000,9,-999.000,9,  -999.0,9,  -999.0,9,   -999.0,9,  -999.00,-999.0000,9,  -999.00,-999.000,9,-999.000,9,-999.000,9, -999.00,9,  -999.0,9,  -999.0,-999.000,9,-999.000,-999.000,9, -999.00,9, -999.00,9,   39.20,-999.0000,9,-999.0000,9,-999.0000,9,-999.0000,9,-999.0000,9,-999.0000,9,  28.0357,     -999.0,9,     -999.0,9,     -999.0,9,     -999.0,9,        119,-999.000,-999.000,-999.000,     -999.0,9, -999.00,9, -999.00,9
33RO200306_02,       A16N,     119,          1,         31,         31,2,20030731,       2259,     6.5007,   -26.7497,       4647,    58.8,  25.7928,  36.2233,2,  36.2099,2,    202.8,2,   199.4,2,    1.35,2,    0.24,2,    0.02,2,    0.09,2,-999.000,9,-999.000,9,-999.000,9,  -999.0,9,  -999.0,9,   -999.0,9,  -999.00,-999.0000,9,  -999.00,-999.000,9,-999.000,9,-999.000,9, -999.00,9,  -999.0,9,  -999.0,-999.000,9,-999.000,-999.000,9, -999.00,9, -999.00,9,   58.80,-999.0000,9,-999.0000,9,-999.0000,9,-999.0000,9,-999.0000,9,-999.0000,9,  25.7797,     -999.0,9,     -999.0,9,     -999.0,9,     -999.0,9,        119,-999.000,-999.000,-999.000,     -999.0,9, -999.00,9, -999.00,9
33RO200306_02,       A16N,     119,          1,         30,         30,2,20030731,       2259,     6.5007,   -26.7497,       4647,    79.7,  20.6868,  35.9200,2,  35.8819,2,    162.3,2,   147.6,2,    3.84,2,    7.92,2,    0.45,2,    0.63,2,-999.000,9,-999.000,9,-999.000,9,  -999.0,9,  -999.0,9,   -999.0,9,  -999.00,-999.0000,9,  -999.00,-999.000,9,-999.000,9,-999.000,9, -999.00,9,  -999.0,9,  -999.0,-999.000,9,-999.000,-999.000,9, -999.00,9, -999.00,9,   79.70,-999.0000,9,-999.0000,9,-999.0000,9,-999.0000,9,-999.0000,9,-999.0000,9,  20.6717,     -999.0,9,     -999.0,9,     -999.0,9,     -999.0,9,        119,-999.000,-999.000,-999.000,     -999.0,9, -999.00,9, -999.00,9
33RO200306_02,       A16N,     119,          1,         29,         29,2,20030731,       2259,     6.5007,   -26.7497,       4647,    99.9,  16.6773,  35.6866,2,  35.6674,2,    124.9,2,   131.4,2,    5.82,2,   16.10,2,    0.07,2,    1.10,2,-999.000,9,-999.000,9,-999.000,9,  -999.0,9,  -999.0,9,   -999.0,9,  -999.00,-999.0000,9,  -999.00,-999.000,9,-999.000,9,-999.000,9, -999.00,9,  -999.0,9,  -999.0,-999.000,9,-999.000,-999.000,9, -999.00,9, -999.00,9,   99.90,-999.0000,9,-999.0000,9,-999.0000,9,-999.0000,9,-999.0000,9,-999.0000,9,  16.6610,     -999.0,9,     -999.0,9,     -999.0,9,     -999.0,9,        119,-999.000,-999.000,-999.000,     -999.0,9, -999.00,9, -999.00,9
33RO200306_02,       A16N,     119,          1,         28,         28,2,20030731,       2259,     6.5007,   -26.7497,       4647,   123.6,  14.4262,  35.4549,2,  35.4515,2,    114.1,2,   105.3,2,    7.04,2,   20.64,2,    0.02,2,    1.37,2,-999.000,9,-999.000,9,-999.000,9,  -999.0,9,  -999.0,9,   -999.0,9,  -999.00,-999.0000,9,  -999.00,-999.000,9,-999.000,9,-999.000,9, -999.00,9,  -999.0,9,  -999.0,-999.000,9,-999.000,-999.000,9, -999.00,9, -999.00,9,  123.60,-999.0000,9,-999.0000,9,-999.0000,9,-999.0000,9,-999.0000,9,-999.0000,9,  14.4079,     -999.0,9,     -999.0,9,     -999.0,9,     -999.0,9,        119,-999.000,-999.000,-999.000,     -999.0,9, -999.00,9, -999.00,9
33RO200306_02,       A16N,     119,          1,         27,         27,2,20030731,       2259,     6.5007,   -26.7497,       4647,   149.5,  13.7693,  35.3807,2,  35.3750,2,     98.8,2,   109.7,2,    7.54,2,   21.36,2,    0.01,2,    1.42,2,-999.000,9,-999.000,9,-999.000,9,  -999.0,9,  -999.0,9,   -999.0,9,  -999.00,-999.0000,9,  -999.00,-999.000,9,-999.000,9,-999.000,9, -999.00,9,  -999.0,9,  -999.0,-999.000,9,-999.000,-999.000,9, -999.00,9, -999.00,9,  149.50,-999.0000,9,-999.0000,9,-999.0000,9,-999.0000,9,-999.0000,9,-999.0000,9,  13.7479,     -999.0,9,     -999.0,9,     -999.0,9,     -999.0,9,        119,-999.000,-999.000,-999.000,     -999.0,9, -999.00,9, -999.00,9
33RO200306_02,       A16N,     119,          1,         26,         26,2,20030731,       2259,     6.5007,   -26.7497,       4647,   173.1,  13.4075,  35.3340,2,  35.3309,2,    108.0,2,   113.5,2,    7.87,2,   21.49,2,    0.01,2,    1.43,2,-999.000,9,-999.000,9,-999.000,9,  -999.0,9,  -999.0,9,   -999.0,9,  -999.00,-999.0000,9,  -999.00,-999.000,9,-999.000,9,-999.000,9, -999.00,9,  -999.0,9,  -999.0,-999.000,9,-999.000,-999.000,9, -999.00,9, -999.00,9,  173.10,-999.0000,9,-999.0000,9,-999.0000,9,-999.0000,9,-999.0000,9,-999.0000,9,  13.3831,     -999.0,9,     -999.0,9,     -999.0,9,     -999.0,9,        119,-999.000,-999.000,-999.000,     -999.0,9, -999.00,9, -999.00,9
33RO200306_02,       A16N,     119,          1,         25,         25,2,20030731,       2259,     6.5007,   -26.7497,       4647,   198.6,  12.9747,  35.2852,2,  35.2816,2,     99.8,2,    96.1,2,    8.73,2,   24.00,2,    0.01,2,    1.57,2,-999.000,9,-999.000,9,-999.000,9,  -999.0,9,  -999.0,9,   -999.0,9,  -999.00,-999.0000,9,  -999.00,-999.000,9,-999.000,9,-999.000,9, -999.00,9,  -999.0,9,  -999.0,-999.000,9,-999.000,-999.000,9, -999.00,9, -999.00,9,  198.60,-999.0000,9,-999.0000,9,-999.0000,9,-999.0000,9,-999.0000,9,-999.0000,9,  12.9473,     -999.0,9,     -999.0,9,     -999.0,9,     -999.0,9,        119,-999.000,-999.000,-999.000,     -999.0,9, -999.00,9, -999.00,9
33RO200306_02,       A16N,     119,          1,         24,         24,2,20030731,       2259,     6.5007,   -26.7497,       4647,   248.9,  12.1981,  35.1993,2,  35.1945,2,     91.8,2,    88.6,2,   10.03,2,   26.23,2,    0.01,2,    1.68,2,-999.000,9,-999.000,9,-999.000,9,  -999.0,9,  -999.0,9,   -999.0,9,  -999.00,-999.0000,9,  -999.00,-999.000,9,-999.000,9,-999.000,9, -999.00,9,  -999.0,9,  -999.0,-999.000,9,-999.000,-999.000,9, -999.00,9, -999.00,9,  248.90,-999.0000,9,-999.0000,9,-999.0000,9,-999.0000,9,-999.0000,9,-999.0000,9,  12.1651,     -999.0,9,     -999.0,9,     -999.0,9,     -999.0,9,        119,-999.000,-999.000,-999.000,     -999.0,9, -999.00,9, -999.00,9
33RO200306_02,       A16N,     119,          1,         23,         23,2,20030731,       2259,     6.5007,   -26.7497,       4647,   299.9,  11.2839,  35.1276,2,  35.1272,2,     66.5,2,    66.5,2,   12.04,2,   30.17,2,    0.00,2,    1.88,2,-999.000,9,-999.000,9,-999.000,9,  -999.0,9,  -999.0,9,   -999.0,9,  -999.00,-999.0000,9,  -999.00,-999.000,9,-999.000,9,-999.000,9, -999.00,9,  -999.0,9,  -999.0,-999.000,9,-999.000,-999.000,9, -999.00,9, -999.00,9,  299.90,-999.0000,9,-999.0000,9,-999.0000,9,-999.0000,9,-999.0000,9,-999.0000,9,  11.2461,     -999.0,9,     -999.0,9,     -999.0,9,     -999.0,9,        119,-999.000,-999.000,-999.000,     -999.0,9, -999.00,9, -999.00,9
33RO200306_02,       A16N,     119,          1,         22,         22,2,20030731,       2259,     6.5007,   -26.7497,       4647,   349.4,  10.4559,  35.0636,2,  35.0633,2,     55.3,2,    54.2,2,   13.89,2,   33.10,2,    0.00,2,    2.03,2,-999.000,9,-999.000,9,-999.000,9,  -999.0,9,  -999.0,9,   -999.0,9,  -999.00,-999.0000,9,  -999.00,-999.000,9,-999.000,9,-999.000,9, -999.00,9,  -999.0,9,  -999.0,-999.000,9,-999.000,-999.000,9, -999.00,9, -999.00,9,  349.40,-999.0000,9,-999.0000,9,-999.0000,9,-999.0000,9,-999.0000,9,-999.0000,9,  10.4139,     -999.0,9,     -999.0,9,     -999.0,9,     -999.0,9,        119,-999.000,-999.000,-999.000,     -999.0,9, -999.00,9, -999.00,9
33RO200306_02,       A16N,     119,          1,         21,         21,2,20030731,       2259,     6.5007,   -26.7497,       4647,   399.3,   9.3365,  34.9446,2,  34.9426,2,     61.1,2,    63.4,2,   16.03,2,   34.45,2,    0.00,2,    2.13,2,-999.000,9,-999.000,9,-999.000,9,  -999.0,9,  -999.0,9,   -999.0,9,  -999.00,-999.0000,9,  -999.00,-999.000,9,-999.000,9,-999.000,9, -999.00,9,  -999.0,9,  -999.0,-999.000,9,-999.000,-999.000,9, -999.00,9, -999.00,9,  399.30,-999.0000,9,-999.0000,9,-999.0000,9,-999.0000,9,-999.0000,9,-999.0000,9,   9.2916,     -999.0,9,     -999.0,9,     -999.0,9,     -999.0,9,        119,-999.000,-999.000,-999.000,     -999.0,9, -999.00,9, -999.00,9
33RO200306_02,       A16N,     119,          1,         20,         20,2,20030731,       2259,     6.5007,   -26.7497,       4647,   449.6,   8.7155,  34.8848,2,  34.8813,2,     68.0,2,    65.7,2,   17.56,2,   35.41,2,    0.00,2,    2.20,2,-999.000,9,-999.000,9,-999.000,9,  -999.0,9,  -999.0,9,   -999.0,9,  -999.00,-999.0000,9,  -999.00,-999.000,9,-999.000,9,-999.000,9, -999.00,9,  -999.0,9,  -999.0,-999.000,9,-999.000,-999.000,9, -999.00,9, -999.00,9,  449.60,-999.0000,9,-999.0000,9,-999.0000,9,-999.0000,9,-999.0000,9,-999.0000,9,   8.6669,     -999.0,9,     -999.0,9,     -999.0,9,     -999.0,9,        119,-999.000,-999.000,-999.000,     -999.0,9, -999.00,9, -999.00,9
33RO200306_02,       A16N,     119,          1,         19,         19,2,20030731,       2259,     6.5007,   -26.7497,       4647,   498.7,   8.1777,  34.8325,2,  34.8278,2,     72.9,2,    74.0,2,   19.00,2,   35.68,2,    0.00,2,    2.25,2,-999.000,9,-999.000,9,-999.000,9,  -999.0,9,  -999.0,9,   -999.0,9,  -999.00,-999.0000,9,  -999.00,-999.000,9,-999.000,9,-999.000,9, -999.00,9,  -999.0,9,  -999.0,-999.000,9,-999.000,-999.000,9, -999.00,9, -999.00,9,  498.70,-999.0000,9,-999.0000,9,-999.0000,9,-999.0000,9,-999.0000,9,-999.0000,9,   8.1257,     -999.0,9,     -999.0,9,     -999.0,9,     -999.0,9,        119,-999.000,-999.000,-999.000,     -999.0,9, -999.00,9, -999.00,9
33RO200306_02,       A16N,     119,          1,         18,         18,4,20030731,       2259,     6.5007,   -26.7497,       4647,   699.4,   5.9612,  34.6310,2,  34.6310,2,    107.2,2,   107.0,2,   25.76,2,   36.40,2,    0.00,2,    2.39,2,   0.059,2,   0.035,2,   0.004,2,  -999.0,9,  -999.0,9,   -999.0,9,  -999.00,-999.0000,9,  -999.00,-999.000,9,-999.000,9,-999.000,9, -999.00,9,  -999.0,9,  -999.0,-999.000,9,-999.000,-999.000,9, -999.00,9, -999.00,9,  699.40,-999.0000,9,-999.0000,9,-999.0000,9,-999.0000,9,-999.0000,9,-999.0000,9,   5.8992,     -999.0,9,     -999.0,9,     -999.0,9,     -999.0,9,        119,-999.000,-999.000,-999.000,     -999.0,9, -999.00,9, -999.00,9
33RO200306_02,       A16N,     119,          1,         17,         17,4,20030731,       2259,     6.5007,   -26.7497,       4647,   798.9,   5.5689,  34.6260,2,  34.6259,2,    115.7,2,  -999.0,1,   27.53,2,   36.15,2,    0.00,2,    2.40,2,-999.000,9,-999.000,9,-999.000,9,  -999.0,9,  -999.0,9,   -999.0,9,  -999.00,-999.0000,9,  -999.00,-999.000,9,-999.000,9,-999.000,9, -999.00,9,  -999.0,9,  -999.0,-999.000,9,-999.000,-999.000,9, -999.00,9, -999.00,9,  798.90,-999.0000,9,-999.0000,9,-999.0000,9,-999.0000,9,-999.0000,9,-999.0000,9,   5.4999,     -999.0,9,     -999.0,9,     -999.0,9,     -999.0,9,        119,-999.000,-999.000,-999.000,     -999.0,9, -999.00,9, -999.00,9
33RO200306_02,       A16N,     119,          1,         16,         16,4,20030731,       2259,     6.5007,   -26.7497,       4647,   899.3,   5.2387,  34.6656,2,  34.6703,2,    123.8,2,   125.7,2,   28.35,2,   35.03,2,    0.00,2,    2.34,2,-999.000,9,-999.000,9,-999.000,9,  -999.0,9,  -999.0,9,   -999.0,9,  -999.00,-999.0000,9,  -999.00,-999.000,9,-999.000,9,-999.000,9, -999.00,9,  -999.0,9,  -999.0,-999.000,9,-999.000,-999.000,9, -999.00,9, -999.00,9,  899.30,-999.0000,9,-999.0000,9,-999.0000,9,-999.0000,9,-999.0000,9,-999.0000,9,   5.1626,     -999.0,9,     -999.0,9,     -999.0,9,     -999.0,9,        119,-999.000,-999.000,-999.000,     -999.0,9, -999.00,9, -999.00,9
33RO200306_02,       A16N,     119,          1,         15,         15,4,20030731,       2259,     6.5007,   -26.7497,       4647,   999.0,   4.8963,  34.7097,2,  34.7108,2,    145.5,2,   145.0,2,   28.23,2,   32.63,2,    0.00,2,    2.21,2,-999.000,9,-999.000,9,-999.000,9,  -999.0,9,  -999.0,9,   -999.0,9,  -999.00,-999.0000,9,  -999.00,-999.000,9,-999.000,9,-999.000,9, -999.00,9,  -999.0,9,  -999.0,-999.000,9,-999.000,-999.000,9, -999.00,9, -999.00,9,  999.00,-999.0000,9,-999.0000,9,-999.0000,9,-999.0000,9,-999.0000,9,-999.0000,9,   4.8135,     -999.0,9,     -999.0,9,     -999.0,9,     -999.0,9,        119,-999.000,-999.000,-999.000,     -999.0,9, -999.00,9, -999.00,9
33RO200306_02,       A16N,     119,          1,         14,         14,4,20030731,       2259,     6.5007,   -26.7497,       4647,  1099.2,   4.7660,  34.7620,2,  34.7648,2,    159.1,2,   158.4,2,   27.08,2,   30.82,2,    0.00,2,    2.09,2,   0.019,2,   0.012,2,   0.004,2,  -999.0,9,  -999.0,9,   -999.0,9,  -999.00,-999.0000,9,  -999.00,-999.000,9,-999.000,9,-999.000,9, -999.00,9,  -999.0,9,  -999.0,-999.000,9,-999.000,-999.000,9, -999.00,9, -999.00,9, 1099.20,-999.0000,9,-999.0000,9,-999.0000,9,-999.0000,9,-999.0000,9,-999.0000,9,   4.6751,     -999.0,9,     -999.0,9,     -999.0,9,     -999.0,9,        119,-999.000,-999.000,-999.000,     -999.0,9, -999.00,9, -999.00,9
33RO200306_02,       A16N,     119,          1,         13,         13,4,20030731,       2259,     6.5007,   -26.7497,       4647,  1199.0,   4.6676,  34.8197,2,  34.8247,2,    167.4,2,   169.3,2,   25.49,2,   29.06,2,    0.00,2,    1.97,2,-999.000,9,-999.000,9,-999.000,9,  -999.0,9,  -999.0,9,   -999.0,9,  -999.00,-999.0000,9,  -999.00,-999.000,9,-999.000,9,-999.000,9, -999.00,9,  -999.0,9,  -999.0,-999.000,9,-999.000,-999.000,9, -999.00,9, -999.00,9, 1199.00,-999.0000,9,-999.0000,9,-999.0000,9,-999.0000,9,-999.0000,9,-999.0000,9,   4.5684,     -999.0,9,     -999.0,9,     -999.0,9,     -999.0,9,        119,-999.000,-999.000,-999.000,     -999.0,9, -999.00,9, -999.00,9
33RO200306_02,       A16N,     119,          1,         11,         11,2,20030731,       2259,     6.5007,   -26.7497,       4647,  1399.6,   4.5394,  34.9479,2,  34.9485,2,    209.4,2,   209.4,2,   19.87,2,   23.67,2,    0.00,2,    1.60,2,-999.000,9,-999.000,9,-999.000,9,  -999.0,9,  -999.0,9,   -999.0,9,  -999.00,-999.0000,9,  -999.00,-999.000,9,-999.000,9,-999.000,9, -999.00,9,  -999.0,9,  -999.0,-999.000,9,-999.000,-999.000,9, -999.00,9, -999.00,9, 1399.60,-999.0000,9,-999.0000,9,-999.0000,9,-999.0000,9,-999.0000,9,-999.0000,9,   4.4226,     -999.0,9,     -999.0,9,     -999.0,9,     -999.0,9,        119,-999.000,-999.000,-999.000,     -999.0,9, -999.00,9, -999.00,9
33RO200306_02,       A16N,     119,          1,         12,         12,4,20030731,       2259,     6.5007,   -26.7497,       4647,  1399.6,   4.5394,  34.9479,2,  34.9491,2,    209.4,2,   209.6,2,   19.85,2,   23.67,2,    0.00,2,    1.60,2,   0.109,2,   0.060,2,   0.004,2,  -999.0,9,  -999.0,9,   -999.0,9,  -999.00,-999.0000,9,  -999.00,-999.000,9,-999.000,9,-999.000,9, -999.00,9,  -999.0,9,  -999.0,-999.000,9,-999.000,-999.000,9, -999.00,9, -999.00,9, 1399.60,-999.0000,9,-999.0000,9,-999.0000,9,-999.0000,9,-999.0000,9,-999.0000,9,   4.4226,     -999.0,9,     -999.0,9,     -999.0,9,     -999.0,9,        119,-999.000,-999.000,-999.000,     -999.0,9, -999.00,9, -999.00,9
33RO200306_02,       A16N,     119,          1,         10,         10,2,20030731,       2259,     6.5007,   -26.7497,       4647,  1599.3,   4.1998,  34.9702,2,  34.9709,2,    228.3,2,   228.4,2,   18.62,2,   21.72,2,    0.00,2,    1.47,2,-999.000,9,-999.000,9,-999.000,9,  -999.0,9,  -999.0,9,   -999.0,9,  -999.00,-999.0000,9,  -999.00,-999.000,9,-999.000,9,-999.000,9, -999.00,9,  -999.0,9,  -999.0,-999.000,9,-999.000,-999.000,9, -999.00,9, -999.00,9, 1599.30,-999.0000,9,-999.0000,9,-999.0000,9,-999.0000,9,-999.0000,9,-999.0000,9,   4.0681,     -999.0,9,     -999.0,9,     -999.0,9,     -999.0,9,        119,-999.000,-999.000,-999.000,     -999.0,9, -999.00,9, -999.00,9
33RO200306_02,       A16N,     119,          1,          9,          9,2,20030731,       2259,     6.5007,   -26.7497,       4647,  1799.3,   3.7837,  34.9666,2,  34.9671,2,    237.0,2,   238.5,2,   20.26,2,   21.03,2,    0.00,2,    1.42,2,   0.036,2,   0.021,2,   0.003,2,  -999.0,9,  -999.0,9,   -999.0,9,  -999.00,-999.0000,9,  -999.00,-999.000,9,-999.000,9,-999.000,9, -999.00,9,  -999.0,9,  -999.0,-999.000,9,-999.000,-999.000,9, -999.00,9, -999.00,9, 1799.30,-999.0000,9,-999.0000,9,-999.0000,9,-999.0000,9,-999.0000,9,-999.0000,9,   3.6385,     -999.0,9,     -999.0,9,     -999.0,9,     -999.0,9,        119,-999.000,-999.000,-999.000,     -999.0,9, -999.00,9, -999.00,9
33RO200306_02,       A16N,     119,          1,          8,          8,2,20030731,       2259,     6.5007,   -26.7497,       4647,  1998.4,   3.5122,  34.9591,2,  34.9598,2,    242.5,2,   237.2,2,   22.73,2,   20.86,2,    0.00,2,    1.42,2,-999.000,9,-999.000,9,-999.000,9,  -999.0,9,  -999.0,9,   -999.0,9,  -999.00,-999.0000,9,  -999.00,-999.000,9,-999.000,9,-999.000,9, -999.00,9,  -999.0,9,  -999.0,-999.000,9,-999.000,-999.000,9, -999.00,9, -999.00,9, 1998.40,-999.0000,9,-999.0000,9,-999.0000,9,-999.0000,9,-999.0000,9,-999.0000,9,   3.3521,     -999.0,9,     -999.0,9,     -999.0,9,     -999.0,9,        119,-999.000,-999.000,-999.000,     -999.0,9, -999.00,9, -999.00,9