BOTTLE,20230908CCHSIOCBG
EXPOCODE,SECT_ID,STNNBR,CASTNO,SAMPNO,BTLNBR,BTLNBR_FLAG_W,DATE,TIME,LATITUDE,LONGITUDE,DEPTH,CTDPRS,CTDTMP,CTDSAL,CTDSAL_FLAG_W,SALNTY,SALNTY_FLAG_W,CTDOXY,CTDOXY_FLAG_W,OXYGEN,OXYGEN_FLAG_W,SILCAT,SILCAT_FLAG_W,NITRAT,NITRAT_FLAG_W,NITRIT,NITRIT_FLAG_W,PHSPHT,PHSPHT_FLAG_W,CFC-11,CFC-11_FLAG_W,CFC-12,CFC-12_FLAG_W,CFC113,CFC113_FLAG_W,TCARBN,TCARBN_FLAG_W,ALKALI,ALKALI_FLAG_W,FCO2,FCO2_FLAG_W,FCO2TMP,PH_SWS,PH_SWS_FLAG_W,PH_TMP,TRITUM,TRITUM_FLAG_W,HELIUM,HELIUM_FLAG_W,DELHE3,DELHE3_FLAG_W,DELC13,DELC13_FLAG_W,DELC14,DELC14_FLAG_W,C14ERR,NEON,NEON_FLAG_W,NEONER,POC,POC_FLAG_W,DOC,DOC_FLAG_W,TDN,TDN_FLAG_W,CTDRAW,CDOM325,CDOM325_FLAG_W,CDOM340,CDOM340_FLAG_W,CDOM380,CDOM380_FLAG_W,CDOM412,CDOM412_FLAG_W,CDOMSL,CDOMSL_FLAG_W,CDOMSN,CDOMSN_FLAG_W,THETA,PON,PON_FLAG_W,HCFC-22,HCFC-22_FLAG_W,HCFC-142b,HCFC-142b_FLAG_W,HCFC-141b,HCFC-141b_FLAG_W,STNNBR_U,HELIER,DELHER,TRITER,CH3CL,CH3CL_FLAG_W,CH3BR,CH3BR_FLAG_W,CH3I,CH3I_FLAG_W
,,,,,,,,,,,METERS,DBAR,ITS-90,PSS-78,,PSS-78,,UMOL/KG,,UMOL/KG,,UMOL/KG,,UMOL/KG,,UMOL/KG,,UMOL/KG,,PMOL/KG,,PMOL/KG,,PMOL/KG,,UMOL/KG,,UMOL/KG,,UATM,,DEG C,,,DEG C,TU,,NMOL/KG,,PERCNT,,/MILLE,,/MILLE,,/MILLE,NMOL/KG,,NMOL/KG,UG/KG,,UMOL/KG,,UMOL/KG,,DBAR,1/M,,1/M,,1/M,,1/M,,1/NM,,1/NM,,DEG C,UMOL/L,,PMOL/KG,,PMOL/KG,,PMOL/KG,,,NMOL/KG,PERCNT,TU,PMOL/KG,,PMOL/KG,,PMOL/KG,
33RO200306_01,       A16N,     057,          2,         35,         35,2,20030704,       1527,    36.9980,   -20.0007,       3797,     3.6,  22.0346,  36.3569,2,  36.3609,2,    227.7,2,   222.5,2,    0.81,2,    0.01,2,    0.00,2,    0.03,2,   2.234,2,   1.392,2,   0.206,2,  2086.4,6,  2381.5,2,    363.5,2,    20.00,   7.9871,2,    25.00,-999.000,9,   1.720,2,  -2.135,2, -999.00,9,  -999.0,9,  -999.0,   6.888,2,   0.024,-999.000,9,   66.10,2,    5.81,2,    3.60,-999.0000,9,-999.0000,9,-999.0000,9,-999.0000,9,-999.0000,9,-999.0000,9,  22.0339,     -999.0,9,     -999.0,9,     -999.0,9,     -999.0,9,         57,   0.004,   0.157,-999.000,     -999.0,9, -999.00,9, -999.00,9
33RO200306_01,       A16N,     057,          2,         33,         33,2,20030704,       1527,    36.9980,   -20.0007,       3797,    19.4,  21.0566,  36.3717,2,  36.3497,2,    229.0,2,   232.2,2,    0.87,2,    0.00,2,    0.00,2,    0.03,2,   2.504,4,   1.724,4,   0.239,4,  2088.4,2,  2380.6,2,    369.9,2,    20.00,   8.0061,2,    25.00,-999.000,9,-999.000,9,-999.000,9, -999.00,9,  -999.0,9,  -999.0,-999.000,9,-999.000,   1.793,2,   64.88,2,    5.02,2,   19.40,-999.0000,9,-999.0000,9,-999.0000,9,-999.0000,9,-999.0000,9,-999.0000,9,  21.0529,      0.168,2,     -999.0,9,     -999.0,9,     -999.0,9,         57,-999.000,-999.000,-999.000,     -999.0,9, -999.00,9, -999.00,9
33RO200306_01,       A16N,     057,          2,         32,         32,2,20030704,       1527,    36.9980,   -20.0007,       3797,    39.6,  17.5921,  36.2534,2,  36.2445,2,    254.1,2,   254.0,2,    0.88,2,    0.00,2,    0.00,2,    0.03,2,   2.726,2,   1.646,2,-999.000,5,  2083.3,2,  2375.3,2,    371.3,2,    20.00,   8.0281,2,    25.00,-999.000,9,-999.000,9,-999.000,9, -999.00,9,  -999.0,9,  -999.0,-999.000,9,-999.000,   3.077,2, -999.00,9, -999.00,9,   39.60,-999.0000,9,-999.0000,9,-999.0000,9,-999.0000,9,-999.0000,9,-999.0000,9,  17.5854,      0.266,2,     -999.0,9,     -999.0,9,     -999.0,9,         57,-999.000,-999.000,-999.000,     -999.0,9, -999.00,9, -999.00,9
33RO200306_01,       A16N,     057,          2,         31,         31,2,20030704,       1527,    36.9980,   -20.0007,       3797,    58.8,  16.4366,  36.2143,2,  36.2156,2,    247.0,2,   245.1,2,    0.92,2,    0.05,2,    0.01,2,    0.04,2,   2.741,2,   1.652,2,   0.222,2,  2094.3,2,  2371.9,2,    397.4,3,    20.00,   7.9927,2,    25.00,   1.018,2,   1.872,3,  -1.952,2, -999.00,9,  -999.0,9,  -999.0,   7.635,3,   0.026,   2.591,2,   60.73,2,    5.76,2,   58.80,-999.0000,9,-999.0000,9,-999.0000,9,-999.0000,9,-999.0000,9,-999.0000,9,  16.4271,      0.265,2,     -999.0,9,     -999.0,9,     -999.0,9,         57,   0.004,   0.155,   0.040,     -999.0,9, -999.00,9, -999.00,9
33RO200306_01,       A16N,     057,          2,         30,         30,2,20030704,       1527,    36.9980,   -20.0007,       3797,    79.2,  15.9082,  36.1685,2,  36.1626,2,    235.0,2,   228.5,2,    1.27,2,    2.40,2,    0.10,2,    0.17,2,   2.770,2,   1.658,2,   0.207,2,  2110.1,2,  2366.4,2,    430.1,2,    20.00,   7.9278,2,    25.00,-999.000,9,-999.000,9,-999.000,9, -999.00,9,  -999.0,9,  -999.0,-999.000,9,-999.000,   1.648,2, -999.00,9, -999.00,9,   79.20,-999.0000,9,-999.0000,9,-999.0000,9,-999.0000,9,-999.0000,9,-999.0000,9,  15.8956,      0.253,2,     -999.0,9,     -999.0,9,     -999.0,9,         57,-999.000,-999.000,-999.000,     -999.0,9, -999.00,9, -999.00,9
33RO200306_01,       A16N,     057,          2,         29,         29,2,20030704,       1527,    36.9980,   -20.0007,       3797,    99.6,  15.5588,  36.1345,2,  36.1297,2,    224.5,2,   223.3,2,    1.49,2,    4.04,2,    0.02,2,    0.25,2,   2.774,2,   1.661,2,   0.181,2,  2114.0,2,  2363.6,2,    450.7,3,    20.00,   7.9417,2,    25.00,   1.296,2,-999.000,9,-999.000,9, -999.00,9,  -999.0,9,  -999.0,-999.000,9,-999.000,   1.008,2,   58.29,2,    8.42,2,   99.60,-999.0000,9,-999.0000,9,-999.0000,9,-999.0000,9,-999.0000,9,-999.0000,9,  15.5432,      0.099,2,     -999.0,9,     -999.0,9,     -999.0,9,         57,-999.000,-999.000,   0.020,     -999.0,9, -999.00,9, -999.00,9
33RO200306_01,       A16N,     057,          2,         28,         28,2,20030704,       1527,    36.9980,   -20.0007,       3797,   123.9,  15.0692,  36.0710,2,  36.0710,2,    217.1,2,   224.0,2,    1.68,2,    4.91,2,    0.01,2,    0.30,2,   2.758,2,   1.627,2,   0.163,2,  2112.5,2,  2360.8,2,   -999.0,9,  -999.00,   7.9271,2,    25.00,-999.000,9,-999.000,9,-999.000,9, -999.00,9,  -999.0,9,  -999.0,-999.000,9,-999.000,-999.000,9, -999.00,9, -999.00,9,  123.90,-999.0000,9,-999.0000,9,-999.0000,9,-999.0000,9,-999.0000,9,-999.0000,9,  15.0503,     -999.0,9,     -999.0,9,     -999.0,9,     -999.0,9,         57,-999.000,-999.000,-999.000,     -999.0,9, -999.00,9, -999.00,9
33RO200306_01,       A16N,     057,          2,         27,         27,2,20030704,       1527,    36.9980,   -20.0007,       3797,   149.1,  14.7789,  36.0234,2,  36.0267,2,    218.8,2,   219.1,2,    2.08,2,    6.17,2,    0.01,2,    0.37,2,   2.831,2,   1.675,2,   0.130,2,  2122.4,2,  2359.8,2,    475.1,2,    20.00,   7.9203,2,    25.00,   1.294,2,-999.000,9,-999.000,9, -999.00,9,  -999.0,9,  -999.0,-999.000,9,-999.000,   0.444,2,   53.25,2,   10.19,2,  149.10,-999.0000,9,-999.0000,9,-999.0000,9,-999.0000,9,-999.0000,9,-999.0000,9,  14.7564,      0.032,2,     -999.0,9,     -999.0,9,     -999.0,9,         57,-999.000,-999.000,   0.020,     -999.0,9, -999.00,9, -999.00,9
33RO200306_01,       A16N,     057,          2,         26,         26,2,20030704,       1527,    36.9980,   -20.0007,       3797,   174.7,  14.4286,  35.9682,2,  35.9665,2,    216.7,2,   217.9,2,    2.42,2,    7.22,2,    0.01,2,    0.43,2,   2.813,2,   1.649,2,   0.112,2,  2127.8,2,  2354.5,2,   -999.0,9,  -999.00,   7.8794,2,    25.00,-999.000,9,-999.000,9,-999.000,9, -999.00,9,  -999.0,9,  -999.0,-999.000,9,-999.000,-999.000,9,   50.98,2,   13.32,2,  174.70,-999.0000,9,-999.0000,9,-999.0000,9,-999.0000,9,-999.0000,9,-999.0000,9,  14.4026,     -999.0,9,     -999.0,9,     -999.0,9,     -999.0,9,         57,-999.000,-999.000,-999.000,     -999.0,9, -999.00,9, -999.00,9
33RO200306_01,       A16N,     057,          2,         25,         25,2,20030704,       1527,    36.9980,   -20.0007,       3797,   199.9,  14.1280,  35.9179,2,  35.9191,2,    215.1,2,   214.2,2,    2.77,2,    8.11,2,    0.01,2,    0.48,2,   2.833,2,   1.652,2,   0.097,2,  2130.5,2,  2351.7,2,    510.0,3,    20.00,   7.8822,2,    25.00,   1.071,2,-999.000,9,-999.000,9, -999.00,9,  -999.0,9,  -999.0,-999.000,9,-999.000,-999.000,9,   49.27,2,   12.10,2,  199.90,-999.0000,9,-999.0000,9,-999.0000,9,-999.0000,9,-999.0000,9,-999.0000,9,  14.0987,     -999.0,9,     -999.0,9,     -999.0,9,     -999.0,9,         57,-999.000,-999.000,   0.020,     -999.0,9, -999.00,9, -999.00,9
33RO200306_01,       A16N,     057,          2,         24,         24,2,20030704,       1527,    36.9980,   -20.0007,       3797,   249.6,  13.4872,  35.8168,2,  35.8166,2,    209.5,2,   209.8,2,    3.46,2,    9.81,2,    0.01,2,    0.58,2,   2.796,2,   1.606,2,   0.080,2,  2133.0,2,  2346.1,2,   -999.0,9,  -999.00,   7.8541,2,    25.00,-999.000,9,-999.000,9,-999.000,9, -999.00,9,  -999.0,9,  -999.0,-999.000,9,-999.000,   0.862,2,   49.43,2,   14.05,2,  249.60,-999.0000,9,-999.0000,9,-999.0000,9,-999.0000,9,-999.0000,9,-999.0000,9,  13.4517,      0.065,2,     -999.0,9,     -999.0,9,     -999.0,9,         57,-999.000,-999.000,-999.000,     -999.0,9, -999.00,9, -999.00,9
33RO200306_01,       A16N,     057,          2,         23,         23,2,20030704,       1527,    36.9980,   -20.0007,       3797,   299.8,  13.0379,  35.7496,2,  35.7414,2,    205.1,2,   204.8,2,    4.15,2,   11.28,2,    0.00,2,    0.67,2,   2.774,2,   1.577,2,   0.074,2,  2138.3,2,  2343.7,2,    567.4,3,    20.00,   7.8437,2,    25.00,   0.953,2,   1.775,2,   1.337,2, -999.00,9,  -999.0,9,  -999.0,   7.366,2,   0.025,-999.000,9,   47.73,2,   15.96,2,  299.80,-999.0000,9,-999.0000,9,-999.0000,9,-999.0000,9,-999.0000,9,-999.0000,9,  12.9961,     -999.0,9,     -999.0,9,     -999.0,9,     -999.0,9,         57,   0.004,   0.156,   0.020,     -999.0,9, -999.00,9, -999.00,9
33RO200306_01,       A16N,     057,          2,         22,         22,2,20030704,       1527,    36.9980,   -20.0007,       3797,   349.7,  12.5714,  35.6898,2,  35.6893,2,    202.4,2,   211.0,2,    4.29,2,   11.76,2,    0.00,2,    0.70,2,   2.856,2,   1.614,2,   0.078,2,  2141.7,2,  2339.1,2,   -999.0,9,  -999.00,   7.8435,2,    25.00,-999.000,9,-999.000,9,-999.000,9, -999.00,9,  -999.0,9,  -999.0,-999.000,9,-999.000,-999.000,9,   46.75,2,   16.10,2,  349.70,-999.0000,9,-999.0000,9,-999.0000,9,-999.0000,9,-999.0000,9,-999.0000,9,  12.5238,     -999.0,9,     -999.0,9,     -999.0,9,     -999.0,9,         57,-999.000,-999.000,-999.000,     -999.0,9, -999.00,9, -999.00,9
33RO200306_01,       A16N,     057,          2,         21,         21,2,20030704,       1527,    36.9980,   -20.0007,       3797,   398.7,  12.2490,  35.6515,2,  35.6494,2,    202.8,2,   204.2,2,    4.66,2,   12.58,2,    0.00,2,    0.75,2,   2.837,2,   1.587,2,   0.075,2,  2146.4,2,  2337.0,2,    597.1,6,    20.00,   7.8090,2,    25.00,   0.998,2,   1.854,3,   1.139,2, -999.00,9,  -999.0,9,  -999.0,   7.612,2,   0.027,-999.000,9,   46.59,2,   18.02,2,  398.70,-999.0000,9,-999.0000,9,-999.0000,9,-999.0000,9,-999.0000,9,-999.0000,9,  12.1955,     -999.0,9,     -999.0,9,     -999.0,9,     -999.0,9,         57,   0.002,   0.242,   0.040,     -999.0,9, -999.00,9, -999.00,9
33RO200306_01,       A16N,     057,          2,         20,         20,2,20030704,       1527,    36.9980,   -20.0007,       3797,   449.5,  11.9029,  35.6120,2,  35.6095,2,    209.1,2,   207.1,2,    4.64,2,   12.72,2,    0.00,2,    0.76,2,   2.970,2,   1.658,2,   0.086,2,  2143.0,3,  2337.4,2,   -999.0,9,  -999.00,   7.7977,2,    25.00,-999.000,9,-999.000,9,-999.000,9, -999.00,9,  -999.0,9,  -999.0,-999.000,9,-999.000,-999.000,9, -999.00,9, -999.00,9,  449.50,-999.0000,9,-999.0000,9,-999.0000,9,-999.0000,9,-999.0000,9,-999.0000,9,  11.8436,     -999.0,9,     -999.0,9,     -999.0,9,     -999.0,9,         57,-999.000,-999.000,-999.000,     -999.0,9, -999.00,9, -999.00,9
33RO200306_01,       A16N,     057,          2,         19,         19,2,20030704,       1527,    36.9980,   -20.0007,       3797,   499.7,  11.5779,  35.5878,2,  35.5872,2,    198.9,2,   199.4,2,    5.36,2,   14.03,2,    0.00,2,    0.84,2,   2.760,2,   1.500,2,   0.072,2,  2151.0,2,  2334.7,2,    638.1,3,    20.00,   7.8005,2,    25.00,   1.326,2,   1.774,2,   2.864,2, -999.00,9,  -999.0,9,  -999.0,   7.444,2,   0.023,   0.886,2,   46.02,2,   17.90,2,  499.70,-999.0000,9,-999.0000,9,-999.0000,9,-999.0000,9,-999.0000,9,-999.0000,9,  11.5130,      0.037,2,     -999.0,9,     -999.0,9,     -999.0,9,         57,   0.009,   0.202,   0.020,     -999.0,9, -999.00,9, -999.00,9
33RO200306_01,       A16N,     057,          2,         18,         18,2,20030704,       1527,    36.9980,   -20.0007,       3797,   600.5,  10.9956,  35.5574,2,  35.5578,2,    192.6,2,   191.7,2,    6.74,2,   15.72,2,    0.00,2,    0.95,2,   2.472,2,   1.327,2,   0.064,2,  2160.0,2,  2336.8,2,    670.1,2,    20.00,   7.7816,2,    25.00,   1.074,2,   1.775,2,   4.586,2, -999.00,9,  -999.0,9,  -999.0,   7.396,2,   0.026,-999.000,9,   45.93,2,   19.85,2,  600.50,-999.0000,9,-999.0000,9,-999.0000,9,-999.0000,9,-999.0000,9,-999.0000,9,  10.9197,     -999.0,9,     -999.0,9,     -999.0,9,     -999.0,9,         57,   0.003,   0.243,   0.030,     -999.0,9, -999.00,9, -999.00,9
33RO200306_01,       A16N,     057,          2,         17,         17,2,20030704,       1527,    36.9980,   -20.0007,       3797,   700.0,  11.0578,  35.7177,2,  35.7207,2,    187.2,2,   184.2,2,    7.58,2,   16.00,2,    0.00,2,    0.96,2,-999.000,9,-999.000,9,-999.000,9,  2172.3,2,  2348.5,2,    670.9,3,    20.00,   7.7788,2,    25.00,   1.240,2,   1.772,2,   6.387,2, -999.00,9,  -999.0,9,  -999.0,   7.508,2,   0.017,-999.000,9,   45.69,2,   20.98,2,  700.00,-999.0000,9,-999.0000,9,-999.0000,9,-999.0000,9,-999.0000,9,-999.0000,9,  10.9685,     -999.0,9,     -999.0,9,     -999.0,9,     -999.0,9,         57,   0.005,   0.178,   0.030,     -999.0,9, -999.00,9, -999.00,9
33RO200306_01,       A16N,     057,          2,         16,         16,2,20030704,       1527,    36.9980,   -20.0007,       3797,   799.6,  10.0769,  35.6233,2,  35.6287,2,    180.7,2,   180.2,2,    9.46,2,   17.82,2,    0.00,2,    1.08,2,   1.568,6,   0.815,6,   0.033,6,  2177.9,2,  2345.6,2,    701.1,2,    20.00,   7.7528,2,    25.00,   0.863,2,   1.837,2,   7.015,2, -999.00,9,  -999.0,9,  -999.0,   7.521,2,   0.026,-999.000,9,   42.76,2,   21.35,2,  799.60,-999.0000,9,-999.0000,9,-999.0000,9,-999.0000,9,-999.0000,9,-999.0000,9,   9.9801,     -999.0,9,     -999.0,9,     -999.0,9,     -999.0,9,         57,   0.015,   0.154,   0.020,     -999.0,9, -999.00,9, -999.00,9
33RO200306_01,       A16N,     057,          2,         15,         15,2,20030704,       1527,    36.9980,   -20.0007,       3797,   898.9,  10.0851,  35.7576,2,  35.7568,2,    180.2,2,   179.2,2,    9.90,2,   17.64,2,    0.00,2,    1.07,2,   1.404,2,   0.736,2,   0.027,2,  2186.2,2,  2356.7,2,    695.3,2,    20.00,   7.7764,2,    25.00,   0.804,2,   1.793,2,   7.200,2, -999.00,9,  -999.0,9,  -999.0,   7.519,2,   0.026,-999.000,9,   43.09,2,   21.43,2,  898.90,-999.0000,9,-999.0000,9,-999.0000,9,-999.0000,9,-999.0000,9,-999.0000,9,   9.9756,     -999.0,9,     -999.0,9,     -999.0,9,     -999.0,9,         57,   0.004,   0.154,   0.020,     -999.0,9, -999.00,9, -999.00,9
33RO200306_01,       A16N,     057,          2,         14,         14,2,20030704,       1527,    36.9980,   -20.0007,       3797,   999.7,   9.7675,  35.7882,2,  35.7904,2,    183.0,2,   181.4,2,   10.43,2,   17.67,2,    0.00,2,    1.08,2,   1.269,2,   0.663,2,   0.024,2,  2189.8,2,  2361.4,2,    694.8,2,    20.00,   7.7762,2,    25.00,   0.777,2,   1.809,2,   7.661,2, -999.00,9,  -999.0,9,  -999.0,   7.600,2,   0.026,-999.000,9,   42.93,2,   22.98,2,  999.70,-999.0000,9,-999.0000,9,-999.0000,9,-999.0000,9,-999.0000,9,-999.0000,9,   9.6473,     -999.0,9,     -999.0,9,     -999.0,9,     -999.0,9,         57,   0.004,   0.154,   0.020,     -999.0,9, -999.00,9, -999.00,9
33RO200306_01,       A16N,     057,          2,         13,         13,2,20030704,       1527,    36.9980,   -20.0007,       3797,  1099.5,   9.5357,  35.8395,2,  35.8416,2,    185.5,2,   184.9,2,   10.82,2,   17.49,2,    0.00,2,    1.07,2,   1.140,2,   0.596,2,   0.021,2,  2196.5,2,  2365.6,2,    692.9,2,    20.00,   7.7626,2,    25.00,   0.740,2,   1.805,2,   7.204,2, -999.00,9,  -999.0,9,  -999.0,   7.551,2,   0.023,-999.000,9, -999.00,9, -999.00,9, 1099.50,-999.0000,9,-999.0000,9,-999.0000,9,-999.0000,9,-999.0000,9,-999.0000,9,   9.4046,     -999.0,9,     -999.0,9,     -999.0,9,     -999.0,9,         57,   0.008,   0.202,   0.020,     -999.0,9, -999.00,9, -999.00,9
33RO200306_01,       A16N,     057,          2,         12,         12,2,20030704,       1527,    36.9980,   -20.0007,       3797,  1198.7,   9.0123,  35.8004,2,  35.8032,2,    192.9,2,   192.8,2,   10.99,2,   17.29,2,    0.00,2,    1.06,2,   1.149,6,   0.599,6,   0.026,6,  2197.3,2,  2364.4,2,    692.5,2,    20.00,   7.7659,2,    25.00,   0.734,2,   1.799,2,   8.072,2, -999.00,9,  -999.0,9,  -999.0,   7.608,2,   0.026,-999.000,9,   42.03,2,   20.63,2, 1198.70,-999.0000,9,-999.0000,9,-999.0000,9,-999.0000,9,-999.0000,9,-999.0000,9,   8.8732,     -999.0,9,     -999.0,9,     -999.0,9,     -999.0,9,         57,   0.004,   0.154,   0.020,     -999.0,9, -999.00,9, -999.00,9
33RO200306_01,       A16N,     057,          2,         11,         11,2,20030704,       1527,    36.9980,   -20.0007,       3797,  1299.3,   7.9232,  35.6275,2,  35.6219,2,    204.9,2,   208.7,2,   11.45,2,   17.56,2,    0.00,2,    1.09,2,   1.186,2,   0.606,2,   0.032,2,  2189.4,2,  2351.3,2,   -999.0,9,  -999.00,   7.7600,2,    25.00,   0.893,2,   1.814,2,   8.757,2, -999.00,9,  -999.0,9,  -999.0,   7.662,2,   0.025,-999.000,9,   41.71,2,   21.40,2, 1299.30,-999.0000,9,-999.0000,9,-999.0000,9,-999.0000,9,-999.0000,9,-999.0000,9,   7.7821,     -999.0,9,     -999.0,9,     -999.0,9,     -999.0,9,         57,   0.004,   0.154,   0.010,     -999.0,9, -999.00,9, -999.00,9
33RO200306_01,       A16N,     057,          2,         10,         10,2,20030704,       1527,    36.9980,   -20.0007,       3797,  1399.5,   6.9294,  35.4741,2,  35.4771,2,    213.7,2,   217.8,2,   11.89,2,   17.74,2,    0.00,2,    1.11,2,   1.185,2,   0.602,2,   0.034,2,  2183.5,2,  2342.5,2,   -999.0,9,  -999.00,   7.7340,2,    25.00,   0.688,2,   1.808,2,   8.873,2, -999.00,9,  -999.0,9,  -999.0,   7.745,2,   0.026,-999.000,9,   42.52,2,   21.69,2, 1399.50,-999.0000,9,-999.0000,9,-999.0000,9,-999.0000,9,-999.0000,9,-999.0000,9,   6.7868,     -999.0,9,     -999.0,9,     -999.0,9,     -999.0,9,         57,   0.004,   0.153,   0.020,     -999.0,9, -999.00,9, -999.00,9
33RO200306_01,       A16N,     057,          2,          9,          9,2,20030704,       1527,    36.9980,   -20.0007,       3797,  1499.7,   6.1376,  35.3527,2,  35.3397,3,    224.5,2,   229.4,2,   12.27,2,   17.88,2,    0.00,2,    1.12,2,   1.205,2,   0.605,2,   0.037,2,  2177.6,2,  2333.5,2,    730.4,2,    20.00,   7.7283,2,    25.00,   0.802,2,-999.000,9,-999.000,9, -999.00,9,  -999.0,9,  -999.0,-999.000,9,-999.000,-999.000,9,   41.63,2,   23.30,2, 1499.70,-999.0000,9,-999.0000,9,-999.0000,9,-999.0000,9,-999.0000,9,-999.0000,9,   5.9927,     -999.0,9,     -999.0,9,     -999.0,9,     -999.0,9,         57,-999.000,-999.000,   0.010,     -999.0,9, -999.00,9, -999.00,9
33RO200306_01,       A16N,     057,          2,          8,          8,2,20030704,       1527,    36.9980,   -20.0007,       3797,  1699.2,   5.0990,  35.1956,2,  35.1838,3,    240.8,2,   243.2,2,   13.05,2,   17.96,2,    0.00,2,    1.14,2,   1.112,2,   0.558,2,   0.038,2,  2172.2,2,  2322.7,2,    734.3,2,    20.00,   7.7394,2,    25.00,-999.000,9,-999.000,9,-999.000,9, -999.00,9,  -999.0,9,  -999.0,-999.000,9,-999.000,-999.000,9,   42.85,2,   21.47,2, 1699.20,-999.0000,9,-999.0000,9,-999.0000,9,-999.0000,9,-999.0000,9,-999.0000,9,   4.9459,     -999.0,9,     -999.0,9,     -999.0,9,     -999.0,9,         57,-999.000,-999.000,-999.000,     -999.0,9, -999.00,9, -999.00,9