BOTTLE,20230908CCHSIOCBG
EXPOCODE,SECT_ID,STNNBR,CASTNO,SAMPNO,BTLNBR,BTLNBR_FLAG_W,DATE,TIME,LATITUDE,LONGITUDE,DEPTH,CTDPRS,CTDTMP,CTDSAL,CTDSAL_FLAG_W,SALNTY,SALNTY_FLAG_W,CTDOXY,CTDOXY_FLAG_W,OXYGEN,OXYGEN_FLAG_W,SILCAT,SILCAT_FLAG_W,NITRAT,NITRAT_FLAG_W,NITRIT,NITRIT_FLAG_W,PHSPHT,PHSPHT_FLAG_W,CFC-11,CFC-11_FLAG_W,CFC-12,CFC-12_FLAG_W,CFC113,CFC113_FLAG_W,TCARBN,TCARBN_FLAG_W,ALKALI,ALKALI_FLAG_W,FCO2,FCO2_FLAG_W,FCO2TMP,PH_SWS,PH_SWS_FLAG_W,PH_TMP,TRITUM,TRITUM_FLAG_W,HELIUM,HELIUM_FLAG_W,DELHE3,DELHE3_FLAG_W,DELC13,DELC13_FLAG_W,DELC14,DELC14_FLAG_W,C14ERR,NEON,NEON_FLAG_W,NEONER,POC,POC_FLAG_W,DOC,DOC_FLAG_W,TDN,TDN_FLAG_W,CTDRAW,CDOM325,CDOM325_FLAG_W,CDOM340,CDOM340_FLAG_W,CDOM380,CDOM380_FLAG_W,CDOM412,CDOM412_FLAG_W,CDOMSL,CDOMSL_FLAG_W,CDOMSN,CDOMSN_FLAG_W,THETA,PON,PON_FLAG_W,HCFC-22,HCFC-22_FLAG_W,HCFC-142b,HCFC-142b_FLAG_W,HCFC-141b,HCFC-141b_FLAG_W,STNNBR_U,HELIER,DELHER,TRITER,CH3CL,CH3CL_FLAG_W,CH3BR,CH3BR_FLAG_W,CH3I,CH3I_FLAG_W
,,,,,,,,,,,METERS,DBAR,ITS-90,PSS-78,,PSS-78,,UMOL/KG,,UMOL/KG,,UMOL/KG,,UMOL/KG,,UMOL/KG,,UMOL/KG,,PMOL/KG,,PMOL/KG,,PMOL/KG,,UMOL/KG,,UMOL/KG,,UATM,,DEG C,,,DEG C,TU,,NMOL/KG,,PERCNT,,/MILLE,,/MILLE,,/MILLE,NMOL/KG,,NMOL/KG,UG/KG,,UMOL/KG,,UMOL/KG,,DBAR,1/M,,1/M,,1/M,,1/M,,1/NM,,1/NM,,DEG C,UMOL/L,,PMOL/KG,,PMOL/KG,,PMOL/KG,,,NMOL/KG,PERCNT,TU,PMOL/KG,,PMOL/KG,,PMOL/KG,
33RO200306_01,       A16N,     017,          1,         21,         21,2,20030623,       0708,    56.9997,   -19.9995,        972,     2.1,  11.7553,  35.3720,2,  35.3730,2,    266.8,2,   269.5,2,    0.36,2,    3.74,2,    0.11,2,    0.27,2,   3.452,2,   1.893,2,   0.286,2,  2082.7,6,  2330.0,2,    439.1,2,    20.00,   7.9375,2,    25.00,-999.000,9,-999.000,9,-999.000,9,    1.30,2,    65.0,2,     3.7,-999.000,9,-999.000,   6.353,2,   55.93,2,    9.28,2,    2.10,-999.0000,9,-999.0000,9,-999.0000,9,-999.0000,9,-999.0000,9,-999.0000,9,  11.7550,      1.014,2,     -999.0,9,     -999.0,9,     -999.0,9,         17,-999.000,-999.000,-999.000,     -999.0,9, -999.00,9, -999.00,9
33RO200306_01,       A16N,     017,          1,         20,         20,2,20030623,       0708,    56.9997,   -19.9995,        972,    19.1,  11.7466,  35.3718,2,  35.3736,2,    267.4,2,   269.8,2,    0.35,2,    3.84,2,    0.11,2,    0.29,2,   3.444,6,   1.892,6,   0.286,6,  2085.0,2,  2327.9,2,    438.2,2,    20.00,   7.9384,2,    25.00,-999.000,9,-999.000,9,-999.000,9, -999.00,9,  -999.0,9,  -999.0,-999.000,9,-999.000,   7.180,2,   55.44,2,    9.40,2,   19.10,-999.0000,9,-999.0000,9,-999.0000,9,-999.0000,9,-999.0000,9,-999.0000,9,  11.7442,      1.163,2,     -999.0,9,     -999.0,9,     -999.0,9,         17,-999.000,-999.000,-999.000,     -999.0,9, -999.00,9, -999.00,9
33RO200306_01,       A16N,     017,          1,         19,         19,2,20030623,       0708,    56.9997,   -19.9995,        972,    39.4,  11.3902,  35.3732,2,  35.3805,2,    267.0,2,   265.9,2,    0.62,2,    4.96,2,    0.16,2,    0.38,2,   3.489,2,   1.925,2,   0.287,2,  2096.7,2,  2334.6,2,    472.1,3,    20.00,   7.9228,2,    25.00,-999.000,9,-999.000,9,-999.000,9, -999.00,9,  -999.0,9,  -999.0,-999.000,9,-999.000,   6.434,2, -999.00,9, -999.00,9,   39.40,-999.0000,9,-999.0000,9,-999.0000,9,-999.0000,9,-999.0000,9,-999.0000,9,  11.3852,      0.916,2,     -999.0,9,     -999.0,9,     -999.0,9,         17,-999.000,-999.000,-999.000,     -999.0,9, -999.00,9, -999.00,9
33RO200306_01,       A16N,     017,          1,         18,         18,2,20030623,       0708,    56.9997,   -19.9995,        972,    60.2,  10.8571,  35.4520,2,  35.4613,2,    258.2,2,   253.9,2,    2.39,2,    9.27,2,    0.37,2,    0.62,2,-999.000,9,-999.000,9,-999.000,9,  2127.1,2,  2333.6,2,    551.0,2,    20.00,   7.8486,2,    25.00,-999.000,9,-999.000,9,-999.000,9, -999.00,9,  -999.0,9,  -999.0,-999.000,9,-999.000,   5.950,2,   51.71,2,   13.21,2,   60.20,-999.0000,9,-999.0000,9,-999.0000,9,-999.0000,9,-999.0000,9,-999.0000,9,  10.8497,      0.810,2,     -999.0,9,     -999.0,9,     -999.0,9,         17,-999.000,-999.000,-999.000,     -999.0,9, -999.00,9, -999.00,9
33RO200306_01,       A16N,     017,          1,         17,         17,2,20030623,       0708,    56.9997,   -19.9995,        972,    79.7,  10.5087,  35.4103,2,  35.4101,2,    252.8,2,   253.8,2,    3.36,2,   10.53,2,    0.08,2,    0.66,2,   3.436,2,   1.878,2,   0.264,2,  2130.4,2,  2329.8,2,    574.0,2,    20.00,   7.8382,2,    25.00,-999.000,9,-999.000,9,-999.000,9, -999.00,9,  -999.0,9,  -999.0,-999.000,9,-999.000,   2.291,2, -999.00,9, -999.00,9,   79.70,-999.0000,9,-999.0000,9,-999.0000,9,-999.0000,9,-999.0000,9,-999.0000,9,  10.4992,      0.337,2,     -999.0,9,     -999.0,9,     -999.0,9,         17,-999.000,-999.000,-999.000,     -999.0,9, -999.00,9, -999.00,9
33RO200306_01,       A16N,     017,          1,         16,         16,2,20030623,       0708,    56.9997,   -19.9995,        972,    99.9,  10.4253,  35.4069,2,  35.4082,2,    252.1,2,   253.3,2,    3.82,2,   10.85,2,    0.04,2,    0.68,2,-999.000,9,-999.000,9,-999.000,9,  2131.6,2,  2329.6,2,    573.5,2,    20.00,   7.8374,2,    25.00,-999.000,9,-999.000,9,-999.000,9, -999.00,9,  -999.0,9,  -999.0,-999.000,9,-999.000,   2.018,2,   51.63,2,   14.94,2,   99.90,-999.0000,9,-999.0000,9,-999.0000,9,-999.0000,9,-999.0000,9,-999.0000,9,  10.4134,      0.418,2,     -999.0,9,     -999.0,9,     -999.0,9,         17,-999.000,-999.000,-999.000,     -999.0,9, -999.00,9, -999.00,9
33RO200306_01,       A16N,     017,          1,         15,         15,2,20030623,       0708,    56.9997,   -19.9995,        972,   124.8,  10.2437,  35.3900,2,  35.3895,2,    253.1,2,   253.5,2,    3.81,2,   11.03,2,    0.08,2,    0.69,2,   3.461,2,   1.880,2,   0.266,2,  2132.6,2,  2330.8,2,   -999.0,9,  -999.00,   7.8264,2,    25.00,-999.000,9,-999.000,9,-999.000,9, -999.00,9,  -999.0,9,  -999.0,-999.000,9,-999.000,-999.000,9, -999.00,9, -999.00,9,  124.80,-999.0000,9,-999.0000,9,-999.0000,9,-999.0000,9,-999.0000,9,-999.0000,9,  10.2290,     -999.0,9,     -999.0,9,     -999.0,9,     -999.0,9,         17,-999.000,-999.000,-999.000,     -999.0,9, -999.00,9, -999.00,9
33RO200306_01,       A16N,     017,          1,         14,         14,2,20030623,       0708,    56.9997,   -19.9995,        972,   149.3,  10.1530,  35.3817,2,  35.3831,2,    255.4,2,   256.2,2,    3.87,2,   11.00,2,    0.08,2,    0.69,2,-999.000,9,-999.000,9,-999.000,9,  2133.0,2,  2334.2,2,    584.4,2,    20.00,   7.8216,2,    25.00,-999.000,9,-999.000,9,-999.000,9, -999.00,9,  -999.0,9,  -999.0,-999.000,9,-999.000,   2.166,2,   51.22,2,   14.92,2,  149.30,-999.0000,9,-999.0000,9,-999.0000,9,-999.0000,9,-999.0000,9,-999.0000,9,  10.1355,      0.289,2,     -999.0,9,     -999.0,9,     -999.0,9,         17,-999.000,-999.000,-999.000,     -999.0,9, -999.00,9, -999.00,9
33RO200306_01,       A16N,     017,          1,         13,         13,2,20030623,       0708,    56.9997,   -19.9995,        972,   174.2,  10.1367,  35.3867,2,  35.3871,2,    258.8,2,   259.7,2,    3.51,2,   10.77,2,    0.10,2,    0.67,2,   3.492,2,   1.898,2,   0.272,2,  2130.0,2,  2340.4,2,   -999.0,9,  -999.00,   7.8365,2,    25.00,-999.000,9,-999.000,9,-999.000,9, -999.00,9,  -999.0,9,  -999.0,-999.000,9,-999.000,-999.000,9, -999.00,9, -999.00,9,  174.20,-999.0000,9,-999.0000,9,-999.0000,9,-999.0000,9,-999.0000,9,-999.0000,9,  10.1162,     -999.0,9,     -999.0,9,     -999.0,9,     -999.0,9,         17,-999.000,-999.000,-999.000,     -999.0,9, -999.00,9, -999.00,9
33RO200306_01,       A16N,     017,          1,         12,         12,2,20030623,       0708,    56.9997,   -19.9995,        972,   199.8,  10.1029,  35.3854,2,  35.3859,2,    260.4,2,   259.7,2,    3.80,2,   10.97,2,    0.03,2,    0.68,2,-999.000,9,-999.000,9,-999.000,9,  2129.9,2,  2330.1,2,    574.7,2,    20.00,   7.8347,2,    25.00,-999.000,9,-999.000,9,-999.000,9, -999.00,9,  -999.0,9,  -999.0,-999.000,9,-999.000,-999.000,9,   50.32,2,   14.50,2,  199.80,-999.0000,9,-999.0000,9,-999.0000,9,-999.0000,9,-999.0000,9,-999.0000,9,  10.0794,     -999.0,9,     -999.0,9,     -999.0,9,     -999.0,9,         17,-999.000,-999.000,-999.000,     -999.0,9, -999.00,9, -999.00,9
33RO200306_01,       A16N,     017,          1,         11,         11,2,20030623,       0708,    56.9997,   -19.9995,        972,   250.7,  10.1397,  35.4043,2,  35.4052,2,    260.5,2,   260.0,2,    3.79,2,   10.94,2,    0.02,2,    0.68,2,   3.482,2,   1.903,2,   0.267,2,  2131.8,2,  2328.9,2,    580.1,2,    20.00,   7.8350,2,    25.00,-999.000,9,-999.000,9,-999.000,9, -999.00,9,  -999.0,9,  -999.0,-999.000,9,-999.000,   1.789,2,   49.83,2,   14.58,2,  250.70,-999.0000,9,-999.0000,9,-999.0000,9,-999.0000,9,-999.0000,9,-999.0000,9,  10.1101,      0.233,2,     -999.0,9,     -999.0,9,     -999.0,9,         17,-999.000,-999.000,-999.000,     -999.0,9, -999.00,9, -999.00,9
33RO200306_01,       A16N,     017,          1,         10,         10,2,20030623,       0708,    56.9997,   -19.9995,        972,   299.1,  10.0533,  35.3950,2,  35.3939,2,    258.0,2,   257.5,2,    4.47,2,   11.41,2,    0.01,2,    0.72,2,   3.440,2,   1.873,2,   0.257,2,  2133.9,2,  2328.8,2,    584.5,2,    20.00,   7.8158,2,    25.00,-999.000,9,-999.000,9,-999.000,9, -999.00,9,  -999.0,9,  -999.0,-999.000,9,-999.000,-999.000,9,   49.02,2,   14.78,2,  299.10,-999.0000,9,-999.0000,9,-999.0000,9,-999.0000,9,-999.0000,9,-999.0000,9,  10.0181,     -999.0,9,     -999.0,9,     -999.0,9,     -999.0,9,         17,-999.000,-999.000,-999.000,     -999.0,9, -999.00,9, -999.00,9
33RO200306_01,       A16N,     017,          1,          9,          9,2,20030623,       0708,    56.9997,   -19.9995,        972,   348.2,   9.8975,  35.3771,2,  35.3748,2,    255.8,2,   256.7,2,    4.87,2,   11.80,2,    0.01,2,    0.74,2,   3.437,2,   1.863,2,   0.258,2,  2134.6,2,  2327.8,2,    595.1,2,    20.00,   7.8183,2,    25.00,-999.000,9,-999.000,9,-999.000,9, -999.00,9,  -999.0,9,  -999.0,-999.000,9,-999.000,-999.000,9,   49.35,2,   15.52,2,  348.20,-999.0000,9,-999.0000,9,-999.0000,9,-999.0000,9,-999.0000,9,-999.0000,9,   9.8569,     -999.0,9,     -999.0,9,     -999.0,9,     -999.0,9,         17,-999.000,-999.000,-999.000,     -999.0,9, -999.00,9, -999.00,9
33RO200306_01,       A16N,     017,          1,          8,          8,2,20030623,       0708,    56.9997,   -19.9995,        972,   400.5,   9.8286,  35.3756,2,  35.3764,2,    257.8,2,   259.5,2,    4.86,2,   11.82,2,    0.01,2,    0.74,2,   3.466,2,   1.887,2,   0.261,2,  2137.2,2,  2324.2,2,   -999.0,9,  -999.00,   7.8232,2,    25.00,-999.000,9,-999.000,9,-999.000,9, -999.00,9,  -999.0,9,  -999.0,-999.000,9,-999.000,-999.000,9,   49.43,2,   15.61,2,  400.50,-999.0000,9,-999.0000,9,-999.0000,9,-999.0000,9,-999.0000,9,-999.0000,9,   9.7819,     -999.0,9,     -999.0,9,     -999.0,9,     -999.0,9,         17,-999.000,-999.000,-999.000,     -999.0,9, -999.00,9, -999.00,9
33RO200306_01,       A16N,     017,          1,          7,          7,2,20030623,       0708,    56.9997,   -19.9995,        972,   450.1,   9.7388,  35.3683,2,  35.3703,2,    254.3,2,   269.3,4,    5.09,2,   12.14,2,    0.01,2,    0.77,2,   3.442,2,   1.864,2,   0.256,2,  2139.9,2,  2323.0,2,   -999.0,9,  -999.00,   7.8180,2,    25.00,-999.000,9,-999.000,9,-999.000,9, -999.00,9,  -999.0,9,  -999.0,-999.000,9,-999.000,   1.700,2,   50.00,2,   15.80,2,  450.10,-999.0000,9,-999.0000,9,-999.0000,9,-999.0000,9,-999.0000,9,-999.0000,9,   9.6865,      0.178,2,     -999.0,9,     -999.0,9,     -999.0,9,         17,-999.000,-999.000,-999.000,     -999.0,9, -999.00,9, -999.00,9
33RO200306_01,       A16N,     017,          1,          6,          6,2,20030623,       0708,    56.9997,   -19.9995,        972,   500.2,   9.6431,  35.3612,2,  35.3612,2,    254.8,2,   256.6,2,    5.19,2,   12.27,2,    0.01,2,    0.77,2,   3.457,2,   1.872,2,   0.262,2,  2120.7,4,  2320.1,2,    601.5,2,    20.00,   7.8141,2,    25.00,-999.000,9,-999.000,9,-999.000,9, -999.00,9,  -999.0,9,  -999.0,-999.000,9,-999.000,-999.000,9,   49.19,2,   15.76,2,  500.20,-999.0000,9,-999.0000,9,-999.0000,9,-999.0000,9,-999.0000,9,-999.0000,9,   9.5852,     -999.0,9,     -999.0,9,     -999.0,9,     -999.0,9,         17,-999.000,-999.000,-999.000,     -999.0,9, -999.00,9, -999.00,9
33RO200306_01,       A16N,     017,          1,          5,          5,2,20030623,       0708,    56.9997,   -19.9995,        972,   599.9,   9.4069,  35.3345,2,  35.3322,2,    253.6,2,   253.2,2,    5.74,2,   12.97,2,    0.01,2,    0.81,2,   3.406,2,   1.837,2,   0.248,2,  2101.4,4,  2322.1,2,    633.2,2,    20.00,   7.8038,2,    25.00,-999.000,9,-999.000,9,-999.000,9, -999.00,9,  -999.0,9,  -999.0,-999.000,9,-999.000,-999.000,9,   48.61,2,   16.32,2,  599.90,-999.0000,9,-999.0000,9,-999.0000,9,-999.0000,9,-999.0000,9,-999.0000,9,   9.3381,     -999.0,9,     -999.0,9,     -999.0,9,     -999.0,9,         17,-999.000,-999.000,-999.000,     -999.0,9, -999.00,9, -999.00,9
33RO200306_01,       A16N,     017,          1,          4,          4,2,20030623,       0708,    56.9997,   -19.9995,        972,   700.4,   8.6014,  35.2449,2,  35.2446,2,    214.7,2,   211.8,2,    8.99,2,   16.90,2,    0.01,2,    1.05,2,   2.661,2,   1.373,2,   0.143,2,  2106.2,4,  2318.5,2,   -999.0,9,  -999.00,   7.7440,2,    25.00,-999.000,9,-999.000,9,-999.000,9, -999.00,9,  -999.0,9,  -999.0,-999.000,9,-999.000,-999.000,9,   47.48,2,   20.09,2,  700.40,-999.0000,9,-999.0000,9,-999.0000,9,-999.0000,9,-999.0000,9,-999.0000,9,   8.5249,     -999.0,9,     -999.0,9,     -999.0,9,     -999.0,9,         17,-999.000,-999.000,-999.000,     -999.0,9, -999.00,9, -999.00,9
33RO200306_01,       A16N,     017,          1,          3,          3,2,20030623,       0708,    56.9997,   -19.9995,        972,   799.7,   8.1371,  35.2433,2,  35.2456,2,    202.9,2,   204.5,2,   10.13,2,   17.86,2,    0.01,2,    1.11,2,   2.405,2,   1.222,2,   0.117,2,  2102.1,4,  2321.7,2,    749.6,6,    20.00,   7.7304,2,    25.00,-999.000,9,-999.000,9,-999.000,9, -999.00,9,  -999.0,9,  -999.0,-999.000,9,-999.000,-999.000,9,   46.26,2,   21.28,2,  799.70,-999.0000,9,-999.0000,9,-999.0000,9,-999.0000,9,-999.0000,9,-999.0000,9,   8.0519,     -999.0,9,     -999.0,9,     -999.0,9,     -999.0,9,         17,-999.000,-999.000,-999.000,     -999.0,9, -999.00,9, -999.00,9
33RO200306_01,       A16N,     017,          1,          2,          2,2,20030623,       0708,    56.9997,   -19.9995,        972,   899.7,   7.4185,  35.2244,2,  35.2259,2,    203.2,2,   205.2,2,   10.92,2,   18.41,2,    0.01,2,    1.15,2,   2.279,2,   1.137,2,   0.106,2,  2131.4,4,  2320.3,2,   -999.0,9,  -999.00,   7.7198,2,    25.00,-999.000,9,-999.000,9,-999.000,9, -999.00,9,  -999.0,9,  -999.0,-999.000,9,-999.000,   1.364,2,   45.53,2,   22.08,2,  899.70,-999.0000,9,-999.0000,9,-999.0000,9,-999.0000,9,-999.0000,9,-999.0000,9,   7.3269,      0.067,2,     -999.0,9,     -999.0,9,     -999.0,9,         17,-999.000,-999.000,-999.000,     -999.0,9, -999.00,9, -999.00,9
33RO200306_01,       A16N,     017,          1,          1,          1,2,20030623,       0708,    56.9997,   -19.9995,        972,   972.1,   6.8755,  35.1955,2,  35.1973,2,    210.8,2,   209.6,2,   11.53,2,   18.53,2,    0.01,2,    1.16,2,   2.269,2,   1.117,2,   0.108,2,  2176.6,2,  2317.6,2,    776.4,2,    20.00,   7.7187,2,    25.00,-999.000,9,-999.000,9,-999.000,9, -999.00,9,  -999.0,9,  -999.0,-999.000,9,-999.000,-999.000,9,   45.44,2,   21.58,2,  972.10,-999.0000,9,-999.0000,9,-999.0000,9,-999.0000,9,-999.0000,9,-999.0000,9,   6.7800,     -999.0,9,     -999.0,9,     -999.0,9,     -999.0,9,         17,-999.000,-999.000,-999.000,     -999.0,9, -999.00,9, -999.00,9