BOTTLE,20230908CCHSIOCBG
EXPOCODE,SECT_ID,STNNBR,CASTNO,SAMPNO,BTLNBR,BTLNBR_FLAG_W,DATE,TIME,LATITUDE,LONGITUDE,DEPTH,CTDPRS,CTDTMP,CTDSAL,CTDSAL_FLAG_W,SALNTY,SALNTY_FLAG_W,CTDOXY,CTDOXY_FLAG_W,OXYGEN,OXYGEN_FLAG_W,SILCAT,SILCAT_FLAG_W,NITRAT,NITRAT_FLAG_W,NITRIT,NITRIT_FLAG_W,PHSPHT,PHSPHT_FLAG_W,CFC-11,CFC-11_FLAG_W,CFC-12,CFC-12_FLAG_W,CFC113,CFC113_FLAG_W,TCARBN,TCARBN_FLAG_W,ALKALI,ALKALI_FLAG_W,FCO2,FCO2_FLAG_W,FCO2TMP,PH_SWS,PH_SWS_FLAG_W,PH_TMP,TRITUM,TRITUM_FLAG_W,HELIUM,HELIUM_FLAG_W,DELHE3,DELHE3_FLAG_W,DELC13,DELC13_FLAG_W,DELC14,DELC14_FLAG_W,C14ERR,NEON,NEON_FLAG_W,NEONER,POC,POC_FLAG_W,DOC,DOC_FLAG_W,TDN,TDN_FLAG_W,CTDRAW,CDOM325,CDOM325_FLAG_W,CDOM340,CDOM340_FLAG_W,CDOM380,CDOM380_FLAG_W,CDOM412,CDOM412_FLAG_W,CDOMSL,CDOMSL_FLAG_W,CDOMSN,CDOMSN_FLAG_W,THETA,PON,PON_FLAG_W,HCFC-22,HCFC-22_FLAG_W,HCFC-142b,HCFC-142b_FLAG_W,HCFC-141b,HCFC-141b_FLAG_W,STNNBR_U,HELIER,DELHER,TRITER,CH3CL,CH3CL_FLAG_W,CH3BR,CH3BR_FLAG_W,CH3I,CH3I_FLAG_W
,,,,,,,,,,,METERS,DBAR,ITS-90,PSS-78,,PSS-78,,UMOL/KG,,UMOL/KG,,UMOL/KG,,UMOL/KG,,UMOL/KG,,UMOL/KG,,PMOL/KG,,PMOL/KG,,PMOL/KG,,UMOL/KG,,UMOL/KG,,UATM,,DEG C,,,DEG C,TU,,NMOL/KG,,PERCNT,,/MILLE,,/MILLE,,/MILLE,NMOL/KG,,NMOL/KG,UG/KG,,UMOL/KG,,UMOL/KG,,DBAR,1/M,,1/M,,1/M,,1/M,,1/NM,,1/NM,,DEG C,UMOL/L,,PMOL/KG,,PMOL/KG,,PMOL/KG,,,NMOL/KG,PERCNT,TU,PMOL/KG,,PMOL/KG,,PMOL/KG,
33RO200306_02,       A16N,     126,          2,          7,          7,2,20030803,       0200,     3.0070,   -24.9955,       4403,  2099.3,   3.4176,  34.9617,2,  34.9628,2,    250.4,2,   254.9,2,   22.57,2,   20.17,2,    0.00,2,    1.37,2,   0.062,2,   0.035,2,   0.002,2,  2169.3,2,  2319.9,2,   -999.0,9,  -999.00,   7.7330,2,    25.00,-999.000,9,   1.866,2,   1.834,2, -999.00,9,  -999.0,9,  -999.0,   7.990,2,   0.063,-999.000,9,   41.05,2,   24.44,2, 2099.30,-999.0000,9,-999.0000,9,-999.0000,9,-999.0000,9,-999.0000,9,-999.0000,9,   3.2493,     -999.0,9,       0.00,2,       0.00,2,       0.11,2,        126,   0.005,   0.196,-999.000,      61.87,2,    0.61,2,    0.06,2
33RO200306_02,       A16N,     126,          2,          6,          6,2,20030803,       0200,     3.0070,   -24.9955,       4403,  2298.9,   3.2267,  34.9508,2,  34.9521,2,    250.2,2,   254.2,2,   25.66,2,   20.50,2,    0.00,2,    1.39,2,   0.041,2,   0.022,2,   0.001,2,  2177.6,2,  2323.5,2,    757.1,2,    20.00,   7.7267,2,    25.00,-999.000,9,-999.000,9,-999.000,9, -999.00,9,  -999.0,9,  -999.0,-999.000,9,-999.000,-999.000,9,   40.81,2,   24.32,2, 2298.90,-999.0000,9,-999.0000,9,-999.0000,9,-999.0000,9,-999.0000,9,-999.0000,9,   3.0423,     -999.0,9,     -999.0,9,     -999.0,9,     -999.0,9,        126,-999.000,-999.000,-999.000,     -999.0,9, -999.00,9, -999.00,9
33RO200306_02,       A16N,     126,          2,          5,          5,2,20030803,       0200,     3.0070,   -24.9955,       4403,  2599.5,   2.9191,  34.9319,2,  34.9337,2,    248.2,2,   248.4,2,   31.63,2,   21.16,2,    0.00,2,    1.45,2,   0.007,2,   0.008,2,   0.001,2,  2180.4,2,  2328.5,2,   -999.0,9,  -999.00,   7.8085,4,    25.00,   0.026,2,   1.871,2,   2.546,2, -999.00,9,  -999.0,9,  -999.0,   8.063,2,   0.026,-999.000,9,   39.68,2,   26.04,2, 2599.50,-999.0000,9,-999.0000,9,-999.0000,9,-999.0000,9,-999.0000,9,-999.0000,9,   2.7109,     -999.0,9,       0.00,2,       0.00,2,       0.10,2,        126,   0.003,   0.191,   0.000,     125.94,2,    0.67,2,     0.0,2
33RO200306_02,       A16N,     126,          2,          4,          4,2,20030803,       0200,     3.0070,   -24.9955,       4403,  3000.0,   2.6643,  34.9146,2,  34.9163,2,    248.9,2,   247.0,2,   37.05,6,   21.62,6,    0.00,6,    1.49,6,   0.009,2,   0.009,2,   0.002,2,  2191.9,2,  2335.3,2,   -999.0,9,  -999.00,   7.7229,2,    25.00,-999.000,9,-999.000,9,-999.000,9, -999.00,9,  -999.0,9,  -999.0,-999.000,9,-999.000,-999.000,9,   40.41,2,   26.68,2, 3000.00,-999.0000,9,-999.0000,9,-999.0000,9,-999.0000,9,-999.0000,9,-999.0000,9,   2.4209,     -999.0,9,     -999.0,9,     -999.0,9,     -999.0,9,        126,-999.000,-999.000,-999.000,     -999.0,9, -999.00,9, -999.00,9
33RO200306_02,       A16N,     126,          2,          3,          3,2,20030803,       0200,     3.0070,   -24.9955,       4403,  3398.7,   2.4937,  34.9025,2,  34.9046,2,    250.8,2,   249.0,2,   40.10,6,   21.76,6,    0.00,6,    1.50,6,-999.000,9,-999.000,9,-999.000,9,  2184.4,3,  2339.2,2,    774.1,6,    20.00,   7.7326,2,    25.00,   0.067,2,   1.872,2,   2.821,2, -999.00,9,  -999.0,9,  -999.0,   1.505,4,   0.004,-999.000,9,   40.73,2,   25.99,2, 3398.70,-999.0000,9,-999.0000,9,-999.0000,9,-999.0000,9,-999.0000,9,-999.0000,9,   2.2124,     -999.0,9,       0.26,2,       0.00,2,       0.16,2,        126,   0.002,    0.16,   0.010,      60.59,2,    0.43,2,    0.05,2
33RO200306_02,       A16N,     126,          2,          2,          2,2,20030803,       0200,     3.0070,   -24.9955,       4403,  3800.1,   2.3942,  34.8931,2,  34.8948,2,    252.1,2,   249.8,2,   42.95,6,   21.91,6,    0.00,6,    1.52,6,   0.013,2,   0.013,2,   0.001,2,  2204.7,3,  2342.8,2,   -999.0,9,  -999.00,   7.7256,2,    25.00,-999.000,9,-999.000,9,-999.000,9, -999.00,9,  -999.0,9,  -999.0,-999.000,9,-999.000,-999.000,9,   40.98,2,   26.15,2, 3800.10,-999.0000,9,-999.0000,9,-999.0000,9,-999.0000,9,-999.0000,9,-999.0000,9,   2.0715,     -999.0,9,     -999.0,9,     -999.0,9,     -999.0,9,        126,-999.000,-999.000,-999.000,     -999.0,9, -999.00,9, -999.00,9
33RO200306_02,       A16N,     126,          2,          1,          1,2,20030803,       0200,     3.0070,   -24.9955,       4403,  4460.0,   2.3189,  34.8792,2,  34.8812,2,    250.6,2,   253.0,2,   48.37,6,   22.71,6,    0.00,6,    1.58,6,   0.022,2,   0.013,2,   0.002,2,  2195.6,2,  2348.0,6,    790.5,2,    20.00,   7.7176,6,    25.00,   0.062,2,   1.842,2,   2.796,2, -999.00,9,  -999.0,9,  -999.0,   7.967,2,   0.026,-999.000,9,   41.87,2,   27.54,2, 4460.00,-999.0000,9,-999.0000,9,-999.0000,9,-999.0000,9,-999.0000,9,-999.0000,9,   1.9221,     -999.0,9,       0.07,2,       0.00,2,       0.12,2,        126,   0.003,   0.191,   0.010,      38.62,2,    0.31,2,    0.17,2