BOTTLE,20230908CCHSIOCBG
EXPOCODE,SECT_ID,STNNBR,CASTNO,SAMPNO,BTLNBR,BTLNBR_FLAG_W,DATE,TIME,LATITUDE,LONGITUDE,DEPTH,CTDPRS,CTDTMP,CTDSAL,CTDSAL_FLAG_W,SALNTY,SALNTY_FLAG_W,CTDOXY,CTDOXY_FLAG_W,OXYGEN,OXYGEN_FLAG_W,SILCAT,SILCAT_FLAG_W,NITRAT,NITRAT_FLAG_W,NITRIT,NITRIT_FLAG_W,PHSPHT,PHSPHT_FLAG_W,CFC-11,CFC-11_FLAG_W,CFC-12,CFC-12_FLAG_W,CFC113,CFC113_FLAG_W,TCARBN,TCARBN_FLAG_W,ALKALI,ALKALI_FLAG_W,FCO2,FCO2_FLAG_W,FCO2TMP,PH_SWS,PH_SWS_FLAG_W,PH_TMP,TRITUM,TRITUM_FLAG_W,HELIUM,HELIUM_FLAG_W,DELHE3,DELHE3_FLAG_W,DELC13,DELC13_FLAG_W,DELC14,DELC14_FLAG_W,C14ERR,NEON,NEON_FLAG_W,NEONER,POC,POC_FLAG_W,DOC,DOC_FLAG_W,TDN,TDN_FLAG_W,CTDRAW,CDOM325,CDOM325_FLAG_W,CDOM340,CDOM340_FLAG_W,CDOM380,CDOM380_FLAG_W,CDOM412,CDOM412_FLAG_W,CDOMSL,CDOMSL_FLAG_W,CDOMSN,CDOMSN_FLAG_W,THETA,PON,PON_FLAG_W,HCFC-22,HCFC-22_FLAG_W,HCFC-142b,HCFC-142b_FLAG_W,HCFC-141b,HCFC-141b_FLAG_W,STNNBR_U,HELIER,DELHER,TRITER,CH3CL,CH3CL_FLAG_W,CH3BR,CH3BR_FLAG_W,CH3I,CH3I_FLAG_W
,,,,,,,,,,,METERS,DBAR,ITS-90,PSS-78,,PSS-78,,UMOL/KG,,UMOL/KG,,UMOL/KG,,UMOL/KG,,UMOL/KG,,UMOL/KG,,PMOL/KG,,PMOL/KG,,PMOL/KG,,UMOL/KG,,UMOL/KG,,UATM,,DEG C,,,DEG C,TU,,NMOL/KG,,PERCNT,,/MILLE,,/MILLE,,/MILLE,NMOL/KG,,NMOL/KG,UG/KG,,UMOL/KG,,UMOL/KG,,DBAR,1/M,,1/M,,1/M,,1/M,,1/NM,,1/NM,,DEG C,UMOL/L,,PMOL/KG,,PMOL/KG,,PMOL/KG,,,NMOL/KG,PERCNT,TU,PMOL/KG,,PMOL/KG,,PMOL/KG,
33RO200306_02,       A16N,     112,          1,          7,          7,2,20030729,       1240,     9.9992,   -28.4992,       5334,  3549.3,   2.5022,  34.9069,2,  34.9072,2,    245.7,2,   247.5,2,   39.73,2,   21.71,2,    0.00,2,    1.50,2,   0.000,2,   0.006,2,   0.001,2,  2187.9,2,  -999.0,9,    767.5,2,    20.00,-999.0000,9,  -999.00,-999.000,9,-999.000,9,-999.000,9, -999.00,9,  -999.0,9,  -999.0,-999.000,9,-999.000,-999.000,9,   40.41,2,   26.82,2, 3549.30,-999.0000,9,-999.0000,9,-999.0000,9,-999.0000,9,-999.0000,9,-999.0000,9,   2.2044,     -999.0,9,       0.00,2,       0.00,2,       0.06,2,        112,-999.000,-999.000,-999.000,        0.0,2,     0.0,2,    0.03,2
33RO200306_02,       A16N,     112,          1,          6,          6,2,20030729,       1240,     9.9992,   -28.4992,       5334,  3849.6,   2.4164,  34.8979,2,  34.8978,2,    248.3,2,   249.7,2,   41.36,2,   21.69,2,    0.00,2,    1.50,2,   0.006,2,   0.007,2,   0.000,2,  2186.7,2,  2339.9,2,   -999.0,9,  -999.00,   7.7304,2,    25.00,-999.000,9,-999.000,9,-999.000,9, -999.00,9,  -999.0,9,  -999.0,-999.000,9,-999.000,-999.000,9,   41.54,2,   25.23,2, 3849.60,-999.0000,9,-999.0000,9,-999.0000,9,-999.0000,9,-999.0000,9,-999.0000,9,   2.0876,     -999.0,9,     -999.0,9,     -999.0,9,     -999.0,9,        112,-999.000,-999.000,-999.000,     -999.0,9, -999.00,9, -999.00,9
33RO200306_02,       A16N,     112,          1,          5,          5,2,20030729,       1240,     9.9992,   -28.4992,       5334,  4148.0,   2.3558,  34.8903,2,  34.8905,2,    248.4,2,   248.9,2,   43.54,2,   21.90,2,    0.00,2,    1.50,2,-999.000,9,-999.000,9,-999.000,9,  2190.5,2,  2342.0,2,    770.6,6,    20.00,   7.7292,2,    25.00,-999.000,9,-999.000,9,-999.000,9, -999.00,9,  -999.0,9,  -999.0,-999.000,9,-999.000,-999.000,9,   40.90,2,   25.71,2, 4148.00,-999.0000,9,-999.0000,9,-999.0000,9,-999.0000,9,-999.0000,9,-999.0000,9,   1.9946,     -999.0,9,       0.00,2,       0.00,2,       0.07,2,        112,-999.000,-999.000,-999.000,      32.18,2,     0.0,2,     0.0,2
33RO200306_02,       A16N,     112,          1,          4,          4,2,20030729,       1240,     9.9992,   -28.4992,       5334,  4448.4,   2.3135,  34.8834,2,  34.8845,2,    247.6,2,   246.7,2,   46.11,6,   22.14,6,    0.00,6,    1.54,6,   0.014,2,   0.009,2,   0.001,2,  2195.9,2,  2344.3,2,   -999.0,9,  -999.00,   7.7282,2,    25.00,-999.000,9,-999.000,9,-999.000,9, -999.00,9,  -999.0,9,  -999.0,-999.000,9,-999.000,-999.000,9,   40.65,2,   25.62,2, 4448.40,-999.0000,9,-999.0000,9,-999.0000,9,-999.0000,9,-999.0000,9,-999.0000,9,   1.9182,     -999.0,9,     -999.0,9,     -999.0,9,     -999.0,9,        112,-999.000,-999.000,-999.000,     -999.0,9, -999.00,9, -999.00,9
33RO200306_02,       A16N,     112,          1,          3,          3,2,20030729,       1240,     9.9992,   -28.4992,       5334,  4750.0,   2.2761,  34.8767,2,  34.8778,2,    246.0,2,   246.1,2,   49.05,6,   22.56,6,    0.00,6,    1.57,6,   0.011,2,   0.010,2,   0.001,2,  2200.7,2,  2349.6,2,    777.6,2,    20.00,   7.7277,2,    25.00,-999.000,9,-999.000,9,-999.000,9, -999.00,9,  -999.0,9,  -999.0,-999.000,9,-999.000,-999.000,9,   40.73,2,   27.33,2, 4750.00,-999.0000,9,-999.0000,9,-999.0000,9,-999.0000,9,-999.0000,9,-999.0000,9,   1.8454,     -999.0,9,       0.00,2,       0.00,2,       0.07,2,        112,-999.000,-999.000,-999.000,     188.74,2,    0.41,2,     0.0,2
33RO200306_02,       A16N,     112,          1,          2,          2,2,20030729,       1240,     9.9992,   -28.4992,       5334,  5048.0,   2.2724,  34.8727,2,  34.8737,2,    245.0,2,   244.8,2,   50.58,6,   22.84,6,    0.00,6,    1.58,6,   0.012,2,   0.009,2,   0.002,2,  2203.5,2,  2351.9,2,   -999.0,9,  -999.00,   7.7228,2,    25.00,-999.000,9,-999.000,9,-999.000,9, -999.00,9,  -999.0,9,  -999.0,-999.000,9,-999.000,-999.000,9,   41.63,2,   26.20,2, 5048.00,-999.0000,9,-999.0000,9,-999.0000,9,-999.0000,9,-999.0000,9,-999.0000,9,   1.8047,     -999.0,9,     -999.0,9,     -999.0,9,     -999.0,9,        112,-999.000,-999.000,-999.000,     -999.0,9, -999.00,9, -999.00,9
33RO200306_02,       A16N,     112,          1,          1,          1,2,20030729,       1240,     9.9992,   -28.4992,       5334,  5446.2,   2.3057,  34.8706,2,  34.8732,2,    246.6,2,   244.7,2,   50.88,6,   22.72,6,    0.00,6,    1.58,6,   0.020,2,   0.012,2,   0.002,2,  2201.7,6,  2352.7,6,    780.0,2,    20.00,   7.7202,6,    25.00,-999.000,9,-999.000,9,-999.000,9, -999.00,9,  -999.0,9,  -999.0,-999.000,9,-999.000,-999.000,9,   41.14,2,   27.67,2, 5446.20,-999.0000,9,-999.0000,9,-999.0000,9,-999.0000,9,-999.0000,9,-999.0000,9,   1.7855,     -999.0,9,     -999.0,9,       0.00,2,       0.41,2,        112,-999.000,-999.000,-999.000,      20.53,2,    0.01,2,    0.21,2