BOTTLE,20230908CCHSIOCBG
EXPOCODE,SECT_ID,STNNBR,CASTNO,SAMPNO,BTLNBR,BTLNBR_FLAG_W,DATE,TIME,LATITUDE,LONGITUDE,DEPTH,CTDPRS,CTDTMP,CTDSAL,CTDSAL_FLAG_W,SALNTY,SALNTY_FLAG_W,CTDOXY,CTDOXY_FLAG_W,OXYGEN,OXYGEN_FLAG_W,SILCAT,SILCAT_FLAG_W,NITRAT,NITRAT_FLAG_W,NITRIT,NITRIT_FLAG_W,PHSPHT,PHSPHT_FLAG_W,CFC-11,CFC-11_FLAG_W,CFC-12,CFC-12_FLAG_W,CFC113,CFC113_FLAG_W,TCARBN,TCARBN_FLAG_W,ALKALI,ALKALI_FLAG_W,FCO2,FCO2_FLAG_W,FCO2TMP,PH_SWS,PH_SWS_FLAG_W,PH_TMP,TRITUM,TRITUM_FLAG_W,HELIUM,HELIUM_FLAG_W,DELHE3,DELHE3_FLAG_W,DELC13,DELC13_FLAG_W,DELC14,DELC14_FLAG_W,C14ERR,NEON,NEON_FLAG_W,NEONER,POC,POC_FLAG_W,DOC,DOC_FLAG_W,TDN,TDN_FLAG_W,CTDRAW,CDOM325,CDOM325_FLAG_W,CDOM340,CDOM340_FLAG_W,CDOM380,CDOM380_FLAG_W,CDOM412,CDOM412_FLAG_W,CDOMSL,CDOMSL_FLAG_W,CDOMSN,CDOMSN_FLAG_W,THETA,PON,PON_FLAG_W,HCFC-22,HCFC-22_FLAG_W,HCFC-142b,HCFC-142b_FLAG_W,HCFC-141b,HCFC-141b_FLAG_W,STNNBR_U,HELIER,DELHER,TRITER,CH3CL,CH3CL_FLAG_W,CH3BR,CH3BR_FLAG_W,CH3I,CH3I_FLAG_W
,,,,,,,,,,,METERS,DBAR,ITS-90,PSS-78,,PSS-78,,UMOL/KG,,UMOL/KG,,UMOL/KG,,UMOL/KG,,UMOL/KG,,UMOL/KG,,PMOL/KG,,PMOL/KG,,PMOL/KG,,UMOL/KG,,UMOL/KG,,UATM,,DEG C,,,DEG C,TU,,NMOL/KG,,PERCNT,,/MILLE,,/MILLE,,/MILLE,NMOL/KG,,NMOL/KG,UG/KG,,UMOL/KG,,UMOL/KG,,DBAR,1/M,,1/M,,1/M,,1/M,,1/NM,,1/NM,,DEG C,UMOL/L,,PMOL/KG,,PMOL/KG,,PMOL/KG,,,NMOL/KG,PERCNT,TU,PMOL/KG,,PMOL/KG,,PMOL/KG,
33RO200306_02,       A16N,     109,          1,         35,         35,2,20030728,       1400,    11.4997,   -28.9993,       5944,     3.2,  28.2276,  36.2015,2,  36.2059,2,    191.1,2,   201.4,2,    0.42,2,    0.09,2,    0.00,2,    0.05,2,   1.702,2,   1.103,2,   0.148,2,  2028.2,6,  2375.5,6,   -999.0,9,  -999.00,   8.0813,6,    25.00,-999.000,9,-999.000,9,-999.000,9, -999.00,9,  -999.0,9,  -999.0,-999.000,9,-999.000,-999.000,9, -999.00,9, -999.00,9,    3.20,-999.0000,9,-999.0000,9,-999.0000,9,-999.0000,9,-999.0000,9,-999.0000,9,  28.2268,     -999.0,9,     -999.0,9,     -999.0,9,     -999.0,9,        109,-999.000,-999.000,-999.000,     -999.0,9, -999.00,9, -999.00,9
33RO200306_02,       A16N,     109,          1,         33,         33,2,20030728,       1400,    11.4997,   -28.9993,       5944,    23.9,  27.2420,  36.1984,2,  36.2052,2,    195.2,2,   206.7,2,    0.45,2,    0.10,2,    0.00,2,    0.06,2,-999.000,9,-999.000,9,-999.000,9,  -999.0,9,  -999.0,9,   -999.0,9,  -999.00,-999.0000,9,  -999.00,-999.000,9,-999.000,9,-999.000,9, -999.00,9,  -999.0,9,  -999.0,-999.000,9,-999.000,-999.000,9, -999.00,9, -999.00,9,   23.90,-999.0000,9,-999.0000,9,-999.0000,9,-999.0000,9,-999.0000,9,-999.0000,9,  27.2365,     -999.0,9,     -999.0,9,     -999.0,9,     -999.0,9,        109,-999.000,-999.000,-999.000,     -999.0,9, -999.00,9, -999.00,9
33RO200306_02,       A16N,     109,          1,         32,         32,2,20030728,       1400,    11.4997,   -28.9993,       5944,    49.1,  23.9961,  36.0380,2,  36.0500,2,    208.8,2,   215.5,2,    0.46,2,    0.10,2,    0.00,2,    0.09,2,-999.000,9,-999.000,9,-999.000,9,  -999.0,9,  -999.0,9,   -999.0,9,  -999.00,-999.0000,9,  -999.00,-999.000,9,-999.000,9,-999.000,9, -999.00,9,  -999.0,9,  -999.0,-999.000,9,-999.000,-999.000,9, -999.00,9, -999.00,9,   49.10,-999.0000,9,-999.0000,9,-999.0000,9,-999.0000,9,-999.0000,9,-999.0000,9,  23.9857,     -999.0,9,     -999.0,9,     -999.0,9,     -999.0,9,        109,-999.000,-999.000,-999.000,     -999.0,9, -999.00,9, -999.00,9
33RO200306_02,       A16N,     109,          1,         31,         31,2,20030728,       1400,    11.4997,   -28.9993,       5944,    70.0,  22.2343,  36.1123,2,  36.1062,2,    189.8,2,   181.7,2,    1.21,2,    1.08,2,    0.15,2,    0.26,2,-999.000,9,-999.000,9,-999.000,9,  -999.0,9,  -999.0,9,   -999.0,9,  -999.00,-999.0000,9,  -999.00,-999.000,9,-999.000,9,-999.000,9, -999.00,9,  -999.0,9,  -999.0,-999.000,9,-999.000,-999.000,9, -999.00,9, -999.00,9,   70.00,-999.0000,9,-999.0000,9,-999.0000,9,-999.0000,9,-999.0000,9,-999.0000,9,  22.2203,     -999.0,9,     -999.0,9,     -999.0,9,     -999.0,9,        109,-999.000,-999.000,-999.000,     -999.0,9, -999.00,9, -999.00,9
33RO200306_02,       A16N,     109,          1,         30,         30,2,20030728,       1400,    11.4997,   -28.9993,       5944,    99.1,  15.8883,  35.5774,2,  35.5598,2,     87.4,2,    76.4,2,    6.41,2,   22.40,2,    0.10,2,    1.42,2,-999.000,9,-999.000,9,-999.000,9,  -999.0,9,  -999.0,9,   -999.0,9,  -999.00,-999.0000,9,  -999.00,-999.000,9,-999.000,9,-999.000,9, -999.00,9,  -999.0,9,  -999.0,-999.000,9,-999.000,-999.000,9, -999.00,9, -999.00,9,   99.10,-999.0000,9,-999.0000,9,-999.0000,9,-999.0000,9,-999.0000,9,-999.0000,9,  15.8727,     -999.0,9,     -999.0,9,     -999.0,9,     -999.0,9,        109,-999.000,-999.000,-999.000,     -999.0,9, -999.00,9, -999.00,9
33RO200306_02,       A16N,     109,          1,         29,         29,2,20030728,       1400,    11.4997,   -28.9993,       5944,   124.2,  14.1077,  35.4508,2,  35.4467,2,     69.5,2,    70.5,2,    7.86,2,   25.05,2,    0.03,2,    1.57,2,   1.654,2,   0.926,2,   0.025,2,  -999.0,9,  -999.0,9,   -999.0,9,  -999.00,-999.0000,9,  -999.00,-999.000,9,-999.000,9,-999.000,9, -999.00,9,  -999.0,9,  -999.0,-999.000,9,-999.000,-999.000,9, -999.00,9, -999.00,9,  124.20,-999.0000,9,-999.0000,9,-999.0000,9,-999.0000,9,-999.0000,9,-999.0000,9,  14.0896,     -999.0,9,     -999.0,9,     -999.0,9,     -999.0,9,        109,-999.000,-999.000,-999.000,     -999.0,9, -999.00,9, -999.00,9
33RO200306_02,       A16N,     109,          1,         28,         28,2,20030728,       1400,    11.4997,   -28.9993,       5944,   149.9,  13.3106,  35.3601,2,  35.3500,2,     74.5,2,    75.4,2,    8.63,2,   25.53,2,    0.02,2,    1.62,2,-999.000,9,-999.000,9,-999.000,9,  -999.0,9,  -999.0,9,   -999.0,9,  -999.00,-999.0000,9,  -999.00,-999.000,9,-999.000,9,-999.000,9, -999.00,9,  -999.0,9,  -999.0,-999.000,9,-999.000,-999.000,9, -999.00,9, -999.00,9,  149.90,-999.0000,9,-999.0000,9,-999.0000,9,-999.0000,9,-999.0000,9,-999.0000,9,  13.2896,     -999.0,9,     -999.0,9,     -999.0,9,     -999.0,9,        109,-999.000,-999.000,-999.000,     -999.0,9, -999.00,9, -999.00,9
33RO200306_02,       A16N,     109,          1,         27,         27,2,20030728,       1400,    11.4997,   -28.9993,       5944,   174.0,  12.9219,  35.3115,2,  35.3115,2,     77.0,2,    79.1,2,    8.94,2,   25.50,2,    0.01,2,    1.63,2,-999.000,9,-999.000,9,-999.000,9,  -999.0,9,  -999.0,9,   -999.0,9,  -999.00,-999.0000,9,  -999.00,-999.000,9,-999.000,9,-999.000,9, -999.00,9,  -999.0,9,  -999.0,-999.000,9,-999.000,-999.000,9, -999.00,9, -999.00,9,  174.00,-999.0000,9,-999.0000,9,-999.0000,9,-999.0000,9,-999.0000,9,-999.0000,9,  12.8980,     -999.0,9,     -999.0,9,     -999.0,9,     -999.0,9,        109,-999.000,-999.000,-999.000,     -999.0,9, -999.00,9, -999.00,9
33RO200306_02,       A16N,     109,          1,         26,         26,2,20030728,       1400,    11.4997,   -28.9993,       5944,   198.7,  12.7354,  35.3378,2,  35.3362,2,     75.2,2,    76.6,2,    9.27,2,   26.00,2,    0.01,2,    1.65,2,-999.000,9,-999.000,9,-999.000,9,  -999.0,9,  -999.0,9,   -999.0,9,  -999.00,-999.0000,9,  -999.00,-999.000,9,-999.000,9,-999.000,9, -999.00,9,  -999.0,9,  -999.0,-999.000,9,-999.000,-999.000,9, -999.00,9, -999.00,9,  198.70,-999.0000,9,-999.0000,9,-999.0000,9,-999.0000,9,-999.0000,9,-999.0000,9,  12.7083,     -999.0,9,     -999.0,9,     -999.0,9,     -999.0,9,        109,-999.000,-999.000,-999.000,     -999.0,9, -999.00,9, -999.00,9
33RO200306_02,       A16N,     109,          1,         25,         25,2,20030728,       1400,    11.4997,   -28.9993,       5944,   250.8,  11.9746,  35.2717,2,  35.2692,2,     68.5,2,    71.5,2,   10.38,2,   27.64,2,    0.01,2,    1.73,2,   1.214,2,   0.666,2,   0.011,2,  -999.0,9,  -999.0,9,   -999.0,9,  -999.00,-999.0000,9,  -999.00,-999.000,9,-999.000,9,-999.000,9, -999.00,9,  -999.0,9,  -999.0,-999.000,9,-999.000,-999.000,9, -999.00,9, -999.00,9,  250.80,-999.0000,9,-999.0000,9,-999.0000,9,-999.0000,9,-999.0000,9,-999.0000,9,  11.9418,     -999.0,9,     -999.0,9,     -999.0,9,     -999.0,9,        109,-999.000,-999.000,-999.000,     -999.0,9, -999.00,9, -999.00,9
33RO200306_02,       A16N,     109,          1,         24,         24,2,20030728,       1400,    11.4997,   -28.9993,       5944,   299.2,  11.4322,  35.2318,2,  35.2316,2,     59.5,2,    62.0,2,   11.42,2,   29.58,2,    0.01,2,    1.83,2,-999.000,9,-999.000,9,-999.000,9,  -999.0,9,  -999.0,9,   -999.0,9,  -999.00,-999.0000,9,  -999.00,-999.000,9,-999.000,9,-999.000,9, -999.00,9,  -999.0,9,  -999.0,-999.000,9,-999.000,-999.000,9, -999.00,9, -999.00,9,  299.20,-999.0000,9,-999.0000,9,-999.0000,9,-999.0000,9,-999.0000,9,-999.0000,9,  11.3941,     -999.0,9,     -999.0,9,     -999.0,9,     -999.0,9,        109,-999.000,-999.000,-999.000,     -999.0,9, -999.00,9, -999.00,9
33RO200306_02,       A16N,     109,          1,         23,         23,2,20030728,       1400,    11.4997,   -28.9993,       5944,   349.7,  11.1208,  35.2377,2,  35.2361,2,     49.8,2,    50.6,2,   12.23,2,   31.13,2,    0.01,2,    1.89,2,-999.000,9,-999.000,9,-999.000,9,  -999.0,9,  -999.0,9,   -999.0,9,  -999.00,-999.0000,9,  -999.00,-999.000,9,-999.000,9,-999.000,9, -999.00,9,  -999.0,9,  -999.0,-999.000,9,-999.000,-999.000,9, -999.00,9, -999.00,9,  349.70,-999.0000,9,-999.0000,9,-999.0000,9,-999.0000,9,-999.0000,9,-999.0000,9,  11.0770,     -999.0,9,     -999.0,9,     -999.0,9,     -999.0,9,        109,-999.000,-999.000,-999.000,     -999.0,9, -999.00,9, -999.00,9
33RO200306_02,       A16N,     109,          1,         22,         22,2,20030728,       1400,    11.4997,   -28.9993,       5944,   400.3,  10.6635,  35.2061,2,  35.2058,2,     50.2,2,    49.1,2,   13.19,2,   32.35,2,    0.01,2,    1.96,2,-999.000,9,-999.000,9,-999.000,9,  -999.0,9,  -999.0,9,   -999.0,9,  -999.00,-999.0000,9,  -999.00,-999.000,9,-999.000,9,-999.000,9, -999.00,9,  -999.0,9,  -999.0,-999.000,9,-999.000,-999.000,9, -999.00,9, -999.00,9,  400.30,-999.0000,9,-999.0000,9,-999.0000,9,-999.0000,9,-999.0000,9,-999.0000,9,  10.6145,     -999.0,9,     -999.0,9,     -999.0,9,     -999.0,9,        109,-999.000,-999.000,-999.000,     -999.0,9, -999.00,9, -999.00,9
33RO200306_02,       A16N,     109,          1,         21,         21,2,20030728,       1400,    11.4997,   -28.9993,       5944,   499.8,   9.4951,  35.0893,2,  35.0859,2,     52.5,2,    50.9,2,   16.04,2,   34.49,2,    0.01,2,    2.12,2,   0.282,2,   0.165,2,   0.002,2,  -999.0,9,  -999.0,9,   -999.0,9,  -999.00,-999.0000,9,  -999.00,-999.000,9,-999.000,9,-999.000,9, -999.00,9,  -999.0,9,  -999.0,-999.000,9,-999.000,-999.000,9, -999.00,9, -999.00,9,  499.80,-999.0000,9,-999.0000,9,-999.0000,9,-999.0000,9,-999.0000,9,-999.0000,9,   9.4380,     -999.0,9,     -999.0,9,     -999.0,9,     -999.0,9,        109,-999.000,-999.000,-999.000,     -999.0,9, -999.00,9, -999.00,9
33RO200306_02,       A16N,     109,          1,         20,         20,2,20030728,       1400,    11.4997,   -28.9993,       5944,   599.4,   8.3113,  34.9781,2,  34.9729,2,     64.5,2,    63.3,2,   18.99,2,   35.26,2,    0.00,2,    2.22,2,-999.000,9,-999.000,9,-999.000,9,  -999.0,9,  -999.0,9,   -999.0,9,  -999.00,-999.0000,9,  -999.00,-999.000,9,-999.000,9,-999.000,9, -999.00,9,  -999.0,9,  -999.0,-999.000,9,-999.000,-999.000,9, -999.00,9, -999.00,9,  599.40,-999.0000,9,-999.0000,9,-999.0000,9,-999.0000,9,-999.0000,9,-999.0000,9,   8.2477,     -999.0,9,     -999.0,9,     -999.0,9,     -999.0,9,        109,-999.000,-999.000,-999.000,     -999.0,9, -999.00,9, -999.00,9
33RO200306_02,       A16N,     109,          1,         19,         19,2,20030728,       1400,    11.4997,   -28.9993,       5944,   699.3,   7.4479,  34.8997,2,  34.8991,2,     77.1,2,    78.3,2,   21.09,2,   35.13,2,    0.01,2,    2.25,2,   0.071,2,   0.045,2,   0.002,2,  -999.0,9,  -999.0,9,   -999.0,9,  -999.00,-999.0000,9,  -999.00,-999.000,9,-999.000,9,-999.000,9, -999.00,9,  -999.0,9,  -999.0,-999.000,9,-999.000,-999.000,9, -999.00,9, -999.00,9,  699.30,-999.0000,9,-999.0000,9,-999.0000,9,-999.0000,9,-999.0000,9,-999.0000,9,   7.3778,     -999.0,9,     -999.0,9,     -999.0,9,     -999.0,9,        109,-999.000,-999.000,-999.000,     -999.0,9, -999.00,9, -999.00,9
33RO200306_02,       A16N,     109,          1,         18,         18,2,20030728,       1400,    11.4997,   -28.9993,       5944,   849.6,   6.3746,  34.8551,2,  34.8543,2,    104.8,2,   105.3,2,   23.58,2,   33.45,2,    0.00,2,    2.20,2,-999.000,9,-999.000,9,-999.000,9,  -999.0,9,  -999.0,9,   -999.0,9,  -999.00,-999.0000,9,  -999.00,-999.000,9,-999.000,9,-999.000,9, -999.00,9,  -999.0,9,  -999.0,-999.000,9,-999.000,-999.000,9, -999.00,9, -999.00,9,  849.60,-999.0000,9,-999.0000,9,-999.0000,9,-999.0000,9,-999.0000,9,-999.0000,9,   6.2954,     -999.0,9,     -999.0,9,     -999.0,9,     -999.0,9,        109,-999.000,-999.000,-999.000,     -999.0,9, -999.00,9, -999.00,9
33RO200306_02,       A16N,     109,          1,         17,         17,2,20030728,       1400,    11.4997,   -28.9993,       5944,   998.9,   5.5387,  34.8405,2,  34.8372,2,    131.9,2,   130.7,2,   24.89,2,   31.63,2,    0.00,2,    2.12,2,-999.000,9,-999.000,9,-999.000,9,  -999.0,9,  -999.0,9,   -999.0,9,  -999.00,-999.0000,9,  -999.00,-999.000,9,-999.000,9,-999.000,9, -999.00,9,  -999.0,9,  -999.0,-999.000,9,-999.000,-999.000,9, -999.00,9, -999.00,9,  998.90,-999.0000,9,-999.0000,9,-999.0000,9,-999.0000,9,-999.0000,9,-999.0000,9,   5.4509,     -999.0,9,     -999.0,9,     -999.0,9,     -999.0,9,        109,-999.000,-999.000,-999.000,     -999.0,9, -999.00,9, -999.00,9
33RO200306_02,       A16N,     109,          1,         16,         16,2,20030728,       1400,    11.4997,   -28.9993,       5944,  1149.3,   5.1230,  34.9149,2,  34.9134,2,    154.7,2,   160.2,2,   23.19,2,   28.20,2,    0.00,2,    1.90,2,   0.016,2,   0.010,2,   0.002,2,  -999.0,9,  -999.0,9,   -999.0,9,  -999.00,-999.0000,9,  -999.00,-999.000,9,-999.000,9,-999.000,9, -999.00,9,  -999.0,9,  -999.0,-999.000,9,-999.000,-999.000,9, -999.00,9, -999.00,9, 1149.30,-999.0000,9,-999.0000,9,-999.0000,9,-999.0000,9,-999.0000,9,-999.0000,9,   5.0242,     -999.0,9,     -999.0,9,     -999.0,9,     -999.0,9,        109,-999.000,-999.000,-999.000,     -999.0,9, -999.00,9, -999.00,9
33RO200306_02,       A16N,     109,          1,         15,         15,2,20030728,       1400,    11.4997,   -28.9993,       5944,  1299.3,   4.7768,  34.9559,2,  34.9532,2,    184.1,2,   185.9,2,   21.39,2,   25.40,2,    0.00,2,    1.72,2,-999.000,9,-999.000,9,-999.000,9,  -999.0,9,  -999.0,9,   -999.0,9,  -999.00,-999.0000,9,  -999.00,-999.000,9,-999.000,9,-999.000,9, -999.00,9,  -999.0,9,  -999.0,-999.000,9,-999.000,-999.000,9, -999.00,9, -999.00,9, 1299.30,-999.0000,9,-999.0000,9,-999.0000,9,-999.0000,9,-999.0000,9,-999.0000,9,   4.6670,     -999.0,9,     -999.0,9,     -999.0,9,     -999.0,9,        109,-999.000,-999.000,-999.000,     -999.0,9, -999.00,9, -999.00,9
33RO200306_02,       A16N,     109,          1,         14,         14,2,20030728,       1400,    11.4997,   -28.9993,       5944,  1599.4,   4.0724,  34.9713,2,  34.9699,2,    220.1,2,   219.2,2,   20.43,2,   22.34,2,    0.00,2,    1.52,2,-999.000,9,-999.000,9,-999.000,9,  -999.0,9,  -999.0,9,   -999.0,9,  -999.00,-999.0000,9,  -999.00,-999.000,9,-999.000,9,-999.000,9, -999.00,9,  -999.0,9,  -999.0,-999.000,9,-999.000,-999.000,9, -999.00,9, -999.00,9, 1599.40,-999.0000,9,-999.0000,9,-999.0000,9,-999.0000,9,-999.0000,9,-999.0000,9,   3.9422,     -999.0,9,     -999.0,9,     -999.0,9,     -999.0,9,        109,-999.000,-999.000,-999.000,     -999.0,9, -999.00,9, -999.00,9
33RO200306_02,       A16N,     109,          1,         13,         13,2,20030728,       1400,    11.4997,   -28.9993,       5944,  1799.1,   3.7772,  34.9707,2,  34.9680,2,    233.3,2,   231.2,2,   20.67,2,   21.22,2,    0.00,2,    1.45,2,-999.000,9,-999.000,9,-999.000,9,  -999.0,9,  -999.0,9,   -999.0,9,  -999.00,-999.0000,9,  -999.00,-999.000,9,-999.000,9,-999.000,9, -999.00,9,  -999.0,9,  -999.0,-999.000,9,-999.000,-999.000,9, -999.00,9, -999.00,9, 1799.10,-999.0000,9,-999.0000,9,-999.0000,9,-999.0000,9,-999.0000,9,-999.0000,9,   3.6321,     -999.0,9,     -999.0,9,     -999.0,9,     -999.0,9,        109,-999.000,-999.000,-999.000,     -999.0,9, -999.00,9, -999.00,9
33RO200306_02,       A16N,     109,          1,         12,         12,2,20030728,       1400,    11.4997,   -28.9993,       5944,  1999.2,   3.5442,  34.9679,2,  34.9642,2,    240.3,2,   234.6,2,   22.18,2,   20.84,2,    0.00,2,    1.42,2,-999.000,9,-999.000,9,-999.000,9,  -999.0,9,  -999.0,9,   -999.0,9,  -999.00,-999.0000,9,  -999.00,-999.000,9,-999.000,9,-999.000,9, -999.00,9,  -999.0,9,  -999.0,-999.000,9,-999.000,-999.000,9, -999.00,9, -999.00,9, 1999.20,-999.0000,9,-999.0000,9,-999.0000,9,-999.0000,9,-999.0000,9,-999.0000,9,   3.3835,     -999.0,9,     -999.0,9,     -999.0,9,     -999.0,9,        109,-999.000,-999.000,-999.000,     -999.0,9, -999.00,9, -999.00,9
33RO200306_02,       A16N,     109,          1,         11,         11,2,20030728,       1400,    11.4997,   -28.9993,       5944,  2199.0,   3.3312,  34.9625,2,  34.9598,2,    241.8,2,   237.1,2,   24.06,2,   20.50,2,    0.00,2,    1.40,2,   0.008,2,   0.003,2,   0.000,2,  -999.0,9,  -999.0,9,   -999.0,9,  -999.00,-999.0000,9,  -999.00,-999.000,9,-999.000,9,-999.000,9, -999.00,9,  -999.0,9,  -999.0,-999.000,9,-999.000,-999.000,9, -999.00,9, -999.00,9, 2199.00,-999.0000,9,-999.0000,9,-999.0000,9,-999.0000,9,-999.0000,9,-999.0000,9,   3.1547,     -999.0,9,     -999.0,9,     -999.0,9,     -999.0,9,        109,-999.000,-999.000,-999.000,     -999.0,9, -999.00,9, -999.00,9
33RO200306_02,       A16N,     109,          1,         10,         10,2,20030728,       1400,    11.4997,   -28.9993,       5944,  2499.5,   3.0269,  34.9482,2,  34.9452,2,    243.9,2,   243.8,2,   28.50,2,   20.62,2,    0.00,2,    1.42,2,-999.000,9,-999.000,9,-999.000,9,  -999.0,9,  -999.0,9,   -999.0,9,  -999.00,-999.0000,9,  -999.00,-999.000,9,-999.000,9,-999.000,9, -999.00,9,  -999.0,9,  -999.0,-999.000,9,-999.000,-999.000,9, -999.00,9, -999.00,9, 2499.50,-999.0000,9,-999.0000,9,-999.0000,9,-999.0000,9,-999.0000,9,-999.0000,9,   2.8265,     -999.0,9,     -999.0,9,     -999.0,9,     -999.0,9,        109,-999.000,-999.000,-999.000,     -999.0,9, -999.00,9, -999.00,9
33RO200306_02,       A16N,     109,          1,          9,          9,2,20030728,       1400,    11.4997,   -28.9993,       5944,  2798.6,   2.8082,  34.9351,2,  34.9318,2,    246.7,2,   245.9,2,   31.73,2,   20.71,2,    0.00,2,    1.43,2,-999.000,9,-999.000,9,-999.000,9,  -999.0,9,  -999.0,9,   -999.0,9,  -999.00,-999.0000,9,  -999.00,-999.000,9,-999.000,9,-999.000,9, -999.00,9,  -999.0,9,  -999.0,-999.000,9,-999.000,-999.000,9, -999.00,9, -999.00,9, 2798.60,-999.0000,9,-999.0000,9,-999.0000,9,-999.0000,9,-999.0000,9,-999.0000,9,   2.5822,     -999.0,9,     -999.0,9,     -999.0,9,     -999.0,9,        109,-999.000,-999.000,-999.000,     -999.0,9, -999.00,9, -999.00,9
33RO200306_02,       A16N,     109,          1,          8,          8,2,20030728,       1400,    11.4997,   -28.9993,       5944,  3199.6,   2.6036,  34.9192,2,  34.9172,2,    248.2,2,   248.2,2,   35.40,2,   20.81,2,    0.00,2,    1.44,2,-999.000,9,-999.000,9,-999.000,9,  -999.0,9,  -999.0,9,   -999.0,9,  -999.00,-999.0000,9,  -999.00,-999.000,9,-999.000,9,-999.000,9, -999.00,9,  -999.0,9,  -999.0,-999.000,9,-999.000,-999.000,9, -999.00,9, -999.00,9, 3199.60,-999.0000,9,-999.0000,9,-999.0000,9,-999.0000,9,-999.0000,9,-999.0000,9,   2.3408,     -999.0,9,     -999.0,9,     -999.0,9,     -999.0,9,        109,-999.000,-999.000,-999.000,     -999.0,9, -999.00,9, -999.00,9