BOTTLE,20230908CCHSIOCBG
EXPOCODE,SECT_ID,STNNBR,CASTNO,SAMPNO,BTLNBR,BTLNBR_FLAG_W,DATE,TIME,LATITUDE,LONGITUDE,DEPTH,CTDPRS,CTDTMP,CTDSAL,CTDSAL_FLAG_W,SALNTY,SALNTY_FLAG_W,CTDOXY,CTDOXY_FLAG_W,OXYGEN,OXYGEN_FLAG_W,SILCAT,SILCAT_FLAG_W,NITRAT,NITRAT_FLAG_W,NITRIT,NITRIT_FLAG_W,PHSPHT,PHSPHT_FLAG_W,CFC-11,CFC-11_FLAG_W,CFC-12,CFC-12_FLAG_W,CFC113,CFC113_FLAG_W,TCARBN,TCARBN_FLAG_W,ALKALI,ALKALI_FLAG_W,FCO2,FCO2_FLAG_W,FCO2TMP,PH_SWS,PH_SWS_FLAG_W,PH_TMP,TRITUM,TRITUM_FLAG_W,HELIUM,HELIUM_FLAG_W,DELHE3,DELHE3_FLAG_W,DELC13,DELC13_FLAG_W,DELC14,DELC14_FLAG_W,C14ERR,NEON,NEON_FLAG_W,NEONER,POC,POC_FLAG_W,DOC,DOC_FLAG_W,TDN,TDN_FLAG_W,CTDRAW,CDOM325,CDOM325_FLAG_W,CDOM340,CDOM340_FLAG_W,CDOM380,CDOM380_FLAG_W,CDOM412,CDOM412_FLAG_W,CDOMSL,CDOMSL_FLAG_W,CDOMSN,CDOMSN_FLAG_W,THETA,PON,PON_FLAG_W,HCFC-22,HCFC-22_FLAG_W,HCFC-142b,HCFC-142b_FLAG_W,HCFC-141b,HCFC-141b_FLAG_W,STNNBR_U,HELIER,DELHER,TRITER,CH3CL,CH3CL_FLAG_W,CH3BR,CH3BR_FLAG_W,CH3I,CH3I_FLAG_W
,,,,,,,,,,,METERS,DBAR,ITS-90,PSS-78,,PSS-78,,UMOL/KG,,UMOL/KG,,UMOL/KG,,UMOL/KG,,UMOL/KG,,UMOL/KG,,PMOL/KG,,PMOL/KG,,PMOL/KG,,UMOL/KG,,UMOL/KG,,UATM,,DEG C,,,DEG C,TU,,NMOL/KG,,PERCNT,,/MILLE,,/MILLE,,/MILLE,NMOL/KG,,NMOL/KG,UG/KG,,UMOL/KG,,UMOL/KG,,DBAR,1/M,,1/M,,1/M,,1/M,,1/NM,,1/NM,,DEG C,UMOL/L,,PMOL/KG,,PMOL/KG,,PMOL/KG,,,NMOL/KG,PERCNT,TU,PMOL/KG,,PMOL/KG,,PMOL/KG,
33RO200306_02,       A16N,     134,          1,         35,         35,2,20030804,       2122,     0.3380,   -25.0027,       3565,     3.6,  25.3889,  36.0622,2,  36.0651,2,    201.1,2,   205.5,2,    1.11,2,    0.08,2,    0.01,2,    0.17,2,-999.000,9,-999.000,9,-999.000,9,  2043.1,6,  2364.7,2,   -999.0,9,  -999.00,   8.0387,2,    25.00,-999.000,9,-999.000,9,-999.000,9, -999.00,9,  -999.0,9,  -999.0,-999.000,9,-999.000,-999.000,9,   65.66,2,    6.24,2,    3.60,-999.0000,9,-999.0000,9,-999.0000,9,-999.0000,9,-999.0000,9,-999.0000,9,  25.3881,     -999.0,9,     -999.0,9,     -999.0,9,     -999.0,9,        134,-999.000,-999.000,-999.000,     -999.0,9, -999.00,9, -999.00,9
33RO200306_02,       A16N,     134,          1,         33,         33,2,20030804,       2122,     0.3380,   -25.0027,       3565,    19.8,  25.3751,  36.0614,2,  36.0663,2,    201.2,2,   205.5,2,    1.10,2,    0.09,2,    0.02,2,    0.17,2,-999.000,9,-999.000,9,-999.000,9,  -999.0,9,  -999.0,9,   -999.0,9,  -999.00,-999.0000,9,  -999.00,-999.000,9,-999.000,9,-999.000,9, -999.00,9,  -999.0,9,  -999.0,-999.000,9,-999.000,-999.000,9,   67.97,2,    6.35,2,   19.80,-999.0000,9,-999.0000,9,-999.0000,9,-999.0000,9,-999.0000,9,-999.0000,9,  25.3707,     -999.0,9,     -999.0,9,     -999.0,9,     -999.0,9,        134,-999.000,-999.000,-999.000,     -999.0,9, -999.00,9, -999.00,9
33RO200306_02,       A16N,     134,          1,         32,         32,2,20030804,       2122,     0.3380,   -25.0027,       3565,    40.5,  25.0677,  36.1339,2,  36.1576,2,    197.2,2,   200.1,2,    1.20,2,    0.67,2,    0.11,2,    0.21,2,-999.000,9,-999.000,9,-999.000,9,  -999.0,9,  -999.0,9,   -999.0,9,  -999.00,-999.0000,9,  -999.00,-999.000,9,-999.000,9,-999.000,9, -999.00,9,  -999.0,9,  -999.0,-999.000,9,-999.000,-999.000,9, -999.00,9, -999.00,9,   40.50,-999.0000,9,-999.0000,9,-999.0000,9,-999.0000,9,-999.0000,9,-999.0000,9,  25.0589,     -999.0,9,     -999.0,9,     -999.0,9,     -999.0,9,        134,-999.000,-999.000,-999.000,     -999.0,9, -999.00,9, -999.00,9
33RO200306_02,       A16N,     134,          1,         31,         31,2,20030804,       2122,     0.3380,   -25.0027,       3565,    60.6,  23.2666,  36.2351,2,  36.2272,2,    184.2,2,   183.4,2,    1.82,2,    3.25,2,    0.10,2,    0.36,2,-999.000,9,-999.000,9,-999.000,9,  -999.0,9,  -999.0,9,   -999.0,9,  -999.00,-999.0000,9,  -999.00,-999.000,9,-999.000,9,-999.000,9, -999.00,9,  -999.0,9,  -999.0,-999.000,9,-999.000,-999.000,9,   63.58,2,    8.26,2,   60.60,-999.0000,9,-999.0000,9,-999.0000,9,-999.0000,9,-999.0000,9,-999.0000,9,  23.2541,     -999.0,9,     -999.0,9,     -999.0,9,     -999.0,9,        134,-999.000,-999.000,-999.000,     -999.0,9, -999.00,9, -999.00,9
33RO200306_02,       A16N,     134,          1,         30,         30,2,20030804,       2122,     0.3380,   -25.0027,       3565,    79.0,  19.4250,  36.0930,2,  36.1080,2,    168.7,2,  -999.0,1,    3.31,2,    8.01,2,    0.04,2,    0.68,2,-999.000,9,-999.000,9,-999.000,9,  -999.0,9,  -999.0,9,   -999.0,9,  -999.00,-999.0000,9,  -999.00,-999.000,9,-999.000,9,-999.000,9, -999.00,9,  -999.0,9,  -999.0,-999.000,9,-999.000,-999.000,9, -999.00,9, -999.00,9,   79.00,-999.0000,9,-999.0000,9,-999.0000,9,-999.0000,9,-999.0000,9,-999.0000,9,  19.4106,     -999.0,9,     -999.0,9,     -999.0,9,     -999.0,9,        134,-999.000,-999.000,-999.000,     -999.0,9, -999.00,9, -999.00,9
33RO200306_02,       A16N,     134,          1,         29,         29,2,20030804,       2122,     0.3380,   -25.0027,       3565,    99.7,  16.5768,  35.7719,2,  35.7809,2,    164.3,2,   166.5,2,    4.48,2,   11.27,2,    0.03,2,    0.90,2,-999.000,9,-999.000,9,-999.000,9,  -999.0,9,  -999.0,9,   -999.0,9,  -999.00,-999.0000,9,  -999.00,-999.000,9,-999.000,9,-999.000,9, -999.00,9,  -999.0,9,  -999.0,-999.000,9,-999.000,-999.000,9,   54.80,2,   14.96,2,   99.70,-999.0000,9,-999.0000,9,-999.0000,9,-999.0000,9,-999.0000,9,-999.0000,9,  16.5606,     -999.0,9,     -999.0,9,     -999.0,9,     -999.0,9,        134,-999.000,-999.000,-999.000,     -999.0,9, -999.00,9, -999.00,9
33RO200306_02,       A16N,     134,          1,         28,         28,2,20030804,       2122,     0.3380,   -25.0027,       3565,   125.8,  15.0400,  35.5718,2,  35.5671,2,    160.9,2,   169.0,2,    5.66,2,   13.22,2,    0.02,2,    1.01,2,-999.000,9,-999.000,9,-999.000,9,  -999.0,9,  -999.0,9,   -999.0,9,  -999.00,-999.0000,9,  -999.00,-999.000,9,-999.000,9,-999.000,9, -999.00,9,  -999.0,9,  -999.0,-999.000,9,-999.000,-999.000,9, -999.00,9, -999.00,9,  125.80,-999.0000,9,-999.0000,9,-999.0000,9,-999.0000,9,-999.0000,9,-999.0000,9,  15.0209,     -999.0,9,     -999.0,9,     -999.0,9,     -999.0,9,        134,-999.000,-999.000,-999.000,     -999.0,9, -999.00,9, -999.00,9
33RO200306_02,       A16N,     134,          1,         27,         27,2,20030804,       2122,     0.3380,   -25.0027,       3565,   149.7,  14.5118,  35.4959,2,  35.4864,2,    158.5,2,   168.3,2,    5.95,2,   13.91,2,    0.02,2,    1.05,2,-999.000,9,-999.000,9,-999.000,9,  -999.0,9,  -999.0,9,   -999.0,9,  -999.00,-999.0000,9,  -999.00,-999.000,9,-999.000,9,-999.000,9, -999.00,9,  -999.0,9,  -999.0,-999.000,9,-999.000,-999.000,9,   47.88,2,   17.53,2,  149.70,-999.0000,9,-999.0000,9,-999.0000,9,-999.0000,9,-999.0000,9,-999.0000,9,  14.4896,     -999.0,9,     -999.0,9,     -999.0,9,     -999.0,9,        134,-999.000,-999.000,-999.000,     -999.0,9, -999.00,9, -999.00,9
33RO200306_02,       A16N,     134,          1,         26,         26,2,20030804,       2122,     0.3380,   -25.0027,       3565,   175.0,  13.7624,  35.3812,2,  35.3813,2,    157.3,2,   164.1,2,    6.38,2,   15.22,2,    0.01,2,    1.12,2,-999.000,9,-999.000,9,-999.000,9,  -999.0,9,  -999.0,9,   -999.0,9,  -999.00,-999.0000,9,  -999.00,-999.000,9,-999.000,9,-999.000,9, -999.00,9,  -999.0,9,  -999.0,-999.000,9,-999.000,-999.000,9, -999.00,9, -999.00,9,  175.00,-999.0000,9,-999.0000,9,-999.0000,9,-999.0000,9,-999.0000,9,-999.0000,9,  13.7373,     -999.0,9,     -999.0,9,     -999.0,9,     -999.0,9,        134,-999.000,-999.000,-999.000,     -999.0,9, -999.00,9, -999.00,9
33RO200306_02,       A16N,     134,          1,         25,         25,2,20030804,       2122,     0.3380,   -25.0027,       3565,   200.9,  13.3591,  35.3197,2,  35.3216,2,    154.3,2,   132.1,2,    7.57,2,   19.41,2,    0.01,2,    1.34,2,-999.000,9,-999.000,9,-999.000,9,  -999.0,9,  -999.0,9,   -999.0,9,  -999.00,-999.0000,9,  -999.00,-999.000,9,-999.000,9,-999.000,9, -999.00,9,  -999.0,9,  -999.0,-999.000,9,-999.000,-999.000,9,   46.75,2,   23.05,2,  200.90,-999.0000,9,-999.0000,9,-999.0000,9,-999.0000,9,-999.0000,9,-999.0000,9,  13.3309,     -999.0,9,     -999.0,9,     -999.0,9,     -999.0,9,        134,-999.000,-999.000,-999.000,     -999.0,9, -999.00,9, -999.00,9
33RO200306_02,       A16N,     134,          1,         24,         24,2,20030804,       2122,     0.3380,   -25.0027,       3565,   252.1,  12.6029,  35.2219,2,  35.2225,2,    121.2,2,   101.9,2,    9.24,2,   24.08,2,    0.01,2,    1.58,2,-999.000,9,-999.000,9,-999.000,9,  -999.0,9,  -999.0,9,   -999.0,9,  -999.00,-999.0000,9,  -999.00,-999.000,9,-999.000,9,-999.000,9, -999.00,9,  -999.0,9,  -999.0,-999.000,9,-999.000,-999.000,9,   46.83,2,   28.20,2,  252.10,-999.0000,9,-999.0000,9,-999.0000,9,-999.0000,9,-999.0000,9,-999.0000,9,  12.5688,     -999.0,9,     -999.0,9,     -999.0,9,     -999.0,9,        134,-999.000,-999.000,-999.000,     -999.0,9, -999.00,9, -999.00,9
33RO200306_02,       A16N,     134,          1,         23,         23,2,20030804,       2122,     0.3380,   -25.0027,       3565,   302.1,  10.7256,  35.0056,2,  35.0112,2,     91.7,2,    94.3,2,   12.13,2,   28.20,2,    0.01,2,    1.81,2,-999.000,9,-999.000,9,-999.000,9,  -999.0,9,  -999.0,9,   -999.0,9,  -999.00,-999.0000,9,  -999.00,-999.000,9,-999.000,9,-999.000,9, -999.00,9,  -999.0,9,  -999.0,-999.000,9,-999.000,-999.000,9,   46.34,2,   32.49,2,  302.10,-999.0000,9,-999.0000,9,-999.0000,9,-999.0000,9,-999.0000,9,-999.0000,9,  10.6888,     -999.0,9,     -999.0,9,     -999.0,9,     -999.0,9,        134,-999.000,-999.000,-999.000,     -999.0,9, -999.00,9, -999.00,9
33RO200306_02,       A16N,     134,          1,         22,         22,2,20030804,       2122,     0.3380,   -25.0027,       3565,   347.3,   9.5226,  34.8609,2,  34.8586,2,    106.6,2,   111.7,2,   13.84,2,   28.88,2,    0.01,2,    1.87,2,-999.000,9,-999.000,9,-999.000,9,  -999.0,9,  -999.0,9,   -999.0,9,  -999.00,-999.0000,9,  -999.00,-999.000,9,-999.000,9,-999.000,9, -999.00,9,  -999.0,9,  -999.0,-999.000,9,-999.000,-999.000,9,   46.59,2,   33.46,2,  347.30,-999.0000,9,-999.0000,9,-999.0000,9,-999.0000,9,-999.0000,9,-999.0000,9,   9.4833,     -999.0,9,     -999.0,9,     -999.0,9,     -999.0,9,        134,-999.000,-999.000,-999.000,     -999.0,9, -999.00,9, -999.00,9
33RO200306_02,       A16N,     134,          1,         21,         21,2,20030804,       2122,     0.3380,   -25.0027,       3565,   396.0,   8.1096,  34.7173,2,  34.7155,2,    112.9,2,   116.5,2,   17.11,2,   31.43,2,    0.00,2,    2.04,2,-999.000,9,-999.000,9,-999.000,9,  -999.0,9,  -999.0,9,   -999.0,9,  -999.00,-999.0000,9,  -999.00,-999.000,9,-999.000,9,-999.000,9, -999.00,9,  -999.0,9,  -999.0,-999.000,9,-999.000,-999.000,9,   42.60,2,   35.63,2,  396.00,-999.0000,9,-999.0000,9,-999.0000,9,-999.0000,9,-999.0000,9,-999.0000,9,   8.0688,     -999.0,9,     -999.0,9,     -999.0,9,     -999.0,9,        134,-999.000,-999.000,-999.000,     -999.0,9, -999.00,9, -999.00,9
33RO200306_02,       A16N,     134,          1,         20,         20,2,20030804,       2122,     0.3380,   -25.0027,       3565,   434.9,   7.4535,  34.6513,2,  34.6465,2,    118.0,2,   126.5,2,   18.64,2,   31.74,2,    0.01,2,    2.08,2,-999.000,9,-999.000,9,-999.000,9,  -999.0,9,  -999.0,9,   -999.0,9,  -999.00,-999.0000,9,  -999.00,-999.000,9,-999.000,9,-999.000,9, -999.00,9,  -999.0,9,  -999.0,-999.000,9,-999.000,-999.000,9,   42.52,2,   36.47,2,  434.90,-999.0000,9,-999.0000,9,-999.0000,9,-999.0000,9,-999.0000,9,-999.0000,9,   7.4108,     -999.0,9,     -999.0,9,     -999.0,9,     -999.0,9,        134,-999.000,-999.000,-999.000,     -999.0,9, -999.00,9, -999.00,9
33RO200306_02,       A16N,     134,          1,         19,         19,2,20030804,       2122,     0.3380,   -25.0027,       3565,   500.0,   6.7518,  34.5944,2,  34.5955,2,    130.2,2,   131.9,2,   20.86,2,   32.70,2,    0.01,2,    2.16,2,-999.000,9,-999.000,9,-999.000,9,  -999.0,9,  -999.0,9,   -999.0,9,  -999.00,-999.0000,9,  -999.00,-999.000,9,-999.000,9,-999.000,9, -999.00,9,  -999.0,9,  -999.0,-999.000,9,-999.000,-999.000,9,   42.03,2,   37.53,2,  500.00,-999.0000,9,-999.0000,9,-999.0000,9,-999.0000,9,-999.0000,9,-999.0000,9,   6.7052,     -999.0,9,     -999.0,9,     -999.0,9,     -999.0,9,        134,-999.000,-999.000,-999.000,     -999.0,9, -999.00,9, -999.00,9
33RO200306_02,       A16N,     134,          1,         18,         18,2,20030804,       2122,     0.3380,   -25.0027,       3565,   600.5,   6.3796,  34.5654,2,  34.5643,2,    135.1,2,   135.2,2,   22.30,2,   33.19,2,    0.00,2,    2.20,2,-999.000,9,-999.000,9,-999.000,9,  -999.0,9,  -999.0,9,   -999.0,9,  -999.00,-999.0000,9,  -999.00,-999.000,9,-999.000,9,-999.000,9, -999.00,9,  -999.0,9,  -999.0,-999.000,9,-999.000,-999.000,9,   41.39,2,   37.83,2,  600.50,-999.0000,9,-999.0000,9,-999.0000,9,-999.0000,9,-999.0000,9,-999.0000,9,   6.3249,     -999.0,9,     -999.0,9,     -999.0,9,     -999.0,9,        134,-999.000,-999.000,-999.000,     -999.0,9, -999.00,9, -999.00,9
33RO200306_02,       A16N,     134,          1,         17,         17,2,20030804,       2122,     0.3380,   -25.0027,       3565,   699.6,   5.6083,  34.5173,2,  34.5167,2,    143.5,2,   142.7,2,   25.66,2,   33.88,2,    0.00,2,    2.27,2,-999.000,9,-999.000,9,-999.000,9,  -999.0,9,  -999.0,9,   -999.0,9,  -999.00,-999.0000,9,  -999.00,-999.000,9,-999.000,9,-999.000,9, -999.00,9,  -999.0,9,  -999.0,-999.000,9,-999.000,-999.000,9,   40.81,2,   37.66,2,  699.60,-999.0000,9,-999.0000,9,-999.0000,9,-999.0000,9,-999.0000,9,-999.0000,9,   5.5483,     -999.0,9,     -999.0,9,     -999.0,9,     -999.0,9,        134,-999.000,-999.000,-999.000,     -999.0,9, -999.00,9, -999.00,9
33RO200306_02,       A16N,     134,          1,         16,         16,2,20030804,       2122,     0.3380,   -25.0027,       3565,   800.3,   4.9154,  34.5094,2,  34.5103,2,    150.5,2,   148.5,2,   29.53,2,   34.28,2,    0.00,2,    2.32,2,-999.000,9,-999.000,9,-999.000,9,  -999.0,9,  -999.0,9,   -999.0,9,  -999.00,-999.0000,9,  -999.00,-999.000,9,-999.000,9,-999.000,9, -999.00,9,  -999.0,9,  -999.0,-999.000,9,-999.000,-999.000,9,   40.65,2,   38.00,2,  800.30,-999.0000,9,-999.0000,9,-999.0000,9,-999.0000,9,-999.0000,9,-999.0000,9,   4.8504,     -999.0,9,     -999.0,9,     -999.0,9,     -999.0,9,        134,-999.000,-999.000,-999.000,     -999.0,9, -999.00,9, -999.00,9
33RO200306_02,       A16N,     134,          1,         15,         15,2,20030804,       2122,     0.3380,   -25.0027,       3565,   900.7,   4.6645,  34.5584,2,  34.5588,2,    155.0,2,   151.7,2,   30.82,2,   33.71,2,    0.00,2,    2.30,2,-999.000,9,-999.000,9,-999.000,9,  -999.0,9,  -999.0,9,   -999.0,9,  -999.00,-999.0000,9,  -999.00,-999.000,9,-999.000,9,-999.000,9, -999.00,9,  -999.0,9,  -999.0,-999.000,9,-999.000,-999.000,9,   41.14,2,   37.17,2,  900.70,-999.0000,9,-999.0000,9,-999.0000,9,-999.0000,9,-999.0000,9,-999.0000,9,   4.5923,     -999.0,9,     -999.0,9,     -999.0,9,     -999.0,9,        134,-999.000,-999.000,-999.000,     -999.0,9, -999.00,9, -999.00,9
33RO200306_02,       A16N,     134,          1,         14,         14,2,20030804,       2122,     0.3380,   -25.0027,       3565,   999.4,   4.5745,  34.6235,2,  34.6253,2,    159.7,2,   156.5,2,   30.37,2,   32.69,2,    0.00,2,    2.23,2,-999.000,9,-999.000,9,-999.000,9,  -999.0,9,  -999.0,9,   -999.0,9,  -999.00,-999.0000,9,  -999.00,-999.000,9,-999.000,9,-999.000,9, -999.00,9,  -999.0,9,  -999.0,-999.000,9,-999.000,-999.000,9,   40.69,2,   36.40,2,  999.40,-999.0000,9,-999.0000,9,-999.0000,9,-999.0000,9,-999.0000,9,-999.0000,9,   4.4943,     -999.0,9,     -999.0,9,     -999.0,9,     -999.0,9,        134,-999.000,-999.000,-999.000,     -999.0,9, -999.00,9, -999.00,9
33RO200306_02,       A16N,     134,          1,         13,         13,2,20030804,       2122,     0.3380,   -25.0027,       3565,  1100.6,   4.5214,  34.7096,2,  34.7089,2,    169.0,2,   165.4,2,   28.61,2,   30.75,2,    0.00,2,    2.10,2,   0.030,2,   0.020,2,   0.001,2,  -999.0,9,  -999.0,9,   -999.0,9,  -999.00,-999.0000,9,  -999.00,-999.000,9,-999.000,9,-999.000,9, -999.00,9,  -999.0,9,  -999.0,-999.000,9,-999.000,-999.000,9, -999.00,9, -999.00,9, 1100.60,-999.0000,9,-999.0000,9,-999.0000,9,-999.0000,9,-999.0000,9,-999.0000,9,   4.4325,     -999.0,9,     -999.0,9,     -999.0,9,     -999.0,9,        134,-999.000,-999.000,-999.000,     -999.0,9, -999.00,9, -999.00,9
33RO200306_02,       A16N,     134,          1,         12,         12,2,20030804,       2122,     0.3380,   -25.0027,       3565,  1199.7,   4.5466,  34.7839,2,  34.7857,2,    174.5,2,   176.0,2,   26.24,2,   28.90,2,    0.00,2,    1.97,2,-999.000,9,-999.000,9,-999.000,9,  -999.0,9,  -999.0,9,   -999.0,9,  -999.00,-999.0000,9,  -999.00,-999.000,9,-999.000,9,-999.000,9, -999.00,9,  -999.0,9,  -999.0,-999.000,9,-999.000,-999.000,9, -999.00,9, -999.00,9, 1199.70,-999.0000,9,-999.0000,9,-999.0000,9,-999.0000,9,-999.0000,9,-999.0000,9,   4.4485,     -999.0,9,     -999.0,9,     -999.0,9,     -999.0,9,        134,-999.000,-999.000,-999.000,     -999.0,9, -999.00,9, -999.00,9
33RO200306_02,       A16N,     134,          1,         11,         11,2,20030804,       2122,     0.3380,   -25.0027,       3565,  1299.5,   4.6126,  34.8900,2,  34.8905,2,    197.6,2,   195.7,2,   22.02,2,   25.58,2,    0.00,2,    1.73,2,   0.107,2,   0.060,2,   0.002,2,  -999.0,9,  -999.0,9,   -999.0,9,  -999.00,-999.0000,9,  -999.00,-999.000,9,-999.000,9,-999.000,9, -999.00,9,  -999.0,9,  -999.0,-999.000,9,-999.000,-999.000,9, -999.00,9, -999.00,9, 1299.50,-999.0000,9,-999.0000,9,-999.0000,9,-999.0000,9,-999.0000,9,-999.0000,9,   4.5045,     -999.0,9,     -999.0,9,     -999.0,9,     -999.0,9,        134,-999.000,-999.000,-999.000,     -999.0,9, -999.00,9, -999.00,9
33RO200306_02,       A16N,     134,          1,         10,         10,2,20030804,       2122,     0.3380,   -25.0027,       3565,  1399.4,   4.5100,  34.9426,2,  34.9444,2,    212.4,2,   213.6,2,   19.48,2,   23.24,2,    0.00,2,    1.57,2,-999.000,9,-999.000,9,-999.000,9,  -999.0,9,  -999.0,9,   -999.0,9,  -999.00,-999.0000,9,  -999.00,-999.000,9,-999.000,9,-999.000,9, -999.00,9,  -999.0,9,  -999.0,-999.000,9,-999.000,-999.000,9, -999.00,9, -999.00,9, 1399.40,-999.0000,9,-999.0000,9,-999.0000,9,-999.0000,9,-999.0000,9,-999.0000,9,   4.3936,     -999.0,9,     -999.0,9,     -999.0,9,     -999.0,9,        134,-999.000,-999.000,-999.000,     -999.0,9, -999.00,9, -999.00,9
33RO200306_02,       A16N,     134,          1,          9,          9,2,20030804,       2122,     0.3380,   -25.0027,       3565,  1498.7,   4.3805,  34.9493,2,  34.9494,2,    217.2,2,   225.2,2,   19.17,2,   22.68,2,    0.00,2,    1.53,2,   0.137,2,   0.076,2,   0.004,2,  -999.0,9,  -999.0,9,   -999.0,9,  -999.00,-999.0000,9,  -999.00,-999.000,9,-999.000,9,-999.000,9, -999.00,9,  -999.0,9,  -999.0,-999.000,9,-999.000,-999.000,9,   40.70,2,   26.07,2, 1498.70,-999.0000,9,-999.0000,9,-999.0000,9,-999.0000,9,-999.0000,9,-999.0000,9,   4.2562,     -999.0,9,     -999.0,9,     -999.0,9,     -999.0,9,        134,-999.000,-999.000,-999.000,     -999.0,9, -999.00,9, -999.00,9
33RO200306_02,       A16N,     134,          1,          8,          8,2,20030804,       2122,     0.3380,   -25.0027,       3565,  1699.5,   4.0755,  34.9756,2,  34.9762,2,    235.4,2,   238.8,2,   17.71,2,   20.54,2,    0.00,2,    1.39,2,-999.000,9,-999.000,9,-999.000,9,  -999.0,9,  -999.0,9,   -999.0,9,  -999.00,-999.0000,9,  -999.00,-999.000,9,-999.000,9,-999.000,9, -999.00,9,  -999.0,9,  -999.0,-999.000,9,-999.000,-999.000,9, -999.00,9, -999.00,9, 1699.50,-999.0000,9,-999.0000,9,-999.0000,9,-999.0000,9,-999.0000,9,-999.0000,9,   3.9359,     -999.0,9,     -999.0,9,     -999.0,9,     -999.0,9,        134,-999.000,-999.000,-999.000,     -999.0,9, -999.00,9, -999.00,9