BOTTLE,20230908CCHSIOCBG
EXPOCODE,SECT_ID,STNNBR,CASTNO,SAMPNO,BTLNBR,BTLNBR_FLAG_W,DATE,TIME,LATITUDE,LONGITUDE,DEPTH,CTDPRS,CTDTMP,CTDSAL,CTDSAL_FLAG_W,SALNTY,SALNTY_FLAG_W,CTDOXY,CTDOXY_FLAG_W,OXYGEN,OXYGEN_FLAG_W,SILCAT,SILCAT_FLAG_W,NITRAT,NITRAT_FLAG_W,NITRIT,NITRIT_FLAG_W,PHSPHT,PHSPHT_FLAG_W,CFC-11,CFC-11_FLAG_W,CFC-12,CFC-12_FLAG_W,CFC113,CFC113_FLAG_W,TCARBN,TCARBN_FLAG_W,ALKALI,ALKALI_FLAG_W,FCO2,FCO2_FLAG_W,FCO2TMP,PH_SWS,PH_SWS_FLAG_W,PH_TMP,TRITUM,TRITUM_FLAG_W,HELIUM,HELIUM_FLAG_W,DELHE3,DELHE3_FLAG_W,DELC13,DELC13_FLAG_W,DELC14,DELC14_FLAG_W,C14ERR,NEON,NEON_FLAG_W,NEONER,POC,POC_FLAG_W,DOC,DOC_FLAG_W,TDN,TDN_FLAG_W,CTDRAW,CDOM325,CDOM325_FLAG_W,CDOM340,CDOM340_FLAG_W,CDOM380,CDOM380_FLAG_W,CDOM412,CDOM412_FLAG_W,CDOMSL,CDOMSL_FLAG_W,CDOMSN,CDOMSN_FLAG_W,THETA,PON,PON_FLAG_W,HCFC-22,HCFC-22_FLAG_W,HCFC-142b,HCFC-142b_FLAG_W,HCFC-141b,HCFC-141b_FLAG_W,STNNBR_U,HELIER,DELHER,TRITER,CH3CL,CH3CL_FLAG_W,CH3BR,CH3BR_FLAG_W,CH3I,CH3I_FLAG_W
,,,,,,,,,,,METERS,DBAR,ITS-90,PSS-78,,PSS-78,,UMOL/KG,,UMOL/KG,,UMOL/KG,,UMOL/KG,,UMOL/KG,,UMOL/KG,,PMOL/KG,,PMOL/KG,,PMOL/KG,,UMOL/KG,,UMOL/KG,,UATM,,DEG C,,,DEG C,TU,,NMOL/KG,,PERCNT,,/MILLE,,/MILLE,,/MILLE,NMOL/KG,,NMOL/KG,UG/KG,,UMOL/KG,,UMOL/KG,,DBAR,1/M,,1/M,,1/M,,1/M,,1/NM,,1/NM,,DEG C,UMOL/L,,PMOL/KG,,PMOL/KG,,PMOL/KG,,,NMOL/KG,PERCNT,TU,PMOL/KG,,PMOL/KG,,PMOL/KG,
33RO200306_01,       A16N,     014,          1,         32,         32,2,20030622,       1642,    58.5008,   -20.0003,       2570,     2.2,  12.2385,  35.3729,2,  35.3742,2,    268.9,2,   268.0,2,    0.18,2,    4.15,2,    0.09,2,    0.29,2,-999.000,9,-999.000,9,-999.000,9,  2083.3,2,  2329.0,2,    440.9,2,    20.00,   7.9289,2,    25.00,-999.000,9,-999.000,9,-999.000,9, -999.00,9,  -999.0,9,  -999.0,-999.000,9,-999.000,   7.431,2, -999.00,9, -999.00,9,    2.20,-999.0000,9,-999.0000,9,-999.0000,9,-999.0000,9,-999.0000,9,-999.0000,9,  12.2382,      0.773,2,     -999.0,9,     -999.0,9,     -999.0,9,         14,-999.000,-999.000,-999.000,     -999.0,9, -999.00,9, -999.00,9
33RO200306_01,       A16N,     014,          1,         31,         31,2,20030622,       1642,    58.5008,   -20.0003,       2570,    21.2,  12.1722,  35.3709,2,  35.3702,2,    268.7,2,   270.1,2,    0.23,2,    4.19,2,    0.09,2,    0.29,2,-999.000,9,-999.000,9,-999.000,9,  -999.0,9,  -999.0,9,   -999.0,9,  -999.00,-999.0000,9,  -999.00,-999.000,9,-999.000,9,-999.000,9, -999.00,9,  -999.0,9,  -999.0,-999.000,9,-999.000,   8.273,2, -999.00,9, -999.00,9,   21.20,-999.0000,9,-999.0000,9,-999.0000,9,-999.0000,9,-999.0000,9,-999.0000,9,  12.1694,      0.851,2,     -999.0,9,     -999.0,9,     -999.0,9,         14,-999.000,-999.000,-999.000,     -999.0,9, -999.00,9, -999.00,9
33RO200306_01,       A16N,     014,          1,         30,         30,2,20030622,       1642,    58.5008,   -20.0003,       2570,    40.7,  11.7358,  35.3625,2,  35.3667,2,    269.1,2,   271.4,2,    0.22,2,    4.49,2,    0.10,2,    0.32,2,-999.000,9,-999.000,9,-999.000,9,  -999.0,9,  -999.0,9,   -999.0,9,  -999.00,-999.0000,9,  -999.00,-999.000,9,-999.000,9,-999.000,9, -999.00,9,  -999.0,9,  -999.0,-999.000,9,-999.000,   7.038,2, -999.00,9, -999.00,9,   40.70,-999.0000,9,-999.0000,9,-999.0000,9,-999.0000,9,-999.0000,9,-999.0000,9,  11.7306,      0.805,2,     -999.0,9,     -999.0,9,     -999.0,9,         14,-999.000,-999.000,-999.000,     -999.0,9, -999.00,9, -999.00,9
33RO200306_01,       A16N,     014,          1,         29,         29,2,20030622,       1642,    58.5008,   -20.0003,       2570,    51.7,  11.4242,  35.3968,2,  35.4043,2,    268.0,2,   269.3,2,    0.45,2,    5.60,2,    0.13,2,    0.41,2,-999.000,9,-999.000,9,-999.000,9,  -999.0,9,  -999.0,9,   -999.0,9,  -999.00,-999.0000,9,  -999.00,-999.000,9,-999.000,9,-999.000,9, -999.00,9,  -999.0,9,  -999.0,-999.000,9,-999.000,   7.011,2, -999.00,9, -999.00,9,   51.70,-999.0000,9,-999.0000,9,-999.0000,9,-999.0000,9,-999.0000,9,-999.0000,9,  11.4177,      0.866,2,     -999.0,9,     -999.0,9,     -999.0,9,         14,-999.000,-999.000,-999.000,     -999.0,9, -999.00,9, -999.00,9
33RO200306_01,       A16N,     014,          1,         28,         28,2,20030622,       1642,    58.5008,   -20.0003,       2570,    80.1,  10.8831,  35.4486,2,  35.4473,2,    258.0,2,   258.0,2,    1.58,2,    7.90,2,    0.31,2,    0.58,2,-999.000,9,-999.000,9,-999.000,9,  -999.0,9,  -999.0,9,   -999.0,9,  -999.00,-999.0000,9,  -999.00,-999.000,9,-999.000,9,-999.000,9, -999.00,9,  -999.0,9,  -999.0,-999.000,9,-999.000,   3.258,2, -999.00,9, -999.00,9,   80.10,-999.0000,9,-999.0000,9,-999.0000,9,-999.0000,9,-999.0000,9,-999.0000,9,  10.8733,      0.379,2,     -999.0,9,     -999.0,9,     -999.0,9,         14,-999.000,-999.000,-999.000,     -999.0,9, -999.00,9, -999.00,9
33RO200306_01,       A16N,     014,          1,         27,         27,2,20030622,       1642,    58.5008,   -20.0003,       2570,   100.6,  10.6935,  35.4314,2,  35.4281,2,    256.8,2,   256.2,2,    2.37,2,    9.24,2,    0.31,2,    0.62,2,-999.000,9,-999.000,9,-999.000,9,  -999.0,9,  -999.0,9,   -999.0,9,  -999.00,-999.0000,9,  -999.00,-999.000,9,-999.000,9,-999.000,9, -999.00,9,  -999.0,9,  -999.0,-999.000,9,-999.000,   2.457,2, -999.00,9, -999.00,9,  100.60,-999.0000,9,-999.0000,9,-999.0000,9,-999.0000,9,-999.0000,9,-999.0000,9,  10.6813,      0.237,2,     -999.0,9,     -999.0,9,     -999.0,9,         14,-999.000,-999.000,-999.000,     -999.0,9, -999.00,9, -999.00,9
33RO200306_01,       A16N,     014,          1,         26,         26,2,20030622,       1642,    58.5008,   -20.0003,       2570,   125.0,  10.5681,  35.4129,2,  35.4126,2,    255.9,2,   258.7,2,    2.99,2,   10.07,2,    0.10,2,    0.64,2,-999.000,9,-999.000,9,-999.000,9,  -999.0,9,  -999.0,9,   -999.0,9,  -999.00,-999.0000,9,  -999.00,-999.000,9,-999.000,9,-999.000,9, -999.00,9,  -999.0,9,  -999.0,-999.000,9,-999.000,-999.000,9, -999.00,9, -999.00,9,  125.00,-999.0000,9,-999.0000,9,-999.0000,9,-999.0000,9,-999.0000,9,-999.0000,9,  10.5531,     -999.0,9,     -999.0,9,     -999.0,9,     -999.0,9,         14,-999.000,-999.000,-999.000,     -999.0,9, -999.00,9, -999.00,9
33RO200306_01,       A16N,     014,          1,         25,         25,2,20030622,       1642,    58.5008,   -20.0003,       2570,   150.3,  10.4440,  35.3970,2,  35.3979,2,    255.6,2,   259.4,2,    4.35,2,   10.85,2,    0.04,2,    0.69,2,-999.000,9,-999.000,9,-999.000,9,  -999.0,9,  -999.0,9,   -999.0,9,  -999.00,-999.0000,9,  -999.00,-999.000,9,-999.000,9,-999.000,9, -999.00,9,  -999.0,9,  -999.0,-999.000,9,-999.000,   2.057,2, -999.00,9, -999.00,9,  150.30,-999.0000,9,-999.0000,9,-999.0000,9,-999.0000,9,-999.0000,9,-999.0000,9,  10.4260,      0.270,2,     -999.0,9,     -999.0,9,     -999.0,9,         14,-999.000,-999.000,-999.000,     -999.0,9, -999.00,9, -999.00,9
33RO200306_01,       A16N,     014,          1,         24,         24,2,20030622,       1642,    58.5008,   -20.0003,       2570,   174.6,  10.3709,  35.3841,2,  35.3842,2,    255.9,2,   256.0,2,    4.70,2,   10.97,2,    0.02,2,    0.69,2,-999.000,9,-999.000,9,-999.000,9,  -999.0,9,  -999.0,9,   -999.0,9,  -999.00,-999.0000,9,  -999.00,-999.000,9,-999.000,9,-999.000,9, -999.00,9,  -999.0,9,  -999.0,-999.000,9,-999.000,-999.000,9, -999.00,9, -999.00,9,  174.60,-999.0000,9,-999.0000,9,-999.0000,9,-999.0000,9,-999.0000,9,-999.0000,9,  10.3501,     -999.0,9,     -999.0,9,     -999.0,9,     -999.0,9,         14,-999.000,-999.000,-999.000,     -999.0,9, -999.00,9, -999.00,9
33RO200306_01,       A16N,     014,          1,         23,         23,2,20030622,       1642,    58.5008,   -20.0003,       2570,   198.2,  10.3253,  35.3832,2,  35.3856,2,    255.0,2,   257.8,2,    4.75,2,   11.15,2,    0.02,2,    0.70,2,-999.000,9,-999.000,9,-999.000,9,  -999.0,9,  -999.0,9,   -999.0,9,  -999.00,-999.0000,9,  -999.00,-999.000,9,-999.000,9,-999.000,9, -999.00,9,  -999.0,9,  -999.0,-999.000,9,-999.000,-999.000,9, -999.00,9, -999.00,9,  198.20,-999.0000,9,-999.0000,9,-999.0000,9,-999.0000,9,-999.0000,9,-999.0000,9,  10.3017,     -999.0,9,     -999.0,9,     -999.0,9,     -999.0,9,         14,-999.000,-999.000,-999.000,     -999.0,9, -999.00,9, -999.00,9
33RO200306_01,       A16N,     014,          1,         22,         22,2,20030622,       1642,    58.5008,   -20.0003,       2570,   249.9,  10.2783,  35.3908,2,  35.3884,2,    253.1,2,   254.4,2,    4.69,2,   11.40,2,    0.01,2,    0.71,2,-999.000,9,-999.000,9,-999.000,9,  -999.0,9,  -999.0,9,   -999.0,9,  -999.00,-999.0000,9,  -999.00,-999.000,9,-999.000,9,-999.000,9, -999.00,9,  -999.0,9,  -999.0,-999.000,9,-999.000,   2.172,2, -999.00,9, -999.00,9,  249.90,-999.0000,9,-999.0000,9,-999.0000,9,-999.0000,9,-999.0000,9,-999.0000,9,  10.2486,      0.313,2,     -999.0,9,     -999.0,9,     -999.0,9,         14,-999.000,-999.000,-999.000,     -999.0,9, -999.00,9, -999.00,9
33RO200306_01,       A16N,     014,          1,         21,         21,2,20030622,       1642,    58.5008,   -20.0003,       2570,   300.3,   9.9803,  35.3446,2,  35.3433,2,    254.4,2,   256.3,2,    4.74,2,   11.50,2,    0.07,2,    0.73,2,-999.000,9,-999.000,9,-999.000,9,  -999.0,9,  -999.0,9,   -999.0,9,  -999.00,-999.0000,9,  -999.00,-999.000,9,-999.000,9,-999.000,9, -999.00,9,  -999.0,9,  -999.0,-999.000,9,-999.000,-999.000,9, -999.00,9, -999.00,9,  300.30,-999.0000,9,-999.0000,9,-999.0000,9,-999.0000,9,-999.0000,9,-999.0000,9,   9.9452,     -999.0,9,     -999.0,9,     -999.0,9,     -999.0,9,         14,-999.000,-999.000,-999.000,     -999.0,9, -999.00,9, -999.00,9
33RO200306_01,       A16N,     014,          1,         20,         20,2,20030622,       1642,    58.5008,   -20.0003,       2570,   349.8,   9.8743,  35.3300,2,  35.3303,2,    254.4,2,   238.8,2,    5.30,2,   11.95,2,    0.02,2,    0.75,2,-999.000,9,-999.000,9,-999.000,9,  -999.0,9,  -999.0,9,   -999.0,9,  -999.00,-999.0000,9,  -999.00,-999.000,9,-999.000,9,-999.000,9, -999.00,9,  -999.0,9,  -999.0,-999.000,9,-999.000,-999.000,9, -999.00,9, -999.00,9,  349.80,-999.0000,9,-999.0000,9,-999.0000,9,-999.0000,9,-999.0000,9,-999.0000,9,   9.8335,     -999.0,9,     -999.0,9,     -999.0,9,     -999.0,9,         14,-999.000,-999.000,-999.000,     -999.0,9, -999.00,9, -999.00,9
33RO200306_01,       A16N,     014,          1,         19,         19,2,20030622,       1642,    58.5008,   -20.0003,       2570,   399.6,   9.5776,  35.2805,2,  35.2795,2,    248.9,2,   247.7,2,    5.98,2,   12.78,2,    0.01,2,    0.81,2,-999.000,9,-999.000,9,-999.000,9,  -999.0,9,  -999.0,9,   -999.0,9,  -999.00,-999.0000,9,  -999.00,-999.000,9,-999.000,9,-999.000,9, -999.00,9,  -999.0,9,  -999.0,-999.000,9,-999.000,-999.000,9, -999.00,9, -999.00,9,  399.60,-999.0000,9,-999.0000,9,-999.0000,9,-999.0000,9,-999.0000,9,-999.0000,9,   9.5318,     -999.0,9,     -999.0,9,     -999.0,9,     -999.0,9,         14,-999.000,-999.000,-999.000,     -999.0,9, -999.00,9, -999.00,9
33RO200306_01,       A16N,     014,          1,         18,         18,2,20030622,       1642,    58.5008,   -20.0003,       2570,   450.3,   9.3383,  35.2558,2,  35.2563,2,    248.3,2,   246.9,2,    6.03,2,   13.06,2,    0.02,2,    0.83,2,-999.000,9,-999.000,9,-999.000,9,  -999.0,9,  -999.0,9,   -999.0,9,  -999.00,-999.0000,9,  -999.00,-999.000,9,-999.000,9,-999.000,9, -999.00,9,  -999.0,9,  -999.0,-999.000,9,-999.000,-999.000,9, -999.00,9, -999.00,9,  450.30,-999.0000,9,-999.0000,9,-999.0000,9,-999.0000,9,-999.0000,9,-999.0000,9,   9.2874,     -999.0,9,     -999.0,9,     -999.0,9,     -999.0,9,         14,-999.000,-999.000,-999.000,     -999.0,9, -999.00,9, -999.00,9
33RO200306_01,       A16N,     014,          1,         17,         17,2,20030622,       1642,    58.5008,   -20.0003,       2570,   499.9,   9.1593,  35.2520,2,  35.2535,2,    232.7,2,   238.7,2,    6.82,2,   13.95,2,    0.01,2,    0.88,2,-999.000,9,-999.000,9,-999.000,9,  -999.0,9,  -999.0,9,   -999.0,9,  -999.00,-999.0000,9,  -999.00,-999.000,9,-999.000,9,-999.000,9, -999.00,9,  -999.0,9,  -999.0,-999.000,9,-999.000,   1.839,2, -999.00,9, -999.00,9,  499.90,-999.0000,9,-999.0000,9,-999.0000,9,-999.0000,9,-999.0000,9,-999.0000,9,   9.1033,      0.271,2,     -999.0,9,     -999.0,9,     -999.0,9,         14,-999.000,-999.000,-999.000,     -999.0,9, -999.00,9, -999.00,9
33RO200306_01,       A16N,     014,          1,         16,         16,2,20030622,       1642,    58.5008,   -20.0003,       2570,   594.6,   8.7118,  35.2281,2,  35.2286,2,    233.9,2,   230.6,2,    7.77,2,   14.99,2,    0.01,2,    0.95,2,-999.000,9,-999.000,9,-999.000,9,  -999.0,9,  -999.0,9,   -999.0,9,  -999.00,-999.0000,9,  -999.00,-999.000,9,-999.000,9,-999.000,9, -999.00,9,  -999.0,9,  -999.0,-999.000,9,-999.000,-999.000,9, -999.00,9, -999.00,9,  594.60,-999.0000,9,-999.0000,9,-999.0000,9,-999.0000,9,-999.0000,9,-999.0000,9,   8.6468,     -999.0,9,     -999.0,9,     -999.0,9,     -999.0,9,         14,-999.000,-999.000,-999.000,     -999.0,9, -999.00,9, -999.00,9
33RO200306_01,       A16N,     014,          1,         15,         15,2,20030622,       1642,    58.5008,   -20.0003,       2570,   698.7,   7.7141,  35.1250,2,  35.1249,2,    203.6,2,   198.2,2,   10.68,2,   18.31,2,    0.00,2,    1.16,2,-999.000,9,-999.000,9,-999.000,9,  -999.0,9,  -999.0,9,   -999.0,9,  -999.00,-999.0000,9,  -999.00,-999.000,9,-999.000,9,-999.000,9, -999.00,9,  -999.0,9,  -999.0,-999.000,9,-999.000,-999.000,9, -999.00,9, -999.00,9,  698.70,-999.0000,9,-999.0000,9,-999.0000,9,-999.0000,9,-999.0000,9,-999.0000,9,   7.6424,     -999.0,9,     -999.0,9,     -999.0,9,     -999.0,9,         14,-999.000,-999.000,-999.000,     -999.0,9, -999.00,9, -999.00,9
33RO200306_01,       A16N,     014,          1,         14,         14,2,20030622,       1642,    58.5008,   -20.0003,       2570,   800.1,   7.3953,  35.2091,2,  35.2079,2,    202.3,2,   204.4,2,   11.19,2,   18.54,2,    0.00,2,    1.17,2,-999.000,9,-999.000,9,-999.000,9,  -999.0,9,  -999.0,9,   -999.0,9,  -999.00,-999.0000,9,  -999.00,-999.000,9,-999.000,9,-999.000,9, -999.00,9,  -999.0,9,  -999.0,-999.000,9,-999.000,-999.000,9, -999.00,9, -999.00,9,  800.10,-999.0000,9,-999.0000,9,-999.0000,9,-999.0000,9,-999.0000,9,-999.0000,9,   7.3145,     -999.0,9,     -999.0,9,     -999.0,9,     -999.0,9,         14,-999.000,-999.000,-999.000,     -999.0,9, -999.00,9, -999.00,9
33RO200306_01,       A16N,     014,          1,         13,         13,2,20030622,       1642,    58.5008,   -20.0003,       2570,   899.5,   6.7229,  35.1873,2,  35.1848,2,    211.7,2,   212.5,2,   11.65,2,   18.42,2,    0.00,2,    1.16,2,-999.000,9,-999.000,9,-999.000,9,  -999.0,9,  -999.0,9,   -999.0,9,  -999.00,-999.0000,9,  -999.00,-999.000,9,-999.000,9,-999.000,9, -999.00,9,  -999.0,9,  -999.0,-999.000,9,-999.000,-999.000,9, -999.00,9, -999.00,9,  899.50,-999.0000,9,-999.0000,9,-999.0000,9,-999.0000,9,-999.0000,9,-999.0000,9,   6.6360,     -999.0,9,     -999.0,9,     -999.0,9,     -999.0,9,         14,-999.000,-999.000,-999.000,     -999.0,9, -999.00,9, -999.00,9
33RO200306_01,       A16N,     014,          1,         12,         12,2,20030622,       1642,    58.5008,   -20.0003,       2570,  1000.3,   5.8004,  35.0920,2,  35.0904,2,    225.4,2,   225.8,2,   11.76,2,   18.40,2,    0.00,2,    1.16,2,-999.000,9,-999.000,9,-999.000,9,  -999.0,9,  -999.0,9,   -999.0,9,  -999.00,-999.0000,9,  -999.00,-999.000,9,-999.000,9,-999.000,9, -999.00,9,  -999.0,9,  -999.0,-999.000,9,-999.000,   2.824,2, -999.00,9, -999.00,9, 1000.30,-999.0000,9,-999.0000,9,-999.0000,9,-999.0000,9,-999.0000,9,-999.0000,9,   5.7101,      0.281,2,     -999.0,9,     -999.0,9,     -999.0,9,         14,-999.000,-999.000,-999.000,     -999.0,9, -999.00,9, -999.00,9
33RO200306_01,       A16N,     014,          1,         11,         11,2,20030622,       1642,    58.5008,   -20.0003,       2570,  1100.5,   5.2939,  35.0553,2,  35.0521,2,    234.8,2,   238.3,2,   11.98,2,   18.14,2,    0.00,2,    1.15,2,-999.000,9,-999.000,9,-999.000,9,  -999.0,9,  -999.0,9,   -999.0,9,  -999.00,-999.0000,9,  -999.00,-999.000,9,-999.000,9,-999.000,9, -999.00,9,  -999.0,9,  -999.0,-999.000,9,-999.000,-999.000,9, -999.00,9, -999.00,9, 1100.50,-999.0000,9,-999.0000,9,-999.0000,9,-999.0000,9,-999.0000,9,-999.0000,9,   5.1980,     -999.0,9,     -999.0,9,     -999.0,9,     -999.0,9,         14,-999.000,-999.000,-999.000,     -999.0,9, -999.00,9, -999.00,9
33RO200306_01,       A16N,     014,          1,         10,         10,2,20030622,       1642,    58.5008,   -20.0003,       2570,  1183.6,   4.8894,  35.0155,2,  35.0145,2,    245.2,2,   243.1,2,   11.98,2,   17.94,2,    0.00,2,    1.14,2,-999.000,9,-999.000,9,-999.000,9,  -999.0,9,  -999.0,9,   -999.0,9,  -999.00,-999.0000,9,  -999.00,-999.000,9,-999.000,9,-999.000,9, -999.00,9,  -999.0,9,  -999.0,-999.000,9,-999.000,-999.000,9, -999.00,9, -999.00,9, 1183.60,-999.0000,9,-999.0000,9,-999.0000,9,-999.0000,9,-999.0000,9,-999.0000,9,   4.7892,     -999.0,9,     -999.0,9,     -999.0,9,     -999.0,9,         14,-999.000,-999.000,-999.000,     -999.0,9, -999.00,9, -999.00,9
33RO200306_01,       A16N,     014,          1,          9,          9,2,20030622,       1642,    58.5008,   -20.0003,       2570,  1300.3,   4.4153,  34.9755,2,  34.9771,2,    255.8,2,   268.2,2,   12.21,2,   17.79,2,    0.00,2,    1.13,2,-999.000,9,-999.000,9,-999.000,9,  -999.0,9,  -999.0,9,   -999.0,9,  -999.00,-999.0000,9,  -999.00,-999.000,9,-999.000,9,-999.000,9, -999.00,9,  -999.0,9,  -999.0,-999.000,9,-999.000,-999.000,9, -999.00,9, -999.00,9, 1300.30,-999.0000,9,-999.0000,9,-999.0000,9,-999.0000,9,-999.0000,9,-999.0000,9,   4.3089,     -999.0,9,     -999.0,9,     -999.0,9,     -999.0,9,         14,-999.000,-999.000,-999.000,     -999.0,9, -999.00,9, -999.00,9
33RO200306_01,       A16N,     014,          1,          8,          8,2,20030622,       1642,    58.5008,   -20.0003,       2570,  1400.1,   4.1016,  34.9471,2,  34.9457,2,    261.4,2,   258.4,2,   12.14,2,   17.59,2,    0.00,2,    1.13,2,-999.000,9,-999.000,9,-999.000,9,  -999.0,9,  -999.0,9,   -999.0,9,  -999.00,-999.0000,9,  -999.00,-999.000,9,-999.000,9,-999.000,9, -999.00,9,  -999.0,9,  -999.0,-999.000,9,-999.000,-999.000,9, -999.00,9, -999.00,9, 1400.10,-999.0000,9,-999.0000,9,-999.0000,9,-999.0000,9,-999.0000,9,-999.0000,9,   3.9894,     -999.0,9,     -999.0,9,     -999.0,9,     -999.0,9,         14,-999.000,-999.000,-999.000,     -999.0,9, -999.00,9, -999.00,9
33RO200306_01,       A16N,     014,          1,          7,          7,2,20030622,       1642,    58.5008,   -20.0003,       2570,  1499.6,   3.9426,  34.9389,2,  34.9393,2,    265.5,2,   260.4,2,   12.54,2,   17.51,2,    0.00,2,    1.12,2,-999.000,9,-999.000,9,-999.000,9,  -999.0,9,  -999.0,9,   -999.0,9,  -999.00,-999.0000,9,  -999.00,-999.000,9,-999.000,9,-999.000,9, -999.00,9,  -999.0,9,  -999.0,-999.000,9,-999.000,-999.000,9, -999.00,9, -999.00,9, 1499.60,-999.0000,9,-999.0000,9,-999.0000,9,-999.0000,9,-999.0000,9,-999.0000,9,   3.8232,     -999.0,9,     -999.0,9,     -999.0,9,     -999.0,9,         14,-999.000,-999.000,-999.000,     -999.0,9, -999.00,9, -999.00,9
33RO200306_01,       A16N,     014,          1,          6,          6,2,20030622,       1642,    58.5008,   -20.0003,       2570,  1699.7,   3.4905,  34.9034,2,  34.9033,2,    277.7,2,   276.4,2,   11.90,2,   17.13,2,    0.00,2,    1.10,2,-999.000,9,-999.000,9,-999.000,9,  -999.0,9,  -999.0,9,   -999.0,9,  -999.00,-999.0000,9,  -999.00,-999.000,9,-999.000,9,-999.000,9, -999.00,9,  -999.0,9,  -999.0,-999.000,9,-999.000,-999.000,9, -999.00,9, -999.00,9, 1699.70,-999.0000,9,-999.0000,9,-999.0000,9,-999.0000,9,-999.0000,9,-999.0000,9,   3.3585,     -999.0,9,     -999.0,9,     -999.0,9,     -999.0,9,         14,-999.000,-999.000,-999.000,     -999.0,9, -999.00,9, -999.00,9