BOTTLE,20230908CCHSIOCBG
EXPOCODE,SECT_ID,STNNBR,CASTNO,SAMPNO,BTLNBR,BTLNBR_FLAG_W,DATE,TIME,LATITUDE,LONGITUDE,DEPTH,CTDPRS,CTDTMP,CTDSAL,CTDSAL_FLAG_W,SALNTY,SALNTY_FLAG_W,CTDOXY,CTDOXY_FLAG_W,OXYGEN,OXYGEN_FLAG_W,SILCAT,SILCAT_FLAG_W,NITRAT,NITRAT_FLAG_W,NITRIT,NITRIT_FLAG_W,PHSPHT,PHSPHT_FLAG_W,CFC-11,CFC-11_FLAG_W,CFC-12,CFC-12_FLAG_W,CFC113,CFC113_FLAG_W,TCARBN,TCARBN_FLAG_W,ALKALI,ALKALI_FLAG_W,FCO2,FCO2_FLAG_W,FCO2TMP,PH_SWS,PH_SWS_FLAG_W,PH_TMP,TRITUM,TRITUM_FLAG_W,HELIUM,HELIUM_FLAG_W,DELHE3,DELHE3_FLAG_W,DELC13,DELC13_FLAG_W,DELC14,DELC14_FLAG_W,C14ERR,NEON,NEON_FLAG_W,NEONER,POC,POC_FLAG_W,DOC,DOC_FLAG_W,TDN,TDN_FLAG_W,CTDRAW,CDOM325,CDOM325_FLAG_W,CDOM340,CDOM340_FLAG_W,CDOM380,CDOM380_FLAG_W,CDOM412,CDOM412_FLAG_W,CDOMSL,CDOMSL_FLAG_W,CDOMSN,CDOMSN_FLAG_W,THETA,PON,PON_FLAG_W,HCFC-22,HCFC-22_FLAG_W,HCFC-142b,HCFC-142b_FLAG_W,HCFC-141b,HCFC-141b_FLAG_W,STNNBR_U,HELIER,DELHER,TRITER,CH3CL,CH3CL_FLAG_W,CH3BR,CH3BR_FLAG_W,CH3I,CH3I_FLAG_W
,,,,,,,,,,,METERS,DBAR,ITS-90,PSS-78,,PSS-78,,UMOL/KG,,UMOL/KG,,UMOL/KG,,UMOL/KG,,UMOL/KG,,UMOL/KG,,PMOL/KG,,PMOL/KG,,PMOL/KG,,UMOL/KG,,UMOL/KG,,UATM,,DEG C,,,DEG C,TU,,NMOL/KG,,PERCNT,,/MILLE,,/MILLE,,/MILLE,NMOL/KG,,NMOL/KG,UG/KG,,UMOL/KG,,UMOL/KG,,DBAR,1/M,,1/M,,1/M,,1/M,,1/NM,,1/NM,,DEG C,UMOL/L,,PMOL/KG,,PMOL/KG,,PMOL/KG,,,NMOL/KG,PERCNT,TU,PMOL/KG,,PMOL/KG,,PMOL/KG,
33RO200306_01,       A16N,     006,          1,         29,         29,2,20030620,       2226,    61.8328,   -19.9992,       1711,     1.8,  10.5350,  35.2520,2,  35.2510,2,    287.8,2,   292.7,2,    0.81,2,    5.68,2,    0.12,2,    0.38,2,-999.000,9,-999.000,9,-999.000,9,  2085.1,6,  2321.9,2,    461.9,2,    20.00,   7.9142,2,    25.00,-999.000,9,-999.000,9,-999.000,9, -999.00,9,  -999.0,9,  -999.0,-999.000,9,-999.000,-999.000,9, -999.00,9, -999.00,9,    1.80,-999.0000,9,-999.0000,9,-999.0000,9,-999.0000,9,-999.0000,9,-999.0000,9,  10.5348,     -999.0,9,     -999.0,9,     -999.0,9,     -999.0,9,          6,-999.000,-999.000,-999.000,     -999.0,9, -999.00,9, -999.00,9
33RO200306_01,       A16N,     006,          1,         28,         28,2,20030620,       2226,    61.8328,   -19.9992,       1711,    19.8,  10.5364,  35.2517,2,  35.2513,2,    287.2,2,   288.3,2,    0.86,2,    6.10,2,    0.12,2,    0.40,2,-999.000,9,-999.000,9,-999.000,9,  -999.0,9,  -999.0,9,   -999.0,9,  -999.00,-999.0000,9,  -999.00,-999.000,9,-999.000,9,-999.000,9, -999.00,9,  -999.0,9,  -999.0,-999.000,9,-999.000,-999.000,9, -999.00,9, -999.00,9,   19.80,-999.0000,9,-999.0000,9,-999.0000,9,-999.0000,9,-999.0000,9,-999.0000,9,  10.5340,     -999.0,9,     -999.0,9,     -999.0,9,     -999.0,9,          6,-999.000,-999.000,-999.000,     -999.0,9, -999.00,9, -999.00,9
33RO200306_01,       A16N,     006,          1,         27,         27,2,20030620,       2226,    61.8328,   -19.9992,       1711,    39.2,   9.7492,  35.2454,2,  35.2452,2,    278.5,2,   282.0,2,    1.36,2,    7.46,2,    0.16,2,    0.50,2,-999.000,9,-999.000,9,-999.000,9,  -999.0,9,  -999.0,9,   -999.0,9,  -999.00,-999.0000,9,  -999.00,-999.000,9,-999.000,9,-999.000,9, -999.00,9,  -999.0,9,  -999.0,-999.000,9,-999.000,-999.000,9, -999.00,9, -999.00,9,   39.20,-999.0000,9,-999.0000,9,-999.0000,9,-999.0000,9,-999.0000,9,-999.0000,9,   9.7447,     -999.0,9,     -999.0,9,     -999.0,9,     -999.0,9,          6,-999.000,-999.000,-999.000,     -999.0,9, -999.00,9, -999.00,9
33RO200306_01,       A16N,     006,          1,         26,         26,2,20030620,       2226,    61.8328,   -19.9992,       1711,    59.4,   9.6730,  35.2446,2,  35.2476,2,    278.1,2,   277.0,2,    1.79,2,    8.02,2,    0.20,2,    0.55,2,-999.000,9,-999.000,9,-999.000,9,  -999.0,9,  -999.0,9,   -999.0,9,  -999.00,-999.0000,9,  -999.00,-999.000,9,-999.000,9,-999.000,9, -999.00,9,  -999.0,9,  -999.0,-999.000,9,-999.000,-999.000,9, -999.00,9, -999.00,9,   59.40,-999.0000,9,-999.0000,9,-999.0000,9,-999.0000,9,-999.0000,9,-999.0000,9,   9.6663,     -999.0,9,     -999.0,9,     -999.0,9,     -999.0,9,          6,-999.000,-999.000,-999.000,     -999.0,9, -999.00,9, -999.00,9
33RO200306_01,       A16N,     006,          1,         25,         25,2,20030620,       2226,    61.8328,   -19.9992,       1711,    79.3,   8.8751,  35.2605,2,  35.2616,2,    273.0,2,   270.8,2,    3.94,2,   10.87,2,    0.34,2,    0.74,2,-999.000,9,-999.000,9,-999.000,9,  -999.0,9,  -999.0,9,   -999.0,9,  -999.00,-999.0000,9,  -999.00,-999.000,9,-999.000,9,-999.000,9, -999.00,9,  -999.0,9,  -999.0,-999.000,9,-999.000,-999.000,9, -999.00,9, -999.00,9,   79.30,-999.0000,9,-999.0000,9,-999.0000,9,-999.0000,9,-999.0000,9,-999.0000,9,   8.8666,     -999.0,9,     -999.0,9,     -999.0,9,     -999.0,9,          6,-999.000,-999.000,-999.000,     -999.0,9, -999.00,9, -999.00,9
33RO200306_01,       A16N,     006,          1,         24,         24,2,20030620,       2226,    61.8328,   -19.9992,       1711,    99.6,   8.5385,  35.2523,2,  35.2519,2,    273.9,2,   271.2,2,    4.79,2,   11.81,2,    0.47,2,    0.79,2,-999.000,9,-999.000,9,-999.000,9,  -999.0,9,  -999.0,9,   -999.0,9,  -999.00,-999.0000,9,  -999.00,-999.000,9,-999.000,9,-999.000,9, -999.00,9,  -999.0,9,  -999.0,-999.000,9,-999.000,-999.000,9, -999.00,9, -999.00,9,   99.60,-999.0000,9,-999.0000,9,-999.0000,9,-999.0000,9,-999.0000,9,-999.0000,9,   8.5280,     -999.0,9,     -999.0,9,     -999.0,9,     -999.0,9,          6,-999.000,-999.000,-999.000,     -999.0,9, -999.00,9, -999.00,9
33RO200306_01,       A16N,     006,          1,         23,         23,2,20030620,       2226,    61.8328,   -19.9992,       1711,   124.4,   8.4643,  35.2546,2,  35.2546,2,    272.2,2,   282.8,2,    5.29,2,   12.64,2,    0.34,2,    0.81,2,-999.000,9,-999.000,9,-999.000,9,  -999.0,9,  -999.0,9,   -999.0,9,  -999.00,-999.0000,9,  -999.00,-999.000,9,-999.000,9,-999.000,9, -999.00,9,  -999.0,9,  -999.0,-999.000,9,-999.000,-999.000,9, -999.00,9, -999.00,9,  124.40,-999.0000,9,-999.0000,9,-999.0000,9,-999.0000,9,-999.0000,9,-999.0000,9,   8.4513,     -999.0,9,     -999.0,9,     -999.0,9,     -999.0,9,          6,-999.000,-999.000,-999.000,     -999.0,9, -999.00,9, -999.00,9
33RO200306_01,       A16N,     006,          1,         22,         22,2,20030620,       2226,    61.8328,   -19.9992,       1711,   149.4,   8.4019,  35.2497,2,  35.2497,2,    272.3,2,   280.6,2,    5.62,2,   12.93,2,    0.30,2,    0.82,2,-999.000,9,-999.000,9,-999.000,9,  -999.0,9,  -999.0,9,   -999.0,9,  -999.00,-999.0000,9,  -999.00,-999.000,9,-999.000,9,-999.000,9, -999.00,9,  -999.0,9,  -999.0,-999.000,9,-999.000,-999.000,9, -999.00,9, -999.00,9,  149.40,-999.0000,9,-999.0000,9,-999.0000,9,-999.0000,9,-999.0000,9,-999.0000,9,   8.3863,     -999.0,9,     -999.0,9,     -999.0,9,     -999.0,9,          6,-999.000,-999.000,-999.000,     -999.0,9, -999.00,9, -999.00,9
33RO200306_01,       A16N,     006,          1,         21,         21,2,20030620,       2226,    61.8328,   -19.9992,       1711,   174.7,   8.3597,  35.2518,2,  35.2517,2,    271.4,2,   269.8,2,    5.79,2,   13.20,2,    0.02,2,    0.83,2,-999.000,9,-999.000,9,-999.000,9,  -999.0,9,  -999.0,9,   -999.0,9,  -999.00,-999.0000,9,  -999.00,-999.000,9,-999.000,9,-999.000,9, -999.00,9,  -999.0,9,  -999.0,-999.000,9,-999.000,-999.000,9, -999.00,9, -999.00,9,  174.70,-999.0000,9,-999.0000,9,-999.0000,9,-999.0000,9,-999.0000,9,-999.0000,9,   8.3415,     -999.0,9,     -999.0,9,     -999.0,9,     -999.0,9,          6,-999.000,-999.000,-999.000,     -999.0,9, -999.00,9, -999.00,9
33RO200306_01,       A16N,     006,          1,         20,         20,2,20030620,       2226,    61.8328,   -19.9992,       1711,   197.8,   8.3394,  35.2509,2,  35.2526,2,    271.8,2,   268.6,2,    5.78,2,   13.18,2,    0.02,2,    0.83,2,-999.000,9,-999.000,9,-999.000,9,  -999.0,9,  -999.0,9,   -999.0,9,  -999.00,-999.0000,9,  -999.00,-999.000,9,-999.000,9,-999.000,9, -999.00,9,  -999.0,9,  -999.0,-999.000,9,-999.000,-999.000,9, -999.00,9, -999.00,9,  197.80,-999.0000,9,-999.0000,9,-999.0000,9,-999.0000,9,-999.0000,9,-999.0000,9,   8.3188,     -999.0,9,     -999.0,9,     -999.0,9,     -999.0,9,          6,-999.000,-999.000,-999.000,     -999.0,9, -999.00,9, -999.00,9
33RO200306_01,       A16N,     006,          1,         19,         19,2,20030620,       2226,    61.8328,   -19.9992,       1711,   249.2,   8.3170,  35.2514,2,  35.2506,2,    271.7,2,   269.7,2,    5.77,2,   13.10,2,    0.01,2,    0.82,2,-999.000,9,-999.000,9,-999.000,9,  -999.0,9,  -999.0,9,   -999.0,9,  -999.00,-999.0000,9,  -999.00,-999.000,9,-999.000,9,-999.000,9, -999.00,9,  -999.0,9,  -999.0,-999.000,9,-999.000,-999.000,9, -999.00,9, -999.00,9,  249.20,-999.0000,9,-999.0000,9,-999.0000,9,-999.0000,9,-999.0000,9,-999.0000,9,   8.2910,     -999.0,9,     -999.0,9,     -999.0,9,     -999.0,9,          6,-999.000,-999.000,-999.000,     -999.0,9, -999.00,9, -999.00,9
33RO200306_01,       A16N,     006,          1,         18,         18,2,20030620,       2226,    61.8328,   -19.9992,       1711,   299.3,   8.2654,  35.2452,2,  35.2470,2,    271.2,2,   269.5,2,    5.82,2,   13.18,2,    0.01,2,    0.83,2,-999.000,9,-999.000,9,-999.000,9,  -999.0,9,  -999.0,9,   -999.0,9,  -999.00,-999.0000,9,  -999.00,-999.000,9,-999.000,9,-999.000,9, -999.00,9,  -999.0,9,  -999.0,-999.000,9,-999.000,-999.000,9, -999.00,9, -999.00,9,  299.30,-999.0000,9,-999.0000,9,-999.0000,9,-999.0000,9,-999.0000,9,-999.0000,9,   8.2342,     -999.0,9,     -999.0,9,     -999.0,9,     -999.0,9,          6,-999.000,-999.000,-999.000,     -999.0,9, -999.00,9, -999.00,9
33RO200306_01,       A16N,     006,          1,         17,         17,2,20030620,       2226,    61.8328,   -19.9992,       1711,   348.6,   8.2726,  35.2500,2,  35.2488,2,    269.6,2,   268.6,2,    5.87,2,   13.23,2,    0.01,2,    0.83,2,-999.000,9,-999.000,9,-999.000,9,  -999.0,9,  -999.0,9,   -999.0,9,  -999.00,-999.0000,9,  -999.00,-999.000,9,-999.000,9,-999.000,9, -999.00,9,  -999.0,9,  -999.0,-999.000,9,-999.000,-999.000,9, -999.00,9, -999.00,9,  348.60,-999.0000,9,-999.0000,9,-999.0000,9,-999.0000,9,-999.0000,9,-999.0000,9,   8.2361,     -999.0,9,     -999.0,9,     -999.0,9,     -999.0,9,          6,-999.000,-999.000,-999.000,     -999.0,9, -999.00,9, -999.00,9
33RO200306_01,       A16N,     006,          1,         16,         16,2,20030620,       2226,    61.8328,   -19.9992,       1711,   399.1,   8.1975,  35.2402,2,  35.2381,2,    268.8,2,   267.3,2,    5.98,2,   13.48,2,    0.01,2,    0.85,2,-999.000,9,-999.000,9,-999.000,9,  -999.0,9,  -999.0,9,   -999.0,9,  -999.00,-999.0000,9,  -999.00,-999.000,9,-999.000,9,-999.000,9, -999.00,9,  -999.0,9,  -999.0,-999.000,9,-999.000,-999.000,9, -999.00,9, -999.00,9,  399.10,-999.0000,9,-999.0000,9,-999.0000,9,-999.0000,9,-999.0000,9,-999.0000,9,   8.1558,     -999.0,9,     -999.0,9,     -999.0,9,     -999.0,9,          6,-999.000,-999.000,-999.000,     -999.0,9, -999.00,9, -999.00,9
33RO200306_01,       A16N,     006,          1,         15,         15,2,20030620,       2226,    61.8328,   -19.9992,       1711,   448.0,   8.1150,  35.2315,2,  35.2285,2,    266.5,2,   265.1,2,    5.97,2,   13.63,2,    0.01,2,    0.85,2,-999.000,9,-999.000,9,-999.000,9,  -999.0,9,  -999.0,9,   -999.0,9,  -999.00,-999.0000,9,  -999.00,-999.000,9,-999.000,9,-999.000,9, -999.00,9,  -999.0,9,  -999.0,-999.000,9,-999.000,-999.000,9, -999.00,9, -999.00,9,  448.00,-999.0000,9,-999.0000,9,-999.0000,9,-999.0000,9,-999.0000,9,-999.0000,9,   8.0684,     -999.0,9,     -999.0,9,     -999.0,9,     -999.0,9,          6,-999.000,-999.000,-999.000,     -999.0,9, -999.00,9, -999.00,9
33RO200306_01,       A16N,     006,          1,         14,         14,2,20030620,       2226,    61.8328,   -19.9992,       1711,   498.9,   8.0504,  35.2287,2,  35.2266,2,    269.3,2,   268.9,2,    5.60,2,   13.34,2,    0.01,2,    0.83,2,-999.000,9,-999.000,9,-999.000,9,  -999.0,9,  -999.0,9,   -999.0,9,  -999.00,-999.0000,9,  -999.00,-999.000,9,-999.000,9,-999.000,9, -999.00,9,  -999.0,9,  -999.0,-999.000,9,-999.000,-999.000,9, -999.00,9, -999.00,9,  498.90,-999.0000,9,-999.0000,9,-999.0000,9,-999.0000,9,-999.0000,9,-999.0000,9,   7.9986,     -999.0,9,     -999.0,9,     -999.0,9,     -999.0,9,          6,-999.000,-999.000,-999.000,     -999.0,9, -999.00,9, -999.00,9
33RO200306_01,       A16N,     006,          1,         13,         13,2,20030620,       2226,    61.8328,   -19.9992,       1711,   597.0,   7.8659,  35.2118,2,  35.2107,2,    256.1,2,   253.1,2,    7.07,2,   14.68,2,    0.01,2,    0.92,2,-999.000,9,-999.000,9,-999.000,9,  -999.0,9,  -999.0,9,   -999.0,9,  -999.00,-999.0000,9,  -999.00,-999.000,9,-999.000,9,-999.000,9, -999.00,9,  -999.0,9,  -999.0,-999.000,9,-999.000,-999.000,9, -999.00,9, -999.00,9,  597.00,-999.0000,9,-999.0000,9,-999.0000,9,-999.0000,9,-999.0000,9,-999.0000,9,   7.8043,     -999.0,9,     -999.0,9,     -999.0,9,     -999.0,9,          6,-999.000,-999.000,-999.000,     -999.0,9, -999.00,9, -999.00,9
33RO200306_01,       A16N,     006,          1,         12,         12,2,20030620,       2226,    61.8328,   -19.9992,       1711,   699.7,   7.3593,  35.1809,2,  35.1828,2,    243.4,2,   238.8,2,    8.54,2,   16.02,2,    0.01,2,    1.01,2,-999.000,9,-999.000,9,-999.000,9,  -999.0,9,  -999.0,9,   -999.0,9,  -999.00,-999.0000,9,  -999.00,-999.000,9,-999.000,9,-999.000,9, -999.00,9,  -999.0,9,  -999.0,-999.000,9,-999.000,-999.000,9, -999.00,9, -999.00,9,  699.70,-999.0000,9,-999.0000,9,-999.0000,9,-999.0000,9,-999.0000,9,-999.0000,9,   7.2893,     -999.0,9,     -999.0,9,     -999.0,9,     -999.0,9,          6,-999.000,-999.000,-999.000,     -999.0,9, -999.00,9, -999.00,9
33RO200306_01,       A16N,     006,          1,         11,         11,2,20030620,       2226,    61.8328,   -19.9992,       1711,   799.8,   6.7106,  35.1504,2,  35.1493,2,    236.2,2,   237.5,2,    9.22,2,   16.42,2,    0.01,2,    1.04,2,-999.000,9,-999.000,9,-999.000,9,  -999.0,9,  -999.0,9,   -999.0,9,  -999.00,-999.0000,9,  -999.00,-999.000,9,-999.000,9,-999.000,9, -999.00,9,  -999.0,9,  -999.0,-999.000,9,-999.000,-999.000,9, -999.00,9, -999.00,9,  799.80,-999.0000,9,-999.0000,9,-999.0000,9,-999.0000,9,-999.0000,9,-999.0000,9,   6.6340,     -999.0,9,     -999.0,9,     -999.0,9,     -999.0,9,          6,-999.000,-999.000,-999.000,     -999.0,9, -999.00,9, -999.00,9
33RO200306_01,       A16N,     006,          1,         10,         10,2,20030620,       2226,    61.8328,   -19.9992,       1711,   899.4,   6.0932,  35.1070,2,  35.1037,2,    238.4,2,   238.8,2,    9.83,2,   16.94,2,    0.00,2,    1.07,2,-999.000,9,-999.000,9,-999.000,9,  -999.0,9,  -999.0,9,   -999.0,9,  -999.00,-999.0000,9,  -999.00,-999.000,9,-999.000,9,-999.000,9, -999.00,9,  -999.0,9,  -999.0,-999.000,9,-999.000,-999.000,9, -999.00,9, -999.00,9,  899.40,-999.0000,9,-999.0000,9,-999.0000,9,-999.0000,9,-999.0000,9,-999.0000,9,   6.0106,     -999.0,9,     -999.0,9,     -999.0,9,     -999.0,9,          6,-999.000,-999.000,-999.000,     -999.0,9, -999.00,9, -999.00,9
33RO200306_01,       A16N,     006,          1,          9,          9,2,20030620,       2226,    61.8328,   -19.9992,       1711,   998.7,   5.3506,  35.0631,2,  35.0650,2,    246.4,2,   251.9,2,    9.72,2,   16.57,2,    0.00,2,    1.05,2,-999.000,9,-999.000,9,-999.000,9,  -999.0,9,  -999.0,9,   -999.0,9,  -999.00,-999.0000,9,  -999.00,-999.000,9,-999.000,9,-999.000,9, -999.00,9,  -999.0,9,  -999.0,-999.000,9,-999.000,-999.000,9, -999.00,9, -999.00,9,  998.70,-999.0000,9,-999.0000,9,-999.0000,9,-999.0000,9,-999.0000,9,-999.0000,9,   5.2639,     -999.0,9,     -999.0,9,     -999.0,9,     -999.0,9,          6,-999.000,-999.000,-999.000,     -999.0,9, -999.00,9, -999.00,9
33RO200306_01,       A16N,     006,          1,          8,          8,2,20030620,       2226,    61.8328,   -19.9992,       1711,  1099.6,   4.7534,  35.0334,2,  35.0304,2,    264.0,2,   260.4,2,    9.65,2,   16.20,2,    0.00,2,    1.03,2,-999.000,9,-999.000,9,-999.000,9,  -999.0,9,  -999.0,9,   -999.0,9,  -999.00,-999.0000,9,  -999.00,-999.000,9,-999.000,9,-999.000,9, -999.00,9,  -999.0,9,  -999.0,-999.000,9,-999.000,-999.000,9, -999.00,9, -999.00,9, 1099.60,-999.0000,9,-999.0000,9,-999.0000,9,-999.0000,9,-999.0000,9,-999.0000,9,   4.6621,     -999.0,9,     -999.0,9,     -999.0,9,     -999.0,9,          6,-999.000,-999.000,-999.000,     -999.0,9, -999.00,9, -999.00,9
33RO200306_01,       A16N,     006,          1,          7,          7,2,20030620,       2226,    61.8328,   -19.9992,       1711,  1170.2,   4.4205,  35.0144,2,  35.0176,2,    268.7,2,   264.3,2,    9.57,2,   15.94,2,    0.00,2,    1.01,2,-999.000,9,-999.000,9,-999.000,9,  -999.0,9,  -999.0,9,   -999.0,9,  -999.00,-999.0000,9,  -999.00,-999.000,9,-999.000,9,-999.000,9, -999.00,9,  -999.0,9,  -999.0,-999.000,9,-999.000,-999.000,9, -999.00,9, -999.00,9, 1170.20,-999.0000,9,-999.0000,9,-999.0000,9,-999.0000,9,-999.0000,9,-999.0000,9,   4.3257,     -999.0,9,     -999.0,9,     -999.0,9,     -999.0,9,          6,-999.000,-999.000,-999.000,     -999.0,9, -999.00,9, -999.00,9
33RO200306_01,       A16N,     006,          1,          6,          6,2,20030620,       2226,    61.8328,   -19.9992,       1711,  1299.5,   3.7145,  34.9435,2,  34.9430,2,    274.5,2,   269.4,2,   10.82,2,   16.82,2,    0.00,2,    1.07,2,-999.000,9,-999.000,9,-999.000,9,  -999.0,9,  -999.0,9,   -999.0,9,  -999.00,-999.0000,9,  -999.00,-999.000,9,-999.000,9,-999.000,9, -999.00,9,  -999.0,9,  -999.0,-999.000,9,-999.000,-999.000,9, -999.00,9, -999.00,9, 1299.50,-999.0000,9,-999.0000,9,-999.0000,9,-999.0000,9,-999.0000,9,-999.0000,9,   3.6152,     -999.0,9,     -999.0,9,     -999.0,9,     -999.0,9,          6,-999.000,-999.000,-999.000,     -999.0,9, -999.00,9, -999.00,9
33RO200306_01,       A16N,     006,          1,          5,          5,2,20030620,       2226,    61.8328,   -19.9992,       1711,  1400.1,   3.3703,  34.9157,2,  34.9159,2,    280.0,2,   275.3,2,   11.22,2,   16.74,2,    0.00,2,    1.07,2,-999.000,9,-999.000,9,-999.000,9,  -999.0,9,  -999.0,9,   -999.0,9,  -999.00,-999.0000,9,  -999.00,-999.000,9,-999.000,9,-999.000,9, -999.00,9,  -999.0,9,  -999.0,-999.000,9,-999.000,-999.000,9, -999.00,9, -999.00,9, 1400.10,-999.0000,9,-999.0000,9,-999.0000,9,-999.0000,9,-999.0000,9,-999.0000,9,   3.2659,     -999.0,9,     -999.0,9,     -999.0,9,     -999.0,9,          6,-999.000,-999.000,-999.000,     -999.0,9, -999.00,9, -999.00,9
33RO200306_01,       A16N,     006,          1,          4,          4,2,20030620,       2226,    61.8328,   -19.9992,       1711,  1498.7,   3.4482,  34.9530,2,  34.9566,2,    276.5,2,   272.3,2,   10.73,2,   16.19,2,    0.00,2,    1.04,2,-999.000,9,-999.000,9,-999.000,9,  -999.0,9,  -999.0,9,   -999.0,9,  -999.00,-999.0000,9,  -999.00,-999.000,9,-999.000,9,-999.000,9, -999.00,9,  -999.0,9,  -999.0,-999.000,9,-999.000,-999.000,9, -999.00,9, -999.00,9, 1498.70,-999.0000,9,-999.0000,9,-999.0000,9,-999.0000,9,-999.0000,9,-999.0000,9,   3.3344,     -999.0,9,     -999.0,9,     -999.0,9,     -999.0,9,          6,-999.000,-999.000,-999.000,     -999.0,9, -999.00,9, -999.00,9
33RO200306_01,       A16N,     006,          1,          3,          3,2,20030620,       2226,    61.8328,   -19.9992,       1711,  1599.4,   3.1162,  34.9607,2,  34.9605,2,    273.4,2,   270.3,2,   13.03,2,   16.34,2,    0.00,2,    1.06,2,-999.000,9,-999.000,9,-999.000,9,  -999.0,9,  -999.0,9,   -999.0,9,  -999.00,-999.0000,9,  -999.00,-999.000,9,-999.000,9,-999.000,9, -999.00,9,  -999.0,9,  -999.0,-999.000,9,-999.000,-999.000,9, -999.00,9, -999.00,9, 1599.40,-999.0000,9,-999.0000,9,-999.0000,9,-999.0000,9,-999.0000,9,-999.0000,9,   2.9976,     -999.0,9,     -999.0,9,     -999.0,9,     -999.0,9,          6,-999.000,-999.000,-999.000,     -999.0,9, -999.00,9, -999.00,9