BOTTLE,20230908CCHSIOCBG
EXPOCODE,SECT_ID,STNNBR,CASTNO,SAMPNO,BTLNBR,BTLNBR_FLAG_W,DATE,TIME,LATITUDE,LONGITUDE,DEPTH,CTDPRS,CTDTMP,CTDSAL,CTDSAL_FLAG_W,SALNTY,SALNTY_FLAG_W,CTDOXY,CTDOXY_FLAG_W,OXYGEN,OXYGEN_FLAG_W,SILCAT,SILCAT_FLAG_W,NITRAT,NITRAT_FLAG_W,NITRIT,NITRIT_FLAG_W,PHSPHT,PHSPHT_FLAG_W,CFC-11,CFC-11_FLAG_W,CFC-12,CFC-12_FLAG_W,CFC113,CFC113_FLAG_W,TCARBN,TCARBN_FLAG_W,ALKALI,ALKALI_FLAG_W,FCO2,FCO2_FLAG_W,FCO2TMP,PH_SWS,PH_SWS_FLAG_W,PH_TMP,TRITUM,TRITUM_FLAG_W,HELIUM,HELIUM_FLAG_W,DELHE3,DELHE3_FLAG_W,DELC13,DELC13_FLAG_W,DELC14,DELC14_FLAG_W,C14ERR,NEON,NEON_FLAG_W,NEONER,POC,POC_FLAG_W,DOC,DOC_FLAG_W,TDN,TDN_FLAG_W,CTDRAW,CDOM325,CDOM325_FLAG_W,CDOM340,CDOM340_FLAG_W,CDOM380,CDOM380_FLAG_W,CDOM412,CDOM412_FLAG_W,CDOMSL,CDOMSL_FLAG_W,CDOMSN,CDOMSN_FLAG_W,THETA,PON,PON_FLAG_W,HCFC-22,HCFC-22_FLAG_W,HCFC-142b,HCFC-142b_FLAG_W,HCFC-141b,HCFC-141b_FLAG_W,STNNBR_U,HELIER,DELHER,TRITER,CH3CL,CH3CL_FLAG_W,CH3BR,CH3BR_FLAG_W,CH3I,CH3I_FLAG_W
,,,,,,,,,,,METERS,DBAR,ITS-90,PSS-78,,PSS-78,,UMOL/KG,,UMOL/KG,,UMOL/KG,,UMOL/KG,,UMOL/KG,,UMOL/KG,,PMOL/KG,,PMOL/KG,,PMOL/KG,,UMOL/KG,,UMOL/KG,,UATM,,DEG C,,,DEG C,TU,,NMOL/KG,,PERCNT,,/MILLE,,/MILLE,,/MILLE,NMOL/KG,,NMOL/KG,UG/KG,,UMOL/KG,,UMOL/KG,,DBAR,1/M,,1/M,,1/M,,1/M,,1/NM,,1/NM,,DEG C,UMOL/L,,PMOL/KG,,PMOL/KG,,PMOL/KG,,,NMOL/KG,PERCNT,TU,PMOL/KG,,PMOL/KG,,PMOL/KG,
33RO200306_02,       A16N,     113,          1,         35,         35,2,20030730,       0116,     9.4993,   -28.2507,       5406,     2.8,  27.7444,  35.5673,2,  35.5712,2,    191.3,2,   201.3,2,    0.76,2,    0.17,2,    0.00,2,    0.05,2,   1.640,2,   1.060,2,   0.145,2,  1977.0,6,  2327.0,6,   -999.0,9,  -999.00,   8.1203,6,    25.00,-999.000,9,-999.000,9,-999.000,9, -999.00,9,  -999.0,9,  -999.0,-999.000,9,-999.000,-999.000,9, -999.00,9, -999.00,9,    2.80,-999.0000,9,-999.0000,9,-999.0000,9,-999.0000,9,-999.0000,9,-999.0000,9,  27.7437,     -999.0,9,     -999.0,9,     -999.0,9,     -999.0,9,        113,-999.000,-999.000,-999.000,     -999.0,9, -999.00,9, -999.00,9
33RO200306_02,       A16N,     113,          1,         33,         33,2,20030730,       0116,     9.4993,   -28.2507,       5406,    20.7,  27.7299,  35.9424,2,  35.9635,2,    195.3,2,   205.5,2,    0.82,2,    0.18,2,    0.00,2,    0.05,2,-999.000,9,-999.000,9,-999.000,9,  -999.0,9,  -999.0,9,   -999.0,9,  -999.00,-999.0000,9,  -999.00,-999.000,9,-999.000,9,-999.000,9, -999.00,9,  -999.0,9,  -999.0,-999.000,9,-999.000,-999.000,9, -999.00,9, -999.00,9,   20.70,-999.0000,9,-999.0000,9,-999.0000,9,-999.0000,9,-999.0000,9,-999.0000,9,  27.7250,     -999.0,9,     -999.0,9,     -999.0,9,     -999.0,9,        113,-999.000,-999.000,-999.000,     -999.0,9, -999.00,9, -999.00,9
33RO200306_02,       A16N,     113,          1,         32,         32,2,20030730,       0116,     9.4993,   -28.2507,       5406,    39.8,  22.6556,  35.9302,2,  35.9052,2,    185.8,2,   185.0,2,    2.12,2,    1.33,2,    0.04,2,    0.23,2,-999.000,9,-999.000,9,-999.000,9,  -999.0,9,  -999.0,9,   -999.0,9,  -999.00,-999.0000,9,  -999.00,-999.000,9,-999.000,9,-999.000,9, -999.00,9,  -999.0,9,  -999.0,-999.000,9,-999.000,-999.000,9, -999.00,9, -999.00,9,   39.80,-999.0000,9,-999.0000,9,-999.0000,9,-999.0000,9,-999.0000,9,-999.0000,9,  22.6475,     -999.0,9,     -999.0,9,     -999.0,9,     -999.0,9,        113,-999.000,-999.000,-999.000,     -999.0,9, -999.00,9, -999.00,9
33RO200306_02,       A16N,     113,          1,         31,         31,2,20030730,       0116,     9.4993,   -28.2507,       5406,    60.7,  17.0047,  35.6880,2,  35.6466,2,    108.1,2,   102.9,2,    5.83,2,   18.92,2,    0.19,2,    1.23,2,-999.000,9,-999.000,9,-999.000,9,  2199.7,2,  2334.6,3,   -999.0,9,  -999.00,-999.0000,9,  -999.00,-999.000,9,-999.000,9,-999.000,9, -999.00,9,  -999.0,9,  -999.0,-999.000,9,-999.000,-999.000,9, -999.00,9, -999.00,9,   60.70,-999.0000,9,-999.0000,9,-999.0000,9,-999.0000,9,-999.0000,9,-999.0000,9,  16.9947,     -999.0,9,     -999.0,9,     -999.0,9,     -999.0,9,        113,-999.000,-999.000,-999.000,     -999.0,9, -999.00,9, -999.00,9
33RO200306_02,       A16N,     113,          1,         30,         30,2,20030730,       0116,     9.4993,   -28.2507,       5406,    80.1,  14.6148,  35.4814,2,  35.4591,2,     96.2,2,   105.4,2,    7.55,2,   21.60,2,    0.05,2,    1.40,2,-999.000,9,-999.000,9,-999.000,9,  -999.0,9,  -999.0,9,   -999.0,9,  -999.00,-999.0000,9,  -999.00,-999.000,9,-999.000,9,-999.000,9, -999.00,9,  -999.0,9,  -999.0,-999.000,9,-999.000,-999.000,9, -999.00,9, -999.00,9,   80.10,-999.0000,9,-999.0000,9,-999.0000,9,-999.0000,9,-999.0000,9,-999.0000,9,  14.6029,     -999.0,9,     -999.0,9,     -999.0,9,     -999.0,9,        113,-999.000,-999.000,-999.000,     -999.0,9, -999.00,9, -999.00,9
33RO200306_02,       A16N,     113,          1,         29,         29,2,20030730,       0116,     9.4993,   -28.2507,       5406,   100.2,  13.4136,  35.3524,2,  35.3437,2,     92.3,2,   108.2,2,    8.33,2,   22.46,2,    0.02,2,    1.47,2,-999.000,9,-999.000,9,-999.000,9,  2186.6,2,  2321.1,2,   -999.0,9,  -999.00,   7.6909,2,    25.00,-999.000,9,-999.000,9,-999.000,9, -999.00,9,  -999.0,9,  -999.0,-999.000,9,-999.000,-999.000,9, -999.00,9, -999.00,9,  100.20,-999.0000,9,-999.0000,9,-999.0000,9,-999.0000,9,-999.0000,9,-999.0000,9,  13.3995,     -999.0,9,     -999.0,9,     -999.0,9,     -999.0,9,        113,-999.000,-999.000,-999.000,     -999.0,9, -999.00,9, -999.00,9
33RO200306_02,       A16N,     113,          1,         28,         28,2,20030730,       0116,     9.4993,   -28.2507,       5406,   124.6,  12.3279,  35.2143,2,  35.2111,2,    123.1,2,   119.0,2,    9.09,2,   22.66,2,    0.01,2,    1.50,2,-999.000,9,-999.000,9,-999.000,9,  -999.0,9,  -999.0,9,   -999.0,9,  -999.00,-999.0000,9,  -999.00,-999.000,9,-999.000,9,-999.000,9, -999.00,9,  -999.0,9,  -999.0,-999.000,9,-999.000,-999.000,9, -999.00,9, -999.00,9,  124.60,-999.0000,9,-999.0000,9,-999.0000,9,-999.0000,9,-999.0000,9,-999.0000,9,  12.3114,     -999.0,9,     -999.0,9,     -999.0,9,     -999.0,9,        113,-999.000,-999.000,-999.000,     -999.0,9, -999.00,9, -999.00,9
33RO200306_02,       A16N,     113,          1,         27,         27,2,20030730,       0116,     9.4993,   -28.2507,       5406,   151.7,  11.9376,  35.1602,2,  35.1587,2,    125.6,2,   123.1,2,    9.45,2,   22.83,2,    0.01,2,    1.52,2,-999.000,9,-999.000,9,-999.000,9,  2179.9,2,  2313.7,2,   -999.0,9,  -999.00,   7.6889,2,    25.00,-999.000,9,-999.000,9,-999.000,9, -999.00,9,  -999.0,9,  -999.0,-999.000,9,-999.000,-999.000,9, -999.00,9, -999.00,9,  151.70,-999.0000,9,-999.0000,9,-999.0000,9,-999.0000,9,-999.0000,9,-999.0000,9,  11.9179,     -999.0,9,     -999.0,9,     -999.0,9,     -999.0,9,        113,-999.000,-999.000,-999.000,     -999.0,9, -999.00,9, -999.00,9
33RO200306_02,       A16N,     113,          1,         26,         26,2,20030730,       0116,     9.4993,   -28.2507,       5406,   174.4,  11.6838,  35.1378,2,  35.1370,2,    121.5,2,   117.9,2,   10.00,2,   23.92,2,    0.01,2,    1.56,2,-999.000,9,-999.000,9,-999.000,9,  -999.0,9,  -999.0,9,   -999.0,9,  -999.00,-999.0000,9,  -999.00,-999.000,9,-999.000,9,-999.000,9, -999.00,9,  -999.0,9,  -999.0,-999.000,9,-999.000,-999.000,9, -999.00,9, -999.00,9,  174.40,-999.0000,9,-999.0000,9,-999.0000,9,-999.0000,9,-999.0000,9,-999.0000,9,  11.6614,     -999.0,9,     -999.0,9,     -999.0,9,     -999.0,9,        113,-999.000,-999.000,-999.000,     -999.0,9, -999.00,9, -999.00,9
33RO200306_02,       A16N,     113,          1,         25,         25,2,20030730,       0116,     9.4993,   -28.2507,       5406,   199.4,  11.4385,  35.1118,2,  35.1099,2,    118.1,2,   113.6,2,   10.50,2,   25.01,2,    0.01,2,    1.62,2,   1.507,2,   0.815,2,   0.017,2,  2189.9,2,  2310.5,2,   -999.0,9,  -999.00,   7.6583,2,    25.00,-999.000,9,-999.000,9,-999.000,9, -999.00,9,  -999.0,9,  -999.0,-999.000,9,-999.000,-999.000,9, -999.00,9, -999.00,9,  199.40,-999.0000,9,-999.0000,9,-999.0000,9,-999.0000,9,-999.0000,9,-999.0000,9,  11.4133,     -999.0,9,     -999.0,9,     -999.0,9,     -999.0,9,        113,-999.000,-999.000,-999.000,     -999.0,9, -999.00,9, -999.00,9
33RO200306_02,       A16N,     113,          1,         24,         24,2,20030730,       0116,     9.4993,   -28.2507,       5406,   249.3,  10.7875,  35.0460,2,  35.0457,2,    108.2,2,    96.6,2,   12.00,2,   27.95,2,    0.01,2,    1.78,2,-999.000,9,-999.000,9,-999.000,9,  -999.0,9,  -999.0,9,   -999.0,9,  -999.00,-999.0000,9,  -999.00,-999.000,9,-999.000,9,-999.000,9, -999.00,9,  -999.0,9,  -999.0,-999.000,9,-999.000,-999.000,9, -999.00,9, -999.00,9,  249.30,-999.0000,9,-999.0000,9,-999.0000,9,-999.0000,9,-999.0000,9,-999.0000,9,  10.7571,     -999.0,9,     -999.0,9,     -999.0,9,     -999.0,9,        113,-999.000,-999.000,-999.000,     -999.0,9, -999.00,9, -999.00,9
33RO200306_02,       A16N,     113,          1,         23,         23,2,20030730,       0116,     9.4993,   -28.2507,       5406,   299.2,  10.3477,  35.0093,2,  35.0046,2,     86.9,2,    87.3,2,   13.11,2,   29.82,2,    0.01,2,    1.88,2,-999.000,9,-999.000,9,-999.000,9,  -999.0,9,  -999.0,9,   -999.0,9,  -999.00,-999.0000,9,  -999.00,-999.000,9,-999.000,9,-999.000,9, -999.00,9,  -999.0,9,  -999.0,-999.000,9,-999.000,-999.000,9, -999.00,9, -999.00,9,  299.20,-999.0000,9,-999.0000,9,-999.0000,9,-999.0000,9,-999.0000,9,-999.0000,9,  10.3120,     -999.0,9,     -999.0,9,     -999.0,9,     -999.0,9,        113,-999.000,-999.000,-999.000,     -999.0,9, -999.00,9, -999.00,9
33RO200306_02,       A16N,     113,          1,         22,         22,2,20030730,       0116,     9.4993,   -28.2507,       5406,   349.7,   9.9568,  34.9845,2,  34.9826,2,     83.2,2,    72.0,2,   14.42,2,   32.29,2,    0.01,2,    2.00,2,-999.000,9,-999.000,9,-999.000,9,  2222.3,2,  2305.3,2,   -999.0,9,  -999.00,   7.5402,2,    25.00,-999.000,9,-999.000,9,-999.000,9, -999.00,9,  -999.0,9,  -999.0,-999.000,9,-999.000,-999.000,9, -999.00,9, -999.00,9,  349.70,-999.0000,9,-999.0000,9,-999.0000,9,-999.0000,9,-999.0000,9,-999.0000,9,   9.9160,     -999.0,9,     -999.0,9,     -999.0,9,     -999.0,9,        113,-999.000,-999.000,-999.000,     -999.0,9, -999.00,9, -999.00,9
33RO200306_02,       A16N,     113,          1,         21,         21,2,20030730,       0116,     9.4993,   -28.2507,       5406,   399.3,   9.5650,  34.9727,2,  34.9723,2,     66.5,2,    62.3,2,   15.50,2,   34.09,2,    0.00,2,    2.10,2,-999.000,9,-999.000,9,-999.000,9,  -999.0,9,  -999.0,9,   -999.0,9,  -999.00,-999.0000,9,  -999.00,-999.000,9,-999.000,9,-999.000,9, -999.00,9,  -999.0,9,  -999.0,-999.000,9,-999.000,-999.000,9, -999.00,9, -999.00,9,  399.30,-999.0000,9,-999.0000,9,-999.0000,9,-999.0000,9,-999.0000,9,-999.0000,9,   9.5195,     -999.0,9,     -999.0,9,     -999.0,9,     -999.0,9,        113,-999.000,-999.000,-999.000,     -999.0,9, -999.00,9, -999.00,9
33RO200306_02,       A16N,     113,          1,         20,         20,2,20030730,       0116,     9.4993,   -28.2507,       5406,   450.0,   9.1901,  34.9533,2,  34.9480,2,     56.6,2,    57.6,2,   16.79,2,   35.52,2,    0.00,2,    2.18,2,-999.000,9,-999.000,9,-999.000,9,  -999.0,9,  -999.0,9,   -999.0,9,  -999.00,-999.0000,9,  -999.00,-999.000,9,-999.000,9,-999.000,9, -999.00,9,  -999.0,9,  -999.0,-999.000,9,-999.000,-999.000,9, -999.00,9, -999.00,9,  450.00,-999.0000,9,-999.0000,9,-999.0000,9,-999.0000,9,-999.0000,9,-999.0000,9,   9.1399,     -999.0,9,     -999.0,9,     -999.0,9,     -999.0,9,        113,-999.000,-999.000,-999.000,     -999.0,9, -999.00,9, -999.00,9
33RO200306_02,       A16N,     113,          1,         19,         19,2,20030730,       0116,     9.4993,   -28.2507,       5406,   499.6,   8.6335,  34.9026,2,  34.8983,2,     60.3,2,    61.8,2,   18.26,2,   36.22,2,    0.00,2,    2.25,2,-999.000,9,-999.000,9,-999.000,9,  2236.6,2,  2303.0,2,   -999.0,9,  -999.00,   7.4888,2,    25.00,-999.000,9,-999.000,9,-999.000,9, -999.00,9,  -999.0,9,  -999.0,-999.000,9,-999.000,-999.000,9, -999.00,9, -999.00,9,  499.60,-999.0000,9,-999.0000,9,-999.0000,9,-999.0000,9,-999.0000,9,-999.0000,9,   8.5797,     -999.0,9,     -999.0,9,     -999.0,9,     -999.0,9,        113,-999.000,-999.000,-999.000,     -999.0,9, -999.00,9, -999.00,9
33RO200306_02,       A16N,     113,          1,         18,         18,2,20030730,       0116,     9.4993,   -28.2507,       5406,   599.5,   7.5518,  34.8308,2,  34.8302,2,     68.6,2,    69.0,2,   21.34,2,   37.23,2,    0.00,2,    2.36,2,-999.000,9,-999.000,9,-999.000,9,  -999.0,9,  -999.0,9,   -999.0,9,  -999.00,-999.0000,9,  -999.00,-999.000,9,-999.000,9,-999.000,9, -999.00,9,  -999.0,9,  -999.0,-999.000,9,-999.000,-999.000,9, -999.00,9, -999.00,9,  599.50,-999.0000,9,-999.0000,9,-999.0000,9,-999.0000,9,-999.0000,9,-999.0000,9,   7.4917,     -999.0,9,     -999.0,9,     -999.0,9,     -999.0,9,        113,-999.000,-999.000,-999.000,     -999.0,9, -999.00,9, -999.00,9
33RO200306_02,       A16N,     113,          1,         17,         17,2,20030730,       0116,     9.4993,   -28.2507,       5406,   699.1,   6.4893,  34.7288,2,  34.7292,2,     85.4,2,    90.3,2,   24.34,2,   36.92,2,    0.00,2,    2.38,2,-999.000,9,-999.000,9,-999.000,9,  -999.0,9,  -999.0,9,   -999.0,9,  -999.00,-999.0000,9,  -999.00,-999.000,9,-999.000,9,-999.000,9, -999.00,9,  -999.0,9,  -999.0,-999.000,9,-999.000,-999.000,9, -999.00,9, -999.00,9,  699.10,-999.0000,9,-999.0000,9,-999.0000,9,-999.0000,9,-999.0000,9,-999.0000,9,   6.4244,     -999.0,9,     -999.0,9,     -999.0,9,     -999.0,9,        113,-999.000,-999.000,-999.000,     -999.0,9, -999.00,9, -999.00,9
33RO200306_02,       A16N,     113,          1,         16,         16,2,20030730,       0116,     9.4993,   -28.2507,       5406,   798.7,   5.7896,  34.6894,2,  34.6895,2,    105.1,2,   106.9,2,   26.77,2,   36.22,2,    0.00,2,    2.38,2,   0.015,2,   0.013,2,   0.001,2,  2229.8,2,  2304.0,2,   -999.0,9,  -999.00,   7.5123,2,    25.00,-999.000,9,-999.000,9,-999.000,9, -999.00,9,  -999.0,9,  -999.0,-999.000,9,-999.000,-999.000,9, -999.00,9, -999.00,9,  798.70,-999.0000,9,-999.0000,9,-999.0000,9,-999.0000,9,-999.0000,9,-999.0000,9,   5.7192,     -999.0,9,     -999.0,9,     -999.0,9,     -999.0,9,        113,-999.000,-999.000,-999.000,     -999.0,9, -999.00,9, -999.00,9
33RO200306_02,       A16N,     113,          1,         15,         15,2,20030730,       0116,     9.4993,   -28.2507,       5406,   898.7,   5.3367,  34.6982,2,  34.6992,2,    118.6,2,   121.1,2,   27.98,2,   35.10,2,    0.00,2,    2.34,2,   0.007,2,   0.007,2,   0.001,2,  -999.0,9,  -999.0,9,   -999.0,9,  -999.00,-999.0000,9,  -999.00,-999.000,9,-999.000,9,-999.000,9, -999.00,9,  -999.0,9,  -999.0,-999.000,9,-999.000,-999.000,9, -999.00,9, -999.00,9,  898.70,-999.0000,9,-999.0000,9,-999.0000,9,-999.0000,9,-999.0000,9,-999.0000,9,   5.2599,     -999.0,9,     -999.0,9,     -999.0,9,     -999.0,9,        113,-999.000,-999.000,-999.000,     -999.0,9, -999.00,9, -999.00,9
33RO200306_02,       A16N,     113,          1,         14,         14,2,20030730,       0116,     9.4993,   -28.2507,       5406,   998.6,   5.2047,  34.7564,2,  34.7566,2,    130.6,2,   133.3,2,   27.32,2,   33.28,2,    0.00,2,    2.21,2,   0.012,2,   0.008,2,   0.002,2,  2221.1,2,  2310.2,2,   -999.0,9,  -999.00,   7.5568,2,    25.00,-999.000,9,-999.000,9,-999.000,9, -999.00,9,  -999.0,9,  -999.0,-999.000,9,-999.000,-999.000,9, -999.00,9, -999.00,9,  998.60,-999.0000,9,-999.0000,9,-999.0000,9,-999.0000,9,-999.0000,9,-999.0000,9,   5.1196,     -999.0,9,     -999.0,9,     -999.0,9,     -999.0,9,        113,-999.000,-999.000,-999.000,     -999.0,9, -999.00,9, -999.00,9
33RO200306_02,       A16N,     113,          1,         13,         13,2,20030730,       0116,     9.4993,   -28.2507,       5406,  1099.6,   5.0907,  34.8186,2,  34.8174,2,    142.4,2,   146.5,2,   26.14,2,   31.38,2,    0.00,2,    2.10,2,   0.013,2,   0.006,2,   0.002,2,  -999.0,9,  -999.0,9,   -999.0,9,  -999.00,-999.0000,9,  -999.00,-999.000,9,-999.000,9,-999.000,9, -999.00,9,  -999.0,9,  -999.0,-999.000,9,-999.000,-999.000,9, -999.00,9, -999.00,9, 1099.60,-999.0000,9,-999.0000,9,-999.0000,9,-999.0000,9,-999.0000,9,-999.0000,9,   4.9970,     -999.0,9,     -999.0,9,     -999.0,9,     -999.0,9,        113,-999.000,-999.000,-999.000,     -999.0,9, -999.00,9, -999.00,9
33RO200306_02,       A16N,     113,          1,         12,         12,2,20030730,       0116,     9.4993,   -28.2507,       5406,  1199.0,   4.9760,  34.8893,2,  34.8877,2,    157.2,2,   161.4,2,   24.39,2,   29.19,2,    0.00,2,    1.96,2,   0.005,2,   0.005,2,   0.000,2,  2207.0,2,  2316.3,2,   -999.0,9,  -999.00,   7.6149,2,    25.00,-999.000,9,-999.000,9,-999.000,9, -999.00,9,  -999.0,9,  -999.0,-999.000,9,-999.000,-999.000,9, -999.00,9, -999.00,9, 1199.00,-999.0000,9,-999.0000,9,-999.0000,9,-999.0000,9,-999.0000,9,-999.0000,9,   4.8739,     -999.0,9,     -999.0,9,     -999.0,9,     -999.0,9,        113,-999.000,-999.000,-999.000,     -999.0,9, -999.00,9, -999.00,9
33RO200306_02,       A16N,     113,          1,         11,         11,2,20030730,       0116,     9.4993,   -28.2507,       5406,  1371.8,   4.5591,  34.9431,2,  34.9426,2,    191.5,2,   195.6,2,   21.60,2,   25.28,2,    0.00,2,    1.70,2,   0.018,2,   0.012,2,   0.002,2,  -999.0,9,  -999.0,9,   -999.0,9,  -999.00,-999.0000,9,  -999.00,-999.000,9,-999.000,9,-999.000,9, -999.00,9,  -999.0,9,  -999.0,-999.000,9,-999.000,-999.000,9, -999.00,9, -999.00,9, 1371.80,-999.0000,9,-999.0000,9,-999.0000,9,-999.0000,9,-999.0000,9,-999.0000,9,   4.4447,     -999.0,9,     -999.0,9,     -999.0,9,     -999.0,9,        113,-999.000,-999.000,-999.000,     -999.0,9, -999.00,9, -999.00,9
33RO200306_02,       A16N,     113,          1,         10,         10,2,20030730,       0116,     9.4993,   -28.2507,       5406,  1599.6,   4.0847,  34.9665,2,  34.9661,2,    220.6,2,   223.2,2,   20.15,2,   22.44,2,    0.00,2,    1.51,2,   0.010,2,   0.011,2,   0.001,2,  -999.0,9,  -999.0,9,   -999.0,9,  -999.00,-999.0000,9,  -999.00,-999.000,9,-999.000,9,-999.000,9, -999.00,9,  -999.0,9,  -999.0,-999.000,9,-999.000,-999.000,9, -999.00,9, -999.00,9, 1599.60,-999.0000,9,-999.0000,9,-999.0000,9,-999.0000,9,-999.0000,9,-999.0000,9,   3.9543,     -999.0,9,     -999.0,9,     -999.0,9,     -999.0,9,        113,-999.000,-999.000,-999.000,     -999.0,9, -999.00,9, -999.00,9
33RO200306_02,       A16N,     113,          1,          9,          9,2,20030730,       0116,     9.4993,   -28.2507,       5406,  1799.6,   3.7759,  34.9727,2,  34.9719,2,    238.8,2,   239.6,2,   19.56,2,   20.85,2,    0.00,2,    1.40,2,-999.000,9,-999.000,9,-999.000,9,  -999.0,9,  -999.0,9,   -999.0,9,  -999.00,-999.0000,9,  -999.00,-999.000,9,-999.000,9,-999.000,9, -999.00,9,  -999.0,9,  -999.0,-999.000,9,-999.000,-999.000,9, -999.00,9, -999.00,9, 1799.60,-999.0000,9,-999.0000,9,-999.0000,9,-999.0000,9,-999.0000,9,-999.0000,9,   3.6308,     -999.0,9,     -999.0,9,     -999.0,9,     -999.0,9,        113,-999.000,-999.000,-999.000,     -999.0,9, -999.00,9, -999.00,9
33RO200306_02,       A16N,     113,          1,          8,          8,2,20030730,       0116,     9.4993,   -28.2507,       5406,  1998.4,   3.5466,  34.9669,2,  34.9669,2,    246.0,2,   245.2,2,   20.96,2,   20.47,2,    0.00,2,    1.38,2,-999.000,9,-999.000,9,-999.000,9,  -999.0,9,  -999.0,9,   -999.0,9,  -999.00,-999.0000,9,  -999.00,-999.000,9,-999.000,9,-999.000,9, -999.00,9,  -999.0,9,  -999.0,-999.000,9,-999.000,-999.000,9, -999.00,9, -999.00,9, 1998.40,-999.0000,9,-999.0000,9,-999.0000,9,-999.0000,9,-999.0000,9,-999.0000,9,   3.3860,     -999.0,9,     -999.0,9,     -999.0,9,     -999.0,9,        113,-999.000,-999.000,-999.000,     -999.0,9, -999.00,9, -999.00,9