BOTTLE,20230908CCHSIOCBG
EXPOCODE,SECT_ID,STNNBR,CASTNO,SAMPNO,BTLNBR,BTLNBR_FLAG_W,DATE,TIME,LATITUDE,LONGITUDE,DEPTH,CTDPRS,CTDTMP,CTDSAL,CTDSAL_FLAG_W,SALNTY,SALNTY_FLAG_W,CTDOXY,CTDOXY_FLAG_W,OXYGEN,OXYGEN_FLAG_W,SILCAT,SILCAT_FLAG_W,NITRAT,NITRAT_FLAG_W,NITRIT,NITRIT_FLAG_W,PHSPHT,PHSPHT_FLAG_W,CFC-11,CFC-11_FLAG_W,CFC-12,CFC-12_FLAG_W,CFC113,CFC113_FLAG_W,TCARBN,TCARBN_FLAG_W,ALKALI,ALKALI_FLAG_W,FCO2,FCO2_FLAG_W,FCO2TMP,PH_SWS,PH_SWS_FLAG_W,PH_TMP,TRITUM,TRITUM_FLAG_W,HELIUM,HELIUM_FLAG_W,DELHE3,DELHE3_FLAG_W,DELC13,DELC13_FLAG_W,DELC14,DELC14_FLAG_W,C14ERR,NEON,NEON_FLAG_W,NEONER,POC,POC_FLAG_W,DOC,DOC_FLAG_W,TDN,TDN_FLAG_W,CTDRAW,CDOM325,CDOM325_FLAG_W,CDOM340,CDOM340_FLAG_W,CDOM380,CDOM380_FLAG_W,CDOM412,CDOM412_FLAG_W,CDOMSL,CDOMSL_FLAG_W,CDOMSN,CDOMSN_FLAG_W,THETA,PON,PON_FLAG_W,HCFC-22,HCFC-22_FLAG_W,HCFC-142b,HCFC-142b_FLAG_W,HCFC-141b,HCFC-141b_FLAG_W,STNNBR_U,HELIER,DELHER,TRITER,CH3CL,CH3CL_FLAG_W,CH3BR,CH3BR_FLAG_W,CH3I,CH3I_FLAG_W
,,,,,,,,,,,METERS,DBAR,ITS-90,PSS-78,,PSS-78,,UMOL/KG,,UMOL/KG,,UMOL/KG,,UMOL/KG,,UMOL/KG,,UMOL/KG,,PMOL/KG,,PMOL/KG,,PMOL/KG,,UMOL/KG,,UMOL/KG,,UATM,,DEG C,,,DEG C,TU,,NMOL/KG,,PERCNT,,/MILLE,,/MILLE,,/MILLE,NMOL/KG,,NMOL/KG,UG/KG,,UMOL/KG,,UMOL/KG,,DBAR,1/M,,1/M,,1/M,,1/M,,1/NM,,1/NM,,DEG C,UMOL/L,,PMOL/KG,,PMOL/KG,,PMOL/KG,,,NMOL/KG,PERCNT,TU,PMOL/KG,,PMOL/KG,,PMOL/KG,
33RO200306_01,       A16N,     027,          1,          7,          7,2,20030625,       1212,    52.0018,   -19.9995,       3772,  2000.3,   3.2333,  34.8920,2,  34.8945,2,    275.9,2,   277.3,2,   11.86,2,   17.05,2,    0.01,2,    1.09,2,   2.933,2,   1.445,2,   0.181,2,  2156.5,2,  2298.1,2,    760.6,2,    20.00,   7.7214,2,    25.00,   1.086,2,-999.000,9,-999.000,9, -999.00,9,  -999.0,9,  -999.0,-999.000,9,-999.000,-999.000,9,   43.74,2,   22.16,2, 2000.30,-999.0000,9,-999.0000,9,-999.0000,9,-999.0000,9,-999.0000,9,-999.0000,9,   3.0774,     -999.0,9,     -999.0,9,     -999.0,9,     -999.0,9,         27,-999.000,-999.000,   0.020,     -999.0,9, -999.00,9, -999.00,9
33RO200306_01,       A16N,     027,          1,          6,          6,2,20030625,       1212,    52.0018,   -19.9995,       3772,  2300.1,   3.1644,  34.9143,2,  34.9129,2,    272.2,2,   272.7,2,   13.26,2,   16.97,2,    0.01,2,    1.09,2,   2.369,2,   1.175,2,   0.130,2,  2157.9,2,  2301.9,2,   -999.0,9,  -999.00,   7.7291,2,    25.00,-999.000,9,-999.000,9,-999.000,9, -999.00,9,  -999.0,9,  -999.0,-999.000,9,-999.000,-999.000,9,   43.90,2,   22.38,2, 2300.10,-999.0000,9,-999.0000,9,-999.0000,9,-999.0000,9,-999.0000,9,-999.0000,9,   2.9811,     -999.0,9,     -999.0,9,     -999.0,9,     -999.0,9,         27,-999.000,-999.000,-999.000,     -999.0,9, -999.00,9, -999.00,9
33RO200306_01,       A16N,     027,          1,          5,          5,2,20030625,       1212,    52.0018,   -19.9995,       3772,  2600.5,   3.0698,  34.9369,2,  34.9365,2,    267.2,2,   267.3,2,   15.84,2,   17.09,2,    0.01,2,    1.10,2,   1.883,6,   0.934,6,   0.093,6,  2163.7,2,  2309.1,2,    752.8,2,    20.00,   7.7314,2,    25.00,   0.864,2,   1.860,2,   6.703,2, -999.00,9,  -999.0,9,  -999.0,   8.072,2,   0.072,-999.000,9,   43.58,2,   22.19,2, 2600.50,-999.0000,9,-999.0000,9,-999.0000,9,-999.0000,9,-999.0000,9,-999.0000,9,   2.8586,     -999.0,9,     -999.0,9,     -999.0,9,     -999.0,9,         27,   0.004,   0.185,   0.020,     -999.0,9, -999.00,9, -999.00,9
33RO200306_01,       A16N,     027,          1,          4,          4,2,20030625,       1212,    52.0018,   -19.9995,       3772,  2901.3,   2.8946,  34.9449,2,  34.9459,2,    259.0,2,   258.6,2,   22.49,6,   18.08,6,    0.01,6,    1.18,6,   1.386,2,   0.690,2,   0.064,2,  2169.6,2,  2318.7,2,   -999.0,9,  -999.00,   7.7234,2,    25.00,   0.679,2,   1.850,2,   6.063,2, -999.00,9,  -999.0,9,  -999.0,   7.993,2,   0.062,-999.000,9,   43.74,2,   22.20,2, 2901.30,-999.0000,9,-999.0000,9,-999.0000,9,-999.0000,9,-999.0000,9,-999.0000,9,   2.6563,     -999.0,9,     -999.0,9,     -999.0,9,     -999.0,9,         27,   0.003,   0.149,   0.010,     -999.0,9, -999.00,9, -999.00,9
33RO200306_01,       A16N,     027,          1,          3,          3,2,20030625,       1212,    52.0018,   -19.9995,       3772,  3201.8,   2.7111,  34.9359,2,  34.9363,2,    250.5,2,   250.7,2,   31.19,6,   19.62,6,    0.01,6,    1.29,6,   0.805,2,   0.401,2,   0.038,2,  2181.9,2,  2330.9,2,    766.7,2,    20.00,   7.7257,2,    25.00,   0.334,2,   1.847,2,   4.507,2, -999.00,9,  -999.0,9,  -999.0,   8.059,2,   0.062,-999.000,9,   42.76,2,   23.71,2, 3201.80,-999.0000,9,-999.0000,9,-999.0000,9,-999.0000,9,-999.0000,9,-999.0000,9,   2.4455,     -999.0,9,     -999.0,9,     -999.0,9,     -999.0,9,         27,   0.003,    0.15,   0.010,     -999.0,9, -999.00,9, -999.00,9
33RO200306_01,       A16N,     027,          1,          2,          2,2,20030625,       1212,    52.0018,   -19.9995,       3772,  3501.7,   2.5681,  34.9202,2,  34.9190,2,    241.5,2,   263.0,3,   40.02,6,   21.33,6,    0.01,6,    1.41,6,   0.266,2,   0.133,2,   0.014,2,  2195.5,2,  2343.3,2,   -999.0,9,  -999.00,   7.7276,2,    25.00,-999.000,9,-999.000,9,-999.000,9, -999.00,9,  -999.0,9,  -999.0,-999.000,9,-999.000,-999.000,9,   41.46,2,   26.37,2, 3501.70,-999.0000,9,-999.0000,9,-999.0000,9,-999.0000,9,-999.0000,9,-999.0000,9,   2.2738,     -999.0,9,     -999.0,9,     -999.0,9,     -999.0,9,         27,-999.000,-999.000,-999.000,     -999.0,9, -999.00,9, -999.00,9
33RO200306_01,       A16N,     027,          1,          1,          1,2,20030625,       1212,    52.0018,   -19.9995,       3772,  3812.1,   2.4804,  34.9079,2,  34.9096,2,    235.6,2,   235.7,2,   45.07,2,   22.19,2,    0.01,2,    1.48,2,   0.072,2,   0.033,2,   0.008,2,  2203.2,6,  2351.3,2,    767.7,2,    20.00,   7.7290,2,    25.00,   0.115,2,   1.857,2,   2.133,2, -999.00,9,  -999.0,9,  -999.0,   8.061,2,   0.056,-999.000,9,   41.63,2,   27.05,2, 3812.10,-999.0000,9,-999.0000,9,-999.0000,9,-999.0000,9,-999.0000,9,-999.0000,9,   2.1540,     -999.0,9,     -999.0,9,     -999.0,9,     -999.0,9,         27,   0.003,   0.213,   0.000,     -999.0,9, -999.00,9, -999.00,9