BOTTLE,20230908CCHSIOCBG
EXPOCODE,SECT_ID,STNNBR,CASTNO,SAMPNO,BTLNBR,BTLNBR_FLAG_W,DATE,TIME,LATITUDE,LONGITUDE,DEPTH,CTDPRS,CTDTMP,CTDSAL,CTDSAL_FLAG_W,SALNTY,SALNTY_FLAG_W,CTDOXY,CTDOXY_FLAG_W,OXYGEN,OXYGEN_FLAG_W,SILCAT,SILCAT_FLAG_W,NITRAT,NITRAT_FLAG_W,NITRIT,NITRIT_FLAG_W,PHSPHT,PHSPHT_FLAG_W,CFC-11,CFC-11_FLAG_W,CFC-12,CFC-12_FLAG_W,CFC113,CFC113_FLAG_W,TCARBN,TCARBN_FLAG_W,ALKALI,ALKALI_FLAG_W,FCO2,FCO2_FLAG_W,FCO2TMP,PH_SWS,PH_SWS_FLAG_W,PH_TMP,TRITUM,TRITUM_FLAG_W,HELIUM,HELIUM_FLAG_W,DELHE3,DELHE3_FLAG_W,DELC13,DELC13_FLAG_W,DELC14,DELC14_FLAG_W,C14ERR,NEON,NEON_FLAG_W,NEONER,POC,POC_FLAG_W,DOC,DOC_FLAG_W,TDN,TDN_FLAG_W,CTDRAW,CDOM325,CDOM325_FLAG_W,CDOM340,CDOM340_FLAG_W,CDOM380,CDOM380_FLAG_W,CDOM412,CDOM412_FLAG_W,CDOMSL,CDOMSL_FLAG_W,CDOMSN,CDOMSN_FLAG_W,THETA,PON,PON_FLAG_W,HCFC-22,HCFC-22_FLAG_W,HCFC-142b,HCFC-142b_FLAG_W,HCFC-141b,HCFC-141b_FLAG_W,STNNBR_U,HELIER,DELHER,TRITER,CH3CL,CH3CL_FLAG_W,CH3BR,CH3BR_FLAG_W,CH3I,CH3I_FLAG_W
,,,,,,,,,,,METERS,DBAR,ITS-90,PSS-78,,PSS-78,,UMOL/KG,,UMOL/KG,,UMOL/KG,,UMOL/KG,,UMOL/KG,,UMOL/KG,,PMOL/KG,,PMOL/KG,,PMOL/KG,,UMOL/KG,,UMOL/KG,,UATM,,DEG C,,,DEG C,TU,,NMOL/KG,,PERCNT,,/MILLE,,/MILLE,,/MILLE,NMOL/KG,,NMOL/KG,UG/KG,,UMOL/KG,,UMOL/KG,,DBAR,1/M,,1/M,,1/M,,1/M,,1/NM,,1/NM,,DEG C,UMOL/L,,PMOL/KG,,PMOL/KG,,PMOL/KG,,,NMOL/KG,PERCNT,TU,PMOL/KG,,PMOL/KG,,PMOL/KG,
33RO200306_01,       A16N,     065,          1,          7,          7,2,20030707,       0637,    33.0002,   -21.6867,       5258,  2500.3,   3.2285,  34.9845,2,  34.9844,2,    250.5,2,   250.9,2,   25.15,2,   19.47,2,    0.00,2,    1.28,2,   0.120,2,   0.069,2,   0.006,2,  2175.9,2,  2325.4,2,   -999.0,9,  -999.00,   7.7387,2,    25.00,   0.115,2,   1.845,2,   2.433,2, -999.00,9,  -999.0,9,  -999.0,   7.914,2,   0.050,-999.000,9,   41.14,2,   23.55,2, 2500.30,-999.0000,9,-999.0000,9,-999.0000,9,-999.0000,9,-999.0000,9,-999.0000,9,   3.0242,     -999.0,9,       0.18,2,       0.18,2,       0.25,2,         65,   0.003,   0.192,   0.010,      35.06,2,    0.97,2,     0.0,2
33RO200306_01,       A16N,     065,          1,          6,          6,2,20030707,       0637,    33.0002,   -21.6867,       5258,  2999.9,   2.7906,  34.9448,2,  34.9443,2,    247.5,2,   246.9,2,   33.20,6,   20.60,6,    0.00,6,    1.37,6,   0.037,2,   0.025,2,   0.001,2,  2186.1,2,  2335.5,2,    755.7,2,    20.00,   7.7364,2,    25.00,-999.000,9,   1.842,2,   1.857,2, -999.00,9,  -999.0,9,  -999.0,   7.937,2,   0.050,-999.000,9, -999.00,9, -999.00,9, 2999.90,-999.0000,9,-999.0000,9,-999.0000,9,-999.0000,9,-999.0000,9,-999.0000,9,   2.5443,     -999.0,9,     -999.0,9,     -999.0,9,     -999.0,9,         65,   0.003,   0.192,-999.000,     -999.0,9, -999.00,9, -999.00,9
33RO200306_01,       A16N,     065,          1,          5,          5,2,20030707,       0637,    33.0002,   -21.6867,       5258,  3500.4,   2.5907,  34.9222,2,  34.9220,2,    244.8,2,   244.7,2,   39.39,2,   21.39,2,    0.00,2,    1.43,2,   0.009,2,   0.007,2,   0.003,2,  2192.0,2,  2341.7,2,   -999.0,9,  -999.00,   7.7342,2,    25.00,   0.053,2,-999.000,9,-999.000,9, -999.00,9,  -999.0,9,  -999.0,-999.000,9,-999.000,-999.000,9,   41.05,2,   24.90,2, 3500.40,-999.0000,9,-999.0000,9,-999.0000,9,-999.0000,9,-999.0000,9,-999.0000,9,   2.2959,     -999.0,9,       0.00,2,       0.11,2,       0.24,2,         65,-999.000,-999.000,   0.010,      34.31,2,     0.6,2,     0.0,2
33RO200306_01,       A16N,     065,          1,          4,          4,2,20030707,       0637,    33.0002,   -21.6867,       5258,  3999.8,   2.4756,  34.9057,2,  34.9050,2,    244.7,2,   244.9,2,   42.66,2,   21.82,2,    0.00,2,    1.47,2,   0.005,2,   0.002,2,   0.002,2,  2195.1,2,  2344.4,2,    765.7,2,    20.00,   7.7316,2,    25.00,   0.002,2,   1.832,2,   1.925,2, -999.00,9,  -999.0,9,  -999.0,   7.802,2,   0.059,-999.000,9,   40.24,2,   25.31,2, 3999.80,-999.0000,9,-999.0000,9,-999.0000,9,-999.0000,9,-999.0000,9,-999.0000,9,   2.1280,     -999.0,9,     -999.0,9,     -999.0,9,     -999.0,9,         65,   0.004,   0.193,   0.010,     -999.0,9, -999.00,9, -999.00,9
33RO200306_01,       A16N,     065,          1,          3,          3,2,20030707,       0637,    33.0002,   -21.6867,       5258,  4499.9,   2.4180,  34.8942,2,  34.8944,2,    244.7,2,   244.9,2,   45.53,6,   22.08,6,    0.00,6,    1.48,6,   0.002,2,   0.005,2,   0.002,2,  2196.8,2,  2345.3,2,   -999.0,9,  -999.00,   7.7291,2,    25.00,   0.082,2,   1.867,2,   2.597,2, -999.00,9,  -999.0,9,  -999.0,   7.996,2,   0.050,-999.000,9,   40.57,2,   25.46,2, 4499.90,-999.0000,9,-999.0000,9,-999.0000,9,-999.0000,9,-999.0000,9,-999.0000,9,   2.0133,     -999.0,9,       0.00,2,       0.02,2,       0.20,2,         65,   0.003,   0.191,   0.010,       6.82,2,     0.1,2,     0.0,2
33RO200306_01,       A16N,     065,          1,          2,          2,2,20030707,       0637,    33.0002,   -21.6867,       5258,  5001.8,   2.4373,  34.8892,2,  34.8895,2,    244.7,2,   244.6,2,   46.44,6,   22.21,6,    0.00,6,    1.49,6,   0.007,2,   0.006,2,   0.002,2,  2197.9,2,  2347.6,2,    765.4,6,    20.00,   7.7313,2,    25.00,-999.000,9,   1.852,2,   2.256,2, -999.00,9,  -999.0,9,  -999.0,   8.017,2,   0.045,-999.000,9,   40.32,2,   26.11,2, 5001.80,-999.0000,9,-999.0000,9,-999.0000,9,-999.0000,9,-999.0000,9,-999.0000,9,   1.9698,     -999.0,9,     -999.0,9,     -999.0,9,     -999.0,9,         65,   0.004,    0.19,-999.000,     -999.0,9, -999.00,9, -999.00,9
33RO200306_01,       A16N,     065,          1,          1,          1,2,20030707,       0637,    33.0002,   -21.6867,       5258,  5342.6,   2.4759,  34.8881,2,  34.8888,2,    244.4,2,   244.3,2,   46.60,6,   22.24,6,    0.00,6,    1.49,6,   0.005,2,   0.006,2,   0.001,2,  2198.8,6,  2347.8,6,    769.0,2,    20.00,   7.7289,6,    25.00,-999.000,9,-999.000,9,-999.000,9, -999.00,9,  -999.0,9,  -999.0,-999.000,9,-999.000,-999.000,9,   41.14,2,   25.80,2, 5342.60,-999.0000,9,-999.0000,9,-999.0000,9,-999.0000,9,-999.0000,9,-999.0000,9,   1.9631,     -999.0,9,       0.35,2,       0.00,2,       0.55,2,         65,-999.000,-999.000,-999.000,       5.05,2,    0.04,2,     0.0,2