BOTTLE,20230908CCHSIOCBG
EXPOCODE,SECT_ID,STNNBR,CASTNO,SAMPNO,BTLNBR,BTLNBR_FLAG_W,DATE,TIME,LATITUDE,LONGITUDE,DEPTH,CTDPRS,CTDTMP,CTDSAL,CTDSAL_FLAG_W,SALNTY,SALNTY_FLAG_W,CTDOXY,CTDOXY_FLAG_W,OXYGEN,OXYGEN_FLAG_W,SILCAT,SILCAT_FLAG_W,NITRAT,NITRAT_FLAG_W,NITRIT,NITRIT_FLAG_W,PHSPHT,PHSPHT_FLAG_W,CFC-11,CFC-11_FLAG_W,CFC-12,CFC-12_FLAG_W,CFC113,CFC113_FLAG_W,TCARBN,TCARBN_FLAG_W,ALKALI,ALKALI_FLAG_W,FCO2,FCO2_FLAG_W,FCO2TMP,PH_SWS,PH_SWS_FLAG_W,PH_TMP,TRITUM,TRITUM_FLAG_W,HELIUM,HELIUM_FLAG_W,DELHE3,DELHE3_FLAG_W,DELC13,DELC13_FLAG_W,DELC14,DELC14_FLAG_W,C14ERR,NEON,NEON_FLAG_W,NEONER,POC,POC_FLAG_W,DOC,DOC_FLAG_W,TDN,TDN_FLAG_W,CTDRAW,CDOM325,CDOM325_FLAG_W,CDOM340,CDOM340_FLAG_W,CDOM380,CDOM380_FLAG_W,CDOM412,CDOM412_FLAG_W,CDOMSL,CDOMSL_FLAG_W,CDOMSN,CDOMSN_FLAG_W,THETA,PON,PON_FLAG_W,HCFC-22,HCFC-22_FLAG_W,HCFC-142b,HCFC-142b_FLAG_W,HCFC-141b,HCFC-141b_FLAG_W,STNNBR_U,HELIER,DELHER,TRITER,CH3CL,CH3CL_FLAG_W,CH3BR,CH3BR_FLAG_W,CH3I,CH3I_FLAG_W
,,,,,,,,,,,METERS,DBAR,ITS-90,PSS-78,,PSS-78,,UMOL/KG,,UMOL/KG,,UMOL/KG,,UMOL/KG,,UMOL/KG,,UMOL/KG,,PMOL/KG,,PMOL/KG,,PMOL/KG,,UMOL/KG,,UMOL/KG,,UATM,,DEG C,,,DEG C,TU,,NMOL/KG,,PERCNT,,/MILLE,,/MILLE,,/MILLE,NMOL/KG,,NMOL/KG,UG/KG,,UMOL/KG,,UMOL/KG,,DBAR,1/M,,1/M,,1/M,,1/M,,1/NM,,1/NM,,DEG C,UMOL/L,,PMOL/KG,,PMOL/KG,,PMOL/KG,,,NMOL/KG,PERCNT,TU,PMOL/KG,,PMOL/KG,,PMOL/KG,
33RO200306_02,       A16N,     128,          1,          7,          7,2,20030803,       1225,     2.3333,   -25.0000,       3769,  1899.4,   3.6486,  34.9711,2,  34.9717,2,    249.7,2,   249.5,2,   19.76,2,   20.08,2,    0.00,2,    1.36,2,-999.000,9,-999.000,9,-999.000,9,  -999.0,9,  -999.0,9,   -999.0,9,  -999.00,-999.0000,9,  -999.00,-999.000,9,-999.000,9,-999.000,9, -999.00,9,  -999.0,9,  -999.0,-999.000,9,-999.000,-999.000,9, -999.00,9, -999.00,9, 1899.40,-999.0000,9,-999.0000,9,-999.0000,9,-999.0000,9,-999.0000,9,-999.0000,9,   3.4958,     -999.0,9,     -999.0,9,     -999.0,9,     -999.0,9,        128,-999.000,-999.000,-999.000,     -999.0,9, -999.00,9, -999.00,9
33RO200306_02,       A16N,     128,          1,          6,          6,2,20030803,       1225,     2.3333,   -25.0000,       3769,  2198.4,   3.3427,  34.9562,2,  34.9570,2,    250.5,2,   249.7,2,   23.89,2,   20.38,2,    0.00,2,    1.39,2,   0.030,2,   0.023,2,   0.002,2,  2169.0,2,  2318.6,2,   -999.0,9,  -999.00,   7.7199,2,    25.00,-999.000,9,-999.000,9,-999.000,9, -999.00,9,  -999.0,9,  -999.0,-999.000,9,-999.000,-999.000,9, -999.00,9, -999.00,9, 2198.40,-999.0000,9,-999.0000,9,-999.0000,9,-999.0000,9,-999.0000,9,-999.0000,9,   3.1661,     -999.0,9,     -999.0,9,     -999.0,9,     -999.0,9,        128,-999.000,-999.000,-999.000,     -999.0,9, -999.00,9, -999.00,9
33RO200306_02,       A16N,     128,          1,          5,          5,2,20030803,       1225,     2.3333,   -25.0000,       3769,  2499.7,   2.9978,  34.9359,2,  34.9364,2,    248.9,2,   248.8,2,   30.14,2,   21.04,2,    0.00,2,    1.44,2,-999.000,9,-999.000,9,-999.000,9,  -999.0,9,  -999.0,9,   -999.0,9,  -999.00,-999.0000,9,  -999.00,-999.000,9,-999.000,9,-999.000,9, -999.00,9,  -999.0,9,  -999.0,-999.000,9,-999.000,-999.000,9, -999.00,9, -999.00,9, 2499.70,-999.0000,9,-999.0000,9,-999.0000,9,-999.0000,9,-999.0000,9,-999.0000,9,   2.7979,     -999.0,9,     -999.0,9,     -999.0,9,     -999.0,9,        128,-999.000,-999.000,-999.000,     -999.0,9, -999.00,9, -999.00,9
33RO200306_02,       A16N,     128,          1,          4,          4,2,20030803,       1225,     2.3333,   -25.0000,       3769,  2798.2,   2.8062,  34.9240,2,  34.9241,2,    249.6,2,   251.1,2,   33.34,6,   21.17,6,    0.00,6,    1.46,6,-999.000,9,-999.000,9,-999.000,9,  -999.0,9,  -999.0,9,   -999.0,9,  -999.00,-999.0000,9,  -999.00,-999.000,9,-999.000,9,-999.000,9, -999.00,9,  -999.0,9,  -999.0,-999.000,9,-999.000,-999.000,9, -999.00,9, -999.00,9, 2798.20,-999.0000,9,-999.0000,9,-999.0000,9,-999.0000,9,-999.0000,9,-999.0000,9,   2.5804,     -999.0,9,     -999.0,9,     -999.0,9,     -999.0,9,        128,-999.000,-999.000,-999.000,     -999.0,9, -999.00,9, -999.00,9
33RO200306_02,       A16N,     128,          1,          3,          3,2,20030803,       1225,     2.3333,   -25.0000,       3769,  3100.4,   2.6216,  34.9119,2,  34.9117,2,    249.5,2,   249.0,2,   36.86,6,   21.46,6,    0.00,6,    1.48,6,   0.014,2,   0.011,2,   0.000,2,  2183.4,2,  2332.9,2,   -999.0,9,  -999.00,   7.7235,2,    25.00,-999.000,9,-999.000,9,-999.000,9, -999.00,9,  -999.0,9,  -999.0,-999.000,9,-999.000,-999.000,9, -999.00,9, -999.00,9, 3100.40,-999.0000,9,-999.0000,9,-999.0000,9,-999.0000,9,-999.0000,9,-999.0000,9,   2.3688,     -999.0,9,     -999.0,9,     -999.0,9,     -999.0,9,        128,-999.000,-999.000,-999.000,     -999.0,9, -999.00,9, -999.00,9
33RO200306_02,       A16N,     128,          1,          2,          2,2,20030803,       1225,     2.3333,   -25.0000,       3769,  3399.2,   2.5217,  34.9043,2,  34.9050,2,    250.7,2,   252.3,2,   38.75,6,   21.51,6,    0.00,6,    1.50,6,-999.000,9,-999.000,9,-999.000,9,  -999.0,9,  -999.0,9,   -999.0,9,  -999.00,-999.0000,9,  -999.00,-999.000,9,-999.000,9,-999.000,9, -999.00,9,  -999.0,9,  -999.0,-999.000,9,-999.000,-999.000,9, -999.00,9, -999.00,9, 3399.20,-999.0000,9,-999.0000,9,-999.0000,9,-999.0000,9,-999.0000,9,-999.0000,9,   2.2397,     -999.0,9,     -999.0,9,     -999.0,9,     -999.0,9,        128,-999.000,-999.000,-999.000,     -999.0,9, -999.00,9, -999.00,9
33RO200306_02,       A16N,     128,          1,          1,          1,2,20030803,       1225,     2.3333,   -25.0000,       3769,  3802.8,   2.4269,  34.8947,2,  34.8951,2,    250.0,2,   265.7,3,   41.96,6,   21.76,6,    0.00,6,    1.52,6,   0.011,2,   0.011,2,  -0.001,2,  2191.6,6,  2340.6,6,   -999.0,9,  -999.00,   7.7243,6,    25.00,-999.000,9,-999.000,9,-999.000,9, -999.00,9,  -999.0,9,  -999.0,-999.000,9,-999.000,-999.000,9, -999.00,9, -999.00,9, 3802.80,-999.0000,9,-999.0000,9,-999.0000,9,-999.0000,9,-999.0000,9,-999.0000,9,   2.1031,     -999.0,9,     -999.0,9,     -999.0,9,     -999.0,9,        128,-999.000,-999.000,-999.000,     -999.0,9, -999.00,9, -999.00,9