BOTTLE,20230908CCHSIOCBG
EXPOCODE,SECT_ID,STNNBR,CASTNO,SAMPNO,BTLNBR,BTLNBR_FLAG_W,DATE,TIME,LATITUDE,LONGITUDE,DEPTH,CTDPRS,CTDTMP,CTDSAL,CTDSAL_FLAG_W,SALNTY,SALNTY_FLAG_W,CTDOXY,CTDOXY_FLAG_W,OXYGEN,OXYGEN_FLAG_W,SILCAT,SILCAT_FLAG_W,NITRAT,NITRAT_FLAG_W,NITRIT,NITRIT_FLAG_W,PHSPHT,PHSPHT_FLAG_W,CFC-11,CFC-11_FLAG_W,CFC-12,CFC-12_FLAG_W,CFC113,CFC113_FLAG_W,TCARBN,TCARBN_FLAG_W,ALKALI,ALKALI_FLAG_W,FCO2,FCO2_FLAG_W,FCO2TMP,PH_SWS,PH_SWS_FLAG_W,PH_TMP,TRITUM,TRITUM_FLAG_W,HELIUM,HELIUM_FLAG_W,DELHE3,DELHE3_FLAG_W,DELC13,DELC13_FLAG_W,DELC14,DELC14_FLAG_W,C14ERR,NEON,NEON_FLAG_W,NEONER,POC,POC_FLAG_W,DOC,DOC_FLAG_W,TDN,TDN_FLAG_W,CTDRAW,CDOM325,CDOM325_FLAG_W,CDOM340,CDOM340_FLAG_W,CDOM380,CDOM380_FLAG_W,CDOM412,CDOM412_FLAG_W,CDOMSL,CDOMSL_FLAG_W,CDOMSN,CDOMSN_FLAG_W,THETA,PON,PON_FLAG_W,HCFC-22,HCFC-22_FLAG_W,HCFC-142b,HCFC-142b_FLAG_W,HCFC-141b,HCFC-141b_FLAG_W,STNNBR_U,HELIER,DELHER,TRITER,CH3CL,CH3CL_FLAG_W,CH3BR,CH3BR_FLAG_W,CH3I,CH3I_FLAG_W
,,,,,,,,,,,METERS,DBAR,ITS-90,PSS-78,,PSS-78,,UMOL/KG,,UMOL/KG,,UMOL/KG,,UMOL/KG,,UMOL/KG,,UMOL/KG,,PMOL/KG,,PMOL/KG,,PMOL/KG,,UMOL/KG,,UMOL/KG,,UATM,,DEG C,,,DEG C,TU,,NMOL/KG,,PERCNT,,/MILLE,,/MILLE,,/MILLE,NMOL/KG,,NMOL/KG,UG/KG,,UMOL/KG,,UMOL/KG,,DBAR,1/M,,1/M,,1/M,,1/M,,1/NM,,1/NM,,DEG C,UMOL/L,,PMOL/KG,,PMOL/KG,,PMOL/KG,,,NMOL/KG,PERCNT,TU,PMOL/KG,,PMOL/KG,,PMOL/KG,
33RO200306_02,       A16N,     142,          1,         24,         24,2,20030807,       0011,    -2.3327,   -25.0013,       5018,     2.7,  26.2992,  36.0507,2,  36.0542,2,    203.0,2,   205.2,2,    1.66,2,    0.03,2,    0.00,2,    0.15,2,   1.779,3,   1.115,2,   0.147,2,  2041.6,2,  2367.9,2,   -999.0,9,  -999.00,   8.0516,2,    25.00,-999.000,9,-999.000,9,-999.000,9, -999.00,9,  -999.0,9,  -999.0,-999.000,9,-999.000,-999.000,9, -999.00,9, -999.00,9,    2.70,-999.0000,9,-999.0000,9,-999.0000,9,-999.0000,9,-999.0000,9,-999.0000,9,  26.2986,     -999.0,9,     -999.0,9,     -999.0,9,     -999.0,9,        142,-999.000,-999.000,-999.000,     -999.0,9, -999.00,9, -999.00,9
33RO200306_02,       A16N,     142,          1,         23,         23,2,20030807,       0011,    -2.3327,   -25.0013,       5018,    24.2,  25.9829,  36.1258,2,  36.1110,2,    202.2,2,   204.4,2,    1.27,2,    0.10,2,    0.00,2,    0.15,2,-999.000,9,-999.000,9,-999.000,9,  2047.1,2,  2370.0,2,   -999.0,9,  -999.00,   8.0562,2,    25.00,-999.000,9,-999.000,9,-999.000,9, -999.00,9,  -999.0,9,  -999.0,-999.000,9,-999.000,-999.000,9, -999.00,9, -999.00,9,   24.20,-999.0000,9,-999.0000,9,-999.0000,9,-999.0000,9,-999.0000,9,-999.0000,9,  25.9775,     -999.0,9,     -999.0,9,     -999.0,9,     -999.0,9,        142,-999.000,-999.000,-999.000,     -999.0,9, -999.00,9, -999.00,9
33RO200306_02,       A16N,     142,          1,         22,         22,2,20030807,       0011,    -2.3327,   -25.0013,       5018,    74.1,  18.7482,  35.8092,2,  35.8261,2,    134.7,2,   134.7,2,    4.28,2,    9.87,2,    0.50,2,    0.87,2,-999.000,9,-999.000,9,-999.000,9,  2145.2,2,  2352.8,2,   -999.0,9,  -999.00,   7.8442,2,    25.00,-999.000,9,-999.000,9,-999.000,9, -999.00,9,  -999.0,9,  -999.0,-999.000,9,-999.000,-999.000,9, -999.00,9, -999.00,9,   74.10,-999.0000,9,-999.0000,9,-999.0000,9,-999.0000,9,-999.0000,9,-999.0000,9,  18.7351,     -999.0,9,     -999.0,9,     -999.0,9,     -999.0,9,        142,-999.000,-999.000,-999.000,     -999.0,9, -999.00,9, -999.00,9
33RO200306_02,       A16N,     142,          1,         21,         21,2,20030807,       0011,    -2.3327,   -25.0013,       5018,   124.1,  14.7905,  35.5035,2,  35.5032,2,     94.3,2,   101.9,2,    7.30,2,   19.79,2,    0.02,2,    1.35,2,   1.956,3,   1.098,2,   0.027,2,  2183.8,2,  2331.0,2,   -999.0,9,  -999.00,   7.7089,2,    25.00,-999.000,9,-999.000,9,-999.000,9, -999.00,9,  -999.0,9,  -999.0,-999.000,9,-999.000,-999.000,9, -999.00,9, -999.00,9,  124.10,-999.0000,9,-999.0000,9,-999.0000,9,-999.0000,9,-999.0000,9,-999.0000,9,  14.7718,     -999.0,9,     -999.0,9,     -999.0,9,     -999.0,9,        142,-999.000,-999.000,-999.000,     -999.0,9, -999.00,9, -999.00,9
33RO200306_02,       A16N,     142,          1,         20,         20,2,20030807,       0011,    -2.3327,   -25.0013,       5018,   174.5,  13.9739,  35.4005,2,  35.4014,2,     95.9,2,    99.1,2,    8.24,2,   21.46,2,    0.01,2,    1.44,2,-999.000,9,-999.000,9,-999.000,9,  -999.0,9,  -999.0,9,   -999.0,9,  -999.00,-999.0000,9,  -999.00,-999.000,9,-999.000,9,-999.000,9, -999.00,9,  -999.0,9,  -999.0,-999.000,9,-999.000,-999.000,9, -999.00,9, -999.00,9,  174.50,-999.0000,9,-999.0000,9,-999.0000,9,-999.0000,9,-999.0000,9,-999.0000,9,  13.9486,     -999.0,9,     -999.0,9,     -999.0,9,     -999.0,9,        142,-999.000,-999.000,-999.000,     -999.0,9, -999.00,9, -999.00,9
33RO200306_02,       A16N,     142,          1,         19,         19,2,20030807,       0011,    -2.3327,   -25.0013,       5018,   249.6,  12.5658,  35.2169,2,  35.2182,2,    100.8,2,    97.3,2,    9.70,2,   23.79,2,    0.01,2,    1.56,2,   1.636,3,   0.887,2,   0.013,2,  2195.3,2,  2317.4,2,   -999.0,9,  -999.00,   7.6545,2,    25.00,-999.000,9,-999.000,9,-999.000,9, -999.00,9,  -999.0,9,  -999.0,-999.000,9,-999.000,-999.000,9, -999.00,9, -999.00,9,  249.60,-999.0000,9,-999.0000,9,-999.0000,9,-999.0000,9,-999.0000,9,-999.0000,9,  12.5321,     -999.0,9,     -999.0,9,     -999.0,9,     -999.0,9,        142,-999.000,-999.000,-999.000,     -999.0,9, -999.00,9, -999.00,9
33RO200306_02,       A16N,     142,          1,         18,         18,2,20030807,       0011,    -2.3327,   -25.0013,       5018,   349.2,  10.2723,  34.9487,2,  34.9485,2,    100.5,2,    80.7,2,   13.64,2,   30.07,2,    0.01,2,    1.91,2,-999.000,9,-999.000,9,-999.000,9,  -999.0,9,  -999.0,9,   -999.0,9,  -999.00,-999.0000,9,  -999.00,-999.000,9,-999.000,9,-999.000,9, -999.00,9,  -999.0,9,  -999.0,-999.000,9,-999.000,-999.000,9, -999.00,9, -999.00,9,  349.20,-999.0000,9,-999.0000,9,-999.0000,9,-999.0000,9,-999.0000,9,-999.0000,9,  10.2308,     -999.0,9,     -999.0,9,     -999.0,9,     -999.0,9,        142,-999.000,-999.000,-999.000,     -999.0,9, -999.00,9, -999.00,9
33RO200306_02,       A16N,     142,          1,         17,         17,2,20030807,       0011,    -2.3327,   -25.0013,       5018,   449.1,   7.9281,  34.7078,2,  34.7070,2,     80.5,2,    88.6,2,   18.97,2,   34.23,2,    0.00,2,    2.17,2,   0.502,3,   0.270,2,   0.011,2,  2227.0,2,  2298.6,2,   -999.0,9,  -999.00,   7.5081,2,    25.00,-999.000,9,-999.000,9,-999.000,9, -999.00,9,  -999.0,9,  -999.0,-999.000,9,-999.000,-999.000,9, -999.00,9, -999.00,9,  449.10,-999.0000,9,-999.0000,9,-999.0000,9,-999.0000,9,-999.0000,9,-999.0000,9,   7.8823,     -999.0,9,     -999.0,9,     -999.0,9,     -999.0,9,        142,-999.000,-999.000,-999.000,     -999.0,9, -999.00,9, -999.00,9
33RO200306_02,       A16N,     142,          1,         16,         16,9,20030807,       0011,    -2.3327,   -25.0013,       5018,   548.9,   6.0819,  34.5253,2,-999.0000,9,    137.2,2,  -999.0,9, -999.00,9, -999.00,9, -999.00,9, -999.00,9,-999.000,9,-999.000,9,-999.000,9,  -999.0,9,  -999.0,9,   -999.0,9,  -999.00,-999.0000,9,  -999.00,-999.000,9,-999.000,9,-999.000,9, -999.00,9,  -999.0,9,  -999.0,-999.000,9,-999.000,-999.000,9, -999.00,9, -999.00,9,  548.90,-999.0000,9,-999.0000,9,-999.0000,9,-999.0000,9,-999.0000,9,-999.0000,9,   6.0334,     -999.0,9,     -999.0,9,     -999.0,9,     -999.0,9,        142,-999.000,-999.000,-999.000,     -999.0,9, -999.00,9, -999.00,9
33RO200306_02,       A16N,     142,          1,         15,         15,2,20030807,       0011,    -2.3327,   -25.0013,       5018,   648.2,   5.3401,  34.5039,2,  34.5052,2,    145.1,2,   146.6,2,   27.78,2,   33.38,2,    0.00,2,    2.24,2,   0.325,3,   0.164,2,   0.005,2,  2214.6,2,  2301.0,2,   -999.0,9,  -999.00,   7.5551,2,    25.00,-999.000,9,-999.000,9,-999.000,9, -999.00,9,  -999.0,9,  -999.0,-999.000,9,-999.000,-999.000,9, -999.00,9, -999.00,9,  648.20,-999.0000,9,-999.0000,9,-999.0000,9,-999.0000,9,-999.0000,9,-999.0000,9,   5.2861,     -999.0,9,     -999.0,9,     -999.0,9,     -999.0,9,        142,-999.000,-999.000,-999.000,     -999.0,9, -999.00,9, -999.00,9
33RO200306_02,       A16N,     142,          1,         14,         14,2,20030807,       0011,    -2.3327,   -25.0013,       5018,   749.3,   5.0353,  34.4945,2,  34.4972,2,    147.8,2,   153.1,2,   29.39,2,   33.34,2,    0.00,2,    2.24,2,-999.000,9,-999.000,9,-999.000,9,  -999.0,9,  -999.0,9,   -999.0,9,  -999.00,-999.0000,9,  -999.00,-999.000,9,-999.000,9,-999.000,9, -999.00,9,  -999.0,9,  -999.0,-999.000,9,-999.000,-999.000,9, -999.00,9, -999.00,9,  749.30,-999.0000,9,-999.0000,9,-999.0000,9,-999.0000,9,-999.0000,9,-999.0000,9,   4.9740,     -999.0,9,     -999.0,9,     -999.0,9,     -999.0,9,        142,-999.000,-999.000,-999.000,     -999.0,9, -999.00,9, -999.00,9
33RO200306_02,       A16N,     142,          1,         13,         13,2,20030807,       0011,    -2.3327,   -25.0013,       5018,   849.7,   4.5574,  34.4777,2,  34.4796,2,    159.7,2,   161.9,2,   32.24,2,   33.25,2,    0.00,2,    2.26,2,   0.236,3,   0.129,2,   0.005,2,  2216.2,2,  2305.3,2,   -999.0,9,  -999.00,   7.5613,2,    25.00,-999.000,9,-999.000,9,-999.000,9, -999.00,9,  -999.0,9,  -999.0,-999.000,9,-999.000,-999.000,9, -999.00,9, -999.00,9,  849.70,-999.0000,9,-999.0000,9,-999.0000,9,-999.0000,9,-999.0000,9,-999.0000,9,   4.4905,     -999.0,9,     -999.0,9,     -999.0,9,     -999.0,9,        142,-999.000,-999.000,-999.000,     -999.0,9, -999.00,9, -999.00,9
33RO200306_02,       A16N,     142,          1,         12,         12,2,20030807,       0011,    -2.3327,   -25.0013,       5018,   948.3,   4.3953,  34.5432,2,  34.5443,2,    162.5,2,   161.1,2,   33.30,2,   32.75,2,    0.00,2,    2.22,2,-999.000,9,-999.000,9,-999.000,9,  -999.0,9,  -999.0,9,   -999.0,9,  -999.00,-999.0000,9,  -999.00,-999.000,9,-999.000,9,-999.000,9, -999.00,9,  -999.0,9,  -999.0,-999.000,9,-999.000,-999.000,9, -999.00,9, -999.00,9,  948.30,-999.0000,9,-999.0000,9,-999.0000,9,-999.0000,9,-999.0000,9,-999.0000,9,   4.3210,     -999.0,9,     -999.0,9,     -999.0,9,     -999.0,9,        142,-999.000,-999.000,-999.000,     -999.0,9, -999.00,9, -999.00,9
33RO200306_02,       A16N,     142,          1,         11,         11,2,20030807,       0011,    -2.3327,   -25.0013,       5018,  1145.1,   4.3925,  34.7226,2,  34.7257,2,    176.1,2,   171.9,2,   29.71,2,   29.45,2,    0.00,2,    2.02,2,-999.000,9,-999.000,9,-999.000,9,  -999.0,9,  -999.0,9,   -999.0,9,  -999.00,-999.0000,9,  -999.00,-999.000,9,-999.000,9,-999.000,9, -999.00,9,  -999.0,9,  -999.0,-999.000,9,-999.000,-999.000,9, -999.00,9, -999.00,9, 1145.10,-999.0000,9,-999.0000,9,-999.0000,9,-999.0000,9,-999.0000,9,-999.0000,9,   4.3008,     -999.0,9,     -999.0,9,     -999.0,9,     -999.0,9,        142,-999.000,-999.000,-999.000,     -999.0,9, -999.00,9, -999.00,9
33RO200306_02,       A16N,     142,          1,         10,         10,2,20030807,       0011,    -2.3327,   -25.0013,       5018,  1399.9,   4.4199,  34.9574,2,  34.8672,2,    221.0,2,   190.3,3,   23.58,2,   24.76,2,    0.00,2,    1.69,2,-999.000,9,-999.000,9,-999.000,9,  -999.0,9,  -999.0,9,   -999.0,9,  -999.00,-999.0000,9,  -999.00,-999.000,9,-999.000,9,-999.000,9, -999.00,9,  -999.0,9,  -999.0,-999.000,9,-999.000,-999.000,9, -999.00,9, -999.00,9, 1399.90,-999.0000,9,-999.0000,9,-999.0000,9,-999.0000,9,-999.0000,9,-999.0000,9,   4.3043,     -999.0,9,     -999.0,9,     -999.0,9,     -999.0,9,        142,-999.000,-999.000,-999.000,     -999.0,9, -999.00,9, -999.00,9
33RO200306_02,       A16N,     142,          1,          9,          9,9,20030807,       0011,    -2.3327,   -25.0013,       5018,  1644.5,   3.9992,  34.9831,2,-999.0000,9,    244.9,2,  -999.0,9, -999.00,9, -999.00,9, -999.00,9, -999.00,9,-999.000,9,-999.000,9,-999.000,9,  -999.0,9,  -999.0,9,   -999.0,9,  -999.00,-999.0000,9,  -999.00,-999.000,9,-999.000,9,-999.000,9, -999.00,9,  -999.0,9,  -999.0,-999.000,9,-999.000,-999.000,9, -999.00,9, -999.00,9, 1644.50,-999.0000,9,-999.0000,9,-999.0000,9,-999.0000,9,-999.0000,9,-999.0000,9,   3.8657,     -999.0,9,     -999.0,9,     -999.0,9,     -999.0,9,        142,-999.000,-999.000,-999.000,     -999.0,9, -999.00,9, -999.00,9
33RO200306_02,       A16N,     142,          1,          8,          8,2,20030807,       0011,    -2.3327,   -25.0013,       5018,  1648.0,   3.9979,  34.9833,2,  34.9860,2,    245.0,2,   247.5,2,   17.12,2,   18.68,2,    0.00,2,    1.28,2,-999.000,9,-999.000,9,-999.000,9,  -999.0,9,  -999.0,9,   -999.0,9,  -999.00,-999.0000,9,  -999.00,-999.000,9,-999.000,9,-999.000,9, -999.00,9,  -999.0,9,  -999.0,-999.000,9,-999.000,-999.000,9, -999.00,9, -999.00,9, 1648.00,-999.0000,9,-999.0000,9,-999.0000,9,-999.0000,9,-999.0000,9,-999.0000,9,   3.8640,     -999.0,9,     -999.0,9,     -999.0,9,     -999.0,9,        142,-999.000,-999.000,-999.000,     -999.0,9, -999.00,9, -999.00,9
33RO200306_02,       A16N,     142,          1,          7,          7,2,20030807,       0011,    -2.3327,   -25.0013,       5018,  1998.4,   3.4961,  34.9692,2,  34.9728,2,    250.5,2,   254.0,2,   20.51,2,   18.60,2,    0.00,2,    1.28,2,-999.000,9,-999.000,9,-999.000,9,  -999.0,9,  -999.0,9,   -999.0,9,  -999.00,-999.0000,9,  -999.00,-999.000,9,-999.000,9,-999.000,9, -999.00,9,  -999.0,9,  -999.0,-999.000,9,-999.000,-999.000,9, -999.00,9, -999.00,9, 1998.40,-999.0000,9,-999.0000,9,-999.0000,9,-999.0000,9,-999.0000,9,-999.0000,9,   3.3362,     -999.0,9,     -999.0,9,     -999.0,9,     -999.0,9,        142,-999.000,-999.000,-999.000,     -999.0,9, -999.00,9, -999.00,9
33RO200306_02,       A16N,     142,          1,          6,          6,2,20030807,       0011,    -2.3327,   -25.0013,       5018,  2500.4,   3.0281,  34.9371,2,  34.9405,2,    246.4,2,   248.9,2,   30.15,2,   19.94,2,    0.00,2,    1.38,2,-999.000,9,-999.000,9,-999.000,9,  -999.0,9,  -999.0,9,   -999.0,9,  -999.00,-999.0000,9,  -999.00,-999.000,9,-999.000,9,-999.000,9, -999.00,9,  -999.0,9,  -999.0,-999.000,9,-999.000,-999.000,9, -999.00,9, -999.00,9, 2500.40,-999.0000,9,-999.0000,9,-999.0000,9,-999.0000,9,-999.0000,9,-999.0000,9,   2.8276,     -999.0,9,     -999.0,9,     -999.0,9,     -999.0,9,        142,-999.000,-999.000,-999.000,     -999.0,9, -999.00,9, -999.00,9
33RO200306_02,       A16N,     142,          1,          5,          5,9,20030807,       0011,    -2.3327,   -25.0013,       5018,  2998.0,   2.6710,  34.9125,2,-999.0000,9,    244.1,2,  -999.0,9, -999.00,9, -999.00,9, -999.00,9, -999.00,9,-999.000,9,-999.000,9,-999.000,9,  -999.0,9,  -999.0,9,   -999.0,9,  -999.00,-999.0000,9,  -999.00,-999.000,9,-999.000,9,-999.000,9, -999.00,9,  -999.0,9,  -999.0,-999.000,9,-999.000,-999.000,9, -999.00,9, -999.00,9, 2998.00,-999.0000,9,-999.0000,9,-999.0000,9,-999.0000,9,-999.0000,9,-999.0000,9,   2.4277,     -999.0,9,     -999.0,9,     -999.0,9,     -999.0,9,        142,-999.000,-999.000,-999.000,     -999.0,9, -999.00,9, -999.00,9
33RO200306_02,       A16N,     142,          1,          4,          4,2,20030807,       0011,    -2.3327,   -25.0013,       5018,  3500.1,   2.5097,  34.9104,2,  34.9136,2,    253.6,2,   255.2,2,   34.21,6,   19.39,6,    0.00,6,    1.36,6,-999.000,9,-999.000,9,-999.000,9,  -999.0,9,  -999.0,9,   -999.0,9,  -999.00,-999.0000,9,  -999.00,-999.000,9,-999.000,9,-999.000,9, -999.00,9,  -999.0,9,  -999.0,-999.000,9,-999.000,-999.000,9, -999.00,9, -999.00,9, 3500.10,-999.0000,9,-999.0000,9,-999.0000,9,-999.0000,9,-999.0000,9,-999.0000,9,   2.2170,     -999.0,9,     -999.0,9,     -999.0,9,     -999.0,9,        142,-999.000,-999.000,-999.000,     -999.0,9, -999.00,9, -999.00,9
33RO200306_02,       A16N,     142,          1,          3,          3,2,20030807,       0011,    -2.3327,   -25.0013,       5018,  3999.3,   1.9960,  34.8600,2,  34.8632,2,    249.4,2,   252.5,2,   51.93,6,   21.61,6,    0.00,6,    1.52,6,-999.000,9,-999.000,9,-999.000,9,  -999.0,9,  -999.0,9,   -999.0,9,  -999.00,-999.0000,9,  -999.00,-999.000,9,-999.000,9,-999.000,9, -999.00,9,  -999.0,9,  -999.0,-999.000,9,-999.000,-999.000,9, -999.00,9, -999.00,9, 3999.30,-999.0000,9,-999.0000,9,-999.0000,9,-999.0000,9,-999.0000,9,-999.0000,9,   1.6621,     -999.0,9,     -999.0,9,     -999.0,9,     -999.0,9,        142,-999.000,-999.000,-999.000,     -999.0,9, -999.00,9, -999.00,9
33RO200306_02,       A16N,     142,          1,          2,          2,2,20030807,       0011,    -2.3327,   -25.0013,       5018,  4499.6,   0.9944,  34.7458,2,  34.8013,2,    230.2,2,   239.7,3,   78.50,6,   25.59,6,    0.00,6,    1.80,6,-999.000,9,-999.000,9,-999.000,9,  -999.0,9,  -999.0,9,   -999.0,9,  -999.00,-999.0000,9,  -999.00,-999.000,9,-999.000,9,-999.000,9, -999.00,9,  -999.0,9,  -999.0,-999.000,9,-999.000,-999.000,9, -999.00,9, -999.00,9, 4499.60,-999.0000,9,-999.0000,9,-999.0000,9,-999.0000,9,-999.0000,9,-999.0000,9,   0.6348,     -999.0,9,     -999.0,9,     -999.0,9,     -999.0,9,        142,-999.000,-999.000,-999.000,     -999.0,9, -999.00,9, -999.00,9
33RO200306_02,       A16N,     142,          1,          1,          1,2,20030807,       0011,    -2.3327,   -25.0013,       5018,  5097.1,   0.7284,  34.7095,2,  34.7226,2,    228.3,2,   223.3,2,  110.68,6,   30.14,6,    0.00,6,    2.16,6,-999.000,9,-999.000,9,-999.000,9,  -999.0,9,  -999.0,9,   -999.0,9,  -999.00,-999.0000,9,  -999.00,-999.000,9,-999.000,9,-999.000,9, -999.00,9,  -999.0,9,  -999.0,-999.000,9,-999.000,-999.000,9, -999.00,9, -999.00,9, 5097.10,-999.0000,9,-999.0000,9,-999.0000,9,-999.0000,9,-999.0000,9,-999.0000,9,   0.3088,     -999.0,9,     -999.0,9,     -999.0,9,     -999.0,9,        142,-999.000,-999.000,-999.000,     -999.0,9, -999.00,9, -999.00,9