BOTTLE,20230908CCHSIOCBG
EXPOCODE,SECT_ID,STNNBR,CASTNO,SAMPNO,BTLNBR,BTLNBR_FLAG_W,DATE,TIME,LATITUDE,LONGITUDE,DEPTH,CTDPRS,CTDTMP,CTDSAL,CTDSAL_FLAG_W,SALNTY,SALNTY_FLAG_W,CTDOXY,CTDOXY_FLAG_W,OXYGEN,OXYGEN_FLAG_W,SILCAT,SILCAT_FLAG_W,NITRAT,NITRAT_FLAG_W,NITRIT,NITRIT_FLAG_W,PHSPHT,PHSPHT_FLAG_W,CFC-11,CFC-11_FLAG_W,CFC-12,CFC-12_FLAG_W,CFC113,CFC113_FLAG_W,TCARBN,TCARBN_FLAG_W,ALKALI,ALKALI_FLAG_W,FCO2,FCO2_FLAG_W,FCO2TMP,PH_SWS,PH_SWS_FLAG_W,PH_TMP,TRITUM,TRITUM_FLAG_W,HELIUM,HELIUM_FLAG_W,DELHE3,DELHE3_FLAG_W,DELC13,DELC13_FLAG_W,DELC14,DELC14_FLAG_W,C14ERR,NEON,NEON_FLAG_W,NEONER,POC,POC_FLAG_W,DOC,DOC_FLAG_W,TDN,TDN_FLAG_W,CTDRAW,CDOM325,CDOM325_FLAG_W,CDOM340,CDOM340_FLAG_W,CDOM380,CDOM380_FLAG_W,CDOM412,CDOM412_FLAG_W,CDOMSL,CDOMSL_FLAG_W,CDOMSN,CDOMSN_FLAG_W,THETA,PON,PON_FLAG_W,HCFC-22,HCFC-22_FLAG_W,HCFC-142b,HCFC-142b_FLAG_W,HCFC-141b,HCFC-141b_FLAG_W,STNNBR_U,HELIER,DELHER,TRITER,CH3CL,CH3CL_FLAG_W,CH3BR,CH3BR_FLAG_W,CH3I,CH3I_FLAG_W
,,,,,,,,,,,METERS,DBAR,ITS-90,PSS-78,,PSS-78,,UMOL/KG,,UMOL/KG,,UMOL/KG,,UMOL/KG,,UMOL/KG,,UMOL/KG,,PMOL/KG,,PMOL/KG,,PMOL/KG,,UMOL/KG,,UMOL/KG,,UATM,,DEG C,,,DEG C,TU,,NMOL/KG,,PERCNT,,/MILLE,,/MILLE,,/MILLE,NMOL/KG,,NMOL/KG,UG/KG,,UMOL/KG,,UMOL/KG,,DBAR,1/M,,1/M,,1/M,,1/M,,1/NM,,1/NM,,DEG C,UMOL/L,,PMOL/KG,,PMOL/KG,,PMOL/KG,,,NMOL/KG,PERCNT,TU,PMOL/KG,,PMOL/KG,,PMOL/KG,
33RO200306_02,       A16N,     104,          2,         35,         35,2,20030727,       0041,    13.9995,   -28.9983,       5446,     3.3,  27.3073,  36.5081,2,  36.5128,2,    200.0,2,   201.7,2,    0.64,2,    0.02,2,    0.00,2,    0.04,2,   1.730,2,   1.111,2,   0.159,2,  2040.4,3,  2386.6,6,    280.9,2,    20.00,   8.0986,6,    25.00,   0.713,2,-999.000,9,-999.000,9, -999.00,9,  -999.0,9,  -999.0,-999.000,9,-999.000,-999.000,9,   76.02,2,    7.12,2,    3.30,-999.0000,9,-999.0000,9,-999.0000,9,-999.0000,9,-999.0000,9,-999.0000,9,  27.3065,     -999.0,9,       3.35,2,       0.16,2,       0.28,2,        104,-999.000,-999.000,   0.010,     178.83,2,    1.68,2,     0.0,2
33RO200306_02,       A16N,     104,          2,         33,         33,2,20030727,       0041,    13.9995,   -28.9983,       5446,    14.3,  26.9908,  36.5124,2,  36.5209,2,    199.5,2,   201.9,2,    0.64,2,    0.02,2,    0.00,2,    0.04,2,   1.728,2,   1.110,2,   0.149,2,  2041.4,3,  2389.0,2,    282.7,2,    20.00,   8.0989,2,    25.00,   0.606,2,-999.000,9,-999.000,9, -999.00,9,  -999.0,9,  -999.0,-999.000,9,-999.000,-999.000,9,   75.53,2,    7.28,2,   14.30,-999.0000,9,-999.0000,9,-999.0000,9,-999.0000,9,-999.0000,9,-999.0000,9,  26.9875,     -999.0,9,       3.46,2,       0.18,2,       0.43,2,        104,-999.000,-999.000,   0.020,     190.97,2,    1.96,2,     0.1,2
33RO200306_02,       A16N,     104,          2,         32,         32,2,20030727,       0041,    13.9995,   -28.9983,       5446,    44.0,  23.7290,  36.4544,2,  36.4773,2,    216.8,2,   216.8,2,    0.82,2,    0.05,2,    0.00,2,    0.07,2,-999.000,9,-999.000,9,-999.000,9,  2068.4,2,  2385.1,2,    323.4,2,    20.00,   8.0750,3,    25.00,-999.000,9,-999.000,9,-999.000,9, -999.00,9,  -999.0,9,  -999.0,-999.000,9,-999.000,-999.000,9, -999.00,9, -999.00,9,   44.00,-999.0000,9,-999.0000,9,-999.0000,9,-999.0000,9,-999.0000,9,-999.0000,9,  23.7198,     -999.0,9,     -999.0,9,     -999.0,9,     -999.0,9,        104,-999.000,-999.000,-999.000,     -999.0,9, -999.00,9, -999.00,9
33RO200306_02,       A16N,     104,          2,         31,         31,2,20030727,       0041,    13.9995,   -28.9983,       5446,    64.4,  21.3652,  36.5369,2,  36.5299,2,    197.6,2,   195.5,2,    1.41,2,    0.39,2,    0.02,2,    0.17,2,   2.054,2,   1.279,2,   0.142,2,  2112.6,3,  2389.1,2,    390.0,2,    20.00,   7.9858,2,    25.00,-999.000,9,-999.000,9,-999.000,9, -999.00,9,  -999.0,9,  -999.0,-999.000,9,-999.000,-999.000,9,   66.18,2,    7.40,2,   64.40,-999.0000,9,-999.0000,9,-999.0000,9,-999.0000,9,-999.0000,9,-999.0000,9,  21.3526,     -999.0,9,       2.47,2,       0.10,2,       0.13,2,        104,-999.000,-999.000,-999.000,      39.49,2,     0.1,2,    1.66,2
33RO200306_02,       A16N,     104,          2,         30,         30,2,20030727,       0041,    13.9995,   -28.9983,       5446,    94.3,  17.5395,  36.2484,2,  36.2414,2,    103.6,2,   104.5,2,    4.06,2,   16.16,2,    0.10,2,    0.99,2,   2.038,2,   1.216,2,   0.065,2,  2194.3,2,  2364.7,2,    672.3,2,    20.00,-999.0000,9,  -999.00,-999.000,9,-999.000,9,-999.000,9, -999.00,9,  -999.0,9,  -999.0,-999.000,9,-999.000,-999.000,9,   53.98,2,   19.51,2,   94.30,-999.0000,9,-999.0000,9,-999.0000,9,-999.0000,9,-999.0000,9,-999.0000,9,  17.5235,     -999.0,9,     -999.0,9,     -999.0,9,     -999.0,9,        104,-999.000,-999.000,-999.000,     -999.0,9, -999.00,9, -999.00,9
33RO200306_02,       A16N,     104,          2,         29,         29,2,20030727,       0041,    13.9995,   -28.9983,       5446,   113.6,  16.0885,  36.0577,2,  36.0491,2,     93.3,2,    91.9,2,    5.46,2,   19.44,2,    0.04,2,    1.17,2,   1.929,6,   1.122,6,   0.035,6,  2204.3,2,  2353.7,2,    756.2,2,    20.00,   7.7386,2,    25.00,   0.788,2,-999.000,9,-999.000,9, -999.00,9,  -999.0,9,  -999.0,-999.000,9,-999.000,-999.000,9, -999.00,9, -999.00,9,  113.60,-999.0000,9,-999.0000,9,-999.0000,9,-999.0000,9,-999.0000,9,-999.0000,9,  16.0703,     -999.0,9,       1.60,2,       0.05,2,       0.07,2,        104,-999.000,-999.000,   0.020,        0.0,2,     0.0,2,     0.0,2
33RO200306_02,       A16N,     104,          2,         28,         28,2,20030727,       0041,    13.9995,   -28.9983,       5446,   139.2,  14.6497,  35.8279,2,  35.8242,2,     81.5,2,    82.3,2,    7.04,2,   22.33,2,    0.02,2,    1.35,2,   1.755,2,   1.006,2,   0.021,2,  2213.3,2,  2343.1,2,    839.3,2,    20.00,   7.7252,2,    25.00,-999.000,9,-999.000,9,-999.000,9, -999.00,9,  -999.0,9,  -999.0,-999.000,9,-999.000,-999.000,9,   49.35,2,   27.72,2,  139.20,-999.0000,9,-999.0000,9,-999.0000,9,-999.0000,9,-999.0000,9,-999.0000,9,  14.6288,     -999.0,9,     -999.0,9,     -999.0,9,     -999.0,9,        104,-999.000,-999.000,-999.000,     -999.0,9, -999.00,9, -999.00,9
33RO200306_02,       A16N,     104,          2,         27,         27,2,20030727,       0041,    13.9995,   -28.9983,       5446,   164.2,  14.1490,  35.7713,2,  35.7709,2,     90.6,2,    88.1,2,    7.38,2,   22.37,2,    0.01,2,    1.34,2,   1.679,2,   0.941,2,   0.014,2,  2208.6,2,  2341.2,2,    833.7,2,    20.00,   7.6615,2,    25.00,   0.434,2,   1.831,3,   1.367,2, -999.00,9,  -999.0,9,  -999.0,   7.441,2,   0.062,-999.000,9, -999.00,9, -999.00,9,  164.20,-999.0000,9,-999.0000,9,-999.0000,9,-999.0000,9,-999.0000,9,-999.0000,9,  14.1250,     -999.0,9,       1.40,2,       0.03,2,       0.35,2,        104,   0.004,   0.219,   0.120,        0.0,2,     0.0,2,     0.0,2
33RO200306_02,       A16N,     104,          2,         26,         26,2,20030727,       0041,    13.9995,   -28.9983,       5446,   189.6,  13.3442,  35.6376,2,  35.6249,2,     86.8,2,    87.2,2,    8.48,2,   23.86,2,    0.01,2,    1.45,2,   1.499,2,   0.820,2,   0.013,2,  2211.4,2,  2333.8,2,    880.9,2,    20.00,   7.6403,2,    25.00,   0.624,2,-999.000,9,-999.000,9, -999.00,9,  -999.0,9,  -999.0,-999.000,9,-999.000,-999.000,9,   46.75,2,   28.65,2,  189.60,-999.0000,9,-999.0000,9,-999.0000,9,-999.0000,9,-999.0000,9,-999.0000,9,  13.3175,     -999.0,9,     -999.0,9,     -999.0,9,     -999.0,9,        104,-999.000,-999.000,   0.020,     -999.0,9, -999.00,9, -999.00,9
33RO200306_02,       A16N,     104,          2,         25,         25,2,20030727,       0041,    13.9995,   -28.9983,       5446,   224.4,  12.4610,  35.4992,2,  35.4999,2,     80.9,2,    81.2,2,    9.71,2,   25.81,2,    0.01,2,    1.57,2,   1.285,2,   0.708,2,   0.009,2,  2216.7,2,  2328.3,2,    952.9,2,    20.00,   7.6281,2,    25.00,-999.000,9,-999.000,9,-999.000,9, -999.00,9,  -999.0,9,  -999.0,-999.000,9,-999.000,-999.000,9,   47.00,2,   29.09,2,  224.40,-999.0000,9,-999.0000,9,-999.0000,9,-999.0000,9,-999.0000,9,-999.0000,9,  12.4308,     -999.0,9,       0.93,2,       0.00,2,       0.05,2,        104,-999.000,-999.000,-999.000,      30.42,2,    0.17,2,     0.0,2
33RO200306_02,       A16N,     104,          2,         24,         24,2,20030727,       0041,    13.9995,   -28.9983,       5446,   273.8,  11.2607,  35.2855,2,  35.2811,2,     74.7,2,    77.1,2,   11.77,2,   28.60,2,    0.01,2,    1.75,2,   0.967,2,   0.525,2,   0.008,2,  2223.8,2,  2318.6,2,   1062.2,2,    20.00,   7.6302,2,    25.00,   0.481,2,-999.000,9,-999.000,9, -999.00,9,  -999.0,9,  -999.0,-999.000,9,-999.000,-999.000,9,   46.75,2,   32.39,2,  273.80,-999.0000,9,-999.0000,9,-999.0000,9,-999.0000,9,-999.0000,9,-999.0000,9,  11.2262,     -999.0,9,     -999.0,9,     -999.0,9,     -999.0,9,        104,-999.000,-999.000,   0.010,     -999.0,9, -999.00,9, -999.00,9
33RO200306_02,       A16N,     104,          2,         23,         23,2,20030727,       0041,    13.9995,   -28.9983,       5446,   324.3,  10.8212,  35.2335,2,  35.2321,2,     69.9,2,    71.0,2,   12.71,2,   29.88,2,    0.01,2,    1.82,2,   0.795,2,   0.429,2,   0.004,2,  2228.0,2,  2316.7,2,   1119.9,2,    20.00,   7.5980,2,    25.00,-999.000,9,-999.000,9,-999.000,9, -999.00,9,  -999.0,9,  -999.0,-999.000,9,-999.000,-999.000,9,   46.51,2,   34.70,2,  324.30,-999.0000,9,-999.0000,9,-999.0000,9,-999.0000,9,-999.0000,9,-999.0000,9,  10.7813,     -999.0,9,       0.53,2,       0.00,2,       0.10,2,        104,-999.000,-999.000,-999.000,        0.0,2,     0.0,2,    0.18,2
33RO200306_02,       A16N,     104,          2,         22,         22,2,20030727,       0041,    13.9995,   -28.9983,       5446,   374.6,  10.3405,  35.1775,2,  35.1730,2,     69.3,2,    70.7,2,   13.79,2,   31.09,2,    0.01,2,    1.90,2,   0.620,2,   0.345,2,   0.005,2,  2230.8,2,  2314.8,2,   1162.7,2,    20.00,   7.5512,2,    25.00,-999.000,9,   1.848,3,   2.684,2, -999.00,9,  -999.0,9,  -999.0,   7.688,2,   0.064,-999.000,9,   45.12,2,   35.75,2,  374.60,-999.0000,9,-999.0000,9,-999.0000,9,-999.0000,9,-999.0000,9,-999.0000,9,  10.2956,     -999.0,9,     -999.0,9,     -999.0,9,     -999.0,9,        104,   0.004,   0.218,-999.000,     -999.0,9, -999.00,9, -999.00,9
33RO200306_02,       A16N,     104,          2,         21,         21,2,20030727,       0041,    13.9995,   -28.9983,       5446,   449.6,   9.4824,  35.0761,2,  35.0745,2,     64.4,2,    62.8,2,   16.05,2,   33.48,2,    0.01,2,    2.05,2,   0.355,2,   0.198,2,   0.003,2,  2240.1,2,  2320.8,2,   1277.9,2,    20.00,   7.5310,2,    25.00,-999.000,9,-999.000,9,-999.000,9, -999.00,9,  -999.0,9,  -999.0,-999.000,9,-999.000,-999.000,9,   46.26,2,   36.80,2,  449.60,-999.0000,9,-999.0000,9,-999.0000,9,-999.0000,9,-999.0000,9,-999.0000,9,   9.4312,     -999.0,9,       0.27,2,       0.00,2,       0.11,2,        104,-999.000,-999.000,-999.000,       4.26,2,     0.0,2,    0.46,2
33RO200306_02,       A16N,     104,          2,         20,         20,2,20030727,       0041,    13.9995,   -28.9983,       5446,   547.6,   8.6126,  34.9928,2,  34.9932,2,     76.3,2,    76.4,2,   18.09,2,   33.71,2,    0.01,2,    2.11,2,   0.223,2,   0.124,2,   0.002,2,  2240.9,6,  2311.6,2,   1255.2,2,    20.00,   7.5241,2,    25.00,   0.264,2,   1.817,2,   2.964,2, -999.00,9,  -999.0,9,  -999.0,   7.569,2,   0.063,-999.000,9,   44.15,2,   38.96,2,  547.60,-999.0000,9,-999.0000,9,-999.0000,9,-999.0000,9,-999.0000,9,-999.0000,9,   8.5535,     -999.0,9,     -999.0,9,     -999.0,9,     -999.0,9,        104,   0.004,   0.219,   0.010,     -999.0,9, -999.00,9, -999.00,9
33RO200306_02,       A16N,     104,          2,         19,         19,2,20030727,       0041,    13.9995,   -28.9983,       5446,   649.9,   7.7971,  34.9223,2,  34.9221,2,     81.1,2,    81.0,2,   20.45,2,   34.73,2,    0.01,2,    2.20,2,   0.110,2,   0.061,2,   0.002,2,  2249.8,3,  2310.6,2,   1288.1,2,    20.00,   7.4921,2,    25.00,   0.137,2,   1.852,2,   1.573,2, -999.00,9,  -999.0,9,  -999.0,   7.796,2,   0.065,-999.000,9,   42.20,2,   39.69,2,  649.90,-999.0000,9,-999.0000,9,-999.0000,9,-999.0000,9,-999.0000,9,-999.0000,9,   7.7305,     -999.0,9,       0.00,2,       0.00,2,       0.05,2,        104,   0.004,   0.219,   0.010,      10.15,2,     0.0,2,    0.16,2
33RO200306_02,       A16N,     104,          2,         18,         18,2,20030727,       0041,    13.9995,   -28.9983,       5446,   799.4,   6.8305,  34.8605,2,  34.8597,2,     95.9,2,    95.0,2,   23.24,2,   34.71,2,    0.00,2,    2.23,2,   0.035,2,   0.025,2,   0.000,2,  2245.0,2,  2318.6,2,   1268.0,2,    20.00,   7.5288,2,    25.00,   0.095,2,   1.855,3,   0.991,2, -999.00,9,  -999.0,9,  -999.0,   7.816,2,   0.045,-999.000,9,   42.03,2,   38.01,2,  799.40,-999.0000,9,-999.0000,9,-999.0000,9,-999.0000,9,-999.0000,9,-999.0000,9,   6.7536,     -999.0,9,     -999.0,9,     -999.0,9,     -999.0,9,        104,   0.004,   0.138,   0.010,     -999.0,9, -999.00,9, -999.00,9
33RO200306_02,       A16N,     104,          2,         17,         17,2,20030727,       0041,    13.9995,   -28.9983,       5446,   949.9,   6.0861,  34.8640,2,  34.8633,2,    116.7,2,   115.4,2,   24.71,2,   33.07,2,    0.00,2,    2.18,2,   0.013,2,   0.011,2,   0.000,2,  2236.1,3,  2320.1,6,   1189.3,2,    20.00,   7.5538,6,    25.00,-999.000,9,   1.825,2,   0.456,2, -999.00,9,  -999.0,9,  -999.0,   7.621,2,   0.043,-999.000,9,   43.00,2,   37.40,2,  949.90,-999.0000,9,-999.0000,9,-999.0000,9,-999.0000,9,-999.0000,9,-999.0000,9,   5.9990,     -999.0,9,       0.00,2,       0.00,2,       0.06,2,        104,   0.003,   0.139,-999.000,      32.23,2,     0.2,2,    0.13,2
33RO200306_02,       A16N,     104,          2,         16,         16,2,20030727,       0041,    13.9995,   -28.9983,       5446,  1100.0,   5.5517,  34.9153,2,  34.9158,2,    140.1,2,   141.3,2,   24.35,2,   30.24,2,    0.00,2,    2.01,2,   0.006,2,   0.006,2,   0.002,2,  2223.5,2,  2319.1,2,   1073.1,2,    20.00,   7.5708,2,    25.00,-999.000,9,-999.000,9,-999.000,9, -999.00,9,  -999.0,9,  -999.0,-999.000,9,-999.000,-999.000,9,   42.03,2,   34.91,2, 1100.00,-999.0000,9,-999.0000,9,-999.0000,9,-999.0000,9,-999.0000,9,-999.0000,9,   5.4540,     -999.0,9,     -999.0,9,     -999.0,9,     -999.0,9,        104,-999.000,-999.000,-999.000,     -999.0,9, -999.00,9, -999.00,9
33RO200306_02,       A16N,     104,          2,         15,         15,2,20030727,       0041,    13.9995,   -28.9983,       5446,  1249.0,   5.1318,  34.9629,2,  34.9633,2,    168.4,2,   167.4,2,   23.18,2,   27.33,2,    0.00,2,    1.83,2,   0.016,2,   0.004,2,   0.000,2,  2211.2,2,  2333.2,3,    963.1,2,    20.00,   7.6298,2,    25.00,-999.000,9,-999.000,9,-999.000,9, -999.00,9,  -999.0,9,  -999.0,-999.000,9,-999.000,-999.000,9,   42.12,2,   30.93,2, 1249.00,-999.0000,9,-999.0000,9,-999.0000,9,-999.0000,9,-999.0000,9,-999.0000,9,   5.0234,     -999.0,9,       0.00,2,       0.00,2,       0.12,2,        104,-999.000,-999.000,-999.000,        0.0,2,     0.0,2,    0.25,2
33RO200306_02,       A16N,     104,          2,         14,         14,2,20030727,       0041,    13.9995,   -28.9983,       5446,  1447.1,   4.5959,  34.9870,2,  34.9888,2,    201.6,2,   201.2,2,   21.34,2,   24.07,2,    0.00,2,    1.63,2,   0.020,2,   0.012,2,   0.001,2,  2196.0,2,  2321.6,2,    862.5,2,    20.00,   7.6780,2,    25.00,   0.098,2,-999.000,9,-999.000,9, -999.00,9,  -999.0,9,  -999.0,-999.000,9,-999.000,-999.000,9,   41.95,2,   28.09,2, 1447.10,-999.0000,9,-999.0000,9,-999.0000,9,-999.0000,9,-999.0000,9,-999.0000,9,   4.4740,     -999.0,9,     -999.0,9,     -999.0,9,     -999.0,9,        104,-999.000,-999.000,   0.010,     -999.0,9, -999.00,9, -999.00,9
33RO200306_02,       A16N,     104,          2,         13,         13,2,20030727,       0041,    13.9995,   -28.9983,       5446,  1748.6,   3.9364,  34.9858,2,  34.9860,2,    227.1,2,   226.8,2,   21.45,2,   21.71,2,    0.00,2,    1.47,2,   0.005,2,   0.006,2,   0.000,2,  2181.9,2,  2322.9,2,    791.7,6,    20.00,   7.7248,2,    25.00,-999.000,9,   1.890,3,   0.119,2, -999.00,9,  -999.0,9,  -999.0,   7.977,2,   0.045,-999.000,9,   42.76,2,   25.97,2, 1748.60,-999.0000,9,-999.0000,9,-999.0000,9,-999.0000,9,-999.0000,9,-999.0000,9,   3.7939,     -999.0,9,       0.00,2,       0.00,2,       0.07,2,        104,   0.004,   0.138,-999.000,       2.96,2,     0.0,2,    0.21,2
33RO200306_02,       A16N,     104,          2,         12,         12,2,20030727,       0041,    13.9995,   -28.9983,       5446,  2048.3,   3.5273,  34.9733,2,  34.9730,2,    233.0,2,   235.3,2,   25.10,2,   21.51,2,    0.00,2,    1.46,2,  -0.001,2,   0.003,2,   0.002,2,  2185.2,2,  2327.1,2,    781.0,2,    20.00,-999.0000,9,  -999.00,   0.099,2,   1.869,3,   0.420,2, -999.00,9,  -999.0,9,  -999.0,   7.983,2,   0.045,-999.000,9,   42.03,2,   26.07,2, 2048.30,-999.0000,9,-999.0000,9,-999.0000,9,-999.0000,9,-999.0000,9,-999.0000,9,   3.3622,     -999.0,9,     -999.0,9,     -999.0,9,     -999.0,9,        104,   0.004,   0.138,   0.030,     -999.0,9, -999.00,9, -999.00,9
33RO200306_02,       A16N,     104,          2,         11,         11,2,20030727,       0041,    13.9995,   -28.9983,       5446,  2347.5,   3.1926,  34.9588,2,  34.9582,2,    238.2,2,   239.3,2,   28.41,2,   21.19,2,    0.00,2,    1.45,2,   0.004,2,   0.001,2,  -0.001,2,  2186.0,2,  2332.1,2,   -999.0,9,  -999.00,   7.7309,2,    25.00,-999.000,9,-999.000,9,-999.000,9, -999.00,9,  -999.0,9,  -999.0,-999.000,9,-999.000,-999.000,9,   42.20,2,   24.65,2, 2347.50,-999.0000,9,-999.0000,9,-999.0000,9,-999.0000,9,-999.0000,9,-999.0000,9,   3.0041,     -999.0,9,       0.00,2,       0.00,2,       0.07,2,        104,-999.000,-999.000,-999.000,      19.93,2,    0.25,2,    0.24,2
33RO200306_02,       A16N,     104,          2,         10,         10,2,20030727,       0041,    13.9995,   -28.9983,       5446,  2650.0,   2.9666,  34.9465,2,  34.9470,2,    239.1,2,   239.7,2,   31.97,2,   21.31,2,    0.00,2,    1.46,2,   0.003,2,   0.003,2,   0.001,2,  2190.2,2,  2335.6,2,    769.1,2,    20.00,   7.7282,2,    25.00,-999.000,9,-999.000,9,-999.000,9, -999.00,9,  -999.0,9,  -999.0,-999.000,9,-999.000,-999.000,9,   42.36,2,   25.92,2, 2650.00,-999.0000,9,-999.0000,9,-999.0000,9,-999.0000,9,-999.0000,9,-999.0000,9,   2.7524,     -999.0,9,     -999.0,9,     -999.0,9,     -999.0,9,        104,-999.000,-999.000,-999.000,     -999.0,9, -999.00,9, -999.00,9
33RO200306_02,       A16N,     104,          2,          9,          9,2,20030727,       0041,    13.9995,   -28.9983,       5446,  2949.1,   2.7722,  34.9340,2,  34.9335,2,    243.9,2,   243.7,2,   34.33,2,   21.14,2,    0.00,2,    1.46,2,   0.004,2,  -0.001,2,   0.000,2,  2190.2,2,  2339.0,2,    760.6,2,    20.00,   7.7307,2,    25.00,   0.197,2,-999.000,9,-999.000,9, -999.00,9,  -999.0,9,  -999.0,-999.000,9,-999.000,-999.000,9,   42.44,2,   24.92,2, 2949.10,-999.0000,9,-999.0000,9,-999.0000,9,-999.0000,9,-999.0000,9,-999.0000,9,   2.5316,     -999.0,9,     -999.0,9,     -999.0,9,     -999.0,9,        104,-999.000,-999.000,   0.010,     -999.0,9, -999.00,9, -999.00,9
33RO200306_02,       A16N,     104,          2,          8,          8,2,20030727,       0041,    13.9995,   -28.9983,       5446,  3249.2,   2.6219,  34.9226,2,  34.9223,2,    245.7,2,   245.7,2,   37.12,2,   21.21,2,    0.00,2,    1.46,2,   0.005,2,   0.000,2,   0.001,2,  2191.3,2,  2340.6,2,   -999.0,9,  -999.00,   7.7175,2,    25.00,-999.000,9,-999.000,9,-999.000,9, -999.00,9,  -999.0,9,  -999.0,-999.000,9,-999.000,-999.000,9,   40.81,2,   24.92,2, 3249.20,-999.0000,9,-999.0000,9,-999.0000,9,-999.0000,9,-999.0000,9,-999.0000,9,   2.3534,     -999.0,9,       0.00,2,       0.00,2,       0.08,2,        104,-999.000,-999.000,-999.000,      37.11,2,    0.36,2,    0.22,2