BOTTLE,20230908CCHSIOCBG
EXPOCODE,SECT_ID,STNNBR,CASTNO,SAMPNO,BTLNBR,BTLNBR_FLAG_W,DATE,TIME,LATITUDE,LONGITUDE,DEPTH,CTDPRS,CTDTMP,CTDSAL,CTDSAL_FLAG_W,SALNTY,SALNTY_FLAG_W,CTDOXY,CTDOXY_FLAG_W,OXYGEN,OXYGEN_FLAG_W,SILCAT,SILCAT_FLAG_W,NITRAT,NITRAT_FLAG_W,NITRIT,NITRIT_FLAG_W,PHSPHT,PHSPHT_FLAG_W,CFC-11,CFC-11_FLAG_W,CFC-12,CFC-12_FLAG_W,CFC113,CFC113_FLAG_W,TCARBN,TCARBN_FLAG_W,ALKALI,ALKALI_FLAG_W,FCO2,FCO2_FLAG_W,FCO2TMP,PH_SWS,PH_SWS_FLAG_W,PH_TMP,TRITUM,TRITUM_FLAG_W,HELIUM,HELIUM_FLAG_W,DELHE3,DELHE3_FLAG_W,DELC13,DELC13_FLAG_W,DELC14,DELC14_FLAG_W,C14ERR,NEON,NEON_FLAG_W,NEONER,POC,POC_FLAG_W,DOC,DOC_FLAG_W,TDN,TDN_FLAG_W,CTDRAW,CDOM325,CDOM325_FLAG_W,CDOM340,CDOM340_FLAG_W,CDOM380,CDOM380_FLAG_W,CDOM412,CDOM412_FLAG_W,CDOMSL,CDOMSL_FLAG_W,CDOMSN,CDOMSN_FLAG_W,THETA,PON,PON_FLAG_W,HCFC-22,HCFC-22_FLAG_W,HCFC-142b,HCFC-142b_FLAG_W,HCFC-141b,HCFC-141b_FLAG_W,STNNBR_U,HELIER,DELHER,TRITER,CH3CL,CH3CL_FLAG_W,CH3BR,CH3BR_FLAG_W,CH3I,CH3I_FLAG_W
,,,,,,,,,,,METERS,DBAR,ITS-90,PSS-78,,PSS-78,,UMOL/KG,,UMOL/KG,,UMOL/KG,,UMOL/KG,,UMOL/KG,,UMOL/KG,,PMOL/KG,,PMOL/KG,,PMOL/KG,,UMOL/KG,,UMOL/KG,,UATM,,DEG C,,,DEG C,TU,,NMOL/KG,,PERCNT,,/MILLE,,/MILLE,,/MILLE,NMOL/KG,,NMOL/KG,UG/KG,,UMOL/KG,,UMOL/KG,,DBAR,1/M,,1/M,,1/M,,1/M,,1/NM,,1/NM,,DEG C,UMOL/L,,PMOL/KG,,PMOL/KG,,PMOL/KG,,,NMOL/KG,PERCNT,TU,PMOL/KG,,PMOL/KG,,PMOL/KG,
33RO200306_01,       A16N,     042,          1,         24,         24,2,20030630,       0713,    44.5000,   -20.0000,       4242,     3.0,  16.2836,  35.7651,2,  35.7651,2,    244.4,2,   248.2,2, -999.00,1, -999.00,1, -999.00,1, -999.00,1,-999.000,9,-999.000,9,-999.000,9,  -999.0,9,  -999.0,9,   -999.0,9,  -999.00,-999.0000,9,  -999.00,-999.000,9,-999.000,9,-999.000,9,    1.46,2,    78.5,2,     3.5,-999.000,9,-999.000,-999.000,9, -999.00,9, -999.00,9,    3.00,-999.0000,9,-999.0000,9,-999.0000,9,-999.0000,9,-999.0000,9,-999.0000,9,  16.2831,     -999.0,9,     -999.0,9,     -999.0,9,     -999.0,9,         42,-999.000,-999.000,-999.000,     -999.0,9, -999.00,9, -999.00,9
33RO200306_01,       A16N,     042,          1,         23,         23,2,20030630,       0713,    44.5000,   -20.0000,       4242,    25.4,  16.2814,  35.7649,2,-999.0000,9,    244.8,2,   249.0,2,    0.30,2,    0.11,2,    0.02,2,    0.10,2,-999.000,9,-999.000,9,-999.000,9,  2070.1,6,  -999.0,9,   -999.0,9,  -999.00,-999.0000,9,  -999.00,-999.000,9,-999.000,9,-999.000,9, -999.00,9,  -999.0,9,  -999.0,-999.000,9,-999.000,-999.000,9, -999.00,9, -999.00,9,   25.40,-999.0000,9,-999.0000,9,-999.0000,9,-999.0000,9,-999.0000,9,-999.0000,9,  16.2773,     -999.0,9,     -999.0,9,     -999.0,9,     -999.0,9,         42,-999.000,-999.000,-999.000,     -999.0,9, -999.00,9, -999.00,9
33RO200306_01,       A16N,     042,          1,         22,         22,2,20030630,       0713,    44.5000,   -20.0000,       4242,    48.7,  14.7074,  35.7764,2,  35.7741,2,    253.8,2,   253.2,2,    0.67,2,    1.33,2,    0.18,2,    0.19,2,-999.000,9,-999.000,9,-999.000,9,  -999.0,9,  -999.0,9,   -999.0,9,  -999.00,-999.0000,9,  -999.00,-999.000,9,-999.000,9,-999.000,9, -999.00,9,  -999.0,9,  -999.0,-999.000,9,-999.000,-999.000,9, -999.00,9, -999.00,9,   48.70,-999.0000,9,-999.0000,9,-999.0000,9,-999.0000,9,-999.0000,9,-999.0000,9,  14.7001,     -999.0,9,     -999.0,9,     -999.0,9,     -999.0,9,         42,-999.000,-999.000,-999.000,     -999.0,9, -999.00,9, -999.00,9
33RO200306_01,       A16N,     042,          1,         21,         21,2,20030630,       0713,    44.5000,   -20.0000,       4242,    74.5,  13.1858,  35.7742,2,  35.7723,2,    248.7,2,   263.6,2,    2.10,2,    5.76,2,    0.83,2,    0.44,2,-999.000,9,-999.000,9,-999.000,9,  -999.0,9,  -999.0,9,   -999.0,9,  -999.00,-999.0000,9,  -999.00,-999.000,9,-999.000,9,-999.000,9, -999.00,9,  -999.0,9,  -999.0,-999.000,9,-999.000,-999.000,9, -999.00,9, -999.00,9,   74.50,-999.0000,9,-999.0000,9,-999.0000,9,-999.0000,9,-999.0000,9,-999.0000,9,  13.1754,     -999.0,9,     -999.0,9,     -999.0,9,     -999.0,9,         42,-999.000,-999.000,-999.000,     -999.0,9, -999.00,9, -999.00,9
33RO200306_01,       A16N,     042,          1,         20,         20,2,20030630,       0713,    44.5000,   -20.0000,       4242,   125.4,  12.9303,  35.7777,2,  35.7739,2,    247.6,2,   243.8,2,    2.69,2,    7.56,2,    0.02,2,    0.47,2,-999.000,9,-999.000,9,-999.000,9,  -999.0,9,  -999.0,9,   -999.0,9,  -999.00,-999.0000,9,  -999.00,-999.000,9,-999.000,9,-999.000,9, -999.00,9,  -999.0,9,  -999.0,-999.000,9,-999.000,-999.000,9, -999.00,9, -999.00,9,  125.40,-999.0000,9,-999.0000,9,-999.0000,9,-999.0000,9,-999.0000,9,-999.0000,9,  12.9130,     -999.0,9,     -999.0,9,     -999.0,9,     -999.0,9,         42,-999.000,-999.000,-999.000,     -999.0,9, -999.00,9, -999.00,9
33RO200306_01,       A16N,     042,          1,         19,         19,2,20030630,       0713,    44.5000,   -20.0000,       4242,   175.3,  12.8726,  35.7849,2,  35.7814,2,    247.8,2,   245.6,2,    2.83,2,    7.88,2,    0.02,2,    0.49,2,-999.000,9,-999.000,9,-999.000,9,  -999.0,9,  -999.0,9,   -999.0,9,  -999.00,-999.0000,9,  -999.00,-999.000,9,-999.000,9,-999.000,9, -999.00,9,  -999.0,9,  -999.0,-999.000,9,-999.000,-999.000,9, -999.00,9, -999.00,9,  175.30,-999.0000,9,-999.0000,9,-999.0000,9,-999.0000,9,-999.0000,9,-999.0000,9,  12.8485,     -999.0,9,     -999.0,9,     -999.0,9,     -999.0,9,         42,-999.000,-999.000,-999.000,     -999.0,9, -999.00,9, -999.00,9
33RO200306_01,       A16N,     042,          1,         18,         18,2,20030630,       0713,    44.5000,   -20.0000,       4242,   250.8,  12.6910,  35.7550,2,  35.7520,2,    245.3,2,   244.9,2,    3.02,2,    8.34,2,    0.01,2,    0.52,2,-999.000,9,-999.000,9,-999.000,9,  -999.0,9,  -999.0,9,   -999.0,9,  -999.00,-999.0000,9,  -999.00,-999.000,9,-999.000,9,-999.000,9, -999.00,9,  -999.0,9,  -999.0,-999.000,9,-999.000,-999.000,9, -999.00,9, -999.00,9,  250.80,-999.0000,9,-999.0000,9,-999.0000,9,-999.0000,9,-999.0000,9,-999.0000,9,  12.6567,     -999.0,9,     -999.0,9,     -999.0,9,     -999.0,9,         42,-999.000,-999.000,-999.000,     -999.0,9, -999.00,9, -999.00,9
33RO200306_01,       A16N,     042,          1,         17,         17,2,20030630,       0713,    44.5000,   -20.0000,       4242,   349.0,  12.1421,  35.6520,2,  35.6491,2,    240.2,2,   238.3,2,    3.72,2,    9.90,2,    0.01,2,    0.62,2,-999.000,9,-999.000,9,-999.000,9,  -999.0,9,  -999.0,9,   -999.0,9,  -999.00,-999.0000,9,  -999.00,-999.000,9,-999.000,9,-999.000,9, -999.00,9,  -999.0,9,  -999.0,-999.000,9,-999.000,-999.000,9, -999.00,9, -999.00,9,  349.00,-999.0000,9,-999.0000,9,-999.0000,9,-999.0000,9,-999.0000,9,-999.0000,9,  12.0956,     -999.0,9,     -999.0,9,     -999.0,9,     -999.0,9,         42,-999.000,-999.000,-999.000,     -999.0,9, -999.00,9, -999.00,9
33RO200306_01,       A16N,     042,          1,         16,         16,2,20030630,       0713,    44.5000,   -20.0000,       4242,   450.4,  11.3876,  35.5256,2,  35.5236,2,    228.3,2,   211.9,2,    4.89,2,   12.17,2,    0.01,2,    0.76,2,-999.000,9,-999.000,9,-999.000,9,  -999.0,9,  -999.0,9,   -999.0,9,  -999.00,-999.0000,9,  -999.00,-999.000,9,-999.000,9,-999.000,9, -999.00,9,  -999.0,9,  -999.0,-999.000,9,-999.000,-999.000,9, -999.00,9, -999.00,9,  450.40,-999.0000,9,-999.0000,9,-999.0000,9,-999.0000,9,-999.0000,9,-999.0000,9,  11.3299,     -999.0,9,     -999.0,9,     -999.0,9,     -999.0,9,         42,-999.000,-999.000,-999.000,     -999.0,9, -999.00,9, -999.00,9
33RO200306_01,       A16N,     042,          1,         15,         15,9,20030630,       0713,    44.5000,   -20.0000,       4242,   549.7,  10.8339,  35.4570,2,-999.0000,9,    215.9,2,  -999.0,9, -999.00,9, -999.00,9, -999.00,9, -999.00,9,-999.000,9,-999.000,9,-999.000,9,  -999.0,9,  -999.0,9,   -999.0,9,  -999.00,-999.0000,9,  -999.00,-999.000,9,-999.000,9,-999.000,9, -999.00,9,  -999.0,9,  -999.0,-999.000,9,-999.000,-999.000,9, -999.00,9, -999.00,9,  549.70,-999.0000,9,-999.0000,9,-999.0000,9,-999.0000,9,-999.0000,9,-999.0000,9,  10.7653,     -999.0,9,     -999.0,9,     -999.0,9,     -999.0,9,         42,-999.000,-999.000,-999.000,     -999.0,9, -999.00,9, -999.00,9
33RO200306_01,       A16N,     042,          1,         14,         14,2,20030630,       0713,    44.5000,   -20.0000,       4242,   650.2,  10.1303,  35.4002,2,  35.3984,2,    194.2,2,   195.4,2,    7.92,2,   16.60,2,    0.00,2,    1.03,2,-999.000,9,-999.000,9,-999.000,9,  -999.0,9,  -999.0,9,   -999.0,9,  -999.00,-999.0000,9,  -999.00,-999.000,9,-999.000,9,-999.000,9, -999.00,9,  -999.0,9,  -999.0,-999.000,9,-999.000,-999.000,9, -999.00,9, -999.00,9,  650.20,-999.0000,9,-999.0000,9,-999.0000,9,-999.0000,9,-999.0000,9,-999.0000,9,  10.0521,     -999.0,9,     -999.0,9,     -999.0,9,     -999.0,9,         42,-999.000,-999.000,-999.000,     -999.0,9, -999.00,9, -999.00,9
33RO200306_01,       A16N,     042,          1,         13,         13,2,20030630,       0713,    44.5000,   -20.0000,       4242,   749.9,   9.3764,  35.3874,2,  35.3794,2,    186.0,2,   188.0,2,    9.57,2,   18.08,2,    0.00,2,    1.13,2,-999.000,9,-999.000,9,-999.000,9,  -999.0,9,  -999.0,9,   -999.0,9,  -999.00,-999.0000,9,  -999.00,-999.000,9,-999.000,9,-999.000,9, -999.00,9,  -999.0,9,  -999.0,-999.000,9,-999.000,-999.000,9, -999.00,9, -999.00,9,  749.90,-999.0000,9,-999.0000,9,-999.0000,9,-999.0000,9,-999.0000,9,-999.0000,9,   9.2899,     -999.0,9,     -999.0,9,     -999.0,9,     -999.0,9,         42,-999.000,-999.000,-999.000,     -999.0,9, -999.00,9, -999.00,9
33RO200306_01,       A16N,     042,          1,         12,         12,2,20030630,       0713,    44.5000,   -20.0000,       4242,   850.5,   8.6942,  35.3920,2,  35.3909,2,    186.6,2,   189.9,2,   10.43,2,   18.49,2,    0.00,2,    1.16,2,-999.000,9,-999.000,9,-999.000,9,  -999.0,9,  -999.0,9,   -999.0,9,  -999.00,-999.0000,9,  -999.00,-999.000,9,-999.000,9,-999.000,9, -999.00,9,  -999.0,9,  -999.0,-999.000,9,-999.000,-999.000,9, -999.00,9, -999.00,9,  850.50,-999.0000,9,-999.0000,9,-999.0000,9,-999.0000,9,-999.0000,9,-999.0000,9,   8.5997,     -999.0,9,     -999.0,9,     -999.0,9,     -999.0,9,         42,-999.000,-999.000,-999.000,     -999.0,9, -999.00,9, -999.00,9
33RO200306_01,       A16N,     042,          1,         11,         11,2,20030630,       0713,    44.5000,   -20.0000,       4242,   951.2,   8.0367,  35.3901,2,  35.3874,2,    196.0,2,   195.1,2,   10.84,2,   18.42,2,    0.00,2,    1.16,2,-999.000,9,-999.000,9,-999.000,9,  -999.0,9,  -999.0,9,   -999.0,9,  -999.00,-999.0000,9,  -999.00,-999.000,9,-999.000,9,-999.000,9, -999.00,9,  -999.0,9,  -999.0,-999.000,9,-999.000,-999.000,9, -999.00,9, -999.00,9,  951.20,-999.0000,9,-999.0000,9,-999.0000,9,-999.0000,9,-999.0000,9,-999.0000,9,   7.9350,     -999.0,9,     -999.0,9,     -999.0,9,     -999.0,9,         42,-999.000,-999.000,-999.000,     -999.0,9, -999.00,9, -999.00,9
33RO200306_01,       A16N,     042,          1,          9,          9,9,20030630,       0713,    44.5000,   -20.0000,       4242,  1050.1,   8.0273,  35.4960,2,-999.0000,9,    198.3,2,  -999.0,9, -999.00,9, -999.00,9, -999.00,9, -999.00,9,-999.000,9,-999.000,9,-999.000,9,  -999.0,9,  -999.0,9,   -999.0,9,  -999.00,-999.0000,9,  -999.00,-999.000,9,-999.000,9,-999.000,9, -999.00,9,  -999.0,9,  -999.0,-999.000,9,-999.000,-999.000,9, -999.00,9, -999.00,9, 1050.10,-999.0000,9,-999.0000,9,-999.0000,9,-999.0000,9,-999.0000,9,-999.0000,9,   7.9143,     -999.0,9,     -999.0,9,     -999.0,9,     -999.0,9,         42,-999.000,-999.000,-999.000,     -999.0,9, -999.00,9, -999.00,9
33RO200306_01,       A16N,     042,          1,         10,         10,2,20030630,       0713,    44.5000,   -20.0000,       4242,  1050.2,   8.0463,  35.5016,2,  35.5115,2,    198.3,2,   197.2,2,   10.75,2,   17.83,2,    0.00,2,    1.12,2,   1.755,2,   0.901,2,   0.064,2,  -999.0,9,  -999.0,9,   -999.0,9,  -999.00,-999.0000,9,  -999.00,-999.000,9,-999.000,9,-999.000,9, -999.00,9,  -999.0,9,  -999.0,-999.000,9,-999.000,-999.000,9, -999.00,9, -999.00,9, 1050.20,-999.0000,9,-999.0000,9,-999.0000,9,-999.0000,9,-999.0000,9,-999.0000,9,   7.9331,     -999.0,9,     -999.0,9,     -999.0,9,     -999.0,9,         42,-999.000,-999.000,-999.000,     -999.0,9, -999.00,9, -999.00,9
33RO200306_01,       A16N,     042,          1,          8,          8,2,20030630,       0713,    44.5000,   -20.0000,       4242,  1148.8,   6.8561,  35.3417,2,  35.3402,2,    218.4,2,   217.1,2,   11.15,2,   18.03,2,    0.00,2,    1.14,2,-999.000,9,-999.000,9,-999.000,9,  -999.0,9,  -999.0,9,   -999.0,9,  -999.00,-999.0000,9,  -999.00,-999.000,9,-999.000,9,-999.000,9, -999.00,9,  -999.0,9,  -999.0,-999.000,9,-999.000,-999.000,9, -999.00,9, -999.00,9, 1148.80,-999.0000,9,-999.0000,9,-999.0000,9,-999.0000,9,-999.0000,9,-999.0000,9,   6.7418,     -999.0,9,     -999.0,9,     -999.0,9,     -999.0,9,         42,-999.000,-999.000,-999.000,     -999.0,9, -999.00,9, -999.00,9
33RO200306_01,       A16N,     042,          1,          7,          7,2,20030630,       0713,    44.5000,   -20.0000,       4242,  1347.7,   4.8160,  35.0420,2,  35.0472,2,    247.6,2,   247.4,2,   11.36,2,   18.01,2,    0.00,2,    1.16,2,   2.471,2,   1.255,2,   0.143,2,  -999.0,9,  -999.0,9,   -999.0,9,  -999.00,-999.0000,9,  -999.00,-999.000,9,-999.000,9,-999.000,9, -999.00,9,  -999.0,9,  -999.0,-999.000,9,-999.000,-999.000,9, -999.00,9, -999.00,9, 1347.70,-999.0000,9,-999.0000,9,-999.0000,9,-999.0000,9,-999.0000,9,-999.0000,9,   4.7011,     -999.0,9,     -999.0,9,     -999.0,9,     -999.0,9,         42,-999.000,-999.000,-999.000,     -999.0,9, -999.00,9, -999.00,9
33RO200306_01,       A16N,     042,          1,          6,          6,2,20030630,       0713,    44.5000,   -20.0000,       4242,  1749.9,   3.6195,  34.9132,2,  34.9126,2,    272.0,2,   273.8,2,   11.47,2,   17.41,2,    0.00,2,    1.13,2,-999.000,9,-999.000,9,-999.000,9,  -999.0,9,  -999.0,9,   -999.0,9,  -999.00,-999.0000,9,  -999.00,-999.000,9,-999.000,9,-999.000,9, -999.00,9,  -999.0,9,  -999.0,-999.000,9,-999.000,-999.000,9, -999.00,9, -999.00,9, 1749.90,-999.0000,9,-999.0000,9,-999.0000,9,-999.0000,9,-999.0000,9,-999.0000,9,   3.4812,     -999.0,9,     -999.0,9,     -999.0,9,     -999.0,9,         42,-999.000,-999.000,-999.000,     -999.0,9, -999.00,9, -999.00,9
33RO200306_01,       A16N,     042,          1,          5,          5,2,20030630,       0713,    44.5000,   -20.0000,       4242,  2250.7,   3.2313,  34.9032,2,  34.9032,2,    277.9,2,   280.2,2,   12.43,2,   16.99,2,    0.00,2,    1.12,2,   2.509,2,   1.241,2,   0.146,2,  -999.0,9,  -999.0,9,   -999.0,9,  -999.00,-999.0000,9,  -999.00,-999.000,9,-999.000,9,-999.000,9, -999.00,9,  -999.0,9,  -999.0,-999.000,9,-999.000,-999.000,9, -999.00,9, -999.00,9, 2250.70,-999.0000,9,-999.0000,9,-999.0000,9,-999.0000,9,-999.0000,9,-999.0000,9,   3.0517,     -999.0,9,     -999.0,9,     -999.0,9,     -999.0,9,         42,-999.000,-999.000,-999.000,     -999.0,9, -999.00,9, -999.00,9
33RO200306_01,       A16N,     042,          1,          4,          4,2,20030630,       0713,    44.5000,   -20.0000,       4242,  2746.2,   3.0311,  34.9471,2,  34.9465,2,    264.5,2,   265.4,2,   20.33,2,   17.93,2,    0.00,2,    1.19,2,   1.192,2,   0.585,2,   0.052,2,  -999.0,9,  -999.0,9,   -999.0,9,  -999.00,-999.0000,9,  -999.00,-999.000,9,-999.000,9,-999.000,9, -999.00,9,  -999.0,9,  -999.0,-999.000,9,-999.000,-999.000,9, -999.00,9, -999.00,9, 2746.20,-999.0000,9,-999.0000,9,-999.0000,9,-999.0000,9,-999.0000,9,-999.0000,9,   2.8059,     -999.0,9,     -999.0,9,     -999.0,9,     -999.0,9,         42,-999.000,-999.000,-999.000,     -999.0,9, -999.00,9, -999.00,9
33RO200306_01,       A16N,     042,          1,          3,          3,2,20030630,       0713,    44.5000,   -20.0000,       4242,  3248.1,   2.7548,  34.9392,2,  34.9389,2,    252.7,2,   253.5,2,   30.89,6,   19.69,6,    0.00,6,    1.32,6,   0.594,2,   0.295,2,   0.027,2,  -999.0,9,  -999.0,9,   -999.0,9,  -999.00,-999.0000,9,  -999.00,-999.000,9,-999.000,9,-999.000,9, -999.00,9,  -999.0,9,  -999.0,-999.000,9,-999.000,-999.000,9, -999.00,9, -999.00,9, 3248.10,-999.0000,9,-999.0000,9,-999.0000,9,-999.0000,9,-999.0000,9,-999.0000,9,   2.4832,     -999.0,9,     -999.0,9,     -999.0,9,     -999.0,9,         42,-999.000,-999.000,-999.000,     -999.0,9, -999.00,9, -999.00,9
33RO200306_01,       A16N,     042,          1,          2,          2,2,20030630,       0713,    44.5000,   -20.0000,       4242,  3750.2,   2.5941,  34.9215,2,  34.9229,2,    243.8,2,   243.4,2,   40.16,6,   21.39,6,    0.00,6,    1.45,6,   0.197,2,   0.096,2,   0.016,2,  -999.0,9,  -999.0,9,   -999.0,9,  -999.00,-999.0000,9,  -999.00,-999.000,9,-999.000,9,-999.000,9, -999.00,9,  -999.0,9,  -999.0,-999.000,9,-999.000,-999.000,9, -999.00,9, -999.00,9, 3750.20,-999.0000,9,-999.0000,9,-999.0000,9,-999.0000,9,-999.0000,9,-999.0000,9,   2.2716,     -999.0,9,     -999.0,9,     -999.0,9,     -999.0,9,         42,-999.000,-999.000,-999.000,     -999.0,9, -999.00,9, -999.00,9
33RO200306_01,       A16N,     042,          1,          1,          1,2,20030630,       0713,    44.5000,   -20.0000,       4242,  4303.5,   2.5888,  34.9144,2,  34.9146,2,    241.7,2,   240.6,2,   43.28,6,   21.94,6,    0.00,6,    1.48,6,   0.093,2,   0.043,2,   0.011,2,  -999.0,9,  -999.0,9,   -999.0,9,  -999.00,-999.0000,9,  -999.00,-999.000,9,-999.000,9,-999.000,9, -999.00,9,  -999.0,9,  -999.0,-999.000,9,-999.000,-999.000,9, -999.00,9, -999.00,9, 4303.50,-999.0000,9,-999.0000,9,-999.0000,9,-999.0000,9,-999.0000,9,-999.0000,9,   2.2024,     -999.0,9,     -999.0,9,     -999.0,9,     -999.0,9,         42,-999.000,-999.000,-999.000,     -999.0,9, -999.00,9, -999.00,9