BOTTLE,20230908CCHSIOCBG
EXPOCODE,SECT_ID,STNNBR,CASTNO,SAMPNO,BTLNBR,BTLNBR_FLAG_W,DATE,TIME,LATITUDE,LONGITUDE,DEPTH,CTDPRS,CTDTMP,CTDSAL,CTDSAL_FLAG_W,SALNTY,SALNTY_FLAG_W,CTDOXY,CTDOXY_FLAG_W,OXYGEN,OXYGEN_FLAG_W,SILCAT,SILCAT_FLAG_W,NITRAT,NITRAT_FLAG_W,NITRIT,NITRIT_FLAG_W,PHSPHT,PHSPHT_FLAG_W,CFC-11,CFC-11_FLAG_W,CFC-12,CFC-12_FLAG_W,CFC113,CFC113_FLAG_W,TCARBN,TCARBN_FLAG_W,ALKALI,ALKALI_FLAG_W,FCO2,FCO2_FLAG_W,FCO2TMP,PH_SWS,PH_SWS_FLAG_W,PH_TMP,TRITUM,TRITUM_FLAG_W,HELIUM,HELIUM_FLAG_W,DELHE3,DELHE3_FLAG_W,DELC13,DELC13_FLAG_W,DELC14,DELC14_FLAG_W,C14ERR,NEON,NEON_FLAG_W,NEONER,POC,POC_FLAG_W,DOC,DOC_FLAG_W,TDN,TDN_FLAG_W,CTDRAW,CDOM325,CDOM325_FLAG_W,CDOM340,CDOM340_FLAG_W,CDOM380,CDOM380_FLAG_W,CDOM412,CDOM412_FLAG_W,CDOMSL,CDOMSL_FLAG_W,CDOMSN,CDOMSN_FLAG_W,THETA,PON,PON_FLAG_W,HCFC-22,HCFC-22_FLAG_W,HCFC-142b,HCFC-142b_FLAG_W,HCFC-141b,HCFC-141b_FLAG_W,STNNBR_U,HELIER,DELHER,TRITER,CH3CL,CH3CL_FLAG_W,CH3BR,CH3BR_FLAG_W,CH3I,CH3I_FLAG_W
,,,,,,,,,,,METERS,DBAR,ITS-90,PSS-78,,PSS-78,,UMOL/KG,,UMOL/KG,,UMOL/KG,,UMOL/KG,,UMOL/KG,,UMOL/KG,,PMOL/KG,,PMOL/KG,,PMOL/KG,,UMOL/KG,,UMOL/KG,,UATM,,DEG C,,,DEG C,TU,,NMOL/KG,,PERCNT,,/MILLE,,/MILLE,,/MILLE,NMOL/KG,,NMOL/KG,UG/KG,,UMOL/KG,,UMOL/KG,,DBAR,1/M,,1/M,,1/M,,1/M,,1/NM,,1/NM,,DEG C,UMOL/L,,PMOL/KG,,PMOL/KG,,PMOL/KG,,,NMOL/KG,PERCNT,TU,PMOL/KG,,PMOL/KG,,PMOL/KG,
33RO200306_01,       A16N,     052,          1,          6,          6,2,20030703,       0016,    39.4995,   -20.0005,       4657,  2241.7,   3.6496,  35.0088,2,  35.0087,2,    257.8,2,   255.6,2,   17.66,2,   18.29,2,    0.00,2,    1.19,2,   0.504,2,   0.257,2,   0.020,2,  2163.5,2,  2317.2,2,   -999.0,9,  -999.00,-999.0000,9,  -999.00,-999.000,9,-999.000,9,-999.000,9, -999.00,9,  -999.0,9,  -999.0,-999.000,9,-999.000,-999.000,9,   43.74,2,   22.97,2, 2241.70,-999.0000,9,-999.0000,9,-999.0000,9,-999.0000,9,-999.0000,9,-999.0000,9,   3.4636,     -999.0,9,     -999.0,9,     -999.0,9,     -999.0,9,         52,-999.000,-999.000,-999.000,     -999.0,9, -999.00,9, -999.00,9
33RO200306_01,       A16N,     052,          1,          5,          5,2,20030703,       0016,    39.4995,   -20.0005,       4657,  2750.7,   2.9919,  34.9568,2,  25.1210,4,    254.8,2,   252.6,2,   26.25,2,   19.31,2,    0.00,2,    1.27,2,   0.267,2,   0.135,2,   0.008,2,  2173.0,2,  2326.5,2,   -999.0,9,  -999.00,-999.0000,9,  -999.00,-999.000,9,-999.000,9,-999.000,9, -999.00,9,  -999.0,9,  -999.0,-999.000,9,-999.000,-999.000,9,   42.76,2,   23.05,2, 2750.70,-999.0000,9,-999.0000,9,-999.0000,9,-999.0000,9,-999.0000,9,-999.0000,9,   2.7670,     -999.0,9,     -999.0,9,     -999.0,9,     -999.0,9,         52,-999.000,-999.000,-999.000,     -999.0,9, -999.00,9, -999.00,9
33RO200306_01,       A16N,     052,          1,          4,          4,2,20030703,       0016,    39.4995,   -20.0005,       4657,  3221.1,   2.7185,  34.9360,2,  34.9357,2,    247.7,2,   246.0,2,   34.27,6,   20.48,6,    0.00,6,    1.37,6,   0.145,2,   0.080,2,   0.006,2,  2185.9,2,  2337.3,2,   -999.0,9,  -999.00,   7.7322,2,    25.00,-999.000,9,-999.000,9,-999.000,9, -999.00,9,  -999.0,9,  -999.0,-999.000,9,-999.000,-999.000,9,   41.95,2,   25.73,2, 3221.10,-999.0000,9,-999.0000,9,-999.0000,9,-999.0000,9,-999.0000,9,-999.0000,9,   2.4507,     -999.0,9,     -999.0,9,     -999.0,9,     -999.0,9,         52,-999.000,-999.000,-999.000,     -999.0,9, -999.00,9, -999.00,9
33RO200306_01,       A16N,     052,          1,          3,          3,2,20030703,       0016,    39.4995,   -20.0005,       4657,  3730.4,   2.5767,  34.9189,2,  34.9196,2,    242.4,2,   241.5,2,   40.35,6,   21.50,6,    0.00,6,    1.44,6,   0.072,2,   0.039,2,   0.006,2,  2192.8,2,  2344.8,2,   -999.0,9,  -999.00,   7.7269,2,    25.00,-999.000,9,-999.000,9,-999.000,9, -999.00,9,  -999.0,9,  -999.0,-999.000,9,-999.000,-999.000,9,   40.90,2,   26.54,2, 3730.40,-999.0000,9,-999.0000,9,-999.0000,9,-999.0000,9,-999.0000,9,-999.0000,9,   2.2569,     -999.0,9,     -999.0,9,     -999.0,9,     -999.0,9,         52,-999.000,-999.000,-999.000,     -999.0,9, -999.00,9, -999.00,9
33RO200306_01,       A16N,     052,          1,          2,          2,2,20030703,       0016,    39.4995,   -20.0005,       4657,  4249.1,   2.5194,  34.9072,2,  34.9068,2,    241.6,2,   240.9,2,   43.22,6,   21.98,6,    0.00,6,    1.47,6,   0.028,2,   0.019,2,   0.005,2,  2195.5,2,  2348.7,2,   -999.0,9,  -999.00,   7.7250,2,    25.00,-999.000,9,-999.000,9,-999.000,9, -999.00,9,  -999.0,9,  -999.0,-999.000,9,-999.000,-999.000,9,   41.71,2,   25.68,2, 4249.10,-999.0000,9,-999.0000,9,-999.0000,9,-999.0000,9,-999.0000,9,-999.0000,9,   2.1415,     -999.0,9,     -999.0,9,     -999.0,9,     -999.0,9,         52,-999.000,-999.000,-999.000,     -999.0,9, -999.00,9, -999.00,9
33RO200306_01,       A16N,     052,          1,          1,          1,2,20030703,       0016,    39.4995,   -20.0005,       4657,  4734.3,   2.4972,  34.8984,2,  34.8980,2,    242.4,2,   245.3,2,   45.13,2,   22.17,2,    0.00,2,    1.49,2,   0.014,2,   0.014,2,   0.004,2,  2198.0,6,  2350.4,6,   -999.0,9,  -999.00,   7.7356,6,    25.00,-999.000,9,-999.000,9,-999.000,9, -999.00,9,  -999.0,9,  -999.0,-999.000,9,-999.000,-999.000,9,   43.58,2,   25.94,2, 4734.30,-999.0000,9,-999.0000,9,-999.0000,9,-999.0000,9,-999.0000,9,-999.0000,9,   2.0613,     -999.0,9,     -999.0,9,     -999.0,9,     -999.0,9,         52,-999.000,-999.000,-999.000,     -999.0,9, -999.00,9, -999.00,9