BOTTLE,20230908CCHSIOCBG
# Merged parameters: CH3CL, CH3CL_FLAG_W, CH3BR, CH3BR_FLAG_W, CH3I, CH3I_FLAG_W
# 20210527CCHSIOCBG
# Merged parameters: TRITUM, TRITER, TRITUM_FLAG_W
# Merged parameters: HELIUM, HELIER, HELIUM_FLAG_W, DELHE3, DELHER, DELHE3_FLAG_W, NEON, NEONER, NEON_FLAG_W
# BOTTLE,20121016SIOCCHCBG
# Merged HCFC submitted by Shari Yvon Lewis on 2008-07-14
# BOTTLE,20120914SIOCCHDCBG
# citation edited
# BOTTLE,20111121CCHDOSIOCBG
# CDOM325, CDOM340, CDOM380, CDOM412, CDOMSL, CDOMSN
# original HYD file: /data/co2clivar/atlantic/a16/a16n_2003a/original/20110929_CDOM_POC_TRACE_MEX_cberys/processing/cdom/original_hy1.csv  2011-11-21
# BOTTLE,20110823CCHDOSIOCBG
# PH/PH_TMP/PH_FLAG/FCO2_TMP/TDN, POC/PON restored
# FCO2TMP and PH_TMP  units changed from ITS-90 to DEG C
# BOTTLE,20080808WHPSIODBK
# original files copied from HTML directory: 20080808
#
# BOTTLE,20150415PRINUNIVRMK
# 10/30/03 Downloaded data from WHP; into Splus 6/22/04 
# 10/05/07 new version from CDIAC and into Splus 
# CLIVAR and Carbon Hydrographic Data Office, La Jolla, CA, USA 
# Cruise dates: 6/4 - 8/11/03 
# Chief Scientist: J. Bullister, N. Gruber 
# Ship and cruise designation: R/V Ron Brown; A16N_2003a 
# EXPOCODE 33RO20030604 
# Hydro: Who - G. Johnson; Status - final 
#       Notes:  
# Nuts/O2: Who - C. Mordy, G. Johnson; Status - final  
#       Notes  
# TCO2: Who - D. Feely, R. Wanninkhof; Status - final 
#       Notes: see Peltola et al. 2005 
# TA: Who - ; Status - final 
#       Notes: see Peltola et al. 2005 
# fCO2: Who - D. Feely, R. Wanninkhof; Status - final 
#       Notes: see Peltola et al. 2005 
# pH: Who - D. Feely, R. Wanninkhof; Status - final   
#       Notes: SWS@25C 
#       measured using the spectrophotometric procedure (Byrne 1987) and the indicator calibration of Clayton and Byrne (1993). The indicator was an 8.0-mM solution of m-cresol purple sodium salt (C21H17O5Na) in MilliQ water. 
#       see Peltola et al. 2005 
#       Final version from CDIAC 10/01/07 after final UM corrections 
# CFC: Who - J. Bullister, M. Warner; Status - final 
#       Notes: 11,12 & 113   
# C-14: Who - A. McNichol; Status - final 
#       Notes: surface samples only 
# C-13: Who - A. McNichol; Status - final 
#       Notes: surface samples only 
# H-3/He-3: Who -  P. Schlosser; Status -  final   
#       Notes: data from CCHDO 4/14/15 
#       Includes neon 
# Other: HCF S. Yvon-Lewis 
# References: 
# Byrne, R. H. 1987. Standardization of standard buffers by visible spectrometry. Analytical Chemistry 59:1479-81. 
# Clayton T., and R. H. Byrne. 1993. Calibration of m-cresol purple on the total hydrogen ion concentration scale and its application to CO2-system characteristics in seawater. Deep-Sea Research 40:2115-29. 
# Peltola, E., R. Wanninkhof, R. Feely, D. Hansell, R. Castle, D. Greeley, J.-Z. Zhang, F. Millero, N. Gruber, J. Bullister, and T. Graham. 2005. Inorganic and Organic Carbon, Nutrient, and Oxygen Data from the R/V Ronald H. Brown Repeat Hydrography Cruise in the Atlantic Ocean: CLIVAR CO2 Section A16N_2003a (4 June - 11 August, 2003), ed. A. Kozyr. ORNL/CDIAC-149, NDP-085. Carbon Dioxide Information Analysis Center, Oak Ridge National Laboratory, U.S. Department of Energy, Oak Ridge, Tennessee, 36 pp. 
#
# DATA CITATION
#|CCHDO Citation Information
#|
#|Please cite data downloaded from CCHDO as: [Data providers of the parameter(s) used]. [Year of file access]. [CTD/Bottle] data from cruise [expocode], [format version used]. Accessed from CCHDO [url of cruise data page]. Access date [date of download]. [Applicable CCHDO cruise DOI if provided].
#|
#|For example: Swift, J. and Becker, S. 2019. CTD data from Cruise 33RR20160321, exchange version. Accessed from CCHDO https://cchdo.ucsd.edu/cruise/33RR20160321. Access date 2019-08-21. CCHDO cruise DOI: 10.7942/C2008W
#|
#|Information on the scientists who provided the different parameters can be found in the cruise report. Additionally, for US GO-SHIP cruises, this information is usually in the comments section in the text headers of the Exchange bottle files.
#|
#|Users are also encouraged to acknowledge the funding program that supported the data collection in their publication. For US GO-SHIP data this is the NSF/NOAA funded U.S Repeat Hydrography Program.
#|
#|For data citation, please use the data providers listed below. 
#|
#|Programs and Principal Investigators
#| These data were provided by:
#|
#| PARAMETER/PROGRAM     NAME                   EMAIL ADDRESS
#| -----------------     ----                   --------------
#| Chief Scientist       John Bullister-PMEL    bullister@pmel.noaa.gov
#| CTDO/S/O2/nutrients   Greg Johnson-PMEL      gjohnson@pmel.noaa.gov
#| Nutrients             Calvin Mordy-PMEL      mordy@pmel.noaa.gov
#|                       Jia-Zhong Zhang-AOML   zhang@aoml.noaa.gov
#| Total CO2(DIC), pCO2  Dick Feely- PMEL       feely@pmel.noaa.gov
#|                       Rik Wanninkhof-AOML    rik.wanninkhof@noaa.gov
#| CFC                   John Bullister-PMEL    bullister@pmel.noaa.gov
#| CFC                   Mark Warner-UW         mwarner@ocean.washington.edu
#| He/Tr                 Peter Schlosser        peters@ldeo.columbia.edu
#| 14C/13C               Ann McNichol WHOI      amcnichol@whoi.edu
#| Total Alkalinity, pH  Frank Millero -RSMAS   fmillero@rsmas.miami.edu
#| DOC/TDN               Dennis Hansell-RSMAS   dhansell@rsmas.miami.edu
#| POC/PON               Wilf Gardner-TAMU      wgardner@ocean.tamu.edu
#| CDOM                  Norm Nelson-UCSB       norm@icess.ucsb.edu
#| HCFCs                 Shari Yvon-Lewis-AOML  syvon@aoml.noaa.gov
#
EXPOCODE,SECT_ID,STNNBR,CASTNO,SAMPNO,BTLNBR,BTLNBR_FLAG_W,DATE,TIME,LATITUDE,LONGITUDE,DEPTH,CTDPRS,CTDTMP,CTDSAL,CTDSAL_FLAG_W,SALNTY,SALNTY_FLAG_W,CTDOXY,CTDOXY_FLAG_W,OXYGEN,OXYGEN_FLAG_W,SILCAT,SILCAT_FLAG_W,NITRAT,NITRAT_FLAG_W,NITRIT,NITRIT_FLAG_W,PHSPHT,PHSPHT_FLAG_W,CFC-11,CFC-11_FLAG_W,CFC-12,CFC-12_FLAG_W,CFC113,CFC113_FLAG_W,TCARBN,TCARBN_FLAG_W,ALKALI,ALKALI_FLAG_W,FCO2,FCO2_FLAG_W,FCO2TMP,PH_SWS,PH_SWS_FLAG_W,PH_TMP,TRITUM,TRITUM_FLAG_W,HELIUM,HELIUM_FLAG_W,DELHE3,DELHE3_FLAG_W,DELC13,DELC13_FLAG_W,DELC14,DELC14_FLAG_W,C14ERR,NEON,NEON_FLAG_W,NEONER,POC,POC_FLAG_W,DOC,DOC_FLAG_W,TDN,TDN_FLAG_W,CTDRAW,CDOM325,CDOM325_FLAG_W,CDOM340,CDOM340_FLAG_W,CDOM380,CDOM380_FLAG_W,CDOM412,CDOM412_FLAG_W,CDOMSL,CDOMSL_FLAG_W,CDOMSN,CDOMSN_FLAG_W,THETA,PON,PON_FLAG_W,HCFC-22,HCFC-22_FLAG_W,HCFC-142b,HCFC-142b_FLAG_W,HCFC-141b,HCFC-141b_FLAG_W,STNNBR_U,HELIER,DELHER,TRITER,CH3CL,CH3CL_FLAG_W,CH3BR,CH3BR_FLAG_W,CH3I,CH3I_FLAG_W
,,,,,,,,,,,METERS,DBAR,ITS-90,PSS-78,,PSS-78,,UMOL/KG,,UMOL/KG,,UMOL/KG,,UMOL/KG,,UMOL/KG,,UMOL/KG,,PMOL/KG,,PMOL/KG,,PMOL/KG,,UMOL/KG,,UMOL/KG,,UATM,,DEG C,,,DEG C,TU,,NMOL/KG,,PERCNT,,/MILLE,,/MILLE,,/MILLE,NMOL/KG,,NMOL/KG,UG/KG,,UMOL/KG,,UMOL/KG,,DBAR,1/M,,1/M,,1/M,,1/M,,1/NM,,1/NM,,DEG C,UMOL/L,,PMOL/KG,,PMOL/KG,,PMOL/KG,,,NMOL/KG,PERCNT,TU,PMOL/KG,,PMOL/KG,,PMOL/KG,
33RO200306_01,       A16N,     001,          1,         11,         11,2,20030620,       0125,    63.2930,   -20.0033,        264,     2.0,   9.8835,  35.2456,2,-999.0000,9,    283.2,2,   289.3,2,    1.46,2,    7.03,2,    0.17,2,    0.00,9,   3.889,2,   2.169,2,   0.335,2,  2099.3,6,  -999.0,9,    505.1,6,    20.00,-999.0000,9,  -999.00,-999.000,9,-999.000,9,-999.000,9, -999.00,9,  -999.0,9,  -999.0,-999.000,9,-999.000,-999.000,9,   59.27,2,   11.96,2,    2.00,-999.0000,9,-999.0000,9,-999.0000,9,-999.0000,9,-999.0000,9,-999.0000,9,   9.8833,     -999.0,9,     -999.0,9,     -999.0,9,     -999.0,9,          1,-999.000,-999.000,-999.000,     -999.0,9, -999.00,9, -999.00,9
33RO200306_01,       A16N,     001,          1,         10,         10,2,20030620,       0125,    63.2930,   -20.0033,        264,    19.9,   9.8525,  35.2454,2,  35.2521,2,    284.6,2,   289.9,2,    1.58,2,    7.18,2,    0.16,2,    0.42,2,   3.893,2,   2.176,2,   0.344,2,  -999.0,9,  -999.0,9,   -999.0,9,  -999.00,-999.0000,9,  -999.00,-999.000,9,-999.000,9,-999.000,9, -999.00,9,  -999.0,9,  -999.0,-999.000,9,-999.000,  12.116,2, -999.00,9, -999.00,9,   19.90,-999.0000,9,-999.0000,9,-999.0000,9,-999.0000,9,-999.0000,9,-999.0000,9,   9.8502,      1.523,2,     -999.0,9,     -999.0,9,     -999.0,9,          1,-999.000,-999.000,-999.000,     -999.0,9, -999.00,9, -999.00,9
33RO200306_01,       A16N,     001,          1,          9,          9,2,20030620,       0125,    63.2930,   -20.0033,        264,    40.4,   9.5312,  35.2454,2,  35.2508,2,    276.3,2,   275.3,2,    1.76,2,    7.68,2,    0.18,2,    0.46,2,   3.901,2,   2.176,2,   0.347,2,  2107.7,2,  2323.3,2,   -999.0,9,  -999.00,   7.8668,2,    25.00,-999.000,9,-999.000,9,-999.000,9, -999.00,9,  -999.0,9,  -999.0,-999.000,9,-999.000,-999.000,9,   53.66,2,   12.90,2,   40.40,-999.0000,9,-999.0000,9,-999.0000,9,-999.0000,9,-999.0000,9,-999.0000,9,   9.5267,     -999.0,9,     -999.0,9,     -999.0,9,     -999.0,9,          1,-999.000,-999.000,-999.000,     -999.0,9, -999.00,9, -999.00,9
33RO200306_01,       A16N,     001,          1,          8,          8,2,20030620,       0125,    63.2930,   -20.0033,        264,    60.5,   9.5003,  35.2467,2,  35.2529,2,    272.6,2,   259.6,2,    1.86,2,    7.80,2,    0.18,2,    0.48,2,   3.874,2,   2.178,2,   0.342,2,  -999.0,9,  -999.0,9,   -999.0,9,  -999.00,-999.0000,9,  -999.00,   1.347,2,   1.745,2,  -1.975,2, -999.00,9,  -999.0,9,  -999.0,   7.415,2,   0.024,   7.953,2,   55.29,2,   13.76,2,   60.50,-999.0000,9,-999.0000,9,-999.0000,9,-999.0000,9,-999.0000,9,-999.0000,9,   9.4935,      0.556,2,     -999.0,9,     -999.0,9,     -999.0,9,          1,   0.003,   0.186,   0.020,     -999.0,9, -999.00,9, -999.00,9
33RO200306_01,       A16N,     001,          1,          7,          7,2,20030620,       0125,    63.2930,   -20.0033,        264,    79.9,   9.2861,  35.2437,2,  35.2462,2,    271.7,2,   280.1,2,    2.31,2,    8.49,2,    0.23,2,    0.55,2,   3.965,2,   2.207,2,   0.348,2,  -999.0,9,  -999.0,9,   -999.0,9,  -999.00,-999.0000,9,  -999.00,-999.000,9,-999.000,9,-999.000,9, -999.00,9,  -999.0,9,  -999.0,-999.000,9,-999.000,-999.000,9,   53.74,2,   12.87,2,   79.90,-999.0000,9,-999.0000,9,-999.0000,9,-999.0000,9,-999.0000,9,-999.0000,9,   9.2773,     -999.0,9,     -999.0,9,     -999.0,9,     -999.0,9,          1,-999.000,-999.000,-999.000,     -999.0,9, -999.00,9, -999.00,9
33RO200306_01,       A16N,     001,          1,          6,          6,2,20030620,       0125,    63.2930,   -20.0033,        264,   100.1,   8.7368,  35.2409,2,  35.2438,2,    269.8,2,   274.7,2,    3.69,2,   10.46,2,    0.33,2,    0.66,2,   3.913,2,   2.188,2,   0.347,2,  2132.5,2,  2324.9,2,   -999.0,9,  -999.00,   7.8220,2,    25.00,-999.000,9,-999.000,9,-999.000,9, -999.00,9,  -999.0,9,  -999.0,-999.000,9,-999.000,   6.338,2,   50.08,2,   14.92,2,  100.10,-999.0000,9,-999.0000,9,-999.0000,9,-999.0000,9,-999.0000,9,-999.0000,9,   8.7261,      0.341,2,     -999.0,9,     -999.0,9,     -999.0,9,          1,-999.000,-999.000,-999.000,     -999.0,9, -999.00,9, -999.00,9
33RO200306_01,       A16N,     001,          1,          5,          5,2,20030620,       0125,    63.2930,   -20.0033,        264,   119.4,   8.5140,  35.2418,2,  35.2498,2,    272.9,2,   272.9,2,    4.32,2,   11.52,2,    0.34,2,    0.72,2,   3.913,2,   2.189,2,   0.337,2,  -999.0,9,  -999.0,9,   -999.0,9,  -999.00,-999.0000,9,  -999.00,-999.000,9,-999.000,9,-999.000,9, -999.00,9,  -999.0,9,  -999.0,-999.000,9,-999.000,-999.000,9,   51.22,2,   17.00,2,  119.40,-999.0000,9,-999.0000,9,-999.0000,9,-999.0000,9,-999.0000,9,-999.0000,9,   8.5015,     -999.0,9,     -999.0,9,     -999.0,9,     -999.0,9,          1,-999.000,-999.000,-999.000,     -999.0,9, -999.00,9, -999.00,9
33RO200306_01,       A16N,     001,          1,          4,          4,2,20030620,       0125,    63.2930,   -20.0033,        264,   140.2,   8.4181,  35.2417,2,  35.2474,2,    273.4,2,   271.7,2,    4.72,2,   12.00,2,    0.34,2,    0.74,2,   3.894,2,   2.173,2,   0.325,2,  -999.0,9,  -999.0,9,   -999.0,9,  -999.00,-999.0000,9,  -999.00,-999.000,9,-999.000,9,-999.000,9, -999.00,9,  -999.0,9,  -999.0,-999.000,9,-999.000,-999.000,9,   51.54,2,   17.37,2,  140.20,-999.0000,9,-999.0000,9,-999.0000,9,-999.0000,9,-999.0000,9,-999.0000,9,   8.4035,     -999.0,9,     -999.0,9,     -999.0,9,     -999.0,9,          1,-999.000,-999.000,-999.000,     -999.0,9, -999.00,9, -999.00,9
33RO200306_01,       A16N,     001,          1,          3,          3,2,20030620,       0125,    63.2930,   -20.0033,        264,   160.0,   8.3869,  35.2477,2,  35.2503,2,    272.1,2,   272.6,2,    5.22,2,   12.56,2,    0.30,2,    0.76,2,   3.876,2,   2.166,2,   0.326,2,  2142.1,2,  2325.9,2,   -999.0,9,  -999.00,   7.7965,2,    25.00,-999.000,9,   1.788,2,  -1.542,2, -999.00,9,  -999.0,9,  -999.0,   7.633,2,   0.026,  12.408,2,   50.81,2,   17.35,2,  160.00,-999.0000,9,-999.0000,9,-999.0000,9,-999.0000,9,-999.0000,9,-999.0000,9,   8.3702,      0.441,2,     -999.0,9,     -999.0,9,     -999.0,9,          1,   0.003,   0.128,-999.000,     -999.0,9, -999.00,9, -999.00,9
33RO200306_01,       A16N,     001,          1,          2,          2,9,20030620,       0125,    63.2930,   -20.0033,        264,   179.0,   8.3186,  35.2455,2,-999.0000,1,    270.8,2,   269.5,2, -999.00,1, -999.00,1, -999.00,1, -999.00,1,-999.000,9,-999.000,9,-999.000,9,  -999.0,9,  -999.0,9,   -999.0,9,  -999.00,-999.0000,9,  -999.00,-999.000,9,-999.000,9,-999.000,9, -999.00,9,  -999.0,9,  -999.0,-999.000,9,-999.000,-999.000,9, -999.00,9, -999.00,9,  179.00,-999.0000,9,-999.0000,9,-999.0000,9,-999.0000,9,-999.0000,9,-999.0000,9,   8.3000,     -999.0,9,     -999.0,9,     -999.0,9,     -999.0,9,          1,-999.000,-999.000,-999.000,     -999.0,9, -999.00,9, -999.00,9
33RO200306_01,       A16N,     001,          1,          1,          1,2,20030620,       0125,    63.2930,   -20.0033,        264,   200.1,   8.1738,  35.2355,2,  35.2425,2,    267.3,2,   268.8,2,    5.89,2,   12.90,2,    0.33,2,    0.79,2,   3.901,2,   2.172,2,   0.321,2,  2145.9,6,  2327.0,2,    644.0,6,    20.00,   7.7921,2,    25.00,-999.000,9,-999.000,9,-999.000,9, -999.00,9,  -999.0,9,  -999.0,-999.000,9,-999.000,-999.000,9,   50.98,2,   17.57,2,  200.10,-999.0000,9,-999.0000,9,-999.0000,9,-999.0000,9,-999.0000,9,-999.0000,9,   8.1532,     -999.0,9,     -999.0,9,     -999.0,9,     -999.0,9,          1,-999.000,-999.000,-999.000,     -999.0,9, -999.00,9, -999.00,9