BOTTLE,20230908CCHSIOCBG
EXPOCODE,SECT_ID,STNNBR,CASTNO,SAMPNO,BTLNBR,BTLNBR_FLAG_W,DATE,TIME,LATITUDE,LONGITUDE,DEPTH,CTDPRS,CTDTMP,CTDSAL,CTDSAL_FLAG_W,SALNTY,SALNTY_FLAG_W,CTDOXY,CTDOXY_FLAG_W,OXYGEN,OXYGEN_FLAG_W,SILCAT,SILCAT_FLAG_W,NITRAT,NITRAT_FLAG_W,NITRIT,NITRIT_FLAG_W,PHSPHT,PHSPHT_FLAG_W,CFC-11,CFC-11_FLAG_W,CFC-12,CFC-12_FLAG_W,CFC113,CFC113_FLAG_W,TCARBN,TCARBN_FLAG_W,ALKALI,ALKALI_FLAG_W,FCO2,FCO2_FLAG_W,FCO2TMP,PH_SWS,PH_SWS_FLAG_W,PH_TMP,TRITUM,TRITUM_FLAG_W,HELIUM,HELIUM_FLAG_W,DELHE3,DELHE3_FLAG_W,DELC13,DELC13_FLAG_W,DELC14,DELC14_FLAG_W,C14ERR,NEON,NEON_FLAG_W,NEONER,POC,POC_FLAG_W,DOC,DOC_FLAG_W,TDN,TDN_FLAG_W,CTDRAW,CDOM325,CDOM325_FLAG_W,CDOM340,CDOM340_FLAG_W,CDOM380,CDOM380_FLAG_W,CDOM412,CDOM412_FLAG_W,CDOMSL,CDOMSL_FLAG_W,CDOMSN,CDOMSN_FLAG_W,THETA,PON,PON_FLAG_W,HCFC-22,HCFC-22_FLAG_W,HCFC-142b,HCFC-142b_FLAG_W,HCFC-141b,HCFC-141b_FLAG_W,STNNBR_U,HELIER,DELHER,TRITER,CH3CL,CH3CL_FLAG_W,CH3BR,CH3BR_FLAG_W,CH3I,CH3I_FLAG_W
,,,,,,,,,,,METERS,DBAR,ITS-90,PSS-78,,PSS-78,,UMOL/KG,,UMOL/KG,,UMOL/KG,,UMOL/KG,,UMOL/KG,,UMOL/KG,,PMOL/KG,,PMOL/KG,,PMOL/KG,,UMOL/KG,,UMOL/KG,,UATM,,DEG C,,,DEG C,TU,,NMOL/KG,,PERCNT,,/MILLE,,/MILLE,,/MILLE,NMOL/KG,,NMOL/KG,UG/KG,,UMOL/KG,,UMOL/KG,,DBAR,1/M,,1/M,,1/M,,1/M,,1/NM,,1/NM,,DEG C,UMOL/L,,PMOL/KG,,PMOL/KG,,PMOL/KG,,,NMOL/KG,PERCNT,TU,PMOL/KG,,PMOL/KG,,PMOL/KG,
33RO200306_02,       A16N,     133,          1,         35,         35,9,20030804,       1604,     0.6717,   -24.9973,       4520,     3.5,  25.5060,  36.1238,2,-999.0000,9,    201.6,2,  -999.0,9, -999.00,9, -999.00,9, -999.00,9, -999.00,9,-999.000,9,-999.000,9,-999.000,9,  -999.0,9,  -999.0,9,   -999.0,9,  -999.00,-999.0000,9,  -999.00,-999.000,9,-999.000,9,-999.000,9, -999.00,9,  -999.0,9,  -999.0,-999.000,9,-999.000,-999.000,9, -999.00,9, -999.00,9,    3.50,-999.0000,9,-999.0000,9,-999.0000,9,-999.0000,9,-999.0000,9,-999.0000,9,  25.5052,     -999.0,9,     -999.0,9,     -999.0,9,     -999.0,9,        133,-999.000,-999.000,-999.000,     -999.0,9, -999.00,9, -999.00,9
33RO200306_02,       A16N,     133,          1,         33,         33,2,20030804,       1604,     0.6717,   -24.9973,       4520,    19.1,  25.2479,  36.1283,2,  36.1322,2,    199.9,2,   206.0,2,    1.01,2,    0.34,2,    0.04,2,    0.16,2,   1.827,2,   1.165,2,   0.139,2,  2042.0,6,  2371.3,2,    313.4,6,    20.00,   8.0579,2,    25.00,-999.000,9,-999.000,9,-999.000,9, -999.00,9,  -999.0,9,  -999.0,-999.000,9,-999.000,-999.000,9,   66.91,2,    7.23,2,   19.10,-999.0000,9,-999.0000,9,-999.0000,9,-999.0000,9,-999.0000,9,-999.0000,9,  25.2437,     -999.0,9,     -999.0,9,     -999.0,9,     -999.0,9,        133,-999.000,-999.000,-999.000,     -999.0,9, -999.00,9, -999.00,9
33RO200306_02,       A16N,     133,          1,         32,         32,2,20030804,       1604,     0.6717,   -24.9973,       4520,    40.4,  25.1289,  36.1222,2,  36.1259,2,    199.2,2,   199.8,2,    1.12,2,    0.68,2,    0.06,2,    0.19,2,-999.000,9,-999.000,9,-999.000,9,  -999.0,9,  -999.0,9,   -999.0,9,  -999.00,-999.0000,9,  -999.00,-999.000,9,-999.000,9,-999.000,9, -999.00,9,  -999.0,9,  -999.0,-999.000,9,-999.000,-999.000,9, -999.00,9, -999.00,9,   40.40,-999.0000,9,-999.0000,9,-999.0000,9,-999.0000,9,-999.0000,9,-999.0000,9,  25.1201,     -999.0,9,     -999.0,9,     -999.0,9,     -999.0,9,        133,-999.000,-999.000,-999.000,     -999.0,9, -999.00,9, -999.00,9
33RO200306_02,       A16N,     133,          1,         31,         31,2,20030804,       1604,     0.6717,   -24.9973,       4520,    60.1,  23.4329,  35.9741,2,  35.9817,2,    179.9,2,   174.1,2,    1.96,2,    3.16,2,    0.15,2,    0.37,2,-999.000,9,-999.000,9,-999.000,9,  -999.0,9,  -999.0,9,   -999.0,9,  -999.00,-999.0000,9,  -999.00,-999.000,9,-999.000,9,-999.000,9, -999.00,9,  -999.0,9,  -999.0,-999.000,9,-999.000,-999.000,9,   62.68,2,    8.38,2,   60.10,-999.0000,9,-999.0000,9,-999.0000,9,-999.0000,9,-999.0000,9,-999.0000,9,  23.4204,     -999.0,9,     -999.0,9,     -999.0,9,     -999.0,9,        133,-999.000,-999.000,-999.000,     -999.0,9, -999.00,9, -999.00,9
33RO200306_02,       A16N,     133,          1,         30,         30,2,20030804,       1604,     0.6717,   -24.9973,       4520,    80.4,  18.4403,  35.9876,2,  35.9902,2,    162.2,2,   158.9,2,    3.99,2,   10.18,2,    0.03,2,    0.79,2,-999.000,9,-999.000,9,-999.000,9,  -999.0,9,  -999.0,9,   -999.0,9,  -999.00,-999.0000,9,  -999.00,-999.000,9,-999.000,9,-999.000,9, -999.00,9,  -999.0,9,  -999.0,-999.000,9,-999.000,-999.000,9, -999.00,9, -999.00,9,   80.40,-999.0000,9,-999.0000,9,-999.0000,9,-999.0000,9,-999.0000,9,-999.0000,9,  18.4262,     -999.0,9,     -999.0,9,     -999.0,9,     -999.0,9,        133,-999.000,-999.000,-999.000,     -999.0,9, -999.00,9, -999.00,9
33RO200306_02,       A16N,     133,          1,         29,         29,2,20030804,       1604,     0.6717,   -24.9973,       4520,    99.6,  17.3288,  35.8679,2,  35.8730,2,    171.3,2,   172.1,2,    4.37,2,   10.38,2,    0.02,2,    0.82,2,   2.159,2,   1.268,2,   0.079,2,  2127.5,2,  2359.2,2,    503.8,2,    20.00,   7.8868,2,    25.00,-999.000,9,-999.000,9,-999.000,9, -999.00,9,  -999.0,9,  -999.0,-999.000,9,-999.000,-999.000,9,   52.20,2,   14.31,2,   99.60,-999.0000,9,-999.0000,9,-999.0000,9,-999.0000,9,-999.0000,9,-999.0000,9,  17.3121,     -999.0,9,     -999.0,9,     -999.0,9,     -999.0,9,        133,-999.000,-999.000,-999.000,     -999.0,9, -999.00,9, -999.00,9
33RO200306_02,       A16N,     133,          1,         28,         28,2,20030804,       1604,     0.6717,   -24.9973,       4520,   123.9,  15.8886,  35.6850,2,  35.6883,2,    167.3,2,   158.5,2,    5.43,2,   13.44,2,    0.02,2,    1.00,2,-999.000,9,-999.000,9,-999.000,9,  -999.0,9,  -999.0,9,   -999.0,9,  -999.00,-999.0000,9,  -999.00,-999.000,9,-999.000,9,-999.000,9, -999.00,9,  -999.0,9,  -999.0,-999.000,9,-999.000,-999.000,9, -999.00,9, -999.00,9,  123.90,-999.0000,9,-999.0000,9,-999.0000,9,-999.0000,9,-999.0000,9,-999.0000,9,  15.8690,     -999.0,9,     -999.0,9,     -999.0,9,     -999.0,9,        133,-999.000,-999.000,-999.000,     -999.0,9, -999.00,9, -999.00,9
33RO200306_02,       A16N,     133,          1,         27,         27,2,20030804,       1604,     0.6717,   -24.9973,       4520,   149.5,  13.7796,  35.3870,2,  35.3884,2,    143.9,2,   161.3,2,    6.47,2,   15.54,2,    0.01,2,    1.13,2,-999.000,9,-999.000,9,-999.000,9,  -999.0,9,  -999.0,9,   -999.0,9,  -999.00,-999.0000,9,  -999.00,-999.000,9,-999.000,9,-999.000,9, -999.00,9,  -999.0,9,  -999.0,-999.000,9,-999.000,-999.000,9,   51.87,2,   19.20,2,  149.50,-999.0000,9,-999.0000,9,-999.0000,9,-999.0000,9,-999.0000,9,-999.0000,9,  13.7582,     -999.0,9,     -999.0,9,     -999.0,9,     -999.0,9,        133,-999.000,-999.000,-999.000,     -999.0,9, -999.00,9, -999.00,9
33RO200306_02,       A16N,     133,          1,         26,         26,2,20030804,       1604,     0.6717,   -24.9973,       4520,   174.1,  13.6659,  35.3661,2,  35.3674,2,    163.1,2,   161.4,2,    6.52,2,   15.71,2,    0.01,2,    1.14,2,-999.000,9,-999.000,9,-999.000,9,  -999.0,9,  -999.0,9,   -999.0,9,  -999.00,-999.0000,9,  -999.00,-999.000,9,-999.000,9,-999.000,9, -999.00,9,  -999.0,9,  -999.0,-999.000,9,-999.000,-999.000,9, -999.00,9, -999.00,9,  174.10,-999.0000,9,-999.0000,9,-999.0000,9,-999.0000,9,-999.0000,9,-999.0000,9,  13.6411,     -999.0,9,     -999.0,9,     -999.0,9,     -999.0,9,        133,-999.000,-999.000,-999.000,     -999.0,9, -999.00,9, -999.00,9
33RO200306_02,       A16N,     133,          1,         25,         25,2,20030804,       1604,     0.6717,   -24.9973,       4520,   199.6,  13.6315,  35.3624,2,  35.3625,2,    159.2,2,   158.3,2,    6.66,2,   16.23,2,    0.01,2,    1.16,2,   2.164,2,   1.209,2,   0.043,2,  2144.2,2,  2328.7,2,    652.8,2,    20.00,   7.7845,2,    25.00,-999.000,9,-999.000,9,-999.000,9, -999.00,9,  -999.0,9,  -999.0,-999.000,9,-999.000,-999.000,9,   48.61,2,   20.21,2,  199.60,-999.0000,9,-999.0000,9,-999.0000,9,-999.0000,9,-999.0000,9,-999.0000,9,  13.6031,     -999.0,9,     -999.0,9,     -999.0,9,     -999.0,9,        133,-999.000,-999.000,-999.000,     -999.0,9, -999.00,9, -999.00,9
33RO200306_02,       A16N,     133,          1,         24,         24,2,20030804,       1604,     0.6717,   -24.9973,       4520,   249.3,  12.5205,  35.2126,2,  35.2130,2,    101.0,2,   101.4,2,    9.39,2,   24.31,2,    0.01,2,    1.59,2,-999.000,9,-999.000,9,-999.000,9,  -999.0,9,  -999.0,9,   -999.0,9,  -999.00,-999.0000,9,  -999.00,-999.000,9,-999.000,9,-999.000,9, -999.00,9,  -999.0,9,  -999.0,-999.000,9,-999.000,-999.000,9,   46.91,2,   28.95,2,  249.30,-999.0000,9,-999.0000,9,-999.0000,9,-999.0000,9,-999.0000,9,-999.0000,9,  12.4869,     -999.0,9,     -999.0,9,     -999.0,9,     -999.0,9,        133,-999.000,-999.000,-999.000,     -999.0,9, -999.00,9, -999.00,9
33RO200306_02,       A16N,     133,          1,         23,         23,2,20030804,       1604,     0.6717,   -24.9973,       4520,   299.0,  11.0074,  35.0322,2,  35.0294,2,    100.4,2,   102.7,2,   11.59,2,   27.04,2,    0.01,2,    1.74,2,-999.000,9,-999.000,9,-999.000,9,  -999.0,9,  -999.0,9,   -999.0,9,  -999.00,-999.0000,9,  -999.00,-999.000,9,-999.000,9,-999.000,9, -999.00,9,  -999.0,9,  -999.0,-999.000,9,-999.000,-999.000,9,   43.00,2,   30.39,2,  299.00,-999.0000,9,-999.0000,9,-999.0000,9,-999.0000,9,-999.0000,9,-999.0000,9,  10.9703,     -999.0,9,     -999.0,9,     -999.0,9,     -999.0,9,        133,-999.000,-999.000,-999.000,     -999.0,9, -999.00,9, -999.00,9
33RO200306_02,       A16N,     133,          1,         22,         22,2,20030804,       1604,     0.6717,   -24.9973,       4520,   349.8,   9.4373,  34.8530,2,  34.8508,2,    109.1,2,   114.7,2,   13.99,2,   28.90,2,    0.00,2,    1.87,2,-999.000,9,-999.000,9,-999.000,9,  -999.0,9,  -999.0,9,   -999.0,9,  -999.00,-999.0000,9,  -999.00,-999.000,9,-999.000,9,-999.000,9, -999.00,9,  -999.0,9,  -999.0,-999.000,9,-999.000,-999.000,9,   42.52,2,   32.13,2,  349.80,-999.0000,9,-999.0000,9,-999.0000,9,-999.0000,9,-999.0000,9,-999.0000,9,   9.3979,     -999.0,9,     -999.0,9,     -999.0,9,     -999.0,9,        133,-999.000,-999.000,-999.000,     -999.0,9, -999.00,9, -999.00,9
33RO200306_02,       A16N,     133,          1,         21,         21,2,20030804,       1604,     0.6717,   -24.9973,       4520,   399.6,   8.0905,  34.7162,2,  34.7180,2,    124.1,2,   112.3,2,   17.20,2,   31.92,2,    0.01,2,    2.06,2,   0.788,2,   0.417,2,   0.011,2,  2207.1,2,  2299.7,2,   -999.0,9,  -999.00,   7.5698,2,    25.00,-999.000,9,-999.000,9,-999.000,9, -999.00,9,  -999.0,9,  -999.0,-999.000,9,-999.000,-999.000,9,   42.76,2,   35.52,2,  399.60,-999.0000,9,-999.0000,9,-999.0000,9,-999.0000,9,-999.0000,9,-999.0000,9,   8.0494,     -999.0,9,     -999.0,9,     -999.0,9,     -999.0,9,        133,-999.000,-999.000,-999.000,     -999.0,9, -999.00,9, -999.00,9
33RO200306_02,       A16N,     133,          1,         20,         20,2,20030804,       1604,     0.6717,   -24.9973,       4520,   445.2,   7.4949,  34.6600,2,  34.6599,2,    121.9,2,   122.7,2,   18.67,2,   32.24,2,    0.00,2,    2.10,2,-999.000,9,-999.000,9,-999.000,9,  -999.0,9,  -999.0,9,   -999.0,9,  -999.00,-999.0000,9,  -999.00,-999.000,9,-999.000,9,-999.000,9, -999.00,9,  -999.0,9,  -999.0,-999.000,9,-999.000,-999.000,9,   41.95,2,   35.71,2,  445.20,-999.0000,9,-999.0000,9,-999.0000,9,-999.0000,9,-999.0000,9,-999.0000,9,   7.4510,     -999.0,9,     -999.0,9,     -999.0,9,     -999.0,9,        133,-999.000,-999.000,-999.000,     -999.0,9, -999.00,9, -999.00,9
33RO200306_02,       A16N,     133,          1,         19,         19,2,20030804,       1604,     0.6717,   -24.9973,       4520,   499.4,   6.9934,  34.6155,2,  34.6178,2,    130.6,2,   128.9,2,   20.05,2,   32.42,2,    0.00,2,    2.13,2,-999.000,9,-999.000,9,-999.000,9,  -999.0,9,  -999.0,9,   -999.0,9,  -999.00,-999.0000,9,  -999.00,-999.000,9,-999.000,9,-999.000,9, -999.00,9,  -999.0,9,  -999.0,-999.000,9,-999.000,-999.000,9,   41.81,2,   36.31,2,  499.40,-999.0000,9,-999.0000,9,-999.0000,9,-999.0000,9,-999.0000,9,-999.0000,9,   6.9459,     -999.0,9,     -999.0,9,     -999.0,9,     -999.0,9,        133,-999.000,-999.000,-999.000,     -999.0,9, -999.00,9, -999.00,9
33RO200306_02,       A16N,     133,          1,         18,         18,2,20030804,       1604,     0.6717,   -24.9973,       4520,   599.6,   6.0759,  34.5452,2,  34.5462,2,    137.0,2,   139.1,2,   23.49,2,   33.47,2,    0.01,2,    2.22,2,   0.452,2,   0.239,2,   0.011,2,  2207.7,2,  2299.0,2,   1157.3,2,    20.00,   7.5641,2,    25.00,-999.000,9,-999.000,9,-999.000,9, -999.00,9,  -999.0,9,  -999.0,-999.000,9,-999.000,-999.000,9,   41.63,2,   36.58,2,  599.60,-999.0000,9,-999.0000,9,-999.0000,9,-999.0000,9,-999.0000,9,-999.0000,9,   6.0227,     -999.0,9,     -999.0,9,     -999.0,9,     -999.0,9,        133,-999.000,-999.000,-999.000,     -999.0,9, -999.00,9, -999.00,9
33RO200306_02,       A16N,     133,          1,         17,         17,2,20030804,       1604,     0.6717,   -24.9973,       4520,   699.8,   5.5210,  34.5140,2,  34.5140,2,    143.4,2,   143.7,2,   26.21,2,   34.09,2,    0.00,2,    2.28,2,-999.000,9,-999.000,9,-999.000,9,  -999.0,9,  -999.0,9,   -999.0,9,  -999.00,-999.0000,9,  -999.00,-999.000,9,-999.000,9,-999.000,9, -999.00,9,  -999.0,9,  -999.0,-999.000,9,-999.000,-999.000,9,   40.65,2,   37.56,2,  699.80,-999.0000,9,-999.0000,9,-999.0000,9,-999.0000,9,-999.0000,9,-999.0000,9,   5.4614,     -999.0,9,     -999.0,9,     -999.0,9,     -999.0,9,        133,-999.000,-999.000,-999.000,     -999.0,9, -999.00,9, -999.00,9
33RO200306_02,       A16N,     133,          1,         16,         16,2,20030804,       1604,     0.6717,   -24.9973,       4520,   799.4,   4.8923,  34.5116,2,  34.5127,2,    148.9,2,   146.6,2,   29.74,2,   34.33,2,    0.00,2,    2.32,2,   0.159,2,   0.088,2,   0.003,2,  2215.6,2,  2304.7,2,   1168.9,2,    20.00,   7.5596,2,    25.00,-999.000,9,-999.000,9,-999.000,9, -999.00,9,  -999.0,9,  -999.0,-999.000,9,-999.000,-999.000,9,   39.59,2,   39.62,2,  799.40,-999.0000,9,-999.0000,9,-999.0000,9,-999.0000,9,-999.0000,9,-999.0000,9,   4.8275,     -999.0,9,     -999.0,9,     -999.0,9,     -999.0,9,        133,-999.000,-999.000,-999.000,     -999.0,9, -999.00,9, -999.00,9
33RO200306_02,       A16N,     133,          1,         15,         15,2,20030804,       1604,     0.6717,   -24.9973,       4520,   898.9,   4.6094,  34.5553,2,  34.5576,2,    154.2,2,   154.1,2,   31.13,2,   33.71,2,    0.00,2,    2.29,2,-999.000,9,-999.000,9,-999.000,9,  -999.0,9,  -999.0,9,   -999.0,9,  -999.00,-999.0000,9,  -999.00,-999.000,9,-999.000,9,-999.000,9, -999.00,9,  -999.0,9,  -999.0,-999.000,9,-999.000,-999.000,9,   39.59,2,   38.34,2,  898.90,-999.0000,9,-999.0000,9,-999.0000,9,-999.0000,9,-999.0000,9,-999.0000,9,   4.5378,     -999.0,9,     -999.0,9,     -999.0,9,     -999.0,9,        133,-999.000,-999.000,-999.000,     -999.0,9, -999.00,9, -999.00,9
33RO200306_02,       A16N,     133,          1,         14,         14,2,20030804,       1604,     0.6717,   -24.9973,       4520,   999.5,   4.5902,  34.6400,2,  34.6424,2,    158.3,2,   157.0,2,   30.03,2,   32.42,2,    0.00,2,    2.21,2,-999.000,9,-999.000,9,-999.000,9,  -999.0,9,  -999.0,9,   -999.0,9,  -999.00,-999.0000,9,  -999.00,-999.000,9,-999.000,9,-999.000,9, -999.00,9,  -999.0,9,  -999.0,-999.000,9,-999.000,-999.000,9,   40.24,2,   35.60,2,  999.50,-999.0000,9,-999.0000,9,-999.0000,9,-999.0000,9,-999.0000,9,-999.0000,9,   4.5098,     -999.0,9,     -999.0,9,     -999.0,9,     -999.0,9,        133,-999.000,-999.000,-999.000,     -999.0,9, -999.00,9, -999.00,9
33RO200306_02,       A16N,     133,          1,         13,         13,2,20030804,       1604,     0.6717,   -24.9973,       4520,  1100.2,   4.5621,  34.7138,2,  34.7141,2,    165.0,2,   162.1,2,   28.47,2,   30.87,2,    0.00,2,    2.10,2,-999.000,9,-999.000,9,-999.000,9,  -999.0,9,  -999.0,9,   -999.0,9,  -999.00,-999.0000,9,  -999.00,-999.000,9,-999.000,9,-999.000,9, -999.00,9,  -999.0,9,  -999.0,-999.000,9,-999.000,-999.000,9, -999.00,9, -999.00,9, 1100.20,-999.0000,9,-999.0000,9,-999.0000,9,-999.0000,9,-999.0000,9,-999.0000,9,   4.4729,     -999.0,9,     -999.0,9,     -999.0,9,     -999.0,9,        133,-999.000,-999.000,-999.000,     -999.0,9, -999.00,9, -999.00,9
33RO200306_02,       A16N,     133,          1,         12,         12,2,20030804,       1604,     0.6717,   -24.9973,       4520,  1200.0,   4.5464,  34.7964,2,  34.7965,2,    177.9,2,   175.5,2,   25.85,2,   28.58,2,    0.00,2,    1.94,2,-999.000,9,-999.000,9,-999.000,9,  -999.0,9,  -999.0,9,   -999.0,9,  -999.00,-999.0000,9,  -999.00,-999.000,9,-999.000,9,-999.000,9, -999.00,9,  -999.0,9,  -999.0,-999.000,9,-999.000,-999.000,9, -999.00,9, -999.00,9, 1200.00,-999.0000,9,-999.0000,9,-999.0000,9,-999.0000,9,-999.0000,9,-999.0000,9,   4.4482,     -999.0,9,     -999.0,9,     -999.0,9,     -999.0,9,        133,-999.000,-999.000,-999.000,     -999.0,9, -999.00,9, -999.00,9
33RO200306_02,       A16N,     133,          1,         11,         11,2,20030804,       1604,     0.6717,   -24.9973,       4520,  1400.3,   4.4493,  34.9372,2,  34.9389,2,    210.5,2,   208.7,2,   19.76,2,   23.46,2,    0.00,2,    1.58,2,-999.000,9,-999.000,9,-999.000,9,  -999.0,9,  -999.0,9,   -999.0,9,  -999.00,-999.0000,9,  -999.00,-999.000,9,-999.000,9,-999.000,9, -999.00,9,  -999.0,9,  -999.0,-999.000,9,-999.000,-999.000,9,   40.81,2,   27.20,2, 1400.30,-999.0000,9,-999.0000,9,-999.0000,9,-999.0000,9,-999.0000,9,-999.0000,9,   4.3334,     -999.0,9,     -999.0,9,     -999.0,9,     -999.0,9,        133,-999.000,-999.000,-999.000,     -999.0,9, -999.00,9, -999.00,9
33RO200306_02,       A16N,     133,          1,         10,         10,2,20030804,       1604,     0.6717,   -24.9973,       4520,  1598.7,   4.1601,  34.9733,2,  34.9795,3,    232.5,2,   235.0,2,   17.77,2,   21.04,2,    0.00,2,    1.42,2,-999.000,9,-999.000,9,-999.000,9,  -999.0,9,  -999.0,9,   -999.0,9,  -999.00,-999.0000,9,  -999.00,-999.000,9,-999.000,9,-999.000,9, -999.00,9,  -999.0,9,  -999.0,-999.000,9,-999.000,-999.000,9, -999.00,9, -999.00,9, 1598.70,-999.0000,9,-999.0000,9,-999.0000,9,-999.0000,9,-999.0000,9,-999.0000,9,   4.0289,     -999.0,9,     -999.0,9,     -999.0,9,     -999.0,9,        133,-999.000,-999.000,-999.000,     -999.0,9, -999.00,9, -999.00,9
33RO200306_02,       A16N,     133,          1,          9,          9,2,20030804,       1604,     0.6717,   -24.9973,       4520,  1799.0,   3.9437,  34.9776,2,  34.9782,2,    239.7,2,   243.3,2,   17.81,2,   20.19,2,    0.00,2,    1.36,2,-999.000,9,-999.000,9,-999.000,9,  -999.0,9,  -999.0,9,   -999.0,9,  -999.00,-999.0000,9,  -999.00,-999.000,9,-999.000,9,-999.000,9, -999.00,9,  -999.0,9,  -999.0,-999.000,9,-999.000,-999.000,9, -999.00,9, -999.00,9, 1799.00,-999.0000,9,-999.0000,9,-999.0000,9,-999.0000,9,-999.0000,9,-999.0000,9,   3.7963,     -999.0,9,     -999.0,9,     -999.0,9,     -999.0,9,        133,-999.000,-999.000,-999.000,     -999.0,9, -999.00,9, -999.00,9
33RO200306_02,       A16N,     133,          1,          8,          8,2,20030804,       1604,     0.6717,   -24.9973,       4520,  1999.2,   3.7122,  34.9764,2,  34.9768,2,    246.8,2,   251.9,2,   18.00,2,   19.47,2,    0.00,2,    1.31,2,-999.000,9,-999.000,9,-999.000,9,  -999.0,9,  -999.0,9,   -999.0,9,  -999.00,-999.0000,9,  -999.00,-999.000,9,-999.000,9,-999.000,9, -999.00,9,  -999.0,9,  -999.0,-999.000,9,-999.000,-999.000,9, -999.00,9, -999.00,9, 1999.20,-999.0000,9,-999.0000,9,-999.0000,9,-999.0000,9,-999.0000,9,-999.0000,9,   3.5490,     -999.0,9,     -999.0,9,     -999.0,9,     -999.0,9,        133,-999.000,-999.000,-999.000,     -999.0,9, -999.00,9, -999.00,9