BOTTLE,20230908CCHSIOCBG
EXPOCODE,SECT_ID,STNNBR,CASTNO,SAMPNO,BTLNBR,BTLNBR_FLAG_W,DATE,TIME,LATITUDE,LONGITUDE,DEPTH,CTDPRS,CTDTMP,CTDSAL,CTDSAL_FLAG_W,SALNTY,SALNTY_FLAG_W,CTDOXY,CTDOXY_FLAG_W,OXYGEN,OXYGEN_FLAG_W,SILCAT,SILCAT_FLAG_W,NITRAT,NITRAT_FLAG_W,NITRIT,NITRIT_FLAG_W,PHSPHT,PHSPHT_FLAG_W,CFC-11,CFC-11_FLAG_W,CFC-12,CFC-12_FLAG_W,CFC113,CFC113_FLAG_W,TCARBN,TCARBN_FLAG_W,ALKALI,ALKALI_FLAG_W,FCO2,FCO2_FLAG_W,FCO2TMP,PH_SWS,PH_SWS_FLAG_W,PH_TMP,TRITUM,TRITUM_FLAG_W,HELIUM,HELIUM_FLAG_W,DELHE3,DELHE3_FLAG_W,DELC13,DELC13_FLAG_W,DELC14,DELC14_FLAG_W,C14ERR,NEON,NEON_FLAG_W,NEONER,POC,POC_FLAG_W,DOC,DOC_FLAG_W,TDN,TDN_FLAG_W,CTDRAW,CDOM325,CDOM325_FLAG_W,CDOM340,CDOM340_FLAG_W,CDOM380,CDOM380_FLAG_W,CDOM412,CDOM412_FLAG_W,CDOMSL,CDOMSL_FLAG_W,CDOMSN,CDOMSN_FLAG_W,THETA,PON,PON_FLAG_W,HCFC-22,HCFC-22_FLAG_W,HCFC-142b,HCFC-142b_FLAG_W,HCFC-141b,HCFC-141b_FLAG_W,STNNBR_U,HELIER,DELHER,TRITER,CH3CL,CH3CL_FLAG_W,CH3BR,CH3BR_FLAG_W,CH3I,CH3I_FLAG_W
,,,,,,,,,,,METERS,DBAR,ITS-90,PSS-78,,PSS-78,,UMOL/KG,,UMOL/KG,,UMOL/KG,,UMOL/KG,,UMOL/KG,,UMOL/KG,,PMOL/KG,,PMOL/KG,,PMOL/KG,,UMOL/KG,,UMOL/KG,,UATM,,DEG C,,,DEG C,TU,,NMOL/KG,,PERCNT,,/MILLE,,/MILLE,,/MILLE,NMOL/KG,,NMOL/KG,UG/KG,,UMOL/KG,,UMOL/KG,,DBAR,1/M,,1/M,,1/M,,1/M,,1/NM,,1/NM,,DEG C,UMOL/L,,PMOL/KG,,PMOL/KG,,PMOL/KG,,,NMOL/KG,PERCNT,TU,PMOL/KG,,PMOL/KG,,PMOL/KG,
33RO200306_02,       A16N,     117,          1,         35,         35,2,20030731,       0752,     7.5008,   -27.2505,       4638,     3.5,  27.6606,  35.2381,2,  35.2477,2,    195.4,2,   204.2,2,    0.82,2,    0.17,2,    0.00,2,    0.04,2,   1.637,2,   1.057,2,   0.141,2,  1953.3,6,  2304.8,6,   -999.0,9,  -999.00,   8.1382,6,    25.00,-999.000,9,-999.000,9,-999.000,9,    1.71,2,    64.3,2,     4.2,-999.000,9,-999.000,-999.000,9, -999.00,9, -999.00,9,    3.50,-999.0000,9,-999.0000,9,-999.0000,9,-999.0000,9,-999.0000,9,-999.0000,9,  27.6598,     -999.0,9,     -999.0,9,     -999.0,9,     -999.0,9,        117,-999.000,-999.000,-999.000,     -999.0,9, -999.00,9, -999.00,9
33RO200306_02,       A16N,     117,          1,         33,         33,2,20030731,       0752,     7.5008,   -27.2505,       4638,    20.0,  27.6651,  35.2387,2,  35.2479,2,    194.9,2,   202.0,2,    0.81,2,    0.18,2,    0.00,2,    0.04,2,-999.000,9,-999.000,9,-999.000,9,  -999.0,9,  -999.0,9,   -999.0,9,  -999.00,-999.0000,9,  -999.00,-999.000,9,-999.000,9,-999.000,9, -999.00,9,  -999.0,9,  -999.0,-999.000,9,-999.000,-999.000,9, -999.00,9, -999.00,9,   20.00,-999.0000,9,-999.0000,9,-999.0000,9,-999.0000,9,-999.0000,9,-999.0000,9,  27.6604,     -999.0,9,     -999.0,9,     -999.0,9,     -999.0,9,        117,-999.000,-999.000,-999.000,     -999.0,9, -999.00,9, -999.00,9
33RO200306_02,       A16N,     117,          1,         32,         32,2,20030731,       0752,     7.5008,   -27.2505,       4638,    39.8,  27.8866,  35.7615,2,  35.9008,3,    199.5,2,   207.7,2,    0.94,2,    0.25,2,    0.01,2,    0.06,2,-999.000,9,-999.000,9,-999.000,9,  -999.0,9,  -999.0,9,   -999.0,9,  -999.00,-999.0000,9,  -999.00,-999.000,9,-999.000,9,-999.000,9, -999.00,9,  -999.0,9,  -999.0,-999.000,9,-999.000,-999.000,9, -999.00,9, -999.00,9,   39.80,-999.0000,9,-999.0000,9,-999.0000,9,-999.0000,9,-999.0000,9,-999.0000,9,  27.8772,     -999.0,9,     -999.0,9,     -999.0,9,     -999.0,9,        117,-999.000,-999.000,-999.000,     -999.0,9, -999.00,9, -999.00,9
33RO200306_02,       A16N,     117,          1,         31,         31,2,20030731,       0752,     7.5008,   -27.2505,       4638,    60.5,  21.5901,  35.9849,2,  35.9779,2,    169.4,2,   157.6,2,    3.02,2,    5.03,2,    0.45,2,    0.45,2,-999.000,9,-999.000,9,-999.000,9,  -999.0,9,  -999.0,9,   -999.0,9,  -999.00,-999.0000,9,  -999.00,-999.000,9,-999.000,9,-999.000,9, -999.00,9,  -999.0,9,  -999.0,-999.000,9,-999.000,-999.000,9, -999.00,9, -999.00,9,   60.50,-999.0000,9,-999.0000,9,-999.0000,9,-999.0000,9,-999.0000,9,-999.0000,9,  21.5783,     -999.0,9,     -999.0,9,     -999.0,9,     -999.0,9,        117,-999.000,-999.000,-999.000,     -999.0,9, -999.00,9, -999.00,9
33RO200306_02,       A16N,     117,          1,         30,         30,2,20030731,       0752,     7.5008,   -27.2505,       4638,    79.9,  17.7688,  35.7434,2,  35.7111,2,    132.4,2,   120.6,2,    5.47,2,   16.30,2,    0.09,2,    1.08,2,-999.000,9,-999.000,9,-999.000,9,  -999.0,9,  -999.0,9,   -999.0,9,  -999.00,-999.0000,9,  -999.00,-999.000,9,-999.000,9,-999.000,9, -999.00,9,  -999.0,9,  -999.0,-999.000,9,-999.000,-999.000,9, -999.00,9, -999.00,9,   79.90,-999.0000,9,-999.0000,9,-999.0000,9,-999.0000,9,-999.0000,9,-999.0000,9,  17.7552,     -999.0,9,     -999.0,9,     -999.0,9,     -999.0,9,        117,-999.000,-999.000,-999.000,     -999.0,9, -999.00,9, -999.00,9
33RO200306_02,       A16N,     117,          1,         29,         29,2,20030731,       0752,     7.5008,   -27.2505,       4638,   100.5,  15.2428,  35.5484,2,  35.5307,2,    119.0,2,   132.5,2,    7.29,2,   20.19,2,    0.02,2,    1.34,2,-999.000,9,-999.000,9,-999.000,9,  -999.0,9,  -999.0,9,   -999.0,9,  -999.00,-999.0000,9,  -999.00,-999.000,9,-999.000,9,-999.000,9, -999.00,9,  -999.0,9,  -999.0,-999.000,9,-999.000,-999.000,9, -999.00,9, -999.00,9,  100.50,-999.0000,9,-999.0000,9,-999.0000,9,-999.0000,9,-999.0000,9,-999.0000,9,  15.2274,     -999.0,9,     -999.0,9,     -999.0,9,     -999.0,9,        117,-999.000,-999.000,-999.000,     -999.0,9, -999.00,9, -999.00,9
33RO200306_02,       A16N,     117,          1,         28,         28,2,20030731,       0752,     7.5008,   -27.2505,       4638,   124.7,  13.8427,  35.3947,2,  35.3940,2,    128.3,2,   126.2,2,    7.27,2,   20.20,2,    0.02,2,    1.34,2,-999.000,9,-999.000,9,-999.000,9,  -999.0,9,  -999.0,9,   -999.0,9,  -999.00,-999.0000,9,  -999.00,-999.000,9,-999.000,9,-999.000,9, -999.00,9,  -999.0,9,  -999.0,-999.000,9,-999.000,-999.000,9, -999.00,9, -999.00,9,  124.70,-999.0000,9,-999.0000,9,-999.0000,9,-999.0000,9,-999.0000,9,-999.0000,9,  13.8248,     -999.0,9,     -999.0,9,     -999.0,9,     -999.0,9,        117,-999.000,-999.000,-999.000,     -999.0,9, -999.00,9, -999.00,9
33RO200306_02,       A16N,     117,          1,         27,         27,2,20030731,       0752,     7.5008,   -27.2505,       4638,   150.8,  12.8793,  35.2714,2,  35.2710,2,    110.5,2,   118.3,2,    8.25,2,   21.95,2,    0.01,2,    1.45,2,-999.000,9,-999.000,9,-999.000,9,  -999.0,9,  -999.0,9,   -999.0,9,  -999.00,-999.0000,9,  -999.00,-999.000,9,-999.000,9,-999.000,9, -999.00,9,  -999.0,9,  -999.0,-999.000,9,-999.000,-999.000,9, -999.00,9, -999.00,9,  150.80,-999.0000,9,-999.0000,9,-999.0000,9,-999.0000,9,-999.0000,9,-999.0000,9,  12.8587,     -999.0,9,     -999.0,9,     -999.0,9,     -999.0,9,        117,-999.000,-999.000,-999.000,     -999.0,9, -999.00,9, -999.00,9
33RO200306_02,       A16N,     117,          1,         26,         26,2,20030731,       0752,     7.5008,   -27.2505,       4638,   174.9,  12.5120,  35.2236,2,  35.2194,2,    123.4,2,   128.2,2,    8.52,2,   21.48,2,    0.01,2,    1.43,2,-999.000,9,-999.000,9,-999.000,9,  -999.0,9,  -999.0,9,   -999.0,9,  -999.00,-999.0000,9,  -999.00,-999.000,9,-999.000,9,-999.000,9, -999.00,9,  -999.0,9,  -999.0,-999.000,9,-999.000,-999.000,9, -999.00,9, -999.00,9,  174.90,-999.0000,9,-999.0000,9,-999.0000,9,-999.0000,9,-999.0000,9,-999.0000,9,  12.4885,     -999.0,9,     -999.0,9,     -999.0,9,     -999.0,9,        117,-999.000,-999.000,-999.000,     -999.0,9, -999.00,9, -999.00,9
33RO200306_02,       A16N,     117,          1,         25,         25,2,20030731,       0752,     7.5008,   -27.2505,       4638,   199.9,  12.2904,  35.2020,2,  35.2031,2,    119.1,2,   112.0,2,    9.19,2,   23.57,2,    0.01,2,    1.54,2,-999.000,9,-999.000,9,-999.000,9,  -999.0,9,  -999.0,9,   -999.0,9,  -999.00,-999.0000,9,  -999.00,-999.000,9,-999.000,9,-999.000,9, -999.00,9,  -999.0,9,  -999.0,-999.000,9,-999.000,-999.000,9, -999.00,9, -999.00,9,  199.90,-999.0000,9,-999.0000,9,-999.0000,9,-999.0000,9,-999.0000,9,-999.0000,9,  12.2638,     -999.0,9,     -999.0,9,     -999.0,9,     -999.0,9,        117,-999.000,-999.000,-999.000,     -999.0,9, -999.00,9, -999.00,9
33RO200306_02,       A16N,     117,          1,         24,         24,2,20030731,       0752,     7.5008,   -27.2505,       4638,   225.7,  11.8782,  35.1536,2,  35.1578,2,    114.0,2,   109.6,2,    9.89,2,   24.80,2,    0.01,2,    1.60,2,-999.000,9,-999.000,9,-999.000,9,  -999.0,9,  -999.0,9,   -999.0,9,  -999.00,-999.0000,9,  -999.00,-999.000,9,-999.000,9,-999.000,9, -999.00,9,  -999.0,9,  -999.0,-999.000,9,-999.000,-999.000,9, -999.00,9, -999.00,9,  225.70,-999.0000,9,-999.0000,9,-999.0000,9,-999.0000,9,-999.0000,9,-999.0000,9,  11.8489,     -999.0,9,     -999.0,9,     -999.0,9,     -999.0,9,        117,-999.000,-999.000,-999.000,     -999.0,9, -999.00,9, -999.00,9
33RO200306_02,       A16N,     117,          1,         23,         23,2,20030731,       0752,     7.5008,   -27.2505,       4638,   250.2,  11.6227,  35.1473,2,  35.1424,2,     81.3,2,    83.5,2,   11.05,2,   27.99,2,    0.01,2,    1.76,2,-999.000,9,-999.000,9,-999.000,9,  -999.0,9,  -999.0,9,   -999.0,9,  -999.00,-999.0000,9,  -999.00,-999.000,9,-999.000,9,-999.000,9, -999.00,9,  -999.0,9,  -999.0,-999.000,9,-999.000,-999.000,9, -999.00,9, -999.00,9,  250.20,-999.0000,9,-999.0000,9,-999.0000,9,-999.0000,9,-999.0000,9,-999.0000,9,  11.5906,     -999.0,9,     -999.0,9,     -999.0,9,     -999.0,9,        117,-999.000,-999.000,-999.000,     -999.0,9, -999.00,9, -999.00,9
33RO200306_02,       A16N,     117,          1,         22,         22,2,20030731,       0752,     7.5008,   -27.2505,       4638,   300.6,  10.9430,  35.1050,2,  35.1030,2,     64.4,2,    59.9,2,   12.78,2,   31.48,2,    0.01,2,    1.94,2,-999.000,9,-999.000,9,-999.000,9,  -999.0,9,  -999.0,9,   -999.0,9,  -999.00,-999.0000,9,  -999.00,-999.000,9,-999.000,9,-999.000,9, -999.00,9,  -999.0,9,  -999.0,-999.000,9,-999.000,-999.000,9, -999.00,9, -999.00,9,  300.60,-999.0000,9,-999.0000,9,-999.0000,9,-999.0000,9,-999.0000,9,-999.0000,9,  10.9058,     -999.0,9,     -999.0,9,     -999.0,9,     -999.0,9,        117,-999.000,-999.000,-999.000,     -999.0,9, -999.00,9, -999.00,9
33RO200306_02,       A16N,     117,          1,         21,         21,2,20030731,       0752,     7.5008,   -27.2505,       4638,   349.9,  10.1029,  35.0158,2,  35.0157,2,     61.3,2,    60.3,2,   14.50,2,   33.41,2,    0.00,2,    2.04,2,-999.000,9,-999.000,9,-999.000,9,  -999.0,9,  -999.0,9,   -999.0,9,  -999.00,-999.0000,9,  -999.00,-999.000,9,-999.000,9,-999.000,9, -999.00,9,  -999.0,9,  -999.0,-999.000,9,-999.000,-999.000,9, -999.00,9, -999.00,9,  349.90,-999.0000,9,-999.0000,9,-999.0000,9,-999.0000,9,-999.0000,9,-999.0000,9,  10.0617,     -999.0,9,     -999.0,9,     -999.0,9,     -999.0,9,        117,-999.000,-999.000,-999.000,     -999.0,9, -999.00,9, -999.00,9
33RO200306_02,       A16N,     117,          1,         20,         20,2,20030731,       0752,     7.5008,   -27.2505,       4638,   400.1,   9.3574,  34.9523,2,  34.9497,2,     60.7,2,    58.4,2,   16.20,2,   35.09,2,    0.00,2,    2.16,2,-999.000,9,-999.000,9,-999.000,9,  -999.0,9,  -999.0,9,   -999.0,9,  -999.00,-999.0000,9,  -999.00,-999.000,9,-999.000,9,-999.000,9, -999.00,9,  -999.0,9,  -999.0,-999.000,9,-999.000,-999.000,9, -999.00,9, -999.00,9,  400.10,-999.0000,9,-999.0000,9,-999.0000,9,-999.0000,9,-999.0000,9,-999.0000,9,   9.3124,     -999.0,9,     -999.0,9,     -999.0,9,     -999.0,9,        117,-999.000,-999.000,-999.000,     -999.0,9, -999.00,9, -999.00,9
33RO200306_02,       A16N,     117,          1,         19,         19,2,20030731,       0752,     7.5008,   -27.2505,       4638,   449.6,   8.7199,  34.8919,2,  34.8902,2,     62.1,2,    64.6,2,   17.67,2,   35.81,2,    0.00,2,    2.21,2,-999.000,9,-999.000,9,-999.000,9,  -999.0,9,  -999.0,9,   -999.0,9,  -999.00,-999.0000,9,  -999.00,-999.000,9,-999.000,9,-999.000,9, -999.00,9,  -999.0,9,  -999.0,-999.000,9,-999.000,-999.000,9, -999.00,9, -999.00,9,  449.60,-999.0000,9,-999.0000,9,-999.0000,9,-999.0000,9,-999.0000,9,-999.0000,9,   8.6713,     -999.0,9,     -999.0,9,     -999.0,9,     -999.0,9,        117,-999.000,-999.000,-999.000,     -999.0,9, -999.00,9, -999.00,9
33RO200306_02,       A16N,     117,          1,         18,         18,2,20030731,       0752,     7.5008,   -27.2505,       4638,   500.5,   8.1047,  34.8184,2,  34.8087,2,     69.0,2,    73.4,2,   19.25,2,   36.18,2,    0.00,2,    2.26,2,-999.000,9,-999.000,9,-999.000,9,  -999.0,9,  -999.0,9,   -999.0,9,  -999.00,-999.0000,9,  -999.00,-999.000,9,-999.000,9,-999.000,9, -999.00,9,  -999.0,9,  -999.0,-999.000,9,-999.000,-999.000,9, -999.00,9, -999.00,9,  500.50,-999.0000,9,-999.0000,9,-999.0000,9,-999.0000,9,-999.0000,9,-999.0000,9,   8.0528,     -999.0,9,     -999.0,9,     -999.0,9,     -999.0,9,        117,-999.000,-999.000,-999.000,     -999.0,9, -999.00,9, -999.00,9
33RO200306_02,       A16N,     117,          1,         17,         17,2,20030731,       0752,     7.5008,   -27.2505,       4638,   600.0,   7.0946,  34.7286,2,  34.7277,2,     82.0,2,    83.6,2,   21.89,2,   36.83,2,    0.00,2,    2.35,2,-999.000,9,-999.000,9,-999.000,9,  -999.0,9,  -999.0,9,   -999.0,9,  -999.00,-999.0000,9,  -999.00,-999.000,9,-999.000,9,-999.000,9, -999.00,9,  -999.0,9,  -999.0,-999.000,9,-999.000,-999.000,9, -999.00,9, -999.00,9,  600.00,-999.0000,9,-999.0000,9,-999.0000,9,-999.0000,9,-999.0000,9,-999.0000,9,   7.0366,     -999.0,9,     -999.0,9,     -999.0,9,     -999.0,9,        117,-999.000,-999.000,-999.000,     -999.0,9, -999.00,9, -999.00,9
33RO200306_02,       A16N,     117,          1,         16,         16,2,20030731,       0752,     7.5008,   -27.2505,       4638,   700.7,   6.0979,  34.6331,2,  34.6301,2,    109.9,2,   110.9,2,   25.18,2,   36.14,2,    0.00,2,    2.36,2,-999.000,9,-999.000,9,-999.000,9,  -999.0,9,  -999.0,9,   -999.0,9,  -999.00,-999.0000,9,  -999.00,-999.000,9,-999.000,9,-999.000,9, -999.00,9,  -999.0,9,  -999.0,-999.000,9,-999.000,-999.000,9, -999.00,9, -999.00,9,  700.70,-999.0000,9,-999.0000,9,-999.0000,9,-999.0000,9,-999.0000,9,-999.0000,9,   6.0350,     -999.0,9,     -999.0,9,     -999.0,9,     -999.0,9,        117,-999.000,-999.000,-999.000,     -999.0,9, -999.00,9, -999.00,9
33RO200306_02,       A16N,     117,          1,         15,         15,2,20030731,       0752,     7.5008,   -27.2505,       4638,   800.5,   5.6162,  34.6177,2,  34.6151,2,    120.4,2,   118.5,2,   27.35,2,   35.97,2,    0.00,2,    2.37,2,-999.000,9,-999.000,9,-999.000,9,  -999.0,9,  -999.0,9,   -999.0,9,  -999.00,-999.0000,9,  -999.00,-999.000,9,-999.000,9,-999.000,9, -999.00,9,  -999.0,9,  -999.0,-999.000,9,-999.000,-999.000,9, -999.00,9, -999.00,9,  800.50,-999.0000,9,-999.0000,9,-999.0000,9,-999.0000,9,-999.0000,9,-999.0000,9,   5.5468,     -999.0,9,     -999.0,9,     -999.0,9,     -999.0,9,        117,-999.000,-999.000,-999.000,     -999.0,9, -999.00,9, -999.00,9
33RO200306_02,       A16N,     117,          1,         14,         14,2,20030731,       0752,     7.5008,   -27.2505,       4638,   900.0,   5.1957,  34.6321,2,  34.6341,2,    124.9,2,   127.1,2,   28.65,2,   35.17,2,    0.00,2,    2.35,2,   0.028,2,   0.016,2,   0.001,2,  -999.0,9,  -999.0,9,   -999.0,9,  -999.00,-999.0000,9,  -999.00,-999.000,9,-999.000,9,-999.000,9, -999.00,9,  -999.0,9,  -999.0,-999.000,9,-999.000,-999.000,9, -999.00,9, -999.00,9,  900.00,-999.0000,9,-999.0000,9,-999.0000,9,-999.0000,9,-999.0000,9,-999.0000,9,   5.1198,     -999.0,9,     -999.0,9,     -999.0,9,     -999.0,9,        117,-999.000,-999.000,-999.000,     -999.0,9, -999.00,9, -999.00,9
33RO200306_02,       A16N,     117,          1,         13,         13,2,20030731,       0752,     7.5008,   -27.2505,       4638,  1100.0,   4.9802,  34.7517,2,  34.7522,2,    146.8,2,   144.5,2,   27.31,2,   32.42,2,    0.00,2,    2.18,2,-999.000,9,-999.000,9,-999.000,9,  -999.0,9,  -999.0,9,   -999.0,9,  -999.00,-999.0000,9,  -999.00,-999.000,9,-999.000,9,-999.000,9, -999.00,9,  -999.0,9,  -999.0,-999.000,9,-999.000,-999.000,9, -999.00,9, -999.00,9, 1100.00,-999.0000,9,-999.0000,9,-999.0000,9,-999.0000,9,-999.0000,9,-999.0000,9,   4.8875,     -999.0,9,     -999.0,9,     -999.0,9,     -999.0,9,        117,-999.000,-999.000,-999.000,     -999.0,9, -999.00,9, -999.00,9
33RO200306_02,       A16N,     117,          1,         12,         12,2,20030731,       0752,     7.5008,   -27.2505,       4638,  1200.5,   4.8899,  34.8445,2,  34.8461,2,    161.2,2,   161.6,2,   25.04,2,   29.66,2,    0.00,2,    1.99,2,   0.013,2,   0.007,2,   0.002,2,  -999.0,9,  -999.0,9,   -999.0,9,  -999.00,-999.0000,9,  -999.00,-999.000,9,-999.000,9,-999.000,9, -999.00,9,  -999.0,9,  -999.0,-999.000,9,-999.000,-999.000,9, -999.00,9, -999.00,9, 1200.50,-999.0000,9,-999.0000,9,-999.0000,9,-999.0000,9,-999.0000,9,-999.0000,9,   4.7885,     -999.0,9,     -999.0,9,     -999.0,9,     -999.0,9,        117,-999.000,-999.000,-999.000,     -999.0,9, -999.00,9, -999.00,9
33RO200306_02,       A16N,     117,          1,         11,         11,2,20030731,       0752,     7.5008,   -27.2505,       4638,  1400.4,   4.4732,  34.9364,2,  34.9385,2,    203.9,2,   205.4,2,   20.85,2,   24.53,2,    0.00,2,    1.64,2,   0.051,2,   0.028,2,   0.002,2,  -999.0,9,  -999.0,9,   -999.0,9,  -999.00,-999.0000,9,  -999.00,-999.000,9,-999.000,9,-999.000,9, -999.00,9,  -999.0,9,  -999.0,-999.000,9,-999.000,-999.000,9, -999.00,9, -999.00,9, 1400.40,-999.0000,9,-999.0000,9,-999.0000,9,-999.0000,9,-999.0000,9,-999.0000,9,   4.3571,     -999.0,9,     -999.0,9,     -999.0,9,     -999.0,9,        117,-999.000,-999.000,-999.000,     -999.0,9, -999.00,9, -999.00,9
33RO200306_02,       A16N,     117,          1,         10,         10,2,20030731,       0752,     7.5008,   -27.2505,       4638,  1600.4,   4.0953,  34.9689,2,  34.9686,2,    226.4,2,   218.7,2,   19.11,2,   21.82,2,    0.00,2,    1.46,2,   0.067,2,   0.037,2,   0.003,2,  -999.0,9,  -999.0,9,   -999.0,9,  -999.00,-999.0000,9,  -999.00,-999.000,9,-999.000,9,-999.000,9, -999.00,9,  -999.0,9,  -999.0,-999.000,9,-999.000,-999.000,9, -999.00,9, -999.00,9, 1600.40,-999.0000,9,-999.0000,9,-999.0000,9,-999.0000,9,-999.0000,9,-999.0000,9,   3.9647,     -999.0,9,     -999.0,9,     -999.0,9,     -999.0,9,        117,-999.000,-999.000,-999.000,     -999.0,9, -999.00,9, -999.00,9
33RO200306_02,       A16N,     117,          1,          9,          9,2,20030731,       0752,     7.5008,   -27.2505,       4638,  1800.0,   3.8189,  34.9738,2,  34.9758,2,    241.0,2,   243.2,2,   19.00,2,   20.59,2,    0.00,2,    1.38,2,   0.073,2,   0.042,2,   0.002,2,  -999.0,9,  -999.0,9,   -999.0,9,  -999.00,-999.0000,9,  -999.00,-999.000,9,-999.000,9,-999.000,9, -999.00,9,  -999.0,9,  -999.0,-999.000,9,-999.000,-999.000,9, -999.00,9, -999.00,9, 1800.00,-999.0000,9,-999.0000,9,-999.0000,9,-999.0000,9,-999.0000,9,-999.0000,9,   3.6731,     -999.0,9,     -999.0,9,     -999.0,9,     -999.0,9,        117,-999.000,-999.000,-999.000,     -999.0,9, -999.00,9, -999.00,9
33RO200306_02,       A16N,     117,          1,          8,          8,2,20030731,       0752,     7.5008,   -27.2505,       4638,  2000.4,   3.5483,  34.9635,2,  34.9644,2,    243.0,2,   244.6,2,   21.61,2,   20.70,2,    0.00,2,    1.40,2,-999.000,9,-999.000,9,-999.000,9,  -999.0,9,  -999.0,9,   -999.0,9,  -999.00,-999.0000,9,  -999.00,-999.000,9,-999.000,9,-999.000,9, -999.00,9,  -999.0,9,  -999.0,-999.000,9,-999.000,-999.000,9, -999.00,9, -999.00,9, 2000.40,-999.0000,9,-999.0000,9,-999.0000,9,-999.0000,9,-999.0000,9,-999.0000,9,   3.3874,     -999.0,9,     -999.0,9,     -999.0,9,     -999.0,9,        117,-999.000,-999.000,-999.000,     -999.0,9, -999.00,9, -999.00,9