BOTTLE,20230908CCHSIOCBG
EXPOCODE,SECT_ID,STNNBR,CASTNO,SAMPNO,BTLNBR,BTLNBR_FLAG_W,DATE,TIME,LATITUDE,LONGITUDE,DEPTH,CTDPRS,CTDTMP,CTDSAL,CTDSAL_FLAG_W,SALNTY,SALNTY_FLAG_W,CTDOXY,CTDOXY_FLAG_W,OXYGEN,OXYGEN_FLAG_W,SILCAT,SILCAT_FLAG_W,NITRAT,NITRAT_FLAG_W,NITRIT,NITRIT_FLAG_W,PHSPHT,PHSPHT_FLAG_W,CFC-11,CFC-11_FLAG_W,CFC-12,CFC-12_FLAG_W,CFC113,CFC113_FLAG_W,TCARBN,TCARBN_FLAG_W,ALKALI,ALKALI_FLAG_W,FCO2,FCO2_FLAG_W,FCO2TMP,PH_SWS,PH_SWS_FLAG_W,PH_TMP,TRITUM,TRITUM_FLAG_W,HELIUM,HELIUM_FLAG_W,DELHE3,DELHE3_FLAG_W,DELC13,DELC13_FLAG_W,DELC14,DELC14_FLAG_W,C14ERR,NEON,NEON_FLAG_W,NEONER,POC,POC_FLAG_W,DOC,DOC_FLAG_W,TDN,TDN_FLAG_W,CTDRAW,CDOM325,CDOM325_FLAG_W,CDOM340,CDOM340_FLAG_W,CDOM380,CDOM380_FLAG_W,CDOM412,CDOM412_FLAG_W,CDOMSL,CDOMSL_FLAG_W,CDOMSN,CDOMSN_FLAG_W,THETA,PON,PON_FLAG_W,HCFC-22,HCFC-22_FLAG_W,HCFC-142b,HCFC-142b_FLAG_W,HCFC-141b,HCFC-141b_FLAG_W,STNNBR_U,HELIER,DELHER,TRITER,CH3CL,CH3CL_FLAG_W,CH3BR,CH3BR_FLAG_W,CH3I,CH3I_FLAG_W
,,,,,,,,,,,METERS,DBAR,ITS-90,PSS-78,,PSS-78,,UMOL/KG,,UMOL/KG,,UMOL/KG,,UMOL/KG,,UMOL/KG,,UMOL/KG,,PMOL/KG,,PMOL/KG,,PMOL/KG,,UMOL/KG,,UMOL/KG,,UATM,,DEG C,,,DEG C,TU,,NMOL/KG,,PERCNT,,/MILLE,,/MILLE,,/MILLE,NMOL/KG,,NMOL/KG,UG/KG,,UMOL/KG,,UMOL/KG,,DBAR,1/M,,1/M,,1/M,,1/M,,1/NM,,1/NM,,DEG C,UMOL/L,,PMOL/KG,,PMOL/KG,,PMOL/KG,,,NMOL/KG,PERCNT,TU,PMOL/KG,,PMOL/KG,,PMOL/KG,
33RO200306_02,       A16N,     121,          1,         35,         35,2,20030801,       1330,     5.4987,   -26.2492,       4251,     2.8,  27.9409,  35.1910,2,  35.1934,2,    195.5,2,   202.5,2, -999.00,1, -999.00,1, -999.00,1, -999.00,1,   1.659,2,   1.073,2,   0.143,2,  1948.3,6,  2304.3,6,   -999.0,9,  -999.00,-999.0000,9,  -999.00,-999.000,9,-999.000,9,-999.000,9, -999.00,9,  -999.0,9,  -999.0,-999.000,9,-999.000,-999.000,9, -999.00,9, -999.00,9,    2.80,-999.0000,9,-999.0000,9,-999.0000,9,-999.0000,9,-999.0000,9,-999.0000,9,  27.9402,     -999.0,9,     -999.0,9,     -999.0,9,     -999.0,9,        121,-999.000,-999.000,-999.000,     -999.0,9, -999.00,9, -999.00,9
33RO200306_02,       A16N,     121,          1,         33,         33,2,20030801,       1330,     5.4987,   -26.2492,       4251,     9.6,  27.9182,  35.1914,2,  35.1948,2,    195.5,2,   202.1,2,    0.89,2,    0.03,2,    0.00,2,    0.04,2,-999.000,9,-999.000,9,-999.000,9,  -999.0,9,  -999.0,9,   -999.0,9,  -999.00,-999.0000,9,  -999.00,-999.000,9,-999.000,9,-999.000,9, -999.00,9,  -999.0,9,  -999.0,-999.000,9,-999.000,-999.000,9, -999.00,9, -999.00,9,    9.60,-999.0000,9,-999.0000,9,-999.0000,9,-999.0000,9,-999.0000,9,-999.0000,9,  27.9159,     -999.0,9,     -999.0,9,     -999.0,9,     -999.0,9,        121,-999.000,-999.000,-999.000,     -999.0,9, -999.00,9, -999.00,9
33RO200306_02,       A16N,     121,          1,         32,         32,2,20030801,       1330,     5.4987,   -26.2492,       4251,    30.2,  28.1785,  35.7270,2,  35.7389,2,    202.8,2,   202.8,2,    0.89,2,    0.03,2,    0.00,2,    0.05,2,-999.000,9,-999.000,9,-999.000,9,  -999.0,9,  -999.0,9,   -999.0,9,  -999.00,-999.0000,9,  -999.00,-999.000,9,-999.000,9,-999.000,9, -999.00,9,  -999.0,9,  -999.0,-999.000,9,-999.000,-999.000,9, -999.00,9, -999.00,9,   30.20,-999.0000,9,-999.0000,9,-999.0000,9,-999.0000,9,-999.0000,9,-999.0000,9,  28.1713,     -999.0,9,     -999.0,9,     -999.0,9,     -999.0,9,        121,-999.000,-999.000,-999.000,     -999.0,9, -999.00,9, -999.00,9
33RO200306_02,       A16N,     121,          1,         31,         31,2,20030801,       1330,     5.4987,   -26.2492,       4251,    51.1,  27.6361,  36.2213,2,  36.2225,2,    197.5,2,   207.1,2,    0.97,2,    0.03,2,    0.00,2,    0.05,2,-999.000,9,-999.000,9,-999.000,9,  -999.0,9,  -999.0,9,   -999.0,9,  -999.00,-999.0000,9,  -999.00,-999.000,9,-999.000,9,-999.000,9, -999.00,9,  -999.0,9,  -999.0,-999.000,9,-999.000,-999.000,9, -999.00,9, -999.00,9,   51.10,-999.0000,9,-999.0000,9,-999.0000,9,-999.0000,9,-999.0000,9,-999.0000,9,  27.6241,     -999.0,9,     -999.0,9,     -999.0,9,     -999.0,9,        121,-999.000,-999.000,-999.000,     -999.0,9, -999.00,9, -999.00,9
33RO200306_02,       A16N,     121,          1,         30,         30,2,20030801,       1330,     5.4987,   -26.2492,       4251,    69.1,  25.5497,  36.2276,2,  36.2287,2,    196.3,2,   190.7,2,    1.53,2,    0.14,2,    0.02,2,    0.11,2,-999.000,9,-999.000,9,-999.000,9,  -999.0,9,  -999.0,9,   -999.0,9,  -999.00,-999.0000,9,  -999.00,-999.000,9,-999.000,9,-999.000,9, -999.00,9,  -999.0,9,  -999.0,-999.000,9,-999.000,-999.000,9, -999.00,9, -999.00,9,   69.10,-999.0000,9,-999.0000,9,-999.0000,9,-999.0000,9,-999.0000,9,-999.0000,9,  25.5344,     -999.0,9,     -999.0,9,     -999.0,9,     -999.0,9,        121,-999.000,-999.000,-999.000,     -999.0,9, -999.00,9, -999.00,9
33RO200306_02,       A16N,     121,          1,         29,         29,2,20030801,       1330,     5.4987,   -26.2492,       4251,    89.8,  21.6085,  36.0322,2,  36.0325,2,    165.8,2,   162.7,2,    3.08,2,    5.78,2,    0.25,2,    0.50,2,-999.000,9,-999.000,9,-999.000,9,  -999.0,9,  -999.0,9,   -999.0,9,  -999.00,-999.0000,9,  -999.00,-999.000,9,-999.000,9,-999.000,9, -999.00,9,  -999.0,9,  -999.0,-999.000,9,-999.000,-999.000,9, -999.00,9, -999.00,9,   89.80,-999.0000,9,-999.0000,9,-999.0000,9,-999.0000,9,-999.0000,9,-999.0000,9,  21.5909,     -999.0,9,     -999.0,9,     -999.0,9,     -999.0,9,        121,-999.000,-999.000,-999.000,     -999.0,9, -999.00,9, -999.00,9
33RO200306_02,       A16N,     121,          1,         28,         28,2,20030801,       1330,     5.4987,   -26.2492,       4251,   109.5,  18.3892,  35.8162,2,  35.8111,2,    147.9,2,   143.2,2,    4.65,2,   12.24,2,    0.09,2,    0.88,2,   1.970,2,   1.158,2,   0.067,2,  -999.0,9,  -999.0,9,   -999.0,9,  -999.00,-999.0000,9,  -999.00,-999.000,9,-999.000,9,-999.000,9, -999.00,9,  -999.0,9,  -999.0,-999.000,9,-999.000,-999.000,9, -999.00,9, -999.00,9,  109.50,-999.0000,9,-999.0000,9,-999.0000,9,-999.0000,9,-999.0000,9,-999.0000,9,  18.3700,     -999.0,9,     -999.0,9,     -999.0,9,     -999.0,9,        121,-999.000,-999.000,-999.000,     -999.0,9, -999.00,9, -999.00,9
33RO200306_02,       A16N,     121,          1,         27,         27,2,20030801,       1330,     5.4987,   -26.2492,       4251,   134.3,  15.4499,  35.5962,2,  35.5709,2,    137.5,2,   140.9,2,    6.44,2,   16.52,2,    0.03,2,    1.14,2,-999.000,9,-999.000,9,-999.000,9,  -999.0,9,  -999.0,9,   -999.0,9,  -999.00,-999.0000,9,  -999.00,-999.000,9,-999.000,9,-999.000,9, -999.00,9,  -999.0,9,  -999.0,-999.000,9,-999.000,-999.000,9, -999.00,9, -999.00,9,  134.30,-999.0000,9,-999.0000,9,-999.0000,9,-999.0000,9,-999.0000,9,-999.0000,9,  15.4291,     -999.0,9,     -999.0,9,     -999.0,9,     -999.0,9,        121,-999.000,-999.000,-999.000,     -999.0,9, -999.00,9, -999.00,9
33RO200306_02,       A16N,     121,          1,         26,         26,2,20030801,       1330,     5.4987,   -26.2492,       4251,   159.9,  13.4935,  35.3660,2,  35.3641,2,    146.8,2,   146.2,2,    7.22,2,   17.87,2,    0.01,2,    1.24,2,-999.000,9,-999.000,9,-999.000,9,  -999.0,9,  -999.0,9,   -999.0,9,  -999.00,-999.0000,9,  -999.00,-999.000,9,-999.000,9,-999.000,9, -999.00,9,  -999.0,9,  -999.0,-999.000,9,-999.000,-999.000,9, -999.00,9, -999.00,9,  159.90,-999.0000,9,-999.0000,9,-999.0000,9,-999.0000,9,-999.0000,9,-999.0000,9,  13.4709,     -999.0,9,     -999.0,9,     -999.0,9,     -999.0,9,        121,-999.000,-999.000,-999.000,     -999.0,9, -999.00,9, -999.00,9
33RO200306_02,       A16N,     121,          1,         25,         25,2,20030801,       1330,     5.4987,   -26.2492,       4251,   184.9,  12.7496,  35.2508,2,  35.2521,2,    138.3,2,   138.8,2,    8.01,2,   19.75,2,    0.01,2,    1.35,2,-999.000,9,-999.000,9,-999.000,9,  -999.0,9,  -999.0,9,   -999.0,9,  -999.00,-999.0000,9,  -999.00,-999.000,9,-999.000,9,-999.000,9, -999.00,9,  -999.0,9,  -999.0,-999.000,9,-999.000,-999.000,9, -999.00,9, -999.00,9,  184.90,-999.0000,9,-999.0000,9,-999.0000,9,-999.0000,9,-999.0000,9,-999.0000,9,  12.7244,     -999.0,9,     -999.0,9,     -999.0,9,     -999.0,9,        121,-999.000,-999.000,-999.000,     -999.0,9, -999.00,9, -999.00,9
33RO200306_02,       A16N,     121,          1,         24,         24,2,20030801,       1330,     5.4987,   -26.2492,       4251,   225.0,  12.3952,  35.2063,2,  35.2078,2,    109.8,2,   122.1,2,    8.88,2,   22.19,2,    0.01,2,    1.48,2,-999.000,9,-999.000,9,-999.000,9,  -999.0,9,  -999.0,9,   -999.0,9,  -999.00,-999.0000,9,  -999.00,-999.000,9,-999.000,9,-999.000,9, -999.00,9,  -999.0,9,  -999.0,-999.000,9,-999.000,-999.000,9, -999.00,9, -999.00,9,  225.00,-999.0000,9,-999.0000,9,-999.0000,9,-999.0000,9,-999.0000,9,-999.0000,9,  12.3651,     -999.0,9,     -999.0,9,     -999.0,9,     -999.0,9,        121,-999.000,-999.000,-999.000,     -999.0,9, -999.00,9, -999.00,9
33RO200306_02,       A16N,     121,          1,         23,         23,2,20030801,       1330,     5.4987,   -26.2492,       4251,   274.3,  11.7914,  35.1344,2,  35.1322,2,    120.8,2,   118.5,2,    9.88,2,   23.70,2,    0.01,2,    1.57,2,-999.000,9,-999.000,9,-999.000,9,  -999.0,9,  -999.0,9,   -999.0,9,  -999.00,-999.0000,9,  -999.00,-999.000,9,-999.000,9,-999.000,9, -999.00,9,  -999.0,9,  -999.0,-999.000,9,-999.000,-999.000,9, -999.00,9, -999.00,9,  274.30,-999.0000,9,-999.0000,9,-999.0000,9,-999.0000,9,-999.0000,9,-999.0000,9,  11.7559,     -999.0,9,     -999.0,9,     -999.0,9,     -999.0,9,        121,-999.000,-999.000,-999.000,     -999.0,9, -999.00,9, -999.00,9
33RO200306_02,       A16N,     121,          1,         22,         22,2,20030801,       1330,     5.4987,   -26.2492,       4251,   325.4,  10.8806,  35.0350,2,  35.0343,2,    124.1,2,   122.1,2,   11.25,2,   25.15,2,    0.01,2,    1.65,2,-999.000,9,-999.000,9,-999.000,9,  -999.0,9,  -999.0,9,   -999.0,9,  -999.00,-999.0000,9,  -999.00,-999.000,9,-999.000,9,-999.000,9, -999.00,9,  -999.0,9,  -999.0,-999.000,9,-999.000,-999.000,9, -999.00,9, -999.00,9,  325.40,-999.0000,9,-999.0000,9,-999.0000,9,-999.0000,9,-999.0000,9,-999.0000,9,  10.8405,     -999.0,9,     -999.0,9,     -999.0,9,     -999.0,9,        121,-999.000,-999.000,-999.000,     -999.0,9, -999.00,9, -999.00,9
33RO200306_02,       A16N,     121,          1,         21,         21,2,20030801,       1330,     5.4987,   -26.2492,       4251,   374.3,  10.2137,  34.9789,2,  35.0034,2,     97.3,2,    84.5,2,   13.55,2,   30.40,2,    0.00,2,    1.92,2,-999.000,9,-999.000,9,-999.000,9,  -999.0,9,  -999.0,9,   -999.0,9,  -999.00,-999.0000,9,  -999.00,-999.000,9,-999.000,9,-999.000,9, -999.00,9,  -999.0,9,  -999.0,-999.000,9,-999.000,-999.000,9, -999.00,9, -999.00,9,  374.30,-999.0000,9,-999.0000,9,-999.0000,9,-999.0000,9,-999.0000,9,-999.0000,9,  10.1693,     -999.0,9,     -999.0,9,     -999.0,9,     -999.0,9,        121,-999.000,-999.000,-999.000,     -999.0,9, -999.00,9, -999.00,9
33RO200306_02,       A16N,     121,          1,         20,         20,2,20030801,       1330,     5.4987,   -26.2492,       4251,   425.1,   9.4657,  34.9634,2,  34.9659,2,     59.2,2,    58.9,2,   15.92,2,   34.62,2,    0.01,2,    2.14,2,-999.000,9,-999.000,9,-999.000,9,  -999.0,9,  -999.0,9,   -999.0,9,  -999.00,-999.0000,9,  -999.00,-999.000,9,-999.000,9,-999.000,9, -999.00,9,  -999.0,9,  -999.0,-999.000,9,-999.000,-999.000,9, -999.00,9, -999.00,9,  425.10,-999.0000,9,-999.0000,9,-999.0000,9,-999.0000,9,-999.0000,9,-999.0000,9,   9.4175,     -999.0,9,     -999.0,9,     -999.0,9,     -999.0,9,        121,-999.000,-999.000,-999.000,     -999.0,9, -999.00,9, -999.00,9
33RO200306_02,       A16N,     121,          1,         19,         19,2,20030801,       1330,     5.4987,   -26.2492,       4251,   474.7,   8.6308,  34.8833,2,  34.8894,2,     68.4,2,    68.2,2,   17.78,2,   35.38,2,    0.00,2,    2.21,2,-999.000,9,-999.000,9,-999.000,9,  -999.0,9,  -999.0,9,   -999.0,9,  -999.00,-999.0000,9,  -999.00,-999.000,9,-999.000,9,-999.000,9, -999.00,9,  -999.0,9,  -999.0,-999.000,9,-999.000,-999.000,9, -999.00,9, -999.00,9,  474.70,-999.0000,9,-999.0000,9,-999.0000,9,-999.0000,9,-999.0000,9,-999.0000,9,   8.5798,     -999.0,9,     -999.0,9,     -999.0,9,     -999.0,9,        121,-999.000,-999.000,-999.000,     -999.0,9, -999.00,9, -999.00,9
33RO200306_02,       A16N,     121,          1,         18,         18,2,20030801,       1330,     5.4987,   -26.2492,       4251,   550.0,   7.1666,  34.7123,2,  34.7078,2,     89.9,2,    93.6,2,   21.51,2,   35.67,2,    0.00,2,    2.30,2,-999.000,9,-999.000,9,-999.000,9,  -999.0,9,  -999.0,9,   -999.0,9,  -999.00,-999.0000,9,  -999.00,-999.000,9,-999.000,9,-999.000,9, -999.00,9,  -999.0,9,  -999.0,-999.000,9,-999.000,-999.000,9, -999.00,9, -999.00,9,  550.00,-999.0000,9,-999.0000,9,-999.0000,9,-999.0000,9,-999.0000,9,-999.0000,9,   7.1133,     -999.0,9,     -999.0,9,     -999.0,9,     -999.0,9,        121,-999.000,-999.000,-999.000,     -999.0,9, -999.00,9, -999.00,9
33RO200306_02,       A16N,     121,          1,         17,         17,2,20030801,       1330,     5.4987,   -26.2492,       4251,   651.2,   6.1474,  34.6317,2,  34.7344,3,    104.7,2,   110.4,2,   25.14,2,   35.86,2,    0.00,2,    2.36,2,-999.000,9,-999.000,9,-999.000,9,  -999.0,9,  -999.0,9,   -999.0,9,  -999.00,-999.0000,9,  -999.00,-999.000,9,-999.000,9,-999.000,9, -999.00,9,  -999.0,9,  -999.0,-999.000,9,-999.000,-999.000,9, -999.00,9, -999.00,9,  651.20,-999.0000,9,-999.0000,9,-999.0000,9,-999.0000,9,-999.0000,9,-999.0000,9,   6.0890,     -999.0,9,     -999.0,9,     -999.0,9,     -999.0,9,        121,-999.000,-999.000,-999.000,     -999.0,9, -999.00,9, -999.00,9
33RO200306_02,       A16N,     121,          1,         16,         16,2,20030801,       1330,     5.4987,   -26.2492,       4251,   749.9,   5.5477,  34.6156,2,  34.6162,2,    114.3,2,   115.6,2,   27.64,2,   36.12,2,    0.00,2,    2.40,2,-999.000,9,-999.000,9,-999.000,9,  -999.0,9,  -999.0,9,   -999.0,9,  -999.00,-999.0000,9,  -999.00,-999.000,9,-999.000,9,-999.000,9, -999.00,9,  -999.0,9,  -999.0,-999.000,9,-999.000,-999.000,9, -999.00,9, -999.00,9,  749.90,-999.0000,9,-999.0000,9,-999.0000,9,-999.0000,9,-999.0000,9,-999.0000,9,   5.4833,     -999.0,9,     -999.0,9,     -999.0,9,     -999.0,9,        121,-999.000,-999.000,-999.000,     -999.0,9, -999.00,9, -999.00,9
33RO200306_02,       A16N,     121,          1,         15,         15,2,20030801,       1330,     5.4987,   -26.2492,       4251,   849.3,   5.1810,  34.6319,2,  34.6315,2,    127.1,2,   127.6,2,   28.87,2,   35.26,2,    0.00,2,    2.37,2,   0.025,2,   0.014,2,   0.002,2,  -999.0,9,  -999.0,9,   -999.0,9,  -999.00,-999.0000,9,  -999.00,-999.000,9,-999.000,9,-999.000,9, -999.00,9,  -999.0,9,  -999.0,-999.000,9,-999.000,-999.000,9, -999.00,9, -999.00,9,  849.30,-999.0000,9,-999.0000,9,-999.0000,9,-999.0000,9,-999.0000,9,-999.0000,9,   5.1098,     -999.0,9,     -999.0,9,     -999.0,9,     -999.0,9,        121,-999.000,-999.000,-999.000,     -999.0,9, -999.00,9, -999.00,9
33RO200306_02,       A16N,     121,          1,         14,         14,2,20030801,       1330,     5.4987,   -26.2492,       4251,   950.8,   5.0049,  34.6842,2,  34.6911,2,    134.8,2,   135.6,2,   28.71,2,   33.90,2,    0.00,2,    2.29,2,-999.000,9,-999.000,9,-999.000,9,  -999.0,9,  -999.0,9,   -999.0,9,  -999.00,-999.0000,9,  -999.00,-999.000,9,-999.000,9,-999.000,9, -999.00,9,  -999.0,9,  -999.0,-999.000,9,-999.000,-999.000,9, -999.00,9, -999.00,9,  950.80,-999.0000,9,-999.0000,9,-999.0000,9,-999.0000,9,-999.0000,9,-999.0000,9,   4.9257,     -999.0,9,     -999.0,9,     -999.0,9,     -999.0,9,        121,-999.000,-999.000,-999.000,     -999.0,9, -999.00,9, -999.00,9
33RO200306_02,       A16N,     121,          1,         13,         13,2,20030801,       1330,     5.4987,   -26.2492,       4251,  1049.3,   4.8126,  34.7575,2,  34.7571,2,    151.8,2,   149.8,2,   27.52,2,   31.57,2,    0.00,2,    2.14,2,-999.000,9,-999.000,9,-999.000,9,  -999.0,9,  -999.0,9,   -999.0,9,  -999.00,-999.0000,9,  -999.00,-999.000,9,-999.000,9,-999.000,9, -999.00,9,  -999.0,9,  -999.0,-999.000,9,-999.000,-999.000,9, -999.00,9, -999.00,9, 1049.30,-999.0000,9,-999.0000,9,-999.0000,9,-999.0000,9,-999.0000,9,-999.0000,9,   4.7259,     -999.0,9,     -999.0,9,     -999.0,9,     -999.0,9,        121,-999.000,-999.000,-999.000,     -999.0,9, -999.00,9, -999.00,9
33RO200306_02,       A16N,     121,          1,         12,         12,2,20030801,       1330,     5.4987,   -26.2492,       4251,  1150.7,   4.6952,  34.8258,2,  34.8260,2,    169.2,2,   168.1,2,   25.53,2,   29.02,2,    0.00,2,    1.98,2,   0.017,2,   0.014,2,   0.001,2,  -999.0,9,  -999.0,9,   -999.0,9,  -999.00,-999.0000,9,  -999.00,-999.000,9,-999.000,9,-999.000,9, -999.00,9,  -999.0,9,  -999.0,-999.000,9,-999.000,-999.000,9, -999.00,9, -999.00,9, 1150.70,-999.0000,9,-999.0000,9,-999.0000,9,-999.0000,9,-999.0000,9,-999.0000,9,   4.6001,     -999.0,9,     -999.0,9,     -999.0,9,     -999.0,9,        121,-999.000,-999.000,-999.000,     -999.0,9, -999.00,9, -999.00,9
33RO200306_02,       A16N,     121,          1,         11,         11,2,20030801,       1330,     5.4987,   -26.2492,       4251,  1300.1,   4.5046,  34.9057,2,  34.9055,2,    191.4,2,   189.3,2,   22.61,2,   25.87,2,    0.00,2,    1.76,2,-999.000,9,-999.000,9,-999.000,9,  -999.0,9,  -999.0,9,   -999.0,9,  -999.00,-999.0000,9,  -999.00,-999.000,9,-999.000,9,-999.000,9, -999.00,9,  -999.0,9,  -999.0,-999.000,9,-999.000,-999.000,9, -999.00,9, -999.00,9, 1300.10,-999.0000,9,-999.0000,9,-999.0000,9,-999.0000,9,-999.0000,9,-999.0000,9,   4.3975,     -999.0,9,     -999.0,9,     -999.0,9,     -999.0,9,        121,-999.000,-999.000,-999.000,     -999.0,9, -999.00,9, -999.00,9
33RO200306_02,       A16N,     121,          1,         10,         10,2,20030801,       1330,     5.4987,   -26.2492,       4251,  1500.4,   4.2370,  34.9582,2,  34.9587,2,    222.0,2,   222.4,2,   19.63,2,   22.58,2,    0.00,2,    1.53,2,   0.068,2,   0.038,2,   0.001,2,  -999.0,9,  -999.0,9,   -999.0,9,  -999.00,-999.0000,9,  -999.00,-999.000,9,-999.000,9,-999.000,9, -999.00,9,  -999.0,9,  -999.0,-999.000,9,-999.000,-999.000,9, -999.00,9, -999.00,9, 1500.40,-999.0000,9,-999.0000,9,-999.0000,9,-999.0000,9,-999.0000,9,-999.0000,9,   4.1141,     -999.0,9,     -999.0,9,     -999.0,9,     -999.0,9,        121,-999.000,-999.000,-999.000,     -999.0,9, -999.00,9, -999.00,9
33RO200306_02,       A16N,     121,          1,          9,          9,2,20030801,       1330,     5.4987,   -26.2492,       4251,  1699.9,   3.9780,  34.9741,2,  34.9757,2,    238.2,2,   238.3,2,   18.60,2,   20.83,2,    0.00,2,    1.42,2,   0.087,2,   0.047,2,   0.006,2,  -999.0,9,  -999.0,9,   -999.0,9,  -999.00,-999.0000,9,  -999.00,-999.000,9,-999.000,9,-999.000,9, -999.00,9,  -999.0,9,  -999.0,-999.000,9,-999.000,-999.000,9, -999.00,9, -999.00,9, 1699.90,-999.0000,9,-999.0000,9,-999.0000,9,-999.0000,9,-999.0000,9,-999.0000,9,   3.8396,     -999.0,9,     -999.0,9,     -999.0,9,     -999.0,9,        121,-999.000,-999.000,-999.000,     -999.0,9, -999.00,9, -999.00,9
33RO200306_02,       A16N,     121,          1,          8,          8,2,20030801,       1330,     5.4987,   -26.2492,       4251,  1899.9,   3.6663,  34.9666,2,  34.9679,2,    244.5,2,   243.8,2,   20.82,2,   20.61,2,    0.00,2,    1.41,2,   0.048,2,   0.027,2,   0.002,2,  -999.0,9,  -999.0,9,   -999.0,9,  -999.00,-999.0000,9,  -999.00,-999.000,9,-999.000,9,-999.000,9, -999.00,9,  -999.0,9,  -999.0,-999.000,9,-999.000,-999.000,9, -999.00,9, -999.00,9, 1899.90,-999.0000,9,-999.0000,9,-999.0000,9,-999.0000,9,-999.0000,9,-999.0000,9,   3.5132,     -999.0,9,     -999.0,9,     -999.0,9,     -999.0,9,        121,-999.000,-999.000,-999.000,     -999.0,9, -999.00,9, -999.00,9