BOTTLE,20230908CCHSIOCBG
EXPOCODE,SECT_ID,STNNBR,CASTNO,SAMPNO,BTLNBR,BTLNBR_FLAG_W,DATE,TIME,LATITUDE,LONGITUDE,DEPTH,CTDPRS,CTDTMP,CTDSAL,CTDSAL_FLAG_W,SALNTY,SALNTY_FLAG_W,CTDOXY,CTDOXY_FLAG_W,OXYGEN,OXYGEN_FLAG_W,SILCAT,SILCAT_FLAG_W,NITRAT,NITRAT_FLAG_W,NITRIT,NITRIT_FLAG_W,PHSPHT,PHSPHT_FLAG_W,CFC-11,CFC-11_FLAG_W,CFC-12,CFC-12_FLAG_W,CFC113,CFC113_FLAG_W,TCARBN,TCARBN_FLAG_W,ALKALI,ALKALI_FLAG_W,FCO2,FCO2_FLAG_W,FCO2TMP,PH_SWS,PH_SWS_FLAG_W,PH_TMP,TRITUM,TRITUM_FLAG_W,HELIUM,HELIUM_FLAG_W,DELHE3,DELHE3_FLAG_W,DELC13,DELC13_FLAG_W,DELC14,DELC14_FLAG_W,C14ERR,NEON,NEON_FLAG_W,NEONER,POC,POC_FLAG_W,DOC,DOC_FLAG_W,TDN,TDN_FLAG_W,CTDRAW,CDOM325,CDOM325_FLAG_W,CDOM340,CDOM340_FLAG_W,CDOM380,CDOM380_FLAG_W,CDOM412,CDOM412_FLAG_W,CDOMSL,CDOMSL_FLAG_W,CDOMSN,CDOMSN_FLAG_W,THETA,PON,PON_FLAG_W,HCFC-22,HCFC-22_FLAG_W,HCFC-142b,HCFC-142b_FLAG_W,HCFC-141b,HCFC-141b_FLAG_W,STNNBR_U,HELIER,DELHER,TRITER,CH3CL,CH3CL_FLAG_W,CH3BR,CH3BR_FLAG_W,CH3I,CH3I_FLAG_W
,,,,,,,,,,,METERS,DBAR,ITS-90,PSS-78,,PSS-78,,UMOL/KG,,UMOL/KG,,UMOL/KG,,UMOL/KG,,UMOL/KG,,UMOL/KG,,PMOL/KG,,PMOL/KG,,PMOL/KG,,UMOL/KG,,UMOL/KG,,UATM,,DEG C,,,DEG C,TU,,NMOL/KG,,PERCNT,,/MILLE,,/MILLE,,/MILLE,NMOL/KG,,NMOL/KG,UG/KG,,UMOL/KG,,UMOL/KG,,DBAR,1/M,,1/M,,1/M,,1/M,,1/NM,,1/NM,,DEG C,UMOL/L,,PMOL/KG,,PMOL/KG,,PMOL/KG,,,NMOL/KG,PERCNT,TU,PMOL/KG,,PMOL/KG,,PMOL/KG,
33RO200306_02,       A16N,     092,          1,         35,         35,2,20030723,       0427,    20.0007,   -29.0003,       4800,     3.8,  25.0585,  36.5230,2,  34.5540,4,    212.2,2,   211.1,2,    0.46,2,    0.08,2,    0.01,2,    0.10,2,   1.849,2,   1.188,2,   0.164,2,  2064.0,6,  2391.8,6,    319.9,2,    20.00,   8.0475,6,    25.00,-999.000,9,-999.000,9,-999.000,9,    1.55,2,    71.0,2,     3.2,-999.000,9,-999.000,-999.000,9,   74.39,2,    7.49,2,    3.80,-999.0000,9,-999.0000,9,-999.0000,9,-999.0000,9,-999.0000,9,-999.0000,9,  25.0577,     -999.0,9,       4.30,2,       0.13,2,       0.48,2,         92,-999.000,-999.000,-999.000,     125.01,2,    1.26,2,    9.79,2
33RO200306_02,       A16N,     092,          1,         33,         33,2,20030723,       0427,    20.0007,   -29.0003,       4800,     9.9,  25.0675,  36.5238,2,  36.5254,2,    211.8,2,   210.5,2,    0.45,2,    0.08,2,    0.01,2,    0.10,2,   1.856,2,   1.176,2,   0.166,2,  2068.4,2,  2391.9,2,    319.7,2,    20.00,   8.0334,2,    25.00,-999.000,9,-999.000,9,-999.000,9, -999.00,9,  -999.0,9,  -999.0,-999.000,9,-999.000,-999.000,9,   71.46,2,    7.20,2,    9.90,-999.0000,9,-999.0000,9,-999.0000,9,-999.0000,9,-999.0000,9,-999.0000,9,  25.0653,     -999.0,9,       4.20,2,       0.18,2,       0.48,2,         92,-999.000,-999.000,-999.000,     134.28,2,    2.05,2,   10.47,2
33RO200306_02,       A16N,     092,          1,         32,         32,2,20030723,       0427,    20.0007,   -29.0003,       4800,    29.9,  25.0635,  36.5262,2,  36.5446,2,    211.1,2,   212.1,2,    0.45,2,    0.08,2,    0.01,2,    0.10,2,-999.000,9,-999.000,9,-999.000,9,  2065.8,2,  2392.6,2,    320.2,2,    20.00,   8.2313,3,    25.00,-999.000,9,-999.000,9,-999.000,9, -999.00,9,  -999.0,9,  -999.0,-999.000,9,-999.000,-999.000,9, -999.00,9, -999.00,9,   29.90,-999.0000,9,-999.0000,9,-999.0000,9,-999.0000,9,-999.0000,9,-999.0000,9,  25.0570,     -999.0,9,     -999.0,9,     -999.0,9,     -999.0,9,         92,-999.000,-999.000,-999.000,     -999.0,9, -999.00,9, -999.00,9
33RO200306_02,       A16N,     092,          1,         31,         31,2,20030723,       0427,    20.0007,   -29.0003,       4800,    50.3,  24.5414,  36.9145,2,  36.9630,2,    215.1,2,   220.2,2,    0.45,2,    0.08,2,    0.01,2,    0.07,2,   1.922,2,   1.210,2,   0.165,2,  2083.2,2,  2418.1,2,    317.5,2,    20.00,   8.1854,3,    25.00,-999.000,9,-999.000,9,-999.000,9, -999.00,9,  -999.0,9,  -999.0,-999.000,9,-999.000,-999.000,9,   69.76,2,    7.05,2,   50.30,-999.0000,9,-999.0000,9,-999.0000,9,-999.0000,9,-999.0000,9,-999.0000,9,  24.5306,     -999.0,9,       4.25,2,       0.09,2,       0.33,2,         92,-999.000,-999.000,-999.000,     108.61,2,     0.0,2,   14.89,2
33RO200306_02,       A16N,     092,          1,         30,         30,2,20030723,       0427,    20.0007,   -29.0003,       4800,    69.3,  22.8786,  36.9732,2,  36.9874,2,    223.9,2,   221.3,2,    0.53,2,    0.11,2,    0.01,2,    0.09,2,-999.000,9,-999.000,9,-999.000,9,  2091.5,2,  2422.0,2,    331.7,2,    20.00,   8.1014,3,    25.00,-999.000,9,-999.000,9,-999.000,9, -999.00,9,  -999.0,9,  -999.0,-999.000,9,-999.000,-999.000,9,   66.75,2,    6.38,2,   69.30,-999.0000,9,-999.0000,9,-999.0000,9,-999.0000,9,-999.0000,9,-999.0000,9,  22.8644,     -999.0,9,     -999.0,9,     -999.0,9,     -999.0,9,         92,-999.000,-999.000,-999.000,     -999.0,9, -999.00,9, -999.00,9
33RO200306_02,       A16N,     092,          1,         29,         29,2,20030723,       0427,    20.0007,   -29.0003,       4800,   109.9,  21.3424,  37.0806,2,  35.0886,4,    202.4,2,   199.1,2,    0.74,2,    1.39,2,    0.11,2,    0.16,2,   2.123,2,   1.331,2,   0.164,2,  2119.5,2,  2420.3,2,    374.3,2,    20.00,   8.0198,2,    25.00,-999.000,9,-999.000,9,-999.000,9, -999.00,9,  -999.0,9,  -999.0,-999.000,9,-999.000,-999.000,9, -999.00,9, -999.00,9,  109.90,-999.0000,9,-999.0000,9,-999.0000,9,-999.0000,9,-999.0000,9,-999.0000,9,  21.3209,     -999.0,9,       4.07,2,       0.09,2,       0.42,2,         92,-999.000,-999.000,-999.000,      35.18,2,     0.0,2,    1.28,2
33RO200306_02,       A16N,     092,          1,         28,         28,2,20030723,       0427,    20.0007,   -29.0003,       4800,   134.6,  20.0658,  36.8750,2,  36.8655,2,    184.3,2,   182.4,2,    1.21,2,    4.23,2,    0.04,2,    0.29,2,   2.207,2,   1.342,2,   0.118,2,  2132.2,2,  2406.4,2,    420.1,2,    20.00,   8.0003,3,    25.00,-999.000,9,-999.000,9,-999.000,9, -999.00,9,  -999.0,9,  -999.0,-999.000,9,-999.000,-999.000,9,   58.21,2,    1.29,2,  134.60,-999.0000,9,-999.0000,9,-999.0000,9,-999.0000,9,-999.0000,9,-999.0000,9,  20.0406,     -999.0,9,     -999.0,9,     -999.0,9,     -999.0,9,         92,-999.000,-999.000,-999.000,     -999.0,9, -999.00,9, -999.00,9
33RO200306_02,       A16N,     092,          1,         27,         27,2,20030723,       0427,    20.0007,   -29.0003,       4800,   159.8,  18.6654,  36.5987,2,  36.5835,2,    164.4,2,   169.6,2,    2.10,2,    8.12,2,    0.03,2,    0.49,2,   2.230,2,   1.347,2,   0.067,2,  2147.5,2,  2381.7,2,    486.4,2,    20.00,   7.9011,2,    25.00,-999.000,9,-999.000,9,-999.000,9, -999.00,9,  -999.0,9,  -999.0,-999.000,9,-999.000,-999.000,9, -999.00,9, -999.00,9,  159.80,-999.0000,9,-999.0000,9,-999.0000,9,-999.0000,9,-999.0000,9,-999.0000,9,  18.6370,     -999.0,9,       3.70,2,       0.02,2,       0.96,2,         92,-999.000,-999.000,-999.000,      16.31,2,    0.92,2,    0.31,2
33RO200306_02,       A16N,     092,          1,         26,         26,2,20030723,       0427,    20.0007,   -29.0003,       4800,   184.7,  17.5027,  36.4159,2,  36.4065,2,    162.0,2,   158.5,2,    2.62,2,    9.69,2,    0.02,2,    0.58,2,   2.282,2,   1.354,2,   0.039,2,  2148.6,2,  2370.8,2,    512.2,2,    20.00,-999.0000,9,  -999.00,-999.000,9,-999.000,9,-999.000,9, -999.00,9,  -999.0,9,  -999.0,-999.000,9,-999.000,-999.000,9,   54.96,2,   13.29,2,  184.70,-999.0000,9,-999.0000,9,-999.0000,9,-999.0000,9,-999.0000,9,-999.0000,9,  17.4713,     -999.0,9,     -999.0,9,     -999.0,9,     -999.0,9,         92,-999.000,-999.000,-999.000,     -999.0,9, -999.00,9, -999.00,9
33RO200306_02,       A16N,     092,          1,         25,         25,2,20030723,       0427,    20.0007,   -29.0003,       4800,   224.5,  16.4814,  36.2508,2,  36.2414,2,    159.9,2,   158.9,2,    3.24,2,   11.25,2,    0.02,2,    0.67,2,   2.309,2,   1.344,2,   0.030,2,  2148.5,2,  2374.2,2,    539.6,2,    20.00,   7.8617,2,    25.00,-999.000,9,-999.000,9,-999.000,9, -999.00,9,  -999.0,9,  -999.0,-999.000,9,-999.000,-999.000,9,   52.36,2,   15.15,2,  224.50,-999.0000,9,-999.0000,9,-999.0000,9,-999.0000,9,-999.0000,9,-999.0000,9,  16.4448,     -999.0,9,       3.52,2,       0.00,2,       0.25,2,         92,-999.000,-999.000,-999.000,      12.51,2,    0.58,2,     0.0,2
33RO200306_02,       A16N,     092,          1,         24,         24,2,20030723,       0427,    20.0007,   -29.0003,       4800,   275.0,  15.1704,  36.0481,2,  36.0422,2,    152.1,2,   151.9,2,    4.34,2,   13.91,2,    0.02,2,    0.83,2,   2.257,2,   1.273,2,   0.025,2,  2157.8,2,  2362.5,2,    595.6,2,    20.00,   7.8782,2,    25.00,-999.000,9,-999.000,9,-999.000,9, -999.00,9,  -999.0,9,  -999.0,-999.000,9,-999.000,-999.000,9,   48.13,2,   17.41,2,  275.00,-999.0000,9,-999.0000,9,-999.0000,9,-999.0000,9,-999.0000,9,-999.0000,9,  15.1280,     -999.0,9,     -999.0,9,     -999.0,9,     -999.0,9,         92,-999.000,-999.000,-999.000,     -999.0,9, -999.00,9, -999.00,9
33RO200306_02,       A16N,     092,          1,         23,         23,2,20030723,       0427,    20.0007,   -29.0003,       4800,   324.6,  14.1377,  35.8947,2,  35.8910,2,    142.6,2,   144.4,2,    5.55,2,   16.73,2,    0.01,2,    1.00,2,   2.121,6,   1.179,6,   0.023,6,  2169.4,2,  2349.6,2,    665.6,2,    20.00,   7.8685,2,    25.00,-999.000,9,-999.000,9,-999.000,9, -999.00,9,  -999.0,9,  -999.0,-999.000,9,-999.000,-999.000,9,   47.64,2,   21.69,2,  324.60,-999.0000,9,-999.0000,9,-999.0000,9,-999.0000,9,-999.0000,9,-999.0000,9,  14.0899,     -999.0,9,     -999.0,9,     -999.0,9,     -999.0,9,         92,-999.000,-999.000,-999.000,     -999.0,9, -999.00,9, -999.00,9
33RO200306_02,       A16N,     092,          1,         22,         22,2,20030723,       0427,    20.0007,   -29.0003,       4800,   374.5,  13.2526,  35.7721,2,  35.7705,2,    138.2,2,   142.8,2,    6.58,2,   18.64,2,    0.01,2,    1.11,2,   1.979,2,   1.085,2,   0.024,2,  2175.7,2,  2335.6,2,    716.5,2,    20.00,   7.7943,2,    25.00,-999.000,9,-999.000,9,-999.000,9, -999.00,9,  -999.0,9,  -999.0,-999.000,9,-999.000,-999.000,9,   47.00,2,   22.75,2,  374.50,-999.0000,9,-999.0000,9,-999.0000,9,-999.0000,9,-999.0000,9,-999.0000,9,  13.1997,     -999.0,9,     -999.0,9,     -999.0,9,     -999.0,9,         92,-999.000,-999.000,-999.000,     -999.0,9, -999.00,9, -999.00,9
33RO200306_02,       A16N,     092,          1,         21,         21,2,20030723,       0427,    20.0007,   -29.0003,       4800,   425.0,  12.5067,  35.6600,2,  35.6512,2,    122.9,2,   125.4,2,    8.10,2,   21.72,2,    0.01,2,    1.29,2,   1.676,2,   0.888,2,   0.020,2,  2189.0,2,  2329.0,2,    806.7,2,    20.00,   7.7104,2,    25.00,-999.000,9,-999.000,9,-999.000,9, -999.00,9,  -999.0,9,  -999.0,-999.000,9,-999.000,-999.000,9,   47.32,2,   25.07,2,  425.00,-999.0000,9,-999.0000,9,-999.0000,9,-999.0000,9,-999.0000,9,-999.0000,9,  12.4488,     -999.0,9,     -999.0,9,     -999.0,9,     -999.0,9,         92,-999.000,-999.000,-999.000,     -999.0,9, -999.00,9, -999.00,9
33RO200306_02,       A16N,     092,          1,         20,         20,2,20030723,       0427,    20.0007,   -29.0003,       4800,   475.2,  11.6699,  35.5395,2,  35.5396,2,    115.0,2,   111.4,2,    9.69,2,   24.15,2,    0.01,2,    1.44,2,   1.389,2,   0.733,2,   0.015,2,  2198.4,2,  2324.7,2,    879.8,2,    20.00,   7.6916,2,    25.00,-999.000,9,-999.000,9,-999.000,9, -999.00,9,  -999.0,9,  -999.0,-999.000,9,-999.000,-999.000,9,   45.69,2,   27.89,2,  475.20,-999.0000,9,-999.0000,9,-999.0000,9,-999.0000,9,-999.0000,9,-999.0000,9,  11.6079,     -999.0,9,     -999.0,9,     -999.0,9,     -999.0,9,         92,-999.000,-999.000,-999.000,     -999.0,9, -999.00,9, -999.00,9
33RO200306_02,       A16N,     092,          1,         19,         19,2,20030723,       0427,    20.0007,   -29.0003,       4800,   524.5,  10.8642,  35.4300,2,  35.4289,2,    108.3,2,   105.7,2,   11.57,2,   26.26,2,    0.01,2,    1.59,2,   1.011,2,   0.533,2,   0.012,2,  2206.0,2,  2319.0,2,    946.3,2,    20.00,   7.6474,2,    25.00,-999.000,9,-999.000,9,-999.000,9, -999.00,9,  -999.0,9,  -999.0,-999.000,9,-999.000,-999.000,9,   45.37,2,   31.41,2,  524.50,-999.0000,9,-999.0000,9,-999.0000,9,-999.0000,9,-999.0000,9,-999.0000,9,  10.7988,     -999.0,9,     -999.0,9,     -999.0,9,     -999.0,9,         92,-999.000,-999.000,-999.000,     -999.0,9, -999.00,9, -999.00,9
33RO200306_02,       A16N,     092,          1,         18,         18,2,20030723,       0427,    20.0007,   -29.0003,       4800,   574.9,  10.1707,  35.3540,2,  35.3538,2,    108.8,2,   108.0,2,   13.01,2,   27.02,2,    0.01,2,    1.65,2,   0.768,2,   0.400,2,   0.008,2,  2206.2,2,  2318.9,2,    961.9,2,    20.00,   7.6496,2,    25.00,-999.000,9,-999.000,9,-999.000,9, -999.00,9,  -999.0,9,  -999.0,-999.000,9,-999.000,-999.000,9,   43.00,2,   32.49,2,  574.90,-999.0000,9,-999.0000,9,-999.0000,9,-999.0000,9,-999.0000,9,-999.0000,9,  10.1017,     -999.0,9,     -999.0,9,     -999.0,9,     -999.0,9,         92,-999.000,-999.000,-999.000,     -999.0,9, -999.00,9, -999.00,9
33RO200306_02,       A16N,     092,          1,         17,         17,2,20030723,       0427,    20.0007,   -29.0003,       4800,   624.7,   9.6352,  35.2982,2,  35.3031,2,    114.0,2,   111.3,2,   14.10,2,   27.41,2,    0.01,2,    1.70,2,   0.588,2,   0.311,2,   0.007,2,  2206.1,2,  2317.2,6,    969.0,2,    20.00,   7.6437,6,    25.00,-999.000,9,-999.000,9,-999.000,9, -999.00,9,  -999.0,9,  -999.0,-999.000,9,-999.000,-999.000,9,   42.93,2,   33.03,2,  624.70,-999.0000,9,-999.0000,9,-999.0000,9,-999.0000,9,-999.0000,9,-999.0000,9,   9.5625,     -999.0,9,     -999.0,9,     -999.0,9,     -999.0,9,         92,-999.000,-999.000,-999.000,     -999.0,9, -999.00,9, -999.00,9
33RO200306_02,       A16N,     092,          1,         16,         16,2,20030723,       0427,    20.0007,   -29.0003,       4800,   675.0,   8.8590,  35.1925,2,  35.1910,2,    110.8,2,   110.3,2,   16.51,2,   29.42,2,    0.01,2,    1.85,2,   0.326,2,   0.174,2,   0.004,2,  2214.0,2,  2314.2,2,   1033.6,2,    20.00,   7.6075,2,    25.00,-999.000,9,-999.000,9,-999.000,9, -999.00,9,  -999.0,9,  -999.0,-999.000,9,-999.000,-999.000,9,   42.12,2,   34.39,2,  675.00,-999.0000,9,-999.0000,9,-999.0000,9,-999.0000,9,-999.0000,9,-999.0000,9,   8.7841,     -999.0,9,     -999.0,9,     -999.0,9,     -999.0,9,         92,-999.000,-999.000,-999.000,     -999.0,9, -999.00,9, -999.00,9
33RO200306_02,       A16N,     092,          1,         15,         15,2,20030723,       0427,    20.0007,   -29.0003,       4800,   751.2,   7.9008,  35.0763,2,  35.0723,2,    111.3,2,   113.2,2,   19.12,2,   30.93,2,    0.01,2,    1.98,2,   0.136,2,   0.077,2,   0.002,2,  2218.3,2,  2311.6,2,   1085.1,2,    20.00,   7.5986,2,    25.00,-999.000,9,-999.000,9,-999.000,9, -999.00,9,  -999.0,9,  -999.0,-999.000,9,-999.000,-999.000,9,   41.79,2,   35.85,2,  751.20,-999.0000,9,-999.0000,9,-999.0000,9,-999.0000,9,-999.0000,9,-999.0000,9,   7.8225,     -999.0,9,       0.13,2,       0.03,2,       0.22,2,         92,-999.000,-999.000,-999.000,        0.0,2,    0.17,2,     0.0,2
33RO200306_02,       A16N,     092,          1,         14,         14,2,20030723,       0427,    20.0007,   -29.0003,       4800,   849.8,   6.9051,  34.9722,2,  34.9721,2,    124.9,2,   129.0,2,   21.46,2,   31.01,2,    0.01,2,    2.02,2,   0.057,2,   0.035,2,   0.001,2,  2215.7,2,  2308.9,2,   1076.3,2,    20.00,   7.5902,2,    25.00,-999.000,9,-999.000,9,-999.000,9, -999.00,9,  -999.0,9,  -999.0,-999.000,9,-999.000,-999.000,9,   42.20,2,   36.47,2,  849.80,-999.0000,9,-999.0000,9,-999.0000,9,-999.0000,9,-999.0000,9,-999.0000,9,   6.8224,     -999.0,9,     -999.0,9,     -999.0,9,     -999.0,9,         92,-999.000,-999.000,-999.000,     -999.0,9, -999.00,9, -999.00,9
33RO200306_02,       A16N,     092,          1,         13,         13,2,20030723,       0427,    20.0007,   -29.0003,       4800,   950.1,   6.5055,  34.9905,2,  34.9908,2,    136.2,2,   141.6,2,   21.81,2,   29.92,2,    0.01,2,    1.96,2,   0.043,2,   0.027,2,   0.001,2,  2212.9,2,  2311.7,2,   1034.8,2,    20.00,   7.6094,2,    25.00,-999.000,9,-999.000,9,-999.000,9, -999.00,9,  -999.0,9,  -999.0,-999.000,9,-999.000,-999.000,9,   40.00,2,   35.34,2,  950.10,-999.0000,9,-999.0000,9,-999.0000,9,-999.0000,9,-999.0000,9,-999.0000,9,   6.4152,     -999.0,9,       0.00,2,       0.00,2,       0.18,2,         92,-999.000,-999.000,-999.000,        0.0,2,    0.35,2,     0.0,2
33RO200306_02,       A16N,     092,          1,         12,         12,2,20030723,       0427,    20.0007,   -29.0003,       4800,  1050.1,   6.2111,  35.0113,2,  35.0146,2,    148.4,2,   147.8,2,   21.72,2,   28.67,2,    0.01,2,    1.89,2,   0.039,2,   0.025,2,   0.003,2,  2208.2,6,  2313.7,2,    995.4,2,    20.00,   7.6305,2,    25.00,-999.000,9,-999.000,9,-999.000,9, -999.00,9,  -999.0,9,  -999.0,-999.000,9,-999.000,-999.000,9,   41.39,2,   32.53,2, 1050.10,-999.0000,9,-999.0000,9,-999.0000,9,-999.0000,9,-999.0000,9,-999.0000,9,   6.1128,     -999.0,9,     -999.0,9,     -999.0,9,     -999.0,9,         92,-999.000,-999.000,-999.000,     -999.0,9, -999.00,9, -999.00,9
33RO200306_02,       A16N,     092,          1,         11,         11,2,20030723,       0427,    20.0007,   -29.0003,       4800,  1149.1,   5.9064,  35.0477,2,  35.0490,2,    162.6,2,   163.0,2,   21.30,2,   27.06,2,    0.01,2,    1.78,2,   0.030,2,   0.019,2,   0.001,2,  2204.8,2,  2322.8,2,    943.2,2,    20.00,   7.6391,2,    25.00,-999.000,9,-999.000,9,-999.000,9, -999.00,9,  -999.0,9,  -999.0,-999.000,9,-999.000,-999.000,9,   40.24,2,   30.10,2, 1149.10,-999.0000,9,-999.0000,9,-999.0000,9,-999.0000,9,-999.0000,9,-999.0000,9,   5.8006,     -999.0,9,       0.00,2,       0.00,2,       0.13,2,         92,-999.000,-999.000,-999.000,        0.0,2,    0.38,2,     0.0,2
33RO200306_02,       A16N,     092,          1,         10,         10,2,20030723,       0427,    20.0007,   -29.0003,       4800,  1300.2,   5.5332,  35.0817,2,  35.0827,2,    180.0,2,   171.4,2,   20.88,2,   25.30,2,    0.01,2,    1.68,2,   0.029,2,   0.017,2,   0.001,2,  2197.8,2,  2325.2,2,    888.3,2,    20.00,-999.0000,9,  -999.00,-999.000,9,-999.000,9,-999.000,9, -999.00,9,  -999.0,9,  -999.0,-999.000,9,-999.000,-999.000,9,   41.63,2,   28.69,2, 1300.20,-999.0000,9,-999.0000,9,-999.0000,9,-999.0000,9,-999.0000,9,-999.0000,9,   5.4157,     -999.0,9,     -999.0,9,     -999.0,9,     -999.0,9,         92,-999.000,-999.000,-999.000,     -999.0,9, -999.00,9, -999.00,9
33RO200306_02,       A16N,     092,          1,          9,          9,2,20030723,       0427,    20.0007,   -29.0003,       4800,  1499.7,   4.7859,  35.0564,2,  35.0595,2,    203.9,2,   205.3,2,   21.06,2,   23.43,2,    0.01,2,    1.56,2,   0.002,2,   0.005,2,   0.000,2,  2187.7,2,  2323.2,2,    833.2,2,    20.00,   7.6931,2,    25.00,-999.000,9,-999.000,9,-999.000,9, -999.00,9,  -999.0,9,  -999.0,-999.000,9,-999.000,-999.000,9,   40.49,2,   28.56,2, 1499.70,-999.0000,9,-999.0000,9,-999.0000,9,-999.0000,9,-999.0000,9,-999.0000,9,   4.6567,     -999.0,9,     -999.0,9,     -999.0,9,     -999.0,9,         92,-999.000,-999.000,-999.000,     -999.0,9, -999.00,9, -999.00,9
33RO200306_02,       A16N,     092,          1,          8,          8,2,20030723,       0427,    20.0007,   -29.0003,       4800,  1699.8,   4.2593,  35.0282,2,  35.0292,2,    219.8,2,   218.5,2,   22.04,2,   22.46,2,    0.01,2,    1.51,2,   0.005,2,   0.002,2,   0.001,2,  2179.9,2,  2328.6,2,    805.8,2,    20.00,   7.6987,2,    25.00,-999.000,9,-999.000,9,-999.000,9, -999.00,9,  -999.0,9,  -999.0,-999.000,9,-999.000,-999.000,9,   40.32,2,   27.06,2, 1699.80,-999.0000,9,-999.0000,9,-999.0000,9,-999.0000,9,-999.0000,9,-999.0000,9,   4.1172,     -999.0,9,       0.00,2,       0.00,2,       0.18,2,         92,-999.000,-999.000,-999.000,      31.54,2,    1.08,2,     0.0,2