BOTTLE,20230908CCHSIOCBG
EXPOCODE,SECT_ID,STNNBR,CASTNO,SAMPNO,BTLNBR,BTLNBR_FLAG_W,DATE,TIME,LATITUDE,LONGITUDE,DEPTH,CTDPRS,CTDTMP,CTDSAL,CTDSAL_FLAG_W,SALNTY,SALNTY_FLAG_W,CTDOXY,CTDOXY_FLAG_W,OXYGEN,OXYGEN_FLAG_W,SILCAT,SILCAT_FLAG_W,NITRAT,NITRAT_FLAG_W,NITRIT,NITRIT_FLAG_W,PHSPHT,PHSPHT_FLAG_W,CFC-11,CFC-11_FLAG_W,CFC-12,CFC-12_FLAG_W,CFC113,CFC113_FLAG_W,TCARBN,TCARBN_FLAG_W,ALKALI,ALKALI_FLAG_W,FCO2,FCO2_FLAG_W,FCO2TMP,PH_SWS,PH_SWS_FLAG_W,PH_TMP,TRITUM,TRITUM_FLAG_W,HELIUM,HELIUM_FLAG_W,DELHE3,DELHE3_FLAG_W,DELC13,DELC13_FLAG_W,DELC14,DELC14_FLAG_W,C14ERR,NEON,NEON_FLAG_W,NEONER,POC,POC_FLAG_W,DOC,DOC_FLAG_W,TDN,TDN_FLAG_W,CTDRAW,CDOM325,CDOM325_FLAG_W,CDOM340,CDOM340_FLAG_W,CDOM380,CDOM380_FLAG_W,CDOM412,CDOM412_FLAG_W,CDOMSL,CDOMSL_FLAG_W,CDOMSN,CDOMSN_FLAG_W,THETA,PON,PON_FLAG_W,HCFC-22,HCFC-22_FLAG_W,HCFC-142b,HCFC-142b_FLAG_W,HCFC-141b,HCFC-141b_FLAG_W,STNNBR_U,HELIER,DELHER,TRITER,CH3CL,CH3CL_FLAG_W,CH3BR,CH3BR_FLAG_W,CH3I,CH3I_FLAG_W
,,,,,,,,,,,METERS,DBAR,ITS-90,PSS-78,,PSS-78,,UMOL/KG,,UMOL/KG,,UMOL/KG,,UMOL/KG,,UMOL/KG,,UMOL/KG,,PMOL/KG,,PMOL/KG,,PMOL/KG,,UMOL/KG,,UMOL/KG,,UATM,,DEG C,,,DEG C,TU,,NMOL/KG,,PERCNT,,/MILLE,,/MILLE,,/MILLE,NMOL/KG,,NMOL/KG,UG/KG,,UMOL/KG,,UMOL/KG,,DBAR,1/M,,1/M,,1/M,,1/M,,1/NM,,1/NM,,DEG C,UMOL/L,,PMOL/KG,,PMOL/KG,,PMOL/KG,,,NMOL/KG,PERCNT,TU,PMOL/KG,,PMOL/KG,,PMOL/KG,
33RO200306_02,       A16N,     138,          2,         32,         32,2,20030805,       2102,    -0.9998,   -25.0008,       3218,     2.6,  26.1416,  36.1420,2,  36.1445,2,    195.2,2,   204.2,2,    1.10,2,    0.08,2,    0.00,2,    0.20,2,   1.750,2,   1.113,2,   0.144,2,  2049.6,6,  2375.8,2,    318.5,2,    20.00,   8.0461,2,    25.00,-999.000,9,-999.000,9,-999.000,9,    1.68,2,    62.0,2,     3.6,-999.000,9,-999.000,-999.000,9,   68.29,2,    8.74,2,    2.60,-999.0000,9,-999.0000,9,-999.0000,9,-999.0000,9,-999.0000,9,-999.0000,9,  26.1410,     -999.0,9,     -999.0,9,     -999.0,9,     -999.0,9,        138,-999.000,-999.000,-999.000,     -999.0,9, -999.00,9, -999.00,9
33RO200306_02,       A16N,     138,          2,         33,         33,9,20030805,       2102,    -0.9998,   -25.0008,       3218,     2.6,  26.1408,  36.1421,2,-999.0000,9,    195.2,2,  -999.0,9, -999.00,9, -999.00,9, -999.00,9, -999.00,9,-999.000,9,-999.000,9,-999.000,9,  -999.0,9,  -999.0,9,   -999.0,9,  -999.00,-999.0000,9,  -999.00,-999.000,9,-999.000,9,-999.000,9, -999.00,9,  -999.0,9,  -999.0,-999.000,9,-999.000,-999.000,9, -999.00,9, -999.00,9,    2.60,-999.0000,9,-999.0000,9,-999.0000,9,-999.0000,9,-999.0000,9,-999.0000,9,  26.1402,     -999.0,9,     -999.0,9,     -999.0,9,     -999.0,9,        138,-999.000,-999.000,-999.000,     -999.0,9, -999.00,9, -999.00,9
33RO200306_02,       A16N,     138,          2,         35,         35,9,20030805,       2102,    -0.9998,   -25.0008,       3218,     2.6,  26.1383,  36.1425,2,-999.0000,9,    195.1,2,  -999.0,9, -999.00,9, -999.00,9, -999.00,9, -999.00,9,-999.000,9,-999.000,9,-999.000,9,  -999.0,9,  -999.0,9,   -999.0,9,  -999.00,-999.0000,9,  -999.00,-999.000,9,-999.000,9,-999.000,9, -999.00,9,  -999.0,9,  -999.0,-999.000,9,-999.000,-999.000,9, -999.00,9, -999.00,9,    2.60,-999.0000,9,-999.0000,9,-999.0000,9,-999.0000,9,-999.0000,9,-999.0000,9,  26.1377,     -999.0,9,     -999.0,9,     -999.0,9,     -999.0,9,        138,-999.000,-999.000,-999.000,     -999.0,9, -999.00,9, -999.00,9
33RO200306_02,       A16N,     138,          2,         31,         31,2,20030805,       2102,    -0.9998,   -25.0008,       3218,    10.0,  26.1435,  36.1422,2,  36.1448,2,    194.9,2,   204.1,2,    1.10,2,    0.09,2,    0.00,2,    0.20,2,   1.764,6,   1.117,6,   0.147,6,  2050.2,2,  2375.6,2,    318.7,6,    20.00,   8.0453,2,    25.00,-999.000,9,-999.000,9,-999.000,9, -999.00,9,  -999.0,9,  -999.0,-999.000,9,-999.000,-999.000,9,   71.14,2,    7.79,2,   10.00,-999.0000,9,-999.0000,9,-999.0000,9,-999.0000,9,-999.0000,9,-999.0000,9,  26.1413,     -999.0,9,     -999.0,9,     -999.0,9,     -999.0,9,        138,-999.000,-999.000,-999.000,     -999.0,9, -999.00,9, -999.00,9
33RO200306_02,       A16N,     138,          2,         30,         30,2,20030805,       2102,    -0.9998,   -25.0008,       3218,    29.8,  26.0177,  36.1373,2,  36.1423,2,    194.5,2,   203.7,2,    0.01,2,    0.15,2,    0.00,2,    0.21,2,   1.777,2,   1.126,2,   0.144,2,  2052.0,2,  2375.1,2,    321.6,2,    20.00,   8.1000,3,    25.00,-999.000,9,-999.000,9,-999.000,9, -999.00,9,  -999.0,9,  -999.0,-999.000,9,-999.000,-999.000,9, -999.00,9, -999.00,9,   29.80,-999.0000,9,-999.0000,9,-999.0000,9,-999.0000,9,-999.0000,9,-999.0000,9,  26.0110,     -999.0,9,     -999.0,9,     -999.0,9,     -999.0,9,        138,-999.000,-999.000,-999.000,     -999.0,9, -999.00,9, -999.00,9
33RO200306_02,       A16N,     138,          2,         29,         29,2,20030805,       2102,    -0.9998,   -25.0008,       3218,    49.3,  24.6769,  36.1094,2,  36.1118,2,    191.5,2,   192.1,2,    1.68,2,    1.69,2,    0.08,2,    0.32,2,   1.826,2,   1.145,2,   0.133,2,  2071.1,2,  2372.8,2,    354.7,2,    20.00,   8.0027,2,    25.00,-999.000,9,-999.000,9,-999.000,9, -999.00,9,  -999.0,9,  -999.0,-999.000,9,-999.000,-999.000,9,   64.39,2,    9.90,2,   49.30,-999.0000,9,-999.0000,9,-999.0000,9,-999.0000,9,-999.0000,9,-999.0000,9,  24.6663,     -999.0,9,     -999.0,9,     -999.0,9,     -999.0,9,        138,-999.000,-999.000,-999.000,     -999.0,9, -999.00,9, -999.00,9
33RO200306_02,       A16N,     138,          2,         28,         28,2,20030805,       2102,    -0.9998,   -25.0008,       3218,    70.0,  21.0480,  36.1628,2,  36.1461,2,    159.5,2,   151.4,2,    2.81,2,    6.52,2,    0.19,2,    0.67,2,   2.008,2,   1.205,2,   0.109,2,  2129.3,2,  2375.4,2,    470.2,2,    20.00,   7.9204,2,    25.00,-999.000,9,-999.000,9,-999.000,9, -999.00,9,  -999.0,9,  -999.0,-999.000,9,-999.000,-999.000,9, -999.00,9, -999.00,9,   70.00,-999.0000,9,-999.0000,9,-999.0000,9,-999.0000,9,-999.0000,9,-999.0000,9,  21.0345,     -999.0,9,     -999.0,9,     -999.0,9,     -999.0,9,        138,-999.000,-999.000,-999.000,     -999.0,9, -999.00,9, -999.00,9
33RO200306_02,       A16N,     138,          2,         27,         27,2,20030805,       2102,    -0.9998,   -25.0008,       3218,    90.0,  17.1829,  35.7929,2,  35.8053,2,    134.7,2,   136.7,2,    4.54,2,   13.08,2,    0.04,2,    1.01,2,   2.086,2,   1.205,2,   0.077,2,  2156.0,2,  2353.3,2,    597.8,2,    20.00,   7.7939,2,    25.00,-999.000,9,-999.000,9,-999.000,9, -999.00,9,  -999.0,9,  -999.0,-999.000,9,-999.000,-999.000,9,   52.52,2,   16.73,2,   90.00,-999.0000,9,-999.0000,9,-999.0000,9,-999.0000,9,-999.0000,9,-999.0000,9,  17.1679,     -999.0,9,     -999.0,9,     -999.0,9,     -999.0,9,        138,-999.000,-999.000,-999.000,     -999.0,9, -999.00,9, -999.00,9
33RO200306_02,       A16N,     138,          2,         26,         26,2,20030805,       2102,    -0.9998,   -25.0008,       3218,   105.6,  15.4564,  35.5853,2,  35.5714,2,    119.0,2,   107.8,2,    6.43,2,   19.08,2,    0.05,2,    1.31,2,   2.024,2,   1.142,2,   0.036,2,  2179.6,2,  2335.8,2,    750.1,2,    20.00,   7.7359,2,    25.00,-999.000,9,-999.000,9,-999.000,9, -999.00,9,  -999.0,9,  -999.0,-999.000,9,-999.000,-999.000,9, -999.00,9, -999.00,9,  105.60,-999.0000,9,-999.0000,9,-999.0000,9,-999.0000,9,-999.0000,9,-999.0000,9,  15.4400,     -999.0,9,     -999.0,9,     -999.0,9,     -999.0,9,        138,-999.000,-999.000,-999.000,     -999.0,9, -999.00,9, -999.00,9
33RO200306_02,       A16N,     138,          2,         25,         25,2,20030805,       2102,    -0.9998,   -25.0008,       3218,   134.3,  14.5187,  35.4662,2,  35.4476,2,     95.2,2,    98.0,2,    7.51,2,   21.51,2,    0.02,2,    1.44,2,   1.868,2,   1.044,2,   0.023,2,  2189.2,2,  2329.2,2,    824.1,2,    20.00,   7.6953,2,    25.00,-999.000,9,-999.000,9,-999.000,9, -999.00,9,  -999.0,9,  -999.0,-999.000,9,-999.000,-999.000,9,   48.46,2,   25.12,2,  134.30,-999.0000,9,-999.0000,9,-999.0000,9,-999.0000,9,-999.0000,9,-999.0000,9,  14.4988,     -999.0,9,     -999.0,9,     -999.0,9,     -999.0,9,        138,-999.000,-999.000,-999.000,     -999.0,9, -999.00,9, -999.00,9
33RO200306_02,       A16N,     138,          2,         24,         24,2,20030805,       2102,    -0.9998,   -25.0008,       3218,   159.3,  13.6531,  35.3553,2,  35.3554,2,     93.4,2,    92.0,2,    8.44,2,   23.20,2,    0.01,2,    1.53,2,-999.000,9,-999.000,9,-999.000,9,  2194.5,2,  2322.3,2,    883.3,2,    20.00,   7.6814,2,    25.00,-999.000,9,-999.000,9,-999.000,9, -999.00,9,  -999.0,9,  -999.0,-999.000,9,-999.000,-999.000,9, -999.00,9, -999.00,9,  159.30,-999.0000,9,-999.0000,9,-999.0000,9,-999.0000,9,-999.0000,9,-999.0000,9,  13.6304,     -999.0,9,     -999.0,9,     -999.0,9,     -999.0,9,        138,-999.000,-999.000,-999.000,     -999.0,9, -999.00,9, -999.00,9
33RO200306_02,       A16N,     138,          2,         23,         23,2,20030805,       2102,    -0.9998,   -25.0008,       3218,   184.8,  13.3285,  35.3136,2,  35.3087,2,     88.2,2,    91.3,2,    8.68,2,   23.81,2,    0.01,2,    1.57,2,   1.696,2,   0.941,2,   0.019,2,  2195.7,2,  2321.2,2,    901.7,2,    20.00,   7.6656,2,    25.00,-999.000,9,-999.000,9,-999.000,9, -999.00,9,  -999.0,9,  -999.0,-999.000,9,-999.000,-999.000,9,   46.66,2,   27.24,2,  184.80,-999.0000,9,-999.0000,9,-999.0000,9,-999.0000,9,-999.0000,9,-999.0000,9,  13.3026,     -999.0,9,     -999.0,9,     -999.0,9,     -999.0,9,        138,-999.000,-999.000,-999.000,     -999.0,9, -999.00,9, -999.00,9
33RO200306_02,       A16N,     138,          2,         22,         22,2,20030805,       2102,    -0.9998,   -25.0008,       3218,   225.0,  12.6431,  35.2308,2,  35.2277,2,     82.7,2,    81.7,2,    9.99,2,   26.01,2,    0.01,2,    1.69,2,-999.000,9,-999.000,9,-999.000,9,  2203.8,2,  2317.6,2,    997.0,2,    20.00,   7.6059,2,    25.00,-999.000,9,-999.000,9,-999.000,9, -999.00,9,  -999.0,9,  -999.0,-999.000,9,-999.000,-999.000,9,   46.83,2,   29.37,2,  225.00,-999.0000,9,-999.0000,9,-999.0000,9,-999.0000,9,-999.0000,9,-999.0000,9,  12.6126,     -999.0,9,     -999.0,9,     -999.0,9,     -999.0,9,        138,-999.000,-999.000,-999.000,     -999.0,9, -999.00,9, -999.00,9
33RO200306_02,       A16N,     138,          2,         21,         21,2,20030805,       2102,    -0.9998,   -25.0008,       3218,   272.0,  11.6937,  35.1064,2,  35.1032,2,     91.3,2,    93.7,2,   10.54,2,   26.40,2,    0.01,2,    1.71,2,   1.458,2,   0.783,2,   0.013,2,  2200.7,2,  2312.4,2,    996.5,2,    20.00,   7.6294,2,    25.00,-999.000,9,-999.000,9,-999.000,9, -999.00,9,  -999.0,9,  -999.0,-999.000,9,-999.000,-999.000,9,   45.61,2,   29.23,2,  272.00,-999.0000,9,-999.0000,9,-999.0000,9,-999.0000,9,-999.0000,9,-999.0000,9,  11.6587,     -999.0,9,     -999.0,9,     -999.0,9,     -999.0,9,        138,-999.000,-999.000,-999.000,     -999.0,9, -999.00,9, -999.00,9
33RO200306_02,       A16N,     138,          2,         20,         20,2,20030805,       2102,    -0.9998,   -25.0008,       3218,   324.6,  10.4858,  34.9704,2,  34.9650,2,     81.1,2,    81.0,2,   12.90,2,   30.06,2,    0.01,2,    1.90,2,-999.000,9,-999.000,9,-999.000,9,  2216.2,2,  2307.5,2,   1156.2,2,    20.00,   7.5388,2,    25.00,-999.000,9,-999.000,9,-999.000,9, -999.00,9,  -999.0,9,  -999.0,-999.000,9,-999.000,-999.000,9,   44.07,2,   33.16,2,  324.60,-999.0000,9,-999.0000,9,-999.0000,9,-999.0000,9,-999.0000,9,-999.0000,9,  10.4468,     -999.0,9,     -999.0,9,     -999.0,9,     -999.0,9,        138,-999.000,-999.000,-999.000,     -999.0,9, -999.00,9, -999.00,9
33RO200306_02,       A16N,     138,          2,         19,         19,2,20030805,       2102,    -0.9998,   -25.0008,       3218,   375.1,   9.2421,  34.8364,2,  34.8276,2,     79.2,2,    79.3,2,   15.55,2,   32.62,2,    0.01,2,    2.08,2,   0.712,2,   0.380,2,   0.008,2,  2226.1,2,  2303.1,2,   1270.2,2,    20.00,   7.5272,2,    25.00,-999.000,9,-999.000,9,-999.000,9, -999.00,9,  -999.0,9,  -999.0,-999.000,9,-999.000,-999.000,9,   42.93,2,   36.36,2,  375.10,-999.0000,9,-999.0000,9,-999.0000,9,-999.0000,9,-999.0000,9,-999.0000,9,   9.2003,     -999.0,9,     -999.0,9,     -999.0,9,     -999.0,9,        138,-999.000,-999.000,-999.000,     -999.0,9, -999.00,9, -999.00,9
33RO200306_02,       A16N,     138,          2,         18,         18,2,20030805,       2102,    -0.9998,   -25.0008,       3218,   424.1,   7.6794,  34.6637,2,  34.6564,2,    125.3,2,   129.6,2,   18.04,2,   30.68,2,    0.00,2,    2.03,2,   0.914,2,   0.471,2,   0.021,2,  2205.1,2,  2299.9,2,   1103.5,2,    20.00,   7.6233,2,    25.00,-999.000,9,-999.000,9,-999.000,9, -999.00,9,  -999.0,9,  -999.0,-999.000,9,-999.000,-999.000,9,   43.09,2,   33.73,2,  424.10,-999.0000,9,-999.0000,9,-999.0000,9,-999.0000,9,-999.0000,9,-999.0000,9,   7.6371,     -999.0,9,     -999.0,9,     -999.0,9,     -999.0,9,        138,-999.000,-999.000,-999.000,     -999.0,9, -999.00,9, -999.00,9
33RO200306_02,       A16N,     138,          2,         17,         17,2,20030805,       2102,    -0.9998,   -25.0008,       3218,   475.3,   6.2937,  34.5214,2,  34.5229,2,    146.9,2,   152.0,2,   21.10,2,   30.46,2,    0.00,2,    2.05,2,   1.066,2,   0.534,2,   0.033,2,  2192.6,2,  2298.5,6,   1041.4,2,    20.00,   7.5881,6,    25.00,-999.000,9,-999.000,9,-999.000,9, -999.00,9,  -999.0,9,  -999.0,-999.000,9,-999.000,-999.000,9,   42.26,2,   34.63,2,  475.30,-999.0000,9,-999.0000,9,-999.0000,9,-999.0000,9,-999.0000,9,-999.0000,9,   6.2512,     -999.0,9,     -999.0,9,     -999.0,9,     -999.0,9,        138,-999.000,-999.000,-999.000,     -999.0,9, -999.00,9, -999.00,9
33RO200306_02,       A16N,     138,          2,         16,         16,2,20030805,       2102,    -0.9998,   -25.0008,       3218,   548.9,   6.1329,  34.5455,2,  34.5441,2,    137.4,2,   139.6,2,   23.29,2,   32.77,2,    0.00,2,    2.19,2,   0.500,2,   0.255,2,   0.012,2,  2208.5,2,  2299.5,2,   1154.5,2,    20.00,   7.5651,2,    25.00,-999.000,9,-999.000,9,-999.000,9, -999.00,9,  -999.0,9,  -999.0,-999.000,9,-999.000,-999.000,9,   41.14,2,   36.07,2,  548.90,-999.0000,9,-999.0000,9,-999.0000,9,-999.0000,9,-999.0000,9,-999.0000,9,   6.0842,     -999.0,9,     -999.0,9,     -999.0,9,     -999.0,9,        138,-999.000,-999.000,-999.000,     -999.0,9, -999.00,9, -999.00,9
33RO200306_02,       A16N,     138,          2,         15,         15,2,20030805,       2102,    -0.9998,   -25.0008,       3218,   648.4,   5.5376,  34.5087,2,  34.5089,2,    144.1,2,   144.9,2,   25.88,2,   33.45,2,    0.00,2,    2.25,2,   0.384,2,   0.200,2,   0.010,2,  2210.1,2,  2300.5,2,   1168.2,2,    20.00,   7.5705,2,    25.00,-999.000,9,-999.000,9,-999.000,9, -999.00,9,  -999.0,9,  -999.0,-999.000,9,-999.000,-999.000,9,   40.90,2,   37.64,2,  648.40,-999.0000,9,-999.0000,9,-999.0000,9,-999.0000,9,-999.0000,9,-999.0000,9,   5.4826,     -999.0,9,     -999.0,9,     -999.0,9,     -999.0,9,        138,-999.000,-999.000,-999.000,     -999.0,9, -999.00,9, -999.00,9
33RO200306_02,       A16N,     138,          2,         14,         14,2,20030805,       2102,    -0.9998,   -25.0008,       3218,   749.3,   5.0665,  34.5038,2,  34.5063,2,    146.8,2,   146.4,2,   28.78,2,   33.92,2,    0.00,2,    2.30,2,   0.203,2,   0.108,2,   0.005,2,  2214.2,2,  2303.0,2,   1185.2,2,    20.00,   7.5559,2,    25.00,-999.000,9,-999.000,9,-999.000,9, -999.00,9,  -999.0,9,  -999.0,-999.000,9,-999.000,-999.000,9,   39.27,2,   36.99,2,  749.30,-999.0000,9,-999.0000,9,-999.0000,9,-999.0000,9,-999.0000,9,-999.0000,9,   5.0050,     -999.0,9,     -999.0,9,     -999.0,9,     -999.0,9,        138,-999.000,-999.000,-999.000,     -999.0,9, -999.00,9, -999.00,9
33RO200306_02,       A16N,     138,          2,         13,         13,2,20030805,       2102,    -0.9998,   -25.0008,       3218,   849.3,   4.7797,  34.5146,2,  34.5140,2,    152.4,2,   151.1,2,   30.39,2,   34.09,2,    0.00,2,    2.29,2,   0.162,2,   0.082,2,   0.005,2,  2214.8,2,  2305.1,2,   1173.0,2,    20.00,   7.5502,2,    25.00,-999.000,9,-999.000,9,-999.000,9, -999.00,9,  -999.0,9,  -999.0,-999.000,9,-999.000,-999.000,9,   39.92,2,   37.17,2,  849.30,-999.0000,9,-999.0000,9,-999.0000,9,-999.0000,9,-999.0000,9,-999.0000,9,   4.7113,     -999.0,9,     -999.0,9,     -999.0,9,     -999.0,9,        138,-999.000,-999.000,-999.000,     -999.0,9, -999.00,9, -999.00,9
33RO200306_02,       A16N,     138,          2,         12,         12,2,20030805,       2102,    -0.9998,   -25.0008,       3218,   947.3,   4.4915,  34.5467,2,  34.5466,2,    159.2,2,   157.6,2,   31.93,2,   33.44,2,    0.00,2,    2.27,2,   0.112,2,   0.058,2,   0.008,2,  2217.1,2,  2307.6,2,   1139.1,2,    20.00,   7.5702,2,    25.00,-999.000,9,-999.000,9,-999.000,9, -999.00,9,  -999.0,9,  -999.0,-999.000,9,-999.000,-999.000,9,   40.17,2,   36.60,2,  947.30,-999.0000,9,-999.0000,9,-999.0000,9,-999.0000,9,-999.0000,9,-999.0000,9,   4.4166,     -999.0,9,     -999.0,9,     -999.0,9,     -999.0,9,        138,-999.000,-999.000,-999.000,     -999.0,9, -999.00,9, -999.00,9
33RO200306_02,       A16N,     138,          2,         11,         11,2,20030805,       2102,    -0.9998,   -25.0008,       3218,  1048.6,   4.4774,  34.6660,2,  34.6657,2,    164.2,2,   161.7,2,   30.01,2,   31.71,2,    0.00,2,    2.15,2,   0.038,2,   0.024,2,   0.003,2,  2214.8,6,  2311.3,2,   1100.8,2,    20.00,   7.5837,2,    25.00,-999.000,9,-999.000,9,-999.000,9, -999.00,9,  -999.0,9,  -999.0,-999.000,9,-999.000,-999.000,9,   40.41,2,   35.04,2, 1048.60,-999.0000,9,-999.0000,9,-999.0000,9,-999.0000,9,-999.0000,9,-999.0000,9,   4.3936,     -999.0,9,     -999.0,9,     -999.0,9,     -999.0,9,        138,-999.000,-999.000,-999.000,     -999.0,9, -999.00,9, -999.00,9
33RO200306_02,       A16N,     138,          2,         10,         10,2,20030805,       2102,    -0.9998,   -25.0008,       3218,  1147.0,   4.5468,  34.7647,2,  34.7698,2,    175.0,2,   173.7,2,   26.82,2,   29.26,2,    0.00,2,    1.99,2,   0.038,2,   0.022,2,   0.000,2,  2206.7,2,  2314.9,2,   -999.0,9,  -999.00,   7.5879,2,    25.00,-999.000,9,-999.000,9,-999.000,9, -999.00,9,  -999.0,9,  -999.0,-999.000,9,-999.000,-999.000,9,   39.59,2,   32.68,2, 1147.00,-999.0000,9,-999.0000,9,-999.0000,9,-999.0000,9,-999.0000,9,-999.0000,9,   4.4535,     -999.0,9,     -999.0,9,     -999.0,9,     -999.0,9,        138,-999.000,-999.000,-999.000,     -999.0,9, -999.00,9, -999.00,9
33RO200306_02,       A16N,     138,          2,          9,          9,2,20030805,       2102,    -0.9998,   -25.0008,       3218,  1250.0,   4.5541,  34.8502,2,  34.8524,2,    190.0,2,   188.7,2,   23.73,2,   26.83,2,    0.00,2,    1.81,2,   0.069,2,   0.039,2,  -0.001,2,  2196.9,2,  2317.2,2,    947.0,2,    20.00,   7.6698,2,    25.00,-999.000,9,-999.000,9,-999.000,9, -999.00,9,  -999.0,9,  -999.0,-999.000,9,-999.000,-999.000,9,   39.19,2,   29.96,2, 1250.00,-999.0000,9,-999.0000,9,-999.0000,9,-999.0000,9,-999.0000,9,-999.0000,9,   4.4512,     -999.0,9,     -999.0,9,     -999.0,9,     -999.0,9,        138,-999.000,-999.000,-999.000,     -999.0,9, -999.00,9, -999.00,9
33RO200306_02,       A16N,     138,          2,          8,          8,2,20030805,       2102,    -0.9998,   -25.0008,       3218,  1349.4,   4.5487,  34.9028,2,  34.9051,2,    201.3,2,   197.6,2,   21.41,2,   24.76,2,    0.00,2,    1.67,2,   0.112,2,   0.057,2,   0.002,2,  2188.0,2,  2316.8,2,   -999.0,9,  -999.00,   7.6796,2,    25.00,-999.000,9,-999.000,9,-999.000,9, -999.00,9,  -999.0,9,  -999.0,-999.000,9,-999.000,-999.000,9,   41.71,2,   28.28,2, 1349.40,-999.0000,9,-999.0000,9,-999.0000,9,-999.0000,9,-999.0000,9,-999.0000,9,   4.4366,     -999.0,9,     -999.0,9,     -999.0,9,     -999.0,9,        138,-999.000,-999.000,-999.000,     -999.0,9, -999.00,9, -999.00,9