BOTTLE,20230908CCHSIOCBG
EXPOCODE,SECT_ID,STNNBR,CASTNO,SAMPNO,BTLNBR,BTLNBR_FLAG_W,DATE,TIME,LATITUDE,LONGITUDE,DEPTH,CTDPRS,CTDTMP,CTDSAL,CTDSAL_FLAG_W,SALNTY,SALNTY_FLAG_W,CTDOXY,CTDOXY_FLAG_W,OXYGEN,OXYGEN_FLAG_W,SILCAT,SILCAT_FLAG_W,NITRAT,NITRAT_FLAG_W,NITRIT,NITRIT_FLAG_W,PHSPHT,PHSPHT_FLAG_W,CFC-11,CFC-11_FLAG_W,CFC-12,CFC-12_FLAG_W,CFC113,CFC113_FLAG_W,TCARBN,TCARBN_FLAG_W,ALKALI,ALKALI_FLAG_W,FCO2,FCO2_FLAG_W,FCO2TMP,PH_SWS,PH_SWS_FLAG_W,PH_TMP,TRITUM,TRITUM_FLAG_W,HELIUM,HELIUM_FLAG_W,DELHE3,DELHE3_FLAG_W,DELC13,DELC13_FLAG_W,DELC14,DELC14_FLAG_W,C14ERR,NEON,NEON_FLAG_W,NEONER,POC,POC_FLAG_W,DOC,DOC_FLAG_W,TDN,TDN_FLAG_W,CTDRAW,CDOM325,CDOM325_FLAG_W,CDOM340,CDOM340_FLAG_W,CDOM380,CDOM380_FLAG_W,CDOM412,CDOM412_FLAG_W,CDOMSL,CDOMSL_FLAG_W,CDOMSN,CDOMSN_FLAG_W,THETA,PON,PON_FLAG_W,HCFC-22,HCFC-22_FLAG_W,HCFC-142b,HCFC-142b_FLAG_W,HCFC-141b,HCFC-141b_FLAG_W,STNNBR_U,HELIER,DELHER,TRITER,CH3CL,CH3CL_FLAG_W,CH3BR,CH3BR_FLAG_W,CH3I,CH3I_FLAG_W
,,,,,,,,,,,METERS,DBAR,ITS-90,PSS-78,,PSS-78,,UMOL/KG,,UMOL/KG,,UMOL/KG,,UMOL/KG,,UMOL/KG,,UMOL/KG,,PMOL/KG,,PMOL/KG,,PMOL/KG,,UMOL/KG,,UMOL/KG,,UATM,,DEG C,,,DEG C,TU,,NMOL/KG,,PERCNT,,/MILLE,,/MILLE,,/MILLE,NMOL/KG,,NMOL/KG,UG/KG,,UMOL/KG,,UMOL/KG,,DBAR,1/M,,1/M,,1/M,,1/M,,1/NM,,1/NM,,DEG C,UMOL/L,,PMOL/KG,,PMOL/KG,,PMOL/KG,,,NMOL/KG,PERCNT,TU,PMOL/KG,,PMOL/KG,,PMOL/KG,
33RO200306_01,       A16N,     009,          1,          7,          7,2,20030621,       1111,    61.0007,   -20.0018,       2411,  1899.8,   3.2924,  34.9289,2,  34.9331,2,    282.9,2,   281.5,2,   11.83,2,   16.47,2,    0.00,2,    1.05,2,   2.723,2,   1.308,2,   0.155,2,  2156.2,2,  2300.4,2,    755.1,2,    20.00,   7.7249,2,    25.00,   1.133,2,   1.840,2,   6.380,2, -999.00,9,  -999.0,9,  -999.0,   7.903,2,   0.058,-999.000,9,   45.93,2,   20.83,2, 1899.80,-999.0000,9,-999.0000,9,-999.0000,9,-999.0000,9,-999.0000,9,-999.0000,9,   3.1448,     -999.0,9,     -999.0,9,     -999.0,9,     -999.0,9,          9,   0.004,   0.192,   0.030,     -999.0,9, -999.00,9, -999.00,9
33RO200306_01,       A16N,     009,          1,          3,          3,9,20030621,       1111,    61.0007,   -20.0018,       2411,  2099.8,   3.2967,  34.9918,2,-999.0000,9,    280.2,2,  -999.0,9, -999.00,9, -999.00,9, -999.00,9, -999.00,9,-999.000,9,-999.000,9,-999.000,9,  -999.0,9,  -999.0,9,   -999.0,9,  -999.00,-999.0000,9,  -999.00,-999.000,9,-999.000,9,-999.000,9, -999.00,9,  -999.0,9,  -999.0,-999.000,9,-999.000,-999.000,9, -999.00,9, -999.00,9, 2099.80,-999.0000,9,-999.0000,9,-999.0000,9,-999.0000,9,-999.0000,9,-999.0000,9,   3.1302,     -999.0,9,     -999.0,9,     -999.0,9,     -999.0,9,          9,-999.000,-999.000,-999.000,     -999.0,9, -999.00,9, -999.00,9
33RO200306_01,       A16N,     009,          1,          6,          6,2,20030621,       1111,    61.0007,   -20.0018,       2411,  2100.2,   3.3125,  34.9904,2,  34.9931,2,    280.2,2,   279.3,2,   10.79,2,   15.63,2,    0.00,2,    1.00,2,   2.883,2,   1.417,2,   0.177,2,  2159.2,2,  2303.3,2,    762.2,2,    20.00,   7.7321,2,    25.00,-999.000,9,-999.000,9,-999.000,9, -999.00,9,  -999.0,9,  -999.0,-999.000,9,-999.000,-999.000,9,   45.69,2,   19.60,2, 2100.20,-999.0000,9,-999.0000,9,-999.0000,9,-999.0000,9,-999.0000,9,-999.0000,9,   3.1457,     -999.0,9,     -999.0,9,     -999.0,9,     -999.0,9,          9,-999.000,-999.000,-999.000,     -999.0,9, -999.00,9, -999.00,9
33RO200306_01,       A16N,     009,          1,          2,          2,9,20030621,       1111,    61.0007,   -20.0018,       2411,  2299.7,   2.7473,  34.9801,2,-999.0000,9,    282.9,2,  -999.0,9, -999.00,9, -999.00,9, -999.00,9, -999.00,9,-999.000,9,-999.000,9,-999.000,9,  -999.0,9,  -999.0,9,   -999.0,9,  -999.00,-999.0000,9,  -999.00,-999.000,9,-999.000,9,-999.000,9, -999.00,9,  -999.0,9,  -999.0,-999.000,9,-999.000,-999.000,9, -999.00,9, -999.00,9, 2299.70,-999.0000,9,-999.0000,9,-999.0000,9,-999.0000,9,-999.0000,9,-999.0000,9,   2.5709,     -999.0,9,     -999.0,9,     -999.0,9,     -999.0,9,          9,-999.000,-999.000,-999.000,     -999.0,9, -999.00,9, -999.00,9
33RO200306_01,       A16N,     009,          1,          5,          5,2,20030621,       1111,    61.0007,   -20.0018,       2411,  2299.9,   2.7660,  34.9813,2,  34.9855,2,    282.9,2,   279.8,2,   12.97,2,   15.68,2,    0.00,2,    1.02,2,   2.699,2,   1.334,2,   0.169,2,  2163.6,2,  2305.2,2,    766.7,2,    20.00,   7.7175,2,    25.00,-999.000,9,   1.874,2,   4.125,2, -999.00,9,  -999.0,9,  -999.0,   8.119,2,   0.054,-999.000,9,   46.60,2,   21.00,2, 2299.90,-999.0000,9,-999.0000,9,-999.0000,9,-999.0000,9,-999.0000,9,-999.0000,9,   2.5893,     -999.0,9,     -999.0,9,     -999.0,9,     -999.0,9,          9,   0.004,   0.219,-999.000,     -999.0,9, -999.00,9, -999.00,9
33RO200306_01,       A16N,     009,          1,          4,          4,2,20030621,       1111,    61.0007,   -20.0018,       2411,  2420.6,   2.4258,  34.9819,2,  34.9864,2,    286.6,2,   290.6,2,   10.64,2,   15.00,2,    0.02,2,    0.99,2,   2.982,2,   1.478,2,   0.194,2,  2165.9,2,  2303.0,2,    775.8,2,    20.00,   7.7136,2,    25.00,-999.000,9,-999.000,9,-999.000,9, -999.00,9,  -999.0,9,  -999.0,-999.000,9,-999.000,-999.000,9,   45.29,2,   19.44,2, 2420.60,-999.0000,9,-999.0000,9,-999.0000,9,-999.0000,9,-999.0000,9,-999.0000,9,   2.2437,     -999.0,9,     -999.0,9,     -999.0,9,     -999.0,9,          9,-999.000,-999.000,-999.000,     -999.0,9, -999.00,9, -999.00,9
33RO200306_01,       A16N,     009,          1,          1,          1,9,20030621,       1111,    61.0007,   -20.0018,       2411,  2423.0,   2.4269,  34.9820,2,-999.0000,9,    286.8,2,  -999.0,9, -999.00,9, -999.00,9, -999.00,9, -999.00,9,-999.000,9,-999.000,9,-999.000,9,  -999.0,9,  -999.0,9,   -999.0,9,  -999.00,-999.0000,9,  -999.00,-999.000,9,-999.000,9,-999.000,9, -999.00,9,  -999.0,9,  -999.0,-999.000,9,-999.000,-999.000,9, -999.00,9, -999.00,9, 2423.00,-999.0000,9,-999.0000,9,-999.0000,9,-999.0000,9,-999.0000,9,-999.0000,9,   2.2446,     -999.0,9,     -999.0,9,     -999.0,9,     -999.0,9,          9,-999.000,-999.000,-999.000,     -999.0,9, -999.00,9, -999.00,9