BOTTLE,20230908CCHSIOCBG
EXPOCODE,SECT_ID,STNNBR,CASTNO,SAMPNO,BTLNBR,BTLNBR_FLAG_W,DATE,TIME,LATITUDE,LONGITUDE,DEPTH,CTDPRS,CTDTMP,CTDSAL,CTDSAL_FLAG_W,SALNTY,SALNTY_FLAG_W,CTDOXY,CTDOXY_FLAG_W,OXYGEN,OXYGEN_FLAG_W,SILCAT,SILCAT_FLAG_W,NITRAT,NITRAT_FLAG_W,NITRIT,NITRIT_FLAG_W,PHSPHT,PHSPHT_FLAG_W,CFC-11,CFC-11_FLAG_W,CFC-12,CFC-12_FLAG_W,CFC113,CFC113_FLAG_W,TCARBN,TCARBN_FLAG_W,ALKALI,ALKALI_FLAG_W,FCO2,FCO2_FLAG_W,FCO2TMP,PH_SWS,PH_SWS_FLAG_W,PH_TMP,TRITUM,TRITUM_FLAG_W,HELIUM,HELIUM_FLAG_W,DELHE3,DELHE3_FLAG_W,DELC13,DELC13_FLAG_W,DELC14,DELC14_FLAG_W,C14ERR,NEON,NEON_FLAG_W,NEONER,POC,POC_FLAG_W,DOC,DOC_FLAG_W,TDN,TDN_FLAG_W,CTDRAW,CDOM325,CDOM325_FLAG_W,CDOM340,CDOM340_FLAG_W,CDOM380,CDOM380_FLAG_W,CDOM412,CDOM412_FLAG_W,CDOMSL,CDOMSL_FLAG_W,CDOMSN,CDOMSN_FLAG_W,THETA,PON,PON_FLAG_W,HCFC-22,HCFC-22_FLAG_W,HCFC-142b,HCFC-142b_FLAG_W,HCFC-141b,HCFC-141b_FLAG_W,STNNBR_U,HELIER,DELHER,TRITER,CH3CL,CH3CL_FLAG_W,CH3BR,CH3BR_FLAG_W,CH3I,CH3I_FLAG_W
,,,,,,,,,,,METERS,DBAR,ITS-90,PSS-78,,PSS-78,,UMOL/KG,,UMOL/KG,,UMOL/KG,,UMOL/KG,,UMOL/KG,,UMOL/KG,,PMOL/KG,,PMOL/KG,,PMOL/KG,,UMOL/KG,,UMOL/KG,,UATM,,DEG C,,,DEG C,TU,,NMOL/KG,,PERCNT,,/MILLE,,/MILLE,,/MILLE,NMOL/KG,,NMOL/KG,UG/KG,,UMOL/KG,,UMOL/KG,,DBAR,1/M,,1/M,,1/M,,1/M,,1/NM,,1/NM,,DEG C,UMOL/L,,PMOL/KG,,PMOL/KG,,PMOL/KG,,,NMOL/KG,PERCNT,TU,PMOL/KG,,PMOL/KG,,PMOL/KG,
33RO200306_02,       A16N,     129,          1,          7,          7,2,20030803,       1723,     2.0002,   -25.0003,       3887,  1899.1,   3.6218,  34.9701,2,  34.9711,2,    247.6,2,   250.4,2,   19.85,2,   19.99,2,    0.00,2,    1.36,2,   0.098,2,   0.054,2,   0.003,2,  2167.0,2,  2316.1,2,    754.3,2,    20.00,   7.7363,2,    25.00,   0.157,2,   1.833,2,   2.189,2, -999.00,9,  -999.0,9,  -999.0,   7.932,2,   0.027,-999.000,9,   42.68,2,   24.80,2, 1899.10,-999.0000,9,-999.0000,9,-999.0000,9,-999.0000,9,-999.0000,9,-999.0000,9,   3.4694,     -999.0,9,       0.00,2,       0.00,2,       0.01,2,        129,   0.003,   0.125,   0.010,       10.6,2,    0.51,2,     0.0,2
33RO200306_02,       A16N,     129,          1,          6,          6,2,20030803,       1723,     2.0002,   -25.0003,       3887,  2199.4,   3.3232,  34.9553,2,  34.9566,2,    248.0,2,   250.4,2,   24.15,2,   20.35,2,    0.00,2,    1.39,2,   0.038,2,   0.021,2,   0.001,2,  2172.1,2,  2337.5,3,   -999.0,9,  -999.00,   7.7398,2,    25.00,-999.000,9,   1.853,2,   1.725,2, -999.00,9,  -999.0,9,  -999.0,   7.969,2,   0.027,-999.000,9,   40.32,2,   25.06,2, 2199.40,-999.0000,9,-999.0000,9,-999.0000,9,-999.0000,9,-999.0000,9,-999.0000,9,   3.1468,     -999.0,9,     -999.0,9,     -999.0,9,     -999.0,9,        129,   0.003,   0.125,-999.000,     -999.0,9, -999.00,9, -999.00,9
33RO200306_02,       A16N,     129,          1,          5,          5,2,20030803,       1723,     2.0002,   -25.0003,       3887,  2500.1,   2.9954,  34.9377,2,  34.9389,2,    248.7,2,   251.4,2,   28.92,2,   20.65,2,    0.00,2,    1.42,2,   0.037,2,   0.022,2,   0.003,2,  2176.6,2,  2326.4,2,    759.9,2,    20.00,   7.7350,2,    25.00,-999.000,9,-999.000,9,-999.000,9, -999.00,9,  -999.0,9,  -999.0,-999.000,9,-999.000,-999.000,9,   41.63,2,   24.45,2, 2500.10,-999.0000,9,-999.0000,9,-999.0000,9,-999.0000,9,-999.0000,9,-999.0000,9,   2.7955,     -999.0,9,       0.00,2,       0.00,2,       0.01,2,        129,-999.000,-999.000,-999.000,      10.03,2,    0.44,2,     0.0,2
33RO200306_02,       A16N,     129,          1,          4,          4,2,20030803,       1723,     2.0002,   -25.0003,       3887,  2799.7,   2.7674,  34.9221,2,  34.9236,2,    248.0,2,   244.2,2,   33.92,6,   21.26,6,    0.00,6,    1.47,6,   0.011,2,   0.008,2,   0.001,2,  2182.2,2,  2335.2,2,   -999.0,9,  -999.00,   7.7277,2,    25.00,-999.000,9,-999.000,9,-999.000,9, -999.00,9,  -999.0,9,  -999.0,-999.000,9,-999.000,-999.000,9,   41.05,2,   26.03,2, 2799.70,-999.0000,9,-999.0000,9,-999.0000,9,-999.0000,9,-999.0000,9,-999.0000,9,   2.5422,     -999.0,9,     -999.0,9,     -999.0,9,     -999.0,9,        129,-999.000,-999.000,-999.000,     -999.0,9, -999.00,9, -999.00,9
33RO200306_02,       A16N,     129,          1,          3,          3,2,20030803,       1723,     2.0002,   -25.0003,       3887,  3098.8,   2.6028,  34.9110,2,  34.9116,2,    248.5,2,   248.0,2,   37.11,6,   21.44,6,    0.00,6,    1.49,6,   0.013,2,   0.008,2,   0.000,2,  2186.3,2,  2338.3,2,    770.8,6,    20.00,   7.7271,2,    25.00,-999.000,9,-999.000,9,-999.000,9, -999.00,9,  -999.0,9,  -999.0,-999.000,9,-999.000,-999.000,9,   40.65,2,   24.97,2, 3098.80,-999.0000,9,-999.0000,9,-999.0000,9,-999.0000,9,-999.0000,9,-999.0000,9,   2.3506,     -999.0,9,       0.00,2,       0.00,2,       0.00,2,        129,-999.000,-999.000,-999.000,        0.0,2,     0.0,2, -999.00,5
33RO200306_02,       A16N,     129,          1,          2,          2,2,20030803,       1723,     2.0002,   -25.0003,       3887,  3499.3,   2.4761,  34.9005,2,  34.9020,2,    250.9,2,   249.7,2,   39.90,6,   21.60,6,    0.00,6,    1.50,6,   0.014,2,   0.011,2,   0.002,2,  2188.9,2,  2341.7,2,   -999.0,9,  -999.00,   7.7264,2,    25.00,   0.030,2,   1.865,2,   2.651,2, -999.00,9,  -999.0,9,  -999.0,   8.049,2,   0.026,-999.000,9,   41.46,2,   25.33,2, 3499.30,-999.0000,9,-999.0000,9,-999.0000,9,-999.0000,9,-999.0000,9,-999.0000,9,   2.1844,     -999.0,9,     -999.0,9,     -999.0,9,     -999.0,9,        129,   0.003,   0.191,   0.020,     -999.0,9, -999.00,9, -999.00,9
33RO200306_02,       A16N,     129,          1,          1,          1,2,20030803,       1723,     2.0002,   -25.0003,       3887,  3931.7,   2.3751,  34.8899,2,  34.8915,2,    250.5,2,   249.7,2,   43.83,6,   22.11,6,    0.00,6,    1.54,6,   0.016,2,   0.010,2,   0.002,2,  2194.4,6,  2347.0,6,    778.7,2,    20.00,   7.7222,6,    25.00,   0.133,2,-999.000,9,-999.000,9, -999.00,9,  -999.0,9,  -999.0,-999.000,9,-999.000,-999.000,9,   40.49,2,   26.63,2, 3931.70,-999.0000,9,-999.0000,9,-999.0000,9,-999.0000,9,-999.0000,9,-999.0000,9,   2.0382,     -999.0,9,       0.00,2,       0.00,2,       0.00,2,        129,-999.000,-999.000,   0.010,     456.16,2,    4.02,2,     0.0,2