BOTTLE,20230908CCHSIOCBG
EXPOCODE,SECT_ID,STNNBR,CASTNO,SAMPNO,BTLNBR,BTLNBR_FLAG_W,DATE,TIME,LATITUDE,LONGITUDE,DEPTH,CTDPRS,CTDTMP,CTDSAL,CTDSAL_FLAG_W,SALNTY,SALNTY_FLAG_W,CTDOXY,CTDOXY_FLAG_W,OXYGEN,OXYGEN_FLAG_W,SILCAT,SILCAT_FLAG_W,NITRAT,NITRAT_FLAG_W,NITRIT,NITRIT_FLAG_W,PHSPHT,PHSPHT_FLAG_W,CFC-11,CFC-11_FLAG_W,CFC-12,CFC-12_FLAG_W,CFC113,CFC113_FLAG_W,TCARBN,TCARBN_FLAG_W,ALKALI,ALKALI_FLAG_W,FCO2,FCO2_FLAG_W,FCO2TMP,PH_SWS,PH_SWS_FLAG_W,PH_TMP,TRITUM,TRITUM_FLAG_W,HELIUM,HELIUM_FLAG_W,DELHE3,DELHE3_FLAG_W,DELC13,DELC13_FLAG_W,DELC14,DELC14_FLAG_W,C14ERR,NEON,NEON_FLAG_W,NEONER,POC,POC_FLAG_W,DOC,DOC_FLAG_W,TDN,TDN_FLAG_W,CTDRAW,CDOM325,CDOM325_FLAG_W,CDOM340,CDOM340_FLAG_W,CDOM380,CDOM380_FLAG_W,CDOM412,CDOM412_FLAG_W,CDOMSL,CDOMSL_FLAG_W,CDOMSN,CDOMSN_FLAG_W,THETA,PON,PON_FLAG_W,HCFC-22,HCFC-22_FLAG_W,HCFC-142b,HCFC-142b_FLAG_W,HCFC-141b,HCFC-141b_FLAG_W,STNNBR_U,HELIER,DELHER,TRITER,CH3CL,CH3CL_FLAG_W,CH3BR,CH3BR_FLAG_W,CH3I,CH3I_FLAG_W
,,,,,,,,,,,METERS,DBAR,ITS-90,PSS-78,,PSS-78,,UMOL/KG,,UMOL/KG,,UMOL/KG,,UMOL/KG,,UMOL/KG,,UMOL/KG,,PMOL/KG,,PMOL/KG,,PMOL/KG,,UMOL/KG,,UMOL/KG,,UATM,,DEG C,,,DEG C,TU,,NMOL/KG,,PERCNT,,/MILLE,,/MILLE,,/MILLE,NMOL/KG,,NMOL/KG,UG/KG,,UMOL/KG,,UMOL/KG,,DBAR,1/M,,1/M,,1/M,,1/M,,1/NM,,1/NM,,DEG C,UMOL/L,,PMOL/KG,,PMOL/KG,,PMOL/KG,,,NMOL/KG,PERCNT,TU,PMOL/KG,,PMOL/KG,,PMOL/KG,
33RO200306_01,       A16N,     033,          1,         35,         35,2,20030627,       0345,    49.0037,   -20.0017,       4415,     2.5,  14.1795,  35.5494,2,  35.5515,2,    264.9,2,   267.2,2,    0.13,2,    1.04,2,    0.05,2,    0.10,2,   3.126,2,   1.820,2,   0.271,2,  2056.8,3,  2339.1,2,    384.0,2,    20.00,   7.9892,2,    25.00,-999.000,9,-999.000,9,-999.000,9, -999.00,9,  -999.0,9,  -999.0,-999.000,9,-999.000,  21.708,2,   61.22,2,    5.48,2,    2.50,-999.0000,9,-999.0000,9,-999.0000,9,-999.0000,9,-999.0000,9,-999.0000,9,  14.1791,      2.694,2,     -999.0,9,     -999.0,9,     -999.0,9,         33,-999.000,-999.000,-999.000,     -999.0,9, -999.00,9, -999.00,9
33RO200306_01,       A16N,     033,          1,         33,         33,2,20030627,       0345,    49.0037,   -20.0017,       4415,    19.7,  14.1820,  35.5492,2,  35.5518,2,    264.4,2,   267.4,2,    0.13,2,    1.05,2,    0.05,2,    0.10,2,-999.000,9,-999.000,9,-999.000,9,  2065.6,3,  2340.9,2,    380.8,2,    20.00,   7.9875,2,    25.00,-999.000,9,-999.000,9,-999.000,9, -999.00,9,  -999.0,9,  -999.0,-999.000,9,-999.000,  22.340,2,   59.35,2,    6.18,2,   19.70,-999.0000,9,-999.0000,9,-999.0000,9,-999.0000,9,-999.0000,9,-999.0000,9,  14.1791,      2.983,2,     -999.0,9,     -999.0,9,     -999.0,9,         33,-999.000,-999.000,-999.000,     -999.0,9, -999.00,9, -999.00,9
33RO200306_01,       A16N,     033,          1,         32,         32,2,20030627,       0345,    49.0037,   -20.0017,       4415,    40.5,  12.9881,  35.5666,2,  35.5670,2,    261.0,2,   256.0,2,    0.45,2,    3.68,2,    0.11,2,    0.33,2,   3.278,2,   1.900,2,   0.283,2,  2100.5,2,  2338.9,2,    461.2,2,    20.00,   7.9181,2,    25.00,-999.000,9,-999.000,9,-999.000,9, -999.00,9,  -999.0,9,  -999.0,-999.000,9,-999.000,   9.008,2, -999.00,9, -999.00,9,   40.50,-999.0000,9,-999.0000,9,-999.0000,9,-999.0000,9,-999.0000,9,-999.0000,9,  12.9825,      1.206,2,     -999.0,9,     -999.0,9,     -999.0,9,         33,-999.000,-999.000,-999.000,     -999.0,9, -999.00,9, -999.00,9
33RO200306_01,       A16N,     033,          1,         31,         31,2,20030627,       0345,    49.0037,   -20.0017,       4415,    60.8,  12.3235,  35.5777,2,  35.5793,2,    252.1,2,   250.4,2,    1.35,2,    5.75,2,    0.23,2,    0.46,2,   3.309,2,   1.914,2,   0.281,2,  2114.6,2,  2339.7,2,    491.2,2,    20.00,   7.8931,2,    25.00,-999.000,9,-999.000,9,-999.000,9, -999.00,9,  -999.0,9,  -999.0,-999.000,9,-999.000,   3.643,2,   54.15,2,   10.72,2,   60.80,-999.0000,9,-999.0000,9,-999.0000,9,-999.0000,9,-999.0000,9,-999.0000,9,  12.3154,      0.359,2,     -999.0,9,     -999.0,9,     -999.0,9,         33,-999.000,-999.000,-999.000,     -999.0,9, -999.00,9, -999.00,9
33RO200306_01,       A16N,     033,          1,         30,         30,2,20030627,       0345,    49.0037,   -20.0017,       4415,    79.3,  11.9999,  35.5811,2,  35.5822,2,    250.8,2,   252.9,2,    2.09,2,    7.46,2,    0.50,2,    0.51,2,-999.000,9,-999.000,9,-999.000,9,  2118.7,2,  2336.8,2,   -999.0,9,  -999.00,   7.8783,2,    25.00,-999.000,9,-999.000,9,-999.000,9, -999.00,9,  -999.0,9,  -999.0,-999.000,9,-999.000,   4.693,2, -999.00,9, -999.00,9,   79.30,-999.0000,9,-999.0000,9,-999.0000,9,-999.0000,9,-999.0000,9,-999.0000,9,  11.9895,      0.972,2,     -999.0,9,     -999.0,9,     -999.0,9,         33,-999.000,-999.000,-999.000,     -999.0,9, -999.00,9, -999.00,9
33RO200306_01,       A16N,     033,          1,         29,         29,2,20030627,       0345,    49.0037,   -20.0017,       4415,    98.6,  11.8566,  35.5764,2,  35.5769,2,    247.6,2,   248.2,2,    2.26,2,    8.70,2,    0.24,2,    0.53,2,   3.292,2,   1.907,2,   0.271,2,  2121.0,2,  2335.4,2,    524.3,2,    20.00,   7.8887,2,    25.00,-999.000,9,-999.000,9,-999.000,9, -999.00,9,  -999.0,9,  -999.0,-999.000,9,-999.000,   3.082,2,   50.57,2,   12.93,2,   98.60,-999.0000,9,-999.0000,9,-999.0000,9,-999.0000,9,-999.0000,9,-999.0000,9,  11.8438,      0.293,2,     -999.0,9,     -999.0,9,     -999.0,9,         33,-999.000,-999.000,-999.000,     -999.0,9, -999.00,9, -999.00,9
33RO200306_01,       A16N,     033,          1,         28,         28,2,20030627,       0345,    49.0037,   -20.0017,       4415,   124.6,  11.7255,  35.5722,2,  35.5715,2,    242.6,2,  -999.0,1,    2.98,2,    9.75,2,    0.02,2,    0.58,2,   3.224,2,   1.850,2,   0.246,2,  2127.4,2,  2335.1,2,   -999.0,9,  -999.00,   7.8647,2,    25.00,-999.000,9,-999.000,9,-999.000,9, -999.00,9,  -999.0,9,  -999.0,-999.000,9,-999.000,-999.000,9, -999.00,9, -999.00,9,  124.60,-999.0000,9,-999.0000,9,-999.0000,9,-999.0000,9,-999.0000,9,-999.0000,9,  11.7094,     -999.0,9,     -999.0,9,     -999.0,9,     -999.0,9,         33,-999.000,-999.000,-999.000,     -999.0,9, -999.00,9, -999.00,9
33RO200306_01,       A16N,     033,          1,         27,         27,2,20030627,       0345,    49.0037,   -20.0017,       4415,   149.9,  11.5441,  35.5490,2,  35.5479,2,    243.1,2,   243.7,2,    3.40,2,   10.11,2,    0.01,2,    0.60,2,   3.242,2,   1.872,2,   0.252,2,  2129.3,2,  2334.3,2,    544.8,2,    20.00,   7.8573,2,    25.00,-999.000,9,-999.000,9,-999.000,9, -999.00,9,  -999.0,9,  -999.0,-999.000,9,-999.000,   1.600,2,   50.08,2,   13.62,2,  149.90,-999.0000,9,-999.0000,9,-999.0000,9,-999.0000,9,-999.0000,9,-999.0000,9,  11.5250,      0.277,2,     -999.0,9,     -999.0,9,     -999.0,9,         33,-999.000,-999.000,-999.000,     -999.0,9, -999.00,9, -999.00,9
33RO200306_01,       A16N,     033,          1,         26,         26,2,20030627,       0345,    49.0037,   -20.0017,       4415,   175.5,  11.3737,  35.5263,2,  35.5270,2,    245.7,2,   245.1,2,    3.65,2,   10.31,2,    0.01,2,    0.62,2,   3.240,2,   1.872,2,   0.253,2,  2135.4,3,  2333.9,2,   -999.0,9,  -999.00,   7.8561,2,    25.00,-999.000,9,-999.000,9,-999.000,9, -999.00,9,  -999.0,9,  -999.0,-999.000,9,-999.000,-999.000,9, -999.00,9, -999.00,9,  175.50,-999.0000,9,-999.0000,9,-999.0000,9,-999.0000,9,-999.0000,9,-999.0000,9,  11.3515,     -999.0,9,     -999.0,9,     -999.0,9,     -999.0,9,         33,-999.000,-999.000,-999.000,     -999.0,9, -999.00,9, -999.00,9
33RO200306_01,       A16N,     033,          1,         25,         25,2,20030627,       0345,    49.0037,   -20.0017,       4415,   200.5,  11.2922,  35.5180,2,  35.5193,2,    244.9,2,   269.4,3,    3.95,2,   10.30,2,    0.01,2,    0.62,2,   3.268,2,   1.879,2,   0.244,2,  2136.0,3,  2333.2,2,    557.6,2,    20.00,   7.8504,2,    25.00,-999.000,9,-999.000,9,-999.000,9, -999.00,9,  -999.0,9,  -999.0,-999.000,9,-999.000,-999.000,9,   50.17,2,   14.37,2,  200.50,-999.0000,9,-999.0000,9,-999.0000,9,-999.0000,9,-999.0000,9,-999.0000,9,  11.2669,     -999.0,9,     -999.0,9,     -999.0,9,     -999.0,9,         33,-999.000,-999.000,-999.000,     -999.0,9, -999.00,9, -999.00,9
33RO200306_01,       A16N,     033,          1,         24,         24,9,20030627,       0345,    49.0037,   -20.0017,       4415,   250.4,  11.0979,  35.4896,2,-999.0000,9,    246.0,2,  -999.0,9, -999.00,9, -999.00,9, -999.00,9, -999.00,9,-999.000,9,-999.000,9,-999.000,9,  -999.0,9,  -999.0,9,   -999.0,9,  -999.00,-999.0000,9,  -999.00,-999.000,9,-999.000,9,-999.000,9, -999.00,9,  -999.0,9,  -999.0,-999.000,9,-999.000,-999.000,9, -999.00,9, -999.00,9,  250.40,-999.0000,9,-999.0000,9,-999.0000,9,-999.0000,9,-999.0000,9,-999.0000,9,  11.0666,     -999.0,9,     -999.0,9,     -999.0,9,     -999.0,9,         33,-999.000,-999.000,-999.000,     -999.0,9, -999.00,9, -999.00,9
33RO200306_01,       A16N,     033,          1,         23,         23,2,20030627,       0345,    49.0037,   -20.0017,       4415,   299.5,  10.9536,  35.4720,2,  35.4726,2,    245.2,2,   247.0,2,    3.86,2,   10.79,2,    0.01,2,    0.68,2,   3.328,2,   1.912,2,   0.249,2,  2129.0,2,  2328.9,2,    565.2,2,    20.00,   7.8415,2,    25.00,-999.000,9,-999.000,9,-999.000,9, -999.00,9,  -999.0,9,  -999.0,-999.000,9,-999.000,-999.000,9,   50.90,2,   14.84,2,  299.50,-999.0000,9,-999.0000,9,-999.0000,9,-999.0000,9,-999.0000,9,-999.0000,9,  10.9164,     -999.0,9,     -999.0,9,     -999.0,9,     -999.0,9,         33,-999.000,-999.000,-999.000,     -999.0,9, -999.00,9, -999.00,9
33RO200306_01,       A16N,     033,          1,         22,         22,2,20030627,       0345,    49.0037,   -20.0017,       4415,   351.8,  10.7150,  35.4316,2,  35.4302,2,    243.4,2,   244.0,2,    4.62,2,   11.35,2,    0.01,2,    0.72,2,   3.281,2,   1.868,2,   0.237,2,  2140.5,3,  2326.4,2,   -999.0,9,  -999.00,   7.8320,2,    25.00,-999.000,9,-999.000,9,-999.000,9, -999.00,9,  -999.0,9,  -999.0,-999.000,9,-999.000,-999.000,9,   49.51,2,   14.76,2,  351.80,-999.0000,9,-999.0000,9,-999.0000,9,-999.0000,9,-999.0000,9,-999.0000,9,  10.6718,     -999.0,9,     -999.0,9,     -999.0,9,     -999.0,9,         33,-999.000,-999.000,-999.000,     -999.0,9, -999.00,9, -999.00,9
33RO200306_01,       A16N,     033,          1,         21,         21,2,20030627,       0345,    49.0037,   -20.0017,       4415,   398.8,  10.3804,  35.3891,2,  35.3901,2,    239.4,2,   241.1,2,    5.05,2,   12.11,2,    0.01,2,    0.77,2,   3.243,2,   1.829,2,   0.229,2,  2134.2,2,  2326.4,2,    602.7,2,    20.00,   7.8208,2,    25.00,-999.000,9,-999.000,9,-999.000,9, -999.00,9,  -999.0,9,  -999.0,-999.000,9,-999.000,-999.000,9,   48.21,2,   16.41,2,  398.80,-999.0000,9,-999.0000,9,-999.0000,9,-999.0000,9,-999.0000,9,-999.0000,9,  10.3323,     -999.0,9,     -999.0,9,     -999.0,9,     -999.0,9,         33,-999.000,-999.000,-999.000,     -999.0,9, -999.00,9, -999.00,9
33RO200306_01,       A16N,     033,          1,         20,         20,2,20030627,       0345,    49.0037,   -20.0017,       4415,   449.9,  10.1085,  35.3501,2,  35.3525,2,    232.8,2,   232.6,2,    5.75,2,   13.21,2,    0.01,2,    0.83,2,   3.127,2,   1.771,2,   0.215,2,  2138.7,2,  2324.0,2,   -999.0,9,  -999.00,   7.8036,2,    25.00,-999.000,9,-999.000,9,-999.000,9, -999.00,9,  -999.0,9,  -999.0,-999.000,9,-999.000,   1.221,2,   47.88,2,   17.10,2,  449.90,-999.0000,9,-999.0000,9,-999.0000,9,-999.0000,9,-999.0000,9,-999.0000,9,  10.0550,      0.161,2,     -999.0,9,     -999.0,9,     -999.0,9,         33,-999.000,-999.000,-999.000,     -999.0,9, -999.00,9, -999.00,9
33RO200306_01,       A16N,     033,          1,         19,         19,2,20030627,       0345,    49.0037,   -20.0017,       4415,   500.0,   9.5702,  35.2767,2,  35.2774,2,    216.3,2,   214.5,2,    7.33,2,   15.46,2,    0.01,2,    0.97,2,   2.869,2,   1.591,2,   0.169,2,  2150.1,2,  2319.3,2,    672.6,2,    20.00,   7.7720,2,    25.00,-999.000,9,-999.000,9,-999.000,9, -999.00,9,  -999.0,9,  -999.0,-999.000,9,-999.000,-999.000,9,   47.64,2,   19.28,2,  500.00,-999.0000,9,-999.0000,9,-999.0000,9,-999.0000,9,-999.0000,9,-999.0000,9,   9.5126,     -999.0,9,     -999.0,9,     -999.0,9,     -999.0,9,         33,-999.000,-999.000,-999.000,     -999.0,9, -999.00,9, -999.00,9
33RO200306_01,       A16N,     033,          1,         18,         18,2,20030627,       0345,    49.0037,   -20.0017,       4415,   601.2,   8.5256,  35.1989,2,  35.1998,2,    195.2,2,   193.4,2,    9.84,2,   18.47,2,    0.00,2,    1.15,2,   2.382,2,   1.272,2,   0.117,2,  2166.4,2,  2320.3,2,    762.3,2,    20.00,   7.7311,2,    25.00,-999.000,9,-999.000,9,-999.000,9, -999.00,9,  -999.0,9,  -999.0,-999.000,9,-999.000,-999.000,9,   46.18,2,   21.90,2,  601.20,-999.0000,9,-999.0000,9,-999.0000,9,-999.0000,9,-999.0000,9,-999.0000,9,   8.4607,     -999.0,9,     -999.0,9,     -999.0,9,     -999.0,9,         33,-999.000,-999.000,-999.000,     -999.0,9, -999.00,9, -999.00,9
33RO200306_01,       A16N,     033,          1,         17,         17,2,20030627,       0345,    49.0037,   -20.0017,       4415,   701.5,   7.5276,  35.1572,2,  35.1584,2,    195.4,2,   194.8,2,   11.01,2,   19.36,2,    0.00,2,    1.20,2,   2.202,2,   1.145,2,   0.106,2,  2173.0,2,  2317.4,2,    790.9,2,    20.00,   7.7112,2,    25.00,-999.000,9,-999.000,9,-999.000,9, -999.00,9,  -999.0,9,  -999.0,-999.000,9,-999.000,-999.000,9,   46.42,2,   22.85,2,  701.50,-999.0000,9,-999.0000,9,-999.0000,9,-999.0000,9,-999.0000,9,-999.0000,9,   7.4566,     -999.0,9,     -999.0,9,     -999.0,9,     -999.0,9,         33,-999.000,-999.000,-999.000,     -999.0,9, -999.00,9, -999.00,9
33RO200306_01,       A16N,     033,          1,         16,         16,2,20030627,       0345,    49.0037,   -20.0017,       4415,   800.7,   7.2286,  35.2283,2,  35.2425,2,    199.3,2,   201.1,2,   11.09,2,   18.97,2,    0.00,2,    1.18,2,   2.094,2,   1.080,2,   0.094,2,  2175.3,2,  2332.3,3,    779.3,2,    20.00,   7.7208,2,    25.00,-999.000,9,-999.000,9,-999.000,9, -999.00,9,  -999.0,9,  -999.0,-999.000,9,-999.000,-999.000,9,   46.10,2,   23.00,2,  800.70,-999.0000,9,-999.0000,9,-999.0000,9,-999.0000,9,-999.0000,9,-999.0000,9,   7.1487,     -999.0,9,     -999.0,9,     -999.0,9,     -999.0,9,         33,-999.000,-999.000,-999.000,     -999.0,9, -999.00,9, -999.00,9
33RO200306_01,       A16N,     033,          1,         15,         15,2,20030627,       0345,    49.0037,   -20.0017,       4415,   899.6,   7.3632,  35.3584,2,  35.3574,2,    202.6,2,   204.2,2,   10.90,2,   18.28,2,    0.00,2,    1.14,2,   1.976,2,   1.007,2,   0.082,2,  2177.9,2,  2327.0,2,    758.7,2,    20.00,   7.7299,2,    25.00,-999.000,9,-999.000,9,-999.000,9, -999.00,9,  -999.0,9,  -999.0,-999.000,9,-999.000,-999.000,9,   44.07,2,   22.20,2,  899.60,-999.0000,9,-999.0000,9,-999.0000,9,-999.0000,9,-999.0000,9,-999.0000,9,   7.2718,     -999.0,9,     -999.0,9,     -999.0,9,     -999.0,9,         33,-999.000,-999.000,-999.000,     -999.0,9, -999.00,9, -999.00,9
33RO200306_01,       A16N,     033,          1,         14,         14,2,20030627,       0345,    49.0037,   -20.0017,       4415,  1001.8,   6.9348,  35.3447,2,  35.3427,2,    211.5,2,   211.5,2,   11.11,2,   18.03,2,    0.00,2,    1.13,2,   1.926,2,   0.977,2,   0.082,2,  2177.5,6,  2336.7,2,   -999.0,9,  -999.00,   7.7303,2,    25.00,-999.000,9,-999.000,9,-999.000,9, -999.00,9,  -999.0,9,  -999.0,-999.000,9,-999.000,-999.000,9,   45.44,2,   22.15,2, 1001.80,-999.0000,9,-999.0000,9,-999.0000,9,-999.0000,9,-999.0000,9,-999.0000,9,   6.8355,     -999.0,9,     -999.0,9,     -999.0,9,     -999.0,9,         33,-999.000,-999.000,-999.000,     -999.0,9, -999.00,9, -999.00,9
33RO200306_01,       A16N,     033,          1,         13,         13,2,20030627,       0345,    49.0037,   -20.0017,       4415,  1101.5,   5.9942,  35.2100,2,  35.2068,2,    224.7,2,   224.3,2,   11.35,2,   18.09,2,    0.00,2,    1.14,2,   2.107,2,   1.061,2,   0.101,2,  2173.0,2,  2326.3,2,    764.6,2,    20.00,   7.7268,2,    25.00,-999.000,9,-999.000,9,-999.000,9, -999.00,9,  -999.0,9,  -999.0,-999.000,9,-999.000,-999.000,9,   45.93,2,   22.70,2, 1101.50,-999.0000,9,-999.0000,9,-999.0000,9,-999.0000,9,-999.0000,9,-999.0000,9,   5.8922,     -999.0,9,     -999.0,9,     -999.0,9,     -999.0,9,         33,-999.000,-999.000,-999.000,     -999.0,9, -999.00,9, -999.00,9
33RO200306_01,       A16N,     033,          1,         12,         12,2,20030627,       0345,    49.0037,   -20.0017,       4415,  1201.3,   5.3610,  35.1308,2,  35.1297,2,    234.7,2,   233.5,2,   11.37,2,   18.05,2,    0.00,2,    1.14,2,   2.204,2,   1.104,2,   0.112,2,  2170.6,2,  2321.1,2,   -999.0,9,  -999.00,   7.7229,2,    25.00,-999.000,9,-999.000,9,-999.000,9, -999.00,9,  -999.0,9,  -999.0,-999.000,9,-999.000,-999.000,9,   44.80,2,   21.11,2, 1201.30,-999.0000,9,-999.0000,9,-999.0000,9,-999.0000,9,-999.0000,9,-999.0000,9,   5.2547,     -999.0,9,     -999.0,9,     -999.0,9,     -999.0,9,         33,-999.000,-999.000,-999.000,     -999.0,9, -999.00,9, -999.00,9
33RO200306_01,       A16N,     033,          1,         11,         11,2,20030627,       0345,    49.0037,   -20.0017,       4415,  1400.2,   4.0871,  34.9536,2,  34.9541,2,    257.7,2,   258.5,2,   11.33,2,   17.73,2,    0.00,2,    1.13,2,   2.646,2,   1.309,2,   0.151,2,  2161.1,2,  2310.0,2,    780.5,2,    20.00,   7.7211,2,    25.00,-999.000,9,-999.000,9,-999.000,9, -999.00,9,  -999.0,9,  -999.0,-999.000,9,-999.000,-999.000,9,   44.96,2,   22.14,2, 1400.20,-999.0000,9,-999.0000,9,-999.0000,9,-999.0000,9,-999.0000,9,-999.0000,9,   3.9750,     -999.0,9,     -999.0,9,     -999.0,9,     -999.0,9,         33,-999.000,-999.000,-999.000,     -999.0,9, -999.00,9, -999.00,9
33RO200306_01,       A16N,     033,          1,         10,         10,2,20030627,       0345,    49.0037,   -20.0017,       4415,  1599.5,   3.6604,  34.9151,2,  34.9148,2,    267.5,2,   268.4,2,   11.38,2,   17.44,2,    0.00,2,    1.11,2,   2.681,2,   1.316,2,   0.152,2,  2157.5,2,  2307.9,2,   -999.0,9,  -999.00,   7.7220,2,    25.00,-999.000,9,-999.000,9,-999.000,9, -999.00,9,  -999.0,9,  -999.0,-999.000,9,-999.000,-999.000,9,   44.31,2,   21.39,2, 1599.50,-999.0000,9,-999.0000,9,-999.0000,9,-999.0000,9,-999.0000,9,-999.0000,9,   3.5353,     -999.0,9,     -999.0,9,     -999.0,9,     -999.0,9,         33,-999.000,-999.000,-999.000,     -999.0,9, -999.00,9, -999.00,9
33RO200306_01,       A16N,     033,          1,          9,          9,2,20030627,       0345,    49.0037,   -20.0017,       4415,  1799.1,   3.4260,  34.8997,2,  34.9009,2,    274.8,2,   273.4,2,   11.45,2,   17.20,2,    0.00,2,    1.10,2,   2.691,2,   1.310,2,   0.155,2,  2157.5,2,  2305.8,2,    765.3,2,    20.00,   7.7215,2,    25.00,-999.000,9,-999.000,9,-999.000,9, -999.00,9,  -999.0,9,  -999.0,-999.000,9,-999.000,-999.000,9,   45.20,2,   22.23,2, 1799.10,-999.0000,9,-999.0000,9,-999.0000,9,-999.0000,9,-999.0000,9,-999.0000,9,   3.2858,     -999.0,9,     -999.0,9,     -999.0,9,     -999.0,9,         33,-999.000,-999.000,-999.000,     -999.0,9, -999.00,9, -999.00,9
33RO200306_01,       A16N,     033,          1,          8,          8,2,20030627,       0345,    49.0037,   -20.0017,       4415,  2000.3,   3.3135,  34.9041,2,  34.9047,2,    274.7,2,   275.9,2,   12.27,2,   17.13,2,    0.00,2,    1.10,2,   2.473,2,   1.210,2,   0.140,2,  2155.6,2,  2303.2,2,    761.7,2,    20.00,   7.7319,2,    25.00,-999.000,9,-999.000,9,-999.000,9, -999.00,9,  -999.0,9,  -999.0,-999.000,9,-999.000,-999.000,9,   45.85,2,   22.51,2, 2000.30,-999.0000,9,-999.0000,9,-999.0000,9,-999.0000,9,-999.0000,9,-999.0000,9,   3.1563,     -999.0,9,     -999.0,9,     -999.0,9,     -999.0,9,         33,-999.000,-999.000,-999.000,     -999.0,9, -999.00,9, -999.00,9