BOTTLE,20230908CCHSIOCBG
EXPOCODE,SECT_ID,STNNBR,CASTNO,SAMPNO,BTLNBR,BTLNBR_FLAG_W,DATE,TIME,LATITUDE,LONGITUDE,DEPTH,CTDPRS,CTDTMP,CTDSAL,CTDSAL_FLAG_W,SALNTY,SALNTY_FLAG_W,CTDOXY,CTDOXY_FLAG_W,OXYGEN,OXYGEN_FLAG_W,SILCAT,SILCAT_FLAG_W,NITRAT,NITRAT_FLAG_W,NITRIT,NITRIT_FLAG_W,PHSPHT,PHSPHT_FLAG_W,CFC-11,CFC-11_FLAG_W,CFC-12,CFC-12_FLAG_W,CFC113,CFC113_FLAG_W,TCARBN,TCARBN_FLAG_W,ALKALI,ALKALI_FLAG_W,FCO2,FCO2_FLAG_W,FCO2TMP,PH_SWS,PH_SWS_FLAG_W,PH_TMP,TRITUM,TRITUM_FLAG_W,HELIUM,HELIUM_FLAG_W,DELHE3,DELHE3_FLAG_W,DELC13,DELC13_FLAG_W,DELC14,DELC14_FLAG_W,C14ERR,NEON,NEON_FLAG_W,NEONER,POC,POC_FLAG_W,DOC,DOC_FLAG_W,TDN,TDN_FLAG_W,CTDRAW,CDOM325,CDOM325_FLAG_W,CDOM340,CDOM340_FLAG_W,CDOM380,CDOM380_FLAG_W,CDOM412,CDOM412_FLAG_W,CDOMSL,CDOMSL_FLAG_W,CDOMSN,CDOMSN_FLAG_W,THETA,PON,PON_FLAG_W,HCFC-22,HCFC-22_FLAG_W,HCFC-142b,HCFC-142b_FLAG_W,HCFC-141b,HCFC-141b_FLAG_W,STNNBR_U,HELIER,DELHER,TRITER,CH3CL,CH3CL_FLAG_W,CH3BR,CH3BR_FLAG_W,CH3I,CH3I_FLAG_W
,,,,,,,,,,,METERS,DBAR,ITS-90,PSS-78,,PSS-78,,UMOL/KG,,UMOL/KG,,UMOL/KG,,UMOL/KG,,UMOL/KG,,UMOL/KG,,PMOL/KG,,PMOL/KG,,PMOL/KG,,UMOL/KG,,UMOL/KG,,UATM,,DEG C,,,DEG C,TU,,NMOL/KG,,PERCNT,,/MILLE,,/MILLE,,/MILLE,NMOL/KG,,NMOL/KG,UG/KG,,UMOL/KG,,UMOL/KG,,DBAR,1/M,,1/M,,1/M,,1/M,,1/NM,,1/NM,,DEG C,UMOL/L,,PMOL/KG,,PMOL/KG,,PMOL/KG,,,NMOL/KG,PERCNT,TU,PMOL/KG,,PMOL/KG,,PMOL/KG,
33RO200306_02,       A16N,     137,          1,         33,         33,2,20030805,       1314,    -0.6667,   -25.0005,       3220,     3.2,  26.1172,  36.1143,2,  36.1170,2,    203.5,2,   204.4,2,    1.06,2,    0.07,2,    0.00,2,    0.20,2,-999.000,9,-999.000,9,-999.000,9,  2048.5,6,  -999.0,9,   -999.0,9,  -999.00,-999.0000,9,  -999.00,-999.000,9,-999.000,9,-999.000,9, -999.00,9,  -999.0,9,  -999.0,-999.000,9,-999.000,-999.000,9,   70.98,2,    6.40,2,    3.20,-999.0000,9,-999.0000,9,-999.0000,9,-999.0000,9,-999.0000,9,-999.0000,9,  26.1165,     -999.0,9,     -999.0,9,     -999.0,9,     -999.0,9,        137,-999.000,-999.000,-999.000,     -999.0,9, -999.00,9, -999.00,9
33RO200306_02,       A16N,     137,          1,         35,         35,2,20030805,       1314,    -0.6667,   -25.0005,       3220,     3.3,  26.1213,  36.1143,2,-999.0000,9,    203.5,2,  -999.0,9, -999.00,9, -999.00,9, -999.00,9, -999.00,9,-999.000,9,-999.000,9,-999.000,9,  -999.0,9,  2372.0,2,   -999.0,9,  -999.00,-999.0000,9,  -999.00,-999.000,9,-999.000,9,-999.000,9, -999.00,9,  -999.0,9,  -999.0,-999.000,9,-999.000,-999.000,9, -999.00,9, -999.00,9,    3.30,-999.0000,9,-999.0000,9,-999.0000,9,-999.0000,9,-999.0000,9,-999.0000,9,  26.1206,     -999.0,9,     -999.0,9,     -999.0,9,     -999.0,9,        137,-999.000,-999.000,-999.000,     -999.0,9, -999.00,9, -999.00,9
33RO200306_02,       A16N,     137,          1,         32,         32,2,20030805,       1314,    -0.6667,   -25.0005,       3220,    11.0,  25.9574,  36.1107,2,  36.1141,2,    202.5,2,   204.4,2,    1.08,2,    0.07,2,    0.00,2,    0.19,2,-999.000,9,-999.000,9,-999.000,9,  -999.0,9,  -999.0,9,   -999.0,9,  -999.00,-999.0000,9,  -999.00,-999.000,9,-999.000,9,-999.000,9, -999.00,9,  -999.0,9,  -999.0,-999.000,9,-999.000,-999.000,9,   70.49,2,    7.61,2,   11.00,-999.0000,9,-999.0000,9,-999.0000,9,-999.0000,9,-999.0000,9,-999.0000,9,  25.9549,     -999.0,9,     -999.0,9,     -999.0,9,     -999.0,9,        137,-999.000,-999.000,-999.000,     -999.0,9, -999.00,9, -999.00,9
33RO200306_02,       A16N,     137,          1,         31,         31,2,20030805,       1314,    -0.6667,   -25.0005,       3220,    29.3,  25.9205,  36.1093,2,  36.1129,2,    202.6,2,   204.3,2,    1.08,2,    0.10,2,    0.01,2,    0.19,2,-999.000,9,-999.000,9,-999.000,9,  -999.0,9,  -999.0,9,   -999.0,9,  -999.00,-999.0000,9,  -999.00,-999.000,9,-999.000,9,-999.000,9, -999.00,9,  -999.0,9,  -999.0,-999.000,9,-999.000,-999.000,9, -999.00,9, -999.00,9,   29.30,-999.0000,9,-999.0000,9,-999.0000,9,-999.0000,9,-999.0000,9,-999.0000,9,  25.9140,     -999.0,9,     -999.0,9,     -999.0,9,     -999.0,9,        137,-999.000,-999.000,-999.000,     -999.0,9, -999.00,9, -999.00,9
33RO200306_02,       A16N,     137,          1,         30,         30,2,20030805,       1314,    -0.6667,   -25.0005,       3220,    50.6,  25.2058,  36.0938,2,  36.1040,2,    199.2,2,   196.6,2,    1.38,2,    0.74,2,    0.08,2,    0.25,2,-999.000,9,-999.000,9,-999.000,9,  -999.0,9,  -999.0,9,   -999.0,9,  -999.00,-999.0000,9,  -999.00,-999.000,9,-999.000,9,-999.000,9, -999.00,9,  -999.0,9,  -999.0,-999.000,9,-999.000,-999.000,9,   67.80,2,    8.39,2,   50.60,-999.0000,9,-999.0000,9,-999.0000,9,-999.0000,9,-999.0000,9,-999.0000,9,  25.1947,     -999.0,9,     -999.0,9,     -999.0,9,     -999.0,9,        137,-999.000,-999.000,-999.000,     -999.0,9, -999.00,9, -999.00,9
33RO200306_02,       A16N,     137,          1,         29,         29,2,20030805,       1314,    -0.6667,   -25.0005,       3220,    70.3,  21.1391,  36.3343,2,  36.3025,2,    172.1,2,   174.7,2,    2.38,2,    5.33,2,    0.11,2,    0.56,2,-999.000,9,-999.000,9,-999.000,9,  -999.0,9,  -999.0,9,   -999.0,9,  -999.00,-999.0000,9,  -999.00,-999.000,9,-999.000,9,-999.000,9, -999.00,9,  -999.0,9,  -999.0,-999.000,9,-999.000,-999.000,9, -999.00,9, -999.00,9,   70.30,-999.0000,9,-999.0000,9,-999.0000,9,-999.0000,9,-999.0000,9,-999.0000,9,  21.1255,     -999.0,9,     -999.0,9,     -999.0,9,     -999.0,9,        137,-999.000,-999.000,-999.000,     -999.0,9, -999.00,9, -999.00,9
33RO200306_02,       A16N,     137,          1,         28,         28,2,20030805,       1314,    -0.6667,   -25.0005,       3220,    89.4,  18.4461,  36.0055,2,  35.9608,2,    168.5,2,   166.0,2,    3.79,2,    9.63,2,    0.05,2,    0.81,2,-999.000,9,-999.000,9,-999.000,9,  -999.0,9,  -999.0,9,   -999.0,9,  -999.00,-999.0000,9,  -999.00,-999.000,9,-999.000,9,-999.000,9, -999.00,9,  -999.0,9,  -999.0,-999.000,9,-999.000,-999.000,9,   56.26,2,   13.40,2,   89.40,-999.0000,9,-999.0000,9,-999.0000,9,-999.0000,9,-999.0000,9,-999.0000,9,  18.4304,     -999.0,9,     -999.0,9,     -999.0,9,     -999.0,9,        137,-999.000,-999.000,-999.000,     -999.0,9, -999.00,9, -999.00,9
33RO200306_02,       A16N,     137,          1,         27,         27,2,20030805,       1314,    -0.6667,   -25.0005,       3220,   109.3,  15.7711,  35.6561,2,  35.6597,2,    157.5,2,   161.6,2,    5.02,2,   12.67,2,    0.04,2,    0.98,2,-999.000,9,-999.000,9,-999.000,9,  -999.0,9,  -999.0,9,   -999.0,9,  -999.00,-999.0000,9,  -999.00,-999.000,9,-999.000,9,-999.000,9, -999.00,9,  -999.0,9,  -999.0,-999.000,9,-999.000,-999.000,9, -999.00,9, -999.00,9,  109.30,-999.0000,9,-999.0000,9,-999.0000,9,-999.0000,9,-999.0000,9,-999.0000,9,  15.7539,     -999.0,9,     -999.0,9,     -999.0,9,     -999.0,9,        137,-999.000,-999.000,-999.000,     -999.0,9, -999.00,9, -999.00,9
33RO200306_02,       A16N,     137,          1,         26,         26,2,20030805,       1314,    -0.6667,   -25.0005,       3220,   135.1,  14.8575,  35.5386,2,  35.5342,2,    158.5,2,   164.9,2,    5.57,2,   13.57,2,    0.03,2,    1.03,2,-999.000,9,-999.000,9,-999.000,9,  -999.0,9,  -999.0,9,   -999.0,9,  -999.00,-999.0000,9,  -999.00,-999.000,9,-999.000,9,-999.000,9, -999.00,9,  -999.0,9,  -999.0,-999.000,9,-999.000,-999.000,9,   51.46,2,   17.14,2,  135.10,-999.0000,9,-999.0000,9,-999.0000,9,-999.0000,9,-999.0000,9,-999.0000,9,  14.8371,     -999.0,9,     -999.0,9,     -999.0,9,     -999.0,9,        137,-999.000,-999.000,-999.000,     -999.0,9, -999.00,9, -999.00,9
33RO200306_02,       A16N,     137,          1,         25,         25,2,20030805,       1314,    -0.6667,   -25.0005,       3220,   159.8,  14.0550,  35.4194,2,  35.3985,2,    148.0,2,   143.4,2,    6.72,2,   17.44,2,    0.02,2,    1.23,2,-999.000,9,-999.000,9,-999.000,9,  -999.0,9,  -999.0,9,   -999.0,9,  -999.00,-999.0000,9,  -999.00,-999.000,9,-999.000,9,-999.000,9, -999.00,9,  -999.0,9,  -999.0,-999.000,9,-999.000,-999.000,9, -999.00,9, -999.00,9,  159.80,-999.0000,9,-999.0000,9,-999.0000,9,-999.0000,9,-999.0000,9,-999.0000,9,  14.0318,     -999.0,9,     -999.0,9,     -999.0,9,     -999.0,9,        137,-999.000,-999.000,-999.000,     -999.0,9, -999.00,9, -999.00,9
33RO200306_02,       A16N,     137,          1,         24,         24,2,20030805,       1314,    -0.6667,   -25.0005,       3220,   184.7,  13.5406,  35.3450,2,  35.3371,2,    116.3,2,   110.5,2,    7.95,2,   21.68,2,    0.01,2,    1.45,2,-999.000,9,-999.000,9,-999.000,9,  -999.0,9,  -999.0,9,   -999.0,9,  -999.00,-999.0000,9,  -999.00,-999.000,9,-999.000,9,-999.000,9, -999.00,9,  -999.0,9,  -999.0,-999.000,9,-999.000,-999.000,9,   50.00,2,   25.77,2,  184.70,-999.0000,9,-999.0000,9,-999.0000,9,-999.0000,9,-999.0000,9,-999.0000,9,  13.5144,     -999.0,9,     -999.0,9,     -999.0,9,     -999.0,9,        137,-999.000,-999.000,-999.000,     -999.0,9, -999.00,9, -999.00,9
33RO200306_02,       A16N,     137,          1,         23,         23,2,20030805,       1314,    -0.6667,   -25.0005,       3220,   226.1,  12.8574,  35.2511,2,  35.2514,2,     91.4,2,    88.7,2,    9.29,2,   25.02,2,    0.01,2,    1.64,2,-999.000,9,-999.000,9,-999.000,9,  -999.0,9,  -999.0,9,   -999.0,9,  -999.00,-999.0000,9,  -999.00,-999.000,9,-999.000,9,-999.000,9, -999.00,9,  -999.0,9,  -999.0,-999.000,9,-999.000,-999.000,9,   47.48,2,   28.36,2,  226.10,-999.0000,9,-999.0000,9,-999.0000,9,-999.0000,9,-999.0000,9,-999.0000,9,  12.8264,     -999.0,9,     -999.0,9,     -999.0,9,     -999.0,9,        137,-999.000,-999.000,-999.000,     -999.0,9, -999.00,9, -999.00,9
33RO200306_02,       A16N,     137,          1,         22,         22,2,20030805,       1314,    -0.6667,   -25.0005,       3220,   274.9,  11.9594,  35.1398,2,  35.1311,2,     90.5,2,    90.1,2,   10.45,2,   26.55,2,    0.01,2,    1.72,2,-999.000,9,-999.000,9,-999.000,9,  -999.0,9,  -999.0,9,   -999.0,9,  -999.00,-999.0000,9,  -999.00,-999.000,9,-999.000,9,-999.000,9, -999.00,9,  -999.0,9,  -999.0,-999.000,9,-999.000,-999.000,9,   46.42,2,   30.01,2,  274.90,-999.0000,9,-999.0000,9,-999.0000,9,-999.0000,9,-999.0000,9,-999.0000,9,  11.9234,     -999.0,9,     -999.0,9,     -999.0,9,     -999.0,9,        137,-999.000,-999.000,-999.000,     -999.0,9, -999.00,9, -999.00,9
33RO200306_02,       A16N,     137,          1,         21,         21,2,20030805,       1314,    -0.6667,   -25.0005,       3220,   324.8,  10.5380,  34.9753,2,  34.9686,2,     86.6,2,    91.6,2, -999.00,1, -999.00,1, -999.00,1, -999.00,1,-999.000,9,-999.000,9,-999.000,9,  -999.0,9,  -999.0,9,   -999.0,9,  -999.00,-999.0000,9,  -999.00,-999.000,9,-999.000,9,-999.000,9, -999.00,9,  -999.0,9,  -999.0,-999.000,9,-999.000,-999.000,9,   46.26,2,   33.01,2,  324.80,-999.0000,9,-999.0000,9,-999.0000,9,-999.0000,9,-999.0000,9,-999.0000,9,  10.4988,     -999.0,9,     -999.0,9,     -999.0,9,     -999.0,9,        137,-999.000,-999.000,-999.000,     -999.0,9, -999.00,9, -999.00,9
33RO200306_02,       A16N,     137,          1,         20,         20,2,20030805,       1314,    -0.6667,   -25.0005,       3220,   375.0,   8.5493,  34.7543,2,  34.7484,2,    120.7,2,   120.5,2,   15.93,2,   30.16,2,    0.01,2,    1.97,2,-999.000,9,-999.000,9,-999.000,9,  -999.0,9,  -999.0,9,   -999.0,9,  -999.00,-999.0000,9,  -999.00,-999.000,9,-999.000,9,-999.000,9, -999.00,9,  -999.0,9,  -999.0,-999.000,9,-999.000,-999.000,9,   43.66,2,   33.40,2,  375.00,-999.0000,9,-999.0000,9,-999.0000,9,-999.0000,9,-999.0000,9,-999.0000,9,   8.5095,     -999.0,9,     -999.0,9,     -999.0,9,     -999.0,9,        137,-999.000,-999.000,-999.000,     -999.0,9, -999.00,9, -999.00,9
33RO200306_02,       A16N,     137,          1,         19,         19,2,20030805,       1314,    -0.6667,   -25.0005,       3220,   425.0,   7.8066,  34.6807,2,  34.6793,2,    124.8,2,   124.8,2,   17.87,2,   31.47,2,    0.01,2,    2.06,2,-999.000,9,-999.000,9,-999.000,9,  -999.0,9,  -999.0,9,   -999.0,9,  -999.00,-999.0000,9,  -999.00,-999.000,9,-999.000,9,-999.000,9, -999.00,9,  -999.0,9,  -999.0,-999.000,9,-999.000,-999.000,9,   43.17,2,   34.41,2,  425.00,-999.0000,9,-999.0000,9,-999.0000,9,-999.0000,9,-999.0000,9,-999.0000,9,   7.7638,     -999.0,9,     -999.0,9,     -999.0,9,     -999.0,9,        137,-999.000,-999.000,-999.000,     -999.0,9, -999.00,9, -999.00,9
33RO200306_02,       A16N,     137,          1,         18,         18,2,20030805,       1314,    -0.6667,   -25.0005,       3220,   474.2,   6.8663,  34.5890,2,  34.5873,2,    138.5,2,   139.9,2,   20.32,2,   31.80,2,    0.01,2,    2.11,2,-999.000,9,-999.000,9,-999.000,9,  -999.0,9,  -999.0,9,   -999.0,9,  -999.00,-999.0000,9,  -999.00,-999.000,9,-999.000,9,-999.000,9, -999.00,9,  -999.0,9,  -999.0,-999.000,9,-999.000,-999.000,9,   42.44,2,   34.93,2,  474.20,-999.0000,9,-999.0000,9,-999.0000,9,-999.0000,9,-999.0000,9,-999.0000,9,   6.8218,     -999.0,9,     -999.0,9,     -999.0,9,     -999.0,9,        137,-999.000,-999.000,-999.000,     -999.0,9, -999.00,9, -999.00,9
33RO200306_02,       A16N,     137,          1,         17,         17,2,20030805,       1314,    -0.6667,   -25.0005,       3220,   549.6,   6.2608,  34.5548,2,  34.5547,2,    135.7,2,   136.9,2,   22.92,2,   33.34,2,    0.00,2,    2.22,2,-999.000,9,-999.000,9,-999.000,9,  -999.0,9,  -999.0,9,   -999.0,9,  -999.00,-999.0000,9,  -999.00,-999.000,9,-999.000,9,-999.000,9, -999.00,9,  -999.0,9,  -999.0,-999.000,9,-999.000,-999.000,9,   42.03,2,   35.91,2,  549.60,-999.0000,9,-999.0000,9,-999.0000,9,-999.0000,9,-999.0000,9,-999.0000,9,   6.2115,     -999.0,9,     -999.0,9,     -999.0,9,     -999.0,9,        137,-999.000,-999.000,-999.000,     -999.0,9, -999.00,9, -999.00,9
33RO200306_02,       A16N,     137,          1,         16,         16,2,20030805,       1314,    -0.6667,   -25.0005,       3220,   649.8,   5.7343,  34.5195,2,  34.5192,2,    141.9,2,   142.9,2,   25.20,2,   33.84,2,    0.00,2,    2.26,2,-999.000,9,-999.000,9,-999.000,9,  -999.0,9,  -999.0,9,   -999.0,9,  -999.00,-999.0000,9,  -999.00,-999.000,9,-999.000,9,-999.000,9, -999.00,9,  -999.0,9,  -999.0,-999.000,9,-999.000,-999.000,9,   41.52,2,   36.45,2,  649.80,-999.0000,9,-999.0000,9,-999.0000,9,-999.0000,9,-999.0000,9,-999.0000,9,   5.6781,     -999.0,9,     -999.0,9,     -999.0,9,     -999.0,9,        137,-999.000,-999.000,-999.000,     -999.0,9, -999.00,9, -999.00,9
33RO200306_02,       A16N,     137,          1,         15,         15,2,20030805,       1314,    -0.6667,   -25.0005,       3220,   750.4,   5.1650,  34.5031,2,  34.5028,2,    146.1,2,   146.0,2,   28.48,2,   34.46,2,    0.01,2,    2.33,2,-999.000,9,-999.000,9,-999.000,9,  -999.0,9,  -999.0,9,   -999.0,9,  -999.00,-999.0000,9,  -999.00,-999.000,9,-999.000,9,-999.000,9, -999.00,9,  -999.0,9,  -999.0,-999.000,9,-999.000,-999.000,9,   41.14,2,   37.52,2,  750.40,-999.0000,9,-999.0000,9,-999.0000,9,-999.0000,9,-999.0000,9,-999.0000,9,   5.1029,     -999.0,9,     -999.0,9,     -999.0,9,     -999.0,9,        137,-999.000,-999.000,-999.000,     -999.0,9, -999.00,9, -999.00,9
33RO200306_02,       A16N,     137,          1,         14,         14,2,20030805,       1314,    -0.6667,   -25.0005,       3220,   849.9,   4.8255,  34.5130,2,  34.5146,2,    151.0,2,   151.2,2,   30.40,2,   34.14,2,    0.00,2,    2.33,2,-999.000,9,-999.000,9,-999.000,9,  -999.0,9,  -999.0,9,   -999.0,9,  -999.00,-999.0000,9,  -999.00,-999.000,9,-999.000,9,-999.000,9, -999.00,9,  -999.0,9,  -999.0,-999.000,9,-999.000,-999.000,9,   41.39,2,   38.54,2,  849.90,-999.0000,9,-999.0000,9,-999.0000,9,-999.0000,9,-999.0000,9,-999.0000,9,   4.7567,     -999.0,9,     -999.0,9,     -999.0,9,     -999.0,9,        137,-999.000,-999.000,-999.000,     -999.0,9, -999.00,9, -999.00,9
33RO200306_02,       A16N,     137,          1,         13,         13,2,20030805,       1314,    -0.6667,   -25.0005,       3220,   949.5,   4.5273,  34.5668,2,  34.5703,2,    157.8,2,   155.9,2,   31.75,2,   33.35,2,    0.00,2,    2.29,2,-999.000,9,-999.000,9,-999.000,9,  -999.0,9,  -999.0,9,   -999.0,9,  -999.00,-999.0000,9,  -999.00,-999.000,9,-999.000,9,-999.000,9, -999.00,9,  -999.0,9,  -999.0,-999.000,9,-999.000,-999.000,9,   41.71,2,   36.50,2,  949.50,-999.0000,9,-999.0000,9,-999.0000,9,-999.0000,9,-999.0000,9,-999.0000,9,   4.4519,     -999.0,9,     -999.0,9,     -999.0,9,     -999.0,9,        137,-999.000,-999.000,-999.000,     -999.0,9, -999.00,9, -999.00,9
33RO200306_02,       A16N,     137,          1,         12,         12,2,20030805,       1314,    -0.6667,   -25.0005,       3220,  1049.3,   4.5075,  34.6874,2,  34.6902,2,    164.6,2,   164.9,2,   29.56,2,   31.34,2,    0.00,2,    2.14,2,   0.035,2,   0.021,2,   0.002,2,  -999.0,9,  -999.0,9,   -999.0,9,  -999.00,-999.0000,9,  -999.00,-999.000,9,-999.000,9,-999.000,9, -999.00,9,  -999.0,9,  -999.0,-999.000,9,-999.000,-999.000,9,   40.62,2,   34.82,2, 1049.30,-999.0000,9,-999.0000,9,-999.0000,9,-999.0000,9,-999.0000,9,-999.0000,9,   4.4233,     -999.0,9,     -999.0,9,     -999.0,9,     -999.0,9,        137,-999.000,-999.000,-999.000,     -999.0,9, -999.00,9, -999.00,9
33RO200306_02,       A16N,     137,          1,         11,         11,2,20030805,       1314,    -0.6667,   -25.0005,       3220,  1149.7,   4.5717,  34.7715,2,  34.7729,2,    174.7,2,   173.6,2,   26.96,2,   29.40,2,    0.00,2,    2.00,2,   0.035,2,   0.023,2,   0.005,2,  -999.0,9,  -999.0,9,   -999.0,9,  -999.00,-999.0000,9,  -999.00,-999.000,9,-999.000,9,-999.000,9, -999.00,9,  -999.0,9,  -999.0,-999.000,9,-999.000,-999.000,9, -999.00,9, -999.00,9, 1149.70,-999.0000,9,-999.0000,9,-999.0000,9,-999.0000,9,-999.0000,9,-999.0000,9,   4.4779,     -999.0,9,     -999.0,9,     -999.0,9,     -999.0,9,        137,-999.000,-999.000,-999.000,     -999.0,9, -999.00,9, -999.00,9
33RO200306_02,       A16N,     137,          1,         10,         10,2,20030805,       1314,    -0.6667,   -25.0005,       3220,  1299.1,   4.5530,  34.8774,2,  34.8798,2,    197.4,2,   195.5,2,   22.81,2,   25.83,2,    0.00,2,    1.76,2,-999.000,9,-999.000,9,-999.000,9,  -999.0,9,  -999.0,9,   -999.0,9,  -999.00,-999.0000,9,  -999.00,-999.000,9,-999.000,9,-999.000,9, -999.00,9,  -999.0,9,  -999.0,-999.000,9,-999.000,-999.000,9, -999.00,9, -999.00,9, 1299.10,-999.0000,9,-999.0000,9,-999.0000,9,-999.0000,9,-999.0000,9,-999.0000,9,   4.4456,     -999.0,9,     -999.0,9,     -999.0,9,     -999.0,9,        137,-999.000,-999.000,-999.000,     -999.0,9, -999.00,9, -999.00,9
33RO200306_02,       A16N,     137,          1,          9,          9,2,20030805,       1314,    -0.6667,   -25.0005,       3220,  1449.3,   4.3796,  34.9526,2,  34.9542,2,    223.3,2,   226.9,2,   19.07,2,   22.49,2,    0.00,2,    1.52,2,   0.171,2,   0.091,2,   0.005,2,  -999.0,9,  -999.0,9,   -999.0,9,  -999.00,-999.0000,9,  -999.00,-999.000,9,-999.000,9,-999.000,9, -999.00,9,  -999.0,9,  -999.0,-999.000,9,-999.000,-999.000,9, -999.00,9, -999.00,9, 1449.30,-999.0000,9,-999.0000,9,-999.0000,9,-999.0000,9,-999.0000,9,-999.0000,9,   4.2599,     -999.0,9,     -999.0,9,     -999.0,9,     -999.0,9,        137,-999.000,-999.000,-999.000,     -999.0,9, -999.00,9, -999.00,9
33RO200306_02,       A16N,     137,          1,          8,          8,2,20030805,       1314,    -0.6667,   -25.0005,       3220,  1600.7,   4.2009,  34.9742,2,  34.9755,2,    235.9,2,   235.7,2,   17.74,2,   20.93,2,    0.00,2,    1.42,2,   0.226,2,   0.118,2,   0.008,2,  -999.0,9,  -999.0,9,   -999.0,9,  -999.00,-999.0000,9,  -999.00,-999.000,9,-999.000,9,-999.000,9, -999.00,9,  -999.0,9,  -999.0,-999.000,9,-999.000,-999.000,9,   41.39,2,   25.20,2, 1600.70,-999.0000,9,-999.0000,9,-999.0000,9,-999.0000,9,-999.0000,9,-999.0000,9,   4.0690,     -999.0,9,     -999.0,9,     -999.0,9,     -999.0,9,        137,-999.000,-999.000,-999.000,     -999.0,9, -999.00,9, -999.00,9