BOTTLE,20230908CCHSIOCBG
EXPOCODE,SECT_ID,STNNBR,CASTNO,SAMPNO,BTLNBR,BTLNBR_FLAG_W,DATE,TIME,LATITUDE,LONGITUDE,DEPTH,CTDPRS,CTDTMP,CTDSAL,CTDSAL_FLAG_W,SALNTY,SALNTY_FLAG_W,CTDOXY,CTDOXY_FLAG_W,OXYGEN,OXYGEN_FLAG_W,SILCAT,SILCAT_FLAG_W,NITRAT,NITRAT_FLAG_W,NITRIT,NITRIT_FLAG_W,PHSPHT,PHSPHT_FLAG_W,CFC-11,CFC-11_FLAG_W,CFC-12,CFC-12_FLAG_W,CFC113,CFC113_FLAG_W,TCARBN,TCARBN_FLAG_W,ALKALI,ALKALI_FLAG_W,FCO2,FCO2_FLAG_W,FCO2TMP,PH_SWS,PH_SWS_FLAG_W,PH_TMP,TRITUM,TRITUM_FLAG_W,HELIUM,HELIUM_FLAG_W,DELHE3,DELHE3_FLAG_W,DELC13,DELC13_FLAG_W,DELC14,DELC14_FLAG_W,C14ERR,NEON,NEON_FLAG_W,NEONER,POC,POC_FLAG_W,DOC,DOC_FLAG_W,TDN,TDN_FLAG_W,CTDRAW,CDOM325,CDOM325_FLAG_W,CDOM340,CDOM340_FLAG_W,CDOM380,CDOM380_FLAG_W,CDOM412,CDOM412_FLAG_W,CDOMSL,CDOMSL_FLAG_W,CDOMSN,CDOMSN_FLAG_W,THETA,PON,PON_FLAG_W,HCFC-22,HCFC-22_FLAG_W,HCFC-142b,HCFC-142b_FLAG_W,HCFC-141b,HCFC-141b_FLAG_W,STNNBR_U,HELIER,DELHER,TRITER,CH3CL,CH3CL_FLAG_W,CH3BR,CH3BR_FLAG_W,CH3I,CH3I_FLAG_W
,,,,,,,,,,,METERS,DBAR,ITS-90,PSS-78,,PSS-78,,UMOL/KG,,UMOL/KG,,UMOL/KG,,UMOL/KG,,UMOL/KG,,UMOL/KG,,PMOL/KG,,PMOL/KG,,PMOL/KG,,UMOL/KG,,UMOL/KG,,UATM,,DEG C,,,DEG C,TU,,NMOL/KG,,PERCNT,,/MILLE,,/MILLE,,/MILLE,NMOL/KG,,NMOL/KG,UG/KG,,UMOL/KG,,UMOL/KG,,DBAR,1/M,,1/M,,1/M,,1/M,,1/NM,,1/NM,,DEG C,UMOL/L,,PMOL/KG,,PMOL/KG,,PMOL/KG,,,NMOL/KG,PERCNT,TU,PMOL/KG,,PMOL/KG,,PMOL/KG,
33RO200306_02,       A16N,     111,          1,         35,         35,2,20030729,       0541,    10.4998,   -28.7498,       5393,     2.9,  27.7407,  36.1458,2,  36.1492,2,    154.8,2,   200.4,2,    0.44,2,    0.13,2,    0.01,2,    0.05,2,   1.666,2,   1.088,2,   0.152,2,  2019.1,6,  2367.8,6,   -999.0,9,  -999.00,   8.0862,6,    25.00,-999.000,9,-999.000,9,-999.000,9, -999.00,9,  -999.0,9,  -999.0,-999.000,9,-999.000,-999.000,9, -999.00,9, -999.00,9,    2.90,-999.0000,9,-999.0000,9,-999.0000,9,-999.0000,9,-999.0000,9,-999.0000,9,  27.7400,     -999.0,9,     -999.0,9,     -999.0,9,     -999.0,9,        111,-999.000,-999.000,-999.000,     -999.0,9, -999.00,9, -999.00,9
33RO200306_02,       A16N,     111,          1,         33,         33,2,20030729,       0541,    10.4998,   -28.7498,       5393,    15.6,  27.7288,  36.1566,2,  36.1628,2,    154.8,2,   200.1,2,    0.46,2,    0.16,2,    0.01,2,    0.05,2,-999.000,9,-999.000,9,-999.000,9,  -999.0,9,  -999.0,9,   -999.0,9,  -999.00,-999.0000,9,  -999.00,-999.000,9,-999.000,9,-999.000,9, -999.00,9,  -999.0,9,  -999.0,-999.000,9,-999.000,-999.000,9, -999.00,9, -999.00,9,   15.60,-999.0000,9,-999.0000,9,-999.0000,9,-999.0000,9,-999.0000,9,-999.0000,9,  27.7251,     -999.0,9,     -999.0,9,     -999.0,9,     -999.0,9,        111,-999.000,-999.000,-999.000,     -999.0,9, -999.00,9, -999.00,9
33RO200306_02,       A16N,     111,          1,         32,         32,2,20030729,       0541,    10.4998,   -28.7498,       5393,    44.6,  24.1567,  36.0088,2,  35.9677,2,    175.8,2,   195.8,2,    1.37,2,    1.12,2,    0.05,2,    0.20,2,-999.000,9,-999.000,9,-999.000,9,  -999.0,9,  -999.0,9,   -999.0,9,  -999.00,-999.0000,9,  -999.00,-999.000,9,-999.000,9,-999.000,9, -999.00,9,  -999.0,9,  -999.0,-999.000,9,-999.000,-999.000,9, -999.00,9, -999.00,9,   44.60,-999.0000,9,-999.0000,9,-999.0000,9,-999.0000,9,-999.0000,9,-999.0000,9,  24.1472,     -999.0,9,     -999.0,9,     -999.0,9,     -999.0,9,        111,-999.000,-999.000,-999.000,     -999.0,9, -999.00,9, -999.00,9
33RO200306_02,       A16N,     111,          1,         31,         31,2,20030729,       0541,    10.4998,   -28.7498,       5393,    65.3,  17.1449,  35.7204,2,  35.6833,2,     95.2,2,    82.4,2,    5.61,2,   20.70,2,    0.21,2,    1.32,2,   1.751,2,   1.001,2,   0.048,2,  2192.8,2,  2336.1,2,   -999.0,9,  -999.00,   7.7057,2,    25.00,-999.000,9,-999.000,9,-999.000,9, -999.00,9,  -999.0,9,  -999.0,-999.000,9,-999.000,-999.000,9, -999.00,9, -999.00,9,   65.30,-999.0000,9,-999.0000,9,-999.0000,9,-999.0000,9,-999.0000,9,-999.0000,9,  17.1340,     -999.0,9,     -999.0,9,     -999.0,9,     -999.0,9,        111,-999.000,-999.000,-999.000,     -999.0,9, -999.00,9, -999.00,9
33RO200306_02,       A16N,     111,          1,         30,         30,2,20030729,       0541,    10.4998,   -28.7498,       5393,    94.9,  13.7208,  35.3865,2,  35.3618,2,     69.8,2,    81.1,2,    8.48,2,   25.36,2,    0.04,2,    1.59,2,-999.000,9,-999.000,9,-999.000,9,  -999.0,9,  -999.0,9,   -999.0,9,  -999.00,-999.0000,9,  -999.00,-999.000,9,-999.000,9,-999.000,9, -999.00,9,  -999.0,9,  -999.0,-999.000,9,-999.000,-999.000,9, -999.00,9, -999.00,9,   94.90,-999.0000,9,-999.0000,9,-999.0000,9,-999.0000,9,-999.0000,9,-999.0000,9,  13.7073,     -999.0,9,     -999.0,9,     -999.0,9,     -999.0,9,        111,-999.000,-999.000,-999.000,     -999.0,9, -999.00,9, -999.00,9
33RO200306_02,       A16N,     111,          1,         29,         29,2,20030729,       0541,    10.4998,   -28.7498,       5393,   114.6,  12.9898,  35.3105,2,  35.3030,2,     82.3,2,    85.7,2,    9.04,2,   25.56,2,    0.02,2,    1.63,2,-999.000,9,-999.000,9,-999.000,9,  -999.0,9,  -999.0,9,   -999.0,9,  -999.00,-999.0000,9,  -999.00,-999.000,9,-999.000,9,-999.000,9, -999.00,9,  -999.0,9,  -999.0,-999.000,9,-999.000,-999.000,9, -999.00,9, -999.00,9,  114.60,-999.0000,9,-999.0000,9,-999.0000,9,-999.0000,9,-999.0000,9,-999.0000,9,  12.9740,     -999.0,9,     -999.0,9,     -999.0,9,     -999.0,9,        111,-999.000,-999.000,-999.000,     -999.0,9, -999.00,9, -999.00,9
33RO200306_02,       A16N,     111,          1,         28,         28,2,20030729,       0541,    10.4998,   -28.7498,       5393,   139.3,  12.5170,  35.2596,2,  35.2481,2,     86.1,2,    85.2,2,    9.69,2,   26.38,2,    0.01,2,    1.67,2,-999.000,9,-999.000,9,-999.000,9,  -999.0,9,  -999.0,9,   -999.0,9,  -999.00,-999.0000,9,  -999.00,-999.000,9,-999.000,9,-999.000,9, -999.00,9,  -999.0,9,  -999.0,-999.000,9,-999.000,-999.000,9, -999.00,9, -999.00,9,  139.30,-999.0000,9,-999.0000,9,-999.0000,9,-999.0000,9,-999.0000,9,-999.0000,9,  12.4983,     -999.0,9,     -999.0,9,     -999.0,9,     -999.0,9,        111,-999.000,-999.000,-999.000,     -999.0,9, -999.00,9, -999.00,9
33RO200306_02,       A16N,     111,          1,         27,         27,2,20030729,       0541,    10.4998,   -28.7498,       5393,   164.7,  12.0411,  35.2016,2,  35.1953,2,     86.0,2,    88.7,2,   10.14,2,   26.53,2,    0.01,2,    1.69,2,   1.394,2,   0.771,2,   0.013,2,  2202.3,2,  2314.7,2,   -999.0,9,  -999.00,   7.6244,2,    25.00,-999.000,9,-999.000,9,-999.000,9, -999.00,9,  -999.0,9,  -999.0,-999.000,9,-999.000,-999.000,9, -999.00,9, -999.00,9,  164.70,-999.0000,9,-999.0000,9,-999.0000,9,-999.0000,9,-999.0000,9,-999.0000,9,  12.0195,     -999.0,9,     -999.0,9,     -999.0,9,     -999.0,9,        111,-999.000,-999.000,-999.000,     -999.0,9, -999.00,9, -999.00,9
33RO200306_02,       A16N,     111,          1,         26,         26,2,20030729,       0541,    10.4998,   -28.7498,       5393,   189.7,  11.6260,  35.1523,2,  35.1477,2,     90.9,2,    92.5,2,   10.66,2,   26.93,2,    0.01,2,    1.71,2,-999.000,9,-999.000,9,-999.000,9,  -999.0,9,  -999.0,9,   -999.0,9,  -999.00,-999.0000,9,  -999.00,-999.000,9,-999.000,9,-999.000,9, -999.00,9,  -999.0,9,  -999.0,-999.000,9,-999.000,-999.000,9, -999.00,9, -999.00,9,  189.70,-999.0000,9,-999.0000,9,-999.0000,9,-999.0000,9,-999.0000,9,-999.0000,9,  11.6017,     -999.0,9,     -999.0,9,     -999.0,9,     -999.0,9,        111,-999.000,-999.000,-999.000,     -999.0,9, -999.00,9, -999.00,9
33RO200306_02,       A16N,     111,          1,         25,         25,2,20030729,       0541,    10.4998,   -28.7498,       5393,   224.1,  11.2304,  35.1202,2,  35.1201,2,     91.9,2,    82.0,2,   11.62,2,   28.75,2,    0.01,2,    1.80,2,-999.000,9,-999.000,9,-999.000,9,  -999.0,9,  -999.0,9,   -999.0,9,  -999.00,-999.0000,9,  -999.00,-999.000,9,-999.000,9,-999.000,9, -999.00,9,  -999.0,9,  -999.0,-999.000,9,-999.000,-999.000,9, -999.00,9, -999.00,9,  224.10,-999.0000,9,-999.0000,9,-999.0000,9,-999.0000,9,-999.0000,9,-999.0000,9,  11.2023,     -999.0,9,     -999.0,9,     -999.0,9,     -999.0,9,        111,-999.000,-999.000,-999.000,     -999.0,9, -999.00,9, -999.00,9
33RO200306_02,       A16N,     111,          1,         24,         24,2,20030729,       0541,    10.4998,   -28.7498,       5393,   274.7,  10.9932,  35.1420,2,  35.1353,2,     72.5,2,    65.9,2,   12.49,2,   30.99,2,    0.01,2,    1.91,2,-999.000,9,-999.000,9,-999.000,9,  -999.0,9,  -999.0,9,   -999.0,9,  -999.00,-999.0000,9,  -999.00,-999.000,9,-999.000,9,-999.000,9, -999.00,9,  -999.0,9,  -999.0,-999.000,9,-999.000,-999.000,9, -999.00,9, -999.00,9,  274.70,-999.0000,9,-999.0000,9,-999.0000,9,-999.0000,9,-999.0000,9,-999.0000,9,  10.9592,     -999.0,9,     -999.0,9,     -999.0,9,     -999.0,9,        111,-999.000,-999.000,-999.000,     -999.0,9, -999.00,9, -999.00,9
33RO200306_02,       A16N,     111,          1,         23,         23,2,20030729,       0541,    10.4998,   -28.7498,       5393,   324.7,  10.5785,  35.1442,2,  35.1442,2,     54.9,2,    49.5,2,   13.56,2,   33.10,2,    0.01,2,    1.99,2,   0.630,2,   0.351,2,   0.004,2,  2235.7,2,  2311.4,2,   -999.0,9,  -999.00,   7.5202,2,    25.00,-999.000,9,-999.000,9,-999.000,9, -999.00,9,  -999.0,9,  -999.0,-999.000,9,-999.000,-999.000,9, -999.00,9, -999.00,9,  324.70,-999.0000,9,-999.0000,9,-999.0000,9,-999.0000,9,-999.0000,9,-999.0000,9,  10.5391,     -999.0,9,     -999.0,9,     -999.0,9,     -999.0,9,        111,-999.000,-999.000,-999.000,     -999.0,9, -999.00,9, -999.00,9
33RO200306_02,       A16N,     111,          1,         22,         22,2,20030729,       0541,    10.4998,   -28.7498,       5393,   374.6,  10.2959,  35.1306,2,  35.1245,2,     49.2,2,    49.1,2,   14.49,2,   34.16,2,    0.01,2,    2.07,2,-999.000,9,-999.000,9,-999.000,9,  -999.0,9,  -999.0,9,   -999.0,9,  -999.00,-999.0000,9,  -999.00,-999.000,9,-999.000,9,-999.000,9, -999.00,9,  -999.0,9,  -999.0,-999.000,9,-999.000,-999.000,9, -999.00,9, -999.00,9,  374.60,-999.0000,9,-999.0000,9,-999.0000,9,-999.0000,9,-999.0000,9,-999.0000,9,  10.2512,     -999.0,9,     -999.0,9,     -999.0,9,     -999.0,9,        111,-999.000,-999.000,-999.000,     -999.0,9, -999.00,9, -999.00,9
33RO200306_02,       A16N,     111,          1,         21,         21,2,20030729,       0541,    10.4998,   -28.7498,       5393,   450.7,   9.2395,  35.0096,2,  35.0105,2,     51.3,2,    53.9,2,   16.88,2,   35.55,2,    0.01,2,    2.18,2,-999.000,9,-999.000,9,-999.000,9,  -999.0,9,  -999.0,9,   -999.0,9,  -999.00,-999.0000,9,  -999.00,-999.000,9,-999.000,9,-999.000,9, -999.00,9,  -999.0,9,  -999.0,-999.000,9,-999.000,-999.000,9, -999.00,9, -999.00,9,  450.70,-999.0000,9,-999.0000,9,-999.0000,9,-999.0000,9,-999.0000,9,-999.0000,9,   9.1890,     -999.0,9,     -999.0,9,     -999.0,9,     -999.0,9,        111,-999.000,-999.000,-999.000,     -999.0,9, -999.00,9, -999.00,9
33RO200306_02,       A16N,     111,          1,         20,         20,2,20030729,       0541,    10.4998,   -28.7498,       5393,   550.2,   7.9898,  34.8876,2,  34.8852,2,     68.4,2,    72.6,2,   19.93,2,   36.04,2,    0.00,2,    2.27,2,-999.000,9,-999.000,9,-999.000,9,  -999.0,9,  -999.0,9,   -999.0,9,  -999.00,-999.0000,9,  -999.00,-999.000,9,-999.000,9,-999.000,9, -999.00,9,  -999.0,9,  -999.0,-999.000,9,-999.000,-999.000,9, -999.00,9, -999.00,9,  550.20,-999.0000,9,-999.0000,9,-999.0000,9,-999.0000,9,-999.0000,9,-999.0000,9,   7.9330,     -999.0,9,     -999.0,9,     -999.0,9,     -999.0,9,        111,-999.000,-999.000,-999.000,     -999.0,9, -999.00,9, -999.00,9
33RO200306_02,       A16N,     111,          1,         19,         19,2,20030729,       0541,    10.4998,   -28.7498,       5393,   649.4,   6.9204,  34.7855,2,  34.7875,2,     86.9,2,    86.8,2,   22.92,2,   36.41,2,    0.00,2,    2.33,2,   0.061,2,   0.040,2,   0.001,2,  2235.1,2,  2326.2,3,   -999.0,9,  -999.00,-999.0000,9,  -999.00,-999.000,9,-999.000,9,-999.000,9, -999.00,9,  -999.0,9,  -999.0,-999.000,9,-999.000,-999.000,9, -999.00,9, -999.00,9,  649.40,-999.0000,9,-999.0000,9,-999.0000,9,-999.0000,9,-999.0000,9,-999.0000,9,   6.8582,     -999.0,9,     -999.0,9,     -999.0,9,     -999.0,9,        111,-999.000,-999.000,-999.000,     -999.0,9, -999.00,9, -999.00,9
33RO200306_02,       A16N,     111,          1,         18,         18,2,20030729,       0541,    10.4998,   -28.7498,       5393,   799.8,   5.9102,  34.7228,2,  34.7229,2,    107.7,2,   109.1,2,   26.22,2,   35.67,2,    0.00,2,    2.35,2,-999.000,9,-999.000,9,-999.000,9,  -999.0,9,  -999.0,9,   -999.0,9,  -999.00,-999.0000,9,  -999.00,-999.000,9,-999.000,9,-999.000,9, -999.00,9,  -999.0,9,  -999.0,-999.000,9,-999.000,-999.000,9, -999.00,9, -999.00,9,  799.80,-999.0000,9,-999.0000,9,-999.0000,9,-999.0000,9,-999.0000,9,-999.0000,9,   5.8389,     -999.0,9,     -999.0,9,     -999.0,9,     -999.0,9,        111,-999.000,-999.000,-999.000,     -999.0,9, -999.00,9, -999.00,9
33RO200306_02,       A16N,     111,          1,         17,         17,2,20030729,       0541,    10.4998,   -28.7498,       5393,   950.4,   5.3276,  34.7508,2,  34.7505,2,    132.9,2,   132.4,2,   27.04,2,   33.34,2,    0.00,2,    2.23,2,-999.000,9,-999.000,9,-999.000,9,  -999.0,9,  -999.0,9,   -999.0,9,  -999.00,-999.0000,9,  -999.00,-999.000,9,-999.000,9,-999.000,9, -999.00,9,  -999.0,9,  -999.0,-999.000,9,-999.000,-999.000,9, -999.00,9, -999.00,9,  950.40,-999.0000,9,-999.0000,9,-999.0000,9,-999.0000,9,-999.0000,9,-999.0000,9,   5.2460,     -999.0,9,     -999.0,9,     -999.0,9,     -999.0,9,        111,-999.000,-999.000,-999.000,     -999.0,9, -999.00,9, -999.00,9
33RO200306_02,       A16N,     111,          1,         16,         16,2,20030729,       0541,    10.4998,   -28.7498,       5393,  1099.6,   5.0344,  34.8391,2,  34.8424,2,    157.1,2,   156.8,2,   25.12,2,   29.95,2,    0.00,2,    2.02,2,   0.018,2,   0.011,2,  -0.001,2,  -999.0,9,  -999.0,9,   -999.0,9,  -999.00,-999.0000,9,  -999.00,-999.000,9,-999.000,9,-999.000,9, -999.00,9,  -999.0,9,  -999.0,-999.000,9,-999.000,-999.000,9, -999.00,9, -999.00,9, 1099.60,-999.0000,9,-999.0000,9,-999.0000,9,-999.0000,9,-999.0000,9,-999.0000,9,   4.9411,     -999.0,9,     -999.0,9,     -999.0,9,     -999.0,9,        111,-999.000,-999.000,-999.000,     -999.0,9, -999.00,9, -999.00,9
33RO200306_02,       A16N,     111,          1,         15,         15,2,20030729,       0541,    10.4998,   -28.7498,       5393,  1249.2,   4.7983,  34.9092,2,  34.9129,2,    179.6,2,   180.5,2,   22.76,2,   26.96,2,    0.00,2,    1.82,2,-999.000,9,-999.000,9,-999.000,9,  -999.0,9,  -999.0,9,   -999.0,9,  -999.00,-999.0000,9,  -999.00,-999.000,9,-999.000,9,-999.000,9, -999.00,9,  -999.0,9,  -999.0,-999.000,9,-999.000,-999.000,9, -999.00,9, -999.00,9, 1249.20,-999.0000,9,-999.0000,9,-999.0000,9,-999.0000,9,-999.0000,9,-999.0000,9,   4.6931,     -999.0,9,     -999.0,9,     -999.0,9,     -999.0,9,        111,-999.000,-999.000,-999.000,     -999.0,9, -999.00,9, -999.00,9
33RO200306_02,       A16N,     111,          1,         14,         14,2,20030729,       0541,    10.4998,   -28.7498,       5393,  1450.4,   4.4099,  34.9610,2,  34.9624,2,    208.9,2,   213.3,2,   20.13,2,   23.58,2,    0.00,2,    1.59,2,-999.000,9,-999.000,9,-999.000,9,  -999.0,9,  -999.0,9,   -999.0,9,  -999.00,-999.0000,9,  -999.00,-999.000,9,-999.000,9,-999.000,9, -999.00,9,  -999.0,9,  -999.0,-999.000,9,-999.000,-999.000,9, -999.00,9, -999.00,9, 1450.40,-999.0000,9,-999.0000,9,-999.0000,9,-999.0000,9,-999.0000,9,-999.0000,9,   4.2897,     -999.0,9,     -999.0,9,     -999.0,9,     -999.0,9,        111,-999.000,-999.000,-999.000,     -999.0,9, -999.00,9, -999.00,9
33RO200306_02,       A16N,     111,          1,         13,         13,2,20030729,       0541,    10.4998,   -28.7498,       5393,  1749.8,   3.8374,  34.9676,2,  34.9691,2,    231.6,2,   231.9,2,   20.59,2,   21.70,2,    0.00,2,    1.47,2,-999.000,9,-999.000,9,-999.000,9,  -999.0,9,  -999.0,9,   -999.0,9,  -999.00,-999.0000,9,  -999.00,-999.000,9,-999.000,9,-999.000,9, -999.00,9,  -999.0,9,  -999.0,-999.000,9,-999.000,-999.000,9, -999.00,9, -999.00,9, 1749.80,-999.0000,9,-999.0000,9,-999.0000,9,-999.0000,9,-999.0000,9,-999.0000,9,   3.6961,     -999.0,9,     -999.0,9,     -999.0,9,     -999.0,9,        111,-999.000,-999.000,-999.000,     -999.0,9, -999.00,9, -999.00,9
33RO200306_02,       A16N,     111,          1,         12,         12,2,20030729,       0541,    10.4998,   -28.7498,       5393,  2049.6,   3.4661,  34.9620,2,  34.9622,2,    242.3,2,   242.4,2,   22.72,2,   21.02,2,    0.00,2,    1.42,2,-999.000,9,-999.000,9,-999.000,9,  -999.0,9,  -999.0,9,   -999.0,9,  -999.00,-999.0000,9,  -999.00,-999.000,9,-999.000,9,-999.000,9, -999.00,9,  -999.0,9,  -999.0,-999.000,9,-999.000,-999.000,9, -999.00,9, -999.00,9, 2049.60,-999.0000,9,-999.0000,9,-999.0000,9,-999.0000,9,-999.0000,9,-999.0000,9,   3.3018,     -999.0,9,     -999.0,9,     -999.0,9,     -999.0,9,        111,-999.000,-999.000,-999.000,     -999.0,9, -999.00,9, -999.00,9
33RO200306_02,       A16N,     111,          1,         11,         11,2,20030729,       0541,    10.4998,   -28.7498,       5393,  2349.1,   3.1624,  34.9526,2,  34.9534,2,    245.1,2,   245.2,2,   26.58,2,   20.95,2,    0.00,2,    1.43,2,-999.000,9,-999.000,9,-999.000,9,  -999.0,9,  -999.0,9,   -999.0,9,  -999.00,-999.0000,9,  -999.00,-999.000,9,-999.000,9,-999.000,9, -999.00,9,  -999.0,9,  -999.0,-999.000,9,-999.000,-999.000,9, -999.00,9, -999.00,9, 2349.10,-999.0000,9,-999.0000,9,-999.0000,9,-999.0000,9,-999.0000,9,-999.0000,9,   2.9743,     -999.0,9,     -999.0,9,     -999.0,9,     -999.0,9,        111,-999.000,-999.000,-999.000,     -999.0,9, -999.00,9, -999.00,9
33RO200306_02,       A16N,     111,          1,         10,         10,2,20030729,       0541,    10.4998,   -28.7498,       5393,  2650.6,   2.9324,  34.9406,2,  34.9427,2,    245.3,2,   244.5,2,   30.59,2,   21.14,2,    0.00,2,    1.45,2,-999.000,9,-999.000,9,-999.000,9,  -999.0,9,  -999.0,9,   -999.0,9,  -999.00,-999.0000,9,  -999.00,-999.000,9,-999.000,9,-999.000,9, -999.00,9,  -999.0,9,  -999.0,-999.000,9,-999.000,-999.000,9, -999.00,9, -999.00,9, 2650.60,-999.0000,9,-999.0000,9,-999.0000,9,-999.0000,9,-999.0000,9,-999.0000,9,   2.7188,     -999.0,9,     -999.0,9,     -999.0,9,     -999.0,9,        111,-999.000,-999.000,-999.000,     -999.0,9, -999.00,9, -999.00,9
33RO200306_02,       A16N,     111,          1,          9,          9,2,20030729,       0541,    10.4998,   -28.7498,       5393,  2949.5,   2.7371,  34.9278,2,  34.9299,2,    247.1,2,   247.1,2,   33.60,2,   21.18,2,    0.00,2,    1.45,2,-999.000,9,-999.000,9,-999.000,9,  -999.0,9,  -999.0,9,   -999.0,9,  -999.00,-999.0000,9,  -999.00,-999.000,9,-999.000,9,-999.000,9, -999.00,9,  -999.0,9,  -999.0,-999.000,9,-999.000,-999.000,9, -999.00,9, -999.00,9, 2949.50,-999.0000,9,-999.0000,9,-999.0000,9,-999.0000,9,-999.0000,9,-999.0000,9,   2.4973,     -999.0,9,     -999.0,9,     -999.0,9,     -999.0,9,        111,-999.000,-999.000,-999.000,     -999.0,9, -999.00,9, -999.00,9
33RO200306_02,       A16N,     111,          1,          8,          8,2,20030729,       0541,    10.4998,   -28.7498,       5393,  3249.9,   2.5906,  34.9159,2,  34.9167,2,    247.7,2,   249.7,2,   37.12,2,   21.49,2,    0.00,2,    1.48,2,-999.000,9,-999.000,9,-999.000,9,  -999.0,9,  -999.0,9,   -999.0,9,  -999.00,-999.0000,9,  -999.00,-999.000,9,-999.000,9,-999.000,9, -999.00,9,  -999.0,9,  -999.0,-999.000,9,-999.000,-999.000,9, -999.00,9, -999.00,9, 3249.90,-999.0000,9,-999.0000,9,-999.0000,9,-999.0000,9,-999.0000,9,-999.0000,9,   2.3228,     -999.0,9,     -999.0,9,     -999.0,9,     -999.0,9,        111,-999.000,-999.000,-999.000,     -999.0,9, -999.00,9, -999.00,9