BOTTLE,20230908CCHSIOCBG
EXPOCODE,SECT_ID,STNNBR,CASTNO,SAMPNO,BTLNBR,BTLNBR_FLAG_W,DATE,TIME,LATITUDE,LONGITUDE,DEPTH,CTDPRS,CTDTMP,CTDSAL,CTDSAL_FLAG_W,SALNTY,SALNTY_FLAG_W,CTDOXY,CTDOXY_FLAG_W,OXYGEN,OXYGEN_FLAG_W,SILCAT,SILCAT_FLAG_W,NITRAT,NITRAT_FLAG_W,NITRIT,NITRIT_FLAG_W,PHSPHT,PHSPHT_FLAG_W,CFC-11,CFC-11_FLAG_W,CFC-12,CFC-12_FLAG_W,CFC113,CFC113_FLAG_W,TCARBN,TCARBN_FLAG_W,ALKALI,ALKALI_FLAG_W,FCO2,FCO2_FLAG_W,FCO2TMP,PH_SWS,PH_SWS_FLAG_W,PH_TMP,TRITUM,TRITUM_FLAG_W,HELIUM,HELIUM_FLAG_W,DELHE3,DELHE3_FLAG_W,DELC13,DELC13_FLAG_W,DELC14,DELC14_FLAG_W,C14ERR,NEON,NEON_FLAG_W,NEONER,POC,POC_FLAG_W,DOC,DOC_FLAG_W,TDN,TDN_FLAG_W,CTDRAW,CDOM325,CDOM325_FLAG_W,CDOM340,CDOM340_FLAG_W,CDOM380,CDOM380_FLAG_W,CDOM412,CDOM412_FLAG_W,CDOMSL,CDOMSL_FLAG_W,CDOMSN,CDOMSN_FLAG_W,THETA,PON,PON_FLAG_W,HCFC-22,HCFC-22_FLAG_W,HCFC-142b,HCFC-142b_FLAG_W,HCFC-141b,HCFC-141b_FLAG_W,STNNBR_U,HELIER,DELHER,TRITER,CH3CL,CH3CL_FLAG_W,CH3BR,CH3BR_FLAG_W,CH3I,CH3I_FLAG_W
,,,,,,,,,,,METERS,DBAR,ITS-90,PSS-78,,PSS-78,,UMOL/KG,,UMOL/KG,,UMOL/KG,,UMOL/KG,,UMOL/KG,,UMOL/KG,,PMOL/KG,,PMOL/KG,,PMOL/KG,,UMOL/KG,,UMOL/KG,,UATM,,DEG C,,,DEG C,TU,,NMOL/KG,,PERCNT,,/MILLE,,/MILLE,,/MILLE,NMOL/KG,,NMOL/KG,UG/KG,,UMOL/KG,,UMOL/KG,,DBAR,1/M,,1/M,,1/M,,1/M,,1/NM,,1/NM,,DEG C,UMOL/L,,PMOL/KG,,PMOL/KG,,PMOL/KG,,,NMOL/KG,PERCNT,TU,PMOL/KG,,PMOL/KG,,PMOL/KG,
33RO200306_01,       A16N,     038,          1,         24,         24,2,20030629,       0028,    46.4977,   -19.9993,       4864,     8.8,  16.1961,  35.7624,2,  35.7631,2,    246.3,2,   251.5,2,    0.78,2,    0.25,2,    0.04,2,    0.08,2,   2.785,2,   1.689,2,   0.242,2,  2077.6,2,  2346.5,3,   -999.0,9,  -999.00,   7.9811,3,    25.00,-999.000,9,-999.000,9,-999.000,9, -999.00,9,  -999.0,9,  -999.0,-999.000,9,-999.000,-999.000,9, -999.00,9, -999.00,9,    8.80,-999.0000,9,-999.0000,9,-999.0000,9,-999.0000,9,-999.0000,9,-999.0000,9,  16.1947,     -999.0,9,     -999.0,9,     -999.0,9,     -999.0,9,         38,-999.000,-999.000,-999.000,     -999.0,9, -999.00,9, -999.00,9
33RO200306_01,       A16N,     038,          1,         23,         23,2,20030629,       0028,    46.4977,   -19.9993,       4864,    29.2,  16.1092,  35.7590,2,  35.7644,2,    246.9,2,   248.6,2,    0.79,2,    0.46,2,    0.07,2,    0.08,2,-999.000,9,-999.000,9,-999.000,9,  -999.0,9,  -999.0,9,   -999.0,9,  -999.00,-999.0000,9,  -999.00,-999.000,9,-999.000,9,-999.000,9, -999.00,9,  -999.0,9,  -999.0,-999.000,9,-999.000,   6.587,2, -999.00,9, -999.00,9,   29.20,-999.0000,9,-999.0000,9,-999.0000,9,-999.0000,9,-999.0000,9,-999.0000,9,  16.1045,      0.826,2,     -999.0,9,     -999.0,9,     -999.0,9,         38,-999.000,-999.000,-999.000,     -999.0,9, -999.00,9, -999.00,9
33RO200306_01,       A16N,     038,          1,         22,         22,2,20030629,       0028,    46.4977,   -19.9993,       4864,    59.5,  13.0517,  35.7677,2,  35.7671,2,    242.3,2,   243.4,2,    2.56,2,    7.21,2,    0.12,2,    0.45,2,-999.000,9,-999.000,9,-999.000,9,  -999.0,9,  -999.0,9,   -999.0,9,  -999.00,-999.0000,9,  -999.00,-999.000,9,-999.000,9,-999.000,9, -999.00,9,  -999.0,9,  -999.0,-999.000,9,-999.000,   2.525,2, -999.00,9, -999.00,9,   59.50,-999.0000,9,-999.0000,9,-999.0000,9,-999.0000,9,-999.0000,9,-999.0000,9,  13.0435,      0.233,2,     -999.0,9,     -999.0,9,     -999.0,9,         38,-999.000,-999.000,-999.000,     -999.0,9, -999.00,9, -999.00,9
33RO200306_01,       A16N,     038,          1,         21,         21,2,20030629,       0028,    46.4977,   -19.9993,       4864,   101.6,  12.9194,  35.7803,2,  35.7820,2,    244.9,2,   243.6,2,    2.88,2,    7.88,2,    0.02,2,    0.48,2,-999.000,9,-999.000,9,-999.000,9,  -999.0,9,  -999.0,9,   -999.0,9,  -999.00,-999.0000,9,  -999.00,-999.000,9,-999.000,9,-999.000,9, -999.00,9,  -999.0,9,  -999.0,-999.000,9,-999.000,-999.000,9, -999.00,9, -999.00,9,  101.60,-999.0000,9,-999.0000,9,-999.0000,9,-999.0000,9,-999.0000,9,-999.0000,9,  12.9054,     -999.0,9,     -999.0,9,     -999.0,9,     -999.0,9,         38,-999.000,-999.000,-999.000,     -999.0,9, -999.00,9, -999.00,9
33RO200306_01,       A16N,     038,          1,         20,         20,2,20030629,       0028,    46.4977,   -19.9993,       4864,   150.7,  12.8109,  35.7695,2,  35.7690,2,    246.3,2,   245.3,2,    2.96,2,    8.06,2,    0.02,2,    0.49,2,-999.000,9,-999.000,9,-999.000,9,  -999.0,9,  -999.0,9,   -999.0,9,  -999.00,-999.0000,9,  -999.00,-999.000,9,-999.000,9,-999.000,9, -999.00,9,  -999.0,9,  -999.0,-999.000,9,-999.000,-999.000,9, -999.00,9, -999.00,9,  150.70,-999.0000,9,-999.0000,9,-999.0000,9,-999.0000,9,-999.0000,9,-999.0000,9,  12.7903,     -999.0,9,     -999.0,9,     -999.0,9,     -999.0,9,         38,-999.000,-999.000,-999.000,     -999.0,9, -999.00,9, -999.00,9
33RO200306_01,       A16N,     038,          1,         19,         19,9,20030629,       0028,    46.4977,   -19.9993,       4864,   199.0,  12.7115,  35.7552,2,-999.0000,9,    245.4,2,  -999.0,9, -999.00,9, -999.00,9, -999.00,9, -999.00,9,-999.000,9,-999.000,9,-999.000,9,  -999.0,9,  -999.0,9,   -999.0,9,  -999.00,-999.0000,9,  -999.00,-999.000,9,-999.000,9,-999.000,9, -999.00,9,  -999.0,9,  -999.0,-999.000,9,-999.000,-999.000,9, -999.00,9, -999.00,9,  199.00,-999.0000,9,-999.0000,9,-999.0000,9,-999.0000,9,-999.0000,9,-999.0000,9,  12.6843,     -999.0,9,     -999.0,9,     -999.0,9,     -999.0,9,         38,-999.000,-999.000,-999.000,     -999.0,9, -999.00,9, -999.00,9
33RO200306_01,       A16N,     038,          1,         18,         18,2,20030629,       0028,    46.4977,   -19.9993,       4864,   300.1,  12.2667,  35.6718,2,  35.6741,2,    242.1,2,   241.5,2,    3.51,2,    9.42,2,    0.01,2,    0.58,2,-999.000,9,-999.000,9,-999.000,9,  -999.0,9,  -999.0,9,   -999.0,9,  -999.00,-999.0000,9,  -999.00,-999.000,9,-999.000,9,-999.000,9, -999.00,9,  -999.0,9,  -999.0,-999.000,9,-999.000,-999.000,9, -999.00,9, -999.00,9,  300.10,-999.0000,9,-999.0000,9,-999.0000,9,-999.0000,9,-999.0000,9,-999.0000,9,  12.2265,     -999.0,9,     -999.0,9,     -999.0,9,     -999.0,9,         38,-999.000,-999.000,-999.000,     -999.0,9, -999.00,9, -999.00,9
33RO200306_01,       A16N,     038,          1,         17,         17,2,20030629,       0028,    46.4977,   -19.9993,       4864,   398.1,  11.7051,  35.5748,2,  35.5741,2,    231.3,2,   230.4,2,    4.30,2,   11.21,2,    0.01,2,    0.69,2,-999.000,9,-999.000,9,-999.000,9,  -999.0,9,  -999.0,9,   -999.0,9,  -999.00,-999.0000,9,  -999.00,-999.000,9,-999.000,9,-999.000,9, -999.00,9,  -999.0,9,  -999.0,-999.000,9,-999.000,-999.000,9, -999.00,9, -999.00,9,  398.10,-999.0000,9,-999.0000,9,-999.0000,9,-999.0000,9,-999.0000,9,-999.0000,9,  11.6532,     -999.0,9,     -999.0,9,     -999.0,9,     -999.0,9,         38,-999.000,-999.000,-999.000,     -999.0,9, -999.00,9, -999.00,9
33RO200306_01,       A16N,     038,          1,         16,         16,2,20030629,       0028,    46.4977,   -19.9993,       4864,   487.6,  11.3583,  35.5353,2,  35.5340,2,    226.6,2,   231.1,2,    4.60,2,   11.76,2,    0.01,2,    0.72,2,-999.000,9,-999.000,9,-999.000,9,  -999.0,9,  -999.0,9,   -999.0,9,  -999.00,-999.0000,9,  -999.00,-999.000,9,-999.000,9,-999.000,9, -999.00,9,  -999.0,9,  -999.0,-999.000,9,-999.000,-999.000,9, -999.00,9, -999.00,9,  487.60,-999.0000,9,-999.0000,9,-999.0000,9,-999.0000,9,-999.0000,9,-999.0000,9,  11.2958,     -999.0,9,     -999.0,9,     -999.0,9,     -999.0,9,         38,-999.000,-999.000,-999.000,     -999.0,9, -999.00,9, -999.00,9
33RO200306_01,       A16N,     038,          1,         15,         15,2,20030629,       0028,    46.4977,   -19.9993,       4864,   602.5,  10.7553,  35.4771,2,  35.4761,2,    208.3,2,   207.5,2,    6.22,2,   14.67,2,    0.01,2,    0.88,2,-999.000,9,-999.000,9,-999.000,9,  -999.0,9,  -999.0,9,   -999.0,9,  -999.00,-999.0000,9,  -999.00,-999.000,9,-999.000,9,-999.000,9, -999.00,9,  -999.0,9,  -999.0,-999.000,9,-999.000,-999.000,9, -999.00,9, -999.00,9,  602.50,-999.0000,9,-999.0000,9,-999.0000,9,-999.0000,9,-999.0000,9,-999.0000,9,  10.6803,     -999.0,9,     -999.0,9,     -999.0,9,     -999.0,9,         38,-999.000,-999.000,-999.000,     -999.0,9, -999.00,9, -999.00,9
33RO200306_01,       A16N,     038,          1,         14,         14,2,20030629,       0028,    46.4977,   -19.9993,       4864,   680.0,  10.2397,  35.4403,2,  35.4392,2,    194.8,2,   194.9,2,    7.77,2,   16.52,2,    0.00,2,    1.00,2,-999.000,9,-999.000,9,-999.000,9,  -999.0,9,  -999.0,9,   -999.0,9,  -999.00,-999.0000,9,  -999.00,-999.000,9,-999.000,9,-999.000,9, -999.00,9,  -999.0,9,  -999.0,-999.000,9,-999.000,-999.000,9, -999.00,9, -999.00,9,  680.00,-999.0000,9,-999.0000,9,-999.0000,9,-999.0000,9,-999.0000,9,-999.0000,9,  10.1573,     -999.0,9,     -999.0,9,     -999.0,9,     -999.0,9,         38,-999.000,-999.000,-999.000,     -999.0,9, -999.00,9, -999.00,9
33RO200306_01,       A16N,     038,          1,         13,         13,2,20030629,       0028,    46.4977,   -19.9993,       4864,   794.6,   9.1936,  35.3803,2,  35.3710,2,    190.4,2,   187.6,2,    9.79,2,   18.21,2,    0.00,2,    1.12,2,-999.000,9,-999.000,9,-999.000,9,  -999.0,9,  -999.0,9,   -999.0,9,  -999.00,-999.0000,9,  -999.00,-999.000,9,-999.000,9,-999.000,9, -999.00,9,  -999.0,9,  -999.0,-999.000,9,-999.000,-999.000,9, -999.00,9, -999.00,9,  794.60,-999.0000,9,-999.0000,9,-999.0000,9,-999.0000,9,-999.0000,9,-999.0000,9,   9.1028,     -999.0,9,     -999.0,9,     -999.0,9,     -999.0,9,         38,-999.000,-999.000,-999.000,     -999.0,9, -999.00,9, -999.00,9
33RO200306_01,       A16N,     038,          1,         12,         12,2,20030629,       0028,    46.4977,   -19.9993,       4864,   897.2,   8.9728,  35.5102,2,  35.5124,2,    187.9,2,   188.3,2,   10.18,2,   17.96,2,    0.00,2,    1.11,2,   1.814,6,   0.952,6,   0.059,6,  -999.0,9,  -999.0,9,   -999.0,9,  -999.00,-999.0000,9,  -999.00,-999.000,9,-999.000,9,-999.000,9, -999.00,9,  -999.0,9,  -999.0,-999.000,9,-999.000,-999.000,9, -999.00,9, -999.00,9,  897.20,-999.0000,9,-999.0000,9,-999.0000,9,-999.0000,9,-999.0000,9,-999.0000,9,   8.8709,     -999.0,9,     -999.0,9,     -999.0,9,     -999.0,9,         38,-999.000,-999.000,-999.000,     -999.0,9, -999.00,9, -999.00,9
33RO200306_01,       A16N,     038,          1,         11,         11,2,20030629,       0028,    46.4977,   -19.9993,       4864,   970.8,   7.5882,  35.3161,2,  35.3154,2,    198.8,2,   201.2,2,   11.05,2,   18.59,2,    0.00,2,    1.17,2,   1.944,2,   0.997,2,   0.077,2,  -999.0,9,  -999.0,9,   -999.0,9,  -999.00,-999.0000,9,  -999.00,-999.000,9,-999.000,9,-999.000,9, -999.00,9,  -999.0,9,  -999.0,-999.000,9,-999.000,-999.000,9, -999.00,9, -999.00,9,  970.80,-999.0000,9,-999.0000,9,-999.0000,9,-999.0000,9,-999.0000,9,-999.0000,9,   7.4876,     -999.0,9,     -999.0,9,     -999.0,9,     -999.0,9,         38,-999.000,-999.000,-999.000,     -999.0,9, -999.00,9, -999.00,9
33RO200306_01,       A16N,     038,          1,         10,         10,2,20030629,       0028,    46.4977,   -19.9993,       4864,  1236.5,   5.2390,  35.0580,2,  35.0595,2,    240.5,2,   239.6,2,   11.30,2,   18.22,2,    0.00,2,    1.16,2,   2.514,2,   1.291,2,   0.151,2,  -999.0,9,  -999.0,9,   -999.0,9,  -999.00,-999.0000,9,  -999.00,-999.000,9,-999.000,9,-999.000,9, -999.00,9,  -999.0,9,  -999.0,-999.000,9,-999.000,-999.000,9, -999.00,9, -999.00,9, 1236.50,-999.0000,9,-999.0000,9,-999.0000,9,-999.0000,9,-999.0000,9,-999.0000,9,   5.1306,     -999.0,9,     -999.0,9,     -999.0,9,     -999.0,9,         38,-999.000,-999.000,-999.000,     -999.0,9, -999.00,9, -999.00,9
33RO200306_01,       A16N,     038,          1,          8,          8,2,20030629,       0028,    46.4977,   -19.9993,       4864,  1499.1,   4.1407,  34.9553,2,  34.9543,2,    262.3,2,   262.2,2,   11.29,2,   17.79,2,    0.00,2,    1.14,2,   2.716,2,   1.361,2,   0.164,2,  -999.0,9,  -999.0,9,   -999.0,9,  -999.00,-999.0000,9,  -999.00,-999.000,9,-999.000,9,-999.000,9, -999.00,9,  -999.0,9,  -999.0,-999.000,9,-999.000,-999.000,9, -999.00,9, -999.00,9, 1499.10,-999.0000,9,-999.0000,9,-999.0000,9,-999.0000,9,-999.0000,9,-999.0000,9,   4.0190,     -999.0,9,     -999.0,9,     -999.0,9,     -999.0,9,         38,-999.000,-999.000,-999.000,     -999.0,9, -999.00,9, -999.00,9
33RO200306_01,       A16N,     038,          1,          9,          9,9,20030629,       0028,    46.4977,   -19.9993,       4864,  1499.3,   4.1402,  34.9552,2,-999.0000,9,    262.3,2,  -999.0,9, -999.00,9, -999.00,9, -999.00,9, -999.00,9,-999.000,9,-999.000,9,-999.000,9,  -999.0,9,  -999.0,9,   -999.0,9,  -999.00,-999.0000,9,  -999.00,-999.000,9,-999.000,9,-999.000,9, -999.00,9,  -999.0,9,  -999.0,-999.000,9,-999.000,-999.000,9, -999.00,9, -999.00,9, 1499.30,-999.0000,9,-999.0000,9,-999.0000,9,-999.0000,9,-999.0000,9,-999.0000,9,   4.0185,     -999.0,9,     -999.0,9,     -999.0,9,     -999.0,9,         38,-999.000,-999.000,-999.000,     -999.0,9, -999.00,9, -999.00,9
33RO200306_01,       A16N,     038,          1,          7,          7,2,20030629,       0028,    46.4977,   -19.9993,       4864,  1749.6,   3.6736,  34.9159,2,  34.9145,2,    272.3,2,   273.0,2,   11.48,2,   17.56,2,    0.00,2,    1.13,2,   2.688,2,   1.349,2,   0.162,2,  -999.0,9,  -999.0,9,   -999.0,9,  -999.00,-999.0000,9,  -999.00,-999.000,9,-999.000,9,-999.000,9, -999.00,9,  -999.0,9,  -999.0,-999.000,9,-999.000,-999.000,9, -999.00,9, -999.00,9, 1749.60,-999.0000,9,-999.0000,9,-999.0000,9,-999.0000,9,-999.0000,9,-999.0000,9,   3.5346,     -999.0,9,     -999.0,9,     -999.0,9,     -999.0,9,         38,-999.000,-999.000,-999.000,     -999.0,9, -999.00,9, -999.00,9
33RO200306_01,       A16N,     038,          1,          6,          6,2,20030629,       0028,    46.4977,   -19.9993,       4864,  2000.1,   3.3966,  34.8985,2,  34.8978,2,    278.9,2,   278.7,2,   11.70,2,   17.32,2,    0.00,2,    1.11,2,   2.708,2,   1.337,2,   0.161,2,  -999.0,9,  -999.0,9,   -999.0,9,  -999.00,-999.0000,9,  -999.00,-999.000,9,-999.000,9,-999.000,9, -999.00,9,  -999.0,9,  -999.0,-999.000,9,-999.000,-999.000,9, -999.00,9, -999.00,9, 2000.10,-999.0000,9,-999.0000,9,-999.0000,9,-999.0000,9,-999.0000,9,-999.0000,9,   3.2383,     -999.0,9,     -999.0,9,     -999.0,9,     -999.0,9,         38,-999.000,-999.000,-999.000,     -999.0,9, -999.00,9, -999.00,9
33RO200306_01,       A16N,     038,          1,          5,          5,2,20030629,       0028,    46.4977,   -19.9993,       4864,  2502.5,   3.1735,  34.9227,2,  34.9216,2,    275.8,2,   275.9,2,   14.13,2,   17.17,2,    0.00,2,    1.11,2,   2.004,2,   0.985,2,   0.098,2,  -999.0,9,  -999.0,9,   -999.0,9,  -999.00,-999.0000,9,  -999.00,-999.000,9,-999.000,9,-999.000,9, -999.00,9,  -999.0,9,  -999.0,-999.000,9,-999.000,-999.000,9, -999.00,9, -999.00,9, 2502.50,-999.0000,9,-999.0000,9,-999.0000,9,-999.0000,9,-999.0000,9,-999.0000,9,   2.9702,     -999.0,9,     -999.0,9,     -999.0,9,     -999.0,9,         38,-999.000,-999.000,-999.000,     -999.0,9, -999.00,9, -999.00,9
33RO200306_01,       A16N,     038,          1,          4,          4,2,20030629,       0028,    46.4977,   -19.9993,       4864,  2995.2,   2.9362,  34.9492,2,  34.9474,2,    258.8,2,   258.7,2,   25.42,6,   19.00,6,    0.00,6,    1.24,6,   0.765,2,   0.385,2,   0.032,2,  -999.0,9,  -999.0,9,   -999.0,9,  -999.00,-999.0000,9,  -999.00,-999.000,9,-999.000,9,-999.000,9, -999.00,9,  -999.0,9,  -999.0,-999.000,9,-999.000,-999.000,9, -999.00,9, -999.00,9, 2995.20,-999.0000,9,-999.0000,9,-999.0000,9,-999.0000,9,-999.0000,9,-999.0000,9,   2.6873,     -999.0,9,     -999.0,9,     -999.0,9,     -999.0,9,         38,-999.000,-999.000,-999.000,     -999.0,9, -999.00,9, -999.00,9
33RO200306_01,       A16N,     038,          1,          3,          3,2,20030629,       0028,    46.4977,   -19.9993,       4864,  3498.5,   2.6790,  34.9312,2,  34.9303,2,    249.6,2,   247.8,2,   35.80,6,   20.79,6,    0.00,6,    1.38,6,   0.277,2,   0.145,2,   0.017,2,  -999.0,9,  -999.0,9,   -999.0,9,  -999.00,-999.0000,9,  -999.00,-999.000,9,-999.000,9,-999.000,9, -999.00,9,  -999.0,9,  -999.0,-999.000,9,-999.000,-999.000,9, -999.00,9, -999.00,9, 3498.50,-999.0000,9,-999.0000,9,-999.0000,9,-999.0000,9,-999.0000,9,-999.0000,9,   2.3822,     -999.0,9,     -999.0,9,     -999.0,9,     -999.0,9,         38,-999.000,-999.000,-999.000,     -999.0,9, -999.00,9, -999.00,9
33RO200306_01,       A16N,     038,          1,          2,          2,2,20030629,       0028,    46.4977,   -19.9993,       4864,  3978.1,   2.5799,  34.9172,2,  34.9165,2,    244.5,2,   246.1,2,   41.67,6,   21.81,6,    0.00,6,    1.45,6,   0.103,2,   0.055,2,   0.012,2,  -999.0,9,  -999.0,9,   -999.0,9,  -999.00,-999.0000,9,  -999.00,-999.000,9,-999.000,9,-999.000,9, -999.00,9,  -999.0,9,  -999.0,-999.000,9,-999.000,-999.000,9, -999.00,9, -999.00,9, 3978.10,-999.0000,9,-999.0000,9,-999.0000,9,-999.0000,9,-999.0000,9,-999.0000,9,   2.2319,     -999.0,9,     -999.0,9,     -999.0,9,     -999.0,9,         38,-999.000,-999.000,-999.000,     -999.0,9, -999.00,9, -999.00,9
33RO200306_01,       A16N,     038,          1,          1,          1,9,20030629,       0028,    46.4977,   -19.9993,       4864,  4946.1,   2.6105,  34.9076,2,-999.0000,9,    244.1,2,  -999.0,9, -999.00,9, -999.00,9, -999.00,9, -999.00,9,-999.000,9,-999.000,9,-999.000,9,  -999.0,9,  -999.0,9,   -999.0,9,  -999.00,-999.0000,9,  -999.00,-999.000,9,-999.000,9,-999.000,9, -999.00,9,  -999.0,9,  -999.0,-999.000,9,-999.000,-999.000,9, -999.00,9, -999.00,9, 4946.10,-999.0000,9,-999.0000,9,-999.0000,9,-999.0000,9,-999.0000,9,-999.0000,9,   2.1442,     -999.0,9,     -999.0,9,     -999.0,9,     -999.0,9,         38,-999.000,-999.000,-999.000,     -999.0,9, -999.00,9, -999.00,9