BOTTLE,20230908CCHSIOCBG
EXPOCODE,SECT_ID,STNNBR,CASTNO,SAMPNO,BTLNBR,BTLNBR_FLAG_W,DATE,TIME,LATITUDE,LONGITUDE,DEPTH,CTDPRS,CTDTMP,CTDSAL,CTDSAL_FLAG_W,SALNTY,SALNTY_FLAG_W,CTDOXY,CTDOXY_FLAG_W,OXYGEN,OXYGEN_FLAG_W,SILCAT,SILCAT_FLAG_W,NITRAT,NITRAT_FLAG_W,NITRIT,NITRIT_FLAG_W,PHSPHT,PHSPHT_FLAG_W,CFC-11,CFC-11_FLAG_W,CFC-12,CFC-12_FLAG_W,CFC113,CFC113_FLAG_W,TCARBN,TCARBN_FLAG_W,ALKALI,ALKALI_FLAG_W,FCO2,FCO2_FLAG_W,FCO2TMP,PH_SWS,PH_SWS_FLAG_W,PH_TMP,TRITUM,TRITUM_FLAG_W,HELIUM,HELIUM_FLAG_W,DELHE3,DELHE3_FLAG_W,DELC13,DELC13_FLAG_W,DELC14,DELC14_FLAG_W,C14ERR,NEON,NEON_FLAG_W,NEONER,POC,POC_FLAG_W,DOC,DOC_FLAG_W,TDN,TDN_FLAG_W,CTDRAW,CDOM325,CDOM325_FLAG_W,CDOM340,CDOM340_FLAG_W,CDOM380,CDOM380_FLAG_W,CDOM412,CDOM412_FLAG_W,CDOMSL,CDOMSL_FLAG_W,CDOMSN,CDOMSN_FLAG_W,THETA,PON,PON_FLAG_W,HCFC-22,HCFC-22_FLAG_W,HCFC-142b,HCFC-142b_FLAG_W,HCFC-141b,HCFC-141b_FLAG_W,STNNBR_U,HELIER,DELHER,TRITER,CH3CL,CH3CL_FLAG_W,CH3BR,CH3BR_FLAG_W,CH3I,CH3I_FLAG_W
,,,,,,,,,,,METERS,DBAR,ITS-90,PSS-78,,PSS-78,,UMOL/KG,,UMOL/KG,,UMOL/KG,,UMOL/KG,,UMOL/KG,,UMOL/KG,,PMOL/KG,,PMOL/KG,,PMOL/KG,,UMOL/KG,,UMOL/KG,,UATM,,DEG C,,,DEG C,TU,,NMOL/KG,,PERCNT,,/MILLE,,/MILLE,,/MILLE,NMOL/KG,,NMOL/KG,UG/KG,,UMOL/KG,,UMOL/KG,,DBAR,1/M,,1/M,,1/M,,1/M,,1/NM,,1/NM,,DEG C,UMOL/L,,PMOL/KG,,PMOL/KG,,PMOL/KG,,,NMOL/KG,PERCNT,TU,PMOL/KG,,PMOL/KG,,PMOL/KG,
33RO200306_01,       A16N,     027,          1,         35,         35,2,20030625,       1212,    52.0018,   -19.9995,       3772,     2.0,  12.7877,  35.4049,2,  35.4071,2,    266.5,2,   266.6,2,    0.21,2,    3.58,2,    0.09,2,    0.26,2,   3.358,2,   1.951,2,   0.305,2,  2080.2,2,  2333.6,2,    435.6,2,    20.00,   7.9380,2,    25.00,   1.316,2,   1.722,2,  -2.308,2, -999.00,9,  -999.0,9,  -999.0,   7.191,2,   0.049,-999.000,9,   54.31,2,    8.49,2,    2.00,-999.0000,9,-999.0000,9,-999.0000,9,-999.0000,9,-999.0000,9,-999.0000,9,  12.7874,     -999.0,9,     -999.0,9,     -999.0,9,     -999.0,9,         27,   0.003,   0.217,   0.020,     -999.0,9, -999.00,9, -999.00,9
33RO200306_01,       A16N,     027,          1,         33,         33,2,20030625,       1212,    52.0018,   -19.9995,       3772,     9.7,  12.7624,  35.4042,2,  35.4062,2,    266.8,2,   267.1,2,    0.21,2,    3.60,2,    0.09,2,    0.26,2,-999.000,9,-999.000,9,-999.000,9,  2080.2,2,  2334.7,2,   -999.0,9,  -999.00,   7.9403,2,    25.00,-999.000,9,-999.000,9,-999.000,9, -999.00,9,  -999.0,9,  -999.0,-999.000,9,-999.000,   6.082,2,   54.22,2,   10.44,2,    9.70,-999.0000,9,-999.0000,9,-999.0000,9,-999.0000,9,-999.0000,9,-999.0000,9,  12.7611,      0.763,2,     -999.0,9,     -999.0,9,     -999.0,9,         27,-999.000,-999.000,-999.000,     -999.0,9, -999.00,9, -999.00,9
33RO200306_01,       A16N,     027,          1,         32,         32,2,20030625,       1212,    52.0018,   -19.9995,       3772,    30.3,  12.3723,  35.4192,2,  35.4335,2,    267.6,2,   267.5,2,    0.28,2,    4.19,2,    0.11,2,    0.30,2,   3.417,2,   1.985,2,   0.303,2,  2087.2,2,  2328.2,2,    446.8,2,    20.00,   7.9226,2,    25.00,-999.000,9,-999.000,9,-999.000,9, -999.00,9,  -999.0,9,  -999.0,-999.000,9,-999.000,   5.279,2, -999.00,9, -999.00,9,   30.30,-999.0000,9,-999.0000,9,-999.0000,9,-999.0000,9,-999.0000,9,-999.0000,9,  12.3683,      0.844,2,     -999.0,9,     -999.0,9,     -999.0,9,         27,-999.000,-999.000,-999.000,     -999.0,9, -999.00,9, -999.00,9
33RO200306_01,       A16N,     027,          1,         31,         31,2,20030625,       1212,    52.0018,   -19.9995,       3772,    50.0,  11.9400,  35.4697,2,  35.4761,2,    262.0,2,   259.1,2,    0.58,2,    5.39,2,    0.16,2,    0.42,2,-999.000,9,-999.000,9,-999.000,9,  2102.6,2,  2330.7,2,   -999.0,9,  -999.00,   7.9035,2,    25.00,-999.000,9,-999.000,9,-999.000,9, -999.00,9,  -999.0,9,  -999.0,-999.000,9,-999.000,   3.621,2,   53.17,2,   14.08,2,   50.00,-999.0000,9,-999.0000,9,-999.0000,9,-999.0000,9,-999.0000,9,-999.0000,9,  11.9335,      0.606,2,     -999.0,9,     -999.0,9,     -999.0,9,         27,-999.000,-999.000,-999.000,     -999.0,9, -999.00,9, -999.00,9
33RO200306_01,       A16N,     027,          1,         30,         30,2,20030625,       1212,    52.0018,   -19.9995,       3772,    70.9,  11.4755,  35.5111,2,  35.5159,2,    254.0,2,   251.0,2,    1.86,2,    8.32,2,    0.39,2,    0.57,2,   3.408,2,   1.975,2,   0.292,2,  2122.3,2,  2338.2,2,   -999.0,9,  -999.00,   7.8693,2,    25.00,-999.000,9,-999.000,9,-999.000,9, -999.00,9,  -999.0,9,  -999.0,-999.000,9,-999.000,   2.176,2, -999.00,9, -999.00,9,   70.90,-999.0000,9,-999.0000,9,-999.0000,9,-999.0000,9,-999.0000,9,-999.0000,9,  11.4665,      0.326,2,     -999.0,9,     -999.0,9,     -999.0,9,         27,-999.000,-999.000,-999.000,     -999.0,9, -999.00,9, -999.00,9
33RO200306_01,       A16N,     027,          1,         29,         29,2,20030625,       1212,    52.0018,   -19.9995,       3772,    90.1,  11.3258,  35.5156,2,  35.5130,2,    250.1,2,   250.5,2,    2.69,2,    9.61,2,    0.19,2,    0.60,2,   3.402,2,   1.964,2,   0.279,2,  2125.7,2,  2336.8,2,   -999.0,9,  -999.00,   7.8550,2,    25.00,-999.000,9,-999.000,9,-999.000,9, -999.00,9,  -999.0,9,  -999.0,-999.000,9,-999.000,   1.545,2,   51.71,2,   14.63,2,   90.10,-999.0000,9,-999.0000,9,-999.0000,9,-999.0000,9,-999.0000,9,-999.0000,9,  11.3145,      0.256,2,     -999.0,9,     -999.0,9,     -999.0,9,         27,-999.000,-999.000,-999.000,     -999.0,9, -999.00,9, -999.00,9
33RO200306_01,       A16N,     027,          1,         28,         28,2,20030625,       1212,    52.0018,   -19.9995,       3772,   110.8,  11.2034,  35.5046,2,  35.5046,2,    246.8,2,   250.2,2,    3.41,2,   10.12,2,    0.04,2,    0.62,2,   3.380,2,   1.954,2,   0.279,2,  2127.7,2,  2336.8,2,    554.3,2,    20.00,   7.8565,2,    25.00,-999.000,9,-999.000,9,-999.000,9, -999.00,9,  -999.0,9,  -999.0,-999.000,9,-999.000,   1.021,2, -999.00,9, -999.00,9,  110.80,-999.0000,9,-999.0000,9,-999.0000,9,-999.0000,9,-999.0000,9,-999.0000,9,  11.1895,      0.124,2,     -999.0,9,     -999.0,9,     -999.0,9,         27,-999.000,-999.000,-999.000,     -999.0,9, -999.00,9, -999.00,9
33RO200306_01,       A16N,     027,          1,         27,         27,2,20030625,       1212,    52.0018,   -19.9995,       3772,   135.0,  11.1337,  35.5003,2,  35.4981,2,    246.9,2,   249.1,2,    3.99,2,   10.42,2,    0.04,2,    0.64,2,   3.363,2,   1.944,2,   0.269,2,  2128.9,2,  2335.6,2,   -999.0,9,  -999.00,   7.8484,2,    25.00,-999.000,9,   1.738,2,  -1.468,2, -999.00,9,  -999.0,9,  -999.0,   7.274,2,   0.049,-999.000,9,   50.08,2,   14.35,2,  135.00,-999.0000,9,-999.0000,9,-999.0000,9,-999.0000,9,-999.0000,9,-999.0000,9,  11.1169,     -999.0,9,     -999.0,9,     -999.0,9,     -999.0,9,         27,   0.003,   0.216,-999.000,     -999.0,9, -999.00,9, -999.00,9
33RO200306_01,       A16N,     027,          1,         26,         26,2,20030625,       1212,    52.0018,   -19.9995,       3772,   160.0,  10.8757,  35.4477,2,  35.4474,2,    247.5,2,   248.5,2,    4.48,2,   10.82,2,    0.04,2,    0.67,2,   3.363,2,   1.940,2,   0.263,2,  2130.9,2,  2326.8,2,   -999.0,9,  -999.00,   7.8435,2,    25.00,-999.000,9,-999.000,9,-999.000,9, -999.00,9,  -999.0,9,  -999.0,-999.000,9,-999.000,-999.000,9, -999.00,9, -999.00,9,  160.00,-999.0000,9,-999.0000,9,-999.0000,9,-999.0000,9,-999.0000,9,-999.0000,9,  10.8560,     -999.0,9,     -999.0,9,     -999.0,9,     -999.0,9,         27,-999.000,-999.000,-999.000,     -999.0,9, -999.00,9, -999.00,9
33RO200306_01,       A16N,     027,          1,         25,         25,2,20030625,       1212,    52.0018,   -19.9995,       3772,   184.7,  10.9935,  35.4902,2,  35.4912,2,    248.5,2,   249.9,2,    3.87,2,   10.28,2,    0.11,2,    0.64,2,   3.379,2,   1.959,2,   0.278,2,  2129.8,2,  2329.5,2,   -999.0,9,  -999.00,   7.8383,2,    25.00,   1.295,2,   1.854,3,  -1.742,2, -999.00,9,  -999.0,9,  -999.0,   8.046,3,   0.055,-999.000,9,   49.51,2,   14.24,2,  184.70,-999.0000,9,-999.0000,9,-999.0000,9,-999.0000,9,-999.0000,9,-999.0000,9,  10.9706,     -999.0,9,     -999.0,9,     -999.0,9,     -999.0,9,         27,   0.003,   0.215,   0.020,     -999.0,9, -999.00,9, -999.00,9
33RO200306_01,       A16N,     027,          1,         24,         24,2,20030625,       1212,    52.0018,   -19.9995,       3772,   224.7,  10.5784,  35.4138,2,  35.4143,2,    248.0,2,   247.7,2,    4.31,2,   11.02,2,    0.10,2,    0.69,2,   3.387,2,   1.945,2,   0.263,2,  2132.2,2,  2326.8,2,    576.8,2,    20.00,   7.8338,2,    25.00,-999.000,9,-999.000,9,-999.000,9, -999.00,9,  -999.0,9,  -999.0,-999.000,9,-999.000,   0.491,2,   50.73,2,   14.34,2,  224.70,-999.0000,9,-999.0000,9,-999.0000,9,-999.0000,9,-999.0000,9,-999.0000,9,  10.5512,      0.102,2,     -999.0,9,     -999.0,9,     -999.0,9,         27,-999.000,-999.000,-999.000,     -999.0,9, -999.00,9, -999.00,9
33RO200306_01,       A16N,     027,          1,         23,         23,2,20030625,       1212,    52.0018,   -19.9995,       3772,   275.4,  10.4713,  35.4114,2,  35.4104,2,    248.3,2,   246.2,2,    5.02,2,   11.68,2,    0.02,2,    0.73,2,   3.349,2,   1.923,2,   0.246,2,  2134.9,2,  2325.3,2,   -999.0,9,  -999.00,   7.8272,2,    25.00,   1.352,2,   1.758,2,  -1.718,2, -999.00,9,  -999.0,9,  -999.0,   7.380,2,   0.051,-999.000,9,   49.02,2,   15.30,2,  275.40,-999.0000,9,-999.0000,9,-999.0000,9,-999.0000,9,-999.0000,9,-999.0000,9,  10.4381,     -999.0,9,     -999.0,9,     -999.0,9,     -999.0,9,         27,   0.003,   0.216,   0.020,     -999.0,9, -999.00,9, -999.00,9
33RO200306_01,       A16N,     027,          1,         22,         22,2,20030625,       1212,    52.0018,   -19.9995,       3772,   325.7,  10.2737,  35.3870,2,  35.3882,2,    243.1,2,   245.3,2,    5.26,2,   12.07,2,    0.02,2,    0.75,2,   3.346,2,   1.917,2,   0.247,2,  2135.9,2,  2328.8,2,   -999.0,9,  -999.00,   7.8200,2,    25.00,-999.000,9,-999.000,9,-999.000,9, -999.00,9,  -999.0,9,  -999.0,-999.000,9,-999.000,-999.000,9,   48.13,2,   15.94,2,  325.70,-999.0000,9,-999.0000,9,-999.0000,9,-999.0000,9,-999.0000,9,-999.0000,9,  10.2348,     -999.0,9,     -999.0,9,     -999.0,9,     -999.0,9,         27,-999.000,-999.000,-999.000,     -999.0,9, -999.00,9, -999.00,9
33RO200306_01,       A16N,     027,          1,         21,         21,2,20030625,       1212,    52.0018,   -19.9995,       3772,   375.2,   9.7665,  35.2941,2,  35.2943,2,    239.7,2,   233.3,2,    6.48,2,   13.80,2,    0.02,2,    0.86,2,   3.159,2,   1.798,2,   0.220,2,  2144.2,2,  2325.1,2,   -999.0,9,  -999.00,   7.7981,2,    25.00,-999.000,9,-999.000,9,-999.000,9, -999.00,9,  -999.0,9,  -999.0,-999.000,9,-999.000,-999.000,9,   48.95,2,   17.40,2,  375.20,-999.0000,9,-999.0000,9,-999.0000,9,-999.0000,9,-999.0000,9,-999.0000,9,   9.7230,     -999.0,9,     -999.0,9,     -999.0,9,     -999.0,9,         27,-999.000,-999.000,-999.000,     -999.0,9, -999.00,9, -999.00,9
33RO200306_01,       A16N,     027,          1,         20,         20,2,20030625,       1212,    52.0018,   -19.9995,       3772,   424.8,   9.4275,  35.2604,2,  35.2611,2,    218.9,2,   228.6,2,    7.16,2,   14.68,2,    0.02,2,    0.91,2,   3.093,2,   1.738,2,   0.209,2,  2147.9,2,  2323.9,2,    666.5,2,    20.00,   7.7815,2,    25.00,-999.000,9,-999.000,9,-999.000,9, -999.00,9,  -999.0,9,  -999.0,-999.000,9,-999.000,-999.000,9,   49.43,2,   18.06,2,  424.80,-999.0000,9,-999.0000,9,-999.0000,9,-999.0000,9,-999.0000,9,-999.0000,9,   9.3792,     -999.0,9,     -999.0,9,     -999.0,9,     -999.0,9,         27,-999.000,-999.000,-999.000,     -999.0,9, -999.00,9, -999.00,9
33RO200306_01,       A16N,     027,          1,         19,         19,2,20030625,       1212,    52.0018,   -19.9995,       3772,   475.3,   8.9927,  35.2057,2,  35.2066,2,    215.7,2,   260.9,3,    8.38,2,   16.20,2,    0.02,2,    1.01,2,   2.874,2,   1.595,2,   0.177,2,  2154.9,2,  2322.4,2,   -999.0,9,  -999.00,   7.7639,2,    25.00,   1.030,2,-999.000,9,-999.000,9, -999.00,9,  -999.0,9,  -999.0,-999.000,9,-999.000,   0.759,2,   48.21,2,   20.08,2,  475.30,-999.0000,9,-999.0000,9,-999.0000,9,-999.0000,9,-999.0000,9,-999.0000,9,   8.9401,      0.149,2,     -999.0,9,     -999.0,9,     -999.0,9,         27,-999.000,-999.000,   0.030,     -999.0,9, -999.00,9, -999.00,9
33RO200306_01,       A16N,     027,          1,         18,         18,2,20030625,       1212,    52.0018,   -19.9995,       3772,   549.5,   8.5875,  35.2292,2,  35.2326,2,    203.4,2,   199.2,2,    9.86,2,   17.84,2,    0.02,2,    1.11,2,   2.477,2,   1.339,2,   0.129,2,  2166.7,2,  2319.2,2,   -999.0,9,  -999.00,   7.7362,2,    25.00,-999.000,9,-999.000,9,-999.000,9, -999.00,9,  -999.0,9,  -999.0,-999.000,9,-999.000,-999.000,9, -999.00,9, -999.00,9,  549.50,-999.0000,9,-999.0000,9,-999.0000,9,-999.0000,9,-999.0000,9,-999.0000,9,   8.5280,     -999.0,9,     -999.0,9,     -999.0,9,     -999.0,9,         27,-999.000,-999.000,-999.000,     -999.0,9, -999.00,9, -999.00,9
33RO200306_01,       A16N,     027,          1,         17,         17,2,20030625,       1212,    52.0018,   -19.9995,       3772,   650.1,   7.7760,  35.1970,2,  35.1974,2,    196.6,2,   195.9,2,   11.12,2,   18.97,2,    0.01,2,    1.18,2,   2.237,2,   1.183,2,   0.107,2,  2174.7,2,  2318.2,2,   -999.0,9,  -999.00,   7.7136,2,    25.00,   0.938,2,   1.767,2,   5.639,2, -999.00,9,  -999.0,9,  -999.0,   7.478,2,   0.051,-999.000,9,   46.75,2,   22.37,2,  650.10,-999.0000,9,-999.0000,9,-999.0000,9,-999.0000,9,-999.0000,9,-999.0000,9,   7.7092,     -999.0,9,     -999.0,9,     -999.0,9,     -999.0,9,         27,   0.003,   0.214,   0.010,     -999.0,9, -999.00,9, -999.00,9
33RO200306_01,       A16N,     027,          1,         16,         16,2,20030625,       1212,    52.0018,   -19.9995,       3772,   749.2,   7.2347,  35.2304,2,  35.2287,2,    203.0,2,   203.2,2,   11.36,2,   18.79,2,    0.01,2,    1.17,2,   2.198,2,   1.140,2,   0.103,2,  2177.0,2,  2321.4,2,    774.9,2,    20.00,   7.7202,2,    25.00,-999.000,9,-999.000,9,-999.000,9, -999.00,9,  -999.0,9,  -999.0,-999.000,9,-999.000,-999.000,9,   45.37,2,   22.83,2,  749.20,-999.0000,9,-999.0000,9,-999.0000,9,-999.0000,9,-999.0000,9,-999.0000,9,   7.1602,     -999.0,9,     -999.0,9,     -999.0,9,     -999.0,9,         27,-999.000,-999.000,-999.000,     -999.0,9, -999.00,9, -999.00,9
33RO200306_01,       A16N,     027,          1,         15,         15,2,20030625,       1212,    52.0018,   -19.9995,       3772,   850.8,   5.8739,  35.0797,2,  35.0805,2,    219.7,2,   223.2,2,   11.48,2,   18.66,2,    0.01,2,    1.18,2,   2.632,2,   1.372,2,   0.157,2,  2172.9,2,  2310.8,2,   -999.0,9,  -999.00,   7.7030,2,    25.00,   1.193,2,-999.000,9,-999.000,9, -999.00,9,  -999.0,9,  -999.0,-999.000,9,-999.000,-999.000,9,   46.26,2,   22.61,2,  850.80,-999.0000,9,-999.0000,9,-999.0000,9,-999.0000,9,-999.0000,9,-999.0000,9,   5.7975,     -999.0,9,     -999.0,9,     -999.0,9,     -999.0,9,         27,-999.000,-999.000,   0.020,     -999.0,9, -999.00,9, -999.00,9
33RO200306_01,       A16N,     027,          1,         14,         14,2,20030625,       1212,    52.0018,   -19.9995,       3772,   955.0,   5.2596,  35.0393,2,  35.0395,2,    232.1,2,   224.4,2,   11.42,2,   18.37,2,    0.01,2,    1.16,2,   2.776,2,   1.432,2,   0.170,2,  2167.6,2,  2314.8,2,   -999.0,9,  -999.00,   7.7115,2,    25.00,-999.000,9,-999.000,9,-999.000,9, -999.00,9,  -999.0,9,  -999.0,-999.000,9,-999.000,-999.000,9,   45.93,2,   22.33,2,  955.00,-999.0000,9,-999.0000,9,-999.0000,9,-999.0000,9,-999.0000,9,-999.0000,9,   5.1776,     -999.0,9,     -999.0,9,     -999.0,9,     -999.0,9,         27,-999.000,-999.000,-999.000,     -999.0,9, -999.00,9, -999.00,9
33RO200306_01,       A16N,     027,          1,         13,         13,2,20030625,       1212,    52.0018,   -19.9995,       3772,  1050.2,   4.6954,  34.9830,2,  34.9866,2,    242.4,2,   245.7,2,   11.31,2,   18.11,2,    0.01,2,    1.14,2,   2.985,2,   1.535,2,   0.189,2,  2166.7,6,  2311.1,2,    794.9,2,    20.00,   7.7100,2,    25.00,   0.976,2,   1.889,2,   5.207,2, -999.00,9,  -999.0,9,  -999.0,   8.020,2,   0.062,-999.000,9,   44.88,2,   22.14,2, 1050.20,-999.0000,9,-999.0000,9,-999.0000,9,-999.0000,9,-999.0000,9,-999.0000,9,   4.6091,     -999.0,9,     -999.0,9,     -999.0,9,     -999.0,9,         27,   0.003,   0.148,   0.010,     -999.0,9, -999.00,9, -999.00,9
33RO200306_01,       A16N,     027,          1,         12,         12,2,20030625,       1212,    52.0018,   -19.9995,       3772,  1149.3,   4.4903,  34.9810,2,  34.9820,2,    248.3,2,   249.9,2,   11.48,2,   17.96,2,    0.01,2,    1.14,2,   2.864,2,   1.454,2,   0.178,2,  2164.0,2,  2313.8,2,   -999.0,9,  -999.00,   7.7158,2,    25.00,-999.000,9,-999.000,9,-999.000,9, -999.00,9,  -999.0,9,  -999.0,-999.000,9,-999.000,-999.000,9, -999.00,9, -999.00,9, 1149.30,-999.0000,9,-999.0000,9,-999.0000,9,-999.0000,9,-999.0000,9,-999.0000,9,   4.3969,     -999.0,9,     -999.0,9,     -999.0,9,     -999.0,9,         27,-999.000,-999.000,-999.000,     -999.0,9, -999.00,9, -999.00,9
33RO200306_01,       A16N,     027,          1,         11,         11,2,20030625,       1212,    52.0018,   -19.9995,       3772,  1250.8,   4.1108,  34.9411,2,  34.9423,2,    254.9,2,   258.1,2,   11.35,2,   17.70,2,    0.01,2,    1.12,2,   3.046,2,   1.542,2,   0.193,2,  2160.8,2,  2305.0,2,   -999.0,9,  -999.00,   7.7128,2,    25.00,   1.156,2,-999.000,9,-999.000,9, -999.00,9,  -999.0,9,  -999.0,-999.000,9,-999.000,-999.000,9,   45.20,2,   21.88,2, 1250.80,-999.0000,9,-999.0000,9,-999.0000,9,-999.0000,9,-999.0000,9,-999.0000,9,   4.0119,     -999.0,9,     -999.0,9,     -999.0,9,     -999.0,9,         27,-999.000,-999.000,   0.020,     -999.0,9, -999.00,9, -999.00,9
33RO200306_01,       A16N,     027,          1,         10,         10,2,20030625,       1212,    52.0018,   -19.9995,       3772,  1352.1,   3.9321,  34.9317,2,  34.9306,2,    259.5,2,   258.6,2,   11.54,2,   17.60,2,    0.01,2,    1.12,2,   2.923,2,   1.469,2,   0.185,2,  2162.1,2,  2304.9,2,   -999.0,9,  -999.00,   7.7134,2,    25.00,-999.000,9,-999.000,9,-999.000,9, -999.00,9,  -999.0,9,  -999.0,-999.000,9,-999.000,-999.000,9,   44.88,2,   21.21,2, 1352.10,-999.0000,9,-999.0000,9,-999.0000,9,-999.0000,9,-999.0000,9,-999.0000,9,   3.8260,     -999.0,9,     -999.0,9,     -999.0,9,     -999.0,9,         27,-999.000,-999.000,-999.000,     -999.0,9, -999.00,9, -999.00,9
33RO200306_01,       A16N,     027,          1,          9,          9,2,20030625,       1212,    52.0018,   -19.9995,       3772,  1601.0,   3.5967,  34.9091,2,  34.9101,2,    268.3,2,   263.0,2,   11.71,2,   17.40,2,    0.01,2,    1.11,2,   2.846,2,   1.405,2,   0.168,2,  2158.2,2,  2305.8,2,    771.2,2,    20.00,   7.7156,2,    25.00,   1.070,2,-999.000,9,-999.000,9, -999.00,9,  -999.0,9,  -999.0,-999.000,9,-999.000,-999.000,9,   44.63,2,   22.05,2, 1601.00,-999.0000,9,-999.0000,9,-999.0000,9,-999.0000,9,-999.0000,9,-999.0000,9,   3.4722,     -999.0,9,     -999.0,9,     -999.0,9,     -999.0,9,         27,-999.000,-999.000,   0.120,     -999.0,9, -999.00,9, -999.00,9
33RO200306_01,       A16N,     027,          1,          8,          8,2,20030625,       1212,    52.0018,   -19.9995,       3772,  1801.2,   3.3780,  34.8957,2,  34.8963,2,    272.7,2,   274.8,2,   11.76,2,   17.21,2,    0.01,2,    1.10,2,   2.924,2,   1.451,2,   0.188,2,  2156.6,2,  2305.3,2,   -999.0,9,  -999.00,   7.7238,2,    25.00,-999.000,9,-999.000,9,-999.000,9, -999.00,9,  -999.0,9,  -999.0,-999.000,9,-999.000,-999.000,9,   44.07,2,   20.95,2, 1801.20,-999.0000,9,-999.0000,9,-999.0000,9,-999.0000,9,-999.0000,9,-999.0000,9,   3.2383,     -999.0,9,     -999.0,9,     -999.0,9,     -999.0,9,         27,-999.000,-999.000,-999.000,     -999.0,9, -999.00,9, -999.00,9