BOTTLE,20230908CCHSIOCBG
EXPOCODE,SECT_ID,STNNBR,CASTNO,SAMPNO,BTLNBR,BTLNBR_FLAG_W,DATE,TIME,LATITUDE,LONGITUDE,DEPTH,CTDPRS,CTDTMP,CTDSAL,CTDSAL_FLAG_W,SALNTY,SALNTY_FLAG_W,CTDOXY,CTDOXY_FLAG_W,OXYGEN,OXYGEN_FLAG_W,SILCAT,SILCAT_FLAG_W,NITRAT,NITRAT_FLAG_W,NITRIT,NITRIT_FLAG_W,PHSPHT,PHSPHT_FLAG_W,CFC-11,CFC-11_FLAG_W,CFC-12,CFC-12_FLAG_W,CFC113,CFC113_FLAG_W,TCARBN,TCARBN_FLAG_W,ALKALI,ALKALI_FLAG_W,FCO2,FCO2_FLAG_W,FCO2TMP,PH_SWS,PH_SWS_FLAG_W,PH_TMP,TRITUM,TRITUM_FLAG_W,HELIUM,HELIUM_FLAG_W,DELHE3,DELHE3_FLAG_W,DELC13,DELC13_FLAG_W,DELC14,DELC14_FLAG_W,C14ERR,NEON,NEON_FLAG_W,NEONER,POC,POC_FLAG_W,DOC,DOC_FLAG_W,TDN,TDN_FLAG_W,CTDRAW,CDOM325,CDOM325_FLAG_W,CDOM340,CDOM340_FLAG_W,CDOM380,CDOM380_FLAG_W,CDOM412,CDOM412_FLAG_W,CDOMSL,CDOMSL_FLAG_W,CDOMSN,CDOMSN_FLAG_W,THETA,PON,PON_FLAG_W,HCFC-22,HCFC-22_FLAG_W,HCFC-142b,HCFC-142b_FLAG_W,HCFC-141b,HCFC-141b_FLAG_W,STNNBR_U,HELIER,DELHER,TRITER,CH3CL,CH3CL_FLAG_W,CH3BR,CH3BR_FLAG_W,CH3I,CH3I_FLAG_W
,,,,,,,,,,,METERS,DBAR,ITS-90,PSS-78,,PSS-78,,UMOL/KG,,UMOL/KG,,UMOL/KG,,UMOL/KG,,UMOL/KG,,UMOL/KG,,PMOL/KG,,PMOL/KG,,PMOL/KG,,UMOL/KG,,UMOL/KG,,UATM,,DEG C,,,DEG C,TU,,NMOL/KG,,PERCNT,,/MILLE,,/MILLE,,/MILLE,NMOL/KG,,NMOL/KG,UG/KG,,UMOL/KG,,UMOL/KG,,DBAR,1/M,,1/M,,1/M,,1/M,,1/NM,,1/NM,,DEG C,UMOL/L,,PMOL/KG,,PMOL/KG,,PMOL/KG,,,NMOL/KG,PERCNT,TU,PMOL/KG,,PMOL/KG,,PMOL/KG,
33RO200306_01,       A16N,     031,          1,         35,         35,2,20030626,       1248,    49.9995,   -20.0012,       4402,     3.1,  14.3814,  35.6897,2,  35.6908,2,    256.5,2,   256.9,2,    0.39,2,    1.62,2,    0.08,2,    0.16,2,   3.101,2,   1.825,2,   0.280,2,  2081.7,2,  2348.3,2,   -999.0,9,  -999.00,   7.9652,2,    25.00,-999.000,9,-999.000,9,-999.000,9,    1.41,2,    74.7,2,     3.6,-999.000,9,-999.000,  11.675,2,   58.86,2,    7.05,2,    3.10,-999.0000,9,-999.0000,9,-999.0000,9,-999.0000,9,-999.0000,9,-999.0000,9,  14.3809,      1.855,2,     -999.0,9,     -999.0,9,     -999.0,9,         31,-999.000,-999.000,-999.000,     -999.0,9, -999.00,9, -999.00,9
33RO200306_01,       A16N,     031,          1,         33,         33,2,20030626,       1248,    49.9995,   -20.0012,       4402,     9.8,  14.3558,  35.6895,2,  35.6904,2,    256.7,2,   257.6,2,    0.38,2,    1.62,2,    0.08,2,    0.16,2,   3.094,2,   1.819,2,   0.276,2,  2077.9,2,  2349.3,2,   -999.0,9,  -999.00,   7.9566,2,    25.00,   1.132,2,   1.730,2,  -3.150,4, -999.00,9,  -999.0,9,  -999.0,   7.119,2,   0.025,   8.792,2,   58.46,2,    7.14,2,    9.80,-999.0000,9,-999.0000,9,-999.0000,9,-999.0000,9,-999.0000,9,-999.0000,9,  14.3544,      1.208,2,     -999.0,9,     -999.0,9,     -999.0,9,         31,   0.002,   0.181,   0.030,     -999.0,9, -999.00,9, -999.00,9
33RO200306_01,       A16N,     031,          1,         32,         32,2,20030626,       1248,    49.9995,   -20.0012,       4402,    29.9,  14.2792,  35.6900,2,  35.6907,2,    256.8,2,   257.3,2,    0.37,2,    1.72,2,    0.08,2,    0.17,2,-999.000,9,-999.000,9,-999.000,9,  2078.8,2,  2343.0,2,   -999.0,9,  -999.00,   7.9607,2,    25.00,-999.000,9,-999.000,9,-999.000,9, -999.00,9,  -999.0,9,  -999.0,-999.000,9,-999.000,   8.453,2, -999.00,9, -999.00,9,   29.90,-999.0000,9,-999.0000,9,-999.0000,9,-999.0000,9,-999.0000,9,-999.0000,9,  14.2748,      1.587,2,     -999.0,9,     -999.0,9,     -999.0,9,         31,-999.000,-999.000,-999.000,     -999.0,9, -999.00,9, -999.00,9
33RO200306_01,       A16N,     031,          1,         31,         31,2,20030626,       1248,    49.9995,   -20.0012,       4402,    50.0,  14.2186,  35.6918,2,  35.6927,2,    256.1,2,   255.6,2,    0.37,2,    1.99,2,    0.08,2,    0.18,2,   3.117,2,   1.832,2,   0.276,2,  2081.7,2,  2344.1,2,   -999.0,9,  -999.00,   7.9589,2,    25.00,-999.000,9,-999.000,9,-999.000,9, -999.00,9,  -999.0,9,  -999.0,-999.000,9,-999.000,   7.882,2,   56.34,2,    7.07,2,   50.00,-999.0000,9,-999.0000,9,-999.0000,9,-999.0000,9,-999.0000,9,-999.0000,9,  14.2113,      1.131,2,     -999.0,9,     -999.0,9,     -999.0,9,         31,-999.000,-999.000,-999.000,     -999.0,9, -999.00,9, -999.00,9
33RO200306_01,       A16N,     031,          1,         30,         30,2,20030626,       1248,    49.9995,   -20.0012,       4402,    70.7,  13.5108,  35.6866,2,  35.6876,2,    251.9,2,   252.3,2,    0.65,2,    3.15,2,    0.15,2,    0.30,2,-999.000,9,-999.000,9,-999.000,9,  2095.9,2,  2350.5,2,   -999.0,9,  -999.00,   7.9349,2,    25.00,-999.000,9,-999.000,9,-999.000,9, -999.00,9,  -999.0,9,  -999.0,-999.000,9,-999.000,   2.534,2, -999.00,9, -999.00,9,   70.70,-999.0000,9,-999.0000,9,-999.0000,9,-999.0000,9,-999.0000,9,-999.0000,9,  13.5008,      0.196,2,     -999.0,9,     -999.0,9,     -999.0,9,         31,-999.000,-999.000,-999.000,     -999.0,9, -999.00,9, -999.00,9
33RO200306_01,       A16N,     031,          1,         29,         29,2,20030626,       1248,    49.9995,   -20.0012,       4402,    90.6,  12.7024,  35.6980,2,  35.7014,2,    243.2,2,   245.2,2,    1.97,2,    6.75,2,    0.40,2,    0.46,2,   3.246,2,   1.911,2,   0.277,2,  2112.5,2,  2345.2,2,    495.8,2,    20.00,   7.8902,2,    25.00,   1.070,2,   1.771,2,  -2.681,2, -999.00,9,  -999.0,9,  -999.0,   7.392,2,   0.041,   3.760,2,   53.74,2,   12.30,2,   90.60,-999.0000,9,-999.0000,9,-999.0000,9,-999.0000,9,-999.0000,9,-999.0000,9,  12.6901,      0.243,2,     -999.0,9,     -999.0,9,     -999.0,9,         31,   0.004,   0.191,   0.010,     -999.0,9, -999.00,9, -999.00,9
33RO200306_01,       A16N,     031,          1,         28,         28,2,20030626,       1248,    49.9995,   -20.0012,       4402,   110.7,  12.6153,  35.7298,2,  35.7288,2,    241.1,2,   232.2,2,    3.02,2,    8.54,2,    0.04,2,    0.51,2,   3.188,2,   1.863,2,   0.255,2,  2118.7,2,  2345.1,2,   -999.0,9,  -999.00,   7.8847,2,    25.00,-999.000,9,-999.000,9,-999.000,9, -999.00,9,  -999.0,9,  -999.0,-999.000,9,-999.000,   2.753,2, -999.00,9, -999.00,9,  110.70,-999.0000,9,-999.0000,9,-999.0000,9,-999.0000,9,-999.0000,9,-999.0000,9,  12.6003,      0.292,2,     -999.0,9,     -999.0,9,     -999.0,9,         31,-999.000,-999.000,-999.000,     -999.0,9, -999.00,9, -999.00,9
33RO200306_01,       A16N,     031,          1,         27,         27,2,20030626,       1248,    49.9995,   -20.0012,       4402,   134.8,  12.5232,  35.7270,2,  35.7238,2,    242.3,2,   242.5,2,    3.29,2,    8.64,2,    0.03,2,    0.52,2,   3.181,2,   1.865,2,   0.251,2,  2120.9,2,  2346.0,2,   -999.0,9,  -999.00,   7.8774,2,    25.00,-999.000,9,   1.795,2,  -2.346,2, -999.00,9,  -999.0,9,  -999.0,   7.443,2,   0.041,-999.000,9,   51.87,2,   13.36,2,  134.80,-999.0000,9,-999.0000,9,-999.0000,9,-999.0000,9,-999.0000,9,-999.0000,9,  12.5050,     -999.0,9,     -999.0,9,     -999.0,9,     -999.0,9,         31,   0.004,    0.19,-999.000,     -999.0,9, -999.00,9, -999.00,9
33RO200306_01,       A16N,     031,          1,         26,         26,2,20030626,       1248,    49.9995,   -20.0012,       4402,   159.5,  12.3844,  35.7019,2,  35.6997,2,    241.7,2,   241.9,2,    3.39,2,    8.81,2,    0.03,2,    0.53,2,-999.000,9,-999.000,9,-999.000,9,  2120.3,2,  2338.8,2,   -999.0,9,  -999.00,   7.8805,2,    25.00,-999.000,9,-999.000,9,-999.000,9, -999.00,9,  -999.0,9,  -999.0,-999.000,9,-999.000,   3.284,2, -999.00,9, -999.00,9,  159.50,-999.0000,9,-999.0000,9,-999.0000,9,-999.0000,9,-999.0000,9,-999.0000,9,  12.3630,      0.530,2,     -999.0,9,     -999.0,9,     -999.0,9,         31,-999.000,-999.000,-999.000,     -999.0,9, -999.00,9, -999.00,9
33RO200306_01,       A16N,     031,          1,         25,         25,2,20030626,       1248,    49.9995,   -20.0012,       4402,   187.5,  12.1532,  35.6601,2,  35.6596,2,    240.4,2,   241.2,2,    3.57,2,    9.29,2,    0.02,2,    0.56,2,   3.170,2,   1.840,2,   0.230,2,  2123.3,2,  2336.5,2,    535.9,2,    20.00,   7.8798,2,    25.00,   1.292,2,-999.000,9,-999.000,9, -999.00,9,  -999.0,9,  -999.0,-999.000,9,-999.000,-999.000,9,   52.93,2,   13.34,2,  187.50,-999.0000,9,-999.0000,9,-999.0000,9,-999.0000,9,-999.0000,9,-999.0000,9,  12.1284,     -999.0,9,     -999.0,9,     -999.0,9,     -999.0,9,         31,-999.000,-999.000,   0.030,     -999.0,9, -999.00,9, -999.00,9
33RO200306_01,       A16N,     031,          1,         24,         24,2,20030626,       1248,    49.9995,   -20.0012,       4402,   224.7,  11.9060,  35.6182,2,  35.6175,2,    239.4,2,   239.0,2,    3.85,2,    9.87,2,    0.02,2,    0.60,2,   3.173,4,   1.843,2,-999.000,5,  2125.9,2,  2334.1,2,   -999.0,9,  -999.00,   7.8551,2,    25.00,-999.000,9,-999.000,9,-999.000,9, -999.00,9,  -999.0,9,  -999.0,-999.000,9,-999.000,-999.000,9,   52.76,2,   13.08,2,  224.70,-999.0000,9,-999.0000,9,-999.0000,9,-999.0000,9,-999.0000,9,-999.0000,9,  11.8766,     -999.0,9,     -999.0,9,     -999.0,9,     -999.0,9,         31,-999.000,-999.000,-999.000,     -999.0,9, -999.00,9, -999.00,9
33RO200306_01,       A16N,     031,          1,         23,         23,2,20030626,       1248,    49.9995,   -20.0012,       4402,   274.0,  11.7117,  35.5886,2,  35.5876,2,    239.9,2,   241.0,2,    3.84,2,   10.03,2,    0.01,2,    0.61,2,   3.213,2,   1.854,2,   0.229,2,  2127.7,2,  2331.5,2,   -999.0,9,  -999.00,   7.8562,2,    25.00,-999.000,9,-999.000,9,-999.000,9, -999.00,9,  -999.0,9,  -999.0,-999.000,9,-999.000,-999.000,9,   51.11,2,   13.38,2,  274.00,-999.0000,9,-999.0000,9,-999.0000,9,-999.0000,9,-999.0000,9,-999.0000,9,  11.6762,     -999.0,9,     -999.0,9,     -999.0,9,     -999.0,9,         31,-999.000,-999.000,-999.000,     -999.0,9, -999.00,9, -999.00,9
33RO200306_01,       A16N,     031,          1,         22,         22,2,20030626,       1248,    49.9995,   -20.0012,       4402,   325.2,  11.5464,  35.5673,2,  35.5663,2,    240.7,2,   241.4,2,    3.97,2,   10.27,2,    0.01,2,    0.63,2,-999.000,9,-999.000,9,-999.000,9,  2127.8,2,  2337.8,2,   -999.0,9,  -999.00,   7.8538,2,    25.00,-999.000,9,-999.000,9,-999.000,9, -999.00,9,  -999.0,9,  -999.0,-999.000,9,-999.000,-999.000,9,   49.35,2,   13.94,2,  325.20,-999.0000,9,-999.0000,9,-999.0000,9,-999.0000,9,-999.0000,9,-999.0000,9,  11.5045,     -999.0,9,     -999.0,9,     -999.0,9,     -999.0,9,         31,-999.000,-999.000,-999.000,     -999.0,9, -999.00,9, -999.00,9
33RO200306_01,       A16N,     031,          1,         21,         21,2,20030626,       1248,    49.9995,   -20.0012,       4402,   375.2,  11.3733,  35.5437,2,  35.5432,2,    240.8,2,   241.1,2,    4.09,2,   10.59,2,    0.01,2,    0.64,2,   3.271,2,   1.879,2,   0.231,2,  2130.4,2,  2336.9,2,   -999.0,9,  -999.00,   7.8451,2,    25.00,-999.000,9,   1.790,2,  -1.443,2, -999.00,9,  -999.0,9,  -999.0,   7.463,2,   0.064,-999.000,9,   49.02,2,   14.33,2,  375.20,-999.0000,9,-999.0000,9,-999.0000,9,-999.0000,9,-999.0000,9,-999.0000,9,  11.3254,     -999.0,9,     -999.0,9,     -999.0,9,     -999.0,9,         31,   0.004,   0.222,-999.000,     -999.0,9, -999.00,9, -999.00,9
33RO200306_01,       A16N,     031,          1,         20,         20,2,20030626,       1248,    49.9995,   -20.0012,       4402,   424.9,  11.1827,  35.5140,2,  35.5131,2,    237.2,2,   237.4,2,    4.52,2,   11.27,2,    0.01,2,    0.68,2,-999.000,9,-999.000,9,-999.000,9,  2133.3,2,  2334.0,2,    574.9,2,    20.00,   7.8357,2,    25.00,-999.000,9,-999.000,9,-999.000,9, -999.00,9,  -999.0,9,  -999.0,-999.000,9,-999.000,-999.000,9,   49.35,2,   14.61,2,  424.90,-999.0000,9,-999.0000,9,-999.0000,9,-999.0000,9,-999.0000,9,-999.0000,9,  11.1289,     -999.0,9,     -999.0,9,     -999.0,9,     -999.0,9,         31,-999.000,-999.000,-999.000,     -999.0,9, -999.00,9, -999.00,9
33RO200306_01,       A16N,     031,          1,         19,         19,2,20030626,       1248,    49.9995,   -20.0012,       4402,   475.1,  11.1721,  35.5343,2,  35.5339,2,    243.5,2,   241.0,2,    4.28,2,   10.87,2,    0.01,2,    0.66,2,   3.269,2,   1.864,2,   0.218,2,  2132.4,2,  2335.1,2,   -999.0,9,  -999.00,   7.8356,2,    25.00,   1.054,2,-999.000,9,-999.000,9, -999.00,9,  -999.0,9,  -999.0,-999.000,9,-999.000,   2.485,2,   47.80,2,   14.44,2,  475.10,-999.0000,9,-999.0000,9,-999.0000,9,-999.0000,9,-999.0000,9,-999.0000,9,  11.1118,      0.104,2,     -999.0,9,     -999.0,9,     -999.0,9,         31,-999.000,-999.000,   0.030,     -999.0,9, -999.00,9, -999.00,9
33RO200306_01,       A16N,     031,          1,         18,         18,2,20030626,       1248,    49.9995,   -20.0012,       4402,   549.5,  10.8699,  35.4894,2,  35.4898,2,    225.9,2,   234.7,2,    4.97,2,   11.89,2,    0.01,2,    0.72,2,-999.000,9,-999.000,9,-999.000,9,  2137.2,2,  2329.3,2,    604.0,2,    20.00,   7.8216,2,    25.00,-999.000,9,-999.000,9,-999.000,9, -999.00,9,  -999.0,9,  -999.0,-999.000,9,-999.000,-999.000,9,   46.75,2,   15.75,2,  549.50,-999.0000,9,-999.0000,9,-999.0000,9,-999.0000,9,-999.0000,9,-999.0000,9,  10.8012,     -999.0,9,     -999.0,9,     -999.0,9,     -999.0,9,         31,-999.000,-999.000,-999.000,     -999.0,9, -999.00,9, -999.00,9
33RO200306_01,       A16N,     031,          1,         17,         17,2,20030626,       1248,    49.9995,   -20.0012,       4402,   651.3,   9.8686,  35.3694,2,  35.3717,2,    199.9,2,   201.3,2,    8.24,2,   16.48,2,    0.00,2,    1.01,2,   2.540,2,   1.382,2,   0.107,2,  2162.1,2,  2325.6,2,   -999.0,9,  -999.00,   7.7581,2,    25.00,   0.911,2,   1.756,2,   3.995,2, -999.00,9,  -999.0,9,  -999.0,   7.319,2,   0.054,-999.000,9,   45.69,2,   20.59,2,  651.30,-999.0000,9,-999.0000,9,-999.0000,9,-999.0000,9,-999.0000,9,-999.0000,9,   9.7915,     -999.0,9,     -999.0,9,     -999.0,9,     -999.0,9,         31,   0.004,   0.193,   0.010,     -999.0,9, -999.00,9, -999.00,9
33RO200306_01,       A16N,     031,          1,         16,         16,2,20030626,       1248,    49.9995,   -20.0012,       4402,   749.6,   9.6198,  35.4527,2,  35.4526,2,    189.6,2,   196.0,2,    9.36,2,   17.64,2,    0.00,2,    1.07,2,   2.094,2,   1.106,2,   0.068,2,  2175.1,2,  2331.9,2,    720.5,2,    20.00,   7.7476,2,    25.00,-999.000,9,   1.749,2,   6.430,2, -999.00,9,  -999.0,9,  -999.0,   7.299,2,   0.054,-999.000,9,   46.34,2,   21.19,2,  749.60,-999.0000,9,-999.0000,9,-999.0000,9,-999.0000,9,-999.0000,9,-999.0000,9,   9.5319,     -999.0,9,     -999.0,9,     -999.0,9,     -999.0,9,         31,   0.004,   0.192,-999.000,     -999.0,9, -999.00,9, -999.00,9
33RO200306_01,       A16N,     031,          1,         15,         15,2,20030626,       1248,    49.9995,   -20.0012,       4402,   849.2,   8.8642,  35.4312,2,  35.4312,2,    191.1,2,   186.5,2,   10.32,2,   18.21,2,    0.00,2,    1.12,2,   1.936,2,   1.009,2,   0.064,2,  2180.2,2,  2332.5,2,   -999.0,9,  -999.00,   7.7336,2,    25.00,-999.000,9,   1.772,2,   6.909,2, -999.00,9,  -999.0,9,  -999.0,   7.502,2,   0.042,-999.000,9,   45.20,2,   22.10,2,  849.20,-999.0000,9,-999.0000,9,-999.0000,9,-999.0000,9,-999.0000,9,-999.0000,9,   8.7688,     -999.0,9,     -999.0,9,     -999.0,9,     -999.0,9,         31,   0.004,    0.19,-999.000,     -999.0,9, -999.00,9, -999.00,9
33RO200306_01,       A16N,     031,          1,         14,         14,2,20030626,       1248,    49.9995,   -20.0012,       4402,   950.9,   8.2015,  35.4272,2,  35.4272,2,    195.3,2,   192.7,2,   10.75,2,   18.30,2,    0.00,2,    1.12,2,   1.892,2,   0.984,2,   0.068,2,  2182.1,2,  2340.7,2,    750.6,2,    20.00,   7.7267,2,    25.00,-999.000,9,   1.764,2,   7.520,2, -999.00,9,  -999.0,9,  -999.0,   7.489,2,   0.055,-999.000,9,   46.26,2,   21.68,2,  950.90,-999.0000,9,-999.0000,9,-999.0000,9,-999.0000,9,-999.0000,9,-999.0000,9,   8.0986,     -999.0,9,     -999.0,9,     -999.0,9,     -999.0,9,         31,   0.004,   0.191,-999.000,     -999.0,9, -999.00,9, -999.00,9
33RO200306_01,       A16N,     031,          1,         13,         13,2,20030626,       1248,    49.9995,   -20.0012,       4402,  1050.3,   7.5802,  35.4051,2,  35.4032,2,    205.0,2,   202.2,2,   11.15,2,   18.26,2,    0.00,2,    1.12,2,   1.882,2,   0.965,2,   0.072,2,  2180.3,6,  2339.4,2,   -999.0,9,  -999.00,   7.7368,2,    25.00,   0.820,2,   1.805,2,   7.365,2, -999.00,9,  -999.0,9,  -999.0,   7.721,2,   0.043,-999.000,9,   45.12,2,   22.84,2, 1050.30,-999.0000,9,-999.0000,9,-999.0000,9,-999.0000,9,-999.0000,9,-999.0000,9,   7.4707,     -999.0,9,     -999.0,9,     -999.0,9,     -999.0,9,         31,   0.004,    0.19,   0.010,     -999.0,9, -999.00,9, -999.00,9
33RO200306_01,       A16N,     031,          1,         12,         12,2,20030626,       1248,    49.9995,   -20.0012,       4402,  1150.1,   6.4332,  35.2363,2,  35.2440,4,    216.8,2,   216.2,2,   11.51,2,   18.47,2,    0.00,2,    1.14,2,-999.000,9,-999.000,9,-999.000,9,  2178.4,2,  2329.3,2,   -999.0,9,  -999.00,   7.7263,2,    25.00,-999.000,9,-999.000,9,-999.000,9, -999.00,9,  -999.0,9,  -999.0,-999.000,9,-999.000,-999.000,9,   45.85,2,   21.77,2, 1150.10,-999.0000,9,-999.0000,9,-999.0000,9,-999.0000,9,-999.0000,9,-999.0000,9,   6.3225,     -999.0,9,     -999.0,9,     -999.0,9,     -999.0,9,         31,-999.000,-999.000,-999.000,     -999.0,9, -999.00,9, -999.00,9
33RO200306_01,       A16N,     031,          1,         11,         11,2,20030626,       1248,    49.9995,   -20.0012,       4402,  1301.3,   5.4805,  35.1324,2,  35.1314,2,    230.7,2,   232.7,2,   11.74,2,   18.36,2,    0.00,2,    1.14,2,   2.252,2,   1.133,2,   0.114,2,  2172.9,2,  2322.4,2,   -999.0,9,  -999.00,   7.7212,2,    25.00,   0.910,2,   1.799,2,   8.009,2, -999.00,9,  -999.0,9,  -999.0,   7.692,2,   0.057,-999.000,9,   44.56,2,   21.61,2, 1301.30,-999.0000,9,-999.0000,9,-999.0000,9,-999.0000,9,-999.0000,9,-999.0000,9,   5.3633,     -999.0,9,     -999.0,9,     -999.0,9,     -999.0,9,         31,   0.004,   0.191,   0.020,     -999.0,9, -999.00,9, -999.00,9
33RO200306_01,       A16N,     031,          1,         10,         10,2,20030626,       1248,    49.9995,   -20.0012,       4402,  1499.6,   4.1307,  34.9511,2,  34.9525,2,    255.7,2,   258.7,2,   11.44,2,   17.86,2,    0.00,2,    1.12,2,-999.000,9,-999.000,9,-999.000,9,  2162.8,2,  2308.8,2,    780.0,2,    20.00,   7.7133,2,    25.00,-999.000,9,-999.000,9,-999.000,9, -999.00,9,  -999.0,9,  -999.0,-999.000,9,-999.000,-999.000,9,   45.12,2,   23.11,2, 1499.60,-999.0000,9,-999.0000,9,-999.0000,9,-999.0000,9,-999.0000,9,-999.0000,9,   4.0091,     -999.0,9,     -999.0,9,     -999.0,9,     -999.0,9,         31,-999.000,-999.000,-999.000,     -999.0,9, -999.00,9, -999.00,9
33RO200306_01,       A16N,     031,          1,          9,          9,2,20030626,       1248,    49.9995,   -20.0012,       4402,  1700.5,   3.7512,  34.9207,2,  34.9214,2,    266.0,2,   266.2,2,   11.62,2,   17.57,2,    0.00,2,    1.11,2,   2.726,2,   1.351,2,   0.161,2,  2159.6,2,  2307.9,2,   -999.0,9,  -999.00,   7.7148,2,    25.00,-999.000,9,   1.775,2,   7.239,2, -999.00,9,  -999.0,9,  -999.0,   7.671,2,   0.057,-999.000,9,   46.18,2,   22.56,2, 1700.50,-999.0000,9,-999.0000,9,-999.0000,9,-999.0000,9,-999.0000,9,-999.0000,9,   3.6157,     -999.0,9,     -999.0,9,     -999.0,9,     -999.0,9,         31,   0.004,   0.191,-999.000,     -999.0,9, -999.00,9, -999.00,9
33RO200306_01,       A16N,     031,          1,          8,          8,2,20030626,       1248,    49.9995,   -20.0012,       4402,  2000.5,   3.3954,  34.8953,2,  34.8933,2,    275.9,2,   276.0,2,   11.68,2,   17.21,2,    0.00,2,    1.09,2,   2.824,2,   1.386,2,   0.166,2,  2157.3,2,  2305.7,2,    767.3,2,    20.00,   7.7244,2,    25.00,-999.000,9,   1.783,2,   6.703,2, -999.00,9,  -999.0,9,  -999.0,   7.656,4,   0.057,-999.000,9,   45.93,2,   21.70,2, 2000.50,-999.0000,9,-999.0000,9,-999.0000,9,-999.0000,9,-999.0000,9,-999.0000,9,   3.2370,     -999.0,9,     -999.0,9,     -999.0,9,     -999.0,9,         31,   0.004,   0.192,-999.000,     -999.0,9, -999.00,9, -999.00,9