BOTTLE,20230908CCHSIOCBG
EXPOCODE,SECT_ID,STNNBR,CASTNO,SAMPNO,BTLNBR,BTLNBR_FLAG_W,DATE,TIME,LATITUDE,LONGITUDE,DEPTH,CTDPRS,CTDTMP,CTDSAL,CTDSAL_FLAG_W,SALNTY,SALNTY_FLAG_W,CTDOXY,CTDOXY_FLAG_W,OXYGEN,OXYGEN_FLAG_W,SILCAT,SILCAT_FLAG_W,NITRAT,NITRAT_FLAG_W,NITRIT,NITRIT_FLAG_W,PHSPHT,PHSPHT_FLAG_W,CFC-11,CFC-11_FLAG_W,CFC-12,CFC-12_FLAG_W,CFC113,CFC113_FLAG_W,TCARBN,TCARBN_FLAG_W,ALKALI,ALKALI_FLAG_W,FCO2,FCO2_FLAG_W,FCO2TMP,PH_SWS,PH_SWS_FLAG_W,PH_TMP,TRITUM,TRITUM_FLAG_W,HELIUM,HELIUM_FLAG_W,DELHE3,DELHE3_FLAG_W,DELC13,DELC13_FLAG_W,DELC14,DELC14_FLAG_W,C14ERR,NEON,NEON_FLAG_W,NEONER,POC,POC_FLAG_W,DOC,DOC_FLAG_W,TDN,TDN_FLAG_W,CTDRAW,CDOM325,CDOM325_FLAG_W,CDOM340,CDOM340_FLAG_W,CDOM380,CDOM380_FLAG_W,CDOM412,CDOM412_FLAG_W,CDOMSL,CDOMSL_FLAG_W,CDOMSN,CDOMSN_FLAG_W,THETA,PON,PON_FLAG_W,HCFC-22,HCFC-22_FLAG_W,HCFC-142b,HCFC-142b_FLAG_W,HCFC-141b,HCFC-141b_FLAG_W,STNNBR_U,HELIER,DELHER,TRITER,CH3CL,CH3CL_FLAG_W,CH3BR,CH3BR_FLAG_W,CH3I,CH3I_FLAG_W
,,,,,,,,,,,METERS,DBAR,ITS-90,PSS-78,,PSS-78,,UMOL/KG,,UMOL/KG,,UMOL/KG,,UMOL/KG,,UMOL/KG,,UMOL/KG,,PMOL/KG,,PMOL/KG,,PMOL/KG,,UMOL/KG,,UMOL/KG,,UATM,,DEG C,,,DEG C,TU,,NMOL/KG,,PERCNT,,/MILLE,,/MILLE,,/MILLE,NMOL/KG,,NMOL/KG,UG/KG,,UMOL/KG,,UMOL/KG,,DBAR,1/M,,1/M,,1/M,,1/M,,1/NM,,1/NM,,DEG C,UMOL/L,,PMOL/KG,,PMOL/KG,,PMOL/KG,,,NMOL/KG,PERCNT,TU,PMOL/KG,,PMOL/KG,,PMOL/KG,
33RO200306_02,       A16N,     120,          1,          7,          7,2,20030801,       0539,     6.0003,   -26.4993,       4298,  2199.8,   3.3540,  34.9552,2,  34.9563,2,    248.9,2,   246.2,2,   24.19,2,   20.69,2,    0.00,2,    1.42,2,   0.018,2,   0.013,2,   0.001,2,  2173.1,2,  -999.0,9,    761.5,2,    20.00,-999.0000,9,  -999.00,-999.000,9,-999.000,9,-999.000,9, -999.00,9,  -999.0,9,  -999.0,-999.000,9,-999.000,-999.000,9,   40.98,2,   24.86,2, 2199.80,-999.0000,9,-999.0000,9,-999.0000,9,-999.0000,9,-999.0000,9,-999.0000,9,   3.1771,     -999.0,9,       0.00,2,       0.00,2,       0.07,2,        120,-999.000,-999.000,-999.000,      13.22,2,     0.9,2,     0.0,2
33RO200306_02,       A16N,     120,          1,          6,          6,2,20030801,       0539,     6.0003,   -26.4993,       4298,  2400.5,   3.0690,  34.9414,2,  34.9427,2,    247.6,2,   247.1,2,   28.42,2,   20.97,2,    0.00,2,    1.44,2,   0.019,2,   0.005,2,   0.001,2,  2176.6,2,  2323.5,2,    756.1,2,    20.00,   7.7261,2,    25.00,-999.000,9,-999.000,9,-999.000,9, -999.00,9,  -999.0,9,  -999.0,-999.000,9,-999.000,-999.000,9,   40.73,2,   25.97,2, 2400.50,-999.0000,9,-999.0000,9,-999.0000,9,-999.0000,9,-999.0000,9,-999.0000,9,   2.8775,     -999.0,9,     -999.0,9,     -999.0,9,     -999.0,9,        120,-999.000,-999.000,-999.000,     -999.0,9, -999.00,9, -999.00,9
33RO200306_02,       A16N,     120,          1,          5,          5,2,20030801,       0539,     6.0003,   -26.4993,       4298,  2799.6,   2.7581,  34.9230,2,  34.9242,2,    249.5,2,   248.2,2,   33.74,2,   21.21,2,    0.00,2,    1.46,2,   0.009,2,   0.006,2,   0.001,2,  2181.9,2,  2328.2,2,    758.0,2,    20.00,   7.7299,2,    25.00,-999.000,9,-999.000,9,-999.000,9, -999.00,9,  -999.0,9,  -999.0,-999.000,9,-999.000,-999.000,9,   40.12,2,   25.88,2, 2799.60,-999.0000,9,-999.0000,9,-999.0000,9,-999.0000,9,-999.0000,9,-999.0000,9,   2.5331,     -999.0,9,       0.00,2,       0.00,2,       0.08,2,        120,-999.000,-999.000,-999.000,      12.12,2,    0.21,2,     0.0,2
33RO200306_02,       A16N,     120,          1,          4,          4,2,20030801,       0539,     6.0003,   -26.4993,       4298,  3199.6,   2.5934,  34.9107,2,  34.9116,2,    248.7,2,   247.9,2,   37.61,6,   21.53,6,    0.00,6,    1.49,6,-999.000,9,-999.000,9,-999.000,9,  2186.5,2,  2332.0,2,    772.1,2,    20.00,   7.7219,2,    25.00,-999.000,9,-999.000,9,-999.000,9, -999.00,9,  -999.0,9,  -999.0,-999.000,9,-999.000,-999.000,9,   40.65,2,   25.56,2, 3199.60,-999.0000,9,-999.0000,9,-999.0000,9,-999.0000,9,-999.0000,9,-999.0000,9,   2.3308,     -999.0,9,     -999.0,9,     -999.0,9,     -999.0,9,        120,-999.000,-999.000,-999.000,     -999.0,9, -999.00,9, -999.00,9
33RO200306_02,       A16N,     120,          1,          3,          3,2,20030801,       0539,     6.0003,   -26.4993,       4298,  3599.9,   2.4298,  34.8976,2,  34.8981,2,    247.7,2,   247.9,2,   41.70,6,   21.85,6,    0.00,6,    1.52,6,   0.005,2,   0.007,2,   0.000,2,  2192.0,2,  2336.4,2,    775.0,6,    20.00,   7.7235,2,    25.00,-999.000,9,-999.000,9,-999.000,9, -999.00,9,  -999.0,9,  -999.0,-999.000,9,-999.000,-999.000,9,   40.42,2,   26.86,2, 3599.90,-999.0000,9,-999.0000,9,-999.0000,9,-999.0000,9,-999.0000,9,-999.0000,9,   2.1283,     -999.0,9,       0.00,2,       0.00,2,       0.07,2,        120,-999.000,-999.000,-999.000,      29.44,2,    0.68,2,     0.0,2
33RO200306_02,       A16N,     120,          1,          2,          2,2,20030801,       0539,     6.0003,   -26.4993,       4298,  3999.5,   2.3561,  34.8895,2,  34.8907,2,    247.1,2,   248.2,2,   43.89,6,   21.96,6,    0.00,6,    1.53,6,   0.017,2,   0.010,2,   0.005,2,  2195.4,2,  2339.9,2,    776.7,2,    20.00,   7.7248,2,    25.00,-999.000,9,-999.000,9,-999.000,9, -999.00,9,  -999.0,9,  -999.0,-999.000,9,-999.000,-999.000,9,   41.30,2,   25.64,2, 3999.50,-999.0000,9,-999.0000,9,-999.0000,9,-999.0000,9,-999.0000,9,-999.0000,9,   2.0120,     -999.0,9,     -999.0,9,     -999.0,9,     -999.0,9,        120,-999.000,-999.000,-999.000,     -999.0,9, -999.00,9, -999.00,9
33RO200306_02,       A16N,     120,          1,          1,          1,2,20030801,       0539,     6.0003,   -26.4993,       4298,  4358.1,   2.3755,  34.8876,2,  34.8887,2,    246.1,2,   247.4,2,   44.52,6,   22.09,6,    0.00,6,    1.53,6,   0.021,2,   0.013,2,   0.004,2,  2193.9,6,  2339.5,6,    778.6,2,    20.00,   7.7236,6,    25.00,-999.000,9,-999.000,9,-999.000,9, -999.00,9,  -999.0,9,  -999.0,-999.000,9,-999.000,-999.000,9,   41.79,2,   26.90,2, 4358.10,-999.0000,9,-999.0000,9,-999.0000,9,-999.0000,9,-999.0000,9,-999.0000,9,   1.9891,     -999.0,9,     -999.0,9,     -999.0,9,     -999.0,9,        120,-999.000,-999.000,-999.000,     -999.0,9, -999.00,9, -999.00,9