BOTTLE,20230908CCHSIOCBG
EXPOCODE,SECT_ID,STNNBR,CASTNO,SAMPNO,BTLNBR,BTLNBR_FLAG_W,DATE,TIME,LATITUDE,LONGITUDE,DEPTH,CTDPRS,CTDTMP,CTDSAL,CTDSAL_FLAG_W,SALNTY,SALNTY_FLAG_W,CTDOXY,CTDOXY_FLAG_W,OXYGEN,OXYGEN_FLAG_W,SILCAT,SILCAT_FLAG_W,NITRAT,NITRAT_FLAG_W,NITRIT,NITRIT_FLAG_W,PHSPHT,PHSPHT_FLAG_W,CFC-11,CFC-11_FLAG_W,CFC-12,CFC-12_FLAG_W,CFC113,CFC113_FLAG_W,TCARBN,TCARBN_FLAG_W,ALKALI,ALKALI_FLAG_W,FCO2,FCO2_FLAG_W,FCO2TMP,PH_SWS,PH_SWS_FLAG_W,PH_TMP,TRITUM,TRITUM_FLAG_W,HELIUM,HELIUM_FLAG_W,DELHE3,DELHE3_FLAG_W,DELC13,DELC13_FLAG_W,DELC14,DELC14_FLAG_W,C14ERR,NEON,NEON_FLAG_W,NEONER,POC,POC_FLAG_W,DOC,DOC_FLAG_W,TDN,TDN_FLAG_W,CTDRAW,CDOM325,CDOM325_FLAG_W,CDOM340,CDOM340_FLAG_W,CDOM380,CDOM380_FLAG_W,CDOM412,CDOM412_FLAG_W,CDOMSL,CDOMSL_FLAG_W,CDOMSN,CDOMSN_FLAG_W,THETA,PON,PON_FLAG_W,HCFC-22,HCFC-22_FLAG_W,HCFC-142b,HCFC-142b_FLAG_W,HCFC-141b,HCFC-141b_FLAG_W,STNNBR_U,HELIER,DELHER,TRITER,CH3CL,CH3CL_FLAG_W,CH3BR,CH3BR_FLAG_W,CH3I,CH3I_FLAG_W
,,,,,,,,,,,METERS,DBAR,ITS-90,PSS-78,,PSS-78,,UMOL/KG,,UMOL/KG,,UMOL/KG,,UMOL/KG,,UMOL/KG,,UMOL/KG,,PMOL/KG,,PMOL/KG,,PMOL/KG,,UMOL/KG,,UMOL/KG,,UATM,,DEG C,,,DEG C,TU,,NMOL/KG,,PERCNT,,/MILLE,,/MILLE,,/MILLE,NMOL/KG,,NMOL/KG,UG/KG,,UMOL/KG,,UMOL/KG,,DBAR,1/M,,1/M,,1/M,,1/M,,1/NM,,1/NM,,DEG C,UMOL/L,,PMOL/KG,,PMOL/KG,,PMOL/KG,,,NMOL/KG,PERCNT,TU,PMOL/KG,,PMOL/KG,,PMOL/KG,
33RO200306_02,       A16N,     074,          1,          7,          7,2,20030717,       1101,    28.9995,   -23.9367,       5189,  2500.1,   3.2914,  34.9949,2,  34.9982,2,    244.6,2,   244.6,2,   26.83,2,   20.16,2,    0.00,2,    1.33,2,-999.000,5,-999.000,5,-999.000,5,  2180.1,2,  2330.7,2,    752.2,6,    20.00,   7.7282,2,    25.00,   0.056,2,-999.000,9,-999.000,9, -999.00,9,  -999.0,9,  -999.0,-999.000,9,-999.000,-999.000,9,   40.81,2,   24.37,2, 2500.10,-999.0000,9,-999.0000,9,-999.0000,9,-999.0000,9,-999.0000,9,-999.0000,9,   3.0859,     -999.0,9,       0.00,2,       0.00,2,       0.15,2,         74,-999.000,-999.000,   0.010,       6.62,2,     0.0,2,    0.07,2
33RO200306_02,       A16N,     074,          1,          6,          6,2,20030717,       1101,    28.9995,   -23.9367,       5189,  2999.2,   2.8055,  34.9468,2,  34.9496,2,    244.5,2,   244.3,2,   34.15,2,   20.99,2,    0.00,2,    1.41,2,-999.000,5,-999.000,5,-999.000,5,  2188.5,2,  2339.5,2,   -999.0,9,  -999.00,   7.7405,2,    25.00,-999.000,9,-999.000,9,-999.000,9, -999.00,9,  -999.0,9,  -999.0,-999.000,9,-999.000,-999.000,9,   41.46,2,   25.91,2, 2999.20,-999.0000,9,-999.0000,9,-999.0000,9,-999.0000,9,-999.0000,9,-999.0000,9,   2.5590,     -999.0,9,     -999.0,9,     -999.0,9,     -999.0,9,         74,-999.000,-999.000,-999.000,     -999.0,9, -999.00,9, -999.00,9
33RO200306_02,       A16N,     074,          1,          5,          5,2,20030717,       1101,    28.9995,   -23.9367,       5189,  3499.6,   2.5496,  34.9185,2,  34.9210,2,    243.7,2,   244.3,2,   39.98,2,   21.72,2,    0.00,2,    1.47,2,-999.000,5,-999.000,5,-999.000,5,  2194.3,2,  2344.4,2,   -999.0,9,  -999.00,   7.7257,2,    25.00,   0.071,2,-999.000,9,-999.000,9, -999.00,9,  -999.0,9,  -999.0,-999.000,9,-999.000,-999.000,9,   41.14,2,   25.80,2, 3499.60,-999.0000,9,-999.0000,9,-999.0000,9,-999.0000,9,-999.0000,9,-999.0000,9,   2.2559,     -999.0,9,     -999.0,9,     -999.0,9,     -999.0,9,         74,-999.000,-999.000,   0.010,     -999.0,9, -999.00,9, -999.00,9
33RO200306_02,       A16N,     074,          1,          4,          4,2,20030717,       1101,    28.9995,   -23.9367,       5189,  3999.7,   2.4406,  34.9022,2,  34.9047,2,    244.3,2,   245.3,2,   43.48,6,   22.04,6,    0.00,6, -999.00,0,-999.000,5,-999.000,5,-999.000,5,  2196.5,2,  2346.0,2,   -999.0,9,  -999.00,   7.7258,2,    25.00,-999.000,9,-999.000,9,-999.000,9, -999.00,9,  -999.0,9,  -999.0,-999.000,9,-999.000,-999.000,9,   41.63,2,   25.89,2, 3999.70,-999.0000,9,-999.0000,9,-999.0000,9,-999.0000,9,-999.0000,9,-999.0000,9,   2.0940,     -999.0,9,     -999.0,9,     -999.0,9,     -999.0,9,         74,-999.000,-999.000,-999.000,     -999.0,9, -999.00,9, -999.00,9
33RO200306_02,       A16N,     074,          1,          3,          3,2,20030717,       1101,    28.9995,   -23.9367,       5189,  4500.1,   2.3961,  34.8918,2,  34.8936,2,    244.4,2,   244.7,2,   45.65,6,   22.26,6,    0.00,6, -999.00,0,-999.000,5,-999.000,5,-999.000,5,  2198.3,2,  2348.8,2,    766.5,6,    20.00,   7.7365,2,    25.00,   0.044,2,-999.000,9,-999.000,9, -999.00,9,  -999.0,9,  -999.0,-999.000,9,-999.000,-999.000,9,   40.98,2,   26.62,2, 4500.10,-999.0000,9,-999.0000,9,-999.0000,9,-999.0000,9,-999.0000,9,-999.0000,9,   1.9920,     -999.0,9,       0.00,2,       0.00,2,       0.19,2,         74,-999.000,-999.000,   0.010,       4.58,2,     0.0,2,    0.24,2
33RO200306_02,       A16N,     074,          1,          2,          2,2,20030717,       1101,    28.9995,   -23.9367,       5189,  4999.8,   2.4188,  34.8875,2,  34.8901,2,    244.6,2,   244.2,2,   46.67,6,   22.35,6,    0.00,6, -999.00,0,-999.000,5,-999.000,5,-999.000,5,  2200.9,2,  2350.5,2,   -999.0,9,  -999.00,   7.7261,2,    25.00,-999.000,9,-999.000,9,-999.000,9, -999.00,9,  -999.0,9,  -999.0,-999.000,9,-999.000,-999.000,9,   40.49,2,   26.12,2, 4999.80,-999.0000,9,-999.0000,9,-999.0000,9,-999.0000,9,-999.0000,9,-999.0000,9,   1.9522,     -999.0,9,     -999.0,9,     -999.0,9,     -999.0,9,         74,-999.000,-999.000,-999.000,     -999.0,9, -999.00,9, -999.00,9
33RO200306_02,       A16N,     074,          1,          1,          1,2,20030717,       1101,    28.9995,   -23.9367,       5189,  5275.0,   2.4485,  34.8864,2,  34.8874,2,    244.4,2,   244.0,2,   46.76,2,   22.42,2,    0.00,2,    1.52,2,-999.000,5,-999.000,5,-999.000,5,  2199.4,6,  2350.0,6,    766.4,2,    20.00,   7.7272,6,    25.00,   0.001,2,-999.000,9,-999.000,9, -999.00,9,  -999.0,9,  -999.0,-999.000,9,-999.000,-999.000,9,   40.41,2,   25.92,2, 5275.00,-999.0000,9,-999.0000,9,-999.0000,9,-999.0000,9,-999.0000,9,-999.0000,9,   1.9455,     -999.0,9,       0.24,2,       0.00,2,       2.36,2,         74,-999.000,-999.000,   0.010,        0.0,2,     0.0,2,    0.25,2