BOTTLE,20230908CCHSIOCBG
EXPOCODE,SECT_ID,STNNBR,CASTNO,SAMPNO,BTLNBR,BTLNBR_FLAG_W,DATE,TIME,LATITUDE,LONGITUDE,DEPTH,CTDPRS,CTDTMP,CTDSAL,CTDSAL_FLAG_W,SALNTY,SALNTY_FLAG_W,CTDOXY,CTDOXY_FLAG_W,OXYGEN,OXYGEN_FLAG_W,SILCAT,SILCAT_FLAG_W,NITRAT,NITRAT_FLAG_W,NITRIT,NITRIT_FLAG_W,PHSPHT,PHSPHT_FLAG_W,CFC-11,CFC-11_FLAG_W,CFC-12,CFC-12_FLAG_W,CFC113,CFC113_FLAG_W,TCARBN,TCARBN_FLAG_W,ALKALI,ALKALI_FLAG_W,FCO2,FCO2_FLAG_W,FCO2TMP,PH_SWS,PH_SWS_FLAG_W,PH_TMP,TRITUM,TRITUM_FLAG_W,HELIUM,HELIUM_FLAG_W,DELHE3,DELHE3_FLAG_W,DELC13,DELC13_FLAG_W,DELC14,DELC14_FLAG_W,C14ERR,NEON,NEON_FLAG_W,NEONER,POC,POC_FLAG_W,DOC,DOC_FLAG_W,TDN,TDN_FLAG_W,CTDRAW,CDOM325,CDOM325_FLAG_W,CDOM340,CDOM340_FLAG_W,CDOM380,CDOM380_FLAG_W,CDOM412,CDOM412_FLAG_W,CDOMSL,CDOMSL_FLAG_W,CDOMSN,CDOMSN_FLAG_W,THETA,PON,PON_FLAG_W,HCFC-22,HCFC-22_FLAG_W,HCFC-142b,HCFC-142b_FLAG_W,HCFC-141b,HCFC-141b_FLAG_W,STNNBR_U,HELIER,DELHER,TRITER,CH3CL,CH3CL_FLAG_W,CH3BR,CH3BR_FLAG_W,CH3I,CH3I_FLAG_W
,,,,,,,,,,,METERS,DBAR,ITS-90,PSS-78,,PSS-78,,UMOL/KG,,UMOL/KG,,UMOL/KG,,UMOL/KG,,UMOL/KG,,UMOL/KG,,PMOL/KG,,PMOL/KG,,PMOL/KG,,UMOL/KG,,UMOL/KG,,UATM,,DEG C,,,DEG C,TU,,NMOL/KG,,PERCNT,,/MILLE,,/MILLE,,/MILLE,NMOL/KG,,NMOL/KG,UG/KG,,UMOL/KG,,UMOL/KG,,DBAR,1/M,,1/M,,1/M,,1/M,,1/NM,,1/NM,,DEG C,UMOL/L,,PMOL/KG,,PMOL/KG,,PMOL/KG,,,NMOL/KG,PERCNT,TU,PMOL/KG,,PMOL/KG,,PMOL/KG,
33RO200306_02,       A16N,     109,          1,          7,          7,2,20030728,       1400,    11.4997,   -28.9993,       5944,  3599.3,   2.4544,  34.9055,2,  34.9027,2,    245.4,2,   245.8,2,   40.00,2,   21.37,2,    0.00,2,    1.48,2,-999.000,9,-999.000,9,-999.000,9,  -999.0,9,  -999.0,9,   -999.0,9,  -999.00,-999.0000,9,  -999.00,-999.000,9,-999.000,9,-999.000,9, -999.00,9,  -999.0,9,  -999.0,-999.000,9,-999.000,-999.000,9, -999.00,9, -999.00,9, 3599.30,-999.0000,9,-999.0000,9,-999.0000,9,-999.0000,9,-999.0000,9,-999.0000,9,   2.1523,     -999.0,9,     -999.0,9,     -999.0,9,     -999.0,9,        109,-999.000,-999.000,-999.000,     -999.0,9, -999.00,9, -999.00,9
33RO200306_02,       A16N,     109,          1,          6,          6,2,20030728,       1400,    11.4997,   -28.9993,       5944,  3997.4,   2.3596,  34.8933,2,  34.8902,2,    245.9,2,   245.5,2,   43.13,2,   21.67,2,    0.00,2,    1.50,2,-999.000,9,-999.000,9,-999.000,9,  -999.0,9,  -999.0,9,   -999.0,9,  -999.00,-999.0000,9,  -999.00,-999.000,9,-999.000,9,-999.000,9, -999.00,9,  -999.0,9,  -999.0,-999.000,9,-999.000,-999.000,9, -999.00,9, -999.00,9, 3997.40,-999.0000,9,-999.0000,9,-999.0000,9,-999.0000,9,-999.0000,9,-999.0000,9,   2.0156,     -999.0,9,     -999.0,9,     -999.0,9,     -999.0,9,        109,-999.000,-999.000,-999.000,     -999.0,9, -999.00,9, -999.00,9
33RO200306_02,       A16N,     109,          1,          5,          5,2,20030728,       1400,    11.4997,   -28.9993,       5944,  4400.3,   2.2981,  34.8830,2,  34.8801,2,    239.0,2,   239.7,2,   48.48,2,   22.54,2,    0.00,2,    1.56,2,   0.011,2,   0.007,2,   0.001,2,  -999.0,9,  -999.0,9,   -999.0,9,  -999.00,-999.0000,9,  -999.00,-999.000,9,-999.000,9,-999.000,9, -999.00,9,  -999.0,9,  -999.0,-999.000,9,-999.000,-999.000,9, -999.00,9, -999.00,9, 4400.30,-999.0000,9,-999.0000,9,-999.0000,9,-999.0000,9,-999.0000,9,-999.0000,9,   1.9090,     -999.0,9,     -999.0,9,     -999.0,9,     -999.0,9,        109,-999.000,-999.000,-999.000,     -999.0,9, -999.00,9, -999.00,9
33RO200306_02,       A16N,     109,          1,          4,          4,2,20030728,       1400,    11.4997,   -28.9993,       5944,  4799.1,   2.2727,  34.8764,2,  34.8735,2,    243.2,2,   243.8,2,   48.57,6,   22.20,6,    0.00,6,    1.56,6,   0.015,2,   0.009,2,   0.000,2,  -999.0,9,  -999.0,9,   -999.0,9,  -999.00,-999.0000,9,  -999.00,-999.000,9,-999.000,9,-999.000,9, -999.00,9,  -999.0,9,  -999.0,-999.000,9,-999.000,-999.000,9, -999.00,9, -999.00,9, 4799.10,-999.0000,9,-999.0000,9,-999.0000,9,-999.0000,9,-999.0000,9,-999.0000,9,   1.8361,     -999.0,9,     -999.0,9,     -999.0,9,     -999.0,9,        109,-999.000,-999.000,-999.000,     -999.0,9, -999.00,9, -999.00,9
33RO200306_02,       A16N,     109,          1,          3,          3,2,20030728,       1400,    11.4997,   -28.9993,       5944,  5199.4,   2.2727,  34.8713,2,  34.8689,2,    245.5,2,   246.2,2,   49.12,6,   22.17,6,    0.00,6,    1.55,6,   0.025,2,   0.015,2,   0.002,2,  -999.0,9,  -999.0,9,   -999.0,9,  -999.00,-999.0000,9,  -999.00,-999.000,9,-999.000,9,-999.000,9, -999.00,9,  -999.0,9,  -999.0,-999.000,9,-999.000,-999.000,9, -999.00,9, -999.00,9, 5199.40,-999.0000,9,-999.0000,9,-999.0000,9,-999.0000,9,-999.0000,9,-999.0000,9,   1.7857,     -999.0,9,     -999.0,9,     -999.0,9,     -999.0,9,        109,-999.000,-999.000,-999.000,     -999.0,9, -999.00,9, -999.00,9
33RO200306_02,       A16N,     109,          1,          2,          2,2,20030728,       1400,    11.4997,   -28.9993,       5944,  5599.5,   2.3012,  34.8686,2,  34.8663,2,    246.2,2,   247.3,2,   49.63,6,   22.19,6,    0.00,6,    1.56,6,   0.029,2,   0.023,2,   0.005,2,  -999.0,9,  -999.0,9,   -999.0,9,  -999.00,-999.0000,9,  -999.00,-999.000,9,-999.000,9,-999.000,9, -999.00,9,  -999.0,9,  -999.0,-999.000,9,-999.000,-999.000,9, -999.00,9, -999.00,9, 5599.50,-999.0000,9,-999.0000,9,-999.0000,9,-999.0000,9,-999.0000,9,-999.0000,9,   1.7609,     -999.0,9,     -999.0,9,     -999.0,9,     -999.0,9,        109,-999.000,-999.000,-999.000,     -999.0,9, -999.00,9, -999.00,9
33RO200306_02,       A16N,     109,          1,          1,          1,2,20030728,       1400,    11.4997,   -28.9993,       5944,  6022.0,   2.3568,  34.8677,2,  34.8680,2,    246.3,2,   246.8,2,   49.61,2,   22.18,2,    0.00,2,    1.56,2,   0.041,2,   0.024,2,   0.002,2,  -999.0,9,  -999.0,9,   -999.0,9,  -999.00,-999.0000,9,  -999.00,-999.000,9,-999.000,9,-999.000,9, -999.00,9,  -999.0,9,  -999.0,-999.000,9,-999.000,-999.000,9, -999.00,9, -999.00,9, 6022.00,-999.0000,9,-999.0000,9,-999.0000,9,-999.0000,9,-999.0000,9,-999.0000,9,   1.7571,     -999.0,9,     -999.0,9,     -999.0,9,     -999.0,9,        109,-999.000,-999.000,-999.000,     -999.0,9, -999.00,9, -999.00,9