BOTTLE,20230908CCHSIOCBG
EXPOCODE,SECT_ID,STNNBR,CASTNO,SAMPNO,BTLNBR,BTLNBR_FLAG_W,DATE,TIME,LATITUDE,LONGITUDE,DEPTH,CTDPRS,CTDTMP,CTDSAL,CTDSAL_FLAG_W,SALNTY,SALNTY_FLAG_W,CTDOXY,CTDOXY_FLAG_W,OXYGEN,OXYGEN_FLAG_W,SILCAT,SILCAT_FLAG_W,NITRAT,NITRAT_FLAG_W,NITRIT,NITRIT_FLAG_W,PHSPHT,PHSPHT_FLAG_W,CFC-11,CFC-11_FLAG_W,CFC-12,CFC-12_FLAG_W,CFC113,CFC113_FLAG_W,TCARBN,TCARBN_FLAG_W,ALKALI,ALKALI_FLAG_W,FCO2,FCO2_FLAG_W,FCO2TMP,PH_SWS,PH_SWS_FLAG_W,PH_TMP,TRITUM,TRITUM_FLAG_W,HELIUM,HELIUM_FLAG_W,DELHE3,DELHE3_FLAG_W,DELC13,DELC13_FLAG_W,DELC14,DELC14_FLAG_W,C14ERR,NEON,NEON_FLAG_W,NEONER,POC,POC_FLAG_W,DOC,DOC_FLAG_W,TDN,TDN_FLAG_W,CTDRAW,CDOM325,CDOM325_FLAG_W,CDOM340,CDOM340_FLAG_W,CDOM380,CDOM380_FLAG_W,CDOM412,CDOM412_FLAG_W,CDOMSL,CDOMSL_FLAG_W,CDOMSN,CDOMSN_FLAG_W,THETA,PON,PON_FLAG_W,HCFC-22,HCFC-22_FLAG_W,HCFC-142b,HCFC-142b_FLAG_W,HCFC-141b,HCFC-141b_FLAG_W,STNNBR_U,HELIER,DELHER,TRITER,CH3CL,CH3CL_FLAG_W,CH3BR,CH3BR_FLAG_W,CH3I,CH3I_FLAG_W
,,,,,,,,,,,METERS,DBAR,ITS-90,PSS-78,,PSS-78,,UMOL/KG,,UMOL/KG,,UMOL/KG,,UMOL/KG,,UMOL/KG,,UMOL/KG,,PMOL/KG,,PMOL/KG,,PMOL/KG,,UMOL/KG,,UMOL/KG,,UATM,,DEG C,,,DEG C,TU,,NMOL/KG,,PERCNT,,/MILLE,,/MILLE,,/MILLE,NMOL/KG,,NMOL/KG,UG/KG,,UMOL/KG,,UMOL/KG,,DBAR,1/M,,1/M,,1/M,,1/M,,1/NM,,1/NM,,DEG C,UMOL/L,,PMOL/KG,,PMOL/KG,,PMOL/KG,,,NMOL/KG,PERCNT,TU,PMOL/KG,,PMOL/KG,,PMOL/KG,
33RO200306_01,       A16N,     055,          2,          7,          7,2,20030703,       2329,    38.0003,   -20.0015,       5134,  3548.6,   2.6101,  34.9240,2,  34.9246,2,    244.8,2,   244.4,2,   38.82,2,   21.09,2,    0.01,2,    1.40,2,   0.076,2,   0.043,2,   0.007,2,  2193.9,2,  2336.7,2,    761.8,2,    20.00,   7.7302,2,    25.00,-999.000,9,-999.000,9,-999.000,9, -999.00,9,  -999.0,9,  -999.0,-999.000,9,-999.000,-999.000,9,   41.05,2,   24.82,2, 3548.60,-999.0000,9,-999.0000,9,-999.0000,9,-999.0000,9,-999.0000,9,-999.0000,9,   2.3096,     -999.0,9,     -999.0,9,     -999.0,9,     -999.0,9,         55,-999.000,-999.000,-999.000,     -999.0,9, -999.00,9, -999.00,9
33RO200306_01,       A16N,     055,          2,          6,          6,2,20030703,       2329,    38.0003,   -20.0015,       5134,  3848.9,   2.5578,  34.9153,2,  34.9147,2,    243.5,2,   242.9,2,   41.15,2,   21.50,2,    0.01,2,    1.43,2,   0.048,2,   0.029,2,   0.006,2,  2196.5,2,  -999.0,9,   -999.0,9,  -999.00,-999.0000,9,  -999.00,-999.000,9,-999.000,9,-999.000,9, -999.00,9,  -999.0,9,  -999.0,-999.000,9,-999.000,-999.000,9,   40.41,2,   25.45,2, 3848.90,-999.0000,9,-999.0000,9,-999.0000,9,-999.0000,9,-999.0000,9,-999.0000,9,   2.2251,     -999.0,9,     -999.0,9,     -999.0,9,     -999.0,9,         55,-999.000,-999.000,-999.000,     -999.0,9, -999.00,9, -999.00,9
33RO200306_01,       A16N,     055,          2,          5,          5,2,20030703,       2329,    38.0003,   -20.0015,       5134,  4151.6,   2.5216,  34.9082,2,  34.9071,2,    242.9,2,   242.9,2,   42.70,2,   21.79,2,    0.01,2,    1.45,2,   0.029,2,   0.021,2,   0.008,2,  2198.0,2,  -999.0,9,   -999.0,9,  -999.00,-999.0000,9,  -999.00,-999.000,9,-999.000,9,-999.000,9, -999.00,9,  -999.0,9,  -999.0,-999.000,9,-999.000,-999.000,9,   41.05,2,   26.82,2, 4151.60,-999.0000,9,-999.0000,9,-999.0000,9,-999.0000,9,-999.0000,9,-999.0000,9,   2.1551,     -999.0,9,     -999.0,9,     -999.0,9,     -999.0,9,         55,-999.000,-999.000,-999.000,     -999.0,9, -999.00,9, -999.00,9
33RO200306_01,       A16N,     055,          2,          4,          4,2,20030703,       2329,    38.0003,   -20.0015,       5134,  4487.8,   2.4824,  34.9001,2,  34.9011,2,    243.1,2,   243.5,2,   44.26,2,   22.08,6,    0.01,6,    1.47,6,   0.012,2,   0.013,2,   0.005,2,  2199.0,2,  -999.0,9,   -999.0,9,  -999.00,-999.0000,9,  -999.00,-999.000,9,-999.000,9,-999.000,9, -999.00,9,  -999.0,9,  -999.0,-999.000,9,-999.000,-999.000,9,   40.32,2,   25.67,2, 4487.80,-999.0000,9,-999.0000,9,-999.0000,9,-999.0000,9,-999.0000,9,-999.0000,9,   2.0771,     -999.0,9,     -999.0,9,     -999.0,9,     -999.0,9,         55,-999.000,-999.000,-999.000,     -999.0,9, -999.00,9, -999.00,9
33RO200306_01,       A16N,     055,          2,          3,          3,2,20030703,       2329,    38.0003,   -20.0015,       5134,  5000.5,   2.4927,  34.8943,2,  34.8949,2,    243.6,2,   243.5,2,   45.41,2,   22.21,6,    0.01,6,    1.49,6,   0.006,2,   0.009,2,   0.004,2,  2199.7,2,  -999.0,9,    764.4,2,    20.00,-999.0000,9,  -999.00,-999.000,9,-999.000,9,-999.000,9, -999.00,9,  -999.0,9,  -999.0,-999.000,9,-999.000,-999.000,9,   40.49,2,   27.03,2, 5000.50,-999.0000,9,-999.0000,9,-999.0000,9,-999.0000,9,-999.0000,9,-999.0000,9,   2.0235,     -999.0,9,     -999.0,9,     -999.0,9,     -999.0,9,         55,-999.000,-999.000,-999.000,     -999.0,9, -999.00,9, -999.00,9
33RO200306_01,       A16N,     055,          2,          2,          2,2,20030703,       2329,    38.0003,   -20.0015,       5134,  5000.6,   2.4925,  34.8943,2,  34.8948,2,    243.6,2,   243.7,2,   45.50,2,   22.21,6,    0.01,6,    1.49,6,   0.007,2,   0.007,2,   0.004,2,  2200.2,2,  -999.0,9,   -999.0,9,  -999.00,-999.0000,9,  -999.00,-999.000,9,-999.000,9,-999.000,9, -999.00,9,  -999.0,9,  -999.0,-999.000,9,-999.000,-999.000,9,   40.17,2,   27.15,2, 5000.60,-999.0000,9,-999.0000,9,-999.0000,9,-999.0000,9,-999.0000,9,-999.0000,9,   2.0233,     -999.0,9,     -999.0,9,     -999.0,9,     -999.0,9,         55,-999.000,-999.000,-999.000,     -999.0,9, -999.00,9, -999.00,9
33RO200306_01,       A16N,     055,          2,          1,          1,2,20030703,       2329,    38.0003,   -20.0015,       5134,  5218.3,   2.5206,  34.8938,2,  34.8957,2,    243.4,2,   248.0,4,    0.00,9,   22.20,6,    0.01,6,    1.49,6,   0.009,2,   0.009,2,   0.003,2,  2200.6,6,  -999.0,9,    761.8,2,    20.00,-999.0000,9,  -999.00,-999.000,9,-999.000,9,-999.000,9, -999.00,9,  -999.0,9,  -999.0,-999.000,9,-999.000,-999.000,9,   39.92,2,   25.97,2, 5218.30,-999.0000,9,-999.0000,9,-999.0000,9,-999.0000,9,-999.0000,9,-999.0000,9,   2.0224,     -999.0,9,     -999.0,9,     -999.0,9,     -999.0,9,         55,-999.000,-999.000,-999.000,     -999.0,9, -999.00,9, -999.00,9