BOTTLE,20230908CCHSIOCBG
EXPOCODE,SECT_ID,STNNBR,CASTNO,SAMPNO,BTLNBR,BTLNBR_FLAG_W,DATE,TIME,LATITUDE,LONGITUDE,DEPTH,CTDPRS,CTDTMP,CTDSAL,CTDSAL_FLAG_W,SALNTY,SALNTY_FLAG_W,CTDOXY,CTDOXY_FLAG_W,OXYGEN,OXYGEN_FLAG_W,SILCAT,SILCAT_FLAG_W,NITRAT,NITRAT_FLAG_W,NITRIT,NITRIT_FLAG_W,PHSPHT,PHSPHT_FLAG_W,CFC-11,CFC-11_FLAG_W,CFC-12,CFC-12_FLAG_W,CFC113,CFC113_FLAG_W,TCARBN,TCARBN_FLAG_W,ALKALI,ALKALI_FLAG_W,FCO2,FCO2_FLAG_W,FCO2TMP,PH_SWS,PH_SWS_FLAG_W,PH_TMP,TRITUM,TRITUM_FLAG_W,HELIUM,HELIUM_FLAG_W,DELHE3,DELHE3_FLAG_W,DELC13,DELC13_FLAG_W,DELC14,DELC14_FLAG_W,C14ERR,NEON,NEON_FLAG_W,NEONER,POC,POC_FLAG_W,DOC,DOC_FLAG_W,TDN,TDN_FLAG_W,CTDRAW,CDOM325,CDOM325_FLAG_W,CDOM340,CDOM340_FLAG_W,CDOM380,CDOM380_FLAG_W,CDOM412,CDOM412_FLAG_W,CDOMSL,CDOMSL_FLAG_W,CDOMSN,CDOMSN_FLAG_W,THETA,PON,PON_FLAG_W,HCFC-22,HCFC-22_FLAG_W,HCFC-142b,HCFC-142b_FLAG_W,HCFC-141b,HCFC-141b_FLAG_W,STNNBR_U,HELIER,DELHER,TRITER,CH3CL,CH3CL_FLAG_W,CH3BR,CH3BR_FLAG_W,CH3I,CH3I_FLAG_W
,,,,,,,,,,,METERS,DBAR,ITS-90,PSS-78,,PSS-78,,UMOL/KG,,UMOL/KG,,UMOL/KG,,UMOL/KG,,UMOL/KG,,UMOL/KG,,PMOL/KG,,PMOL/KG,,PMOL/KG,,UMOL/KG,,UMOL/KG,,UATM,,DEG C,,,DEG C,TU,,NMOL/KG,,PERCNT,,/MILLE,,/MILLE,,/MILLE,NMOL/KG,,NMOL/KG,UG/KG,,UMOL/KG,,UMOL/KG,,DBAR,1/M,,1/M,,1/M,,1/M,,1/NM,,1/NM,,DEG C,UMOL/L,,PMOL/KG,,PMOL/KG,,PMOL/KG,,,NMOL/KG,PERCNT,TU,PMOL/KG,,PMOL/KG,,PMOL/KG,
33RO200306_02,       A16N,     072,          2,          7,          7,2,20030716,       2050,    30.0003,   -23.3748,       5243,  3549.7,   2.5303,  34.9166,2,  34.9213,2,    244.2,2,   243.8,2,   40.67,2,   21.94,2,    0.00,2,    1.46,2,-999.000,5,-999.000,5,-999.000,5,  2194.5,2,  2345.5,2,    760.6,6,    20.00,   7.7325,2,    25.00,-999.000,9,-999.000,9,-999.000,9, -999.00,9,  -999.0,9,  -999.0,-999.000,9,-999.000,-999.000,9,   40.98,2,   27.18,2, 3549.70,-999.0000,9,-999.0000,9,-999.0000,9,-999.0000,9,-999.0000,9,-999.0000,9,   2.2317,     -999.0,9,     -999.0,9,     -999.0,9,     -999.0,9,         72,-999.000,-999.000,-999.000,     -999.0,9, -999.00,9, -999.00,9
33RO200306_02,       A16N,     072,          2,          6,          6,2,20030716,       2050,    30.0003,   -23.3748,       5243,  3848.7,   2.4603,  34.9068,2,  34.9111,2,    243.5,2,   244.0,2,   42.91,2,   22.24,2,    0.00,2,    1.49,2,-999.000,5,-999.000,5,-999.000,5,  2196.5,2,  2347.8,2,   -999.0,9,  -999.00,   7.7331,2,    25.00,-999.000,9,-999.000,9,-999.000,9, -999.00,9,  -999.0,9,  -999.0,-999.000,9,-999.000,-999.000,9,   40.32,2,   26.27,2, 3848.70,-999.0000,9,-999.0000,9,-999.0000,9,-999.0000,9,-999.0000,9,-999.0000,9,   2.1303,     -999.0,9,     -999.0,9,     -999.0,9,     -999.0,9,         72,-999.000,-999.000,-999.000,     -999.0,9, -999.00,9, -999.00,9
33RO200306_02,       A16N,     072,          2,          5,          5,2,20030716,       2050,    30.0003,   -23.3748,       5243,  4146.1,   2.4184,  34.8988,2,  34.9027,2,    244.3,2,   244.9,2,   44.46,2,   22.38,2,    0.00,2,    1.50,2,-999.000,5,-999.000,5,-999.000,5,  2197.9,2,  2347.8,2,    764.1,2,    20.00,   7.7250,2,    25.00,-999.000,9,-999.000,9,-999.000,9, -999.00,9,  -999.0,9,  -999.0,-999.000,9,-999.000,-999.000,9,   39.43,2,   27.16,2, 4146.10,-999.0000,9,-999.0000,9,-999.0000,9,-999.0000,9,-999.0000,9,-999.0000,9,   2.0555,     -999.0,9,       0.00,2,       0.00,2,       0.34,2,         72,-999.000,-999.000,-999.000,      57.31,2,    0.73,2,    0.29,2
33RO200306_02,       A16N,     072,          2,          4,          4,2,20030716,       2050,    30.0003,   -23.3748,       5243,  4448.6,   2.3933,  34.8926,2,  34.8969,2,    244.4,2,   244.4,2,   45.86,6,   22.46,6,    0.00,6, -999.00,0,-999.000,5,-999.000,5,-999.000,5,  2199.3,2,  2348.8,2,   -999.0,9,  -999.00,   7.7251,2,    25.00,-999.000,9,-999.000,9,-999.000,9, -999.00,9,  -999.0,9,  -999.0,-999.000,9,-999.000,-999.000,9,   40.73,2,   25.88,2, 4448.60,-999.0000,9,-999.0000,9,-999.0000,9,-999.0000,9,-999.0000,9,-999.0000,9,   1.9955,     -999.0,9,     -999.0,9,     -999.0,9,     -999.0,9,         72,-999.000,-999.000,-999.000,     -999.0,9, -999.00,9, -999.00,9
33RO200306_02,       A16N,     072,          2,          3,          3,2,20030716,       2050,    30.0003,   -23.3748,       5243,  4749.5,   2.3993,  34.8890,2,  34.8937,2,    244.5,2,   243.7,2,   46.56,6,   22.55,6,    0.00,6, -999.00,0,-999.000,5,-999.000,5,-999.000,5,  2199.0,2,  2350.0,2,    768.2,2,    20.00,   7.7283,2,    25.00,-999.000,9,-999.000,9,-999.000,9, -999.00,9,  -999.0,9,  -999.0,-999.000,9,-999.000,-999.000,9,   40.17,2,   27.75,2, 4749.50,-999.0000,9,-999.0000,9,-999.0000,9,-999.0000,9,-999.0000,9,-999.0000,9,   1.9646,     -999.0,9,       0.00,2,       0.00,2,       0.23,2,         72,-999.000,-999.000,-999.000,        0.0,2,     0.0,2,     0.0,2
33RO200306_02,       A16N,     072,          2,          2,          2,2,20030716,       2050,    30.0003,   -23.3748,       5243,  5048.2,   2.4241,  34.8874,2,  34.8920,2,    244.9,2,   244.8,2,   46.83,2,   22.62,2,    0.00,2,    1.52,2,-999.000,5,-999.000,5,-999.000,5,  2198.2,2,  2350.9,2,   -999.0,9,  -999.00,   7.7333,2,    25.00,-999.000,9,-999.000,9,-999.000,9, -999.00,9,  -999.0,9,  -999.0,-999.000,9,-999.000,-999.000,9,   40.81,2,   26.39,2, 5048.20,-999.0000,9,-999.0000,9,-999.0000,9,-999.0000,9,-999.0000,9,-999.0000,9,   1.9511,     -999.0,9,     -999.0,9,     -999.0,9,     -999.0,9,         72,-999.000,-999.000,-999.000,     -999.0,9, -999.00,9, -999.00,9
33RO200306_02,       A16N,     072,          2,          1,          1,2,20030716,       2050,    30.0003,   -23.3748,       5243,  5332.2,   2.4609,  34.8869,2,  34.8915,2,    244.6,2,   244.7,2, -999.00,1, -999.00,1, -999.00,1, -999.00,1,-999.000,5,-999.000,5,-999.000,5,  2198.1,6,  2350.5,6,    766.4,2,    20.00,-999.0000,9,  -999.00,-999.000,9,-999.000,9,-999.000,9, -999.00,9,  -999.0,9,  -999.0,-999.000,9,-999.000,-999.000,9,   40.49,2,   26.06,2, 5332.20,-999.0000,9,-999.0000,9,-999.0000,9,-999.0000,9,-999.0000,9,-999.0000,9,   1.9500,     -999.0,9,       0.00,2,       0.00,2,       0.51,2,         72,-999.000,-999.000,-999.000,        0.0,2,     0.0,2,     0.0,2