BOTTLE,20230908CCHSIOCBG
EXPOCODE,SECT_ID,STNNBR,CASTNO,SAMPNO,BTLNBR,BTLNBR_FLAG_W,DATE,TIME,LATITUDE,LONGITUDE,DEPTH,CTDPRS,CTDTMP,CTDSAL,CTDSAL_FLAG_W,SALNTY,SALNTY_FLAG_W,CTDOXY,CTDOXY_FLAG_W,OXYGEN,OXYGEN_FLAG_W,SILCAT,SILCAT_FLAG_W,NITRAT,NITRAT_FLAG_W,NITRIT,NITRIT_FLAG_W,PHSPHT,PHSPHT_FLAG_W,CFC-11,CFC-11_FLAG_W,CFC-12,CFC-12_FLAG_W,CFC113,CFC113_FLAG_W,TCARBN,TCARBN_FLAG_W,ALKALI,ALKALI_FLAG_W,FCO2,FCO2_FLAG_W,FCO2TMP,PH_SWS,PH_SWS_FLAG_W,PH_TMP,TRITUM,TRITUM_FLAG_W,HELIUM,HELIUM_FLAG_W,DELHE3,DELHE3_FLAG_W,DELC13,DELC13_FLAG_W,DELC14,DELC14_FLAG_W,C14ERR,NEON,NEON_FLAG_W,NEONER,POC,POC_FLAG_W,DOC,DOC_FLAG_W,TDN,TDN_FLAG_W,CTDRAW,CDOM325,CDOM325_FLAG_W,CDOM340,CDOM340_FLAG_W,CDOM380,CDOM380_FLAG_W,CDOM412,CDOM412_FLAG_W,CDOMSL,CDOMSL_FLAG_W,CDOMSN,CDOMSN_FLAG_W,THETA,PON,PON_FLAG_W,HCFC-22,HCFC-22_FLAG_W,HCFC-142b,HCFC-142b_FLAG_W,HCFC-141b,HCFC-141b_FLAG_W,STNNBR_U,HELIER,DELHER,TRITER,CH3CL,CH3CL_FLAG_W,CH3BR,CH3BR_FLAG_W,CH3I,CH3I_FLAG_W
,,,,,,,,,,,METERS,DBAR,ITS-90,PSS-78,,PSS-78,,UMOL/KG,,UMOL/KG,,UMOL/KG,,UMOL/KG,,UMOL/KG,,UMOL/KG,,PMOL/KG,,PMOL/KG,,PMOL/KG,,UMOL/KG,,UMOL/KG,,UATM,,DEG C,,,DEG C,TU,,NMOL/KG,,PERCNT,,/MILLE,,/MILLE,,/MILLE,NMOL/KG,,NMOL/KG,UG/KG,,UMOL/KG,,UMOL/KG,,DBAR,1/M,,1/M,,1/M,,1/M,,1/NM,,1/NM,,DEG C,UMOL/L,,PMOL/KG,,PMOL/KG,,PMOL/KG,,,NMOL/KG,PERCNT,TU,PMOL/KG,,PMOL/KG,,PMOL/KG,
33RO200306_02,       A16N,     076,          1,         35,         35,2,20030718,       0214,    28.0000,   -24.4995,       5217,     3.8,  24.2816,  37.4242,2,  37.4289,2,    211.2,2,   210.7,2,    0.49,2,    0.01,2,    0.00,2,    0.02,2,   1.919,2,   1.229,2,   0.169,2,  2112.4,6,  2445.9,6,    330.7,2,    20.00,   8.0268,6,    25.00,-999.000,9,-999.000,9,-999.000,9, -999.00,9,  -999.0,9,  -999.0,-999.000,9,-999.000,-999.000,9,   69.51,2,    5.11,2,    3.80,-999.0000,9,-999.0000,9,-999.0000,9,-999.0000,9,-999.0000,9,-999.0000,9,  24.2808,     -999.0,9,       4.29,2,       0.22,2,       0.50,2,         76,-999.000,-999.000,-999.000,      79.21,2,    0.19,2,   12.94,2
33RO200306_02,       A16N,     076,          1,         33,         33,2,20030718,       0214,    28.0000,   -24.4995,       5217,     9.5,  24.2858,  37.4239,2,  37.4287,2,    211.8,2,   210.8,2,    0.48,2,    0.01,2,    0.00,2,    0.02,2,   1.911,2,   1.216,2,   0.163,2,  2112.6,2,  2446.5,2,    330.8,2,    20.00,   8.0057,2,    25.00,-999.000,9,-999.000,9,-999.000,9, -999.00,9,  -999.0,9,  -999.0,-999.000,9,-999.000,-999.000,9,   69.68,2,    5.26,2,    9.50,-999.0000,9,-999.0000,9,-999.0000,9,-999.0000,9,-999.0000,9,-999.0000,9,  24.2838,     -999.0,9,       3.88,2,       0.18,2,       0.47,2,         76,-999.000,-999.000,-999.000,       64.8,2,    0.34,2,   16.47,2
33RO200306_02,       A16N,     076,          1,         32,         32,2,20030718,       0214,    28.0000,   -24.4995,       5217,    29.5,  24.2318,  37.4062,2,  37.3641,2,    212.3,2,   215.2,2,    0.51,2,    0.01,2,    0.00,2,    0.02,2,-999.000,9,-999.000,9,-999.000,9,  2110.0,2,  2441.1,2,    332.2,2,    20.00,   8.1511,3,    25.00,-999.000,9,-999.000,9,-999.000,9, -999.00,9,  -999.0,9,  -999.0,-999.000,9,-999.000,-999.000,9, -999.00,9, -999.00,9,   29.50,-999.0000,9,-999.0000,9,-999.0000,9,-999.0000,9,-999.0000,9,-999.0000,9,  24.2255,     -999.0,9,     -999.0,9,     -999.0,9,     -999.0,9,         76,-999.000,-999.000,-999.000,     -999.0,9, -999.00,9, -999.00,9
33RO200306_02,       A16N,     076,          1,         31,         31,2,20030718,       0214,    28.0000,   -24.4995,       5217,    50.1,  21.9880,  37.1871,2,  37.1877,2,    228.3,2,   230.2,2,    0.52,2,    0.01,2,    0.00,2,    0.02,2,   2.199,2,   1.375,2,   0.188,2,  2101.6,2,  2430.5,2,    332.2,2,    20.00,   8.0662,2,    25.00,-999.000,9,-999.000,9,-999.000,9, -999.00,9,  -999.0,9,  -999.0,-999.000,9,-999.000,-999.000,9,   67.48,2,    5.57,2,   50.10,-999.0000,9,-999.0000,9,-999.0000,9,-999.0000,9,-999.0000,9,-999.0000,9,  21.9780,     -999.0,9,       4.87,2,       0.23,2,       1.83,2,         76,-999.000,-999.000,-999.000,      76.45,2,     0.0,2,   32.01,2
33RO200306_02,       A16N,     076,          1,         30,         30,2,20030718,       0214,    28.0000,   -24.4995,       5217,    70.0,  21.4735,  37.1679,2,  37.1568,2,    228.9,2,   229.3,2,    0.53,2,    0.01,2,    0.00,2,    0.02,2,   2.218,2,   1.392,2,   0.189,2,  2103.1,2,  2429.6,2,    336.1,2,    20.00,   7.9917,2,    25.00,-999.000,9,-999.000,9,-999.000,9, -999.00,9,  -999.0,9,  -999.0,-999.000,9,-999.000,-999.000,9, -999.00,9, -999.00,9,   70.00,-999.0000,9,-999.0000,9,-999.0000,9,-999.0000,9,-999.0000,9,-999.0000,9,  21.4598,     -999.0,9,     -999.0,9,     -999.0,9,     -999.0,9,         76,-999.000,-999.000,-999.000,     -999.0,9, -999.00,9, -999.00,9
33RO200306_02,       A16N,     076,          1,         29,         29,2,20030718,       0214,    28.0000,   -24.4995,       5217,    90.1,  20.8189,  37.0647,2,  37.0652,2,    228.5,2,   229.7,2,    0.55,2,    0.01,2,    0.00,2,    0.02,2,   2.248,2,   1.413,2,   0.189,2,  2102.6,2,  2424.3,2,    341.4,2,    20.00,-999.0000,9,  -999.00,-999.000,9,-999.000,9,-999.000,9, -999.00,9,  -999.0,9,  -999.0,-999.000,9,-999.000,-999.000,9,   64.07,2,    5.40,2,   90.10,-999.0000,9,-999.0000,9,-999.0000,9,-999.0000,9,-999.0000,9,-999.0000,9,  20.8016,     -999.0,9,       4.60,2,       0.22,2,       0.42,2,         76,-999.000,-999.000,-999.000,        0.0,2,    0.04,2,   13.11,2
33RO200306_02,       A16N,     076,          1,         28,         28,2,20030718,       0214,    28.0000,   -24.4995,       5217,   109.8,  20.1060,  36.9809,2,  36.9747,2,    227.4,2,   222.9,2,    0.56,2,    0.01,2,    0.00,2,    0.03,2,-999.000,9,-999.000,9,-999.000,9,  2107.4,2,  2418.1,2,    355.8,2,    20.00,   7.9752,2,    25.00,-999.000,9,-999.000,9,-999.000,9, -999.00,9,  -999.0,9,  -999.0,-999.000,9,-999.000,-999.000,9, -999.00,9, -999.00,9,  109.80,-999.0000,9,-999.0000,9,-999.0000,9,-999.0000,9,-999.0000,9,-999.0000,9,  20.0854,     -999.0,9,     -999.0,9,     -999.0,9,     -999.0,9,         76,-999.000,-999.000,-999.000,     -999.0,9, -999.00,9, -999.00,9
33RO200306_02,       A16N,     076,          1,         27,         27,2,20030718,       0214,    28.0000,   -24.4995,       5217,   134.9,  19.0584,  36.7798,2,  36.7316,2,    215.0,2,   207.4,2,    0.81,2,    0.87,2,    0.10,2,    0.07,2,   2.397,2,   1.465,2,   0.133,2,  2114.6,2,  2402.3,2,    391.9,2,    20.00,   8.0282,3,    25.00,-999.000,9,-999.000,9,-999.000,9, -999.00,9,  -999.0,9,  -999.0,-999.000,9,-999.000,-999.000,9,   55.69,2,    5.50,2,  134.90,-999.0000,9,-999.0000,9,-999.0000,9,-999.0000,9,-999.0000,9,-999.0000,9,  19.0341,     -999.0,9,       4.59,2,       0.21,2,       0.31,2,         76,-999.000,-999.000,-999.000,      11.18,2,    3.52,2,    1.06,2
33RO200306_02,       A16N,     076,          1,         26,         26,2,20030718,       0214,    28.0000,   -24.4995,       5217,   159.7,  17.9128,  36.5621,2,  36.5444,2,    200.1,2,   200.9,2,    1.17,2,    3.19,2,    0.05,2,    0.18,2,   2.465,2,   1.501,2,   0.093,2,  2119.2,3,  2390.0,2,    375.7,2,    20.00,   8.0247,3,    25.00,-999.000,9,-999.000,9,-999.000,9, -999.00,9,  -999.0,9,  -999.0,-999.000,9,-999.000,-999.000,9, -999.00,9, -999.00,9,  159.70,-999.0000,9,-999.0000,9,-999.0000,9,-999.0000,9,-999.0000,9,-999.0000,9,  17.8852,     -999.0,9,     -999.0,9,     -999.0,9,     -999.0,9,         76,-999.000,-999.000,-999.000,     -999.0,9, -999.00,9, -999.00,9
33RO200306_02,       A16N,     076,          1,         25,         25,2,20030718,       0214,    28.0000,   -24.4995,       5217,   184.8,  17.1427,  36.4144,2,  36.4092,2,    197.3,2,   200.0,2,    1.43,2,    4.61,2,    0.02,2,    0.26,2,   2.534,2,   1.511,2,   0.064,2,  2119.3,2,  2381.8,2,    434.1,2,    20.00,   7.9536,2,    25.00,-999.000,9,-999.000,9,-999.000,9, -999.00,9,  -999.0,9,  -999.0,-999.000,9,-999.000,-999.000,9,   50.90,2,    9.07,2,  184.80,-999.0000,9,-999.0000,9,-999.0000,9,-999.0000,9,-999.0000,9,-999.0000,9,  17.1117,     -999.0,9,       4.50,2,       0.22,2,       0.15,2,         76,-999.000,-999.000,-999.000,      18.69,2,    0.58,2,    0.09,2
33RO200306_02,       A16N,     076,          1,         24,         24,2,20030718,       0214,    28.0000,   -24.4995,       5217,   224.7,  16.2508,  36.2498,2,  36.2494,2,    197.0,2,   199.6,2,    1.99,2,    6.46,2,    0.01,2,    0.37,2,   2.581,2,   1.515,2,   0.045,2,  2124.0,2,  2372.5,2,    460.9,2,    20.00,   7.9644,2,    25.00,-999.000,9,-999.000,9,-999.000,9, -999.00,9,  -999.0,9,  -999.0,-999.000,9,-999.000,-999.000,9,   49.92,2,    9.87,2,  224.70,-999.0000,9,-999.0000,9,-999.0000,9,-999.0000,9,-999.0000,9,-999.0000,9,  16.2145,     -999.0,9,     -999.0,9,     -999.0,9,     -999.0,9,         76,-999.000,-999.000,-999.000,     -999.0,9, -999.00,9, -999.00,9
33RO200306_02,       A16N,     076,          1,         23,         23,2,20030718,       0214,    28.0000,   -24.4995,       5217,   274.5,  15.3634,  36.1001,2,  36.1020,2,    195.3,2,   196.3,2,    2.60,2,    8.13,2,    0.01,2,    0.47,2,   2.617,6,   1.523,6,   0.041,6,  2129.0,2,  2364.4,2,    484.9,2,    20.00,   7.8335,3,    25.00,-999.000,9,-999.000,9,-999.000,9, -999.00,9,  -999.0,9,  -999.0,-999.000,9,-999.000,-999.000,9,   48.78,2,   11.47,2,  274.50,-999.0000,9,-999.0000,9,-999.0000,9,-999.0000,9,-999.0000,9,-999.0000,9,  15.3207,     -999.0,9,       4.39,2,       0.13,2,       0.07,2,         76,-999.000,-999.000,-999.000,      23.75,2,    0.24,2,    0.01,2
33RO200306_02,       A16N,     076,          1,         22,         22,2,20030718,       0214,    28.0000,   -24.4995,       5217,   324.5,  14.5491,  35.9737,2,  35.9721,2,    193.5,2,   193.5,2,    3.29,2,    9.91,2,    0.01,2,    0.58,2,   2.619,2,   1.482,2,   0.042,2,  2137.5,2,  2373.2,2,    321.4,4,    20.00,   7.8413,2,    25.00,-999.000,9,-999.000,9,-999.000,9, -999.00,9,  -999.0,9,  -999.0,-999.000,9,-999.000,-999.000,9,   48.61,2,   13.46,2,  324.50,-999.0000,9,-999.0000,9,-999.0000,9,-999.0000,9,-999.0000,9,-999.0000,9,  14.5004,     -999.0,9,     -999.0,9,     -999.0,9,     -999.0,9,         76,-999.000,-999.000,-999.000,     -999.0,9, -999.00,9, -999.00,9
33RO200306_02,       A16N,     076,          1,         21,         21,2,20030718,       0214,    28.0000,   -24.4995,       5217,   375.2,  13.9040,  35.8832,2,  35.8856,2,    191.7,2,   192.3,2,    3.79,2,   11.05,2,    0.01,2,    0.65,2,   2.626,2,   1.478,2,   0.040,2,  2140.7,2,  -999.0,9,   -999.0,9,  -999.00,-999.0000,9,  -999.00,-999.000,9,-999.000,9,-999.000,9, -999.00,9,  -999.0,9,  -999.0,-999.000,9,-999.000,-999.000,9,   47.88,2,   15.00,2,  375.20,-999.0000,9,-999.0000,9,-999.0000,9,-999.0000,9,-999.0000,9,-999.0000,9,  13.8493,     -999.0,9,       4.89,2,       0.17,2,       0.22,2,         76,-999.000,-999.000,-999.000,      29.91,2,    0.52,2,    0.22,2
33RO200306_02,       A16N,     076,          1,         20,         20,2,20030718,       0214,    28.0000,   -24.4995,       5217,   424.8,  13.2143,  35.7892,2,  35.7943,2,    188.8,2,   190.6,2,    4.54,2,   12.63,2,    0.01,2,    0.75,2,   2.591,2,   1.434,2,   0.042,2,  2146.6,2,  2348.5,2,    578.7,2,    20.00,   7.8345,2,    25.00,-999.000,9,-999.000,9,-999.000,9, -999.00,9,  -999.0,9,  -999.0,-999.000,9,-999.000,-999.000,9,   47.73,2,   16.42,2,  424.80,-999.0000,9,-999.0000,9,-999.0000,9,-999.0000,9,-999.0000,9,-999.0000,9,  13.1543,     -999.0,9,     -999.0,9,     -999.0,9,     -999.0,9,         76,-999.000,-999.000,-999.000,     -999.0,9, -999.00,9, -999.00,9
33RO200306_02,       A16N,     076,          1,         19,         19,2,20030718,       0214,    28.0000,   -24.4995,       5217,   474.9,  12.5593,  35.7059,2,  35.7037,2,    186.7,2,   186.6,2,    5.31,2,   14.17,2,    0.00,2,    0.84,2,   2.476,2,   1.336,2,   0.044,2,  2152.6,2,  2344.1,2,    609.0,2,    20.00,   7.8070,2,    25.00,-999.000,9,-999.000,9,-999.000,9, -999.00,9,  -999.0,9,  -999.0,-999.000,9,-999.000,-999.000,9,   46.75,2,   17.90,2,  474.90,-999.0000,9,-999.0000,9,-999.0000,9,-999.0000,9,-999.0000,9,-999.0000,9,  12.4943,     -999.0,9,       3.13,2,       0.09,2,       0.09,2,         76,-999.000,-999.000,-999.000,      39.62,2,     0.0,2,     0.0,2
33RO200306_02,       A16N,     076,          1,         18,         18,2,20030718,       0214,    28.0000,   -24.4995,       5217,   549.6,  11.7853,  35.6204,2,  35.6210,2,    181.4,2,   181.1,2,    6.45,2,   16.08,2,    0.01,2,    0.96,2,   2.261,2,   1.207,2,   0.041,2,  2161.1,2,  2340.2,2,    654.5,2,    20.00,-999.0000,9,  -999.00,-999.000,9,-999.000,9,-999.000,9, -999.00,9,  -999.0,9,  -999.0,-999.000,9,-999.000,-999.000,9,   46.02,2,   20.03,2,  549.60,-999.0000,9,-999.0000,9,-999.0000,9,-999.0000,9,-999.0000,9,-999.0000,9,  11.7129,     -999.0,9,     -999.0,9,     -999.0,9,     -999.0,9,         76,-999.000,-999.000,-999.000,     -999.0,9, -999.00,9, -999.00,9
33RO200306_02,       A16N,     076,          1,         17,         17,2,20030718,       0214,    28.0000,   -24.4995,       5217,   649.8,  10.8143,  35.5280,2,  35.5292,2,    171.1,2,  -999.0,1,    8.64,2,   18.82,2,    0.00,2,    1.13,2,   1.710,2,   0.893,2,   0.029,2,  2173.9,2,  2335.6,2,    712.9,2,    20.00,   7.7522,2,    25.00,-999.000,9,-999.000,9,-999.000,9, -999.00,9,  -999.0,9,  -999.0,-999.000,9,-999.000,-999.000,9,   44.63,2,   22.67,2,  649.80,-999.0000,9,-999.0000,9,-999.0000,9,-999.0000,9,-999.0000,9,-999.0000,9,  10.7329,     -999.0,9,     -999.0,9,     -999.0,9,     -999.0,9,         76,-999.000,-999.000,-999.000,     -999.0,9, -999.00,9, -999.00,9
33RO200306_02,       A16N,     076,          1,         16,         16,2,20030718,       0214,    28.0000,   -24.4995,       5217,   749.8,   9.7614,  35.4418,2,  35.4405,2,    160.2,2,   158.1,2,   11.76,2,   21.77,2,    0.00,2,    1.33,2,   0.966,2,   0.504,2,   0.012,2,  2184.8,2,  2335.6,2,    777.9,2,    20.00,   7.7215,2,    25.00,-999.000,9,-999.000,9,-999.000,9, -999.00,9,  -999.0,9,  -999.0,-999.000,9,-999.000,-999.000,9,   43.49,2,   25.12,2,  749.80,-999.0000,9,-999.0000,9,-999.0000,9,-999.0000,9,-999.0000,9,-999.0000,9,   9.6728,     -999.0,9,     -999.0,9,     -999.0,9,     -999.0,9,         76,-999.000,-999.000,-999.000,     -999.0,9, -999.00,9, -999.00,9
33RO200306_02,       A16N,     076,          1,         15,         15,2,20030718,       0214,    28.0000,   -24.4995,       5217,   849.2,   8.8168,  35.3742,2,  35.3775,2,    158.0,2,   157.5,2,   14.05,2,   23.28,2,    0.00,2,    1.45,2,   0.590,2,   0.313,2,   0.008,2,  2191.8,2,  2334.0,2,    814.4,2,    20.00,   7.7312,2,    25.00,-999.000,9,-999.000,9,-999.000,9, -999.00,9,  -999.0,9,  -999.0,-999.000,9,-999.000,-999.000,9,   42.76,2,   26.65,2,  849.20,-999.0000,9,-999.0000,9,-999.0000,9,-999.0000,9,-999.0000,9,-999.0000,9,   8.7218,     -999.0,9,       0.43,2,       0.00,2,       0.17,2,         76,-999.000,-999.000,-999.000,      60.33,2,    0.12,2,    0.18,2
33RO200306_02,       A16N,     076,          1,         14,         14,2,20030718,       0214,    28.0000,   -24.4995,       5217,   949.9,   8.1628,  35.3562,2,  35.3537,2,    165.2,2,   166.2,2,   14.97,2,   23.19,2,    0.00,2,    1.45,2,-999.000,5,-999.000,5,-999.000,5,  2193.0,2,  2337.7,2,    811.2,2,    20.00,   7.7043,2,    25.00,-999.000,9,-999.000,9,-999.000,9, -999.00,9,  -999.0,9,  -999.0,-999.000,9,-999.000,-999.000,9,   41.87,2,   26.79,2,  949.90,-999.0000,9,-999.0000,9,-999.0000,9,-999.0000,9,-999.0000,9,-999.0000,9,   8.0604,     -999.0,9,     -999.0,9,     -999.0,9,     -999.0,9,         76,-999.000,-999.000,-999.000,     -999.0,9, -999.00,9, -999.00,9
33RO200306_02,       A16N,     076,          1,         13,         13,2,20030718,       0214,    28.0000,   -24.4995,       5217,  1049.9,   7.4101,  35.3008,2,  35.3028,2,    166.4,2,   167.6,2,   16.78,2,   23.96,2,    0.00,2,    1.52,2,   0.271,2,   0.144,2,   0.003,2,  2197.3,6,  2335.8,6,    832.4,2,    20.00,-999.0000,9,  -999.00,-999.000,9,-999.000,9,-999.000,9, -999.00,9,  -999.0,9,  -999.0,-999.000,9,-999.000,-999.000,9,   42.12,2,   27.10,2, 1049.90,-999.0000,9,-999.0000,9,-999.0000,9,-999.0000,9,-999.0000,9,-999.0000,9,   7.3021,     -999.0,9,       0.16,2,       0.00,2,       0.21,2,         76,-999.000,-999.000,-999.000,      28.54,2,    0.08,2,    0.04,2
33RO200306_02,       A16N,     076,          1,         12,         12,2,20030718,       0214,    28.0000,   -24.4995,       5217,  1149.4,   7.0543,  35.3189,2,  35.3225,2,    176.2,2,   175.8,2,   17.28,2,   23.40,2,    0.00,2,    1.49,2,-999.000,5,-999.000,5,-999.000,5,  2195.9,2,  2338.8,2,   -999.0,9,  -999.00,   7.7057,2,    25.00,-999.000,9,-999.000,9,-999.000,9, -999.00,9,  -999.0,9,  -999.0,-999.000,9,-999.000,-999.000,9,   41.14,2,   27.10,2, 1149.40,-999.0000,9,-999.0000,9,-999.0000,9,-999.0000,9,-999.0000,9,-999.0000,9,   6.9383,     -999.0,9,     -999.0,9,     -999.0,9,     -999.0,9,         76,-999.000,-999.000,-999.000,     -999.0,9, -999.00,9, -999.00,9
33RO200306_02,       A16N,     076,          1,         11,         11,2,20030718,       0214,    28.0000,   -24.4995,       5217,  1299.8,   6.7180,  35.3394,2,  35.3421,2,    187.0,2,   186.7,2,   17.48,2,   22.34,2,    0.00,2,    1.43,2,   0.230,2,   0.125,2,   0.004,2,  2196.3,2,  2341.3,2,    792.3,2,    20.00,   7.6935,2,    25.00,-999.000,9,-999.000,9,-999.000,9, -999.00,9,  -999.0,9,  -999.0,-999.000,9,-999.000,-999.000,9,   41.14,2,   25.95,2, 1299.80,-999.0000,9,-999.0000,9,-999.0000,9,-999.0000,9,-999.0000,9,-999.0000,9,   6.5887,     -999.0,9,       0.10,2,       0.00,2,       0.20,2,         76,-999.000,-999.000,-999.000,       8.73,2,    0.14,2,    0.09,2
33RO200306_02,       A16N,     076,          1,         10,         10,2,20030718,       0214,    28.0000,   -24.4995,       5217,  1499.2,   5.8043,  35.2676,2,  35.2701,2,    208.4,2,   209.3,2,   17.78,2,   20.99,2,    0.00,2,    1.35,2,   0.232,2,   0.125,2,   0.005,2,  2188.7,2,  2337.0,2,    764.5,6,    20.00,   7.7659,3,    25.00,-999.000,9,-999.000,9,-999.000,9, -999.00,9,  -999.0,9,  -999.0,-999.000,9,-999.000,-999.000,9,   42.60,2,   24.60,2, 1499.20,-999.0000,9,-999.0000,9,-999.0000,9,-999.0000,9,-999.0000,9,-999.0000,9,   5.6633,     -999.0,9,     -999.0,9,     -999.0,9,     -999.0,9,         76,-999.000,-999.000,-999.000,     -999.0,9, -999.00,9, -999.00,9
33RO200306_02,       A16N,     076,          1,          9,          9,2,20030718,       0214,    28.0000,   -24.4995,       5217,  1699.6,   5.1689,  35.2089,2,  35.2119,2,    225.2,2,   224.3,2,   17.73,2,   20.05,2,    0.00,2,    1.30,2,   0.270,2,   0.144,2,   0.008,2,  2183.4,2,  2333.7,2,    748.5,2,    20.00,   7.7296,2,    25.00,-999.000,9,-999.000,9,-999.000,9, -999.00,9,  -999.0,9,  -999.0,-999.000,9,-999.000,-999.000,9,   40.73,2,   24.00,2, 1699.60,-999.0000,9,-999.0000,9,-999.0000,9,-999.0000,9,-999.0000,9,-999.0000,9,   5.0149,     -999.0,9,       0.33,2,       0.00,2,       0.36,2,         76,-999.000,-999.000,-999.000,      24.16,2,    0.13,2,    0.08,2
33RO200306_02,       A16N,     076,          1,          8,          8,2,20030718,       0214,    28.0000,   -24.4995,       5217,  1900.1,   4.5951,  35.1468,2,  35.1488,2,    233.2,2,   232.7,2,   19.52,2,   19.96,2,    0.00,2,    1.30,2,   0.170,2,   0.094,2,   0.005,2,  2181.4,2,  2331.0,2,   -999.0,9,  -999.00,   7.7218,2,    25.00,-999.000,9,-999.000,9,-999.000,9, -999.00,9,  -999.0,9,  -999.0,-999.000,9,-999.000,-999.000,9,   41.22,2,   24.70,2, 1900.10,-999.0000,9,-999.0000,9,-999.0000,9,-999.0000,9,-999.0000,9,-999.0000,9,   4.4284,     -999.0,9,     -999.0,9,     -999.0,9,     -999.0,9,         76,-999.000,-999.000,-999.000,     -999.0,9, -999.00,9, -999.00,9