BOTTLE,20230908CCHSIOCBG
EXPOCODE,SECT_ID,STNNBR,CASTNO,SAMPNO,BTLNBR,BTLNBR_FLAG_W,DATE,TIME,LATITUDE,LONGITUDE,DEPTH,CTDPRS,CTDTMP,CTDSAL,CTDSAL_FLAG_W,SALNTY,SALNTY_FLAG_W,CTDOXY,CTDOXY_FLAG_W,OXYGEN,OXYGEN_FLAG_W,SILCAT,SILCAT_FLAG_W,NITRAT,NITRAT_FLAG_W,NITRIT,NITRIT_FLAG_W,PHSPHT,PHSPHT_FLAG_W,CFC-11,CFC-11_FLAG_W,CFC-12,CFC-12_FLAG_W,CFC113,CFC113_FLAG_W,TCARBN,TCARBN_FLAG_W,ALKALI,ALKALI_FLAG_W,FCO2,FCO2_FLAG_W,FCO2TMP,PH_SWS,PH_SWS_FLAG_W,PH_TMP,TRITUM,TRITUM_FLAG_W,HELIUM,HELIUM_FLAG_W,DELHE3,DELHE3_FLAG_W,DELC13,DELC13_FLAG_W,DELC14,DELC14_FLAG_W,C14ERR,NEON,NEON_FLAG_W,NEONER,POC,POC_FLAG_W,DOC,DOC_FLAG_W,TDN,TDN_FLAG_W,CTDRAW,CDOM325,CDOM325_FLAG_W,CDOM340,CDOM340_FLAG_W,CDOM380,CDOM380_FLAG_W,CDOM412,CDOM412_FLAG_W,CDOMSL,CDOMSL_FLAG_W,CDOMSN,CDOMSN_FLAG_W,THETA,PON,PON_FLAG_W,HCFC-22,HCFC-22_FLAG_W,HCFC-142b,HCFC-142b_FLAG_W,HCFC-141b,HCFC-141b_FLAG_W,STNNBR_U,HELIER,DELHER,TRITER,CH3CL,CH3CL_FLAG_W,CH3BR,CH3BR_FLAG_W,CH3I,CH3I_FLAG_W
,,,,,,,,,,,METERS,DBAR,ITS-90,PSS-78,,PSS-78,,UMOL/KG,,UMOL/KG,,UMOL/KG,,UMOL/KG,,UMOL/KG,,UMOL/KG,,PMOL/KG,,PMOL/KG,,PMOL/KG,,UMOL/KG,,UMOL/KG,,UATM,,DEG C,,,DEG C,TU,,NMOL/KG,,PERCNT,,/MILLE,,/MILLE,,/MILLE,NMOL/KG,,NMOL/KG,UG/KG,,UMOL/KG,,UMOL/KG,,DBAR,1/M,,1/M,,1/M,,1/M,,1/NM,,1/NM,,DEG C,UMOL/L,,PMOL/KG,,PMOL/KG,,PMOL/KG,,,NMOL/KG,PERCNT,TU,PMOL/KG,,PMOL/KG,,PMOL/KG,
33RO200306_02,       A16N,     097,          1,          6,          6,2,20030724,       1834,    17.5005,   -29.0007,       4615,  2493.7,   3.0806,  34.9553,2,  34.9572,2,    240.7,2,   244.0,2,   29.52,2,   20.45,2,    0.01,2,    1.43,2,-999.000,9,-999.000,9,-999.000,9,  -999.0,9,  -999.0,9,   -999.0,9,  -999.00,-999.0000,9,  -999.00,-999.000,9,-999.000,9,-999.000,9, -999.00,9,  -999.0,9,  -999.0,-999.000,9,-999.000,-999.000,9, -999.00,9, -999.00,9, 2493.70,-999.0000,9,-999.0000,9,-999.0000,9,-999.0000,9,-999.0000,9,-999.0000,9,   2.8797,     -999.0,9,     -999.0,9,     -999.0,9,     -999.0,9,         97,-999.000,-999.000,-999.000,     -999.0,9, -999.00,9, -999.00,9
33RO200306_02,       A16N,     097,          1,          5,          5,2,20030724,       1834,    17.5005,   -29.0007,       4615,  2999.7,   2.7425,  34.9357,2,  34.9379,2,    241.6,2,   243.8,2,   35.75,2,   20.86,2,    0.01,2,    1.47,2,-999.000,9,-999.000,9,-999.000,9,  -999.0,9,  -999.0,9,   -999.0,9,  -999.00,-999.0000,9,  -999.00,-999.000,9,-999.000,9,-999.000,9, -999.00,9,  -999.0,9,  -999.0,-999.000,9,-999.000,-999.000,9, -999.00,9, -999.00,9, 2999.70,-999.0000,9,-999.0000,9,-999.0000,9,-999.0000,9,-999.0000,9,-999.0000,9,   2.4973,     -999.0,9,     -999.0,9,     -999.0,9,     -999.0,9,         97,-999.000,-999.000,-999.000,     -999.0,9, -999.00,9, -999.00,9
33RO200306_02,       A16N,     097,          1,          4,          4,2,20030724,       1834,    17.5005,   -29.0007,       4615,  3549.6,   2.4326,  34.9062,2,  34.9083,2,    240.9,2,   243.7,2,   42.97,6,   21.55,6,    0.01,6,    1.52,6,-999.000,9,-999.000,9,-999.000,9,  -999.0,9,  -999.0,9,   -999.0,9,  -999.00,-999.0000,9,  -999.00,-999.000,9,-999.000,9,-999.000,9, -999.00,9,  -999.0,9,  -999.0,-999.000,9,-999.000,-999.000,9, -999.00,9, -999.00,9, 3549.60,-999.0000,9,-999.0000,9,-999.0000,9,-999.0000,9,-999.0000,9,-999.0000,9,   2.1365,     -999.0,9,     -999.0,9,     -999.0,9,     -999.0,9,         97,-999.000,-999.000,-999.000,     -999.0,9, -999.00,9, -999.00,9
33RO200306_02,       A16N,     097,          1,          3,          3,2,20030724,       1834,    17.5005,   -29.0007,       4615,  3999.6,   2.3695,  34.8953,2,  34.8970,2,    241.6,2,   244.5,2,   45.68,6,   21.86,6,    0.01,6,    1.55,6,-999.000,9,-999.000,9,-999.000,9,  -999.0,9,  -999.0,9,   -999.0,9,  -999.00,-999.0000,9,  -999.00,-999.000,9,-999.000,9,-999.000,9, -999.00,9,  -999.0,9,  -999.0,-999.000,9,-999.000,-999.000,9, -999.00,9, -999.00,9, 3999.60,-999.0000,9,-999.0000,9,-999.0000,9,-999.0000,9,-999.0000,9,-999.0000,9,   2.0250,     -999.0,9,     -999.0,9,     -999.0,9,     -999.0,9,         97,-999.000,-999.000,-999.000,     -999.0,9, -999.00,9, -999.00,9
33RO200306_02,       A16N,     097,          1,          2,          2,2,20030724,       1834,    17.5005,   -29.0007,       4615,  4499.7,   2.3339,  34.8850,2,  34.8867,2,    242.0,2,   237.3,2,   48.18,6,   22.12,6,    0.01,6,    1.56,6,-999.000,9,-999.000,9,-999.000,9,  -999.0,9,  -999.0,9,   -999.0,9,  -999.00,-999.0000,9,  -999.00,-999.000,9,-999.000,9,-999.000,9, -999.00,9,  -999.0,9,  -999.0,-999.000,9,-999.000,-999.000,9, -999.00,9, -999.00,9, 4499.70,-999.0000,9,-999.0000,9,-999.0000,9,-999.0000,9,-999.0000,9,-999.0000,9,   1.9318,     -999.0,9,     -999.0,9,     -999.0,9,     -999.0,9,         97,-999.000,-999.000,-999.000,     -999.0,9, -999.00,9, -999.00,9
33RO200306_02,       A16N,     097,          1,          1,          1,2,20030724,       1834,    17.5005,   -29.0007,       4615,  4684.3,   2.3089,  34.8802,2,  34.8820,2,    241.7,2,   238.2,2,   49.12,6,   22.18,6,    0.01,6,    1.57,6,-999.000,9,-999.000,9,-999.000,9,  -999.0,9,  -999.0,9,   -999.0,9,  -999.00,-999.0000,9,  -999.00,-999.000,9,-999.000,9,-999.000,9, -999.00,9,  -999.0,9,  -999.0,-999.000,9,-999.000,-999.000,9, -999.00,9, -999.00,9, 4684.30,-999.0000,9,-999.0000,9,-999.0000,9,-999.0000,9,-999.0000,9,-999.0000,9,   1.8852,     -999.0,9,     -999.0,9,     -999.0,9,     -999.0,9,         97,-999.000,-999.000,-999.000,     -999.0,9, -999.00,9, -999.00,9