BOTTLE,20230908CCHSIOCBG
EXPOCODE,SECT_ID,STNNBR,CASTNO,SAMPNO,BTLNBR,BTLNBR_FLAG_W,DATE,TIME,LATITUDE,LONGITUDE,DEPTH,CTDPRS,CTDTMP,CTDSAL,CTDSAL_FLAG_W,SALNTY,SALNTY_FLAG_W,CTDOXY,CTDOXY_FLAG_W,OXYGEN,OXYGEN_FLAG_W,SILCAT,SILCAT_FLAG_W,NITRAT,NITRAT_FLAG_W,NITRIT,NITRIT_FLAG_W,PHSPHT,PHSPHT_FLAG_W,CFC-11,CFC-11_FLAG_W,CFC-12,CFC-12_FLAG_W,CFC113,CFC113_FLAG_W,TCARBN,TCARBN_FLAG_W,ALKALI,ALKALI_FLAG_W,FCO2,FCO2_FLAG_W,FCO2TMP,PH_SWS,PH_SWS_FLAG_W,PH_TMP,TRITUM,TRITUM_FLAG_W,HELIUM,HELIUM_FLAG_W,DELHE3,DELHE3_FLAG_W,DELC13,DELC13_FLAG_W,DELC14,DELC14_FLAG_W,C14ERR,NEON,NEON_FLAG_W,NEONER,POC,POC_FLAG_W,DOC,DOC_FLAG_W,TDN,TDN_FLAG_W,CTDRAW,CDOM325,CDOM325_FLAG_W,CDOM340,CDOM340_FLAG_W,CDOM380,CDOM380_FLAG_W,CDOM412,CDOM412_FLAG_W,CDOMSL,CDOMSL_FLAG_W,CDOMSN,CDOMSN_FLAG_W,THETA,PON,PON_FLAG_W,HCFC-22,HCFC-22_FLAG_W,HCFC-142b,HCFC-142b_FLAG_W,HCFC-141b,HCFC-141b_FLAG_W,STNNBR_U,HELIER,DELHER,TRITER,CH3CL,CH3CL_FLAG_W,CH3BR,CH3BR_FLAG_W,CH3I,CH3I_FLAG_W
,,,,,,,,,,,METERS,DBAR,ITS-90,PSS-78,,PSS-78,,UMOL/KG,,UMOL/KG,,UMOL/KG,,UMOL/KG,,UMOL/KG,,UMOL/KG,,PMOL/KG,,PMOL/KG,,PMOL/KG,,UMOL/KG,,UMOL/KG,,UATM,,DEG C,,,DEG C,TU,,NMOL/KG,,PERCNT,,/MILLE,,/MILLE,,/MILLE,NMOL/KG,,NMOL/KG,UG/KG,,UMOL/KG,,UMOL/KG,,DBAR,1/M,,1/M,,1/M,,1/M,,1/NM,,1/NM,,DEG C,UMOL/L,,PMOL/KG,,PMOL/KG,,PMOL/KG,,,NMOL/KG,PERCNT,TU,PMOL/KG,,PMOL/KG,,PMOL/KG,
33RO200306_01,       A16N,     019,          1,         26,         26,2,20030623,       1612,    56.0017,   -19.9990,       1464,     4.0,  11.8493,  35.1880,2,  35.1889,2,    267.8,2,   267.5,2,    0.16,2,    4.45,2,    0.12,2,    0.35,2,   3.501,6,   1.920,6,   0.295,6,  2084.5,2,  2321.4,2,    467.2,2,    20.00,   7.9149,2,    25.00,-999.000,9,-999.000,9,-999.000,9, -999.00,9,  -999.0,9,  -999.0,-999.000,9,-999.000,   5.190,2,   57.88,2,    9.12,2,    4.00,-999.0000,9,-999.0000,9,-999.0000,9,-999.0000,9,-999.0000,9,-999.0000,9,  11.8488,      0.957,2,     -999.0,9,     -999.0,9,     -999.0,9,         19,-999.000,-999.000,-999.000,     -999.0,9, -999.00,9, -999.00,9
33RO200306_01,       A16N,     019,          1,         27,         27,2,20030623,       1612,    56.0017,   -19.9990,       1464,     4.1,  11.8494,  35.1878,2,-999.0000,1,    267.8,2,  -999.0,1,    0.16,2,    4.45,2,    0.12,2,    0.34,2,-999.000,9,-999.000,9,-999.000,9,  -999.0,9,  -999.0,9,   -999.0,9,  -999.00,-999.0000,9,  -999.00,-999.000,9,-999.000,9,-999.000,9,    1.33,2,    66.7,2,     2.4,-999.000,9,-999.000,-999.000,9, -999.00,9, -999.00,9,    4.10,-999.0000,9,-999.0000,9,-999.0000,9,-999.0000,9,-999.0000,9,-999.0000,9,  11.8489,     -999.0,9,     -999.0,9,     -999.0,9,     -999.0,9,         19,-999.000,-999.000,-999.000,     -999.0,9, -999.00,9, -999.00,9
33RO200306_01,       A16N,     019,          1,         25,         25,2,20030623,       1612,    56.0017,   -19.9990,       1464,     9.7,  11.8314,  35.1873,2,  35.1887,2,    268.0,2,   269.1,2,    0.15,2,    4.45,2,    0.12,2,    0.34,2,   3.503,2,   1.908,2,   0.291,2,  2085.3,2,  2320.7,2,    464.1,2,    20.00,   7.9175,2,    25.00,-999.000,9,-999.000,9,-999.000,9, -999.00,9,  -999.0,9,  -999.0,-999.000,9,-999.000,   4.298,2,   58.05,2,    9.72,2,    9.70,-999.0000,9,-999.0000,9,-999.0000,9,-999.0000,9,-999.0000,9,-999.0000,9,  11.8302,      0.547,2,     -999.0,9,     -999.0,9,     -999.0,9,         19,-999.000,-999.000,-999.000,     -999.0,9, -999.00,9, -999.00,9
33RO200306_01,       A16N,     019,          1,         24,         24,2,20030623,       1612,    56.0017,   -19.9990,       1464,    29.7,  11.7192,  35.2379,2,  35.2524,2,    268.7,2,   267.4,2,    0.20,2,    4.72,2,    0.13,2,    0.36,2,   3.488,2,   1.903,2,   0.290,2,  2088.5,2,  2324.7,2,   -999.0,9,  -999.00,   7.9125,2,    25.00,-999.000,9,   1.740,2,  -2.309,2, -999.00,9,  -999.0,9,  -999.0,   7.323,2,   0.056,   2.856,2,   55.93,2,    9.74,2,   29.70,-999.0000,9,-999.0000,9,-999.0000,9,-999.0000,9,-999.0000,9,-999.0000,9,  11.7154,      0.456,2,     -999.0,9,     -999.0,9,     -999.0,9,         19,   0.003,   0.147,-999.000,     -999.0,9, -999.00,9, -999.00,9
33RO200306_01,       A16N,     019,          1,         23,         23,2,20030623,       1612,    56.0017,   -19.9990,       1464,    49.5,  11.3343,  35.4674,2,  35.4666,2,    256.4,2,   258.8,2,    1.40,2,    7.57,2,    0.38,2,    0.57,2,   3.427,2,   1.880,2,   0.275,2,  2117.4,2,  2330.1,2,   -999.0,9,  -999.00,   7.8695,2,    25.00,-999.000,9,-999.000,9,-999.000,9, -999.00,9,  -999.0,9,  -999.0,-999.000,9,-999.000,   1.987,2, -999.00,9, -999.00,9,   49.50,-999.0000,9,-999.0000,9,-999.0000,9,-999.0000,9,-999.0000,9,-999.0000,9,  11.3281,      0.323,2,     -999.0,9,     -999.0,9,     -999.0,9,         19,-999.000,-999.000,-999.000,     -999.0,9, -999.00,9, -999.00,9
33RO200306_01,       A16N,     019,          1,         22,         22,2,20030623,       1612,    56.0017,   -19.9990,       1464,    69.4,  11.1207,  35.4722,2,  35.4693,2,    253.4,2,   254.7,2,    2.32,2,    8.94,2,    0.41,2,    0.61,2,   3.414,2,   1.887,2,   0.270,2,  2122.4,2,  2328.8,2,    546.4,2,    20.00,   7.8386,2,    25.00,-999.000,9,   1.767,2,  -1.734,2, -999.00,9,  -999.0,9,  -999.0,   7.456,2,   0.057,   1.553,2, -999.00,9, -999.00,9,   69.40,-999.0000,9,-999.0000,9,-999.0000,9,-999.0000,9,-999.0000,9,-999.0000,9,  11.1121,      0.192,2,     -999.0,9,     -999.0,9,     -999.0,9,         19,   0.003,   0.147,-999.000,     -999.0,9, -999.00,9, -999.00,9
33RO200306_01,       A16N,     019,          1,         21,         21,2,20030623,       1612,    56.0017,   -19.9990,       1464,    89.3,  11.0977,  35.4826,2,  35.4792,2,    253.2,2,   253.4,2,    2.71,2,    9.63,2,    0.19,2,    0.62,2,   3.409,2,   1.866,2,   0.266,2,  2124.1,2,  2329.4,2,   -999.0,9,  -999.00,   7.8555,2,    25.00,-999.000,9,-999.000,9,-999.000,9, -999.00,9,  -999.0,9,  -999.0,-999.000,9,-999.000,   1.202,2,   52.85,2,   13.95,2,   89.30,-999.0000,9,-999.0000,9,-999.0000,9,-999.0000,9,-999.0000,9,-999.0000,9,  11.0866,      0.158,2,     -999.0,9,     -999.0,9,     -999.0,9,         19,-999.000,-999.000,-999.000,     -999.0,9, -999.00,9, -999.00,9
33RO200306_01,       A16N,     019,          1,         20,         20,2,20030623,       1612,    56.0017,   -19.9990,       1464,   108.8,  10.9591,  35.4631,2,  35.4631,2,    253.3,2,   251.8,2,    3.11,2,   10.17,2,    0.06,2,    0.64,2,   3.395,2,   1.868,2,   0.263,2,  2126.8,2,  2344.2,2,    553.0,3,    20.00,   7.8417,2,    25.00,   1.107,2,   1.798,2,  -2.577,3, -999.00,9,  -999.0,9,  -999.0,   7.469,2,   0.057,-999.000,9,   51.05,2,   14.38,2,  108.80,-999.0000,9,-999.0000,9,-999.0000,9,-999.0000,9,-999.0000,9,-999.0000,9,  10.9457,     -999.0,9,     -999.0,9,     -999.0,9,     -999.0,9,         19,   0.003,   0.147,   0.030,     -999.0,9, -999.00,9, -999.00,9
33RO200306_01,       A16N,     019,          1,         19,         19,2,20030623,       1612,    56.0017,   -19.9990,       1464,   134.7,  10.9365,  35.4653,2,  35.4668,2,    253.0,2,   250.8,2,    3.57,2,   10.55,2,    0.04,2,    0.66,2,   3.378,2,   1.853,2,   0.256,2,  2129.4,2,  2335.9,2,   -999.0,9,  -999.00,   7.8441,2,    25.00,-999.000,9,-999.000,9,-999.000,9, -999.00,9,  -999.0,9,  -999.0,-999.000,9,-999.000,   1.437,2, -999.00,9, -999.00,9,  134.70,-999.0000,9,-999.0000,9,-999.0000,9,-999.0000,9,-999.0000,9,-999.0000,9,  10.9199,      0.207,2,     -999.0,9,     -999.0,9,     -999.0,9,         19,-999.000,-999.000,-999.000,     -999.0,9, -999.00,9, -999.00,9
33RO200306_01,       A16N,     019,          1,         18,         18,2,20030623,       1612,    56.0017,   -19.9990,       1464,   145.1,  10.8114,  35.4412,2,  35.4431,2,    254.0,2,   253.0,2,    3.86,2,   10.71,2,    0.07,2,    0.68,2,   3.371,2,   1.858,2,   0.251,2,  2130.0,2,  2332.2,2,   -999.0,9,  -999.00,   7.8427,2,    25.00,   1.073,2,   1.771,2,  -1.479,2, -999.00,9,  -999.0,9,  -999.0,   7.366,2,   0.056,-999.000,9,   50.98,2,   15.02,2,  145.10,-999.0000,9,-999.0000,9,-999.0000,9,-999.0000,9,-999.0000,9,-999.0000,9,  10.7937,     -999.0,9,     -999.0,9,     -999.0,9,     -999.0,9,         19,   0.003,   0.147,   0.030,     -999.0,9, -999.00,9, -999.00,9
33RO200306_01,       A16N,     019,          1,         17,         17,2,20030623,       1612,    56.0017,   -19.9990,       1464,   184.4,  10.5592,  35.4049,2,  35.3963,2,    252.0,2,   251.3,2,    4.25,2,   11.13,2,    0.08,2,    0.70,2,   3.394,2,   1.855,2,   0.251,2,  2131.3,2,  2329.7,2,   -999.0,9,  -999.00,   7.8286,2,    25.00,-999.000,9,-999.000,9,-999.000,9, -999.00,9,  -999.0,9,  -999.0,-999.000,9,-999.000,-999.000,9,   50.57,2,   14.77,2,  184.40,-999.0000,9,-999.0000,9,-999.0000,9,-999.0000,9,-999.0000,9,-999.0000,9,  10.5370,     -999.0,9,     -999.0,9,     -999.0,9,     -999.0,9,         19,-999.000,-999.000,-999.000,     -999.0,9, -999.00,9, -999.00,9
33RO200306_01,       A16N,     019,          1,         16,         16,2,20030623,       1612,    56.0017,   -19.9990,       1464,   224.4,  10.0939,  35.3140,2,  35.3155,2,    251.5,2,   249.9,2,    5.11,2,   11.97,2,    0.03,2,    0.76,2,   3.381,2,   1.848,2,   0.248,2,  2133.2,2,  2323.0,2,    601.2,2,    20.00,   7.7983,2,    25.00,-999.000,9,   1.769,2,  -1.443,2, -999.00,9,  -999.0,9,  -999.0,   7.446,2,   0.015,-999.000,9,   51.87,2,   15.99,2,  224.40,-999.0000,9,-999.0000,9,-999.0000,9,-999.0000,9,-999.0000,9,-999.0000,9,  10.0676,     -999.0,9,     -999.0,9,     -999.0,9,     -999.0,9,         19,   0.002,    0.17,-999.000,     -999.0,9, -999.00,9, -999.00,9
33RO200306_01,       A16N,     019,          1,         15,         15,2,20030623,       1612,    56.0017,   -19.9990,       1464,   274.4,   9.5555,  35.2221,2,  35.2211,2,    256.2,2,   253.2,2,    5.86,2,   12.57,2,    0.02,2,    0.80,2,   3.471,2,   1.872,2,   0.259,2,  2134.5,2,  2317.3,2,   -999.0,9,  -999.00,   7.8084,2,    25.00,-999.000,9,-999.000,9,-999.000,9, -999.00,9,  -999.0,9,  -999.0,-999.000,9,-999.000,-999.000,9,   50.65,2,   16.02,2,  274.40,-999.0000,9,-999.0000,9,-999.0000,9,-999.0000,9,-999.0000,9,-999.0000,9,   9.5243,     -999.0,9,     -999.0,9,     -999.0,9,     -999.0,9,         19,-999.000,-999.000,-999.000,     -999.0,9, -999.00,9, -999.00,9
33RO200306_01,       A16N,     019,          1,         14,         14,2,20030623,       1612,    56.0017,   -19.9990,       1464,   325.2,   9.4589,  35.2234,2,  35.2212,2,    242.8,2,   243.5,2,    6.14,2,   13.03,2,    0.01,2,    0.84,2,   3.333,2,   1.801,2,   0.241,2,  2139.3,2,  2317.0,2,    628.0,3,    20.00,   7.7948,2,    25.00,-999.000,9,-999.000,9,-999.000,9, -999.00,9,  -999.0,9,  -999.0,-999.000,9,-999.000,-999.000,9,   49.35,2,   16.28,2,  325.20,-999.0000,9,-999.0000,9,-999.0000,9,-999.0000,9,-999.0000,9,-999.0000,9,   9.4221,     -999.0,9,     -999.0,9,     -999.0,9,     -999.0,9,         19,-999.000,-999.000,-999.000,     -999.0,9, -999.00,9, -999.00,9
33RO200306_01,       A16N,     019,          1,         13,         13,2,20030623,       1612,    56.0017,   -19.9990,       1464,   375.3,   8.9757,  35.1559,2,  35.1426,2,    230.8,2,   241.2,2,    7.05,2,   14.35,2,    0.01,2,    0.92,2,   3.295,2,   1.761,2,   0.231,2,  2143.3,2,  2313.2,2,   -999.0,9,  -999.00,   7.7823,2,    25.00,-999.000,9,-999.000,9,-999.000,9, -999.00,9,  -999.0,9,  -999.0,-999.000,9,-999.000,-999.000,9,   47.73,2,   17.94,2,  375.30,-999.0000,9,-999.0000,9,-999.0000,9,-999.0000,9,-999.0000,9,-999.0000,9,   8.9345,     -999.0,9,     -999.0,9,     -999.0,9,     -999.0,9,         19,-999.000,-999.000,-999.000,     -999.0,9, -999.00,9, -999.00,9
33RO200306_01,       A16N,     019,          1,         12,         12,2,20030623,       1612,    56.0017,   -19.9990,       1464,   423.9,   8.7634,  35.1623,2,  35.1635,2,    219.1,2,   215.8,2,    8.48,2,   16.42,2,    0.01,2,    1.04,2,   2.867,2,   1.507,2,   0.171,2,  2156.3,2,  2323.2,2,    716.9,3,    20.00,   7.7561,2,    25.00,-999.000,9,   1.794,2,   2.222,2, -999.00,9,  -999.0,9,  -999.0,   7.595,2,   0.015,-999.000,9,   47.15,2,   20.20,2,  423.90,-999.0000,9,-999.0000,9,-999.0000,9,-999.0000,9,-999.0000,9,-999.0000,9,   8.7174,     -999.0,9,     -999.0,9,     -999.0,9,     -999.0,9,         19,   0.002,   0.169,-999.000,     -999.0,9, -999.00,9, -999.00,9
33RO200306_01,       A16N,     019,          1,         11,         11,2,20030623,       1612,    56.0017,   -19.9990,       1464,   476.0,   8.6930,  35.2146,2,  35.2155,2,    200.9,2,   198.4,2,    9.52,2,   17.88,2,    0.01,2,    1.12,2,   2.475,2,   1.282,2,   0.122,2,  2166.5,2,  2328.2,2,   -999.0,9,  -999.00,   7.7346,2,    25.00,-999.000,9,-999.000,9,-999.000,9, -999.00,9,  -999.0,9,  -999.0,-999.000,9,-999.000,   0.846,2,   47.40,2,   21.81,2,  476.00,-999.0000,9,-999.0000,9,-999.0000,9,-999.0000,9,-999.0000,9,-999.0000,9,   8.6414,      0.115,2,     -999.0,9,     -999.0,9,     -999.0,9,         19,-999.000,-999.000,-999.000,     -999.0,9, -999.00,9, -999.00,9
33RO200306_01,       A16N,     019,          1,         10,         10,2,20030623,       1612,    56.0017,   -19.9990,       1464,   549.6,   8.2591,  35.2336,2,  35.2296,2,    195.9,2,   195.4,2,   10.32,2,   18.56,2,    0.01,2,    1.16,2,   2.291,2,   1.156,2,   0.105,2,  2172.8,2,  2326.7,2,   -999.0,9,  -999.00,   7.7251,2,    25.00,   1.059,2,-999.000,9,-999.000,9, -999.00,9,  -999.0,9,  -999.0,-999.000,9,-999.000,-999.000,9,   45.78,2,   22.33,2,  549.60,-999.0000,9,-999.0000,9,-999.0000,9,-999.0000,9,-999.0000,9,-999.0000,9,   8.2010,     -999.0,9,     -999.0,9,     -999.0,9,     -999.0,9,         19,-999.000,-999.000,   0.030,     -999.0,9, -999.00,9, -999.00,9
33RO200306_01,       A16N,     019,          1,          9,          9,2,20030623,       1612,    56.0017,   -19.9990,       1464,   645.2,   7.4309,  35.1935,2,  35.1890,2,    202.4,2,   203.0,2,   10.95,2,   18.93,2,    0.01,2,    1.18,2,   2.303,2,   1.136,2,   0.106,2,  2175.6,2,  2325.0,2,    781.7,2,    20.00,   7.7151,2,    25.00,-999.000,9,-999.000,9,-999.000,9, -999.00,9,  -999.0,9,  -999.0,-999.000,9,-999.000,-999.000,9,   44.71,2,   22.73,2,  645.20,-999.0000,9,-999.0000,9,-999.0000,9,-999.0000,9,-999.0000,9,-999.0000,9,   7.3662,     -999.0,9,     -999.0,9,     -999.0,9,     -999.0,9,         19,-999.000,-999.000,-999.000,     -999.0,9, -999.00,9, -999.00,9
33RO200306_01,       A16N,     019,          1,          8,          8,2,20030623,       1612,    56.0017,   -19.9990,       1464,   747.9,   6.2668,  35.0916,2,  35.0921,2,    216.0,2,   217.9,2,   11.35,2,   18.85,2,    0.01,2,    1.19,2,   2.525,2,   1.263,2,   0.138,2,  2173.8,2,  2318.7,2,   -999.0,9,  -999.00,   7.7071,2,    25.00,   1.035,2,-999.000,9,-999.000,9, -999.00,9,  -999.0,9,  -999.0,-999.000,9,-999.000,-999.000,9,   44.80,2,   22.77,2,  747.90,-999.0000,9,-999.0000,9,-999.0000,9,-999.0000,9,-999.0000,9,-999.0000,9,   6.1980,     -999.0,9,     -999.0,9,     -999.0,9,     -999.0,9,         19,-999.000,-999.000,   0.020,     -999.0,9, -999.00,9, -999.00,9
33RO200306_01,       A16N,     019,          1,          7,          7,2,20030623,       1612,    56.0017,   -19.9990,       1464,   849.2,   5.3918,  35.0209,2,  35.0243,2,    232.4,2,   232.1,2,   11.35,2,   18.55,2,    0.01,2,    1.18,2,   2.787,2,   1.363,2,   0.161,2,  2171.9,2,  2314.9,2,    802.1,2,    20.00,   7.7034,2,    25.00,-999.000,9,-999.000,9,-999.000,9, -999.00,9,  -999.0,9,  -999.0,-999.000,9,-999.000,-999.000,9,   47.24,2,   22.33,2,  849.20,-999.0000,9,-999.0000,9,-999.0000,9,-999.0000,9,-999.0000,9,-999.0000,9,   5.3187,     -999.0,9,     -999.0,9,     -999.0,9,     -999.0,9,         19,-999.000,-999.000,-999.000,     -999.0,9, -999.00,9, -999.00,9
33RO200306_01,       A16N,     019,          1,          6,          6,2,20030623,       1612,    56.0017,   -19.9990,       1464,   950.8,   5.0525,  35.0231,2,  35.0248,2,    239.4,2,   235.2,2,   11.35,2,   18.24,2,    0.01,2,    1.15,2,   2.763,2,   1.359,2,   0.161,2,  2170.9,2,  2307.9,2,   -999.0,9,  -999.00,   7.7220,2,    25.00,-999.000,9,   1.831,2,   4.934,2, -999.00,9,  -999.0,9,  -999.0,   7.831,2,   0.025,-999.000,9,   44.63,2,   22.64,2,  950.80,-999.0000,9,-999.0000,9,-999.0000,9,-999.0000,9,-999.0000,9,-999.0000,9,   4.9724,     -999.0,9,     -999.0,9,     -999.0,9,     -999.0,9,         19,   0.003,   0.191,-999.000,     -999.0,9, -999.00,9, -999.00,9
33RO200306_01,       A16N,     019,          1,          5,          5,2,20030623,       1612,    56.0017,   -19.9990,       1464,  1050.2,   4.6375,  34.9792,2,  34.9776,2,    249.7,2,   252.7,2,   11.29,2,   18.00,2,    0.01,2,    1.14,2,   2.964,2,   1.442,2,   0.181,2,  2168.0,2,  2305.6,2,    791.4,2,    20.00,   7.7122,2,    25.00,-999.000,9,-999.000,9,-999.000,9, -999.00,9,  -999.0,9,  -999.0,-999.000,9,-999.000,-999.000,9,   46.66,2,   22.09,2, 1050.20,-999.0000,9,-999.0000,9,-999.0000,9,-999.0000,9,-999.0000,9,-999.0000,9,   4.5517,     -999.0,9,     -999.0,9,     -999.0,9,     -999.0,9,         19,-999.000,-999.000,-999.000,     -999.0,9, -999.00,9, -999.00,9
33RO200306_01,       A16N,     019,          1,          4,          4,2,20030623,       1612,    56.0017,   -19.9990,       1464,  1149.1,   4.3185,  34.9595,2,  34.9591,2,    255.8,2,   256.9,2,   11.34,2,   17.85,2,    0.01,2,    1.14,2,   2.959,2,   1.419,2,   0.176,2,  2166.7,2,  2304.8,2,   -999.0,9,  -999.00,   7.7110,2,    25.00,   0.891,2,-999.000,9,-999.000,9, -999.00,9,  -999.0,9,  -999.0,-999.000,9,-999.000,-999.000,9,   46.42,2,   21.40,2, 1149.10,-999.0000,9,-999.0000,9,-999.0000,9,-999.0000,9,-999.0000,9,-999.0000,9,   4.2266,     -999.0,9,     -999.0,9,     -999.0,9,     -999.0,9,         19,-999.000,-999.000,   0.020,     -999.0,9, -999.00,9, -999.00,9
33RO200306_01,       A16N,     019,          1,          3,          3,2,20030623,       1612,    56.0017,   -19.9990,       1464,  1248.9,   4.0295,  34.9317,2,  34.9334,2,    263.9,2,   263.2,2,   11.33,2,   17.67,2,    0.00,2,    1.12,2,   3.093,2,   1.493,2,   0.193,2,  2164.8,2,  2302.0,2,    777.9,2,    20.00,   7.7111,2,    25.00,-999.000,9,-999.000,9,-999.000,9, -999.00,9,  -999.0,9,  -999.0,-999.000,9,-999.000,-999.000,9,   46.26,2,   21.11,2, 1248.90,-999.0000,9,-999.0000,9,-999.0000,9,-999.0000,9,-999.0000,9,-999.0000,9,   3.9315,     -999.0,9,     -999.0,9,     -999.0,9,     -999.0,9,         19,-999.000,-999.000,-999.000,     -999.0,9, -999.00,9, -999.00,9
33RO200306_01,       A16N,     019,          1,          2,          2,2,20030623,       1612,    56.0017,   -19.9990,       1464,  1350.3,   3.9570,  34.9444,2,  34.9445,2,    264.8,2,   263.2,2,   12.53,2,   17.72,2,    0.00,2,    1.13,2,   2.709,2,   1.299,2,   0.148,2,  2163.2,2,  2302.3,2,   -999.0,9,  -999.00,   7.7158,2,    25.00,   0.910,2,   1.869,3,   4.539,2, -999.00,9,  -999.0,9,  -999.0,   7.916,2,   0.016,-999.000,9,   46.34,2,   23.39,2, 1350.30,-999.0000,9,-999.0000,9,-999.0000,9,-999.0000,9,-999.0000,9,-999.0000,9,   3.8508,     -999.0,9,     -999.0,9,     -999.0,9,     -999.0,9,         19,   0.002,   0.167,   0.030,     -999.0,9, -999.00,9, -999.00,9
33RO200306_01,       A16N,     019,          1,          1,          1,2,20030623,       1612,    56.0017,   -19.9990,       1464,  1463.7,   3.3321,  34.9074,2,  34.9080,2,    275.4,2,   275.4,2,   13.51,2,   17.35,2,    0.01,2,    1.11,2,   2.663,2,   1.252,2,   0.145,2,  2159.3,6,  2302.4,2,    763.9,2,    20.00,   7.7245,2,    25.00,-999.000,9,-999.000,9,-999.000,9, -999.00,9,  -999.0,9,  -999.0,-999.000,9,-999.000,-999.000,9,   45.53,2,   21.28,2, 1463.70,-999.0000,9,-999.0000,9,-999.0000,9,-999.0000,9,-999.0000,9,-999.0000,9,   3.2228,     -999.0,9,     -999.0,9,     -999.0,9,     -999.0,9,         19,-999.000,-999.000,-999.000,     -999.0,9, -999.00,9, -999.00,9