BOTTLE,20230830CCHSIOCBG
EXPOCODE,SECT_ID,STNNBR,CASTNO,SAMPNO,BTLNBR,BTLNBR_FLAG_W,DATE,TIME,LATITUDE,LONGITUDE,DEPTH,CTDPRS,CTDPRS_FLAG_W,CTDTMP,CTDTMP_FLAG_W,CTDSAL,CTDSAL_FLAG_W,SALNTY,SALNTY_FLAG_W,CTDOXY,CTDOXY_FLAG_W,OXYGEN,OXYGEN_FLAG_W,SILCAT,SILCAT_FLAG_W,NITRAT,NITRAT_FLAG_W,NITRIT,NITRIT_FLAG_W,PHSPHT,PHSPHT_FLAG_W,CFC-11,CFC-11_FLAG_W,CFC-12,CFC-12_FLAG_W,SF6,SF6_FLAG_W,TCARBN,TCARBN_FLAG_W,ALKALI,ALKALI_FLAG_W,PH_TOT,PH_TOT_FLAG_W,PH_TMP,PH_TMP_FLAG_W,DELC13,DELC13_FLAG_W,DELC14,DELC14_FLAG_W,DOC,DOC_FLAG_W,TDN,TDN_FLAG_W,N2O,N2O_FLAG_W,BTL_DATE,BTL_TIME,BTL_LAT,BTL_LON,REFTMP,REFTMP_FLAG_W,POC,POC_FLAG_W,PON,PON_FLAG_W,POP,POP_FLAG_W,PCOD,PCOD_FLAG_W,CTDFLUOR,CTDFLUOR_FLAG_W,CTDXMISS,CTDXMISS_FLAG_W,HPLC,HPLC_FLAG_W,DNA,DNA_FLAG_W,FCM,FCM_FLAG_W,IMAGES,IMAGES_FLAG_W,VIRAL_ABUNDANCE,VIRAL_ABUNDANCE_FLAG_W
,,,,,,,,,,,METERS,DBAR,,ITS-90,,PSS-78,,PSS-78,,UMOL/KG,,UMOL/KG,,UMOL/KG,,UMOL/KG,,UMOL/KG,,UMOL/KG,,PMOL/KG,,PMOL/KG,,FMOL/KG,,UMOL/KG,,UMOL/KG,,,,DEG C,,/MILLE,,/MILLE,,UMOL/KG,,UMOL/KG,,NMOL/KG,,,,,,ITS-90,,UG/L,,UG/L,,UG/L,,UG/L,,VOLTS,,VOLTS,,,,,,,,,,,
33RR20220613,       P02E,     158,          2,         36,         36,2,20220629,       1556,    30.0004,  -138.1173,       4680,     5.3,2,  21.7512,2,  34.2837,2,  34.2866,2,    224.2,2,   225.1,2,    1.66,2,    0.08,2,    0.00,2,    0.10,2,   1.849,6,   1.151,6,   1.9158,6,  2032.3,6,  2277.9,2,   7.9525,2,    25.00,2, -999.00,1,  -999.0,1, -999.00,1, -999.00,1,        7.3,6, 20220629,     1758,  30.0004,-138.1173,    21.7508,2,     -999.0,9,     -999.0,9,     -999.0,9,     -999.0,9,     0.0134,1,     4.6285,1,     -999.0,9,     -999.0,9,     -999.0,9,     -999.0,9,     -999.0,9
33RR20220613,       P02E,     158,          2,         35,         35,2,20220629,       1556,    30.0004,  -138.1173,       4680,    25.4,2,  21.4230,2,  34.4055,2,  34.3976,2,    225.3,3,   228.0,2,    1.47,2,    0.03,2,    0.00,2,    0.09,2,   1.942,2,   1.188,2,   1.9135,2,  2034.9,2,  2282.2,2,   7.9550,2,    25.01,2, -999.00,1,  -999.0,1, -999.00,1, -999.00,1,        7.5,2, 20220629,     1755,  30.0004,-138.1173,    21.4202,2,     -999.0,9,     -999.0,9,     -999.0,9,     -999.0,9,     0.0134,1,     4.6430,1,     -999.0,9,     -999.0,9,     -999.0,9,     -999.0,9,     -999.0,9
33RR20220613,       P02E,     158,          2,         34,         34,2,20220629,       1556,    30.0004,  -138.1173,       4680,    50.8,2,  18.9540,2,  34.2375,2,  34.2448,2,    245.1,2,   244.1,2,    1.56,2,    0.01,2,    0.00,2,    0.08,2,   2.141,2,   1.313,2,   2.0674,2,  2028.8,2,  2269.7,6,   7.9506,2,    25.01,2, -999.00,1,  -999.0,1, -999.00,1, -999.00,1,        8.2,2, 20220629,     1754,  30.0004,-138.1173,    18.9561,2,     -999.0,9,     -999.0,9,     -999.0,9,     -999.0,9,     0.0146,1,     4.6470,1,     -999.0,9,     -999.0,9,     -999.0,9,     -999.0,9,     -999.0,9
33RR20220613,       P02E,     158,          2,         33,         33,2,20220629,       1556,    30.0004,  -138.1173,       4680,    75.9,2,  18.8548,2,  34.3693,2,  34.3770,2,    240.9,2,   240.2,2,    1.47,2,    0.00,2,    0.00,2,    0.07,2,   2.135,2,   1.306,2,   2.2038,2,  2029.0,2,  2280.2,2,   7.9551,2,    25.00,2, -999.00,1,  -999.0,1, -999.00,1, -999.00,1,        7.8,2, 20220629,     1752,  30.0004,-138.1174,    18.8619,2,     -999.0,9,     -999.0,9,     -999.0,9,     -999.0,9,     0.0157,1,     4.6459,1,     -999.0,9,     -999.0,9,     -999.0,9,     -999.0,9,     -999.0,9
33RR20220613,       P02E,     158,          2,         32,         32,2,20220629,       1556,    30.0004,  -138.1173,       4680,   100.6,2,  18.0323,2,  34.2355,2,  34.2417,2,    235.7,3,   239.1,2,    1.56,2,    0.00,2,    0.00,2,    0.10,2,   2.173,2,   1.329,2,   2.0935,2,  2030.3,2,  2268.8,2,   7.9414,2,    25.01,2, -999.00,1,  -999.0,1, -999.00,1, -999.00,1,        8.3,2, 20220629,     1750,  30.0004,-138.1174,    18.0311,2,     -999.0,9,     -999.0,9,     -999.0,9,     -999.0,9,     0.0174,1,     4.6543,1,     -999.0,9,     -999.0,9,     -999.0,9,     -999.0,9,     -999.0,9
33RR20220613,       P02E,     158,          2,         31,         31,2,20220629,       1556,    30.0004,  -138.1173,       4680,   151.4,2,  17.0841,2,  34.2459,2,  34.2393,2,    232.6,2,   233.5,2,    1.96,2,    0.09,2,    0.06,2,    0.13,2,   2.239,2,   1.395,2,   2.1234,2,  2037.1,2,  2264.3,2,   7.9198,2,    25.00,2, -999.00,1,  -999.0,1, -999.00,1, -999.00,1,        9.7,2, 20220629,     1747,  30.0004,-138.1173,    17.1040,2,     -999.0,9,     -999.0,9,     -999.0,9,     -999.0,9,     0.0281,1,     4.6631,1,     -999.0,9,     -999.0,9,     -999.0,9,     -999.0,9,     -999.0,9
33RR20220613,       P02E,     158,          2,         30,         17,2,20220629,       1556,    30.0004,  -138.1173,       4680,   201.7,2,  12.1287,2,  33.7801,2,  33.7836,2,    224.9,2,   223.9,2,    6.65,2,    6.82,2,    0.00,2,    0.63,2,   2.832,2,   1.714,2,   2.3732,2,  2072.4,2,  2235.6,2,   7.7914,2,    25.01,2, -999.00,1,  -999.0,1, -999.00,1, -999.00,1,       13.4,2, 20220629,     1746,  30.0004,-138.1173,    12.2274,3,     -999.0,9,     -999.0,9,     -999.0,9,     -999.0,9,     0.0147,1,     4.6824,1,     -999.0,9,     -999.0,9,     -999.0,9,     -999.0,9,     -999.0,9
33RR20220613,       P02E,     158,          2,         29,         29,2,20220629,       1556,    30.0004,  -138.1173,       4680,   251.7,2,  10.5938,2,  33.9440,2,  33.9494,2,    207.9,2,   208.1,2,   13.30,2,   13.27,2,    0.00,2,    0.99,2,   2.977,2,   1.805,2,   2.1514,2,  2107.8,2,  2247.1,2,   7.7277,2,    25.02,2, -999.00,1,  -999.0,1, -999.00,1, -999.00,1,       16.3,2, 20220629,     1744,  30.0004,-138.1173,    10.5909,2,     -999.0,9,     -999.0,9,     -999.0,9,     -999.0,9,     0.0122,1,     4.6876,1,     -999.0,9,     -999.0,9,     -999.0,9,     -999.0,9,     -999.0,9
33RR20220613,       P02E,     158,          2,         28,         28,2,20220629,       1556,    30.0004,  -138.1173,       4680,   301.7,2,   9.5994,2,  34.0017,2,  34.0090,2,    202.0,2,   202.5,2,   19.46,2,   16.73,2,    0.00,2,    1.19,2,   3.077,2,   1.856,2,   1.9715,2,  2127.2,2,  2257.3,2,   7.6933,2,    25.02,2, -999.00,1,  -999.0,1, -999.00,1, -999.00,1,       20.3,2, 20220629,     1742,  30.0004,-138.1174,     9.5827,2,     -999.0,9,     -999.0,9,     -999.0,9,     -999.0,9,     0.0122,1,     4.6895,1,     -999.0,9,     -999.0,9,     -999.0,9,     -999.0,9,     -999.0,9
33RR20220613,       P02E,     158,          2,         27,         27,2,20220629,       1556,    30.0004,  -138.1173,       4680,   353.1,2,   8.5026,2,  34.0141,2,  34.0141,2,    171.4,2,   172.2,2,   30.22,2,   22.14,2,    0.00,2,    1.55,2,   2.946,2,   1.758,2,   1.4653,2,  2164.3,2,  2264.2,2,   7.6197,2,    25.02,2, -999.00,1,  -999.0,1, -999.00,1, -999.00,1,       26.6,2, 20220629,     1739,  30.0004,-138.1174,     8.5065,2,     -999.0,9,     -999.0,9,     -999.0,9,     -999.0,9,     0.0122,1,     4.6898,1,     -999.0,9,     -999.0,9,     -999.0,9,     -999.0,9,     -999.0,9
33RR20220613,       P02E,     158,          2,         26,         26,2,20220629,       1556,    30.0004,  -138.1173,       4680,   403.3,2,   7.6671,2,  33.9968,2,  33.9984,2,    143.5,2,   143.0,2,   39.80,2,   26.58,2,    0.00,2,    1.88,2,   2.719,2,   1.630,2,   1.1722,2,  2197.6,2,  2272.3,2,   7.5465,2,    25.01,2, -999.00,1,  -999.0,1, -999.00,1, -999.00,1,       29.8,2, 20220629,     1739,  30.0004,-138.1173,     7.6655,2,     -999.0,9,     -999.0,9,     -999.0,9,     -999.0,9,     0.0121,1,     4.6897,1,     -999.0,9,     -999.0,9,     -999.0,9,     -999.0,9,     -999.0,9
33RR20220613,       P02E,     158,          2,         25,         25,2,20220629,       1556,    30.0004,  -138.1173,       4680,   453.6,2,   6.7780,2,  33.9908,2,  33.9939,2,    111.1,2,   110.9,2,   51.34,2,   31.28,2,    0.00,2,    2.22,2,   2.451,2,   1.435,2,   0.8581,2,  2229.7,2,  2279.6,2,   7.4671,2,    25.02,2, -999.00,1,  -999.0,1, -999.00,1, -999.00,1,       34.3,2, 20220629,     1736,  30.0004,-138.1173,     6.7663,2,     -999.0,9,     -999.0,9,     -999.0,9,     -999.0,9,     0.0134,1,     4.6908,1,     -999.0,9,     -999.0,9,     -999.0,9,     -999.0,9,     -999.0,9
33RR20220613,       P02E,     158,          2,         24,         24,2,20220629,       1556,    30.0004,  -138.1173,       4680,   503.5,2,   6.0838,2,  34.0046,2,  34.0076,2,     85.9,3,    84.1,2,   63.08,2,   34.95,2,    0.00,2,    2.49,2,   2.021,2,   1.176,2,   0.5716,2,  -999.0,9,  -999.0,9,-999.0000,9,  -999.00,9, -999.00,1,  -999.0,1, -999.00,1, -999.00,1,       37.0,2, 20220629,     1734,  30.0004,-138.1173,     6.0938,2,     -999.0,9,     -999.0,9,     -999.0,9,     -999.0,9,     0.0130,1,     4.6911,1,     -999.0,9,     -999.0,9,     -999.0,9,     -999.0,9,     -999.0,9
33RR20220613,       P02E,     158,          2,         23,         23,2,20220629,       1556,    30.0004,  -138.1173,       4680,   604.9,2,   5.0920,2,  34.0841,2,  34.0846,2,     44.8,2,    45.2,2,   83.31,2,   39.87,2,    0.00,2,    2.87,2,   1.167,2,   0.655,2,   0.3268,2,  2300.5,2,  2309.7,2,   7.3307,2,    25.00,2, -999.00,1,  -999.0,1, -999.00,1, -999.00,1,       44.1,2, 20220629,     1731,  30.0004,-138.1173,     5.0938,2,     -999.0,9,     -999.0,9,     -999.0,9,     -999.0,9,     0.0129,1,     4.6920,1,     -999.0,9,     -999.0,9,     -999.0,9,     -999.0,9,     -999.0,9
33RR20220613,       P02E,     158,          2,         22,         22,2,20220629,       1556,    30.0004,  -138.1173,       4680,   706.3,2,   4.5859,2,  34.1886,2,  34.1938,2,     20.4,2,    20.4,2,   99.93,2,   42.46,2,    0.00,2,    3.08,2,   0.458,2,   0.257,2,   0.1752,2,  2337.1,2,  2329.1,2,   7.2986,2,    25.00,2, -999.00,1,  -999.0,1, -999.00,1, -999.00,1,       54.0,2, 20220629,     1729,  30.0004,-138.1173,     4.5985,2,     -999.0,9,     -999.0,9,     -999.0,9,     -999.0,9,     0.0134,1,     4.6920,1,     -999.0,9,     -999.0,9,     -999.0,9,     -999.0,9,     -999.0,9
33RR20220613,       P02E,     158,          2,         21,         21,2,20220629,       1556,    30.0004,  -138.1173,       4680,   807.3,2,   4.1581,2,  34.2848,2,  34.2880,2,     12.8,2,    12.7,2,  112.24,2,   43.59,2,    0.00,2,    3.17,2,   0.118,2,   0.073,2,   0.1812,2,  2351.7,2,  2348.2,2,   7.2957,2,    25.02,2, -999.00,1,  -999.0,1, -999.00,1, -999.00,1,       57.5,2, 20220629,     1726,  30.0004,-138.1173,     4.1575,2,     -999.0,9,     -999.0,9,     -999.0,9,     -999.0,9,     0.0133,1,     4.6922,1,     -999.0,9,     -999.0,9,     -999.0,9,     -999.0,9,     -999.0,9
33RR20220613,       P02E,     158,          2,         20,         20,2,20220629,       1556,    30.0004,  -138.1173,       4680,   908.6,2,   3.8208,2,  34.3724,2,  34.3776,2,     13.8,3,    13.6,2,  121.33,2,   44.10,2,    0.00,2,    3.18,2,   0.025,2,   0.020,2,   0.0000,2,  2363.8,2,  2364.2,2,   7.3091,2,    25.01,2, -999.00,1,  -999.0,1, -999.00,1, -999.00,1,       55.3,2, 20220629,     1723,  30.0004,-138.1173,     3.8180,2,     -999.0,9,     -999.0,9,     -999.0,9,     -999.0,9,     0.0133,1,     4.6923,1,     -999.0,9,     -999.0,9,     -999.0,9,     -999.0,9,     -999.0,9
33RR20220613,       P02E,     158,          2,         19,         39,2,20220629,       1556,    30.0004,  -138.1173,       4680,  1009.6,2,   3.6632,2,  34.4348,2,  34.4361,2,     22.4,2,    22.3,2,  125.33,2,   43.83,2,    0.00,2,    3.15,2,   0.014,2,   0.012,2,   0.0000,2,  2368.2,2,  2373.1,2,   7.3345,2,    25.01,2, -999.00,1,  -999.0,1, -999.00,1, -999.00,1,       52.1,2, 20220629,     1720,  30.0004,-138.1174,     3.6627,2,     -999.0,9,     -999.0,9,     -999.0,9,     -999.0,9,     0.0134,1,     4.6931,1,     -999.0,9,     -999.0,9,     -999.0,9,     -999.0,9,     -999.0,9
33RR20220613,       P02E,     158,          2,         18,         18,2,20220629,       1556,    30.0004,  -138.1173,       4680,  1110.4,2,   3.4132,2,  34.4731,2,  34.4742,2,     29.9,2,    29.8,2,  130.99,2,   43.52,2,    0.00,2,    3.12,2,   0.010,2,   0.008,2,   0.0000,2,  -999.0,9,  -999.0,9,-999.0000,9,  -999.00,9, -999.00,1,  -999.0,1, -999.00,1, -999.00,1,       48.4,2, 20220629,     1717,  30.0004,-138.1173,     3.4154,2,     -999.0,9,     -999.0,9,     -999.0,9,     -999.0,9,     0.0134,1,     4.6933,1,     -999.0,9,     -999.0,9,     -999.0,9,     -999.0,9,     -999.0,9
33RR20220613,       P02E,     158,          2,         17,         37,2,20220629,       1556,    30.0004,  -138.1173,       4680,  1212.1,2,   3.1980,2,  34.5027,2,  34.5068,2,     37.1,3,    37.6,2,  135.78,2,   43.21,2,    0.00,2,    3.09,2,   0.007,2,   0.007,2,   0.0000,2,  2370.2,2,  2388.7,2,   7.3674,2,    25.00,2, -999.00,1,  -999.0,1, -999.00,1, -999.00,1,       46.5,2, 20220629,     1714,  30.0004,-138.1173,     3.1962,2,     -999.0,9,     -999.0,9,     -999.0,9,     -999.0,9,     0.0134,1,     4.6940,1,     -999.0,9,     -999.0,9,     -999.0,9,     -999.0,9,     -999.0,9
33RR20220613,       P02E,     158,          2,         16,         16,2,20220629,       1556,    30.0004,  -138.1173,       4680,  1313.3,2,   3.0220,2,  34.5248,2,  34.5266,2,     44.2,2,    44.3,2,  139.10,2,   42.86,2,    0.00,2,    3.06,2,   0.005,2,   0.006,2,   0.0000,2,  -999.0,9,  -999.0,9,-999.0000,9,  -999.00,9, -999.00,1,  -999.0,1, -999.00,1, -999.00,1,       42.5,2, 20220629,     1710,  30.0004,-138.1173,     3.0214,2,     -999.0,9,     -999.0,9,     -999.0,9,     -999.0,9,     0.0134,1,     4.6944,1,     -999.0,9,     -999.0,9,     -999.0,9,     -999.0,9,     -999.0,9
33RR20220613,       P02E,     158,          2,         15,         15,2,20220629,       1556,    30.0004,  -138.1173,       4680,  1414.4,2,   2.8333,2,  34.5434,2,  34.5441,2,     50.0,2,    49.9,2,  144.09,2,   42.65,2,    0.00,2,    3.03,2,   0.007,2,   0.005,2,   0.0000,2,  2369.1,2,  2399.8,2,   7.3935,2,    25.00,2, -999.00,1,  -999.0,1, -999.00,1, -999.00,1,       39.9,2, 20220629,     1709,  30.0004,-138.1173,     2.8326,2,     -999.0,9,     -999.0,9,     -999.0,9,     -999.0,9,     0.0134,1,     4.6950,1,     -999.0,9,     -999.0,9,     -999.0,9,     -999.0,9,     -999.0,9
33RR20220613,       P02E,     158,          2,         14,         41,2,20220629,       1556,    30.0004,  -138.1173,       4680,  1516.9,2,   2.6423,2,  34.5610,3,  34.5692,2,     56.0,2,    56.2,2,  148.87,2,   42.37,2,    0.00,2,    2.99,2,   0.003,2,   0.004,2,   0.0000,2,  -999.0,9,  -999.0,9,-999.0000,9,  -999.00,9, -999.00,1,  -999.0,1, -999.00,1, -999.00,1,       39.7,2, 20220629,     1706,  30.0004,-138.1173,     2.6444,2,     -999.0,9,     -999.0,9,     -999.0,9,     -999.0,9,     0.0133,1,     4.6952,1,     -999.0,9,     -999.0,9,     -999.0,9,     -999.0,9,     -999.0,9
33RR20220613,       P02E,     158,          2,         13,         13,2,20220629,       1556,    30.0004,  -138.1173,       4680,  1617.6,2,   2.4731,2,  34.5760,2,  34.5773,2,     61.7,2,    61.5,2,  153.08,2,   41.92,2,    0.00,2,    2.97,2,   0.004,2,   0.002,2,   0.0000,2,  2372.0,2,  2408.4,2,   7.4161,2,    25.01,2, -999.00,1,  -999.0,1, -999.00,1, -999.00,1,       36.8,2, 20220629,     1702,  30.0004,-138.1173,     2.4733,2,     -999.0,9,     -999.0,9,     -999.0,9,     -999.0,9,     0.0134,1,     4.6958,1,     -999.0,9,     -999.0,9,     -999.0,9,     -999.0,9,     -999.0,9
33RR20220613,       P02E,     158,          2,         12,         12,2,20220629,       1556,    30.0004,  -138.1173,       4680,  1820.8,2,   2.2359,2,  34.5968,2,  34.5987,2,     70.4,2,    70.1,2,  159.62,2,   41.48,2,    0.00,2,    2.93,2,   0.003,2,   0.001,2,   0.0000,2,  -999.0,9,  -999.0,9,-999.0000,9,  -999.00,9, -999.00,1,  -999.0,1, -999.00,1, -999.00,1,       33.7,2, 20220629,     1659,  30.0004,-138.1173,     2.2374,2,     -999.0,9,     -999.0,9,     -999.0,9,     -999.0,9,     0.0134,1,     4.6964,1,     -999.0,9,     -999.0,9,     -999.0,9,     -999.0,9,     -999.0,9
33RR20220613,       P02E,     158,          2,         11,         11,2,20220629,       1556,    30.0004,  -138.1173,       4680,  2023.0,2,   2.0267,2,  34.6163,3,  34.6193,2,     80.9,2,    80.9,2,  164.51,2,   40.76,2,    0.00,2,    2.87,2,   0.003,2,   0.002,2,   0.0000,2,  2371.2,2,  2421.8,2,   7.4532,2,    25.01,2, -999.00,1,  -999.0,1, -999.00,1, -999.00,1,       32.1,2, 20220629,     1654,  30.0004,-138.1173,     2.0265,2,     -999.0,9,     -999.0,9,     -999.0,9,     -999.0,9,     0.0134,1,     4.6971,1,     -999.0,9,     -999.0,9,     -999.0,9,     -999.0,9,     -999.0,9
33RR20220613,       P02E,     158,          2,         10,         10,2,20220629,       1556,    30.0004,  -138.1173,       4680,  2277.4,2,   1.8410,2,  34.6321,3,  34.6360,2,     90.7,2,    91.0,2,  169.39,2,   40.23,2,    0.00,2,    2.83,2,   0.004,2,   0.002,2,   0.0000,2,  -999.0,9,  -999.0,9,-999.0000,9,  -999.00,9, -999.00,1,  -999.0,1, -999.00,1, -999.00,1,       31.7,2, 20220629,     1649,  30.0004,-138.1173,     1.8403,2,     -999.0,9,     -999.0,9,     -999.0,9,     -999.0,9,     0.0134,1,     4.6980,1,     -999.0,9,     -999.0,9,     -999.0,9,     -999.0,9,     -999.0,9
33RR20220613,       P02E,     158,          2,          9,          9,2,20220629,       1556,    30.0004,  -138.1173,       4680,  2532.2,2,   1.7144,2,  34.6448,2,  34.6460,2,    101.2,2,   101.1,2,  171.05,2,   39.73,2,    0.00,2,    2.79,2,   0.003,2,   0.003,2,   0.0000,2,  2362.9,2,  2429.4,2,   7.4927,2,    25.00,2, -999.00,9,  -999.0,9, -999.00,1, -999.00,1,       27.9,2, 20220629,     1643,  30.0004,-138.1173,     1.7142,2,     -999.0,9,     -999.0,9,     -999.0,9,     -999.0,9,     0.0125,1,     4.6984,1,     -999.0,9,     -999.0,9,     -999.0,9,     -999.0,9,     -999.0,9
33RR20220613,       P02E,     158,          2,          8,          8,2,20220629,       1556,    30.0004,  -138.1173,       4680,  2786.8,2,   1.6274,2,  34.6543,2,  34.6563,2,    110.7,2,   110.5,2,  170.37,2,   39.11,2,    0.00,2,    2.73,2,   0.003,2,   0.004,2,   0.0000,2,  -999.0,9,  -999.0,9,-999.0000,9,  -999.00,9, -999.00,9,  -999.0,9, -999.00,1, -999.00,1,       31.0,2, 20220629,     1638,  30.0004,-138.1173,     1.6266,2,     -999.0,9,     -999.0,9,     -999.0,9,     -999.0,9,     0.0123,1,     4.6991,1,     -999.0,9,     -999.0,9,     -999.0,9,     -999.0,9,     -999.0,9
33RR20220613,       P02E,     158,          2,          7,          7,2,20220629,       1556,    30.0004,  -138.1173,       4680,  3042.5,2,   1.5669,2,  34.6618,2,  34.6637,2,    119.0,2,   119.1,2,  169.29,2,   38.61,2,    0.00,2,    2.68,2,   0.003,2,   0.004,2,   0.0000,2,  2353.4,2,  2429.9,2,   7.5256,2,    25.02,2, -999.00,1,  -999.0,1, -999.00,1, -999.00,1,       28.7,2, 20220629,     1633,  30.0004,-138.1173,     1.5666,2,     -999.0,9,     -999.0,9,     -999.0,9,     -999.0,9,     0.0122,1,     4.6994,1,     -999.0,9,     -999.0,9,     -999.0,9,     -999.0,9,     -999.0,9
33RR20220613,       P02E,     158,          2,          6,          6,2,20220629,       1556,    30.0004,  -138.1173,       4680,  3348.7,2,   1.5179,2,  34.6696,2,  34.6704,2,    128.9,2,   129.0,2,  164.31,2,   37.56,2,    0.00,2,    2.59,2,   0.004,2,   0.004,2,   0.0000,2,  -999.0,9,  -999.0,9,-999.0000,9,  -999.00,9, -999.00,9,  -999.0,9, -999.00,1, -999.00,1,       23.6,2, 20220629,     1625,  30.0004,-138.1173,     1.5174,2,     -999.0,9,     -999.0,9,     -999.0,9,     -999.0,9,     0.0134,1,     4.6995,1,     -999.0,9,     -999.0,9,     -999.0,9,     -999.0,9,     -999.0,9
33RR20220613,       P02E,     158,          2,          5,          5,2,20220629,       1556,    30.0004,  -138.1173,       4680,  3656.3,2,   1.5054,2,  34.6742,2,  34.6755,2,    134.9,2,   135.1,2,  166.94,4,   37.98,4,    0.00,4,    2.63,4,   0.003,2,   0.006,2,   0.0000,2,  2343.9,2,  2429.7,2,   7.5534,2,    25.00,2, -999.00,9,  -999.0,9, -999.00,1, -999.00,1,       23.9,2, 20220629,     1620,  30.0004,-138.1173,     1.5052,2,     -999.0,9,     -999.0,9,     -999.0,9,     -999.0,9,     0.0122,1,     4.7005,1,     -999.0,9,     -999.0,9,     -999.0,9,     -999.0,9,     -999.0,9