BOTTLE,20230830CCHSIOCBG
EXPOCODE,SECT_ID,STNNBR,CASTNO,SAMPNO,BTLNBR,BTLNBR_FLAG_W,DATE,TIME,LATITUDE,LONGITUDE,DEPTH,CTDPRS,CTDPRS_FLAG_W,CTDTMP,CTDTMP_FLAG_W,CTDSAL,CTDSAL_FLAG_W,SALNTY,SALNTY_FLAG_W,CTDOXY,CTDOXY_FLAG_W,OXYGEN,OXYGEN_FLAG_W,SILCAT,SILCAT_FLAG_W,NITRAT,NITRAT_FLAG_W,NITRIT,NITRIT_FLAG_W,PHSPHT,PHSPHT_FLAG_W,CFC-11,CFC-11_FLAG_W,CFC-12,CFC-12_FLAG_W,SF6,SF6_FLAG_W,TCARBN,TCARBN_FLAG_W,ALKALI,ALKALI_FLAG_W,PH_TOT,PH_TOT_FLAG_W,PH_TMP,PH_TMP_FLAG_W,DELC13,DELC13_FLAG_W,DELC14,DELC14_FLAG_W,DOC,DOC_FLAG_W,TDN,TDN_FLAG_W,N2O,N2O_FLAG_W,BTL_DATE,BTL_TIME,BTL_LAT,BTL_LON,REFTMP,REFTMP_FLAG_W,POC,POC_FLAG_W,PON,PON_FLAG_W,POP,POP_FLAG_W,PCOD,PCOD_FLAG_W,CTDFLUOR,CTDFLUOR_FLAG_W,CTDXMISS,CTDXMISS_FLAG_W,HPLC,HPLC_FLAG_W,DNA,DNA_FLAG_W,FCM,FCM_FLAG_W,IMAGES,IMAGES_FLAG_W,VIRAL_ABUNDANCE,VIRAL_ABUNDANCE_FLAG_W
,,,,,,,,,,,METERS,DBAR,,ITS-90,,PSS-78,,PSS-78,,UMOL/KG,,UMOL/KG,,UMOL/KG,,UMOL/KG,,UMOL/KG,,UMOL/KG,,PMOL/KG,,PMOL/KG,,FMOL/KG,,UMOL/KG,,UMOL/KG,,,,DEG C,,/MILLE,,/MILLE,,UMOL/KG,,UMOL/KG,,NMOL/KG,,,,,,ITS-90,,UG/L,,UG/L,,UG/L,,UG/L,,VOLTS,,VOLTS,,,,,,,,,,,
33RR20220613,       P02E,     121,          1,         36,         36,2,20220617,       1930,    30.0023,  -159.4820,       5706,     1.7,2,  24.9699,2,  35.0644,2,  35.0622,2,    212.7,2,   212.3,2,    0.68,2,    0.02,2,    0.00,2,    0.00,3,   1.671,2,   1.046,2,   1.7072,2,  2019.1,6,  2301.6,2,   8.0154,2,    25.03,2, -999.00,9,  -999.0,9, -999.00,9, -999.00,9,        7.2,2, 20220617,     2201,  30.0023,-159.4820,    24.9715,2,     -999.0,9,     -999.0,9,     -999.0,9,     -999.0,9,     0.0131,1,     4.6350,1,     -999.0,9,     -999.0,9,     -999.0,9,     -999.0,9,     -999.0,9
33RR20220613,       P02E,     121,          1,         35,         35,2,20220617,       1930,    30.0023,  -159.4820,       5706,    25.2,2,  22.7413,2,  35.0925,2,  35.0941,2,    229.5,2,   229.4,2,    0.68,2,    0.01,2,    0.00,2,    0.00,3,   1.894,6,   1.143,6,   1.9130,6,  2017.2,2,  2304.4,2,   8.0193,2,    25.00,2, -999.00,9,  -999.0,9, -999.00,9, -999.00,9,        7.8,6, 20220617,     2200,  30.0023,-159.4820,    22.7456,2,     -999.0,9,     -999.0,9,     -999.0,9,     -999.0,9,     0.0135,1,     4.6258,1,     -999.0,9,     -999.0,9,     -999.0,9,     -999.0,9,     -999.0,9
33RR20220613,       P02E,     121,          1,         34,         34,2,20220617,       1930,    30.0023,  -159.4820,       5706,    49.4,2,  20.8668,2,  35.0661,2,  35.0681,2,    229.0,2,   229.2,2,    0.98,2,    0.01,2,    0.00,2,    0.02,3,   1.978,2,   1.197,2,   1.9428,2,  2025.8,2,  2302.8,2,   7.9997,2,    25.02,2, -999.00,9,  -999.0,9, -999.00,9, -999.00,9,        8.3,2, 20220617,     2157,  30.0023,-159.4820,    20.8670,2,     -999.0,9,     -999.0,9,     -999.0,9,     -999.0,9,     0.0147,1,     4.6330,1,     -999.0,9,     -999.0,9,     -999.0,9,     -999.0,9,     -999.0,9
33RR20220613,       P02E,     121,          1,         33,         33,2,20220617,       1930,    30.0023,  -159.4820,       5706,    76.1,2,  19.9568,2,  35.0194,2,  35.0213,2,    224.0,2,   223.4,2,    0.98,2,    0.01,2,    0.00,2,    0.02,3,   2.027,2,   1.230,2,   1.8941,2,  2034.6,2,  2300.0,6,   7.9824,2,    25.02,2, -999.00,9,  -999.0,9, -999.00,9, -999.00,9,        8.5,2, 20220617,     2155,  30.0023,-159.4820,    19.9349,2,     -999.0,9,     -999.0,9,     -999.0,9,     -999.0,9,     0.0159,1,     4.6446,1,     -999.0,9,     -999.0,9,     -999.0,9,     -999.0,9,     -999.0,9
33RR20220613,       P02E,     121,          1,         32,         32,2,20220617,       1930,    30.0023,  -159.4820,       5706,   100.4,2,  18.5552,2,  34.8370,2,  34.8367,2,    230.1,2,   230.7,2,    1.56,2,    0.00,2,    0.00,2,    0.04,3,   2.138,2,   1.276,2,   2.0719,2,  2030.4,2,  2287.3,2,   7.9681,2,    25.01,2, -999.00,9,  -999.0,9, -999.00,9, -999.00,9,        8.7,2, 20220617,     2153,  30.0023,-159.4820,    18.5540,2,     -999.0,9,     -999.0,9,     -999.0,9,     -999.0,9,     0.0244,1,     4.6497,1,     -999.0,9,     -999.0,9,     -999.0,9,     -999.0,9,     -999.0,9
33RR20220613,       P02E,     121,          1,         31,         31,2,20220617,       1930,    30.0023,  -159.4820,       5706,   151.4,2,  16.2061,2,  34.5982,2,  34.5948,2,    207.4,2,   208.3,2,    3.52,2,    3.70,2,    0.02,2,    0.27,3,   2.366,2,   1.445,2,   2.0248,2,  2063.5,2,  2273.8,2,   7.8829,2,    25.02,2, -999.00,9,  -999.0,9, -999.00,9, -999.00,9,       11.9,2, 20220617,     2151,  30.0023,-159.4819,    16.2117,2,     -999.0,9,     -999.0,9,     -999.0,9,     -999.0,9,     0.0202,1,     4.6721,1,     -999.0,9,     -999.0,9,     -999.0,9,     -999.0,9,     -999.0,9
33RR20220613,       P02E,     121,          1,         30,         30,4,20220617,       1930,    30.0023,  -159.4820,       5706,   201.6,3,  14.3206,3,  34.4053,3,-999.0000,9,    204.7,3,  -999.0,9, -999.00,9, -999.00,9, -999.00,9, -999.00,9,-999.000,9,-999.000,9,-999.0000,9,  -999.0,9,  -999.0,9,-999.0000,9,  -999.00,9, -999.00,9,  -999.0,9, -999.00,9, -999.00,9,     -999.0,9, 20220617,     2149,  30.0023,-159.4819,    14.3200,3,     -999.0,9,     -999.0,9,     -999.0,9,     -999.0,9,     0.0125,1,     4.6859,1,     -999.0,9,     -999.0,9,     -999.0,9,     -999.0,9,     -999.0,9
33RR20220613,       P02E,     121,          1,         29,         29,2,20220617,       1930,    30.0023,  -159.4820,       5706,   251.8,2,  12.9566,2,  34.3284,2,  34.3254,2,    217.2,2,   217.1,2,    8.31,2,    8.78,2,    0.00,2,    0.54,3,   2.713,2,   1.632,2,   2.1821,2,  2084.5,2,  2263.5,2,   7.8193,2,    25.02,2, -999.00,9,  -999.0,9, -999.00,9, -999.00,9,       15.3,2, 20220617,     2147,  30.0023,-159.4820,    12.9699,2,     -999.0,9,     -999.0,9,     -999.0,9,     -999.0,9,     0.0122,1,     4.6876,1,     -999.0,9,     -999.0,9,     -999.0,9,     -999.0,9,     -999.0,9
33RR20220613,       P02E,     121,          1,         28,         28,2,20220617,       1930,    30.0023,  -159.4820,       5706,   301.9,2,  11.8525,2,  34.2559,2,  34.2526,2,    214.5,2,   215.0,2,   11.83,2,   11.39,2,    0.00,2,    0.69,3,   2.832,2,   1.691,2,   2.0231,2,  2097.2,2,  2261.6,2,   7.7875,2,    25.02,2, -999.00,9,  -999.0,9, -999.00,9, -999.00,9,       17.1,2, 20220617,     2145,  30.0023,-159.4820,    11.8516,2,     -999.0,9,     -999.0,9,     -999.0,9,     -999.0,9,     0.0122,1,     4.6898,1,     -999.0,9,     -999.0,9,     -999.0,9,     -999.0,9,     -999.0,9
33RR20220613,       P02E,     121,          1,         27,         27,2,20220617,       1930,    30.0023,  -159.4820,       5706,   352.4,2,  10.7009,2,  34.1726,2,  34.1738,2,    210.5,2,   210.9,2,   15.94,2,   14.03,2,    0.00,2,    0.84,3,   2.947,2,   1.737,2,   1.9002,2,  2111.8,2,  2261.2,2,   7.7518,2,    25.03,2, -999.00,9,  -999.0,9, -999.00,9, -999.00,9,       18.6,2, 20220617,     2144,  30.0023,-159.4820,    10.7106,2,     -999.0,9,     -999.0,9,     -999.0,9,     -999.0,9,     0.0122,1,     4.6915,1,     -999.0,9,     -999.0,9,     -999.0,9,     -999.0,9,     -999.0,9
33RR20220613,       P02E,     121,          1,         26,         26,2,20220617,       1930,    30.0023,  -159.4820,       5706,   403.5,2,   9.6417,2,  34.0973,2,  34.0958,2,    200.5,2,   201.0,2,   21.32,2,   17.09,2,    0.00,2,    1.04,3,   3.030,2,   1.752,2,   1.7329,2,  2129.1,2,  2262.5,2,   7.7071,2,    25.03,2, -999.00,9,  -999.0,9, -999.00,9, -999.00,9,       20.9,2, 20220617,     2140,  30.0023,-159.4820,     9.6531,2,     -999.0,9,     -999.0,9,     -999.0,9,     -999.0,9,     0.0122,1,     4.6936,1,     -999.0,9,     -999.0,9,     -999.0,9,     -999.0,9,     -999.0,9
33RR20220613,       P02E,     121,          1,         25,         25,2,20220617,       1930,    30.0023,  -159.4820,       5706,   503.9,2,   7.6608,2,  34.0149,2,  34.0113,2,    156.9,2,   156.2,2,   39.71,2,   25.39,2,    0.00,2,    1.58,3,   2.759,2,   1.576,2,   1.1917,2,  2185.8,2,  2271.9,2,   7.5829,2,    25.05,2, -999.00,9,  -999.0,9, -999.00,9, -999.00,9,       28.2,2, 20220617,     2138,  30.0023,-159.4820,     7.6550,2,     -999.0,9,     -999.0,9,     -999.0,9,     -999.0,9,     0.0130,1,     4.6959,1,     -999.0,9,     -999.0,9,     -999.0,9,     -999.0,9,     -999.0,9
33RR20220613,       P02E,     121,          1,         24,         24,2,20220617,       1930,    30.0023,  -159.4820,       5706,   605.1,2,   5.9337,2,  34.0025,2,  34.0025,2,    105.6,2,   105.7,2,   62.10,2,   33.21,2,    0.00,2,    2.14,3,   2.087,2,   1.178,2,   0.6869,2,  2245.3,2,  2288.2,2,   7.4557,2,    25.03,2, -999.00,9,  -999.0,9, -999.00,9, -999.00,9,       37.3,2, 20220617,     2135,  30.0023,-159.4820,     5.9319,2,     -999.0,9,     -999.0,9,     -999.0,9,     -999.0,9,     0.0125,1,     4.6971,1,     -999.0,9,     -999.0,9,     -999.0,9,     -999.0,9,     -999.0,9
33RR20220613,       P02E,     121,          1,         23,         23,2,20220617,       1930,    30.0023,  -159.4820,       5706,   706.6,2,   4.8837,2,  34.0871,2,  34.0897,2,     53.5,2,    53.0,2,   85.96,2,   39.55,2,    0.00,2,    2.63,3,   1.041,2,   0.573,2,   0.3325,2,  2299.5,2,  2310.1,2,   7.3500,2,    25.02,2, -999.00,9,  -999.0,9, -999.00,9, -999.00,9,       48.8,2, 20220617,     2132,  30.0023,-159.4820,     4.8889,2,     -999.0,9,     -999.0,9,     -999.0,9,     -999.0,9,     0.0133,1,     4.6980,1,     -999.0,9,     -999.0,9,     -999.0,9,     -999.0,9,     -999.0,9
33RR20220613,       P02E,     121,          1,         22,         22,2,20220617,       1930,    30.0023,  -159.4820,       5706,   807.5,2,   4.3073,2,  34.1869,2,  34.1862,2,     26.1,3,    26.4,2,  102.77,2,   42.50,2,    0.00,2,    2.88,4,   0.410,2,   0.230,2,   0.1740,2,  2332.7,2,  2329.6,2,   7.3090,2,    25.04,2, -999.00,9,  -999.0,9, -999.00,9, -999.00,9,       59.2,2, 20220617,     2129,  30.0023,-159.4820,     4.3058,2,     -999.0,9,     -999.0,9,     -999.0,9,     -999.0,9,     0.0134,1,     4.6982,1,     -999.0,9,     -999.0,9,     -999.0,9,     -999.0,9,     -999.0,9
33RR20220613,       P02E,     121,          1,         21,         21,2,20220617,       1930,    30.0023,  -159.4820,       5706,   908.4,2,   3.9846,2,  34.2817,2,  34.2776,2,     18.2,2,    18.3,2,  113.33,2,   43.37,2,    0.00,2,    3.01,4,   0.143,2,   0.089,2,   0.0000,2,  2350.5,2,  2346.1,2,   7.3061,2,    25.01,2, -999.00,9,  -999.0,9, -999.00,9, -999.00,9,       63.0,2, 20220617,     2127,  30.0023,-159.4820,     3.9833,2,     -999.0,9,     -999.0,9,     -999.0,9,     -999.0,9,     0.0134,1,     4.6983,1,     -999.0,9,     -999.0,9,     -999.0,9,     -999.0,9,     -999.0,9
33RR20220613,       P02E,     121,          1,         20,         20,2,20220617,       1930,    30.0023,  -159.4820,       5706,  1010.0,2,   3.7006,2,  34.3625,2,  34.3619,2,     19.2,2,    19.4,2,  122.12,2,   43.72,2,    0.00,2,    3.09,4,   0.046,2,   0.031,2,   0.0000,2,  -999.0,9,  -999.0,9,-999.0000,9,  -999.00,9, -999.00,9,  -999.0,9, -999.00,9, -999.00,9,       62.5,2, 20220617,     2123,  30.0023,-159.4820,     3.6996,2,     -999.0,9,     -999.0,9,     -999.0,9,     -999.0,9,     0.0133,1,     4.6983,1,     -999.0,9,     -999.0,9,     -999.0,9,     -999.0,9,     -999.0,9
33RR20220613,       P02E,     121,          1,         19,         38,2,20220617,       1930,    30.0023,  -159.4820,       5706,  1110.4,2,   3.5041,2,  34.4253,2,  34.4237,2,     27.8,3,    28.6,2,  126.42,2,   43.69,2,    0.00,2,    3.08,4,   0.031,2,   0.016,2,   0.0000,2,  2362.5,2,  2370.2,2,   7.3422,2,    25.00,2, -999.00,9,  -999.0,9, -999.00,9, -999.00,9,       58.2,2, 20220617,     2121,  30.0023,-159.4820,     3.5046,2,     -999.0,9,     -999.0,9,     -999.0,9,     -999.0,9,     0.0134,1,     4.6988,1,     -999.0,9,     -999.0,9,     -999.0,9,     -999.0,9,     -999.0,9
33RR20220613,       P02E,     121,          1,         18,         18,2,20220617,       1930,    30.0023,  -159.4820,       5706,  1211.5,2,   3.2857,2,  34.4672,2,  34.4655,2,     34.9,2,    35.0,2,  131.30,2,   43.24,2,    0.00,2,    3.09,4,   0.013,2,   0.011,2,   0.0000,2,  2363.2,2,  2378.1,2,   7.3593,2,    24.99,2, -999.00,9,  -999.0,9, -999.00,9, -999.00,9,       54.2,2, 20220617,     2118,  30.0023,-159.4820,     3.2852,2,     -999.0,9,     -999.0,9,     -999.0,9,     -999.0,9,     0.0134,1,     4.6994,1,     -999.0,9,     -999.0,9,     -999.0,9,     -999.0,9,     -999.0,9
33RR20220613,       P02E,     121,          1,         17,         37,3,20220617,       1930,    30.0023,  -159.4820,       5706,  1313.2,3,   3.1007,3,  34.5001,3,  34.4977,3,     43.5,3,  -999.0,9,  134.82,3,   42.73,3,    0.00,3,    3.07,4,-999.000,9,-999.000,9,-999.0000,9,  -999.0,9,  -999.0,9,-999.0000,9,  -999.00,9, -999.00,9,  -999.0,9, -999.00,9, -999.00,9,     -999.0,9, 20220617,     2115,  30.0023,-159.4820,     3.1010,3,     -999.0,9,     -999.0,9,     -999.0,9,     -999.0,9,     0.0134,1,     4.6997,1,     -999.0,9,     -999.0,9,     -999.0,9,     -999.0,9,     -999.0,9
33RR20220613,       P02E,     121,          1,         16,         16,2,20220617,       1930,    30.0023,  -159.4820,       5706,  1414.4,2,   2.9107,2,  34.5255,2,  34.5241,2,     50.9,2,    50.8,2,  138.72,2,   42.34,2,    0.00,2,    3.07,4,   0.008,2,   0.007,2,   0.0000,2,  -999.0,9,  -999.0,9,-999.0000,9,  -999.00,9, -999.00,9,  -999.0,9, -999.00,9, -999.00,9,       46.7,2, 20220617,     2112,  30.0023,-159.4820,     2.9115,2,     -999.0,9,     -999.0,9,     -999.0,9,     -999.0,9,     0.0128,1,     4.7008,1,     -999.0,9,     -999.0,9,     -999.0,9,     -999.0,9,     -999.0,9
33RR20220613,       P02E,     121,          1,         15,         15,2,20220617,       1930,    30.0023,  -159.4820,       5706,  1618.2,2,   2.5370,2,  34.5644,2,  34.5637,2,     64.3,2,    64.5,2,  147.23,2,   41.55,2,    0.00,2,    3.05,4,   0.008,2,   0.006,2,   0.0000,2,  2364.2,2,  2399.4,2,   7.4216,2,    25.00,2, -999.00,9,  -999.0,9, -999.00,9, -999.00,9,       41.2,2, 20220617,     2108,  30.0023,-159.4820,     2.5371,2,     -999.0,9,     -999.0,9,     -999.0,9,     -999.0,9,     0.0134,1,     4.7019,1,     -999.0,9,     -999.0,9,     -999.0,9,     -999.0,9,     -999.0,9
33RR20220613,       P02E,     121,          1,         14,         14,2,20220617,       1930,    30.0023,  -159.4820,       5706,  1820.7,2,   2.2693,2,  34.5906,2,  34.5891,2,     74.5,2,    74.2,2,  153.19,2,   41.02,2,    0.00,2,    3.05,4,   0.006,2,   0.005,2,   0.0000,2,  -999.0,9,  -999.0,9,-999.0000,9,  -999.00,9, -999.00,9,  -999.0,9, -999.00,9, -999.00,9,       38.4,2, 20220617,     2104,  30.0023,-159.4820,     2.2707,2,     -999.0,9,     -999.0,9,     -999.0,9,     -999.0,9,     0.0134,1,     4.7019,1,     -999.0,9,     -999.0,9,     -999.0,9,     -999.0,9,     -999.0,9
33RR20220613,       P02E,     121,          1,         13,         13,2,20220617,       1930,    30.0023,  -159.4820,       5706,  2022.8,2,   2.0496,2,  34.6109,2,  34.6097,2,     83.4,2,    83.3,2,  158.17,2,   40.39,2,    0.00,2,    3.05,4,   0.003,2,   0.002,2,   0.0000,2,  2363.8,2,  2412.3,2,   7.4568,2,    25.00,2, -999.00,9,  -999.0,9, -999.00,9, -999.00,9,       34.9,2, 20220617,     2059,  30.0023,-159.4820,     2.0491,2,     -999.0,9,     -999.0,9,     -999.0,9,     -999.0,9,     0.0134,1,     4.7029,1,     -999.0,9,     -999.0,9,     -999.0,9,     -999.0,9,     -999.0,9
33RR20220613,       P02E,     121,          1,         12,         12,2,20220617,       1930,    30.0023,  -159.4820,       5706,  2276.4,2,   1.8702,2,  34.6278,2,  34.6260,2,     93.7,2,    93.8,2,  160.51,2,   39.72,2,    0.00,2,    3.01,4,-999.000,9,-999.000,9,-999.0000,9,  -999.0,9,  -999.0,9,-999.0000,9,  -999.00,9, -999.00,9,  -999.0,9, -999.00,9, -999.00,9,     -999.0,9, 20220617,     2054,  30.0023,-159.4820,     1.8701,2,     -999.0,9,     -999.0,9,     -999.0,9,     -999.0,9,     0.0131,1,     4.7032,1,     -999.0,9,     -999.0,9,     -999.0,9,     -999.0,9,     -999.0,9
33RR20220613,       P02E,     121,          1,         11,         11,2,20220617,       1930,    30.0023,  -159.4820,       5706,  2531.3,2,   1.7389,2,  34.6417,2,  34.6413,2,    103.7,2,   103.8,2,  161.59,2,   39.09,2,    0.00,2,    2.97,4,   0.003,2,   0.003,2,   0.0000,2,  2355.7,2,  2418.4,2,   7.4946,2,    24.99,2, -999.00,9,  -999.0,9, -999.00,9, -999.00,9,       30.6,2, 20220617,     2047,  30.0023,-159.4820,     1.7389,2,     -999.0,9,     -999.0,9,     -999.0,9,     -999.0,9,     0.0122,1,     4.7033,1,     -999.0,9,     -999.0,9,     -999.0,9,     -999.0,9,     -999.0,9
33RR20220613,       P02E,     121,          1,         10,         10,2,20220617,       1930,    30.0023,  -159.4820,       5706,  2787.2,2,   1.6439,2,  34.6528,2,  34.6517,2,    111.1,2,   111.2,2,  163.44,2,   38.71,2,    0.00,2,    2.97,4,-999.000,9,-999.000,9,-999.0000,9,  -999.0,9,  -999.0,9,-999.0000,9,  -999.00,9, -999.00,9,  -999.0,9, -999.00,9, -999.00,9,     -999.0,9, 20220617,     2043,  30.0023,-159.4820,     1.6439,2,     -999.0,9,     -999.0,9,     -999.0,9,     -999.0,9,     0.0125,1,     4.7032,1,     -999.0,9,     -999.0,9,     -999.0,9,     -999.0,9,     -999.0,9
33RR20220613,       P02E,     121,          1,          9,          9,2,20220617,       1930,    30.0023,  -159.4820,       5706,  3042.5,2,   1.5762,2,  34.6619,2,  34.6610,2,    120.2,2,   120.5,2,  162.76,2,   38.20,2,    0.00,2,    2.92,4,   0.003,2,   0.002,2,   0.0000,2,  2348.3,2,  2421.5,6,   7.5237,2,    25.00,2, -999.00,9,  -999.0,9, -999.00,9, -999.00,9,       28.0,2, 20220617,     2038,  30.0023,-159.4820,     1.5760,2,     -999.0,9,     -999.0,9,     -999.0,9,     -999.0,9,     0.0134,1,     4.7033,1,     -999.0,9,     -999.0,9,     -999.0,9,     -999.0,9,     -999.0,9
33RR20220613,       P02E,     121,          1,          8,          8,2,20220617,       1930,    30.0023,  -159.4820,       5706,  3347.6,2,   1.5230,2,  34.6704,2,  34.6692,2,    130.0,2,   130.1,2,  160.70,2,   37.56,2,    0.00,2,    2.87,4,-999.000,9,-999.000,9,-999.0000,9,  -999.0,9,  -999.0,9,-999.0000,9,  -999.00,9, -999.00,9,  -999.0,9, -999.00,9, -999.00,9,     -999.0,9, 20220617,     2031,  30.0023,-159.4820,     1.5231,2,     -999.0,9,     -999.0,9,     -999.0,9,     -999.0,9,     0.0122,1,     4.7038,1,     -999.0,9,     -999.0,9,     -999.0,9,     -999.0,9,     -999.0,9
33RR20220613,       P02E,     121,          1,          7,          7,2,20220617,       1930,    30.0023,  -159.4820,       5706,  3654.9,2,   1.4924,2,  34.6769,2,  34.6769,2,    138.1,2,   138.1,2,  158.36,2,   37.12,2,    0.00,2,    2.83,4,   0.005,2,   0.005,2,   0.0000,2,  2335.3,2,  2421.7,2,   7.5549,2,    25.02,2, -999.00,9,  -999.0,9, -999.00,9, -999.00,9,       25.2,2, 20220617,     2025,  30.0023,-159.4820,     1.4924,2,     -999.0,9,     -999.0,9,     -999.0,9,     -999.0,9,     0.0134,1,     4.7044,1,     -999.0,9,     -999.0,9,     -999.0,9,     -999.0,9,     -999.0,9
33RR20220613,       P02E,     121,          1,          6,          6,2,20220617,       1930,    30.0023,  -159.4820,       5706,  4065.6,2,   1.4812,2,  34.6826,2,  34.6814,2,    145.5,2,   145.6,2,  156.30,2,   36.72,2,    0.00,2,    2.81,4,-999.000,9,-999.000,9,-999.0000,9,  -999.0,9,  -999.0,9,-999.0000,9,  -999.00,9, -999.00,9,  -999.0,9, -999.00,9, -999.00,9,     -999.0,9, 20220617,     2017,  30.0023,-159.4820,     1.4812,2,     -999.0,9,     -999.0,9,     -999.0,9,     -999.0,9,     0.0122,1,     4.7043,1,     -999.0,9,     -999.0,9,     -999.0,9,     -999.0,9,     -999.0,9
33RR20220613,       P02E,     121,          1,          5,          5,2,20220617,       1930,    30.0023,  -159.4820,       5706,  4477.9,2,   1.4957,2,  34.6860,2,  34.6849,2,    150.5,2,   150.5,2,  154.35,2,   36.31,2,    0.00,2,    2.76,4,   0.005,2,   0.006,2,   0.0000,2,  2326.2,2,  2419.7,2,   7.5769,2,    25.02,2, -999.00,9,  -999.0,9, -999.00,9, -999.00,9,       24.3,2, 20220617,     2009,  30.0023,-159.4820,     1.4958,2,     -999.0,9,     -999.0,9,     -999.0,9,     -999.0,9,     0.0124,1,     4.7045,1,     -999.0,9,     -999.0,9,     -999.0,9,     -999.0,9,     -999.0,9