BOTTLE,20230830CCHSIOCBG
EXPOCODE,SECT_ID,STNNBR,CASTNO,SAMPNO,BTLNBR,BTLNBR_FLAG_W,DATE,TIME,LATITUDE,LONGITUDE,DEPTH,CTDPRS,CTDPRS_FLAG_W,CTDTMP,CTDTMP_FLAG_W,CTDSAL,CTDSAL_FLAG_W,SALNTY,SALNTY_FLAG_W,CTDOXY,CTDOXY_FLAG_W,OXYGEN,OXYGEN_FLAG_W,SILCAT,SILCAT_FLAG_W,NITRAT,NITRAT_FLAG_W,NITRIT,NITRIT_FLAG_W,PHSPHT,PHSPHT_FLAG_W,CFC-11,CFC-11_FLAG_W,CFC-12,CFC-12_FLAG_W,SF6,SF6_FLAG_W,TCARBN,TCARBN_FLAG_W,ALKALI,ALKALI_FLAG_W,PH_TOT,PH_TOT_FLAG_W,PH_TMP,PH_TMP_FLAG_W,DELC13,DELC13_FLAG_W,DELC14,DELC14_FLAG_W,DOC,DOC_FLAG_W,TDN,TDN_FLAG_W,N2O,N2O_FLAG_W,BTL_DATE,BTL_TIME,BTL_LAT,BTL_LON,REFTMP,REFTMP_FLAG_W,POC,POC_FLAG_W,PON,PON_FLAG_W,POP,POP_FLAG_W,PCOD,PCOD_FLAG_W,CTDFLUOR,CTDFLUOR_FLAG_W,CTDXMISS,CTDXMISS_FLAG_W,HPLC,HPLC_FLAG_W,DNA,DNA_FLAG_W,FCM,FCM_FLAG_W,IMAGES,IMAGES_FLAG_W,VIRAL_ABUNDANCE,VIRAL_ABUNDANCE_FLAG_W
,,,,,,,,,,,METERS,DBAR,,ITS-90,,PSS-78,,PSS-78,,UMOL/KG,,UMOL/KG,,UMOL/KG,,UMOL/KG,,UMOL/KG,,UMOL/KG,,PMOL/KG,,PMOL/KG,,FMOL/KG,,UMOL/KG,,UMOL/KG,,,,DEG C,,/MILLE,,/MILLE,,UMOL/KG,,UMOL/KG,,NMOL/KG,,,,,,ITS-90,,UG/L,,UG/L,,UG/L,,UG/L,,VOLTS,,VOLTS,,,,,,,,,,,
33RR20220613,       P02E,     131,          2,         36,         36,2,20220621,       0716,    30.0007,  -153.7069,       5481,     3.1,2,  24.3515,2,  35.3061,2,  35.3031,2,    213.7,2,   213.3,2,    0.00,2,    0.04,2,    0.00,2,    0.00,4,   1.658,2,   1.050,2,   1.6896,2,  2034.3,2,  2321.3,2,   8.0141,2,    25.00,2, -999.00,9,  -999.0,9, -999.00,9, -999.00,9,        6.9,2, 20220621,      952,  30.0007,-153.7069,    24.3474,2,     -999.0,9,     -999.0,9,     -999.0,9,     -999.0,9,     0.0135,1,     4.6356,1,     -999.0,9,     -999.0,9,     -999.0,9,     -999.0,9,     -999.0,9
33RR20220613,       P02E,     131,          2,         35,         35,2,20220621,       0716,    30.0007,  -153.7069,       5481,    35.9,2,  24.3472,2,  35.3046,2,  35.3047,2,    213.7,2,   214.4,2,    0.00,2,    0.03,2,    0.00,2,    0.00,4,   1.700,2,   1.062,2,   1.7517,2,  2033.0,6,  2322.0,6,   8.0148,2,    24.99,2, -999.00,9,  -999.0,9, -999.00,9, -999.00,9,        7.1,2, 20220621,      950,  30.0007,-153.7069,    24.3467,2,     -999.0,9,     -999.0,9,     -999.0,9,     -999.0,9,     0.0134,1,     4.6383,1,     -999.0,9,     -999.0,9,     -999.0,9,     -999.0,9,     -999.0,9
33RR20220613,       P02E,     131,          2,         34,         34,2,20220621,       0716,    30.0007,  -153.7069,       5481,    61.0,2,  21.5993,2,  35.2460,2,  35.2499,2,    231.0,2,   230.4,2,    0.00,2,    0.02,2,    0.00,2,    0.00,4,   1.902,2,   1.170,2,   1.8662,2,  2032.6,2,  2319.2,2,   8.0109,2,    24.99,2, -999.00,9,  -999.0,9, -999.00,9, -999.00,9,        7.5,2, 20220621,      948,  30.0007,-153.7069,    21.5996,2,     -999.0,9,     -999.0,9,     -999.0,9,     -999.0,9,     0.0153,1,     4.6303,1,     -999.0,9,     -999.0,9,     -999.0,9,     -999.0,9,     -999.0,9
33RR20220613,       P02E,     131,          2,         33,         33,2,20220621,       0716,    30.0007,  -153.7069,       5481,    85.9,2,  20.9318,2,  35.2050,2,-999.0000,9,    229.7,2,  -999.0,9, -999.00,9, -999.00,9, -999.00,9, -999.00,9,-999.000,9,-999.000,9,-999.0000,9,  -999.0,9,  -999.0,9,-999.0000,9,  -999.00,9, -999.00,9,  -999.0,9, -999.00,9, -999.00,9,     -999.0,9, 20220621,      945,  30.0007,-153.7069,    20.9283,2,     -999.0,9,     -999.0,9,     -999.0,9,     -999.0,9,     0.0163,1,     4.6361,1,     -999.0,9,     -999.0,9,     -999.0,9,     -999.0,9,     -999.0,9
33RR20220613,       P02E,     131,          2,         32,         32,2,20220621,       0716,    30.0007,  -153.7069,       5481,   116.2,2,  20.5209,2,  35.2068,2,  35.2101,2,    228.6,2,   228.3,2,    0.20,2,    0.00,2,    0.00,2,    0.00,4,   1.937,2,   1.196,2,   1.8367,2,  2040.4,2,  2315.8,2,   7.9937,2,    25.00,2, -999.00,9,  -999.0,9, -999.00,9, -999.00,9,        7.7,2, 20220621,      940,  30.0007,-153.7069,    20.5180,2,     -999.0,9,     -999.0,9,     -999.0,9,     -999.0,9,     0.0185,1,     4.6531,1,     -999.0,9,     -999.0,9,     -999.0,9,     -999.0,9,     -999.0,9
33RR20220613,       P02E,     131,          2,         31,         31,2,20220621,       0716,    30.0007,  -153.7069,       5481,   166.8,2,  18.1623,2,  34.7919,2,  34.7909,2,    219.3,2,   219.9,2,    0.68,2,    0.33,2,    0.15,2,    0.05,4,   2.112,2,   1.316,2,   2.0205,2,  2051.0,2,  2287.1,2,   7.9391,2,    24.99,2, -999.00,9,  -999.0,9, -999.00,9, -999.00,9,       10.3,2, 20220621,      939,  30.0007,-153.7069,    18.1583,2,     -999.0,9,     -999.0,9,     -999.0,9,     -999.0,9,     0.0252,1,     4.6693,1,     -999.0,9,     -999.0,9,     -999.0,9,     -999.0,9,     -999.0,9
33RR20220613,       P02E,     131,          2,         30,         17,2,20220621,       0716,    30.0007,  -153.7069,       5481,   217.0,2,  14.5641,2,  34.3730,2,  34.3749,2,    211.3,2,   210.8,2,    3.91,2,    5.10,2,    0.00,2,    0.33,4,   2.463,2,   1.525,2,   2.0873,2,  2070.9,2,  2261.9,2,   7.8486,2,    25.00,2, -999.00,9,  -999.0,9, -999.00,9, -999.00,9,       14.2,2, 20220621,      936,  30.0007,-153.7069,    14.5534,2,     -999.0,9,     -999.0,9,     -999.0,9,     -999.0,9,     0.0134,1,     4.6836,1,     -999.0,9,     -999.0,9,     -999.0,9,     -999.0,9,     -999.0,9
33RR20220613,       P02E,     131,          2,         29,         29,2,20220621,       0716,    30.0007,  -153.7069,       5481,   267.4,2,  13.0112,2,  34.2842,2,  34.2836,2,    212.0,2,   212.4,2,    7.04,2,    8.64,2,    0.00,2,    0.51,4,   2.663,2,   1.620,2,   2.0150,2,  2085.4,2,  2259.0,2,   7.8138,2,    25.00,2, -999.00,9,  -999.0,9, -999.00,9, -999.00,9,       14.7,2, 20220621,      934,  30.0007,-153.7069,    13.0190,2,     -999.0,9,     -999.0,9,     -999.0,9,     -999.0,9,     0.0122,1,     4.6886,1,     -999.0,9,     -999.0,9,     -999.0,9,     -999.0,9,     -999.0,9
33RR20220613,       P02E,     131,          2,         28,         28,2,20220621,       0716,    30.0007,  -153.7069,       5481,   318.4,2,  11.5973,2,  34.2014,2,  34.1999,2,    209.6,2,   210.1,2,   11.24,2,   11.99,2,    0.00,2,    0.71,4,-999.000,5,-999.000,5,-999.0000,5,  2101.5,2,  -999.0,9,   7.7720,2,    25.01,2, -999.00,9,  -999.0,9, -999.00,9, -999.00,9,     -999.0,5, 20220621,      931,  30.0007,-153.7069,    11.5997,2,     -999.0,9,     -999.0,9,     -999.0,9,     -999.0,9,     0.0122,1,     4.6900,1,     -999.0,9,     -999.0,9,     -999.0,9,     -999.0,9,     -999.0,9
33RR20220613,       P02E,     131,          2,         27,         27,2,20220621,       0716,    30.0007,  -153.7069,       5481,   368.0,2,  10.5122,2,  34.1450,2,  34.1403,2,    207.8,2,   208.4,2,   15.84,2,   14.59,2,    0.00,2,    0.86,4,   2.935,2,   1.768,2,   1.8626,2,  2117.0,2,  2260.8,2,   7.7399,2,    25.01,2, -999.00,9,  -999.0,9, -999.00,9, -999.00,9,       19.0,2, 20220621,      928,  30.0007,-153.7069,    10.5108,2,     -999.0,9,     -999.0,9,     -999.0,9,     -999.0,9,     0.0122,1,     4.6933,1,     -999.0,9,     -999.0,9,     -999.0,9,     -999.0,9,     -999.0,9
33RR20220613,       P02E,     131,          2,         26,         26,2,20220621,       0716,    30.0007,  -153.7069,       5481,   438.8,2,   9.1173,2,  34.0632,2,  34.0629,2,    191.9,2,   191.8,2,   24.34,2,   18.86,2,    0.00,2,    1.14,4,   2.958,2,   1.747,2,   1.5404,2,  -999.0,9,  -999.0,9,-999.0000,9,  -999.00,9, -999.00,9,  -999.0,9, -999.00,9, -999.00,9,       21.9,2, 20220621,      926,  30.0007,-153.7069,     9.1116,2,     -999.0,9,     -999.0,9,     -999.0,9,     -999.0,9,     0.0122,1,     4.6949,1,     -999.0,9,     -999.0,9,     -999.0,9,     -999.0,9,     -999.0,9
33RR20220613,       P02E,     131,          2,         25,         25,2,20220621,       0716,    30.0007,  -153.7069,       5481,   540.3,2,   7.1491,2,  34.0021,2,  34.0012,2,    141.2,2,   141.2,2,   44.68,2,   27.52,2,    0.00,2,    1.73,4,   2.605,2,   1.515,2,   0.9492,2,  2202.1,2,  -999.0,9,   7.5428,2,    25.00,2, -999.00,9,  -999.0,9, -999.00,9, -999.00,9,       29.2,2, 20220621,      922,  30.0007,-153.7069,     7.1481,2,     -999.0,9,     -999.0,9,     -999.0,9,     -999.0,9,     0.0131,1,     4.6962,1,     -999.0,9,     -999.0,9,     -999.0,9,     -999.0,9,     -999.0,9
33RR20220613,       P02E,     131,          2,         24,         24,2,20220621,       0716,    30.0007,  -153.7069,       5481,   641.2,2,   5.5512,2,  34.0126,2,  34.0113,2,     87.8,2,    87.9,2,   69.02,2,   35.37,2,    0.00,2,    2.29,4,   1.892,2,   1.036,2,   0.5578,2,  2262.8,2,  2295.2,2,   7.4144,2,    25.00,2, -999.00,9,  -999.0,9, -999.00,9, -999.00,9,       39.4,2, 20220621,      919,  30.0007,-153.7069,     5.5513,2,     -999.0,9,     -999.0,9,     -999.0,9,     -999.0,9,     0.0134,1,     4.6971,1,     -999.0,9,     -999.0,9,     -999.0,9,     -999.0,9,     -999.0,9
33RR20220613,       P02E,     131,          2,         23,         23,2,20220621,       0716,    30.0007,  -153.7069,       5481,   741.5,2,   4.6115,2,  34.1178,2,  34.1232,2,     39.2,2,    39.2,2,   93.85,2,   40.91,2,    0.00,2,    2.74,4,   0.748,2,   0.412,2,   0.2036,2,  -999.0,9,  -999.0,9,-999.0000,9,  -999.00,9, -999.00,9,  -999.0,9, -999.00,9, -999.00,9,       49.2,2, 20220621,      916,  30.0007,-153.7069,     4.6120,2,     -999.0,9,     -999.0,9,     -999.0,9,     -999.0,9,     0.0134,1,     4.6981,1,     -999.0,9,     -999.0,9,     -999.0,9,     -999.0,9,     -999.0,9
33RR20220613,       P02E,     131,          2,         22,         22,2,20220621,       0716,    30.0007,  -153.7069,       5481,   842.9,2,   4.2382,2,  34.2234,2,  34.2234,2,     19.4,3,    19.1,2,  107.13,2,   42.93,2,    0.00,2,    2.92,4,   0.232,2,   0.137,2,   0.0880,2,  2341.8,2,  -999.0,9,   7.2989,2,    25.01,2, -999.00,9,  -999.0,9, -999.00,9, -999.00,9,       53.1,2, 20220621,      912,  30.0007,-153.7069,     4.2372,2,     -999.0,9,     -999.0,9,     -999.0,9,     -999.0,9,     0.0134,1,     4.6981,1,     -999.0,9,     -999.0,9,     -999.0,9,     -999.0,9,     -999.0,9
33RR20220613,       P02E,     131,          2,         21,         21,2,20220621,       0716,    30.0007,  -153.7069,       5481,   944.8,2,   3.8898,2,  34.3136,2,  34.3154,2,     14.0,3,    13.7,2,  119.25,2,   43.94,2,    0.00,2,    3.04,4,   0.053,2,   0.038,2,   0.0000,2,  2359.0,2,  2354.3,2,   7.3004,2,    24.99,2, -999.00,9,  -999.0,9, -999.00,9, -999.00,9,       57.6,2, 20220621,      909,  30.0007,-153.7068,     3.8851,2,     -999.0,9,     -999.0,9,     -999.0,9,     -999.0,9,     0.0134,1,     4.6977,1,     -999.0,9,     -999.0,9,     -999.0,9,     -999.0,9,     -999.0,9
33RR20220613,       P02E,     131,          2,         20,         20,2,20220621,       0716,    30.0007,  -153.7069,       5481,  1045.7,2,   3.6064,2,  34.3881,2,  34.3868,2,     17.2,3,    16.3,2,  127.35,2,   43.84,2,    0.00,2,    3.09,4,   0.017,2,   0.016,2,   0.0000,2,  2366.8,2,  -999.0,9,   7.3154,2,    25.02,2, -999.00,9,  -999.0,9, -999.00,9, -999.00,9,       56.9,2, 20220621,      906,  30.0007,-153.7069,     3.6062,2,     -999.0,9,     -999.0,9,     -999.0,9,     -999.0,9,     0.0134,1,     4.6973,1,     -999.0,9,     -999.0,9,     -999.0,9,     -999.0,9,     -999.0,9
33RR20220613,       P02E,     131,          2,         19,         39,2,20220621,       0716,    30.0007,  -153.7069,       5481,  1146.9,2,   3.3573,2,  34.4483,2,  34.4473,2,     25.7,2,    25.7,2,  132.92,2,   43.45,2,    0.00,2,    3.08,4,   0.014,2,   0.011,2,   0.0000,2,  -999.0,9,  -999.0,9,-999.0000,9,  -999.00,9, -999.00,9,  -999.0,9, -999.00,9, -999.00,9,       53.8,2, 20220621,      902,  30.0007,-153.7069,     3.3584,2,     -999.0,9,     -999.0,9,     -999.0,9,     -999.0,9,     0.0134,1,     4.6982,1,     -999.0,9,     -999.0,9,     -999.0,9,     -999.0,9,     -999.0,9
33RR20220613,       P02E,     131,          2,         18,         18,2,20220621,       0716,    30.0007,  -153.7069,       5481,  1248.4,2,   3.1520,2,  34.4869,2,  34.4862,2,     34.0,2,    34.0,2,  137.70,2,   43.05,2,    0.00,2,    3.07,4,-999.000,5,-999.000,5,-999.0000,5,  -999.0,9,  -999.0,9,-999.0000,9,  -999.00,9, -999.00,9,  -999.0,9, -999.00,9, -999.00,9,     -999.0,5, 20220621,      859,  30.0007,-153.7069,     3.1509,2,     -999.0,9,     -999.0,9,     -999.0,9,     -999.0,9,     0.0134,1,     4.6989,1,     -999.0,9,     -999.0,9,     -999.0,9,     -999.0,9,     -999.0,9
33RR20220613,       P02E,     131,          2,         17,         37,2,20220621,       0716,    30.0007,  -153.7069,       5481,  1349.0,2,   2.9866,2,  34.5122,2,  34.5115,2,     41.7,2,    41.8,2,  140.53,2,   42.88,2,    0.00,2,    3.05,4,   0.007,2,   0.005,2,   0.0000,2,  2368.5,2,  2392.4,2,   7.3734,2,    25.01,2, -999.00,9,  -999.0,9, -999.00,9, -999.00,9,       40.6,2, 20220621,      855,  30.0006,-153.7068,     2.9859,2,     -999.0,9,     -999.0,9,     -999.0,9,     -999.0,9,     0.0134,1,     4.6992,1,     -999.0,9,     -999.0,9,     -999.0,9,     -999.0,9,     -999.0,9
33RR20220613,       P02E,     131,          2,         16,         16,3,20220621,       0716,    30.0007,  -153.7069,       5481,  1481.0,3,   2.7059,3,  34.5460,3,  34.5461,3,     51.9,3,    52.3,3,  147.66,3,   42.32,3,    0.00,3,    3.06,4,-999.000,9,-999.000,9,-999.0000,9,  -999.0,9,  -999.0,9,-999.0000,9,  -999.00,9, -999.00,9,  -999.0,9, -999.00,9, -999.00,9,     -999.0,9, 20220621,      852,  30.0008,-153.7069,     2.7057,3,     -999.0,9,     -999.0,9,     -999.0,9,     -999.0,9,     0.0134,1,     4.7005,1,     -999.0,9,     -999.0,9,     -999.0,9,     -999.0,9,     -999.0,9
33RR20220613,       P02E,     131,          2,         15,         15,3,20220621,       0716,    30.0007,  -153.7069,       5481,  1682.6,3,   2.4009,3,  34.5751,3,  34.5755,3,     59.2,3,    60.1,3,  156.55,3,   41.93,3,    0.00,3,    3.09,4,-999.000,9,-999.000,9,-999.0000,9,  -999.0,9,  -999.0,9,-999.0000,9,  -999.00,9, -999.00,9,  -999.0,9, -999.00,9, -999.00,9,     -999.0,9, 20220621,      847,  30.0007,-153.7068,     2.4013,3,     -999.0,9,     -999.0,9,     -999.0,9,     -999.0,9,     0.0134,1,     4.7006,1,     -999.0,9,     -999.0,9,     -999.0,9,     -999.0,9,     -999.0,9
33RR20220613,       P02E,     131,          2,         14,         14,2,20220621,       0716,    30.0007,  -153.7069,       5481,  1886.6,2,   2.1508,2,  34.5995,2,  34.5989,2,     69.4,2,    69.5,2,  163.59,2,   41.34,2,    0.00,2,    3.09,4,   0.006,2,   0.006,2,   0.0000,2,  2374.1,2,  2415.2,2,   7.4297,2,    25.01,2, -999.00,9,  -999.0,9, -999.00,9, -999.00,9,       35.1,2, 20220621,      842,  30.0008,-153.7069,     2.1507,2,     -999.0,9,     -999.0,9,     -999.0,9,     -999.0,9,     0.0134,1,     4.7017,1,     -999.0,9,     -999.0,9,     -999.0,9,     -999.0,9,     -999.0,9
33RR20220613,       P02E,     131,          2,         13,         13,2,20220621,       0716,    30.0007,  -153.7069,       5481,  2110.8,2,   1.9378,2,  34.6208,2,  34.6205,2,     82.6,2,    82.6,2,  167.40,2,   40.47,2,    0.00,2,    3.05,4,   0.003,2,   0.005,2,   0.0000,2,  2370.5,2,  2423.0,6,   7.4554,2,    25.02,2, -999.00,9,  -999.0,9, -999.00,9, -999.00,9,       32.5,2, 20220621,      836,  30.0008,-153.7068,     1.9374,2,     -999.0,9,     -999.0,9,     -999.0,9,     -999.0,9,     0.0134,1,     4.7021,1,     -999.0,9,     -999.0,9,     -999.0,9,     -999.0,9,     -999.0,9
33RR20220613,       P02E,     131,          2,         12,         12,2,20220621,       0716,    30.0007,  -153.7069,       5481,  2364.9,2,   1.7931,2,  34.6368,2,  34.6364,2,     93.9,2,    94.2,2,  169.45,2,   39.65,2,    0.00,2,    3.01,4,   0.004,2,   0.002,2,   0.0000,2,  -999.0,9,  -999.0,9,-999.0000,9,  -999.00,9, -999.00,9,  -999.0,9, -999.00,9, -999.00,9,       29.3,2, 20220621,      830,  30.0008,-153.7068,     1.7933,2,     -999.0,9,     -999.0,9,     -999.0,9,     -999.0,9,     0.0133,1,     4.7016,1,     -999.0,9,     -999.0,9,     -999.0,9,     -999.0,9,     -999.0,9
33RR20220613,       P02E,     131,          2,         11,         11,2,20220621,       0716,    30.0007,  -153.7069,       5481,  2620.4,2,   1.6777,2,  34.6498,2,  34.6482,2,    105.4,2,   105.2,2,  169.44,2,   39.01,2,    0.00,2,    2.98,4,   0.005,2,   0.004,2,   0.0000,2,  2360.1,2,  2425.9,2,   7.4971,2,    25.01,2, -999.00,9,  -999.0,9, -999.00,9, -999.00,9,       27.4,2, 20220621,      824,  30.0008,-153.7068,     1.6775,2,     -999.0,9,     -999.0,9,     -999.0,9,     -999.0,9,     0.0129,1,     4.7033,1,     -999.0,9,     -999.0,9,     -999.0,9,     -999.0,9,     -999.0,9
33RR20220613,       P02E,     131,          2,         10,         10,2,20220621,       0716,    30.0007,  -153.7069,       5481,  2875.0,2,   1.5906,2,  34.6606,2,  34.6598,2,    117.2,2,   117.2,2,  167.10,2,   38.13,2,    0.00,2,    2.90,4,   0.003,2,   0.000,2,   0.0000,2,  -999.0,9,  -999.0,9,-999.0000,9,  -999.00,9, -999.00,9,  -999.0,9, -999.00,9, -999.00,9,       27.3,2, 20220621,      818,  30.0008,-153.7068,     1.5907,2,     -999.0,9,     -999.0,9,     -999.0,9,     -999.0,9,     0.0122,1,     4.7033,1,     -999.0,9,     -999.0,9,     -999.0,9,     -999.0,9,     -999.0,9
33RR20220613,       P02E,     131,          2,          9,          9,2,20220621,       0716,    30.0007,  -153.7069,       5481,  3145.1,2,   1.5465,2,  34.6679,2,  34.6665,2,    124.7,2,   125.0,2,  166.22,2,   37.88,2,    0.00,2,    2.85,4,   0.003,2,   0.002,2,   0.0000,2,  2349.5,2,  -999.0,9,   7.5337,2,    25.01,2, -999.00,9,  -999.0,9, -999.00,9, -999.00,9,       25.1,2, 20220621,      812,  30.0008,-153.7069,     1.5460,2,     -999.0,9,     -999.0,9,     -999.0,9,     -999.0,9,     0.0122,1,     4.7043,1,     -999.0,9,     -999.0,9,     -999.0,9,     -999.0,9,     -999.0,9
33RR20220613,       P02E,     131,          2,          8,          8,2,20220621,       0716,    30.0007,  -153.7069,       5481,  3451.2,2,   1.5022,2,  34.6760,2,  34.6751,2,    134.1,2,   134.1,2,  161.92,4,   36.70,4,    0.00,4,    2.77,4,   0.004,2,   0.004,2,   0.0000,2,  -999.0,9,  -999.0,9,-999.0000,9,  -999.00,9, -999.00,9,  -999.0,9, -999.00,9, -999.00,9,       23.3,2, 20220621,      805,  30.0008,-153.7068,     1.5022,2,     -999.0,9,     -999.0,9,     -999.0,9,     -999.0,9,     0.0125,1,     4.7046,1,     -999.0,9,     -999.0,9,     -999.0,9,     -999.0,9,     -999.0,9
33RR20220613,       P02E,     131,          2,          7,          7,2,20220621,       0716,    30.0007,  -153.7069,       5481,  3758.7,2,   1.4869,2,  34.6802,2,  34.6791,2,    140.2,2,   140.3,2,  163.77,2,   37.13,2,    0.00,2,    2.81,4,   0.003,2,   0.004,2,   0.0000,2,  2335.7,2,  2426.5,2,   7.5607,2,    25.01,2, -999.00,9,  -999.0,9, -999.00,9, -999.00,9,       23.3,2, 20220621,      759,  30.0008,-153.7068,     1.4868,2,     -999.0,9,     -999.0,9,     -999.0,9,     -999.0,9,     0.0121,1,     4.7046,1,     -999.0,9,     -999.0,9,     -999.0,9,     -999.0,9,     -999.0,9
33RR20220613,       P02E,     131,          2,          6,          6,2,20220621,       0716,    30.0007,  -153.7069,       5481,  4066.8,2,   1.4834,2,  34.6834,2,  34.6848,2,    145.1,2,   145.2,2,  159.77,2,   36.50,2,    0.00,2,    2.75,4,   0.008,2,   0.007,2,   0.0000,2,  -999.0,9,  -999.0,9,-999.0000,9,  -999.00,9, -999.00,9,  -999.0,9, -999.00,9, -999.00,9,       22.7,2, 20220621,      752,  30.0008,-153.7068,     1.4833,2,     -999.0,9,     -999.0,9,     -999.0,9,     -999.0,9,     0.0122,1,     4.7048,1,     -999.0,9,     -999.0,9,     -999.0,9,     -999.0,9,     -999.0,9
33RR20220613,       P02E,     131,          2,          5,          5,2,20220621,       0716,    30.0007,  -153.7069,       5481,  4373.0,2,   1.4916,2,  34.6858,2,  34.6851,2,    149.1,2,   149.0,2,  158.01,2,   36.26,2,    0.00,2,    2.72,4,   0.004,2,   0.005,2,   0.0000,2,  2330.4,2,  -999.0,9,   7.5759,2,    25.02,2, -999.00,9,  -999.0,9, -999.00,9, -999.00,9,       23.1,2, 20220621,      745,  30.0008,-153.7068,     1.4916,2,     -999.0,9,     -999.0,9,     -999.0,9,     -999.0,9,     0.0122,1,     4.7044,1,     -999.0,9,     -999.0,9,     -999.0,9,     -999.0,9,     -999.0,9