BOTTLE,20230830CCHSIOCBG
EXPOCODE,SECT_ID,STNNBR,CASTNO,SAMPNO,BTLNBR,BTLNBR_FLAG_W,DATE,TIME,LATITUDE,LONGITUDE,DEPTH,CTDPRS,CTDPRS_FLAG_W,CTDTMP,CTDTMP_FLAG_W,CTDSAL,CTDSAL_FLAG_W,SALNTY,SALNTY_FLAG_W,CTDOXY,CTDOXY_FLAG_W,OXYGEN,OXYGEN_FLAG_W,SILCAT,SILCAT_FLAG_W,NITRAT,NITRAT_FLAG_W,NITRIT,NITRIT_FLAG_W,PHSPHT,PHSPHT_FLAG_W,CFC-11,CFC-11_FLAG_W,CFC-12,CFC-12_FLAG_W,SF6,SF6_FLAG_W,TCARBN,TCARBN_FLAG_W,ALKALI,ALKALI_FLAG_W,PH_TOT,PH_TOT_FLAG_W,PH_TMP,PH_TMP_FLAG_W,DELC13,DELC13_FLAG_W,DELC14,DELC14_FLAG_W,DOC,DOC_FLAG_W,TDN,TDN_FLAG_W,N2O,N2O_FLAG_W,BTL_DATE,BTL_TIME,BTL_LAT,BTL_LON,REFTMP,REFTMP_FLAG_W,POC,POC_FLAG_W,PON,PON_FLAG_W,POP,POP_FLAG_W,PCOD,PCOD_FLAG_W,CTDFLUOR,CTDFLUOR_FLAG_W,CTDXMISS,CTDXMISS_FLAG_W,HPLC,HPLC_FLAG_W,DNA,DNA_FLAG_W,FCM,FCM_FLAG_W,IMAGES,IMAGES_FLAG_W,VIRAL_ABUNDANCE,VIRAL_ABUNDANCE_FLAG_W
,,,,,,,,,,,METERS,DBAR,,ITS-90,,PSS-78,,PSS-78,,UMOL/KG,,UMOL/KG,,UMOL/KG,,UMOL/KG,,UMOL/KG,,UMOL/KG,,PMOL/KG,,PMOL/KG,,FMOL/KG,,UMOL/KG,,UMOL/KG,,,,DEG C,,/MILLE,,/MILLE,,UMOL/KG,,UMOL/KG,,NMOL/KG,,,,,,ITS-90,,UG/L,,UG/L,,UG/L,,UG/L,,VOLTS,,VOLTS,,,,,,,,,,,
33RR20220613,       P02E,     137,          2,         36,         36,2,20220623,       0531,    30.0002,  -150.2433,       6180,     3.3,2,  24.2833,2,  35.4600,2,  35.4636,2,    213.7,2,   213.9,2,    0.29,2,    0.17,2,    0.00,2,    0.00,3,   1.617,2,   1.048,2,   1.7905,2,  2034.9,2,  2333.1,2,   8.0271,2,    24.92,2, -999.00,9,  -999.0,9, -999.00,9, -999.00,9,        6.9,2, 20220623,      759,  30.0002,-150.2433,    24.2815,2,     -999.0,9,     -999.0,9,     -999.0,9,     -999.0,9,     0.0134,1,     4.6349,1,     -999.0,9,     -999.0,9,     -999.0,9,     -999.0,9,     -999.0,9
33RR20220613,       P02E,     137,          2,         35,         35,2,20220623,       0531,    30.0002,  -150.2433,       6180,    50.8,2,  22.8432,2,  35.3522,2,  35.3571,2,    226.3,2,   225.6,2,    0.49,2,    0.07,2,    0.01,2,   -0.01,3,   1.741,2,   1.102,2,   1.7077,2,  2031.5,2,  2325.8,2,   8.0283,2,    25.02,2, -999.00,9,  -999.0,9, -999.00,9, -999.00,9,        7.7,2, 20220623,      756,  30.0002,-150.2432,    22.8418,2,     -999.0,9,     -999.0,9,     -999.0,9,     -999.0,9,     0.0147,1,     4.6274,1,     -999.0,9,     -999.0,9,     -999.0,9,     -999.0,9,     -999.0,9
33RR20220613,       P02E,     137,          2,         33,         33,4,20220623,       0531,    30.0002,  -150.2433,       6180,   352.8,3,  10.9706,3,  34.1443,3,-999.0000,9,    209.8,3,  -999.0,9, -999.00,9, -999.00,9, -999.00,9, -999.00,9,-999.000,9,-999.000,9,-999.0000,9,  -999.0,9,  -999.0,9,-999.0000,9,  -999.00,9, -999.00,9,  -999.0,9, -999.00,9, -999.00,9,     -999.0,9, 20220623,      743,  30.0002,-150.2433,     -999.0,9,     -999.0,9,     -999.0,9,     -999.0,9,     -999.0,9,     0.0122,1,     4.6923,1,     -999.0,9,     -999.0,9,     -999.0,9,     -999.0,9,     -999.0,9
33RR20220613,       P02E,     137,          2,         34,         34,4,20220623,       0531,    30.0002,  -150.2433,       6180,   353.0,3,  10.9655,3,  34.1444,3,-999.0000,9,    209.8,3,  -999.0,9, -999.00,9, -999.00,9, -999.00,9, -999.00,9,-999.000,9,-999.000,9,-999.0000,9,  -999.0,9,  -999.0,9,-999.0000,9,  -999.00,9, -999.00,9,  -999.0,9, -999.00,9, -999.00,9,     -999.0,9, 20220623,      743,  30.0002,-150.2433,     -999.0,9,     -999.0,9,     -999.0,9,     -999.0,9,     -999.0,9,     0.0122,1,     4.6924,1,     -999.0,9,     -999.0,9,     -999.0,9,     -999.0,9,     -999.0,9
33RR20220613,       P02E,     137,          2,         27,         27,4,20220623,       0531,    30.0002,  -150.2433,       6180,   353.0,3,  10.9580,3,  34.1436,3,  34.1423,3,    209.4,3,   209.7,3,   14.37,3,   13.16,3,    0.00,3,    0.79,3,   2.955,3,   1.768,3,   1.9502,3,  2108.3,3,  2258.2,3,   7.7489,3,    25.04,3, -999.00,9,  -999.0,9, -999.00,9, -999.00,9,       17.6,3, 20220623,      743,  30.0002,-150.2433,    10.9628,3,     -999.0,9,     -999.0,9,     -999.0,9,     -999.0,9,     0.0122,1,     4.6927,1,     -999.0,9,     -999.0,9,     -999.0,9,     -999.0,9,     -999.0,9
33RR20220613,       P02E,     137,          2,         32,         32,4,20220623,       0531,    30.0002,  -150.2433,       6180,   353.1,3,  10.9620,3,  34.1447,3,-999.0000,9,    210.0,3,  -999.0,9, -999.00,9, -999.00,9, -999.00,9, -999.00,9,-999.000,9,-999.000,9,-999.0000,9,  -999.0,9,  -999.0,9,-999.0000,9,  -999.00,9, -999.00,9,  -999.0,9, -999.00,9, -999.00,9,     -999.0,9, 20220623,      743,  30.0002,-150.2433,     -999.0,9,     -999.0,9,     -999.0,9,     -999.0,9,     -999.0,9,     0.0122,1,     4.6923,1,     -999.0,9,     -999.0,9,     -999.0,9,     -999.0,9,     -999.0,9
33RR20220613,       P02E,     137,          2,         31,         31,4,20220623,       0531,    30.0002,  -150.2433,       6180,   353.8,3,  10.9581,3,  34.1443,3,-999.0000,9,    210.2,3,  -999.0,9, -999.00,9, -999.00,9, -999.00,9, -999.00,9,-999.000,9,-999.000,9,-999.0000,9,  -999.0,9,  -999.0,9,-999.0000,9,  -999.00,9, -999.00,9,  -999.0,9, -999.00,9, -999.00,9,     -999.0,9, 20220623,      743,  30.0002,-150.2433,     -999.0,9,     -999.0,9,     -999.0,9,     -999.0,9,     -999.0,9,     0.0122,1,     4.6924,1,     -999.0,9,     -999.0,9,     -999.0,9,     -999.0,9,     -999.0,9
33RR20220613,       P02E,     137,          2,         28,         28,4,20220623,       0531,    30.0002,  -150.2433,       6180,   353.8,3,  10.9632,3,  34.1436,3,-999.0000,9,    209.9,3,  -999.0,9, -999.00,9, -999.00,9, -999.00,9, -999.00,9,-999.000,9,-999.000,9,-999.0000,9,  -999.0,9,  -999.0,9,-999.0000,9,  -999.00,9, -999.00,9,  -999.0,9, -999.00,9, -999.00,9,     -999.0,9, 20220623,      743,  30.0002,-150.2433,     -999.0,9,     -999.0,9,     -999.0,9,     -999.0,9,     -999.0,9,     0.0122,1,     4.6924,1,     -999.0,9,     -999.0,9,     -999.0,9,     -999.0,9,     -999.0,9
33RR20220613,       P02E,     137,          2,         30,         17,4,20220623,       0531,    30.0002,  -150.2433,       6180,   354.3,3,  10.9617,3,  34.1441,3,-999.0000,9,    210.1,3,  -999.0,9, -999.00,9, -999.00,9, -999.00,9, -999.00,9,-999.000,9,-999.000,9,-999.0000,9,  -999.0,9,  -999.0,9,-999.0000,9,  -999.00,9, -999.00,9,  -999.0,9, -999.00,9, -999.00,9,     -999.0,9, 20220623,      743,  30.0002,-150.2433,     -999.0,9,     -999.0,9,     -999.0,9,     -999.0,9,     -999.0,9,     0.0129,1,     4.6920,1,     -999.0,9,     -999.0,9,     -999.0,9,     -999.0,9,     -999.0,9
33RR20220613,       P02E,     137,          2,         29,         29,4,20220623,       0531,    30.0002,  -150.2433,       6180,   354.4,3,  10.9645,3,  34.1438,3,-999.0000,9,    210.0,3,  -999.0,9, -999.00,9, -999.00,9, -999.00,9, -999.00,9,-999.000,9,-999.000,9,-999.0000,9,  -999.0,9,  -999.0,9,-999.0000,9,  -999.00,9, -999.00,9,  -999.0,9, -999.00,9, -999.00,9,     -999.0,9, 20220623,      743,  30.0002,-150.2433,     -999.0,9,     -999.0,9,     -999.0,9,     -999.0,9,     -999.0,9,     0.0127,1,     4.6923,1,     -999.0,9,     -999.0,9,     -999.0,9,     -999.0,9,     -999.0,9
33RR20220613,       P02E,     137,          2,         26,         26,2,20220623,       0531,    30.0002,  -150.2433,       6180,   403.5,2,   9.7329,2,  34.0788,2,  34.0823,2,    204.7,2,   205.9,2,   19.26,2,   15.89,2,    0.00,2,    0.96,3,   3.031,2,   1.797,2,   1.7345,2,  -999.0,9,  -999.0,9,-999.0000,9,  -999.00,9, -999.00,9,  -999.0,9, -999.00,9, -999.00,9,       20.1,2, 20220623,      741,  30.0002,-150.2432,     9.7445,2,     -999.0,9,     -999.0,9,     -999.0,9,     -999.0,9,     0.0122,1,     4.6947,1,     -999.0,9,     -999.0,9,     -999.0,9,     -999.0,9,     -999.0,9
33RR20220613,       P02E,     137,          2,         25,         25,2,20220623,       0531,    30.0002,  -150.2433,       6180,   505.0,2,   7.8218,2,  34.0177,2,  34.0211,2,    156.4,2,   155.8,2,   37.84,2,   24.23,2,    0.00,2,    1.53,3,   2.789,2,   1.633,2,   1.1939,2,  2185.0,2,  2271.4,2,   7.5835,2,    25.04,2, -999.00,9,  -999.0,9, -999.00,9, -999.00,9,       27.1,2, 20220623,      738,  30.0002,-150.2433,     7.8260,2,     -999.0,9,     -999.0,9,     -999.0,9,     -999.0,9,     0.0131,1,     4.6957,1,     -999.0,9,     -999.0,9,     -999.0,9,     -999.0,9,     -999.0,9
33RR20220613,       P02E,     137,          2,         24,         24,2,20220623,       0531,    30.0002,  -150.2433,       6180,   605.5,2,   6.0722,2,  34.0066,2,  34.0108,2,     92.8,3,    91.8,2,   62.08,2,   33.08,2,    0.00,2,    2.18,3,   2.108,2,   1.173,2,   0.5935,2,  2253.5,2,  2287.5,2,   7.4245,2,    25.03,2, -999.00,9,  -999.0,9, -999.00,9, -999.00,9,       35.4,2, 20220623,      736,  30.0002,-150.2433,     6.0703,2,     -999.0,9,     -999.0,9,     -999.0,9,     -999.0,9,     0.0134,1,     4.6963,1,     -999.0,9,     -999.0,9,     -999.0,9,     -999.0,9,     -999.0,9
33RR20220613,       P02E,     137,          2,         23,         23,2,20220623,       0531,    30.0002,  -150.2433,       6180,   706.9,2,   5.1046,2,  34.0902,2,  34.0931,2,     46.2,3,    47.3,2,   82.22,2,   38.31,2,    0.00,2,    2.59,4,   1.139,2,   0.631,2,   0.3578,2,  -999.0,9,  -999.0,9,-999.0000,9,  -999.00,9, -999.00,9,  -999.0,9, -999.00,9, -999.00,9,       43.5,2, 20220623,      733,  30.0002,-150.2432,     5.1114,2,     -999.0,9,     -999.0,9,     -999.0,9,     -999.0,9,     0.0134,1,     4.6970,1,     -999.0,9,     -999.0,9,     -999.0,9,     -999.0,9,     -999.0,9
33RR20220613,       P02E,     137,          2,         22,         22,2,20220623,       0531,    30.0002,  -150.2433,       6180,   807.4,2,   4.5685,2,  34.1934,2,  34.1995,2,     21.9,3,    22.5,2,   99.13,2,   41.27,2,    0.00,2,    2.84,4,   0.421,2,   0.236,2,   0.1864,2,  2332.1,2,  2329.2,2,   7.3044,2,    25.03,2, -999.00,9,  -999.0,9, -999.00,9, -999.00,9,       49.8,2, 20220623,      730,  30.0002,-150.2433,     4.5671,2,     -999.0,9,     -999.0,9,     -999.0,9,     -999.0,9,     0.0134,1,     4.6972,1,     -999.0,9,     -999.0,9,     -999.0,9,     -999.0,9,     -999.0,9
33RR20220613,       P02E,     137,          2,         21,         21,2,20220623,       0531,    30.0002,  -150.2433,       6180,   908.1,2,   4.1650,2,  34.2980,2,  34.2997,2,     13.5,2,    13.4,2,  111.92,2,   42.57,2,    0.00,2,    2.98,4,   0.104,2,   0.068,2,   0.0464,2,  2351.1,6,  2348.3,2,   7.3007,2,    25.03,2, -999.00,9,  -999.0,9, -999.00,9, -999.00,9,       52.9,2, 20220623,      727,  30.0002,-150.2433,     4.1654,2,     -999.0,9,     -999.0,9,     -999.0,9,     -999.0,9,     0.0134,1,     4.6971,1,     -999.0,9,     -999.0,9,     -999.0,9,     -999.0,9,     -999.0,9
33RR20220613,       P02E,     137,          2,         20,         20,2,20220623,       0531,    30.0002,  -150.2433,       6180,  1007.8,2,   3.7749,2,  34.3716,2,  34.3717,2,     14.9,3,    14.3,2,  122.96,2,   43.07,2,    0.00,2,    3.06,4,   0.025,2,   0.019,2,   0.0000,2,  2365.5,2,  2373.7,6,   7.3106,2,    25.03,2, -999.00,9,  -999.0,9, -999.00,9, -999.00,9,       54.3,2, 20220623,      724,  30.0002,-150.2432,     3.8073,2,     -999.0,9,     -999.0,9,     -999.0,9,     -999.0,9,     0.0134,1,     4.6972,1,     -999.0,9,     -999.0,9,     -999.0,9,     -999.0,9,     -999.0,9
33RR20220613,       P02E,     137,          2,         19,         39,2,20220623,       0531,    30.0002,  -150.2433,       6180,  1109.9,2,   3.5190,2,  34.4235,3,  34.4320,2,     20.8,3,    20.1,2,  129.51,2,   43.12,2,    0.00,2,    3.09,4,   0.011,2,   0.009,2,   0.0000,2,  2368.6,2,  2373.5,6,   7.3272,2,    25.02,2, -999.00,9,  -999.0,9, -999.00,9, -999.00,9,       52.9,2, 20220623,      721,  30.0002,-150.2433,     3.5182,2,     -999.0,9,     -999.0,9,     -999.0,9,     -999.0,9,     0.0134,1,     4.6982,1,     -999.0,9,     -999.0,9,     -999.0,9,     -999.0,9,     -999.0,9
33RR20220613,       P02E,     137,          2,         18,         18,2,20220623,       0531,    30.0002,  -150.2433,       6180,  1210.9,2,   3.2999,2,  34.4710,2,  34.4746,2,     29.7,2,    29.9,2,  133.80,2,   42.87,2,    0.00,2,    3.07,4,   0.010,2,   0.009,2,   0.0000,2,  -999.0,9,  -999.0,9,-999.0000,9,  -999.00,9, -999.00,9,  -999.0,9, -999.00,9, -999.00,9,       47.7,2, 20220623,      719,  30.0002,-150.2433,     3.3032,2,     -999.0,9,     -999.0,9,     -999.0,9,     -999.0,9,     0.0134,1,     4.6981,1,     -999.0,9,     -999.0,9,     -999.0,9,     -999.0,9,     -999.0,9
33RR20220613,       P02E,     137,          2,         17,         37,2,20220623,       0531,    30.0002,  -150.2433,       6180,  1312.5,2,   3.0928,2,  34.5035,2,  34.5048,2,     38.4,3,    39.2,2,  138.20,2,   42.39,2,    0.00,2,    3.07,4,   0.009,2,   0.006,2,   0.0000,2,  2369.9,2,  2387.1,2,   7.3697,2,    25.00,2, -999.00,9,  -999.0,9, -999.00,9, -999.00,9,       43.8,2, 20220623,      716,  30.0002,-150.2432,     3.0892,2,     -999.0,9,     -999.0,9,     -999.0,9,     -999.0,9,     0.0134,1,     4.6983,1,     -999.0,9,     -999.0,9,     -999.0,9,     -999.0,9,     -999.0,9
33RR20220613,       P02E,     137,          2,         16,         16,2,20220623,       0531,    30.0002,  -150.2433,       6180,  1414.0,2,   2.9089,2,  34.5318,2,  34.5296,2,     49.0,3,    48.0,2,  140.83,2,   41.91,2,    0.00,2,    3.04,4,   0.004,2,   0.003,2,   0.0000,2,  -999.0,9,  -999.0,9,-999.0000,9,  -999.00,9, -999.00,9,  -999.0,9, -999.00,9, -999.00,9,       42.3,2, 20220623,      713,  30.0002,-150.2433,     2.9096,2,     -999.0,9,     -999.0,9,     -999.0,9,     -999.0,9,     0.0134,1,     4.6993,1,     -999.0,9,     -999.0,9,     -999.0,9,     -999.0,9,     -999.0,9
33RR20220613,       P02E,     137,          2,         15,         15,2,20220623,       0531,    30.0002,  -150.2433,       6180,  1616.7,2,   2.5779,2,  34.5662,2,  34.5681,2,     61.4,2,    61.8,2,  148.75,2,   41.31,2,    0.00,2,    3.04,4,   0.003,2,   0.002,2,   0.0000,2,  2367.3,2,  2403.6,2,   7.4165,2,    24.94,2, -999.00,9,  -999.0,9, -999.00,9, -999.00,9,       36.9,2, 20220623,      708,  30.0002,-150.2432,     2.5804,2,     -999.0,9,     -999.0,9,     -999.0,9,     -999.0,9,     0.0134,1,     4.7004,1,     -999.0,9,     -999.0,9,     -999.0,9,     -999.0,9,     -999.0,9
33RR20220613,       P02E,     137,          2,         14,         14,2,20220623,       0531,    30.0002,  -150.2433,       6180,  1820.4,2,   2.2902,2,  34.5916,2,  34.5932,2,     71.1,2,    71.5,2,  156.17,2,   40.76,2,    0.00,2,    3.03,4,   0.004,2,   0.000,2,   0.0000,2,  -999.0,9,  -999.0,9,-999.0000,9,  -999.00,9, -999.00,9,  -999.0,9, -999.00,9, -999.00,9,       33.7,2, 20220623,      704,  30.0002,-150.2433,     2.2899,2,     -999.0,9,     -999.0,9,     -999.0,9,     -999.0,9,     0.0127,1,     4.7007,1,     -999.0,9,     -999.0,9,     -999.0,9,     -999.0,9,     -999.0,9
33RR20220613,       P02E,     137,          2,         13,         13,2,20220623,       0531,    30.0002,  -150.2433,       6180,  2022.4,2,   2.0693,2,  34.6114,3,  34.6091,2,     79.2,2,    79.1,2,  162.72,2,   40.32,2,    0.00,2,    3.03,4,   0.002,2,   0.000,2,   0.0000,2,  2366.7,2,  2415.1,2,   7.4488,2,    25.03,2, -999.00,9,  -999.0,9, -999.00,9, -999.00,9,       31.5,2, 20220623,      659,  30.0002,-150.2433,     2.0688,2,     -999.0,9,     -999.0,9,     -999.0,9,     -999.0,9,     0.0134,1,     4.7019,1,     -999.0,9,     -999.0,9,     -999.0,9,     -999.0,9,     -999.0,9
33RR20220613,       P02E,     137,          2,         12,         12,2,20220623,       0531,    30.0002,  -150.2433,       6180,  2277.1,2,   1.8705,2,  34.6300,3,  34.6280,2,     89.2,2,    89.1,2,  167.70,2,   39.85,2,    0.00,2,    3.03,4,   0.003,2,   0.000,2,   0.0000,2,  -999.0,9,  -999.0,9,-999.0000,9,  -999.00,9, -999.00,9,  -999.0,9, -999.00,9, -999.00,9,       29.1,2, 20220623,      654,  30.0002,-150.2433,     1.8692,2,     -999.0,9,     -999.0,9,     -999.0,9,     -999.0,9,     0.0134,1,     4.7020,1,     -999.0,9,     -999.0,9,     -999.0,9,     -999.0,9,     -999.0,9
33RR20220613,       P02E,     137,          2,         11,         11,2,20220623,       0531,    30.0002,  -150.2433,       6180,  2531.5,2,   1.7421,2,  34.6438,3,  34.6474,2,     98.9,2,    99.2,2,  170.24,2,   39.21,2,    0.00,2,    2.99,4,   0.003,2,   0.003,2,   0.0000,2,  2361.3,2,  2425.7,2,   7.4863,2,    25.02,2, -999.00,9,  -999.0,9, -999.00,9, -999.00,9,       27.3,2, 20220623,      648,  30.0002,-150.2432,     1.7424,2,     -999.0,9,     -999.0,9,     -999.0,9,     -999.0,9,     0.0122,1,     4.7021,1,     -999.0,9,     -999.0,9,     -999.0,9,     -999.0,9,     -999.0,9
33RR20220613,       P02E,     137,          2,         10,         10,2,20220623,       0531,    30.0002,  -150.2433,       6180,  2787.5,2,   1.6357,2,  34.6553,2,  34.6557,2,    109.3,2,   109.4,2,  170.14,2,   38.58,2,    0.00,2,    2.96,4,   0.003,2,   0.003,2,   0.0000,2,  -999.0,9,  -999.0,9,-999.0000,9,  -999.00,9, -999.00,9,  -999.0,9, -999.00,9, -999.00,9,       25.8,2, 20220623,      643,  30.0002,-150.2433,     1.6361,2,     -999.0,9,     -999.0,9,     -999.0,9,     -999.0,9,     0.0122,1,     4.7032,1,     -999.0,9,     -999.0,9,     -999.0,9,     -999.0,9,     -999.0,9
33RR20220613,       P02E,     137,          2,          9,          9,2,20220623,       0531,    30.0002,  -150.2433,       6180,  3042.3,2,   1.5681,2,  34.6645,2,  34.6657,2,    119.6,2,   119.7,2,  168.08,2,   37.96,2,    0.00,2,    2.90,4,   0.004,2,   0.004,2,   0.0000,2,  2352.0,2,  2428.0,2,   7.5243,2,    25.02,2, -999.00,9,  -999.0,9, -999.00,9, -999.00,9,       24.5,2, 20220623,      637,  30.0002,-150.2433,     1.5680,2,     -999.0,9,     -999.0,9,     -999.0,9,     -999.0,9,     0.0125,1,     4.7031,1,     -999.0,9,     -999.0,9,     -999.0,9,     -999.0,9,     -999.0,9
33RR20220613,       P02E,     137,          2,          8,          8,2,20220623,       0531,    30.0002,  -150.2433,       6180,  3348.0,2,   1.5124,2,  34.6735,2,  34.6730,2,    130.4,2,   130.5,2,  165.25,2,   37.34,2,    0.00,2,    2.85,4,   0.007,2,   0.006,2,   0.0000,2,  -999.0,9,  -999.0,9,-999.0000,9,  -999.00,9, -999.00,9,  -999.0,9, -999.00,9, -999.00,9,       23.6,2, 20220623,      631,  30.0002,-150.2433,     1.5124,2,     -999.0,9,     -999.0,9,     -999.0,9,     -999.0,9,     0.0124,1,     4.7042,1,     -999.0,9,     -999.0,9,     -999.0,9,     -999.0,9,     -999.0,9
33RR20220613,       P02E,     137,          2,          7,          7,2,20220623,       0531,    30.0002,  -150.2433,       6180,  3656.2,2,   1.4831,2,  34.6791,2,  34.6798,2,    138.1,2,   138.1,2,  163.10,2,   36.75,2,    0.00,2,    2.81,4,   0.005,2,   0.003,2,   0.0000,2,  2339.5,2,  2426.2,2,   7.5565,2,    25.05,2, -999.00,9,  -999.0,9, -999.00,9, -999.00,9,       22.4,2, 20220623,      624,  30.0002,-150.2433,     1.4833,2,     -999.0,9,     -999.0,9,     -999.0,9,     -999.0,9,     0.0122,1,     4.7040,1,     -999.0,9,     -999.0,9,     -999.0,9,     -999.0,9,     -999.0,9
33RR20220613,       P02E,     137,          2,          6,          6,2,20220623,       0531,    30.0002,  -150.2433,       6180,  4066.0,2,   1.4802,2,  34.6835,2,  34.6853,2,    145.2,2,   145.2,2,  159.68,2,   36.22,2,    0.00,2,    2.78,4,   0.003,2,   0.003,2,   0.0000,2,  -999.0,9,  -999.0,9,-999.0000,9,  -999.00,9, -999.00,9,  -999.0,9, -999.00,9, -999.00,9,       22.6,2, 20220623,      616,  30.0002,-150.2433,     1.4800,2,     -999.0,9,     -999.0,9,     -999.0,9,     -999.0,9,     0.0122,1,     4.7042,1,     -999.0,9,     -999.0,9,     -999.0,9,     -999.0,9,     -999.0,9
33RR20220613,       P02E,     137,          2,          5,          5,2,20220623,       0531,    30.0002,  -150.2433,       6180,  4579.3,2,   1.4984,2,  34.6874,2,  34.6881,2,    152.5,2,   152.7,2,  154.69,2,   35.74,2,    0.00,2,    2.71,4,   0.004,2,   0.005,2,   0.0000,2,  2328.4,2,  2422.7,2,   7.5790,2,    25.03,2, -999.00,9,  -999.0,9, -999.00,9, -999.00,9,       22.4,2, 20220623,      607,  30.0002,-150.2433,     1.4983,2,     -999.0,9,     -999.0,9,     -999.0,9,     -999.0,9,     0.0122,1,     4.7038,1,     -999.0,9,     -999.0,9,     -999.0,9,     -999.0,9,     -999.0,9