BOTTLE,20230830CCHSIOCBG
EXPOCODE,SECT_ID,STNNBR,CASTNO,SAMPNO,BTLNBR,BTLNBR_FLAG_W,DATE,TIME,LATITUDE,LONGITUDE,DEPTH,CTDPRS,CTDPRS_FLAG_W,CTDTMP,CTDTMP_FLAG_W,CTDSAL,CTDSAL_FLAG_W,SALNTY,SALNTY_FLAG_W,CTDOXY,CTDOXY_FLAG_W,OXYGEN,OXYGEN_FLAG_W,SILCAT,SILCAT_FLAG_W,NITRAT,NITRAT_FLAG_W,NITRIT,NITRIT_FLAG_W,PHSPHT,PHSPHT_FLAG_W,CFC-11,CFC-11_FLAG_W,CFC-12,CFC-12_FLAG_W,SF6,SF6_FLAG_W,TCARBN,TCARBN_FLAG_W,ALKALI,ALKALI_FLAG_W,PH_TOT,PH_TOT_FLAG_W,PH_TMP,PH_TMP_FLAG_W,DELC13,DELC13_FLAG_W,DELC14,DELC14_FLAG_W,DOC,DOC_FLAG_W,TDN,TDN_FLAG_W,N2O,N2O_FLAG_W,BTL_DATE,BTL_TIME,BTL_LAT,BTL_LON,REFTMP,REFTMP_FLAG_W,POC,POC_FLAG_W,PON,PON_FLAG_W,POP,POP_FLAG_W,PCOD,PCOD_FLAG_W,CTDFLUOR,CTDFLUOR_FLAG_W,CTDXMISS,CTDXMISS_FLAG_W,HPLC,HPLC_FLAG_W,DNA,DNA_FLAG_W,FCM,FCM_FLAG_W,IMAGES,IMAGES_FLAG_W,VIRAL_ABUNDANCE,VIRAL_ABUNDANCE_FLAG_W
,,,,,,,,,,,METERS,DBAR,,ITS-90,,PSS-78,,PSS-78,,UMOL/KG,,UMOL/KG,,UMOL/KG,,UMOL/KG,,UMOL/KG,,UMOL/KG,,PMOL/KG,,PMOL/KG,,FMOL/KG,,UMOL/KG,,UMOL/KG,,,,DEG C,,/MILLE,,/MILLE,,UMOL/KG,,UMOL/KG,,NMOL/KG,,,,,,ITS-90,,UG/L,,UG/L,,UG/L,,UG/L,,VOLTS,,VOLTS,,,,,,,,,,,
33RR20220613,       P02E,     190,          1,         36,         36,2,20220709,       0103,    31.5029,  -120.2869,       3935,     3.8,2,  17.7777,2,  33.3517,2,  33.3551,2,    246.2,2,   245.4,2,    0.00,2,    0.00,2,    0.01,2,    0.29,2,   2.327,2,   1.376,2,   2.2470,2,  2022.1,6,  2229.7,2,   7.9050,2,    25.02,2, -999.00,1,  -999.0,1, -999.00,1, -999.00,1,        8.9,2, 20220709,      306,  31.5029,-120.2869,    17.7737,2,     -999.0,9,     -999.0,9,     -999.0,9,     -999.0,9,     0.0352,1,     4.5701,1,     -999.0,9,     -999.0,9,     -999.0,9,     -999.0,9,     -999.0,9
33RR20220613,       P02E,     190,          1,         35,         35,2,20220709,       0103,    31.5029,  -120.2869,       3935,    20.6,2,  17.7700,2,  33.3505,2,  33.3555,2,    245.7,2,   246.4,2,    0.00,2,    0.00,2,    0.01,2,    0.29,2,   2.336,2,   1.379,2,   2.2311,2,  2022.3,2,  2230.9,6,   7.9044,2,    25.02,2, -999.00,1,  -999.0,1, -999.00,1, -999.00,1,        9.0,2, 20220709,      303,  31.5028,-120.2869,    17.7564,2,     -999.0,9,     -999.0,9,     -999.0,9,     -999.0,9,     0.0352,1,     4.5758,1,     -999.0,9,     -999.0,9,     -999.0,9,     -999.0,9,     -999.0,9
33RR20220613,       P02E,     190,          1,         34,         34,2,20220709,       0103,    31.5029,  -120.2869,       3935,    40.5,2,  14.4921,2,  33.3412,2,  33.3486,2,    262.6,2,   262.7,2,    0.59,2,    0.83,2,    0.08,2,    0.41,2,   2.645,2,   1.547,2,   2.4686,2,  2037.3,2,  2227.1,2,   7.8639,2,    25.02,2, -999.00,1,  -999.0,1, -999.00,1, -999.00,1,       10.8,2, 20220709,      301,  31.5029,-120.2869,    14.4919,2,     -999.0,9,     -999.0,9,     -999.0,9,     -999.0,9,     0.0494,1,     4.5940,1,     -999.0,9,     -999.0,9,     -999.0,9,     -999.0,9,     -999.0,9
33RR20220613,       P02E,     190,          1,         33,         33,2,20220709,       0103,    31.5029,  -120.2869,       3935,    65.9,2,  12.4023,2,  33.3647,2,  33.3699,2,    225.1,3,   227.7,2,    4.30,2,    8.41,2,    0.39,2,    0.92,2,   2.916,2,   1.705,2,   2.7031,2,  2091.1,2,  2224.1,2,   7.7366,2,    25.02,2, -999.00,1,  -999.0,1, -999.00,1, -999.00,1,       13.8,2, 20220709,      259,  31.5029,-120.2869,    12.3990,2,     -999.0,9,     -999.0,9,     -999.0,9,     -999.0,9,     0.0422,1,     4.6212,1,     -999.0,9,     -999.0,9,     -999.0,9,     -999.0,9,     -999.0,9
33RR20220613,       P02E,     190,          1,         32,         32,2,20220709,       0103,    31.5029,  -120.2869,       3935,    91.1,2,  11.2702,2,  33.4765,2,  33.4862,2,    193.3,3,   197.0,2,   11.34,2,   15.64,2,    0.03,2,    1.30,2,   2.967,2,   1.737,2,   2.4167,2,  2124.9,2,  2228.2,2,   7.6552,2,    25.03,2, -999.00,1,  -999.0,1, -999.00,1, -999.00,1,       16.7,2, 20220709,      257,  31.5029,-120.2869,    11.2967,2,     -999.0,9,     -999.0,9,     -999.0,9,     -999.0,9,     0.0207,1,     4.6584,1,     -999.0,9,     -999.0,9,     -999.0,9,     -999.0,9,     -999.0,9
33RR20220613,       P02E,     190,          1,         31,         31,2,20220709,       0103,    31.5029,  -120.2869,       3935,   116.2,2,  10.4426,2,  33.7074,2,  33.7100,2,    160.6,3,   163.6,2,   19.45,2,   21.10,2,    0.02,2,    1.64,2,   2.923,2,   1.750,2,   2.1689,2,  2159.6,2,  2240.4,2,   7.5765,2,    25.02,2, -999.00,1,  -999.0,1, -999.00,1, -999.00,1,       21.3,2, 20220709,      255,  31.5029,-120.2869,    10.4402,2,     -999.0,9,     -999.0,9,     -999.0,9,     -999.0,9,     0.0142,1,     4.6662,1,     -999.0,9,     -999.0,9,     -999.0,9,     -999.0,9,     -999.0,9
33RR20220613,       P02E,     190,          1,         30,         17,2,20220709,       0103,    31.5029,  -120.2869,       3935,   141.3,2,   9.3045,2,  33.8619,3,  33.8942,2,    141.1,2,   141.5,2,   23.75,2,   23.12,2,    0.00,2,    1.74,2,   2.948,2,   1.758,2,   1.6949,2,  2176.1,2,  2249.2,2,   7.5456,2,    25.00,2, -999.00,1,  -999.0,1, -999.00,1, -999.00,1,       25.4,2, 20220709,      253,  31.5029,-120.2869,     9.3009,2,     -999.0,9,     -999.0,9,     -999.0,9,     -999.0,9,     0.0123,1,     4.6693,1,     -999.0,9,     -999.0,9,     -999.0,9,     -999.0,9,     -999.0,9
33RR20220613,       P02E,     190,          1,         29,         29,2,20220709,       0103,    31.5029,  -120.2869,       3935,   186.6,2,   8.8191,2,  33.9820,2,  33.9855,2,    125.4,2,   125.2,2,   29.22,2,   25.03,2,    0.00,2,    1.87,2,   2.858,2,   1.682,2,   1.4356,2,  2196.5,2,  2259.4,2,   7.5172,2,    25.02,2, -999.00,1,  -999.0,1, -999.00,1, -999.00,1,       29.3,2, 20220709,      250,  31.5029,-120.2869,     8.8177,2,     -999.0,9,     -999.0,9,     -999.0,9,     -999.0,9,     0.0134,1,     4.6714,1,     -999.0,9,     -999.0,9,     -999.0,9,     -999.0,9,     -999.0,9
33RR20220613,       P02E,     190,          1,         28,         28,2,20220709,       0103,    31.5029,  -120.2869,       3935,   237.2,2,   8.1437,2,  34.0465,2,  34.0480,2,     99.5,2,    99.2,2,   38.79,2,   29.02,2,    0.00,2,    2.15,2,   2.544,2,   1.493,2,   1.0645,2,  2226.1,2,  2270.0,2,   7.4617,2,    25.02,2, -999.00,1,  -999.0,1, -999.00,1, -999.00,1,       34.1,2, 20220709,      247,  31.5029,-120.2869,     8.1438,2,     -999.0,9,     -999.0,9,     -999.0,9,     -999.0,9,     0.0134,1,     4.6726,1,     -999.0,9,     -999.0,9,     -999.0,9,     -999.0,9,     -999.0,9
33RR20220613,       P02E,     190,          1,         27,         27,2,20220709,       0103,    31.5029,  -120.2869,       3935,   287.5,2,   7.3743,2,  34.0763,2,  34.0789,2,     72.8,2,    72.7,2,   47.10,2,   32.17,2,    0.00,2,    2.40,2,   2.146,2,   1.236,2,   0.7886,2,  2252.7,2,  2277.6,2,   7.4014,2,    25.01,2, -999.00,1,  -999.0,1, -999.00,1, -999.00,1,       38.2,2, 20220709,      245,  31.5029,-120.2869,     7.3753,2,     -999.0,9,     -999.0,9,     -999.0,9,     -999.0,9,     0.0134,1,     4.6750,1,     -999.0,9,     -999.0,9,     -999.0,9,     -999.0,9,     -999.0,9
33RR20220613,       P02E,     190,          1,         26,         26,2,20220709,       0103,    31.5029,  -120.2869,       3935,   337.9,2,   6.8051,2,  34.1195,2,  34.1228,2,     48.9,2,    48.9,2,   55.40,2,   34.82,2,    0.00,2,    2.61,2,   1.679,2,   0.943,2,   0.5119,2,  -999.0,9,  -999.0,9,-999.0000,9,  -999.00,9, -999.00,1,  -999.0,1, -999.00,1, -999.00,1,       42.1,2, 20220709,      243,  31.5028,-120.2869,     6.8069,2,     -999.0,9,     -999.0,9,     -999.0,9,     -999.0,9,     0.0134,1,     4.6761,1,     -999.0,9,     -999.0,9,     -999.0,9,     -999.0,9,     -999.0,9
33RR20220613,       P02E,     190,          1,         25,         25,2,20220709,       0103,    31.5029,  -120.2869,       3935,   387.8,2,   6.4290,2,  34.1573,2,  34.1591,2,     34.8,3,    35.2,2,   63.51,2,   37.07,2,    0.00,2,    2.80,2,   1.273,2,   0.705,2,   0.4171,2,  2292.8,2,  2295.8,2,   7.3310,2,    25.02,2, -999.00,1,  -999.0,1, -999.00,1, -999.00,1,       46.6,2, 20220709,      241,  31.5029,-120.2869,     6.4277,2,     -999.0,9,     -999.0,9,     -999.0,9,     -999.0,9,     0.0134,1,     4.6780,1,     -999.0,9,     -999.0,9,     -999.0,9,     -999.0,9,     -999.0,9
33RR20220613,       P02E,     190,          1,         24,         24,2,20220709,       0103,    31.5029,  -120.2869,       3935,   438.5,2,   6.0609,2,  34.1805,2,  34.1819,2,     26.6,3,    26.9,2,   71.32,2,   38.72,2,    0.00,2,    2.93,2,   0.977,6,   0.540,6,   0.2873,6,  2302.5,2,  2304.3,2,   7.3185,2,    25.02,2, -999.00,1,  -999.0,1, -999.00,1, -999.00,1,       49.3,6, 20220709,      238,  31.5029,-120.2869,     6.0550,2,     -999.0,9,     -999.0,9,     -999.0,9,     -999.0,9,     0.0134,1,     4.6788,1,     -999.0,9,     -999.0,9,     -999.0,9,     -999.0,9,     -999.0,9
33RR20220613,       P02E,     190,          1,         23,         23,2,20220709,       0103,    31.5029,  -120.2869,       3935,   488.7,2,   5.7883,2,  34.2228,2,  34.2352,2,     19.0,3,    19.2,2,   75.82,2,   39.37,2,    0.00,2,    3.01,2,   0.668,2,   0.360,2,   0.2616,2,  -999.0,9,  -999.0,9,-999.0000,9,  -999.00,9, -999.00,1,  -999.0,1, -999.00,1, -999.00,1,       51.3,2, 20220709,      235,  31.5029,-120.2869,     5.7870,2,     -999.0,9,     -999.0,9,     -999.0,9,     -999.0,9,     0.0134,1,     4.6802,1,     -999.0,9,     -999.0,9,     -999.0,9,     -999.0,9,     -999.0,9
33RR20220613,       P02E,     190,          1,         22,         22,2,20220709,       0103,    31.5029,  -120.2869,       3935,   570.0,2,   5.5489,2,  34.2995,2,  34.3017,2,     12.9,2,    13.0,2,   85.39,2,   40.90,2,    0.00,2,    3.09,2,   0.280,2,   0.162,2,   0.1257,2,  2327.9,2,  2323.8,2,   7.3123,2,    25.01,2, -999.00,1,  -999.0,1, -999.00,1, -999.00,1,       53.8,2, 20220709,      231,  31.5029,-120.2869,     5.5487,2,     -999.0,9,     -999.0,9,     -999.0,9,     -999.0,9,     0.0134,1,     4.6828,1,     -999.0,9,     -999.0,9,     -999.0,9,     -999.0,9,     -999.0,9
33RR20220613,       P02E,     190,          1,         21,         21,2,20220709,       0103,    31.5029,  -120.2869,       3935,   670.8,2,   5.0617,2,  34.3600,2,  34.3647,2,     11.4,2,    11.3,2,   93.49,2,   41.87,2,    0.00,2,    3.14,2,   0.099,2,   0.065,2,   0.1814,2,  2344.2,2,  2339.3,2,   7.3158,2,    25.01,2, -999.00,1,  -999.0,1, -999.00,1, -999.00,1,       57.1,2, 20220709,      228,  31.5029,-120.2869,     5.0613,2,     -999.0,9,     -999.0,9,     -999.0,9,     -999.0,9,     0.0134,1,     4.6829,1,     -999.0,9,     -999.0,9,     -999.0,9,     -999.0,9,     -999.0,9
33RR20220613,       P02E,     190,          1,         20,         20,2,20220709,       0103,    31.5029,  -120.2869,       3935,   771.7,2,   4.6963,2,  34.4133,3,  34.4255,2,     13.9,2,    14.0,2,  100.33,2,   42.48,2,    0.00,2,    3.15,2,   0.042,2,   0.029,2,   0.1606,2,  2351.5,2,  2352.2,2,   7.3279,2,    25.02,2, -999.00,1,  -999.0,1, -999.00,1, -999.00,1,       54.8,2, 20220709,      225,  31.5029,-120.2869,     4.6953,2,     -999.0,9,     -999.0,9,     -999.0,9,     -999.0,9,     0.0134,1,     4.6844,1,     -999.0,9,     -999.0,9,     -999.0,9,     -999.0,9,     -999.0,9
33RR20220613,       P02E,     190,          1,         19,         39,2,20220709,       0103,    31.5029,  -120.2869,       3935,   872.7,2,   4.3795,2,  34.4451,2,  34.4465,2,     17.6,2,    17.6,2,  106.87,2,   42.90,2,    0.00,2,    3.16,2,   0.027,2,   0.021,2,   0.1708,2,  2357.0,2,  2360.6,2,   7.3344,2,    25.01,2, -999.00,1,  -999.0,1, -999.00,1, -999.00,1,       54.5,2, 20220709,      222,  31.5029,-120.2869,     4.3797,2,     -999.0,9,     -999.0,9,     -999.0,9,     -999.0,9,     0.0134,1,     4.6848,1,     -999.0,9,     -999.0,9,     -999.0,9,     -999.0,9,     -999.0,9
33RR20220613,       P02E,     190,          1,         18,         18,2,20220709,       0103,    31.5029,  -120.2869,       3935,   974.2,2,   4.0663,2,  34.4750,2,  34.4758,2,     22.3,2,    22.1,2,  112.63,2,   43.01,2,    0.00,2,    3.15,2,   0.020,2,   0.020,2,   0.1465,2,  -999.0,9,  -999.0,9,-999.0000,9,  -999.00,9, -999.00,1,  -999.0,1, -999.00,1, -999.00,1,       51.6,2, 20220709,      219,  31.5029,-120.2869,     4.0680,2,     -999.0,9,     -999.0,9,     -999.0,9,     -999.0,9,     0.0134,1,     4.6853,1,     -999.0,9,     -999.0,9,     -999.0,9,     -999.0,9,     -999.0,9
33RR20220613,       P02E,     190,          1,         17,         37,2,20220709,       0103,    31.5029,  -120.2869,       3935,  1075.4,2,   3.7471,2,  34.4980,2,  34.4995,2,     27.5,3,    26.9,2,  119.86,2,   43.02,2,    0.00,2,    3.15,2,   0.018,2,   0.015,2,   0.1642,2,  2366.8,2,  2376.5,2,   7.3532,2,    25.01,2, -999.00,1,  -999.0,1, -999.00,1, -999.00,1,       49.3,2, 20220709,      216,  31.5029,-120.2869,     3.7436,2,     -999.0,9,     -999.0,9,     -999.0,9,     -999.0,9,     0.0134,1,     4.6855,1,     -999.0,9,     -999.0,9,     -999.0,9,     -999.0,9,     -999.0,9
33RR20220613,       P02E,     190,          1,         16,         16,2,20220709,       0103,    31.5029,  -120.2869,       3935,  1176.3,2,   3.5344,2,  34.5165,2,  34.5174,2,     31.6,2,    31.7,2,  125.23,2,   42.90,2,    0.00,2,    3.14,2,   0.018,2,   0.018,2,   0.2382,2,  -999.0,9,  -999.0,9,-999.0000,9,  -999.00,9, -999.00,1,  -999.0,1, -999.00,1, -999.00,1,       46.1,2, 20220709,      213,  31.5029,-120.2869,     3.5326,2,     -999.0,9,     -999.0,9,     -999.0,9,     -999.0,9,     0.0134,1,     4.6866,1,     -999.0,9,     -999.0,9,     -999.0,9,     -999.0,9,     -999.0,9
33RR20220613,       P02E,     190,          1,         15,         15,2,20220709,       0103,    31.5029,  -120.2869,       3935,  1277.9,2,   3.3173,2,  34.5342,2,  34.5353,2,     36.7,2,    36.8,2,  130.70,2,   42.82,2,    0.00,2,    3.13,2,   0.024,2,   0.021,2,   0.2078,2,  2372.5,2,  2389.1,2,   7.3723,2,    25.02,2, -999.00,1,  -999.0,1, -999.00,1, -999.00,1,       43.2,2, 20220709,      210,  31.5029,-120.2869,     3.3152,2,     -999.0,9,     -999.0,9,     -999.0,9,     -999.0,9,     0.0134,1,     4.6872,1,     -999.0,9,     -999.0,9,     -999.0,9,     -999.0,9,     -999.0,9
33RR20220613,       P02E,     190,          1,         14,         42,2,20220709,       0103,    31.5029,  -120.2869,       3935,  1379.3,2,   3.1086,2,  34.5487,2,  34.5504,2,     41.9,2,    42.1,2,  137.14,2,   42.59,2,    0.00,2,    3.08,2,   0.025,2,   0.021,2,   0.1787,2,  -999.0,9,  -999.0,9,-999.0000,9,  -999.00,9, -999.00,1,  -999.0,1, -999.00,1, -999.00,1,       40.9,2, 20220709,      207,  31.5029,-120.2869,     3.1076,2,     -999.0,9,     -999.0,9,     -999.0,9,     -999.0,9,     0.0134,1,     4.6875,1,     -999.0,9,     -999.0,9,     -999.0,9,     -999.0,9,     -999.0,9
33RR20220613,       P02E,     190,          1,         13,         13,2,20220709,       0103,    31.5029,  -120.2869,       3935,  1480.8,2,   2.8981,2,  34.5623,2,  34.5629,2,     47.5,2,    47.6,2,  140.95,2,   42.32,2,    0.00,2,    3.06,2,-999.000,9,-999.000,9,-999.0000,9,  2376.4,2,  2399.9,2,   7.3928,2,    25.02,2, -999.00,1,  -999.0,1, -999.00,1, -999.00,1,     -999.0,9, 20220709,      204,  31.5029,-120.2869,     2.8978,2,     -999.0,9,     -999.0,9,     -999.0,9,     -999.0,9,     0.0134,1,     4.6877,1,     -999.0,9,     -999.0,9,     -999.0,9,     -999.0,9,     -999.0,9
33RR20220613,       P02E,     190,          1,         12,         12,2,20220709,       0103,    31.5029,  -120.2869,       3935,  1581.8,2,   2.6933,2,  34.5755,2,  34.5761,2,     53.6,2,    53.7,2,  146.61,2,   42.03,2,    0.00,2,    3.01,2,   0.014,2,   0.014,2,   0.0000,2,  -999.0,9,  -999.0,9,-999.0000,9,  -999.00,9, -999.00,1,  -999.0,1, -999.00,1, -999.00,1,       37.1,2, 20220709,      201,  31.5029,-120.2869,     2.6964,2,     -999.0,9,     -999.0,9,     -999.0,9,     -999.0,9,     0.0134,1,     4.6879,1,     -999.0,9,     -999.0,9,     -999.0,9,     -999.0,9,     -999.0,9
33RR20220613,       P02E,     190,          1,         11,         11,2,20220709,       0103,    31.5029,  -120.2869,       3935,  1683.8,2,   2.5001,2,  34.5892,2,  34.5930,2,     60.6,2,    60.7,2,  150.52,2,   41.72,2,    0.00,2,    2.98,2,-999.000,9,-999.000,9,-999.0000,9,  2379.6,2,  2409.0,2,   7.4159,2,    25.00,2, -999.00,1,  -999.0,1, -999.00,1, -999.00,1,     -999.0,9, 20220709,      158,  31.5029,-120.2869,     2.5005,2,     -999.0,9,     -999.0,9,     -999.0,9,     -999.0,9,     0.0134,1,     4.6887,1,     -999.0,9,     -999.0,9,     -999.0,9,     -999.0,9,     -999.0,9
33RR20220613,       P02E,     190,          1,         10,         10,2,20220709,       0103,    31.5029,  -120.2869,       3935,  1785.5,2,   2.3351,2,  34.6008,2,  34.6018,2,     67.3,2,    67.0,2,  154.52,2,   41.38,2,    0.00,2,    2.93,2,   0.007,2,   0.008,2,   0.0000,2,  -999.0,9,  -999.0,9,-999.0000,9,  -999.00,9, -999.00,1,  -999.0,1, -999.00,1, -999.00,1,       34.5,2, 20220709,      154,  31.5029,-120.2869,     2.3355,2,     -999.0,9,     -999.0,9,     -999.0,9,     -999.0,9,     0.0134,1,     4.6891,1,     -999.0,9,     -999.0,9,     -999.0,9,     -999.0,9,     -999.0,9
33RR20220613,       P02E,     190,          1,          9,          9,2,20220709,       0103,    31.5029,  -120.2869,       3935,  1958.1,2,   2.1349,2,  34.6174,2,  34.6191,2,     77.5,2,    78.1,2,  158.33,2,   40.69,2,    0.00,2,    2.85,2,   0.006,2,   0.007,2,   0.0000,2,  2374.5,3,  2418.4,2,   7.4491,2,    25.00,2, -999.00,9,  -999.0,9, -999.00,1, -999.00,1,       31.7,2, 20220709,      151,  31.5029,-120.2869,     2.1337,2,     -999.0,9,     -999.0,9,     -999.0,9,     -999.0,9,     0.0134,1,     4.6895,1,     -999.0,9,     -999.0,9,     -999.0,9,     -999.0,9,     -999.0,9
33RR20220613,       P02E,     190,          1,          8,          8,2,20220709,       0103,    31.5029,  -120.2869,       3935,  2192.1,2,   1.9581,2,  34.6354,2,  34.6350,2,     89.9,2,    89.6,2,  161.35,2,   39.91,2,    0.00,2,    2.79,2,   0.005,2,   0.007,2,   0.0000,2,  -999.0,9,  -999.0,9,-999.0000,9,  -999.00,9, -999.00,9,  -999.0,9, -999.00,1, -999.00,1,       30.0,2, 20220709,      145,  31.5029,-120.2869,     1.9588,2,     -999.0,9,     -999.0,9,     -999.0,9,     -999.0,9,     0.0133,1,     4.6906,1,     -999.0,9,     -999.0,9,     -999.0,9,     -999.0,9,     -999.0,9
33RR20220613,       P02E,     190,          1,          7,          7,2,20220709,       0103,    31.5029,  -120.2869,       3935,  2446.6,2,   1.8399,2,  34.6465,2,  34.6472,2,     98.9,2,    99.1,2,  163.11,2,   39.27,2,    0.00,2,    2.73,2,   0.007,2,   0.007,2,   0.0000,2,  2372.3,2,  2425.0,2,   7.4903,2,    24.99,2, -999.00,9,  -999.0,9, -999.00,1, -999.00,1,       27.7,2, 20220709,      139,  31.5029,-120.2869,     1.8393,2,     -999.0,9,     -999.0,9,     -999.0,9,     -999.0,9,     0.0133,1,     4.6909,1,     -999.0,9,     -999.0,9,     -999.0,9,     -999.0,9,     -999.0,9
33RR20220613,       P02E,     190,          1,          6,          6,2,20220709,       0103,    31.5029,  -120.2869,       3935,  2702.5,2,   1.7331,2,  34.6561,2,  34.6570,2,    107.8,2,   107.7,2,  164.09,2,   38.75,2,    0.00,2,    2.70,2,   0.006,2,   0.007,2,   0.0000,2,  -999.0,9,  -999.0,9,-999.0000,9,  -999.00,9, -999.00,9,  -999.0,9, -999.00,1, -999.00,1,       27.0,2, 20220709,      133,  31.5029,-120.2869,     1.7333,2,     -999.0,9,     -999.0,9,     -999.0,9,     -999.0,9,     0.0123,1,     4.6922,1,     -999.0,9,     -999.0,9,     -999.0,9,     -999.0,9,     -999.0,9
33RR20220613,       P02E,     190,          1,          5,          5,2,20220709,       0103,    31.5029,  -120.2869,       3935,  2957.9,2,   1.6583,2,  34.6629,2,  34.6645,2,    114.5,2,   115.0,2,  165.45,2,   38.31,2,    0.00,2,    2.67,2,   0.009,2,   0.010,2,   0.0000,2,  2359.1,3,  2428.8,2,   7.5209,2,    24.97,2, -999.00,9,  -999.0,9, -999.00,1, -999.00,1,       25.8,2, 20220709,      127,  31.5029,-120.2869,     1.6589,2,     -999.0,9,     -999.0,9,     -999.0,9,     -999.0,9,     0.0131,1,     4.6932,1,     -999.0,9,     -999.0,9,     -999.0,9,     -999.0,9,     -999.0,9