BOTTLE,20230830CCHSIOCBG
EXPOCODE,SECT_ID,STNNBR,CASTNO,SAMPNO,BTLNBR,BTLNBR_FLAG_W,DATE,TIME,LATITUDE,LONGITUDE,DEPTH,CTDPRS,CTDPRS_FLAG_W,CTDTMP,CTDTMP_FLAG_W,CTDSAL,CTDSAL_FLAG_W,SALNTY,SALNTY_FLAG_W,CTDOXY,CTDOXY_FLAG_W,OXYGEN,OXYGEN_FLAG_W,SILCAT,SILCAT_FLAG_W,NITRAT,NITRAT_FLAG_W,NITRIT,NITRIT_FLAG_W,PHSPHT,PHSPHT_FLAG_W,CFC-11,CFC-11_FLAG_W,CFC-12,CFC-12_FLAG_W,SF6,SF6_FLAG_W,TCARBN,TCARBN_FLAG_W,ALKALI,ALKALI_FLAG_W,PH_TOT,PH_TOT_FLAG_W,PH_TMP,PH_TMP_FLAG_W,DELC13,DELC13_FLAG_W,DELC14,DELC14_FLAG_W,DOC,DOC_FLAG_W,TDN,TDN_FLAG_W,N2O,N2O_FLAG_W,BTL_DATE,BTL_TIME,BTL_LAT,BTL_LON,REFTMP,REFTMP_FLAG_W,POC,POC_FLAG_W,PON,PON_FLAG_W,POP,POP_FLAG_W,PCOD,PCOD_FLAG_W,CTDFLUOR,CTDFLUOR_FLAG_W,CTDXMISS,CTDXMISS_FLAG_W,HPLC,HPLC_FLAG_W,DNA,DNA_FLAG_W,FCM,FCM_FLAG_W,IMAGES,IMAGES_FLAG_W,VIRAL_ABUNDANCE,VIRAL_ABUNDANCE_FLAG_W
,,,,,,,,,,,METERS,DBAR,,ITS-90,,PSS-78,,PSS-78,,UMOL/KG,,UMOL/KG,,UMOL/KG,,UMOL/KG,,UMOL/KG,,UMOL/KG,,PMOL/KG,,PMOL/KG,,FMOL/KG,,UMOL/KG,,UMOL/KG,,,,DEG C,,/MILLE,,/MILLE,,UMOL/KG,,UMOL/KG,,NMOL/KG,,,,,,ITS-90,,UG/L,,UG/L,,UG/L,,UG/L,,VOLTS,,VOLTS,,,,,,,,,,,
33RR20220613,       P02E,     139,          1,          4,          4,2,20220623,       2214,    29.9999,  -149.0879,       5663,  4852.5,2,   1.5087,2,  34.6895,2,  34.6908,2,    156.9,2,   156.8,2,  149.70,2,   35.68,2,    0.00,2,    2.68,4,-999.000,9,-999.000,9,-999.0000,9,  2323.7,2,  2420.6,6,   7.5848,2,    25.02,2, -999.00,9,  -999.0,9, -999.00,9, -999.00,9,     -999.0,9, 20220623,     2235,  30.0000,-149.0879,     1.5086,2,     -999.0,9,     -999.0,9,     -999.0,9,     -999.0,9,     0.0122,1,     4.7042,1,     -999.0,9,     -999.0,9,     -999.0,9,     -999.0,9,     -999.0,9
33RR20220613,       P02E,     139,          1,          3,          3,2,20220623,       2214,    29.9999,  -149.0879,       5663,  5263.8,2,   1.5436,2,  34.6906,2,  34.6912,2,    159.9,2,   160.1,2,  147.55,2,   35.47,2,    0.00,2,    2.66,4,   0.006,2,   0.006,2,   0.0000,2,  2319.6,2,  2416.8,2,   7.5870,2,    25.01,2, -999.00,9,  -999.0,9, -999.00,9, -999.00,9,       20.8,2, 20220623,     2227,  30.0000,-149.0879,     1.5438,2,     -999.0,9,     -999.0,9,     -999.0,9,     -999.0,9,     0.0122,1,     4.7032,1,     -999.0,9,     -999.0,9,     -999.0,9,     -999.0,9,     -999.0,9
33RR20220613,       P02E,     139,          1,          2,          2,2,20220623,       2214,    29.9999,  -149.0879,       5663,  5532.6,2,   1.5744,2,  34.6909,2,  34.6926,2,    160.8,2,   160.9,2,  146.47,2,   35.44,2,    0.00,2,    2.66,4,-999.000,9,-999.000,9,-999.0000,9,  2318.4,2,  2417.2,2,   7.5875,2,    25.03,2, -999.00,9,  -999.0,9, -999.00,9, -999.00,9,     -999.0,9, 20220623,     2221,  30.0000,-149.0878,     1.5745,2,     -999.0,9,     -999.0,9,     -999.0,9,     -999.0,9,     0.0122,1,     4.7030,1,     -999.0,9,     -999.0,9,     -999.0,9,     -999.0,9,     -999.0,9
33RR20220613,       P02E,     139,          1,          1,          1,2,20220623,       2214,    29.9999,  -149.0879,       5663,  5766.6,2,   1.6052,2,  34.6910,2,  34.6922,2,    161.0,2,   161.1,2,  146.37,2,   35.40,2,    0.00,2,    2.66,4,   0.009,2,   0.008,2,   0.0000,2,  2319.6,6,  2416.6,2,   7.5872,2,    25.01,2, -999.00,9,  -999.0,9, -999.00,9, -999.00,9,       22.3,2, 20220623,     2214,  29.9999,-149.0878,     1.6054,2,     -999.0,9,     -999.0,9,     -999.0,9,     -999.0,9,     0.0122,1,     4.7026,1,     -999.0,9,     -999.0,9,     -999.0,9,     -999.0,9,     -999.0,9
33RR20220613,       P02E,     140,          1,         12,         12,2,20220624,       0413,    30.0000,  -148.5106,       4419,     3.6,2,  23.6450,2,  35.2801,2,-999.0000,9,    216.7,2,  -999.0,9, -999.00,9, -999.00,9, -999.00,9, -999.00,9,-999.000,9,-999.000,9,-999.0000,9,  -999.0,9,  -999.0,9,-999.0000,9,  -999.00,9, -999.00,9,  -999.0,9, -999.00,9, -999.00,9,     -999.0,9, 20220624,      441,  30.0000,-148.5106,     -999.0,9,     -999.0,1,     -999.0,1,     -999.0,9,     -999.0,9,     0.0135,1,     4.6334,1,     -999.0,9,     -999.0,9,     -999.0,9,     -999.0,9,     -999.0,9
33RR20220613,       P02E,     140,          1,         15,         15,2,20220624,       0413,    30.0000,  -148.5106,       4419,     3.7,2,  23.6448,2,  35.2801,2,-999.0000,9,    216.6,2,  -999.0,9, -999.00,9, -999.00,9, -999.00,9, -999.00,9,-999.000,9,-999.000,9,-999.0000,9,  -999.0,9,  -999.0,9,-999.0000,9,  -999.00,9, -999.00,9,  -999.0,9, -999.00,9, -999.00,9,     -999.0,9, 20220624,      442,  30.0000,-148.5106,     -999.0,9,     -999.0,9,     -999.0,9,     -999.0,1,     -999.0,9,     0.0134,1,     4.6329,1,     -999.0,9,     -999.0,9,     -999.0,9,     -999.0,9,     -999.0,9
33RR20220613,       P02E,     140,          1,         11,         11,2,20220624,       0413,    30.0000,  -148.5106,       4419,     3.8,2,  23.6451,2,  35.2800,2,-999.0000,9,    216.6,2,  -999.0,9, -999.00,9, -999.00,9, -999.00,9, -999.00,9,-999.000,9,-999.000,9,-999.0000,9,  -999.0,9,  -999.0,9,-999.0000,9,  -999.00,9, -999.00,9,  -999.0,9, -999.00,9, -999.00,9,     -999.0,9, 20220624,      441,  30.0000,-148.5106,     -999.0,9,     -999.0,1,     -999.0,1,     -999.0,9,     -999.0,9,     0.0134,1,     4.6334,1,     -999.0,9,     -999.0,9,     -999.0,9,     -999.0,9,     -999.0,9
33RR20220613,       P02E,     140,          1,          9,          9,2,20220624,       0413,    30.0000,  -148.5106,       4419,     3.9,2,  23.6454,2,  35.2800,2,-999.0000,9,    216.5,2,  -999.0,9, -999.00,9, -999.00,9, -999.00,9, -999.00,9,-999.000,9,-999.000,9,-999.0000,9,  -999.0,9,  -999.0,9,-999.0000,9,  -999.00,9, -999.00,9,  -999.0,9, -999.00,9, -999.00,9,     -999.0,9, 20220624,      441,  30.0000,-148.5106,    23.6445,2,     -999.0,9,     -999.0,9,     -999.0,9,     -999.0,9,     0.0134,1,     4.6341,1,     -999.0,1,     -999.0,9,     -999.0,1,     -999.0,9,     -999.0,9
33RR20220613,       P02E,     140,          1,         17,         37,2,20220624,       0413,    30.0000,  -148.5106,       4419,     4.0,2,  23.6441,2,  35.2801,2,-999.0000,9,    216.6,2,  -999.0,9, -999.00,9, -999.00,9, -999.00,9, -999.00,9,-999.000,9,-999.000,9,-999.0000,9,  -999.0,9,  -999.0,9,-999.0000,9,  -999.00,9, -999.00,9,  -999.0,9, -999.00,9, -999.00,9,     -999.0,9, 20220624,      442,  30.0000,-148.5106,    23.6438,2,     -999.0,9,     -999.0,9,     -999.0,9,     -999.0,1,     0.0134,1,     4.6331,1,     -999.0,9,     -999.0,9,     -999.0,9,     -999.0,9,     -999.0,9
33RR20220613,       P02E,     140,          1,         16,         16,2,20220624,       0413,    30.0000,  -148.5106,       4419,     4.1,2,  23.6440,2,  35.2800,2,-999.0000,9,    216.6,2,  -999.0,9, -999.00,9, -999.00,9, -999.00,9, -999.00,9,-999.000,9,-999.000,9,-999.0000,9,  -999.0,9,  -999.0,9,-999.0000,9,  -999.00,9, -999.00,9,  -999.0,9, -999.00,9, -999.00,9,     -999.0,9, 20220624,      442,  30.0000,-148.5106,     -999.0,9,     -999.0,9,     -999.0,9,     -999.0,1,     -999.0,9,     0.0134,1,     4.6326,1,     -999.0,9,     -999.0,9,     -999.0,9,     -999.0,9,     -999.0,9
33RR20220613,       P02E,     140,          1,         10,         10,2,20220624,       0413,    30.0000,  -148.5106,       4419,     4.1,2,  23.6454,2,  35.2800,2,-999.0000,9,    216.5,2,  -999.0,9, -999.00,9, -999.00,9, -999.00,9, -999.00,9,-999.000,9,-999.000,9,-999.0000,9,  -999.0,9,  -999.0,9,-999.0000,9,  -999.00,9, -999.00,9,  -999.0,9, -999.00,9, -999.00,9,     -999.0,9, 20220624,      441,  30.0000,-148.5106,     -999.0,9,     -999.0,9,     -999.0,9,     -999.0,9,     -999.0,9,     0.0135,1,     4.6330,1,     -999.0,9,     -999.0,1,     -999.0,9,     -999.0,9,     -999.0,9
33RR20220613,       P02E,     140,          1,         19,         39,2,20220624,       0413,    30.0000,  -148.5106,       4419,     4.1,2,  23.6444,2,  35.2802,2,-999.0000,9,    216.6,2,  -999.0,9, -999.00,9, -999.00,9, -999.00,9, -999.00,9,-999.000,9,-999.000,9,-999.0000,9,  -999.0,9,  -999.0,9,-999.0000,9,  -999.00,9, -999.00,9,  -999.0,9, -999.00,9, -999.00,9,     -999.0,9, 20220624,      442,  30.0000,-148.5106,     -999.0,9,     -999.0,9,     -999.0,9,     -999.0,9,     -999.0,1,     0.0135,1,     4.6328,1,     -999.0,9,     -999.0,9,     -999.0,9,     -999.0,9,     -999.0,9
33RR20220613,       P02E,     140,          1,         14,         14,2,20220624,       0413,    30.0000,  -148.5106,       4419,     4.2,2,  23.6448,2,  35.2801,2,-999.0000,9,    216.5,2,  -999.0,9, -999.00,9, -999.00,9, -999.00,9, -999.00,9,-999.000,9,-999.000,9,-999.0000,9,  -999.0,9,  -999.0,9,-999.0000,9,  -999.00,9, -999.00,9,  -999.0,9, -999.00,9, -999.00,9,     -999.0,9, 20220624,      442,  30.0000,-148.5106,     -999.0,9,     -999.0,9,     -999.0,9,     -999.0,1,     -999.0,9,     0.0135,1,     4.6323,1,     -999.0,9,     -999.0,9,     -999.0,9,     -999.0,9,     -999.0,9
33RR20220613,       P02E,     140,          1,         18,         18,2,20220624,       0413,    30.0000,  -148.5106,       4419,     4.3,2,  23.6444,2,  35.2801,2,-999.0000,9,    216.6,2,  -999.0,9, -999.00,9, -999.00,9, -999.00,9, -999.00,9,-999.000,9,-999.000,9,-999.0000,9,  -999.0,9,  -999.0,9,-999.0000,9,  -999.00,9, -999.00,9,  -999.0,9, -999.00,9, -999.00,9,     -999.0,9, 20220624,      442,  30.0000,-148.5106,     -999.0,9,     -999.0,9,     -999.0,9,     -999.0,9,     -999.0,1,     0.0135,1,     4.6337,1,     -999.0,9,     -999.0,9,     -999.0,9,     -999.0,9,     -999.0,9
33RR20220613,       P02E,     140,          1,         13,         13,2,20220624,       0413,    30.0000,  -148.5106,       4419,     4.4,2,  23.6446,2,  35.2801,2,-999.0000,9,    216.7,2,  -999.0,9, -999.00,9, -999.00,9, -999.00,9, -999.00,9,-999.000,9,-999.000,9,-999.0000,9,  -999.0,9,  -999.0,9,-999.0000,9,  -999.00,9, -999.00,9,  -999.0,9, -999.00,9, -999.00,9,     -999.0,9, 20220624,      441,  30.0000,-148.5106,     -999.0,9,     -999.0,1,     -999.0,1,     -999.0,9,     -999.0,9,     0.0135,1,     4.6333,1,     -999.0,9,     -999.0,9,     -999.0,9,     -999.0,9,     -999.0,9
33RR20220613,       P02E,     140,          1,          8,          8,2,20220624,       0413,    30.0000,  -148.5106,       4419,    40.8,2,  21.9878,2,  35.2014,2,-999.0000,9,    231.7,2,  -999.0,9, -999.00,9, -999.00,9, -999.00,9, -999.00,9,-999.000,9,-999.000,9,-999.0000,9,  -999.0,9,  -999.0,9,-999.0000,9,  -999.00,9, -999.00,9,  -999.0,9, -999.00,9, -999.00,9,     -999.0,9, 20220624,      439,  30.0000,-148.5105,    21.9978,2,     -999.0,9,     -999.0,9,     -999.0,9,     -999.0,9,     0.0147,1,     4.6278,1,     -999.0,1,     -999.0,9,     -999.0,1,     -999.0,9,     -999.0,9
33RR20220613,       P02E,     140,          1,          7,          7,2,20220624,       0413,    30.0000,  -148.5106,       4419,    76.2,2,  20.2013,2,  35.0483,2,-999.0000,9,    237.1,2,  -999.0,9, -999.00,9, -999.00,9, -999.00,9, -999.00,9,-999.000,9,-999.000,9,-999.0000,9,  -999.0,9,  -999.0,9,-999.0000,9,  -999.00,9, -999.00,9,  -999.0,9, -999.00,9, -999.00,9,     -999.0,9, 20220624,      436,  30.0000,-148.5105,    20.1990,2,     -999.0,9,     -999.0,9,     -999.0,9,     -999.0,9,     0.0159,1,     4.6374,1,     -999.0,9,     -999.0,9,     -999.0,1,     -999.0,9,     -999.0,9
33RR20220613,       P02E,     140,          1,          5,          5,2,20220624,       0413,    30.0000,  -148.5106,       4419,   101.8,2,  19.4659,2,  34.9514,2,-999.0000,9,    235.2,2,  -999.0,9, -999.00,9, -999.00,9, -999.00,9, -999.00,9,-999.000,9,-999.000,9,-999.0000,9,  -999.0,9,  -999.0,9,-999.0000,9,  -999.00,9, -999.00,9,  -999.0,9, -999.00,9, -999.00,9,     -999.0,9, 20220624,      434,  30.0000,-148.5106,    19.4679,2,     -999.0,9,     -999.0,9,     -999.0,9,     -999.0,9,     0.0183,1,     4.6475,1,     -999.0,9,     -999.0,9,     -999.0,1,     -999.0,9,     -999.0,9
33RR20220613,       P02E,     140,          1,          6,          6,2,20220624,       0413,    30.0000,  -148.5106,       4419,   101.9,2,  19.4660,2,  34.9518,2,-999.0000,9,    235.1,2,  -999.0,9, -999.00,9, -999.00,9, -999.00,9, -999.00,9,-999.000,9,-999.000,9,-999.0000,9,  -999.0,9,  -999.0,9,-999.0000,9,  -999.00,9, -999.00,9,  -999.0,9, -999.00,9, -999.00,9,     -999.0,9, 20220624,      434,  30.0000,-148.5106,     -999.0,9,     -999.0,9,     -999.0,9,     -999.0,9,     -999.0,9,     0.0183,1,     4.6486,1,     -999.0,1,     -999.0,1,     -999.0,9,     -999.0,9,     -999.0,9
33RR20220613,       P02E,     140,          1,          4,          4,2,20220624,       0413,    30.0000,  -148.5106,       4419,   151.5,2,  16.2616,2,  34.4672,2,-999.0000,9,    220.0,2,  -999.0,9, -999.00,9, -999.00,9, -999.00,9, -999.00,9,-999.000,9,-999.000,9,-999.0000,9,  -999.0,9,  -999.0,9,-999.0000,9,  -999.00,9, -999.00,9,  -999.0,9, -999.00,9, -999.00,9,     -999.0,9, 20220624,      432,  30.0000,-148.5105,    16.1946,2,     -999.0,9,     -999.0,9,     -999.0,9,     -999.0,9,     0.0333,1,     4.6572,1,     -999.0,9,     -999.0,9,     -999.0,1,     -999.0,9,     -999.0,9
33RR20220613,       P02E,     140,          1,          3,          3,2,20220624,       0413,    30.0000,  -148.5106,       4419,   202.2,2,  13.2785,2,  34.1897,2,-999.0000,9,    218.8,2,  -999.0,9, -999.00,9, -999.00,9, -999.00,9, -999.00,9,-999.000,9,-999.000,9,-999.0000,9,  -999.0,9,  -999.0,9,-999.0000,9,  -999.00,9, -999.00,9,  -999.0,9, -999.00,9, -999.00,9,     -999.0,9, 20220624,      429,  30.0000,-148.5105,    13.2904,2,     -999.0,9,     -999.0,9,     -999.0,9,     -999.0,9,     0.0178,1,     4.6837,1,     -999.0,9,     -999.0,1,     -999.0,1,     -999.0,9,     -999.0,9
33RR20220613,       P02E,     140,          1,          2,          2,2,20220624,       0413,    30.0000,  -148.5106,       4419,   505.0,2,   7.2543,2,  33.9956,2,-999.0000,9,    148.8,2,  -999.0,9, -999.00,9, -999.00,9, -999.00,9, -999.00,9,-999.000,9,-999.000,9,-999.0000,9,  -999.0,9,  -999.0,9,-999.0000,9,  -999.00,9, -999.00,9,  -999.0,9, -999.00,9, -999.00,9,     -999.0,9, 20220624,      423,  30.0000,-148.5105,     7.2552,2,     -999.0,9,     -999.0,9,     -999.0,9,     -999.0,9,     0.0132,1,     4.6971,1,     -999.0,9,     -999.0,9,     -999.0,1,     -999.0,9,     -999.0,9
33RR20220613,       P02E,     140,          1,          1,          1,2,20220624,       0413,    30.0000,  -148.5106,       4419,  1011.1,2,   3.6769,2,  34.3923,2,-999.0000,9,     16.0,2,  -999.0,9, -999.00,9, -999.00,9, -999.00,9, -999.00,9,-999.000,9,-999.000,9,-999.0000,9,  -999.0,9,  -999.0,9,-999.0000,9,  -999.00,9, -999.00,9,  -999.0,9, -999.00,9, -999.00,9,     -999.0,9, 20220624,      413,  30.0000,-148.5105,     3.6793,2,     -999.0,9,     -999.0,9,     -999.0,9,     -999.0,9,     0.0134,1,     4.6984,1,     -999.0,9,     -999.0,1,     -999.0,1,     -999.0,9,     -999.0,9