BOTTLE,20230830CCHSIOCBG
EXPOCODE,SECT_ID,STNNBR,CASTNO,SAMPNO,BTLNBR,BTLNBR_FLAG_W,DATE,TIME,LATITUDE,LONGITUDE,DEPTH,CTDPRS,CTDPRS_FLAG_W,CTDTMP,CTDTMP_FLAG_W,CTDSAL,CTDSAL_FLAG_W,SALNTY,SALNTY_FLAG_W,CTDOXY,CTDOXY_FLAG_W,OXYGEN,OXYGEN_FLAG_W,SILCAT,SILCAT_FLAG_W,NITRAT,NITRAT_FLAG_W,NITRIT,NITRIT_FLAG_W,PHSPHT,PHSPHT_FLAG_W,CFC-11,CFC-11_FLAG_W,CFC-12,CFC-12_FLAG_W,SF6,SF6_FLAG_W,TCARBN,TCARBN_FLAG_W,ALKALI,ALKALI_FLAG_W,PH_TOT,PH_TOT_FLAG_W,PH_TMP,PH_TMP_FLAG_W,DELC13,DELC13_FLAG_W,DELC14,DELC14_FLAG_W,DOC,DOC_FLAG_W,TDN,TDN_FLAG_W,N2O,N2O_FLAG_W,BTL_DATE,BTL_TIME,BTL_LAT,BTL_LON,REFTMP,REFTMP_FLAG_W,POC,POC_FLAG_W,PON,PON_FLAG_W,POP,POP_FLAG_W,PCOD,PCOD_FLAG_W,CTDFLUOR,CTDFLUOR_FLAG_W,CTDXMISS,CTDXMISS_FLAG_W,HPLC,HPLC_FLAG_W,DNA,DNA_FLAG_W,FCM,FCM_FLAG_W,IMAGES,IMAGES_FLAG_W,VIRAL_ABUNDANCE,VIRAL_ABUNDANCE_FLAG_W
,,,,,,,,,,,METERS,DBAR,,ITS-90,,PSS-78,,PSS-78,,UMOL/KG,,UMOL/KG,,UMOL/KG,,UMOL/KG,,UMOL/KG,,UMOL/KG,,PMOL/KG,,PMOL/KG,,FMOL/KG,,UMOL/KG,,UMOL/KG,,,,DEG C,,/MILLE,,/MILLE,,UMOL/KG,,UMOL/KG,,NMOL/KG,,,,,,ITS-90,,UG/L,,UG/L,,UG/L,,UG/L,,VOLTS,,VOLTS,,,,,,,,,,,
33RR20220613,       P02E,     124,          1,          4,          4,2,20220618,       2049,    29.9995,  -157.7496,       5948,  4887.6,2,   1.5216,2,  34.6883,2,  34.6883,2,    154.5,2,   154.7,2,  149.88,2,   36.04,2,    0.00,2,    2.75,4,   0.005,2,   0.004,2,   0.0000,2,  2321.9,2,  2419.0,2,   7.5834,2,    25.01,2, -999.00,9,  -999.0,9, -999.00,1, -999.00,1,       23.2,2, 20220618,     2126,  29.9995,-157.7496,     1.5217,2,     -999.0,9,     -999.0,9,     -999.0,9,     -999.0,9,     0.0122,1,     4.7036,1,     -999.0,9,     -999.0,9,     -999.0,9,     -999.0,9,     -999.0,9
33RR20220613,       P02E,     124,          1,          3,          3,2,20220618,       2049,    29.9995,  -157.7496,       5948,  5379.2,2,   1.5686,2,  34.6897,2,  34.6905,2,    157.7,2,   157.9,2,  147.54,2,   35.86,2,    0.00,2,    2.73,4,   0.005,2,   0.006,2,   0.0000,2,  -999.0,9,  -999.0,9,-999.0000,9,  -999.00,9, -999.00,9,  -999.0,9, -999.00,1, -999.00,1,       23.3,2, 20220618,     2113,  29.9995,-157.7496,     1.5683,2,     -999.0,9,     -999.0,9,     -999.0,9,     -999.0,9,     0.0122,1,     4.7029,1,     -999.0,9,     -999.0,9,     -999.0,9,     -999.0,9,     -999.0,9
33RR20220613,       P02E,     124,          1,          2,          2,2,20220618,       2049,    29.9995,  -157.7496,       5948,  5714.4,2,   1.6101,2,  34.6900,2,  34.6897,2,    158.4,2,   158.5,2,  147.05,2,   35.82,2,    0.00,2,    2.73,4,   0.004,2,   0.003,2,   0.0000,2,  2319.1,6,  -999.0,1,   7.5872,2,    25.01,2, -999.00,9,  -999.0,9, -999.00,1, -999.00,1,       23.8,2, 20220618,     2102,  29.9995,-157.7496,     1.6103,2,     -999.0,9,     -999.0,9,     -999.0,9,     -999.0,9,     0.0122,1,     4.7021,1,     -999.0,9,     -999.0,9,     -999.0,9,     -999.0,9,     -999.0,9
33RR20220613,       P02E,     124,          1,          1,          1,2,20220618,       2049,    29.9995,  -157.7496,       5948,  6055.7,2,   1.6564,2,  34.6901,2,  34.6901,2,    158.6,2,   158.6,2,  146.75,2,   35.89,2,    0.00,2,    2.73,4,   0.010,2,   0.009,2,   0.0000,2,  2318.5,2,  2413.5,2,   7.5871,2,    25.01,2, -999.00,9,  -999.0,9, -999.00,1, -999.00,1,       25.3,2, 20220618,     2049,  29.9995,-157.7496,     1.6568,2,     -999.0,9,     -999.0,9,     -999.0,9,     -999.0,9,     0.0122,1,     4.7019,1,     -999.0,9,     -999.0,9,     -999.0,9,     -999.0,9,     -999.0,9
33RR20220613,       P02E,     125,          1,         16,         16,2,20220619,       0302,    30.0000,  -157.1710,       5941,     3.2,2,  25.1086,2,  35.2619,2,-999.0000,9,    209.7,2,  -999.0,9, -999.00,9, -999.00,9, -999.00,9, -999.00,9,-999.000,9,-999.000,9,-999.0000,9,  -999.0,9,  -999.0,9,-999.0000,9,  -999.00,9, -999.00,9,  -999.0,9, -999.00,9, -999.00,9,     -999.0,9, 20220619,      332,  30.0000,-157.1710,     -999.0,9,     -999.0,9,     -999.0,9,     -999.0,1,     -999.0,9,     0.0110,1,     0.0097,1,     -999.0,9,     -999.0,9,     -999.0,9,     -999.0,9,     -999.0,9
33RR20220613,       P02E,     125,          1,         14,         14,2,20220619,       0302,    30.0000,  -157.1710,       5941,     3.3,2,  25.1023,2,  35.2619,2,-999.0000,9,    209.7,2,  -999.0,9, -999.00,9, -999.00,9, -999.00,9, -999.00,9,-999.000,9,-999.000,9,-999.0000,9,  -999.0,9,  -999.0,9,-999.0000,9,  -999.00,9, -999.00,9,  -999.0,9, -999.00,9, -999.00,9,     -999.0,9, 20220619,      332,  30.0000,-157.1710,     -999.0,9,     -999.0,9,     -999.0,9,     -999.0,1,     -999.0,9,     0.0111,1,     0.0097,1,     -999.0,9,     -999.0,9,     -999.0,9,     -999.0,9,     -999.0,9
33RR20220613,       P02E,     125,          1,         11,         11,2,20220619,       0302,    30.0000,  -157.1710,       5941,     3.3,2,  25.0976,2,  35.2624,2,-999.0000,9,    209.7,2,  -999.0,9, -999.00,9, -999.00,9, -999.00,9, -999.00,9,-999.000,9,-999.000,9,-999.0000,9,  -999.0,9,  -999.0,9,-999.0000,9,  -999.00,9, -999.00,9,  -999.0,9, -999.00,9, -999.00,9,     -999.0,9, 20220619,      332,  30.0000,-157.1710,     -999.0,9,     -999.0,1,     -999.0,1,     -999.0,9,     -999.0,9,     0.0114,1,     0.0097,1,     -999.0,9,     -999.0,9,     -999.0,9,     -999.0,9,     -999.0,9
33RR20220613,       P02E,     125,          1,          9,          9,2,20220619,       0302,    30.0000,  -157.1710,       5941,     3.5,2,  25.1023,2,  35.2616,2,-999.0000,9,    209.7,2,  -999.0,9, -999.00,9, -999.00,9, -999.00,9, -999.00,9,-999.000,9,-999.000,9,-999.0000,9,  -999.0,9,  -999.0,9,-999.0000,9,  -999.00,9, -999.00,9,  -999.0,9, -999.00,9, -999.00,9,     -999.0,9, 20220619,      332,  30.0000,-157.1710,    25.1022,2,     -999.0,9,     -999.0,9,     -999.0,9,     -999.0,9,     0.0110,1,     0.0097,1,     -999.0,1,     -999.0,9,     -999.0,1,     -999.0,9,     -999.0,9
33RR20220613,       P02E,     125,          1,         12,         12,2,20220619,       0302,    30.0000,  -157.1710,       5941,     3.5,2,  25.0997,2,  35.2621,2,-999.0000,9,    209.7,2,  -999.0,9, -999.00,9, -999.00,9, -999.00,9, -999.00,9,-999.000,9,-999.000,9,-999.0000,9,  -999.0,9,  -999.0,9,-999.0000,9,  -999.00,9, -999.00,9,  -999.0,9, -999.00,9, -999.00,9,     -999.0,9, 20220619,      332,  30.0000,-157.1710,     -999.0,9,     -999.0,1,     -999.0,1,     -999.0,9,     -999.0,9,     0.0122,1,     0.0097,1,     -999.0,9,     -999.0,9,     -999.0,9,     -999.0,9,     -999.0,9
33RR20220613,       P02E,     125,          1,         19,         39,2,20220619,       0302,    30.0000,  -157.1710,       5941,     3.5,2,  25.1056,2,  35.2623,2,-999.0000,9,    209.7,2,  -999.0,9, -999.00,9, -999.00,9, -999.00,9, -999.00,9,-999.000,9,-999.000,9,-999.0000,9,  -999.0,9,  -999.0,9,-999.0000,9,  -999.00,9, -999.00,9,  -999.0,9, -999.00,9, -999.00,9,     -999.0,9, 20220619,      332,  30.0000,-157.1710,     -999.0,9,     -999.0,9,     -999.0,9,     -999.0,9,     -999.0,1,     0.0118,1,     0.0097,1,     -999.0,9,     -999.0,9,     -999.0,9,     -999.0,9,     -999.0,9
33RR20220613,       P02E,     125,          1,         18,         18,2,20220619,       0302,    30.0000,  -157.1710,       5941,     3.6,2,  25.1074,2,  35.2619,2,-999.0000,9,    209.6,2,  -999.0,9, -999.00,9, -999.00,9, -999.00,9, -999.00,9,-999.000,9,-999.000,9,-999.0000,9,  -999.0,9,  -999.0,9,-999.0000,9,  -999.00,9, -999.00,9,  -999.0,9, -999.00,9, -999.00,9,     -999.0,9, 20220619,      332,  30.0000,-157.1710,     -999.0,9,     -999.0,9,     -999.0,9,     -999.0,9,     -999.0,1,     0.0110,1,     0.0097,1,     -999.0,9,     -999.0,9,     -999.0,9,     -999.0,9,     -999.0,9
33RR20220613,       P02E,     125,          1,         17,         37,2,20220619,       0302,    30.0000,  -157.1710,       5941,     3.7,2,  25.1063,2,  35.2621,2,-999.0000,9,    209.7,2,  -999.0,9, -999.00,9, -999.00,9, -999.00,9, -999.00,9,-999.000,9,-999.000,9,-999.0000,9,  -999.0,9,  -999.0,9,-999.0000,9,  -999.00,9, -999.00,9,  -999.0,9, -999.00,9, -999.00,9,     -999.0,9, 20220619,      332,  30.0000,-157.1710,     -999.0,9,     -999.0,9,     -999.0,9,     -999.0,9,     -999.0,1,     0.0114,1,     0.0097,1,     -999.0,9,     -999.0,9,     -999.0,9,     -999.0,9,     -999.0,9
33RR20220613,       P02E,     125,          1,         10,         10,2,20220619,       0302,    30.0000,  -157.1710,       5941,     3.7,2,  25.1030,2,  35.2619,2,-999.0000,9,    209.7,2,  -999.0,9, -999.00,9, -999.00,9, -999.00,9, -999.00,9,-999.000,9,-999.000,9,-999.0000,9,  -999.0,9,  -999.0,9,-999.0000,9,  -999.00,9, -999.00,9,  -999.0,9, -999.00,9, -999.00,9,     -999.0,9, 20220619,      332,  30.0000,-157.1710,     -999.0,9,     -999.0,9,     -999.0,9,     -999.0,9,     -999.0,9,     0.0111,1,     0.0097,1,     -999.0,9,     -999.0,1,     -999.0,9,     -999.0,9,     -999.0,9
33RR20220613,       P02E,     125,          1,         15,         15,2,20220619,       0302,    30.0000,  -157.1710,       5941,     3.7,2,  25.1016,2,  35.2619,2,-999.0000,9,    209.6,2,  -999.0,9, -999.00,9, -999.00,9, -999.00,9, -999.00,9,-999.000,9,-999.000,9,-999.0000,9,  -999.0,9,  -999.0,9,-999.0000,9,  -999.00,9, -999.00,9,  -999.0,9, -999.00,9, -999.00,9,     -999.0,9, 20220619,      332,  30.0000,-157.1710,    25.1066,2,     -999.0,9,     -999.0,9,     -999.0,1,     -999.0,9,     0.0115,1,     0.0097,1,     -999.0,9,     -999.0,9,     -999.0,9,     -999.0,9,     -999.0,9
33RR20220613,       P02E,     125,          1,         13,         13,2,20220619,       0302,    30.0000,  -157.1710,       5941,     3.8,2,  25.1005,2,  35.2622,2,-999.0000,9,    209.8,2,  -999.0,9, -999.00,9, -999.00,9, -999.00,9, -999.00,9,-999.000,9,-999.000,9,-999.0000,9,  -999.0,9,  -999.0,9,-999.0000,9,  -999.00,9, -999.00,9,  -999.0,9, -999.00,9, -999.00,9,     -999.0,9, 20220619,      332,  30.0000,-157.1710,     -999.0,9,     -999.0,1,     -999.0,1,     -999.0,9,     -999.0,9,     0.0112,1,     0.0097,1,     -999.0,9,     -999.0,9,     -999.0,9,     -999.0,9,     -999.0,9
33RR20220613,       P02E,     125,          1,          8,          8,2,20220619,       0302,    30.0000,  -157.1710,       5941,    40.2,2,  24.0275,2,  35.2669,2,-999.0000,9,    218.4,2,  -999.0,9, -999.00,9, -999.00,9, -999.00,9, -999.00,9,-999.000,9,-999.000,9,-999.0000,9,  -999.0,9,  -999.0,9,-999.0000,9,  -999.00,9, -999.00,9,  -999.0,9, -999.00,9, -999.00,9,     -999.0,9, 20220619,      330,  30.0000,-157.1710,    24.0290,2,     -999.0,9,     -999.0,9,     -999.0,9,     -999.0,9,     0.0122,1,     0.0097,1,     -999.0,1,     -999.0,9,     -999.0,1,     -999.0,9,     -999.0,9
33RR20220613,       P02E,     125,          1,          7,          7,2,20220619,       0302,    30.0000,  -157.1710,       5941,    75.6,2,  21.8244,2,  35.2546,2,-999.0000,9,    223.2,2,  -999.0,9, -999.00,9, -999.00,9, -999.00,9, -999.00,9,-999.000,9,-999.000,9,-999.0000,9,  -999.0,9,  -999.0,9,-999.0000,9,  -999.00,9, -999.00,9,  -999.0,9, -999.00,9, -999.00,9,     -999.0,9, 20220619,      327,  30.0000,-157.1710,    21.8199,2,     -999.0,9,     -999.0,9,     -999.0,9,     -999.0,9,     0.0116,1,     0.0096,1,     -999.0,9,     -999.0,9,     -999.0,1,     -999.0,9,     -999.0,9
33RR20220613,       P02E,     125,          1,          5,          5,2,20220619,       0302,    30.0000,  -157.1710,       5941,   101.9,2,  21.0350,2,  35.1958,2,-999.0000,9,    218.1,2,  -999.0,9, -999.00,9, -999.00,9, -999.00,9, -999.00,9,-999.000,9,-999.000,9,-999.0000,9,  -999.0,9,  -999.0,9,-999.0000,9,  -999.00,9, -999.00,9,  -999.0,9, -999.00,9, -999.00,9,     -999.0,9, 20220619,      324,  30.0000,-157.1710,    21.0369,2,     -999.0,9,     -999.0,9,     -999.0,9,     -999.0,9,     0.0110,1,     0.0096,1,     -999.0,1,     -999.0,9,     -999.0,1,     -999.0,9,     -999.0,9
33RR20220613,       P02E,     125,          1,          6,          6,2,20220619,       0302,    30.0000,  -157.1710,       5941,   101.9,2,  21.0345,2,  35.1970,2,-999.0000,9,    218.0,2,  -999.0,9, -999.00,9, -999.00,9, -999.00,9, -999.00,9,-999.000,9,-999.000,9,-999.0000,9,  -999.0,9,  -999.0,9,-999.0000,9,  -999.00,9, -999.00,9,  -999.0,9, -999.00,9, -999.00,9,     -999.0,9, 20220619,      324,  30.0000,-157.1710,     -999.0,9,     -999.0,9,     -999.0,9,     -999.0,9,     -999.0,9,     0.0110,1,     0.0097,1,     -999.0,9,     -999.0,1,     -999.0,9,     -999.0,9,     -999.0,9
33RR20220613,       P02E,     125,          1,          4,          4,2,20220619,       0302,    30.0000,  -157.1710,       5941,   151.9,2,  18.8558,2,  34.9213,2,-999.0000,9,    211.1,2,  -999.0,9, -999.00,9, -999.00,9, -999.00,9, -999.00,9,-999.000,9,-999.000,9,-999.0000,9,  -999.0,9,  -999.0,9,-999.0000,9,  -999.00,9, -999.00,9,  -999.0,9, -999.00,9, -999.00,9,     -999.0,9, 20220619,      323,  30.0000,-157.1710,    18.8614,2,     -999.0,9,     -999.0,9,     -999.0,9,     -999.0,9,     0.0110,1,     0.0096,1,     -999.0,9,     -999.0,9,     -999.0,1,     -999.0,9,     -999.0,9
33RR20220613,       P02E,     125,          1,          3,          3,2,20220619,       0302,    30.0000,  -157.1710,       5941,   202.7,2,  16.1829,2,  34.5794,2,-999.0000,9,    202.4,2,  -999.0,9, -999.00,9, -999.00,9, -999.00,9, -999.00,9,-999.000,9,-999.000,9,-999.0000,9,  -999.0,9,  -999.0,9,-999.0000,9,  -999.00,9, -999.00,9,  -999.0,9, -999.00,9, -999.00,9,     -999.0,9, 20220619,      320,  30.0000,-157.1710,    16.1944,2,     -999.0,9,     -999.0,9,     -999.0,9,     -999.0,9,     0.0112,1,     0.0097,1,     -999.0,9,     -999.0,1,     -999.0,1,     -999.0,9,     -999.0,9
33RR20220613,       P02E,     125,          1,          2,          2,2,20220619,       0302,    30.0000,  -157.1710,       5941,   504.0,2,   8.0025,2,  34.0276,2,-999.0000,9,    164.4,2,  -999.0,9, -999.00,9, -999.00,9, -999.00,9, -999.00,9,-999.000,9,-999.000,9,-999.0000,9,  -999.0,9,  -999.0,9,-999.0000,9,  -999.00,9, -999.00,9,  -999.0,9, -999.00,9, -999.00,9,     -999.0,9, 20220619,      313,  30.0000,-157.1710,     8.0109,2,     -999.0,9,     -999.0,9,     -999.0,9,     -999.0,9,     0.0110,1,     0.0096,1,     -999.0,9,     -999.0,9,     -999.0,1,     -999.0,9,     -999.0,9
33RR20220613,       P02E,     125,          1,          1,          1,2,20220619,       0302,    30.0000,  -157.1710,       5941,  1017.1,2,   3.6717,2,  34.3494,2,-999.0000,9,     11.6,2,  -999.0,9, -999.00,9, -999.00,9, -999.00,9, -999.00,9,-999.000,9,-999.000,9,-999.0000,9,  -999.0,9,  -999.0,9,-999.0000,9,  -999.00,9, -999.00,9,  -999.0,9, -999.00,9, -999.00,9,     -999.0,9, 20220619,      302,  30.0000,-157.1710,     3.6728,2,     -999.0,9,     -999.0,9,     -999.0,9,     -999.0,9,     0.0113,1,     0.0096,1,     -999.0,9,     -999.0,1,     -999.0,1,     -999.0,9,     -999.0,9