BOTTLE,20230830CCHSIOCBG
EXPOCODE,SECT_ID,STNNBR,CASTNO,SAMPNO,BTLNBR,BTLNBR_FLAG_W,DATE,TIME,LATITUDE,LONGITUDE,DEPTH,CTDPRS,CTDPRS_FLAG_W,CTDTMP,CTDTMP_FLAG_W,CTDSAL,CTDSAL_FLAG_W,SALNTY,SALNTY_FLAG_W,CTDOXY,CTDOXY_FLAG_W,OXYGEN,OXYGEN_FLAG_W,SILCAT,SILCAT_FLAG_W,NITRAT,NITRAT_FLAG_W,NITRIT,NITRIT_FLAG_W,PHSPHT,PHSPHT_FLAG_W,CFC-11,CFC-11_FLAG_W,CFC-12,CFC-12_FLAG_W,SF6,SF6_FLAG_W,TCARBN,TCARBN_FLAG_W,ALKALI,ALKALI_FLAG_W,PH_TOT,PH_TOT_FLAG_W,PH_TMP,PH_TMP_FLAG_W,DELC13,DELC13_FLAG_W,DELC14,DELC14_FLAG_W,DOC,DOC_FLAG_W,TDN,TDN_FLAG_W,N2O,N2O_FLAG_W,BTL_DATE,BTL_TIME,BTL_LAT,BTL_LON,REFTMP,REFTMP_FLAG_W,POC,POC_FLAG_W,PON,PON_FLAG_W,POP,POP_FLAG_W,PCOD,PCOD_FLAG_W,CTDFLUOR,CTDFLUOR_FLAG_W,CTDXMISS,CTDXMISS_FLAG_W,HPLC,HPLC_FLAG_W,DNA,DNA_FLAG_W,FCM,FCM_FLAG_W,IMAGES,IMAGES_FLAG_W,VIRAL_ABUNDANCE,VIRAL_ABUNDANCE_FLAG_W
,,,,,,,,,,,METERS,DBAR,,ITS-90,,PSS-78,,PSS-78,,UMOL/KG,,UMOL/KG,,UMOL/KG,,UMOL/KG,,UMOL/KG,,UMOL/KG,,PMOL/KG,,PMOL/KG,,FMOL/KG,,UMOL/KG,,UMOL/KG,,,,DEG C,,/MILLE,,/MILLE,,UMOL/KG,,UMOL/KG,,NMOL/KG,,,,,,ITS-90,,UG/L,,UG/L,,UG/L,,UG/L,,VOLTS,,VOLTS,,,,,,,,,,,
33RR20220613,       P02E,     191,          2,         36,         36,2,20220709,       0932,    31.7500,  -119.8147,       3688,     3.6,2,  17.1107,2,  33.4807,2,  33.4821,2,    250.3,2,   249.9,2,    0.39,2,    0.87,2,    0.03,2,    0.36,2,   2.345,2,   1.404,2,   2.3560,2,  2023.3,6,  2237.4,2,   7.9027,2,    25.04,2, -999.00,9,  -999.0,9, -999.00,9, -999.00,9,        9.5,2, 20220709,     1119,  31.7500,-119.8147,    17.1078,2,     -999.0,9,     -999.0,9,     -999.0,9,     -999.0,9,     0.0430,1,     4.5717,1,     -999.0,9,     -999.0,9,     -999.0,9,     -999.0,9,     -999.0,9
33RR20220613,       P02E,     191,          2,         35,         35,2,20220709,       0932,    31.7500,  -119.8147,       3688,    24.9,2,  14.6577,2,  33.3066,2,  33.3047,2,    266.2,2,   266.7,2,    1.47,2,    2.08,2,    0.12,2,    0.49,2,   2.685,2,   1.580,2,   2.5234,2,  2031.7,2,  2230.0,2,   7.8623,2,    25.02,2, -999.00,9,  -999.0,9, -999.00,9, -999.00,9,       11.3,2, 20220709,     1117,  31.7500,-119.8148,    14.6834,2,     -999.0,9,     -999.0,9,     -999.0,9,     -999.0,9,     0.0614,1,     4.5538,1,     -999.0,9,     -999.0,9,     -999.0,9,     -999.0,9,     -999.0,9
33RR20220613,       P02E,     191,          2,         34,         34,2,20220709,       0932,    31.7500,  -119.8147,       3688,    50.9,2,  12.9598,2,  33.3122,2,  33.3146,2,    239.3,2,   240.6,2,    3.72,2,    6.15,2,    0.30,2,    0.75,2,   2.861,2,   1.661,2,   2.5506,2,  2061.0,2,  2225.2,2,   7.7863,2,    25.01,2, -999.00,9,  -999.0,9, -999.00,9, -999.00,9,       13.0,2, 20220709,     1115,  31.7501,-119.8147,    12.9582,2,     -999.0,9,     -999.0,9,     -999.0,9,     -999.0,9,     0.0613,1,     4.5855,1,     -999.0,9,     -999.0,9,     -999.0,9,     -999.0,9,     -999.0,9
33RR20220613,       P02E,     191,          2,         33,         33,2,20220709,       0932,    31.7500,  -119.8147,       3688,    75.4,2,  11.9750,2,  33.4854,2,  33.4875,2,    216.2,2,   215.2,2,    8.70,2,   13.06,2,    0.01,2,    1.15,2,   2.872,2,   1.701,2,   2.3966,2,  2103.2,2,  2228.7,6,   7.6937,2,    25.04,2, -999.00,9,  -999.0,9, -999.00,9, -999.00,9,       15.0,2, 20220709,     1112,  31.7501,-119.8148,    11.9740,2,     -999.0,9,     -999.0,9,     -999.0,9,     -999.0,9,     0.0272,1,     4.6412,1,     -999.0,9,     -999.0,9,     -999.0,9,     -999.0,9,     -999.0,9
33RR20220613,       P02E,     191,          2,         32,         32,2,20220709,       0932,    31.7500,  -119.8147,       3688,   101.1,2,  10.2973,2,  33.6882,2,  33.6903,2,    157.7,2,   157.7,2,   18.87,2,   20.39,2,    0.00,2,    1.60,2,   2.914,2,   1.744,2,   2.0955,2,  2154.9,2,  2240.9,2,   7.5694,2,    25.04,2, -999.00,9,  -999.0,9, -999.00,9, -999.00,9,       21.5,2, 20220709,     1110,  31.7501,-119.8147,    10.2934,2,     -999.0,9,     -999.0,9,     -999.0,9,     -999.0,9,     0.0147,1,     4.6642,1,     -999.0,9,     -999.0,9,     -999.0,9,     -999.0,9,     -999.0,9
33RR20220613,       P02E,     191,          2,         31,         31,2,20220709,       0932,    31.7500,  -119.8147,       3688,   126.3,2,   9.4907,2,  33.8625,2,  33.8641,2,    137.1,2,   137.1,2,   24.15,2,   22.73,2,    0.00,2,    1.74,2,   2.939,2,   1.734,2,   1.7673,2,  2173.5,2,  2246.8,2,   7.5416,2,    25.04,2, -999.00,9,  -999.0,9, -999.00,9, -999.00,9,       25.9,2, 20220709,     1108,  31.7500,-119.8147,     9.4882,2,     -999.0,9,     -999.0,9,     -999.0,9,     -999.0,9,     0.0134,1,     4.6695,1,     -999.0,9,     -999.0,9,     -999.0,9,     -999.0,9,     -999.0,9
33RR20220613,       P02E,     191,          2,         30,         17,2,20220709,       0932,    31.7500,  -119.8147,       3688,   151.4,2,   8.9907,2,  33.9750,2,  33.9769,2,    127.8,2,   127.9,2,   29.03,2,   24.65,2,    0.00,2,    1.87,2,   2.793,2,   1.664,2,   1.4624,2,  2187.9,2,  2257.4,2,   7.5254,2,    25.04,2, -999.00,9,  -999.0,9, -999.00,9, -999.00,9,       29.3,2, 20220709,     1107,  31.7500,-119.8147,     8.9877,2,     -999.0,9,     -999.0,9,     -999.0,9,     -999.0,9,     0.0123,1,     4.6707,1,     -999.0,9,     -999.0,9,     -999.0,9,     -999.0,9,     -999.0,9
33RR20220613,       P02E,     191,          2,         29,         29,2,20220709,       0932,    31.7500,  -119.8147,       3688,   201.2,2,   8.2114,2,  34.0356,2,  34.0378,2,    104.7,2,   104.4,2,   38.12,2,   28.43,2,    0.00,2,    2.13,2,   2.597,2,   1.508,2,   1.1529,2,  2215.3,2,  2266.9,2,   7.4703,2,    25.02,2, -999.00,9,  -999.0,9, -999.00,9, -999.00,9,       33.8,2, 20220709,     1104,  31.7501,-119.8148,     8.2062,2,     -999.0,9,     -999.0,9,     -999.0,9,     -999.0,9,     0.0134,1,     4.6726,1,     -999.0,9,     -999.0,9,     -999.0,9,     -999.0,9,     -999.0,9
33RR20220613,       P02E,     191,          2,         28,         28,2,20220709,       0932,    31.7500,  -119.8147,       3688,   252.2,2,   7.6111,2,  34.0903,2,  34.0915,2,     72.0,2,    72.0,2,   47.21,2,   32.10,2,    0.00,2,    2.45,2,   2.140,2,   1.235,2,   0.7669,2,  2247.7,2,  2276.8,2,   7.4024,2,    25.02,2, -999.00,9,  -999.0,9, -999.00,9, -999.00,9,       38.1,2, 20220709,     1102,  31.7501,-119.8148,     7.6118,2,     -999.0,9,     -999.0,9,     -999.0,9,     -999.0,9,     0.0134,1,     4.6741,1,     -999.0,9,     -999.0,9,     -999.0,9,     -999.0,9,     -999.0,9
33RR20220613,       P02E,     191,          2,         27,         27,2,20220709,       0932,    31.7500,  -119.8147,       3688,   302.7,2,   7.0602,2,  34.1256,2,  34.1262,2,     51.0,2,    51.3,2,   55.52,2,   34.76,2,    0.00,2,    2.67,2,   1.714,2,   0.972,2,   0.5334,2,  2269.8,2,  2285.9,2,   7.3616,2,    25.01,2, -999.00,9,  -999.0,9, -999.00,9, -999.00,9,       42.3,2, 20220709,     1100,  31.7501,-119.8148,     7.0575,2,     -999.0,9,     -999.0,9,     -999.0,9,     -999.0,9,     0.0134,1,     4.6759,1,     -999.0,9,     -999.0,9,     -999.0,9,     -999.0,9,     -999.0,9
33RR20220613,       P02E,     191,          2,         26,         26,2,20220709,       0932,    31.7500,  -119.8147,       3688,   352.8,2,   6.8385,2,  34.1673,2,  34.1715,2,     38.1,3,    37.7,2,   60.80,2,   36.05,2,    0.00,2,    2.81,2,   1.325,2,   0.749,2,   0.4662,2,  2283.6,2,  2292.5,2,   7.3414,2,    25.03,2, -999.00,9,  -999.0,9, -999.00,9, -999.00,9,       45.4,2, 20220709,     1058,  31.7500,-119.8147,     6.8398,2,     -999.0,9,     -999.0,9,     -999.0,9,     -999.0,9,     0.0134,1,     4.6753,1,     -999.0,9,     -999.0,9,     -999.0,9,     -999.0,9,     -999.0,9
33RR20220613,       P02E,     191,          2,         25,         25,2,20220709,       0932,    31.7500,  -119.8147,       3688,   403.2,2,   6.6458,2,  34.2176,2,  34.2173,2,     26.5,3,    26.8,2,   65.09,2,   36.96,2,    0.00,2,    2.92,2,   0.981,2,   0.544,2,   0.2851,2,  2294.8,6,  2300.4,2,   7.3291,2,    25.03,2, -999.00,9,  -999.0,9, -999.00,9, -999.00,9,       49.7,2, 20220709,     1056,  31.7500,-119.8148,     6.6441,2,     -999.0,9,     -999.0,9,     -999.0,9,     -999.0,9,     0.0134,1,     4.6776,1,     -999.0,9,     -999.0,9,     -999.0,9,     -999.0,9,     -999.0,9
33RR20220613,       P02E,     191,          2,         24,         24,2,20220709,       0932,    31.7500,  -119.8147,       3688,   453.6,2,   6.4336,2,  34.2767,2,  34.2742,2,     16.9,3,    17.3,2,   70.27,2,   37.98,2,    0.00,2,    3.03,2,   0.618,2,   0.343,2,   0.2033,2,  2306.6,2,  2312.0,2,   7.3201,2,    25.02,2, -999.00,9,  -999.0,9, -999.00,9, -999.00,9,       54.4,2, 20220709,     1054,  31.7501,-119.8147,     6.4380,2,     -999.0,9,     -999.0,9,     -999.0,9,     -999.0,9,     0.0134,1,     4.6776,1,     -999.0,9,     -999.0,9,     -999.0,9,     -999.0,9,     -999.0,9
33RR20220613,       P02E,     191,          2,         23,         23,2,20220709,       0932,    31.7500,  -119.8147,       3688,   503.9,2,   6.1090,2,  34.2965,2,  34.2952,2,     14.0,2,    14.0,2,   75.65,2,   39.04,2,    0.00,2,    3.10,2,   0.422,2,   0.238,2,   0.1549,2,  2313.4,2,  2317.4,2,   7.3161,2,    25.01,2, -999.00,9,  -999.0,9, -999.00,9, -999.00,9,       56.2,2, 20220709,     1052,  31.7500,-119.8147,     6.1151,2,     -999.0,9,     -999.0,9,     -999.0,9,     -999.0,9,     0.0134,1,     4.6799,1,     -999.0,9,     -999.0,9,     -999.0,9,     -999.0,9,     -999.0,9
33RR20220613,       P02E,     191,          2,         22,         22,2,20220709,       0932,    31.7500,  -119.8147,       3688,   605.1,2,   5.5724,2,  34.3578,2,  34.3596,2,     11.0,2,    10.9,2,   86.00,2,   40.73,2,    0.00,2,    3.19,2,   0.152,2,   0.091,2,   0.1166,2,  2328.3,2,  2331.8,2,   7.3177,2,    25.01,2, -999.00,9,  -999.0,9, -999.00,9, -999.00,9,       59.3,2, 20220709,     1048,  31.7501,-119.8147,     5.5763,2,     -999.0,9,     -999.0,9,     -999.0,9,     -999.0,9,     0.0134,1,     4.6824,1,     -999.0,9,     -999.0,9,     -999.0,9,     -999.0,9,     -999.0,9
33RR20220613,       P02E,     191,          2,         21,         21,2,20220709,       0932,    31.7500,  -119.8147,       3688,   706.3,2,   5.0293,2,  34.4051,2,  34.4082,2,     12.4,2,    12.5,2,   95.38,2,   42.02,2,    0.00,2,    3.22,2,   0.061,2,   0.040,2,   0.1352,2,  2339.8,2,  2344.9,2,   7.3236,2,    25.00,2, -999.00,9,  -999.0,9, -999.00,9, -999.00,9,       59.7,2, 20220709,     1046,  31.7500,-119.8147,     5.0311,2,     -999.0,9,     -999.0,9,     -999.0,9,     -999.0,9,     0.0133,1,     4.6834,1,     -999.0,9,     -999.0,9,     -999.0,9,     -999.0,9,     -999.0,9
33RR20220613,       P02E,     191,          2,         20,         20,2,20220709,       0932,    31.7500,  -119.8147,       3688,   807.1,2,   4.6311,2,  34.4358,2,  34.4363,2,     15.7,3,    15.9,2,  103.88,2,   42.65,2,    0.00,2,    3.22,2,   0.034,2,   0.026,2,   0.1531,2,  2347.9,2,  2357.8,2,   7.3306,2,    25.02,2, -999.00,9,  -999.0,9, -999.00,9, -999.00,9,       58.1,2, 20220709,     1043,  31.7500,-119.8147,     4.6097,2,     -999.0,9,     -999.0,9,     -999.0,9,     -999.0,9,     0.0134,1,     4.6844,1,     -999.0,9,     -999.0,9,     -999.0,9,     -999.0,9,     -999.0,9
33RR20220613,       P02E,     191,          2,         19,         39,2,20220709,       0932,    31.7500,  -119.8147,       3688,   908.2,2,   4.2628,2,  34.4633,2,  34.4638,2,     20.0,3,    19.7,2,  110.42,2,   43.03,2,    0.00,2,    3.22,2,   0.026,2,   0.022,2,   0.1536,2,  2354.3,2,  2365.2,2,   7.3387,2,    25.01,2, -999.00,9,  -999.0,9, -999.00,9, -999.00,9,       55.4,2, 20220709,     1040,  31.7500,-119.8148,     4.2620,2,     -999.0,9,     -999.0,9,     -999.0,9,     -999.0,9,     0.0134,1,     4.6859,1,     -999.0,9,     -999.0,9,     -999.0,9,     -999.0,9,     -999.0,9
33RR20220613,       P02E,     191,          2,         18,         18,2,20220709,       0932,    31.7500,  -119.8147,       3688,  1009.3,2,   3.9623,2,  34.4877,2,  34.4873,2,     24.6,2,    24.6,2,  116.48,2,   42.98,2,    0.00,2,    3.21,2,   0.019,2,   0.017,2,   0.1340,2,  2359.8,2,  2372.7,2,   7.3486,2,    25.00,2, -999.00,9,  -999.0,9, -999.00,9, -999.00,9,       52.7,2, 20220709,     1037,  31.7500,-119.8147,     3.9632,2,     -999.0,9,     -999.0,9,     -999.0,9,     -999.0,9,     0.0133,1,     4.6861,1,     -999.0,9,     -999.0,9,     -999.0,9,     -999.0,9,     -999.0,9
33RR20220613,       P02E,     191,          2,         17,         37,2,20220709,       0932,    31.7500,  -119.8147,       3688,  1110.4,2,   3.7287,2,  34.5053,2,  34.5048,2,     28.6,2,    28.3,2,  122.24,2,   42.90,2,    0.00,2,    3.20,2,   0.020,2,   0.019,2,   0.2263,2,  2362.7,2,  2378.4,2,   7.3552,2,    25.01,2, -999.00,9,  -999.0,9, -999.00,9, -999.00,9,       49.8,2, 20220709,     1034,  31.7500,-119.8147,     3.7287,2,     -999.0,9,     -999.0,9,     -999.0,9,     -999.0,9,     0.0134,1,     4.6868,1,     -999.0,9,     -999.0,9,     -999.0,9,     -999.0,9,     -999.0,9
33RR20220613,       P02E,     191,          2,         16,         16,2,20220709,       0932,    31.7500,  -119.8147,       3688,  1212.0,2,   3.4824,2,  34.5227,2,  34.5231,2,     33.3,2,    33.6,2,  128.30,2,   42.74,2,    0.00,2,    3.17,2,   0.021,2,   0.019,2,   0.1326,2,  2367.3,2,  2388.0,2,   7.3643,2,    25.01,2, -999.00,9,  -999.0,9, -999.00,9, -999.00,9,       47.6,2, 20220709,     1031,  31.7501,-119.8148,     3.4852,2,     -999.0,9,     -999.0,9,     -999.0,9,     -999.0,9,     0.0134,1,     4.6860,1,     -999.0,9,     -999.0,9,     -999.0,9,     -999.0,9,     -999.0,9
33RR20220613,       P02E,     191,          2,         15,         15,2,20220709,       0932,    31.7500,  -119.8147,       3688,  1313.2,2,   3.2513,2,  34.5413,2,  34.5408,2,     39.0,3,    38.7,2,  133.87,2,   42.57,2,    0.00,2,    3.13,2,   0.030,2,   0.021,2,   0.1347,2,  2369.3,2,  2392.2,2,   7.3753,2,    25.01,2, -999.00,9,  -999.0,9, -999.00,9, -999.00,9,       44.5,2, 20220709,     1028,  31.7500,-119.8147,     3.2539,2,     -999.0,9,     -999.0,9,     -999.0,9,     -999.0,9,     0.0134,1,     4.6867,1,     -999.0,9,     -999.0,9,     -999.0,9,     -999.0,9,     -999.0,9
33RR20220613,       P02E,     191,          2,         14,         42,2,20220709,       0932,    31.7500,  -119.8147,       3688,  1414.3,2,   3.0634,2,  34.5559,2,  34.5574,2,     44.0,2,    44.3,2,  138.85,2,   42.26,2,    0.00,2,    3.11,2,   0.026,2,   0.000,2,   0.0000,2,  2370.4,2,  2398.3,2,   7.3857,2,    25.02,2, -999.00,9,  -999.0,9, -999.00,9, -999.00,9,       41.2,2, 20220709,     1025,  31.7500,-119.8148,     3.0625,2,     -999.0,9,     -999.0,9,     -999.0,9,     -999.0,9,     0.0134,1,     4.6874,1,     -999.0,9,     -999.0,9,     -999.0,9,     -999.0,9,     -999.0,9
33RR20220613,       P02E,     191,          2,         13,         13,2,20220709,       0932,    31.7500,  -119.8147,       3688,  1516.3,2,   2.8487,2,  34.5686,2,  34.5690,2,     49.9,2,    49.8,2,  143.74,2,   41.91,2,    0.00,2,    3.07,2,   0.019,2,   0.017,2,   0.0000,2,  2373.7,2,  2403.8,2,   7.3961,2,    25.02,2, -999.00,9,  -999.0,9, -999.00,9, -999.00,9,       40.3,2, 20220709,     1023,  31.7501,-119.8148,     2.8486,2,     -999.0,9,     -999.0,9,     -999.0,9,     -999.0,9,     0.0133,1,     4.6883,1,     -999.0,9,     -999.0,9,     -999.0,9,     -999.0,9,     -999.0,9
33RR20220613,       P02E,     191,          2,         12,         12,2,20220709,       0932,    31.7500,  -119.8147,       3688,  1617.8,2,   2.6971,2,  34.5814,2,  34.5812,2,     55.6,2,    55.6,2,  146.96,2,   41.56,2,    0.00,2,    3.04,2,   0.018,2,   0.017,2,   0.0000,2,  2373.3,2,  2409.1,2,   7.4070,2,    25.02,2, -999.00,9,  -999.0,9, -999.00,9, -999.00,9,       37.9,2, 20220709,     1020,  31.7501,-119.8148,     2.6968,2,     -999.0,9,     -999.0,9,     -999.0,9,     -999.0,9,     0.0134,1,     4.6882,1,     -999.0,9,     -999.0,9,     -999.0,9,     -999.0,9,     -999.0,9
33RR20220613,       P02E,     191,          2,         11,         11,2,20220709,       0932,    31.7500,  -119.8147,       3688,  1719.0,2,   2.5138,2,  34.5922,2,  34.5926,2,     62.0,2,    62.2,2,  151.35,2,   41.22,2,    0.00,2,    3.00,2,   0.015,2,   0.015,2,   0.0000,2,  2372.9,2,  2411.1,6,   7.4192,2,    25.02,2, -999.00,9,  -999.0,9, -999.00,9, -999.00,9,       36.2,2, 20220709,     1017,  31.7501,-119.8148,     2.5145,2,     -999.0,9,     -999.0,9,     -999.0,9,     -999.0,9,     0.0134,1,     4.6891,1,     -999.0,9,     -999.0,9,     -999.0,9,     -999.0,9,     -999.0,9
33RR20220613,       P02E,     191,          2,         10,         10,2,20220709,       0932,    31.7500,  -119.8147,       3688,  1820.3,2,   2.3171,2,  34.6065,2,  34.6054,2,     70.4,2,    70.1,2,  155.55,2,   40.80,2,    0.00,2,    2.95,2,   0.013,2,   0.013,2,   0.0000,2,  2371.7,2,  2416.2,2,   7.4354,2,    25.03,2, -999.00,9,  -999.0,9, -999.00,9, -999.00,9,       33.2,2, 20220709,     1014,  31.7500,-119.8148,     2.3237,2,     -999.0,9,     -999.0,9,     -999.0,9,     -999.0,9,     0.0132,1,     4.6896,1,     -999.0,9,     -999.0,9,     -999.0,9,     -999.0,9,     -999.0,9
33RR20220613,       P02E,     191,          2,          9,          9,2,20220709,       0932,    31.7500,  -119.8147,       3688,  2023.9,2,   2.0961,2,  34.6234,2,  34.6231,2,     81.5,2,    81.9,2,  159.75,2,   40.14,2,    0.00,2,    2.89,2,   0.007,2,   0.006,2,   0.0000,2,  2371.6,2,  2419.9,2,   7.4562,2,    25.02,2, -999.00,9,  -999.0,9, -999.00,9, -999.00,9,       31.9,2, 20220709,     1009,  31.7500,-119.8148,     2.0954,2,     -999.0,9,     -999.0,9,     -999.0,9,     -999.0,9,     0.0132,1,     4.6903,1,     -999.0,9,     -999.0,9,     -999.0,9,     -999.0,9,     -999.0,9
33RR20220613,       P02E,     191,          2,          8,          8,2,20220709,       0932,    31.7500,  -119.8147,       3688,  2279.4,2,   1.8970,2,  34.6402,2,  34.6396,2,     94.4,2,    94.4,2,  162.68,2,   39.35,2,    0.00,2,    2.81,2,   0.006,2,   0.008,2,   0.0000,2,  2366.4,2,  2423.7,2,   7.4814,2,    25.03,2, -999.00,9,  -999.0,9, -999.00,9, -999.00,9,       29.4,2, 20220709,     1004,  31.7500,-119.8148,     1.8964,2,     -999.0,9,     -999.0,9,     -999.0,9,     -999.0,9,     0.0132,1,     4.6896,1,     -999.0,9,     -999.0,9,     -999.0,9,     -999.0,9,     -999.0,9
33RR20220613,       P02E,     191,          2,          7,          7,2,20220709,       0932,    31.7500,  -119.8147,       3688,  2533.3,2,   1.7912,2,  34.6507,2,  34.6508,2,    103.3,2,   103.1,2,  164.54,2,   38.86,2,    0.00,2,    2.76,2,   0.007,2,   0.007,2,   0.0000,2,  2360.9,2,  2428.8,6,   7.4982,2,    25.01,2, -999.00,9,  -999.0,9, -999.00,9, -999.00,9,       27.8,2, 20220709,      959,  31.7501,-119.8147,     1.7910,2,     -999.0,9,     -999.0,9,     -999.0,9,     -999.0,9,     0.0133,1,     4.6895,1,     -999.0,9,     -999.0,9,     -999.0,9,     -999.0,9,     -999.0,9
33RR20220613,       P02E,     191,          2,          6,          6,2,20220709,       0932,    31.7500,  -119.8147,       3688,  2788.5,2,   1.7111,2,  34.6585,2,  34.6578,2,    110.6,2,   110.5,2,  165.03,2,   38.48,2,    0.00,2,    2.72,2,   0.007,2,   0.010,2,   0.0000,2,  2359.9,2,  2429.5,2,   7.5125,2,    25.02,2, -999.00,9,  -999.0,9, -999.00,9, -999.00,9,       26.6,2, 20220709,      954,  31.7500,-119.8147,     1.7109,2,     -999.0,9,     -999.0,9,     -999.0,9,     -999.0,9,     0.0134,1,     4.6915,1,     -999.0,9,     -999.0,9,     -999.0,9,     -999.0,9,     -999.0,9
33RR20220613,       P02E,     191,          2,          5,          5,2,20220709,       0932,    31.7500,  -119.8147,       3688,  3043.6,2,   1.6527,2,  34.6640,2,  34.6643,2,    116.2,2,   116.5,2,  166.39,2,   38.21,2,    0.00,2,    2.70,2,   0.010,2,   0.012,2,   0.0000,2,  2354.9,2,  2431.5,2,   7.5230,2,    25.03,2, -999.00,9,  -999.0,9, -999.00,9, -999.00,9,       25.5,2, 20220709,      948,  31.7500,-119.8148,     1.6524,2,     -999.0,9,     -999.0,9,     -999.0,9,     -999.0,9,     0.0134,1,     4.6914,1,     -999.0,9,     -999.0,9,     -999.0,9,     -999.0,9,     -999.0,9