BOTTLE,20230830CCHSIOCBG
EXPOCODE,SECT_ID,STNNBR,CASTNO,SAMPNO,BTLNBR,BTLNBR_FLAG_W,DATE,TIME,LATITUDE,LONGITUDE,DEPTH,CTDPRS,CTDPRS_FLAG_W,CTDTMP,CTDTMP_FLAG_W,CTDSAL,CTDSAL_FLAG_W,SALNTY,SALNTY_FLAG_W,CTDOXY,CTDOXY_FLAG_W,OXYGEN,OXYGEN_FLAG_W,SILCAT,SILCAT_FLAG_W,NITRAT,NITRAT_FLAG_W,NITRIT,NITRIT_FLAG_W,PHSPHT,PHSPHT_FLAG_W,CFC-11,CFC-11_FLAG_W,CFC-12,CFC-12_FLAG_W,SF6,SF6_FLAG_W,TCARBN,TCARBN_FLAG_W,ALKALI,ALKALI_FLAG_W,PH_TOT,PH_TOT_FLAG_W,PH_TMP,PH_TMP_FLAG_W,DELC13,DELC13_FLAG_W,DELC14,DELC14_FLAG_W,DOC,DOC_FLAG_W,TDN,TDN_FLAG_W,N2O,N2O_FLAG_W,BTL_DATE,BTL_TIME,BTL_LAT,BTL_LON,REFTMP,REFTMP_FLAG_W,POC,POC_FLAG_W,PON,PON_FLAG_W,POP,POP_FLAG_W,PCOD,PCOD_FLAG_W,CTDFLUOR,CTDFLUOR_FLAG_W,CTDXMISS,CTDXMISS_FLAG_W,HPLC,HPLC_FLAG_W,DNA,DNA_FLAG_W,FCM,FCM_FLAG_W,IMAGES,IMAGES_FLAG_W,VIRAL_ABUNDANCE,VIRAL_ABUNDANCE_FLAG_W
,,,,,,,,,,,METERS,DBAR,,ITS-90,,PSS-78,,PSS-78,,UMOL/KG,,UMOL/KG,,UMOL/KG,,UMOL/KG,,UMOL/KG,,UMOL/KG,,PMOL/KG,,PMOL/KG,,FMOL/KG,,UMOL/KG,,UMOL/KG,,,,DEG C,,/MILLE,,/MILLE,,UMOL/KG,,UMOL/KG,,NMOL/KG,,,,,,ITS-90,,UG/L,,UG/L,,UG/L,,UG/L,,VOLTS,,VOLTS,,,,,,,,,,,
33RR20220613,       P02E,     134,          2,          4,          4,2,20220622,       0627,    30.0002,  -151.9747,       5298,  4681.1,2,   1.5017,2,  34.6884,2,  34.6875,2,    154.1,2,   154.3,2,  151.39,4,   33.97,4,    0.00,2,    2.72,4,   0.007,2,   0.007,2,   0.0000,2,  -999.0,9,  -999.0,9,-999.0000,9,  -999.00,9, -999.00,1,  -999.0,1, -999.00,1, -999.00,1,       22.0,2, 20220622,      644,  30.0002,-151.9747,     1.5017,2,     -999.0,9,     -999.0,9,     -999.0,9,     -999.0,9,     0.0122,1,     4.7047,1,     -999.0,9,     -999.0,9,     -999.0,9,     -999.0,9,     -999.0,9
33RR20220613,       P02E,     134,          2,          3,          3,2,20220622,       0627,    30.0002,  -151.9747,       5298,  4908.6,2,   1.5258,2,  34.6889,2,  34.6889,2,    155.1,2,   155.2,2,  150.22,4,   34.27,4,    0.00,2,    2.70,4,   0.005,2,   0.007,2,   0.0000,2,  2326.5,2,  2423.4,2,   7.5854,2,    25.02,2, -999.00,1,  -999.0,1, -999.00,1, -999.00,1,       22.2,2, 20220622,      639,  30.0002,-151.9747,     1.5258,2,     -999.0,9,     -999.0,9,     -999.0,9,     -999.0,9,     0.0128,1,     4.7044,1,     -999.0,9,     -999.0,9,     -999.0,9,     -999.0,9,     -999.0,9
33RR20220613,       P02E,     134,          2,          2,          2,2,20220622,       0627,    30.0002,  -151.9747,       5298,  5291.6,2,   1.5608,2,  34.6896,2,  34.6881,2,    157.5,2,   157.7,2,  148.16,4,   34.51,4,    0.00,2,    2.71,4,   0.005,2,   0.004,2,   0.0000,2,  2325.2,2,  2420.9,2,   7.5880,2,    25.02,2, -999.00,1,  -999.0,1, -999.00,1, -999.00,1,       22.1,2, 20220622,      630,  30.0001,-151.9747,     1.5609,2,     -999.0,9,     -999.0,9,     -999.0,9,     -999.0,9,     0.0121,1,     4.7041,1,     -999.0,9,     -999.0,9,     -999.0,9,     -999.0,9,     -999.0,9
33RR20220613,       P02E,     134,          2,          1,          1,2,20220622,       0627,    30.0002,  -151.9747,       5298,  5391.3,2,   1.5695,2,  34.6898,2,  34.6905,2,    158.4,2,   158.2,2,  147.48,4,   34.55,4,    0.00,2,    2.71,4,   0.006,2,   0.008,2,   0.0000,2,  2324.2,6,  2420.4,2,   7.5862,2,    25.00,2, -999.00,1,  -999.0,1, -999.00,1, -999.00,1,       22.2,2, 20220622,      627,  30.0001,-151.9747,     1.5696,2,     -999.0,9,     -999.0,9,     -999.0,9,     -999.0,9,     0.0131,1,     4.7037,1,     -999.0,9,     -999.0,9,     -999.0,9,     -999.0,9,     -999.0,9