BOTTLE,20230830CCHSIOCBG
EXPOCODE,SECT_ID,STNNBR,CASTNO,SAMPNO,BTLNBR,BTLNBR_FLAG_W,DATE,TIME,LATITUDE,LONGITUDE,DEPTH,CTDPRS,CTDPRS_FLAG_W,CTDTMP,CTDTMP_FLAG_W,CTDSAL,CTDSAL_FLAG_W,SALNTY,SALNTY_FLAG_W,CTDOXY,CTDOXY_FLAG_W,OXYGEN,OXYGEN_FLAG_W,SILCAT,SILCAT_FLAG_W,NITRAT,NITRAT_FLAG_W,NITRIT,NITRIT_FLAG_W,PHSPHT,PHSPHT_FLAG_W,CFC-11,CFC-11_FLAG_W,CFC-12,CFC-12_FLAG_W,SF6,SF6_FLAG_W,TCARBN,TCARBN_FLAG_W,ALKALI,ALKALI_FLAG_W,PH_TOT,PH_TOT_FLAG_W,PH_TMP,PH_TMP_FLAG_W,DELC13,DELC13_FLAG_W,DELC14,DELC14_FLAG_W,DOC,DOC_FLAG_W,TDN,TDN_FLAG_W,N2O,N2O_FLAG_W,BTL_DATE,BTL_TIME,BTL_LAT,BTL_LON,REFTMP,REFTMP_FLAG_W,POC,POC_FLAG_W,PON,PON_FLAG_W,POP,POP_FLAG_W,PCOD,PCOD_FLAG_W,CTDFLUOR,CTDFLUOR_FLAG_W,CTDXMISS,CTDXMISS_FLAG_W,HPLC,HPLC_FLAG_W,DNA,DNA_FLAG_W,FCM,FCM_FLAG_W,IMAGES,IMAGES_FLAG_W,VIRAL_ABUNDANCE,VIRAL_ABUNDANCE_FLAG_W
,,,,,,,,,,,METERS,DBAR,,ITS-90,,PSS-78,,PSS-78,,UMOL/KG,,UMOL/KG,,UMOL/KG,,UMOL/KG,,UMOL/KG,,UMOL/KG,,PMOL/KG,,PMOL/KG,,FMOL/KG,,UMOL/KG,,UMOL/KG,,,,DEG C,,/MILLE,,/MILLE,,UMOL/KG,,UMOL/KG,,NMOL/KG,,,,,,ITS-90,,UG/L,,UG/L,,UG/L,,UG/L,,VOLTS,,VOLTS,,,,,,,,,,,
33RR20220613,       P02E,     129,          1,         36,         36,2,20220620,       1511,    29.9997,  -154.8635,       5607,     4.4,2,  24.6536,2,  35.3352,2,  35.3332,2,    211.8,2,   211.7,2,    0.00,2,    0.05,2,    0.00,2,    0.00,4,   1.616,2,   1.040,2,   1.6901,2,  2033.0,2,  2324.1,2,   8.0137,2,    25.00,2, -999.00,9,  -999.0,9, -999.00,9, -999.00,9,        7.3,2, 20220620,     1733,  29.9997,-154.8635,    24.6518,2,     -999.0,9,     -999.0,9,     -999.0,9,     -999.0,9,     0.0135,1,     4.6455,1,     -999.0,9,     -999.0,9,     -999.0,9,     -999.0,9,     -999.0,9
33RR20220613,       P02E,     129,          1,         35,         35,2,20220620,       1511,    29.9997,  -154.8635,       5607,    20.4,2,  24.6286,2,  35.3338,2,  35.3328,2,    212.0,2,   211.8,2,    0.10,2,    0.03,2,    0.00,2,    0.00,4,   1.634,2,   1.038,2,   1.6242,2,  2032.7,6,  2323.5,2,   8.0139,2,    25.01,2, -999.00,9,  -999.0,9, -999.00,9, -999.00,9,        7.2,2, 20220620,     1731,  29.9997,-154.8635,    24.6305,2,     -999.0,9,     -999.0,9,     -999.0,9,     -999.0,9,     0.0134,1,     4.6452,1,     -999.0,9,     -999.0,9,     -999.0,9,     -999.0,9,     -999.0,9
33RR20220613,       P02E,     129,          1,         34,         34,2,20220620,       1511,    29.9997,  -154.8635,       5607,    40.9,2,  22.2719,2,  35.2276,3,  35.2621,2,    230.6,2,   228.8,2,    0.10,2,    0.02,2,    0.00,2,    0.00,4,   1.869,2,   1.150,2,   1.9000,2,  2030.1,2,  2318.8,2,   8.0135,2,    25.00,2, -999.00,9,  -999.0,9, -999.00,9, -999.00,9,        7.6,2, 20220620,     1730,  29.9996,-154.8635,    22.2961,3,     -999.0,9,     -999.0,9,     -999.0,9,     -999.0,9,     0.0147,1,     4.6348,1,     -999.0,9,     -999.0,9,     -999.0,9,     -999.0,9,     -999.0,9
33RR20220613,       P02E,     129,          1,         33,         33,2,20220620,       1511,    29.9997,  -154.8635,       5607,    65.6,2,  20.7525,2,  35.1117,2,  35.1158,2,    233.7,2,   233.5,2,    0.20,2,    0.01,2,    0.00,2,    0.00,4,   1.956,2,   1.211,2,   1.9302,2,  2027.1,2,  2308.0,2,   8.0011,2,    25.01,2, -999.00,9,  -999.0,9, -999.00,9, -999.00,9,        8.1,2, 20220620,     1728,  29.9996,-154.8635,    20.7541,2,     -999.0,9,     -999.0,9,     -999.0,9,     -999.0,9,     0.0159,1,     4.6358,1,     -999.0,9,     -999.0,9,     -999.0,9,     -999.0,9,     -999.0,9
33RR20220613,       P02E,     129,          1,         32,         32,2,20220620,       1511,    29.9997,  -154.8635,       5607,    89.9,2,  19.5747,2,  34.9789,2,  34.9803,2,    231.7,2,   231.6,2,    0.59,2,    0.00,2,    0.00,2,    0.01,4,   2.031,2,   1.253,2,   1.8185,2,  2030.9,2,  2299.9,6,   7.9821,2,    25.02,2, -999.00,9,  -999.0,9, -999.00,9, -999.00,9,        8.4,2, 20220620,     1726,  29.9997,-154.8635,    19.5566,2,     -999.0,9,     -999.0,9,     -999.0,9,     -999.0,9,     0.0183,1,     4.6461,1,     -999.0,9,     -999.0,9,     -999.0,9,     -999.0,9,     -999.0,9
33RR20220613,       P02E,     129,          1,         31,         31,2,20220620,       1511,    29.9997,  -154.8635,       5607,   136.3,2,  17.2084,2,  34.6743,2,  34.6686,2,    216.0,2,   216.7,2,    1.66,2,    1.10,2,    0.15,2,    0.13,4,   2.200,2,   1.383,2,   2.0668,2,  2048.2,2,  2280.2,2,   7.9138,2,    25.02,2, -999.00,9,  -999.0,9, -999.00,9, -999.00,9,       12.2,2, 20220620,     1724,  29.9996,-154.8635,    17.1914,2,     -999.0,9,     -999.0,9,     -999.0,9,     -999.0,9,     0.0334,1,     4.6584,1,     -999.0,9,     -999.0,9,     -999.0,9,     -999.0,9,     -999.0,9
33RR20220613,       P02E,     129,          1,         30,         40,3,20220620,       1511,    29.9997,  -154.8635,       5607,   186.7,3,  14.8980,3,  34.4201,3,  34.4210,3,    210.4,3,   210.5,3,    3.91,3,    4.76,3,    0.02,3,    0.33,4,   2.488,3,   1.524,3,   2.0598,3,  2068.1,2,  2263.9,3,   7.8563,3,    25.02,3, -999.00,9,  -999.0,9, -999.00,9, -999.00,9,       12.0,3, 20220620,     1722,  29.9997,-154.8635,    14.9834,3,     -999.0,9,     -999.0,9,     -999.0,9,     -999.0,9,     0.0195,1,     4.6763,1,     -999.0,9,     -999.0,9,     -999.0,9,     -999.0,9,     -999.0,9
33RR20220613,       P02E,     129,          1,         29,         29,2,20220620,       1511,    29.9997,  -154.8635,       5607,   237.7,2,  12.8138,2,  34.2657,2,  34.2617,2,    208.8,2,   209.5,2,    7.92,2,    9.55,2,    0.00,2,    0.58,4,   2.692,2,   1.654,2,   2.0224,2,  2084.9,2,  2258.0,2,   7.8025,2,    25.03,2, -999.00,9,  -999.0,9, -999.00,9, -999.00,9,       15.0,2, 20220620,     1720,  29.9996,-154.8635,    12.8108,2,     -999.0,9,     -999.0,9,     -999.0,9,     -999.0,9,     0.0122,1,     4.6879,1,     -999.0,9,     -999.0,9,     -999.0,9,     -999.0,9,     -999.0,9
33RR20220613,       P02E,     129,          1,         28,         28,2,20220620,       1511,    29.9997,  -154.8635,       5607,   287.9,2,  11.4907,2,  34.1883,2,  34.1854,2,    208.6,2,   209.1,2,   11.93,2,   12.56,2,    0.00,2,    0.74,4,   2.914,2,   1.736,2,   1.8920,2,  2100.5,2,  2259.9,2,   7.7658,2,    25.01,2, -999.00,9,  -999.0,9, -999.00,9, -999.00,9,       17.1,2, 20220620,     1718,  29.9996,-154.8635,    11.4901,2,     -999.0,9,     -999.0,9,     -999.0,9,     -999.0,9,     0.0122,1,     4.6908,1,     -999.0,9,     -999.0,9,     -999.0,9,     -999.0,9,     -999.0,9
33RR20220613,       P02E,     129,          1,         27,         27,2,20220620,       1511,    29.9997,  -154.8635,       5607,   337.0,2,  10.5988,2,  34.1438,2,  34.1473,2,    208.3,2,   208.4,2,   15.35,2,   14.47,2,    0.00,2,    0.86,4,   2.895,2,   1.765,2,   1.9277,2,  2111.4,2,  2259.6,2,   7.7425,2,    25.02,2, -999.00,9,  -999.0,9, -999.00,9, -999.00,9,       18.6,2, 20220620,     1716,  29.9996,-154.8635,    10.5981,2,     -999.0,9,     -999.0,9,     -999.0,9,     -999.0,9,     0.0122,1,     4.6924,1,     -999.0,9,     -999.0,9,     -999.0,9,     -999.0,9,     -999.0,9
33RR20220613,       P02E,     129,          1,         26,         26,2,20220620,       1511,    29.9997,  -154.8635,       5607,   388.0,2,   9.7678,2,  34.0927,2,  34.0911,2,    201.3,2,   201.4,2,   19.46,2,   16.71,2,    0.00,2,    1.01,4,   2.965,2,   1.791,2,   1.7549,2,  2127.4,2,  -999.0,9,   7.7101,2,    25.01,2, -999.00,9,  -999.0,9, -999.00,9, -999.00,9,       20.9,2, 20220620,     1714,  29.9996,-154.8635,     9.7627,2,     -999.0,9,     -999.0,9,     -999.0,9,     -999.0,9,     0.0122,1,     4.6945,1,     -999.0,9,     -999.0,9,     -999.0,9,     -999.0,9,     -999.0,9
33RR20220613,       P02E,     129,          1,         25,         25,2,20220620,       1511,    29.9997,  -154.8635,       5607,   468.4,2,   8.4448,2,  34.0373,2,  34.0354,2,    174.1,2,   173.8,2,   30.51,2,   22.15,2,    0.00,2,    1.35,4,   2.887,2,   1.701,2,   1.3985,2,  2162.5,2,  2268.0,2,   7.6314,2,    25.02,2, -999.00,9,  -999.0,9, -999.00,9, -999.00,9,       24.8,2, 20220620,     1712,  29.9997,-154.8635,     8.4469,2,     -999.0,9,     -999.0,9,     -999.0,9,     -999.0,9,     0.0122,1,     4.6955,1,     -999.0,9,     -999.0,9,     -999.0,9,     -999.0,9,     -999.0,9
33RR20220613,       P02E,     129,          1,         24,         24,2,20220620,       1511,    29.9997,  -154.8635,       5607,   569.6,2,   6.3951,2,  33.9954,2,  33.9943,2,    116.6,2,   116.0,2,   55.06,2,   31.49,2,    0.00,2,    2.00,4,   2.313,2,   1.336,2,   0.7888,2,  2230.3,2,  -999.0,9,   7.4804,2,    25.00,2, -999.00,9,  -999.0,9, -999.00,9, -999.00,9,       32.7,2, 20220620,     1709,  29.9996,-154.8635,     6.4014,2,     -999.0,9,     -999.0,9,     -999.0,9,     -999.0,9,     0.0130,1,     4.6965,1,     -999.0,9,     -999.0,9,     -999.0,9,     -999.0,9,     -999.0,9
33RR20220613,       P02E,     129,          1,         23,         23,2,20220620,       1511,    29.9997,  -154.8635,       5607,   670.2,2,   5.1521,2,  34.0407,2,  34.0415,2,     68.7,2,    69.4,2,   77.95,2,   37.78,2,    0.00,2,    2.48,4,   1.432,2,   0.810,2,   0.4029,2,  2281.5,2,  2307.9,2,   7.3763,2,    25.02,2, -999.00,9,  -999.0,9, -999.00,9, -999.00,9,       40.7,2, 20220620,     1707,  29.9996,-154.8635,     5.1552,2,     -999.0,9,     -999.0,9,     -999.0,9,     -999.0,9,     0.0134,1,     4.6976,1,     -999.0,9,     -999.0,9,     -999.0,9,     -999.0,9,     -999.0,9
33RR20220613,       P02E,     129,          1,         22,         22,2,20220620,       1511,    29.9997,  -154.8635,       5607,   771.2,2,   4.3753,2,  34.1737,2,  34.1744,2,     24.8,3,    25.3,2,  101.21,2,   42.46,2,    0.00,2,    2.88,4,   0.441,2,   0.244,2,   0.1714,2,  2332.8,2,  -999.0,9,   7.3044,2,    25.01,2, -999.00,9,  -999.0,9, -999.00,9, -999.00,9,       51.6,2, 20220620,     1704,  29.9996,-154.8635,     4.3765,2,     -999.0,9,     -999.0,9,     -999.0,9,     -999.0,9,     0.0134,1,     4.6981,1,     -999.0,9,     -999.0,9,     -999.0,9,     -999.0,9,     -999.0,9
33RR20220613,       P02E,     129,          1,         21,         21,2,20220620,       1511,    29.9997,  -154.8635,       5607,   873.1,2,   4.0535,2,  34.2705,2,  34.2713,2,     14.7,2,    14.8,2,  112.74,2,   43.87,2,    0.00,2,    3.01,4,   0.117,2,   0.071,2,   0.0692,2,  -999.0,9,  -999.0,9,-999.0000,9,  -999.00,9, -999.00,9,  -999.0,9, -999.00,9, -999.00,9,       56.1,2, 20220620,     1702,  29.9996,-154.8635,     4.0488,2,     -999.0,9,     -999.0,9,     -999.0,9,     -999.0,9,     0.0134,1,     4.6978,1,     -999.0,9,     -999.0,9,     -999.0,9,     -999.0,9,     -999.0,9
33RR20220613,       P02E,     129,          1,         20,         20,2,20220620,       1511,    29.9997,  -154.8635,       5607,   973.5,2,   3.7853,2,  34.3474,2,  34.3476,2,     14.4,3,    14.0,2,  121.44,2,   44.14,2,    0.00,2,    3.07,4,   0.030,2,   0.022,2,   0.0000,2,  2363.1,2,  2360.7,2,   7.3049,2,    25.02,2, -999.00,9,  -999.0,9, -999.00,9, -999.00,9,       60.5,2, 20220620,     1659,  29.9996,-154.8635,     3.7849,2,     -999.0,9,     -999.0,9,     -999.0,9,     -999.0,9,     0.0134,1,     4.6981,1,     -999.0,9,     -999.0,9,     -999.0,9,     -999.0,9,     -999.0,9
33RR20220613,       P02E,     129,          1,         19,         39,2,20220620,       1511,    29.9997,  -154.8635,       5607,  1074.3,2,   3.4533,2,  34.4028,2,  34.4010,2,     14.5,2,    14.5,2,  131.41,2,   44.40,2,    0.00,2,    3.14,4,   0.015,6,   0.014,6,   0.0000,6,  2374.0,2,  -999.0,9,   7.3096,2,    25.04,2, -999.00,9,  -999.0,9, -999.00,9, -999.00,9,       60.0,6, 20220620,     1656,  29.9997,-154.8635,     3.4544,2,     -999.0,9,     -999.0,9,     -999.0,9,     -999.0,9,     0.0134,1,     4.6973,1,     -999.0,9,     -999.0,9,     -999.0,9,     -999.0,9,     -999.0,9
33RR20220613,       P02E,     129,          1,         18,         18,2,20220620,       1511,    29.9997,  -154.8635,       5607,  1176.4,2,   3.2651,2,  34.4712,2,  34.4707,2,     26.1,2,    25.8,2,  135.31,2,   43.77,2,    0.00,2,    3.13,4,   0.011,2,   0.011,2,   0.0000,2,  2373.9,2,  2381.9,2,   7.3401,2,    24.89,2, -999.00,9,  -999.0,9, -999.00,9, -999.00,9,       53.4,2, 20220620,     1654,  29.9997,-154.8635,     3.2663,2,     -999.0,9,     -999.0,9,     -999.0,9,     -999.0,9,     0.0134,1,     4.6983,1,     -999.0,9,     -999.0,9,     -999.0,9,     -999.0,9,     -999.0,9
33RR20220613,       P02E,     129,          1,         17,         37,2,20220620,       1511,    29.9997,  -154.8635,       5607,  1277.8,2,   3.0997,2,  34.4974,2,  34.4974,2,     32.8,2,    32.9,2,  139.12,2,   43.63,2,    0.00,2,    3.13,4,   0.008,2,   0.007,2,   0.0000,2,  2372.2,2,  -999.0,9,   7.3562,2,    24.98,2, -999.00,9,  -999.0,9, -999.00,9, -999.00,9,       50.4,2, 20220620,     1651,  29.9996,-154.8635,     3.1008,2,     -999.0,9,     -999.0,9,     -999.0,9,     -999.0,9,     0.0134,1,     4.6993,1,     -999.0,9,     -999.0,9,     -999.0,9,     -999.0,9,     -999.0,9
33RR20220613,       P02E,     129,          1,         16,         16,2,20220620,       1511,    29.9997,  -154.8635,       5607,  1379.3,2,   2.8945,2,  34.5218,2,  34.5195,2,     40.2,3,    39.7,2,  143.62,2,   43.09,2,    0.00,2,    3.13,4,   0.011,2,   0.008,2,   0.0000,2,  -999.0,9,  -999.0,9,-999.0000,9,  -999.00,9, -999.00,9,  -999.0,9, -999.00,9, -999.00,9,       48.6,2, 20220620,     1648,  29.9997,-154.8635,     2.8959,2,     -999.0,9,     -999.0,9,     -999.0,9,     -999.0,9,     0.0134,1,     4.6990,1,     -999.0,9,     -999.0,9,     -999.0,9,     -999.0,9,     -999.0,9
33RR20220613,       P02E,     129,          1,         15,         15,2,20220620,       1511,    29.9997,  -154.8635,       5607,  1537.9,2,   2.6064,2,  34.5549,2,  34.5541,2,     54.4,2,    54.6,2,  148.89,2,   42.29,2,    0.00,2,    3.11,4,   0.014,2,   0.009,2,   0.0000,2,  2370.1,2,  2404.0,2,   7.4008,2,    24.98,2, -999.00,9,  -999.0,9, -999.00,9, -999.00,9,       43.5,2, 20220620,     1644,  29.9996,-154.8635,     2.6075,2,     -999.0,9,     -999.0,9,     -999.0,9,     -999.0,9,     0.0134,1,     4.6998,1,     -999.0,9,     -999.0,9,     -999.0,9,     -999.0,9,     -999.0,9
33RR20220613,       P02E,     129,          1,         14,         14,2,20220620,       1511,    29.9997,  -154.8635,       5607,  1754.6,2,   2.2790,2,  34.5883,2,  34.5873,2,     71.4,2,    71.9,2,  155.05,2,   41.35,2,    0.00,2,    3.07,4,   0.014,2,   0.012,2,   0.0000,2,  -999.0,9,  -999.0,9,-999.0000,9,  -999.00,9, -999.00,9,  -999.0,9, -999.00,9, -999.00,9,       37.9,2, 20220620,     1640,  29.9997,-154.8635,     2.2797,2,     -999.0,9,     -999.0,9,     -999.0,9,     -999.0,9,     0.0131,1,     4.7008,1,     -999.0,9,     -999.0,9,     -999.0,9,     -999.0,9,     -999.0,9
33RR20220613,       P02E,     129,          1,         13,         13,2,20220620,       1511,    29.9997,  -154.8635,       5607,  1957.7,2,   2.0606,2,  34.6098,2,  34.6069,2,     82.0,2,    82.2,2,  159.64,2,   40.72,2,    0.00,2,    3.07,4,   0.013,2,   0.011,2,   0.0000,2,  2365.3,2,  -999.0,9,   7.4542,2,    25.00,2, -999.00,9,  -999.0,9, -999.00,9, -999.00,9,       35.3,2, 20220620,     1635,  29.9997,-154.8635,     2.0609,2,     -999.0,9,     -999.0,9,     -999.0,9,     -999.0,9,     0.0127,1,     4.7017,1,     -999.0,9,     -999.0,9,     -999.0,9,     -999.0,9,     -999.0,9
33RR20220613,       P02E,     129,          1,         12,         12,2,20220620,       1511,    29.9997,  -154.8635,       5607,  2191.7,2,   1.8765,2,  34.6281,2,  34.6266,2,     90.9,2,    91.0,2,  164.33,2,   40.32,2,    0.00,2,    3.04,4,   0.003,2,   0.002,2,   0.0000,2,  -999.0,9,  -999.0,9,-999.0000,9,  -999.00,9, -999.00,9,  -999.0,9, -999.00,9, -999.00,9,       31.9,2, 20220620,     1630,  29.9996,-154.8635,     1.8775,2,     -999.0,9,     -999.0,9,     -999.0,9,     -999.0,9,     0.0125,1,     4.7019,1,     -999.0,9,     -999.0,9,     -999.0,9,     -999.0,9,     -999.0,9
33RR20220613,       P02E,     129,          1,         11,         11,2,20220620,       1511,    29.9997,  -154.8635,       5607,  2445.3,2,   1.7427,2,  34.6432,2,  34.6417,2,    100.5,2,   100.5,2,  167.16,2,   39.59,2,    0.00,2,    3.01,4,   0.004,2,   0.003,2,   0.0000,2,  2361.0,2,  2423.5,6,   7.4879,2,    25.00,2, -999.00,9,  -999.0,9, -999.00,9, -999.00,9,       29.9,2, 20220620,     1625,  29.9996,-154.8635,     1.7426,2,     -999.0,9,     -999.0,9,     -999.0,9,     -999.0,9,     0.0134,1,     4.7029,1,     -999.0,9,     -999.0,9,     -999.0,9,     -999.0,9,     -999.0,9
33RR20220613,       P02E,     129,          1,         10,         10,2,20220620,       1511,    29.9997,  -154.8635,       5607,  2699.8,2,   1.6367,2,  34.6553,2,  34.6543,2,    111.3,2,   111.3,2,  166.87,2,   38.93,2,    0.00,2,    2.98,4,   0.004,2,   0.003,2,   0.0000,2,  -999.0,9,  -999.0,9,-999.0000,9,  -999.00,9, -999.00,9,  -999.0,9, -999.00,9, -999.00,9,       28.3,2, 20220620,     1619,  29.9996,-154.8635,     1.6369,2,     -999.0,9,     -999.0,9,     -999.0,9,     -999.0,9,     0.0129,1,     4.7032,1,     -999.0,9,     -999.0,9,     -999.0,9,     -999.0,9,     -999.0,9
33RR20220613,       P02E,     129,          1,          9,          9,2,20220620,       1511,    29.9997,  -154.8635,       5607,  2953.0,2,   1.5718,2,  34.6637,2,  34.6625,2,    120.4,2,   120.5,2,  165.11,2,   38.44,2,    0.00,2,    2.91,4,   0.005,2,   0.005,2,   0.0000,2,  2348.2,2,  -999.0,9,   7.5268,2,    24.99,2, -999.00,9,  -999.0,9, -999.00,9, -999.00,9,       25.8,2, 20220620,     1613,  29.9997,-154.8635,     1.5716,2,     -999.0,9,     -999.0,9,     -999.0,9,     -999.0,9,     0.0130,1,     4.7036,1,     -999.0,9,     -999.0,9,     -999.0,9,     -999.0,9,     -999.0,9
33RR20220613,       P02E,     129,          1,          8,          8,2,20220620,       1511,    29.9997,  -154.8635,       5607,  3245.8,2,   1.5242,2,  34.6719,2,  34.6706,2,    129.3,2,   129.4,2,  163.54,2,   37.75,2,    0.00,2,    2.87,4,   0.007,2,   0.007,2,   0.0000,2,  -999.0,9,  -999.0,9,-999.0000,9,  -999.00,9, -999.00,9,  -999.0,9, -999.00,9, -999.00,9,       27.3,2, 20220620,     1607,  29.9996,-154.8635,     1.5241,2,     -999.0,9,     -999.0,9,     -999.0,9,     -999.0,9,     0.0122,1,     4.7043,1,     -999.0,9,     -999.0,9,     -999.0,9,     -999.0,9,     -999.0,9
33RR20220613,       P02E,     129,          1,          7,          7,2,20220620,       1511,    29.9997,  -154.8635,       5607,  3553.7,2,   1.4944,2,  34.6772,3,  34.6745,2,    136.7,2,   136.6,2,  161.10,2,   37.20,2,    0.00,2,    2.83,4,   0.004,2,   0.004,2,   0.0000,2,  2339.9,2,  2425.7,2,   7.5540,2,    24.98,2, -999.00,9,  -999.0,9, -999.00,9, -999.00,9,       24.7,2, 20220620,     1600,  29.9997,-154.8635,     1.4946,2,     -999.0,9,     -999.0,9,     -999.0,9,     -999.0,9,     0.0122,1,     4.7044,1,     -999.0,9,     -999.0,9,     -999.0,9,     -999.0,9,     -999.0,9
33RR20220613,       P02E,     129,          1,          6,          6,2,20220620,       1511,    29.9997,  -154.8635,       5607,  3860.3,2,   1.4890,2,  34.6807,2,  34.6791,2,    141.6,2,   141.8,2,  159.73,2,   36.90,2,    0.00,2,    2.79,4,   0.004,2,   0.003,2,   0.0000,2,  -999.0,9,  -999.0,9,-999.0000,9,  -999.00,9, -999.00,9,  -999.0,9, -999.00,9, -999.00,9,       24.0,2, 20220620,     1554,  29.9997,-154.8635,     1.4888,2,     -999.0,9,     -999.0,9,     -999.0,9,     -999.0,9,     0.0122,1,     4.7044,1,     -999.0,9,     -999.0,9,     -999.0,9,     -999.0,9,     -999.0,9
33RR20220613,       P02E,     129,          1,          5,          5,2,20220620,       1511,    29.9997,  -154.8635,       5607,  4270.8,2,   1.4930,2,  34.6845,2,  34.6836,2,    147.8,2,   147.7,2,  156.60,2,   36.60,2,    0.00,2,    2.77,4,   0.006,2,   0.004,2,   0.0000,2,  2330.7,6,  -999.0,9,   7.5729,2,    25.02,2, -999.00,9,  -999.0,9, -999.00,9, -999.00,9,       23.6,2, 20220620,     1546,  29.9996,-154.8635,     1.4929,2,     -999.0,9,     -999.0,9,     -999.0,9,     -999.0,9,     0.0122,1,     4.7044,1,     -999.0,9,     -999.0,9,     -999.0,9,     -999.0,9,     -999.0,9