BOTTLE,20230830CCHSIOCBG
EXPOCODE,SECT_ID,STNNBR,CASTNO,SAMPNO,BTLNBR,BTLNBR_FLAG_W,DATE,TIME,LATITUDE,LONGITUDE,DEPTH,CTDPRS,CTDPRS_FLAG_W,CTDTMP,CTDTMP_FLAG_W,CTDSAL,CTDSAL_FLAG_W,SALNTY,SALNTY_FLAG_W,CTDOXY,CTDOXY_FLAG_W,OXYGEN,OXYGEN_FLAG_W,SILCAT,SILCAT_FLAG_W,NITRAT,NITRAT_FLAG_W,NITRIT,NITRIT_FLAG_W,PHSPHT,PHSPHT_FLAG_W,CFC-11,CFC-11_FLAG_W,CFC-12,CFC-12_FLAG_W,SF6,SF6_FLAG_W,TCARBN,TCARBN_FLAG_W,ALKALI,ALKALI_FLAG_W,PH_TOT,PH_TOT_FLAG_W,PH_TMP,PH_TMP_FLAG_W,DELC13,DELC13_FLAG_W,DELC14,DELC14_FLAG_W,DOC,DOC_FLAG_W,TDN,TDN_FLAG_W,N2O,N2O_FLAG_W,BTL_DATE,BTL_TIME,BTL_LAT,BTL_LON,REFTMP,REFTMP_FLAG_W,POC,POC_FLAG_W,PON,PON_FLAG_W,POP,POP_FLAG_W,PCOD,PCOD_FLAG_W,CTDFLUOR,CTDFLUOR_FLAG_W,CTDXMISS,CTDXMISS_FLAG_W,HPLC,HPLC_FLAG_W,DNA,DNA_FLAG_W,FCM,FCM_FLAG_W,IMAGES,IMAGES_FLAG_W,VIRAL_ABUNDANCE,VIRAL_ABUNDANCE_FLAG_W
,,,,,,,,,,,METERS,DBAR,,ITS-90,,PSS-78,,PSS-78,,UMOL/KG,,UMOL/KG,,UMOL/KG,,UMOL/KG,,UMOL/KG,,UMOL/KG,,PMOL/KG,,PMOL/KG,,FMOL/KG,,UMOL/KG,,UMOL/KG,,,,DEG C,,/MILLE,,/MILLE,,UMOL/KG,,UMOL/KG,,NMOL/KG,,,,,,ITS-90,,UG/L,,UG/L,,UG/L,,UG/L,,VOLTS,,VOLTS,,,,,,,,,,,
33RR20220613,       P02E,     127,          1,          4,          4,2,20220619,       2132,    30.0145,  -156.0119,       5967,  4887.0,2,   1.5227,2,  34.6882,2,  34.6881,2,    154.4,2,   154.7,2,  152.23,2,   36.01,2,    0.00,2,    2.71,4,   0.005,2,   0.004,2,   0.0000,2,  -999.0,9,  -999.0,9,-999.0000,9,  -999.00,9, -999.00,9,  -999.0,9, -999.00,9, -999.00,9,       22.6,2, 20220619,     2242,  30.0026,-156.0173,     1.5227,2,     -999.0,9,     -999.0,9,     -999.0,9,     -999.0,9,     0.0122,1,     4.7022,1,     -999.0,9,     -999.0,9,     -999.0,9,     -999.0,9,     -999.0,9
33RR20220613,       P02E,     127,          1,          3,          3,2,20220619,       2132,    30.0145,  -156.0119,       5967,  5300.1,2,   1.5601,2,  34.6895,2,  34.6889,2,    157.3,2,   157.4,2,  149.39,2,   35.83,2,    0.00,2,    2.69,4,   0.004,2,   0.005,2,   0.0000,2,  -999.0,9,  -999.0,9,-999.0000,9,  -999.00,9, -999.00,9,  -999.0,9, -999.00,9, -999.00,9,       22.8,2, 20220619,     2229,  30.0018,-156.0176,     1.5601,2,     -999.0,9,     -999.0,9,     -999.0,9,     -999.0,9,     0.0122,1,     4.7019,1,     -999.0,9,     -999.0,9,     -999.0,9,     -999.0,9,     -999.0,9
33RR20220613,       P02E,     127,          1,          2,          2,2,20220619,       2132,    30.0145,  -156.0119,       5967,  5713.5,2,   1.6112,2,  34.6899,2,  34.6897,2,    158.5,2,   158.3,2,  148.02,2,   35.75,2,    0.00,2,    2.69,4,   0.005,2,   0.005,2,   0.0000,2,  2321.7,2,  -999.0,9,   7.5843,2,    25.01,2, -999.00,9,  -999.0,9, -999.00,9, -999.00,9,       22.8,2, 20220619,     2204,  30.0013,-156.0178,     1.6115,2,     -999.0,9,     -999.0,9,     -999.0,9,     -999.0,9,     0.0122,1,     4.7009,1,     -999.0,9,     -999.0,9,     -999.0,9,     -999.0,9,     -999.0,9
33RR20220613,       P02E,     127,          1,          1,          1,2,20220619,       2132,    30.0145,  -156.0119,       5967,  6076.4,2,   1.6582,2,  34.6901,2,  34.6901,2,    158.9,2,   159.0,2,  147.54,2,   35.64,2,    0.00,2,    2.68,4,   0.007,2,   0.006,2,   0.0000,2,  2321.5,6,  2418.7,2,   7.5847,2,    25.00,2, -999.00,9,  -999.0,9, -999.00,9, -999.00,9,       23.0,2, 20220619,     2132,  30.0006,-156.0182,     1.6584,2,     -999.0,9,     -999.0,9,     -999.0,9,     -999.0,9,     0.0122,1,     4.7007,1,     -999.0,9,     -999.0,9,     -999.0,9,     -999.0,9,     -999.0,9
33RR20220613,       P02E,     128,          1,         15,         15,2,20220620,       0432,    30.0001,  -155.4387,       5725,     4.0,2,  24.8866,2,  35.2484,2,-999.0000,9,    209.9,2,  -999.0,9, -999.00,9, -999.00,9, -999.00,9, -999.00,9,-999.000,9,-999.000,9,-999.0000,9,  -999.0,9,  -999.0,9,-999.0000,9,  -999.00,9, -999.00,9,  -999.0,9, -999.00,9, -999.00,9,     -999.0,9, 20220620,      502,  30.0001,-155.4387,     -999.0,9,     -999.0,9,     -999.0,9,     -999.0,1,     -999.0,9,     0.0130,1,     4.6372,1,     -999.0,9,     -999.0,9,     -999.0,9,     -999.0,9,     -999.0,9
33RR20220613,       P02E,     128,          1,         19,         39,2,20220620,       0432,    30.0001,  -155.4387,       5725,     4.2,2,  24.8863,2,  35.2482,2,-999.0000,9,    209.9,2,  -999.0,9, -999.00,9, -999.00,9, -999.00,9, -999.00,9,-999.000,9,-999.000,9,-999.0000,9,  -999.0,9,  -999.0,9,-999.0000,9,  -999.00,9, -999.00,9,  -999.0,9, -999.00,9, -999.00,9,     -999.0,9, 20220620,      504,  30.0001,-155.4387,     -999.0,9,     -999.0,9,     -999.0,9,     -999.0,9,     -999.0,1,     0.0134,1,     4.6381,1,     -999.0,9,     -999.0,9,     -999.0,9,     -999.0,9,     -999.0,9
33RR20220613,       P02E,     128,          1,         16,         16,2,20220620,       0432,    30.0001,  -155.4387,       5725,     4.2,2,  24.8861,2,  35.2485,2,-999.0000,9,    209.9,2,  -999.0,9, -999.00,9, -999.00,9, -999.00,9, -999.00,9,-999.000,9,-999.000,9,-999.0000,9,  -999.0,9,  -999.0,9,-999.0000,9,  -999.00,9, -999.00,9,  -999.0,9, -999.00,9, -999.00,9,     -999.0,9, 20220620,      504,  30.0001,-155.4387,     -999.0,9,     -999.0,9,     -999.0,9,     -999.0,1,     -999.0,9,     0.0134,1,     4.6383,1,     -999.0,9,     -999.0,9,     -999.0,9,     -999.0,9,     -999.0,9
33RR20220613,       P02E,     128,          1,         14,         14,2,20220620,       0432,    30.0001,  -155.4387,       5725,     4.3,2,  24.8877,2,  35.2481,2,-999.0000,9,    209.9,2,  -999.0,9, -999.00,9, -999.00,9, -999.00,9, -999.00,9,-999.000,9,-999.000,9,-999.0000,9,  -999.0,9,  -999.0,9,-999.0000,9,  -999.00,9, -999.00,9,  -999.0,9, -999.00,9, -999.00,9,     -999.0,9, 20220620,      502,  30.0001,-155.4387,     -999.0,9,     -999.0,9,     -999.0,9,     -999.0,1,     -999.0,9,     0.0135,1,     4.6384,1,     -999.0,9,     -999.0,9,     -999.0,9,     -999.0,9,     -999.0,9
33RR20220613,       P02E,     128,          1,         12,         12,2,20220620,       0432,    30.0001,  -155.4387,       5725,     4.3,2,  24.8906,2,  35.2483,2,-999.0000,9,    209.9,2,  -999.0,9, -999.00,9, -999.00,9, -999.00,9, -999.00,9,-999.000,9,-999.000,9,-999.0000,9,  -999.0,9,  -999.0,9,-999.0000,9,  -999.00,9, -999.00,9,  -999.0,9, -999.00,9, -999.00,9,     -999.0,9, 20220620,      502,  30.0001,-155.4387,     -999.0,9,     -999.0,1,     -999.0,1,     -999.0,9,     -999.0,9,     0.0134,1,     4.6367,1,     -999.0,9,     -999.0,9,     -999.0,9,     -999.0,9,     -999.0,9
33RR20220613,       P02E,     128,          1,         11,         11,2,20220620,       0432,    30.0001,  -155.4387,       5725,     4.3,2,  24.8899,2,  35.2482,2,-999.0000,9,    209.8,2,  -999.0,9, -999.00,9, -999.00,9, -999.00,9, -999.00,9,-999.000,9,-999.000,9,-999.0000,9,  -999.0,9,  -999.0,9,-999.0000,9,  -999.00,9, -999.00,9,  -999.0,9, -999.00,9, -999.00,9,     -999.0,9, 20220620,      502,  30.0001,-155.4387,     -999.0,9,     -999.0,1,     -999.0,1,     -999.0,9,     -999.0,9,     0.0134,1,     4.6369,1,     -999.0,9,     -999.0,9,     -999.0,9,     -999.0,9,     -999.0,9
33RR20220613,       P02E,     128,          1,         10,         10,2,20220620,       0432,    30.0001,  -155.4387,       5725,     4.3,2,  24.8889,2,  35.2482,2,-999.0000,9,    209.8,2,  -999.0,9, -999.00,9, -999.00,9, -999.00,9, -999.00,9,-999.000,9,-999.000,9,-999.0000,9,  -999.0,9,  -999.0,9,-999.0000,9,  -999.00,9, -999.00,9,  -999.0,9, -999.00,9, -999.00,9,     -999.0,9, 20220620,      502,  30.0001,-155.4387,     -999.0,9,     -999.0,9,     -999.0,9,     -999.0,9,     -999.0,9,     0.0134,1,     4.6365,1,     -999.0,9,     -999.0,1,     -999.0,9,     -999.0,9,     -999.0,9
33RR20220613,       P02E,     128,          1,          9,          9,2,20220620,       0432,    30.0001,  -155.4387,       5725,     4.3,2,  24.8880,2,  35.2486,2,-999.0000,9,    209.8,2,  -999.0,9, -999.00,9, -999.00,9, -999.00,9, -999.00,9,-999.000,9,-999.000,9,-999.0000,9,  -999.0,9,  -999.0,9,-999.0000,9,  -999.00,9, -999.00,9,  -999.0,9, -999.00,9, -999.00,9,     -999.0,9, 20220620,      502,  30.0001,-155.4387,    24.8879,2,     -999.0,9,     -999.0,9,     -999.0,9,     -999.0,9,     0.0134,1,     4.6382,1,     -999.0,1,     -999.0,9,     -999.0,1,     -999.0,9,     -999.0,9
33RR20220613,       P02E,     128,          1,         17,         37,2,20220620,       0432,    30.0001,  -155.4387,       5725,     4.4,2,  24.8872,2,  35.2482,2,-999.0000,9,    209.9,2,  -999.0,9, -999.00,9, -999.00,9, -999.00,9, -999.00,9,-999.000,9,-999.000,9,-999.0000,9,  -999.0,9,  -999.0,9,-999.0000,9,  -999.00,9, -999.00,9,  -999.0,9, -999.00,9, -999.00,9,     -999.0,9, 20220620,      504,  30.0001,-155.4387,     -999.0,9,     -999.0,9,     -999.0,9,     -999.0,9,     -999.0,1,     0.0135,1,     4.6378,1,     -999.0,9,     -999.0,9,     -999.0,9,     -999.0,9,     -999.0,9
33RR20220613,       P02E,     128,          1,         18,         18,2,20220620,       0432,    30.0001,  -155.4387,       5725,     4.5,2,  24.8880,2,  35.2480,2,-999.0000,9,    209.9,2,  -999.0,9, -999.00,9, -999.00,9, -999.00,9, -999.00,9,-999.000,9,-999.000,9,-999.0000,9,  -999.0,9,  -999.0,9,-999.0000,9,  -999.00,9, -999.00,9,  -999.0,9, -999.00,9, -999.00,9,     -999.0,9, 20220620,      504,  30.0001,-155.4387,    24.8862,2,     -999.0,9,     -999.0,9,     -999.0,9,     -999.0,1,     0.0142,1,     4.6383,1,     -999.0,9,     -999.0,9,     -999.0,9,     -999.0,9,     -999.0,9
33RR20220613,       P02E,     128,          1,         13,         13,2,20220620,       0432,    30.0001,  -155.4387,       5725,     4.6,2,  24.8888,2,  35.2480,2,-999.0000,9,    209.8,2,  -999.0,9, -999.00,9, -999.00,9, -999.00,9, -999.00,9,-999.000,9,-999.000,9,-999.0000,9,  -999.0,9,  -999.0,9,-999.0000,9,  -999.00,9, -999.00,9,  -999.0,9, -999.00,9, -999.00,9,     -999.0,9, 20220620,      502,  30.0001,-155.4387,     -999.0,9,     -999.0,1,     -999.0,1,     -999.0,9,     -999.0,9,     0.0126,1,     4.6375,1,     -999.0,9,     -999.0,9,     -999.0,9,     -999.0,9,     -999.0,9
33RR20220613,       P02E,     128,          1,          8,          8,2,20220620,       0432,    30.0001,  -155.4387,       5725,    40.8,2,  22.9398,2,  35.2872,2,-999.0000,9,    223.4,2,  -999.0,9, -999.00,9, -999.00,9, -999.00,9, -999.00,9,-999.000,9,-999.000,9,-999.0000,9,  -999.0,9,  -999.0,9,-999.0000,9,  -999.00,9, -999.00,9,  -999.0,9, -999.00,9, -999.00,9,     -999.0,9, 20220620,      501,  30.0001,-155.4387,    22.9460,2,     -999.0,9,     -999.0,9,     -999.0,9,     -999.0,9,     0.0147,1,     4.6300,1,     -999.0,1,     -999.0,9,     -999.0,1,     -999.0,9,     -999.0,9
33RR20220613,       P02E,     128,          1,          7,          7,2,20220620,       0432,    30.0001,  -155.4387,       5725,    75.6,2,  19.9318,2,  35.0347,2,-999.0000,9,    231.9,2,  -999.0,9, -999.00,9, -999.00,9, -999.00,9, -999.00,9,-999.000,9,-999.000,9,-999.0000,9,  -999.0,9,  -999.0,9,-999.0000,9,  -999.00,9, -999.00,9,  -999.0,9, -999.00,9, -999.00,9,     -999.0,9, 20220620,      458,  30.0001,-155.4387,    19.9387,2,     -999.0,9,     -999.0,9,     -999.0,9,     -999.0,9,     0.0183,1,     4.6345,1,     -999.0,9,     -999.0,9,     -999.0,1,     -999.0,9,     -999.0,9
33RR20220613,       P02E,     128,          1,          6,          6,2,20220620,       0432,    30.0001,  -155.4387,       5725,   101.3,2,  18.9088,2,  34.8895,2,-999.0000,9,    229.6,2,  -999.0,9, -999.00,9, -999.00,9, -999.00,9, -999.00,9,-999.000,9,-999.000,9,-999.0000,9,  -999.0,9,  -999.0,9,-999.0000,9,  -999.00,9, -999.00,9,  -999.0,9, -999.00,9, -999.00,9,     -999.0,9, 20220620,      456,  30.0001,-155.4387,     -999.0,9,     -999.0,9,     -999.0,9,     -999.0,9,     -999.0,9,     0.0211,1,     4.6475,1,     -999.0,9,     -999.0,1,     -999.0,9,     -999.0,9,     -999.0,9
33RR20220613,       P02E,     128,          1,          5,          5,2,20220620,       0432,    30.0001,  -155.4387,       5725,   101.4,2,  18.9128,2,  34.8891,2,-999.0000,9,    229.1,2,  -999.0,9, -999.00,9, -999.00,9, -999.00,9, -999.00,9,-999.000,9,-999.000,9,-999.0000,9,  -999.0,9,  -999.0,9,-999.0000,9,  -999.00,9, -999.00,9,  -999.0,9, -999.00,9, -999.00,9,     -999.0,9, 20220620,      456,  30.0001,-155.4387,    18.9166,2,     -999.0,9,     -999.0,9,     -999.0,9,     -999.0,9,     0.0226,1,     4.6471,1,     -999.0,1,     -999.0,9,     -999.0,1,     -999.0,9,     -999.0,9
33RR20220613,       P02E,     128,          1,          4,          4,2,20220620,       0432,    30.0001,  -155.4387,       5725,   152.7,2,  15.9261,2,  34.5180,2,-999.0000,9,    215.4,2,  -999.0,9, -999.00,9, -999.00,9, -999.00,9, -999.00,9,-999.000,9,-999.000,9,-999.0000,9,  -999.0,9,  -999.0,9,-999.0000,9,  -999.00,9, -999.00,9,  -999.0,9, -999.00,9, -999.00,9,     -999.0,9, 20220620,      452,  30.0001,-155.4387,    15.9402,2,     -999.0,9,     -999.0,9,     -999.0,9,     -999.0,9,     0.0252,1,     4.6716,1,     -999.0,9,     -999.0,9,     -999.0,1,     -999.0,9,     -999.0,9
33RR20220613,       P02E,     128,          1,          3,          3,2,20220620,       0432,    30.0001,  -155.4387,       5725,   205.2,2,  13.8574,2,  34.3260,2,-999.0000,9,    215.8,2,  -999.0,9, -999.00,9, -999.00,9, -999.00,9, -999.00,9,-999.000,9,-999.000,9,-999.0000,9,  -999.0,9,  -999.0,9,-999.0000,9,  -999.00,9, -999.00,9,  -999.0,9, -999.00,9, -999.00,9,     -999.0,9, 20220620,      450,  30.0001,-155.4387,    13.8655,2,     -999.0,9,     -999.0,9,     -999.0,9,     -999.0,9,     0.0147,1,     4.6861,1,     -999.0,9,     -999.0,1,     -999.0,1,     -999.0,9,     -999.0,9
33RR20220613,       P02E,     128,          1,          2,          2,2,20220620,       0432,    30.0001,  -155.4387,       5725,   503.9,2,   7.4471,2,  34.0084,2,-999.0000,9,    152.4,2,  -999.0,9, -999.00,9, -999.00,9, -999.00,9, -999.00,9,-999.000,9,-999.000,9,-999.0000,9,  -999.0,9,  -999.0,9,-999.0000,9,  -999.00,9, -999.00,9,  -999.0,9, -999.00,9, -999.00,9,     -999.0,9, 20220620,      443,  30.0001,-155.4387,     7.4519,2,     -999.0,9,     -999.0,9,     -999.0,9,     -999.0,9,     0.0127,1,     4.6981,1,     -999.0,9,     -999.0,9,     -999.0,1,     -999.0,9,     -999.0,9
33RR20220613,       P02E,     128,          1,          1,          1,2,20220620,       0432,    30.0001,  -155.4387,       5725,  1010.4,2,   3.6453,2,  34.3630,2,-999.0000,9,     12.6,2,  -999.0,9, -999.00,9, -999.00,9, -999.00,9, -999.00,9,-999.000,9,-999.000,9,-999.0000,9,  -999.0,9,  -999.0,9,-999.0000,9,  -999.00,9, -999.00,9,  -999.0,9, -999.00,9, -999.00,9,     -999.0,9, 20220620,      432,  30.0001,-155.4387,     3.6458,2,     -999.0,9,     -999.0,9,     -999.0,9,     -999.0,9,     0.0134,1,     4.6996,1,     -999.0,9,     -999.0,1,     -999.0,1,     -999.0,9,     -999.0,9