BOTTLE,20230830CCHSIOCBG
EXPOCODE,SECT_ID,STNNBR,CASTNO,SAMPNO,BTLNBR,BTLNBR_FLAG_W,DATE,TIME,LATITUDE,LONGITUDE,DEPTH,CTDPRS,CTDPRS_FLAG_W,CTDTMP,CTDTMP_FLAG_W,CTDSAL,CTDSAL_FLAG_W,SALNTY,SALNTY_FLAG_W,CTDOXY,CTDOXY_FLAG_W,OXYGEN,OXYGEN_FLAG_W,SILCAT,SILCAT_FLAG_W,NITRAT,NITRAT_FLAG_W,NITRIT,NITRIT_FLAG_W,PHSPHT,PHSPHT_FLAG_W,CFC-11,CFC-11_FLAG_W,CFC-12,CFC-12_FLAG_W,SF6,SF6_FLAG_W,TCARBN,TCARBN_FLAG_W,ALKALI,ALKALI_FLAG_W,PH_TOT,PH_TOT_FLAG_W,PH_TMP,PH_TMP_FLAG_W,DELC13,DELC13_FLAG_W,DELC14,DELC14_FLAG_W,DOC,DOC_FLAG_W,TDN,TDN_FLAG_W,N2O,N2O_FLAG_W,BTL_DATE,BTL_TIME,BTL_LAT,BTL_LON,REFTMP,REFTMP_FLAG_W,POC,POC_FLAG_W,PON,PON_FLAG_W,POP,POP_FLAG_W,PCOD,PCOD_FLAG_W,CTDFLUOR,CTDFLUOR_FLAG_W,CTDXMISS,CTDXMISS_FLAG_W,HPLC,HPLC_FLAG_W,DNA,DNA_FLAG_W,FCM,FCM_FLAG_W,IMAGES,IMAGES_FLAG_W,VIRAL_ABUNDANCE,VIRAL_ABUNDANCE_FLAG_W
,,,,,,,,,,,METERS,DBAR,,ITS-90,,PSS-78,,PSS-78,,UMOL/KG,,UMOL/KG,,UMOL/KG,,UMOL/KG,,UMOL/KG,,UMOL/KG,,PMOL/KG,,PMOL/KG,,FMOL/KG,,UMOL/KG,,UMOL/KG,,,,DEG C,,/MILLE,,/MILLE,,UMOL/KG,,UMOL/KG,,NMOL/KG,,,,,,ITS-90,,UG/L,,UG/L,,UG/L,,UG/L,,VOLTS,,VOLTS,,,,,,,,,,,
33RR20220613,       P02E,     155,          2,         36,         36,2,20220628,       1845,    30.0010,  -139.8472,       4670,     5.6,2,  21.8537,2,  34.3091,2,  34.3146,2,    226.7,2,   226.0,2,    1.56,2,    0.03,2,    0.00,2,    0.09,2,   1.845,2,   1.175,2,   1.9423,2,  2031.5,6,  2277.5,2,   7.9544,2,    25.01,2, -999.00,9,  -999.0,9, -999.00,9, -999.00,9,        7.5,2, 20220628,     2054,  30.0010,-139.8472,    21.9046,2,     -999.0,9,     -999.0,9,     -999.0,9,     -999.0,9,     0.0122,1,     4.6269,1,     -999.0,9,     -999.0,9,     -999.0,9,     -999.0,9,     -999.0,9
33RR20220613,       P02E,     155,          2,         35,         35,2,20220628,       1845,    30.0010,  -139.8472,       4670,    26.0,2,  21.3105,2,  34.2893,2,  34.2936,2,    230.0,2,   230.0,2,    1.66,2,    0.02,2,    0.00,2,    0.08,2,   1.908,2,   1.211,2,   1.9439,2,  2030.0,2,  2275.7,2,   7.9536,2,    25.02,2, -999.00,9,  -999.0,9, -999.00,9, -999.00,9,        7.4,2, 20220628,     2052,  30.0010,-139.8472,    21.2945,2,     -999.0,9,     -999.0,9,     -999.0,9,     -999.0,9,     0.0133,1,     4.6326,1,     -999.0,9,     -999.0,9,     -999.0,9,     -999.0,9,     -999.0,9
33RR20220613,       P02E,     155,          2,         34,         34,2,20220628,       1845,    30.0010,  -139.8472,       4670,    51.3,2,  19.5668,2,  34.3407,2,  34.3356,2,    242.8,2,   242.0,2,    1.56,2,    0.01,2,    0.00,2,    0.07,2,   2.109,2,   1.301,2,   2.0829,2,  2031.1,2,  2273.9,2,   7.9554,2,    25.00,2, -999.00,9,  -999.0,9, -999.00,9, -999.00,9,        8.0,2, 20220628,     2050,  30.0010,-139.8472,    19.5686,2,     -999.0,9,     -999.0,9,     -999.0,9,     -999.0,9,     0.0134,1,     4.6385,1,     -999.0,9,     -999.0,9,     -999.0,9,     -999.0,9,     -999.0,9
33RR20220613,       P02E,     155,          2,         33,         33,2,20220628,       1845,    30.0010,  -139.8472,       4670,    78.6,2,  18.6617,2,  34.3138,2,  34.2964,2,    241.7,2,   240.8,2,    1.56,2,    0.01,2,    0.00,2,    0.09,2,-999.000,9,-999.000,9,-999.0000,9,  2029.5,2,  2273.5,6,   7.9508,2,    25.02,2, -999.00,9,  -999.0,9, -999.00,9, -999.00,9,     -999.0,9, 20220628,     2047,  30.0010,-139.8472,    18.6266,2,     -999.0,9,     -999.0,9,     -999.0,9,     -999.0,9,     0.0154,1,     4.6411,1,     -999.0,9,     -999.0,9,     -999.0,9,     -999.0,9,     -999.0,9
33RR20220613,       P02E,     155,          2,         32,         32,2,20220628,       1845,    30.0010,  -139.8472,       4670,   106.8,2,  18.8238,2,  34.4945,2,  34.4824,2,    237.4,2,   237.4,2,    1.56,2,    0.01,2,    0.00,2,    0.06,2,   2.065,6,   1.296,6,   2.0492,6,  2032.7,2,  2280.2,2,   7.9546,2,    25.01,2, -999.00,9,  -999.0,9, -999.00,9, -999.00,9,        8.0,6, 20220628,     2046,  30.0010,-139.8472,    18.8140,2,     -999.0,9,     -999.0,9,     -999.0,9,     -999.0,9,     0.0182,1,     4.6507,1,     -999.0,9,     -999.0,9,     -999.0,9,     -999.0,9,     -999.0,9
33RR20220613,       P02E,     155,          2,         31,         31,2,20220628,       1845,    30.0010,  -139.8472,       4670,   127.4,2,  18.7545,2,  34.5558,2,  34.5602,2,    234.0,2,   234.6,2,    1.66,2,    0.00,2,    0.00,2,    0.05,2,-999.000,9,-999.000,9,-999.0000,9,  2037.0,2,  2282.2,2,   7.9542,2,    25.02,2, -999.00,9,  -999.0,9, -999.00,9, -999.00,9,     -999.0,9, 20220628,     2045,  30.0010,-139.8472,    18.7587,2,     -999.0,9,     -999.0,9,     -999.0,9,     -999.0,9,     0.0214,1,     4.6563,1,     -999.0,9,     -999.0,9,     -999.0,9,     -999.0,9,     -999.0,9
33RR20220613,       P02E,     155,          2,         30,         17,2,20220628,       1845,    30.0010,  -139.8472,       4670,   152.1,2,  18.1554,2,  34.4981,2,  34.5056,2,    228.9,2,   230.3,2,    1.86,2,    0.04,2,    0.06,2,    0.08,2,   2.088,2,   1.321,2,   2.0470,2,  2038.5,2,  2277.6,2,   7.9410,2,    25.01,2, -999.00,9,  -999.0,9, -999.00,9, -999.00,9,        8.7,2, 20220628,     2043,  30.0010,-139.8472,    18.1566,2,     -999.0,9,     -999.0,9,     -999.0,9,     -999.0,9,     0.0281,1,     4.6627,1,     -999.0,9,     -999.0,9,     -999.0,9,     -999.0,9,     -999.0,9
33RR20220613,       P02E,     155,          2,         29,         29,2,20220628,       1845,    30.0010,  -139.8472,       4670,   202.5,2,  14.9117,2,  34.1399,2,  34.1415,2,    221.4,2,   222.9,2,    3.81,2,    2.50,2,    0.00,2,    0.28,2,   2.451,2,   1.523,2,   2.1862,2,  2052.2,2,  2253.9,2,   7.8659,2,    25.00,2, -999.00,9,  -999.0,9, -999.00,9, -999.00,9,       10.5,2, 20220628,     2039,  30.0010,-139.8472,    14.9109,2,     -999.0,9,     -999.0,9,     -999.0,9,     -999.0,9,     0.0195,1,     4.6776,1,     -999.0,9,     -999.0,9,     -999.0,9,     -999.0,9,     -999.0,9
33RR20220613,       P02E,     155,          2,         28,         28,2,20220628,       1845,    30.0010,  -139.8472,       4670,   252.7,2,  11.8485,2,  33.9174,2,  33.9228,2,    220.2,2,   220.5,2,    8.41,2,    8.60,2,    0.00,2,    0.67,2,   2.853,2,   1.731,2,   2.3462,2,  2078.3,2,  2242.8,2,   7.7832,2,    25.01,2, -999.00,9,  -999.0,9, -999.00,9, -999.00,9,       13.5,2, 20220628,     2038,  30.0010,-139.8472,    11.8333,2,     -999.0,9,     -999.0,9,     -999.0,9,     -999.0,9,     0.0134,1,     4.6866,1,     -999.0,9,     -999.0,9,     -999.0,9,     -999.0,9,     -999.0,9
33RR20220613,       P02E,     155,          2,         27,         27,2,20220628,       1845,    30.0010,  -139.8472,       4670,   302.6,2,  10.3319,2,  34.0303,2,  34.0266,2,    208.3,2,   207.2,2,   15.65,2,   14.63,2,    0.00,2,    1.03,2,   2.969,2,   1.820,2,   2.0383,2,  2114.0,2,  2253.0,2,   7.7233,2,    25.02,2, -999.00,9,  -999.0,9, -999.00,9, -999.00,9,       18.1,2, 20220628,     2036,  30.0010,-139.8472,    10.3388,2,     -999.0,9,     -999.0,9,     -999.0,9,     -999.0,9,     0.0122,1,     4.6897,1,     -999.0,9,     -999.0,9,     -999.0,9,     -999.0,9,     -999.0,9
33RR20220613,       P02E,     155,          2,         26,         26,2,20220628,       1845,    30.0010,  -139.8472,       4670,   353.5,2,   9.1102,2,  33.9958,2,  33.9963,2,    194.0,2,   194.0,2,   23.57,2,   18.85,2,    0.00,2,    1.29,2,   3.018,2,   1.826,2,   1.9032,2,  2139.8,2,  2259.3,2,   7.6666,2,    25.01,2, -999.00,9,  -999.0,9, -999.00,9, -999.00,9,       22.4,2, 20220628,     2033,  30.0010,-139.8472,     9.1102,2,     -999.0,9,     -999.0,9,     -999.0,9,     -999.0,9,     0.0122,1,     4.6910,1,     -999.0,9,     -999.0,9,     -999.0,9,     -999.0,9,     -999.0,9
33RR20220613,       P02E,     155,          2,         25,         25,2,20220628,       1845,    30.0010,  -139.8472,       4670,   404.3,2,   8.2411,2,  34.0049,2,  34.0037,2,    164.5,2,   164.9,2,   33.16,2,   23.59,2,    0.00,2,    1.60,2,   2.855,2,   1.697,2,   1.3517,2,  2171.8,2,  2266.9,2,   7.5984,2,    25.00,2, -999.00,9,  -999.0,9, -999.00,9, -999.00,9,       27.1,2, 20220628,     2031,  30.0010,-139.8472,     8.2533,2,     -999.0,9,     -999.0,9,     -999.0,9,     -999.0,9,     0.0122,1,     4.6913,1,     -999.0,9,     -999.0,9,     -999.0,9,     -999.0,9,     -999.0,9
33RR20220613,       P02E,     155,          2,         24,         24,2,20220628,       1845,    30.0010,  -139.8472,       4670,   454.4,2,   7.3172,2,  33.9925,2,  33.9923,2,    133.7,2,   134.1,2,   44.31,2,   28.37,2,    0.00,2,    1.94,2,   2.641,2,   1.551,2,   1.0529,2,  2205.9,2,  2272.5,2,   7.5229,2,    25.01,2, -999.00,9,  -999.0,9, -999.00,9, -999.00,9,       31.0,2, 20220628,     2029,  30.0010,-139.8472,     7.3232,2,     -999.0,9,     -999.0,9,     -999.0,9,     -999.0,9,     0.0123,1,     4.6918,1,     -999.0,9,     -999.0,9,     -999.0,9,     -999.0,9,     -999.0,9
33RR20220613,       P02E,     155,          2,         23,         23,2,20220628,       1845,    30.0010,  -139.8472,       4670,   504.6,2,   6.4522,2,  33.9911,2,  34.0000,2,    103.3,2,   103.1,2,   56.34,2,   32.84,2,    0.00,2,    2.27,2,   2.322,2,   1.349,2,   0.7387,2,  2240.2,2,  2280.7,2,   7.4447,2,    25.00,2, -999.00,9,  -999.0,9, -999.00,9, -999.00,9,       34.3,2, 20220628,     2026,  30.0010,-139.8472,     6.4549,2,     -999.0,9,     -999.0,9,     -999.0,9,     -999.0,9,     0.0126,1,     4.6923,1,     -999.0,9,     -999.0,9,     -999.0,9,     -999.0,9,     -999.0,9
33RR20220613,       P02E,     155,          2,         22,         22,2,20220628,       1845,    30.0010,  -139.8472,       4670,   605.9,2,   5.3418,2,  34.0625,2,  34.0623,2,     52.6,2,    52.6,2,   77.95,2,   39.04,2,    0.00,2,    2.74,2,   1.378,2,   0.782,2,   0.4526,2,  2292.3,2,  2302.1,2,   7.3443,2,    24.99,2, -999.00,9,  -999.0,9, -999.00,9, -999.00,9,       43.2,2, 20220628,     2023,  30.0010,-139.8472,     5.3455,2,     -999.0,9,     -999.0,9,     -999.0,9,     -999.0,9,     0.0134,1,     4.6931,1,     -999.0,9,     -999.0,9,     -999.0,9,     -999.0,9,     -999.0,9
33RR20220613,       P02E,     155,          2,         21,         21,2,20220628,       1845,    30.0010,  -139.8472,       4670,   704.5,2,   4.6118,2,  34.1781,2,  34.1789,2,     22.6,2,    22.8,2,   98.18,2,   42.53,2,    0.00,2,    2.99,2,   0.519,2,   0.290,2,   0.2346,2,  2329.3,2,  2324.5,2,   7.3013,2,    25.00,2, -999.00,9,  -999.0,9, -999.00,9, -999.00,9,       49.7,2, 20220628,     2020,  30.0010,-139.8472,     4.6129,2,     -999.0,9,     -999.0,9,     -999.0,9,     -999.0,9,     0.0134,1,     4.6933,1,     -999.0,9,     -999.0,9,     -999.0,9,     -999.0,9,     -999.0,9
33RR20220613,       P02E,     155,          2,         20,         20,2,20220628,       1845,    30.0010,  -139.8472,       4670,   806.5,2,   4.2122,2,  34.2659,2,  34.2705,2,     13.0,3,    12.8,2,  111.18,2,   43.68,2,    0.00,2,    3.10,2,   0.159,2,   0.098,2,   0.0060,2,  2349.4,2,  2342.4,2,   7.2949,2,    25.00,2, -999.00,9,  -999.0,9, -999.00,9, -999.00,9,       53.2,2, 20220628,     2017,  30.0010,-139.8472,     4.2068,2,     -999.0,9,     -999.0,9,     -999.0,9,     -999.0,9,     0.0134,1,     4.6934,1,     -999.0,9,     -999.0,9,     -999.0,9,     -999.0,9,     -999.0,9
33RR20220613,       P02E,     155,          2,         19,         39,2,20220628,       1845,    30.0010,  -139.8472,       4670,   907.1,2,   3.9299,2,  34.3479,2,  34.3458,2,     11.9,3,    11.3,2,  120.37,2,   44.15,2,    0.00,2,    3.13,2,   0.042,2,   0.032,2,   0.1239,2,  2359.9,6,  2356.3,2,   7.3013,2,    24.99,2, -999.00,9,  -999.0,9, -999.00,9, -999.00,9,       53.8,2, 20220628,     2014,  30.0010,-139.8472,     3.9302,2,     -999.0,9,     -999.0,9,     -999.0,9,     -999.0,9,     0.0134,1,     4.6935,1,     -999.0,9,     -999.0,9,     -999.0,9,     -999.0,9,     -999.0,9
33RR20220613,       P02E,     155,          2,         18,         18,2,20220628,       1845,    30.0010,  -139.8472,       4670,  1008.9,2,   3.6857,2,  34.4148,2,  34.4133,2,     16.7,2,    16.6,2,  126.03,2,   44.17,2,    0.00,2,    3.12,2,   0.016,2,   0.013,2,   0.0000,2,  2367.0,2,  2367.6,2,   7.3205,2,    25.00,2, -999.00,9,  -999.0,9, -999.00,9, -999.00,9,       56.9,2, 20220628,     2010,  30.0010,-139.8472,     3.6877,2,     -999.0,9,     -999.0,9,     -999.0,9,     -999.0,9,     0.0134,1,     4.6945,1,     -999.0,9,     -999.0,9,     -999.0,9,     -999.0,9,     -999.0,9
33RR20220613,       P02E,     155,          2,         17,         37,2,20220628,       1845,    30.0010,  -139.8472,       4670,  1109.5,2,   3.4232,2,  34.4631,2,  34.4640,2,     25.1,2,    25.2,2,  131.89,2,   43.97,2,    0.00,2,    3.09,2,   0.010,2,   0.007,2,   0.0000,2,  2370.0,2,  2379.1,2,   7.3392,2,    25.00,2, -999.00,9,  -999.0,9, -999.00,9, -999.00,9,       49.1,2, 20220628,     2007,  30.0010,-139.8472,     3.4222,2,     -999.0,9,     -999.0,9,     -999.0,9,     -999.0,9,     0.0134,1,     4.6948,1,     -999.0,9,     -999.0,9,     -999.0,9,     -999.0,9,     -999.0,9
33RR20220613,       P02E,     155,          2,         16,         16,2,20220628,       1845,    30.0010,  -139.8472,       4670,  1210.7,2,   3.2090,2,  34.4974,2,  34.4981,2,     33.0,2,    33.1,2,  137.17,2,   43.59,2,    0.00,2,    3.05,2,   0.007,2,   0.006,2,   0.0000,2,  2370.9,2,  2386.9,2,   7.3603,2,    24.99,2, -999.00,9,  -999.0,9, -999.00,9, -999.00,9,       47.5,2, 20220628,     2004,  30.0010,-139.8472,     3.2092,2,     -999.0,9,     -999.0,9,     -999.0,9,     -999.0,9,     0.0134,1,     4.6957,1,     -999.0,9,     -999.0,9,     -999.0,9,     -999.0,9,     -999.0,9
33RR20220613,       P02E,     155,          2,         15,         15,2,20220628,       1845,    30.0010,  -139.8472,       4670,  1312.1,2,   3.0016,2,  34.5206,2,  34.5195,2,     41.3,2,    41.1,2,  141.08,2,   43.23,2,    0.00,2,    3.01,2,   0.005,2,   0.005,2,   0.0000,2,  2367.6,2,  2393.4,2,   7.3744,2,    25.00,2, -999.00,9,  -999.0,9, -999.00,9, -999.00,9,       42.4,2, 20220628,     2001,  30.0010,-139.8472,     3.0010,2,     -999.0,9,     -999.0,9,     -999.0,9,     -999.0,9,     0.0134,1,     4.6958,1,     -999.0,9,     -999.0,9,     -999.0,9,     -999.0,9,     -999.0,9
33RR20220613,       P02E,     155,          2,         14,         41,2,20220628,       1845,    30.0010,  -139.8472,       4670,  1412.9,2,   2.8317,2,  34.5403,2,  34.5447,2,     48.2,3,    49.0,2,  145.67,2,   42.71,2,    0.00,2,    2.98,2,   0.005,2,   0.004,2,   0.0000,2,  2368.7,2,  2396.5,2,   7.3919,2,    24.99,2, -999.00,9,  -999.0,9, -999.00,9, -999.00,9,       41.3,2, 20220628,     1958,  30.0010,-139.8472,     2.8331,2,     -999.0,9,     -999.0,9,     -999.0,9,     -999.0,9,     0.0134,1,     4.6964,1,     -999.0,9,     -999.0,9,     -999.0,9,     -999.0,9,     -999.0,9
33RR20220613,       P02E,     155,          2,         13,         13,2,20220628,       1845,    30.0010,  -139.8472,       4670,  1514.5,2,   2.6361,2,  34.5613,2,  34.5614,2,     56.3,2,    56.4,2,  149.29,2,   42.28,2,    0.00,2,    2.94,2,   0.003,2,   0.003,2,   0.0000,2,  2370.6,2,  2403.8,2,   7.4047,2,    25.00,2, -999.00,9,  -999.0,9, -999.00,9, -999.00,9,       37.8,2, 20220628,     1954,  30.0010,-139.8472,     2.6359,2,     -999.0,9,     -999.0,9,     -999.0,9,     -999.0,9,     0.0134,1,     4.6970,1,     -999.0,9,     -999.0,9,     -999.0,9,     -999.0,9,     -999.0,9
33RR20220613,       P02E,     155,          2,         12,         12,2,20220628,       1845,    30.0010,  -139.8472,       4670,  1616.6,2,   2.4946,2,  34.5759,2,  34.5779,2,     62.1,2,    62.2,2,  153.39,2,   41.94,2,    0.00,2,    2.92,2,   0.003,2,   0.000,2,   0.0000,2,  2369.4,2,  2408.3,2,   7.4179,2,    25.00,2, -999.00,9,  -999.0,9, -999.00,9, -999.00,9,       42.8,2, 20220628,     1952,  30.0010,-139.8473,     2.4938,2,     -999.0,9,     -999.0,9,     -999.0,9,     -999.0,9,     0.0134,1,     4.6975,1,     -999.0,9,     -999.0,9,     -999.0,9,     -999.0,9,     -999.0,9
33RR20220613,       P02E,     155,          2,         11,         11,2,20220628,       1845,    30.0010,  -139.8472,       4670,  1819.8,2,   2.2287,2,  34.5991,2,  34.6030,2,     71.1,2,    71.5,2,  160.72,2,   41.39,2,    0.00,2,    2.86,2,   0.002,2,   0.003,2,   0.0000,2,  2369.2,2,  2415.7,2,   7.4348,2,    25.01,2, -999.00,9,  -999.0,9, -999.00,9, -999.00,9,       32.8,2, 20220628,     1946,  30.0010,-139.8472,     2.2270,2,     -999.0,9,     -999.0,9,     -999.0,9,     -999.0,9,     0.0125,1,     4.6983,1,     -999.0,9,     -999.0,9,     -999.0,9,     -999.0,9,     -999.0,9
33RR20220613,       P02E,     155,          2,         10,         10,2,20220628,       1845,    30.0010,  -139.8472,       4670,  2022.7,2,   2.0319,2,  34.6165,2,  34.6176,2,     80.5,2,    80.5,2,  165.80,2,   40.76,2,    0.00,2,    2.83,2,   0.006,2,   0.003,2,   0.0000,2,  2369.8,2,  2419.0,2,   7.4527,2,    25.02,2, -999.00,9,  -999.0,9, -999.00,9, -999.00,9,       31.5,2, 20220628,     1942,  30.0010,-139.8473,     2.0315,2,     -999.0,9,     -999.0,9,     -999.0,9,     -999.0,9,     0.0134,1,     4.6993,1,     -999.0,9,     -999.0,9,     -999.0,9,     -999.0,9,     -999.0,9
33RR20220613,       P02E,     155,          2,          9,          9,2,20220628,       1845,    30.0010,  -139.8472,       4670,  2277.3,2,   1.8159,2,  34.6360,2,  34.6378,2,     93.9,2,    94.0,2,  169.81,2,   39.92,2,    0.00,2,    2.75,2,   0.003,2,   0.003,2,   0.0000,2,  2363.7,2,  2423.7,2,   7.4781,2,    25.01,2, -999.00,9,  -999.0,9, -999.00,9, -999.00,9,       29.1,2, 20220628,     1937,  30.0010,-139.8472,     1.8155,2,     -999.0,9,     -999.0,9,     -999.0,9,     -999.0,9,     0.0129,1,     4.7001,1,     -999.0,9,     -999.0,9,     -999.0,9,     -999.0,9,     -999.0,9
33RR20220613,       P02E,     155,          2,          8,          8,2,20220628,       1845,    30.0010,  -139.8472,       4670,  2532.3,2,   1.7184,2,  34.6459,2,  34.6472,2,    102.4,2,   102.2,2,  171.96,2,   39.35,2,    0.00,2,    2.72,2,-999.000,9,-999.000,9,-999.0000,9,  2360.7,2,  2425.9,2,   7.4947,2,    25.01,2, -999.00,9,  -999.0,9, -999.00,9, -999.00,9,     -999.0,9, 20220628,     1931,  30.0010,-139.8472,     1.7185,2,     -999.0,9,     -999.0,9,     -999.0,9,     -999.0,9,     0.0122,1,     4.7001,1,     -999.0,9,     -999.0,9,     -999.0,9,     -999.0,9,     -999.0,9
33RR20220613,       P02E,     155,          2,          7,          7,2,20220628,       1845,    30.0010,  -139.8472,       4670,  2758.4,2,   1.6311,2,  34.6552,2,  34.6567,2,    111.4,2,   111.2,2,  171.27,2,   38.79,2,    0.00,2,    2.67,2,   0.003,2,   0.003,2,   0.0000,2,  2357.5,2,  2427.8,2,   7.5101,2,    25.01,2, -999.00,9,  -999.0,9, -999.00,9, -999.00,9,       31.2,2, 20220628,     1925,  30.0010,-139.8473,     1.6308,2,     -999.0,9,     -999.0,9,     -999.0,9,     -999.0,9,     0.0132,1,     4.7007,1,     -999.0,9,     -999.0,9,     -999.0,9,     -999.0,9,     -999.0,9
33RR20220613,       P02E,     155,          2,          6,          6,2,20220628,       1845,    30.0010,  -139.8472,       4670,  3042.8,2,   1.5635,2,  34.6635,2,  34.6647,2,    120.6,2,   120.7,2,  169.51,2,   38.32,2,    0.00,2,    2.60,2,-999.000,9,-999.000,9,-999.0000,9,  2350.1,2,  2427.3,6,   7.5273,2,    25.02,2, -999.00,9,  -999.0,9, -999.00,9, -999.00,9,     -999.0,9, 20220628,     1917,  30.0010,-139.8473,     1.5631,2,     -999.0,9,     -999.0,9,     -999.0,9,     -999.0,9,     0.0125,1,     4.7014,1,     -999.0,9,     -999.0,9,     -999.0,9,     -999.0,9,     -999.0,9
33RR20220613,       P02E,     155,          2,          5,          5,2,20220628,       1845,    30.0010,  -139.8472,       4670,  3349.4,2,   1.5240,2,  34.6700,2,  34.6712,2,    128.7,2,   129.2,2,  167.85,2,   37.75,2,    0.00,2,    2.58,2,   0.004,2,   0.004,2,   0.0000,2,  2345.6,2,  2428.1,2,   7.5406,2,    25.01,2, -999.00,9,  -999.0,9, -999.00,9, -999.00,9,       25.0,2, 20220628,     1912,  30.0010,-139.8473,     1.5247,2,     -999.0,9,     -999.0,9,     -999.0,9,     -999.0,9,     0.0122,1,     4.7018,1,     -999.0,9,     -999.0,9,     -999.0,9,     -999.0,9,     -999.0,9