BOTTLE,20230830CCHSIOCBG
EXPOCODE,SECT_ID,STNNBR,CASTNO,SAMPNO,BTLNBR,BTLNBR_FLAG_W,DATE,TIME,LATITUDE,LONGITUDE,DEPTH,CTDPRS,CTDPRS_FLAG_W,CTDTMP,CTDTMP_FLAG_W,CTDSAL,CTDSAL_FLAG_W,SALNTY,SALNTY_FLAG_W,CTDOXY,CTDOXY_FLAG_W,OXYGEN,OXYGEN_FLAG_W,SILCAT,SILCAT_FLAG_W,NITRAT,NITRAT_FLAG_W,NITRIT,NITRIT_FLAG_W,PHSPHT,PHSPHT_FLAG_W,CFC-11,CFC-11_FLAG_W,CFC-12,CFC-12_FLAG_W,SF6,SF6_FLAG_W,TCARBN,TCARBN_FLAG_W,ALKALI,ALKALI_FLAG_W,PH_TOT,PH_TOT_FLAG_W,PH_TMP,PH_TMP_FLAG_W,DELC13,DELC13_FLAG_W,DELC14,DELC14_FLAG_W,DOC,DOC_FLAG_W,TDN,TDN_FLAG_W,N2O,N2O_FLAG_W,BTL_DATE,BTL_TIME,BTL_LAT,BTL_LON,REFTMP,REFTMP_FLAG_W,POC,POC_FLAG_W,PON,PON_FLAG_W,POP,POP_FLAG_W,PCOD,PCOD_FLAG_W,CTDFLUOR,CTDFLUOR_FLAG_W,CTDXMISS,CTDXMISS_FLAG_W,HPLC,HPLC_FLAG_W,DNA,DNA_FLAG_W,FCM,FCM_FLAG_W,IMAGES,IMAGES_FLAG_W,VIRAL_ABUNDANCE,VIRAL_ABUNDANCE_FLAG_W
,,,,,,,,,,,METERS,DBAR,,ITS-90,,PSS-78,,PSS-78,,UMOL/KG,,UMOL/KG,,UMOL/KG,,UMOL/KG,,UMOL/KG,,UMOL/KG,,PMOL/KG,,PMOL/KG,,FMOL/KG,,UMOL/KG,,UMOL/KG,,,,DEG C,,/MILLE,,/MILLE,,UMOL/KG,,UMOL/KG,,NMOL/KG,,,,,,ITS-90,,UG/L,,UG/L,,UG/L,,UG/L,,VOLTS,,VOLTS,,,,,,,,,,,
33RR20220613,       P02E,     150,          1,         36,         36,2,20220627,       0623,    29.9997,  -142.7371,       4931,     2.5,2,  22.5259,2,  34.9386,2,  34.9412,2,    221.7,2,   222.1,2,    0.59,2,    0.01,2,    0.00,2,    0.00,2,   1.743,2,   1.130,2,   1.9105,2,  2045.1,2,  2305.9,2,   7.9770,2,    25.01,2, -999.00,1,  -999.0,1, -999.00,1, -999.00,1,        7.3,2, 20220627,      839,  29.9997,-142.7371,    22.5194,2,     -999.0,9,     -999.0,9,     -999.0,9,     -999.0,9,     0.0135,1,     4.6382,1,     -999.0,9,     -999.0,9,     -999.0,9,     -999.0,9,     -999.0,9
33RR20220613,       P02E,     150,          1,         35,         35,2,20220627,       0623,    29.9997,  -142.7371,       4931,    33.6,2,  21.7793,2,  34.8693,2,  34.8717,2,    227.7,2,   227.1,2,    0.59,2,    0.01,2,    0.00,2,    0.00,2,   1.846,2,   1.168,2,   1.9662,2,  2041.0,6,  2302.6,2,   7.9765,2,    25.01,2, -999.00,1,  -999.0,1, -999.00,1, -999.00,1,        7.5,2, 20220627,      838,  29.9998,-142.7371,    21.7260,2,     -999.0,9,     -999.0,9,     -999.0,9,     -999.0,9,     0.0134,1,     4.6399,1,     -999.0,9,     -999.0,9,     -999.0,9,     -999.0,9,     -999.0,9
33RR20220613,       P02E,     150,          1,         34,         34,2,20220627,       0623,    29.9997,  -142.7371,       4931,    60.7,2,  19.8830,2,  34.7876,2,  34.7893,2,    237.1,2,   236.6,2,    0.59,2,    0.00,2,    0.00,2,    0.01,2,   1.990,2,   1.244,2,   1.9851,2,  2034.3,2,  2294.4,2,   7.9746,2,    25.01,2, -999.00,1,  -999.0,1, -999.00,1, -999.00,1,        7.9,2, 20220627,      835,  29.9997,-142.7371,    19.8809,2,     -999.0,9,     -999.0,9,     -999.0,9,     -999.0,9,     0.0159,1,     4.6398,1,     -999.0,9,     -999.0,9,     -999.0,9,     -999.0,9,     -999.0,9
33RR20220613,       P02E,     150,          1,         33,         33,2,20220627,       0623,    29.9997,  -142.7371,       4931,    86.2,2,  19.7798,2,  34.9013,2,  34.8945,2,    234.0,2,   233.7,2,    0.59,2,    0.00,2,    0.00,2,    0.00,2,-999.000,9,-999.000,9,-999.0000,9,  2037.7,2,  2298.9,6,   7.9777,2,    25.04,2, -999.00,1,  -999.0,1, -999.00,1, -999.00,1,     -999.0,9, 20220627,      833,  29.9997,-142.7371,    19.7935,2,     -999.0,9,     -999.0,9,     -999.0,9,     -999.0,9,     0.0171,1,     4.6443,1,     -999.0,9,     -999.0,9,     -999.0,9,     -999.0,9,     -999.0,9
33RR20220613,       P02E,     150,          1,         32,         32,2,20220627,       0623,    29.9997,  -142.7371,       4931,   116.6,2,  19.2575,2,  34.8650,2,  34.8585,2,    229.8,2,   230.6,2,    0.68,2,    0.00,2,    0.00,2,    0.02,2,   1.996,2,   1.238,2,   1.9768,2,  2041.1,2,  2295.7,2,   7.9669,2,    25.06,2, -999.00,1,  -999.0,1, -999.00,1, -999.00,1,        8.0,2, 20220627,      831,  29.9997,-142.7371,    19.2517,2,     -999.0,9,     -999.0,9,     -999.0,9,     -999.0,9,     0.0232,1,     4.6545,1,     -999.0,9,     -999.0,9,     -999.0,9,     -999.0,9,     -999.0,9
33RR20220613,       P02E,     150,          1,         31,         31,2,20220627,       0623,    29.9997,  -142.7371,       4931,   166.8,2,  16.9391,2,  34.4423,3,  34.3859,2,    222.5,2,   224.5,2,    1.96,2,    1.13,2,    0.07,2,    0.18,2,   2.247,2,   1.400,2,   2.1872,2,  2049.2,2,  2264.9,2,   7.9043,2,    25.05,2, -999.00,1,  -999.0,1, -999.00,1, -999.00,1,        9.4,2, 20220627,      829,  29.9997,-142.7371,    16.9081,3,     -999.0,9,     -999.0,9,     -999.0,9,     -999.0,9,     0.0199,1,     4.6721,1,     -999.0,9,     -999.0,9,     -999.0,9,     -999.0,9,     -999.0,9
33RR20220613,       P02E,     150,          1,         30,         17,2,20220627,       0623,    29.9997,  -142.7371,       4931,   216.3,2,  12.6501,2,  34.0240,2,  34.0145,2,    220.1,2,   220.5,2,    5.77,2,    6.58,2,    0.00,2,    0.57,2,   2.669,2,   1.638,2,   2.3136,2,  2073.8,2,  2243.6,2,   7.8101,2,    25.04,2, -999.00,1,  -999.0,1, -999.00,1, -999.00,1,       12.4,2, 20220627,      827,  29.9997,-142.7371,    12.6572,2,     -999.0,9,     -999.0,9,     -999.0,9,     -999.0,9,     0.0134,1,     4.6850,1,     -999.0,9,     -999.0,9,     -999.0,9,     -999.0,9,     -999.0,9
33RR20220613,       P02E,     150,          1,         29,         29,2,20220627,       0623,    29.9997,  -142.7371,       4931,   267.7,2,  11.3233,2,  34.0375,2,  34.0366,2,    213.8,2,   213.7,2,   10.27,2,   11.23,2,    0.00,2,    0.82,2,   2.783,2,   1.711,2,   2.1960,2,  2095.5,2,  2248.3,2,   7.7651,2,    25.03,2, -999.00,1,  -999.0,1, -999.00,1, -999.00,1,       15.5,2, 20220627,      824,  29.9997,-142.7371,    11.3498,2,     -999.0,9,     -999.0,9,     -999.0,9,     -999.0,9,     0.0122,1,     4.6891,1,     -999.0,9,     -999.0,9,     -999.0,9,     -999.0,9,     -999.0,9
33RR20220613,       P02E,     150,          1,         28,         28,2,20220627,       0623,    29.9997,  -142.7371,       4931,   318.3,2,  10.1342,2,  34.0596,2,  34.0552,2,    208.7,2,   208.7,2,   16.72,2,   15.28,2,    0.00,2,    1.08,2,   2.950,2,   1.782,2,   2.0682,2,  2118.6,2,  2256.2,2,   7.7202,2,    25.01,2, -999.00,1,  -999.0,1, -999.00,1, -999.00,1,       18.6,2, 20220627,      822,  29.9997,-142.7371,    10.1388,2,     -999.0,9,     -999.0,9,     -999.0,9,     -999.0,9,     0.0122,1,     4.6908,1,     -999.0,9,     -999.0,9,     -999.0,9,     -999.0,9,     -999.0,9
33RR20220613,       P02E,     150,          1,         27,         27,2,20220627,       0623,    29.9997,  -142.7371,       4931,   368.6,2,   9.1861,2,  34.0244,2,  34.0227,2,    199.9,2,   199.8,2,   22.79,2,   18.31,2,    0.00,2,    1.29,2,   2.963,2,   1.802,2,   1.8623,2,  -999.0,9,  -999.0,9,-999.0000,9,  -999.00,9, -999.00,1,  -999.0,1, -999.00,1, -999.00,1,       21.8,2, 20220627,      820,  29.9997,-142.7371,     9.1861,2,     -999.0,9,     -999.0,9,     -999.0,9,     -999.0,9,     0.0122,1,     4.6917,1,     -999.0,9,     -999.0,9,     -999.0,9,     -999.0,9,     -999.0,9
33RR20220613,       P02E,     150,          1,         26,         26,2,20220627,       0623,    29.9997,  -142.7371,       4931,   438.5,2,   7.9073,2,  34.0144,2,  34.0125,2,    160.5,3,   158.1,2,   36.38,2,   24.87,2,    0.00,2,    1.74,2,   2.757,2,   1.648,2,   1.1485,2,  -999.0,9,  -999.0,9,-999.0000,9,  -999.00,9, -999.00,1,  -999.0,1, -999.00,1, -999.00,1,       27.5,2, 20220627,      817,  29.9997,-142.7371,     7.9429,2,     -999.0,9,     -999.0,9,     -999.0,9,     -999.0,9,     0.0122,1,     4.6926,1,     -999.0,9,     -999.0,9,     -999.0,9,     -999.0,9,     -999.0,9
33RR20220613,       P02E,     150,          1,         25,         25,2,20220627,       0623,    29.9997,  -142.7371,       4931,   540.5,2,   6.0709,2,  33.9847,2,  33.9837,2,    104.4,2,   104.7,2,   59.95,2,   33.23,2,    0.00,2,    2.36,2,   2.232,2,   1.273,2,   0.7298,2,  2246.0,2,  2287.3,2,   7.4454,2,    25.00,2, -999.00,1,  -999.0,1, -999.00,1, -999.00,1,       34.1,2, 20220627,      814,  29.9997,-142.7371,     6.0757,2,     -999.0,9,     -999.0,9,     -999.0,9,     -999.0,9,     0.0134,1,     4.6942,1,     -999.0,9,     -999.0,9,     -999.0,9,     -999.0,9,     -999.0,9
33RR20220613,       P02E,     150,          1,         24,         24,2,20220627,       0623,    29.9997,  -142.7371,       4931,   641.2,2,   5.0368,2,  34.0515,2,  34.0560,2,     53.9,3,    55.2,2,   81.75,2,   39.21,2,    0.00,2,    2.80,2,   1.327,2,   0.744,2,   0.4081,2,  2299.6,2,  2306.9,2,   7.3439,2,    25.00,2, -999.00,1,  -999.0,1, -999.00,1, -999.00,1,       41.7,2, 20220627,      810,  29.9997,-142.7371,     5.0336,2,     -999.0,9,     -999.0,9,     -999.0,9,     -999.0,9,     0.0134,1,     4.6947,1,     -999.0,9,     -999.0,9,     -999.0,9,     -999.0,9,     -999.0,9
33RR20220613,       P02E,     150,          1,         23,         23,2,20220627,       0623,    29.9997,  -142.7371,       4931,   741.9,2,   4.3979,2,  34.1552,2,  34.1583,2,     26.5,3,    26.9,2,   95.63,3,   41.73,3,    0.00,2,    3.04,2,   0.561,2,   0.307,2,   0.2405,2,  -999.0,9,  -999.0,9,-999.0000,9,  -999.00,9, -999.00,1,  -999.0,1, -999.00,1, -999.00,1,       51.2,2, 20220627,      808,  29.9997,-142.7371,     4.3968,2,     -999.0,9,     -999.0,9,     -999.0,9,     -999.0,9,     0.0134,1,     4.6949,1,     -999.0,9,     -999.0,9,     -999.0,9,     -999.0,9,     -999.0,9
33RR20220613,       P02E,     150,          1,         22,         22,2,20220627,       0623,    29.9997,  -142.7371,       4931,   842.9,2,   4.0318,2,  34.2554,2,  34.2554,2,     13.6,3,    13.4,2,  111.07,2,   43.60,2,    0.00,2,    3.13,2,   0.161,2,   0.099,2,   0.1776,2,  2352.2,2,  2345.8,2,   7.2895,2,    24.99,2, -999.00,1,  -999.0,1, -999.00,1, -999.00,1,       54.2,2, 20220627,      805,  29.9997,-142.7371,     4.0318,2,     -999.0,9,     -999.0,9,     -999.0,9,     -999.0,9,     0.0134,1,     4.6946,1,     -999.0,9,     -999.0,9,     -999.0,9,     -999.0,9,     -999.0,9
33RR20220613,       P02E,     150,          1,         21,         21,2,20220627,       0623,    29.9997,  -142.7371,       4931,   943.9,2,   3.7272,2,  34.3487,2,  34.3480,2,     10.7,3,    10.1,2,  122.90,2,   44.19,2,    0.00,2,    3.19,2,   0.034,2,   0.029,2,   0.1862,2,  2366.2,2,  2360.5,2,   7.2940,2,    25.00,2, -999.00,1,  -999.0,1, -999.00,1, -999.00,1,     -999.0,5, 20220627,      802,  29.9998,-142.7371,     3.7290,2,     -999.0,9,     -999.0,9,     -999.0,9,     -999.0,9,     0.0134,1,     4.6948,1,     -999.0,9,     -999.0,9,     -999.0,9,     -999.0,9,     -999.0,9
33RR20220613,       P02E,     150,          1,         20,         20,2,20220627,       0623,    29.9997,  -142.7371,       4931,  1045.4,2,   3.5319,2,  34.4151,2,  34.4141,2,     16.0,3,    15.7,2,  128.95,2,   44.03,2,    0.00,2,    3.17,2,-999.000,5,-999.000,5,-999.0000,5,  2372.7,2,  2373.4,2,   7.3147,2,    25.01,2, -999.00,1,  -999.0,1, -999.00,1, -999.00,1,     -999.0,5, 20220627,      759,  29.9997,-142.7371,     3.5353,2,     -999.0,9,     -999.0,9,     -999.0,9,     -999.0,9,     0.0134,1,     4.6949,1,     -999.0,9,     -999.0,9,     -999.0,9,     -999.0,9,     -999.0,9
33RR20220613,       P02E,     150,          1,         19,         39,2,20220627,       0623,    29.9997,  -142.7371,       4931,  1146.5,2,   3.3410,2,  34.4704,2,  34.4693,2,     27.3,2,    27.1,2,  132.76,2,   43.44,2,    0.00,2,    3.14,2,   0.009,2,   0.007,2,   0.0000,2,  -999.0,9,  -999.0,9,-999.0000,9,  -999.00,9, -999.00,1,  -999.0,1, -999.00,1, -999.00,1,       48.3,2, 20220627,      756,  29.9997,-142.7371,     3.3405,2,     -999.0,9,     -999.0,9,     -999.0,9,     -999.0,9,     0.0134,1,     4.6959,1,     -999.0,9,     -999.0,9,     -999.0,9,     -999.0,9,     -999.0,9
33RR20220613,       P02E,     150,          1,         18,         18,2,20220627,       0623,    29.9997,  -142.7371,       4931,  1247.7,2,   3.1602,2,  34.5046,2,  34.5082,2,     36.1,2,    36.3,2,  136.47,2,   43.05,2,    0.00,2,    3.09,2,   0.007,2,   0.008,2,   0.0000,2,  2369.9,2,  2388.6,2,   7.3640,2,    25.01,2, -999.00,1,  -999.0,1, -999.00,1, -999.00,1,       45.4,2, 20220627,      752,  29.9997,-142.7371,     3.1590,2,     -999.0,9,     -999.0,9,     -999.0,9,     -999.0,9,     0.0134,1,     4.6969,1,     -999.0,9,     -999.0,9,     -999.0,9,     -999.0,9,     -999.0,9
33RR20220613,       P02E,     150,          1,         17,         37,2,20220627,       0623,    29.9997,  -142.7371,       4931,  1348.9,2,   2.9716,2,  34.5296,2,  34.5292,2,     44.1,2,    44.2,2,  139.89,2,   42.56,2,    0.00,2,    3.05,2,   0.005,2,   0.004,2,   0.0000,2,  2371.2,2,  2394.5,2,   7.3807,2,    25.01,2, -999.00,1,  -999.0,1, -999.00,1, -999.00,1,       41.7,2, 20220627,      749,  29.9997,-142.7371,     2.9709,2,     -999.0,9,     -999.0,9,     -999.0,9,     -999.0,9,     0.0134,1,     4.6971,1,     -999.0,9,     -999.0,9,     -999.0,9,     -999.0,9,     -999.0,9
33RR20220613,       P02E,     150,          1,         16,         16,2,20220627,       0623,    29.9997,  -142.7371,       4931,  1449.5,2,   2.8060,2,  34.5476,2,  34.5466,2,     50.9,2,    51.1,2,  145.17,2,   42.16,2,    0.00,2,    3.01,2,   0.006,2,   0.007,2,   0.0000,2,  -999.0,9,  -999.0,9,-999.0000,9,  -999.00,9, -999.00,1,  -999.0,1, -999.00,1, -999.00,1,       39.2,2, 20220627,      746,  29.9997,-142.7371,     2.8053,2,     -999.0,9,     -999.0,9,     -999.0,9,     -999.0,9,     0.0134,1,     4.6971,1,     -999.0,9,     -999.0,9,     -999.0,9,     -999.0,9,     -999.0,9
33RR20220613,       P02E,     150,          1,         15,         15,2,20220627,       0623,    29.9997,  -142.7371,       4931,  1551.4,2,   2.6369,2,  34.5628,2,  34.5622,2,     56.7,2,    56.9,2,  148.68,2,   41.90,2,    0.00,2,    2.98,2,   0.004,2,   0.003,2,   0.0000,2,  2369.4,2,  2404.2,2,   7.4053,2,    25.01,2, -999.00,1,  -999.0,1, -999.00,1, -999.00,1,       37.4,2, 20220627,      742,  29.9998,-142.7371,     2.6365,2,     -999.0,9,     -999.0,9,     -999.0,9,     -999.0,9,     0.0133,1,     4.6982,1,     -999.0,9,     -999.0,9,     -999.0,9,     -999.0,9,     -999.0,9
33RR20220613,       P02E,     150,          1,         14,         14,2,20220627,       0623,    29.9997,  -142.7371,       4931,  1683.9,2,   2.4229,2,  34.5819,2,  34.5830,2,     64.0,2,    64.1,2,  154.15,2,   41.48,2,    0.00,2,    2.94,2,   0.005,2,   0.000,2,   0.0000,2,  -999.0,9,  -999.0,9,-999.0000,9,  -999.00,9, -999.00,9,  -999.0,9, -999.00,1, -999.00,1,       35.2,2, 20220627,      738,  29.9997,-142.7371,     2.4233,2,     -999.0,9,     -999.0,9,     -999.0,9,     -999.0,9,     0.0134,1,     4.6984,1,     -999.0,9,     -999.0,9,     -999.0,9,     -999.0,9,     -999.0,9
33RR20220613,       P02E,     150,          1,         13,         13,2,20220627,       0623,    29.9997,  -142.7371,       4931,  1887.1,2,   2.1683,2,  34.6033,2,  34.6030,2,     73.1,2,    73.0,2,  160.41,2,   40.89,2,    0.00,2,    2.90,2,   0.003,2,   0.000,2,   0.0000,2,  2371.5,2,  2413.8,2,   7.4363,2,    25.01,2, -999.00,1,  -999.0,1, -999.00,1, -999.00,1,       32.6,2, 20220627,      733,  29.9997,-142.7371,     2.1686,2,     -999.0,9,     -999.0,9,     -999.0,9,     -999.0,9,     0.0134,1,     4.6994,1,     -999.0,9,     -999.0,9,     -999.0,9,     -999.0,9,     -999.0,9
33RR20220613,       P02E,     150,          1,         12,         12,2,20220627,       0623,    29.9997,  -142.7371,       4931,  2110.3,2,   1.9618,2,  34.6218,2,  34.6215,2,     82.1,2,    82.4,2,  167.44,2,   40.33,2,    0.00,2,    2.85,2,-999.000,9,-999.000,9,-999.0000,9,  -999.0,9,  -999.0,9,-999.0000,9,  -999.00,9, -999.00,1,  -999.0,1, -999.00,1, -999.00,1,     -999.0,9, 20220627,      727,  29.9997,-142.7371,     1.9617,2,     -999.0,9,     -999.0,9,     -999.0,9,     -999.0,9,     0.0130,1,     4.6997,1,     -999.0,9,     -999.0,9,     -999.0,9,     -999.0,9,     -999.0,9
33RR20220613,       P02E,     150,          1,         11,         11,2,20220627,       0623,    29.9997,  -142.7371,       4931,  2363.5,2,   1.7931,2,  34.6392,2,  34.6390,2,     94.8,2,    94.8,2,  169.30,2,   39.56,2,    0.00,2,    2.80,2,   0.003,2,   0.000,2,   0.0000,2,  2366.1,2,  2423.4,2,   7.4788,2,    25.01,2, -999.00,1,  -999.0,1, -999.00,1, -999.00,1,       27.8,2, 20220627,      722,  29.9997,-142.7371,     1.7928,2,     -999.0,9,     -999.0,9,     -999.0,9,     -999.0,9,     0.0133,1,     4.7007,1,     -999.0,9,     -999.0,9,     -999.0,9,     -999.0,9,     -999.0,9
33RR20220613,       P02E,     150,          1,         10,         10,2,20220627,       0623,    29.9997,  -142.7371,       4931,  2620.1,2,   1.6776,2,  34.6510,2,  34.6502,2,    105.2,2,   105.3,2,  170.47,2,   38.85,2,    0.00,2,    2.73,2,-999.000,9,-999.000,9,-999.0000,9,  -999.0,9,  -999.0,9,-999.0000,9,  -999.00,9, -999.00,1,  -999.0,1, -999.00,1, -999.00,1,     -999.0,9, 20220627,      716,  29.9997,-142.7371,     1.6774,2,     -999.0,9,     -999.0,9,     -999.0,9,     -999.0,9,     0.0134,1,     4.7010,1,     -999.0,9,     -999.0,9,     -999.0,9,     -999.0,9,     -999.0,9
33RR20220613,       P02E,     150,          1,          9,          9,2,20220627,       0623,    29.9997,  -142.7371,       4931,  2874.7,2,   1.5860,2,  34.6609,2,  34.6614,2,    115.2,2,   115.7,2,  170.18,2,   38.23,2,    0.00,2,    2.68,2,   0.005,2,   0.003,2,   0.0000,2,  2354.1,2,  2428.3,2,   7.5160,2,    25.01,2, -999.00,1,  -999.0,1, -999.00,1, -999.00,1,       25.1,2, 20220627,      709,  29.9997,-142.7371,     1.5860,2,     -999.0,9,     -999.0,9,     -999.0,9,     -999.0,9,     0.0124,1,     4.7017,1,     -999.0,9,     -999.0,9,     -999.0,9,     -999.0,9,     -999.0,9
33RR20220613,       P02E,     150,          1,          8,          8,2,20220627,       0623,    29.9997,  -142.7371,       4931,  3145.8,2,   1.5327,2,  34.6680,2,  34.6665,2,    123.6,2,   123.5,2,  168.90,2,   37.68,2,    0.00,2,    2.63,2,-999.000,9,-999.000,9,-999.0000,9,  2351.1,2,  2428.6,2,   7.5315,2,    25.01,2, -999.00,9,  -999.0,9, -999.00,1, -999.00,1,     -999.0,9, 20220627,      704,  29.9997,-142.7371,     1.5332,2,     -999.0,9,     -999.0,9,     -999.0,9,     -999.0,9,     0.0122,1,     4.7019,1,     -999.0,9,     -999.0,9,     -999.0,9,     -999.0,9,     -999.0,9
33RR20220613,       P02E,     150,          1,          7,          7,2,20220627,       0623,    29.9997,  -142.7371,       4931,  3451.7,2,   1.4871,2,  34.6754,2,  34.6745,2,    133.5,2,   133.4,2,  164.80,2,   37.10,2,    0.00,2,    2.58,2,   0.003,2,   0.002,2,   0.0000,2,  2342.9,2,  2425.9,2,   7.5486,2,    25.01,2, -999.00,9,  -999.0,9, -999.00,1, -999.00,1,       22.7,2, 20220627,      657,  29.9998,-142.7371,     1.4869,2,     -999.0,9,     -999.0,9,     -999.0,9,     -999.0,9,     0.0125,1,     4.7021,1,     -999.0,9,     -999.0,9,     -999.0,9,     -999.0,9,     -999.0,9
33RR20220613,       P02E,     150,          1,          6,          6,2,20220627,       0623,    29.9997,  -142.7371,       4931,  3758.9,2,   1.4717,2,  34.6803,2,  34.6796,2,    140.5,2,   140.7,2,  162.06,2,   36.68,2,    0.00,2,    2.53,2,-999.000,9,-999.000,9,-999.0000,9,  2337.6,2,  2426.3,2,   7.5610,2,    25.00,2, -999.00,9,  -999.0,9, -999.00,1, -999.00,1,     -999.0,9, 20220627,      651,  29.9997,-142.7371,     1.4717,2,     -999.0,9,     -999.0,9,     -999.0,9,     -999.0,9,     0.0129,1,     4.7021,1,     -999.0,9,     -999.0,9,     -999.0,9,     -999.0,9,     -999.0,9
33RR20220613,       P02E,     150,          1,          5,          5,2,20220627,       0623,    29.9997,  -142.7371,       4931,  4064.1,2,   1.4738,2,  34.6835,2,  34.6830,2,    145.9,2,   146.2,2,  159.23,2,   36.43,2,    0.00,2,    2.51,2,   0.003,2,   0.005,2,   0.0000,2,  -999.0,9,  -999.0,9,-999.0000,9,  -999.00,9, -999.00,9,  -999.0,9, -999.00,1, -999.00,1,       22.3,2, 20220627,      644,  29.9998,-142.7371,     1.4737,2,     -999.0,9,     -999.0,9,     -999.0,9,     -999.0,9,     0.0122,1,     4.7030,1,     -999.0,9,     -999.0,9,     -999.0,9,     -999.0,9,     -999.0,9