BOTTLE,20230830CCHSIOCBG
EXPOCODE,SECT_ID,STNNBR,CASTNO,SAMPNO,BTLNBR,BTLNBR_FLAG_W,DATE,TIME,LATITUDE,LONGITUDE,DEPTH,CTDPRS,CTDPRS_FLAG_W,CTDTMP,CTDTMP_FLAG_W,CTDSAL,CTDSAL_FLAG_W,SALNTY,SALNTY_FLAG_W,CTDOXY,CTDOXY_FLAG_W,OXYGEN,OXYGEN_FLAG_W,SILCAT,SILCAT_FLAG_W,NITRAT,NITRAT_FLAG_W,NITRIT,NITRIT_FLAG_W,PHSPHT,PHSPHT_FLAG_W,CFC-11,CFC-11_FLAG_W,CFC-12,CFC-12_FLAG_W,SF6,SF6_FLAG_W,TCARBN,TCARBN_FLAG_W,ALKALI,ALKALI_FLAG_W,PH_TOT,PH_TOT_FLAG_W,PH_TMP,PH_TMP_FLAG_W,DELC13,DELC13_FLAG_W,DELC14,DELC14_FLAG_W,DOC,DOC_FLAG_W,TDN,TDN_FLAG_W,N2O,N2O_FLAG_W,BTL_DATE,BTL_TIME,BTL_LAT,BTL_LON,REFTMP,REFTMP_FLAG_W,POC,POC_FLAG_W,PON,PON_FLAG_W,POP,POP_FLAG_W,PCOD,PCOD_FLAG_W,CTDFLUOR,CTDFLUOR_FLAG_W,CTDXMISS,CTDXMISS_FLAG_W,HPLC,HPLC_FLAG_W,DNA,DNA_FLAG_W,FCM,FCM_FLAG_W,IMAGES,IMAGES_FLAG_W,VIRAL_ABUNDANCE,VIRAL_ABUNDANCE_FLAG_W
,,,,,,,,,,,METERS,DBAR,,ITS-90,,PSS-78,,PSS-78,,UMOL/KG,,UMOL/KG,,UMOL/KG,,UMOL/KG,,UMOL/KG,,UMOL/KG,,PMOL/KG,,PMOL/KG,,FMOL/KG,,UMOL/KG,,UMOL/KG,,,,DEG C,,/MILLE,,/MILLE,,UMOL/KG,,UMOL/KG,,NMOL/KG,,,,,,ITS-90,,UG/L,,UG/L,,UG/L,,UG/L,,VOLTS,,VOLTS,,,,,,,,,,,
33RR20220613,       P02E,     188,          2,          4,          4,2,20220708,       0916,    30.9994,  -121.2217,       3892,  3349.8,2,   1.5742,2,  34.6715,2,  34.6704,2,    124.0,2,   123.9,2,  167.96,2,   37.53,2,    0.00,2,    2.58,2,   0.014,2,   0.016,2,   0.0000,2,  2354.3,2,  2431.0,2,   7.5374,2,    25.01,2, -999.00,9,  -999.0,9, -999.00,1, -999.00,1,       24.4,2, 20220708,      929,  30.9993,-121.2219,     1.5743,2,     -999.0,9,     -999.0,9,     -999.0,9,     -999.0,9,     0.0134,1,     4.6956,1,     -999.0,9,     -999.0,9,     -999.0,9,     -999.0,9,     -999.0,9
33RR20220613,       P02E,     188,          2,          3,          3,2,20220708,       0916,    30.9994,  -121.2217,       3892,  3657.4,2,   1.5514,2,  34.6753,2,  34.6763,2,    128.1,2,   127.9,2,  168.55,2,   37.32,2,    0.00,2,    2.57,2,   0.015,2,   0.017,2,   0.0000,2,  2354.9,2,  2433.9,2,   7.5458,2,    25.00,2, -999.00,9,  -999.0,9, -999.00,1, -999.00,1,       24.8,2, 20220708,      923,  30.9993,-121.2219,     1.5514,2,     -999.0,9,     -999.0,9,     -999.0,9,     -999.0,9,     0.0134,1,     4.6956,1,     -999.0,9,     -999.0,9,     -999.0,9,     -999.0,9,     -999.0,9
33RR20220613,       P02E,     188,          2,          2,          2,2,20220708,       0916,    30.9994,  -121.2217,       3892,  3800.0,2,   1.5513,2,  34.6765,2,  34.6759,2,    129.1,2,   128.7,2,  168.94,2,   37.26,2,    0.00,2,    2.57,2,   0.021,2,   0.021,2,   0.0000,2,  2354.5,6,  2433.6,2,   7.5475,2,    25.01,2, -999.00,9,  -999.0,9, -999.00,1, -999.00,1,       25.1,2, 20220708,      919,  30.9993,-121.2219,     1.5514,2,     -999.0,9,     -999.0,9,     -999.0,9,     -999.0,9,     0.0122,1,     4.6934,1,     -999.0,9,     -999.0,9,     -999.0,9,     -999.0,9,     -999.0,9
33RR20220613,       P02E,     188,          2,          1,          1,2,20220708,       0916,    30.9994,  -121.2217,       3892,  3944.4,2,   1.5593,2,  34.6771,2,  34.6779,2,    129.5,2,   129.1,2,  169.33,2,   37.22,2,    0.00,2,    2.57,2,   0.018,2,   0.021,2,   0.0000,2,  2356.2,6,  2433.6,2,   7.5492,2,    25.00,2, -999.00,9,  -999.0,9, -999.00,1, -999.00,1,       25.0,2, 20220708,      916,  30.9992,-121.2219,     1.5594,2,     -999.0,9,     -999.0,9,     -999.0,9,     -999.0,9,     0.0126,1,     4.6804,1,     -999.0,9,     -999.0,9,     -999.0,9,     -999.0,9,     -999.0,9