BOTTLE,20230830CCHSIOCBG
EXPOCODE,SECT_ID,STNNBR,CASTNO,SAMPNO,BTLNBR,BTLNBR_FLAG_W,DATE,TIME,LATITUDE,LONGITUDE,DEPTH,CTDPRS,CTDPRS_FLAG_W,CTDTMP,CTDTMP_FLAG_W,CTDSAL,CTDSAL_FLAG_W,SALNTY,SALNTY_FLAG_W,CTDOXY,CTDOXY_FLAG_W,OXYGEN,OXYGEN_FLAG_W,SILCAT,SILCAT_FLAG_W,NITRAT,NITRAT_FLAG_W,NITRIT,NITRIT_FLAG_W,PHSPHT,PHSPHT_FLAG_W,CFC-11,CFC-11_FLAG_W,CFC-12,CFC-12_FLAG_W,SF6,SF6_FLAG_W,TCARBN,TCARBN_FLAG_W,ALKALI,ALKALI_FLAG_W,PH_TOT,PH_TOT_FLAG_W,PH_TMP,PH_TMP_FLAG_W,DELC13,DELC13_FLAG_W,DELC14,DELC14_FLAG_W,DOC,DOC_FLAG_W,TDN,TDN_FLAG_W,N2O,N2O_FLAG_W,BTL_DATE,BTL_TIME,BTL_LAT,BTL_LON,REFTMP,REFTMP_FLAG_W,POC,POC_FLAG_W,PON,PON_FLAG_W,POP,POP_FLAG_W,PCOD,PCOD_FLAG_W,CTDFLUOR,CTDFLUOR_FLAG_W,CTDXMISS,CTDXMISS_FLAG_W,HPLC,HPLC_FLAG_W,DNA,DNA_FLAG_W,FCM,FCM_FLAG_W,IMAGES,IMAGES_FLAG_W,VIRAL_ABUNDANCE,VIRAL_ABUNDANCE_FLAG_W
,,,,,,,,,,,METERS,DBAR,,ITS-90,,PSS-78,,PSS-78,,UMOL/KG,,UMOL/KG,,UMOL/KG,,UMOL/KG,,UMOL/KG,,UMOL/KG,,PMOL/KG,,PMOL/KG,,FMOL/KG,,UMOL/KG,,UMOL/KG,,,,DEG C,,/MILLE,,/MILLE,,UMOL/KG,,UMOL/KG,,NMOL/KG,,,,,,ITS-90,,UG/L,,UG/L,,UG/L,,UG/L,,VOLTS,,VOLTS,,,,,,,,,,,
33RR20220613,       P02E,     119,          4,         36,         36,2,20220617,       0355,    30.0001,  -160.6360,       5638,     3.9,2,  23.7906,2,  34.9096,2,  34.9099,2,    218.5,2,   217.8,2,    1.47,2,    0.01,2,    0.00,2,    0.00,2,   1.798,2,   1.098,2,   1.7665,2,  2025.9,6,  2292.9,2,   7.9922,2,    25.02,2, -999.00,9,  -999.0,9, -999.00,9, -999.00,9,        7.6,2, 20220617,      637,  30.0001,-160.6360,    23.7887,2,     -999.0,9,     -999.0,9,     -999.0,9,     -999.0,9,     0.0134,1,     4.6167,1,     -999.0,9,     -999.0,9,     -999.0,9,     -999.0,9,     -999.0,9
33RR20220613,       P02E,     119,          4,         35,         35,2,20220617,       0355,    30.0001,  -160.6360,       5638,    35.0,2,  22.4217,2,  34.8585,2,  34.8641,2,    224.5,2,   224.1,2,    1.56,2,    0.00,2,    0.00,2,    0.00,2,   1.890,2,   1.139,2,   1.8337,2,  -999.0,9,  -999.0,9,-999.0000,9,  -999.00,9, -999.00,9,  -999.0,9, -999.00,9, -999.00,9,        7.8,2, 20220617,      634,  30.0001,-160.6360,    22.4225,2,     -999.0,9,     -999.0,9,     -999.0,9,     -999.0,9,     0.0138,1,     4.6213,1,     -999.0,9,     -999.0,9,     -999.0,9,     -999.0,9,     -999.0,9
33RR20220613,       P02E,     119,          4,         34,         34,2,20220617,       0355,    30.0001,  -160.6360,       5638,    60.4,2,  18.5162,2,  34.7629,3,  34.7091,2,    240.7,3,   157.9,2,   49.07,2,   11.66,2,    0.00,2,    0.89,2,-999.000,5,-999.000,5,-999.0000,5,  2253.7,4,  2332.0,6,   7.7138,2,    25.02,2, -999.00,9,  -999.0,9, -999.00,9, -999.00,9,     -999.0,5, 20220617,      631,  30.0001,-160.6360,    18.5127,2,     -999.0,9,     -999.0,9,     -999.0,9,     -999.0,9,     0.0179,1,     4.6226,1,     -999.0,9,     -999.0,9,     -999.0,9,     -999.0,9,     -999.0,9
33RR20220613,       P02E,     119,          4,         33,         33,2,20220617,       0355,    30.0001,  -160.6360,       5638,    85.7,2,  17.4895,2,  34.6810,2,  34.6804,2,    237.9,2,   240.0,2,    2.93,2,    0.01,2,    0.00,2,    0.07,2,   2.264,2,   1.333,2,   1.9915,2,  2034.0,2,  2278.7,6,   7.9530,2,    25.02,2, -999.00,9,  -999.0,9, -999.00,9, -999.00,9,        9.1,2, 20220617,      629,  30.0001,-160.6360,    17.4890,2,     -999.0,9,     -999.0,9,     -999.0,9,     -999.0,9,     0.0232,1,     4.6374,1,     -999.0,9,     -999.0,9,     -999.0,9,     -999.0,9,     -999.0,9
33RR20220613,       P02E,     119,          4,         32,         32,2,20220617,       0355,    30.0001,  -160.6360,       5638,   115.6,2,  16.2193,2,  34.5363,2,  34.5376,2,    232.4,2,   232.4,2,    3.42,2,    0.92,2,    0.19,2,    0.16,2,   2.392,2,   1.399,2,   2.1330,2,  -999.0,9,  -999.0,9,-999.0000,9,  -999.00,9, -999.00,9,  -999.0,9, -999.00,9, -999.00,9,       10.1,2, 20220617,      626,  30.0001,-160.6360,    16.2344,2,     -999.0,9,     -999.0,9,     -999.0,9,     -999.0,9,     0.0362,1,     4.6513,1,     -999.0,9,     -999.0,9,     -999.0,9,     -999.0,9,     -999.0,9
33RR20220613,       P02E,     119,          4,         31,         31,2,20220617,       0355,    30.0001,  -160.6360,       5638,   165.4,2,  14.4717,2,  34.4350,2,  34.4314,2,    215.5,2,   214.3,2,    5.87,2,    6.13,2,    0.01,2,    0.47,2,   2.611,2,   1.520,2,   2.0841,2,  2071.9,2,  2265.4,2,   7.8513,2,    25.02,2, -999.00,9,  -999.0,9, -999.00,9, -999.00,9,       13.2,2, 20220617,      624,  30.0001,-160.6360,    14.4721,2,     -999.0,9,     -999.0,9,     -999.0,9,     -999.0,9,     0.0147,1,     4.6823,1,     -999.0,9,     -999.0,9,     -999.0,9,     -999.0,9,     -999.0,9
33RR20220613,       P02E,     119,          4,         30,         30,2,20220617,       0355,    30.0001,  -160.6360,       5638,   215.8,2,  13.3940,2,  34.3559,2,  34.3566,2,    214.3,2,   213.8,2,    7.92,2,    8.20,2,    0.00,2,    0.59,2,   2.740,2,   1.576,2,   2.1166,2,  -999.0,9,  -999.0,9,-999.0000,9,  -999.00,9, -999.00,9,  -999.0,9, -999.00,9, -999.00,9,       14.5,2, 20220617,      621,  30.0001,-160.6360,    13.3931,2,     -999.0,9,     -999.0,9,     -999.0,9,     -999.0,9,     0.0122,1,     4.6873,1,     -999.0,9,     -999.0,9,     -999.0,9,     -999.0,9,     -999.0,9
33RR20220613,       P02E,     119,          4,         29,         29,2,20220617,       0355,    30.0001,  -160.6360,       5638,   266.3,2,  12.5742,2,  34.3075,2,  34.3082,2,    215.4,2,   215.6,2,   10.07,2,    9.89,2,    0.00,2,    0.70,2,   2.822,2,   1.615,2,   2.0439,2,  2088.2,2,  2262.6,2,   7.8080,2,    25.01,2, -999.00,9,  -999.0,9, -999.00,9, -999.00,9,       15.4,2, 20220617,      619,  30.0001,-160.6360,    12.5734,2,     -999.0,9,     -999.0,9,     -999.0,9,     -999.0,9,     0.0122,1,     4.6893,1,     -999.0,9,     -999.0,9,     -999.0,9,     -999.0,9,     -999.0,9
33RR20220613,       P02E,     119,          4,         28,         28,2,20220617,       0355,    30.0001,  -160.6360,       5638,   316.5,2,  11.2832,2,  34.2127,2,  34.2173,2,    210.0,2,   210.9,2,   14.08,2,   12.87,2,    0.00,2,    0.92,2,   2.945,2,   1.659,2,   1.8560,2,  -999.0,9,  -999.0,9,-999.0000,9,  -999.00,9, -999.00,9,  -999.0,9, -999.00,9, -999.00,9,       17.3,2, 20220617,      616,  30.0001,-160.6360,    11.2824,2,     -999.0,9,     -999.0,9,     -999.0,9,     -999.0,9,     0.0122,1,     4.6907,1,     -999.0,9,     -999.0,9,     -999.0,9,     -999.0,9,     -999.0,9
33RR20220613,       P02E,     119,          4,         27,         27,2,20220617,       0355,    30.0001,  -160.6360,       5638,   366.4,2,  10.5788,2,  34.1650,2,  34.1644,2,    209.8,2,   211.1,2,   17.01,2,   14.39,2,    0.00,2,    1.03,2,   3.061,2,   1.717,2,   1.9366,2,  2118.3,2,  2262.0,2,   7.7462,2,    25.02,2, -999.00,9,  -999.0,9, -999.00,9, -999.00,9,       18.5,2, 20220617,      614,  30.0001,-160.6360,    10.5659,2,     -999.0,9,     -999.0,9,     -999.0,9,     -999.0,9,     0.0122,1,     4.6920,1,     -999.0,9,     -999.0,9,     -999.0,9,     -999.0,9,     -999.0,9
33RR20220613,       P02E,     119,          4,         26,         26,2,20220617,       0355,    30.0001,  -160.6360,       5638,   437.4,2,   9.2785,2,  34.0750,2,  34.0756,2,    196.9,2,   199.0,2,   24.25,2,   18.06,2,    0.00,2,    1.29,2,   3.081,2,   1.735,2,   1.8629,2,  -999.0,9,  -999.0,9,-999.0000,9,  -999.00,9, -999.00,9,  -999.0,9, -999.00,9, -999.00,9,       21.0,2, 20220617,      611,  30.0001,-160.6360,     9.2728,2,     -999.0,9,     -999.0,9,     -999.0,9,     -999.0,9,     0.0122,1,     4.6922,1,     -999.0,9,     -999.0,9,     -999.0,9,     -999.0,9,     -999.0,9
33RR20220613,       P02E,     119,          4,         25,         25,2,20220617,       0355,    30.0001,  -160.6360,       5638,   538.8,2,   7.4978,2,  34.0111,2,  34.0111,2,    155.5,2,   154.2,2,   41.07,2,   25.82,2,    0.00,2,    1.81,2,   2.630,2,   1.576,2,   1.1823,2,  -999.0,9,  -999.0,9,-999.0000,9,  -999.00,9, -999.00,9,  -999.0,9, -999.00,9, -999.00,9,       28.1,2, 20220617,      608,  30.0001,-160.6360,     7.4997,2,     -999.0,9,     -999.0,9,     -999.0,9,     -999.0,9,     0.0127,1,     4.6965,1,     -999.0,9,     -999.0,9,     -999.0,9,     -999.0,9,     -999.0,9
33RR20220613,       P02E,     119,          4,         24,         24,2,20220617,       0355,    30.0001,  -160.6360,       5638,   639.6,2,   5.7376,2,  34.0035,2,  34.0033,2,    105.2,3,   104.2,2,   64.74,2,   33.60,2,    0.00,2,    2.38,2,   2.188,2,   1.161,2,   0.6398,2,  2252.6,2,  2289.7,2,   7.4507,2,    25.02,2, -999.00,9,  -999.0,9, -999.00,9, -999.00,9,       37.5,2, 20220617,      605,  30.0001,-160.6360,     5.7463,2,     -999.0,9,     -999.0,9,     -999.0,9,     -999.0,9,     0.0129,1,     4.6971,1,     -999.0,9,     -999.0,9,     -999.0,9,     -999.0,9,     -999.0,9
33RR20220613,       P02E,     119,          4,         23,         23,2,20220617,       0355,    30.0001,  -160.6360,       5638,   740.7,2,   4.7517,2,  34.0834,2,  34.0829,2,     56.3,2,    56.1,2,   87.33,2,   39.49,2,    0.00,2,    2.80,2,   1.149,2,   0.597,2,   0.2635,2,  -999.0,9,  -999.0,9,-999.0000,9,  -999.00,9, -999.00,9,  -999.0,9, -999.00,9, -999.00,9,       47.9,2, 20220617,      602,  30.0001,-160.6360,     4.7523,2,     -999.0,9,     -999.0,9,     -999.0,9,     -999.0,9,     0.0131,1,     4.6981,1,     -999.0,9,     -999.0,9,     -999.0,9,     -999.0,9,     -999.0,9
33RR20220613,       P02E,     119,          4,         22,         22,2,20220617,       0355,    30.0001,  -160.6360,       5638,   841.6,2,   4.2556,2,  34.1838,2,  34.1824,2,     25.6,3,    26.5,2,  103.26,2,   42.49,2,    0.00,2,    3.02,2,   0.438,2,   0.232,2,   0.1138,2,  -999.0,9,  -999.0,9,-999.0000,9,  -999.00,9, -999.00,9,  -999.0,9, -999.00,9, -999.00,9,       58.8,2, 20220617,      559,  30.0001,-160.6360,     4.2552,2,     -999.0,9,     -999.0,9,     -999.0,9,     -999.0,9,     0.0134,1,     4.6984,1,     -999.0,9,     -999.0,9,     -999.0,9,     -999.0,9,     -999.0,9
33RR20220613,       P02E,     119,          4,         21,         21,2,20220617,       0355,    30.0001,  -160.6360,       5638,   942.9,2,   3.8608,2,  34.2676,2,  34.2660,2,     14.2,3,    15.6,2,  116.06,2,   43.72,2,    0.00,2,    3.12,2,   0.149,6,   0.088,6,   0.1047,2,  -999.0,9,  -999.0,9,-999.0000,9,  -999.00,9, -999.00,9,  -999.0,9, -999.00,9, -999.00,9,       65.1,6, 20220617,      555,  30.0001,-160.6360,     3.8622,2,     -999.0,9,     -999.0,9,     -999.0,9,     -999.0,9,     0.0134,1,     4.6985,1,     -999.0,9,     -999.0,9,     -999.0,9,     -999.0,9,     -999.0,9
33RR20220613,       P02E,     119,          4,         20,         20,2,20220617,       0355,    30.0001,  -160.6360,       5638,  1043.5,2,   3.5476,2,  34.3488,2,  34.3486,2,     10.1,3,    11.2,2,  127.01,2,   44.23,2,    0.00,2,    3.18,2,   0.036,2,   0.023,2,   0.0000,2,  2371.9,2,  2363.6,2,   7.2986,2,    25.03,2, -999.00,9,  -999.0,9, -999.00,9, -999.00,9,       70.0,2, 20220617,      552,  30.0001,-160.6360,     3.5451,2,     -999.0,9,     -999.0,9,     -999.0,9,     -999.0,9,     0.0134,1,     4.6983,1,     -999.0,9,     -999.0,9,     -999.0,9,     -999.0,9,     -999.0,9
33RR20220613,       P02E,     119,          4,         18,         18,2,20220617,       0355,    30.0001,  -160.6360,       5638,  1144.9,2,   3.3759,2,  34.4300,2,  34.4294,2,     19.4,3,    19.9,2,  131.20,2,   43.89,2,    0.00,2,    3.16,2,   0.013,2,   0.009,2,   0.0000,2,  -999.0,9,  -999.0,9,-999.0000,9,  -999.00,9, -999.00,9,  -999.0,9, -999.00,9, -999.00,9,       63.7,2, 20220617,      549,  30.0001,-160.6360,     3.3757,2,     -999.0,9,     -999.0,9,     -999.0,9,     -999.0,9,     0.0134,1,     4.6991,1,     -999.0,9,     -999.0,9,     -999.0,9,     -999.0,9,     -999.0,9
33RR20220613,       P02E,     119,          4,         19,         19,2,20220617,       0355,    30.0001,  -160.6360,       5638,  1145.5,2,   3.3755,2,  34.4301,2,  34.4281,2,     19.4,2,  -999.0,9,  131.50,2,   43.87,2,    0.00,2,    3.16,2,-999.000,9,-999.000,9,-999.0000,9,  -999.0,9,  -999.0,9,-999.0000,9,  -999.00,9, -999.00,9,  -999.0,9, -999.00,9, -999.00,9,     -999.0,9, 20220617,      549,  30.0001,-160.6360,     -999.0,9,     -999.0,9,     -999.0,9,     -999.0,9,     -999.0,9,     0.0134,1,     4.6990,1,     -999.0,9,     -999.0,9,     -999.0,9,     -999.0,9,     -999.0,9
33RR20220613,       P02E,     119,          4,         17,         17,2,20220617,       0355,    30.0001,  -160.6360,       5638,  1246.2,2,   3.1366,2,  34.4813,2,  34.4813,2,     27.1,3,    27.5,2,  137.26,2,   43.64,2,    0.00,2,    3.13,2,   0.007,2,   0.007,2,   0.0000,2,  2377.4,2,  2383.9,2,   7.3447,2,    25.02,2, -999.00,9,  -999.0,9, -999.00,9, -999.00,9,       57.2,2, 20220617,      546,  30.0001,-160.6360,     3.1366,2,     -999.0,9,     -999.0,9,     -999.0,9,     -999.0,9,     0.0130,1,     4.6998,1,     -999.0,9,     -999.0,9,     -999.0,9,     -999.0,9,     -999.0,9
33RR20220613,       P02E,     119,          4,         16,         16,2,20220617,       0355,    30.0001,  -160.6360,       5638,  1349.2,2,   2.9697,2,  34.5101,2,  34.5101,2,     38.5,2,    38.5,2,  140.48,2,   43.03,2,    0.00,2,    3.06,2,   0.006,2,   0.007,2,   0.0000,2,  -999.0,9,  -999.0,9,-999.0000,9,  -999.00,9, -999.00,9,  -999.0,9, -999.00,9, -999.00,9,       51.3,2, 20220617,      542,  30.0001,-160.6360,     2.9702,2,     -999.0,9,     -999.0,9,     -999.0,9,     -999.0,9,     0.0134,1,     4.7003,1,     -999.0,9,     -999.0,9,     -999.0,9,     -999.0,9,     -999.0,9
33RR20220613,       P02E,     119,          4,         15,         15,2,20220617,       0355,    30.0001,  -160.6360,       5638,  1479.5,2,   2.7348,2,  34.5388,2,  34.5386,2,     45.9,2,    45.6,2,  146.44,2,   42.83,2,    0.00,2,    3.02,2,   0.005,2,   0.004,2,   0.0000,2,  -999.0,9,  -999.0,9,-999.0000,9,  -999.00,9, -999.00,9,  -999.0,9, -999.00,9, -999.00,9,       46.5,2, 20220617,      538,  30.0001,-160.6360,     2.7337,2,     -999.0,9,     -999.0,9,     -999.0,9,     -999.0,9,     0.0134,1,     4.7009,1,     -999.0,9,     -999.0,9,     -999.0,9,     -999.0,9,     -999.0,9
33RR20220613,       P02E,     119,          4,         14,         14,2,20220617,       0355,    30.0001,  -160.6360,       5638,  1682.8,2,   2.3961,2,  34.5739,2,  34.5749,2,     62.4,3,    61.8,2,  153.09,2,   41.83,2,    0.00,2,    2.94,2,   0.007,2,   0.004,2,   0.0000,2,  -999.0,9,  -999.0,9,-999.0000,9,  -999.00,9, -999.00,9,  -999.0,9, -999.00,9, -999.00,9,       40.5,2, 20220617,      533,  30.0001,-160.6360,     2.3963,2,     -999.0,9,     -999.0,9,     -999.0,9,     -999.0,9,     0.0134,1,     4.7019,1,     -999.0,9,     -999.0,9,     -999.0,9,     -999.0,9,     -999.0,9
33RR20220613,       P02E,     119,          4,         13,         13,2,20220617,       0355,    30.0001,  -160.6360,       5638,  1884.7,2,   2.1557,2,  34.5984,2,  34.5977,2,     76.1,2,    75.5,2,  156.89,2,   41.04,2,    0.00,2,    2.87,2,   0.005,2,   0.002,2,   0.0000,2,  2369.5,2,  2410.7,2,   7.4406,2,    25.01,2, -999.00,9,  -999.0,9, -999.00,9, -999.00,9,       36.1,2, 20220617,      528,  30.0001,-160.6360,     2.1574,2,     -999.0,9,     -999.0,9,     -999.0,9,     -999.0,9,     0.0134,1,     4.7028,1,     -999.0,9,     -999.0,9,     -999.0,9,     -999.0,9,     -999.0,9
33RR20220613,       P02E,     119,          4,         12,         12,2,20220617,       0355,    30.0001,  -160.6360,       5638,  2109.6,2,   1.9465,2,  34.6193,2,  34.6195,2,     86.9,2,    86.6,2,  161.19,2,   40.30,2,    0.00,2,    2.82,2,   0.005,2,   0.000,2,   0.0000,2,  -999.0,9,  -999.0,9,-999.0000,9,  -999.00,9, -999.00,9,  -999.0,9, -999.00,9, -999.00,9,       32.8,2, 20220617,      523,  30.0001,-160.6361,     1.9462,2,     -999.0,9,     -999.0,9,     -999.0,9,     -999.0,9,     0.0133,1,     4.7026,1,     -999.0,9,     -999.0,9,     -999.0,9,     -999.0,9,     -999.0,9
33RR20220613,       P02E,     119,          4,         11,         11,2,20220617,       0355,    30.0001,  -160.6360,       5638,  2363.7,2,   1.7950,2,  34.6353,2,  34.6352,2,     96.5,2,    96.3,2,  163.83,2,   39.70,2,    0.00,2,    2.76,2,   0.004,2,   0.000,2,   0.0000,2,  2366.1,2,  2419.0,2,   7.4800,2,    25.01,2, -999.00,9,  -999.0,9, -999.00,9, -999.00,9,       30.6,2, 20220617,      517,  30.0001,-160.6360,     1.7950,2,     -999.0,9,     -999.0,9,     -999.0,9,     -999.0,9,     0.0122,1,     4.7040,1,     -999.0,9,     -999.0,9,     -999.0,9,     -999.0,9,     -999.0,9
33RR20220613,       P02E,     119,          4,         10,         10,2,20220617,       0355,    30.0001,  -160.6360,       5638,  2619.5,2,   1.6829,2,  34.6473,2,  34.6466,2,    106.1,2,   105.8,2,  164.32,2,   39.06,2,    0.00,2,    2.72,2,   0.004,2,   0.003,2,   0.0000,2,  -999.0,9,  -999.0,9,-999.0000,9,  -999.00,9, -999.00,9,  -999.0,9, -999.00,9, -999.00,9,       28.7,2, 20220617,      510,  30.0000,-160.6360,     1.6829,2,     -999.0,9,     -999.0,9,     -999.0,9,     -999.0,9,     0.0122,1,     4.7040,1,     -999.0,9,     -999.0,9,     -999.0,9,     -999.0,9,     -999.0,9
33RR20220613,       P02E,     119,          4,          9,          9,2,20220617,       0355,    30.0001,  -160.6360,       5638,  2874.4,2,   1.6075,2,  34.6572,2,  34.6578,2,    114.7,2,   115.1,2,  163.73,2,   38.49,2,    0.00,2,    2.67,2,   0.005,2,   0.000,2,   0.0000,2,  -999.0,9,  -999.0,9,-999.0000,9,  -999.00,9, -999.00,9,  -999.0,9, -999.00,9, -999.00,9,       27.3,2, 20220617,      506,  30.0000,-160.6360,     1.6074,2,     -999.0,9,     -999.0,9,     -999.0,9,     -999.0,9,     0.0123,1,     4.7044,1,     -999.0,9,     -999.0,9,     -999.0,9,     -999.0,9,     -999.0,9
33RR20220613,       P02E,     119,          4,          8,          8,2,20220617,       0355,    30.0001,  -160.6360,       5638,  3144.5,2,   1.5480,2,  34.6660,2,  34.6655,2,    123.5,2,   124.0,2,  162.17,2,   37.90,2,    0.00,2,    2.64,2,   0.006,2,   0.004,2,   0.0000,2,  2349.3,2,  2422.1,6,   7.5306,2,    25.00,2, -999.00,9,  -999.0,9, -999.00,9, -999.00,9,       25.9,2, 20220617,      500,  30.0000,-160.6360,     1.5483,2,     -999.0,9,     -999.0,9,     -999.0,9,     -999.0,9,     0.0122,1,     4.7044,1,     -999.0,9,     -999.0,9,     -999.0,9,     -999.0,9,     -999.0,9
33RR20220613,       P02E,     119,          4,          7,          7,2,20220617,       0355,    30.0001,  -160.6360,       5638,  3452.0,2,   1.5043,2,  34.6737,2,  34.6732,2,    132.5,2,   133.0,2,  160.21,2,   37.31,2,    0.00,2,    2.57,2,   0.004,2,   0.002,2,   0.0000,2,  -999.0,9,  -999.0,9,-999.0000,9,  -999.00,9, -999.00,9,  -999.0,9, -999.00,9, -999.00,9,       24.4,2, 20220617,      453,  30.0001,-160.6360,     1.5045,2,     -999.0,9,     -999.0,9,     -999.0,9,     -999.0,9,     0.0122,1,     4.7050,1,     -999.0,9,     -999.0,9,     -999.0,9,     -999.0,9,     -999.0,9
33RR20220613,       P02E,     119,          4,          6,          6,2,20220617,       0355,    30.0001,  -160.6360,       5638,  3794.5,2,   1.4827,2,  34.6796,2,  34.6793,2,    140.1,2,   140.7,2,  157.96,2,   36.76,2,    0.00,2,    2.52,2,   0.005,2,   0.004,2,   0.0000,2,  -999.0,9,  -999.0,9,-999.0000,9,  -999.00,9, -999.00,9,  -999.0,9, -999.00,9, -999.00,9,       23.5,2, 20220617,      446,  30.0000,-160.6360,     1.4829,2,     -999.0,9,     -999.0,9,     -999.0,9,     -999.0,9,     0.0122,1,     4.7053,1,     -999.0,9,     -999.0,9,     -999.0,9,     -999.0,9,     -999.0,9
33RR20220613,       P02E,     119,          4,          5,          5,2,20220617,       0355,    30.0001,  -160.6360,       5638,  4205.5,2,   1.4819,2,  34.6842,2,  34.6853,2,    147.0,2,   147.5,2,  155.22,2,   36.42,2,    0.00,2,    2.48,2,   0.003,2,   0.003,2,   0.0000,2,  2332.4,2,  2421.7,2,   7.5720,2,    25.02,2, -999.00,9,  -999.0,9, -999.00,9, -999.00,9,       23.1,2, 20220617,      437,  30.0000,-160.6360,     1.4819,2,     -999.0,9,     -999.0,9,     -999.0,9,     -999.0,9,     0.0121,1,     4.7056,1,     -999.0,9,     -999.0,9,     -999.0,9,     -999.0,9,     -999.0,9