BOTTLE,20230830CCHSIOCBG
EXPOCODE,SECT_ID,STNNBR,CASTNO,SAMPNO,BTLNBR,BTLNBR_FLAG_W,DATE,TIME,LATITUDE,LONGITUDE,DEPTH,CTDPRS,CTDPRS_FLAG_W,CTDTMP,CTDTMP_FLAG_W,CTDSAL,CTDSAL_FLAG_W,SALNTY,SALNTY_FLAG_W,CTDOXY,CTDOXY_FLAG_W,OXYGEN,OXYGEN_FLAG_W,SILCAT,SILCAT_FLAG_W,NITRAT,NITRAT_FLAG_W,NITRIT,NITRIT_FLAG_W,PHSPHT,PHSPHT_FLAG_W,CFC-11,CFC-11_FLAG_W,CFC-12,CFC-12_FLAG_W,SF6,SF6_FLAG_W,TCARBN,TCARBN_FLAG_W,ALKALI,ALKALI_FLAG_W,PH_TOT,PH_TOT_FLAG_W,PH_TMP,PH_TMP_FLAG_W,DELC13,DELC13_FLAG_W,DELC14,DELC14_FLAG_W,DOC,DOC_FLAG_W,TDN,TDN_FLAG_W,N2O,N2O_FLAG_W,BTL_DATE,BTL_TIME,BTL_LAT,BTL_LON,REFTMP,REFTMP_FLAG_W,POC,POC_FLAG_W,PON,PON_FLAG_W,POP,POP_FLAG_W,PCOD,PCOD_FLAG_W,CTDFLUOR,CTDFLUOR_FLAG_W,CTDXMISS,CTDXMISS_FLAG_W,HPLC,HPLC_FLAG_W,DNA,DNA_FLAG_W,FCM,FCM_FLAG_W,IMAGES,IMAGES_FLAG_W,VIRAL_ABUNDANCE,VIRAL_ABUNDANCE_FLAG_W
,,,,,,,,,,,METERS,DBAR,,ITS-90,,PSS-78,,PSS-78,,UMOL/KG,,UMOL/KG,,UMOL/KG,,UMOL/KG,,UMOL/KG,,UMOL/KG,,PMOL/KG,,PMOL/KG,,FMOL/KG,,UMOL/KG,,UMOL/KG,,,,DEG C,,/MILLE,,/MILLE,,UMOL/KG,,UMOL/KG,,NMOL/KG,,,,,,ITS-90,,UG/L,,UG/L,,UG/L,,UG/L,,VOLTS,,VOLTS,,,,,,,,,,,
33RR20220613,       P02E,     156,          1,          4,          4,2,20220629,       0114,    30.0000,  -139.2730,       4882,  4065.7,2,   1.4933,2,  34.6800,3,  34.6822,2,    142.6,2,   142.6,2,  161.69,2,   36.70,2,    0.00,2,    2.53,2,-999.000,9,-999.000,9,-999.0000,9,  2336.8,2,  2427.8,2,   7.5660,2,    25.01,2, -999.00,9,  -999.0,9, -999.00,9, -999.00,9,     -999.0,9, 20220629,      137,  30.0000,-139.2730,     1.4933,2,     -999.0,9,     -999.0,9,     -999.0,9,     -999.0,9,     0.0122,1,     4.7019,1,     -999.0,9,     -999.0,9,     -999.0,9,     -999.0,9,     -999.0,9
33RR20220613,       P02E,     156,          1,          3,          3,2,20220629,       0114,    30.0000,  -139.2730,       4882,  4423.6,2,   1.5134,2,  34.6823,3,  34.6855,2,    146.2,2,   146.3,2,  157.97,3,   36.43,3,    0.00,2,    2.51,2,   0.004,2,   0.006,2,   0.0000,2,  2334.8,2,  2427.4,6,   7.5718,2,    25.01,2, -999.00,9,  -999.0,9, -999.00,9, -999.00,9,       22.5,2, 20220629,      130,  30.0000,-139.2730,     1.5133,2,     -999.0,9,     -999.0,9,     -999.0,9,     -999.0,9,     0.0122,1,     4.7016,1,     -999.0,9,     -999.0,9,     -999.0,9,     -999.0,9,     -999.0,9
33RR20220613,       P02E,     156,          1,          2,          2,2,20220629,       0114,    30.0000,  -139.2730,       4882,  4797.3,2,   1.5478,2,  34.6833,3,  34.6859,2,    148.5,2,   148.6,2,  159.15,3,   36.31,3,    0.00,2,    2.51,2,   0.005,2,   0.005,2,   0.0000,2,  2334.6,2,  2426.7,2,   7.5762,2,    25.01,2, -999.00,9,  -999.0,9, -999.00,9, -999.00,9,       23.3,2, 20220629,      121,  30.0000,-139.2730,     1.5477,2,     -999.0,9,     -999.0,9,     -999.0,9,     -999.0,9,     0.0122,1,     4.7009,1,     -999.0,9,     -999.0,9,     -999.0,9,     -999.0,9,     -999.0,9
33RR20220613,       P02E,     156,          1,          1,          1,2,20220629,       0114,    30.0000,  -139.2730,       4882,  4962.2,2,   1.5669,2,  34.6834,3,  34.6865,2,    148.9,2,   148.7,2,  157.29,3,   36.24,3,    0.00,2,    2.51,2,   0.008,2,   0.009,2,   0.0000,2,  2333.3,6,  2426.3,2,   7.5755,2,    25.01,2, -999.00,9,  -999.0,9, -999.00,9, -999.00,9,       23.3,2, 20220629,      114,  30.0000,-139.2730,     1.5669,2,     -999.0,9,     -999.0,9,     -999.0,9,     -999.0,9,     0.0130,1,     4.7007,1,     -999.0,9,     -999.0,9,     -999.0,9,     -999.0,9,     -999.0,9