BOTTLE,20230830CCHSIOCBG
EXPOCODE,SECT_ID,STNNBR,CASTNO,SAMPNO,BTLNBR,BTLNBR_FLAG_W,DATE,TIME,LATITUDE,LONGITUDE,DEPTH,CTDPRS,CTDPRS_FLAG_W,CTDTMP,CTDTMP_FLAG_W,CTDSAL,CTDSAL_FLAG_W,SALNTY,SALNTY_FLAG_W,CTDOXY,CTDOXY_FLAG_W,OXYGEN,OXYGEN_FLAG_W,SILCAT,SILCAT_FLAG_W,NITRAT,NITRAT_FLAG_W,NITRIT,NITRIT_FLAG_W,PHSPHT,PHSPHT_FLAG_W,CFC-11,CFC-11_FLAG_W,CFC-12,CFC-12_FLAG_W,SF6,SF6_FLAG_W,TCARBN,TCARBN_FLAG_W,ALKALI,ALKALI_FLAG_W,PH_TOT,PH_TOT_FLAG_W,PH_TMP,PH_TMP_FLAG_W,DELC13,DELC13_FLAG_W,DELC14,DELC14_FLAG_W,DOC,DOC_FLAG_W,TDN,TDN_FLAG_W,N2O,N2O_FLAG_W,BTL_DATE,BTL_TIME,BTL_LAT,BTL_LON,REFTMP,REFTMP_FLAG_W,POC,POC_FLAG_W,PON,PON_FLAG_W,POP,POP_FLAG_W,PCOD,PCOD_FLAG_W,CTDFLUOR,CTDFLUOR_FLAG_W,CTDXMISS,CTDXMISS_FLAG_W,HPLC,HPLC_FLAG_W,DNA,DNA_FLAG_W,FCM,FCM_FLAG_W,IMAGES,IMAGES_FLAG_W,VIRAL_ABUNDANCE,VIRAL_ABUNDANCE_FLAG_W
,,,,,,,,,,,METERS,DBAR,,ITS-90,,PSS-78,,PSS-78,,UMOL/KG,,UMOL/KG,,UMOL/KG,,UMOL/KG,,UMOL/KG,,UMOL/KG,,PMOL/KG,,PMOL/KG,,FMOL/KG,,UMOL/KG,,UMOL/KG,,,,DEG C,,/MILLE,,/MILLE,,UMOL/KG,,UMOL/KG,,NMOL/KG,,,,,,ITS-90,,UG/L,,UG/L,,UG/L,,UG/L,,VOLTS,,VOLTS,,,,,,,,,,,
33RR20220613,       P02E,     185,          2,         36,         36,2,20220707,       0901,    30.2516,  -122.6177,       3825,     3.6,2,  17.8128,2,  33.2118,2,  33.2162,2,    244.6,2,   245.6,2,    0.49,2,    0.00,2,    0.01,2,    0.35,2,-999.000,9,-999.000,9,-999.0000,9,  2015.9,6,  2225.1,2,   7.8978,2,    25.02,2, -999.00,9,  -999.0,9, -999.00,9, -999.00,9,     -999.0,9, 20220707,     1044,  30.2516,-122.6177,    17.8228,2,     -999.0,9,     -999.0,9,     -999.0,9,     -999.0,9,     0.0253,1,     4.6094,1,     -999.0,9,     -999.0,9,     -999.0,9,     -999.0,9,     -999.0,9
33RR20220613,       P02E,     185,          2,         35,         35,2,20220707,       0901,    30.2516,  -122.6177,       3825,    25.9,2,  17.3824,2,  33.2181,2,  33.2274,2,    250.2,3,   256.4,2,    0.39,2,    0.00,2,    0.01,2,    0.34,2,-999.000,9,-999.000,9,-999.0000,9,  2013.3,2,  2224.3,2,   7.8996,2,    25.01,2, -999.00,9,  -999.0,9, -999.00,9, -999.00,9,     -999.0,9, 20220707,     1042,  30.2516,-122.6177,    17.1378,2,     -999.0,9,     -999.0,9,     -999.0,9,     -999.0,9,     0.0348,1,     4.5718,1,     -999.0,9,     -999.0,9,     -999.0,9,     -999.0,9,     -999.0,9
33RR20220613,       P02E,     185,          2,         34,         34,2,20220707,       0901,    30.2516,  -122.6177,       3825,    50.6,2,  13.0794,2,  33.0096,2,  32.9929,2,    262.2,2,   261.2,2,    1.76,2,    2.01,2,    0.23,2,    0.54,2,-999.000,9,-999.000,9,-999.0000,9,  2027.2,2,  2206.8,2,   7.8390,2,    25.01,2, -999.00,9,  -999.0,9, -999.00,9, -999.00,9,     -999.0,9, 20220707,     1041,  30.2516,-122.6177,    13.1382,3,     -999.0,9,     -999.0,9,     -999.0,9,     -999.0,9,     0.0599,1,     4.5728,1,     -999.0,9,     -999.0,9,     -999.0,9,     -999.0,9,     -999.0,9
33RR20220613,       P02E,     185,          2,         33,         33,2,20220707,       0901,    30.2516,  -122.6177,       3825,    75.7,2,  11.7866,2,  33.0597,2,  33.0658,2,    236.7,2,   238.0,2,    4.70,2,    7.42,2,    0.25,2,    0.85,2,-999.000,9,-999.000,9,-999.0000,9,  2059.1,2,  2208.1,6,   7.7625,2,    25.02,2, -999.00,9,  -999.0,9, -999.00,9, -999.00,9,     -999.0,9, 20220707,     1039,  30.2516,-122.6177,    11.7772,2,     -999.0,9,     -999.0,9,     -999.0,9,     -999.0,9,     0.0570,1,     4.6138,1,     -999.0,9,     -999.0,9,     -999.0,9,     -999.0,9,     -999.0,9
33RR20220613,       P02E,     185,          2,         32,         32,2,20220707,       0901,    30.2516,  -122.6177,       3825,   100.6,2,  11.4824,2,  33.3755,2,  33.3822,2,    216.4,2,   217.6,2,    8.61,2,   13.13,2,    0.10,2,    1.18,2,-999.000,9,-999.000,9,-999.0000,9,  2101.5,2,  2223.0,2,   7.6937,2,    25.01,2, -999.00,9,  -999.0,9, -999.00,9, -999.00,9,     -999.0,9, 20220707,     1037,  30.2516,-122.6177,    11.4765,2,     -999.0,9,     -999.0,9,     -999.0,9,     -999.0,9,     0.0306,1,     4.6540,1,     -999.0,9,     -999.0,9,     -999.0,9,     -999.0,9,     -999.0,9
33RR20220613,       P02E,     185,          2,         31,         31,2,20220707,       0901,    30.2516,  -122.6177,       3825,   126.9,2,  10.4198,2,  33.5558,2,  33.5640,2,    184.4,2,   183.2,2,   15.36,2,   18.49,2,    0.02,2,    1.51,2,-999.000,9,-999.000,9,-999.0000,9,  2137.2,2,  2230.2,2,   7.6098,2,    25.00,2, -999.00,9,  -999.0,9, -999.00,9, -999.00,9,     -999.0,9, 20220707,     1036,  30.2516,-122.6177,    10.4395,2,     -999.0,9,     -999.0,9,     -999.0,9,     -999.0,9,     0.0166,1,     4.6618,1,     -999.0,9,     -999.0,9,     -999.0,9,     -999.0,9,     -999.0,9
33RR20220613,       P02E,     185,          2,         30,         17,2,20220707,       0901,    30.2516,  -122.6177,       3825,   151.3,2,   9.5277,2,  33.7275,2,  33.7355,2,    153.4,2,   153.2,2,   21.32,2,   21.84,2,    0.00,2,    1.70,2,-999.000,9,-999.000,9,-999.0000,9,  2163.2,2,  2238.6,2,   7.5583,2,    25.02,2, -999.00,9,  -999.0,9, -999.00,9, -999.00,9,     -999.0,9, 20220707,     1034,  30.2516,-122.6177,     9.5152,2,     -999.0,9,     -999.0,9,     -999.0,9,     -999.0,9,     0.0134,1,     4.6689,1,     -999.0,9,     -999.0,9,     -999.0,9,     -999.0,9,     -999.0,9
33RR20220613,       P02E,     185,          2,         29,         29,2,20220707,       0901,    30.2516,  -122.6177,       3825,   202.2,2,   8.7191,2,  33.9649,2,  33.9679,2,    129.7,2,   129.7,2,   30.12,2,   25.57,2,    0.00,2,    1.92,2,-999.000,9,-999.000,9,-999.0000,9,  2193.6,2,  2255.9,2,   7.5204,2,    25.02,2, -999.00,9,  -999.0,9, -999.00,9, -999.00,9,     -999.0,9, 20220707,     1032,  30.2515,-122.6177,     8.7155,2,     -999.0,9,     -999.0,9,     -999.0,9,     -999.0,9,     0.0134,1,     4.6713,1,     -999.0,9,     -999.0,9,     -999.0,9,     -999.0,9,     -999.0,9
33RR20220613,       P02E,     185,          2,         28,         28,2,20220707,       0901,    30.2516,  -122.6177,       3825,   252.6,2,   8.2081,2,  34.0202,2,  34.0249,2,    109.7,3,   107.1,2,   37.45,2,   28.69,2,    0.00,2,    2.15,2,-999.000,9,-999.000,9,-999.0000,9,  2217.0,2,  2265.3,2,   7.4731,2,    25.01,2, -999.00,9,  -999.0,9, -999.00,9, -999.00,9,     -999.0,9, 20220707,     1030,  30.2516,-122.6177,     8.2152,2,     -999.0,9,     -999.0,9,     -999.0,9,     -999.0,9,     0.0134,1,     4.6720,1,     -999.0,9,     -999.0,9,     -999.0,9,     -999.0,9,     -999.0,9
33RR20220613,       P02E,     185,          2,         27,         27,2,20220707,       0901,    30.2516,  -122.6177,       3825,   302.7,2,   7.4260,2,  34.0560,2,  34.0550,2,     80.4,2,    79.9,2,   47.53,2,   32.53,2,    0.00,2,    2.43,2,-999.000,9,-999.000,9,-999.0000,9,  2245.7,2,  2275.8,2,   7.4090,2,    25.00,2, -999.00,9,  -999.0,9, -999.00,9, -999.00,9,     -999.0,9, 20220707,     1029,  30.2516,-122.6177,     7.4288,2,     -999.0,9,     -999.0,9,     -999.0,9,     -999.0,9,     0.0134,1,     4.6750,1,     -999.0,9,     -999.0,9,     -999.0,9,     -999.0,9,     -999.0,9
33RR20220613,       P02E,     185,          2,         26,         26,2,20220707,       0901,    30.2516,  -122.6177,       3825,   353.5,2,   6.8129,2,  34.1001,2,  34.0980,2,     53.6,3,    54.2,2,   57.30,2,   35.60,2,    0.00,2,    2.70,2,-999.000,9,-999.000,9,-999.0000,9,  2273.3,2,  2286.6,2,   7.3591,2,    25.00,2, -999.00,9,  -999.0,9, -999.00,9, -999.00,9,     -999.0,9, 20220707,     1027,  30.2516,-122.6177,     6.8189,2,     -999.0,9,     -999.0,9,     -999.0,9,     -999.0,9,     0.0134,1,     4.6749,1,     -999.0,9,     -999.0,9,     -999.0,9,     -999.0,9,     -999.0,9
33RR20220613,       P02E,     185,          2,         25,         25,2,20220707,       0901,    30.2516,  -122.6177,       3825,   403.7,2,   6.4827,2,  34.1442,2,  34.1475,2,     38.3,2,    38.2,2,   64.44,2,   37.42,2,    0.00,2,    2.87,2,-999.000,9,-999.000,9,-999.0000,9,  2285.1,2,  2295.6,2,   7.3350,2,    24.99,2, -999.00,9,  -999.0,9, -999.00,9, -999.00,9,     -999.0,9, 20220707,     1025,  30.2516,-122.6177,     6.4810,2,     -999.0,9,     -999.0,9,     -999.0,9,     -999.0,9,     0.0134,1,     4.6789,1,     -999.0,9,     -999.0,9,     -999.0,9,     -999.0,9,     -999.0,9
33RR20220613,       P02E,     185,          2,         24,         24,2,20220707,       0901,    30.2516,  -122.6177,       3825,   454.0,2,   6.1208,2,  34.1871,2,  34.1895,2,     26.5,3,    25.9,2,   71.77,2,   39.01,2,    0.00,2,    2.98,2,-999.000,9,-999.000,9,-999.0000,9,  2300.1,2,  2304.2,2,   7.3181,2,    24.99,2, -999.00,9,  -999.0,9, -999.00,9, -999.00,9,     -999.0,9, 20220707,     1023,  30.2516,-122.6177,     6.1387,2,     -999.0,9,     -999.0,9,     -999.0,9,     -999.0,9,     0.0134,1,     4.6808,1,     -999.0,9,     -999.0,9,     -999.0,9,     -999.0,9,     -999.0,9
33RR20220613,       P02E,     185,          2,         23,         23,2,20220707,       0901,    30.2516,  -122.6177,       3825,   504.4,2,   5.8271,2,  34.2250,2,  34.2283,2,     19.6,3,    20.2,2,   77.93,2,   40.05,2,    0.00,2,    3.04,2,-999.000,9,-999.000,9,-999.0000,9,  2310.7,2,  2311.8,2,   7.3116,2,    25.00,2, -999.00,9,  -999.0,9, -999.00,9, -999.00,9,     -999.0,9, 20220707,     1021,  30.2515,-122.6177,     5.8268,2,     -999.0,9,     -999.0,9,     -999.0,9,     -999.0,9,     0.0134,1,     4.6831,1,     -999.0,9,     -999.0,9,     -999.0,9,     -999.0,9,     -999.0,9
33RR20220613,       P02E,     185,          2,         22,         22,2,20220707,       0901,    30.2516,  -122.6177,       3825,   605.3,2,   5.0603,2,  34.2975,2,  34.3003,2,     13.4,3,    13.7,2,   92.59,2,   42.11,2,    0.00,2,    3.18,2,-999.000,9,-999.000,9,-999.0000,9,  2331.6,2,  2331.9,2,   7.3074,2,    24.99,2, -999.00,9,  -999.0,9, -999.00,9, -999.00,9,     -999.0,9, 20220707,     1019,  30.2516,-122.6177,     5.0515,2,     -999.0,9,     -999.0,9,     -999.0,9,     -999.0,9,     0.0134,1,     4.6861,1,     -999.0,9,     -999.0,9,     -999.0,9,     -999.0,9,     -999.0,9
33RR20220613,       P02E,     185,          2,         21,         21,2,20220707,       0901,    30.2516,  -122.6177,       3825,   706.8,2,   4.7640,2,  34.3741,2,  34.3729,2,     13.0,2,    13.1,2,   99.92,2,   42.74,2,    0.00,2,    3.22,2,-999.000,9,-999.000,9,-999.0000,9,  2342.9,2,  2344.8,2,   7.3169,2,    25.00,2, -999.00,9,  -999.0,9, -999.00,9, -999.00,9,     -999.0,9, 20220707,     1016,  30.2516,-122.6177,     4.7637,2,     -999.0,9,     -999.0,9,     -999.0,9,     -999.0,9,     0.0134,1,     4.6874,1,     -999.0,9,     -999.0,9,     -999.0,9,     -999.0,9,     -999.0,9
33RR20220613,       P02E,     185,          2,         20,         20,2,20220707,       0901,    30.2516,  -122.6177,       3825,   807.6,2,   4.4280,2,  34.4255,2,  34.4245,2,     16.6,3,    16.3,2,  106.86,2,   43.13,2,    0.00,2,    3.23,2,-999.000,9,-999.000,9,-999.0000,9,  2350.7,2,  2357.1,2,   7.3303,2,    25.02,2, -999.00,9,  -999.0,9, -999.00,9, -999.00,9,     -999.0,9, 20220707,     1013,  30.2516,-122.6177,     4.4270,2,     -999.0,9,     -999.0,9,     -999.0,9,     -999.0,9,     0.0134,1,     4.6875,1,     -999.0,9,     -999.0,9,     -999.0,9,     -999.0,9,     -999.0,9
33RR20220613,       P02E,     185,          2,         19,         39,2,20220707,       0901,    30.2516,  -122.6177,       3825,   908.8,2,   4.1280,2,  34.4610,2,  34.4608,2,     21.1,2,    21.0,2,  113.60,2,   43.31,2,    0.00,2,    3.21,2,-999.000,9,-999.000,9,-999.0000,9,  2354.0,6,  2365.8,2,   7.3405,2,    25.02,2, -999.00,9,  -999.0,9, -999.00,9, -999.00,9,     -999.0,9, 20220707,     1011,  30.2516,-122.6177,     4.1329,2,     -999.0,9,     -999.0,9,     -999.0,9,     -999.0,9,     0.0134,1,     4.6885,1,     -999.0,9,     -999.0,9,     -999.0,9,     -999.0,9,     -999.0,9
33RR20220613,       P02E,     185,          2,         18,         18,2,20220707,       0901,    30.2516,  -122.6177,       3825,  1010.2,2,   3.8680,2,  34.4848,2,  34.4836,2,     25.1,2,    25.0,2,  119.56,2,   43.38,2,    0.00,2,    3.21,2,-999.000,9,-999.000,9,-999.0000,9,  2358.9,2,  2372.4,2,   7.3483,2,    25.01,2, -999.00,9,  -999.0,9, -999.00,9, -999.00,9,     -999.0,9, 20220707,     1008,  30.2516,-122.6177,     3.8694,2,     -999.0,9,     -999.0,9,     -999.0,9,     -999.0,9,     0.0134,1,     4.6878,1,     -999.0,9,     -999.0,9,     -999.0,9,     -999.0,9,     -999.0,9
33RR20220613,       P02E,     185,          2,         17,         37,2,20220707,       0901,    30.2516,  -122.6177,       3825,  1111.0,2,   3.5642,2,  34.5099,2,  34.5091,2,     31.2,2,    31.1,2,  126.99,2,   43.27,2,    0.00,2,    3.17,2,-999.000,9,-999.000,9,-999.0000,9,  2364.1,2,  2380.3,2,   7.3589,2,    25.00,2, -999.00,9,  -999.0,9, -999.00,9, -999.00,9,     -999.0,9, 20220707,     1005,  30.2516,-122.6177,     3.5662,2,     -999.0,9,     -999.0,9,     -999.0,9,     -999.0,9,     0.0134,1,     4.6885,1,     -999.0,9,     -999.0,9,     -999.0,9,     -999.0,9,     -999.0,9
33RR20220613,       P02E,     185,          2,         16,         16,2,20220707,       0901,    30.2516,  -122.6177,       3825,  1212.2,2,   3.3526,2,  34.5273,2,  34.5272,2,     36.0,2,    36.0,2,  132.07,2,   43.13,2,    0.00,2,    3.15,2,-999.000,9,-999.000,9,-999.0000,9,  2366.9,2,  2386.9,6,   7.3671,2,    25.01,2, -999.00,9,  -999.0,9, -999.00,9, -999.00,9,     -999.0,9, 20220707,     1003,  30.2516,-122.6177,     3.3505,2,     -999.0,9,     -999.0,9,     -999.0,9,     -999.0,9,     0.0134,1,     4.6897,1,     -999.0,9,     -999.0,9,     -999.0,9,     -999.0,9,     -999.0,9
33RR20220613,       P02E,     185,          2,         15,         15,2,20220707,       0901,    30.2516,  -122.6177,       3825,  1313.3,2,   3.1084,2,  34.5457,2,  34.5449,2,     41.6,2,    41.9,2,  137.93,2,   42.89,2,    0.00,2,    3.12,2,-999.000,9,-999.000,9,-999.0000,9,  2367.7,2,  2393.4,2,   7.3802,2,    25.00,2, -999.00,9,  -999.0,9, -999.00,9, -999.00,9,     -999.0,9, 20220707,     1000,  30.2516,-122.6177,     3.1079,2,     -999.0,9,     -999.0,9,     -999.0,9,     -999.0,9,     0.0133,1,     4.6909,1,     -999.0,9,     -999.0,9,     -999.0,9,     -999.0,9,     -999.0,9
33RR20220613,       P02E,     185,          2,         14,         42,2,20220707,       0901,    30.2516,  -122.6177,       3825,  1415.4,2,   2.9378,2,  34.5579,2,  34.5569,2,     46.4,3,    45.9,2,  142.43,2,   42.64,2,    0.00,2,    3.09,2,-999.000,9,-999.000,9,-999.0000,9,  2370.4,2,  2396.7,2,   7.3882,2,    25.03,2, -999.00,9,  -999.0,9, -999.00,9, -999.00,9,     -999.0,9, 20220707,      957,  30.2516,-122.6177,     2.9373,2,     -999.0,9,     -999.0,9,     -999.0,9,     -999.0,9,     0.0132,1,     4.6905,1,     -999.0,9,     -999.0,9,     -999.0,9,     -999.0,9,     -999.0,9
33RR20220613,       P02E,     185,          2,         13,         13,2,20220707,       0901,    30.2516,  -122.6177,       3825,  1516.9,2,   2.7433,2,  34.5724,2,  34.5712,2,     52.3,2,    52.2,2,  147.12,2,   42.29,2,    0.00,2,    3.07,2,-999.000,9,-999.000,9,-999.0000,9,  2370.3,2,  2403.7,2,   7.3993,2,    25.01,2, -999.00,9,  -999.0,9, -999.00,9, -999.00,9,     -999.0,9, 20220707,      955,  30.2516,-122.6177,     2.7428,2,     -999.0,9,     -999.0,9,     -999.0,9,     -999.0,9,     0.0134,1,     4.6914,1,     -999.0,9,     -999.0,9,     -999.0,9,     -999.0,9,     -999.0,9
33RR20220613,       P02E,     185,          2,         12,         12,2,20220707,       0901,    30.2516,  -122.6177,       3825,  1618.3,2,   2.5945,2,  34.5837,2,  34.5830,2,     57.5,2,    57.3,2,  150.44,2,   42.01,2,    0.00,2,    3.03,2,-999.000,9,-999.000,9,-999.0000,9,  2370.9,2,  2407.4,2,   7.4103,2,    25.03,2, -999.00,9,  -999.0,9, -999.00,9, -999.00,9,     -999.0,9, 20220707,      952,  30.2516,-122.6177,     2.5941,2,     -999.0,9,     -999.0,9,     -999.0,9,     -999.0,9,     0.0134,1,     4.6921,1,     -999.0,9,     -999.0,9,     -999.0,9,     -999.0,9,     -999.0,9
33RR20220613,       P02E,     185,          2,         11,         11,2,20220707,       0901,    30.2516,  -122.6177,       3825,  1719.5,2,   2.4384,2,  34.5959,2,  34.5961,2,     63.9,2,    64.2,2,  153.86,2,   41.64,2,    0.00,2,    2.99,2,-999.000,9,-999.000,9,-999.0000,9,  2369.8,2,  2409.6,6,   7.4220,2,    25.03,2, -999.00,9,  -999.0,9, -999.00,9, -999.00,9,     -999.0,9, 20220707,      948,  30.2516,-122.6177,     2.4368,2,     -999.0,9,     -999.0,9,     -999.0,9,     -999.0,9,     0.0134,1,     4.6932,1,     -999.0,9,     -999.0,9,     -999.0,9,     -999.0,9,     -999.0,9
33RR20220613,       P02E,     185,          2,         10,         10,2,20220707,       0901,    30.2516,  -122.6177,       3825,  1820.3,2,   2.2863,2,  34.6091,2,  34.6075,2,     71.3,2,    71.2,2,  156.69,2,   41.34,2,    0.00,2,    2.95,2,-999.000,9,-999.000,9,-999.0000,9,  2370.7,2,  2415.2,2,   7.4362,2,    25.02,2, -999.00,9,  -999.0,9, -999.00,9, -999.00,9,     -999.0,9, 20220707,      945,  30.2516,-122.6177,     2.2863,2,     -999.0,9,     -999.0,9,     -999.0,9,     -999.0,9,     0.0134,1,     4.6928,1,     -999.0,9,     -999.0,9,     -999.0,9,     -999.0,9,     -999.0,9
33RR20220613,       P02E,     185,          2,          9,          9,2,20220707,       0901,    30.2516,  -122.6177,       3825,  2023.9,2,   2.0939,2,  34.6269,2,  34.6272,2,     82.8,2,    83.3,2,  160.11,2,   40.60,2,    0.00,2,    2.87,2,-999.000,9,-999.000,9,-999.0000,9,  2367.8,2,  2421.1,2,   7.4594,2,    25.03,2, -999.00,9,  -999.0,9, -999.00,9, -999.00,9,     -999.0,9, 20220707,      940,  30.2516,-122.6177,     2.0934,2,     -999.0,9,     -999.0,9,     -999.0,9,     -999.0,9,     0.0134,1,     4.6943,1,     -999.0,9,     -999.0,9,     -999.0,9,     -999.0,9,     -999.0,9
33RR20220613,       P02E,     185,          2,          8,          8,2,20220707,       0901,    30.2516,  -122.6177,       3825,  2278.4,2,   1.9173,2,  34.6428,2,  34.6421,2,     94.7,2,    94.7,2,  162.65,2,   39.89,2,    0.00,2,    2.81,2,-999.000,9,-999.000,9,-999.0000,9,  2364.1,2,  2425.4,2,   7.4825,2,    25.03,2, -999.00,9,  -999.0,9, -999.00,9, -999.00,9,     -999.0,9, 20220707,      936,  30.2516,-122.6177,     1.9170,2,     -999.0,9,     -999.0,9,     -999.0,9,     -999.0,9,     0.0123,1,     4.6946,1,     -999.0,9,     -999.0,9,     -999.0,9,     -999.0,9,     -999.0,9
33RR20220613,       P02E,     185,          2,          7,          7,2,20220707,       0901,    30.2516,  -122.6177,       3825,  2531.7,2,   1.7970,2,  34.6535,2,  34.6537,2,    104.1,2,   104.2,2,  164.41,2,   39.29,2,    0.00,2,    2.74,2,-999.000,9,-999.000,9,-999.0000,9,  2358.3,2,  2429.6,2,   7.5001,2,    25.02,2, -999.00,9,  -999.0,9, -999.00,9, -999.00,9,     -999.0,9, 20220707,      931,  30.2516,-122.6177,     1.7974,2,     -999.0,9,     -999.0,9,     -999.0,9,     -999.0,9,     0.0126,1,     4.6954,1,     -999.0,9,     -999.0,9,     -999.0,9,     -999.0,9,     -999.0,9
33RR20220613,       P02E,     185,          2,          6,          6,2,20220707,       0901,    30.2516,  -122.6177,       3825,  2786.6,2,   1.7070,2,  34.6608,2,  34.6616,2,    111.3,2,   111.3,2,  166.07,2,   38.95,2,    0.00,2,    2.70,2,-999.000,9,-999.000,9,-999.0000,9,  2355.5,2,  2429.2,2,   7.5136,2,    25.01,2, -999.00,9,  -999.0,9, -999.00,9, -999.00,9,     -999.0,9, 20220707,      924,  30.2516,-122.6177,     1.7076,2,     -999.0,9,     -999.0,9,     -999.0,9,     -999.0,9,     0.0134,1,     4.6958,1,     -999.0,9,     -999.0,9,     -999.0,9,     -999.0,9,     -999.0,9
33RR20220613,       P02E,     185,          2,          5,          5,2,20220707,       0901,    30.2516,  -122.6177,       3825,  3042.7,2,   1.6333,2,  34.6664,2,  34.6649,2,    118.0,2,   118.1,2,  167.54,2,   38.54,2,    0.00,2,    2.66,2,-999.000,9,-999.000,9,-999.0000,9,  2351.4,2,  2429.2,2,   7.5249,2,    25.02,2, -999.00,9,  -999.0,9, -999.00,9, -999.00,9,     -999.0,9, 20220707,      920,  30.2516,-122.6177,     1.6331,2,     -999.0,9,     -999.0,9,     -999.0,9,     -999.0,9,     0.0130,1,     4.6969,1,     -999.0,9,     -999.0,9,     -999.0,9,     -999.0,9,     -999.0,9