BOTTLE,20230830CCHSIOCBG
EXPOCODE,SECT_ID,STNNBR,CASTNO,SAMPNO,BTLNBR,BTLNBR_FLAG_W,DATE,TIME,LATITUDE,LONGITUDE,DEPTH,CTDPRS,CTDPRS_FLAG_W,CTDTMP,CTDTMP_FLAG_W,CTDSAL,CTDSAL_FLAG_W,SALNTY,SALNTY_FLAG_W,CTDOXY,CTDOXY_FLAG_W,OXYGEN,OXYGEN_FLAG_W,SILCAT,SILCAT_FLAG_W,NITRAT,NITRAT_FLAG_W,NITRIT,NITRIT_FLAG_W,PHSPHT,PHSPHT_FLAG_W,CFC-11,CFC-11_FLAG_W,CFC-12,CFC-12_FLAG_W,SF6,SF6_FLAG_W,TCARBN,TCARBN_FLAG_W,ALKALI,ALKALI_FLAG_W,PH_TOT,PH_TOT_FLAG_W,PH_TMP,PH_TMP_FLAG_W,DELC13,DELC13_FLAG_W,DELC14,DELC14_FLAG_W,DOC,DOC_FLAG_W,TDN,TDN_FLAG_W,N2O,N2O_FLAG_W,BTL_DATE,BTL_TIME,BTL_LAT,BTL_LON,REFTMP,REFTMP_FLAG_W,POC,POC_FLAG_W,PON,PON_FLAG_W,POP,POP_FLAG_W,PCOD,PCOD_FLAG_W,CTDFLUOR,CTDFLUOR_FLAG_W,CTDXMISS,CTDXMISS_FLAG_W,HPLC,HPLC_FLAG_W,DNA,DNA_FLAG_W,FCM,FCM_FLAG_W,IMAGES,IMAGES_FLAG_W,VIRAL_ABUNDANCE,VIRAL_ABUNDANCE_FLAG_W
,,,,,,,,,,,METERS,DBAR,,ITS-90,,PSS-78,,PSS-78,,UMOL/KG,,UMOL/KG,,UMOL/KG,,UMOL/KG,,UMOL/KG,,UMOL/KG,,PMOL/KG,,PMOL/KG,,FMOL/KG,,UMOL/KG,,UMOL/KG,,,,DEG C,,/MILLE,,/MILLE,,UMOL/KG,,UMOL/KG,,NMOL/KG,,,,,,ITS-90,,UG/L,,UG/L,,UG/L,,UG/L,,VOLTS,,VOLTS,,,,,,,,,,,
33RR20220613,       P02E,     164,          2,         36,         36,2,20220701,       0914,    30.0005,  -134.6546,       4725,     3.0,2,  20.4876,2,  33.6491,2,  33.6433,2,    231.7,2,   231.4,2,    1.37,2,    0.02,2,    0.00,2,    0.22,2,   1.981,2,   1.229,2,   2.0921,2,  2017.4,6,  2244.3,2,   7.9305,2,    25.00,2, -999.00,9,  -999.0,9, -999.00,1, -999.00,1,        7.8,2, 20220701,     1110,  30.0005,-134.6546,    20.4867,2,     -999.0,9,     -999.0,9,     -999.0,9,     -999.0,9,     0.0134,1,     4.6284,1,     -999.0,9,     -999.0,9,     -999.0,9,     -999.0,9,     -999.0,9
33RR20220613,       P02E,     164,          2,         35,         35,2,20220701,       0914,    30.0005,  -134.6546,       4725,    25.7,2,  20.5021,2,  33.6481,2,  33.6404,2,    231.6,2,   231.6,2,    1.37,2,    0.00,2,    0.00,2,    0.23,2,   1.998,2,   1.227,2,   2.0314,2,  2018.3,2,  2244.7,2,   7.9307,2,    25.02,2, -999.00,9,  -999.0,9, -999.00,1, -999.00,1,        7.8,2, 20220701,     1110,  30.0005,-134.6546,    20.5016,2,     -999.0,9,     -999.0,9,     -999.0,9,     -999.0,9,     0.0147,1,     4.6296,1,     -999.0,9,     -999.0,9,     -999.0,9,     -999.0,9,     -999.0,9
33RR20220613,       P02E,     164,          2,         34,         34,2,20220701,       0914,    30.0005,  -134.6546,       4725,    50.5,2,  18.6316,2,  33.7208,2,  33.7189,2,    251.0,2,   249.7,2,    1.47,2,    0.01,2,    0.00,2,    0.18,2,   2.225,2,   1.353,2,   2.1608,2,  2012.3,2,  2245.8,6,   7.9352,2,    25.02,2, -999.00,9,  -999.0,9, -999.00,1, -999.00,1,        8.4,2, 20220701,     1108,  30.0005,-134.6546,    18.6322,2,     -999.0,9,     -999.0,9,     -999.0,9,     -999.0,9,     0.0159,1,     4.6225,1,     -999.0,9,     -999.0,9,     -999.0,9,     -999.0,9,     -999.0,9
33RR20220613,       P02E,     164,          2,         33,         33,2,20220701,       0914,    30.0005,  -134.6546,       4725,    75.2,2,  17.7926,2,  33.9189,2,  33.9066,2,    246.7,2,   247.0,2,    1.56,2,    0.01,2,    0.00,2,    0.16,2,   2.241,2,   1.348,2,   2.1418,2,  2017.5,2,  2253.2,2,   7.9366,2,    25.01,2, -999.00,9,  -999.0,9, -999.00,1, -999.00,1,        8.2,2, 20220701,     1106,  30.0005,-134.6545,    17.8102,2,     -999.0,9,     -999.0,9,     -999.0,9,     -999.0,9,     0.0172,1,     4.6421,1,     -999.0,9,     -999.0,9,     -999.0,9,     -999.0,9,     -999.0,9
33RR20220613,       P02E,     164,          2,         32,         32,2,20220701,       0914,    30.0005,  -134.6546,       4725,   101.3,2,  17.6348,2,  34.0310,2,  34.0292,2,    241.9,2,   241.9,2,    1.76,2,    0.00,2,    0.00,2,    0.14,2,   2.184,2,   1.340,2,   2.1337,2,  2023.1,2,  2256.4,2,   7.9345,2,    25.01,2, -999.00,9,  -999.0,9, -999.00,1, -999.00,1,        8.3,2, 20220701,     1104,  30.0005,-134.6545,    17.6333,2,     -999.0,9,     -999.0,9,     -999.0,9,     -999.0,9,     0.0208,1,     4.6535,1,     -999.0,9,     -999.0,9,     -999.0,9,     -999.0,9,     -999.0,9
33RR20220613,       P02E,     164,          2,         31,         31,2,20220701,       0914,    30.0005,  -134.6546,       4725,   151.4,2,  16.1536,2,  33.9523,3,  33.9304,2,    230.9,2,   232.2,2,    2.44,2,    0.63,2,    0.12,2,    0.24,2,   2.373,2,   1.452,2,   2.3190,2,  2037.3,2,  2246.8,2,   7.8921,2,    25.00,2, -999.00,9,  -999.0,9, -999.00,1, -999.00,1,       10.4,2, 20220701,     1102,  30.0005,-134.6546,    16.1283,2,     -999.0,9,     -999.0,9,     -999.0,9,     -999.0,9,     0.0253,1,     4.6664,1,     -999.0,9,     -999.0,9,     -999.0,9,     -999.0,9,     -999.0,9
33RR20220613,       P02E,     164,          2,         30,         17,2,20220701,       0914,    30.0005,  -134.6546,       4725,   202.0,2,  11.3130,2,  33.5149,2,  33.5165,2,    213.8,2,   214.0,2,    8.31,2,    9.61,2,    0.00,2,    0.88,2,   2.926,2,   1.757,2,   2.3821,2,  2082.4,2,  2225.1,2,   7.7392,2,    25.01,2, -999.00,9,  -999.0,9, -999.00,1, -999.00,1,       13.9,2, 20220701,     1101,  30.0005,-134.6545,    11.3401,3,     -999.0,9,     -999.0,9,     -999.0,9,     -999.0,9,     0.0147,1,     4.6837,1,     -999.0,9,     -999.0,9,     -999.0,9,     -999.0,9,     -999.0,9
33RR20220613,       P02E,     164,          2,         29,         29,2,20220701,       0914,    30.0005,  -134.6546,       4725,   252.3,2,   9.5194,2,  33.8443,2,  33.8382,2,    186.8,2,   186.7,2,   18.67,2,   17.90,2,    0.00,2,    1.36,2,   3.065,2,   1.834,2,   2.0093,2,  -999.0,9,  -999.0,9,-999.0000,9,  -999.00,9, -999.00,9,  -999.0,9, -999.00,1, -999.00,1,       19.7,2, 20220701,     1059,  30.0005,-134.6546,     9.5180,2,     -999.0,9,     -999.0,9,     -999.0,9,     -999.0,9,     0.0122,1,     4.6897,1,     -999.0,9,     -999.0,9,     -999.0,9,     -999.0,9,     -999.0,9
33RR20220613,       P02E,     164,          2,         28,         28,2,20220701,       0914,    30.0005,  -134.6546,       4725,   301.9,2,   8.8171,2,  33.9593,2,  33.9594,2,    175.3,2,   175.1,2,   25.42,2,   21.05,2,    0.00,2,    1.53,2,   3.058,2,   1.802,2,   1.7357,2,  2155.4,2,  2255.9,2,   7.6173,2,    25.02,2, -999.00,9,  -999.0,9, -999.00,1, -999.00,1,       24.0,2, 20220701,     1057,  30.0005,-134.6546,     8.8175,2,     -999.0,9,     -999.0,9,     -999.0,9,     -999.0,9,     0.0122,1,     4.6911,1,     -999.0,9,     -999.0,9,     -999.0,9,     -999.0,9,     -999.0,9
33RR20220613,       P02E,     164,          2,         27,         27,2,20220701,       0914,    30.0005,  -134.6546,       4725,   353.5,2,   7.8597,2,  33.9998,2,  33.9961,2,    132.3,2,   132.6,2,   37.83,2,   27.15,2,    0.00,2,    1.97,2,   2.739,2,   1.638,2,   1.3026,2,  -999.0,9,  -999.0,9,-999.0000,9,  -999.00,9, -999.00,9,  -999.0,9, -999.00,1, -999.00,1,       31.1,2, 20220701,     1056,  30.0005,-134.6546,     7.8658,2,     -999.0,9,     -999.0,9,     -999.0,9,     -999.0,9,     0.0125,1,     4.6908,1,     -999.0,9,     -999.0,9,     -999.0,9,     -999.0,9,     -999.0,9
33RR20220613,       P02E,     164,          2,         26,         26,2,20220701,       0914,    30.0005,  -134.6546,       4725,   403.5,2,   6.9362,2,  34.0201,2,  34.0211,2,     89.4,2,    88.8,2,   51.32,2,   32.89,2,    0.00,2,    2.40,2,   2.291,2,   1.332,2,   0.8870,2,  2243.2,2,  2277.1,2,   7.4197,2,    25.01,2, -999.00,9,  -999.0,9, -999.00,1, -999.00,1,       36.2,2, 20220701,     1054,  30.0005,-134.6546,     6.9393,2,     -999.0,9,     -999.0,9,     -999.0,9,     -999.0,9,     0.0134,1,     4.6908,1,     -999.0,9,     -999.0,9,     -999.0,9,     -999.0,9,     -999.0,9
33RR20220613,       P02E,     164,          2,         25,         25,2,20220701,       0914,    30.0005,  -134.6546,       4725,   453.9,2,   6.1838,2,  34.0476,2,  34.0437,2,     61.9,3,    63.8,2,   62.76,2,   36.50,2,    0.00,2,    2.69,2,-999.000,5,-999.000,5,-999.0000,5,  -999.0,9,  -999.0,9,-999.0000,9,  -999.00,9, -999.00,9,  -999.0,9, -999.00,1, -999.00,1,     -999.0,5, 20220701,     1052,  30.0005,-134.6546,     6.1824,2,     -999.0,9,     -999.0,9,     -999.0,9,     -999.0,9,     0.0134,1,     4.6914,1,     -999.0,9,     -999.0,9,     -999.0,9,     -999.0,9,     -999.0,9
33RR20220613,       P02E,     164,          2,         24,         24,2,20220701,       0914,    30.0005,  -134.6546,       4725,   504.2,2,   5.7091,2,  34.0812,2,  34.0768,2,     47.0,3,    47.7,2,   71.56,2,   38.63,2,    0.00,2,    2.85,2,   1.485,2,   0.829,2,   0.4924,2,  2288.9,2,  2297.2,2,   7.3365,2,    25.03,2, -999.00,9,  -999.0,9, -999.00,1, -999.00,1,       44.4,2, 20220701,     1050,  30.0005,-134.6546,     5.7040,2,     -999.0,9,     -999.0,9,     -999.0,9,     -999.0,9,     0.0134,1,     4.6922,1,     -999.0,9,     -999.0,9,     -999.0,9,     -999.0,9,     -999.0,9
33RR20220613,       P02E,     164,          2,         23,         23,2,20220701,       0914,    30.0005,  -134.6546,       4725,   604.3,2,   5.0568,2,  34.1728,2,  34.1793,2,     23.3,3,    23.6,2,   87.39,2,   41.61,2,    0.00,2,    3.08,2,   0.702,2,   0.384,2,   0.2106,2,  -999.0,9,  -999.0,9,-999.0000,9,  -999.00,9, -999.00,9,  -999.0,9, -999.00,1, -999.00,1,       51.6,2, 20220701,     1046,  30.0005,-134.6546,     5.0593,2,     -999.0,9,     -999.0,9,     -999.0,9,     -999.0,9,     0.0134,1,     4.6932,1,     -999.0,9,     -999.0,9,     -999.0,9,     -999.0,9,     -999.0,9
33RR20220613,       P02E,     164,          2,         22,         22,2,20220701,       0914,    30.0005,  -134.6546,       4725,   706.3,2,   4.6011,2,  34.2612,2,  34.2572,2,     13.6,3,    13.3,2,  100.28,2,   43.10,2,    0.00,2,    3.20,2,   0.244,2,   0.138,2,   0.2209,2,  2339.1,2,  2334.4,2,   7.2962,2,    25.01,2, -999.00,9,  -999.0,9, -999.00,1, -999.00,1,       55.8,2, 20220701,     1044,  30.0005,-134.6546,     4.6025,2,     -999.0,9,     -999.0,9,     -999.0,9,     -999.0,9,     0.0134,1,     4.6937,1,     -999.0,9,     -999.0,9,     -999.0,9,     -999.0,9,     -999.0,9
33RR20220613,       P02E,     164,          2,         21,         21,2,20220701,       0914,    30.0005,  -134.6546,       4725,   806.9,2,   4.2828,2,  34.3398,2,  34.3370,2,     12.6,3,    12.2,2,  108.68,2,   43.72,2,    0.00,2,    3.23,2,   0.072,2,   0.044,2,   0.0000,2,  2349.6,2,  2348.8,2,   7.3057,2,    25.02,2, -999.00,9,  -999.0,9, -999.00,1, -999.00,1,       57.3,2, 20220701,     1042,  30.0005,-134.6546,     4.2826,2,     -999.0,9,     -999.0,9,     -999.0,9,     -999.0,9,     0.0134,1,     4.6939,1,     -999.0,9,     -999.0,9,     -999.0,9,     -999.0,9,     -999.0,9
33RR20220613,       P02E,     164,          2,         20,         20,2,20220701,       0914,    30.0005,  -134.6546,       4725,   908.4,2,   4.0010,2,  34.4063,2,  34.4051,2,     18.4,3,    18.2,2,  115.23,2,   43.96,2,    0.00,2,    3.20,2,   0.024,2,   0.016,2,   0.0000,2,  2355.5,2,  2360.1,2,   7.3255,2,    25.02,2, -999.00,9,  -999.0,9, -999.00,1, -999.00,1,       54.0,2, 20220701,     1039,  30.0005,-134.6545,     4.0001,2,     -999.0,9,     -999.0,9,     -999.0,9,     -999.0,9,     0.0134,1,     4.6944,1,     -999.0,9,     -999.0,9,     -999.0,9,     -999.0,9,     -999.0,9
33RR20220613,       P02E,     164,          2,         19,         39,2,20220701,       0914,    30.0005,  -134.6546,       4725,  1009.6,2,   3.7438,2,  34.4559,2,  34.4544,2,     26.3,2,    26.4,2,  120.60,2,   43.78,2,    0.00,2,    3.17,2,   0.016,2,   0.012,2,   0.0000,2,  2359.2,2,  2369.8,2,   7.3464,2,    25.00,2, -999.00,9,  -999.0,9, -999.00,1, -999.00,1,       50.5,2, 20220701,     1036,  30.0005,-134.6546,     3.7452,2,     -999.0,9,     -999.0,9,     -999.0,9,     -999.0,9,     0.0134,1,     4.6954,1,     -999.0,9,     -999.0,9,     -999.0,9,     -999.0,9,     -999.0,9
33RR20220613,       P02E,     164,          2,         18,         18,2,20220701,       0914,    30.0005,  -134.6546,       4725,  1111.4,2,   3.5000,2,  34.4902,2,  34.4891,2,     34.6,2,    34.8,2,  125.19,2,   43.48,2,    0.00,2,    3.16,2,-999.000,9,-999.000,9,-999.0000,9,  2360.9,2,  2378.3,2,   7.3627,2,    25.01,2, -999.00,9,  -999.0,9, -999.00,1, -999.00,1,     -999.0,9, 20220701,     1033,  30.0005,-134.6546,     3.4961,2,     -999.0,9,     -999.0,9,     -999.0,9,     -999.0,9,     0.0134,1,     4.6964,1,     -999.0,9,     -999.0,9,     -999.0,9,     -999.0,9,     -999.0,9
33RR20220613,       P02E,     164,          2,         17,         37,2,20220701,       0914,    30.0005,  -134.6546,       4725,  1212.2,2,   3.3410,2,  34.5112,2,  34.5093,2,     39.4,2,    39.6,2,  129.00,2,   43.32,2,    0.00,2,    3.11,2,   0.010,2,   0.010,2,   0.0000,2,  2361.4,2,  2382.9,2,   7.3757,2,    25.01,2, -999.00,9,  -999.0,9, -999.00,1, -999.00,1,       44.5,2, 20220701,     1030,  30.0005,-134.6546,     3.3403,2,     -999.0,9,     -999.0,9,     -999.0,9,     -999.0,9,     0.0134,1,     4.6966,1,     -999.0,9,     -999.0,9,     -999.0,9,     -999.0,9,     -999.0,9
33RR20220613,       P02E,     164,          2,         16,         16,2,20220701,       0914,    30.0005,  -134.6546,       4725,  1313.0,2,   3.1541,2,  34.5293,2,  34.5292,2,     44.6,2,    44.4,2,  133.49,2,   43.10,2,    0.00,2,    3.09,2,-999.000,9,-999.000,9,-999.0000,9,  2363.4,2,  2387.0,2,   7.3843,2,    25.00,2, -999.00,9,  -999.0,9, -999.00,1, -999.00,1,     -999.0,9, 20220701,     1027,  30.0005,-134.6546,     3.1540,2,     -999.0,9,     -999.0,9,     -999.0,9,     -999.0,9,     0.0134,1,     4.6971,1,     -999.0,9,     -999.0,9,     -999.0,9,     -999.0,9,     -999.0,9
33RR20220613,       P02E,     164,          2,         15,         15,2,20220701,       0914,    30.0005,  -134.6546,       4725,  1414.0,2,   2.9545,2,  34.5478,2,  34.5459,2,     48.8,2,    49.0,2,  137.79,2,   42.96,2,    0.00,2,    3.07,2,   0.005,2,   0.004,2,   0.0000,2,  -999.0,9,  -999.0,9,-999.0000,9,  -999.00,9, -999.00,9,  -999.0,9, -999.00,1, -999.00,1,       40.6,2, 20220701,     1025,  30.0005,-134.6545,     2.9546,2,     -999.0,9,     -999.0,9,     -999.0,9,     -999.0,9,     0.0134,1,     4.6971,1,     -999.0,9,     -999.0,9,     -999.0,9,     -999.0,9,     -999.0,9
33RR20220613,       P02E,     164,          2,         14,         42,2,20220701,       0914,    30.0005,  -134.6546,       4725,  1516.4,2,   2.7588,2,  34.5622,2,  34.5637,2,     53.9,2,    53.9,2,  143.46,2,   42.64,2,    0.00,2,    3.03,2,-999.000,9,-999.000,9,-999.0000,9,  2368.3,2,  2398.1,2,   7.4024,2,    25.00,2, -999.00,9,  -999.0,9, -999.00,1, -999.00,1,     -999.0,9, 20220701,     1022,  30.0005,-134.6545,     2.7580,2,     -999.0,9,     -999.0,9,     -999.0,9,     -999.0,9,     0.0134,1,     4.6982,1,     -999.0,9,     -999.0,9,     -999.0,9,     -999.0,9,     -999.0,9
33RR20220613,       P02E,     164,          2,         13,         13,2,20220701,       0914,    30.0005,  -134.6546,       4725,  1617.6,2,   2.5812,2,  34.5741,2,  34.5728,2,     59.1,2,    59.0,2,  148.05,2,   42.47,2,    0.00,2,    3.01,2,   0.004,2,   0.004,2,   0.0000,2,  -999.0,9,  -999.0,9,-999.0000,9,  -999.00,9, -999.00,9,  -999.0,9, -999.00,1, -999.00,1,       37.5,2, 20220701,     1019,  30.0005,-134.6545,     2.5807,2,     -999.0,9,     -999.0,9,     -999.0,9,     -999.0,9,     0.0134,1,     4.6985,1,     -999.0,9,     -999.0,9,     -999.0,9,     -999.0,9,     -999.0,9
33RR20220613,       P02E,     164,          2,         12,         12,2,20220701,       0914,    30.0005,  -134.6546,       4725,  1819.9,2,   2.2863,2,  34.5996,2,  34.5985,2,     69.3,2,    69.6,2,  156.35,2,   41.83,2,    0.00,2,    2.94,2,-999.000,9,-999.000,9,-999.0000,9,  2370.7,2,  2412.8,6,   7.4325,2,    25.01,2, -999.00,9,  -999.0,9, -999.00,1, -999.00,1,     -999.0,9, 20220701,     1015,  30.0005,-134.6546,     2.2858,2,     -999.0,9,     -999.0,9,     -999.0,9,     -999.0,9,     0.0134,1,     4.6995,1,     -999.0,9,     -999.0,9,     -999.0,9,     -999.0,9,     -999.0,9
33RR20220613,       P02E,     164,          2,         11,         11,2,20220701,       0914,    30.0005,  -134.6546,       4725,  2023.7,2,   2.0598,2,  34.6169,2,  34.6164,2,     79.1,2,    79.3,2,  161.72,2,   41.17,2,    0.00,2,    2.88,2,   0.004,2,   0.003,2,   0.0000,2,  -999.0,9,  -999.0,9,-999.0000,9,  -999.00,9, -999.00,9,  -999.0,9, -999.00,1, -999.00,1,       31.9,2, 20220701,     1009,  30.0005,-134.6545,     2.0588,2,     -999.0,9,     -999.0,9,     -999.0,9,     -999.0,9,     0.0134,1,     4.6996,1,     -999.0,9,     -999.0,9,     -999.0,9,     -999.0,9,     -999.0,9
33RR20220613,       P02E,     164,          2,         10,         10,2,20220701,       0914,    30.0005,  -134.6546,       4725,  2277.5,2,   1.8576,2,  34.6360,2,  34.6341,2,     91.4,2,    91.2,2,  165.73,2,   40.38,2,    0.00,2,    2.81,2,-999.000,9,-999.000,9,-999.0000,9,  2365.3,2,  2423.6,2,   7.4727,2,    25.01,2, -999.00,9,  -999.0,9, -999.00,1, -999.00,1,     -999.0,9, 20220701,     1005,  30.0005,-134.6546,     1.8575,2,     -999.0,9,     -999.0,9,     -999.0,9,     -999.0,9,     0.0133,1,     4.7006,1,     -999.0,9,     -999.0,9,     -999.0,9,     -999.0,9,     -999.0,9
33RR20220613,       P02E,     164,          2,          9,          9,2,20220701,       0914,    30.0005,  -134.6546,       4725,  2533.0,2,   1.7340,2,  34.6513,2,  34.6494,2,    102.7,2,   102.7,2,  166.02,2,   39.70,2,    0.00,2,    2.78,2,   0.005,2,   0.004,2,   0.0000,2,  -999.0,9,  -999.0,9,-999.0000,9,  -999.00,9, -999.00,9,  -999.0,9, -999.00,1, -999.00,1,       26.8,2, 20220701,     1000,  30.0005,-134.6546,     1.7340,2,     -999.0,9,     -999.0,9,     -999.0,9,     -999.0,9,     0.0126,1,     4.7014,1,     -999.0,9,     -999.0,9,     -999.0,9,     -999.0,9,     -999.0,9
33RR20220613,       P02E,     164,          2,          8,          8,2,20220701,       0914,    30.0005,  -134.6546,       4725,  2787.7,2,   1.6190,2,  34.6607,3,  34.6578,2,    111.2,2,   111.5,2,  168.75,2,   39.12,2,    0.00,2,    2.72,2,-999.000,9,-999.000,9,-999.0000,9,  2355.3,2,  2430.1,2,   7.5116,2,    24.99,2, -999.00,9,  -999.0,9, -999.00,1, -999.00,1,     -999.0,9, 20220701,      955,  30.0005,-134.6546,     1.6194,2,     -999.0,9,     -999.0,9,     -999.0,9,     -999.0,9,     0.0122,1,     4.7018,1,     -999.0,9,     -999.0,9,     -999.0,9,     -999.0,9,     -999.0,9
33RR20220613,       P02E,     164,          2,          7,          7,2,20220701,       0914,    30.0005,  -134.6546,       4725,  3043.3,2,   1.5543,2,  34.6676,2,  34.6669,2,    118.9,2,   118.9,2,  169.53,2,   38.69,2,    0.00,2,    2.68,2,   0.006,2,   0.006,2,   0.0000,2,  -999.0,9,  -999.0,9,-999.0000,9,  -999.00,9, -999.00,9,  -999.0,9, -999.00,1, -999.00,1,       24.2,2, 20220701,      949,  30.0005,-134.6546,     1.5541,2,     -999.0,9,     -999.0,9,     -999.0,9,     -999.0,9,     0.0124,1,     4.7019,1,     -999.0,9,     -999.0,9,     -999.0,9,     -999.0,9,     -999.0,9
33RR20220613,       P02E,     164,          2,          6,          6,2,20220701,       0914,    30.0005,  -134.6546,       4725,  3350.8,2,   1.4956,2,  34.6754,2,  34.6736,2,    129.8,2,   129.8,2,  166.11,2,   38.22,2,    0.00,2,    2.61,2,-999.000,9,-999.000,9,-999.0000,9,  2346.3,2,  2429.1,2,   7.5443,2,    24.99,2, -999.00,9,  -999.0,9, -999.00,1, -999.00,1,     -999.0,9, 20220701,      943,  30.0005,-134.6546,     1.4955,2,     -999.0,9,     -999.0,9,     -999.0,9,     -999.0,9,     0.0122,1,     4.7022,1,     -999.0,9,     -999.0,9,     -999.0,9,     -999.0,9,     -999.0,9
33RR20220613,       P02E,     164,          2,          5,          5,2,20220701,       0914,    30.0005,  -134.6546,       4725,  3655.4,2,   1.4753,2,  34.6809,2,  34.6793,2,    137.6,2,   137.8,2,  163.47,2,   37.74,2,    0.00,2,    2.57,2,   0.005,2,   0.008,2,   0.0000,2,  -999.0,9,  -999.0,9,-999.0000,9,  -999.00,9, -999.00,9,  -999.0,9, -999.00,1, -999.00,1,       23.0,2, 20220701,      937,  30.0005,-134.6546,     1.4753,2,     -999.0,9,     -999.0,9,     -999.0,9,     -999.0,9,     0.0130,1,     4.7021,1,     -999.0,9,     -999.0,9,     -999.0,9,     -999.0,9,     -999.0,9