BOTTLE,20230830CCHSIOCBG
EXPOCODE,SECT_ID,STNNBR,CASTNO,SAMPNO,BTLNBR,BTLNBR_FLAG_W,DATE,TIME,LATITUDE,LONGITUDE,DEPTH,CTDPRS,CTDPRS_FLAG_W,CTDTMP,CTDTMP_FLAG_W,CTDSAL,CTDSAL_FLAG_W,SALNTY,SALNTY_FLAG_W,CTDOXY,CTDOXY_FLAG_W,OXYGEN,OXYGEN_FLAG_W,SILCAT,SILCAT_FLAG_W,NITRAT,NITRAT_FLAG_W,NITRIT,NITRIT_FLAG_W,PHSPHT,PHSPHT_FLAG_W,CFC-11,CFC-11_FLAG_W,CFC-12,CFC-12_FLAG_W,SF6,SF6_FLAG_W,TCARBN,TCARBN_FLAG_W,ALKALI,ALKALI_FLAG_W,PH_TOT,PH_TOT_FLAG_W,PH_TMP,PH_TMP_FLAG_W,DELC13,DELC13_FLAG_W,DELC14,DELC14_FLAG_W,DOC,DOC_FLAG_W,TDN,TDN_FLAG_W,N2O,N2O_FLAG_W,BTL_DATE,BTL_TIME,BTL_LAT,BTL_LON,REFTMP,REFTMP_FLAG_W,POC,POC_FLAG_W,PON,PON_FLAG_W,POP,POP_FLAG_W,PCOD,PCOD_FLAG_W,CTDFLUOR,CTDFLUOR_FLAG_W,CTDXMISS,CTDXMISS_FLAG_W,HPLC,HPLC_FLAG_W,DNA,DNA_FLAG_W,FCM,FCM_FLAG_W,IMAGES,IMAGES_FLAG_W,VIRAL_ABUNDANCE,VIRAL_ABUNDANCE_FLAG_W
,,,,,,,,,,,METERS,DBAR,,ITS-90,,PSS-78,,PSS-78,,UMOL/KG,,UMOL/KG,,UMOL/KG,,UMOL/KG,,UMOL/KG,,UMOL/KG,,PMOL/KG,,PMOL/KG,,FMOL/KG,,UMOL/KG,,UMOL/KG,,,,DEG C,,/MILLE,,/MILLE,,UMOL/KG,,UMOL/KG,,NMOL/KG,,,,,,ITS-90,,UG/L,,UG/L,,UG/L,,UG/L,,VOLTS,,VOLTS,,,,,,,,,,,
33RR20220613,       P02E,     180,          1,         36,         36,2,20220705,       2257,    30.0003,  -125.4144,       4357,     3.3,2,  19.3792,2,  33.4200,2,  33.4228,2,    239.5,2,   237.7,2,    0.98,2,    0.01,2,    0.00,2,    0.27,2,   2.101,2,   1.318,2,   2.1989,2,  2017.3,6,  2238.9,2,   7.9141,2,    25.01,2, -999.00,1,  -999.0,1, -999.00,1, -999.00,1,        8.1,2, 20220706,       59,  30.0003,-125.4144,    19.3389,2,     -999.0,9,     -999.0,9,     -999.0,9,     -999.0,9,     0.0134,1,     4.6141,1,     -999.0,9,     -999.0,9,     -999.0,9,     -999.0,9,     -999.0,9
33RR20220613,       P02E,     180,          1,         35,         35,2,20220705,       2257,    30.0003,  -125.4144,       4357,    35.6,2,  18.5256,2,  33.4137,2,  33.4119,2,    240.2,2,   240.4,2,    0.68,2,    0.02,2,    0.00,2,    0.28,2,   2.152,2,   1.329,2,   2.2205,2,  2016.7,2,  2234.8,2,   7.9130,2,    25.01,2, -999.00,1,  -999.0,1, -999.00,1, -999.00,1,        8.1,2, 20220706,       57,  30.0003,-125.4144,    18.5407,2,     -999.0,9,     -999.0,9,     -999.0,9,     -999.0,9,     0.0134,1,     4.6123,1,     -999.0,9,     -999.0,9,     -999.0,9,     -999.0,9,     -999.0,9
33RR20220613,       P02E,     180,          1,         34,         34,2,20220705,       2257,    30.0003,  -125.4144,       4357,    61.7,2,  18.0218,2,  33.3952,2,  33.3955,2,    244.1,2,   244.4,2,    0.88,2,    0.01,2,    0.00,2,    0.27,2,-999.000,9,-999.000,9,-999.0000,9,  2016.3,2,  2234.5,2,   7.9135,2,    25.01,2, -999.00,1,  -999.0,1, -999.00,1, -999.00,1,     -999.0,9, 20220706,       54,  30.0003,-125.4144,    18.0200,2,     -999.0,9,     -999.0,9,     -999.0,9,     -999.0,9,     0.0168,1,     4.6081,1,     -999.0,9,     -999.0,9,     -999.0,9,     -999.0,9,     -999.0,9
33RR20220613,       P02E,     180,          1,         33,         33,2,20220705,       2257,    30.0003,  -125.4144,       4357,    86.1,2,  16.7084,2,  33.3459,2,  33.3410,2,    248.3,2,   248.3,2,    0.88,2,    0.00,2,    0.00,2,    0.28,2,   2.319,2,   1.421,2,   2.2961,2,  2015.7,2,  2229.4,2,   7.9067,2,    25.02,2, -999.00,1,  -999.0,1, -999.00,1, -999.00,1,        8.7,2, 20220706,       52,  30.0003,-125.4144,    16.7228,2,     -999.0,9,     -999.0,9,     -999.0,9,     -999.0,9,     0.0257,1,     4.6220,1,     -999.0,9,     -999.0,9,     -999.0,9,     -999.0,9,     -999.0,9
33RR20220613,       P02E,     180,          1,         32,         32,2,20220705,       2257,    30.0003,  -125.4144,       4357,   110.6,2,  15.7960,2,  33.2490,2,  33.2617,2,    249.2,2,   248.9,2,    1.08,2,    0.00,2,    0.01,2,    0.30,2,-999.000,9,-999.000,9,-999.0000,9,  2016.8,2,  2223.5,2,   7.8964,2,    25.00,2, -999.00,1,  -999.0,1, -999.00,1, -999.00,1,     -999.0,9, 20220706,       50,  30.0003,-125.4144,    15.8667,3,     -999.0,9,     -999.0,9,     -999.0,9,     -999.0,9,     0.0305,1,     4.6395,1,     -999.0,9,     -999.0,9,     -999.0,9,     -999.0,9,     -999.0,9
33RR20220613,       P02E,     180,          1,         31,         31,2,20220705,       2257,    30.0003,  -125.4144,       4357,   135.8,2,  14.2347,2,  33.1570,2,  33.1589,2,    244.3,2,   244.5,2,    1.86,2,    0.65,2,    0.08,2,    0.41,2,   2.563,2,   1.593,2,   2.4264,2,  2027.0,2,  2213.5,2,   7.8534,2,    25.00,2, -999.00,1,  -999.0,1, -999.00,1, -999.00,1,       10.6,2, 20220706,       48,  30.0003,-125.4144,    14.2114,2,     -999.0,9,     -999.0,9,     -999.0,9,     -999.0,9,     0.0345,1,     4.6519,1,     -999.0,9,     -999.0,9,     -999.0,9,     -999.0,9,     -999.0,9
33RR20220613,       P02E,     180,          1,         30,         17,2,20220705,       2257,    30.0003,  -125.4144,       4357,   165.9,2,  12.3350,2,  33.3734,3,  33.3978,2,    215.9,2,   215.8,2,    5.87,2,    7.21,2,    0.03,2,    0.78,2,   2.786,2,   1.704,2,   2.3395,2,  2070.4,2,  2219.6,6,   7.7605,2,    25.01,2, -999.00,1,  -999.0,1, -999.00,1, -999.00,1,       13.2,2, 20220706,       47,  30.0003,-125.4144,    12.3318,2,     -999.0,9,     -999.0,9,     -999.0,9,     -999.0,9,     0.0208,1,     4.6757,1,     -999.0,9,     -999.0,9,     -999.0,9,     -999.0,9,     -999.0,9
33RR20220613,       P02E,     180,          1,         29,         29,2,20220705,       2257,    30.0003,  -125.4144,       4357,   216.6,2,  10.2213,2,  33.6970,2,  33.7108,2,    179.6,2,   179.8,2,   15.35,2,   16.52,2,    0.01,2,    1.31,2,   2.941,2,   1.800,2,   2.1274,2,  2128.2,2,  2234.2,2,   7.6441,2,    25.01,2, -999.00,1,  -999.0,1, -999.00,1, -999.00,1,       19.2,2, 20220706,       45,  30.0003,-125.4143,    10.2289,2,     -999.0,9,     -999.0,9,     -999.0,9,     -999.0,9,     0.0134,1,     4.6849,1,     -999.0,9,     -999.0,9,     -999.0,9,     -999.0,9,     -999.0,9
33RR20220613,       P02E,     180,          1,         28,         28,2,20220705,       2257,    30.0003,  -125.4144,       4357,   266.8,2,   9.1128,2,  33.9413,2,  33.9428,2,    154.3,2,   154.3,2,   25.42,2,   22.22,2,    0.00,2,    1.63,2,   2.896,2,   1.765,2,   1.6701,2,  2164.3,2,  2252.4,2,   7.5824,2,    25.00,2, -999.00,1,  -999.0,1, -999.00,1, -999.00,1,       25.7,2, 20220706,       43,  30.0003,-125.4144,     9.1107,2,     -999.0,9,     -999.0,9,     -999.0,9,     -999.0,9,     0.0128,1,     4.6871,1,     -999.0,9,     -999.0,9,     -999.0,9,     -999.0,9,     -999.0,9
33RR20220613,       P02E,     180,          1,         27,         27,2,20220705,       2257,    30.0003,  -125.4144,       4357,   317.0,2,   8.2379,2,  34.0249,2,  34.0284,2,    115.7,3,   113.7,2,   37.63,2,   27.83,2,    0.00,2,    2.05,2,   2.560,2,   1.549,2,   1.0449,2,  2210.0,2,  2266.1,2,   7.4904,2,    25.02,2, -999.00,1,  -999.0,1, -999.00,1, -999.00,1,       32.6,2, 20220706,       40,  30.0003,-125.4144,     8.2369,2,     -999.0,9,     -999.0,9,     -999.0,9,     -999.0,9,     0.0134,1,     4.6860,1,     -999.0,9,     -999.0,9,     -999.0,9,     -999.0,9,     -999.0,9
33RR20220613,       P02E,     180,          1,         26,         26,2,20220705,       2257,    30.0003,  -125.4144,       4357,   367.4,2,   7.5316,2,  34.0732,2,  34.0827,2,     75.9,2,    75.9,2,   48.29,2,   32.24,2,    0.00,2,    2.42,2,   2.096,2,   1.250,2,   0.7316,2,  -999.0,9,  -999.0,9,-999.0000,9,  -999.00,9, -999.00,1,  -999.0,1, -999.00,1, -999.00,1,       37.8,2, 20220706,       38,  30.0003,-125.4144,     7.5258,2,     -999.0,9,     -999.0,9,     -999.0,9,     -999.0,9,     0.0134,1,     4.6857,1,     -999.0,9,     -999.0,9,     -999.0,9,     -999.0,9,     -999.0,9
33RR20220613,       P02E,     180,          1,         25,         25,2,20220705,       2257,    30.0003,  -125.4144,       4357,   417.9,2,   7.0099,2,  34.1101,2,-999.0000,5,     54.1,2,    54.0,2,   56.49,2,   34.82,2,    0.00,2,    2.64,2,   1.712,2,   1.007,2,   0.5645,2,  -999.0,9,  -999.0,9,-999.0000,9,  -999.00,9, -999.00,1,  -999.0,1, -999.00,1, -999.00,1,       41.7,2, 20220706,       36,  30.0003,-125.4144,     7.0130,2,     -999.0,9,     -999.0,9,     -999.0,9,     -999.0,9,     0.0134,1,     4.6858,1,     -999.0,9,     -999.0,9,     -999.0,9,     -999.0,9,     -999.0,9
33RR20220613,       P02E,     180,          1,         24,         24,2,20220705,       2257,    30.0003,  -125.4144,       4357,   468.2,2,   6.5421,2,  34.1652,2,  34.1636,2,     33.2,3,    34.8,2,   64.99,2,   37.01,2,    0.00,2,    2.83,2,   1.195,2,   0.703,2,   0.4024,2,  2289.9,2,  2296.6,2,   7.3335,2,    25.02,2, -999.00,1,  -999.0,1, -999.00,1, -999.00,1,       45.2,2, 20220706,       34,  30.0003,-125.4144,     6.5435,2,     -999.0,9,     -999.0,9,     -999.0,9,     -999.0,9,     0.0134,1,     4.6875,1,     -999.0,9,     -999.0,9,     -999.0,9,     -999.0,9,     -999.0,9
33RR20220613,       P02E,     180,          1,         23,         23,2,20220705,       2257,    30.0003,  -125.4144,       4357,   539.0,2,   6.0133,2,  34.2187,2,  34.2179,2,     21.2,2,    21.4,2,   75.25,2,   39.04,2,    0.00,2,    3.00,2,   0.719,2,   0.404,2,   0.2675,2,  2310.7,2,  2309.3,2,   7.3151,2,    25.01,2, -999.00,1,  -999.0,1, -999.00,1, -999.00,1,       50.2,2, 20220706,       32,  30.0004,-125.4144,     6.0140,2,     -999.0,9,     -999.0,9,     -999.0,9,     -999.0,9,     0.0134,1,     4.6880,1,     -999.0,9,     -999.0,9,     -999.0,9,     -999.0,9,     -999.0,9
33RR20220613,       P02E,     180,          1,         22,         22,2,20220705,       2257,    30.0003,  -125.4144,       4357,   640.0,2,   5.4196,2,  34.2947,2,  34.2938,2,     13.1,3,    13.4,2,   87.17,2,   40.85,2,    0.00,2,    3.14,2,   0.269,2,   0.151,2,   0.1253,2,  2327.6,2,  2325.2,2,   7.3099,2,    24.99,2, -999.00,1,  -999.0,1, -999.00,1, -999.00,1,       55.0,2, 20220706,       29,  30.0003,-125.4144,     5.4196,2,     -999.0,9,     -999.0,9,     -999.0,9,     -999.0,9,     0.0134,1,     4.6894,1,     -999.0,9,     -999.0,9,     -999.0,9,     -999.0,9,     -999.0,9
33RR20220613,       P02E,     180,          1,         21,         21,2,20220705,       2257,    30.0003,  -125.4144,       4357,   741.4,2,   4.8497,2,  34.3528,2,  34.3523,2,     13.1,2,    13.0,2,   98.50,2,   42.28,2,    0.00,2,    3.20,2,   0.082,2,   0.048,2,   0.1163,2,  2339.2,2,  2342.1,2,   7.3166,2,    25.01,2, -999.00,1,  -999.0,1, -999.00,1, -999.00,1,       54.5,2, 20220706,       26,  30.0003,-125.4144,     4.8481,2,     -999.0,9,     -999.0,9,     -999.0,9,     -999.0,9,     0.0134,1,     4.6908,1,     -999.0,9,     -999.0,9,     -999.0,9,     -999.0,9,     -999.0,9
33RR20220613,       P02E,     180,          1,         20,         20,2,20220705,       2257,    30.0003,  -125.4144,       4357,   842.8,2,   4.5068,2,  34.4048,2,  34.4035,2,     15.8,2,    15.8,2,  105.44,2,   42.77,2,    0.01,2,    3.21,2,   0.033,2,   0.026,2,   0.0795,2,  -999.0,9,  -999.0,9,-999.0000,9,  -999.00,9, -999.00,1,  -999.0,1, -999.00,1, -999.00,1,       55.4,2, 20220706,       23,  30.0003,-125.4143,     4.5049,2,     -999.0,9,     -999.0,9,     -999.0,9,     -999.0,9,     0.0134,1,     4.6911,1,     -999.0,9,     -999.0,9,     -999.0,9,     -999.0,9,     -999.0,9
33RR20220613,       P02E,     180,          1,         19,         39,2,20220705,       2257,    30.0003,  -125.4144,       4357,   943.3,2,   4.2426,2,  34.4453,2,  34.4449,2,     19.8,2,    19.8,2,  111.40,2,   43.06,2,    0.00,2,    3.21,2,   0.022,2,   0.017,2,   0.0907,2,  2354.3,2,  2363.1,2,   7.3375,2,    25.00,2, -999.00,1,  -999.0,1, -999.00,1, -999.00,1,       53.5,2, 20220706,       20,  30.0003,-125.4144,     4.2444,2,     -999.0,9,     -999.0,9,     -999.0,9,     -999.0,9,     0.0134,1,     4.6914,1,     -999.0,9,     -999.0,9,     -999.0,9,     -999.0,9,     -999.0,9
33RR20220613,       P02E,     180,          1,         18,         18,2,20220705,       2257,    30.0003,  -125.4144,       4357,  1044.5,2,   3.9459,2,  34.4763,2,  34.4746,2,     25.7,2,    25.6,2,  117.35,2,   43.13,2,    0.00,2,    3.19,2,-999.000,9,-999.000,9,-999.0000,9,  -999.0,9,  -999.0,9,-999.0000,9,  -999.00,9, -999.00,1,  -999.0,1, -999.00,1, -999.00,1,     -999.0,9, 20220706,       16,  30.0003,-125.4144,     3.9460,2,     -999.0,9,     -999.0,9,     -999.0,9,     -999.0,9,     0.0134,1,     4.6923,1,     -999.0,9,     -999.0,9,     -999.0,9,     -999.0,9,     -999.0,9
33RR20220613,       P02E,     180,          1,         17,         37,2,20220705,       2257,    30.0003,  -125.4144,       4357,  1146.1,2,   3.6900,2,  34.4988,2,  34.4954,2,     30.8,3,    30.3,2,  122.63,2,   43.13,2,    0.00,2,    3.16,2,   0.011,2,   0.010,2,   0.0553,2,  2362.3,2,  2377.0,2,   7.3595,2,    25.02,2, -999.00,1,  -999.0,1, -999.00,1, -999.00,1,       48.6,2, 20220706,       14,  30.0004,-125.4144,     3.6890,2,     -999.0,9,     -999.0,9,     -999.0,9,     -999.0,9,     0.0134,1,     4.6933,1,     -999.0,9,     -999.0,9,     -999.0,9,     -999.0,9,     -999.0,9
33RR20220613,       P02E,     180,          1,         16,         16,2,20220705,       2257,    30.0003,  -125.4144,       4357,  1246.0,2,   3.4654,2,  34.5205,2,  34.5250,2,     35.0,2,    34.9,2,  128.39,2,   42.95,2,    0.00,2,    3.15,2,-999.000,9,-999.000,9,-999.0000,9,  -999.0,9,  -999.0,9,-999.0000,9,  -999.00,9, -999.00,1,  -999.0,1, -999.00,1, -999.00,1,     -999.0,9, 20220706,       11,  30.0003,-125.4143,     3.4636,2,     -999.0,9,     -999.0,9,     -999.0,9,     -999.0,9,     0.0134,1,     4.6937,1,     -999.0,9,     -999.0,9,     -999.0,9,     -999.0,9,     -999.0,9
33RR20220613,       P02E,     180,          1,         15,         15,2,20220705,       2257,    30.0003,  -125.4144,       4357,  1347.7,2,   3.2844,2,  34.5344,2,  34.5327,2,     38.7,2,    38.7,2,  133.28,2,   42.82,2,    0.00,2,    3.13,2,-999.000,5,-999.000,5,-999.0000,5,  2367.8,2,  2390.1,2,   7.3742,2,    25.02,2, -999.00,1,  -999.0,1, -999.00,1, -999.00,1,     -999.0,5, 20220706,        8,  30.0003,-125.4144,     3.2835,2,     -999.0,9,     -999.0,9,     -999.0,9,     -999.0,9,     0.0134,1,     4.6946,1,     -999.0,9,     -999.0,9,     -999.0,9,     -999.0,9,     -999.0,9
33RR20220613,       P02E,     180,          1,         14,         42,2,20220705,       2257,    30.0003,  -125.4144,       4357,  1449.1,2,   3.0216,2,  34.5531,2,  34.5502,2,     44.8,2,    45.1,2,  139.82,2,   42.51,2,    0.00,2,    3.10,2,-999.000,9,-999.000,9,-999.0000,9,  -999.0,9,  -999.0,9,-999.0000,9,  -999.00,9, -999.00,1,  -999.0,1, -999.00,1, -999.00,1,     -999.0,9, 20220706,        5,  30.0003,-125.4143,     3.0287,2,     -999.0,9,     -999.0,9,     -999.0,9,     -999.0,9,     0.0134,1,     4.6944,1,     -999.0,9,     -999.0,9,     -999.0,9,     -999.0,9,     -999.0,9
33RR20220613,       P02E,     180,          1,         13,         13,2,20220705,       2257,    30.0003,  -125.4144,       4357,  1550.8,2,   2.8187,2,  34.5667,2,  34.5639,2,     50.7,2,    50.7,2,  144.70,2,   42.21,2,    0.00,2,    3.06,2,-999.000,5,-999.000,5,-999.0000,5,  2372.8,2,  2401.3,2,   7.3978,2,    25.00,2, -999.00,1,  -999.0,1, -999.00,1, -999.00,1,     -999.0,5, 20220706,        2,  30.0003,-125.4144,     2.8199,2,     -999.0,9,     -999.0,9,     -999.0,9,     -999.0,9,     0.0134,1,     4.6957,1,     -999.0,9,     -999.0,9,     -999.0,9,     -999.0,9,     -999.0,9
33RR20220613,       P02E,     180,          1,         12,         12,2,20220705,       2257,    30.0003,  -125.4144,       4357,  1683.3,2,   2.6173,2,  34.5832,2,  34.5810,2,     57.5,2,    57.3,2,  149.59,2,   41.76,2,    0.00,2,    3.03,2,-999.000,9,-999.000,9,-999.0000,9,  2373.2,2,  2405.6,2,   7.4093,2,    25.00,2, -999.00,9,  -999.0,9, -999.00,1, -999.00,1,     -999.0,9, 20220705,     2359,  30.0003,-125.4144,     2.6154,2,     -999.0,9,     -999.0,9,     -999.0,9,     -999.0,9,     0.0134,1,     4.6960,1,     -999.0,9,     -999.0,9,     -999.0,9,     -999.0,9,     -999.0,9
33RR20220613,       P02E,     180,          1,         11,         11,2,20220705,       2257,    30.0003,  -125.4144,       4357,  1886.5,2,   2.3294,2,  34.6066,3,  34.6142,2,     69.9,2,    69.9,2,  156.03,2,   41.01,2,    0.00,2,    2.95,2,   0.005,2,   0.004,2,   0.0000,2,  2371.0,2,  2413.8,2,   7.4334,2,    25.01,2, -999.00,1,  -999.0,1, -999.00,1, -999.00,1,       33.6,2, 20220705,     2354,  30.0003,-125.4144,     2.3290,2,     -999.0,9,     -999.0,9,     -999.0,9,     -999.0,9,     0.0134,1,     4.6971,1,     -999.0,9,     -999.0,9,     -999.0,9,     -999.0,9,     -999.0,9
33RR20220613,       P02E,     180,          1,         10,         10,2,20220705,       2257,    30.0003,  -125.4144,       4357,  2110.3,2,   2.0729,2,  34.6280,2,  34.6278,2,     84.0,2,    84.3,2,  160.53,2,   40.06,2,    0.00,2,    2.87,2,-999.000,9,-999.000,9,-999.0000,9,  -999.0,9,  -999.0,9,-999.0000,9,  -999.00,9, -999.00,1,  -999.0,1, -999.00,1, -999.00,1,     -999.0,9, 20220705,     2347,  30.0003,-125.4144,     2.0726,2,     -999.0,9,     -999.0,9,     -999.0,9,     -999.0,9,     0.0134,1,     4.6983,1,     -999.0,9,     -999.0,9,     -999.0,9,     -999.0,9,     -999.0,9
33RR20220613,       P02E,     180,          1,          9,          9,2,20220705,       2257,    30.0003,  -125.4144,       4357,  2364.3,2,   1.8829,2,  34.6437,2,  34.6421,2,     95.9,2,    95.9,2,  163.16,2,   39.40,2,    0.00,2,    2.79,2,   0.003,2,   0.002,2,   0.0000,2,  2364.6,2,  2423.7,2,   7.4826,2,    25.02,2, -999.00,9,  -999.0,9, -999.00,1, -999.00,1,       28.3,2, 20220705,     2343,  30.0003,-125.4144,     1.8841,2,     -999.0,9,     -999.0,9,     -999.0,9,     -999.0,9,     0.0134,1,     4.6996,1,     -999.0,9,     -999.0,9,     -999.0,9,     -999.0,9,     -999.0,9
33RR20220613,       P02E,     180,          1,          8,          8,2,20220705,       2257,    30.0003,  -125.4144,       4357,  2620.5,2,   1.7600,2,  34.6525,2,  34.6523,2,    104.4,2,   104.5,2,  166.19,2,   38.88,2,    0.00,2,    2.76,2,-999.000,9,-999.000,9,-999.0000,9,  -999.0,9,  -999.0,9,-999.0000,9,  -999.00,9, -999.00,1,  -999.0,1, -999.00,1, -999.00,1,     -999.0,9, 20220705,     2338,  30.0003,-125.4144,     1.7597,2,     -999.0,9,     -999.0,9,     -999.0,9,     -999.0,9,     0.0125,1,     4.6994,1,     -999.0,9,     -999.0,9,     -999.0,9,     -999.0,9,     -999.0,9
33RR20220613,       P02E,     180,          1,          7,          7,2,20220705,       2257,    30.0003,  -125.4144,       4357,  2873.9,2,   1.6560,2,  34.6610,3,  34.6724,2,    112.5,2,   112.5,2,  167.95,2,   38.40,2,    0.00,2,    2.72,2,   0.005,2,   0.008,2,   0.0000,2,  2354.7,2,  2429.2,2,   7.5144,2,    25.02,2, -999.00,1,  -999.0,1, -999.00,1, -999.00,1,       27.5,2, 20220705,     2331,  30.0003,-125.4144,     1.6562,2,     -999.0,9,     -999.0,9,     -999.0,9,     -999.0,9,     0.0122,1,     4.6996,1,     -999.0,9,     -999.0,9,     -999.0,9,     -999.0,9,     -999.0,9
33RR20220613,       P02E,     180,          1,          6,          6,2,20220705,       2257,    30.0003,  -125.4144,       4357,  3144.7,2,   1.5757,2,  34.6680,3,  34.6722,2,    120.4,2,   120.9,2,  169.02,2,   37.90,2,    0.00,2,    2.67,2,-999.000,9,-999.000,9,-999.0000,9,  -999.0,9,  -999.0,9,-999.0000,9,  -999.00,9, -999.00,9,  -999.0,9, -999.00,1, -999.00,1,     -999.0,9, 20220705,     2326,  30.0003,-125.4144,     1.5753,2,     -999.0,9,     -999.0,9,     -999.0,9,     -999.0,9,     0.0134,1,     4.7006,1,     -999.0,9,     -999.0,9,     -999.0,9,     -999.0,9,     -999.0,9
33RR20220613,       P02E,     180,          1,          5,          5,2,20220705,       2257,    30.0003,  -125.4144,       4357,  3451.9,2,   1.5293,2,  34.6741,3,  34.6783,2,    127.7,2,   127.8,2,  169.31,2,   37.44,2,    0.00,2,    2.64,2,   0.008,2,   0.008,2,   0.0000,2,  2347.7,2,  2430.3,2,   7.5415,2,    25.01,2, -999.00,9,  -999.0,9, -999.00,1, -999.00,1,       24.3,2, 20220705,     2320,  30.0003,-125.4144,     1.5290,2,     -999.0,9,     -999.0,9,     -999.0,9,     -999.0,9,     0.0134,1,     4.7008,1,     -999.0,9,     -999.0,9,     -999.0,9,     -999.0,9,     -999.0,9