BOTTLE,20230830CCHSIOCBG
EXPOCODE,SECT_ID,STNNBR,CASTNO,SAMPNO,BTLNBR,BTLNBR_FLAG_W,DATE,TIME,LATITUDE,LONGITUDE,DEPTH,CTDPRS,CTDPRS_FLAG_W,CTDTMP,CTDTMP_FLAG_W,CTDSAL,CTDSAL_FLAG_W,SALNTY,SALNTY_FLAG_W,CTDOXY,CTDOXY_FLAG_W,OXYGEN,OXYGEN_FLAG_W,SILCAT,SILCAT_FLAG_W,NITRAT,NITRAT_FLAG_W,NITRIT,NITRIT_FLAG_W,PHSPHT,PHSPHT_FLAG_W,CFC-11,CFC-11_FLAG_W,CFC-12,CFC-12_FLAG_W,SF6,SF6_FLAG_W,TCARBN,TCARBN_FLAG_W,ALKALI,ALKALI_FLAG_W,PH_TOT,PH_TOT_FLAG_W,PH_TMP,PH_TMP_FLAG_W,DELC13,DELC13_FLAG_W,DELC14,DELC14_FLAG_W,DOC,DOC_FLAG_W,TDN,TDN_FLAG_W,N2O,N2O_FLAG_W,BTL_DATE,BTL_TIME,BTL_LAT,BTL_LON,REFTMP,REFTMP_FLAG_W,POC,POC_FLAG_W,PON,PON_FLAG_W,POP,POP_FLAG_W,PCOD,PCOD_FLAG_W,CTDFLUOR,CTDFLUOR_FLAG_W,CTDXMISS,CTDXMISS_FLAG_W,HPLC,HPLC_FLAG_W,DNA,DNA_FLAG_W,FCM,FCM_FLAG_W,IMAGES,IMAGES_FLAG_W,VIRAL_ABUNDANCE,VIRAL_ABUNDANCE_FLAG_W
,,,,,,,,,,,METERS,DBAR,,ITS-90,,PSS-78,,PSS-78,,UMOL/KG,,UMOL/KG,,UMOL/KG,,UMOL/KG,,UMOL/KG,,UMOL/KG,,PMOL/KG,,PMOL/KG,,FMOL/KG,,UMOL/KG,,UMOL/KG,,,,DEG C,,/MILLE,,/MILLE,,UMOL/KG,,UMOL/KG,,NMOL/KG,,,,,,ITS-90,,UG/L,,UG/L,,UG/L,,UG/L,,VOLTS,,VOLTS,,,,,,,,,,,
33RR20220613,       P02E,     141,          1,         36,         36,2,20220624,       1327,    30.0001,  -147.9343,       4651,     3.3,2,  23.8628,2,  35.3866,2,  35.3861,2,    215.2,2,   214.5,2,    0.29,2,    0.06,2,    0.00,2,    0.02,3,   1.762,2,   1.068,2,   1.7264,2,  2041.0,6,  2328.2,2,   8.0090,2,    25.02,2, -999.00,9,  -999.0,9, -999.00,9, -999.00,9,        6.8,2, 20220624,     1524,  30.0001,-147.9343,    23.8605,2,     -999.0,9,     -999.0,9,     -999.0,9,     -999.0,9,     0.0135,1,     4.6411,1,     -999.0,9,     -999.0,9,     -999.0,9,     -999.0,9,     -999.0,9
33RR20220613,       P02E,     141,          1,         35,         35,2,20220624,       1327,    30.0001,  -147.9343,       4651,    35.9,2,  23.8670,2,  35.3971,2,  35.3916,2,    215.0,2,   215.1,2,    0.00,2,    0.03,2,    0.00,2,    0.01,3,-999.000,9,-999.000,9,-999.0000,9,  2040.6,2,  2329.3,2,   8.0077,2,    25.04,2, -999.00,9,  -999.0,9, -999.00,9, -999.00,9,     -999.0,9, 20220624,     1523,  30.0001,-147.9343,    23.8623,2,     -999.0,9,     -999.0,9,     -999.0,9,     -999.0,9,     0.0134,1,     4.6421,1,     -999.0,9,     -999.0,9,     -999.0,9,     -999.0,9,     -999.0,9
33RR20220613,       P02E,     141,          1,         34,         34,2,20220624,       1327,    30.0001,  -147.9343,       4651,    61.3,2,  21.0993,2,  35.1672,2,  35.1656,2,    234.7,2,   234.2,2,    0.29,2,    0.00,2,    0.00,2,    0.01,3,   1.992,2,   1.202,2,   1.8395,2,  2030.8,2,  2314.2,2,   8.0009,2,    25.03,2, -999.00,9,  -999.0,9, -999.00,9, -999.00,9,        7.6,2, 20220624,     1521,  30.0001,-147.9343,    21.1013,2,     -999.0,9,     -999.0,9,     -999.0,9,     -999.0,9,     0.0147,1,     4.6388,1,     -999.0,9,     -999.0,9,     -999.0,9,     -999.0,9,     -999.0,9
33RR20220613,       P02E,     141,          1,         33,         33,2,20220624,       1327,    30.0001,  -147.9343,       4651,    87.0,2,  19.9647,2,  35.0275,2,  35.0254,2,    235.6,2,   235.2,2,    0.49,2,    0.00,2,    0.00,2,    0.01,3,-999.000,9,-999.000,9,-999.0000,9,  2032.4,2,  2303.6,2,   7.9880,2,    24.99,2, -999.00,9,  -999.0,9, -999.00,9, -999.00,9,     -999.0,9, 20220624,     1519,  30.0001,-147.9343,    19.9642,2,     -999.0,9,     -999.0,9,     -999.0,9,     -999.0,9,     0.0159,1,     4.6452,1,     -999.0,9,     -999.0,9,     -999.0,9,     -999.0,9,     -999.0,9
33RR20220613,       P02E,     141,          1,         32,         32,2,20220624,       1327,    30.0001,  -147.9343,       4651,   115.9,2,  19.2769,2,  34.9621,2,  34.9581,2,    229.7,2,   230.4,2,    0.68,2,    0.00,2,    0.00,2,    0.02,3,   2.152,2,   1.269,2,   1.9053,2,  2035.7,2,  2298.5,2,   7.9734,2,    25.04,2, -999.00,9,  -999.0,9, -999.00,9, -999.00,9,        7.9,2, 20220624,     1518,  30.0001,-147.9343,    19.2708,2,     -999.0,9,     -999.0,9,     -999.0,9,     -999.0,9,     0.0185,1,     4.6561,1,     -999.0,9,     -999.0,9,     -999.0,9,     -999.0,9,     -999.0,9
33RR20220613,       P02E,     141,          1,         31,         31,2,20220624,       1327,    30.0001,  -147.9343,       4651,   166.5,2,  16.0601,2,  34.5046,2,  34.4976,2,    218.3,2,   218.9,2,    2.25,2,    1.78,2,    0.18,2,    0.18,3,-999.000,9,-999.000,9,-999.0000,9,  2053.9,2,  2270.7,2,   7.8903,2,    25.03,2, -999.00,9,  -999.0,9, -999.00,9, -999.00,9,     -999.0,9, 20220624,     1516,  30.0001,-147.9343,    16.0588,2,     -999.0,9,     -999.0,9,     -999.0,9,     -999.0,9,     0.0238,1,     4.6663,1,     -999.0,9,     -999.0,9,     -999.0,9,     -999.0,9,     -999.0,9
33RR20220613,       P02E,     141,          1,         30,         17,2,20220624,       1327,    30.0001,  -147.9343,       4651,   217.4,2,  13.5947,2,  34.2920,2,  34.2932,2,    213.3,2,   214.0,2,    5.67,2,    7.08,2,    0.00,2,    0.42,3,   2.736,2,   1.597,2,   2.0772,2,  2074.5,2,  2258.9,2,   7.8282,2,    25.03,2, -999.00,9,  -999.0,9, -999.00,9, -999.00,9,       12.7,2, 20220624,     1514,  30.0001,-147.9343,    13.5926,2,     -999.0,9,     -999.0,9,     -999.0,9,     -999.0,9,     0.0140,1,     4.6848,1,     -999.0,9,     -999.0,9,     -999.0,9,     -999.0,9,     -999.0,9
33RR20220613,       P02E,     141,          1,         29,         29,2,20220624,       1327,    30.0001,  -147.9343,       4651,   266.9,2,  12.4104,2,  34.2492,2,  34.2348,2,    212.2,2,   212.6,2,    8.90,2,   10.34,2,    0.00,2,    0.59,3,-999.000,9,-999.000,9,-999.0000,9,  -999.0,9,  -999.0,9,-999.0000,9,  -999.00,9, -999.00,9,  -999.0,9, -999.00,9, -999.00,9,     -999.0,9, 20220624,     1512,  30.0001,-147.9343,    12.4119,2,     -999.0,9,     -999.0,9,     -999.0,9,     -999.0,9,     0.0122,1,     4.6893,1,     -999.0,9,     -999.0,9,     -999.0,9,     -999.0,9,     -999.0,9
33RR20220613,       P02E,     141,          1,         28,         28,2,20220624,       1327,    30.0001,  -147.9343,       4651,   317.8,2,  10.9403,2,  34.1408,2,  34.1389,2,    209.2,2,   209.5,2,   13.39,2,   13.50,2,    0.00,2,    0.78,3,   3.113,2,   1.773,2,   2.0578,2,  2106.9,2,  2258.8,2,   7.7512,2,    25.02,2, -999.00,9,  -999.0,9, -999.00,9, -999.00,9,       17.1,2, 20220624,     1510,  30.0001,-147.9343,    10.9783,2,     -999.0,9,     -999.0,9,     -999.0,9,     -999.0,9,     0.0122,1,     4.6918,1,     -999.0,9,     -999.0,9,     -999.0,9,     -999.0,9,     -999.0,9
33RR20220613,       P02E,     141,          1,         27,         27,2,20220624,       1327,    30.0001,  -147.9343,       4651,   368.4,2,   9.9783,2,  34.0885,2,  34.0889,2,    205.2,2,   206.2,2,   17.21,2,   15.67,2,    0.00,2,    0.91,3,   3.249,2,   1.813,2,   1.8706,2,  -999.0,9,  -999.0,9,-999.0000,9,  -999.00,9, -999.00,9,  -999.0,9, -999.00,9, -999.00,9,       19.6,2, 20220624,     1508,  30.0001,-147.9343,     9.9739,2,     -999.0,9,     -999.0,9,     -999.0,9,     -999.0,9,     0.0122,1,     4.6933,1,     -999.0,9,     -999.0,9,     -999.0,9,     -999.0,9,     -999.0,9
33RR20220613,       P02E,     141,          1,         26,         26,2,20220624,       1327,    30.0001,  -147.9343,       4651,   417.3,2,   9.1474,2,  34.0548,2,  34.0539,2,    191.7,2,   191.0,2,   24.05,2,   19.12,2,    0.00,2,    1.12,3,   3.188,2,   1.774,2,   1.6031,2,  2142.6,2,  2264.3,6,   7.6730,2,    24.96,2, -999.00,9,  -999.0,9, -999.00,9, -999.00,9,       22.1,2, 20220624,     1507,  30.0001,-147.9343,     9.1419,2,     -999.0,9,     -999.0,9,     -999.0,9,     -999.0,9,     0.0130,1,     4.6939,1,     -999.0,9,     -999.0,9,     -999.0,9,     -999.0,9,     -999.0,9
33RR20220613,       P02E,     141,          1,         25,         25,2,20220624,       1327,    30.0001,  -147.9343,       4651,   467.6,2,   8.1139,2,  34.0226,2,  34.0223,2,    166.2,2,   166.0,2,   34.02,2,   23.59,2,    0.00,2,    1.41,3,   3.067,2,   1.687,2,   1.2583,2,  -999.0,9,  -999.0,9,-999.0000,9,  -999.00,9, -999.00,9,  -999.0,9, -999.00,9, -999.00,9,       26.4,2, 20220624,     1505,  30.0001,-147.9343,     8.1072,2,     -999.0,9,     -999.0,9,     -999.0,9,     -999.0,9,     0.0122,1,     4.6957,1,     -999.0,9,     -999.0,9,     -999.0,9,     -999.0,9,     -999.0,9
33RR20220613,       P02E,     141,          1,         24,         24,2,20220624,       1327,    30.0001,  -147.9343,       4651,   538.4,2,   6.6006,2,  33.9804,2,  33.9796,2,    131.2,2,   130.2,2,   51.43,2,   29.91,2,    0.00,2,    1.86,3,   2.763,2,   1.458,2,   0.9105,2,  2218.3,2,  2281.9,2,   7.5047,2,    24.98,2, -999.00,9,  -999.0,9, -999.00,9, -999.00,9,       30.4,2, 20220624,     1502,  30.0001,-147.9343,     6.5991,2,     -999.0,9,     -999.0,9,     -999.0,9,     -999.0,9,     0.0134,1,     4.6958,1,     -999.0,9,     -999.0,9,     -999.0,9,     -999.0,9,     -999.0,9
33RR20220613,       P02E,     141,          1,         23,         23,2,20220624,       1327,    30.0001,  -147.9343,       4651,   639.4,2,   5.2108,2,  34.0124,2,  34.0153,2,     77.0,3,    81.3,2,   73.13,2,   36.54,2,    0.00,2,    2.35,3,   1.979,2,   1.001,2,   0.5401,2,  -999.0,9,  -999.0,9,-999.0000,9,  -999.00,9, -999.00,9,  -999.0,9, -999.00,9, -999.00,9,       38.0,2, 20220624,     1500,  30.0001,-147.9343,     5.2274,2,     -999.0,9,     -999.0,9,     -999.0,9,     -999.0,9,     0.0128,1,     4.6970,1,     -999.0,9,     -999.0,9,     -999.0,9,     -999.0,9,     -999.0,9
33RR20220613,       P02E,     141,          1,         22,         22,2,20220624,       1327,    30.0001,  -147.9343,       4651,   740.2,2,   4.4580,2,  34.1410,2,  34.1434,2,     30.8,3,    31.9,2,   97.07,2,   41.88,2,    0.00,2,    2.80,3,   0.709,2,   0.349,2,   0.1788,2,  2323.4,2,  2323.9,2,   7.3114,2,    25.02,2, -999.00,9,  -999.0,9, -999.00,9, -999.00,9,       48.0,2, 20220624,     1457,  30.0001,-147.9343,     4.4564,2,     -999.0,9,     -999.0,9,     -999.0,9,     -999.0,9,     0.0134,1,     4.6974,1,     -999.0,9,     -999.0,9,     -999.0,9,     -999.0,9,     -999.0,9
33RR20220613,       P02E,     141,          1,         21,         21,2,20220624,       1327,    30.0001,  -147.9343,       4651,   841.0,2,   4.1586,2,  34.2627,2,  34.2587,2,     14.7,2,    14.7,2,  109.28,2,   43.33,2,    0.00,2,    2.96,4,   0.181,2,   0.099,2,   0.0000,2,  2347.6,2,  2340.1,2,   7.2950,2,    25.02,2, -999.00,9,  -999.0,9, -999.00,9, -999.00,9,       53.0,2, 20220624,     1454,  30.0001,-147.9343,     4.1627,2,     -999.0,9,     -999.0,9,     -999.0,9,     -999.0,9,     0.0134,1,     4.6975,1,     -999.0,9,     -999.0,9,     -999.0,9,     -999.0,9,     -999.0,9
33RR20220613,       P02E,     141,          1,         20,         20,2,20220624,       1327,    30.0001,  -147.9343,       4651,   942.3,2,   3.8704,2,  34.3531,2,  34.3539,2,     13.6,3,    13.4,2,  119.14,2,   43.90,2,    0.00,2,    3.07,4,   0.046,2,   0.033,2,   0.0000,2,  2362.6,2,  2359.2,2,   7.3061,2,    24.92,2, -999.00,9,  -999.0,9, -999.00,9, -999.00,9,       55.0,2, 20220624,     1451,  30.0001,-147.9343,     3.8691,2,     -999.0,9,     -999.0,9,     -999.0,9,     -999.0,9,     0.0134,1,     4.6973,1,     -999.0,9,     -999.0,9,     -999.0,9,     -999.0,9,     -999.0,9
33RR20220613,       P02E,     141,          1,         19,         39,2,20220624,       1327,    30.0001,  -147.9343,       4651,  1044.6,2,   3.6709,2,  34.4019,2,  34.4021,2,     18.3,3,    17.9,2,  124.52,2,   43.95,2,    0.00,2,    3.10,4,   0.028,2,   0.020,2,   0.0000,2,  2366.2,2,  2369.9,2,   7.3202,2,    25.03,2, -999.00,9,  -999.0,9, -999.00,9, -999.00,9,       53.1,2, 20220624,     1449,  30.0001,-147.9343,     3.6688,2,     -999.0,9,     -999.0,9,     -999.0,9,     -999.0,9,     0.0134,1,     4.6974,1,     -999.0,9,     -999.0,9,     -999.0,9,     -999.0,9,     -999.0,9
33RR20220613,       P02E,     141,          1,         18,         18,2,20220624,       1327,    30.0001,  -147.9343,       4651,  1145.1,2,   3.3983,2,  34.4594,2,  34.4569,2,     27.4,2,    27.3,2,  130.37,2,   43.58,2,    0.00,2,    3.12,4,   0.015,2,   0.012,2,   0.0000,2,  2368.0,2,  2378.7,2,   7.3446,2,    25.03,2, -999.00,9,  -999.0,9, -999.00,9, -999.00,9,       47.9,2, 20220624,     1446,  30.0001,-147.9343,     3.3990,2,     -999.0,9,     -999.0,9,     -999.0,9,     -999.0,9,     0.0134,1,     4.6983,1,     -999.0,9,     -999.0,9,     -999.0,9,     -999.0,9,     -999.0,9
33RR20220613,       P02E,     141,          1,         17,         37,2,20220624,       1327,    30.0001,  -147.9343,       4651,  1246.5,2,   3.1893,2,  34.4932,2,  34.4917,2,     35.6,2,    35.7,2,  134.77,2,   43.26,2,    0.00,2,    3.13,4,   0.008,2,   0.006,2,   0.0000,2,  -999.0,9,  -999.0,9,-999.0000,9,  -999.00,9, -999.00,9,  -999.0,9, -999.00,9, -999.00,9,       47.7,2, 20220624,     1443,  30.0001,-147.9343,     3.1902,2,     -999.0,9,     -999.0,9,     -999.0,9,     -999.0,9,     0.0134,1,     4.6987,1,     -999.0,9,     -999.0,9,     -999.0,9,     -999.0,9,     -999.0,9
33RR20220613,       P02E,     141,          1,         16,         16,2,20220624,       1327,    30.0001,  -147.9343,       4651,  1348.0,2,   2.9949,2,  34.5192,2,  34.5170,2,     43.6,2,    43.3,2,  138.77,2,   42.89,2,    0.00,2,    3.12,4,   0.005,2,   0.003,2,   0.0000,2,  2369.2,2,  2390.7,2,   7.3803,2,    25.01,2, -999.00,9,  -999.0,9, -999.00,9, -999.00,9,       42.4,2, 20220624,     1439,  30.0001,-147.9343,     2.9998,2,     -999.0,9,     -999.0,9,     -999.0,9,     -999.0,9,     0.0134,1,     4.6995,1,     -999.0,9,     -999.0,9,     -999.0,9,     -999.0,9,     -999.0,9
33RR20220613,       P02E,     141,          1,         15,         15,2,20220624,       1327,    30.0001,  -147.9343,       4651,  1450.1,2,   2.7934,2,  34.5421,2,  34.5417,2,     51.8,2,    51.9,2,  142.97,2,   42.46,2,    0.00,2,    3.12,4,   0.005,2,   0.004,2,   0.0000,2,  -999.0,9,  -999.0,9,-999.0000,9,  -999.00,9, -999.00,9,  -999.0,9, -999.00,9, -999.00,9,       43.8,2, 20220624,     1438,  30.0001,-147.9343,     2.7941,2,     -999.0,9,     -999.0,9,     -999.0,9,     -999.0,9,     0.0134,1,     4.6996,1,     -999.0,9,     -999.0,9,     -999.0,9,     -999.0,9,     -999.0,9
33RR20220613,       P02E,     141,          1,         14,         14,2,20220624,       1327,    30.0001,  -147.9343,       4651,  1551.8,2,   2.5977,2,  34.5621,2,  34.5614,2,     58.9,2,    59.5,2,  147.66,2,   42.15,2,    0.00,2,    3.14,4,   0.005,2,   0.000,2,   0.0000,2,  2366.3,2,  2401.8,2,   7.4111,2,    25.02,2, -999.00,9,  -999.0,9, -999.00,9, -999.00,9,       38.9,2, 20220624,     1435,  30.0001,-147.9343,     2.5981,2,     -999.0,9,     -999.0,9,     -999.0,9,     -999.0,9,     0.0134,1,     4.7007,1,     -999.0,9,     -999.0,9,     -999.0,9,     -999.0,9,     -999.0,9
33RR20220613,       P02E,     141,          1,         13,         13,2,20220624,       1327,    30.0001,  -147.9343,       4651,  1682.8,2,   2.3944,2,  34.5806,2,  34.5787,2,     65.9,2,    66.4,2,  153.13,2,   41.76,2,    0.00,2,    3.16,4,   0.003,2,   0.000,2,   0.0000,2,  2368.0,2,  2408.5,2,   7.4229,2,    25.01,2, -999.00,9,  -999.0,9, -999.00,9, -999.00,9,       35.4,2, 20220624,     1431,  30.0001,-147.9343,     2.3941,2,     -999.0,9,     -999.0,9,     -999.0,9,     -999.0,9,     0.0134,1,     4.7007,1,     -999.0,9,     -999.0,9,     -999.0,9,     -999.0,9,     -999.0,9
33RR20220613,       P02E,     141,          1,         12,         12,2,20220624,       1327,    30.0001,  -147.9343,       4651,  1885.1,2,   2.1844,2,  34.5997,2,  34.5985,2,     73.3,2,    73.2,2,  158.51,2,   41.30,2,    0.00,2,    3.16,4,-999.000,9,-999.000,9,-999.0000,9,  2368.3,2,  2416.2,2,   7.4373,2,    25.04,2, -999.00,9,  -999.0,9, -999.00,9, -999.00,9,     -999.0,9, 20220624,     1427,  30.0001,-147.9343,     2.1847,2,     -999.0,9,     -999.0,9,     -999.0,9,     -999.0,9,     0.0131,1,     4.7000,1,     -999.0,9,     -999.0,9,     -999.0,9,     -999.0,9,     -999.0,9
33RR20220613,       P02E,     141,          1,         11,         11,2,20220624,       1327,    30.0001,  -147.9343,       4651,  2109.6,2,   1.9846,2,  34.6182,2,  34.6174,2,     81.5,2,    81.5,2,  165.05,2,   40.81,2,    0.00,2,    3.17,4,   0.003,2,   0.000,2,   0.0000,2,  -999.0,9,  -999.0,9,-999.0000,9,  -999.00,9, -999.00,9,  -999.0,9, -999.00,9, -999.00,9,       32.2,2, 20220624,     1422,  30.0001,-147.9343,     1.9822,2,     -999.0,9,     -999.0,9,     -999.0,9,     -999.0,9,     0.0122,1,     4.7020,1,     -999.0,9,     -999.0,9,     -999.0,9,     -999.0,9,     -999.0,9
33RR20220613,       P02E,     141,          1,         10,         10,2,20220624,       1327,    30.0001,  -147.9343,       4651,  2362.0,2,   1.7936,2,  34.6370,2,  34.6364,2,     91.9,2,    92.0,2,  170.52,2,   40.11,2,    0.00,2,    3.18,4,-999.000,9,-999.000,9,-999.0000,9,  2367.5,2,  2427.6,2,   7.4738,2,    25.04,2, -999.00,9,  -999.0,9, -999.00,9, -999.00,9,     -999.0,9, 20220624,     1417,  30.0001,-147.9343,     1.7936,2,     -999.0,9,     -999.0,9,     -999.0,9,     -999.0,9,     0.0134,1,     4.7021,1,     -999.0,9,     -999.0,9,     -999.0,9,     -999.0,9,     -999.0,9
33RR20220613,       P02E,     141,          1,          9,          9,2,20220624,       1327,    30.0001,  -147.9343,       4651,  2616.3,2,   1.6783,2,  34.6495,2,  34.6484,2,    102.6,2,   102.5,2,  170.81,2,   39.51,2,    0.00,2,    3.13,4,   0.003,2,   0.000,2,   0.0000,2,  -999.0,9,  -999.0,9,-999.0000,9,  -999.00,9, -999.00,9,  -999.0,9, -999.00,9, -999.00,9,       28.6,2, 20220624,     1410,  30.0001,-147.9343,     1.6780,2,     -999.0,9,     -999.0,9,     -999.0,9,     -999.0,9,     0.0134,1,     4.7032,1,     -999.0,9,     -999.0,9,     -999.0,9,     -999.0,9,     -999.0,9
33RR20220613,       P02E,     141,          1,          8,          8,2,20220624,       1327,    30.0001,  -147.9343,       4651,  2872.3,2,   1.5942,2,  34.6593,3,  34.6620,2,    112.4,2,   112.3,2,  170.32,2,   38.93,2,    0.00,2,    3.09,4,-999.000,9,-999.000,9,-999.0000,9,  2355.0,2,  2427.9,2,   7.5115,2,    24.99,2, -999.00,9,  -999.0,9, -999.00,9, -999.00,9,     -999.0,9, 20220624,     1406,  30.0001,-147.9343,     1.5943,2,     -999.0,9,     -999.0,9,     -999.0,9,     -999.0,9,     0.0133,1,     4.7032,1,     -999.0,9,     -999.0,9,     -999.0,9,     -999.0,9,     -999.0,9
33RR20220613,       P02E,     141,          1,          7,          7,2,20220624,       1327,    30.0001,  -147.9343,       4651,  3142.0,2,   1.5216,2,  34.6687,2,  34.6688,2,    123.9,2,   124.1,2,  168.17,2,   38.22,2,    0.00,2,    3.02,4,   0.003,2,   0.000,2,   0.0000,2,  -999.0,9,  -999.0,9,-999.0000,9,  -999.00,9, -999.00,9,  -999.0,9, -999.00,9, -999.00,9,       25.2,2, 20220624,     1400,  30.0001,-147.9343,     1.5219,2,     -999.0,9,     -999.0,9,     -999.0,9,     -999.0,9,     0.0127,1,     4.7037,1,     -999.0,9,     -999.0,9,     -999.0,9,     -999.0,9,     -999.0,9
33RR20220613,       P02E,     141,          1,          6,          6,2,20220624,       1327,    30.0001,  -147.9343,       4651,  3448.6,2,   1.4700,2,  34.6773,2,  34.6769,2,    135.3,2,   135.2,2,  164.75,2,   37.40,2,    0.00,2,    2.95,4,-999.000,9,-999.000,9,-999.0000,9,  2340.4,2,  2430.5,6,   7.5524,2,    25.01,2, -999.00,9,  -999.0,9, -999.00,9, -999.00,9,     -999.0,9, 20220624,     1354,  30.0001,-147.9343,     1.4693,2,     -999.0,9,     -999.0,9,     -999.0,9,     -999.0,9,     0.0122,1,     4.7043,1,     -999.0,9,     -999.0,9,     -999.0,9,     -999.0,9,     -999.0,9
33RR20220613,       P02E,     141,          1,          5,          5,2,20220624,       1327,    30.0001,  -147.9343,       4651,  3759.3,2,   1.4628,2,  34.6815,2,  34.6820,2,    141.5,2,   141.7,2,  162.40,2,   37.04,2,    0.00,2,    2.91,4,   0.004,2,   0.002,2,   0.0000,2,  -999.0,9,  -999.0,9,-999.0000,9,  -999.00,9, -999.00,9,  -999.0,9, -999.00,9, -999.00,9,       22.0,2, 20220624,     1348,  30.0001,-147.9343,     1.4627,2,     -999.0,9,     -999.0,9,     -999.0,9,     -999.0,9,     0.0122,1,     4.7046,1,     -999.0,9,     -999.0,9,     -999.0,9,     -999.0,9,     -999.0,9