BOTTLE,20230830CCHSIOCBG
EXPOCODE,SECT_ID,STNNBR,CASTNO,SAMPNO,BTLNBR,BTLNBR_FLAG_W,DATE,TIME,LATITUDE,LONGITUDE,DEPTH,CTDPRS,CTDPRS_FLAG_W,CTDTMP,CTDTMP_FLAG_W,CTDSAL,CTDSAL_FLAG_W,SALNTY,SALNTY_FLAG_W,CTDOXY,CTDOXY_FLAG_W,OXYGEN,OXYGEN_FLAG_W,SILCAT,SILCAT_FLAG_W,NITRAT,NITRAT_FLAG_W,NITRIT,NITRIT_FLAG_W,PHSPHT,PHSPHT_FLAG_W,CFC-11,CFC-11_FLAG_W,CFC-12,CFC-12_FLAG_W,SF6,SF6_FLAG_W,TCARBN,TCARBN_FLAG_W,ALKALI,ALKALI_FLAG_W,PH_TOT,PH_TOT_FLAG_W,PH_TMP,PH_TMP_FLAG_W,DELC13,DELC13_FLAG_W,DELC14,DELC14_FLAG_W,DOC,DOC_FLAG_W,TDN,TDN_FLAG_W,N2O,N2O_FLAG_W,BTL_DATE,BTL_TIME,BTL_LAT,BTL_LON,REFTMP,REFTMP_FLAG_W,POC,POC_FLAG_W,PON,PON_FLAG_W,POP,POP_FLAG_W,PCOD,PCOD_FLAG_W,CTDFLUOR,CTDFLUOR_FLAG_W,CTDXMISS,CTDXMISS_FLAG_W,HPLC,HPLC_FLAG_W,DNA,DNA_FLAG_W,FCM,FCM_FLAG_W,IMAGES,IMAGES_FLAG_W,VIRAL_ABUNDANCE,VIRAL_ABUNDANCE_FLAG_W
,,,,,,,,,,,METERS,DBAR,,ITS-90,,PSS-78,,PSS-78,,UMOL/KG,,UMOL/KG,,UMOL/KG,,UMOL/KG,,UMOL/KG,,UMOL/KG,,PMOL/KG,,PMOL/KG,,FMOL/KG,,UMOL/KG,,UMOL/KG,,,,DEG C,,/MILLE,,/MILLE,,UMOL/KG,,UMOL/KG,,NMOL/KG,,,,,,ITS-90,,UG/L,,UG/L,,UG/L,,UG/L,,VOLTS,,VOLTS,,,,,,,,,,,
33RR20220613,       P02E,     179,          2,          4,          4,2,20220705,       1700,    30.0006,  -125.9928,       4111,  3349.2,2,   1.5366,2,  34.6732,2,  34.6720,2,    125.4,2,   125.3,2,  170.14,2,   37.84,2,    0.00,2,    2.65,2,   0.009,2,   0.009,2,   0.0000,2,  -999.0,9,  -999.0,9,-999.0000,9,  -999.00,9, -999.00,9,  -999.0,9, -999.00,9, -999.00,9,       25.8,2, 20220705,     1716,  30.0007,-125.9928,     1.5366,2,     -999.0,9,     -999.0,9,     -999.0,9,     -999.0,9,     0.0121,1,     4.7004,1,     -999.0,9,     -999.0,9,     -999.0,9,     -999.0,9,     -999.0,9
33RR20220613,       P02E,     179,          2,          3,          3,2,20220705,       1700,    30.0006,  -125.9928,       4111,  3656.7,2,   1.5092,2,  34.6782,2,  34.6773,2,    131.7,2,   131.9,2,  168.87,2,   37.33,2,    0.00,2,    2.60,2,   0.009,2,   0.009,2,   0.0000,2,  2346.7,2,  2430.6,2,   7.5523,2,    25.00,2, -999.00,9,  -999.0,9, -999.00,9, -999.00,9,       23.7,2, 20220705,     1710,  30.0006,-125.9928,     1.5095,2,     -999.0,9,     -999.0,9,     -999.0,9,     -999.0,9,     0.0122,1,     4.7003,1,     -999.0,9,     -999.0,9,     -999.0,9,     -999.0,9,     -999.0,9
33RR20220613,       P02E,     179,          2,          2,          2,2,20220705,       1700,    30.0006,  -125.9928,       4111,  3963.6,2,   1.5002,2,  34.6824,3,  34.6802,2,    137.6,2,   137.7,2,  167.21,2,   37.01,2,    0.00,2,    2.57,2,   0.011,2,   0.013,2,   0.0000,2,  2342.9,2,  2431.0,2,   7.5617,2,    25.00,2, -999.00,9,  -999.0,9, -999.00,9, -999.00,9,       23.5,2, 20220705,     1704,  30.0008,-125.9927,     1.5005,2,     -999.0,9,     -999.0,9,     -999.0,9,     -999.0,9,     0.0122,1,     4.6997,1,     -999.0,9,     -999.0,9,     -999.0,9,     -999.0,9,     -999.0,9
33RR20220613,       P02E,     179,          2,          1,          1,2,20220705,       1700,    30.0006,  -125.9928,       4111,  4169.3,2,   1.5087,2,  34.6838,2,  34.6834,2,    140.1,2,   140.2,2,  165.65,2,   36.89,2,    0.00,2,    2.55,2,   0.010,6,   0.008,6,   0.0000,6,  2340.9,6,  2431.5,2,   7.5662,2,    25.00,2, -999.00,9,  -999.0,9, -999.00,9, -999.00,9,       23.7,6, 20220705,     1700,  30.0006,-125.9927,     1.5088,2,     -999.0,9,     -999.0,9,     -999.0,9,     -999.0,9,     0.0121,1,     4.6974,1,     -999.0,9,     -999.0,9,     -999.0,9,     -999.0,9,     -999.0,9