BOTTLE,20230830CCHSIOCBG
EXPOCODE,SECT_ID,STNNBR,CASTNO,SAMPNO,BTLNBR,BTLNBR_FLAG_W,DATE,TIME,LATITUDE,LONGITUDE,DEPTH,CTDPRS,CTDPRS_FLAG_W,CTDTMP,CTDTMP_FLAG_W,CTDSAL,CTDSAL_FLAG_W,SALNTY,SALNTY_FLAG_W,CTDOXY,CTDOXY_FLAG_W,OXYGEN,OXYGEN_FLAG_W,SILCAT,SILCAT_FLAG_W,NITRAT,NITRAT_FLAG_W,NITRIT,NITRIT_FLAG_W,PHSPHT,PHSPHT_FLAG_W,CFC-11,CFC-11_FLAG_W,CFC-12,CFC-12_FLAG_W,SF6,SF6_FLAG_W,TCARBN,TCARBN_FLAG_W,ALKALI,ALKALI_FLAG_W,PH_TOT,PH_TOT_FLAG_W,PH_TMP,PH_TMP_FLAG_W,DELC13,DELC13_FLAG_W,DELC14,DELC14_FLAG_W,DOC,DOC_FLAG_W,TDN,TDN_FLAG_W,N2O,N2O_FLAG_W,BTL_DATE,BTL_TIME,BTL_LAT,BTL_LON,REFTMP,REFTMP_FLAG_W,POC,POC_FLAG_W,PON,PON_FLAG_W,POP,POP_FLAG_W,PCOD,PCOD_FLAG_W,CTDFLUOR,CTDFLUOR_FLAG_W,CTDXMISS,CTDXMISS_FLAG_W,HPLC,HPLC_FLAG_W,DNA,DNA_FLAG_W,FCM,FCM_FLAG_W,IMAGES,IMAGES_FLAG_W,VIRAL_ABUNDANCE,VIRAL_ABUNDANCE_FLAG_W
,,,,,,,,,,,METERS,DBAR,,ITS-90,,PSS-78,,PSS-78,,UMOL/KG,,UMOL/KG,,UMOL/KG,,UMOL/KG,,UMOL/KG,,UMOL/KG,,PMOL/KG,,PMOL/KG,,FMOL/KG,,UMOL/KG,,UMOL/KG,,,,DEG C,,/MILLE,,/MILLE,,UMOL/KG,,UMOL/KG,,NMOL/KG,,,,,,ITS-90,,UG/L,,UG/L,,UG/L,,UG/L,,VOLTS,,VOLTS,,,,,,,,,,,
33RR20220613,       P02E,     118,          1,         36,         36,2,20220616,       1147,    29.9993,  -161.2140,       5724,     3.7,2,  24.6496,2,  35.0805,2,  35.0803,2,    214.3,2,   213.3,2,    0.68,2,    0.01,2,    0.00,2,    0.01,2,   1.589,2,   0.999,2,   1.6840,2,  2022.9,2,  2305.0,2,   8.0102,2,    24.99,2, -999.00,1,  -999.0,1, -999.00,1, -999.00,1,        7.3,2, 20220616,     1421,  29.9993,-161.2140,    24.6488,2,     -999.0,9,     -999.0,9,     -999.0,9,     -999.0,9,     0.0135,1,     4.6339,1,     -999.0,9,     -999.0,9,     -999.0,9,     -999.0,9,     -999.0,9
33RR20220613,       P02E,     118,          1,         35,         35,2,20220616,       1147,    29.9993,  -161.2140,       5724,    26.2,2,  23.5763,2,  35.0628,2,  35.0655,2,    218.3,2,   218.2,2,    0.78,2,    0.00,2,    0.00,2,    0.00,2,   1.656,2,   1.029,2,   1.6802,2,  2024.1,6,  2301.8,2,   8.0102,2,    24.99,2, -999.00,1,  -999.0,1, -999.00,1, -999.00,1,        7.5,2, 20220616,     1418,  29.9993,-161.2140,    23.5934,2,     -999.0,9,     -999.0,9,     -999.0,9,     -999.0,9,     0.0134,1,     4.6336,1,     -999.0,9,     -999.0,9,     -999.0,9,     -999.0,9,     -999.0,9
33RR20220613,       P02E,     118,          1,         34,         34,2,20220616,       1147,    29.9993,  -161.2140,       5724,    51.9,2,  21.1114,2,  35.0586,2,  35.0592,2,    233.9,2,   234.0,2,    0.98,2,    0.00,2,    0.00,2,    0.00,2,   1.843,2,   1.136,2,   1.9325,2,  2023.4,2,  2303.8,2,   8.0058,2,    25.00,2, -999.00,1,  -999.0,1, -999.00,1, -999.00,1,        8.1,2, 20220616,     1415,  29.9993,-161.2140,    21.1671,2,     -999.0,9,     -999.0,9,     -999.0,9,     -999.0,9,     0.0151,1,     4.6218,1,     -999.0,9,     -999.0,9,     -999.0,9,     -999.0,9,     -999.0,9
33RR20220613,       P02E,     118,          1,         33,         33,2,20220616,       1147,    29.9993,  -161.2140,       5724,    75.8,2,  19.8086,2,  34.9778,2,  34.9787,2,    233.4,2,   233.4,2,    1.17,2,    0.00,2,    0.00,2,    0.02,2,   1.950,2,   1.177,2,   1.8499,2,  2032.4,2,  2296.8,2,   7.9878,2,    24.99,2, -999.00,1,  -999.0,1, -999.00,1, -999.00,1,        8.6,2, 20220616,     1413,  29.9993,-161.2140,    19.7877,2,     -999.0,9,     -999.0,9,     -999.0,9,     -999.0,9,     0.0183,1,     4.6353,1,     -999.0,9,     -999.0,9,     -999.0,9,     -999.0,9,     -999.0,9
33RR20220613,       P02E,     118,          1,         32,         32,2,20220616,       1147,    29.9993,  -161.2140,       5724,   101.8,2,  18.6887,2,  34.8606,2,  34.8570,2,    222.9,2,   223.3,2,    1.46,2,    0.03,2,    0.01,2,    0.05,2,   2.029,2,   1.247,2,   1.9315,2,  2041.6,2,  2288.1,2,   7.9554,2,    24.99,2, -999.00,1,  -999.0,1, -999.00,1, -999.00,1,        9.4,2, 20220616,     1410,  29.9993,-161.2140,    18.6904,2,     -999.0,9,     -999.0,9,     -999.0,9,     -999.0,9,     0.0454,1,     4.6219,1,     -999.0,9,     -999.0,9,     -999.0,9,     -999.0,9,     -999.0,9
33RR20220613,       P02E,     118,          1,         31,         31,2,20220616,       1147,    29.9993,  -161.2140,       5724,   152.3,2,  16.6070,2,  34.6316,2,  34.6205,2,    214.8,2,   215.3,2,    3.22,2,    2.53,2,    0.06,2,    0.25,2,   2.235,2,   1.363,2,   1.8860,2,  2060.5,2,  2274.1,6,   7.9007,2,    25.01,2, -999.00,1,  -999.0,1, -999.00,1, -999.00,1,       11.0,2, 20220616,     1408,  29.9993,-161.2140,    16.6136,2,     -999.0,9,     -999.0,9,     -999.0,9,     -999.0,9,     0.0226,1,     4.6685,1,     -999.0,9,     -999.0,9,     -999.0,9,     -999.0,9,     -999.0,9
33RR20220613,       P02E,     118,          1,         30,         30,2,20220616,       1147,    29.9993,  -161.2140,       5724,   202.0,2,  14.7439,2,  34.4592,2,  34.4553,2,    209.9,2,   210.2,2,    5.28,2,    5.98,2,    0.01,2,    0.46,2,   2.423,2,   1.463,2,   1.8544,2,  2073.7,2,  2263.8,2,   7.8524,2,    25.01,2, -999.00,1,  -999.0,1, -999.00,1, -999.00,1,       13.2,2, 20220616,     1405,  29.9993,-161.2140,    14.7377,2,     -999.0,9,     -999.0,9,     -999.0,9,     -999.0,9,     0.0148,1,     4.6824,1,     -999.0,9,     -999.0,9,     -999.0,9,     -999.0,9,     -999.0,9
33RR20220613,       P02E,     118,          1,         29,         29,2,20220616,       1147,    29.9993,  -161.2140,       5724,   252.8,2,  13.1536,2,  34.3313,2,  34.3366,2,    211.5,2,   211.7,2,    8.21,2,    8.76,2,    0.00,2,    0.64,2,   2.568,2,   1.559,2,   1.9212,2,  2084.4,2,  2260.8,2,   7.8159,2,    25.04,2, -999.00,1,  -999.0,1, -999.00,1, -999.00,1,       15.1,2, 20220616,     1402,  29.9993,-161.2140,    13.1528,2,     -999.0,9,     -999.0,9,     -999.0,9,     -999.0,9,     0.0122,1,     4.6885,1,     -999.0,9,     -999.0,9,     -999.0,9,     -999.0,9,     -999.0,9
33RR20220613,       P02E,     118,          1,         28,         28,2,20220616,       1147,    29.9993,  -161.2140,       5724,   303.2,2,  12.2828,2,  34.2812,2,  34.2799,2,    214.2,2,   215.1,2,   10.75,2,   10.60,2,    0.00,2,    0.76,2,   2.692,2,   1.622,2,   1.9065,2,  2092.9,2,  2260.5,2,   7.7976,2,    25.02,2, -999.00,1,  -999.0,1, -999.00,1, -999.00,1,       16.3,2, 20220616,     1400,  29.9993,-161.2140,    12.2831,2,     -999.0,9,     -999.0,9,     -999.0,9,     -999.0,9,     0.0122,1,     4.6908,1,     -999.0,9,     -999.0,9,     -999.0,9,     -999.0,9,     -999.0,9
33RR20220613,       P02E,     118,          1,         27,         27,2,20220616,       1147,    29.9993,  -161.2140,       5724,   354.0,2,  11.2445,2,  34.2114,2,  34.2152,2,    213.7,2,   214.0,2,   14.17,2,   12.72,2,    0.00,2,    0.90,2,   2.775,2,   1.675,2,   1.9599,2,  2101.3,2,  2261.7,2,   7.7696,2,    25.03,2, -999.00,1,  -999.0,1, -999.00,1, -999.00,1,       17.5,2, 20220616,     1356,  29.9993,-161.2140,    11.2455,2,     -999.0,9,     -999.0,9,     -999.0,9,     -999.0,9,     0.0122,1,     4.6933,1,     -999.0,9,     -999.0,9,     -999.0,9,     -999.0,9,     -999.0,9
33RR20220613,       P02E,     118,          1,         26,         26,2,20220616,       1147,    29.9993,  -161.2140,       5724,   404.5,2,  10.1818,2,  34.1387,2,  34.1428,2,    209.5,2,   209.9,2,   19.15,2,   15.28,2,    0.00,2,    1.09,2,   2.785,2,   1.697,2,   1.7695,2,  2119.9,2,  2262.3,2,   7.7329,2,    25.03,2, -999.00,1,  -999.0,1, -999.00,1, -999.00,1,       18.8,2, 20220616,     1353,  29.9993,-161.2140,    10.1822,2,     -999.0,9,     -999.0,9,     -999.0,9,     -999.0,9,     0.0122,1,     4.6928,1,     -999.0,9,     -999.0,9,     -999.0,9,     -999.0,9,     -999.0,9
33RR20220613,       P02E,     118,          1,         25,         25,2,20220616,       1147,    29.9993,  -161.2140,       5724,   505.2,2,   7.8425,2,  34.0109,2,-999.0000,9,    167.6,2,   167.6,2, -999.00,9, -999.00,9, -999.00,9, -999.00,9,   2.743,6,   1.598,6,   1.2671,6,  2177.4,2,  2269.9,2,   7.6058,2,    25.03,2, -999.00,9,  -999.0,9, -999.00,1, -999.00,1,       26.1,6, 20220616,     1348,  29.9993,-161.2140,     7.8398,2,     -999.0,9,     -999.0,9,     -999.0,9,     -999.0,9,     0.0122,1,     4.6953,1,     -999.0,9,     -999.0,9,     -999.0,9,     -999.0,9,     -999.0,9
33RR20220613,       P02E,     118,          1,         24,         24,2,20220616,       1147,    29.9993,  -161.2140,       5724,   612.2,2,   5.9895,2,  33.9882,2,  33.9931,2,    120.2,3,   119.1,2,   60.79,2,   31.68,2,    0.00,2,    2.27,2,   2.193,2,   1.238,2,   0.7926,2,  2238.2,2,  2286.7,2,   7.4777,2,    25.03,2, -999.00,1,  -999.0,1, -999.00,1, -999.00,1,       34.3,2, 20220616,     1344,  29.9993,-161.2140,     5.9893,2,     -999.0,9,     -999.0,9,     -999.0,9,     -999.0,9,     0.0122,1,     4.6973,1,     -999.0,9,     -999.0,9,     -999.0,9,     -999.0,9,     -999.0,9
33RR20220613,       P02E,     118,          1,         23,         23,2,20220616,       1147,    29.9993,  -161.2140,       5724,   712.8,2,   4.8045,2,  34.0754,2,  34.0748,2,     59.4,2,    59.0,2,   86.09,2,   38.83,2,    0.00,2,    2.78,2,   1.177,2,   0.612,2,   0.3740,2,  2296.5,3,  2310.5,2,   7.3588,2,    25.02,2, -999.00,1,  -999.0,1, -999.00,1, -999.00,1,       46.6,2, 20220616,     1340,  29.9993,-161.2140,     4.8042,2,     -999.0,9,     -999.0,9,     -999.0,9,     -999.0,9,     0.0134,1,     4.6995,1,     -999.0,9,     -999.0,9,     -999.0,9,     -999.0,9,     -999.0,9
33RR20220613,       P02E,     118,          1,         22,         22,2,20220616,       1147,    29.9993,  -161.2140,       5724,   812.8,2,   4.2860,2,  34.1816,2,  34.1836,2,     29.2,2,    29.2,2,  102.89,2,   41.95,2,    0.00,2,    3.02,2,   0.448,2,   0.228,2,   0.0634,2,  2332.5,2,  2326.6,2,   7.3107,2,    25.02,2, -999.00,1,  -999.0,1, -999.00,1, -999.00,1,       56.5,2, 20220616,     1338,  29.9993,-161.2140,     4.2843,2,     -999.0,9,     -999.0,9,     -999.0,9,     -999.0,9,     0.0134,1,     4.6998,1,     -999.0,9,     -999.0,9,     -999.0,9,     -999.0,9,     -999.0,9
33RR20220613,       P02E,     118,          1,         21,         21,2,20220616,       1147,    29.9993,  -161.2140,       5724,   913.6,2,   3.9411,2,  34.2807,2,  34.2893,2,     18.9,3,    20.2,2,  114.71,2,   43.08,2,    0.00,2,    3.12,2,   0.138,2,   0.070,2,   0.0000,2,  2351.0,2,  2346.3,2,   7.3048,2,    25.02,2, -999.00,1,  -999.0,1, -999.00,1, -999.00,1,     -999.0,5, 20220616,     1335,  29.9993,-161.2140,     3.9402,2,     -999.0,9,     -999.0,9,     -999.0,9,     -999.0,9,     0.0129,1,     4.6996,1,     -999.0,9,     -999.0,9,     -999.0,9,     -999.0,9,     -999.0,9
33RR20220613,       P02E,     118,          1,         20,         20,2,20220616,       1147,    29.9993,  -161.2140,       5724,  1014.3,2,   3.6770,2,  34.3575,2,  34.3574,2,     18.1,3,    17.2,2,  123.49,2,   43.51,2,    0.00,2,    3.15,2,-999.000,5,-999.000,5,-999.0000,5,  2363.3,2,  2360.1,2,   7.3110,2,    25.02,2, -999.00,1,  -999.0,1, -999.00,1, -999.00,1,     -999.0,5, 20220616,     1332,  29.9993,-161.2140,     3.6765,2,     -999.0,9,     -999.0,9,     -999.0,9,     -999.0,9,     0.0134,1,     4.6941,1,     -999.0,9,     -999.0,9,     -999.0,9,     -999.0,9,     -999.0,9
33RR20220613,       P02E,     118,          1,         19,         19,3,20220616,       1147,    29.9993,  -161.2140,       5724,  1116.4,3,   3.4662,3,  34.4144,3,  34.4206,3,     21.7,3,    21.9,3,  128.86,3,   43.40,3,    0.00,3,    3.14,3,-999.000,9,-999.000,9,-999.0000,9,  -999.0,9,  -999.0,9,-999.0000,9,  -999.00,9, -999.00,1,  -999.0,1, -999.00,1, -999.00,1,     -999.0,9, 20220616,     1329,  29.9993,-161.2140,     3.4659,3,     -999.0,9,     -999.0,9,     -999.0,9,     -999.0,9,     0.0134,1,     4.7007,1,     -999.0,9,     -999.0,9,     -999.0,9,     -999.0,9,     -999.0,9
33RR20220613,       P02E,     118,          1,         18,         18,2,20220616,       1147,    29.9993,  -161.2140,       5724,  1217.7,2,   3.2393,2,  34.4663,3,  34.4767,2,     32.6,3,    33.2,2,  133.25,2,   42.89,2,    0.00,2,    3.09,2,   0.011,2,   0.011,2,   0.0000,2,  2366.0,2,  2380.3,2,   7.3514,2,    25.01,2, -999.00,1,  -999.0,1, -999.00,1, -999.00,1,       55.1,2, 20220616,     1325,  29.9993,-161.2140,     3.2399,2,     -999.0,9,     -999.0,9,     -999.0,9,     -999.0,9,     0.0134,1,     4.7013,1,     -999.0,9,     -999.0,9,     -999.0,9,     -999.0,9,     -999.0,9
33RR20220613,       P02E,     118,          1,         17,         17,2,20220616,       1147,    29.9993,  -161.2140,       5724,  1319.3,2,   3.0006,2,  34.5077,2,  34.5093,2,     41.4,2,    41.4,2,  138.62,2,   42.50,2,    0.00,2,    3.03,2,   0.007,2,   0.000,2,   0.0000,2,  2367.6,2,  2387.4,2,   7.3737,2,    25.03,2, -999.00,1,  -999.0,1, -999.00,1, -999.00,1,       48.8,2, 20220616,     1323,  29.9993,-161.2140,     3.0032,2,     -999.0,9,     -999.0,9,     -999.0,9,     -999.0,9,     0.0134,1,     4.7019,1,     -999.0,9,     -999.0,9,     -999.0,9,     -999.0,9,     -999.0,9
33RR20220613,       P02E,     118,          1,         16,         16,2,20220616,       1147,    29.9993,  -161.2140,       5724,  1420.1,2,   2.8064,2,  34.5308,2,  34.5333,2,     51.0,2,    50.6,2,  142.14,2,   41.95,2,    0.00,2,    3.00,2,   0.005,2,   0.000,2,   0.0000,2,  2365.8,2,  2394.5,2,   7.3933,2,    25.01,2, -999.00,1,  -999.0,1, -999.00,1, -999.00,1,       45.8,2, 20220616,     1320,  29.9993,-161.2140,     2.8041,2,     -999.0,9,     -999.0,9,     -999.0,9,     -999.0,9,     0.0134,1,     4.7029,1,     -999.0,9,     -999.0,9,     -999.0,9,     -999.0,9,     -999.0,9
33RR20220613,       P02E,     118,          1,         15,         15,2,20220616,       1147,    29.9993,  -161.2140,       5724,  1622.1,2,   2.4695,2,  34.5665,3,  34.5718,2,     63.8,3,    64.8,2,  149.17,2,   41.20,2,    0.00,2,    2.94,2,   0.006,2,   0.000,2,   0.0000,2,  2366.8,6,  2403.1,2,   7.4186,2,    25.01,2, -999.00,9,  -999.0,9, -999.00,1, -999.00,1,       40.7,2, 20220616,     1316,  29.9993,-161.2140,     2.4710,2,     -999.0,9,     -999.0,9,     -999.0,9,     -999.0,9,     0.0134,1,     4.7032,1,     -999.0,9,     -999.0,9,     -999.0,9,     -999.0,9,     -999.0,9
33RR20220613,       P02E,     118,          1,         14,         14,2,20220616,       1147,    29.9993,  -161.2140,       5724,  1825.3,2,   2.2084,2,  34.5924,2,  34.5954,2,     74.7,2,    74.8,2,  154.54,2,   40.62,2,    0.00,2,    2.88,2,   0.005,2,   0.000,2,   0.0000,2,  2364.3,2,  2409.9,2,   7.4389,2,    24.99,2, -999.00,1,  -999.0,1, -999.00,1, -999.00,1,       36.9,2, 20220616,     1311,  29.9994,-161.2140,     2.2088,2,     -999.0,9,     -999.0,9,     -999.0,9,     -999.0,9,     0.0134,1,     4.7043,1,     -999.0,9,     -999.0,9,     -999.0,9,     -999.0,9,     -999.0,9
33RR20220613,       P02E,     118,          1,         13,         13,2,20220616,       1147,    29.9993,  -161.2140,       5724,  2028.8,2,   1.9970,2,  34.6121,3,  34.6160,2,     83.1,2,    83.1,2,  160.00,2,   40.12,2,    0.00,2,    2.83,2,   0.001,2,   0.000,2,   0.0000,2,  2364.7,2,  2415.8,2,   7.4542,2,    25.02,2, -999.00,1,  -999.0,1, -999.00,1, -999.00,1,       34.2,2, 20220616,     1306,  29.9993,-161.2140,     1.9976,2,     -999.0,9,     -999.0,9,     -999.0,9,     -999.0,9,     0.0134,1,     4.7044,1,     -999.0,9,     -999.0,9,     -999.0,9,     -999.0,9,     -999.0,9
33RR20220613,       P02E,     118,          1,         12,         12,2,20220616,       1147,    29.9993,  -161.2140,       5724,  2282.1,2,   1.8220,2,  34.6305,3,  34.6366,2,     94.0,2,    93.7,2,  163.22,2,   39.47,2,    0.00,2,    2.78,2,   0.002,2,   0.000,2,   0.0000,2,  2362.8,2,  2417.9,2,   7.4750,2,    25.02,2, -999.00,9,  -999.0,9, -999.00,1, -999.00,1,       31.1,2, 20220616,     1301,  29.9993,-161.2140,     1.8219,2,     -999.0,9,     -999.0,9,     -999.0,9,     -999.0,9,     0.0134,1,     4.7035,1,     -999.0,9,     -999.0,9,     -999.0,9,     -999.0,9,     -999.0,9
33RR20220613,       P02E,     118,          1,         11,         11,2,20220616,       1147,    29.9993,  -161.2140,       5724,  2535.2,2,   1.7081,2,  34.6440,3,  34.6513,2,    103.0,2,   103.2,2,  164.88,2,   38.91,2,    0.00,2,    2.74,2,-999.000,5,-999.000,5,-999.0000,5,  2357.4,2,  2421.8,2,   7.4931,2,    25.00,2, -999.00,1,  -999.0,1, -999.00,1, -999.00,1,     -999.0,5, 20220616,     1255,  29.9993,-161.2140,     1.7078,2,     -999.0,9,     -999.0,9,     -999.0,9,     -999.0,9,     0.0134,1,     4.7055,1,     -999.0,9,     -999.0,9,     -999.0,9,     -999.0,9,     -999.0,9
33RR20220613,       P02E,     118,          1,         10,         10,2,20220616,       1147,    29.9993,  -161.2140,       5724,  2791.4,2,   1.6250,2,  34.6550,3,  34.6594,2,    112.9,2,   113.0,2,  164.20,2,   38.28,2,    0.00,2,    2.68,2,   0.005,2,   0.000,2,   0.0000,2,  2352.3,2,  2423.0,2,   7.5114,2,    25.02,2, -999.00,1,  -999.0,1, -999.00,1, -999.00,1,       27.3,2, 20220616,     1250,  29.9993,-161.2140,     1.6249,2,     -999.0,9,     -999.0,9,     -999.0,9,     -999.0,9,     0.0122,1,     4.7055,1,     -999.0,9,     -999.0,9,     -999.0,9,     -999.0,9,     -999.0,9
33RR20220613,       P02E,     118,          1,          9,          9,2,20220616,       1147,    29.9993,  -161.2140,       5724,  3046.3,2,   1.5618,2,  34.6637,3,  34.6704,2,    121.9,2,   122.3,2,  162.73,2,   37.67,2,    0.00,2,    2.64,2,   0.004,2,   0.000,2,   0.0000,2,  2346.7,2,  2423.6,2,   7.5266,2,    25.01,2, -999.00,9,  -999.0,9, -999.00,1, -999.00,1,       26.1,2, 20220616,     1244,  29.9993,-161.2140,     1.5619,2,     -999.0,9,     -999.0,9,     -999.0,9,     -999.0,9,     0.0122,1,     4.7058,1,     -999.0,9,     -999.0,9,     -999.0,9,     -999.0,9,     -999.0,9
33RR20220613,       P02E,     118,          1,          8,          8,2,20220616,       1147,    29.9993,  -161.2140,       5724,  3351.9,2,   1.5219,2,  34.6705,2,  34.6724,2,    130.0,2,   130.5,2,  160.78,2,   37.18,2,    0.00,2,    2.59,2,   0.004,2,   0.000,2,   0.0000,2,  2341.3,2,  2421.9,2,   7.5420,2,    25.04,2, -999.00,1,  -999.0,1, -999.00,1, -999.00,1,       24.7,2, 20220616,     1238,  29.9993,-161.2140,     1.5218,2,     -999.0,9,     -999.0,9,     -999.0,9,     -999.0,9,     0.0122,1,     4.7063,1,     -999.0,9,     -999.0,9,     -999.0,9,     -999.0,9,     -999.0,9
33RR20220613,       P02E,     118,          1,          7,          7,2,20220616,       1147,    29.9993,  -161.2140,       5724,  3660.9,2,   1.4932,2,  34.6766,3,  34.6812,2,    137.7,2,   137.6,2,  158.53,2,   36.67,2,    0.00,2,    2.56,2,   0.003,2,   0.000,2,   0.0000,2,  2335.0,2,  -999.0,1,   7.5556,2,    25.03,2, -999.00,9,  -999.0,9, -999.00,1, -999.00,1,       23.8,2, 20220616,     1231,  29.9993,-161.2140,     1.4933,2,     -999.0,9,     -999.0,9,     -999.0,9,     -999.0,9,     0.0122,1,     4.7068,1,     -999.0,9,     -999.0,9,     -999.0,9,     -999.0,9,     -999.0,9
33RR20220613,       P02E,     118,          1,          6,          6,2,20220616,       1147,    29.9993,  -161.2140,       5724,  3965.8,2,   1.4819,2,  34.6811,3,  34.6857,2,    143.6,2,   143.6,2,  157.26,2,   36.29,2,    0.00,2,    2.53,2,   0.004,2,   0.000,2,   0.0000,2,  2330.2,2,  2423.2,2,   7.5664,2,    25.02,2, -999.00,9,  -999.0,9, -999.00,1, -999.00,1,       23.1,2, 20220616,     1224,  29.9993,-161.2140,     1.4821,2,     -999.0,9,     -999.0,9,     -999.0,9,     -999.0,9,     0.0121,1,     4.7061,1,     -999.0,9,     -999.0,9,     -999.0,9,     -999.0,9,     -999.0,9
33RR20220613,       P02E,     118,          1,          5,          5,2,20220616,       1147,    29.9993,  -161.2140,       5724,  4376.9,2,   1.4910,2,  34.6846,2,  34.6848,2,    149.5,2,   149.3,2,  154.13,2,   35.93,2,    0.00,2,    2.48,2,   0.004,2,   0.000,2,   0.0000,2,  2328.2,2,  2420.4,2,   7.5749,2,    25.02,2, -999.00,1,  -999.0,1, -999.00,1, -999.00,1,       22.6,2, 20220616,     1216,  29.9993,-161.2140,     1.4909,2,     -999.0,9,     -999.0,9,     -999.0,9,     -999.0,9,     0.0122,1,     4.7068,1,     -999.0,9,     -999.0,9,     -999.0,9,     -999.0,9,     -999.0,9