BOTTLE,20230830CCHSIOCBG
EXPOCODE,SECT_ID,STNNBR,CASTNO,SAMPNO,BTLNBR,BTLNBR_FLAG_W,DATE,TIME,LATITUDE,LONGITUDE,DEPTH,CTDPRS,CTDPRS_FLAG_W,CTDTMP,CTDTMP_FLAG_W,CTDSAL,CTDSAL_FLAG_W,SALNTY,SALNTY_FLAG_W,CTDOXY,CTDOXY_FLAG_W,OXYGEN,OXYGEN_FLAG_W,SILCAT,SILCAT_FLAG_W,NITRAT,NITRAT_FLAG_W,NITRIT,NITRIT_FLAG_W,PHSPHT,PHSPHT_FLAG_W,CFC-11,CFC-11_FLAG_W,CFC-12,CFC-12_FLAG_W,SF6,SF6_FLAG_W,TCARBN,TCARBN_FLAG_W,ALKALI,ALKALI_FLAG_W,PH_TOT,PH_TOT_FLAG_W,PH_TMP,PH_TMP_FLAG_W,DELC13,DELC13_FLAG_W,DELC14,DELC14_FLAG_W,DOC,DOC_FLAG_W,TDN,TDN_FLAG_W,N2O,N2O_FLAG_W,BTL_DATE,BTL_TIME,BTL_LAT,BTL_LON,REFTMP,REFTMP_FLAG_W,POC,POC_FLAG_W,PON,PON_FLAG_W,POP,POP_FLAG_W,PCOD,PCOD_FLAG_W,CTDFLUOR,CTDFLUOR_FLAG_W,CTDXMISS,CTDXMISS_FLAG_W,HPLC,HPLC_FLAG_W,DNA,DNA_FLAG_W,FCM,FCM_FLAG_W,IMAGES,IMAGES_FLAG_W,VIRAL_ABUNDANCE,VIRAL_ABUNDANCE_FLAG_W
,,,,,,,,,,,METERS,DBAR,,ITS-90,,PSS-78,,PSS-78,,UMOL/KG,,UMOL/KG,,UMOL/KG,,UMOL/KG,,UMOL/KG,,UMOL/KG,,PMOL/KG,,PMOL/KG,,FMOL/KG,,UMOL/KG,,UMOL/KG,,,,DEG C,,/MILLE,,/MILLE,,UMOL/KG,,UMOL/KG,,NMOL/KG,,,,,,ITS-90,,UG/L,,UG/L,,UG/L,,UG/L,,VOLTS,,VOLTS,,,,,,,,,,,
33RR20220613,       P02E,     190,          1,          4,          4,2,20220709,       0103,    31.5029,  -120.2869,       3935,  3247.5,2,   1.5896,2,  34.6688,3,  34.6724,2,    121.3,3,   124.2,2,  166.53,2,   37.89,2,    0.00,2,    2.63,2,   0.012,2,   0.014,2,   0.0000,2,  -999.0,9,  -999.0,9,-999.0000,9,  -999.00,9, -999.00,1,  -999.0,1, -999.00,1, -999.00,1,       24.6,2, 20220709,      121,  31.5029,-120.2869,     1.5898,2,     -999.0,9,     -999.0,9,     -999.0,9,     -999.0,9,     0.0125,1,     4.6947,1,     -999.0,9,     -999.0,9,     -999.0,9,     -999.0,9,     -999.0,9
33RR20220613,       P02E,     190,          1,          3,          3,2,20220709,       0103,    31.5029,  -120.2869,       3935,  3554.8,2,   1.5580,2,  34.6730,2,  34.6720,2,    125.7,2,   125.8,2,  167.50,2,   37.63,2,    0.00,2,    2.60,2,   0.013,2,   0.017,2,   0.0000,2,  2351.9,2,  2432.2,2,   7.5398,2,    25.00,2, -999.00,1,  -999.0,1, -999.00,1, -999.00,1,       24.7,2, 20220709,      114,  31.5029,-120.2869,     1.5579,2,     -999.0,9,     -999.0,9,     -999.0,9,     -999.0,9,     0.0126,1,     4.6947,1,     -999.0,9,     -999.0,9,     -999.0,9,     -999.0,9,     -999.0,9
33RR20220613,       P02E,     190,          1,          2,          2,2,20220709,       0103,    31.5029,  -120.2869,       3935,  3835.3,2,   1.5490,2,  34.6759,3,  34.6781,2,    128.6,2,   128.7,2,  167.99,2,   37.40,2,    0.00,2,    2.60,2,   0.016,2,   0.015,2,   0.0000,2,  2351.1,2,  2435.3,6,   7.5455,2,    25.02,2, -999.00,1,  -999.0,1, -999.00,1, -999.00,1,       24.4,2, 20220709,      108,  31.5029,-120.2869,     1.5489,2,     -999.0,9,     -999.0,9,     -999.0,9,     -999.0,9,     0.0124,1,     4.6922,1,     -999.0,9,     -999.0,9,     -999.0,9,     -999.0,9,     -999.0,9
33RR20220613,       P02E,     190,          1,          1,          1,2,20220709,       0103,    31.5029,  -120.2869,       3935,  3989.4,2,   1.5551,2,  34.6767,2,  34.6785,2,    129.3,2,   129.2,2,  168.19,2,   37.41,2,    0.00,2,    2.60,2,   0.016,2,   0.018,2,   0.0000,2,  2355.4,6,  2433.6,2,   7.5482,2,    25.02,2, -999.00,1,  -999.0,1, -999.00,1, -999.00,1,       24.7,2, 20220709,      103,  31.5029,-120.2869,     1.5550,2,     -999.0,9,     -999.0,9,     -999.0,9,     -999.0,9,     0.0123,1,     4.6842,1,     -999.0,9,     -999.0,9,     -999.0,9,     -999.0,9,     -999.0,9
33RR20220613,       P02E,     191,          1,         21,         21,2,20220709,       0649,    31.7500,  -119.8148,       3688,     3.2,2,  17.4661,2,  33.4202,2,-999.0000,9,    246.1,2,  -999.0,9, -999.00,9, -999.00,9, -999.00,9, -999.00,9,-999.000,9,-999.000,9,-999.0000,9,  -999.0,9,  -999.0,9,-999.0000,9,  -999.00,9, -999.00,9,  -999.0,9, -999.00,9, -999.00,9,     -999.0,9, 20220709,      719,  31.7500,-119.8148,     -999.0,9,     -999.0,9,     -999.0,9,     -999.0,1,     -999.0,9,     0.0489,1,     4.5603,1,     -999.0,9,     -999.0,9,     -999.0,9,     -999.0,9,     -999.0,9
33RR20220613,       P02E,     191,          1,         24,         24,2,20220709,       0649,    31.7500,  -119.8148,       3688,     3.4,2,  17.4654,2,  33.4189,2,-999.0000,9,    246.1,2,  -999.0,9, -999.00,9, -999.00,9, -999.00,9, -999.00,9,-999.000,9,-999.000,9,-999.0000,9,  -999.0,9,  -999.0,9,-999.0000,9,  -999.00,9, -999.00,9,  -999.0,9, -999.00,9, -999.00,9,     -999.0,9, 20220709,      719,  31.7500,-119.8148,     -999.0,9,     -999.0,9,     -999.0,9,     -999.0,9,     -999.0,1,     0.0491,1,     4.5622,1,     -999.0,9,     -999.0,9,     -999.0,9,     -999.0,9,     -999.0,9
33RR20220613,       P02E,     191,          1,         15,         15,2,20220709,       0649,    31.7500,  -119.8148,       3688,     3.4,2,  17.4668,2,  33.4200,2,-999.0000,9,    246.2,2,  -999.0,9, -999.00,9, -999.00,9, -999.00,9, -999.00,9,-999.000,9,-999.000,9,-999.0000,9,  -999.0,9,  -999.0,9,-999.0000,9,  -999.00,9, -999.00,9,  -999.0,9, -999.00,9, -999.00,9,     -999.0,9, 20220709,      719,  31.7500,-119.8148,    17.4658,2,     -999.0,9,     -999.0,9,     -999.0,9,     -999.0,9,     0.0517,1,     4.5625,1,     -999.0,1,     -999.0,9,     -999.0,9,     -999.0,9,     -999.0,9
33RR20220613,       P02E,     191,          1,         18,         18,2,20220709,       0649,    31.7500,  -119.8148,       3688,     3.6,2,  17.4663,2,  33.4200,2,-999.0000,9,    246.1,2,  -999.0,9, -999.00,9, -999.00,9, -999.00,9, -999.00,9,-999.000,9,-999.000,9,-999.0000,9,  -999.0,9,  -999.0,9,-999.0000,9,  -999.00,9, -999.00,9,  -999.0,9, -999.00,9, -999.00,9,     -999.0,9, 20220709,      719,  31.7500,-119.8148,     -999.0,9,     -999.0,1,     -999.0,1,     -999.0,9,     -999.0,9,     0.0499,1,     4.5579,1,     -999.0,9,     -999.0,9,     -999.0,9,     -999.0,9,     -999.0,9
33RR20220613,       P02E,     191,          1,         22,         22,2,20220709,       0649,    31.7500,  -119.8148,       3688,     3.6,2,  17.4660,2,  33.4202,2,-999.0000,9,    246.0,2,  -999.0,9, -999.00,9, -999.00,9, -999.00,9, -999.00,9,-999.000,9,-999.000,9,-999.0000,9,  -999.0,9,  -999.0,9,-999.0000,9,  -999.00,9, -999.00,9,  -999.0,9, -999.00,9, -999.00,9,     -999.0,9, 20220709,      719,  31.7500,-119.8148,     -999.0,9,     -999.0,9,     -999.0,9,     -999.0,1,     -999.0,9,     0.0486,1,     4.5605,1,     -999.0,9,     -999.0,9,     -999.0,9,     -999.0,9,     -999.0,9
33RR20220613,       P02E,     191,          1,         19,         39,2,20220709,       0649,    31.7500,  -119.8148,       3688,     3.6,2,  17.4662,2,  33.4201,2,-999.0000,9,    245.9,2,  -999.0,9, -999.00,9, -999.00,9, -999.00,9, -999.00,9,-999.000,9,-999.000,9,-999.0000,9,  -999.0,9,  -999.0,9,-999.0000,9,  -999.00,9, -999.00,9,  -999.0,9, -999.00,9, -999.00,9,     -999.0,9, 20220709,      719,  31.7500,-119.8148,     -999.0,9,     -999.0,1,     -999.0,1,     -999.0,9,     -999.0,9,     0.0503,1,     4.5626,1,     -999.0,9,     -999.0,9,     -999.0,9,     -999.0,9,     -999.0,9
33RR20220613,       P02E,     191,          1,         25,         25,2,20220709,       0649,    31.7500,  -119.8148,       3688,     3.6,2,  17.4652,2,  33.4202,2,-999.0000,9,    246.1,2,  -999.0,9, -999.00,9, -999.00,9, -999.00,9, -999.00,9,-999.000,9,-999.000,9,-999.0000,9,  -999.0,9,  -999.0,9,-999.0000,9,  -999.00,9, -999.00,9,  -999.0,9, -999.00,9, -999.00,9,     -999.0,9, 20220709,      720,  31.7500,-119.8148,    17.4647,2,     -999.0,9,     -999.0,9,     -999.0,9,     -999.0,1,     0.0494,1,     4.5591,1,     -999.0,9,     -999.0,9,     -999.0,9,     -999.0,9,     -999.0,9
33RR20220613,       P02E,     191,          1,         27,         27,2,20220709,       0649,    31.7500,  -119.8148,       3688,     3.7,2,  17.4656,2,  33.4201,2,-999.0000,9,    245.9,2,  -999.0,9, -999.00,9, -999.00,9, -999.00,9, -999.00,9,-999.000,9,-999.000,9,-999.0000,9,  -999.0,9,  -999.0,9,-999.0000,9,  -999.00,9, -999.00,9,  -999.0,9, -999.00,9, -999.00,9,     -999.0,9, 20220709,      720,  31.7500,-119.8148,     -999.0,9,     -999.0,9,     -999.0,9,     -999.0,9,     -999.0,9,     0.0487,1,     4.5622,1,     -999.0,9,     -999.0,9,     -999.0,9,     -999.0,9,     -999.0,1
33RR20220613,       P02E,     191,          1,         23,         23,2,20220709,       0649,    31.7500,  -119.8148,       3688,     3.8,2,  17.4656,2,  33.4202,2,-999.0000,9,    246.1,2,  -999.0,9, -999.00,9, -999.00,9, -999.00,9, -999.00,9,-999.000,9,-999.000,9,-999.0000,9,  -999.0,9,  -999.0,9,-999.0000,9,  -999.00,9, -999.00,9,  -999.0,9, -999.00,9, -999.00,9,     -999.0,9, 20220709,      719,  31.7500,-119.8148,     -999.0,9,     -999.0,9,     -999.0,9,     -999.0,1,     -999.0,9,     0.0486,1,     4.5625,1,     -999.0,9,     -999.0,9,     -999.0,9,     -999.0,9,     -999.0,9
33RR20220613,       P02E,     191,          1,         17,         37,2,20220709,       0649,    31.7500,  -119.8148,       3688,     3.8,2,  17.4664,2,  33.4199,2,-999.0000,9,    246.0,2,  -999.0,9, -999.00,9, -999.00,9, -999.00,9, -999.00,9,-999.000,9,-999.000,9,-999.0000,9,  -999.0,9,  -999.0,9,-999.0000,9,  -999.00,9, -999.00,9,  -999.0,9, -999.00,9, -999.00,9,     -999.0,9, 20220709,      719,  31.7500,-119.8148,     -999.0,9,     -999.0,9,     -999.0,9,     -999.0,9,     -999.0,9,     0.0489,1,     4.5603,1,     -999.0,9,     -999.0,1,     -999.0,9,     -999.0,9,     -999.0,9
33RR20220613,       P02E,     191,          1,         20,         20,2,20220709,       0649,    31.7500,  -119.8148,       3688,     3.9,2,  17.4662,2,  33.4201,2,-999.0000,9,    246.0,2,  -999.0,9, -999.00,9, -999.00,9, -999.00,9, -999.00,9,-999.000,9,-999.000,9,-999.0000,9,  -999.0,9,  -999.0,9,-999.0000,9,  -999.00,9, -999.00,9,  -999.0,9, -999.00,9, -999.00,9,     -999.0,9, 20220709,      719,  31.7500,-119.8148,     -999.0,9,     -999.0,1,     -999.0,1,     -999.0,9,     -999.0,9,     0.0501,1,     4.5608,1,     -999.0,9,     -999.0,9,     -999.0,9,     -999.0,9,     -999.0,9
33RR20220613,       P02E,     191,          1,         16,         16,2,20220709,       0649,    31.7500,  -119.8148,       3688,     3.9,2,  17.4664,2,  33.4200,2,-999.0000,9,    246.0,2,  -999.0,9, -999.00,9, -999.00,9, -999.00,9, -999.00,9,-999.000,9,-999.000,9,-999.0000,9,  -999.0,9,  -999.0,9,-999.0000,9,  -999.00,9, -999.00,9,  -999.0,9, -999.00,9, -999.00,9,     -999.0,9, 20220709,      719,  31.7500,-119.8148,     -999.0,9,     -999.0,1,     -999.0,1,     -999.0,9,     -999.0,9,     0.0503,1,     4.5595,1,     -999.0,9,     -999.0,9,     -999.0,1,     -999.0,9,     -999.0,9
33RR20220613,       P02E,     191,          1,         26,         26,2,20220709,       0649,    31.7500,  -119.8148,       3688,     3.9,2,  17.4650,2,  33.4202,2,-999.0000,9,    246.2,2,  -999.0,9, -999.00,9, -999.00,9, -999.00,9, -999.00,9,-999.000,9,-999.000,9,-999.0000,9,  -999.0,9,  -999.0,9,-999.0000,9,  -999.00,9, -999.00,9,  -999.0,9, -999.00,9, -999.00,9,     -999.0,9, 20220709,      720,  31.7500,-119.8148,     -999.0,9,     -999.0,9,     -999.0,9,     -999.0,9,     -999.0,1,     0.0471,1,     4.5626,1,     -999.0,9,     -999.0,9,     -999.0,9,     -999.0,9,     -999.0,9
33RR20220613,       P02E,     191,          1,         14,         42,2,20220709,       0649,    31.7500,  -119.8148,       3688,    15.4,2,  17.4514,2,  33.4205,2,-999.0000,9,    245.9,2,  -999.0,9, -999.00,9, -999.00,9, -999.00,9, -999.00,9,-999.000,9,-999.000,9,-999.0000,9,  -999.0,9,  -999.0,9,-999.0000,9,  -999.00,9, -999.00,9,  -999.0,9, -999.00,9, -999.00,9,     -999.0,9, 20220709,      717,  31.7500,-119.8148,     -999.0,9,     -999.0,1,     -999.0,1,     -999.0,9,     -999.0,9,     0.0505,1,     4.5602,1,     -999.0,9,     -999.0,9,     -999.0,9,     -999.0,9,     -999.0,9
33RR20220613,       P02E,     191,          1,         13,         13,2,20220709,       0649,    31.7500,  -119.8148,       3688,    15.7,2,  17.4530,2,  33.4203,2,-999.0000,9,    245.9,2,  -999.0,9, -999.00,9, -999.00,9, -999.00,9, -999.00,9,-999.000,9,-999.000,9,-999.0000,9,  -999.0,9,  -999.0,9,-999.0000,9,  -999.00,9, -999.00,9,  -999.0,9, -999.00,9, -999.00,9,     -999.0,9, 20220709,      717,  31.7500,-119.8148,    17.4558,2,     -999.0,9,     -999.0,9,     -999.0,9,     -999.0,9,     0.0515,1,     4.5552,1,     -999.0,1,     -999.0,9,     -999.0,1,     -999.0,9,     -999.0,9
33RR20220613,       P02E,     191,          1,         11,         11,2,20220709,       0649,    31.7500,  -119.8148,       3688,    23.7,2,  15.9095,2,  33.3568,2,-999.0000,9,    265.9,2,  -999.0,9, -999.00,9, -999.00,9, -999.00,9, -999.00,9,-999.000,9,-999.000,9,-999.0000,9,  -999.0,9,  -999.0,9,-999.0000,9,  -999.00,9, -999.00,9,  -999.0,9, -999.00,9, -999.00,9,     -999.0,9, 20220709,      715,  31.7500,-119.8147,    15.8415,2,     -999.0,9,     -999.0,9,     -999.0,9,     -999.0,9,     0.0751,1,     4.5279,1,     -999.0,1,     -999.0,9,     -999.0,1,     -999.0,9,     -999.0,9
33RR20220613,       P02E,     191,          1,         12,         12,2,20220709,       0649,    31.7500,  -119.8148,       3688,    23.7,2,  15.8968,2,  33.3582,2,-999.0000,9,    266.2,2,  -999.0,9, -999.00,9, -999.00,9, -999.00,9, -999.00,9,-999.000,9,-999.000,9,-999.0000,9,  -999.0,9,  -999.0,9,-999.0000,9,  -999.00,9, -999.00,9,  -999.0,9, -999.00,9, -999.00,9,     -999.0,9, 20220709,      715,  31.7500,-119.8147,     -999.0,9,     -999.0,1,     -999.0,1,     -999.0,9,     -999.0,9,     0.0750,1,     4.5236,1,     -999.0,9,     -999.0,9,     -999.0,9,     -999.0,9,     -999.0,9
33RR20220613,       P02E,     191,          1,          9,          9,2,20220709,       0649,    31.7500,  -119.8148,       3688,    30.7,2,  14.1914,2,  33.3157,2,-999.0000,9,    263.6,2,  -999.0,9, -999.00,9, -999.00,9, -999.00,9, -999.00,9,-999.000,9,-999.000,9,-999.0000,9,  -999.0,9,  -999.0,9,-999.0000,9,  -999.00,9, -999.00,9,  -999.0,9, -999.00,9, -999.00,9,     -999.0,9, 20220709,      713,  31.7500,-119.8148,     -999.0,9,     -999.0,1,     -999.0,1,     -999.0,9,     -999.0,9,     0.0676,1,     4.5609,1,     -999.0,9,     -999.0,9,     -999.0,9,     -999.0,9,     -999.0,9
33RR20220613,       P02E,     191,          1,         10,         10,2,20220709,       0649,    31.7500,  -119.8148,       3688,    30.8,2,  14.1685,2,  33.3155,2,-999.0000,9,    263.7,2,  -999.0,9, -999.00,9, -999.00,9, -999.00,9, -999.00,9,-999.000,9,-999.000,9,-999.0000,9,  -999.0,9,  -999.0,9,-999.0000,9,  -999.00,9, -999.00,9,  -999.0,9, -999.00,9, -999.00,9,     -999.0,9, 20220709,      713,  31.7500,-119.8148,     -999.0,9,     -999.0,9,     -999.0,9,     -999.0,9,     -999.0,9,     0.0677,1,     4.5598,1,     -999.0,9,     -999.0,1,     -999.0,9,     -999.0,9,     -999.0,9
33RR20220613,       P02E,     191,          1,          8,          8,2,20220709,       0649,    31.7500,  -119.8148,       3688,    30.9,2,  14.1751,2,  33.3158,2,-999.0000,9,    263.7,2,  -999.0,9, -999.00,9, -999.00,9, -999.00,9, -999.00,9,-999.000,9,-999.000,9,-999.0000,9,  -999.0,9,  -999.0,9,-999.0000,9,  -999.00,9, -999.00,9,  -999.0,9, -999.00,9, -999.00,9,     -999.0,9, 20220709,      713,  31.7500,-119.8148,    14.1569,2,     -999.0,9,     -999.0,9,     -999.0,9,     -999.0,9,     0.0660,1,     4.5584,1,     -999.0,1,     -999.0,9,     -999.0,1,     -999.0,9,     -999.0,9
33RR20220613,       P02E,     191,          1,          6,          6,2,20220709,       0649,    31.7500,  -119.8148,       3688,    81.4,2,  10.9451,2,  33.5351,2,-999.0000,9,    182.0,2,  -999.0,9, -999.00,9, -999.00,9, -999.00,9, -999.00,9,-999.000,9,-999.000,9,-999.0000,9,  -999.0,9,  -999.0,9,-999.0000,9,  -999.00,9, -999.00,9,  -999.0,9, -999.00,9, -999.00,9,     -999.0,9, 20220709,      709,  31.7500,-119.8148,    10.9473,2,     -999.0,9,     -999.0,9,     -999.0,9,     -999.0,9,     0.0204,1,     4.6581,1,     -999.0,1,     -999.0,9,     -999.0,1,     -999.0,9,     -999.0,9
33RR20220613,       P02E,     191,          1,          7,          7,2,20220709,       0649,    31.7500,  -119.8148,       3688,    81.5,2,  10.9294,2,  33.5421,2,-999.0000,9,    182.1,2,  -999.0,9, -999.00,9, -999.00,9, -999.00,9, -999.00,9,-999.000,9,-999.000,9,-999.0000,9,  -999.0,9,  -999.0,9,-999.0000,9,  -999.00,9, -999.00,9,  -999.0,9, -999.00,9, -999.00,9,     -999.0,9, 20220709,      709,  31.7500,-119.8148,     -999.0,9,     -999.0,1,     -999.0,1,     -999.0,9,     -999.0,9,     0.0195,1,     4.6575,1,     -999.0,9,     -999.0,9,     -999.0,9,     -999.0,9,     -999.0,9
33RR20220613,       P02E,     191,          1,          5,          5,2,20220709,       0649,    31.7500,  -119.8148,       3688,   202.6,2,   8.2692,2,  34.0339,2,-999.0000,9,    106.3,2,  -999.0,9, -999.00,9, -999.00,9, -999.00,9, -999.00,9,-999.000,9,-999.000,9,-999.0000,9,  -999.0,9,  -999.0,9,-999.0000,9,  -999.00,9, -999.00,9,  -999.0,9, -999.00,9, -999.00,9,     -999.0,9, 20220709,      705,  31.7500,-119.8147,     -999.0,9,     -999.0,1,     -999.0,1,     -999.0,9,     -999.0,9,     0.0134,1,     4.6742,1,     -999.0,9,     -999.0,9,     -999.0,9,     -999.0,9,     -999.0,9
33RR20220613,       P02E,     191,          1,          4,          4,2,20220709,       0649,    31.7500,  -119.8148,       3688,   202.9,2,   8.2662,2,  34.0343,2,-999.0000,9,    106.8,2,  -999.0,9, -999.00,9, -999.00,9, -999.00,9, -999.00,9,-999.000,9,-999.000,9,-999.0000,9,  -999.0,9,  -999.0,9,-999.0000,9,  -999.00,9, -999.00,9,  -999.0,9, -999.00,9, -999.00,9,     -999.0,9, 20220709,      705,  31.7500,-119.8147,     -999.0,9,     -999.0,9,     -999.0,9,     -999.0,9,     -999.0,9,     0.0132,1,     4.6739,1,     -999.0,1,     -999.0,9,     -999.0,9,     -999.0,9,     -999.0,9
33RR20220613,       P02E,     191,          1,          3,          3,2,20220709,       0649,    31.7500,  -119.8148,       3688,   202.9,2,   8.2617,2,  34.0347,2,-999.0000,9,    106.9,2,  -999.0,9, -999.00,9, -999.00,9, -999.00,9, -999.00,9,-999.000,9,-999.000,9,-999.0000,9,  -999.0,9,  -999.0,9,-999.0000,9,  -999.00,9, -999.00,9,  -999.0,9, -999.00,9, -999.00,9,     -999.0,9, 20220709,      705,  31.7500,-119.8147,     8.2666,2,     -999.0,9,     -999.0,9,     -999.0,9,     -999.0,9,     0.0128,1,     4.6739,1,     -999.0,9,     -999.0,1,     -999.0,1,     -999.0,9,     -999.0,9
33RR20220613,       P02E,     191,          1,          2,          2,2,20220709,       0649,    31.7500,  -119.8148,       3688,   503.8,2,   6.0906,2,  34.2997,2,-999.0000,9,     13.5,2,  -999.0,9, -999.00,9, -999.00,9, -999.00,9, -999.00,9,-999.000,9,-999.000,9,-999.0000,9,  -999.0,9,  -999.0,9,-999.0000,9,  -999.00,9, -999.00,9,  -999.0,9, -999.00,9, -999.00,9,     -999.0,9, 20220709,      659,  31.7501,-119.8148,     6.0905,2,     -999.0,9,     -999.0,9,     -999.0,9,     -999.0,9,     0.0134,1,     4.6812,1,     -999.0,9,     -999.0,9,     -999.0,1,     -999.0,9,     -999.0,9
33RR20220613,       P02E,     191,          1,          1,          1,2,20220709,       0649,    31.7500,  -119.8148,       3688,  1013.2,2,   4.0092,2,  34.4838,2,-999.0000,9,     23.4,2,  -999.0,9, -999.00,9, -999.00,9, -999.00,9, -999.00,9,-999.000,9,-999.000,9,-999.0000,9,  -999.0,9,  -999.0,9,-999.0000,9,  -999.00,9, -999.00,9,  -999.0,9, -999.00,9, -999.00,9,     -999.0,9, 20220709,      649,  31.7500,-119.8147,     4.0075,2,     -999.0,9,     -999.0,9,     -999.0,9,     -999.0,9,     0.0134,1,     4.6867,1,     -999.0,9,     -999.0,1,     -999.0,1,     -999.0,9,     -999.0,9