BOTTLE,20230830CCHSIOCBG
EXPOCODE,SECT_ID,STNNBR,CASTNO,SAMPNO,BTLNBR,BTLNBR_FLAG_W,DATE,TIME,LATITUDE,LONGITUDE,DEPTH,CTDPRS,CTDPRS_FLAG_W,CTDTMP,CTDTMP_FLAG_W,CTDSAL,CTDSAL_FLAG_W,SALNTY,SALNTY_FLAG_W,CTDOXY,CTDOXY_FLAG_W,OXYGEN,OXYGEN_FLAG_W,SILCAT,SILCAT_FLAG_W,NITRAT,NITRAT_FLAG_W,NITRIT,NITRIT_FLAG_W,PHSPHT,PHSPHT_FLAG_W,CFC-11,CFC-11_FLAG_W,CFC-12,CFC-12_FLAG_W,SF6,SF6_FLAG_W,TCARBN,TCARBN_FLAG_W,ALKALI,ALKALI_FLAG_W,PH_TOT,PH_TOT_FLAG_W,PH_TMP,PH_TMP_FLAG_W,DELC13,DELC13_FLAG_W,DELC14,DELC14_FLAG_W,DOC,DOC_FLAG_W,TDN,TDN_FLAG_W,N2O,N2O_FLAG_W,BTL_DATE,BTL_TIME,BTL_LAT,BTL_LON,REFTMP,REFTMP_FLAG_W,POC,POC_FLAG_W,PON,PON_FLAG_W,POP,POP_FLAG_W,PCOD,PCOD_FLAG_W,CTDFLUOR,CTDFLUOR_FLAG_W,CTDXMISS,CTDXMISS_FLAG_W,HPLC,HPLC_FLAG_W,DNA,DNA_FLAG_W,FCM,FCM_FLAG_W,IMAGES,IMAGES_FLAG_W,VIRAL_ABUNDANCE,VIRAL_ABUNDANCE_FLAG_W
,,,,,,,,,,,METERS,DBAR,,ITS-90,,PSS-78,,PSS-78,,UMOL/KG,,UMOL/KG,,UMOL/KG,,UMOL/KG,,UMOL/KG,,UMOL/KG,,PMOL/KG,,PMOL/KG,,FMOL/KG,,UMOL/KG,,UMOL/KG,,,,DEG C,,/MILLE,,/MILLE,,UMOL/KG,,UMOL/KG,,NMOL/KG,,,,,,ITS-90,,UG/L,,UG/L,,UG/L,,UG/L,,VOLTS,,VOLTS,,,,,,,,,,,
33RR20220613,       P02E,     161,          2,         36,         36,2,20220630,       1218,    29.9999,  -136.3865,       4476,     2.9,2,  21.3549,2,  34.3270,2,  34.3154,2,    226.9,2,   226.5,2,    1.56,2,    0.04,2,    0.00,2,    0.12,2,   1.890,2,   1.194,2,   1.8872,2,  2034.2,2,  2278.0,2,   7.9528,2,    25.02,2, -999.00,9,  -999.0,9, -999.00,9, -999.00,9,        7.5,2, 20220630,     1417,  29.9999,-136.3865,    21.3497,2,     -999.0,9,     -999.0,9,     -999.0,9,     -999.0,9,     0.0134,1,     4.6284,1,     -999.0,9,     -999.0,9,     -999.0,9,     -999.0,9,     -999.0,9
33RR20220613,       P02E,     161,          2,         35,         35,2,20220630,       1218,    29.9999,  -136.3865,       4476,    26.0,2,  21.3489,2,  34.3220,2,  34.3056,2,    226.5,2,   226.9,2,    1.37,2,    0.01,2,    0.00,2,    0.10,2,   1.869,2,   1.187,2,   1.8544,2,  2032.9,6,  2277.6,2,   7.9519,2,    25.00,2, -999.00,9,  -999.0,9, -999.00,9, -999.00,9,        7.5,2, 20220630,     1415,  29.9999,-136.3865,    21.3476,2,     -999.0,9,     -999.0,9,     -999.0,9,     -999.0,9,     0.0134,1,     4.6289,1,     -999.0,9,     -999.0,9,     -999.0,9,     -999.0,9,     -999.0,9
33RR20220613,       P02E,     161,          2,         34,         34,2,20220630,       1218,    29.9999,  -136.3865,       4476,    50.8,2,  19.5229,2,  34.3405,3,  34.3062,2,    241.9,2,   241.9,2,    1.37,2,    0.00,2,    0.00,2,    0.07,2,   2.091,2,   1.292,2,   1.9762,2,  2029.1,2,  2272.8,2,   7.9535,2,    25.02,2, -999.00,9,  -999.0,9, -999.00,9, -999.00,9,        7.9,2, 20220630,     1414,  29.9999,-136.3865,    19.5444,2,     -999.0,9,     -999.0,9,     -999.0,9,     -999.0,9,     0.0147,1,     4.6401,1,     -999.0,9,     -999.0,9,     -999.0,9,     -999.0,9,     -999.0,9
33RR20220613,       P02E,     161,          2,         33,         33,2,20220630,       1218,    29.9999,  -136.3865,       4476,    77.0,2,  18.1300,2,  34.0813,2,  34.0727,2,    243.1,2,   243.7,2,    1.17,2,    0.00,2,    0.00,2,    0.10,2,   2.156,2,   1.329,2,   2.1225,2,  2023.4,2,  2243.3,2,   7.9416,2,    25.02,2, -999.00,9,  -999.0,9, -999.00,9, -999.00,9,        8.0,2, 20220630,     1412,  29.9999,-136.3865,    18.1302,2,     -999.0,9,     -999.0,9,     -999.0,9,     -999.0,9,     0.0162,1,     4.6423,1,     -999.0,9,     -999.0,9,     -999.0,9,     -999.0,9,     -999.0,9
33RR20220613,       P02E,     161,          2,         32,         32,2,20220630,       1218,    29.9999,  -136.3865,       4476,   106.1,2,  17.4449,2,  34.0687,3,  34.0989,2,    239.7,2,   239.2,2,    1.37,2,    0.00,2,    0.01,2,    0.10,2,   2.203,2,   1.354,2,   2.2171,2,  2028.8,2,  2258.4,2,   7.9298,2,    25.02,2, -999.00,9,  -999.0,9, -999.00,9, -999.00,9,        8.4,2, 20220630,     1410,  29.9999,-136.3865,    17.5297,2,     -999.0,9,     -999.0,9,     -999.0,9,     -999.0,9,     0.0226,1,     4.6484,1,     -999.0,9,     -999.0,9,     -999.0,9,     -999.0,9,     -999.0,9
33RR20220613,       P02E,     161,          2,         31,         31,2,20220630,       1218,    29.9999,  -136.3865,       4476,   126.7,2,  16.1003,2,  33.8818,2,  33.8825,2,    237.0,2,   235.7,2,    1.76,2,    0.16,2,    0.02,2,    0.18,2,   2.326,2,   1.430,2,   2.2331,2,  2031.7,2,  2245.5,6,   7.9012,2,    25.00,2, -999.00,9,  -999.0,9, -999.00,9, -999.00,9,        9.3,2, 20220630,     1408,  29.9999,-136.3865,    16.0498,3,     -999.0,9,     -999.0,9,     -999.0,9,     -999.0,9,     0.0372,1,     4.6445,1,     -999.0,9,     -999.0,9,     -999.0,9,     -999.0,9,     -999.0,9
33RR20220613,       P02E,     161,          2,         30,         17,2,20220630,       1218,    29.9999,  -136.3865,       4476,   151.8,2,  14.6480,2,  33.8008,3,  33.8468,2,    224.4,2,   224.6,2,    3.03,2,    2.64,2,    0.02,2,    0.35,2,   2.509,2,   1.549,2,   2.1913,2,  2047.0,2,  2239.1,2,   7.8526,2,    25.00,2, -999.00,9,  -999.0,9, -999.00,9, -999.00,9,       10.5,2, 20220630,     1407,  29.9999,-136.3865,    14.6477,2,     -999.0,9,     -999.0,9,     -999.0,9,     -999.0,9,     0.0243,1,     4.6640,1,     -999.0,9,     -999.0,9,     -999.0,9,     -999.0,9,     -999.0,9
33RR20220613,       P02E,     161,          2,         29,         29,2,20220630,       1218,    29.9999,  -136.3865,       4476,   202.6,2,  12.1353,2,  33.8659,2,  33.8600,2,    213.7,2,   213.4,2,    7.73,2,    8.73,2,    0.00,2,    0.71,2,   2.818,2,   1.714,2,   2.1912,2,  2080.4,2,  2238.8,2,   7.7723,2,    25.01,2, -999.00,9,  -999.0,9, -999.00,9, -999.00,9,       13.3,2, 20220630,     1405,  29.9999,-136.3865,    12.0855,3,     -999.0,9,     -999.0,9,     -999.0,9,     -999.0,9,     0.0134,1,     4.6782,1,     -999.0,9,     -999.0,9,     -999.0,9,     -999.0,9,     -999.0,9
33RR20220613,       P02E,     161,          2,         28,         28,2,20220630,       1218,    29.9999,  -136.3865,       4476,   251.9,2,  10.1019,2,  33.9549,2,-999.0000,5,    203.7,2,   204.0,2,   15.06,2,   14.93,2,    0.00,2,    1.07,2,   3.007,2,   1.813,2,   2.0406,2,  2115.8,2,  2248.8,2,   7.7076,2,    25.01,2, -999.00,9,  -999.0,9, -999.00,9, -999.00,9,       17.7,2, 20220630,     1402,  29.9999,-136.3865,    10.1534,2,     -999.0,9,     -999.0,9,     -999.0,9,     -999.0,9,     0.0122,1,     4.6839,1,     -999.0,9,     -999.0,9,     -999.0,9,     -999.0,9,     -999.0,9
33RR20220613,       P02E,     161,          2,         27,         27,2,20220630,       1218,    29.9999,  -136.3865,       4476,   303.2,2,   9.3380,2,  34.0135,2,  34.0090,2,    199.0,2,   198.7,2,   20.84,2,   17.72,2,    0.00,2,    1.22,2,   3.037,2,   1.837,2,   1.9268,2,  2133.3,2,  2256.8,2,   7.6814,2,    25.01,2, -999.00,9,  -999.0,9, -999.00,9, -999.00,9,       20.9,2, 20220630,     1401,  29.9999,-136.3865,     9.3581,2,     -999.0,9,     -999.0,9,     -999.0,9,     -999.0,9,     0.0122,1,     4.6850,1,     -999.0,9,     -999.0,9,     -999.0,9,     -999.0,9,     -999.0,9
33RR20220613,       P02E,     161,          2,         26,         26,2,20220630,       1218,    29.9999,  -136.3865,       4476,   352.9,2,   8.5854,2,  34.0117,2,  34.0129,2,    175.7,2,   176.3,2,   28.27,2,   21.54,2,    0.00,2,    1.47,2,   2.986,2,   1.776,2,   1.6397,2,  -999.0,9,  -999.0,9,-999.0000,9,  -999.00,9, -999.00,9,  -999.0,9, -999.00,9, -999.00,9,       24.7,2, 20220630,     1359,  29.9999,-136.3865,     8.5804,2,     -999.0,9,     -999.0,9,     -999.0,9,     -999.0,9,     0.0125,1,     4.6855,1,     -999.0,9,     -999.0,9,     -999.0,9,     -999.0,9,     -999.0,9
33RR20220613,       P02E,     161,          2,         25,         25,2,20220630,       1218,    29.9999,  -136.3865,       4476,   403.5,2,   7.6499,2,  34.0042,2,  34.0025,2,    145.8,3,   148.2,2,   38.15,2,   26.02,2,    0.00,2,    1.78,2,   2.780,2,   1.641,2,   1.1874,2,  2190.5,2,  2269.9,2,   7.5575,2,    25.01,2, -999.00,9,  -999.0,9, -999.00,9, -999.00,9,       28.7,2, 20220630,     1357,  29.9999,-136.3865,     7.6758,2,     -999.0,9,     -999.0,9,     -999.0,9,     -999.0,9,     0.0130,1,     4.6861,1,     -999.0,9,     -999.0,9,     -999.0,9,     -999.0,9,     -999.0,9
33RR20220613,       P02E,     161,          2,         24,         24,2,20220630,       1218,    29.9999,  -136.3865,       4476,   454.3,2,   6.6208,2,  34.0001,2,  33.9994,2,    101.7,2,   101.8,2,   53.51,2,   32.53,2,    0.00,2,    2.25,2,   2.268,2,   1.346,2,   0.7271,2,  -999.0,9,  -999.0,9,-999.0000,9,  -999.00,9, -999.00,9,  -999.0,9, -999.00,9, -999.00,9,       34.4,2, 20220630,     1354,  29.9999,-136.3865,     6.6111,2,     -999.0,9,     -999.0,9,     -999.0,9,     -999.0,9,     0.0134,1,     4.6862,1,     -999.0,9,     -999.0,9,     -999.0,9,     -999.0,9,     -999.0,9
33RR20220613,       P02E,     161,          2,         23,         23,2,20220630,       1218,    29.9999,  -136.3865,       4476,   503.9,2,   5.9566,2,  34.0263,2,  34.0362,2,     75.6,2,    76.1,2,   64.66,2,   35.91,2,    0.00,2,    2.49,2,   1.866,2,   1.079,2,   0.5312,2,  2265.5,2,  2290.2,2,   7.3887,2,    25.00,2, -999.00,9,  -999.0,9, -999.00,9, -999.00,9,       38.4,2, 20220630,     1352,  29.9999,-136.3865,     5.9566,2,     -999.0,9,     -999.0,9,     -999.0,9,     -999.0,9,     0.0134,1,     4.6872,1,     -999.0,9,     -999.0,9,     -999.0,9,     -999.0,9,     -999.0,9
33RR20220613,       P02E,     161,          2,         22,         22,2,20220630,       1218,    29.9999,  -136.3865,       4476,   604.5,2,   5.1228,2,  34.1406,2,  34.1381,2,     30.3,3,    30.6,2,   85.09,2,   40.88,2,    0.00,2,    2.88,2,-999.000,9,-999.000,9,-999.0000,9,  -999.0,9,  -999.0,9,-999.0000,9,  -999.00,9, -999.00,9,  -999.0,9, -999.00,9, -999.00,9,     -999.0,9, 20220630,     1349,  29.9999,-136.3865,     5.1204,2,     -999.0,9,     -999.0,9,     -999.0,9,     -999.0,9,     0.0134,1,     4.6874,1,     -999.0,9,     -999.0,9,     -999.0,9,     -999.0,9,     -999.0,9
33RR20220613,       P02E,     161,          2,         21,         21,2,20220630,       1218,    29.9999,  -136.3865,       4476,   705.3,2,   4.5665,2,  34.2222,2,  34.2201,2,     17.4,2,    17.5,2,   99.37,2,   42.71,2,    0.00,2,    3.01,2,   0.356,2,   0.207,2,   0.1329,2,  2337.0,2,  2329.8,2,   7.2971,2,    25.00,2, -999.00,9,  -999.0,9, -999.00,9, -999.00,9,       53.6,2, 20220630,     1346,  29.9999,-136.3865,     4.5654,2,     -999.0,9,     -999.0,9,     -999.0,9,     -999.0,9,     0.0134,1,     4.6884,1,     -999.0,9,     -999.0,9,     -999.0,9,     -999.0,9,     -999.0,9
33RR20220613,       P02E,     161,          2,         20,         20,2,20220630,       1218,    29.9999,  -136.3865,       4476,   806.8,2,   4.2651,2,  34.3227,2,  34.3242,2,     12.2,3,    12.0,2,  109.53,2,   43.58,2,    0.00,2,    3.09,3,-999.000,9,-999.000,9,-999.0000,9,  2353.6,2,  2347.9,2,   7.3017,2,    25.00,2, -999.00,9,  -999.0,9, -999.00,9, -999.00,9,     -999.0,9, 20220630,     1343,  29.9999,-136.3865,     4.2683,2,     -999.0,9,     -999.0,9,     -999.0,9,     -999.0,9,     0.0134,1,     4.6884,1,     -999.0,9,     -999.0,9,     -999.0,9,     -999.0,9,     -999.0,9
33RR20220613,       P02E,     161,          2,         19,         39,2,20220630,       1218,    29.9999,  -136.3865,       4476,   907.3,2,   3.9852,2,  34.3928,2,  34.3906,2,     15.7,3,    15.6,2,  115.20,2,   43.75,2,    0.00,2,    3.09,3,   0.027,2,   0.019,2,   0.0000,2,  2361.2,2,  2360.4,2,   7.3178,2,    25.01,2, -999.00,9,  -999.0,9, -999.00,9, -999.00,9,       54.8,2, 20220630,     1340,  29.9999,-136.3865,     3.9862,2,     -999.0,9,     -999.0,9,     -999.0,9,     -999.0,9,     0.0134,1,     4.6885,1,     -999.0,9,     -999.0,9,     -999.0,9,     -999.0,9,     -999.0,9
33RR20220613,       P02E,     161,          2,         18,         18,2,20220630,       1218,    29.9999,  -136.3865,       4476,  1010.1,2,   3.7011,2,  34.4529,2,  34.4498,2,     24.7,2,    24.7,2,  122.04,2,   43.51,2,    0.00,2,    3.05,3,-999.000,9,-999.000,9,-999.0000,9,  2362.9,2,  2371.4,2,   7.3409,2,    25.00,2, -999.00,9,  -999.0,9, -999.00,9, -999.00,9,     -999.0,9, 20220630,     1337,  29.9999,-136.3865,     3.6978,2,     -999.0,9,     -999.0,9,     -999.0,9,     -999.0,9,     0.0134,1,     4.6891,1,     -999.0,9,     -999.0,9,     -999.0,9,     -999.0,9,     -999.0,9
33RR20220613,       P02E,     161,          2,         17,         37,2,20220630,       1218,    29.9999,  -136.3865,       4476,  1111.4,2,   3.4736,2,  34.4884,2,  34.4850,2,     34.3,2,  -999.0,5,  126.24,2,   43.13,2,    0.00,2,    3.01,3,   0.008,2,   0.009,2,   0.0000,2,  2363.8,2,  2377.8,2,   7.3625,2,    25.01,2, -999.00,9,  -999.0,9, -999.00,9, -999.00,9,       46.4,2, 20220630,     1334,  29.9999,-136.3865,     3.4742,2,     -999.0,9,     -999.0,9,     -999.0,9,     -999.0,9,     0.0134,1,     4.6895,1,     -999.0,9,     -999.0,9,     -999.0,9,     -999.0,9,     -999.0,9
33RR20220613,       P02E,     161,          2,         16,         16,2,20220630,       1218,    29.9999,  -136.3865,       4476,  1212.1,2,   3.2331,2,  34.5127,2,  34.5095,2,     39.4,2,    39.3,2,  136.99,3,   42.78,3,    0.00,3,    2.96,3,-999.000,9,-999.000,9,-999.0000,9,  -999.0,9,  -999.0,9,-999.0000,9,  -999.00,9, -999.00,9,  -999.0,9, -999.00,9, -999.00,9,     -999.0,9, 20220630,     1331,  29.9999,-136.3865,     3.2362,2,     -999.0,9,     -999.0,9,     -999.0,9,     -999.0,9,     0.0134,1,     4.6901,1,     -999.0,9,     -999.0,9,     -999.0,9,     -999.0,9,     -999.0,9
33RR20220613,       P02E,     161,          2,         15,         15,2,20220630,       1218,    29.9999,  -136.3865,       4476,  1313.9,2,   3.0302,2,  34.5338,2,  34.5307,2,     45.5,2,    45.3,2,  146.97,3,   42.22,3,    0.00,3,    2.90,3,   0.006,2,   0.006,2,   0.0000,2,  2366.7,2,  2391.2,2,   7.3874,2,    25.03,2, -999.00,9,  -999.0,9, -999.00,9, -999.00,9,       41.9,2, 20220630,     1328,  29.9999,-136.3865,     3.0320,2,     -999.0,9,     -999.0,9,     -999.0,9,     -999.0,9,     0.0133,1,     4.6908,1,     -999.0,9,     -999.0,9,     -999.0,9,     -999.0,9,     -999.0,9
33RR20220613,       P02E,     161,          2,         14,         42,2,20220630,       1218,    29.9999,  -136.3865,       4476,  1415.2,2,   2.8406,2,  34.5514,2,  34.5474,2,     51.2,2,    51.0,2,  148.72,3,   41.96,3,    0.00,3,    2.90,3,-999.000,9,-999.000,9,-999.0000,9,  -999.0,9,  -999.0,9,-999.0000,9,  -999.00,9, -999.00,9,  -999.0,9, -999.00,9, -999.00,9,     -999.0,9, 20220630,     1325,  29.9999,-136.3865,     2.8409,2,     -999.0,9,     -999.0,9,     -999.0,9,     -999.0,9,     0.0134,1,     4.6911,1,     -999.0,9,     -999.0,9,     -999.0,9,     -999.0,9,     -999.0,9
33RR20220613,       P02E,     161,          2,         13,         13,2,20220630,       1218,    29.9999,  -136.3865,       4476,  1515.7,2,   2.6361,2,  34.5688,2,  34.5675,2,     57.1,2,    57.1,2,  146.86,2,   42.15,2,    0.00,2,    2.92,3,   0.004,2,   0.003,2,   0.0000,2,  2370.6,2,  2404.9,2,   7.4081,2,    25.01,2, -999.00,9,  -999.0,9, -999.00,9, -999.00,9,       37.4,2, 20220630,     1322,  29.9999,-136.3865,     2.6357,2,     -999.0,9,     -999.0,9,     -999.0,9,     -999.0,9,     0.0134,1,     4.6921,1,     -999.0,9,     -999.0,9,     -999.0,9,     -999.0,9,     -999.0,9
33RR20220613,       P02E,     161,          2,         12,         12,2,20220630,       1218,    29.9999,  -136.3865,       4476,  1618.6,2,   2.5122,2,  34.5796,2,  34.5777,2,     60.9,2,    61.1,2,  150.29,2,   41.92,2,    0.00,2,    2.92,3,-999.000,9,-999.000,9,-999.0000,9,  -999.0,9,  -999.0,9,-999.0000,9,  -999.00,9, -999.00,9,  -999.0,9, -999.00,9, -999.00,9,     -999.0,9, 20220630,     1319,  29.9999,-136.3866,     2.5123,2,     -999.0,9,     -999.0,9,     -999.0,9,     -999.0,9,     0.0134,1,     4.6921,1,     -999.0,9,     -999.0,9,     -999.0,9,     -999.0,9,     -999.0,9
33RR20220613,       P02E,     161,          2,         11,         11,2,20220630,       1218,    29.9999,  -136.3865,       4476,  1820.3,2,   2.2134,2,  34.6033,2,  34.6030,2,     70.8,2,    70.8,2,  158.50,2,   41.32,2,    0.00,2,    2.88,2,   0.003,2,   0.002,2,   0.0000,2,  2372.5,2,  2412.5,6,   7.4335,2,    25.01,2, -999.00,9,  -999.0,9, -999.00,9, -999.00,9,       32.9,2, 20220630,     1315,  29.9999,-136.3865,     2.2140,2,     -999.0,9,     -999.0,9,     -999.0,9,     -999.0,9,     0.0133,1,     4.6934,1,     -999.0,9,     -999.0,9,     -999.0,9,     -999.0,9,     -999.0,9
33RR20220613,       P02E,     161,          2,         10,         10,2,20220630,       1218,    29.9999,  -136.3865,       4476,  2023.6,2,   2.0193,2,  34.6206,3,  34.6179,2,     79.8,2,    79.7,2,  163.68,2,   40.77,2,    0.00,2,    2.83,2,-999.000,9,-999.000,9,-999.0000,9,  -999.0,9,  -999.0,9,-999.0000,9,  -999.00,9, -999.00,9,  -999.0,9, -999.00,9, -999.00,9,     -999.0,9, 20220630,     1309,  29.9999,-136.3865,     2.0192,2,     -999.0,9,     -999.0,9,     -999.0,9,     -999.0,9,     0.0134,1,     4.6936,1,     -999.0,9,     -999.0,9,     -999.0,9,     -999.0,9,     -999.0,9
33RR20220613,       P02E,     161,          2,          9,          9,2,20220630,       1218,    29.9999,  -136.3865,       4476,  2277.7,2,   1.8276,2,  34.6386,2,  34.6396,2,     91.8,2,    92.1,2,  167.78,2,   40.04,2,    0.00,2,    2.79,2,   0.007,2,   0.006,2,   0.0000,2,  2368.2,2,  2425.5,2,   7.4741,2,    25.01,2, -999.00,9,  -999.0,9, -999.00,9, -999.00,9,       28.2,2, 20220630,     1304,  29.9999,-136.3865,     1.8278,2,     -999.0,9,     -999.0,9,     -999.0,9,     -999.0,9,     0.0128,1,     4.6945,1,     -999.0,9,     -999.0,9,     -999.0,9,     -999.0,9,     -999.0,9
33RR20220613,       P02E,     161,          2,          8,          8,2,20220630,       1218,    29.9999,  -136.3865,       4476,  2533.9,2,   1.6986,2,  34.6501,3,  34.6478,2,    102.0,2,   101.8,2,  169.54,2,   39.47,2,    0.00,2,    2.75,2,-999.000,9,-999.000,9,-999.0000,9,  -999.0,9,  -999.0,9,-999.0000,9,  -999.00,9, -999.00,9,  -999.0,9, -999.00,9, -999.00,9,     -999.0,9, 20220630,     1259,  29.9999,-136.3865,     1.6982,2,     -999.0,9,     -999.0,9,     -999.0,9,     -999.0,9,     0.0133,1,     4.6946,1,     -999.0,9,     -999.0,9,     -999.0,9,     -999.0,9,     -999.0,9
33RR20220613,       P02E,     161,          2,          7,          7,2,20220630,       1218,    29.9999,  -136.3865,       4476,  2788.4,2,   1.6080,2,  34.6600,2,  34.6588,2,    111.7,2,   111.7,2,  169.34,2,   38.78,2,    0.00,2,    2.70,2,   0.005,2,   0.005,2,   0.0000,2,  2356.7,2,  2428.0,2,   7.5110,2,    25.02,2, -999.00,9,  -999.0,9, -999.00,9, -999.00,9,       25.6,2, 20220630,     1253,  29.9999,-136.3865,     1.6080,2,     -999.0,9,     -999.0,9,     -999.0,9,     -999.0,9,     0.0126,1,     4.6954,1,     -999.0,9,     -999.0,9,     -999.0,9,     -999.0,9,     -999.0,9
33RR20220613,       P02E,     161,          2,          6,          6,2,20220630,       1218,    29.9999,  -136.3865,       4476,  3042.4,2,   1.5449,2,  34.6682,2,-999.0000,9,    121.6,2,   122.4,2, -999.00,9, -999.00,9, -999.00,9, -999.00,9,-999.000,9,-999.000,9,-999.0000,9,  -999.0,9,  -999.0,9,-999.0000,9,  -999.00,9, -999.00,9,  -999.0,9, -999.00,9, -999.00,9,     -999.0,9, 20220630,     1248,  29.9999,-136.3866,     1.5450,2,     -999.0,9,     -999.0,9,     -999.0,9,     -999.0,9,     0.0122,1,     4.6956,1,     -999.0,9,     -999.0,9,     -999.0,9,     -999.0,9,     -999.0,9
33RR20220613,       P02E,     161,          2,          5,          5,2,20220630,       1218,    29.9999,  -136.3865,       4476,  3247.4,2,   1.5138,2,  34.6732,2,  34.6739,2,    127.9,2,   127.8,2,  166.51,2,   37.67,2,    0.00,2,    2.61,2,-999.000,5,-999.000,5,-999.0000,5,  2347.0,2,  2427.7,2,   7.5400,2,    25.01,2, -999.00,9,  -999.0,9, -999.00,9, -999.00,9,     -999.0,5, 20220630,     1243,  29.9999,-136.3865,     1.5135,2,     -999.0,9,     -999.0,9,     -999.0,9,     -999.0,9,     0.0122,1,     4.6958,1,     -999.0,9,     -999.0,9,     -999.0,9,     -999.0,9,     -999.0,9