BOTTLE,20230830CCHSIOCBG
EXPOCODE,SECT_ID,STNNBR,CASTNO,SAMPNO,BTLNBR,BTLNBR_FLAG_W,DATE,TIME,LATITUDE,LONGITUDE,DEPTH,CTDPRS,CTDPRS_FLAG_W,CTDTMP,CTDTMP_FLAG_W,CTDSAL,CTDSAL_FLAG_W,SALNTY,SALNTY_FLAG_W,CTDOXY,CTDOXY_FLAG_W,OXYGEN,OXYGEN_FLAG_W,SILCAT,SILCAT_FLAG_W,NITRAT,NITRAT_FLAG_W,NITRIT,NITRIT_FLAG_W,PHSPHT,PHSPHT_FLAG_W,CFC-11,CFC-11_FLAG_W,CFC-12,CFC-12_FLAG_W,SF6,SF6_FLAG_W,TCARBN,TCARBN_FLAG_W,ALKALI,ALKALI_FLAG_W,PH_TOT,PH_TOT_FLAG_W,PH_TMP,PH_TMP_FLAG_W,DELC13,DELC13_FLAG_W,DELC14,DELC14_FLAG_W,DOC,DOC_FLAG_W,TDN,TDN_FLAG_W,N2O,N2O_FLAG_W,BTL_DATE,BTL_TIME,BTL_LAT,BTL_LON,REFTMP,REFTMP_FLAG_W,POC,POC_FLAG_W,PON,PON_FLAG_W,POP,POP_FLAG_W,PCOD,PCOD_FLAG_W,CTDFLUOR,CTDFLUOR_FLAG_W,CTDXMISS,CTDXMISS_FLAG_W,HPLC,HPLC_FLAG_W,DNA,DNA_FLAG_W,FCM,FCM_FLAG_W,IMAGES,IMAGES_FLAG_W,VIRAL_ABUNDANCE,VIRAL_ABUNDANCE_FLAG_W
,,,,,,,,,,,METERS,DBAR,,ITS-90,,PSS-78,,PSS-78,,UMOL/KG,,UMOL/KG,,UMOL/KG,,UMOL/KG,,UMOL/KG,,UMOL/KG,,PMOL/KG,,PMOL/KG,,FMOL/KG,,UMOL/KG,,UMOL/KG,,,,DEG C,,/MILLE,,/MILLE,,UMOL/KG,,UMOL/KG,,NMOL/KG,,,,,,ITS-90,,UG/L,,UG/L,,UG/L,,UG/L,,VOLTS,,VOLTS,,,,,,,,,,,
33RR20220613,       P02E,     118,          1,          4,          4,2,20220616,       1147,    29.9993,  -161.2140,       5724,  4683.3,2,   1.5052,2,  34.6867,3,  34.6906,2,    153.1,2,   153.3,2,  151.40,2,   35.69,2,    0.00,2,    2.48,2,   0.006,2,   0.000,2,   0.0000,2,  2323.5,2,  2418.4,2,   7.5805,2,    25.02,2, -999.00,1,  -999.0,1, -999.00,1, -999.00,1,       22.4,2, 20220616,     1210,  29.9993,-161.2140,     1.5055,2,     -999.0,9,     -999.0,9,     -999.0,9,     -999.0,9,     0.0122,1,     4.7069,1,     -999.0,9,     -999.0,9,     -999.0,9,     -999.0,9,     -999.0,9
33RR20220613,       P02E,     118,          1,          3,          3,2,20220616,       1147,    29.9993,  -161.2140,       5724,  5095.6,2,   1.5401,2,  34.6884,3,  34.6938,2,    156.3,2,   156.5,2,  148.76,2,   35.54,2,    0.00,2,    2.45,2,   0.006,2,   0.000,2,   0.0000,2,  2321.6,2,  2417.5,6,   7.5851,2,    25.02,2, -999.00,1,  -999.0,1, -999.00,1, -999.00,1,       22.1,2, 20220616,     1202,  29.9993,-161.2140,     1.5403,2,     -999.0,9,     -999.0,9,     -999.0,9,     -999.0,9,     0.0122,1,     4.7078,1,     -999.0,9,     -999.0,9,     -999.0,9,     -999.0,9,     -999.0,9
33RR20220613,       P02E,     118,          1,          2,          2,2,20220616,       1147,    29.9993,  -161.2140,       5724,  5404.2,2,   1.5730,2,  34.6890,2,  34.6903,2,    157.8,2,   157.9,2,  147.69,2,   35.44,2,    0.00,2,    2.44,2,   0.008,2,   0.000,2,   0.0000,2,  2318.4,2,  2417.5,2,   7.5878,2,    25.02,2, -999.00,1,  -999.0,1, -999.00,1, -999.00,1,       22.1,2, 20220616,     1155,  29.9993,-161.2140,     1.5733,2,     -999.0,9,     -999.0,9,     -999.0,9,     -999.0,9,     0.0122,1,     4.7067,1,     -999.0,9,     -999.0,9,     -999.0,9,     -999.0,9,     -999.0,9
33RR20220613,       P02E,     118,          1,          1,          1,2,20220616,       1147,    29.9993,  -161.2140,       5724,  5825.8,2,   1.6235,2,  34.6893,2,  34.6897,2,    159.1,2,   159.3,2,  146.51,2,   35.43,2,    0.00,2,    2.44,2,   0.014,2,   0.000,2,   0.0000,2,  2319.4,6,  2416.6,2,   7.5885,2,    25.03,2, -999.00,1,  -999.0,1, -999.00,1, -999.00,1,       22.1,2, 20220616,     1147,  29.9993,-161.2140,     1.6243,2,     -999.0,9,     -999.0,9,     -999.0,9,     -999.0,9,     0.0134,1,     4.7045,1,     -999.0,9,     -999.0,9,     -999.0,9,     -999.0,9,     -999.0,9
33RR20220613,       P02E,     119,          3,          9,          9,2,20220617,       0035,    30.0001,  -160.6361,       5638,     3.5,2,  23.9128,2,  34.9350,2,-999.0000,9,    217.8,2,  -999.0,9, -999.00,9, -999.00,9, -999.00,9, -999.00,9,-999.000,9,-999.000,9,-999.0000,9,  -999.0,9,  -999.0,9,-999.0000,9,  -999.00,9, -999.00,9,  -999.0,9, -999.00,9, -999.00,9,     -999.0,9, 20220617,      107,  30.0002,-160.6361,    23.9122,2,     -999.0,9,     -999.0,9,     -999.0,9,     -999.0,9,     0.0134,1,     4.6272,1,     -999.0,1,     -999.0,9,     -999.0,1,     -999.0,9,     -999.0,9
33RR20220613,       P02E,     119,          3,         20,         20,2,20220617,       0035,    30.0001,  -160.6361,       5638,     3.8,2,  23.9108,2,  34.9345,2,-999.0000,9,    218.1,2,  -999.0,9, -999.00,9, -999.00,9, -999.00,9, -999.00,9,-999.000,9,-999.000,9,-999.0000,9,  -999.0,9,  -999.0,9,-999.0000,9,  -999.00,9, -999.00,9,  -999.0,9, -999.00,9, -999.00,9,     -999.0,9, 20220617,      108,  30.0001,-160.6361,     -999.0,9,     -999.0,9,     -999.0,9,     -999.0,9,     -999.0,1,     0.0122,1,     4.6262,1,     -999.0,9,     -999.0,9,     -999.0,9,     -999.0,9,     -999.0,9
33RR20220613,       P02E,     119,          3,         15,         15,2,20220617,       0035,    30.0001,  -160.6361,       5638,     4.0,2,  23.9080,2,  34.9349,2,-999.0000,9,    218.0,2,  -999.0,9, -999.00,9, -999.00,9, -999.00,9, -999.00,9,-999.000,9,-999.000,9,-999.0000,9,  -999.0,9,  -999.0,9,-999.0000,9,  -999.00,9, -999.00,9,  -999.0,9, -999.00,9, -999.00,9,     -999.0,9, 20220617,      108,  30.0001,-160.6361,     -999.0,9,     -999.0,9,     -999.0,9,     -999.0,1,     -999.0,9,     0.0131,1,     4.6258,1,     -999.0,9,     -999.0,9,     -999.0,9,     -999.0,9,     -999.0,9
33RR20220613,       P02E,     119,          3,         12,         12,2,20220617,       0035,    30.0001,  -160.6361,       5638,     4.1,2,  23.9130,2,  34.9349,2,-999.0000,9,    217.8,2,  -999.0,9, -999.00,9, -999.00,9, -999.00,9, -999.00,9,-999.000,9,-999.000,9,-999.0000,9,  -999.0,9,  -999.0,9,-999.0000,9,  -999.00,9, -999.00,9,  -999.0,9, -999.00,9, -999.00,9,     -999.0,9, 20220617,      108,  30.0001,-160.6361,     -999.0,9,     -999.0,1,     -999.0,1,     -999.0,9,     -999.0,9,     0.0134,1,     4.6252,1,     -999.0,9,     -999.0,9,     -999.0,9,     -999.0,9,     -999.0,9
33RR20220613,       P02E,     119,          3,         17,         17,2,20220617,       0035,    30.0001,  -160.6361,       5638,     4.2,2,  23.9141,2,  34.9346,2,-999.0000,9,    217.9,2,  -999.0,9, -999.00,9, -999.00,9, -999.00,9, -999.00,9,-999.000,9,-999.000,9,-999.0000,9,  -999.0,9,  -999.0,9,-999.0000,9,  -999.00,9, -999.00,9,  -999.0,9, -999.00,9, -999.00,9,     -999.0,9, 20220617,      108,  30.0001,-160.6361,     -999.0,9,     -999.0,9,     -999.0,9,     -999.0,9,     -999.0,1,     0.0126,1,     4.6261,1,     -999.0,9,     -999.0,9,     -999.0,9,     -999.0,9,     -999.0,9
33RR20220613,       P02E,     119,          3,         13,         13,2,20220617,       0035,    30.0001,  -160.6361,       5638,     4.2,2,  23.9124,2,  34.9350,2,-999.0000,9,    218.0,2,  -999.0,9, -999.00,9, -999.00,9, -999.00,9, -999.00,9,-999.000,9,-999.000,9,-999.0000,9,  -999.0,9,  -999.0,9,-999.0000,9,  -999.00,9, -999.00,9,  -999.0,9, -999.00,9, -999.00,9,     -999.0,9, 20220617,      108,  30.0001,-160.6361,    23.9097,2,     -999.0,1,     -999.0,1,     -999.0,9,     -999.0,9,     0.0135,1,     4.6249,1,     -999.0,9,     -999.0,9,     -999.0,9,     -999.0,9,     -999.0,9
33RR20220613,       P02E,     119,          3,         16,         16,2,20220617,       0035,    30.0001,  -160.6361,       5638,     4.3,2,  23.9116,2,  34.9346,2,-999.0000,9,    218.0,2,  -999.0,9, -999.00,9, -999.00,9, -999.00,9, -999.00,9,-999.000,9,-999.000,9,-999.0000,9,  -999.0,9,  -999.0,9,-999.0000,9,  -999.00,9, -999.00,9,  -999.0,9, -999.00,9, -999.00,9,     -999.0,9, 20220617,      108,  30.0001,-160.6361,     -999.0,9,     -999.0,9,     -999.0,9,     -999.0,1,     -999.0,9,     0.0122,1,     4.6267,1,     -999.0,9,     -999.0,9,     -999.0,9,     -999.0,9,     -999.0,9
33RR20220613,       P02E,     119,          3,         11,         11,2,20220617,       0035,    30.0001,  -160.6361,       5638,     4.3,2,  23.9155,2,  34.9340,2,-999.0000,9,    217.9,2,  -999.0,9, -999.00,9, -999.00,9, -999.00,9, -999.00,9,-999.000,9,-999.000,9,-999.0000,9,  -999.0,9,  -999.0,9,-999.0000,9,  -999.00,9, -999.00,9,  -999.0,9, -999.00,9, -999.00,9,     -999.0,9, 20220617,      107,  30.0001,-160.6361,     -999.0,9,     -999.0,1,     -999.0,1,     -999.0,9,     -999.0,9,     0.0122,1,     4.6271,1,     -999.0,9,     -999.0,9,     -999.0,9,     -999.0,9,     -999.0,9
33RR20220613,       P02E,     119,          3,         18,         18,2,20220617,       0035,    30.0001,  -160.6361,       5638,     4.4,2,  23.9143,2,  34.9342,2,-999.0000,9,    217.9,2,  -999.0,9, -999.00,9, -999.00,9, -999.00,9, -999.00,9,-999.000,9,-999.000,9,-999.0000,9,  -999.0,9,  -999.0,9,-999.0000,9,  -999.00,9, -999.00,9,  -999.0,9, -999.00,9, -999.00,9,     -999.0,9, 20220617,      108,  30.0001,-160.6361,    23.9110,2,     -999.0,9,     -999.0,9,     -999.0,9,     -999.0,1,     0.0131,1,     4.6254,1,     -999.0,9,     -999.0,9,     -999.0,9,     -999.0,9,     -999.0,9
33RR20220613,       P02E,     119,          3,         19,         19,2,20220617,       0035,    30.0001,  -160.6361,       5638,     4.4,2,  23.9141,2,  34.9344,2,-999.0000,9,    217.9,2,  -999.0,9, -999.00,9, -999.00,9, -999.00,9, -999.00,9,-999.000,9,-999.000,9,-999.0000,9,  -999.0,9,  -999.0,9,-999.0000,9,  -999.00,9, -999.00,9,  -999.0,9, -999.00,9, -999.00,9,     -999.0,9, 20220617,      108,  30.0001,-160.6361,     -999.0,9,     -999.0,9,     -999.0,9,     -999.0,9,     -999.0,9,     0.0134,1,     4.6264,1,     -999.0,9,     -999.0,9,     -999.0,9,     -999.0,9,     -999.0,9
33RR20220613,       P02E,     119,          3,         14,         14,2,20220617,       0035,    30.0001,  -160.6361,       5638,     4.5,2,  23.9102,2,  34.9349,2,-999.0000,9,    217.9,2,  -999.0,9, -999.00,9, -999.00,9, -999.00,9, -999.00,9,-999.000,9,-999.000,9,-999.0000,9,  -999.0,9,  -999.0,9,-999.0000,9,  -999.00,9, -999.00,9,  -999.0,9, -999.00,9, -999.00,9,     -999.0,9, 20220617,      108,  30.0001,-160.6361,     -999.0,9,     -999.0,9,     -999.0,9,     -999.0,1,     -999.0,9,     0.0130,1,     4.6273,1,     -999.0,9,     -999.0,9,     -999.0,9,     -999.0,9,     -999.0,9
33RR20220613,       P02E,     119,          3,         10,         10,2,20220617,       0035,    30.0001,  -160.6361,       5638,     4.6,2,  23.9131,2,  34.9346,2,-999.0000,9,    218.0,2,  -999.0,9, -999.00,9, -999.00,9, -999.00,9, -999.00,9,-999.000,9,-999.000,9,-999.0000,9,  -999.0,9,  -999.0,9,-999.0000,9,  -999.00,9, -999.00,9,  -999.0,9, -999.00,9, -999.00,9,     -999.0,9, 20220617,      107,  30.0002,-160.6361,     -999.0,9,     -999.0,9,     -999.0,9,     -999.0,9,     -999.0,9,     0.0131,1,     4.6265,1,     -999.0,9,     -999.0,1,     -999.0,9,     -999.0,9,     -999.0,9
33RR20220613,       P02E,     119,          3,          8,          8,2,20220617,       0035,    30.0001,  -160.6361,       5638,    41.8,2,  20.7828,2,  34.8319,2,-999.0000,9,    234.1,2,  -999.0,9, -999.00,9, -999.00,9, -999.00,9, -999.00,9,-999.000,9,-999.000,9,-999.0000,9,  -999.0,9,  -999.0,9,-999.0000,9,  -999.00,9, -999.00,9,  -999.0,9, -999.00,9, -999.00,9,     -999.0,9, 20220617,      105,  30.0002,-160.6361,    20.7878,2,     -999.0,9,     -999.0,9,     -999.0,9,     -999.0,9,     0.0147,1,     4.6149,1,     -999.0,1,     -999.0,9,     -999.0,1,     -999.0,9,     -999.0,9
33RR20220613,       P02E,     119,          3,          7,          7,2,20220617,       0035,    30.0001,  -160.6361,       5638,    76.9,2,  18.0873,2,  34.7045,2,-999.0000,9,    242.0,2,  -999.0,9, -999.00,9, -999.00,9, -999.00,9, -999.00,9,-999.000,9,-999.000,9,-999.0000,9,  -999.0,9,  -999.0,9,-999.0000,9,  -999.00,9, -999.00,9,  -999.0,9, -999.00,9, -999.00,9,     -999.0,9, 20220617,      101,  30.0001,-160.6361,    18.0896,2,     -999.0,9,     -999.0,9,     -999.0,9,     -999.0,9,     0.0184,1,     4.6281,1,     -999.0,9,     -999.0,9,     -999.0,1,     -999.0,9,     -999.0,9
33RR20220613,       P02E,     119,          3,          6,          6,2,20220617,       0035,    30.0001,  -160.6361,       5638,   102.2,2,  17.0410,2,  34.6236,2,-999.0000,9,    239.2,2,  -999.0,9, -999.00,9, -999.00,9, -999.00,9, -999.00,9,-999.000,9,-999.000,9,-999.0000,9,  -999.0,9,  -999.0,9,-999.0000,9,  -999.00,9, -999.00,9,  -999.0,9, -999.00,9, -999.00,9,     -999.0,9, 20220617,      100,  30.0001,-160.6361,     -999.0,9,     -999.0,9,     -999.0,9,     -999.0,9,     -999.0,9,     0.0324,1,     4.6316,1,     -999.0,9,     -999.0,1,     -999.0,9,     -999.0,9,     -999.0,9
33RR20220613,       P02E,     119,          3,          5,          5,2,20220617,       0035,    30.0001,  -160.6361,       5638,   102.5,2,  17.0275,2,  34.6215,2,-999.0000,9,    239.2,2,  -999.0,9, -999.00,9, -999.00,9, -999.00,9, -999.00,9,-999.000,9,-999.000,9,-999.0000,9,  -999.0,9,  -999.0,9,-999.0000,9,  -999.00,9, -999.00,9,  -999.0,9, -999.00,9, -999.00,9,     -999.0,9, 20220617,       59,  30.0001,-160.6361,    17.0358,2,     -999.0,9,     -999.0,9,     -999.0,9,     -999.0,9,     0.0322,1,     4.6346,1,     -999.0,1,     -999.0,9,     -999.0,1,     -999.0,9,     -999.0,9
33RR20220613,       P02E,     119,          3,          4,          4,2,20220617,       0035,    30.0001,  -160.6361,       5638,   152.8,2,  15.6261,2,  34.5374,2,-999.0000,9,    212.5,2,  -999.0,9, -999.00,9, -999.00,9, -999.00,9, -999.00,9,-999.000,9,-999.000,9,-999.0000,9,  -999.0,9,  -999.0,9,-999.0000,9,  -999.00,9, -999.00,9,  -999.0,9, -999.00,9, -999.00,9,     -999.0,9, 20220617,       56,  30.0001,-160.6361,    15.6178,2,     -999.0,9,     -999.0,9,     -999.0,9,     -999.0,9,     0.0233,1,     4.6737,1,     -999.0,9,     -999.0,9,     -999.0,1,     -999.0,9,     -999.0,9
33RR20220613,       P02E,     119,          3,          3,          3,2,20220617,       0035,    30.0001,  -160.6361,       5638,   202.8,2,  13.9210,2,  34.3968,2,-999.0000,9,    215.1,2,  -999.0,9, -999.00,9, -999.00,9, -999.00,9, -999.00,9,-999.000,9,-999.000,9,-999.0000,9,  -999.0,9,  -999.0,9,-999.0000,9,  -999.00,9, -999.00,9,  -999.0,9, -999.00,9, -999.00,9,     -999.0,9, 20220617,       53,  30.0001,-160.6361,    13.9183,2,     -999.0,9,     -999.0,9,     -999.0,9,     -999.0,9,     0.0134,1,     4.6885,1,     -999.0,9,     -999.0,1,     -999.0,1,     -999.0,9,     -999.0,9
33RR20220613,       P02E,     119,          3,          2,          2,2,20220617,       0035,    30.0001,  -160.6361,       5638,   505.2,2,   7.5645,2,  34.0104,2,-999.0000,9,    159.2,2,  -999.0,9, -999.00,9, -999.00,9, -999.00,9, -999.00,9,-999.000,9,-999.000,9,-999.0000,9,  -999.0,9,  -999.0,9,-999.0000,9,  -999.00,9, -999.00,9,  -999.0,9, -999.00,9, -999.00,9,     -999.0,9, 20220617,       46,  30.0002,-160.6360,     7.5651,2,     -999.0,9,     -999.0,9,     -999.0,9,     -999.0,9,     0.0122,1,     4.6984,1,     -999.0,9,     -999.0,9,     -999.0,1,     -999.0,9,     -999.0,9
33RR20220613,       P02E,     119,          3,          1,          1,2,20220617,       0035,    30.0001,  -160.6361,       5638,  1013.8,2,   3.4899,2,  34.3670,2,-999.0000,9,     10.0,2,  -999.0,9, -999.00,9, -999.00,9, -999.00,9, -999.00,9,-999.000,9,-999.000,9,-999.0000,9,  -999.0,9,  -999.0,9,-999.0000,9,  -999.00,9, -999.00,9,  -999.0,9, -999.00,9, -999.00,9,     -999.0,9, 20220617,       35,  30.0001,-160.6361,     3.4913,2,     -999.0,9,     -999.0,9,     -999.0,9,     -999.0,9,     0.0134,1,     4.7009,1,     -999.0,9,     -999.0,1,     -999.0,1,     -999.0,9,     -999.0,9