BOTTLE,20230830CCHSIOCBG
EXPOCODE,SECT_ID,STNNBR,CASTNO,SAMPNO,BTLNBR,BTLNBR_FLAG_W,DATE,TIME,LATITUDE,LONGITUDE,DEPTH,CTDPRS,CTDPRS_FLAG_W,CTDTMP,CTDTMP_FLAG_W,CTDSAL,CTDSAL_FLAG_W,SALNTY,SALNTY_FLAG_W,CTDOXY,CTDOXY_FLAG_W,OXYGEN,OXYGEN_FLAG_W,SILCAT,SILCAT_FLAG_W,NITRAT,NITRAT_FLAG_W,NITRIT,NITRIT_FLAG_W,PHSPHT,PHSPHT_FLAG_W,CFC-11,CFC-11_FLAG_W,CFC-12,CFC-12_FLAG_W,SF6,SF6_FLAG_W,TCARBN,TCARBN_FLAG_W,ALKALI,ALKALI_FLAG_W,PH_TOT,PH_TOT_FLAG_W,PH_TMP,PH_TMP_FLAG_W,DELC13,DELC13_FLAG_W,DELC14,DELC14_FLAG_W,DOC,DOC_FLAG_W,TDN,TDN_FLAG_W,N2O,N2O_FLAG_W,BTL_DATE,BTL_TIME,BTL_LAT,BTL_LON,REFTMP,REFTMP_FLAG_W,POC,POC_FLAG_W,PON,PON_FLAG_W,POP,POP_FLAG_W,PCOD,PCOD_FLAG_W,CTDFLUOR,CTDFLUOR_FLAG_W,CTDXMISS,CTDXMISS_FLAG_W,HPLC,HPLC_FLAG_W,DNA,DNA_FLAG_W,FCM,FCM_FLAG_W,IMAGES,IMAGES_FLAG_W,VIRAL_ABUNDANCE,VIRAL_ABUNDANCE_FLAG_W
,,,,,,,,,,,METERS,DBAR,,ITS-90,,PSS-78,,PSS-78,,UMOL/KG,,UMOL/KG,,UMOL/KG,,UMOL/KG,,UMOL/KG,,UMOL/KG,,PMOL/KG,,PMOL/KG,,FMOL/KG,,UMOL/KG,,UMOL/KG,,,,DEG C,,/MILLE,,/MILLE,,UMOL/KG,,UMOL/KG,,NMOL/KG,,,,,,ITS-90,,UG/L,,UG/L,,UG/L,,UG/L,,VOLTS,,VOLTS,,,,,,,,,,,
33RR20220613,       P02E,     178,          1,         36,         36,2,20220705,       0932,    29.9995,  -126.5697,       4258,     3.1,2,  19.3623,2,  33.4984,2,  33.4969,2,    235.4,2,   235.6,2,    0.88,2,    0.01,2,    0.00,2,    0.30,2,   2.083,2,   1.289,2,   2.1606,2,  2023.9,6,  2242.5,2,   7.9176,2,    25.01,2, -999.00,9,  -999.0,9, -999.00,1, -999.00,1,        8.0,2, 20220705,     1119,  29.9995,-126.5697,    19.3592,2,     -999.0,9,     -999.0,9,     -999.0,9,     -999.0,9,     0.0141,1,     4.6307,1,     -999.0,9,     -999.0,9,     -999.0,9,     -999.0,9,     -999.0,9
33RR20220613,       P02E,     178,          1,         35,         35,2,20220705,       0932,    29.9995,  -126.5697,       4258,    20.2,2,  19.2686,2,  33.4979,2,  33.4993,2,    235.5,2,   235.7,2,    0.88,2,    0.00,2,    0.00,2,    0.30,2,   2.087,2,   1.286,2,   2.0161,2,  2025.0,2,  2242.0,2,   7.9185,2,    25.01,2, -999.00,9,  -999.0,9, -999.00,1, -999.00,1,        8.0,2, 20220705,     1118,  29.9995,-126.5697,    19.2765,2,     -999.0,9,     -999.0,9,     -999.0,9,     -999.0,9,     0.0147,1,     4.6262,1,     -999.0,9,     -999.0,9,     -999.0,9,     -999.0,9,     -999.0,9
33RR20220613,       P02E,     178,          1,         34,         34,2,20220705,       0932,    29.9995,  -126.5697,       4258,    40.5,2,  18.9439,2,  33.4633,2,  33.4637,2,    238.2,2,   238.3,2,    0.88,2,    0.01,2,    0.00,2,    0.31,2,   2.125,2,   1.299,2,   2.1588,2,  2023.9,2,  2239.8,2,   7.9169,2,    25.00,2, -999.00,9,  -999.0,9, -999.00,1, -999.00,1,        8.1,2, 20220705,     1116,  29.9995,-126.5697,    18.9330,2,     -999.0,9,     -999.0,9,     -999.0,9,     -999.0,9,     0.0159,1,     4.6180,1,     -999.0,9,     -999.0,9,     -999.0,9,     -999.0,9,     -999.0,9
33RR20220613,       P02E,     178,          1,         33,         33,2,20220705,       0932,    29.9995,  -126.5697,       4258,    65.7,2,  17.6917,2,  33.4046,2,  33.4074,2,    248.0,2,   247.2,2,    0.88,2,    0.00,2,    0.01,2,    0.30,2,   2.246,2,   1.381,2,   2.1955,2,  2021.1,2,  2238.2,2,   7.9150,2,    25.00,2, -999.00,9,  -999.0,9, -999.00,1, -999.00,1,        8.5,2, 20220705,     1115,  29.9995,-126.5697,    17.6900,2,     -999.0,9,     -999.0,9,     -999.0,9,     -999.0,9,     0.0175,1,     4.6306,1,     -999.0,9,     -999.0,9,     -999.0,9,     -999.0,9,     -999.0,9
33RR20220613,       P02E,     178,          1,         32,         32,2,20220705,       0932,    29.9995,  -126.5697,       4258,    91.3,2,  17.2237,2,  33.4184,2,  33.4168,2,    247.2,2,   247.3,2,    0.88,2,   -0.01,2,    0.01,2,    0.31,2,-999.000,1,-999.000,1,-999.0000,1,  2022.6,2,  2235.7,2,   7.9133,2,    25.00,2, -999.00,9,  -999.0,9, -999.00,1, -999.00,1,     -999.0,1, 20220705,     1113,  29.9995,-126.5697,    17.2141,2,     -999.0,9,     -999.0,9,     -999.0,9,     -999.0,9,     0.0199,1,     4.6426,1,     -999.0,9,     -999.0,9,     -999.0,9,     -999.0,9,     -999.0,9
33RR20220613,       P02E,     178,          1,         31,         31,2,20220705,       0932,    29.9995,  -126.5697,       4258,   116.6,2,  14.8567,2,  33.1573,2,  33.1608,2,    253.3,2,   252.9,2,    1.08,2,    0.02,2,    0.01,2,    0.36,2,-999.000,9,-999.000,9,-999.0000,9,  2027.1,2,  2217.6,6,   7.8760,2,    25.01,2, -999.00,9,  -999.0,9, -999.00,1, -999.00,1,     -999.0,9, 20220705,     1110,  29.9995,-126.5697,    14.8561,2,     -999.0,9,     -999.0,9,     -999.0,9,     -999.0,9,     0.0338,1,     4.6476,1,     -999.0,9,     -999.0,9,     -999.0,9,     -999.0,9,     -999.0,9
33RR20220613,       P02E,     178,          1,         30,         17,2,20220705,       0932,    29.9995,  -126.5697,       4258,   142.0,2,  12.4804,2,  33.1989,2,  33.2041,2,    225.2,2,   226.4,2,    4.21,2,    5.81,2,    0.15,2,    0.73,2,   2.809,2,   1.709,2,   2.3374,2,  2065.6,2,  2214.8,2,   7.7742,2,    25.01,2, -999.00,9,  -999.0,9, -999.00,1, -999.00,1,       12.5,2, 20220705,     1110,  29.9995,-126.5697,    12.4810,2,     -999.0,9,     -999.0,9,     -999.0,9,     -999.0,9,     0.0231,1,     4.6680,1,     -999.0,9,     -999.0,9,     -999.0,9,     -999.0,9,     -999.0,9
33RR20220613,       P02E,     178,          1,         29,         29,2,20220705,       0932,    29.9995,  -126.5697,       4258,   186.9,2,  10.3808,2,  33.5821,3,  33.6124,2,    181.2,2,   182.8,2,   14.18,2,   16.20,2,    0.01,2,    1.29,2,-999.000,9,-999.000,9,-999.0000,9,  2131.1,2,  2231.3,2,   7.6441,2,    25.02,2, -999.00,9,  -999.0,9, -999.00,1, -999.00,1,     -999.0,9, 20220705,     1108,  29.9995,-126.5697,    10.3754,2,     -999.0,9,     -999.0,9,     -999.0,9,     -999.0,9,     0.0147,1,     4.6836,1,     -999.0,9,     -999.0,9,     -999.0,9,     -999.0,9,     -999.0,9
33RR20220613,       P02E,     178,          1,         28,         28,2,20220705,       0932,    29.9995,  -126.5697,       4258,   237.6,2,   9.3544,2,  33.9308,2,  33.9412,2,    166.8,2,   166.6,2,   22.78,2,   20.54,2,    0.01,2,    1.51,2,   2.966,2,   1.784,2,   1.7035,2,  2157.1,2,  2251.5,2,   7.6122,2,    25.00,2, -999.00,9,  -999.0,9, -999.00,1, -999.00,1,       23.0,2, 20220705,     1107,  29.9995,-126.5697,     9.3585,2,     -999.0,9,     -999.0,9,     -999.0,9,     -999.0,9,     0.0122,1,     4.6885,1,     -999.0,9,     -999.0,9,     -999.0,9,     -999.0,9,     -999.0,9
33RR20220613,       P02E,     178,          1,         27,         27,2,20220705,       0932,    29.9995,  -126.5697,       4258,   288.1,2,   8.4041,2,  34.0111,2,  34.0123,2,    131.0,3,   129.7,2,   34.03,2,   26.14,2,    0.00,2,    1.90,2,   2.763,2,   1.642,2,   1.2855,2,  2199.0,2,  2264.1,2,   7.5263,2,    25.02,2, -999.00,9,  -999.0,9, -999.00,1, -999.00,1,       29.2,2, 20220705,     1105,  29.9995,-126.5697,     8.4024,2,     -999.0,9,     -999.0,9,     -999.0,9,     -999.0,9,     0.0128,1,     4.6887,1,     -999.0,9,     -999.0,9,     -999.0,9,     -999.0,9,     -999.0,9
33RR20220613,       P02E,     178,          1,         26,         26,2,20220705,       0932,    29.9995,  -126.5697,       4258,   338.2,2,   7.8075,2,  34.0427,2,  34.0472,2,     97.8,2,    97.2,2,   42.73,2,   30.04,2,    0.00,2,    2.20,2,-999.000,9,-999.000,9,-999.0000,9,  -999.0,9,  -999.0,9,-999.0000,9,  -999.00,9, -999.00,9,  -999.0,9, -999.00,1, -999.00,1,     -999.0,9, 20220705,     1102,  29.9995,-126.5697,     7.8062,2,     -999.0,9,     -999.0,9,     -999.0,9,     -999.0,9,     0.0128,1,     4.6874,1,     -999.0,9,     -999.0,9,     -999.0,9,     -999.0,9,     -999.0,9
33RR20220613,       P02E,     178,          1,         25,         25,2,20220705,       0932,    29.9995,  -126.5697,       4258,   388.0,2,   6.9401,2,  34.0399,2,  34.0496,2,     82.1,3,    81.1,2,   52.50,2,   33.12,2,    0.00,2,    2.40,2,   2.131,2,   1.240,2,   0.6868,2,  2252.5,2,  2280.5,2,   7.4116,2,    25.01,2, -999.00,9,  -999.0,9, -999.00,1, -999.00,1,       37.3,2, 20220705,     1102,  29.9995,-126.5697,     6.9384,2,     -999.0,9,     -999.0,9,     -999.0,9,     -999.0,9,     0.0134,1,     4.6895,1,     -999.0,9,     -999.0,9,     -999.0,9,     -999.0,1,     -999.0,9
33RR20220613,       P02E,     178,          1,         24,         24,2,20220705,       0932,    29.9995,  -126.5697,       4258,   439.0,2,   6.6589,2,  34.1391,2,  34.1381,2,     43.5,3,    44.6,2,   61.59,2,   36.34,2,    0.00,2,    2.73,2,-999.000,9,-999.000,9,-999.0000,9,  -999.0,9,  -999.0,9,-999.0000,9,  -999.00,9, -999.00,9,  -999.0,9, -999.00,1, -999.00,1,     -999.0,9, 20220705,     1100,  29.9995,-126.5697,     6.6569,2,     -999.0,9,     -999.0,9,     -999.0,9,     -999.0,9,     0.0134,1,     4.6885,1,     -999.0,9,     -999.0,9,     -999.0,9,     -999.0,1,     -999.0,9
33RR20220613,       P02E,     178,          1,         23,         23,2,20220705,       0932,    29.9995,  -126.5697,       4258,   489.7,2,   6.3878,2,  34.1859,2,  34.1870,2,     28.7,3,    29.6,2,   67.85,2,   37.89,2,    0.00,2,    2.86,2,   1.051,2,   0.604,2,   0.3051,2,  2301.8,2,  2300.9,2,   7.3260,2,    25.02,2, -999.00,9,  -999.0,9, -999.00,1, -999.00,1,       47.0,2, 20220705,     1058,  29.9995,-126.5697,     6.3861,2,     -999.0,9,     -999.0,9,     -999.0,9,     -999.0,9,     0.0134,1,     4.6883,1,     -999.0,9,     -999.0,9,     -999.0,9,     -999.0,9,     -999.0,9
33RR20220613,       P02E,     178,          1,         22,         22,2,20220705,       0932,    29.9995,  -126.5697,       4258,   570.2,2,   5.8831,2,  34.2511,2,  34.2489,2,     17.3,3,    17.5,2,   78.20,2,   39.70,2,    0.00,2,    3.01,2,-999.000,9,-999.000,9,-999.0000,9,  2318.8,2,  2315.6,2,   7.3135,2,    25.01,2, -999.00,9,  -999.0,9, -999.00,1, -999.00,1,     -999.0,9, 20220705,     1056,  29.9995,-126.5697,     5.8823,2,     -999.0,9,     -999.0,9,     -999.0,9,     -999.0,9,     0.0134,1,     4.6885,1,     -999.0,9,     -999.0,9,     -999.0,9,     -999.0,9,     -999.0,9
33RR20220613,       P02E,     178,          1,         21,         21,2,20220705,       0932,    29.9995,  -126.5697,       4258,   671.3,2,   5.2090,2,  34.3097,2,  34.3056,2,     12.7,3,    12.3,2,   90.71,2,   41.51,2,    0.00,2,    3.12,2,   0.199,2,   0.117,2,   0.1158,2,  2335.0,2,  2332.2,2,   7.3095,2,    25.02,2, -999.00,9,  -999.0,9, -999.00,1, -999.00,1,       56.9,2, 20220705,     1053,  29.9995,-126.5697,     5.2095,2,     -999.0,9,     -999.0,9,     -999.0,9,     -999.0,9,     0.0134,1,     4.6896,1,     -999.0,9,     -999.0,9,     -999.0,9,     -999.0,9,     -999.0,9
33RR20220613,       P02E,     178,          1,         20,         20,2,20220705,       0932,    29.9995,  -126.5697,       4258,   772.5,2,   4.7714,2,  34.3795,2,  34.3758,2,     13.7,3,    13.3,2,   99.80,2,   42.46,2,    0.00,2,    3.16,2,-999.000,9,-999.000,9,-999.0000,9,  2345.8,2,  2346.2,2,   7.3181,2,    24.98,2, -999.00,9,  -999.0,9, -999.00,1, -999.00,1,     -999.0,9, 20220705,     1051,  29.9995,-126.5697,     4.7724,2,     -999.0,9,     -999.0,9,     -999.0,9,     -999.0,9,     0.0134,1,     4.6906,1,     -999.0,9,     -999.0,9,     -999.0,9,     -999.0,9,     -999.0,9
33RR20220613,       P02E,     178,          1,         19,         39,2,20220705,       0932,    29.9995,  -126.5697,       4258,   873.8,2,   4.4312,2,  34.4248,2,  34.4214,2,     17.2,3,    16.7,2,  107.03,2,   42.95,2,    0.00,2,    3.16,2,   0.027,2,   0.024,2,   0.0809,2,  2356.9,2,  2355.4,2,   7.3287,2,    25.00,2, -999.00,9,  -999.0,9, -999.00,1, -999.00,1,       55.8,2, 20220705,     1048,  29.9995,-126.5697,     4.4365,2,     -999.0,9,     -999.0,9,     -999.0,9,     -999.0,9,     0.0134,1,     4.6914,1,     -999.0,9,     -999.0,9,     -999.0,9,     -999.0,9,     -999.0,9
33RR20220613,       P02E,     178,          1,         18,         18,2,20220705,       0932,    29.9995,  -126.5697,       4258,   974.3,2,   4.1318,2,  34.4624,2,  34.4583,2,     21.8,3,    21.4,2,  113.67,2,   43.13,2,    0.00,2,    3.16,2,-999.000,9,-999.000,9,-999.0000,9,  -999.0,9,  -999.0,9,-999.0000,9,  -999.00,9, -999.00,9,  -999.0,9, -999.00,1, -999.00,1,     -999.0,9, 20220705,     1046,  29.9995,-126.5697,     4.1287,2,     -999.0,9,     -999.0,9,     -999.0,9,     -999.0,9,     0.0133,1,     4.6918,1,     -999.0,9,     -999.0,9,     -999.0,9,     -999.0,9,     -999.0,9
33RR20220613,       P02E,     178,          1,         17,         37,2,20220705,       0932,    29.9995,  -126.5697,       4258,  1076.0,2,   3.8728,2,  34.4845,2,  34.4838,2,     26.6,2,    26.9,2,  119.14,2,   43.17,2,    0.00,2,    3.13,2,   0.015,2,   0.014,2,   0.0000,2,  2364.1,2,  2374.7,2,   7.3521,2,    25.02,2, -999.00,9,  -999.0,9, -999.00,1, -999.00,1,       51.3,2, 20220705,     1043,  29.9995,-126.5697,     3.8715,2,     -999.0,9,     -999.0,9,     -999.0,9,     -999.0,9,     0.0134,1,     4.6928,1,     -999.0,9,     -999.0,9,     -999.0,9,     -999.0,9,     -999.0,9
33RR20220613,       P02E,     178,          1,         16,         16,2,20220705,       0932,    29.9995,  -126.5697,       4258,  1176.1,2,   3.6217,2,  34.5079,2,  34.5085,2,     31.7,2,    31.8,2,  125.40,2,   43.05,2,    0.00,2,    3.12,2,-999.000,9,-999.000,9,-999.0000,9,  -999.0,9,  -999.0,9,-999.0000,9,  -999.00,9, -999.00,9,  -999.0,9, -999.00,1, -999.00,1,     -999.0,9, 20220705,     1040,  29.9995,-126.5697,     3.6172,2,     -999.0,9,     -999.0,9,     -999.0,9,     -999.0,9,     0.0134,1,     4.6934,1,     -999.0,9,     -999.0,9,     -999.0,9,     -999.0,9,     -999.0,9
33RR20220613,       P02E,     178,          1,         15,         15,2,20220705,       0932,    29.9995,  -126.5697,       4258,  1276.8,2,   3.3713,2,  34.5277,2,  34.5307,2,     37.7,3,    38.2,2,  130.77,2,   42.86,2,    0.00,2,    3.10,2,   0.010,2,   0.009,2,   0.0000,2,  2368.2,2,  2385.4,2,   7.3734,2,    25.00,2, -999.00,9,  -999.0,9, -999.00,1, -999.00,1,       45.6,2, 20220705,     1037,  29.9995,-126.5697,     3.3692,2,     -999.0,9,     -999.0,9,     -999.0,9,     -999.0,9,     0.0134,1,     4.6946,1,     -999.0,9,     -999.0,9,     -999.0,9,     -999.0,9,     -999.0,9
33RR20220613,       P02E,     178,          1,         14,         42,2,20220705,       0932,    29.9995,  -126.5697,       4258,  1378.3,2,   3.1333,2,  34.5453,2,  34.5463,2,     43.3,2,    43.7,2,  136.14,2,   42.68,2,    0.00,2,    3.06,2,-999.000,9,-999.000,9,-999.0000,9,  -999.0,9,  -999.0,9,-999.0000,9,  -999.00,9, -999.00,9,  -999.0,9, -999.00,1, -999.00,1,     -999.0,9, 20220705,     1034,  29.9995,-126.5697,     3.1355,2,     -999.0,9,     -999.0,9,     -999.0,9,     -999.0,9,     0.0134,1,     4.6958,1,     -999.0,9,     -999.0,9,     -999.0,9,     -999.0,9,     -999.0,9
33RR20220613,       P02E,     178,          1,         13,         13,2,20220705,       0932,    29.9995,  -126.5697,       4258,  1480.2,2,   2.9507,2,  34.5588,2,  34.5569,2,     47.9,2,    48.0,2,  140.83,2,   42.45,2,    0.00,2,    3.03,2,   0.007,2,   0.010,2,   0.0000,2,  2372.2,2,  2398.3,2,   7.3924,2,    24.98,2, -999.00,9,  -999.0,9, -999.00,1, -999.00,1,       40.7,2, 20220705,     1031,  29.9995,-126.5697,     2.9517,2,     -999.0,9,     -999.0,9,     -999.0,9,     -999.0,9,     0.0134,1,     4.6962,1,     -999.0,9,     -999.0,9,     -999.0,9,     -999.0,9,     -999.0,9
33RR20220613,       P02E,     178,          1,         12,         12,2,20220705,       0932,    29.9995,  -126.5697,       4258,  1581.6,2,   2.7755,2,  34.5723,2,  34.5714,2,     52.7,2,    52.8,2,  145.23,2,   42.25,2,    0.00,2,    3.01,2,-999.000,9,-999.000,9,-999.0000,9,  -999.0,9,  -999.0,9,-999.0000,9,  -999.00,9, -999.00,9,  -999.0,9, -999.00,1, -999.00,1,     -999.0,9, 20220705,     1029,  29.9995,-126.5697,     2.7747,2,     -999.0,9,     -999.0,9,     -999.0,9,     -999.0,9,     0.0134,1,     4.6971,1,     -999.0,9,     -999.0,9,     -999.0,9,     -999.0,9,     -999.0,9
33RR20220613,       P02E,     178,          1,         11,         11,2,20220705,       0932,    29.9995,  -126.5697,       4258,  1754.3,2,   2.4969,2,  34.5917,2,  34.5887,2,     62.0,2,    62.0,2,  152.27,2,   41.73,2,    0.00,2,    2.94,2,   0.007,2,   0.010,2,   0.0000,2,  2374.8,2,  2410.8,2,   7.4197,2,    25.00,2, -999.00,9,  -999.0,9, -999.00,1, -999.00,1,       36.5,2, 20220705,     1025,  29.9995,-126.5697,     2.4964,2,     -999.0,9,     -999.0,9,     -999.0,9,     -999.0,9,     0.0134,1,     4.6972,1,     -999.0,9,     -999.0,9,     -999.0,9,     -999.0,9,     -999.0,9
33RR20220613,       P02E,     178,          1,         10,         10,2,20220705,       0932,    29.9995,  -126.5697,       4258,  1957.5,2,   2.2470,2,  34.6128,2,  34.6126,2,     73.4,2,    73.7,2,  157.74,2,   41.00,2,    0.00,2,    2.88,2,-999.000,9,-999.000,9,-999.0000,9,  -999.0,9,  -999.0,9,-999.0000,9,  -999.00,9, -999.00,9,  -999.0,9, -999.00,1, -999.00,1,     -999.0,9, 20220705,     1020,  29.9995,-126.5697,     2.2452,2,     -999.0,9,     -999.0,9,     -999.0,9,     -999.0,9,     0.0134,1,     4.6981,1,     -999.0,9,     -999.0,9,     -999.0,9,     -999.0,9,     -999.0,9
33RR20220613,       P02E,     178,          1,          9,          9,2,20220705,       0932,    29.9995,  -126.5697,       4258,  2190.9,2,   2.0279,2,  34.6327,2,  34.6321,2,     86.5,2,    86.4,2,  161.45,2,   40.22,2,    0.00,2,    2.81,2,   0.004,2,   0.004,2,   0.0000,2,  2369.3,2,  2422.1,2,   7.4666,2,    25.00,2, -999.00,9,  -999.0,9, -999.00,1, -999.00,1,       31.0,2, 20220705,     1015,  29.9995,-126.5697,     2.0259,2,     -999.0,9,     -999.0,9,     -999.0,9,     -999.0,9,     0.0130,1,     4.6981,1,     -999.0,9,     -999.0,9,     -999.0,9,     -999.0,9,     -999.0,9
33RR20220613,       P02E,     178,          1,          8,          8,2,20220705,       0932,    29.9995,  -126.5697,       4258,  2445.9,2,   1.8511,2,  34.6475,2,  34.6464,2,     98.4,2,    98.6,2,  164.28,2,   39.46,2,    0.00,2,    2.75,2,-999.000,9,-999.000,9,-999.0000,9,  -999.0,9,  -999.0,9,-999.0000,9,  -999.00,9, -999.00,9,  -999.0,9, -999.00,1, -999.00,1,     -999.0,9, 20220705,     1009,  29.9995,-126.5697,     1.8508,2,     -999.0,9,     -999.0,9,     -999.0,9,     -999.0,9,     0.0133,1,     4.6994,1,     -999.0,9,     -999.0,9,     -999.0,9,     -999.0,9,     -999.0,9
33RR20220613,       P02E,     178,          1,          7,          7,2,20220705,       0932,    29.9995,  -126.5697,       4258,  2700.7,2,   1.7289,2,  34.6559,2,  34.6541,2,    106.3,2,   106.0,2,  167.70,2,   38.96,2,    0.00,2,    2.72,2,   0.004,2,   0.004,2,   0.0000,2,  2361.3,2,  2428.2,2,   7.5035,2,    25.01,2, -999.00,9,  -999.0,9, -999.00,1, -999.00,1,       27.2,2, 20220705,     1005,  29.9995,-126.5697,     1.7288,2,     -999.0,9,     -999.0,9,     -999.0,9,     -999.0,9,     0.0130,1,     4.6996,1,     -999.0,9,     -999.0,9,     -999.0,9,     -999.0,9,     -999.0,9
33RR20220613,       P02E,     178,          1,          6,          6,2,20220705,       0932,    29.9995,  -126.5697,       4258,  2955.4,2,   1.6133,2,  34.6644,2,  34.6643,2,    115.4,2,   115.4,2,  169.65,2,   38.42,2,    0.00,2,    2.66,2,-999.000,9,-999.000,9,-999.0000,9,  -999.0,9,  -999.0,9,-999.0000,9,  -999.00,9, -999.00,9,  -999.0,9, -999.00,1, -999.00,1,     -999.0,9, 20220705,     1000,  29.9995,-126.5697,     1.6132,2,     -999.0,9,     -999.0,9,     -999.0,9,     -999.0,9,     0.0122,1,     4.7004,1,     -999.0,9,     -999.0,9,     -999.0,9,     -999.0,9,     -999.0,9
33RR20220613,       P02E,     178,          1,          5,          5,2,20220705,       0932,    29.9995,  -126.5697,       4258,  3246.5,2,   1.5608,2,  34.6705,3,  34.6682,2,    121.9,2,   121.9,2,  170.43,2,   38.02,2,    0.00,2,    2.63,2,   0.007,2,   0.011,2,   0.0000,2,  2353.9,2,  2431.2,2,   7.5330,2,    25.00,2, -999.00,9,  -999.0,9, -999.00,1, -999.00,1,       25.0,2, 20220705,      954,  29.9995,-126.5697,     1.5609,2,     -999.0,9,     -999.0,9,     -999.0,9,     -999.0,9,     0.0122,1,     4.7005,1,     -999.0,9,     -999.0,9,     -999.0,9,     -999.0,9,     -999.0,9