BOTTLE,20230830CCHSIOCBG
EXPOCODE,SECT_ID,STNNBR,CASTNO,SAMPNO,BTLNBR,BTLNBR_FLAG_W,DATE,TIME,LATITUDE,LONGITUDE,DEPTH,CTDPRS,CTDPRS_FLAG_W,CTDTMP,CTDTMP_FLAG_W,CTDSAL,CTDSAL_FLAG_W,SALNTY,SALNTY_FLAG_W,CTDOXY,CTDOXY_FLAG_W,OXYGEN,OXYGEN_FLAG_W,SILCAT,SILCAT_FLAG_W,NITRAT,NITRAT_FLAG_W,NITRIT,NITRIT_FLAG_W,PHSPHT,PHSPHT_FLAG_W,CFC-11,CFC-11_FLAG_W,CFC-12,CFC-12_FLAG_W,SF6,SF6_FLAG_W,TCARBN,TCARBN_FLAG_W,ALKALI,ALKALI_FLAG_W,PH_TOT,PH_TOT_FLAG_W,PH_TMP,PH_TMP_FLAG_W,DELC13,DELC13_FLAG_W,DELC14,DELC14_FLAG_W,DOC,DOC_FLAG_W,TDN,TDN_FLAG_W,N2O,N2O_FLAG_W,BTL_DATE,BTL_TIME,BTL_LAT,BTL_LON,REFTMP,REFTMP_FLAG_W,POC,POC_FLAG_W,PON,PON_FLAG_W,POP,POP_FLAG_W,PCOD,PCOD_FLAG_W,CTDFLUOR,CTDFLUOR_FLAG_W,CTDXMISS,CTDXMISS_FLAG_W,HPLC,HPLC_FLAG_W,DNA,DNA_FLAG_W,FCM,FCM_FLAG_W,IMAGES,IMAGES_FLAG_W,VIRAL_ABUNDANCE,VIRAL_ABUNDANCE_FLAG_W
,,,,,,,,,,,METERS,DBAR,,ITS-90,,PSS-78,,PSS-78,,UMOL/KG,,UMOL/KG,,UMOL/KG,,UMOL/KG,,UMOL/KG,,UMOL/KG,,PMOL/KG,,PMOL/KG,,FMOL/KG,,UMOL/KG,,UMOL/KG,,,,DEG C,,/MILLE,,/MILLE,,UMOL/KG,,UMOL/KG,,NMOL/KG,,,,,,ITS-90,,UG/L,,UG/L,,UG/L,,UG/L,,VOLTS,,VOLTS,,,,,,,,,,,
33RR20220613,       P02E,     147,          1,         36,         36,2,20220626,       0904,    30.0012,  -144.4682,       5206,     3.1,2,  23.0224,2,  35.2889,2,  35.2915,2,    220.2,2,   219.5,2,    0.20,2,    0.02,2,    0.00,2,    0.02,3,   1.755,2,   1.110,2,   1.8730,2,  2046.4,6,  2324.1,2,   7.9984,2,    25.01,2, -999.00,9,  -999.0,9, -999.00,9, -999.00,9,        7.2,2, 20220626,     1108,  30.0012,-144.4682,    23.0181,2,     -999.0,9,     -999.0,9,     -999.0,9,     -999.0,9,     0.0134,1,     4.6395,1,     -999.0,9,     -999.0,9,     -999.0,9,     -999.0,9,     -999.0,9
33RR20220613,       P02E,     147,          1,         35,         35,2,20220626,       0904,    30.0012,  -144.4682,       5206,    34.8,2,  22.7498,2,  35.3417,2,  35.3279,2,    220.9,2,   221.3,2,    0.20,2,    0.01,2,    0.00,2,    0.02,3,   1.753,2,   1.115,2,   1.7851,2,  2044.9,2,  2325.8,2,   8.0036,2,    25.00,2, -999.00,9,  -999.0,9, -999.00,9, -999.00,9,        7.2,2, 20220626,     1106,  30.0012,-144.4682,    22.7472,2,     -999.0,9,     -999.0,9,     -999.0,9,     -999.0,9,     0.0134,1,     4.6431,1,     -999.0,9,     -999.0,9,     -999.0,9,     -999.0,9,     -999.0,9
33RR20220613,       P02E,     147,          1,         34,         34,2,20220626,       0904,    30.0012,  -144.4682,       5206,    59.9,2,  21.4322,2,  35.2376,2,  35.2333,2,    231.0,2,   230.7,2,    0.10,2,    0.02,2,    0.00,2,    0.00,3,   1.883,2,   1.178,2,   1.9011,2,  2039.8,2,  2319.6,2,   8.0022,2,    25.01,2, -999.00,9,  -999.0,9, -999.00,9, -999.00,9,        7.5,2, 20220626,     1104,  30.0012,-144.4682,    21.4350,2,     -999.0,9,     -999.0,9,     -999.0,9,     -999.0,9,     0.0159,1,     4.6388,1,     -999.0,9,     -999.0,9,     -999.0,9,     -999.0,9,     -999.0,9
33RR20220613,       P02E,     147,          1,         33,         33,2,20220626,       0904,    30.0012,  -144.4682,       5206,    85.0,2,  20.9504,2,  35.1673,3,  35.1473,2,    230.1,2,   230.0,2,    0.10,2,    0.01,2,    0.00,2,    0.00,3,-999.000,9,-999.000,9,-999.0000,9,  2039.8,2,  2314.7,2,   7.9933,2,    25.01,2, -999.00,9,  -999.0,9, -999.00,9, -999.00,9,     -999.0,9, 20220626,     1102,  30.0012,-144.4682,    20.9555,2,     -999.0,9,     -999.0,9,     -999.0,9,     -999.0,9,     0.0177,1,     4.6454,1,     -999.0,9,     -999.0,9,     -999.0,9,     -999.0,9,     -999.0,9
33RR20220613,       P02E,     147,          1,         32,         32,2,20220626,       0904,    30.0012,  -144.4682,       5206,   116.4,2,  19.4955,2,  34.9408,2,  34.9239,2,    225.0,2,   225.3,2,    0.49,2,    0.00,2,    0.00,2,    0.04,3,   2.021,2,   1.260,2,   2.0117,2,  2042.9,2,  2299.8,2,   7.9653,2,    25.01,2, -999.00,9,  -999.0,9, -999.00,9, -999.00,9,        8.0,2, 20220626,     1101,  30.0012,-144.4682,    19.5103,2,     -999.0,9,     -999.0,9,     -999.0,9,     -999.0,9,     0.0226,1,     4.6578,1,     -999.0,9,     -999.0,9,     -999.0,9,     -999.0,9,     -999.0,9
33RR20220613,       P02E,     147,          1,         31,         31,2,20220626,       0904,    30.0012,  -144.4682,       5206,   166.1,2,  16.9103,2,  34.5116,2,  34.5117,2,    217.4,2,   217.6,2,    1.56,2,    1.38,2,    0.06,2,    0.15,3,-999.000,9,-999.000,9,-999.0000,9,  2053.0,2,  2272.2,2,   7.9035,2,    25.00,2, -999.00,9,  -999.0,9, -999.00,9, -999.00,9,     -999.0,9, 20220626,     1100,  30.0012,-144.4682,    16.9115,2,     -999.0,9,     -999.0,9,     -999.0,9,     -999.0,9,     0.0232,1,     4.6699,1,     -999.0,9,     -999.0,9,     -999.0,9,     -999.0,9,     -999.0,9
33RR20220613,       P02E,     147,          1,         30,         17,2,20220626,       0904,    30.0012,  -144.4682,       5206,   217.0,2,  13.5699,2,  34.1674,2,  34.1624,2,    211.7,2,   211.9,2,    4.99,2,    6.11,2,    0.00,2,    0.41,3,   2.636,2,   1.606,2,   2.1567,2,  2074.6,2,  2251.4,2,   7.8193,2,    25.01,2, -999.00,9,  -999.0,9, -999.00,9, -999.00,9,       12.3,2, 20220626,     1058,  30.0012,-144.4682,    13.5700,2,     -999.0,9,     -999.0,9,     -999.0,9,     -999.0,9,     0.0134,1,     4.6845,1,     -999.0,9,     -999.0,9,     -999.0,9,     -999.0,9,     -999.0,9
33RR20220613,       P02E,     147,          1,         29,         29,2,20220626,       0904,    30.0012,  -144.4682,       5206,   267.2,2,  11.6518,2,  34.0666,2,  34.0595,2,    210.9,2,   211.4,2,   10.07,2,   11.39,2,    0.00,2,    0.68,3,-999.000,9,-999.000,9,-999.0000,9,  2097.0,2,  2249.9,6,   7.7630,2,    25.00,2, -999.00,9,  -999.0,9, -999.00,9, -999.00,9,     -999.0,9, 20220626,     1056,  30.0012,-144.4682,    11.6576,2,     -999.0,9,     -999.0,9,     -999.0,9,     -999.0,9,     0.0113,1,     4.6903,1,     -999.0,9,     -999.0,9,     -999.0,9,     -999.0,9,     -999.0,9
33RR20220613,       P02E,     147,          1,         28,         28,2,20220626,       0904,    30.0012,  -144.4682,       5206,   317.0,2,  10.2857,2,  34.0761,2,  34.0740,2,    209.8,2,   210.2,2,   15.26,2,   14.65,2,    0.00,2,    0.85,3,   3.015,2,   1.799,2,   2.0609,2,  -999.0,9,  -999.0,9,-999.0000,9,  -999.00,9, -999.00,9,  -999.0,9, -999.00,9, -999.00,9,       17.6,2, 20220626,     1054,  30.0012,-144.4682,    10.3062,2,     -999.0,9,     -999.0,9,     -999.0,9,     -999.0,9,     0.0122,1,     4.6921,1,     -999.0,9,     -999.0,9,     -999.0,9,     -999.0,9,     -999.0,9
33RR20220613,       P02E,     147,          1,         27,         27,2,20220626,       0904,    30.0012,  -144.4682,       5206,   367.5,2,   9.1542,2,  34.0328,2,  34.0333,2,    199.8,2,   201.8,2,   21.42,2,   17.65,2,    0.00,2,    1.06,3,-999.000,9,-999.000,9,-999.0000,9,  2135.8,2,  2259.3,2,   7.6878,2,    25.01,2, -999.00,9,  -999.0,9, -999.00,9, -999.00,9,     -999.0,9, 20220626,     1053,  30.0012,-144.4682,     9.2069,2,     -999.0,9,     -999.0,9,     -999.0,9,     -999.0,9,     0.0122,1,     4.6936,1,     -999.0,9,     -999.0,9,     -999.0,9,     -999.0,9,     -999.0,9
33RR20220613,       P02E,     147,          1,         26,         26,2,20220626,       0904,    30.0012,  -144.4682,       5206,   438.4,2,   8.1968,2,  34.0199,2,  34.0184,2,    166.5,2,   166.7,2,   32.76,2,   23.31,2,    0.00,2,    1.41,3,   2.921,2,   1.706,2,   1.4553,2,  2171.7,2,  2266.2,2,   7.6059,2,    25.02,2, -999.00,9,  -999.0,9, -999.00,9, -999.00,9,       25.5,2, 20220626,     1050,  30.0012,-144.4682,     8.1970,2,     -999.0,9,     -999.0,9,     -999.0,9,     -999.0,9,     0.0133,1,     4.6942,1,     -999.0,9,     -999.0,9,     -999.0,9,     -999.0,9,     -999.0,9
33RR20220613,       P02E,     147,          1,         25,         25,2,20220626,       0904,    30.0012,  -144.4682,       5206,   539.6,2,   6.1673,2,  33.9851,2,  33.9835,2,    106.9,2,   106.0,2,   58.68,2,   32.75,2,    0.00,2,    2.07,3,   2.276,2,   1.284,2,   0.7266,2,  2241.3,2,  2285.9,2,   7.4489,2,    25.03,2, -999.00,9,  -999.0,9, -999.00,9, -999.00,9,       32.8,2, 20220626,     1048,  30.0012,-144.4682,     6.1500,2,     -999.0,9,     -999.0,9,     -999.0,9,     -999.0,9,     0.0134,1,     4.6951,1,     -999.0,9,     -999.0,9,     -999.0,9,     -999.0,9,     -999.0,9
33RR20220613,       P02E,     147,          1,         24,         24,2,20220626,       0904,    30.0012,  -144.4682,       5206,   640.5,2,   5.0486,2,  34.0760,2,  34.0791,2,     49.0,2,    48.8,2,   82.73,2,   39.24,2,    0.00,2,    2.57,3,   1.204,2,   0.647,2,   0.3008,2,  2300.7,2,  2309.7,2,   7.3362,2,    25.02,2, -999.00,9,  -999.0,9, -999.00,9, -999.00,9,       42.3,2, 20220626,     1045,  30.0012,-144.4682,     5.0496,2,     -999.0,9,     -999.0,9,     -999.0,9,     -999.0,9,     0.0134,1,     4.6958,1,     -999.0,9,     -999.0,9,     -999.0,9,     -999.0,9,     -999.0,9
33RR20220613,       P02E,     147,          1,         23,         23,2,20220626,       0904,    30.0012,  -144.4682,       5206,   741.1,2,   4.5467,2,  34.1755,2,  34.1779,2,     23.2,3,    24.3,2,   97.79,2,   41.85,2,    0.00,2,    2.82,3,   0.525,2,   0.281,2,   0.2095,2,  2330.3,2,  2328.8,2,   7.3016,2,    25.04,2, -999.00,9,  -999.0,9, -999.00,9, -999.00,9,       48.1,2, 20220626,     1043,  30.0012,-144.4682,     4.5429,2,     -999.0,9,     -999.0,9,     -999.0,9,     -999.0,9,     0.0134,1,     4.6958,1,     -999.0,9,     -999.0,9,     -999.0,9,     -999.0,9,     -999.0,9
33RR20220613,       P02E,     147,          1,         22,         22,2,20220626,       0904,    30.0012,  -144.4682,       5206,   842.7,2,   4.1503,2,  34.2927,2,  34.2923,2,     12.7,2,    12.6,2,  111.37,2,   43.20,2,    0.00,2,    3.00,3,   0.109,2,   0.067,2,   0.0907,2,  2354.5,2,  2355.5,2,   7.2972,2,    25.04,2, -999.00,9,  -999.0,9, -999.00,9, -999.00,9,       52.7,2, 20220626,     1040,  30.0012,-144.4682,     4.1498,2,     -999.0,9,     -999.0,9,     -999.0,9,     -999.0,9,     0.0134,1,     4.6961,1,     -999.0,9,     -999.0,9,     -999.0,9,     -999.0,9,     -999.0,9
33RR20220613,       P02E,     147,          1,         21,         21,2,20220626,       0904,    30.0012,  -144.4682,       5206,   943.6,2,   3.9174,2,  34.3698,2,  34.3696,2,     13.7,3,    13.5,2,  118.31,2,   43.29,2,    0.00,2,    3.06,4,   0.033,2,   0.021,2,   0.0000,2,  2360.1,2,  2361.3,2,   7.3072,2,    25.02,2, -999.00,9,  -999.0,9, -999.00,9, -999.00,9,       52.2,2, 20220626,     1037,  30.0012,-144.4682,     3.9170,2,     -999.0,9,     -999.0,9,     -999.0,9,     -999.0,9,     0.0134,1,     4.6958,1,     -999.0,9,     -999.0,9,     -999.0,9,     -999.0,9,     -999.0,9
33RR20220613,       P02E,     147,          1,         20,         20,2,20220626,       0904,    30.0012,  -144.4682,       5206,  1044.9,2,   3.7091,2,  34.4156,2,  34.4167,2,     18.1,2,    18.3,2,  123.97,2,   43.29,2,    0.00,2,    3.09,4,   0.015,2,   0.013,2,   0.0919,2,  -999.0,9,  -999.0,9,-999.0000,9,  -999.00,9, -999.00,9,  -999.0,9, -999.00,9, -999.00,9,       51.0,2, 20220626,     1035,  30.0012,-144.4682,     3.7082,2,     -999.0,9,     -999.0,9,     -999.0,9,     -999.0,9,     0.0134,1,     4.6963,1,     -999.0,9,     -999.0,9,     -999.0,9,     -999.0,9,     -999.0,9
33RR20220613,       P02E,     147,          1,         19,         39,2,20220626,       0904,    30.0012,  -144.4682,       5206,  1146.7,2,   3.4517,2,  34.4663,2,  34.4636,2,     28.3,3,    27.9,2,  129.05,2,   42.94,2,    0.00,2,    3.09,4,   0.009,2,   0.008,2,   0.0000,2,  2367.4,2,  2382.0,2,   7.3454,2,    25.02,2, -999.00,9,  -999.0,9, -999.00,9, -999.00,9,       47.4,2, 20220626,     1032,  30.0013,-144.4682,     3.4480,2,     -999.0,9,     -999.0,9,     -999.0,9,     -999.0,9,     0.0134,1,     4.6972,1,     -999.0,9,     -999.0,9,     -999.0,9,     -999.0,9,     -999.0,9
33RR20220613,       P02E,     147,          1,         18,         18,2,20220626,       0904,    30.0012,  -144.4682,       5206,  1247.8,2,   3.2235,2,  34.5011,2,  34.4991,2,     36.8,2,    37.0,2,  133.84,2,   42.54,2,    0.00,2,    3.09,4,   0.007,2,   0.006,2,   0.0000,2,  -999.0,9,  -999.0,9,-999.0000,9,  -999.00,9, -999.00,9,  -999.0,9, -999.00,9, -999.00,9,       43.4,2, 20220626,     1029,  30.0013,-144.4682,     3.2226,2,     -999.0,9,     -999.0,9,     -999.0,9,     -999.0,9,     0.0134,1,     4.6974,1,     -999.0,9,     -999.0,9,     -999.0,9,     -999.0,9,     -999.0,9
33RR20220613,       P02E,     147,          1,         17,         37,2,20220626,       0904,    30.0012,  -144.4682,       5206,  1348.7,2,   3.0232,2,  34.5267,2,  34.5241,2,     45.3,2,    44.9,2,  137.75,2,   42.15,2,    0.00,2,    3.09,4,   0.005,2,   0.005,2,   0.0000,2,  2368.1,2,  2393.7,2,   7.3833,2,    25.00,2, -999.00,9,  -999.0,9, -999.00,9, -999.00,9,       40.5,2, 20220626,     1027,  30.0012,-144.4682,     3.0292,2,     -999.0,9,     -999.0,9,     -999.0,9,     -999.0,9,     0.0134,1,     4.6983,1,     -999.0,9,     -999.0,9,     -999.0,9,     -999.0,9,     -999.0,9
33RR20220613,       P02E,     147,          1,         16,         16,2,20220626,       0904,    30.0012,  -144.4682,       5206,  1481.4,2,   2.7793,2,  34.5531,2,  34.5508,2,     54.4,2,    54.7,2,  143.22,2,   41.68,2,    0.00,2,    3.09,4,   0.003,2,   0.003,2,   0.0000,2,  -999.0,9,  -999.0,9,-999.0000,9,  -999.00,9, -999.00,9,  -999.0,9, -999.00,9, -999.00,9,       37.3,2, 20220626,     1023,  30.0012,-144.4682,     2.7773,2,     -999.0,9,     -999.0,9,     -999.0,9,     -999.0,9,     0.0134,1,     4.6985,1,     -999.0,9,     -999.0,9,     -999.0,9,     -999.0,9,     -999.0,9
33RR20220613,       P02E,     147,          1,         15,         15,2,20220626,       0904,    30.0012,  -144.4682,       5206,  1682.8,2,   2.4759,2,  34.5799,2,  34.5779,2,     63.7,2,    63.6,2,  151.23,2,   41.17,2,    0.00,2,    3.10,4,   0.003,2,   0.002,2,   0.0000,2,  2370.5,2,  2409.9,2,   7.4201,2,    25.01,2, -999.00,9,  -999.0,9, -999.00,9, -999.00,9,       35.0,2, 20220626,     1019,  30.0012,-144.4682,     2.4753,2,     -999.0,9,     -999.0,9,     -999.0,9,     -999.0,9,     0.0134,1,     4.6995,1,     -999.0,9,     -999.0,9,     -999.0,9,     -999.0,9,     -999.0,9
33RR20220613,       P02E,     147,          1,         14,         14,2,20220626,       0904,    30.0012,  -144.4682,       5206,  1885.3,2,   2.2360,2,  34.6003,2,  34.5993,2,     71.6,3,    72.7,2,  158.17,2,   40.63,2,    0.00,2,    3.12,4,   0.003,2,   0.003,2,   0.0000,2,  -999.0,9,  -999.0,9,-999.0000,9,  -999.00,9, -999.00,9,  -999.0,9, -999.00,9, -999.00,9,       31.9,2, 20220626,     1015,  30.0012,-144.4682,     2.2385,2,     -999.0,9,     -999.0,9,     -999.0,9,     -999.0,9,     0.0134,1,     4.7005,1,     -999.0,9,     -999.0,9,     -999.0,9,     -999.0,9,     -999.0,9
33RR20220613,       P02E,     147,          1,         13,         13,2,20220626,       0904,    30.0012,  -144.4682,       5206,  2109.9,2,   1.9816,2,  34.6226,3,  34.6197,2,     83.1,2,    83.0,2,  164.62,2,   39.90,2,    0.00,2,    3.12,4,   0.003,2,   0.001,2,   0.0000,2,  2369.6,2,  2420.6,2,   7.4567,2,    25.00,2, -999.00,9,  -999.0,9, -999.00,9, -999.00,9,       29.6,2, 20220626,     1009,  30.0012,-144.4682,     1.9819,2,     -999.0,9,     -999.0,9,     -999.0,9,     -999.0,9,     0.0134,1,     4.7013,1,     -999.0,9,     -999.0,9,     -999.0,9,     -999.0,9,     -999.0,9
33RR20220613,       P02E,     147,          1,         12,         12,2,20220626,       0904,    30.0012,  -144.4682,       5206,  2363.8,2,   1.8409,2,  34.6361,3,  34.6341,2,     92.0,2,    92.2,2,  167.75,2,   39.20,2,    0.00,2,    3.07,4,-999.000,9,-999.000,9,-999.0000,9,  -999.0,9,  -999.0,9,-999.0000,9,  -999.00,9, -999.00,9,  -999.0,9, -999.00,9, -999.00,9,     -999.0,9, 20220626,     1005,  30.0012,-144.4682,     1.8407,2,     -999.0,9,     -999.0,9,     -999.0,9,     -999.0,9,     0.0134,1,     4.7010,1,     -999.0,9,     -999.0,9,     -999.0,9,     -999.0,9,     -999.0,9
33RR20220613,       P02E,     147,          1,         11,         11,2,20220626,       0904,    30.0012,  -144.4682,       5206,  2618.3,2,   1.7221,2,  34.6479,2,  34.6460,2,    101.7,2,   101.7,2,  169.02,2,   38.60,2,    0.00,2,    3.05,4,   0.002,2,   0.003,2,   0.0000,2,  2363.5,2,  2426.2,2,   7.4911,2,    25.01,2, -999.00,9,  -999.0,9, -999.00,9, -999.00,9,       25.9,2, 20220626,      959,  30.0013,-144.4682,     1.7213,2,     -999.0,9,     -999.0,9,     -999.0,9,     -999.0,9,     0.0126,1,     4.7019,1,     -999.0,9,     -999.0,9,     -999.0,9,     -999.0,9,     -999.0,9
33RR20220613,       P02E,     147,          1,         10,         10,2,20220626,       0904,    30.0012,  -144.4682,       5206,  2874.2,2,   1.6283,2,  34.6573,3,  34.6549,2,    110.9,2,   110.5,2,  169.70,2,   38.09,2,    0.00,2,    3.03,4,-999.000,9,-999.000,9,-999.0000,9,  -999.0,9,  -999.0,9,-999.0000,9,  -999.00,9, -999.00,9,  -999.0,9, -999.00,9, -999.00,9,     -999.0,9, 20220626,      954,  30.0012,-144.4682,     1.6279,2,     -999.0,9,     -999.0,9,     -999.0,9,     -999.0,9,     0.0123,1,     4.7022,1,     -999.0,9,     -999.0,9,     -999.0,9,     -999.0,9,     -999.0,9
33RR20220613,       P02E,     147,          1,          9,          9,2,20220626,       0904,    30.0012,  -144.4682,       5206,  3143.7,2,   1.5515,2,  34.6665,2,  34.6661,2,    121.1,2,   121.7,2,  168.04,2,   37.49,2,    0.00,2,    2.98,4,   0.007,2,   0.006,2,   0.0000,2,  2352.0,2,  2432.7,2,   7.5279,2,    25.01,2, -999.00,9,  -999.0,9, -999.00,9, -999.00,9,       23.4,2, 20220626,      949,  30.0013,-144.4682,     1.5513,2,     -999.0,9,     -999.0,9,     -999.0,9,     -999.0,9,     0.0122,1,     4.7029,1,     -999.0,9,     -999.0,9,     -999.0,9,     -999.0,9,     -999.0,9
33RR20220613,       P02E,     147,          1,          8,          8,2,20220626,       0904,    30.0012,  -144.4682,       5206,  3451.1,2,   1.4897,2,  34.6756,3,  34.6736,2,    132.5,2,   132.3,2,  165.88,2,   36.85,2,    0.00,2,    2.93,4,-999.000,9,-999.000,9,-999.0000,9,  -999.0,9,  -999.0,9,-999.0000,9,  -999.00,9, -999.00,9,  -999.0,9, -999.00,9, -999.00,9,     -999.0,9, 20220626,      942,  30.0012,-144.4682,     1.4895,2,     -999.0,9,     -999.0,9,     -999.0,9,     -999.0,9,     0.0122,1,     4.7031,1,     -999.0,9,     -999.0,9,     -999.0,9,     -999.0,9,     -999.0,9
33RR20220613,       P02E,     147,          1,          7,          7,2,20220626,       0904,    30.0012,  -144.4682,       5206,  3758.2,2,   1.4739,2,  34.6807,2,  34.6794,2,    139.4,2,   139.4,2,  163.24,2,   36.47,2,    0.00,2,    2.87,4,   0.006,2,   0.007,2,   0.0000,2,  2339.8,2,  2429.2,6,   7.5603,2,    25.01,2, -999.00,9,  -999.0,9, -999.00,9, -999.00,9,       21.6,2, 20220626,      936,  30.0013,-144.4682,     1.4739,2,     -999.0,9,     -999.0,9,     -999.0,9,     -999.0,9,     0.0122,1,     4.7032,1,     -999.0,9,     -999.0,9,     -999.0,9,     -999.0,9,     -999.0,9
33RR20220613,       P02E,     147,          1,          6,          6,2,20220626,       0904,    30.0012,  -144.4682,       5206,  4066.0,2,   1.4739,2,  34.6842,2,  34.6832,2,    145.4,2,   145.5,2,  159.92,2,   35.99,2,    0.00,2,    2.83,4,-999.000,9,-999.000,9,-999.0000,9,  -999.0,9,  -999.0,9,-999.0000,9,  -999.00,9, -999.00,9,  -999.0,9, -999.00,9, -999.00,9,     -999.0,9, 20220626,      930,  30.0012,-144.4682,     1.4738,2,     -999.0,9,     -999.0,9,     -999.0,9,     -999.0,9,     0.0130,1,     4.7034,1,     -999.0,9,     -999.0,9,     -999.0,9,     -999.0,9,     -999.0,9
33RR20220613,       P02E,     147,          1,          5,          5,4,20220626,       0904,    30.0012,  -144.4682,       5206,  4374.7,3,   1.4921,3,  34.6861,3,  34.6826,3,    148.8,3,   145.7,3,  160.12,3,   36.09,3,    0.00,3,    2.84,4,   0.004,3,   0.005,3,   0.0000,3,  2334.5,3,  2427.7,3,   7.5695,3,    25.03,3, -999.00,9,  -999.0,9, -999.00,9, -999.00,9,       21.4,3, 20220626,      924,  30.0012,-144.4682,     1.4919,3,     -999.0,9,     -999.0,9,     -999.0,9,     -999.0,9,     0.0122,1,     4.7039,1,     -999.0,9,     -999.0,9,     -999.0,9,     -999.0,9,     -999.0,9