BOTTLE,20230830CCHSIOCBG
EXPOCODE,SECT_ID,STNNBR,CASTNO,SAMPNO,BTLNBR,BTLNBR_FLAG_W,DATE,TIME,LATITUDE,LONGITUDE,DEPTH,CTDPRS,CTDPRS_FLAG_W,CTDTMP,CTDTMP_FLAG_W,CTDSAL,CTDSAL_FLAG_W,SALNTY,SALNTY_FLAG_W,CTDOXY,CTDOXY_FLAG_W,OXYGEN,OXYGEN_FLAG_W,SILCAT,SILCAT_FLAG_W,NITRAT,NITRAT_FLAG_W,NITRIT,NITRIT_FLAG_W,PHSPHT,PHSPHT_FLAG_W,CFC-11,CFC-11_FLAG_W,CFC-12,CFC-12_FLAG_W,SF6,SF6_FLAG_W,TCARBN,TCARBN_FLAG_W,ALKALI,ALKALI_FLAG_W,PH_TOT,PH_TOT_FLAG_W,PH_TMP,PH_TMP_FLAG_W,DELC13,DELC13_FLAG_W,DELC14,DELC14_FLAG_W,DOC,DOC_FLAG_W,TDN,TDN_FLAG_W,N2O,N2O_FLAG_W,BTL_DATE,BTL_TIME,BTL_LAT,BTL_LON,REFTMP,REFTMP_FLAG_W,POC,POC_FLAG_W,PON,PON_FLAG_W,POP,POP_FLAG_W,PCOD,PCOD_FLAG_W,CTDFLUOR,CTDFLUOR_FLAG_W,CTDXMISS,CTDXMISS_FLAG_W,HPLC,HPLC_FLAG_W,DNA,DNA_FLAG_W,FCM,FCM_FLAG_W,IMAGES,IMAGES_FLAG_W,VIRAL_ABUNDANCE,VIRAL_ABUNDANCE_FLAG_W
,,,,,,,,,,,METERS,DBAR,,ITS-90,,PSS-78,,PSS-78,,UMOL/KG,,UMOL/KG,,UMOL/KG,,UMOL/KG,,UMOL/KG,,UMOL/KG,,PMOL/KG,,PMOL/KG,,FMOL/KG,,UMOL/KG,,UMOL/KG,,,,DEG C,,/MILLE,,/MILLE,,UMOL/KG,,UMOL/KG,,NMOL/KG,,,,,,ITS-90,,UG/L,,UG/L,,UG/L,,UG/L,,VOLTS,,VOLTS,,,,,,,,,,,
33RR20220613,       P02E,     181,          1,         36,         36,2,20220706,       0457,    29.9995,  -124.8368,       3768,     2.9,2,  18.8781,2,  33.1463,2,  33.1466,2,    239.0,2,   239.1,2,    0.88,2,    0.00,2,    0.00,2,    0.31,2,   2.054,2,   1.353,2,   2.1889,2,  2014.0,2,  2218.3,2,   7.8975,2,    25.02,2, -999.00,9,  -999.0,9, -999.00,9, -999.00,9,        8.6,2, 20220706,      645,  29.9995,-124.8368,    18.8422,2,     -999.0,9,     -999.0,9,     -999.0,9,     -999.0,9,     0.0143,1,     4.6280,1,     -999.0,9,     -999.0,9,     -999.0,9,     -999.0,9,     -999.0,9
33RR20220613,       P02E,     181,          1,         35,         35,2,20220706,       0457,    29.9995,  -124.8368,       3768,    20.2,2,  18.3763,2,  33.2015,3,  33.1807,2,    240.0,2,   241.2,2,    0.88,2,    0.00,2,    0.00,2,    0.30,2,   2.120,2,   1.349,2,   2.2283,2,  2013.6,2,  2220.6,6,   7.8997,2,    25.01,2, -999.00,9,  -999.0,9, -999.00,9, -999.00,9,        8.8,2, 20220706,      643,  29.9995,-124.8368,    18.3651,2,     -999.0,9,     -999.0,9,     -999.0,9,     -999.0,9,     0.0147,1,     4.6315,1,     -999.0,9,     -999.0,9,     -999.0,9,     -999.0,9,     -999.0,9
33RR20220613,       P02E,     181,          1,         34,         34,2,20220706,       0457,    29.9995,  -124.8368,       3768,    40.7,2,  17.2306,2,  33.1944,2,  33.2049,2,    250.9,2,   249.0,2,    0.88,2,    0.00,2,    0.00,2,    0.30,2,   2.265,2,   1.396,2,   2.3470,2,  2010.2,2,  2220.5,2,   7.9024,2,    24.99,2, -999.00,9,  -999.0,9, -999.00,9, -999.00,9,        8.9,2, 20220706,      640,  29.9995,-124.8368,    17.3131,2,     -999.0,9,     -999.0,9,     -999.0,9,     -999.0,9,     0.0159,1,     4.6196,1,     -999.0,9,     -999.0,9,     -999.0,9,     -999.0,9,     -999.0,9
33RR20220613,       P02E,     181,          1,         33,         33,2,20220706,       0457,    29.9995,  -124.8368,       3768,    66.0,2,  16.1986,2,  33.1885,2,  33.1881,2,    256.6,2,   256.9,2,    0.98,2,    0.01,2,    0.00,2,    0.28,2,-999.000,9,-999.000,9,-999.0000,9,  2008.1,2,  2218.3,2,   7.9045,2,    25.02,2, -999.00,9,  -999.0,9, -999.00,9, -999.00,9,     -999.0,9, 20220706,      639,  29.9995,-124.8368,    16.1970,2,     -999.0,9,     -999.0,9,     -999.0,9,     -999.0,9,     0.0183,1,     4.6276,1,     -999.0,9,     -999.0,9,     -999.0,9,     -999.0,9,     -999.0,9
33RR20220613,       P02E,     181,          1,         32,         32,2,20220706,       0457,    29.9995,  -124.8368,       3768,    91.5,2,  15.6813,2,  33.2348,2,  33.2342,2,    254.8,2,   254.9,2,    1.08,2,    0.00,2,    0.01,2,    0.26,2,   2.401,2,   1.494,2,   2.3209,2,  2010.5,2,  2219.2,2,   7.8993,2,    25.02,2, -999.00,9,  -999.0,9, -999.00,9, -999.00,9,        9.4,2, 20220706,      637,  29.9995,-124.8368,    15.6760,2,     -999.0,9,     -999.0,9,     -999.0,9,     -999.0,9,     0.0285,1,     4.6425,1,     -999.0,9,     -999.0,9,     -999.0,9,     -999.0,9,     -999.0,9
33RR20220613,       P02E,     181,          1,         31,         31,2,20220706,       0457,    29.9995,  -124.8368,       3768,   116.3,2,  13.5029,2,  32.9512,2,  32.9531,2,    253.7,2,   253.7,2,    1.76,2,    0.63,2,    0.08,2,    0.42,2,-999.000,9,-999.000,9,-999.0000,9,  2020.9,2,  2201.8,2,   7.8491,2,    25.02,2, -999.00,9,  -999.0,9, -999.00,9, -999.00,9,     -999.0,9, 20220706,      635,  29.9995,-124.8368,    13.5067,2,     -999.0,9,     -999.0,9,     -999.0,9,     -999.0,9,     0.0325,1,     4.6551,1,     -999.0,9,     -999.0,9,     -999.0,9,     -999.0,9,     -999.0,9
33RR20220613,       P02E,     181,          1,         30,         17,2,20220706,       0457,    29.9995,  -124.8368,       3768,   141.3,2,  12.6648,2,  33.0428,2,  33.0508,2,    238.8,2,   239.4,2,    3.33,2,    3.96,2,    0.13,2,    0.60,2,   2.742,2,   1.689,2,   2.5447,2,  2040.9,2,  2203.7,2,   7.8040,2,    25.02,2, -999.00,9,  -999.0,9, -999.00,9, -999.00,9,       12.1,2, 20220706,      634,  29.9995,-124.8368,    12.6636,2,     -999.0,9,     -999.0,9,     -999.0,9,     -999.0,9,     0.0229,1,     4.6679,1,     -999.0,9,     -999.0,9,     -999.0,9,     -999.0,9,     -999.0,9
33RR20220613,       P02E,     181,          1,         29,         29,2,20220706,       0457,    29.9995,  -124.8368,       3768,   186.8,2,  10.6746,2,  33.3732,3,  33.4062,2,    200.2,2,   199.4,2,   11.25,2,   13.80,2,    0.01,2,    1.15,2,   2.949,2,   1.807,2,   2.3893,2,  2105.6,2,  2220.2,2,   7.6735,2,    25.03,2, -999.00,9,  -999.0,9, -999.00,9, -999.00,9,       16.7,2, 20220706,      632,  29.9995,-124.8368,    10.6571,2,     -999.0,9,     -999.0,9,     -999.0,9,     -999.0,9,     0.0159,1,     4.6809,1,     -999.0,9,     -999.0,9,     -999.0,9,     -999.0,9,     -999.0,9
33RR20220613,       P02E,     181,          1,         28,         28,2,20220706,       0457,    29.9995,  -124.8368,       3768,   237.1,2,   9.3373,2,  33.8148,2,  33.8267,2,    172.9,3,   174.9,2,   21.02,2,   19.98,2,    0.00,2,    1.48,2,   2.996,2,   1.836,2,   2.0540,2,  2150.1,2,  2244.9,2,   7.6122,2,    25.01,2, -999.00,9,  -999.0,9, -999.00,9, -999.00,9,       21.9,2, 20220706,      630,  29.9995,-124.8368,     9.3398,2,     -999.0,9,     -999.0,9,     -999.0,9,     -999.0,9,     0.0131,1,     4.6852,1,     -999.0,9,     -999.0,9,     -999.0,9,     -999.0,9,     -999.0,9
33RR20220613,       P02E,     181,          1,         27,         27,2,20220706,       0457,    29.9995,  -124.8368,       3768,   287.4,2,   8.6602,2,  33.9478,2,  33.9487,2,    159.7,2,   160.6,2,   27.57,2,   22.87,2,    0.00,2,    1.63,2,   2.947,2,   1.789,2,   1.6753,2,  2170.3,2,  2254.7,2,   7.5816,2,    25.00,2, -999.00,9,  -999.0,9, -999.00,9, -999.00,9,       26.1,2, 20220706,      628,  29.9995,-124.8368,     8.6623,2,     -999.0,9,     -999.0,9,     -999.0,9,     -999.0,9,     0.0122,1,     4.6860,1,     -999.0,9,     -999.0,9,     -999.0,9,     -999.0,9,     -999.0,9
33RR20220613,       P02E,     181,          1,         26,         26,2,20220706,       0457,    29.9995,  -124.8368,       3768,   337.8,2,   7.8146,2,  33.9978,2,  34.0068,2,    120.0,3,   118.3,2,   39.49,2,   28.49,2,    0.00,2,    2.05,2,   2.646,2,   1.588,2,   1.1860,2,  2213.4,2,  2266.5,2,   7.4893,2,    25.00,2, -999.00,9,  -999.0,9, -999.00,9, -999.00,9,       33.0,2, 20220706,      626,  29.9995,-124.8368,     7.8122,2,     -999.0,9,     -999.0,9,     -999.0,9,     -999.0,9,     0.0134,1,     4.6862,1,     -999.0,9,     -999.0,9,     -999.0,9,     -999.0,9,     -999.0,9
33RR20220613,       P02E,     181,          1,         25,         25,2,20220706,       0457,    29.9995,  -124.8368,       3768,   388.1,2,   7.0456,2,  34.0573,2,  34.0590,2,     69.3,2,    69.9,2,   52.78,2,   33.98,2,    0.00,2,    2.48,2,   2.062,2,   1.215,2,   0.6603,2,  2259.2,2,  2278.6,2,   7.3871,2,    25.01,2, -999.00,9,  -999.0,9, -999.00,9, -999.00,9,       38.9,2, 20220706,      624,  29.9995,-124.8368,     7.0402,2,     -999.0,9,     -999.0,9,     -999.0,9,     -999.0,9,     0.0134,1,     4.6834,1,     -999.0,9,     -999.0,9,     -999.0,9,     -999.0,9,     -999.0,9
33RR20220613,       P02E,     181,          1,         24,         24,2,20220706,       0457,    29.9995,  -124.8368,       3768,   438.4,2,   6.6256,2,  34.1076,2,  34.1081,2,     49.0,2,    48.7,2,   60.89,2,   36.27,2,    0.00,2,    2.69,2,-999.000,9,-999.000,9,-999.0000,9,  -999.0,9,  -999.0,9,-999.0000,9,  -999.00,9, -999.00,9,  -999.0,9, -999.00,9, -999.00,9,     -999.0,9, 20220706,      622,  29.9995,-124.8368,     6.6282,2,     -999.0,9,     -999.0,9,     -999.0,9,     -999.0,9,     0.0134,1,     4.6862,1,     -999.0,9,     -999.0,9,     -999.0,9,     -999.0,9,     -999.0,9
33RR20220613,       P02E,     181,          1,         23,         23,2,20220706,       0457,    29.9995,  -124.8368,       3768,   489.1,2,   6.1584,2,  34.1470,2,  34.1460,2,     33.0,3,    33.9,2,   68.91,2,   38.28,2,    0.00,2,    2.84,2,   1.206,2,   0.682,2,   0.3414,2,  -999.0,9,  -999.0,9,-999.0000,9,  -999.00,9, -999.00,9,  -999.0,9, -999.00,9, -999.00,9,       45.7,2, 20220706,      620,  29.9995,-124.8368,     6.1588,2,     -999.0,9,     -999.0,9,     -999.0,9,     -999.0,9,     0.0134,1,     4.6884,1,     -999.0,9,     -999.0,9,     -999.0,9,     -999.0,9,     -999.0,9
33RR20220613,       P02E,     181,          1,         22,         22,2,20220706,       0457,    29.9995,  -124.8368,       3768,   569.8,2,   5.5635,2,  34.2051,3,  34.2238,2,     20.3,3,    20.9,2,   80.73,2,   40.35,2,    0.00,2,    3.00,2,   0.665,2,   0.373,2,   0.1502,2,  2318.5,2,  2312.5,2,   7.3075,2,    25.01,2, -999.00,9,  -999.0,9, -999.00,9, -999.00,9,       50.8,2, 20220706,      616,  29.9995,-124.8368,     5.5661,2,     -999.0,9,     -999.0,9,     -999.0,9,     -999.0,9,     0.0134,1,     4.6885,1,     -999.0,9,     -999.0,9,     -999.0,9,     -999.0,9,     -999.0,9
33RR20220613,       P02E,     181,          1,         21,         21,2,20220706,       0457,    29.9995,  -124.8368,       3768,   670.8,2,   5.1077,2,  34.2912,2,  34.2891,2,     13.5,2,    13.4,2,   91.18,2,   41.75,2,    0.00,2,    3.11,2,   0.233,2,   0.133,2,   0.0702,2,  2334.3,2,  2329.7,2,   7.3073,2,    25.01,2, -999.00,9,  -999.0,9, -999.00,9, -999.00,9,       54.3,2, 20220706,      614,  29.9995,-124.8368,     5.1072,2,     -999.0,9,     -999.0,9,     -999.0,9,     -999.0,9,     0.0134,1,     4.6900,1,     -999.0,9,     -999.0,9,     -999.0,9,     -999.0,9,     -999.0,9
33RR20220613,       P02E,     181,          1,         20,         20,2,20220706,       0457,    29.9995,  -124.8368,       3768,   771.9,2,   4.7451,2,  34.3520,2,  34.3501,2,     12.6,3,    12.4,2,   99.68,2,   42.53,2,    0.00,2,    3.16,2,-999.000,9,-999.000,9,-999.0000,9,  2343.8,2,  2342.7,2,   7.3132,2,    25.00,2, -999.00,9,  -999.0,9, -999.00,9, -999.00,9,     -999.0,9, 20220706,      610,  29.9995,-124.8368,     4.7447,2,     -999.0,9,     -999.0,9,     -999.0,9,     -999.0,9,     0.0134,1,     4.6906,1,     -999.0,9,     -999.0,9,     -999.0,9,     -999.0,9,     -999.0,9
33RR20220613,       P02E,     181,          1,         19,         39,2,20220706,       0457,    29.9995,  -124.8368,       3768,   873.1,2,   4.4039,2,  34.4090,2,  34.4120,2,     16.3,2,    16.4,2,  107.01,2,   43.01,2,    0.00,2,    3.17,2,   0.028,2,   0.021,2,   0.0000,2,  2351.4,2,  2355.3,2,   7.3278,2,    24.99,2, -999.00,9,  -999.0,9, -999.00,9, -999.00,9,       58.2,2, 20220706,      607,  29.9995,-124.8368,     4.4023,2,     -999.0,9,     -999.0,9,     -999.0,9,     -999.0,9,     0.0134,1,     4.6910,1,     -999.0,9,     -999.0,9,     -999.0,9,     -999.0,9,     -999.0,9
33RR20220613,       P02E,     181,          1,         18,         18,2,20220706,       0457,    29.9995,  -124.8368,       3768,   974.3,2,   4.1311,2,  34.4587,2,  34.4575,2,     21.6,3,    21.2,2,  112.38,2,   43.15,2,    0.00,2,    3.17,2,-999.000,9,-999.000,9,-999.0000,9,  -999.0,9,  -999.0,9,-999.0000,9,  -999.00,9, -999.00,9,  -999.0,9, -999.00,9, -999.00,9,     -999.0,9, 20220706,      604,  29.9995,-124.8368,     4.1302,2,     -999.0,9,     -999.0,9,     -999.0,9,     -999.0,9,     0.0134,1,     4.6910,1,     -999.0,9,     -999.0,9,     -999.0,9,     -999.0,9,     -999.0,9
33RR20220613,       P02E,     181,          1,         17,         37,2,20220706,       0457,    29.9995,  -124.8368,       3768,  1075.4,2,   3.8930,2,  34.4849,2,  34.4854,2,     26.1,3,    25.8,2,  117.65,2,   43.18,2,    0.00,2,    3.16,2,   0.013,2,   0.014,2,   0.0000,2,  2361.1,2,  2371.8,2,   7.3509,2,    25.02,2, -999.00,9,  -999.0,9, -999.00,9, -999.00,9,       52.5,2, 20220706,      602,  29.9995,-124.8368,     3.8937,2,     -999.0,9,     -999.0,9,     -999.0,9,     -999.0,9,     0.0134,1,     4.6922,1,     -999.0,9,     -999.0,9,     -999.0,9,     -999.0,9,     -999.0,9
33RR20220613,       P02E,     181,          1,         16,         16,2,20220706,       0457,    29.9995,  -124.8368,       3768,  1176.6,2,   3.6022,2,  34.5078,2,  34.5062,2,     31.8,3,    31.3,2,  123.71,2,   43.07,2,    0.00,2,    3.14,2,-999.000,9,-999.000,9,-999.0000,9,  -999.0,9,  -999.0,9,-999.0000,9,  -999.00,9, -999.00,9,  -999.0,9, -999.00,9, -999.00,9,     -999.0,9, 20220706,      559,  29.9995,-124.8368,     3.6061,2,     -999.0,9,     -999.0,9,     -999.0,9,     -999.0,9,     0.0134,1,     4.6923,1,     -999.0,9,     -999.0,9,     -999.0,9,     -999.0,9,     -999.0,9
33RR20220613,       P02E,     181,          1,         15,         15,2,20220706,       0457,    29.9995,  -124.8368,       3768,  1277.8,2,   3.3481,2,  34.5290,2,  34.5284,2,     36.6,2,    36.4,2,  130.64,2,   42.94,2,    0.00,2,    3.12,2,   0.012,2,   0.000,2,   0.0000,2,  2366.5,2,  2387.0,2,   7.3715,2,    25.00,2, -999.00,9,  -999.0,9, -999.00,9, -999.00,9,       47.2,2, 20220706,      555,  29.9995,-124.8368,     3.3451,2,     -999.0,9,     -999.0,9,     -999.0,9,     -999.0,9,     0.0134,1,     4.6934,1,     -999.0,9,     -999.0,9,     -999.0,9,     -999.0,9,     -999.0,9
33RR20220613,       P02E,     181,          1,         14,         42,2,20220706,       0457,    29.9995,  -124.8368,       3768,  1379.0,2,   3.1563,2,  34.5438,2,  34.5433,2,     41.3,2,    41.1,2,  135.72,2,   42.89,2,    0.00,2,    3.09,2,-999.000,9,-999.000,9,-999.0000,9,  -999.0,9,  -999.0,9,-999.0000,9,  -999.00,9, -999.00,9,  -999.0,9, -999.00,9, -999.00,9,     -999.0,9, 20220706,      553,  29.9995,-124.8368,     3.1553,2,     -999.0,9,     -999.0,9,     -999.0,9,     -999.0,9,     0.0133,1,     4.6938,1,     -999.0,9,     -999.0,9,     -999.0,9,     -999.0,9,     -999.0,9
33RR20220613,       P02E,     181,          1,         13,         13,2,20220706,       0457,    29.9995,  -124.8368,       3768,  1481.1,2,   2.9411,2,  34.5571,2,  34.5572,2,     46.0,2,    46.0,2,  141.19,2,   42.64,2,    0.00,2,    3.06,2,   0.011,2,   0.011,2,   0.0000,2,  2372.3,2,  2397.5,2,   7.3881,2,    25.02,2, -999.00,9,  -999.0,9, -999.00,9, -999.00,9,       43.0,2, 20220706,      550,  29.9995,-124.8368,     2.9405,2,     -999.0,9,     -999.0,9,     -999.0,9,     -999.0,9,     0.0134,1,     4.6946,1,     -999.0,9,     -999.0,9,     -999.0,9,     -999.0,9,     -999.0,9
33RR20220613,       P02E,     181,          1,         12,         12,2,20220706,       0457,    29.9995,  -124.8368,       3768,  1582.4,2,   2.7534,2,  34.5709,2,  34.5718,2,     51.7,3,    52.6,2,  146.08,2,   42.31,2,    0.00,2,    3.02,2,-999.000,9,-999.000,9,-999.0000,9,  -999.0,9,  -999.0,9,-999.0000,9,  -999.00,9, -999.00,9,  -999.0,9, -999.00,9, -999.00,9,     -999.0,9, 20220706,      547,  29.9995,-124.8368,     2.7504,2,     -999.0,9,     -999.0,9,     -999.0,9,     -999.0,9,     0.0134,1,     4.6946,1,     -999.0,9,     -999.0,9,     -999.0,9,     -999.0,9,     -999.0,9
33RR20220613,       P02E,     181,          1,         11,         11,2,20220706,       0457,    29.9995,  -124.8368,       3768,  1683.6,2,   2.6099,2,  34.5839,2,  34.5832,2,     57.5,2,    57.8,2,  148.81,2,   42.03,2,    0.00,2,    3.00,2,   0.008,2,   0.011,2,   0.0000,2,  2373.6,2,  2407.9,2,   7.4111,2,    25.01,2, -999.00,9,  -999.0,9, -999.00,9, -999.00,9,       39.2,2, 20220706,      545,  29.9995,-124.8368,     2.6083,2,     -999.0,9,     -999.0,9,     -999.0,9,     -999.0,9,     0.0134,1,     4.6959,1,     -999.0,9,     -999.0,9,     -999.0,9,     -999.0,9,     -999.0,9
33RR20220613,       P02E,     181,          1,         10,         10,2,20220706,       0457,    29.9995,  -124.8368,       3768,  1785.1,2,   2.4319,2,  34.5981,2,  34.5961,2,     64.8,2,    64.4,2,  152.42,2,   41.66,2,    0.00,2,    2.96,2,-999.000,9,-999.000,9,-999.0000,9,  -999.0,9,  -999.0,9,-999.0000,9,  -999.00,9, -999.00,9,  -999.0,9, -999.00,9, -999.00,9,     -999.0,9, 20220706,      542,  29.9995,-124.8368,     2.4332,2,     -999.0,9,     -999.0,9,     -999.0,9,     -999.0,9,     0.0134,1,     4.6958,1,     -999.0,9,     -999.0,9,     -999.0,9,     -999.0,9,     -999.0,9
33RR20220613,       P02E,     181,          1,          9,          9,2,20220706,       0457,    29.9995,  -124.8368,       3768,  1957.7,2,   2.1887,2,  34.6187,2,  34.6178,2,     77.3,2,    77.2,2,  156.82,2,   40.86,2,    0.00,2,    2.89,2,   0.009,2,   0.008,2,   0.0000,2,  2369.8,2,  2418.1,2,   7.4484,2,    25.01,2, -999.00,9,  -999.0,9, -999.00,9, -999.00,9,       33.2,2, 20220706,      538,  29.9995,-124.8368,     2.1888,2,     -999.0,9,     -999.0,9,     -999.0,9,     -999.0,9,     0.0133,1,     4.6967,1,     -999.0,9,     -999.0,9,     -999.0,9,     -999.0,9,     -999.0,9
33RR20220613,       P02E,     181,          1,          8,          8,2,20220706,       0457,    29.9995,  -124.8368,       3768,  2192.3,2,   1.9927,2,  34.6350,2,  34.6346,2,     89.1,2,    89.5,2,  159.94,2,   40.04,2,    0.00,2,    2.81,2,-999.000,9,-999.000,9,-999.0000,9,  -999.0,9,  -999.0,9,-999.0000,9,  -999.00,9, -999.00,9,  -999.0,9, -999.00,9, -999.00,9,     -999.0,9, 20220706,      533,  29.9995,-124.8368,     1.9922,2,     -999.0,9,     -999.0,9,     -999.0,9,     -999.0,9,     0.0131,1,     4.6983,1,     -999.0,9,     -999.0,9,     -999.0,9,     -999.0,9,     -999.0,9
33RR20220613,       P02E,     181,          1,          7,          7,2,20220706,       0457,    29.9995,  -124.8368,       3768,  2446.3,2,   1.8449,2,  34.6475,2,  34.6472,2,     99.3,2,    99.1,2,  162.38,2,   39.41,2,    0.00,2,    2.76,2,   0.004,2,   0.004,2,   0.0000,2,  2361.3,2,  2424.9,2,   7.4894,2,    25.01,2, -999.00,9,  -999.0,9, -999.00,9, -999.00,9,       28.6,2, 20220706,      527,  29.9995,-124.8368,     1.8437,2,     -999.0,9,     -999.0,9,     -999.0,9,     -999.0,9,     0.0134,1,     4.6992,1,     -999.0,9,     -999.0,9,     -999.0,9,     -999.0,9,     -999.0,9
33RR20220613,       P02E,     181,          1,          6,          6,2,20220706,       0457,    29.9995,  -124.8368,       3768,  2701.6,2,   1.7427,2,  34.6545,2,  34.6537,2,    106.3,2,   106.2,2,  165.32,2,   38.94,2,    0.00,2,    2.72,2,-999.000,9,-999.000,9,-999.0000,9,  -999.0,9,  -999.0,9,-999.0000,9,  -999.00,9, -999.00,9,  -999.0,9, -999.00,9, -999.00,9,     -999.0,9, 20220706,      522,  29.9995,-124.8368,     1.7425,2,     -999.0,9,     -999.0,9,     -999.0,9,     -999.0,9,     0.0122,1,     4.6997,1,     -999.0,9,     -999.0,9,     -999.0,9,     -999.0,9,     -999.0,9
33RR20220613,       P02E,     181,          1,          5,          5,2,20220706,       0457,    29.9995,  -124.8368,       3768,  2956.5,2,   1.6562,2,  34.6614,2,  34.6608,2,    113.3,2,   113.4,2,  166.98,2,   38.57,2,    0.00,2,    2.68,2,   0.004,2,   0.008,2,   0.0000,2,  2356.6,2,  2428.8,2,   7.5163,2,    25.00,2, -999.00,9,  -999.0,9, -999.00,9, -999.00,9,       25.8,2, 20220706,      516,  29.9995,-124.8368,     1.6562,2,     -999.0,9,     -999.0,9,     -999.0,9,     -999.0,9,     0.0122,1,     4.7002,1,     -999.0,9,     -999.0,9,     -999.0,9,     -999.0,9,     -999.0,9