BOTTLE,20230830CCHSIOCBG
EXPOCODE,SECT_ID,STNNBR,CASTNO,SAMPNO,BTLNBR,BTLNBR_FLAG_W,DATE,TIME,LATITUDE,LONGITUDE,DEPTH,CTDPRS,CTDPRS_FLAG_W,CTDTMP,CTDTMP_FLAG_W,CTDSAL,CTDSAL_FLAG_W,SALNTY,SALNTY_FLAG_W,CTDOXY,CTDOXY_FLAG_W,OXYGEN,OXYGEN_FLAG_W,SILCAT,SILCAT_FLAG_W,NITRAT,NITRAT_FLAG_W,NITRIT,NITRIT_FLAG_W,PHSPHT,PHSPHT_FLAG_W,CFC-11,CFC-11_FLAG_W,CFC-12,CFC-12_FLAG_W,SF6,SF6_FLAG_W,TCARBN,TCARBN_FLAG_W,ALKALI,ALKALI_FLAG_W,PH_TOT,PH_TOT_FLAG_W,PH_TMP,PH_TMP_FLAG_W,DELC13,DELC13_FLAG_W,DELC14,DELC14_FLAG_W,DOC,DOC_FLAG_W,TDN,TDN_FLAG_W,N2O,N2O_FLAG_W,BTL_DATE,BTL_TIME,BTL_LAT,BTL_LON,REFTMP,REFTMP_FLAG_W,POC,POC_FLAG_W,PON,PON_FLAG_W,POP,POP_FLAG_W,PCOD,PCOD_FLAG_W,CTDFLUOR,CTDFLUOR_FLAG_W,CTDXMISS,CTDXMISS_FLAG_W,HPLC,HPLC_FLAG_W,DNA,DNA_FLAG_W,FCM,FCM_FLAG_W,IMAGES,IMAGES_FLAG_W,VIRAL_ABUNDANCE,VIRAL_ABUNDANCE_FLAG_W
,,,,,,,,,,,METERS,DBAR,,ITS-90,,PSS-78,,PSS-78,,UMOL/KG,,UMOL/KG,,UMOL/KG,,UMOL/KG,,UMOL/KG,,UMOL/KG,,PMOL/KG,,PMOL/KG,,FMOL/KG,,UMOL/KG,,UMOL/KG,,,,DEG C,,/MILLE,,/MILLE,,UMOL/KG,,UMOL/KG,,NMOL/KG,,,,,,ITS-90,,UG/L,,UG/L,,UG/L,,UG/L,,VOLTS,,VOLTS,,,,,,,,,,,
33RR20220613,       P02E,     134,          2,         36,         36,2,20220622,       0627,    30.0002,  -151.9747,       5298,     5.2,2,  23.9939,2,  35.1976,2,  35.1998,2,    214.4,2,   214.6,2,    0.10,2,    0.02,2,    0.00,2,    0.01,4,   1.674,2,   1.073,2,   1.8173,2,  2035.2,6,  2312.1,2,   8.0081,2,    24.96,2, -999.00,1,  -999.0,1, -999.00,1, -999.00,1,        7.2,2, 20220622,      849,  30.0002,-151.9747,    23.9927,2,     -999.0,9,     -999.0,9,     -999.0,9,     -999.0,9,     0.0134,1,     4.6370,1,     -999.0,9,     -999.0,9,     -999.0,9,     -999.0,9,     -999.0,9
33RR20220613,       P02E,     134,          2,         35,         35,2,20220622,       0627,    30.0002,  -151.9747,       5298,    35.4,2,  21.5306,2,  35.0322,2,  35.0346,2,    234.7,2,   234.3,2,    0.68,2,    0.01,2,    0.00,2,    0.00,4,   1.875,2,   1.128,2,   1.8023,2,  2030.4,2,  2303.6,2,   7.9948,2,    24.91,2, -999.00,1,  -999.0,1, -999.00,1, -999.00,1,        7.6,2, 20220622,      846,  30.0001,-151.9747,    21.5007,2,     -999.0,9,     -999.0,9,     -999.0,9,     -999.0,9,     0.0147,1,     4.6282,1,     -999.0,9,     -999.0,9,     -999.0,9,     -999.0,9,     -999.0,9
33RR20220613,       P02E,     134,          2,         34,         34,2,20220622,       0627,    30.0002,  -151.9747,       5298,    60.9,2,  19.5602,2,  34.9414,2,  34.9418,2,    238.8,2,   237.6,2,    0.88,2,    0.01,2,    0.00,2,    0.01,4,   2.054,2,   1.274,2,   2.0545,2,  2033.8,2,  2294.7,2,   7.9817,2,    25.00,2, -999.00,1,  -999.0,1, -999.00,1, -999.00,1,        8.1,2, 20220622,      844,  30.0002,-151.9747,    19.5597,2,     -999.0,9,     -999.0,9,     -999.0,9,     -999.0,9,     0.0159,1,     4.6392,1,     -999.0,9,     -999.0,9,     -999.0,9,     -999.0,9,     -999.0,9
33RR20220613,       P02E,     134,          2,         33,         33,2,20220622,       0627,    30.0002,  -151.9747,       5298,    86.0,2,  18.5320,2,  34.7796,2,  34.7809,2,    237.0,2,   237.7,2,    1.27,2,    0.00,2,    0.00,2,    0.03,4,   2.156,2,   1.311,2,   2.1208,2,  2035.3,2,  2287.6,6,   7.9640,2,    25.01,2, -999.00,1,  -999.0,1, -999.00,1, -999.00,1,        8.4,2, 20220622,      842,  30.0001,-151.9747,    18.4993,2,     -999.0,9,     -999.0,9,     -999.0,9,     -999.0,9,     0.0203,1,     4.6449,1,     -999.0,9,     -999.0,9,     -999.0,9,     -999.0,9,     -999.0,9
33RR20220613,       P02E,     134,          2,         32,         32,2,20220622,       0627,    30.0002,  -151.9747,       5298,   116.6,2,  17.5316,2,  34.7090,2,  34.7060,2,    217.1,2,   217.9,2,    1.76,2,    0.74,2,    0.10,2,    0.12,4,   2.219,2,   1.364,2,   2.0557,2,  2055.3,2,  2283.0,2,   7.9209,2,    25.01,2, -999.00,1,  -999.0,1, -999.00,1, -999.00,1,       10.4,2, 20220622,      839,  30.0002,-151.9747,    17.5309,2,     -999.0,9,     -999.0,9,     -999.0,9,     -999.0,9,     0.0394,1,     4.6487,1,     -999.0,9,     -999.0,9,     -999.0,9,     -999.0,9,     -999.0,9
33RR20220613,       P02E,     134,          2,         31,         31,2,20220622,       0627,    30.0002,  -151.9747,       5298,   166.4,2,  15.1816,2,  34.4455,2,  34.4357,2,    212.5,2,   212.8,2,    3.71,2,    4.25,2,    0.02,2,    0.31,4,   2.507,2,   1.501,2,   2.0756,2,  2067.9,2,  2265.6,2,   7.8633,2,    24.99,2, -999.00,1,  -999.0,1, -999.00,1, -999.00,1,       11.6,2, 20220622,      837,  30.0001,-151.9747,    15.1804,2,     -999.0,9,     -999.0,9,     -999.0,9,     -999.0,9,     0.0220,1,     4.6722,1,     -999.0,9,     -999.0,9,     -999.0,9,     -999.0,9,     -999.0,9
33RR20220613,       P02E,     134,          2,         30,         17,2,20220622,       0627,    30.0002,  -151.9747,       5298,   217.2,2,  13.2353,2,  34.2987,2,  34.2972,2,    216.0,2,   215.5,2,    6.84,2,    8.08,2,    0.00,2,    0.50,4,   2.700,2,   1.601,2,   2.2048,2,  2082.4,2,  2260.2,2,   7.8215,2,    25.01,2, -999.00,1,  -999.0,1, -999.00,1, -999.00,1,       14.0,2, 20220622,      834,  30.0001,-151.9747,    13.2365,2,     -999.0,9,     -999.0,9,     -999.0,9,     -999.0,9,     0.0125,1,     4.6866,1,     -999.0,9,     -999.0,9,     -999.0,9,     -999.0,9,     -999.0,9
33RR20220613,       P02E,     134,          2,         29,         29,2,20220622,       0627,    30.0002,  -151.9747,       5298,   267.4,2,  12.3054,2,  34.2587,2,  34.2542,2,    212.9,2,   213.2,2,    9.78,2,   10.61,2,    0.00,2,    0.65,4,   2.785,2,   1.666,2,   2.0431,2,  2095.6,2,  2260.8,2,   7.7952,2,    25.00,2, -999.00,1,  -999.0,1, -999.00,1, -999.00,1,       15.6,2, 20220622,      831,  30.0001,-151.9747,    12.3238,2,     -999.0,9,     -999.0,9,     -999.0,9,     -999.0,9,     0.0118,1,     4.6900,1,     -999.0,9,     -999.0,9,     -999.0,9,     -999.0,9,     -999.0,9
33RR20220613,       P02E,     134,          2,         28,         28,2,20220622,       0627,    30.0002,  -151.9747,       5298,   318.3,2,  11.2233,2,  34.1919,2,  34.1840,2,    210.4,2,   210.9,2,   13.49,2,   13.25,2,    0.00,2,    0.79,4,   2.867,2,   1.735,2,   1.9686,2,  2109.6,2,  2262.4,6,   7.7610,2,    25.00,2, -999.00,1,  -999.0,1, -999.00,1, -999.00,1,       18.2,2, 20220622,      829,  30.0002,-151.9747,    11.2217,2,     -999.0,9,     -999.0,9,     -999.0,9,     -999.0,9,     0.0122,1,     4.6919,1,     -999.0,9,     -999.0,9,     -999.0,9,     -999.0,9,     -999.0,9
33RR20220613,       P02E,     134,          2,         27,         27,2,20220622,       0627,    30.0002,  -151.9747,       5298,   367.9,2,  10.0978,2,  34.1131,2,  34.1117,2,    206.4,2,   206.6,2,   17.70,2,   15.78,2,    0.00,2,    0.96,4,-999.000,5,-999.000,5,-999.0000,5,  -999.0,9,  -999.0,9,-999.0000,9,  -999.00,9, -999.00,1,  -999.0,1, -999.00,1, -999.00,1,     -999.0,5, 20220622,      827,  30.0001,-151.9747,    10.0917,2,     -999.0,9,     -999.0,9,     -999.0,9,     -999.0,9,     0.0122,1,     4.6928,1,     -999.0,9,     -999.0,9,     -999.0,9,     -999.0,9,     -999.0,9
33RR20220613,       P02E,     134,          2,         26,         26,2,20220622,       0627,    30.0002,  -151.9747,       5298,   438.6,2,   8.7213,2,  34.0421,2,  34.0394,2,    186.9,2,   187.5,2,   27.38,2,   20.54,2,    0.00,2,    1.25,4,   2.995,2,   1.749,2,   1.6253,2,  -999.0,9,  -999.0,9,-999.0000,9,  -999.00,9, -999.00,1,  -999.0,1, -999.00,1, -999.00,1,       24.2,2, 20220622,      824,  30.0001,-151.9747,     8.7280,2,     -999.0,9,     -999.0,9,     -999.0,9,     -999.0,9,     0.0122,1,     4.6956,1,     -999.0,9,     -999.0,9,     -999.0,9,     -999.0,9,     -999.0,9
33RR20220613,       P02E,     134,          2,         25,         25,2,20220622,       0627,    30.0002,  -151.9747,       5298,   539.7,2,   6.6655,2,  33.9791,2,  33.9778,2,    133.5,2,   132.5,2,   50.07,2,   29.91,2,    0.00,2,    1.90,4,   2.532,2,   1.477,2,   0.9920,2,  2219.9,2,  2283.0,2,   7.5102,2,    25.02,2, -999.00,1,  -999.0,1, -999.00,1, -999.00,1,       35.2,2, 20220622,      821,  30.0001,-151.9747,     6.6632,2,     -999.0,9,     -999.0,9,     -999.0,9,     -999.0,9,     0.0128,1,     4.6961,1,     -999.0,9,     -999.0,9,     -999.0,9,     -999.0,9,     -999.0,9
33RR20220613,       P02E,     134,          2,         24,         24,2,20220622,       0627,    30.0002,  -151.9747,       5298,   640.6,2,   5.2742,2,  34.0310,2,  34.0290,2,     73.1,3,    73.9,2,   74.41,2,   37.72,2,    0.00,2,    2.45,4,   1.553,2,   0.887,2,   0.4835,2,  2281.5,2,  2301.8,2,   7.3861,2,    25.00,2, -999.00,1,  -999.0,1, -999.00,1, -999.00,1,       42.6,2, 20220622,      818,  30.0002,-151.9747,     5.2653,2,     -999.0,9,     -999.0,9,     -999.0,9,     -999.0,9,     0.0134,1,     4.6977,1,     -999.0,9,     -999.0,9,     -999.0,9,     -999.0,9,     -999.0,9
33RR20220613,       P02E,     134,          2,         23,         23,2,20220622,       0627,    30.0002,  -151.9747,       5298,   742.3,2,   4.6194,2,  34.1163,2,  34.1191,2,     38.3,3,    38.7,2,   92.30,2,   41.77,2,    0.00,2,    2.75,4,   0.777,2,   0.424,2,   0.2684,2,  2320.6,2,  2322.1,2,   7.3224,2,    24.99,2, -999.00,1,  -999.0,1, -999.00,1, -999.00,1,       48.9,2, 20220622,      814,  30.0002,-151.9747,     4.6144,2,     -999.0,9,     -999.0,9,     -999.0,9,     -999.0,9,     0.0134,1,     4.6982,1,     -999.0,9,     -999.0,9,     -999.0,9,     -999.0,9,     -999.0,9
33RR20220613,       P02E,     134,          2,         22,         22,2,20220622,       0627,    30.0002,  -151.9747,       5298,   843.7,2,   4.1652,2,  34.2324,2,  34.2330,2,     16.4,2,    16.4,2,  107.35,4,   44.32,4,    0.00,2,    2.95,4,   0.213,2,   0.122,2,   0.1383,2,  2350.6,2,  2340.7,2,   7.2948,2,    25.00,2, -999.00,1,  -999.0,1, -999.00,1, -999.00,1,       55.9,2, 20220622,      810,  30.0002,-151.9747,     4.1652,2,     -999.0,9,     -999.0,9,     -999.0,9,     -999.0,9,     0.0134,1,     4.6979,1,     -999.0,9,     -999.0,9,     -999.0,9,     -999.0,9,     -999.0,9
33RR20220613,       P02E,     134,          2,         21,         21,2,20220622,       0627,    30.0002,  -151.9747,       5298,   943.7,2,   3.8769,2,  34.3228,2,  34.3235,2,     11.9,3,    11.8,2,  118.19,4,   45.32,4,    0.00,2,    3.14,4,   0.045,2,   0.033,2,   0.0000,2,  2364.4,2,  2357.2,2,   7.2979,2,    25.01,2, -999.00,1,  -999.0,1, -999.00,1, -999.00,1,       38.7,2, 20220622,      808,  30.0002,-151.9747,     3.8760,2,     -999.0,9,     -999.0,9,     -999.0,9,     -999.0,9,     0.0134,1,     4.6982,1,     -999.0,9,     -999.0,9,     -999.0,9,     -999.0,9,     -999.0,9
33RR20220613,       P02E,     134,          2,         20,         20,2,20220622,       0627,    30.0002,  -151.9747,       5298,  1045.1,2,   3.5939,2,  34.4047,2,  34.4029,2,     16.2,3,    15.9,2,  125.52,4,   42.44,4,    0.00,2,    3.13,4,   0.013,2,   0.011,2,   0.0000,2,  2372.1,2,  2370.1,2,   7.3163,2,    24.99,2, -999.00,1,  -999.0,1, -999.00,1, -999.00,1,       57.9,2, 20220622,      805,  30.0001,-151.9747,     3.6024,2,     -999.0,9,     -999.0,9,     -999.0,9,     -999.0,9,     0.0134,1,     4.6982,1,     -999.0,9,     -999.0,9,     -999.0,9,     -999.0,9,     -999.0,9
33RR20220613,       P02E,     134,          2,         19,         39,4,20220622,       0627,    30.0002,  -151.9747,       5298,  1146.3,3,   3.3694,3,  34.4505,3,  34.5415,3,     23.8,3,    54.4,3,  141.25,4,   41.01,4,    0.00,3,    3.06,4,   0.009,3,   0.009,3,   0.0000,3,  -999.0,9,  -999.0,9,-999.0000,9,  -999.00,9, -999.00,1,  -999.0,1, -999.00,1, -999.00,1,       45.1,3, 20220622,      802,  30.0001,-151.9747,     3.3711,3,     -999.0,9,     -999.0,9,     -999.0,9,     -999.0,9,     0.0134,1,     4.6983,1,     -999.0,9,     -999.0,9,     -999.0,9,     -999.0,9,     -999.0,9
33RR20220613,       P02E,     134,          2,         18,         18,4,20220622,       0627,    30.0002,  -151.9747,       5298,  1247.3,3,   3.1629,3,  34.4910,3,  34.5541,3,     32.6,3,    65.5,3,  143.20,4,   41.28,4,    0.00,3,    3.01,4,   0.008,3,   0.005,3,   0.0000,3,  -999.0,9,  -999.0,9,-999.0000,9,  -999.00,9, -999.00,1,  -999.0,1, -999.00,1, -999.00,1,       41.4,3, 20220622,      759,  30.0002,-151.9747,     3.1627,3,     -999.0,9,     -999.0,9,     -999.0,9,     -999.0,9,     0.0134,1,     4.6994,1,     -999.0,9,     -999.0,9,     -999.0,9,     -999.0,9,     -999.0,9
33RR20220613,       P02E,     134,          2,         17,         37,2,20220622,       0627,    30.0002,  -151.9747,       5298,  1349.2,2,   2.9446,2,  34.5202,2,  34.5233,2,     41.8,3,    42.3,2,  140.07,4,   43.20,4,    0.00,2,    3.11,4,   0.005,2,   0.008,2,   0.0000,2,  2374.2,2,  2393.8,2,   7.3763,2,    25.01,2, -999.00,1,  -999.0,1, -999.00,1, -999.00,1,       42.1,2, 20220622,      756,  30.0001,-151.9747,     2.9442,2,     -999.0,9,     -999.0,9,     -999.0,9,     -999.0,9,     0.0134,1,     4.6994,1,     -999.0,9,     -999.0,9,     -999.0,9,     -999.0,9,     -999.0,9
33RR20220613,       P02E,     134,          2,         16,         16,2,20220622,       0627,    30.0002,  -151.9747,       5298,  1481.0,2,   2.7070,2,  34.5467,2,  34.5429,2,     51.7,3,    50.5,2,  153.36,4,   42.45,4,    0.00,2,    3.10,4,   0.006,2,   0.004,2,   0.0000,2,  -999.0,9,  -999.0,9,-999.0000,9,  -999.00,9, -999.00,1,  -999.0,1, -999.00,1, -999.00,1,       41.8,2, 20220622,      752,  30.0001,-151.9747,     2.7067,2,     -999.0,9,     -999.0,9,     -999.0,9,     -999.0,9,     0.0134,1,     4.7002,1,     -999.0,9,     -999.0,9,     -999.0,9,     -999.0,9,     -999.0,9
33RR20220613,       P02E,     134,          2,         15,         15,2,20220622,       0627,    30.0002,  -151.9747,       5298,  1683.2,2,   2.4014,2,  34.5762,2,  34.5761,2,     61.3,3,    62.1,2,  144.46,4,   43.13,4,    0.00,2,    3.09,4,   0.005,6,   0.006,6,   0.0000,6,  2374.0,2,  2406.7,2,   7.4140,2,    25.02,2, -999.00,1,  -999.0,1, -999.00,1, -999.00,1,       37.7,6, 20220622,      746,  30.0002,-151.9747,     2.4016,2,     -999.0,9,     -999.0,9,     -999.0,9,     -999.0,9,     0.0134,1,     4.7007,1,     -999.0,9,     -999.0,9,     -999.0,9,     -999.0,9,     -999.0,9
33RR20220613,       P02E,     134,          2,         14,         14,2,20220622,       0627,    30.0002,  -151.9747,       5298,  1878.6,2,   2.1597,2,  34.5985,2,  34.5971,2,     69.6,2,    70.0,2,  160.59,4,   41.96,4,    0.00,2,    3.11,4,   0.005,2,   0.004,2,   0.0000,2,  -999.0,9,  -999.0,9,-999.0000,9,  -999.00,9, -999.00,1,  -999.0,1, -999.00,1, -999.00,1,       34.9,2, 20220622,      742,  30.0002,-151.9746,     2.1595,2,     -999.0,9,     -999.0,9,     -999.0,9,     -999.0,9,     0.0134,1,     4.7016,1,     -999.0,9,     -999.0,9,     -999.0,9,     -999.0,9,     -999.0,9
33RR20220613,       P02E,     134,          2,         13,         13,2,20220622,       0627,    30.0002,  -151.9747,       5298,  2109.4,2,   1.9344,2,  34.6208,2,  34.6201,2,     80.7,2,    80.6,2,  167.03,4,   41.56,4,    0.00,2,    3.08,4,   0.004,2,   0.004,2,   0.0000,2,  2375.4,2,  2421.5,2,   7.4510,2,    25.02,2, -999.00,1,  -999.0,1, -999.00,1, -999.00,1,       32.0,2, 20220622,      737,  30.0001,-151.9747,     1.9344,2,     -999.0,9,     -999.0,9,     -999.0,9,     -999.0,9,     0.0134,1,     4.7020,1,     -999.0,9,     -999.0,9,     -999.0,9,     -999.0,9,     -999.0,9
33RR20220613,       P02E,     134,          2,         12,         12,2,20220622,       0627,    30.0002,  -151.9747,       5298,  2363.7,2,   1.7674,2,  34.6387,2,  34.6384,2,     92.3,2,    92.3,2,  169.96,4,   40.67,4,    0.00,2,    3.04,4,   0.004,2,   0.002,2,   0.0000,2,  2369.7,2,  2427.7,2,   7.4738,2,    24.98,2, -999.00,9,  -999.0,9, -999.00,1, -999.00,1,       28.8,2, 20220622,      732,  30.0001,-151.9747,     1.7670,2,     -999.0,9,     -999.0,9,     -999.0,9,     -999.0,9,     0.0134,1,     4.7026,1,     -999.0,9,     -999.0,9,     -999.0,9,     -999.0,9,     -999.0,9
33RR20220613,       P02E,     134,          2,         11,         11,2,20220622,       0627,    30.0002,  -151.9747,       5298,  2619.3,2,   1.6615,2,  34.6509,2,  34.6517,2,    103.4,2,   103.8,2,  169.86,4,   38.70,4,    0.00,2,    3.03,4,   0.004,2,   0.003,2,   0.0000,2,  2365.2,2,  2428.6,2,   7.4951,2,    25.03,2, -999.00,1,  -999.0,1, -999.00,1, -999.00,1,       27.5,2, 20220622,      725,  30.0002,-151.9747,     1.6610,2,     -999.0,9,     -999.0,9,     -999.0,9,     -999.0,9,     0.0122,1,     4.7033,1,     -999.0,9,     -999.0,9,     -999.0,9,     -999.0,9,     -999.0,9
33RR20220613,       P02E,     134,          2,         10,         10,2,20220622,       0627,    30.0002,  -151.9747,       5298,  2874.4,2,   1.5744,2,  34.6615,3,  34.6751,2,    115.8,2,   115.8,2,  167.61,4,   38.65,4,    0.00,2,    2.97,4,   0.004,2,   0.001,2,   0.0000,2,  -999.0,9,  -999.0,9,-999.0000,9,  -999.00,9, -999.00,9,  -999.0,9, -999.00,1, -999.00,1,       25.7,2, 20220622,      721,  30.0002,-151.9747,     1.5740,2,     -999.0,9,     -999.0,9,     -999.0,9,     -999.0,9,     0.0134,1,     4.7034,1,     -999.0,9,     -999.0,9,     -999.0,9,     -999.0,9,     -999.0,9
33RR20220613,       P02E,     134,          2,          9,          9,2,20220622,       0627,    30.0002,  -151.9747,       5298,  3144.9,2,   1.5189,2,  34.6698,2,  34.6692,2,    125.9,2,   125.8,2,  164.78,4,   37.97,4,    0.00,2,    2.90,4,   0.004,2,   0.001,2,   0.0000,2,  2351.0,2,  2428.6,2,   7.5354,2,    25.01,2, -999.00,9,  -999.0,9, -999.00,1, -999.00,1,       24.5,2, 20220622,      715,  30.0001,-151.9747,     1.5191,2,     -999.0,9,     -999.0,9,     -999.0,9,     -999.0,9,     0.0130,1,     4.7040,1,     -999.0,9,     -999.0,9,     -999.0,9,     -999.0,9,     -999.0,9
33RR20220613,       P02E,     134,          2,          8,          8,2,20220622,       0627,    30.0002,  -151.9747,       5298,  3450.5,2,   1.4821,2,  34.6768,2,  34.6763,2,    135.5,2,   135.6,2,  161.55,4,   37.31,4,    0.00,2,    2.84,4,   0.007,2,   0.003,2,   0.0000,2,  -999.0,9,  -999.0,9,-999.0000,9,  -999.00,9, -999.00,1,  -999.0,1, -999.00,1, -999.00,1,       23.3,2, 20220622,      709,  30.0002,-151.9747,     1.4819,2,     -999.0,9,     -999.0,9,     -999.0,9,     -999.0,9,     0.0123,1,     4.7043,1,     -999.0,9,     -999.0,9,     -999.0,9,     -999.0,9,     -999.0,9
33RR20220613,       P02E,     134,          2,          7,          7,2,20220622,       0627,    30.0002,  -151.9747,       5298,  3756.9,2,   1.4627,2,  34.6817,2,  34.6824,2,    142.4,2,   142.6,2,  159.01,4,   36.90,4,    0.00,2,    2.80,4,   0.004,2,   0.003,2,   0.0000,2,  2338.6,2,  2426.9,2,   7.5644,2,    25.01,2, -999.00,9,  -999.0,9, -999.00,1, -999.00,1,       23.0,2, 20220622,      701,  30.0001,-151.9747,     1.4628,2,     -999.0,9,     -999.0,9,     -999.0,9,     -999.0,9,     0.0122,1,     4.7052,1,     -999.0,9,     -999.0,9,     -999.0,9,     -999.0,9,     -999.0,9
33RR20220613,       P02E,     134,          2,          6,          6,2,20220622,       0627,    30.0002,  -151.9747,       5298,  4065.2,2,   1.4669,2,  34.6845,2,  34.6849,2,    147.0,2,   147.3,2,  157.15,4,   36.79,4,    0.00,2,    2.78,4,   0.004,2,   0.004,2,   0.0000,2,  -999.0,9,  -999.0,9,-999.0000,9,  -999.00,9, -999.00,9,  -999.0,9, -999.00,1, -999.00,1,       22.5,2, 20220622,      656,  30.0002,-151.9747,     1.4668,2,     -999.0,9,     -999.0,9,     -999.0,9,     -999.0,9,     0.0128,1,     4.7047,1,     -999.0,9,     -999.0,9,     -999.0,9,     -999.0,9,     -999.0,9
33RR20220613,       P02E,     134,          2,          5,          5,2,20220622,       0627,    30.0002,  -151.9747,       5298,  4372.5,2,   1.4804,2,  34.6866,2,  34.6863,2,    150.9,2,   150.8,2,  154.12,4,   33.69,4,    0.00,2,    2.75,4,   0.005,2,   0.006,2,   0.0000,2,  2330.2,2,  2424.4,6,   7.5780,2,    25.01,2, -999.00,1,  -999.0,1, -999.00,1, -999.00,1,       22.6,2, 20220622,      650,  30.0001,-151.9747,     1.4804,2,     -999.0,9,     -999.0,9,     -999.0,9,     -999.0,9,     0.0122,1,     4.7046,1,     -999.0,9,     -999.0,9,     -999.0,9,     -999.0,9,     -999.0,9