BOTTLE,20230830CCHSIOCBG
EXPOCODE,SECT_ID,STNNBR,CASTNO,SAMPNO,BTLNBR,BTLNBR_FLAG_W,DATE,TIME,LATITUDE,LONGITUDE,DEPTH,CTDPRS,CTDPRS_FLAG_W,CTDTMP,CTDTMP_FLAG_W,CTDSAL,CTDSAL_FLAG_W,SALNTY,SALNTY_FLAG_W,CTDOXY,CTDOXY_FLAG_W,OXYGEN,OXYGEN_FLAG_W,SILCAT,SILCAT_FLAG_W,NITRAT,NITRAT_FLAG_W,NITRIT,NITRIT_FLAG_W,PHSPHT,PHSPHT_FLAG_W,CFC-11,CFC-11_FLAG_W,CFC-12,CFC-12_FLAG_W,SF6,SF6_FLAG_W,TCARBN,TCARBN_FLAG_W,ALKALI,ALKALI_FLAG_W,PH_TOT,PH_TOT_FLAG_W,PH_TMP,PH_TMP_FLAG_W,DELC13,DELC13_FLAG_W,DELC14,DELC14_FLAG_W,DOC,DOC_FLAG_W,TDN,TDN_FLAG_W,N2O,N2O_FLAG_W,BTL_DATE,BTL_TIME,BTL_LAT,BTL_LON,REFTMP,REFTMP_FLAG_W,POC,POC_FLAG_W,PON,PON_FLAG_W,POP,POP_FLAG_W,PCOD,PCOD_FLAG_W,CTDFLUOR,CTDFLUOR_FLAG_W,CTDXMISS,CTDXMISS_FLAG_W,HPLC,HPLC_FLAG_W,DNA,DNA_FLAG_W,FCM,FCM_FLAG_W,IMAGES,IMAGES_FLAG_W,VIRAL_ABUNDANCE,VIRAL_ABUNDANCE_FLAG_W
,,,,,,,,,,,METERS,DBAR,,ITS-90,,PSS-78,,PSS-78,,UMOL/KG,,UMOL/KG,,UMOL/KG,,UMOL/KG,,UMOL/KG,,UMOL/KG,,PMOL/KG,,PMOL/KG,,FMOL/KG,,UMOL/KG,,UMOL/KG,,,,DEG C,,/MILLE,,/MILLE,,UMOL/KG,,UMOL/KG,,NMOL/KG,,,,,,ITS-90,,UG/L,,UG/L,,UG/L,,UG/L,,VOLTS,,VOLTS,,,,,,,,,,,
33RR20220613,       P02E,     177,          1,         36,         36,2,20220705,       0323,    29.9999,  -127.1467,       4531,     2.6,2,  19.3537,2,  33.4751,2,  33.4684,2,    236.4,2,   235.9,2,    0.88,2,    0.01,2,    0.00,2,    0.28,2,   2.064,2,   1.277,2,   2.1219,2,  2026.9,2,  2242.4,2,   7.9153,2,    25.00,2, -999.00,9,  -999.0,9, -999.00,9, -999.00,9,        8.1,2, 20220705,      523,  29.9999,-127.1467,    19.3511,2,     -999.0,9,     -999.0,9,     -999.0,9,     -999.0,9,     0.0134,1,     4.6230,1,     -999.0,9,     -999.0,9,     -999.0,9,     -999.0,9,     -999.0,9
33RR20220613,       P02E,     177,          1,         35,         35,2,20220705,       0323,    29.9999,  -127.1467,       4531,    35.4,2,  19.1117,2,  33.4653,2,  33.4590,2,    236.7,2,   237.0,2,    0.88,2,    0.00,2,    0.00,2,    0.29,2,   2.071,2,   1.284,2,   2.0896,2,  2026.1,6,  2239.5,2,   7.9158,2,    25.01,2, -999.00,9,  -999.0,9, -999.00,9, -999.00,9,        8.1,2, 20220705,      521,  29.9999,-127.1467,    19.1089,2,     -999.0,9,     -999.0,9,     -999.0,9,     -999.0,9,     0.0145,1,     4.6198,1,     -999.0,9,     -999.0,9,     -999.0,9,     -999.0,9,     -999.0,9
33RR20220613,       P02E,     177,          1,         34,         34,2,20220705,       0323,    29.9999,  -127.1467,       4531,    60.2,2,  17.7684,2,  33.4354,2,  33.4320,2,    246.5,2,   247.1,2,    0.88,2,    0.01,2,    0.00,2,    0.29,2,   2.203,2,   1.345,2,   2.1647,2,  2020.8,2,  2236.8,2,   7.9162,2,    24.99,2, -999.00,9,  -999.0,9, -999.00,9, -999.00,9,        8.4,2, 20220705,      519,  29.9999,-127.1467,    17.7593,2,     -999.0,9,     -999.0,9,     -999.0,9,     -999.0,9,     0.0162,1,     4.6244,1,     -999.0,9,     -999.0,9,     -999.0,9,     -999.0,9,     -999.0,9
33RR20220613,       P02E,     177,          1,         33,         33,2,20220705,       0323,    29.9999,  -127.1467,       4531,    85.6,2,  17.3683,2,  33.4669,2,  33.4617,2,    246.2,2,   246.7,2,    0.88,2,    0.00,2,    0.00,2,    0.27,2,   2.212,2,   1.372,2,   2.1470,2,  2023.6,2,  2239.2,2,   7.9154,2,    25.01,2, -999.00,9,  -999.0,9, -999.00,9, -999.00,9,        8.4,2, 20220705,      517,  29.9999,-127.1467,    17.3721,2,     -999.0,9,     -999.0,9,     -999.0,9,     -999.0,9,     0.0208,1,     4.6308,1,     -999.0,9,     -999.0,9,     -999.0,9,     -999.0,9,     -999.0,9
33RR20220613,       P02E,     177,          1,         32,         32,2,20220705,       0323,    29.9999,  -127.1467,       4531,   116.0,2,  14.0278,2,  33.0759,3,  33.0995,2,    254.0,2,   253.4,2,    1.27,2,    0.27,2,    0.02,2,    0.39,2,   2.649,2,   1.612,2,   2.3298,2,  2029.7,2,  2213.2,2,   7.8561,2,    25.01,2, -999.00,9,  -999.0,9, -999.00,9, -999.00,9,       10.5,2, 20220705,      515,  29.9999,-127.1467,    14.0248,2,     -999.0,9,     -999.0,9,     -999.0,9,     -999.0,9,     0.0436,1,     4.6274,1,     -999.0,9,     -999.0,9,     -999.0,9,     -999.0,9,     -999.0,9
33RR20220613,       P02E,     177,          1,         31,         31,2,20220705,       0323,    29.9999,  -127.1467,       4531,   166.2,2,  11.6291,2,  33.3737,3,  33.4105,2,    208.0,2,   206.9,2,    8.22,2,   10.41,2,    0.01,2,    0.95,2,   2.908,2,   1.759,2,   2.3867,2,  2090.8,2,  2221.2,6,   7.7187,2,    25.02,2, -999.00,9,  -999.0,9, -999.00,9, -999.00,9,       14.8,2, 20220705,      513,  29.9999,-127.1467,    11.6579,2,     -999.0,9,     -999.0,9,     -999.0,9,     -999.0,9,     0.0208,1,     4.6774,1,     -999.0,9,     -999.0,9,     -999.0,9,     -999.0,9,     -999.0,9
33RR20220613,       P02E,     177,          1,         30,         17,2,20220705,       0323,    29.9999,  -127.1467,       4531,   216.6,2,   9.8730,2,  33.8231,2,  33.8361,2,    176.1,2,   176.2,2,   18.19,2,   17.97,2,    0.00,2,    1.35,2,   2.922,2,   1.789,2,   1.9744,2,  2141.5,2,  2243.3,2,   7.6374,2,    25.02,2, -999.00,9,  -999.0,9, -999.00,9, -999.00,9,       20.6,2, 20220705,      510,  29.9999,-127.1467,     9.8684,2,     -999.0,9,     -999.0,9,     -999.0,9,     -999.0,9,     0.0122,1,     4.6864,1,     -999.0,9,     -999.0,9,     -999.0,9,     -999.0,9,     -999.0,9
33RR20220613,       P02E,     177,          1,         29,         29,2,20220705,       0323,    29.9999,  -127.1467,       4531,   267.3,2,   8.8276,2,  33.9878,2,  33.9896,2,    149.6,2,   150.0,2,   28.64,2,   23.25,2,    0.00,2,    1.69,2,   2.843,2,   1.712,2,   1.5330,2,  2174.7,2,  2258.4,2,   7.5741,2,    25.00,2, -999.00,9,  -999.0,9, -999.00,9, -999.00,9,       27.0,2, 20220705,      509,  29.9999,-127.1467,     8.8309,2,     -999.0,9,     -999.0,9,     -999.0,9,     -999.0,9,     0.0122,1,     4.6883,1,     -999.0,9,     -999.0,9,     -999.0,9,     -999.0,9,     -999.0,9
33RR20220613,       P02E,     177,          1,         28,         28,2,20220705,       0323,    29.9999,  -127.1467,       4531,   317.5,2,   8.0777,2,  34.0358,2,  34.0335,2,    106.7,3,   108.4,2,   39.10,2,   28.51,2,    0.00,2,    2.09,2,   2.465,2,   1.509,2,   1.0331,2,  2216.5,2,  2267.8,2,   7.4795,2,    25.04,2, -999.00,9,  -999.0,9, -999.00,9, -999.00,9,       34.1,2, 20220705,      507,  29.9999,-127.1467,     8.0765,2,     -999.0,9,     -999.0,9,     -999.0,9,     -999.0,9,     0.0134,1,     4.6858,1,     -999.0,9,     -999.0,9,     -999.0,9,     -999.0,9,     -999.0,9
33RR20220613,       P02E,     177,          1,         27,         27,2,20220705,       0323,    29.9999,  -127.1467,       4531,   368.1,2,   7.0365,2,  34.0353,2,  34.0376,2,     85.6,3,    84.8,2,   51.52,2,   32.65,2,    0.00,2,    2.40,2,   2.133,2,   1.277,2,   0.7139,2,  2247.6,2,  2280.8,2,   7.4193,2,    25.01,2, -999.00,9,  -999.0,9, -999.00,9, -999.00,9,       37.5,2, 20220705,      505,  29.9999,-127.1467,     7.0356,2,     -999.0,9,     -999.0,9,     -999.0,9,     -999.0,9,     0.0134,1,     4.6885,1,     -999.0,9,     -999.0,9,     -999.0,9,     -999.0,9,     -999.0,9
33RR20220613,       P02E,     177,          1,         26,         26,2,20220705,       0323,    29.9999,  -127.1467,       4531,   418.2,2,   6.5686,2,  34.0960,2,  34.0964,2,     53.4,2,    53.4,2,   61.29,2,   35.91,2,    0.00,2,    2.68,2,   1.592,2,   0.939,2,   0.5166,2,  -999.0,9,  -999.0,9,-999.0000,9,  -999.00,9, -999.00,9,  -999.0,9, -999.00,9, -999.00,9,       42.8,2, 20220705,      502,  29.9999,-127.1467,     6.5688,2,     -999.0,9,     -999.0,9,     -999.0,9,     -999.0,9,     0.0134,1,     4.6868,1,     -999.0,9,     -999.0,9,     -999.0,9,     -999.0,9,     -999.0,9
33RR20220613,       P02E,     177,          1,         25,         25,2,20220705,       0323,    29.9999,  -127.1467,       4531,   469.0,2,   5.9074,2,  34.1021,2,  34.1079,2,     42.6,3,    44.3,2,   70.87,2,   38.03,2,    0.00,2,    2.82,2,   1.275,2,   0.736,2,   0.3638,2,  2295.1,2,  2298.3,2,   7.3401,2,    25.01,2, -999.00,9,  -999.0,9, -999.00,9, -999.00,9,       45.5,2, 20220705,      501,  29.9999,-127.1467,     5.9102,2,     -999.0,9,     -999.0,9,     -999.0,9,     -999.0,9,     0.0134,1,     4.6897,1,     -999.0,9,     -999.0,9,     -999.0,9,     -999.0,9,     -999.0,9
33RR20220613,       P02E,     177,          1,         24,         24,2,20220705,       0323,    29.9999,  -127.1467,       4531,   539.5,2,   5.8772,2,  34.2287,2,  34.2309,2,     19.4,3,    18.9,2,   77.61,2,   39.58,2,    0.00,2,    3.00,2,   0.600,2,   0.336,2,   0.2417,2,  -999.0,9,  -999.0,9,-999.0000,9,  -999.00,9, -999.00,9,  -999.0,9, -999.00,9, -999.00,9,       52.6,2, 20220705,      459,  29.9999,-127.1467,     5.8757,2,     -999.0,9,     -999.0,9,     -999.0,9,     -999.0,9,     0.0134,1,     4.6885,1,     -999.0,9,     -999.0,9,     -999.0,9,     -999.0,9,     -999.0,9
33RR20220613,       P02E,     177,          1,         23,         23,2,20220705,       0323,    29.9999,  -127.1467,       4531,   640.5,2,   5.2646,2,  34.3041,2,  34.3062,2,     12.9,2,    13.0,2,   90.31,2,   41.39,2,    0.00,2,    3.12,2,   0.212,2,   0.123,2,   0.0958,2,  2333.8,2,  2329.7,2,   7.3100,2,    25.04,2, -999.00,9,  -999.0,9, -999.00,9, -999.00,9,       56.7,2, 20220705,      456,  29.9999,-127.1467,     5.2659,2,     -999.0,9,     -999.0,9,     -999.0,9,     -999.0,9,     0.0134,1,     4.6892,1,     -999.0,9,     -999.0,9,     -999.0,9,     -999.0,9,     -999.0,9
33RR20220613,       P02E,     177,          1,         22,         22,2,20220705,       0323,    29.9999,  -127.1467,       4531,   741.9,2,   4.8765,2,  34.3631,2,  34.3658,2,     12.7,3,    12.5,2,   98.42,2,   42.34,2,    0.00,2,    3.18,2,   0.075,2,   0.048,2,   0.1299,2,  2344.6,2,  2343.1,2,   7.3183,2,    25.03,2, -999.00,9,  -999.0,9, -999.00,9, -999.00,9,       57.9,2, 20220705,      454,  29.9999,-127.1467,     4.8753,2,     -999.0,9,     -999.0,9,     -999.0,9,     -999.0,9,     0.0134,1,     4.6895,1,     -999.0,9,     -999.0,9,     -999.0,9,     -999.0,9,     -999.0,9
33RR20220613,       P02E,     177,          1,         21,         21,2,20220705,       0323,    29.9999,  -127.1467,       4531,   842.2,2,   4.5477,2,  34.4217,2,  34.4226,2,     16.0,3,    15.5,2,  105.45,2,   42.88,2,    0.00,2,    3.19,2,   0.034,2,   0.024,2,   0.1773,2,  2354.1,2,  2355.2,2,   7.3290,2,    25.03,2, -999.00,9,  -999.0,9, -999.00,9, -999.00,9,       56.5,2, 20220705,      451,  29.9999,-127.1467,     4.5451,2,     -999.0,9,     -999.0,9,     -999.0,9,     -999.0,9,     0.0134,1,     4.6896,1,     -999.0,9,     -999.0,9,     -999.0,9,     -999.0,9,     -999.0,9
33RR20220613,       P02E,     177,          1,         20,         20,2,20220705,       0323,    29.9999,  -127.1467,       4531,   944.1,2,   4.1118,2,  34.4618,2,  34.4628,2,     22.2,3,    21.9,2,  113.95,2,   43.24,2,    0.00,2,    3.17,2,-999.000,9,-999.000,9,-999.0000,9,  -999.0,9,  -999.0,9,-999.0000,9,  -999.00,9, -999.00,9,  -999.0,9, -999.00,9, -999.00,9,     -999.0,9, 20220705,      448,  29.9999,-127.1467,     4.1137,2,     -999.0,9,     -999.0,9,     -999.0,9,     -999.0,9,     0.0134,1,     4.6912,1,     -999.0,9,     -999.0,9,     -999.0,9,     -999.0,9,     -999.0,9
33RR20220613,       P02E,     177,          1,         19,         39,2,20220705,       0323,    29.9999,  -127.1467,       4531,  1044.6,2,   3.8383,2,  34.4812,2,  34.4828,2,     29.3,2,    29.4,2,  119.03,2,   43.12,2,    0.00,2,    3.14,2,   0.012,2,   0.012,2,   0.0000,2,  2361.3,2,  2373.1,2,   7.3575,2,    25.03,2, -999.00,9,  -999.0,9, -999.00,9, -999.00,9,       49.5,2, 20220705,      445,  29.9999,-127.1467,     3.8383,2,     -999.0,9,     -999.0,9,     -999.0,9,     -999.0,9,     0.0134,1,     4.6935,1,     -999.0,9,     -999.0,9,     -999.0,9,     -999.0,9,     -999.0,9
33RR20220613,       P02E,     177,          1,         18,         18,2,20220705,       0323,    29.9999,  -127.1467,       4531,  1146.0,2,   3.5830,2,  34.5039,2,  34.5070,2,     34.9,2,    34.7,2,  124.80,2,   42.96,2,    0.00,2,    3.12,2,-999.000,9,-999.000,9,-999.0000,9,  2361.8,2,  2381.6,2,   7.3670,2,    25.04,2, -999.00,9,  -999.0,9, -999.00,9, -999.00,9,     -999.0,9, 20220705,      443,  29.9999,-127.1467,     3.5810,2,     -999.0,9,     -999.0,9,     -999.0,9,     -999.0,9,     0.0134,1,     4.6940,1,     -999.0,9,     -999.0,9,     -999.0,9,     -999.0,9,     -999.0,9
33RR20220613,       P02E,     177,          1,         17,         37,2,20220705,       0323,    29.9999,  -127.1467,       4531,  1247.0,2,   3.3596,2,  34.5236,2,  34.5258,2,     39.0,2,    38.7,2,  130.46,2,   42.81,2,    0.00,2,    3.10,2,   0.008,2,   0.007,2,   0.0000,2,  2367.0,2,  2387.3,2,   7.3767,2,    25.03,2, -999.00,9,  -999.0,9, -999.00,9, -999.00,9,       45.0,2, 20220705,      440,  29.9999,-127.1467,     3.3613,2,     -999.0,9,     -999.0,9,     -999.0,9,     -999.0,9,     0.0133,1,     4.6946,1,     -999.0,9,     -999.0,9,     -999.0,9,     -999.0,9,     -999.0,9
33RR20220613,       P02E,     177,          1,         16,         16,2,20220705,       0323,    29.9999,  -127.1467,       4531,  1348.6,2,   3.1750,2,  34.5373,2,  34.5388,2,     42.8,3,    44.6,2,  135.15,2,   42.63,2,    0.00,2,    3.08,2,-999.000,9,-999.000,9,-999.0000,9,  -999.0,9,  -999.0,9,-999.0000,9,  -999.00,9, -999.00,9,  -999.0,9, -999.00,9, -999.00,9,     -999.0,9, 20220705,      437,  29.9999,-127.1467,     3.1757,2,     -999.0,9,     -999.0,9,     -999.0,9,     -999.0,9,     0.0134,1,     4.6953,1,     -999.0,9,     -999.0,9,     -999.0,9,     -999.0,9,     -999.0,9
33RR20220613,       P02E,     177,          1,         15,         15,2,20220705,       0323,    29.9999,  -127.1467,       4531,  1450.3,2,   2.9781,2,  34.5519,2,  34.5543,2,     47.6,3,    47.1,2,  139.94,2,   42.44,2,    0.00,2,    3.06,2,   0.010,2,   0.010,2,   0.0000,2,  2371.6,2,  2397.9,2,   7.3903,2,    25.02,2, -999.00,9,  -999.0,9, -999.00,9, -999.00,9,       41.8,2, 20220705,      434,  29.9999,-127.1467,     2.9789,2,     -999.0,9,     -999.0,9,     -999.0,9,     -999.0,9,     0.0133,1,     4.6959,1,     -999.0,9,     -999.0,9,     -999.0,9,     -999.0,9,     -999.0,9
33RR20220613,       P02E,     177,          1,         14,         42,2,20220705,       0323,    29.9999,  -127.1467,       4531,  1551.6,2,   2.8068,2,  34.5637,2,  34.5647,2,     52.3,2,    52.0,2,  144.34,2,   42.19,2,    0.00,2,    3.03,2,-999.000,9,-999.000,9,-999.0000,9,  -999.0,9,  -999.0,9,-999.0000,9,  -999.00,9, -999.00,9,  -999.0,9, -999.00,9, -999.00,9,     -999.0,9, 20220705,      431,  29.9999,-127.1467,     2.8069,2,     -999.0,9,     -999.0,9,     -999.0,9,     -999.0,9,     0.0134,1,     4.6960,1,     -999.0,9,     -999.0,9,     -999.0,9,     -999.0,9,     -999.0,9
33RR20220613,       P02E,     177,          1,         13,         13,2,20220705,       0323,    29.9999,  -127.1467,       4531,  1683.6,2,   2.5789,2,  34.5794,2,  34.5834,2,     59.7,3,    59.2,2,  149.81,2,   41.77,2,    0.00,2,    2.99,2,   0.005,2,   0.005,2,   0.0000,2,  2374.1,2,  2405.3,2,   7.4141,2,    25.02,2, -999.00,9,  -999.0,9, -999.00,9, -999.00,9,       37.8,2, 20220705,      427,  30.0000,-127.1467,     2.5775,2,     -999.0,9,     -999.0,9,     -999.0,9,     -999.0,9,     0.0134,1,     4.6952,1,     -999.0,9,     -999.0,9,     -999.0,9,     -999.0,9,     -999.0,9
33RR20220613,       P02E,     177,          1,         12,         12,2,20220705,       0323,    29.9999,  -127.1467,       4531,  1885.8,2,   2.3188,2,  34.6003,2,  34.6034,2,     70.1,2,    70.0,2,  156.35,2,   41.13,2,    0.00,2,    2.92,2,-999.000,9,-999.000,9,-999.0000,9,  -999.0,9,  -999.0,9,-999.0000,9,  -999.00,9, -999.00,9,  -999.0,9, -999.00,9, -999.00,9,     -999.0,9, 20220705,      423,  29.9999,-127.1467,     2.3180,2,     -999.0,9,     -999.0,9,     -999.0,9,     -999.0,9,     0.0129,1,     4.6970,1,     -999.0,9,     -999.0,9,     -999.0,9,     -999.0,9,     -999.0,9
33RR20220613,       P02E,     177,          1,         11,         11,2,20220705,       0323,    29.9999,  -127.1467,       4531,  2109.4,2,   2.0802,2,  34.6209,3,  34.6238,2,     82.5,2,    82.7,2,  161.14,2,   40.32,2,    0.00,2,    2.86,2,   0.003,2,   0.004,2,   0.0000,2,  2371.5,2,  2421.5,2,   7.4590,2,    25.02,2, -999.00,9,  -999.0,9, -999.00,9, -999.00,9,       31.4,2, 20220705,      417,  29.9999,-127.1467,     2.0797,2,     -999.0,9,     -999.0,9,     -999.0,9,     -999.0,9,     0.0134,1,     4.6982,1,     -999.0,9,     -999.0,9,     -999.0,9,     -999.0,9,     -999.0,9
33RR20220613,       P02E,     177,          1,         10,         10,2,20220705,       0323,    29.9999,  -127.1467,       4531,  2364.2,2,   1.8909,2,  34.6373,3,  34.6431,2,     94.5,2,    94.6,2,  164.36,2,   39.57,2,    0.00,2,    2.80,2,-999.000,9,-999.000,9,-999.0000,9,  -999.0,9,  -999.0,9,-999.0000,9,  -999.00,9, -999.00,9,  -999.0,9, -999.00,9, -999.00,9,     -999.0,9, 20220705,      412,  29.9999,-127.1467,     1.8903,2,     -999.0,9,     -999.0,9,     -999.0,9,     -999.0,9,     0.0134,1,     4.6985,1,     -999.0,9,     -999.0,9,     -999.0,9,     -999.0,9,     -999.0,9
33RR20220613,       P02E,     177,          1,          9,          9,2,20220705,       0323,    29.9999,  -127.1467,       4531,  2619.3,2,   1.7687,2,  34.6475,2,  34.6494,2,    103.5,2,   103.7,2,  166.61,2,   39.05,2,    0.00,2,    2.75,2,   0.004,2,   0.004,2,   0.0000,2,  2364.2,2,  2426.5,2,   7.4968,2,    25.02,2, -999.00,9,  -999.0,9, -999.00,9, -999.00,9,       28.2,2, 20220705,      407,  29.9999,-127.1467,     1.7685,2,     -999.0,9,     -999.0,9,     -999.0,9,     -999.0,9,     0.0129,1,     4.6989,1,     -999.0,9,     -999.0,9,     -999.0,9,     -999.0,9,     -999.0,9
33RR20220613,       P02E,     177,          1,          8,          8,2,20220705,       0323,    29.9999,  -127.1467,       4531,  2873.4,2,   1.6636,2,  34.6550,3,  34.6582,2,    111.0,2,   111.2,2,  169.34,2,   38.56,2,    0.00,2,    2.70,2,-999.000,9,-999.000,9,-999.0000,9,  -999.0,9,  -999.0,9,-999.0000,9,  -999.00,9, -999.00,9,  -999.0,9, -999.00,9, -999.00,9,     -999.0,9, 20220705,      401,  29.9999,-127.1467,     1.6626,2,     -999.0,9,     -999.0,9,     -999.0,9,     -999.0,9,     0.0134,1,     4.6995,1,     -999.0,9,     -999.0,9,     -999.0,9,     -999.0,9,     -999.0,9
33RR20220613,       P02E,     177,          1,          7,          7,2,20220705,       0323,    29.9999,  -127.1467,       4531,  3144.8,2,   1.5728,2,  34.6637,3,  34.6661,2,    120.2,2,   120.1,2,  170.02,2,   38.00,2,    0.00,2,    2.64,2,   0.005,2,   0.006,2,   0.0000,2,  2354.8,2,  2428.1,2,   7.5284,2,    25.01,2, -999.00,9,  -999.0,9, -999.00,9, -999.00,9,       25.1,2, 20220705,      355,  29.9999,-127.1467,     1.5731,2,     -999.0,9,     -999.0,9,     -999.0,9,     -999.0,9,     0.0134,1,     4.7004,1,     -999.0,9,     -999.0,9,     -999.0,9,     -999.0,9,     -999.0,9
33RR20220613,       P02E,     177,          1,          6,          6,2,20220705,       0323,    29.9999,  -127.1467,       4531,  3451.3,2,   1.5241,2,  34.6708,3,  34.6732,2,    127.8,2,   127.7,2,  169.92,2,   37.56,2,    0.00,2,    2.60,2,-999.000,9,-999.000,9,-999.0000,9,  -999.0,9,  -999.0,9,-999.0000,9,  -999.00,9, -999.00,9,  -999.0,9, -999.00,9, -999.00,9,     -999.0,9, 20220705,      349,  29.9999,-127.1467,     1.5247,2,     -999.0,9,     -999.0,9,     -999.0,9,     -999.0,9,     0.0122,1,     4.6999,1,     -999.0,9,     -999.0,9,     -999.0,9,     -999.0,9,     -999.0,9
33RR20220613,       P02E,     177,          1,          5,          5,2,20220705,       0323,    29.9999,  -127.1467,       4531,  3758.3,2,   1.5038,2,  34.6758,3,  34.6783,2,    134.4,2,   134.6,2,  168.07,2,   37.16,2,    0.00,2,    2.57,2,   0.006,2,   0.006,2,   0.0000,2,  2346.4,2,  2431.7,2,   7.5561,2,    25.01,2, -999.00,9,  -999.0,9, -999.00,9, -999.00,9,       24.4,2, 20220705,      343,  29.9999,-127.1467,     1.5038,2,     -999.0,9,     -999.0,9,     -999.0,9,     -999.0,9,     0.0122,1,     4.7001,1,     -999.0,9,     -999.0,9,     -999.0,9,     -999.0,9,     -999.0,9