BOTTLE,20230830CCHSIOCBG
EXPOCODE,SECT_ID,STNNBR,CASTNO,SAMPNO,BTLNBR,BTLNBR_FLAG_W,DATE,TIME,LATITUDE,LONGITUDE,DEPTH,CTDPRS,CTDPRS_FLAG_W,CTDTMP,CTDTMP_FLAG_W,CTDSAL,CTDSAL_FLAG_W,SALNTY,SALNTY_FLAG_W,CTDOXY,CTDOXY_FLAG_W,OXYGEN,OXYGEN_FLAG_W,SILCAT,SILCAT_FLAG_W,NITRAT,NITRAT_FLAG_W,NITRIT,NITRIT_FLAG_W,PHSPHT,PHSPHT_FLAG_W,CFC-11,CFC-11_FLAG_W,CFC-12,CFC-12_FLAG_W,SF6,SF6_FLAG_W,TCARBN,TCARBN_FLAG_W,ALKALI,ALKALI_FLAG_W,PH_TOT,PH_TOT_FLAG_W,PH_TMP,PH_TMP_FLAG_W,DELC13,DELC13_FLAG_W,DELC14,DELC14_FLAG_W,DOC,DOC_FLAG_W,TDN,TDN_FLAG_W,N2O,N2O_FLAG_W,BTL_DATE,BTL_TIME,BTL_LAT,BTL_LON,REFTMP,REFTMP_FLAG_W,POC,POC_FLAG_W,PON,PON_FLAG_W,POP,POP_FLAG_W,PCOD,PCOD_FLAG_W,CTDFLUOR,CTDFLUOR_FLAG_W,CTDXMISS,CTDXMISS_FLAG_W,HPLC,HPLC_FLAG_W,DNA,DNA_FLAG_W,FCM,FCM_FLAG_W,IMAGES,IMAGES_FLAG_W,VIRAL_ABUNDANCE,VIRAL_ABUNDANCE_FLAG_W
,,,,,,,,,,,METERS,DBAR,,ITS-90,,PSS-78,,PSS-78,,UMOL/KG,,UMOL/KG,,UMOL/KG,,UMOL/KG,,UMOL/KG,,UMOL/KG,,PMOL/KG,,PMOL/KG,,FMOL/KG,,UMOL/KG,,UMOL/KG,,,,DEG C,,/MILLE,,/MILLE,,UMOL/KG,,UMOL/KG,,NMOL/KG,,,,,,ITS-90,,UG/L,,UG/L,,UG/L,,UG/L,,VOLTS,,VOLTS,,,,,,,,,,,
33RR20220613,       P02E,     128,          2,         36,         36,2,20220620,       0743,    30.0001,  -155.4387,       5725,     4.4,2,  24.7401,2,  35.2637,2,  35.2574,2,    211.1,2,   211.7,2,    0.20,2,    0.04,2,    0.01,2,    0.02,4,   1.577,2,   1.034,2,   1.7365,2,  2027.2,2,  2317.2,2,   8.0162,2,    25.03,2, -999.00,9,  -999.0,9, -999.00,1, -999.00,1,        7.0,2, 20220620,     1028,  30.0001,-155.4387,    24.7450,2,     -999.0,9,     -999.0,9,     -999.0,9,     -999.0,9,     0.0134,1,     4.6371,1,     -999.0,9,     -999.0,9,     -999.0,9,     -999.0,9,     -999.0,9
33RR20220613,       P02E,     128,          2,         35,         35,2,20220620,       0743,    30.0001,  -155.4387,       5725,    36.4,2,  23.1427,2,  35.3388,2,  35.3366,2,    224.1,2,   224.0,2,    0.00,2,    0.02,2,    0.00,2,    0.00,4,   1.772,2,   1.105,2,   1.8349,2,  2029.0,6,  2324.9,6,   8.0218,2,    25.02,2, -999.00,9,  -999.0,9, -999.00,1, -999.00,1,        7.4,2, 20220620,     1025,  30.0001,-155.4387,    23.1415,2,     -999.0,9,     -999.0,9,     -999.0,9,     -999.0,9,     0.0134,1,     4.6277,1,     -999.0,9,     -999.0,9,     -999.0,9,     -999.0,9,     -999.0,9
33RR20220613,       P02E,     128,          2,         34,         34,2,20220620,       0743,    30.0001,  -155.4387,       5725,    61.3,2,  21.1652,2,  35.1897,2,  35.2056,2,    230.4,2,   230.3,2,    0.10,2,    0.01,2,    0.00,2,    0.01,4,   1.883,2,   1.169,2,   1.8355,2,  2031.3,2,  2315.0,2,   8.0074,2,    24.98,2, -999.00,9,  -999.0,9, -999.00,1, -999.00,1,        7.6,2, 20220620,     1024,  30.0001,-155.4387,    21.1810,2,     -999.0,9,     -999.0,9,     -999.0,9,     -999.0,9,     0.0159,1,     4.6342,1,     -999.0,9,     -999.0,9,     -999.0,9,     -999.0,9,     -999.0,9
33RR20220613,       P02E,     128,          2,         33,         33,2,20220620,       0743,    30.0001,  -155.4387,       5725,    86.7,2,  20.3513,2,  35.1366,3,  35.1146,2,    225.9,2,   224.7,2,    0.10,2,    0.01,2,    0.00,2,    0.02,4,   1.976,2,   1.219,2,   1.9126,2,  2041.5,2,  2311.8,2,   7.9818,2,    25.00,2, -999.00,9,  -999.0,9, -999.00,1, -999.00,1,        7.8,2, 20220620,     1022,  30.0001,-155.4387,    20.3521,2,     -999.0,9,     -999.0,9,     -999.0,9,     -999.0,9,     0.0184,1,     4.6446,1,     -999.0,9,     -999.0,9,     -999.0,9,     -999.0,9,     -999.0,9
33RR20220613,       P02E,     128,          2,         32,         32,2,20220620,       0743,    30.0001,  -155.4387,       5725,   116.3,2,  18.8195,2,  34.8840,2,  34.8780,2,    228.9,2,   228.9,2,    0.78,2,    0.00,2,    0.00,2,    0.02,4,   2.091,2,   1.269,2,   1.8910,2,  2034.2,2,  2292.4,2,   7.9640,2,    25.03,2, -999.00,9,  -999.0,9, -999.00,1, -999.00,1,        8.3,2, 20220620,     1020,  30.0001,-155.4387,    18.8199,2,     -999.0,9,     -999.0,9,     -999.0,9,     -999.0,9,     0.0244,1,     4.6517,1,     -999.0,9,     -999.0,9,     -999.0,9,     -999.0,9,     -999.0,9
33RR20220613,       P02E,     128,          2,         31,         31,2,20220620,       0743,    30.0001,  -155.4387,       5725,   166.7,2,  15.7959,2,  34.5024,2,  34.4930,2,    211.9,2,   213.0,2,    2.54,2,    3.29,2,    0.03,2,    0.24,4,   2.449,2,   1.452,2,   2.1885,2,  2060.2,2,  2268.0,2,   7.8753,2,    25.02,2, -999.00,9,  -999.0,9, -999.00,1, -999.00,1,       11.1,2, 20220620,     1017,  30.0001,-155.4387,    15.7933,2,     -999.0,9,     -999.0,9,     -999.0,9,     -999.0,9,     0.0239,1,     4.6704,1,     -999.0,9,     -999.0,9,     -999.0,9,     -999.0,9,     -999.0,9
33RR20220613,       P02E,     128,          2,         30,         40,2,20220620,       0743,    30.0001,  -155.4387,       5725,   217.2,2,  13.5259,2,  34.3091,2,  34.3082,2,    215.7,2,   216.1,2,    5.67,2,    7.22,2,    0.00,2,    0.44,4,   2.650,2,   1.564,2,   2.0497,2,  2074.4,2,  2259.1,6,   7.8298,2,    25.01,2, -999.00,9,  -999.0,9, -999.00,1, -999.00,1,       13.5,2, 20220620,     1016,  30.0001,-155.4387,    13.5195,2,     -999.0,9,     -999.0,9,     -999.0,9,     -999.0,9,     0.0134,1,     4.6856,1,     -999.0,9,     -999.0,9,     -999.0,9,     -999.0,9,     -999.0,9
33RR20220613,       P02E,     128,          2,         29,         29,2,20220620,       0743,    30.0001,  -155.4387,       5725,   267.2,2,  12.2646,2,  34.2449,2,  34.2413,2,    215.8,2,   215.5,2,    9.39,2,   10.28,2,    0.00,2,    0.61,4,   2.916,2,   1.642,2,   2.1289,2,  2088.1,2,  2260.5,2,   7.7966,2,    25.02,2, -999.00,9,  -999.0,9, -999.00,1, -999.00,1,       15.5,2, 20220620,     1015,  30.0001,-155.4387,    12.2458,2,     -999.0,9,     -999.0,9,     -999.0,9,     -999.0,9,     0.0122,1,     4.6900,1,     -999.0,9,     -999.0,9,     -999.0,9,     -999.0,9,     -999.0,9
33RR20220613,       P02E,     128,          2,         28,         28,2,20220620,       0743,    30.0001,  -155.4387,       5725,   318.4,2,  11.1106,2,  34.1857,2,  34.1838,2,    211.1,2,   210.8,2,   14.18,2,   13.17,2,    0.00,2,    0.78,4,   2.906,2,   1.712,2,   1.9294,2,  2105.0,2,  2261.0,2,   7.7611,2,    25.02,2, -999.00,9,  -999.0,9, -999.00,1, -999.00,1,       18.8,2, 20220620,     1013,  30.0001,-155.4387,    11.1156,2,     -999.0,9,     -999.0,9,     -999.0,9,     -999.0,9,     0.0122,1,     4.6921,1,     -999.0,9,     -999.0,9,     -999.0,9,     -999.0,9,     -999.0,9
33RR20220613,       P02E,     128,          2,         27,         27,2,20220620,       0743,    30.0001,  -155.4387,       5725,   368.7,2,  10.1625,2,  34.1214,2,  34.1109,2,    207.5,2,   206.8,2,   18.68,2,   15.84,2,    0.00,2,    0.94,4,   3.023,2,   1.759,2,   1.8344,2,  2123.7,2,  2260.7,2,   7.7248,2,    25.01,2, -999.00,9,  -999.0,9, -999.00,1, -999.00,1,       19.7,2, 20220620,     1011,  30.0001,-155.4387,    10.1594,2,     -999.0,9,     -999.0,9,     -999.0,9,     -999.0,9,     0.0122,1,     4.6935,1,     -999.0,9,     -999.0,9,     -999.0,9,     -999.0,9,     -999.0,9
33RR20220613,       P02E,     128,          2,         26,         26,2,20220620,       0743,    30.0001,  -155.4387,       5725,   438.9,2,   8.7896,2,  34.0496,2,  34.0480,2,    186.4,2,   186.5,2,   27.78,2,   20.30,2,    0.00,2,    1.22,4,   2.966,2,   1.717,2,   1.4710,2,  2149.1,2,  2265.6,2,   7.6605,2,    25.02,2, -999.00,9,  -999.0,9, -999.00,1, -999.00,1,       23.7,2, 20220620,     1009,  30.0001,-155.4387,     8.7867,2,     -999.0,9,     -999.0,9,     -999.0,9,     -999.0,9,     0.0122,1,     4.6955,1,     -999.0,9,     -999.0,9,     -999.0,9,     -999.0,9,     -999.0,9
33RR20220613,       P02E,     128,          2,         25,         25,2,20220620,       0743,    30.0001,  -155.4387,       5725,   538.6,2,   6.9018,2,  33.9939,2,  33.9933,2,    136.3,2,   137.6,2,   47.83,2,   28.40,2,    0.00,2,    1.77,4,   2.595,2,   1.466,2,   0.9496,2,  -999.0,9,  -999.0,9,-999.0000,9,  -999.00,9, -999.00,9,  -999.0,9, -999.00,1, -999.00,1,       30.2,2, 20220620,     1006,  30.0001,-155.4387,     6.9185,2,     -999.0,9,     -999.0,9,     -999.0,9,     -999.0,9,     0.0134,1,     4.6958,1,     -999.0,9,     -999.0,9,     -999.0,9,     -999.0,9,     -999.0,9
33RR20220613,       P02E,     128,          2,         24,         24,2,20220620,       0743,    30.0001,  -155.4387,       5725,   639.6,2,   5.3708,2,  34.0180,2,  34.0168,2,     84.1,2,    83.7,2,   72.28,2,   36.09,2,    0.00,2,    2.33,4,   1.740,2,   0.972,2,   0.4807,2,  2266.7,2,  2299.5,2,   7.4046,2,    25.02,2, -999.00,9,  -999.0,9, -999.00,1, -999.00,1,       39.7,2, 20220620,     1003,  30.0001,-155.4387,     5.3678,2,     -999.0,9,     -999.0,9,     -999.0,9,     -999.0,9,     0.0134,1,     4.6972,1,     -999.0,9,     -999.0,9,     -999.0,9,     -999.0,9,     -999.0,9
33RR20220613,       P02E,     128,          2,         23,         23,2,20220620,       0743,    30.0001,  -155.4387,       5725,   741.1,2,   4.5753,2,  34.1248,2,  34.1225,2,     37.7,3,    39.5,2,   93.60,2,   41.17,2,    0.00,2,    2.71,4,   0.760,2,   0.415,2,   0.2677,2,  -999.0,9,  -999.0,9,-999.0000,9,  -999.00,9, -999.00,9,  -999.0,9, -999.00,1, -999.00,1,       49.4,2, 20220620,     1001,  30.0001,-155.4387,     4.5815,2,     -999.0,9,     -999.0,9,     -999.0,9,     -999.0,9,     0.0134,1,     4.6974,1,     -999.0,9,     -999.0,9,     -999.0,9,     -999.0,9,     -999.0,9
33RR20220613,       P02E,     128,          2,         22,         22,2,20220620,       0743,    30.0001,  -155.4387,       5725,   842.2,2,   4.0219,2,  34.2407,2,  34.2438,2,     17.0,3,    16.8,2,  112.76,2,   43.77,2,    0.00,2,    2.96,4,   0.186,2,   0.107,2,   0.1414,2,  2348.5,2,  2346.6,6,   7.2962,2,    25.04,2, -999.00,9,  -999.0,9, -999.00,1, -999.00,1,       55.2,2, 20220620,      958,  30.0001,-155.4387,     4.0258,2,     -999.0,9,     -999.0,9,     -999.0,9,     -999.0,9,     0.0134,1,     4.6978,1,     -999.0,9,     -999.0,9,     -999.0,9,     -999.0,9,     -999.0,9
33RR20220613,       P02E,     128,          2,         21,         21,2,20220620,       0743,    30.0001,  -155.4387,       5725,   943.4,2,   3.7852,2,  34.3222,2,  34.3209,2,     12.2,3,    11.8,2,  121.06,2,   44.18,2,    0.00,2,    3.05,4,   0.046,2,   0.031,2,   0.0000,2,  2360.4,2,  -999.0,9,   7.2977,2,    24.98,2, -999.00,9,  -999.0,9, -999.00,1, -999.00,1,       60.1,2, 20220620,      955,  30.0001,-155.4387,     3.7866,2,     -999.0,9,     -999.0,9,     -999.0,9,     -999.0,9,     0.0134,1,     4.6972,1,     -999.0,9,     -999.0,9,     -999.0,9,     -999.0,9,     -999.0,9
33RR20220613,       P02E,     128,          2,         20,         20,2,20220620,       0743,    30.0001,  -155.4387,       5725,  1044.1,2,   3.5171,2,  34.3921,2,  34.3910,2,     14.5,3,    14.2,2,  129.27,2,   44.18,2,    0.00,2,    3.09,4,   0.014,2,   0.013,2,-999.0000,5,  2370.9,2,  2370.1,2,   7.3092,2,    24.97,2, -999.00,9,  -999.0,9, -999.00,1, -999.00,1,       60.6,2, 20220620,      953,  30.0001,-155.4387,     3.5169,2,     -999.0,9,     -999.0,9,     -999.0,9,     -999.0,9,     0.0134,1,     4.6972,1,     -999.0,9,     -999.0,9,     -999.0,9,     -999.0,9,     -999.0,9
33RR20220613,       P02E,     128,          2,         19,         39,2,20220620,       0743,    30.0001,  -155.4387,       5725,  1145.4,2,   3.2995,2,  34.4530,2,  34.4514,2,     24.3,2,    24.3,2,  134.15,2,   43.77,2,    0.00,2,    3.09,4,   0.012,6,   0.011,6,   0.0000,2,  -999.0,9,  -999.0,9,-999.0000,9,  -999.00,9, -999.00,9,  -999.0,9, -999.00,1, -999.00,1,       53.4,6, 20220620,      950,  30.0001,-155.4387,     3.2995,2,     -999.0,9,     -999.0,9,     -999.0,9,     -999.0,9,     0.0134,1,     4.6980,1,     -999.0,9,     -999.0,9,     -999.0,9,     -999.0,9,     -999.0,9
33RR20220613,       P02E,     128,          2,         18,         18,2,20220620,       0743,    30.0001,  -155.4387,       5725,  1247.2,2,   3.0856,2,  34.4943,2,  34.4934,2,     35.1,2,    35.1,2,  138.65,2,   43.15,2,    0.00,2,    3.09,4,   0.007,2,   0.013,2,   0.0000,2,  -999.0,9,  -999.0,9,-999.0000,9,  -999.00,9, -999.00,9,  -999.0,9, -999.00,1, -999.00,1,       47.8,2, 20220620,      947,  30.0001,-155.4387,     3.0847,2,     -999.0,9,     -999.0,9,     -999.0,9,     -999.0,9,     0.0134,1,     4.6991,1,     -999.0,9,     -999.0,9,     -999.0,9,     -999.0,9,     -999.0,9
33RR20220613,       P02E,     128,          2,         17,         37,2,20220620,       0743,    30.0001,  -155.4387,       5725,  1348.4,2,   2.8766,2,  34.5238,2,  34.5252,2,     43.5,2,    43.9,2,  142.75,2,   43.07,2,    0.00,2,    3.06,4,   0.006,2,   0.004,2,   0.0000,2,  2369.5,2,  -999.0,9,   7.3775,2,    24.99,2, -999.00,9,  -999.0,9, -999.00,1, -999.00,1,       45.1,2, 20220620,      944,  30.0001,-155.4387,     2.8780,2,     -999.0,9,     -999.0,9,     -999.0,9,     -999.0,9,     0.0134,1,     4.6995,1,     -999.0,9,     -999.0,9,     -999.0,9,     -999.0,9,     -999.0,9
33RR20220613,       P02E,     128,          2,         16,         16,2,20220620,       0743,    30.0001,  -155.4387,       5725,  1479.4,2,   2.6621,2,  34.5500,3,  34.5563,2,     56.1,2,    56.0,2,  146.27,2,   42.09,2,    0.00,2,    3.05,4,   0.004,2,   0.004,2,   0.0000,2,  2368.1,2,  2404.3,2,   7.4036,2,    24.99,2, -999.00,9,  -999.0,9, -999.00,1, -999.00,1,       40.0,2, 20220620,      940,  30.0001,-155.4387,     2.6615,2,     -999.0,9,     -999.0,9,     -999.0,9,     -999.0,9,     0.0134,1,     4.6996,1,     -999.0,9,     -999.0,9,     -999.0,9,     -999.0,9,     -999.0,9
33RR20220613,       P02E,     128,          2,         15,         15,2,20220620,       0743,    30.0001,  -155.4387,       5725,  1684.2,2,   2.3497,2,  34.5817,2,  34.5818,2,     69.9,2,    69.8,2,  152.62,2,   41.48,2,    0.00,2,    3.03,4,   0.004,2,   0.004,2,   0.0000,2,  2365.5,2,  -999.0,9,   7.4304,2,    24.99,2, -999.00,9,  -999.0,9, -999.00,1, -999.00,1,       35.6,2, 20220620,      936,  30.0001,-155.4387,     2.3485,2,     -999.0,9,     -999.0,9,     -999.0,9,     -999.0,9,     0.0134,1,     4.7008,1,     -999.0,9,     -999.0,9,     -999.0,9,     -999.0,9,     -999.0,9
33RR20220613,       P02E,     128,          2,         14,         14,2,20220620,       0743,    30.0001,  -155.4387,       5725,  1886.2,2,   2.1243,2,  34.6029,2,  34.6011,2,     79.4,2,    79.9,2,  157.70,2,   41.11,2,    0.00,2,    2.98,4,   0.007,2,   0.006,2,   0.0000,2,  -999.0,9,  -999.0,9,-999.0000,9,  -999.00,9, -999.00,9,  -999.0,9, -999.00,1, -999.00,1,       33.0,2, 20220620,      931,  30.0001,-155.4387,     2.1262,2,     -999.0,9,     -999.0,9,     -999.0,9,     -999.0,9,     0.0134,1,     4.7010,1,     -999.0,9,     -999.0,9,     -999.0,9,     -999.0,9,     -999.0,9
33RR20220613,       P02E,     128,          2,         13,         13,2,20220620,       0743,    30.0001,  -155.4387,       5725,  2108.8,2,   1.9307,2,  34.6221,2,  34.6215,2,     88.5,2,    88.6,2,  160.83,2,   39.80,2,    0.00,2,    2.95,4,   0.002,2,   0.002,2,   0.0000,2,  2362.0,2,  -999.0,9,   7.4652,2,    25.00,2, -999.00,9,  -999.0,9, -999.00,1, -999.00,1,       30.7,2, 20220620,      924,  30.0001,-155.4387,     1.9307,2,     -999.0,9,     -999.0,9,     -999.0,9,     -999.0,9,     0.0134,1,     4.7021,1,     -999.0,9,     -999.0,9,     -999.0,9,     -999.0,9,     -999.0,9
33RR20220613,       P02E,     128,          2,         12,         12,2,20220620,       0743,    30.0001,  -155.4387,       5725,  2364.0,2,   1.7893,2,  34.6375,2,  34.6360,2,     97.5,2,    97.4,2,  165.13,2,   39.73,2,    0.00,2,    2.99,4,   0.003,2,   0.004,2,   0.0000,2,  -999.0,9,  -999.0,9,-999.0000,9,  -999.00,9, -999.00,9,  -999.0,9, -999.00,1, -999.00,1,       29.1,2, 20220620,      919,  30.0001,-155.4387,     1.7900,2,     -999.0,9,     -999.0,9,     -999.0,9,     -999.0,9,     0.0134,1,     4.7022,1,     -999.0,9,     -999.0,9,     -999.0,9,     -999.0,9,     -999.0,9
33RR20220613,       P02E,     128,          2,         11,         11,2,20220620,       0743,    30.0001,  -155.4387,       5725,  2619.4,2,   1.6828,2,  34.6492,2,  34.6474,2,    107.0,2,   107.0,2,  165.81,2,   39.00,2,    0.00,2,    2.95,4,   0.003,2,   0.003,2,   0.0000,2,  2356.5,2,  2421.4,2,   7.4998,2,    25.02,2, -999.00,9,  -999.0,9, -999.00,1, -999.00,1,       27.5,2, 20220620,      913,  30.0001,-155.4387,     1.6833,2,     -999.0,9,     -999.0,9,     -999.0,9,     -999.0,9,     0.0134,1,     4.7032,1,     -999.0,9,     -999.0,9,     -999.0,9,     -999.0,9,     -999.0,9
33RR20220613,       P02E,     128,          2,         10,         10,2,20220620,       0743,    30.0001,  -155.4387,       5725,  2874.7,2,   1.5987,2,  34.6597,2,  34.6580,2,    117.1,2,   117.3,2,  164.83,2,   38.34,2,    0.00,2,    2.90,4,   0.004,2,   0.003,2,   0.0000,2,  -999.0,9,  -999.0,9,-999.0000,9,  -999.00,9, -999.00,9,  -999.0,9, -999.00,1, -999.00,1,       25.8,2, 20220620,      907,  30.0001,-155.4387,     1.5987,2,     -999.0,9,     -999.0,9,     -999.0,9,     -999.0,9,     0.0131,1,     4.7032,1,     -999.0,9,     -999.0,9,     -999.0,9,     -999.0,9,     -999.0,9
33RR20220613,       P02E,     128,          2,          9,          9,2,20220620,       0743,    30.0001,  -155.4387,       5725,  3145.6,2,   1.5371,2,  34.6673,2,  34.6655,2,    126.9,2,   127.3,2,  162.29,2,   37.97,2,    0.00,2,    2.84,4,   0.003,2,   0.002,2,   0.0000,2,  2342.7,2,  -999.0,9,   7.5352,2,    25.02,2, -999.00,9,  -999.0,9, -999.00,1, -999.00,1,       24.5,2, 20220620,      901,  30.0001,-155.4387,     1.5377,2,     -999.0,9,     -999.0,9,     -999.0,9,     -999.0,9,     0.0122,1,     4.7032,1,     -999.0,9,     -999.0,9,     -999.0,9,     -999.0,9,     -999.0,9
33RR20220613,       P02E,     128,          2,          8,          8,2,20220620,       0743,    30.0001,  -155.4387,       5725,  3452.0,2,   1.5036,2,  34.6739,2,  34.6722,2,    134.4,2,   134.4,2,  160.72,2,   37.38,2,    0.00,2,    2.81,4,   0.006,2,   0.004,2,   0.0000,2,  -999.0,9,  -999.0,9,-999.0000,9,  -999.00,9, -999.00,9,  -999.0,9, -999.00,1, -999.00,1,       23.9,2, 20220620,      854,  30.0001,-155.4387,     1.5032,2,     -999.0,9,     -999.0,9,     -999.0,9,     -999.0,9,     0.0129,1,     4.7037,1,     -999.0,9,     -999.0,9,     -999.0,9,     -999.0,9,     -999.0,9
33RR20220613,       P02E,     128,          2,          7,          7,2,20220620,       0743,    30.0001,  -155.4387,       5725,  3794.5,2,   1.4837,2,  34.6796,2,  34.6783,2,    141.5,2,   141.6,2,  158.86,2,   36.78,2,    0.00,2,    2.77,4,   0.004,2,   0.006,2,   0.0000,2,  2333.4,2,  -999.0,9,   7.5611,2,    25.00,2, -999.00,9,  -999.0,9, -999.00,1, -999.00,1,       23.0,2, 20220620,      847,  30.0001,-155.4387,     1.4837,2,     -999.0,9,     -999.0,9,     -999.0,9,     -999.0,9,     0.0122,1,     4.7044,1,     -999.0,9,     -999.0,9,     -999.0,9,     -999.0,9,     -999.0,9
33RR20220613,       P02E,     128,          2,          6,          6,2,20220620,       0743,    30.0001,  -155.4387,       5725,  4203.9,2,   1.4834,2,  34.6840,2,  34.6828,2,    147.9,2,   147.9,2,  156.03,2,   36.42,2,    0.00,2,    2.74,4,   0.004,2,   0.006,2,   0.0000,2,  2326.7,2,  2422.0,2,   7.5717,2,    25.02,2, -999.00,9,  -999.0,9, -999.00,1, -999.00,1,       22.1,2, 20220620,      838,  30.0001,-155.4387,     1.4833,2,     -999.0,9,     -999.0,9,     -999.0,9,     -999.0,9,     0.0122,1,     4.7039,1,     -999.0,9,     -999.0,9,     -999.0,9,     -999.0,9,     -999.0,9
33RR20220613,       P02E,     128,          2,          5,          5,2,20220620,       0743,    30.0001,  -155.4387,       5725,  4616.7,2,   1.5016,2,  34.6868,2,  34.6857,2,    152.6,2,   152.5,2,  153.68,2,   36.08,2,    0.00,2,    2.70,4,   0.004,2,   0.005,2,   0.0000,2,  -999.0,9,  -999.0,9,-999.0000,9,  -999.00,9, -999.00,9,  -999.0,9, -999.00,1, -999.00,1,       22.0,2, 20220620,      828,  30.0001,-155.4387,     1.5017,2,     -999.0,9,     -999.0,9,     -999.0,9,     -999.0,9,     0.0130,1,     4.7043,1,     -999.0,9,     -999.0,9,     -999.0,9,     -999.0,9,     -999.0,9