BOTTLE,20230830CCHSIOCBG
EXPOCODE,SECT_ID,STNNBR,CASTNO,SAMPNO,BTLNBR,BTLNBR_FLAG_W,DATE,TIME,LATITUDE,LONGITUDE,DEPTH,CTDPRS,CTDPRS_FLAG_W,CTDTMP,CTDTMP_FLAG_W,CTDSAL,CTDSAL_FLAG_W,SALNTY,SALNTY_FLAG_W,CTDOXY,CTDOXY_FLAG_W,OXYGEN,OXYGEN_FLAG_W,SILCAT,SILCAT_FLAG_W,NITRAT,NITRAT_FLAG_W,NITRIT,NITRIT_FLAG_W,PHSPHT,PHSPHT_FLAG_W,CFC-11,CFC-11_FLAG_W,CFC-12,CFC-12_FLAG_W,SF6,SF6_FLAG_W,TCARBN,TCARBN_FLAG_W,ALKALI,ALKALI_FLAG_W,PH_TOT,PH_TOT_FLAG_W,PH_TMP,PH_TMP_FLAG_W,DELC13,DELC13_FLAG_W,DELC14,DELC14_FLAG_W,DOC,DOC_FLAG_W,TDN,TDN_FLAG_W,N2O,N2O_FLAG_W,BTL_DATE,BTL_TIME,BTL_LAT,BTL_LON,REFTMP,REFTMP_FLAG_W,POC,POC_FLAG_W,PON,PON_FLAG_W,POP,POP_FLAG_W,PCOD,PCOD_FLAG_W,CTDFLUOR,CTDFLUOR_FLAG_W,CTDXMISS,CTDXMISS_FLAG_W,HPLC,HPLC_FLAG_W,DNA,DNA_FLAG_W,FCM,FCM_FLAG_W,IMAGES,IMAGES_FLAG_W,VIRAL_ABUNDANCE,VIRAL_ABUNDANCE_FLAG_W
,,,,,,,,,,,METERS,DBAR,,ITS-90,,PSS-78,,PSS-78,,UMOL/KG,,UMOL/KG,,UMOL/KG,,UMOL/KG,,UMOL/KG,,UMOL/KG,,PMOL/KG,,PMOL/KG,,FMOL/KG,,UMOL/KG,,UMOL/KG,,,,DEG C,,/MILLE,,/MILLE,,UMOL/KG,,UMOL/KG,,NMOL/KG,,,,,,ITS-90,,UG/L,,UG/L,,UG/L,,UG/L,,VOLTS,,VOLTS,,,,,,,,,,,
33RR20220613,       P02E,     169,          1,          4,          4,2,20220702,       1843,    29.9998,  -131.7675,       4703,  3861.5,2,   1.4935,2,  34.6809,2,  34.6791,2,    137.7,2,   137.5,2,  166.33,2,   36.99,2,    0.00,2,    2.56,2,   0.007,2,   0.007,2,   0.0000,2,  -999.0,9,  -999.0,9,-999.0000,9,  -999.00,9, -999.00,9,  -999.0,9, -999.00,9, -999.00,9,       24.9,2, 20220702,     1901,  29.9998,-131.7675,     1.4934,2,     -999.0,9,     -999.0,9,     -999.0,9,     -999.0,9,     0.0122,1,     4.7020,1,     -999.0,9,     -999.0,9,     -999.0,9,     -999.0,9,     -999.0,9
33RR20220613,       P02E,     169,          1,          3,          3,2,20220702,       1843,    29.9998,  -131.7675,       4703,  4168.6,2,   1.5096,2,  34.6831,2,  34.6818,2,    141.0,2,   141.0,2,  164.96,2,   36.80,2,    0.00,2,    2.53,2,   0.007,2,   0.008,2,   0.0000,2,  2336.4,2,  2429.4,6,   7.5656,2,    25.00,2, -999.00,9,  -999.0,9, -999.00,9, -999.00,9,     -999.0,5, 20220702,     1855,  29.9998,-131.7675,     1.5096,2,     -999.0,9,     -999.0,9,     -999.0,9,     -999.0,9,     0.0130,1,     4.7020,1,     -999.0,9,     -999.0,9,     -999.0,9,     -999.0,9,     -999.0,9
33RR20220613,       P02E,     169,          1,          2,          2,2,20220702,       1843,    29.9998,  -131.7675,       4703,  4373.8,2,   1.5276,2,  34.6840,2,  34.6830,2,    142.4,2,   142.9,2,  163.89,2,   36.78,2,    0.00,2,    2.53,2,   0.006,2,   0.010,2,   0.0000,2,  2338.1,2,  2431.0,6,   7.5686,2,    25.00,2, -999.00,9,  -999.0,9, -999.00,9, -999.00,9,       23.2,2, 20220702,     1851,  29.9998,-131.7675,     1.5276,2,     -999.0,9,     -999.0,9,     -999.0,9,     -999.0,9,     0.0122,1,     4.7016,1,     -999.0,9,     -999.0,9,     -999.0,9,     -999.0,9,     -999.0,9
33RR20220613,       P02E,     169,          1,          1,          1,2,20220702,       1843,    29.9998,  -131.7675,       4703,  4774.6,2,   1.5719,2,  34.6843,2,  34.6846,2,    143.1,2,   143.1,2,  162.81,2,   36.74,2,    0.00,2,    2.52,2,   0.008,2,   0.007,2,   0.0000,2,  2337.4,6,  2429.1,2,   7.5701,2,    25.01,2, -999.00,9,  -999.0,9, -999.00,9, -999.00,9,       24.3,2, 20220702,     1843,  29.9998,-131.7675,     1.5720,2,     -999.0,9,     -999.0,9,     -999.0,9,     -999.0,9,     0.0134,1,     4.7007,1,     -999.0,9,     -999.0,9,     -999.0,9,     -999.0,9,     -999.0,9
33RR20220613,       P02E,     170,          1,         13,         13,2,20220703,       0009,    30.0002,  -131.1893,       5225,     3.9,2,  19.7799,2,  33.6813,2,-999.0000,9,    229.4,2,  -999.0,9, -999.00,9, -999.00,9, -999.00,9, -999.00,9,-999.000,9,-999.000,9,-999.0000,9,  -999.0,9,  -999.0,9,-999.0000,9,  -999.00,9, -999.00,9,  -999.0,9, -999.00,9, -999.00,9,     -999.0,9, 20220703,       38,  30.0002,-131.1893,     -999.0,9,     -999.0,1,     -999.0,1,     -999.0,9,     -999.0,9,     0.0134,1,     4.6329,1,     -999.0,9,     -999.0,9,     -999.0,9,     -999.0,9,     -999.0,9
33RR20220613,       P02E,     170,          1,         12,         12,2,20220703,       0009,    30.0002,  -131.1893,       5225,     4.0,2,  19.7802,2,  33.6813,2,-999.0000,9,    229.1,2,  -999.0,9, -999.00,9, -999.00,9, -999.00,9, -999.00,9,-999.000,9,-999.000,9,-999.0000,9,  -999.0,9,  -999.0,9,-999.0000,9,  -999.00,9, -999.00,9,  -999.0,9, -999.00,9, -999.00,9,     -999.0,9, 20220703,       38,  30.0002,-131.1893,     -999.0,9,     -999.0,1,     -999.0,1,     -999.0,9,     -999.0,9,     0.0134,1,     4.6311,1,     -999.0,9,     -999.0,9,     -999.0,9,     -999.0,9,     -999.0,9
33RR20220613,       P02E,     170,          1,         18,         18,2,20220703,       0009,    30.0002,  -131.1893,       5225,     4.1,2,  19.7830,2,  33.6811,2,-999.0000,9,    228.9,2,  -999.0,9, -999.00,9, -999.00,9, -999.00,9, -999.00,9,-999.000,9,-999.000,9,-999.0000,9,  -999.0,9,  -999.0,9,-999.0000,9,  -999.00,9, -999.00,9,  -999.0,9, -999.00,9, -999.00,9,     -999.0,9, 20220703,       38,  30.0002,-131.1893,     -999.0,9,     -999.0,9,     -999.0,9,     -999.0,9,     -999.0,1,     0.0134,1,     4.6353,1,     -999.0,9,     -999.0,9,     -999.0,9,     -999.0,9,     -999.0,9
33RR20220613,       P02E,     170,          1,         19,         39,2,20220703,       0009,    30.0002,  -131.1893,       5225,     4.2,2,  19.7814,2,  33.6811,2,-999.0000,9,    228.9,2,  -999.0,9, -999.00,9, -999.00,9, -999.00,9, -999.00,9,-999.000,9,-999.000,9,-999.0000,9,  -999.0,9,  -999.0,9,-999.0000,9,  -999.00,9, -999.00,9,  -999.0,9, -999.00,9, -999.00,9,     -999.0,9, 20220703,       38,  30.0002,-131.1893,    19.7810,2,     -999.0,9,     -999.0,9,     -999.0,9,     -999.0,1,     0.0134,1,     4.6334,1,     -999.0,9,     -999.0,9,     -999.0,9,     -999.0,9,     -999.0,9
33RR20220613,       P02E,     170,          1,         20,         20,2,20220703,       0009,    30.0002,  -131.1893,       5225,     4.3,2,  19.7813,2,  33.6812,2,-999.0000,9,    228.9,2,  -999.0,9, -999.00,9, -999.00,9, -999.00,9, -999.00,9,-999.000,9,-999.000,9,-999.0000,9,  -999.0,9,  -999.0,9,-999.0000,9,  -999.00,9, -999.00,9,  -999.0,9, -999.00,9, -999.00,9,     -999.0,9, 20220703,       38,  30.0002,-131.1893,     -999.0,9,     -999.0,9,     -999.0,9,     -999.0,9,     -999.0,1,     0.0134,1,     4.6343,1,     -999.0,9,     -999.0,9,     -999.0,9,     -999.0,9,     -999.0,9
33RR20220613,       P02E,     170,          1,         17,         37,2,20220703,       0009,    30.0002,  -131.1893,       5225,     4.3,2,  19.7817,2,  33.6812,2,-999.0000,9,    228.9,2,  -999.0,9, -999.00,9, -999.00,9, -999.00,9, -999.00,9,-999.000,9,-999.000,9,-999.0000,9,  -999.0,9,  -999.0,9,-999.0000,9,  -999.00,9, -999.00,9,  -999.0,9, -999.00,9, -999.00,9,     -999.0,9, 20220703,       38,  30.0002,-131.1893,     -999.0,9,     -999.0,9,     -999.0,9,     -999.0,1,     -999.0,9,     0.0134,1,     4.6354,1,     -999.0,9,     -999.0,9,     -999.0,9,     -999.0,9,     -999.0,9
33RR20220613,       P02E,     170,          1,         15,         15,2,20220703,       0009,    30.0002,  -131.1893,       5225,     4.4,2,  19.7797,2,  33.6813,2,-999.0000,9,    229.0,2,  -999.0,9, -999.00,9, -999.00,9, -999.00,9, -999.00,9,-999.000,9,-999.000,9,-999.0000,9,  -999.0,9,  -999.0,9,-999.0000,9,  -999.00,9, -999.00,9,  -999.0,9, -999.00,9, -999.00,9,     -999.0,9, 20220703,       38,  30.0002,-131.1893,     -999.0,9,     -999.0,9,     -999.0,9,     -999.0,1,     -999.0,9,     0.0134,1,     4.6348,1,     -999.0,9,     -999.0,9,     -999.0,9,     -999.0,9,     -999.0,9
33RR20220613,       P02E,     170,          1,         14,         42,2,20220703,       0009,    30.0002,  -131.1893,       5225,     4.5,2,  19.7809,2,  33.6812,2,-999.0000,9,    229.0,2,  -999.0,9, -999.00,9, -999.00,9, -999.00,9, -999.00,9,-999.000,9,-999.000,9,-999.0000,9,  -999.0,9,  -999.0,9,-999.0000,9,  -999.00,9, -999.00,9,  -999.0,9, -999.00,9, -999.00,9,     -999.0,9, 20220703,       38,  30.0002,-131.1893,     -999.0,9,     -999.0,1,     -999.0,1,     -999.0,9,     -999.0,9,     0.0134,1,     4.6181,1,     -999.0,9,     -999.0,9,     -999.0,9,     -999.0,9,     -999.0,9
33RR20220613,       P02E,     170,          1,         16,         16,2,20220703,       0009,    30.0002,  -131.1893,       5225,     4.5,2,  19.7805,2,  33.6812,2,-999.0000,9,    228.9,2,  -999.0,9, -999.00,9, -999.00,9, -999.00,9, -999.00,9,-999.000,9,-999.000,9,-999.0000,9,  -999.0,9,  -999.0,9,-999.0000,9,  -999.00,9, -999.00,9,  -999.0,9, -999.00,9, -999.00,9,     -999.0,9, 20220703,       38,  30.0002,-131.1893,     -999.0,9,     -999.0,9,     -999.0,9,     -999.0,1,     -999.0,9,     0.0142,1,     4.6342,1,     -999.0,9,     -999.0,9,     -999.0,9,     -999.0,9,     -999.0,9
33RR20220613,       P02E,     170,          1,         10,         10,2,20220703,       0009,    30.0002,  -131.1893,       5225,     4.5,2,  19.7805,2,  33.6814,2,-999.0000,9,    228.7,2,  -999.0,9, -999.00,9, -999.00,9, -999.00,9, -999.00,9,-999.000,9,-999.000,9,-999.0000,9,  -999.0,9,  -999.0,9,-999.0000,9,  -999.00,9, -999.00,9,  -999.0,9, -999.00,9, -999.00,9,     -999.0,9, 20220703,       38,  30.0002,-131.1893,    19.7806,2,     -999.0,9,     -999.0,9,     -999.0,9,     -999.0,9,     0.0137,1,     4.6341,1,     -999.0,9,     -999.0,1,     -999.0,1,     -999.0,9,     -999.0,9
33RR20220613,       P02E,     170,          1,         11,         11,2,20220703,       0009,    30.0002,  -131.1893,       5225,     4.6,2,  19.7810,2,  33.6810,2,-999.0000,9,    228.8,2,  -999.0,9, -999.00,9, -999.00,9, -999.00,9, -999.00,9,-999.000,9,-999.000,9,-999.0000,9,  -999.0,9,  -999.0,9,-999.0000,9,  -999.00,9, -999.00,9,  -999.0,9, -999.00,9, -999.00,9,     -999.0,9, 20220703,       38,  30.0002,-131.1893,     -999.0,9,     -999.0,1,     -999.0,1,     -999.0,9,     -999.0,9,     0.0135,1,     4.6332,1,     -999.0,1,     -999.0,9,     -999.0,9,     -999.0,9,     -999.0,9
33RR20220613,       P02E,     170,          1,          9,          9,2,20220703,       0009,    30.0002,  -131.1893,       5225,    39.3,2,  18.8693,2,  33.6443,2,-999.0000,9,    241.3,2,  -999.0,9, -999.00,9, -999.00,9, -999.00,9, -999.00,9,-999.000,9,-999.000,9,-999.0000,9,  -999.0,9,  -999.0,9,-999.0000,9,  -999.00,9, -999.00,9,  -999.0,9, -999.00,9, -999.00,9,     -999.0,9, 20220703,       35,  30.0002,-131.1893,    18.9009,2,     -999.0,1,     -999.0,1,     -999.0,9,     -999.0,9,     0.0147,1,     4.6403,1,     -999.0,1,     -999.0,9,     -999.0,1,     -999.0,9,     -999.0,9
33RR20220613,       P02E,     170,          1,          8,          8,2,20220703,       0009,    30.0002,  -131.1893,       5225,    71.7,2,  17.4072,2,  33.5450,2,-999.0000,9,    251.4,2,  -999.0,9, -999.00,9, -999.00,9, -999.00,9, -999.00,9,-999.000,9,-999.000,9,-999.0000,9,  -999.0,9,  -999.0,9,-999.0000,9,  -999.00,9, -999.00,9,  -999.0,9, -999.00,9, -999.00,9,     -999.0,9, 20220703,       32,  30.0002,-131.1893,    17.3815,2,     -999.0,1,     -999.0,1,     -999.0,9,     -999.0,9,     0.0187,1,     4.6423,1,     -999.0,1,     -999.0,9,     -999.0,1,     -999.0,9,     -999.0,9
33RR20220613,       P02E,     170,          1,          6,          6,2,20220703,       0009,    30.0002,  -131.1893,       5225,   133.7,2,  15.0995,2,  33.4146,2,-999.0000,9,    246.7,2,  -999.0,9, -999.00,9, -999.00,9, -999.00,9, -999.00,9,-999.000,9,-999.000,9,-999.0000,9,  -999.0,9,  -999.0,9,-999.0000,9,  -999.00,9, -999.00,9,  -999.0,9, -999.00,9, -999.00,9,     -999.0,9, 20220703,       29,  30.0002,-131.1894,    15.0866,2,     -999.0,9,     -999.0,9,     -999.0,9,     -999.0,9,     0.0326,1,     4.6614,1,     -999.0,9,     -999.0,1,     -999.0,1,     -999.0,9,     -999.0,9
33RR20220613,       P02E,     170,          1,          7,          7,2,20220703,       0009,    30.0002,  -131.1893,       5225,   133.7,2,  15.1011,2,  33.4149,2,-999.0000,9,    246.7,2,  -999.0,9, -999.00,9, -999.00,9, -999.00,9, -999.00,9,-999.000,9,-999.000,9,-999.0000,9,  -999.0,9,  -999.0,9,-999.0000,9,  -999.00,9, -999.00,9,  -999.0,9, -999.00,9, -999.00,9,     -999.0,9, 20220703,       29,  30.0002,-131.1894,     -999.0,9,     -999.0,1,     -999.0,1,     -999.0,9,     -999.0,9,     0.0332,1,     4.6605,1,     -999.0,1,     -999.0,9,     -999.0,9,     -999.0,9,     -999.0,9
33RR20220613,       P02E,     170,          1,          5,          5,2,20220703,       0009,    30.0002,  -131.1893,       5225,   183.8,2,  11.7164,2,  33.5439,2,-999.0000,9,    214.7,2,  -999.0,9, -999.00,9, -999.00,9, -999.00,9, -999.00,9,-999.000,9,-999.000,9,-999.0000,9,  -999.0,9,  -999.0,9,-999.0000,9,  -999.00,9, -999.00,9,  -999.0,9, -999.00,9, -999.00,9,     -999.0,9, 20220703,       26,  30.0002,-131.1893,    11.6673,2,     -999.0,1,     -999.0,1,     -999.0,9,     -999.0,9,     0.0155,1,     4.6832,1,     -999.0,1,     -999.0,9,     -999.0,1,     -999.0,9,     -999.0,9
33RR20220613,       P02E,     170,          1,          3,          3,2,20220703,       0009,    30.0002,  -131.1893,       5225,   202.1,2,  10.7707,2,  33.6250,2,-999.0000,9,    202.8,2,  -999.0,9, -999.00,9, -999.00,9, -999.00,9, -999.00,9,-999.000,9,-999.000,9,-999.0000,9,  -999.0,9,  -999.0,9,-999.0000,9,  -999.00,9, -999.00,9,  -999.0,9, -999.00,9, -999.00,9,     -999.0,9, 20220703,       24,  30.0002,-131.1893,    10.7699,2,     -999.0,9,     -999.0,9,     -999.0,9,     -999.0,9,     0.0134,1,     4.6884,1,     -999.0,9,     -999.0,1,     -999.0,1,     -999.0,9,     -999.0,9
33RR20220613,       P02E,     170,          1,          4,          4,2,20220703,       0009,    30.0002,  -131.1893,       5225,   202.2,2,  10.7684,2,  33.6226,2,-999.0000,9,    202.8,2,  -999.0,9, -999.00,9, -999.00,9, -999.00,9, -999.00,9,-999.000,9,-999.000,9,-999.0000,9,  -999.0,9,  -999.0,9,-999.0000,9,  -999.00,9, -999.00,9,  -999.0,9, -999.00,9, -999.00,9,     -999.0,9, 20220703,       24,  30.0002,-131.1893,     -999.0,9,     -999.0,1,     -999.0,1,     -999.0,9,     -999.0,9,     0.0134,1,     4.6876,1,     -999.0,1,     -999.0,9,     -999.0,9,     -999.0,9,     -999.0,9
33RR20220613,       P02E,     170,          1,          2,          2,2,20220703,       0009,    30.0002,  -131.1893,       5225,   504.2,2,   5.9563,2,  34.1346,2,-999.0000,9,     33.1,2,  -999.0,9, -999.00,9, -999.00,9, -999.00,9, -999.00,9,-999.000,9,-999.000,9,-999.0000,9,  -999.0,9,  -999.0,9,-999.0000,9,  -999.00,9, -999.00,9,  -999.0,9, -999.00,9, -999.00,9,     -999.0,9, 20220703,       18,  30.0002,-131.1893,     5.9545,2,     -999.0,9,     -999.0,9,     -999.0,9,     -999.0,9,     0.0134,1,     4.6910,1,     -999.0,9,     -999.0,9,     -999.0,1,     -999.0,9,     -999.0,9
33RR20220613,       P02E,     170,          1,          1,          1,2,20220703,       0009,    30.0002,  -131.1893,       5225,  1009.6,2,   3.8805,2,  34.4531,2,-999.0000,9,     24.7,2,  -999.0,9, -999.00,9, -999.00,9, -999.00,9, -999.00,9,-999.000,9,-999.000,9,-999.0000,9,  -999.0,9,  -999.0,9,-999.0000,9,  -999.00,9, -999.00,9,  -999.0,9, -999.00,9, -999.00,9,     -999.0,9, 20220703,        9,  30.0002,-131.1894,     3.8817,2,     -999.0,9,     -999.0,9,     -999.0,9,     -999.0,9,     0.0134,1,     4.6956,1,     -999.0,9,     -999.0,1,     -999.0,1,     -999.0,9,     -999.0,9