BOTTLE,20230830CCHSIOCBG
EXPOCODE,SECT_ID,STNNBR,CASTNO,SAMPNO,BTLNBR,BTLNBR_FLAG_W,DATE,TIME,LATITUDE,LONGITUDE,DEPTH,CTDPRS,CTDPRS_FLAG_W,CTDTMP,CTDTMP_FLAG_W,CTDSAL,CTDSAL_FLAG_W,SALNTY,SALNTY_FLAG_W,CTDOXY,CTDOXY_FLAG_W,OXYGEN,OXYGEN_FLAG_W,SILCAT,SILCAT_FLAG_W,NITRAT,NITRAT_FLAG_W,NITRIT,NITRIT_FLAG_W,PHSPHT,PHSPHT_FLAG_W,CFC-11,CFC-11_FLAG_W,CFC-12,CFC-12_FLAG_W,SF6,SF6_FLAG_W,TCARBN,TCARBN_FLAG_W,ALKALI,ALKALI_FLAG_W,PH_TOT,PH_TOT_FLAG_W,PH_TMP,PH_TMP_FLAG_W,DELC13,DELC13_FLAG_W,DELC14,DELC14_FLAG_W,DOC,DOC_FLAG_W,TDN,TDN_FLAG_W,N2O,N2O_FLAG_W,BTL_DATE,BTL_TIME,BTL_LAT,BTL_LON,REFTMP,REFTMP_FLAG_W,POC,POC_FLAG_W,PON,PON_FLAG_W,POP,POP_FLAG_W,PCOD,PCOD_FLAG_W,CTDFLUOR,CTDFLUOR_FLAG_W,CTDXMISS,CTDXMISS_FLAG_W,HPLC,HPLC_FLAG_W,DNA,DNA_FLAG_W,FCM,FCM_FLAG_W,IMAGES,IMAGES_FLAG_W,VIRAL_ABUNDANCE,VIRAL_ABUNDANCE_FLAG_W
,,,,,,,,,,,METERS,DBAR,,ITS-90,,PSS-78,,PSS-78,,UMOL/KG,,UMOL/KG,,UMOL/KG,,UMOL/KG,,UMOL/KG,,UMOL/KG,,PMOL/KG,,PMOL/KG,,FMOL/KG,,UMOL/KG,,UMOL/KG,,,,DEG C,,/MILLE,,/MILLE,,UMOL/KG,,UMOL/KG,,NMOL/KG,,,,,,ITS-90,,UG/L,,UG/L,,UG/L,,UG/L,,VOLTS,,VOLTS,,,,,,,,,,,
33RR20220613,       P02E,     143,          2,         36,         36,2,20220625,       0417,    29.9995,  -146.7779,       4999,     3.8,2,  23.4073,2,  35.2227,2,  35.2211,2,    216.9,2,   217.1,2,    0.39,2,    0.03,2,    0.00,2,    0.00,3,   1.700,2,   1.083,2,   1.8434,2,  2041.7,6,  2322.1,2,   7.9950,2,    25.05,2, -999.00,9,  -999.0,9, -999.00,9, -999.00,9,        7.0,2, 20220625,      632,  29.9995,-146.7779,    23.4069,2,     -999.0,9,     -999.0,9,     -999.0,9,     -999.0,9,     0.0135,1,     4.6335,1,     -999.0,9,     -999.0,9,     -999.0,9,     -999.0,9,     -999.0,9
33RR20220613,       P02E,     143,          2,         35,         35,2,20220625,       0417,    29.9995,  -146.7779,       4999,    24.9,2,  23.3273,2,  35.2620,2,  35.2627,2,    217.3,2,   217.5,2,    0.29,2,    0.03,2,    0.00,2,    0.00,3,   1.710,2,   1.086,2,   1.9044,2,  2042.0,2,  2322.9,2,   7.9980,2,    25.03,2, -999.00,9,  -999.0,9, -999.00,9, -999.00,9,        6.9,2, 20220625,      630,  29.9995,-146.7778,    23.3304,2,     -999.0,9,     -999.0,9,     -999.0,9,     -999.0,9,     0.0135,1,     4.6300,1,     -999.0,9,     -999.0,9,     -999.0,9,     -999.0,9,     -999.0,9
33RR20220613,       P02E,     143,          2,         34,         34,2,20220625,       0417,    29.9995,  -146.7779,       4999,    50.1,2,  22.0523,2,  35.2595,2,  35.2723,2,    228.4,3,   225.5,2,    0.29,2,    0.02,2,    0.00,2,    0.00,3,   1.798,2,   1.134,2,   1.8244,2,  2039.6,2,  2320.7,2,   8.0026,2,    25.04,2, -999.00,9,  -999.0,9, -999.00,9, -999.00,9,        7.3,2, 20220625,      628,  29.9995,-146.7779,    22.0302,2,     -999.0,9,     -999.0,9,     -999.0,9,     -999.0,9,     0.0147,1,     4.6311,1,     -999.0,9,     -999.0,9,     -999.0,9,     -999.0,9,     -999.0,9
33RR20220613,       P02E,     143,          2,         33,         33,2,20220625,       0417,    29.9995,  -146.7779,       4999,    76.3,2,  20.0590,2,  34.9518,2,  34.9583,2,    235.2,2,   236.2,2,    0.59,2,    0.00,2,    0.00,2,    0.00,3,   2.022,2,   1.239,2,   2.0673,2,  2031.3,2,  2300.7,2,   7.9848,2,    25.02,2, -999.00,9,  -999.0,9, -999.00,9, -999.00,9,        7.7,2, 20220625,      624,  29.9995,-146.7778,    20.0424,2,     -999.0,9,     -999.0,9,     -999.0,9,     -999.0,9,     0.0159,1,     4.6390,1,     -999.0,9,     -999.0,9,     -999.0,9,     -999.0,9,     -999.0,9
33RR20220613,       P02E,     143,          2,         32,         32,2,20220625,       0417,    29.9995,  -146.7779,       4999,   101.0,2,  19.7366,2,  35.0134,2,  35.0195,2,    233.4,2,   233.3,2,    0.68,2,    0.00,2,    0.00,2,    0.00,3,   2.009,2,   1.231,2,   1.9795,2,  2033.3,2,  2304.9,2,   7.9840,2,    24.96,2, -999.00,9,  -999.0,9, -999.00,9, -999.00,9,        7.7,2, 20220625,      623,  29.9995,-146.7779,    19.7508,2,     -999.0,9,     -999.0,9,     -999.0,9,     -999.0,9,     0.0184,1,     4.6489,1,     -999.0,9,     -999.0,9,     -999.0,9,     -999.0,9,     -999.0,9
33RR20220613,       P02E,     143,          2,         31,         31,2,20220625,       0417,    29.9995,  -146.7779,       4999,   151.4,2,  18.2012,2,  34.7421,2,  34.7319,2,    226.8,2,   227.5,2,    1.07,2,    0.13,2,    0.06,2,    0.07,3,   2.142,2,   1.312,2,   1.9961,2,  2039.6,2,  2288.1,2,   7.9472,2,    25.04,2, -999.00,9,  -999.0,9, -999.00,9, -999.00,9,        8.4,2, 20220625,      621,  29.9995,-146.7778,    18.1999,2,     -999.0,9,     -999.0,9,     -999.0,9,     -999.0,9,     0.0293,1,     4.6622,1,     -999.0,9,     -999.0,9,     -999.0,9,     -999.0,9,     -999.0,9
33RR20220613,       P02E,     143,          2,         30,         17,2,20220625,       0417,    29.9995,  -146.7779,       4999,   202.2,2,  13.8718,2,  34.1497,2,  34.1528,2,    220.7,2,   219.8,2,    4.11,2,    4.48,2,    0.00,2,    0.33,3,   2.689,2,   1.582,2,   2.2691,2,  2064.0,2,  2253.4,2,   7.8403,2,    25.04,2, -999.00,9,  -999.0,9, -999.00,9, -999.00,9,       11.2,2, 20220625,      619,  29.9995,-146.7778,    13.8775,2,     -999.0,9,     -999.0,9,     -999.0,9,     -999.0,9,     0.0161,1,     4.6820,1,     -999.0,9,     -999.0,9,     -999.0,9,     -999.0,9,     -999.0,9
33RR20220613,       P02E,     143,          2,         29,         29,2,20220625,       0417,    29.9995,  -146.7779,       4999,   252.9,2,  12.3317,2,  34.0667,2,  34.0664,2,    218.9,2,   218.8,2,    7.04,2,    8.19,2,    0.00,2,    0.51,3,   2.797,2,   1.677,2,   2.2323,2,  2079.9,2,  2249.5,2,   7.7990,2,    25.03,2, -999.00,9,  -999.0,9, -999.00,9, -999.00,9,       12.9,2, 20220625,      616,  29.9995,-146.7779,    12.3338,2,     -999.0,9,     -999.0,9,     -999.0,9,     -999.0,9,     0.0122,1,     4.6885,1,     -999.0,9,     -999.0,9,     -999.0,9,     -999.0,9,     -999.0,9
33RR20220613,       P02E,     143,          2,         28,         28,2,20220625,       0417,    29.9995,  -146.7779,       4999,   302.7,2,  11.4587,2,  34.1293,2,  34.1295,2,    211.5,2,   211.9,2,   10.85,2,   11.87,2,    0.00,2,    0.68,3,   2.842,2,   1.694,2,   2.0049,2,  2099.4,2,  2256.7,2,   7.7613,2,    25.03,2, -999.00,9,  -999.0,9, -999.00,9, -999.00,9,       14.5,2, 20220625,      615,  29.9995,-146.7779,    11.4579,2,     -999.0,9,     -999.0,9,     -999.0,9,     -999.0,9,     0.0122,1,     4.6904,1,     -999.0,9,     -999.0,9,     -999.0,9,     -999.0,9,     -999.0,9
33RR20220613,       P02E,     143,          2,         27,         27,2,20220625,       0417,    29.9995,  -146.7779,       4999,   353.0,2,  10.4516,2,  34.1015,2,  34.1007,2,    209.4,2,   209.6,2,   15.06,2,   14.39,2,    0.00,2,    0.84,3,   2.982,2,   1.767,2,   1.9697,2,  2112.0,2,  2258.3,6,   7.7357,2,    25.01,2, -999.00,9,  -999.0,9, -999.00,9, -999.00,9,       17.9,2, 20220625,      613,  29.9995,-146.7778,    10.4598,2,     -999.0,9,     -999.0,9,     -999.0,9,     -999.0,9,     0.0122,1,     4.6919,1,     -999.0,9,     -999.0,9,     -999.0,9,     -999.0,9,     -999.0,9
33RR20220613,       P02E,     143,          2,         26,         26,2,20220625,       0417,    29.9995,  -146.7779,       4999,   404.0,2,   9.4333,2,  34.0506,2,  34.0490,2,    203.4,2,   203.8,2,   20.82,2,   17.13,2,    0.00,2,    1.03,3,   3.008,2,   1.790,2,   1.8555,2,  -999.0,9,  -999.0,9,-999.0000,9,  -999.00,9, -999.00,9,  -999.0,9, -999.00,9, -999.00,9,       20.3,2, 20220625,      609,  29.9995,-146.7779,     9.4354,2,     -999.0,9,     -999.0,9,     -999.0,9,     -999.0,9,     0.0122,1,     4.6937,1,     -999.0,9,     -999.0,9,     -999.0,9,     -999.0,9,     -999.0,9
33RR20220613,       P02E,     143,          2,         25,         25,2,20220625,       0417,    29.9995,  -146.7779,       4999,   504.2,2,   7.6156,2,  34.0065,2,  34.0059,2,    154.2,2,   154.6,2,   39.11,2,   25.55,2,    0.00,2,    1.56,3,   2.798,2,   1.614,2,   1.2221,2,  2186.8,2,  2273.5,2,   7.5738,2,    24.95,2, -999.00,9,  -999.0,9, -999.00,9, -999.00,9,       26.8,2, 20220625,      606,  29.9995,-146.7779,     7.6125,2,     -999.0,9,     -999.0,9,     -999.0,9,     -999.0,9,     0.0123,1,     4.6948,1,     -999.0,9,     -999.0,9,     -999.0,9,     -999.0,9,     -999.0,9
33RR20220613,       P02E,     143,          2,         24,         24,2,20220625,       0417,    29.9995,  -146.7779,       4999,   606.0,2,   5.7334,2,  33.9903,2,  33.9908,2,     97.1,2,    96.7,2,   42.24,4,   34.32,4,    0.00,2,    2.21,3,   2.077,2,   1.158,2,   0.6683,2,  -999.0,9,  -999.0,9,-999.0000,9,  -999.00,9, -999.00,9,  -999.0,9, -999.00,9, -999.00,9,       35.0,2, 20220625,      603,  29.9995,-146.7779,     5.7349,2,     -999.0,9,     -999.0,9,     -999.0,9,     -999.0,9,     0.0130,1,     4.6962,1,     -999.0,9,     -999.0,9,     -999.0,9,     -999.0,9,     -999.0,9
33RR20220613,       P02E,     143,          2,         23,         23,2,20220625,       0417,    29.9995,  -146.7779,       4999,   706.9,2,   4.7342,2,  34.0897,2,  34.0903,2,     44.5,3,    45.2,2,   87.69,2,   40.33,2,    0.00,2,    2.67,3,   1.043,2,   0.569,2,   0.2348,2,  2309.4,2,  2313.7,2,   7.3297,2,    25.04,2, -999.00,9,  -999.0,9, -999.00,9, -999.00,9,       43.6,2, 20220625,      600,  29.9995,-146.7779,     4.7407,2,     -999.0,9,     -999.0,9,     -999.0,9,     -999.0,9,     0.0134,1,     4.6970,1,     -999.0,9,     -999.0,9,     -999.0,9,     -999.0,9,     -999.0,9
33RR20220613,       P02E,     143,          2,         22,         22,2,20220625,       0417,    29.9995,  -146.7779,       4999,   807.2,2,   4.2286,2,  34.1926,2,  34.1944,2,     21.1,2,    21.2,2,  105.19,2,   42.81,2,    0.00,2,    2.91,3,   0.369,2,   0.206,2,   0.1224,2,  -999.0,9,  -999.0,9,-999.0000,9,  -999.00,9, -999.00,9,  -999.0,9, -999.00,9, -999.00,9,       50.6,2, 20220625,      557,  29.9995,-146.7779,     4.2308,2,     -999.0,9,     -999.0,9,     -999.0,9,     -999.0,9,     0.0134,1,     4.6970,1,     -999.0,9,     -999.0,9,     -999.0,9,     -999.0,9,     -999.0,9
33RR20220613,       P02E,     143,          2,         21,         21,2,20220625,       0417,    29.9995,  -146.7779,       4999,   910.0,2,   3.9029,2,  34.3075,2,  34.3054,2,     11.4,3,    11.0,2,  117.79,2,   43.85,2,    0.00,2,    3.05,4,   0.063,2,   0.042,2,   0.1377,2,  2357.8,2,  2353.1,2,   7.2931,2,    25.03,2, -999.00,9,  -999.0,9, -999.00,9, -999.00,9,       54.4,2, 20220625,      554,  29.9995,-146.7779,     3.9046,2,     -999.0,9,     -999.0,9,     -999.0,9,     -999.0,9,     0.0134,1,     4.6970,1,     -999.0,9,     -999.0,9,     -999.0,9,     -999.0,9,     -999.0,9
33RR20220613,       P02E,     143,          2,         20,         20,2,20220625,       0417,    29.9995,  -146.7779,       4999,  1008.7,2,   3.6480,2,  34.3781,2,  34.3782,2,     12.7,3,    12.3,2,  125.80,2,   44.10,2,    0.00,2,    3.13,4,   0.018,2,   0.013,2,   0.0000,2,  2367.5,2,  2366.8,2,   7.3049,2,    25.02,2, -999.00,9,  -999.0,9, -999.00,9, -999.00,9,       55.0,2, 20220625,      551,  29.9995,-146.7779,     3.6496,2,     -999.0,9,     -999.0,9,     -999.0,9,     -999.0,9,     0.0134,1,     4.6968,1,     -999.0,9,     -999.0,9,     -999.0,9,     -999.0,9,     -999.0,9
33RR20220613,       P02E,     143,          2,         19,         39,2,20220625,       0417,    29.9995,  -146.7779,       4999,  1110.2,2,   3.4049,2,  34.4446,2,  34.4426,2,     20.0,3,    19.7,2,  132.05,2,   43.93,2,    0.00,2,    3.16,4,   0.011,2,   0.008,2,   0.0000,2,  2371.8,2,  2377.8,2,   7.3285,2,    25.02,2, -999.00,9,  -999.0,9, -999.00,9, -999.00,9,       51.5,2, 20220625,      549,  29.9995,-146.7778,     3.4064,2,     -999.0,9,     -999.0,9,     -999.0,9,     -999.0,9,     0.0134,1,     4.6973,1,     -999.0,9,     -999.0,9,     -999.0,9,     -999.0,9,     -999.0,9
33RR20220613,       P02E,     143,          2,         18,         18,2,20220625,       0417,    29.9995,  -146.7779,       4999,  1211.4,2,   3.2097,2,  34.4848,2,  34.4832,2,     28.3,3,    28.0,2,  136.44,2,   43.55,2,    0.00,2,    3.16,4,   0.007,2,   0.008,2,   0.0000,2,  -999.0,9,  -999.0,9,-999.0000,9,  -999.00,9, -999.00,9,  -999.0,9, -999.00,9, -999.00,9,       46.6,2, 20220625,      546,  29.9995,-146.7779,     3.2106,2,     -999.0,9,     -999.0,9,     -999.0,9,     -999.0,9,     0.0134,1,     4.6978,1,     -999.0,9,     -999.0,9,     -999.0,9,     -999.0,9,     -999.0,9
33RR20220613,       P02E,     143,          2,         17,         37,2,20220625,       0417,    29.9995,  -146.7779,       4999,  1313.3,2,   3.0205,2,  34.5131,2,  34.5117,2,     36.3,2,    36.3,2,  140.64,2,   43.18,2,    0.00,2,    3.15,4,   0.007,2,   0.007,2,   0.0000,2,  2372.2,2,  2392.5,2,   7.3634,2,    25.03,2, -999.00,9,  -999.0,9, -999.00,9, -999.00,9,       43.5,2, 20220625,      541,  29.9995,-146.7779,     3.0193,2,     -999.0,9,     -999.0,9,     -999.0,9,     -999.0,9,     0.0134,1,     4.6983,1,     -999.0,9,     -999.0,9,     -999.0,9,     -999.0,9,     -999.0,9
33RR20220613,       P02E,     143,          2,         16,         16,2,20220625,       0417,    29.9995,  -146.7779,       4999,  1412.5,2,   2.8268,2,  34.5370,2,  34.5347,2,     45.7,2,    45.5,2,  144.45,2,   42.69,2,    0.00,2,    3.15,4,   0.004,2,   0.004,2,   0.0000,2,  -999.0,9,  -999.0,9,-999.0000,9,  -999.00,9, -999.00,9,  -999.0,9, -999.00,9, -999.00,9,       41.2,2, 20220625,      539,  29.9995,-146.7779,     2.8270,2,     -999.0,9,     -999.0,9,     -999.0,9,     -999.0,9,     0.0134,1,     4.6993,1,     -999.0,9,     -999.0,9,     -999.0,9,     -999.0,9,     -999.0,9
33RR20220613,       P02E,     143,          2,         15,         15,2,20220625,       0417,    29.9995,  -146.7779,       4999,  1514.2,2,   2.6575,2,  34.5548,2,  34.5539,2,     52.3,2,    52.4,2,  148.26,2,   42.34,2,    0.00,2,    3.15,4,   0.003,2,   0.002,2,   0.0000,2,  2371.4,2,  2404.4,2,   7.3972,2,    25.03,2, -999.00,9,  -999.0,9, -999.00,9, -999.00,9,       38.2,2, 20220625,      536,  29.9995,-146.7779,     2.6544,2,     -999.0,9,     -999.0,9,     -999.0,9,     -999.0,9,     0.0134,1,     4.6996,1,     -999.0,9,     -999.0,9,     -999.0,9,     -999.0,9,     -999.0,9
33RR20220613,       P02E,     143,          2,         14,         14,2,20220625,       0417,    29.9995,  -146.7779,       4999,  1617.3,2,   2.4765,2,  34.5719,2,  34.5706,2,     60.4,2,    60.7,2,  152.07,2,   41.80,2,    0.00,2,    3.11,4,   0.005,2,   0.003,2,   0.0000,2,  -999.0,9,  -999.0,9,-999.0000,9,  -999.00,9, -999.00,9,  -999.0,9, -999.00,9, -999.00,9,       36.4,2, 20220625,      533,  29.9995,-146.7779,     2.4796,2,     -999.0,9,     -999.0,9,     -999.0,9,     -999.0,9,     0.0134,1,     4.7004,1,     -999.0,9,     -999.0,9,     -999.0,9,     -999.0,9,     -999.0,9
33RR20220613,       P02E,     143,          2,         13,         13,2,20220625,       0417,    29.9995,  -146.7779,       4999,  1819.7,2,   2.2173,2,  34.5954,2,  34.5952,2,     70.2,2,    70.0,2,  159.30,2,   41.23,2,    0.00,2,    3.15,4,   0.003,2,   0.003,2,   0.0000,2,  2371.2,2,  2415.2,2,   7.4314,2,    25.02,2, -999.00,9,  -999.0,9, -999.00,9, -999.00,9,       33.3,2, 20220625,      528,  29.9995,-146.7778,     2.2165,2,     -999.0,9,     -999.0,9,     -999.0,9,     -999.0,9,     0.0134,1,     4.7006,1,     -999.0,9,     -999.0,9,     -999.0,9,     -999.0,9,     -999.0,9
33RR20220613,       P02E,     143,          2,         12,         12,2,20220625,       0417,    29.9995,  -146.7779,       4999,  2023.0,2,   2.0095,2,  34.6163,2,  34.6166,2,     80.6,2,    80.7,2,  164.47,2,   40.53,2,    0.00,2,    3.14,4,   0.003,2,   0.000,2,   0.0000,2,  -999.0,9,  -999.0,9,-999.0000,9,  -999.00,9, -999.00,9,  -999.0,9, -999.00,9, -999.00,9,       30.5,2, 20220625,      524,  29.9995,-146.7779,     2.0074,2,     -999.0,9,     -999.0,9,     -999.0,9,     -999.0,9,     0.0134,1,     4.7014,1,     -999.0,9,     -999.0,9,     -999.0,9,     -999.0,9,     -999.0,9
33RR20220613,       P02E,     143,          2,         11,         11,2,20220625,       0417,    29.9995,  -146.7779,       4999,  2277.8,2,   1.8268,2,  34.6337,2,  34.6319,2,     90.0,2,    89.8,2,  169.16,2,   39.96,2,    0.00,2,    3.13,4,   0.003,2,   0.003,2,   0.0000,2,  2369.5,2,  2423.4,2,   7.4699,2,    25.02,2, -999.00,9,  -999.0,9, -999.00,9, -999.00,9,       28.7,2, 20220625,      518,  29.9995,-146.7779,     1.8274,2,     -999.0,9,     -999.0,9,     -999.0,9,     -999.0,9,     0.0134,1,     4.7020,1,     -999.0,9,     -999.0,9,     -999.0,9,     -999.0,9,     -999.0,9
33RR20220613,       P02E,     143,          2,         10,         10,2,20220625,       0417,    29.9995,  -146.7779,       4999,  2532.7,2,   1.6971,2,  34.6475,2,  34.6466,2,    100.5,2,   100.3,2,  170.92,2,   39.24,2,    0.00,2,    3.11,4,   0.003,2,   0.000,2,   0.0000,2,  -999.0,9,  -999.0,9,-999.0000,9,  -999.00,9, -999.00,9,  -999.0,9, -999.00,9, -999.00,9,       26.5,2, 20220625,      512,  29.9995,-146.7778,     1.6970,2,     -999.0,9,     -999.0,9,     -999.0,9,     -999.0,9,     0.0122,1,     4.7027,1,     -999.0,9,     -999.0,9,     -999.0,9,     -999.0,9,     -999.0,9
33RR20220613,       P02E,     143,          2,          9,          9,2,20220625,       0417,    29.9995,  -146.7779,       4999,  2786.9,2,   1.5963,2,  34.6585,2,  34.6578,2,    111.2,2,   111.5,2,  170.63,2,   38.68,2,    0.00,2,    3.07,4,   0.003,2,   0.000,2,   0.0000,2,  2357.5,2,  2427.9,2,   7.5095,2,    24.95,2, -999.00,9,  -999.0,9, -999.00,9, -999.00,9,       25.3,2, 20220625,      507,  29.9995,-146.7778,     1.5968,2,     -999.0,9,     -999.0,9,     -999.0,9,     -999.0,9,     0.0134,1,     4.7030,1,     -999.0,9,     -999.0,9,     -999.0,9,     -999.0,9,     -999.0,9
33RR20220613,       P02E,     143,          2,          8,          8,2,20220625,       0417,    29.9995,  -146.7779,       4999,  3042.1,2,   1.5267,2,  34.6674,2,  34.6673,2,    122.1,2,   122.0,2,  168.18,2,   37.99,2,    0.00,2,    3.01,4,   0.003,2,   0.002,2,   0.0000,2,  -999.0,9,  -999.0,9,-999.0000,9,  -999.00,9, -999.00,9,  -999.0,9, -999.00,9, -999.00,9,       23.8,2, 20220625,      501,  29.9995,-146.7779,     1.5268,2,     -999.0,9,     -999.0,9,     -999.0,9,     -999.0,9,     0.0122,1,     4.7034,1,     -999.0,9,     -999.0,9,     -999.0,9,     -999.0,9,     -999.0,9
33RR20220613,       P02E,     143,          2,          7,          7,2,20220625,       0417,    29.9995,  -146.7779,       4999,  3349.8,2,   1.4817,2,  34.6754,2,  34.6736,2,    132.7,2,   132.6,2,  165.25,2,   37.56,2,    0.00,2,    2.95,4,   0.003,2,   0.004,2,   0.0000,2,  2342.7,2,  2429.4,2,   7.5476,2,    25.03,2, -999.00,9,  -999.0,9, -999.00,9, -999.00,9,       22.4,2, 20220625,      454,  29.9995,-146.7778,     1.4822,2,     -999.0,9,     -999.0,9,     -999.0,9,     -999.0,9,     0.0128,1,     4.7037,1,     -999.0,9,     -999.0,9,     -999.0,9,     -999.0,9,     -999.0,9
33RR20220613,       P02E,     143,          2,          6,          6,2,20220625,       0417,    29.9995,  -146.7779,       4999,  3656.0,2,   1.4647,2,  34.6803,2,  34.6785,2,    139.7,2,   139.8,2,  162.90,2,   36.95,2,    0.00,2,    2.91,4,   0.007,2,   0.006,2,   0.0000,2,  -999.0,9,  -999.0,9,-999.0000,9,  -999.00,9, -999.00,9,  -999.0,9, -999.00,9, -999.00,9,       21.4,2, 20220625,      448,  29.9996,-146.7778,     1.4643,2,     -999.0,9,     -999.0,9,     -999.0,9,     -999.0,9,     0.0122,1,     4.7042,1,     -999.0,9,     -999.0,9,     -999.0,9,     -999.0,9,     -999.0,9
33RR20220613,       P02E,     143,          2,          5,          5,2,20220625,       0417,    29.9995,  -146.7779,       4999,  3963.5,2,   1.4633,2,  34.6840,2,  34.6840,2,    145.6,2,   145.6,2,  159.68,2,   36.51,2,    0.00,2,    2.86,4,-999.000,5,-999.000,5,-999.0000,5,  2331.2,2,  2425.9,2,   7.5706,2,    25.01,2, -999.00,9,  -999.0,9, -999.00,9, -999.00,9,     -999.0,5, 20220625,      442,  29.9995,-146.7779,     1.4632,2,     -999.0,9,     -999.0,9,     -999.0,9,     -999.0,9,     0.0122,1,     4.7042,1,     -999.0,9,     -999.0,9,     -999.0,9,     -999.0,9,     -999.0,9