BOTTLE,20230830CCHSIOCBG
EXPOCODE,SECT_ID,STNNBR,CASTNO,SAMPNO,BTLNBR,BTLNBR_FLAG_W,DATE,TIME,LATITUDE,LONGITUDE,DEPTH,CTDPRS,CTDPRS_FLAG_W,CTDTMP,CTDTMP_FLAG_W,CTDSAL,CTDSAL_FLAG_W,SALNTY,SALNTY_FLAG_W,CTDOXY,CTDOXY_FLAG_W,OXYGEN,OXYGEN_FLAG_W,SILCAT,SILCAT_FLAG_W,NITRAT,NITRAT_FLAG_W,NITRIT,NITRIT_FLAG_W,PHSPHT,PHSPHT_FLAG_W,CFC-11,CFC-11_FLAG_W,CFC-12,CFC-12_FLAG_W,SF6,SF6_FLAG_W,TCARBN,TCARBN_FLAG_W,ALKALI,ALKALI_FLAG_W,PH_TOT,PH_TOT_FLAG_W,PH_TMP,PH_TMP_FLAG_W,DELC13,DELC13_FLAG_W,DELC14,DELC14_FLAG_W,DOC,DOC_FLAG_W,TDN,TDN_FLAG_W,N2O,N2O_FLAG_W,BTL_DATE,BTL_TIME,BTL_LAT,BTL_LON,REFTMP,REFTMP_FLAG_W,POC,POC_FLAG_W,PON,PON_FLAG_W,POP,POP_FLAG_W,PCOD,PCOD_FLAG_W,CTDFLUOR,CTDFLUOR_FLAG_W,CTDXMISS,CTDXMISS_FLAG_W,HPLC,HPLC_FLAG_W,DNA,DNA_FLAG_W,FCM,FCM_FLAG_W,IMAGES,IMAGES_FLAG_W,VIRAL_ABUNDANCE,VIRAL_ABUNDANCE_FLAG_W
,,,,,,,,,,,METERS,DBAR,,ITS-90,,PSS-78,,PSS-78,,UMOL/KG,,UMOL/KG,,UMOL/KG,,UMOL/KG,,UMOL/KG,,UMOL/KG,,PMOL/KG,,PMOL/KG,,FMOL/KG,,UMOL/KG,,UMOL/KG,,,,DEG C,,/MILLE,,/MILLE,,UMOL/KG,,UMOL/KG,,NMOL/KG,,,,,,ITS-90,,UG/L,,UG/L,,UG/L,,UG/L,,VOLTS,,VOLTS,,,,,,,,,,,
33RR20220613,       P02E,     188,          2,         36,         36,2,20220708,       0916,    30.9994,  -121.2217,       3892,     3.2,2,  18.1691,2,  33.2093,2,  33.2135,2,    244.4,2,   242.2,2,    0.29,2,    0.00,2,    0.01,2,    0.32,2,   2.317,2,   1.373,2,   2.2840,2,  2015.1,6,  2221.7,2,   7.8989,2,    25.00,2, -999.00,9,  -999.0,9, -999.00,1, -999.00,1,        8.4,2, 20220708,     1105,  30.9994,-121.2217,    18.1695,2,     -999.0,9,     -999.0,9,     -999.0,9,     -999.0,9,     0.0199,1,     4.6043,1,     -999.0,9,     -999.0,9,     -999.0,9,     -999.0,9,     -999.0,9
33RR20220613,       P02E,     188,          2,         35,         35,2,20220708,       0916,    30.9994,  -121.2217,       3892,    26.1,2,  15.9427,2,  33.1011,2,  33.1072,2,    267.6,2,   265.3,2,    0.39,2,    0.14,2,    0.02,2,    0.38,2,   2.547,2,   1.522,2,   2.4664,2,  2012.0,2,  2214.1,2,   7.8929,2,    25.00,2, -999.00,9,  -999.0,9, -999.00,1, -999.00,1,        9.4,2, 20220708,     1102,  30.9994,-121.2217,    15.9404,2,     -999.0,9,     -999.0,9,     -999.0,9,     -999.0,9,     0.0383,1,     4.5675,1,     -999.0,9,     -999.0,9,     -999.0,9,     -999.0,9,     -999.0,9
33RR20220613,       P02E,     188,          2,         34,         34,2,20220708,       0916,    30.9994,  -121.2217,       3892,    52.6,2,  14.8209,2,  33.1509,2,-999.0000,5,    261.6,2,   260.9,2,    0.59,2,    0.99,2,    0.08,2,    0.45,2,   2.660,2,   1.575,2,   2.5445,2,  2022.8,2,  2213.5,2,   7.8686,2,    25.00,2, -999.00,9,  -999.0,9, -999.00,1, -999.00,1,       10.3,2, 20220708,     1101,  30.9993,-121.2218,    14.8093,2,     -999.0,9,     -999.0,9,     -999.0,9,     -999.0,9,     0.0538,1,     4.6146,1,     -999.0,9,     -999.0,9,     -999.0,9,     -999.0,9,     -999.0,9
33RR20220613,       P02E,     188,          2,         33,         33,2,20220708,       0916,    30.9994,  -121.2217,       3892,    76.1,2,  11.9794,2,  33.0590,2,  33.0564,2,    236.5,2,   235.5,2,    4.11,2,    6.74,2,    0.08,2,    0.79,2,   2.959,2,   1.753,2,   2.6526,2,  2057.8,2,  2204.8,2,   7.7691,2,    25.00,2, -999.00,9,  -999.0,9, -999.00,1, -999.00,1,       12.6,2, 20220708,     1059,  30.9992,-121.2219,    11.9894,2,     -999.0,9,     -999.0,9,     -999.0,9,     -999.0,9,     0.0238,1,     4.6586,1,     -999.0,9,     -999.0,9,     -999.0,9,     -999.0,9,     -999.0,9
33RR20220613,       P02E,     188,          2,         32,         32,2,20220708,       0916,    30.9994,  -121.2217,       3892,   101.7,2,  10.9130,2,  33.2352,2,  33.2422,2,    210.4,2,   209.3,2,    8.80,2,   12.25,2,    0.04,2,    1.10,2,   3.022,2,   1.819,2,   2.4777,2,  2092.3,2,  2212.6,6,   7.6919,2,    25.01,2, -999.00,9,  -999.0,9, -999.00,1, -999.00,1,       15.2,2, 20220708,     1057,  30.9993,-121.2219,    10.9144,2,     -999.0,9,     -999.0,9,     -999.0,9,     -999.0,9,     0.0190,1,     4.6659,1,     -999.0,9,     -999.0,9,     -999.0,9,     -999.0,9,     -999.0,9
33RR20220613,       P02E,     188,          2,         31,         31,2,20220708,       0916,    30.9994,  -121.2217,       3892,   127.1,2,  10.3606,2,  33.5537,2,  33.5671,2,    183.8,2,   182.2,2,   15.65,2,   18.45,2,    0.02,2,    1.45,2,   2.980,2,   1.812,2,   2.1941,2,  2139.6,2,  2230.9,2,   7.6077,2,    25.01,2, -999.00,9,  -999.0,9, -999.00,1, -999.00,1,       19.6,2, 20220708,     1054,  30.9993,-121.2219,    10.3568,2,     -999.0,9,     -999.0,9,     -999.0,9,     -999.0,9,     0.0147,1,     4.6714,1,     -999.0,9,     -999.0,9,     -999.0,9,     -999.0,9,     -999.0,9
33RR20220613,       P02E,     188,          2,         30,         17,2,20220708,       0916,    30.9994,  -121.2217,       3892,   151.8,2,   9.5802,2,  33.8096,2,  33.8159,2,    138.0,3,   143.9,2,   22.78,2,   22.31,2,    0.00,2,    1.64,2,   2.891,2,   1.767,2,   1.8608,2,  2168.5,2,  2243.1,2,   7.5474,2,    25.00,2, -999.00,9,  -999.0,9, -999.00,1, -999.00,1,       24.5,2, 20220708,     1054,  30.9993,-121.2218,     9.5801,2,     -999.0,9,     -999.0,9,     -999.0,9,     -999.0,9,     0.0134,1,     4.6704,1,     -999.0,9,     -999.0,9,     -999.0,9,     -999.0,9,     -999.0,9
33RR20220613,       P02E,     188,          2,         29,         29,2,20220708,       0916,    30.9994,  -121.2217,       3892,   202.4,2,   8.7266,2,  33.9604,2,  33.9657,2,    136.4,3,   134.9,2,   29.62,2,   24.93,2,    0.00,2,    1.77,2,   2.872,2,   1.725,2,   1.4770,2,  2184.6,2,  2256.1,2,   7.5323,2,    25.02,2, -999.00,9,  -999.0,9, -999.00,1, -999.00,1,       28.5,2, 20220708,     1052,  30.9993,-121.2218,     8.7232,2,     -999.0,9,     -999.0,9,     -999.0,9,     -999.0,9,     0.0134,1,     4.6751,1,     -999.0,9,     -999.0,9,     -999.0,9,     -999.0,9,     -999.0,9
33RR20220613,       P02E,     188,          2,         28,         28,2,20220708,       0916,    30.9994,  -121.2217,       3892,   252.7,2,   8.0778,2,  34.0339,2,  34.0372,2,    108.0,3,   106.5,2,   39.59,2,   28.74,2,    0.00,2,    2.06,2,   2.559,2,   1.512,2,   1.0521,2,  2216.3,2,  2267.9,2,   7.4738,2,    25.00,2, -999.00,9,  -999.0,9, -999.00,1, -999.00,1,       33.5,2, 20220708,     1050,  30.9993,-121.2219,     8.0770,2,     -999.0,9,     -999.0,9,     -999.0,9,     -999.0,9,     0.0134,1,     4.6793,1,     -999.0,9,     -999.0,9,     -999.0,9,     -999.0,9,     -999.0,9
33RR20220613,       P02E,     188,          2,         27,         27,2,20220708,       0916,    30.9994,  -121.2217,       3892,   303.2,2,   7.3866,2,  34.0578,2,  34.0613,2,     80.6,3,    79.2,2,   48.49,2,   32.23,2,    0.00,2,    2.31,2,   2.198,2,   1.291,2,   0.7588,2,  2246.6,2,  2276.1,2,   7.4093,2,    25.01,2, -999.00,9,  -999.0,9, -999.00,1, -999.00,1,       37.5,2, 20220708,     1048,  30.9993,-121.2219,     7.3874,2,     -999.0,9,     -999.0,9,     -999.0,9,     -999.0,9,     0.0134,1,     4.6787,1,     -999.0,9,     -999.0,9,     -999.0,9,     -999.0,9,     -999.0,9
33RR20220613,       P02E,     188,          2,         26,         26,2,20220708,       0916,    30.9994,  -121.2217,       3892,   353.6,2,   7.0269,2,  34.1366,2,  34.1287,2,     47.8,3,    49.5,2,   57.28,2,   34.97,2,    0.00,2,    2.64,2,   1.616,2,   0.938,2,   0.5832,2,  2275.0,2,  2287.0,2,   7.3583,2,    25.00,2, -999.00,9,  -999.0,9, -999.00,1, -999.00,1,       42.2,2, 20220708,     1046,  30.9993,-121.2219,     7.0261,2,     -999.0,9,     -999.0,9,     -999.0,9,     -999.0,9,     0.0134,1,     4.6764,1,     -999.0,9,     -999.0,9,     -999.0,9,     -999.0,9,     -999.0,9
33RR20220613,       P02E,     188,          2,         25,         25,2,20220708,       0916,    30.9994,  -121.2217,       3892,   403.6,2,   6.5410,2,  34.1722,2,  34.1654,2,     33.8,3,    35.0,2,   65.29,2,   36.90,2,    0.00,2,    2.79,2,   1.212,2,   0.698,2,   0.4015,2,  2292.4,2,  2296.4,2,   7.3326,2,    25.01,2, -999.00,9,  -999.0,9, -999.00,1, -999.00,1,       46.0,2, 20220708,     1044,  30.9992,-121.2218,     6.5544,2,     -999.0,9,     -999.0,9,     -999.0,9,     -999.0,9,     0.0134,1,     4.6775,1,     -999.0,9,     -999.0,9,     -999.0,9,     -999.0,9,     -999.0,9
33RR20220613,       P02E,     188,          2,         24,         24,2,20220708,       0916,    30.9994,  -121.2217,       3892,   454.2,2,   6.2182,2,  34.2220,2,  34.2189,2,     21.7,3,    22.5,2,   71.64,2,   38.31,2,    0.00,2,    2.91,2,   0.798,2,   0.457,2,   0.2377,2,  2308.7,2,  2307.5,2,   7.3167,2,    25.00,2, -999.00,9,  -999.0,9, -999.00,1, -999.00,1,       50.8,2, 20220708,     1042,  30.9992,-121.2219,     6.2184,2,     -999.0,9,     -999.0,9,     -999.0,9,     -999.0,9,     0.0134,1,     4.6777,1,     -999.0,9,     -999.0,9,     -999.0,9,     -999.0,9,     -999.0,9
33RR20220613,       P02E,     188,          2,         23,         23,2,20220708,       0916,    30.9994,  -121.2217,       3892,   504.7,2,   5.9580,2,  34.2850,2,  34.2911,2,     14.3,3,    14.6,2,   77.41,2,   39.12,2,    0.00,2,    3.01,2,   0.427,2,   0.251,2,   0.1813,2,  2320.3,6,  2316.9,2,   7.3139,2,    24.99,2, -999.00,9,  -999.0,9, -999.00,1, -999.00,1,       54.4,2, 20220708,     1040,  30.9993,-121.2219,     5.9567,2,     -999.0,9,     -999.0,9,     -999.0,9,     -999.0,9,     0.0134,1,     4.6796,1,     -999.0,9,     -999.0,9,     -999.0,9,     -999.0,9,     -999.0,9
33RR20220613,       P02E,     188,          2,         22,         22,2,20220708,       0916,    30.9994,  -121.2217,       3892,   605.8,2,   5.4236,2,  34.3485,2,  34.3480,2,     11.6,2,    11.7,2,   87.57,2,   40.61,2,    0.00,2,    3.10,2,   0.145,2,   0.091,2,   0.1607,2,  2333.5,2,  2331.3,2,   7.3162,2,    25.00,2, -999.00,9,  -999.0,9, -999.00,1, -999.00,1,       57.9,2, 20220708,     1037,  30.9993,-121.2219,     5.4231,2,     -999.0,9,     -999.0,9,     -999.0,9,     -999.0,9,     0.0134,1,     4.6818,1,     -999.0,9,     -999.0,9,     -999.0,9,     -999.0,9,     -999.0,9
33RR20220613,       P02E,     188,          2,         21,         21,2,20220708,       0916,    30.9994,  -121.2217,       3892,   706.5,2,   4.8972,2,  34.3862,2,  34.3896,2,     13.0,2,    13.1,2,   97.44,2,   41.83,2,    0.00,2,    3.12,2,   0.057,2,   0.041,2,   0.1101,2,  2340.8,2,  2344.4,2,   7.3212,2,    25.00,2, -999.00,9,  -999.0,9, -999.00,1, -999.00,1,       57.5,2, 20220708,     1034,  30.9993,-121.2219,     4.8870,2,     -999.0,9,     -999.0,9,     -999.0,9,     -999.0,9,     0.0134,1,     4.6838,1,     -999.0,9,     -999.0,9,     -999.0,9,     -999.0,9,     -999.0,9
33RR20220613,       P02E,     188,          2,         20,         20,2,20220708,       0916,    30.9994,  -121.2217,       3892,   807.8,2,   4.4971,2,  34.4355,2,  34.4398,2,     16.9,3,    16.5,2,  105.93,2,   42.36,2,    0.00,2,    3.14,2,   0.031,2,   0.029,2,   0.1910,2,  2349.1,2,  2356.1,2,   7.3336,2,    25.00,2, -999.00,9,  -999.0,9, -999.00,1, -999.00,1,       56.0,2, 20220708,     1031,  30.9993,-121.2219,     4.4985,2,     -999.0,9,     -999.0,9,     -999.0,9,     -999.0,9,     0.0134,1,     4.6836,1,     -999.0,9,     -999.0,9,     -999.0,9,     -999.0,9,     -999.0,9
33RR20220613,       P02E,     188,          2,         19,         39,2,20220708,       0916,    30.9994,  -121.2217,       3892,   909.0,2,   4.1311,2,  34.4681,2,  34.4652,2,     22.2,3,    22.0,2,  112.58,2,   42.68,2,    0.00,2,    3.12,2,   0.017,2,   0.016,2,   0.1837,2,  2355.2,2,  2366.0,2,   7.3439,2,    25.00,2, -999.00,9,  -999.0,9, -999.00,1, -999.00,1,       54.7,2, 20220708,     1028,  30.9993,-121.2219,     4.1317,2,     -999.0,9,     -999.0,9,     -999.0,9,     -999.0,9,     0.0134,1,     4.6859,1,     -999.0,9,     -999.0,9,     -999.0,9,     -999.0,9,     -999.0,9
33RR20220613,       P02E,     188,          2,         18,         18,2,20220708,       0916,    30.9994,  -121.2217,       3892,  1009.4,2,   3.8802,2,  34.4902,2,  34.4897,2,     26.5,2,    26.4,2,  118.24,2,   42.76,2,    0.00,2,    3.11,2,   0.018,2,   0.017,2,   0.0997,2,  2361.2,2,  2373.5,2,   7.3518,2,    25.00,2, -999.00,9,  -999.0,9, -999.00,1, -999.00,1,       51.2,2, 20220708,     1025,  30.9993,-121.2219,     3.8793,2,     -999.0,9,     -999.0,9,     -999.0,9,     -999.0,9,     0.0134,1,     4.6875,1,     -999.0,9,     -999.0,9,     -999.0,9,     -999.0,9,     -999.0,9
33RR20220613,       P02E,     188,          2,         17,         37,2,20220708,       0916,    30.9994,  -121.2217,       3892,  1111.3,2,   3.6408,2,  34.5062,2,  34.5048,2,     30.2,2,    30.0,2,  124.01,2,   42.74,2,    0.00,2,    3.09,2,   0.021,2,   0.021,2,   0.1404,2,  2366.3,2,  2379.0,2,   7.3588,2,    25.00,2, -999.00,9,  -999.0,9, -999.00,1, -999.00,1,       48.6,2, 20220708,     1023,  30.9992,-121.2219,     3.6382,2,     -999.0,9,     -999.0,9,     -999.0,9,     -999.0,9,     0.0133,1,     4.6884,1,     -999.0,9,     -999.0,9,     -999.0,9,     -999.0,9,     -999.0,9
33RR20220613,       P02E,     188,          2,         16,         16,2,20220708,       0916,    30.9994,  -121.2217,       3892,  1212.3,2,   3.3655,2,  34.5276,3,  34.5329,2,     36.0,2,    35.8,2,  130.65,2,   42.58,2,    0.00,2,    3.06,2,   0.015,2,   0.015,2,   0.0000,2,  2368.6,2,  2387.2,2,   7.3669,2,    25.00,2, -999.00,9,  -999.0,9, -999.00,1, -999.00,1,       46.9,2, 20220708,     1020,  30.9993,-121.2220,     3.3635,2,     -999.0,9,     -999.0,9,     -999.0,9,     -999.0,9,     0.0134,1,     4.6884,1,     -999.0,9,     -999.0,9,     -999.0,9,     -999.0,9,     -999.0,9
33RR20220613,       P02E,     188,          2,         15,         15,2,20220708,       0916,    30.9994,  -121.2217,       3892,  1314.1,2,   3.1670,2,  34.5407,2,  34.5431,2,     40.4,2,    40.1,2,  135.53,2,   42.45,2,    0.00,2,    3.03,2,   0.015,2,   0.016,2,   0.0000,2,  2369.0,2,  2391.6,2,   7.3777,2,    25.00,2, -999.00,9,  -999.0,9, -999.00,1, -999.00,1,       44.9,2, 20220708,     1017,  30.9993,-121.2218,     3.1674,2,     -999.0,9,     -999.0,9,     -999.0,9,     -999.0,9,     0.0134,1,     4.6894,1,     -999.0,9,     -999.0,9,     -999.0,9,     -999.0,9,     -999.0,9
33RR20220613,       P02E,     188,          2,         14,         42,2,20220708,       0916,    30.9994,  -121.2217,       3892,  1415.4,2,   2.9907,2,  34.5523,3,  34.5728,2,     44.7,2,    44.4,2,  140.32,2,   42.31,2,    0.00,2,    3.00,2,-999.000,9,-999.000,9,-999.0000,9,  2373.4,2,  2395.6,2,   7.3851,2,    25.01,2, -999.00,9,  -999.0,9, -999.00,1, -999.00,1,     -999.0,9, 20220708,     1014,  30.9993,-121.2218,     2.9904,2,     -999.0,9,     -999.0,9,     -999.0,9,     -999.0,9,     0.0134,1,     4.6897,1,     -999.0,9,     -999.0,9,     -999.0,9,     -999.0,9,     -999.0,9
33RR20220613,       P02E,     188,          2,         13,         13,2,20220708,       0916,    30.9994,  -121.2217,       3892,  1516.6,2,   2.8328,2,  34.5670,2,  34.5655,2,     49.8,2,    49.5,2,  144.42,2,   41.89,2,    0.00,2,    2.97,2,   0.016,2,   0.016,2,   0.0000,2,  2379.1,2,  2401.5,2,   7.3952,2,    25.00,2, -999.00,9,  -999.0,9, -999.00,1, -999.00,1,       40.5,2, 20220708,     1011,  30.9993,-121.2218,     2.8331,2,     -999.0,9,     -999.0,9,     -999.0,9,     -999.0,9,     0.0134,1,     4.6874,1,     -999.0,9,     -999.0,9,     -999.0,9,     -999.0,9,     -999.0,9
33RR20220613,       P02E,     188,          2,         12,         12,2,20220708,       0916,    30.9994,  -121.2217,       3892,  1618.3,2,   2.6472,2,  34.5798,2,  34.5804,2,     55.8,2,    55.9,2,  149.02,2,   41.54,2,    0.00,2,    2.94,2,-999.000,9,-999.000,9,-999.0000,9,  2376.4,2,  2405.9,2,   7.4082,2,    25.01,2, -999.00,9,  -999.0,9, -999.00,1, -999.00,1,     -999.0,9, 20220708,     1008,  30.9994,-121.2217,     2.6457,2,     -999.0,9,     -999.0,9,     -999.0,9,     -999.0,9,     0.0133,1,     4.6897,1,     -999.0,9,     -999.0,9,     -999.0,9,     -999.0,9,     -999.0,9
33RR20220613,       P02E,     188,          2,         11,         11,2,20220708,       0916,    30.9994,  -121.2217,       3892,  1719.3,2,   2.4729,2,  34.5928,2,  34.5918,2,     62.4,2,    62.0,2,  152.63,2,   41.13,2,    0.00,2,    2.91,2,   0.009,2,   0.013,2,   0.0000,2,  2378.1,2,  2410.5,2,   7.4184,2,    25.00,2, -999.00,9,  -999.0,9, -999.00,1, -999.00,1,       35.5,2, 20220708,     1005,  30.9993,-121.2219,     2.4764,2,     -999.0,9,     -999.0,9,     -999.0,9,     -999.0,9,     0.0134,1,     4.6903,1,     -999.0,9,     -999.0,9,     -999.0,9,     -999.0,9,     -999.0,9
33RR20220613,       P02E,     188,          2,         10,         10,2,20220708,       0916,    30.9994,  -121.2217,       3892,  1820.9,2,   2.3171,2,  34.6054,2,  34.6040,2,     69.7,2,    69.5,2,  155.85,2,   40.67,2,    0.00,2,    2.86,2,   0.011,2,   0.011,2,   0.0000,2,  2377.9,2,  2414.6,2,   7.4332,2,    24.99,2, -999.00,9,  -999.0,9, -999.00,1, -999.00,1,       34.0,2, 20220708,     1001,  30.9993,-121.2219,     2.3183,2,     -999.0,9,     -999.0,9,     -999.0,9,     -999.0,9,     0.0134,1,     4.6912,1,     -999.0,9,     -999.0,9,     -999.0,9,     -999.0,9,     -999.0,9
33RR20220613,       P02E,     188,          2,          9,          9,2,20220708,       0916,    30.9994,  -121.2217,       3892,  2024.7,2,   2.0858,2,  34.6252,2,  34.6240,2,     82.5,2,    82.3,2,  160.15,2,   39.87,2,    0.00,2,    2.80,2,   0.006,2,   0.007,2,   0.0000,2,  2373.2,2,  2420.6,2,   7.4578,2,    25.00,2, -999.00,9,  -999.0,9, -999.00,1, -999.00,1,       31.7,2, 20220708,      958,  30.9993,-121.2219,     2.0857,2,     -999.0,9,     -999.0,9,     -999.0,9,     -999.0,9,     0.0134,1,     4.6922,1,     -999.0,9,     -999.0,9,     -999.0,9,     -999.0,9,     -999.0,9
33RR20220613,       P02E,     188,          2,          8,          8,2,20220708,       0916,    30.9994,  -121.2217,       3892,  2279.3,2,   1.9080,2,  34.6420,3,  34.6447,2,     94.7,2,    94.5,2,  162.69,2,   39.14,2,    0.00,2,    2.74,2,   0.006,2,   0.007,2,   0.0000,2,  2369.0,2,  2425.0,2,   7.4819,2,    25.00,2, -999.00,9,  -999.0,9, -999.00,1, -999.00,1,       28.8,2, 20220708,      952,  30.9993,-121.2219,     1.9082,2,     -999.0,9,     -999.0,9,     -999.0,9,     -999.0,9,     0.0134,1,     4.6921,1,     -999.0,9,     -999.0,9,     -999.0,9,     -999.0,9,     -999.0,9
33RR20220613,       P02E,     188,          2,          7,          7,2,20220708,       0916,    30.9994,  -121.2217,       3892,  2534.0,2,   1.7794,2,  34.6536,2,  34.6531,2,    104.7,2,   104.8,2,  164.05,2,   38.58,2,    0.00,2,    2.69,2,   0.010,2,   0.010,2,   0.0000,2,  2364.2,2,  2427.2,2,   7.5013,2,    25.01,2, -999.00,9,  -999.0,9, -999.00,1, -999.00,1,       26.9,2, 20220708,      947,  30.9993,-121.2219,     1.7798,2,     -999.0,9,     -999.0,9,     -999.0,9,     -999.0,9,     0.0134,1,     4.6935,1,     -999.0,9,     -999.0,9,     -999.0,9,     -999.0,9,     -999.0,9
33RR20220613,       P02E,     188,          2,          6,          6,2,20220708,       0916,    30.9994,  -121.2217,       3892,  2788.1,2,   1.6959,2,  34.6611,2,  34.6594,2,    112.1,2,   112.1,2,  165.32,2,   38.24,2,    0.00,2,    2.65,2,   0.008,2,   0.009,2,   0.0000,2,  2360.0,2,  2430.2,6,   7.5151,2,    25.00,2, -999.00,9,  -999.0,9, -999.00,1, -999.00,1,       26.4,2, 20220708,      940,  30.9993,-121.2219,     1.6960,2,     -999.0,9,     -999.0,9,     -999.0,9,     -999.0,9,     0.0122,1,     4.6945,1,     -999.0,9,     -999.0,9,     -999.0,9,     -999.0,9,     -999.0,9
33RR20220613,       P02E,     188,          2,          5,          5,2,20220708,       0916,    30.9994,  -121.2217,       3892,  3043.4,2,   1.6321,2,  34.6662,2,  34.6677,2,    118.1,2,   117.9,2,  166.79,2,   37.87,2,    0.00,2,    2.61,2,   0.008,2,   0.011,2,   0.0000,2,  2357.0,2,  2430.0,6,   7.5266,2,    25.00,2, -999.00,9,  -999.0,9, -999.00,1, -999.00,1,       25.6,2, 20220708,      936,  30.9993,-121.2219,     1.6320,2,     -999.0,9,     -999.0,9,     -999.0,9,     -999.0,9,     0.0122,1,     4.6957,1,     -999.0,9,     -999.0,9,     -999.0,9,     -999.0,9,     -999.0,9