BOTTLE,20230830CCHSIOCBG
EXPOCODE,SECT_ID,STNNBR,CASTNO,SAMPNO,BTLNBR,BTLNBR_FLAG_W,DATE,TIME,LATITUDE,LONGITUDE,DEPTH,CTDPRS,CTDPRS_FLAG_W,CTDTMP,CTDTMP_FLAG_W,CTDSAL,CTDSAL_FLAG_W,SALNTY,SALNTY_FLAG_W,CTDOXY,CTDOXY_FLAG_W,OXYGEN,OXYGEN_FLAG_W,SILCAT,SILCAT_FLAG_W,NITRAT,NITRAT_FLAG_W,NITRIT,NITRIT_FLAG_W,PHSPHT,PHSPHT_FLAG_W,CFC-11,CFC-11_FLAG_W,CFC-12,CFC-12_FLAG_W,SF6,SF6_FLAG_W,TCARBN,TCARBN_FLAG_W,ALKALI,ALKALI_FLAG_W,PH_TOT,PH_TOT_FLAG_W,PH_TMP,PH_TMP_FLAG_W,DELC13,DELC13_FLAG_W,DELC14,DELC14_FLAG_W,DOC,DOC_FLAG_W,TDN,TDN_FLAG_W,N2O,N2O_FLAG_W,BTL_DATE,BTL_TIME,BTL_LAT,BTL_LON,REFTMP,REFTMP_FLAG_W,POC,POC_FLAG_W,PON,PON_FLAG_W,POP,POP_FLAG_W,PCOD,PCOD_FLAG_W,CTDFLUOR,CTDFLUOR_FLAG_W,CTDXMISS,CTDXMISS_FLAG_W,HPLC,HPLC_FLAG_W,DNA,DNA_FLAG_W,FCM,FCM_FLAG_W,IMAGES,IMAGES_FLAG_W,VIRAL_ABUNDANCE,VIRAL_ABUNDANCE_FLAG_W
,,,,,,,,,,,METERS,DBAR,,ITS-90,,PSS-78,,PSS-78,,UMOL/KG,,UMOL/KG,,UMOL/KG,,UMOL/KG,,UMOL/KG,,UMOL/KG,,PMOL/KG,,PMOL/KG,,FMOL/KG,,UMOL/KG,,UMOL/KG,,,,DEG C,,/MILLE,,/MILLE,,UMOL/KG,,UMOL/KG,,NMOL/KG,,,,,,ITS-90,,UG/L,,UG/L,,UG/L,,UG/L,,VOLTS,,VOLTS,,,,,,,,,,,
33RR20220613,       P02E,     190,          2,          4,          4,2,20220714,       0307,    31.5028,  -120.2878,       3930,  3248.1,2,   1.5932,2,  34.6694,3,  34.6671,2,    121.3,2,   121.7,2,  166.53,2,   37.89,2,    0.00,2,    2.63,2,   0.012,2,   0.012,2,   0.0000,2,  2351.5,2,  2432.2,6,   7.5334,2,    24.99,2, -999.00,9,  -999.0,9, -999.00,1, -999.00,1,       27.0,2, 20220714,      322,  31.5028,-120.2878,     1.5932,2,     -999.0,9,     -999.0,9,     -999.0,9,     -999.0,9,     0.0125,1,     4.6787,1,     -999.0,9,     -999.0,9,     -999.0,9,     -999.0,9,     -999.0,9
33RR20220613,       P02E,     190,          2,          3,          3,2,20220714,       0307,    31.5028,  -120.2878,       3930,  3555.1,2,   1.5590,2,  34.6737,3,  34.6704,2,    125.7,2,   125.8,2,  167.50,2,   37.63,2,    0.00,2,    2.60,2,   0.016,2,   0.016,2,   0.0000,2,  2352.0,2,  2433.7,2,   7.5422,2,    24.98,2, -999.00,9,  -999.0,9, -999.00,1, -999.00,1,       27.6,2, 20220714,      316,  31.5028,-120.2878,     1.5591,2,     -999.0,9,     -999.0,9,     -999.0,9,     -999.0,9,     0.0129,1,     4.6789,1,     -999.0,9,     -999.0,9,     -999.0,9,     -999.0,9,     -999.0,9
33RR20220613,       P02E,     190,          2,          2,          2,2,20220714,       0307,    31.5028,  -120.2878,       3930,  3837.0,2,   1.5494,2,  34.6764,2,  34.6763,2,    128.8,2,   128.8,2,  167.99,2,   37.40,2,    0.00,2,    2.60,2,   0.019,2,   0.016,2,   0.0466,2,  2349.9,2,  2433.5,2,   7.5482,2,    25.00,2, -999.00,9,  -999.0,9, -999.00,1, -999.00,1,       28.6,2, 20220714,      310,  31.5028,-120.2878,     1.5492,2,     -999.0,9,     -999.0,9,     -999.0,9,     -999.0,9,     0.0125,1,     4.6773,1,     -999.0,9,     -999.0,9,     -999.0,9,     -999.0,9,     -999.0,9
33RR20220613,       P02E,     190,          2,          1,          1,2,20220714,       0307,    31.5028,  -120.2878,       3930,  3984.2,2,   1.5528,2,  34.6774,2,  34.6767,2,    129.4,2,   129.4,2,  168.19,2,   37.41,2,    0.01,2,    2.60,2,   0.017,2,   0.015,2,   0.0407,2,  2352.3,6,  2435.7,2,   7.5498,2,    24.99,2, -999.00,9,  -999.0,9, -999.00,1, -999.00,1,       28.1,2, 20220714,      307,  31.5028,-120.2878,     1.5528,2,     -999.0,9,     -999.0,9,     -999.0,9,     -999.0,9,     0.0122,1,     4.6629,1,     -999.0,9,     -999.0,9,     -999.0,9,     -999.0,9,     -999.0,9