BOTTLE,20230830CCHSIOCBG
EXPOCODE,SECT_ID,STNNBR,CASTNO,SAMPNO,BTLNBR,BTLNBR_FLAG_W,DATE,TIME,LATITUDE,LONGITUDE,DEPTH,CTDPRS,CTDPRS_FLAG_W,CTDTMP,CTDTMP_FLAG_W,CTDSAL,CTDSAL_FLAG_W,SALNTY,SALNTY_FLAG_W,CTDOXY,CTDOXY_FLAG_W,OXYGEN,OXYGEN_FLAG_W,SILCAT,SILCAT_FLAG_W,NITRAT,NITRAT_FLAG_W,NITRIT,NITRIT_FLAG_W,PHSPHT,PHSPHT_FLAG_W,CFC-11,CFC-11_FLAG_W,CFC-12,CFC-12_FLAG_W,SF6,SF6_FLAG_W,TCARBN,TCARBN_FLAG_W,ALKALI,ALKALI_FLAG_W,PH_TOT,PH_TOT_FLAG_W,PH_TMP,PH_TMP_FLAG_W,DELC13,DELC13_FLAG_W,DELC14,DELC14_FLAG_W,DOC,DOC_FLAG_W,TDN,TDN_FLAG_W,N2O,N2O_FLAG_W,BTL_DATE,BTL_TIME,BTL_LAT,BTL_LON,REFTMP,REFTMP_FLAG_W,POC,POC_FLAG_W,PON,PON_FLAG_W,POP,POP_FLAG_W,PCOD,PCOD_FLAG_W,CTDFLUOR,CTDFLUOR_FLAG_W,CTDXMISS,CTDXMISS_FLAG_W,HPLC,HPLC_FLAG_W,DNA,DNA_FLAG_W,FCM,FCM_FLAG_W,IMAGES,IMAGES_FLAG_W,VIRAL_ABUNDANCE,VIRAL_ABUNDANCE_FLAG_W
,,,,,,,,,,,METERS,DBAR,,ITS-90,,PSS-78,,PSS-78,,UMOL/KG,,UMOL/KG,,UMOL/KG,,UMOL/KG,,UMOL/KG,,UMOL/KG,,PMOL/KG,,PMOL/KG,,FMOL/KG,,UMOL/KG,,UMOL/KG,,,,DEG C,,/MILLE,,/MILLE,,UMOL/KG,,UMOL/KG,,NMOL/KG,,,,,,ITS-90,,UG/L,,UG/L,,UG/L,,UG/L,,VOLTS,,VOLTS,,,,,,,,,,,
33RR20220613,       P02E,     140,          2,          4,          4,2,20220624,       0649,    30.0001,  -148.5105,       4419,  3861.4,2,   1.4573,2,  34.6830,2,  34.6832,2,    144.6,2,   144.7,2,  160.56,2,   36.53,2,    0.00,2,    2.77,4,   0.005,2,   0.004,2,   0.0000,2,  2331.5,2,  2424.4,6,   7.5683,2,    25.04,2, -999.00,9,  -999.0,9, -999.00,1, -999.00,1,       21.4,2, 20220624,      705,  30.0000,-148.5105,     1.4573,2,     -999.0,9,     -999.0,9,     -999.0,9,     -999.0,9,     0.0122,1,     4.7057,1,     -999.0,9,     -999.0,9,     -999.0,9,     -999.0,9,     -999.0,9
33RR20220613,       P02E,     140,          2,          3,          3,2,20220624,       0649,    30.0001,  -148.5105,       4419,  4118.7,2,   1.4655,2,  34.6852,2,  34.6851,2,    148.6,2,   148.7,2,  157.92,2,   36.29,2,    0.00,2,    2.75,4,   0.005,2,   0.005,2,   0.0000,2,  2328.8,2,  2426.0,6,   7.5748,2,    25.03,2, -999.00,9,  -999.0,9, -999.00,1, -999.00,1,       21.4,2, 20220624,      659,  30.0000,-148.5106,     1.4654,2,     -999.0,9,     -999.0,9,     -999.0,9,     -999.0,9,     0.0122,1,     4.7056,1,     -999.0,9,     -999.0,9,     -999.0,9,     -999.0,9,     -999.0,9
33RR20220613,       P02E,     140,          2,          2,          2,2,20220624,       0649,    30.0001,  -148.5105,       4419,  4323.7,2,   1.4741,2,  34.6866,2,  34.6861,2,    151.3,2,   151.5,2,  155.28,2,   36.08,2,    0.00,2,    2.73,4,   0.006,2,   0.004,2,   0.0000,2,  2326.6,2,  2424.3,2,   7.5776,2,    25.04,2, -999.00,9,  -999.0,9, -999.00,1, -999.00,1,       21.3,2, 20220624,      654,  30.0000,-148.5105,     1.4741,2,     -999.0,9,     -999.0,9,     -999.0,9,     -999.0,9,     0.0125,1,     4.7057,1,     -999.0,9,     -999.0,9,     -999.0,9,     -999.0,9,     -999.0,9
33RR20220613,       P02E,     140,          2,          1,          1,2,20220624,       0649,    30.0001,  -148.5105,       4419,  4487.0,2,   1.4828,2,  34.6874,2,  34.6883,2,    153.3,2,   153.5,2,  153.32,2,   35.81,2,    0.00,2,    2.70,4,   0.009,2,   0.005,2,   0.0000,2,  2326.1,6,  2422.2,2,   7.5810,2,    25.04,2, -999.00,9,  -999.0,9, -999.00,1, -999.00,1,       21.1,2, 20220624,      649,  30.0001,-148.5105,     1.4827,2,     -999.0,9,     -999.0,9,     -999.0,9,     -999.0,9,     0.0128,1,     4.7057,1,     -999.0,9,     -999.0,9,     -999.0,9,     -999.0,9,     -999.0,9