BOTTLE,20230830CCHSIOCBG
EXPOCODE,SECT_ID,STNNBR,CASTNO,SAMPNO,BTLNBR,BTLNBR_FLAG_W,DATE,TIME,LATITUDE,LONGITUDE,DEPTH,CTDPRS,CTDPRS_FLAG_W,CTDTMP,CTDTMP_FLAG_W,CTDSAL,CTDSAL_FLAG_W,SALNTY,SALNTY_FLAG_W,CTDOXY,CTDOXY_FLAG_W,OXYGEN,OXYGEN_FLAG_W,SILCAT,SILCAT_FLAG_W,NITRAT,NITRAT_FLAG_W,NITRIT,NITRIT_FLAG_W,PHSPHT,PHSPHT_FLAG_W,CFC-11,CFC-11_FLAG_W,CFC-12,CFC-12_FLAG_W,SF6,SF6_FLAG_W,TCARBN,TCARBN_FLAG_W,ALKALI,ALKALI_FLAG_W,PH_TOT,PH_TOT_FLAG_W,PH_TMP,PH_TMP_FLAG_W,DELC13,DELC13_FLAG_W,DELC14,DELC14_FLAG_W,DOC,DOC_FLAG_W,TDN,TDN_FLAG_W,N2O,N2O_FLAG_W,BTL_DATE,BTL_TIME,BTL_LAT,BTL_LON,REFTMP,REFTMP_FLAG_W,POC,POC_FLAG_W,PON,PON_FLAG_W,POP,POP_FLAG_W,PCOD,PCOD_FLAG_W,CTDFLUOR,CTDFLUOR_FLAG_W,CTDXMISS,CTDXMISS_FLAG_W,HPLC,HPLC_FLAG_W,DNA,DNA_FLAG_W,FCM,FCM_FLAG_W,IMAGES,IMAGES_FLAG_W,VIRAL_ABUNDANCE,VIRAL_ABUNDANCE_FLAG_W
,,,,,,,,,,,METERS,DBAR,,ITS-90,,PSS-78,,PSS-78,,UMOL/KG,,UMOL/KG,,UMOL/KG,,UMOL/KG,,UMOL/KG,,UMOL/KG,,PMOL/KG,,PMOL/KG,,FMOL/KG,,UMOL/KG,,UMOL/KG,,,,DEG C,,/MILLE,,/MILLE,,UMOL/KG,,UMOL/KG,,NMOL/KG,,,,,,ITS-90,,UG/L,,UG/L,,UG/L,,UG/L,,VOLTS,,VOLTS,,,,,,,,,,,
33RR20220613,       P02E,     170,          2,          4,          4,2,20220703,       0337,    30.0002,  -131.1893,       5225,  4554.3,2,   1.5478,2,  34.6839,2,  34.6824,2,    142.8,2,   142.7,2,  162.58,2,   36.67,2,    0.00,2,    2.53,2,   0.006,2,   0.009,2,   0.0000,2,  2338.1,2,  2430.3,6,   7.5680,2,    25.03,2, -999.00,9,  -999.0,9, -999.00,1, -999.00,1,       22.4,2, 20220703,      354,  30.0002,-131.1894,     1.5478,2,     -999.0,9,     -999.0,9,     -999.0,9,     -999.0,9,     0.0122,1,     4.7007,1,     -999.0,9,     -999.0,9,     -999.0,9,     -999.0,9,     -999.0,9
33RR20220613,       P02E,     170,          2,          3,          3,2,20220703,       0337,    30.0002,  -131.1893,       5225,  4836.8,2,   1.5817,2,  34.6839,2,  34.6842,2,    142.9,2,   142.9,2,  163.17,2,   36.67,2,    0.00,2,    2.53,2,   0.005,2,   0.009,2,   0.0000,2,  -999.0,9,  -999.0,9,-999.0000,9,  -999.00,9, -999.00,9,  -999.0,9, -999.00,1, -999.00,1,       22.4,2, 20220703,      348,  30.0002,-131.1893,     1.5817,2,     -999.0,9,     -999.0,9,     -999.0,9,     -999.0,9,     0.0130,1,     4.7005,1,     -999.0,9,     -999.0,9,     -999.0,9,     -999.0,9,     -999.0,9
33RR20220613,       P02E,     170,          2,          2,          2,2,20220703,       0337,    30.0002,  -131.1893,       5225,  5120.3,2,   1.6177,2,  34.6839,2,  34.6844,2,    142.9,2,   142.9,2,  163.07,2,   36.70,2,    0.00,2,    2.53,2,   0.005,2,   0.007,2,   0.0000,2,  2338.5,2,  2429.4,2,   7.5689,2,    25.02,2, -999.00,9,  -999.0,9, -999.00,1, -999.00,1,       22.6,2, 20220703,      342,  30.0002,-131.1894,     1.6179,2,     -999.0,9,     -999.0,9,     -999.0,9,     -999.0,9,     0.0129,1,     4.6996,1,     -999.0,9,     -999.0,9,     -999.0,9,     -999.0,9,     -999.0,9
33RR20220613,       P02E,     170,          2,          1,          1,2,20220703,       0337,    30.0002,  -131.1893,       5225,  5316.4,2,   1.6433,2,  34.6838,2,  34.6846,2,    143.0,2,   142.9,2,  163.26,2,   36.91,2,    0.00,2,    2.52,2,   0.008,6,   0.009,6,   0.0000,6,  2341.2,6,  2430.5,2,   7.5689,2,    25.02,2, -999.00,9,  -999.0,9, -999.00,1, -999.00,1,       22.9,6, 20220703,      337,  30.0002,-131.1893,     1.6434,2,     -999.0,9,     -999.0,9,     -999.0,9,     -999.0,9,     0.0130,1,     4.6995,1,     -999.0,9,     -999.0,9,     -999.0,9,     -999.0,9,     -999.0,9