BOTTLE,20230830CCHSIOCBG
EXPOCODE,SECT_ID,STNNBR,CASTNO,SAMPNO,BTLNBR,BTLNBR_FLAG_W,DATE,TIME,LATITUDE,LONGITUDE,DEPTH,CTDPRS,CTDPRS_FLAG_W,CTDTMP,CTDTMP_FLAG_W,CTDSAL,CTDSAL_FLAG_W,SALNTY,SALNTY_FLAG_W,CTDOXY,CTDOXY_FLAG_W,OXYGEN,OXYGEN_FLAG_W,SILCAT,SILCAT_FLAG_W,NITRAT,NITRAT_FLAG_W,NITRIT,NITRIT_FLAG_W,PHSPHT,PHSPHT_FLAG_W,CFC-11,CFC-11_FLAG_W,CFC-12,CFC-12_FLAG_W,SF6,SF6_FLAG_W,TCARBN,TCARBN_FLAG_W,ALKALI,ALKALI_FLAG_W,PH_TOT,PH_TOT_FLAG_W,PH_TMP,PH_TMP_FLAG_W,DELC13,DELC13_FLAG_W,DELC14,DELC14_FLAG_W,DOC,DOC_FLAG_W,TDN,TDN_FLAG_W,N2O,N2O_FLAG_W,BTL_DATE,BTL_TIME,BTL_LAT,BTL_LON,REFTMP,REFTMP_FLAG_W,POC,POC_FLAG_W,PON,PON_FLAG_W,POP,POP_FLAG_W,PCOD,PCOD_FLAG_W,CTDFLUOR,CTDFLUOR_FLAG_W,CTDXMISS,CTDXMISS_FLAG_W,HPLC,HPLC_FLAG_W,DNA,DNA_FLAG_W,FCM,FCM_FLAG_W,IMAGES,IMAGES_FLAG_W,VIRAL_ABUNDANCE,VIRAL_ABUNDANCE_FLAG_W
,,,,,,,,,,,METERS,DBAR,,ITS-90,,PSS-78,,PSS-78,,UMOL/KG,,UMOL/KG,,UMOL/KG,,UMOL/KG,,UMOL/KG,,UMOL/KG,,PMOL/KG,,PMOL/KG,,FMOL/KG,,UMOL/KG,,UMOL/KG,,,,DEG C,,/MILLE,,/MILLE,,UMOL/KG,,UMOL/KG,,NMOL/KG,,,,,,ITS-90,,UG/L,,UG/L,,UG/L,,UG/L,,VOLTS,,VOLTS,,,,,,,,,,,
33RR20220613,       P02E,     191,          2,          4,          4,2,20220709,       0932,    31.7500,  -119.8147,       3688,  3299.2,2,   1.6089,2,  34.6684,2,  34.6680,2,    120.8,2,   120.8,2,  166.49,2,   37.90,2,    0.00,2,    2.66,2,   0.014,6,   0.019,6,   0.0000,6,  2354.0,2,  2433.3,2,   7.5318,2,    25.03,2, -999.00,9,  -999.0,9, -999.00,9, -999.00,9,       25.4,6, 20220709,      943,  31.7500,-119.8147,     1.6090,2,     -999.0,9,     -999.0,9,     -999.0,9,     -999.0,9,     0.0125,1,     4.6923,1,     -999.0,9,     -999.0,9,     -999.0,9,     -999.0,9,     -999.0,9
33RR20220613,       P02E,     191,          2,          3,          3,2,20220709,       0932,    31.7500,  -119.8147,       3688,  3426.9,2,   1.6013,2,  34.6698,2,  34.6694,2,    122.1,2,   122.1,2,  166.98,2,   37.90,2,    0.00,2,    2.65,2,   0.013,2,   0.017,2,   0.0000,2,  2351.3,2,  2432.5,6,   7.5335,2,    25.02,2, -999.00,9,  -999.0,9, -999.00,9, -999.00,9,       25.1,2, 20220709,      940,  31.7500,-119.8148,     1.6012,2,     -999.0,9,     -999.0,9,     -999.0,9,     -999.0,9,     0.0122,1,     4.6910,1,     -999.0,9,     -999.0,9,     -999.0,9,     -999.0,9,     -999.0,9
33RR20220613,       P02E,     191,          2,          2,          2,2,20220709,       0932,    31.7500,  -119.8147,       3688,  3605.4,2,   1.5886,2,  34.6718,2,  34.6718,2,    124.0,2,   124.2,2,  168.25,2,   37.79,2,    0.00,2,    2.64,2,   0.018,2,   0.028,2,   0.0000,2,  2351.8,2,  2434.8,2,   7.5385,2,    25.01,2, -999.00,9,  -999.0,9, -999.00,9, -999.00,9,       25.0,2, 20220709,      936,  31.7500,-119.8148,     1.5890,2,     -999.0,9,     -999.0,9,     -999.0,9,     -999.0,9,     0.0134,1,     4.6901,1,     -999.0,9,     -999.0,9,     -999.0,9,     -999.0,9,     -999.0,9
33RR20220613,       P02E,     191,          2,          1,          1,2,20220709,       0932,    31.7500,  -119.8147,       3688,  3734.6,2,   1.5685,2,  34.6740,2,  34.6747,2,    125.9,2,   126.0,2,  169.03,2,   37.67,2,    0.00,2,    2.62,2,   0.020,2,   0.036,2,   0.0000,2,  2354.3,6,  2435.6,6,   7.5432,2,    25.02,2, -999.00,9,  -999.0,9, -999.00,9, -999.00,9,       25.1,2, 20220709,      932,  31.7500,-119.8148,     1.5688,2,     -999.0,9,     -999.0,9,     -999.0,9,     -999.0,9,     0.0133,1,     4.6704,1,     -999.0,9,     -999.0,9,     -999.0,9,     -999.0,9,     -999.0,9