BOTTLE,20230830CCHSIOCBG
EXPOCODE,SECT_ID,STNNBR,CASTNO,SAMPNO,BTLNBR,BTLNBR_FLAG_W,DATE,TIME,LATITUDE,LONGITUDE,DEPTH,CTDPRS,CTDPRS_FLAG_W,CTDTMP,CTDTMP_FLAG_W,CTDSAL,CTDSAL_FLAG_W,SALNTY,SALNTY_FLAG_W,CTDOXY,CTDOXY_FLAG_W,OXYGEN,OXYGEN_FLAG_W,SILCAT,SILCAT_FLAG_W,NITRAT,NITRAT_FLAG_W,NITRIT,NITRIT_FLAG_W,PHSPHT,PHSPHT_FLAG_W,CFC-11,CFC-11_FLAG_W,CFC-12,CFC-12_FLAG_W,SF6,SF6_FLAG_W,TCARBN,TCARBN_FLAG_W,ALKALI,ALKALI_FLAG_W,PH_TOT,PH_TOT_FLAG_W,PH_TMP,PH_TMP_FLAG_W,DELC13,DELC13_FLAG_W,DELC14,DELC14_FLAG_W,DOC,DOC_FLAG_W,TDN,TDN_FLAG_W,N2O,N2O_FLAG_W,BTL_DATE,BTL_TIME,BTL_LAT,BTL_LON,REFTMP,REFTMP_FLAG_W,POC,POC_FLAG_W,PON,PON_FLAG_W,POP,POP_FLAG_W,PCOD,PCOD_FLAG_W,CTDFLUOR,CTDFLUOR_FLAG_W,CTDXMISS,CTDXMISS_FLAG_W,HPLC,HPLC_FLAG_W,DNA,DNA_FLAG_W,FCM,FCM_FLAG_W,IMAGES,IMAGES_FLAG_W,VIRAL_ABUNDANCE,VIRAL_ABUNDANCE_FLAG_W
,,,,,,,,,,,METERS,DBAR,,ITS-90,,PSS-78,,PSS-78,,UMOL/KG,,UMOL/KG,,UMOL/KG,,UMOL/KG,,UMOL/KG,,UMOL/KG,,PMOL/KG,,PMOL/KG,,FMOL/KG,,UMOL/KG,,UMOL/KG,,,,DEG C,,/MILLE,,/MILLE,,UMOL/KG,,UMOL/KG,,NMOL/KG,,,,,,ITS-90,,UG/L,,UG/L,,UG/L,,UG/L,,VOLTS,,VOLTS,,,,,,,,,,,
33RR20220613,       P02E,     122,          2,          4,          4,2,20220618,       0525,    30.0015,  -158.9032,       5807,  4939.3,2,   1.5239,2,  34.6886,2,  34.6877,2,    155.2,2,   155.5,2,  149.78,2,   35.28,2,    0.00,2,    2.78,4,   0.007,2,   0.007,2,   0.0000,2,  2320.9,2,  2417.6,2,   7.5833,2,    25.03,2, -999.00,9,  -999.0,9, -999.00,1, -999.00,1,       23.7,2, 20220618,      559,  30.0015,-158.9032,     1.5240,2,     -999.0,9,     -999.0,9,     -999.0,9,     -999.0,9,     0.0122,1,     4.7040,1,     -999.0,9,     -999.0,9,     -999.0,9,     -999.0,9,     -999.0,9
33RR20220613,       P02E,     122,          2,          3,          3,2,20220618,       0525,    30.0015,  -158.9032,       5807,  5265.1,2,   1.5562,2,  34.6895,2,  34.6879,2,    157.1,2,   157.0,2,  147.73,2,   35.29,2,    0.00,2,    2.76,4,   0.006,2,   0.005,2,   0.0000,2,  2319.0,2,  2416.7,6,   7.5851,2,    25.01,2, -999.00,9,  -999.0,9, -999.00,1, -999.00,1,       23.7,2, 20220618,      550,  30.0015,-158.9032,     1.5563,2,     -999.0,9,     -999.0,9,     -999.0,9,     -999.0,9,     0.0122,1,     4.7040,1,     -999.0,9,     -999.0,9,     -999.0,9,     -999.0,9,     -999.0,9
33RR20220613,       P02E,     122,          2,          2,          2,2,20220618,       0525,    30.0015,  -158.9032,       5807,  5590.1,2,   1.5949,2,  34.6898,2,  34.6893,2,    158.0,2,   158.2,2,  147.14,2,   35.33,2,    0.00,2,    2.75,4,   0.004,2,   0.004,2,   0.0000,2,  -999.0,9,  -999.0,9,-999.0000,9,  -999.00,9, -999.00,9,  -999.0,9, -999.00,1, -999.00,1,       24.1,2, 20220618,      538,  30.0015,-158.9032,     1.5952,2,     -999.0,9,     -999.0,9,     -999.0,9,     -999.0,9,     0.0122,1,     4.7030,1,     -999.0,9,     -999.0,9,     -999.0,9,     -999.0,9,     -999.0,9
33RR20220613,       P02E,     122,          2,          1,          1,2,20220618,       0525,    30.0015,  -158.9032,       5807,  5916.7,2,   1.6379,2,  34.6900,2,  34.6910,2,    158.5,2,   158.5,2,  146.66,2,   35.27,2,    0.00,2,    2.74,4,   0.006,6,   0.005,6,   0.0000,6,  2319.8,6,  2414.7,2,   7.5849,2,    25.00,2, -999.00,9,  -999.0,9, -999.00,1, -999.00,1,       23.9,6, 20220618,      525,  30.0015,-158.9032,     1.6381,2,     -999.0,9,     -999.0,9,     -999.0,9,     -999.0,9,     0.0128,1,     4.7023,1,     -999.0,9,     -999.0,9,     -999.0,9,     -999.0,9,     -999.0,9