BOTTLE,20230830CCHSIOCBG
EXPOCODE,SECT_ID,STNNBR,CASTNO,SAMPNO,BTLNBR,BTLNBR_FLAG_W,DATE,TIME,LATITUDE,LONGITUDE,DEPTH,CTDPRS,CTDPRS_FLAG_W,CTDTMP,CTDTMP_FLAG_W,CTDSAL,CTDSAL_FLAG_W,SALNTY,SALNTY_FLAG_W,CTDOXY,CTDOXY_FLAG_W,OXYGEN,OXYGEN_FLAG_W,SILCAT,SILCAT_FLAG_W,NITRAT,NITRAT_FLAG_W,NITRIT,NITRIT_FLAG_W,PHSPHT,PHSPHT_FLAG_W,CFC-11,CFC-11_FLAG_W,CFC-12,CFC-12_FLAG_W,SF6,SF6_FLAG_W,TCARBN,TCARBN_FLAG_W,ALKALI,ALKALI_FLAG_W,PH_TOT,PH_TOT_FLAG_W,PH_TMP,PH_TMP_FLAG_W,DELC13,DELC13_FLAG_W,DELC14,DELC14_FLAG_W,DOC,DOC_FLAG_W,TDN,TDN_FLAG_W,N2O,N2O_FLAG_W,BTL_DATE,BTL_TIME,BTL_LAT,BTL_LON,REFTMP,REFTMP_FLAG_W,POC,POC_FLAG_W,PON,PON_FLAG_W,POP,POP_FLAG_W,PCOD,PCOD_FLAG_W,CTDFLUOR,CTDFLUOR_FLAG_W,CTDXMISS,CTDXMISS_FLAG_W,HPLC,HPLC_FLAG_W,DNA,DNA_FLAG_W,FCM,FCM_FLAG_W,IMAGES,IMAGES_FLAG_W,VIRAL_ABUNDANCE,VIRAL_ABUNDANCE_FLAG_W
,,,,,,,,,,,METERS,DBAR,,ITS-90,,PSS-78,,PSS-78,,UMOL/KG,,UMOL/KG,,UMOL/KG,,UMOL/KG,,UMOL/KG,,UMOL/KG,,PMOL/KG,,PMOL/KG,,FMOL/KG,,UMOL/KG,,UMOL/KG,,,,DEG C,,/MILLE,,/MILLE,,UMOL/KG,,UMOL/KG,,NMOL/KG,,,,,,ITS-90,,UG/L,,UG/L,,UG/L,,UG/L,,VOLTS,,VOLTS,,,,,,,,,,,
33RR20220613,       P02E,     161,          2,          4,          4,2,20220630,       1218,    29.9999,  -136.3865,       4476,  3656.2,2,   1.4843,2,  34.6808,2,  34.6806,2,    137.6,2,   137.5,2,  163.08,2,   37.27,2,    0.00,2,    2.56,2,   0.008,2,   0.008,2,   0.0000,2,  -999.0,9,  -999.0,9,-999.0000,9,  -999.00,9, -999.00,9,  -999.0,9, -999.00,9, -999.00,9,       23.0,2, 20220630,     1236,  29.9999,-136.3865,     1.4845,2,     -999.0,9,     -999.0,9,     -999.0,9,     -999.0,9,     0.0128,1,     4.6960,1,     -999.0,9,     -999.0,9,     -999.0,9,     -999.0,9,     -999.0,9
33RR20220613,       P02E,     161,          2,          3,          3,2,20220630,       1218,    29.9999,  -136.3865,       4476,  3964.7,2,   1.4966,2,  34.6831,3,  34.6804,2,    140.5,2,   140.6,2,  162.20,2,   37.10,2,    0.00,2,    2.54,2,   0.006,2,   0.007,2,   0.0000,2,  2338.5,2,  2428.4,2,   7.5631,2,    25.01,2, -999.00,9,  -999.0,9, -999.00,9, -999.00,9,       22.3,2, 20220630,     1229,  29.9999,-136.3865,     1.4966,2,     -999.0,9,     -999.0,9,     -999.0,9,     -999.0,9,     0.0123,1,     4.6959,1,     -999.0,9,     -999.0,9,     -999.0,9,     -999.0,9,     -999.0,9
33RR20220613,       P02E,     161,          2,          2,          2,2,20220630,       1218,    29.9999,  -136.3865,       4476,  4270.6,2,   1.5215,2,  34.6843,3,  34.6822,2,    141.7,2,   142.0,2,  162.50,2,   36.96,2,    0.00,2,    2.52,2,   0.006,2,   0.007,2,   0.0000,2,  2338.6,2,  2428.7,6,   7.5654,2,    25.01,2, -999.00,9,  -999.0,9, -999.00,9, -999.00,9,       23.4,2, 20220630,     1223,  29.9999,-136.3865,     1.5214,2,     -999.0,9,     -999.0,9,     -999.0,9,     -999.0,9,     0.0122,1,     4.6961,1,     -999.0,9,     -999.0,9,     -999.0,9,     -999.0,9,     -999.0,9
33RR20220613,       P02E,     161,          2,          1,          1,2,20220630,       1218,    29.9999,  -136.3865,       4476,  4544.1,2,   1.5434,2,  34.6857,2,  34.6840,2,    143.7,2,   143.5,2,  162.30,2,   36.81,2,    0.00,2,    2.51,2,   0.008,2,   0.009,2,   0.0000,2,  2337.0,6,  2427.2,2,   7.5696,2,    25.01,2, -999.00,9,  -999.0,9, -999.00,9, -999.00,9,       22.0,2, 20220630,     1218,  29.9999,-136.3865,     1.5436,2,     -999.0,9,     -999.0,9,     -999.0,9,     -999.0,9,     0.0122,1,     4.6958,1,     -999.0,9,     -999.0,9,     -999.0,9,     -999.0,9,     -999.0,9