BOTTLE,20230830CCHSIOCBG
EXPOCODE,SECT_ID,STNNBR,CASTNO,SAMPNO,BTLNBR,BTLNBR_FLAG_W,DATE,TIME,LATITUDE,LONGITUDE,DEPTH,CTDPRS,CTDPRS_FLAG_W,CTDTMP,CTDTMP_FLAG_W,CTDSAL,CTDSAL_FLAG_W,SALNTY,SALNTY_FLAG_W,CTDOXY,CTDOXY_FLAG_W,OXYGEN,OXYGEN_FLAG_W,SILCAT,SILCAT_FLAG_W,NITRAT,NITRAT_FLAG_W,NITRIT,NITRIT_FLAG_W,PHSPHT,PHSPHT_FLAG_W,CFC-11,CFC-11_FLAG_W,CFC-12,CFC-12_FLAG_W,SF6,SF6_FLAG_W,TCARBN,TCARBN_FLAG_W,ALKALI,ALKALI_FLAG_W,PH_TOT,PH_TOT_FLAG_W,PH_TMP,PH_TMP_FLAG_W,DELC13,DELC13_FLAG_W,DELC14,DELC14_FLAG_W,DOC,DOC_FLAG_W,TDN,TDN_FLAG_W,N2O,N2O_FLAG_W,BTL_DATE,BTL_TIME,BTL_LAT,BTL_LON,REFTMP,REFTMP_FLAG_W,POC,POC_FLAG_W,PON,PON_FLAG_W,POP,POP_FLAG_W,PCOD,PCOD_FLAG_W,CTDFLUOR,CTDFLUOR_FLAG_W,CTDXMISS,CTDXMISS_FLAG_W,HPLC,HPLC_FLAG_W,DNA,DNA_FLAG_W,FCM,FCM_FLAG_W,IMAGES,IMAGES_FLAG_W,VIRAL_ABUNDANCE,VIRAL_ABUNDANCE_FLAG_W
,,,,,,,,,,,METERS,DBAR,,ITS-90,,PSS-78,,PSS-78,,UMOL/KG,,UMOL/KG,,UMOL/KG,,UMOL/KG,,UMOL/KG,,UMOL/KG,,PMOL/KG,,PMOL/KG,,FMOL/KG,,UMOL/KG,,UMOL/KG,,,,DEG C,,/MILLE,,/MILLE,,UMOL/KG,,UMOL/KG,,NMOL/KG,,,,,,ITS-90,,UG/L,,UG/L,,UG/L,,UG/L,,VOLTS,,VOLTS,,,,,,,,,,,
33RR20220613,       P02E,     123,          1,         36,         36,2,20220618,       1305,    29.9999,  -158.3276,       5742,     4.2,2,  25.2156,2,  35.2803,2,  35.2792,2,    210.0,2,   209.8,2,    0.39,2,    0.02,2,    0.00,2,    0.01,3,   1.671,2,   1.039,2,   1.9084,2,  2018.5,6,  2319.5,2,   8.0347,2,    25.02,2, -999.00,9,  -999.0,9, -999.00,9, -999.00,9,        7.1,2, 20220618,     1547,  29.9999,-158.3276,    25.2136,2,     -999.0,9,     -999.0,9,     -999.0,9,     -999.0,9,     0.0134,1,     4.6390,1,     -999.0,9,     -999.0,9,     -999.0,9,     -999.0,9,     -999.0,9
33RR20220613,       P02E,     123,          1,         35,         35,2,20220618,       1305,    29.9999,  -158.3276,       5742,    20.7,2,  25.2161,2,  35.2802,2,  35.2796,2,    210.0,2,   210.1,2,    0.29,2,    0.01,2,    0.00,2,    0.00,3,   1.628,2,   1.011,2,   1.5855,2,  2016.8,2,  2318.6,2,   8.0348,2,    25.00,2, -999.00,9,  -999.0,9, -999.00,9, -999.00,9,        7.0,2, 20220618,     1545,  29.9999,-158.3277,    25.2155,2,     -999.0,9,     -999.0,9,     -999.0,9,     -999.0,9,     0.0134,1,     4.6406,1,     -999.0,9,     -999.0,9,     -999.0,9,     -999.0,9,     -999.0,9
33RR20220613,       P02E,     123,          1,         34,         34,2,20220618,       1305,    29.9999,  -158.3276,       5742,    40.5,2,  24.7735,2,  35.2791,2,  35.2781,2,    213.9,2,   214.7,2,    0.29,2,    0.00,2,    0.00,2,    0.00,3,   1.674,2,   1.033,2,   1.6106,2,  2019.0,2,  2319.9,2,   8.0352,2,    25.00,2, -999.00,9,  -999.0,9, -999.00,9, -999.00,9,        7.2,2, 20220618,     1543,  29.9999,-158.3277,    24.8833,3,     -999.0,9,     -999.0,9,     -999.0,9,     -999.0,9,     0.0147,1,     4.6338,1,     -999.0,9,     -999.0,9,     -999.0,9,     -999.0,9,     -999.0,9
33RR20220613,       P02E,     123,          1,         33,         33,2,20220618,       1305,    29.9999,  -158.3276,       5742,    66.3,2,  22.5388,2,  35.2690,2,  35.2662,2,    226.2,2,   225.4,2,    0.29,2,    0.00,2,    0.00,2,    0.00,3,   1.847,2,   1.121,2,   1.7764,2,  2024.7,2,  2318.1,2,   8.0242,2,    24.98,2, -999.00,9,  -999.0,9, -999.00,9, -999.00,9,        7.7,2, 20220618,     1540,  29.9999,-158.3277,    22.5423,2,     -999.0,9,     -999.0,9,     -999.0,9,     -999.0,9,     0.0167,1,     4.6311,1,     -999.0,9,     -999.0,9,     -999.0,9,     -999.0,9,     -999.0,9
33RR20220613,       P02E,     123,          1,         32,         32,2,20220618,       1305,    29.9999,  -158.3276,       5742,    91.0,2,  21.2240,2,  35.2115,2,  35.2056,2,    221.3,2,   220.9,2,    0.49,2,    0.00,2,    0.00,2,    0.00,3,   1.911,2,   1.174,2,   1.8126,2,  2035.4,2,  2314.9,2,   8.0005,2,    25.00,2, -999.00,9,  -999.0,9, -999.00,9, -999.00,9,        7.9,2, 20220618,     1539,  29.9999,-158.3277,    21.2246,2,     -999.0,9,     -999.0,9,     -999.0,9,     -999.0,9,     0.0183,1,     4.6447,1,     -999.0,9,     -999.0,9,     -999.0,9,     -999.0,9,     -999.0,9
33RR20220613,       P02E,     123,          1,         31,         31,2,20220618,       1305,    29.9999,  -158.3276,       5742,   136.6,2,  19.8407,2,  35.0988,2,  35.0856,2,    225.4,2,   225.4,2,    0.78,2,    0.00,2,    0.02,2,    0.00,3,   2.031,2,   1.226,2,   1.9849,2,  2037.9,2,  2303.9,2,   7.9810,2,    25.00,2, -999.00,9,  -999.0,9, -999.00,9, -999.00,9,        8.2,2, 20220618,     1536,  29.9999,-158.3277,    19.8364,2,     -999.0,9,     -999.0,9,     -999.0,9,     -999.0,9,     0.0297,1,     4.6582,1,     -999.0,9,     -999.0,9,     -999.0,9,     -999.0,9,     -999.0,9
33RR20220613,       P02E,     123,          1,         30,         40,2,20220618,       1305,    29.9999,  -158.3276,       5742,   186.9,2,  17.5838,2,  34.7210,2,  34.7176,2,    218.8,2,   219.3,2,    1.95,2,    0.95,2,    0.07,2,    0.11,3,   2.255,2,   1.341,2,   2.0543,2,  2049.3,2,  2284.5,2,   7.9246,2,    25.03,2, -999.00,9,  -999.0,9, -999.00,9, -999.00,9,       10.0,2, 20220618,     1534,  29.9999,-158.3277,    17.6042,2,     -999.0,9,     -999.0,9,     -999.0,9,     -999.0,9,     0.0183,1,     4.6755,1,     -999.0,9,     -999.0,9,     -999.0,9,     -999.0,9,     -999.0,9
33RR20220613,       P02E,     123,          1,         29,         29,2,20220618,       1305,    29.9999,  -158.3276,       5742,   237.4,2,  14.7152,2,  34.4029,2,  34.3870,2,    207.9,2,   209.5,2,    4.79,2,    5.64,2,    0.01,2,    0.38,3,   2.573,2,   1.530,2,   2.0400,2,  2073.3,2,  2263.4,2,   7.8442,2,    25.01,2, -999.00,9,  -999.0,9, -999.00,9, -999.00,9,       13.5,2, 20220618,     1532,  29.9999,-158.3276,    14.7219,2,     -999.0,9,     -999.0,9,     -999.0,9,     -999.0,9,     0.0130,1,     4.6850,1,     -999.0,9,     -999.0,9,     -999.0,9,     -999.0,9,     -999.0,9
33RR20220613,       P02E,     123,          1,         28,         28,2,20220618,       1305,    29.9999,  -158.3276,       5742,   287.7,2,  13.1051,2,  34.2743,2,  34.2730,2,    218.0,2,   217.6,2,    7.04,2,    7.94,2,    0.00,2,    0.49,3,   2.753,2,   1.608,2,   2.1113,2,  -999.0,9,  -999.0,9,-999.0000,9,  -999.00,9, -999.00,9,  -999.0,9, -999.00,9, -999.00,9,       15.6,2, 20220618,     1530,  29.9999,-158.3277,    13.1058,2,     -999.0,9,     -999.0,9,     -999.0,9,     -999.0,9,     0.0122,1,     4.6885,1,     -999.0,9,     -999.0,9,     -999.0,9,     -999.0,9,     -999.0,9
33RR20220613,       P02E,     123,          1,         27,         27,2,20220618,       1305,    29.9999,  -158.3276,       5742,   337.9,2,  11.5429,2,  34.1587,2,  34.1573,2,    206.3,2,   206.8,2,   11.05,2,   12.04,2,    0.00,2,    0.73,3,   2.946,2,   1.720,2,   1.8151,2,  2102.0,2,  2256.7,6,   7.7623,2,    25.00,2, -999.00,9,  -999.0,9, -999.00,9, -999.00,9,       18.0,2, 20220618,     1528,  29.9999,-158.3277,    11.5920,2,     -999.0,9,     -999.0,9,     -999.0,9,     -999.0,9,     0.0122,1,     4.6910,1,     -999.0,9,     -999.0,9,     -999.0,9,     -999.0,9,     -999.0,9
33RR20220613,       P02E,     123,          1,         26,         26,2,20220618,       1305,    29.9999,  -158.3276,       5742,   388.6,2,  10.4912,2,  34.1242,2,  34.1246,2,    203.3,2,   203.8,2,   15.74,2,   14.87,2,    0.00,2,    0.92,3,   3.056,6,   1.756,6,   1.7796,6,  -999.0,9,  -999.0,9,-999.0000,9,  -999.00,9, -999.00,9,  -999.0,9, -999.00,9, -999.00,9,       20.4,6, 20220618,     1526,  29.9999,-158.3277,    10.4782,2,     -999.0,9,     -999.0,9,     -999.0,9,     -999.0,9,     0.0122,1,     4.6927,1,     -999.0,9,     -999.0,9,     -999.0,9,     -999.0,9,     -999.0,9
33RR20220613,       P02E,     123,          1,         25,         25,2,20220618,       1305,    29.9999,  -158.3276,       5742,   468.9,2,   8.8150,2,  34.0482,2,  34.0464,2,    176.9,2,   176.9,2,   27.28,2,   21.02,2,    0.00,2,    1.31,3,   3.045,2,   1.718,2,   1.4134,2,  2156.2,2,  2261.7,2,   7.6429,2,    25.01,2, -999.00,9,  -999.0,9, -999.00,9, -999.00,9,       26.7,2, 20220618,     1523,  29.9999,-158.3277,     8.8119,2,     -999.0,9,     -999.0,9,     -999.0,9,     -999.0,9,     0.0122,1,     4.6948,1,     -999.0,9,     -999.0,9,     -999.0,9,     -999.0,9,     -999.0,9
33RR20220613,       P02E,     123,          1,         24,         24,2,20220618,       1305,    29.9999,  -158.3276,       5742,   569.6,2,   6.9561,2,  34.0044,2,  34.0047,2,    124.4,2,   124.5,2,   47.63,2,   29.63,2,    0.00,2,    1.92,3,   2.515,2,   1.422,2,   0.8410,2,  2218.0,2,  2277.0,2,   7.5053,2,    25.01,2, -999.00,9,  -999.0,9, -999.00,9, -999.00,9,       34.0,2, 20220618,     1520,  29.9999,-158.3277,     6.9554,2,     -999.0,9,     -999.0,9,     -999.0,9,     -999.0,9,     0.0125,1,     4.6959,1,     -999.0,9,     -999.0,9,     -999.0,9,     -999.0,9,     -999.0,9
33RR20220613,       P02E,     123,          1,         23,         23,2,20220618,       1305,    29.9999,  -158.3276,       5742,   670.0,2,   5.4207,2,  34.0523,2,  34.0556,2,     64.6,2,    64.9,2,   74.52,2,   37.73,2,    0.00,2,    2.55,3,   1.439,2,   0.789,2,   0.4035,2,  2282.3,2,  2297.3,2,   7.3723,2,    25.02,2, -999.00,9,  -999.0,9, -999.00,9, -999.00,9,       44.9,2, 20220618,     1516,  29.9999,-158.3277,     5.4276,2,     -999.0,9,     -999.0,9,     -999.0,9,     -999.0,9,     0.0134,1,     4.6962,1,     -999.0,9,     -999.0,9,     -999.0,9,     -999.0,9,     -999.0,9
33RR20220613,       P02E,     123,          1,         22,         22,2,20220618,       1305,    29.9999,  -158.3276,       5742,   770.7,2,   4.6070,2,  34.1491,2,  34.1511,2,     33.5,2,    33.9,2,   94.66,2,   41.97,2,    0.00,2,    2.90,3,   0.629,2,   0.336,2,   0.1937,2,  2320.1,2,  2321.1,2,   7.3182,2,    25.00,2, -999.00,9,  -999.0,9, -999.00,9, -999.00,9,       55.7,2, 20220618,     1513,  29.9999,-158.3277,     4.6083,2,     -999.0,9,     -999.0,9,     -999.0,9,     -999.0,9,     0.0134,1,     4.6971,1,     -999.0,9,     -999.0,9,     -999.0,9,     -999.0,9,     -999.0,9
33RR20220613,       P02E,     123,          1,         21,         21,2,20220618,       1305,    29.9999,  -158.3276,       5742,   871.8,2,   4.1934,2,  34.2585,2,  34.2583,2,     17.2,3,    17.5,2,  108.63,2,   43.79,2,    0.00,2,    3.10,3,   0.170,2,   0.096,2,   0.0936,2,  2345.5,2,  2340.2,2,   7.3013,2,    25.01,2, -999.00,9,  -999.0,9, -999.00,9, -999.00,9,       62.2,2, 20220618,     1510,  29.9999,-158.3277,     4.1948,2,     -999.0,9,     -999.0,9,     -999.0,9,     -999.0,9,     0.0134,1,     4.6971,1,     -999.0,9,     -999.0,9,     -999.0,9,     -999.0,9,     -999.0,9
33RR20220613,       P02E,     123,          1,         20,         20,2,20220618,       1305,    29.9999,  -158.3276,       5742,   975.0,2,   3.8250,2,  34.3359,2,  34.3362,2,     17.6,2,    17.7,2,  118.89,2,   44.00,2,    0.00,2,    3.17,3,   0.058,2,   0.039,2,   0.1271,2,  2361.0,2,  2356.2,2,   7.3109,2,    25.01,2, -999.00,9,  -999.0,9, -999.00,9, -999.00,9,       63.8,2, 20220618,     1507,  29.9999,-158.3277,     3.8245,2,     -999.0,9,     -999.0,9,     -999.0,9,     -999.0,9,     0.0134,1,     4.6971,1,     -999.0,9,     -999.0,9,     -999.0,9,     -999.0,9,     -999.0,9
33RR20220613,       P02E,     123,          1,         19,         39,3,20220618,       1305,    29.9999,  -158.3276,       5742,  1075.3,3,   3.6099,3,  34.4019,3,  34.4006,3,     23.1,3,    23.3,3,  124.36,3,   43.90,3,    0.00,3,    3.20,3,   0.028,3,   0.020,3,   0.0000,3,  2364.2,3,  2368.8,3,   7.3282,3,    25.01,3, -999.00,9,  -999.0,9, -999.00,9, -999.00,9,       60.3,3, 20220618,     1504,  29.9999,-158.3277,     3.6096,3,     -999.0,9,     -999.0,9,     -999.0,9,     -999.0,9,     0.0134,1,     4.6976,1,     -999.0,9,     -999.0,9,     -999.0,9,     -999.0,9,     -999.0,9
33RR20220613,       P02E,     123,          1,         18,         18,2,20220618,       1305,    29.9999,  -158.3276,       5742,  1176.4,2,   3.4115,2,  34.4501,2,  34.4504,2,     31.1,3,    30.8,2,  128.27,2,   43.53,2,    0.00,2,    3.19,4,   0.013,2,   0.011,2,   0.0000,2,  -999.0,9,  -999.0,9,-999.0000,9,  -999.00,9, -999.00,9,  -999.0,9, -999.00,9, -999.00,9,       56.3,2, 20220618,     1501,  29.9999,-158.3277,     3.4111,2,     -999.0,9,     -999.0,9,     -999.0,9,     -999.0,9,     0.0134,1,     4.6983,1,     -999.0,9,     -999.0,9,     -999.0,9,     -999.0,9,     -999.0,9
33RR20220613,       P02E,     123,          1,         17,         37,2,20220618,       1305,    29.9999,  -158.3276,       5742,  1277.7,2,   3.1756,2,  34.4918,2,  34.4919,2,     40.6,2,    40.6,2,  132.76,2,   43.09,2,    0.00,2,    3.18,4,   0.010,2,   0.006,2,   0.0000,2,  2364.2,2,  2383.0,2,   7.3734,2,    25.02,2, -999.00,9,  -999.0,9, -999.00,9, -999.00,9,       50.4,2, 20220618,     1457,  29.9999,-158.3277,     3.1761,2,     -999.0,9,     -999.0,9,     -999.0,9,     -999.0,9,     0.0134,1,     4.6984,1,     -999.0,9,     -999.0,9,     -999.0,9,     -999.0,9,     -999.0,9
33RR20220613,       P02E,     123,          1,         16,         16,2,20220618,       1305,    29.9999,  -158.3276,       5742,  1379.2,2,   2.9810,2,  34.5196,2,  34.5193,2,     49.0,2,    48.8,2,  137.16,2,   42.70,2,    0.00,2,    3.16,4,   0.010,2,   0.007,2,   0.0000,2,  2364.3,2,  2388.8,2,   7.3895,2,    25.02,2, -999.00,9,  -999.0,9, -999.00,9, -999.00,9,       47.1,2, 20220618,     1454,  29.9999,-158.3277,     2.9825,2,     -999.0,9,     -999.0,9,     -999.0,9,     -999.0,9,     0.0134,1,     4.6995,1,     -999.0,9,     -999.0,9,     -999.0,9,     -999.0,9,     -999.0,9
33RR20220613,       P02E,     123,          1,         15,         15,2,20220618,       1305,    29.9999,  -158.3276,       5742,  1551.1,2,   2.7046,2,  34.5546,2,  34.5539,2,     60.3,2,    60.1,2,  142.33,2,   42.05,2,    0.00,2,    3.15,4,   0.005,2,   0.004,2,   0.0000,2,  2363.7,2,  2396.6,2,   7.4127,2,    25.01,2, -999.00,9,  -999.0,9, -999.00,9, -999.00,9,       42.9,2, 20220618,     1449,  29.9999,-158.3277,     2.7057,2,     -999.0,9,     -999.0,9,     -999.0,9,     -999.0,9,     0.0134,1,     4.7005,1,     -999.0,9,     -999.0,9,     -999.0,9,     -999.0,9,     -999.0,9
33RR20220613,       P02E,     123,          1,         14,         14,2,20220618,       1305,    29.9999,  -158.3276,       5742,  1754.3,2,   2.3767,2,  34.5814,2,  34.5814,2,     70.8,2,    70.7,2,  150.25,2,   41.41,2,    0.00,2,    3.15,4,   0.005,2,   0.003,2,   0.0000,2,  2365.6,2,  2404.2,2,   7.4330,2,    25.03,2, -999.00,9,  -999.0,9, -999.00,9, -999.00,9,       37.9,2, 20220618,     1444,  29.9999,-158.3277,     2.3774,2,     -999.0,9,     -999.0,9,     -999.0,9,     -999.0,9,     0.0131,1,     4.7008,1,     -999.0,9,     -999.0,9,     -999.0,9,     -999.0,9,     -999.0,9
33RR20220613,       P02E,     123,          1,         13,         13,2,20220618,       1305,    29.9999,  -158.3276,       5742,  1957.5,2,   2.1346,2,  34.6018,2,  34.6060,2,     79.7,2,    79.4,2,  155.92,2,   40.94,2,    0.00,2,    3.15,4,   0.003,2,   0.001,2,   0.0000,2,  2364.4,2,  2410.9,2,   7.4479,2,    25.01,2, -999.00,9,  -999.0,9, -999.00,9, -999.00,9,       36.3,2, 20220618,     1438,  29.9999,-158.3277,     2.1344,2,     -999.0,9,     -999.0,9,     -999.0,9,     -999.0,9,     0.0129,1,     4.7013,1,     -999.0,9,     -999.0,9,     -999.0,9,     -999.0,9,     -999.0,9
33RR20220613,       P02E,     123,          1,         12,         12,2,20220618,       1305,    29.9999,  -158.3276,       5742,  2190.9,2,   1.9430,2,  34.6215,2,  34.6207,2,     89.6,2,    89.6,2,  160.12,2,   40.27,2,    0.00,2,    3.12,4,   0.004,2,   0.003,2,   0.0000,2,  -999.0,9,  -999.0,9,-999.0000,9,  -999.00,9, -999.00,9,  -999.0,9, -999.00,9, -999.00,9,       33.9,2, 20220618,     1433,  29.9999,-158.3277,     1.9429,2,     -999.0,9,     -999.0,9,     -999.0,9,     -999.0,9,     0.0126,1,     4.7014,1,     -999.0,9,     -999.0,9,     -999.0,9,     -999.0,9,     -999.0,9
33RR20220613,       P02E,     123,          1,         11,         11,2,20220618,       1305,    29.9999,  -158.3276,       5742,  2446.4,2,   1.7842,2,  34.6370,2,  34.6378,2,     98.8,2,    98.7,2,  163.05,2,   39.76,2,    0.00,2,    3.10,4,   0.003,2,   0.002,2,   0.0000,2,  2361.1,2,  2420.7,2,   7.4852,2,    25.00,2, -999.00,9,  -999.0,9, -999.00,9, -999.00,9,       32.4,2, 20220618,     1427,  29.9999,-158.3276,     1.7842,2,     -999.0,9,     -999.0,9,     -999.0,9,     -999.0,9,     0.0134,1,     4.7026,1,     -999.0,9,     -999.0,9,     -999.0,9,     -999.0,9,     -999.0,9
33RR20220613,       P02E,     123,          1,         10,         10,2,20220618,       1305,    29.9999,  -158.3276,       5742,  2701.1,2,   1.6826,2,  34.6492,2,  34.6486,2,    107.3,2,   107.5,2,  164.22,2,   39.23,2,    0.00,2,    3.07,4,   0.003,2,   0.004,2,   0.0000,2,  -999.0,9,  -999.0,9,-999.0000,9,  -999.00,9, -999.00,9,  -999.0,9, -999.00,9, -999.00,9,       30.5,2, 20220618,     1421,  29.9999,-158.3276,     1.6827,2,     -999.0,9,     -999.0,9,     -999.0,9,     -999.0,9,     0.0134,1,     4.7021,1,     -999.0,9,     -999.0,9,     -999.0,9,     -999.0,9,     -999.0,9
33RR20220613,       P02E,     123,          1,          9,          9,2,20220618,       1305,    29.9999,  -158.3276,       5742,  2955.9,2,   1.6051,2,  34.6592,2,  34.6592,2,    116.8,2,   117.3,2,  164.32,2,   38.63,2,    0.00,2,    3.03,4,   0.006,2,   0.006,2,   0.0000,2,  2352.5,2,  2422.7,6,   7.5175,2,    25.00,2, -999.00,9,  -999.0,9, -999.00,9, -999.00,9,       29.0,2, 20220618,     1415,  29.9999,-158.3277,     1.6054,2,     -999.0,9,     -999.0,9,     -999.0,9,     -999.0,9,     0.0122,1,     4.7030,1,     -999.0,9,     -999.0,9,     -999.0,9,     -999.0,9,     -999.0,9
33RR20220613,       P02E,     123,          1,          8,          8,2,20220618,       1305,    29.9999,  -158.3276,       5742,  3247.1,2,   1.5519,2,  34.6677,2,  34.6669,2,    125.8,2,   126.1,2,  162.56,2,   38.00,2,    0.00,2,    2.97,4,   0.003,2,   0.001,2,   0.0000,2,  -999.0,9,  -999.0,9,-999.0000,9,  -999.00,9, -999.00,9,  -999.0,9, -999.00,9, -999.00,9,       26.9,2, 20220618,     1408,  29.9999,-158.3277,     1.5518,2,     -999.0,9,     -999.0,9,     -999.0,9,     -999.0,9,     0.0122,1,     4.7032,1,     -999.0,9,     -999.0,9,     -999.0,9,     -999.0,9,     -999.0,9
33RR20220613,       P02E,     123,          1,          7,          7,2,20220618,       1305,    29.9999,  -158.3276,       5742,  3554.8,2,   1.5157,2,  34.6744,2,  34.6745,2,    134.2,2,   134.1,2,  160.40,2,   37.55,2,    0.00,2,    2.93,4,   0.004,2,   0.003,2,   0.0000,2,  2340.8,2,  2421.5,2,   7.5493,2,    25.00,2, -999.00,9,  -999.0,9, -999.00,9, -999.00,9,       26.2,2, 20220618,     1402,  29.9999,-158.3276,     1.5158,2,     -999.0,9,     -999.0,9,     -999.0,9,     -999.0,9,     0.0122,1,     4.7036,1,     -999.0,9,     -999.0,9,     -999.0,9,     -999.0,9,     -999.0,9
33RR20220613,       P02E,     123,          1,          6,          6,2,20220618,       1305,    29.9999,  -158.3276,       5742,  3860.9,2,   1.4990,2,  34.6791,2,  34.6787,2,    140.6,2,   140.7,2,  158.35,2,   37.16,2,    0.00,2,    2.89,4,   0.006,2,   0.004,2,   0.0000,2,  -999.0,9,  -999.0,9,-999.0000,9,  -999.00,9, -999.00,9,  -999.0,9, -999.00,9, -999.00,9,       25.1,2, 20220618,     1354,  29.9999,-158.3277,     1.4989,2,     -999.0,9,     -999.0,9,     -999.0,9,     -999.0,9,     0.0122,1,     4.7032,1,     -999.0,9,     -999.0,9,     -999.0,9,     -999.0,9,     -999.0,9
33RR20220613,       P02E,     123,          1,          5,          5,2,20220618,       1305,    29.9999,  -158.3276,       5742,  4271.2,2,   1.4915,2,  34.6843,2,  34.6830,2,    148.1,2,   148.1,2,  155.03,2,   36.67,2,    0.00,2,    2.83,4,   0.005,2,   0.004,2,   0.0000,2,  2330.6,2,  2421.3,2,   7.5717,2,    25.00,2, -999.00,9,  -999.0,9, -999.00,9, -999.00,9,       24.5,2, 20220618,     1346,  29.9999,-158.3277,     1.4917,2,     -999.0,9,     -999.0,9,     -999.0,9,     -999.0,9,     0.0121,1,     4.7039,1,     -999.0,9,     -999.0,9,     -999.0,9,     -999.0,9,     -999.0,9