BOTTLE,20230830CCHSIOCBG
EXPOCODE,SECT_ID,STNNBR,CASTNO,SAMPNO,BTLNBR,BTLNBR_FLAG_W,DATE,TIME,LATITUDE,LONGITUDE,DEPTH,CTDPRS,CTDPRS_FLAG_W,CTDTMP,CTDTMP_FLAG_W,CTDSAL,CTDSAL_FLAG_W,SALNTY,SALNTY_FLAG_W,CTDOXY,CTDOXY_FLAG_W,OXYGEN,OXYGEN_FLAG_W,SILCAT,SILCAT_FLAG_W,NITRAT,NITRAT_FLAG_W,NITRIT,NITRIT_FLAG_W,PHSPHT,PHSPHT_FLAG_W,CFC-11,CFC-11_FLAG_W,CFC-12,CFC-12_FLAG_W,SF6,SF6_FLAG_W,TCARBN,TCARBN_FLAG_W,ALKALI,ALKALI_FLAG_W,PH_TOT,PH_TOT_FLAG_W,PH_TMP,PH_TMP_FLAG_W,DELC13,DELC13_FLAG_W,DELC14,DELC14_FLAG_W,DOC,DOC_FLAG_W,TDN,TDN_FLAG_W,N2O,N2O_FLAG_W,BTL_DATE,BTL_TIME,BTL_LAT,BTL_LON,REFTMP,REFTMP_FLAG_W,POC,POC_FLAG_W,PON,PON_FLAG_W,POP,POP_FLAG_W,PCOD,PCOD_FLAG_W,CTDFLUOR,CTDFLUOR_FLAG_W,CTDXMISS,CTDXMISS_FLAG_W,HPLC,HPLC_FLAG_W,DNA,DNA_FLAG_W,FCM,FCM_FLAG_W,IMAGES,IMAGES_FLAG_W,VIRAL_ABUNDANCE,VIRAL_ABUNDANCE_FLAG_W
,,,,,,,,,,,METERS,DBAR,,ITS-90,,PSS-78,,PSS-78,,UMOL/KG,,UMOL/KG,,UMOL/KG,,UMOL/KG,,UMOL/KG,,UMOL/KG,,PMOL/KG,,PMOL/KG,,FMOL/KG,,UMOL/KG,,UMOL/KG,,,,DEG C,,/MILLE,,/MILLE,,UMOL/KG,,UMOL/KG,,NMOL/KG,,,,,,ITS-90,,UG/L,,UG/L,,UG/L,,UG/L,,VOLTS,,VOLTS,,,,,,,,,,,
33RR20220613,       P02E,     135,          1,         36,         36,2,20220622,       1329,    29.9998,  -151.3981,       5177,     5.1,2,  24.2688,2,  35.3297,2,  35.3277,2,    213.4,2,   213.2,2,    0.39,2,    0.33,2,    0.02,2,    0.01,3,   1.664,2,   1.056,2,   1.6960,2,  2036.4,6,  2320.7,2,   8.0138,2,    24.98,2, -999.00,9,  -999.0,9, -999.00,9, -999.00,9,        6.8,2, 20220622,     1536,  29.9998,-151.3981,    24.2683,2,     -999.0,9,     -999.0,9,     -999.0,9,     -999.0,9,     0.0135,1,     4.6438,1,     -999.0,9,     -999.0,9,     -999.0,9,     -999.0,9,     -999.0,9
33RR20220613,       P02E,     135,          1,         35,         35,2,20220622,       1329,    29.9998,  -151.3981,       5177,    22.1,2,  24.2703,2,  35.3298,2,  35.3277,2,    213.1,2,   213.0,2,    0.49,2,    0.16,2,    0.01,2,    0.01,3,-999.000,9,-999.000,9,-999.0000,9,  2034.8,2,  2321.9,2,   8.0140,2,    25.03,2, -999.00,9,  -999.0,9, -999.00,9, -999.00,9,     -999.0,9, 20220622,     1534,  29.9998,-151.3981,    24.2689,2,     -999.0,9,     -999.0,9,     -999.0,9,     -999.0,9,     0.0135,1,     4.6456,1,     -999.0,9,     -999.0,9,     -999.0,9,     -999.0,9,     -999.0,9
33RR20220613,       P02E,     135,          1,         34,         34,2,20220622,       1329,    29.9998,  -151.3981,       5177,    43.1,2,  22.6620,2,  35.2276,2,  35.2266,2,    226.2,2,   226.1,2,    0.49,2,    0.08,2,    0.00,2,    0.00,3,   1.835,2,   1.152,2,   1.8717,2,  2029.7,2,  2316.3,2,   8.0132,2,    24.98,2, -999.00,9,  -999.0,9, -999.00,9, -999.00,9,        7.3,2, 20220622,     1532,  29.9998,-151.3981,    22.6678,2,     -999.0,9,     -999.0,9,     -999.0,9,     -999.0,9,     0.0144,1,     4.6376,1,     -999.0,9,     -999.0,9,     -999.0,9,     -999.0,9,     -999.0,9
33RR20220613,       P02E,     135,          1,         33,         33,2,20220622,       1329,    29.9998,  -151.3981,       5177,    69.2,2,  20.7239,2,  35.1537,2,  35.1510,2,    228.7,2,   228.8,2,    0.59,2,    0.03,2,    0.00,2,    0.01,3,-999.000,9,-999.000,9,-999.0000,9,  2035.8,2,  2310.9,2,   7.9956,2,    25.00,2, -999.00,9,  -999.0,9, -999.00,9, -999.00,9,     -999.0,9, 20220622,     1531,  29.9998,-151.3981,    20.7273,2,     -999.0,9,     -999.0,9,     -999.0,9,     -999.0,9,     0.0155,1,     4.6434,1,     -999.0,9,     -999.0,9,     -999.0,9,     -999.0,9,     -999.0,9
33RR20220613,       P02E,     135,          1,         32,         32,2,20220622,       1329,    29.9998,  -151.3981,       5177,    93.5,2,  19.8320,2,  35.0471,2,  35.0411,2,    226.2,2,   226.6,2,    0.88,2,    0.00,2,    0.00,2,    0.01,3,   2.010,2,   1.248,2,   1.9108,2,  2038.4,2,  2300.8,2,   7.9799,2,    24.99,2, -999.00,9,  -999.0,9, -999.00,9, -999.00,9,        7.9,2, 20220622,     1529,  29.9998,-151.3981,    19.8462,2,     -999.0,9,     -999.0,9,     -999.0,9,     -999.0,9,     0.0171,1,     4.6515,1,     -999.0,9,     -999.0,9,     -999.0,9,     -999.0,9,     -999.0,9
33RR20220613,       P02E,     135,          1,         31,         31,2,20220622,       1329,    29.9998,  -151.3981,       5177,   138.1,2,  18.0997,2,  34.7848,3,  34.7618,2,    214.1,3,   217.0,2,    1.66,2,    0.56,2,    0.08,2,    0.11,3,-999.000,9,-999.000,9,-999.0000,9,  2051.6,2,  2284.5,6,   7.9280,2,    25.01,2, -999.00,9,  -999.0,9, -999.00,9, -999.00,9,     -999.0,9, 20220622,     1527,  29.9998,-151.3981,    18.0932,2,     -999.0,9,     -999.0,9,     -999.0,9,     -999.0,9,     0.0294,1,     4.6619,1,     -999.0,9,     -999.0,9,     -999.0,9,     -999.0,9,     -999.0,9
33RR20220613,       P02E,     135,          1,         30,         17,2,20220622,       1329,    29.9998,  -151.3981,       5177,   188.0,2,  14.6958,2,  34.3580,2,  34.3558,2,    211.9,2,   212.1,2,    4.30,2,    4.18,2,    0.01,2,    0.33,3,   2.521,2,   1.537,2,   2.0980,2,  2068.0,2,  2261.2,2,   7.8511,2,    24.99,2, -999.00,9,  -999.0,9, -999.00,9, -999.00,9,       11.6,2, 20220622,     1526,  29.9998,-151.3981,    14.7623,2,     -999.0,9,     -999.0,9,     -999.0,9,     -999.0,9,     0.0136,1,     4.6839,1,     -999.0,9,     -999.0,9,     -999.0,9,     -999.0,9,     -999.0,9
33RR20220613,       P02E,     135,          1,         29,         29,2,20220622,       1329,    29.9998,  -151.3981,       5177,   239.4,2,  12.6780,2,  34.2053,2,  34.2017,2,    211.5,2,   211.6,2,    7.72,2,    8.50,2,    0.00,2,    0.57,3,-999.000,9,-999.000,9,-999.0000,9,  2085.1,2,  2256.3,2,   7.8004,2,    24.99,2, -999.00,9,  -999.0,9, -999.00,9, -999.00,9,     -999.0,9, 20220622,     1524,  29.9998,-151.3981,    12.7023,3,     -999.0,9,     -999.0,9,     -999.0,9,     -999.0,9,     0.0122,1,     4.6897,1,     -999.0,9,     -999.0,9,     -999.0,9,     -999.0,9,     -999.0,9
33RR20220613,       P02E,     135,          1,         28,         28,2,20220622,       1329,    29.9998,  -151.3981,       5177,   289.1,2,  11.6721,2,  34.1620,2,  34.1615,2,    210.7,2,   210.8,2,   10.85,2,   11.13,2,    0.00,2,    0.70,3,   2.876,2,   1.733,2,   2.0963,2,  2098.8,2,  2256.8,2,   7.7724,2,    24.99,2, -999.00,9,  -999.0,9, -999.00,9, -999.00,9,       16.7,2, 20220622,     1522,  29.9998,-151.3981,    11.6354,3,     -999.0,9,     -999.0,9,     -999.0,9,     -999.0,9,     0.0122,1,     4.6918,1,     -999.0,9,     -999.0,9,     -999.0,9,     -999.0,9,     -999.0,9
33RR20220613,       P02E,     135,          1,         27,         27,2,20220622,       1329,    29.9998,  -151.3981,       5177,   339.3,2,  10.4832,2,  34.1290,2,  34.1277,2,    209.7,2,   209.9,2,   15.55,2,   13.92,2,    0.00,2,    0.89,3,-999.000,9,-999.000,9,-999.0000,9,  2115.1,2,  2261.4,2,   7.7395,2,    24.99,2, -999.00,9,  -999.0,9, -999.00,9, -999.00,9,     -999.0,9, 20220622,     1521,  29.9998,-151.3981,    10.5477,3,     -999.0,9,     -999.0,9,     -999.0,9,     -999.0,9,     0.0122,1,     4.6934,1,     -999.0,9,     -999.0,9,     -999.0,9,     -999.0,9,     -999.0,9
33RR20220613,       P02E,     135,          1,         26,         26,2,20220622,       1329,    29.9998,  -151.3981,       5177,   389.7,2,   9.5675,2,  34.0690,2,  34.0662,2,    201.9,2,   201.3,2,   20.54,2,   16.80,2,    0.00,2,    1.05,3,   3.014,2,   1.803,2,   1.7199,2,  -999.0,9,  -999.0,9,-999.0000,9,  -999.00,9, -999.00,9,  -999.0,9, -999.00,9, -999.00,9,       22.3,2, 20220622,     1519,  29.9998,-151.3981,     9.5561,2,     -999.0,9,     -999.0,9,     -999.0,9,     -999.0,9,     0.0122,1,     4.6943,1,     -999.0,9,     -999.0,9,     -999.0,9,     -999.0,9,     -999.0,9
33RR20220613,       P02E,     135,          1,         25,         25,2,20220622,       1329,    29.9998,  -151.3981,       5177,   471.0,2,   8.0028,2,  34.0216,2,  34.0305,2,    162.6,2,   162.8,2,   35.30,2,   23.75,2,    0.00,2,    1.50,3,   2.853,2,   1.673,2,   1.2791,2,  2176.6,2,  2269.2,2,   7.5999,2,    25.01,2, -999.00,9,  -999.0,9, -999.00,9, -999.00,9,       26.8,2, 20220622,     1516,  29.9998,-151.3981,     8.0323,3,     -999.0,9,     -999.0,9,     -999.0,9,     -999.0,9,     0.0122,1,     4.6962,1,     -999.0,9,     -999.0,9,     -999.0,9,     -999.0,9,     -999.0,9
33RR20220613,       P02E,     135,          1,         24,         24,2,20220622,       1329,    29.9998,  -151.3981,       5177,   571.4,2,   6.4131,2,  34.0065,2,  34.0057,2,    101.7,2,   101.8,2,   56.43,2,   32.48,2,    0.00,2,    2.12,3,   2.168,2,   1.268,2,   0.7095,2,  2241.8,2,  2283.7,2,   7.4505,2,    25.00,2, -999.00,9,  -999.0,9, -999.00,9, -999.00,9,       35.4,2, 20220622,     1514,  29.9998,-151.3981,     6.4175,2,     -999.0,9,     -999.0,9,     -999.0,9,     -999.0,9,     0.0134,1,     4.6961,1,     -999.0,9,     -999.0,9,     -999.0,9,     -999.0,9,     -999.0,9
33RR20220613,       P02E,     135,          1,         23,         23,2,20220622,       1329,    29.9998,  -151.3981,       5177,   673.2,2,   5.2218,2,  34.0674,2,  34.0721,2,     55.1,2,    54.9,2,   79.11,2,   38.79,2,    0.00,2,    2.58,3,   1.244,2,   0.713,2,   0.2971,2,  2295.0,2,  -999.0,9,   7.3513,2,    25.02,2, -999.00,9,  -999.0,9, -999.00,9, -999.00,9,       42.7,2, 20220622,     1512,  29.9998,-151.3981,     5.2291,2,     -999.0,9,     -999.0,9,     -999.0,9,     -999.0,9,     0.0134,1,     4.6970,1,     -999.0,9,     -999.0,9,     -999.0,9,     -999.0,9,     -999.0,9
33RR20220613,       P02E,     135,          1,         22,         22,2,20220622,       1329,    29.9998,  -151.3981,       5177,   773.7,2,   4.5331,2,  34.1636,2,  34.1644,2,     26.4,3,    27.7,2,   97.59,2,   42.32,2,    0.00,2,    2.86,3,   0.498,2,   0.282,2,   0.2004,2,  2327.6,2,  2324.2,2,   7.3073,2,    25.01,2, -999.00,9,  -999.0,9, -999.00,9, -999.00,9,       50.0,2, 20220622,     1510,  29.9998,-151.3981,     4.5355,2,     -999.0,9,     -999.0,9,     -999.0,9,     -999.0,9,     0.0134,1,     4.6975,1,     -999.0,9,     -999.0,9,     -999.0,9,     -999.0,9,     -999.0,9
33RR20220613,       P02E,     135,          1,         21,         21,2,20220622,       1329,    29.9998,  -151.3981,       5177,   874.6,2,   4.1424,2,  34.2656,2,  34.2650,2,     15.6,3,    15.3,2,  110.68,2,   43.77,2,    0.00,2,    3.03,4,   0.134,2,   0.082,2,   0.0621,2,  2350.5,2,  -999.0,9,   7.2967,2,    25.04,2, -999.00,9,  -999.0,9, -999.00,9, -999.00,9,       52.6,2, 20220622,     1507,  29.9998,-151.3981,     4.1432,2,     -999.0,9,     -999.0,9,     -999.0,9,     -999.0,9,     0.0134,1,     4.6973,1,     -999.0,9,     -999.0,9,     -999.0,9,     -999.0,9,     -999.0,9
33RR20220613,       P02E,     135,          1,         20,         20,2,20220622,       1329,    29.9998,  -151.3981,       5177,   976.0,2,   3.8449,2,  34.3372,2,  34.3366,2,     14.3,2,    14.3,2,  120.06,2,   44.38,2,    0.00,2,    3.09,4,   0.043,2,   0.028,2,   0.0994,2,  2364.4,2,  2357.4,2,   7.3060,2,    25.02,2, -999.00,9,  -999.0,9, -999.00,9, -999.00,9,       54.1,2, 20220622,     1504,  29.9998,-151.3981,     3.8465,2,     -999.0,9,     -999.0,9,     -999.0,9,     -999.0,9,     0.0134,1,     4.6979,1,     -999.0,9,     -999.0,9,     -999.0,9,     -999.0,9,     -999.0,9
33RR20220613,       P02E,     135,          1,         19,         39,2,20220622,       1329,    29.9998,  -151.3981,       5177,  1077.4,2,   3.5746,2,  34.4044,2,  34.4071,2,     18.8,3,    18.6,2,  127.49,2,   44.44,2,    0.00,2,    3.13,4,   0.015,2,   0.013,2,   0.0000,2,  2367.9,2,  -999.0,9,   7.3200,2,    25.02,2, -999.00,9,  -999.0,9, -999.00,9, -999.00,9,       54.5,2, 20220622,     1502,  29.9998,-151.3981,     3.5736,2,     -999.0,9,     -999.0,9,     -999.0,9,     -999.0,9,     0.0134,1,     4.6980,1,     -999.0,9,     -999.0,9,     -999.0,9,     -999.0,9,     -999.0,9
33RR20220613,       P02E,     135,          1,         18,         18,2,20220622,       1329,    29.9998,  -151.3981,       5177,  1178.9,2,   3.3505,2,  34.4536,2,  34.4528,2,     25.5,2,    25.6,2,  132.96,2,   44.38,2,    0.00,2,    3.15,4,   0.008,2,   0.009,2,   0.0000,2,  2369.5,2,  2379.5,2,   7.3383,2,    25.01,2, -999.00,9,  -999.0,9, -999.00,9, -999.00,9,       44.7,2, 20220622,     1459,  29.9998,-151.3981,     3.3490,2,     -999.0,9,     -999.0,9,     -999.0,9,     -999.0,9,     0.0134,1,     4.6983,1,     -999.0,9,     -999.0,9,     -999.0,9,     -999.0,9,     -999.0,9
33RR20220613,       P02E,     135,          1,         17,         37,2,20220622,       1329,    29.9998,  -151.3981,       5177,  1280.9,2,   3.1284,2,  34.4935,2,  34.4924,2,     34.5,2,    34.5,2,  137.45,2,   43.91,2,    0.00,2,    3.11,4,   0.007,2,   0.006,2,   0.0000,2,  -999.0,9,  -999.0,9,-999.0000,9,  -999.00,9, -999.00,9,  -999.0,9, -999.00,9, -999.00,9,       45.2,2, 20220622,     1457,  29.9998,-151.3981,     3.1285,2,     -999.0,9,     -999.0,9,     -999.0,9,     -999.0,9,     0.0134,1,     4.6984,1,     -999.0,9,     -999.0,9,     -999.0,9,     -999.0,9,     -999.0,9
33RR20220613,       P02E,     135,          1,         16,         16,2,20220622,       1329,    29.9998,  -151.3981,       5177,  1384.1,2,   2.9009,2,  34.5256,2,  34.5248,2,     45.5,2,    45.7,2,  142.04,2,   43.31,2,    0.00,2,    3.10,4,   0.005,2,   0.005,2,   0.0000,2,  2369.1,2,  2394.0,2,   7.3835,2,    25.02,2, -999.00,9,  -999.0,9, -999.00,9, -999.00,9,       43.8,2, 20220622,     1454,  29.9998,-151.3981,     2.8983,2,     -999.0,9,     -999.0,9,     -999.0,9,     -999.0,9,     0.0134,1,     4.6996,1,     -999.0,9,     -999.0,9,     -999.0,9,     -999.0,9,     -999.0,9
33RR20220613,       P02E,     135,          1,         15,         15,2,20220622,       1329,    29.9998,  -151.3981,       5177,  1551.0,2,   2.5830,2,  34.5602,2,  34.5578,2,     58.5,2,    58.3,2,  148.88,2,   42.71,2,    0.00,2,    3.10,4,   0.005,2,   0.003,2,   0.0000,2,  2368.5,2,  -999.0,9,   7.4096,2,    24.94,2, -999.00,9,  -999.0,9, -999.00,9, -999.00,9,       38.9,2, 20220622,     1450,  29.9998,-151.3981,     2.5830,2,     -999.0,9,     -999.0,9,     -999.0,9,     -999.0,9,     0.0134,1,     4.7002,1,     -999.0,9,     -999.0,9,     -999.0,9,     -999.0,9,     -999.0,9
33RR20220613,       P02E,     135,          1,         14,         14,2,20220622,       1329,    29.9998,  -151.3981,       5177,  1754.0,2,   2.3117,2,  34.5852,2,  34.5834,2,     67.7,2,    67.7,2,  155.72,2,   42.04,2,    0.00,2,    3.08,4,   0.009,2,   0.007,2,   0.0000,2,  2370.7,2,  2409.8,2,   7.4262,2,    24.99,2, -999.00,9,  -999.0,9, -999.00,9, -999.00,9,       35.3,2, 20220622,     1445,  29.9998,-151.3981,     2.3111,2,     -999.0,9,     -999.0,9,     -999.0,9,     -999.0,9,     0.0134,1,     4.7009,1,     -999.0,9,     -999.0,9,     -999.0,9,     -999.0,9,     -999.0,9
33RR20220613,       P02E,     135,          1,         13,         13,2,20220622,       1329,    29.9998,  -151.3981,       5177,  1957.8,2,   2.0670,2,  34.6083,2,  34.6077,2,     77.1,2,    77.4,2,  162.66,2,   41.50,2,    0.00,2,    3.10,4,   0.007,2,   0.005,2,   0.0000,2,  2371.2,2,  -999.0,9,   7.4454,2,    25.01,2, -999.00,9,  -999.0,9, -999.00,9, -999.00,9,       32.3,2, 20220622,     1439,  29.9998,-151.3981,     2.0661,2,     -999.0,9,     -999.0,9,     -999.0,9,     -999.0,9,     0.0134,1,     4.7020,1,     -999.0,9,     -999.0,9,     -999.0,9,     -999.0,9,     -999.0,9
33RR20220613,       P02E,     135,          1,         12,         12,2,20220622,       1329,    29.9998,  -151.3981,       5177,  2191.8,2,   1.8870,2,  34.6262,2,  34.6248,2,     84.4,2,    84.7,2,  168.62,2,   41.05,2,    0.00,2,    3.09,4,   0.005,2,   0.003,2,   0.0000,2,  -999.0,9,  -999.0,9,-999.0000,9,  -999.00,9, -999.00,9,  -999.0,9, -999.00,9, -999.00,9,       31.9,2, 20220622,     1435,  29.9998,-151.3981,     1.8878,2,     -999.0,9,     -999.0,9,     -999.0,9,     -999.0,9,     0.0134,1,     4.7020,1,     -999.0,9,     -999.0,9,     -999.0,9,     -999.0,9,     -999.0,9
33RR20220613,       P02E,     135,          1,         11,         11,2,20220622,       1329,    29.9998,  -151.3981,       5177,  2447.0,2,   1.7405,2,  34.6419,2,  34.6401,2,     95.7,2,    95.9,2,  171.26,2,   40.37,2,    0.00,2,    3.05,4,   0.005,2,   0.002,2,   0.0000,2,  2366.5,2,  2426.5,2,   7.4807,2,    25.00,2, -999.00,9,  -999.0,9, -999.00,9, -999.00,9,       28.2,2, 20220622,     1430,  29.9998,-151.3981,     1.7403,2,     -999.0,9,     -999.0,9,     -999.0,9,     -999.0,9,     0.0124,1,     4.7025,1,     -999.0,9,     -999.0,9,     -999.0,9,     -999.0,9,     -999.0,9
33RR20220613,       P02E,     135,          1,         10,         10,2,20220622,       1329,    29.9998,  -151.3981,       5177,  2700.7,2,   1.6295,2,  34.6548,2,  34.6529,2,    109.8,2,   109.7,2,  169.01,2,   39.58,2,    0.00,2,    3.00,4,   0.006,2,   0.004,2,   0.0000,2,  -999.0,9,  -999.0,9,-999.0000,9,  -999.00,9, -999.00,9,  -999.0,9, -999.00,9, -999.00,9,       26.7,2, 20220622,     1424,  29.9998,-151.3981,     1.6293,2,     -999.0,9,     -999.0,9,     -999.0,9,     -999.0,9,     0.0122,1,     4.7032,1,     -999.0,9,     -999.0,9,     -999.0,9,     -999.0,9,     -999.0,9
33RR20220613,       P02E,     135,          1,          9,          9,2,20220622,       1329,    29.9998,  -151.3981,       5177,  2956.7,2,   1.5654,2,  34.6638,2,  34.6625,2,    120.5,2,   120.5,2,  166.08,2,   38.87,2,    0.00,2,    2.93,4,   0.005,2,   0.000,2,   0.0000,2,  2350.5,2,  -999.0,9,   7.5251,2,    25.01,2, -999.00,9,  -999.0,9, -999.00,9, -999.00,9,       22.5,2, 20220622,     1419,  29.9998,-151.3981,     1.5653,2,     -999.0,9,     -999.0,9,     -999.0,9,     -999.0,9,     0.0122,1,     4.7034,1,     -999.0,9,     -999.0,9,     -999.0,9,     -999.0,9,     -999.0,9
33RR20220613,       P02E,     135,          1,          8,          8,2,20220622,       1329,    29.9998,  -151.3981,       5177,  3247.0,2,   1.5192,2,  34.6717,2,  34.6704,2,    129.3,2,   129.6,2,  164.22,2,   38.30,2,    0.00,2,    2.89,4,-999.000,9,-999.000,9,-999.0000,9,  -999.0,9,  -999.0,9,-999.0000,9,  -999.00,9, -999.00,9,  -999.0,9, -999.00,9, -999.00,9,     -999.0,9, 20220622,     1413,  29.9998,-151.3981,     1.5194,2,     -999.0,9,     -999.0,9,     -999.0,9,     -999.0,9,     0.0131,1,     4.7044,1,     -999.0,9,     -999.0,9,     -999.0,9,     -999.0,9,     -999.0,9
33RR20220613,       P02E,     135,          1,          7,          7,2,20220622,       1329,    29.9998,  -151.3981,       5177,  3553.8,2,   1.4840,2,  34.6773,2,  34.6755,2,    136.3,2,   135.9,2,  163.63,2,   37.77,2,    0.00,2,    2.84,4,   0.006,2,   0.005,2,   0.0000,2,  2340.7,2,  2425.1,2,   7.5541,2,    25.02,2, -999.00,9,  -999.0,9, -999.00,9, -999.00,9,       23.5,2, 20220622,     1406,  29.9998,-151.3981,     1.4840,2,     -999.0,9,     -999.0,9,     -999.0,9,     -999.0,9,     0.0121,1,     4.7044,1,     -999.0,9,     -999.0,9,     -999.0,9,     -999.0,9,     -999.0,9
33RR20220613,       P02E,     135,          1,          6,          6,2,20220622,       1329,    29.9998,  -151.3981,       5177,  3862.1,2,   1.4727,2,  34.6819,2,  34.6814,2,    143.0,2,   143.2,2,  160.70,2,   37.52,2,    0.00,2,    2.83,4,-999.000,9,-999.000,9,-999.0000,9,  -999.0,9,  -999.0,9,-999.0000,9,  -999.00,9, -999.00,9,  -999.0,9, -999.00,9, -999.00,9,     -999.0,9, 20220622,     1400,  29.9998,-151.3981,     1.4726,2,     -999.0,9,     -999.0,9,     -999.0,9,     -999.0,9,     0.0129,1,     4.7044,1,     -999.0,9,     -999.0,9,     -999.0,9,     -999.0,9,     -999.0,9
33RR20220613,       P02E,     135,          1,          5,          5,2,20220622,       1329,    29.9998,  -151.3981,       5177,  4168.9,2,   1.4792,2,  34.6845,2,  34.6836,2,    147.6,2,   147.6,2,  158.16,2,   37.19,2,    0.00,2,    2.79,4,-999.000,9,-999.000,9,-999.0000,9,  2332.4,2,  -999.0,9,   7.5725,2,    25.00,2, -999.00,9,  -999.0,9, -999.00,9, -999.00,9,     -999.0,9, 20220622,     1354,  29.9998,-151.3981,     1.4792,2,     -999.0,9,     -999.0,9,     -999.0,9,     -999.0,9,     0.0122,1,     4.7048,1,     -999.0,9,     -999.0,9,     -999.0,9,     -999.0,9,     -999.0,9