BOTTLE,20230830CCHSIOCBG
EXPOCODE,SECT_ID,STNNBR,CASTNO,SAMPNO,BTLNBR,BTLNBR_FLAG_W,DATE,TIME,LATITUDE,LONGITUDE,DEPTH,CTDPRS,CTDPRS_FLAG_W,CTDTMP,CTDTMP_FLAG_W,CTDSAL,CTDSAL_FLAG_W,SALNTY,SALNTY_FLAG_W,CTDOXY,CTDOXY_FLAG_W,OXYGEN,OXYGEN_FLAG_W,SILCAT,SILCAT_FLAG_W,NITRAT,NITRAT_FLAG_W,NITRIT,NITRIT_FLAG_W,PHSPHT,PHSPHT_FLAG_W,CFC-11,CFC-11_FLAG_W,CFC-12,CFC-12_FLAG_W,SF6,SF6_FLAG_W,TCARBN,TCARBN_FLAG_W,ALKALI,ALKALI_FLAG_W,PH_TOT,PH_TOT_FLAG_W,PH_TMP,PH_TMP_FLAG_W,DELC13,DELC13_FLAG_W,DELC14,DELC14_FLAG_W,DOC,DOC_FLAG_W,TDN,TDN_FLAG_W,N2O,N2O_FLAG_W,BTL_DATE,BTL_TIME,BTL_LAT,BTL_LON,REFTMP,REFTMP_FLAG_W,POC,POC_FLAG_W,PON,PON_FLAG_W,POP,POP_FLAG_W,PCOD,PCOD_FLAG_W,CTDFLUOR,CTDFLUOR_FLAG_W,CTDXMISS,CTDXMISS_FLAG_W,HPLC,HPLC_FLAG_W,DNA,DNA_FLAG_W,FCM,FCM_FLAG_W,IMAGES,IMAGES_FLAG_W,VIRAL_ABUNDANCE,VIRAL_ABUNDANCE_FLAG_W
,,,,,,,,,,,METERS,DBAR,,ITS-90,,PSS-78,,PSS-78,,UMOL/KG,,UMOL/KG,,UMOL/KG,,UMOL/KG,,UMOL/KG,,UMOL/KG,,PMOL/KG,,PMOL/KG,,FMOL/KG,,UMOL/KG,,UMOL/KG,,,,DEG C,,/MILLE,,/MILLE,,UMOL/KG,,UMOL/KG,,NMOL/KG,,,,,,ITS-90,,UG/L,,UG/L,,UG/L,,UG/L,,VOLTS,,VOLTS,,,,,,,,,,,
33RR20220613,       P02E,     151,          1,         36,         36,2,20220627,       1309,    30.0002,  -142.1603,       4965,     3.2,2,  22.8458,2,  34.9980,2,  34.9982,2,    220.4,2,   220.4,2,    0.68,2,    0.07,2,    0.00,2,    0.00,2,   1.777,2,   1.129,2,   1.8242,2,  2041.6,6,  2309.2,2,   7.9785,2,    25.00,2, -999.00,9,  -999.0,9, -999.00,9, -999.00,9,        7.2,2, 20220627,     1513,  30.0002,-142.1603,    22.8405,2,     -999.0,9,     -999.0,9,     -999.0,9,     -999.0,9,     0.0134,1,     4.6392,1,     -999.0,9,     -999.0,9,     -999.0,9,     -999.0,9,     -999.0,9
33RR20220613,       P02E,     151,          1,         35,         35,2,20220627,       1309,    30.0002,  -142.1603,       4965,    20.4,2,  22.3474,2,  34.9800,2,  34.9795,2,    221.7,2,   221.7,2,    0.20,2,    0.05,2,    0.00,2,    0.00,2,   1.808,2,   1.135,2,   1.8693,2,  2039.2,2,  2308.4,2,   7.9790,2,    25.02,2, -999.00,9,  -999.0,9, -999.00,9, -999.00,9,        7.3,2, 20220627,     1511,  30.0002,-142.1603,    22.3451,2,     -999.0,9,     -999.0,9,     -999.0,9,     -999.0,9,     0.0135,1,     4.6413,1,     -999.0,9,     -999.0,9,     -999.0,9,     -999.0,9,     -999.0,9
33RR20220613,       P02E,     151,          1,         34,         34,2,20220627,       1309,    30.0002,  -142.1603,       4965,    41.4,2,  21.3378,2,  35.1171,3,  35.0967,2,    234.0,2,   232.4,2,    0.39,2,    0.01,2,    0.00,2,    0.02,2,   1.863,2,   1.194,2,   1.9082,2,  2040.5,2,  2313.3,2,   7.9925,2,    25.00,2, -999.00,9,  -999.0,9, -999.00,9, -999.00,9,        7.5,2, 20220627,     1510,  30.0002,-142.1603,    21.3201,2,     -999.0,9,     -999.0,9,     -999.0,9,     -999.0,9,     0.0134,1,     4.6438,1,     -999.0,9,     -999.0,9,     -999.0,9,     -999.0,9,     -999.0,9
33RR20220613,       P02E,     151,          1,         33,         33,2,20220627,       1309,    30.0002,  -142.1603,       4965,    67.1,2,  20.6053,2,  35.0574,3,  35.0295,2,    231.5,2,   232.7,2,    0.10,2,    0.00,2,    0.00,2,    0.00,2,   1.929,2,   1.214,2,   1.9876,2,  2038.7,2,  2307.3,2,   7.9862,2,    25.01,2, -999.00,9,  -999.0,9, -999.00,9, -999.00,9,        7.6,2, 20220627,     1508,  30.0002,-142.1603,    20.5211,2,     -999.0,9,     -999.0,9,     -999.0,9,     -999.0,9,     0.0159,1,     4.6494,1,     -999.0,9,     -999.0,9,     -999.0,9,     -999.0,9,     -999.0,9
33RR20220613,       P02E,     151,          1,         32,         32,2,20220627,       1309,    30.0002,  -142.1603,       4965,    90.2,2,  19.8670,2,  34.9091,3,  34.8692,2,    230.8,2,   232.5,2,    0.29,2,    0.01,2,    0.00,2,    0.03,2,-999.000,9,-999.000,9,-999.0000,9,  2036.8,2,  2298.6,2,   7.9746,2,    25.01,2, -999.00,9,  -999.0,9, -999.00,9, -999.00,9,     -999.0,9, 20220627,     1506,  30.0002,-142.1603,    19.8677,2,     -999.0,9,     -999.0,9,     -999.0,9,     -999.0,9,     0.0171,1,     4.6519,1,     -999.0,9,     -999.0,9,     -999.0,9,     -999.0,9,     -999.0,9
33RR20220613,       P02E,     151,          1,         31,         31,2,20220627,       1309,    30.0002,  -142.1603,       4965,   137.8,2,  19.1251,2,  34.8443,3,  34.8200,2,    225.0,2,   225.2,2,    0.78,2,    0.00,2,    0.00,2,    0.06,2,   2.023,2,   1.279,2,   2.0415,2,  2043.1,2,  2292.3,2,   7.9550,2,    25.01,2, -999.00,9,  -999.0,9, -999.00,9, -999.00,9,        8.3,2, 20220627,     1504,  30.0002,-142.1603,    19.1274,2,     -999.0,9,     -999.0,9,     -999.0,9,     -999.0,9,     0.0290,1,     4.6572,1,     -999.0,9,     -999.0,9,     -999.0,9,     -999.0,9,     -999.0,9
33RR20220613,       P02E,     151,          1,         30,         17,2,20220627,       1309,    30.0002,  -142.1603,       4965,   187.8,2,  15.8054,2,  34.2749,2,  34.2736,2,    222.5,2,   222.6,2,    1.96,2,    1.81,2,    0.03,2,    0.25,2,-999.000,9,-999.000,9,-999.0000,9,  2048.2,2,  2260.3,6,   7.8853,2,    25.02,2, -999.00,9,  -999.0,9, -999.00,9, -999.00,9,     -999.0,9, 20220627,     1502,  30.0002,-142.1603,    15.8712,2,     -999.0,9,     -999.0,9,     -999.0,9,     -999.0,9,     0.0209,1,     4.6743,1,     -999.0,9,     -999.0,9,     -999.0,9,     -999.0,9,     -999.0,9
33RR20220613,       P02E,     151,          1,         29,         29,2,20220627,       1309,    30.0002,  -142.1603,       4965,   238.2,2,  12.0923,2,  33.9706,2,  33.9843,2,    221.6,3,   218.9,2,    6.55,2,    8.35,2,    0.00,2,    0.68,2,   2.809,2,   1.710,2,   2.4031,2,  2080.7,2,  2244.9,2,   7.7889,2,    25.00,2, -999.00,9,  -999.0,9, -999.00,9, -999.00,9,       13.2,2, 20220627,     1500,  30.0002,-142.1603,    12.1074,3,     -999.0,9,     -999.0,9,     -999.0,9,     -999.0,9,     0.0131,1,     4.6868,1,     -999.0,9,     -999.0,9,     -999.0,9,     -999.0,9,     -999.0,9
33RR20220613,       P02E,     151,          1,         28,         28,2,20220627,       1309,    30.0002,  -142.1603,       4965,   288.1,2,  10.9600,2,  34.0665,2,  34.0674,2,    209.2,2,   209.8,2,   12.52,2,   13.36,2,    0.00,2,    0.96,2,-999.000,9,-999.000,9,-999.0000,9,  -999.0,9,  -999.0,9,-999.0000,9,  -999.00,9, -999.00,9,  -999.0,9, -999.00,9, -999.00,9,     -999.0,9, 20220627,     1458,  30.0002,-142.1603,    10.9379,2,     -999.0,9,     -999.0,9,     -999.0,9,     -999.0,9,     0.0122,1,     4.6898,1,     -999.0,9,     -999.0,9,     -999.0,9,     -999.0,9,     -999.0,9
33RR20220613,       P02E,     151,          1,         27,         27,2,20220627,       1309,    30.0002,  -142.1603,       4965,   338.5,2,   9.9389,2,  34.0649,2,  34.0635,2,    207.8,2,   209.1,2,   16.43,2,   15.75,2,    0.00,2,    1.11,2,   3.006,2,   1.818,2,   2.1063,2,  2119.2,2,  2257.2,2,   7.7185,2,    25.00,2, -999.00,9,  -999.0,9, -999.00,9, -999.00,9,       19.1,2, 20220627,     1457,  30.0002,-142.1603,     9.9202,2,     -999.0,9,     -999.0,9,     -999.0,9,     -999.0,9,     0.0122,1,     4.6910,1,     -999.0,9,     -999.0,9,     -999.0,9,     -999.0,9,     -999.0,9
33RR20220613,       P02E,     151,          1,         26,         26,2,20220627,       1309,    30.0002,  -142.1603,       4965,   389.4,2,   8.9664,2,  34.0331,2,  34.0311,2,    191.6,2,   191.3,2,   24.45,2,   19.71,2,    0.00,2,    1.36,2,   2.959,2,   1.783,2,   1.6826,2,  2143.5,2,  2263.3,2,   7.6649,2,    25.00,2, -999.00,9,  -999.0,9, -999.00,9, -999.00,9,       22.8,2, 20220627,     1455,  30.0002,-142.1603,     8.9650,2,     -999.0,9,     -999.0,9,     -999.0,9,     -999.0,9,     0.0122,1,     4.6921,1,     -999.0,9,     -999.0,9,     -999.0,9,     -999.0,9,     -999.0,9
33RR20220613,       P02E,     151,          1,         25,         25,2,20220627,       1309,    30.0002,  -142.1603,       4965,   470.0,2,   7.4608,2,  34.0000,2,  34.0004,2,    149.3,2,   149.8,2,   40.10,2,   26.68,2,    0.00,2,    1.85,2,   2.687,2,   1.612,2,   1.2395,2,  2190.0,2,  2272.9,2,   7.5591,2,    25.01,2, -999.00,9,  -999.0,9, -999.00,9, -999.00,9,       28.4,2, 20220627,     1453,  30.0002,-142.1603,     7.4600,2,     -999.0,9,     -999.0,9,     -999.0,9,     -999.0,9,     0.0122,1,     4.6926,1,     -999.0,9,     -999.0,9,     -999.0,9,     -999.0,9,     -999.0,9
33RR20220613,       P02E,     151,          1,         24,         24,2,20220627,       1309,    30.0002,  -142.1603,       4965,   571.0,2,   5.7507,2,  34.0082,2,  34.0100,2,     81.8,3,    80.8,2,   66.11,2,   36.08,2,    0.00,2,    2.54,2,   1.880,2,   1.076,2,   0.5717,2,  2265.4,2,  2291.6,2,   7.3968,2,    25.00,2, -999.00,9,  -999.0,9, -999.00,9, -999.00,9,       37.8,2, 20220627,     1450,  30.0002,-142.1603,     5.7548,2,     -999.0,9,     -999.0,9,     -999.0,9,     -999.0,9,     0.0134,1,     4.6934,1,     -999.0,9,     -999.0,9,     -999.0,9,     -999.0,9,     -999.0,9
33RR20220613,       P02E,     151,          1,         23,         23,2,20220627,       1309,    30.0002,  -142.1603,       4965,   670.4,2,   4.8962,2,  34.1082,2,  34.1105,2,     39.1,2,    38.8,2,   59.55,3,   40.80,3,    0.00,2,    2.90,2,   0.914,2,   0.510,2,   0.3231,2,  2307.9,2,  2313.7,2,   7.3220,2,    25.01,2, -999.00,9,  -999.0,9, -999.00,9, -999.00,9,       45.2,2, 20220627,     1447,  30.0002,-142.1603,     4.8946,2,     -999.0,9,     -999.0,9,     -999.0,9,     -999.0,9,     0.0134,1,     4.6943,1,     -999.0,9,     -999.0,9,     -999.0,9,     -999.0,9,     -999.0,9
33RR20220613,       P02E,     151,          1,         22,         22,2,20220627,       1309,    30.0002,  -142.1603,       4965,   770.7,2,   4.4663,2,  34.2263,2,  34.2258,2,     18.1,3,    17.8,2,   93.67,3,   42.95,3,    0.00,2,    3.08,2,   0.299,2,   0.170,2,   0.1003,2,  2339.0,2,  2335.0,2,   7.2986,2,    25.00,2, -999.00,9,  -999.0,9, -999.00,9, -999.00,9,       53.9,2, 20220627,     1445,  30.0002,-142.1603,     4.4667,2,     -999.0,9,     -999.0,9,     -999.0,9,     -999.0,9,     0.0134,1,     4.6941,1,     -999.0,9,     -999.0,9,     -999.0,9,     -999.0,9,     -999.0,9
33RR20220613,       P02E,     151,          1,         21,         21,2,20220627,       1309,    30.0002,  -142.1603,       4965,   872.5,2,   4.0734,2,  34.3281,2,  34.3270,2,     13.4,3,    12.9,2,  110.77,2,   43.66,2,    0.00,2,    3.14,2,   0.067,2,   0.045,2,   0.1005,2,  2354.7,2,  2352.0,2,   7.3020,2,    25.00,2, -999.00,9,  -999.0,9, -999.00,9, -999.00,9,       55.6,2, 20220627,     1442,  30.0002,-142.1603,     4.0804,2,     -999.0,9,     -999.0,9,     -999.0,9,     -999.0,9,     0.0134,1,     4.6940,1,     -999.0,9,     -999.0,9,     -999.0,9,     -999.0,9,     -999.0,9
33RR20220613,       P02E,     151,          1,         20,         20,2,20220627,       1309,    30.0002,  -142.1603,       4965,   974.0,2,   3.8202,2,  34.3935,2,  34.3939,2,     17.9,3,    17.8,2,  117.81,2,   43.75,2,    0.00,2,    3.14,2,   0.022,2,   0.018,2,   0.0000,2,  2360.2,2,  2362.8,2,   7.3196,2,    25.01,2, -999.00,9,  -999.0,9, -999.00,9, -999.00,9,       53.5,2, 20220627,     1439,  30.0002,-142.1603,     3.8220,2,     -999.0,9,     -999.0,9,     -999.0,9,     -999.0,9,     0.0134,1,     4.6946,1,     -999.0,9,     -999.0,9,     -999.0,9,     -999.0,9,     -999.0,9
33RR20220613,       P02E,     151,          1,         19,         39,2,20220627,       1309,    30.0002,  -142.1603,       4965,  1074.8,2,   3.5461,2,  34.4523,2,  34.4510,2,     27.5,2,    27.6,2,  124.16,2,   43.31,2,    0.00,2,    3.12,2,   0.012,2,   0.010,2,   0.0000,2,  2361.9,2,  2375.4,2,   7.3439,2,    25.01,2, -999.00,9,  -999.0,9, -999.00,9, -999.00,9,       49.5,2, 20220627,     1436,  30.0002,-142.1603,     3.5473,2,     -999.0,9,     -999.0,9,     -999.0,9,     -999.0,9,     0.0134,1,     4.6951,1,     -999.0,9,     -999.0,9,     -999.0,9,     -999.0,9,     -999.0,9
33RR20220613,       P02E,     151,          1,         18,         18,2,20220627,       1309,    30.0002,  -142.1603,       4965,  1176.0,2,   3.3528,2,  34.4841,2,  34.4860,2,     34.9,3,    35.3,2,  129.04,2,   42.97,2,    0.00,2,    3.08,2,   0.007,2,   0.005,2,   0.0000,2,  -999.0,9,  -999.0,9,-999.0000,9,  -999.00,9, -999.00,9,  -999.0,9, -999.00,9, -999.00,9,       47.2,2, 20220627,     1434,  30.0002,-142.1603,     3.3480,2,     -999.0,9,     -999.0,9,     -999.0,9,     -999.0,9,     0.0134,1,     4.6957,1,     -999.0,9,     -999.0,9,     -999.0,9,     -999.0,9,     -999.0,9
33RR20220613,       P02E,     151,          1,         17,         37,2,20220627,       1309,    30.0002,  -142.1603,       4965,  1276.9,2,   3.1281,2,  34.5139,2,  34.5140,2,     41.5,2,    41.8,2,  133.44,2,   42.60,2,    0.00,2,    3.05,2,   0.005,2,   0.005,2,   0.0000,2,  2363.5,2,  2388.4,2,   7.3756,2,    25.01,2, -999.00,9,  -999.0,9, -999.00,9, -999.00,9,       43.5,2, 20220627,     1431,  30.0002,-142.1603,     3.1279,2,     -999.0,9,     -999.0,9,     -999.0,9,     -999.0,9,     0.0134,1,     4.6959,1,     -999.0,9,     -999.0,9,     -999.0,9,     -999.0,9,     -999.0,9
33RR20220613,       P02E,     151,          1,         16,         16,2,20220627,       1309,    30.0002,  -142.1603,       4965,  1378.1,2,   2.9354,2,  34.5352,2,  34.5339,2,     48.0,2,    47.9,2,  137.74,2,   42.29,2,    0.00,2,    3.02,2,   0.006,2,   0.004,2,   0.0000,2,  -999.0,9,  -999.0,9,-999.0000,9,  -999.00,9, -999.00,9,  -999.0,9, -999.00,9, -999.00,9,       41.1,2, 20220627,     1428,  30.0002,-142.1603,     2.9351,2,     -999.0,9,     -999.0,9,     -999.0,9,     -999.0,9,     0.0128,1,     4.6967,1,     -999.0,9,     -999.0,9,     -999.0,9,     -999.0,9,     -999.0,9
33RR20220613,       P02E,     151,          1,         15,         15,2,20220627,       1309,    30.0002,  -142.1603,       4965,  1480.2,2,   2.7711,2,  34.5526,2,  34.5519,2,     54.4,2,    54.2,2,  142.53,2,   42.07,2,    0.00,2,    2.98,2,   0.003,2,   0.003,2,   0.0000,2,  2365.0,2,  2400.3,2,   7.4015,2,    24.99,2, -999.00,9,  -999.0,9, -999.00,9, -999.00,9,       39.8,2, 20220627,     1425,  30.0002,-142.1603,     2.7701,2,     -999.0,9,     -999.0,9,     -999.0,9,     -999.0,9,     0.0129,1,     4.6971,1,     -999.0,9,     -999.0,9,     -999.0,9,     -999.0,9,     -999.0,9
33RR20220613,       P02E,     151,          1,         14,         14,2,20220627,       1309,    30.0002,  -142.1603,       4965,  1581.7,2,   2.5923,2,  34.5692,2,  34.5737,2,     60.0,2,    59.9,2,  146.14,2,   41.73,2,    0.00,2,    2.96,2,-999.000,9,-999.000,9,-999.0000,9,  -999.0,9,  -999.0,9,-999.0000,9,  -999.00,9, -999.00,9,  -999.0,9, -999.00,9, -999.00,9,     -999.0,9, 20220627,     1422,  30.0002,-142.1603,     2.5943,2,     -999.0,9,     -999.0,9,     -999.0,9,     -999.0,9,     0.0134,1,     4.6972,1,     -999.0,9,     -999.0,9,     -999.0,9,     -999.0,9,     -999.0,9
33RR20220613,       P02E,     151,          1,         13,         13,2,20220627,       1309,    30.0002,  -142.1603,       4965,  1754.1,2,   2.3617,2,  34.5884,2,  34.5897,2,     66.8,2,    66.8,2,  152.88,2,   41.42,2,    0.00,2,    2.93,2,   0.005,2,   0.000,2,   0.0000,2,  2368.7,2,  2409.7,2,   7.4247,2,    25.01,2, -999.00,9,  -999.0,9, -999.00,9, -999.00,9,       35.6,2, 20220627,     1418,  30.0002,-142.1603,     2.3612,2,     -999.0,9,     -999.0,9,     -999.0,9,     -999.0,9,     0.0134,1,     4.6982,1,     -999.0,9,     -999.0,9,     -999.0,9,     -999.0,9,     -999.0,9
33RR20220613,       P02E,     151,          1,         12,         12,2,20220627,       1309,    30.0002,  -142.1603,       4965,  1958.0,2,   2.1505,2,  34.6075,2,  34.6069,2,     74.9,2,    75.2,2,  158.84,2,   40.83,2,    0.00,2,    2.89,2,-999.000,9,-999.000,9,-999.0000,9,  -999.0,9,  -999.0,9,-999.0000,9,  -999.00,9, -999.00,9,  -999.0,9, -999.00,9, -999.00,9,     -999.0,9, 20220627,     1414,  30.0002,-142.1603,     2.1495,2,     -999.0,9,     -999.0,9,     -999.0,9,     -999.0,9,     0.0134,1,     4.6981,1,     -999.0,9,     -999.0,9,     -999.0,9,     -999.0,9,     -999.0,9
33RR20220613,       P02E,     151,          1,         11,         11,2,20220627,       1309,    30.0002,  -142.1603,       4965,  2191.2,2,   1.9493,2,  34.6254,2,  34.6268,2,     85.2,2,    85.3,2,  163.63,2,   40.22,2,    0.00,2,    2.82,2,   0.003,2,   0.002,2,   0.0000,2,  2367.9,2,  2419.7,2,   7.4602,2,    25.00,2, -999.00,9,  -999.0,9, -999.00,9, -999.00,9,       31.2,2, 20220627,     1409,  30.0002,-142.1603,     1.9490,2,     -999.0,9,     -999.0,9,     -999.0,9,     -999.0,9,     0.0134,1,     4.6995,1,     -999.0,9,     -999.0,9,     -999.0,9,     -999.0,9,     -999.0,9
33RR20220613,       P02E,     151,          1,         10,         10,2,20220627,       1309,    30.0002,  -142.1603,       4965,  2446.9,2,   1.7913,2,  34.6401,3,  34.6453,2,     96.1,2,    95.9,2,  166.46,2,   39.53,2,    0.00,2,    2.78,2,-999.000,9,-999.000,9,-999.0000,9,  -999.0,9,  -999.0,9,-999.0000,9,  -999.00,9, -999.00,9,  -999.0,9, -999.00,9, -999.00,9,     -999.0,9, 20220627,     1402,  30.0002,-142.1603,     1.7907,2,     -999.0,9,     -999.0,9,     -999.0,9,     -999.0,9,     0.0134,1,     4.6997,1,     -999.0,9,     -999.0,9,     -999.0,9,     -999.0,9,     -999.0,9
33RR20220613,       P02E,     151,          1,          9,          9,2,20220627,       1309,    30.0002,  -142.1603,       4965,  2701.8,2,   1.6886,2,  34.6506,2,  34.6506,2,    105.3,2,   105.3,2,  167.05,2,   39.15,2,    0.00,2,    2.72,2,   0.004,2,   0.000,2,   0.0000,2,  2360.2,2,  2428.3,2,   7.4989,2,    25.00,2, -999.00,9,  -999.0,9, -999.00,9, -999.00,9,       26.3,2, 20220627,     1358,  30.0002,-142.1603,     1.6884,2,     -999.0,9,     -999.0,9,     -999.0,9,     -999.0,9,     0.0134,1,     4.7007,1,     -999.0,9,     -999.0,9,     -999.0,9,     -999.0,9,     -999.0,9
33RR20220613,       P02E,     151,          1,          8,          8,2,20220627,       1309,    30.0002,  -142.1603,       4965,  2954.8,2,   1.5974,2,  34.6604,2,  34.6608,2,    115.7,2,   116.0,2,  166.46,2,   38.38,2,    0.00,2,    2.67,2,-999.000,9,-999.000,9,-999.0000,9,  -999.0,9,  -999.0,9,-999.0000,9,  -999.00,9, -999.00,9,  -999.0,9, -999.00,9, -999.00,9,     -999.0,9, 20220627,     1353,  30.0002,-142.1603,     1.5974,2,     -999.0,9,     -999.0,9,     -999.0,9,     -999.0,9,     0.0122,1,     4.7008,1,     -999.0,9,     -999.0,9,     -999.0,9,     -999.0,9,     -999.0,9
33RR20220613,       P02E,     151,          1,          7,          7,2,20220627,       1309,    30.0002,  -142.1603,       4965,  3246.3,2,   1.5275,2,  34.6692,2,  34.6684,2,    126.0,2,   125.8,2,  165.09,2,   37.88,2,    0.00,2,    2.60,2,   0.003,2,   0.002,2,   0.0000,2,  2345.1,2,  2425.8,2,   7.5354,2,    25.00,2, -999.00,9,  -999.0,9, -999.00,9, -999.00,9,       24.1,2, 20220627,     1346,  30.0002,-142.1603,     1.5265,2,     -999.0,9,     -999.0,9,     -999.0,9,     -999.0,9,     0.0128,1,     4.7012,1,     -999.0,9,     -999.0,9,     -999.0,9,     -999.0,9,     -999.0,9
33RR20220613,       P02E,     151,          1,          6,          6,2,20220627,       1309,    30.0002,  -142.1603,       4965,  3554.4,2,   1.4911,2,  34.6758,2,  34.6767,2,    134.7,2,   134.8,2,  162.26,2,   37.59,2,    0.00,2,    2.55,2,-999.000,9,-999.000,9,-999.0000,9,  -999.0,9,  -999.0,9,-999.0000,9,  -999.00,9, -999.00,9,  -999.0,9, -999.00,9, -999.00,9,     -999.0,9, 20220627,     1341,  30.0002,-142.1603,     1.4908,2,     -999.0,9,     -999.0,9,     -999.0,9,     -999.0,9,     0.0122,1,     4.7019,1,     -999.0,9,     -999.0,9,     -999.0,9,     -999.0,9,     -999.0,9
33RR20220613,       P02E,     151,          1,          5,          5,2,20220627,       1309,    30.0002,  -142.1603,       4965,  3861.5,2,   1.4749,2,  34.6808,2,  34.6814,2,    141.9,2,   141.8,2,  159.72,2,   36.80,2,    0.00,2,    2.53,2,   0.004,2,   0.005,2,   0.0000,2,  2334.8,2,  2426.3,2,   7.5641,2,    25.00,2, -999.00,9,  -999.0,9, -999.00,9, -999.00,9,       25.8,2, 20220627,     1334,  30.0002,-142.1603,     1.4747,2,     -999.0,9,     -999.0,9,     -999.0,9,     -999.0,9,     0.0127,1,     4.7020,1,     -999.0,9,     -999.0,9,     -999.0,9,     -999.0,9,     -999.0,9