BOTTLE,20230830CCHSIOCBG
EXPOCODE,SECT_ID,STNNBR,CASTNO,SAMPNO,BTLNBR,BTLNBR_FLAG_W,DATE,TIME,LATITUDE,LONGITUDE,DEPTH,CTDPRS,CTDPRS_FLAG_W,CTDTMP,CTDTMP_FLAG_W,CTDSAL,CTDSAL_FLAG_W,SALNTY,SALNTY_FLAG_W,CTDOXY,CTDOXY_FLAG_W,OXYGEN,OXYGEN_FLAG_W,SILCAT,SILCAT_FLAG_W,NITRAT,NITRAT_FLAG_W,NITRIT,NITRIT_FLAG_W,PHSPHT,PHSPHT_FLAG_W,CFC-11,CFC-11_FLAG_W,CFC-12,CFC-12_FLAG_W,SF6,SF6_FLAG_W,TCARBN,TCARBN_FLAG_W,ALKALI,ALKALI_FLAG_W,PH_TOT,PH_TOT_FLAG_W,PH_TMP,PH_TMP_FLAG_W,DELC13,DELC13_FLAG_W,DELC14,DELC14_FLAG_W,DOC,DOC_FLAG_W,TDN,TDN_FLAG_W,N2O,N2O_FLAG_W,BTL_DATE,BTL_TIME,BTL_LAT,BTL_LON,REFTMP,REFTMP_FLAG_W,POC,POC_FLAG_W,PON,PON_FLAG_W,POP,POP_FLAG_W,PCOD,PCOD_FLAG_W,CTDFLUOR,CTDFLUOR_FLAG_W,CTDXMISS,CTDXMISS_FLAG_W,HPLC,HPLC_FLAG_W,DNA,DNA_FLAG_W,FCM,FCM_FLAG_W,IMAGES,IMAGES_FLAG_W,VIRAL_ABUNDANCE,VIRAL_ABUNDANCE_FLAG_W
,,,,,,,,,,,METERS,DBAR,,ITS-90,,PSS-78,,PSS-78,,UMOL/KG,,UMOL/KG,,UMOL/KG,,UMOL/KG,,UMOL/KG,,UMOL/KG,,PMOL/KG,,PMOL/KG,,FMOL/KG,,UMOL/KG,,UMOL/KG,,,,DEG C,,/MILLE,,/MILLE,,UMOL/KG,,UMOL/KG,,NMOL/KG,,,,,,ITS-90,,UG/L,,UG/L,,UG/L,,UG/L,,VOLTS,,VOLTS,,,,,,,,,,,
33RR20220613,       P02E,     193,          1,         36,         36,2,20220710,       0125,    31.8560,  -119.6188,       2831,     4.0,2,  17.0290,2,  33.6208,2,  33.6261,2,    249.1,2,   249.6,2,    0.68,2,    1.19,2,    0.06,2,    0.36,2,   2.368,6,   1.420,6,   2.3304,6,  2033.9,6,  2243.5,2,   7.9048,2,    24.99,2, -999.00,9,  -999.0,9, -999.00,9, -999.00,9,       10.2,6, 20220710,      308,  31.8560,-119.6188,    17.0248,2,     -999.0,9,     -999.0,9,     -999.0,9,     -999.0,9,     0.0358,1,     4.5482,1,     -999.0,9,     -999.0,9,     -999.0,9,     -999.0,9,     -999.0,9
33RR20220613,       P02E,     193,          1,         35,         35,2,20220710,       0125,    31.8560,  -119.6188,       2831,    35.1,2,  14.7189,2,  33.6055,2,  33.6091,2,    268.2,2,   267.6,2,    1.27,2,    4.51,2,    0.20,2,    0.62,2,   2.694,2,   1.572,2,   2.4161,2,  2053.5,2,  2243.0,2,   7.8573,2,    25.00,2, -999.00,9,  -999.0,9, -999.00,9, -999.00,9,       11.5,2, 20220710,      305,  31.8560,-119.6188,    14.6534,2,     -999.0,9,     -999.0,9,     -999.0,9,     -999.0,9,     0.0562,1,     4.5719,1,     -999.0,9,     -999.0,9,     -999.0,9,     -999.0,9,     -999.0,9
33RR20220613,       P02E,     193,          1,         34,         34,2,20220710,       0125,    31.8560,  -119.6188,       2831,    60.2,2,  11.6341,2,  33.2709,3,  33.5579,2,    198.1,3,   226.6,2,    7.34,2,   11.79,2,    0.15,2,    1.07,2,   2.821,2,   1.673,2,   2.4028,2,  2098.0,2,  2235.5,2,   7.7308,2,    25.00,2, -999.00,9,  -999.0,9, -999.00,9, -999.00,9,       14.3,2, 20220710,      302,  31.8559,-119.6187,    11.6189,2,     -999.0,9,     -999.0,9,     -999.0,9,     -999.0,9,     0.0323,1,     4.6363,1,     -999.0,9,     -999.0,9,     -999.0,9,     -999.0,9,     -999.0,9
33RR20220613,       P02E,     193,          1,         33,         33,2,20220710,       0125,    31.8560,  -119.6188,       2831,    85.7,2,  10.6019,2,  33.4987,3,  33.6823,2,    164.0,2,   163.5,2,   17.70,2,   19.45,2,    0.03,2,    1.54,2,   2.937,2,   1.745,2,   2.1476,2,  2152.1,2,  2236.8,2,   7.5845,2,    24.99,2, -999.00,9,  -999.0,9, -999.00,9, -999.00,9,       21.1,2, 20220710,      259,  31.8560,-119.6188,    10.6017,2,     -999.0,9,     -999.0,9,     -999.0,9,     -999.0,9,     0.0183,1,     4.6612,1,     -999.0,9,     -999.0,9,     -999.0,9,     -999.0,9,     -999.0,9
33RR20220613,       P02E,     193,          1,         32,         32,2,20220710,       0125,    31.8560,  -119.6188,       2831,   111.2,2,   9.8335,2,  33.7415,3,  33.8692,2,    130.0,2,   130.3,2,   24.74,2,   23.51,2,    0.05,2,    1.80,2,   2.784,2,   1.668,2,   1.7369,2,  2185.8,2,  2247.5,6,   7.5207,2,    25.00,2, -999.00,9,  -999.0,9, -999.00,9, -999.00,9,       26.6,2, 20220710,      257,  31.8559,-119.6187,     9.8316,2,     -999.0,9,     -999.0,9,     -999.0,9,     -999.0,9,     0.0134,1,     4.6708,1,     -999.0,9,     -999.0,9,     -999.0,9,     -999.0,9,     -999.0,9
33RR20220613,       P02E,     193,          1,         31,         31,2,20220710,       0125,    31.8560,  -119.6188,       2831,   135.9,2,   9.3827,2,  33.8661,3,  33.9553,2,    108.2,2,   108.4,2,   29.43,2,   25.83,2,    0.03,2,    1.96,2,   2.693,2,   1.604,2,   1.4875,2,  2204.1,2,  2254.3,2,   7.4829,2,    25.00,2, -999.00,9,  -999.0,9, -999.00,9, -999.00,9,       30.7,2, 20220710,      255,  31.8560,-119.6188,     9.3831,2,     -999.0,9,     -999.0,9,     -999.0,9,     -999.0,9,     0.0134,1,     4.6695,1,     -999.0,9,     -999.0,9,     -999.0,9,     -999.0,9,     -999.0,9
33RR20220613,       P02E,     193,          1,         30,         17,2,20220710,       0125,    31.8560,  -119.6188,       2831,   161.4,2,   9.0401,2,  33.8931,3,  34.0354,2,    100.4,3,    97.0,2,   32.95,2,   27.01,2,    0.00,2,    2.06,2,   2.569,2,   1.523,2,   1.1868,2,  2217.0,2,  2261.1,2,   7.4667,2,    24.99,2, -999.00,9,  -999.0,9, -999.00,9, -999.00,9,       33.8,2, 20220710,      253,  31.8560,-119.6188,     9.0297,2,     -999.0,9,     -999.0,9,     -999.0,9,     -999.0,9,     0.0134,1,     4.6682,1,     -999.0,9,     -999.0,9,     -999.0,9,     -999.0,9,     -999.0,9
33RR20220613,       P02E,     193,          1,         29,         29,2,20220710,       0125,    31.8560,  -119.6188,       2831,   186.3,2,   8.6100,2,  34.0358,2,  34.0298,2,    112.8,2,   112.4,2,   34.12,2,   26.94,2,    0.00,2,    1.97,2,   2.687,2,   1.578,2,   1.2701,2,  2209.2,2,  2264.9,2,   7.4926,2,    25.00,2, -999.00,9,  -999.0,9, -999.00,9, -999.00,9,       32.5,2, 20220710,      251,  31.8560,-119.6188,     8.6087,2,     -999.0,9,     -999.0,9,     -999.0,9,     -999.0,9,     0.0134,1,     4.6690,1,     -999.0,9,     -999.0,9,     -999.0,9,     -999.0,9,     -999.0,9
33RR20220613,       P02E,     193,          1,         28,         28,2,20220710,       0125,    31.8560,  -119.6188,       2831,   211.5,2,   8.3939,2,  34.1267,3,  34.0625,2,     99.4,3,    95.7,2,   37.63,2,   28.55,2,    0.00,2,    2.12,2,   2.556,2,   1.478,2,   1.0612,2,  2225.1,2,  2267.3,2,   7.4589,2,    25.01,2, -999.00,9,  -999.0,9, -999.00,9, -999.00,9,       34.5,2, 20220710,      249,  31.8560,-119.6188,     8.4150,2,     -999.0,9,     -999.0,9,     -999.0,9,     -999.0,9,     0.0134,1,     4.6668,1,     -999.0,9,     -999.0,9,     -999.0,9,     -999.0,9,     -999.0,9
33RR20220613,       P02E,     193,          1,         27,         27,2,20220710,       0125,    31.8560,  -119.6188,       2831,   237.0,2,   8.3614,2,  33.9927,3,  34.1905,2,     52.3,2,    52.8,2,   44.28,2,   31.33,2,    0.00,2,    2.48,2,-999.000,9,-999.000,9,-999.0000,9,  2260.1,2,  2278.9,2,   7.3867,2,    25.00,2, -999.00,9,  -999.0,9, -999.00,9, -999.00,9,     -999.0,9, 20220710,      247,  31.8560,-119.6188,     8.3974,2,     -999.0,9,     -999.0,9,     -999.0,9,     -999.0,9,     0.0134,1,     4.6726,1,     -999.0,9,     -999.0,9,     -999.0,9,     -999.0,9,     -999.0,9
33RR20220613,       P02E,     193,          1,         26,         26,2,20220710,       0125,    31.8560,  -119.6188,       2831,   268.2,2,   7.9855,2,  33.9602,3,  34.1973,2,     45.6,3,    46.3,2,   48.19,2,   32.48,2,    0.05,2,    2.56,2,   1.746,2,   1.008,2,   0.5681,2,  -999.0,9,  -999.0,9,-999.0000,9,  -999.00,9, -999.00,9,  -999.0,9, -999.00,9, -999.00,9,       40.7,2, 20220710,      244,  31.8560,-119.6188,     8.0098,2,     -999.0,9,     -999.0,9,     -999.0,9,     -999.0,9,     0.0134,1,     4.6733,1,     -999.0,9,     -999.0,9,     -999.0,9,     -999.0,9,     -999.0,9
33RR20220613,       P02E,     193,          1,         25,         25,2,20220710,       0125,    31.8560,  -119.6188,       2831,   318.2,2,   7.2559,2,  34.2313,3,  34.1977,2,     39.1,2,    39.3,2,   56.59,2,   34.81,2,    0.00,2,    2.70,2,-999.000,9,-999.000,9,-999.0000,9,  2283.7,2,  2290.6,2,   7.3514,2,    25.00,2, -999.00,9,  -999.0,9, -999.00,9, -999.00,9,     -999.0,9, 20220710,      242,  31.8559,-119.6188,     7.2446,2,     -999.0,9,     -999.0,9,     -999.0,9,     -999.0,9,     0.0134,1,     4.6764,1,     -999.0,9,     -999.0,9,     -999.0,9,     -999.0,9,     -999.0,9
33RR20220613,       P02E,     193,          1,         24,         24,2,20220710,       0125,    31.8560,  -119.6188,       2831,   369.1,2,   6.7238,2,  34.2059,2,  34.2075,2,     29.5,3,    29.9,2,   63.63,2,   36.70,2,    0.00,2,    2.82,2,   1.093,2,   0.607,2,   0.3084,2,  -999.0,9,  -999.0,9,-999.0000,9,  -999.00,9, -999.00,9,  -999.0,9, -999.00,9, -999.00,9,       47.5,2, 20220710,      239,  31.8560,-119.6188,     6.7227,2,     -999.0,9,     -999.0,9,     -999.0,9,     -999.0,9,     0.0134,1,     4.6771,1,     -999.0,9,     -999.0,9,     -999.0,9,     -999.0,9,     -999.0,9
33RR20220613,       P02E,     193,          1,         23,         23,2,20220710,       0125,    31.8560,  -119.6188,       2831,   419.1,2,   6.3103,2,  34.2302,2,  34.2322,2,     22.4,3,    22.9,2,   70.66,2,   38.25,2,    0.00,2,    2.92,2,-999.000,9,-999.000,9,-999.0000,9,  2306.3,2,  2307.8,2,   7.3219,2,    25.00,2, -999.00,9,  -999.0,9, -999.00,9, -999.00,9,     -999.0,9, 20220710,      237,  31.8560,-119.6188,     6.3086,2,     -999.0,9,     -999.0,9,     -999.0,9,     -999.0,9,     0.0134,1,     4.6787,1,     -999.0,9,     -999.0,9,     -999.0,9,     -999.0,9,     -999.0,9
33RR20220613,       P02E,     193,          1,         22,         22,2,20220710,       0125,    31.8560,  -119.6188,       2831,   469.8,2,   6.0812,2,  34.2786,2,  34.2919,2,     15.9,3,    16.3,2,   75.45,2,   39.10,2,    0.00,2,    3.01,2,   0.488,2,   0.269,2,   0.1363,2,  -999.0,9,  -999.0,9,-999.0000,9,  -999.00,9, -999.00,9,  -999.0,9, -999.00,9, -999.00,9,       54.6,2, 20220710,      234,  31.8560,-119.6187,     6.0820,2,     -999.0,9,     -999.0,9,     -999.0,9,     -999.0,9,     0.0134,1,     4.6801,1,     -999.0,9,     -999.0,9,     -999.0,9,     -999.0,9,     -999.0,9
33RR20220613,       P02E,     193,          1,         21,         21,2,20220710,       0125,    31.8560,  -119.6188,       2831,   540.4,2,   5.8057,2,  34.3350,2,  34.3374,2,     11.4,2,    11.4,2,   81.80,2,   40.06,2,    0.00,2,    3.08,2,   0.230,2,   0.134,2,   0.1145,2,  2328.1,2,  2325.8,2,   7.3169,2,    25.00,2, -999.00,9,  -999.0,9, -999.00,9, -999.00,9,       57.9,2, 20220710,      231,  31.8559,-119.6187,     5.8040,2,     -999.0,9,     -999.0,9,     -999.0,9,     -999.0,9,     0.0134,1,     4.6791,1,     -999.0,9,     -999.0,9,     -999.0,9,     -999.0,9,     -999.0,9
33RR20220613,       P02E,     193,          1,         20,         20,2,20220710,       0125,    31.8560,  -119.6188,       2831,   641.4,2,   5.3534,2,  34.3762,2,  34.3774,2,     11.2,3,    11.1,2,   90.01,2,   41.24,2,    0.00,2,    3.13,2,   0.105,2,   0.061,2,   0.1193,2,  2336.0,2,  2336.9,2,   7.3210,2,    25.02,2, -999.00,9,  -999.0,9, -999.00,9, -999.00,9,       58.6,2, 20220710,      228,  31.8560,-119.6188,     5.3520,2,     -999.0,9,     -999.0,9,     -999.0,9,     -999.0,9,     0.0134,1,     4.6812,1,     -999.0,9,     -999.0,9,     -999.0,9,     -999.0,9,     -999.0,9
33RR20220613,       P02E,     193,          1,         19,         39,2,20220710,       0125,    31.8560,  -119.6188,       2831,   742.2,2,   4.9086,2,  34.4189,2,  34.4198,2,     13.3,3,    12.9,2,   98.11,2,   42.24,2,    0.00,2,    3.16,2,   0.043,2,   0.028,2,   0.1132,2,  2345.3,2,  2347.7,2,   7.3276,2,    25.00,2, -999.00,9,  -999.0,9, -999.00,9, -999.00,9,       58.4,2, 20220710,      225,  31.8560,-119.6188,     4.9069,2,     -999.0,9,     -999.0,9,     -999.0,9,     -999.0,9,     0.0134,1,     4.6835,1,     -999.0,9,     -999.0,9,     -999.0,9,     -999.0,9,     -999.0,9
33RR20220613,       P02E,     193,          1,         18,         18,2,20220710,       0125,    31.8560,  -119.6188,       2831,   843.2,2,   4.5675,2,  34.4437,2,  34.4445,2,     16.5,2,    16.3,2,  104.86,2,   42.77,2,    0.00,2,    3.16,2,   0.023,2,   0.018,2,   0.0972,2,  -999.0,9,  -999.0,9,-999.0000,9,  -999.00,9, -999.00,9,  -999.0,9, -999.00,9, -999.00,9,       57.4,2, 20220710,      222,  31.8559,-119.6187,     4.5686,2,     -999.0,9,     -999.0,9,     -999.0,9,     -999.0,9,     0.0133,1,     4.6849,1,     -999.0,9,     -999.0,9,     -999.0,9,     -999.0,9,     -999.0,9
33RR20220613,       P02E,     193,          1,         17,         37,2,20220710,       0125,    31.8560,  -119.6188,       2831,   944.5,2,   4.2441,2,  34.4693,2,  34.4697,2,     20.6,3,    20.4,2,  111.40,2,   43.00,2,    0.00,2,    3.16,2,   0.020,2,   0.017,2,   0.1546,2,  2356.9,2,  2365.6,2,   7.3426,2,    25.00,2, -999.00,9,  -999.0,9, -999.00,9, -999.00,9,       53.3,2, 20220710,      219,  31.8560,-119.6188,     4.2435,2,     -999.0,9,     -999.0,9,     -999.0,9,     -999.0,9,     0.0134,1,     4.6859,1,     -999.0,9,     -999.0,9,     -999.0,9,     -999.0,9,     -999.0,9
33RR20220613,       P02E,     193,          1,         16,         16,2,20220710,       0125,    31.8560,  -119.6188,       2831,  1045.9,2,   3.9705,2,  34.4906,2,  34.4922,2,     24.7,2,    24.6,2,  117.75,2,   43.04,2,    0.00,2,    3.15,2,   0.018,2,   0.015,2,   0.1195,2,  -999.0,9,  -999.0,9,-999.0000,9,  -999.00,9, -999.00,9,  -999.0,9, -999.00,9, -999.00,9,       51.4,2, 20220710,      217,  31.8560,-119.6187,     3.9689,2,     -999.0,9,     -999.0,9,     -999.0,9,     -999.0,9,     0.0134,1,     4.6854,1,     -999.0,9,     -999.0,9,     -999.0,9,     -999.0,9,     -999.0,9
33RR20220613,       P02E,     193,          1,         15,         15,2,20220710,       0125,    31.8560,  -119.6188,       2831,  1145.5,2,   3.7000,2,  34.5095,2,  34.5087,2,     29.4,2,    29.4,2,  123.61,2,   43.05,2,    0.00,2,    3.14,2,   0.019,2,   0.016,2,   0.1646,2,  2366.4,2,  2380.9,2,   7.3593,2,    24.99,2, -999.00,9,  -999.0,9, -999.00,9, -999.00,9,       49.3,2, 20220710,      214,  31.8560,-119.6188,     3.7012,2,     -999.0,9,     -999.0,9,     -999.0,9,     -999.0,9,     0.0134,1,     4.6869,1,     -999.0,9,     -999.0,9,     -999.0,9,     -999.0,9,     -999.0,9
33RR20220613,       P02E,     193,          1,         14,         42,2,20220710,       0125,    31.8560,  -119.6188,       2831,  1246.9,2,   3.4905,2,  34.5248,2,  34.5264,2,     33.5,3,    33.2,2,  128.99,2,   42.96,2,    0.00,2,    3.12,2,   0.020,2,   0.021,2,   0.0744,2,  -999.0,9,  -999.0,9,-999.0000,9,  -999.00,9, -999.00,9,  -999.0,9, -999.00,9, -999.00,9,       46.1,2, 20220710,      210,  31.8559,-119.6188,     3.4909,2,     -999.0,9,     -999.0,9,     -999.0,9,     -999.0,9,     0.0134,1,     4.6866,1,     -999.0,9,     -999.0,9,     -999.0,9,     -999.0,9,     -999.0,9
33RR20220613,       P02E,     193,          1,         13,         13,2,20220710,       0125,    31.8560,  -119.6188,       2831,  1348.6,2,   3.2229,2,  34.5452,2,  34.5466,2,     39.9,2,    39.7,2,  135.24,2,   42.65,2,    0.00,2,    3.08,2,   0.027,2,   0.019,2,   0.1453,2,  2372.0,2,  2393.8,2,   7.3793,2,    25.00,2, -999.00,9,  -999.0,9, -999.00,9, -999.00,9,       42.9,2, 20220710,      208,  31.8560,-119.6188,     3.2221,2,     -999.0,9,     -999.0,9,     -999.0,9,     -999.0,9,     0.0134,1,     4.6865,1,     -999.0,9,     -999.0,9,     -999.0,9,     -999.0,9,     -999.0,9
33RR20220613,       P02E,     193,          1,         12,         12,2,20220710,       0125,    31.8560,  -119.6188,       2831,  1450.1,2,   3.0206,2,  34.5589,2,  34.5598,2,     45.3,2,    44.9,2,  140.02,2,   42.34,2,    0.00,2,    3.06,2,   0.032,2,   0.025,2,   0.1586,2,  2376.0,2,  2398.9,2,   7.3893,2,    24.99,2, -999.00,9,  -999.0,9, -999.00,9, -999.00,9,       43.1,2, 20220710,      205,  31.8559,-119.6188,     3.0208,2,     -999.0,9,     -999.0,9,     -999.0,9,     -999.0,9,     0.0134,1,     4.6834,1,     -999.0,9,     -999.0,9,     -999.0,9,     -999.0,9,     -999.0,9
33RR20220613,       P02E,     193,          1,         11,         11,2,20220710,       0125,    31.8560,  -119.6188,       2831,  1551.1,2,   2.8457,2,  34.5703,2,  34.5716,2,     50.0,2,    50.2,2,  145.10,2,   42.06,2,    0.00,2,    3.03,2,   0.039,2,   0.039,2,   0.1055,2,  2375.9,2,  2404.0,2,   7.3990,2,    24.99,2, -999.00,9,  -999.0,9, -999.00,9, -999.00,9,       40.3,2, 20220710,      202,  31.8560,-119.6188,     2.8452,2,     -999.0,9,     -999.0,9,     -999.0,9,     -999.0,9,     0.0134,1,     4.6789,1,     -999.0,9,     -999.0,9,     -999.0,9,     -999.0,9,     -999.0,9
33RR20220613,       P02E,     193,          1,         10,         10,2,20220710,       0125,    31.8560,  -119.6188,       2831,  1653.3,2,   2.7147,2,  34.5815,2,  34.5812,2,     55.4,2,    55.7,2,  147.45,2,   41.86,2,    0.00,2,    3.01,2,   0.017,2,   0.017,2,   0.0000,2,  -999.0,9,  -999.0,9,-999.0000,9,  -999.00,9, -999.00,9,  -999.0,9, -999.00,9, -999.00,9,       38.6,2, 20220710,      200,  31.8560,-119.6188,     2.7149,2,     -999.0,9,     -999.0,9,     -999.0,9,     -999.0,9,     0.0134,1,     4.6854,1,     -999.0,9,     -999.0,9,     -999.0,9,     -999.0,9,     -999.0,9
33RR20220613,       P02E,     193,          1,          9,          9,2,20220710,       0125,    31.8560,  -119.6188,       2831,  1754.2,2,   2.5275,2,  34.5928,2,  34.5930,2,     62.0,2,    62.2,2,  151.65,2,   41.50,2,    0.00,2,    2.97,2,-999.000,9,-999.000,9,-999.0000,9,  2373.5,2,  2410.8,2,   7.4202,2,    24.99,2, -999.00,9,  -999.0,9, -999.00,9, -999.00,9,     -999.0,9, 20220710,      157,  31.8559,-119.6188,     2.5271,2,     -999.0,9,     -999.0,9,     -999.0,9,     -999.0,9,     0.0133,1,     4.6861,1,     -999.0,9,     -999.0,9,     -999.0,9,     -999.0,9,     -999.0,9
33RR20220613,       P02E,     193,          1,          8,          8,2,20220710,       0125,    31.8560,  -119.6188,       2831,  1855.6,2,   2.3590,2,  34.6037,2,  34.6040,2,     68.8,2,    69.1,2,  155.46,2,   41.10,2,    0.00,2,    2.93,2,   0.009,2,   0.008,2,   0.0000,2,  -999.0,9,  -999.0,9,-999.0000,9,  -999.00,9, -999.00,9,  -999.0,9, -999.00,9, -999.00,9,       34.4,2, 20220710,      154,  31.8560,-119.6188,     2.3576,2,     -999.0,9,     -999.0,9,     -999.0,9,     -999.0,9,     0.0129,1,     4.6860,1,     -999.0,9,     -999.0,9,     -999.0,9,     -999.0,9,     -999.0,9
33RR20220613,       P02E,     193,          1,          7,          7,2,20220710,       0125,    31.8560,  -119.6188,       2831,  1957.4,2,   2.2387,2,  34.6127,2,  34.6124,2,     74.3,2,    74.6,2,  157.90,2,   40.85,2,    0.00,2,    2.91,2,-999.000,9,-999.000,9,-999.0000,9,  2375.3,2,  2416.9,2,   7.4432,2,    25.00,2, -999.00,9,  -999.0,9, -999.00,9, -999.00,9,     -999.0,9, 20220710,      151,  31.8559,-119.6187,     2.2382,2,     -999.0,9,     -999.0,9,     -999.0,9,     -999.0,9,     0.0134,1,     4.6862,1,     -999.0,9,     -999.0,9,     -999.0,9,     -999.0,9,     -999.0,9
33RR20220613,       P02E,     193,          1,          6,          6,2,20220710,       0125,    31.8560,  -119.6188,       2831,  2089.4,2,   2.0786,2,  34.6245,2,  34.6234,2,     82.1,2,    82.3,2,  160.54,2,   40.48,2,    0.00,2,    2.86,2,   0.006,2,   0.007,2,   0.0000,2,  -999.0,9,  -999.0,9,-999.0000,9,  -999.00,9, -999.00,9,  -999.0,9, -999.00,9, -999.00,9,       31.3,2, 20220710,      148,  31.8559,-119.6187,     2.0775,2,     -999.0,9,     -999.0,9,     -999.0,9,     -999.0,9,     0.0134,1,     4.6885,1,     -999.0,9,     -999.0,9,     -999.0,9,     -999.0,9,     -999.0,9
33RR20220613,       P02E,     193,          1,          5,          5,2,20220710,       0125,    31.8560,  -119.6188,       2831,  2292.9,2,   1.9134,2,  34.6399,2,  34.6417,2,     93.5,2,    93.9,2,  163.17,2,   39.78,2,    0.00,2,    2.80,2,   0.006,2,   0.006,2,   0.0000,2,  2369.3,2,  2427.2,2,   7.4804,2,    25.00,2, -999.00,9,  -999.0,9, -999.00,9, -999.00,9,       29.6,2, 20220710,      144,  31.8560,-119.6188,     1.9139,2,     -999.0,9,     -999.0,9,     -999.0,9,     -999.0,9,     0.0134,1,     4.6884,1,     -999.0,9,     -999.0,9,     -999.0,9,     -999.0,9,     -999.0,9