BOTTLE,20230830CCHSIOCBG
EXPOCODE,SECT_ID,STNNBR,CASTNO,SAMPNO,BTLNBR,BTLNBR_FLAG_W,DATE,TIME,LATITUDE,LONGITUDE,DEPTH,CTDPRS,CTDPRS_FLAG_W,CTDTMP,CTDTMP_FLAG_W,CTDSAL,CTDSAL_FLAG_W,SALNTY,SALNTY_FLAG_W,CTDOXY,CTDOXY_FLAG_W,OXYGEN,OXYGEN_FLAG_W,SILCAT,SILCAT_FLAG_W,NITRAT,NITRAT_FLAG_W,NITRIT,NITRIT_FLAG_W,PHSPHT,PHSPHT_FLAG_W,CFC-11,CFC-11_FLAG_W,CFC-12,CFC-12_FLAG_W,SF6,SF6_FLAG_W,TCARBN,TCARBN_FLAG_W,ALKALI,ALKALI_FLAG_W,PH_TOT,PH_TOT_FLAG_W,PH_TMP,PH_TMP_FLAG_W,DELC13,DELC13_FLAG_W,DELC14,DELC14_FLAG_W,DOC,DOC_FLAG_W,TDN,TDN_FLAG_W,N2O,N2O_FLAG_W,BTL_DATE,BTL_TIME,BTL_LAT,BTL_LON,REFTMP,REFTMP_FLAG_W,POC,POC_FLAG_W,PON,PON_FLAG_W,POP,POP_FLAG_W,PCOD,PCOD_FLAG_W,CTDFLUOR,CTDFLUOR_FLAG_W,CTDXMISS,CTDXMISS_FLAG_W,HPLC,HPLC_FLAG_W,DNA,DNA_FLAG_W,FCM,FCM_FLAG_W,IMAGES,IMAGES_FLAG_W,VIRAL_ABUNDANCE,VIRAL_ABUNDANCE_FLAG_W
,,,,,,,,,,,METERS,DBAR,,ITS-90,,PSS-78,,PSS-78,,UMOL/KG,,UMOL/KG,,UMOL/KG,,UMOL/KG,,UMOL/KG,,UMOL/KG,,PMOL/KG,,PMOL/KG,,FMOL/KG,,UMOL/KG,,UMOL/KG,,,,DEG C,,/MILLE,,/MILLE,,UMOL/KG,,UMOL/KG,,NMOL/KG,,,,,,ITS-90,,UG/L,,UG/L,,UG/L,,UG/L,,VOLTS,,VOLTS,,,,,,,,,,,
33RR20220613,       P02E,     182,          2,          4,          4,2,20220706,       1234,    30.0000,  -124.2599,       4620,  3963.4,2,   1.5207,2,  34.6806,3,  34.6855,2,    135.4,2,   135.3,2,  165.39,2,   36.93,2,    0.00,2,    2.58,2,   0.007,2,   0.010,2,   0.0000,2,  -999.0,9,  -999.0,9,-999.0000,9,  -999.00,9, -999.00,9,  -999.0,9, -999.00,1, -999.00,1,       21.2,2, 20220706,     1249,  30.0000,-124.2599,     1.5208,2,     -999.0,9,     -999.0,9,     -999.0,9,     -999.0,9,     0.0122,1,     4.6944,1,     -999.0,9,     -999.0,9,     -999.0,9,     -999.0,9,     -999.0,9
33RR20220613,       P02E,     182,          2,          3,          3,2,20220706,       1234,    30.0000,  -124.2599,       4620,  4272.5,2,   1.5379,2,  34.6821,2,  34.6812,2,    138.0,2,   138.1,2,  165.10,2,   36.74,2,    0.00,2,    2.56,2,   0.009,2,   0.013,2,   0.0000,2,  2339.0,2,  2431.3,2,   7.5612,2,    25.00,2, -999.00,9,  -999.0,9, -999.00,1, -999.00,1,       21.2,2, 20220706,     1243,  30.0000,-124.2599,     1.5378,2,     -999.0,9,     -999.0,9,     -999.0,9,     -999.0,9,     0.0128,1,     4.6927,1,     -999.0,9,     -999.0,9,     -999.0,9,     -999.0,9,     -999.0,9
33RR20220613,       P02E,     182,          2,          2,          2,2,20220706,       1234,    30.0000,  -124.2599,       4620,  4476.8,2,   1.5566,2,  34.6826,2,  34.6806,2,    138.6,2,   138.6,2,  165.00,2,   36.79,2,    0.00,2,    2.56,2,   0.009,2,   0.011,2,   0.0000,2,  2340.1,2,  2431.6,2,   7.5623,2,    24.99,2, -999.00,9,  -999.0,9, -999.00,1, -999.00,1,       21.0,2, 20220706,     1238,  30.0000,-124.2599,     1.5567,2,     -999.0,9,     -999.0,9,     -999.0,9,     -999.0,9,     0.0122,1,     4.6922,1,     -999.0,9,     -999.0,9,     -999.0,9,     -999.0,9,     -999.0,9
33RR20220613,       P02E,     182,          2,          1,          1,2,20220706,       1234,    30.0000,  -124.2599,       4620,  4689.7,2,   1.5813,2,  34.6826,2,  34.6842,2,    139.1,2,   139.2,2,  163.83,2,   36.94,2,    0.00,2,    2.56,2,   0.007,2,   0.013,2,   0.0000,2,  2341.7,2,  2430.6,2,   7.5624,2,    25.01,2, -999.00,9,  -999.0,9, -999.00,1, -999.00,1,       20.9,2, 20220706,     1234,  30.0000,-124.2599,     1.5813,2,     -999.0,9,     -999.0,9,     -999.0,9,     -999.0,9,     0.0122,1,     4.6922,1,     -999.0,9,     -999.0,9,     -999.0,9,     -999.0,9,     -999.0,9