BOTTLE,20230830CCHSIOCBG
EXPOCODE,SECT_ID,STNNBR,CASTNO,SAMPNO,BTLNBR,BTLNBR_FLAG_W,DATE,TIME,LATITUDE,LONGITUDE,DEPTH,CTDPRS,CTDPRS_FLAG_W,CTDTMP,CTDTMP_FLAG_W,CTDSAL,CTDSAL_FLAG_W,SALNTY,SALNTY_FLAG_W,CTDOXY,CTDOXY_FLAG_W,OXYGEN,OXYGEN_FLAG_W,SILCAT,SILCAT_FLAG_W,NITRAT,NITRAT_FLAG_W,NITRIT,NITRIT_FLAG_W,PHSPHT,PHSPHT_FLAG_W,CFC-11,CFC-11_FLAG_W,CFC-12,CFC-12_FLAG_W,SF6,SF6_FLAG_W,TCARBN,TCARBN_FLAG_W,ALKALI,ALKALI_FLAG_W,PH_TOT,PH_TOT_FLAG_W,PH_TMP,PH_TMP_FLAG_W,DELC13,DELC13_FLAG_W,DELC14,DELC14_FLAG_W,DOC,DOC_FLAG_W,TDN,TDN_FLAG_W,N2O,N2O_FLAG_W,BTL_DATE,BTL_TIME,BTL_LAT,BTL_LON,REFTMP,REFTMP_FLAG_W,POC,POC_FLAG_W,PON,PON_FLAG_W,POP,POP_FLAG_W,PCOD,PCOD_FLAG_W,CTDFLUOR,CTDFLUOR_FLAG_W,CTDXMISS,CTDXMISS_FLAG_W,HPLC,HPLC_FLAG_W,DNA,DNA_FLAG_W,FCM,FCM_FLAG_W,IMAGES,IMAGES_FLAG_W,VIRAL_ABUNDANCE,VIRAL_ABUNDANCE_FLAG_W
,,,,,,,,,,,METERS,DBAR,,ITS-90,,PSS-78,,PSS-78,,UMOL/KG,,UMOL/KG,,UMOL/KG,,UMOL/KG,,UMOL/KG,,UMOL/KG,,PMOL/KG,,PMOL/KG,,FMOL/KG,,UMOL/KG,,UMOL/KG,,,,DEG C,,/MILLE,,/MILLE,,UMOL/KG,,UMOL/KG,,NMOL/KG,,,,,,ITS-90,,UG/L,,UG/L,,UG/L,,UG/L,,VOLTS,,VOLTS,,,,,,,,,,,
33RR20220613,       P02E,     200,          2,         26,         26,2,20220712,       0451,    32.6220,  -118.6778,       1066,     3.5,2,  19.5624,2,  33.6712,2,  33.6762,2,    245.1,2,   243.7,2,    0.00,2,    0.00,2,    0.01,2,    0.12,2,   2.108,2,   1.248,2,   1.9585,2,  1993.2,6,  2250.6,2,   7.9824,2,    24.99,2, -999.00,9,  -999.0,9, -999.00,1, -999.00,1,        8.4,2, 20220712,      546,  32.6220,-118.6778,    19.5640,2,     -999.0,9,     -999.0,9,     -999.0,9,     -999.0,9,     0.0391,1,     4.3732,1,     -999.0,9,     -999.0,9,     -999.0,9,     -999.0,9,     -999.0,9
33RR20220613,       P02E,     200,          2,         25,         25,2,20220712,       0451,    32.6220,  -118.6778,       1066,    20.4,2,  19.4157,2,  33.6751,3,  33.6547,2,    244.7,2,   245.9,2,    0.78,2,    0.14,2,    0.02,2,    0.17,2,   2.289,2,   1.379,2,   2.1149,2,  2009.1,2,  2248.5,6,   7.9549,2,    25.00,2, -999.00,9,  -999.0,9, -999.00,1, -999.00,1,       11.8,2, 20220712,      543,  32.6220,-118.6778,    19.4485,2,     -999.0,9,     -999.0,9,     -999.0,9,     -999.0,9,     0.0384,1,     4.3800,1,     -999.0,9,     -999.0,9,     -999.0,9,     -999.0,9,     -999.0,9
33RR20220613,       P02E,     200,          2,         24,         24,2,20220712,       0451,    32.6220,  -118.6778,       1066,    40.5,2,  10.9602,2,  33.6203,2,  33.6299,2,    153.7,2,   153.8,2,   15.55,2,   17.59,2,    0.05,2,    1.49,2,   2.838,2,   1.732,2,   2.1068,2,  2150.0,2,  2232.6,2,   7.5782,2,    24.99,2, -999.00,9,  -999.0,9, -999.00,1, -999.00,1,       22.6,2, 20220712,      541,  32.6220,-118.6778,    10.9647,2,     -999.0,9,     -999.0,9,     -999.0,9,     -999.0,9,     0.0470,1,     4.6150,1,     -999.0,9,     -999.0,9,     -999.0,9,     -999.0,9,     -999.0,9
33RR20220613,       P02E,     200,          2,         23,         23,2,20220712,       0451,    32.6220,  -118.6778,       1066,    65.5,2,  10.1928,2,  33.7594,2,  33.7623,2,    139.8,2,   140.4,2,   20.04,2,   20.69,2,    0.00,2,    1.64,2,   2.866,2,   1.733,2,   1.9052,2,  2165.8,2,  2239.5,2,   7.5503,2,    24.99,2, -999.00,9,  -999.0,9, -999.00,1, -999.00,1,       24.5,2, 20220712,      539,  32.6220,-118.6778,    10.1932,2,     -999.0,9,     -999.0,9,     -999.0,9,     -999.0,9,     0.0161,1,     4.6575,1,     -999.0,9,     -999.0,9,     -999.0,9,     -999.0,9,     -999.0,9
33RR20220613,       P02E,     200,          2,         22,         22,2,20220712,       0451,    32.6220,  -118.6778,       1066,    90.9,2,   9.6335,2,  33.9029,2,  33.9003,2,    132.6,2,   133.4,2,   23.95,2,   22.44,2,    0.00,2,    1.75,2,   2.838,2,   1.700,2,   1.6371,2,  2176.8,2,  2250.2,2,   7.5406,2,    24.98,2, -999.00,9,  -999.0,9, -999.00,1, -999.00,1,       27.8,2, 20220712,      536,  32.6220,-118.6778,     9.6330,2,     -999.0,9,     -999.0,9,     -999.0,9,     -999.0,9,     0.0134,1,     4.6610,1,     -999.0,9,     -999.0,9,     -999.0,9,     -999.0,9,     -999.0,9
33RR20220613,       P02E,     200,          2,         21,         21,2,20220712,       0451,    32.6220,  -118.6778,       1066,   116.9,2,   9.2170,2,  34.0023,2,  34.0025,2,    123.9,2,   123.7,2,   27.96,2,   24.21,2,    0.00,2,    1.86,2,   2.711,2,   1.623,2,   1.3802,2,  2192.4,2,  2257.3,2,   7.5256,2,    24.99,2, -999.00,9,  -999.0,9, -999.00,1, -999.00,1,       29.8,2, 20220712,      534,  32.6220,-118.6778,     9.2196,2,     -999.0,9,     -999.0,9,     -999.0,9,     -999.0,9,     0.0134,1,     4.6616,1,     -999.0,9,     -999.0,9,     -999.0,9,     -999.0,9,     -999.0,9
33RR20220613,       P02E,     200,          2,         20,         20,2,20220712,       0451,    32.6220,  -118.6778,       1066,   141.9,2,   9.0395,2,  34.0796,2,  34.0791,2,    101.1,2,   100.6,2,   32.75,2,   26.47,2,    0.00,2,    2.05,2,   2.482,2,   1.485,2,   1.1749,2,  2212.2,2,  2264.5,2,   7.4811,2,    24.98,2, -999.00,9,  -999.0,9, -999.00,1, -999.00,1,       33.8,2, 20220712,      531,  32.6220,-118.6778,     9.0368,2,     -999.0,9,     -999.0,9,     -999.0,9,     -999.0,9,     0.0134,1,     4.6629,1,     -999.0,9,     -999.0,9,     -999.0,9,     -999.0,9,     -999.0,9
33RR20220613,       P02E,     200,          2,         19,         39,2,20220712,       0451,    32.6220,  -118.6778,       1066,   166.8,2,   8.6718,2,  34.1103,2,  34.1123,2,     89.2,3,    87.9,2,   37.05,2,   28.24,2,    0.00,2,    2.19,2,   2.298,2,   1.381,2,   0.9931,2,  2225.0,2,  2271.5,2,   7.4539,2,    24.98,2, -999.00,9,  -999.0,9, -999.00,1, -999.00,1,       35.1,2, 20220712,      530,  32.6220,-118.6778,     8.6713,2,     -999.0,9,     -999.0,9,     -999.0,9,     -999.0,9,     0.0134,1,     4.6625,1,     -999.0,9,     -999.0,9,     -999.0,9,     -999.0,9,     -999.0,9
33RR20220613,       P02E,     200,          2,         18,         18,2,20220712,       0451,    32.6220,  -118.6778,       1066,   192.4,2,   8.4483,2,  34.1248,2,  34.1260,2,     79.9,3,    79.0,2,   39.88,2,   29.32,2,    0.00,2,    2.27,2,   2.180,2,   1.314,2,   0.8391,2,  -999.0,9,  -999.0,9,-999.0000,9,  -999.00,9, -999.00,9,  -999.0,9, -999.00,1, -999.00,1,       35.0,2, 20220712,      529,  32.6221,-118.6778,     8.4468,2,     -999.0,9,     -999.0,9,     -999.0,9,     -999.0,9,     0.0134,1,     4.6622,1,     -999.0,9,     -999.0,9,     -999.0,9,     -999.0,9,     -999.0,9
33RR20220613,       P02E,     200,          2,         17,         37,2,20220712,       0451,    32.6220,  -118.6778,       1066,   217.2,2,   8.2014,2,  34.1643,2,  34.1615,2,     64.7,2,    65.0,2,   43.79,2,   30.66,2,    0.00,2,    2.40,2,   2.010,2,   1.169,2,   0.6768,2,  2248.8,2,  2278.9,2,   7.4066,2,    24.98,2, -999.00,9,  -999.0,9, -999.00,1, -999.00,1,       37.5,2, 20220712,      527,  32.6220,-118.6778,     8.1996,2,     -999.0,9,     -999.0,9,     -999.0,9,     -999.0,9,     0.0134,1,     4.6639,1,     -999.0,9,     -999.0,9,     -999.0,9,     -999.0,9,     -999.0,9
33RR20220613,       P02E,     200,          2,         16,         16,2,20220712,       0451,    32.6220,  -118.6778,       1066,   242.3,2,   8.3061,2,  34.2405,2,  34.2244,2,     45.8,3,    47.3,2,   45.94,2,   31.24,2,    0.00,2,    2.54,2,   1.656,2,   0.970,2,   0.5760,2,  2249.1,3,  2285.0,2,   7.3812,2,    24.99,2, -999.00,9,  -999.0,9, -999.00,1, -999.00,1,       37.1,2, 20220712,      525,  32.6220,-118.6778,     8.2473,2,     -999.0,9,     -999.0,9,     -999.0,9,     -999.0,9,     0.0134,1,     4.6625,1,     -999.0,9,     -999.0,9,     -999.0,9,     -999.0,9,     -999.0,9
33RR20220613,       P02E,     200,          2,         15,         15,2,20220712,       0451,    32.6220,  -118.6778,       1066,   287.8,2,   7.9811,2,  34.2975,2,  34.3003,2,     27.2,3,    28.6,2,   51.80,2,   32.87,2,    0.00,2,    2.73,2,   1.159,2,   0.676,2,   0.4016,2,  2280.8,2,  2294.0,2,   7.3541,2,    24.99,2, -999.00,9,  -999.0,9, -999.00,1, -999.00,1,       43.5,2, 20220712,      523,  32.6220,-118.6778,     7.9882,2,     -999.0,9,     -999.0,9,     -999.0,9,     -999.0,9,     0.0134,1,     4.6630,1,     -999.0,9,     -999.0,9,     -999.0,9,     -999.0,9,     -999.0,9
33RR20220613,       P02E,     200,          2,         14,         42,2,20220712,       0451,    32.6220,  -118.6778,       1066,   338.3,2,   7.6263,2,  34.3104,2,  34.3115,2,     22.0,2,    21.9,2,   56.49,2,   34.21,2,    0.00,2,    2.84,2,   0.912,2,   0.521,2,   0.2996,2,  -999.0,9,  -999.0,9,-999.0000,9,  -999.00,9, -999.00,9,  -999.0,9, -999.00,1, -999.00,1,       46.0,2, 20220712,      521,  32.6221,-118.6778,     7.6263,2,     -999.0,9,     -999.0,9,     -999.0,9,     -999.0,9,     0.0134,1,     4.6609,1,     -999.0,9,     -999.0,9,     -999.0,9,     -999.0,9,     -999.0,9
33RR20220613,       P02E,     200,          2,         13,         13,2,20220712,       0451,    32.6220,  -118.6778,       1066,   388.7,2,   7.2946,2,  34.3258,2,  34.3272,2,     17.1,3,    16.7,2,   60.79,2,   35.35,2,    0.00,2,    2.90,2,   0.693,2,   0.387,2,   0.2384,2,  2300.7,2,  2306.0,2,   7.3367,2,    24.98,2, -999.00,9,  -999.0,9, -999.00,1, -999.00,1,       48.6,2, 20220712,      518,  32.6220,-118.6778,     7.2927,2,     -999.0,9,     -999.0,9,     -999.0,9,     -999.0,9,     0.0134,1,     4.6645,1,     -999.0,9,     -999.0,9,     -999.0,9,     -999.0,9,     -999.0,9
33RR20220613,       P02E,     200,          2,         12,         12,2,20220712,       0451,    32.6220,  -118.6778,       1066,   438.7,2,   6.8879,2,  34.3401,2,  34.3395,2,     13.1,3,    12.9,2,   66.26,2,   36.73,2,    0.00,2,    2.98,2,   0.491,2,   0.275,2,   0.1491,2,  -999.0,9,  -999.0,9,-999.0000,9,  -999.00,9, -999.00,9,  -999.0,9, -999.00,1, -999.00,1,       51.4,2, 20220712,      517,  32.6220,-118.6778,     6.8913,2,     -999.0,9,     -999.0,9,     -999.0,9,     -999.0,9,     0.0134,1,     4.6663,1,     -999.0,9,     -999.0,9,     -999.0,9,     -999.0,9,     -999.0,9
33RR20220613,       P02E,     200,          2,         11,         11,2,20220712,       0451,    32.6220,  -118.6778,       1066,   489.5,2,   6.4315,2,  34.3123,2,  34.3103,2,     14.2,3,    14.6,2,   71.93,2,   38.28,2,    0.00,2,    3.01,2,   0.466,2,   0.257,2,   0.1662,2,  2314.8,2,  2314.0,2,   7.3219,2,    24.99,2, -999.00,9,  -999.0,9, -999.00,1, -999.00,1,       51.3,2, 20220712,      515,  32.6220,-118.6778,     6.4339,2,     -999.0,9,     -999.0,9,     -999.0,9,     -999.0,9,     0.0134,1,     4.6661,1,     -999.0,9,     -999.0,9,     -999.0,9,     -999.0,9,     -999.0,9
33RR20220613,       P02E,     200,          2,         10,         10,2,20220712,       0451,    32.6220,  -118.6778,       1066,   540.0,2,   6.0269,2,  34.3187,2,  34.3225,2,     12.8,2,    12.8,2,   77.50,2,   39.42,2,    0.00,2,    3.07,2,   0.332,2,   0.187,2,   0.1329,2,  -999.0,9,  -999.0,9,-999.0000,9,  -999.00,9, -999.00,9,  -999.0,9, -999.00,1, -999.00,1,       54.1,2, 20220712,      512,  32.6220,-118.6778,     6.0279,2,     -999.0,9,     -999.0,9,     -999.0,9,     -999.0,9,     0.0134,1,     4.6694,1,     -999.0,9,     -999.0,9,     -999.0,9,     -999.0,9,     -999.0,9
33RR20220613,       P02E,     200,          2,          9,          9,2,20220712,       0451,    32.6220,  -118.6778,       1066,   590.0,2,   5.8722,2,  34.3360,2,  34.3360,2,     11.6,3,    11.5,2,   80.34,2,   39.96,2,    0.00,2,    3.09,2,   0.246,2,   0.142,2,   0.1393,2,  2322.5,2,  2324.2,2,   7.3186,2,    24.98,2, -999.00,9,  -999.0,9, -999.00,1, -999.00,1,       55.0,2, 20220712,      510,  32.6220,-118.6778,     5.8715,2,     -999.0,9,     -999.0,9,     -999.0,9,     -999.0,9,     0.0134,1,     4.6704,1,     -999.0,9,     -999.0,9,     -999.0,9,     -999.0,9,     -999.0,9
33RR20220613,       P02E,     200,          2,          8,          8,2,20220712,       0451,    32.6220,  -118.6778,       1066,   640.8,2,   5.7525,2,  34.3567,2,  34.3572,2,     10.8,3,    10.6,2,   82.78,2,   40.30,2,    0.00,2,    3.13,2,   0.174,2,   0.101,2,   0.1302,2,  2325.3,2,  2328.0,2,   7.3190,2,    24.99,2, -999.00,9,  -999.0,9, -999.00,1, -999.00,1,       55.9,2, 20220712,      508,  32.6220,-118.6778,     5.7530,2,     -999.0,9,     -999.0,9,     -999.0,9,     -999.0,9,     0.0134,1,     4.6706,1,     -999.0,9,     -999.0,9,     -999.0,9,     -999.0,9,     -999.0,9
33RR20220613,       P02E,     200,          2,          7,          7,2,20220712,       0451,    32.6220,  -118.6778,       1066,   691.3,2,   5.4896,2,  34.3825,2,  34.3833,2,     10.7,2,    10.7,2,   87.57,2,   41.08,2,    0.00,2,    3.15,2,   0.105,6,   0.063,6,   0.1671,6,  2331.0,2,  2335.7,2,   7.3230,2,    24.98,2, -999.00,9,  -999.0,9, -999.00,1, -999.00,1,       56.9,6, 20220712,      505,  32.6220,-118.6778,     5.4887,2,     -999.0,9,     -999.0,9,     -999.0,9,     -999.0,9,     0.0134,1,     4.6721,1,     -999.0,9,     -999.0,9,     -999.0,9,     -999.0,9,     -999.0,9
33RR20220613,       P02E,     200,          2,          6,          6,2,20220712,       0451,    32.6220,  -118.6778,       1066,   767.0,2,   5.1292,2,  34.4024,2,  34.4027,2,     11.6,2,    11.5,2,   95.19,2,   41.67,2,    0.00,2,    3.18,2,   0.087,2,   0.061,2,   0.2596,2,  -999.0,9,  -999.0,9,-999.0000,9,  -999.00,9, -999.00,9,  -999.0,9, -999.00,1, -999.00,1,       55.5,2, 20220712,      502,  32.6220,-118.6778,     5.1295,2,     -999.0,9,     -999.0,9,     -999.0,9,     -999.0,9,     0.0134,1,     4.6666,1,     -999.0,9,     -999.0,9,     -999.0,9,     -999.0,9,     -999.0,9
33RR20220613,       P02E,     200,          2,          5,          5,2,20220712,       0451,    32.6220,  -118.6778,       1066,   843.4,2,   4.8709,2,  34.4212,2,  34.4220,2,     12.8,3,    13.1,2,  100.56,2,   42.00,2,    0.00,2,    3.21,2,   0.071,2,   0.056,2,   0.3963,2,  -999.0,9,  -999.0,9,-999.0000,9,  -999.00,9, -999.00,9,  -999.0,9, -999.00,1, -999.00,1,       55.3,2, 20220712,      500,  32.6220,-118.6778,     4.8711,2,     -999.0,9,     -999.0,9,     -999.0,9,     -999.0,9,     0.0134,1,     4.6671,1,     -999.0,9,     -999.0,9,     -999.0,9,     -999.0,9,     -999.0,9
33RR20220613,       P02E,     200,          2,          4,          4,2,20220712,       0451,    32.6220,  -118.6778,       1066,   918.8,2,   4.7390,2,  34.4313,2,  34.4326,2,     13.7,3,    13.4,2,  103.39,2,   42.16,2,    0.00,2,    3.22,2,   0.066,2,   0.052,2,   0.4416,2,  2347.9,2,  2354.6,6,   7.3266,2,    24.99,2, -999.00,9,  -999.0,9, -999.00,1, -999.00,1,       53.9,2, 20220712,      458,  32.6220,-118.6778,     4.7381,2,     -999.0,9,     -999.0,9,     -999.0,9,     -999.0,9,     0.0134,1,     4.6681,1,     -999.0,9,     -999.0,9,     -999.0,9,     -999.0,9,     -999.0,9
33RR20220613,       P02E,     200,          2,          3,          3,2,20220712,       0451,    32.6220,  -118.6778,       1066,   994.2,2,   4.3788,2,  34.4565,2,  34.4569,2,     15.4,2,    15.5,2,  113.46,2,   42.01,2,    0.00,2,    3.22,2,   0.073,2,   0.075,2,   2.0514,2,  2358.4,2,  2366.0,2,   7.3323,2,    24.99,2, -999.00,9,  -999.0,9, -999.00,1, -999.00,1,       51.8,2, 20220712,      454,  32.6220,-118.6778,     4.3783,2,     -999.0,9,     -999.0,9,     -999.0,9,     -999.0,9,     0.0134,1,     4.6661,1,     -999.0,9,     -999.0,9,     -999.0,9,     -999.0,9,     -999.0,9
33RR20220613,       P02E,     200,          2,          2,          2,2,20220712,       0451,    32.6220,  -118.6778,       1066,  1036.0,2,   4.1621,2,  34.4728,2,  34.4730,2,     17.5,2,    17.6,2,  118.44,2,   42.07,2,    0.00,2,    3.22,2,   0.068,2,   0.085,2,   4.3077,2,  2363.4,2,  2372.2,2,   7.3360,2,    24.98,2, -999.00,9,  -999.0,9, -999.00,1, -999.00,1,       50.0,2, 20220712,      453,  32.6220,-118.6778,     4.1638,2,     -999.0,9,     -999.0,9,     -999.0,9,     -999.0,9,     0.0134,1,     4.6611,1,     -999.0,9,     -999.0,9,     -999.0,9,     -999.0,9,     -999.0,9
33RR20220613,       P02E,     200,          2,          1,          1,2,20220712,       0451,    32.6220,  -118.6778,       1066,  1065.9,2,   4.1151,2,  34.4766,2,  34.4760,2,     18.1,2,    18.2,2,  119.71,2,   42.08,2,    0.00,2,    3.22,2,   0.068,2,   0.085,2,   4.8958,2,  2364.9,6,  2375.6,2,   7.3378,2,    24.99,2, -999.00,9,  -999.0,9, -999.00,1, -999.00,1,       50.5,2, 20220712,      451,  32.6220,-118.6778,     4.1149,2,     -999.0,9,     -999.0,9,     -999.0,9,     -999.0,9,     0.0140,1,     4.6588,1,     -999.0,9,     -999.0,9,     -999.0,9,     -999.0,9,     -999.0,9