BOTTLE,20230830CCHSIOCBG
EXPOCODE,SECT_ID,STNNBR,CASTNO,SAMPNO,BTLNBR,BTLNBR_FLAG_W,DATE,TIME,LATITUDE,LONGITUDE,DEPTH,CTDPRS,CTDPRS_FLAG_W,CTDTMP,CTDTMP_FLAG_W,CTDSAL,CTDSAL_FLAG_W,SALNTY,SALNTY_FLAG_W,CTDOXY,CTDOXY_FLAG_W,OXYGEN,OXYGEN_FLAG_W,SILCAT,SILCAT_FLAG_W,NITRAT,NITRAT_FLAG_W,NITRIT,NITRIT_FLAG_W,PHSPHT,PHSPHT_FLAG_W,CFC-11,CFC-11_FLAG_W,CFC-12,CFC-12_FLAG_W,SF6,SF6_FLAG_W,TCARBN,TCARBN_FLAG_W,ALKALI,ALKALI_FLAG_W,PH_TOT,PH_TOT_FLAG_W,PH_TMP,PH_TMP_FLAG_W,DELC13,DELC13_FLAG_W,DELC14,DELC14_FLAG_W,DOC,DOC_FLAG_W,TDN,TDN_FLAG_W,N2O,N2O_FLAG_W,BTL_DATE,BTL_TIME,BTL_LAT,BTL_LON,REFTMP,REFTMP_FLAG_W,POC,POC_FLAG_W,PON,PON_FLAG_W,POP,POP_FLAG_W,PCOD,PCOD_FLAG_W,CTDFLUOR,CTDFLUOR_FLAG_W,CTDXMISS,CTDXMISS_FLAG_W,HPLC,HPLC_FLAG_W,DNA,DNA_FLAG_W,FCM,FCM_FLAG_W,IMAGES,IMAGES_FLAG_W,VIRAL_ABUNDANCE,VIRAL_ABUNDANCE_FLAG_W
,,,,,,,,,,,METERS,DBAR,,ITS-90,,PSS-78,,PSS-78,,UMOL/KG,,UMOL/KG,,UMOL/KG,,UMOL/KG,,UMOL/KG,,UMOL/KG,,PMOL/KG,,PMOL/KG,,FMOL/KG,,UMOL/KG,,UMOL/KG,,,,DEG C,,/MILLE,,/MILLE,,UMOL/KG,,UMOL/KG,,NMOL/KG,,,,,,ITS-90,,UG/L,,UG/L,,UG/L,,UG/L,,VOLTS,,VOLTS,,,,,,,,,,,
33RR20220613,       P02E,     136,          1,         36,         36,2,20220622,       2026,    30.0008,  -150.8224,       5769,     3.8,2,  24.5721,2,  35.4577,2,  35.4616,2,    212.7,2,   212.4,2,    0.00,2,    0.17,2,    0.00,2,    0.00,3,   1.604,2,   1.046,2,   1.6751,2,  2039.3,2,  2333.7,2,   8.0193,2,    25.03,2, -999.00,9,  -999.0,9, -999.00,1, -999.00,1,        6.8,2, 20220622,     2257,  30.0008,-150.8224,    24.5617,2,     -999.0,9,     -999.0,9,     -999.0,9,     -999.0,9,     0.0131,1,     4.6356,1,     -999.0,9,     -999.0,9,     -999.0,9,     -999.0,9,     -999.0,9
33RR20220613,       P02E,     136,          1,         35,         35,2,20220622,       2026,    30.0008,  -150.8224,       5769,    25.8,2,  24.5079,2,  35.4532,2,  35.4513,2,    212.1,2,   212.6,2,    0.00,2,    0.11,2,    0.00,2,    0.00,3,   1.577,2,   1.033,2,   1.6966,2,  2037.3,6,  2333.2,2,   8.0186,2,    25.01,2, -999.00,9,  -999.0,9, -999.00,1, -999.00,1,        6.7,2, 20220622,     2254,  30.0008,-150.8224,    24.5041,2,     -999.0,9,     -999.0,9,     -999.0,9,     -999.0,9,     0.0135,1,     4.6345,1,     -999.0,9,     -999.0,9,     -999.0,9,     -999.0,9,     -999.0,9
33RR20220613,       P02E,     136,          1,         34,         34,2,20220622,       2026,    30.0008,  -150.8224,       5769,    51.8,2,  22.1876,2,  35.2621,2,  35.2609,2,    230.4,2,   230.1,2,    0.10,2,    0.06,2,    0.00,2,    0.00,3,   1.878,2,   1.159,2,   1.9618,2,  2035.9,2,  2320.8,2,   8.0050,2,    25.03,2, -999.00,9,  -999.0,9, -999.00,1, -999.00,1,        7.3,2, 20220622,     2252,  30.0008,-150.8224,    22.1871,2,     -999.0,9,     -999.0,9,     -999.0,9,     -999.0,9,     0.0134,1,     4.6311,1,     -999.0,9,     -999.0,9,     -999.0,9,     -999.0,9,     -999.0,9
33RR20220613,       P02E,     136,          1,         33,         33,2,20220622,       2026,    30.0008,  -150.8224,       5769,    75.2,2,  20.9810,2,  35.1897,2,  35.1912,2,    233.3,2,   233.0,2,    0.10,2,    0.04,2,    0.00,2,    0.00,3,   1.850,2,   1.198,2,   1.8928,2,  2037.6,2,  2314.7,2,   7.9989,2,    25.02,2, -999.00,9,  -999.0,9, -999.00,1, -999.00,1,        7.4,2, 20220622,     2250,  30.0008,-150.8224,    20.9760,2,     -999.0,9,     -999.0,9,     -999.0,9,     -999.0,9,     0.0159,1,     4.6376,1,     -999.0,9,     -999.0,9,     -999.0,9,     -999.0,9,     -999.0,9
33RR20220613,       P02E,     136,          1,         32,         32,2,20220622,       2026,    30.0008,  -150.8224,       5769,   101.1,2,  20.4491,2,  35.1543,2,  35.1559,2,    229.5,2,   229.8,2,    0.29,2,    0.01,2,    0.00,2,    0.00,3,   1.867,2,   1.212,2,   1.9409,2,  2036.5,2,  2313.2,6,   7.9919,2,    25.03,2, -999.00,9,  -999.0,9, -999.00,1, -999.00,1,        7.6,2, 20220622,     2248,  30.0008,-150.8223,    20.4503,2,     -999.0,9,     -999.0,9,     -999.0,9,     -999.0,9,     0.0183,1,     4.6476,1,     -999.0,9,     -999.0,9,     -999.0,9,     -999.0,9,     -999.0,9
33RR20220613,       P02E,     136,          1,         31,         31,2,20220622,       2026,    30.0008,  -150.8224,       5769,   151.2,2,  19.2035,2,  34.9601,2,  34.9530,2,    221.3,2,   221.4,2,    0.59,2,    0.01,2,    0.02,2,    0.04,3,   1.954,2,   1.267,2,   1.8757,2,  2041.7,2,  2301.3,2,   7.9586,2,    25.02,2, -999.00,9,  -999.0,9, -999.00,1, -999.00,1,        8.3,2, 20220622,     2246,  30.0008,-150.8223,    19.2014,2,     -999.0,9,     -999.0,9,     -999.0,9,     -999.0,9,     0.0306,1,     4.6592,1,     -999.0,9,     -999.0,9,     -999.0,9,     -999.0,9,     -999.0,9
33RR20220613,       P02E,     136,          1,         30,         17,2,20220622,       2026,    30.0008,  -150.8224,       5769,   201.6,2,  15.9467,2,  34.4275,2,  34.4359,2,    212.4,2,   213.3,2,    2.44,2,    2.43,2,    0.00,2,    0.22,3,   2.317,2,   1.448,2,   1.9894,2,  2057.3,2,  2269.3,2,   7.8780,2,    25.03,2, -999.00,9,  -999.0,9, -999.00,1, -999.00,1,       10.7,2, 20220622,     2243,  30.0008,-150.8223,    15.9475,2,     -999.0,9,     -999.0,9,     -999.0,9,     -999.0,9,     0.0183,1,     4.6776,1,     -999.0,9,     -999.0,9,     -999.0,9,     -999.0,9,     -999.0,9
33RR20220613,       P02E,     136,          1,         29,         29,2,20220622,       2026,    30.0008,  -150.8224,       5769,   252.7,2,  12.9701,2,  34.1195,2,  34.1189,2,    215.1,2,   215.0,2,    5.96,2,    6.75,2,    0.00,2,    0.49,3,   2.667,2,   1.662,2,   2.1301,2,  2074.5,2,  2255.1,2,   7.8102,2,    25.03,2, -999.00,9,  -999.0,9, -999.00,1, -999.00,1,       12.7,2, 20220622,     2241,  30.0008,-150.8224,    13.0007,2,     -999.0,9,     -999.0,9,     -999.0,9,     -999.0,9,     0.0134,1,     4.6868,1,     -999.0,9,     -999.0,9,     -999.0,9,     -999.0,9,     -999.0,9
33RR20220613,       P02E,     136,          1,         28,         28,2,20220622,       2026,    30.0008,  -150.8224,       5769,   302.0,2,  11.5956,2,  34.1387,2,  34.1399,2,    209.9,2,   210.2,2,   10.66,2,   11.17,2,    0.00,2,    0.71,3,   2.846,2,   1.751,2,   2.1553,2,  2097.0,2,  2256.6,2,   7.7689,2,    25.02,2, -999.00,9,  -999.0,9, -999.00,1, -999.00,1,       15.4,2, 20220622,     2239,  30.0008,-150.8224,    11.5882,2,     -999.0,9,     -999.0,9,     -999.0,9,     -999.0,9,     0.0122,1,     4.6905,1,     -999.0,9,     -999.0,9,     -999.0,9,     -999.0,9,     -999.0,9
33RR20220613,       P02E,     136,          1,         27,         27,2,20220622,       2026,    30.0008,  -150.8224,       5769,   327.8,2,  11.0288,2,  34.1337,2,  34.1305,2,    209.5,2,   209.5,2,   12.91,2,   12.70,2,    0.00,2,    0.80,3,-999.000,9,-999.000,9,-999.0000,9,  -999.0,9,  -999.0,9,-999.0000,9,  -999.00,9, -999.00,9,  -999.0,9, -999.00,1, -999.00,1,     -999.0,9, 20220622,     2237,  30.0008,-150.8224,    11.0548,2,     -999.0,9,     -999.0,9,     -999.0,9,     -999.0,9,     0.0122,1,     4.6920,1,     -999.0,9,     -999.0,9,     -999.0,9,     -999.0,9,     -999.0,9
33RR20220613,       P02E,     136,          1,         26,         26,2,20220622,       2026,    30.0008,  -150.8224,       5769,   352.8,2,  10.3093,2,  34.0914,2,  34.0889,2,    208.8,2,   209.0,2,   15.65,2,   14.30,2,    0.00,2,    0.89,3,   2.990,2,   1.834,2,   1.9545,2,  2113.2,2,  2259.0,2,   7.7307,2,    25.02,2, -999.00,9,  -999.0,9, -999.00,1, -999.00,1,       18.8,2, 20220622,     2235,  30.0008,-150.8224,    10.3186,2,     -999.0,9,     -999.0,9,     -999.0,9,     -999.0,9,     0.0122,1,     4.6934,1,     -999.0,9,     -999.0,9,     -999.0,9,     -999.0,9,     -999.0,9
33RR20220613,       P02E,     136,          1,         25,         25,2,20220622,       2026,    30.0008,  -150.8224,       5769,   402.9,2,   9.4069,2,  34.0558,2,  34.0576,2,    200.0,2,   199.9,2,   21.32,2,   17.11,2,    0.00,2,    1.08,3,   3.049,2,   1.813,2,   1.8434,2,  2128.9,2,  2260.0,2,   7.6924,2,    25.04,2, -999.00,9,  -999.0,9, -999.00,1, -999.00,1,       21.3,2, 20220622,     2233,  30.0008,-150.8224,     9.4182,2,     -999.0,9,     -999.0,9,     -999.0,9,     -999.0,9,     0.0122,1,     4.6942,1,     -999.0,9,     -999.0,9,     -999.0,9,     -999.0,9,     -999.0,9
33RR20220613,       P02E,     136,          1,         24,         24,2,20220622,       2026,    30.0008,  -150.8224,       5769,   503.7,2,   7.5326,2,  34.0077,2,  34.0094,2,    150.1,2,   150.0,2,   41.07,2,   25.49,2,    0.00,2,    1.63,3,   2.777,2,   1.609,2,   1.1673,2,  2189.0,2,  2272.5,2,   7.5644,2,    25.03,2, -999.00,9,  -999.0,9, -999.00,1, -999.00,1,       27.7,2, 20220622,     2227,  30.0008,-150.8224,     7.5275,2,     -999.0,9,     -999.0,9,     -999.0,9,     -999.0,9,     0.0122,1,     4.6959,1,     -999.0,9,     -999.0,9,     -999.0,9,     -999.0,9,     -999.0,9
33RR20220613,       P02E,     136,          1,         23,         23,2,20220622,       2026,    30.0008,  -150.8224,       5769,   605.5,2,   5.9467,2,  34.0075,2,  34.0055,2,     92.3,2,    92.7,2,   63.27,2,   33.24,2,    0.00,2,    2.21,3,   2.029,2,   1.164,2,   0.6413,2,  2250.4,2,  2288.1,2,   7.4264,2,    25.03,2, -999.00,9,  -999.0,9, -999.00,1, -999.00,1,       36.3,2, 20220622,     2224,  30.0008,-150.8223,     5.9497,2,     -999.0,9,     -999.0,9,     -999.0,9,     -999.0,9,     0.0134,1,     4.6960,1,     -999.0,9,     -999.0,9,     -999.0,9,     -999.0,9,     -999.0,9
33RR20220613,       P02E,     136,          1,         22,         22,2,20220622,       2026,    30.0008,  -150.8224,       5769,   807.5,2,   4.5289,2,  34.1971,2,  34.1932,2,     21.7,3,    22.4,2,   97.58,2,   41.25,2,    0.00,2,    2.88,3,   0.437,2,   0.239,2,   0.1434,2,  2330.6,2,  2329.3,2,   7.3030,2,    24.99,2, -999.00,9,  -999.0,9, -999.00,1, -999.00,1,       49.7,2, 20220622,     2217,  30.0008,-150.8223,     4.5286,2,     -999.0,9,     -999.0,9,     -999.0,9,     -999.0,9,     0.0134,1,     4.6971,1,     -999.0,9,     -999.0,9,     -999.0,9,     -999.0,9,     -999.0,9
33RR20220613,       P02E,     136,          1,         21,         21,2,20220622,       2026,    30.0008,  -150.8224,       5769,   907.9,2,   4.1811,2,  34.3011,2,  34.2989,2,     13.8,2,    13.7,2,  110.57,2,   42.66,2,    0.00,2,    3.02,4,   0.106,2,   0.069,2,   0.0000,2,  2348.1,2,  2350.0,2,   7.3016,2,    25.03,2, -999.00,9,  -999.0,9, -999.00,1, -999.00,1,       55.0,2, 20220622,     2214,  30.0008,-150.8224,     4.1809,2,     -999.0,9,     -999.0,9,     -999.0,9,     -999.0,9,     0.0134,1,     4.6971,1,     -999.0,9,     -999.0,9,     -999.0,9,     -999.0,9,     -999.0,9
33RR20220613,       P02E,     136,          1,         20,         20,2,20220622,       2026,    30.0008,  -150.8224,       5769,  1010.2,2,   3.8516,2,  34.3696,2,  34.3676,2,     15.5,3,    15.3,2,  120.15,2,   42.97,2,    0.00,2,    3.09,4,   0.031,2,   0.022,2,   0.0000,2,  2359.2,2,  2361.7,2,   7.3122,2,    25.03,2, -999.00,9,  -999.0,9, -999.00,1, -999.00,1,       53.7,2, 20220622,     2212,  30.0008,-150.8223,     3.8549,2,     -999.0,9,     -999.0,9,     -999.0,9,     -999.0,9,     0.0134,1,     4.6972,1,     -999.0,9,     -999.0,9,     -999.0,9,     -999.0,9,     -999.0,9
33RR20220613,       P02E,     136,          1,         19,         39,2,20220622,       2026,    30.0008,  -150.8224,       5769,  1111.6,2,   3.5595,2,  34.4167,2,  34.4149,2,     20.2,3,    19.7,2,  127.87,2,   43.23,2,    0.00,2,    3.11,4,   0.015,2,   0.011,2,   0.0000,2,  2363.7,2,  2370.9,2,   7.3251,2,    24.97,2, -999.00,9,  -999.0,9, -999.00,1, -999.00,1,       56.3,2, 20220622,     2208,  30.0008,-150.8224,     3.5617,2,     -999.0,9,     -999.0,9,     -999.0,9,     -999.0,9,     0.0134,1,     4.6978,1,     -999.0,9,     -999.0,9,     -999.0,9,     -999.0,9,     -999.0,9
33RR20220613,       P02E,     136,          1,         18,         18,2,20220622,       2026,    30.0008,  -150.8224,       5769,  1212.0,2,   3.3192,2,  34.4668,2,  34.4657,2,     29.4,2,    29.2,2,  133.34,2,   42.95,2,    0.00,2,    3.11,4,   0.008,2,   0.007,2,   0.0000,2,  2367.2,2,  2381.1,2,   7.3496,2,    24.98,2, -999.00,9,  -999.0,9, -999.00,1, -999.00,1,       47.6,2, 20220622,     2205,  30.0008,-150.8224,     3.3192,2,     -999.0,9,     -999.0,9,     -999.0,9,     -999.0,9,     0.0134,1,     4.6982,1,     -999.0,9,     -999.0,9,     -999.0,9,     -999.0,9,     -999.0,9
33RR20220613,       P02E,     136,          1,         17,         37,2,20220622,       2026,    30.0008,  -150.8224,       5769,  1313.9,2,   3.0648,2,  34.5037,2,  34.5034,2,     38.6,2,    38.8,2,  139.20,2,   42.54,2,    0.00,2,    3.10,4,   0.006,2,   0.005,2,   0.0000,2,  2369.0,2,  2390.2,2,   7.3698,2,    24.99,2, -999.00,9,  -999.0,9, -999.00,1, -999.00,1,       44.9,2, 20220622,     2201,  30.0008,-150.8224,     3.0636,2,     -999.0,9,     -999.0,9,     -999.0,9,     -999.0,9,     0.0134,1,     4.6986,1,     -999.0,9,     -999.0,9,     -999.0,9,     -999.0,9,     -999.0,9
33RR20220613,       P02E,     136,          1,         16,         16,2,20220622,       2026,    30.0008,  -150.8224,       5769,  1416.8,2,   2.8929,2,  34.5267,2,  34.5270,2,     45.8,2,    46.2,2,  143.11,2,   42.05,2,    0.00,2,    3.10,4,   0.005,2,   0.006,2,   0.0000,2,  -999.0,9,  -999.0,9,-999.0000,9,  -999.00,9, -999.00,9,  -999.0,9, -999.00,1, -999.00,1,       42.9,2, 20220622,     2159,  30.0008,-150.8224,     2.8942,2,     -999.0,9,     -999.0,9,     -999.0,9,     -999.0,9,     0.0134,1,     4.6995,1,     -999.0,9,     -999.0,9,     -999.0,9,     -999.0,9,     -999.0,9
33RR20220613,       P02E,     136,          1,         15,         15,2,20220622,       2026,    30.0008,  -150.8224,       5769,  1619.9,2,   2.5279,2,  34.5651,2,  34.5635,2,     58.8,2,    59.0,2,  151.70,2,   41.53,2,    0.00,2,    3.09,4,   0.004,2,   0.004,2,   0.0000,2,  2367.3,2,  2406.0,2,   7.4108,2,    25.00,2, -999.00,9,  -999.0,9, -999.00,1, -999.00,1,       37.1,2, 20220622,     2154,  30.0008,-150.8224,     2.5282,2,     -999.0,9,     -999.0,9,     -999.0,9,     -999.0,9,     0.0134,1,     4.7002,1,     -999.0,9,     -999.0,9,     -999.0,9,     -999.0,9,     -999.0,9
33RR20220613,       P02E,     136,          1,         14,         14,2,20220622,       2026,    30.0008,  -150.8224,       5769,  1818.9,2,   2.2645,2,  34.5899,2,  34.5893,2,     68.8,2,    68.8,2,  158.74,2,   40.97,2,    0.00,2,    3.09,4,-999.000,9,-999.000,9,-999.0000,9,  -999.0,9,  -999.0,9,-999.0000,9,  -999.00,9, -999.00,9,  -999.0,9, -999.00,1, -999.00,1,     -999.0,9, 20220622,     2149,  30.0008,-150.8224,     2.2595,2,     -999.0,9,     -999.0,9,     -999.0,9,     -999.0,9,     0.0134,1,     4.7007,1,     -999.0,9,     -999.0,9,     -999.0,9,     -999.0,9,     -999.0,9
33RR20220613,       P02E,     136,          1,         13,         13,2,20220622,       2026,    30.0008,  -150.8224,       5769,  2023.0,2,   2.0331,2,  34.6122,2,  34.6113,2,     80.2,2,    80.2,2,  163.43,2,   40.23,2,    0.00,2,    3.07,4,   0.003,2,   0.000,2,   0.0000,2,  2366.8,2,  2418.3,2,   7.4494,2,    25.04,2, -999.00,9,  -999.0,9, -999.00,1, -999.00,1,       31.8,2, 20220622,     2145,  30.0008,-150.8224,     2.0337,2,     -999.0,9,     -999.0,9,     -999.0,9,     -999.0,9,     0.0134,1,     4.7018,1,     -999.0,9,     -999.0,9,     -999.0,9,     -999.0,9,     -999.0,9
33RR20220613,       P02E,     136,          1,         12,         12,2,20220622,       2026,    30.0008,  -150.8224,       5769,  2276.7,2,   1.8533,2,  34.6302,2,  34.6288,2,     89.6,2,    89.4,2,  168.61,2,   39.75,2,    0.00,2,    3.04,4,-999.000,9,-999.000,9,-999.0000,9,  -999.0,9,  -999.0,9,-999.0000,9,  -999.00,9, -999.00,9,  -999.0,9, -999.00,1, -999.00,1,     -999.0,9, 20220622,     2139,  30.0008,-150.8224,     1.8525,2,     -999.0,9,     -999.0,9,     -999.0,9,     -999.0,9,     0.0134,1,     4.7020,1,     -999.0,9,     -999.0,9,     -999.0,9,     -999.0,9,     -999.0,9
33RR20220613,       P02E,     136,          1,         11,         11,2,20220622,       2026,    30.0008,  -150.8224,       5769,  2531.0,2,   1.7232,2,  34.6445,2,  34.6439,2,     99.2,2,    99.2,2,  171.24,2,   39.02,2,    0.00,2,    3.01,4,   0.004,2,   0.000,2,   0.0000,2,  2362.1,2,  2429.1,2,   7.4865,2,    25.03,2, -999.00,9,  -999.0,9, -999.00,1, -999.00,1,       27.4,2, 20220622,     2134,  30.0008,-150.8224,     1.7222,2,     -999.0,9,     -999.0,9,     -999.0,9,     -999.0,9,     0.0134,1,     4.7021,1,     -999.0,9,     -999.0,9,     -999.0,9,     -999.0,9,     -999.0,9
33RR20220613,       P02E,     136,          1,         10,         10,2,20220622,       2026,    30.0008,  -150.8224,       5769,  2787.5,2,   1.6281,2,  34.6559,3,  34.6586,2,    110.8,2,   110.9,2,  169.78,2,   38.27,2,    0.00,2,    2.96,4,-999.000,9,-999.000,9,-999.0000,9,  -999.0,9,  -999.0,9,-999.0000,9,  -999.00,9, -999.00,9,  -999.0,9, -999.00,1, -999.00,1,     -999.0,9, 20220622,     2128,  30.0008,-150.8224,     1.6277,2,     -999.0,9,     -999.0,9,     -999.0,9,     -999.0,9,     0.0122,1,     4.7027,1,     -999.0,9,     -999.0,9,     -999.0,9,     -999.0,9,     -999.0,9
33RR20220613,       P02E,     136,          1,          9,          9,2,20220622,       2026,    30.0008,  -150.8224,       5769,  3041.5,2,   1.5630,2,  34.6645,2,  34.6631,2,    119.5,2,   119.9,2,  168.99,2,   37.82,2,    0.00,2,    2.92,4,   0.003,2,   0.000,2,   0.0000,2,  2350.0,2,  2431.6,6,   7.5240,2,    25.01,2, -999.00,9,  -999.0,9, -999.00,1, -999.00,1,       24.9,2, 20220622,     2123,  30.0008,-150.8224,     1.5628,2,     -999.0,9,     -999.0,9,     -999.0,9,     -999.0,9,     0.0130,1,     4.7033,1,     -999.0,9,     -999.0,9,     -999.0,9,     -999.0,9,     -999.0,9
33RR20220613,       P02E,     136,          1,          8,          8,2,20220622,       2026,    30.0008,  -150.8224,       5769,  3349.0,2,   1.5099,2,  34.6730,2,  34.6718,2,    129.9,2,   130.0,2,  166.45,2,   37.04,2,    0.00,2,    2.87,4,-999.000,9,-999.000,9,-999.0000,9,  -999.0,9,  -999.0,9,-999.0000,9,  -999.00,9, -999.00,9,  -999.0,9, -999.00,1, -999.00,1,     -999.0,9, 20220622,     2116,  30.0008,-150.8224,     1.5101,2,     -999.0,9,     -999.0,9,     -999.0,9,     -999.0,9,     0.0122,1,     4.7039,1,     -999.0,9,     -999.0,9,     -999.0,9,     -999.0,9,     -999.0,9
33RR20220613,       P02E,     136,          1,          7,          7,2,20220622,       2026,    30.0008,  -150.8224,       5769,  3654.9,2,   1.4839,2,  34.6785,2,  34.6777,2,    137.3,2,   137.7,2,  164.40,2,   36.71,2,    0.00,2,    2.83,4,   0.003,2,   0.000,2,   0.0000,2,  2338.8,2,  2426.3,2,   7.5561,2,    24.98,2, -999.00,9,  -999.0,9, -999.00,1, -999.00,1,       22.8,2, 20220622,     2111,  30.0008,-150.8223,     1.4845,2,     -999.0,9,     -999.0,9,     -999.0,9,     -999.0,9,     0.0127,1,     4.7041,1,     -999.0,9,     -999.0,9,     -999.0,9,     -999.0,9,     -999.0,9
33RR20220613,       P02E,     136,          1,          6,          6,2,20220622,       2026,    30.0008,  -150.8224,       5769,  3963.9,2,   1.4757,2,  34.6826,2,  34.6826,2,    144.0,2,   144.2,2,  160.98,2,   36.41,2,    0.00,2,    2.78,4,-999.000,9,-999.000,9,-999.0000,9,  -999.0,9,  -999.0,9,-999.0000,9,  -999.00,9, -999.00,9,  -999.0,9, -999.00,1, -999.00,1,     -999.0,9, 20220622,     2105,  30.0008,-150.8223,     1.4755,2,     -999.0,9,     -999.0,9,     -999.0,9,     -999.0,9,     0.0122,1,     4.7042,1,     -999.0,9,     -999.0,9,     -999.0,9,     -999.0,9,     -999.0,9
33RR20220613,       P02E,     136,          1,          5,          5,2,20220622,       2026,    30.0008,  -150.8224,       5769,  4272.0,2,   1.4861,2,  34.6850,2,  34.6848,2,    148.2,2,   148.4,2,  158.73,2,   36.05,2,    0.00,2,    2.75,4,   0.004,2,   0.004,2,   0.0000,2,  2330.0,2,  2422.7,6,   7.5740,2,    24.98,2, -999.00,9,  -999.0,9, -999.00,1, -999.00,1,       23.0,2, 20220622,     2058,  30.0008,-150.8223,     1.4859,2,     -999.0,9,     -999.0,9,     -999.0,9,     -999.0,9,     0.0122,1,     4.7040,1,     -999.0,9,     -999.0,9,     -999.0,9,     -999.0,9,     -999.0,9