BOTTLE,20230830CCHSIOCBG
EXPOCODE,SECT_ID,STNNBR,CASTNO,SAMPNO,BTLNBR,BTLNBR_FLAG_W,DATE,TIME,LATITUDE,LONGITUDE,DEPTH,CTDPRS,CTDPRS_FLAG_W,CTDTMP,CTDTMP_FLAG_W,CTDSAL,CTDSAL_FLAG_W,SALNTY,SALNTY_FLAG_W,CTDOXY,CTDOXY_FLAG_W,OXYGEN,OXYGEN_FLAG_W,SILCAT,SILCAT_FLAG_W,NITRAT,NITRAT_FLAG_W,NITRIT,NITRIT_FLAG_W,PHSPHT,PHSPHT_FLAG_W,CFC-11,CFC-11_FLAG_W,CFC-12,CFC-12_FLAG_W,SF6,SF6_FLAG_W,TCARBN,TCARBN_FLAG_W,ALKALI,ALKALI_FLAG_W,PH_TOT,PH_TOT_FLAG_W,PH_TMP,PH_TMP_FLAG_W,DELC13,DELC13_FLAG_W,DELC14,DELC14_FLAG_W,DOC,DOC_FLAG_W,TDN,TDN_FLAG_W,N2O,N2O_FLAG_W,BTL_DATE,BTL_TIME,BTL_LAT,BTL_LON,REFTMP,REFTMP_FLAG_W,POC,POC_FLAG_W,PON,PON_FLAG_W,POP,POP_FLAG_W,PCOD,PCOD_FLAG_W,CTDFLUOR,CTDFLUOR_FLAG_W,CTDXMISS,CTDXMISS_FLAG_W,HPLC,HPLC_FLAG_W,DNA,DNA_FLAG_W,FCM,FCM_FLAG_W,IMAGES,IMAGES_FLAG_W,VIRAL_ABUNDANCE,VIRAL_ABUNDANCE_FLAG_W
,,,,,,,,,,,METERS,DBAR,,ITS-90,,PSS-78,,PSS-78,,UMOL/KG,,UMOL/KG,,UMOL/KG,,UMOL/KG,,UMOL/KG,,UMOL/KG,,PMOL/KG,,PMOL/KG,,FMOL/KG,,UMOL/KG,,UMOL/KG,,,,DEG C,,/MILLE,,/MILLE,,UMOL/KG,,UMOL/KG,,NMOL/KG,,,,,,ITS-90,,UG/L,,UG/L,,UG/L,,UG/L,,VOLTS,,VOLTS,,,,,,,,,,,
33RR20220613,       P02E,     162,          1,          4,          4,2,20220630,       1843,    30.0008,  -135.8098,       4609,  4065.9,2,   1.5055,2,  34.6830,2,  34.6818,2,    140.8,2,   140.8,2,  163.28,2,   36.95,2,    0.00,2,    2.53,2,   0.008,2,   0.009,2,   0.0000,2,  2335.4,2,  2429.4,2,   7.5641,2,    25.01,2, -999.00,1,  -999.0,1, -999.00,1, -999.00,1,       25.7,2, 20220630,     1856,  30.0008,-135.8098,     1.5056,2,     -999.0,9,     -999.0,9,     -999.0,9,     -999.0,9,     0.0122,1,     4.6995,1,     -999.0,9,     -999.0,9,     -999.0,9,     -999.0,9,     -999.0,9
33RR20220613,       P02E,     162,          1,          3,          3,2,20220630,       1843,    30.0008,  -135.8098,       4609,  4374.2,2,   1.5301,2,  34.6844,3,  34.6926,2,    142.5,2,   142.5,2,  162.79,2,   36.87,2,    0.00,2,    2.52,2,   0.005,2,   0.006,2,   0.0000,2,  2336.7,2,  2429.1,2,   7.5678,2,    25.01,2, -999.00,1,  -999.0,1, -999.00,1, -999.00,1,       24.7,2, 20220630,     1850,  30.0008,-135.8099,     1.5301,2,     -999.0,9,     -999.0,9,     -999.0,9,     -999.0,9,     0.0122,1,     4.6991,1,     -999.0,9,     -999.0,9,     -999.0,9,     -999.0,9,     -999.0,9
33RR20220613,       P02E,     162,          1,          2,          2,2,20220630,       1843,    30.0008,  -135.8098,       4609,  4527.1,2,   1.5424,2,  34.6850,2,  34.6836,2,    143.3,2,   143.6,2,  162.70,2,   36.72,2,    0.00,2,    2.52,2,   0.006,2,   0.009,2,   0.0000,2,  2336.3,2,  2429.4,2,   7.5678,2,    25.01,2, -999.00,1,  -999.0,1, -999.00,1, -999.00,1,       25.7,2, 20220630,     1847,  30.0008,-135.8098,     1.5426,2,     -999.0,9,     -999.0,9,     -999.0,9,     -999.0,9,     0.0134,1,     4.6994,1,     -999.0,9,     -999.0,9,     -999.0,9,     -999.0,9,     -999.0,9
33RR20220613,       P02E,     162,          1,          1,          1,2,20220630,       1843,    30.0008,  -135.8098,       4609,  4682.6,2,   1.5599,2,  34.6852,2,  34.6840,2,    143.6,2,   143.7,2,  161.13,2,   36.75,2,    0.00,2,    2.52,2,   0.008,2,   0.011,2,   0.0000,2,  2338.1,6,  2429.6,2,   7.5694,2,    25.01,2, -999.00,1,  -999.0,1, -999.00,1, -999.00,1,       22.4,2, 20220630,     1843,  30.0008,-135.8098,     1.5600,2,     -999.0,9,     -999.0,9,     -999.0,9,     -999.0,9,     0.0122,1,     4.6984,1,     -999.0,9,     -999.0,9,     -999.0,9,     -999.0,9,     -999.0,9