BOTTLE,20230830CCHSIOCBG
EXPOCODE,SECT_ID,STNNBR,CASTNO,SAMPNO,BTLNBR,BTLNBR_FLAG_W,DATE,TIME,LATITUDE,LONGITUDE,DEPTH,CTDPRS,CTDPRS_FLAG_W,CTDTMP,CTDTMP_FLAG_W,CTDSAL,CTDSAL_FLAG_W,SALNTY,SALNTY_FLAG_W,CTDOXY,CTDOXY_FLAG_W,OXYGEN,OXYGEN_FLAG_W,SILCAT,SILCAT_FLAG_W,NITRAT,NITRAT_FLAG_W,NITRIT,NITRIT_FLAG_W,PHSPHT,PHSPHT_FLAG_W,CFC-11,CFC-11_FLAG_W,CFC-12,CFC-12_FLAG_W,SF6,SF6_FLAG_W,TCARBN,TCARBN_FLAG_W,ALKALI,ALKALI_FLAG_W,PH_TOT,PH_TOT_FLAG_W,PH_TMP,PH_TMP_FLAG_W,DELC13,DELC13_FLAG_W,DELC14,DELC14_FLAG_W,DOC,DOC_FLAG_W,TDN,TDN_FLAG_W,N2O,N2O_FLAG_W,BTL_DATE,BTL_TIME,BTL_LAT,BTL_LON,REFTMP,REFTMP_FLAG_W,POC,POC_FLAG_W,PON,PON_FLAG_W,POP,POP_FLAG_W,PCOD,PCOD_FLAG_W,CTDFLUOR,CTDFLUOR_FLAG_W,CTDXMISS,CTDXMISS_FLAG_W,HPLC,HPLC_FLAG_W,DNA,DNA_FLAG_W,FCM,FCM_FLAG_W,IMAGES,IMAGES_FLAG_W,VIRAL_ABUNDANCE,VIRAL_ABUNDANCE_FLAG_W
,,,,,,,,,,,METERS,DBAR,,ITS-90,,PSS-78,,PSS-78,,UMOL/KG,,UMOL/KG,,UMOL/KG,,UMOL/KG,,UMOL/KG,,UMOL/KG,,PMOL/KG,,PMOL/KG,,FMOL/KG,,UMOL/KG,,UMOL/KG,,,,DEG C,,/MILLE,,/MILLE,,UMOL/KG,,UMOL/KG,,NMOL/KG,,,,,,ITS-90,,UG/L,,UG/L,,UG/L,,UG/L,,VOLTS,,VOLTS,,,,,,,,,,,
33RR20220613,       P02E,     188,          4,          4,          4,2,20220714,       1645,    30.9999,  -121.2219,       3888,  3349.0,2,   1.5825,2,  34.6705,3,  34.6682,2,    123.3,2,   123.4,2,  167.93,2,   37.89,2,    0.00,2,    2.62,2,   0.010,2,   0.009,2,   0.0000,2,  -999.0,9,  -999.0,9,-999.0000,9,  -999.00,9, -999.00,9,  -999.0,9, -999.00,9, -999.00,9,       30.8,2, 20220714,     1658,  30.9999,-121.2219,     1.5823,2,     -999.0,9,     -999.0,9,     -999.0,9,     -999.0,9,     0.0123,1,     4.6781,1,     -999.0,9,     -999.0,9,     -999.0,9,     -999.0,9,     -999.0,9
33RR20220613,       P02E,     188,          4,          3,          3,2,20220714,       1645,    30.9999,  -121.2219,       3888,  3656.8,2,   1.5557,2,  34.6745,2,  34.6728,2,    127.6,2,   127.6,2,  168.71,2,   37.61,2,    0.00,2,    2.62,2,   0.015,2,   0.011,2,   0.0000,2,  2349.3,2,  2433.3,2,   7.5446,2,    25.00,2, -999.00,9,  -999.0,9, -999.00,9, -999.00,9,       31.5,2, 20220714,     1652,  30.9999,-121.2219,     1.5558,2,     -999.0,9,     -999.0,9,     -999.0,9,     -999.0,9,     0.0122,1,     4.6776,1,     -999.0,9,     -999.0,9,     -999.0,9,     -999.0,9,     -999.0,9
33RR20220613,       P02E,     188,          4,          2,          2,2,20220714,       1645,    30.9999,  -121.2219,       3888,  3799.4,2,   1.5525,2,  34.6759,2,  34.6747,2,    128.6,2,   128.4,2,  169.29,2,   37.61,2,    0.00,2,    2.61,2,   0.019,2,   0.016,2,   0.0000,2,  2349.2,2,  2434.6,2,   7.5483,2,    25.00,2, -999.00,9,  -999.0,9, -999.00,9, -999.00,9,       27.5,2, 20220714,     1648,  31.0000,-121.2219,     1.5525,2,     -999.0,9,     -999.0,9,     -999.0,9,     -999.0,9,     0.0122,1,     4.6751,1,     -999.0,9,     -999.0,9,     -999.0,9,     -999.0,9,     -999.0,9
33RR20220613,       P02E,     188,          4,          1,          1,2,20220714,       1645,    30.9999,  -121.2219,       3888,  3938.8,2,   1.5560,2,  34.6770,2,  34.6775,2,    129.8,2,   129.8,2,  169.10,2,   37.54,2,    0.00,2,    2.60,2,   0.018,2,   0.023,2,   0.0000,2,  2351.7,6,  2433.3,2,   7.5497,2,    25.00,2, -999.00,9,  -999.0,9, -999.00,9, -999.00,9,       28.7,2, 20220714,     1645,  30.9999,-121.2219,     1.5562,2,     -999.0,9,     -999.0,9,     -999.0,9,     -999.0,9,     0.0121,1,     4.6633,1,     -999.0,9,     -999.0,9,     -999.0,9,     -999.0,9,     -999.0,9