BOTTLE,20230830CCHSIOCBG
EXPOCODE,SECT_ID,STNNBR,CASTNO,SAMPNO,BTLNBR,BTLNBR_FLAG_W,DATE,TIME,LATITUDE,LONGITUDE,DEPTH,CTDPRS,CTDPRS_FLAG_W,CTDTMP,CTDTMP_FLAG_W,CTDSAL,CTDSAL_FLAG_W,SALNTY,SALNTY_FLAG_W,CTDOXY,CTDOXY_FLAG_W,OXYGEN,OXYGEN_FLAG_W,SILCAT,SILCAT_FLAG_W,NITRAT,NITRAT_FLAG_W,NITRIT,NITRIT_FLAG_W,PHSPHT,PHSPHT_FLAG_W,CFC-11,CFC-11_FLAG_W,CFC-12,CFC-12_FLAG_W,SF6,SF6_FLAG_W,TCARBN,TCARBN_FLAG_W,ALKALI,ALKALI_FLAG_W,PH_TOT,PH_TOT_FLAG_W,PH_TMP,PH_TMP_FLAG_W,DELC13,DELC13_FLAG_W,DELC14,DELC14_FLAG_W,DOC,DOC_FLAG_W,TDN,TDN_FLAG_W,N2O,N2O_FLAG_W,BTL_DATE,BTL_TIME,BTL_LAT,BTL_LON,REFTMP,REFTMP_FLAG_W,POC,POC_FLAG_W,PON,PON_FLAG_W,POP,POP_FLAG_W,PCOD,PCOD_FLAG_W,CTDFLUOR,CTDFLUOR_FLAG_W,CTDXMISS,CTDXMISS_FLAG_W,HPLC,HPLC_FLAG_W,DNA,DNA_FLAG_W,FCM,FCM_FLAG_W,IMAGES,IMAGES_FLAG_W,VIRAL_ABUNDANCE,VIRAL_ABUNDANCE_FLAG_W
,,,,,,,,,,,METERS,DBAR,,ITS-90,,PSS-78,,PSS-78,,UMOL/KG,,UMOL/KG,,UMOL/KG,,UMOL/KG,,UMOL/KG,,UMOL/KG,,PMOL/KG,,PMOL/KG,,FMOL/KG,,UMOL/KG,,UMOL/KG,,,,DEG C,,/MILLE,,/MILLE,,UMOL/KG,,UMOL/KG,,NMOL/KG,,,,,,ITS-90,,UG/L,,UG/L,,UG/L,,UG/L,,VOLTS,,VOLTS,,,,,,,,,,,
33RR20220613,       P02E,     182,          2,         36,         36,2,20220706,       1234,    30.0000,  -124.2599,       4620,     5.8,2,  18.6295,2,  33.1476,2,  33.1499,2,    240.2,2,   240.1,2,    1.17,2,    0.00,2,    0.00,2,    0.30,2,   2.105,2,   1.344,2,   2.1797,2,  2013.0,6,  2218.6,2,   7.8961,2,    25.00,2, -999.00,9,  -999.0,9, -999.00,1, -999.00,1,        9.4,2, 20220706,     1427,  30.0000,-124.2599,    18.6267,2,     -999.0,9,     -999.0,9,     -999.0,9,     -999.0,9,     0.0134,1,     4.6299,1,     -999.0,9,     -999.0,9,     -999.0,9,     -999.0,9,     -999.0,9
33RR20220613,       P02E,     182,          2,         35,         35,2,20220706,       1234,    30.0000,  -124.2599,       4620,    26.3,2,  17.4602,2,  33.1565,2,  33.1546,2,    247.5,2,   247.8,2,    1.17,2,    0.00,2,    0.00,2,    0.32,2,   2.241,2,   1.413,2,   2.3653,2,  2011.3,2,  2218.1,2,   7.8965,2,    25.01,2, -999.00,9,  -999.0,9, -999.00,1, -999.00,1,        9.4,2, 20220706,     1425,  30.0000,-124.2599,    17.4529,2,     -999.0,9,     -999.0,9,     -999.0,9,     -999.0,9,     0.0155,1,     4.6166,1,     -999.0,9,     -999.0,9,     -999.0,9,     -999.0,9,     -999.0,9
33RR20220613,       P02E,     182,          2,         34,         34,2,20220706,       1234,    30.0000,  -124.2599,       4620,    51.4,2,  16.3977,2,  33.1155,2,  33.1150,2,    254.0,2,   254.6,2,    1.17,2,    0.00,2,    0.01,2,    0.33,2,   2.420,2,   1.479,2,   2.4665,2,  2011.7,2,  2216.5,2,   7.8922,2,    25.01,2, -999.00,9,  -999.0,9, -999.00,1, -999.00,1,        9.8,2, 20220706,     1424,  30.0000,-124.2599,    16.4039,2,     -999.0,9,     -999.0,9,     -999.0,9,     -999.0,9,     0.0195,1,     4.6136,1,     -999.0,9,     -999.0,9,     -999.0,9,     -999.0,9,     -999.0,9
33RR20220613,       P02E,     182,          2,         33,         33,2,20220706,       1234,    30.0000,  -124.2599,       4620,    76.5,2,  15.0157,2,  33.0770,2,  33.0869,2,    260.1,2,   259.8,2,    1.27,2,    0.00,2,    0.01,2,    0.35,2,   2.630,2,   1.543,2,   2.5164,2,  2011.3,2,  2213.3,2,   7.8839,2,    25.02,2, -999.00,9,  -999.0,9, -999.00,1, -999.00,1,       10.3,2, 20220706,     1422,  30.0000,-124.2599,    15.0134,2,     -999.0,9,     -999.0,9,     -999.0,9,     -999.0,9,     0.0286,1,     4.6200,1,     -999.0,9,     -999.0,9,     -999.0,9,     -999.0,9,     -999.0,9
33RR20220613,       P02E,     182,          2,         32,         32,2,20220706,       1234,    30.0000,  -124.2599,       4620,   106.4,2,  14.0408,2,  33.0628,2,  33.0660,2,    256.1,2,   255.5,2,    1.76,2,    0.53,2,    0.09,2,    0.45,2,   2.765,2,   1.609,2,   2.5692,2,  2022.2,2,  2209.6,2,   7.8569,2,    25.00,2, -999.00,9,  -999.0,9, -999.00,1, -999.00,1,       11.6,2, 20220706,     1420,  30.0000,-124.2599,    14.0420,2,     -999.0,9,     -999.0,9,     -999.0,9,     -999.0,9,     0.0479,1,     4.6295,1,     -999.0,9,     -999.0,9,     -999.0,9,     -999.0,9,     -999.0,9
33RR20220613,       P02E,     182,          2,         31,         31,2,20220706,       1234,    30.0000,  -124.2599,       4620,   152.1,2,  12.6272,2,  33.1609,2,  33.1645,2,    247.5,2,   247.5,2,    4.50,2,    6.88,2,    0.03,2,    0.80,2,   2.958,2,   1.699,2,   2.6379,2,  2054.9,2,  2215.4,2,   7.7823,2,    25.02,2, -999.00,9,  -999.0,9, -999.00,1, -999.00,1,       12.8,2, 20220706,     1418,  30.0000,-124.2599,    12.6343,2,     -999.0,9,     -999.0,9,     -999.0,9,     -999.0,9,     0.0159,1,     4.6669,1,     -999.0,9,     -999.0,9,     -999.0,9,     -999.0,9,     -999.0,9
33RR20220613,       P02E,     182,          2,         30,         17,2,20220706,       1234,    30.0000,  -124.2599,       4620,   202.3,2,  10.1153,2,  33.6864,3,  33.7235,2,    158.6,3,   150.8,2,   20.73,2,   21.70,2,    0.01,2,    1.69,2,   3.083,2,   1.753,2,   2.0581,2,  2161.5,2,  2238.9,6,   7.5523,2,    25.01,2, -999.00,9,  -999.0,9, -999.00,1, -999.00,1,       24.3,2, 20220706,     1417,  30.0000,-124.2599,    10.1233,2,     -999.0,9,     -999.0,9,     -999.0,9,     -999.0,9,     0.0134,1,     4.6702,1,     -999.0,9,     -999.0,9,     -999.0,9,     -999.0,9,     -999.0,9
33RR20220613,       P02E,     182,          2,         29,         29,2,20220706,       1234,    30.0000,  -124.2599,       4620,   252.2,2,   9.2731,2,  34.0175,2,  34.0143,2,    102.3,3,   104.4,2,   30.59,2,   26.34,2,    0.00,2,    2.04,2,   2.763,2,   1.580,2,   1.3554,2,  2202.4,2,  2258.1,2,   7.4820,2,    24.99,2, -999.00,9,  -999.0,9, -999.00,1, -999.00,1,       33.4,2, 20220706,     1415,  30.0000,-124.2599,     9.2696,2,     -999.0,9,     -999.0,9,     -999.0,9,     -999.0,9,     0.0124,1,     4.6704,1,     -999.0,9,     -999.0,9,     -999.0,9,     -999.0,9,     -999.0,9
33RR20220613,       P02E,     182,          2,         28,         28,2,20220706,       1234,    30.0000,  -124.2599,       4620,   302.8,2,   8.7364,2,  34.0936,2,  34.0887,2,     84.9,2,    85.2,2,   37.14,2,   29.11,2,    0.00,2,    2.24,2,   2.529,2,   1.425,2,   1.0168,2,  -999.0,9,  -999.0,9,-999.0000,9,  -999.00,9, -999.00,9,  -999.0,9, -999.00,1, -999.00,1,       33.9,2, 20220706,     1413,  30.0001,-124.2599,     8.7370,2,     -999.0,9,     -999.0,9,     -999.0,9,     -999.0,9,     0.0127,1,     4.6716,1,     -999.0,9,     -999.0,9,     -999.0,9,     -999.0,9,     -999.0,9
33RR20220613,       P02E,     182,          2,         27,         27,2,20220706,       1234,    30.0000,  -124.2599,       4620,   353.3,2,   7.8225,2,  34.1076,2,  34.1007,2,     68.5,2,    69.2,2,   46.33,2,   32.34,2,    0.00,2,    2.46,2,   2.235,2,   1.236,2,   0.7824,2,  2249.6,2,  2276.5,2,   7.4005,2,    25.00,2, -999.00,9,  -999.0,9, -999.00,1, -999.00,1,       39.7,2, 20220706,     1410,  30.0000,-124.2599,     7.8201,2,     -999.0,9,     -999.0,9,     -999.0,9,     -999.0,9,     0.0134,1,     4.6717,1,     -999.0,9,     -999.0,9,     -999.0,9,     -999.0,9,     -999.0,9
33RR20220613,       P02E,     182,          2,         26,         26,2,20220706,       1234,    30.0000,  -124.2599,       4620,   403.0,2,   7.0625,2,  34.0976,2,  34.0905,2,     60.7,2,    60.7,2,   54.54,2,   34.80,2,    0.00,2,    2.61,2,   2.105,2,   1.092,2,   0.6108,2,  -999.0,9,  -999.0,9,-999.0000,9,  -999.00,9, -999.00,9,  -999.0,9, -999.00,1, -999.00,1,       43.0,2, 20220706,     1410,  30.0000,-124.2599,     7.0637,2,     -999.0,9,     -999.0,9,     -999.0,9,     -999.0,9,     0.0134,1,     4.6729,1,     -999.0,9,     -999.0,9,     -999.0,9,     -999.0,9,     -999.0,9
33RR20220613,       P02E,     182,          2,         25,         25,2,20220706,       1234,    30.0000,  -124.2599,       4620,   454.4,2,   6.4506,2,  34.1114,2,  34.1183,2,     45.1,3,    44.0,2,   63.72,2,   37.34,2,    0.00,2,    2.79,2,   1.585,2,   0.846,2,   0.4218,2,  2282.5,2,  2292.2,2,   7.3401,2,    25.01,2, -999.00,9,  -999.0,9, -999.00,1, -999.00,1,       41.6,2, 20220706,     1408,  30.0000,-124.2599,     6.4419,2,     -999.0,9,     -999.0,9,     -999.0,9,     -999.0,9,     0.0134,1,     4.6757,1,     -999.0,9,     -999.0,9,     -999.0,9,     -999.0,9,     -999.0,9
33RR20220613,       P02E,     182,          2,         24,         24,2,20220706,       1234,    30.0000,  -124.2599,       4620,   504.1,2,   6.0898,2,  34.1695,3,  34.2007,2,     30.1,3,    25.1,2,   70.95,2,   38.84,2,    0.00,2,    2.96,2,   0.992,2,   0.517,2,   0.3258,2,  -999.0,9,  -999.0,9,-999.0000,9,  -999.00,9, -999.00,9,  -999.0,9, -999.00,1, -999.00,1,       47.4,2, 20220706,     1406,  30.0000,-124.2599,     6.0689,2,     -999.0,9,     -999.0,9,     -999.0,9,     -999.0,9,     0.0134,1,     4.6776,1,     -999.0,9,     -999.0,9,     -999.0,9,     -999.0,9,     -999.0,9
33RR20220613,       P02E,     182,          2,         23,         23,2,20220706,       1234,    30.0000,  -124.2599,       4620,   605.3,2,   5.4091,2,  34.2593,2,  34.2646,2,     15.1,3,    15.3,2,   85.21,2,   41.29,2,    0.00,2,    3.13,2,   0.441,2,   0.227,2,   0.1142,2,  2324.0,2,  2321.1,2,   7.3053,2,    25.00,2, -999.00,9,  -999.0,9, -999.00,1, -999.00,1,       51.2,2, 20220706,     1404,  30.0000,-124.2599,     5.4083,2,     -999.0,9,     -999.0,9,     -999.0,9,     -999.0,9,     0.0134,1,     4.6798,1,     -999.0,9,     -999.0,9,     -999.0,9,     -999.0,9,     -999.0,9
33RR20220613,       P02E,     182,          2,         22,         22,2,20220706,       1234,    30.0000,  -124.2599,       4620,   706.5,2,   5.0837,2,  34.3366,2,  34.3364,2,     12.0,3,    11.5,2,   92.93,2,   42.14,2,    0.00,2,    3.18,2,   0.140,2,   0.082,2,   0.1181,2,  2334.4,2,  2336.3,2,   7.3116,2,    25.01,2, -999.00,9,  -999.0,9, -999.00,1, -999.00,1,       50.4,2, 20220706,     1401,  30.0000,-124.2599,     5.0824,2,     -999.0,9,     -999.0,9,     -999.0,9,     -999.0,9,     0.0134,1,     4.6830,1,     -999.0,9,     -999.0,9,     -999.0,9,     -999.0,9,     -999.0,9
33RR20220613,       P02E,     182,          2,         21,         21,2,20220706,       1234,    30.0000,  -124.2599,       4620,   807.6,2,   4.7125,2,  34.3924,2,  34.3888,2,     13.6,2,    13.5,2,  100.15,2,   42.88,2,    0.00,2,    3.20,2,   0.051,2,   0.041,2,   0.1368,2,  2345.3,6,  2349.7,2,   7.3208,2,    25.00,2, -999.00,9,  -999.0,9, -999.00,1, -999.00,1,       50.3,2, 20220706,     1359,  30.0000,-124.2599,     4.7089,2,     -999.0,9,     -999.0,9,     -999.0,9,     -999.0,9,     0.0134,1,     4.6838,1,     -999.0,9,     -999.0,9,     -999.0,9,     -999.0,9,     -999.0,9
33RR20220613,       P02E,     182,          2,         20,         20,2,20220706,       1234,    30.0000,  -124.2599,       4620,   908.6,2,   4.3463,2,  34.4388,2,  34.4367,2,     17.9,3,    18.3,2,  107.77,2,   43.34,2,    0.00,2,    3.20,2,   0.025,2,   0.021,2,   0.0000,2,  2352.9,2,  2359.0,2,   7.3343,2,    24.99,2, -999.00,9,  -999.0,9, -999.00,1, -999.00,1,       51.3,2, 20220706,     1356,  30.0000,-124.2599,     4.3478,2,     -999.0,9,     -999.0,9,     -999.0,9,     -999.0,9,     0.0134,1,     4.6848,1,     -999.0,9,     -999.0,9,     -999.0,9,     -999.0,9,     -999.0,9
33RR20220613,       P02E,     182,          2,         19,         39,2,20220706,       1234,    30.0000,  -124.2599,       4620,  1009.8,2,   3.9962,2,  34.4735,2,  34.4708,2,     24.4,2,    24.4,2,  115.00,2,   43.52,2,    0.00,2,    3.19,2,   0.017,2,   0.015,2,   0.0000,2,  2358.4,2,  2368.7,2,   7.3474,2,    25.01,2, -999.00,9,  -999.0,9, -999.00,1, -999.00,1,       48.3,2, 20220706,     1353,  30.0000,-124.2599,     4.0003,2,     -999.0,9,     -999.0,9,     -999.0,9,     -999.0,9,     0.0134,1,     4.6861,1,     -999.0,9,     -999.0,9,     -999.0,9,     -999.0,9,     -999.0,9
33RR20220613,       P02E,     182,          2,         18,         18,2,20220706,       1234,    30.0000,  -124.2599,       4620,  1110.6,2,   3.7512,2,  34.4957,2,  34.4930,2,     29.2,2,    28.9,2,  120.18,2,   43.42,2,    0.00,2,    3.17,2,   0.012,2,   0.011,2,   0.0000,2,  -999.0,9,  -999.0,9,-999.0000,9,  -999.00,9, -999.00,9,  -999.0,9, -999.00,1, -999.00,1,       45.8,2, 20220706,     1351,  30.0000,-124.2599,     3.7535,2,     -999.0,9,     -999.0,9,     -999.0,9,     -999.0,9,     0.0134,1,     4.6873,1,     -999.0,9,     -999.0,9,     -999.0,9,     -999.0,9,     -999.0,9
33RR20220613,       P02E,     182,          2,         17,         37,2,20220706,       1234,    30.0000,  -124.2599,       4620,  1212.0,2,   3.5107,2,  34.5172,2,  34.5148,2,     33.1,2,    33.1,2,  126.33,2,   43.35,2,    0.00,2,    3.16,2,   0.017,2,   0.015,2,   0.0000,2,  2364.4,2,  2382.7,2,   7.3650,2,    24.99,2, -999.00,9,  -999.0,9, -999.00,1, -999.00,1,       43.6,2, 20220706,     1348,  30.0000,-124.2600,     3.5149,2,     -999.0,9,     -999.0,9,     -999.0,9,     -999.0,9,     0.0134,1,     4.6874,1,     -999.0,9,     -999.0,9,     -999.0,9,     -999.0,9,     -999.0,9
33RR20220613,       P02E,     182,          2,         16,         16,2,20220706,       1234,    30.0000,  -124.2599,       4620,  1314.1,2,   3.2880,2,  34.5340,2,  34.5305,2,     38.1,2,    38.0,2,  130.92,2,   43.18,2,    0.00,2,    3.13,2,   0.016,2,   0.017,2,   0.0000,2,  -999.0,9,  -999.0,9,-999.0000,9,  -999.00,9, -999.00,9,  -999.0,9, -999.00,1, -999.00,1,       41.8,2, 20220706,     1345,  30.0000,-124.2599,     3.2868,2,     -999.0,9,     -999.0,9,     -999.0,9,     -999.0,9,     0.0134,1,     4.6879,1,     -999.0,9,     -999.0,9,     -999.0,9,     -999.0,9,     -999.0,9
33RR20220613,       P02E,     182,          2,         15,         15,2,20220706,       1234,    30.0000,  -124.2599,       4620,  1415.0,2,   3.0465,2,  34.5525,2,  34.5492,2,     43.4,2,    43.1,2,  137.07,2,   42.98,2,    0.00,2,    3.10,2,   0.015,2,   0.013,2,   0.0000,2,  2367.5,2,  2395.8,2,   7.3833,2,    24.99,2, -999.00,9,  -999.0,9, -999.00,1, -999.00,1,       40.8,2, 20220706,     1342,  30.0000,-124.2599,     3.0480,2,     -999.0,9,     -999.0,9,     -999.0,9,     -999.0,9,     0.0134,1,     4.6886,1,     -999.0,9,     -999.0,9,     -999.0,9,     -999.0,9,     -999.0,9
33RR20220613,       P02E,     182,          2,         14,         42,2,20220706,       1234,    30.0000,  -124.2599,       4620,  1516.5,2,   2.8138,2,  34.5693,3,  34.5751,2,     50.2,2,    50.0,2,  142.74,2,   42.67,2,    0.00,2,    3.05,2,   0.011,2,   0.011,2,   0.0000,2,  -999.0,9,  -999.0,9,-999.0000,9,  -999.00,9, -999.00,9,  -999.0,9, -999.00,1, -999.00,1,       39.5,2, 20220706,     1340,  30.0000,-124.2599,     2.8128,2,     -999.0,9,     -999.0,9,     -999.0,9,     -999.0,9,     0.0134,1,     4.6887,1,     -999.0,9,     -999.0,9,     -999.0,9,     -999.0,9,     -999.0,9
33RR20220613,       P02E,     182,          2,         13,         13,2,20220706,       1234,    30.0000,  -124.2599,       4620,  1617.9,2,   2.6391,2,  34.5827,2,  34.5810,2,     56.2,2,    56.4,2,  147.04,2,   42.32,2,    0.00,2,    3.01,2,   0.011,2,   0.011,2,   0.0000,2,  2370.9,2,  2405.9,2,   7.4077,2,    24.98,2, -999.00,9,  -999.0,9, -999.00,1, -999.00,1,       38.1,2, 20220706,     1337,  30.0000,-124.2599,     2.6388,2,     -999.0,9,     -999.0,9,     -999.0,9,     -999.0,9,     0.0134,1,     4.6888,1,     -999.0,9,     -999.0,9,     -999.0,9,     -999.0,9,     -999.0,9
33RR20220613,       P02E,     182,          2,         12,         12,2,20220706,       1234,    30.0000,  -124.2599,       4620,  1820.4,2,   2.3246,2,  34.6076,2,  34.6048,2,     69.7,2,    69.6,2,  153.68,2,   41.50,2,    0.00,2,    2.93,2,   0.011,2,   0.009,2,   0.0000,2,  2368.9,2,  2413.8,6,   7.4337,2,    25.00,2, -999.00,9,  -999.0,9, -999.00,1, -999.00,1,       33.7,2, 20220706,     1333,  30.0000,-124.2599,     2.3251,2,     -999.0,9,     -999.0,9,     -999.0,9,     -999.0,9,     0.0134,1,     4.6901,1,     -999.0,9,     -999.0,9,     -999.0,9,     -999.0,9,     -999.0,9
33RR20220613,       P02E,     182,          2,         11,         11,2,20220706,       1234,    30.0000,  -124.2599,       4620,  2024.2,2,   2.1420,2,  34.6236,2,  34.6233,2,     79.8,2,    79.8,2,  157.09,2,   40.89,2,    0.00,2,    2.87,2,   0.008,2,   0.008,2,   0.0000,2,  2364.9,2,  2420.4,2,   7.4539,2,    25.00,2, -999.00,9,  -999.0,9, -999.00,1, -999.00,1,       31.4,2, 20220706,     1328,  30.0000,-124.2599,     2.1420,2,     -999.0,9,     -999.0,9,     -999.0,9,     -999.0,9,     0.0134,1,     4.6907,1,     -999.0,9,     -999.0,9,     -999.0,9,     -999.0,9,     -999.0,9
33RR20220613,       P02E,     182,          2,         10,         10,2,20220706,       1234,    30.0000,  -124.2599,       4620,  2278.0,2,   1.9465,2,  34.6417,3,  34.6394,2,     93.1,2,    93.2,2,  159.63,2,   40.04,2,    0.00,2,    2.79,2,-999.000,9,-999.000,9,-999.0000,9,  -999.0,9,  -999.0,9,-999.0000,9,  -999.00,9, -999.00,9,  -999.0,9, -999.00,1, -999.00,1,     -999.0,9, 20220706,     1323,  30.0000,-124.2600,     1.9470,2,     -999.0,9,     -999.0,9,     -999.0,9,     -999.0,9,     0.0129,1,     4.6916,1,     -999.0,9,     -999.0,9,     -999.0,9,     -999.0,9,     -999.0,9
33RR20220613,       P02E,     182,          2,          9,          9,2,20220706,       1234,    30.0000,  -124.2599,       4620,  2533.3,2,   1.8133,2,  34.6520,3,  34.6494,2,    102.3,2,   102.5,2,  162.07,2,   39.39,2,    0.00,2,    2.73,2,   0.007,2,   0.008,2,   0.0000,2,  2356.1,2,  2427.5,2,   7.4967,2,    24.99,2, -999.00,9,  -999.0,9, -999.00,1, -999.00,1,       27.3,2, 20220706,     1317,  30.0000,-124.2600,     1.8131,2,     -999.0,9,     -999.0,9,     -999.0,9,     -999.0,9,     0.0125,1,     4.6924,1,     -999.0,9,     -999.0,9,     -999.0,9,     -999.0,9,     -999.0,9
33RR20220613,       P02E,     182,          2,          8,          8,2,20220706,       1234,    30.0000,  -124.2599,       4620,  2788.6,2,   1.7034,2,  34.6592,2,  34.6574,2,    110.1,2,   110.2,2,  164.61,2,   38.84,2,    0.00,2,    2.70,2,-999.000,9,-999.000,9,-999.0000,9,  -999.0,9,  -999.0,9,-999.0000,9,  -999.00,9, -999.00,9,  -999.0,9, -999.00,1, -999.00,1,     -999.0,9, 20220706,     1313,  30.0001,-124.2599,     1.7029,2,     -999.0,9,     -999.0,9,     -999.0,9,     -999.0,9,     0.0127,1,     4.6935,1,     -999.0,9,     -999.0,9,     -999.0,9,     -999.0,9,     -999.0,9
33RR20220613,       P02E,     182,          2,          7,          7,2,20220706,       1234,    30.0000,  -124.2599,       4620,  3043.6,2,   1.6221,2,  34.6655,3,  34.6633,2,    117.0,2,   117.2,2,  166.37,2,   38.31,2,    0.00,2,    2.66,2,   0.004,2,   0.007,2,   0.0000,2,  2350.7,2,  2429.8,2,   7.5231,2,    24.99,2, -999.00,9,  -999.0,9, -999.00,1, -999.00,1,       23.8,2, 20220706,     1307,  30.0000,-124.2599,     1.6226,2,     -999.0,9,     -999.0,9,     -999.0,9,     -999.0,9,     0.0126,1,     4.6943,1,     -999.0,9,     -999.0,9,     -999.0,9,     -999.0,9,     -999.0,9
33RR20220613,       P02E,     182,          2,          6,          6,2,20220706,       1234,    30.0000,  -124.2599,       4620,  3350.2,2,   1.5527,2,  34.6721,3,  34.6700,2,    124.6,2,   124.8,2,  167.25,2,   37.78,2,    0.00,2,    2.61,2,-999.000,9,-999.000,9,-999.0000,9,  -999.0,9,  -999.0,9,-999.0000,9,  -999.00,9, -999.00,9,  -999.0,9, -999.00,1, -999.00,1,     -999.0,9, 20220706,     1301,  30.0000,-124.2600,     1.5527,2,     -999.0,9,     -999.0,9,     -999.0,9,     -999.0,9,     0.0122,1,     4.6945,1,     -999.0,9,     -999.0,9,     -999.0,9,     -999.0,9,     -999.0,9
33RR20220613,       P02E,     182,          2,          5,          5,2,20220706,       1234,    30.0000,  -124.2599,       4620,  3657.0,2,   1.5266,2,  34.6769,2,  34.6771,2,    130.5,2,   130.4,2,  166.95,2,   37.34,2,    0.00,2,    2.58,2,   0.010,2,   0.013,2,   0.0000,2,  2344.5,2,  2429.7,2,   7.5474,2,    25.01,2, -999.00,9,  -999.0,9, -999.00,1, -999.00,1,       24.2,2, 20220706,     1255,  30.0000,-124.2599,     1.5265,2,     -999.0,9,     -999.0,9,     -999.0,9,     -999.0,9,     0.0122,1,     4.6939,1,     -999.0,9,     -999.0,9,     -999.0,9,     -999.0,9,     -999.0,9