BOTTLE,20230830CCHSIOCBG
EXPOCODE,SECT_ID,STNNBR,CASTNO,SAMPNO,BTLNBR,BTLNBR_FLAG_W,DATE,TIME,LATITUDE,LONGITUDE,DEPTH,CTDPRS,CTDPRS_FLAG_W,CTDTMP,CTDTMP_FLAG_W,CTDSAL,CTDSAL_FLAG_W,SALNTY,SALNTY_FLAG_W,CTDOXY,CTDOXY_FLAG_W,OXYGEN,OXYGEN_FLAG_W,SILCAT,SILCAT_FLAG_W,NITRAT,NITRAT_FLAG_W,NITRIT,NITRIT_FLAG_W,PHSPHT,PHSPHT_FLAG_W,CFC-11,CFC-11_FLAG_W,CFC-12,CFC-12_FLAG_W,SF6,SF6_FLAG_W,TCARBN,TCARBN_FLAG_W,ALKALI,ALKALI_FLAG_W,PH_TOT,PH_TOT_FLAG_W,PH_TMP,PH_TMP_FLAG_W,DELC13,DELC13_FLAG_W,DELC14,DELC14_FLAG_W,DOC,DOC_FLAG_W,TDN,TDN_FLAG_W,N2O,N2O_FLAG_W,BTL_DATE,BTL_TIME,BTL_LAT,BTL_LON,REFTMP,REFTMP_FLAG_W,POC,POC_FLAG_W,PON,PON_FLAG_W,POP,POP_FLAG_W,PCOD,PCOD_FLAG_W,CTDFLUOR,CTDFLUOR_FLAG_W,CTDXMISS,CTDXMISS_FLAG_W,HPLC,HPLC_FLAG_W,DNA,DNA_FLAG_W,FCM,FCM_FLAG_W,IMAGES,IMAGES_FLAG_W,VIRAL_ABUNDANCE,VIRAL_ABUNDANCE_FLAG_W
,,,,,,,,,,,METERS,DBAR,,ITS-90,,PSS-78,,PSS-78,,UMOL/KG,,UMOL/KG,,UMOL/KG,,UMOL/KG,,UMOL/KG,,UMOL/KG,,PMOL/KG,,PMOL/KG,,FMOL/KG,,UMOL/KG,,UMOL/KG,,,,DEG C,,/MILLE,,/MILLE,,UMOL/KG,,UMOL/KG,,NMOL/KG,,,,,,ITS-90,,UG/L,,UG/L,,UG/L,,UG/L,,VOLTS,,VOLTS,,,,,,,,,,,
33RR20220613,       P02E,     204,          1,         36,         36,2,20220713,       0554,    32.6428,  -117.3837,        250,     3.8,2,  13.0930,2,  33.5629,2,-999.0000,9,    243.7,2,  -999.0,9, -999.00,9, -999.00,9, -999.00,9, -999.00,9,-999.000,9,-999.000,9,-999.0000,9,  -999.0,9,  -999.0,9,-999.0000,9,  -999.00,9, -999.00,9,  -999.0,9, -999.00,9, -999.00,9,     -999.0,9, 20220713,      621,  32.6428,-117.3837,     -999.0,9,     -999.0,9,     -999.0,9,     -999.0,9,     -999.0,9,     0.1465,1,     4.1593,1,     -999.0,9,     -999.0,9,     -999.0,9,     -999.0,9,     -999.0,9
33RR20220613,       P02E,     204,          1,         29,         29,2,20220713,       0554,    32.6428,  -117.3837,        250,     3.8,2,  14.1441,2,  33.5844,2,-999.0000,9,    237.5,2,  -999.0,9, -999.00,9, -999.00,9, -999.00,9, -999.00,9,-999.000,9,-999.000,9,-999.0000,9,  -999.0,9,  -999.0,9,-999.0000,9,  -999.00,9, -999.00,9,  -999.0,9, -999.00,9, -999.00,9,     -999.0,9, 20220713,      620,  32.6428,-117.3837,     -999.0,9,     -999.0,9,     -999.0,9,     -999.0,9,     -999.0,9,     0.1353,1,     4.1747,1,     -999.0,9,     -999.0,9,     -999.0,9,     -999.0,9,     -999.0,9
33RR20220613,       P02E,     204,          1,         30,         17,2,20220713,       0554,    32.6428,  -117.3837,        250,     3.8,2,  14.5357,2,  33.6059,2,-999.0000,9,    234.0,2,  -999.0,9, -999.00,9, -999.00,9, -999.00,9, -999.00,9,-999.000,9,-999.000,9,-999.0000,9,  -999.0,9,  -999.0,9,-999.0000,9,  -999.00,9, -999.00,9,  -999.0,9, -999.00,9, -999.00,9,     -999.0,9, 20220713,      620,  32.6428,-117.3837,     -999.0,9,     -999.0,9,     -999.0,9,     -999.0,9,     -999.0,9,     0.1317,1,     4.1729,1,     -999.0,9,     -999.0,9,     -999.0,9,     -999.0,9,     -999.0,9
33RR20220613,       P02E,     204,          1,         35,         35,2,20220713,       0554,    32.6428,  -117.3837,        250,     3.8,2,  13.1893,2,  33.5501,2,-999.0000,9,    232.2,2,  -999.0,9, -999.00,9, -999.00,9, -999.00,9, -999.00,9,-999.000,9,-999.000,9,-999.0000,9,  -999.0,9,  -999.0,9,-999.0000,9,  -999.00,9, -999.00,9,  -999.0,9, -999.00,9, -999.00,9,     -999.0,9, 20220713,      621,  32.6428,-117.3837,     -999.0,9,     -999.0,9,     -999.0,9,     -999.0,9,     -999.0,9,     0.1678,1,     4.1238,1,     -999.0,9,     -999.0,9,     -999.0,9,     -999.0,9,     -999.0,9
33RR20220613,       P02E,     204,          1,         31,         31,2,20220713,       0554,    32.6428,  -117.3837,        250,     3.8,2,  14.4071,2,  33.5737,2,-999.0000,9,    237.3,2,  -999.0,9, -999.00,9, -999.00,9, -999.00,9, -999.00,9,-999.000,9,-999.000,9,-999.0000,9,  -999.0,9,  -999.0,9,-999.0000,9,  -999.00,9, -999.00,9,  -999.0,9, -999.00,9, -999.00,9,     -999.0,9, 20220713,      620,  32.6428,-117.3837,    15.1546,3,     -999.0,9,     -999.0,9,     -999.0,9,     -999.0,9,     0.1292,1,     4.1746,1,     -999.0,9,     -999.0,9,     -999.0,9,     -999.0,9,     -999.0,9
33RR20220613,       P02E,     204,          1,         32,         32,2,20220713,       0554,    32.6428,  -117.3837,        250,     3.9,2,  15.6657,2,  33.5450,2,-999.0000,9,    237.3,2,  -999.0,9, -999.00,9, -999.00,9, -999.00,9, -999.00,9,-999.000,9,-999.000,9,-999.0000,9,  -999.0,9,  -999.0,9,-999.0000,9,  -999.00,9, -999.00,9,  -999.0,9, -999.00,9, -999.00,9,     -999.0,9, 20220713,      621,  32.6428,-117.3837,     -999.0,9,     -999.0,9,     -999.0,9,     -999.0,9,     -999.0,9,     0.1347,1,     4.1308,1,     -999.0,9,     -999.0,9,     -999.0,9,     -999.0,9,     -999.0,9
33RR20220613,       P02E,     204,          1,         28,         28,2,20220713,       0554,    32.6428,  -117.3837,        250,     3.9,2,  14.2392,2,  33.5592,2,-999.0000,9,    237.1,2,  -999.0,9, -999.00,9, -999.00,9, -999.00,9, -999.00,9,-999.000,9,-999.000,9,-999.0000,9,  -999.0,9,  -999.0,9,-999.0000,9,  -999.00,9, -999.00,9,  -999.0,9, -999.00,9, -999.00,9,     -999.0,9, 20220713,      620,  32.6428,-117.3837,     -999.0,9,     -999.0,9,     -999.0,9,     -999.0,9,     -999.0,9,     0.1378,1,     4.1742,1,     -999.0,9,     -999.0,9,     -999.0,9,     -999.0,9,     -999.0,9
33RR20220613,       P02E,     204,          1,         27,         27,2,20220713,       0554,    32.6428,  -117.3837,        250,     3.9,2,  14.2076,2,  33.5466,2,-999.0000,9,    238.1,2,  -999.0,9, -999.00,9, -999.00,9, -999.00,9, -999.00,9,-999.000,9,-999.000,9,-999.0000,9,  -999.0,9,  -999.0,9,-999.0000,9,  -999.00,9, -999.00,9,  -999.0,9, -999.00,9, -999.00,9,     -999.0,9, 20220713,      620,  32.6428,-117.3837,     -999.0,9,     -999.0,9,     -999.0,9,     -999.0,9,     -999.0,9,     0.1319,1,     4.1832,1,     -999.0,9,     -999.0,9,     -999.0,9,     -999.0,9,     -999.0,9
33RR20220613,       P02E,     204,          1,         20,         20,2,20220713,       0554,    32.6428,  -117.3837,        250,     3.9,2,  15.5440,2,  33.5580,2,-999.0000,9,    254.6,2,  -999.0,9, -999.00,9, -999.00,9, -999.00,9, -999.00,9,-999.000,9,-999.000,9,-999.0000,9,  -999.0,9,  -999.0,9,-999.0000,9,  -999.00,9, -999.00,9,  -999.0,9, -999.00,9, -999.00,9,     -999.0,9, 20220713,      620,  32.6428,-117.3837,    14.7720,3,     -999.0,9,     -999.0,9,     -999.0,9,     -999.0,9,     0.1306,1,     4.1315,1,     -999.0,9,     -999.0,9,     -999.0,9,     -999.0,9,     -999.0,9
33RR20220613,       P02E,     204,          1,         23,         23,2,20220713,       0554,    32.6428,  -117.3837,        250,     3.9,2,  14.9180,2,  33.5942,2,-999.0000,9,    260.1,2,  -999.0,9, -999.00,9, -999.00,9, -999.00,9, -999.00,9,-999.000,9,-999.000,9,-999.0000,9,  -999.0,9,  -999.0,9,-999.0000,9,  -999.00,9, -999.00,9,  -999.0,9, -999.00,9, -999.00,9,     -999.0,9, 20220713,      620,  32.6428,-117.3837,     -999.0,9,     -999.0,9,     -999.0,9,     -999.0,9,     -999.0,9,     0.1240,1,     4.1665,1,     -999.0,9,     -999.0,9,     -999.0,9,     -999.0,9,     -999.0,9
33RR20220613,       P02E,     204,          1,         13,         13,2,20220713,       0554,    32.6428,  -117.3837,        250,     3.9,2,  15.5334,2,  33.5716,2,-999.0000,9,    245.7,2,  -999.0,9, -999.00,9, -999.00,9, -999.00,9, -999.00,9,-999.000,9,-999.000,9,-999.0000,9,  -999.0,9,  -999.0,9,-999.0000,9,  -999.00,9, -999.00,9,  -999.0,9, -999.00,9, -999.00,9,     -999.0,9, 20220713,      620,  32.6428,-117.3837,     -999.0,9,     -999.0,9,     -999.0,9,     -999.0,9,     -999.0,9,     0.1227,1,     4.1126,1,     -999.0,9,     -999.0,9,     -999.0,9,     -999.0,9,     -999.0,9
33RR20220613,       P02E,     204,          1,         22,         22,2,20220713,       0554,    32.6428,  -117.3837,        250,     3.9,2,  15.4707,2,  33.5569,2,-999.0000,9,    255.9,2,  -999.0,9, -999.00,9, -999.00,9, -999.00,9, -999.00,9,-999.000,9,-999.000,9,-999.0000,9,  -999.0,9,  -999.0,9,-999.0000,9,  -999.00,9, -999.00,9,  -999.0,9, -999.00,9, -999.00,9,     -999.0,9, 20220713,      620,  32.6428,-117.3837,     -999.0,9,     -999.0,9,     -999.0,9,     -999.0,9,     -999.0,9,     0.1222,1,     4.1734,1,     -999.0,9,     -999.0,9,     -999.0,9,     -999.0,9,     -999.0,9
33RR20220613,       P02E,     204,          1,         21,         21,2,20220713,       0554,    32.6428,  -117.3837,        250,     3.9,2,  15.5425,2,  33.5595,2,-999.0000,9,    256.3,2,  -999.0,9, -999.00,9, -999.00,9, -999.00,9, -999.00,9,-999.000,9,-999.000,9,-999.0000,9,  -999.0,9,  -999.0,9,-999.0000,9,  -999.00,9, -999.00,9,  -999.0,9, -999.00,9, -999.00,9,     -999.0,9, 20220713,      620,  32.6428,-117.3837,     -999.0,9,     -999.0,9,     -999.0,9,     -999.0,9,     -999.0,9,     0.1355,1,     4.1457,1,     -999.0,9,     -999.0,9,     -999.0,9,     -999.0,9,     -999.0,9
33RR20220613,       P02E,     204,          1,         34,         34,2,20220713,       0554,    32.6428,  -117.3837,        250,     4.0,2,  15.2050,2,  33.5143,2,-999.0000,9,    199.4,2,  -999.0,9, -999.00,9, -999.00,9, -999.00,9, -999.00,9,-999.000,9,-999.000,9,-999.0000,9,  -999.0,9,  -999.0,9,-999.0000,9,  -999.00,9, -999.00,9,  -999.0,9, -999.00,9, -999.00,9,     -999.0,9, 20220713,      621,  32.6428,-117.3837,     -999.0,9,     -999.0,9,     -999.0,9,     -999.0,9,     -999.0,9,     0.1633,1,     4.1139,1,     -999.0,9,     -999.0,9,     -999.0,9,     -999.0,9,     -999.0,9
33RR20220613,       P02E,     204,          1,         25,         25,2,20220713,       0554,    32.6428,  -117.3837,        250,     4.0,2,  14.3635,2,  33.6301,2,-999.0000,9,    240.2,2,  -999.0,9, -999.00,9, -999.00,9, -999.00,9, -999.00,9,-999.000,9,-999.000,9,-999.0000,9,  -999.0,9,  -999.0,9,-999.0000,9,  -999.00,9, -999.00,9,  -999.0,9, -999.00,9, -999.00,9,     -999.0,9, 20220713,      620,  32.6428,-117.3837,     -999.0,9,     -999.0,9,     -999.0,9,     -999.0,9,     -999.0,9,     0.1184,1,     4.1846,1,     -999.0,9,     -999.0,9,     -999.0,9,     -999.0,9,     -999.0,9
33RR20220613,       P02E,     204,          1,         24,         24,2,20220713,       0554,    32.6428,  -117.3837,        250,     4.0,2,  14.5398,2,  33.5464,2,-999.0000,9,    251.1,2,  -999.0,9, -999.00,9, -999.00,9, -999.00,9, -999.00,9,-999.000,9,-999.000,9,-999.0000,9,  -999.0,9,  -999.0,9,-999.0000,9,  -999.00,9, -999.00,9,  -999.0,9, -999.00,9, -999.00,9,     -999.0,9, 20220713,      620,  32.6428,-117.3837,     -999.0,9,     -999.0,9,     -999.0,9,     -999.0,9,     -999.0,9,     0.1233,1,     4.1777,1,     -999.0,9,     -999.0,9,     -999.0,9,     -999.0,9,     -999.0,9
33RR20220613,       P02E,     204,          1,         26,         26,2,20220713,       0554,    32.6428,  -117.3837,        250,     4.0,2,  14.4465,2,  33.5201,2,-999.0000,9,    237.4,2,  -999.0,9, -999.00,9, -999.00,9, -999.00,9, -999.00,9,-999.000,9,-999.000,9,-999.0000,9,  -999.0,9,  -999.0,9,-999.0000,9,  -999.00,9, -999.00,9,  -999.0,9, -999.00,9, -999.00,9,     -999.0,9, 20220713,      620,  32.6428,-117.3837,     -999.0,9,     -999.0,9,     -999.0,9,     -999.0,9,     -999.0,9,     0.1263,1,     4.1793,1,     -999.0,9,     -999.0,9,     -999.0,9,     -999.0,9,     -999.0,9
33RR20220613,       P02E,     204,          1,         18,         18,2,20220713,       0554,    32.6428,  -117.3837,        250,     4.0,2,  15.5227,2,  33.5644,2,-999.0000,9,    247.4,2,  -999.0,9, -999.00,9, -999.00,9, -999.00,9, -999.00,9,-999.000,9,-999.000,9,-999.0000,9,  -999.0,9,  -999.0,9,-999.0000,9,  -999.00,9, -999.00,9,  -999.0,9, -999.00,9, -999.00,9,     -999.0,9, 20220713,      620,  32.6428,-117.3837,     -999.0,9,     -999.0,9,     -999.0,9,     -999.0,9,     -999.0,9,     0.1118,1,     4.1141,1,     -999.0,9,     -999.0,9,     -999.0,9,     -999.0,9,     -999.0,9
33RR20220613,       P02E,     204,          1,         16,         16,2,20220713,       0554,    32.6428,  -117.3837,        250,     4.0,2,  15.7292,2,  33.5632,2,-999.0000,9,    243.5,2,  -999.0,9, -999.00,9, -999.00,9, -999.00,9, -999.00,9,-999.000,9,-999.000,9,-999.0000,9,  -999.0,9,  -999.0,9,-999.0000,9,  -999.00,9, -999.00,9,  -999.0,9, -999.00,9, -999.00,9,     -999.0,9, 20220713,      620,  32.6428,-117.3837,     -999.0,9,     -999.0,9,     -999.0,9,     -999.0,9,     -999.0,9,     0.1124,1,     4.1117,1,     -999.0,9,     -999.0,9,     -999.0,9,     -999.0,9,     -999.0,9
33RR20220613,       P02E,     204,          1,         14,         42,2,20220713,       0554,    32.6428,  -117.3837,        250,     4.0,2,  15.7535,2,  33.5623,2,-999.0000,9,    244.8,2,  -999.0,9, -999.00,9, -999.00,9, -999.00,9, -999.00,9,-999.000,9,-999.000,9,-999.0000,9,  -999.0,9,  -999.0,9,-999.0000,9,  -999.00,9, -999.00,9,  -999.0,9, -999.00,9, -999.00,9,     -999.0,9, 20220713,      620,  32.6428,-117.3837,     -999.0,9,     -999.0,9,     -999.0,9,     -999.0,9,     -999.0,9,     0.1084,1,     4.1096,1,     -999.0,9,     -999.0,9,     -999.0,9,     -999.0,9,     -999.0,9
33RR20220613,       P02E,     204,          1,         17,         37,2,20220713,       0554,    32.6428,  -117.3837,        250,     4.0,2,  15.6863,2,  33.5595,2,-999.0000,9,    243.4,2,  -999.0,9, -999.00,9, -999.00,9, -999.00,9, -999.00,9,-999.000,9,-999.000,9,-999.0000,9,  -999.0,9,  -999.0,9,-999.0000,9,  -999.00,9, -999.00,9,  -999.0,9, -999.00,9, -999.00,9,     -999.0,9, 20220713,      620,  32.6428,-117.3837,     -999.0,9,     -999.0,9,     -999.0,9,     -999.0,9,     -999.0,9,     0.1132,1,     4.1145,1,     -999.0,9,     -999.0,9,     -999.0,9,     -999.0,9,     -999.0,9
33RR20220613,       P02E,     204,          1,         19,         39,2,20220713,       0554,    32.6428,  -117.3837,        250,     4.1,2,  15.5010,2,  33.5712,2,-999.0000,9,    252.1,2,  -999.0,9, -999.00,9, -999.00,9, -999.00,9, -999.00,9,-999.000,9,-999.000,9,-999.0000,9,  -999.0,9,  -999.0,9,-999.0000,9,  -999.00,9, -999.00,9,  -999.0,9, -999.00,9, -999.00,9,     -999.0,9, 20220713,      620,  32.6428,-117.3837,     -999.0,9,     -999.0,9,     -999.0,9,     -999.0,9,     -999.0,9,     0.1208,1,     4.1327,1,     -999.0,9,     -999.0,9,     -999.0,9,     -999.0,9,     -999.0,9
33RR20220613,       P02E,     204,          1,         15,         15,2,20220713,       0554,    32.6428,  -117.3837,        250,     4.1,2,  15.7714,2,  33.5284,2,-999.0000,9,    245.5,2,  -999.0,9, -999.00,9, -999.00,9, -999.00,9, -999.00,9,-999.000,9,-999.000,9,-999.0000,9,  -999.0,9,  -999.0,9,-999.0000,9,  -999.00,9, -999.00,9,  -999.0,9, -999.00,9, -999.00,9,     -999.0,9, 20220713,      620,  32.6428,-117.3837,     -999.0,9,     -999.0,9,     -999.0,9,     -999.0,9,     -999.0,9,     0.0945,1,     4.1089,1,     -999.0,9,     -999.0,9,     -999.0,9,     -999.0,9,     -999.0,9
33RR20220613,       P02E,     204,          1,         12,         12,2,20220713,       0554,    32.6428,  -117.3837,        250,     4.1,2,  15.0887,2,  33.5646,2,  33.5612,2,    243.7,2,   243.6,2,    7.23,2,    0.57,2,    0.07,2,    0.51,2,   2.676,6,   1.591,6,   2.2856,6,  2062.4,2,  2246.8,2,   7.8374,2,    24.99,2, -999.00,9,  -999.0,9, -999.00,1, -999.00,1,       17.2,6, 20220713,      620,  32.6428,-117.3837,    15.5972,3,     -999.0,9,     -999.0,9,     -999.0,9,     -999.0,9,     0.1081,1,     4.1215,1,     -999.0,9,     -999.0,9,     -999.0,9,     -999.0,9,     -999.0,9
33RR20220613,       P02E,     204,          1,         33,         33,2,20220713,       0554,    32.6428,  -117.3837,        250,     4.1,2,  14.7662,2,  33.6290,2,-999.0000,9,    214.9,2,  -999.0,9, -999.00,9, -999.00,9, -999.00,9, -999.00,9,-999.000,9,-999.000,9,-999.0000,9,  -999.0,9,  -999.0,9,-999.0000,9,  -999.00,9, -999.00,9,  -999.0,9, -999.00,9, -999.00,9,     -999.0,9, 20220713,      621,  32.6428,-117.3837,    14.1257,3,     -999.0,9,     -999.0,9,     -999.0,9,     -999.0,9,     0.1546,1,     4.1238,1,     -999.0,9,     -999.0,9,     -999.0,9,     -999.0,9,     -999.0,9
33RR20220613,       P02E,     204,          1,         11,         11,2,20220713,       0554,    32.6428,  -117.3837,        250,    25.8,2,  11.3280,2,  33.5604,2,  33.5675,2,    161.5,2,   162.1,2,   13.69,2,   15.04,2,    0.16,2,    1.39,2,   2.957,2,   1.734,2,   2.2247,2,  2146.0,6,  2234.6,2,   7.5936,2,    24.99,2, -999.00,9,  -999.0,9, -999.00,1, -999.00,1,       20.6,2, 20220713,      616,  32.6428,-117.3837,    11.3276,2,     -999.0,9,     -999.0,9,     -999.0,9,     -999.0,9,     0.0348,1,     4.6100,1,     -999.0,9,     -999.0,9,     -999.0,9,     -999.0,9,     -999.0,9
33RR20220613,       P02E,     204,          1,         10,         10,2,20220713,       0554,    32.6428,  -117.3837,        250,    51.2,2,  10.6684,2,  33.6661,2,  33.6829,2,    141.8,2,   141.2,2,   17.89,2,   20.07,2,    0.04,2,    1.61,2,   2.845,2,   1.729,2,   1.9874,2,  2163.9,2,  2235.4,2,   7.5478,2,    25.00,2, -999.00,9,  -999.0,9, -999.00,1, -999.00,1,       23.9,2, 20220713,      614,  32.6428,-117.3837,    10.6670,2,     -999.0,9,     -999.0,9,     -999.0,9,     -999.0,9,     0.0171,1,     4.6374,1,     -999.0,9,     -999.0,9,     -999.0,9,     -999.0,9,     -999.0,9
33RR20220613,       P02E,     204,          1,          9,          9,2,20220713,       0554,    32.6428,  -117.3837,        250,    76.5,2,  10.0048,2,  33.7963,2,  33.8010,2,    142.9,2,   142.6,2,   20.63,2,   20.96,2,    0.02,2,    1.66,2,   2.880,2,   1.735,2,   1.9297,2,  2169.4,2,  2241.8,2,   7.5575,2,    25.00,2, -999.00,9,  -999.0,9, -999.00,1, -999.00,1,       25.6,2, 20220713,      612,  32.6428,-117.3837,    10.0083,2,     -999.0,9,     -999.0,9,     -999.0,9,     -999.0,9,     0.0134,1,     4.6544,1,     -999.0,9,     -999.0,9,     -999.0,9,     -999.0,9,     -999.0,9
33RR20220613,       P02E,     204,          1,          8,          8,2,20220713,       0554,    32.6428,  -117.3837,        250,   101.7,2,   9.6952,2,  33.9913,2,  33.9947,2,    119.8,2,   120.5,2,   26.29,2,   23.11,2,    0.03,2,    1.86,2,   2.722,2,   1.608,2,   1.5787,2,  2191.8,2,  2257.2,2,   7.5247,2,    25.00,2, -999.00,9,  -999.0,9, -999.00,1, -999.00,1,       30.3,2, 20220713,      609,  32.6428,-117.3837,     9.6857,2,     -999.0,9,     -999.0,9,     -999.0,9,     -999.0,9,     0.0134,1,     4.6285,1,     -999.0,9,     -999.0,9,     -999.0,9,     -999.0,9,     -999.0,9
33RR20220613,       P02E,     204,          1,          7,          7,2,20220713,       0554,    32.6428,  -117.3837,        250,   125.6,2,   9.7097,2,  34.0992,2,  34.1070,2,     98.9,2,    98.2,2,   29.61,2,   24.61,2,    0.00,2,    2.03,2,   2.420,2,   1.459,2,   1.2504,2,  2211.6,2,  2265.7,6,   7.4918,2,    24.99,2, -999.00,9,  -999.0,9, -999.00,1, -999.00,1,       34.2,2, 20220713,      607,  32.6428,-117.3837,     9.7063,2,     -999.0,9,     -999.0,9,     -999.0,9,     -999.0,9,     0.0134,1,     4.6327,1,     -999.0,9,     -999.0,9,     -999.0,9,     -999.0,9,     -999.0,9
33RR20220613,       P02E,     204,          1,          6,          6,2,20220713,       0554,    32.6428,  -117.3837,        250,   150.9,2,   9.6297,2,  34.1289,2,  34.1323,2,     89.5,2,    90.0,2,   31.08,2,   25.33,2,    0.02,2,    2.11,2,   2.364,2,   1.395,2,   1.1693,2,  2220.6,2,  2267.2,2,   7.4754,2,    24.99,2, -999.00,9,  -999.0,9, -999.00,1, -999.00,1,       36.4,2, 20220713,      604,  32.6428,-117.3837,     9.6292,2,     -999.0,9,     -999.0,9,     -999.0,9,     -999.0,9,     0.0134,1,     4.6355,1,     -999.0,9,     -999.0,9,     -999.0,9,     -999.0,9,     -999.0,9
33RR20220613,       P02E,     204,          1,          5,          5,2,20220713,       0554,    32.6428,  -117.3837,        250,   176.6,2,   9.4978,2,  34.1722,2,  34.1754,2,     73.7,2,    73.8,2,   33.91,2,   26.63,2,    0.08,2,    2.24,2,   2.231,2,   1.327,2,   1.0742,2,  2233.5,2,  2271.3,2,   7.4422,2,    24.99,2, -999.00,9,  -999.0,9, -999.00,1, -999.00,1,       38.3,2, 20220713,      602,  32.6428,-117.3837,     9.4957,2,     -999.0,9,     -999.0,9,     -999.0,9,     -999.0,9,     0.0134,1,     4.6263,1,     -999.0,9,     -999.0,9,     -999.0,9,     -999.0,9,     -999.0,9