BOTTLE,20230830CCHSIOCBG
EXPOCODE,SECT_ID,STNNBR,CASTNO,SAMPNO,BTLNBR,BTLNBR_FLAG_W,DATE,TIME,LATITUDE,LONGITUDE,DEPTH,CTDPRS,CTDPRS_FLAG_W,CTDTMP,CTDTMP_FLAG_W,CTDSAL,CTDSAL_FLAG_W,SALNTY,SALNTY_FLAG_W,CTDOXY,CTDOXY_FLAG_W,OXYGEN,OXYGEN_FLAG_W,SILCAT,SILCAT_FLAG_W,NITRAT,NITRAT_FLAG_W,NITRIT,NITRIT_FLAG_W,PHSPHT,PHSPHT_FLAG_W,CFC-11,CFC-11_FLAG_W,CFC-12,CFC-12_FLAG_W,SF6,SF6_FLAG_W,TCARBN,TCARBN_FLAG_W,ALKALI,ALKALI_FLAG_W,PH_TOT,PH_TOT_FLAG_W,PH_TMP,PH_TMP_FLAG_W,DELC13,DELC13_FLAG_W,DELC14,DELC14_FLAG_W,DOC,DOC_FLAG_W,TDN,TDN_FLAG_W,N2O,N2O_FLAG_W,BTL_DATE,BTL_TIME,BTL_LAT,BTL_LON,REFTMP,REFTMP_FLAG_W,POC,POC_FLAG_W,PON,PON_FLAG_W,POP,POP_FLAG_W,PCOD,PCOD_FLAG_W,CTDFLUOR,CTDFLUOR_FLAG_W,CTDXMISS,CTDXMISS_FLAG_W,HPLC,HPLC_FLAG_W,DNA,DNA_FLAG_W,FCM,FCM_FLAG_W,IMAGES,IMAGES_FLAG_W,VIRAL_ABUNDANCE,VIRAL_ABUNDANCE_FLAG_W
,,,,,,,,,,,METERS,DBAR,,ITS-90,,PSS-78,,PSS-78,,UMOL/KG,,UMOL/KG,,UMOL/KG,,UMOL/KG,,UMOL/KG,,UMOL/KG,,PMOL/KG,,PMOL/KG,,FMOL/KG,,UMOL/KG,,UMOL/KG,,,,DEG C,,/MILLE,,/MILLE,,UMOL/KG,,UMOL/KG,,NMOL/KG,,,,,,ITS-90,,UG/L,,UG/L,,UG/L,,UG/L,,VOLTS,,VOLTS,,,,,,,,,,,
33RR20220613,       P02E,     147,          1,          4,          4,2,20220626,       0904,    30.0012,  -144.4682,       5206,  4605.2,2,   1.5083,2,  34.6872,2,  34.6863,2,    151.1,2,   151.2,2,  154.84,2,   35.77,2,    0.00,2,    2.80,4,-999.000,9,-999.000,9,-999.0000,9,  -999.0,9,  -999.0,9,-999.0000,9,  -999.00,9, -999.00,9,  -999.0,9, -999.00,9, -999.00,9,     -999.0,9, 20220626,      919,  30.0012,-144.4682,     1.5084,2,     -999.0,9,     -999.0,9,     -999.0,9,     -999.0,9,     0.0122,1,     4.7032,1,     -999.0,9,     -999.0,9,     -999.0,9,     -999.0,9,     -999.0,9
33RR20220613,       P02E,     147,          1,          3,          3,2,20220626,       0904,    30.0012,  -144.4682,       5206,  4938.6,2,   1.5369,2,  34.6883,2,  34.6865,2,    154.0,2,   154.0,2,  151.71,2,   35.50,2,    0.00,2,    2.74,4,   0.008,2,   0.008,2,   0.0000,2,  2328.4,2,  2424.7,2,   7.5822,2,    25.02,2, -999.00,9,  -999.0,9, -999.00,9, -999.00,9,       21.0,2, 20220626,      913,  30.0012,-144.4682,     1.5369,2,     -999.0,9,     -999.0,9,     -999.0,9,     -999.0,9,     0.0122,1,     4.7029,1,     -999.0,9,     -999.0,9,     -999.0,9,     -999.0,9,     -999.0,9
33RR20220613,       P02E,     147,          1,          2,          2,2,20220626,       0904,    30.0012,  -144.4682,       5206,  5170.8,2,   1.5607,2,  34.6887,2,  34.6875,2,    155.2,2,   155.6,2,  150.93,2,   35.46,2,    0.00,2,    2.72,4,-999.000,9,-999.000,9,-999.0000,9,  2326.3,2,  2421.4,2,   7.5819,2,    25.02,2, -999.00,9,  -999.0,9, -999.00,9, -999.00,9,     -999.0,9, 20220626,      908,  30.0012,-144.4682,     1.5608,2,     -999.0,9,     -999.0,9,     -999.0,9,     -999.0,9,     0.0122,1,     4.7023,1,     -999.0,9,     -999.0,9,     -999.0,9,     -999.0,9,     -999.0,9
33RR20220613,       P02E,     147,          1,          1,          1,2,20220626,       0904,    30.0012,  -144.4682,       5206,  5296.7,2,   1.5763,2,  34.6888,2,  34.6875,2,    155.4,2,   155.4,2,  150.73,2,   35.37,2,    0.00,2,    2.79,4,   0.009,2,   0.007,2,   0.0000,2,  2326.5,6,  2421.5,2,   7.5829,2,    25.06,2, -999.00,9,  -999.0,9, -999.00,9, -999.00,9,       21.3,2, 20220626,      904,  30.0012,-144.4682,     1.5762,2,     -999.0,9,     -999.0,9,     -999.0,9,     -999.0,9,     0.0122,1,     4.7017,1,     -999.0,9,     -999.0,9,     -999.0,9,     -999.0,9,     -999.0,9