BOTTLE,20230830CCHSIOCBG
EXPOCODE,SECT_ID,STNNBR,CASTNO,SAMPNO,BTLNBR,BTLNBR_FLAG_W,DATE,TIME,LATITUDE,LONGITUDE,DEPTH,CTDPRS,CTDPRS_FLAG_W,CTDTMP,CTDTMP_FLAG_W,CTDSAL,CTDSAL_FLAG_W,SALNTY,SALNTY_FLAG_W,CTDOXY,CTDOXY_FLAG_W,OXYGEN,OXYGEN_FLAG_W,SILCAT,SILCAT_FLAG_W,NITRAT,NITRAT_FLAG_W,NITRIT,NITRIT_FLAG_W,PHSPHT,PHSPHT_FLAG_W,CFC-11,CFC-11_FLAG_W,CFC-12,CFC-12_FLAG_W,SF6,SF6_FLAG_W,TCARBN,TCARBN_FLAG_W,ALKALI,ALKALI_FLAG_W,PH_TOT,PH_TOT_FLAG_W,PH_TMP,PH_TMP_FLAG_W,DELC13,DELC13_FLAG_W,DELC14,DELC14_FLAG_W,DOC,DOC_FLAG_W,TDN,TDN_FLAG_W,N2O,N2O_FLAG_W,BTL_DATE,BTL_TIME,BTL_LAT,BTL_LON,REFTMP,REFTMP_FLAG_W,POC,POC_FLAG_W,PON,PON_FLAG_W,POP,POP_FLAG_W,PCOD,PCOD_FLAG_W,CTDFLUOR,CTDFLUOR_FLAG_W,CTDXMISS,CTDXMISS_FLAG_W,HPLC,HPLC_FLAG_W,DNA,DNA_FLAG_W,FCM,FCM_FLAG_W,IMAGES,IMAGES_FLAG_W,VIRAL_ABUNDANCE,VIRAL_ABUNDANCE_FLAG_W
,,,,,,,,,,,METERS,DBAR,,ITS-90,,PSS-78,,PSS-78,,UMOL/KG,,UMOL/KG,,UMOL/KG,,UMOL/KG,,UMOL/KG,,UMOL/KG,,PMOL/KG,,PMOL/KG,,FMOL/KG,,UMOL/KG,,UMOL/KG,,,,DEG C,,/MILLE,,/MILLE,,UMOL/KG,,UMOL/KG,,NMOL/KG,,,,,,ITS-90,,UG/L,,UG/L,,UG/L,,UG/L,,VOLTS,,VOLTS,,,,,,,,,,,
33RR20220613,       P02E,     157,          1,         36,         36,2,20220629,       0759,    30.0007,  -138.6952,       4782,     4.5,2,  22.0019,2,  34.3174,2,  34.3229,2,    223.7,2,   224.0,2,    1.17,2,    0.01,2,    0.00,2,    0.08,2,   1.823,2,   1.146,2,   1.9111,2,  2030.5,2,  2276.9,2,   7.9562,2,    25.02,2, -999.00,9,  -999.0,9, -999.00,9, -999.00,9,        7.4,2, 20220629,     1001,  30.0007,-138.6952,    21.9981,2,     -999.0,9,     -999.0,9,     -999.0,9,     -999.0,9,     0.0142,1,     4.6226,1,     -999.0,9,     -999.0,9,     -999.0,9,     -999.0,9,     -999.0,9
33RR20220613,       P02E,     157,          1,         35,         35,2,20220629,       0759,    30.0007,  -138.6952,       4782,    20.3,2,  21.6203,2,  34.3566,2,  34.3545,2,    225.8,2,   226.3,2,    1.47,2,    0.01,2,    0.00,2,    0.07,2,   1.868,2,   1.168,2,   1.9265,2,  2029.3,6,  2278.7,2,   7.9564,2,    25.04,2, -999.00,9,  -999.0,9, -999.00,9, -999.00,9,        7.4,2, 20220629,      959,  30.0007,-138.6952,    21.6078,2,     -999.0,9,     -999.0,9,     -999.0,9,     -999.0,9,     0.0141,1,     4.6268,1,     -999.0,9,     -999.0,9,     -999.0,9,     -999.0,9,     -999.0,9
33RR20220613,       P02E,     157,          1,         34,         34,2,20220629,       0759,    30.0007,  -138.6952,       4782,    40.3,2,  20.4980,2,  34.6213,3,  34.5755,2,    236.7,2,   236.3,2,    1.17,2,    0.01,2,    0.00,2,    0.03,2,   1.950,2,   1.234,2,   1.9526,2,  2031.8,2,  2287.6,2,   7.9644,2,    25.04,2, -999.00,9,  -999.0,9, -999.00,9, -999.00,9,        7.6,2, 20220629,      957,  30.0007,-138.6952,    20.5246,2,     -999.0,9,     -999.0,9,     -999.0,9,     -999.0,9,     0.0147,1,     4.6365,1,     -999.0,9,     -999.0,9,     -999.0,9,     -999.0,9,     -999.0,9
33RR20220613,       P02E,     157,          1,         33,         33,2,20220629,       0759,    30.0007,  -138.6952,       4782,    66.0,2,  20.3482,2,  34.9004,3,  34.8418,2,    238.0,3,   234.8,2,    1.07,2,    0.01,2,    0.00,2,    0.02,2,-999.000,9,-999.000,9,-999.0000,9,  2032.5,2,  2299.8,2,   7.9770,2,    25.03,2, -999.00,9,  -999.0,9, -999.00,9, -999.00,9,     -999.0,9, 20220629,      956,  30.0007,-138.6952,    20.3923,2,     -999.0,9,     -999.0,9,     -999.0,9,     -999.0,9,     0.0162,1,     4.6468,1,     -999.0,9,     -999.0,9,     -999.0,9,     -999.0,9,     -999.0,9
33RR20220613,       P02E,     157,          1,         32,         32,2,20220629,       0759,    30.0007,  -138.6952,       4782,    90.8,2,  19.7840,2,  34.7934,3,  34.7388,2,    236.1,2,   234.5,2,    1.07,2,    0.00,2,    0.00,2,    0.03,2,   2.000,2,   1.242,2,   2.0989,2,  2034.9,2,  2294.4,2,   7.9685,2,    25.04,2, -999.00,9,  -999.0,9, -999.00,9, -999.00,9,        7.9,2, 20220629,      954,  30.0007,-138.6952,    19.7794,2,     -999.0,9,     -999.0,9,     -999.0,9,     -999.0,9,     0.0185,1,     4.6526,1,     -999.0,9,     -999.0,9,     -999.0,9,     -999.0,9,     -999.0,9
33RR20220613,       P02E,     157,          1,         31,         31,2,20220629,       0759,    30.0007,  -138.6952,       4782,   136.7,2,  17.4994,2,  34.2618,2,  34.2521,2,    227.4,2,   228.5,2,    1.56,2,    0.25,2,    0.10,2,    0.13,2,   2.203,2,   1.352,2,   2.1755,2,  2035.1,2,  2264.1,2,   7.9170,2,    25.03,2, -999.00,9,  -999.0,9, -999.00,9, -999.00,9,        9.2,2, 20220629,      952,  30.0007,-138.6952,    17.5008,2,     -999.0,9,     -999.0,9,     -999.0,9,     -999.0,9,     0.0256,1,     4.6647,1,     -999.0,9,     -999.0,9,     -999.0,9,     -999.0,9,     -999.0,9
33RR20220613,       P02E,     157,          1,         30,         17,2,20220629,       0759,    30.0007,  -138.6952,       4782,   185.7,2,  14.8860,2,  34.0538,2,  34.0486,2,    221.5,2,   221.8,2,    3.42,2,    2.82,2,    0.00,2,    0.33,2,   2.480,2,   1.517,2,   2.2561,2,  2051.6,2,  2248.3,6,   7.8574,2,    25.04,2, -999.00,9,  -999.0,9, -999.00,9, -999.00,9,       10.7,2, 20220629,      950,  30.0007,-138.6952,    14.8805,2,     -999.0,9,     -999.0,9,     -999.0,9,     -999.0,9,     0.0184,1,     4.6786,1,     -999.0,9,     -999.0,9,     -999.0,9,     -999.0,9,     -999.0,9
33RR20220613,       P02E,     157,          1,         29,         29,2,20220629,       0759,    30.0007,  -138.6952,       4782,   237.0,2,  11.0251,2,  33.8356,3,  33.8684,2,    213.7,2,   213.6,2,   10.65,2,   11.28,2,    0.00,2,    0.87,2,   2.910,2,   1.772,2,   2.3907,2,  2093.5,2,  2240.2,2,   7.7462,2,    25.02,2, -999.00,9,  -999.0,9, -999.00,9, -999.00,9,       15.9,2, 20220629,      948,  30.0007,-138.6952,    11.0744,2,     -999.0,9,     -999.0,9,     -999.0,9,     -999.0,9,     0.0122,1,     4.6872,1,     -999.0,9,     -999.0,9,     -999.0,9,     -999.0,9,     -999.0,9
33RR20220613,       P02E,     157,          1,         28,         28,2,20220629,       0759,    30.0007,  -138.6952,       4782,   287.2,2,  10.2737,2,  34.0026,2,  34.0164,2,    207.3,2,   207.0,2,   15.64,2,   14.78,2,    0.00,2,    1.06,2,   2.987,2,   1.805,2,   2.0631,2,  2113.6,2,  2253.5,2,   7.7186,2,    25.02,2, -999.00,9,  -999.0,9, -999.00,9, -999.00,9,       19.4,2, 20220629,      946,  30.0007,-138.6952,    10.2738,2,     -999.0,9,     -999.0,9,     -999.0,9,     -999.0,9,     0.0122,1,     4.6893,1,     -999.0,9,     -999.0,9,     -999.0,9,     -999.0,9,     -999.0,9
33RR20220613,       P02E,     157,          1,         27,         27,2,20220629,       0759,    30.0007,  -138.6952,       4782,   337.6,2,   9.2258,2,  34.0031,2,  34.0045,2,    196.2,2,   195.2,2,   22.19,2,   18.13,2,    0.00,2,    1.28,2,   3.026,2,   1.823,2,   1.9263,2,  2137.6,2,  2255.9,2,   7.6711,2,    25.01,2, -999.00,9,  -999.0,9, -999.00,9, -999.00,9,       21.5,2, 20220629,      944,  30.0007,-138.6952,     9.2274,2,     -999.0,9,     -999.0,9,     -999.0,9,     -999.0,9,     0.0122,1,     4.6911,1,     -999.0,9,     -999.0,9,     -999.0,9,     -999.0,9,     -999.0,9
33RR20220613,       P02E,     157,          1,         26,         26,2,20220629,       0759,    30.0007,  -138.6952,       4782,   387.9,2,   8.2953,2,  34.0040,2,  34.0051,2,    165.5,2,   167.0,2,   32.25,2,   23.04,2,    0.00,2,    1.60,2,   2.922,2,   1.734,2,   1.5558,2,  2168.7,2,  2265.2,2,   7.6024,2,    25.02,2, -999.00,9,  -999.0,9, -999.00,9, -999.00,9,       26.3,2, 20220629,      942,  30.0007,-138.6952,     8.3608,2,     -999.0,9,     -999.0,9,     -999.0,9,     -999.0,9,     0.0132,1,     4.6909,1,     -999.0,9,     -999.0,9,     -999.0,9,     -999.0,9,     -999.0,9
33RR20220613,       P02E,     157,          1,         25,         25,2,20220629,       0759,    30.0007,  -138.6952,       4782,   468.3,2,   6.7419,2,  33.9905,2,  33.9914,2,    110.3,2,   109.3,2,   51.70,2,   31.35,2,    0.00,2,    2.21,2,   2.385,6,   1.413,6,   0.8854,6,  -999.0,9,  -999.0,9,-999.0000,9,  -999.00,9, -999.00,9,  -999.0,9, -999.00,9, -999.00,9,       34.0,6, 20220629,      940,  30.0007,-138.6952,     6.7389,2,     -999.0,9,     -999.0,9,     -999.0,9,     -999.0,9,     0.0122,1,     4.6917,1,     -999.0,9,     -999.0,9,     -999.0,9,     -999.0,9,     -999.0,9
33RR20220613,       P02E,     157,          1,         24,         24,2,20220629,       0759,    30.0007,  -138.6952,       4782,   570.3,2,   5.4383,2,  34.0441,2,  34.0435,2,     59.8,3,    61.3,2,   73.98,2,   37.73,2,    0.00,2,    2.69,2,   1.546,2,   0.893,2,   0.5725,2,  -999.0,9,  -999.0,9,-999.0000,9,  -999.00,9, -999.00,9,  -999.0,9, -999.00,9, -999.00,9,       41.0,2, 20220629,      937,  30.0007,-138.6952,     5.4634,2,     -999.0,9,     -999.0,9,     -999.0,9,     -999.0,9,     0.0134,1,     4.6923,1,     -999.0,9,     -999.0,9,     -999.0,9,     -999.0,9,     -999.0,9
33RR20220613,       P02E,     157,          1,         23,         23,2,20220629,       0759,    30.0007,  -138.6952,       4782,   670.8,2,   4.7453,2,  34.1456,2,  34.1442,2,     27.8,3,    28.7,2,   93.13,2,   41.49,2,    0.00,2,    2.96,2,   0.730,2,   0.411,2,   0.3300,2,  2319.2,2,  2319.6,2,   7.3021,2,    25.02,2, -999.00,9,  -999.0,9, -999.00,9, -999.00,9,       48.5,2, 20220629,      935,  30.0007,-138.6952,     4.7467,2,     -999.0,9,     -999.0,9,     -999.0,9,     -999.0,9,     0.0133,1,     4.6925,1,     -999.0,9,     -999.0,9,     -999.0,9,     -999.0,9,     -999.0,9
33RR20220613,       P02E,     157,          1,         22,         22,2,20220629,       0759,    30.0007,  -138.6952,       4782,   771.6,2,   4.3384,2,  34.2361,2,  34.2364,2,     16.0,2,    15.9,2,  106.71,2,   42.84,2,    0.00,2,    3.09,2,   0.255,2,   0.151,2,   0.1319,2,  2341.3,2,  2332.2,2,   7.2930,2,    25.02,2, -999.00,9,  -999.0,9, -999.00,9, -999.00,9,       53.5,2, 20220629,      932,  30.0007,-138.6952,     4.3376,2,     -999.0,9,     -999.0,9,     -999.0,9,     -999.0,9,     0.0134,1,     4.6929,1,     -999.0,9,     -999.0,9,     -999.0,9,     -999.0,9,     -999.0,9
33RR20220613,       P02E,     157,          1,         21,         21,2,20220629,       0759,    30.0007,  -138.6952,       4782,   872.8,2,   3.9921,2,  34.3145,2,  34.3148,2,     12.1,3,    11.2,2,  116.67,2,   43.39,2,    0.00,2,    3.12,2,   0.067,2,   0.049,2,   0.1441,2,  2354.7,2,  2352.1,2,   7.2959,2,    25.02,2, -999.00,9,  -999.0,9, -999.00,9, -999.00,9,       56.4,2, 20220629,      929,  30.0007,-138.6952,     3.9929,2,     -999.0,9,     -999.0,9,     -999.0,9,     -999.0,9,     0.0134,1,     4.6935,1,     -999.0,9,     -999.0,9,     -999.0,9,     -999.0,9,     -999.0,9
33RR20220613,       P02E,     157,          1,         20,         20,2,20220629,       0759,    30.0007,  -138.6952,       4782,   973.8,2,   3.7481,2,  34.3875,2,  34.3900,2,     15.1,3,    14.8,2,  124.38,2,   43.57,2,    0.00,2,    3.15,2,   0.021,2,   0.021,2,   0.1270,2,  2362.5,2,  2363.7,2,   7.3131,2,    24.99,2, -999.00,9,  -999.0,9, -999.00,9, -999.00,9,       55.1,2, 20220629,      927,  30.0007,-138.6952,     3.7514,2,     -999.0,9,     -999.0,9,     -999.0,9,     -999.0,9,     0.0134,1,     4.6934,1,     -999.0,9,     -999.0,9,     -999.0,9,     -999.0,9,     -999.0,9
33RR20220613,       P02E,     157,          1,         19,         39,2,20220629,       0759,    30.0007,  -138.6952,       4782,  1075.0,2,   3.4871,2,  34.4453,2,  34.4469,2,     22.4,3,    21.6,2,  129.75,2,   43.31,2,    0.00,2,    3.12,2,   0.011,2,   0.009,2,   0.0000,2,  -999.0,9,  -999.0,9,-999.0000,9,  -999.00,9, -999.00,9,  -999.0,9, -999.00,9, -999.00,9,       51.6,2, 20220629,      924,  30.0007,-138.6952,     3.4760,2,     -999.0,9,     -999.0,9,     -999.0,9,     -999.0,9,     0.0134,1,     4.6944,1,     -999.0,9,     -999.0,9,     -999.0,9,     -999.0,9,     -999.0,9
33RR20220613,       P02E,     157,          1,         18,         18,2,20220629,       0759,    30.0007,  -138.6952,       4782,  1176.6,2,   3.2863,2,  34.4924,2,  34.4926,2,     34.6,2,    34.5,2,  133.36,2,   42.61,2,    0.00,2,    3.07,2,-999.000,9,-999.000,9,-999.0000,9,  -999.0,9,  -999.0,9,-999.0000,9,  -999.00,9, -999.00,9,  -999.0,9, -999.00,9, -999.00,9,     -999.0,9, 20220629,      921,  30.0007,-138.6952,     3.2857,2,     -999.0,9,     -999.0,9,     -999.0,9,     -999.0,9,     0.0134,1,     4.6946,1,     -999.0,9,     -999.0,9,     -999.0,9,     -999.0,9,     -999.0,9
33RR20220613,       P02E,     157,          1,         17,         37,2,20220629,       0759,    30.0007,  -138.6952,       4782,  1278.3,2,   3.1122,2,  34.5155,2,  34.5160,2,     41.3,2,    41.3,2,  136.87,2,   42.27,2,    0.00,2,    3.04,2,   0.008,2,   0.008,2,   0.0000,2,  2366.5,2,  2388.3,2,   7.3748,2,    25.03,2, -999.00,9,  -999.0,9, -999.00,9, -999.00,9,       43.7,2, 20220629,      918,  30.0007,-138.6952,     3.1109,2,     -999.0,9,     -999.0,9,     -999.0,9,     -999.0,9,     0.0134,1,     4.6957,1,     -999.0,9,     -999.0,9,     -999.0,9,     -999.0,9,     -999.0,9
33RR20220613,       P02E,     157,          1,         16,         16,2,20220629,       0759,    30.0007,  -138.6952,       4782,  1379.0,2,   2.9011,2,  34.5378,2,  34.5386,2,     48.4,2,    48.2,2,  142.15,2,   42.01,2,    0.00,2,    3.01,2,-999.000,9,-999.000,9,-999.0000,9,  -999.0,9,  -999.0,9,-999.0000,9,  -999.00,9, -999.00,9,  -999.0,9, -999.00,9, -999.00,9,     -999.0,9, 20220629,      916,  30.0007,-138.6952,     2.9020,2,     -999.0,9,     -999.0,9,     -999.0,9,     -999.0,9,     0.0134,1,     4.6958,1,     -999.0,9,     -999.0,9,     -999.0,9,     -999.0,9,     -999.0,9
33RR20220613,       P02E,     157,          1,         15,         15,2,20220629,       0759,    30.0007,  -138.6952,       4782,  1480.2,2,   2.7183,2,  34.5547,2,  34.5561,2,     54.2,2,    54.4,2,  146.25,2,   41.65,2,    0.00,2,    2.99,2,   0.004,2,   0.004,2,   0.0000,2,  2367.2,2,  2400.7,2,   7.4007,2,    25.02,2, -999.00,9,  -999.0,9, -999.00,9, -999.00,9,       38.5,2, 20220629,      913,  30.0007,-138.6952,     2.7184,2,     -999.0,9,     -999.0,9,     -999.0,9,     -999.0,9,     0.0133,1,     4.6959,1,     -999.0,9,     -999.0,9,     -999.0,9,     -999.0,9,     -999.0,9
33RR20220613,       P02E,     157,          1,         14,         41,2,20220629,       0759,    30.0007,  -138.6952,       4782,  1581.6,2,   2.5740,2,  34.5683,2,  34.5690,2,     59.2,2,    59.1,2,  149.86,2,   41.43,2,    0.00,2,    2.96,2,-999.000,9,-999.000,9,-999.0000,9,  -999.0,9,  -999.0,9,-999.0000,9,  -999.00,9, -999.00,9,  -999.0,9, -999.00,9, -999.00,9,     -999.0,9, 20220629,      910,  30.0007,-138.6952,     2.5757,2,     -999.0,9,     -999.0,9,     -999.0,9,     -999.0,9,     0.0134,1,     4.6970,1,     -999.0,9,     -999.0,9,     -999.0,9,     -999.0,9,     -999.0,9
33RR20220613,       P02E,     157,          1,         13,         13,2,20220629,       0759,    30.0007,  -138.6952,       4782,  1754.9,2,   2.3125,2,  34.5895,2,  34.5920,2,     67.1,2,    67.1,2,  157.38,2,   41.11,2,    0.00,2,    2.93,2,   0.006,2,   0.004,2,   0.0000,2,  2370.1,2,  2412.2,2,   7.4236,2,    25.01,2, -999.00,9,  -999.0,9, -999.00,9, -999.00,9,       34.8,2, 20220629,      906,  30.0007,-138.6952,     2.3121,2,     -999.0,9,     -999.0,9,     -999.0,9,     -999.0,9,     0.0134,1,     4.6973,1,     -999.0,9,     -999.0,9,     -999.0,9,     -999.0,9,     -999.0,9
33RR20220613,       P02E,     157,          1,         12,         12,2,20220629,       0759,    30.0007,  -138.6952,       4782,  1957.4,2,   2.0814,2,  34.6102,2,  34.6103,2,     77.0,2,    77.2,2,  163.53,2,   40.45,2,    0.00,2,    2.87,2,-999.000,9,-999.000,9,-999.0000,9,  -999.0,9,  -999.0,9,-999.0000,9,  -999.00,9, -999.00,9,  -999.0,9, -999.00,9, -999.00,9,     -999.0,9, 20220629,      902,  30.0007,-138.6952,     2.0811,2,     -999.0,9,     -999.0,9,     -999.0,9,     -999.0,9,     0.0134,1,     4.6975,1,     -999.0,9,     -999.0,9,     -999.0,9,     -999.0,9,     -999.0,9
33RR20220613,       P02E,     157,          1,         11,         11,2,20220629,       0759,    30.0007,  -138.6952,       4782,  2192.1,2,   1.8897,2,  34.6284,2,  34.6295,2,     88.5,2,    88.7,2,  167.24,2,   39.76,2,    0.00,2,    2.80,2,   0.004,2,   0.000,2,   0.0000,2,  2365.8,2,  2423.0,2,   7.4668,2,    25.01,2, -999.00,9,  -999.0,9, -999.00,9, -999.00,9,       29.3,2, 20220629,      857,  30.0007,-138.6952,     1.8893,2,     -999.0,9,     -999.0,9,     -999.0,9,     -999.0,9,     0.0127,1,     4.6987,1,     -999.0,9,     -999.0,9,     -999.0,9,     -999.0,9,     -999.0,9
33RR20220613,       P02E,     157,          1,         10,         10,2,20220629,       0759,    30.0007,  -138.6952,       4782,  2447.0,2,   1.7535,2,  34.6418,2,  34.6425,2,     99.3,2,    99.3,2,  169.78,2,   39.11,2,    0.00,2,    2.76,2,-999.000,9,-999.000,9,-999.0000,9,  -999.0,9,  -999.0,9,-999.0000,9,  -999.00,9, -999.00,9,  -999.0,9, -999.00,9, -999.00,9,     -999.0,9, 20220629,      852,  30.0007,-138.6952,     1.7533,2,     -999.0,9,     -999.0,9,     -999.0,9,     -999.0,9,     0.0134,1,     4.6995,1,     -999.0,9,     -999.0,9,     -999.0,9,     -999.0,9,     -999.0,9
33RR20220613,       P02E,     157,          1,          9,          9,2,20220629,       0759,    30.0007,  -138.6952,       4782,  2700.7,2,   1.6567,2,  34.6520,2,  34.6527,2,    108.7,2,   108.9,2,  169.88,2,   38.49,2,    0.00,2,    2.70,2,   0.003,2,   0.000,2,   0.0000,2,  2356.8,2,  2425.4,2,   7.5048,2,    25.01,2, -999.00,9,  -999.0,9, -999.00,9, -999.00,9,       26.4,2, 20220629,      846,  30.0007,-138.6952,     1.6564,2,     -999.0,9,     -999.0,9,     -999.0,9,     -999.0,9,     0.0126,1,     4.6998,1,     -999.0,9,     -999.0,9,     -999.0,9,     -999.0,9,     -999.0,9
33RR20220613,       P02E,     157,          1,          8,          8,2,20220629,       0759,    30.0007,  -138.6952,       4782,  2956.8,2,   1.5884,2,  34.6599,2,  34.6604,2,    117.2,2,   117.4,2,  168.80,2,   37.94,2,    0.00,2,    2.66,2,-999.000,9,-999.000,9,-999.0000,9,  2351.0,2,  2428.8,6,   7.5206,2,    25.01,2, -999.00,9,  -999.0,9, -999.00,9, -999.00,9,     -999.0,9, 20220629,      841,  30.0007,-138.6952,     1.5885,2,     -999.0,9,     -999.0,9,     -999.0,9,     -999.0,9,     0.0122,1,     4.7008,1,     -999.0,9,     -999.0,9,     -999.0,9,     -999.0,9,     -999.0,9
33RR20220613,       P02E,     157,          1,          7,          7,2,20220629,       0759,    30.0007,  -138.6952,       4782,  3246.9,2,   1.5361,2,  34.6671,2,  34.6688,2,    125.7,2,   125.7,2,  167.14,2,   37.40,2,    0.00,2,    2.61,2,   0.004,2,   0.004,2,   0.0000,2,  2345.0,2,  2429.2,6,   7.5366,2,    25.01,2, -999.00,9,  -999.0,9, -999.00,9, -999.00,9,       23.6,2, 20220629,      834,  30.0007,-138.6952,     1.5360,2,     -999.0,9,     -999.0,9,     -999.0,9,     -999.0,9,     0.0127,1,     4.7007,1,     -999.0,9,     -999.0,9,     -999.0,9,     -999.0,9,     -999.0,9
33RR20220613,       P02E,     157,          1,          6,          6,2,20220629,       0759,    30.0007,  -138.6952,       4782,  3554.4,2,   1.5071,2,  34.6727,2,  34.6732,2,    133.0,2,   133.0,2,  165.77,2,   36.97,2,    0.00,2,    2.57,2,-999.000,9,-999.000,9,-999.0000,9,  -999.0,9,  -999.0,9,-999.0000,9,  -999.00,9, -999.00,9,  -999.0,9, -999.00,9, -999.00,9,     -999.0,9, 20220629,      828,  30.0007,-138.6952,     1.5069,2,     -999.0,9,     -999.0,9,     -999.0,9,     -999.0,9,     0.0122,1,     4.7007,1,     -999.0,9,     -999.0,9,     -999.0,9,     -999.0,9,     -999.0,9
33RR20220613,       P02E,     157,          1,          5,          5,2,20220629,       0759,    30.0007,  -138.6952,       4782,  3860.8,2,   1.5009,2,  34.6765,3,  34.6791,2,    138.0,2,   138.2,2,  164.41,2,   36.63,2,    0.00,2,    2.55,2,   0.004,2,   0.003,2,   0.0000,2,  -999.0,9,  -999.0,9,-999.0000,9,  -999.00,9, -999.00,9,  -999.0,9, -999.00,9, -999.00,9,       22.7,2, 20220629,      821,  30.0007,-138.6952,     1.5007,2,     -999.0,9,     -999.0,9,     -999.0,9,     -999.0,9,     0.0122,1,     4.7008,1,     -999.0,9,     -999.0,9,     -999.0,9,     -999.0,9,     -999.0,9