BOTTLE,20230830CCHSIOCBG
EXPOCODE,SECT_ID,STNNBR,CASTNO,SAMPNO,BTLNBR,BTLNBR_FLAG_W,DATE,TIME,LATITUDE,LONGITUDE,DEPTH,CTDPRS,CTDPRS_FLAG_W,CTDTMP,CTDTMP_FLAG_W,CTDSAL,CTDSAL_FLAG_W,SALNTY,SALNTY_FLAG_W,CTDOXY,CTDOXY_FLAG_W,OXYGEN,OXYGEN_FLAG_W,SILCAT,SILCAT_FLAG_W,NITRAT,NITRAT_FLAG_W,NITRIT,NITRIT_FLAG_W,PHSPHT,PHSPHT_FLAG_W,CFC-11,CFC-11_FLAG_W,CFC-12,CFC-12_FLAG_W,SF6,SF6_FLAG_W,TCARBN,TCARBN_FLAG_W,ALKALI,ALKALI_FLAG_W,PH_TOT,PH_TOT_FLAG_W,PH_TMP,PH_TMP_FLAG_W,DELC13,DELC13_FLAG_W,DELC14,DELC14_FLAG_W,DOC,DOC_FLAG_W,TDN,TDN_FLAG_W,N2O,N2O_FLAG_W,BTL_DATE,BTL_TIME,BTL_LAT,BTL_LON,REFTMP,REFTMP_FLAG_W,POC,POC_FLAG_W,PON,PON_FLAG_W,POP,POP_FLAG_W,PCOD,PCOD_FLAG_W,CTDFLUOR,CTDFLUOR_FLAG_W,CTDXMISS,CTDXMISS_FLAG_W,HPLC,HPLC_FLAG_W,DNA,DNA_FLAG_W,FCM,FCM_FLAG_W,IMAGES,IMAGES_FLAG_W,VIRAL_ABUNDANCE,VIRAL_ABUNDANCE_FLAG_W
,,,,,,,,,,,METERS,DBAR,,ITS-90,,PSS-78,,PSS-78,,UMOL/KG,,UMOL/KG,,UMOL/KG,,UMOL/KG,,UMOL/KG,,UMOL/KG,,PMOL/KG,,PMOL/KG,,FMOL/KG,,UMOL/KG,,UMOL/KG,,,,DEG C,,/MILLE,,/MILLE,,UMOL/KG,,UMOL/KG,,NMOL/KG,,,,,,ITS-90,,UG/L,,UG/L,,UG/L,,UG/L,,VOLTS,,VOLTS,,,,,,,,,,,
33RR20220613,       P02E,     137,          2,          4,          4,2,20220623,       0531,    30.0002,  -150.2433,       6180,  5094.1,2,   1.5421,2,  34.6894,2,  34.6891,2,    156.5,2,   156.4,2,  151.57,2,   35.49,2,    0.00,2,    2.68,4,   0.007,2,   0.007,2,   0.0000,2,  2323.8,2,  2422.2,2,   7.5849,2,    25.02,2, -999.00,9,  -999.0,9, -999.00,9, -999.00,9,       22.8,2, 20220623,      557,  30.0002,-150.2433,     1.5421,2,     -999.0,9,     -999.0,9,     -999.0,9,     -999.0,9,     0.0128,1,     4.7032,1,     -999.0,9,     -999.0,9,     -999.0,9,     -999.0,9,     -999.0,9
33RR20220613,       P02E,     137,          2,          3,          3,2,20220623,       0531,    30.0002,  -150.2433,       6180,  5403.5,2,   1.5680,2,  34.6901,2,  34.6901,2,    158.9,2,   159.0,2,  149.42,2,   35.34,2,    0.00,2,    2.66,4,   0.008,2,   0.010,2,   0.0000,2,  2321.3,2,  2417.3,6,   7.5862,2,    25.04,2, -999.00,9,  -999.0,9, -999.00,9, -999.00,9,       21.7,2, 20220623,      551,  30.0002,-150.2433,     1.5682,2,     -999.0,9,     -999.0,9,     -999.0,9,     -999.0,9,     0.0122,1,     4.7031,1,     -999.0,9,     -999.0,9,     -999.0,9,     -999.0,9,     -999.0,9
33RR20220613,       P02E,     137,          2,          2,          2,2,20220623,       0531,    30.0002,  -150.2433,       6180,  5921.4,2,   1.6290,2,  34.6907,2,  34.6924,2,    160.4,2,   160.5,2,  148.15,2,   35.23,2,    0.00,2,    2.66,4,   0.006,2,   0.007,2,   0.0000,2,  2318.8,2,  2417.3,6,   7.5873,2,    25.04,2, -999.00,9,  -999.0,9, -999.00,9, -999.00,9,       21.4,2, 20220623,      539,  30.0002,-150.2432,     1.6292,2,     -999.0,9,     -999.0,9,     -999.0,9,     -999.0,9,     0.0121,1,     4.7020,1,     -999.0,9,     -999.0,9,     -999.0,9,     -999.0,9,     -999.0,9
33RR20220613,       P02E,     137,          2,          1,          1,2,20220623,       0531,    30.0002,  -150.2433,       6180,  6128.0,2,   1.6577,2,  34.6906,2,  34.6916,2,    160.3,2,   160.5,2,  147.66,2,   35.20,2,    0.00,2,    2.65,4,   0.005,6,   0.007,6,   0.0000,6,  2319.9,6,  2416.8,2,   7.5870,2,    25.03,2, -999.00,9,  -999.0,9, -999.00,9, -999.00,9,       21.3,6, 20220623,      531,  30.0002,-150.2433,     1.6579,2,     -999.0,9,     -999.0,9,     -999.0,9,     -999.0,9,     0.0128,1,     4.7020,1,     -999.0,9,     -999.0,9,     -999.0,9,     -999.0,9,     -999.0,9