BOTTLE,20230830CCHSIOCBG
EXPOCODE,SECT_ID,STNNBR,CASTNO,SAMPNO,BTLNBR,BTLNBR_FLAG_W,DATE,TIME,LATITUDE,LONGITUDE,DEPTH,CTDPRS,CTDPRS_FLAG_W,CTDTMP,CTDTMP_FLAG_W,CTDSAL,CTDSAL_FLAG_W,SALNTY,SALNTY_FLAG_W,CTDOXY,CTDOXY_FLAG_W,OXYGEN,OXYGEN_FLAG_W,SILCAT,SILCAT_FLAG_W,NITRAT,NITRAT_FLAG_W,NITRIT,NITRIT_FLAG_W,PHSPHT,PHSPHT_FLAG_W,CFC-11,CFC-11_FLAG_W,CFC-12,CFC-12_FLAG_W,SF6,SF6_FLAG_W,TCARBN,TCARBN_FLAG_W,ALKALI,ALKALI_FLAG_W,PH_TOT,PH_TOT_FLAG_W,PH_TMP,PH_TMP_FLAG_W,DELC13,DELC13_FLAG_W,DELC14,DELC14_FLAG_W,DOC,DOC_FLAG_W,TDN,TDN_FLAG_W,N2O,N2O_FLAG_W,BTL_DATE,BTL_TIME,BTL_LAT,BTL_LON,REFTMP,REFTMP_FLAG_W,POC,POC_FLAG_W,PON,PON_FLAG_W,POP,POP_FLAG_W,PCOD,PCOD_FLAG_W,CTDFLUOR,CTDFLUOR_FLAG_W,CTDXMISS,CTDXMISS_FLAG_W,HPLC,HPLC_FLAG_W,DNA,DNA_FLAG_W,FCM,FCM_FLAG_W,IMAGES,IMAGES_FLAG_W,VIRAL_ABUNDANCE,VIRAL_ABUNDANCE_FLAG_W
,,,,,,,,,,,METERS,DBAR,,ITS-90,,PSS-78,,PSS-78,,UMOL/KG,,UMOL/KG,,UMOL/KG,,UMOL/KG,,UMOL/KG,,UMOL/KG,,PMOL/KG,,PMOL/KG,,FMOL/KG,,UMOL/KG,,UMOL/KG,,,,DEG C,,/MILLE,,/MILLE,,UMOL/KG,,UMOL/KG,,NMOL/KG,,,,,,ITS-90,,UG/L,,UG/L,,UG/L,,UG/L,,VOLTS,,VOLTS,,,,,,,,,,,
33RR20220613,       P02E,     144,          1,          4,          4,2,20220625,       1107,    29.9998,  -146.2018,       4915,  4066.5,2,   1.4689,2,  34.6847,2,  34.6842,2,    146.2,2,   146.4,2,  160.47,2,   36.23,2,    0.00,2,    2.86,4,   0.007,2,   0.006,2,   0.0000,2,  -999.0,9,  -999.0,9,-999.0000,9,  -999.00,9, -999.00,9,  -999.0,9, -999.00,1, -999.00,1,       21.6,2, 20220625,     1126,  29.9999,-146.2017,     1.4686,2,     -999.0,9,     -999.0,9,     -999.0,9,     -999.0,9,     0.0122,1,     4.7043,1,     -999.0,9,     -999.0,9,     -999.0,9,     -999.0,9,     -999.0,9
33RR20220613,       P02E,     144,          1,          3,          3,2,20220625,       1107,    29.9998,  -146.2018,       4915,  4373.7,2,   1.4837,2,  34.6867,2,  34.6855,2,    150.5,2,   150.6,2,  156.95,2,   35.94,2,    0.00,2,    2.81,4,-999.000,9,-999.000,9,-999.0000,9,  2330.6,2,  2425.9,6,   7.5778,2,    25.02,2, -999.00,1,  -999.0,1, -999.00,1, -999.00,1,     -999.0,9, 20220625,     1120,  29.9999,-146.2018,     1.4838,2,     -999.0,9,     -999.0,9,     -999.0,9,     -999.0,9,     0.0122,1,     4.7040,1,     -999.0,9,     -999.0,9,     -999.0,9,     -999.0,9,     -999.0,9
33RR20220613,       P02E,     144,          1,          2,          2,2,20220625,       1107,    29.9998,  -146.2018,       4915,  4684.8,2,   1.5048,2,  34.6880,2,  34.6869,2,    153.9,2,   154.0,2,  153.24,2,   35.69,2,    0.00,2,    2.78,4,-999.000,9,-999.000,9,-999.0000,9,  2324.0,2,  2423.4,2,   7.5802,2,    25.01,2, -999.00,1,  -999.0,1, -999.00,1, -999.00,1,     -999.0,9, 20220625,     1113,  29.9998,-146.2018,     1.5047,2,     -999.0,9,     -999.0,9,     -999.0,9,     -999.0,9,     0.0122,1,     4.7035,1,     -999.0,9,     -999.0,9,     -999.0,9,     -999.0,9,     -999.0,9
33RR20220613,       P02E,     144,          1,          1,          1,2,20220625,       1107,    29.9998,  -146.2018,       4915,  4996.1,2,   1.5330,2,  34.6888,2,  34.6879,2,    156.1,2,   156.2,2,  150.89,2,   35.47,2,    0.00,2,    2.77,4,   0.010,2,   0.007,2,   0.0000,2,  2326.6,6,  2419.7,2,   7.5841,2,    25.00,2, -999.00,1,  -999.0,1, -999.00,1, -999.00,1,       21.8,2, 20220625,     1107,  29.9998,-146.2018,     1.5331,2,     -999.0,9,     -999.0,9,     -999.0,9,     -999.0,9,     0.0122,1,     4.7031,1,     -999.0,9,     -999.0,9,     -999.0,9,     -999.0,9,     -999.0,9