BOTTLE,20230830CCHSIOCBG
EXPOCODE,SECT_ID,STNNBR,CASTNO,SAMPNO,BTLNBR,BTLNBR_FLAG_W,DATE,TIME,LATITUDE,LONGITUDE,DEPTH,CTDPRS,CTDPRS_FLAG_W,CTDTMP,CTDTMP_FLAG_W,CTDSAL,CTDSAL_FLAG_W,SALNTY,SALNTY_FLAG_W,CTDOXY,CTDOXY_FLAG_W,OXYGEN,OXYGEN_FLAG_W,SILCAT,SILCAT_FLAG_W,NITRAT,NITRAT_FLAG_W,NITRIT,NITRIT_FLAG_W,PHSPHT,PHSPHT_FLAG_W,CFC-11,CFC-11_FLAG_W,CFC-12,CFC-12_FLAG_W,SF6,SF6_FLAG_W,TCARBN,TCARBN_FLAG_W,ALKALI,ALKALI_FLAG_W,PH_TOT,PH_TOT_FLAG_W,PH_TMP,PH_TMP_FLAG_W,DELC13,DELC13_FLAG_W,DELC14,DELC14_FLAG_W,DOC,DOC_FLAG_W,TDN,TDN_FLAG_W,N2O,N2O_FLAG_W,BTL_DATE,BTL_TIME,BTL_LAT,BTL_LON,REFTMP,REFTMP_FLAG_W,POC,POC_FLAG_W,PON,PON_FLAG_W,POP,POP_FLAG_W,PCOD,PCOD_FLAG_W,CTDFLUOR,CTDFLUOR_FLAG_W,CTDXMISS,CTDXMISS_FLAG_W,HPLC,HPLC_FLAG_W,DNA,DNA_FLAG_W,FCM,FCM_FLAG_W,IMAGES,IMAGES_FLAG_W,VIRAL_ABUNDANCE,VIRAL_ABUNDANCE_FLAG_W
,,,,,,,,,,,METERS,DBAR,,ITS-90,,PSS-78,,PSS-78,,UMOL/KG,,UMOL/KG,,UMOL/KG,,UMOL/KG,,UMOL/KG,,UMOL/KG,,PMOL/KG,,PMOL/KG,,FMOL/KG,,UMOL/KG,,UMOL/KG,,,,DEG C,,/MILLE,,/MILLE,,UMOL/KG,,UMOL/KG,,NMOL/KG,,,,,,ITS-90,,UG/L,,UG/L,,UG/L,,UG/L,,VOLTS,,VOLTS,,,,,,,,,,,
33RR20220613,       P02E,     203,          2,         27,         27,2,20220712,       2325,    32.6378,  -117.5219,       1169,     4.0,2,  21.2299,2,  33.5884,2,  33.5941,2,    253.1,2,   253.0,2,    0.00,2,    0.00,2,    0.00,2,    0.18,2,   2.071,2,   1.258,2,   2.0447,2,  1993.6,6,  2245.9,2,   7.9769,2,    24.98,2, -999.00,9,  -999.0,9, -999.00,9, -999.00,9,        8.1,2, 20220713,       27,  32.6378,-117.5219,    21.2289,2,     -999.0,9,     -999.0,9,     -999.0,9,     -999.0,9,     0.0220,1,     4.4219,1,     -999.0,9,     -999.0,9,     -999.0,9,     -999.0,9,     -999.0,9
33RR20220613,       P02E,     203,          2,         26,         26,2,20220712,       2325,    32.6378,  -117.5219,       1169,    20.0,2,  13.8508,2,  33.4539,2,  33.4709,2,    317.5,2,   317.6,2,    2.25,2,    0.02,2,    0.01,2,    0.36,2,   2.820,2,   1.650,2,   2.5312,2,  2010.2,2,  2238.1,2,   7.9288,2,    24.98,2, -999.00,9,  -999.0,9, -999.00,9, -999.00,9,       13.4,2, 20220713,       24,  32.6377,-117.5219,    13.8593,2,     -999.0,9,     -999.0,9,     -999.0,9,     -999.0,9,     0.1590,1,     4.1606,1,     -999.0,9,     -999.0,9,     -999.0,9,     -999.0,9,     -999.0,9
33RR20220613,       P02E,     203,          2,         25,         25,2,20220712,       2325,    32.6378,  -117.5219,       1169,    40.4,2,  11.4979,2,  33.5507,2,  33.5585,2,    165.6,2,   165.9,2,   12.42,2,   14.00,2,    0.24,2,    1.37,2,   2.889,2,   1.715,2,   2.2509,2,  2141.4,2,  2234.2,2,   7.6055,2,    24.98,2, -999.00,9,  -999.0,9, -999.00,9, -999.00,9,       22.1,2, 20220713,       22,  32.6377,-117.5219,    11.4991,2,     -999.0,9,     -999.0,9,     -999.0,9,     -999.0,9,     0.0488,1,     4.5876,1,     -999.0,9,     -999.0,9,     -999.0,9,     -999.0,9,     -999.0,9
33RR20220613,       P02E,     203,          2,         24,         24,2,20220712,       2325,    32.6378,  -117.5219,       1169,    65.5,2,  10.8042,2,  33.6383,2,  33.6410,2,    147.0,2,   148.1,2,   16.33,2,   18.81,2,    0.06,2,    1.59,2,   2.903,2,   1.739,2,   2.1296,2,  2155.4,2,  2235.6,2,   7.5669,2,    24.99,2, -999.00,9,  -999.0,9, -999.00,9, -999.00,9,       22.4,2, 20220713,       19,  32.6377,-117.5219,    10.8023,2,     -999.0,9,     -999.0,9,     -999.0,9,     -999.0,9,     0.0222,1,     4.6313,1,     -999.0,9,     -999.0,9,     -999.0,9,     -999.0,9,     -999.0,9
33RR20220613,       P02E,     203,          2,         23,         23,2,20220712,       2325,    32.6378,  -117.5219,       1169,    90.2,2,  10.1433,2,  33.8227,3,  33.8498,2,    122.8,2,   122.2,2,   22.98,2,   22.62,2,    0.04,2,    1.84,2,   2.817,2,   1.685,2,   1.7960,2,  2185.1,2,  2247.9,6,   7.5158,2,    24.98,2, -999.00,9,  -999.0,9, -999.00,9, -999.00,9,       28.5,2, 20220713,       16,  32.6377,-117.5219,    10.1221,2,     -999.0,9,     -999.0,9,     -999.0,9,     -999.0,9,     0.0142,1,     4.6233,1,     -999.0,9,     -999.0,9,     -999.0,9,     -999.0,9,     -999.0,9
33RR20220613,       P02E,     203,          2,         22,         22,2,20220712,       2325,    32.6378,  -117.5219,       1169,   115.6,2,   9.7010,2,  34.0505,2,  34.0580,2,    106.8,2,   106.2,2,   27.86,2,   24.28,2,    0.00,2,    1.99,2,   2.572,2,   1.521,2,   1.3288,2,  2202.4,2,  2266.6,2,   7.5026,2,    24.98,2, -999.00,9,  -999.0,9, -999.00,9, -999.00,9,       32.8,2, 20220713,       15,  32.6377,-117.5219,     9.6992,2,     -999.0,9,     -999.0,9,     -999.0,9,     -999.0,9,     0.0134,1,     4.6484,1,     -999.0,9,     -999.0,9,     -999.0,9,     -999.0,9,     -999.0,9
33RR20220613,       P02E,     203,          2,         21,         21,2,20220712,       2325,    32.6378,  -117.5219,       1169,   140.8,2,  10.0171,2,  34.2153,2,  34.2260,2,     75.4,2,    75.2,2,   31.48,2,   25.75,2,    0.00,2,    2.23,2,   2.148,2,   1.274,2,   0.9013,2,  2228.1,2,  2274.9,2,   7.4614,2,    24.98,2, -999.00,9,  -999.0,9, -999.00,9, -999.00,9,       37.9,2, 20220713,       13,  32.6377,-117.5219,    10.0169,2,     -999.0,9,     -999.0,9,     -999.0,9,     -999.0,9,     0.0134,1,     4.6596,1,     -999.0,9,     -999.0,9,     -999.0,9,     -999.0,9,     -999.0,9
33RR20220613,       P02E,     203,          2,         20,         20,2,20220712,       2325,    32.6378,  -117.5219,       1169,   166.0,2,   9.7545,2,  34.2593,2,  34.2615,2,     63.1,2,    63.6,2,   34.60,2,   27.02,2,    0.00,2,    2.35,2,   1.999,2,   1.171,2,   0.8078,2,  2239.0,2,  2278.8,2,   7.4386,2,    24.98,2, -999.00,9,  -999.0,9, -999.00,9, -999.00,9,       38.6,2, 20220713,       11,  32.6378,-117.5219,     9.7635,2,     -999.0,9,     -999.0,9,     -999.0,9,     -999.0,9,     0.0134,1,     4.6586,1,     -999.0,9,     -999.0,9,     -999.0,9,     -999.0,9,     -999.0,9
33RR20220613,       P02E,     203,          2,         19,         39,2,20220712,       2325,    32.6378,  -117.5219,       1169,   191.0,2,   9.5700,2,  34.3194,2,  34.3219,2,     45.0,2,    45.3,2,   37.83,2,   28.16,2,    0.00,2,    2.49,2,   1.677,2,   0.988,2,   0.5914,2,  -999.0,9,  -999.0,9,-999.0000,9,  -999.00,9, -999.00,9,  -999.0,9, -999.00,9, -999.00,9,       39.8,2, 20220713,        9,  32.6377,-117.5219,     9.5662,2,     -999.0,9,     -999.0,9,     -999.0,9,     -999.0,9,     0.0134,1,     4.6570,1,     -999.0,9,     -999.0,9,     -999.0,9,     -999.0,9,     -999.0,9
33RR20220613,       P02E,     203,          2,         18,         18,2,20220712,       2325,    32.6378,  -117.5219,       1169,   216.3,2,   9.3932,2,  34.3142,2,  34.3170,2,     41.1,3,    41.8,2,   39.49,2,   28.72,2,    0.00,2,    2.55,2,   1.617,2,   0.960,2,   0.6060,2,  2258.3,2,  2286.0,2,   7.3940,2,    24.98,2, -999.00,9,  -999.0,9, -999.00,9, -999.00,9,       40.6,2, 20220713,        7,  32.6377,-117.5219,     9.3916,2,     -999.0,9,     -999.0,9,     -999.0,9,     -999.0,9,     0.0134,1,     4.6387,1,     -999.0,9,     -999.0,9,     -999.0,9,     -999.0,9,     -999.0,9
33RR20220613,       P02E,     203,          2,         17,         37,2,20220712,       2325,    32.6378,  -117.5219,       1169,   241.5,2,   9.2416,2,  34.3090,2,  34.3164,2,     41.2,3,    40.2,2,   40.57,2,   29.06,2,    0.00,2,    2.57,2,   1.572,2,   0.932,2,   0.5598,2,  2262.1,2,  2287.3,2,   7.3919,2,    24.98,2, -999.00,9,  -999.0,9, -999.00,9, -999.00,9,       40.3,2, 20220713,        5,  32.6378,-117.5219,     9.2408,2,     -999.0,9,     -999.0,9,     -999.0,9,     -999.0,9,     0.0134,1,     4.6414,1,     -999.0,9,     -999.0,9,     -999.0,9,     -999.0,9,     -999.0,9
33RR20220613,       P02E,     203,          2,         16,         16,2,20220712,       2325,    32.6378,  -117.5219,       1169,   286.8,2,   8.8115,2,  34.3006,2,  34.3146,2,     38.1,3,    37.2,2,   43.89,2,   30.34,2,    0.00,2,    2.62,2,   1.454,2,   0.860,2,   0.4853,2,  2268.4,2,  2288.5,2,   7.3798,2,    24.97,2, -999.00,9,  -999.0,9, -999.00,9, -999.00,9,       42.2,2, 20220713,        2,  32.6377,-117.5219,     8.8094,2,     -999.0,9,     -999.0,9,     -999.0,9,     -999.0,9,     0.0134,1,     4.6552,1,     -999.0,9,     -999.0,9,     -999.0,9,     -999.0,9,     -999.0,9
33RR20220613,       P02E,     203,          2,         15,         15,2,20220712,       2325,    32.6378,  -117.5219,       1169,   337.3,2,   8.6435,2,  34.3666,2,  34.3680,2,     21.9,2,    22.0,2,   47.99,2,   31.36,2,    0.00,2,    2.76,2,   1.068,2,   0.607,2,   0.2569,2,  -999.0,9,  -999.0,9,-999.0000,9,  -999.00,9, -999.00,9,  -999.0,9, -999.00,9, -999.00,9,       47.6,2, 20220712,     2359,  32.6377,-117.5219,     8.6427,2,     -999.0,9,     -999.0,9,     -999.0,9,     -999.0,9,     0.0134,1,     4.6528,1,     -999.0,9,     -999.0,9,     -999.0,9,     -999.0,9,     -999.0,9
33RR20220613,       P02E,     203,          2,         14,         42,2,20220712,       2325,    32.6378,  -117.5219,       1169,   387.7,2,   7.9670,2,  34.3205,2,  34.3264,2,     23.3,2,    23.5,2,   53.27,2,   33.39,2,    0.00,2,    2.82,2,   1.010,2,   0.563,2,   0.2294,2,  2287.0,2,  2298.8,2,   7.3498,2,    24.97,2, -999.00,9,  -999.0,9, -999.00,9, -999.00,9,       46.7,2, 20220712,     2357,  32.6378,-117.5219,     7.9605,2,     -999.0,9,     -999.0,9,     -999.0,9,     -999.0,9,     0.0134,1,     4.6449,1,     -999.0,9,     -999.0,9,     -999.0,9,     -999.0,9,     -999.0,9
33RR20220613,       P02E,     203,          2,         13,         13,2,20220712,       2325,    32.6378,  -117.5219,       1169,   438.3,2,   7.4140,2,  34.2909,2,  34.2952,2,     22.9,2,    22.7,2,   57.97,2,   35.08,2,    0.00,2,    2.85,2,   0.898,2,   0.505,2,   0.1628,2,  -999.0,9,  -999.0,9,-999.0000,9,  -999.00,9, -999.00,9,  -999.0,9, -999.00,9, -999.00,9,       51.2,2, 20220712,     2355,  32.6377,-117.5219,     7.4079,2,     -999.0,9,     -999.0,9,     -999.0,9,     -999.0,9,     0.0134,1,     4.6630,1,     -999.0,9,     -999.0,9,     -999.0,9,     -999.0,9,     -999.0,9
33RR20220613,       P02E,     203,          2,         12,         12,2,20220712,       2325,    32.6378,  -117.5219,       1169,   488.3,2,   6.8805,2,  34.2836,2,  34.2932,2,     19.2,3,    19.0,2,   64.12,2,   36.69,2,    0.00,2,    2.94,2,   0.706,2,   0.385,2,   0.1822,2,  2302.0,2,  2307.1,2,   7.3311,2,    24.99,2, -999.00,9,  -999.0,9, -999.00,9, -999.00,9,       56.8,2, 20220712,     2352,  32.6378,-117.5220,     6.8795,2,     -999.0,9,     -999.0,9,     -999.0,9,     -999.0,9,     0.0134,1,     4.6641,1,     -999.0,9,     -999.0,9,     -999.0,9,     -999.0,9,     -999.0,9
33RR20220613,       P02E,     203,          2,         11,         11,2,20220712,       2325,    32.6378,  -117.5219,       1169,   538.9,2,   6.4686,2,  34.2863,2,  34.2962,2,     15.9,3,    16.4,2,   69.79,2,   38.15,2,    0.00,2,    3.00,2,   0.552,2,   0.294,2,   0.0918,2,  2309.7,2,  2313.5,2,   7.3252,2,    25.01,2, -999.00,9,  -999.0,9, -999.00,9, -999.00,9,       59.1,2, 20220712,     2350,  32.6378,-117.5219,     6.4687,2,     -999.0,9,     -999.0,9,     -999.0,9,     -999.0,9,     0.0134,1,     4.6628,1,     -999.0,9,     -999.0,9,     -999.0,9,     -999.0,9,     -999.0,9
33RR20220613,       P02E,     203,          2,         10,         10,2,20220712,       2325,    32.6378,  -117.5219,       1169,   589.6,2,   6.2101,2,  34.3233,2,  34.3258,2,     12.8,3,    13.0,2,   74.68,2,   39.01,2,    0.00,2,    3.06,2,   0.356,2,   0.189,2,   0.0752,2,  2317.4,2,  2320.7,2,   7.3218,2,    25.02,2, -999.00,9,  -999.0,9, -999.00,9, -999.00,9,       61.1,2, 20220712,     2347,  32.6378,-117.5219,     6.2083,2,     -999.0,9,     -999.0,9,     -999.0,9,     -999.0,9,     0.0134,1,     4.6638,1,     -999.0,9,     -999.0,9,     -999.0,9,     -999.0,9,     -999.0,9
33RR20220613,       P02E,     203,          2,          9,          9,2,20220712,       2325,    32.6378,  -117.5219,       1169,   640.2,2,   5.9851,2,  34.3602,2,  34.3613,2,     10.7,3,    10.5,2,   78.88,2,   39.73,2,    0.00,2,    3.12,2,   0.208,2,   0.110,2,   0.0739,2,  2324.5,2,  2327.4,2,   7.3222,2,    25.02,2, -999.00,9,  -999.0,9, -999.00,9, -999.00,9,       63.4,2, 20220712,     2346,  32.6378,-117.5219,     5.9873,2,     -999.0,9,     -999.0,9,     -999.0,9,     -999.0,9,     0.0134,1,     4.6593,1,     -999.0,9,     -999.0,9,     -999.0,9,     -999.0,9,     -999.0,9
33RR20220613,       P02E,     203,          2,          8,          8,2,20220712,       2325,    32.6378,  -117.5219,       1169,   690.7,2,   5.6336,2,  34.3727,2,  34.3751,2,     10.8,3,    10.6,2,   85.04,2,   40.58,2,    0.00,2,    3.15,2,   0.140,2,   0.081,2,   0.0392,2,  2329.9,2,  2334.6,2,   7.3219,2,    25.02,2, -999.00,9,  -999.0,9, -999.00,9, -999.00,9,       66.5,2, 20220712,     2344,  32.6378,-117.5218,     5.6418,2,     -999.0,9,     -999.0,9,     -999.0,9,     -999.0,9,     0.0134,1,     4.6605,1,     -999.0,9,     -999.0,9,     -999.0,9,     -999.0,9,     -999.0,9
33RR20220613,       P02E,     203,          2,          7,          7,2,20220712,       2325,    32.6378,  -117.5219,       1169,   766.4,2,   5.2332,2,  34.3966,2,  34.4008,2,     11.8,2,    11.9,2,   91.98,2,   41.80,2,    0.00,2,    3.17,2,   0.069,2,   0.044,2,   0.0598,2,  2338.7,2,  2341.6,2,   7.3249,2,    25.01,2, -999.00,9,  -999.0,9, -999.00,9, -999.00,9,       66.9,2, 20220712,     2341,  32.6378,-117.5219,     5.2316,2,     -999.0,9,     -999.0,9,     -999.0,9,     -999.0,9,     0.0134,1,     4.6670,1,     -999.0,9,     -999.0,9,     -999.0,9,     -999.0,9,     -999.0,9
33RR20220613,       P02E,     203,          2,          6,          6,2,20220712,       2325,    32.6378,  -117.5219,       1169,   842.3,2,   4.9281,2,  34.4187,2,  34.4202,2,     13.4,3,    13.1,2,   97.55,2,   42.37,2,    0.00,2,    3.18,2,   0.046,2,   0.033,2,   0.0687,2,  2344.6,2,  2349.4,2,   7.3279,2,    25.00,2, -999.00,9,  -999.0,9, -999.00,9, -999.00,9,       65.3,2, 20220712,     2339,  32.6378,-117.5219,     4.9278,2,     -999.0,9,     -999.0,9,     -999.0,9,     -999.0,9,     0.0134,1,     4.6676,1,     -999.0,9,     -999.0,9,     -999.0,9,     -999.0,9,     -999.0,9
33RR20220613,       P02E,     203,          2,          5,          5,2,20220712,       2325,    32.6378,  -117.5219,       1169,   918.1,2,   4.6126,2,  34.4407,2,  34.4447,2,     15.8,2,    15.9,2,  104.58,2,   42.76,2,    0.00,2,    3.17,2,   0.044,2,   0.034,2,   0.1731,2,  2351.9,2,  2357.8,2,   7.3312,2,    24.99,2, -999.00,9,  -999.0,9, -999.00,9, -999.00,9,       61.6,2, 20220712,     2336,  32.6378,-117.5219,     4.6139,2,     -999.0,9,     -999.0,9,     -999.0,9,     -999.0,9,     0.0134,1,     4.6672,1,     -999.0,9,     -999.0,9,     -999.0,9,     -999.0,9,     -999.0,9
33RR20220613,       P02E,     203,          2,          4,          4,2,20220712,       2325,    32.6378,  -117.5219,       1169,   994.0,2,   4.3413,2,  34.4598,2,  34.4622,2,     16.9,2,    16.9,2,  111.81,2,   42.53,2,    0.00,2,    3.20,2,   0.057,2,   0.055,2,   0.6752,2,  2358.5,2,  2367.2,2,   7.3357,2,    24.98,2, -999.00,9,  -999.0,9, -999.00,9, -999.00,9,       60.7,2, 20220712,     2334,  32.6378,-117.5219,     4.3410,2,     -999.0,9,     -999.0,9,     -999.0,9,     -999.0,9,     0.0136,1,     4.6601,1,     -999.0,9,     -999.0,9,     -999.0,9,     -999.0,9,     -999.0,9
33RR20220613,       P02E,     203,          2,          3,          3,4,20220712,       2325,    32.6378,  -117.5219,       1169,  1071.0,3,   4.0549,3,  34.4818,3,  34.4473,3,     22.0,3,    27.9,3,  109.37,3,   41.30,3,    0.00,3,    3.07,3,   0.187,3,   0.120,3,   1.7235,3,  2348.5,4,  2363.8,3,   7.3588,3,    24.99,3, -999.00,9,  -999.0,9, -999.00,9, -999.00,9,       55.4,3, 20220712,     2331,  32.6378,-117.5219,     4.0532,3,     -999.0,9,     -999.0,9,     -999.0,9,     -999.0,9,     0.0134,1,     4.6637,1,     -999.0,9,     -999.0,9,     -999.0,9,     -999.0,9,     -999.0,9
33RR20220613,       P02E,     203,          2,          2,          2,3,20220712,       2325,    32.6378,  -117.5219,       1169,  1145.9,3,   3.7664,3,  34.5029,3,  34.5050,3,     26.2,3,    26.2,3,  123.63,3,   42.87,3,    0.00,3,    3.15,3,   0.063,3,   0.049,3,   2.0591,3,  2367.0,3,  2380.1,3,   7.3533,3,    24.99,3, -999.00,9,  -999.0,9, -999.00,9, -999.00,9,       52.6,3, 20220712,     2327,  32.6378,-117.5218,     3.7673,3,     -999.0,9,     -999.0,9,     -999.0,9,     -999.0,9,     0.0134,1,     4.6609,1,     -999.0,9,     -999.0,9,     -999.0,9,     -999.0,9,     -999.0,9
33RR20220613,       P02E,     203,          2,          1,          1,2,20220712,       2325,    32.6378,  -117.5219,       1169,  1170.4,2,   3.7059,2,  34.5084,2,  34.5070,2,     26.8,2,    26.9,2,  124.51,2,   42.83,2,    0.00,2,    3.14,2,   0.072,6,   0.056,6,   2.4062,6,  2369.4,6,  2381.1,2,   7.3550,2,    25.00,2, -999.00,9,  -999.0,9, -999.00,9, -999.00,9,       55.6,6, 20220712,     2325,  32.6377,-117.5218,     3.7159,2,     -999.0,9,     -999.0,9,     -999.0,9,     -999.0,9,     0.0138,1,     4.6581,1,     -999.0,9,     -999.0,9,     -999.0,9,     -999.0,9,     -999.0,9