BOTTLE,20230830CCHSIOCBG
EXPOCODE,SECT_ID,STNNBR,CASTNO,SAMPNO,BTLNBR,BTLNBR_FLAG_W,DATE,TIME,LATITUDE,LONGITUDE,DEPTH,CTDPRS,CTDPRS_FLAG_W,CTDTMP,CTDTMP_FLAG_W,CTDSAL,CTDSAL_FLAG_W,SALNTY,SALNTY_FLAG_W,CTDOXY,CTDOXY_FLAG_W,OXYGEN,OXYGEN_FLAG_W,SILCAT,SILCAT_FLAG_W,NITRAT,NITRAT_FLAG_W,NITRIT,NITRIT_FLAG_W,PHSPHT,PHSPHT_FLAG_W,CFC-11,CFC-11_FLAG_W,CFC-12,CFC-12_FLAG_W,SF6,SF6_FLAG_W,TCARBN,TCARBN_FLAG_W,ALKALI,ALKALI_FLAG_W,PH_TOT,PH_TOT_FLAG_W,PH_TMP,PH_TMP_FLAG_W,DELC13,DELC13_FLAG_W,DELC14,DELC14_FLAG_W,DOC,DOC_FLAG_W,TDN,TDN_FLAG_W,N2O,N2O_FLAG_W,BTL_DATE,BTL_TIME,BTL_LAT,BTL_LON,REFTMP,REFTMP_FLAG_W,POC,POC_FLAG_W,PON,PON_FLAG_W,POP,POP_FLAG_W,PCOD,PCOD_FLAG_W,CTDFLUOR,CTDFLUOR_FLAG_W,CTDXMISS,CTDXMISS_FLAG_W,HPLC,HPLC_FLAG_W,DNA,DNA_FLAG_W,FCM,FCM_FLAG_W,IMAGES,IMAGES_FLAG_W,VIRAL_ABUNDANCE,VIRAL_ABUNDANCE_FLAG_W
,,,,,,,,,,,METERS,DBAR,,ITS-90,,PSS-78,,PSS-78,,UMOL/KG,,UMOL/KG,,UMOL/KG,,UMOL/KG,,UMOL/KG,,UMOL/KG,,PMOL/KG,,PMOL/KG,,FMOL/KG,,UMOL/KG,,UMOL/KG,,,,DEG C,,/MILLE,,/MILLE,,UMOL/KG,,UMOL/KG,,NMOL/KG,,,,,,ITS-90,,UG/L,,UG/L,,UG/L,,UG/L,,VOLTS,,VOLTS,,,,,,,,,,,
33RR20220613,       P02E,     145,          1,         36,         36,2,20220625,       1739,    30.0009,  -145.6231,       5130,     2.4,2,  23.1249,2,  35.2260,2,  35.2276,2,    220.3,2,   219.0,2,    0.10,2,    0.04,2,    0.00,2,    0.03,3,   1.687,2,   1.099,2,   1.8283,2,  2040.9,6,  2321.0,2,   8.0017,2,    25.02,2, -999.00,9,  -999.0,9, -999.00,9, -999.00,9,        6.9,2, 20220625,     1943,  30.0009,-145.6231,    23.1298,2,     -999.0,9,     -999.0,9,     -999.0,9,     -999.0,9,     0.0122,1,     4.6435,1,     -999.0,9,     -999.0,9,     -999.0,9,     -999.0,9,     -999.0,9
33RR20220613,       P02E,     145,          1,         35,         35,2,20220625,       1739,    30.0009,  -145.6231,       5130,    20.6,2,  23.0238,2,  35.2220,2,  35.2211,2,    220.5,2,   219.4,2,    0.10,2,    0.06,2,    0.00,2,    0.02,3,   1.736,2,   1.115,2,   1.8446,2,  2038.3,2,  2321.2,2,   8.0008,2,    25.01,2, -999.00,9,  -999.0,9, -999.00,9, -999.00,9,        6.9,2, 20220625,     1941,  30.0010,-145.6232,    23.0313,2,     -999.0,9,     -999.0,9,     -999.0,9,     -999.0,9,     0.0122,1,     4.6429,1,     -999.0,9,     -999.0,9,     -999.0,9,     -999.0,9,     -999.0,9
33RR20220613,       P02E,     145,          1,         34,         34,2,20220625,       1739,    30.0009,  -145.6231,       5130,    40.3,2,  21.1908,2,  34.9693,2,  34.9732,2,    233.0,2,   234.1,2,    0.29,2,    0.02,2,    0.00,2,    0.03,3,-999.000,9,-999.000,9,-999.0000,9,  2035.2,2,  2305.5,2,   7.9862,2,    25.02,2, -999.00,9,  -999.0,9, -999.00,9, -999.00,9,     -999.0,9, 20220625,     1940,  30.0010,-145.6232,    21.3415,3,     -999.0,9,     -999.0,9,     -999.0,9,     -999.0,9,     0.0134,1,     4.6333,1,     -999.0,9,     -999.0,9,     -999.0,9,     -999.0,9,     -999.0,9
33RR20220613,       P02E,     145,          1,         33,         33,2,20220625,       1739,    30.0009,  -145.6231,       5130,    65.4,2,  20.4455,2,  35.0339,3,  35.0020,2,    236.2,2,   235.3,2,    0.39,2,    0.01,2,    0.00,2,    0.03,3,   1.890,2,   1.227,2,   2.0949,2,  2036.0,2,  2304.2,2,   7.9864,2,    25.02,2, -999.00,9,  -999.0,9, -999.00,9, -999.00,9,        7.5,2, 20220625,     1938,  30.0010,-145.6232,    20.4237,2,     -999.0,9,     -999.0,9,     -999.0,9,     -999.0,9,     0.0148,1,     4.6440,1,     -999.0,9,     -999.0,9,     -999.0,9,     -999.0,9,     -999.0,9
33RR20220613,       P02E,     145,          1,         32,         32,2,20220625,       1739,    30.0009,  -145.6231,       5130,    90.6,2,  19.8150,2,  34.9502,2,  34.9551,2,    233.6,2,   234.5,2,    0.39,2,    0.00,2,    0.00,2,    0.03,3,-999.000,9,-999.000,9,-999.0000,9,  2035.6,2,  2302.1,2,   7.9805,2,    25.03,2, -999.00,9,  -999.0,9, -999.00,9, -999.00,9,     -999.0,9, 20220625,     1937,  30.0010,-145.6232,    19.8183,2,     -999.0,9,     -999.0,9,     -999.0,9,     -999.0,9,     0.0171,1,     4.6494,1,     -999.0,9,     -999.0,9,     -999.0,9,     -999.0,9,     -999.0,9
33RR20220613,       P02E,     145,          1,         31,         31,2,20220625,       1739,    30.0009,  -145.6231,       5130,   135.6,2,  18.8417,2,  34.8328,2,  34.8330,2,    227.3,2,   228.9,2,    0.68,2,    0.00,2,    0.01,2,    0.05,3,   1.977,2,   1.266,2,   2.0788,2,  2033.3,2,  2291.7,2,   7.9602,2,    25.00,2, -999.00,9,  -999.0,9, -999.00,9, -999.00,9,        7.9,2, 20220625,     1935,  30.0010,-145.6232,    18.8561,2,     -999.0,9,     -999.0,9,     -999.0,9,     -999.0,9,     0.0274,1,     4.6610,1,     -999.0,9,     -999.0,9,     -999.0,9,     -999.0,9,     -999.0,9
33RR20220613,       P02E,     145,          1,         30,         17,2,20220625,       1739,    30.0009,  -145.6231,       5130,   186.3,2,  15.4913,2,  34.2380,2,  34.2405,2,    222.2,3,   225.1,2,    2.15,2,    1.85,2,    0.04,2,    0.20,3,-999.000,9,-999.000,9,-999.0000,9,  2050.3,2,  2255.4,2,   7.8819,2,    25.01,2, -999.00,9,  -999.0,9, -999.00,9, -999.00,9,     -999.0,9, 20220625,     1933,  30.0010,-145.6232,    15.4549,2,     -999.0,9,     -999.0,9,     -999.0,9,     -999.0,9,     0.0222,1,     4.6727,1,     -999.0,9,     -999.0,9,     -999.0,9,     -999.0,9,     -999.0,9
33RR20220613,       P02E,     145,          1,         29,         29,2,20220625,       1739,    30.0009,  -145.6231,       5130,   236.5,2,  12.3751,2,  33.9953,2,  33.9941,2,    218.2,2,   218.6,2,    5.97,2,    7.42,2,    0.00,2,    0.49,3,   2.722,2,   1.682,2,   2.2956,2,  2077.6,2,  2244.4,2,   7.7979,2,    25.02,2, -999.00,9,  -999.0,9, -999.00,9, -999.00,9,       12.2,2, 20220625,     1931,  30.0010,-145.6232,    12.3694,2,     -999.0,9,     -999.0,9,     -999.0,9,     -999.0,9,     0.0134,1,     4.6865,1,     -999.0,9,     -999.0,9,     -999.0,9,     -999.0,9,     -999.0,9
33RR20220613,       P02E,     145,          1,         28,         28,2,20220625,       1739,    30.0009,  -145.6231,       5130,   286.9,2,  10.8386,2,  34.0674,2,  34.0670,2,    209.5,2,   210.4,2,   12.32,2,   13.17,2,    0.00,2,    0.77,3,   2.906,2,   1.768,2,   2.2473,2,  2105.7,2,  2252.2,2,   7.7466,2,    25.01,2, -999.00,9,  -999.0,9, -999.00,9, -999.00,9,       16.0,2, 20220625,     1929,  30.0010,-145.6232,    10.8079,2,     -999.0,9,     -999.0,9,     -999.0,9,     -999.0,9,     0.0122,1,     4.6913,1,     -999.0,9,     -999.0,9,     -999.0,9,     -999.0,9,     -999.0,9
33RR20220613,       P02E,     145,          1,         27,         27,2,20220625,       1739,    30.0009,  -145.6231,       5130,   337.1,2,   9.8271,2,  34.0589,2,  34.0566,2,    208.6,2,   208.7,2,   17.11,2,   15.72,2,    0.00,2,    0.92,3,   2.997,2,   1.815,2,   2.0264,2,  2121.4,2,  2255.2,2,   7.7144,2,    25.01,2, -999.00,9,  -999.0,9, -999.00,9, -999.00,9,       18.6,2, 20220625,     1927,  30.0010,-145.6232,     9.8239,2,     -999.0,9,     -999.0,9,     -999.0,9,     -999.0,9,     0.0122,1,     4.6932,1,     -999.0,9,     -999.0,9,     -999.0,9,     -999.0,9,     -999.0,9
33RR20220613,       P02E,     145,          1,         26,         26,2,20220625,       1739,    30.0009,  -145.6231,       5130,   388.0,2,   8.9683,2,  34.0242,2,  34.0237,2,    194.7,2,   194.0,2,   23.86,2,   19.06,2,    0.00,2,    1.12,3,   3.002,2,   1.801,2,   1.8006,2,  -999.0,9,  -999.0,9,-999.0000,9,  -999.00,9, -999.00,9,  -999.0,9, -999.00,9, -999.00,9,       21.8,2, 20220625,     1925,  30.0010,-145.6232,     8.9704,2,     -999.0,9,     -999.0,9,     -999.0,9,     -999.0,9,     0.0122,1,     4.6942,1,     -999.0,9,     -999.0,9,     -999.0,9,     -999.0,9,     -999.0,9
33RR20220613,       P02E,     145,          1,         25,         25,2,20220625,       1739,    30.0009,  -145.6231,       5130,   468.7,2,   7.3743,2,  33.9943,2,  33.9937,2,    150.0,2,   149.4,2,   39.80,2,   26.25,2,    0.00,2,    1.61,3,   2.757,2,   1.614,2,   1.1989,2,  2193.5,2,  2272.0,2,   7.5553,2,    25.02,2, -999.00,9,  -999.0,9, -999.00,9, -999.00,9,       27.5,2, 20220625,     1923,  30.0010,-145.6232,     7.4079,2,     -999.0,9,     -999.0,9,     -999.0,9,     -999.0,9,     0.0122,1,     4.6942,1,     -999.0,9,     -999.0,9,     -999.0,9,     -999.0,9,     -999.0,9
33RR20220613,       P02E,     145,          1,         24,         24,2,20220625,       1739,    30.0009,  -145.6231,       5130,   569.3,2,   5.6789,2,  33.9935,2,  33.9927,2,     94.5,2,    94.2,2,   65.03,2,   34.47,2,    0.00,2,    2.22,3,   2.039,2,   1.135,2,   0.6218,2,  2255.7,2,  2290.7,2,   7.4189,2,    25.03,2, -999.00,9,  -999.0,9, -999.00,9, -999.00,9,       35.0,2, 20220625,     1920,  30.0010,-145.6232,     5.6764,2,     -999.0,9,     -999.0,9,     -999.0,9,     -999.0,9,     0.0134,1,     4.6956,1,     -999.0,9,     -999.0,9,     -999.0,9,     -999.0,9,     -999.0,9
33RR20220613,       P02E,     145,          1,         23,         23,2,20220625,       1739,    30.0009,  -145.6231,       5130,   671.3,2,   4.6857,2,  34.0909,2,  34.0899,2,     46.2,2,    46.5,2,   88.00,2,   40.03,2,    0.00,2,    2.67,3,   1.011,2,   0.555,2,   0.1323,2,  -999.0,9,  -999.0,9,-999.0000,9,  -999.00,9, -999.00,9,  -999.0,9, -999.00,9, -999.00,9,       42.4,2, 20220625,     1917,  30.0009,-145.6232,     4.6918,2,     -999.0,9,     -999.0,9,     -999.0,9,     -999.0,9,     0.0134,1,     4.6963,1,     -999.0,9,     -999.0,9,     -999.0,9,     -999.0,9,     -999.0,9
33RR20220613,       P02E,     145,          1,         22,         22,2,20220625,       1739,    30.0009,  -145.6231,       5130,   771.7,2,   4.2498,2,  34.2040,2,  34.2020,2,     20.2,3,    20.6,2,  103.54,2,   42.50,2,    0.00,2,    2.91,3,   0.331,2,   0.188,2,   0.0000,2,  2341.7,2,  2334.3,6,   7.2981,2,    25.02,2, -999.00,9,  -999.0,9, -999.00,9, -999.00,9,       49.0,2, 20220625,     1915,  30.0010,-145.6232,     4.2466,2,     -999.0,9,     -999.0,9,     -999.0,9,     -999.0,9,     0.0134,1,     4.6963,1,     -999.0,9,     -999.0,9,     -999.0,9,     -999.0,9,     -999.0,9
33RR20220613,       P02E,     145,          1,         21,         21,2,20220625,       1739,    30.0009,  -145.6231,       5130,   873.0,2,   3.9541,2,  34.3059,2,  34.3121,2,     12.3,3,    12.2,2,  113.90,2,   43.29,2,    0.00,2,    3.04,4,   0.070,2,   0.043,2,   0.0848,2,  2359.4,2,  2352.7,2,   7.2962,2,    25.05,2, -999.00,9,  -999.0,9, -999.00,9, -999.00,9,       51.2,2, 20220625,     1912,  30.0010,-145.6232,     3.9607,2,     -999.0,9,     -999.0,9,     -999.0,9,     -999.0,9,     0.0134,1,     4.6966,1,     -999.0,9,     -999.0,9,     -999.0,9,     -999.0,9,     -999.0,9
33RR20220613,       P02E,     145,          1,         20,         20,2,20220625,       1739,    30.0009,  -145.6231,       5130,   974.1,2,   3.8131,2,  34.3920,2,  34.3896,2,     16.5,3,    16.3,2,  119.17,2,   43.25,2,    0.00,2,    3.08,4,   0.021,2,   0.015,2,   0.0000,2,  2361.9,2,  2362.7,2,   7.3171,2,    25.04,2, -999.00,9,  -999.0,9, -999.00,9, -999.00,9,       49.5,2, 20220625,     1909,  30.0010,-145.6232,     3.8123,2,     -999.0,9,     -999.0,9,     -999.0,9,     -999.0,9,     0.0134,1,     4.6971,1,     -999.0,9,     -999.0,9,     -999.0,9,     -999.0,9,     -999.0,9
33RR20220613,       P02E,     145,          1,         19,         39,2,20220625,       1739,    30.0009,  -145.6231,       5130,  1075.1,2,   3.5406,2,  34.4487,2,  34.4481,2,     24.7,2,    25.0,2,  125.71,2,   43.02,2,    0.00,2,    3.10,4,   0.011,2,   0.010,2,   0.0000,2,  2366.6,2,  2375.0,2,   7.3382,2,    25.03,2, -999.00,9,  -999.0,9, -999.00,9, -999.00,9,       47.7,2, 20220625,     1907,  30.0009,-145.6232,     3.5391,2,     -999.0,9,     -999.0,9,     -999.0,9,     -999.0,9,     0.0134,1,     4.6971,1,     -999.0,9,     -999.0,9,     -999.0,9,     -999.0,9,     -999.0,9
33RR20220613,       P02E,     145,          1,         18,         18,2,20220625,       1739,    30.0009,  -145.6231,       5130,  1176.4,2,   3.2756,2,  34.4803,2,  34.4787,2,     29.5,2,    29.7,2,  131.97,2,   42.92,2,    0.00,2,    3.12,4,   0.007,2,   0.009,2,   0.0000,2,  -999.0,9,  -999.0,9,-999.0000,9,  -999.00,9, -999.00,9,  -999.0,9, -999.00,9, -999.00,9,       45.2,2, 20220625,     1904,  30.0010,-145.6232,     3.2768,2,     -999.0,9,     -999.0,9,     -999.0,9,     -999.0,9,     0.0134,1,     4.6977,1,     -999.0,9,     -999.0,9,     -999.0,9,     -999.0,9,     -999.0,9
33RR20220613,       P02E,     145,          1,         17,         37,2,20220625,       1739,    30.0009,  -145.6231,       5130,  1278.0,2,   3.0936,2,  34.5126,2,  34.5115,2,     40.2,3,    39.7,2,  135.09,2,   42.38,2,    0.00,2,    3.10,4,   0.005,2,   0.006,2,   0.0000,2,  2370.3,2,  2389.4,2,   7.3698,2,    25.02,2, -999.00,9,  -999.0,9, -999.00,9, -999.00,9,       42.0,2, 20220625,     1901,  30.0010,-145.6232,     3.0897,2,     -999.0,9,     -999.0,9,     -999.0,9,     -999.0,9,     0.0132,1,     4.6983,1,     -999.0,9,     -999.0,9,     -999.0,9,     -999.0,9,     -999.0,9
33RR20220613,       P02E,     145,          1,         16,         16,2,20220625,       1739,    30.0009,  -145.6231,       5130,  1379.0,2,   2.8982,2,  34.5383,2,  34.5376,2,     48.9,2,    49.1,2,  138.71,2,   41.88,2,    0.00,2,    3.10,4,   0.004,2,   0.002,2,   0.0000,2,  -999.0,9,  -999.0,9,-999.0000,9,  -999.00,9, -999.00,9,  -999.0,9, -999.00,9, -999.00,9,       39.1,2, 20220625,     1859,  30.0010,-145.6232,     2.8979,2,     -999.0,9,     -999.0,9,     -999.0,9,     -999.0,9,     0.0134,1,     4.6987,1,     -999.0,9,     -999.0,9,     -999.0,9,     -999.0,9,     -999.0,9
33RR20220613,       P02E,     145,          1,         15,         15,2,20220625,       1739,    30.0009,  -145.6231,       5130,  1551.5,2,   2.6229,2,  34.5651,2,  34.5649,2,     58.7,2,    59.3,2,  145.45,2,   41.35,2,    0.00,2,    3.10,4,   0.004,2,   0.003,2,   0.0000,2,  2369.4,2,  2402.6,2,   7.4113,2,    25.03,2, -999.00,9,  -999.0,9, -999.00,9, -999.00,9,       35.4,2, 20220625,     1855,  30.0010,-145.6232,     2.6226,2,     -999.0,9,     -999.0,9,     -999.0,9,     -999.0,9,     0.0134,1,     4.6995,1,     -999.0,9,     -999.0,9,     -999.0,9,     -999.0,9,     -999.0,9
33RR20220613,       P02E,     145,          1,         14,         14,2,20220625,       1739,    30.0009,  -145.6231,       5130,  1754.4,2,   2.2931,2,  34.5894,2,  34.5877,2,     68.3,2,    68.6,2,  153.95,2,   40.85,2,    0.00,2,    3.13,4,-999.000,9,-999.000,9,-999.0000,9,  -999.0,9,  -999.0,9,-999.0000,9,  -999.00,9, -999.00,9,  -999.0,9, -999.00,9, -999.00,9,     -999.0,9, 20220625,     1851,  30.0010,-145.6232,     2.2934,2,     -999.0,9,     -999.0,9,     -999.0,9,     -999.0,9,     0.0134,1,     4.7001,1,     -999.0,9,     -999.0,9,     -999.0,9,     -999.0,9,     -999.0,9
33RR20220613,       P02E,     145,          1,         13,         13,2,20220625,       1739,    30.0009,  -145.6231,       5130,  1956.9,2,   2.0707,2,  34.6099,2,  34.6111,2,     76.5,2,    76.5,2,  160.79,2,   40.30,2,    0.00,2,    3.16,4,   0.003,2,   0.001,2,   0.0000,2,  2372.3,2,  2415.9,2,   7.4432,2,    25.03,2, -999.00,9,  -999.0,9, -999.00,9, -999.00,9,       30.8,2, 20220625,     1846,  30.0010,-145.6232,     2.0682,2,     -999.0,9,     -999.0,9,     -999.0,9,     -999.0,9,     0.0134,1,     4.7006,1,     -999.0,9,     -999.0,9,     -999.0,9,     -999.0,9,     -999.0,9
33RR20220613,       P02E,     145,          1,         12,         12,2,20220625,       1739,    30.0009,  -145.6231,       5130,  2192.1,2,   1.8989,2,  34.6271,2,  34.6262,2,     85.6,2,    85.6,2,  164.99,2,   39.70,2,    0.00,2,    3.17,4,-999.000,9,-999.000,9,-999.0000,9,  -999.0,9,  -999.0,9,-999.0000,9,  -999.00,9, -999.00,9,  -999.0,9, -999.00,9, -999.00,9,     -999.0,9, 20220625,     1840,  30.0010,-145.6232,     1.8992,2,     -999.0,9,     -999.0,9,     -999.0,9,     -999.0,9,     0.0127,1,     4.7010,1,     -999.0,9,     -999.0,9,     -999.0,9,     -999.0,9,     -999.0,9
33RR20220613,       P02E,     145,          1,         11,         11,2,20220625,       1739,    30.0009,  -145.6231,       5130,  2446.0,2,   1.7494,2,  34.6432,2,  34.6421,2,     96.3,2,    96.5,2,  167.82,2,   39.16,2,    0.00,2,    3.15,4,   0.004,2,   0.003,2,   0.0000,2,  2366.8,2,  2427.3,2,   7.4828,2,    24.98,2, -999.00,9,  -999.0,9, -999.00,9, -999.00,9,       29.6,2, 20220625,     1836,  30.0010,-145.6232,     1.7493,2,     -999.0,9,     -999.0,9,     -999.0,9,     -999.0,9,     0.0133,1,     4.7017,1,     -999.0,9,     -999.0,9,     -999.0,9,     -999.0,9,     -999.0,9
33RR20220613,       P02E,     145,          1,         10,         10,2,20220625,       1739,    30.0009,  -145.6231,       5130,  2700.7,2,   1.6503,2,  34.6537,2,  34.6529,2,    105.4,2,   105.3,2,  169.29,2,   38.67,2,    0.00,2,    3.12,4,-999.000,9,-999.000,9,-999.0000,9,  -999.0,9,  -999.0,9,-999.0000,9,  -999.00,9, -999.00,9,  -999.0,9, -999.00,9, -999.00,9,     -999.0,9, 20220625,     1831,  30.0010,-145.6232,     1.6498,2,     -999.0,9,     -999.0,9,     -999.0,9,     -999.0,9,     0.0133,1,     4.7019,1,     -999.0,9,     -999.0,9,     -999.0,9,     -999.0,9,     -999.0,9
33RR20220613,       P02E,     145,          1,          9,          9,2,20220625,       1739,    30.0009,  -145.6231,       5130,  2956.1,2,   1.5680,2,  34.6629,2,  34.6631,2,    115.2,2,   115.1,2,  168.99,2,   38.25,2,    0.00,2,    3.07,4,   0.004,2,   0.000,2,   0.0000,2,  2355.6,2,  2429.0,2,   7.5160,2,    24.99,2, -999.00,9,  -999.0,9, -999.00,9, -999.00,9,       24.8,2, 20220625,     1826,  30.0010,-145.6232,     1.5677,2,     -999.0,9,     -999.0,9,     -999.0,9,     -999.0,9,     0.0125,1,     4.7023,1,     -999.0,9,     -999.0,9,     -999.0,9,     -999.0,9,     -999.0,9
33RR20220613,       P02E,     145,          1,          8,          8,2,20220625,       1739,    30.0009,  -145.6231,       5130,  3247.4,2,   1.4975,2,  34.6725,2,  34.6708,2,    127.5,2,   127.6,2,  165.96,2,   37.41,2,    0.00,2,    2.99,4,-999.000,9,-999.000,9,-999.0000,9,  -999.0,9,  -999.0,9,-999.0000,9,  -999.00,9, -999.00,9,  -999.0,9, -999.00,9, -999.00,9,     -999.0,9, 20220625,     1820,  30.0009,-145.6232,     1.4973,2,     -999.0,9,     -999.0,9,     -999.0,9,     -999.0,9,     0.0125,1,     4.7032,1,     -999.0,9,     -999.0,9,     -999.0,9,     -999.0,9,     -999.0,9
33RR20220613,       P02E,     145,          1,          7,          7,2,20220625,       1739,    30.0009,  -145.6231,       5130,  3554.7,2,   1.4716,2,  34.6785,2,  34.6785,2,    135.8,2,   135.9,2,  163.52,2,   36.89,2,    0.00,2,    2.94,4,   0.006,2,   0.004,2,   0.0000,2,  2342.2,2,  2429.9,6,   7.5536,2,    25.00,2, -999.00,9,  -999.0,9, -999.00,9, -999.00,9,       22.4,2, 20220625,     1814,  30.0010,-145.6232,     1.4715,2,     -999.0,9,     -999.0,9,     -999.0,9,     -999.0,9,     0.0121,1,     4.7034,1,     -999.0,9,     -999.0,9,     -999.0,9,     -999.0,9,     -999.0,9
33RR20220613,       P02E,     145,          1,          6,          6,2,20220625,       1739,    30.0009,  -145.6231,       5130,  3861.6,2,   1.4625,2,  34.6830,3,  34.6802,2,    143.1,2,   143.3,2,  159.80,2,   36.37,2,    0.00,2,    2.89,4,-999.000,9,-999.000,9,-999.0000,9,  -999.0,9,  -999.0,9,-999.0000,9,  -999.00,9, -999.00,9,  -999.0,9, -999.00,9, -999.00,9,     -999.0,9, 20220625,     1808,  30.0010,-145.6232,     1.4622,2,     -999.0,9,     -999.0,9,     -999.0,9,     -999.0,9,     0.0122,1,     4.7037,1,     -999.0,9,     -999.0,9,     -999.0,9,     -999.0,9,     -999.0,9
33RR20220613,       P02E,     145,          1,          5,          5,2,20220625,       1739,    30.0009,  -145.6231,       5130,  4168.4,2,   1.4730,2,  34.6857,2,  34.6857,2,    147.7,2,   147.8,2,  156.58,2,   36.02,2,    0.00,2,    2.85,4,   0.004,2,   0.005,2,   0.0000,2,  2332.8,2,  2427.1,2,   7.5722,2,    25.00,2, -999.00,9,  -999.0,9, -999.00,9, -999.00,9,       22.0,2, 20220625,     1802,  30.0010,-145.6232,     1.4729,2,     -999.0,9,     -999.0,9,     -999.0,9,     -999.0,9,     0.0121,1,     4.7035,1,     -999.0,9,     -999.0,9,     -999.0,9,     -999.0,9,     -999.0,9