BOTTLE,20230830CCHSIOCBG
EXPOCODE,SECT_ID,STNNBR,CASTNO,SAMPNO,BTLNBR,BTLNBR_FLAG_W,DATE,TIME,LATITUDE,LONGITUDE,DEPTH,CTDPRS,CTDPRS_FLAG_W,CTDTMP,CTDTMP_FLAG_W,CTDSAL,CTDSAL_FLAG_W,SALNTY,SALNTY_FLAG_W,CTDOXY,CTDOXY_FLAG_W,OXYGEN,OXYGEN_FLAG_W,SILCAT,SILCAT_FLAG_W,NITRAT,NITRAT_FLAG_W,NITRIT,NITRIT_FLAG_W,PHSPHT,PHSPHT_FLAG_W,CFC-11,CFC-11_FLAG_W,CFC-12,CFC-12_FLAG_W,SF6,SF6_FLAG_W,TCARBN,TCARBN_FLAG_W,ALKALI,ALKALI_FLAG_W,PH_TOT,PH_TOT_FLAG_W,PH_TMP,PH_TMP_FLAG_W,DELC13,DELC13_FLAG_W,DELC14,DELC14_FLAG_W,DOC,DOC_FLAG_W,TDN,TDN_FLAG_W,N2O,N2O_FLAG_W,BTL_DATE,BTL_TIME,BTL_LAT,BTL_LON,REFTMP,REFTMP_FLAG_W,POC,POC_FLAG_W,PON,PON_FLAG_W,POP,POP_FLAG_W,PCOD,PCOD_FLAG_W,CTDFLUOR,CTDFLUOR_FLAG_W,CTDXMISS,CTDXMISS_FLAG_W,HPLC,HPLC_FLAG_W,DNA,DNA_FLAG_W,FCM,FCM_FLAG_W,IMAGES,IMAGES_FLAG_W,VIRAL_ABUNDANCE,VIRAL_ABUNDANCE_FLAG_W
,,,,,,,,,,,METERS,DBAR,,ITS-90,,PSS-78,,PSS-78,,UMOL/KG,,UMOL/KG,,UMOL/KG,,UMOL/KG,,UMOL/KG,,UMOL/KG,,PMOL/KG,,PMOL/KG,,FMOL/KG,,UMOL/KG,,UMOL/KG,,,,DEG C,,/MILLE,,/MILLE,,UMOL/KG,,UMOL/KG,,NMOL/KG,,,,,,ITS-90,,UG/L,,UG/L,,UG/L,,UG/L,,VOLTS,,VOLTS,,,,,,,,,,,
33RR20220613,       P02E,     174,          1,         36,         36,2,20220704,       0640,    30.0009,  -128.8812,       4611,     3.6,2,  19.0430,2,  33.3781,2,  33.3723,2,    237.3,2,   237.0,2,    1.27,2,    0.05,2,    0.00,2,    0.29,2,   2.075,2,   1.308,2,   2.1282,2,  2017.9,6,  2230.6,2,   7.9107,2,    25.00,2, -999.00,1,  -999.0,1, -999.00,1, -999.00,1,        8.1,2, 20220704,      852,  30.0009,-128.8812,    19.0381,2,     -999.0,9,     -999.0,9,     -999.0,9,     -999.0,9,     0.0147,1,     4.6178,1,     -999.0,9,     -999.0,9,     -999.0,9,     -999.0,9,     -999.0,9
33RR20220613,       P02E,     174,          1,         35,         35,2,20220704,       0640,    30.0009,  -128.8812,       4611,    35.9,2,  18.7783,2,  33.4595,2,  33.4461,2,    240.2,2,   240.4,2,    1.08,2,    0.01,2,    0.00,2,    0.28,2,   2.120,2,   1.323,2,   2.0822,2,  2018.0,2,  2236.1,6,   7.9168,2,    25.00,2, -999.00,1,  -999.0,1, -999.00,1, -999.00,1,        8.2,2, 20220704,      850,  30.0009,-128.8812,    18.7827,2,     -999.0,9,     -999.0,9,     -999.0,9,     -999.0,9,     0.0159,1,     4.6189,1,     -999.0,9,     -999.0,9,     -999.0,9,     -999.0,9,     -999.0,9
33RR20220613,       P02E,     174,          1,         34,         34,2,20220704,       0640,    30.0009,  -128.8812,       4611,    60.4,2,  17.2656,2,  33.4686,3,  33.4293,2,    252.6,2,   250.4,2,    1.08,2,    0.01,2,    0.00,2,    0.29,2,   2.298,2,   1.412,2,   2.2525,2,  2017.7,2,  2232.9,2,   7.9160,2,    25.01,2, -999.00,1,  -999.0,1, -999.00,1, -999.00,1,        8.5,2, 20220704,      847,  30.0009,-128.8813,    17.2963,2,     -999.0,9,     -999.0,9,     -999.0,9,     -999.0,9,     0.0183,1,     4.6328,1,     -999.0,9,     -999.0,9,     -999.0,9,     -999.0,9,     -999.0,9
33RR20220613,       P02E,     174,          1,         33,         33,2,20220704,       0640,    30.0009,  -128.8812,       4611,    85.8,2,  15.9548,2,  33.2715,2,  33.2709,2,    253.8,2,   254.1,2,    1.08,2,    0.00,2,    0.00,2,    0.29,2,-999.000,9,-999.000,9,-999.0000,9,  2013.0,2,  2223.1,2,   7.9039,2,    25.00,2, -999.00,1,  -999.0,1, -999.00,1, -999.00,1,     -999.0,9, 20220704,      846,  30.0009,-128.8813,    15.9618,2,     -999.0,9,     -999.0,9,     -999.0,9,     -999.0,9,     0.0253,1,     4.6420,1,     -999.0,9,     -999.0,9,     -999.0,9,     -999.0,9,     -999.0,9
33RR20220613,       P02E,     174,          1,         32,         32,2,20220704,       0640,    30.0009,  -128.8812,       4611,   116.6,2,  13.8855,2,  33.0195,2,  33.0184,2,    254.5,2,   254.1,2,    1.66,2,    0.26,2,    0.03,2,    0.40,2,   2.641,2,   1.595,2,   2.3545,2,  2018.0,2,  2206.7,2,   7.8602,2,    25.00,2, -999.00,1,  -999.0,1, -999.00,1, -999.00,1,       10.9,2, 20220704,      844,  30.0009,-128.8813,    13.9201,2,     -999.0,9,     -999.0,9,     -999.0,9,     -999.0,9,     0.0338,1,     4.6533,1,     -999.0,9,     -999.0,9,     -999.0,9,     -999.0,9,     -999.0,9
33RR20220613,       P02E,     174,          1,         31,         31,2,20220704,       0640,    30.0009,  -128.8812,       4611,   166.2,2,  11.1383,2,  33.2396,2,  33.2401,2,    214.5,2,   215.7,2,    7.82,2,   10.14,2,    0.02,2,    0.97,2,   2.931,2,   1.792,2,   2.3758,2,  2079.2,2,  2211.8,2,   7.7218,2,    25.00,2, -999.00,1,  -999.0,1, -999.00,1, -999.00,1,       14.5,2, 20220704,      841,  30.0009,-128.8812,    11.1296,2,     -999.0,9,     -999.0,9,     -999.0,9,     -999.0,9,     0.0172,1,     4.6799,1,     -999.0,9,     -999.0,9,     -999.0,9,     -999.0,9,     -999.0,9
33RR20220613,       P02E,     174,          1,         30,         17,2,20220704,       0640,    30.0009,  -128.8812,       4611,   216.0,2,   9.3761,2,  33.7462,2,  33.7494,2,    163.9,2,   164.3,2,   21.21,2,   20.88,2,    0.01,2,    1.59,2,   2.965,2,   1.817,2,   1.9433,2,  2153.0,2,  2240.1,2,   7.5832,2,    25.02,2, -999.00,1,  -999.0,1, -999.00,1, -999.00,1,       22.3,2, 20220704,      839,  30.0009,-128.8813,     9.3740,2,     -999.0,9,     -999.0,9,     -999.0,9,     -999.0,9,     0.0122,1,     4.6861,1,     -999.0,9,     -999.0,9,     -999.0,9,     -999.0,9,     -999.0,9
33RR20220613,       P02E,     174,          1,         29,         29,2,20220704,       0640,    30.0009,  -128.8812,       4611,   267.4,2,   8.5677,2,  33.9709,2,  33.9663,2,    139.7,2,   140.1,2,   30.39,2,   24.87,2,    0.01,2,    1.82,2,   2.822,2,   1.721,2,   1.5238,2,  2183.9,2,  2257.5,2,   7.5403,2,    25.02,2, -999.00,1,  -999.0,1, -999.00,1, -999.00,1,       28.2,2, 20220704,      837,  30.0009,-128.8812,     8.5707,2,     -999.0,9,     -999.0,9,     -999.0,9,     -999.0,9,     0.0122,1,     4.6860,1,     -999.0,9,     -999.0,9,     -999.0,9,     -999.0,9,     -999.0,9
33RR20220613,       P02E,     174,          1,         28,         28,2,20220704,       0640,    30.0009,  -128.8812,       4611,   317.6,2,   7.8709,2,  34.0177,2,  34.0213,2,    105.8,2,   105.7,2,   41.13,2,   29.54,2,    0.00,2,    2.16,2,   2.533,2,   1.531,2,   1.0564,2,  2218.9,2,  2268.6,2,   7.4641,2,    25.01,2, -999.00,1,  -999.0,1, -999.00,1, -999.00,1,       34.7,2, 20220704,      835,  30.0009,-128.8812,     7.8709,2,     -999.0,9,     -999.0,9,     -999.0,9,     -999.0,9,     0.0134,1,     4.6865,1,     -999.0,9,     -999.0,9,     -999.0,9,     -999.0,9,     -999.0,9
33RR20220613,       P02E,     174,          1,         27,         27,2,20220704,       0640,    30.0009,  -128.8812,       4611,   367.9,2,   7.0880,2,  34.0479,2,  34.0486,2,     79.4,3,    78.4,2,   52.08,2,   33.21,2,    0.00,2,    2.44,2,   2.130,2,   1.252,2,   0.7224,2,  2249.3,2,  2278.2,2,   7.4042,2,    25.01,2, -999.00,1,  -999.0,1, -999.00,1, -999.00,1,       38.2,2, 20220704,      833,  30.0009,-128.8813,     7.0824,2,     -999.0,9,     -999.0,9,     -999.0,9,     -999.0,9,     0.0133,1,     4.6883,1,     -999.0,9,     -999.0,9,     -999.0,9,     -999.0,9,     -999.0,9
33RR20220613,       P02E,     174,          1,         26,         26,2,20220704,       0640,    30.0009,  -128.8812,       4611,   418.7,2,   6.5005,2,  34.1038,2,  34.0997,2,     50.1,2,    49.9,2,   62.04,2,   36.35,2,    0.00,2,    2.71,2,   1.575,2,   0.926,2,   0.4541,2,  -999.0,9,  -999.0,9,-999.0000,9,  -999.00,9, -999.00,1,  -999.0,1, -999.00,1, -999.00,1,       43.6,2, 20220704,      831,  30.0009,-128.8812,     6.5240,2,     -999.0,9,     -999.0,9,     -999.0,9,     -999.0,9,     0.0134,1,     4.6886,1,     -999.0,9,     -999.0,9,     -999.0,9,     -999.0,9,     -999.0,9
33RR20220613,       P02E,     174,          1,         25,         25,2,20220704,       0640,    30.0009,  -128.8812,       4611,   468.8,2,   6.2029,2,  34.1352,2,  34.1330,2,     37.0,3,    40.7,2,   67.90,2,   37.77,2,    0.00,2,    2.83,2,   1.253,2,   0.728,2,   0.3649,2,  -999.0,9,  -999.0,9,-999.0000,9,  -999.00,9, -999.00,1,  -999.0,1, -999.00,1, -999.00,1,       46.1,2, 20220704,      829,  30.0009,-128.8813,     6.2030,2,     -999.0,9,     -999.0,9,     -999.0,9,     -999.0,9,     0.0134,1,     4.6884,1,     -999.0,9,     -999.0,9,     -999.0,9,     -999.0,9,     -999.0,9
33RR20220613,       P02E,     174,          1,         24,         24,2,20220704,       0640,    30.0009,  -128.8812,       4611,   539.8,2,   5.8255,2,  34.2254,2,  34.2264,2,     18.9,3,    19.3,2,   77.96,2,   39.55,2,    0.00,2,    3.02,2,   0.620,2,   0.353,2,   0.2320,2,  2310.6,2,  2313.6,2,   7.3100,2,    25.02,2, -999.00,1,  -999.0,1, -999.00,1, -999.00,1,       52.4,2, 20220704,      825,  30.0009,-128.8812,     5.8275,2,     -999.0,9,     -999.0,9,     -999.0,9,     -999.0,9,     0.0134,1,     4.6887,1,     -999.0,9,     -999.0,9,     -999.0,9,     -999.0,9,     -999.0,9
33RR20220613,       P02E,     174,          1,         23,         23,2,20220704,       0640,    30.0009,  -128.8812,       4611,   640.9,2,   5.2790,2,  34.3117,2,  34.3091,2,     12.1,2,    12.1,2,   89.67,2,   41.19,2,    0.00,2,    3.15,2,   0.204,2,   0.126,2,   0.1284,2,  2328.3,2,  2330.8,2,   7.3101,2,    25.02,2, -999.00,1,  -999.0,1, -999.00,1, -999.00,1,       55.2,2, 20220704,      822,  30.0009,-128.8813,     5.2739,2,     -999.0,9,     -999.0,9,     -999.0,9,     -999.0,9,     0.0134,1,     4.6892,1,     -999.0,9,     -999.0,9,     -999.0,9,     -999.0,9,     -999.0,9
33RR20220613,       P02E,     174,          1,         22,         22,2,20220704,       0640,    30.0009,  -128.8812,       4611,   741.5,2,   4.8568,2,  34.3680,2,  34.3684,2,     12.3,2,    12.2,2,   98.85,2,   42.11,2,    0.00,2,    3.19,2,   0.079,2,   0.053,2,   0.1558,2,  2340.9,2,  2343.7,2,-999.0000,1,  -999.00,1, -999.00,1,  -999.0,1, -999.00,1, -999.00,1,       55.5,2, 20220704,      818,  30.0009,-128.8812,     4.8566,2,     -999.0,9,     -999.0,9,     -999.0,9,     -999.0,9,     0.0134,1,     4.6909,1,     -999.0,9,     -999.0,9,     -999.0,9,     -999.0,9,     -999.0,9
33RR20220613,       P02E,     174,          1,         21,         21,2,20220704,       0640,    30.0009,  -128.8812,       4611,   842.4,2,   4.5277,2,  34.4121,2,  34.4102,2,     15.1,3,    14.7,2,  105.20,2,   42.61,2,    0.00,2,    3.21,2,   0.035,2,   0.026,2,   0.1799,2,  -999.0,9,  -999.0,9,-999.0000,9,  -999.00,9, -999.00,1,  -999.0,1, -999.00,1, -999.00,1,       55.7,2, 20220704,      814,  30.0009,-128.8812,     4.5352,2,     -999.0,9,     -999.0,9,     -999.0,9,     -999.0,9,     0.0134,1,     4.6920,1,     -999.0,9,     -999.0,9,     -999.0,9,     -999.0,9,     -999.0,9
33RR20220613,       P02E,     174,          1,         20,         20,2,20220704,       0640,    30.0009,  -128.8812,       4611,   943.7,2,   4.1967,2,  34.4427,2,  34.4473,2,     20.1,2,    20.1,2,  111.84,2,   42.92,2,    0.00,2,    3.20,2,   0.019,2,   0.016,2,   0.1543,2,  -999.0,9,  -999.0,9,-999.0000,9,  -999.00,9, -999.00,1,  -999.0,1, -999.00,1, -999.00,1,       54.1,2, 20220704,      810,  30.0009,-128.8812,     4.2002,2,     -999.0,9,     -999.0,9,     -999.0,9,     -999.0,9,     0.0134,1,     4.6922,1,     -999.0,9,     -999.0,9,     -999.0,9,     -999.0,9,     -999.0,9
33RR20220613,       P02E,     174,          1,         19,         39,2,20220704,       0640,    30.0009,  -128.8812,       4611,  1045.3,2,   3.9268,2,  34.4715,2,  34.4744,2,     25.8,2,    25.9,2,  117.70,2,   43.03,2,    0.00,2,    3.18,2,   0.013,2,   0.013,2,   0.0000,2,  2360.4,2,  2371.1,2,   7.3478,2,    25.02,2, -999.00,1,  -999.0,1, -999.00,1, -999.00,1,       51.4,2, 20220704,      808,  30.0009,-128.8813,     3.9244,2,     -999.0,9,     -999.0,9,     -999.0,9,     -999.0,9,     0.0134,1,     4.6934,1,     -999.0,9,     -999.0,9,     -999.0,9,     -999.0,9,     -999.0,9
33RR20220613,       P02E,     174,          1,         18,         18,2,20220704,       0640,    30.0009,  -128.8812,       4611,  1146.4,2,   3.6575,2,  34.4951,2,  34.4972,2,     31.5,2,    31.5,2,  123.65,2,   42.97,2,    0.00,2,    3.16,2,-999.000,9,-999.000,9,-999.0000,9,  2363.3,2,  2378.6,2,   7.3603,2,    25.01,2, -999.00,1,  -999.0,1, -999.00,1, -999.00,1,     -999.0,9, 20220704,      804,  30.0009,-128.8812,     3.6627,2,     -999.0,9,     -999.0,9,     -999.0,9,     -999.0,9,     0.0134,1,     4.6945,1,     -999.0,9,     -999.0,9,     -999.0,9,     -999.0,9,     -999.0,9
33RR20220613,       P02E,     174,          1,         17,         37,2,20220704,       0640,    30.0009,  -128.8812,       4611,  1247.5,2,   3.4238,2,  34.5145,2,  34.5156,2,     36.7,2,    36.8,2,  129.02,2,   42.85,2,    0.00,2,    3.14,2,   0.009,2,   0.013,2,   0.0000,2,  2367.2,2,  2384.4,2,   7.3691,2,    25.00,2, -999.00,1,  -999.0,1, -999.00,1, -999.00,1,       46.6,2, 20220704,      801,  30.0009,-128.8812,     3.4262,2,     -999.0,9,     -999.0,9,     -999.0,9,     -999.0,9,     0.0134,1,     4.6947,1,     -999.0,9,     -999.0,9,     -999.0,9,     -999.0,9,     -999.0,9
33RR20220613,       P02E,     174,          1,         16,         16,2,20220704,       0640,    30.0009,  -128.8812,       4611,  1348.3,2,   3.2101,2,  34.5324,2,  34.5325,2,     40.8,2,    40.7,2,  134.20,2,   42.77,2,    0.00,2,    3.12,2,-999.000,9,-999.000,9,-999.0000,9,  -999.0,9,  -999.0,9,-999.0000,9,  -999.00,9, -999.00,1,  -999.0,1, -999.00,1, -999.00,1,     -999.0,9, 20220704,      758,  30.0009,-128.8813,     3.2097,2,     -999.0,9,     -999.0,9,     -999.0,9,     -999.0,9,     0.0134,1,     4.6931,1,     -999.0,9,     -999.0,9,     -999.0,9,     -999.0,9,     -999.0,9
33RR20220613,       P02E,     174,          1,         15,         15,2,20220704,       0640,    30.0009,  -128.8812,       4611,  1449.7,2,   3.0017,2,  34.5495,2,  34.5500,2,     45.2,2,    45.3,2,  140.06,2,   42.57,2,    0.00,2,    3.10,2,   0.009,2,   0.011,2,   0.0000,2,  2370.7,2,  2396.2,2,   7.3858,2,    24.99,2, -999.00,1,  -999.0,1, -999.00,1, -999.00,1,       43.3,2, 20220704,      754,  30.0009,-128.8813,     3.0010,2,     -999.0,9,     -999.0,9,     -999.0,9,     -999.0,9,     0.0134,1,     4.6956,1,     -999.0,9,     -999.0,9,     -999.0,9,     -999.0,9,     -999.0,9
33RR20220613,       P02E,     174,          1,         14,         42,2,20220704,       0640,    30.0009,  -128.8812,       4611,  1551.9,2,   2.8257,2,  34.5629,2,  34.5635,2,     50.3,2,    50.4,2,  143.86,2,   42.32,2,    0.00,2,    3.06,2,-999.000,9,-999.000,9,-999.0000,9,  2372.6,2,  2402.3,2,   7.3959,2,    25.00,2, -999.00,1,  -999.0,1, -999.00,1, -999.00,1,     -999.0,9, 20220704,      752,  30.0009,-128.8812,     2.8259,2,     -999.0,9,     -999.0,9,     -999.0,9,     -999.0,9,     0.0134,1,     4.6958,1,     -999.0,9,     -999.0,9,     -999.0,9,     -999.0,9,     -999.0,9
33RR20220613,       P02E,     174,          1,         13,         13,2,20220704,       0640,    30.0009,  -128.8812,       4611,  1683.0,2,   2.6082,2,  34.5802,3,  34.5853,2,     57.5,2,    57.5,2,  149.53,2,   41.82,2,    0.00,2,    3.02,2,   0.006,2,   0.008,2,   0.0000,2,  2375.6,2,  2407.6,6,   7.4090,2,    25.01,2, -999.00,9,  -999.0,9, -999.00,1, -999.00,1,       38.0,2, 20220704,      749,  30.0009,-128.8812,     2.6061,2,     -999.0,9,     -999.0,9,     -999.0,9,     -999.0,9,     0.0134,1,     4.6965,1,     -999.0,9,     -999.0,9,     -999.0,9,     -999.0,9,     -999.0,9
33RR20220613,       P02E,     174,          1,         12,         12,2,20220704,       0640,    30.0009,  -128.8812,       4611,  1886.3,2,   2.3063,2,  34.6026,2,  34.6018,2,     70.1,2,    69.9,2,  156.16,2,   41.07,2,    0.00,2,    2.95,2,-999.000,9,-999.000,9,-999.0000,9,  -999.0,9,  -999.0,9,-999.0000,9,  -999.00,9, -999.00,9,  -999.0,9, -999.00,1, -999.00,1,     -999.0,9, 20220704,      744,  30.0009,-128.8813,     2.3059,2,     -999.0,9,     -999.0,9,     -999.0,9,     -999.0,9,     0.0133,1,     4.6981,1,     -999.0,9,     -999.0,9,     -999.0,9,     -999.0,9,     -999.0,9
33RR20220613,       P02E,     174,          1,         11,         11,2,20220704,       0640,    30.0009,  -128.8812,       4611,  2110.7,2,   2.0624,2,  34.6234,2,  34.6238,2,     83.0,2,    83.0,2,  161.14,2,   40.20,2,    0.00,2,    2.87,2,   0.003,2,   0.005,2,   0.0000,2,  2370.5,2,  2421.2,2,   7.4590,2,    24.99,2, -999.00,9,  -999.0,9, -999.00,1, -999.00,1,       31.3,2, 20220704,      739,  30.0009,-128.8812,     2.0628,2,     -999.0,9,     -999.0,9,     -999.0,9,     -999.0,9,     0.0131,1,     4.6995,1,     -999.0,9,     -999.0,9,     -999.0,9,     -999.0,9,     -999.0,9
33RR20220613,       P02E,     174,          1,         10,         10,2,20220704,       0640,    30.0009,  -128.8812,       4611,  2365.1,2,   1.8901,2,  34.6379,2,  34.6374,2,     93.8,2,    93.8,2,  164.36,2,   39.45,2,    0.00,2,    2.80,2,-999.000,9,-999.000,9,-999.0000,9,  -999.0,9,  -999.0,9,-999.0000,9,  -999.00,9, -999.00,9,  -999.0,9, -999.00,1, -999.00,1,     -999.0,9, 20220704,      734,  30.0009,-128.8813,     1.8900,2,     -999.0,9,     -999.0,9,     -999.0,9,     -999.0,9,     0.0134,1,     4.6997,1,     -999.0,9,     -999.0,9,     -999.0,9,     -999.0,9,     -999.0,9
33RR20220613,       P02E,     174,          1,          9,          9,2,20220704,       0640,    30.0009,  -128.8812,       4611,  2619.4,2,   1.7507,2,  34.6488,3,  34.6512,2,    103.2,2,   103.3,2,  166.90,2,   38.77,2,    0.00,2,    2.75,2,   0.004,2,   0.005,2,   0.0000,2,  2364.3,2,  2428.9,2,   7.4972,2,    25.00,2, -999.00,9,  -999.0,9, -999.00,1, -999.00,1,       27.8,2, 20220704,      728,  30.0009,-128.8813,     1.7506,2,     -999.0,9,     -999.0,9,     -999.0,9,     -999.0,9,     0.0133,1,     4.7004,1,     -999.0,9,     -999.0,9,     -999.0,9,     -999.0,9,     -999.0,9
33RR20220613,       P02E,     174,          1,          8,          8,2,20220704,       0640,    30.0009,  -128.8812,       4611,  2874.6,2,   1.6451,2,  34.6575,2,  34.6576,2,    111.8,2,   111.8,2,  169.34,2,   38.21,2,    0.00,2,    2.71,2,-999.000,9,-999.000,9,-999.0000,9,  -999.0,9,  -999.0,9,-999.0000,9,  -999.00,9, -999.00,1,  -999.0,1, -999.00,1, -999.00,1,     -999.0,9, 20220704,      722,  30.0009,-128.8813,     1.6452,2,     -999.0,9,     -999.0,9,     -999.0,9,     -999.0,9,     0.0128,1,     4.7007,1,     -999.0,9,     -999.0,9,     -999.0,9,     -999.0,9,     -999.0,9
33RR20220613,       P02E,     174,          1,          7,          7,2,20220704,       0640,    30.0009,  -128.8812,       4611,  3145.8,2,   1.5572,2,  34.6664,2,  34.6671,2,    121.5,2,   121.5,2,  169.05,2,   37.64,2,    0.00,2,    2.65,2,   0.004,2,   0.005,2,   0.0000,2,  2351.6,2,  2429.8,2,   7.5297,2,    24.98,2, -999.00,1,  -999.0,1, -999.00,1, -999.00,1,       25.8,2, 20220704,      716,  30.0009,-128.8812,     1.5573,2,     -999.0,9,     -999.0,9,     -999.0,9,     -999.0,9,     0.0130,1,     4.7009,1,     -999.0,9,     -999.0,9,     -999.0,9,     -999.0,9,     -999.0,9
33RR20220613,       P02E,     174,          1,          6,          6,2,20220704,       0640,    30.0009,  -128.8812,       4611,  3452.7,2,   1.5185,2,  34.6726,2,  34.6730,2,    129.0,2,   129.0,2,  168.56,2,   37.20,2,    0.00,2,    2.61,2,-999.000,9,-999.000,9,-999.0000,9,  -999.0,9,  -999.0,9,-999.0000,9,  -999.00,9, -999.00,1,  -999.0,1, -999.00,1, -999.00,1,     -999.0,9, 20220704,      709,  30.0009,-128.8813,     1.5183,2,     -999.0,9,     -999.0,9,     -999.0,9,     -999.0,9,     0.0122,1,     4.7018,1,     -999.0,9,     -999.0,9,     -999.0,9,     -999.0,9,     -999.0,9
33RR20220613,       P02E,     174,          1,          5,          5,2,20220704,       0640,    30.0009,  -128.8812,       4611,  3759.5,2,   1.5011,2,  34.6778,2,  34.6781,2,    135.5,2,   135.7,2,  166.21,2,   36.83,2,    0.00,2,    2.58,2,   0.005,2,   0.000,2,   0.0000,2,  2344.4,2,  2431.5,2,   7.5561,2,    24.97,2, -999.00,1,  -999.0,1, -999.00,1, -999.00,1,       23.5,2, 20220704,      703,  30.0009,-128.8813,     1.5010,2,     -999.0,9,     -999.0,9,     -999.0,9,     -999.0,9,     0.0122,1,     4.7019,1,     -999.0,9,     -999.0,9,     -999.0,9,     -999.0,9,     -999.0,9