BOTTLE,20230830CCHSIOCBG
EXPOCODE,SECT_ID,STNNBR,CASTNO,SAMPNO,BTLNBR,BTLNBR_FLAG_W,DATE,TIME,LATITUDE,LONGITUDE,DEPTH,CTDPRS,CTDPRS_FLAG_W,CTDTMP,CTDTMP_FLAG_W,CTDSAL,CTDSAL_FLAG_W,SALNTY,SALNTY_FLAG_W,CTDOXY,CTDOXY_FLAG_W,OXYGEN,OXYGEN_FLAG_W,SILCAT,SILCAT_FLAG_W,NITRAT,NITRAT_FLAG_W,NITRIT,NITRIT_FLAG_W,PHSPHT,PHSPHT_FLAG_W,CFC-11,CFC-11_FLAG_W,CFC-12,CFC-12_FLAG_W,SF6,SF6_FLAG_W,TCARBN,TCARBN_FLAG_W,ALKALI,ALKALI_FLAG_W,PH_TOT,PH_TOT_FLAG_W,PH_TMP,PH_TMP_FLAG_W,DELC13,DELC13_FLAG_W,DELC14,DELC14_FLAG_W,DOC,DOC_FLAG_W,TDN,TDN_FLAG_W,N2O,N2O_FLAG_W,BTL_DATE,BTL_TIME,BTL_LAT,BTL_LON,REFTMP,REFTMP_FLAG_W,POC,POC_FLAG_W,PON,PON_FLAG_W,POP,POP_FLAG_W,PCOD,PCOD_FLAG_W,CTDFLUOR,CTDFLUOR_FLAG_W,CTDXMISS,CTDXMISS_FLAG_W,HPLC,HPLC_FLAG_W,DNA,DNA_FLAG_W,FCM,FCM_FLAG_W,IMAGES,IMAGES_FLAG_W,VIRAL_ABUNDANCE,VIRAL_ABUNDANCE_FLAG_W
,,,,,,,,,,,METERS,DBAR,,ITS-90,,PSS-78,,PSS-78,,UMOL/KG,,UMOL/KG,,UMOL/KG,,UMOL/KG,,UMOL/KG,,UMOL/KG,,PMOL/KG,,PMOL/KG,,FMOL/KG,,UMOL/KG,,UMOL/KG,,,,DEG C,,/MILLE,,/MILLE,,UMOL/KG,,UMOL/KG,,NMOL/KG,,,,,,ITS-90,,UG/L,,UG/L,,UG/L,,UG/L,,VOLTS,,VOLTS,,,,,,,,,,,
33RR20220613,       P02E,     137,          3,          4,          4,2,20220623,       0953,    30.0002,  -150.2433,       6180,   201.9,2,  16.5526,2,  34.5183,2,  34.5125,2,    216.5,3,   216.4,2,    2.44,2,    1.68,2,    0.00,2,    0.16,3,   2.292,2,   1.446,2,   2.1296,2,  2057.3,2,  2271.2,2,   7.8960,2,    25.03,2, -999.00,9,  -999.0,9, -999.00,9, -999.00,9,        9.8,2, 20220623,      958,  30.0002,-150.2433,    16.5026,2,     -999.0,9,     -999.0,9,     -999.0,9,     -999.0,9,     0.0177,1,     4.6800,1,     -999.0,9,     -999.0,9,     -999.0,9,     -999.0,9,     -999.0,9
33RR20220613,       P02E,     137,          3,          3,          3,2,20220623,       0953,    30.0002,  -150.2433,       6180,   252.4,2,  14.0953,2,  34.3043,2,  34.3062,2,    212.7,3,   211.8,2,    5.38,2,    5.44,2,    0.00,2,    0.37,2,   2.600,2,   1.588,2,   2.0483,2,  2070.0,2,  2258.8,2,   7.8371,2,    24.94,2, -999.00,9,  -999.0,9, -999.00,9, -999.00,9,       12.1,2, 20220623,      956,  30.0002,-150.2432,    14.0840,2,     -999.0,9,     -999.0,9,     -999.0,9,     -999.0,9,     0.0122,1,     4.6843,1,     -999.0,9,     -999.0,9,     -999.0,9,     -999.0,9,     -999.0,9
33RR20220613,       P02E,     137,          3,          2,          2,2,20220623,       0953,    30.0002,  -150.2433,       6180,   302.4,2,  12.2336,2,  34.1844,2,  34.1830,2,    213.4,3,   212.0,2,    9.19,2,    9.53,2,    0.00,2,    0.60,2,-999.000,5,-999.000,5,-999.0000,5,  -999.0,9,  2255.9,2,   7.7893,2,    25.04,2, -999.00,9,  -999.0,9, -999.00,9, -999.00,9,     -999.0,5, 20220623,      955,  30.0002,-150.2432,    12.2424,2,     -999.0,9,     -999.0,9,     -999.0,9,     -999.0,9,     0.0122,1,     4.6874,1,     -999.0,9,     -999.0,9,     -999.0,9,     -999.0,9,     -999.0,9
33RR20220613,       P02E,     137,          3,          1,          1,2,20220623,       0953,    30.0002,  -150.2433,       6180,   352.4,2,  11.0792,2,  34.1506,2,  34.1513,2,    212.2,3,   210.1,2,   12.90,2,   12.38,2,    0.00,2,    0.76,2,-999.000,5,-999.000,5,-999.0000,5,  -999.0,9,  2256.3,2,   7.7561,2,    25.04,2, -999.00,9,  -999.0,9, -999.00,9, -999.00,9,     -999.0,5, 20220623,      953,  30.0002,-150.2432,    11.0580,2,     -999.0,9,     -999.0,9,     -999.0,9,     -999.0,9,     0.0122,1,     4.6862,1,     -999.0,9,     -999.0,9,     -999.0,9,     -999.0,9,     -999.0,9