BOTTLE,20230830CCHSIOCBG
EXPOCODE,SECT_ID,STNNBR,CASTNO,SAMPNO,BTLNBR,BTLNBR_FLAG_W,DATE,TIME,LATITUDE,LONGITUDE,DEPTH,CTDPRS,CTDPRS_FLAG_W,CTDTMP,CTDTMP_FLAG_W,CTDSAL,CTDSAL_FLAG_W,SALNTY,SALNTY_FLAG_W,CTDOXY,CTDOXY_FLAG_W,OXYGEN,OXYGEN_FLAG_W,SILCAT,SILCAT_FLAG_W,NITRAT,NITRAT_FLAG_W,NITRIT,NITRIT_FLAG_W,PHSPHT,PHSPHT_FLAG_W,CFC-11,CFC-11_FLAG_W,CFC-12,CFC-12_FLAG_W,SF6,SF6_FLAG_W,TCARBN,TCARBN_FLAG_W,ALKALI,ALKALI_FLAG_W,PH_TOT,PH_TOT_FLAG_W,PH_TMP,PH_TMP_FLAG_W,DELC13,DELC13_FLAG_W,DELC14,DELC14_FLAG_W,DOC,DOC_FLAG_W,TDN,TDN_FLAG_W,N2O,N2O_FLAG_W,BTL_DATE,BTL_TIME,BTL_LAT,BTL_LON,REFTMP,REFTMP_FLAG_W,POC,POC_FLAG_W,PON,PON_FLAG_W,POP,POP_FLAG_W,PCOD,PCOD_FLAG_W,CTDFLUOR,CTDFLUOR_FLAG_W,CTDXMISS,CTDXMISS_FLAG_W,HPLC,HPLC_FLAG_W,DNA,DNA_FLAG_W,FCM,FCM_FLAG_W,IMAGES,IMAGES_FLAG_W,VIRAL_ABUNDANCE,VIRAL_ABUNDANCE_FLAG_W
,,,,,,,,,,,METERS,DBAR,,ITS-90,,PSS-78,,PSS-78,,UMOL/KG,,UMOL/KG,,UMOL/KG,,UMOL/KG,,UMOL/KG,,UMOL/KG,,PMOL/KG,,PMOL/KG,,FMOL/KG,,UMOL/KG,,UMOL/KG,,,,DEG C,,/MILLE,,/MILLE,,UMOL/KG,,UMOL/KG,,NMOL/KG,,,,,,ITS-90,,UG/L,,UG/L,,UG/L,,UG/L,,VOLTS,,VOLTS,,,,,,,,,,,
33RR20220613,       P02E,     184,          1,         36,         36,2,20220707,       0131,    29.9999,  -123.0868,       4125,     3.0,2,  18.1437,2,  33.1250,2,  33.1245,2,    246.5,2,   245.9,2,    0.78,2,    0.00,2,    0.01,2,    0.33,2,   2.314,2,   1.404,2,   2.3228,2,  2016.0,2,  2216.6,2,   7.8930,2,    25.02,2, -999.00,1,  -999.0,1, -999.00,1, -999.00,1,        8.6,2, 20220707,      328,  29.9999,-123.0868,    18.1737,2,     -999.0,9,     -999.0,9,     -999.0,9,     -999.0,9,     0.0203,1,     4.6034,1,     -999.0,9,     -999.0,9,     -999.0,9,     -999.0,9,     -999.0,9
33RR20220613,       P02E,     184,          1,         35,         35,2,20220707,       0131,    29.9999,  -123.0868,       4125,    20.9,2,  16.7629,2,  33.1045,2,  33.1066,2,    253.6,2,   253.2,2,    0.68,2,    0.00,2,    0.01,2,    0.34,2,   2.381,2,   1.461,2,   2.4143,2,  2013.1,6,  2215.3,2,   7.8923,2,    25.01,2, -999.00,1,  -999.0,1, -999.00,1, -999.00,1,        8.8,2, 20220707,      326,  30.0000,-123.0868,    16.7555,2,     -999.0,9,     -999.0,9,     -999.0,9,     -999.0,9,     0.0249,1,     4.5739,1,     -999.0,9,     -999.0,9,     -999.0,9,     -999.0,9,     -999.0,9
33RR20220613,       P02E,     184,          1,         34,         34,2,20220707,       0131,    29.9999,  -123.0868,       4125,    40.7,2,  16.4808,2,  33.2158,2,  33.2127,2,    256.0,2,   256.1,2,    0.49,2,    0.23,2,    0.03,2,    0.37,2,   2.419,2,   1.472,2,   2.3364,2,  2019.3,2,  2219.3,6,   7.8929,2,    25.02,2, -999.00,1,  -999.0,1, -999.00,1, -999.00,1,        9.3,2, 20220707,      324,  30.0000,-123.0868,    16.4774,2,     -999.0,9,     -999.0,9,     -999.0,9,     -999.0,9,     0.0555,1,     4.5490,1,     -999.0,9,     -999.0,9,     -999.0,9,     -999.0,9,     -999.0,9
33RR20220613,       P02E,     184,          1,         33,         33,2,20220707,       0131,    29.9999,  -123.0868,       4125,    65.9,2,  15.1565,2,  33.0759,2,  33.0756,2,    258.1,2,   259.6,2,    0.88,2,    0.52,2,    0.04,2,    0.41,2,-999.000,9,-999.000,9,-999.0000,9,  2019.2,2,  2212.3,2,   7.8743,2,    25.01,2, -999.00,1,  -999.0,1, -999.00,1, -999.00,1,     -999.0,9, 20220707,      322,  30.0000,-123.0868,    15.1460,2,     -999.0,9,     -999.0,9,     -999.0,9,     -999.0,9,     0.0604,1,     4.5817,1,     -999.0,9,     -999.0,9,     -999.0,9,     -999.0,9,     -999.0,9
33RR20220613,       P02E,     184,          1,         32,         32,2,20220707,       0131,    29.9999,  -123.0868,       4125,    90.6,2,  12.9740,2,  33.0695,2,  33.0878,2,    249.1,2,   248.5,2,    2.64,2,    3.77,2,    0.38,2,    0.67,2,   2.817,2,   1.676,2,   2.5808,2,  2047.8,2,  2211.0,2,   7.8095,2,    25.01,2, -999.00,1,  -999.0,1, -999.00,1, -999.00,1,       11.3,2, 20220707,      319,  29.9999,-123.0868,    13.0207,2,     -999.0,9,     -999.0,9,     -999.0,9,     -999.0,9,     0.0287,1,     4.6419,1,     -999.0,9,     -999.0,9,     -999.0,9,     -999.0,9,     -999.0,9
33RR20220613,       P02E,     184,          1,         31,         31,2,20220707,       0131,    29.9999,  -123.0868,       4125,   116.4,2,  13.1936,2,  33.4457,2,  33.4481,2,    240.5,2,   241.4,2,    4.01,2,    7.94,2,    0.51,2,    0.92,2,-999.000,1,-999.000,1,-999.0000,1,  2082.0,2,  2231.2,6,   7.7719,2,    25.01,2, -999.00,1,  -999.0,1, -999.00,1, -999.00,1,     -999.0,1, 20220707,      316,  30.0000,-123.0868,    13.1953,2,     -999.0,9,     -999.0,9,     -999.0,9,     -999.0,9,     0.0248,1,     4.6576,1,     -999.0,9,     -999.0,9,     -999.0,9,     -999.0,9,     -999.0,9
33RR20220613,       P02E,     184,          1,         30,         17,2,20220707,       0131,    29.9999,  -123.0868,       4125,   141.2,2,  11.9291,2,  33.4790,2,  33.4805,2,    215.0,2,   215.1,2,    8.60,2,   13.41,2,    0.04,2,    1.16,2,   2.797,2,   1.702,2,   2.4707,2,  2110.3,2,  2228.1,2,   7.6951,2,    25.02,2, -999.00,1,  -999.0,1, -999.00,1, -999.00,1,       14.7,2, 20220707,      315,  30.0000,-123.0868,    11.9269,2,     -999.0,9,     -999.0,9,     -999.0,9,     -999.0,9,     0.0147,1,     4.6645,1,     -999.0,9,     -999.0,9,     -999.0,9,     -999.0,9,     -999.0,9
33RR20220613,       P02E,     184,          1,         29,         29,2,20220707,       0131,    29.9999,  -123.0868,       4125,   186.0,2,   9.4900,2,  33.7305,2,  33.7466,2,    157.6,2,   156.3,2,   21.41,2,   21.69,2,    0.02,2,    1.61,2,   2.956,2,   1.801,2,   1.9397,2,  2164.7,2,  2239.3,2,   7.5665,2,    25.02,2, -999.00,1,  -999.0,1, -999.00,1, -999.00,1,       22.4,2, 20220707,      313,  30.0000,-123.0868,     9.4797,2,     -999.0,9,     -999.0,9,     -999.0,9,     -999.0,9,     0.0134,1,     4.6735,1,     -999.0,9,     -999.0,9,     -999.0,9,     -999.0,9,     -999.0,9
33RR20220613,       P02E,     184,          1,         28,         28,2,20220707,       0131,    29.9999,  -123.0868,       4125,   236.2,2,   8.5263,2,  34.0001,2,  34.0037,2,    120.6,3,   117.6,2,   33.33,2,   27.06,2,    0.00,2,    1.95,2,   2.681,2,   1.629,2,   1.3426,2,  2206.0,2,  2260.9,2,   7.4967,2,    25.03,2, -999.00,1,  -999.0,1, -999.00,1, -999.00,1,       30.8,2, 20220707,      311,  30.0000,-123.0868,     8.5099,2,     -999.0,9,     -999.0,9,     -999.0,9,     -999.0,9,     0.0134,1,     4.6740,1,     -999.0,9,     -999.0,9,     -999.0,9,     -999.0,9,     -999.0,9
33RR20220613,       P02E,     184,          1,         27,         27,2,20220707,       0131,    29.9999,  -123.0868,       4125,   287.1,2,   8.2546,2,  34.0874,2,  34.1011,2,     76.5,3,    75.1,2,   41.53,2,   30.70,2,    0.00,2,    2.31,2,   2.208,2,   1.339,2,   0.9254,2,  2245.9,2,  2272.2,2,   7.4185,2,    25.02,2, -999.00,1,  -999.0,1, -999.00,1, -999.00,1,       36.7,2, 20220707,      309,  30.0000,-123.0868,     8.2503,2,     -999.0,9,     -999.0,9,     -999.0,9,     -999.0,9,     0.0134,1,     4.6777,1,     -999.0,9,     -999.0,9,     -999.0,9,     -999.0,9,     -999.0,9
33RR20220613,       P02E,     184,          1,         26,         26,2,20220707,       0131,    29.9999,  -123.0868,       4125,   337.5,2,   7.4892,2,  34.1128,2,  34.1103,2,     59.6,2,    59.7,2,   50.62,2,   33.65,2,    0.00,2,    2.50,2,   1.976,2,   1.142,2,   0.6922,2,  2264.0,2,  2281.1,2,   7.3805,2,    25.02,2, -999.00,1,  -999.0,1, -999.00,1, -999.00,1,       39.1,2, 20220707,      306,  29.9999,-123.0868,     7.4863,2,     -999.0,9,     -999.0,9,     -999.0,9,     -999.0,9,     0.0134,1,     4.6766,1,     -999.0,9,     -999.0,9,     -999.0,9,     -999.0,9,     -999.0,9
33RR20220613,       P02E,     184,          1,         25,         25,2,20220707,       0131,    29.9999,  -123.0868,       4125,   387.9,2,   6.7108,2,  34.1069,2,  34.1085,2,     48.8,2,    49.3,2,   59.61,2,   36.23,2,    0.00,2,    2.67,2,   1.646,2,   0.966,2,   0.5332,2,  -999.0,9,  -999.0,9,-999.0000,9,  -999.00,9, -999.00,1,  -999.0,1, -999.00,1, -999.00,1,       42.0,2, 20220707,      305,  29.9999,-123.0868,     6.7121,2,     -999.0,9,     -999.0,9,     -999.0,9,     -999.0,9,     0.0134,1,     4.6765,1,     -999.0,9,     -999.0,9,     -999.0,9,     -999.0,9,     -999.0,9
33RR20220613,       P02E,     184,          1,         24,         24,2,20220707,       0131,    29.9999,  -123.0868,       4125,   438.1,2,   6.4081,2,  34.1568,2,  34.1558,2,     34.1,3,    35.1,2,   66.35,2,   37.77,2,    0.00,2,    2.78,2,   1.221,2,   0.710,2,   0.3503,2,  2298.1,2,  2297.6,2,   7.3301,2,    25.04,2, -999.00,1,  -999.0,1, -999.00,1, -999.00,1,       44.3,2, 20220707,      302,  30.0000,-123.0868,     6.4035,2,     -999.0,9,     -999.0,9,     -999.0,9,     -999.0,9,     0.0134,1,     4.6772,1,     -999.0,9,     -999.0,9,     -999.0,9,     -999.0,9,     -999.0,9
33RR20220613,       P02E,     184,          1,         23,         23,2,20220707,       0131,    29.9999,  -123.0868,       4125,   488.7,2,   5.9409,2,  34.1694,2,  34.1705,2,     27.5,3,    28.4,2,   74.07,2,   39.31,2,    0.00,2,    2.88,2,   0.964,2,   0.540,2,   0.2628,2,  -999.0,9,  -999.0,9,-999.0000,9,  -999.00,9, -999.00,1,  -999.0,1, -999.00,1, -999.00,1,       47.3,2, 20220707,      300,  30.0000,-123.0868,     5.9401,2,     -999.0,9,     -999.0,9,     -999.0,9,     -999.0,9,     0.0134,1,     4.6800,1,     -999.0,9,     -999.0,9,     -999.0,9,     -999.0,9,     -999.0,9
33RR20220613,       P02E,     184,          1,         22,         22,2,20220707,       0131,    29.9999,  -123.0868,       4125,   569.3,2,   5.4217,2,  34.2515,2,  34.2483,2,     16.4,2,    16.4,2,   84.81,2,   40.95,2,    0.00,2,    3.02,2,-999.000,9,-999.000,9,-999.0000,9,  2326.1,2,  2320.9,2,   7.3080,2,    25.03,2, -999.00,1,  -999.0,1, -999.00,1, -999.00,1,     -999.0,9, 20220707,      257,  30.0000,-123.0868,     5.4269,2,     -999.0,9,     -999.0,9,     -999.0,9,     -999.0,9,     0.0134,1,     4.6824,1,     -999.0,9,     -999.0,9,     -999.0,9,     -999.0,9,     -999.0,9
33RR20220613,       P02E,     184,          1,         21,         21,2,20220707,       0131,    29.9999,  -123.0868,       4125,   670.4,2,   4.9572,2,  34.3331,2,  34.3307,2,     12.4,2,    12.4,2,   95.46,2,   42.33,2,    0.00,2,    3.09,2,   0.130,2,   0.079,2,   0.1591,2,  2339.9,2,  2337.5,2,   7.3126,2,    25.03,2, -999.00,1,  -999.0,1, -999.00,1, -999.00,1,       55.8,2, 20220707,      254,  30.0000,-123.0868,     4.9580,2,     -999.0,9,     -999.0,9,     -999.0,9,     -999.0,9,     0.0134,1,     4.6862,1,     -999.0,9,     -999.0,9,     -999.0,9,     -999.0,9,     -999.0,9
33RR20220613,       P02E,     184,          1,         20,         20,2,20220707,       0131,    29.9999,  -123.0868,       4125,   771.5,2,   4.6280,2,  34.3911,2,  34.3894,2,     14.2,3,    13.8,2,  102.98,2,   42.92,2,    0.00,2,    3.12,2,-999.000,9,-999.000,9,-999.0000,9,  2350.6,2,  2350.2,2,   7.3228,2,    25.02,2, -999.00,1,  -999.0,1, -999.00,1, -999.00,1,     -999.0,9, 20220707,      252,  30.0000,-123.0868,     4.6278,2,     -999.0,9,     -999.0,9,     -999.0,9,     -999.0,9,     0.0134,1,     4.6864,1,     -999.0,9,     -999.0,9,     -999.0,9,     -999.0,9,     -999.0,9
33RR20220613,       P02E,     184,          1,         19,         39,2,20220707,       0131,    29.9999,  -123.0868,       4125,   873.1,2,   4.3562,2,  34.4343,2,  34.4332,2,     17.6,3,    17.2,2,  108.44,2,   43.20,2,    0.00,2,    3.13,2,   0.024,2,   0.022,2,   0.1376,2,  -999.0,9,  -999.0,9,-999.0000,9,  -999.00,9, -999.00,1,  -999.0,1, -999.00,1, -999.00,1,       55.4,2, 20220707,      249,  29.9999,-123.0868,     4.3585,2,     -999.0,9,     -999.0,9,     -999.0,9,     -999.0,9,     0.0134,1,     4.6871,1,     -999.0,9,     -999.0,9,     -999.0,9,     -999.0,9,     -999.0,9
33RR20220613,       P02E,     184,          1,         18,         18,2,20220707,       0131,    29.9999,  -123.0868,       4125,   973.8,2,   3.9757,2,  34.4639,2,  34.4628,2,     23.8,3,    24.4,2,  116.26,2,   43.28,2,    0.00,2,    3.11,2,-999.000,9,-999.000,9,-999.0000,9,  2361.9,2,  2369.6,2,   7.3457,2,    25.02,2, -999.00,1,  -999.0,1, -999.00,1, -999.00,1,     -999.0,9, 20220707,      246,  30.0000,-123.0868,     3.9752,2,     -999.0,9,     -999.0,9,     -999.0,9,     -999.0,9,     0.0134,1,     4.6882,1,     -999.0,9,     -999.0,9,     -999.0,9,     -999.0,9,     -999.0,9
33RR20220613,       P02E,     184,          1,         17,         37,2,20220707,       0131,    29.9999,  -123.0868,       4125,  1075.5,2,   3.6926,2,  34.4948,2,  34.4944,2,     29.1,2,    29.0,2,  123.09,2,   43.19,2,    0.00,2,    3.10,2,   0.015,2,   0.015,2,   0.1911,2,  2363.6,2,  2377.9,2,   7.3553,2,    25.02,2, -999.00,1,  -999.0,1, -999.00,1, -999.00,1,       50.1,2, 20220707,      242,  29.9999,-123.0868,     3.6920,2,     -999.0,9,     -999.0,9,     -999.0,9,     -999.0,9,     0.0134,1,     4.6881,1,     -999.0,9,     -999.0,9,     -999.0,9,     -999.0,9,     -999.0,9
33RR20220613,       P02E,     184,          1,         16,         16,2,20220707,       0131,    29.9999,  -123.0868,       4125,  1175.7,2,   3.4482,2,  34.5206,2,  34.5193,2,     33.3,2,    33.0,2,  129.64,2,   43.07,2,    0.00,2,    3.08,2,-999.000,9,-999.000,9,-999.0000,9,  -999.0,9,  -999.0,9,-999.0000,9,  -999.00,9, -999.00,1,  -999.0,1, -999.00,1, -999.00,1,     -999.0,9, 20220707,      239,  30.0000,-123.0868,     3.4492,2,     -999.0,9,     -999.0,9,     -999.0,9,     -999.0,9,     0.0134,1,     4.6864,1,     -999.0,9,     -999.0,9,     -999.0,9,     -999.0,9,     -999.0,9
33RR20220613,       P02E,     184,          1,         15,         15,2,20220707,       0131,    29.9999,  -123.0868,       4125,  1277.9,2,   3.2212,2,  34.5359,2,  34.5343,2,     38.4,2,    38.8,2,  135.11,2,   42.85,2,    0.00,2,    3.06,2,   0.014,2,   0.000,2,   0.0000,2,  2371.1,2,  2391.5,2,   7.3744,2,    25.02,2, -999.00,1,  -999.0,1, -999.00,1, -999.00,1,       45.0,2, 20220707,      237,  30.0000,-123.0868,     3.2210,2,     -999.0,9,     -999.0,9,     -999.0,9,     -999.0,9,     0.0134,1,     4.6892,1,     -999.0,9,     -999.0,9,     -999.0,9,     -999.0,9,     -999.0,9
33RR20220613,       P02E,     184,          1,         14,         42,2,20220707,       0131,    29.9999,  -123.0868,       4125,  1379.1,2,   3.0077,2,  34.5525,2,  34.5514,2,     43.7,2,    43.8,2,  140.38,2,   42.63,2,    0.00,2,    3.03,2,-999.000,9,-999.000,9,-999.0000,9,  -999.0,9,  -999.0,9,-999.0000,9,  -999.00,9, -999.00,1,  -999.0,1, -999.00,1, -999.00,1,     -999.0,9, 20220707,      234,  29.9999,-123.0868,     3.0067,2,     -999.0,9,     -999.0,9,     -999.0,9,     -999.0,9,     0.0134,1,     4.6892,1,     -999.0,9,     -999.0,9,     -999.0,9,     -999.0,9,     -999.0,9
33RR20220613,       P02E,     184,          1,         13,         13,2,20220707,       0131,    29.9999,  -123.0868,       4125,  1480.5,2,   2.8166,2,  34.5662,2,  34.5641,2,     49.3,2,    49.2,2,  145.07,2,   42.36,2,    0.00,2,    3.00,2,   0.011,2,   0.013,2,   0.0000,2,  2377.3,2,  2401.6,2,   7.3934,2,    25.01,2, -999.00,1,  -999.0,1, -999.00,1, -999.00,1,       40.8,2, 20220707,      231,  30.0000,-123.0868,     2.8151,2,     -999.0,9,     -999.0,9,     -999.0,9,     -999.0,9,     0.0133,1,     4.6899,1,     -999.0,9,     -999.0,9,     -999.0,9,     -999.0,9,     -999.0,9
33RR20220613,       P02E,     184,          1,         12,         12,2,20220707,       0131,    29.9999,  -123.0868,       4125,  1581.5,2,   2.5873,2,  34.5827,2,  34.5824,2,     56.9,2,    56.8,2,  150.44,2,   41.98,2,    0.00,2,    2.95,2,-999.000,9,-999.000,9,-999.0000,9,  -999.0,9,  -999.0,9,-999.0000,9,  -999.00,9, -999.00,1,  -999.0,1, -999.00,1, -999.00,1,     -999.0,9, 20220707,      228,  29.9999,-123.0868,     2.5866,2,     -999.0,9,     -999.0,9,     -999.0,9,     -999.0,9,     0.0134,1,     4.6911,1,     -999.0,9,     -999.0,9,     -999.0,9,     -999.0,9,     -999.0,9
33RR20220613,       P02E,     184,          1,         11,         11,2,20220707,       0131,    29.9999,  -123.0868,       4125,  1754.1,2,   2.3481,2,  34.6052,2,  34.6034,2,     68.2,2,    68.0,2,  154.93,2,   41.30,2,    0.00,2,    2.89,2,   0.006,2,   0.009,2,   0.0000,2,  2374.1,2,  2414.4,2,   7.4323,2,    25.03,2, -999.00,1,  -999.0,1, -999.00,1, -999.00,1,       34.4,2, 20220707,      223,  30.0000,-123.0868,     2.3485,2,     -999.0,9,     -999.0,9,     -999.0,9,     -999.0,9,     0.0134,1,     4.6928,1,     -999.0,9,     -999.0,9,     -999.0,9,     -999.0,9,     -999.0,9
33RR20220613,       P02E,     184,          1,         10,         10,2,20220707,       0131,    29.9999,  -123.0868,       4125,  1958.3,2,   2.1056,2,  34.6262,3,  34.6323,2,     81.7,2,    81.6,2,  159.13,2,   40.43,2,    0.00,2,    2.81,2,-999.000,9,-999.000,9,-999.0000,9,  -999.0,9,  -999.0,9,-999.0000,9,  -999.00,9, -999.00,1,  -999.0,1, -999.00,1, -999.00,1,     -999.0,9, 20220707,      219,  29.9999,-123.0868,     2.1045,2,     -999.0,9,     -999.0,9,     -999.0,9,     -999.0,9,     0.0134,1,     4.6934,1,     -999.0,9,     -999.0,9,     -999.0,9,     -999.0,9,     -999.0,9
33RR20220613,       P02E,     184,          1,          9,          9,2,20220707,       0131,    29.9999,  -123.0868,       4125,  2192.4,2,   1.9466,2,  34.6406,3,  34.6384,2,     92.3,2,    92.3,2,  161.47,2,   39.77,2,    0.00,2,    2.74,2,   0.004,2,   0.005,2,   0.0000,2,  -999.0,9,  -999.0,9,-999.0000,9,  -999.00,9, -999.00,9,  -999.0,9, -999.00,1, -999.00,1,       28.3,2, 20220707,      214,  30.0000,-123.0868,     1.9468,2,     -999.0,9,     -999.0,9,     -999.0,9,     -999.0,9,     0.0134,1,     4.6947,1,     -999.0,9,     -999.0,9,     -999.0,9,     -999.0,9,     -999.0,9
33RR20220613,       P02E,     184,          1,          8,          8,2,20220707,       0131,    29.9999,  -123.0868,       4125,  2445.1,2,   1.8154,2,  34.6530,2,  34.6541,2,    102.7,2,   102.8,2,  162.64,2,   39.06,2,    0.00,2,    2.71,2,-999.000,9,-999.000,9,-999.0000,9,  2362.9,2,  2427.4,2,   7.4981,2,    25.03,2, -999.00,9,  -999.0,9, -999.00,1, -999.00,1,     -999.0,9, 20220707,      208,  30.0000,-123.0868,     1.8162,2,     -999.0,9,     -999.0,9,     -999.0,9,     -999.0,9,     0.0134,1,     4.6957,1,     -999.0,9,     -999.0,9,     -999.0,9,     -999.0,9,     -999.0,9
33RR20220613,       P02E,     184,          1,          7,          7,2,20220707,       0131,    29.9999,  -123.0868,       4125,  2700.7,2,   1.7119,2,  34.6605,2,  34.6596,2,    110.5,2,   110.5,2,  164.69,2,   38.55,2,    0.00,2,    2.66,2,   0.005,2,   0.006,2,   0.0000,2,  2357.7,2,  2428.1,2,   7.5131,2,    25.01,2, -999.00,9,  -999.0,9, -999.00,1, -999.00,1,       24.9,2, 20220707,      202,  29.9999,-123.0868,     1.7116,2,     -999.0,9,     -999.0,9,     -999.0,9,     -999.0,9,     0.0134,1,     4.6968,1,     -999.0,9,     -999.0,9,     -999.0,9,     -999.0,9,     -999.0,9
33RR20220613,       P02E,     184,          1,          6,          6,2,20220707,       0131,    29.9999,  -123.0868,       4125,  2956.2,2,   1.6396,2,  34.6659,2,  34.6647,2,    116.8,2,   116.8,2,  166.25,2,   38.19,2,    0.00,2,    2.63,2,-999.000,9,-999.000,9,-999.0000,9,  2356.3,2,  2429.5,2,   7.5237,2,    25.02,2, -999.00,9,  -999.0,9, -999.00,1, -999.00,1,     -999.0,9, 20220707,      158,  29.9999,-123.0868,     1.6396,2,     -999.0,9,     -999.0,9,     -999.0,9,     -999.0,9,     0.0127,1,     4.6971,1,     -999.0,9,     -999.0,9,     -999.0,9,     -999.0,9,     -999.0,9
33RR20220613,       P02E,     184,          1,          5,          5,2,20220707,       0131,    29.9999,  -123.0868,       4125,  3246.1,2,   1.5699,2,  34.6713,2,  34.6704,2,    123.7,2,   124.1,2,  167.52,2,   37.76,2,    0.00,2,    2.59,2,   0.008,2,   0.010,2,   0.0000,2,  -999.0,9,  -999.0,9,-999.0000,9,  -999.00,9, -999.00,1,  -999.0,1, -999.00,1, -999.00,1,       24.2,2, 20220707,      152,  29.9999,-123.0868,     1.5692,2,     -999.0,9,     -999.0,9,     -999.0,9,     -999.0,9,     0.0122,1,     4.6974,1,     -999.0,9,     -999.0,9,     -999.0,9,     -999.0,9,     -999.0,9