BOTTLE,20230830CCHSIOCBG
EXPOCODE,SECT_ID,STNNBR,CASTNO,SAMPNO,BTLNBR,BTLNBR_FLAG_W,DATE,TIME,LATITUDE,LONGITUDE,DEPTH,CTDPRS,CTDPRS_FLAG_W,CTDTMP,CTDTMP_FLAG_W,CTDSAL,CTDSAL_FLAG_W,SALNTY,SALNTY_FLAG_W,CTDOXY,CTDOXY_FLAG_W,OXYGEN,OXYGEN_FLAG_W,SILCAT,SILCAT_FLAG_W,NITRAT,NITRAT_FLAG_W,NITRIT,NITRIT_FLAG_W,PHSPHT,PHSPHT_FLAG_W,CFC-11,CFC-11_FLAG_W,CFC-12,CFC-12_FLAG_W,SF6,SF6_FLAG_W,TCARBN,TCARBN_FLAG_W,ALKALI,ALKALI_FLAG_W,PH_TOT,PH_TOT_FLAG_W,PH_TMP,PH_TMP_FLAG_W,DELC13,DELC13_FLAG_W,DELC14,DELC14_FLAG_W,DOC,DOC_FLAG_W,TDN,TDN_FLAG_W,N2O,N2O_FLAG_W,BTL_DATE,BTL_TIME,BTL_LAT,BTL_LON,REFTMP,REFTMP_FLAG_W,POC,POC_FLAG_W,PON,PON_FLAG_W,POP,POP_FLAG_W,PCOD,PCOD_FLAG_W,CTDFLUOR,CTDFLUOR_FLAG_W,CTDXMISS,CTDXMISS_FLAG_W,HPLC,HPLC_FLAG_W,DNA,DNA_FLAG_W,FCM,FCM_FLAG_W,IMAGES,IMAGES_FLAG_W,VIRAL_ABUNDANCE,VIRAL_ABUNDANCE_FLAG_W
,,,,,,,,,,,METERS,DBAR,,ITS-90,,PSS-78,,PSS-78,,UMOL/KG,,UMOL/KG,,UMOL/KG,,UMOL/KG,,UMOL/KG,,UMOL/KG,,PMOL/KG,,PMOL/KG,,FMOL/KG,,UMOL/KG,,UMOL/KG,,,,DEG C,,/MILLE,,/MILLE,,UMOL/KG,,UMOL/KG,,NMOL/KG,,,,,,ITS-90,,UG/L,,UG/L,,UG/L,,UG/L,,VOLTS,,VOLTS,,,,,,,,,,,
33RR20220613,       P02E,     194,          4,         33,         33,2,20220710,       0944,    31.8649,  -119.6030,       2271,     5.9,2,  17.2178,2,  33.3566,3,  33.6306,2,    247.2,2,   247.5,2,    0.49,2,    0.74,2,    0.04,2,    0.33,2,   2.416,2,   1.397,2,   2.2460,2,  2028.8,6,  2246.1,2,   7.9112,2,    25.00,2, -999.00,9,  -999.0,9, -999.00,1, -999.00,1,        9.7,2, 20220710,     1054,  31.8649,-119.6030,    17.2170,2,     -999.0,9,     -999.0,9,     -999.0,9,     -999.0,9,     0.0423,1,     4.5653,1,     -999.0,9,     -999.0,9,     -999.0,9,     -999.0,9,     -999.0,9
33RR20220613,       P02E,     194,          4,         32,         32,2,20220710,       0944,    31.8649,  -119.6030,       2271,    20.8,2,  16.9834,2,  32.1273,3,  33.6263,2,    249.8,2,   249.1,2,    0.59,2,    1.06,2,    0.05,2,    0.35,2,   2.419,2,   1.423,2,   2.3150,2,  2034.2,2,  2248.3,2,   7.9086,2,    25.00,2, -999.00,9,  -999.0,9, -999.00,1, -999.00,1,        9.9,2, 20220710,     1053,  31.8649,-119.6031,    17.1579,2,     -999.0,9,     -999.0,9,     -999.0,9,     -999.0,9,     0.0421,1,     4.5701,1,     -999.0,9,     -999.0,9,     -999.0,9,     -999.0,9,     -999.0,9
33RR20220613,       P02E,     194,          4,         31,         31,2,20220710,       0944,    31.8649,  -119.6030,       2271,    40.8,2,  14.3416,2,  31.8531,3,  33.6273,2,    260.4,2,   262.3,2,    1.66,2,    5.23,2,    0.23,2,    0.69,2,   2.761,2,   1.581,2,   2.5413,2,  2061.3,2,  2247.7,2,   7.8445,2,    24.98,2, -999.00,9,  -999.0,9, -999.00,1, -999.00,1,       12.2,2, 20220710,     1051,  31.8648,-119.6030,    14.6371,2,     -999.0,9,     -999.0,9,     -999.0,9,     -999.0,9,     0.0629,1,     4.5789,1,     -999.0,9,     -999.0,9,     -999.0,9,     -999.0,9,     -999.0,9
33RR20220613,       P02E,     194,          4,         30,         17,2,20220710,       0944,    31.8649,  -119.6030,       2271,    64.6,2,  11.3970,2,  33.1498,3,  33.5843,2,    193.3,3,   191.2,2,   12.52,2,   15.98,2,    0.17,2,    1.35,2,   2.908,2,   1.713,2,   2.3514,2,  2130.4,2,  2234.0,6,   7.6447,2,    24.99,2, -999.00,9,  -999.0,9, -999.00,1, -999.00,1,       17.4,2, 20220710,     1050,  31.8649,-119.6031,    11.4835,2,     -999.0,9,     -999.0,9,     -999.0,9,     -999.0,9,     0.0295,1,     4.6428,1,     -999.0,9,     -999.0,9,     -999.0,9,     -999.0,9,     -999.0,9
33RR20220613,       P02E,     194,          4,         29,         29,2,20220710,       0944,    31.8649,  -119.6030,       2271,    91.2,2,  10.1714,2,  33.5270,3,  33.7979,2,    148.6,3,   147.1,2,   21.90,2,   22.10,2,    0.02,2,    1.73,2,   2.914,2,   1.695,2,   1.9560,2,  2173.8,2,  2243.9,2,   7.5437,2,    25.00,2, -999.00,9,  -999.0,9, -999.00,1, -999.00,1,       23.8,2, 20220710,     1048,  31.8649,-119.6031,    10.2575,2,     -999.0,9,     -999.0,9,     -999.0,9,     -999.0,9,     0.0148,1,     4.6678,1,     -999.0,9,     -999.0,9,     -999.0,9,     -999.0,9,     -999.0,9
33RR20220613,       P02E,     194,          4,         28,         28,2,20220710,       0944,    31.8649,  -119.6030,       2271,   116.1,2,   9.6030,2,  33.5797,3,  33.9085,2,    121.6,3,   120.2,2,   26.40,2,   24.41,2,    0.03,2,    1.89,2,   2.758,2,   1.624,2,   1.6327,2,  2191.5,2,  2250.3,2,   7.5032,2,    24.99,2, -999.00,9,  -999.0,9, -999.00,1, -999.00,1,       27.7,2, 20220710,     1046,  31.8649,-119.6031,     9.7492,2,     -999.0,9,     -999.0,9,     -999.0,9,     -999.0,9,     0.0134,1,     4.6728,1,     -999.0,9,     -999.0,9,     -999.0,9,     -999.0,9,     -999.0,9
33RR20220613,       P02E,     194,          4,         27,         27,2,20220710,       0944,    31.8649,  -119.6030,       2271,   141.7,2,   9.0165,2,  33.7828,3,  34.0145,2,    102.2,2,   102.0,2,   32.36,2,   26.64,2,    0.00,2,    2.04,2,   2.650,2,   1.555,2,   1.2583,2,  2213.4,2,  2258.4,2,   7.4736,2,    24.99,2, -999.00,9,  -999.0,9, -999.00,1, -999.00,1,       31.5,2, 20220710,     1045,  31.8649,-119.6031,     9.1020,2,     -999.0,9,     -999.0,9,     -999.0,9,     -999.0,9,     0.0134,1,     4.6695,1,     -999.0,9,     -999.0,9,     -999.0,9,     -999.0,9,     -999.0,9
33RR20220613,       P02E,     194,          4,         26,         26,2,20220710,       0944,    31.8649,  -119.6030,       2271,   166.3,2,   8.5963,2,  34.0524,3,  34.0566,2,     97.5,3,    99.1,2,   36.17,2,   27.83,2,    0.00,2,    2.11,2,   2.579,2,   1.504,2,   1.1573,2,  2220.7,2,  2265.8,2,   7.4663,2,    24.99,2, -999.00,9,  -999.0,9, -999.00,1, -999.00,1,       33.3,2, 20220710,     1043,  31.8649,-119.6030,     8.6090,2,     -999.0,9,     -999.0,9,     -999.0,9,     -999.0,9,     0.0134,1,     4.6718,1,     -999.0,9,     -999.0,9,     -999.0,9,     -999.0,9,     -999.0,9
33RR20220613,       P02E,     194,          4,         25,         25,2,20220710,       0944,    31.8649,  -119.6030,       2271,   191.9,2,   8.4739,2,  34.0658,3,  34.1485,2,     62.3,3,    63.8,2,   42.23,2,   30.32,2,    0.00,2,    2.40,2,   2.112,6,   1.228,6,   0.8159,6,  2247.0,2,  2275.1,2,   7.4044,2,    24.99,2, -999.00,9,  -999.0,9, -999.00,1, -999.00,1,       38.1,6, 20220710,     1042,  31.8648,-119.6030,     8.5351,2,     -999.0,9,     -999.0,9,     -999.0,9,     -999.0,9,     0.0134,1,     4.6687,1,     -999.0,9,     -999.0,9,     -999.0,9,     -999.0,9,     -999.0,9
33RR20220613,       P02E,     194,          4,         24,         24,2,20220710,       0944,    31.8649,  -119.6030,       2271,   217.2,2,   8.1982,2,  34.1428,3,  34.1760,2,     50.8,3,    52.3,2,   45.94,2,   31.60,2,    0.00,2,    2.52,2,   1.889,2,   1.095,2,   0.7141,2,  2260.3,2,  2279.8,2,   7.3810,2,    25.00,2, -999.00,9,  -999.0,9, -999.00,1, -999.00,1,       39.7,2, 20220710,     1040,  31.8649,-119.6031,     8.2070,2,     -999.0,9,     -999.0,9,     -999.0,9,     -999.0,9,     0.0134,1,     4.6741,1,     -999.0,9,     -999.0,9,     -999.0,9,     -999.0,9,     -999.0,9
33RR20220613,       P02E,     194,          4,         23,         23,2,20220710,       0944,    31.8649,  -119.6030,       2271,   242.8,2,   8.0222,2,  34.1076,3,  34.1903,2,     45.7,3,    47.0,2,   48.19,2,   32.31,2,    0.00,2,    2.59,2,   1.740,2,   1.011,2,   0.5850,2,  2262.4,2,  2282.8,2,   7.3715,2,    25.00,2, -999.00,9,  -999.0,9, -999.00,1, -999.00,1,       40.8,2, 20220710,     1039,  31.8649,-119.6031,     8.0212,2,     -999.0,9,     -999.0,9,     -999.0,9,     -999.0,9,     0.0134,1,     4.6763,1,     -999.0,9,     -999.0,9,     -999.0,9,     -999.0,9,     -999.0,9
33RR20220613,       P02E,     194,          4,         22,         22,2,20220710,       0944,    31.8649,  -119.6030,       2271,   287.4,2,   7.6236,2,  34.0908,3,  34.2126,2,     36.0,3,    37.8,2,   53.86,2,   33.92,2,    0.00,2,    2.69,2,   1.450,2,   0.834,2,   0.4873,2,  2277.0,2,  2290.6,2,   7.3536,2,    25.00,2, -999.00,9,  -999.0,9, -999.00,1, -999.00,1,       44.2,2, 20220710,     1037,  31.8649,-119.6031,     7.6485,2,     -999.0,9,     -999.0,9,     -999.0,9,     -999.0,9,     0.0134,1,     4.6780,1,     -999.0,9,     -999.0,9,     -999.0,9,     -999.0,9,     -999.0,9
33RR20220613,       P02E,     194,          4,         21,         21,2,20220710,       0944,    31.8649,  -119.6030,       2271,   337.6,2,   7.0797,2,  34.0281,3,  34.2183,2,     29.9,3,    30.7,2,   59.72,2,   35.58,2,    0.00,2,    2.79,2,   1.202,2,   0.677,2,   0.4117,2,  2287.8,2,  2296.2,2,   7.3399,2,    25.00,2, -999.00,9,  -999.0,9, -999.00,1, -999.00,1,       45.9,2, 20220710,     1036,  31.8649,-119.6031,     7.1235,2,     -999.0,9,     -999.0,9,     -999.0,9,     -999.0,9,     0.0134,1,     4.6779,1,     -999.0,9,     -999.0,9,     -999.0,9,     -999.0,9,     -999.0,9
33RR20220613,       P02E,     194,          4,         20,         20,2,20220710,       0944,    31.8649,  -119.6030,       2271,   388.2,2,   6.4888,2,  34.1275,3,  34.2022,2,     28.2,2,    28.3,2,   66.76,2,   37.41,2,    0.00,2,    2.87,2,   1.028,2,   0.562,2,   0.3462,2,  2293.7,2,  2300.3,2,   7.3291,2,    24.99,2, -999.00,9,  -999.0,9, -999.00,1, -999.00,1,       49.3,2, 20220710,     1034,  31.8649,-119.6031,     6.5000,2,     -999.0,9,     -999.0,9,     -999.0,9,     -999.0,9,     0.0134,1,     4.6791,1,     -999.0,9,     -999.0,9,     -999.0,9,     -999.0,9,     -999.0,9
33RR20220613,       P02E,     194,          4,         19,         39,2,20220710,       0944,    31.8649,  -119.6030,       2271,   439.0,2,   6.2216,2,  34.1629,3,  34.2544,2,     19.3,2,    19.2,2,   72.62,2,   38.58,2,    0.00,2,    2.98,2,   0.637,2,   0.344,2,   0.2100,2,  2313.3,2,  2311.1,2,   7.3191,2,    24.99,2, -999.00,9,  -999.0,9, -999.00,1, -999.00,1,       52.7,2, 20220710,     1032,  31.8648,-119.6030,     6.2345,2,     -999.0,9,     -999.0,9,     -999.0,9,     -999.0,9,     0.0134,1,     4.6801,1,     -999.0,9,     -999.0,9,     -999.0,9,     -999.0,9,     -999.0,9
33RR20220613,       P02E,     194,          4,         18,         18,2,20220710,       0944,    31.8649,  -119.6030,       2271,   489.4,2,   6.0111,2,  34.1729,3,  34.2993,2,     14.8,3,    13.9,2,   77.41,2,   39.40,2,    0.00,2,    3.06,2,   0.389,2,   0.218,2,   0.1952,2,  2321.3,2,  2318.5,2,   7.3163,2,    25.00,2, -999.00,9,  -999.0,9, -999.00,1, -999.00,1,       55.7,2, 20220710,     1030,  31.8648,-119.6030,     6.0211,2,     -999.0,9,     -999.0,9,     -999.0,9,     -999.0,9,     0.0134,1,     4.6812,1,     -999.0,9,     -999.0,9,     -999.0,9,     -999.0,9,     -999.0,9
33RR20220613,       P02E,     194,          4,         17,         37,2,20220710,       0944,    31.8649,  -119.6030,       2271,   570.0,2,   5.6560,2,  34.2030,3,  34.3476,2,     11.3,3,    10.8,2,   84.25,2,   40.43,2,    0.00,2,    3.12,2,   0.191,2,   0.108,2,   0.1463,2,  2329.4,2,  2328.3,2,   7.3167,2,    25.00,2, -999.00,9,  -999.0,9, -999.00,1, -999.00,1,       58.3,2, 20220710,     1028,  31.8649,-119.6031,     5.6775,2,     -999.0,9,     -999.0,9,     -999.0,9,     -999.0,9,     0.0134,1,     4.6816,1,     -999.0,9,     -999.0,9,     -999.0,9,     -999.0,9,     -999.0,9
33RR20220613,       P02E,     194,          4,         16,         16,2,20220710,       0944,    31.8649,  -119.6030,       2271,   671.4,2,   5.1261,2,  34.3587,3,  34.3994,2,     12.2,3,    11.5,2,   93.91,2,   41.71,2,    0.00,2,    3.14,2,   0.064,2,   0.042,2,   0.0710,2,  2345.3,2,  2342.5,2,   7.3237,2,    25.00,2, -999.00,9,  -999.0,9, -999.00,1, -999.00,1,       58.8,2, 20220710,     1025,  31.8649,-119.6031,     5.1360,2,     -999.0,9,     -999.0,9,     -999.0,9,     -999.0,9,     0.0134,1,     4.6831,1,     -999.0,9,     -999.0,9,     -999.0,9,     -999.0,9,     -999.0,9
33RR20220613,       P02E,     194,          4,         15,         15,2,20220710,       0944,    31.8649,  -119.6030,       2271,   771.7,2,   4.7657,2,  34.4111,3,  34.4296,2,     14.6,2,    14.5,2,  101.14,2,   42.41,2,    0.00,2,    3.15,2,   0.036,2,   0.026,2,   0.1206,2,  2346.7,2,  2352.3,2,   7.3308,2,    25.00,2, -999.00,9,  -999.0,9, -999.00,1, -999.00,1,       57.5,2, 20220710,     1023,  31.8649,-119.6030,     4.7737,2,     -999.0,9,     -999.0,9,     -999.0,9,     -999.0,9,     0.0134,1,     4.6839,1,     -999.0,9,     -999.0,9,     -999.0,9,     -999.0,9,     -999.0,9
33RR20220613,       P02E,     194,          4,         14,         42,2,20220710,       0944,    31.8649,  -119.6030,       2271,   872.4,2,   4.4333,2,  34.4352,3,  34.4555,2,     18.2,3,    17.7,2,  107.59,2,   42.84,2,    0.00,2,    3.16,2,   0.026,2,   0.020,2,   0.1411,2,  2349.7,2,  2359.5,2,   7.3352,2,    24.99,2, -999.00,9,  -999.0,9, -999.00,1, -999.00,1,       56.0,2, 20220710,     1020,  31.8648,-119.6030,     4.4344,2,     -999.0,9,     -999.0,9,     -999.0,9,     -999.0,9,     0.0134,1,     4.6859,1,     -999.0,9,     -999.0,9,     -999.0,9,     -999.0,9,     -999.0,9
33RR20220613,       P02E,     194,          4,         13,         13,2,20220710,       0944,    31.8649,  -119.6030,       2271,   974.5,2,   4.1166,2,  34.4562,3,  34.4769,2,     22.5,3,    21.7,2,  113.65,2,   42.82,2,    0.00,2,    3.15,2,   0.027,2,   0.019,2,   0.1624,2,  2359.2,2,  2367.8,2,   7.3444,2,    25.00,2, -999.00,9,  -999.0,9, -999.00,1, -999.00,1,       53.0,2, 20220710,     1017,  31.8649,-119.6031,     4.1325,2,     -999.0,9,     -999.0,9,     -999.0,9,     -999.0,9,     0.0134,1,     4.6861,1,     -999.0,9,     -999.0,9,     -999.0,9,     -999.0,9,     -999.0,9
33RR20220613,       P02E,     194,          4,         12,         12,2,20220710,       0944,    31.8649,  -119.6030,       2271,  1075.5,2,   3.8961,2,  34.4839,3,  34.4948,2,     26.0,2,    26.0,2,  119.70,2,   42.88,2,    0.00,2,    3.15,2,   0.025,2,   0.022,2,   0.1027,2,  -999.0,9,  -999.0,9,-999.0000,9,  -999.00,9, -999.00,9,  -999.0,9, -999.00,1, -999.00,1,       50.5,2, 20220710,     1015,  31.8648,-119.6030,     3.9100,2,     -999.0,9,     -999.0,9,     -999.0,9,     -999.0,9,     0.0134,1,     4.6869,1,     -999.0,9,     -999.0,9,     -999.0,9,     -999.0,9,     -999.0,9
33RR20220613,       P02E,     194,          4,         11,         11,2,20220710,       0944,    31.8649,  -119.6030,       2271,  1176.6,2,   3.5910,2,  34.4507,3,  34.5176,2,     31.2,3,    31.9,2,  126.35,2,   42.73,2,    0.00,2,    3.13,2,-999.000,9,-999.000,9,-999.0000,9,  2364.2,2,  2383.0,2,   7.3619,2,    25.00,2, -999.00,9,  -999.0,9, -999.00,1, -999.00,1,     -999.0,9, 20220710,     1013,  31.8649,-119.6031,     3.6065,2,     -999.0,9,     -999.0,9,     -999.0,9,     -999.0,9,     0.0134,1,     4.6878,1,     -999.0,9,     -999.0,9,     -999.0,9,     -999.0,9,     -999.0,9
33RR20220613,       P02E,     194,          4,         10,         10,2,20220710,       0944,    31.8649,  -119.6030,       2271,  1277.9,2,   3.3680,2,  34.5166,3,  34.5341,2,     36.1,2,    36.2,2,  131.72,2,   42.53,2,    0.00,2,    3.11,2,   0.027,2,   0.021,2,   0.1114,2,  -999.0,9,  -999.0,9,-999.0000,9,  -999.00,9, -999.00,9,  -999.0,9, -999.00,1, -999.00,1,       45.5,2, 20220710,     1009,  31.8648,-119.6030,     3.3773,2,     -999.0,9,     -999.0,9,     -999.0,9,     -999.0,9,     0.0134,1,     4.6875,1,     -999.0,9,     -999.0,9,     -999.0,9,     -999.0,9,     -999.0,9
33RR20220613,       P02E,     194,          4,          9,          9,2,20220710,       0944,    31.8649,  -119.6030,       2271,  1379.3,2,   3.1602,2,  34.5409,3,  34.5494,2,     41.1,2,    41.4,2,  137.09,2,   42.30,2,    0.00,2,    3.09,2,-999.000,9,-999.000,9,-999.0000,9,  2373.4,2,  2394.5,2,   7.3819,2,    24.99,2, -999.00,9,  -999.0,9, -999.00,1, -999.00,1,     -999.0,9, 20220710,     1007,  31.8649,-119.6031,     3.1769,2,     -999.0,9,     -999.0,9,     -999.0,9,     -999.0,9,     0.0134,1,     4.6859,1,     -999.0,9,     -999.0,9,     -999.0,9,     -999.0,9,     -999.0,9
33RR20220613,       P02E,     194,          4,          8,          8,2,20220710,       0944,    31.8649,  -119.6030,       2271,  1480.5,2,   2.9890,2,  34.5556,3,  34.5618,2,     46.3,2,    46.4,2,  141.39,2,   42.07,2,    0.00,2,    3.06,2,   0.026,2,   0.024,2,   0.1400,2,  -999.0,9,  -999.0,9,-999.0000,9,  -999.00,9, -999.00,9,  -999.0,9, -999.00,1, -999.00,1,       42.9,2, 20220710,     1005,  31.8649,-119.6031,     2.9918,2,     -999.0,9,     -999.0,9,     -999.0,9,     -999.0,9,     0.0134,1,     4.6867,1,     -999.0,9,     -999.0,9,     -999.0,9,     -999.0,9,     -999.0,9
33RR20220613,       P02E,     194,          4,          7,          7,2,20220710,       0944,    31.8649,  -119.6030,       2271,  1582.0,2,   2.8570,2,  34.5670,3,  34.5718,2,     50.7,2,    50.7,2,  144.32,2,   41.90,2,    0.00,2,    3.05,2,-999.000,9,-999.000,9,-999.0000,9,  2369.7,3,  2403.0,2,   7.3963,2,    25.00,2, -999.00,9,  -999.0,9, -999.00,1, -999.00,1,     -999.0,9, 20220710,     1001,  31.8649,-119.6031,     2.8590,2,     -999.0,9,     -999.0,9,     -999.0,9,     -999.0,9,     0.0134,1,     4.6880,1,     -999.0,9,     -999.0,9,     -999.0,9,     -999.0,9,     -999.0,9
33RR20220613,       P02E,     194,          4,          6,          6,2,20220710,       0944,    31.8649,  -119.6030,       2271,  1683.7,2,   2.6693,2,  34.5811,3,  34.5842,2,     56.9,2,    57.3,2,  148.22,2,   41.64,2,    0.00,2,    3.00,2,   0.020,2,   0.019,2,   0.0000,2,  -999.0,9,  -999.0,9,-999.0000,9,  -999.00,9, -999.00,9,  -999.0,9, -999.00,1, -999.00,1,       39.8,2, 20220710,      959,  31.8648,-119.6031,     2.6729,2,     -999.0,9,     -999.0,9,     -999.0,9,     -999.0,9,     0.0134,1,     4.6884,1,     -999.0,9,     -999.0,9,     -999.0,9,     -999.0,9,     -999.0,9
33RR20220613,       P02E,     194,          4,          5,          5,2,20220710,       0944,    31.8649,  -119.6030,       2271,  1785.8,2,   2.5012,2,  34.5900,3,  34.5948,2,     62.9,2,    63.2,2,  152.33,2,   41.43,2,    0.00,2,    2.96,2,-999.000,9,-999.000,9,-999.0000,9,  2375.3,2,  2410.6,2,   7.4214,2,    24.99,2, -999.00,9,  -999.0,9, -999.00,1, -999.00,1,     -999.0,9, 20220710,      957,  31.8649,-119.6030,     2.5057,2,     -999.0,9,     -999.0,9,     -999.0,9,     -999.0,9,     0.0134,1,     4.6879,1,     -999.0,9,     -999.0,9,     -999.0,9,     -999.0,9,     -999.0,9
33RR20220613,       P02E,     194,          4,          4,          4,2,20220710,       0944,    31.8649,  -119.6030,       2271,  1886.2,2,   2.3264,2,  34.6053,3,  34.6054,2,     70.3,2,    70.5,2,  155.94,2,   41.13,2,    0.00,2,    2.91,2,   0.013,2,   0.013,2,   0.0000,2,  -999.0,9,  -999.0,9,-999.0000,9,  -999.00,9, -999.00,9,  -999.0,9, -999.00,1, -999.00,1,       35.6,2, 20220710,      954,  31.8649,-119.6031,     2.3314,2,     -999.0,9,     -999.0,9,     -999.0,9,     -999.0,9,     0.0134,1,     4.6884,1,     -999.0,9,     -999.0,9,     -999.0,9,     -999.0,9,     -999.0,9
33RR20220613,       P02E,     194,          4,          3,          3,2,20220710,       0944,    31.8649,  -119.6030,       2271,  1987.9,2,   2.2141,2,  34.6074,3,  34.6126,2,     75.1,2,    75.0,2,  158.09,2,   40.76,2,    0.00,2,    2.88,2,-999.000,9,-999.000,9,-999.0000,9,  2370.1,2,  2417.3,6,   7.4443,2,    25.00,2, -999.00,9,  -999.0,9, -999.00,1, -999.00,1,     -999.0,9, 20220710,      951,  31.8648,-119.6030,     2.2212,2,     -999.0,9,     -999.0,9,     -999.0,9,     -999.0,9,     0.0134,1,     4.6889,1,     -999.0,9,     -999.0,9,     -999.0,9,     -999.0,9,     -999.0,9
33RR20220613,       P02E,     194,          4,          2,          2,2,20220710,       0944,    31.8649,  -119.6030,       2271,  2110.0,2,   2.0853,2,  34.6184,3,  34.6231,2,     81.6,2,    81.5,2,  160.92,2,   40.43,2,    0.00,2,    2.84,2,   0.007,2,   0.006,2,   0.0000,2,  -999.0,9,  -999.0,9,-999.0000,9,  -999.00,9, -999.00,9,  -999.0,9, -999.00,1, -999.00,1,       33.5,2, 20220710,      948,  31.8649,-119.6030,     2.0930,2,     -999.0,9,     -999.0,9,     -999.0,9,     -999.0,9,     0.0134,1,     4.6908,1,     -999.0,9,     -999.0,9,     -999.0,9,     -999.0,9,     -999.0,9