BOTTLE,20230830CCHSIOCBG
EXPOCODE,SECT_ID,STNNBR,CASTNO,SAMPNO,BTLNBR,BTLNBR_FLAG_W,DATE,TIME,LATITUDE,LONGITUDE,DEPTH,CTDPRS,CTDPRS_FLAG_W,CTDTMP,CTDTMP_FLAG_W,CTDSAL,CTDSAL_FLAG_W,SALNTY,SALNTY_FLAG_W,CTDOXY,CTDOXY_FLAG_W,OXYGEN,OXYGEN_FLAG_W,SILCAT,SILCAT_FLAG_W,NITRAT,NITRAT_FLAG_W,NITRIT,NITRIT_FLAG_W,PHSPHT,PHSPHT_FLAG_W,CFC-11,CFC-11_FLAG_W,CFC-12,CFC-12_FLAG_W,SF6,SF6_FLAG_W,TCARBN,TCARBN_FLAG_W,ALKALI,ALKALI_FLAG_W,PH_TOT,PH_TOT_FLAG_W,PH_TMP,PH_TMP_FLAG_W,DELC13,DELC13_FLAG_W,DELC14,DELC14_FLAG_W,DOC,DOC_FLAG_W,TDN,TDN_FLAG_W,N2O,N2O_FLAG_W,BTL_DATE,BTL_TIME,BTL_LAT,BTL_LON,REFTMP,REFTMP_FLAG_W,POC,POC_FLAG_W,PON,PON_FLAG_W,POP,POP_FLAG_W,PCOD,PCOD_FLAG_W,CTDFLUOR,CTDFLUOR_FLAG_W,CTDXMISS,CTDXMISS_FLAG_W,HPLC,HPLC_FLAG_W,DNA,DNA_FLAG_W,FCM,FCM_FLAG_W,IMAGES,IMAGES_FLAG_W,VIRAL_ABUNDANCE,VIRAL_ABUNDANCE_FLAG_W
,,,,,,,,,,,METERS,DBAR,,ITS-90,,PSS-78,,PSS-78,,UMOL/KG,,UMOL/KG,,UMOL/KG,,UMOL/KG,,UMOL/KG,,UMOL/KG,,PMOL/KG,,PMOL/KG,,FMOL/KG,,UMOL/KG,,UMOL/KG,,,,DEG C,,/MILLE,,/MILLE,,UMOL/KG,,UMOL/KG,,NMOL/KG,,,,,,ITS-90,,UG/L,,UG/L,,UG/L,,UG/L,,VOLTS,,VOLTS,,,,,,,,,,,
33RR20220613,       P02E,     138,          1,          4,          4,2,20220623,       1502,    29.9998,  -149.6680,       5764,  4923.4,2,   1.5234,2,  34.6890,2,  34.6908,2,    155.8,2,   155.9,2,  151.65,2,   35.67,2,    0.00,2,    2.71,4,-999.000,9,-999.000,9,-999.0000,9,  -999.0,9,  -999.0,9,-999.0000,9,  -999.00,9, -999.00,1,  -999.0,1, -999.00,1, -999.00,1,     -999.0,9, 20220623,     1524,  29.9998,-149.6681,     1.5236,2,     -999.0,9,     -999.0,9,     -999.0,9,     -999.0,9,     0.0122,1,     4.7039,1,     -999.0,9,     -999.0,9,     -999.0,9,     -999.0,9,     -999.0,9
33RR20220613,       P02E,     138,          1,          3,          3,2,20220623,       1502,    29.9998,  -149.6680,       5764,  5336.2,2,   1.5551,2,  34.6902,2,  34.6908,2,    159.6,2,   160.3,2,  148.13,2,   35.40,2,    0.00,2,    2.67,4,   0.007,2,   0.007,2,   0.0000,2,  2319.0,2,  2417.0,6,   7.5861,2,    24.92,2, -999.00,1,  -999.0,1, -999.00,1, -999.00,1,       21.3,2, 20220623,     1516,  29.9998,-149.6680,     1.5553,2,     -999.0,9,     -999.0,9,     -999.0,9,     -999.0,9,     0.0122,1,     4.7034,1,     -999.0,9,     -999.0,9,     -999.0,9,     -999.0,9,     -999.0,9
33RR20220613,       P02E,     138,          1,          2,          2,2,20220623,       1502,    29.9998,  -149.6680,       5764,  5610.4,2,   1.5838,2,  34.6909,2,  34.6912,2,    161.0,2,   160.9,2,  146.57,2,   35.26,2,    0.00,2,    2.65,4,-999.000,9,-999.000,9,-999.0000,9,  2317.8,2,  2417.3,2,   7.5886,2,    25.02,2, -999.00,1,  -999.0,1, -999.00,1, -999.00,1,     -999.0,9, 20220623,     1509,  29.9998,-149.6680,     1.5838,2,     -999.0,9,     -999.0,9,     -999.0,9,     -999.0,9,     0.0128,1,     4.7032,1,     -999.0,9,     -999.0,9,     -999.0,9,     -999.0,9,     -999.0,9
33RR20220613,       P02E,     138,          1,          1,          1,2,20220623,       1502,    29.9998,  -149.6680,       5764,  5860.2,2,   1.6172,2,  34.6908,2,  34.6914,2,    161.1,2,   160.9,2,  146.96,2,   35.24,2,    0.00,2,    2.65,4,   0.000,2,   0.006,2,   0.0000,2,  2321.5,6,  2417.9,2,   7.5887,2,    25.01,2, -999.00,1,  -999.0,1, -999.00,1, -999.00,1,       21.7,2, 20220623,     1502,  29.9998,-149.6681,     1.6175,2,     -999.0,9,     -999.0,9,     -999.0,9,     -999.0,9,     0.0122,1,     4.7023,1,     -999.0,9,     -999.0,9,     -999.0,9,     -999.0,9,     -999.0,9