BOTTLE,20230830CCHSIOCBG
EXPOCODE,SECT_ID,STNNBR,CASTNO,SAMPNO,BTLNBR,BTLNBR_FLAG_W,DATE,TIME,LATITUDE,LONGITUDE,DEPTH,CTDPRS,CTDPRS_FLAG_W,CTDTMP,CTDTMP_FLAG_W,CTDSAL,CTDSAL_FLAG_W,SALNTY,SALNTY_FLAG_W,CTDOXY,CTDOXY_FLAG_W,OXYGEN,OXYGEN_FLAG_W,SILCAT,SILCAT_FLAG_W,NITRAT,NITRAT_FLAG_W,NITRIT,NITRIT_FLAG_W,PHSPHT,PHSPHT_FLAG_W,CFC-11,CFC-11_FLAG_W,CFC-12,CFC-12_FLAG_W,SF6,SF6_FLAG_W,TCARBN,TCARBN_FLAG_W,ALKALI,ALKALI_FLAG_W,PH_TOT,PH_TOT_FLAG_W,PH_TMP,PH_TMP_FLAG_W,DELC13,DELC13_FLAG_W,DELC14,DELC14_FLAG_W,DOC,DOC_FLAG_W,TDN,TDN_FLAG_W,N2O,N2O_FLAG_W,BTL_DATE,BTL_TIME,BTL_LAT,BTL_LON,REFTMP,REFTMP_FLAG_W,POC,POC_FLAG_W,PON,PON_FLAG_W,POP,POP_FLAG_W,PCOD,PCOD_FLAG_W,CTDFLUOR,CTDFLUOR_FLAG_W,CTDXMISS,CTDXMISS_FLAG_W,HPLC,HPLC_FLAG_W,DNA,DNA_FLAG_W,FCM,FCM_FLAG_W,IMAGES,IMAGES_FLAG_W,VIRAL_ABUNDANCE,VIRAL_ABUNDANCE_FLAG_W
,,,,,,,,,,,METERS,DBAR,,ITS-90,,PSS-78,,PSS-78,,UMOL/KG,,UMOL/KG,,UMOL/KG,,UMOL/KG,,UMOL/KG,,UMOL/KG,,PMOL/KG,,PMOL/KG,,FMOL/KG,,UMOL/KG,,UMOL/KG,,,,DEG C,,/MILLE,,/MILLE,,UMOL/KG,,UMOL/KG,,NMOL/KG,,,,,,ITS-90,,UG/L,,UG/L,,UG/L,,UG/L,,VOLTS,,VOLTS,,,,,,,,,,,
33RR20220613,       P02E,     152,          2,         36,         36,2,20220627,       2116,    30.0018,  -141.5835,       4787,     3.7,2,  23.2580,2,  35.0006,2,  35.0028,2,    223.5,3,   220.5,2,    0.29,2,    0.00,2,    0.00,2,    0.02,2,   1.768,6,   1.115,6,   1.8224,6,  2044.0,6,  2308.5,2,   7.9794,2,    25.02,2, -999.00,9,  -999.0,9, -999.00,9, -999.00,9,        7.3,6, 20220627,     2327,  30.0018,-141.5835,    23.2527,2,     -999.0,9,     -999.0,9,     -999.0,9,     -999.0,9,     0.0134,1,     4.6204,1,     -999.0,9,     -999.0,9,     -999.0,9,     -999.0,9,     -999.0,9
33RR20220613,       P02E,     152,          2,         35,         35,2,20220627,       2116,    30.0018,  -141.5835,       4787,    25.5,2,  22.2970,2,  34.9503,2,  34.9569,2,    222.1,2,   223.2,2,    0.29,2,    0.02,2,    0.00,2,    0.01,2,   1.777,2,   1.134,2,   1.8922,2,  2039.9,2,  2305.2,2,   7.9788,2,    25.01,2, -999.00,9,  -999.0,9, -999.00,9, -999.00,9,        7.3,2, 20220627,     2325,  30.0018,-141.5835,    22.2969,2,     -999.0,9,     -999.0,9,     -999.0,9,     -999.0,9,     0.0134,1,     4.6320,1,     -999.0,9,     -999.0,9,     -999.0,9,     -999.0,9,     -999.0,9
33RR20220613,       P02E,     152,          2,         34,         34,2,20220627,       2116,    30.0018,  -141.5835,       4787,    50.7,2,  20.5637,2,  34.9288,3,  34.9488,2,    236.2,2,   235.1,2,    0.20,2,    0.02,2,    0.00,2,    0.02,2,   1.955,2,   1.222,2,   1.9414,2,  2035.0,2,  2303.1,2,   7.9847,2,    25.02,2, -999.00,9,  -999.0,9, -999.00,9, -999.00,9,        7.7,2, 20220627,     2322,  30.0018,-141.5835,    20.5769,2,     -999.0,9,     -999.0,9,     -999.0,9,     -999.0,9,     0.0134,1,     4.6395,1,     -999.0,9,     -999.0,9,     -999.0,9,     -999.0,9,     -999.0,9
33RR20220613,       P02E,     152,          2,         33,         33,2,20220627,       2116,    30.0018,  -141.5835,       4787,    76.7,2,  20.0842,2,  34.9269,2,  34.9284,2,    233.5,2,   233.4,2,    0.20,2,    0.01,2,    0.00,2,    0.02,2,   1.943,2,   1.233,2,   1.9014,2,  2037.9,2,  2300.2,2,   7.9801,2,    25.01,2, -999.00,9,  -999.0,9, -999.00,9, -999.00,9,        7.7,2, 20220627,     2320,  30.0018,-141.5835,    20.0775,2,     -999.0,9,     -999.0,9,     -999.0,9,     -999.0,9,     0.0159,1,     4.6430,1,     -999.0,9,     -999.0,9,     -999.0,9,     -999.0,9,     -999.0,9
33RR20220613,       P02E,     152,          2,         32,         32,2,20220627,       2116,    30.0018,  -141.5835,       4787,   100.9,2,  19.3318,2,  34.8074,2,  34.8100,2,    230.5,2,   230.4,2,    0.29,2,    0.01,2,    0.00,2,    0.05,2,   2.018,2,   1.258,2,   2.0673,2,  2037.7,2,  2292.7,2,   7.9657,2,    25.02,2, -999.00,9,  -999.0,9, -999.00,9, -999.00,9,        8.0,2, 20220627,     2318,  30.0018,-141.5835,    19.3287,2,     -999.0,9,     -999.0,9,     -999.0,9,     -999.0,9,     0.0195,1,     4.6477,1,     -999.0,9,     -999.0,9,     -999.0,9,     -999.0,9,     -999.0,9
33RR20220613,       P02E,     152,          2,         31,         31,2,20220627,       2116,    30.0018,  -141.5835,       4787,   151.6,2,  16.6885,2,  34.3995,2,  34.4023,2,    221.4,2,   221.7,2,    1.47,2,    1.10,2,    0.08,2,    0.19,2,   2.257,2,   1.404,2,   2.0841,2,  2049.8,2,  2265.6,6,   7.9025,2,    25.02,2, -999.00,9,  -999.0,9, -999.00,9, -999.00,9,        9.5,2, 20220627,     2315,  30.0018,-141.5835,    16.6912,2,     -999.0,9,     -999.0,9,     -999.0,9,     -999.0,9,     0.0261,1,     4.6664,1,     -999.0,9,     -999.0,9,     -999.0,9,     -999.0,9,     -999.0,9
33RR20220613,       P02E,     152,          2,         30,         17,2,20220627,       2116,    30.0018,  -141.5835,       4787,   202.1,2,  13.2309,2,  34.0515,2,  34.0623,2,    216.4,2,   216.3,2,    4.79,2,    5.93,2,    0.00,2,    0.54,2,   2.653,2,   1.632,2,   2.1495,2,  2069.9,2,  2246.6,2,   7.8175,2,    25.02,2, -999.00,9,  -999.0,9, -999.00,9, -999.00,9,       12.1,2, 20220627,     2313,  30.0018,-141.5835,    13.2248,2,     -999.0,9,     -999.0,9,     -999.0,9,     -999.0,9,     0.0146,1,     4.6812,1,     -999.0,9,     -999.0,9,     -999.0,9,     -999.0,9,     -999.0,9
33RR20220613,       P02E,     152,          2,         29,         29,2,20220627,       2116,    30.0018,  -141.5835,       4787,   252.1,2,  11.7222,2,  34.0523,2,  34.0556,2,    211.8,2,   212.5,2,    8.61,2,   10.35,2,    0.00,2,    0.79,2,   2.840,2,   1.724,2,   2.1432,2,  2091.1,2,  2247.7,2,   7.7740,2,    25.02,2, -999.00,9,  -999.0,9, -999.00,9, -999.00,9,       14.5,2, 20220627,     2310,  30.0018,-141.5835,    11.7284,2,     -999.0,9,     -999.0,9,     -999.0,9,     -999.0,9,     0.0122,1,     4.6863,1,     -999.0,9,     -999.0,9,     -999.0,9,     -999.0,9,     -999.0,9
33RR20220613,       P02E,     152,          2,         28,         28,2,20220627,       2116,    30.0018,  -141.5835,       4787,   302.6,2,  10.4785,2,  34.0783,2,  34.0786,2,    208.9,2,   209.1,2,   14.18,2,   14.31,2,    0.00,2,    1.04,2,   3.000,2,   1.807,2,   2.0510,2,  2111.4,2,  2251.3,2,   7.7336,2,    25.03,2, -999.00,9,  -999.0,9, -999.00,9, -999.00,9,       17.5,2, 20220627,     2308,  30.0018,-141.5835,    10.4748,2,     -999.0,9,     -999.0,9,     -999.0,9,     -999.0,9,     0.0122,1,     4.6889,1,     -999.0,9,     -999.0,9,     -999.0,9,     -999.0,9,     -999.0,9
33RR20220613,       P02E,     152,          2,         27,         27,2,20220627,       2116,    30.0018,  -141.5835,       4787,   352.8,2,   9.3991,2,  34.0307,2,  34.0356,2,    201.1,2,   201.6,2,   19.66,2,   17.23,2,    0.00,2,    1.24,2,   3.037,2,   1.832,2,   1.8552,2,  2130.6,2,  2255.4,2,   7.6925,2,    25.02,2, -999.00,9,  -999.0,9, -999.00,9, -999.00,9,       20.7,2, 20220627,     2306,  30.0018,-141.5835,     9.4248,2,     -999.0,9,     -999.0,9,     -999.0,9,     -999.0,9,     0.0120,1,     4.6904,1,     -999.0,9,     -999.0,9,     -999.0,9,     -999.0,9,     -999.0,9
33RR20220613,       P02E,     152,          2,         26,         26,2,20220627,       2116,    30.0018,  -141.5835,       4787,   403.1,2,   8.4923,2,  34.0242,2,  34.0305,2,    175.0,2,   175.8,2,   29.04,2,   21.76,2,    0.00,2,    1.55,2,   2.912,2,   1.742,2,   1.5313,2,  -999.0,9,  -999.0,9,-999.0000,9,  -999.00,9, -999.00,9,  -999.0,9, -999.00,9, -999.00,9,       24.9,2, 20220627,     2304,  30.0018,-141.5835,     8.5699,3,     -999.0,9,     -999.0,9,     -999.0,9,     -999.0,9,     0.0122,1,     4.6910,1,     -999.0,9,     -999.0,9,     -999.0,9,     -999.0,9,     -999.0,9
33RR20220613,       P02E,     152,          2,         25,         25,2,20220627,       2116,    30.0018,  -141.5835,       4787,   453.4,2,   7.7585,2,  34.0084,2,  34.0115,2,    150.3,3,   148.1,2,   38.82,2,   26.17,2,    0.00,2,    1.87,2,   2.727,2,   1.619,2,   1.1036,2,  -999.0,9,  -999.0,9,-999.0000,9,  -999.00,9, -999.00,9,  -999.0,9, -999.00,9, -999.00,9,       28.2,2, 20220627,     2302,  30.0018,-141.5835,     7.7591,2,     -999.0,9,     -999.0,9,     -999.0,9,     -999.0,9,     0.0126,1,     4.6914,1,     -999.0,9,     -999.0,9,     -999.0,9,     -999.0,9,     -999.0,9
33RR20220613,       P02E,     152,          2,         24,         24,2,20220627,       2116,    30.0018,  -141.5835,       4787,   504.2,2,   6.7983,2,  33.9903,2,  33.9927,2,    122.2,2,   121.3,2,   49.87,2,   30.39,2,    0.00,2,    2.16,2,   2.467,2,   1.435,2,   0.8545,2,  2219.4,2,  2276.8,2,   7.4897,2,    25.02,2, -999.00,9,  -999.0,9, -999.00,9, -999.00,9,       32.0,2, 20220627,     2300,  30.0018,-141.5835,     6.8125,2,     -999.0,9,     -999.0,9,     -999.0,9,     -999.0,9,     0.0134,1,     4.6921,1,     -999.0,9,     -999.0,9,     -999.0,9,     -999.0,9,     -999.0,9
33RR20220613,       P02E,     152,          2,         23,         23,2,20220627,       2116,    30.0018,  -141.5835,       4787,   605.2,2,   5.3778,2,  34.0404,2,  34.0470,2,     64.4,3,    65.9,2,   73.93,2,   37.62,2,    0.00,2,    2.72,2,   1.580,2,   0.895,2,   0.4714,2,  2280.1,2,  2296.7,2,   7.3667,2,    25.01,2, -999.00,9,  -999.0,9, -999.00,9, -999.00,9,       39.4,2, 20220627,     2257,  30.0018,-141.5835,     5.4078,2,     -999.0,9,     -999.0,9,     -999.0,9,     -999.0,9,     0.0134,1,     4.6926,1,     -999.0,9,     -999.0,9,     -999.0,9,     -999.0,9,     -999.0,9
33RR20220613,       P02E,     152,          2,         22,         22,2,20220627,       2116,    30.0018,  -141.5835,       4787,   706.0,2,   4.7903,2,  34.1291,2,  34.1374,2,     33.2,3,    33.7,2,   95.14,3,   41.10,3,    0.00,2,    2.98,2,   0.789,2,   0.436,2,   0.1966,2,  -999.0,9,  -999.0,9,-999.0000,9,  -999.00,9, -999.00,9,  -999.0,9, -999.00,9, -999.00,9,       46.7,2, 20220627,     2254,  30.0018,-141.5835,     4.7846,2,     -999.0,9,     -999.0,9,     -999.0,9,     -999.0,9,     0.0134,1,     4.6933,1,     -999.0,9,     -999.0,9,     -999.0,9,     -999.0,9,     -999.0,9
33RR20220613,       P02E,     152,          2,         21,         21,2,20220627,       2116,    30.0018,  -141.5835,       4787,   808.1,2,   4.3363,2,  34.2540,2,  34.2585,2,     15.4,3,    15.0,2,  101.00,2,   43.16,2,    0.00,2,    3.17,2,   0.202,2,   0.122,2,   0.0000,2,  2346.0,2,  2338.8,2,   7.2973,2,    25.02,2, -999.00,9,  -999.0,9, -999.00,9, -999.00,9,       52.5,2, 20220627,     2250,  30.0018,-141.5835,     4.3355,2,     -999.0,9,     -999.0,9,     -999.0,9,     -999.0,9,     0.0134,1,     4.6934,1,     -999.0,9,     -999.0,9,     -999.0,9,     -999.0,9,     -999.0,9
33RR20220613,       P02E,     152,          2,         20,         20,2,20220627,       2116,    30.0018,  -141.5835,       4787,   907.6,2,   4.0593,2,  34.3524,2,  34.3580,2,     14.6,3,    14.2,2,  111.94,2,   43.60,2,    0.00,2,    3.19,2,   0.046,2,   0.030,2,   0.0000,2,  2357.7,2,  2355.9,2,   7.3113,2,    25.01,2, -999.00,9,  -999.0,9, -999.00,9, -999.00,9,       53.4,2, 20220627,     2246,  30.0018,-141.5835,     4.0592,2,     -999.0,9,     -999.0,9,     -999.0,9,     -999.0,9,     0.0134,1,     4.6934,1,     -999.0,9,     -999.0,9,     -999.0,9,     -999.0,9,     -999.0,9
33RR20220613,       P02E,     152,          2,         19,         39,2,20220627,       2116,    30.0018,  -141.5835,       4787,  1008.9,2,   3.7558,2,  34.4177,2,  34.4204,2,     20.4,2,    20.4,2,  119.56,2,   43.69,2,    0.00,2,    3.19,2,   0.020,2,   0.015,2,   0.0000,2,  2362.9,2,  2367.3,2,   7.3280,2,    25.01,2, -999.00,9,  -999.0,9, -999.00,9, -999.00,9,       51.1,2, 20220627,     2244,  30.0018,-141.5835,     3.7559,2,     -999.0,9,     -999.0,9,     -999.0,9,     -999.0,9,     0.0134,1,     4.6939,1,     -999.0,9,     -999.0,9,     -999.0,9,     -999.0,9,     -999.0,9
33RR20220613,       P02E,     152,          2,         18,         18,2,20220627,       2116,    30.0018,  -141.5835,       4787,  1109.7,2,   3.5356,2,  34.4615,2,  34.4648,2,     28.1,3,    28.4,2,  124.74,2,   43.51,2,    0.00,2,    3.16,2,   0.010,2,   0.006,2,   0.0000,2,  -999.0,9,  -999.0,9,-999.0000,9,  -999.00,9, -999.00,9,  -999.0,9, -999.00,9, -999.00,9,       48.6,2, 20220627,     2240,  30.0018,-141.5835,     3.5357,2,     -999.0,9,     -999.0,9,     -999.0,9,     -999.0,9,     0.0134,1,     4.6944,1,     -999.0,9,     -999.0,9,     -999.0,9,     -999.0,9,     -999.0,9
33RR20220613,       P02E,     152,          2,         17,         37,2,20220627,       2116,    30.0018,  -141.5835,       4787,  1211.6,2,   3.2939,2,  34.4957,2,  34.4976,2,     37.3,2,    37.5,2,  129.72,2,   43.06,2,    0.00,2,    3.11,2,   0.007,2,   0.008,2,   0.0000,2,  2363.2,2,  2385.5,2,   7.3686,2,    25.00,2, -999.00,9,  -999.0,9, -999.00,9, -999.00,9,       44.9,2, 20220627,     2237,  30.0018,-141.5835,     3.2933,2,     -999.0,9,     -999.0,9,     -999.0,9,     -999.0,9,     0.0134,1,     4.6949,1,     -999.0,9,     -999.0,9,     -999.0,9,     -999.0,9,     -999.0,9
33RR20220613,       P02E,     152,          2,         16,         16,2,20220627,       2116,    30.0018,  -141.5835,       4787,  1313.0,2,   3.0845,2,  34.5234,2,  34.5254,2,     44.9,2,    45.1,2,  134.22,2,   42.68,2,    0.00,2,    3.09,2,   0.005,2,   0.003,2,   0.0000,2,  -999.0,9,  -999.0,9,-999.0000,9,  -999.00,9, -999.00,9,  -999.0,9, -999.00,9, -999.00,9,       42.3,2, 20220627,     2234,  30.0018,-141.5835,     3.0833,2,     -999.0,9,     -999.0,9,     -999.0,9,     -999.0,9,     0.0134,1,     4.6955,1,     -999.0,9,     -999.0,9,     -999.0,9,     -999.0,9,     -999.0,9
33RR20220613,       P02E,     152,          2,         15,         15,2,20220627,       2116,    30.0018,  -141.5835,       4787,  1414.3,2,   2.9115,2,  34.5415,3,  34.5474,2,     50.8,2,    51.0,2,  138.22,2,   42.40,2,    0.00,2,    3.06,2,   0.004,2,   0.003,2,   0.0000,2,  2364.8,2,  2397.5,2,   7.3961,2,    25.01,2, -999.00,9,  -999.0,9, -999.00,9, -999.00,9,       39.9,2, 20220627,     2231,  30.0018,-141.5835,     2.9124,2,     -999.0,9,     -999.0,9,     -999.0,9,     -999.0,9,     0.0134,1,     4.6960,1,     -999.0,9,     -999.0,9,     -999.0,9,     -999.0,9,     -999.0,9
33RR20220613,       P02E,     152,          2,         14,         14,2,20220627,       2116,    30.0018,  -141.5835,       4787,  1515.8,2,   2.7330,2,  34.5580,3,  34.5633,2,     55.9,2,    56.1,2,  142.81,2,   42.18,2,    0.00,2,    3.03,2,   0.005,2,   0.000,2,   0.0000,2,  -999.0,9,  -999.0,9,-999.0000,9,  -999.00,9, -999.00,9,  -999.0,9, -999.00,9, -999.00,9,       37.9,2, 20220627,     2228,  30.0018,-141.5835,     2.7298,2,     -999.0,9,     -999.0,9,     -999.0,9,     -999.0,9,     0.0134,1,     4.6968,1,     -999.0,9,     -999.0,9,     -999.0,9,     -999.0,9,     -999.0,9
33RR20220613,       P02E,     152,          2,         13,         13,2,20220627,       2116,    30.0018,  -141.5835,       4787,  1617.0,2,   2.5575,2,  34.5718,2,  34.5743,2,     59.6,2,    59.6,2,  147.99,2,   42.02,2,    0.00,2,    3.01,2,   0.004,2,   0.000,2,   0.0000,2,  2368.8,2,  2404.4,2,   7.4117,2,    25.01,2, -999.00,9,  -999.0,9, -999.00,9, -999.00,9,       37.4,2, 20220627,     2225,  30.0018,-141.5835,     2.5596,2,     -999.0,9,     -999.0,9,     -999.0,9,     -999.0,9,     0.0134,1,     4.6967,1,     -999.0,9,     -999.0,9,     -999.0,9,     -999.0,9,     -999.0,9
33RR20220613,       P02E,     152,          2,         12,         12,2,20220627,       2116,    30.0018,  -141.5835,       4787,  1819.9,2,   2.3179,2,  34.5927,2,  34.5954,2,     67.9,2,    68.1,2,  154.74,2,   41.47,2,    0.00,2,    2.95,2,   0.003,2,   0.000,2,   0.0000,2,  -999.0,9,  -999.0,9,-999.0000,9,  -999.00,9, -999.00,9,  -999.0,9, -999.00,9, -999.00,9,       36.4,2, 20220627,     2221,  30.0018,-141.5835,     2.3178,2,     -999.0,9,     -999.0,9,     -999.0,9,     -999.0,9,     0.0132,1,     4.6968,1,     -999.0,9,     -999.0,9,     -999.0,9,     -999.0,9,     -999.0,9
33RR20220613,       P02E,     152,          2,         11,         11,2,20220627,       2116,    30.0018,  -141.5835,       4787,  2022.5,2,   2.1012,2,  34.6115,3,  34.6138,2,     77.1,2,    77.0,2,  160.40,2,   40.99,2,    0.00,2,    2.93,2,   0.003,2,   0.000,2,   0.0000,2,  2367.7,2,  2417.1,2,   7.4459,2,    25.01,2, -999.00,9,  -999.0,9, -999.00,9, -999.00,9,       31.5,2, 20220627,     2216,  30.0018,-141.5835,     2.1030,2,     -999.0,9,     -999.0,9,     -999.0,9,     -999.0,9,     0.0134,1,     4.6982,1,     -999.0,9,     -999.0,9,     -999.0,9,     -999.0,9,     -999.0,9
33RR20220613,       P02E,     152,          2,         10,         10,2,20220627,       2116,    30.0018,  -141.5835,       4787,  2277.6,2,   1.8872,2,  34.6307,3,  34.6337,2,     88.6,2,    88.7,2,  165.58,2,   40.29,2,    0.00,2,    2.85,2,   0.006,2,   0.004,2,   0.0000,2,  -999.0,9,  -999.0,9,-999.0000,9,  -999.00,9, -999.00,9,  -999.0,9, -999.00,9, -999.00,9,       30.2,2, 20220627,     2211,  30.0018,-141.5835,     1.8879,2,     -999.0,9,     -999.0,9,     -999.0,9,     -999.0,9,     0.0125,1,     4.6968,1,     -999.0,9,     -999.0,9,     -999.0,9,     -999.0,9,     -999.0,9
33RR20220613,       P02E,     152,          2,          9,          9,2,20220627,       2116,    30.0018,  -141.5835,       4787,  2532.8,2,   1.7496,2,  34.6440,3,  34.6460,2,     99.2,2,    99.1,2,  167.53,2,   39.59,2,    0.00,2,    2.80,2,   0.003,2,   0.003,2,   0.0000,2,  2362.6,2,  2425.7,2,   7.4873,2,    24.97,2, -999.00,9,  -999.0,9, -999.00,9, -999.00,9,       26.9,2, 20220627,     2205,  30.0018,-141.5835,     1.7493,2,     -999.0,9,     -999.0,9,     -999.0,9,     -999.0,9,     0.0125,1,     4.6995,1,     -999.0,9,     -999.0,9,     -999.0,9,     -999.0,9,     -999.0,9
33RR20220613,       P02E,     152,          2,          8,          8,2,20220627,       2116,    30.0018,  -141.5835,       4787,  2787.0,2,   1.6395,2,  34.6551,3,  34.6706,2,    109.5,2,   109.6,2,  168.22,2,   38.90,2,    0.00,2,    2.75,2,   0.003,2,   0.002,2,   0.0000,2,  -999.0,9,  -999.0,9,-999.0000,9,  -999.00,9, -999.00,9,  -999.0,9, -999.00,9, -999.00,9,       26.2,2, 20220627,     2159,  30.0018,-141.5835,     1.6395,2,     -999.0,9,     -999.0,9,     -999.0,9,     -999.0,9,     0.0134,1,     4.6995,1,     -999.0,9,     -999.0,9,     -999.0,9,     -999.0,9,     -999.0,9
33RR20220613,       P02E,     152,          2,          7,          7,2,20220627,       2116,    30.0018,  -141.5835,       4787,  3041.5,2,   1.5757,2,  34.6626,2,  34.6627,2,    117.6,2,   117.9,2,  167.83,2,   38.45,2,    0.00,2,    2.71,2,   0.003,2,   0.002,2,   0.0000,2,  2352.5,2,  2427.5,2,   7.5208,2,    25.01,2, -999.00,9,  -999.0,9, -999.00,9, -999.00,9,       26.3,2, 20220627,     2154,  30.0018,-141.5835,     1.5756,2,     -999.0,9,     -999.0,9,     -999.0,9,     -999.0,9,     0.0134,1,     4.6996,1,     -999.0,9,     -999.0,9,     -999.0,9,     -999.0,9,     -999.0,9
33RR20220613,       P02E,     152,          2,          6,          6,2,20220627,       2116,    30.0018,  -141.5835,       4787,  3348.8,2,   1.5168,2,  34.6710,2,  34.6724,2,    128.0,2,   128.0,2,  165.28,2,   37.85,2,    0.00,2,    2.64,2,   0.003,2,   0.000,2,   0.0000,2,  -999.0,9,  -999.0,9,-999.0000,9,  -999.00,9, -999.00,9,  -999.0,9, -999.00,9, -999.00,9,       23.4,2, 20220627,     2148,  30.0018,-141.5835,     1.5167,2,     -999.0,9,     -999.0,9,     -999.0,9,     -999.0,9,     0.0127,1,     4.7002,1,     -999.0,9,     -999.0,9,     -999.0,9,     -999.0,9,     -999.0,9
33RR20220613,       P02E,     152,          2,          5,          5,2,20220627,       2116,    30.0018,  -141.5835,       4787,  3656.1,2,   1.4914,2,  34.6767,2,  34.6785,2,    135.7,2,   135.6,2,  162.74,2,   37.27,2,    0.00,2,    2.60,2,   0.005,2,   0.005,2,   0.0000,2,  2338.8,2,  2429.7,6,   7.5532,2,    25.01,2, -999.00,9,  -999.0,9, -999.00,9, -999.00,9,       23.2,2, 20220627,     2140,  30.0018,-141.5835,     1.4913,2,     -999.0,9,     -999.0,9,     -999.0,9,     -999.0,9,     0.0122,1,     4.7007,1,     -999.0,9,     -999.0,9,     -999.0,9,     -999.0,9,     -999.0,9