BOTTLE,20230830CCHSIOCBG
EXPOCODE,SECT_ID,STNNBR,CASTNO,SAMPNO,BTLNBR,BTLNBR_FLAG_W,DATE,TIME,LATITUDE,LONGITUDE,DEPTH,CTDPRS,CTDPRS_FLAG_W,CTDTMP,CTDTMP_FLAG_W,CTDSAL,CTDSAL_FLAG_W,SALNTY,SALNTY_FLAG_W,CTDOXY,CTDOXY_FLAG_W,OXYGEN,OXYGEN_FLAG_W,SILCAT,SILCAT_FLAG_W,NITRAT,NITRAT_FLAG_W,NITRIT,NITRIT_FLAG_W,PHSPHT,PHSPHT_FLAG_W,CFC-11,CFC-11_FLAG_W,CFC-12,CFC-12_FLAG_W,SF6,SF6_FLAG_W,TCARBN,TCARBN_FLAG_W,ALKALI,ALKALI_FLAG_W,PH_TOT,PH_TOT_FLAG_W,PH_TMP,PH_TMP_FLAG_W,DELC13,DELC13_FLAG_W,DELC14,DELC14_FLAG_W,DOC,DOC_FLAG_W,TDN,TDN_FLAG_W,N2O,N2O_FLAG_W,BTL_DATE,BTL_TIME,BTL_LAT,BTL_LON,REFTMP,REFTMP_FLAG_W,POC,POC_FLAG_W,PON,PON_FLAG_W,POP,POP_FLAG_W,PCOD,PCOD_FLAG_W,CTDFLUOR,CTDFLUOR_FLAG_W,CTDXMISS,CTDXMISS_FLAG_W,HPLC,HPLC_FLAG_W,DNA,DNA_FLAG_W,FCM,FCM_FLAG_W,IMAGES,IMAGES_FLAG_W,VIRAL_ABUNDANCE,VIRAL_ABUNDANCE_FLAG_W
,,,,,,,,,,,METERS,DBAR,,ITS-90,,PSS-78,,PSS-78,,UMOL/KG,,UMOL/KG,,UMOL/KG,,UMOL/KG,,UMOL/KG,,UMOL/KG,,PMOL/KG,,PMOL/KG,,FMOL/KG,,UMOL/KG,,UMOL/KG,,,,DEG C,,/MILLE,,/MILLE,,UMOL/KG,,UMOL/KG,,NMOL/KG,,,,,,ITS-90,,UG/L,,UG/L,,UG/L,,UG/L,,VOLTS,,VOLTS,,,,,,,,,,,
33RR20220613,       P02E,     133,          1,         36,         36,2,20220621,       2134,    30.0001,  -152.5535,       5424,     3.4,2,  24.0206,2,  35.2516,2,  35.2505,2,    215.5,3,   235.8,2,    0.49,2,    0.13,2,    0.00,2,    0.02,3,   1.692,2,   1.071,2,   1.8370,2,  2032.3,6,  2317.2,2,   8.0104,2,    25.01,2, -999.00,9,  -999.0,9, -999.00,9, -999.00,9,        7.0,2, 20220621,     2359,  30.0001,-152.5535,    24.0188,2,     -999.0,9,     -999.0,9,     -999.0,9,     -999.0,9,     0.0122,1,     4.6338,1,     -999.0,9,     -999.0,9,     -999.0,9,     -999.0,9,     -999.0,9
33RR20220613,       P02E,     133,          1,         35,         35,2,20220621,       2134,    30.0001,  -152.5535,       5424,    25.8,2,  23.9973,2,  35.2586,2,  35.2568,2,    215.0,2,   214.7,2,    0.20,2,    0.05,2,    0.00,2,    0.01,3,   1.673,2,   1.066,2,   1.7510,2,  2033.3,2,  2319.0,2,   8.0108,2,    25.01,2, -999.00,9,  -999.0,9, -999.00,9, -999.00,9,        7.0,2, 20220621,     2357,  30.0001,-152.5535,    23.9986,2,     -999.0,9,     -999.0,9,     -999.0,9,     -999.0,9,     0.0135,1,     4.6348,1,     -999.0,9,     -999.0,9,     -999.0,9,     -999.0,9,     -999.0,9
33RR20220613,       P02E,     133,          1,         34,         34,2,20220621,       2134,    30.0001,  -152.5535,       5424,    51.5,2,  21.7163,2,  35.2560,2,  35.2655,2,    233.4,3,   230.5,2,    0.00,2,    0.02,2,    0.00,2,    0.01,3,   1.872,2,   1.164,2,   1.9109,2,  2031.4,2,  2319.5,6,   8.0158,2,    25.02,2, -999.00,9,  -999.0,9, -999.00,9, -999.00,9,        7.5,2, 20220621,     2355,  30.0001,-152.5535,    21.7210,2,     -999.0,9,     -999.0,9,     -999.0,9,     -999.0,9,     0.0134,1,     4.6220,1,     -999.0,9,     -999.0,9,     -999.0,9,     -999.0,9,     -999.0,9
33RR20220613,       P02E,     133,          1,         33,         33,2,20220621,       2134,    30.0001,  -152.5535,       5424,    76.8,2,  20.8232,2,  35.1849,2,  35.1798,2,    226.1,2,   226.6,2,    0.10,2,    0.01,2,    0.00,2,    0.02,3,   1.926,2,   1.192,2,   1.8435,2,  2038.6,2,  2315.4,2,   7.9937,2,    25.01,2, -999.00,9,  -999.0,9, -999.00,9, -999.00,9,        7.7,2, 20220621,     2352,  30.0001,-152.5535,    20.8160,2,     -999.0,9,     -999.0,9,     -999.0,9,     -999.0,9,     0.0171,1,     4.6391,1,     -999.0,9,     -999.0,9,     -999.0,9,     -999.0,9,     -999.0,9
33RR20220613,       P02E,     133,          1,         32,         32,2,20220621,       2134,    30.0001,  -152.5535,       5424,    96.9,2,  20.1127,2,  35.0990,2,  35.0842,2,    224.0,2,   224.0,2,    0.20,2,    0.00,2,    0.00,2,    0.03,3,   1.926,2,   1.213,2,   1.8885,2,  2039.9,2,  2308.0,2,   7.9801,2,    25.01,2, -999.00,9,  -999.0,9, -999.00,9, -999.00,9,        7.9,2, 20220621,     2350,  30.0001,-152.5535,    20.1128,2,     -999.0,9,     -999.0,9,     -999.0,9,     -999.0,9,     0.0208,1,     4.6466,1,     -999.0,9,     -999.0,9,     -999.0,9,     -999.0,9,     -999.0,9
33RR20220613,       P02E,     133,          1,         31,         31,2,20220621,       2134,    30.0001,  -152.5535,       5424,   151.6,2,  17.2944,2,  34.6826,2,  34.6696,2,    212.1,2,   212.4,2,    1.56,2,    1.60,2,    0.04,2,    0.17,3,   2.365,2,   1.377,2,   2.1121,2,  2055.3,2,  2280.4,2,   7.9060,2,    25.02,2, -999.00,9,  -999.0,9, -999.00,9, -999.00,9,       10.0,2, 20220621,     2347,  30.0001,-152.5535,    17.2778,2,     -999.0,9,     -999.0,9,     -999.0,9,     -999.0,9,     0.0253,1,     4.6683,1,     -999.0,9,     -999.0,9,     -999.0,9,     -999.0,9,     -999.0,9
33RR20220613,       P02E,     133,          1,         30,         17,2,20220621,       2134,    30.0001,  -152.5535,       5424,   200.9,2,  14.7505,2,  34.4015,3,  34.3772,2,    213.5,2,   213.8,2,    4.30,2,    5.09,2,    0.01,2,    0.37,3,   2.585,2,   1.527,2,   2.0593,2,  2068.2,2,  2264.4,2,   7.8506,2,    25.00,2, -999.00,9,  -999.0,9, -999.00,9, -999.00,9,       12.2,2, 20220621,     2345,  30.0001,-152.5535,    14.7519,2,     -999.0,9,     -999.0,9,     -999.0,9,     -999.0,9,     0.0165,1,     4.6810,1,     -999.0,9,     -999.0,9,     -999.0,9,     -999.0,9,     -999.0,9
33RR20220613,       P02E,     133,          1,         29,         29,2,20220621,       2134,    30.0001,  -152.5535,       5424,   251.9,2,  13.0537,2,  34.2868,2,  34.2856,2,    214.9,2,   214.6,2,    7.24,2,    8.39,2,    0.00,2,    0.55,3,   2.647,6,   1.623,6,   2.1656,6,  2081.0,2,  2261.5,2,   7.8174,2,    25.02,2, -999.00,9,  -999.0,9, -999.00,9, -999.00,9,       14.6,6, 20220621,     2343,  30.0001,-152.5535,    13.0565,2,     -999.0,9,     -999.0,9,     -999.0,9,     -999.0,9,     0.0122,1,     4.6880,1,     -999.0,9,     -999.0,9,     -999.0,9,     -999.0,9,     -999.0,9
33RR20220613,       P02E,     133,          1,         28,         28,2,20220621,       2134,    30.0001,  -152.5535,       5424,   301.8,2,  12.0314,2,  34.2378,2,  34.2358,2,    214.5,2,   214.4,2,   10.56,2,   10.89,2,    0.00,2,    0.68,3,   2.684,2,   1.667,2,   2.0457,2,  2091.3,2,  2261.6,2,   7.7899,2,    25.02,2, -999.00,9,  -999.0,9, -999.00,9, -999.00,9,       16.3,2, 20220621,     2341,  30.0001,-152.5535,    12.0327,2,     -999.0,9,     -999.0,9,     -999.0,9,     -999.0,9,     0.0122,1,     4.6898,1,     -999.0,9,     -999.0,9,     -999.0,9,     -999.0,9,     -999.0,9
33RR20220613,       P02E,     133,          1,         27,         27,2,20220621,       2134,    30.0001,  -152.5535,       5424,   352.3,2,  10.9889,2,  34.1749,2,  34.1730,2,    210.8,2,   210.8,2,   14.18,2,   13.31,2,    0.00,2,    0.84,3,   2.815,2,   1.725,2,   1.9389,2,  2107.2,2,  2261.1,2,   7.7567,2,    25.02,2, -999.00,9,  -999.0,9, -999.00,9, -999.00,9,       18.3,2, 20220621,     2339,  30.0001,-152.5535,    10.9907,2,     -999.0,9,     -999.0,9,     -999.0,9,     -999.0,9,     0.0122,1,     4.6913,1,     -999.0,9,     -999.0,9,     -999.0,9,     -999.0,9,     -999.0,9
33RR20220613,       P02E,     133,          1,         26,         26,2,20220621,       2134,    30.0001,  -152.5535,       5424,   403.0,2,  10.0990,2,  34.1170,2,  34.1134,2,    206.6,2,   207.1,2,   18.29,2,   15.55,2,    0.00,2,    0.99,3,   2.914,2,   1.765,2,   1.8787,2,  -999.0,9,  -999.0,9,-999.0000,9,  -999.00,9, -999.00,9,  -999.0,9, -999.00,9, -999.00,9,       20.4,2, 20220621,     2336,  30.0001,-152.5535,    10.0996,2,     -999.0,9,     -999.0,9,     -999.0,9,     -999.0,9,     0.0122,1,     4.6934,1,     -999.0,9,     -999.0,9,     -999.0,9,     -999.0,9,     -999.0,9
33RR20220613,       P02E,     133,          1,         25,         25,2,20220621,       2134,    30.0001,  -152.5535,       5424,   503.9,2,   8.3048,2,  34.0344,2,  34.0327,2,    175.7,2,   175.7,2,   31.68,2,   21.95,2,    0.02,2,    1.39,3,   2.823,2,   1.682,2,   1.4037,2,  2163.3,2,  2269.0,2,   7.6331,2,    25.01,2, -999.00,9,  -999.0,9, -999.00,9, -999.00,9,       25.3,2, 20220621,     2333,  30.0001,-152.5535,     8.3317,2,     -999.0,9,     -999.0,9,     -999.0,9,     -999.0,9,     0.0122,1,     4.6958,1,     -999.0,9,     -999.0,9,     -999.0,9,     -999.0,9,     -999.0,9
33RR20220613,       P02E,     133,          1,         24,         24,2,20220621,       2134,    30.0001,  -152.5535,       5424,   604.7,2,   6.2534,2,  33.9761,2,  33.9751,2,    123.7,2,   123.9,2,   56.92,2,   31.00,2,    0.00,2,    2.04,3,   2.349,2,   1.399,2,   0.9132,2,  -999.0,9,  -999.0,9,-999.0000,9,  -999.00,9, -999.00,9,  -999.0,9, -999.00,9, -999.00,9,       33.6,2, 20220621,     2329,  30.0001,-152.5535,     6.2307,2,     -999.0,9,     -999.0,9,     -999.0,9,     -999.0,9,     0.0128,1,     4.6960,1,     -999.0,9,     -999.0,9,     -999.0,9,     -999.0,9,     -999.0,9
33RR20220613,       P02E,     133,          1,         23,         23,2,20220621,       2134,    30.0001,  -152.5535,       5424,   705.9,2,   4.9647,2,  34.0414,2,  34.0431,2,     67.4,3,    68.7,2,   75.98,2,   38.10,2,    0.00,2,    2.55,3,   1.467,2,   0.831,2,   0.4449,2,  -999.0,9,  -999.0,9,-999.0000,9,  -999.00,9, -999.00,9,  -999.0,9, -999.00,9, -999.00,9,       44.7,2, 20220621,     2326,  30.0001,-152.5535,     4.9660,2,     -999.0,9,     -999.0,9,     -999.0,9,     -999.0,9,     0.0134,1,     4.6976,1,     -999.0,9,     -999.0,9,     -999.0,9,     -999.0,9,     -999.0,9
33RR20220613,       P02E,     133,          1,         22,         22,2,20220621,       2134,    30.0001,  -152.5535,       5424,   807.1,2,   4.3948,2,  34.1668,2,  34.1652,2,     26.9,3,    27.4,2,  100.13,2,   42.23,2,    0.00,2,    2.91,3,   0.472,2,   0.265,2,   0.1933,2,  2329.8,2,  2327.4,2,   7.3055,2,    25.04,2, -999.00,9,  -999.0,9, -999.00,9, -999.00,9,       53.7,2, 20220621,     2323,  30.0001,-152.5535,     4.3959,2,     -999.0,9,     -999.0,9,     -999.0,9,     -999.0,9,     0.0134,1,     4.6983,1,     -999.0,9,     -999.0,9,     -999.0,9,     -999.0,9,     -999.0,9
33RR20220613,       P02E,     133,          1,         21,         21,2,20220621,       2134,    30.0001,  -152.5535,       5424,   907.2,2,   4.0680,2,  34.2584,2,  34.2532,2,     14.3,3,    14.8,2,  112.15,2,   43.26,2,    0.00,2,    3.05,3,   0.144,2,   0.090,2,   0.1326,2,  2347.3,2,  2344.5,2,   7.2945,2,    25.04,2, -999.00,9,  -999.0,9, -999.00,9, -999.00,9,       60.8,2, 20220621,     2320,  30.0001,-152.5535,     4.0686,2,     -999.0,9,     -999.0,9,     -999.0,9,     -999.0,9,     0.0134,1,     4.6980,1,     -999.0,9,     -999.0,9,     -999.0,9,     -999.0,9,     -999.0,9
33RR20220613,       P02E,     133,          1,         20,         20,2,20220621,       2134,    30.0001,  -152.5535,       5424,  1008.4,2,   3.7595,2,  34.3475,2,  34.3466,2,     12.2,3,    11.7,2,  123.58,2,   43.96,2,    0.00,2,    3.14,3,   0.030,2,   0.020,2,   0.0000,2,  2365.8,2,  2361.5,2,   7.3009,2,    25.03,2, -999.00,9,  -999.0,9, -999.00,9, -999.00,9,       61.8,2, 20220621,     2317,  30.0001,-152.5535,     3.7593,2,     -999.0,9,     -999.0,9,     -999.0,9,     -999.0,9,     0.0134,1,     4.6979,1,     -999.0,9,     -999.0,9,     -999.0,9,     -999.0,9,     -999.0,9
33RR20220613,       P02E,     133,          1,         19,         39,2,20220621,       2134,    30.0001,  -152.5535,       5424,  1110.2,2,   3.5421,2,  34.4086,2,  34.4069,2,     16.6,3,    16.1,2,  129.73,2,   43.85,2,    0.00,2,    3.18,4,   0.012,2,   0.009,2,   0.0000,2,  2368.7,2,  2371.0,2,   7.3182,2,    25.03,2, -999.00,9,  -999.0,9, -999.00,9, -999.00,9,       60.3,2, 20220621,     2314,  30.0001,-152.5535,     3.5418,2,     -999.0,9,     -999.0,9,     -999.0,9,     -999.0,9,     0.0134,1,     4.6979,1,     -999.0,9,     -999.0,9,     -999.0,9,     -999.0,9,     -999.0,9
33RR20220613,       P02E,     133,          1,         18,         18,2,20220621,       2134,    30.0001,  -152.5535,       5424,  1210.7,2,   3.3218,2,  34.4608,2,  34.4597,2,     26.0,3,    25.7,2,  134.81,2,   43.45,2,    0.00,2,    3.16,4,   0.007,2,   0.006,2,   0.0000,2,  2369.9,2,  2379.8,2,   7.3392,2,    25.01,2, -999.00,9,  -999.0,9, -999.00,9, -999.00,9,       55.1,2, 20220621,     2310,  30.0001,-152.5535,     3.3217,2,     -999.0,9,     -999.0,9,     -999.0,9,     -999.0,9,     0.0134,1,     4.6984,1,     -999.0,9,     -999.0,9,     -999.0,9,     -999.0,9,     -999.0,9
33RR20220613,       P02E,     133,          1,         17,         37,2,20220621,       2134,    30.0001,  -152.5535,       5424,  1311.2,2,   3.1042,2,  34.5005,2,  34.4979,2,     36.2,2,    35.9,2,  139.11,2,   42.87,2,    0.00,2,    3.14,4,   0.008,2,   0.005,2,   0.0000,2,  2367.9,2,  2388.5,2,   7.3632,2,    25.01,2, -999.00,9,  -999.0,9, -999.00,9, -999.00,9,     -999.0,5, 20220621,     2308,  30.0001,-152.5535,     3.1028,2,     -999.0,9,     -999.0,9,     -999.0,9,     -999.0,9,     0.0134,1,     4.6994,1,     -999.0,9,     -999.0,9,     -999.0,9,     -999.0,9,     -999.0,9
33RR20220613,       P02E,     133,          1,         16,         16,2,20220621,       2134,    30.0001,  -152.5535,       5424,  1412.9,2,   2.8842,2,  34.5297,2,  34.5284,2,     45.8,2,    46.1,2,  143.90,2,   42.29,2,    0.00,2,    3.13,4,   0.004,2,   0.004,2,   0.0000,2,  -999.0,9,  -999.0,9,-999.0000,9,  -999.00,9, -999.00,9,  -999.0,9, -999.00,9, -999.00,9,     -999.0,5, 20220621,     2305,  30.0001,-152.5535,     2.8838,2,     -999.0,9,     -999.0,9,     -999.0,9,     -999.0,9,     0.0134,1,     4.7004,1,     -999.0,9,     -999.0,9,     -999.0,9,     -999.0,9,     -999.0,9
33RR20220613,       P02E,     133,          1,         15,         15,2,20220621,       2134,    30.0001,  -152.5535,       5424,  1616.5,2,   2.5614,2,  34.5640,2,  34.5624,2,     58.2,2,    58.5,2,  151.32,2,   41.69,2,    0.00,2,    3.12,4,   0.003,2,   0.005,2,   0.0000,2,  2368.3,2,  2403.1,2,   7.4077,2,    25.03,2, -999.00,9,  -999.0,9, -999.00,9, -999.00,9,     -999.0,5, 20220621,     2300,  30.0001,-152.5535,     2.5613,2,     -999.0,9,     -999.0,9,     -999.0,9,     -999.0,9,     0.0134,1,     4.7007,1,     -999.0,9,     -999.0,9,     -999.0,9,     -999.0,9,     -999.0,9
33RR20220613,       P02E,     133,          1,         14,         14,2,20220621,       2134,    30.0001,  -152.5535,       5424,  1819.2,2,   2.2445,2,  34.5933,2,  34.5910,2,     69.6,2,    69.7,2,  159.43,2,   41.00,2,    0.00,2,    3.12,4,   0.004,2,   0.002,2,   0.0000,2,  -999.0,9,  -999.0,9,-999.0000,9,  -999.00,9, -999.00,9,  -999.0,9, -999.00,9, -999.00,9,     -999.0,5, 20220621,     2254,  30.0001,-152.5534,     2.2458,2,     -999.0,9,     -999.0,9,     -999.0,9,     -999.0,9,     0.0134,1,     4.7017,1,     -999.0,9,     -999.0,9,     -999.0,9,     -999.0,9,     -999.0,9
33RR20220613,       P02E,     133,          1,         13,         13,2,20220621,       2134,    30.0001,  -152.5535,       5424,  2023.1,2,   2.0418,2,  34.6113,2,  34.6095,2,     75.9,2,    75.8,2,  166.86,2,   40.66,2,    0.00,2,    3.14,4,   0.002,2,   0.001,2,   0.0000,2,  2372.6,2,  2418.4,2,   7.4413,2,    25.01,2, -999.00,9,  -999.0,9, -999.00,9, -999.00,9,     -999.0,5, 20220621,     2251,  30.0001,-152.5535,     2.0400,2,     -999.0,9,     -999.0,9,     -999.0,9,     -999.0,9,     0.0128,1,     4.7020,1,     -999.0,9,     -999.0,9,     -999.0,9,     -999.0,9,     -999.0,9
33RR20220613,       P02E,     133,          1,         12,         12,2,20220621,       2134,    30.0001,  -152.5535,       5424,  2277.0,2,   1.8482,2,  34.6312,2,  34.6299,2,     86.6,2,    86.8,2,  171.94,2,   39.90,2,    0.00,2,    3.10,4,   0.002,2,   0.002,2,   0.0000,2,  -999.0,9,  -999.0,9,-999.0000,9,  -999.00,9, -999.00,9,  -999.0,9, -999.00,9, -999.00,9,     -999.0,5, 20220621,     2245,  30.0001,-152.5535,     1.8479,2,     -999.0,9,     -999.0,9,     -999.0,9,     -999.0,9,     0.0131,1,     4.7021,1,     -999.0,9,     -999.0,9,     -999.0,9,     -999.0,9,     -999.0,9
33RR20220613,       P02E,     133,          1,         11,         11,2,20220621,       2134,    30.0001,  -152.5535,       5424,  2531.7,2,   1.7142,2,  34.6455,2,  34.6437,2,     96.9,2,    97.0,2,  174.48,2,   39.32,2,    0.00,2,    3.07,4,   0.003,2,   0.002,2,   0.0000,2,  2365.7,2,  2427.2,2,   7.4829,2,    25.02,2, -999.00,9,  -999.0,9, -999.00,9, -999.00,9,     -999.0,5, 20220621,     2239,  30.0001,-152.5535,     1.7141,2,     -999.0,9,     -999.0,9,     -999.0,9,     -999.0,9,     0.0134,1,     4.7030,1,     -999.0,9,     -999.0,9,     -999.0,9,     -999.0,9,     -999.0,9
33RR20220613,       P02E,     133,          1,         10,         10,2,20220621,       2134,    30.0001,  -152.5535,       5424,  2786.5,2,   1.6171,2,  34.6562,2,  34.6551,2,    107.7,2,   107.6,2,  174.09,2,   38.79,2,    0.00,2,    3.03,4,-999.000,9,-999.000,9,-999.0000,9,  -999.0,9,  -999.0,9,-999.0000,9,  -999.00,9, -999.00,9,  -999.0,9, -999.00,9, -999.00,9,     -999.0,9, 20220621,     2234,  30.0001,-152.5535,     1.6170,2,     -999.0,9,     -999.0,9,     -999.0,9,     -999.0,9,     0.0122,1,     4.7031,1,     -999.0,9,     -999.0,9,     -999.0,9,     -999.0,9,     -999.0,9
33RR20220613,       P02E,     133,          1,          9,          9,2,20220621,       2134,    30.0001,  -152.5535,       5424,  3041.1,2,   1.5379,2,  34.6655,2,  34.6657,2,    119.1,2,   119.4,2,  171.35,2,   37.94,2,    0.00,2,    2.97,4,   0.003,2,   0.000,2,   0.0000,2,  2350.5,2,  2428.9,2,   7.5221,2,    25.04,2, -999.00,9,  -999.0,9, -999.00,9, -999.00,9,     -999.0,5, 20220621,     2228,  30.0001,-152.5534,     1.5377,2,     -999.0,9,     -999.0,9,     -999.0,9,     -999.0,9,     0.0134,1,     4.7032,1,     -999.0,9,     -999.0,9,     -999.0,9,     -999.0,9,     -999.0,9
33RR20220613,       P02E,     133,          1,          8,          8,2,20220621,       2134,    30.0001,  -152.5535,       5424,  3348.8,2,   1.4880,2,  34.6742,2,  34.6728,2,    131.2,2,   131.2,2,  167.63,2,   37.24,2,    0.00,2,    2.90,4,-999.000,9,-999.000,9,-999.0000,9,  -999.0,9,  -999.0,9,-999.0000,9,  -999.00,9, -999.00,9,  -999.0,9, -999.00,9, -999.00,9,     -999.0,9, 20220621,     2222,  30.0001,-152.5535,     1.4877,2,     -999.0,9,     -999.0,9,     -999.0,9,     -999.0,9,     0.0122,1,     4.7033,1,     -999.0,9,     -999.0,9,     -999.0,9,     -999.0,9,     -999.0,9
33RR20220613,       P02E,     133,          1,          7,          7,2,20220621,       2134,    30.0001,  -152.5535,       5424,  3655.6,2,   1.4616,2,  34.6805,3,  34.6783,2,    140.1,2,   140.0,2,  164.02,2,   36.62,2,    0.00,2,    2.85,4,   0.003,2,   0.001,2,   0.0000,2,  2338.5,2,  2425.9,2,   7.5601,2,    25.02,2, -999.00,9,  -999.0,9, -999.00,9, -999.00,9,     -999.0,5, 20220621,     2215,  30.0001,-152.5535,     1.4618,2,     -999.0,9,     -999.0,9,     -999.0,9,     -999.0,9,     0.0127,1,     4.7043,1,     -999.0,9,     -999.0,9,     -999.0,9,     -999.0,9,     -999.0,9
33RR20220613,       P02E,     133,          1,          6,          6,2,20220621,       2134,    30.0001,  -152.5535,       5424,  3963.7,2,   1.4609,2,  34.6841,2,  34.6844,2,    145.4,2,   145.4,2,  161.47,2,   36.28,2,    0.00,2,    2.81,4,-999.000,9,-999.000,9,-999.0000,9,  -999.0,9,  -999.0,9,-999.0000,9,  -999.00,9, -999.00,9,  -999.0,9, -999.00,9, -999.00,9,     -999.0,9, 20220621,     2209,  30.0001,-152.5535,     1.4610,2,     -999.0,9,     -999.0,9,     -999.0,9,     -999.0,9,     0.0122,1,     4.7044,1,     -999.0,9,     -999.0,9,     -999.0,9,     -999.0,9,     -999.0,9
33RR20220613,       P02E,     133,          1,          5,          5,2,20220621,       2134,    30.0001,  -152.5535,       5424,  4271.3,2,   1.4741,2,  34.6864,3,  34.6889,2,    149.5,2,   149.9,2,  159.03,2,   35.99,2,    0.00,2,    2.78,4,   0.003,2,   0.002,2,   0.0000,2,  2330.2,2,  2425.2,2,   7.5766,2,    25.04,2, -999.00,9,  -999.0,9, -999.00,9, -999.00,9,     -999.0,5, 20220621,     2201,  30.0001,-152.5535,     1.4741,2,     -999.0,9,     -999.0,9,     -999.0,9,     -999.0,9,     0.0122,1,     4.7044,1,     -999.0,9,     -999.0,9,     -999.0,9,     -999.0,9,     -999.0,9