BOTTLE,20230830CCHSIOCBG
EXPOCODE,SECT_ID,STNNBR,CASTNO,SAMPNO,BTLNBR,BTLNBR_FLAG_W,DATE,TIME,LATITUDE,LONGITUDE,DEPTH,CTDPRS,CTDPRS_FLAG_W,CTDTMP,CTDTMP_FLAG_W,CTDSAL,CTDSAL_FLAG_W,SALNTY,SALNTY_FLAG_W,CTDOXY,CTDOXY_FLAG_W,OXYGEN,OXYGEN_FLAG_W,SILCAT,SILCAT_FLAG_W,NITRAT,NITRAT_FLAG_W,NITRIT,NITRIT_FLAG_W,PHSPHT,PHSPHT_FLAG_W,CFC-11,CFC-11_FLAG_W,CFC-12,CFC-12_FLAG_W,SF6,SF6_FLAG_W,TCARBN,TCARBN_FLAG_W,ALKALI,ALKALI_FLAG_W,PH_TOT,PH_TOT_FLAG_W,PH_TMP,PH_TMP_FLAG_W,DELC13,DELC13_FLAG_W,DELC14,DELC14_FLAG_W,DOC,DOC_FLAG_W,TDN,TDN_FLAG_W,N2O,N2O_FLAG_W,BTL_DATE,BTL_TIME,BTL_LAT,BTL_LON,REFTMP,REFTMP_FLAG_W,POC,POC_FLAG_W,PON,PON_FLAG_W,POP,POP_FLAG_W,PCOD,PCOD_FLAG_W,CTDFLUOR,CTDFLUOR_FLAG_W,CTDXMISS,CTDXMISS_FLAG_W,HPLC,HPLC_FLAG_W,DNA,DNA_FLAG_W,FCM,FCM_FLAG_W,IMAGES,IMAGES_FLAG_W,VIRAL_ABUNDANCE,VIRAL_ABUNDANCE_FLAG_W
,,,,,,,,,,,METERS,DBAR,,ITS-90,,PSS-78,,PSS-78,,UMOL/KG,,UMOL/KG,,UMOL/KG,,UMOL/KG,,UMOL/KG,,UMOL/KG,,PMOL/KG,,PMOL/KG,,FMOL/KG,,UMOL/KG,,UMOL/KG,,,,DEG C,,/MILLE,,/MILLE,,UMOL/KG,,UMOL/KG,,NMOL/KG,,,,,,ITS-90,,UG/L,,UG/L,,UG/L,,UG/L,,VOLTS,,VOLTS,,,,,,,,,,,
33RR20220613,       P02E,     186,          1,         36,         36,2,20220707,       1639,    30.4966,  -122.1466,       4067,     5.4,2,  18.5283,2,  33.2383,2,  33.2434,2,    244.3,2,   243.9,2,    0.88,2,    0.00,2,    0.00,2,    0.32,2,   2.201,2,   1.370,2,   2.2310,2,  2012.0,6,  2224.1,2,   7.9074,2,    25.01,2, -999.00,1,  -999.0,1, -999.00,1, -999.00,1,        8.6,2, 20220707,     1826,  30.4966,-122.1466,    18.5186,2,     -999.0,9,     -999.0,9,     -999.0,9,     -999.0,9,     0.0171,1,     4.5763,1,     -999.0,9,     -999.0,9,     -999.0,9,     -999.0,9,     -999.0,9
33RR20220613,       P02E,     186,          1,         35,         35,2,20220707,       1639,    30.4966,  -122.1466,       4067,    35.3,2,  15.7677,2,  33.2599,2,  33.2787,2,    273.2,2,   273.8,2,    1.76,2,    2.29,2,    0.08,2,    0.49,2,   2.535,2,   1.554,2,   2.5209,2,  2031.2,2,  2224.3,2,   7.8743,2,    25.00,2, -999.00,1,  -999.0,1, -999.00,1, -999.00,1,       11.1,2, 20220707,     1824,  30.4966,-122.1466,    15.8943,3,     -999.0,9,     -999.0,9,     -999.0,9,     -999.0,9,     0.0554,1,     4.5225,1,     -999.0,9,     -999.0,9,     -999.0,9,     -999.0,9,     -999.0,9
33RR20220613,       P02E,     186,          1,         34,         34,2,20220707,       1639,    30.4966,  -122.1466,       4067,    60.8,2,  11.9497,2,  33.3848,2,  33.3799,2,    235.5,2,   235.3,2,    6.84,2,   11.07,2,    0.32,2,    1.04,2,   2.846,2,   1.730,2,   2.5533,2,  2091.4,2,  2225.3,6,   7.7300,2,    25.02,2, -999.00,1,  -999.0,1, -999.00,1, -999.00,1,       14.2,2, 20220707,     1823,  30.4966,-122.1466,    11.9356,2,     -999.0,9,     -999.0,9,     -999.0,9,     -999.0,9,     0.0717,1,     4.5768,1,     -999.0,9,     -999.0,9,     -999.0,9,     -999.0,9,     -999.0,9
33RR20220613,       P02E,     186,          1,         33,         33,2,20220707,       1639,    30.4966,  -122.1466,       4067,    85.6,2,  10.9632,2,  33.5653,2,  33.5712,2,    203.3,2,   201.8,2,   13.59,2,   17.37,2,    0.03,2,    1.38,2,   2.868,2,   1.760,2,   2.4203,2,  2132.4,2,  2235.1,2,   7.6359,2,    25.01,2, -999.00,1,  -999.0,1, -999.00,1, -999.00,1,       17.5,2, 20220707,     1821,  30.4966,-122.1466,    10.9668,2,     -999.0,9,     -999.0,9,     -999.0,9,     -999.0,9,     0.0249,1,     4.6537,1,     -999.0,9,     -999.0,9,     -999.0,9,     -999.0,9,     -999.0,9
33RR20220613,       P02E,     186,          1,         32,         32,2,20220707,       1639,    30.4966,  -122.1466,       4067,   110.3,2,   9.9197,2,  33.6117,2,  33.6181,2,    164.6,2,   165.0,2,   18.18,2,   20.12,2,    0.03,2,    1.52,2,   2.890,2,   1.807,2,   2.1003,2,  2152.1,2,  2232.8,2,   7.5799,2,    25.00,2, -999.00,1,  -999.0,1, -999.00,1, -999.00,1,       21.4,2, 20220707,     1820,  30.4966,-122.1466,     9.9365,2,     -999.0,9,     -999.0,9,     -999.0,9,     -999.0,9,     0.0167,1,     4.6663,1,     -999.0,9,     -999.0,9,     -999.0,9,     -999.0,9,     -999.0,9
33RR20220613,       P02E,     186,          1,         31,         31,2,20220707,       1639,    30.4966,  -122.1466,       4067,   136.1,2,   9.3431,2,  33.8313,2,  33.8371,2,    140.3,2,   139.8,2,   24.34,2,   23.23,2,    0.02,2,    1.71,2,   2.886,2,   1.762,2,   1.7913,2,  2176.9,2,  2245.1,2,   7.5373,2,    25.00,2, -999.00,1,  -999.0,1, -999.00,1, -999.00,1,       27.2,2, 20220707,     1818,  30.4966,-122.1465,     9.3392,2,     -999.0,9,     -999.0,9,     -999.0,9,     -999.0,9,     0.0134,1,     4.6699,1,     -999.0,9,     -999.0,9,     -999.0,9,     -999.0,9,     -999.0,9
33RR20220613,       P02E,     186,          1,         30,         17,2,20220707,       1639,    30.4966,  -122.1466,       4067,   166.7,2,   8.9322,2,  33.9502,2,  33.9692,2,    128.6,3,   126.8,2,   29.42,2,   25.31,2,    0.02,2,    1.83,2,   2.725,2,   1.694,2,   1.5785,2,  2195.0,2,  2253.2,2,   7.5168,2,    25.01,2, -999.00,1,  -999.0,1, -999.00,1, -999.00,1,       29.0,2, 20220707,     1816,  30.4966,-122.1466,     8.9314,2,     -999.0,9,     -999.0,9,     -999.0,9,     -999.0,9,     0.0134,1,     4.6705,1,     -999.0,9,     -999.0,9,     -999.0,9,     -999.0,9,     -999.0,9
33RR20220613,       P02E,     186,          1,         29,         29,2,20220707,       1639,    30.4966,  -122.1466,       4067,   216.9,2,   8.3929,2,  34.0287,2,  34.0356,2,    105.9,3,   104.4,2,   36.75,2,   28.42,2,    0.01,2,    2.05,2,   2.515,2,   1.559,2,   1.1554,2,  2217.1,2,  2264.1,2,   7.4705,2,    25.00,2, -999.00,1,  -999.0,1, -999.00,1, -999.00,1,       33.8,2, 20220707,     1815,  30.4966,-122.1465,     8.3981,2,     -999.0,9,     -999.0,9,     -999.0,9,     -999.0,9,     0.0134,1,     4.6622,1,     -999.0,9,     -999.0,9,     -999.0,9,     -999.0,9,     -999.0,9
33RR20220613,       P02E,     186,          1,         28,         28,2,20220707,       1639,    30.4966,  -122.1466,       4067,   267.0,2,   7.6717,2,  34.0502,2,  34.0592,2,     89.5,3,    85.2,2,   45.74,2,   31.48,2,    0.01,2,    2.28,2,   2.265,2,   1.352,2,   0.8798,2,  2239.4,2,  2274.7,2,   7.4267,2,    25.00,2, -999.00,1,  -999.0,1, -999.00,1, -999.00,1,       36.4,2, 20220707,     1813,  30.4966,-122.1466,     7.6690,2,     -999.0,9,     -999.0,9,     -999.0,9,     -999.0,9,     0.0134,1,     4.6794,1,     -999.0,9,     -999.0,9,     -999.0,9,     -999.0,9,     -999.0,9
33RR20220613,       P02E,     186,          1,         27,         27,2,20220707,       1639,    30.4966,  -122.1466,       4067,   317.4,2,   6.9999,2,  34.0767,2,  34.0784,2,     64.4,2,    64.8,2,   54.33,2,   34.28,2,    0.01,2,    2.50,2,   1.937,2,   1.147,2,   0.6367,2,  2264.3,2,  2282.0,2,   7.3794,2,    25.01,2, -999.00,1,  -999.0,1, -999.00,1, -999.00,1,       39.5,2, 20220707,     1812,  30.4966,-122.1466,     6.9992,2,     -999.0,9,     -999.0,9,     -999.0,9,     -999.0,9,     0.0134,1,     4.6788,1,     -999.0,9,     -999.0,9,     -999.0,9,     -999.0,9,     -999.0,9
33RR20220613,       P02E,     186,          1,         26,         26,2,20220707,       1639,    30.4966,  -122.1466,       4067,   368.1,2,   6.5823,2,  34.1124,2,  34.1170,2,     46.4,2,    46.5,2,   61.66,2,   36.37,2,    0.00,2,    2.68,2,   1.559,2,   0.903,2,   0.5115,2,  2276.3,2,  2290.6,2,   7.3458,2,    25.01,2, -999.00,1,  -999.0,1, -999.00,1, -999.00,1,       43.7,2, 20220707,     1810,  30.4967,-122.1466,     6.5829,2,     -999.0,9,     -999.0,9,     -999.0,9,     -999.0,9,     0.0134,1,     4.6753,1,     -999.0,9,     -999.0,9,     -999.0,9,     -999.0,9,     -999.0,9
33RR20220613,       P02E,     186,          1,         25,         25,2,20220707,       1639,    30.4966,  -122.1466,       4067,   418.2,2,   6.2292,2,  34.1427,2,  34.1491,2,     34.6,2,    34.3,2,   68.60,2,   37.98,2,    0.00,2,    2.79,2,   1.212,2,   0.682,2,   0.3548,2,  2291.5,2,  2298.7,2,   7.3262,2,    25.00,2, -999.00,1,  -999.0,1, -999.00,1, -999.00,1,       46.6,2, 20220707,     1808,  30.4966,-122.1466,     6.2266,2,     -999.0,9,     -999.0,9,     -999.0,9,     -999.0,9,     0.0134,1,     4.6763,1,     -999.0,9,     -999.0,9,     -999.0,9,     -999.0,9,     -999.0,9
33RR20220613,       P02E,     186,          1,         24,         24,2,20220707,       1639,    30.4966,  -122.1466,       4067,   468.7,2,   5.9216,2,  34.2142,2,  34.2232,2,     20.4,3,    20.0,2,   76.41,2,   39.34,2,    0.00,2,    2.94,2,   0.693,2,   0.385,2,   0.2480,2,  2311.3,2,  2311.9,2,   7.3119,2,    25.00,2, -999.00,1,  -999.0,1, -999.00,1, -999.00,1,       52.1,2, 20220707,     1806,  30.4966,-122.1466,     5.9213,2,     -999.0,9,     -999.0,9,     -999.0,9,     -999.0,9,     0.0134,1,     4.6788,1,     -999.0,9,     -999.0,9,     -999.0,9,     -999.0,9,     -999.0,9
33RR20220613,       P02E,     186,          1,         23,         23,2,20220707,       1639,    30.4966,  -122.1466,       4067,   539.2,2,   5.5084,2,  34.2689,2,  34.2666,2,     14.7,3,    15.1,2,   84.62,2,   40.50,2,    0.00,2,    3.02,2,   0.379,2,   0.215,2,   0.1497,2,  2322.1,2,  2320.5,2,   7.3089,2,    25.00,2, -999.00,1,  -999.0,1, -999.00,1, -999.00,1,       53.6,2, 20220707,     1804,  30.4966,-122.1466,     5.5071,2,     -999.0,9,     -999.0,9,     -999.0,9,     -999.0,9,     0.0134,1,     4.6855,1,     -999.0,9,     -999.0,9,     -999.0,9,     -999.0,9,     -999.0,9
33RR20220613,       P02E,     186,          1,         22,         22,2,20220707,       1639,    30.4966,  -122.1466,       4067,   640.5,2,   5.0768,2,  34.3317,2,  34.3374,2,     11.9,2,    12.0,2,   93.70,2,   41.70,2,    0.00,2,    3.09,2,   0.141,2,   0.086,2,   0.1203,2,  2334.4,2,  2337.5,2,   7.3120,2,    25.00,2, -999.00,1,  -999.0,1, -999.00,1, -999.00,1,       55.0,2, 20220707,     1802,  30.4967,-122.1466,     5.0754,2,     -999.0,9,     -999.0,9,     -999.0,9,     -999.0,9,     0.0134,1,     4.6873,1,     -999.0,9,     -999.0,9,     -999.0,9,     -999.0,9,     -999.0,9
33RR20220613,       P02E,     186,          1,         21,         21,2,20220707,       1639,    30.4966,  -122.1466,       4067,   741.5,2,   4.7128,2,  34.3889,2,  34.3900,2,     13.1,3,    12.9,2,  101.22,2,   42.40,2,    0.00,2,    3.12,2,   0.053,2,   0.036,2,   0.2079,2,  2343.3,6,  2347.2,2,   7.3193,2,    25.01,2, -999.00,1,  -999.0,1, -999.00,1, -999.00,1,       55.8,2, 20220707,     1759,  30.4966,-122.1466,     4.7176,2,     -999.0,9,     -999.0,9,     -999.0,9,     -999.0,9,     0.0134,1,     4.6874,1,     -999.0,9,     -999.0,9,     -999.0,9,     -999.0,9,     -999.0,9
33RR20220613,       P02E,     186,          1,         20,         20,2,20220707,       1639,    30.4966,  -122.1466,       4067,   843.0,2,   4.3907,2,  34.4296,2,  34.4298,2,     16.6,3,    16.9,2,  108.05,2,   42.75,2,    0.00,2,    3.14,2,   0.031,2,   0.024,2,   0.2617,2,  2353.9,2,  2358.6,2,   7.3299,2,    25.01,2, -999.00,1,  -999.0,1, -999.00,1, -999.00,1,       55.2,2, 20220707,     1757,  30.4967,-122.1466,     4.3903,2,     -999.0,9,     -999.0,9,     -999.0,9,     -999.0,9,     0.0134,1,     4.6876,1,     -999.0,9,     -999.0,9,     -999.0,9,     -999.0,9,     -999.0,9
33RR20220613,       P02E,     186,          1,         19,         39,2,20220707,       1639,    30.4966,  -122.1466,       4067,   944.0,2,   4.1104,2,  34.4622,2,  34.4612,2,     20.9,2,    20.8,2,  114.21,2,   43.04,2,    0.00,2,    3.14,2,   0.024,2,   0.021,2,   0.1445,2,  2357.1,2,  2367.0,2,   7.3403,2,    25.01,2, -999.00,1,  -999.0,1, -999.00,1, -999.00,1,       52.9,2, 20220707,     1754,  30.4966,-122.1466,     4.1103,2,     -999.0,9,     -999.0,9,     -999.0,9,     -999.0,9,     0.0134,1,     4.6883,1,     -999.0,9,     -999.0,9,     -999.0,9,     -999.0,9,     -999.0,9
33RR20220613,       P02E,     186,          1,         18,         18,2,20220707,       1639,    30.4966,  -122.1466,       4067,  1045.0,2,   3.8034,2,  34.4887,2,  34.4893,2,     26.3,2,    26.4,2,  120.85,2,   43.01,2,    0.00,2,    3.13,2,   0.017,2,   0.017,2,   0.1264,2,  2362.4,2,  2381.6,6,   7.3503,2,    25.00,2, -999.00,1,  -999.0,1, -999.00,1, -999.00,1,       51.6,2, 20220707,     1752,  30.4966,-122.1465,     3.8027,2,     -999.0,9,     -999.0,9,     -999.0,9,     -999.0,9,     0.0134,1,     4.6887,1,     -999.0,9,     -999.0,9,     -999.0,9,     -999.0,9,     -999.0,9
33RR20220613,       P02E,     186,          1,         17,         37,2,20220707,       1639,    30.4966,  -122.1466,       4067,  1146.2,2,   3.5555,2,  34.5120,2,  34.5111,2,     31.8,2,    32.1,2,  126.22,2,   43.07,2,    0.00,2,    3.11,2,   0.013,2,   0.014,2,   0.0434,2,  2363.8,2,  2383.8,2,   7.3614,2,    25.00,2, -999.00,1,  -999.0,1, -999.00,1, -999.00,1,       45.9,2, 20220707,     1749,  30.4966,-122.1466,     3.5551,2,     -999.0,9,     -999.0,9,     -999.0,9,     -999.0,9,     0.0134,1,     4.6895,1,     -999.0,9,     -999.0,9,     -999.0,9,     -999.0,9,     -999.0,9
33RR20220613,       P02E,     186,          1,         16,         16,2,20220707,       1639,    30.4966,  -122.1466,       4067,  1247.5,2,   3.3197,2,  34.5316,2,  34.5317,2,     37.2,2,    37.2,2,  131.98,2,   42.81,2,    0.00,2,    3.08,2,   0.012,2,   0.012,2,   0.0000,2,  2367.9,2,  2393.0,2,   7.3720,2,    25.00,2, -999.00,1,  -999.0,1, -999.00,1, -999.00,1,       44.7,2, 20220707,     1746,  30.4966,-122.1466,     3.3187,2,     -999.0,9,     -999.0,9,     -999.0,9,     -999.0,9,     0.0134,1,     4.6897,1,     -999.0,9,     -999.0,9,     -999.0,9,     -999.0,9,     -999.0,9
33RR20220613,       P02E,     186,          1,         15,         15,2,20220707,       1639,    30.4966,  -122.1466,       4067,  1348.8,2,   3.1139,2,  34.5456,2,  34.5455,2,     41.8,2,    41.7,2,  136.96,2,   42.65,2,    0.00,2,    3.06,2,   0.012,2,   0.012,2,   0.0000,2,  2372.6,2,  2398.7,2,   7.3804,2,    24.99,2, -999.00,1,  -999.0,1, -999.00,1, -999.00,1,       43.9,2, 20220707,     1743,  30.4967,-122.1466,     3.1136,2,     -999.0,9,     -999.0,9,     -999.0,9,     -999.0,9,     0.0134,1,     4.6910,1,     -999.0,9,     -999.0,9,     -999.0,9,     -999.0,9,     -999.0,9
33RR20220613,       P02E,     186,          1,         14,         42,2,20220707,       1639,    30.4966,  -122.1466,       4067,  1450.3,2,   2.9018,2,  34.5603,3,  34.5710,2,     47.3,2,    47.1,2,  142.43,2,   42.50,2,    0.00,2,    3.02,2,   0.011,2,   0.013,2,   0.0000,2,  2373.3,2,  2402.8,2,   7.3899,2,    24.99,2, -999.00,1,  -999.0,1, -999.00,1, -999.00,1,       41.0,2, 20220707,     1739,  30.4966,-122.1465,     2.9011,2,     -999.0,9,     -999.0,9,     -999.0,9,     -999.0,9,     0.0134,1,     4.6913,1,     -999.0,9,     -999.0,9,     -999.0,9,     -999.0,9,     -999.0,9
33RR20220613,       P02E,     186,          1,         13,         13,2,20220707,       1639,    30.4966,  -122.1466,       4067,  1552.1,2,   2.7241,2,  34.5739,2,  34.5777,2,     52.9,2,    52.7,2,  146.73,2,   42.17,2,    0.00,2,    2.99,2,   0.010,2,   0.010,2,   0.0000,2,  2372.9,2,  2404.5,2,   7.4012,2,    25.00,2, -999.00,1,  -999.0,1, -999.00,1, -999.00,1,       39.5,2, 20220707,     1737,  30.4967,-122.1466,     2.7250,2,     -999.0,9,     -999.0,9,     -999.0,9,     -999.0,9,     0.0134,1,     4.6920,1,     -999.0,9,     -999.0,9,     -999.0,9,     -999.0,9,     -999.0,9
33RR20220613,       P02E,     186,          1,         12,         12,2,20220707,       1639,    30.4966,  -122.1466,       4067,  1653.1,2,   2.5489,2,  34.5869,2,  34.5883,2,     59.1,2,    59.2,2,  151.12,2,   41.78,2,    0.00,2,    2.94,2,   0.011,2,   0.012,2,   0.0000,2,  2373.3,2,  2410.3,2,   7.4130,2,    25.00,2, -999.00,1,  -999.0,1, -999.00,1, -999.00,1,       38.6,2, 20220707,     1734,  30.4966,-122.1465,     2.5499,2,     -999.0,9,     -999.0,9,     -999.0,9,     -999.0,9,     0.0134,1,     4.6915,1,     -999.0,9,     -999.0,9,     -999.0,9,     -999.0,9,     -999.0,9
33RR20220613,       P02E,     186,          1,         11,         11,2,20220707,       1639,    30.4966,  -122.1466,       4067,  1754.8,2,   2.4128,2,  34.5990,2,  34.5985,2,     65.8,2,    65.6,2,  153.86,2,   41.39,2,    0.00,2,    2.91,2,   0.007,2,   0.007,2,   0.0000,2,  2370.0,2,  2412.6,2,   7.4248,2,    25.00,2, -999.00,9,  -999.0,9, -999.00,1, -999.00,1,       36.3,2, 20220707,     1731,  30.4966,-122.1465,     2.4153,2,     -999.0,9,     -999.0,9,     -999.0,9,     -999.0,9,     0.0134,1,     4.6932,1,     -999.0,9,     -999.0,9,     -999.0,9,     -999.0,9,     -999.0,9
33RR20220613,       P02E,     186,          1,         10,         10,2,20220707,       1639,    30.4966,  -122.1466,       4067,  1886.2,2,   2.2348,2,  34.6122,2,  34.6148,2,     73.5,2,    74.1,2,  157.66,2,   40.79,2,    0.00,2,    2.86,2,   0.006,2,   0.005,2,   0.0000,2,  2367.4,2,  2415.4,2,   7.4424,2,    25.01,2, -999.00,9,  -999.0,9, -999.00,1, -999.00,1,       33.2,2, 20220707,     1727,  30.4966,-122.1466,     2.2355,2,     -999.0,9,     -999.0,9,     -999.0,9,     -999.0,9,     0.0133,1,     4.6921,1,     -999.0,9,     -999.0,9,     -999.0,9,     -999.0,9,     -999.0,9
33RR20220613,       P02E,     186,          1,          9,          9,2,20220707,       1639,    30.4966,  -122.1466,       4067,  2111.0,2,   2.0217,2,  34.6319,2,  34.6327,2,     86.8,2,    86.8,2,  160.88,2,   39.98,2,    0.00,2,    2.78,2,   0.006,2,   0.008,2,   0.0000,2,  2367.1,2,  2422.7,2,   7.4657,2,    25.00,2, -999.00,9,  -999.0,9, -999.00,1, -999.00,1,       30.3,2, 20220707,     1722,  30.4966,-122.1466,     2.0214,2,     -999.0,9,     -999.0,9,     -999.0,9,     -999.0,9,     0.0134,1,     4.6923,1,     -999.0,9,     -999.0,9,     -999.0,9,     -999.0,9,     -999.0,9
33RR20220613,       P02E,     186,          1,          8,          8,2,20220707,       1639,    30.4966,  -122.1466,       4067,  2365.2,2,   1.8832,2,  34.6449,2,  34.6456,2,     97.0,2,    96.7,2,  162.64,2,   39.26,2,    0.00,2,    2.73,2,   0.005,2,   0.006,2,   0.0000,2,  2360.6,2,  2426.8,2,   7.4870,2,    25.01,2, -999.00,1,  -999.0,1, -999.00,1, -999.00,1,       28.6,2, 20220707,     1717,  30.4966,-122.1466,     1.8834,2,     -999.0,9,     -999.0,9,     -999.0,9,     -999.0,9,     0.0134,1,     4.6939,1,     -999.0,9,     -999.0,9,     -999.0,9,     -999.0,9,     -999.0,9
33RR20220613,       P02E,     186,          1,          7,          7,2,20220707,       1639,    30.4966,  -122.1466,       4067,  2619.5,2,   1.7687,2,  34.6549,2,  34.6559,2,    105.8,2,   105.9,2,  164.30,2,   38.73,2,    0.00,2,    2.69,2,   0.005,2,   0.007,2,   0.0000,2,  2358.1,2,  2429.2,2,   7.5039,2,    25.00,2, -999.00,9,  -999.0,9, -999.00,1, -999.00,1,       26.5,2, 20220707,     1710,  30.4966,-122.1466,     1.7691,2,     -999.0,9,     -999.0,9,     -999.0,9,     -999.0,9,     0.0134,1,     4.6952,1,     -999.0,9,     -999.0,9,     -999.0,9,     -999.0,9,     -999.0,9
33RR20220613,       P02E,     186,          1,          6,          6,2,20220707,       1639,    30.4966,  -122.1466,       4067,  2874.5,2,   1.6854,2,  34.6621,2,  34.6631,2,    113.2,2,   113.3,2,  165.77,2,   38.30,2,    0.00,2,    2.65,2,   0.007,2,   0.009,2,   0.0000,2,  2355.7,2,  2429.4,2,   7.5175,2,    25.01,2, -999.00,9,  -999.0,9, -999.00,1, -999.00,1,       25.5,2, 20220707,     1706,  30.4966,-122.1466,     1.6857,2,     -999.0,9,     -999.0,9,     -999.0,9,     -999.0,9,     0.0125,1,     4.6966,1,     -999.0,9,     -999.0,9,     -999.0,9,     -999.0,9,     -999.0,9
33RR20220613,       P02E,     186,          1,          5,          5,2,20220707,       1639,    30.4966,  -122.1466,       4067,  3145.3,2,   1.6233,2,  34.6676,2,  34.6669,2,    119.5,2,   119.8,2,  166.64,2,   37.98,2,    0.00,2,    2.62,2,   0.008,6,   0.011,6,   0.0000,6,  2352.0,2,  2430.8,2,   7.5289,2,    24.99,2, -999.00,1,  -999.0,1, -999.00,1, -999.00,1,       25.0,6, 20220707,     1700,  30.4966,-122.1465,     1.6232,2,     -999.0,9,     -999.0,9,     -999.0,9,     -999.0,9,     0.0122,1,     4.6976,1,     -999.0,9,     -999.0,9,     -999.0,9,     -999.0,9,     -999.0,9