BOTTLE,20230830CCHSIOCBG
EXPOCODE,SECT_ID,STNNBR,CASTNO,SAMPNO,BTLNBR,BTLNBR_FLAG_W,DATE,TIME,LATITUDE,LONGITUDE,DEPTH,CTDPRS,CTDPRS_FLAG_W,CTDTMP,CTDTMP_FLAG_W,CTDSAL,CTDSAL_FLAG_W,SALNTY,SALNTY_FLAG_W,CTDOXY,CTDOXY_FLAG_W,OXYGEN,OXYGEN_FLAG_W,SILCAT,SILCAT_FLAG_W,NITRAT,NITRAT_FLAG_W,NITRIT,NITRIT_FLAG_W,PHSPHT,PHSPHT_FLAG_W,CFC-11,CFC-11_FLAG_W,CFC-12,CFC-12_FLAG_W,SF6,SF6_FLAG_W,TCARBN,TCARBN_FLAG_W,ALKALI,ALKALI_FLAG_W,PH_TOT,PH_TOT_FLAG_W,PH_TMP,PH_TMP_FLAG_W,DELC13,DELC13_FLAG_W,DELC14,DELC14_FLAG_W,DOC,DOC_FLAG_W,TDN,TDN_FLAG_W,N2O,N2O_FLAG_W,BTL_DATE,BTL_TIME,BTL_LAT,BTL_LON,REFTMP,REFTMP_FLAG_W,POC,POC_FLAG_W,PON,PON_FLAG_W,POP,POP_FLAG_W,PCOD,PCOD_FLAG_W,CTDFLUOR,CTDFLUOR_FLAG_W,CTDXMISS,CTDXMISS_FLAG_W,HPLC,HPLC_FLAG_W,DNA,DNA_FLAG_W,FCM,FCM_FLAG_W,IMAGES,IMAGES_FLAG_W,VIRAL_ABUNDANCE,VIRAL_ABUNDANCE_FLAG_W
,,,,,,,,,,,METERS,DBAR,,ITS-90,,PSS-78,,PSS-78,,UMOL/KG,,UMOL/KG,,UMOL/KG,,UMOL/KG,,UMOL/KG,,UMOL/KG,,PMOL/KG,,PMOL/KG,,FMOL/KG,,UMOL/KG,,UMOL/KG,,,,DEG C,,/MILLE,,/MILLE,,UMOL/KG,,UMOL/KG,,NMOL/KG,,,,,,ITS-90,,UG/L,,UG/L,,UG/L,,UG/L,,VOLTS,,VOLTS,,,,,,,,,,,
33RR20220613,       P02E,     154,          1,         36,         36,2,20220628,       1036,    29.9991,  -140.4262,       4772,     2.0,2,  21.6482,2,  34.4005,2,  34.4016,2,    227.6,2,   226.8,2,    1.56,2,    0.07,2,    0.00,2,    0.09,2,   1.875,2,   1.178,2,   1.9284,2,  2038.2,6,  2282.5,2,   7.9576,2,    25.02,2, -999.00,1,  -999.0,1, -999.00,9, -999.00,9,        7.5,2, 20220628,     1240,  29.9991,-140.4262,     -999.0,9,     -999.0,9,     -999.0,9,     -999.0,9,     -999.0,9,     0.0134,1,     4.6303,1,     -999.0,9,     -999.0,9,     -999.0,9,     -999.0,9,     -999.0,9
33RR20220613,       P02E,     154,          1,         35,         35,2,20220628,       1036,    29.9991,  -140.4262,       4772,     2.3,2,  21.6395,2,  34.4078,2,  34.4057,2,    227.5,2,   226.4,2,    1.37,2,    0.02,2,    0.00,2,    0.09,2,   1.871,2,   1.186,2,   1.9404,2,  -999.0,9,  -999.0,9,-999.0000,9,  -999.00,9, -999.00,1,  -999.0,1, -999.00,1, -999.00,1,        7.4,2, 20220628,     1240,  29.9992,-140.4262,    21.6611,2,     -999.0,9,     -999.0,9,     -999.0,9,     -999.0,9,     0.0134,1,     4.6301,1,     -999.0,9,     -999.0,9,     -999.0,9,     -999.0,9,     -999.0,9
33RR20220613,       P02E,     154,          1,         34,         34,2,20220628,       1036,    29.9991,  -140.4262,       4772,    21.2,2,  21.3062,2,  34.5216,2,  34.5176,2,    228.5,2,   229.7,2,    1.27,2,    0.01,2,    0.00,2,    0.05,2,   1.892,2,   1.196,2,   1.9823,2,  2039.1,2,  2288.7,2,   7.9611,2,    25.02,2, -999.00,1,  -999.0,1, -999.00,1, -999.00,1,        7.6,2, 20220628,     1239,  29.9991,-140.4262,    21.3050,2,     -999.0,9,     -999.0,9,     -999.0,9,     -999.0,9,     0.0137,1,     4.6343,1,     -999.0,9,     -999.0,9,     -999.0,9,     -999.0,9,     -999.0,9
33RR20220613,       P02E,     154,          1,         33,         33,2,20220628,       1036,    29.9991,  -140.4262,       4772,    41.6,2,  19.2357,2,  34.2181,2,  34.2164,2,    243.7,2,   243.9,2,    1.27,2,    0.00,2,    0.00,2,    0.09,2,   2.078,2,   1.310,2,   2.2341,2,  2029.6,2,  2270.7,2,   7.9510,2,    25.02,2, -999.00,1,  -999.0,1, -999.00,1, -999.00,1,        8.0,2, 20220628,     1237,  29.9991,-140.4262,    19.2608,2,     -999.0,9,     -999.0,9,     -999.0,9,     -999.0,9,     0.0134,1,     4.6410,1,     -999.0,9,     -999.0,9,     -999.0,9,     -999.0,9,     -999.0,9
33RR20220613,       P02E,     154,          1,         32,         32,2,20220628,       1036,    29.9991,  -140.4262,       4772,    65.6,2,  18.5732,2,  34.2514,2,  34.2473,2,    242.3,2,   241.6,2,    1.37,2,    0.00,2,    0.00,2,    0.09,2,   2.104,2,   1.319,2,   2.1784,2,  2033.5,2,  2270.9,6,   7.9500,2,    25.01,2, -999.00,1,  -999.0,1, -999.00,1, -999.00,1,        8.1,2, 20220628,     1235,  29.9992,-140.4262,    18.5737,2,     -999.0,9,     -999.0,9,     -999.0,9,     -999.0,9,     0.0147,1,     4.6446,1,     -999.0,9,     -999.0,9,     -999.0,9,     -999.0,9,     -999.0,9
33RR20220613,       P02E,     154,          1,         31,         31,2,20220628,       1036,    29.9991,  -140.4262,       4772,    89.1,2,  18.6222,2,  34.3569,2,  34.3433,2,    241.2,2,   241.5,2,    1.47,2,    0.01,2,    0.00,2,    0.07,2,   2.097,2,   1.314,2,   2.1574,2,  2034.5,2,  2272.1,2,   7.9509,2,    25.02,2, -999.00,1,  -999.0,1, -999.00,1, -999.00,1,        8.1,2, 20220628,     1232,  29.9992,-140.4262,    18.6163,2,     -999.0,9,     -999.0,9,     -999.0,9,     -999.0,9,     0.0166,1,     4.6468,1,     -999.0,9,     -999.0,9,     -999.0,9,     -999.0,9,     -999.0,9
33RR20220613,       P02E,     154,          1,         30,         17,2,20220628,       1036,    29.9991,  -140.4262,       4772,   137.3,2,  19.0562,2,  34.7148,2,  34.7158,2,    230.7,3,   233.9,2,    1.47,2,    0.02,2,    0.00,2,    0.04,2,   2.035,2,   1.261,2,   2.0533,2,  2040.4,2,  2290.4,2,   7.9616,2,    25.01,2, -999.00,1,  -999.0,1, -999.00,1, -999.00,1,        8.1,2, 20220628,     1230,  29.9992,-140.4262,    19.0560,2,     -999.0,9,     -999.0,9,     -999.0,9,     -999.0,9,     0.0232,1,     4.6592,1,     -999.0,9,     -999.0,9,     -999.0,9,     -999.0,9,     -999.0,9
33RR20220613,       P02E,     154,          1,         29,         29,2,20220628,       1036,    29.9991,  -140.4262,       4772,   187.6,2,  15.7818,2,  34.1167,2,  34.1279,2,    224.1,2,   225.6,2,    2.44,2,    1.38,2,    0.06,2,    0.23,2,   2.348,2,   1.451,2,   2.2141,2,  2048.7,2,  2253.7,2,   7.8868,2,    25.01,2, -999.00,1,  -999.0,1, -999.00,1, -999.00,1,        9.8,2, 20220628,     1227,  29.9992,-140.4262,    15.8152,2,     -999.0,9,     -999.0,9,     -999.0,9,     -999.0,9,     0.0215,1,     4.6737,1,     -999.0,9,     -999.0,9,     -999.0,9,     -999.0,9,     -999.0,9
33RR20220613,       P02E,     154,          1,         28,         28,2,20220628,       1036,    29.9991,  -140.4262,       4772,   237.8,2,  11.6720,2,  33.8656,2,  33.8688,2,    214.1,2,   214.0,2,    8.61,2,    9.50,2,    0.00,2,    0.77,2,   2.571,2,   1.589,2,   2.0664,2,  -999.0,9,  -999.0,9,-999.0000,9,  -999.00,9, -999.00,1,  -999.0,1, -999.00,1, -999.00,1,       12.2,2, 20220628,     1224,  29.9992,-140.4262,    11.7795,3,     -999.0,9,     -999.0,9,     -999.0,9,     -999.0,9,     0.0134,1,     4.6867,1,     -999.0,9,     -999.0,9,     -999.0,9,     -999.0,9,     -999.0,9
33RR20220613,       P02E,     154,          1,         27,         27,2,20220628,       1036,    29.9991,  -140.4262,       4772,   287.8,2,  10.4894,2,  34.0598,2,  34.0611,2,    208.4,2,   209.0,2,   14.77,2,   14.17,2,    0.00,2,    1.04,2,   2.937,2,   1.812,2,   2.1565,2,  2114.9,2,  2252.8,2,   7.7338,2,    25.01,2, -999.00,1,  -999.0,1, -999.00,1, -999.00,1,       17.5,2, 20220628,     1223,  29.9992,-140.4262,    10.5050,2,     -999.0,9,     -999.0,9,     -999.0,9,     -999.0,9,     0.0122,1,     4.6897,1,     -999.0,9,     -999.0,9,     -999.0,9,     -999.0,9,     -999.0,9
33RR20220613,       P02E,     154,          1,         26,         26,2,20220628,       1036,    29.9991,  -140.4262,       4772,   339.0,2,   9.6750,2,  34.0453,2,  34.0458,2,    203.5,2,   203.9,2,   19.17,2,   16.67,2,    0.00,2,    1.19,2,   2.996,2,   1.807,2,   1.8755,2,  2129.0,2,  2256.7,2,   7.7032,2,    25.02,2, -999.00,1,  -999.0,1, -999.00,1, -999.00,1,       20.0,2, 20220628,     1221,  29.9992,-140.4262,     9.6695,2,     -999.0,9,     -999.0,9,     -999.0,9,     -999.0,9,     0.0122,1,     4.6906,1,     -999.0,9,     -999.0,9,     -999.0,9,     -999.0,9,     -999.0,9
33RR20220613,       P02E,     154,          1,         25,         25,2,20220628,       1036,    29.9991,  -140.4262,       4772,   389.0,2,   8.5457,2,  34.0241,2,  34.0245,2,    173.1,2,   172.3,2,   30.42,2,   22.32,2,    0.00,2,    1.57,2,   2.851,2,   1.724,2,   1.4656,2,  2165.5,2,  2264.6,2,   7.6218,2,    25.01,2, -999.00,1,  -999.0,1, -999.00,1, -999.00,1,       25.2,2, 20220628,     1219,  29.9992,-140.4262,     8.5434,2,     -999.0,9,     -999.0,9,     -999.0,9,     -999.0,9,     0.0131,1,     4.6912,1,     -999.0,9,     -999.0,9,     -999.0,9,     -999.0,9,     -999.0,9
33RR20220613,       P02E,     154,          1,         24,         24,2,20220628,       1036,    29.9991,  -140.4262,       4772,   470.1,2,   7.2266,2,  33.9976,2,  33.9974,2,    129.1,2,   128.7,2,   45.48,2,   29.03,2,    0.00,2,    2.08,2,   2.540,2,   1.512,2,   0.9888,2,  2212.0,2,  2273.0,2,   7.5107,2,    25.02,2, -999.00,1,  -999.0,1, -999.00,1, -999.00,1,       31.0,2, 20220628,     1216,  29.9992,-140.4262,     7.2297,2,     -999.0,9,     -999.0,9,     -999.0,9,     -999.0,9,     0.0122,1,     4.6922,1,     -999.0,9,     -999.0,9,     -999.0,9,     -999.0,9,     -999.0,9
33RR20220613,       P02E,     154,          1,         23,         23,2,20220628,       1036,    29.9991,  -140.4262,       4772,   570.7,2,   5.5811,2,  34.0323,2,  34.0337,2,     67.9,2,    67.9,2,   71.30,2,   37.35,2,    0.00,2,    2.69,2,   1.659,2,   0.950,2,   0.4719,2,  2278.3,2,  2294.3,2,   7.3729,2,    25.00,2, -999.00,1,  -999.0,1, -999.00,1, -999.00,1,       40.2,2, 20220628,     1215,  29.9992,-140.4262,     5.5816,2,     -999.0,9,     -999.0,9,     -999.0,9,     -999.0,9,     0.0134,1,     4.6932,1,     -999.0,9,     -999.0,9,     -999.0,9,     -999.0,9,     -999.0,9
33RR20220613,       P02E,     154,          1,         22,         22,2,20220628,       1036,    29.9991,  -140.4262,       4772,   669.7,2,   4.9169,2,  34.1209,2,  34.1242,2,     35.8,2,    35.8,2,   88.31,2,   41.10,2,    0.00,2,    2.97,2,   0.881,2,   0.488,2,   0.3264,2,  2314.8,2,  2314.6,2,   7.3213,2,    25.02,2, -999.00,1,  -999.0,1, -999.00,1, -999.00,1,       47.1,2, 20220628,     1212,  29.9992,-140.4262,     4.9150,2,     -999.0,9,     -999.0,9,     -999.0,9,     -999.0,9,     0.0134,1,     4.6933,1,     -999.0,9,     -999.0,9,     -999.0,9,     -999.0,9,     -999.0,9
33RR20220613,       P02E,     154,          1,         21,         21,2,20220628,       1036,    29.9991,  -140.4262,       4772,   770.9,2,   4.4878,2,  34.2361,2,  34.2364,2,     16.8,2,    16.7,2,  101.70,2,   43.05,2,    0.00,2,    3.15,2,   0.280,2,   0.166,2,   0.0000,2,  2342.1,2,  2335.4,2,   7.2984,2,    25.01,2, -999.00,1,  -999.0,1, -999.00,1, -999.00,1,       53.8,2, 20220628,     1209,  29.9992,-140.4262,     4.4872,2,     -999.0,9,     -999.0,9,     -999.0,9,     -999.0,9,     0.0134,1,     4.6934,1,     -999.0,9,     -999.0,9,     -999.0,9,     -999.0,9,     -999.0,9
33RR20220613,       P02E,     154,          1,         20,         20,2,20220628,       1036,    29.9991,  -140.4262,       4772,   871.7,2,   4.1540,2,  34.3421,2,  34.3452,2,     13.8,3,    13.5,2,  112.55,2,   43.66,2,    0.00,2,    3.21,2,   0.061,2,   0.039,2,   0.0000,2,  2356.2,2,  2352.9,2,   7.3072,2,    25.01,2, -999.00,1,  -999.0,1, -999.00,1, -999.00,1,       55.7,2, 20220628,     1207,  29.9992,-140.4262,     4.1522,2,     -999.0,9,     -999.0,9,     -999.0,9,     -999.0,9,     0.0134,1,     4.6937,1,     -999.0,9,     -999.0,9,     -999.0,9,     -999.0,9,     -999.0,9
33RR20220613,       P02E,     154,          1,         19,         39,2,20220628,       1036,    29.9991,  -140.4262,       4772,   972.9,2,   3.8511,2,  34.4036,2,  34.4035,2,     18.2,2,    18.1,2,  119.58,2,   43.88,2,    0.00,2,    3.19,2,   0.021,2,   0.017,2,   0.0000,2,  2363.0,2,  2364.8,2,   7.3227,2,    25.03,2, -999.00,1,  -999.0,1, -999.00,1, -999.00,1,       53.8,2, 20220628,     1204,  29.9992,-140.4262,     3.8517,2,     -999.0,9,     -999.0,9,     -999.0,9,     -999.0,9,     0.0134,1,     4.6944,1,     -999.0,9,     -999.0,9,     -999.0,9,     -999.0,9,     -999.0,9
33RR20220613,       P02E,     154,          1,         18,         18,2,20220628,       1036,    29.9991,  -140.4262,       4772,  1074.3,2,   3.5855,2,  34.4459,2,  34.4477,2,     24.1,2,    24.2,2,  125.35,2,   43.89,2,    0.00,2,    3.17,2,-999.000,9,-999.000,9,-999.0000,9,  -999.0,9,  -999.0,9,-999.0000,9,  -999.00,9, -999.00,1,  -999.0,1, -999.00,1, -999.00,1,     -999.0,9, 20220628,     1201,  29.9992,-140.4262,     3.5844,2,     -999.0,9,     -999.0,9,     -999.0,9,     -999.0,9,     0.0134,1,     4.6949,1,     -999.0,9,     -999.0,9,     -999.0,9,     -999.0,9,     -999.0,9
33RR20220613,       P02E,     154,          1,         17,         37,2,20220628,       1036,    29.9991,  -140.4262,       4772,  1175.8,2,   3.3252,2,  34.4769,2,  34.4795,2,     29.1,3,    30.2,2,  133.26,2,   43.80,2,    0.00,2,    3.15,2,   0.007,2,   0.007,2,   0.0000,2,  2369.6,2,  2383.6,2,   7.3496,2,    25.03,2, -999.00,1,  -999.0,1, -999.00,1, -999.00,1,       48.3,2, 20220628,     1159,  29.9992,-140.4262,     3.3219,2,     -999.0,9,     -999.0,9,     -999.0,9,     -999.0,9,     0.0134,1,     4.6948,1,     -999.0,9,     -999.0,9,     -999.0,9,     -999.0,9,     -999.0,9
33RR20220613,       P02E,     154,          1,         16,         16,2,20220628,       1036,    29.9991,  -140.4262,       4772,  1276.3,2,   3.1415,2,  34.5106,2,  34.5107,2,     39.2,2,    39.4,2,  135.51,2,   43.15,2,    0.00,2,    3.10,2,-999.000,9,-999.000,9,-999.0000,9,  -999.0,9,  -999.0,9,-999.0000,9,  -999.00,9, -999.00,1,  -999.0,1, -999.00,1, -999.00,1,     -999.0,9, 20220628,     1155,  29.9992,-140.4262,     3.1428,2,     -999.0,9,     -999.0,9,     -999.0,9,     -999.0,9,     0.0134,1,     4.6955,1,     -999.0,9,     -999.0,9,     -999.0,9,     -999.0,9,     -999.0,9
33RR20220613,       P02E,     154,          1,         15,         15,2,20220628,       1036,    29.9991,  -140.4262,       4772,  1479.9,2,   2.7581,2,  34.5493,3,  34.5545,2,     51.8,2,    52.0,2,  144.69,2,   42.52,2,    0.00,2,    3.04,2,   0.007,2,   0.004,2,   0.0000,2,  2370.2,2,  2400.1,2,   7.3959,2,    25.03,2, -999.00,1,  -999.0,1, -999.00,1, -999.00,1,       38.7,2, 20220628,     1146,  29.9991,-140.4262,     2.7567,2,     -999.0,9,     -999.0,9,     -999.0,9,     -999.0,9,     0.0134,1,     4.6966,1,     -999.0,9,     -999.0,9,     -999.0,9,     -999.0,9,     -999.0,9
33RR20220613,       P02E,     154,          1,         14,         14,2,20220628,       1036,    29.9991,  -140.4262,       4772,  1581.3,2,   2.5811,2,  34.5668,2,  34.5675,2,     58.5,2,    58.7,2,  148.50,2,   42.12,2,    0.00,2,    3.01,2,-999.000,9,-999.000,9,-999.0000,9,  -999.0,9,  -999.0,9,-999.0000,9,  -999.00,9, -999.00,1,  -999.0,1, -999.00,1, -999.00,1,     -999.0,9, 20220628,     1143,  29.9992,-140.4262,     2.5828,2,     -999.0,9,     -999.0,9,     -999.0,9,     -999.0,9,     0.0134,1,     4.6971,1,     -999.0,9,     -999.0,9,     -999.0,9,     -999.0,9,     -999.0,9
33RR20220613,       P02E,     154,          1,         13,         13,2,20220628,       1036,    29.9991,  -140.4262,       4772,  1754.0,2,   2.3419,2,  34.5900,2,  34.5906,2,     66.9,2,    67.1,2,  154.66,2,   41.66,2,    0.00,2,    2.96,2,   0.003,2,   0.000,2,   0.0000,2,  2371.8,2,  2409.0,2,   7.4255,2,    25.03,2, -999.00,1,  -999.0,1, -999.00,1, -999.00,1,       33.8,2, 20220628,     1139,  29.9992,-140.4262,     2.3427,2,     -999.0,9,     -999.0,9,     -999.0,9,     -999.0,9,     0.0134,1,     4.6980,1,     -999.0,9,     -999.0,9,     -999.0,9,     -999.0,9,     -999.0,9
33RR20220613,       P02E,     154,          1,         12,         12,2,20220628,       1036,    29.9991,  -140.4262,       4772,  1956.9,2,   2.1260,2,  34.6082,2,  34.6081,2,     75.6,2,    75.4,2,  160.72,2,   41.06,2,    0.00,2,    2.91,2,-999.000,9,-999.000,9,-999.0000,9,  -999.0,9,  -999.0,9,-999.0000,9,  -999.00,9, -999.00,1,  -999.0,1, -999.00,1, -999.00,1,     -999.0,9, 20220628,     1135,  29.9991,-140.4262,     2.1268,2,     -999.0,9,     -999.0,9,     -999.0,9,     -999.0,9,     0.0134,1,     4.6983,1,     -999.0,9,     -999.0,9,     -999.0,9,     -999.0,9,     -999.0,9
33RR20220613,       P02E,     154,          1,         11,         11,2,20220628,       1036,    29.9991,  -140.4262,       4772,  2191.3,2,   1.9008,2,  34.6286,2,  34.6288,2,     88.3,2,    88.2,2,  165.51,2,   40.14,2,    0.00,2,    2.85,2,   0.004,2,   0.003,2,   0.0000,2,  2368.7,2,  2423.5,2,   7.4671,2,    25.02,2, -999.00,9,  -999.0,9, -999.00,1, -999.00,1,       28.6,2, 20220628,     1130,  29.9992,-140.4262,     1.9007,2,     -999.0,9,     -999.0,9,     -999.0,9,     -999.0,9,     0.0134,1,     4.6995,1,     -999.0,9,     -999.0,9,     -999.0,9,     -999.0,9,     -999.0,9
33RR20220613,       P02E,     154,          1,         10,         10,2,20220628,       1036,    29.9991,  -140.4262,       4772,  2445.5,2,   1.7635,2,  34.6417,2,  34.6425,2,     98.4,2,    98.4,2,  167.46,2,   39.55,2,    0.00,2,    2.80,2,-999.000,9,-999.000,9,-999.0000,9,  -999.0,9,  -999.0,9,-999.0000,9,  -999.00,9, -999.00,9,  -999.0,9, -999.00,1, -999.00,1,     -999.0,9, 20220628,     1125,  29.9992,-140.4262,     1.7651,2,     -999.0,9,     -999.0,9,     -999.0,9,     -999.0,9,     0.0124,1,     4.6995,1,     -999.0,9,     -999.0,9,     -999.0,9,     -999.0,9,     -999.0,9
33RR20220613,       P02E,     154,          1,          9,          9,2,20220628,       1036,    29.9991,  -140.4262,       4772,  2700.7,2,   1.6581,2,  34.6525,2,  34.6533,2,    108.4,2,   108.3,2,  168.63,2,   38.99,2,    0.00,2,    2.74,2,   0.004,2,   0.002,2,   0.0000,2,  2359.5,2,  2429.2,2,   7.5055,2,    25.02,2, -999.00,9,  -999.0,9, -999.00,1, -999.00,1,       25.7,2, 20220628,     1119,  29.9992,-140.4262,     1.6582,2,     -999.0,9,     -999.0,9,     -999.0,9,     -999.0,9,     0.0132,1,     4.7002,1,     -999.0,9,     -999.0,9,     -999.0,9,     -999.0,9,     -999.0,9
33RR20220613,       P02E,     154,          1,          8,          8,2,20220628,       1036,    29.9991,  -140.4262,       4772,  2955.3,2,   1.5949,2,  34.6601,2,  34.6610,2,    116.7,2,   116.7,2,  167.85,2,   38.48,2,    0.00,2,    2.70,2,-999.000,9,-999.000,9,-999.0000,9,  -999.0,9,  -999.0,9,-999.0000,9,  -999.00,9, -999.00,9,  -999.0,9, -999.00,1, -999.00,1,     -999.0,9, 20220628,     1114,  29.9991,-140.4262,     1.5946,2,     -999.0,9,     -999.0,9,     -999.0,9,     -999.0,9,     0.0130,1,     4.7007,1,     -999.0,9,     -999.0,9,     -999.0,9,     -999.0,9,     -999.0,9
33RR20220613,       P02E,     154,          1,          7,          7,2,20220628,       1036,    29.9991,  -140.4262,       4772,  3245.5,2,   1.5371,2,  34.6678,2,  34.6688,2,    125.7,2,   125.9,2,  166.19,2,   37.89,2,    0.00,2,    2.65,2,   0.004,2,   0.005,2,   0.0000,2,  2349.2,2,  2429.7,2,   7.5358,2,    25.02,2, -999.00,9,  -999.0,9, -999.00,1, -999.00,1,       23.8,2, 20220628,     1108,  29.9991,-140.4262,     1.5369,2,     -999.0,9,     -999.0,9,     -999.0,9,     -999.0,9,     0.0131,1,     4.7008,1,     -999.0,9,     -999.0,9,     -999.0,9,     -999.0,9,     -999.0,9
33RR20220613,       P02E,     154,          1,          6,          6,2,20220628,       1036,    29.9991,  -140.4262,       4772,  3553.0,2,   1.4954,2,  34.6745,2,  34.6753,2,    134.5,2,   134.7,2,  163.74,2,   37.37,2,    0.00,2,    2.60,2,-999.000,9,-999.000,9,-999.0000,9,  -999.0,9,  -999.0,9,-999.0000,9,  -999.00,9, -999.00,1,  -999.0,1, -999.00,1, -999.00,1,     -999.0,9, 20220628,     1102,  29.9992,-140.4262,     1.4951,2,     -999.0,9,     -999.0,9,     -999.0,9,     -999.0,9,     0.0122,1,     4.7015,1,     -999.0,9,     -999.0,9,     -999.0,9,     -999.0,9,     -999.0,9
33RR20220613,       P02E,     154,          1,          5,          5,2,20220628,       1036,    29.9991,  -140.4262,       4772,  3860.7,2,   1.4888,2,  34.6784,2,  34.6798,2,    139.8,2,   140.1,2,  161.69,2,   37.05,2,    0.00,2,    2.57,2,   0.004,2,   0.004,2,   0.0000,2,  2340.4,2,  2428.3,2,   7.5617,2,    25.02,2, -999.00,1,  -999.0,1, -999.00,1, -999.00,1,       22.1,2, 20220628,     1056,  29.9991,-140.4262,     1.4886,2,     -999.0,9,     -999.0,9,     -999.0,9,     -999.0,9,     0.0122,1,     4.7018,1,     -999.0,9,     -999.0,9,     -999.0,9,     -999.0,9,     -999.0,9