BOTTLE,20230830CCHSIOCBG
EXPOCODE,SECT_ID,STNNBR,CASTNO,SAMPNO,BTLNBR,BTLNBR_FLAG_W,DATE,TIME,LATITUDE,LONGITUDE,DEPTH,CTDPRS,CTDPRS_FLAG_W,CTDTMP,CTDTMP_FLAG_W,CTDSAL,CTDSAL_FLAG_W,SALNTY,SALNTY_FLAG_W,CTDOXY,CTDOXY_FLAG_W,OXYGEN,OXYGEN_FLAG_W,SILCAT,SILCAT_FLAG_W,NITRAT,NITRAT_FLAG_W,NITRIT,NITRIT_FLAG_W,PHSPHT,PHSPHT_FLAG_W,CFC-11,CFC-11_FLAG_W,CFC-12,CFC-12_FLAG_W,SF6,SF6_FLAG_W,TCARBN,TCARBN_FLAG_W,ALKALI,ALKALI_FLAG_W,PH_TOT,PH_TOT_FLAG_W,PH_TMP,PH_TMP_FLAG_W,DELC13,DELC13_FLAG_W,DELC14,DELC14_FLAG_W,DOC,DOC_FLAG_W,TDN,TDN_FLAG_W,N2O,N2O_FLAG_W,BTL_DATE,BTL_TIME,BTL_LAT,BTL_LON,REFTMP,REFTMP_FLAG_W,POC,POC_FLAG_W,PON,PON_FLAG_W,POP,POP_FLAG_W,PCOD,PCOD_FLAG_W,CTDFLUOR,CTDFLUOR_FLAG_W,CTDXMISS,CTDXMISS_FLAG_W,HPLC,HPLC_FLAG_W,DNA,DNA_FLAG_W,FCM,FCM_FLAG_W,IMAGES,IMAGES_FLAG_W,VIRAL_ABUNDANCE,VIRAL_ABUNDANCE_FLAG_W
,,,,,,,,,,,METERS,DBAR,,ITS-90,,PSS-78,,PSS-78,,UMOL/KG,,UMOL/KG,,UMOL/KG,,UMOL/KG,,UMOL/KG,,UMOL/KG,,PMOL/KG,,PMOL/KG,,FMOL/KG,,UMOL/KG,,UMOL/KG,,,,DEG C,,/MILLE,,/MILLE,,UMOL/KG,,UMOL/KG,,NMOL/KG,,,,,,ITS-90,,UG/L,,UG/L,,UG/L,,UG/L,,VOLTS,,VOLTS,,,,,,,,,,,
33RR20220613,       P02E,     166,          1,          4,          4,2,20220701,       2148,    30.0003,  -133.4983,       4600,  3860.4,2,   1.4812,2,  34.6825,2,  34.6816,2,    139.7,2,   139.9,2,  165.28,2,   36.83,2,    0.00,2,    2.52,2,-999.000,9,-999.000,9,-999.0000,9,  -999.0,9,  -999.0,9,-999.0000,9,  -999.00,9, -999.00,9,  -999.0,9, -999.00,1, -999.00,1,     -999.0,9, 20220701,     2205,  30.0003,-133.4983,     1.4814,2,     -999.0,9,     -999.0,9,     -999.0,9,     -999.0,9,     0.0131,1,     4.7032,1,     -999.0,9,     -999.0,9,     -999.0,9,     -999.0,9,     -999.0,9
33RR20220613,       P02E,     166,          1,          3,          3,2,20220701,       2148,    30.0003,  -133.4983,       4600,  4169.2,2,   1.5027,2,  34.6842,2,  34.6838,2,    142.3,2,   142.6,2,  163.82,2,   36.75,2,    0.00,2,    2.50,2,   0.005,2,   0.008,2,   0.0000,2,  2340.0,2,  2430.3,2,   7.5690,2,    25.01,2, -999.00,9,  -999.0,9, -999.00,1, -999.00,1,       22.1,2, 20220701,     2159,  30.0003,-133.4983,     1.5027,2,     -999.0,9,     -999.0,9,     -999.0,9,     -999.0,9,     0.0122,1,     4.7028,1,     -999.0,9,     -999.0,9,     -999.0,9,     -999.0,9,     -999.0,9
33RR20220613,       P02E,     166,          1,          2,          2,2,20220701,       2148,    30.0003,  -133.4983,       4600,  4422.8,2,   1.5292,2,  34.6847,3,  34.6867,2,    143.1,2,   143.0,2,  163.52,2,   36.66,2,    0.00,2,    2.51,2,   0.006,2,   0.007,2,   0.0000,2,  2340.8,2,  2430.3,6,   7.5691,2,    25.01,2, -999.00,9,  -999.0,9, -999.00,1, -999.00,1,       24.0,2, 20220701,     2154,  30.0003,-133.4983,     1.5292,2,     -999.0,9,     -999.0,9,     -999.0,9,     -999.0,9,     0.0122,1,     4.7020,1,     -999.0,9,     -999.0,9,     -999.0,9,     -999.0,9,     -999.0,9
33RR20220613,       P02E,     166,          1,          1,          1,2,20220701,       2148,    30.0003,  -133.4983,       4600,  4670.8,2,   1.5591,2,  34.6846,2,  34.6844,2,    143.2,2,   143.1,2,  162.74,2,   36.68,2,    0.00,2,    2.51,2,   0.009,2,   0.008,2,   0.0000,2,  2339.6,6,  2428.9,2,   7.5715,2,    25.00,2, -999.00,9,  -999.0,9, -999.00,1, -999.00,1,       23.5,2, 20220701,     2148,  30.0002,-133.4983,     1.5591,2,     -999.0,9,     -999.0,9,     -999.0,9,     -999.0,9,     0.0134,1,     4.7016,1,     -999.0,9,     -999.0,9,     -999.0,9,     -999.0,9,     -999.0,9
33RR20220613,       P02E,     167,          1,         18,         18,2,20220702,       0315,    29.9997,  -132.9211,       4592,     4.1,2,  20.5245,2,  33.9916,2,-999.0000,9,    230.3,2,  -999.0,9, -999.00,9, -999.00,9, -999.00,9, -999.00,9,-999.000,9,-999.000,9,-999.0000,9,  -999.0,9,  -999.0,9,-999.0000,9,  -999.00,9, -999.00,9,  -999.0,9, -999.00,9, -999.00,9,     -999.0,9, 20220702,      342,  29.9997,-132.9211,    20.5240,2,     -999.0,9,     -999.0,9,     -999.0,9,     -999.0,1,     0.0144,1,     4.6272,1,     -999.0,9,     -999.0,9,     -999.0,9,     -999.0,9,     -999.0,9
33RR20220613,       P02E,     167,          1,         13,         13,2,20220702,       0315,    29.9997,  -132.9211,       4592,     4.2,2,  20.5246,2,  33.9915,2,-999.0000,9,    230.3,2,  -999.0,9, -999.00,9, -999.00,9, -999.00,9, -999.00,9,-999.000,9,-999.000,9,-999.0000,9,  -999.0,9,  -999.0,9,-999.0000,9,  -999.00,9, -999.00,9,  -999.0,9, -999.00,9, -999.00,9,     -999.0,9, 20220702,      342,  29.9997,-132.9211,     -999.0,9,     -999.0,1,     -999.0,1,     -999.0,9,     -999.0,9,     0.0138,1,     4.6259,1,     -999.0,9,     -999.0,9,     -999.0,9,     -999.0,9,     -999.0,1
33RR20220613,       P02E,     167,          1,         17,         37,2,20220702,       0315,    29.9997,  -132.9211,       4592,     4.2,2,  20.5244,2,  33.9915,2,-999.0000,9,    230.4,2,  -999.0,9, -999.00,9, -999.00,9, -999.00,9, -999.00,9,-999.000,9,-999.000,9,-999.0000,9,  -999.0,9,  -999.0,9,-999.0000,9,  -999.00,9, -999.00,9,  -999.0,9, -999.00,9, -999.00,9,     -999.0,9, 20220702,      342,  29.9997,-132.9211,     -999.0,9,     -999.0,9,     -999.0,9,     -999.0,9,     -999.0,1,     0.0142,1,     4.6264,1,     -999.0,9,     -999.0,9,     -999.0,9,     -999.0,9,     -999.0,9
33RR20220613,       P02E,     167,          1,         10,         10,2,20220702,       0315,    29.9997,  -132.9211,       4592,     4.3,2,  20.5251,2,  33.9916,2,-999.0000,9,    230.3,2,  -999.0,9, -999.00,9, -999.00,9, -999.00,9, -999.00,9,-999.000,9,-999.000,9,-999.0000,9,  -999.0,9,  -999.0,9,-999.0000,9,  -999.00,9, -999.00,9,  -999.0,9, -999.00,9, -999.00,9,     -999.0,9, 20220702,      342,  29.9997,-132.9211,     -999.0,9,     -999.0,9,     -999.0,9,     -999.0,9,     -999.0,9,     0.0134,1,     4.6279,1,     -999.0,9,     -999.0,1,     -999.0,9,     -999.0,9,     -999.0,9
33RR20220613,       P02E,     167,          1,         19,         39,2,20220702,       0315,    29.9997,  -132.9211,       4592,     4.3,2,  20.5246,2,  33.9914,2,-999.0000,9,    230.3,2,  -999.0,9, -999.00,9, -999.00,9, -999.00,9, -999.00,9,-999.000,9,-999.000,9,-999.0000,9,  -999.0,9,  -999.0,9,-999.0000,9,  -999.00,9, -999.00,9,  -999.0,9, -999.00,9, -999.00,9,     -999.0,9, 20220702,      342,  29.9997,-132.9211,     -999.0,9,     -999.0,9,     -999.0,9,     -999.0,9,     -999.0,1,     0.0142,1,     4.6258,1,     -999.0,9,     -999.0,9,     -999.0,9,     -999.0,9,     -999.0,1
33RR20220613,       P02E,     167,          1,         12,         12,2,20220702,       0315,    29.9997,  -132.9211,       4592,     4.4,2,  20.5250,2,  33.9914,2,-999.0000,9,    230.3,2,  -999.0,9, -999.00,9, -999.00,9, -999.00,9, -999.00,9,-999.000,9,-999.000,9,-999.0000,9,  -999.0,9,  -999.0,9,-999.0000,9,  -999.00,9, -999.00,9,  -999.0,9, -999.00,9, -999.00,9,     -999.0,9, 20220702,      342,  29.9997,-132.9211,     -999.0,9,     -999.0,1,     -999.0,1,     -999.0,9,     -999.0,9,     0.0141,1,     4.6260,1,     -999.0,9,     -999.0,9,     -999.0,9,     -999.0,9,     -999.0,9
33RR20220613,       P02E,     167,          1,         14,         42,2,20220702,       0315,    29.9997,  -132.9211,       4592,     4.4,2,  20.5249,2,  33.9914,2,-999.0000,9,    230.3,2,  -999.0,9, -999.00,9, -999.00,9, -999.00,9, -999.00,9,-999.000,9,-999.000,9,-999.0000,9,  -999.0,9,  -999.0,9,-999.0000,9,  -999.00,9, -999.00,9,  -999.0,9, -999.00,9, -999.00,9,     -999.0,9, 20220702,      342,  29.9997,-132.9211,     -999.0,9,     -999.0,9,     -999.0,9,     -999.0,1,     -999.0,9,     0.0142,1,     4.6274,1,     -999.0,9,     -999.0,9,     -999.0,9,     -999.0,9,     -999.0,9
33RR20220613,       P02E,     167,          1,         11,         11,2,20220702,       0315,    29.9997,  -132.9211,       4592,     4.6,2,  20.5256,2,  33.9916,2,-999.0000,9,    230.3,2,  -999.0,9, -999.00,9, -999.00,9, -999.00,9, -999.00,9,-999.000,9,-999.000,9,-999.0000,9,  -999.0,9,  -999.0,9,-999.0000,9,  -999.00,9, -999.00,9,  -999.0,9, -999.00,9, -999.00,9,     -999.0,9, 20220702,      342,  29.9997,-132.9211,     -999.0,9,     -999.0,1,     -999.0,1,     -999.0,9,     -999.0,9,     0.0134,1,     4.6274,1,     -999.0,9,     -999.0,9,     -999.0,9,     -999.0,9,     -999.0,9
33RR20220613,       P02E,     167,          1,          9,          9,2,20220702,       0315,    29.9997,  -132.9211,       4592,     4.6,2,  20.5255,2,  33.9915,2,-999.0000,9,    230.2,2,  -999.0,9, -999.00,9, -999.00,9, -999.00,9, -999.00,9,-999.000,9,-999.000,9,-999.0000,9,  -999.0,9,  -999.0,9,-999.0000,9,  -999.00,9, -999.00,9,  -999.0,9, -999.00,9, -999.00,9,     -999.0,9, 20220702,      342,  29.9997,-132.9211,    20.5250,2,     -999.0,9,     -999.0,9,     -999.0,9,     -999.0,9,     0.0138,1,     4.6270,1,     -999.0,1,     -999.0,9,     -999.0,1,     -999.0,9,     -999.0,9
33RR20220613,       P02E,     167,          1,         16,         16,2,20220702,       0315,    29.9997,  -132.9211,       4592,     4.7,2,  20.5251,2,  33.9914,2,-999.0000,9,    230.4,2,  -999.0,9, -999.00,9, -999.00,9, -999.00,9, -999.00,9,-999.000,9,-999.000,9,-999.0000,9,  -999.0,9,  -999.0,9,-999.0000,9,  -999.00,9, -999.00,9,  -999.0,9, -999.00,9, -999.00,9,     -999.0,9, 20220702,      342,  29.9997,-132.9211,     -999.0,9,     -999.0,9,     -999.0,9,     -999.0,1,     -999.0,9,     0.0144,1,     4.6261,1,     -999.0,9,     -999.0,9,     -999.0,9,     -999.0,9,     -999.0,9
33RR20220613,       P02E,     167,          1,         15,         15,2,20220702,       0315,    29.9997,  -132.9211,       4592,     4.8,2,  20.5255,2,  33.9914,2,-999.0000,9,    230.2,2,  -999.0,9, -999.00,9, -999.00,9, -999.00,9, -999.00,9,-999.000,9,-999.000,9,-999.0000,9,  -999.0,9,  -999.0,9,-999.0000,9,  -999.00,9, -999.00,9,  -999.0,9, -999.00,9, -999.00,9,     -999.0,9, 20220702,      342,  29.9997,-132.9211,     -999.0,9,     -999.0,9,     -999.0,9,     -999.0,1,     -999.0,9,     0.0134,1,     4.6250,1,     -999.0,9,     -999.0,9,     -999.0,9,     -999.0,9,     -999.0,9
33RR20220613,       P02E,     167,          1,          8,          8,2,20220702,       0315,    29.9997,  -132.9211,       4592,    41.4,2,  19.4999,2,  34.0142,2,-999.0000,9,    240.5,2,  -999.0,9, -999.00,9, -999.00,9, -999.00,9, -999.00,9,-999.000,9,-999.000,9,-999.0000,9,  -999.0,9,  -999.0,9,-999.0000,9,  -999.00,9, -999.00,9,  -999.0,9, -999.00,9, -999.00,9,     -999.0,9, 20220702,      339,  29.9997,-132.9211,    19.4971,2,     -999.0,9,     -999.0,9,     -999.0,9,     -999.0,9,     0.0147,1,     4.6434,1,     -999.0,1,     -999.0,9,     -999.0,1,     -999.0,9,     -999.0,9
33RR20220613,       P02E,     167,          1,          7,          7,2,20220702,       0315,    29.9997,  -132.9211,       4592,    76.4,2,  17.9324,2,  33.8717,2,-999.0000,9,    245.1,2,  -999.0,9, -999.00,9, -999.00,9, -999.00,9, -999.00,9,-999.000,9,-999.000,9,-999.0000,9,  -999.0,9,  -999.0,9,-999.0000,9,  -999.00,9, -999.00,9,  -999.0,9, -999.00,9, -999.00,9,     -999.0,9, 20220702,      337,  29.9998,-132.9211,    17.9305,2,     -999.0,9,     -999.0,9,     -999.0,9,     -999.0,9,     0.0159,1,     4.6493,1,     -999.0,9,     -999.0,9,     -999.0,1,     -999.0,9,     -999.0,9
33RR20220613,       P02E,     167,          1,          5,          5,2,20220702,       0315,    29.9997,  -132.9211,       4592,    98.8,2,  17.8356,2,  34.0392,2,-999.0000,9,    238.7,2,  -999.0,9, -999.00,9, -999.00,9, -999.00,9, -999.00,9,-999.000,9,-999.000,9,-999.0000,9,  -999.0,9,  -999.0,9,-999.0000,9,  -999.00,9, -999.00,9,  -999.0,9, -999.00,9, -999.00,9,     -999.0,9, 20220702,      335,  29.9998,-132.9211,    17.8318,2,     -999.0,9,     -999.0,9,     -999.0,9,     -999.0,9,     0.0215,1,     4.6580,1,     -999.0,1,     -999.0,9,     -999.0,1,     -999.0,9,     -999.0,9
33RR20220613,       P02E,     167,          1,          6,          6,2,20220702,       0315,    29.9997,  -132.9211,       4592,    99.1,2,  17.8357,2,  34.0396,2,-999.0000,9,    239.0,2,  -999.0,9, -999.00,9, -999.00,9, -999.00,9, -999.00,9,-999.000,9,-999.000,9,-999.0000,9,  -999.0,9,  -999.0,9,-999.0000,9,  -999.00,9, -999.00,9,  -999.0,9, -999.00,9, -999.00,9,     -999.0,9, 20220702,      335,  29.9998,-132.9211,     -999.0,9,     -999.0,9,     -999.0,9,     -999.0,9,     -999.0,9,     0.0208,1,     4.6561,1,     -999.0,9,     -999.0,1,     -999.0,9,     -999.0,9,     -999.0,9
33RR20220613,       P02E,     167,          1,          4,          4,2,20220702,       0315,    29.9997,  -132.9211,       4592,   152.1,2,  14.5808,2,  33.7406,2,-999.0000,9,    226.8,2,  -999.0,9, -999.00,9, -999.00,9, -999.00,9, -999.00,9,-999.000,9,-999.000,9,-999.0000,9,  -999.0,9,  -999.0,9,-999.0000,9,  -999.00,9, -999.00,9,  -999.0,9, -999.00,9, -999.00,9,     -999.0,9, 20220702,      332,  29.9997,-132.9211,    14.7067,3,     -999.0,9,     -999.0,9,     -999.0,9,     -999.0,9,     0.0265,1,     4.6707,1,     -999.0,9,     -999.0,9,     -999.0,1,     -999.0,9,     -999.0,9
33RR20220613,       P02E,     167,          1,          3,          3,2,20220702,       0315,    29.9997,  -132.9211,       4592,   202.1,2,  10.9549,2,  33.6575,2,-999.0000,9,    204.9,2,  -999.0,9, -999.00,9, -999.00,9, -999.00,9, -999.00,9,-999.000,9,-999.000,9,-999.0000,9,  -999.0,9,  -999.0,9,-999.0000,9,  -999.00,9, -999.00,9,  -999.0,9, -999.00,9, -999.00,9,     -999.0,9, 20220702,      331,  29.9997,-132.9210,    10.9259,2,     -999.0,9,     -999.0,9,     -999.0,9,     -999.0,9,     0.0134,1,     4.6885,1,     -999.0,9,     -999.0,1,     -999.0,1,     -999.0,9,     -999.0,9
33RR20220613,       P02E,     167,          1,          2,          2,2,20220702,       0315,    29.9997,  -132.9211,       4592,   507.9,2,   5.7006,2,  34.0667,2,-999.0000,9,     55.7,2,  -999.0,9, -999.00,9, -999.00,9, -999.00,9, -999.00,9,-999.000,9,-999.000,9,-999.0000,9,  -999.0,9,  -999.0,9,-999.0000,9,  -999.00,9, -999.00,9,  -999.0,9, -999.00,9, -999.00,9,     -999.0,9, 20220702,      324,  29.9997,-132.9211,     5.6996,2,     -999.0,9,     -999.0,9,     -999.0,9,     -999.0,9,     0.0134,1,     4.6945,1,     -999.0,9,     -999.0,9,     -999.0,1,     -999.0,9,     -999.0,9
33RR20220613,       P02E,     167,          1,          1,          1,2,20220702,       0315,    29.9997,  -132.9211,       4592,  1012.6,2,   3.8079,2,  34.4669,2,-999.0000,9,     29.0,2,  -999.0,9, -999.00,9, -999.00,9, -999.00,9, -999.00,9,-999.000,9,-999.000,9,-999.0000,9,  -999.0,9,  -999.0,9,-999.0000,9,  -999.00,9, -999.00,9,  -999.0,9, -999.00,9, -999.00,9,     -999.0,9, 20220702,      315,  29.9997,-132.9211,     3.8072,2,     -999.0,9,     -999.0,9,     -999.0,9,     -999.0,9,     0.0134,1,     4.6965,1,     -999.0,9,     -999.0,1,     -999.0,1,     -999.0,9,     -999.0,9