BOTTLE,20230830CCHSIOCBG
EXPOCODE,SECT_ID,STNNBR,CASTNO,SAMPNO,BTLNBR,BTLNBR_FLAG_W,DATE,TIME,LATITUDE,LONGITUDE,DEPTH,CTDPRS,CTDPRS_FLAG_W,CTDTMP,CTDTMP_FLAG_W,CTDSAL,CTDSAL_FLAG_W,SALNTY,SALNTY_FLAG_W,CTDOXY,CTDOXY_FLAG_W,OXYGEN,OXYGEN_FLAG_W,SILCAT,SILCAT_FLAG_W,NITRAT,NITRAT_FLAG_W,NITRIT,NITRIT_FLAG_W,PHSPHT,PHSPHT_FLAG_W,CFC-11,CFC-11_FLAG_W,CFC-12,CFC-12_FLAG_W,SF6,SF6_FLAG_W,TCARBN,TCARBN_FLAG_W,ALKALI,ALKALI_FLAG_W,PH_TOT,PH_TOT_FLAG_W,PH_TMP,PH_TMP_FLAG_W,DELC13,DELC13_FLAG_W,DELC14,DELC14_FLAG_W,DOC,DOC_FLAG_W,TDN,TDN_FLAG_W,N2O,N2O_FLAG_W,BTL_DATE,BTL_TIME,BTL_LAT,BTL_LON,REFTMP,REFTMP_FLAG_W,POC,POC_FLAG_W,PON,PON_FLAG_W,POP,POP_FLAG_W,PCOD,PCOD_FLAG_W,CTDFLUOR,CTDFLUOR_FLAG_W,CTDXMISS,CTDXMISS_FLAG_W,HPLC,HPLC_FLAG_W,DNA,DNA_FLAG_W,FCM,FCM_FLAG_W,IMAGES,IMAGES_FLAG_W,VIRAL_ABUNDANCE,VIRAL_ABUNDANCE_FLAG_W
,,,,,,,,,,,METERS,DBAR,,ITS-90,,PSS-78,,PSS-78,,UMOL/KG,,UMOL/KG,,UMOL/KG,,UMOL/KG,,UMOL/KG,,UMOL/KG,,PMOL/KG,,PMOL/KG,,FMOL/KG,,UMOL/KG,,UMOL/KG,,,,DEG C,,/MILLE,,/MILLE,,UMOL/KG,,UMOL/KG,,NMOL/KG,,,,,,ITS-90,,UG/L,,UG/L,,UG/L,,UG/L,,VOLTS,,VOLTS,,,,,,,,,,,
33RR20220613,       P02E,     176,          2,          4,          4,2,20220704,       2053,    29.9999,  -127.7248,       4489,  3656.2,2,   1.5168,2,  34.6745,2,  34.6755,2,    131.7,2,   131.6,2,  168.34,2,   37.56,2,    0.00,2,    2.60,2,   0.009,2,   0.008,2,   0.0000,2,  -999.0,9,  -999.0,9,-999.0000,9,  -999.00,9, -999.00,9,  -999.0,9, -999.00,1, -999.00,1,       27.7,2, 20220704,     2113,  29.9999,-127.7249,     1.5168,2,     -999.0,9,     -999.0,9,     -999.0,9,     -999.0,9,     0.0122,1,     4.6998,1,     -999.0,9,     -999.0,9,     -999.0,9,     -999.0,9,     -999.0,9
33RR20220613,       P02E,     176,          2,          3,          3,2,20220704,       2053,    29.9999,  -127.7248,       4489,  3963.6,2,   1.5165,2,  34.6777,3,  34.6802,2,    136.1,2,   136.1,2,  166.97,2,   37.27,2,    0.00,2,    2.57,2,   0.006,2,   0.008,2,   0.0000,2,  2343.5,2,  2429.6,2,   7.5578,2,    25.02,2, -999.00,9,  -999.0,9, -999.00,1, -999.00,1,       23.2,2, 20220704,     2106,  29.9999,-127.7249,     1.5163,2,     -999.0,9,     -999.0,9,     -999.0,9,     -999.0,9,     0.0122,1,     4.7005,1,     -999.0,9,     -999.0,9,     -999.0,9,     -999.0,9,     -999.0,9
33RR20220613,       P02E,     176,          2,          2,          2,2,20220704,       2053,    29.9999,  -127.7248,       4489,  4270.9,2,   1.5327,2,  34.6800,3,  34.6820,2,    138.8,2,   138.9,2,  166.09,2,   37.08,2,    0.00,2,    2.56,2,   0.007,2,   0.012,2,   0.0000,2,  2341.3,2,  2430.4,6,   7.5637,2,    25.03,2, -999.00,9,  -999.0,9, -999.00,1, -999.00,1,       23.0,2, 20220704,     2059,  29.9999,-127.7249,     1.5327,2,     -999.0,9,     -999.0,9,     -999.0,9,     -999.0,9,     0.0129,1,     4.6995,1,     -999.0,9,     -999.0,9,     -999.0,9,     -999.0,9,     -999.0,9
33RR20220613,       P02E,     176,          2,          1,          1,2,20220704,       2053,    29.9999,  -127.7248,       4489,  4557.6,2,   1.5610,2,  34.6806,3,  34.6832,2,    140.1,2,   140.3,2,  165.51,2,   37.03,2,    0.00,2,    2.56,2,   0.006,2,   0.010,2,   0.0000,2,  2339.4,6,  2431.9,2,   7.5660,2,    25.02,2, -999.00,9,  -999.0,9, -999.00,1, -999.00,1,       22.5,2, 20220704,     2053,  29.9999,-127.7249,     1.5609,2,     -999.0,9,     -999.0,9,     -999.0,9,     -999.0,9,     0.0122,1,     4.6983,1,     -999.0,9,     -999.0,9,     -999.0,9,     -999.0,9,     -999.0,9