BOTTLE,20230830CCHSIOCBG
EXPOCODE,SECT_ID,STNNBR,CASTNO,SAMPNO,BTLNBR,BTLNBR_FLAG_W,DATE,TIME,LATITUDE,LONGITUDE,DEPTH,CTDPRS,CTDPRS_FLAG_W,CTDTMP,CTDTMP_FLAG_W,CTDSAL,CTDSAL_FLAG_W,SALNTY,SALNTY_FLAG_W,CTDOXY,CTDOXY_FLAG_W,OXYGEN,OXYGEN_FLAG_W,SILCAT,SILCAT_FLAG_W,NITRAT,NITRAT_FLAG_W,NITRIT,NITRIT_FLAG_W,PHSPHT,PHSPHT_FLAG_W,CFC-11,CFC-11_FLAG_W,CFC-12,CFC-12_FLAG_W,SF6,SF6_FLAG_W,TCARBN,TCARBN_FLAG_W,ALKALI,ALKALI_FLAG_W,PH_TOT,PH_TOT_FLAG_W,PH_TMP,PH_TMP_FLAG_W,DELC13,DELC13_FLAG_W,DELC14,DELC14_FLAG_W,DOC,DOC_FLAG_W,TDN,TDN_FLAG_W,N2O,N2O_FLAG_W,BTL_DATE,BTL_TIME,BTL_LAT,BTL_LON,REFTMP,REFTMP_FLAG_W,POC,POC_FLAG_W,PON,PON_FLAG_W,POP,POP_FLAG_W,PCOD,PCOD_FLAG_W,CTDFLUOR,CTDFLUOR_FLAG_W,CTDXMISS,CTDXMISS_FLAG_W,HPLC,HPLC_FLAG_W,DNA,DNA_FLAG_W,FCM,FCM_FLAG_W,IMAGES,IMAGES_FLAG_W,VIRAL_ABUNDANCE,VIRAL_ABUNDANCE_FLAG_W
,,,,,,,,,,,METERS,DBAR,,ITS-90,,PSS-78,,PSS-78,,UMOL/KG,,UMOL/KG,,UMOL/KG,,UMOL/KG,,UMOL/KG,,UMOL/KG,,PMOL/KG,,PMOL/KG,,FMOL/KG,,UMOL/KG,,UMOL/KG,,,,DEG C,,/MILLE,,/MILLE,,UMOL/KG,,UMOL/KG,,NMOL/KG,,,,,,ITS-90,,UG/L,,UG/L,,UG/L,,UG/L,,VOLTS,,VOLTS,,,,,,,,,,,
33RR20220613,       P02E,     153,          1,         36,         36,2,20220628,       0349,    29.9996,  -141.0062,       4934,     3.8,2,  22.8701,2,  34.8000,2,  34.8141,2,    222.5,2,   221.7,2,    1.07,2,    0.05,2,    0.00,2,    0.06,2,   1.799,2,   1.133,2,   1.7399,2,  2043.7,6,  2315.2,2,   7.9804,2,    25.04,2, -999.00,9,  -999.0,9, -999.00,9, -999.00,9,        7.3,2, 20220628,      603,  29.9996,-141.0062,    22.8905,2,     -999.0,9,     -999.0,9,     -999.0,9,     -999.0,9,     0.0135,1,     4.6169,1,     -999.0,9,     -999.0,9,     -999.0,9,     -999.0,9,     -999.0,9
33RR20220613,       P02E,     153,          1,         35,         35,2,20220628,       0349,    29.9996,  -141.0062,       4934,    34.7,2,  21.6903,2,  34.9115,2,  34.9242,2,    228.8,2,   228.9,2,    0.98,2,    0.00,2,    0.00,2,    0.02,2,   1.868,2,   1.167,2,   1.9262,2,  2041.4,2,  2308.6,2,   7.9722,2,    25.05,2, -999.00,9,  -999.0,9, -999.00,9, -999.00,9,        7.4,2, 20220628,      600,  29.9996,-141.0062,    21.6752,2,     -999.0,9,     -999.0,9,     -999.0,9,     -999.0,9,     0.0147,1,     4.6274,1,     -999.0,9,     -999.0,9,     -999.0,9,     -999.0,9,     -999.0,9
33RR20220613,       P02E,     153,          1,         34,         34,2,20220628,       0349,    29.9996,  -141.0062,       4934,    60.4,2,  21.1448,2,  35.1621,3,  35.1148,2,    230.7,2,   231.2,2,    0.98,2,    0.01,2,    0.00,2,    0.00,2,-999.000,9,-999.000,9,-999.0000,9,  2039.4,2,  2314.0,2,   7.9933,2,    25.02,2, -999.00,9,  -999.0,9, -999.00,9, -999.00,9,     -999.0,9, 20220628,      558,  29.9996,-141.0062,    21.1432,2,     -999.0,9,     -999.0,9,     -999.0,9,     -999.0,9,     0.0147,1,     4.6381,1,     -999.0,9,     -999.0,9,     -999.0,9,     -999.0,9,     -999.0,9
33RR20220613,       P02E,     153,          1,         33,         33,2,20220628,       0349,    29.9996,  -141.0062,       4934,    85.8,2,  20.0426,2,  34.9308,2,  34.9420,2,    232.8,2,   232.2,2,    1.37,2,    0.01,2,    0.00,2,    0.02,2,   1.956,2,   1.218,2,   2.0072,2,  2037.0,2,  2305.3,6,   7.9803,2,    25.03,2, -999.00,9,  -999.0,9, -999.00,9, -999.00,9,        7.8,2, 20220628,      555,  29.9996,-141.0062,    20.0452,2,     -999.0,9,     -999.0,9,     -999.0,9,     -999.0,9,     0.0162,1,     4.6448,1,     -999.0,9,     -999.0,9,     -999.0,9,     -999.0,9,     -999.0,9
33RR20220613,       P02E,     153,          1,         32,         32,2,20220628,       0349,    29.9996,  -141.0062,       4934,   116.2,2,  19.1632,2,  34.8211,2,  34.8275,2,    227.3,2,   228.1,2,    2.93,2,    1.98,2,    0.02,2,    0.23,2,-999.000,9,-999.000,9,-999.0000,9,  2041.0,2,  2293.9,2,   7.9626,2,    25.02,2, -999.00,9,  -999.0,9, -999.00,9, -999.00,9,     -999.0,9, 20220628,      554,  29.9996,-141.0062,    19.2059,3,     -999.0,9,     -999.0,9,     -999.0,9,     -999.0,9,     0.0220,1,     4.6545,1,     -999.0,9,     -999.0,9,     -999.0,9,     -999.0,9,     -999.0,9
33RR20220613,       P02E,     153,          1,         31,         31,2,20220628,       0349,    29.9996,  -141.0062,       4934,   166.5,2,  16.0113,2,  34.3291,3,  34.3060,2,    219.3,2,   220.2,2,    6.35,2,    6.51,2,    0.00,2,    0.56,2,   2.343,2,   1.454,2,   2.2412,2,  2052.5,2,  2262.0,2,   7.8827,2,    25.03,2, -999.00,9,  -999.0,9, -999.00,9, -999.00,9,        9.9,2, 20220628,      551,  29.9996,-141.0062,    16.0595,3,     -999.0,9,     -999.0,9,     -999.0,9,     -999.0,9,     0.0220,1,     4.6711,1,     -999.0,9,     -999.0,9,     -999.0,9,     -999.0,9,     -999.0,9
33RR20220613,       P02E,     153,          1,         30,         17,2,20220628,       0349,    29.9996,  -141.0062,       4934,   216.1,2,  12.7597,2,  34.0043,2,  34.0235,2,    218.1,2,   217.9,2,    6.45,2,    6.54,2,    0.00,2,    0.56,2,-999.000,9,-999.000,9,-999.0000,9,  2076.3,2,  2245.4,2,   7.8079,2,    25.04,2, -999.00,9,  -999.0,9, -999.00,9, -999.00,9,     -999.0,9, 20220628,      547,  29.9996,-141.0062,    12.7583,2,     -999.0,9,     -999.0,9,     -999.0,9,     -999.0,9,     0.0134,1,     4.6836,1,     -999.0,9,     -999.0,9,     -999.0,9,     -999.0,9,     -999.0,9
33RR20220613,       P02E,     153,          1,         29,         29,2,20220628,       0349,    29.9996,  -141.0062,       4934,   266.8,2,  11.2550,2,  34.0403,2,  34.0464,2,    211.2,2,   210.8,2,   11.73,2,   11.80,2,    0.00,2,    0.87,2,   2.921,2,   1.749,2,   2.1437,2,  2099.6,2,  2248.2,2,   7.7567,2,    25.01,2, -999.00,9,  -999.0,9, -999.00,9, -999.00,9,       15.2,2, 20220628,      544,  29.9996,-141.0062,    11.2549,2,     -999.0,9,     -999.0,9,     -999.0,9,     -999.0,9,     0.0122,1,     4.6883,1,     -999.0,9,     -999.0,9,     -999.0,9,     -999.0,9,     -999.0,9
33RR20220613,       P02E,     153,          1,         28,         28,2,20220628,       0349,    29.9996,  -141.0062,       4934,   317.1,2,  10.3105,2,  34.0678,2,  34.0731,2,    209.4,2,   209.3,2,   16.43,2,   14.65,2,    0.00,2,    1.06,2,   2.986,2,   1.799,2,   2.0113,2,  2117.2,2,  2254.2,2,   7.7276,2,    25.03,2, -999.00,9,  -999.0,9, -999.00,9, -999.00,9,       18.0,2, 20220628,      542,  29.9996,-141.0062,    10.3065,2,     -999.0,9,     -999.0,9,     -999.0,9,     -999.0,9,     0.0122,1,     4.6902,1,     -999.0,9,     -999.0,9,     -999.0,9,     -999.0,9,     -999.0,9
33RR20220613,       P02E,     153,          1,         27,         27,2,20220628,       0349,    29.9996,  -141.0062,       4934,   367.9,2,   9.1949,2,  34.0319,2,  34.0372,2,    194.9,2,   194.6,2,   23.47,2,   18.38,2,    0.00,2,    1.31,2,   3.012,2,   1.795,2,   1.6433,2,  2136.8,2,  2257.6,2,   7.6765,2,    25.02,2, -999.00,9,  -999.0,9, -999.00,9, -999.00,9,       21.8,2, 20220628,      539,  29.9996,-141.0062,     9.1878,2,     -999.0,9,     -999.0,9,     -999.0,9,     -999.0,9,     0.0122,1,     4.6910,1,     -999.0,9,     -999.0,9,     -999.0,9,     -999.0,9,     -999.0,9
33RR20220613,       P02E,     153,          1,         26,         26,2,20220628,       0349,    29.9996,  -141.0062,       4934,   418.4,2,   8.4468,2,  34.0249,2,  34.0333,2,    172.7,3,   171.1,2,   31.58,2,   22.32,2,    0.00,2,    1.59,2,   2.938,2,   1.707,2,   1.4549,2,  2165.0,2,  2263.4,2,   7.6194,2,    25.01,2, -999.00,9,  -999.0,9, -999.00,9, -999.00,9,       25.2,2, 20220628,      538,  29.9996,-141.0062,     8.4555,2,     -999.0,9,     -999.0,9,     -999.0,9,     -999.0,9,     0.0131,1,     4.6910,1,     -999.0,9,     -999.0,9,     -999.0,9,     -999.0,9,     -999.0,9
33RR20220613,       P02E,     153,          1,         25,         25,2,20220628,       0349,    29.9996,  -141.0062,       4934,   468.8,2,   7.3682,2,  34.0025,2,  34.0068,2,    143.1,2,   144.0,2,   42.24,2,   26.76,2,    0.00,2,    1.90,2,   2.766,2,   1.594,2,   1.0731,2,  2196.1,2,  2271.5,2,   7.5494,2,    25.02,2, -999.00,9,  -999.0,9, -999.00,9, -999.00,9,       29.4,2, 20220628,      535,  29.9996,-141.0062,     7.4539,3,     -999.0,9,     -999.0,9,     -999.0,9,     -999.0,9,     0.0122,1,     4.6916,1,     -999.0,9,     -999.0,9,     -999.0,9,     -999.0,9,     -999.0,9
33RR20220613,       P02E,     153,          1,         24,         24,2,20220628,       0349,    29.9996,  -141.0062,       4934,   539.4,2,   6.1264,2,  33.9951,2,  33.9980,2,     96.7,2,    96.7,2,   61.50,2,   33.57,2,    0.00,2,    2.40,2,   2.159,2,   1.249,2,   0.6674,2,  2249.1,2,  2284.4,2,   7.4329,2,    25.02,2, -999.00,9,  -999.0,9, -999.00,9, -999.00,9,       34.9,2, 20220628,      531,  29.9996,-141.0062,     6.1253,2,     -999.0,9,     -999.0,9,     -999.0,9,     -999.0,9,     0.0134,1,     4.6933,1,     -999.0,9,     -999.0,9,     -999.0,9,     -999.0,9,     -999.0,9
33RR20220613,       P02E,     153,          1,         23,         23,3,20220628,       0349,    29.9996,  -141.0062,       4934,   640.0,3,   5.1613,3,  34.0742,3,  34.0815,3,     49.8,3,    50.5,3,   72.84,3,   39.15,3,    0.00,3,    2.83,3,-999.000,9,-999.000,9,-999.0000,9,  -999.0,9,  -999.0,9,-999.0000,9,  -999.00,9, -999.00,9,  -999.0,9, -999.00,9, -999.00,9,     -999.0,9, 20220628,      529,  29.9996,-141.0062,     5.1581,3,     -999.0,9,     -999.0,9,     -999.0,9,     -999.0,9,     0.0134,1,     4.6938,1,     -999.0,9,     -999.0,9,     -999.0,9,     -999.0,9,     -999.0,9
33RR20220613,       P02E,     153,          1,         22,         22,2,20220628,       0349,    29.9996,  -141.0062,       4934,   741.4,2,   4.5992,2,  34.2035,2,  34.2093,2,     20.7,2,    20.5,2,   93.07,2,   42.33,2,    0.00,2,    3.08,2,   0.391,2,   0.225,2,   0.1334,2,  2331.7,2,  2328.0,2,   7.2999,2,    25.03,2, -999.00,9,  -999.0,9, -999.00,9, -999.00,9,       51.3,2, 20220628,      526,  29.9996,-141.0062,     4.6007,2,     -999.0,9,     -999.0,9,     -999.0,9,     -999.0,9,     0.0134,1,     4.6943,1,     -999.0,9,     -999.0,9,     -999.0,9,     -999.0,9,     -999.0,9
33RR20220613,       P02E,     153,          1,         21,         21,2,20220628,       0349,    29.9996,  -141.0062,       4934,   842.5,2,   4.2684,2,  34.3149,2,  34.3209,2,     13.7,3,    13.4,2,  109.10,2,   43.10,2,    0.00,2,    3.17,2,   0.093,2,   0.059,2,   0.0000,2,  2352.2,6,  2345.6,2,   7.3041,2,    25.01,2, -999.00,9,  -999.0,9, -999.00,9, -999.00,9,       54.0,2, 20220628,      522,  29.9996,-141.0062,     4.2701,2,     -999.0,9,     -999.0,9,     -999.0,9,     -999.0,9,     0.0134,1,     4.6943,1,     -999.0,9,     -999.0,9,     -999.0,9,     -999.0,9,     -999.0,9
33RR20220613,       P02E,     153,          1,         20,         20,2,20220628,       0349,    29.9996,  -141.0062,       4934,   944.2,2,   3.9613,2,  34.3859,2,  34.3886,2,     16.5,3,    16.1,2,  117.11,2,   43.41,2,    0.00,2,    3.18,2,   0.028,2,   0.025,2,   0.0000,2,  2359.6,2,  2362.3,2,   7.3178,2,    25.00,2, -999.00,9,  -999.0,9, -999.00,9, -999.00,9,       52.7,2, 20220628,      519,  29.9996,-141.0062,     3.9691,2,     -999.0,9,     -999.0,9,     -999.0,9,     -999.0,9,     0.0134,1,     4.6946,1,     -999.0,9,     -999.0,9,     -999.0,9,     -999.0,9,     -999.0,9
33RR20220613,       P02E,     153,          1,         19,         39,2,20220628,       0349,    29.9996,  -141.0062,       4934,  1044.5,2,   3.7086,2,  34.4327,3,  34.4390,2,     22.6,2,    22.4,2,  123.36,2,   43.24,2,    0.00,2,    3.16,2,   0.017,2,   0.014,2,   0.0000,2,  2363.7,2,  2371.6,2,   7.3346,2,    25.01,2, -999.00,9,  -999.0,9, -999.00,9, -999.00,9,       50.8,2, 20220628,      517,  29.9996,-141.0062,     3.7075,2,     -999.0,9,     -999.0,9,     -999.0,9,     -999.0,9,     0.0134,1,     4.6947,1,     -999.0,9,     -999.0,9,     -999.0,9,     -999.0,9,     -999.0,9
33RR20220613,       P02E,     153,          1,         18,         18,2,20220628,       0349,    29.9996,  -141.0062,       4934,  1146.5,2,   3.4457,2,  34.4742,3,  34.4795,2,     31.2,3,    31.7,2,  129.22,2,   42.91,2,    0.00,2,    3.13,2,   0.010,2,   0.009,2,   0.0000,2,  2366.4,2,  2379.3,2,   7.3548,2,    25.02,2, -999.00,9,  -999.0,9, -999.00,9, -999.00,9,       47.1,2, 20220628,      514,  29.9996,-141.0062,     3.4431,2,     -999.0,9,     -999.0,9,     -999.0,9,     -999.0,9,     0.0134,1,     4.6958,1,     -999.0,9,     -999.0,9,     -999.0,9,     -999.0,9,     -999.0,9
33RR20220613,       P02E,     153,          1,         17,         37,2,20220628,       0349,    29.9996,  -141.0062,       4934,  1247.2,2,   3.2132,2,  34.5057,2,  34.5099,2,     38.2,2,    37.9,2,  134.40,2,   42.72,2,    0.00,2,    3.09,2,   0.005,2,   0.005,2,   0.0000,2,  2367.0,2,  2386.2,2,   7.3696,2,    25.02,2, -999.00,9,  -999.0,9, -999.00,9, -999.00,9,       43.8,2, 20220628,      510,  29.9996,-141.0062,     3.2125,2,     -999.0,9,     -999.0,9,     -999.0,9,     -999.0,9,     0.0134,1,     4.6958,1,     -999.0,9,     -999.0,9,     -999.0,9,     -999.0,9,     -999.0,9
33RR20220613,       P02E,     153,          1,         16,         16,2,20220628,       0349,    29.9996,  -141.0062,       4934,  1349.4,2,   3.0279,2,  34.5262,3,  34.5313,2,     44.2,2,    44.2,2,  138.89,2,   42.44,2,    0.00,2,    3.07,2,-999.000,9,-999.000,9,-999.0000,9,  2369.0,2,  2391.6,2,   7.3810,2,    25.01,2, -999.00,9,  -999.0,9, -999.00,9, -999.00,9,     -999.0,9, 20220628,      508,  29.9996,-141.0062,     3.0266,2,     -999.0,9,     -999.0,9,     -999.0,9,     -999.0,9,     0.0134,1,     4.6969,1,     -999.0,9,     -999.0,9,     -999.0,9,     -999.0,9,     -999.0,9
33RR20220613,       P02E,     153,          1,         15,         15,2,20220628,       0349,    29.9996,  -141.0062,       4934,  1450.4,2,   2.8574,2,  34.5442,2,  34.5490,2,     50.6,2,    51.1,2,  143.09,2,   42.10,2,    0.00,2,    3.04,2,   0.004,2,   0.004,2,   0.0000,2,  2370.2,2,  2395.1,2,   7.3959,2,    25.02,2, -999.00,9,  -999.0,9, -999.00,9, -999.00,9,       39.3,2, 20220628,      505,  29.9996,-141.0062,     2.8559,2,     -999.0,9,     -999.0,9,     -999.0,9,     -999.0,9,     0.0134,1,     4.6971,1,     -999.0,9,     -999.0,9,     -999.0,9,     -999.0,9,     -999.0,9
33RR20220613,       P02E,     153,          1,         14,         14,3,20220628,       0349,    29.9996,  -141.0062,       4934,  1551.6,3,   2.6672,3,  34.5624,3,  34.5759,3,     57.1,3,    57.2,3,  146.90,3,   41.78,3,    0.00,3,    3.00,3,-999.000,9,-999.000,9,-999.0000,9,  2370.5,2,  2402.4,3,   7.4077,3,    25.01,3, -999.00,9,  -999.0,9, -999.00,9, -999.00,9,     -999.0,9, 20220628,      502,  29.9996,-141.0062,     2.6684,3,     -999.0,9,     -999.0,9,     -999.0,9,     -999.0,9,     0.0125,1,     4.6971,1,     -999.0,9,     -999.0,9,     -999.0,9,     -999.0,9,     -999.0,9
33RR20220613,       P02E,     153,          1,         13,         13,4,20220628,       0349,    29.9996,  -141.0062,       4934,  1684.1,3,   2.4695,3,  34.5792,3,  34.6011,3,     62.8,3,    72.1,3,  158.43,3,   40.89,3,    0.00,3,    2.92,3,   0.003,3,   0.000,3,   0.0000,3,  2370.5,3,  2414.8,3,   7.4356,3,    25.01,3, -999.00,9,  -999.0,9, -999.00,9, -999.00,9,       33.0,3, 20220628,      459,  29.9996,-141.0062,     2.4663,3,     -999.0,9,     -999.0,9,     -999.0,9,     -999.0,9,     0.0134,1,     4.6983,1,     -999.0,9,     -999.0,9,     -999.0,9,     -999.0,9,     -999.0,9
33RR20220613,       P02E,     153,          1,         12,         12,2,20220628,       0349,    29.9996,  -141.0062,       4934,  1884.6,2,   2.2063,2,  34.6014,2,  34.6040,2,     71.8,2,    71.8,2,  160.48,2,   40.96,2,    0.00,2,    2.92,2,-999.000,9,-999.000,9,-999.0000,9,  2372.7,2,  2413.2,2,   7.4365,2,    25.01,2, -999.00,9,  -999.0,9, -999.00,9, -999.00,9,     -999.0,9, 20220628,      454,  29.9996,-141.0062,     2.2088,2,     -999.0,9,     -999.0,9,     -999.0,9,     -999.0,9,     0.0134,1,     4.6985,1,     -999.0,9,     -999.0,9,     -999.0,9,     -999.0,9,     -999.0,9
33RR20220613,       P02E,     153,          1,         11,         11,2,20220628,       0349,    29.9996,  -141.0062,       4934,  2108.8,2,   1.9977,2,  34.6202,3,  34.6274,2,     82.3,2,    82.2,2,  165.56,2,   40.22,2,    0.00,2,    2.87,2,   0.006,2,   0.004,2,   0.0000,2,  2371.3,2,  2419.5,2,   7.4557,2,    25.03,2, -999.00,9,  -999.0,9, -999.00,9, -999.00,9,       30.1,2, 20220628,      450,  29.9996,-141.0062,     1.9981,2,     -999.0,9,     -999.0,9,     -999.0,9,     -999.0,9,     0.0134,1,     4.6993,1,     -999.0,9,     -999.0,9,     -999.0,9,     -999.0,9,     -999.0,9
33RR20220613,       P02E,     153,          1,         10,         10,2,20220628,       0349,    29.9996,  -141.0062,       4934,  2363.0,2,   1.8246,2,  34.6361,3,  34.6388,2,     93.5,2,    93.4,2,  168.79,2,   39.49,2,    0.00,2,    2.81,2,-999.000,9,-999.000,9,-999.0000,9,  2367.5,2,  2423.4,2,   7.4762,2,    25.02,2, -999.00,9,  -999.0,9, -999.00,9, -999.00,9,     -999.0,9, 20220628,      445,  29.9996,-141.0062,     1.8242,2,     -999.0,9,     -999.0,9,     -999.0,9,     -999.0,9,     0.0134,1,     4.6996,1,     -999.0,9,     -999.0,9,     -999.0,9,     -999.0,9,     -999.0,9
33RR20220613,       P02E,     153,          1,          9,          9,2,20220628,       0349,    29.9996,  -141.0062,       4934,  2617.7,2,   1.7078,2,  34.6479,3,  34.6525,2,    103.4,2,   103.6,2,  170.15,2,   38.92,2,    0.00,2,    2.76,2,   0.003,2,   0.002,2,   0.0000,2,  2361.0,2,  2425.2,2,   7.4962,2,    25.01,2, -999.00,9,  -999.0,9, -999.00,9, -999.00,9,       26.3,2, 20220628,      439,  29.9996,-141.0062,     1.7075,2,     -999.0,9,     -999.0,9,     -999.0,9,     -999.0,9,     0.0129,1,     4.7004,1,     -999.0,9,     -999.0,9,     -999.0,9,     -999.0,9,     -999.0,9
33RR20220613,       P02E,     153,          1,          8,          8,2,20220628,       0349,    29.9996,  -141.0062,       4934,  2874.3,2,   1.6242,2,  34.6571,2,  34.6588,2,    112.7,2,   113.1,2,  170.05,2,   38.32,2,    0.00,2,    2.72,2,-999.000,9,-999.000,9,-999.0000,9,  2357.0,2,  2427.0,2,   7.5122,2,    25.01,2, -999.00,9,  -999.0,9, -999.00,9, -999.00,9,     -999.0,9, 20220628,      434,  29.9996,-141.0062,     1.6239,2,     -999.0,9,     -999.0,9,     -999.0,9,     -999.0,9,     0.0134,1,     4.7007,1,     -999.0,9,     -999.0,9,     -999.0,9,     -999.0,9,     -999.0,9
33RR20220613,       P02E,     153,          1,          7,          7,2,20220628,       0349,    29.9996,  -141.0062,       4934,  3145.4,2,   1.5608,2,  34.6648,3,  34.6677,2,    121.2,2,   121.2,2,  169.56,2,   37.83,2,    0.00,2,    2.67,2,   0.003,2,   0.002,2,   0.0000,2,  2351.2,2,  2427.4,2,   7.5280,2,    25.02,2, -999.00,9,  -999.0,9, -999.00,9, -999.00,9,       23.9,2, 20220628,      428,  29.9996,-141.0062,     1.5602,2,     -999.0,9,     -999.0,9,     -999.0,9,     -999.0,9,     0.0122,1,     4.7011,1,     -999.0,9,     -999.0,9,     -999.0,9,     -999.0,9,     -999.0,9
33RR20220613,       P02E,     153,          1,          6,          6,2,20220628,       0349,    29.9996,  -141.0062,       4934,  3451.5,2,   1.5115,2,  34.6719,2,  34.6728,2,    130.2,2,   130.2,2,  167.32,2,   37.18,2,    0.00,2,    2.63,2,-999.000,9,-999.000,9,-999.0000,9,  2345.4,2,  2429.2,2,   7.5432,2,    25.01,2, -999.00,9,  -999.0,9, -999.00,9, -999.00,9,     -999.0,9, 20220628,      422,  29.9996,-141.0062,     1.5111,2,     -999.0,9,     -999.0,9,     -999.0,9,     -999.0,9,     0.0122,1,     4.7014,1,     -999.0,9,     -999.0,9,     -999.0,9,     -999.0,9,     -999.0,9
33RR20220613,       P02E,     153,          1,          5,          5,2,20220628,       0349,    29.9996,  -141.0062,       4934,  3757.8,2,   1.4869,2,  34.6777,2,  34.6791,2,    137.8,2,   137.9,2,  165.16,2,   36.77,2,    0.00,2,    2.57,2,   0.003,2,   0.004,2,   0.0000,2,  2341.6,2,  2427.1,2,   7.5573,2,    25.02,2, -999.00,9,  -999.0,9, -999.00,9, -999.00,9,       22.4,2, 20220628,      415,  29.9996,-141.0062,     1.4869,2,     -999.0,9,     -999.0,9,     -999.0,9,     -999.0,9,     0.0129,1,     4.7016,1,     -999.0,9,     -999.0,9,     -999.0,9,     -999.0,9,     -999.0,9