BOTTLE,20230830CCHSIOCBG
EXPOCODE,SECT_ID,STNNBR,CASTNO,SAMPNO,BTLNBR,BTLNBR_FLAG_W,DATE,TIME,LATITUDE,LONGITUDE,DEPTH,CTDPRS,CTDPRS_FLAG_W,CTDTMP,CTDTMP_FLAG_W,CTDSAL,CTDSAL_FLAG_W,SALNTY,SALNTY_FLAG_W,CTDOXY,CTDOXY_FLAG_W,OXYGEN,OXYGEN_FLAG_W,SILCAT,SILCAT_FLAG_W,NITRAT,NITRAT_FLAG_W,NITRIT,NITRIT_FLAG_W,PHSPHT,PHSPHT_FLAG_W,CFC-11,CFC-11_FLAG_W,CFC-12,CFC-12_FLAG_W,SF6,SF6_FLAG_W,TCARBN,TCARBN_FLAG_W,ALKALI,ALKALI_FLAG_W,PH_TOT,PH_TOT_FLAG_W,PH_TMP,PH_TMP_FLAG_W,DELC13,DELC13_FLAG_W,DELC14,DELC14_FLAG_W,DOC,DOC_FLAG_W,TDN,TDN_FLAG_W,N2O,N2O_FLAG_W,BTL_DATE,BTL_TIME,BTL_LAT,BTL_LON,REFTMP,REFTMP_FLAG_W,POC,POC_FLAG_W,PON,PON_FLAG_W,POP,POP_FLAG_W,PCOD,PCOD_FLAG_W,CTDFLUOR,CTDFLUOR_FLAG_W,CTDXMISS,CTDXMISS_FLAG_W,HPLC,HPLC_FLAG_W,DNA,DNA_FLAG_W,FCM,FCM_FLAG_W,IMAGES,IMAGES_FLAG_W,VIRAL_ABUNDANCE,VIRAL_ABUNDANCE_FLAG_W
,,,,,,,,,,,METERS,DBAR,,ITS-90,,PSS-78,,PSS-78,,UMOL/KG,,UMOL/KG,,UMOL/KG,,UMOL/KG,,UMOL/KG,,UMOL/KG,,PMOL/KG,,PMOL/KG,,FMOL/KG,,UMOL/KG,,UMOL/KG,,,,DEG C,,/MILLE,,/MILLE,,UMOL/KG,,UMOL/KG,,NMOL/KG,,,,,,ITS-90,,UG/L,,UG/L,,UG/L,,UG/L,,VOLTS,,VOLTS,,,,,,,,,,,
33RR20220613,       P02E,     142,          1,         36,         36,2,20220624,       1954,    30.0018,  -147.3558,       4897,     3.3,2,  23.6345,2,  35.1176,2,  35.1179,2,    217.7,2,   216.3,2,    0.20,2,    0.04,2,    0.00,2,    0.01,3,   1.707,2,   1.070,2,   1.8402,2,  2038.0,2,  2313.4,2,   7.9921,2,    25.04,2, -999.00,9,  -999.0,9, -999.00,1, -999.00,1,        6.7,2, 20220624,     2204,  30.0018,-147.3558,    23.6420,2,     -999.0,9,     -999.0,9,     -999.0,9,     -999.0,9,     0.0122,1,     4.6376,1,     -999.0,9,     -999.0,9,     -999.0,9,     -999.0,9,     -999.0,9
33RR20220613,       P02E,     142,          1,         35,         35,2,20220624,       1954,    30.0018,  -147.3558,       4897,    20.9,2,  23.4361,2,  35.1331,2,  35.1421,2,    217.0,2,   215.8,2,    0.20,2,    0.02,2,    0.00,2,    0.01,3,   1.691,2,   1.050,2,   1.7794,2,  2039.6,6,  2314.1,2,   7.9946,2,    25.05,2, -999.00,9,  -999.0,9, -999.00,1, -999.00,1,        6.6,2, 20220624,     2203,  30.0018,-147.3558,    23.4386,2,     -999.0,9,     -999.0,9,     -999.0,9,     -999.0,9,     0.0122,1,     4.6310,1,     -999.0,9,     -999.0,9,     -999.0,9,     -999.0,9,     -999.0,9
33RR20220613,       P02E,     142,          1,         34,         34,2,20220624,       1954,    30.0018,  -147.3558,       4897,    40.8,2,  22.9505,2,  35.3296,2,  35.3206,2,    224.4,2,   225.6,2,    0.00,2,    0.01,2,    0.00,2,    0.00,3,-999.000,9,-999.000,9,-999.0000,9,  2034.4,2,  2323.2,2,   8.0103,2,    24.80,2, -999.00,9,  -999.0,9, -999.00,1, -999.00,1,     -999.0,9, 20220624,     2201,  30.0018,-147.3558,    22.9447,2,     -999.0,9,     -999.0,9,     -999.0,9,     -999.0,9,     0.0134,1,     4.6294,1,     -999.0,9,     -999.0,9,     -999.0,9,     -999.0,9,     -999.0,9
33RR20220613,       P02E,     142,          1,         33,         33,2,20220624,       1954,    30.0018,  -147.3558,       4897,    66.1,2,  20.9345,2,  35.1705,2,  35.1705,2,    232.9,2,   233.1,2,    0.20,2,    0.01,2,    0.00,2,    0.01,3,   1.951,2,   1.197,2,   1.9268,2,  2033.9,2,  2314.7,2,   7.9982,2,    25.05,2, -999.00,9,  -999.0,9, -999.00,1, -999.00,1,        7.4,2, 20220624,     2159,  30.0018,-147.3558,    20.9366,2,     -999.0,9,     -999.0,9,     -999.0,9,     -999.0,9,     0.0147,1,     4.6359,1,     -999.0,9,     -999.0,9,     -999.0,9,     -999.0,9,     -999.0,9
33RR20220613,       P02E,     142,          1,         32,         32,2,20220624,       1954,    30.0018,  -147.3558,       4897,    91.6,2,  20.3001,2,  35.1368,2,  35.1386,2,    231.4,2,   231.1,2,    0.29,2,    0.00,2,    0.00,2,    0.00,3,-999.000,9,-999.000,9,-999.0000,9,  2032.3,2,  2310.8,6,   7.9950,2,    25.01,2, -999.00,9,  -999.0,9, -999.00,1, -999.00,1,     -999.0,9, 20220624,     2157,  30.0018,-147.3558,    20.3022,2,     -999.0,9,     -999.0,9,     -999.0,9,     -999.0,9,     0.0171,1,     4.6442,1,     -999.0,9,     -999.0,9,     -999.0,9,     -999.0,9,     -999.0,9
33RR20220613,       P02E,     142,          1,         31,         31,2,20220624,       1954,    30.0018,  -147.3558,       4897,   137.2,2,  18.8378,2,  34.8976,2,  34.8916,2,    226.0,2,   226.3,2,    0.88,2,    0.00,2,    0.01,2,    0.03,3,   2.061,2,   1.278,2,   2.1006,2,  2039.2,2,  2294.9,2,   7.9620,2,    25.04,2, -999.00,9,  -999.0,9, -999.00,1, -999.00,1,        8.1,2, 20220624,     2154,  30.0018,-147.3558,    18.8330,2,     -999.0,9,     -999.0,9,     -999.0,9,     -999.0,9,     0.0281,1,     4.6581,1,     -999.0,9,     -999.0,9,     -999.0,9,     -999.0,9,     -999.0,9
33RR20220613,       P02E,     142,          1,         30,         17,2,20220624,       1954,    30.0018,  -147.3558,       4897,   186.7,2,  15.6847,2,  34.4773,3,  34.4469,2,    212.9,2,   214.7,2,    3.13,2,    3.40,2,    0.02,2,    0.23,3,   2.400,2,   1.480,2,   2.1632,2,  2059.6,2,  2268.1,2,   7.8722,2,    25.03,2, -999.00,9,  -999.0,9, -999.00,1, -999.00,1,       10.6,2, 20220624,     2150,  30.0018,-147.3558,    15.6909,2,     -999.0,9,     -999.0,9,     -999.0,9,     -999.0,9,     0.0226,1,     4.6737,1,     -999.0,9,     -999.0,9,     -999.0,9,     -999.0,9,     -999.0,9
33RR20220613,       P02E,     142,          1,         29,         29,2,20220624,       1954,    30.0018,  -147.3558,       4897,   237.2,2,  13.0154,2,  34.2132,2,  34.2203,2,    208.3,2,   208.5,2,    6.36,2,    8.13,2,    0.00,2,    0.48,3,   2.664,2,   1.634,2,   2.1403,2,  2081.0,2,  2256.6,2,   7.8029,2,    25.02,2, -999.00,9,  -999.0,9, -999.00,1, -999.00,1,       13.2,2, 20220624,     2148,  30.0018,-147.3558,    13.0308,2,     -999.0,9,     -999.0,9,     -999.0,9,     -999.0,9,     0.0122,1,     4.6872,1,     -999.0,9,     -999.0,9,     -999.0,9,     -999.0,9,     -999.0,9
33RR20220613,       P02E,     142,          1,         28,         28,2,20220624,       1954,    30.0018,  -147.3558,       4897,   287.1,2,  11.3245,2,  34.1018,3,  34.1283,2,    210.5,2,   212.2,2,   11.34,2,   12.20,2,    0.00,2,    0.70,3,   2.947,2,   1.748,2,   2.1872,2,  -999.0,9,  -999.0,9,-999.0000,9,  -999.00,9, -999.00,9,  -999.0,9, -999.00,1, -999.00,1,       16.2,2, 20220624,     2146,  30.0018,-147.3558,    11.3192,2,     -999.0,9,     -999.0,9,     -999.0,9,     -999.0,9,     0.0122,1,     4.6903,1,     -999.0,9,     -999.0,9,     -999.0,9,     -999.0,9,     -999.0,9
33RR20220613,       P02E,     142,          1,         27,         27,2,20220624,       1954,    30.0018,  -147.3558,       4897,   338.0,2,  10.3287,2,  34.1098,2,  34.1058,2,    209.1,2,   209.6,2,   15.84,2,   14.82,2,    0.00,2,    0.86,3,   3.373,2,   1.802,2,   2.0893,2,  2115.3,2,  2256.1,2,   7.7322,2,    25.02,2, -999.00,9,  -999.0,9, -999.00,1, -999.00,1,       18.5,2, 20220624,     2144,  30.0018,-147.3558,    10.3315,2,     -999.0,9,     -999.0,9,     -999.0,9,     -999.0,9,     0.0122,1,     4.6915,1,     -999.0,9,     -999.0,9,     -999.0,9,     -999.0,9,     -999.0,9
33RR20220613,       P02E,     142,          1,         26,         26,2,20220624,       1954,    30.0018,  -147.3558,       4897,   388.7,2,   9.3936,2,  34.0577,2,  34.0552,2,    201.6,2,   200.2,2,   21.71,2,   17.81,2,    0.00,2,    1.04,3,   3.239,2,   1.670,2,   1.5414,2,  -999.0,9,  -999.0,9,-999.0000,9,  -999.00,9, -999.00,9,  -999.0,9, -999.00,1, -999.00,1,       20.5,2, 20220624,     2142,  30.0018,-147.3558,     9.3527,2,     -999.0,9,     -999.0,9,     -999.0,9,     -999.0,9,     0.0122,1,     4.6934,1,     -999.0,9,     -999.0,9,     -999.0,9,     -999.0,9,     -999.0,9
33RR20220613,       P02E,     142,          1,         25,         25,2,20220624,       1954,    30.0018,  -147.3558,       4897,   469.9,2,   7.8232,2,  34.0155,2,  34.0143,2,    159.6,2,   159.1,2,   36.96,2,   24.82,2,    0.00,2,    1.50,3,   3.258,2,   1.660,2,   1.2291,2,  2182.2,2,  2270.6,2,   7.5877,2,    25.05,2, -999.00,9,  -999.0,9, -999.00,1, -999.00,1,       26.1,2, 20220624,     2140,  30.0018,-147.3558,     7.8157,2,     -999.0,9,     -999.0,9,     -999.0,9,     -999.0,9,     0.0122,1,     4.6945,1,     -999.0,9,     -999.0,9,     -999.0,9,     -999.0,9,     -999.0,9
33RR20220613,       P02E,     142,          1,         24,         24,2,20220624,       1954,    30.0018,  -147.3558,       4897,   569.7,2,   6.1274,2,  33.9857,2,  33.9869,2,    109.6,2,   109.3,2,   58.28,2,   32.55,2,    0.00,2,    2.05,3,   2.543,2,   1.287,2,   0.7314,2,  2238.7,2,  2286.5,2,   7.4586,2,    25.04,2, -999.00,9,  -999.0,9, -999.00,1, -999.00,1,       33.3,2, 20220624,     2136,  30.0018,-147.3558,     6.1141,2,     -999.0,9,     -999.0,9,     -999.0,9,     -999.0,9,     0.0131,1,     4.6952,1,     -999.0,9,     -999.0,9,     -999.0,9,     -999.0,9,     -999.0,9
33RR20220613,       P02E,     142,          1,         23,         23,2,20220624,       1954,    30.0018,  -147.3558,       4897,   670.1,2,   5.1385,2,  34.0528,2,  34.0525,2,     60.5,3,    61.6,2,   78.03,2,   38.33,2,    0.00,2,    2.48,3,   1.524,2,   0.748,2,   0.3461,2,  -999.0,9,  -999.0,9,-999.0000,9,  -999.00,9, -999.00,9,  -999.0,9, -999.00,1, -999.00,1,       39.7,2, 20220624,     2134,  30.0018,-147.3558,     5.1389,2,     -999.0,9,     -999.0,9,     -999.0,9,     -999.0,9,     0.0134,1,     4.6959,1,     -999.0,9,     -999.0,9,     -999.0,9,     -999.0,9,     -999.0,9
33RR20220613,       P02E,     142,          1,         22,         22,2,20220624,       1954,    30.0018,  -147.3558,       4897,   771.0,2,   4.5076,2,  34.1655,2,  34.1697,2,     26.8,3,    26.1,2,   97.29,2,   42.24,2,    0.00,2,    2.83,3,   0.573,2,   0.274,2,   0.1808,2,  2327.8,2,  2326.5,2,   7.3044,2,    24.95,2, -999.00,9,  -999.0,9, -999.00,1, -999.00,1,       48.0,2, 20220624,     2130,  30.0018,-147.3558,     4.5033,2,     -999.0,9,     -999.0,9,     -999.0,9,     -999.0,9,     0.0134,1,     4.6945,1,     -999.0,9,     -999.0,9,     -999.0,9,     -999.0,9,     -999.0,9
33RR20220613,       P02E,     142,          1,         21,         21,2,20220624,       1954,    30.0018,  -147.3558,       4897,   872.8,2,   4.1132,2,  34.2827,2,  34.2803,2,     13.6,2,    13.6,2,  110.38,2,   43.55,2,    0.00,2,    3.00,4,   0.132,2,   0.072,2,   0.0000,2,  2349.2,2,  2344.7,2,   7.2958,2,    25.02,2, -999.00,9,  -999.0,9, -999.00,1, -999.00,1,       52.0,2, 20220624,     2128,  30.0018,-147.3558,     4.1165,2,     -999.0,9,     -999.0,9,     -999.0,9,     -999.0,9,     0.0134,1,     4.6960,1,     -999.0,9,     -999.0,9,     -999.0,9,     -999.0,9,     -999.0,9
33RR20220613,       P02E,     142,          1,         20,         20,2,20220624,       1954,    30.0018,  -147.3558,       4897,   974.0,2,   3.8632,2,  34.3532,2,  34.3535,2,     13.5,3,    13.1,2,  118.39,2,   43.92,2,    0.00,2,    3.07,4,   0.036,2,   0.024,2,   0.0000,2,  2358.8,2,  2359.6,2,   7.3028,2,    24.99,2, -999.00,9,  -999.0,9, -999.00,1, -999.00,1,       51.6,2, 20220624,     2124,  30.0018,-147.3558,     3.8627,2,     -999.0,9,     -999.0,9,     -999.0,9,     -999.0,9,     0.0134,1,     4.6959,1,     -999.0,9,     -999.0,9,     -999.0,9,     -999.0,9,     -999.0,9
33RR20220613,       P02E,     142,          1,         19,         39,2,20220624,       1954,    30.0018,  -147.3558,       4897,  1075.2,2,   3.5821,2,  34.4207,2,  34.4204,2,     19.2,3,    19.5,2,  125.62,2,   43.83,2,    0.00,2,    3.11,4,   0.014,2,   0.011,2,   0.0000,2,  2364.5,2,  2371.1,2,   7.3226,2,    25.02,2, -999.00,9,  -999.0,9, -999.00,1, -999.00,1,       51.5,2, 20220624,     2122,  30.0018,-147.3558,     3.5855,2,     -999.0,9,     -999.0,9,     -999.0,9,     -999.0,9,     0.0134,1,     4.6964,1,     -999.0,9,     -999.0,9,     -999.0,9,     -999.0,9,     -999.0,9
33RR20220613,       P02E,     142,          1,         18,         18,2,20220624,       1954,    30.0018,  -147.3558,       4897,  1176.5,2,   3.3651,2,  34.4633,2,  34.4626,2,     27.4,2,    27.3,2,  130.31,2,   43.56,2,    0.00,2,    3.12,4,   0.008,2,   0.008,2,   0.0000,2,  2366.9,2,  2378.6,2,   7.3435,2,    25.03,2, -999.00,9,  -999.0,9, -999.00,1, -999.00,1,       48.0,2, 20220624,     2119,  30.0018,-147.3558,     3.3648,2,     -999.0,9,     -999.0,9,     -999.0,9,     -999.0,9,     0.0134,1,     4.6971,1,     -999.0,9,     -999.0,9,     -999.0,9,     -999.0,9,     -999.0,9
33RR20220613,       P02E,     142,          1,         17,         37,2,20220624,       1954,    30.0018,  -147.3558,       4897,  1277.8,2,   3.0840,2,  34.5065,2,  34.5105,2,     38.7,2,    39.0,2,  136.17,2,   42.98,2,    0.00,2,    3.13,4,   0.009,2,   0.008,2,   0.0000,2,  2367.8,2,  2389.9,2,   7.3694,2,    25.04,2, -999.00,9,  -999.0,9, -999.00,1, -999.00,1,       46.0,2, 20220624,     2115,  30.0018,-147.3558,     3.0844,2,     -999.0,9,     -999.0,9,     -999.0,9,     -999.0,9,     0.0133,1,     4.6982,1,     -999.0,9,     -999.0,9,     -999.0,9,     -999.0,9,     -999.0,9
33RR20220613,       P02E,     142,          1,         16,         16,2,20220624,       1954,    30.0018,  -147.3558,       4897,  1379.4,2,   2.8894,2,  34.5315,2,  34.5309,2,     47.2,2,    46.9,2,  139.98,2,   42.57,2,    0.00,2,    3.12,4,   0.006,2,   0.004,2,   0.0000,2,  -999.0,9,  -999.0,9,-999.0000,9,  -999.00,9, -999.00,9,  -999.0,9, -999.00,9, -999.00,9,       40.9,2, 20220624,     2112,  30.0018,-147.3558,     2.8899,2,     -999.0,9,     -999.0,9,     -999.0,9,     -999.0,9,     0.0134,1,     4.6983,1,     -999.0,9,     -999.0,9,     -999.0,9,     -999.0,9,     -999.0,9
33RR20220613,       P02E,     142,          1,         15,         15,2,20220624,       1954,    30.0018,  -147.3558,       4897,  1480.7,2,   2.6821,2,  34.5529,2,  34.5519,2,     54.5,2,    54.9,2,  144.57,2,   42.13,2,    0.00,2,    3.12,4,   0.005,2,   0.004,2,   0.0000,2,  2368.9,2,  2402.4,2,   7.4012,2,    25.04,2, -999.00,9,  -999.0,9, -999.00,1, -999.00,1,       39.2,2, 20220624,     2110,  30.0018,-147.3558,     2.6844,2,     -999.0,9,     -999.0,9,     -999.0,9,     -999.0,9,     0.0134,1,     4.6985,1,     -999.0,9,     -999.0,9,     -999.0,9,     -999.0,9,     -999.0,9
33RR20220613,       P02E,     142,          1,         14,         14,2,20220624,       1954,    30.0018,  -147.3558,       4897,  1582.0,2,   2.5417,2,  34.5656,2,  34.5637,2,     59.3,2,    59.5,2,  148.38,2,   41.97,2,    0.00,2,    3.14,4,   0.005,2,   0.000,2,   0.0000,2,  -999.0,9,  -999.0,9,-999.0000,9,  -999.00,9, -999.00,9,  -999.0,9, -999.00,9, -999.00,9,       37.6,2, 20220624,     2105,  30.0018,-147.3558,     2.5430,2,     -999.0,9,     -999.0,9,     -999.0,9,     -999.0,9,     0.0134,1,     4.6990,1,     -999.0,9,     -999.0,9,     -999.0,9,     -999.0,9,     -999.0,9
33RR20220613,       P02E,     142,          1,         13,         13,2,20220624,       1954,    30.0018,  -147.3558,       4897,  1754.5,2,   2.2976,2,  34.5886,2,  34.5891,2,     68.2,2,    68.0,2,  154.64,2,   41.40,2,    0.00,2,    3.15,4,   0.002,2,   0.001,2,   0.0000,2,  2368.1,2,  2411.9,2,   7.4277,2,    25.03,2, -999.00,9,  -999.0,9, -999.00,1, -999.00,1,       34.2,2, 20220624,     2100,  30.0018,-147.3558,     2.2971,2,     -999.0,9,     -999.0,9,     -999.0,9,     -999.0,9,     0.0134,1,     4.6995,1,     -999.0,9,     -999.0,9,     -999.0,9,     -999.0,9,     -999.0,9
33RR20220613,       P02E,     142,          1,         12,         12,2,20220624,       1954,    30.0018,  -147.3558,       4897,  1957.0,2,   2.0885,2,  34.6078,2,  34.6069,2,     75.9,2,    76.0,2,  160.60,2,   40.91,2,    0.00,2,    3.16,4,-999.000,9,-999.000,9,-999.0000,9,  -999.0,9,  -999.0,9,-999.0000,9,  -999.00,9, -999.00,9,  -999.0,9, -999.00,9, -999.00,9,     -999.0,9, 20220624,     2055,  30.0018,-147.3558,     2.0888,2,     -999.0,9,     -999.0,9,     -999.0,9,     -999.0,9,     0.0125,1,     4.6998,1,     -999.0,9,     -999.0,9,     -999.0,9,     -999.0,9,     -999.0,9
33RR20220613,       P02E,     142,          1,         11,         11,2,20220624,       1954,    30.0018,  -147.3558,       4897,  2190.7,2,   1.8883,2,  34.6274,2,  34.6268,2,     85.3,2,    85.5,2,  166.95,2,   40.31,2,    0.00,2,    3.16,4,   0.003,2,   0.002,2,   0.0000,2,  2367.7,2,  2422.5,2,   7.4603,2,    24.99,2, -999.00,9,  -999.0,9, -999.00,1, -999.00,1,       35.2,2, 20220624,     2050,  30.0018,-147.3558,     1.8872,2,     -999.0,9,     -999.0,9,     -999.0,9,     -999.0,9,     0.0134,1,     4.7009,1,     -999.0,9,     -999.0,9,     -999.0,9,     -999.0,9,     -999.0,9
33RR20220613,       P02E,     142,          1,         10,         10,2,20220624,       1954,    30.0018,  -147.3558,       4897,  2445.0,2,   1.7504,2,  34.6420,2,  34.6415,2,     95.4,2,    95.3,2,  169.20,2,   39.68,2,    0.00,2,    3.14,4,-999.000,9,-999.000,9,-999.0000,9,  -999.0,9,  -999.0,9,-999.0000,9,  -999.00,9, -999.00,9,  -999.0,9, -999.00,9, -999.00,9,     -999.0,9, 20220624,     2045,  30.0018,-147.3558,     1.7495,2,     -999.0,9,     -999.0,9,     -999.0,9,     -999.0,9,     0.0131,1,     4.7019,1,     -999.0,9,     -999.0,9,     -999.0,9,     -999.0,9,     -999.0,9
33RR20220613,       P02E,     142,          1,          9,          9,2,20220624,       1954,    30.0018,  -147.3558,       4897,  2700.1,2,   1.6414,2,  34.6538,2,  34.6537,2,    105.9,2,   105.9,2,  169.88,2,   39.08,2,    0.00,2,    3.10,4,   0.003,2,   0.003,2,   0.0000,2,  2360.8,2,  2429.6,2,   7.5001,2,    25.02,2, -999.00,9,  -999.0,9, -999.00,1, -999.00,1,       26.3,2, 20220624,     2039,  30.0018,-147.3558,     1.6415,2,     -999.0,9,     -999.0,9,     -999.0,9,     -999.0,9,     0.0122,1,     4.7019,1,     -999.0,9,     -999.0,9,     -999.0,9,     -999.0,9,     -999.0,9
33RR20220613,       P02E,     142,          1,          8,          8,2,20220624,       1954,    30.0018,  -147.3558,       4897,  2954.8,2,   1.5668,2,  34.6628,2,  34.6627,2,    115.7,2,   116.0,2,  168.80,2,   38.44,2,    0.00,2,    3.06,4,-999.000,9,-999.000,9,-999.0000,9,  -999.0,9,  -999.0,9,-999.0000,9,  -999.00,9, -999.00,9,  -999.0,9, -999.00,9, -999.00,9,     -999.0,9, 20220624,     2034,  30.0018,-147.3558,     1.5674,2,     -999.0,9,     -999.0,9,     -999.0,9,     -999.0,9,     0.0126,1,     4.7021,1,     -999.0,9,     -999.0,9,     -999.0,9,     -999.0,9,     -999.0,9
33RR20220613,       P02E,     142,          1,          7,          7,2,20220624,       1954,    30.0018,  -147.3558,       4897,  3246.9,2,   1.5052,2,  34.6716,2,  34.6724,2,    126.6,2,   126.8,2,  166.46,2,   37.86,2,    0.00,2,    3.00,4,   0.003,2,   0.001,2,   0.0000,2,  2347.8,2,  2429.4,6,   7.5372,2,    25.03,2, -999.00,9,  -999.0,9, -999.00,1, -999.00,1,       25.0,2, 20220624,     2028,  30.0018,-147.3558,     1.5053,2,     -999.0,9,     -999.0,9,     -999.0,9,     -999.0,9,     0.0125,1,     4.7030,1,     -999.0,9,     -999.0,9,     -999.0,9,     -999.0,9,     -999.0,9
33RR20220613,       P02E,     142,          1,          6,          6,2,20220624,       1954,    30.0018,  -147.3558,       4897,  3554.0,2,   1.4693,2,  34.6785,2,  34.6783,2,    136.4,2,   136.3,2,  163.33,2,   37.26,2,    0.00,2,    2.94,4,-999.000,9,-999.000,9,-999.0000,9,  -999.0,9,  -999.0,9,-999.0000,9,  -999.00,9, -999.00,9,  -999.0,9, -999.00,9, -999.00,9,     -999.0,9, 20220624,     2022,  30.0018,-147.3558,     1.4691,2,     -999.0,9,     -999.0,9,     -999.0,9,     -999.0,9,     0.0122,1,     4.7031,1,     -999.0,9,     -999.0,9,     -999.0,9,     -999.0,9,     -999.0,9
33RR20220613,       P02E,     142,          1,          5,          5,2,20220624,       1954,    30.0018,  -147.3558,       4897,  3861.4,2,   1.4618,2,  34.6829,2,  34.6834,2,    142.7,2,   142.8,2,  160.98,2,   36.83,2,    0.00,2,    2.91,4,   0.003,2,   0.002,2,   0.0000,2,  2335.1,2,  2428.0,2,   7.5669,2,    25.04,2, -999.00,9,  -999.0,9, -999.00,1, -999.00,1,       21.5,2, 20220624,     2016,  30.0018,-147.3558,     1.4619,2,     -999.0,9,     -999.0,9,     -999.0,9,     -999.0,9,     0.0122,1,     4.7033,1,     -999.0,9,     -999.0,9,     -999.0,9,     -999.0,9,     -999.0,9