BOTTLE,20230830CCHSIOCBG
EXPOCODE,SECT_ID,STNNBR,CASTNO,SAMPNO,BTLNBR,BTLNBR_FLAG_W,DATE,TIME,LATITUDE,LONGITUDE,DEPTH,CTDPRS,CTDPRS_FLAG_W,CTDTMP,CTDTMP_FLAG_W,CTDSAL,CTDSAL_FLAG_W,SALNTY,SALNTY_FLAG_W,CTDOXY,CTDOXY_FLAG_W,OXYGEN,OXYGEN_FLAG_W,SILCAT,SILCAT_FLAG_W,NITRAT,NITRAT_FLAG_W,NITRIT,NITRIT_FLAG_W,PHSPHT,PHSPHT_FLAG_W,CFC-11,CFC-11_FLAG_W,CFC-12,CFC-12_FLAG_W,SF6,SF6_FLAG_W,TCARBN,TCARBN_FLAG_W,ALKALI,ALKALI_FLAG_W,PH_TOT,PH_TOT_FLAG_W,PH_TMP,PH_TMP_FLAG_W,DELC13,DELC13_FLAG_W,DELC14,DELC14_FLAG_W,DOC,DOC_FLAG_W,TDN,TDN_FLAG_W,N2O,N2O_FLAG_W,BTL_DATE,BTL_TIME,BTL_LAT,BTL_LON,REFTMP,REFTMP_FLAG_W,POC,POC_FLAG_W,PON,PON_FLAG_W,POP,POP_FLAG_W,PCOD,PCOD_FLAG_W,CTDFLUOR,CTDFLUOR_FLAG_W,CTDXMISS,CTDXMISS_FLAG_W,HPLC,HPLC_FLAG_W,DNA,DNA_FLAG_W,FCM,FCM_FLAG_W,IMAGES,IMAGES_FLAG_W,VIRAL_ABUNDANCE,VIRAL_ABUNDANCE_FLAG_W
,,,,,,,,,,,METERS,DBAR,,ITS-90,,PSS-78,,PSS-78,,UMOL/KG,,UMOL/KG,,UMOL/KG,,UMOL/KG,,UMOL/KG,,UMOL/KG,,PMOL/KG,,PMOL/KG,,FMOL/KG,,UMOL/KG,,UMOL/KG,,,,DEG C,,/MILLE,,/MILLE,,UMOL/KG,,UMOL/KG,,NMOL/KG,,,,,,ITS-90,,UG/L,,UG/L,,UG/L,,UG/L,,VOLTS,,VOLTS,,,,,,,,,,,
33RR20220613,       P02E,     189,          2,         36,         36,2,20220714,       0906,    31.2483,  -120.7516,       4022,     3.5,2,  17.5576,2,  33.3164,3,  33.3371,2,    251.6,2,   251.7,2,    0.68,2,    0.79,2,    0.05,2,    0.39,2,   2.313,2,   1.421,2,   2.2795,2,  2022.1,6,  2229.6,2,   7.8949,2,    25.01,2, -999.00,9,  -999.0,9, -999.00,9, -999.00,9,        9.8,2, 20220714,     1101,  31.2483,-120.7516,    17.5580,2,     -999.0,9,     -999.0,9,     -999.0,9,     -999.0,9,     0.0330,1,     4.5835,1,     -999.0,9,     -999.0,9,     -999.0,9,     -999.0,9,     -999.0,9
33RR20220613,       P02E,     189,          2,         35,         35,2,20220714,       0906,    31.2483,  -120.7516,       4022,    35.7,2,  13.3579,2,  33.1226,2,  33.1353,2,    261.8,2,   261.5,2,    2.44,2,    3.36,2,    0.23,2,    0.63,2,   2.757,2,   1.659,2,   2.5976,2,  2038.3,2,  2212.0,6,   7.8294,2,    25.00,2, -999.00,9,  -999.0,9, -999.00,9, -999.00,9,       12.3,2, 20220714,     1058,  31.2482,-120.7516,    13.3425,2,     -999.0,9,     -999.0,9,     -999.0,9,     -999.0,9,     0.0594,1,     4.5806,1,     -999.0,9,     -999.0,9,     -999.0,9,     -999.0,9,     -999.0,9
33RR20220613,       P02E,     189,          2,         34,         34,2,20220714,       0906,    31.2483,  -120.7516,       4022,    61.5,2,  12.3458,2,  33.3680,2,  33.3681,2,    229.6,2,   230.1,2,    5.77,2,   10.29,2,    0.22,2,    1.03,2,   2.830,2,   1.713,2,   2.6260,2,  2085.3,2,  2224.7,2,   7.7349,2,    25.01,2, -999.00,9,  -999.0,9, -999.00,9, -999.00,9,       14.2,2, 20220714,     1056,  31.2482,-120.7516,    12.3573,2,     -999.0,9,     -999.0,9,     -999.0,9,     -999.0,9,     0.0374,1,     4.6156,1,     -999.0,9,     -999.0,9,     -999.0,9,     -999.0,9,     -999.0,9
33RR20220613,       P02E,     189,          2,         33,         33,2,20220714,       0906,    31.2483,  -120.7516,       4022,    86.3,2,  11.1391,2,  33.4672,2,  33.4600,2,    208.2,3,   212.0,2,   10.85,2,   15.17,2,    0.04,2,    1.30,2,   2.939,2,   1.784,2,   2.6202,2,  2117.4,2,  2227.7,2,   7.6660,2,    25.01,2, -999.00,9,  -999.0,9, -999.00,9, -999.00,9,       16.8,2, 20220714,     1054,  31.2482,-120.7516,    11.1698,2,     -999.0,9,     -999.0,9,     -999.0,9,     -999.0,9,     0.0216,1,     4.6403,1,     -999.0,9,     -999.0,9,     -999.0,9,     -999.0,9,     -999.0,9
33RR20220613,       P02E,     189,          2,         32,         32,2,20220714,       0906,    31.2483,  -120.7516,       4022,   111.4,2,  10.1848,2,  33.6904,2,  33.6924,2,    157.3,2,   157.6,2,   19.26,2,   20.74,2,    0.03,2,    1.64,2,   2.887,2,   1.768,2,   2.1262,2,  2159.5,2,  2238.7,2,   7.5655,2,    25.00,2, -999.00,9,  -999.0,9, -999.00,9, -999.00,9,       23.7,2, 20220714,     1051,  31.2482,-120.7516,    10.1834,2,     -999.0,9,     -999.0,9,     -999.0,9,     -999.0,9,     0.0134,1,     4.6509,1,     -999.0,9,     -999.0,9,     -999.0,9,     -999.0,9,     -999.0,9
33RR20220613,       P02E,     189,          2,         31,         31,2,20220714,       0906,    31.2483,  -120.7516,       4022,   136.6,2,   9.5590,2,  33.8198,2,  33.8253,2,    135.7,2,   135.7,2,   24.04,2,   23.44,2,    0.02,2,    1.79,2,   2.842,2,   1.742,2,   1.9054,2,  2179.9,2,  2245.2,2,   7.5272,2,    25.01,2, -999.00,9,  -999.0,9, -999.00,9, -999.00,9,       28.2,2, 20220714,     1049,  31.2482,-120.7516,     9.5569,2,     -999.0,9,     -999.0,9,     -999.0,9,     -999.0,9,     0.0134,1,     4.6530,1,     -999.0,9,     -999.0,9,     -999.0,9,     -999.0,9,     -999.0,9
33RR20220613,       P02E,     189,          2,         30,         17,2,20220714,       0906,    31.2483,  -120.7516,       4022,   166.7,2,   9.0953,2,  33.9702,2,  33.9839,2,    122.7,2,   122.3,2,   29.02,2,   25.09,2,    0.03,2,    1.88,2,   2.718,2,   1.670,2,   1.4955,2,  2193.5,2,  2256.3,2,   7.5137,2,    25.02,2, -999.00,9,  -999.0,9, -999.00,9, -999.00,9,       32.5,2, 20220714,     1046,  31.2482,-120.7516,     9.0921,2,     -999.0,9,     -999.0,9,     -999.0,9,     -999.0,9,     0.0134,1,     4.6550,1,     -999.0,9,     -999.0,9,     -999.0,9,     -999.0,9,     -999.0,9
33RR20220613,       P02E,     189,          2,         29,         29,2,20220714,       0906,    31.2483,  -120.7516,       4022,   218.0,2,   8.5148,2,  34.0790,2,  34.0829,2,     88.7,2,    88.9,2,   38.01,2,   28.93,2,    0.02,2,    2.19,2,   2.360,2,   1.425,2,   1.0279,2,  2225.7,2,  2270.7,6,   7.4470,2,    25.02,2, -999.00,9,  -999.0,9, -999.00,9, -999.00,9,       39.2,2, 20220714,     1045,  31.2482,-120.7516,     8.5153,2,     -999.0,9,     -999.0,9,     -999.0,9,     -999.0,9,     0.0134,1,     4.6574,1,     -999.0,9,     -999.0,9,     -999.0,9,     -999.0,9,     -999.0,9
33RR20220613,       P02E,     189,          2,         28,         28,2,20220714,       0906,    31.2483,  -120.7516,       4022,   268.0,2,   7.6184,2,  34.0904,2,  34.0917,2,     70.3,2,    70.2,2,   47.68,2,   32.46,2,    0.00,2,    2.42,2,   2.087,2,   1.234,2,   0.7470,2,  2252.4,2,  2277.6,2,   7.3992,2,    25.01,2, -999.00,9,  -999.0,9, -999.00,9, -999.00,9,       44.4,2, 20220714,     1042,  31.2482,-120.7516,     7.6184,2,     -999.0,9,     -999.0,9,     -999.0,9,     -999.0,9,     0.0134,1,     4.6540,1,     -999.0,9,     -999.0,9,     -999.0,9,     -999.0,9,     -999.0,9
33RR20220613,       P02E,     189,          2,         27,         27,2,20220714,       0906,    31.2483,  -120.7516,       4022,   317.5,2,   7.0525,2,  34.1234,2,  34.1256,2,     50.2,2,    49.9,2,   56.38,2,   35.09,2,    0.00,2,    2.64,2,   1.677,2,   0.964,2,   0.5558,2,  2274.2,2,  2287.0,2,   7.3585,2,    25.01,2, -999.00,9,  -999.0,9, -999.00,9, -999.00,9,       49.3,2, 20220714,     1040,  31.2482,-120.7515,     7.0493,2,     -999.0,9,     -999.0,9,     -999.0,9,     -999.0,9,     0.0134,1,     4.6588,1,     -999.0,9,     -999.0,9,     -999.0,9,     -999.0,9,     -999.0,9
33RR20220613,       P02E,     189,          2,         26,         26,2,20220714,       0906,    31.2483,  -120.7516,       4022,   367.8,2,   6.6529,2,  34.1680,2,  34.1670,2,     35.0,3,    35.7,2,   63.22,2,   36.85,2,    0.00,2,    2.78,2,   1.279,2,   0.722,2,   0.4459,2,  -999.0,9,  -999.0,9,-999.0000,9,  -999.00,9, -999.00,9,  -999.0,9, -999.00,9, -999.00,9,       55.3,2, 20220714,     1038,  31.2482,-120.7516,     6.6525,2,     -999.0,9,     -999.0,9,     -999.0,9,     -999.0,9,     0.0134,1,     4.6491,1,     -999.0,9,     -999.0,9,     -999.0,9,     -999.0,9,     -999.0,9
33RR20220613,       P02E,     189,          2,         25,         25,2,20220714,       0906,    31.2483,  -120.7516,       4022,   418.5,2,   6.3093,2,  34.2129,2,  34.2120,2,     23.8,3,    24.1,2,   69.86,2,   38.24,2,    0.00,2,    2.92,2,   0.893,2,   0.485,2,   0.2102,2,  2302.7,2,  2304.6,2,   7.3181,2,    25.02,2, -999.00,9,  -999.0,9, -999.00,9, -999.00,9,       59.9,2, 20220714,     1035,  31.2482,-120.7516,     6.3077,2,     -999.0,9,     -999.0,9,     -999.0,9,     -999.0,9,     0.0134,1,     4.6622,1,     -999.0,9,     -999.0,9,     -999.0,9,     -999.0,9,     -999.0,9
33RR20220613,       P02E,     189,          2,         24,         24,2,20220714,       0906,    31.2483,  -120.7516,       4022,   469.1,2,   6.0290,2,  34.2453,2,  34.2470,2,     18.4,2,    18.2,2,   75.43,2,   39.27,2,    0.00,2,    3.01,2,   0.623,2,   0.335,2,   0.1418,2,  2315.3,2,  2313.9,2,   7.3153,2,    25.02,2, -999.00,9,  -999.0,9, -999.00,9, -999.00,9,       64.3,2, 20220714,     1033,  31.2482,-120.7516,     6.0293,2,     -999.0,9,     -999.0,9,     -999.0,9,     -999.0,9,     0.0134,1,     4.6615,1,     -999.0,9,     -999.0,9,     -999.0,9,     -999.0,9,     -999.0,9
33RR20220613,       P02E,     189,          2,         23,         23,2,20220714,       0906,    31.2483,  -120.7516,       4022,   539.6,2,   5.7446,2,  34.3126,2,  34.3121,2,     12.7,3,    13.4,2,   82.07,2,   40.24,2,    0.00,2,    3.10,2,   0.306,2,   0.163,2,   0.0727,2,  2324.3,2,  2323.9,2,   7.3140,2,    25.03,2, -999.00,9,  -999.0,9, -999.00,9, -999.00,9,       68.7,2, 20220714,     1029,  31.2482,-120.7516,     5.7483,2,     -999.0,9,     -999.0,9,     -999.0,9,     -999.0,9,     0.0134,1,     4.6637,1,     -999.0,9,     -999.0,9,     -999.0,9,     -999.0,9,     -999.0,9
33RR20220613,       P02E,     189,          2,         22,         22,2,20220714,       0906,    31.2483,  -120.7516,       4022,   640.9,2,   5.2786,2,  34.3535,2,  34.3539,2,     11.6,3,    11.5,2,   90.95,2,   41.48,2,    0.00,2,    3.16,2,   0.139,6,   0.077,6,   0.0563,6,  2337.6,2,  2336.0,2,   7.3147,2,    25.02,2, -999.00,9,  -999.0,9, -999.00,9, -999.00,9,       69.1,6, 20220714,     1025,  31.2482,-120.7516,     5.2780,2,     -999.0,9,     -999.0,9,     -999.0,9,     -999.0,9,     0.0134,1,     4.6651,1,     -999.0,9,     -999.0,9,     -999.0,9,     -999.0,9,     -999.0,9
33RR20220613,       P02E,     189,          2,         21,         21,2,20220714,       0906,    31.2483,  -120.7516,       4022,   742.1,2,   4.8406,2,  34.4080,2,  34.4057,2,     13.6,3,    13.1,2,   99.25,2,   42.47,2,    0.01,2,    3.17,2,   0.057,2,   0.032,2,   0.1033,2,  2345.5,2,  2348.9,2,   7.3255,2,    25.03,2, -999.00,9,  -999.0,9, -999.00,9, -999.00,9,       71.7,2, 20220714,     1022,  31.2482,-120.7516,     4.8410,2,     -999.0,9,     -999.0,9,     -999.0,9,     -999.0,9,     0.0134,1,     4.6673,1,     -999.0,9,     -999.0,9,     -999.0,9,     -999.0,9,     -999.0,9
33RR20220613,       P02E,     189,          2,         20,         20,2,20220714,       0906,    31.2483,  -120.7516,       4022,   842.9,2,   4.4915,2,  34.4422,2,  34.4414,2,     16.7,3,    16.5,2,  107.26,2,   42.85,2,    0.00,2,    3.17,2,-999.000,9,-999.000,9,-999.0000,9,  -999.0,9,  -999.0,9,-999.0000,9,  -999.00,9, -999.00,9,  -999.0,9, -999.00,9, -999.00,9,     -999.0,9, 20220714,     1019,  31.2482,-120.7516,     4.4907,2,     -999.0,9,     -999.0,9,     -999.0,9,     -999.0,9,     0.0134,1,     4.6664,1,     -999.0,9,     -999.0,9,     -999.0,9,     -999.0,9,     -999.0,9
33RR20220613,       P02E,     189,          2,         19,         39,2,20220714,       0906,    31.2483,  -120.7516,       4022,   944.3,2,   4.1433,2,  34.4731,2,  34.4740,2,     21.6,2,    21.4,2,  114.10,2,   43.13,2,    0.00,2,    3.17,2,   0.027,2,   0.020,2,   0.0000,2,  2358.0,2,  2367.6,2,   7.3424,2,    24.99,2, -999.00,9,  -999.0,9, -999.00,9, -999.00,9,       64.5,2, 20220714,     1017,  31.2482,-120.7515,     4.1416,2,     -999.0,9,     -999.0,9,     -999.0,9,     -999.0,9,     0.0134,1,     4.6689,1,     -999.0,9,     -999.0,9,     -999.0,9,     -999.0,9,     -999.0,9
33RR20220613,       P02E,     189,          2,         18,         18,2,20220714,       0906,    31.2483,  -120.7516,       4022,  1044.3,2,   3.8182,2,  34.4925,2,  34.4911,2,     26.3,3,    26.1,2,  121.33,2,   43.26,2,    0.00,2,    3.16,2,-999.000,9,-999.000,9,-999.0000,9,  -999.0,9,  -999.0,9,-999.0000,9,  -999.00,9, -999.00,9,  -999.0,9, -999.00,9, -999.00,9,     -999.0,9, 20220714,     1014,  31.2482,-120.7516,     3.8145,2,     -999.0,9,     -999.0,9,     -999.0,9,     -999.0,9,     0.0134,1,     4.6680,1,     -999.0,9,     -999.0,9,     -999.0,9,     -999.0,9,     -999.0,9
33RR20220613,       P02E,     189,          2,         17,         37,2,20220714,       0906,    31.2483,  -120.7516,       4022,  1145.7,2,   3.5450,2,  34.5155,2,  34.5174,2,     31.4,2,    31.3,2,  128.55,2,   43.03,2,    0.00,2,    3.12,2,   0.030,2,   0.026,2,   0.3325,2,  2368.7,2,  2383.5,2,   7.3605,2,    25.00,2, -999.00,9,  -999.0,9, -999.00,9, -999.00,9,       56.9,2, 20220714,     1011,  31.2482,-120.7516,     3.5475,2,     -999.0,9,     -999.0,9,     -999.0,9,     -999.0,9,     0.0134,1,     4.6690,1,     -999.0,9,     -999.0,9,     -999.0,9,     -999.0,9,     -999.0,9
33RR20220613,       P02E,     189,          2,         16,         16,2,20220714,       0906,    31.2483,  -120.7516,       4022,  1247.2,2,   3.3234,2,  34.5304,2,  34.5315,2,     35.9,2,    36.0,2,  133.24,2,   43.05,2,    0.00,2,    3.10,2,-999.000,9,-999.000,9,-999.0000,9,  -999.0,9,  -999.0,9,-999.0000,9,  -999.00,9, -999.00,9,  -999.0,9, -999.00,9, -999.00,9,     -999.0,9, 20220714,     1009,  31.2482,-120.7515,     3.3249,2,     -999.0,9,     -999.0,9,     -999.0,9,     -999.0,9,     0.0134,1,     4.6700,1,     -999.0,9,     -999.0,9,     -999.0,9,     -999.0,9,     -999.0,9
33RR20220613,       P02E,     189,          2,         15,         15,2,20220714,       0906,    31.2483,  -120.7516,       4022,  1348.9,2,   3.0980,2,  34.5466,2,  34.5466,2,     41.4,2,    41.7,2,  138.71,2,   42.80,2,    0.00,2,    3.08,2,   0.020,2,   0.016,2,   0.0677,2,  2372.4,2,  2394.9,2,   7.3802,2,    25.00,2, -999.00,9,  -999.0,9, -999.00,9, -999.00,9,       50.4,2, 20220714,     1006,  31.2482,-120.7516,     3.1009,2,     -999.0,9,     -999.0,9,     -999.0,9,     -999.0,9,     0.0134,1,     4.6704,1,     -999.0,9,     -999.0,9,     -999.0,9,     -999.0,9,     -999.0,9
33RR20220613,       P02E,     189,          2,         14,         42,2,20220714,       0906,    31.2483,  -120.7516,       4022,  1449.9,2,   2.9004,2,  34.5625,2,  34.5626,2,     47.4,2,    47.8,2,  143.20,2,   42.52,2,    0.00,2,    3.04,2,-999.000,9,-999.000,9,-999.0000,9,  -999.0,9,  -999.0,9,-999.0000,9,  -999.00,9, -999.00,9,  -999.0,9, -999.00,9, -999.00,9,     -999.0,9, 20220714,     1003,  31.2482,-120.7516,     2.9016,2,     -999.0,9,     -999.0,9,     -999.0,9,     -999.0,9,     0.0134,1,     4.6709,1,     -999.0,9,     -999.0,9,     -999.0,9,     -999.0,9,     -999.0,9
33RR20220613,       P02E,     189,          2,         13,         13,2,20220714,       0906,    31.2483,  -120.7516,       4022,  1551.3,2,   2.7069,2,  34.5760,2,  34.5753,2,     53.7,2,    53.4,2,  147.69,2,   42.10,2,    0.00,2,    3.00,2,   0.021,2,   0.015,2,   0.0000,2,  2375.4,2,  2404.6,2,   7.4023,2,    25.00,2, -999.00,9,  -999.0,9, -999.00,9, -999.00,9,       45.4,2, 20220714,     1001,  31.2482,-120.7515,     2.7105,2,     -999.0,9,     -999.0,9,     -999.0,9,     -999.0,9,     0.0134,1,     4.6717,1,     -999.0,9,     -999.0,9,     -999.0,9,     -999.0,9,     -999.0,9
33RR20220613,       P02E,     189,          2,         12,         12,2,20220714,       0906,    31.2483,  -120.7516,       4022,  1652.9,2,   2.5296,2,  34.5881,2,  34.5871,2,     59.9,2,    59.7,2,  152.28,2,   41.80,2,    0.00,2,    2.97,2,-999.000,9,-999.000,9,-999.0000,9,  -999.0,9,  -999.0,9,-999.0000,9,  -999.00,9, -999.00,9,  -999.0,9, -999.00,9, -999.00,9,     -999.0,9, 20220714,      958,  31.2482,-120.7516,     2.5289,2,     -999.0,9,     -999.0,9,     -999.0,9,     -999.0,9,     0.0134,1,     4.6726,1,     -999.0,9,     -999.0,9,     -999.0,9,     -999.0,9,     -999.0,9
33RR20220613,       P02E,     189,          2,         11,         11,2,20220714,       0906,    31.2483,  -120.7516,       4022,  1753.9,2,   2.3539,2,  34.6007,2,  34.6001,2,     66.9,2,    67.0,2,  155.99,2,   41.35,2,    0.00,2,    2.93,2,   0.009,2,   0.005,2,   0.0000,2,  2374.9,2,  2413.1,2,   7.4287,2,    25.00,2, -999.00,9,  -999.0,9, -999.00,9, -999.00,9,       39.4,2, 20220714,      955,  31.2482,-120.7516,     2.3535,2,     -999.0,9,     -999.0,9,     -999.0,9,     -999.0,9,     0.0134,1,     4.6730,1,     -999.0,9,     -999.0,9,     -999.0,9,     -999.0,9,     -999.0,9
33RR20220613,       P02E,     189,          2,         10,         10,2,20220714,       0906,    31.2483,  -120.7516,       4022,  1886.6,2,   2.1825,2,  34.6160,2,  34.6150,2,     76.1,2,    76.8,2,  159.21,2,   40.73,2,    0.00,2,    2.86,2,-999.000,9,-999.000,9,-999.0000,9,  -999.0,9,  -999.0,9,-999.0000,9,  -999.00,9, -999.00,9,  -999.0,9, -999.00,9, -999.00,9,     -999.0,9, 20220714,      952,  31.2482,-120.7516,     2.1819,2,     -999.0,9,     -999.0,9,     -999.0,9,     -999.0,9,     0.0134,1,     4.6739,1,     -999.0,9,     -999.0,9,     -999.0,9,     -999.0,9,     -999.0,9
33RR20220613,       P02E,     189,          2,          9,          9,2,20220714,       0906,    31.2483,  -120.7516,       4022,  2110.9,2,   1.9654,2,  34.6344,2,  34.6329,2,     88.6,2,    88.6,2,  162.82,2,   40.07,2,    0.00,2,    2.80,2,   0.010,2,   0.007,2,   0.0000,2,  2368.7,2,  2423.4,2,   7.4704,2,    25.00,2, -999.00,9,  -999.0,9, -999.00,9, -999.00,9,       32.7,2, 20220714,      947,  31.2482,-120.7516,     1.9661,2,     -999.0,9,     -999.0,9,     -999.0,9,     -999.0,9,     0.0134,1,     4.6741,1,     -999.0,9,     -999.0,9,     -999.0,9,     -999.0,9,     -999.0,9
33RR20220613,       P02E,     189,          2,          8,          8,2,20220714,       0906,    31.2483,  -120.7516,       4022,  2365.3,2,   1.8343,2,  34.6470,2,  34.6456,2,     98.9,2,    98.8,2,  164.39,2,   39.42,2,    0.00,2,    2.74,2,-999.000,9,-999.000,9,-999.0000,9,  -999.0,9,  -999.0,9,-999.0000,9,  -999.00,9, -999.00,9,  -999.0,9, -999.00,9, -999.00,9,     -999.0,9, 20220714,      942,  31.2482,-120.7515,     1.8357,2,     -999.0,9,     -999.0,9,     -999.0,9,     -999.0,9,     0.0134,1,     4.6739,1,     -999.0,9,     -999.0,9,     -999.0,9,     -999.0,9,     -999.0,9
33RR20220613,       P02E,     189,          2,          7,          7,2,20220714,       0906,    31.2483,  -120.7516,       4022,  2618.5,2,   1.7169,2,  34.6576,2,  34.6565,2,    108.7,2,   108.5,2,  165.85,2,   38.84,2,    0.00,2,    2.69,2,   0.006,2,   0.006,2,   0.0000,2,  2359.6,2,  2429.3,2,   7.5083,2,    25.02,2, -999.00,9,  -999.0,9, -999.00,9, -999.00,9,       28.3,2, 20220714,      937,  31.2482,-120.7516,     1.7169,2,     -999.0,9,     -999.0,9,     -999.0,9,     -999.0,9,     0.0131,1,     4.6763,1,     -999.0,9,     -999.0,9,     -999.0,9,     -999.0,9,     -999.0,9
33RR20220613,       P02E,     189,          2,          6,          6,2,20220714,       0906,    31.2483,  -120.7516,       4022,  2874.9,2,   1.6689,2,  34.6624,2,  34.6633,2,    113.7,2,   114.0,2,  166.83,2,   38.54,2,    0.00,2,    2.66,2,-999.000,9,-999.000,9,-999.0000,9,  -999.0,9,  -999.0,9,-999.0000,9,  -999.00,9, -999.00,9,  -999.0,9, -999.00,9, -999.00,9,     -999.0,9, 20220714,      931,  31.2482,-120.7516,     1.6688,2,     -999.0,9,     -999.0,9,     -999.0,9,     -999.0,9,     0.0122,1,     4.6763,1,     -999.0,9,     -999.0,9,     -999.0,9,     -999.0,9,     -999.0,9
33RR20220613,       P02E,     189,          2,          5,          5,2,20220714,       0906,    31.2483,  -120.7516,       4022,  3144.7,2,   1.6067,2,  34.6679,2,  34.6671,2,    119.9,2,   119.9,2,  168.00,2,   38.23,2,    0.00,2,    2.63,2,   0.010,2,   0.008,2,   0.0000,2,  2356.1,2,  2430.9,2,   7.5300,2,    25.02,2, -999.00,9,  -999.0,9, -999.00,9, -999.00,9,       26.4,2, 20220714,      926,  31.2482,-120.7516,     1.6067,2,     -999.0,9,     -999.0,9,     -999.0,9,     -999.0,9,     0.0125,1,     4.6786,1,     -999.0,9,     -999.0,9,     -999.0,9,     -999.0,9,     -999.0,9