BOTTLE,20230830CCHSIOCBG
EXPOCODE,SECT_ID,STNNBR,CASTNO,SAMPNO,BTLNBR,BTLNBR_FLAG_W,DATE,TIME,LATITUDE,LONGITUDE,DEPTH,CTDPRS,CTDPRS_FLAG_W,CTDTMP,CTDTMP_FLAG_W,CTDSAL,CTDSAL_FLAG_W,SALNTY,SALNTY_FLAG_W,CTDOXY,CTDOXY_FLAG_W,OXYGEN,OXYGEN_FLAG_W,SILCAT,SILCAT_FLAG_W,NITRAT,NITRAT_FLAG_W,NITRIT,NITRIT_FLAG_W,PHSPHT,PHSPHT_FLAG_W,CFC-11,CFC-11_FLAG_W,CFC-12,CFC-12_FLAG_W,SF6,SF6_FLAG_W,TCARBN,TCARBN_FLAG_W,ALKALI,ALKALI_FLAG_W,PH_TOT,PH_TOT_FLAG_W,PH_TMP,PH_TMP_FLAG_W,DELC13,DELC13_FLAG_W,DELC14,DELC14_FLAG_W,DOC,DOC_FLAG_W,TDN,TDN_FLAG_W,N2O,N2O_FLAG_W,BTL_DATE,BTL_TIME,BTL_LAT,BTL_LON,REFTMP,REFTMP_FLAG_W,POC,POC_FLAG_W,PON,PON_FLAG_W,POP,POP_FLAG_W,PCOD,PCOD_FLAG_W,CTDFLUOR,CTDFLUOR_FLAG_W,CTDXMISS,CTDXMISS_FLAG_W,HPLC,HPLC_FLAG_W,DNA,DNA_FLAG_W,FCM,FCM_FLAG_W,IMAGES,IMAGES_FLAG_W,VIRAL_ABUNDANCE,VIRAL_ABUNDANCE_FLAG_W
,,,,,,,,,,,METERS,DBAR,,ITS-90,,PSS-78,,PSS-78,,UMOL/KG,,UMOL/KG,,UMOL/KG,,UMOL/KG,,UMOL/KG,,UMOL/KG,,PMOL/KG,,PMOL/KG,,FMOL/KG,,UMOL/KG,,UMOL/KG,,,,DEG C,,/MILLE,,/MILLE,,UMOL/KG,,UMOL/KG,,NMOL/KG,,,,,,ITS-90,,UG/L,,UG/L,,UG/L,,UG/L,,VOLTS,,VOLTS,,,,,,,,,,,
33RR20220613,       P02E,     148,          1,          4,          4,2,20220626,       1538,    30.0005,  -143.8905,       5235,  4477.5,2,   1.4967,2,  34.6866,2,  34.6853,2,    150.7,2,   150.6,2,  154.21,2,   35.72,2,    0.00,2,    2.49,2,   0.009,2,   0.008,2,   0.0000,2,  -999.0,9,  -999.0,9,-999.0000,9,  -999.00,9, -999.00,9,  -999.0,9, -999.00,1, -999.00,1,       22.6,2, 20220626,     1556,  30.0005,-143.8905,     1.4965,2,     -999.0,9,     -999.0,9,     -999.0,9,     -999.0,9,     0.0121,1,     4.7032,1,     -999.0,9,     -999.0,9,     -999.0,9,     -999.0,9,     -999.0,9
33RR20220613,       P02E,     148,          1,          3,          3,2,20220626,       1538,    30.0005,  -143.8905,       5235,  4783.7,2,   1.5208,2,  34.6876,2,  34.6867,2,    153.3,2,   153.5,2,  151.87,2,   35.38,2,    0.00,2,    2.47,2,   0.006,2,   0.006,2,   0.0000,2,  2324.7,2,  2422.8,2,   7.5810,2,    25.01,2, -999.00,9,  -999.0,9, -999.00,1, -999.00,1,       21.9,2, 20220626,     1550,  30.0005,-143.8905,     1.5207,2,     -999.0,9,     -999.0,9,     -999.0,9,     -999.0,9,     0.0122,1,     4.7026,1,     -999.0,9,     -999.0,9,     -999.0,9,     -999.0,9,     -999.0,9
33RR20220613,       P02E,     148,          1,          2,          2,2,20220626,       1538,    30.0005,  -143.8905,       5235,  5067.7,2,   1.5509,2,  34.6883,2,  34.6873,2,    154.6,2,   154.7,2,  150.79,2,   35.31,2,    0.00,2,    2.46,2,   0.007,2,   0.007,2,   0.0000,2,  2324.1,2,  2421.2,2,   7.5813,2,    25.00,2, -999.00,9,  -999.0,9, -999.00,1, -999.00,1,       22.1,2, 20220626,     1544,  30.0004,-143.8905,     1.5508,2,     -999.0,9,     -999.0,9,     -999.0,9,     -999.0,9,     0.0122,1,     4.7029,1,     -999.0,9,     -999.0,9,     -999.0,9,     -999.0,9,     -999.0,9
33RR20220613,       P02E,     148,          1,          1,          1,2,20220626,       1538,    30.0005,  -143.8905,       5235,  5328.8,2,   1.5814,2,  34.6883,2,  34.6873,2,    155.4,2,   155.3,2,  150.01,2,   35.24,2,    0.00,2,    2.46,2,   0.009,2,   0.009,2,   0.0000,2,  2324.7,6,  2419.6,2,   7.5836,2,    25.01,2, -999.00,9,  -999.0,9, -999.00,1, -999.00,1,       22.8,2, 20220626,     1538,  30.0005,-143.8905,     1.5814,2,     -999.0,9,     -999.0,9,     -999.0,9,     -999.0,9,     0.0122,1,     4.7014,1,     -999.0,9,     -999.0,9,     -999.0,9,     -999.0,9,     -999.0,9
33RR20220613,       P02E,     149,          1,         15,         15,2,20220626,       2057,    30.0004,  -143.3135,       5046,     4.2,2,  22.6745,2,  34.9161,2,-999.0000,9,    220.8,2,  -999.0,9, -999.00,9, -999.00,9, -999.00,9, -999.00,9,-999.000,9,-999.000,9,-999.0000,9,  -999.0,9,  -999.0,9,-999.0000,9,  -999.00,9, -999.00,9,  -999.0,9, -999.00,9, -999.00,9,     -999.0,9, 20220626,     2124,  30.0004,-143.3135,     -999.0,9,     -999.0,9,     -999.0,9,     -999.0,1,     -999.0,9,     0.0124,1,     4.6366,1,     -999.0,9,     -999.0,9,     -999.0,9,     -999.0,9,     -999.0,9
33RR20220613,       P02E,     149,          1,         19,         39,2,20220626,       2057,    30.0004,  -143.3135,       5046,     4.4,2,  22.6519,2,  34.9150,2,-999.0000,9,    220.8,2,  -999.0,9, -999.00,9, -999.00,9, -999.00,9, -999.00,9,-999.000,9,-999.000,9,-999.0000,9,  -999.0,9,  -999.0,9,-999.0000,9,  -999.00,9, -999.00,9,  -999.0,9, -999.00,9, -999.00,9,     -999.0,9, 20220626,     2124,  30.0004,-143.3135,     -999.0,9,     -999.0,9,     -999.0,9,     -999.0,9,     -999.0,9,     0.0122,1,     4.6357,1,     -999.0,9,     -999.0,9,     -999.0,9,     -999.0,9,     -999.0,9
33RR20220613,       P02E,     149,          1,         20,         20,2,20220626,       2057,    30.0004,  -143.3135,       5046,     4.5,2,  22.6209,2,  34.9148,2,-999.0000,9,    220.8,2,  -999.0,9, -999.00,9, -999.00,9, -999.00,9, -999.00,9,-999.000,9,-999.000,9,-999.0000,9,  -999.0,9,  -999.0,9,-999.0000,9,  -999.00,9, -999.00,9,  -999.0,9, -999.00,9, -999.00,9,     -999.0,9, 20220626,     2124,  30.0004,-143.3135,     -999.0,9,     -999.0,9,     -999.0,9,     -999.0,9,     -999.0,1,     0.0122,1,     4.6379,1,     -999.0,9,     -999.0,9,     -999.0,9,     -999.0,9,     -999.0,9
33RR20220613,       P02E,     149,          1,         16,         16,2,20220626,       2057,    30.0004,  -143.3135,       5046,     4.5,2,  22.6422,2,  34.9152,2,-999.0000,9,    221.0,2,  -999.0,9, -999.00,9, -999.00,9, -999.00,9, -999.00,9,-999.000,9,-999.000,9,-999.0000,9,  -999.0,9,  -999.0,9,-999.0000,9,  -999.00,9, -999.00,9,  -999.0,9, -999.00,9, -999.00,9,     -999.0,9, 20220626,     2124,  30.0004,-143.3135,     -999.0,9,     -999.0,9,     -999.0,9,     -999.0,1,     -999.0,9,     0.0126,1,     4.6375,1,     -999.0,9,     -999.0,9,     -999.0,9,     -999.0,9,     -999.0,9
33RR20220613,       P02E,     149,          1,         14,         14,2,20220626,       2057,    30.0004,  -143.3135,       5046,     4.5,2,  22.6935,2,  34.9174,2,-999.0000,9,    220.4,2,  -999.0,9, -999.00,9, -999.00,9, -999.00,9, -999.00,9,-999.000,9,-999.000,9,-999.0000,9,  -999.0,9,  -999.0,9,-999.0000,9,  -999.00,9, -999.00,9,  -999.0,9, -999.00,9, -999.00,9,     -999.0,9, 20220626,     2124,  30.0004,-143.3135,     -999.0,9,     -999.0,9,     -999.0,9,     -999.0,1,     -999.0,9,     0.0122,1,     4.6372,1,     -999.0,9,     -999.0,9,     -999.0,9,     -999.0,9,     -999.0,9
33RR20220613,       P02E,     149,          1,         11,         11,2,20220626,       2057,    30.0004,  -143.3135,       5046,     4.5,2,  22.5914,2,  34.9129,2,-999.0000,9,    221.0,2,  -999.0,9, -999.00,9, -999.00,9, -999.00,9, -999.00,9,-999.000,9,-999.000,9,-999.0000,9,  -999.0,9,  -999.0,9,-999.0000,9,  -999.00,9, -999.00,9,  -999.0,9, -999.00,9, -999.00,9,     -999.0,9, 20220626,     2124,  30.0004,-143.3135,     -999.0,9,     -999.0,1,     -999.0,1,     -999.0,9,     -999.0,9,     0.0122,1,     4.6374,1,     -999.0,9,     -999.0,9,     -999.0,9,     -999.0,9,     -999.0,9
33RR20220613,       P02E,     149,          1,         13,         13,2,20220626,       2057,    30.0004,  -143.3135,       5046,     4.7,2,  22.6980,2,  34.9167,2,-999.0000,9,    220.2,2,  -999.0,9, -999.00,9, -999.00,9, -999.00,9, -999.00,9,-999.000,9,-999.000,9,-999.0000,9,  -999.0,9,  -999.0,9,-999.0000,9,  -999.00,9, -999.00,9,  -999.0,9, -999.00,9, -999.00,9,     -999.0,9, 20220626,     2124,  30.0004,-143.3135,     -999.0,9,     -999.0,1,     -999.0,1,     -999.0,9,     -999.0,9,     0.0122,1,     4.6372,1,     -999.0,9,     -999.0,9,     -999.0,9,     -999.0,9,     -999.0,9
33RR20220613,       P02E,     149,          1,         12,         12,2,20220626,       2057,    30.0004,  -143.3135,       5046,     4.7,2,  22.6775,2,  34.9178,2,-999.0000,9,    220.7,2,  -999.0,9, -999.00,9, -999.00,9, -999.00,9, -999.00,9,-999.000,9,-999.000,9,-999.0000,9,  -999.0,9,  -999.0,9,-999.0000,9,  -999.00,9, -999.00,9,  -999.0,9, -999.00,9, -999.00,9,     -999.0,9, 20220626,     2124,  30.0004,-143.3135,     -999.0,9,     -999.0,1,     -999.0,1,     -999.0,9,     -999.0,9,     0.0122,1,     4.6373,1,     -999.0,9,     -999.0,9,     -999.0,9,     -999.0,9,     -999.0,9
33RR20220613,       P02E,     149,          1,         10,         10,2,20220626,       2057,    30.0004,  -143.3135,       5046,     4.7,2,  22.5585,2,  34.9166,2,-999.0000,9,    221.2,2,  -999.0,9, -999.00,9, -999.00,9, -999.00,9, -999.00,9,-999.000,9,-999.000,9,-999.0000,9,  -999.0,9,  -999.0,9,-999.0000,9,  -999.00,9, -999.00,9,  -999.0,9, -999.00,9, -999.00,9,     -999.0,9, 20220626,     2124,  30.0004,-143.3135,     -999.0,9,     -999.0,9,     -999.0,9,     -999.0,9,     -999.0,9,     0.0122,1,     4.6373,1,     -999.0,9,     -999.0,1,     -999.0,9,     -999.0,9,     -999.0,9
33RR20220613,       P02E,     149,          1,          9,          9,2,20220626,       2057,    30.0004,  -143.3135,       5046,     4.7,2,  22.5340,2,  34.9138,2,-999.0000,9,    221.3,2,  -999.0,9, -999.00,9, -999.00,9, -999.00,9, -999.00,9,-999.000,9,-999.000,9,-999.0000,9,  -999.0,9,  -999.0,9,-999.0000,9,  -999.00,9, -999.00,9,  -999.0,9, -999.00,9, -999.00,9,     -999.0,9, 20220626,     2124,  30.0004,-143.3135,    22.6301,2,     -999.0,9,     -999.0,9,     -999.0,9,     -999.0,9,     0.0122,1,     4.6339,1,     -999.0,1,     -999.0,9,     -999.0,1,     -999.0,9,     -999.0,9
33RR20220613,       P02E,     149,          1,         18,         18,2,20220626,       2057,    30.0004,  -143.3135,       5046,     4.8,2,  22.6379,2,  34.9153,2,-999.0000,9,    221.1,2,  -999.0,9, -999.00,9, -999.00,9, -999.00,9, -999.00,9,-999.000,9,-999.000,9,-999.0000,9,  -999.0,9,  -999.0,9,-999.0000,9,  -999.00,9, -999.00,9,  -999.0,9, -999.00,9, -999.00,9,     -999.0,9, 20220626,     2124,  30.0004,-143.3135,     -999.0,9,     -999.0,9,     -999.0,9,     -999.0,9,     -999.0,1,     0.0122,1,     4.6372,1,     -999.0,9,     -999.0,9,     -999.0,9,     -999.0,9,     -999.0,9
33RR20220613,       P02E,     149,          1,         17,         37,2,20220626,       2057,    30.0004,  -143.3135,       5046,     4.9,2,  22.5614,2,  34.9158,2,-999.0000,9,    221.6,2,  -999.0,9, -999.00,9, -999.00,9, -999.00,9, -999.00,9,-999.000,9,-999.000,9,-999.0000,9,  -999.0,9,  -999.0,9,-999.0000,9,  -999.00,9, -999.00,9,  -999.0,9, -999.00,9, -999.00,9,     -999.0,9, 20220626,     2124,  30.0004,-143.3135,    22.6146,2,     -999.0,9,     -999.0,9,     -999.0,9,     -999.0,1,     0.0122,1,     4.6362,1,     -999.0,9,     -999.0,9,     -999.0,9,     -999.0,9,     -999.0,9
33RR20220613,       P02E,     149,          1,         21,         21,2,20220626,       2057,    30.0004,  -143.3135,       5046,     5.0,2,  22.6217,2,  34.9153,2,-999.0000,9,    220.7,2,  -999.0,9, -999.00,9, -999.00,9, -999.00,9, -999.00,9,-999.000,9,-999.000,9,-999.0000,9,  -999.0,9,  -999.0,9,-999.0000,9,  -999.00,9, -999.00,9,  -999.0,9, -999.00,9, -999.00,9,     -999.0,9, 20220626,     2124,  30.0004,-143.3135,     -999.0,9,     -999.0,9,     -999.0,9,     -999.0,9,     -999.0,9,     0.0123,1,     4.6372,1,     -999.0,9,     -999.0,9,     -999.0,9,     -999.0,9,     -999.0,1
33RR20220613,       P02E,     149,          1,          8,          8,2,20220626,       2057,    30.0004,  -143.3135,       5046,    40.6,2,  21.3560,2,  34.9295,2,-999.0000,9,    233.4,2,  -999.0,9, -999.00,9, -999.00,9, -999.00,9, -999.00,9,-999.000,9,-999.000,9,-999.0000,9,  -999.0,9,  -999.0,9,-999.0000,9,  -999.00,9, -999.00,9,  -999.0,9, -999.00,9, -999.00,9,     -999.0,9, 20220626,     2122,  30.0004,-143.3135,    21.3632,2,     -999.0,9,     -999.0,9,     -999.0,9,     -999.0,9,     0.0134,1,     4.6389,1,     -999.0,1,     -999.0,9,     -999.0,1,     -999.0,9,     -999.0,9
33RR20220613,       P02E,     149,          1,          7,          7,2,20220626,       2057,    30.0004,  -143.3135,       5046,    76.0,2,  20.0214,2,  34.8610,2,-999.0000,9,    234.7,2,  -999.0,9, -999.00,9, -999.00,9, -999.00,9, -999.00,9,-999.000,9,-999.000,9,-999.0000,9,  -999.0,9,  -999.0,9,-999.0000,9,  -999.00,9, -999.00,9,  -999.0,9, -999.00,9, -999.00,9,     -999.0,9, 20220626,     2120,  30.0004,-143.3135,    20.0222,2,     -999.0,9,     -999.0,9,     -999.0,9,     -999.0,9,     0.0147,1,     4.6446,1,     -999.0,9,     -999.0,9,     -999.0,1,     -999.0,9,     -999.0,9
33RR20220613,       P02E,     149,          1,          5,          5,2,20220626,       2057,    30.0004,  -143.3135,       5046,   100.0,2,  19.4674,2,  34.7881,2,-999.0000,9,    233.5,2,  -999.0,9, -999.00,9, -999.00,9, -999.00,9, -999.00,9,-999.000,9,-999.000,9,-999.0000,9,  -999.0,9,  -999.0,9,-999.0000,9,  -999.00,9, -999.00,9,  -999.0,9, -999.00,9, -999.00,9,     -999.0,9, 20220626,     2116,  30.0004,-143.3135,    19.4656,2,     -999.0,9,     -999.0,9,     -999.0,9,     -999.0,9,     0.0183,1,     4.6495,1,     -999.0,1,     -999.0,9,     -999.0,1,     -999.0,9,     -999.0,9
33RR20220613,       P02E,     149,          1,          6,          6,2,20220626,       2057,    30.0004,  -143.3135,       5046,   100.6,2,  19.4576,2,  34.7881,2,-999.0000,9,    233.4,2,  -999.0,9, -999.00,9, -999.00,9, -999.00,9, -999.00,9,-999.000,9,-999.000,9,-999.0000,9,  -999.0,9,  -999.0,9,-999.0000,9,  -999.00,9, -999.00,9,  -999.0,9, -999.00,9, -999.00,9,     -999.0,9, 20220626,     2116,  30.0004,-143.3135,     -999.0,9,     -999.0,9,     -999.0,9,     -999.0,9,     -999.0,9,     0.0183,1,     4.6503,1,     -999.0,9,     -999.0,1,     -999.0,9,     -999.0,9,     -999.0,9
33RR20220613,       P02E,     149,          1,          4,          4,2,20220626,       2057,    30.0004,  -143.3135,       5046,   151.1,2,  18.8372,2,  34.7582,2,-999.0000,9,    228.0,2,  -999.0,9, -999.00,9, -999.00,9, -999.00,9, -999.00,9,-999.000,9,-999.000,9,-999.0000,9,  -999.0,9,  -999.0,9,-999.0000,9,  -999.00,9, -999.00,9,  -999.0,9, -999.00,9, -999.00,9,     -999.0,9, 20220626,     2115,  30.0004,-143.3135,    18.8344,2,     -999.0,9,     -999.0,9,     -999.0,9,     -999.0,9,     0.0275,1,     4.6628,1,     -999.0,9,     -999.0,9,     -999.0,1,     -999.0,9,     -999.0,9
33RR20220613,       P02E,     149,          1,          3,          3,2,20220626,       2057,    30.0004,  -143.3135,       5046,   200.9,2,  16.0385,2,  34.3199,2,-999.0000,9,    221.4,2,  -999.0,9, -999.00,9, -999.00,9, -999.00,9, -999.00,9,-999.000,9,-999.000,9,-999.0000,9,  -999.0,9,  -999.0,9,-999.0000,9,  -999.00,9, -999.00,9,  -999.0,9, -999.00,9, -999.00,9,     -999.0,9, 20220626,     2113,  30.0004,-143.3135,    16.0570,2,     -999.0,9,     -999.0,9,     -999.0,9,     -999.0,9,     0.0195,1,     4.6800,1,     -999.0,9,     -999.0,1,     -999.0,1,     -999.0,9,     -999.0,9
33RR20220613,       P02E,     149,          1,          2,          2,2,20220626,       2057,    30.0004,  -143.3135,       5046,   507.6,2,   7.2984,2,  33.9979,2,-999.0000,9,    140.8,2,  -999.0,9, -999.00,9, -999.00,9, -999.00,9, -999.00,9,-999.000,9,-999.000,9,-999.0000,9,  -999.0,9,  -999.0,9,-999.0000,9,  -999.00,9, -999.00,9,  -999.0,9, -999.00,9, -999.00,9,     -999.0,9, 20220626,     2107,  30.0004,-143.3135,     7.2883,2,     -999.0,9,     -999.0,9,     -999.0,9,     -999.0,9,     0.0124,1,     4.6945,1,     -999.0,9,     -999.0,9,     -999.0,1,     -999.0,9,     -999.0,9
33RR20220613,       P02E,     149,          1,          1,          1,2,20220626,       2057,    30.0004,  -143.3135,       5046,  1012.5,2,   3.6079,2,  34.3851,2,-999.0000,9,     12.3,2,  -999.0,9, -999.00,9, -999.00,9, -999.00,9, -999.00,9,-999.000,9,-999.000,9,-999.0000,9,  -999.0,9,  -999.0,9,-999.0000,9,  -999.00,9, -999.00,9,  -999.0,9, -999.00,9, -999.00,9,     -999.0,9, 20220626,     2057,  30.0004,-143.3135,     3.6124,2,     -999.0,9,     -999.0,9,     -999.0,9,     -999.0,9,     0.0134,1,     4.6955,1,     -999.0,9,     -999.0,1,     -999.0,1,     -999.0,9,     -999.0,9