BOTTLE,20230830CCHSIOCBG
EXPOCODE,SECT_ID,STNNBR,CASTNO,SAMPNO,BTLNBR,BTLNBR_FLAG_W,DATE,TIME,LATITUDE,LONGITUDE,DEPTH,CTDPRS,CTDPRS_FLAG_W,CTDTMP,CTDTMP_FLAG_W,CTDSAL,CTDSAL_FLAG_W,SALNTY,SALNTY_FLAG_W,CTDOXY,CTDOXY_FLAG_W,OXYGEN,OXYGEN_FLAG_W,SILCAT,SILCAT_FLAG_W,NITRAT,NITRAT_FLAG_W,NITRIT,NITRIT_FLAG_W,PHSPHT,PHSPHT_FLAG_W,CFC-11,CFC-11_FLAG_W,CFC-12,CFC-12_FLAG_W,SF6,SF6_FLAG_W,TCARBN,TCARBN_FLAG_W,ALKALI,ALKALI_FLAG_W,PH_TOT,PH_TOT_FLAG_W,PH_TMP,PH_TMP_FLAG_W,DELC13,DELC13_FLAG_W,DELC14,DELC14_FLAG_W,DOC,DOC_FLAG_W,TDN,TDN_FLAG_W,N2O,N2O_FLAG_W,BTL_DATE,BTL_TIME,BTL_LAT,BTL_LON,REFTMP,REFTMP_FLAG_W,POC,POC_FLAG_W,PON,PON_FLAG_W,POP,POP_FLAG_W,PCOD,PCOD_FLAG_W,CTDFLUOR,CTDFLUOR_FLAG_W,CTDXMISS,CTDXMISS_FLAG_W,HPLC,HPLC_FLAG_W,DNA,DNA_FLAG_W,FCM,FCM_FLAG_W,IMAGES,IMAGES_FLAG_W,VIRAL_ABUNDANCE,VIRAL_ABUNDANCE_FLAG_W
,,,,,,,,,,,METERS,DBAR,,ITS-90,,PSS-78,,PSS-78,,UMOL/KG,,UMOL/KG,,UMOL/KG,,UMOL/KG,,UMOL/KG,,UMOL/KG,,PMOL/KG,,PMOL/KG,,FMOL/KG,,UMOL/KG,,UMOL/KG,,,,DEG C,,/MILLE,,/MILLE,,UMOL/KG,,UMOL/KG,,NMOL/KG,,,,,,ITS-90,,UG/L,,UG/L,,UG/L,,UG/L,,VOLTS,,VOLTS,,,,,,,,,,,
33RR20220613,       P02E,     122,          2,         36,         36,2,20220618,       0525,    30.0015,  -158.9032,       5807,     2.7,2,  25.7772,2,  35.2111,3,  35.2359,2,    207.7,2,   208.2,2,    0.29,2,    0.03,2,    0.00,2,    0.00,3,   1.649,2,   0.997,2,   1.6954,2,  2013.8,6,  2315.9,2,   8.0410,2,    24.97,2, -999.00,9,  -999.0,9, -999.00,1, -999.00,1,        6.9,2, 20220618,      802,  30.0015,-158.9032,    25.7910,2,     -999.0,9,     -999.0,9,     -999.0,9,     -999.0,9,     0.0135,1,     4.6342,1,     -999.0,9,     -999.0,9,     -999.0,9,     -999.0,9,     -999.0,9
33RR20220613,       P02E,     122,          2,         35,         35,2,20220618,       0525,    30.0015,  -158.9032,       5807,    37.0,2,  24.4308,2,  35.2547,2,  35.2542,2,    218.1,2,   217.4,2,    0.29,2,    0.02,2,    0.00,2,    0.00,3,   1.743,2,   1.052,2,   1.7446,2,  2014.4,2,  2315.9,2,   8.0382,2,    25.00,2, -999.00,9,  -999.0,9, -999.00,1, -999.00,1,        7.3,2, 20220618,      759,  30.0015,-158.9032,    24.4500,2,     -999.0,9,     -999.0,9,     -999.0,9,     -999.0,9,     0.0134,1,     4.6233,1,     -999.0,9,     -999.0,9,     -999.0,9,     -999.0,9,     -999.0,9
33RR20220613,       P02E,     122,          2,         34,         34,2,20220618,       0525,    30.0015,  -158.9032,       5807,    61.4,2,  22.6770,2,  35.3108,2,  35.3106,2,    227.2,2,   226.6,2,    0.20,2,    0.01,2,    0.00,2,    0.00,3,   1.877,2,   1.121,2,   1.8618,2,  2023.6,2,  2320.2,6,   8.0284,2,    24.98,2, -999.00,9,  -999.0,9, -999.00,1, -999.00,1,        7.6,2, 20220618,      757,  30.0015,-158.9032,    22.6736,2,     -999.0,9,     -999.0,9,     -999.0,9,     -999.0,9,     0.0159,1,     4.6245,1,     -999.0,9,     -999.0,9,     -999.0,9,     -999.0,9,     -999.0,9
33RR20220613,       P02E,     122,          2,         33,         33,2,20220618,       0525,    30.0015,  -158.9032,       5807,    85.6,2,  21.6235,2,  35.2541,2,  35.2556,2,    222.4,2,   222.5,2,    0.39,2,    0.00,2,    0.00,2,    0.00,3,   1.903,2,   1.143,2,   1.7934,2,  2029.1,2,  2316.2,6,   8.0118,2,    25.01,2, -999.00,9,  -999.0,9, -999.00,1, -999.00,1,        7.8,2, 20220618,      754,  30.0015,-158.9032,    21.6121,2,     -999.0,9,     -999.0,9,     -999.0,9,     -999.0,9,     0.0171,1,     4.6422,1,     -999.0,9,     -999.0,9,     -999.0,9,     -999.0,9,     -999.0,9
33RR20220613,       P02E,     122,          2,         32,         32,2,20220618,       0525,    30.0015,  -158.9032,       5807,   116.9,2,  20.3129,2,  35.1163,2,  35.0998,2,    214.8,2,   215.6,2,    0.68,2,    0.04,2,    0.01,2,    0.02,3,   2.005,2,   1.208,2,   1.8865,2,  2044.3,2,  2305.3,2,   7.9746,2,    24.99,2, -999.00,9,  -999.0,9, -999.00,1, -999.00,1,        8.7,2, 20220618,      753,  30.0015,-158.9032,    20.3159,2,     -999.0,9,     -999.0,9,     -999.0,9,     -999.0,9,     0.0342,1,     4.6453,1,     -999.0,9,     -999.0,9,     -999.0,9,     -999.0,9,     -999.0,9
33RR20220613,       P02E,     122,          2,         31,         31,2,20220618,       0525,    30.0015,  -158.9032,       5807,   166.8,2,  17.8297,2,  34.7657,2,  34.7547,2,    209.2,2,   209.1,2,    1.96,2,    1.62,2,    0.06,2,    0.15,3,   2.272,2,   1.338,2,   1.9944,2,  2056.4,2,  2282.9,2,   7.9138,2,    24.99,2, -999.00,9,  -999.0,9, -999.00,1, -999.00,1,       10.4,2, 20220618,      751,  30.0016,-158.9033,    17.8344,2,     -999.0,9,     -999.0,9,     -999.0,9,     -999.0,9,     0.0208,1,     4.6717,1,     -999.0,9,     -999.0,9,     -999.0,9,     -999.0,9,     -999.0,9
33RR20220613,       P02E,     122,          2,         30,         40,2,20220618,       0525,    30.0015,  -158.9032,       5807,   217.0,2,  15.3995,2,  34.4854,2,  34.4714,2,    205.2,2,  -999.0,9,    4.40,2,    4.94,2,    0.01,2,    0.34,3,-999.000,9,-999.000,9,-999.0000,9,  -999.0,9,  -999.0,9,-999.0000,9,  -999.00,9, -999.00,9,  -999.0,9, -999.00,9, -999.00,9,     -999.0,9, 20220618,      749,  30.0016,-158.9032,    15.3924,2,     -999.0,9,     -999.0,9,     -999.0,9,     -999.0,9,     0.0147,1,     4.6817,1,     -999.0,9,     -999.0,9,     -999.0,9,     -999.0,9,     -999.0,9
33RR20220613,       P02E,     122,          2,         29,         29,2,20220618,       0525,    30.0015,  -158.9032,       5807,   267.6,2,  13.2639,2,  34.3052,2,  34.2893,2,    209.1,2,   208.9,2,    7.14,2,    8.33,2,    0.00,2,    0.54,3,   2.743,2,   1.598,2,   2.1264,2,  2086.8,3,  2257.4,2,   7.8128,2,    25.00,2, -999.00,9,  -999.0,9, -999.00,1, -999.00,1,       15.4,2, 20220618,      746,  30.0016,-158.9032,    13.2734,2,     -999.0,9,     -999.0,9,     -999.0,9,     -999.0,9,     0.0122,1,     4.6885,1,     -999.0,9,     -999.0,9,     -999.0,9,     -999.0,9,     -999.0,9
33RR20220613,       P02E,     122,          2,         28,         28,2,20220618,       0525,    30.0015,  -158.9032,       5807,   318.1,2,  11.6843,2,  34.1917,2,  34.1909,2,    206.7,2,   207.0,2,   11.25,2,   11.96,2,    0.00,2,    0.74,3,   2.941,2,   1.705,2,   1.9374,2,  2102.6,2,  2255.2,2,   7.7689,2,    25.00,2, -999.00,9,  -999.0,9, -999.00,1, -999.00,1,       18.0,2, 20220618,      744,  30.0015,-158.9032,    11.6841,2,     -999.0,9,     -999.0,9,     -999.0,9,     -999.0,9,     0.0122,1,     4.6910,1,     -999.0,9,     -999.0,9,     -999.0,9,     -999.0,9,     -999.0,9
33RR20220613,       P02E,     122,          2,         27,         27,2,20220618,       0525,    30.0015,  -158.9032,       5807,   365.5,2,  10.5149,2,  34.1290,2,  34.1285,2,    205.8,2,   206.0,2,   15.45,2,   14.58,2,    0.00,2,    0.91,3,   3.088,2,   1.765,2,   1.8762,2,  2112.8,2,  2257.6,2,   7.7370,2,    25.00,2, -999.00,9,  -999.0,9, -999.00,1, -999.00,1,       20.0,2, 20220618,      743,  30.0015,-158.9032,    10.5067,2,     -999.0,9,     -999.0,9,     -999.0,9,     -999.0,9,     0.0122,1,     4.6925,1,     -999.0,9,     -999.0,9,     -999.0,9,     -999.0,9,     -999.0,9
33RR20220613,       P02E,     122,          2,         26,         26,2,20220618,       0525,    30.0015,  -158.9032,       5807,   437.7,2,   9.2128,2,  34.0691,2,  34.0688,2,    187.4,2,   188.1,2,   24.36,2,   19.11,2,    0.00,2,    1.22,3,   3.073,2,   1.738,2,   1.5494,2,  2141.6,2,  2262.0,2,   7.6748,2,    25.00,2, -999.00,9,  -999.0,9, -999.00,1, -999.00,1,       23.6,2, 20220618,      740,  30.0015,-158.9032,     9.1924,2,     -999.0,9,     -999.0,9,     -999.0,9,     -999.0,9,     0.0122,1,     4.6945,1,     -999.0,9,     -999.0,9,     -999.0,9,     -999.0,9,     -999.0,9
33RR20220613,       P02E,     122,          2,         25,         25,2,20220618,       0525,    30.0015,  -158.9032,       5807,   538.9,2,   7.3154,2,  34.0111,2,  34.0082,2,    143.5,3,   141.2,2,   44.41,2,   27.62,2,    0.00,2,    1.81,3,   2.718,2,   1.486,2,   0.9870,2,  2203.4,3,  2275.1,2,   7.5471,2,    25.02,2, -999.00,9,  -999.0,9, -999.00,1, -999.00,1,       31.0,2, 20220618,      738,  30.0015,-158.9032,     7.3120,2,     -999.0,9,     -999.0,9,     -999.0,9,     -999.0,9,     0.0122,1,     4.6952,1,     -999.0,9,     -999.0,9,     -999.0,9,     -999.0,9,     -999.0,9
33RR20220613,       P02E,     122,          2,         24,         24,2,20220618,       0525,    30.0015,  -158.9032,       5807,   640.0,2,   5.5755,2,  34.0400,2,  34.0403,2,     71.8,2,    71.6,2,   70.82,2,   36.87,2,    0.00,2,    2.54,3,   1.655,2,   0.886,2,   0.4842,2,  2274.5,3,  2296.8,2,   7.3851,2,    25.00,2, -999.00,9,  -999.0,9, -999.00,1, -999.00,1,       43.7,2, 20220618,      735,  30.0016,-158.9033,     5.5879,2,     -999.0,9,     -999.0,9,     -999.0,9,     -999.0,9,     0.0134,1,     4.6961,1,     -999.0,9,     -999.0,9,     -999.0,9,     -999.0,9,     -999.0,9
33RR20220613,       P02E,     122,          2,         23,         23,2,20220618,       0525,    30.0015,  -158.9032,       5807,   741.3,2,   4.7414,2,  34.1373,2,  34.1375,2,     34.8,2,    34.9,2,   91.16,2,   41.08,2,    0.00,2,    2.92,3,   0.740,2,   0.382,2,   0.3459,2,  2317.8,3,  2316.9,2,   7.3213,2,    25.00,2, -999.00,9,  -999.0,9, -999.00,1, -999.00,1,       53.6,2, 20220618,      732,  30.0015,-158.9032,     4.7419,2,     -999.0,9,     -999.0,9,     -999.0,9,     -999.0,9,     0.0134,1,     4.6971,1,     -999.0,9,     -999.0,9,     -999.0,9,     -999.0,9,     -999.0,9
33RR20220613,       P02E,     122,          2,         22,         22,2,20220618,       0525,    30.0015,  -158.9032,       5807,   843.0,2,   4.2100,2,  34.2464,2,  34.2468,2,     17.3,2,    17.5,2,  107.39,2,   43.02,2,    0.00,2,    3.16,4,   0.199,2,   0.111,2,   0.1706,2,  -999.0,9,  -999.0,9,-999.0000,9,  -999.00,9, -999.00,9,  -999.0,9, -999.00,1, -999.00,1,       61.5,2, 20220618,      730,  30.0016,-158.9032,     4.2091,2,     -999.0,9,     -999.0,9,     -999.0,9,     -999.0,9,     0.0134,1,     4.6978,1,     -999.0,9,     -999.0,9,     -999.0,9,     -999.0,9,     -999.0,9
33RR20220613,       P02E,     122,          2,         21,         21,2,20220618,       0525,    30.0015,  -158.9032,       5807,   943.9,2,   3.9679,2,  34.3193,2,  34.3158,2,     14.9,2,    14.9,2,  115.11,2,   43.40,2,    0.00,2,    3.23,4,   0.072,2,   0.042,2,   0.1424,2,  2356.8,2,  2352.3,2,   7.3056,2,    25.00,2, -999.00,9,  -999.0,9, -999.00,1, -999.00,1,       64.4,2, 20220618,      727,  30.0015,-158.9032,     3.9676,2,     -999.0,9,     -999.0,9,     -999.0,9,     -999.0,9,     0.0134,1,     4.6974,1,     -999.0,9,     -999.0,9,     -999.0,9,     -999.0,9,     -999.0,9
33RR20220613,       P02E,     122,          2,         20,         20,2,20220618,       0525,    30.0015,  -158.9032,       5807,  1045.1,2,   3.6735,2,  34.3976,2,  34.3970,2,     20.0,2,    20.0,2,  122.92,2,   43.43,2,    0.00,2,    3.27,4,   0.023,2,   0.016,2,   0.0723,2,  -999.0,9,  -999.0,9,-999.0000,9,  -999.00,9, -999.00,9,  -999.0,9, -999.00,1, -999.00,1,       63.2,2, 20220618,      724,  30.0016,-158.9032,     3.6733,2,     -999.0,9,     -999.0,9,     -999.0,9,     -999.0,9,     0.0134,1,     4.6979,1,     -999.0,9,     -999.0,9,     -999.0,9,     -999.0,9,     -999.0,9
33RR20220613,       P02E,     122,          2,         19,         39,2,20220618,       0525,    30.0015,  -158.9032,       5807,  1144.5,2,   3.4416,2,  34.4490,2,  34.4457,2,     28.5,2,    28.4,2,  128.00,2,   43.18,2,    0.00,2,    3.25,4,   0.014,2,   0.010,2,   0.0658,2,  2364.1,2,  2373.6,2,   7.3469,2,    25.03,2, -999.00,9,  -999.0,9, -999.00,1, -999.00,1,       55.8,2, 20220618,      722,  30.0015,-158.9032,     3.4417,2,     -999.0,9,     -999.0,9,     -999.0,9,     -999.0,9,     0.0134,1,     4.6982,1,     -999.0,9,     -999.0,9,     -999.0,9,     -999.0,9,     -999.0,9
33RR20220613,       P02E,     122,          2,         18,         18,2,20220618,       0525,    30.0015,  -158.9032,       5807,  1245.2,2,   3.2375,2,  34.4869,2,  34.4858,2,     37.4,2,    37.7,2,  131.91,2,   42.70,2,    0.00,2,    3.25,4,   0.008,2,   0.009,2,   0.0000,2,  2362.8,2,  2381.0,2,   7.3684,2,    25.03,2, -999.00,9,  -999.0,9, -999.00,1, -999.00,1,       51.9,2, 20220618,      719,  30.0016,-158.9032,     3.2379,2,     -999.0,9,     -999.0,9,     -999.0,9,     -999.0,9,     0.0134,1,     4.6990,1,     -999.0,9,     -999.0,9,     -999.0,9,     -999.0,9,     -999.0,9
33RR20220613,       P02E,     122,          2,         17,         37,2,20220618,       0525,    30.0015,  -158.9032,       5807,  1346.7,2,   3.0264,2,  34.5188,2,  34.5148,2,     47.1,2,    46.9,2,  135.72,2,   42.11,2,    0.00,2,    3.23,4,   0.011,2,   0.006,2,   0.0000,2,  2364.5,2,  2389.1,2,   7.3888,2,    25.03,2, -999.00,9,  -999.0,9, -999.00,1, -999.00,1,       47.9,2, 20220618,      716,  30.0016,-158.9032,     3.0269,2,     -999.0,9,     -999.0,9,     -999.0,9,     -999.0,9,     0.0134,1,     4.6995,1,     -999.0,9,     -999.0,9,     -999.0,9,     -999.0,9,     -999.0,9
33RR20220613,       P02E,     122,          2,         16,         16,2,20220618,       0525,    30.0015,  -158.9032,       5807,  1479.6,2,   2.8095,2,  34.5450,2,  34.5421,2,     55.9,2,    55.8,2,  140.22,2,   41.67,2,    0.00,2,    3.21,4,   0.007,2,   0.005,2,   0.0000,2,  -999.0,9,  -999.0,9,-999.0000,9,  -999.00,9, -999.00,9,  -999.0,9, -999.00,1, -999.00,1,       43.5,2, 20220618,      713,  30.0016,-158.9032,     2.8097,2,     -999.0,9,     -999.0,9,     -999.0,9,     -999.0,9,     0.0122,1,     4.6995,1,     -999.0,9,     -999.0,9,     -999.0,9,     -999.0,9,     -999.0,9
33RR20220613,       P02E,     122,          2,         15,         15,2,20220618,       0525,    30.0015,  -158.9032,       5807,  1682.3,2,   2.4694,2,  34.5779,2,  34.5755,2,     67.5,2,    67.6,2,  147.84,2,   41.08,2,    0.00,2,    3.21,4,   0.003,2,   0.003,2,   0.0000,2,  2363.2,2,  2403.1,2,   7.4271,2,    25.01,2, -999.00,9,  -999.0,9, -999.00,1, -999.00,1,       39.4,2, 20220618,      708,  30.0015,-158.9032,     2.4712,2,     -999.0,9,     -999.0,9,     -999.0,9,     -999.0,9,     0.0134,1,     4.7008,1,     -999.0,9,     -999.0,9,     -999.0,9,     -999.0,9,     -999.0,9
33RR20220613,       P02E,     122,          2,         14,         14,2,20220618,       0525,    30.0015,  -158.9032,       5807,  1886.4,2,   2.2239,2,  34.5987,2,  34.6007,2,     76.3,2,    76.4,2,  153.90,2,   40.58,2,    0.00,2,    3.20,4,   0.006,2,   0.003,2,   0.0000,2,  -999.0,9,  -999.0,9,-999.0000,9,  -999.00,9, -999.00,9,  -999.0,9, -999.00,1, -999.00,1,       36.2,2, 20220618,      704,  30.0015,-158.9032,     2.2248,2,     -999.0,9,     -999.0,9,     -999.0,9,     -999.0,9,     0.0134,1,     4.7009,1,     -999.0,9,     -999.0,9,     -999.0,9,     -999.0,9,     -999.0,9
33RR20220613,       P02E,     122,          2,         13,         13,2,20220618,       0525,    30.0015,  -158.9032,       5807,  2109.4,2,   2.0333,2,  34.6169,3,  34.6142,2,     83.1,2,    83.0,2,  158.79,2,   40.12,2,    0.00,2,    3.18,4,   0.003,2,   0.001,2,   0.0000,2,  2366.2,2,  2415.7,2,   7.4574,2,    25.03,2, -999.00,9,  -999.0,9, -999.00,1, -999.00,1,       34.0,2, 20220618,      659,  30.0015,-158.9032,     2.0352,2,     -999.0,9,     -999.0,9,     -999.0,9,     -999.0,9,     0.0125,1,     4.7016,1,     -999.0,9,     -999.0,9,     -999.0,9,     -999.0,9,     -999.0,9
33RR20220613,       P02E,     122,          2,         12,         12,2,20220618,       0525,    30.0015,  -158.9032,       5807,  2362.3,2,   1.8435,2,  34.6349,2,  34.6341,2,     93.7,2,    93.6,2,  162.99,2,   39.37,2,    0.00,2,    3.13,4,   0.003,2,   0.001,2,   0.0000,2,  -999.0,9,  -999.0,9,-999.0000,9,  -999.00,9, -999.00,9,  -999.0,9, -999.00,1, -999.00,1,       32.8,2, 20220618,      653,  30.0015,-158.9032,     1.8432,2,     -999.0,9,     -999.0,9,     -999.0,9,     -999.0,9,     0.0134,1,     4.7028,1,     -999.0,9,     -999.0,9,     -999.0,9,     -999.0,9,     -999.0,9
33RR20220613,       P02E,     122,          2,         11,         11,2,20220618,       0525,    30.0015,  -158.9032,       5807,  2616.8,2,   1.7191,2,  34.6475,2,  34.6466,2,    104.3,2,   104.3,2,  163.97,2,   38.74,2,    0.00,2,    3.09,4,-999.000,5,-999.000,5,-999.0000,5,  2358.0,2,  2420.9,2,   7.4964,2,    25.01,2, -999.00,9,  -999.0,9, -999.00,1, -999.00,1,     -999.0,5, 20220618,      647,  30.0015,-158.9032,     1.7188,2,     -999.0,9,     -999.0,9,     -999.0,9,     -999.0,9,     0.0122,1,     4.7031,1,     -999.0,9,     -999.0,9,     -999.0,9,     -999.0,9,     -999.0,9
33RR20220613,       P02E,     122,          2,         10,         10,2,20220618,       0525,    30.0015,  -158.9032,       5807,  2872.9,2,   1.6234,2,  34.6574,3,  34.6537,2,    114.8,2,   115.0,2,  162.50,2,   38.09,2,    0.00,2,    3.04,4,   0.007,2,   0.005,2,   0.0000,2,  -999.0,9,  -999.0,9,-999.0000,9,  -999.00,9, -999.00,9,  -999.0,9, -999.00,1, -999.00,1,       28.0,2, 20220618,      640,  30.0015,-158.9032,     1.6229,2,     -999.0,9,     -999.0,9,     -999.0,9,     -999.0,9,     0.0122,1,     4.7032,1,     -999.0,9,     -999.0,9,     -999.0,9,     -999.0,9,     -999.0,9
33RR20220613,       P02E,     122,          2,          9,          9,2,20220618,       0525,    30.0015,  -158.9032,       5807,  3142.9,2,   1.5478,2,  34.6660,2,  34.6651,2,    124.8,2,   125.2,2,  160.64,2,   37.50,2,    0.00,2,    2.99,4,   0.005,2,   0.003,2,   0.0000,2,  2342.7,2,  2421.1,2,   7.5314,2,    25.02,2, -999.00,9,  -999.0,9, -999.00,1, -999.00,1,       27.1,2, 20220618,      636,  30.0015,-158.9032,     1.5477,2,     -999.0,9,     -999.0,9,     -999.0,9,     -999.0,9,     0.0122,1,     4.7032,1,     -999.0,9,     -999.0,9,     -999.0,9,     -999.0,9,     -999.0,9
33RR20220613,       P02E,     122,          2,          8,          8,2,20220618,       0525,    30.0015,  -158.9032,       5807,  3449.3,2,   1.5114,2,  34.6731,2,  34.6726,2,    132.3,2,   132.3,2,  159.66,2,   37.11,2,    0.00,2,    2.94,4,   0.004,2,   0.003,2,   0.0000,2,  -999.0,9,  -999.0,9,-999.0000,9,  -999.00,9, -999.00,9,  -999.0,9, -999.00,1, -999.00,1,       26.1,2, 20220618,      629,  30.0015,-158.9032,     1.5111,2,     -999.0,9,     -999.0,9,     -999.0,9,     -999.0,9,     0.0122,1,     4.7034,1,     -999.0,9,     -999.0,9,     -999.0,9,     -999.0,9,     -999.0,9
33RR20220613,       P02E,     122,          2,          7,          7,2,20220618,       0525,    30.0015,  -158.9032,       5807,  3793.2,2,   1.4884,2,  34.6789,2,  34.6775,2,    140.2,2,   140.2,2,  157.12,2,   36.63,2,    0.00,2,    2.89,4,   0.008,2,   0.007,2,   0.0000,2,  2332.3,2,  2421.5,2,   7.5596,2,    25.01,2, -999.00,9,  -999.0,9, -999.00,1, -999.00,1,       24.6,2, 20220618,      622,  30.0015,-158.9032,     1.4884,2,     -999.0,9,     -999.0,9,     -999.0,9,     -999.0,9,     0.0121,1,     4.7033,1,     -999.0,9,     -999.0,9,     -999.0,9,     -999.0,9,     -999.0,9
33RR20220613,       P02E,     122,          2,          6,          6,2,20220618,       0525,    30.0015,  -158.9032,       5807,  4203.8,2,   1.4853,2,  34.6837,2,  34.6842,2,    147.0,2,   147.2,2,  154.87,2,   36.14,2,    0.00,2,    2.86,4,   0.004,2,   0.003,2,   0.0000,2,  -999.0,9,  -999.0,9,-999.0000,9,  -999.00,9, -999.00,9,  -999.0,9, -999.00,1, -999.00,1,       24.2,2, 20220618,      614,  30.0015,-158.9032,     1.4853,2,     -999.0,9,     -999.0,9,     -999.0,9,     -999.0,9,     0.0122,1,     4.7032,1,     -999.0,9,     -999.0,9,     -999.0,9,     -999.0,9,     -999.0,9
33RR20220613,       P02E,     122,          2,          5,          5,2,20220618,       0525,    30.0015,  -158.9032,       5807,  4615.8,2,   1.5032,2,  34.6867,2,-999.0000,9,    151.6,2,  -999.0,9, -999.00,9, -999.00,9, -999.00,9, -999.00,9,-999.000,9,-999.000,9,-999.0000,9,  -999.0,9,  -999.0,9,-999.0000,9,  -999.00,9, -999.00,9,  -999.0,9, -999.00,9, -999.00,9,     -999.0,9, 20220618,      606,  30.0015,-158.9033,     1.5032,2,     -999.0,9,     -999.0,9,     -999.0,9,     -999.0,9,     0.0130,1,     4.7034,1,     -999.0,9,     -999.0,9,     -999.0,9,     -999.0,9,     -999.0,9