BOTTLE,20230830CCHSIOCBG
EXPOCODE,SECT_ID,STNNBR,CASTNO,SAMPNO,BTLNBR,BTLNBR_FLAG_W,DATE,TIME,LATITUDE,LONGITUDE,DEPTH,CTDPRS,CTDPRS_FLAG_W,CTDTMP,CTDTMP_FLAG_W,CTDSAL,CTDSAL_FLAG_W,SALNTY,SALNTY_FLAG_W,CTDOXY,CTDOXY_FLAG_W,OXYGEN,OXYGEN_FLAG_W,SILCAT,SILCAT_FLAG_W,NITRAT,NITRAT_FLAG_W,NITRIT,NITRIT_FLAG_W,PHSPHT,PHSPHT_FLAG_W,CFC-11,CFC-11_FLAG_W,CFC-12,CFC-12_FLAG_W,SF6,SF6_FLAG_W,TCARBN,TCARBN_FLAG_W,ALKALI,ALKALI_FLAG_W,PH_TOT,PH_TOT_FLAG_W,PH_TMP,PH_TMP_FLAG_W,DELC13,DELC13_FLAG_W,DELC14,DELC14_FLAG_W,DOC,DOC_FLAG_W,TDN,TDN_FLAG_W,N2O,N2O_FLAG_W,BTL_DATE,BTL_TIME,BTL_LAT,BTL_LON,REFTMP,REFTMP_FLAG_W,POC,POC_FLAG_W,PON,PON_FLAG_W,POP,POP_FLAG_W,PCOD,PCOD_FLAG_W,CTDFLUOR,CTDFLUOR_FLAG_W,CTDXMISS,CTDXMISS_FLAG_W,HPLC,HPLC_FLAG_W,DNA,DNA_FLAG_W,FCM,FCM_FLAG_W,IMAGES,IMAGES_FLAG_W,VIRAL_ABUNDANCE,VIRAL_ABUNDANCE_FLAG_W
,,,,,,,,,,,METERS,DBAR,,ITS-90,,PSS-78,,PSS-78,,UMOL/KG,,UMOL/KG,,UMOL/KG,,UMOL/KG,,UMOL/KG,,UMOL/KG,,PMOL/KG,,PMOL/KG,,FMOL/KG,,UMOL/KG,,UMOL/KG,,,,DEG C,,/MILLE,,/MILLE,,UMOL/KG,,UMOL/KG,,NMOL/KG,,,,,,ITS-90,,UG/L,,UG/L,,UG/L,,UG/L,,VOLTS,,VOLTS,,,,,,,,,,,
33RR20220613,       P02E,     152,          2,          4,          4,2,20220627,       2116,    30.0018,  -141.5835,       4787,  3962.7,2,   1.4813,2,  34.6812,2,  34.6824,2,    142.0,2,   141.9,2,  160.59,2,   36.92,2,    0.00,2,    2.56,2,   0.004,2,   0.004,2,   0.0000,2,  2335.9,2,  2427.1,2,   7.5640,2,    25.01,2, -999.00,9,  -999.0,9, -999.00,9, -999.00,9,       22.0,2, 20220627,     2135,  30.0018,-141.5835,     1.4813,2,     -999.0,9,     -999.0,9,     -999.0,9,     -999.0,9,     0.0122,1,     4.7008,1,     -999.0,9,     -999.0,9,     -999.0,9,     -999.0,9,     -999.0,9
33RR20220613,       P02E,     152,          2,          3,          3,2,20220627,       2116,    30.0018,  -141.5835,       4787,  4271.1,2,   1.4918,2,  34.6838,2,  34.6840,2,    146.5,2,   147.0,2,  158.34,2,   36.65,2,    0.00,2,    2.54,2,   0.005,2,   0.005,2,   0.0000,2,  2333.3,2,  2426.6,2,   7.5721,2,    25.01,2, -999.00,9,  -999.0,9, -999.00,9, -999.00,9,       22.5,2, 20220627,     2129,  30.0018,-141.5835,     1.4915,2,     -999.0,9,     -999.0,9,     -999.0,9,     -999.0,9,     0.0122,1,     4.7009,1,     -999.0,9,     -999.0,9,     -999.0,9,     -999.0,9,     -999.0,9
33RR20220613,       P02E,     152,          2,          2,          2,2,20220627,       2116,    30.0018,  -141.5835,       4787,  4579.1,2,   1.5138,2,  34.6854,2,  34.6869,2,    149.4,2,   149.6,2,  156.09,2,   36.51,2,    0.00,2,    2.52,2,   0.005,2,   0.007,2,   0.0000,2,  2329.8,2,  2425.5,2,   7.5774,2,    25.02,2, -999.00,9,  -999.0,9, -999.00,9, -999.00,9,       23.3,2, 20220627,     2122,  30.0018,-141.5835,     1.5137,2,     -999.0,9,     -999.0,9,     -999.0,9,     -999.0,9,     0.0121,1,     4.7008,1,     -999.0,9,     -999.0,9,     -999.0,9,     -999.0,9,     -999.0,9
33RR20220613,       P02E,     152,          2,          1,          1,2,20220627,       2116,    30.0018,  -141.5835,       4787,  4864.4,2,   1.5395,2,  34.6861,3,  34.6885,2,    151.5,2,   151.4,2,  154.14,2,   36.30,2,    0.00,2,    2.51,2,   0.007,2,   0.009,2,   0.0000,2,  2328.1,6,  2423.9,6,   7.5791,2,    25.01,2, -999.00,9,  -999.0,9, -999.00,9, -999.00,9,       24.2,2, 20220627,     2116,  30.0018,-141.5835,     1.5394,2,     -999.0,9,     -999.0,9,     -999.0,9,     -999.0,9,     0.0122,1,     4.7005,1,     -999.0,9,     -999.0,9,     -999.0,9,     -999.0,9,     -999.0,9