BOTTLE,20230830CCHSIOCBG
EXPOCODE,SECT_ID,STNNBR,CASTNO,SAMPNO,BTLNBR,BTLNBR_FLAG_W,DATE,TIME,LATITUDE,LONGITUDE,DEPTH,CTDPRS,CTDPRS_FLAG_W,CTDTMP,CTDTMP_FLAG_W,CTDSAL,CTDSAL_FLAG_W,SALNTY,SALNTY_FLAG_W,CTDOXY,CTDOXY_FLAG_W,OXYGEN,OXYGEN_FLAG_W,SILCAT,SILCAT_FLAG_W,NITRAT,NITRAT_FLAG_W,NITRIT,NITRIT_FLAG_W,PHSPHT,PHSPHT_FLAG_W,CFC-11,CFC-11_FLAG_W,CFC-12,CFC-12_FLAG_W,SF6,SF6_FLAG_W,TCARBN,TCARBN_FLAG_W,ALKALI,ALKALI_FLAG_W,PH_TOT,PH_TOT_FLAG_W,PH_TMP,PH_TMP_FLAG_W,DELC13,DELC13_FLAG_W,DELC14,DELC14_FLAG_W,DOC,DOC_FLAG_W,TDN,TDN_FLAG_W,N2O,N2O_FLAG_W,BTL_DATE,BTL_TIME,BTL_LAT,BTL_LON,REFTMP,REFTMP_FLAG_W,POC,POC_FLAG_W,PON,PON_FLAG_W,POP,POP_FLAG_W,PCOD,PCOD_FLAG_W,CTDFLUOR,CTDFLUOR_FLAG_W,CTDXMISS,CTDXMISS_FLAG_W,HPLC,HPLC_FLAG_W,DNA,DNA_FLAG_W,FCM,FCM_FLAG_W,IMAGES,IMAGES_FLAG_W,VIRAL_ABUNDANCE,VIRAL_ABUNDANCE_FLAG_W
,,,,,,,,,,,METERS,DBAR,,ITS-90,,PSS-78,,PSS-78,,UMOL/KG,,UMOL/KG,,UMOL/KG,,UMOL/KG,,UMOL/KG,,UMOL/KG,,PMOL/KG,,PMOL/KG,,FMOL/KG,,UMOL/KG,,UMOL/KG,,,,DEG C,,/MILLE,,/MILLE,,UMOL/KG,,UMOL/KG,,NMOL/KG,,,,,,ITS-90,,UG/L,,UG/L,,UG/L,,UG/L,,VOLTS,,VOLTS,,,,,,,,,,,
33RR20220613,       P02E,     201,          1,          4,          4,2,20220712,       1009,    32.6315,  -118.1555,       2030,  1795.6,2,   2.6608,2,  34.5864,2,  34.5871,2,     54.8,2,    54.7,2,  150.88,2,   41.44,2,    0.00,2,    3.01,2,   0.057,2,   0.080,2,   0.2388,2,  -999.0,9,  -999.0,9,-999.0000,9,  -999.00,9, -999.00,9,  -999.0,9, -999.00,9, -999.00,9,       38.2,2, 20220712,     1017,  32.6316,-118.1554,     2.6612,2,     -999.0,9,     -999.0,9,     -999.0,9,     -999.0,9,     0.0134,1,     4.6672,1,     -999.0,9,     -999.0,9,     -999.0,9,     -999.0,9,     -999.0,9
33RR20220613,       P02E,     201,          1,          3,          3,2,20220712,       1009,    32.6315,  -118.1555,       2030,  1877.3,2,   2.6410,2,  34.5881,2,  34.5906,2,     55.1,2,    55.0,2,  151.37,2,   41.31,2,    0.00,2,    3.00,2,   0.054,2,   0.092,2,   0.1892,2,  2383.3,2,  2413.5,6,   7.4118,2,    24.99,2, -999.00,9,  -999.0,9, -999.00,9, -999.00,9,       37.7,2, 20220712,     1015,  32.6316,-118.1554,     2.6409,2,     -999.0,9,     -999.0,9,     -999.0,9,     -999.0,9,     0.0134,1,     4.6675,1,     -999.0,9,     -999.0,9,     -999.0,9,     -999.0,9,     -999.0,9
33RR20220613,       P02E,     201,          1,          2,          2,2,20220712,       1009,    32.6315,  -118.1555,       2030,  1956.9,2,   2.6437,2,  34.5886,2,  34.5910,2,     54.6,2,    54.7,2,  152.05,2,   41.26,2,    0.00,2,    3.02,2,   0.055,2,   0.120,2,   0.2470,2,  -999.0,9,  -999.0,9,-999.0000,9,  -999.00,9, -999.00,9,  -999.0,9, -999.00,9, -999.00,9,       37.4,2, 20220712,     1013,  32.6316,-118.1554,     2.6437,2,     -999.0,9,     -999.0,9,     -999.0,9,     -999.0,9,     0.0134,1,     4.6642,1,     -999.0,9,     -999.0,9,     -999.0,9,     -999.0,9,     -999.0,9
33RR20220613,       P02E,     201,          1,          1,          1,2,20220712,       1009,    32.6315,  -118.1555,       2030,  2043.8,2,   2.6514,2,  34.5887,2,  34.5899,2,     54.1,2,    54.3,2,  152.44,2,   41.24,2,    0.00,2,    3.02,2,   0.055,2,   0.120,2,   0.2299,2,  2384.0,6,  2416.4,2,   7.4111,2,    24.99,2, -999.00,9,  -999.0,9, -999.00,9, -999.00,9,       38.1,2, 20220712,     1009,  32.6315,-118.1554,     2.6514,2,     -999.0,9,     -999.0,9,     -999.0,9,     -999.0,9,     0.0133,1,     4.6610,1,     -999.0,9,     -999.0,9,     -999.0,9,     -999.0,9,     -999.0,9
33RR20220613,       P02E,     202,          1,         22,         22,2,20220712,       1840,    32.6430,  -117.8250,        726,     3.4,2,  21.7250,2,  33.6338,2,  33.6387,2,    244.2,2,   244.2,2,    0.49,2,    0.00,2,    0.00,2,    0.11,2,   2.073,2,   1.262,2,   1.9965,2,  1989.6,6,  2247.4,2,   7.9846,2,    25.01,2, -999.00,9,  -999.0,9, -999.00,1, -999.00,1,        8.0,2, 20220712,     1927,  32.6430,-117.8250,    21.6952,2,     -999.0,9,     -999.0,9,     -999.0,9,     -999.0,9,     0.0208,1,     4.4105,1,     -999.0,9,     -999.0,9,     -999.0,9,     -999.0,9,     -999.0,9
33RR20220613,       P02E,     202,          1,         21,         21,2,20220712,       1840,    32.6430,  -117.8250,        726,    36.6,2,  13.1814,2,  33.5062,2,  33.4987,2,    273.7,2,   273.6,2,    4.99,2,    0.17,2,    0.02,2,    0.42,2,   2.862,2,   1.681,2,   2.4942,2,  2056.8,2,  2242.8,2,   7.8350,2,    25.01,2, -999.00,9,  -999.0,9, -999.00,1, -999.00,1,       15.7,2, 20220712,     1925,  32.6430,-117.8250,    13.2254,3,     -999.0,9,     -999.0,9,     -999.0,9,     -999.0,9,     0.0882,1,     4.4706,1,     -999.0,9,     -999.0,9,     -999.0,9,     -999.0,9,     -999.0,9
33RR20220613,       P02E,     202,          1,         20,         20,2,20220712,       1840,    32.6430,  -117.8250,        726,    61.4,2,  11.2813,2,  33.5719,2,  33.5763,2,    159.4,2,   160.9,2,   14.38,2,   16.47,2,    0.04,2,    1.41,2,   2.877,2,   1.743,2,   2.1357,2,  2141.8,2,  2232.8,2,   7.5942,2,    25.00,2, -999.00,9,  -999.0,9, -999.00,1, -999.00,1,       21.7,2, 20220712,     1923,  32.6430,-117.8250,    11.2761,2,     -999.0,9,     -999.0,9,     -999.0,9,     -999.0,9,     0.0285,1,     4.6172,1,     -999.0,9,     -999.0,9,     -999.0,9,     -999.0,9,     -999.0,9
33RR20220613,       P02E,     202,          1,         19,         39,2,20220712,       1840,    32.6430,  -117.8250,        726,    86.8,2,  10.5845,2,  33.7002,2,  33.7046,2,    137.5,2,   138.3,2,   18.87,2,   20.37,2,    0.08,2,    1.65,2,   2.869,2,   1.735,2,   1.8908,2,  2163.2,2,  2237.9,2,   7.5449,2,    25.01,2, -999.00,9,  -999.0,9, -999.00,1, -999.00,1,       24.8,2, 20220712,     1921,  32.6430,-117.8250,    10.5778,2,     -999.0,9,     -999.0,9,     -999.0,9,     -999.0,9,     0.0159,1,     4.6353,1,     -999.0,9,     -999.0,9,     -999.0,9,     -999.0,9,     -999.0,9
33RR20220613,       P02E,     202,          1,         18,         18,2,20220712,       1840,    32.6430,  -117.8250,        726,   111.6,2,  10.1059,2,  33.8628,2,  33.8656,2,    125.2,2,   124.0,2,   23.37,2,   22.17,2,    0.00,2,    1.79,2,   2.781,2,   1.680,2,   1.7153,2,  2179.2,2,  2248.0,2,   7.5231,2,    25.01,2, -999.00,9,  -999.0,9, -999.00,1, -999.00,1,       28.0,2, 20220712,     1917,  32.6430,-117.8250,    10.1019,2,     -999.0,9,     -999.0,9,     -999.0,9,     -999.0,9,     0.0134,1,     4.6428,1,     -999.0,9,     -999.0,9,     -999.0,9,     -999.0,9,     -999.0,9
33RR20220613,       P02E,     202,          1,         17,         37,2,20220712,       1840,    32.6430,  -117.8250,        726,   136.6,2,   9.6748,2,  34.0227,2,  34.0284,2,    112.9,2,   112.6,2,   27.76,2,   23.75,2,    0.00,2,    1.90,2,   2.639,2,   1.568,2,   1.3504,2,  2191.6,2,  2259.6,2,   7.5128,2,    25.00,2, -999.00,9,  -999.0,9, -999.00,1, -999.00,1,       30.7,2, 20220712,     1916,  32.6430,-117.8250,     9.6726,2,     -999.0,9,     -999.0,9,     -999.0,9,     -999.0,9,     0.0134,1,     4.6456,1,     -999.0,9,     -999.0,9,     -999.0,9,     -999.0,9,     -999.0,9
33RR20220613,       P02E,     202,          1,         16,         16,2,20220712,       1840,    32.6430,  -117.8250,        726,   162.0,2,   9.7660,2,  34.1631,2,  34.1673,2,     83.5,3,    82.6,2,   31.96,2,   25.39,2,    0.00,2,    2.16,2,   2.236,2,   1.349,2,   0.9891,2,  2217.8,2,  2271.9,6,   7.4666,2,    25.01,2, -999.00,9,  -999.0,9, -999.00,1, -999.00,1,       35.4,2, 20220712,     1915,  32.6430,-117.8250,     9.7656,2,     -999.0,9,     -999.0,9,     -999.0,9,     -999.0,9,     0.0134,1,     4.6412,1,     -999.0,9,     -999.0,9,     -999.0,9,     -999.0,9,     -999.0,9
33RR20220613,       P02E,     202,          1,         15,         15,2,20220712,       1840,    32.6430,  -117.8250,        726,   187.1,2,   9.6444,2,  34.2162,2,  34.2126,2,     75.8,3,    77.0,2,   34.02,2,   26.19,2,    0.00,2,    2.25,2,   2.135,2,   1.273,2,   0.9218,2,  2225.8,2,  2275.2,2,   7.4577,2,    25.01,2, -999.00,9,  -999.0,9, -999.00,1, -999.00,1,       36.3,2, 20220712,     1913,  32.6430,-117.8250,     9.6420,2,     -999.0,9,     -999.0,9,     -999.0,9,     -999.0,9,     0.0134,1,     4.6532,1,     -999.0,9,     -999.0,9,     -999.0,9,     -999.0,9,     -999.0,9
33RR20220613,       P02E,     202,          1,         14,         42,2,20220712,       1840,    32.6430,  -117.8250,        726,   212.3,2,   9.4984,2,  34.2573,2,  34.2607,2,     64.0,3,    63.2,2,   36.56,2,   27.21,2,    0.00,2,    2.37,2,   1.935,2,   1.155,2,   0.7233,2,  2238.1,2,  2280.3,2,   7.4342,2,    25.02,2, -999.00,9,  -999.0,9, -999.00,1, -999.00,1,       37.2,2, 20220712,     1911,  32.6430,-117.8250,     9.5095,2,     -999.0,9,     -999.0,9,     -999.0,9,     -999.0,9,     0.0134,1,     4.6572,1,     -999.0,9,     -999.0,9,     -999.0,9,     -999.0,9,     -999.0,9
33RR20220613,       P02E,     202,          1,         13,         13,2,20220712,       1840,    32.6430,  -117.8250,        726,   237.6,2,   9.5910,2,  34.3496,2,  34.3507,2,     37.9,2,    37.9,2,   39.49,2,   28.20,2,    0.00,2,    2.56,2,   1.532,2,   0.920,2,   0.5606,2,  2259.7,2,  2286.9,2,   7.3936,2,    25.00,2, -999.00,9,  -999.0,9, -999.00,1, -999.00,1,       41.1,2, 20220712,     1908,  32.6430,-117.8250,     9.5895,2,     -999.0,9,     -999.0,9,     -999.0,9,     -999.0,9,     0.0134,1,     4.6556,1,     -999.0,9,     -999.0,9,     -999.0,9,     -999.0,9,     -999.0,9
33RR20220613,       P02E,     202,          1,         12,         12,2,20220712,       1840,    32.6430,  -117.8250,        726,   262.7,2,   8.6975,2,  34.2420,2,  34.2438,2,     54.2,3,    53.6,2,   42.62,2,   29.63,2,    0.00,2,    2.51,2,   1.759,2,   1.036,2,   0.6242,2,  2252.7,2,  2283.9,2,   7.4022,2,    25.00,2, -999.00,9,  -999.0,9, -999.00,1, -999.00,1,       40.2,2, 20220712,     1907,  32.6430,-117.8250,     8.7038,2,     -999.0,9,     -999.0,9,     -999.0,9,     -999.0,9,     0.0134,1,     4.6576,1,     -999.0,9,     -999.0,9,     -999.0,9,     -999.0,9,     -999.0,9
33RR20220613,       P02E,     202,          1,         11,         11,2,20220712,       1840,    32.6430,  -117.8250,        726,   287.7,2,   8.2288,2,  34.2041,2,  34.2050,2,     53.3,2,    53.0,2,   45.94,2,   31.24,2,    0.00,2,    2.56,2,   1.781,2,   1.025,2,   0.6086,2,  2257.3,2,  2284.5,2,   7.3907,2,    25.01,2, -999.00,9,  -999.0,9, -999.00,1, -999.00,1,       40.2,2, 20220712,     1905,  32.6430,-117.8250,     8.2283,2,     -999.0,9,     -999.0,9,     -999.0,9,     -999.0,9,     0.0134,1,     4.6592,1,     -999.0,9,     -999.0,9,     -999.0,9,     -999.0,9,     -999.0,9
33RR20220613,       P02E,     202,          1,         10,         10,2,20220712,       1840,    32.6430,  -117.8250,        726,   312.7,2,   8.0478,2,  34.2248,2,  34.2228,2,     44.8,3,    45.4,2,   48.78,2,   32.21,2,    0.00,2,    2.65,2,   1.588,2,   0.902,2,   0.5067,2,  2265.9,2,  2286.9,2,   7.3756,2,    25.01,2, -999.00,9,  -999.0,9, -999.00,1, -999.00,1,       42.2,2, 20220712,     1903,  32.6430,-117.8250,     8.0485,2,     -999.0,9,     -999.0,9,     -999.0,9,     -999.0,9,     0.0134,1,     4.6592,1,     -999.0,9,     -999.0,9,     -999.0,9,     -999.0,9,     -999.0,9
33RR20220613,       P02E,     202,          1,          9,          9,2,20220712,       1840,    32.6430,  -117.8250,        726,   338.0,2,   8.0559,2,  34.3089,2,  34.3091,2,     26.9,3,    26.5,2,   52.49,2,   32.97,2,    0.00,2,    2.81,2,   1.122,2,   0.654,2,   0.5291,2,  2281.3,2,  2296.7,2,   7.3548,2,    25.01,2, -999.00,9,  -999.0,9, -999.00,1, -999.00,1,       44.5,2, 20220712,     1901,  32.6430,-117.8250,     8.0549,2,     -999.0,9,     -999.0,9,     -999.0,9,     -999.0,9,     0.0134,1,     4.6556,1,     -999.0,9,     -999.0,9,     -999.0,9,     -999.0,9,     -999.0,9
33RR20220613,       P02E,     202,          1,          8,          8,2,20220712,       1840,    32.6430,  -117.8250,        726,   363.4,2,   7.8918,2,  34.3336,2,  34.3368,2,     20.7,2,    20.6,2,   54.93,2,   33.59,2,    0.00,2,    2.86,2,   0.902,2,   0.510,2,   0.2892,2,  2289.6,2,  2301.3,2,   7.3480,2,    25.01,2, -999.00,9,  -999.0,9, -999.00,1, -999.00,1,       48.8,2, 20220712,     1859,  32.6430,-117.8250,     7.8916,2,     -999.0,9,     -999.0,9,     -999.0,9,     -999.0,9,     0.0134,1,     4.6519,1,     -999.0,9,     -999.0,9,     -999.0,9,     -999.0,9,     -999.0,9
33RR20220613,       P02E,     202,          1,          7,          7,2,20220712,       1840,    32.6430,  -117.8250,        726,   388.4,2,   7.7440,2,  34.3430,2,  34.3448,2,     17.8,2,    17.9,2,   56.98,2,   34.20,2,    0.00,2,    2.87,2,   0.778,2,   0.444,2,   0.2593,2,  2294.2,2,  2303.1,2,   7.3419,2,    25.01,2, -999.00,9,  -999.0,9, -999.00,1, -999.00,1,       48.9,2, 20220712,     1857,  32.6430,-117.8250,     7.7373,2,     -999.0,9,     -999.0,9,     -999.0,9,     -999.0,9,     0.0134,1,     4.6526,1,     -999.0,9,     -999.0,9,     -999.0,9,     -999.0,9,     -999.0,9
33RR20220613,       P02E,     202,          1,          6,          6,2,20220712,       1840,    32.6430,  -117.8250,        726,   423.8,2,   7.5819,2,  34.3402,2,  34.3382,2,     17.2,2,    17.3,2,   58.84,2,   34.90,2,    0.00,2,    2.88,2,   0.738,2,   0.417,2,   0.2174,2,  2296.0,2,  2304.9,2,   7.3385,2,    25.01,2, -999.00,9,  -999.0,9, -999.00,1, -999.00,1,       49.3,2, 20220712,     1855,  32.6430,-117.8250,     7.5820,2,     -999.0,9,     -999.0,9,     -999.0,9,     -999.0,9,     0.0134,1,     4.6560,1,     -999.0,9,     -999.0,9,     -999.0,9,     -999.0,9,     -999.0,9
33RR20220613,       P02E,     202,          1,          5,          5,2,20220712,       1840,    32.6430,  -117.8250,        726,   469.5,2,   7.0685,2,  34.3140,2,  34.3121,2,     17.3,3,    17.8,2,   64.41,2,   36.57,2,    0.00,2,    2.91,2,   0.657,2,   0.362,2,   0.1791,2,  2300.8,2,  2307.7,2,   7.3293,2,    25.01,2, -999.00,9,  -999.0,9, -999.00,1, -999.00,1,       52.3,2, 20220712,     1853,  32.6430,-117.8250,     7.0665,2,     -999.0,9,     -999.0,9,     -999.0,9,     -999.0,9,     0.0134,1,     4.6603,1,     -999.0,9,     -999.0,9,     -999.0,9,     -999.0,9,     -999.0,9
33RR20220613,       P02E,     202,          1,          4,          4,2,20220712,       1840,    32.6430,  -117.8250,        726,   519.4,2,   6.5919,2,  34.2834,2,  34.2850,2,     17.9,2,    18.0,2,   68.71,2,   37.75,2,    0.00,2,    2.93,2,   0.621,2,   0.348,2,   0.2423,2,  2305.4,2,  2309.6,2,   7.3246,2,    25.01,2, -999.00,9,  -999.0,9, -999.00,1, -999.00,1,       52.6,2, 20220712,     1850,  32.6430,-117.8250,     6.5672,2,     -999.0,9,     -999.0,9,     -999.0,9,     -999.0,9,     0.0134,1,     4.6630,1,     -999.0,9,     -999.0,9,     -999.0,9,     -999.0,9,     -999.0,9
33RR20220613,       P02E,     202,          1,          3,          3,2,20220712,       1840,    32.6430,  -117.8250,        726,   570.3,2,   6.2026,2,  34.3192,2,  34.3205,2,     13.1,2,    13.1,2,   75.36,2,   39.03,2,    0.00,2,    3.02,2,   0.369,2,   0.208,2,   0.0941,2,  2316.5,2,  2319.0,2,   7.3204,2,    25.01,2, -999.00,9,  -999.0,9, -999.00,1, -999.00,1,       54.8,2, 20220712,     1848,  32.6430,-117.8250,     6.1939,2,     -999.0,9,     -999.0,9,     -999.0,9,     -999.0,9,     0.0134,1,     4.6631,1,     -999.0,9,     -999.0,9,     -999.0,9,     -999.0,9,     -999.0,9
33RR20220613,       P02E,     202,          1,          2,          2,2,20220712,       1840,    32.6430,  -117.8250,        726,   640.1,2,   5.6645,2,  34.3575,2,  34.3576,2,     11.6,2,    11.5,2,   84.74,2,   40.37,2,    0.00,2,    3.08,2,   0.215,2,   0.127,2,   0.1025,2,  2330.0,2,  2330.1,2,   7.3170,2,    25.01,2, -999.00,9,  -999.0,9, -999.00,1, -999.00,1,       54.2,2, 20220712,     1845,  32.6430,-117.8250,     5.6674,2,     -999.0,9,     -999.0,9,     -999.0,9,     -999.0,9,     0.0134,1,     4.6516,1,     -999.0,9,     -999.0,9,     -999.0,9,     -999.0,9,     -999.0,9
33RR20220613,       P02E,     202,          1,          1,          1,2,20220712,       1840,    32.6430,  -117.8250,        726,   721.6,2,   5.1149,2,  34.4040,2,  34.4006,2,     12.3,2,    12.2,2,   93.92,2,   41.55,2,    0.00,2,    3.14,2,   0.091,6,   0.059,6,   0.1074,6,  2339.3,2,  2343.6,2,   7.3243,2,    25.01,2, -999.00,9,  -999.0,9, -999.00,1, -999.00,1,       60.0,6, 20220712,     1840,  32.6430,-117.8250,     5.1053,2,     -999.0,9,     -999.0,9,     -999.0,9,     -999.0,9,     0.0134,1,     4.6518,1,     -999.0,9,     -999.0,9,     -999.0,9,     -999.0,9,     -999.0,9