BOTTLE,20230830CCHSIOCBG
EXPOCODE,SECT_ID,STNNBR,CASTNO,SAMPNO,BTLNBR,BTLNBR_FLAG_W,DATE,TIME,LATITUDE,LONGITUDE,DEPTH,CTDPRS,CTDPRS_FLAG_W,CTDTMP,CTDTMP_FLAG_W,CTDSAL,CTDSAL_FLAG_W,SALNTY,SALNTY_FLAG_W,CTDOXY,CTDOXY_FLAG_W,OXYGEN,OXYGEN_FLAG_W,SILCAT,SILCAT_FLAG_W,NITRAT,NITRAT_FLAG_W,NITRIT,NITRIT_FLAG_W,PHSPHT,PHSPHT_FLAG_W,CFC-11,CFC-11_FLAG_W,CFC-12,CFC-12_FLAG_W,SF6,SF6_FLAG_W,TCARBN,TCARBN_FLAG_W,ALKALI,ALKALI_FLAG_W,PH_TOT,PH_TOT_FLAG_W,PH_TMP,PH_TMP_FLAG_W,DELC13,DELC13_FLAG_W,DELC14,DELC14_FLAG_W,DOC,DOC_FLAG_W,TDN,TDN_FLAG_W,N2O,N2O_FLAG_W,BTL_DATE,BTL_TIME,BTL_LAT,BTL_LON,REFTMP,REFTMP_FLAG_W,POC,POC_FLAG_W,PON,PON_FLAG_W,POP,POP_FLAG_W,PCOD,PCOD_FLAG_W,CTDFLUOR,CTDFLUOR_FLAG_W,CTDXMISS,CTDXMISS_FLAG_W,HPLC,HPLC_FLAG_W,DNA,DNA_FLAG_W,FCM,FCM_FLAG_W,IMAGES,IMAGES_FLAG_W,VIRAL_ABUNDANCE,VIRAL_ABUNDANCE_FLAG_W
,,,,,,,,,,,METERS,DBAR,,ITS-90,,PSS-78,,PSS-78,,UMOL/KG,,UMOL/KG,,UMOL/KG,,UMOL/KG,,UMOL/KG,,UMOL/KG,,PMOL/KG,,PMOL/KG,,FMOL/KG,,UMOL/KG,,UMOL/KG,,,,DEG C,,/MILLE,,/MILLE,,UMOL/KG,,UMOL/KG,,NMOL/KG,,,,,,ITS-90,,UG/L,,UG/L,,UG/L,,UG/L,,VOLTS,,VOLTS,,,,,,,,,,,
33RR20220613,       P02E,     191,          4,         36,         36,2,20220713,       2114,    31.7517,  -119.8101,       3679,     5.9,2,  17.8056,2,  33.4037,2,  33.4072,2,    247.9,3,   245.1,2,    0.00,2,    0.00,2,    0.00,2,    0.31,2,   2.227,2,   1.369,2,   2.2867,2,  2020.0,6,  2232.9,2,   7.9006,2,    25.00,2, -999.00,9,  -999.0,9, -999.00,9, -999.00,9,        8.3,2, 20220713,     2306,  31.7517,-119.8101,    17.8200,2,     -999.0,9,     -999.0,9,     -999.0,9,     -999.0,9,     0.0244,1,     4.5718,1,     -999.0,9,     -999.0,9,     -999.0,9,     -999.0,9,     -999.0,9
33RR20220613,       P02E,     191,          4,         35,         35,2,20220713,       2114,    31.7517,  -119.8101,       3679,    26.0,2,  17.5278,2,  33.4079,2,  33.4123,2,    247.8,2,   247.4,2,    0.00,2,    0.05,2,    0.00,2,    0.33,2,   2.284,2,   1.380,2,   2.3730,2,  2020.4,2,  2234.9,2,   7.9050,2,    25.00,2, -999.00,9,  -999.0,9, -999.00,9, -999.00,9,        9.0,2, 20220713,     2304,  31.7517,-119.8101,    17.5251,2,     -999.0,9,     -999.0,9,     -999.0,9,     -999.0,9,     0.0342,1,     4.5553,1,     -999.0,9,     -999.0,9,     -999.0,9,     -999.0,9,     -999.0,9
33RR20220613,       P02E,     191,          4,         34,         34,2,20220713,       2114,    31.7517,  -119.8101,       3679,    51.2,2,  14.3172,2,  33.3260,2,  33.3420,2,    265.8,2,   266.5,2,    0.98,2,    3.75,2,    0.20,2,    0.63,2,   2.694,2,   1.607,2,   2.4703,2,  2045.4,2,  2226.7,2,   7.8450,2,    25.00,2, -999.00,9,  -999.0,9, -999.00,9, -999.00,9,       13.8,2, 20220713,     2301,  31.7517,-119.8101,    14.2730,2,     -999.0,9,     -999.0,9,     -999.0,9,     -999.0,9,     0.0501,1,     4.5825,1,     -999.0,9,     -999.0,9,     -999.0,9,     -999.0,9,     -999.0,9
33RR20220613,       P02E,     191,          4,         33,         33,2,20220713,       2114,    31.7517,  -119.8101,       3679,    76.3,2,  11.9890,2,  33.4364,2,  33.4373,2,    209.0,2,   210.5,2,    7.24,2,   11.53,2,    0.24,2,    1.11,2,   2.842,2,   1.714,2,   2.4960,2,  2098.7,2,  2227.7,2,   7.7030,2,    25.00,2, -999.00,9,  -999.0,9, -999.00,9, -999.00,9,       16.6,2, 20220713,     2259,  31.7517,-119.8101,    11.9963,2,     -999.0,9,     -999.0,9,     -999.0,9,     -999.0,9,     0.0485,1,     4.5915,1,     -999.0,9,     -999.0,9,     -999.0,9,     -999.0,9,     -999.0,9
33RR20220613,       P02E,     191,          4,         32,         32,2,20220713,       2114,    31.7517,  -119.8101,       3679,   106.5,2,  10.4764,2,  33.5932,2,  33.6083,2,    163.0,2,   162.9,2,   15.84,2,   18.70,2,    0.03,2,    1.54,2,   2.883,2,   1.778,2,   2.2141,2,  2147.5,2,  2231.8,6,   7.5886,2,    24.99,2, -999.00,9,  -999.0,9, -999.00,9, -999.00,9,       22.6,2, 20220713,     2256,  31.7517,-119.8101,    10.4769,2,     -999.0,9,     -999.0,9,     -999.0,9,     -999.0,9,     0.0171,1,     4.6527,1,     -999.0,9,     -999.0,9,     -999.0,9,     -999.0,9,     -999.0,9
33RR20220613,       P02E,     191,          4,         31,         31,2,20220713,       2114,    31.7517,  -119.8101,       3679,   125.9,2,   9.9250,2,  33.7546,2,  33.7635,2,    147.0,2,   147.0,2,   19.94,2,   21.04,2,    0.02,2,    1.67,2,   2.944,2,   1.760,2,   1.9360,2,  2165.9,2,  2239.9,2,   7.5595,2,    24.99,2, -999.00,9,  -999.0,9, -999.00,9, -999.00,9,       25.3,2, 20220713,     2254,  31.7517,-119.8101,     9.9272,2,     -999.0,9,     -999.0,9,     -999.0,9,     -999.0,9,     0.0134,1,     4.6580,1,     -999.0,9,     -999.0,9,     -999.0,9,     -999.0,9,     -999.0,9
33RR20220613,       P02E,     191,          4,         30,         17,2,20220713,       2114,    31.7517,  -119.8101,       3679,   151.7,2,   9.3939,2,  33.8983,2,  33.9134,2,    136.6,2,   136.7,2,   24.34,2,   22.98,2,    0.00,2,    1.78,2,   2.849,2,   1.731,2,   1.7377,2,  2176.6,2,  2251.3,2,   7.5423,2,    25.00,2, -999.00,9,  -999.0,9, -999.00,9, -999.00,9,       29.7,2, 20220713,     2252,  31.7517,-119.8101,     9.3930,2,     -999.0,9,     -999.0,9,     -999.0,9,     -999.0,9,     0.0130,1,     4.6617,1,     -999.0,9,     -999.0,9,     -999.0,9,     -999.0,9,     -999.0,9
33RR20220613,       P02E,     191,          4,         29,         29,2,20220713,       2114,    31.7517,  -119.8101,       3679,   202.4,2,   8.7855,2,  33.9966,2,  34.0004,2,    122.4,2,   122.2,2,   30.69,2,   25.76,2,    0.00,2,    1.96,2,   2.732,2,   1.637,2,   1.4397,2,  2198.1,2,  2261.5,2,   7.5112,2,    25.00,2, -999.00,9,  -999.0,9, -999.00,9, -999.00,9,       32.7,2, 20220713,     2250,  31.7517,-119.8101,     8.7862,2,     -999.0,9,     -999.0,9,     -999.0,9,     -999.0,9,     0.0134,1,     4.6604,1,     -999.0,9,     -999.0,9,     -999.0,9,     -999.0,9,     -999.0,9
33RR20220613,       P02E,     191,          4,         28,         28,2,20220713,       2114,    31.7517,  -119.8101,       3679,   252.6,2,   7.8945,2,  34.0381,2,  34.0435,2,     98.5,2,    98.4,2,   40.76,2,   29.74,2,    0.00,2,    2.21,2,   2.481,2,   1.476,2,   1.0323,2,  2225.0,2,  2270.0,2,   7.4542,2,    25.00,2, -999.00,9,  -999.0,9, -999.00,9, -999.00,9,       40.3,2, 20220713,     2246,  31.7517,-119.8101,     7.8949,2,     -999.0,9,     -999.0,9,     -999.0,9,     -999.0,9,     0.0134,1,     4.6653,1,     -999.0,9,     -999.0,9,     -999.0,9,     -999.0,9,     -999.0,9
33RR20220613,       P02E,     191,          4,         27,         27,2,20220713,       2114,    31.7517,  -119.8101,       3679,   303.0,2,   7.2747,2,  34.0920,2,  34.0927,2,     64.5,2,    64.5,2,   50.83,2,   33.53,2,    0.00,2,    2.54,2,   1.938,2,   1.152,2,   0.6521,2,  2258.1,2,  2282.0,2,   7.3858,2,    24.99,2, -999.00,9,  -999.0,9, -999.00,9, -999.00,9,       43.3,2, 20220713,     2245,  31.7517,-119.8101,     7.2746,2,     -999.0,9,     -999.0,9,     -999.0,9,     -999.0,9,     0.0134,1,     4.6681,1,     -999.0,9,     -999.0,9,     -999.0,9,     -999.0,9,     -999.0,9
33RR20220613,       P02E,     191,          4,         26,         26,2,20220713,       2114,    31.7517,  -119.8101,       3679,   353.4,2,   6.6744,2,  34.1168,2,  34.1178,2,     46.9,2,    47.2,2,   59.43,2,   36.14,2,    0.00,2,    2.72,2,   1.579,2,   0.892,2,   0.4631,2,  -999.0,9,  -999.0,9,-999.0000,9,  -999.00,9, -999.00,9,  -999.0,9, -999.00,9, -999.00,9,       48.3,2, 20220713,     2243,  31.7517,-119.8101,     6.6745,2,     -999.0,9,     -999.0,9,     -999.0,9,     -999.0,9,     0.0134,1,     4.6684,1,     -999.0,9,     -999.0,9,     -999.0,9,     -999.0,9,     -999.0,9
33RR20220613,       P02E,     191,          4,         25,         25,2,20220713,       2114,    31.7517,  -119.8101,       3679,   403.3,2,   6.6244,2,  34.2296,2,  34.2283,2,     24.0,3,    25.0,2,   64.99,2,   37.34,2,    0.00,2,    2.90,2,   0.946,2,   0.518,2,   0.2614,2,  2297.6,2,  2304.4,2,   7.3274,2,    25.01,2, -999.00,9,  -999.0,9, -999.00,9, -999.00,9,       54.9,2, 20220713,     2239,  31.7517,-119.8101,     6.6249,2,     -999.0,9,     -999.0,9,     -999.0,9,     -999.0,9,     0.0134,1,     4.6656,1,     -999.0,9,     -999.0,9,     -999.0,9,     -999.0,9,     -999.0,9
33RR20220613,       P02E,     191,          4,         24,         24,2,20220713,       2114,    31.7517,  -119.8101,       3679,   454.2,2,   6.3896,2,  34.2639,2,  34.2646,2,     17.7,2,    17.8,2,   70.17,2,   38.40,2,    0.00,2,    2.97,2,   0.647,2,   0.348,2,   0.1351,2,  -999.0,9,  -999.0,9,-999.0000,9,  -999.00,9, -999.00,9,  -999.0,9, -999.00,9, -999.00,9,       58.1,2, 20220713,     2237,  31.7517,-119.8101,     6.3895,2,     -999.0,9,     -999.0,9,     -999.0,9,     -999.0,9,     0.0134,1,     4.6679,1,     -999.0,9,     -999.0,9,     -999.0,9,     -999.0,9,     -999.0,9
33RR20220613,       P02E,     191,          4,         23,         23,2,20220713,       2114,    31.7517,  -119.8101,       3679,   504.4,2,   6.1094,2,  34.2943,2,  34.2997,2,     14.0,3,    14.3,2,   74.76,2,   39.20,2,    0.00,2,    3.03,2,   0.442,2,   0.232,2,   0.0939,2,  2316.5,2,  2319.7,2,   7.3180,2,    25.01,2, -999.00,9,  -999.0,9, -999.00,9, -999.00,9,       61.1,2, 20220713,     2234,  31.7517,-119.8101,     6.1097,2,     -999.0,9,     -999.0,9,     -999.0,9,     -999.0,9,     0.0134,1,     4.6670,1,     -999.0,9,     -999.0,9,     -999.0,9,     -999.0,9,     -999.0,9
33RR20220613,       P02E,     191,          4,         22,         22,2,20220713,       2114,    31.7517,  -119.8101,       3679,   605.7,2,   5.6206,2,  34.3472,2,  34.3470,2,     11.0,2,    10.9,2,   83.55,2,   40.74,2,    0.00,2,    3.11,2,   0.190,2,   0.101,2,   0.0617,2,  2329.9,2,  2330.4,2,   7.3181,2,    25.00,2, -999.00,9,  -999.0,9, -999.00,9, -999.00,9,       62.9,2, 20220713,     2231,  31.7517,-119.8101,     5.6189,2,     -999.0,9,     -999.0,9,     -999.0,9,     -999.0,9,     0.0134,1,     4.6722,1,     -999.0,9,     -999.0,9,     -999.0,9,     -999.0,9,     -999.0,9
33RR20220613,       P02E,     191,          4,         21,         21,2,20220713,       2114,    31.7517,  -119.8101,       3679,   706.5,2,   5.1180,2,  34.3975,2,  34.3978,2,     11.8,3,    12.1,2,   93.13,2,   41.89,2,    0.00,2,    3.16,2,   0.077,2,   0.042,2,   0.0966,2,  2343.1,2,  2344.7,2,   7.3253,2,    25.02,2, -999.00,9,  -999.0,9, -999.00,9, -999.00,9,       64.3,2, 20220713,     2227,  31.7517,-119.8101,     5.1186,2,     -999.0,9,     -999.0,9,     -999.0,9,     -999.0,9,     0.0134,1,     4.6731,1,     -999.0,9,     -999.0,9,     -999.0,9,     -999.0,9,     -999.0,9
33RR20220613,       P02E,     191,          4,         20,         20,2,20220713,       2114,    31.7517,  -119.8101,       3679,   808.0,2,   4.6577,2,  34.4352,3,  34.4508,2,     15.1,3,    14.8,2,  102.02,2,   42.60,2,    0.00,2,    3.18,2,   0.042,2,   0.025,2,   0.1127,2,  -999.0,9,  -999.0,9,-999.0000,9,  -999.00,9, -999.00,9,  -999.0,9, -999.00,9, -999.00,9,       63.2,2, 20220713,     2224,  31.7517,-119.8101,     4.6552,2,     -999.0,9,     -999.0,9,     -999.0,9,     -999.0,9,     0.0134,1,     4.6743,1,     -999.0,9,     -999.0,9,     -999.0,9,     -999.0,9,     -999.0,9
33RR20220613,       P02E,     191,          4,         19,         39,2,20220713,       2114,    31.7517,  -119.8101,       3679,   908.5,2,   4.3180,2,  34.4614,2,  34.4634,2,     19.1,2,    19.1,2,  108.76,2,   42.97,2,    0.00,2,    3.17,2,   0.032,2,   0.022,2,   0.1302,2,  2356.3,2,  2367.2,2,   7.3372,2,    25.01,2, -999.00,9,  -999.0,9, -999.00,9, -999.00,9,       59.8,2, 20220713,     2221,  31.7517,-119.8101,     4.3153,2,     -999.0,9,     -999.0,9,     -999.0,9,     -999.0,9,     0.0134,1,     4.6750,1,     -999.0,9,     -999.0,9,     -999.0,9,     -999.0,9,     -999.0,9
33RR20220613,       P02E,     191,          4,         18,         18,2,20220713,       2114,    31.7517,  -119.8101,       3679,  1010.2,2,   3.9826,2,  34.4847,2,  34.4844,2,     23.8,3,    23.5,2,  115.99,2,   43.16,2,    0.00,2,    3.16,2,   0.023,2,   0.015,2,   0.0983,2,  -999.0,9,  -999.0,9,-999.0000,9,  -999.00,9, -999.00,9,  -999.0,9, -999.00,9, -999.00,9,       54.6,2, 20220713,     2217,  31.7517,-119.8101,     3.9843,2,     -999.0,9,     -999.0,9,     -999.0,9,     -999.0,9,     0.0134,1,     4.6754,1,     -999.0,9,     -999.0,9,     -999.0,9,     -999.0,9,     -999.0,9
33RR20220613,       P02E,     191,          4,         17,         37,2,20220713,       2114,    31.7517,  -119.8101,       3679,  1110.8,2,   3.7186,2,  34.5038,2,  34.5044,2,     28.4,2,    28.4,2,  122.04,2,   43.16,2,    0.00,2,    3.14,2,   0.022,2,   0.017,2,   0.1911,2,  2359.0,2,  2380.6,2,   7.3580,2,    25.00,2, -999.00,9,  -999.0,9, -999.00,9, -999.00,9,       55.6,2, 20220713,     2215,  31.7517,-119.8101,     3.7179,2,     -999.0,9,     -999.0,9,     -999.0,9,     -999.0,9,     0.0134,1,     4.6761,1,     -999.0,9,     -999.0,9,     -999.0,9,     -999.0,9,     -999.0,9
33RR20220613,       P02E,     191,          4,         16,         16,2,20220713,       2114,    31.7517,  -119.8101,       3679,  1212.6,2,   3.4935,2,  34.5213,2,  34.5203,2,     32.9,2,    32.9,2,  128.20,2,   43.04,2,    0.00,2,    3.13,2,   0.024,2,   0.018,2,   0.1313,2,  -999.0,9,  -999.0,9,-999.0000,9,  -999.00,9, -999.00,9,  -999.0,9, -999.00,9, -999.00,9,       52.1,2, 20220713,     2212,  31.7517,-119.8101,     3.4927,2,     -999.0,9,     -999.0,9,     -999.0,9,     -999.0,9,     0.0134,1,     4.6763,1,     -999.0,9,     -999.0,9,     -999.0,9,     -999.0,9,     -999.0,9
33RR20220613,       P02E,     191,          4,         15,         15,2,20220713,       2114,    31.7517,  -119.8101,       3679,  1314.2,2,   3.2476,2,  34.5414,2,  34.5419,2,     38.6,2,    38.6,2,  133.67,2,   42.83,2,    0.00,2,    3.10,2,   0.031,2,   0.020,2,   0.0553,2,  2370.5,2,  2394.0,2,   7.3752,2,    25.00,2, -999.00,9,  -999.0,9, -999.00,9, -999.00,9,       48.9,2, 20220713,     2209,  31.7517,-119.8101,     3.2484,2,     -999.0,9,     -999.0,9,     -999.0,9,     -999.0,9,     0.0134,1,     4.6769,1,     -999.0,9,     -999.0,9,     -999.0,9,     -999.0,9,     -999.0,9
33RR20220613,       P02E,     191,          4,         14,         42,2,20220713,       2114,    31.7517,  -119.8101,       3679,  1415.6,2,   3.0582,2,  34.5551,3,  34.5704,2,     43.9,3,    43.5,2,  138.36,2,   42.77,2,    0.00,2,    3.07,2,   0.033,2,   0.020,2,   0.0000,2,  -999.0,9,  -999.0,9,-999.0000,9,  -999.00,9, -999.00,9,  -999.0,9, -999.00,9, -999.00,9,       47.6,2, 20220713,     2207,  31.7517,-119.8101,     3.0578,2,     -999.0,9,     -999.0,9,     -999.0,9,     -999.0,9,     0.0134,1,     4.6775,1,     -999.0,9,     -999.0,9,     -999.0,9,     -999.0,9,     -999.0,9
33RR20220613,       P02E,     191,          4,         13,         13,2,20220713,       2114,    31.7517,  -119.8101,       3679,  1516.7,2,   2.8521,2,  34.5680,2,  34.5679,2,     49.5,2,    49.5,2,  142.95,2,   42.34,2,    0.00,2,    3.03,2,   0.022,2,   0.016,2,   0.0000,2,  2375.8,2,  2402.6,2,   7.3957,2,    25.00,2, -999.00,9,  -999.0,9, -999.00,9, -999.00,9,       49.6,2, 20220713,     2204,  31.7517,-119.8101,     2.8539,2,     -999.0,9,     -999.0,9,     -999.0,9,     -999.0,9,     0.0134,1,     4.6779,1,     -999.0,9,     -999.0,9,     -999.0,9,     -999.0,9,     -999.0,9
33RR20220613,       P02E,     191,          4,         12,         12,2,20220713,       2114,    31.7517,  -119.8101,       3679,  1617.9,2,   2.6689,2,  34.5793,2,  34.5789,2,     55.1,2,    55.0,2,  147.44,2,   42.04,2,    0.00,2,    2.99,2,   0.016,2,   0.013,2,   0.0000,2,  -999.0,9,  -999.0,9,-999.0000,9,  -999.00,9, -999.00,9,  -999.0,9, -999.00,9, -999.00,9,       42.3,2, 20220713,     2201,  31.7517,-119.8101,     2.6684,2,     -999.0,9,     -999.0,9,     -999.0,9,     -999.0,9,     0.0134,1,     4.6779,1,     -999.0,9,     -999.0,9,     -999.0,9,     -999.0,9,     -999.0,9
33RR20220613,       P02E,     191,          4,         11,         11,2,20220713,       2114,    31.7517,  -119.8101,       3679,  1720.3,2,   2.5279,2,  34.5906,3,  34.5981,2,     61.3,2,    61.3,2,  150.47,2,   41.67,2,    0.00,2,    2.97,2,   0.013,2,   0.011,2,   0.0000,2,  2375.8,2,  2413.3,2,   7.4176,2,    25.02,2, -999.00,9,  -999.0,9, -999.00,9, -999.00,9,       39.6,2, 20220713,     2158,  31.7517,-119.8101,     2.5256,2,     -999.0,9,     -999.0,9,     -999.0,9,     -999.0,9,     0.0134,1,     4.6782,1,     -999.0,9,     -999.0,9,     -999.0,9,     -999.0,9,     -999.0,9
33RR20220613,       P02E,     191,          4,         10,         10,2,20220713,       2114,    31.7517,  -119.8101,       3679,  1821.2,2,   2.3628,2,  34.6034,2,  34.6034,2,     68.3,2,    68.6,2,  154.28,2,   41.23,2,    0.00,2,    2.92,2,   0.011,2,   0.008,2,   0.0000,2,  -999.0,9,  -999.0,9,-999.0000,9,  -999.00,9, -999.00,9,  -999.0,9, -999.00,9, -999.00,9,       37.5,2, 20220713,     2156,  31.7517,-119.8101,     2.3624,2,     -999.0,9,     -999.0,9,     -999.0,9,     -999.0,9,     0.0134,1,     4.6786,1,     -999.0,9,     -999.0,9,     -999.0,9,     -999.0,9,     -999.0,9
33RR20220613,       P02E,     191,          4,          9,          9,2,20220713,       2114,    31.7517,  -119.8101,       3679,  2025.1,2,   2.1013,2,  34.6207,2,  34.6207,2,     79.6,2,    79.9,2,  160.14,2,   40.49,2,    0.00,2,    2.85,2,   0.007,2,   0.007,2,   0.0000,2,  2373.5,2,  2422.7,2,   7.4534,2,    25.01,2, -999.00,9,  -999.0,9, -999.00,9, -999.00,9,       36.8,2, 20220713,     2151,  31.7517,-119.8101,     2.1034,2,     -999.0,9,     -999.0,9,     -999.0,9,     -999.0,9,     0.0134,1,     4.6787,1,     -999.0,9,     -999.0,9,     -999.0,9,     -999.0,9,     -999.0,9
33RR20220613,       P02E,     191,          4,          8,          8,2,20220713,       2114,    31.7517,  -119.8101,       3679,  2279.3,2,   1.9070,2,  34.6403,2,  34.6407,2,     93.8,2,    94.2,2,  162.28,2,   39.55,2,    0.00,2,    2.77,2,   0.006,2,   0.006,2,   0.0000,2,  -999.0,9,  -999.0,9,-999.0000,9,  -999.00,9, -999.00,9,  -999.0,9, -999.00,9, -999.00,9,       30.8,2, 20220713,     2146,  31.7517,-119.8101,     1.9068,2,     -999.0,9,     -999.0,9,     -999.0,9,     -999.0,9,     0.0134,1,     4.6798,1,     -999.0,9,     -999.0,9,     -999.0,9,     -999.0,9,     -999.0,9
33RR20220613,       P02E,     191,          4,          7,          7,2,20220713,       2114,    31.7517,  -119.8101,       3679,  2533.7,2,   1.7976,2,  34.6523,2,  34.6527,2,    103.8,2,   103.5,2,  163.06,2,   38.95,2,    0.00,2,    2.73,2,   0.008,2,   0.008,2,   0.0000,2,  2363.2,2,  2431.6,2,   7.4996,2,    25.02,2, -999.00,9,  -999.0,9, -999.00,9, -999.00,9,       30.5,2, 20220713,     2140,  31.7517,-119.8101,     1.7967,2,     -999.0,9,     -999.0,9,     -999.0,9,     -999.0,9,     0.0134,1,     4.6824,1,     -999.0,9,     -999.0,9,     -999.0,9,     -999.0,9,     -999.0,9
33RR20220613,       P02E,     191,          4,          6,          6,2,20220713,       2114,    31.7517,  -119.8101,       3679,  2787.9,2,   1.7020,2,  34.6593,2,  34.6596,2,    110.9,2,   111.0,2,  165.02,2,   38.52,2,    0.00,2,    2.68,2,   0.008,2,   0.006,2,   0.0000,2,  -999.0,9,  -999.0,9,-999.0000,9,  -999.00,9, -999.00,9,  -999.0,9, -999.00,9, -999.00,9,       27.1,2, 20220713,     2135,  31.7517,-119.8101,     1.7019,2,     -999.0,9,     -999.0,9,     -999.0,9,     -999.0,9,     0.0134,1,     4.6813,1,     -999.0,9,     -999.0,9,     -999.0,9,     -999.0,9,     -999.0,9
33RR20220613,       P02E,     191,          4,          5,          5,2,20220713,       2114,    31.7517,  -119.8101,       3679,  3043.6,2,   1.6460,2,  34.6649,3,  34.6728,2,    116.8,2,   117.1,2,  165.90,2,   38.21,2,    0.00,2,    2.65,2,   0.013,2,   0.012,2,   0.0000,2,  2357.4,2,  2434.8,6,   7.5237,2,    25.01,2, -999.00,9,  -999.0,9, -999.00,9, -999.00,9,       26.3,2, 20220713,     2130,  31.7517,-119.8101,     1.6459,2,     -999.0,9,     -999.0,9,     -999.0,9,     -999.0,9,     0.0122,1,     4.6816,1,     -999.0,9,     -999.0,9,     -999.0,9,     -999.0,9,     -999.0,9