BOTTLE,20230830CCHSIOCBG
EXPOCODE,SECT_ID,STNNBR,CASTNO,SAMPNO,BTLNBR,BTLNBR_FLAG_W,DATE,TIME,LATITUDE,LONGITUDE,DEPTH,CTDPRS,CTDPRS_FLAG_W,CTDTMP,CTDTMP_FLAG_W,CTDSAL,CTDSAL_FLAG_W,SALNTY,SALNTY_FLAG_W,CTDOXY,CTDOXY_FLAG_W,OXYGEN,OXYGEN_FLAG_W,SILCAT,SILCAT_FLAG_W,NITRAT,NITRAT_FLAG_W,NITRIT,NITRIT_FLAG_W,PHSPHT,PHSPHT_FLAG_W,CFC-11,CFC-11_FLAG_W,CFC-12,CFC-12_FLAG_W,SF6,SF6_FLAG_W,TCARBN,TCARBN_FLAG_W,ALKALI,ALKALI_FLAG_W,PH_TOT,PH_TOT_FLAG_W,PH_TMP,PH_TMP_FLAG_W,DELC13,DELC13_FLAG_W,DELC14,DELC14_FLAG_W,DOC,DOC_FLAG_W,TDN,TDN_FLAG_W,N2O,N2O_FLAG_W,BTL_DATE,BTL_TIME,BTL_LAT,BTL_LON,REFTMP,REFTMP_FLAG_W,POC,POC_FLAG_W,PON,PON_FLAG_W,POP,POP_FLAG_W,PCOD,PCOD_FLAG_W,CTDFLUOR,CTDFLUOR_FLAG_W,CTDXMISS,CTDXMISS_FLAG_W,HPLC,HPLC_FLAG_W,DNA,DNA_FLAG_W,FCM,FCM_FLAG_W,IMAGES,IMAGES_FLAG_W,VIRAL_ABUNDANCE,VIRAL_ABUNDANCE_FLAG_W
,,,,,,,,,,,METERS,DBAR,,ITS-90,,PSS-78,,PSS-78,,UMOL/KG,,UMOL/KG,,UMOL/KG,,UMOL/KG,,UMOL/KG,,UMOL/KG,,PMOL/KG,,PMOL/KG,,FMOL/KG,,UMOL/KG,,UMOL/KG,,,,DEG C,,/MILLE,,/MILLE,,UMOL/KG,,UMOL/KG,,NMOL/KG,,,,,,ITS-90,,UG/L,,UG/L,,UG/L,,UG/L,,VOLTS,,VOLTS,,,,,,,,,,,
33RR20220613,       P02E,     172,          1,          4,          4,2,20220703,       1619,    30.0009,  -130.0336,       4667,  3861.6,2,   1.4905,2,  34.6808,2,  34.6802,2,    139.0,2,   139.1,2,  163.18,2,   36.89,2,    0.00,2,    2.55,2,-999.000,9,-999.000,9,-999.0000,9,  -999.0,9,  -999.0,9,-999.0000,9,  -999.00,9, -999.00,9,  -999.0,9, -999.00,1, -999.00,1,     -999.0,9, 20220703,     1637,  30.0009,-130.0336,     1.4904,2,     -999.0,9,     -999.0,9,     -999.0,9,     -999.0,9,     0.0122,1,     4.7019,1,     -999.0,9,     -999.0,9,     -999.0,9,     -999.0,9,     -999.0,9
33RR20220613,       P02E,     172,          1,          3,          3,2,20220703,       1619,    30.0009,  -130.0336,       4667,  4170.1,2,   1.5107,2,  34.6826,2,  34.6818,2,    141.2,2,   141.4,2,  162.30,2,   36.83,2,    0.00,2,    2.54,2,   0.006,2,   0.008,2,   0.0000,2,  2335.9,2,  2431.2,2,   7.5652,2,    24.99,2, -999.00,9,  -999.0,9, -999.00,1, -999.00,1,       22.9,2, 20220703,     1631,  30.0009,-130.0335,     1.5107,2,     -999.0,9,     -999.0,9,     -999.0,9,     -999.0,9,     0.0122,1,     4.7015,1,     -999.0,9,     -999.0,9,     -999.0,9,     -999.0,9,     -999.0,9
33RR20220613,       P02E,     172,          1,          2,          2,2,20220703,       1619,    30.0009,  -130.0336,       4667,  4425.9,2,   1.5377,2,  34.6831,2,  34.6820,2,    142.0,2,   141.9,2,  162.20,2,   36.73,2,    0.00,2,    2.54,2,   0.006,2,   0.009,2,   0.0000,2,  2336.8,2,  2431.9,2,   7.5675,2,    24.99,2, -999.00,9,  -999.0,9, -999.00,1, -999.00,1,       23.9,2, 20220703,     1625,  30.0009,-130.0335,     1.5376,2,     -999.0,9,     -999.0,9,     -999.0,9,     -999.0,9,     0.0122,1,     4.7010,1,     -999.0,9,     -999.0,9,     -999.0,9,     -999.0,9,     -999.0,9
33RR20220613,       P02E,     172,          1,          1,          1,2,20220703,       1619,    30.0009,  -130.0336,       4667,  4739.9,2,   1.5739,2,  34.6833,2,  34.6832,2,    142.4,2,   142.3,2,  161.91,2,   36.73,2,    0.00,2,    2.54,2,   0.008,2,   0.009,2,   0.0000,2,  2340.1,6,  2430.6,2,   7.5680,2,    25.00,2, -999.00,9,  -999.0,9, -999.00,1, -999.00,1,       23.3,2, 20220703,     1619,  30.0009,-130.0335,     1.5738,2,     -999.0,9,     -999.0,9,     -999.0,9,     -999.0,9,     0.0122,1,     4.7005,1,     -999.0,9,     -999.0,9,     -999.0,9,     -999.0,9,     -999.0,9
33RR20220613,       P02E,     173,          1,         19,         39,2,20220703,       2130,    30.0003,  -129.4568,       4653,     4.5,2,  18.9423,2,  33.4504,2,-999.0000,9,    237.3,2,  -999.0,9, -999.00,9, -999.00,9, -999.00,9, -999.00,9,-999.000,9,-999.000,9,-999.0000,9,  -999.0,9,  -999.0,9,-999.0000,9,  -999.00,9, -999.00,9,  -999.0,9, -999.00,9, -999.00,9,     -999.0,9, 20220703,     2158,  30.0003,-129.4568,     -999.0,9,     -999.0,9,     -999.0,9,     -999.0,9,     -999.0,1,     0.0134,1,     4.6200,1,     -999.0,9,     -999.0,9,     -999.0,9,     -999.0,9,     -999.0,9
33RR20220613,       P02E,     173,          1,         13,         13,2,20220703,       2130,    30.0003,  -129.4568,       4653,     4.5,2,  18.9445,2,  33.4501,2,-999.0000,9,    237.1,2,  -999.0,9, -999.00,9, -999.00,9, -999.00,9, -999.00,9,-999.000,9,-999.000,9,-999.0000,9,  -999.0,9,  -999.0,9,-999.0000,9,  -999.00,9, -999.00,9,  -999.0,9, -999.00,9, -999.00,9,     -999.0,9, 20220703,     2158,  30.0003,-129.4568,     -999.0,9,     -999.0,1,     -999.0,1,     -999.0,9,     -999.0,9,     0.0134,1,     4.6201,1,     -999.0,9,     -999.0,9,     -999.0,9,     -999.0,9,     -999.0,9
33RR20220613,       P02E,     173,          1,         20,         20,2,20220703,       2130,    30.0003,  -129.4568,       4653,     4.5,2,  18.9426,2,  33.4504,2,-999.0000,9,    237.2,2,  -999.0,9, -999.00,9, -999.00,9, -999.00,9, -999.00,9,-999.000,9,-999.000,9,-999.0000,9,  -999.0,9,  -999.0,9,-999.0000,9,  -999.00,9, -999.00,9,  -999.0,9, -999.00,9, -999.00,9,     -999.0,9, 20220703,     2158,  30.0003,-129.4568,     -999.0,9,     -999.0,9,     -999.0,9,     -999.0,9,     -999.0,9,     0.0134,1,     4.6212,1,     -999.0,9,     -999.0,9,     -999.0,9,     -999.0,9,     -999.0,1
33RR20220613,       P02E,     173,          1,         14,         42,2,20220703,       2130,    30.0003,  -129.4568,       4653,     4.6,2,  18.9430,2,  33.4502,2,-999.0000,9,    237.1,2,  -999.0,9, -999.00,9, -999.00,9, -999.00,9, -999.00,9,-999.000,9,-999.000,9,-999.0000,9,  -999.0,9,  -999.0,9,-999.0000,9,  -999.00,9, -999.00,9,  -999.0,9, -999.00,9, -999.00,9,     -999.0,9, 20220703,     2158,  30.0003,-129.4568,     -999.0,9,     -999.0,9,     -999.0,9,     -999.0,1,     -999.0,9,     0.0134,1,     4.6205,1,     -999.0,9,     -999.0,9,     -999.0,9,     -999.0,9,     -999.0,9
33RR20220613,       P02E,     173,          1,         12,         12,2,20220703,       2130,    30.0003,  -129.4568,       4653,     4.7,2,  18.9440,2,  33.4503,2,-999.0000,9,    237.3,2,  -999.0,9, -999.00,9, -999.00,9, -999.00,9, -999.00,9,-999.000,9,-999.000,9,-999.0000,9,  -999.0,9,  -999.0,9,-999.0000,9,  -999.00,9, -999.00,9,  -999.0,9, -999.00,9, -999.00,9,     -999.0,9, 20220703,     2158,  30.0003,-129.4567,     -999.0,9,     -999.0,1,     -999.0,1,     -999.0,9,     -999.0,9,     0.0134,1,     4.6202,1,     -999.0,9,     -999.0,9,     -999.0,9,     -999.0,9,     -999.0,9
33RR20220613,       P02E,     173,          1,         11,         11,2,20220703,       2130,    30.0003,  -129.4568,       4653,     4.7,2,  18.9430,2,  33.4505,2,-999.0000,9,    237.3,2,  -999.0,9, -999.00,9, -999.00,9, -999.00,9, -999.00,9,-999.000,9,-999.000,9,-999.0000,9,  -999.0,9,  -999.0,9,-999.0000,9,  -999.00,9, -999.00,9,  -999.0,9, -999.00,9, -999.00,9,     -999.0,9, 20220703,     2158,  30.0003,-129.4567,     -999.0,9,     -999.0,1,     -999.0,1,     -999.0,9,     -999.0,9,     0.0134,1,     4.6175,1,     -999.0,9,     -999.0,9,     -999.0,9,     -999.0,9,     -999.0,9
33RR20220613,       P02E,     173,          1,         18,         18,2,20220703,       2130,    30.0003,  -129.4568,       4653,     4.7,2,  18.9433,2,  33.4504,2,-999.0000,9,    237.3,2,  -999.0,9, -999.00,9, -999.00,9, -999.00,9, -999.00,9,-999.000,9,-999.000,9,-999.0000,9,  -999.0,9,  -999.0,9,-999.0000,9,  -999.00,9, -999.00,9,  -999.0,9, -999.00,9, -999.00,9,     -999.0,9, 20220703,     2158,  30.0003,-129.4568,    18.9438,2,     -999.0,9,     -999.0,9,     -999.0,9,     -999.0,1,     0.0134,1,     4.6207,1,     -999.0,9,     -999.0,9,     -999.0,9,     -999.0,9,     -999.0,9
33RR20220613,       P02E,     173,          1,         15,         15,2,20220703,       2130,    30.0003,  -129.4568,       4653,     4.8,2,  18.9424,2,  33.4505,2,-999.0000,9,    237.2,2,  -999.0,9, -999.00,9, -999.00,9, -999.00,9, -999.00,9,-999.000,9,-999.000,9,-999.0000,9,  -999.0,9,  -999.0,9,-999.0000,9,  -999.00,9, -999.00,9,  -999.0,9, -999.00,9, -999.00,9,     -999.0,9, 20220703,     2158,  30.0003,-129.4568,     -999.0,9,     -999.0,9,     -999.0,9,     -999.0,1,     -999.0,9,     0.0134,1,     4.6200,1,     -999.0,9,     -999.0,9,     -999.0,9,     -999.0,9,     -999.0,9
33RR20220613,       P02E,     173,          1,         16,         16,2,20220703,       2130,    30.0003,  -129.4568,       4653,     4.9,2,  18.9430,2,  33.4506,2,-999.0000,9,    237.2,2,  -999.0,9, -999.00,9, -999.00,9, -999.00,9, -999.00,9,-999.000,9,-999.000,9,-999.0000,9,  -999.0,9,  -999.0,9,-999.0000,9,  -999.00,9, -999.00,9,  -999.0,9, -999.00,9, -999.00,9,     -999.0,9, 20220703,     2158,  30.0003,-129.4568,     -999.0,9,     -999.0,9,     -999.0,9,     -999.0,1,     -999.0,9,     0.0134,1,     4.6210,1,     -999.0,9,     -999.0,9,     -999.0,9,     -999.0,9,     -999.0,9
33RR20220613,       P02E,     173,          1,         17,         37,2,20220703,       2130,    30.0003,  -129.4568,       4653,     4.9,2,  18.9431,2,  33.4504,2,-999.0000,9,    237.2,2,  -999.0,9, -999.00,9, -999.00,9, -999.00,9, -999.00,9,-999.000,9,-999.000,9,-999.0000,9,  -999.0,9,  -999.0,9,-999.0000,9,  -999.00,9, -999.00,9,  -999.0,9, -999.00,9, -999.00,9,     -999.0,9, 20220703,     2158,  30.0003,-129.4568,     -999.0,9,     -999.0,9,     -999.0,9,     -999.0,9,     -999.0,1,     0.0134,1,     4.6209,1,     -999.0,9,     -999.0,9,     -999.0,9,     -999.0,9,     -999.0,9
33RR20220613,       P02E,     173,          1,         10,         10,2,20220703,       2130,    30.0003,  -129.4568,       4653,     4.9,2,  18.9436,2,  33.4504,2,-999.0000,9,    237.0,2,  -999.0,9, -999.00,9, -999.00,9, -999.00,9, -999.00,9,-999.000,9,-999.000,9,-999.0000,9,  -999.0,9,  -999.0,9,-999.0000,9,  -999.00,9, -999.00,9,  -999.0,9, -999.00,9, -999.00,9,     -999.0,9, 20220703,     2158,  30.0003,-129.4567,     -999.0,9,     -999.0,9,     -999.0,9,     -999.0,9,     -999.0,9,     0.0134,1,     4.6204,1,     -999.0,9,     -999.0,1,     -999.0,9,     -999.0,9,     -999.0,9
33RR20220613,       P02E,     173,          1,          9,          9,2,20220703,       2130,    30.0003,  -129.4568,       4653,     5.0,2,  18.9446,2,  33.4505,2,-999.0000,9,    237.0,2,  -999.0,9, -999.00,9, -999.00,9, -999.00,9, -999.00,9,-999.000,9,-999.000,9,-999.0000,9,  -999.0,9,  -999.0,9,-999.0000,9,  -999.00,9, -999.00,9,  -999.0,9, -999.00,9, -999.00,9,     -999.0,9, 20220703,     2158,  30.0003,-129.4567,    18.9448,2,     -999.0,9,     -999.0,9,     -999.0,9,     -999.0,9,     0.0134,1,     4.6218,1,     -999.0,1,     -999.0,9,     -999.0,1,     -999.0,9,     -999.0,9
33RR20220613,       P02E,     173,          1,          8,          8,2,20220703,       2130,    30.0003,  -129.4568,       4653,    40.5,2,  18.8026,2,  33.5487,2,-999.0000,9,    239.0,2,  -999.0,9, -999.00,9, -999.00,9, -999.00,9, -999.00,9,-999.000,9,-999.000,9,-999.0000,9,  -999.0,9,  -999.0,9,-999.0000,9,  -999.00,9, -999.00,9,  -999.0,9, -999.00,9, -999.00,9,     -999.0,9, 20220703,     2155,  30.0003,-129.4568,    18.8016,2,     -999.0,9,     -999.0,9,     -999.0,9,     -999.0,9,     0.0147,1,     4.6321,1,     -999.0,1,     -999.0,9,     -999.0,1,     -999.0,9,     -999.0,9
33RR20220613,       P02E,     173,          1,          7,          7,2,20220703,       2130,    30.0003,  -129.4568,       4653,    76.6,2,  17.7760,2,  33.6284,2,-999.0000,9,    245.9,2,  -999.0,9, -999.00,9, -999.00,9, -999.00,9, -999.00,9,-999.000,9,-999.000,9,-999.0000,9,  -999.0,9,  -999.0,9,-999.0000,9,  -999.00,9, -999.00,9,  -999.0,9, -999.00,9, -999.00,9,     -999.0,9, 20220703,     2153,  30.0003,-129.4567,    17.7790,2,     -999.0,9,     -999.0,9,     -999.0,9,     -999.0,9,     0.0183,1,     4.6410,1,     -999.0,9,     -999.0,9,     -999.0,1,     -999.0,9,     -999.0,9
33RR20220613,       P02E,     173,          1,          6,          6,2,20220703,       2130,    30.0003,  -129.4568,       4653,    99.3,2,  17.2695,2,  33.5985,2,-999.0000,9,    246.2,2,  -999.0,9, -999.00,9, -999.00,9, -999.00,9, -999.00,9,-999.000,9,-999.000,9,-999.0000,9,  -999.0,9,  -999.0,9,-999.0000,9,  -999.00,9, -999.00,9,  -999.0,9, -999.00,9, -999.00,9,     -999.0,9, 20220703,     2150,  30.0003,-129.4567,     -999.0,9,     -999.0,9,     -999.0,9,     -999.0,9,     -999.0,9,     0.0231,1,     4.6437,1,     -999.0,9,     -999.0,1,     -999.0,9,     -999.0,9,     -999.0,9
33RR20220613,       P02E,     173,          1,          5,          5,2,20220703,       2130,    30.0003,  -129.4568,       4653,   100.0,2,  17.2771,2,  33.5998,2,-999.0000,9,    246.2,2,  -999.0,9, -999.00,9, -999.00,9, -999.00,9, -999.00,9,-999.000,9,-999.000,9,-999.0000,9,  -999.0,9,  -999.0,9,-999.0000,9,  -999.00,9, -999.00,9,  -999.0,9, -999.00,9, -999.00,9,     -999.0,9, 20220703,     2150,  30.0003,-129.4568,    17.2714,2,     -999.0,9,     -999.0,9,     -999.0,9,     -999.0,9,     0.0219,1,     4.6429,1,     -999.0,1,     -999.0,9,     -999.0,1,     -999.0,9,     -999.0,9
33RR20220613,       P02E,     173,          1,          4,          4,2,20220703,       2130,    30.0003,  -129.4568,       4653,   152.3,2,  13.8525,2,  33.3603,2,-999.0000,9,    234.3,2,  -999.0,9, -999.00,9, -999.00,9, -999.00,9, -999.00,9,-999.000,9,-999.000,9,-999.0000,9,  -999.0,9,  -999.0,9,-999.0000,9,  -999.00,9, -999.00,9,  -999.0,9, -999.00,9, -999.00,9,     -999.0,9, 20220703,     2148,  30.0003,-129.4567,    13.8605,2,     -999.0,9,     -999.0,9,     -999.0,9,     -999.0,9,     0.0232,1,     4.6692,1,     -999.0,9,     -999.0,9,     -999.0,1,     -999.0,9,     -999.0,9
33RR20220613,       P02E,     173,          1,          3,          3,2,20220703,       2130,    30.0003,  -129.4568,       4653,   201.5,2,  10.7222,2,  33.4470,2,-999.0000,9,    204.0,2,  -999.0,9, -999.00,9, -999.00,9, -999.00,9, -999.00,9,-999.000,9,-999.000,9,-999.0000,9,  -999.0,9,  -999.0,9,-999.0000,9,  -999.00,9, -999.00,9,  -999.0,9, -999.00,9, -999.00,9,     -999.0,9, 20220703,     2146,  30.0003,-129.4568,    10.7183,2,     -999.0,9,     -999.0,9,     -999.0,9,     -999.0,9,     0.0147,1,     4.6850,1,     -999.0,9,     -999.0,1,     -999.0,1,     -999.0,9,     -999.0,9
33RR20220613,       P02E,     173,          1,          2,          2,2,20220703,       2130,    30.0003,  -129.4568,       4653,   504.0,2,   6.2288,2,  34.1755,2,-999.0000,9,     29.4,2,  -999.0,9, -999.00,9, -999.00,9, -999.00,9, -999.00,9,-999.000,9,-999.000,9,-999.0000,9,  -999.0,9,  -999.0,9,-999.0000,9,  -999.00,9, -999.00,9,  -999.0,9, -999.00,9, -999.00,9,     -999.0,9, 20220703,     2139,  30.0003,-129.4568,     6.2468,2,     -999.0,9,     -999.0,9,     -999.0,9,     -999.0,9,     0.0134,1,     4.6897,1,     -999.0,9,     -999.0,9,     -999.0,1,     -999.0,9,     -999.0,9
33RR20220613,       P02E,     173,          1,          1,          1,2,20220703,       2130,    30.0003,  -129.4568,       4653,  1010.9,2,   3.8972,2,  34.4618,2,-999.0000,9,     25.9,2,  -999.0,9, -999.00,9, -999.00,9, -999.00,9, -999.00,9,-999.000,9,-999.000,9,-999.0000,9,  -999.0,9,  -999.0,9,-999.0000,9,  -999.00,9, -999.00,9,  -999.0,9, -999.00,9, -999.00,9,     -999.0,9, 20220703,     2130,  30.0003,-129.4567,     3.8976,2,     -999.0,9,     -999.0,9,     -999.0,9,     -999.0,9,     0.0134,1,     4.6946,1,     -999.0,9,     -999.0,1,     -999.0,1,     -999.0,9,     -999.0,9