BOTTLE,20230830CCHSIOCBG
EXPOCODE,SECT_ID,STNNBR,CASTNO,SAMPNO,BTLNBR,BTLNBR_FLAG_W,DATE,TIME,LATITUDE,LONGITUDE,DEPTH,CTDPRS,CTDPRS_FLAG_W,CTDTMP,CTDTMP_FLAG_W,CTDSAL,CTDSAL_FLAG_W,SALNTY,SALNTY_FLAG_W,CTDOXY,CTDOXY_FLAG_W,OXYGEN,OXYGEN_FLAG_W,SILCAT,SILCAT_FLAG_W,NITRAT,NITRAT_FLAG_W,NITRIT,NITRIT_FLAG_W,PHSPHT,PHSPHT_FLAG_W,CFC-11,CFC-11_FLAG_W,CFC-12,CFC-12_FLAG_W,SF6,SF6_FLAG_W,TCARBN,TCARBN_FLAG_W,ALKALI,ALKALI_FLAG_W,PH_TOT,PH_TOT_FLAG_W,PH_TMP,PH_TMP_FLAG_W,DELC13,DELC13_FLAG_W,DELC14,DELC14_FLAG_W,DOC,DOC_FLAG_W,TDN,TDN_FLAG_W,N2O,N2O_FLAG_W,BTL_DATE,BTL_TIME,BTL_LAT,BTL_LON,REFTMP,REFTMP_FLAG_W,POC,POC_FLAG_W,PON,PON_FLAG_W,POP,POP_FLAG_W,PCOD,PCOD_FLAG_W,CTDFLUOR,CTDFLUOR_FLAG_W,CTDXMISS,CTDXMISS_FLAG_W,HPLC,HPLC_FLAG_W,DNA,DNA_FLAG_W,FCM,FCM_FLAG_W,IMAGES,IMAGES_FLAG_W,VIRAL_ABUNDANCE,VIRAL_ABUNDANCE_FLAG_W
,,,,,,,,,,,METERS,DBAR,,ITS-90,,PSS-78,,PSS-78,,UMOL/KG,,UMOL/KG,,UMOL/KG,,UMOL/KG,,UMOL/KG,,UMOL/KG,,PMOL/KG,,PMOL/KG,,FMOL/KG,,UMOL/KG,,UMOL/KG,,,,DEG C,,/MILLE,,/MILLE,,UMOL/KG,,UMOL/KG,,NMOL/KG,,,,,,ITS-90,,UG/L,,UG/L,,UG/L,,UG/L,,VOLTS,,VOLTS,,,,,,,,,,,
33RR20220613,       P02E,     150,          1,          4,          4,2,20220627,       0623,    29.9997,  -142.7371,       4931,  4373.4,2,   1.4908,2,  34.6855,2,  34.6855,2,    149.6,2,   149.6,2,  156.00,2,   36.14,2,    0.00,2,    2.49,2,   0.005,2,   0.005,2,   0.0000,2,  -999.0,9,  -999.0,9,-999.0000,9,  -999.00,9, -999.00,1,  -999.0,1, -999.00,1, -999.00,1,       21.8,2, 20220627,      638,  29.9997,-142.7371,     1.4906,2,     -999.0,9,     -999.0,9,     -999.0,9,     -999.0,9,     0.0121,1,     4.7031,1,     -999.0,9,     -999.0,9,     -999.0,9,     -999.0,9,     -999.0,9
33RR20220613,       P02E,     150,          1,          3,          3,2,20220627,       0623,    29.9997,  -142.7371,       4931,  4630.1,2,   1.5085,2,  34.6868,3,  34.6889,2,    152.5,2,   152.5,2,  153.46,2,   36.02,2,    0.00,2,    2.47,2,-999.000,5,-999.000,5,-999.0000,5,  2328.6,6,  2422.3,2,   7.5807,2,    24.96,2, -999.00,1,  -999.0,1, -999.00,1, -999.00,1,     -999.0,5, 20220627,      632,  29.9997,-142.7371,     1.5084,2,     -999.0,9,     -999.0,9,     -999.0,9,     -999.0,9,     0.0122,1,     4.7023,1,     -999.0,9,     -999.0,9,     -999.0,9,     -999.0,9,     -999.0,9
33RR20220613,       P02E,     150,          1,          2,          2,2,20220627,       0623,    29.9997,  -142.7371,       4931,  4887.8,2,   1.5376,2,  34.6871,2,  34.6869,2,    153.2,2,   153.4,2,  154.14,2,   36.14,2,    0.00,2,    2.48,2,   0.005,2,   0.012,2,   0.0000,2,  2326.4,2,  2423.4,6,   7.5804,2,    25.06,2, -999.00,1,  -999.0,1, -999.00,1, -999.00,1,       21.4,2, 20220627,      627,  29.9998,-142.7371,     1.5375,2,     -999.0,9,     -999.0,9,     -999.0,9,     -999.0,9,     0.0122,1,     4.7016,1,     -999.0,9,     -999.0,9,     -999.0,9,     -999.0,9,     -999.0,9
33RR20220613,       P02E,     150,          1,          1,          1,2,20220627,       0623,    29.9997,  -142.7371,       4931,  5012.0,2,   1.5516,2,  34.6872,2,  34.6865,2,    153.6,2,   153.7,2,  153.36,2,   36.11,2,    0.00,2,    2.48,2,   0.009,2,   0.022,2,   0.0000,2,  2327.1,2,  2422.9,2,   7.5802,2,    25.02,2, -999.00,1,  -999.0,1, -999.00,1, -999.00,1,       21.8,2, 20220627,      623,  29.9997,-142.7371,     1.5515,2,     -999.0,9,     -999.0,9,     -999.0,9,     -999.0,9,     0.0129,1,     4.7016,1,     -999.0,9,     -999.0,9,     -999.0,9,     -999.0,9,     -999.0,9