BOTTLE,20230830CCHSIOCBG
EXPOCODE,SECT_ID,STNNBR,CASTNO,SAMPNO,BTLNBR,BTLNBR_FLAG_W,DATE,TIME,LATITUDE,LONGITUDE,DEPTH,CTDPRS,CTDPRS_FLAG_W,CTDTMP,CTDTMP_FLAG_W,CTDSAL,CTDSAL_FLAG_W,SALNTY,SALNTY_FLAG_W,CTDOXY,CTDOXY_FLAG_W,OXYGEN,OXYGEN_FLAG_W,SILCAT,SILCAT_FLAG_W,NITRAT,NITRAT_FLAG_W,NITRIT,NITRIT_FLAG_W,PHSPHT,PHSPHT_FLAG_W,CFC-11,CFC-11_FLAG_W,CFC-12,CFC-12_FLAG_W,SF6,SF6_FLAG_W,TCARBN,TCARBN_FLAG_W,ALKALI,ALKALI_FLAG_W,PH_TOT,PH_TOT_FLAG_W,PH_TMP,PH_TMP_FLAG_W,DELC13,DELC13_FLAG_W,DELC14,DELC14_FLAG_W,DOC,DOC_FLAG_W,TDN,TDN_FLAG_W,N2O,N2O_FLAG_W,BTL_DATE,BTL_TIME,BTL_LAT,BTL_LON,REFTMP,REFTMP_FLAG_W,POC,POC_FLAG_W,PON,PON_FLAG_W,POP,POP_FLAG_W,PCOD,PCOD_FLAG_W,CTDFLUOR,CTDFLUOR_FLAG_W,CTDXMISS,CTDXMISS_FLAG_W,HPLC,HPLC_FLAG_W,DNA,DNA_FLAG_W,FCM,FCM_FLAG_W,IMAGES,IMAGES_FLAG_W,VIRAL_ABUNDANCE,VIRAL_ABUNDANCE_FLAG_W
,,,,,,,,,,,METERS,DBAR,,ITS-90,,PSS-78,,PSS-78,,UMOL/KG,,UMOL/KG,,UMOL/KG,,UMOL/KG,,UMOL/KG,,UMOL/KG,,PMOL/KG,,PMOL/KG,,FMOL/KG,,UMOL/KG,,UMOL/KG,,,,DEG C,,/MILLE,,/MILLE,,UMOL/KG,,UMOL/KG,,NMOL/KG,,,,,,ITS-90,,UG/L,,UG/L,,UG/L,,UG/L,,VOLTS,,VOLTS,,,,,,,,,,,
33RR20220613,       P02E,     166,          1,         36,         36,2,20220701,       2148,    30.0003,  -133.4983,       4600,     4.1,2,  20.3104,2,  33.6176,2,  33.6085,2,    233.4,2,   232.7,2,    1.37,2,    0.00,2,    0.00,2,    0.21,2,   2.019,2,   1.244,2,   2.0138,2,  2017.8,2,  2242.4,2,   7.9297,2,    25.03,2, -999.00,9,  -999.0,9, -999.00,1, -999.00,1,        7.8,2, 20220701,     2355,  30.0003,-133.4983,    20.3145,2,     -999.0,9,     -999.0,9,     -999.0,9,     -999.0,9,     0.0134,1,     4.6280,1,     -999.0,9,     -999.0,9,     -999.0,9,     -999.0,9,     -999.0,9
33RR20220613,       P02E,     166,          1,         35,         35,2,20220701,       2148,    30.0003,  -133.4983,       4600,    20.5,2,  20.1721,2,  33.6120,2,  33.6064,2,    233.5,2,   233.7,2,    1.37,2,    0.00,2,    0.00,2,    0.21,2,   2.010,2,   1.246,2,   2.0922,2,  2018.1,2,  2242.1,2,   7.9292,2,    25.04,2, -999.00,9,  -999.0,9, -999.00,1, -999.00,1,        7.8,2, 20220701,     2354,  30.0003,-133.4983,    20.1642,2,     -999.0,9,     -999.0,9,     -999.0,9,     -999.0,9,     0.0134,1,     4.6239,1,     -999.0,9,     -999.0,9,     -999.0,9,     -999.0,9,     -999.0,9
33RR20220613,       P02E,     166,          1,         34,         34,2,20220701,       2148,    30.0003,  -133.4983,       4600,    40.9,2,  18.3821,2,  33.6093,2,  33.5984,2,    249.4,2,   249.6,2,    1.37,2,    0.00,2,    0.00,2,    0.19,2,   2.268,2,   1.371,2,   2.2564,2,  2015.0,6,  2241.0,2,   7.9306,2,    25.03,2, -999.00,9,  -999.0,9, -999.00,1, -999.00,1,        8.3,2, 20220701,     2352,  30.0003,-133.4983,    18.3808,2,     -999.0,9,     -999.0,9,     -999.0,9,     -999.0,9,     0.0146,1,     4.6245,1,     -999.0,9,     -999.0,9,     -999.0,9,     -999.0,9,     -999.0,9
33RR20220613,       P02E,     166,          1,         33,         33,2,20220701,       2148,    30.0003,  -133.4983,       4600,    66.0,2,  17.4429,2,  33.6220,2,  33.6123,2,    252.5,2,   250.2,2,    1.37,2,    0.00,2,    0.00,2,    0.19,2,   2.277,2,   1.387,2,   2.1936,2,  2014.6,2,  2240.8,2,   7.9271,2,    25.02,2, -999.00,9,  -999.0,9, -999.00,1, -999.00,1,        8.5,2, 20220701,     2349,  30.0003,-133.4983,    17.4413,2,     -999.0,9,     -999.0,9,     -999.0,9,     -999.0,9,     0.0159,1,     4.6319,1,     -999.0,9,     -999.0,9,     -999.0,9,     -999.0,9,     -999.0,9
33RR20220613,       P02E,     166,          1,         32,         32,2,20220701,       2148,    30.0003,  -133.4983,       4600,    91.6,2,  17.4416,2,  33.8271,2,  33.8290,2,    245.6,2,   245.5,2,    1.56,2,    0.00,2,    0.00,2,    0.14,2,-999.000,9,-999.000,9,-999.0000,9,  2024.5,2,  2249.2,2,   7.9300,2,    25.02,2, -999.00,9,  -999.0,9, -999.00,1, -999.00,1,     -999.0,9, 20220701,     2347,  30.0003,-133.4983,    17.4399,2,     -999.0,9,     -999.0,9,     -999.0,9,     -999.0,9,     0.0187,1,     4.6408,1,     -999.0,9,     -999.0,9,     -999.0,9,     -999.0,9,     -999.0,9
33RR20220613,       P02E,     166,          1,         31,         31,2,20220701,       2148,    30.0003,  -133.4983,       4600,   136.7,2,  15.9273,2,  33.7864,2,  33.7791,2,    237.5,2,   238.5,2,    2.15,2,    0.25,2,    0.10,2,    0.20,2,   2.377,2,   1.452,2,   2.2303,2,  2032.2,2,  2240.5,6,   7.8968,2,    25.02,2, -999.00,9,  -999.0,9, -999.00,1, -999.00,1,        9.8,2, 20220701,     2345,  30.0003,-133.4983,    15.9245,2,     -999.0,9,     -999.0,9,     -999.0,9,     -999.0,9,     0.0293,1,     4.6625,1,     -999.0,9,     -999.0,9,     -999.0,9,     -999.0,9,     -999.0,9
33RR20220613,       P02E,     166,          1,         30,         17,2,20220701,       2148,    30.0003,  -133.4983,       4600,   186.6,2,  11.7641,2,  33.5464,2,  33.5378,2,    220.0,2,   219.2,2,    7.24,2,    8.04,2,    0.00,2,    0.72,2,-999.000,9,-999.000,9,-999.0000,9,  2075.0,2,  2224.5,2,   7.7628,2,    25.02,2, -999.00,9,  -999.0,9, -999.00,1, -999.00,1,     -999.0,9, 20220701,     2343,  30.0003,-133.4983,    11.7633,2,     -999.0,9,     -999.0,9,     -999.0,9,     -999.0,9,     0.0167,1,     4.6819,1,     -999.0,9,     -999.0,9,     -999.0,9,     -999.0,9,     -999.0,9
33RR20220613,       P02E,     166,          1,         29,         29,2,20220701,       2148,    30.0003,  -133.4983,       4600,   236.9,2,   9.7348,2,  33.8599,2,  33.8531,2,    192.2,2,   191.9,2,   17.41,2,   16.73,2,    0.00,2,    1.22,2,   3.016,2,   1.843,2,   2.0882,2,  2128.9,2,  2242.8,2,   7.6670,2,    25.02,2, -999.00,9,  -999.0,9, -999.00,1, -999.00,1,       18.3,2, 20220701,     2339,  30.0003,-133.4983,     9.7343,2,     -999.0,9,     -999.0,9,     -999.0,9,     -999.0,9,     0.0122,1,     4.6901,1,     -999.0,9,     -999.0,9,     -999.0,9,     -999.0,9,     -999.0,9
33RR20220613,       P02E,     166,          1,         28,         28,2,20220701,       2148,    30.0003,  -133.4983,       4600,   287.0,2,   8.8185,2,  33.9801,2,  33.9800,2,    174.7,2,   174.4,2,   26.31,2,   21.04,2,    0.00,2,    1.49,2,   2.987,2,   1.796,2,   1.7244,2,  2156.8,2,  2255.0,2,   7.6209,2,    25.02,2, -999.00,9,  -999.0,9, -999.00,1, -999.00,1,       24.0,2, 20220701,     2338,  30.0003,-133.4983,     8.8427,2,     -999.0,9,     -999.0,9,     -999.0,9,     -999.0,9,     0.0122,1,     4.6911,1,     -999.0,9,     -999.0,9,     -999.0,9,     -999.0,9,     -999.0,9
33RR20220613,       P02E,     166,          1,         27,         27,2,20220701,       2148,    30.0003,  -133.4983,       4600,   338.6,2,   7.9993,2,  34.0090,2,  34.0057,2,    144.2,3,   142.7,2,   37.16,2,   25.91,2,    0.00,2,    1.82,2,   2.783,2,   1.649,2,   1.2967,2,  2191.3,2,  2266.2,2,   7.5493,2,    25.02,2, -999.00,9,  -999.0,9, -999.00,1, -999.00,1,       28.6,2, 20220701,     2336,  30.0003,-133.4983,     7.9954,2,     -999.0,9,     -999.0,9,     -999.0,9,     -999.0,9,     0.0122,1,     4.6920,1,     -999.0,9,     -999.0,9,     -999.0,9,     -999.0,9,     -999.0,9
33RR20220613,       P02E,     166,          1,         26,         26,2,20220701,       2148,    30.0003,  -133.4983,       4600,   388.9,2,   6.8266,2,  34.0015,2,  34.0021,2,    108.3,2,   108.6,2,   51.54,2,   31.20,2,    0.00,2,    2.21,2,   2.399,2,   1.393,2,   0.8411,2,  -999.0,9,  -999.0,9,-999.0000,9,  -999.00,9, -999.00,9,  -999.0,9, -999.00,1, -999.00,1,       34.0,2, 20220701,     2334,  30.0003,-133.4983,     6.7910,2,     -999.0,9,     -999.0,9,     -999.0,9,     -999.0,9,     0.0132,1,     4.6926,1,     -999.0,9,     -999.0,9,     -999.0,9,     -999.0,9,     -999.0,9
33RR20220613,       P02E,     166,          1,         25,         25,2,20220701,       2148,    30.0003,  -133.4983,       4600,   438.1,2,   6.3467,2,  34.0239,2,  34.0231,2,     78.8,3,    79.6,2,   59.85,2,   34.64,2,    0.00,2,    2.47,2,   2.052,2,   1.198,2,   0.6618,2,  -999.0,9,  -999.0,9,-999.0000,9,  -999.00,9, -999.00,9,  -999.0,9, -999.00,1, -999.00,1,       38.7,2, 20220701,     2331,  30.0003,-133.4983,     6.3293,2,     -999.0,9,     -999.0,9,     -999.0,9,     -999.0,9,     0.0134,1,     4.6924,1,     -999.0,9,     -999.0,9,     -999.0,9,     -999.0,9,     -999.0,9
33RR20220613,       P02E,     166,          1,         24,         24,2,20220701,       2148,    30.0003,  -133.4983,       4600,   488.7,2,   5.8318,2,  34.0539,2,  34.0550,2,     58.6,2,    59.1,2,   69.04,2,   37.28,2,    0.00,2,    2.67,2,   1.605,2,   0.917,2,   0.4537,2,  -999.0,9,  -999.0,9,-999.0000,9,  -999.00,9, -999.00,9,  -999.0,9, -999.00,1, -999.00,1,       41.5,2, 20220701,     2330,  30.0003,-133.4983,     5.8288,2,     -999.0,9,     -999.0,9,     -999.0,9,     -999.0,9,     0.0134,1,     4.6933,1,     -999.0,9,     -999.0,9,     -999.0,9,     -999.0,9,     -999.0,9
33RR20220613,       P02E,     166,          1,         23,         23,2,20220701,       2148,    30.0003,  -133.4983,       4600,   570.2,2,   5.1921,2,  34.1316,2,  34.1305,2,     34.0,3,    34.6,2,   84.09,2,   40.33,2,    0.00,2,    2.90,2,   0.914,2,   0.513,2,   0.2323,2,  2311.7,2,  2310.1,2,   7.3185,2,    25.03,2, -999.00,9,  -999.0,9, -999.00,1, -999.00,1,       47.2,2, 20220701,     2327,  30.0003,-133.4983,     5.1909,2,     -999.0,9,     -999.0,9,     -999.0,9,     -999.0,9,     0.0134,1,     4.6941,1,     -999.0,9,     -999.0,9,     -999.0,9,     -999.0,9,     -999.0,9
33RR20220613,       P02E,     166,          1,         22,         22,2,20220701,       2148,    30.0003,  -133.4983,       4600,   670.9,2,   4.7442,2,  34.2306,2,  34.2315,2,     17.2,2,    17.0,2,   97.29,2,   42.24,2,    0.00,2,    3.07,2,   0.352,2,   0.199,2,   0.1908,2,  2338.6,2,  2327.5,2,   7.2992,2,    25.01,2, -999.00,9,  -999.0,9, -999.00,1, -999.00,1,       53.2,2, 20220701,     2324,  30.0003,-133.4983,     4.7434,2,     -999.0,9,     -999.0,9,     -999.0,9,     -999.0,9,     0.0134,1,     4.6945,1,     -999.0,9,     -999.0,9,     -999.0,9,     -999.0,9,     -999.0,9
33RR20220613,       P02E,     166,          1,         21,         21,2,20220701,       2148,    30.0003,  -133.4983,       4600,   771.0,2,   4.3913,2,  34.3066,2,  34.3064,2,     14.2,3,    13.8,2,  106.47,2,   43.02,2,    0.00,2,    3.13,2,   0.117,2,   0.073,2,   0.0885,2,  2349.2,2,  2343.8,2,   7.3049,2,    24.96,2, -999.00,9,  -999.0,9, -999.00,1, -999.00,1,       55.7,2, 20220701,     2321,  30.0003,-133.4983,     4.3942,2,     -999.0,9,     -999.0,9,     -999.0,9,     -999.0,9,     0.0134,1,     4.6946,1,     -999.0,9,     -999.0,9,     -999.0,9,     -999.0,9,     -999.0,9
33RR20220613,       P02E,     166,          1,         20,         20,2,20220701,       2148,    30.0003,  -133.4983,       4600,   873.3,2,   4.0908,2,  34.3850,2,  34.3843,2,     18.1,3,    17.7,2,  113.80,2,   43.31,2,    0.00,2,    3.14,2,   0.033,2,   0.024,2,   0.0875,2,  -999.0,9,  -999.0,9,-999.0000,9,  -999.00,9, -999.00,9,  -999.0,9, -999.00,1, -999.00,1,       54.2,2, 20220701,     2318,  30.0003,-133.4983,     4.0978,2,     -999.0,9,     -999.0,9,     -999.0,9,     -999.0,9,     0.0134,1,     4.6949,1,     -999.0,9,     -999.0,9,     -999.0,9,     -999.0,9,     -999.0,9
33RR20220613,       P02E,     166,          1,         19,         39,2,20220701,       2148,    30.0003,  -133.4983,       4600,   973.8,2,   3.8087,2,  34.4455,2,  34.4442,2,     26.7,2,    26.9,2,  119.95,2,   43.14,2,    0.00,2,    3.11,2,   0.014,2,   0.010,2,   0.0000,2,  2360.5,2,  2368.9,2,   7.3468,2,    25.00,2, -999.00,9,  -999.0,9, -999.00,1, -999.00,1,       50.8,2, 20220701,     2314,  30.0003,-133.4983,     3.8028,2,     -999.0,9,     -999.0,9,     -999.0,9,     -999.0,9,     0.0134,1,     4.6958,1,     -999.0,9,     -999.0,9,     -999.0,9,     -999.0,9,     -999.0,9
33RR20220613,       P02E,     166,          1,         18,         18,2,20220701,       2148,    30.0003,  -133.4983,       4600,  1074.9,2,   3.6077,2,  34.4901,2,  34.4881,2,     33.9,2,    33.7,2,  124.25,2,   42.95,2,    0.00,2,    3.09,2,   0.010,2,   0.010,2,   0.0000,2,  2361.7,2,  2376.3,2,   7.3635,2,    25.03,2, -999.00,9,  -999.0,9, -999.00,1, -999.00,1,       47.4,2, 20220701,     2310,  30.0003,-133.4983,     3.6143,2,     -999.0,9,     -999.0,9,     -999.0,9,     -999.0,9,     0.0134,1,     4.6958,1,     -999.0,9,     -999.0,9,     -999.0,9,     -999.0,9,     -999.0,9
33RR20220613,       P02E,     166,          1,         17,         37,2,20220701,       2148,    30.0003,  -133.4983,       4600,  1176.4,2,   3.3729,2,  34.5147,2,  34.5137,2,     40.7,2,    40.7,2,  129.33,2,   42.86,2,    0.00,2,    3.05,2,   0.006,2,   0.005,2,   0.0000,2,  2363.2,2,  2383.2,2,   7.3788,2,    25.00,2, -999.00,9,  -999.0,9, -999.00,1, -999.00,1,       44.5,2, 20220701,     2308,  30.0003,-133.4983,     3.3765,2,     -999.0,9,     -999.0,9,     -999.0,9,     -999.0,9,     0.0134,1,     4.6969,1,     -999.0,9,     -999.0,9,     -999.0,9,     -999.0,9,     -999.0,9
33RR20220613,       P02E,     166,          1,         16,         16,2,20220701,       2148,    30.0003,  -133.4983,       4600,  1277.5,2,   3.1506,2,  34.5296,2,  34.5286,2,     44.6,3,    44.1,2,  135.09,2,   42.68,2,    0.00,2,    3.04,2,   0.006,2,   0.004,2,   0.0000,2,  -999.0,9,  -999.0,9,-999.0000,9,  -999.00,9, -999.00,9,  -999.0,9, -999.00,1, -999.00,1,       42.4,2, 20220701,     2305,  30.0003,-133.4983,     3.1508,2,     -999.0,9,     -999.0,9,     -999.0,9,     -999.0,9,     0.0133,1,     4.6972,1,     -999.0,9,     -999.0,9,     -999.0,9,     -999.0,9,     -999.0,9
33RR20220613,       P02E,     166,          1,         15,         15,2,20220701,       2148,    30.0003,  -133.4983,       4600,  1379.1,2,   2.9478,2,  34.5476,2,  34.5463,2,     49.5,2,    49.6,2,  139.49,2,   42.39,2,    0.00,2,    3.01,2,   0.009,2,   0.006,2,   0.0000,2,  2367.5,2,  2394.6,2,   7.3951,2,    25.04,2, -999.00,9,  -999.0,9, -999.00,1, -999.00,1,       39.9,2, 20220701,     2302,  30.0003,-133.4983,     2.9496,2,     -999.0,9,     -999.0,9,     -999.0,9,     -999.0,9,     0.0133,1,     4.6981,1,     -999.0,9,     -999.0,9,     -999.0,9,     -999.0,9,     -999.0,9
33RR20220613,       P02E,     166,          1,         14,         42,2,20220701,       2148,    30.0003,  -133.4983,       4600,  1480.8,2,   2.7961,2,  34.5600,2,  34.5600,2,     54.2,2,    54.4,2,  143.79,2,   42.19,2,    0.00,2,    2.99,2,-999.000,9,-999.000,9,-999.0000,9,  -999.0,9,  -999.0,9,-999.0000,9,  -999.00,9, -999.00,9,  -999.0,9, -999.00,1, -999.00,1,     -999.0,9, 20220701,     2259,  30.0003,-133.4983,     2.7947,2,     -999.0,9,     -999.0,9,     -999.0,9,     -999.0,9,     0.0134,1,     4.6983,1,     -999.0,9,     -999.0,9,     -999.0,9,     -999.0,9,     -999.0,9
33RR20220613,       P02E,     166,          1,         13,         13,2,20220701,       2148,    30.0003,  -133.4983,       4600,  1582.2,2,   2.6391,2,  34.5714,2,  34.5716,2,     58.0,2,    58.0,2,  147.31,2,   41.92,2,    0.00,2,    2.96,2,   0.004,2,   0.003,2,   0.0000,2,  2371.9,2,  2403.0,2,   7.4109,2,    24.95,2, -999.00,9,  -999.0,9, -999.00,1, -999.00,1,       37.7,2, 20220701,     2256,  30.0003,-133.4983,     2.6401,2,     -999.0,9,     -999.0,9,     -999.0,9,     -999.0,9,     0.0134,1,     4.6985,1,     -999.0,9,     -999.0,9,     -999.0,9,     -999.0,9,     -999.0,9
33RR20220613,       P02E,     166,          1,         12,         12,2,20220701,       2148,    30.0003,  -133.4983,       4600,  1754.7,2,   2.3879,2,  34.5911,2,  34.5893,2,     65.5,2,    65.5,2,  154.93,2,   41.49,2,    0.00,2,    2.92,2,-999.000,9,-999.000,9,-999.0000,9,  -999.0,9,  -999.0,9,-999.0000,9,  -999.00,9, -999.00,9,  -999.0,9, -999.00,1, -999.00,1,     -999.0,9, 20220701,     2252,  30.0002,-133.4983,     2.3877,2,     -999.0,9,     -999.0,9,     -999.0,9,     -999.0,9,     0.0134,1,     4.6994,1,     -999.0,9,     -999.0,9,     -999.0,9,     -999.0,9,     -999.0,9
33RR20220613,       P02E,     166,          1,         11,         11,2,20220701,       2148,    30.0003,  -133.4983,       4600,  1958.4,2,   2.1469,2,  34.6110,2,  34.6109,2,     75.3,2,    75.6,2,  161.28,2,   40.93,2,    0.00,2,    2.88,2,   0.003,2,   0.000,2,   0.0000,2,  2371.1,2,  2415.7,2,   7.4435,2,    25.01,2, -999.00,9,  -999.0,9, -999.00,1, -999.00,1,       32.4,2, 20220701,     2246,  30.0003,-133.4983,     2.1467,2,     -999.0,9,     -999.0,9,     -999.0,9,     -999.0,9,     0.0134,1,     4.6998,1,     -999.0,9,     -999.0,9,     -999.0,9,     -999.0,9,     -999.0,9
33RR20220613,       P02E,     166,          1,         10,         10,2,20220701,       2148,    30.0003,  -133.4983,       4600,  2191.4,2,   1.9314,2,  34.6297,2,  34.6299,2,     86.8,2,    87.0,2,  166.46,2,   40.15,2,    0.00,2,    2.82,2,-999.000,9,-999.000,9,-999.0000,9,  2370.1,2,  2423.0,2,   7.4650,2,    25.01,2, -999.00,9,  -999.0,9, -999.00,1, -999.00,1,     -999.0,9, 20220701,     2241,  30.0003,-133.4983,     1.9313,2,     -999.0,9,     -999.0,9,     -999.0,9,     -999.0,9,     0.0134,1,     4.7007,1,     -999.0,9,     -999.0,9,     -999.0,9,     -999.0,9,     -999.0,9
33RR20220613,       P02E,     166,          1,          9,          9,2,20220701,       2148,    30.0003,  -133.4983,       4600,  2445.3,2,   1.7817,2,  34.6439,2,  34.6443,2,     97.1,2,    97.2,2,  168.80,2,   39.49,2,    0.00,2,    2.76,2,   0.004,2,   0.003,2,   0.0000,2,  2365.5,2,  2428.0,2,   7.4851,2,    24.99,2, -999.00,9,  -999.0,9, -999.00,1, -999.00,1,       28.0,2, 20220701,     2235,  30.0003,-133.4983,     1.7812,2,     -999.0,9,     -999.0,9,     -999.0,9,     -999.0,9,     0.0132,1,     4.7010,1,     -999.0,9,     -999.0,9,     -999.0,9,     -999.0,9,     -999.0,9
33RR20220613,       P02E,     166,          1,          8,          8,2,20220701,       2148,    30.0003,  -133.4983,       4600,  2700.0,2,   1.6720,2,  34.6548,2,  34.6547,2,    106.9,2,   106.9,2,  169.78,2,   38.88,2,    0.00,2,    2.71,2,-999.000,9,-999.000,9,-999.0000,9,  -999.0,9,  -999.0,9,-999.0000,9,  -999.00,9, -999.00,9,  -999.0,9, -999.00,1, -999.00,1,     -999.0,9, 20220701,     2230,  30.0003,-133.4983,     1.6719,2,     -999.0,9,     -999.0,9,     -999.0,9,     -999.0,9,     0.0129,1,     4.7019,1,     -999.0,9,     -999.0,9,     -999.0,9,     -999.0,9,     -999.0,9
33RR20220613,       P02E,     166,          1,          7,          7,2,20220701,       2148,    30.0003,  -133.4983,       4600,  2956.0,2,   1.5922,2,  34.6636,2,  34.6622,2,    115.3,2,   115.5,2,  171.25,2,   38.43,2,    0.00,2,    2.66,2,   0.005,2,   0.005,2,   0.0000,2,  2356.8,2,  2431.2,2,   7.5197,2,    25.02,2, -999.00,9,  -999.0,9, -999.00,1, -999.00,1,       25.3,2, 20220701,     2224,  30.0002,-133.4983,     1.5913,2,     -999.0,9,     -999.0,9,     -999.0,9,     -999.0,9,     0.0123,1,     4.7020,1,     -999.0,9,     -999.0,9,     -999.0,9,     -999.0,9,     -999.0,9
33RR20220613,       P02E,     166,          1,          6,          6,2,20220701,       2148,    30.0003,  -133.4983,       4600,  3246.6,2,   1.5197,2,  34.6720,2,  34.6704,2,    124.8,2,   124.8,2,  171.25,2,   37.87,2,    0.00,2,    2.61,2,-999.000,9,-999.000,9,-999.0000,9,  -999.0,9,  -999.0,9,-999.0000,9,  -999.00,9, -999.00,9,  -999.0,9, -999.00,1, -999.00,1,     -999.0,9, 20220701,     2217,  30.0003,-133.4983,     1.5197,2,     -999.0,9,     -999.0,9,     -999.0,9,     -999.0,9,     0.0122,1,     4.7019,1,     -999.0,9,     -999.0,9,     -999.0,9,     -999.0,9,     -999.0,9
33RR20220613,       P02E,     166,          1,          5,          5,2,20220701,       2148,    30.0003,  -133.4983,       4600,  3553.7,2,   1.4856,2,  34.6785,2,  34.6779,2,    133.5,2,   133.5,2,  168.80,2,   37.26,2,    0.00,2,    2.55,2,   0.006,2,   0.007,2,   0.0000,2,  2346.7,2,  2432.8,2,   7.5529,2,    25.01,2, -999.00,9,  -999.0,9, -999.00,1, -999.00,1,       22.8,2, 20220701,     2212,  30.0003,-133.4983,     1.4855,2,     -999.0,9,     -999.0,9,     -999.0,9,     -999.0,9,     0.0122,1,     4.7024,1,     -999.0,9,     -999.0,9,     -999.0,9,     -999.0,9,     -999.0,9