BOTTLE,20230830CCHSIOCBG
EXPOCODE,SECT_ID,STNNBR,CASTNO,SAMPNO,BTLNBR,BTLNBR_FLAG_W,DATE,TIME,LATITUDE,LONGITUDE,DEPTH,CTDPRS,CTDPRS_FLAG_W,CTDTMP,CTDTMP_FLAG_W,CTDSAL,CTDSAL_FLAG_W,SALNTY,SALNTY_FLAG_W,CTDOXY,CTDOXY_FLAG_W,OXYGEN,OXYGEN_FLAG_W,SILCAT,SILCAT_FLAG_W,NITRAT,NITRAT_FLAG_W,NITRIT,NITRIT_FLAG_W,PHSPHT,PHSPHT_FLAG_W,CFC-11,CFC-11_FLAG_W,CFC-12,CFC-12_FLAG_W,SF6,SF6_FLAG_W,TCARBN,TCARBN_FLAG_W,ALKALI,ALKALI_FLAG_W,PH_TOT,PH_TOT_FLAG_W,PH_TMP,PH_TMP_FLAG_W,DELC13,DELC13_FLAG_W,DELC14,DELC14_FLAG_W,DOC,DOC_FLAG_W,TDN,TDN_FLAG_W,N2O,N2O_FLAG_W,BTL_DATE,BTL_TIME,BTL_LAT,BTL_LON,REFTMP,REFTMP_FLAG_W,POC,POC_FLAG_W,PON,PON_FLAG_W,POP,POP_FLAG_W,PCOD,PCOD_FLAG_W,CTDFLUOR,CTDFLUOR_FLAG_W,CTDXMISS,CTDXMISS_FLAG_W,HPLC,HPLC_FLAG_W,DNA,DNA_FLAG_W,FCM,FCM_FLAG_W,IMAGES,IMAGES_FLAG_W,VIRAL_ABUNDANCE,VIRAL_ABUNDANCE_FLAG_W
,,,,,,,,,,,METERS,DBAR,,ITS-90,,PSS-78,,PSS-78,,UMOL/KG,,UMOL/KG,,UMOL/KG,,UMOL/KG,,UMOL/KG,,UMOL/KG,,PMOL/KG,,PMOL/KG,,FMOL/KG,,UMOL/KG,,UMOL/KG,,,,DEG C,,/MILLE,,/MILLE,,UMOL/KG,,UMOL/KG,,NMOL/KG,,,,,,ITS-90,,UG/L,,UG/L,,UG/L,,UG/L,,VOLTS,,VOLTS,,,,,,,,,,,
33RR20220613,       P02E,     143,          2,          4,          4,2,20220625,       0417,    29.9995,  -146.7779,       4999,  4246.0,2,   1.4743,2,  34.6862,2,  34.6849,2,    149.4,2,   149.8,2,  156.84,2,   36.34,2,    0.00,2,    2.83,4,   0.005,2,   0.008,2,   0.0000,2,  2329.8,2,  2423.1,2,   7.5767,2,    25.04,2, -999.00,9,  -999.0,9, -999.00,9, -999.00,9,       21.0,2, 20220625,      436,  29.9996,-146.7779,     1.4742,2,     -999.0,9,     -999.0,9,     -999.0,9,     -999.0,9,     0.0123,1,     4.7045,1,     -999.0,9,     -999.0,9,     -999.0,9,     -999.0,9,     -999.0,9
33RR20220613,       P02E,     143,          2,          3,          3,2,20220625,       0417,    29.9995,  -146.7779,       4999,  4554.4,2,   1.4925,2,  34.6879,2,  34.6881,2,    152.9,2,   152.9,2,  154.11,2,   36.04,2,    0.00,2,    2.79,4,   0.005,2,   0.006,2,   0.0000,2,  2324.7,2,  2422.5,6,   7.5809,2,    25.02,2, -999.00,9,  -999.0,9, -999.00,9, -999.00,9,       21.3,2, 20220625,      429,  29.9995,-146.7779,     1.4925,2,     -999.0,9,     -999.0,9,     -999.0,9,     -999.0,9,     0.0122,1,     4.7043,1,     -999.0,9,     -999.0,9,     -999.0,9,     -999.0,9,     -999.0,9
33RR20220613,       P02E,     143,          2,          2,          2,2,20220625,       0417,    29.9995,  -146.7779,       4999,  4888.8,2,   1.5198,2,  34.6888,2,  34.6893,2,    155.6,2,   156.1,2,  151.27,2,   35.85,2,    0.00,2,    2.78,4,   0.007,2,   0.006,2,   0.0000,2,  2323.1,2,  2421.9,6,   7.5839,2,    25.04,2, -999.00,9,  -999.0,9, -999.00,9, -999.00,9,       21.3,2, 20220625,      423,  29.9995,-146.7779,     1.5198,2,     -999.0,9,     -999.0,9,     -999.0,9,     -999.0,9,     0.0122,1,     4.7037,1,     -999.0,9,     -999.0,9,     -999.0,9,     -999.0,9,     -999.0,9
33RR20220613,       P02E,     143,          2,          1,          1,2,20220625,       0417,    29.9995,  -146.7779,       4999,  5084.9,2,   1.5382,2,  34.6893,2,  34.6901,2,    157.1,2,   157.2,2,  149.71,2,   35.71,2,    0.00,2,    2.77,4,   0.010,6,   0.009,6,   0.0000,6,  2320.5,6,  2419.5,2,   7.5847,2,    25.06,2, -999.00,9,  -999.0,9, -999.00,9, -999.00,9,       21.2,2, 20220625,      417,  29.9995,-146.7778,     1.5384,2,     -999.0,9,     -999.0,9,     -999.0,9,     -999.0,9,     0.0122,1,     4.7030,1,     -999.0,9,     -999.0,9,     -999.0,9,     -999.0,9,     -999.0,9