BOTTLE,20230830CCHSIOCBG
EXPOCODE,SECT_ID,STNNBR,CASTNO,SAMPNO,BTLNBR,BTLNBR_FLAG_W,DATE,TIME,LATITUDE,LONGITUDE,DEPTH,CTDPRS,CTDPRS_FLAG_W,CTDTMP,CTDTMP_FLAG_W,CTDSAL,CTDSAL_FLAG_W,SALNTY,SALNTY_FLAG_W,CTDOXY,CTDOXY_FLAG_W,OXYGEN,OXYGEN_FLAG_W,SILCAT,SILCAT_FLAG_W,NITRAT,NITRAT_FLAG_W,NITRIT,NITRIT_FLAG_W,PHSPHT,PHSPHT_FLAG_W,CFC-11,CFC-11_FLAG_W,CFC-12,CFC-12_FLAG_W,SF6,SF6_FLAG_W,TCARBN,TCARBN_FLAG_W,ALKALI,ALKALI_FLAG_W,PH_TOT,PH_TOT_FLAG_W,PH_TMP,PH_TMP_FLAG_W,DELC13,DELC13_FLAG_W,DELC14,DELC14_FLAG_W,DOC,DOC_FLAG_W,TDN,TDN_FLAG_W,N2O,N2O_FLAG_W,BTL_DATE,BTL_TIME,BTL_LAT,BTL_LON,REFTMP,REFTMP_FLAG_W,POC,POC_FLAG_W,PON,PON_FLAG_W,POP,POP_FLAG_W,PCOD,PCOD_FLAG_W,CTDFLUOR,CTDFLUOR_FLAG_W,CTDXMISS,CTDXMISS_FLAG_W,HPLC,HPLC_FLAG_W,DNA,DNA_FLAG_W,FCM,FCM_FLAG_W,IMAGES,IMAGES_FLAG_W,VIRAL_ABUNDANCE,VIRAL_ABUNDANCE_FLAG_W
,,,,,,,,,,,METERS,DBAR,,ITS-90,,PSS-78,,PSS-78,,UMOL/KG,,UMOL/KG,,UMOL/KG,,UMOL/KG,,UMOL/KG,,UMOL/KG,,PMOL/KG,,PMOL/KG,,FMOL/KG,,UMOL/KG,,UMOL/KG,,,,DEG C,,/MILLE,,/MILLE,,UMOL/KG,,UMOL/KG,,NMOL/KG,,,,,,ITS-90,,UG/L,,UG/L,,UG/L,,UG/L,,VOLTS,,VOLTS,,,,,,,,,,,
33RR20220613,       P02E,     189,          2,          4,          4,2,20220714,       0906,    31.2483,  -120.7516,       4022,  3451.8,2,   1.5686,2,  34.6723,3,  34.6761,2,    125.0,2,   125.3,2,  168.97,2,   37.88,2,    0.00,2,    2.61,2,-999.000,9,-999.000,9,-999.0000,9,  -999.0,9,  -999.0,9,-999.0000,9,  -999.00,9, -999.00,9,  -999.0,9, -999.00,9, -999.00,9,     -999.0,9, 20220714,      919,  31.2482,-120.7516,     1.5685,2,     -999.0,9,     -999.0,9,     -999.0,9,     -999.0,9,     0.0128,1,     4.6800,1,     -999.0,9,     -999.0,9,     -999.0,9,     -999.0,9,     -999.0,9
33RR20220613,       P02E,     189,          2,          3,          3,2,20220714,       0906,    31.2483,  -120.7516,       4022,  3759.6,2,   1.5553,2,  34.6756,2,  34.6767,2,    128.3,2,   128.4,2,  169.07,2,   37.68,2,    0.00,2,    2.59,2,   0.019,2,   0.013,2,   0.0000,2,  2351.9,2,  2433.5,6,   7.5464,2,    25.01,2, -999.00,9,  -999.0,9, -999.00,9, -999.00,9,       25.9,2, 20220714,      913,  31.2482,-120.7516,     1.5552,2,     -999.0,9,     -999.0,9,     -999.0,9,     -999.0,9,     0.0131,1,     4.6789,1,     -999.0,9,     -999.0,9,     -999.0,9,     -999.0,9,     -999.0,9
33RR20220613,       P02E,     189,          2,          2,          2,2,20220714,       0906,    31.2483,  -120.7516,       4022,  3911.5,2,   1.5625,2,  34.6764,2,  34.6765,2,    128.9,2,   128.9,2,  169.36,2,   37.71,2,    0.00,2,    2.57,2,   0.021,2,   0.016,2,   0.0000,2,  2352.0,2,  2434.0,2,   7.5470,2,    24.98,2, -999.00,9,  -999.0,9, -999.00,9, -999.00,9,       26.5,2, 20220714,      910,  31.2482,-120.7516,     1.5628,2,     -999.0,9,     -999.0,9,     -999.0,9,     -999.0,9,     0.0134,1,     4.6763,1,     -999.0,9,     -999.0,9,     -999.0,9,     -999.0,9,     -999.0,9
33RR20220613,       P02E,     189,          2,          1,          1,2,20220714,       0906,    31.2483,  -120.7516,       4022,  4077.1,2,   1.5771,2,  34.6768,2,  34.6765,2,    129.0,2,   129.1,2,  169.66,2,   37.72,2,    0.00,2,    2.57,2,   0.019,2,   0.016,2,   0.0000,2,  2353.5,6,  2435.1,2,   7.5475,2,    24.99,2, -999.00,9,  -999.0,9, -999.00,9, -999.00,9,       27.0,2, 20220714,      906,  31.2482,-120.7516,     1.5772,2,     -999.0,9,     -999.0,9,     -999.0,9,     -999.0,9,     0.0122,1,     4.6660,1,     -999.0,9,     -999.0,9,     -999.0,9,     -999.0,9,     -999.0,9
33RR20220613,       P02E,     188,          3,         15,         15,2,20220714,       1424,    30.9999,  -121.2219,       3892,     5.7,2,  18.5702,2,  33.2670,2,-999.0000,9,    240.7,2,  -999.0,9, -999.00,9, -999.00,9, -999.00,9, -999.00,9,-999.000,9,-999.000,9,-999.0000,9,  -999.0,9,  -999.0,9,-999.0000,9,  -999.00,9, -999.00,9,  -999.0,9, -999.00,9, -999.00,9,     -999.0,9, 20220714,     1450,  30.9999,-121.2219,    18.5697,2,     -999.0,9,     -999.0,9,     -999.0,9,     -999.0,9,     0.0270,1,     4.5885,1,     -999.0,9,     -999.0,9,     -999.0,9,     -999.0,9,     -999.0,9
33RR20220613,       P02E,     188,          3,         11,         11,2,20220714,       1424,    30.9999,  -121.2219,       3892,     5.7,2,  18.5677,2,  33.2667,2,-999.0000,9,    240.6,2,  -999.0,9, -999.00,9, -999.00,9, -999.00,9, -999.00,9,-999.000,9,-999.000,9,-999.0000,9,  -999.0,9,  -999.0,9,-999.0000,9,  -999.00,9, -999.00,9,  -999.0,9, -999.00,9, -999.00,9,     -999.0,9, 20220714,     1450,  30.9999,-121.2219,     -999.0,9,     -999.0,9,     -999.0,9,     -999.0,9,     -999.0,9,     0.0264,1,     4.5890,1,     -999.0,9,     -999.0,9,     -999.0,9,     -999.0,9,     -999.0,9
33RR20220613,       P02E,     188,          3,         19,         39,2,20220714,       1424,    30.9999,  -121.2219,       3892,     5.9,2,  18.5749,2,  33.2662,2,-999.0000,9,    240.6,2,  -999.0,9, -999.00,9, -999.00,9, -999.00,9, -999.00,9,-999.000,9,-999.000,9,-999.0000,9,  -999.0,9,  -999.0,9,-999.0000,9,  -999.00,9, -999.00,9,  -999.0,9, -999.00,9, -999.00,9,     -999.0,9, 20220714,     1451,  30.9999,-121.2219,     -999.0,9,     -999.0,9,     -999.0,9,     -999.0,9,     -999.0,9,     0.0272,1,     4.5866,1,     -999.0,9,     -999.0,9,     -999.0,9,     -999.0,9,     -999.0,9
33RR20220613,       P02E,     188,          3,         16,         16,2,20220714,       1424,    30.9999,  -121.2219,       3892,     5.9,2,  18.5727,2,  33.2669,2,-999.0000,9,    240.7,2,  -999.0,9, -999.00,9, -999.00,9, -999.00,9, -999.00,9,-999.000,9,-999.000,9,-999.0000,9,  -999.0,9,  -999.0,9,-999.0000,9,  -999.00,9, -999.00,9,  -999.0,9, -999.00,9, -999.00,9,     -999.0,9, 20220714,     1450,  30.9999,-121.2219,     -999.0,9,     -999.0,9,     -999.0,9,     -999.0,9,     -999.0,9,     0.0272,1,     4.5860,1,     -999.0,9,     -999.0,9,     -999.0,9,     -999.0,9,     -999.0,9
33RR20220613,       P02E,     188,          3,         14,         42,2,20220714,       1424,    30.9999,  -121.2219,       3892,     5.9,2,  18.5696,2,  33.2670,2,-999.0000,9,    240.6,2,  -999.0,9, -999.00,9, -999.00,9, -999.00,9, -999.00,9,-999.000,9,-999.000,9,-999.0000,9,  -999.0,9,  -999.0,9,-999.0000,9,  -999.00,9, -999.00,9,  -999.0,9, -999.00,9, -999.00,9,     -999.0,9, 20220714,     1450,  30.9999,-121.2219,     -999.0,9,     -999.0,9,     -999.0,9,     -999.0,9,     -999.0,9,     0.0276,1,     4.5894,1,     -999.0,9,     -999.0,9,     -999.0,9,     -999.0,9,     -999.0,9
33RR20220613,       P02E,     188,          3,         13,         13,2,20220714,       1424,    30.9999,  -121.2219,       3892,     5.9,2,  18.5696,2,  33.2672,2,-999.0000,9,    240.6,2,  -999.0,9, -999.00,9, -999.00,9, -999.00,9, -999.00,9,-999.000,9,-999.000,9,-999.0000,9,  -999.0,9,  -999.0,9,-999.0000,9,  -999.00,9, -999.00,9,  -999.0,9, -999.00,9, -999.00,9,     -999.0,9, 20220714,     1450,  30.9999,-121.2219,     -999.0,9,     -999.0,9,     -999.0,9,     -999.0,9,     -999.0,9,     0.0267,1,     4.5876,1,     -999.0,9,     -999.0,9,     -999.0,9,     -999.0,9,     -999.0,9
33RR20220613,       P02E,     188,          3,         17,         37,2,20220714,       1424,    30.9999,  -121.2219,       3892,     5.9,2,  18.5710,2,  33.2668,2,-999.0000,9,    240.6,2,  -999.0,9, -999.00,9, -999.00,9, -999.00,9, -999.00,9,-999.000,9,-999.000,9,-999.0000,9,  -999.0,9,  -999.0,9,-999.0000,9,  -999.00,9, -999.00,9,  -999.0,9, -999.00,9, -999.00,9,     -999.0,9, 20220714,     1450,  30.9999,-121.2219,     -999.0,9,     -999.0,9,     -999.0,9,     -999.0,9,     -999.0,9,     0.0269,1,     4.5888,1,     -999.0,9,     -999.0,9,     -999.0,9,     -999.0,9,     -999.0,9
33RR20220613,       P02E,     188,          3,         12,         12,2,20220714,       1424,    30.9999,  -121.2219,       3892,     6.0,2,  18.5705,2,  33.2668,2,-999.0000,9,    240.6,2,  -999.0,9, -999.00,9, -999.00,9, -999.00,9, -999.00,9,-999.000,9,-999.000,9,-999.0000,9,  -999.0,9,  -999.0,9,-999.0000,9,  -999.00,9, -999.00,9,  -999.0,9, -999.00,9, -999.00,9,     -999.0,9, 20220714,     1450,  30.9999,-121.2219,    18.5678,2,     -999.0,9,     -999.0,9,     -999.0,9,     -999.0,9,     0.0281,1,     4.5848,1,     -999.0,9,     -999.0,9,     -999.0,9,     -999.0,9,     -999.0,9
33RR20220613,       P02E,     188,          3,         18,         18,2,20220714,       1424,    30.9999,  -121.2219,       3892,     6.0,2,  18.5726,2,  33.2670,2,-999.0000,9,    240.7,2,  -999.0,9, -999.00,9, -999.00,9, -999.00,9, -999.00,9,-999.000,9,-999.000,9,-999.0000,9,  -999.0,9,  -999.0,9,-999.0000,9,  -999.00,9, -999.00,9,  -999.0,9, -999.00,9, -999.00,9,     -999.0,9, 20220714,     1451,  30.9999,-121.2219,    18.5727,2,     -999.0,9,     -999.0,9,     -999.0,9,     -999.0,9,     0.0281,1,     4.5854,1,     -999.0,9,     -999.0,9,     -999.0,9,     -999.0,9,     -999.0,9
33RR20220613,       P02E,     188,          3,          9,          9,2,20220714,       1424,    30.9999,  -121.2219,       3892,     6.0,2,  18.5745,2,  33.2664,2,-999.0000,9,    240.4,2,  -999.0,9, -999.00,9, -999.00,9, -999.00,9, -999.00,9,-999.000,9,-999.000,9,-999.0000,9,  -999.0,9,  -999.0,9,-999.0000,9,  -999.00,9, -999.00,9,  -999.0,9, -999.00,9, -999.00,9,     -999.0,9, 20220714,     1450,  30.9999,-121.2219,    18.5690,2,     -999.0,9,     -999.0,9,     -999.0,9,     -999.0,9,     0.0256,1,     4.5896,1,     -999.0,9,     -999.0,9,     -999.0,9,     -999.0,9,     -999.0,9
33RR20220613,       P02E,     188,          3,         10,         10,2,20220714,       1424,    30.9999,  -121.2219,       3892,     6.1,2,  18.5733,2,  33.2664,2,-999.0000,9,    240.4,2,  -999.0,9, -999.00,9, -999.00,9, -999.00,9, -999.00,9,-999.000,9,-999.000,9,-999.0000,9,  -999.0,9,  -999.0,9,-999.0000,9,  -999.00,9, -999.00,9,  -999.0,9, -999.00,9, -999.00,9,     -999.0,9, 20220714,     1450,  30.9999,-121.2219,     -999.0,9,     -999.0,9,     -999.0,9,     -999.0,9,     -999.0,9,     0.0259,1,     4.5886,1,     -999.0,9,     -999.0,9,     -999.0,9,     -999.0,9,     -999.0,9
33RR20220613,       P02E,     188,          3,          8,          8,2,20220714,       1424,    30.9999,  -121.2219,       3892,    41.2,2,  14.7731,2,  33.1732,2,-999.0000,9,    272.1,2,  -999.0,9, -999.00,9, -999.00,9, -999.00,9, -999.00,9,-999.000,9,-999.000,9,-999.0000,9,  -999.0,9,  -999.0,9,-999.0000,9,  -999.00,9, -999.00,9,  -999.0,9, -999.00,9, -999.00,9,     -999.0,9, 20220714,     1447,  30.9999,-121.2219,    14.7273,2,     -999.0,9,     -999.0,9,     -999.0,9,     -999.0,9,     0.0402,1,     4.5868,1,     -999.0,9,     -999.0,9,     -999.0,9,     -999.0,9,     -999.0,9
33RR20220613,       P02E,     188,          3,          7,          7,2,20220714,       1424,    30.9999,  -121.2219,       3892,    75.3,2,  12.4560,2,  33.3648,2,-999.0000,9,    232.0,2,  -999.0,9, -999.00,9, -999.00,9, -999.00,9, -999.00,9,-999.000,9,-999.000,9,-999.0000,9,  -999.0,9,  -999.0,9,-999.0000,9,  -999.00,9, -999.00,9,  -999.0,9, -999.00,9, -999.00,9,     -999.0,9, 20220714,     1445,  30.9999,-121.2219,    12.4659,2,     -999.0,9,     -999.0,9,     -999.0,9,     -999.0,9,     0.0269,1,     4.6388,1,     -999.0,9,     -999.0,9,     -999.0,9,     -999.0,9,     -999.0,9
33RR20220613,       P02E,     188,          3,          6,          6,2,20220714,       1424,    30.9999,  -121.2219,       3892,   104.2,2,  10.9776,2,  33.5280,2,-999.0000,9,    189.6,2,  -999.0,9, -999.00,9, -999.00,9, -999.00,9, -999.00,9,-999.000,9,-999.000,9,-999.0000,9,  -999.0,9,  -999.0,9,-999.0000,9,  -999.00,9, -999.00,9,  -999.0,9, -999.00,9, -999.00,9,     -999.0,9, 20220714,     1443,  30.9999,-121.2219,     -999.0,9,     -999.0,9,     -999.0,9,     -999.0,9,     -999.0,9,     0.0158,1,     4.6519,1,     -999.0,9,     -999.0,9,     -999.0,9,     -999.0,9,     -999.0,9
33RR20220613,       P02E,     188,          3,          5,          5,2,20220714,       1424,    30.9999,  -121.2219,       3892,   104.7,2,  10.9765,2,  33.5273,2,-999.0000,9,    189.3,2,  -999.0,9, -999.00,9, -999.00,9, -999.00,9, -999.00,9,-999.000,9,-999.000,9,-999.0000,9,  -999.0,9,  -999.0,9,-999.0000,9,  -999.00,9, -999.00,9,  -999.0,9, -999.00,9, -999.00,9,     -999.0,9, 20220714,     1443,  30.9999,-121.2219,    10.9738,2,     -999.0,9,     -999.0,9,     -999.0,9,     -999.0,9,     0.0158,1,     4.6524,1,     -999.0,9,     -999.0,9,     -999.0,9,     -999.0,9,     -999.0,9
33RR20220613,       P02E,     188,          3,          4,          4,2,20220714,       1424,    30.9999,  -121.2219,       3892,   152.0,2,   9.7032,2,  33.8875,2,-999.0000,9,    126.4,2,  -999.0,9, -999.00,9, -999.00,9, -999.00,9, -999.00,9,-999.000,9,-999.000,9,-999.0000,9,  -999.0,9,  -999.0,9,-999.0000,9,  -999.00,9, -999.00,9,  -999.0,9, -999.00,9, -999.00,9,     -999.0,9, 20220714,     1441,  30.9999,-121.2219,     9.7023,2,     -999.0,9,     -999.0,9,     -999.0,9,     -999.0,9,     0.0134,1,     4.6546,1,     -999.0,9,     -999.0,9,     -999.0,9,     -999.0,9,     -999.0,9
33RR20220613,       P02E,     188,          3,          3,          3,2,20220714,       1424,    30.9999,  -121.2219,       3892,   201.4,2,   8.6733,2,  33.9551,2,-999.0000,9,    134.6,2,  -999.0,9, -999.00,9, -999.00,9, -999.00,9, -999.00,9,-999.000,9,-999.000,9,-999.0000,9,  -999.0,9,  -999.0,9,-999.0000,9,  -999.00,9, -999.00,9,  -999.0,9, -999.00,9, -999.00,9,     -999.0,9, 20220714,     1439,  30.9999,-121.2219,     8.6663,2,     -999.0,9,     -999.0,9,     -999.0,9,     -999.0,9,     0.0134,1,     4.6422,1,     -999.0,9,     -999.0,9,     -999.0,9,     -999.0,9,     -999.0,9
33RR20220613,       P02E,     188,          3,          2,          2,2,20220714,       1424,    30.9999,  -121.2219,       3892,   504.6,2,   5.8998,2,  34.2716,2,-999.0000,9,     14.8,2,  -999.0,9, -999.00,9, -999.00,9, -999.00,9, -999.00,9,-999.000,9,-999.000,9,-999.0000,9,  -999.0,9,  -999.0,9,-999.0000,9,  -999.00,9, -999.00,9,  -999.0,9, -999.00,9, -999.00,9,     -999.0,9, 20220714,     1433,  30.9999,-121.2219,     5.8998,2,     -999.0,9,     -999.0,9,     -999.0,9,     -999.0,9,     0.0134,1,     4.6642,1,     -999.0,9,     -999.0,9,     -999.0,9,     -999.0,9,     -999.0,9
33RR20220613,       P02E,     188,          3,          1,          1,2,20220714,       1424,    30.9999,  -121.2219,       3892,  1012.8,2,   3.9521,2,  34.4802,2,-999.0000,9,     23.4,2,  -999.0,9, -999.00,9, -999.00,9, -999.00,9, -999.00,9,-999.000,9,-999.000,9,-999.0000,9,  -999.0,9,  -999.0,9,-999.0000,9,  -999.00,9, -999.00,9,  -999.0,9, -999.00,9, -999.00,9,     -999.0,9, 20220714,     1424,  30.9999,-121.2219,     3.9533,2,     -999.0,9,     -999.0,9,     -999.0,9,     -999.0,9,     0.0134,1,     4.6714,1,     -999.0,9,     -999.0,9,     -999.0,9,     -999.0,9,     -999.0,9