BOTTLE,20230830CCHSIOCBG
EXPOCODE,SECT_ID,STNNBR,CASTNO,SAMPNO,BTLNBR,BTLNBR_FLAG_W,DATE,TIME,LATITUDE,LONGITUDE,DEPTH,CTDPRS,CTDPRS_FLAG_W,CTDTMP,CTDTMP_FLAG_W,CTDSAL,CTDSAL_FLAG_W,SALNTY,SALNTY_FLAG_W,CTDOXY,CTDOXY_FLAG_W,OXYGEN,OXYGEN_FLAG_W,SILCAT,SILCAT_FLAG_W,NITRAT,NITRAT_FLAG_W,NITRIT,NITRIT_FLAG_W,PHSPHT,PHSPHT_FLAG_W,CFC-11,CFC-11_FLAG_W,CFC-12,CFC-12_FLAG_W,SF6,SF6_FLAG_W,TCARBN,TCARBN_FLAG_W,ALKALI,ALKALI_FLAG_W,PH_TOT,PH_TOT_FLAG_W,PH_TMP,PH_TMP_FLAG_W,DELC13,DELC13_FLAG_W,DELC14,DELC14_FLAG_W,DOC,DOC_FLAG_W,TDN,TDN_FLAG_W,N2O,N2O_FLAG_W,BTL_DATE,BTL_TIME,BTL_LAT,BTL_LON,REFTMP,REFTMP_FLAG_W,POC,POC_FLAG_W,PON,PON_FLAG_W,POP,POP_FLAG_W,PCOD,PCOD_FLAG_W,CTDFLUOR,CTDFLUOR_FLAG_W,CTDXMISS,CTDXMISS_FLAG_W,HPLC,HPLC_FLAG_W,DNA,DNA_FLAG_W,FCM,FCM_FLAG_W,IMAGES,IMAGES_FLAG_W,VIRAL_ABUNDANCE,VIRAL_ABUNDANCE_FLAG_W
,,,,,,,,,,,METERS,DBAR,,ITS-90,,PSS-78,,PSS-78,,UMOL/KG,,UMOL/KG,,UMOL/KG,,UMOL/KG,,UMOL/KG,,UMOL/KG,,PMOL/KG,,PMOL/KG,,FMOL/KG,,UMOL/KG,,UMOL/KG,,,,DEG C,,/MILLE,,/MILLE,,UMOL/KG,,UMOL/KG,,NMOL/KG,,,,,,ITS-90,,UG/L,,UG/L,,UG/L,,UG/L,,VOLTS,,VOLTS,,,,,,,,,,,
33RR20220613,       P02E,     163,          1,         36,         36,2,20220701,       0106,    30.0002,  -135.2308,       4886,     4.4,2,  21.1352,2,  34.0648,2,  34.0574,2,    228.4,2,   228.2,2,    1.37,2,    0.02,2,    0.00,2,    0.16,2,   1.936,2,   1.190,2,   1.9943,2,  2030.0,2,  2266.2,2,   7.9447,2,    25.00,2, -999.00,9,  -999.0,9, -999.00,9, -999.00,9,        7.6,2, 20220701,      318,  30.0002,-135.2308,    21.1268,2,     -999.0,9,     -999.0,9,     -999.0,9,     -999.0,9,     0.0134,1,     4.6262,1,     -999.0,9,     -999.0,9,     -999.0,9,     -999.0,9,     -999.0,9
33RR20220613,       P02E,     163,          1,         35,         35,2,20220701,       0106,    30.0002,  -135.2308,       4886,    21.2,2,  21.1005,2,  34.0727,2,  34.0631,2,    228.1,2,   228.3,2,    1.37,2,    0.01,2,    0.00,2,    0.16,2,   1.952,2,   1.197,2,   1.9856,2,  2029.8,6,  2265.8,2,   7.9455,2,    24.92,2, -999.00,9,  -999.0,9, -999.00,9, -999.00,9,        7.6,2, 20220701,      316,  30.0002,-135.2308,    21.0970,2,     -999.0,9,     -999.0,9,     -999.0,9,     -999.0,9,     0.0134,1,     4.6281,1,     -999.0,9,     -999.0,9,     -999.0,9,     -999.0,9,     -999.0,9
33RR20220613,       P02E,     163,          1,         34,         34,2,20220701,       0106,    30.0002,  -135.2308,       4886,    40.6,2,  19.8574,2,  34.2457,2,  34.2324,2,    240.5,2,   239.6,2,    1.47,2,    0.01,2,    0.00,2,    0.12,2,   2.054,2,   1.246,2,   2.0875,2,  2032.7,2,  2272.0,2,   7.9517,2,    25.00,2, -999.00,9,  -999.0,9, -999.00,9, -999.00,9,        7.9,2, 20220701,      314,  30.0002,-135.2308,    19.8388,2,     -999.0,9,     -999.0,9,     -999.0,9,     -999.0,9,     0.0137,1,     4.6299,1,     -999.0,9,     -999.0,9,     -999.0,9,     -999.0,9,     -999.0,9
33RR20220613,       P02E,     163,          1,         33,         33,2,20220701,       0106,    30.0002,  -135.2308,       4886,    66.5,2,  18.7975,2,  34.2672,2,  34.2634,2,    242.9,2,   242.7,2,    1.47,2,    0.00,2,    0.00,2,    0.09,2,   2.091,2,   1.307,2,   2.1247,2,  2030.4,2,  2270.9,2,   7.9516,2,    25.00,2, -999.00,9,  -999.0,9, -999.00,9, -999.00,9,        8.0,2, 20220701,      312,  30.0002,-135.2308,    18.7870,2,     -999.0,9,     -999.0,9,     -999.0,9,     -999.0,9,     0.0159,1,     4.6377,1,     -999.0,9,     -999.0,9,     -999.0,9,     -999.0,9,     -999.0,9
33RR20220613,       P02E,     163,          1,         32,         32,2,20220701,       0106,    30.0002,  -135.2308,       4886,    90.8,2,  18.2732,2,  34.2360,2,  34.2262,2,    240.8,2,   241.6,2,    1.56,2,    0.00,2,    0.00,2,    0.10,2,   2.185,2,   1.322,2,   2.1430,2,  2029.3,2,  2266.1,6,   7.9459,2,    25.00,2, -999.00,9,  -999.0,9, -999.00,9, -999.00,9,        8.1,2, 20220701,      310,  30.0002,-135.2308,    18.2690,2,     -999.0,9,     -999.0,9,     -999.0,9,     -999.0,9,     0.0189,1,     4.6442,1,     -999.0,9,     -999.0,9,     -999.0,9,     -999.0,9,     -999.0,9
33RR20220613,       P02E,     163,          1,         31,         31,2,20220701,       0106,    30.0002,  -135.2308,       4886,   137.5,2,  17.8160,2,  34.3026,3,  34.3335,2,    232.1,2,   232.4,2,    1.76,2,    0.02,2,    0.03,2,    0.12,2,   2.181,2,   1.333,2,   2.1109,2,  2039.0,2,  2272.2,2,   7.9312,2,    25.01,2, -999.00,9,  -999.0,9, -999.00,9, -999.00,9,        8.6,2, 20220701,      308,  30.0003,-135.2308,    17.8078,2,     -999.0,9,     -999.0,9,     -999.0,9,     -999.0,9,     0.0323,1,     4.6553,1,     -999.0,9,     -999.0,9,     -999.0,9,     -999.0,9,     -999.0,9
33RR20220613,       P02E,     163,          1,         30,         17,2,20220701,       0106,    30.0002,  -135.2308,       4886,   187.3,2,  14.2533,2,  33.9515,2,  33.9420,2,    217.2,3,   219.8,2,    4.11,2,    3.84,2,    0.02,2,    0.44,2,   2.619,2,   1.572,2,   2.2978,2,  2062.4,2,  2242.3,2,   7.8377,2,    25.01,2, -999.00,9,  -999.0,9, -999.00,9, -999.00,9,       10.9,2, 20220701,      306,  30.0003,-135.2308,    14.2507,2,     -999.0,9,     -999.0,9,     -999.0,9,     -999.0,9,     0.0183,1,     4.6764,1,     -999.0,9,     -999.0,9,     -999.0,9,     -999.0,9,     -999.0,9
33RR20220613,       P02E,     163,          1,         29,         29,2,20220701,       0106,    30.0002,  -135.2308,       4886,   237.0,2,  10.4561,2,  33.8163,2,  33.8263,2,    200.7,2,   200.6,2,   13.78,2,   14.30,2,    0.00,2,    1.09,2,   3.005,2,   1.818,2,   2.2264,2,  2114.1,2,  2239.9,2,   7.6996,2,    25.00,2, -999.00,9,  -999.0,9, -999.00,9, -999.00,9,       16.5,2, 20220701,      304,  30.0003,-135.2308,    10.4858,2,     -999.0,9,     -999.0,9,     -999.0,9,     -999.0,9,     0.0131,1,     4.6869,1,     -999.0,9,     -999.0,9,     -999.0,9,     -999.0,9,     -999.0,9
33RR20220613,       P02E,     163,          1,         28,         28,2,20220701,       0106,    30.0002,  -135.2308,       4886,   288.0,2,   9.2351,2,  33.9782,2,  33.9716,2,    188.5,2,   186.8,2,   22.19,2,   19.06,2,    0.00,2,    1.37,2,   3.053,2,   1.829,2,   1.8820,2,  2146.2,2,  2253.8,2,   7.6513,2,    25.01,2, -999.00,9,  -999.0,9, -999.00,9, -999.00,9,       21.4,2, 20220701,      302,  30.0003,-135.2308,     9.2257,2,     -999.0,9,     -999.0,9,     -999.0,9,     -999.0,9,     0.0122,1,     4.6888,1,     -999.0,9,     -999.0,9,     -999.0,9,     -999.0,9,     -999.0,9
33RR20220613,       P02E,     163,          1,         27,         27,2,20220701,       0106,    30.0002,  -135.2308,       4886,   338.1,2,   8.5248,2,  34.0126,2,  34.0115,2,    168.6,2,   168.7,2,   29.72,2,   22.50,2,    0.00,2,    1.58,2,   2.947,2,   1.747,2,   1.5480,2,  2171.0,2,  2260.8,2,   7.6105,2,    25.01,2, -999.00,9,  -999.0,9, -999.00,9, -999.00,9,       26.0,2, 20220701,      300,  30.0003,-135.2308,     8.5148,2,     -999.0,9,     -999.0,9,     -999.0,9,     -999.0,9,     0.0122,1,     4.6894,1,     -999.0,9,     -999.0,9,     -999.0,9,     -999.0,9,     -999.0,9
33RR20220613,       P02E,     163,          1,         26,         26,2,20220701,       0106,    30.0002,  -135.2308,       4886,   388.7,2,   7.6887,2,  34.0052,2,  34.0041,2,    138.2,3,   135.5,2,   39.88,2,   27.29,2,    0.00,2,    1.92,2,   2.666,2,   1.595,2,   1.1737,2,  2203.8,2,  2269.6,2,   7.5295,2,    25.01,2, -999.00,9,  -999.0,9, -999.00,9, -999.00,9,       30.3,2, 20220701,      258,  30.0003,-135.2308,     7.6849,2,     -999.0,9,     -999.0,9,     -999.0,9,     -999.0,9,     0.0134,1,     4.6898,1,     -999.0,9,     -999.0,9,     -999.0,9,     -999.0,9,     -999.0,9
33RR20220613,       P02E,     163,          1,         25,         25,2,20220701,       0106,    30.0002,  -135.2308,       4886,   469.8,2,   6.3637,2,  34.0181,2,  34.0172,2,     78.2,3,    79.6,2,   58.84,2,   34.68,2,    0.00,2,    2.48,2,   2.102,2,   1.222,2,   0.6181,2,  -999.0,9,  -999.0,9,-999.0000,9,  -999.00,9, -999.00,9,  -999.0,9, -999.00,9, -999.00,9,       37.3,2, 20220701,      255,  30.0003,-135.2308,     6.3768,2,     -999.0,9,     -999.0,9,     -999.0,9,     -999.0,9,     0.0134,1,     4.6897,1,     -999.0,9,     -999.0,9,     -999.0,9,     -999.0,9,     -999.0,9
33RR20220613,       P02E,     163,          1,         24,         24,2,20220701,       0106,    30.0002,  -135.2308,       4886,   569.7,2,   5.4427,2,  34.1127,2,  34.1138,2,     36.4,2,    36.4,2,   78.00,2,   39.66,2,    0.00,2,    2.89,2,   1.119,2,   0.630,2,   0.2643,2,  2305.1,2,  2305.2,2,   7.3175,2,    24.99,2, -999.00,9,  -999.0,9, -999.00,9, -999.00,9,       45.9,2, 20220701,      252,  30.0003,-135.2308,     5.4494,2,     -999.0,9,     -999.0,9,     -999.0,9,     -999.0,9,     0.0134,1,     4.6905,1,     -999.0,9,     -999.0,9,     -999.0,9,     -999.0,9,     -999.0,9
33RR20220613,       P02E,     163,          1,         23,         23,2,20220701,       0106,    30.0002,  -135.2308,       4886,   671.5,2,   4.7528,2,  34.2151,2,  34.2211,2,     18.1,2,    18.1,2,   95.78,2,   42.19,2,    0.00,2,    3.07,2,   0.402,2,   0.224,2,   0.0000,2,  -999.0,9,  -999.0,9,-999.0000,9,  -999.00,9, -999.00,9,  -999.0,9, -999.00,9, -999.00,9,       52.6,2, 20220701,      250,  30.0003,-135.2308,     4.7520,2,     -999.0,9,     -999.0,9,     -999.0,9,     -999.0,9,     0.0134,1,     4.6911,1,     -999.0,9,     -999.0,9,     -999.0,9,     -999.0,9,     -999.0,9
33RR20220613,       P02E,     163,          1,         22,         22,2,20220701,       0106,    30.0002,  -135.2308,       4886,   772.4,2,   4.4367,2,  34.2963,2,  34.2980,2,     14.2,3,    13.9,2,  103.88,2,   43.04,2,    0.00,2,    3.14,2,   0.141,2,   0.086,2,   0.0000,2,  2347.4,2,  2342.8,2,   7.3018,2,    25.00,2, -999.00,9,  -999.0,9, -999.00,9, -999.00,9,       54.6,2, 20220701,      247,  30.0003,-135.2308,     4.4372,2,     -999.0,9,     -999.0,9,     -999.0,9,     -999.0,9,     0.0134,1,     4.6921,1,     -999.0,9,     -999.0,9,     -999.0,9,     -999.0,9,     -999.0,9
33RR20220613,       P02E,     163,          1,         21,         21,2,20220701,       0106,    30.0002,  -135.2308,       4886,   874.1,2,   4.0977,2,  34.3756,2,  34.3755,2,     16.5,3,    16.1,2,  113.26,2,   43.50,2,    0.00,2,    3.15,2,   0.039,2,   0.031,2,   0.0000,2,  2359.4,2,  2358.0,2,   7.3171,2,    25.01,2, -999.00,9,  -999.0,9, -999.00,9, -999.00,9,       53.5,2, 20220701,      244,  30.0003,-135.2308,     4.0962,2,     -999.0,9,     -999.0,9,     -999.0,9,     -999.0,9,     0.0134,1,     4.6922,1,     -999.0,9,     -999.0,9,     -999.0,9,     -999.0,9,     -999.0,9
33RR20220613,       P02E,     163,          1,         20,         20,2,20220701,       0106,    30.0002,  -135.2308,       4886,   974.7,2,   3.8388,2,  34.4296,2,  34.4310,2,     22.7,3,    23.2,2,  118.24,2,   43.43,2,    0.00,2,    3.13,2,   0.019,2,   0.014,2,   0.0000,2,  2361.4,2,  2366.6,2,   7.3365,2,    25.00,2, -999.00,9,  -999.0,9, -999.00,9, -999.00,9,       51.6,2, 20220701,      239,  30.0003,-135.2308,     3.8366,2,     -999.0,9,     -999.0,9,     -999.0,9,     -999.0,9,     0.0134,1,     4.6923,1,     -999.0,9,     -999.0,9,     -999.0,9,     -999.0,9,     -999.0,9
33RR20220613,       P02E,     163,          1,         19,         39,2,20220701,       0106,    30.0002,  -135.2308,       4886,  1075.7,2,   3.6357,2,  34.4702,2,  34.4695,2,     29.5,2,    29.3,2,  122.83,2,   43.25,2,    0.00,2,    3.12,2,   0.010,2,   0.007,2,   0.0000,2,  -999.0,9,  -999.0,9,-999.0000,9,  -999.00,9, -999.00,9,  -999.0,9, -999.00,9, -999.00,9,       48.6,2, 20220701,      237,  30.0002,-135.2308,     3.6364,2,     -999.0,9,     -999.0,9,     -999.0,9,     -999.0,9,     0.0134,1,     4.6934,1,     -999.0,9,     -999.0,9,     -999.0,9,     -999.0,9,     -999.0,9
33RR20220613,       P02E,     163,          1,         18,         18,2,20220701,       0106,    30.0002,  -135.2308,       4886,  1176.0,2,   3.4158,2,  34.5014,2,  34.5015,2,     36.3,2,    36.5,2,  127.91,2,   43.05,2,    0.00,2,    3.10,2,-999.000,9,-999.000,9,-999.0000,9,  -999.0,9,  -999.0,9,-999.0000,9,  -999.00,9, -999.00,9,  -999.0,9, -999.00,9, -999.00,9,     -999.0,9, 20220701,      234,  30.0003,-135.2308,     3.4139,2,     -999.0,9,     -999.0,9,     -999.0,9,     -999.0,9,     0.0134,1,     4.6934,1,     -999.0,9,     -999.0,9,     -999.0,9,     -999.0,9,     -999.0,9
33RR20220613,       P02E,     163,          1,         17,         37,2,20220701,       0106,    30.0002,  -135.2308,       4886,  1278.0,2,   3.2130,2,  34.5230,2,  34.5237,2,     42.4,3,    43.1,2,  132.20,2,   42.71,2,    0.00,2,    3.08,2,   0.008,2,   0.007,2,   0.0000,2,  2368.9,3,  2388.4,2,   7.3789,2,    25.01,2, -999.00,9,  -999.0,9, -999.00,9, -999.00,9,       42.9,2, 20220701,      231,  30.0002,-135.2308,     3.2120,2,     -999.0,9,     -999.0,9,     -999.0,9,     -999.0,9,     0.0134,1,     4.6946,1,     -999.0,9,     -999.0,9,     -999.0,9,     -999.0,9,     -999.0,9
33RR20220613,       P02E,     163,          1,         16,         16,2,20220701,       0106,    30.0002,  -135.2308,       4886,  1377.9,2,   3.0381,2,  34.5392,2,  34.5394,2,     46.8,2,    46.4,2,  136.30,2,   42.55,2,    0.00,2,    3.06,2,-999.000,9,-999.000,9,-999.0000,9,  -999.0,9,  -999.0,9,-999.0000,9,  -999.00,9, -999.00,9,  -999.0,9, -999.00,9, -999.00,9,     -999.0,9, 20220701,      229,  30.0003,-135.2308,     3.0383,2,     -999.0,9,     -999.0,9,     -999.0,9,     -999.0,9,     0.0134,1,     4.6947,1,     -999.0,9,     -999.0,9,     -999.0,9,     -999.0,9,     -999.0,9
33RR20220613,       P02E,     163,          1,         15,         15,2,20220701,       0106,    30.0002,  -135.2308,       4886,  1479.9,2,   2.8357,2,  34.5566,2,  34.5569,2,     52.1,2,    52.3,2,  141.58,2,   42.40,2,    0.00,2,    3.03,2,   0.005,2,   0.004,2,   0.0000,2,  2369.4,2,  2401.4,2,   7.3981,2,    25.01,2, -999.00,9,  -999.0,9, -999.00,9, -999.00,9,       37.6,2, 20220701,      226,  30.0003,-135.2308,     2.8368,2,     -999.0,9,     -999.0,9,     -999.0,9,     -999.0,9,     0.0134,1,     4.6957,1,     -999.0,9,     -999.0,9,     -999.0,9,     -999.0,9,     -999.0,9
33RR20220613,       P02E,     163,          1,         14,         42,2,20220701,       0106,    30.0002,  -135.2308,       4886,  1581.1,2,   2.6338,2,  34.5714,2,  34.5708,2,     57.7,2,    58.0,2,  146.66,2,   42.15,2,    0.00,2,    3.00,2,-999.000,9,-999.000,9,-999.0000,9,  -999.0,9,  -999.0,9,-999.0000,9,  -999.00,9, -999.00,9,  -999.0,9, -999.00,9, -999.00,9,     -999.0,9, 20220701,      223,  30.0003,-135.2308,     2.6349,2,     -999.0,9,     -999.0,9,     -999.0,9,     -999.0,9,     0.0134,1,     4.6958,1,     -999.0,9,     -999.0,9,     -999.0,9,     -999.0,9,     -999.0,9
33RR20220613,       P02E,     163,          1,         13,         13,2,20220701,       0106,    30.0002,  -135.2308,       4886,  1754.0,2,   2.4228,2,  34.5871,2,  34.5865,2,     64.3,2,    64.1,2,  151.74,2,   41.77,2,    0.00,2,    2.95,2,   0.003,2,   0.000,2,   0.0000,2,  2372.4,2,  2408.7,2,   7.4198,2,    25.00,2, -999.00,9,  -999.0,9, -999.00,9, -999.00,9,       35.5,2, 20220701,      219,  30.0003,-135.2308,     2.4269,2,     -999.0,9,     -999.0,9,     -999.0,9,     -999.0,9,     0.0134,1,     4.6958,1,     -999.0,9,     -999.0,9,     -999.0,9,     -999.0,9,     -999.0,9
33RR20220613,       P02E,     163,          1,         12,         12,2,20220701,       0106,    30.0002,  -135.2308,       4886,  1958.1,2,   2.1379,2,  34.6119,2,  34.6097,2,     75.9,2,    76.1,2,  159.65,2,   41.04,2,    0.00,2,    2.88,2,-999.000,9,-999.000,9,-999.0000,9,  -999.0,9,  -999.0,9,-999.0000,9,  -999.00,9, -999.00,9,  -999.0,9, -999.00,9, -999.00,9,     -999.0,9, 20220701,      214,  30.0002,-135.2308,     2.1376,2,     -999.0,9,     -999.0,9,     -999.0,9,     -999.0,9,     0.0134,1,     4.6974,1,     -999.0,9,     -999.0,9,     -999.0,9,     -999.0,9,     -999.0,9
33RR20220613,       P02E,     163,          1,         11,         11,2,20220701,       0106,    30.0002,  -135.2308,       4886,  2191.3,2,   1.9513,2,  34.6282,2,  34.6282,2,     85.5,2,    85.5,2,  163.36,2,   40.34,2,    0.00,2,    2.83,2,   0.003,2,   0.003,2,   0.0000,2,  2369.9,2,  2422.3,2,   7.4620,2,    24.99,2, -999.00,9,  -999.0,9, -999.00,9, -999.00,9,       30.5,2, 20220701,      208,  30.0003,-135.2308,     1.9514,2,     -999.0,9,     -999.0,9,     -999.0,9,     -999.0,9,     0.0133,1,     4.6978,1,     -999.0,9,     -999.0,9,     -999.0,9,     -999.0,9,     -999.0,9
33RR20220613,       P02E,     163,          1,         10,         10,2,20220701,       0106,    30.0002,  -135.2308,       4886,  2446.1,2,   1.7762,2,  34.6435,2,  34.6439,2,     96.6,2,    96.6,2,  167.66,2,   39.66,2,    0.00,2,    2.77,2,-999.000,9,-999.000,9,-999.0000,9,  -999.0,9,  -999.0,9,-999.0000,9,  -999.00,9, -999.00,9,  -999.0,9, -999.00,9, -999.00,9,     -999.0,9, 20220701,      202,  30.0003,-135.2308,     1.7774,2,     -999.0,9,     -999.0,9,     -999.0,9,     -999.0,9,     0.0134,1,     4.6983,1,     -999.0,9,     -999.0,9,     -999.0,9,     -999.0,9,     -999.0,9
33RR20220613,       P02E,     163,          1,          9,          9,2,20220701,       0106,    30.0002,  -135.2308,       4886,  2691.1,2,   1.6805,2,  34.6536,2,  34.6545,2,    105.2,2,   105.1,2,  168.93,2,   39.12,2,    0.00,2,    2.73,2,   0.004,2,   0.002,2,   0.0000,2,  2362.2,2,  2429.9,2,   7.4998,2,    25.02,2, -999.00,9,  -999.0,9, -999.00,9, -999.00,9,       26.3,2, 20220701,      157,  30.0003,-135.2308,     1.6798,2,     -999.0,9,     -999.0,9,     -999.0,9,     -999.0,9,     0.0131,1,     4.6983,1,     -999.0,9,     -999.0,9,     -999.0,9,     -999.0,9,     -999.0,9
33RR20220613,       P02E,     163,          1,          8,          8,2,20220701,       0106,    30.0002,  -135.2308,       4886,  2932.1,2,   1.5894,2,  34.6620,2,  34.6622,2,    115.5,2,   115.6,2,  167.95,2,   38.45,2,    0.00,2,    2.68,2,-999.000,9,-999.000,9,-999.0000,9,  -999.0,9,  -999.0,9,-999.0000,9,  -999.00,9, -999.00,9,  -999.0,9, -999.00,9, -999.00,9,     -999.0,9, 20220701,      150,  30.0003,-135.2308,     1.5894,2,     -999.0,9,     -999.0,9,     -999.0,9,     -999.0,9,     0.0129,1,     4.6993,1,     -999.0,9,     -999.0,9,     -999.0,9,     -999.0,9,     -999.0,9
33RR20220613,       P02E,     163,          1,          7,          7,2,20220701,       0106,    30.0002,  -135.2308,       4886,  3247.0,2,   1.5240,2,  34.6712,2,  34.6708,2,    124.8,2,   124.7,2,  167.85,2,   37.89,2,    0.00,2,    2.62,2,   0.005,2,   0.005,2,   0.0000,2,  2351.0,2,  2429.5,2,   7.5351,2,    25.01,2, -999.00,9,  -999.0,9, -999.00,9, -999.00,9,       23.9,2, 20220701,      144,  30.0003,-135.2308,     1.5239,2,     -999.0,9,     -999.0,9,     -999.0,9,     -999.0,9,     0.0131,1,     4.6995,1,     -999.0,9,     -999.0,9,     -999.0,9,     -999.0,9,     -999.0,9
33RR20220613,       P02E,     163,          1,          6,          6,2,20220701,       0106,    30.0002,  -135.2308,       4886,  3553.6,2,   1.4875,2,  34.6780,2,  34.6769,2,    133.8,2,   134.1,2,  165.11,2,   37.35,2,    0.00,2,    2.57,2,-999.000,9,-999.000,9,-999.0000,9,  -999.0,9,  -999.0,9,-999.0000,9,  -999.00,9, -999.00,9,  -999.0,9, -999.00,9, -999.00,9,     -999.0,9, 20220701,      137,  30.0003,-135.2308,     1.4875,2,     -999.0,9,     -999.0,9,     -999.0,9,     -999.0,9,     0.0131,1,     4.6996,1,     -999.0,9,     -999.0,9,     -999.0,9,     -999.0,9,     -999.0,9
33RR20220613,       P02E,     163,          1,          5,          5,2,20220701,       0106,    30.0002,  -135.2308,       4886,  3861.3,2,   1.4838,2,  34.6823,2,  34.6822,2,    139.6,2,   140.1,2,  163.16,2,   37.00,2,    0.00,2,    2.54,2,   0.004,2,   0.005,2,   0.0000,2,  2341.3,2,  2430.6,2,   7.5618,2,    25.02,2, -999.00,9,  -999.0,9, -999.00,9, -999.00,9,       23.0,2, 20220701,      131,  30.0003,-135.2308,     1.4838,2,     -999.0,9,     -999.0,9,     -999.0,9,     -999.0,9,     0.0122,1,     4.6996,1,     -999.0,9,     -999.0,9,     -999.0,9,     -999.0,9,     -999.0,9