BOTTLE,20230830CCHSIOCBG
EXPOCODE,SECT_ID,STNNBR,CASTNO,SAMPNO,BTLNBR,BTLNBR_FLAG_W,DATE,TIME,LATITUDE,LONGITUDE,DEPTH,CTDPRS,CTDPRS_FLAG_W,CTDTMP,CTDTMP_FLAG_W,CTDSAL,CTDSAL_FLAG_W,SALNTY,SALNTY_FLAG_W,CTDOXY,CTDOXY_FLAG_W,OXYGEN,OXYGEN_FLAG_W,SILCAT,SILCAT_FLAG_W,NITRAT,NITRAT_FLAG_W,NITRIT,NITRIT_FLAG_W,PHSPHT,PHSPHT_FLAG_W,CFC-11,CFC-11_FLAG_W,CFC-12,CFC-12_FLAG_W,SF6,SF6_FLAG_W,TCARBN,TCARBN_FLAG_W,ALKALI,ALKALI_FLAG_W,PH_TOT,PH_TOT_FLAG_W,PH_TMP,PH_TMP_FLAG_W,DELC13,DELC13_FLAG_W,DELC14,DELC14_FLAG_W,DOC,DOC_FLAG_W,TDN,TDN_FLAG_W,N2O,N2O_FLAG_W,BTL_DATE,BTL_TIME,BTL_LAT,BTL_LON,REFTMP,REFTMP_FLAG_W,POC,POC_FLAG_W,PON,PON_FLAG_W,POP,POP_FLAG_W,PCOD,PCOD_FLAG_W,CTDFLUOR,CTDFLUOR_FLAG_W,CTDXMISS,CTDXMISS_FLAG_W,HPLC,HPLC_FLAG_W,DNA,DNA_FLAG_W,FCM,FCM_FLAG_W,IMAGES,IMAGES_FLAG_W,VIRAL_ABUNDANCE,VIRAL_ABUNDANCE_FLAG_W
,,,,,,,,,,,METERS,DBAR,,ITS-90,,PSS-78,,PSS-78,,UMOL/KG,,UMOL/KG,,UMOL/KG,,UMOL/KG,,UMOL/KG,,UMOL/KG,,PMOL/KG,,PMOL/KG,,FMOL/KG,,UMOL/KG,,UMOL/KG,,,,DEG C,,/MILLE,,/MILLE,,UMOL/KG,,UMOL/KG,,NMOL/KG,,,,,,ITS-90,,UG/L,,UG/L,,UG/L,,UG/L,,VOLTS,,VOLTS,,,,,,,,,,,
33RR20220613,       P02E,     155,          2,          4,          4,2,20220628,       1845,    30.0010,  -139.8472,       4670,  3656.7,2,   1.4964,2,  34.6757,3,  34.6844,2,    136.2,2,   136.0,2,  165.70,2,   37.27,2,    0.00,2,    2.54,2,-999.000,9,-999.000,9,-999.0000,9,  2339.0,2,  2427.4,2,   7.5540,2,    25.01,2, -999.00,9,  -999.0,9, -999.00,9, -999.00,9,     -999.0,9, 20220628,     1906,  30.0010,-139.8473,     1.4964,2,     -999.0,9,     -999.0,9,     -999.0,9,     -999.0,9,     0.0127,1,     4.7018,1,     -999.0,9,     -999.0,9,     -999.0,9,     -999.0,9,     -999.0,9
33RR20220613,       P02E,     155,          2,          3,          3,2,20220628,       1845,    30.0010,  -139.8472,       4670,  3965.1,2,   1.4950,2,  34.6790,2,  34.6798,2,    140.8,2,   140.7,2,  162.76,2,   36.91,2,    0.00,2,    2.52,2,   0.004,2,   0.004,2,   0.0000,2,  2335.7,2,  2427.5,2,   7.5630,2,    25.01,2, -999.00,9,  -999.0,9, -999.00,9, -999.00,9,       25.9,2, 20220628,     1900,  30.0010,-139.8472,     1.4948,2,     -999.0,9,     -999.0,9,     -999.0,9,     -999.0,9,     0.0122,1,     4.7019,1,     -999.0,9,     -999.0,9,     -999.0,9,     -999.0,9,     -999.0,9
33RR20220613,       P02E,     155,          2,          2,          2,2,20220628,       1845,    30.0010,  -139.8472,       4670,  4346.8,2,   1.5135,2,  34.6816,2,  34.6818,2,    144.7,2,   145.3,2,  161.79,2,   36.65,2,    0.00,2,    2.49,2,   0.005,2,   0.006,2,   0.0000,2,  2334.1,2,  2426.5,2,   7.5684,2,    25.00,2, -999.00,9,  -999.0,9, -999.00,9, -999.00,9,       22.5,2, 20220628,     1852,  30.0010,-139.8472,     1.5131,2,     -999.0,9,     -999.0,9,     -999.0,9,     -999.0,9,     0.0122,1,     4.7018,1,     -999.0,9,     -999.0,9,     -999.0,9,     -999.0,9,     -999.0,9
33RR20220613,       P02E,     155,          2,          1,          1,2,20220628,       1845,    30.0010,  -139.8472,       4670,  4744.2,2,   1.5415,2,  34.6835,2,  34.6846,2,    148.3,2,   148.2,2,  159.83,2,   36.45,2,    0.00,2,    2.47,2,   0.007,2,   0.006,2,   0.0000,2,  2331.2,6,  2426.2,2,   7.5754,2,    25.00,2, -999.00,9,  -999.0,9, -999.00,9, -999.00,9,       22.7,2, 20220628,     1845,  30.0010,-139.8473,     1.5414,2,     -999.0,9,     -999.0,9,     -999.0,9,     -999.0,9,     0.0126,1,     4.7007,1,     -999.0,9,     -999.0,9,     -999.0,9,     -999.0,9,     -999.0,9