BOTTLE,20230830CCHSIOCBG
EXPOCODE,SECT_ID,STNNBR,CASTNO,SAMPNO,BTLNBR,BTLNBR_FLAG_W,DATE,TIME,LATITUDE,LONGITUDE,DEPTH,CTDPRS,CTDPRS_FLAG_W,CTDTMP,CTDTMP_FLAG_W,CTDSAL,CTDSAL_FLAG_W,SALNTY,SALNTY_FLAG_W,CTDOXY,CTDOXY_FLAG_W,OXYGEN,OXYGEN_FLAG_W,SILCAT,SILCAT_FLAG_W,NITRAT,NITRAT_FLAG_W,NITRIT,NITRIT_FLAG_W,PHSPHT,PHSPHT_FLAG_W,CFC-11,CFC-11_FLAG_W,CFC-12,CFC-12_FLAG_W,SF6,SF6_FLAG_W,TCARBN,TCARBN_FLAG_W,ALKALI,ALKALI_FLAG_W,PH_TOT,PH_TOT_FLAG_W,PH_TMP,PH_TMP_FLAG_W,DELC13,DELC13_FLAG_W,DELC14,DELC14_FLAG_W,DOC,DOC_FLAG_W,TDN,TDN_FLAG_W,N2O,N2O_FLAG_W,BTL_DATE,BTL_TIME,BTL_LAT,BTL_LON,REFTMP,REFTMP_FLAG_W,POC,POC_FLAG_W,PON,PON_FLAG_W,POP,POP_FLAG_W,PCOD,PCOD_FLAG_W,CTDFLUOR,CTDFLUOR_FLAG_W,CTDXMISS,CTDXMISS_FLAG_W,HPLC,HPLC_FLAG_W,DNA,DNA_FLAG_W,FCM,FCM_FLAG_W,IMAGES,IMAGES_FLAG_W,VIRAL_ABUNDANCE,VIRAL_ABUNDANCE_FLAG_W
,,,,,,,,,,,METERS,DBAR,,ITS-90,,PSS-78,,PSS-78,,UMOL/KG,,UMOL/KG,,UMOL/KG,,UMOL/KG,,UMOL/KG,,UMOL/KG,,PMOL/KG,,PMOL/KG,,FMOL/KG,,UMOL/KG,,UMOL/KG,,,,DEG C,,/MILLE,,/MILLE,,UMOL/KG,,UMOL/KG,,NMOL/KG,,,,,,ITS-90,,UG/L,,UG/L,,UG/L,,UG/L,,VOLTS,,VOLTS,,,,,,,,,,,
33RR20220613,       P02E,     177,          1,          4,          4,2,20220705,       0323,    29.9999,  -127.1467,       4531,  4040.9,2,   1.5104,2,  34.6785,2,  34.6798,2,    137.9,2,   138.1,2,  166.50,2,   36.95,2,    0.00,2,    2.56,2,-999.000,9,-999.000,9,-999.0000,9,  -999.0,9,  -999.0,9,-999.0000,9,  -999.00,9, -999.00,9,  -999.0,9, -999.00,9, -999.00,9,     -999.0,9, 20220705,      337,  29.9999,-127.1467,     1.5103,2,     -999.0,9,     -999.0,9,     -999.0,9,     -999.0,9,     0.0129,1,     4.6996,1,     -999.0,9,     -999.0,9,     -999.0,9,     -999.0,9,     -999.0,9
33RR20220613,       P02E,     177,          1,          3,          3,2,20220705,       0323,    29.9999,  -127.1467,       4531,  4194.8,2,   1.5227,2,  34.6790,2,  34.6810,2,    139.0,2,   139.1,2,  166.11,2,   36.94,2,    0.00,2,    2.55,2,   0.006,2,   0.010,2,   0.0000,2,  2343.6,2,  2431.8,2,   7.5629,2,    25.02,2, -999.00,9,  -999.0,9, -999.00,9, -999.00,9,       23.0,2, 20220705,      332,  29.9999,-127.1467,     1.5225,2,     -999.0,9,     -999.0,9,     -999.0,9,     -999.0,9,     0.0129,1,     4.6996,1,     -999.0,9,     -999.0,9,     -999.0,9,     -999.0,9,     -999.0,9
33RR20220613,       P02E,     177,          1,          2,          2,2,20220705,       0323,    29.9999,  -127.1467,       4531,  4426.6,2,   1.5449,2,  34.6797,2,  34.6816,2,    140.0,2,   140.3,2,  165.62,2,   36.83,2,    0.00,2,    2.55,2,   0.006,2,   0.010,2,   0.0000,2,  2341.9,2,  2432.1,6,   7.5656,2,    25.00,2, -999.00,9,  -999.0,9, -999.00,9, -999.00,9,       23.6,2, 20220705,      328,  29.9998,-127.1466,     1.5448,2,     -999.0,9,     -999.0,9,     -999.0,9,     -999.0,9,     0.0121,1,     4.6989,1,     -999.0,9,     -999.0,9,     -999.0,9,     -999.0,9,     -999.0,9
33RR20220613,       P02E,     177,          1,          1,          1,2,20220705,       0323,    29.9999,  -127.1467,       4531,  4600.6,2,   1.5637,2,  34.6798,3,  34.6830,2,    140.0,2,   139.7,2,  165.72,2,   36.84,2,    0.00,2,    2.55,2,   0.008,2,   0.009,2,   0.0000,2,  2345.7,6,  2430.6,2,   7.5653,2,    25.01,2, -999.00,9,  -999.0,9, -999.00,9, -999.00,9,       23.4,2, 20220705,      323,  29.9998,-127.1466,     1.5636,2,     -999.0,9,     -999.0,9,     -999.0,9,     -999.0,9,     0.0133,1,     4.6976,1,     -999.0,9,     -999.0,9,     -999.0,9,     -999.0,9,     -999.0,9