BOTTLE,20230830CCHSIOCBG
EXPOCODE,SECT_ID,STNNBR,CASTNO,SAMPNO,BTLNBR,BTLNBR_FLAG_W,DATE,TIME,LATITUDE,LONGITUDE,DEPTH,CTDPRS,CTDPRS_FLAG_W,CTDTMP,CTDTMP_FLAG_W,CTDSAL,CTDSAL_FLAG_W,SALNTY,SALNTY_FLAG_W,CTDOXY,CTDOXY_FLAG_W,OXYGEN,OXYGEN_FLAG_W,SILCAT,SILCAT_FLAG_W,NITRAT,NITRAT_FLAG_W,NITRIT,NITRIT_FLAG_W,PHSPHT,PHSPHT_FLAG_W,CFC-11,CFC-11_FLAG_W,CFC-12,CFC-12_FLAG_W,SF6,SF6_FLAG_W,TCARBN,TCARBN_FLAG_W,ALKALI,ALKALI_FLAG_W,PH_TOT,PH_TOT_FLAG_W,PH_TMP,PH_TMP_FLAG_W,DELC13,DELC13_FLAG_W,DELC14,DELC14_FLAG_W,DOC,DOC_FLAG_W,TDN,TDN_FLAG_W,N2O,N2O_FLAG_W,BTL_DATE,BTL_TIME,BTL_LAT,BTL_LON,REFTMP,REFTMP_FLAG_W,POC,POC_FLAG_W,PON,PON_FLAG_W,POP,POP_FLAG_W,PCOD,PCOD_FLAG_W,CTDFLUOR,CTDFLUOR_FLAG_W,CTDXMISS,CTDXMISS_FLAG_W,HPLC,HPLC_FLAG_W,DNA,DNA_FLAG_W,FCM,FCM_FLAG_W,IMAGES,IMAGES_FLAG_W,VIRAL_ABUNDANCE,VIRAL_ABUNDANCE_FLAG_W
,,,,,,,,,,,METERS,DBAR,,ITS-90,,PSS-78,,PSS-78,,UMOL/KG,,UMOL/KG,,UMOL/KG,,UMOL/KG,,UMOL/KG,,UMOL/KG,,PMOL/KG,,PMOL/KG,,FMOL/KG,,UMOL/KG,,UMOL/KG,,,,DEG C,,/MILLE,,/MILLE,,UMOL/KG,,UMOL/KG,,NMOL/KG,,,,,,ITS-90,,UG/L,,UG/L,,UG/L,,UG/L,,VOLTS,,VOLTS,,,,,,,,,,,
33RR20220613,       P02E,     170,          2,         36,         36,2,20220703,       0337,    30.0002,  -131.1893,       5225,     3.8,2,  19.7964,2,  33.6959,2,  33.6958,2,    230.0,3,   233.4,2,    0.98,2,    0.01,2,    0.00,2,    0.23,2,   2.029,2,   1.251,2,   2.0633,2,  2026.4,6,  2248.2,2,   7.9284,2,    25.00,2, -999.00,9,  -999.0,9, -999.00,1, -999.00,1,        7.9,2, 20220703,      551,  30.0002,-131.1893,    19.7971,2,     -999.0,9,     -999.0,9,     -999.0,9,     -999.0,9,     0.0147,1,     4.6372,1,     -999.0,9,     -999.0,9,     -999.0,9,     -999.0,9,     -999.0,9
33RR20220613,       P02E,     170,          2,         35,         35,2,20220703,       0337,    30.0002,  -131.1893,       5225,    24.9,2,  19.8035,2,  33.6958,2,  33.6932,2,    229.6,3,   233.2,2,    0.98,2,    0.01,2,    0.00,2,    0.25,2,   2.006,2,   1.240,2,   2.0201,2,  2025.2,2,  2249.1,6,   7.9290,2,    25.01,2, -999.00,9,  -999.0,9, -999.00,1, -999.00,1,        8.0,2, 20220703,      549,  30.0002,-131.1893,    19.8054,2,     -999.0,9,     -999.0,9,     -999.0,9,     -999.0,9,     0.0147,1,     4.6355,1,     -999.0,9,     -999.0,9,     -999.0,9,     -999.0,9,     -999.0,9
33RR20220613,       P02E,     170,          2,         34,         34,2,20220703,       0337,    30.0002,  -131.1893,       5225,    50.7,2,  18.2244,2,  33.5778,2,  33.5698,2,    249.1,2,   247.6,2,    0.98,2,    0.01,2,    0.00,2,    0.24,2,   2.237,2,   1.364,2,   2.1830,2,  2019.1,2,  2240.8,2,   7.9262,2,    25.00,2, -999.00,9,  -999.0,9, -999.00,1, -999.00,1,        8.4,2, 20220703,      547,  30.0002,-131.1893,    18.1995,2,     -999.0,9,     -999.0,9,     -999.0,9,     -999.0,9,     0.0154,1,     4.6415,1,     -999.0,9,     -999.0,9,     -999.0,9,     -999.0,9,     -999.0,9
33RR20220613,       P02E,     170,          2,         33,         33,2,20220703,       0337,    30.0002,  -131.1893,       5225,    74.9,2,  17.3216,2,  33.5374,2,  33.5282,2,    252.2,3,   249.1,2,    0.98,2,    0.00,2,    0.00,2,    0.25,2,   2.278,2,   1.387,2,   2.2182,2,  2018.1,2,  2238.6,2,   7.9223,2,    25.00,2, -999.00,9,  -999.0,9, -999.00,1, -999.00,1,        8.5,2, 20220703,      545,  30.0002,-131.1893,    17.3206,2,     -999.0,9,     -999.0,9,     -999.0,9,     -999.0,9,     0.0187,1,     4.6430,1,     -999.0,9,     -999.0,9,     -999.0,9,     -999.0,9,     -999.0,9
33RR20220613,       P02E,     170,          2,         32,         32,2,20220703,       0337,    30.0002,  -131.1893,       5225,   102.2,2,  16.3935,2,  33.5247,2,  33.5163,2,    249.4,3,   246.2,2,    1.27,2,    0.01,2,    0.00,2,    0.28,2,   2.371,2,   1.444,2,   2.2682,2,  2022.4,2,  2234.0,2,   7.9050,2,    25.01,2, -999.00,9,  -999.0,9, -999.00,1, -999.00,1,        9.1,2, 20220703,      543,  30.0002,-131.1893,    16.3834,2,     -999.0,9,     -999.0,9,     -999.0,9,     -999.0,9,     0.0293,1,     4.6548,1,     -999.0,9,     -999.0,9,     -999.0,9,     -999.0,9,     -999.0,9
33RR20220613,       P02E,     170,          2,         31,         31,2,20220703,       0337,    30.0002,  -131.1893,       5225,   151.7,2,  12.7705,2,  33.3497,2,  33.3556,2,    228.9,2,   228.2,2,    4.11,2,    5.04,2,    0.03,2,    0.65,2,   2.761,2,   1.655,2,   2.4386,2,  2055.0,2,  2217.3,2,   7.7980,2,    25.01,2, -999.00,9,  -999.0,9, -999.00,1, -999.00,1,       12.2,2, 20220703,      541,  30.0002,-131.1893,    12.6957,2,     -999.0,9,     -999.0,9,     -999.0,9,     -999.0,9,     0.0215,1,     4.6756,1,     -999.0,9,     -999.0,9,     -999.0,9,     -999.0,9,     -999.0,9
33RR20220613,       P02E,     170,          2,         30,         17,2,20220703,       0337,    30.0002,  -131.1893,       5225,   201.0,2,  10.2129,2,  33.6825,2,  33.6924,2,    196.0,2,   196.2,2,   13.40,2,   14.60,2,    0.01,2,    1.16,2,   3.067,2,   1.812,2,   2.2733,2,  2115.3,2,  2234.3,2,   7.6806,2,    24.99,2, -999.00,9,  -999.0,9, -999.00,1, -999.00,1,       16.6,2, 20220703,      539,  30.0002,-131.1893,    10.1634,2,     -999.0,9,     -999.0,9,     -999.0,9,     -999.0,9,     0.0134,1,     4.6867,1,     -999.0,9,     -999.0,9,     -999.0,9,     -999.0,9,     -999.0,9
33RR20220613,       P02E,     170,          2,         29,         29,2,20220703,       0337,    30.0002,  -131.1893,       5225,   251.0,2,   9.1408,2,  33.9479,2,  33.9494,2,    182.7,2,   181.9,2,   22.48,2,   19.44,2,    0.00,2,    1.43,2,   3.050,2,   1.813,2,   1.8595,2,  2147.3,2,  2252.4,2,   7.6384,2,    25.00,2, -999.00,9,  -999.0,9, -999.00,1, -999.00,1,       22.2,2, 20220703,      537,  30.0002,-131.1893,     9.1411,2,     -999.0,9,     -999.0,9,     -999.0,9,     -999.0,9,     0.0122,1,     4.6908,1,     -999.0,9,     -999.0,9,     -999.0,9,     -999.0,9,     -999.0,9
33RR20220613,       P02E,     170,          2,         28,         28,2,20220703,       0337,    30.0002,  -131.1893,       5225,   302.1,2,   8.4337,2,  33.9991,2,  34.0017,2,    158.3,2,   158.8,2,   30.89,2,   23.48,2,    0.00,2,    1.67,2,   2.904,2,   1.730,2,   1.4820,2,  2174.5,2,  2261.6,2,   7.5857,2,    25.00,2, -999.00,9,  -999.0,9, -999.00,1, -999.00,1,       27.3,2, 20220703,      535,  30.0002,-131.1894,     8.4332,2,     -999.0,9,     -999.0,9,     -999.0,9,     -999.0,9,     0.0122,1,     4.6909,1,     -999.0,9,     -999.0,9,     -999.0,9,     -999.0,9,     -999.0,9
33RR20220613,       P02E,     170,          2,         27,         27,2,20220703,       0337,    30.0002,  -131.1893,       5225,   353.0,2,   7.3710,2,  34.0026,2,  34.0053,2,    120.2,3,   123.1,2,   43.50,2,   28.84,2,    0.00,2,    2.06,2,   2.602,2,   1.505,2,   1.0095,2,  -999.0,9,  -999.0,9,-999.0000,9,  -999.00,9, -999.00,9,  -999.0,9, -999.00,1, -999.00,1,       31.9,2, 20220703,      533,  30.0002,-131.1894,     7.3893,2,     -999.0,9,     -999.0,9,     -999.0,9,     -999.0,9,     0.0134,1,     4.6916,1,     -999.0,9,     -999.0,9,     -999.0,9,     -999.0,9,     -999.0,9
33RR20220613,       P02E,     170,          2,         26,         26,2,20220703,       0337,    30.0002,  -131.1893,       5225,   402.1,2,   6.7586,2,  34.0397,2,  34.0413,2,     73.2,3,    75.8,2,   54.84,2,   33.95,2,    0.00,2,    2.46,2,   2.098,2,   1.221,2,   0.7420,2,  2256.9,2,  2280.8,2,   7.3946,2,    24.99,2, -999.00,9,  -999.0,9, -999.00,1, -999.00,1,       37.9,2, 20220703,      531,  30.0002,-131.1894,     6.7631,2,     -999.0,9,     -999.0,9,     -999.0,9,     -999.0,9,     0.0134,1,     4.6898,1,     -999.0,9,     -999.0,9,     -999.0,9,     -999.0,9,     -999.0,9
33RR20220613,       P02E,     170,          2,         25,         25,2,20220703,       0337,    30.0002,  -131.1893,       5225,   503.7,2,   5.8607,2,  34.1464,2,  34.1477,2,     30.3,3,    31.8,2,   73.50,2,   38.90,2,    0.00,2,    2.85,2,   1.088,2,   0.612,2,   0.2987,2,  -999.0,9,  -999.0,9,-999.0000,9,  -999.00,9, -999.00,9,  -999.0,9, -999.00,1, -999.00,1,       49.3,2, 20220703,      528,  30.0002,-131.1893,     5.8761,2,     -999.0,9,     -999.0,9,     -999.0,9,     -999.0,9,     0.0134,1,     4.6900,1,     -999.0,9,     -999.0,9,     -999.0,9,     -999.0,9,     -999.0,9
33RR20220613,       P02E,     170,          2,         24,         24,2,20220703,       0337,    30.0002,  -131.1893,       5225,   604.8,2,   5.4182,2,  34.2490,2,  34.2550,2,     15.4,3,    14.9,2,   85.71,2,   40.80,2,    0.00,2,    3.05,2,   0.421,2,   0.232,2,   0.1801,2,  2329.3,2,  2321.8,2,-999.0000,1,  -999.00,1, -999.00,9,  -999.0,9, -999.00,1, -999.00,1,       53.2,2, 20220703,      525,  30.0002,-131.1893,     5.4161,2,     -999.0,9,     -999.0,9,     -999.0,9,     -999.0,9,     0.0134,1,     4.6905,1,     -999.0,9,     -999.0,9,     -999.0,9,     -999.0,9,     -999.0,9
33RR20220613,       P02E,     170,          2,         23,         23,2,20220703,       0337,    30.0002,  -131.1893,       5225,   706.0,2,   4.8670,2,  34.3212,2,  34.3303,2,     12.5,3,    11.5,2,   96.85,2,   42.10,2,    0.00,2,    3.12,2,   0.145,2,   0.088,2,   0.1074,2,  2344.4,2,  2337.9,2,   7.3186,2,    25.00,2, -999.00,9,  -999.0,9, -999.00,1, -999.00,1,       56.4,2, 20220703,      522,  30.0002,-131.1893,     4.8668,2,     -999.0,9,     -999.0,9,     -999.0,9,     -999.0,9,     0.0134,1,     4.6917,1,     -999.0,9,     -999.0,9,     -999.0,9,     -999.0,9,     -999.0,9
33RR20220613,       P02E,     170,          2,         22,         22,2,20220703,       0337,    30.0002,  -131.1893,       5225,   806.7,2,   4.5639,2,  34.3800,3,  34.3919,2,     13.8,3,    13.1,2,  104.57,2,   43.12,2,    0.00,2,    3.14,2,   0.050,2,   0.035,2,   0.1883,2,  2353.0,2,  2350.9,2,   7.3182,2,    25.00,2, -999.00,9,  -999.0,9, -999.00,1, -999.00,1,       56.5,2, 20220703,      519,  30.0002,-131.1894,     4.5624,2,     -999.0,9,     -999.0,9,     -999.0,9,     -999.0,9,     0.0134,1,     4.6921,1,     -999.0,9,     -999.0,9,     -999.0,9,     -999.0,9,     -999.0,9
33RR20220613,       P02E,     170,          2,         21,         21,2,20220703,       0337,    30.0002,  -131.1893,       5225,   908.3,2,   4.2064,2,  34.4186,2,  34.4202,2,     18.3,3,    17.1,2,  112.28,2,   42.98,2,    0.00,2,    3.14,2,   0.026,2,   0.021,2,   0.0900,2,  2356.8,2,  2359.8,2,   7.3280,2,    25.00,2, -999.00,9,  -999.0,9, -999.00,1, -999.00,1,       55.5,2, 20220703,      516,  30.0002,-131.1893,     4.2065,2,     -999.0,9,     -999.0,9,     -999.0,9,     -999.0,9,     0.0134,1,     4.6926,1,     -999.0,9,     -999.0,9,     -999.0,9,     -999.0,9,     -999.0,9
33RR20220613,       P02E,     170,          2,         20,         20,4,20220703,       0337,    30.0002,  -131.1893,       5225,  1009.1,3,   3.8082,3,  34.4595,3,  34.5368,3,     27.0,3,    60.3,3,  134.85,3,   41.38,3,    0.00,3,    2.97,3,-999.000,5,-999.000,5,-999.0000,5,  -999.0,9,  -999.0,9,-999.0000,9,  -999.00,9, -999.00,9,  -999.0,9, -999.00,1, -999.00,1,     -999.0,5, 20220703,      514,  30.0002,-131.1894,     3.8090,3,     -999.0,9,     -999.0,9,     -999.0,9,     -999.0,9,     0.0134,1,     4.6944,1,     -999.0,9,     -999.0,9,     -999.0,9,     -999.0,9,     -999.0,9
33RR20220613,       P02E,     170,          2,         19,         39,2,20220703,       0337,    30.0002,  -131.1893,       5225,  1110.2,2,   3.5656,2,  34.4916,2,  34.4932,2,     34.3,2,    34.1,2,  124.88,2,   42.68,2,    0.00,2,    3.08,2,   0.009,2,   0.008,2,   0.0000,2,  2364.6,2,  2378.7,2,   7.3648,2,    25.00,2, -999.00,9,  -999.0,9, -999.00,1, -999.00,1,       46.8,2, 20220703,      510,  30.0002,-131.1893,     3.5648,2,     -999.0,9,     -999.0,9,     -999.0,9,     -999.0,9,     0.0134,1,     4.6952,1,     -999.0,9,     -999.0,9,     -999.0,9,     -999.0,9,     -999.0,9
33RR20220613,       P02E,     170,          2,         18,         18,2,20220703,       0337,    30.0002,  -131.1893,       5225,  1212.3,2,   3.3466,2,  34.5158,2,  34.5182,2,     40.7,2,    40.6,2,  128.89,2,   42.49,2,    0.00,2,    3.05,2,   0.007,2,   0.004,2,   0.0000,2,  -999.0,9,  -999.0,9,-999.0000,9,  -999.00,9, -999.00,9,  -999.0,9, -999.00,1, -999.00,1,       44.0,2, 20220703,      507,  30.0002,-131.1894,     3.3464,2,     -999.0,9,     -999.0,9,     -999.0,9,     -999.0,9,     0.0134,1,     4.6958,1,     -999.0,9,     -999.0,9,     -999.0,9,     -999.0,9,     -999.0,9
33RR20220613,       P02E,     170,          2,         17,         37,2,20220703,       0337,    30.0002,  -131.1893,       5225,  1313.1,2,   3.1412,2,  34.5343,2,  34.5384,2,     45.2,2,    44.8,2,  134.55,2,   42.41,2,    0.00,2,    3.04,2,   0.006,2,   0.007,2,   0.0000,2,  2367.3,2,  2388.8,2,   7.3858,2,    24.99,2, -999.00,9,  -999.0,9, -999.00,1, -999.00,1,       43.0,2, 20220703,      505,  30.0002,-131.1893,     3.1408,2,     -999.0,9,     -999.0,9,     -999.0,9,     -999.0,9,     0.0134,1,     4.6971,1,     -999.0,9,     -999.0,9,     -999.0,9,     -999.0,9,     -999.0,9
33RR20220613,       P02E,     170,          2,         16,         16,2,20220703,       0337,    30.0002,  -131.1893,       5225,  1414.1,2,   2.9677,2,  34.5482,2,  34.5516,2,     49.6,3,    49.1,2,  138.95,2,   42.18,2,    0.00,2,    3.02,2,   0.006,2,   0.005,2,   0.0000,2,  2369.4,2,  2395.7,2,   7.3946,2,    25.04,2, -999.00,9,  -999.0,9, -999.00,1, -999.00,1,       41.1,2, 20220703,      502,  30.0002,-131.1893,     2.9669,2,     -999.0,9,     -999.0,9,     -999.0,9,     -999.0,9,     0.0134,1,     4.6970,1,     -999.0,9,     -999.0,9,     -999.0,9,     -999.0,9,     -999.0,9
33RR20220613,       P02E,     170,          2,         15,         15,2,20220703,       0337,    30.0002,  -131.1893,       5225,  1617.9,2,   2.6397,2,  34.5737,2,  34.5775,2,     57.8,2,    57.7,2,  147.84,2,   41.80,2,    0.00,2,    2.97,2,   0.006,2,   0.006,2,   0.0000,2,  2370.1,2,  2404.9,2,   7.4096,2,    25.02,2, -999.00,9,  -999.0,9, -999.00,1, -999.00,1,       38.2,2, 20220703,      457,  30.0002,-131.1893,     2.6404,2,     -999.0,9,     -999.0,9,     -999.0,9,     -999.0,9,     0.0133,1,     4.6976,1,     -999.0,9,     -999.0,9,     -999.0,9,     -999.0,9,     -999.0,9
33RR20220613,       P02E,     170,          2,         14,         42,2,20220703,       0337,    30.0002,  -131.1893,       5225,  1819.8,2,   2.3323,2,  34.5993,3,  34.6071,2,     69.1,2,    69.0,2,  154.38,2,   41.15,2,    0.00,2,    2.91,2,   0.006,2,   0.006,2,   0.0000,2,  -999.0,9,  -999.0,9,-999.0000,9,  -999.00,9, -999.00,9,  -999.0,9, -999.00,1, -999.00,1,       34.7,2, 20220703,      452,  30.0002,-131.1893,     2.3329,2,     -999.0,9,     -999.0,9,     -999.0,9,     -999.0,9,     0.0134,1,     4.6985,1,     -999.0,9,     -999.0,9,     -999.0,9,     -999.0,9,     -999.0,9
33RR20220613,       P02E,     170,          2,         13,         13,2,20220703,       0337,    30.0002,  -131.1893,       5225,  2023.6,2,   2.1345,2,  34.6156,3,  34.6189,2,     77.8,2,    78.0,2,  159.76,2,   40.65,2,    0.00,2,    2.87,2,   0.004,2,   0.002,2,   0.0000,2,  2370.9,2,  2419.2,2,   7.4486,2,    25.02,2, -999.00,9,  -999.0,9, -999.00,1, -999.00,1,       31.9,2, 20220703,      446,  30.0002,-131.1893,     2.1344,2,     -999.0,9,     -999.0,9,     -999.0,9,     -999.0,9,     0.0134,1,     4.6994,1,     -999.0,9,     -999.0,9,     -999.0,9,     -999.0,9,     -999.0,9
33RR20220613,       P02E,     170,          2,         12,         12,2,20220703,       0337,    30.0002,  -131.1893,       5225,  2278.6,2,   1.9273,2,  34.6331,3,  34.6362,2,     89.2,2,    89.1,2,  164.25,2,   39.92,2,    0.00,2,    2.80,2,   0.007,2,   0.005,2,   0.0000,2,  -999.0,9,  -999.0,9,-999.0000,9,  -999.00,9, -999.00,9,  -999.0,9, -999.00,1, -999.00,1,       29.4,2, 20220703,      442,  30.0002,-131.1894,     1.9272,2,     -999.0,9,     -999.0,9,     -999.0,9,     -999.0,9,     0.0134,1,     4.6996,1,     -999.0,9,     -999.0,9,     -999.0,9,     -999.0,9,     -999.0,9
33RR20220613,       P02E,     170,          2,         11,         11,2,20220703,       0337,    30.0002,  -131.1893,       5225,  2532.6,2,   1.7816,2,  34.6455,3,  34.6482,2,     99.0,2,    99.0,2,  167.67,2,   39.29,2,    0.00,2,    2.76,2,   0.005,2,   0.005,2,   0.0000,2,  2364.1,2,  2424.8,2,   7.4892,2,    25.02,2, -999.00,9,  -999.0,9, -999.00,1, -999.00,1,       27.8,2, 20220703,      436,  30.0002,-131.1893,     1.7814,2,     -999.0,9,     -999.0,9,     -999.0,9,     -999.0,9,     0.0132,1,     4.7007,1,     -999.0,9,     -999.0,9,     -999.0,9,     -999.0,9,     -999.0,9
33RR20220613,       P02E,     170,          2,         10,         10,2,20220703,       0337,    30.0002,  -131.1893,       5225,  2786.8,2,   1.6416,2,  34.6576,2,  34.6590,2,    110.2,2,   110.6,2,  169.62,2,   38.60,2,    0.00,2,    2.70,2,   0.004,2,   0.004,2,   0.0000,2,  -999.0,9,  -999.0,9,-999.0000,9,  -999.00,9, -999.00,9,  -999.0,9, -999.00,1, -999.00,1,       25.8,2, 20220703,      431,  30.0002,-131.1893,     1.6414,2,     -999.0,9,     -999.0,9,     -999.0,9,     -999.0,9,     0.0134,1,     4.7002,1,     -999.0,9,     -999.0,9,     -999.0,9,     -999.0,9,     -999.0,9
33RR20220613,       P02E,     170,          2,          9,          9,2,20220703,       0337,    30.0002,  -131.1893,       5225,  3042.5,2,   1.5604,2,  34.6663,3,  34.6816,2,    119.0,2,   119.4,2,  170.20,2,   38.08,2,    0.00,2,    2.65,2,   0.005,2,   0.007,2,   0.0000,2,  2352.2,2,  2429.8,2,   7.5278,2,    25.02,2, -999.00,9,  -999.0,9, -999.00,1, -999.00,1,       25.0,2, 20220703,      425,  30.0002,-131.1893,     1.5603,2,     -999.0,9,     -999.0,9,     -999.0,9,     -999.0,9,     0.0124,1,     4.7008,1,     -999.0,9,     -999.0,9,     -999.0,9,     -999.0,9,     -999.0,9
33RR20220613,       P02E,     170,          2,          8,          8,2,20220703,       0337,    30.0002,  -131.1893,       5225,  3349.2,2,   1.5100,2,  34.6736,2,  34.6741,2,    127.6,2,   128.0,2,  169.23,2,   37.58,2,    0.00,2,    2.61,2,   0.006,2,   0.008,2,   0.0000,2,  -999.0,9,  -999.0,9,-999.0000,9,  -999.00,9, -999.00,9,  -999.0,9, -999.00,1, -999.00,1,       23.7,2, 20220703,      419,  30.0002,-131.1893,     1.5099,2,     -999.0,9,     -999.0,9,     -999.0,9,     -999.0,9,     0.0122,1,     4.7008,1,     -999.0,9,     -999.0,9,     -999.0,9,     -999.0,9,     -999.0,9
33RR20220613,       P02E,     170,          2,          7,          7,2,20220703,       0337,    30.0002,  -131.1893,       5225,  3656.7,2,   1.4919,2,  34.6784,2,  34.6802,2,    134.2,2,   134.2,2,  167.56,2,   37.24,2,    0.00,2,    2.57,2,   0.006,2,   0.006,2,   0.0000,2,  2344.5,2,  2431.1,2,   7.5544,2,    25.03,2, -999.00,9,  -999.0,9, -999.00,1, -999.00,1,       23.4,2, 20220703,      413,  30.0002,-131.1893,     1.4918,2,     -999.0,9,     -999.0,9,     -999.0,9,     -999.0,9,     0.0122,1,     4.7018,1,     -999.0,9,     -999.0,9,     -999.0,9,     -999.0,9,     -999.0,9
33RR20220613,       P02E,     170,          2,          6,          6,2,20220703,       0337,    30.0002,  -131.1893,       5225,  3964.8,2,   1.4986,2,  34.6815,2,  34.6830,2,    138.4,2,   138.5,2,  165.81,2,   37.00,2,    0.00,2,    2.54,2,   0.005,2,   0.007,2,   0.0000,2,  -999.0,9,  -999.0,9,-999.0000,9,  -999.00,9, -999.00,9,  -999.0,9, -999.00,1, -999.00,1,       22.3,2, 20220703,      406,  30.0002,-131.1893,     1.4990,2,     -999.0,9,     -999.0,9,     -999.0,9,     -999.0,9,     0.0130,1,     4.7013,1,     -999.0,9,     -999.0,9,     -999.0,9,     -999.0,9,     -999.0,9
33RR20220613,       P02E,     170,          2,          5,          5,2,20220703,       0337,    30.0002,  -131.1893,       5225,  4272.9,2,   1.5189,2,  34.6832,2,  34.6822,2,    141.3,2,   141.5,2,  163.07,2,   36.77,2,    0.00,2,    2.53,2,   0.005,2,   0.007,2,   0.0000,2,  2339.9,2,  2431.3,2,   7.5668,2,    25.02,2, -999.00,9,  -999.0,9, -999.00,1, -999.00,1,       22.5,2, 20220703,      400,  30.0002,-131.1893,     1.5189,2,     -999.0,9,     -999.0,9,     -999.0,9,     -999.0,9,     0.0122,1,     4.7014,1,     -999.0,9,     -999.0,9,     -999.0,9,     -999.0,9,     -999.0,9