BOTTLE,20230830CCHSIOCBG
EXPOCODE,SECT_ID,STNNBR,CASTNO,SAMPNO,BTLNBR,BTLNBR_FLAG_W,DATE,TIME,LATITUDE,LONGITUDE,DEPTH,CTDPRS,CTDPRS_FLAG_W,CTDTMP,CTDTMP_FLAG_W,CTDSAL,CTDSAL_FLAG_W,SALNTY,SALNTY_FLAG_W,CTDOXY,CTDOXY_FLAG_W,OXYGEN,OXYGEN_FLAG_W,SILCAT,SILCAT_FLAG_W,NITRAT,NITRAT_FLAG_W,NITRIT,NITRIT_FLAG_W,PHSPHT,PHSPHT_FLAG_W,CFC-11,CFC-11_FLAG_W,CFC-12,CFC-12_FLAG_W,SF6,SF6_FLAG_W,TCARBN,TCARBN_FLAG_W,ALKALI,ALKALI_FLAG_W,PH_TOT,PH_TOT_FLAG_W,PH_TMP,PH_TMP_FLAG_W,DELC13,DELC13_FLAG_W,DELC14,DELC14_FLAG_W,DOC,DOC_FLAG_W,TDN,TDN_FLAG_W,N2O,N2O_FLAG_W,BTL_DATE,BTL_TIME,BTL_LAT,BTL_LON,REFTMP,REFTMP_FLAG_W,POC,POC_FLAG_W,PON,PON_FLAG_W,POP,POP_FLAG_W,PCOD,PCOD_FLAG_W,CTDFLUOR,CTDFLUOR_FLAG_W,CTDXMISS,CTDXMISS_FLAG_W,HPLC,HPLC_FLAG_W,DNA,DNA_FLAG_W,FCM,FCM_FLAG_W,IMAGES,IMAGES_FLAG_W,VIRAL_ABUNDANCE,VIRAL_ABUNDANCE_FLAG_W
,,,,,,,,,,,METERS,DBAR,,ITS-90,,PSS-78,,PSS-78,,UMOL/KG,,UMOL/KG,,UMOL/KG,,UMOL/KG,,UMOL/KG,,UMOL/KG,,PMOL/KG,,PMOL/KG,,FMOL/KG,,UMOL/KG,,UMOL/KG,,,,DEG C,,/MILLE,,/MILLE,,UMOL/KG,,UMOL/KG,,NMOL/KG,,,,,,ITS-90,,UG/L,,UG/L,,UG/L,,UG/L,,VOLTS,,VOLTS,,,,,,,,,,,
33RR20220613,       P02E,     160,          1,         36,         36,2,20220630,       0434,    29.9998,  -136.9629,       3734,     3.9,2,  21.2989,2,  34.1577,2,  34.1470,2,    227.7,2,   228.0,2,    1.08,2,    0.03,2,    0.00,2,    0.13,2,   1.906,2,   1.191,2,   1.9132,2,  2028.1,2,  2268.6,2,   7.9484,2,    25.02,2, -999.00,9,  -999.0,9, -999.00,1, -999.00,1,        7.5,2, 20220630,      619,  29.9998,-136.9629,    21.2928,2,     -999.0,9,     -999.0,9,     -999.0,9,     -999.0,9,     0.0134,1,     4.6259,1,     -999.0,9,     -999.0,9,     -999.0,9,     -999.0,9,     -999.0,9
33RR20220613,       P02E,     160,          1,         35,         35,2,20220630,       0434,    29.9998,  -136.9629,       3734,    20.3,2,  21.3628,2,  34.2170,2,  34.1985,2,    227.3,2,   228.0,2,    0.98,2,    0.03,2,    0.00,2,    0.09,2,   1.921,2,   1.202,2,   1.9904,2,  2034.1,6,  2271.8,2,   7.9503,2,    25.01,2, -999.00,9,  -999.0,9, -999.00,1, -999.00,1,        7.5,2, 20220630,      618,  29.9999,-136.9629,    21.3478,2,     -999.0,9,     -999.0,9,     -999.0,9,     -999.0,9,     0.0140,1,     4.6266,1,     -999.0,9,     -999.0,9,     -999.0,9,     -999.0,9,     -999.0,9
33RR20220613,       P02E,     160,          1,         34,         34,2,20220630,       0434,    29.9998,  -136.9629,       3734,    40.5,2,  18.6106,2,  33.7609,2,  33.7619,2,    248.8,2,   247.4,2,    0.98,2,    0.03,2,    0.00,2,    0.15,2,-999.000,9,-999.000,9,-999.0000,9,  2021.1,2,  2248.1,2,   7.9364,2,    25.02,2, -999.00,9,  -999.0,9, -999.00,1, -999.00,1,     -999.0,9, 20220630,      616,  29.9999,-136.9628,    18.6431,2,     -999.0,9,     -999.0,9,     -999.0,9,     -999.0,9,     0.0134,1,     4.6312,1,     -999.0,9,     -999.0,9,     -999.0,9,     -999.0,9,     -999.0,9
33RR20220613,       P02E,     160,          1,         33,         33,2,20220630,       0434,    29.9998,  -136.9629,       3734,    65.9,2,  17.9571,2,  33.8050,2,  33.7889,2,    248.3,2,   247.3,2,    0.98,2,    0.02,2,    0.00,2,    0.15,2,   2.234,2,   1.367,2,   2.2032,2,  2021.8,2,  2247.8,2,   7.9349,2,    25.02,2, -999.00,9,  -999.0,9, -999.00,1, -999.00,1,        8.4,2, 20220630,      614,  29.9998,-136.9629,    17.9616,2,     -999.0,9,     -999.0,9,     -999.0,9,     -999.0,9,     0.0158,1,     4.6367,1,     -999.0,9,     -999.0,9,     -999.0,9,     -999.0,9,     -999.0,9
33RR20220613,       P02E,     160,          1,         32,         32,2,20220630,       0434,    29.9998,  -136.9629,       3734,    90.9,2,  18.3435,2,  34.1758,2,  34.1644,2,    244.1,2,   241.8,2,    1.08,2,    0.01,2,    0.00,2,    0.09,2,-999.000,9,-999.000,9,-999.0000,9,  2027.9,2,  2265.7,2,   7.9450,2,    25.02,2, -999.00,9,  -999.0,9, -999.00,1, -999.00,1,     -999.0,9, 20220630,      613,  29.9998,-136.9629,    18.3408,2,     -999.0,9,     -999.0,9,     -999.0,9,     -999.0,9,     0.0171,1,     4.6422,1,     -999.0,9,     -999.0,9,     -999.0,9,     -999.0,9,     -999.0,9
33RR20220613,       P02E,     160,          1,         31,         31,2,20220630,       0434,    29.9998,  -136.9629,       3734,   117.1,2,  18.4295,2,  34.3508,2,  34.3372,2,    237.8,2,   238.5,2,    1.17,2,    0.00,2,    0.00,2,    0.05,2,   2.110,2,   1.290,2,   2.0094,2,  2032.9,2,  2269.6,6,   7.9473,2,    25.01,2, -999.00,9,  -999.0,9, -999.00,1, -999.00,1,        8.1,2, 20220630,      611,  29.9998,-136.9629,    18.4270,2,     -999.0,9,     -999.0,9,     -999.0,9,     -999.0,9,     0.0200,1,     4.6531,1,     -999.0,9,     -999.0,9,     -999.0,9,     -999.0,9,     -999.0,9
33RR20220613,       P02E,     160,          1,         30,         17,2,20220630,       0434,    29.9998,  -136.9629,       3734,   141.6,2,  17.3070,2,  34.1591,2,  34.1646,2,    233.7,2,   233.9,2,    1.37,2,    0.03,2,    0.02,2,    0.09,2,-999.000,9,-999.000,9,-999.0000,9,  2037.4,2,  2260.8,2,   7.9231,2,    25.03,2, -999.00,9,  -999.0,9, -999.00,1, -999.00,1,     -999.0,9, 20220630,      609,  29.9999,-136.9628,    17.3539,3,     -999.0,9,     -999.0,9,     -999.0,9,     -999.0,9,     0.0358,1,     4.6490,1,     -999.0,9,     -999.0,9,     -999.0,9,     -999.0,9,     -999.0,9
33RR20220613,       P02E,     160,          1,         29,         29,2,20220630,       0434,    29.9998,  -136.9629,       3734,   187.4,2,  12.7824,2,  33.7553,2,  33.7566,2,    216.0,3,   219.1,2,    5.38,2,    6.09,2,    0.00,2,    0.57,2,   2.775,2,   1.681,2,   2.2504,2,  2068.2,2,  2232.7,2,   7.7973,2,    25.02,2, -999.00,9,  -999.0,9, -999.00,1, -999.00,1,       12.1,2, 20220630,      607,  29.9998,-136.9628,    12.7871,2,     -999.0,9,     -999.0,9,     -999.0,9,     -999.0,9,     0.0176,1,     4.6786,1,     -999.0,9,     -999.0,9,     -999.0,9,     -999.0,9,     -999.0,9
33RR20220613,       P02E,     160,          1,         28,         28,2,20220630,       0434,    29.9998,  -136.9629,       3734,   237.5,2,  10.4060,2,  33.9380,2,  33.9183,2,    206.0,2,   206.3,2,   13.11,2,   13.59,2,    0.00,2,    0.99,2,   2.984,2,   1.805,2,   2.0348,2,  2110.7,2,  2244.4,2,   7.7209,2,    25.01,2, -999.00,9,  -999.0,9, -999.00,1, -999.00,1,       16.4,2, 20220630,      605,  29.9998,-136.9629,    10.3888,2,     -999.0,9,     -999.0,9,     -999.0,9,     -999.0,9,     0.0122,1,     4.6881,1,     -999.0,9,     -999.0,9,     -999.0,9,     -999.0,9,     -999.0,9
33RR20220613,       P02E,     160,          1,         27,         27,2,20220630,       0434,    29.9998,  -136.9629,       3734,   288.3,2,   9.4431,2,  34.0093,2,  34.0049,2,    198.7,2,   200.1,2,   19.85,2,   17.15,2,    0.00,2,    1.20,2,   3.053,2,   1.831,2,   1.8056,2,  2133.1,2,  2254.0,2,   7.6860,2,    25.03,2, -999.00,9,  -999.0,9, -999.00,1, -999.00,1,       20.4,2, 20220630,      603,  29.9998,-136.9628,     9.4433,2,     -999.0,9,     -999.0,9,     -999.0,9,     -999.0,9,     0.0122,1,     4.6896,1,     -999.0,9,     -999.0,9,     -999.0,9,     -999.0,9,     -999.0,9
33RR20220613,       P02E,     160,          1,         26,         26,2,20220630,       0434,    29.9998,  -136.9629,       3734,   338.0,2,   8.5525,2,  34.0122,2,  34.0088,2,    175.5,2,   175.7,2,   28.56,2,   21.55,2,    0.00,2,    1.52,2,   2.975,2,   1.769,2,   1.5608,2,  2164.3,2,  2263.3,2,   7.6253,2,    25.02,2, -999.00,9,  -999.0,9, -999.00,1, -999.00,1,       24.9,2, 20220630,      601,  29.9998,-136.9629,     8.5540,2,     -999.0,9,     -999.0,9,     -999.0,9,     -999.0,9,     0.0122,1,     4.6897,1,     -999.0,9,     -999.0,9,     -999.0,9,     -999.0,9,     -999.0,9
33RR20220613,       P02E,     160,          1,         25,         25,2,20220630,       0434,    29.9998,  -136.9629,       3734,   389.0,2,   7.7667,2,  34.0045,2,  34.0008,2,    149.3,2,   149.3,2,   37.65,2,   25.71,2,    0.00,2,    1.81,2,   2.779,2,   1.649,2,   1.1881,2,  2190.9,2,  2268.1,2,   7.5603,2,    25.02,2, -999.00,9,  -999.0,9, -999.00,1, -999.00,1,       28.8,2, 20220630,      559,  29.9998,-136.9628,     7.7676,2,     -999.0,9,     -999.0,9,     -999.0,9,     -999.0,9,     0.0134,1,     4.6902,1,     -999.0,9,     -999.0,9,     -999.0,9,     -999.0,9,     -999.0,9
33RR20220613,       P02E,     160,          1,         24,         24,2,20220630,       0434,    29.9998,  -136.9629,       3734,   439.4,2,   6.8892,2,  33.9999,2,  34.0004,2,    109.8,2,   108.8,2,   50.17,2,   31.24,2,    0.00,2,    2.22,2,   2.415,2,   1.425,2,   0.8548,2,  -999.0,9,  -999.0,9,-999.0000,9,  -999.00,9, -999.00,9,  -999.0,9, -999.00,1, -999.00,1,       33.9,2, 20220630,      557,  29.9998,-136.9628,     6.8957,2,     -999.0,9,     -999.0,9,     -999.0,9,     -999.0,9,     0.0131,1,     4.6906,1,     -999.0,9,     -999.0,9,     -999.0,9,     -999.0,9,     -999.0,9
33RR20220613,       P02E,     160,          1,         23,         23,2,20220630,       0434,    29.9998,  -136.9629,       3734,   489.7,2,   6.1925,2,  34.0159,2,  34.0141,2,     81.8,2,    81.5,2,   60.44,2,   34.87,2,    0.00,2,    2.50,2,   2.048,2,   1.183,2,   0.6777,2,  2260.4,2,  2285.8,2,   7.4006,2,    25.02,2, -999.00,9,  -999.0,9, -999.00,1, -999.00,1,       37.7,2, 20220630,      555,  29.9998,-136.9629,     6.1914,2,     -999.0,9,     -999.0,9,     -999.0,9,     -999.0,9,     0.0128,1,     4.6910,1,     -999.0,9,     -999.0,9,     -999.0,9,     -999.0,9,     -999.0,9
33RR20220613,       P02E,     160,          1,         22,         22,2,20220630,       0434,    29.9998,  -136.9629,       3734,   569.0,2,   5.3388,2,  34.1026,2,  34.1009,2,     40.9,2,    41.2,2,   78.92,2,   39.50,2,    0.00,2,    2.88,2,   1.180,2,   0.651,2,   0.3389,2,  -999.0,9,  -999.0,9,-999.0000,9,  -999.00,9, -999.00,9,  -999.0,9, -999.00,1, -999.00,1,       46.1,2, 20220630,      553,  29.9998,-136.9628,     5.3357,2,     -999.0,9,     -999.0,9,     -999.0,9,     -999.0,9,     0.0134,1,     4.6912,1,     -999.0,9,     -999.0,9,     -999.0,9,     -999.0,9,     -999.0,9
33RR20220613,       P02E,     160,          1,         21,         21,2,20220630,       0434,    29.9998,  -136.9629,       3734,   670.6,2,   4.7966,2,  34.1960,2,  34.1944,2,     21.3,3,    21.6,2,   93.29,2,   41.92,2,    0.00,2,    3.06,2,   0.511,2,   0.293,2,   0.2157,2,  2329.8,2,  2323.9,2,   7.3019,2,    25.02,2, -999.00,9,  -999.0,9, -999.00,1, -999.00,1,       50.0,2, 20220630,      550,  29.9998,-136.9629,     4.7969,2,     -999.0,9,     -999.0,9,     -999.0,9,     -999.0,9,     0.0134,1,     4.6921,1,     -999.0,9,     -999.0,9,     -999.0,9,     -999.0,9,     -999.0,9
33RR20220613,       P02E,     160,          1,         20,         20,2,20220630,       0434,    29.9998,  -136.9629,       3734,   771.0,2,   4.3844,2,  34.3076,2,  34.2997,2,     13.5,2,    13.5,2,  105.60,2,   43.02,2,    0.00,2,    3.17,2,-999.000,9,-999.000,9,-999.0000,9,  2349.2,2,  2341.0,2,   7.3011,2,    25.01,2, -999.00,9,  -999.0,9, -999.00,1, -999.00,1,     -999.0,9, 20220630,      547,  29.9999,-136.9628,     4.3896,2,     -999.0,9,     -999.0,9,     -999.0,9,     -999.0,9,     0.0134,1,     4.6922,1,     -999.0,9,     -999.0,9,     -999.0,9,     -999.0,9,     -999.0,9
33RR20220613,       P02E,     160,          1,         19,         39,2,20220630,       0434,    29.9998,  -136.9629,       3734,   873.4,2,   4.0804,2,  34.3763,2,  34.3725,2,     15.2,3,    14.9,2,  113.91,2,   43.46,2,    0.00,2,    3.20,2,   0.042,2,   0.029,2,   0.0000,2,  2359.2,2,  2355.0,2,   7.3126,2,    25.02,2, -999.00,9,  -999.0,9, -999.00,1, -999.00,1,       54.3,2, 20220630,      544,  29.9998,-136.9628,     4.0850,2,     -999.0,9,     -999.0,9,     -999.0,9,     -999.0,9,     0.0134,1,     4.6924,1,     -999.0,9,     -999.0,9,     -999.0,9,     -999.0,9,     -999.0,9
33RR20220613,       P02E,     160,          1,         18,         18,2,20220630,       0434,    29.9998,  -136.9629,       3734,   973.4,2,   3.7842,2,  34.4380,2,  34.4347,2,     22.2,3,    21.9,2,  120.45,2,   43.48,2,    0.00,2,    3.18,2,-999.000,9,-999.000,9,-999.0000,9,  -999.0,9,  -999.0,9,-999.0000,9,  -999.00,9, -999.00,9,  -999.0,9, -999.00,1, -999.00,1,     -999.0,9, 20220630,      541,  29.9998,-136.9628,     3.7853,2,     -999.0,9,     -999.0,9,     -999.0,9,     -999.0,9,     0.0134,1,     4.6933,1,     -999.0,9,     -999.0,9,     -999.0,9,     -999.0,9,     -999.0,9
33RR20220613,       P02E,     160,          1,         17,         37,2,20220630,       0434,    29.9998,  -136.9629,       3734,  1075.2,2,   3.5634,2,  34.4765,2,  34.4740,2,     29.9,2,    29.6,2,  124.85,2,   43.25,2,    0.00,2,    3.16,2,   0.009,2,   0.009,2,   0.0000,2,  2364.6,2,  2376.4,2,   7.3540,2,    25.00,2, -999.00,9,  -999.0,9, -999.00,1, -999.00,1,       48.5,2, 20220630,      538,  29.9998,-136.9628,     3.5631,2,     -999.0,9,     -999.0,9,     -999.0,9,     -999.0,9,     0.0134,1,     4.6940,1,     -999.0,9,     -999.0,9,     -999.0,9,     -999.0,9,     -999.0,9
33RR20220613,       P02E,     160,          1,         16,         16,2,20220630,       0434,    29.9998,  -136.9629,       3734,  1176.0,2,   3.3779,2,  34.5015,2,  34.4995,2,     36.0,2,    35.9,2,  129.05,2,   43.06,2,    0.00,2,    3.15,2,-999.000,9,-999.000,9,-999.0000,9,  -999.0,9,  -999.0,9,-999.0000,9,  -999.00,9, -999.00,9,  -999.0,9, -999.00,1, -999.00,1,     -999.0,9, 20220630,      535,  29.9998,-136.9629,     3.3773,2,     -999.0,9,     -999.0,9,     -999.0,9,     -999.0,9,     0.0134,1,     4.6947,1,     -999.0,9,     -999.0,9,     -999.0,9,     -999.0,9,     -999.0,9
33RR20220613,       P02E,     160,          1,         15,         15,2,20220630,       0434,    29.9998,  -136.9629,       3734,  1277.3,2,   3.1650,2,  34.5246,2,  34.5268,2,     42.2,2,    42.5,2,  134.03,2,   42.84,2,    0.00,2,    3.13,2,   0.005,2,   0.007,2,   0.0000,2,  2367.2,2,  -999.0,1,   7.3797,2,    25.01,2, -999.00,9,  -999.0,9, -999.00,1, -999.00,1,       42.7,2, 20220630,      533,  29.9998,-136.9628,     3.1643,2,     -999.0,9,     -999.0,9,     -999.0,9,     -999.0,9,     0.0134,1,     4.6947,1,     -999.0,9,     -999.0,9,     -999.0,9,     -999.0,9,     -999.0,9
33RR20220613,       P02E,     160,          1,         14,         42,2,20220630,       0434,    29.9998,  -136.9629,       3734,  1378.8,2,   2.9541,2,  34.5421,2,  34.5400,2,     47.3,2,    47.6,2,  139.31,2,   42.59,2,    0.00,2,    3.11,2,-999.000,9,-999.000,9,-999.0000,9,  -999.0,9,  -999.0,9,-999.0000,9,  -999.00,9, -999.00,9,  -999.0,9, -999.00,1, -999.00,1,     -999.0,9, 20220630,      529,  29.9998,-136.9629,     2.9539,2,     -999.0,9,     -999.0,9,     -999.0,9,     -999.0,9,     0.0134,1,     4.6954,1,     -999.0,9,     -999.0,9,     -999.0,9,     -999.0,9,     -999.0,9
33RR20220613,       P02E,     160,          1,         13,         13,2,20220630,       0434,    29.9998,  -136.9629,       3734,  1480.5,2,   2.7673,2,  34.5587,2,  34.5565,2,     52.7,2,    53.1,2,  143.61,2,   42.31,2,    0.00,2,    3.07,2,   0.004,2,   0.006,2,   0.0000,2,  2371.1,2,  2400.2,2,   7.3993,2,    25.02,2, -999.00,9,  -999.0,9, -999.00,1, -999.00,1,       38.9,2, 20220630,      526,  29.9998,-136.9628,     2.7665,2,     -999.0,9,     -999.0,9,     -999.0,9,     -999.0,9,     0.0134,1,     4.6958,1,     -999.0,9,     -999.0,9,     -999.0,9,     -999.0,9,     -999.0,9
33RR20220613,       P02E,     160,          1,         12,         12,2,20220630,       0434,    29.9998,  -136.9629,       3734,  1582.6,2,   2.5796,2,  34.5734,2,  34.5726,2,     58.2,2,    58.6,2,  148.89,2,   42.00,2,    0.00,2,    3.03,2,-999.000,9,-999.000,9,-999.0000,9,  -999.0,9,  -999.0,9,-999.0000,9,  -999.00,9, -999.00,9,  -999.0,9, -999.00,1, -999.00,1,     -999.0,9, 20220630,      524,  29.9998,-136.9628,     2.5713,2,     -999.0,9,     -999.0,9,     -999.0,9,     -999.0,9,     0.0134,1,     4.6964,1,     -999.0,9,     -999.0,9,     -999.0,9,     -999.0,9,     -999.0,9
33RR20220613,       P02E,     160,          1,         11,         11,2,20220630,       0434,    29.9998,  -136.9629,       3734,  1680.9,2,   2.4591,2,  34.5839,2,  34.5810,2,     61.9,2,    61.5,2,  151.82,2,   41.84,2,    0.00,2,    3.01,2,   0.004,2,   0.004,2,   0.0000,2,  2373.6,2,  2407.0,2,   7.4154,2,    25.01,2, -999.00,9,  -999.0,9, -999.00,1, -999.00,1,       35.8,2, 20220630,      521,  29.9998,-136.9628,     2.4645,2,     -999.0,9,     -999.0,9,     -999.0,9,     -999.0,9,     0.0134,1,     4.6969,1,     -999.0,9,     -999.0,9,     -999.0,9,     -999.0,9,     -999.0,9
33RR20220613,       P02E,     160,          1,         10,         10,2,20220630,       0434,    29.9998,  -136.9629,       3734,  1784.3,2,   2.2576,2,  34.6004,2,  34.5971,2,     69.1,2,    68.8,2,  157.09,2,   41.34,2,    0.00,2,    2.99,2,-999.000,9,-999.000,9,-999.0000,9,  -999.0,9,  -999.0,9,-999.0000,9,  -999.00,9, -999.00,9,  -999.0,9, -999.00,1, -999.00,1,     -999.0,9, 20220630,      517,  29.9998,-136.9628,     2.2600,2,     -999.0,9,     -999.0,9,     -999.0,9,     -999.0,9,     0.0133,1,     4.6973,1,     -999.0,9,     -999.0,9,     -999.0,9,     -999.0,9,     -999.0,9
33RR20220613,       P02E,     160,          1,          9,          9,2,20220630,       0434,    29.9998,  -136.9629,       3734,  1956.6,2,   2.0865,2,  34.6152,2,  34.6132,2,     76.4,2,    76.4,2,  162.08,2,   40.94,2,    0.00,2,    2.95,2,   0.003,2,   0.002,2,   0.0000,2,  2374.1,2,  2420.5,2,   7.4446,2,    25.01,2, -999.00,9,  -999.0,9, -999.00,1, -999.00,1,       31.6,2, 20220630,      513,  29.9998,-136.9629,     2.0863,2,     -999.0,9,     -999.0,9,     -999.0,9,     -999.0,9,     0.0134,1,     4.6983,1,     -999.0,9,     -999.0,9,     -999.0,9,     -999.0,9,     -999.0,9
33RR20220613,       P02E,     160,          1,          8,          8,2,20220630,       0434,    29.9998,  -136.9629,       3734,  2191.5,2,   1.9118,2,  34.6309,2,  34.6303,2,     86.2,2,    86.5,2,  166.08,2,   40.30,2,    0.00,2,    2.88,2,-999.000,9,-999.000,9,-999.0000,9,  -999.0,9,  -999.0,9,-999.0000,9,  -999.00,9, -999.00,9,  -999.0,9, -999.00,1, -999.00,1,     -999.0,9, 20220630,      508,  29.9998,-136.9628,     1.9111,2,     -999.0,9,     -999.0,9,     -999.0,9,     -999.0,9,     0.0124,1,     4.6985,1,     -999.0,9,     -999.0,9,     -999.0,9,     -999.0,9,     -999.0,9
33RR20220613,       P02E,     160,          1,          7,          7,2,20220630,       0434,    29.9998,  -136.9629,       3734,  2445.7,2,   1.7441,2,  34.6461,2,  34.6449,2,     98.0,2,    97.8,2,  169.11,2,   39.56,2,    0.00,2,    2.84,2,   0.003,2,   0.000,2,   0.0000,2,  2364.6,2,  2427.1,2,   7.4856,2,    25.01,2, -999.00,9,  -999.0,9, -999.00,1, -999.00,1,       27.2,2, 20220630,      502,  29.9998,-136.9629,     1.7441,2,     -999.0,9,     -999.0,9,     -999.0,9,     -999.0,9,     0.0122,1,     4.6994,1,     -999.0,9,     -999.0,9,     -999.0,9,     -999.0,9,     -999.0,9
33RR20220613,       P02E,     160,          1,          6,          6,2,20220630,       0434,    29.9998,  -136.9629,       3734,  2699.9,2,   1.6465,2,  34.6578,3,  34.6549,2,    107.8,2,   107.9,2,  169.99,2,   39.01,2,    0.00,2,    2.81,2,-999.000,9,-999.000,9,-999.0000,9,  -999.0,9,  -999.0,9,-999.0000,9,  -999.00,9, -999.00,9,  -999.0,9, -999.00,1, -999.00,1,     -999.0,9, 20220630,      458,  29.9998,-136.9629,     1.6466,2,     -999.0,9,     -999.0,9,     -999.0,9,     -999.0,9,     0.0134,1,     4.7002,1,     -999.0,9,     -999.0,9,     -999.0,9,     -999.0,9,     -999.0,9
33RR20220613,       P02E,     160,          1,          5,          5,2,20220630,       0434,    29.9998,  -136.9629,       3734,  2954.4,2,   1.5648,2,  34.6658,3,  34.6637,2,    117.3,2,   117.1,2,  169.40,2,   38.45,2,    0.00,2,    2.76,2,   0.005,2,   0.003,2,   0.0000,2,  2355.1,2,  2430.3,2,   7.5213,2,    25.01,2, -999.00,9,  -999.0,9, -999.00,1, -999.00,1,       24.7,2, 20220630,      452,  29.9999,-136.9628,     1.5644,2,     -999.0,9,     -999.0,9,     -999.0,9,     -999.0,9,     0.0131,1,     4.7008,1,     -999.0,9,     -999.0,9,     -999.0,9,     -999.0,9,     -999.0,9