BOTTLE,20230830CCHSIOCBG
EXPOCODE,SECT_ID,STNNBR,CASTNO,SAMPNO,BTLNBR,BTLNBR_FLAG_W,DATE,TIME,LATITUDE,LONGITUDE,DEPTH,CTDPRS,CTDPRS_FLAG_W,CTDTMP,CTDTMP_FLAG_W,CTDSAL,CTDSAL_FLAG_W,SALNTY,SALNTY_FLAG_W,CTDOXY,CTDOXY_FLAG_W,OXYGEN,OXYGEN_FLAG_W,SILCAT,SILCAT_FLAG_W,NITRAT,NITRAT_FLAG_W,NITRIT,NITRIT_FLAG_W,PHSPHT,PHSPHT_FLAG_W,CFC-11,CFC-11_FLAG_W,CFC-12,CFC-12_FLAG_W,SF6,SF6_FLAG_W,TCARBN,TCARBN_FLAG_W,ALKALI,ALKALI_FLAG_W,PH_TOT,PH_TOT_FLAG_W,PH_TMP,PH_TMP_FLAG_W,DELC13,DELC13_FLAG_W,DELC14,DELC14_FLAG_W,DOC,DOC_FLAG_W,TDN,TDN_FLAG_W,N2O,N2O_FLAG_W,BTL_DATE,BTL_TIME,BTL_LAT,BTL_LON,REFTMP,REFTMP_FLAG_W,POC,POC_FLAG_W,PON,PON_FLAG_W,POP,POP_FLAG_W,PCOD,PCOD_FLAG_W,CTDFLUOR,CTDFLUOR_FLAG_W,CTDXMISS,CTDXMISS_FLAG_W,HPLC,HPLC_FLAG_W,DNA,DNA_FLAG_W,FCM,FCM_FLAG_W,IMAGES,IMAGES_FLAG_W,VIRAL_ABUNDANCE,VIRAL_ABUNDANCE_FLAG_W
,,,,,,,,,,,METERS,DBAR,,ITS-90,,PSS-78,,PSS-78,,UMOL/KG,,UMOL/KG,,UMOL/KG,,UMOL/KG,,UMOL/KG,,UMOL/KG,,PMOL/KG,,PMOL/KG,,FMOL/KG,,UMOL/KG,,UMOL/KG,,,,DEG C,,/MILLE,,/MILLE,,UMOL/KG,,UMOL/KG,,NMOL/KG,,,,,,ITS-90,,UG/L,,UG/L,,UG/L,,UG/L,,VOLTS,,VOLTS,,,,,,,,,,,
33RR20220613,       P02E,     171,          1,          4,          4,2,20220703,       1012,    30.0011,  -130.6112,       4510,  3759.0,2,   1.4880,2,  34.6799,2,  34.6785,2,    137.3,2,   137.5,2,  165.53,2,   37.14,2,    0.00,2,    2.54,2,-999.000,9,-999.000,9,-999.0000,9,  -999.0,9,  -999.0,9,-999.0000,9,  -999.00,9, -999.00,9,  -999.0,9, -999.00,9, -999.00,9,     -999.0,9, 20220703,     1029,  30.0011,-130.6111,     1.4880,2,     -999.0,9,     -999.0,9,     -999.0,9,     -999.0,9,     0.0122,1,     4.7021,1,     -999.0,9,     -999.0,9,     -999.0,9,     -999.0,9,     -999.0,9
33RR20220613,       P02E,     171,          1,          3,          3,2,20220703,       1012,    30.0011,  -130.6112,       4510,  4065.9,2,   1.5020,2,  34.6823,2,  34.6818,2,    140.6,2,   140.8,2,  164.16,2,   36.94,2,    0.00,2,    2.51,2,   0.006,2,   0.009,2,   0.0000,2,  2339.0,2,  2430.3,2,   7.5654,2,    25.02,2, -999.00,9,  -999.0,9, -999.00,9, -999.00,9,       22.7,2, 20220703,     1023,  30.0011,-130.6111,     1.5021,2,     -999.0,9,     -999.0,9,     -999.0,9,     -999.0,9,     0.0129,1,     4.7022,1,     -999.0,9,     -999.0,9,     -999.0,9,     -999.0,9,     -999.0,9
33RR20220613,       P02E,     171,          1,          2,          2,2,20220703,       1012,    30.0011,  -130.6112,       4510,  4321.8,2,   1.5242,2,  34.6833,2,  34.6824,2,    142.2,2,   142.3,2,  162.79,2,   36.83,2,    0.00,2,    2.51,2,   0.010,2,   0.012,2,   0.0000,2,  -999.0,9,  -999.0,9,-999.0000,9,  -999.00,9, -999.00,9,  -999.0,9, -999.00,9, -999.00,9,       23.0,2, 20220703,     1017,  30.0011,-130.6111,     1.5243,2,     -999.0,9,     -999.0,9,     -999.0,9,     -999.0,9,     0.0129,1,     4.7018,1,     -999.0,9,     -999.0,9,     -999.0,9,     -999.0,9,     -999.0,9
33RR20220613,       P02E,     171,          1,          1,          1,2,20220703,       1012,    30.0011,  -130.6112,       4510,  4580.6,2,   1.5535,2,  34.6835,3,  34.6922,2,    142.6,2,   142.5,2,  163.08,2,   36.81,2,    0.00,2,    2.52,2,   0.007,2,   0.014,2,   0.0000,2,  2339.0,6,  2431.3,2,   7.5692,2,    25.01,2, -999.00,9,  -999.0,9, -999.00,9, -999.00,9,       22.9,2, 20220703,     1012,  30.0011,-130.6111,     1.5535,2,     -999.0,9,     -999.0,9,     -999.0,9,     -999.0,9,     0.0121,1,     4.7008,1,     -999.0,9,     -999.0,9,     -999.0,9,     -999.0,9,     -999.0,9