BOTTLE,20230830CCHSIOCBG
EXPOCODE,SECT_ID,STNNBR,CASTNO,SAMPNO,BTLNBR,BTLNBR_FLAG_W,DATE,TIME,LATITUDE,LONGITUDE,DEPTH,CTDPRS,CTDPRS_FLAG_W,CTDTMP,CTDTMP_FLAG_W,CTDSAL,CTDSAL_FLAG_W,SALNTY,SALNTY_FLAG_W,CTDOXY,CTDOXY_FLAG_W,OXYGEN,OXYGEN_FLAG_W,SILCAT,SILCAT_FLAG_W,NITRAT,NITRAT_FLAG_W,NITRIT,NITRIT_FLAG_W,PHSPHT,PHSPHT_FLAG_W,CFC-11,CFC-11_FLAG_W,CFC-12,CFC-12_FLAG_W,SF6,SF6_FLAG_W,TCARBN,TCARBN_FLAG_W,ALKALI,ALKALI_FLAG_W,PH_TOT,PH_TOT_FLAG_W,PH_TMP,PH_TMP_FLAG_W,DELC13,DELC13_FLAG_W,DELC14,DELC14_FLAG_W,DOC,DOC_FLAG_W,TDN,TDN_FLAG_W,N2O,N2O_FLAG_W,BTL_DATE,BTL_TIME,BTL_LAT,BTL_LON,REFTMP,REFTMP_FLAG_W,POC,POC_FLAG_W,PON,PON_FLAG_W,POP,POP_FLAG_W,PCOD,PCOD_FLAG_W,CTDFLUOR,CTDFLUOR_FLAG_W,CTDXMISS,CTDXMISS_FLAG_W,HPLC,HPLC_FLAG_W,DNA,DNA_FLAG_W,FCM,FCM_FLAG_W,IMAGES,IMAGES_FLAG_W,VIRAL_ABUNDANCE,VIRAL_ABUNDANCE_FLAG_W
,,,,,,,,,,,METERS,DBAR,,ITS-90,,PSS-78,,PSS-78,,UMOL/KG,,UMOL/KG,,UMOL/KG,,UMOL/KG,,UMOL/KG,,UMOL/KG,,PMOL/KG,,PMOL/KG,,FMOL/KG,,UMOL/KG,,UMOL/KG,,,,DEG C,,/MILLE,,/MILLE,,UMOL/KG,,UMOL/KG,,NMOL/KG,,,,,,ITS-90,,UG/L,,UG/L,,UG/L,,UG/L,,VOLTS,,VOLTS,,,,,,,,,,,
33RR20220613,       P02E,     140,          2,         36,         36,2,20220624,       0649,    30.0001,  -148.5105,       4419,     4.7,2,  23.5543,2,  35.2565,2,  35.2558,2,    217.0,2,   216.5,2,    0.20,2,    0.07,2,    0.01,2,    0.00,3,   1.712,6,   1.097,6,   1.8115,6,  2035.2,2,  2318.1,2,   8.0029,2,    25.02,2, -999.00,9,  -999.0,9, -999.00,1, -999.00,1,        6.9,6, 20220624,      903,  30.0001,-148.5105,    23.5536,2,     -999.0,9,     -999.0,9,     -999.0,9,     -999.0,9,     0.0135,1,     4.6371,1,     -999.0,9,     -999.0,9,     -999.0,9,     -999.0,9,     -999.0,9
33RR20220613,       P02E,     140,          2,         35,         35,2,20220624,       0649,    30.0001,  -148.5105,       4419,    25.2,2,  23.5148,2,  35.2541,2,  35.2522,2,    216.7,2,   217.2,2,    0.20,2,    0.05,2,    0.00,2,    0.00,3,   1.730,2,   1.101,2,   1.7809,2,  2034.9,6,  2319.0,2,   8.0031,2,    25.03,2, -999.00,9,  -999.0,9, -999.00,1, -999.00,1,        7.0,2, 20220624,      901,  30.0000,-148.5105,    23.5406,2,     -999.0,9,     -999.0,9,     -999.0,9,     -999.0,9,     0.0134,1,     4.6381,1,     -999.0,9,     -999.0,9,     -999.0,9,     -999.0,9,     -999.0,9
33RR20220613,       P02E,     140,          2,         34,         34,2,20220624,       0649,    30.0001,  -148.5105,       4419,    50.6,2,  20.7139,2,  35.1448,2,  35.1522,2,    234.8,2,   234.2,2,    0.29,2,    0.03,2,    0.00,2,    0.00,3,   1.956,2,   1.220,2,   2.0370,2,  2034.5,2,  2313.5,6,   7.9980,2,    25.04,2, -999.00,9,  -999.0,9, -999.00,1, -999.00,1,        7.6,2, 20220624,      859,  30.0000,-148.5106,    20.7106,2,     -999.0,9,     -999.0,9,     -999.0,9,     -999.0,9,     0.0154,1,     4.6383,1,     -999.0,9,     -999.0,9,     -999.0,9,     -999.0,9,     -999.0,9
33RR20220613,       P02E,     140,          2,         33,         33,2,20220624,       0649,    30.0001,  -148.5105,       4419,    76.9,2,  19.7220,2,  34.9976,3,  35.0250,2,    236.2,2,   234.8,2,    0.78,2,    0.02,2,    0.00,2,    0.00,3,   2.017,2,   1.256,2,   2.0091,2,  2032.5,2,  2303.7,2,   7.9868,2,    25.01,2, -999.00,9,  -999.0,9, -999.00,1, -999.00,1,        7.7,2, 20220624,      855,  30.0000,-148.5105,    19.6952,2,     -999.0,9,     -999.0,9,     -999.0,9,     -999.0,9,     0.0176,1,     4.6421,1,     -999.0,9,     -999.0,9,     -999.0,9,     -999.0,9,     -999.0,9
33RR20220613,       P02E,     140,          2,         32,         32,2,20220624,       0649,    30.0001,  -148.5105,       4419,   101.8,2,  18.9465,2,  34.8669,2,  34.8583,2,    233.1,2,   233.8,2,    1.27,2,    0.01,2,    0.00,2,    0.01,3,   2.063,2,   1.283,2,   1.9256,2,  2031.9,2,  2293.8,2,   7.9703,2,    25.01,2, -999.00,9,  -999.0,9, -999.00,1, -999.00,1,        8.1,2, 20220624,      854,  30.0001,-148.5105,    18.9487,2,     -999.0,9,     -999.0,9,     -999.0,9,     -999.0,9,     0.0203,1,     4.6543,1,     -999.0,9,     -999.0,9,     -999.0,9,     -999.0,9,     -999.0,9
33RR20220613,       P02E,     140,          2,         31,         31,2,20220624,       0649,    30.0001,  -148.5105,       4419,   151.7,2,  15.4345,2,  34.3460,2,  34.3482,2,    219.5,2,   220.5,2,    2.93,2,    2.02,2,    0.09,2,    0.20,3,   2.434,2,   1.481,2,   2.0626,2,  2054.1,2,  2263.7,2,   7.8766,2,    24.97,2, -999.00,9,  -999.0,9, -999.00,1, -999.00,1,       10.6,2, 20220624,      851,  30.0000,-148.5105,    15.4340,2,     -999.0,9,     -999.0,9,     -999.0,9,     -999.0,9,     0.0269,1,     4.6633,1,     -999.0,9,     -999.0,9,     -999.0,9,     -999.0,9,     -999.0,9
33RR20220613,       P02E,     140,          2,         30,         17,2,20220624,       0649,    30.0001,  -148.5105,       4419,   201.6,2,  13.1508,2,  34.1862,2,  34.1862,2,    218.4,2,   218.7,2,    6.55,2,    6.83,2,    0.00,2,    0.45,3,   2.704,2,   1.636,2,   2.1433,2,  2074.7,2,  2254.4,2,   7.8192,2,    25.02,2, -999.00,9,  -999.0,9, -999.00,1, -999.00,1,       12.9,2, 20220624,      849,  30.0000,-148.5105,    13.1328,2,     -999.0,9,     -999.0,9,     -999.0,9,     -999.0,9,     0.0142,1,     4.6824,1,     -999.0,9,     -999.0,9,     -999.0,9,     -999.0,9,     -999.0,9
33RR20220613,       P02E,     140,          2,         29,         29,2,20220624,       0649,    30.0001,  -148.5105,       4419,   252.6,2,  11.8312,2,  34.1385,2,  34.1442,2,    215.2,2,   215.9,2,    9.78,2,   10.11,2,    0.00,2,    0.64,3,   2.823,2,   1.711,2,   2.1578,2,  2091.8,2,  2255.9,2,   7.7834,2,    25.01,2, -999.00,9,  -999.0,9, -999.00,1, -999.00,1,       15.3,2, 20220624,      847,  30.0000,-148.5105,    11.8350,2,     -999.0,9,     -999.0,9,     -999.0,9,     -999.0,9,     0.0122,1,     4.6898,1,     -999.0,9,     -999.0,9,     -999.0,9,     -999.0,9,     -999.0,9
33RR20220613,       P02E,     140,          2,         28,         28,2,20220624,       0649,    30.0001,  -148.5105,       4419,   302.8,2,  10.8951,2,  34.1410,2,  34.1405,2,    211.2,2,   211.6,2,   14.08,2,   13.08,2,    0.00,2,    0.81,3,   3.063,2,   1.747,2,   2.0681,2,  2106.8,2,  2259.5,2,   7.7525,2,    25.02,2, -999.00,9,  -999.0,9, -999.00,1, -999.00,1,       17.5,2, 20220624,      844,  30.0000,-148.5106,    10.9270,2,     -999.0,9,     -999.0,9,     -999.0,9,     -999.0,9,     0.0122,1,     4.6920,1,     -999.0,9,     -999.0,9,     -999.0,9,     -999.0,9,     -999.0,9
33RR20220613,       P02E,     140,          2,         27,         27,2,20220624,       0649,    30.0001,  -148.5105,       4419,   353.8,2,   9.8541,2,  34.0817,2,  34.0844,2,    208.6,2,   209.0,2,   18.48,2,   15.35,2,    0.00,2,    0.96,3,   3.158,2,   1.804,2,   2.0291,2,  2121.6,2,  2261.5,2,   7.7201,2,    25.04,2, -999.00,9,  -999.0,9, -999.00,1, -999.00,1,       19.8,2, 20220624,      842,  30.0000,-148.5105,     9.8706,2,     -999.0,9,     -999.0,9,     -999.0,9,     -999.0,9,     0.0122,1,     4.6923,1,     -999.0,9,     -999.0,9,     -999.0,9,     -999.0,9,     -999.0,9
33RR20220613,       P02E,     140,          2,         26,         26,2,20220624,       0649,    30.0001,  -148.5105,       4419,   402.9,2,   8.9442,2,  34.0370,2,  34.0364,2,    198.8,2,   198.7,2,   24.54,2,   18.21,2,    0.00,2,    1.13,3,   3.061,2,   1.795,2,   1.7123,2,  -999.0,9,  -999.0,9,-999.0000,9,  -999.00,9, -999.00,9,  -999.0,9, -999.00,1, -999.00,1,       21.6,2, 20220624,      839,  30.0000,-148.5105,     8.9478,2,     -999.0,9,     -999.0,9,     -999.0,9,     -999.0,9,     0.0122,1,     4.6941,1,     -999.0,9,     -999.0,9,     -999.0,9,     -999.0,9,     -999.0,9
33RR20220613,       P02E,     140,          2,         25,         25,2,20220624,       0649,    30.0001,  -148.5105,       4419,   454.3,2,   8.0545,2,  34.0171,2,  34.0174,2,    169.2,2,   168.7,2,   33.93,2,   22.87,2,    0.00,2,    1.43,3,   3.012,2,   1.716,2,   1.4460,2,  2171.9,2,  2269.7,2,   7.6100,2,    25.02,2, -999.00,9,  -999.0,9, -999.00,1, -999.00,1,       26.2,2, 20220624,      837,  30.0000,-148.5105,     8.0639,2,     -999.0,9,     -999.0,9,     -999.0,9,     -999.0,9,     0.0122,1,     4.6950,1,     -999.0,9,     -999.0,9,     -999.0,9,     -999.0,9,     -999.0,9
33RR20220613,       P02E,     140,          2,         24,         24,2,20220624,       0649,    30.0001,  -148.5105,       4419,   504.4,2,   6.9902,2,  33.9868,2,  33.9882,2,    138.0,2,   136.9,2,   49.28,2,   28.17,2,    0.00,2,    1.82,3,   2.651,2,   1.533,2,   1.0395,2,  -999.0,9,  -999.0,9,-999.0000,9,  -999.00,9, -999.00,9,  -999.0,9, -999.00,1, -999.00,1,       30.0,2, 20220624,      835,  30.0000,-148.5105,     6.9832,2,     -999.0,9,     -999.0,9,     -999.0,9,     -999.0,9,     0.0130,1,     4.6957,1,     -999.0,9,     -999.0,9,     -999.0,9,     -999.0,9,     -999.0,9
33RR20220613,       P02E,     140,          2,         23,         23,2,20220624,       0649,    30.0001,  -148.5105,       4419,   605.3,2,   5.5502,2,  33.9962,2,  33.9976,2,     93.6,2,    94.3,2,   65.70,2,   34.72,2,    0.00,2,    2.29,3,   1.980,2,   1.121,2,   0.5745,2,  2258.4,2,  2292.9,2,   7.4224,2,    25.02,2, -999.00,9,  -999.0,9, -999.00,1, -999.00,1,       36.0,2, 20220624,      831,  30.0000,-148.5106,     5.5499,2,     -999.0,9,     -999.0,9,     -999.0,9,     -999.0,9,     0.0134,1,     4.6968,1,     -999.0,9,     -999.0,9,     -999.0,9,     -999.0,9,     -999.0,9
33RR20220613,       P02E,     140,          2,         22,         22,2,20220624,       0649,    30.0001,  -148.5105,       4419,   708.0,2,   4.6796,2,  34.0870,2,  34.0862,2,     48.5,2,    48.9,2,   89.06,2,   39.67,2,    0.00,2,    2.67,3,   1.046,2,   0.579,2,   0.2951,2,  -999.0,9,  -999.0,9,-999.0000,9,  -999.00,9, -999.00,9,  -999.0,9, -999.00,1, -999.00,1,       43.8,2, 20220624,      828,  30.0000,-148.5105,     4.6816,2,     -999.0,9,     -999.0,9,     -999.0,9,     -999.0,9,     0.0134,1,     4.6971,1,     -999.0,9,     -999.0,9,     -999.0,9,     -999.0,9,     -999.0,9
33RR20220613,       P02E,     140,          2,         21,         21,2,20220624,       0649,    30.0001,  -148.5105,       4419,   809.0,2,   4.1777,2,  34.2051,2,  34.2034,2,     20.1,2,    20.2,2,  106.65,2,   42.52,2,    0.00,2,    2.92,4,   0.310,2,   0.176,2,   0.1338,2,  2339.9,2,  2333.9,2,   7.2965,2,    25.03,2, -999.00,9,  -999.0,9, -999.00,1, -999.00,1,       51.1,2, 20220624,      824,  30.0000,-148.5105,     4.1819,2,     -999.0,9,     -999.0,9,     -999.0,9,     -999.0,9,     0.0134,1,     4.6976,1,     -999.0,9,     -999.0,9,     -999.0,9,     -999.0,9,     -999.0,9
33RR20220613,       P02E,     140,          2,         20,         20,2,20220624,       0649,    30.0001,  -148.5105,       4419,   909.2,2,   3.9249,2,  34.3224,2,  34.3229,2,     12.6,3,    12.3,2,  118.08,2,   43.36,2,    0.00,2,    3.04,4,   0.052,2,   0.036,2,   0.0000,2,  2360.4,2,  2355.3,2,   7.2984,2,    25.03,2, -999.00,9,  -999.0,9, -999.00,1, -999.00,1,       54.5,2, 20220624,      821,  30.0001,-148.5105,     3.9253,2,     -999.0,9,     -999.0,9,     -999.0,9,     -999.0,9,     0.0134,1,     4.6974,1,     -999.0,9,     -999.0,9,     -999.0,9,     -999.0,9,     -999.0,9
33RR20220613,       P02E,     140,          2,         19,         39,2,20220624,       0649,    30.0001,  -148.5105,       4419,  1009.9,2,   3.6642,2,  34.3943,2,  34.3943,2,     16.6,3,    16.4,2,  125.50,2,   43.48,2,    0.00,2,    3.08,4,   0.020,2,   0.019,2,   0.0000,2,  2365.4,2,  2368.8,2,   7.3162,2,    25.03,2, -999.00,9,  -999.0,9, -999.00,1, -999.00,1,       52.8,2, 20220624,      818,  30.0000,-148.5106,     3.6634,2,     -999.0,9,     -999.0,9,     -999.0,9,     -999.0,9,     0.0134,1,     4.6974,1,     -999.0,9,     -999.0,9,     -999.0,9,     -999.0,9,     -999.0,9
33RR20220613,       P02E,     140,          2,         18,         18,2,20220624,       0649,    30.0001,  -148.5105,       4419,  1112.4,2,   3.4370,2,  34.4463,2,  34.4471,2,     24.4,2,    24.3,2,  131.07,2,   43.45,2,    0.00,2,    3.09,4,   0.012,2,   0.012,2,   0.0000,2,  2367.4,2,  2379.4,2,   7.3378,2,    25.01,2, -999.00,9,  -999.0,9, -999.00,1, -999.00,1,       49.7,2, 20220624,      814,  30.0000,-148.5105,     3.4355,2,     -999.0,9,     -999.0,9,     -999.0,9,     -999.0,9,     0.0134,1,     4.6977,1,     -999.0,9,     -999.0,9,     -999.0,9,     -999.0,9,     -999.0,9
33RR20220613,       P02E,     140,          2,         17,         37,4,20220624,       0649,    30.0001,  -148.5105,       4419,  1213.2,3,   3.1995,3,  34.4877,3,-999.0000,9,     33.7,3,  -999.0,9, -999.00,9, -999.00,9, -999.00,9, -999.00,9,-999.000,9,-999.000,9,-999.0000,9,  -999.0,9,  -999.0,9,-999.0000,9,  -999.00,9, -999.00,9,  -999.0,9, -999.00,9, -999.00,9,     -999.0,9, 20220624,      810,  30.0000,-148.5105,     3.1985,3,     -999.0,9,     -999.0,9,     -999.0,9,     -999.0,9,     0.0134,1,     4.6986,1,     -999.0,9,     -999.0,9,     -999.0,9,     -999.0,9,     -999.0,9
33RR20220613,       P02E,     140,          2,         16,         16,2,20220624,       0649,    30.0001,  -148.5105,       4419,  1313.9,2,   2.9927,2,  34.5166,2,  34.5166,2,     42.2,2,    42.4,2,  140.74,3,   41.65,3,    0.00,2,    3.07,4,   0.007,2,   0.006,2,   0.0000,2,  -999.0,9,  -999.0,9,-999.0000,9,  -999.00,9, -999.00,9,  -999.0,9, -999.00,1, -999.00,1,       43.4,2, 20220624,      808,  30.0000,-148.5105,     2.9921,2,     -999.0,9,     -999.0,9,     -999.0,9,     -999.0,9,     0.0134,1,     4.6992,1,     -999.0,9,     -999.0,9,     -999.0,9,     -999.0,9,     -999.0,9
33RR20220613,       P02E,     140,          2,         15,         15,2,20220624,       0649,    30.0001,  -148.5105,       4419,  1414.2,2,   2.8076,2,  34.5390,2,  34.5384,2,     50.0,2,    50.2,2,  143.67,3,   41.53,3,    0.00,2,    3.05,4,   0.004,2,   0.003,2,   0.0000,2,  2368.2,2,  2397.5,2,   7.3920,2,    25.02,2, -999.00,9,  -999.0,9, -999.00,1, -999.00,1,       40.0,2, 20220624,      805,  30.0000,-148.5105,     2.8068,2,     -999.0,9,     -999.0,9,     -999.0,9,     -999.0,9,     0.0134,1,     4.6995,1,     -999.0,9,     -999.0,9,     -999.0,9,     -999.0,9,     -999.0,9
33RR20220613,       P02E,     140,          2,         14,         14,2,20220624,       0649,    30.0001,  -148.5105,       4419,  1515.5,2,   2.6359,2,  34.5568,2,  34.5571,2,     56.8,2,    56.8,2,  147.96,2,   41.70,2,    0.00,2,    3.05,4,-999.000,9,-999.000,9,-999.0000,9,  -999.0,9,  -999.0,9,-999.0000,9,  -999.00,9, -999.00,9,  -999.0,9, -999.00,1, -999.00,1,     -999.0,9, 20220624,      801,  30.0001,-148.5105,     2.6357,2,     -999.0,9,     -999.0,9,     -999.0,9,     -999.0,9,     0.0134,1,     4.7001,1,     -999.0,9,     -999.0,9,     -999.0,9,     -999.0,9,     -999.0,9
33RR20220613,       P02E,     140,          2,         13,         13,2,20220624,       0649,    30.0001,  -148.5105,       4419,  1617.2,2,   2.4947,2,  34.5706,2,  34.5702,2,     62.0,2,    62.6,2,  151.58,2,   41.49,2,    0.00,2,    3.05,4,   0.003,2,   0.003,2,   0.0000,2,  2369.5,2,  2406.5,2,   7.4158,2,    25.02,2, -999.00,9,  -999.0,9, -999.00,1, -999.00,1,       36.1,2, 20220624,      758,  30.0000,-148.5105,     2.4949,2,     -999.0,9,     -999.0,9,     -999.0,9,     -999.0,9,     0.0134,1,     4.7004,1,     -999.0,9,     -999.0,9,     -999.0,9,     -999.0,9,     -999.0,9
33RR20220613,       P02E,     140,          2,         12,         12,2,20220624,       0649,    30.0001,  -148.5105,       4419,  1821.4,2,   2.2115,2,  34.5966,2,  34.5959,2,     72.1,2,    72.2,2,  158.61,2,   41.08,2,    0.00,2,    3.06,4,-999.000,9,-999.000,9,-999.0000,9,  -999.0,9,  -999.0,9,-999.0000,9,  -999.00,9, -999.00,9,  -999.0,9, -999.00,1, -999.00,1,     -999.0,9, 20220624,      753,  30.0000,-148.5105,     2.2121,2,     -999.0,9,     -999.0,9,     -999.0,9,     -999.0,9,     0.0134,1,     4.7008,1,     -999.0,9,     -999.0,9,     -999.0,9,     -999.0,9,     -999.0,9
33RR20220613,       P02E,     140,          2,         11,         11,2,20220624,       0649,    30.0001,  -148.5105,       4419,  2024.1,2,   1.9953,2,  34.6166,2,  34.6158,2,     80.3,2,    80.6,2,  165.94,2,   40.55,2,    0.00,2,    3.06,4,   0.003,2,   0.002,2,   0.0000,2,  2369.0,2,  2420.2,2,   7.4509,2,    25.04,2, -999.00,9,  -999.0,9, -999.00,1, -999.00,1,       30.7,2, 20220624,      748,  30.0000,-148.5105,     1.9954,2,     -999.0,9,     -999.0,9,     -999.0,9,     -999.0,9,     0.0134,1,     4.7021,1,     -999.0,9,     -999.0,9,     -999.0,9,     -999.0,9,     -999.0,9
33RR20220613,       P02E,     140,          2,         10,         10,2,20220624,       0649,    30.0001,  -148.5105,       4419,  2278.2,2,   1.8199,2,  34.6338,3,  34.6484,2,     89.5,2,    89.6,2,  170.82,2,   39.97,2,    0.00,2,    3.05,4,-999.000,9,-999.000,9,-999.0000,9,  -999.0,9,  -999.0,9,-999.0000,9,  -999.00,9, -999.00,9,  -999.0,9, -999.00,1, -999.00,1,     -999.0,9, 20220624,      742,  30.0001,-148.5105,     1.8199,2,     -999.0,9,     -999.0,9,     -999.0,9,     -999.0,9,     0.0126,1,     4.7030,1,     -999.0,9,     -999.0,9,     -999.0,9,     -999.0,9,     -999.0,9
33RR20220613,       P02E,     140,          2,          9,          9,2,20220624,       0649,    30.0001,  -148.5105,       4419,  2531.9,2,   1.7056,2,  34.6462,2,  34.6451,2,     99.0,2,    98.6,2,  172.78,2,   39.42,2,    0.00,2,    3.01,4,   0.003,2,   0.003,2,   0.0000,2,  2363.0,2,  2429.3,2,   7.4848,2,    25.03,2, -999.00,9,  -999.0,9, -999.00,1, -999.00,1,       26.9,2, 20220624,      735,  30.0000,-148.5105,     1.7070,2,     -999.0,9,     -999.0,9,     -999.0,9,     -999.0,9,     0.0127,1,     4.7032,1,     -999.0,9,     -999.0,9,     -999.0,9,     -999.0,9,     -999.0,9
33RR20220613,       P02E,     140,          2,          8,          8,2,20220624,       0649,    30.0001,  -148.5105,       4419,  2789.0,2,   1.6021,2,  34.6575,2,  34.6578,2,    110.1,2,   110.3,2,  172.29,2,   38.70,2,    0.00,2,    2.97,4,-999.000,9,-999.000,9,-999.0000,9,  -999.0,9,  -999.0,9,-999.0000,9,  -999.00,9, -999.00,9,  -999.0,9, -999.00,1, -999.00,1,     -999.0,9, 20220624,      729,  30.0000,-148.5106,     1.6019,2,     -999.0,9,     -999.0,9,     -999.0,9,     -999.0,9,     0.0134,1,     4.7033,1,     -999.0,9,     -999.0,9,     -999.0,9,     -999.0,9,     -999.0,9
33RR20220613,       P02E,     140,          2,          7,          7,2,20220624,       0649,    30.0001,  -148.5105,       4419,  3042.2,2,   1.5383,2,  34.6659,2,  34.6653,2,    120.2,2,   120.0,2,  170.33,2,   38.11,2,    0.00,2,    2.91,4,   0.007,2,   0.006,2,   0.0000,2,  2350.5,2,  2428.5,2,   7.5247,2,    25.05,2, -999.00,9,  -999.0,9, -999.00,1, -999.00,1,       25.2,2, 20220624,      724,  30.0000,-148.5106,     1.5377,2,     -999.0,9,     -999.0,9,     -999.0,9,     -999.0,9,     0.0134,1,     4.7039,1,     -999.0,9,     -999.0,9,     -999.0,9,     -999.0,9,     -999.0,9
33RR20220613,       P02E,     140,          2,          6,          6,2,20220624,       0649,    30.0001,  -148.5105,       4419,  3349.8,2,   1.4845,2,  34.6745,2,  34.6745,2,    131.5,2,   131.5,2,  166.81,2,   37.31,2,    0.00,2,    2.85,4,   0.005,2,   0.003,2,   0.0000,2,  -999.0,9,  -999.0,9,-999.0000,9,  -999.00,9, -999.00,9,  -999.0,9, -999.00,1, -999.00,1,       23.1,2, 20220624,      717,  30.0000,-148.5105,     1.4842,2,     -999.0,9,     -999.0,9,     -999.0,9,     -999.0,9,     0.0127,1,     4.7044,1,     -999.0,9,     -999.0,9,     -999.0,9,     -999.0,9,     -999.0,9
33RR20220613,       P02E,     140,          2,          5,          5,2,20220624,       0649,    30.0001,  -148.5105,       4419,  3707.3,2,   1.4574,2,  34.6813,2,  34.6812,2,    141.6,2,   141.8,2,  162.71,2,   36.83,2,    0.00,2,    2.79,4,   0.004,2,   0.003,2,   0.0000,2,  2335.7,2,  2426.9,2,   7.5642,2,    25.05,2, -999.00,9,  -999.0,9, -999.00,1, -999.00,1,       21.8,2, 20220624,      709,  30.0000,-148.5105,     1.4572,2,     -999.0,9,     -999.0,9,     -999.0,9,     -999.0,9,     0.0128,1,     4.7056,1,     -999.0,9,     -999.0,9,     -999.0,9,     -999.0,9,     -999.0,9