BOTTLE,20230830CCHSIOCBG
EXPOCODE,SECT_ID,STNNBR,CASTNO,SAMPNO,BTLNBR,BTLNBR_FLAG_W,DATE,TIME,LATITUDE,LONGITUDE,DEPTH,CTDPRS,CTDPRS_FLAG_W,CTDTMP,CTDTMP_FLAG_W,CTDSAL,CTDSAL_FLAG_W,SALNTY,SALNTY_FLAG_W,CTDOXY,CTDOXY_FLAG_W,OXYGEN,OXYGEN_FLAG_W,SILCAT,SILCAT_FLAG_W,NITRAT,NITRAT_FLAG_W,NITRIT,NITRIT_FLAG_W,PHSPHT,PHSPHT_FLAG_W,CFC-11,CFC-11_FLAG_W,CFC-12,CFC-12_FLAG_W,SF6,SF6_FLAG_W,TCARBN,TCARBN_FLAG_W,ALKALI,ALKALI_FLAG_W,PH_TOT,PH_TOT_FLAG_W,PH_TMP,PH_TMP_FLAG_W,DELC13,DELC13_FLAG_W,DELC14,DELC14_FLAG_W,DOC,DOC_FLAG_W,TDN,TDN_FLAG_W,N2O,N2O_FLAG_W,BTL_DATE,BTL_TIME,BTL_LAT,BTL_LON,REFTMP,REFTMP_FLAG_W,POC,POC_FLAG_W,PON,PON_FLAG_W,POP,POP_FLAG_W,PCOD,PCOD_FLAG_W,CTDFLUOR,CTDFLUOR_FLAG_W,CTDXMISS,CTDXMISS_FLAG_W,HPLC,HPLC_FLAG_W,DNA,DNA_FLAG_W,FCM,FCM_FLAG_W,IMAGES,IMAGES_FLAG_W,VIRAL_ABUNDANCE,VIRAL_ABUNDANCE_FLAG_W
,,,,,,,,,,,METERS,DBAR,,ITS-90,,PSS-78,,PSS-78,,UMOL/KG,,UMOL/KG,,UMOL/KG,,UMOL/KG,,UMOL/KG,,UMOL/KG,,PMOL/KG,,PMOL/KG,,FMOL/KG,,UMOL/KG,,UMOL/KG,,,,DEG C,,/MILLE,,/MILLE,,UMOL/KG,,UMOL/KG,,NMOL/KG,,,,,,ITS-90,,UG/L,,UG/L,,UG/L,,UG/L,,VOLTS,,VOLTS,,,,,,,,,,,
33RR20220613,       P02E,     131,          2,          4,          4,2,20220621,       0716,    30.0007,  -153.7069,       5481,  4681.6,2,   1.5062,2,  34.6880,2,  34.6873,2,    153.3,2,   153.6,2,  154.78,2,   36.09,2,    0.00,2,    2.70,4,   0.007,2,   0.006,2,   0.0000,2,  2325.7,2,  2424.5,2,   7.5819,2,    25.02,2, -999.00,9,  -999.0,9, -999.00,9, -999.00,9,       22.8,2, 20220621,      738,  30.0008,-153.7068,     1.5062,2,     -999.0,9,     -999.0,9,     -999.0,9,     -999.0,9,     0.0122,1,     4.7050,1,     -999.0,9,     -999.0,9,     -999.0,9,     -999.0,9,     -999.0,9
33RR20220613,       P02E,     131,          2,          3,          3,2,20220621,       0716,    30.0007,  -153.7069,       5481,  4990.6,2,   1.5307,2,  34.6893,2,  34.6881,2,    156.1,2,   156.2,2,  152.05,2,   35.89,2,    0.00,2,    2.67,4,   0.006,6,   0.006,6,   0.0000,6,  2325.6,2,  -999.0,9,   7.5850,2,    25.01,2, -999.00,9,  -999.0,9, -999.00,9, -999.00,9,       22.3,6, 20220621,      732,  30.0008,-153.7068,     1.5308,2,     -999.0,9,     -999.0,9,     -999.0,9,     -999.0,9,     0.0121,1,     4.7046,1,     -999.0,9,     -999.0,9,     -999.0,9,     -999.0,9,     -999.0,9
33RR20220613,       P02E,     131,          2,          2,          2,2,20220621,       0716,    30.0007,  -153.7069,       5481,  5300.1,2,   1.5568,2,  34.6899,2,  34.6885,2,    158.3,2,   158.6,2,  149.99,2,   35.58,2,    0.00,2,    2.66,4,   0.005,2,   0.005,2,   0.0000,2,  -999.0,9,  -999.0,9,-999.0000,9,  -999.00,9, -999.00,9,  -999.0,9, -999.00,9, -999.00,9,       22.2,2, 20220621,      725,  30.0008,-153.7068,     1.5570,2,     -999.0,9,     -999.0,9,     -999.0,9,     -999.0,9,     0.0130,1,     4.7039,1,     -999.0,9,     -999.0,9,     -999.0,9,     -999.0,9,     -999.0,9
33RR20220613,       P02E,     131,          2,          1,          1,2,20220621,       0716,    30.0007,  -153.7069,       5481,  5579.8,2,   1.5883,2,  34.6903,2,  34.6906,2,    159.5,2,   159.4,2,  148.92,2,   35.43,2,    0.00,2,    2.65,4,   0.007,2,   0.005,2,   0.0000,2,  2320.9,6,  2420.8,2,   7.5879,2,    25.01,2, -999.00,9,  -999.0,9, -999.00,9, -999.00,9,       23.8,2, 20220621,      716,  30.0008,-153.7068,     1.5885,2,     -999.0,9,     -999.0,9,     -999.0,9,     -999.0,9,     0.0122,1,     4.7033,1,     -999.0,9,     -999.0,9,     -999.0,9,     -999.0,9,     -999.0,9