BOTTLE,20230830CCHSIOCBG
EXPOCODE,SECT_ID,STNNBR,CASTNO,SAMPNO,BTLNBR,BTLNBR_FLAG_W,DATE,TIME,LATITUDE,LONGITUDE,DEPTH,CTDPRS,CTDPRS_FLAG_W,CTDTMP,CTDTMP_FLAG_W,CTDSAL,CTDSAL_FLAG_W,SALNTY,SALNTY_FLAG_W,CTDOXY,CTDOXY_FLAG_W,OXYGEN,OXYGEN_FLAG_W,SILCAT,SILCAT_FLAG_W,NITRAT,NITRAT_FLAG_W,NITRIT,NITRIT_FLAG_W,PHSPHT,PHSPHT_FLAG_W,CFC-11,CFC-11_FLAG_W,CFC-12,CFC-12_FLAG_W,SF6,SF6_FLAG_W,TCARBN,TCARBN_FLAG_W,ALKALI,ALKALI_FLAG_W,PH_TOT,PH_TOT_FLAG_W,PH_TMP,PH_TMP_FLAG_W,DELC13,DELC13_FLAG_W,DELC14,DELC14_FLAG_W,DOC,DOC_FLAG_W,TDN,TDN_FLAG_W,N2O,N2O_FLAG_W,BTL_DATE,BTL_TIME,BTL_LAT,BTL_LON,REFTMP,REFTMP_FLAG_W,POC,POC_FLAG_W,PON,PON_FLAG_W,POP,POP_FLAG_W,PCOD,PCOD_FLAG_W,CTDFLUOR,CTDFLUOR_FLAG_W,CTDXMISS,CTDXMISS_FLAG_W,HPLC,HPLC_FLAG_W,DNA,DNA_FLAG_W,FCM,FCM_FLAG_W,IMAGES,IMAGES_FLAG_W,VIRAL_ABUNDANCE,VIRAL_ABUNDANCE_FLAG_W
,,,,,,,,,,,METERS,DBAR,,ITS-90,,PSS-78,,PSS-78,,UMOL/KG,,UMOL/KG,,UMOL/KG,,UMOL/KG,,UMOL/KG,,UMOL/KG,,PMOL/KG,,PMOL/KG,,FMOL/KG,,UMOL/KG,,UMOL/KG,,,,DEG C,,/MILLE,,/MILLE,,UMOL/KG,,UMOL/KG,,NMOL/KG,,,,,,ITS-90,,UG/L,,UG/L,,UG/L,,UG/L,,VOLTS,,VOLTS,,,,,,,,,,,
33RR20220613,       P02E,     125,          2,         36,         36,2,20220619,       0616,    30.0000,  -157.1710,       5941,     2.9,2,  25.0843,2,  35.2658,2,  35.2645,2,    210.2,2,   210.2,2,    0.59,2,    0.02,2,    0.00,2,    0.00,3,   1.654,2,   1.022,2,   1.6874,2,  2019.8,6,  2319.9,2,   8.0354,2,    25.02,2, -999.00,9,  -999.0,9, -999.00,9, -999.00,9,        6.9,2, 20220619,      916,  30.0000,-157.1710,    25.0827,2,     -999.0,9,     -999.0,9,     -999.0,9,     -999.0,9,     0.0134,1,     4.6423,1,     -999.0,9,     -999.0,9,     -999.0,9,     -999.0,9,     -999.0,9
33RR20220613,       P02E,     125,          2,         35,         35,2,20220619,       0616,    30.0000,  -157.1710,       5941,    35.3,2,  25.0201,2,  35.2686,2,  35.2678,2,    210.4,2,   210.8,2,    0.59,2,    0.02,2,    0.00,2,    0.00,3,   1.673,2,   1.020,2,   1.6993,2,  2016.7,2,  2320.9,2,   8.0353,2,    25.01,2, -999.00,9,  -999.0,9, -999.00,9, -999.00,9,        6.9,2, 20220619,      913,  30.0000,-157.1710,    25.0165,2,     -999.0,9,     -999.0,9,     -999.0,9,     -999.0,9,     0.0135,1,     4.6400,1,     -999.0,9,     -999.0,9,     -999.0,9,     -999.0,9,     -999.0,9
33RR20220613,       P02E,     125,          2,         34,         34,2,20220619,       0616,    30.0000,  -157.1710,       5941,    60.7,2,  23.2460,2,  35.2815,2,  35.2798,2,    224.9,2,   224.4,2,    0.49,2,    0.00,2,    0.00,2,    0.00,3,   1.817,2,   1.098,2,   1.7452,2,  2021.9,2,  2320.3,2,   8.0308,2,    25.03,2, -999.00,9,  -999.0,9, -999.00,9, -999.00,9,        7.4,2, 20220619,      911,  30.0000,-157.1710,    23.2137,2,     -999.0,9,     -999.0,9,     -999.0,9,     -999.0,9,     0.0163,1,     4.6184,1,     -999.0,9,     -999.0,9,     -999.0,9,     -999.0,9,     -999.0,9
33RR20220613,       P02E,     125,          2,         33,         33,2,20220619,       0616,    30.0000,  -157.1710,       5941,    86.8,2,  21.7361,2,  35.2378,2,  35.2389,2,    222.4,2,   222.3,2,    0.59,2,    0.00,2,    0.00,2,    0.00,3,   1.886,2,   1.148,2,   1.7739,2,  2032.7,2,  2319.7,6,   8.0120,2,    25.02,2, -999.00,9,  -999.0,9, -999.00,9, -999.00,9,        7.7,2, 20220619,      909,  30.0000,-157.1710,    21.7239,2,     -999.0,9,     -999.0,9,     -999.0,9,     -999.0,9,     0.0176,1,     4.6457,1,     -999.0,9,     -999.0,9,     -999.0,9,     -999.0,9,     -999.0,9
33RR20220613,       P02E,     125,          2,         32,         32,2,20220619,       0616,    30.0000,  -157.1710,       5941,   116.9,2,  20.6493,2,  35.1560,2,  35.1581,2,    217.4,2,   217.8,2,    0.78,2,    0.00,2,    0.00,2,    0.03,3,   1.939,2,   1.191,2,   1.8727,2,  2040.8,2,  2313.5,2,   7.9873,2,    25.02,2, -999.00,9,  -999.0,9, -999.00,9, -999.00,9,        8.1,2, 20220619,      906,  30.0000,-157.1710,    20.6432,2,     -999.0,9,     -999.0,9,     -999.0,9,     -999.0,9,     0.0220,1,     4.6540,1,     -999.0,9,     -999.0,9,     -999.0,9,     -999.0,9,     -999.0,9
33RR20220613,       P02E,     125,          2,         31,         31,2,20220619,       0616,    30.0000,  -157.1710,       5941,   166.5,2,  18.3998,2,  34.8501,3,  34.8172,2,    206.3,2,   205.9,2,    1.96,2,    1.60,2,    0.04,2,    0.15,3,   2.161,2,   1.321,2,   2.0125,2,  2061.2,2,  2289.3,2,   7.9184,2,    25.01,2, -999.00,9,  -999.0,9, -999.00,9, -999.00,9,       10.0,2, 20220619,      904,  30.0000,-157.1710,    18.3742,2,     -999.0,9,     -999.0,9,     -999.0,9,     -999.0,9,     0.0244,1,     4.6690,1,     -999.0,9,     -999.0,9,     -999.0,9,     -999.0,9,     -999.0,9
33RR20220613,       P02E,     125,          2,         30,         40,2,20220619,       0616,    30.0000,  -157.1710,       5941,   217.8,2,  15.5251,2,  34.5104,2,  34.5068,2,    204.2,2,   204.8,2,    4.50,2,    4.92,2,    0.01,2,    0.34,3,   2.429,2,   1.470,2,   2.0101,2,  2072.8,2,  2269.8,2,   7.8598,2,    25.02,2, -999.00,9,  -999.0,9, -999.00,9, -999.00,9,       13.3,2, 20220619,      902,  30.0000,-157.1710,    15.5482,2,     -999.0,9,     -999.0,9,     -999.0,9,     -999.0,9,     0.0147,1,     4.6823,1,     -999.0,9,     -999.0,9,     -999.0,9,     -999.0,9,     -999.0,9
33RR20220613,       P02E,     125,          2,         29,         29,2,20220619,       0616,    30.0000,  -157.1710,       5941,   268.2,2,  13.5122,2,  34.3486,2,  34.3450,2,    215.0,2,   214.0,2,    7.24,2,    7.87,2,    0.00,2,    0.49,3,   2.727,2,   1.575,2,   2.0816,2,  2079.5,2,  2261.5,2,   7.8287,2,    25.01,2, -999.00,9,  -999.0,9, -999.00,9, -999.00,9,       14.6,2, 20220619,      859,  30.0000,-157.1710,    13.5521,2,     -999.0,9,     -999.0,9,     -999.0,9,     -999.0,9,     0.0122,1,     4.6884,1,     -999.0,9,     -999.0,9,     -999.0,9,     -999.0,9,     -999.0,9
33RR20220613,       P02E,     125,          2,         28,         28,2,20220619,       0616,    30.0000,  -157.1710,       5941,   318.1,2,  12.2268,2,  34.2486,2,  34.2473,2,    209.0,2,   208.8,2,   10.37,2,   10.93,2,    0.00,2,    0.67,3,   2.815,2,   1.669,2,   1.9434,2,  2098.3,2,  2260.7,6,   7.7886,2,    25.01,2, -999.00,9,  -999.0,9, -999.00,9, -999.00,9,       16.0,2, 20220619,      857,  30.0000,-157.1710,    12.2199,2,     -999.0,9,     -999.0,9,     -999.0,9,     -999.0,9,     0.0122,1,     4.6904,1,     -999.0,9,     -999.0,9,     -999.0,9,     -999.0,9,     -999.0,9
33RR20220613,       P02E,     125,          2,         27,         27,2,20220619,       0616,    30.0000,  -157.1710,       5941,   368.4,2,  10.9510,2,  34.1610,2,  34.1558,2,    207.0,2,   207.1,2,   13.79,2,   13.61,2,    0.00,2,    0.82,3,   2.967,2,   1.747,2,   1.9006,2,  2107.6,2,  2258.9,2,   7.7510,2,    25.00,2, -999.00,9,  -999.0,9, -999.00,9, -999.00,9,       18.7,2, 20220619,      854,  30.0000,-157.1710,    11.0240,2,     -999.0,9,     -999.0,9,     -999.0,9,     -999.0,9,     0.0122,1,     4.6925,1,     -999.0,9,     -999.0,9,     -999.0,9,     -999.0,9,     -999.0,9
33RR20220613,       P02E,     125,          2,         26,         26,2,20220619,       0616,    30.0000,  -157.1710,       5941,   438.5,2,   9.5578,2,  34.0891,2,  34.0787,2,    195.0,2,   195.0,2,   22.50,2,   18.01,2,    0.00,2,    1.11,3,   2.988,2,   1.756,2,   1.5464,2,  2136.3,2,  2262.5,2,   7.6923,2,    25.00,2, -999.00,9,  -999.0,9, -999.00,9, -999.00,9,       21.9,2, 20220619,      851,  30.0000,-157.1710,     9.4869,2,     -999.0,9,     -999.0,9,     -999.0,9,     -999.0,9,     0.0122,1,     4.6953,1,     -999.0,9,     -999.0,9,     -999.0,9,     -999.0,9,     -999.0,9
33RR20220613,       P02E,     125,          2,         25,         25,2,20220619,       0616,    30.0000,  -157.1710,       5941,   541.3,2,   7.5768,2,  34.0153,2,  34.0159,2,    150.8,2,   151.4,2,   40.11,2,   25.91,2,    0.00,2,    1.62,3,   2.710,2,   1.560,2,   1.0389,2,  2189.1,2,  2275.6,2,   7.5733,2,    25.00,2, -999.00,9,  -999.0,9, -999.00,9, -999.00,9,       28.6,2, 20220619,      847,  30.0000,-157.1710,     7.5935,2,     -999.0,9,     -999.0,9,     -999.0,9,     -999.0,9,     0.0124,1,     4.6965,1,     -999.0,9,     -999.0,9,     -999.0,9,     -999.0,9,     -999.0,9
33RR20220613,       P02E,     125,          2,         24,         24,2,20220619,       0616,    30.0000,  -157.1710,       5941,   639.6,2,   5.7935,2,  33.9980,2,  33.9965,2,    105.4,3,   104.3,2,   63.88,2,   33.61,2,    0.00,2,    2.18,3,   2.065,2,   1.176,2,   0.6761,2,  2237.8,2,  2290.9,2,   7.4488,2,    25.01,2, -999.00,9,  -999.0,9, -999.00,9, -999.00,9,       36.3,2, 20220619,      845,  30.0000,-157.1710,     5.8352,2,     -999.0,9,     -999.0,9,     -999.0,9,     -999.0,9,     0.0134,1,     4.6982,1,     -999.0,9,     -999.0,9,     -999.0,9,     -999.0,9,     -999.0,9
33RR20220613,       P02E,     125,          2,         23,         23,2,20220619,       0616,    30.0000,  -157.1710,       5941,   742.5,2,   4.7179,2,  34.0889,2,  34.0885,2,     48.3,3,    50.1,2,   89.02,2,   40.13,2,    0.00,2,    2.67,3,   1.011,2,   0.556,2,   0.2157,2,  2306.4,2,  2316.1,2,   7.3412,2,    25.01,2, -999.00,9,  -999.0,9, -999.00,9, -999.00,9,       47.1,2, 20220619,      841,  30.0000,-157.1710,     4.7219,2,     -999.0,9,     -999.0,9,     -999.0,9,     -999.0,9,     0.0134,1,     4.6983,1,     -999.0,9,     -999.0,9,     -999.0,9,     -999.0,9,     -999.0,9
33RR20220613,       P02E,     125,          2,         22,         22,2,20220619,       0616,    30.0000,  -157.1710,       5941,   843.2,2,   4.2142,2,  34.1952,2,  34.1954,2,     22.8,2,    23.0,2,  105.93,2,   42.90,2,    0.00,2,    2.92,3,   0.340,2,   0.194,2,   0.0000,2,  -999.0,9,  -999.0,9,-999.0000,9,  -999.00,9, -999.00,9,  -999.0,9, -999.00,9, -999.00,9,       55.2,2, 20220619,      838,  30.0000,-157.1710,     4.2151,2,     -999.0,9,     -999.0,9,     -999.0,9,     -999.0,9,     0.0134,1,     4.6988,1,     -999.0,9,     -999.0,9,     -999.0,9,     -999.0,9,     -999.0,9
33RR20220613,       P02E,     125,          2,         21,         21,2,20220619,       0616,    30.0000,  -157.1710,       5941,   943.8,2,   3.9169,2,  34.2911,2,  34.2921,2,     12.8,3,    12.5,2,  116.88,2,   44.00,2,    0.00,2,    3.06,3,   0.081,2,   0.049,2,   0.0000,2,  2358.3,2,  2351.7,2,   7.2946,2,    25.02,2, -999.00,9,  -999.0,9, -999.00,9, -999.00,9,       59.6,2, 20220619,      834,  30.0000,-157.1710,     3.9144,2,     -999.0,9,     -999.0,9,     -999.0,9,     -999.0,9,     0.0134,1,     4.6983,1,     -999.0,9,     -999.0,9,     -999.0,9,     -999.0,9,     -999.0,9
33RR20220613,       P02E,     125,          2,         20,         20,2,20220619,       0616,    30.0000,  -157.1710,       5941,  1045.7,2,   3.5913,2,  34.3615,2,  34.3633,2,     12.5,3,    12.0,2,  126.46,2,   44.29,2,    0.00,2,    3.12,3,   0.023,2,   0.022,2,   0.0000,2,  2367.2,2,  2366.9,2,   7.3013,2,    25.00,2, -999.00,9,  -999.0,9, -999.00,9, -999.00,9,       64.7,2, 20220619,      831,  30.0000,-157.1710,     3.5921,2,     -999.0,9,     -999.0,9,     -999.0,9,     -999.0,9,     0.0134,1,     4.6983,1,     -999.0,9,     -999.0,9,     -999.0,9,     -999.0,9,     -999.0,9
33RR20220613,       P02E,     125,          2,         19,         39,2,20220619,       0616,    30.0000,  -157.1710,       5941,  1145.9,2,   3.4007,2,  34.4252,2,  34.4251,2,     17.3,2,    17.3,2,  131.64,2,   44.15,2,    0.00,2,    3.15,3,   0.011,2,   0.008,2,   0.0000,2,  2372.7,2,  2376.5,2,   7.3194,2,    25.00,2, -999.00,9,  -999.0,9, -999.00,9, -999.00,9,       59.4,2, 20220619,      828,  30.0000,-157.1710,     3.3995,2,     -999.0,9,     -999.0,9,     -999.0,9,     -999.0,9,     0.0134,1,     4.6983,1,     -999.0,9,     -999.0,9,     -999.0,9,     -999.0,9,     -999.0,9
33RR20220613,       P02E,     125,          2,         18,         18,2,20220619,       0616,    30.0000,  -157.1710,       5941,  1248.6,2,   3.1771,2,  34.4717,2,  34.4710,2,     23.7,3,    24.0,2,  137.30,2,   43.96,2,    0.00,2,    3.17,3,   0.006,2,   0.006,2,   0.0000,2,  -999.0,9,  -999.0,9,-999.0000,9,  -999.00,9, -999.00,9,  -999.0,9, -999.00,9, -999.00,9,       54.8,2, 20220619,      824,  30.0000,-157.1710,     3.1793,2,     -999.0,9,     -999.0,9,     -999.0,9,     -999.0,9,     0.0134,1,     4.6993,1,     -999.0,9,     -999.0,9,     -999.0,9,     -999.0,9,     -999.0,9
33RR20220613,       P02E,     125,          2,         17,         37,2,20220619,       0616,    30.0000,  -157.1710,       5941,  1348.3,2,   3.0013,2,  34.5036,2,  34.5029,2,     31.7,2,    31.9,2,  141.51,2,   43.55,2,    0.00,2,    3.16,4,   0.006,2,   0.007,2,   0.0000,2,  2379.4,2,  2392.9,6,   7.3534,2,    25.00,2, -999.00,9,  -999.0,9, -999.00,9, -999.00,9,       50.9,2, 20220619,      821,  30.0000,-157.1710,     3.0006,2,     -999.0,9,     -999.0,9,     -999.0,9,     -999.0,9,     0.0135,1,     4.6995,1,     -999.0,9,     -999.0,9,     -999.0,9,     -999.0,9,     -999.0,9
33RR20220613,       P02E,     125,          2,         16,         16,2,20220619,       0616,    30.0000,  -157.1710,       5941,  1481.0,2,   2.7416,2,  34.5383,2,  34.5366,2,     44.2,2,    44.1,2,  146.88,2,   42.91,2,    0.00,2,    3.14,4,   0.004,2,   0.003,2,   0.0000,2,  -999.0,9,  -999.0,9,-999.0000,9,  -999.00,9, -999.00,9,  -999.0,9, -999.00,9, -999.00,9,       45.1,2, 20220619,      817,  30.0000,-157.1710,     2.7430,2,     -999.0,9,     -999.0,9,     -999.0,9,     -999.0,9,     0.0134,1,     4.7007,1,     -999.0,9,     -999.0,9,     -999.0,9,     -999.0,9,     -999.0,9
33RR20220613,       P02E,     125,          2,         15,         15,2,20220619,       0616,    30.0000,  -157.1710,       5941,  1683.9,2,   2.4209,2,  34.5723,2,  34.5714,2,     58.9,2,    58.8,2,  154.41,2,   42.11,2,    0.00,2,    3.11,4,   0.006,2,   0.007,2,   0.0000,2,  2373.0,2,  2401.8,2,   7.4082,2,    25.00,2, -999.00,9,  -999.0,9, -999.00,9, -999.00,9,       39.5,2, 20220619,      812,  30.0000,-157.1710,     2.4212,2,     -999.0,9,     -999.0,9,     -999.0,9,     -999.0,9,     0.0134,1,     4.7010,1,     -999.0,9,     -999.0,9,     -999.0,9,     -999.0,9,     -999.0,9
33RR20220613,       P02E,     125,          2,         14,         14,2,20220619,       0616,    30.0000,  -157.1710,       5941,  1885.9,2,   2.1774,2,  34.5964,2,  34.5987,2,     71.3,2,    71.4,2,  159.49,2,   41.37,2,    0.00,2,    3.10,4,   0.005,2,   0.005,2,   0.0000,2,  -999.0,9,  -999.0,9,-999.0000,9,  -999.00,9, -999.00,9,  -999.0,9, -999.00,9, -999.00,9,       36.0,2, 20220619,      807,  30.0000,-157.1710,     2.1773,2,     -999.0,9,     -999.0,9,     -999.0,9,     -999.0,9,     0.0134,1,     4.7020,1,     -999.0,9,     -999.0,9,     -999.0,9,     -999.0,9,     -999.0,9
33RR20220613,       P02E,     125,          2,         13,         13,2,20220619,       0616,    30.0000,  -157.1710,       5941,  2110.2,2,   1.9690,2,  34.6177,2,  34.6160,2,     84.0,2,    84.0,2,  162.23,2,   40.56,2,    0.00,2,    3.06,4,   0.003,6,   0.003,6,   0.0000,6,  2369.1,2,  2413.3,2,   7.4563,2,    25.00,2, -999.00,9,  -999.0,9, -999.00,9, -999.00,9,       32.7,6, 20220619,      801,  30.0000,-157.1710,     1.9698,2,     -999.0,9,     -999.0,9,     -999.0,9,     -999.0,9,     0.0134,1,     4.7030,1,     -999.0,9,     -999.0,9,     -999.0,9,     -999.0,9,     -999.0,9
33RR20220613,       P02E,     125,          2,         12,         12,2,20220619,       0616,    30.0000,  -157.1710,       5941,  2365.2,2,   1.8143,2,  34.6344,2,  34.6329,2,     95.3,2,    95.8,2,  164.28,2,   39.89,2,    0.00,2,    3.03,4,   0.005,2,   0.004,2,   0.0000,2,  -999.0,9,  -999.0,9,-999.0000,9,  -999.00,9, -999.00,9,  -999.0,9, -999.00,9, -999.00,9,       30.1,2, 20220619,      754,  30.0000,-157.1710,     1.8145,2,     -999.0,9,     -999.0,9,     -999.0,9,     -999.0,9,     0.0129,1,     4.7026,1,     -999.0,9,     -999.0,9,     -999.0,9,     -999.0,9,     -999.0,9
33RR20220613,       P02E,     125,          2,         11,         11,2,20220619,       0616,    30.0000,  -157.1710,       5941,  2619.3,2,   1.7001,2,  34.6476,2,  34.6472,2,    104.9,2,   104.8,2,  165.64,2,   39.52,2,    0.00,2,    3.02,4,   0.005,2,   0.003,2,   0.0000,2,  2357.9,2,  2419.6,2,   7.4959,2,    24.99,2, -999.00,9,  -999.0,9, -999.00,9, -999.00,9,       28.4,2, 20220619,      748,  30.0000,-157.1710,     1.6998,2,     -999.0,9,     -999.0,9,     -999.0,9,     -999.0,9,     0.0130,1,     4.7042,1,     -999.0,9,     -999.0,9,     -999.0,9,     -999.0,9,     -999.0,9
33RR20220613,       P02E,     125,          2,         10,         10,2,20220619,       0616,    30.0000,  -157.1710,       5941,  2874.4,2,   1.6223,2,  34.6574,2,  34.6565,2,    114.6,2,   114.4,2,  164.37,2,   38.80,2,    0.00,2,    2.95,4,   0.006,2,   0.004,2,   0.0000,2,  -999.0,9,  -999.0,9,-999.0000,9,  -999.00,9, -999.00,9,  -999.0,9, -999.00,9, -999.00,9,       28.2,2, 20220619,      742,  30.0000,-157.1710,     1.6222,2,     -999.0,9,     -999.0,9,     -999.0,9,     -999.0,9,     0.0122,1,     4.7042,1,     -999.0,9,     -999.0,9,     -999.0,9,     -999.0,9,     -999.0,9
33RR20220613,       P02E,     125,          2,          9,          9,2,20220619,       0616,    30.0000,  -157.1710,       5941,  3143.9,2,   1.5640,2,  34.6655,2,  34.6647,2,    123.3,2,   123.3,2,  163.49,2,   38.21,2,    0.00,2,    2.90,4,   0.010,2,   0.005,2,   0.0000,2,  2348.5,2,  2421.4,2,   7.5301,2,    25.00,2, -999.00,9,  -999.0,9, -999.00,9, -999.00,9,       26.0,2, 20220619,      737,  30.0000,-157.1710,     1.5639,2,     -999.0,9,     -999.0,9,     -999.0,9,     -999.0,9,     0.0122,1,     4.7044,1,     -999.0,9,     -999.0,9,     -999.0,9,     -999.0,9,     -999.0,9
33RR20220613,       P02E,     125,          2,          8,          8,2,20220619,       0616,    30.0000,  -157.1710,       5941,  3452.3,2,   1.5137,2,  34.6730,2,  34.6722,2,    132.4,2,   132.7,2,  161.05,2,   37.56,2,    0.00,2,    2.86,4,   0.005,2,   0.002,2,   0.0000,2,  -999.0,9,  -999.0,9,-999.0000,9,  -999.00,9, -999.00,9,  -999.0,9, -999.00,9, -999.00,9,       23.8,2, 20220619,      730,  30.0000,-157.1710,     1.5135,2,     -999.0,9,     -999.0,9,     -999.0,9,     -999.0,9,     0.0124,1,     4.7045,1,     -999.0,9,     -999.0,9,     -999.0,9,     -999.0,9,     -999.0,9
33RR20220613,       P02E,     125,          2,          7,          7,2,20220619,       0616,    30.0000,  -157.1710,       5941,  3796.2,2,   1.4938,2,  34.6788,2,  34.6779,2,    139.8,2,   139.9,2,  159.09,2,   37.08,2,    0.00,2,    2.83,4,   0.003,2,   0.002,2,   0.0000,2,  2337.4,2,  2423.0,2,   7.5585,2,    25.01,2, -999.00,9,  -999.0,9, -999.00,9, -999.00,9,       24.0,2, 20220619,      723,  30.0000,-157.1710,     1.4937,2,     -999.0,9,     -999.0,9,     -999.0,9,     -999.0,9,     0.0122,1,     4.7056,1,     -999.0,9,     -999.0,9,     -999.0,9,     -999.0,9,     -999.0,9
33RR20220613,       P02E,     125,          2,          6,          6,2,20220619,       0616,    30.0000,  -157.1710,       5941,  4207.9,2,   1.4898,2,  34.6835,2,  34.6828,2,    146.6,2,   146.8,2,  156.15,2,   36.56,2,    0.00,2,    2.79,4,   0.005,2,   0.004,2,   0.0000,2,  -999.0,9,  -999.0,9,-999.0000,9,  -999.00,9, -999.00,9,  -999.0,9, -999.00,9, -999.00,9,       23.3,2, 20220619,      715,  30.0000,-157.1710,     1.4897,2,     -999.0,9,     -999.0,9,     -999.0,9,     -999.0,9,     0.0122,1,     4.7051,1,     -999.0,9,     -999.0,9,     -999.0,9,     -999.0,9,     -999.0,9
33RR20220613,       P02E,     125,          2,          5,          5,2,20220619,       0616,    30.0000,  -157.1710,       5941,  4621.9,2,   1.5063,2,  34.6864,2,  34.6861,2,    151.4,2,   151.3,2,  153.61,2,   36.24,2,    0.00,2,    2.75,4,   0.009,2,   0.008,2,   0.0000,2,  2328.0,2,  2420.0,2,   7.5779,2,    24.98,2, -999.00,9,  -999.0,9, -999.00,9, -999.00,9,       23.5,2, 20220619,      707,  30.0000,-157.1710,     1.5063,2,     -999.0,9,     -999.0,9,     -999.0,9,     -999.0,9,     0.0122,1,     4.7047,1,     -999.0,9,     -999.0,9,     -999.0,9,     -999.0,9,     -999.0,9