BOTTLE,20230830CCHSIOCBG
EXPOCODE,SECT_ID,STNNBR,CASTNO,SAMPNO,BTLNBR,BTLNBR_FLAG_W,DATE,TIME,LATITUDE,LONGITUDE,DEPTH,CTDPRS,CTDPRS_FLAG_W,CTDTMP,CTDTMP_FLAG_W,CTDSAL,CTDSAL_FLAG_W,SALNTY,SALNTY_FLAG_W,CTDOXY,CTDOXY_FLAG_W,OXYGEN,OXYGEN_FLAG_W,SILCAT,SILCAT_FLAG_W,NITRAT,NITRAT_FLAG_W,NITRIT,NITRIT_FLAG_W,PHSPHT,PHSPHT_FLAG_W,CFC-11,CFC-11_FLAG_W,CFC-12,CFC-12_FLAG_W,SF6,SF6_FLAG_W,TCARBN,TCARBN_FLAG_W,ALKALI,ALKALI_FLAG_W,PH_TOT,PH_TOT_FLAG_W,PH_TMP,PH_TMP_FLAG_W,DELC13,DELC13_FLAG_W,DELC14,DELC14_FLAG_W,DOC,DOC_FLAG_W,TDN,TDN_FLAG_W,N2O,N2O_FLAG_W,BTL_DATE,BTL_TIME,BTL_LAT,BTL_LON,REFTMP,REFTMP_FLAG_W,POC,POC_FLAG_W,PON,PON_FLAG_W,POP,POP_FLAG_W,PCOD,PCOD_FLAG_W,CTDFLUOR,CTDFLUOR_FLAG_W,CTDXMISS,CTDXMISS_FLAG_W,HPLC,HPLC_FLAG_W,DNA,DNA_FLAG_W,FCM,FCM_FLAG_W,IMAGES,IMAGES_FLAG_W,VIRAL_ABUNDANCE,VIRAL_ABUNDANCE_FLAG_W
,,,,,,,,,,,METERS,DBAR,,ITS-90,,PSS-78,,PSS-78,,UMOL/KG,,UMOL/KG,,UMOL/KG,,UMOL/KG,,UMOL/KG,,UMOL/KG,,PMOL/KG,,PMOL/KG,,FMOL/KG,,UMOL/KG,,UMOL/KG,,,,DEG C,,/MILLE,,/MILLE,,UMOL/KG,,UMOL/KG,,NMOL/KG,,,,,,ITS-90,,UG/L,,UG/L,,UG/L,,UG/L,,VOLTS,,VOLTS,,,,,,,,,,,
33RR20220613,       P02E,     191,          4,          4,          4,2,20220713,       2114,    31.7517,  -119.8101,       3679,  3299.7,2,   1.6142,2,  34.6687,2,  34.6679,2,    120.4,2,   120.2,2,  166.77,2,   37.94,2,    0.00,2,    2.63,2,   0.014,2,   0.017,2,   0.0000,2,  2356.6,2,  2435.5,2,   7.5300,2,    25.00,2, -999.00,9,  -999.0,9, -999.00,9, -999.00,9,       30.3,2, 20220713,     2124,  31.7517,-119.8101,     1.6138,2,     -999.0,9,     -999.0,9,     -999.0,9,     -999.0,9,     0.0131,1,     4.6806,1,     -999.0,9,     -999.0,9,     -999.0,9,     -999.0,9,     -999.0,9
33RR20220613,       P02E,     191,          4,          3,          3,2,20220713,       2114,    31.7517,  -119.8101,       3679,  3427.1,2,   1.6013,2,  34.6700,2,  34.6702,2,    122.2,2,   122.2,2,  166.97,2,   37.87,2,    0.00,2,    2.62,2,   0.015,2,   0.016,2,   0.0000,2,  2355.6,2,  2435.9,2,   7.5339,2,    25.00,2, -999.00,9,  -999.0,9, -999.00,9, -999.00,9,       27.1,2, 20220713,     2121,  31.7517,-119.8101,     1.6013,2,     -999.0,9,     -999.0,9,     -999.0,9,     -999.0,9,     0.0122,1,     4.6826,1,     -999.0,9,     -999.0,9,     -999.0,9,     -999.0,9,     -999.0,9
33RR20220613,       P02E,     191,          4,          2,          2,2,20220713,       2114,    31.7517,  -119.8101,       3679,  3606.4,2,   1.5803,2,  34.6726,2,  34.6741,2,    124.5,2,   124.6,2,  168.24,2,   37.73,2,    0.00,2,    2.60,2,   0.017,2,   0.028,2,   0.0000,2,  2355.3,2,  2436.3,6,   7.5383,2,    25.00,2, -999.00,9,  -999.0,9, -999.00,9, -999.00,9,       27.4,2, 20220713,     2116,  31.7517,-119.8101,     1.5803,2,     -999.0,9,     -999.0,9,     -999.0,9,     -999.0,9,     0.0125,1,     4.6721,1,     -999.0,9,     -999.0,9,     -999.0,9,     -999.0,9,     -999.0,9
33RR20220613,       P02E,     191,          4,          1,          1,2,20220713,       2114,    31.7517,  -119.8101,       3679,  3726.9,2,   1.5474,2,  34.6758,2,  34.6765,2,    127.3,2,   127.3,2,  169.41,2,   37.50,2,    0.00,2,    2.59,2,   0.018,2,   0.026,2,   0.0000,2,  2354.4,6,  2438.2,2,   7.5440,2,    25.01,2, -999.00,9,  -999.0,9, -999.00,9, -999.00,9,       29.7,2, 20220713,     2114,  31.7517,-119.8101,     1.5473,2,     -999.0,9,     -999.0,9,     -999.0,9,     -999.0,9,     0.0133,1,     4.6271,1,     -999.0,9,     -999.0,9,     -999.0,9,     -999.0,9,     -999.0,9