BOTTLE,20230830CCHSIOCBG
EXPOCODE,SECT_ID,STNNBR,CASTNO,SAMPNO,BTLNBR,BTLNBR_FLAG_W,DATE,TIME,LATITUDE,LONGITUDE,DEPTH,CTDPRS,CTDPRS_FLAG_W,CTDTMP,CTDTMP_FLAG_W,CTDSAL,CTDSAL_FLAG_W,SALNTY,SALNTY_FLAG_W,CTDOXY,CTDOXY_FLAG_W,OXYGEN,OXYGEN_FLAG_W,SILCAT,SILCAT_FLAG_W,NITRAT,NITRAT_FLAG_W,NITRIT,NITRIT_FLAG_W,PHSPHT,PHSPHT_FLAG_W,CFC-11,CFC-11_FLAG_W,CFC-12,CFC-12_FLAG_W,SF6,SF6_FLAG_W,TCARBN,TCARBN_FLAG_W,ALKALI,ALKALI_FLAG_W,PH_TOT,PH_TOT_FLAG_W,PH_TMP,PH_TMP_FLAG_W,DELC13,DELC13_FLAG_W,DELC14,DELC14_FLAG_W,DOC,DOC_FLAG_W,TDN,TDN_FLAG_W,N2O,N2O_FLAG_W,BTL_DATE,BTL_TIME,BTL_LAT,BTL_LON,REFTMP,REFTMP_FLAG_W,POC,POC_FLAG_W,PON,PON_FLAG_W,POP,POP_FLAG_W,PCOD,PCOD_FLAG_W,CTDFLUOR,CTDFLUOR_FLAG_W,CTDXMISS,CTDXMISS_FLAG_W,HPLC,HPLC_FLAG_W,DNA,DNA_FLAG_W,FCM,FCM_FLAG_W,IMAGES,IMAGES_FLAG_W,VIRAL_ABUNDANCE,VIRAL_ABUNDANCE_FLAG_W
,,,,,,,,,,,METERS,DBAR,,ITS-90,,PSS-78,,PSS-78,,UMOL/KG,,UMOL/KG,,UMOL/KG,,UMOL/KG,,UMOL/KG,,UMOL/KG,,PMOL/KG,,PMOL/KG,,FMOL/KG,,UMOL/KG,,UMOL/KG,,,,DEG C,,/MILLE,,/MILLE,,UMOL/KG,,UMOL/KG,,NMOL/KG,,,,,,ITS-90,,UG/L,,UG/L,,UG/L,,UG/L,,VOLTS,,VOLTS,,,,,,,,,,,
33RR20220613,       P02E,     171,          1,         36,         36,2,20220703,       1012,    30.0011,  -130.6112,       4510,     2.9,2,  19.7289,2,  33.6531,2,  33.6459,2,    233.1,2,   233.2,2,    0.98,2,    0.01,2,    0.00,2,    0.23,2,   2.018,2,   1.256,2,   2.1716,2,  2020.6,6,  2248.0,2,   7.9268,2,    24.99,2, -999.00,9,  -999.0,9, -999.00,9, -999.00,9,        7.9,2, 20220703,     1204,  30.0011,-130.6112,    19.7260,2,     -999.0,9,     -999.0,9,     -999.0,9,     -999.0,9,     0.0134,1,     4.6378,1,     -999.0,9,     -999.0,9,     -999.0,9,     -999.0,9,     -999.0,9
33RR20220613,       P02E,     171,          1,         35,         35,2,20220703,       1012,    30.0011,  -130.6112,       4510,    35.1,2,  19.5519,2,  33.6326,2,  33.6189,2,    234.5,2,   236.1,2,    0.98,2,    0.00,2,    0.00,2,    0.23,2,   2.088,2,   1.284,2,   2.0931,2,  2019.8,2,  2245.9,2,   7.9259,2,    24.99,2, -999.00,9,  -999.0,9, -999.00,9, -999.00,9,        8.0,2, 20220703,     1202,  30.0011,-130.6112,    19.5350,2,     -999.0,9,     -999.0,9,     -999.0,9,     -999.0,9,     0.0147,1,     4.6350,1,     -999.0,9,     -999.0,9,     -999.0,9,     -999.0,9,     -999.0,9
33RR20220613,       P02E,     171,          1,         34,         34,2,20220703,       1012,    30.0011,  -130.6112,       4510,    61.0,2,  17.9000,2,  33.5921,2,  33.5904,2,    247.0,2,   246.4,2,    0.98,2,    0.00,2,    0.00,2,    0.23,2,   2.221,2,   1.362,2,   2.3202,2,  2017.6,2,  2245.5,2,   7.9259,2,    24.99,2, -999.00,9,  -999.0,9, -999.00,9, -999.00,9,        8.3,2, 20220703,     1200,  30.0011,-130.6111,    17.9024,2,     -999.0,9,     -999.0,9,     -999.0,9,     -999.0,9,     0.0171,1,     4.6397,1,     -999.0,9,     -999.0,9,     -999.0,9,     -999.0,9,     -999.0,9
33RR20220613,       P02E,     171,          1,         33,         33,2,20220703,       1012,    30.0011,  -130.6112,       4510,    86.7,2,  17.0413,2,  33.5139,3,  33.5401,2,    249.1,2,   249.1,2,    1.08,2,    0.00,2,    0.00,2,    0.22,2,   2.319,2,   1.417,2,   2.2531,2,  2013.7,2,  2238.6,2,   7.9211,2,    25.00,2, -999.00,9,  -999.0,9, -999.00,9, -999.00,9,        8.5,2, 20220703,     1158,  30.0011,-130.6111,    17.0464,2,     -999.0,9,     -999.0,9,     -999.0,9,     -999.0,9,     0.0195,1,     4.6445,1,     -999.0,9,     -999.0,9,     -999.0,9,     -999.0,9,     -999.0,9
33RR20220613,       P02E,     171,          1,         32,         32,2,20220703,       1012,    30.0011,  -130.6112,       4510,   111.9,2,  16.8448,2,  33.6640,2,  33.6789,2,    244.0,2,   243.9,2,    1.27,2,    0.00,2,    0.00,2,    0.21,2,   2.326,2,   1.420,2,   2.2021,2,  2022.4,2,  2242.8,2,   7.9146,2,    25.01,2, -999.00,9,  -999.0,9, -999.00,9, -999.00,9,        8.7,2, 20220703,     1155,  30.0011,-130.6111,    16.8819,2,     -999.0,9,     -999.0,9,     -999.0,9,     -999.0,9,     0.0297,1,     4.6507,1,     -999.0,9,     -999.0,9,     -999.0,9,     -999.0,9,     -999.0,9
33RR20220613,       P02E,     171,          1,         31,         31,2,20220703,       1012,    30.0011,  -130.6112,       4510,   136.3,2,  16.1320,2,  33.7279,3,  33.6385,2,    236.5,2,   237.2,2,    1.76,2,    0.52,2,    0.10,2,    0.28,2,   2.371,2,   1.432,2,   2.1873,2,  2031.0,2,  2236.4,6,   7.8833,2,    24.99,2, -999.00,9,  -999.0,9, -999.00,9, -999.00,9,        9.3,2, 20220703,     1155,  30.0011,-130.6111,    16.0596,3,     -999.0,9,     -999.0,9,     -999.0,9,     -999.0,9,     0.0305,1,     4.6600,1,     -999.0,9,     -999.0,9,     -999.0,9,     -999.0,9,     -999.0,9
33RR20220613,       P02E,     171,          1,         30,         17,2,20220703,       1012,    30.0011,  -130.6112,       4510,   167.6,2,  13.4896,2,  33.4533,2,  33.4705,2,    228.2,2,   227.8,2,    3.72,2,    4.33,2,    0.02,2,    0.53,2,-999.000,9,-999.000,9,-999.0000,9,  2049.8,2,  2222.6,2,   7.8149,2,    24.99,2, -999.00,9,  -999.0,9, -999.00,9, -999.00,9,     -999.0,9, 20220703,     1154,  30.0011,-130.6111,    13.5832,2,     -999.0,9,     -999.0,9,     -999.0,9,     -999.0,9,     0.0229,1,     4.6741,1,     -999.0,9,     -999.0,9,     -999.0,9,     -999.0,9,     -999.0,9
33RR20220613,       P02E,     171,          1,         29,         29,2,20220703,       1012,    30.0011,  -130.6112,       4510,   217.7,2,  10.4173,2,  33.7134,2,  33.7145,2,    196.4,3,   198.4,2,   12.71,2,   13.94,2,    0.00,2,    1.09,2,   3.038,2,   1.829,2,   2.2405,2,  2108.3,2,  2234.8,2,   7.6934,2,    24.99,2, -999.00,9,  -999.0,9, -999.00,9, -999.00,9,       16.2,2, 20220703,     1152,  30.0011,-130.6111,    10.4135,2,     -999.0,9,     -999.0,9,     -999.0,9,     -999.0,9,     0.0134,1,     4.6874,1,     -999.0,9,     -999.0,9,     -999.0,9,     -999.0,9,     -999.0,9
33RR20220613,       P02E,     171,          1,         28,         28,2,20220703,       1012,    30.0011,  -130.6112,       4510,   267.5,2,   9.0593,2,  33.9155,2,  33.9162,2,    171.6,2,   172.4,2,   23.27,2,   20.64,2,    0.00,2,    1.49,2,   3.023,2,   1.814,2,   1.8550,2,  -999.0,9,  -999.0,9,-999.0000,9,  -999.00,9, -999.00,9,  -999.0,9, -999.00,9, -999.00,9,       23.0,2, 20220703,     1150,  30.0011,-130.6111,     9.0815,2,     -999.0,9,     -999.0,9,     -999.0,9,     -999.0,9,     0.0122,1,     4.6897,1,     -999.0,9,     -999.0,9,     -999.0,9,     -999.0,9,     -999.0,9
33RR20220613,       P02E,     171,          1,         27,         27,2,20220703,       1012,    30.0011,  -130.6112,       4510,   318.1,2,   8.3298,2,  33.9986,2,  33.9992,2,    142.2,2,   142.4,2,   33.14,2,   25.33,2,    0.00,2,    1.80,2,   2.822,2,   1.694,2,   1.3327,2,  2186.1,2,  2263.0,2,   7.5496,2,    25.00,2, -999.00,9,  -999.0,9, -999.00,9, -999.00,9,       29.0,2, 20220703,     1147,  30.0011,-130.6111,     8.3285,2,     -999.0,9,     -999.0,9,     -999.0,9,     -999.0,9,     0.0122,1,     4.6898,1,     -999.0,9,     -999.0,9,     -999.0,9,     -999.0,9,     -999.0,9
33RR20220613,       P02E,     171,          1,         26,         26,2,20220703,       1012,    30.0011,  -130.6112,       4510,   368.4,2,   7.6550,2,  34.0078,2,  34.0063,2,    123.1,2,   122.4,2,   41.55,2,   28.52,2,    0.00,2,    2.01,2,   2.631,2,   1.549,2,   1.0345,2,  2207.7,2,  2269.1,2,   7.5017,2,    25.01,2, -999.00,9,  -999.0,9, -999.00,9, -999.00,9,       32.2,2, 20220703,     1146,  30.0011,-130.6111,     7.6544,2,     -999.0,9,     -999.0,9,     -999.0,9,     -999.0,9,     0.0131,1,     4.6910,1,     -999.0,9,     -999.0,9,     -999.0,9,     -999.0,9,     -999.0,9
33RR20220613,       P02E,     171,          1,         25,         25,2,20220703,       1012,    30.0011,  -130.6112,       4510,   419.1,2,   6.7201,2,  34.0266,2,  34.0276,2,     84.6,2,    84.7,2,   54.94,2,   33.54,2,    0.00,2,    2.39,2,   2.161,2,   1.263,2,   0.7213,2,  2248.4,2,  2281.0,2,   7.4134,2,    25.01,2, -999.00,9,  -999.0,9, -999.00,9, -999.00,9,       37.1,2, 20220703,     1145,  30.0011,-130.6111,     6.7184,2,     -999.0,9,     -999.0,9,     -999.0,9,     -999.0,9,     0.0134,1,     4.6910,1,     -999.0,9,     -999.0,9,     -999.0,9,     -999.0,9,     -999.0,9
33RR20220613,       P02E,     171,          1,         24,         24,2,20220703,       1012,    30.0011,  -130.6112,       4510,   469.1,2,   6.2184,2,  34.0724,2,  34.0764,2,     54.5,3,    53.1,2,   65.11,2,   37.01,2,    0.00,2,    2.68,2,   1.649,2,   0.947,2,   0.4971,2,  2278.6,2,  2290.5,2,   7.3508,2,    25.00,2, -999.00,9,  -999.0,9, -999.00,9, -999.00,9,       42.6,2, 20220703,     1143,  30.0011,-130.6111,     6.2157,2,     -999.0,9,     -999.0,9,     -999.0,9,     -999.0,9,     0.0134,1,     4.6904,1,     -999.0,9,     -999.0,9,     -999.0,9,     -999.0,9,     -999.0,9
33RR20220613,       P02E,     171,          1,         23,         23,2,20220703,       1012,    30.0011,  -130.6112,       4510,   540.2,2,   5.6956,2,  34.1460,2,  34.1501,2,     29.6,3,    30.1,2,   76.93,2,   39.65,2,    0.00,2,    2.89,2,   0.970,2,   0.546,2,   0.2710,2,  2303.0,2,  2305.1,2,   7.3157,2,    25.01,2, -999.00,9,  -999.0,9, -999.00,9, -999.00,9,       49.6,2, 20220703,     1141,  30.0011,-130.6111,     5.6936,2,     -999.0,9,     -999.0,9,     -999.0,9,     -999.0,9,     0.0134,1,     4.6910,1,     -999.0,9,     -999.0,9,     -999.0,9,     -999.0,9,     -999.0,9
33RR20220613,       P02E,     171,          1,         22,         22,2,20220703,       1012,    30.0011,  -130.6112,       4510,   640.4,2,   5.2537,2,  34.2570,2,  34.2623,2,     14.2,2,    14.1,2,   88.85,2,   41.46,2,    0.00,2,    3.06,2,-999.000,9,-999.000,9,-999.0000,9,  2330.0,2,  2326.4,2,   7.3040,2,    25.00,2, -999.00,9,  -999.0,9, -999.00,9, -999.00,9,     -999.0,9, 20220703,     1138,  30.0011,-130.6111,     5.2517,2,     -999.0,9,     -999.0,9,     -999.0,9,     -999.0,9,     0.0134,1,     4.6914,1,     -999.0,9,     -999.0,9,     -999.0,9,     -999.0,9,     -999.0,9
33RR20220613,       P02E,     171,          1,         21,         21,2,20220703,       1012,    30.0011,  -130.6112,       4510,   741.7,2,   4.8090,2,  34.3460,2,  34.3476,2,     11.7,3,    11.5,2,   99.69,2,   42.64,2,    0.00,2,    3.13,2,   0.093,2,   0.059,2,   0.1061,2,  2341.8,2,  2342.0,2,   7.3108,2,    25.00,2, -999.00,9,  -999.0,9, -999.00,9, -999.00,9,       58.5,2, 20220703,     1136,  30.0011,-130.6111,     4.8117,2,     -999.0,9,     -999.0,9,     -999.0,9,     -999.0,9,     0.0134,1,     4.6916,1,     -999.0,9,     -999.0,9,     -999.0,9,     -999.0,9,     -999.0,9
33RR20220613,       P02E,     171,          1,         20,         20,2,20220703,       1012,    30.0011,  -130.6112,       4510,   843.2,2,   4.4482,2,  34.4003,2,  34.4037,2,     14.2,3,    14.4,2,  107.31,2,   43.15,2,    0.00,2,    3.14,2,-999.000,9,-999.000,9,-999.0000,9,  2349.0,2,  2355.1,2,   7.3212,2,    25.00,2, -999.00,9,  -999.0,9, -999.00,9, -999.00,9,     -999.0,9, 20220703,     1133,  30.0011,-130.6111,     4.4481,2,     -999.0,9,     -999.0,9,     -999.0,9,     -999.0,9,     0.0134,1,     4.6918,1,     -999.0,9,     -999.0,9,     -999.0,9,     -999.0,9,     -999.0,9
33RR20220613,       P02E,     171,          1,         19,         39,2,20220703,       1012,    30.0011,  -130.6112,       4510,   943.5,2,   4.0991,2,  34.4375,2,  34.4365,2,     19.4,3,    19.2,2,  113.86,2,   43.38,2,    0.00,2,    3.13,2,   0.021,2,   0.021,2,   0.0759,2,  2357.2,2,  2362.8,2,   7.3341,2,    25.01,2, -999.00,9,  -999.0,9, -999.00,9, -999.00,9,       54.9,2, 20220703,     1130,  30.0011,-130.6112,     4.1112,2,     -999.0,9,     -999.0,9,     -999.0,9,     -999.0,9,     0.0134,1,     4.6926,1,     -999.0,9,     -999.0,9,     -999.0,9,     -999.0,9,     -999.0,9
33RR20220613,       P02E,     171,          1,         18,         18,2,20220703,       1012,    30.0011,  -130.6112,       4510,  1045.2,2,   3.8050,2,  34.4742,2,  34.4726,2,     26.0,3,    25.7,2,  120.50,2,   43.33,2,    0.00,2,    3.11,2,-999.000,9,-999.000,9,-999.0000,9,  -999.0,9,  -999.0,9,-999.0000,9,  -999.00,9, -999.00,9,  -999.0,9, -999.00,9, -999.00,9,     -999.0,9, 20220703,     1128,  30.0011,-130.6112,     3.8051,2,     -999.0,9,     -999.0,9,     -999.0,9,     -999.0,9,     0.0134,1,     4.6935,1,     -999.0,9,     -999.0,9,     -999.0,9,     -999.0,9,     -999.0,9
33RR20220613,       P02E,     171,          1,         17,         37,2,20220703,       1012,    30.0011,  -130.6112,       4510,  1146.1,2,   3.5642,2,  34.4995,2,  34.4987,2,     31.9,2,    31.9,2,  125.77,2,   43.17,2,    0.00,2,    3.08,2,   0.011,2,   0.010,2,   0.0000,2,  2360.5,2,  2379.2,2,   7.3593,2,    25.01,2, -999.00,9,  -999.0,9, -999.00,9, -999.00,9,       48.7,2, 20220703,     1125,  30.0011,-130.6111,     3.5623,2,     -999.0,9,     -999.0,9,     -999.0,9,     -999.0,9,     0.0134,1,     4.6944,1,     -999.0,9,     -999.0,9,     -999.0,9,     -999.0,9,     -999.0,9
33RR20220613,       P02E,     171,          1,         16,         16,2,20220703,       1012,    30.0011,  -130.6112,       4510,  1247.6,2,   3.3138,2,  34.5214,2,  34.5207,2,     37.7,2,    37.8,2,  131.64,2,   42.91,2,    0.00,2,    3.07,2,-999.000,9,-999.000,9,-999.0000,9,  -999.0,9,  -999.0,9,-999.0000,9,  -999.00,9, -999.00,9,  -999.0,9, -999.00,9, -999.00,9,     -999.0,9, 20220703,     1122,  30.0011,-130.6112,     3.3134,2,     -999.0,9,     -999.0,9,     -999.0,9,     -999.0,9,     0.0134,1,     4.6952,1,     -999.0,9,     -999.0,9,     -999.0,9,     -999.0,9,     -999.0,9
33RR20220613,       P02E,     171,          1,         15,         15,2,20220703,       1012,    30.0011,  -130.6112,       4510,  1349.0,2,   3.0997,2,  34.5378,2,  34.5376,2,     43.3,2,    43.5,2,  137.01,2,   42.70,2,    0.00,2,    3.04,2,   0.011,2,   0.011,2,   0.0000,2,  2365.6,2,  2392.3,2,   7.3827,2,    25.02,2, -999.00,9,  -999.0,9, -999.00,9, -999.00,9,       43.4,2, 20220703,     1120,  30.0011,-130.6112,     3.0995,2,     -999.0,9,     -999.0,9,     -999.0,9,     -999.0,9,     0.0134,1,     4.6962,1,     -999.0,9,     -999.0,9,     -999.0,9,     -999.0,9,     -999.0,9
33RR20220613,       P02E,     171,          1,         14,         42,2,20220703,       1012,    30.0011,  -130.6112,       4510,  1450.2,2,   2.9211,2,  34.5508,2,  34.5537,2,     47.4,2,    47.2,2,  141.89,2,   42.50,2,    0.00,2,    3.03,2,-999.000,9,-999.000,9,-999.0000,9,  -999.0,9,  -999.0,9,-999.0000,9,  -999.00,9, -999.00,9,  -999.0,9, -999.00,9, -999.00,9,     -999.0,9, 20220703,     1117,  30.0011,-130.6111,     2.9242,2,     -999.0,9,     -999.0,9,     -999.0,9,     -999.0,9,     0.0134,1,     4.6966,1,     -999.0,9,     -999.0,9,     -999.0,9,     -999.0,9,     -999.0,9
33RR20220613,       P02E,     171,          1,         13,         13,2,20220703,       1012,    30.0011,  -130.6112,       4510,  1551.5,2,   2.7720,2,  34.5628,3,  34.5692,2,     51.0,2,    51.0,2,  145.80,2,   42.32,2,    0.00,2,    3.01,2,   0.008,2,   0.009,2,   0.0000,2,  2368.7,2,  2400.5,2,   7.3963,2,    25.02,2, -999.00,9,  -999.0,9, -999.00,9, -999.00,9,       40.0,2, 20220703,     1114,  30.0011,-130.6112,     2.7725,2,     -999.0,9,     -999.0,9,     -999.0,9,     -999.0,9,     0.0134,1,     4.6971,1,     -999.0,9,     -999.0,9,     -999.0,9,     -999.0,9,     -999.0,9
33RR20220613,       P02E,     171,          1,         12,         12,2,20220703,       1012,    30.0011,  -130.6112,       4510,  1684.1,2,   2.5575,2,  34.5791,2,  34.5794,2,     58.3,2,    58.5,2,  150.39,2,   41.90,2,    0.00,2,    2.97,2,-999.000,9,-999.000,9,-999.0000,9,  -999.0,9,  -999.0,9,-999.0000,9,  -999.00,9, -999.00,9,  -999.0,9, -999.00,9, -999.00,9,     -999.0,9, 20220703,     1110,  30.0011,-130.6111,     2.5569,2,     -999.0,9,     -999.0,9,     -999.0,9,     -999.0,9,     0.0134,1,     4.6980,1,     -999.0,9,     -999.0,9,     -999.0,9,     -999.0,9,     -999.0,9
33RR20220613,       P02E,     171,          1,         11,         11,2,20220703,       1012,    30.0011,  -130.6112,       4510,  1886.4,2,   2.2919,2,  34.6016,2,  34.6012,2,     69.7,2,    70.0,2,  156.84,2,   41.29,2,    0.00,2,    2.91,2,   0.005,2,   0.005,2,   0.0000,2,  2368.5,2,  2413.8,2,   7.4332,2,    25.01,2, -999.00,9,  -999.0,9, -999.00,9, -999.00,9,       34.2,2, 20220703,     1107,  30.0011,-130.6111,     2.2910,2,     -999.0,9,     -999.0,9,     -999.0,9,     -999.0,9,     0.0134,1,     4.6983,1,     -999.0,9,     -999.0,9,     -999.0,9,     -999.0,9,     -999.0,9
33RR20220613,       P02E,     171,          1,         10,         10,2,20220703,       1012,    30.0011,  -130.6112,       4510,  2110.0,2,   2.0707,2,  34.6215,2,  34.6213,2,     81.7,2,    81.7,2,  161.33,2,   40.58,2,    0.00,2,    2.84,2,-999.000,9,-999.000,9,-999.0000,9,  -999.0,9,  -999.0,9,-999.0000,9,  -999.00,9, -999.00,9,  -999.0,9, -999.00,9, -999.00,9,     -999.0,9, 20220703,     1102,  30.0011,-130.6112,     2.0709,2,     -999.0,9,     -999.0,9,     -999.0,9,     -999.0,9,     0.0126,1,     4.6995,1,     -999.0,9,     -999.0,9,     -999.0,9,     -999.0,9,     -999.0,9
33RR20220613,       P02E,     171,          1,          9,          9,2,20220703,       1012,    30.0011,  -130.6112,       4510,  2363.5,2,   1.8738,2,  34.6370,2,  34.6368,2,     93.5,2,    93.1,2,  165.53,2,   39.88,2,    0.00,2,    2.78,2,   0.004,2,   0.003,2,   0.0000,2,  2363.7,2,  2423.7,2,   7.4779,2,    25.00,2, -999.00,9,  -999.0,9, -999.00,9, -999.00,9,       29.3,2, 20220703,     1057,  30.0011,-130.6111,     1.8735,2,     -999.0,9,     -999.0,9,     -999.0,9,     -999.0,9,     0.0133,1,     4.7006,1,     -999.0,9,     -999.0,9,     -999.0,9,     -999.0,9,     -999.0,9
33RR20220613,       P02E,     171,          1,          8,          8,2,20220703,       1012,    30.0011,  -130.6112,       4510,  2618.9,2,   1.7083,2,  34.6507,2,  34.6500,2,    104.8,2,   105.0,2,  168.36,2,   39.15,2,    0.00,2,    2.73,2,-999.000,9,-999.000,9,-999.0000,9,  -999.0,9,  -999.0,9,-999.0000,9,  -999.00,9, -999.00,9,  -999.0,9, -999.00,9, -999.00,9,     -999.0,9, 20220703,     1052,  30.0011,-130.6111,     1.7081,2,     -999.0,9,     -999.0,9,     -999.0,9,     -999.0,9,     0.0125,1,     4.7008,1,     -999.0,9,     -999.0,9,     -999.0,9,     -999.0,9,     -999.0,9
33RR20220613,       P02E,     171,          1,          7,          7,2,20220703,       1012,    30.0011,  -130.6112,       4510,  2873.9,2,   1.6100,2,  34.6603,2,  34.6620,2,    114.0,2,   114.3,2,  170.02,2,   38.62,2,    0.00,2,    2.67,2,   0.005,2,   0.005,2,   0.0000,2,  2354.7,2,  2428.1,2,   7.5159,2,    25.02,2, -999.00,9,  -999.0,9, -999.00,9, -999.00,9,       25.6,2, 20220703,     1046,  30.0011,-130.6111,     1.6099,2,     -999.0,9,     -999.0,9,     -999.0,9,     -999.0,9,     0.0134,1,     4.7009,1,     -999.0,9,     -999.0,9,     -999.0,9,     -999.0,9,     -999.0,9
33RR20220613,       P02E,     171,          1,          6,          6,2,20220703,       1012,    30.0011,  -130.6112,       4510,  3144.9,2,   1.5407,2,  34.6683,2,  34.6688,2,    122.9,2,   122.8,2,  169.05,2,   38.07,2,    0.00,2,    2.62,2,-999.000,9,-999.000,9,-999.0000,9,  -999.0,9,  -999.0,9,-999.0000,9,  -999.00,9, -999.00,9,  -999.0,9, -999.00,9, -999.00,9,     -999.0,9, 20220703,     1041,  30.0011,-130.6111,     1.5405,2,     -999.0,9,     -999.0,9,     -999.0,9,     -999.0,9,     0.0121,1,     4.7019,1,     -999.0,9,     -999.0,9,     -999.0,9,     -999.0,9,     -999.0,9
33RR20220613,       P02E,     171,          1,          5,          5,2,20220703,       1012,    30.0011,  -130.6112,       4510,  3451.5,2,   1.4963,2,  34.6755,2,  34.6775,2,    131.6,2,   131.7,2,  168.07,2,   37.50,2,    0.00,2,    2.57,2,   0.006,2,   0.008,2,   0.0000,2,  2343.3,2,  2429.6,6,   7.5487,2,    25.03,2, -999.00,9,  -999.0,9, -999.00,9, -999.00,9,       23.4,2, 20220703,     1035,  30.0011,-130.6111,     1.4965,2,     -999.0,9,     -999.0,9,     -999.0,9,     -999.0,9,     0.0122,1,     4.7023,1,     -999.0,9,     -999.0,9,     -999.0,9,     -999.0,9,     -999.0,9