BOTTLE,20230830CCHSIOCBG
EXPOCODE,SECT_ID,STNNBR,CASTNO,SAMPNO,BTLNBR,BTLNBR_FLAG_W,DATE,TIME,LATITUDE,LONGITUDE,DEPTH,CTDPRS,CTDPRS_FLAG_W,CTDTMP,CTDTMP_FLAG_W,CTDSAL,CTDSAL_FLAG_W,SALNTY,SALNTY_FLAG_W,CTDOXY,CTDOXY_FLAG_W,OXYGEN,OXYGEN_FLAG_W,SILCAT,SILCAT_FLAG_W,NITRAT,NITRAT_FLAG_W,NITRIT,NITRIT_FLAG_W,PHSPHT,PHSPHT_FLAG_W,CFC-11,CFC-11_FLAG_W,CFC-12,CFC-12_FLAG_W,SF6,SF6_FLAG_W,TCARBN,TCARBN_FLAG_W,ALKALI,ALKALI_FLAG_W,PH_TOT,PH_TOT_FLAG_W,PH_TMP,PH_TMP_FLAG_W,DELC13,DELC13_FLAG_W,DELC14,DELC14_FLAG_W,DOC,DOC_FLAG_W,TDN,TDN_FLAG_W,N2O,N2O_FLAG_W,BTL_DATE,BTL_TIME,BTL_LAT,BTL_LON,REFTMP,REFTMP_FLAG_W,POC,POC_FLAG_W,PON,PON_FLAG_W,POP,POP_FLAG_W,PCOD,PCOD_FLAG_W,CTDFLUOR,CTDFLUOR_FLAG_W,CTDXMISS,CTDXMISS_FLAG_W,HPLC,HPLC_FLAG_W,DNA,DNA_FLAG_W,FCM,FCM_FLAG_W,IMAGES,IMAGES_FLAG_W,VIRAL_ABUNDANCE,VIRAL_ABUNDANCE_FLAG_W
,,,,,,,,,,,METERS,DBAR,,ITS-90,,PSS-78,,PSS-78,,UMOL/KG,,UMOL/KG,,UMOL/KG,,UMOL/KG,,UMOL/KG,,UMOL/KG,,PMOL/KG,,PMOL/KG,,FMOL/KG,,UMOL/KG,,UMOL/KG,,,,DEG C,,/MILLE,,/MILLE,,UMOL/KG,,UMOL/KG,,NMOL/KG,,,,,,ITS-90,,UG/L,,UG/L,,UG/L,,UG/L,,VOLTS,,VOLTS,,,,,,,,,,,
33RR20220613,       P02E,     130,          1,          4,          4,2,20220620,       2219,    30.0012,  -154.2849,       5634,  4785.7,2,   1.5055,2,  34.6890,2,  34.6871,2,    155.8,2,   156.0,2,  152.94,2,   35.97,2,    0.00,2,    2.69,4,-999.000,9,-999.000,9,-999.0000,9,  -999.0,9,  -999.0,9,-999.0000,9,  -999.00,9, -999.00,9,  -999.0,9, -999.00,1, -999.00,1,     -999.0,9, 20220620,     2240,  30.0013,-154.2849,     1.5057,2,     -999.0,9,     -999.0,9,     -999.0,9,     -999.0,9,     0.0122,1,     4.7046,1,     -999.0,9,     -999.0,9,     -999.0,9,     -999.0,9,     -999.0,9
33RR20220613,       P02E,     130,          1,          3,          3,2,20220620,       2219,    30.0012,  -154.2849,       5634,  5195.5,2,   1.5434,2,  34.6899,2,  34.6893,2,    158.3,2,   158.4,2,  150.69,2,   35.87,2,    0.00,2,    2.64,4,   0.007,2,   0.006,2,   0.0000,2,  2321.8,2,  -999.0,9,   7.5866,2,    25.00,2, -999.00,9,  -999.0,9, -999.00,1, -999.00,1,       21.7,2, 20220620,     2232,  30.0013,-154.2849,     1.5436,2,     -999.0,9,     -999.0,9,     -999.0,9,     -999.0,9,     0.0122,1,     4.7041,1,     -999.0,9,     -999.0,9,     -999.0,9,     -999.0,9,     -999.0,9
33RR20220613,       P02E,     130,          1,          2,          2,2,20220620,       2219,    30.0012,  -154.2849,       5634,  5506.1,2,   1.5787,2,  34.6904,2,  34.6889,2,    159.2,2,   159.4,2,  150.01,2,   35.71,2,    0.00,2,    2.66,4,-999.000,9,-999.000,9,-999.0000,9,  -999.0,9,  -999.0,9,-999.0000,9,  -999.00,9, -999.00,9,  -999.0,9, -999.00,1, -999.00,1,     -999.0,9, 20220620,     2225,  30.0013,-154.2850,     1.5789,2,     -999.0,9,     -999.0,9,     -999.0,9,     -999.0,9,     0.0122,1,     4.7035,1,     -999.0,9,     -999.0,9,     -999.0,9,     -999.0,9,     -999.0,9
33RR20220613,       P02E,     130,          1,          1,          1,2,20220620,       2219,    30.0012,  -154.2849,       5634,  5738.2,2,   1.6084,2,  34.6904,2,  34.6901,2,    159.6,2,   159.6,2,  149.03,2,   35.90,2,    0.00,2,    2.67,4,   0.007,2,   0.004,2,   0.0000,2,  2320.5,6,  2417.2,2,   7.5874,2,    25.01,2, -999.00,9,  -999.0,9, -999.00,1, -999.00,1,       22.5,2, 20220620,     2219,  30.0013,-154.2849,     1.6083,2,     -999.0,9,     -999.0,9,     -999.0,9,     -999.0,9,     0.0134,1,     4.7033,1,     -999.0,9,     -999.0,9,     -999.0,9,     -999.0,9,     -999.0,9
33RR20220613,       P02E,     131,          1,         14,         14,2,20220621,       0409,    30.0008,  -153.7068,       5481,     3.8,2,  24.3875,2,  35.3026,2,-999.0000,9,    213.2,2,  -999.0,9, -999.00,9, -999.00,9, -999.00,9, -999.00,9,-999.000,9,-999.000,9,-999.0000,9,  -999.0,9,  -999.0,9,-999.0000,9,  -999.00,9, -999.00,9,  -999.0,9, -999.00,9, -999.00,9,     -999.0,9, 20220621,      440,  30.0008,-153.7068,     -999.0,9,     -999.0,9,     -999.0,9,     -999.0,1,     -999.0,9,     0.0134,1,     4.6187,1,     -999.0,9,     -999.0,9,     -999.0,9,     -999.0,9,     -999.0,9
33RR20220613,       P02E,     131,          1,         20,         20,2,20220621,       0409,    30.0008,  -153.7068,       5481,     4.1,2,  24.3859,2,  35.3016,2,-999.0000,9,    213.3,2,  -999.0,9, -999.00,9, -999.00,9, -999.00,9, -999.00,9,-999.000,9,-999.000,9,-999.0000,9,  -999.0,9,  -999.0,9,-999.0000,9,  -999.00,9, -999.00,9,  -999.0,9, -999.00,9, -999.00,9,     -999.0,9, 20220621,      440,  30.0008,-153.7068,     -999.0,9,     -999.0,9,     -999.0,9,     -999.0,9,     -999.0,9,     0.0134,1,     4.5432,1,     -999.0,9,     -999.0,9,     -999.0,9,     -999.0,9,     -999.0,1
33RR20220613,       P02E,     131,          1,         19,         39,2,20220621,       0409,    30.0008,  -153.7068,       5481,     4.2,2,  24.3855,2,  35.3028,2,-999.0000,9,    213.3,2,  -999.0,9, -999.00,9, -999.00,9, -999.00,9, -999.00,9,-999.000,9,-999.000,9,-999.0000,9,  -999.0,9,  -999.0,9,-999.0000,9,  -999.00,9, -999.00,9,  -999.0,9, -999.00,9, -999.00,9,     -999.0,9, 20220621,      440,  30.0008,-153.7068,     -999.0,9,     -999.0,9,     -999.0,9,     -999.0,9,     -999.0,1,     0.0149,1,     4.5980,1,     -999.0,9,     -999.0,9,     -999.0,9,     -999.0,9,     -999.0,9
33RR20220613,       P02E,     131,          1,         12,         12,2,20220621,       0409,    30.0008,  -153.7068,       5481,     4.2,2,  24.3870,2,  35.3027,2,-999.0000,9,    213.3,2,  -999.0,9, -999.00,9, -999.00,9, -999.00,9, -999.00,9,-999.000,9,-999.000,9,-999.0000,9,  -999.0,9,  -999.0,9,-999.0000,9,  -999.00,9, -999.00,9,  -999.0,9, -999.00,9, -999.00,9,     -999.0,9, 20220621,      440,  30.0008,-153.7068,     -999.0,9,     -999.0,1,     -999.0,1,     -999.0,9,     -999.0,9,     0.0135,1,     4.6336,1,     -999.0,9,     -999.0,9,     -999.0,9,     -999.0,9,     -999.0,9
33RR20220613,       P02E,     131,          1,         17,         37,2,20220621,       0409,    30.0008,  -153.7068,       5481,     4.3,2,  24.3831,2,  35.3028,2,-999.0000,9,    213.2,2,  -999.0,9, -999.00,9, -999.00,9, -999.00,9, -999.00,9,-999.000,9,-999.000,9,-999.0000,9,  -999.0,9,  -999.0,9,-999.0000,9,  -999.00,9, -999.00,9,  -999.0,9, -999.00,9, -999.00,9,     -999.0,9, 20220621,      440,  30.0008,-153.7068,     -999.0,9,     -999.0,9,     -999.0,9,     -999.0,9,     -999.0,1,     0.0134,1,     4.6342,1,     -999.0,9,     -999.0,9,     -999.0,9,     -999.0,9,     -999.0,9
33RR20220613,       P02E,     131,          1,         11,         11,2,20220621,       0409,    30.0008,  -153.7068,       5481,     4.3,2,  24.3886,2,  35.3024,2,-999.0000,9,    213.2,2,  -999.0,9, -999.00,9, -999.00,9, -999.00,9, -999.00,9,-999.000,9,-999.000,9,-999.0000,9,  -999.0,9,  -999.0,9,-999.0000,9,  -999.00,9, -999.00,9,  -999.0,9, -999.00,9, -999.00,9,     -999.0,9, 20220621,      440,  30.0008,-153.7068,    24.3854,2,     -999.0,1,     -999.0,1,     -999.0,9,     -999.0,9,     0.0134,1,     4.6338,1,     -999.0,9,     -999.0,9,     -999.0,9,     -999.0,9,     -999.0,9
33RR20220613,       P02E,     131,          1,          9,          9,2,20220621,       0409,    30.0008,  -153.7068,       5481,     4.4,2,  24.3875,2,  35.3025,2,-999.0000,9,    213.2,2,  -999.0,9, -999.00,9, -999.00,9, -999.00,9, -999.00,9,-999.000,9,-999.000,9,-999.0000,9,  -999.0,9,  -999.0,9,-999.0000,9,  -999.00,9, -999.00,9,  -999.0,9, -999.00,9, -999.00,9,     -999.0,9, 20220621,      440,  30.0008,-153.7068,    24.3875,2,     -999.0,9,     -999.0,9,     -999.0,9,     -999.0,9,     0.0135,1,     4.6342,1,     -999.0,1,     -999.0,9,     -999.0,1,     -999.0,9,     -999.0,9
33RR20220613,       P02E,     131,          1,         15,         15,2,20220621,       0409,    30.0008,  -153.7068,       5481,     4.5,2,  24.3832,2,  35.3029,2,-999.0000,9,    213.3,2,  -999.0,9, -999.00,9, -999.00,9, -999.00,9, -999.00,9,-999.000,9,-999.000,9,-999.0000,9,  -999.0,9,  -999.0,9,-999.0000,9,  -999.00,9, -999.00,9,  -999.0,9, -999.00,9, -999.00,9,     -999.0,9, 20220621,      440,  30.0008,-153.7068,     -999.0,9,     -999.0,9,     -999.0,9,     -999.0,1,     -999.0,9,     0.0134,1,     4.5813,1,     -999.0,9,     -999.0,9,     -999.0,9,     -999.0,9,     -999.0,9
33RR20220613,       P02E,     131,          1,         13,         13,2,20220621,       0409,    30.0008,  -153.7068,       5481,     4.5,2,  24.3858,2,  35.3028,2,-999.0000,9,    213.2,2,  -999.0,9, -999.00,9, -999.00,9, -999.00,9, -999.00,9,-999.000,9,-999.000,9,-999.0000,9,  -999.0,9,  -999.0,9,-999.0000,9,  -999.00,9, -999.00,9,  -999.0,9, -999.00,9, -999.00,9,     -999.0,9, 20220621,      440,  30.0008,-153.7068,     -999.0,9,     -999.0,1,     -999.0,1,     -999.0,9,     -999.0,9,     0.0134,1,     4.6336,1,     -999.0,9,     -999.0,9,     -999.0,9,     -999.0,9,     -999.0,9
33RR20220613,       P02E,     131,          1,         18,         18,2,20220621,       0409,    30.0008,  -153.7068,       5481,     4.5,2,  24.3855,2,  35.3027,2,-999.0000,9,    213.4,2,  -999.0,9, -999.00,9, -999.00,9, -999.00,9, -999.00,9,-999.000,9,-999.000,9,-999.0000,9,  -999.0,9,  -999.0,9,-999.0000,9,  -999.00,9, -999.00,9,  -999.0,9, -999.00,9, -999.00,9,     -999.0,9, 20220621,      440,  30.0008,-153.7068,    24.3868,2,     -999.0,9,     -999.0,9,     -999.0,9,     -999.0,1,     0.0142,1,     4.6289,1,     -999.0,9,     -999.0,9,     -999.0,9,     -999.0,9,     -999.0,9
33RR20220613,       P02E,     131,          1,         10,         10,2,20220621,       0409,    30.0008,  -153.7068,       5481,     4.5,2,  24.3875,2,  35.3025,2,-999.0000,9,    213.2,2,  -999.0,9, -999.00,9, -999.00,9, -999.00,9, -999.00,9,-999.000,9,-999.000,9,-999.0000,9,  -999.0,9,  -999.0,9,-999.0000,9,  -999.00,9, -999.00,9,  -999.0,9, -999.00,9, -999.00,9,     -999.0,9, 20220621,      440,  30.0008,-153.7068,     -999.0,9,     -999.0,9,     -999.0,9,     -999.0,9,     -999.0,9,     0.0135,1,     4.6343,1,     -999.0,9,     -999.0,1,     -999.0,9,     -999.0,9,     -999.0,9
33RR20220613,       P02E,     131,          1,         16,         16,2,20220621,       0409,    30.0008,  -153.7068,       5481,     4.6,2,  24.3825,2,  35.3031,2,-999.0000,9,    213.3,2,  -999.0,9, -999.00,9, -999.00,9, -999.00,9, -999.00,9,-999.000,9,-999.000,9,-999.0000,9,  -999.0,9,  -999.0,9,-999.0000,9,  -999.00,9, -999.00,9,  -999.0,9, -999.00,9, -999.00,9,     -999.0,9, 20220621,      440,  30.0008,-153.7068,     -999.0,9,     -999.0,9,     -999.0,9,     -999.0,1,     -999.0,9,     0.0135,1,     4.6318,1,     -999.0,9,     -999.0,9,     -999.0,9,     -999.0,9,     -999.0,9
33RR20220613,       P02E,     131,          1,          8,          8,2,20220621,       0409,    30.0008,  -153.7068,       5481,    40.1,2,  22.7372,2,  35.2908,2,-999.0000,9,    225.9,2,  -999.0,9, -999.00,9, -999.00,9, -999.00,9, -999.00,9,-999.000,9,-999.000,9,-999.0000,9,  -999.0,9,  -999.0,9,-999.0000,9,  -999.00,9, -999.00,9,  -999.0,9, -999.00,9, -999.00,9,     -999.0,9, 20220621,      437,  30.0008,-153.7068,    22.7624,2,     -999.0,9,     -999.0,9,     -999.0,9,     -999.0,9,     0.0147,1,     4.6242,1,     -999.0,1,     -999.0,9,     -999.0,1,     -999.0,9,     -999.0,9
33RR20220613,       P02E,     131,          1,          7,          7,2,20220621,       0409,    30.0008,  -153.7068,       5481,    75.6,2,  20.9805,2,  35.2120,2,-999.0000,9,    231.3,2,  -999.0,9, -999.00,9, -999.00,9, -999.00,9, -999.00,9,-999.000,9,-999.000,9,-999.0000,9,  -999.0,9,  -999.0,9,-999.0000,9,  -999.00,9, -999.00,9,  -999.0,9, -999.00,9, -999.00,9,     -999.0,9, 20220621,      435,  30.0008,-153.7069,    20.9926,2,     -999.0,9,     -999.0,9,     -999.0,9,     -999.0,9,     0.0171,1,     4.6344,1,     -999.0,9,     -999.0,9,     -999.0,1,     -999.0,9,     -999.0,9
33RR20220613,       P02E,     131,          1,          5,          5,2,20220621,       0409,    30.0008,  -153.7068,       5481,   101.0,2,  20.3717,2,  35.1372,2,-999.0000,9,    229.9,2,  -999.0,9, -999.00,9, -999.00,9, -999.00,9, -999.00,9,-999.000,9,-999.000,9,-999.0000,9,  -999.0,9,  -999.0,9,-999.0000,9,  -999.00,9, -999.00,9,  -999.0,9, -999.00,9, -999.00,9,     -999.0,9, 20220621,      433,  30.0008,-153.7069,    20.3732,2,     -999.0,9,     -999.0,9,     -999.0,9,     -999.0,9,     0.0188,1,     4.6471,1,     -999.0,1,     -999.0,9,     -999.0,1,     -999.0,9,     -999.0,9
33RR20220613,       P02E,     131,          1,          6,          6,2,20220621,       0409,    30.0008,  -153.7068,       5481,   101.1,2,  20.3751,2,  35.1369,2,-999.0000,9,    229.9,2,  -999.0,9, -999.00,9, -999.00,9, -999.00,9, -999.00,9,-999.000,9,-999.000,9,-999.0000,9,  -999.0,9,  -999.0,9,-999.0000,9,  -999.00,9, -999.00,9,  -999.0,9, -999.00,9, -999.00,9,     -999.0,9, 20220621,      433,  30.0008,-153.7069,     -999.0,9,     -999.0,9,     -999.0,9,     -999.0,9,     -999.0,9,     0.0204,1,     4.6471,1,     -999.0,9,     -999.0,1,     -999.0,9,     -999.0,9,     -999.0,9
33RR20220613,       P02E,     131,          1,          4,          4,2,20220621,       0409,    30.0008,  -153.7068,       5481,   150.3,2,  18.9070,2,  34.9098,2,-999.0000,9,    221.9,2,  -999.0,9, -999.00,9, -999.00,9, -999.00,9, -999.00,9,-999.000,9,-999.000,9,-999.0000,9,  -999.0,9,  -999.0,9,-999.0000,9,  -999.00,9, -999.00,9,  -999.0,9, -999.00,9, -999.00,9,     -999.0,9, 20220621,      430,  30.0008,-153.7068,    18.9050,2,     -999.0,9,     -999.0,9,     -999.0,9,     -999.0,9,     0.0252,1,     4.6633,1,     -999.0,9,     -999.0,9,     -999.0,1,     -999.0,9,     -999.0,9
33RR20220613,       P02E,     131,          1,          3,          3,2,20220621,       0409,    30.0008,  -153.7068,       5481,   202.4,2,  15.1947,2,  34.3612,2,-999.0000,9,    213.8,2,  -999.0,9, -999.00,9, -999.00,9, -999.00,9, -999.00,9,-999.000,9,-999.000,9,-999.0000,9,  -999.0,9,  -999.0,9,-999.0000,9,  -999.00,9, -999.00,9,  -999.0,9, -999.00,9, -999.00,9,     -999.0,9, 20220621,      427,  30.0008,-153.7069,    15.1891,2,     -999.0,9,     -999.0,9,     -999.0,9,     -999.0,9,     0.0164,1,     4.6837,1,     -999.0,9,     -999.0,1,     -999.0,1,     -999.0,9,     -999.0,9
33RR20220613,       P02E,     131,          1,          2,          2,2,20220621,       0409,    30.0008,  -153.7068,       5481,   504.0,2,   7.9225,2,  34.0214,2,-999.0000,9,    162.0,2,  -999.0,9, -999.00,9, -999.00,9, -999.00,9, -999.00,9,-999.000,9,-999.000,9,-999.0000,9,  -999.0,9,  -999.0,9,-999.0000,9,  -999.00,9, -999.00,9,  -999.0,9, -999.00,9, -999.00,9,     -999.0,9, 20220621,      421,  30.0008,-153.7069,     7.9189,2,     -999.0,9,     -999.0,9,     -999.0,9,     -999.0,9,     0.0122,1,     4.6974,1,     -999.0,9,     -999.0,9,     -999.0,1,     -999.0,9,     -999.0,9
33RR20220613,       P02E,     131,          1,          1,          1,2,20220621,       0409,    30.0008,  -153.7068,       5481,  1014.1,2,   3.7161,2,  34.3615,2,-999.0000,9,     14.8,2,  -999.0,9, -999.00,9, -999.00,9, -999.00,9, -999.00,9,-999.000,9,-999.000,9,-999.0000,9,  -999.0,9,  -999.0,9,-999.0000,9,  -999.00,9, -999.00,9,  -999.0,9, -999.00,9, -999.00,9,     -999.0,9, 20220621,      409,  30.0008,-153.7068,     3.7169,2,     -999.0,9,     -999.0,9,     -999.0,9,     -999.0,9,     0.0134,1,     4.6993,1,     -999.0,9,     -999.0,1,     -999.0,1,     -999.0,9,     -999.0,9