BOTTLE,20230830CCHSIOCBG
EXPOCODE,SECT_ID,STNNBR,CASTNO,SAMPNO,BTLNBR,BTLNBR_FLAG_W,DATE,TIME,LATITUDE,LONGITUDE,DEPTH,CTDPRS,CTDPRS_FLAG_W,CTDTMP,CTDTMP_FLAG_W,CTDSAL,CTDSAL_FLAG_W,SALNTY,SALNTY_FLAG_W,CTDOXY,CTDOXY_FLAG_W,OXYGEN,OXYGEN_FLAG_W,SILCAT,SILCAT_FLAG_W,NITRAT,NITRAT_FLAG_W,NITRIT,NITRIT_FLAG_W,PHSPHT,PHSPHT_FLAG_W,CFC-11,CFC-11_FLAG_W,CFC-12,CFC-12_FLAG_W,SF6,SF6_FLAG_W,TCARBN,TCARBN_FLAG_W,ALKALI,ALKALI_FLAG_W,PH_TOT,PH_TOT_FLAG_W,PH_TMP,PH_TMP_FLAG_W,DELC13,DELC13_FLAG_W,DELC14,DELC14_FLAG_W,DOC,DOC_FLAG_W,TDN,TDN_FLAG_W,N2O,N2O_FLAG_W,BTL_DATE,BTL_TIME,BTL_LAT,BTL_LON,REFTMP,REFTMP_FLAG_W,POC,POC_FLAG_W,PON,PON_FLAG_W,POP,POP_FLAG_W,PCOD,PCOD_FLAG_W,CTDFLUOR,CTDFLUOR_FLAG_W,CTDXMISS,CTDXMISS_FLAG_W,HPLC,HPLC_FLAG_W,DNA,DNA_FLAG_W,FCM,FCM_FLAG_W,IMAGES,IMAGES_FLAG_W,VIRAL_ABUNDANCE,VIRAL_ABUNDANCE_FLAG_W
,,,,,,,,,,,METERS,DBAR,,ITS-90,,PSS-78,,PSS-78,,UMOL/KG,,UMOL/KG,,UMOL/KG,,UMOL/KG,,UMOL/KG,,UMOL/KG,,PMOL/KG,,PMOL/KG,,FMOL/KG,,UMOL/KG,,UMOL/KG,,,,DEG C,,/MILLE,,/MILLE,,UMOL/KG,,UMOL/KG,,NMOL/KG,,,,,,ITS-90,,UG/L,,UG/L,,UG/L,,UG/L,,VOLTS,,VOLTS,,,,,,,,,,,
33RR20220613,       P02E,     132,          1,         36,         36,2,20220621,       1434,    30.0002,  -153.1313,       5342,     5.7,2,  24.2636,2,  35.3963,2,  35.3942,2,    213.9,2,   213.4,2,    0.00,2,    0.05,2,    0.00,2,    0.02,3,   1.776,2,   1.052,2,   1.7782,2,  2034.5,6,  2328.2,2,   8.0176,2,    24.98,2, -999.00,9,  -999.0,9, -999.00,9, -999.00,9,        7.3,2, 20220621,     1649,  30.0002,-153.1313,    24.2629,2,     -999.0,9,     -999.0,9,     -999.0,9,     -999.0,9,     0.0134,1,     4.6362,1,     -999.0,9,     -999.0,9,     -999.0,9,     -999.0,9,     -999.0,9
33RR20220613,       P02E,     132,          1,         35,         35,2,20220621,       1434,    30.0002,  -153.1313,       5342,    21.3,2,  24.2655,2,  35.3963,2,  35.3932,2,    213.6,2,   213.1,2,    0.29,2,    0.04,2,    0.00,2,    0.02,3,   1.561,2,   1.048,2,   1.6849,2,  2034.0,2,  2327.4,2,   8.0180,2,    25.00,2, -999.00,9,  -999.0,9, -999.00,9, -999.00,9,        6.4,2, 20220621,     1648,  30.0002,-153.1314,    24.2642,2,     -999.0,9,     -999.0,9,     -999.0,9,     -999.0,9,     0.0134,1,     4.6373,1,     -999.0,9,     -999.0,9,     -999.0,9,     -999.0,9,     -999.0,9
33RR20220613,       P02E,     132,          1,         34,         34,2,20220621,       1434,    30.0002,  -153.1313,       5342,    41.4,2,  24.2460,2,  35.3922,2,  35.3912,2,    213.5,2,   213.7,2,    0.20,2,    0.02,2,    0.00,2,    0.00,3,   1.544,2,   1.048,2,   1.7562,2,  2034.0,2,  2327.4,2,   8.0177,2,    25.00,2, -999.00,9,  -999.0,9, -999.00,9, -999.00,9,        6.8,2, 20220621,     1646,  30.0002,-153.1313,    24.2433,2,     -999.0,9,     -999.0,9,     -999.0,9,     -999.0,9,     0.0134,1,     4.6390,1,     -999.0,9,     -999.0,9,     -999.0,9,     -999.0,9,     -999.0,9
33RR20220613,       P02E,     132,          1,         33,         33,2,20220621,       1434,    30.0002,  -153.1313,       5342,    66.6,2,  21.4550,2,  35.1918,2,  35.1776,2,    231.0,2,   231.4,2,    0.49,2,    0.02,2,    0.00,2,    0.00,3,-999.000,9,-999.000,9,-999.0000,9,  2030.1,2,  2312.6,2,   8.0051,2,    25.00,2, -999.00,9,  -999.0,9, -999.00,9, -999.00,9,     -999.0,9, 20220621,     1645,  30.0002,-153.1314,    21.4469,2,     -999.0,9,     -999.0,9,     -999.0,9,     -999.0,9,     0.0154,1,     4.6420,1,     -999.0,9,     -999.0,9,     -999.0,9,     -999.0,9,     -999.0,9
33RR20220613,       P02E,     132,          1,         32,         32,2,20220621,       1434,    30.0002,  -153.1313,       5342,    91.8,2,  20.1985,2,  35.0604,2,  35.0598,2,    234.7,2,   234.7,2,    0.59,2,    0.00,2,    0.00,2,    0.02,3,   1.926,2,   1.234,2,   2.0725,2,  2032.1,2,  2304.6,2,   7.9911,2,    25.01,2, -999.00,9,  -999.0,9, -999.00,9, -999.00,9,        8.0,2, 20220621,     1643,  30.0002,-153.1313,    20.1990,2,     -999.0,9,     -999.0,9,     -999.0,9,     -999.0,9,     0.0183,1,     4.6553,1,     -999.0,9,     -999.0,9,     -999.0,9,     -999.0,9,     -999.0,9
33RR20220613,       P02E,     132,          1,         31,         31,2,20220621,       1434,    30.0002,  -153.1313,       5342,   136.8,2,  18.6698,2,  34.8726,2,  34.8831,2,    226.5,2,   225.3,2,    0.78,2,    0.03,2,    0.03,2,    0.04,3,   2.026,2,   1.293,2,   2.0936,2,  2039.8,2,  2294.1,2,   7.9583,2,    25.00,2, -999.00,9,  -999.0,9, -999.00,9, -999.00,9,        9.1,2, 20220621,     1641,  30.0002,-153.1314,    18.6419,2,     -999.0,9,     -999.0,9,     -999.0,9,     -999.0,9,     0.0310,1,     4.6571,1,     -999.0,9,     -999.0,9,     -999.0,9,     -999.0,9,     -999.0,9
33RR20220613,       P02E,     132,          1,         30,         17,2,20220621,       1434,    30.0002,  -153.1313,       5342,   186.4,2,  16.3179,2,  34.5526,2,  34.5506,2,    213.7,2,   214.0,2,    2.25,2,    2.30,2,    0.02,2,    0.21,3,   2.259,2,   1.435,2,   2.0192,2,  2056.1,2,  2272.5,2,   7.8907,2,    25.01,2, -999.00,9,  -999.0,9, -999.00,9, -999.00,9,       13.8,2, 20220621,     1639,  30.0002,-153.1314,    16.3440,2,     -999.0,9,     -999.0,9,     -999.0,9,     -999.0,9,     0.0195,1,     4.6766,1,     -999.0,9,     -999.0,9,     -999.0,9,     -999.0,9,     -999.0,9
33RR20220613,       P02E,     132,          1,         29,         29,2,20220621,       1434,    30.0002,  -153.1313,       5342,   236.9,2,  13.9447,2,  34.3272,2,  34.3239,2,    214.7,2,   215.4,2,    5.38,2,    6.28,2,    0.01,2,    0.41,3,   2.346,2,   1.427,2,   1.9597,2,  2072.0,2,  2258.2,6,   7.8381,2,    24.98,2, -999.00,9,  -999.0,9, -999.00,9, -999.00,9,       12.6,2, 20220621,     1638,  30.0002,-153.1314,    13.9651,2,     -999.0,9,     -999.0,9,     -999.0,9,     -999.0,9,     0.0147,1,     4.6842,1,     -999.0,9,     -999.0,9,     -999.0,9,     -999.0,9,     -999.0,9
33RR20220613,       P02E,     132,          1,         28,         28,2,20220621,       1434,    30.0002,  -153.1313,       5342,   287.4,2,  12.7868,2,  34.2732,2,  34.2695,2,    216.0,2,   215.4,2,    8.31,2,    9.11,2,    0.00,2,    0.57,3,   2.707,2,   1.658,2,   2.1497,2,  2084.8,2,  2259.3,2,   7.8091,2,    25.00,2, -999.00,9,  -999.0,9, -999.00,9, -999.00,9,       14.5,2, 20220621,     1636,  30.0002,-153.1314,    12.7854,2,     -999.0,9,     -999.0,9,     -999.0,9,     -999.0,9,     0.0122,1,     4.6897,1,     -999.0,9,     -999.0,9,     -999.0,9,     -999.0,9,     -999.0,9
33RR20220613,       P02E,     132,          1,         27,         27,2,20220621,       1434,    30.0002,  -153.1313,       5342,   337.9,2,  11.4155,2,  34.1948,2,  34.1919,2,    211.0,2,   211.9,2,   12.42,2,   12.28,2,    0.00,2,    0.75,3,   2.804,2,   1.714,2,   2.0275,2,  2101.7,2,  2259.4,2,   7.7693,2,    24.99,2, -999.00,9,  -999.0,9, -999.00,9, -999.00,9,       17.0,2, 20220621,     1634,  30.0002,-153.1313,    11.4178,2,     -999.0,9,     -999.0,9,     -999.0,9,     -999.0,9,     0.0122,1,     4.6924,1,     -999.0,9,     -999.0,9,     -999.0,9,     -999.0,9,     -999.0,9
33RR20220613,       P02E,     132,          1,         26,         26,2,20220621,       1434,    30.0002,  -153.1313,       5342,   388.2,2,  10.2097,2,  34.1126,2,  34.1105,2,    208.2,2,   207.7,2,   17.02,2,   15.07,2,    0.00,2,    0.93,3,   2.936,2,   1.787,2,   2.0225,2,  2119.6,2,  -999.0,9,   7.7289,2,    25.02,2, -999.00,9,  -999.0,9, -999.00,9, -999.00,9,       19.4,2, 20220621,     1632,  30.0002,-153.1313,    10.2059,2,     -999.0,9,     -999.0,9,     -999.0,9,     -999.0,9,     0.0122,1,     4.6943,1,     -999.0,9,     -999.0,9,     -999.0,9,     -999.0,9,     -999.0,9
33RR20220613,       P02E,     132,          1,         25,         25,2,20220621,       1434,    30.0002,  -153.1313,       5342,   468.6,2,   8.7153,2,  34.0456,2,  34.0460,2,    178.3,3,   181.3,2,   28.07,2,   20.55,2,    0.00,2,    1.27,3,   2.874,2,   1.729,2,   1.5052,2,  -999.0,9,  -999.0,9,-999.0000,9,  -999.00,9, -999.00,9,  -999.0,9, -999.00,9, -999.00,9,       24.1,2, 20220621,     1630,  30.0002,-153.1313,     8.6807,2,     -999.0,9,     -999.0,9,     -999.0,9,     -999.0,9,     0.0122,1,     4.6961,1,     -999.0,9,     -999.0,9,     -999.0,9,     -999.0,9,     -999.0,9
33RR20220613,       P02E,     132,          1,         24,         24,2,20220621,       1434,    30.0002,  -153.1313,       5342,   569.7,2,   6.5841,2,  33.9959,2,  33.9937,2,    121.2,2,   120.9,2,   53.40,2,   30.52,2,    0.00,2,    1.97,3,   2.365,2,   1.366,2,   0.8115,2,  2225.5,2,  2281.4,2,   7.4914,2,    24.99,2, -999.00,9,  -999.0,9, -999.00,9, -999.00,9,       33.0,2, 20220621,     1627,  30.0001,-153.1313,     6.5881,2,     -999.0,9,     -999.0,9,     -999.0,9,     -999.0,9,     0.0129,1,     4.6968,1,     -999.0,9,     -999.0,9,     -999.0,9,     -999.0,9,     -999.0,9
33RR20220613,       P02E,     132,          1,         23,         23,2,20220621,       1434,    30.0002,  -153.1313,       5342,   671.0,2,   5.3204,2,  34.0352,2,  34.0331,2,     73.5,2,    73.9,2,   53.79,4,   36.66,4,    0.00,2,    2.44,3,   1.542,2,   0.876,2,   0.4779,2,  2276.9,2,  -999.0,9,   7.3845,2,    25.00,2, -999.00,9,  -999.0,9, -999.00,9, -999.00,9,       44.1,2, 20220621,     1625,  30.0002,-153.1313,     5.3451,2,     -999.0,9,     -999.0,9,     -999.0,9,     -999.0,9,     0.0129,1,     4.6971,1,     -999.0,9,     -999.0,9,     -999.0,9,     -999.0,9,     -999.0,9
33RR20220613,       P02E,     132,          1,         22,         22,2,20220621,       1434,    30.0002,  -153.1313,       5342,   771.7,2,   4.6025,2,  34.1343,2,  34.1305,2,     35.3,3,    37.0,2,   91.92,2,   41.15,2,    0.00,2,    2.77,3,   0.684,2,   0.396,2,   0.2154,2,  2317.1,2,  2320.0,2,   7.3202,2,    25.01,2, -999.00,9,  -999.0,9, -999.00,9, -999.00,9,       50.1,2, 20220621,     1622,  30.0002,-153.1314,     4.5997,2,     -999.0,9,     -999.0,9,     -999.0,9,     -999.0,9,     0.0134,1,     4.6977,1,     -999.0,9,     -999.0,9,     -999.0,9,     -999.0,9,     -999.0,9
33RR20220613,       P02E,     132,          1,         21,         21,2,20220621,       1434,    30.0002,  -153.1313,       5342,   872.7,2,   4.1363,2,  34.2297,2,  34.2301,2,     18.2,2,    18.2,2,  109.13,2,   43.04,2,    0.00,2,    2.97,3,   0.212,2,   0.128,2,   0.1143,2,  2345.1,2,  -999.0,9,   7.2953,2,    24.98,2, -999.00,9,  -999.0,9, -999.00,9, -999.00,9,       58.0,2, 20220621,     1619,  30.0001,-153.1313,     4.1359,2,     -999.0,9,     -999.0,9,     -999.0,9,     -999.0,9,     0.0134,1,     4.6979,1,     -999.0,9,     -999.0,9,     -999.0,9,     -999.0,9,     -999.0,9
33RR20220613,       P02E,     132,          1,         20,         20,2,20220621,       1434,    30.0002,  -153.1313,       5342,   974.4,2,   3.7818,2,  34.3255,2,  34.3229,2,     12.7,2,    12.7,2,  121.34,2,   43.83,2,    0.00,2,    3.09,3,   0.044,2,   0.031,2,   0.1041,2,  2361.9,2,  2357.6,2,   7.2972,2,    25.00,2, -999.00,9,  -999.0,9, -999.00,9, -999.00,9,       63.6,2, 20220621,     1617,  30.0002,-153.1314,     3.7836,2,     -999.0,9,     -999.0,9,     -999.0,9,     -999.0,9,     0.0134,1,     4.6980,1,     -999.0,9,     -999.0,9,     -999.0,9,     -999.0,9,     -999.0,9
33RR20220613,       P02E,     132,          1,         19,         39,2,20220621,       1434,    30.0002,  -153.1313,       5342,  1075.5,2,   3.5707,2,  34.3927,2,  34.3908,2,     15.7,3,    15.6,2,  127.59,2,   43.95,2,    0.00,2,    3.12,4,   0.018,2,   0.015,2,   0.1311,2,  2368.1,2,  -999.0,9,   7.3113,2,    25.00,2, -999.00,9,  -999.0,9, -999.00,9, -999.00,9,       63.4,2, 20220621,     1614,  30.0002,-153.1313,     3.5703,2,     -999.0,9,     -999.0,9,     -999.0,9,     -999.0,9,     0.0134,1,     4.6973,1,     -999.0,9,     -999.0,9,     -999.0,9,     -999.0,9,     -999.0,9
33RR20220613,       P02E,     132,          1,         18,         18,2,20220621,       1434,    30.0002,  -153.1313,       5342,  1178.3,2,   3.3676,2,  34.4479,2,  34.4467,2,     23.4,2,    23.4,2,  132.96,2,   43.60,2,    0.00,2,    3.11,4,   0.009,2,   0.009,2,   0.0000,2,  2369.6,2,  2377.2,2,   7.3342,2,    25.02,2, -999.00,9,  -999.0,9, -999.00,9, -999.00,9,       54.0,2, 20220621,     1611,  30.0002,-153.1313,     3.3672,2,     -999.0,9,     -999.0,9,     -999.0,9,     -999.0,9,     0.0134,1,     4.6974,1,     -999.0,9,     -999.0,9,     -999.0,9,     -999.0,9,     -999.0,9
33RR20220613,       P02E,     132,          1,         17,         37,2,20220621,       1434,    30.0002,  -153.1313,       5342,  1278.9,2,   3.1682,2,  34.4867,2,  34.4850,2,     30.5,2,    30.5,2,  138.14,2,   43.33,2,    0.00,2,    3.13,4,   0.006,2,   0.007,2,   0.0000,2,  2370.3,2,  -999.0,9,   7.3494,2,    25.01,2, -999.00,9,  -999.0,9, -999.00,9, -999.00,9,       51.8,2, 20220621,     1609,  30.0002,-153.1313,     3.1686,2,     -999.0,9,     -999.0,9,     -999.0,9,     -999.0,9,     0.0134,1,     4.6987,1,     -999.0,9,     -999.0,9,     -999.0,9,     -999.0,9,     -999.0,9
33RR20220613,       P02E,     132,          1,         16,         16,2,20220621,       1434,    30.0002,  -153.1313,       5342,  1379.3,2,   2.9592,2,  34.5171,2,  34.5152,2,     40.9,2,    40.9,2,  141.95,2,   42.83,2,    0.00,2,    3.10,4,   0.005,2,   0.005,2,   0.0000,2,  -999.0,9,  -999.0,9,-999.0000,9,  -999.00,9, -999.00,9,  -999.0,9, -999.00,9, -999.00,9,       49.6,2, 20220621,     1606,  30.0001,-153.1313,     2.9584,2,     -999.0,9,     -999.0,9,     -999.0,9,     -999.0,9,     0.0134,1,     4.6998,1,     -999.0,9,     -999.0,9,     -999.0,9,     -999.0,9,     -999.0,9
33RR20220613,       P02E,     132,          1,         15,         15,2,20220621,       1434,    30.0002,  -153.1313,       5342,  1550.8,2,   2.6709,2,  34.5514,2,  34.5490,2,     54.3,2,    53.9,2,  148.11,2,   41.99,2,    0.00,2,    3.09,4,   0.003,2,   0.003,2,   0.0000,2,  2369.3,2,  2399.8,2,   7.3994,2,    25.00,2, -999.00,9,  -999.0,9, -999.00,9, -999.00,9,       41.2,2, 20220621,     1601,  30.0002,-153.1313,     2.6719,2,     -999.0,9,     -999.0,9,     -999.0,9,     -999.0,9,     0.0134,1,     4.7007,1,     -999.0,9,     -999.0,9,     -999.0,9,     -999.0,9,     -999.0,9
33RR20220613,       P02E,     132,          1,         14,         14,2,20220621,       1434,    30.0002,  -153.1313,       5342,  1754.6,2,   2.3485,2,  34.5826,2,  34.5804,2,     68.4,2,    68.5,2,  155.14,2,   41.12,2,    0.00,2,    3.07,4,   0.005,2,   0.007,2,   0.0000,2,  -999.0,9,  -999.0,9,-999.0000,9,  -999.00,9, -999.00,9,  -999.0,9, -999.00,9, -999.00,9,       38.0,2, 20220621,     1557,  30.0002,-153.1313,     2.3503,2,     -999.0,9,     -999.0,9,     -999.0,9,     -999.0,9,     0.0133,1,     4.7009,1,     -999.0,9,     -999.0,9,     -999.0,9,     -999.0,9,     -999.0,9
33RR20220613,       P02E,     132,          1,         13,         13,2,20220621,       1434,    30.0002,  -153.1313,       5342,  1957.2,2,   2.1263,2,  34.6041,2,  34.6020,2,     76.7,2,    77.2,2,  161.20,2,   40.73,2,    0.00,2,    3.05,4,   0.003,2,   0.003,2,   0.0000,2,  2368.6,2,  -999.0,9,   7.4430,2,    25.00,2, -999.00,9,  -999.0,9, -999.00,9, -999.00,9,       35.6,2, 20220621,     1552,  30.0001,-153.1313,     2.1307,2,     -999.0,9,     -999.0,9,     -999.0,9,     -999.0,9,     0.0134,1,     4.7020,1,     -999.0,9,     -999.0,9,     -999.0,9,     -999.0,9,     -999.0,9
33RR20220613,       P02E,     132,          1,         12,         12,2,20220621,       1434,    30.0002,  -153.1313,       5342,  2192.0,2,   1.9350,2,  34.6230,2,  34.6215,2,     86.4,2,    86.5,2,  166.09,2,   40.06,2,    0.00,2,    3.04,4,-999.000,9,-999.000,9,-999.0000,9,  -999.0,9,  -999.0,9,-999.0000,9,  -999.00,9, -999.00,9,  -999.0,9, -999.00,9, -999.00,9,     -999.0,9, 20220621,     1547,  30.0002,-153.1313,     1.9344,2,     -999.0,9,     -999.0,9,     -999.0,9,     -999.0,9,     0.0121,1,     4.7015,1,     -999.0,9,     -999.0,9,     -999.0,9,     -999.0,9,     -999.0,9
33RR20220613,       P02E,     132,          1,         11,         11,2,20220621,       1434,    30.0002,  -153.1313,       5342,  2446.6,2,   1.7630,2,  34.6399,2,  34.6388,2,     93.4,2,    93.3,2,  173.02,2,   39.60,2,    0.00,2,    3.04,4,   0.003,2,   0.003,2,   0.0000,2,  2365.0,2,  2424.3,2,   7.4757,2,    25.00,2, -999.00,9,  -999.0,9, -999.00,9, -999.00,9,       30.5,2, 20220621,     1542,  30.0001,-153.1314,     1.7628,2,     -999.0,9,     -999.0,9,     -999.0,9,     -999.0,9,     0.0134,1,     4.7026,1,     -999.0,9,     -999.0,9,     -999.0,9,     -999.0,9,     -999.0,9
33RR20220613,       P02E,     132,          1,         10,         10,2,20220621,       1434,    30.0002,  -153.1313,       5342,  2699.3,2,   1.6593,2,  34.6517,2,  34.6504,2,    103.8,2,   104.0,2,  173.71,2,   39.14,2,    0.00,2,    3.03,4,-999.000,9,-999.000,9,-999.0000,9,  -999.0,9,  -999.0,9,-999.0000,9,  -999.00,9, -999.00,9,  -999.0,9, -999.00,9, -999.00,9,     -999.0,9, 20220621,     1537,  30.0002,-153.1313,     1.6582,2,     -999.0,9,     -999.0,9,     -999.0,9,     -999.0,9,     0.0134,1,     4.7031,1,     -999.0,9,     -999.0,9,     -999.0,9,     -999.0,9,     -999.0,9
33RR20220613,       P02E,     132,          1,          9,          9,2,20220621,       1434,    30.0002,  -153.1313,       5342,  2954.0,2,   1.5691,2,  34.6631,2,  34.6616,2,    117.7,2,   117.7,2,  169.70,2,   38.15,2,    0.00,2,    2.97,4,   0.004,2,   0.003,2,   0.0000,2,  2351.4,2,  -999.0,9,   7.5194,2,    25.01,2, -999.00,9,  -999.0,9, -999.00,9, -999.00,9,       29.4,2, 20220621,     1531,  30.0002,-153.1313,     1.5708,2,     -999.0,9,     -999.0,9,     -999.0,9,     -999.0,9,     0.0127,1,     4.7040,1,     -999.0,9,     -999.0,9,     -999.0,9,     -999.0,9,     -999.0,9
33RR20220613,       P02E,     132,          1,          8,          8,2,20220621,       1434,    30.0002,  -153.1313,       5342,  3245.7,2,   1.5150,2,  34.6726,3,  34.6706,2,    130.0,2,   130.2,2,  165.30,2,   37.34,2,    0.00,2,    2.88,4,-999.000,9,-999.000,9,-999.0000,9,  -999.0,9,  -999.0,9,-999.0000,9,  -999.00,9, -999.00,9,  -999.0,9, -999.00,9, -999.00,9,     -999.0,9, 20220621,     1526,  30.0002,-153.1313,     1.5154,2,     -999.0,9,     -999.0,9,     -999.0,9,     -999.0,9,     0.0134,1,     4.7044,1,     -999.0,9,     -999.0,9,     -999.0,9,     -999.0,9,     -999.0,9
33RR20220613,       P02E,     132,          1,          7,          7,2,20220621,       1434,    30.0002,  -153.1313,       5342,  3553.4,2,   1.4875,2,  34.6782,2,  34.6769,2,    137.5,2,   137.6,2,  162.85,2,   37.12,2,    0.00,2,    2.83,4,   0.003,2,   0.004,2,   0.0000,2,  2337.4,2,  2426.2,2,   7.5558,2,    25.00,2, -999.00,9,  -999.0,9, -999.00,9, -999.00,9,       25.2,2, 20220621,     1520,  30.0001,-153.1313,     1.4872,2,     -999.0,9,     -999.0,9,     -999.0,9,     -999.0,9,     0.0122,1,     4.7054,1,     -999.0,9,     -999.0,9,     -999.0,9,     -999.0,9,     -999.0,9
33RR20220613,       P02E,     132,          1,          6,          6,2,20220621,       1434,    30.0002,  -153.1313,       5342,  3860.0,2,   1.4731,2,  34.6824,2,  34.6812,2,    143.8,2,   143.7,2,  160.21,2,   36.68,2,    0.00,2,    2.81,4,-999.000,9,-999.000,9,-999.0000,9,  -999.0,9,  -999.0,9,-999.0000,9,  -999.00,9, -999.00,9,  -999.0,9, -999.00,9, -999.00,9,     -999.0,9, 20220621,     1514,  30.0001,-153.1313,     1.4732,2,     -999.0,9,     -999.0,9,     -999.0,9,     -999.0,9,     0.0122,1,     4.7047,1,     -999.0,9,     -999.0,9,     -999.0,9,     -999.0,9,     -999.0,9
33RR20220613,       P02E,     132,          1,          5,          5,2,20220621,       1434,    30.0002,  -153.1313,       5342,  4169.0,2,   1.4764,2,  34.6852,2,  34.6832,2,    148.3,2,   148.2,2,  158.45,2,   36.33,2,    0.00,2,    2.78,4,   0.003,2,   0.004,2,   0.0000,2,  2329.2,2,  -999.0,9,   7.5735,2,    25.00,2, -999.00,9,  -999.0,9, -999.00,9, -999.00,9,       24.8,2, 20220621,     1507,  30.0002,-153.1313,     1.4759,2,     -999.0,9,     -999.0,9,     -999.0,9,     -999.0,9,     0.0122,1,     4.7049,1,     -999.0,9,     -999.0,9,     -999.0,9,     -999.0,9,     -999.0,9