BOTTLE,20230830CCHSIOCBG
EXPOCODE,SECT_ID,STNNBR,CASTNO,SAMPNO,BTLNBR,BTLNBR_FLAG_W,DATE,TIME,LATITUDE,LONGITUDE,DEPTH,CTDPRS,CTDPRS_FLAG_W,CTDTMP,CTDTMP_FLAG_W,CTDSAL,CTDSAL_FLAG_W,SALNTY,SALNTY_FLAG_W,CTDOXY,CTDOXY_FLAG_W,OXYGEN,OXYGEN_FLAG_W,SILCAT,SILCAT_FLAG_W,NITRAT,NITRAT_FLAG_W,NITRIT,NITRIT_FLAG_W,PHSPHT,PHSPHT_FLAG_W,CFC-11,CFC-11_FLAG_W,CFC-12,CFC-12_FLAG_W,SF6,SF6_FLAG_W,TCARBN,TCARBN_FLAG_W,ALKALI,ALKALI_FLAG_W,PH_TOT,PH_TOT_FLAG_W,PH_TMP,PH_TMP_FLAG_W,DELC13,DELC13_FLAG_W,DELC14,DELC14_FLAG_W,DOC,DOC_FLAG_W,TDN,TDN_FLAG_W,N2O,N2O_FLAG_W,BTL_DATE,BTL_TIME,BTL_LAT,BTL_LON,REFTMP,REFTMP_FLAG_W,POC,POC_FLAG_W,PON,PON_FLAG_W,POP,POP_FLAG_W,PCOD,PCOD_FLAG_W,CTDFLUOR,CTDFLUOR_FLAG_W,CTDXMISS,CTDXMISS_FLAG_W,HPLC,HPLC_FLAG_W,DNA,DNA_FLAG_W,FCM,FCM_FLAG_W,IMAGES,IMAGES_FLAG_W,VIRAL_ABUNDANCE,VIRAL_ABUNDANCE_FLAG_W
,,,,,,,,,,,METERS,DBAR,,ITS-90,,PSS-78,,PSS-78,,UMOL/KG,,UMOL/KG,,UMOL/KG,,UMOL/KG,,UMOL/KG,,UMOL/KG,,PMOL/KG,,PMOL/KG,,FMOL/KG,,UMOL/KG,,UMOL/KG,,,,DEG C,,/MILLE,,/MILLE,,UMOL/KG,,UMOL/KG,,NMOL/KG,,,,,,ITS-90,,UG/L,,UG/L,,UG/L,,UG/L,,VOLTS,,VOLTS,,,,,,,,,,,
33RR20220613,       P02E,     204,          1,          4,          4,2,20220713,       0554,    32.6428,  -117.3837,        250,   202.0,2,   9.3725,2,  34.1794,2,  34.1824,2,     72.7,2,    72.9,2,   34.99,2,   27.02,2,    0.10,2,    2.27,2,   2.169,2,   1.313,2,   1.0389,2,  2234.9,2,  2272.1,2,   7.4383,2,    24.99,2, -999.00,9,  -999.0,9, -999.00,1, -999.00,1,       39.1,2, 20220713,      559,  32.6428,-117.3837,     9.3729,2,     -999.0,9,     -999.0,9,     -999.0,9,     -999.0,9,     0.0134,1,     4.6150,1,     -999.0,9,     -999.0,9,     -999.0,9,     -999.0,9,     -999.0,9
33RR20220613,       P02E,     204,          1,          3,          3,2,20220713,       0554,    32.6428,  -117.3837,        250,   221.3,2,   9.2969,2,  34.2106,2,  34.2168,2,     61.1,3,    60.3,2,   37.72,2,   27.62,2,    0.26,2,    2.38,2,   1.972,2,   1.239,2,   0.9026,2,  2248.6,2,  2276.6,2,   7.4156,2,    25.00,2, -999.00,9,  -999.0,9, -999.00,1, -999.00,1,       40.0,2, 20220713,      555,  32.6428,-117.3837,     9.2967,2,     -999.0,9,     -999.0,9,     -999.0,9,     -999.0,9,     0.0125,1,     4.4938,1,     -999.0,9,     -999.0,9,     -999.0,9,     -999.0,9,     -999.0,9
33RR20220613,       P02E,     204,          1,          2,          2,2,20220713,       0554,    32.6428,  -117.3837,        250,   238.9,2,   9.2939,2,  34.2357,2,  34.2346,2,     55.3,3,    55.9,2,   38.50,2,   27.90,2,    0.26,2,    2.42,2,-999.000,9,-999.000,9,-999.0000,9,  -999.0,9,  -999.0,9,-999.0000,9,  -999.00,9, -999.00,9,  -999.0,9, -999.00,9, -999.00,9,     -999.0,9, 20220713,      554,  32.6428,-117.3837,     -999.0,9,     -999.0,9,     -999.0,9,     -999.0,9,     -999.0,9,     0.0127,1,     4.4783,1,     -999.0,9,     -999.0,9,     -999.0,9,     -999.0,9,     -999.0,9
33RR20220613,       P02E,     204,          1,          1,          1,2,20220713,       0554,    32.6428,  -117.3837,        250,   238.9,2,   9.2911,2,  34.2325,2,  34.2336,2,     55.3,2,    55.3,2,   38.50,2,   27.90,2,    0.26,2,    2.41,2,   1.893,2,   1.215,2,   0.8043,2,  2251.8,2,  2280.1,2,   7.4078,2,    25.00,2, -999.00,9,  -999.0,9, -999.00,1, -999.00,1,       41.5,2, 20220713,      554,  32.6428,-117.3837,     9.2922,2,     -999.0,9,     -999.0,9,     -999.0,9,     -999.0,9,     0.0138,1,     4.4739,1,     -999.0,9,     -999.0,9,     -999.0,9,     -999.0,9,     -999.0,9
33RR20220613,       P02E,     191,          3,         10,         10,2,20220713,       1854,    31.7517,  -119.8101,       3688,     2.9,2,  17.5997,2,  33.4073,2,-999.0000,9,    246.9,2,  -999.0,9, -999.00,9, -999.00,9, -999.00,9, -999.00,9,-999.000,9,-999.000,9,-999.0000,9,  -999.0,9,  -999.0,9,-999.0000,9,  -999.00,9, -999.00,9,  -999.0,9, -999.00,9, -999.00,9,     -999.0,9, 20220713,     1920,  31.7517,-119.8101,     -999.0,9,     -999.0,9,     -999.0,9,     -999.0,9,     -999.0,9,     0.0110,1,     0.0097,1,     -999.0,9,     -999.0,1,     -999.0,9,     -999.0,9,     -999.0,9
33RR20220613,       P02E,     191,          3,         15,         15,2,20220713,       1854,    31.7517,  -119.8101,       3688,     3.2,2,  17.5990,2,  33.4073,2,-999.0000,9,    247.0,2,  -999.0,9, -999.00,9, -999.00,9, -999.00,9, -999.00,9,-999.000,9,-999.000,9,-999.0000,9,  -999.0,9,  -999.0,9,-999.0000,9,  -999.00,9, -999.00,9,  -999.0,9, -999.00,9, -999.00,9,     -999.0,9, 20220713,     1920,  31.7517,-119.8101,     -999.0,9,     -999.0,9,     -999.0,9,     -999.0,1,     -999.0,9,     0.0122,1,     0.0097,1,     -999.0,9,     -999.0,9,     -999.0,9,     -999.0,9,     -999.0,9
33RR20220613,       P02E,     191,          3,          9,          9,2,20220713,       1854,    31.7517,  -119.8101,       3688,     3.3,2,  17.5972,2,  33.4070,2,-999.0000,9,    246.8,2,  -999.0,9, -999.00,9, -999.00,9, -999.00,9, -999.00,9,-999.000,9,-999.000,9,-999.0000,9,  -999.0,9,  -999.0,9,-999.0000,9,  -999.00,9, -999.00,9,  -999.0,9, -999.00,9, -999.00,9,     -999.0,9, 20220713,     1920,  31.7517,-119.8101,    17.5966,2,     -999.0,9,     -999.0,9,     -999.0,9,     -999.0,9,     0.0110,1,     0.0097,1,     -999.0,1,     -999.0,9,     -999.0,1,     -999.0,9,     -999.0,9
33RR20220613,       P02E,     191,          3,         16,         16,2,20220713,       1854,    31.7517,  -119.8101,       3688,     3.4,2,  17.5981,2,  33.4073,2,-999.0000,9,    246.9,2,  -999.0,9, -999.00,9, -999.00,9, -999.00,9, -999.00,9,-999.000,9,-999.000,9,-999.0000,9,  -999.0,9,  -999.0,9,-999.0000,9,  -999.00,9, -999.00,9,  -999.0,9, -999.00,9, -999.00,9,     -999.0,9, 20220713,     1920,  31.7517,-119.8101,     -999.0,9,     -999.0,9,     -999.0,9,     -999.0,1,     -999.0,9,     0.0116,1,     0.0097,1,     -999.0,9,     -999.0,9,     -999.0,9,     -999.0,9,     -999.0,9
33RR20220613,       P02E,     191,          3,         14,         42,2,20220713,       1854,    31.7517,  -119.8101,       3688,     3.4,2,  17.5975,2,  33.4072,2,-999.0000,9,    247.0,2,  -999.0,9, -999.00,9, -999.00,9, -999.00,9, -999.00,9,-999.000,9,-999.000,9,-999.0000,9,  -999.0,9,  -999.0,9,-999.0000,9,  -999.00,9, -999.00,9,  -999.0,9, -999.00,9, -999.00,9,     -999.0,9, 20220713,     1920,  31.7517,-119.8101,     -999.0,9,     -999.0,9,     -999.0,9,     -999.0,1,     -999.0,9,     0.0122,1,     0.0097,1,     -999.0,9,     -999.0,9,     -999.0,9,     -999.0,9,     -999.0,9
33RR20220613,       P02E,     191,          3,         13,         13,2,20220713,       1854,    31.7517,  -119.8101,       3688,     3.4,2,  17.5968,2,  33.4074,2,-999.0000,9,    246.9,2,  -999.0,9, -999.00,9, -999.00,9, -999.00,9, -999.00,9,-999.000,9,-999.000,9,-999.0000,9,  -999.0,9,  -999.0,9,-999.0000,9,  -999.00,9, -999.00,9,  -999.0,9, -999.00,9, -999.00,9,     -999.0,9, 20220713,     1920,  31.7517,-119.8101,     -999.0,9,     -999.0,1,     -999.0,1,     -999.0,9,     -999.0,9,     0.0115,1,     0.0097,1,     -999.0,9,     -999.0,9,     -999.0,9,     -999.0,9,     -999.0,9
33RR20220613,       P02E,     191,          3,         11,         11,2,20220713,       1854,    31.7517,  -119.8101,       3688,     3.4,2,  17.5950,2,  33.4071,2,-999.0000,9,    246.9,2,  -999.0,9, -999.00,9, -999.00,9, -999.00,9, -999.00,9,-999.000,9,-999.000,9,-999.0000,9,  -999.0,9,  -999.0,9,-999.0000,9,  -999.00,9, -999.00,9,  -999.0,9, -999.00,9, -999.00,9,     -999.0,9, 20220713,     1920,  31.7517,-119.8101,     -999.0,9,     -999.0,1,     -999.0,1,     -999.0,9,     -999.0,9,     0.0110,1,     0.0097,1,     -999.0,9,     -999.0,9,     -999.0,9,     -999.0,9,     -999.0,9
33RR20220613,       P02E,     191,          3,         18,         18,2,20220713,       1854,    31.7517,  -119.8101,       3688,     3.4,2,  17.5996,2,  33.4073,2,-999.0000,9,    246.9,2,  -999.0,9, -999.00,9, -999.00,9, -999.00,9, -999.00,9,-999.000,9,-999.000,9,-999.0000,9,  -999.0,9,  -999.0,9,-999.0000,9,  -999.00,9, -999.00,9,  -999.0,9, -999.00,9, -999.00,9,     -999.0,9, 20220713,     1920,  31.7517,-119.8101,     -999.0,9,     -999.0,9,     -999.0,9,     -999.0,9,     -999.0,1,     0.0110,1,     0.0097,1,     -999.0,9,     -999.0,9,     -999.0,9,     -999.0,9,     -999.0,9
33RR20220613,       P02E,     191,          3,         17,         37,2,20220713,       1854,    31.7517,  -119.8101,       3688,     3.5,2,  17.5978,2,  33.4073,2,-999.0000,9,    246.9,2,  -999.0,9, -999.00,9, -999.00,9, -999.00,9, -999.00,9,-999.000,9,-999.000,9,-999.0000,9,  -999.0,9,  -999.0,9,-999.0000,9,  -999.00,9, -999.00,9,  -999.0,9, -999.00,9, -999.00,9,     -999.0,9, 20220713,     1920,  31.7517,-119.8101,     -999.0,9,     -999.0,9,     -999.0,9,     -999.0,9,     -999.0,1,     0.0110,1,     0.0097,1,     -999.0,9,     -999.0,9,     -999.0,9,     -999.0,9,     -999.0,9
33RR20220613,       P02E,     191,          3,         19,         39,2,20220713,       1854,    31.7517,  -119.8101,       3688,     3.5,2,  17.6003,2,  33.4073,2,-999.0000,9,    246.9,2,  -999.0,9, -999.00,9, -999.00,9, -999.00,9, -999.00,9,-999.000,9,-999.000,9,-999.0000,9,  -999.0,9,  -999.0,9,-999.0000,9,  -999.00,9, -999.00,9,  -999.0,9, -999.00,9, -999.00,9,     -999.0,9, 20220713,     1921,  31.7517,-119.8101,    17.6046,2,     -999.0,9,     -999.0,9,     -999.0,9,     -999.0,1,     0.0110,1,     0.0097,1,     -999.0,9,     -999.0,9,     -999.0,9,     -999.0,9,     -999.0,9
33RR20220613,       P02E,     191,          3,         12,         12,2,20220713,       1854,    31.7517,  -119.8101,       3688,     3.6,2,  17.5941,2,  33.4071,2,-999.0000,9,    246.9,2,  -999.0,9, -999.00,9, -999.00,9, -999.00,9, -999.00,9,-999.000,9,-999.000,9,-999.0000,9,  -999.0,9,  -999.0,9,-999.0000,9,  -999.00,9, -999.00,9,  -999.0,9, -999.00,9, -999.00,9,     -999.0,9, 20220713,     1920,  31.7517,-119.8101,     -999.0,9,     -999.0,1,     -999.0,1,     -999.0,9,     -999.0,9,     0.0110,1,     0.0097,1,     -999.0,9,     -999.0,9,     -999.0,9,     -999.0,9,     -999.0,9
33RR20220613,       P02E,     191,          3,          8,          8,2,20220713,       1854,    31.7517,  -119.8101,       3688,    41.5,2,  14.4006,2,  33.3469,2,-999.0000,9,    264.8,2,  -999.0,9, -999.00,9, -999.00,9, -999.00,9, -999.00,9,-999.000,9,-999.000,9,-999.0000,9,  -999.0,9,  -999.0,9,-999.0000,9,  -999.00,9, -999.00,9,  -999.0,9, -999.00,9, -999.00,9,     -999.0,9, 20220713,     1917,  31.7517,-119.8101,    14.5145,3,     -999.0,9,     -999.0,9,     -999.0,9,     -999.0,9,     0.0110,1,     0.0097,1,     -999.0,1,     -999.0,9,     -999.0,1,     -999.0,9,     -999.0,9
33RR20220613,       P02E,     191,          3,          7,          7,2,20220713,       1854,    31.7517,  -119.8101,       3688,    76.5,2,  11.4276,2,  33.5033,2,-999.0000,9,    190.1,2,  -999.0,9, -999.00,9, -999.00,9, -999.00,9, -999.00,9,-999.000,9,-999.000,9,-999.0000,9,  -999.0,9,  -999.0,9,-999.0000,9,  -999.00,9, -999.00,9,  -999.0,9, -999.00,9, -999.00,9,     -999.0,9, 20220713,     1916,  31.7517,-119.8101,    11.4308,2,     -999.0,9,     -999.0,9,     -999.0,9,     -999.0,9,     0.0117,1,     0.0096,1,     -999.0,9,     -999.0,9,     -999.0,1,     -999.0,9,     -999.0,9
33RR20220613,       P02E,     191,          3,          5,          5,2,20220713,       1854,    31.7517,  -119.8101,       3688,   101.4,2,  10.2243,2,  33.6871,2,-999.0000,9,    153.4,2,  -999.0,9, -999.00,9, -999.00,9, -999.00,9, -999.00,9,-999.000,9,-999.000,9,-999.0000,9,  -999.0,9,  -999.0,9,-999.0000,9,  -999.00,9, -999.00,9,  -999.0,9, -999.00,9, -999.00,9,     -999.0,9, 20220713,     1914,  31.7517,-119.8101,    10.2805,2,     -999.0,9,     -999.0,9,     -999.0,9,     -999.0,9,     0.0122,1,     0.0096,1,     -999.0,1,     -999.0,9,     -999.0,1,     -999.0,9,     -999.0,9
33RR20220613,       P02E,     191,          3,          6,          6,2,20220713,       1854,    31.7517,  -119.8101,       3688,   101.6,2,  10.2951,2,  33.6748,2,-999.0000,9,    153.8,2,  -999.0,9, -999.00,9, -999.00,9, -999.00,9, -999.00,9,-999.000,9,-999.000,9,-999.0000,9,  -999.0,9,  -999.0,9,-999.0000,9,  -999.00,9, -999.00,9,  -999.0,9, -999.00,9, -999.00,9,     -999.0,9, 20220713,     1914,  31.7517,-119.8101,     -999.0,9,     -999.0,9,     -999.0,9,     -999.0,9,     -999.0,9,     0.0113,1,     0.0096,1,     -999.0,9,     -999.0,1,     -999.0,9,     -999.0,9,     -999.0,9
33RR20220613,       P02E,     191,          3,          4,          4,2,20220713,       1854,    31.7517,  -119.8101,       3688,   152.3,2,   9.0665,2,  33.9484,2,-999.0000,9,    131.6,2,  -999.0,9, -999.00,9, -999.00,9, -999.00,9, -999.00,9,-999.000,9,-999.000,9,-999.0000,9,  -999.0,9,  -999.0,9,-999.0000,9,  -999.00,9, -999.00,9,  -999.0,9, -999.00,9, -999.00,9,     -999.0,9, 20220713,     1911,  31.7517,-119.8101,     9.0963,2,     -999.0,9,     -999.0,9,     -999.0,9,     -999.0,9,     0.0121,1,     0.0096,1,     -999.0,9,     -999.0,9,     -999.0,1,     -999.0,9,     -999.0,9
33RR20220613,       P02E,     191,          3,          3,          3,2,20220713,       1854,    31.7517,  -119.8101,       3688,   202.5,2,   8.3133,2,  34.0247,2,-999.0000,9,    111.3,2,  -999.0,9, -999.00,9, -999.00,9, -999.00,9, -999.00,9,-999.000,9,-999.000,9,-999.0000,9,  -999.0,9,  -999.0,9,-999.0000,9,  -999.00,9, -999.00,9,  -999.0,9, -999.00,9, -999.00,9,     -999.0,9, 20220713,     1909,  31.7517,-119.8101,     8.3148,2,     -999.0,9,     -999.0,9,     -999.0,9,     -999.0,9,     0.0110,1,     0.0096,1,     -999.0,9,     -999.0,1,     -999.0,1,     -999.0,9,     -999.0,9
33RR20220613,       P02E,     191,          3,          2,          2,2,20220713,       1854,    31.7517,  -119.8101,       3688,   504.7,2,   6.1079,2,  34.3066,2,-999.0000,9,     12.8,2,  -999.0,9, -999.00,9, -999.00,9, -999.00,9, -999.00,9,-999.000,9,-999.000,9,-999.0000,9,  -999.0,9,  -999.0,9,-999.0000,9,  -999.00,9, -999.00,9,  -999.0,9, -999.00,9, -999.00,9,     -999.0,9, 20220713,     1903,  31.7517,-119.8101,     6.1080,2,     -999.0,9,     -999.0,9,     -999.0,9,     -999.0,9,     0.0118,1,     0.0096,1,     -999.0,9,     -999.0,9,     -999.0,1,     -999.0,9,     -999.0,9
33RR20220613,       P02E,     191,          3,          1,          1,2,20220713,       1854,    31.7517,  -119.8101,       3688,  1012.7,2,   4.0042,2,  34.4845,2,-999.0000,9,     23.3,2,  -999.0,9, -999.00,9, -999.00,9, -999.00,9, -999.00,9,-999.000,9,-999.000,9,-999.0000,9,  -999.0,9,  -999.0,9,-999.0000,9,  -999.00,9, -999.00,9,  -999.0,9, -999.00,9, -999.00,9,     -999.0,9, 20220713,     1854,  31.7517,-119.8101,     4.0042,2,     -999.0,9,     -999.0,9,     -999.0,9,     -999.0,9,     0.0110,1,     0.0097,1,     -999.0,9,     -999.0,1,     -999.0,1,     -999.0,9,     -999.0,9