BOTTLE,20230830CCHSIOCBG
EXPOCODE,SECT_ID,STNNBR,CASTNO,SAMPNO,BTLNBR,BTLNBR_FLAG_W,DATE,TIME,LATITUDE,LONGITUDE,DEPTH,CTDPRS,CTDPRS_FLAG_W,CTDTMP,CTDTMP_FLAG_W,CTDSAL,CTDSAL_FLAG_W,SALNTY,SALNTY_FLAG_W,CTDOXY,CTDOXY_FLAG_W,OXYGEN,OXYGEN_FLAG_W,SILCAT,SILCAT_FLAG_W,NITRAT,NITRAT_FLAG_W,NITRIT,NITRIT_FLAG_W,PHSPHT,PHSPHT_FLAG_W,CFC-11,CFC-11_FLAG_W,CFC-12,CFC-12_FLAG_W,SF6,SF6_FLAG_W,TCARBN,TCARBN_FLAG_W,ALKALI,ALKALI_FLAG_W,PH_TOT,PH_TOT_FLAG_W,PH_TMP,PH_TMP_FLAG_W,DELC13,DELC13_FLAG_W,DELC14,DELC14_FLAG_W,DOC,DOC_FLAG_W,TDN,TDN_FLAG_W,N2O,N2O_FLAG_W,BTL_DATE,BTL_TIME,BTL_LAT,BTL_LON,REFTMP,REFTMP_FLAG_W,POC,POC_FLAG_W,PON,PON_FLAG_W,POP,POP_FLAG_W,PCOD,PCOD_FLAG_W,CTDFLUOR,CTDFLUOR_FLAG_W,CTDXMISS,CTDXMISS_FLAG_W,HPLC,HPLC_FLAG_W,DNA,DNA_FLAG_W,FCM,FCM_FLAG_W,IMAGES,IMAGES_FLAG_W,VIRAL_ABUNDANCE,VIRAL_ABUNDANCE_FLAG_W
,,,,,,,,,,,METERS,DBAR,,ITS-90,,PSS-78,,PSS-78,,UMOL/KG,,UMOL/KG,,UMOL/KG,,UMOL/KG,,UMOL/KG,,UMOL/KG,,PMOL/KG,,PMOL/KG,,FMOL/KG,,UMOL/KG,,UMOL/KG,,,,DEG C,,/MILLE,,/MILLE,,UMOL/KG,,UMOL/KG,,NMOL/KG,,,,,,ITS-90,,UG/L,,UG/L,,UG/L,,UG/L,,VOLTS,,VOLTS,,,,,,,,,,,
33RR20220613,       P02E,     162,          1,         36,         36,2,20220630,       1843,    30.0008,  -135.8098,       4609,     3.7,2,  21.0908,2,  34.0731,2,  34.0642,2,    228.5,2,   228.2,2,    1.27,2,    0.00,2,    0.00,2,    0.16,2,   1.932,2,   1.204,2,   1.8785,2,  2026.5,6,  2268.0,2,   7.9440,2,    25.03,2, -999.00,1,  -999.0,1, -999.00,1, -999.00,1,        7.6,2, 20220630,     2041,  30.0008,-135.8098,    21.0915,2,     -999.0,9,     -999.0,9,     -999.0,9,     -999.0,9,     0.0122,1,     4.6287,1,     -999.0,9,     -999.0,9,     -999.0,9,     -999.0,9,     -999.0,9
33RR20220613,       P02E,     162,          1,         35,         35,2,20220630,       1843,    30.0008,  -135.8098,       4609,    35.7,2,  20.1283,2,  34.1324,2,  34.1227,2,    236.5,2,   236.9,2,    1.27,2,    0.00,2,    0.00,2,    0.13,2,   2.052,2,   1.252,2,   1.9511,2,  2027.7,2,  2270.3,6,   7.9467,2,    25.03,2, -999.00,1,  -999.0,1, -999.00,1, -999.00,1,        7.9,2, 20220630,     2039,  30.0008,-135.8098,    20.1447,2,     -999.0,9,     -999.0,9,     -999.0,9,     -999.0,9,     0.0134,1,     4.6388,1,     -999.0,9,     -999.0,9,     -999.0,9,     -999.0,9,     -999.0,9
33RR20220613,       P02E,     162,          1,         34,         34,2,20220630,       1843,    30.0008,  -135.8098,       4609,    61.4,2,  18.5464,2,  34.1439,2,  34.1377,2,    243.3,2,   243.0,2,    1.37,2,    0.00,2,    0.00,2,    0.12,2,   2.146,2,   1.328,2,   2.0456,2,  2025.1,2,  2266.9,2,   7.9465,2,    25.02,2, -999.00,1,  -999.0,1, -999.00,1, -999.00,1,        8.1,2, 20220630,     2037,  30.0008,-135.8098,    18.5447,2,     -999.0,9,     -999.0,9,     -999.0,9,     -999.0,9,     0.0147,1,     4.6476,1,     -999.0,9,     -999.0,9,     -999.0,9,     -999.0,9,     -999.0,9
33RR20220613,       P02E,     162,          1,         33,         33,2,20220630,       1843,    30.0008,  -135.8098,       4609,    86.3,2,  18.3953,2,  34.2539,2,  34.2472,2,    238.7,2,   240.2,2,    1.47,2,    0.00,2,    0.00,2,    0.10,2,   2.104,2,   1.312,2,   2.1219,2,  2027.8,2,  2271.1,2,   7.9459,2,    25.03,2, -999.00,1,  -999.0,1, -999.00,1, -999.00,1,        8.0,2, 20220630,     2035,  30.0008,-135.8098,    18.3936,2,     -999.0,9,     -999.0,9,     -999.0,9,     -999.0,9,     0.0164,1,     4.6516,1,     -999.0,9,     -999.0,9,     -999.0,9,     -999.0,9,     -999.0,9
33RR20220613,       P02E,     162,          1,         32,         32,2,20220630,       1843,    30.0008,  -135.8098,       4609,   116.4,2,  18.4805,2,  34.3876,2,  34.3888,2,    233.3,2,   235.4,2,    1.56,2,    0.00,2,    0.00,2,    0.08,2,   2.107,2,   1.302,2,   2.1309,2,  2032.0,2,  2275.2,2,   7.9457,2,    25.04,2, -999.00,1,  -999.0,1, -999.00,1, -999.00,1,        8.1,2, 20220630,     2033,  30.0008,-135.8098,    18.4790,2,     -999.0,9,     -999.0,9,     -999.0,9,     -999.0,9,     0.0216,1,     4.6619,1,     -999.0,9,     -999.0,9,     -999.0,9,     -999.0,9,     -999.0,9
33RR20220613,       P02E,     162,          1,         31,         31,2,20220630,       1843,    30.0008,  -135.8098,       4609,   166.8,2,  16.0506,2,  34.1718,3,  34.0952,2,    218.9,3,   222.9,2,    2.93,2,    1.88,2,    0.03,2,    0.27,2,   2.396,2,   1.469,2,   2.0796,2,  2050.1,2,  2250.2,2,   7.8745,2,    25.04,2, -999.00,1,  -999.0,1, -999.00,1, -999.00,1,        9.9,2, 20220630,     2031,  30.0008,-135.8099,    16.0766,2,     -999.0,9,     -999.0,9,     -999.0,9,     -999.0,9,     0.0231,1,     4.6678,1,     -999.0,9,     -999.0,9,     -999.0,9,     -999.0,9,     -999.0,9
33RR20220613,       P02E,     162,          1,         30,         17,2,20220630,       1843,    30.0008,  -135.8098,       4609,   217.4,2,  11.6380,2,  33.8342,2,  33.8230,2,    214.6,2,   215.2,2,    7.92,2,    8.52,2,    0.02,2,    0.71,2,   2.856,2,   1.727,2,   2.2367,2,  -999.0,9,  -999.0,9,-999.0000,9,  -999.00,9, -999.00,1,  -999.0,1, -999.00,1, -999.00,1,       13.2,2, 20220630,     2029,  30.0008,-135.8098,    11.7151,3,     -999.0,9,     -999.0,9,     -999.0,9,     -999.0,9,     0.0134,1,     4.6844,1,     -999.0,9,     -999.0,9,     -999.0,9,     -999.0,9,     -999.0,9
33RR20220613,       P02E,     162,          1,         29,         29,2,20220630,       1843,    30.0008,  -135.8098,       4609,   267.7,2,  10.3755,2,  33.9441,2,  33.9395,2,    203.2,2,   203.7,2,   15.15,2,   14.67,2,    0.00,2,    1.07,2,   3.001,6,   1.835,6,   2.0852,6,  2113.0,2,  2246.6,2,   7.7080,2,    25.01,2, -999.00,1,  -999.0,1, -999.00,1, -999.00,1,       17.2,6, 20220630,     2027,  30.0008,-135.8098,    10.3710,2,     -999.0,9,     -999.0,9,     -999.0,9,     -999.0,9,     0.0122,1,     4.6874,1,     -999.0,9,     -999.0,9,     -999.0,9,     -999.0,9,     -999.0,9
33RR20220613,       P02E,     162,          1,         28,         28,2,20220630,       1843,    30.0008,  -135.8098,       4609,   317.9,2,   9.2187,2,  33.9895,2,  33.9884,2,    190.4,2,   190.7,2,   22.49,2,   18.71,2,    0.00,2,    1.32,2,-999.000,9,-999.000,9,-999.0000,9,  -999.0,9,  -999.0,9,-999.0000,9,  -999.00,9, -999.00,1,  -999.0,1, -999.00,1, -999.00,1,     -999.0,9, 20220630,     2025,  30.0008,-135.8099,     9.2160,2,     -999.0,9,     -999.0,9,     -999.0,9,     -999.0,9,     0.0122,1,     4.6882,1,     -999.0,9,     -999.0,9,     -999.0,9,     -999.0,9,     -999.0,9
33RR20220613,       P02E,     162,          1,         27,         27,2,20220630,       1843,    30.0008,  -135.8098,       4609,   368.1,2,   8.3988,2,  34.0024,2,  34.0094,2,    160.3,2,   159.8,2,   32.07,2,   23.64,2,    0.00,2,    1.67,2,   2.905,2,   1.744,2,   1.3995,2,  2169.9,2,  2261.4,2,   7.5856,2,    25.01,2, -999.00,1,  -999.0,1, -999.00,1, -999.00,1,       26.8,2, 20220630,     2023,  30.0008,-135.8099,     8.3945,2,     -999.0,9,     -999.0,9,     -999.0,9,     -999.0,9,     0.0123,1,     4.6886,1,     -999.0,9,     -999.0,9,     -999.0,9,     -999.0,9,     -999.0,9
33RR20220613,       P02E,     162,          1,         26,         26,2,20220630,       1843,    30.0008,  -135.8098,       4609,   419.1,2,   7.4155,2,  34.0053,2,-999.0000,5,    113.3,3,   110.9,2,   45.66,2,   30.03,2,    0.00,2,    2.14,2,-999.000,9,-999.000,9,-999.0000,9,  -999.0,9,  -999.0,9,-999.0000,9,  -999.00,9, -999.00,1,  -999.0,1, -999.00,1, -999.00,1,     -999.0,9, 20220630,     2021,  30.0008,-135.8098,     7.4121,2,     -999.0,9,     -999.0,9,     -999.0,9,     -999.0,9,     0.0130,1,     4.6883,1,     -999.0,9,     -999.0,9,     -999.0,9,     -999.0,9,     -999.0,9
33RR20220613,       P02E,     162,          1,         25,         25,2,20220630,       1843,    30.0008,  -135.8098,       4609,   469.4,2,   6.6524,2,  34.0307,2,  34.0288,2,     77.5,2,    77.7,2,   56.70,2,   34.25,2,    0.00,2,    2.47,2,   2.101,2,   1.239,2,   0.6801,2,  2253.7,2,  2279.9,2,   7.3969,2,    25.02,2, -999.00,1,  -999.0,1, -999.00,1, -999.00,1,       37.2,2, 20220630,     2019,  30.0008,-135.8098,     6.6538,2,     -999.0,9,     -999.0,9,     -999.0,9,     -999.0,9,     0.0134,1,     4.6885,1,     -999.0,9,     -999.0,9,     -999.0,9,     -999.0,9,     -999.0,9
33RR20220613,       P02E,     162,          1,         24,         24,2,20220630,       1843,    30.0008,  -135.8098,       4609,   540.2,2,   5.5829,2,  34.0493,2,  34.0460,2,     59.0,2,    58.8,2,   72.54,2,   37.87,2,    0.00,2,    2.72,2,   1.594,2,   0.919,2,   0.4728,2,  2282.4,2,  2294.2,2,   7.3520,2,    25.02,2, -999.00,1,  -999.0,1, -999.00,1, -999.00,1,       40.6,2, 20220630,     2017,  30.0008,-135.8098,     5.5895,2,     -999.0,9,     -999.0,9,     -999.0,9,     -999.0,9,     0.0134,1,     4.6908,1,     -999.0,9,     -999.0,9,     -999.0,9,     -999.0,9,     -999.0,9
33RR20220613,       P02E,     162,          1,         23,         23,2,20220630,       1843,    30.0008,  -135.8098,       4609,   640.8,2,   4.9867,2,  34.1559,2,  34.1593,2,     28.0,3,    28.7,2,   89.54,2,   41.16,2,    0.00,2,    2.98,2,   0.734,2,   0.407,2,   0.0000,2,  2316.8,2,  2315.1,2,   7.3099,2,    25.01,2, -999.00,1,  -999.0,1, -999.00,1, -999.00,1,       47.8,2, 20220630,     2014,  30.0008,-135.8098,     4.9905,2,     -999.0,9,     -999.0,9,     -999.0,9,     -999.0,9,     0.0134,1,     4.6909,1,     -999.0,9,     -999.0,9,     -999.0,9,     -999.0,9,     -999.0,9
33RR20220613,       P02E,     162,          1,         22,         22,2,20220630,       1843,    30.0008,  -135.8098,       4609,   742.2,2,   4.5493,2,  34.2616,2,  34.2621,2,     14.3,2,    14.4,2,  103.02,2,   42.75,2,    0.00,2,    3.12,2,   0.236,2,   0.135,2,   0.0000,2,  2339.4,2,  2338.8,2,   7.2981,2,    25.03,2, -999.00,1,  -999.0,1, -999.00,1, -999.00,1,       53.1,2, 20220630,     2010,  30.0008,-135.8098,     4.5485,2,     -999.0,9,     -999.0,9,     -999.0,9,     -999.0,9,     0.0133,1,     4.6911,1,     -999.0,9,     -999.0,9,     -999.0,9,     -999.0,9,     -999.0,9
33RR20220613,       P02E,     162,          1,         21,         21,2,20220630,       1843,    30.0008,  -135.8098,       4609,   843.4,2,   4.2107,2,  34.3468,2,  34.3403,2,     13.7,3,    13.1,2,  111.23,2,   43.36,2,    0.00,2,    3.15,2,   0.065,2,   0.043,2,   0.0000,2,  2351.0,2,  2349.9,2,   7.3075,2,    25.02,2, -999.00,1,  -999.0,1, -999.00,1, -999.00,1,       54.0,2, 20220630,     2008,  30.0008,-135.8098,     4.2152,2,     -999.0,9,     -999.0,9,     -999.0,9,     -999.0,9,     0.0134,1,     4.6910,1,     -999.0,9,     -999.0,9,     -999.0,9,     -999.0,9,     -999.0,9
33RR20220613,       P02E,     162,          1,         20,         20,2,20220630,       1843,    30.0008,  -135.8098,       4609,   944.3,2,   3.8954,2,  34.4146,2,  34.4125,2,     19.5,2,    19.3,2,  119.04,2,   43.53,2,    0.00,2,    3.14,2,   0.020,2,   0.016,2,   0.0000,2,  2358.3,2,  2365.2,2,   7.3271,2,    25.01,2, -999.00,1,  -999.0,1, -999.00,1, -999.00,1,       51.4,2, 20220630,     2006,  30.0008,-135.8098,     3.8994,2,     -999.0,9,     -999.0,9,     -999.0,9,     -999.0,9,     0.0134,1,     4.6920,1,     -999.0,9,     -999.0,9,     -999.0,9,     -999.0,9,     -999.0,9
33RR20220613,       P02E,     162,          1,         19,         39,2,20220630,       1843,    30.0008,  -135.8098,       4609,  1045.1,2,   3.6557,2,  34.4578,2,  34.4555,2,     27.4,2,    27.1,2,  124.12,2,   43.30,2,    0.00,2,    3.11,2,   0.012,2,   0.012,2,   0.0000,2,  2360.4,2,  2371.6,2,   7.3465,2,    25.01,2, -999.00,1,  -999.0,1, -999.00,1, -999.00,1,       48.3,2, 20220630,     2002,  30.0008,-135.8098,     3.6591,2,     -999.0,9,     -999.0,9,     -999.0,9,     -999.0,9,     0.0134,1,     4.6926,1,     -999.0,9,     -999.0,9,     -999.0,9,     -999.0,9,     -999.0,9
33RR20220613,       P02E,     162,          1,         18,         18,2,20220630,       1843,    30.0008,  -135.8098,       4609,  1147.4,2,   3.4372,2,  34.4879,2,  34.4860,2,     33.7,2,    33.8,2,  129.30,2,   43.08,2,    0.00,2,    3.08,2,   0.007,2,   0.006,2,   0.0000,2,  -999.0,9,  -999.0,9,-999.0000,9,  -999.00,9, -999.00,1,  -999.0,1, -999.00,1, -999.00,1,       46.1,2, 20220630,     2000,  30.0008,-135.8098,     3.4389,2,     -999.0,9,     -999.0,9,     -999.0,9,     -999.0,9,     0.0134,1,     4.6932,1,     -999.0,9,     -999.0,9,     -999.0,9,     -999.0,9,     -999.0,9
33RR20220613,       P02E,     162,          1,         17,         37,2,20220630,       1843,    30.0008,  -135.8098,       4609,  1247.2,2,   3.2112,2,  34.5162,2,  34.5162,2,     40.9,2,    40.7,2,  133.69,2,   42.79,2,    0.00,2,    3.06,2,   0.005,2,   0.006,2,   0.0000,2,  2362.4,2,  2387.2,2,   7.3758,2,    25.02,2, -999.00,1,  -999.0,1, -999.00,1, -999.00,1,       43.2,2, 20220630,     1957,  30.0008,-135.8098,     3.2104,2,     -999.0,9,     -999.0,9,     -999.0,9,     -999.0,9,     0.0133,1,     4.6934,1,     -999.0,9,     -999.0,9,     -999.0,9,     -999.0,9,     -999.0,9
33RR20220613,       P02E,     162,          1,         16,         16,2,20220630,       1843,    30.0008,  -135.8098,       4609,  1348.8,2,   3.0260,2,  34.5343,2,  34.5347,2,     46.3,2,    46.6,2,  138.87,2,   42.59,2,    0.00,2,    3.03,2,   0.004,2,   0.004,2,   0.0000,2,  2364.6,2,  2392.4,2,   7.3874,2,    25.01,2, -999.00,1,  -999.0,1, -999.00,1, -999.00,1,       41.4,2, 20220630,     1954,  30.0008,-135.8098,     3.0240,2,     -999.0,9,     -999.0,9,     -999.0,9,     -999.0,9,     0.0134,1,     4.6940,1,     -999.0,9,     -999.0,9,     -999.0,9,     -999.0,9,     -999.0,9
33RR20220613,       P02E,     162,          1,         15,         15,2,20220630,       1843,    30.0008,  -135.8098,       4609,  1450.9,2,   2.8275,2,  34.5516,3,  34.5616,2,     51.6,2,    51.9,2,  143.75,2,   42.24,2,    0.00,2,    3.01,2,   0.005,2,   0.000,2,   0.0000,2,  2367.2,2,  2398.1,2,   7.3978,2,    25.01,2, -999.00,1,  -999.0,1, -999.00,1, -999.00,1,       38.6,2, 20220630,     1951,  30.0008,-135.8098,     2.8268,2,     -999.0,9,     -999.0,9,     -999.0,9,     -999.0,9,     0.0134,1,     4.6946,1,     -999.0,9,     -999.0,9,     -999.0,9,     -999.0,9,     -999.0,9
33RR20220613,       P02E,     162,          1,         14,         42,2,20220630,       1843,    30.0008,  -135.8098,       4609,  1552.0,2,   2.6303,2,  34.5679,3,  34.5734,2,     57.2,2,    57.1,2,  148.15,2,   42.00,2,    0.00,2,    2.98,2,-999.000,9,-999.000,9,-999.0000,9,  -999.0,9,  -999.0,9,-999.0000,9,  -999.00,9, -999.00,1,  -999.0,1, -999.00,1, -999.00,1,     -999.0,9, 20220630,     1948,  30.0008,-135.8098,     2.6319,2,     -999.0,9,     -999.0,9,     -999.0,9,     -999.0,9,     0.0134,1,     4.6950,1,     -999.0,9,     -999.0,9,     -999.0,9,     -999.0,9,     -999.0,9
33RR20220613,       P02E,     162,          1,         13,         13,2,20220630,       1843,    30.0008,  -135.8098,       4609,  1683.9,2,   2.4446,2,  34.5834,2,  34.5881,2,     62.8,2,    62.8,2,  153.91,2,   41.63,2,    0.00,2,    2.94,2,   0.004,2,   0.000,2,   0.0000,2,  2368.9,2,  2407.1,2,   7.4175,2,    25.00,2, -999.00,1,  -999.0,1, -999.00,1, -999.00,1,       39.9,2, 20220630,     1945,  30.0008,-135.8098,     2.4465,2,     -999.0,9,     -999.0,9,     -999.0,9,     -999.0,9,     0.0134,1,     4.6955,1,     -999.0,9,     -999.0,9,     -999.0,9,     -999.0,9,     -999.0,9
33RR20220613,       P02E,     162,          1,         12,         12,2,20220630,       1843,    30.0008,  -135.8098,       4609,  1885.8,2,   2.1882,2,  34.6046,2,  34.6056,2,     72.0,2,    72.0,2,  161.34,2,   41.13,2,    0.00,2,    2.90,2,-999.000,9,-999.000,9,-999.0000,9,  -999.0,9,  -999.0,9,-999.0000,9,  -999.00,9, -999.00,1,  -999.0,1, -999.00,1, -999.00,1,     -999.0,9, 20220630,     1941,  30.0008,-135.8098,     2.1898,2,     -999.0,9,     -999.0,9,     -999.0,9,     -999.0,9,     0.0134,1,     4.6960,1,     -999.0,9,     -999.0,9,     -999.0,9,     -999.0,9,     -999.0,9
33RR20220613,       P02E,     162,          1,         11,         11,2,20220630,       1843,    30.0008,  -135.8098,       4609,  2111.0,2,   1.9684,2,  34.6234,3,  34.6264,2,     82.6,2,    82.6,2,  166.81,2,   40.48,2,    0.00,2,    2.84,2,   0.003,2,   0.003,2,   0.0000,2,  2367.9,2,  2420.4,2,   7.4569,2,    25.01,2, -999.00,1,  -999.0,1, -999.00,1, -999.00,1,       30.4,2, 20220630,     1936,  30.0008,-135.8098,     1.9682,2,     -999.0,9,     -999.0,9,     -999.0,9,     -999.0,9,     0.0124,1,     4.6971,1,     -999.0,9,     -999.0,9,     -999.0,9,     -999.0,9,     -999.0,9
33RR20220613,       P02E,     162,          1,         10,         10,2,20220630,       1843,    30.0008,  -135.8098,       4609,  2364.6,2,   1.7936,2,  34.6398,2,  34.6384,2,     93.6,2,    93.9,2,  170.72,2,   39.79,2,    0.00,2,    2.78,2,-999.000,9,-999.000,9,-999.0000,9,  -999.0,9,  -999.0,9,-999.0000,9,  -999.00,9, -999.00,9,  -999.0,9, -999.00,1, -999.00,1,     -999.0,9, 20220630,     1931,  30.0008,-135.8099,     1.7936,2,     -999.0,9,     -999.0,9,     -999.0,9,     -999.0,9,     0.0134,1,     4.6972,1,     -999.0,9,     -999.0,9,     -999.0,9,     -999.0,9,     -999.0,9
33RR20220613,       P02E,     162,          1,          9,          9,2,20220630,       1843,    30.0008,  -135.8098,       4609,  2618.6,2,   1.6804,2,  34.6516,2,  34.6508,2,    103.7,2,   103.8,2,  171.59,2,   39.19,2,    0.00,2,    2.73,2,   0.003,2,   0.003,2,   0.0000,2,  2359.3,2,  2426.9,2,   7.4959,2,    25.01,2, -999.00,9,  -999.0,9, -999.00,1, -999.00,1,       27.5,2, 20220630,     1925,  30.0008,-135.8098,     1.6806,2,     -999.0,9,     -999.0,9,     -999.0,9,     -999.0,9,     0.0124,1,     4.6981,1,     -999.0,9,     -999.0,9,     -999.0,9,     -999.0,9,     -999.0,9
33RR20220613,       P02E,     162,          1,          8,          8,2,20220630,       1843,    30.0008,  -135.8098,       4609,  2874.3,2,   1.5959,2,  34.6613,3,  34.6643,2,    113.9,2,   114.0,2,  170.81,2,   38.50,2,    0.00,2,    2.67,2,-999.000,9,-999.000,9,-999.0000,9,  -999.0,9,  -999.0,9,-999.0000,9,  -999.00,9, -999.00,1,  -999.0,1, -999.00,1, -999.00,1,     -999.0,9, 20220630,     1920,  30.0008,-135.8098,     1.5961,2,     -999.0,9,     -999.0,9,     -999.0,9,     -999.0,9,     0.0125,1,     4.6983,1,     -999.0,9,     -999.0,9,     -999.0,9,     -999.0,9,     -999.0,9
33RR20220613,       P02E,     162,          1,          7,          7,2,20220630,       1843,    30.0008,  -135.8098,       4609,  3145.0,2,   1.5337,2,  34.6696,3,  34.6675,2,    123.7,2,   123.8,2,  167.88,2,   37.88,2,    0.00,2,    2.62,2,   0.004,2,   0.004,2,   0.0000,2,  2349.3,2,  2428.2,6,   7.5328,2,    25.02,2, -999.00,9,  -999.0,9, -999.00,1, -999.00,1,       25.2,2, 20220630,     1915,  30.0008,-135.8098,     1.5337,2,     -999.0,9,     -999.0,9,     -999.0,9,     -999.0,9,     0.0131,1,     4.6991,1,     -999.0,9,     -999.0,9,     -999.0,9,     -999.0,9,     -999.0,9
33RR20220613,       P02E,     162,          1,          6,          6,2,20220630,       1843,    30.0008,  -135.8098,       4609,  3450.8,2,   1.4987,2,  34.6765,3,  34.6743,2,    132.8,2,   132.5,2,  165.92,2,   37.39,2,    0.00,2,    2.57,2,   0.004,2,   0.004,2,   0.0000,2,  -999.0,9,  -999.0,9,-999.0000,9,  -999.00,9, -999.00,9,  -999.0,9, -999.00,1, -999.00,1,       22.8,2, 20220630,     1908,  30.0008,-135.8099,     1.4989,2,     -999.0,9,     -999.0,9,     -999.0,9,     -999.0,9,     0.0122,1,     4.6995,1,     -999.0,9,     -999.0,9,     -999.0,9,     -999.0,9,     -999.0,9
33RR20220613,       P02E,     162,          1,          5,          5,2,20220630,       1843,    30.0008,  -135.8098,       4609,  3759.1,2,   1.4961,2,  34.6800,2,  34.6785,2,    137.4,2,   137.2,2,  164.85,2,   37.15,2,    0.00,2,    2.54,2,   0.004,2,   0.004,2,   0.0000,2,  -999.0,9,  -999.0,9,-999.0000,9,  -999.00,9, -999.00,1,  -999.0,1, -999.00,1, -999.00,1,       22.5,2, 20220630,     1901,  30.0008,-135.8099,     1.4960,2,     -999.0,9,     -999.0,9,     -999.0,9,     -999.0,9,     0.0121,1,     4.6996,1,     -999.0,9,     -999.0,9,     -999.0,9,     -999.0,9,     -999.0,9