BOTTLE,20230830CCHSIOCBG
EXPOCODE,SECT_ID,STNNBR,CASTNO,SAMPNO,BTLNBR,BTLNBR_FLAG_W,DATE,TIME,LATITUDE,LONGITUDE,DEPTH,CTDPRS,CTDPRS_FLAG_W,CTDTMP,CTDTMP_FLAG_W,CTDSAL,CTDSAL_FLAG_W,SALNTY,SALNTY_FLAG_W,CTDOXY,CTDOXY_FLAG_W,OXYGEN,OXYGEN_FLAG_W,SILCAT,SILCAT_FLAG_W,NITRAT,NITRAT_FLAG_W,NITRIT,NITRIT_FLAG_W,PHSPHT,PHSPHT_FLAG_W,CFC-11,CFC-11_FLAG_W,CFC-12,CFC-12_FLAG_W,SF6,SF6_FLAG_W,TCARBN,TCARBN_FLAG_W,ALKALI,ALKALI_FLAG_W,PH_TOT,PH_TOT_FLAG_W,PH_TMP,PH_TMP_FLAG_W,DELC13,DELC13_FLAG_W,DELC14,DELC14_FLAG_W,DOC,DOC_FLAG_W,TDN,TDN_FLAG_W,N2O,N2O_FLAG_W,BTL_DATE,BTL_TIME,BTL_LAT,BTL_LON,REFTMP,REFTMP_FLAG_W,POC,POC_FLAG_W,PON,PON_FLAG_W,POP,POP_FLAG_W,PCOD,PCOD_FLAG_W,CTDFLUOR,CTDFLUOR_FLAG_W,CTDXMISS,CTDXMISS_FLAG_W,HPLC,HPLC_FLAG_W,DNA,DNA_FLAG_W,FCM,FCM_FLAG_W,IMAGES,IMAGES_FLAG_W,VIRAL_ABUNDANCE,VIRAL_ABUNDANCE_FLAG_W
,,,,,,,,,,,METERS,DBAR,,ITS-90,,PSS-78,,PSS-78,,UMOL/KG,,UMOL/KG,,UMOL/KG,,UMOL/KG,,UMOL/KG,,UMOL/KG,,PMOL/KG,,PMOL/KG,,FMOL/KG,,UMOL/KG,,UMOL/KG,,,,DEG C,,/MILLE,,/MILLE,,UMOL/KG,,UMOL/KG,,NMOL/KG,,,,,,ITS-90,,UG/L,,UG/L,,UG/L,,UG/L,,VOLTS,,VOLTS,,,,,,,,,,,
33RR20220613,       P02E,     165,          1,         36,         36,2,20220701,       1531,    30.0007,  -134.0758,       4580,     5.8,2,  20.4293,2,  33.6148,2,  33.6054,2,    231.4,2,   231.6,2,    1.56,2,    0.00,2,    0.00,2,    0.22,2,   1.985,6,   1.235,6,   2.1209,6,  2016.8,6,  2244.1,2,   7.9287,2,    25.00,2, -999.00,9,  -999.0,9, -999.00,9, -999.00,9,        7.7,6, 20220701,     1728,  30.0007,-134.0758,    20.4244,2,     -999.0,9,     -999.0,9,     -999.0,9,     -999.0,9,     0.0134,1,     4.6384,1,     -999.0,9,     -999.0,9,     -999.0,9,     -999.0,9,     -999.0,9
33RR20220613,       P02E,     165,          1,         35,         35,2,20220701,       1531,    30.0007,  -134.0758,       4580,    36.1,2,  18.7423,2,  33.5112,2,  33.5080,2,    246.6,2,   246.2,2,    1.47,2,    0.00,2,    0.00,2,    0.22,2,   2.208,2,   1.352,2,   2.2784,2,  2012.8,2,  2235.0,2,   7.9246,2,    25.00,2, -999.00,9,  -999.0,9, -999.00,9, -999.00,9,        8.1,2, 20220701,     1726,  30.0007,-134.0758,    18.7529,2,     -999.0,9,     -999.0,9,     -999.0,9,     -999.0,9,     0.0134,1,     4.6373,1,     -999.0,9,     -999.0,9,     -999.0,9,     -999.0,9,     -999.0,9
33RR20220613,       P02E,     165,          1,         34,         34,2,20220701,       1531,    30.0007,  -134.0758,       4580,    60.9,2,  17.5605,2,  33.5869,2,  33.5778,2,    251.5,2,   250.9,2,    1.56,2,    0.00,2,    0.00,2,    0.21,2,   2.284,2,   1.392,2,   2.2156,2,  2012.1,2,  2238.3,2,   7.9268,2,    25.00,2, -999.00,9,  -999.0,9, -999.00,9, -999.00,9,        8.3,2, 20220701,     1724,  30.0007,-134.0758,    17.5553,2,     -999.0,9,     -999.0,9,     -999.0,9,     -999.0,9,     0.0158,1,     4.6404,1,     -999.0,9,     -999.0,9,     -999.0,9,     -999.0,9,     -999.0,9
33RR20220613,       P02E,     165,          1,         33,         33,2,20220701,       1531,    30.0007,  -134.0758,       4580,    86.7,2,  16.9750,2,  33.5930,2,  33.6076,2,    249.5,2,   248.5,2,    1.76,2,    0.00,2,    0.00,2,    0.20,2,-999.000,9,-999.000,9,-999.0000,9,  2015.0,2,  2239.8,2,   7.9224,2,    25.01,2, -999.00,9,  -999.0,9, -999.00,9, -999.00,9,     -999.0,9, 20220701,     1722,  30.0007,-134.0757,    16.9743,2,     -999.0,9,     -999.0,9,     -999.0,9,     -999.0,9,     0.0183,1,     4.6455,1,     -999.0,9,     -999.0,9,     -999.0,9,     -999.0,9,     -999.0,9
33RR20220613,       P02E,     165,          1,         32,         32,2,20220701,       1531,    30.0007,  -134.0758,       4580,   111.6,2,  17.1057,2,  33.7763,2,  33.7594,2,    245.1,2,   245.2,2,    1.86,2,    0.00,2,    0.00,2,    0.18,2,   2.266,2,   1.390,2,   2.2029,2,  2017.2,2,  2244.8,2,   7.9244,2,    25.01,2, -999.00,9,  -999.0,9, -999.00,9, -999.00,9,        8.4,2, 20220701,     1721,  30.0007,-134.0757,    17.1027,2,     -999.0,9,     -999.0,9,     -999.0,9,     -999.0,9,     0.0195,1,     4.6505,1,     -999.0,9,     -999.0,9,     -999.0,9,     -999.0,9,     -999.0,9
33RR20220613,       P02E,     165,          1,         31,         31,2,20220701,       1531,    30.0007,  -134.0758,       4580,   137.3,2,  16.5480,2,  33.9090,2,  33.9105,2,    237.8,2,   239.0,2,    2.25,2,    0.06,2,    0.03,2,    0.17,2,-999.000,9,-999.000,9,-999.0000,9,  2027.0,2,  2248.0,2,   7.9092,2,    25.01,2, -999.00,9,  -999.0,9, -999.00,9, -999.00,9,     -999.0,9, 20220701,     1719,  30.0007,-134.0757,    16.5736,2,     -999.0,9,     -999.0,9,     -999.0,9,     -999.0,9,     0.0232,1,     4.6630,1,     -999.0,9,     -999.0,9,     -999.0,9,     -999.0,9,     -999.0,9
33RR20220613,       P02E,     165,          1,         30,         17,2,20220701,       1531,    30.0007,  -134.0758,       4580,   166.8,2,  13.4874,2,  33.4523,2,  33.4535,2,    231.8,2,   232.7,2,    3.72,2,    3.40,2,    0.00,2,    0.49,2,   2.633,2,   1.614,2,   2.3697,2,  2042.5,2,  2221.8,6,   7.8289,2,    25.01,2, -999.00,9,  -999.0,9, -999.00,9, -999.00,9,       11.8,2, 20220701,     1718,  30.0007,-134.0758,    13.4781,2,     -999.0,9,     -999.0,9,     -999.0,9,     -999.0,9,     0.0215,1,     4.6753,1,     -999.0,9,     -999.0,9,     -999.0,9,     -999.0,9,     -999.0,9
33RR20220613,       P02E,     165,          1,         29,         29,2,20220701,       1531,    30.0007,  -134.0758,       4580,   216.3,2,  10.3509,2,  33.6917,2,  33.6866,2,    199.8,2,   200.0,2,   13.29,2,   13.94,2,    0.00,2,    1.10,2,-999.000,9,-999.000,9,-999.0000,9,  2107.6,2,  2230.8,2,   7.6905,2,    25.01,2, -999.00,9,  -999.0,9, -999.00,9, -999.00,9,     -999.0,9, 20220701,     1716,  30.0007,-134.0758,    10.3411,2,     -999.0,9,     -999.0,9,     -999.0,9,     -999.0,9,     0.0134,1,     4.6874,1,     -999.0,9,     -999.0,9,     -999.0,9,     -999.0,9,     -999.0,9
33RR20220613,       P02E,     165,          1,         28,         28,2,20220701,       1531,    30.0007,  -134.0758,       4580,   267.4,2,   9.1433,2,  33.9659,2,  33.9563,2,    189.2,2,   188.2,2,   22.19,2,   18.76,2,    0.00,2,    1.36,2,   3.032,2,   1.836,2,   1.9888,2,  2140.3,2,  2253.3,2,   7.6515,2,    25.01,2, -999.00,9,  -999.0,9, -999.00,9, -999.00,9,       20.4,2, 20220701,     1714,  30.0007,-134.0757,     9.1583,2,     -999.0,9,     -999.0,9,     -999.0,9,     -999.0,9,     0.0122,1,     4.6907,1,     -999.0,9,     -999.0,9,     -999.0,9,     -999.0,9,     -999.0,9
33RR20220613,       P02E,     165,          1,         27,         27,2,20220701,       1531,    30.0007,  -134.0758,       4580,   317.1,2,   8.2583,2,  33.9920,2,  33.9916,2,    148.6,3,   145.5,2,   34.01,2,   25.01,2,    0.00,2,    1.80,2,-999.000,9,-999.000,9,-999.0000,9,  2184.4,2,  2262.1,2,   7.5517,2,    25.01,2, -999.00,9,  -999.0,9, -999.00,9, -999.00,9,     -999.0,9, 20220701,     1712,  30.0007,-134.0757,     8.2545,2,     -999.0,9,     -999.0,9,     -999.0,9,     -999.0,9,     0.0123,1,     4.6910,1,     -999.0,9,     -999.0,9,     -999.0,9,     -999.0,9,     -999.0,9
33RR20220613,       P02E,     165,          1,         26,         26,2,20220701,       1531,    30.0007,  -134.0758,       4580,   368.7,2,   7.3691,2,  34.0103,2,  34.0068,2,    108.3,2,   107.8,2,   45.15,2,   30.12,2,    0.00,2,    2.17,2,   2.513,2,   1.488,2,   0.9716,2,  -999.0,9,  -999.0,9,-999.0000,9,  -999.00,9, -999.00,9,  -999.0,9, -999.00,9, -999.00,9,       33.1,2, 20220701,     1710,  30.0007,-134.0757,     7.3697,2,     -999.0,9,     -999.0,9,     -999.0,9,     -999.0,9,     0.0134,1,     4.6909,1,     -999.0,9,     -999.0,9,     -999.0,9,     -999.0,9,     -999.0,9
33RR20220613,       P02E,     165,          1,         25,         25,2,20220701,       1531,    30.0007,  -134.0758,       4580,   418.6,2,   6.5876,2,  34.0173,2,  34.0139,2,     89.6,2,    90.0,2,   55.51,2,   33.37,2,    0.00,2,    2.39,2,   2.204,2,   1.286,2,   0.7771,2,  2243.7,2,  2280.5,2,   7.4218,2,    25.00,2, -999.00,9,  -999.0,9, -999.00,9, -999.00,9,       35.7,2, 20220701,     1708,  30.0007,-134.0758,     6.5852,2,     -999.0,9,     -999.0,9,     -999.0,9,     -999.0,9,     0.0134,1,     4.6923,1,     -999.0,9,     -999.0,9,     -999.0,9,     -999.0,9,     -999.0,9
33RR20220613,       P02E,     165,          1,         24,         24,2,20220701,       1531,    30.0007,  -134.0758,       4580,   469.3,2,   6.0531,2,  34.0453,2,  34.0468,2,     64.2,2,    64.4,2,   64.11,2,   36.39,2,    0.00,2,    2.63,2,   1.794,2,   1.037,2,   0.6055,2,  -999.0,9,  -999.0,9,-999.0000,9,  -999.00,9, -999.00,9,  -999.0,9, -999.00,9, -999.00,9,       40.5,2, 20220701,     1706,  30.0007,-134.0757,     6.0565,2,     -999.0,9,     -999.0,9,     -999.0,9,     -999.0,9,     0.0134,1,     4.6922,1,     -999.0,9,     -999.0,9,     -999.0,9,     -999.0,9,     -999.0,9
33RR20220613,       P02E,     165,          1,         23,         23,2,20220701,       1531,    30.0007,  -134.0758,       4580,   538.8,2,   5.5139,2,  34.0887,2,  34.0866,2,     44.7,3,    45.6,2,   75.64,2,   38.85,2,    0.00,2,    2.81,2,   1.292,2,   0.730,2,   0.3908,2,  2292.6,2,  2302.6,2,   7.3335,2,    25.00,2, -999.00,9,  -999.0,9, -999.00,9, -999.00,9,       44.1,2, 20220701,     1704,  30.0007,-134.0757,     5.5147,2,     -999.0,9,     -999.0,9,     -999.0,9,     -999.0,9,     0.0134,1,     4.6932,1,     -999.0,9,     -999.0,9,     -999.0,9,     -999.0,9,     -999.0,9
33RR20220613,       P02E,     165,          1,         22,         22,2,20220701,       1531,    30.0007,  -134.0758,       4580,   640.7,2,   4.9945,2,  34.1703,2,  34.1693,2,     24.7,2,    24.8,2,   88.83,2,   41.29,2,    0.00,2,    3.01,2,   0.669,2,   0.366,2,   0.2188,2,  2319.5,2,  2317.3,2,   7.3043,2,    25.00,2, -999.00,9,  -999.0,9, -999.00,9, -999.00,9,       49.9,2, 20220701,     1701,  30.0007,-134.0757,     4.9936,2,     -999.0,9,     -999.0,9,     -999.0,9,     -999.0,9,     0.0134,1,     4.6937,1,     -999.0,9,     -999.0,9,     -999.0,9,     -999.0,9,     -999.0,9
33RR20220613,       P02E,     165,          1,         21,         21,2,20220701,       1531,    30.0007,  -134.0758,       4580,   742.0,2,   4.5392,2,  34.2837,2,  34.2846,2,     13.8,3,    13.5,2,  101.82,2,   42.75,2,    0.00,2,    3.12,2,   0.167,2,   0.100,2,   0.1145,2,  2341.6,2,  2340.8,2,   7.3088,2,    25.00,2, -999.00,9,  -999.0,9, -999.00,9, -999.00,9,       53.9,2, 20220701,     1658,  30.0007,-134.0758,     4.5377,2,     -999.0,9,     -999.0,9,     -999.0,9,     -999.0,9,     0.0134,1,     4.6937,1,     -999.0,9,     -999.0,9,     -999.0,9,     -999.0,9,     -999.0,9
33RR20220613,       P02E,     165,          1,         20,         20,2,20220701,       1531,    30.0007,  -134.0758,       4580,   843.3,2,   4.1836,2,  34.3606,2,  34.3578,2,     15.3,3,    14.9,2,  110.90,2,   43.23,2,    0.00,2,    3.16,2,   0.050,2,   0.033,2,   0.0000,2,  2352.3,2,  2353.6,2,   7.3135,2,    25.01,2, -999.00,9,  -999.0,9, -999.00,9, -999.00,9,       57.6,2, 20220701,     1654,  30.0007,-134.0757,     4.1858,2,     -999.0,9,     -999.0,9,     -999.0,9,     -999.0,9,     0.0134,1,     4.6950,1,     -999.0,9,     -999.0,9,     -999.0,9,     -999.0,9,     -999.0,9
33RR20220613,       P02E,     165,          1,         19,         39,2,20220701,       1531,    30.0007,  -134.0758,       4580,   944.4,2,   3.8969,2,  34.4219,2,  34.4188,2,     22.1,3,    21.8,2,  117.44,2,   43.30,2,    0.00,2,    3.14,2,   0.019,2,   0.015,2,   0.0000,2,  2356.8,2,  2366.6,2,   7.3338,2,    25.02,2, -999.00,9,  -999.0,9, -999.00,9, -999.00,9,       51.6,2, 20220701,     1653,  30.0007,-134.0758,     3.8975,2,     -999.0,9,     -999.0,9,     -999.0,9,     -999.0,9,     0.0134,1,     4.6952,1,     -999.0,9,     -999.0,9,     -999.0,9,     -999.0,9,     -999.0,9
33RR20220613,       P02E,     165,          1,         18,         18,2,20220701,       1531,    30.0007,  -134.0758,       4580,  1044.6,2,   3.7004,2,  34.4719,2,  34.4726,2,     30.7,2,    30.5,2,  121.24,2,   43.03,2,    0.00,2,    3.12,2,   0.010,2,   0.008,2,   0.0000,2,  -999.0,9,  -999.0,9,-999.0000,9,  -999.00,9, -999.00,9,  -999.0,9, -999.00,9, -999.00,9,       47.3,2, 20220701,     1650,  30.0007,-134.0757,     3.6974,2,     -999.0,9,     -999.0,9,     -999.0,9,     -999.0,9,     0.0134,1,     4.6959,1,     -999.0,9,     -999.0,9,     -999.0,9,     -999.0,9,     -999.0,9
33RR20220613,       P02E,     165,          1,         17,         37,2,20220701,       1531,    30.0007,  -134.0758,       4580,  1146.1,2,   3.4612,2,  34.5032,2,  34.5017,2,     37.4,2,    37.6,2,  126.32,2,   42.91,2,    0.00,2,    3.08,2,   0.007,2,   0.006,2,   0.0000,2,  2361.9,2,  2384.6,2,   7.3708,2,    25.00,2, -999.00,9,  -999.0,9, -999.00,9, -999.00,9,       48.1,2, 20220701,     1646,  30.0007,-134.0758,     3.4614,2,     -999.0,9,     -999.0,9,     -999.0,9,     -999.0,9,     0.0134,1,     4.6961,1,     -999.0,9,     -999.0,9,     -999.0,9,     -999.0,9,     -999.0,9
33RR20220613,       P02E,     165,          1,         16,         16,2,20220701,       1531,    30.0007,  -134.0758,       4580,  1247.2,2,   3.2365,2,  34.5251,2,  34.5229,2,     43.4,2,    43.6,2,  130.62,2,   42.63,2,    0.00,2,    3.07,2,   0.005,2,   0.005,2,   0.0000,2,  -999.0,9,  -999.0,9,-999.0000,9,  -999.00,9, -999.00,9,  -999.0,9, -999.00,9, -999.00,9,       42.3,2, 20220701,     1644,  30.0007,-134.0757,     3.2346,2,     -999.0,9,     -999.0,9,     -999.0,9,     -999.0,9,     0.0134,1,     4.6970,1,     -999.0,9,     -999.0,9,     -999.0,9,     -999.0,9,     -999.0,9
33RR20220613,       P02E,     165,          1,         15,         15,2,20220701,       1531,    30.0007,  -134.0758,       4580,  1349.1,2,   3.0278,2,  34.5382,2,  34.5366,2,     47.4,2,    47.6,2,  136.28,2,   42.31,2,    0.00,2,    3.03,2,   0.008,2,   0.010,2,   0.0000,2,  2366.5,2,  2394.4,2,   7.3898,2,    25.00,2, -999.00,9,  -999.0,9, -999.00,9, -999.00,9,       42.2,2, 20220701,     1641,  30.0007,-134.0757,     3.0276,2,     -999.0,9,     -999.0,9,     -999.0,9,     -999.0,9,     0.0134,1,     4.6971,1,     -999.0,9,     -999.0,9,     -999.0,9,     -999.0,9,     -999.0,9
33RR20220613,       P02E,     165,          1,         14,         42,2,20220701,       1531,    30.0007,  -134.0758,       4580,  1450.8,2,   2.8290,2,  34.5565,2,  34.5557,2,     52.3,2,    52.4,2,  142.04,2,   42.20,2,    0.00,2,    3.00,2,-999.000,9,-999.000,9,-999.0000,9,  -999.0,9,  -999.0,9,-999.0000,9,  -999.00,9, -999.00,9,  -999.0,9, -999.00,9, -999.00,9,     -999.0,9, 20220701,     1638,  30.0007,-134.0758,     2.8290,2,     -999.0,9,     -999.0,9,     -999.0,9,     -999.0,9,     0.0134,1,     4.6982,1,     -999.0,9,     -999.0,9,     -999.0,9,     -999.0,9,     -999.0,9
33RR20220613,       P02E,     165,          1,         13,         13,2,20220701,       1531,    30.0007,  -134.0758,       4580,  1551.7,2,   2.6770,2,  34.5685,2,  34.5669,2,     56.2,2,    56.0,2,  145.36,2,   41.90,2,    0.00,2,    2.99,2,   0.003,2,   0.004,2,   0.0000,2,  2370.5,3,  2405.1,2,   7.4070,2,    25.01,2, -999.00,9,  -999.0,9, -999.00,9, -999.00,9,       38.8,2, 20220701,     1636,  30.0007,-134.0757,     2.6792,2,     -999.0,9,     -999.0,9,     -999.0,9,     -999.0,9,     0.0133,1,     4.6981,1,     -999.0,9,     -999.0,9,     -999.0,9,     -999.0,9,     -999.0,9
33RR20220613,       P02E,     165,          1,         12,         12,2,20220701,       1531,    30.0007,  -134.0758,       4580,  1683.3,2,   2.4956,2,  34.5830,2,  34.5812,2,     62.1,2,    62.0,2,  150.64,2,   41.57,2,    0.00,2,    2.96,2,-999.000,9,-999.000,9,-999.0000,9,  -999.0,9,  -999.0,9,-999.0000,9,  -999.00,9, -999.00,9,  -999.0,9, -999.00,9, -999.00,9,     -999.0,9, 20220701,     1632,  30.0007,-134.0757,     2.4923,2,     -999.0,9,     -999.0,9,     -999.0,9,     -999.0,9,     0.0134,1,     4.6988,1,     -999.0,9,     -999.0,9,     -999.0,9,     -999.0,9,     -999.0,9
33RR20220613,       P02E,     165,          1,         11,         11,2,20220701,       1531,    30.0007,  -134.0758,       4580,  1886.7,2,   2.2210,2,  34.6036,3,  34.6134,2,     71.8,2,    72.2,2,  156.69,2,   41.05,2,    0.00,2,    2.90,2,   0.002,2,   0.002,2,   0.0000,2,  2372.0,2,  2414.7,2,   7.4358,2,    25.01,2, -999.00,9,  -999.0,9, -999.00,9, -999.00,9,       33.8,2, 20220701,     1628,  30.0007,-134.0758,     2.2211,2,     -999.0,9,     -999.0,9,     -999.0,9,     -999.0,9,     0.0133,1,     4.6996,1,     -999.0,9,     -999.0,9,     -999.0,9,     -999.0,9,     -999.0,9
33RR20220613,       P02E,     165,          1,         10,         10,2,20220701,       1531,    30.0007,  -134.0758,       4580,  2111.5,2,   1.9805,2,  34.6243,2,  34.6225,2,     83.3,2,    83.3,2,  163.14,2,   40.32,2,    0.00,2,    2.84,2,-999.000,9,-999.000,9,-999.0000,9,  -999.0,9,  -999.0,9,-999.0000,9,  -999.00,9, -999.00,9,  -999.0,9, -999.00,9, -999.00,9,     -999.0,9, 20220701,     1623,  30.0007,-134.0758,     1.9807,2,     -999.0,9,     -999.0,9,     -999.0,9,     -999.0,9,     0.0134,1,     4.6997,1,     -999.0,9,     -999.0,9,     -999.0,9,     -999.0,9,     -999.0,9
33RR20220613,       P02E,     165,          1,          9,          9,2,20220701,       1531,    30.0007,  -134.0758,       4580,  2366.3,2,   1.8187,2,  34.6396,2,  34.6392,2,     94.0,2,    94.1,2,  166.75,2,   39.62,2,    0.00,2,    2.79,2,   0.006,2,   0.006,2,   0.0000,2,  2364.6,2,  2424.7,2,   7.4791,2,    24.99,2, -999.00,9,  -999.0,9, -999.00,9, -999.00,9,       29.1,2, 20220701,     1617,  30.0007,-134.0757,     1.8201,2,     -999.0,9,     -999.0,9,     -999.0,9,     -999.0,9,     0.0127,1,     4.7010,1,     -999.0,9,     -999.0,9,     -999.0,9,     -999.0,9,     -999.0,9
33RR20220613,       P02E,     165,          1,          8,          8,2,20220701,       1531,    30.0007,  -134.0758,       4580,  2619.9,2,   1.6856,2,  34.6536,2,  34.6517,2,    104.9,2,   104.8,2,  169.09,2,   39.17,2,    0.00,2,    2.74,2,-999.000,9,-999.000,9,-999.0000,9,  -999.0,9,  -999.0,9,-999.0000,9,  -999.00,9, -999.00,9,  -999.0,9, -999.00,9, -999.00,9,     -999.0,9, 20220701,     1613,  30.0007,-134.0757,     1.6860,2,     -999.0,9,     -999.0,9,     -999.0,9,     -999.0,9,     0.0126,1,     4.7016,1,     -999.0,9,     -999.0,9,     -999.0,9,     -999.0,9,     -999.0,9
33RR20220613,       P02E,     165,          1,          7,          7,2,20220701,       1531,    30.0007,  -134.0758,       4580,  2874.7,2,   1.6039,2,  34.6621,2,  34.6610,2,    113.2,2,   113.4,2,  169.58,2,   38.58,2,    0.00,2,    2.70,2,   0.005,2,   0.008,2,   0.0000,2,  2356.7,2,  2428.5,2,   7.5161,2,    25.01,2, -999.00,9,  -999.0,9, -999.00,9, -999.00,9,       26.9,2, 20220701,     1608,  30.0007,-134.0757,     1.6031,2,     -999.0,9,     -999.0,9,     -999.0,9,     -999.0,9,     0.0131,1,     4.7019,1,     -999.0,9,     -999.0,9,     -999.0,9,     -999.0,9,     -999.0,9
33RR20220613,       P02E,     165,          1,          6,          6,2,20220701,       1531,    30.0007,  -134.0758,       4580,  3144.8,2,   1.5338,2,  34.6701,2,  34.6702,2,    122.2,2,   122.4,2,  168.70,2,   38.03,2,    0.00,2,    2.64,2,   0.006,2,   0.006,2,   0.0000,2,  -999.0,9,  -999.0,9,-999.0000,9,  -999.00,9, -999.00,9,  -999.0,9, -999.00,9, -999.00,9,       26.1,2, 20220701,     1601,  30.0007,-134.0757,     1.5339,2,     -999.0,9,     -999.0,9,     -999.0,9,     -999.0,9,     0.0129,1,     4.7020,1,     -999.0,9,     -999.0,9,     -999.0,9,     -999.0,9,     -999.0,9
33RR20220613,       P02E,     165,          1,          5,          5,2,20220701,       1531,    30.0007,  -134.0758,       4580,  3452.1,2,   1.4849,2,  34.6776,3,  34.6830,2,    132.4,2,   132.3,2,  166.45,2,   37.40,2,    0.00,2,    2.58,2,   0.006,2,   0.005,2,   0.0000,2,  2343.6,2,  2430.8,2,   7.5511,2,    25.00,2, -999.00,9,  -999.0,9, -999.00,9, -999.00,9,       23.4,2, 20220701,     1556,  30.0007,-134.0758,     1.4848,2,     -999.0,9,     -999.0,9,     -999.0,9,     -999.0,9,     0.0133,1,     4.7028,1,     -999.0,9,     -999.0,9,     -999.0,9,     -999.0,9,     -999.0,9