BOTTLE,20230830CCHSIOCBG
EXPOCODE,SECT_ID,STNNBR,CASTNO,SAMPNO,BTLNBR,BTLNBR_FLAG_W,DATE,TIME,LATITUDE,LONGITUDE,DEPTH,CTDPRS,CTDPRS_FLAG_W,CTDTMP,CTDTMP_FLAG_W,CTDSAL,CTDSAL_FLAG_W,SALNTY,SALNTY_FLAG_W,CTDOXY,CTDOXY_FLAG_W,OXYGEN,OXYGEN_FLAG_W,SILCAT,SILCAT_FLAG_W,NITRAT,NITRAT_FLAG_W,NITRIT,NITRIT_FLAG_W,PHSPHT,PHSPHT_FLAG_W,CFC-11,CFC-11_FLAG_W,CFC-12,CFC-12_FLAG_W,SF6,SF6_FLAG_W,TCARBN,TCARBN_FLAG_W,ALKALI,ALKALI_FLAG_W,PH_TOT,PH_TOT_FLAG_W,PH_TMP,PH_TMP_FLAG_W,DELC13,DELC13_FLAG_W,DELC14,DELC14_FLAG_W,DOC,DOC_FLAG_W,TDN,TDN_FLAG_W,N2O,N2O_FLAG_W,BTL_DATE,BTL_TIME,BTL_LAT,BTL_LON,REFTMP,REFTMP_FLAG_W,POC,POC_FLAG_W,PON,PON_FLAG_W,POP,POP_FLAG_W,PCOD,PCOD_FLAG_W,CTDFLUOR,CTDFLUOR_FLAG_W,CTDXMISS,CTDXMISS_FLAG_W,HPLC,HPLC_FLAG_W,DNA,DNA_FLAG_W,FCM,FCM_FLAG_W,IMAGES,IMAGES_FLAG_W,VIRAL_ABUNDANCE,VIRAL_ABUNDANCE_FLAG_W
,,,,,,,,,,,METERS,DBAR,,ITS-90,,PSS-78,,PSS-78,,UMOL/KG,,UMOL/KG,,UMOL/KG,,UMOL/KG,,UMOL/KG,,UMOL/KG,,PMOL/KG,,PMOL/KG,,FMOL/KG,,UMOL/KG,,UMOL/KG,,,,DEG C,,/MILLE,,/MILLE,,UMOL/KG,,UMOL/KG,,NMOL/KG,,,,,,ITS-90,,UG/L,,UG/L,,UG/L,,UG/L,,VOLTS,,VOLTS,,,,,,,,,,,
33RR20220613,       P02E,     190,          2,         36,         36,2,20220714,       0307,    31.5028,  -120.2878,       3930,     3.7,2,  18.2430,2,  33.3579,2,  33.3623,2,    241.1,2,   241.1,2,    0.00,2,   -0.01,2,    0.01,2,    0.29,2,   2.171,2,   1.336,2,   2.3875,2,  2018.9,6,  2233.2,2,-999.0000,1,  -999.00,1, -999.00,9,  -999.0,9, -999.00,1, -999.00,1,        8.1,2, 20220714,      508,  31.5028,-120.2878,    18.2439,2,     -999.0,9,     -999.0,9,     -999.0,9,     -999.0,9,     0.0212,1,     4.5773,1,     -999.0,9,     -999.0,9,     -999.0,9,     -999.0,9,     -999.0,9
33RR20220613,       P02E,     190,          2,         35,         35,2,20220714,       0307,    31.5028,  -120.2878,       3930,    21.0,2,  18.1084,2,  33.3666,2,  33.3709,2,    241.6,2,   241.7,2,   -0.10,2,   -0.03,2,    0.01,2,    0.29,2,   2.239,2,   1.349,2,   2.3236,2,  2016.2,2,  2230.6,2,   7.9035,2,    25.00,2, -999.00,9,  -999.0,9, -999.00,1, -999.00,1,        8.3,2, 20220714,      506,  31.5028,-120.2878,    18.1073,2,     -999.0,9,     -999.0,9,     -999.0,9,     -999.0,9,     0.0240,1,     4.5768,1,     -999.0,9,     -999.0,9,     -999.0,9,     -999.0,9,     -999.0,9
33RR20220613,       P02E,     190,          2,         34,         34,2,20220714,       0307,    31.5028,  -120.2878,       3930,    41.6,2,  14.5214,2,  33.2595,2,  33.2613,2,    269.1,2,   269.2,2,    0.59,2,    0.83,2,    0.08,2,    0.41,2,   2.653,2,   1.587,2,   2.5535,2,  2027.6,2,  2223.1,2,   7.8706,2,    24.98,2, -999.00,9,  -999.0,9, -999.00,1, -999.00,1,       11.7,2, 20220714,      502,  31.5028,-120.2878,    14.5493,2,     -999.0,9,     -999.0,9,     -999.0,9,     -999.0,9,     0.0538,1,     4.5581,1,     -999.0,9,     -999.0,9,     -999.0,9,     -999.0,9,     -999.0,9
33RR20220613,       P02E,     190,          2,         33,         33,2,20220714,       0307,    31.5028,  -120.2878,       3930,    66.8,2,  12.5462,2,  33.3495,2,  33.3392,2,    236.1,2,   236.3,2,    4.30,2,    8.41,2,    0.39,2,    0.92,2,   2.834,2,   1.682,2,   2.5839,2,  2076.7,2,  2225.9,2,   7.7559,2,    25.00,2, -999.00,9,  -999.0,9, -999.00,1, -999.00,1,       14.0,2, 20220714,      500,  31.5028,-120.2878,    12.5488,2,     -999.0,9,     -999.0,9,     -999.0,9,     -999.0,9,     0.0491,1,     4.6028,1,     -999.0,9,     -999.0,9,     -999.0,9,     -999.0,9,     -999.0,9
33RR20220613,       P02E,     190,          2,         32,         32,2,20220714,       0307,    31.5028,  -120.2878,       3930,    91.3,2,  11.3115,2,  33.5201,2,  33.5219,2,    199.9,2,   199.7,2,   11.34,2,   15.64,2,    0.03,2,    1.30,2,   2.894,2,   1.737,2,   2.4184,2,  2123.1,2,  2233.1,6,   7.6519,2,    25.00,2, -999.00,9,  -999.0,9, -999.00,1, -999.00,1,       18.0,2, 20220714,      457,  31.5028,-120.2878,    11.3225,2,     -999.0,9,     -999.0,9,     -999.0,9,     -999.0,9,     0.0191,1,     4.6448,1,     -999.0,9,     -999.0,9,     -999.0,9,     -999.0,9,     -999.0,9
33RR20220613,       P02E,     190,          2,         31,         31,2,20220714,       0307,    31.5028,  -120.2878,       3930,   117.4,2,   9.8773,2,  33.7123,2,  33.7032,2,    150.4,2,   151.1,2,   19.45,2,   21.10,2,    0.02,2,    1.64,2,   2.930,2,   1.767,2,   2.0150,2,  2164.1,2,  2239.9,2,   7.5568,2,    24.99,2, -999.00,9,  -999.0,9, -999.00,1, -999.00,1,       24.9,2, 20220714,      454,  31.5028,-120.2878,     9.8920,2,     -999.0,9,     -999.0,9,     -999.0,9,     -999.0,9,     0.0134,1,     4.6530,1,     -999.0,9,     -999.0,9,     -999.0,9,     -999.0,9,     -999.0,9
33RR20220613,       P02E,     190,          2,         30,         17,2,20220714,       0307,    31.5028,  -120.2878,       3930,   142.6,2,   9.3935,2,  33.8448,2,  33.8472,2,    137.6,2,   137.1,2,   23.75,2,   23.12,2,    0.02,2,    1.74,2,   2.880,2,   1.735,2,   1.7633,2,  2179.9,2,  2246.7,2,   7.5353,2,    25.02,2, -999.00,9,  -999.0,9, -999.00,1, -999.00,1,       28.3,2, 20220714,      452,  31.5028,-120.2878,     9.3935,2,     -999.0,9,     -999.0,9,     -999.0,9,     -999.0,9,     0.0134,1,     4.6551,1,     -999.0,9,     -999.0,9,     -999.0,9,     -999.0,9,     -999.0,9
33RR20220613,       P02E,     190,          2,         29,         29,2,20220714,       0307,    31.5028,  -120.2878,       3930,   186.7,2,   8.8928,2,  33.9839,2,  33.9861,2,    126.3,2,   126.5,2,   29.22,2,   25.03,2,    0.02,2,    1.87,2,   2.772,2,   1.653,2,   1.4993,2,  2193.4,2,  2257.9,2,   7.5208,2,    25.05,2, -999.00,9,  -999.0,9, -999.00,1, -999.00,1,       32.7,2, 20220714,      449,  31.5028,-120.2878,     8.8961,2,     -999.0,9,     -999.0,9,     -999.0,9,     -999.0,9,     0.0125,1,     4.6555,1,     -999.0,9,     -999.0,9,     -999.0,9,     -999.0,9,     -999.0,9
33RR20220613,       P02E,     190,          2,         28,         28,2,20220714,       0307,    31.5028,  -120.2878,       3930,   237.8,2,   8.1571,2,  34.0548,2,  34.0556,2,     97.7,2,    97.9,2,   38.79,2,   29.02,2,    0.01,2,    2.15,2,   2.459,2,   1.459,2,   1.0505,2,  2226.4,2,  2270.7,2,   7.4588,2,    25.02,2, -999.00,9,  -999.0,9, -999.00,1, -999.00,1,       39.4,2, 20220714,      446,  31.5028,-120.2878,     8.1580,2,     -999.0,9,     -999.0,9,     -999.0,9,     -999.0,9,     0.0134,1,     4.6585,1,     -999.0,9,     -999.0,9,     -999.0,9,     -999.0,9,     -999.0,9
33RR20220613,       P02E,     190,          2,         27,         27,2,20220714,       0307,    31.5028,  -120.2878,       3930,   288.6,2,   7.5065,2,  34.0785,2,  34.0774,2,     75.1,2,    75.7,2,   47.10,2,   32.17,2,    0.01,2,    2.40,2,   2.151,2,   1.255,2,   0.7239,2,  2248.4,2,  2277.8,2,   7.4095,2,    25.01,2, -999.00,9,  -999.0,9, -999.00,1, -999.00,1,       43.5,2, 20220714,      443,  31.5028,-120.2878,     7.5053,2,     -999.0,9,     -999.0,9,     -999.0,9,     -999.0,9,     0.0134,1,     4.6610,1,     -999.0,9,     -999.0,9,     -999.0,9,     -999.0,9,     -999.0,9
33RR20220613,       P02E,     190,          2,         26,         26,2,20220714,       0307,    31.5028,  -120.2878,       3930,   338.1,2,   6.9158,2,  34.0988,2,  34.1007,2,     56.5,2,    56.2,2,   55.40,2,   34.82,2,    0.01,2,    2.61,2,   1.789,2,   1.028,2,   0.5307,2,  -999.0,9,  -999.0,9,-999.0000,9,  -999.00,9, -999.00,9,  -999.0,9, -999.00,1, -999.00,1,       48.1,2, 20220714,      440,  31.5028,-120.2877,     6.9157,2,     -999.0,9,     -999.0,9,     -999.0,9,     -999.0,9,     0.0134,1,     4.6583,1,     -999.0,9,     -999.0,9,     -999.0,9,     -999.0,9,     -999.0,9
33RR20220613,       P02E,     190,          2,         25,         25,2,20220714,       0307,    31.5028,  -120.2878,       3930,   389.0,2,   6.5947,2,  34.1606,2,  34.1652,2,     35.2,3,    34.7,2,   63.51,2,   37.07,2,    0.01,2,    2.80,2,   1.242,2,   0.694,2,   0.3051,2,  2294.7,2,  2301.3,2,   7.3344,2,    25.01,2, -999.00,9,  -999.0,9, -999.00,1, -999.00,1,       53.8,2, 20220714,      438,  31.5028,-120.2878,     6.5937,2,     -999.0,9,     -999.0,9,     -999.0,9,     -999.0,9,     0.0134,1,     4.6593,1,     -999.0,9,     -999.0,9,     -999.0,9,     -999.0,9,     -999.0,9
33RR20220613,       P02E,     190,          2,         24,         24,2,20220714,       0307,    31.5028,  -120.2878,       3930,   439.5,2,   6.1466,2,  34.2129,2,  34.2136,2,     22.1,3,    23.2,2,   71.32,2,   38.72,2,    0.01,2,    2.93,2,   0.819,2,   0.440,2,   0.1674,2,  -999.0,9,  -999.0,9,-999.0000,9,  -999.00,9, -999.00,9,  -999.0,9, -999.00,1, -999.00,1,       60.1,2, 20220714,      435,  31.5028,-120.2878,     6.1534,2,     -999.0,9,     -999.0,9,     -999.0,9,     -999.0,9,     0.0134,1,     4.6629,1,     -999.0,9,     -999.0,9,     -999.0,9,     -999.0,9,     -999.0,9
33RR20220613,       P02E,     190,          2,         23,         23,2,20220714,       0307,    31.5028,  -120.2878,       3930,   489.2,2,   6.0035,2,  34.2728,2,  34.2734,2,     15.5,3,    16.0,2,   75.81,2,   39.37,2,    0.01,2,    3.01,2,   0.497,2,   0.257,2,   0.0984,2,  2320.5,2,  2316.0,2,   7.3163,2,    25.02,2, -999.00,9,  -999.0,9, -999.00,1, -999.00,1,       64.2,2, 20220714,      432,  31.5028,-120.2878,     6.0063,2,     -999.0,9,     -999.0,9,     -999.0,9,     -999.0,9,     0.0134,1,     4.6645,1,     -999.0,9,     -999.0,9,     -999.0,9,     -999.0,9,     -999.0,9
33RR20220613,       P02E,     190,          2,         22,         22,2,20220714,       0307,    31.5028,  -120.2878,       3930,   570.8,2,   5.4840,2,  34.3086,2,  34.3111,2,     12.1,3,    12.4,2,   85.39,2,   40.90,2,    0.01,2,    3.09,2,   0.251,2,   0.133,2,   0.0468,2,  2331.9,2,  2328.7,2,   7.3134,2,    25.01,2, -999.00,9,  -999.0,9, -999.00,1, -999.00,1,       66.3,2, 20220714,      429,  31.5028,-120.2878,     5.4835,2,     -999.0,9,     -999.0,9,     -999.0,9,     -999.0,9,     0.0134,1,     4.6658,1,     -999.0,9,     -999.0,9,     -999.0,9,     -999.0,9,     -999.0,9
33RR20220613,       P02E,     190,          2,         21,         21,2,20220714,       0307,    31.5028,  -120.2878,       3930,   671.8,2,   5.0723,2,  34.3715,2,  34.3709,2,     11.8,2,    11.8,2,   93.49,2,   41.87,2,    0.01,2,    3.14,2,   0.092,2,   0.049,2,   0.0905,2,  2340.0,2,  2340.7,2,   7.5040,2,    24.99,2, -999.00,9,  -999.0,9, -999.00,1, -999.00,1,       69.3,2, 20220714,      425,  31.5028,-120.2878,     5.0736,2,     -999.0,9,     -999.0,9,     -999.0,9,     -999.0,9,     0.0133,1,     4.6666,1,     -999.0,9,     -999.0,9,     -999.0,9,     -999.0,9,     -999.0,9
33RR20220613,       P02E,     190,          2,         20,         20,2,20220714,       0307,    31.5028,  -120.2878,       3930,   773.0,2,   4.7040,2,  34.4140,2,  34.4145,2,     15.2,3,    15.0,2,  100.33,2,   42.48,2,    0.01,2,    3.15,2,   0.043,2,   0.027,2,   0.0628,2,  -999.0,9,  -999.0,9,-999.0000,9,  -999.00,9, -999.00,9,  -999.0,9, -999.00,1, -999.00,1,       67.2,2, 20220714,      422,  31.5028,-120.2878,     4.7049,2,     -999.0,9,     -999.0,9,     -999.0,9,     -999.0,9,     0.0134,1,     4.6693,1,     -999.0,9,     -999.0,9,     -999.0,9,     -999.0,9,     -999.0,9
33RR20220613,       P02E,     190,          2,         19,         39,2,20220714,       0307,    31.5028,  -120.2878,       3930,   873.6,2,   4.3670,2,  34.4493,2,  34.4491,2,     19.5,2,    19.6,2,  106.87,2,   42.90,2,    0.00,2,    3.16,2,   0.024,2,   0.015,2,   0.0361,2,  -999.0,9,  -999.0,9,-999.0000,9,  -999.00,9, -999.00,9,  -999.0,9, -999.00,1, -999.00,1,       65.7,2, 20220714,      417,  31.5028,-120.2877,     4.3706,2,     -999.0,9,     -999.0,9,     -999.0,9,     -999.0,9,     0.0134,1,     4.6711,1,     -999.0,9,     -999.0,9,     -999.0,9,     -999.0,9,     -999.0,9
33RR20220613,       P02E,     190,          2,         18,         18,2,20220714,       0307,    31.5028,  -120.2878,       3930,   974.8,2,   4.0968,2,  34.4751,2,  34.4762,2,     23.7,2,    23.7,2,  112.63,2,   43.01,2,    0.00,2,    3.15,2,   0.016,2,   0.009,2,   0.0298,2,  2359.0,2,  2367.9,2,   7.3477,2,    24.99,2, -999.00,9,  -999.0,9, -999.00,1, -999.00,1,       62.3,2, 20220714,      416,  31.5028,-120.2877,     4.0959,2,     -999.0,9,     -999.0,9,     -999.0,9,     -999.0,9,     0.0134,1,     4.6716,1,     -999.0,9,     -999.0,9,     -999.0,9,     -999.0,9,     -999.0,9
33RR20220613,       P02E,     190,          2,         17,         37,2,20220714,       0307,    31.5028,  -120.2878,       3930,  1076.5,2,   3.7877,2,  34.4994,2,  34.5001,2,     28.5,3,    28.0,2,  119.86,2,   43.02,2,    0.00,2,    3.15,2,   0.016,6,   0.013,6,   0.0639,6,  2362.1,2,  2376.4,2,   7.3575,2,    24.98,2, -999.00,9,  -999.0,9, -999.00,1, -999.00,1,       58.1,6, 20220714,      412,  31.5028,-120.2877,     3.7879,2,     -999.0,9,     -999.0,9,     -999.0,9,     -999.0,9,     0.0132,1,     4.6726,1,     -999.0,9,     -999.0,9,     -999.0,9,     -999.0,9,     -999.0,9
33RR20220613,       P02E,     190,          2,         16,         16,2,20220714,       0307,    31.5028,  -120.2878,       3930,  1177.9,2,   3.5605,2,  34.5165,2,  34.5160,2,     31.9,3,    31.6,2,  125.23,2,   42.90,2,    0.00,2,    3.14,2,   0.023,2,   0.018,2,   0.0999,2,  2366.7,2,  2383.2,2,   7.3646,2,    25.00,2, -999.00,9,  -999.0,9, -999.00,1, -999.00,1,       55.0,2, 20220714,      409,  31.5028,-120.2877,     3.5608,2,     -999.0,9,     -999.0,9,     -999.0,9,     -999.0,9,     0.0134,1,     4.6712,1,     -999.0,9,     -999.0,9,     -999.0,9,     -999.0,9,     -999.0,9
33RR20220613,       P02E,     190,          2,         15,         15,2,20220714,       0307,    31.5028,  -120.2878,       3930,  1277.8,2,   3.3351,2,  34.5333,2,  34.5329,2,     36.9,2,    37.0,2,  130.70,2,   42.82,2,    0.00,2,    3.13,2,   0.017,2,   0.013,2,   0.0490,2,  -999.0,9,  -999.0,9,-999.0000,9,  -999.00,9, -999.00,9,  -999.0,9, -999.00,1, -999.00,1,       51.2,2, 20220714,      407,  31.5028,-120.2878,     3.3345,2,     -999.0,9,     -999.0,9,     -999.0,9,     -999.0,9,     0.0134,1,     4.6728,1,     -999.0,9,     -999.0,9,     -999.0,9,     -999.0,9,     -999.0,9
33RR20220613,       P02E,     190,          2,         14,         42,2,20220714,       0307,    31.5028,  -120.2878,       3930,  1380.3,2,   3.0927,2,  34.5460,2,  34.5468,2,     41.6,2,    41.8,2,  137.14,2,   42.59,2,    0.00,2,    3.08,2,   0.019,2,   0.015,2,   0.0226,2,  2373.5,2,  2395.2,2,   7.3812,2,    25.00,2, -999.00,9,  -999.0,9, -999.00,1, -999.00,1,       49.4,2, 20220714,      404,  31.5028,-120.2878,     3.0931,2,     -999.0,9,     -999.0,9,     -999.0,9,     -999.0,9,     0.0134,1,     4.6714,1,     -999.0,9,     -999.0,9,     -999.0,9,     -999.0,9,     -999.0,9
33RR20220613,       P02E,     190,          2,         13,         13,2,20220714,       0307,    31.5028,  -120.2878,       3930,  1481.7,2,   2.9338,2,  34.5608,2,  34.5606,2,     46.8,2,    46.9,2,  140.95,2,   42.32,2,    0.00,2,    3.06,2,   0.021,2,   0.015,2,   0.0432,2,  -999.0,9,  -999.0,9,-999.0000,9,  -999.00,9, -999.00,9,  -999.0,9, -999.00,1, -999.00,1,       46.1,2, 20220714,      401,  31.5028,-120.2878,     2.9324,2,     -999.0,9,     -999.0,9,     -999.0,9,     -999.0,9,     0.0134,1,     4.6720,1,     -999.0,9,     -999.0,9,     -999.0,9,     -999.0,9,     -999.0,9
33RR20220613,       P02E,     190,          2,         12,         12,2,20220714,       0307,    31.5028,  -120.2878,       3930,  1582.6,2,   2.7139,2,  34.5749,2,  34.5741,2,     53.4,2,    53.6,2,  146.61,2,   42.03,2,    0.00,2,    3.01,2,   0.017,2,   0.013,2,   0.0383,2,  2372.3,2,  2405.1,2,   7.4034,2,    24.98,2, -999.00,9,  -999.0,9, -999.00,1, -999.00,1,       43.1,2, 20220714,      359,  31.5028,-120.2878,     2.7125,2,     -999.0,9,     -999.0,9,     -999.0,9,     -999.0,9,     0.0133,1,     4.6727,1,     -999.0,9,     -999.0,9,     -999.0,9,     -999.0,9,     -999.0,9
33RR20220613,       P02E,     190,          2,         11,         11,2,20220714,       0307,    31.5028,  -120.2878,       3930,  1684.7,2,   2.5272,2,  34.5880,2,  34.5873,2,     60.0,2,    59.8,2,  150.52,2,   41.72,2,    0.01,2,    2.98,2,   0.013,2,   0.011,2,   0.0000,2,  -999.0,9,  -999.0,9,-999.0000,9,  -999.00,9, -999.00,9,  -999.0,9, -999.00,1, -999.00,1,       42.2,2, 20220714,      356,  31.5028,-120.2878,     2.5261,2,     -999.0,9,     -999.0,9,     -999.0,9,     -999.0,9,     0.0133,1,     4.6736,1,     -999.0,9,     -999.0,9,     -999.0,9,     -999.0,9,     -999.0,9
33RR20220613,       P02E,     190,          2,         10,         10,2,20220714,       0307,    31.5028,  -120.2878,       3930,  1785.5,2,   2.3596,2,  34.5996,2,  34.5987,2,     66.5,2,    66.6,2,  154.52,2,   41.38,2,    0.01,2,    2.93,2,   0.009,2,   0.008,2,   0.0000,2,  2372.4,2,  2414.2,2,   7.4275,2,    24.97,2, -999.00,9,  -999.0,9, -999.00,1, -999.00,1,       38.9,2, 20220714,      353,  31.5028,-120.2878,     2.3606,2,     -999.0,9,     -999.0,9,     -999.0,9,     -999.0,9,     0.0134,1,     4.6738,1,     -999.0,9,     -999.0,9,     -999.0,9,     -999.0,9,     -999.0,9
33RR20220613,       P02E,     190,          2,          9,          9,2,20220714,       0307,    31.5028,  -120.2878,       3930,  1958.5,2,   2.1519,2,  34.6179,2,  34.6179,2,     77.5,2,    77.8,2,  158.33,2,   40.69,2,    0.01,2,    2.85,2,   0.008,2,   0.005,2,   0.0000,2,  -999.0,9,  -999.0,9,-999.0000,9,  -999.00,9, -999.00,9,  -999.0,9, -999.00,1, -999.00,1,       36.2,2, 20220714,      349,  31.5028,-120.2878,     2.1516,2,     -999.0,9,     -999.0,9,     -999.0,9,     -999.0,9,     0.0134,1,     4.6739,1,     -999.0,9,     -999.0,9,     -999.0,9,     -999.0,9,     -999.0,9
33RR20220613,       P02E,     190,          2,          8,          8,2,20220714,       0307,    31.5028,  -120.2878,       3930,  2192.8,2,   1.9537,2,  34.6361,2,  34.6360,2,     90.1,2,    90.4,2,  161.35,2,   39.91,2,    0.01,2,    2.79,2,   0.007,2,   0.005,2,   0.0000,2,  2367.7,2,  2423.8,2,   7.4747,2,    24.99,2, -999.00,9,  -999.0,9, -999.00,1, -999.00,1,       33.5,2, 20220714,      344,  31.5028,-120.2878,     1.9533,2,     -999.0,9,     -999.0,9,     -999.0,9,     -999.0,9,     0.0133,1,     4.6741,1,     -999.0,9,     -999.0,9,     -999.0,9,     -999.0,9,     -999.0,9
33RR20220613,       P02E,     190,          2,          7,          7,2,20220714,       0307,    31.5028,  -120.2878,       3930,  2446.0,2,   1.8241,2,  34.6482,2,  34.6478,2,    100.2,2,    99.8,2,  163.11,2,   39.27,2,    0.00,2,    2.73,2,   0.006,2,   0.006,2,   0.0000,2,  -999.0,9,  -999.0,9,-999.0000,9,  -999.00,9, -999.00,9,  -999.0,9, -999.00,1, -999.00,1,       30.4,2, 20220714,      339,  31.5028,-120.2878,     1.8240,2,     -999.0,9,     -999.0,9,     -999.0,9,     -999.0,9,     0.0133,1,     4.6750,1,     -999.0,9,     -999.0,9,     -999.0,9,     -999.0,9,     -999.0,9
33RR20220613,       P02E,     190,          2,          6,          6,2,20220714,       0307,    31.5028,  -120.2878,       3930,  2702.3,2,   1.7291,2,  34.6571,2,  34.6565,2,    108.3,2,   108.4,2,  164.09,2,   38.75,2,    0.00,2,    2.70,2,   0.008,2,   0.007,2,   0.0000,2,  2357.6,2,  2429.4,2,   7.5098,2,    24.98,2, -999.00,9,  -999.0,9, -999.00,1, -999.00,1,       29.3,2, 20220714,      332,  31.5028,-120.2878,     1.7290,2,     -999.0,9,     -999.0,9,     -999.0,9,     -999.0,9,     0.0130,1,     4.6768,1,     -999.0,9,     -999.0,9,     -999.0,9,     -999.0,9,     -999.0,9
33RR20220613,       P02E,     190,          2,          5,          5,2,20220714,       0307,    31.5028,  -120.2878,       3930,  2956.8,2,   1.6536,2,  34.6634,2,  34.6633,2,    115.1,2,   115.0,2,  165.45,2,   38.31,2,    0.00,2,    2.67,2,   0.010,2,   0.008,2,   0.0000,2,  -999.0,9,  -999.0,9,-999.0000,9,  -999.00,9, -999.00,9,  -999.0,9, -999.00,1, -999.00,1,       28.6,2, 20220714,      328,  31.5028,-120.2878,     1.6536,2,     -999.0,9,     -999.0,9,     -999.0,9,     -999.0,9,     0.0134,1,     4.6776,1,     -999.0,9,     -999.0,9,     -999.0,9,     -999.0,9,     -999.0,9