BOTTLE,20230830CCHSIOCBG
EXPOCODE,SECT_ID,STNNBR,CASTNO,SAMPNO,BTLNBR,BTLNBR_FLAG_W,DATE,TIME,LATITUDE,LONGITUDE,DEPTH,CTDPRS,CTDPRS_FLAG_W,CTDTMP,CTDTMP_FLAG_W,CTDSAL,CTDSAL_FLAG_W,SALNTY,SALNTY_FLAG_W,CTDOXY,CTDOXY_FLAG_W,OXYGEN,OXYGEN_FLAG_W,SILCAT,SILCAT_FLAG_W,NITRAT,NITRAT_FLAG_W,NITRIT,NITRIT_FLAG_W,PHSPHT,PHSPHT_FLAG_W,CFC-11,CFC-11_FLAG_W,CFC-12,CFC-12_FLAG_W,SF6,SF6_FLAG_W,TCARBN,TCARBN_FLAG_W,ALKALI,ALKALI_FLAG_W,PH_TOT,PH_TOT_FLAG_W,PH_TMP,PH_TMP_FLAG_W,DELC13,DELC13_FLAG_W,DELC14,DELC14_FLAG_W,DOC,DOC_FLAG_W,TDN,TDN_FLAG_W,N2O,N2O_FLAG_W,BTL_DATE,BTL_TIME,BTL_LAT,BTL_LON,REFTMP,REFTMP_FLAG_W,POC,POC_FLAG_W,PON,PON_FLAG_W,POP,POP_FLAG_W,PCOD,PCOD_FLAG_W,CTDFLUOR,CTDFLUOR_FLAG_W,CTDXMISS,CTDXMISS_FLAG_W,HPLC,HPLC_FLAG_W,DNA,DNA_FLAG_W,FCM,FCM_FLAG_W,IMAGES,IMAGES_FLAG_W,VIRAL_ABUNDANCE,VIRAL_ABUNDANCE_FLAG_W
,,,,,,,,,,,METERS,DBAR,,ITS-90,,PSS-78,,PSS-78,,UMOL/KG,,UMOL/KG,,UMOL/KG,,UMOL/KG,,UMOL/KG,,UMOL/KG,,PMOL/KG,,PMOL/KG,,FMOL/KG,,UMOL/KG,,UMOL/KG,,,,DEG C,,/MILLE,,/MILLE,,UMOL/KG,,UMOL/KG,,NMOL/KG,,,,,,ITS-90,,UG/L,,UG/L,,UG/L,,UG/L,,VOLTS,,VOLTS,,,,,,,,,,,
33RR20220613,       P02E,     142,          1,          4,          4,2,20220624,       1954,    30.0018,  -147.3558,       4897,  4168.2,2,   1.4705,2,  34.6857,2,  34.6851,2,    147.9,2,   148.0,2,  156.88,2,   36.43,2,    0.00,2,    2.85,4,-999.000,9,-999.000,9,-999.0000,9,  -999.0,9,  -999.0,9,-999.0000,9,  -999.00,9, -999.00,9,  -999.0,9, -999.00,9, -999.00,9,     -999.0,9, 20220624,     2010,  30.0018,-147.3558,     1.4706,2,     -999.0,9,     -999.0,9,     -999.0,9,     -999.0,9,     0.0122,1,     4.7035,1,     -999.0,9,     -999.0,9,     -999.0,9,     -999.0,9,     -999.0,9
33RR20220613,       P02E,     142,          1,          3,          3,2,20220624,       1954,    30.0018,  -147.3558,       4897,  4477.1,2,   1.4865,2,  34.6876,2,  34.6871,2,    152.1,2,   152.3,2,  152.97,2,   36.10,2,    0.00,2,    2.81,4,   0.006,2,   0.005,2,   0.0000,2,  2326.7,6,  2424.5,2,   7.5804,2,    25.02,2, -999.00,9,  -999.0,9, -999.00,1, -999.00,1,       22.3,2, 20220624,     2004,  30.0018,-147.3558,     1.4865,2,     -999.0,9,     -999.0,9,     -999.0,9,     -999.0,9,     0.0124,1,     4.7036,1,     -999.0,9,     -999.0,9,     -999.0,9,     -999.0,9,     -999.0,9
33RR20220613,       P02E,     142,          1,          2,          2,2,20220624,       1954,    30.0018,  -147.3558,       4897,  4784.4,2,   1.5103,2,  34.6886,2,  34.6893,2,    154.9,2,   155.0,2,  150.23,2,   35.94,2,    0.00,2,    2.80,4,-999.000,9,-999.000,9,-999.0000,9,  2324.0,2,  2421.1,2,   7.5826,2,    25.03,2, -999.00,9,  -999.0,9, -999.00,1, -999.00,1,     -999.0,9, 20220624,     1958,  30.0018,-147.3558,     1.5102,2,     -999.0,9,     -999.0,9,     -999.0,9,     -999.0,9,     0.0122,1,     4.7029,1,     -999.0,9,     -999.0,9,     -999.0,9,     -999.0,9,     -999.0,9
33RR20220613,       P02E,     142,          1,          1,          1,2,20220624,       1954,    30.0018,  -147.3558,       4897,  4975.9,2,   1.5292,2,  34.6889,2,  34.6895,2,    156.2,2,   156.3,2,  149.15,2,   35.77,2,    0.00,2,    2.79,4,   0.009,2,   0.006,2,   0.0000,2,  2322.5,2,  2422.1,2,   7.5837,2,    24.94,2, -999.00,9,  -999.0,9, -999.00,1, -999.00,1,       24.0,2, 20220624,     1954,  30.0018,-147.3558,     1.5291,2,     -999.0,9,     -999.0,9,     -999.0,9,     -999.0,9,     0.0122,1,     4.7019,1,     -999.0,9,     -999.0,9,     -999.0,9,     -999.0,9,     -999.0,9
33RR20220613,       P02E,     143,          1,         15,         15,2,20220625,       0122,    29.9995,  -146.7779,       4999,     3.8,2,  23.5841,2,  35.2552,2,-999.0000,9,    215.6,2,  -999.0,9, -999.00,9, -999.00,9, -999.00,9, -999.00,9,-999.000,9,-999.000,9,-999.0000,9,  -999.0,9,  -999.0,9,-999.0000,9,  -999.00,9, -999.00,9,  -999.0,9, -999.00,9, -999.00,9,     -999.0,9, 20220625,      149,  29.9995,-146.7779,     -999.0,9,     -999.0,9,     -999.0,9,     -999.0,1,     -999.0,9,     0.0133,1,     4.6337,1,     -999.0,9,     -999.0,9,     -999.0,9,     -999.0,9,     -999.0,9
33RR20220613,       P02E,     143,          1,         14,         14,2,20220625,       0122,    29.9995,  -146.7779,       4999,     4.0,2,  23.5815,2,  35.2547,2,-999.0000,9,    215.6,2,  -999.0,9, -999.00,9, -999.00,9, -999.00,9, -999.00,9,-999.000,9,-999.000,9,-999.0000,9,  -999.0,9,  -999.0,9,-999.0000,9,  -999.00,9, -999.00,9,  -999.0,9, -999.00,9, -999.00,9,     -999.0,9, 20220625,      149,  29.9995,-146.7779,     -999.0,9,     -999.0,9,     -999.0,9,     -999.0,1,     -999.0,9,     0.0134,1,     4.6342,1,     -999.0,9,     -999.0,9,     -999.0,9,     -999.0,9,     -999.0,9
33RR20220613,       P02E,     143,          1,          9,          9,2,20220625,       0122,    29.9995,  -146.7779,       4999,     4.0,2,  23.5862,2,  35.2555,2,-999.0000,9,    215.6,2,  -999.0,9, -999.00,9, -999.00,9, -999.00,9, -999.00,9,-999.000,9,-999.000,9,-999.0000,9,  -999.0,9,  -999.0,9,-999.0000,9,  -999.00,9, -999.00,9,  -999.0,9, -999.00,9, -999.00,9,     -999.0,9, 20220625,      149,  29.9995,-146.7779,    23.5864,2,     -999.0,9,     -999.0,9,     -999.0,9,     -999.0,9,     0.0134,1,     4.6358,1,     -999.0,1,     -999.0,9,     -999.0,1,     -999.0,9,     -999.0,9
33RR20220613,       P02E,     143,          1,         19,         39,2,20220625,       0122,    29.9995,  -146.7779,       4999,     4.1,2,  23.5883,2,  35.2555,2,-999.0000,9,    215.7,2,  -999.0,9, -999.00,9, -999.00,9, -999.00,9, -999.00,9,-999.000,9,-999.000,9,-999.0000,9,  -999.0,9,  -999.0,9,-999.0000,9,  -999.00,9, -999.00,9,  -999.0,9, -999.00,9, -999.00,9,     -999.0,9, 20220625,      149,  29.9995,-146.7779,     -999.0,9,     -999.0,9,     -999.0,9,     -999.0,9,     -999.0,1,     0.0134,1,     4.6355,1,     -999.0,9,     -999.0,9,     -999.0,9,     -999.0,9,     -999.0,9
33RR20220613,       P02E,     143,          1,         18,         18,2,20220625,       0122,    29.9995,  -146.7779,       4999,     4.2,2,  23.5871,2,  35.2553,2,-999.0000,9,    215.6,2,  -999.0,9, -999.00,9, -999.00,9, -999.00,9, -999.00,9,-999.000,9,-999.000,9,-999.0000,9,  -999.0,9,  -999.0,9,-999.0000,9,  -999.00,9, -999.00,9,  -999.0,9, -999.00,9, -999.00,9,     -999.0,9, 20220625,      149,  29.9995,-146.7779,     -999.0,9,     -999.0,9,     -999.0,9,     -999.0,9,     -999.0,1,     0.0123,1,     4.6356,1,     -999.0,9,     -999.0,9,     -999.0,9,     -999.0,9,     -999.0,9
33RR20220613,       P02E,     143,          1,         20,         20,2,20220625,       0122,    29.9995,  -146.7779,       4999,     4.5,2,  23.5901,2,  35.2549,2,-999.0000,9,    215.7,2,  -999.0,9, -999.00,9, -999.00,9, -999.00,9, -999.00,9,-999.000,9,-999.000,9,-999.0000,9,  -999.0,9,  -999.0,9,-999.0000,9,  -999.00,9, -999.00,9,  -999.0,9, -999.00,9, -999.00,9,     -999.0,9, 20220625,      149,  29.9995,-146.7779,    23.5884,2,     -999.0,9,     -999.0,9,     -999.0,9,     -999.0,9,     0.0134,1,     4.6353,1,     -999.0,9,     -999.0,9,     -999.0,9,     -999.0,9,     -999.0,1
33RR20220613,       P02E,     143,          1,         13,         13,2,20220625,       0122,    29.9995,  -146.7779,       4999,     4.6,2,  23.5877,2,  35.2551,2,-999.0000,9,    215.4,2,  -999.0,9, -999.00,9, -999.00,9, -999.00,9, -999.00,9,-999.000,9,-999.000,9,-999.0000,9,  -999.0,9,  -999.0,9,-999.0000,9,  -999.00,9, -999.00,9,  -999.0,9, -999.00,9, -999.00,9,     -999.0,9, 20220625,      149,  29.9995,-146.7779,     -999.0,9,     -999.0,1,     -999.0,1,     -999.0,9,     -999.0,9,     0.0134,1,     4.6329,1,     -999.0,9,     -999.0,9,     -999.0,9,     -999.0,9,     -999.0,9
33RR20220613,       P02E,     143,          1,         16,         16,2,20220625,       0122,    29.9995,  -146.7779,       4999,     4.6,2,  23.5899,2,  35.2557,2,-999.0000,9,    215.7,2,  -999.0,9, -999.00,9, -999.00,9, -999.00,9, -999.00,9,-999.000,9,-999.000,9,-999.0000,9,  -999.0,9,  -999.0,9,-999.0000,9,  -999.00,9, -999.00,9,  -999.0,9, -999.00,9, -999.00,9,     -999.0,9, 20220625,      149,  29.9995,-146.7779,     -999.0,9,     -999.0,9,     -999.0,9,     -999.0,1,     -999.0,9,     0.0127,1,     4.6353,1,     -999.0,9,     -999.0,9,     -999.0,9,     -999.0,9,     -999.0,9
33RR20220613,       P02E,     143,          1,         12,         12,2,20220625,       0122,    29.9995,  -146.7779,       4999,     4.7,2,  23.5903,2,  35.2556,2,-999.0000,9,    215.4,2,  -999.0,9, -999.00,9, -999.00,9, -999.00,9, -999.00,9,-999.000,9,-999.000,9,-999.0000,9,  -999.0,9,  -999.0,9,-999.0000,9,  -999.00,9, -999.00,9,  -999.0,9, -999.00,9, -999.00,9,     -999.0,9, 20220625,      149,  29.9995,-146.7779,     -999.0,9,     -999.0,1,     -999.0,1,     -999.0,9,     -999.0,9,     0.0134,1,     4.6357,1,     -999.0,9,     -999.0,9,     -999.0,9,     -999.0,9,     -999.0,9
33RR20220613,       P02E,     143,          1,         10,         10,2,20220625,       0122,    29.9995,  -146.7779,       4999,     4.7,2,  23.5928,2,  35.2556,2,-999.0000,9,    215.7,2,  -999.0,9, -999.00,9, -999.00,9, -999.00,9, -999.00,9,-999.000,9,-999.000,9,-999.0000,9,  -999.0,9,  -999.0,9,-999.0000,9,  -999.00,9, -999.00,9,  -999.0,9, -999.00,9, -999.00,9,     -999.0,9, 20220625,      149,  29.9995,-146.7779,     -999.0,9,     -999.0,9,     -999.0,9,     -999.0,9,     -999.0,9,     0.0127,1,     4.6343,1,     -999.0,9,     -999.0,1,     -999.0,9,     -999.0,9,     -999.0,9
33RR20220613,       P02E,     143,          1,         11,         11,2,20220625,       0122,    29.9995,  -146.7779,       4999,     4.8,2,  23.5917,2,  35.2557,2,-999.0000,9,    215.4,2,  -999.0,9, -999.00,9, -999.00,9, -999.00,9, -999.00,9,-999.000,9,-999.000,9,-999.0000,9,  -999.0,9,  -999.0,9,-999.0000,9,  -999.00,9, -999.00,9,  -999.0,9, -999.00,9, -999.00,9,     -999.0,9, 20220625,      149,  29.9995,-146.7779,     -999.0,9,     -999.0,1,     -999.0,1,     -999.0,9,     -999.0,9,     0.0132,1,     4.6360,1,     -999.0,9,     -999.0,9,     -999.0,9,     -999.0,9,     -999.0,9
33RR20220613,       P02E,     143,          1,         17,         37,2,20220625,       0122,    29.9995,  -146.7779,       4999,     4.9,2,  23.5922,2,  35.2555,2,-999.0000,9,    215.5,2,  -999.0,9, -999.00,9, -999.00,9, -999.00,9, -999.00,9,-999.000,9,-999.000,9,-999.0000,9,  -999.0,9,  -999.0,9,-999.0000,9,  -999.00,9, -999.00,9,  -999.0,9, -999.00,9, -999.00,9,     -999.0,9, 20220625,      149,  29.9995,-146.7779,     -999.0,9,     -999.0,9,     -999.0,9,     -999.0,9,     -999.0,1,     0.0127,1,     4.6361,1,     -999.0,9,     -999.0,9,     -999.0,9,     -999.0,9,     -999.0,9
33RR20220613,       P02E,     143,          1,          8,          8,2,20220625,       0122,    29.9995,  -146.7779,       4999,    41.0,2,  21.6191,2,  35.2243,2,-999.0000,9,    229.6,2,  -999.0,9, -999.00,9, -999.00,9, -999.00,9, -999.00,9,-999.000,9,-999.000,9,-999.0000,9,  -999.0,9,  -999.0,9,-999.0000,9,  -999.00,9, -999.00,9,  -999.0,9, -999.00,9, -999.00,9,     -999.0,9, 20220625,      146,  29.9995,-146.7779,    21.6038,2,     -999.0,9,     -999.0,9,     -999.0,9,     -999.0,9,     0.0143,1,     4.6282,1,     -999.0,1,     -999.0,9,     -999.0,1,     -999.0,9,     -999.0,9
33RR20220613,       P02E,     143,          1,          7,          7,2,20220625,       0122,    29.9995,  -146.7779,       4999,    76.3,2,  19.9715,2,  35.0279,2,-999.0000,9,    233.6,2,  -999.0,9, -999.00,9, -999.00,9, -999.00,9, -999.00,9,-999.000,9,-999.000,9,-999.0000,9,  -999.0,9,  -999.0,9,-999.0000,9,  -999.00,9, -999.00,9,  -999.0,9, -999.00,9, -999.00,9,     -999.0,9, 20220625,      145,  29.9995,-146.7779,    19.9734,2,     -999.0,9,     -999.0,9,     -999.0,9,     -999.0,9,     0.0175,1,     4.6388,1,     -999.0,9,     -999.0,9,     -999.0,1,     -999.0,9,     -999.0,9
33RR20220613,       P02E,     143,          1,          6,          6,2,20220625,       0122,    29.9995,  -146.7779,       4999,   100.6,2,  19.5104,2,  34.9663,2,-999.0000,9,    231.8,2,  -999.0,9, -999.00,9, -999.00,9, -999.00,9, -999.00,9,-999.000,9,-999.000,9,-999.0000,9,  -999.0,9,  -999.0,9,-999.0000,9,  -999.00,9, -999.00,9,  -999.0,9, -999.00,9, -999.00,9,     -999.0,9, 20220625,      143,  29.9995,-146.7779,     -999.0,9,     -999.0,9,     -999.0,9,     -999.0,9,     -999.0,9,     0.0202,1,     4.6512,1,     -999.0,9,     -999.0,1,     -999.0,9,     -999.0,9,     -999.0,9
33RR20220613,       P02E,     143,          1,          5,          5,2,20220625,       0122,    29.9995,  -146.7779,       4999,   102.3,2,  19.5074,2,  34.9660,2,-999.0000,9,    232.0,2,  -999.0,9, -999.00,9, -999.00,9, -999.00,9, -999.00,9,-999.000,9,-999.000,9,-999.0000,9,  -999.0,9,  -999.0,9,-999.0000,9,  -999.00,9, -999.00,9,  -999.0,9, -999.00,9, -999.00,9,     -999.0,9, 20220625,      143,  29.9995,-146.7779,    19.5080,2,     -999.0,9,     -999.0,9,     -999.0,9,     -999.0,9,     0.0208,1,     4.6509,1,     -999.0,1,     -999.0,9,     -999.0,1,     -999.0,9,     -999.0,9
33RR20220613,       P02E,     143,          1,          4,          4,2,20220625,       0122,    29.9995,  -146.7779,       4999,   151.8,2,  18.2557,2,  34.7531,2,-999.0000,9,    226.7,2,  -999.0,9, -999.00,9, -999.00,9, -999.00,9, -999.00,9,-999.000,9,-999.000,9,-999.0000,9,  -999.0,9,  -999.0,9,-999.0000,9,  -999.00,9, -999.00,9,  -999.0,9, -999.00,9, -999.00,9,     -999.0,9, 20220625,      141,  29.9995,-146.7779,    18.2587,2,     -999.0,9,     -999.0,9,     -999.0,9,     -999.0,9,     0.0310,1,     4.6640,1,     -999.0,9,     -999.0,9,     -999.0,1,     -999.0,9,     -999.0,9
33RR20220613,       P02E,     143,          1,          3,          3,2,20220625,       0122,    29.9995,  -146.7779,       4999,   202.1,2,  14.1885,2,  34.1467,2,-999.0000,9,    222.8,2,  -999.0,9, -999.00,9, -999.00,9, -999.00,9, -999.00,9,-999.000,9,-999.000,9,-999.0000,9,  -999.0,9,  -999.0,9,-999.0000,9,  -999.00,9, -999.00,9,  -999.0,9, -999.00,9, -999.00,9,     -999.0,9, 20220625,      139,  29.9995,-146.7779,    14.1835,2,     -999.0,9,     -999.0,9,     -999.0,9,     -999.0,9,     0.0171,1,     4.6827,1,     -999.0,9,     -999.0,1,     -999.0,1,     -999.0,9,     -999.0,9
33RR20220613,       P02E,     143,          1,          2,          2,2,20220625,       0122,    29.9995,  -146.7779,       4999,   504.0,2,   7.3692,2,  33.9999,2,-999.0000,9,    147.5,2,  -999.0,9, -999.00,9, -999.00,9, -999.00,9, -999.00,9,-999.000,9,-999.000,9,-999.0000,9,  -999.0,9,  -999.0,9,-999.0000,9,  -999.00,9, -999.00,9,  -999.0,9, -999.00,9, -999.00,9,     -999.0,9, 20220625,      132,  29.9995,-146.7778,     7.3622,2,     -999.0,9,     -999.0,9,     -999.0,9,     -999.0,9,     0.0134,1,     4.6969,1,     -999.0,9,     -999.0,9,     -999.0,1,     -999.0,9,     -999.0,9
33RR20220613,       P02E,     143,          1,          1,          1,2,20220625,       0122,    29.9995,  -146.7779,       4999,  1013.7,2,   3.5888,2,  34.3946,2,-999.0000,9,     13.1,2,  -999.0,9, -999.00,9, -999.00,9, -999.00,9, -999.00,9,-999.000,9,-999.000,9,-999.0000,9,  -999.0,9,  -999.0,9,-999.0000,9,  -999.00,9, -999.00,9,  -999.0,9, -999.00,9, -999.00,9,     -999.0,9, 20220625,      122,  29.9995,-146.7779,     3.5896,2,     -999.0,9,     -999.0,9,     -999.0,9,     -999.0,9,     0.0134,1,     4.6981,1,     -999.0,9,     -999.0,1,     -999.0,1,     -999.0,9,     -999.0,9