BOTTLE,20230830CCHSIOCBG
EXPOCODE,SECT_ID,STNNBR,CASTNO,SAMPNO,BTLNBR,BTLNBR_FLAG_W,DATE,TIME,LATITUDE,LONGITUDE,DEPTH,CTDPRS,CTDPRS_FLAG_W,CTDTMP,CTDTMP_FLAG_W,CTDSAL,CTDSAL_FLAG_W,SALNTY,SALNTY_FLAG_W,CTDOXY,CTDOXY_FLAG_W,OXYGEN,OXYGEN_FLAG_W,SILCAT,SILCAT_FLAG_W,NITRAT,NITRAT_FLAG_W,NITRIT,NITRIT_FLAG_W,PHSPHT,PHSPHT_FLAG_W,CFC-11,CFC-11_FLAG_W,CFC-12,CFC-12_FLAG_W,SF6,SF6_FLAG_W,TCARBN,TCARBN_FLAG_W,ALKALI,ALKALI_FLAG_W,PH_TOT,PH_TOT_FLAG_W,PH_TMP,PH_TMP_FLAG_W,DELC13,DELC13_FLAG_W,DELC14,DELC14_FLAG_W,DOC,DOC_FLAG_W,TDN,TDN_FLAG_W,N2O,N2O_FLAG_W,BTL_DATE,BTL_TIME,BTL_LAT,BTL_LON,REFTMP,REFTMP_FLAG_W,POC,POC_FLAG_W,PON,PON_FLAG_W,POP,POP_FLAG_W,PCOD,PCOD_FLAG_W,CTDFLUOR,CTDFLUOR_FLAG_W,CTDXMISS,CTDXMISS_FLAG_W,HPLC,HPLC_FLAG_W,DNA,DNA_FLAG_W,FCM,FCM_FLAG_W,IMAGES,IMAGES_FLAG_W,VIRAL_ABUNDANCE,VIRAL_ABUNDANCE_FLAG_W
,,,,,,,,,,,METERS,DBAR,,ITS-90,,PSS-78,,PSS-78,,UMOL/KG,,UMOL/KG,,UMOL/KG,,UMOL/KG,,UMOL/KG,,UMOL/KG,,PMOL/KG,,PMOL/KG,,FMOL/KG,,UMOL/KG,,UMOL/KG,,,,DEG C,,/MILLE,,/MILLE,,UMOL/KG,,UMOL/KG,,NMOL/KG,,,,,,ITS-90,,UG/L,,UG/L,,UG/L,,UG/L,,VOLTS,,VOLTS,,,,,,,,,,,
33RR20220613,       P02E,     159,          1,         36,         36,2,20220629,       2214,    30.0000,  -137.5405,       4475,     3.7,2,  21.8803,2,  34.3993,2,  34.3945,2,    228.3,3,   225.2,2,    1.47,2,    0.02,2,    0.00,2,    0.09,2,   1.864,2,   1.176,2,   1.9526,2,  2037.7,6,  2280.0,2,   7.9561,2,    25.02,2, -999.00,9,  -999.0,9, -999.00,9, -999.00,9,        7.4,2, 20220630,       24,  30.0000,-137.5405,    21.8781,2,     -999.0,9,     -999.0,9,     -999.0,9,     -999.0,9,     0.0127,1,     4.6295,1,     -999.0,9,     -999.0,9,     -999.0,9,     -999.0,9,     -999.0,9
33RR20220613,       P02E,     159,          1,         35,         35,2,20220629,       2214,    30.0000,  -137.5405,       4475,    35.4,2,  19.4500,2,  34.0695,2,  34.0721,2,    243.2,2,   243.9,2,    1.47,2,    0.02,2,    0.00,2,    0.12,2,   2.102,2,   1.306,2,   2.0752,2,  2025.1,2,  2261.7,2,   7.9460,2,    25.01,2, -999.00,9,  -999.0,9, -999.00,9, -999.00,9,        8.1,2, 20220630,       21,  30.0000,-137.5405,    19.4571,2,     -999.0,9,     -999.0,9,     -999.0,9,     -999.0,9,     0.0134,1,     4.6291,1,     -999.0,9,     -999.0,9,     -999.0,9,     -999.0,9,     -999.0,9
33RR20220613,       P02E,     159,          1,         34,         34,2,20220629,       2214,    30.0000,  -137.5405,       4475,    61.3,2,  18.7824,2,  34.2666,3,  34.2260,2,    243.4,2,   243.7,2,    1.47,2,    0.01,2,    0.00,2,    0.10,2,-999.000,9,-999.000,9,-999.0000,9,  2027.7,2,  2266.8,2,   7.9490,2,    25.01,2, -999.00,9,  -999.0,9, -999.00,9, -999.00,9,     -999.0,9, 20220630,       19,  30.0000,-137.5405,    18.7736,2,     -999.0,9,     -999.0,9,     -999.0,9,     -999.0,9,     0.0147,1,     4.6348,1,     -999.0,9,     -999.0,9,     -999.0,9,     -999.0,9,     -999.0,9
33RR20220613,       P02E,     159,          1,         33,         33,2,20220629,       2214,    30.0000,  -137.5405,       4475,    85.6,2,  18.7818,2,  34.4097,2,  34.4076,2,    240.7,2,   239.4,2,    1.47,2,    0.00,2,    0.00,2,    0.08,2,   2.099,2,   1.279,2,   1.9664,2,  2033.0,2,  2276.5,2,   7.9536,2,    25.01,2, -999.00,9,  -999.0,9, -999.00,9, -999.00,9,        8.1,2, 20220630,       16,  30.0000,-137.5404,    18.7847,2,     -999.0,9,     -999.0,9,     -999.0,9,     -999.0,9,     0.0159,1,     4.6431,1,     -999.0,9,     -999.0,9,     -999.0,9,     -999.0,9,     -999.0,9
33RR20220613,       P02E,     159,          1,         32,         32,2,20220629,       2214,    30.0000,  -137.5405,       4475,   115.8,2,  18.4269,2,  34.4577,2,  34.4481,2,    235.3,2,   235.3,2,    1.37,2,    0.01,2,    0.00,2,    0.08,2,-999.000,9,-999.000,9,-999.0000,9,  2037.5,2,  2275.8,6,   7.9481,2,    25.02,2, -999.00,9,  -999.0,9, -999.00,9, -999.00,9,     -999.0,9, 20220630,       14,  30.0000,-137.5405,    18.4357,2,     -999.0,9,     -999.0,9,     -999.0,9,     -999.0,9,     0.0217,1,     4.6503,1,     -999.0,9,     -999.0,9,     -999.0,9,     -999.0,9,     -999.0,9
33RR20220613,       P02E,     159,          1,         31,         31,2,20220629,       2214,    30.0000,  -137.5405,       4475,   165.8,2,  15.3572,2,  34.0979,2,  34.0880,2,    221.7,2,   221.5,2,    3.13,2,    2.27,2,    0.04,2,    0.32,2,   2.417,2,   1.471,2,   2.0712,2,  2053.9,2,  2251.1,2,   7.8670,2,    25.02,2, -999.00,9,  -999.0,9, -999.00,9, -999.00,9,       10.1,2, 20220630,       11,  30.0000,-137.5405,    15.3499,2,     -999.0,9,     -999.0,9,     -999.0,9,     -999.0,9,     0.0220,1,     4.6702,1,     -999.0,9,     -999.0,9,     -999.0,9,     -999.0,9,     -999.0,9
33RR20220613,       P02E,     159,          1,         30,         17,2,20220629,       2214,    30.0000,  -137.5405,       4475,   216.2,2,  11.6430,2,  33.8176,2,  33.8116,2,    213.0,2,   214.4,2,    8.51,2,    9.30,2,    0.00,2,    0.79,2,-999.000,9,-999.000,9,-999.0000,9,  2086.4,2,  2236.7,2,   7.7621,2,    25.00,2, -999.00,9,  -999.0,9, -999.00,9, -999.00,9,     -999.0,9, 20220630,        9,  30.0000,-137.5405,    11.6423,2,     -999.0,9,     -999.0,9,     -999.0,9,     -999.0,9,     0.0134,1,     4.6841,1,     -999.0,9,     -999.0,9,     -999.0,9,     -999.0,9,     -999.0,9
33RR20220613,       P02E,     159,          1,         29,         29,2,20220629,       2214,    30.0000,  -137.5405,       4475,   266.4,2,  10.0709,2,  33.9624,2,  33.9612,2,    202.6,2,   203.6,2,   16.13,2,   15.30,2,    0.00,2,    1.14,2,   3.023,2,   1.835,2,   2.1517,2,  2121.0,2,  2248.3,2,   7.7040,2,    25.02,2, -999.00,9,  -999.0,9, -999.00,9, -999.00,9,       18.1,2, 20220630,        7,  30.0000,-137.5405,    10.0605,2,     -999.0,9,     -999.0,9,     -999.0,9,     -999.0,9,     0.0122,1,     4.6883,1,     -999.0,9,     -999.0,9,     -999.0,9,     -999.0,9,     -999.0,9
33RR20220613,       P02E,     159,          1,         28,         28,2,20220629,       2214,    30.0000,  -137.5405,       4475,   317.2,2,   9.1566,2,  34.0086,2,  34.0100,2,    194.2,2,   194.9,2,   22.59,2,   18.49,2,    0.00,2,    1.35,2,-999.000,9,-999.000,9,-999.0000,9,  2142.1,2,  2257.8,2,   7.6702,2,    25.01,2, -999.00,9,  -999.0,9, -999.00,9, -999.00,9,     -999.0,9, 20220630,        5,  30.0000,-137.5404,     9.1586,2,     -999.0,9,     -999.0,9,     -999.0,9,     -999.0,9,     0.0122,1,     4.6895,1,     -999.0,9,     -999.0,9,     -999.0,9,     -999.0,9,     -999.0,9
33RR20220613,       P02E,     159,          1,         27,         27,2,20220629,       2214,    30.0000,  -137.5405,       4475,   367.9,2,   8.2726,2,  34.0142,2,  34.0098,2,    163.4,2,   162.5,2,   32.95,2,   23.65,2,    0.00,2,    1.69,2,   2.901,2,   1.718,2,   1.4919,2,  2176.2,2,  2263.5,2,   7.5941,2,    25.00,2, -999.00,9,  -999.0,9, -999.00,9, -999.00,9,       26.9,2, 20220630,        2,  30.0000,-137.5405,     8.2711,2,     -999.0,9,     -999.0,9,     -999.0,9,     -999.0,9,     0.0132,1,     4.6897,1,     -999.0,9,     -999.0,9,     -999.0,9,     -999.0,9,     -999.0,9
33RR20220613,       P02E,     159,          1,         26,         26,2,20220629,       2214,    30.0000,  -137.5405,       4475,   417.4,2,   7.2928,2,  33.9989,2,  33.9945,2,    132.1,3,   130.8,2,   44.39,2,   28.61,2,    0.00,2,    2.03,2,-999.000,9,-999.000,9,-999.0000,9,  -999.0,9,  -999.0,9,-999.0000,9,  -999.00,9, -999.00,9,  -999.0,9, -999.00,9, -999.00,9,     -999.0,9, 20220630,        0,  30.0000,-137.5405,     7.3370,2,     -999.0,9,     -999.0,9,     -999.0,9,     -999.0,9,     0.0131,1,     4.6897,1,     -999.0,9,     -999.0,9,     -999.0,9,     -999.0,9,     -999.0,9
33RR20220613,       P02E,     159,          1,         25,         25,2,20220629,       2214,    30.0000,  -137.5405,       4475,   468.4,2,   6.4616,2,  33.9917,2,  33.9894,2,    108.3,2,   108.6,2,   54.85,2,   32.22,2,    0.00,2,    2.31,2,   2.352,2,   1.361,2,   0.8399,2,  -999.0,9,  -999.0,9,-999.0000,9,  -999.00,9, -999.00,9,  -999.0,9, -999.00,9, -999.00,9,       33.4,2, 20220629,     2358,  30.0000,-137.5405,     6.4618,2,     -999.0,9,     -999.0,9,     -999.0,9,     -999.0,9,     0.0134,1,     4.6904,1,     -999.0,9,     -999.0,9,     -999.0,9,     -999.0,9,     -999.0,9
33RR20220613,       P02E,     159,          1,         24,         24,2,20220629,       2214,    30.0000,  -137.5405,       4475,   539.1,2,   5.5706,2,  34.0281,2,  34.0331,2,     69.1,3,    66.6,2,   71.57,2,   37.48,2,    0.00,2,    2.70,2,   1.672,2,   0.958,2,   0.5275,2,  2279.8,2,  2293.5,2,   7.3652,2,    25.02,2, -999.00,9,  -999.0,9, -999.00,9, -999.00,9,       39.4,2, 20220629,     2355,  30.0000,-137.5404,     5.5724,2,     -999.0,9,     -999.0,9,     -999.0,9,     -999.0,9,     0.0134,1,     4.6910,1,     -999.0,9,     -999.0,9,     -999.0,9,     -999.0,9,     -999.0,9
33RR20220613,       P02E,     159,          1,         23,         23,2,20220629,       2214,    30.0000,  -137.5405,       4475,   640.2,2,   4.7972,2,  34.1478,2,  34.1507,2,     29.2,3,    30.0,2,   91.51,2,   41.57,2,    0.00,2,    3.00,2,   0.721,2,   0.392,2,   0.1873,2,  2320.9,2,  2318.9,2,   7.3094,2,    25.01,2, -999.00,9,  -999.0,9, -999.00,9, -999.00,9,       48.5,2, 20220629,     2352,  30.0000,-137.5405,     4.7961,2,     -999.0,9,     -999.0,9,     -999.0,9,     -999.0,9,     0.0134,1,     4.6921,1,     -999.0,9,     -999.0,9,     -999.0,9,     -999.0,9,     -999.0,9
33RR20220613,       P02E,     159,          1,         22,         22,2,20220629,       2214,    30.0000,  -137.5405,       4475,   741.2,2,   4.4467,2,  34.2514,2,  34.2609,2,     16.3,2,    16.2,2,  102.26,2,   42.97,2,    0.00,2,    3.13,2,   0.265,2,   0.150,2,   0.0000,2,  2340.1,2,  2337.9,2,   7.2987,2,    25.01,2, -999.00,9,  -999.0,9, -999.00,9, -999.00,9,       52.9,2, 20220629,     2349,  30.0000,-137.5404,     4.4551,2,     -999.0,9,     -999.0,9,     -999.0,9,     -999.0,9,     0.0134,1,     4.6921,1,     -999.0,9,     -999.0,9,     -999.0,9,     -999.0,9,     -999.0,9
33RR20220613,       P02E,     159,          1,         21,         21,2,20220629,       2214,    30.0000,  -137.5405,       4475,   842.3,2,   4.1086,2,  34.3465,2,  34.3484,2,     14.3,3,    14.1,2,  113.59,2,   43.67,2,    0.00,2,    3.18,2,   0.058,2,   0.040,2,   0.0000,2,  2356.9,2,  2352.5,2,   7.3091,2,    25.01,2, -999.00,9,  -999.0,9, -999.00,9, -999.00,9,       54.4,2, 20220629,     2346,  30.0000,-137.5404,     4.1086,2,     -999.0,9,     -999.0,9,     -999.0,9,     -999.0,9,     0.0134,1,     4.6921,1,     -999.0,9,     -999.0,9,     -999.0,9,     -999.0,9,     -999.0,9
33RR20220613,       P02E,     159,          1,         20,         20,2,20220629,       2214,    30.0000,  -137.5405,       4475,   943.1,2,   3.8925,2,  34.4165,2,  34.4231,2,     20.2,2,    20.0,2,  118.18,2,   43.68,2,    0.00,2,    3.17,2,   0.020,2,   0.015,2,   0.0000,2,  2358.6,2,  2364.7,2,   7.3314,2,    25.00,2, -999.00,9,  -999.0,9, -999.00,9, -999.00,9,       51.7,2, 20220629,     2343,  30.0000,-137.5405,     3.8922,2,     -999.0,9,     -999.0,9,     -999.0,9,     -999.0,9,     0.0134,1,     4.6921,1,     -999.0,9,     -999.0,9,     -999.0,9,     -999.0,9,     -999.0,9
33RR20220613,       P02E,     159,          1,         19,         39,2,20220629,       2214,    30.0000,  -137.5405,       4475,  1044.7,2,   3.6124,2,  34.4561,2,  34.4538,2,     26.1,2,    25.9,2,  124.72,2,   43.55,2,    0.00,2,    3.15,2,   0.015,2,   0.012,2,   0.0000,2,  -999.0,9,  -999.0,9,-999.0000,9,  -999.00,9, -999.00,9,  -999.0,9, -999.00,9, -999.00,9,       48.9,2, 20220629,     2339,  30.0000,-137.5404,     3.6118,2,     -999.0,9,     -999.0,9,     -999.0,9,     -999.0,9,     0.0134,1,     4.6932,1,     -999.0,9,     -999.0,9,     -999.0,9,     -999.0,9,     -999.0,9
33RR20220613,       P02E,     159,          1,         18,         18,2,20220629,       2214,    30.0000,  -137.5405,       4475,  1145.7,2,   3.4308,2,  34.4835,2,  34.4803,2,     32.2,2,    32.0,2,  128.04,2,   43.32,2,    0.00,2,    3.13,2,   0.008,2,   0.004,2,   0.0000,2,  -999.0,9,  -999.0,9,-999.0000,9,  -999.00,9, -999.00,9,  -999.0,9, -999.00,9, -999.00,9,       47.3,2, 20220629,     2337,  30.0000,-137.5404,     3.4279,2,     -999.0,9,     -999.0,9,     -999.0,9,     -999.0,9,     0.0134,1,     4.6933,1,     -999.0,9,     -999.0,9,     -999.0,9,     -999.0,9,     -999.0,9
33RR20220613,       P02E,     159,          1,         17,         37,2,20220629,       2214,    30.0000,  -137.5405,       4475,  1247.6,2,   3.2390,2,  34.5111,2,  34.5115,2,     39.4,3,    39.9,2,  132.54,2,   43.05,2,    0.00,2,    3.09,2,   0.006,2,   0.007,2,   0.0000,2,  2365.8,2,  2387.8,2,   7.3725,2,    25.01,2, -999.00,9,  -999.0,9, -999.00,9, -999.00,9,       43.5,2, 20220629,     2334,  30.0000,-137.5405,     3.2345,2,     -999.0,9,     -999.0,9,     -999.0,9,     -999.0,9,     0.0134,1,     4.6943,1,     -999.0,9,     -999.0,9,     -999.0,9,     -999.0,9,     -999.0,9
33RR20220613,       P02E,     159,          1,         16,         16,2,20220629,       2214,    30.0000,  -137.5405,       4475,  1348.5,2,   2.9953,2,  34.5393,2,  34.5374,2,     47.1,2,    47.4,2,  137.32,2,   42.60,2,    0.00,2,    3.06,2,   0.007,2,   0.004,2,   0.0000,2,  -999.0,9,  -999.0,9,-999.0000,9,  -999.00,9, -999.00,9,  -999.0,9, -999.00,9, -999.00,9,       40.7,2, 20220629,     2331,  30.0000,-137.5405,     2.9952,2,     -999.0,9,     -999.0,9,     -999.0,9,     -999.0,9,     0.0134,1,     4.6946,1,     -999.0,9,     -999.0,9,     -999.0,9,     -999.0,9,     -999.0,9
33RR20220613,       P02E,     159,          1,         15,         15,2,20220629,       2214,    30.0000,  -137.5405,       4475,  1450.3,2,   2.8202,2,  34.5560,2,  34.5574,2,     51.7,2,    52.0,2,  142.60,2,   42.47,2,    0.00,2,    3.04,2,   0.006,2,   0.004,2,   0.0000,2,  2371.1,2,  2401.3,2,   7.3972,2,    25.00,2, -999.00,9,  -999.0,9, -999.00,9, -999.00,9,       39.4,2, 20220629,     2328,  30.0000,-137.5404,     2.8191,2,     -999.0,9,     -999.0,9,     -999.0,9,     -999.0,9,     0.0134,1,     4.6952,1,     -999.0,9,     -999.0,9,     -999.0,9,     -999.0,9,     -999.0,9
33RR20220613,       P02E,     159,          1,         14,         42,2,20220629,       2214,    30.0000,  -137.5405,       4475,  1551.8,2,   2.6576,2,  34.5688,2,  34.5677,2,     56.3,2,    56.1,2,  146.60,2,   42.13,2,    0.00,2,    3.00,2,-999.000,9,-999.000,9,-999.0000,9,  -999.0,9,  -999.0,9,-999.0000,9,  -999.00,9, -999.00,9,  -999.0,9, -999.00,9, -999.00,9,     -999.0,9, 20220629,     2325,  30.0000,-137.5405,     2.6577,2,     -999.0,9,     -999.0,9,     -999.0,9,     -999.0,9,     0.0134,1,     4.6957,1,     -999.0,9,     -999.0,9,     -999.0,9,     -999.0,9,     -999.0,9
33RR20220613,       P02E,     159,          1,         13,         13,2,20220629,       2214,    30.0000,  -137.5405,       4475,  1682.6,2,   2.4766,2,  34.5828,2,  34.5804,2,     61.7,2,    61.4,2,  151.49,2,   41.84,2,    0.00,2,    2.98,2,   0.005,2,   0.004,2,   0.0000,2,  2374.3,2,  2410.0,2,   7.4152,2,    25.01,2, -999.00,9,  -999.0,9, -999.00,9, -999.00,9,       35.7,2, 20220629,     2321,  30.0000,-137.5405,     2.4768,2,     -999.0,9,     -999.0,9,     -999.0,9,     -999.0,9,     0.0134,1,     4.6958,1,     -999.0,9,     -999.0,9,     -999.0,9,     -999.0,9,     -999.0,9
33RR20220613,       P02E,     159,          1,         12,         12,2,20220629,       2214,    30.0000,  -137.5405,       4475,  1885.6,2,   2.1737,2,  34.6064,2,  34.6022,2,     72.9,2,    72.4,2,  158.82,2,   41.16,2,    0.00,2,    2.92,2,-999.000,9,-999.000,9,-999.0000,9,  -999.0,9,  -999.0,9,-999.0000,9,  -999.00,9, -999.00,9,  -999.0,9, -999.00,9, -999.00,9,     -999.0,9, 20220629,     2316,  30.0000,-137.5404,     2.1812,2,     -999.0,9,     -999.0,9,     -999.0,9,     -999.0,9,     0.0128,1,     4.6963,1,     -999.0,9,     -999.0,9,     -999.0,9,     -999.0,9,     -999.0,9
33RR20220613,       P02E,     159,          1,         11,         11,2,20220629,       2214,    30.0000,  -137.5405,       4475,  2109.6,2,   1.9827,2,  34.6234,2,  34.6219,2,     82.3,2,    82.3,2,  164.68,2,   40.49,2,    0.00,2,    2.85,2,   0.005,2,   0.000,2,   0.0000,2,  2372.6,2,  2421.7,2,   7.4549,2,    25.00,2, -999.00,9,  -999.0,9, -999.00,9, -999.00,9,       30.1,2, 20220629,     2310,  30.0000,-137.5404,     1.9826,2,     -999.0,9,     -999.0,9,     -999.0,9,     -999.0,9,     0.0134,1,     4.6971,1,     -999.0,9,     -999.0,9,     -999.0,9,     -999.0,9,     -999.0,9
33RR20220613,       P02E,     159,          1,         10,         10,2,20220629,       2214,    30.0000,  -137.5405,       4475,  2363.3,2,   1.7863,2,  34.6421,3,  34.6386,2,     95.2,2,    95.4,2,  167.90,2,   39.63,2,    0.00,2,    2.81,2,-999.000,9,-999.000,9,-999.0000,9,  -999.0,9,  -999.0,9,-999.0000,9,  -999.00,9, -999.00,9,  -999.0,9, -999.00,9, -999.00,9,     -999.0,9, 20220629,     2302,  30.0000,-137.5405,     1.7867,2,     -999.0,9,     -999.0,9,     -999.0,9,     -999.0,9,     0.0134,1,     4.6983,1,     -999.0,9,     -999.0,9,     -999.0,9,     -999.0,9,     -999.0,9
33RR20220613,       P02E,     159,          1,          9,          9,2,20220629,       2214,    30.0000,  -137.5405,       4475,  2619.4,2,   1.6992,2,  34.6511,3,  34.6488,2,    102.1,2,   102.3,2,  169.56,2,   39.24,2,    0.00,2,    2.79,2,   0.004,2,   0.004,2,   0.0000,2,  2364.6,2,  2427.8,2,   7.4923,2,    25.00,2, -999.00,9,  -999.0,9, -999.00,9, -999.00,9,       27.0,2, 20220629,     2256,  30.0000,-137.5404,     1.6991,2,     -999.0,9,     -999.0,9,     -999.0,9,     -999.0,9,     0.0125,1,     4.6983,1,     -999.0,9,     -999.0,9,     -999.0,9,     -999.0,9,     -999.0,9
33RR20220613,       P02E,     159,          1,          8,          8,2,20220629,       2214,    30.0000,  -137.5405,       4475,  2874.4,2,   1.6154,2,  34.6609,3,  34.6570,2,    112.2,2,   112.4,2,  168.88,2,   38.64,2,    0.00,2,    2.73,2,-999.000,9,-999.000,9,-999.0000,9,  2360.2,2,  2430.0,2,   7.5107,2,    25.01,2, -999.00,9,  -999.0,9, -999.00,9, -999.00,9,     -999.0,9, 20220629,     2251,  30.0000,-137.5404,     1.6152,2,     -999.0,9,     -999.0,9,     -999.0,9,     -999.0,9,     0.0129,1,     4.6991,1,     -999.0,9,     -999.0,9,     -999.0,9,     -999.0,9,     -999.0,9
33RR20220613,       P02E,     159,          1,          7,          7,2,20220629,       2214,    30.0000,  -137.5405,       4475,  3145.0,2,   1.5546,2,  34.6692,3,  34.6663,2,    121.8,2,   121.9,2,  167.31,2,   38.01,2,    0.00,2,    2.66,2,   0.004,2,   0.004,2,   0.0000,2,  2353.2,2,  2430.0,2,   7.5291,2,    25.00,2, -999.00,9,  -999.0,9, -999.00,9, -999.00,9,       24.0,2, 20220629,     2244,  30.0000,-137.5405,     1.5545,2,     -999.0,9,     -999.0,9,     -999.0,9,     -999.0,9,     0.0131,1,     4.6995,1,     -999.0,9,     -999.0,9,     -999.0,9,     -999.0,9,     -999.0,9
33RR20220613,       P02E,     159,          1,          6,          6,4,20220629,       2214,    30.0000,  -137.5405,       4475,  3451.3,3,   1.5016,3,  34.6774,3,  34.6563,3,    131.8,3,  -999.0,9,  160.18,3,   36.99,3,    0.00,3,    2.58,3,-999.000,9,-999.000,9,-999.0000,9,  -999.0,9,  -999.0,9,-999.0000,9,  -999.00,9, -999.00,9,  -999.0,9, -999.00,9, -999.00,9,     -999.0,9, 20220629,     2238,  30.0000,-137.5404,     1.5017,3,     -999.0,9,     -999.0,9,     -999.0,9,     -999.0,9,     0.0122,1,     4.6998,1,     -999.0,9,     -999.0,9,     -999.0,9,     -999.0,9,     -999.0,9
33RR20220613,       P02E,     159,          1,          5,          5,2,20220629,       2214,    30.0000,  -137.5405,       4475,  3758.7,2,   1.4941,2,  34.6815,3,  34.6781,2,    137.3,2,   137.4,2,  163.20,2,   37.17,2,    0.00,2,    2.58,2,   0.004,6,   0.004,6,   0.0000,6,  2343.1,2,  2429.6,2,   7.5564,2,    25.03,2, -999.00,9,  -999.0,9, -999.00,9, -999.00,9,       23.3,6, 20220629,     2232,  30.0000,-137.5405,     1.4941,2,     -999.0,9,     -999.0,9,     -999.0,9,     -999.0,9,     0.0123,1,     4.6997,1,     -999.0,9,     -999.0,9,     -999.0,9,     -999.0,9,     -999.0,9