BOTTLE,20230830CCHSIOCBG
EXPOCODE,SECT_ID,STNNBR,CASTNO,SAMPNO,BTLNBR,BTLNBR_FLAG_W,DATE,TIME,LATITUDE,LONGITUDE,DEPTH,CTDPRS,CTDPRS_FLAG_W,CTDTMP,CTDTMP_FLAG_W,CTDSAL,CTDSAL_FLAG_W,SALNTY,SALNTY_FLAG_W,CTDOXY,CTDOXY_FLAG_W,OXYGEN,OXYGEN_FLAG_W,SILCAT,SILCAT_FLAG_W,NITRAT,NITRAT_FLAG_W,NITRIT,NITRIT_FLAG_W,PHSPHT,PHSPHT_FLAG_W,CFC-11,CFC-11_FLAG_W,CFC-12,CFC-12_FLAG_W,SF6,SF6_FLAG_W,TCARBN,TCARBN_FLAG_W,ALKALI,ALKALI_FLAG_W,PH_TOT,PH_TOT_FLAG_W,PH_TMP,PH_TMP_FLAG_W,DELC13,DELC13_FLAG_W,DELC14,DELC14_FLAG_W,DOC,DOC_FLAG_W,TDN,TDN_FLAG_W,N2O,N2O_FLAG_W,BTL_DATE,BTL_TIME,BTL_LAT,BTL_LON,REFTMP,REFTMP_FLAG_W,POC,POC_FLAG_W,PON,PON_FLAG_W,POP,POP_FLAG_W,PCOD,PCOD_FLAG_W,CTDFLUOR,CTDFLUOR_FLAG_W,CTDXMISS,CTDXMISS_FLAG_W,HPLC,HPLC_FLAG_W,DNA,DNA_FLAG_W,FCM,FCM_FLAG_W,IMAGES,IMAGES_FLAG_W,VIRAL_ABUNDANCE,VIRAL_ABUNDANCE_FLAG_W
,,,,,,,,,,,METERS,DBAR,,ITS-90,,PSS-78,,PSS-78,,UMOL/KG,,UMOL/KG,,UMOL/KG,,UMOL/KG,,UMOL/KG,,UMOL/KG,,PMOL/KG,,PMOL/KG,,FMOL/KG,,UMOL/KG,,UMOL/KG,,,,DEG C,,/MILLE,,/MILLE,,UMOL/KG,,UMOL/KG,,NMOL/KG,,,,,,ITS-90,,UG/L,,UG/L,,UG/L,,UG/L,,VOLTS,,VOLTS,,,,,,,,,,,
33RR20220613,       P02E,     188,          4,         36,         36,2,20220714,       1645,    30.9999,  -121.2219,       3888,     3.5,2,  18.6027,2,  33.2702,2,  33.2746,2,    241.2,2,   241.0,2,    0.39,2,    0.00,2,    0.01,2,    0.32,2,   2.134,6,   1.330,6,   2.2401,6,  2015.7,6,  2224.5,2,   7.9040,2,    25.00,2, -999.00,9,  -999.0,9, -999.00,9, -999.00,9,        9.0,6, 20220714,     1838,  30.9999,-121.2219,    18.5964,2,     -999.0,9,     -999.0,9,     -999.0,9,     -999.0,9,     0.0264,1,     4.5744,1,     -999.0,9,     -999.0,9,     -999.0,9,     -999.0,9,     -999.0,9
33RR20220613,       P02E,     188,          4,         35,         35,2,20220714,       1645,    30.9999,  -121.2219,       3888,    25.9,2,  16.1766,2,  33.2943,2,  33.2902,2,    267.9,2,   268.0,2,    0.29,2,    0.50,2,    0.05,2,    0.37,2,   2.457,2,   1.504,2,   2.5132,2,  2018.9,2,  2223.3,2,   7.8932,2,    25.01,2, -999.00,9,  -999.0,9, -999.00,9, -999.00,9,       10.7,2, 20220714,     1836,  30.9999,-121.2219,    16.1799,2,     -999.0,9,     -999.0,9,     -999.0,9,     -999.0,9,     0.0404,1,     4.5578,1,     -999.0,9,     -999.0,9,     -999.0,9,     -999.0,9,     -999.0,9
33RR20220613,       P02E,     188,          4,         34,         34,2,20220714,       1645,    30.9999,  -121.2219,       3888,    51.4,2,  12.7940,2,  33.1931,2,  33.1926,2,    254.0,2,   254.6,2,    3.13,2,    5.56,2,    0.31,2,    0.74,2,   2.785,2,   1.688,2,   2.6962,2,  2056.2,2,  2214.4,2,   7.7981,2,    25.01,2, -999.00,9,  -999.0,9, -999.00,9, -999.00,9,       13.0,2, 20220714,     1832,  30.9999,-121.2219,    12.8001,2,     -999.0,9,     -999.0,9,     -999.0,9,     -999.0,9,     0.0450,1,     4.6067,1,     -999.0,9,     -999.0,9,     -999.0,9,     -999.0,9,     -999.0,9
33RR20220613,       P02E,     188,          4,         33,         33,2,20220714,       1645,    30.9999,  -121.2219,       3888,    76.7,2,  12.1241,2,  33.4342,2,  33.4357,2,    219.9,2,   220.5,2,    6.84,2,   12.34,2,    0.04,2,    1.10,2,   2.817,2,   1.715,2,   2.4938,2,  2100.2,2,  2227.6,2,   7.7090,2,    25.02,2, -999.00,9,  -999.0,9, -999.00,9, -999.00,9,       15.3,2, 20220714,     1831,  30.9999,-121.2219,    12.1234,2,     -999.0,9,     -999.0,9,     -999.0,9,     -999.0,9,     0.0195,1,     4.6441,1,     -999.0,9,     -999.0,9,     -999.0,9,     -999.0,9,     -999.0,9
33RR20220613,       P02E,     188,          4,         32,         32,2,20220714,       1645,    30.9999,  -121.2219,       3888,   101.1,2,  10.9576,2,  33.5388,2,  33.5421,2,    188.7,2,   188.2,2,   13.30,2,   17.04,2,    0.02,2,    1.39,2,   2.872,2,   1.758,2,   2.2824,2,  2131.6,2,  2230.0,2,   7.6281,2,    24.99,2, -999.00,9,  -999.0,9, -999.00,9, -999.00,9,       19.7,2, 20220714,     1829,  30.9999,-121.2219,    10.9652,2,     -999.0,9,     -999.0,9,     -999.0,9,     -999.0,9,     0.0156,1,     4.6495,1,     -999.0,9,     -999.0,9,     -999.0,9,     -999.0,9,     -999.0,9
33RR20220613,       P02E,     188,          4,         31,         31,2,20220714,       1645,    30.9999,  -121.2219,       3888,   127.4,2,  10.1197,2,  33.7573,2,  33.7646,2,    162.1,3,   159.5,2,   21.02,2,   22.17,2,    0.00,2,    1.70,2,   2.814,2,   1.741,2,   2.0954,2,  2169.3,2,  2241.5,6,   7.5507,2,    24.99,2, -999.00,9,  -999.0,9, -999.00,9, -999.00,9,       25.7,2, 20220714,     1827,  31.0000,-121.2219,    10.1254,2,     -999.0,9,     -999.0,9,     -999.0,9,     -999.0,9,     0.0134,1,     4.6484,1,     -999.0,9,     -999.0,9,     -999.0,9,     -999.0,9,     -999.0,9
33RR20220613,       P02E,     188,          4,         30,         17,2,20220714,       1645,    30.9999,  -121.2219,       3888,   151.7,2,   9.6333,2,  33.9165,2,  33.9154,2,    118.9,3,   120.2,2,   26.68,2,   24.91,2,    0.00,2,    1.90,2,   2.708,2,   1.640,2,   1.7034,2,  2196.9,2,  2249.5,2,   7.4966,2,    25.02,2, -999.00,9,  -999.0,9, -999.00,9, -999.00,9,       31.4,2, 20220714,     1824,  30.9999,-121.2219,     9.6527,2,     -999.0,9,     -999.0,9,     -999.0,9,     -999.0,9,     0.0134,1,     4.6506,1,     -999.0,9,     -999.0,9,     -999.0,9,     -999.0,9,     -999.0,9
33RR20220613,       P02E,     188,          4,         29,         29,2,20220714,       1645,    30.9999,  -121.2219,       3888,   202.9,2,   8.6024,2,  34.0078,2,  34.0059,2,    115.8,2,   115.3,2,   32.94,2,   26.96,2,    0.00,2,    1.95,2,   2.670,2,   1.604,2,   1.4023,2,  2205.1,2,  2261.6,2,   7.4983,2,    25.01,2, -999.00,9,  -999.0,9, -999.00,9, -999.00,9,       35.2,2, 20220714,     1822,  30.9999,-121.2219,     8.6014,2,     -999.0,9,     -999.0,9,     -999.0,9,     -999.0,9,     0.0134,1,     4.6543,1,     -999.0,9,     -999.0,9,     -999.0,9,     -999.0,9,     -999.0,9
33RR20220613,       P02E,     188,          4,         28,         28,2,20220714,       1645,    30.9999,  -121.2219,       3888,   252.6,2,   7.8071,2,  34.0370,2,  34.0372,2,     94.8,2,    94.4,2,   42.03,2,   30.41,2,    0.00,2,    2.18,2,   2.407,2,   1.458,2,   1.1100,2,  2231.3,2,  2271.2,2,   7.4450,2,    25.00,2, -999.00,9,  -999.0,9, -999.00,9, -999.00,9,       40.2,2, 20220714,     1820,  31.0000,-121.2219,     7.8088,2,     -999.0,9,     -999.0,9,     -999.0,9,     -999.0,9,     0.0134,1,     4.6586,1,     -999.0,9,     -999.0,9,     -999.0,9,     -999.0,9,     -999.0,9
33RR20220613,       P02E,     188,          4,         27,         27,2,20220714,       1645,    30.9999,  -121.2219,       3888,   302.7,2,   7.2745,2,  34.0857,2,  34.0852,2,     67.1,2,    66.9,2,   51.21,2,   33.43,2,    0.00,2,    2.46,2,   1.982,2,   1.162,2,   0.7123,2,  2256.6,2,  2280.2,2,   7.3896,2,    24.99,2, -999.00,9,  -999.0,9, -999.00,9, -999.00,9,       45.8,2, 20220714,     1816,  30.9999,-121.2219,     7.2696,2,     -999.0,9,     -999.0,9,     -999.0,9,     -999.0,9,     0.0134,1,     4.6542,1,     -999.0,9,     -999.0,9,     -999.0,9,     -999.0,9,     -999.0,9
33RR20220613,       P02E,     188,          4,         26,         26,2,20220714,       1645,    30.9999,  -121.2219,       3888,   353.8,2,   6.7868,2,  34.1238,2,  34.1215,2,     48.8,3,    49.5,2,   58.83,2,   35.63,2,    0.00,2,    2.62,2,   1.578,2,   0.913,2,   0.5180,2,  2276.4,2,  2289.6,2,   7.3566,2,    25.00,2, -999.00,9,  -999.0,9, -999.00,9, -999.00,9,       50.2,2, 20220714,     1815,  31.0000,-121.2219,     6.7876,2,     -999.0,9,     -999.0,9,     -999.0,9,     -999.0,9,     0.0134,1,     4.6595,1,     -999.0,9,     -999.0,9,     -999.0,9,     -999.0,9,     -999.0,9
33RR20220613,       P02E,     188,          4,         25,         25,2,20220714,       1645,    30.9999,  -121.2219,       3888,   403.8,2,   6.4658,2,  34.1943,2,  34.1920,2,     28.1,3,    28.4,2,   66.75,2,   37.58,2,    0.00,2,    2.83,2,   1.030,2,   0.585,2,   0.2936,2,  2298.8,2,  2300.3,2,   7.3277,2,    24.99,2, -999.00,9,  -999.0,9, -999.00,9, -999.00,9,       56.4,2, 20220714,     1812,  30.9999,-121.2219,     6.4894,2,     -999.0,9,     -999.0,9,     -999.0,9,     -999.0,9,     0.0134,1,     4.6594,1,     -999.0,9,     -999.0,9,     -999.0,9,     -999.0,9,     -999.0,9
33RR20220613,       P02E,     188,          4,         24,         24,2,20220714,       1645,    30.9999,  -121.2219,       3888,   455.1,2,   5.9876,2,  34.2016,2,  34.2046,2,     23.0,2,    23.2,2,   73.29,2,   38.94,2,    0.00,2,    2.90,2,   0.804,2,   0.447,2,   0.2131,2,  -999.0,9,  -999.0,9,-999.0000,9,  -999.00,9, -999.00,9,  -999.0,9, -999.00,9, -999.00,9,       59.5,2, 20220714,     1810,  31.0000,-121.2219,     6.0097,2,     -999.0,9,     -999.0,9,     -999.0,9,     -999.0,9,     0.0134,1,     4.6603,1,     -999.0,9,     -999.0,9,     -999.0,9,     -999.0,9,     -999.0,9
33RR20220613,       P02E,     188,          4,         23,         23,2,20220714,       1645,    30.9999,  -121.2219,       3888,   504.1,2,   5.8393,2,  34.2650,2,  34.2625,2,     15.3,2,    15.3,2,   78.66,2,   39.76,2,    0.00,2,    3.00,2,   0.469,2,   0.247,2,   0.1743,2,  2317.8,2,  2317.8,2,   7.3147,2,    25.00,2, -999.00,9,  -999.0,9, -999.00,9, -999.00,9,       63.3,2, 20220714,     1807,  30.9999,-121.2219,     5.8371,2,     -999.0,9,     -999.0,9,     -999.0,9,     -999.0,9,     0.0134,1,     4.6606,1,     -999.0,9,     -999.0,9,     -999.0,9,     -999.0,9,     -999.0,9
33RR20220613,       P02E,     188,          4,         22,         22,2,20220714,       1645,    30.9999,  -121.2219,       3888,   605.7,2,   5.3814,2,  34.3331,2,  34.3307,2,     11.7,3,    12.0,2,   88.24,2,   41.08,2,    0.00,2,    3.09,2,   0.178,2,   0.095,2,   0.0919,2,  2333.1,2,  2331.1,2,   7.3150,2,    24.99,2, -999.00,9,  -999.0,9, -999.00,9, -999.00,9,       66.1,2, 20220714,     1804,  30.9999,-121.2219,     5.3812,2,     -999.0,9,     -999.0,9,     -999.0,9,     -999.0,9,     0.0134,1,     4.6640,1,     -999.0,9,     -999.0,9,     -999.0,9,     -999.0,9,     -999.0,9
33RR20220613,       P02E,     188,          4,         21,         21,2,20220714,       1645,    30.9999,  -121.2219,       3888,   705.3,2,   4.8362,2,  34.3590,2,  34.3576,2,     12.5,3,    12.3,2,   98.10,2,   42.23,2,    0.00,2,    3.13,2,   0.082,2,   0.049,2,   0.0000,2,  2343.8,2,  2343.2,2,   7.3174,2,    25.00,2, -999.00,9,  -999.0,9, -999.00,9, -999.00,9,       67.0,2, 20220714,     1801,  30.9999,-121.2219,     4.8342,2,     -999.0,9,     -999.0,9,     -999.0,9,     -999.0,9,     0.0133,1,     4.6667,1,     -999.0,9,     -999.0,9,     -999.0,9,     -999.0,9,     -999.0,9
33RR20220613,       P02E,     188,          4,         20,         20,2,20220714,       1645,    30.9999,  -121.2219,       3888,   807.5,2,   4.5078,2,  34.4206,2,  34.4198,2,     15.2,3,    15.0,2,  105.62,2,   42.71,2,    0.00,2,    3.15,2,   0.035,2,   0.024,2,   0.1190,2,  -999.0,9,  -999.0,9,-999.0000,9,  -999.00,9, -999.00,9,  -999.0,9, -999.00,9, -999.00,9,       67.2,2, 20220714,     1758,  30.9999,-121.2219,     4.5106,2,     -999.0,9,     -999.0,9,     -999.0,9,     -999.0,9,     0.0134,1,     4.6664,1,     -999.0,9,     -999.0,9,     -999.0,9,     -999.0,9,     -999.0,9
33RR20220613,       P02E,     188,          4,         19,         39,2,20220714,       1645,    30.9999,  -121.2219,       3888,   909.9,2,   4.2345,2,  34.4514,2,  34.4512,2,     19.0,2,    18.9,2,  111.48,2,   42.94,2,    0.00,2,    3.15,2,   0.024,2,   0.020,2,   0.1395,2,  2354.7,2,  2363.9,2,   7.3371,2,    25.00,2, -999.00,9,  -999.0,9, -999.00,9, -999.00,9,       65.1,2, 20220714,     1755,  31.0000,-121.2219,     4.2347,2,     -999.0,9,     -999.0,9,     -999.0,9,     -999.0,9,     0.0134,1,     4.6678,1,     -999.0,9,     -999.0,9,     -999.0,9,     -999.0,9,     -999.0,9
33RR20220613,       P02E,     188,          4,         18,         18,2,20220714,       1645,    30.9999,  -121.2219,       3888,  1010.7,2,   3.8921,2,  34.4835,2,  34.4828,2,     24.8,2,    25.1,2,  118.90,2,   43.11,2,    0.00,2,    3.14,2,   0.017,2,   0.015,2,   0.1207,2,  -999.0,9,  -999.0,9,-999.0000,9,  -999.00,9, -999.00,9,  -999.0,9, -999.00,9, -999.00,9,       59.2,2, 20220714,     1752,  30.9999,-121.2219,     3.8914,2,     -999.0,9,     -999.0,9,     -999.0,9,     -999.0,9,     0.0134,1,     4.6687,1,     -999.0,9,     -999.0,9,     -999.0,9,     -999.0,9,     -999.0,9
33RR20220613,       P02E,     188,          4,         17,         37,2,20220714,       1645,    30.9999,  -121.2219,       3888,  1109.5,2,   3.6100,2,  34.5054,2,  34.5052,2,     30.3,3,    30.0,2,  125.35,2,   43.11,2,    0.00,2,    3.13,2,   0.015,2,   0.014,2,   0.2166,2,  2364.1,2,  2383.1,2,   7.3595,2,    25.01,2, -999.00,9,  -999.0,9, -999.00,9, -999.00,9,       57.2,2, 20220714,     1750,  30.9999,-121.2219,     3.6020,2,     -999.0,9,     -999.0,9,     -999.0,9,     -999.0,9,     0.0134,1,     4.6692,1,     -999.0,9,     -999.0,9,     -999.0,9,     -999.0,9,     -999.0,9
33RR20220613,       P02E,     188,          4,         16,         16,2,20220714,       1645,    30.9999,  -121.2219,       3888,  1212.0,2,   3.3792,2,  34.5235,2,  34.5225,2,     35.2,2,    35.2,2,  130.53,2,   43.00,2,    0.00,2,    3.10,2,   0.013,2,   0.012,2,   0.1082,2,  -999.0,9,  -999.0,9,-999.0000,9,  -999.00,9, -999.00,9,  -999.0,9, -999.00,9, -999.00,9,       56.7,2, 20220714,     1747,  31.0000,-121.2219,     3.3798,2,     -999.0,9,     -999.0,9,     -999.0,9,     -999.0,9,     0.0134,1,     4.6703,1,     -999.0,9,     -999.0,9,     -999.0,9,     -999.0,9,     -999.0,9
33RR20220613,       P02E,     188,          4,         15,         15,2,20220714,       1645,    30.9999,  -121.2219,       3888,  1312.7,2,   3.2005,2,  34.5387,2,  34.5374,2,     39.2,2,    38.9,2,  134.92,2,   42.90,2,    0.00,2,    3.08,2,   0.015,2,   0.012,2,   0.1252,2,  2367.4,2,  2393.6,2,   7.3771,2,    25.02,2, -999.00,9,  -999.0,9, -999.00,9, -999.00,9,       51.0,2, 20220714,     1744,  30.9999,-121.2219,     3.2049,2,     -999.0,9,     -999.0,9,     -999.0,9,     -999.0,9,     0.0134,1,     4.6697,1,     -999.0,9,     -999.0,9,     -999.0,9,     -999.0,9,     -999.0,9
33RR20220613,       P02E,     188,          4,         14,         42,2,20220714,       1645,    30.9999,  -121.2219,       3888,  1414.7,2,   2.9845,2,  34.5532,2,  34.5525,2,     44.4,2,    44.5,2,  140.49,2,   42.61,2,    0.00,2,    3.05,2,   0.014,2,   0.012,2,   0.0000,2,  -999.0,9,  -999.0,9,-999.0000,9,  -999.00,9, -999.00,9,  -999.0,9, -999.00,9, -999.00,9,       48.1,2, 20220714,     1741,  30.9999,-121.2219,     2.9848,2,     -999.0,9,     -999.0,9,     -999.0,9,     -999.0,9,     0.0134,1,     4.6701,1,     -999.0,9,     -999.0,9,     -999.0,9,     -999.0,9,     -999.0,9
33RR20220613,       P02E,     188,          4,         13,         13,2,20220714,       1645,    30.9999,  -121.2219,       3888,  1516.0,2,   2.8173,2,  34.5640,2,  34.5637,2,     49.1,2,    49.0,2,  145.18,2,   42.43,2,    0.00,2,    3.02,2,   0.016,2,   0.014,2,   0.0000,2,  2370.9,2,  2403.1,2,   7.3936,2,    24.99,2, -999.00,9,  -999.0,9, -999.00,9, -999.00,9,       47.4,2, 20220714,     1739,  30.9999,-121.2219,     2.8174,2,     -999.0,9,     -999.0,9,     -999.0,9,     -999.0,9,     0.0134,1,     4.6709,1,     -999.0,9,     -999.0,9,     -999.0,9,     -999.0,9,     -999.0,9
33RR20220613,       P02E,     188,          4,         12,         12,2,20220714,       1645,    30.9999,  -121.2219,       3888,  1617.0,2,   2.6495,2,  34.5767,2,  34.5765,2,     54.7,2,    55.0,2,  148.99,2,   42.22,2,    0.00,2,    2.98,2,   0.010,2,   0.008,2,   0.0000,2,  -999.0,9,  -999.0,9,-999.0000,9,  -999.00,9, -999.00,9,  -999.0,9, -999.00,9, -999.00,9,       45.6,2, 20220714,     1736,  30.9999,-121.2219,     2.6512,2,     -999.0,9,     -999.0,9,     -999.0,9,     -999.0,9,     0.0134,1,     4.6727,1,     -999.0,9,     -999.0,9,     -999.0,9,     -999.0,9,     -999.0,9
33RR20220613,       P02E,     188,          4,         11,         11,2,20220714,       1645,    30.9999,  -121.2219,       3888,  1719.4,2,   2.4593,2,  34.5938,2,  34.5932,2,     63.0,2,    63.1,2,  152.89,2,   41.66,2,    0.00,2,    2.93,2,   0.008,2,   0.005,2,   0.0000,2,  2371.8,2,  2410.7,2,   7.4211,2,    25.00,2, -999.00,9,  -999.0,9, -999.00,9, -999.00,9,       40.9,2, 20220714,     1733,  30.9999,-121.2219,     2.4585,2,     -999.0,9,     -999.0,9,     -999.0,9,     -999.0,9,     0.0134,1,     4.6728,1,     -999.0,9,     -999.0,9,     -999.0,9,     -999.0,9,     -999.0,9
33RR20220613,       P02E,     188,          4,         10,         10,2,20220714,       1645,    30.9999,  -121.2219,       3888,  1821.4,2,   2.3322,2,  34.6020,2,  34.6026,2,     67.9,2,    68.3,2,  156.21,2,   41.30,2,    0.00,2,    2.90,2,-999.000,9,-999.000,9,-999.0000,9,  -999.0,9,  -999.0,9,-999.0000,9,  -999.00,9, -999.00,9,  -999.0,9, -999.00,9, -999.00,9,     -999.0,9, 20220714,     1730,  30.9999,-121.2219,     2.3286,2,     -999.0,9,     -999.0,9,     -999.0,9,     -999.0,9,     0.0134,1,     4.6720,1,     -999.0,9,     -999.0,9,     -999.0,9,     -999.0,9,     -999.0,9
33RR20220613,       P02E,     188,          4,          9,          9,2,20220714,       1645,    30.9999,  -121.2219,       3888,  2024.8,2,   2.1137,2,  34.6218,2,  34.6213,2,     80.3,2,    80.0,2,  160.12,2,   40.52,2,    0.00,2,    2.83,2,   0.006,2,   0.005,2,   0.0000,2,  2369.0,2,  2420.9,2,   7.4542,2,    25.00,2, -999.00,9,  -999.0,9, -999.00,9, -999.00,9,       36.4,2, 20220714,     1726,  30.9999,-121.2219,     2.1142,2,     -999.0,9,     -999.0,9,     -999.0,9,     -999.0,9,     0.0134,1,     4.6732,1,     -999.0,9,     -999.0,9,     -999.0,9,     -999.0,9,     -999.0,9
33RR20220613,       P02E,     188,          4,          8,          8,2,20220714,       1645,    30.9999,  -121.2219,       3888,  2278.6,2,   1.9310,2,  34.6398,2,  34.6388,2,     93.2,2,    93.7,2,  162.46,2,   39.66,2,    0.00,2,    2.76,2,-999.000,9,-999.000,9,-999.0000,9,  -999.0,9,  -999.0,9,-999.0000,9,  -999.00,9, -999.00,9,  -999.0,9, -999.00,9, -999.00,9,     -999.0,9, 20220714,     1720,  30.9999,-121.2219,     1.9307,2,     -999.0,9,     -999.0,9,     -999.0,9,     -999.0,9,     0.0134,1,     4.6740,1,     -999.0,9,     -999.0,9,     -999.0,9,     -999.0,9,     -999.0,9
33RR20220613,       P02E,     188,          4,          7,          7,2,20220714,       1645,    30.9999,  -121.2219,       3888,  2532.1,2,   1.8047,2,  34.6513,2,  34.6504,2,    103.0,2,   102.8,2,  164.02,2,   39.09,2,    0.00,2,    2.72,2,   0.006,2,   0.005,2,   0.0000,2,  2360.6,2,  2426.9,6,   7.4988,2,    24.99,2, -999.00,9,  -999.0,9, -999.00,9, -999.00,9,       32.3,2, 20220714,     1715,  30.9999,-121.2219,     1.8049,2,     -999.0,9,     -999.0,9,     -999.0,9,     -999.0,9,     0.0131,1,     4.6751,1,     -999.0,9,     -999.0,9,     -999.0,9,     -999.0,9,     -999.0,9
33RR20220613,       P02E,     188,          4,          6,          6,2,20220714,       1645,    30.9999,  -121.2219,       3888,  2788.7,2,   1.7105,2,  34.6596,2,  34.6590,2,    110.9,2,   111.1,2,  165.49,2,   38.67,2,    0.00,2,    2.69,2,-999.000,9,-999.000,9,-999.0000,9,  -999.0,9,  -999.0,9,-999.0000,9,  -999.00,9, -999.00,9,  -999.0,9, -999.00,9, -999.00,9,     -999.0,9, 20220714,     1710,  30.9999,-121.2219,     1.7103,2,     -999.0,9,     -999.0,9,     -999.0,9,     -999.0,9,     0.0134,1,     4.6763,1,     -999.0,9,     -999.0,9,     -999.0,9,     -999.0,9,     -999.0,9
33RR20220613,       P02E,     188,          4,          5,          5,2,20220714,       1645,    30.9999,  -121.2219,       3888,  3042.6,2,   1.6405,2,  34.6654,2,  34.6651,2,    117.3,2,   117.4,2,  166.66,2,   38.30,2,    0.00,2,    2.66,2,   0.008,2,   0.011,2,   0.0000,2,  2352.8,2,  2431.6,2,   7.5255,2,    24.99,2, -999.00,9,  -999.0,9, -999.00,9, -999.00,9,       29.8,2, 20220714,     1704,  30.9999,-121.2219,     1.6403,2,     -999.0,9,     -999.0,9,     -999.0,9,     -999.0,9,     0.0122,1,     4.6776,1,     -999.0,9,     -999.0,9,     -999.0,9,     -999.0,9,     -999.0,9