BOTTLE,20230830CCHSIOCBG
EXPOCODE,SECT_ID,STNNBR,CASTNO,SAMPNO,BTLNBR,BTLNBR_FLAG_W,DATE,TIME,LATITUDE,LONGITUDE,DEPTH,CTDPRS,CTDPRS_FLAG_W,CTDTMP,CTDTMP_FLAG_W,CTDSAL,CTDSAL_FLAG_W,SALNTY,SALNTY_FLAG_W,CTDOXY,CTDOXY_FLAG_W,OXYGEN,OXYGEN_FLAG_W,SILCAT,SILCAT_FLAG_W,NITRAT,NITRAT_FLAG_W,NITRIT,NITRIT_FLAG_W,PHSPHT,PHSPHT_FLAG_W,CFC-11,CFC-11_FLAG_W,CFC-12,CFC-12_FLAG_W,SF6,SF6_FLAG_W,TCARBN,TCARBN_FLAG_W,ALKALI,ALKALI_FLAG_W,PH_TOT,PH_TOT_FLAG_W,PH_TMP,PH_TMP_FLAG_W,DELC13,DELC13_FLAG_W,DELC14,DELC14_FLAG_W,DOC,DOC_FLAG_W,TDN,TDN_FLAG_W,N2O,N2O_FLAG_W,BTL_DATE,BTL_TIME,BTL_LAT,BTL_LON,REFTMP,REFTMP_FLAG_W,POC,POC_FLAG_W,PON,PON_FLAG_W,POP,POP_FLAG_W,PCOD,PCOD_FLAG_W,CTDFLUOR,CTDFLUOR_FLAG_W,CTDXMISS,CTDXMISS_FLAG_W,HPLC,HPLC_FLAG_W,DNA,DNA_FLAG_W,FCM,FCM_FLAG_W,IMAGES,IMAGES_FLAG_W,VIRAL_ABUNDANCE,VIRAL_ABUNDANCE_FLAG_W
,,,,,,,,,,,METERS,DBAR,,ITS-90,,PSS-78,,PSS-78,,UMOL/KG,,UMOL/KG,,UMOL/KG,,UMOL/KG,,UMOL/KG,,UMOL/KG,,PMOL/KG,,PMOL/KG,,FMOL/KG,,UMOL/KG,,UMOL/KG,,,,DEG C,,/MILLE,,/MILLE,,UMOL/KG,,UMOL/KG,,NMOL/KG,,,,,,ITS-90,,UG/L,,UG/L,,UG/L,,UG/L,,VOLTS,,VOLTS,,,,,,,,,,,
33RR20220613,       P02E,     201,          1,         36,         36,2,20220712,       1009,    32.6315,  -118.1555,       2030,     5.0,2,  18.9826,2,  33.6276,2,  33.6297,2,    246.1,2,   245.1,2,    0.00,2,    0.00,2,    0.02,2,    0.15,2,   2.224,2,   1.312,2,   2.1384,2,  1999.6,6,  2248.1,2,-999.0000,1,  -999.00,1, -999.00,9,  -999.0,9, -999.00,9, -999.00,9,        8.7,2, 20220712,     1143,  32.6315,-118.1555,    18.9765,2,     -999.0,9,     -999.0,9,     -999.0,9,     -999.0,9,     0.0330,1,     4.4548,1,     -999.0,9,     -999.0,9,     -999.0,9,     -999.0,9,     -999.0,9
33RR20220613,       P02E,     201,          1,         35,         35,2,20220712,       1009,    32.6315,  -118.1555,       2030,    25.7,2,  13.7611,2,  33.6361,2,  33.6410,2,    243.0,2,   241.4,2,    2.64,2,    7.38,2,    0.38,2,    0.84,2,   2.725,6,   1.599,6,   2.3988,6,  2079.8,2,  2245.2,2,   7.7904,2,    25.01,2, -999.00,9,  -999.0,9, -999.00,9, -999.00,9,       15.3,6, 20220712,     1139,  32.6315,-118.1554,    13.7649,2,     -999.0,9,     -999.0,9,     -999.0,9,     -999.0,9,     0.0797,1,     4.5202,1,     -999.0,9,     -999.0,9,     -999.0,9,     -999.0,9,     -999.0,9
33RR20220613,       P02E,     201,          1,         34,         34,2,20220712,       1009,    32.6315,  -118.1555,       2030,    50.8,2,  11.7630,2,  33.6683,2,  33.6613,2,    195.8,3,   205.4,2,    9.00,2,   13.12,2,    0.24,2,    1.18,2,   2.846,2,   1.676,2,   2.4432,2,  2123.4,2,  2242.4,2,   7.6751,2,    25.00,2, -999.00,9,  -999.0,9, -999.00,9, -999.00,9,       16.5,2, 20220712,     1138,  32.6315,-118.1554,    11.7607,2,     -999.0,9,     -999.0,9,     -999.0,9,     -999.0,9,     0.0317,1,     4.6251,1,     -999.0,9,     -999.0,9,     -999.0,9,     -999.0,9,     -999.0,9
33RR20220613,       P02E,     201,          1,         33,         33,2,20220712,       1009,    32.6315,  -118.1555,       2030,    75.7,2,  10.2474,2,  33.7496,2,  33.7511,2,    143.8,2,   143.9,2,   19.26,2,   20.36,2,    0.04,2,    1.60,2,   2.929,2,   1.736,2,   1.9709,2,  2164.1,2,  2240.6,2,   7.5561,2,    25.02,2, -999.00,9,  -999.0,9, -999.00,9, -999.00,9,       23.5,2, 20220712,     1136,  32.6315,-118.1554,    10.2582,2,     -999.0,9,     -999.0,9,     -999.0,9,     -999.0,9,     0.0159,1,     4.6557,1,     -999.0,9,     -999.0,9,     -999.0,9,     -999.0,9,     -999.0,9
33RR20220613,       P02E,     201,          1,         32,         32,2,20220712,       1009,    32.6315,  -118.1555,       2030,   101.0,2,   9.5118,2,  33.8211,2,  33.8310,2,    147.4,2,   146.8,2,   22.39,2,   21.84,2,    0.00,2,    1.64,2,   3.047,2,   1.765,2,   1.8099,2,  2168.5,2,  2244.8,6,   7.5603,2,    25.02,2, -999.00,9,  -999.0,9, -999.00,9, -999.00,9,       24.3,2, 20220712,     1134,  32.6315,-118.1554,     9.5421,2,     -999.0,9,     -999.0,9,     -999.0,9,     -999.0,9,     0.0134,1,     4.6597,1,     -999.0,9,     -999.0,9,     -999.0,9,     -999.0,9,     -999.0,9
33RR20220613,       P02E,     201,          1,         31,         31,2,20220712,       1009,    32.6315,  -118.1555,       2030,   126.5,2,   9.1548,2,  33.9283,2,  33.9375,2,    142.3,2,   140.9,2,   25.81,2,   23.14,2,    0.00,2,    1.71,2,   2.931,2,   1.723,2,   1.6246,2,  2177.7,2,  2253.1,2,   7.5515,2,    25.01,2, -999.00,9,  -999.0,9, -999.00,9, -999.00,9,       27.0,2, 20220712,     1131,  32.6315,-118.1554,     9.1554,2,     -999.0,9,     -999.0,9,     -999.0,9,     -999.0,9,     0.0134,1,     4.6604,1,     -999.0,9,     -999.0,9,     -999.0,9,     -999.0,9,     -999.0,9
33RR20220613,       P02E,     201,          1,         30,         17,2,20220712,       1009,    32.6315,  -118.1555,       2030,   151.8,2,   8.9293,2,  34.0044,2,  34.0129,2,    124.5,3,   122.4,2,   30.40,2,   25.22,2,    0.00,2,    1.89,2,   2.808,2,   1.624,2,   1.4094,2,  2196.9,2,  2260.6,2,   7.5168,2,    25.01,2, -999.00,9,  -999.0,9, -999.00,9, -999.00,9,       30.6,2, 20220712,     1130,  32.6315,-118.1554,     8.9275,2,     -999.0,9,     -999.0,9,     -999.0,9,     -999.0,9,     0.0125,1,     4.6622,1,     -999.0,9,     -999.0,9,     -999.0,9,     -999.0,9,     -999.0,9
33RR20220613,       P02E,     201,          1,         29,         29,2,20220712,       1009,    32.6315,  -118.1555,       2030,   176.6,2,   8.7222,2,  34.0369,2,  34.0396,2,    112.6,2,   112.4,2,   33.73,2,   26.69,2,    0.00,2,    1.99,2,   2.683,2,   1.562,2,   1.2369,2,  2209.3,2,  2264.0,2,   7.4938,2,    25.00,2, -999.00,9,  -999.0,9, -999.00,9, -999.00,9,       31.7,2, 20220712,     1128,  32.6315,-118.1554,     8.7164,2,     -999.0,9,     -999.0,9,     -999.0,9,     -999.0,9,     0.0134,1,     4.6630,1,     -999.0,9,     -999.0,9,     -999.0,9,     -999.0,9,     -999.0,9
33RR20220613,       P02E,     201,          1,         28,         28,2,20220712,       1009,    32.6315,  -118.1555,       2030,   202.2,2,   8.3851,2,  34.0315,2,  34.0358,2,    112.0,2,   111.1,2,   35.88,2,   27.67,2,    0.00,2,    2.04,2,   2.677,2,   1.550,2,   1.1901,2,  2213.3,2,  2269.3,2,   7.4862,2,    24.99,2, -999.00,9,  -999.0,9, -999.00,9, -999.00,9,       32.7,2, 20220712,     1126,  32.6315,-118.1554,     8.3830,2,     -999.0,9,     -999.0,9,     -999.0,9,     -999.0,9,     0.0129,1,     4.6629,1,     -999.0,9,     -999.0,9,     -999.0,9,     -999.0,9,     -999.0,9
33RR20220613,       P02E,     201,          1,         27,         27,2,20220712,       1009,    32.6315,  -118.1555,       2030,   227.1,2,   8.0769,2,  34.0594,2,  34.0603,2,     96.7,3,    97.9,2,   39.98,2,   29.22,2,    0.00,2,    2.17,2,   2.501,2,   1.449,2,   0.9913,2,  -999.0,9,  -999.0,9,-999.0000,9,  -999.00,9, -999.00,9,  -999.0,9, -999.00,9, -999.00,9,       34.3,2, 20220712,     1124,  32.6315,-118.1554,     8.0757,2,     -999.0,9,     -999.0,9,     -999.0,9,     -999.0,9,     0.0133,1,     4.6636,1,     -999.0,9,     -999.0,9,     -999.0,9,     -999.0,9,     -999.0,9
33RR20220613,       P02E,     201,          1,         26,         26,2,20220712,       1009,    32.6315,  -118.1555,       2030,   257.8,2,   7.8148,2,  34.1214,3,  34.1775,2,     67.7,3,    61.4,2,   46.43,2,   31.61,2,    0.00,2,    2.47,2,   1.935,2,   1.111,2,   0.7664,2,  2257.8,2,  2281.9,2,   7.3970,2,    24.99,2, -999.00,9,  -999.0,9, -999.00,9, -999.00,9,       38.5,2, 20220712,     1115,  32.6315,-118.1555,     7.8064,2,     -999.0,9,     -999.0,9,     -999.0,9,     -999.0,9,     0.0134,1,     4.6656,1,     -999.0,9,     -999.0,9,     -999.0,9,     -999.0,9,     -999.0,9
33RR20220613,       P02E,     201,          1,         25,         25,2,20220712,       1009,    32.6315,  -118.1555,       2030,   302.8,2,   7.4757,2,  34.1740,2,  34.1689,2,     46.4,3,    47.6,2,   52.98,2,   33.94,2,    0.00,2,    2.61,2,   1.626,2,   0.926,2,   0.5422,2,  2271.5,2,  2288.0,2,   7.3647,2,    24.99,2, -999.00,9,  -999.0,9, -999.00,9, -999.00,9,       41.6,2, 20220712,     1112,  32.6315,-118.1554,     7.4777,2,     -999.0,9,     -999.0,9,     -999.0,9,     -999.0,9,     0.0134,1,     4.6658,1,     -999.0,9,     -999.0,9,     -999.0,9,     -999.0,9,     -999.0,9
33RR20220613,       P02E,     201,          1,         24,         24,2,20220712,       1009,    32.6315,  -118.1555,       2030,   353.2,2,   6.9239,2,  34.1679,2,  34.1717,2,     39.5,2,    39.7,2,   59.24,2,   35.82,2,    0.00,2,    2.72,2,   1.400,2,   0.779,2,   0.4691,2,  2284.9,2,  2294.5,2,   7.3477,2,    24.99,2, -999.00,9,  -999.0,9, -999.00,9, -999.00,9,       44.2,2, 20220712,     1110,  32.6315,-118.1554,     6.9230,2,     -999.0,9,     -999.0,9,     -999.0,9,     -999.0,9,     0.0134,1,     4.6682,1,     -999.0,9,     -999.0,9,     -999.0,9,     -999.0,9,     -999.0,9
33RR20220613,       P02E,     201,          1,         23,         23,2,20220712,       1009,    32.6315,  -118.1555,       2030,   403.7,2,   6.6382,2,  34.2076,2,  34.2091,2,     28.6,3,    29.0,2,   64.61,2,   37.10,2,    0.00,2,    2.82,2,   1.073,2,   0.575,2,   0.3379,2,  2296.0,2,  2300.6,2,   7.3309,2,    24.98,2, -999.00,9,  -999.0,9, -999.00,9, -999.00,9,       47.1,2, 20220712,     1108,  32.6315,-118.1554,     6.6381,2,     -999.0,9,     -999.0,9,     -999.0,9,     -999.0,9,     0.0134,1,     4.6688,1,     -999.0,9,     -999.0,9,     -999.0,9,     -999.0,9,     -999.0,9
33RR20220613,       P02E,     201,          1,         22,         22,2,20220712,       1009,    32.6315,  -118.1555,       2030,   453.5,2,   6.3546,2,  34.2434,2,  34.2450,2,     21.5,2,    21.5,2,   70.18,2,   38.25,2,    0.00,2,    2.91,2,   0.721,2,   0.395,2,   0.2122,2,  2304.9,2,  2310.1,2,   7.3233,2,    24.98,2, -999.00,9,  -999.0,9, -999.00,9, -999.00,9,       51.6,2, 20220712,     1105,  32.6315,-118.1554,     6.3548,2,     -999.0,9,     -999.0,9,     -999.0,9,     -999.0,9,     0.0134,1,     4.6688,1,     -999.0,9,     -999.0,9,     -999.0,9,     -999.0,9,     -999.0,9
33RR20220613,       P02E,     201,          1,         21,         21,2,20220712,       1009,    32.6315,  -118.1555,       2030,   504.1,2,   6.3837,2,  34.3142,2,  34.3213,2,     13.5,2,    13.6,2,   72.62,2,   38.43,2,    0.00,2,    2.99,2,   0.407,2,   0.227,2,   0.1994,2,  -999.0,9,  -999.0,9,-999.0000,9,  -999.00,9, -999.00,9,  -999.0,9, -999.00,9, -999.00,9,       55.3,2, 20220712,     1102,  32.6315,-118.1554,     6.3879,2,     -999.0,9,     -999.0,9,     -999.0,9,     -999.0,9,     0.0134,1,     4.6689,1,     -999.0,9,     -999.0,9,     -999.0,9,     -999.0,9,     -999.0,9
33RR20220613,       P02E,     201,          1,         20,         20,2,20220712,       1009,    32.6315,  -118.1555,       2030,   555.1,2,   6.1239,2,  34.3192,2,  34.3186,2,     13.4,2,    13.5,2,   76.14,2,   39.13,2,    0.00,2,    3.02,2,   0.364,2,   0.205,2,   0.1619,2,  2317.8,2,  2320.3,2,   7.3221,2,    24.98,2, -999.00,9,  -999.0,9, -999.00,9, -999.00,9,       54.8,2, 20220712,     1101,  32.6316,-118.1553,     6.1270,2,     -999.0,9,     -999.0,9,     -999.0,9,     -999.0,9,     0.0134,1,     4.6691,1,     -999.0,9,     -999.0,9,     -999.0,9,     -999.0,9,     -999.0,9
33RR20220613,       P02E,     201,          1,         19,         39,2,20220712,       1009,    32.6315,  -118.1555,       2030,   605.4,2,   5.8790,2,  34.3486,2,  34.3531,2,     11.1,2,    11.1,2,   80.73,2,   39.89,2,    0.00,2,    3.09,2,   0.205,2,   0.115,2,   0.1833,2,  2326.2,2,  2326.9,2,   7.3199,2,    24.99,2, -999.00,9,  -999.0,9, -999.00,9, -999.00,9,       56.4,2, 20220712,     1059,  32.6316,-118.1554,     5.8781,2,     -999.0,9,     -999.0,9,     -999.0,9,     -999.0,9,     0.0134,1,     4.6702,1,     -999.0,9,     -999.0,9,     -999.0,9,     -999.0,9,     -999.0,9
33RR20220613,       P02E,     201,          1,         18,         18,2,20220712,       1009,    32.6315,  -118.1555,       2030,   656.1,2,   5.5385,2,  34.3644,2,  34.3651,2,     11.0,3,    10.7,2,   86.40,2,   40.83,2,    0.00,2,    3.11,2,   0.145,2,   0.086,2,   0.1198,2,  2332.9,2,  2332.7,2,   7.3205,2,    24.99,2, -999.00,9,  -999.0,9, -999.00,9, -999.00,9,       55.6,2, 20220712,     1056,  32.6315,-118.1554,     5.5377,2,     -999.0,9,     -999.0,9,     -999.0,9,     -999.0,9,     0.0134,1,     4.6709,1,     -999.0,9,     -999.0,9,     -999.0,9,     -999.0,9,     -999.0,9
33RR20220613,       P02E,     201,          1,         17,         37,2,20220712,       1009,    32.6315,  -118.1555,       2030,   716.4,2,   5.3732,2,  34.3795,2,  34.3806,2,     11.2,3,    11.0,2,   89.62,2,   41.30,2,    0.00,2,    3.13,2,   0.107,2,   0.068,2,   0.1478,2,  2335.8,2,  2337.6,2,   7.3225,2,    24.98,2, -999.00,9,  -999.0,9, -999.00,9, -999.00,9,       56.2,2, 20220712,     1054,  32.6316,-118.1554,     5.3717,2,     -999.0,9,     -999.0,9,     -999.0,9,     -999.0,9,     0.0134,1,     4.6698,1,     -999.0,9,     -999.0,9,     -999.0,9,     -999.0,9,     -999.0,9
33RR20220613,       P02E,     201,          1,         16,         16,2,20220712,       1009,    32.6315,  -118.1555,       2030,   807.8,2,   5.0881,2,  34.4062,2,  34.4076,2,     12.3,3,    11.9,2,   95.09,2,   41.93,2,    0.00,2,    3.15,2,   0.066,2,   0.043,2,   0.0730,2,  -999.0,9,  -999.0,9,-999.0000,9,  -999.00,9, -999.00,9,  -999.0,9, -999.00,9, -999.00,9,       56.3,2, 20220712,     1051,  32.6315,-118.1554,     5.0869,2,     -999.0,9,     -999.0,9,     -999.0,9,     -999.0,9,     0.0134,1,     4.6658,1,     -999.0,9,     -999.0,9,     -999.0,9,     -999.0,9,     -999.0,9
33RR20220613,       P02E,     201,          1,         15,         15,2,20220712,       1009,    32.6315,  -118.1555,       2030,   883.0,2,   4.7897,2,  34.4275,2,  34.4300,2,     14.2,3,    13.8,2,  101.15,2,   42.29,2,    0.00,2,    3.15,2,   0.056,2,   0.039,2,   0.2597,2,  2348.6,2,  2351.9,2,   7.3292,2,    24.99,2, -999.00,9,  -999.0,9, -999.00,9, -999.00,9,       57.4,2, 20220712,     1048,  32.6316,-118.1554,     4.7888,2,     -999.0,9,     -999.0,9,     -999.0,9,     -999.0,9,     0.0134,1,     4.6709,1,     -999.0,9,     -999.0,9,     -999.0,9,     -999.0,9,     -999.0,9
33RR20220613,       P02E,     201,          1,         14,         42,2,20220712,       1009,    32.6315,  -118.1555,       2030,   959.3,2,   4.5249,2,  34.4463,2,  34.4536,2,     16.1,2,    16.0,2,  107.80,2,   42.32,2,    0.00,2,    3.17,2,   0.059,2,   0.048,2,   0.5311,2,  -999.0,9,  -999.0,9,-999.0000,9,  -999.00,9, -999.00,9,  -999.0,9, -999.00,9, -999.00,9,       55.0,2, 20220712,     1046,  32.6316,-118.1553,     4.5246,2,     -999.0,9,     -999.0,9,     -999.0,9,     -999.0,9,     0.0134,1,     4.6690,1,     -999.0,9,     -999.0,9,     -999.0,9,     -999.0,9,     -999.0,9
33RR20220613,       P02E,     201,          1,         13,         13,2,20220712,       1009,    32.6315,  -118.1555,       2030,  1035.0,2,   4.1954,2,  34.4706,2,  34.4716,2,     19.8,3,    20.1,2,  114.64,2,   42.62,2,    0.00,2,    3.15,2,   0.055,2,   0.047,2,   0.8882,2,  2358.9,2,  2368.6,2,   7.3416,2,    24.99,2, -999.00,9,  -999.0,9, -999.00,9, -999.00,9,       52.1,2, 20220712,     1043,  32.6316,-118.1554,     4.1965,2,     -999.0,9,     -999.0,9,     -999.0,9,     -999.0,9,     0.0134,1,     4.6695,1,     -999.0,9,     -999.0,9,     -999.0,9,     -999.0,9,     -999.0,9
33RR20220613,       P02E,     201,          1,         12,         12,2,20220712,       1009,    32.6315,  -118.1555,       2030,  1110.6,2,   3.9493,2,  34.4894,2,  34.4895,2,     23.8,2,    23.9,2,  120.11,2,   42.71,2,    0.00,2,    3.15,2,   0.058,2,   0.048,2,   0.9676,2,  -999.0,9,  -999.0,9,-999.0000,9,  -999.00,9, -999.00,9,  -999.0,9, -999.00,9, -999.00,9,       49.9,2, 20220712,     1040,  32.6315,-118.1554,     3.9526,2,     -999.0,9,     -999.0,9,     -999.0,9,     -999.0,9,     0.0133,1,     4.6702,1,     -999.0,9,     -999.0,9,     -999.0,9,     -999.0,9,     -999.0,9
33RR20220613,       P02E,     201,          1,         11,         11,2,20220712,       1009,    32.6315,  -118.1555,       2030,  1186.7,2,   3.6958,2,  34.5077,2,  34.5085,2,     28.2,2,    28.1,2,  125.77,2,   42.68,2,    0.00,2,    3.13,2,   0.073,2,   0.055,2,   0.7187,2,  2368.7,2,  2382.5,2,   7.3566,2,    25.00,2, -999.00,9,  -999.0,9, -999.00,9, -999.00,9,       47.9,2, 20220712,     1037,  32.6315,-118.1554,     3.6963,2,     -999.0,9,     -999.0,9,     -999.0,9,     -999.0,9,     0.0134,1,     4.6690,1,     -999.0,9,     -999.0,9,     -999.0,9,     -999.0,9,     -999.0,9
33RR20220613,       P02E,     201,          1,         10,         10,2,20220712,       1009,    32.6315,  -118.1555,       2030,  1263.0,2,   3.5433,2,  34.5193,2,  34.5197,2,     31.5,2,    31.7,2,  129.68,2,   42.55,2,    0.00,2,    3.12,2,   0.094,2,   0.061,2,   0.6134,2,  -999.0,9,  -999.0,9,-999.0000,9,  -999.00,9, -999.00,9,  -999.0,9, -999.00,9, -999.00,9,       47.2,2, 20220712,     1035,  32.6315,-118.1554,     3.5414,2,     -999.0,9,     -999.0,9,     -999.0,9,     -999.0,9,     0.0134,1,     4.6694,1,     -999.0,9,     -999.0,9,     -999.0,9,     -999.0,9,     -999.0,9
33RR20220613,       P02E,     201,          1,          9,          9,2,20220712,       1009,    32.6315,  -118.1555,       2030,  1339.2,2,   3.3570,2,  34.5333,2,  34.5333,2,     35.5,2,    35.5,2,  133.98,2,   42.39,2,    0.00,2,    3.10,2,   0.116,2,   0.061,2,   0.4666,2,  2370.2,2,  2392.2,2,   7.3714,2,    24.99,2, -999.00,9,  -999.0,9, -999.00,9, -999.00,9,       43.9,2, 20220712,     1032,  32.6315,-118.1554,     3.3581,2,     -999.0,9,     -999.0,9,     -999.0,9,     -999.0,9,     0.0133,1,     4.6702,1,     -999.0,9,     -999.0,9,     -999.0,9,     -999.0,9,     -999.0,9
33RR20220613,       P02E,     201,          1,          8,          8,2,20220712,       1009,    32.6315,  -118.1555,       2030,  1414.8,2,   3.2123,2,  34.5441,2,  34.5463,2,     39.1,2,    39.5,2,  138.18,2,   42.17,2,    0.00,2,    3.08,2,   0.123,2,   0.069,2,   0.4651,2,  -999.0,9,  -999.0,9,-999.0000,9,  -999.00,9, -999.00,9,  -999.0,9, -999.00,9, -999.00,9,       42.3,2, 20220712,     1029,  32.6315,-118.1554,     3.2117,2,     -999.0,9,     -999.0,9,     -999.0,9,     -999.0,9,     0.0134,1,     4.6699,1,     -999.0,9,     -999.0,9,     -999.0,9,     -999.0,9,     -999.0,9
33RR20220613,       P02E,     201,          1,          7,          7,2,20220712,       1009,    32.6315,  -118.1555,       2030,  1491.2,2,   2.9860,2,  34.5611,2,  34.5639,2,     44.9,2,    44.8,2,  142.87,2,   41.94,2,    0.00,2,    3.05,2,   0.124,2,   0.074,2,   0.3463,2,  2376.4,2,  2402.9,2,   7.3896,2,    24.98,2, -999.00,9,  -999.0,9, -999.00,9, -999.00,9,       39.9,2, 20220712,     1025,  32.6316,-118.1554,     2.9882,2,     -999.0,9,     -999.0,9,     -999.0,9,     -999.0,9,     0.0134,1,     4.6701,1,     -999.0,9,     -999.0,9,     -999.0,9,     -999.0,9,     -999.0,9
33RR20220613,       P02E,     201,          1,          6,          6,2,20220712,       1009,    32.6315,  -118.1555,       2030,  1592.6,2,   2.8183,2,  34.5739,2,  34.5745,2,     49.5,2,    49.9,2,  146.78,2,   41.69,2,    0.00,2,    3.03,2,   0.100,2,   0.081,2,   0.2552,2,  -999.0,9,  -999.0,9,-999.0000,9,  -999.00,9, -999.00,9,  -999.0,9, -999.00,9, -999.00,9,       38.3,2, 20220712,     1023,  32.6316,-118.1554,     2.8217,2,     -999.0,9,     -999.0,9,     -999.0,9,     -999.0,9,     0.0133,1,     4.6704,1,     -999.0,9,     -999.0,9,     -999.0,9,     -999.0,9,     -999.0,9
33RR20220613,       P02E,     201,          1,          5,          5,2,20220712,       1009,    32.6315,  -118.1555,       2030,  1693.6,2,   2.7114,2,  34.5819,2,  34.5826,2,     53.1,2,    53.1,2,  149.22,2,   41.54,2,    0.00,2,    3.01,2,   0.073,2,   0.085,2,   0.2685,2,  2380.7,2,  2411.0,2,   7.4069,2,    24.99,2, -999.00,9,  -999.0,9, -999.00,9, -999.00,9,       37.2,2, 20220712,     1020,  32.6316,-118.1554,     2.7103,2,     -999.0,9,     -999.0,9,     -999.0,9,     -999.0,9,     0.0134,1,     4.6708,1,     -999.0,9,     -999.0,9,     -999.0,9,     -999.0,9,     -999.0,9