BOTTLE,20230830CCHSIOCBG
EXPOCODE,SECT_ID,STNNBR,CASTNO,SAMPNO,BTLNBR,BTLNBR_FLAG_W,DATE,TIME,LATITUDE,LONGITUDE,DEPTH,CTDPRS,CTDPRS_FLAG_W,CTDTMP,CTDTMP_FLAG_W,CTDSAL,CTDSAL_FLAG_W,SALNTY,SALNTY_FLAG_W,CTDOXY,CTDOXY_FLAG_W,OXYGEN,OXYGEN_FLAG_W,SILCAT,SILCAT_FLAG_W,NITRAT,NITRAT_FLAG_W,NITRIT,NITRIT_FLAG_W,PHSPHT,PHSPHT_FLAG_W,CFC-11,CFC-11_FLAG_W,CFC-12,CFC-12_FLAG_W,SF6,SF6_FLAG_W,TCARBN,TCARBN_FLAG_W,ALKALI,ALKALI_FLAG_W,PH_TOT,PH_TOT_FLAG_W,PH_TMP,PH_TMP_FLAG_W,DELC13,DELC13_FLAG_W,DELC14,DELC14_FLAG_W,DOC,DOC_FLAG_W,TDN,TDN_FLAG_W,N2O,N2O_FLAG_W,BTL_DATE,BTL_TIME,BTL_LAT,BTL_LON,REFTMP,REFTMP_FLAG_W,POC,POC_FLAG_W,PON,PON_FLAG_W,POP,POP_FLAG_W,PCOD,PCOD_FLAG_W,CTDFLUOR,CTDFLUOR_FLAG_W,CTDXMISS,CTDXMISS_FLAG_W,HPLC,HPLC_FLAG_W,DNA,DNA_FLAG_W,FCM,FCM_FLAG_W,IMAGES,IMAGES_FLAG_W,VIRAL_ABUNDANCE,VIRAL_ABUNDANCE_FLAG_W
,,,,,,,,,,,METERS,DBAR,,ITS-90,,PSS-78,,PSS-78,,UMOL/KG,,UMOL/KG,,UMOL/KG,,UMOL/KG,,UMOL/KG,,UMOL/KG,,PMOL/KG,,PMOL/KG,,FMOL/KG,,UMOL/KG,,UMOL/KG,,,,DEG C,,/MILLE,,/MILLE,,UMOL/KG,,UMOL/KG,,NMOL/KG,,,,,,ITS-90,,UG/L,,UG/L,,UG/L,,UG/L,,VOLTS,,VOLTS,,,,,,,,,,,
33RR20220613,       P02E,     163,          1,          4,          4,2,20220701,       0106,    30.0002,  -135.2308,       4886,  4143.0,2,   1.5015,2,  34.6840,2,  34.6824,2,    142.4,2,   142.2,2,  161.20,2,   36.91,2,    0.00,2,    2.53,2,-999.000,9,-999.000,9,-999.0000,9,  2339.4,2,  2430.6,2,   7.5673,2,    25.03,2, -999.00,9,  -999.0,9, -999.00,9, -999.00,9,     -999.0,9, 20220701,      124,  30.0003,-135.2308,     1.5015,2,     -999.0,9,     -999.0,9,     -999.0,9,     -999.0,9,     0.0122,1,     4.6998,1,     -999.0,9,     -999.0,9,     -999.0,9,     -999.0,9,     -999.0,9
33RR20220613,       P02E,     163,          1,          3,          3,2,20220701,       0106,    30.0002,  -135.2308,       4886,  4425.9,2,   1.5278,2,  34.6849,2,  34.6840,2,    143.6,2,   143.9,2,  160.91,2,   36.89,2,    0.00,2,    2.52,2,   0.006,2,   0.008,2,   0.0000,2,  2338.3,2,  2432.0,6,   7.5695,2,    25.02,2, -999.00,9,  -999.0,9, -999.00,9, -999.00,9,       22.3,2, 20220701,      117,  30.0003,-135.2308,     1.5278,2,     -999.0,9,     -999.0,9,     -999.0,9,     -999.0,9,     0.0122,1,     4.6995,1,     -999.0,9,     -999.0,9,     -999.0,9,     -999.0,9,     -999.0,9
33RR20220613,       P02E,     163,          1,          2,          2,2,20220701,       0106,    30.0002,  -135.2308,       4886,  4706.9,2,   1.5588,2,  34.6852,2,  34.6849,2,    144.2,2,   144.3,2,  160.62,2,   36.89,2,    0.00,2,    2.52,2,   0.006,2,   0.009,2,   0.0000,2,  2337.9,2,  2431.4,6,   7.5702,2,    25.03,2, -999.00,9,  -999.0,9, -999.00,9, -999.00,9,       22.8,2, 20220701,      112,  30.0002,-135.2308,     1.5588,2,     -999.0,9,     -999.0,9,     -999.0,9,     -999.0,9,     0.0122,1,     4.6992,1,     -999.0,9,     -999.0,9,     -999.0,9,     -999.0,9,     -999.0,9
33RR20220613,       P02E,     163,          1,          1,          1,2,20220701,       0106,    30.0002,  -135.2308,       4886,  4967.2,2,   1.5901,2,  34.6852,2,  34.6853,2,    144.5,2,   144.3,2,  160.52,2,   36.77,2,    0.00,2,    2.51,2,   0.007,2,   0.006,2,   0.0000,2,  2338.9,6,  2429.0,2,   7.5715,2,    25.03,2, -999.00,9,  -999.0,9, -999.00,9, -999.00,9,       23.0,2, 20220701,      106,  30.0003,-135.2308,     1.5901,2,     -999.0,9,     -999.0,9,     -999.0,9,     -999.0,9,     0.0127,1,     4.6983,1,     -999.0,9,     -999.0,9,     -999.0,9,     -999.0,9,     -999.0,9
33RR20220613,       P02E,     164,          1,         14,         42,2,20220701,       0632,    30.0005,  -134.6546,       4725,     3.8,2,  20.5463,2,  33.6571,2,-999.0000,9,    231.1,2,  -999.0,9, -999.00,9, -999.00,9, -999.00,9, -999.00,9,-999.000,9,-999.000,9,-999.0000,9,  -999.0,9,  -999.0,9,-999.0000,9,  -999.00,9, -999.00,9,  -999.0,9, -999.00,9, -999.00,9,     -999.0,9, 20220701,      701,  30.0005,-134.6546,     -999.0,9,     -999.0,9,     -999.0,9,     -999.0,1,     -999.0,9,     0.0110,1,     0.0097,1,     -999.0,9,     -999.0,9,     -999.0,9,     -999.0,9,     -999.0,9
33RR20220613,       P02E,     164,          1,         10,         10,2,20220701,       0632,    30.0005,  -134.6546,       4725,     3.8,2,  20.5486,2,  33.6582,2,-999.0000,9,    231.2,2,  -999.0,9, -999.00,9, -999.00,9, -999.00,9, -999.00,9,-999.000,9,-999.000,9,-999.0000,9,  -999.0,9,  -999.0,9,-999.0000,9,  -999.00,9, -999.00,9,  -999.0,9, -999.00,9, -999.00,9,     -999.0,9, 20220701,      701,  30.0005,-134.6546,     -999.0,9,     -999.0,9,     -999.0,9,     -999.0,9,     -999.0,9,     0.0110,1,     0.0097,1,     -999.0,9,     -999.0,1,     -999.0,9,     -999.0,9,     -999.0,9
33RR20220613,       P02E,     164,          1,         15,         15,2,20220701,       0632,    30.0005,  -134.6546,       4725,     4.0,2,  20.5456,2,  33.6566,2,-999.0000,9,    231.0,2,  -999.0,9, -999.00,9, -999.00,9, -999.00,9, -999.00,9,-999.000,9,-999.000,9,-999.0000,9,  -999.0,9,  -999.0,9,-999.0000,9,  -999.00,9, -999.00,9,  -999.0,9, -999.00,9, -999.00,9,     -999.0,9, 20220701,      701,  30.0005,-134.6546,     -999.0,9,     -999.0,9,     -999.0,9,     -999.0,1,     -999.0,9,     0.0117,1,     0.0097,1,     -999.0,9,     -999.0,9,     -999.0,9,     -999.0,9,     -999.0,9
33RR20220613,       P02E,     164,          1,         17,         37,2,20220701,       0632,    30.0005,  -134.6546,       4725,     4.0,2,  20.5404,2,  33.6534,2,-999.0000,9,    231.4,2,  -999.0,9, -999.00,9, -999.00,9, -999.00,9, -999.00,9,-999.000,9,-999.000,9,-999.0000,9,  -999.0,9,  -999.0,9,-999.0000,9,  -999.00,9, -999.00,9,  -999.0,9, -999.00,9, -999.00,9,     -999.0,9, 20220701,      703,  30.0005,-134.6546,    20.5417,2,     -999.0,9,     -999.0,9,     -999.0,9,     -999.0,1,     0.0112,1,     0.0097,1,     -999.0,9,     -999.0,9,     -999.0,9,     -999.0,9,     -999.0,9
33RR20220613,       P02E,     164,          1,         18,         18,2,20220701,       0632,    30.0005,  -134.6546,       4725,     4.1,2,  20.5417,2,  33.6538,2,-999.0000,9,    231.2,2,  -999.0,9, -999.00,9, -999.00,9, -999.00,9, -999.00,9,-999.000,9,-999.000,9,-999.0000,9,  -999.0,9,  -999.0,9,-999.0000,9,  -999.00,9, -999.00,9,  -999.0,9, -999.00,9, -999.00,9,     -999.0,9, 20220701,      703,  30.0005,-134.6546,     -999.0,9,     -999.0,9,     -999.0,9,     -999.0,9,     -999.0,1,     0.0118,1,     0.0097,1,     -999.0,9,     -999.0,9,     -999.0,9,     -999.0,9,     -999.0,9
33RR20220613,       P02E,     164,          1,         11,         11,2,20220701,       0632,    30.0005,  -134.6546,       4725,     4.1,2,  20.5478,2,  33.6577,2,-999.0000,9,    231.2,2,  -999.0,9, -999.00,9, -999.00,9, -999.00,9, -999.00,9,-999.000,9,-999.000,9,-999.0000,9,  -999.0,9,  -999.0,9,-999.0000,9,  -999.00,9, -999.00,9,  -999.0,9, -999.00,9, -999.00,9,     -999.0,9, 20220701,      701,  30.0005,-134.6546,     -999.0,9,     -999.0,1,     -999.0,1,     -999.0,9,     -999.0,9,     0.0110,1,     0.0097,1,     -999.0,9,     -999.0,9,     -999.0,9,     -999.0,9,     -999.0,9
33RR20220613,       P02E,     164,          1,         16,         16,2,20220701,       0632,    30.0005,  -134.6546,       4725,     4.3,2,  20.5404,2,  33.6532,2,-999.0000,9,    231.1,2,  -999.0,9, -999.00,9, -999.00,9, -999.00,9, -999.00,9,-999.000,9,-999.000,9,-999.0000,9,  -999.0,9,  -999.0,9,-999.0000,9,  -999.00,9, -999.00,9,  -999.0,9, -999.00,9, -999.00,9,     -999.0,9, 20220701,      703,  30.0005,-134.6546,     -999.0,9,     -999.0,9,     -999.0,9,     -999.0,1,     -999.0,9,     0.0113,1,     0.0097,1,     -999.0,9,     -999.0,9,     -999.0,9,     -999.0,9,     -999.0,9
33RR20220613,       P02E,     164,          1,         19,         39,2,20220701,       0632,    30.0005,  -134.6546,       4725,     4.3,2,  20.5425,2,  33.6541,2,-999.0000,9,    231.4,2,  -999.0,9, -999.00,9, -999.00,9, -999.00,9, -999.00,9,-999.000,9,-999.000,9,-999.0000,9,  -999.0,9,  -999.0,9,-999.0000,9,  -999.00,9, -999.00,9,  -999.0,9, -999.00,9, -999.00,9,     -999.0,9, 20220701,      703,  30.0005,-134.6546,     -999.0,9,     -999.0,9,     -999.0,9,     -999.0,9,     -999.0,1,     0.0110,1,     0.0097,1,     -999.0,9,     -999.0,9,     -999.0,9,     -999.0,9,     -999.0,9
33RR20220613,       P02E,     164,          1,         13,         13,2,20220701,       0632,    30.0005,  -134.6546,       4725,     4.4,2,  20.5467,2,  33.6570,2,-999.0000,9,    231.3,2,  -999.0,9, -999.00,9, -999.00,9, -999.00,9, -999.00,9,-999.000,9,-999.000,9,-999.0000,9,  -999.0,9,  -999.0,9,-999.0000,9,  -999.00,9, -999.00,9,  -999.0,9, -999.00,9, -999.00,9,     -999.0,9, 20220701,      701,  30.0005,-134.6546,     -999.0,9,     -999.0,1,     -999.0,1,     -999.0,9,     -999.0,9,     0.0110,1,     0.0097,1,     -999.0,9,     -999.0,9,     -999.0,9,     -999.0,9,     -999.0,9
33RR20220613,       P02E,     164,          1,          9,          9,2,20220701,       0632,    30.0005,  -134.6546,       4725,     4.5,2,  20.5468,2,  33.6575,2,-999.0000,9,    231.1,2,  -999.0,9, -999.00,9, -999.00,9, -999.00,9, -999.00,9,-999.000,9,-999.000,9,-999.0000,9,  -999.0,9,  -999.0,9,-999.0000,9,  -999.00,9, -999.00,9,  -999.0,9, -999.00,9, -999.00,9,     -999.0,9, 20220701,      701,  30.0005,-134.6546,    20.5460,2,     -999.0,9,     -999.0,9,     -999.0,9,     -999.0,9,     0.0112,1,     0.0097,1,     -999.0,1,     -999.0,9,     -999.0,1,     -999.0,9,     -999.0,9
33RR20220613,       P02E,     164,          1,         12,         12,2,20220701,       0632,    30.0005,  -134.6546,       4725,     4.7,2,  20.5488,2,  33.6582,2,-999.0000,9,    231.2,2,  -999.0,9, -999.00,9, -999.00,9, -999.00,9, -999.00,9,-999.000,9,-999.000,9,-999.0000,9,  -999.0,9,  -999.0,9,-999.0000,9,  -999.00,9, -999.00,9,  -999.0,9, -999.00,9, -999.00,9,     -999.0,9, 20220701,      701,  30.0005,-134.6546,     -999.0,9,     -999.0,1,     -999.0,1,     -999.0,9,     -999.0,9,     0.0110,1,     0.0097,1,     -999.0,9,     -999.0,9,     -999.0,9,     -999.0,9,     -999.0,9
33RR20220613,       P02E,     164,          1,          8,          8,2,20220701,       0632,    30.0005,  -134.6546,       4725,    40.1,2,  18.6664,2,  33.7204,2,-999.0000,9,    250.3,2,  -999.0,9, -999.00,9, -999.00,9, -999.00,9, -999.00,9,-999.000,9,-999.000,9,-999.0000,9,  -999.0,9,  -999.0,9,-999.0000,9,  -999.00,9, -999.00,9,  -999.0,9, -999.00,9, -999.00,9,     -999.0,9, 20220701,      659,  30.0005,-134.6546,    18.6640,2,     -999.0,9,     -999.0,9,     -999.0,9,     -999.0,9,     0.0113,1,     0.0097,1,     -999.0,1,     -999.0,9,     -999.0,1,     -999.0,9,     -999.0,9
33RR20220613,       P02E,     164,          1,          7,          7,2,20220701,       0632,    30.0005,  -134.6546,       4725,    75.3,2,  17.7438,2,  33.9121,2,-999.0000,9,    245.8,2,  -999.0,9, -999.00,9, -999.00,9, -999.00,9, -999.00,9,-999.000,9,-999.000,9,-999.0000,9,  -999.0,9,  -999.0,9,-999.0000,9,  -999.00,9, -999.00,9,  -999.0,9, -999.00,9, -999.00,9,     -999.0,9, 20220701,      657,  30.0005,-134.6546,    17.7431,2,     -999.0,9,     -999.0,9,     -999.0,9,     -999.0,9,     0.0113,1,     0.0097,1,     -999.0,9,     -999.0,9,     -999.0,1,     -999.0,9,     -999.0,9
33RR20220613,       P02E,     164,          1,          6,          6,2,20220701,       0632,    30.0005,  -134.6546,       4725,   101.0,2,  17.7087,2,  34.0875,2,-999.0000,9,    239.9,2,  -999.0,9, -999.00,9, -999.00,9, -999.00,9, -999.00,9,-999.000,9,-999.000,9,-999.0000,9,  -999.0,9,  -999.0,9,-999.0000,9,  -999.00,9, -999.00,9,  -999.0,9, -999.00,9, -999.00,9,     -999.0,9, 20220701,      654,  30.0005,-134.6546,     -999.0,9,     -999.0,9,     -999.0,9,     -999.0,9,     -999.0,9,     0.0119,1,     0.0096,1,     -999.0,9,     -999.0,1,     -999.0,9,     -999.0,9,     -999.0,9
33RR20220613,       P02E,     164,          1,          5,          5,2,20220701,       0632,    30.0005,  -134.6546,       4725,   101.6,2,  17.7150,2,  34.0865,2,-999.0000,9,    240.0,2,  -999.0,9, -999.00,9, -999.00,9, -999.00,9, -999.00,9,-999.000,9,-999.000,9,-999.0000,9,  -999.0,9,  -999.0,9,-999.0000,9,  -999.00,9, -999.00,9,  -999.0,9, -999.00,9, -999.00,9,     -999.0,9, 20220701,      654,  30.0005,-134.6546,    17.7221,2,     -999.0,9,     -999.0,9,     -999.0,9,     -999.0,9,     0.0110,1,     0.0097,1,     -999.0,1,     -999.0,9,     -999.0,1,     -999.0,9,     -999.0,9
33RR20220613,       P02E,     164,          1,          4,          4,2,20220701,       0632,    30.0005,  -134.6546,       4725,   150.6,2,  15.7904,2,  33.9018,2,-999.0000,9,    232.1,2,  -999.0,9, -999.00,9, -999.00,9, -999.00,9, -999.00,9,-999.000,9,-999.000,9,-999.0000,9,  -999.0,9,  -999.0,9,-999.0000,9,  -999.00,9, -999.00,9,  -999.0,9, -999.00,9, -999.00,9,     -999.0,9, 20220701,      652,  30.0005,-134.6546,    15.7676,2,     -999.0,9,     -999.0,9,     -999.0,9,     -999.0,9,     0.0110,1,     0.0096,1,     -999.0,9,     -999.0,9,     -999.0,1,     -999.0,9,     -999.0,9
33RR20220613,       P02E,     164,          1,          3,          3,2,20220701,       0632,    30.0005,  -134.6546,       4725,   202.1,2,  11.2207,2,  33.5197,2,-999.0000,9,    213.9,2,  -999.0,9, -999.00,9, -999.00,9, -999.00,9, -999.00,9,-999.000,9,-999.000,9,-999.0000,9,  -999.0,9,  -999.0,9,-999.0000,9,  -999.00,9, -999.00,9,  -999.0,9, -999.00,9, -999.00,9,     -999.0,9, 20220701,      649,  30.0005,-134.6546,    11.2153,2,     -999.0,9,     -999.0,9,     -999.0,9,     -999.0,9,     0.0110,1,     0.0096,1,     -999.0,9,     -999.0,1,     -999.0,1,     -999.0,9,     -999.0,9
33RR20220613,       P02E,     164,          1,          2,          2,2,20220701,       0632,    30.0005,  -134.6546,       4725,   504.3,2,   5.8887,2,  34.0670,2,-999.0000,9,     53.3,2,  -999.0,9, -999.00,9, -999.00,9, -999.00,9, -999.00,9,-999.000,9,-999.000,9,-999.0000,9,  -999.0,9,  -999.0,9,-999.0000,9,  -999.00,9, -999.00,9,  -999.0,9, -999.00,9, -999.00,9,     -999.0,9, 20220701,      643,  30.0005,-134.6546,     5.9014,2,     -999.0,9,     -999.0,9,     -999.0,9,     -999.0,9,     0.0110,1,     0.0097,1,     -999.0,9,     -999.0,9,     -999.0,1,     -999.0,9,     -999.0,9
33RR20220613,       P02E,     164,          1,          1,          1,2,20220701,       0632,    30.0005,  -134.6546,       4725,  1011.3,2,   3.7042,2,  34.4630,2,-999.0000,9,     26.8,2,  -999.0,9, -999.00,9, -999.00,9, -999.00,9, -999.00,9,-999.000,9,-999.000,9,-999.0000,9,  -999.0,9,  -999.0,9,-999.0000,9,  -999.00,9, -999.00,9,  -999.0,9, -999.00,9, -999.00,9,     -999.0,9, 20220701,      632,  30.0005,-134.6546,     3.7035,2,     -999.0,9,     -999.0,9,     -999.0,9,     -999.0,9,     0.0110,1,     0.0096,1,     -999.0,9,     -999.0,1,     -999.0,1,     -999.0,9,     -999.0,9