BOTTLE,20230830CCHSIOCBG
EXPOCODE,SECT_ID,STNNBR,CASTNO,SAMPNO,BTLNBR,BTLNBR_FLAG_W,DATE,TIME,LATITUDE,LONGITUDE,DEPTH,CTDPRS,CTDPRS_FLAG_W,CTDTMP,CTDTMP_FLAG_W,CTDSAL,CTDSAL_FLAG_W,SALNTY,SALNTY_FLAG_W,CTDOXY,CTDOXY_FLAG_W,OXYGEN,OXYGEN_FLAG_W,SILCAT,SILCAT_FLAG_W,NITRAT,NITRAT_FLAG_W,NITRIT,NITRIT_FLAG_W,PHSPHT,PHSPHT_FLAG_W,CFC-11,CFC-11_FLAG_W,CFC-12,CFC-12_FLAG_W,SF6,SF6_FLAG_W,TCARBN,TCARBN_FLAG_W,ALKALI,ALKALI_FLAG_W,PH_TOT,PH_TOT_FLAG_W,PH_TMP,PH_TMP_FLAG_W,DELC13,DELC13_FLAG_W,DELC14,DELC14_FLAG_W,DOC,DOC_FLAG_W,TDN,TDN_FLAG_W,N2O,N2O_FLAG_W,BTL_DATE,BTL_TIME,BTL_LAT,BTL_LON,REFTMP,REFTMP_FLAG_W,POC,POC_FLAG_W,PON,PON_FLAG_W,POP,POP_FLAG_W,PCOD,PCOD_FLAG_W,CTDFLUOR,CTDFLUOR_FLAG_W,CTDXMISS,CTDXMISS_FLAG_W,HPLC,HPLC_FLAG_W,DNA,DNA_FLAG_W,FCM,FCM_FLAG_W,IMAGES,IMAGES_FLAG_W,VIRAL_ABUNDANCE,VIRAL_ABUNDANCE_FLAG_W
,,,,,,,,,,,METERS,DBAR,,ITS-90,,PSS-78,,PSS-78,,UMOL/KG,,UMOL/KG,,UMOL/KG,,UMOL/KG,,UMOL/KG,,UMOL/KG,,PMOL/KG,,PMOL/KG,,FMOL/KG,,UMOL/KG,,UMOL/KG,,,,DEG C,,/MILLE,,/MILLE,,UMOL/KG,,UMOL/KG,,NMOL/KG,,,,,,ITS-90,,UG/L,,UG/L,,UG/L,,UG/L,,VOLTS,,VOLTS,,,,,,,,,,,
33RR20220613,       P02E,     126,          1,          4,          4,2,20220619,       1359,    29.9991,  -156.5950,       5905,  4851.8,2,   1.5154,2,  34.6884,2,  34.6871,2,    155.2,2,   155.0,2,  149.88,2,   35.86,2,    0.02,2,    2.36,4,-999.000,9,-999.000,9,-999.0000,9,  -999.0,9,  -999.0,9,-999.0000,9,  -999.00,9, -999.00,1,  -999.0,1, -999.00,1, -999.00,1,     -999.0,9, 20220619,     1434,  29.9992,-156.5950,     1.5155,2,     -999.0,9,     -999.0,9,     -999.0,9,     -999.0,9,     0.0122,1,     4.7055,1,     -999.0,9,     -999.0,9,     -999.0,9,     -999.0,9,     -999.0,9
33RR20220613,       P02E,     126,          1,          3,          3,2,20220619,       1359,    29.9991,  -156.5950,       5905,  5265.6,2,   1.5544,2,  34.6896,2,  34.6905,2,    157.7,2,   158.1,2,  147.44,2,   35.65,2,    0.02,2,    2.31,4,   0.005,2,   0.005,2,   0.0000,2,  2322.6,6,  2418.6,6,   7.5857,2,    25.01,2, -999.00,1,  -999.0,1, -999.00,1, -999.00,1,       23.1,2, 20220619,     1422,  29.9991,-156.5950,     1.5546,2,     -999.0,9,     -999.0,9,     -999.0,9,     -999.0,9,     0.0122,1,     4.7044,1,     -999.0,9,     -999.0,9,     -999.0,9,     -999.0,9,     -999.0,9
33RR20220613,       P02E,     126,          1,          2,          2,2,20220619,       1359,    29.9991,  -156.5950,       5905,  5609.9,2,   1.5968,2,  34.6897,2,  34.6891,2,    158.5,2,   158.6,2,  147.05,2,   35.64,2,    0.02,2,    2.32,4,-999.000,9,-999.000,9,-999.0000,9,  2322.1,2,  2418.5,6,   7.5861,2,    25.00,2, -999.00,1,  -999.0,1, -999.00,1, -999.00,1,     -999.0,9, 20220619,     1410,  29.9992,-156.5950,     1.5970,2,     -999.0,9,     -999.0,9,     -999.0,9,     -999.0,9,     0.0122,1,     4.7041,1,     -999.0,9,     -999.0,9,     -999.0,9,     -999.0,9,     -999.0,9
33RR20220613,       P02E,     126,          1,          1,          1,2,20220619,       1359,    29.9991,  -156.5950,       5905,  6016.9,2,   1.6511,2,  34.6899,2,  34.6897,2,    159.0,2,   158.9,2,  146.36,2,   35.86,2,    0.02,2,    2.31,4,   0.008,2,   0.008,2,   0.0000,2,  2324.9,2,  2417.0,2,   7.5869,2,    25.02,2, -999.00,1,  -999.0,1, -999.00,1, -999.00,1,       24.6,2, 20220619,     1359,  29.9992,-156.5950,     1.6514,2,     -999.0,9,     -999.0,9,     -999.0,9,     -999.0,9,     0.0122,1,     4.7032,1,     -999.0,9,     -999.0,9,     -999.0,9,     -999.0,9,     -999.0,9