BOTTLE,20230830CCHSIOCBG
EXPOCODE,SECT_ID,STNNBR,CASTNO,SAMPNO,BTLNBR,BTLNBR_FLAG_W,DATE,TIME,LATITUDE,LONGITUDE,DEPTH,CTDPRS,CTDPRS_FLAG_W,CTDTMP,CTDTMP_FLAG_W,CTDSAL,CTDSAL_FLAG_W,SALNTY,SALNTY_FLAG_W,CTDOXY,CTDOXY_FLAG_W,OXYGEN,OXYGEN_FLAG_W,SILCAT,SILCAT_FLAG_W,NITRAT,NITRAT_FLAG_W,NITRIT,NITRIT_FLAG_W,PHSPHT,PHSPHT_FLAG_W,CFC-11,CFC-11_FLAG_W,CFC-12,CFC-12_FLAG_W,SF6,SF6_FLAG_W,TCARBN,TCARBN_FLAG_W,ALKALI,ALKALI_FLAG_W,PH_TOT,PH_TOT_FLAG_W,PH_TMP,PH_TMP_FLAG_W,DELC13,DELC13_FLAG_W,DELC14,DELC14_FLAG_W,DOC,DOC_FLAG_W,TDN,TDN_FLAG_W,N2O,N2O_FLAG_W,BTL_DATE,BTL_TIME,BTL_LAT,BTL_LON,REFTMP,REFTMP_FLAG_W,POC,POC_FLAG_W,PON,PON_FLAG_W,POP,POP_FLAG_W,PCOD,PCOD_FLAG_W,CTDFLUOR,CTDFLUOR_FLAG_W,CTDXMISS,CTDXMISS_FLAG_W,HPLC,HPLC_FLAG_W,DNA,DNA_FLAG_W,FCM,FCM_FLAG_W,IMAGES,IMAGES_FLAG_W,VIRAL_ABUNDANCE,VIRAL_ABUNDANCE_FLAG_W
,,,,,,,,,,,METERS,DBAR,,ITS-90,,PSS-78,,PSS-78,,UMOL/KG,,UMOL/KG,,UMOL/KG,,UMOL/KG,,UMOL/KG,,UMOL/KG,,PMOL/KG,,PMOL/KG,,FMOL/KG,,UMOL/KG,,UMOL/KG,,,,DEG C,,/MILLE,,/MILLE,,UMOL/KG,,UMOL/KG,,NMOL/KG,,,,,,ITS-90,,UG/L,,UG/L,,UG/L,,UG/L,,VOLTS,,VOLTS,,,,,,,,,,,
33RR20220613,       P02E,     120,          1,          4,          4,2,20220617,       1138,    30.0006,  -160.0607,       5803,  4492.0,2,   1.4923,2,  34.6866,2,  34.6869,2,    151.1,2,   151.9,2,  153.65,2,   35.83,2,    0.00,2,    2.67,4,   0.004,2,   0.004,2,   0.0000,2,  2324.7,2,  2419.3,2,   7.5789,2,    25.02,2, -999.00,9,  -999.0,9, -999.00,1, -999.00,1,       23.1,2, 20220617,     1216,  30.0006,-160.0606,     1.4925,2,     -999.0,9,     -999.0,9,     -999.0,9,     -999.0,9,     0.0124,1,     4.7044,1,     -999.0,9,     -999.0,9,     -999.0,9,     -999.0,9,     -999.0,9
33RR20220613,       P02E,     120,          1,          3,          3,2,20220617,       1138,    30.0006,  -160.0607,       5803,  4955.4,2,   1.5255,2,  34.6889,2,  34.6881,2,    155.6,2,   155.7,2,  150.03,2,   35.60,2,    0.00,2,    2.62,4,   0.004,2,   0.006,2,   0.0000,2,  2322.2,2,  2417.2,2,   7.5850,2,    25.02,2, -999.00,9,  -999.0,9, -999.00,1, -999.00,1,       22.8,2, 20220617,     1208,  30.0006,-160.0606,     1.5255,2,     -999.0,9,     -999.0,9,     -999.0,9,     -999.0,9,     0.0122,1,     4.7046,1,     -999.0,9,     -999.0,9,     -999.0,9,     -999.0,9,     -999.0,9
33RR20220613,       P02E,     120,          1,          2,          2,2,20220617,       1138,    30.0006,  -160.0607,       5803,  5419.8,2,   1.5742,2,  34.6897,2,  34.6891,2,    158.2,2,   157.9,2,  148.27,2,   35.39,2,    0.00,2,    2.59,4,   0.005,2,   0.003,2,   0.0000,2,  2318.7,2,  2416.0,2,   7.5870,2,    25.01,2, -999.00,9,  -999.0,9, -999.00,1, -999.00,1,       22.6,2, 20220617,     1154,  30.0006,-160.0606,     1.5743,2,     -999.0,9,     -999.0,9,     -999.0,9,     -999.0,9,     0.0121,1,     4.7042,1,     -999.0,9,     -999.0,9,     -999.0,9,     -999.0,9,     -999.0,9
33RR20220613,       P02E,     120,          1,          1,          1,2,20220617,       1138,    30.0006,  -160.0607,       5803,  5911.3,2,   1.6350,2,  34.6901,2,  34.6891,2,    159.6,2,   159.0,2,  147.68,2,   35.24,2,    0.00,2,    2.59,4,   0.008,2,   0.007,2,   0.0000,2,  2319.8,6,  2415.6,2,   7.5875,2,    25.02,2, -999.00,9,  -999.0,9, -999.00,1, -999.00,1,       22.5,2, 20220617,     1138,  30.0006,-160.0606,     1.6353,2,     -999.0,9,     -999.0,9,     -999.0,9,     -999.0,9,     0.0134,1,     4.7020,1,     -999.0,9,     -999.0,9,     -999.0,9,     -999.0,9,     -999.0,9