BOTTLE,20230830CCHSIOCBG
EXPOCODE,SECT_ID,STNNBR,CASTNO,SAMPNO,BTLNBR,BTLNBR_FLAG_W,DATE,TIME,LATITUDE,LONGITUDE,DEPTH,CTDPRS,CTDPRS_FLAG_W,CTDTMP,CTDTMP_FLAG_W,CTDSAL,CTDSAL_FLAG_W,SALNTY,SALNTY_FLAG_W,CTDOXY,CTDOXY_FLAG_W,OXYGEN,OXYGEN_FLAG_W,SILCAT,SILCAT_FLAG_W,NITRAT,NITRAT_FLAG_W,NITRIT,NITRIT_FLAG_W,PHSPHT,PHSPHT_FLAG_W,CFC-11,CFC-11_FLAG_W,CFC-12,CFC-12_FLAG_W,SF6,SF6_FLAG_W,TCARBN,TCARBN_FLAG_W,ALKALI,ALKALI_FLAG_W,PH_TOT,PH_TOT_FLAG_W,PH_TMP,PH_TMP_FLAG_W,DELC13,DELC13_FLAG_W,DELC14,DELC14_FLAG_W,DOC,DOC_FLAG_W,TDN,TDN_FLAG_W,N2O,N2O_FLAG_W,BTL_DATE,BTL_TIME,BTL_LAT,BTL_LON,REFTMP,REFTMP_FLAG_W,POC,POC_FLAG_W,PON,PON_FLAG_W,POP,POP_FLAG_W,PCOD,PCOD_FLAG_W,CTDFLUOR,CTDFLUOR_FLAG_W,CTDXMISS,CTDXMISS_FLAG_W,HPLC,HPLC_FLAG_W,DNA,DNA_FLAG_W,FCM,FCM_FLAG_W,IMAGES,IMAGES_FLAG_W,VIRAL_ABUNDANCE,VIRAL_ABUNDANCE_FLAG_W
,,,,,,,,,,,METERS,DBAR,,ITS-90,,PSS-78,,PSS-78,,UMOL/KG,,UMOL/KG,,UMOL/KG,,UMOL/KG,,UMOL/KG,,UMOL/KG,,PMOL/KG,,PMOL/KG,,FMOL/KG,,UMOL/KG,,UMOL/KG,,,,DEG C,,/MILLE,,/MILLE,,UMOL/KG,,UMOL/KG,,NMOL/KG,,,,,,ITS-90,,UG/L,,UG/L,,UG/L,,UG/L,,VOLTS,,VOLTS,,,,,,,,,,,
33RR20220613,       P02E,     120,          1,         36,         36,2,20220617,       1138,    30.0006,  -160.0607,       5803,     3.5,2,  24.6913,2,  35.0730,2,  35.0718,2,    212.2,2,   212.4,2,    1.07,2,    0.05,2,    0.00,2,    0.00,3,   1.710,2,   1.046,2,   1.7129,2,  2021.6,2,  2303.0,2,   8.0062,2,    25.02,2, -999.00,9,  -999.0,9, -999.00,1, -999.00,1,        7.3,2, 20220617,     1420,  30.0006,-160.0607,    24.6895,2,     -999.0,9,     -999.0,9,     -999.0,9,     -999.0,9,     0.0134,1,     4.6337,1,     -999.0,9,     -999.0,9,     -999.0,9,     -999.0,9,     -999.0,9
33RR20220613,       P02E,     120,          1,         35,         35,2,20220617,       1138,    30.0006,  -160.0607,       5803,    21.0,2,  24.6383,2,  35.0708,2,  35.0707,2,    212.0,2,   213.5,2,    1.07,2,    0.04,2,    0.00,2,    0.00,3,   1.723,2,   1.050,2,   1.7104,2,  2022.5,6,  2300.1,2,   8.0064,2,    25.03,2, -999.00,9,  -999.0,9, -999.00,1, -999.00,1,        7.4,2, 20220617,     1418,  30.0006,-160.0606,    24.6413,2,     -999.0,9,     -999.0,9,     -999.0,9,     -999.0,9,     0.0134,1,     4.6360,1,     -999.0,9,     -999.0,9,     -999.0,9,     -999.0,9,     -999.0,9
33RR20220613,       P02E,     120,          1,         34,         34,2,20220617,       1138,    30.0006,  -160.0607,       5803,    40.2,2,  21.0951,2,  35.0425,2,  35.0443,2,    233.9,2,   232.7,2,    1.17,2,    0.03,2,    0.00,2,    0.00,3,   2.015,2,   1.181,2,   1.9350,2,  2023.4,2,  2301.0,2,   8.0034,2,    25.01,2, -999.00,9,  -999.0,9, -999.00,1, -999.00,1,        8.1,2, 20220617,     1416,  30.0006,-160.0606,    21.1133,2,     -999.0,9,     -999.0,9,     -999.0,9,     -999.0,9,     0.0147,1,     4.6254,1,     -999.0,9,     -999.0,9,     -999.0,9,     -999.0,9,     -999.0,9
33RR20220613,       P02E,     120,          1,         33,         33,2,20220617,       1138,    30.0006,  -160.0607,       5803,    65.7,2,  18.6802,2,  34.8459,2,  34.8467,2,    231.8,2,   231.6,2,    1.76,2,    0.03,2,    0.00,2,    0.01,3,   2.164,2,   1.265,2,   2.0490,2,  2034.2,2,  2289.5,2,   7.9695,2,    25.01,2, -999.00,9,  -999.0,9, -999.00,1, -999.00,1,        8.8,2, 20220617,     1413,  30.0006,-160.0606,    18.6833,2,     -999.0,9,     -999.0,9,     -999.0,9,     -999.0,9,     0.0191,1,     4.6363,1,     -999.0,9,     -999.0,9,     -999.0,9,     -999.0,9,     -999.0,9
33RR20220613,       P02E,     120,          1,         32,         32,2,20220617,       1138,    30.0006,  -160.0607,       5803,    90.4,2,  17.6418,2,  34.7438,2,  34.7441,2,    225.8,2,   225.4,2,    2.35,2,    0.15,2,    0.00,2,    0.07,3,   2.280,2,   1.345,2,   2.2141,2,  2044.1,2,  2284.0,2,   7.9411,2,    25.03,2, -999.00,9,  -999.0,9, -999.00,1, -999.00,1,        9.6,2, 20220617,     1410,  30.0006,-160.0606,    17.6417,2,     -999.0,9,     -999.0,9,     -999.0,9,     -999.0,9,     0.0616,1,     4.6066,1,     -999.0,9,     -999.0,9,     -999.0,9,     -999.0,9,     -999.0,9
33RR20220613,       P02E,     120,          1,         31,         31,2,20220617,       1138,    30.0006,  -160.0607,       5803,   135.9,2,  15.4459,2,  34.4933,2,  34.4977,2,    218.7,2,   218.0,2,    3.91,2,    3.42,2,    0.04,2,    0.26,3,   2.446,2,   1.447,2,   2.0977,2,  2061.5,3,  2266.2,2,   7.8815,2,    25.01,2, -999.00,9,  -999.0,9, -999.00,1, -999.00,1,       12.0,2, 20220617,     1409,  30.0006,-160.0606,    15.4894,2,     -999.0,9,     -999.0,9,     -999.0,9,     -999.0,9,     0.0249,1,     4.6653,1,     -999.0,9,     -999.0,9,     -999.0,9,     -999.0,9,     -999.0,9
33RR20220613,       P02E,     120,          1,         30,         30,2,20220617,       1138,    30.0006,  -160.0607,       5803,   186.9,2,  13.7174,2,  34.3749,2,  34.3702,2,    217.3,2,   216.9,2,    6.84,2,    7.32,2,    0.00,2,    0.49,3,   2.695,2,   1.554,2,   2.2566,2,  2079.4,3,  2261.6,2,   7.8364,2,    25.03,2, -999.00,9,  -999.0,9, -999.00,1, -999.00,1,       14.7,2, 20220617,     1406,  30.0006,-160.0606,    13.7166,2,     -999.0,9,     -999.0,9,     -999.0,9,     -999.0,9,     0.0134,1,     4.6824,1,     -999.0,9,     -999.0,9,     -999.0,9,     -999.0,9,     -999.0,9
33RR20220613,       P02E,     120,          1,         29,         29,2,20220617,       1138,    30.0006,  -160.0607,       5803,   238.0,2,  12.8135,2,  34.3070,2,  34.3091,2,    215.4,2,   215.2,2,    8.60,2,    9.14,2,    0.00,2,    0.60,3,   2.792,2,   1.622,2,   2.2430,2,  2086.7,3,  2259.6,2,   7.8139,2,    25.02,2, -999.00,9,  -999.0,9, -999.00,1, -999.00,1,       15.4,2, 20220617,     1402,  30.0006,-160.0606,    12.7747,2,     -999.0,9,     -999.0,9,     -999.0,9,     -999.0,9,     0.0122,1,     4.6874,1,     -999.0,9,     -999.0,9,     -999.0,9,     -999.0,9,     -999.0,9
33RR20220613,       P02E,     120,          1,         28,         28,2,20220617,       1138,    30.0006,  -160.0607,       5803,   287.8,2,  11.7854,2,  34.2474,2,  34.2442,2,    215.5,2,   215.1,2,   12.03,2,   11.53,2,    0.00,2,    0.74,3,   2.929,2,   1.677,2,   2.1534,2,  -999.0,9,  -999.0,9,-999.0000,9,  -999.00,9, -999.00,9,  -999.0,9, -999.00,1, -999.00,1,       16.8,2, 20220617,     1401,  30.0006,-160.0606,    11.7881,2,     -999.0,9,     -999.0,9,     -999.0,9,     -999.0,9,     0.0122,1,     4.6897,1,     -999.0,9,     -999.0,9,     -999.0,9,     -999.0,9,     -999.0,9
33RR20220613,       P02E,     120,          1,         27,         27,2,20220617,       1138,    30.0006,  -160.0607,       5803,   328.4,2,  10.9938,2,  34.1951,2,  34.1887,2,    212.2,2,   213.0,2,   15.35,2,   13.51,2,    0.00,2,    0.88,3,   2.973,6,   1.704,6,   2.0198,6,  2110.1,2,  2261.4,2,   7.7594,2,    25.00,2, -999.00,9,  -999.0,9, -999.00,1, -999.00,1,       18.3,6, 20220617,     1358,  30.0006,-160.0607,    10.9863,2,     -999.0,9,     -999.0,9,     -999.0,9,     -999.0,9,     0.0122,1,     4.6905,1,     -999.0,9,     -999.0,9,     -999.0,9,     -999.0,9,     -999.0,9
33RR20220613,       P02E,     120,          1,         26,         26,2,20220617,       1138,    30.0006,  -160.0607,       5803,   388.6,2,   9.8170,2,  34.1096,2,  34.1089,2,    203.5,2,   204.7,2,   20.83,2,   16.49,2,    0.00,2,    1.07,3,   3.063,2,   1.733,2,   1.9157,2,  -999.0,9,  -999.0,9,-999.0000,9,  -999.00,9, -999.00,9,  -999.0,9, -999.00,1, -999.00,1,       20.3,2, 20220617,     1356,  30.0006,-160.0606,     9.8114,2,     -999.0,9,     -999.0,9,     -999.0,9,     -999.0,9,     0.0122,1,     4.6921,1,     -999.0,9,     -999.0,9,     -999.0,9,     -999.0,9,     -999.0,9
33RR20220613,       P02E,     120,          1,         25,         25,2,20220617,       1138,    30.0006,  -160.0607,       5803,   469.3,2,   7.9478,2,  34.0218,2,  34.0198,2,    169.0,2,   169.5,2,   35.89,2,   23.38,2,    0.00,2,    1.55,3,   2.904,2,   1.619,2,   1.5040,2,  2175.1,2,  2269.7,6,   7.6138,2,    25.03,2, -999.00,9,  -999.0,9, -999.00,1, -999.00,1,       26.2,2, 20220617,     1352,  30.0006,-160.0606,     7.9719,2,     -999.0,9,     -999.0,9,     -999.0,9,     -999.0,9,     0.0122,1,     4.6944,1,     -999.0,9,     -999.0,9,     -999.0,9,     -999.0,9,     -999.0,9
33RR20220613,       P02E,     120,          1,         24,         24,2,20220617,       1138,    30.0006,  -160.0607,       5803,   570.8,2,   6.0621,2,  34.0034,2,  34.0025,2,    109.4,2,   109.8,2,   61.02,2,   32.54,2,    0.00,2,    2.24,3,   2.167,2,   1.201,2,   0.7336,2,  2240.1,2,  2289.6,2,   7.4648,2,    24.99,2, -999.00,9,  -999.0,9, -999.00,1, -999.00,1,       37.1,2, 20220617,     1349,  30.0006,-160.0606,     6.0593,2,     -999.0,9,     -999.0,9,     -999.0,9,     -999.0,9,     0.0134,1,     4.6971,1,     -999.0,9,     -999.0,9,     -999.0,9,     -999.0,9,     -999.0,9
33RR20220613,       P02E,     120,          1,         23,         23,2,20220617,       1138,    30.0006,  -160.0607,       5803,   668.7,2,   4.8764,2,  34.0763,2,  34.0731,2,     58.8,3,    60.1,2,   84.48,2,   38.72,2,    0.00,2,    2.73,3,   1.210,2,   0.646,2,   0.2729,2,  2294.5,2,  2309.0,2,   7.3613,2,    25.02,2, -999.00,9,  -999.0,9, -999.00,1, -999.00,1,       48.0,2, 20220617,     1345,  30.0006,-160.0606,     4.8783,2,     -999.0,9,     -999.0,9,     -999.0,9,     -999.0,9,     0.0134,1,     4.6972,1,     -999.0,9,     -999.0,9,     -999.0,9,     -999.0,9,     -999.0,9
33RR20220613,       P02E,     120,          1,         22,         22,2,20220617,       1138,    30.0006,  -160.0607,       5803,   770.7,2,   4.3628,2,  34.1752,2,  34.1762,2,     28.6,3,    29.6,2,  101.10,2,   41.87,2,    0.00,2,    2.99,4,   0.462,2,   0.255,2,   0.1880,2,  2328.2,2,  2327.8,2,   7.3134,2,    25.00,2, -999.00,9,  -999.0,9, -999.00,1, -999.00,1,       58.5,2, 20220617,     1342,  30.0006,-160.0606,     4.3590,2,     -999.0,9,     -999.0,9,     -999.0,9,     -999.0,9,     0.0134,1,     4.6982,1,     -999.0,9,     -999.0,9,     -999.0,9,     -999.0,9,     -999.0,9
33RR20220613,       P02E,     120,          1,         21,         21,2,20220617,       1138,    30.0006,  -160.0607,       5803,   870.6,2,   3.9714,2,  34.2668,2,  34.2642,2,     14.7,3,    15.2,2,  113.90,2,   43.22,2,    0.00,2,    3.14,4,   0.127,2,   0.076,2,   0.1860,2,  -999.0,9,  -999.0,9,-999.0000,9,  -999.00,9, -999.00,9,  -999.0,9, -999.00,1, -999.00,1,       66.5,2, 20220617,     1339,  30.0006,-160.0606,     3.9652,2,     -999.0,9,     -999.0,9,     -999.0,9,     -999.0,9,     0.0134,1,     4.6981,1,     -999.0,9,     -999.0,9,     -999.0,9,     -999.0,9,     -999.0,9
33RR20220613,       P02E,     120,          1,         20,         20,2,20220617,       1138,    30.0006,  -160.0607,       5803,   972.4,2,   3.7137,2,  34.3443,2,  34.3435,2,     12.9,3,    13.3,2,  122.89,2,   43.71,2,    0.00,2,    3.20,4,   0.032,2,   0.023,2,   0.0000,2,  2363.5,2,  2359.0,2,   7.3012,2,    25.02,2, -999.00,9,  -999.0,9, -999.00,1, -999.00,1,       69.6,2, 20220617,     1336,  30.0006,-160.0606,     3.7111,2,     -999.0,9,     -999.0,9,     -999.0,9,     -999.0,9,     0.0134,1,     4.6981,1,     -999.0,9,     -999.0,9,     -999.0,9,     -999.0,9,     -999.0,9
33RR20220613,       P02E,     120,          1,         19,         19,3,20220617,       1138,    30.0006,  -160.0607,       5803,  1074.8,3,   3.4395,3,  34.4204,3,  34.4202,3,     18.4,3,    18.5,3,  130.80,3,   43.69,3,    0.00,3,    3.22,4,   0.018,3,   0.017,3,   0.0000,3,  -999.0,9,  -999.0,9,-999.0000,9,  -999.00,9, -999.00,9,  -999.0,9, -999.00,1, -999.00,1,       63.4,3, 20220617,     1333,  30.0006,-160.0607,     3.4392,3,     -999.0,9,     -999.0,9,     -999.0,9,     -999.0,9,     0.0134,1,     4.6983,1,     -999.0,9,     -999.0,9,     -999.0,9,     -999.0,9,     -999.0,9
33RR20220613,       P02E,     120,          1,         17,         17,2,20220617,       1138,    30.0006,  -160.0607,       5803,  1176.2,2,   3.2569,2,  34.4642,2,-999.0000,9,     31.9,2,  -999.0,9, -999.00,9, -999.00,9, -999.00,9, -999.00,9,-999.000,9,-999.000,9,-999.0000,9,  -999.0,9,  -999.0,9,-999.0000,9,  -999.00,9, -999.00,9,  -999.0,9, -999.00,9, -999.00,9,     -999.0,9, 20220617,     1329,  30.0006,-160.0606,     3.2566,2,     -999.0,9,     -999.0,9,     -999.0,9,     -999.0,9,     0.0134,1,     4.6993,1,     -999.0,9,     -999.0,9,     -999.0,9,     -999.0,9,     -999.0,9
33RR20220613,       P02E,     120,          1,         18,         18,2,20220617,       1138,    30.0006,  -160.0607,       5803,  1176.6,2,   3.2570,2,  34.4642,2,  34.4632,2,     31.9,2,    31.6,2,  133.63,2,   42.94,2,    0.00,2,    3.15,4,   0.010,2,   0.009,2,   0.0000,2,  2366.7,2,  2379.1,2,   7.3514,2,    25.02,2, -999.00,9,  -999.0,9, -999.00,1, -999.00,1,       56.6,2, 20220617,     1330,  30.0006,-160.0606,     3.2568,2,     -999.0,9,     -999.0,9,     -999.0,9,     -999.0,9,     0.0134,1,     4.6994,1,     -999.0,9,     -999.0,9,     -999.0,9,     -999.0,9,     -999.0,9
33RR20220613,       P02E,     120,          1,         16,         16,2,20220617,       1138,    30.0006,  -160.0607,       5803,  1276.1,2,   3.0907,2,  34.4953,2,  34.4936,2,     41.8,3,    40.9,2,  136.56,2,   42.55,2,    0.00,2,    3.11,4,   0.010,2,   0.008,2,   0.0000,2,  2363.4,2,  2385.7,2,   7.3722,2,    25.02,2, -999.00,9,  -999.0,9, -999.00,1, -999.00,1,       51.4,2, 20220617,     1325,  30.0005,-160.0606,     3.0914,2,     -999.0,9,     -999.0,9,     -999.0,9,     -999.0,9,     0.0132,1,     4.6996,1,     -999.0,9,     -999.0,9,     -999.0,9,     -999.0,9,     -999.0,9
33RR20220613,       P02E,     120,          1,         15,         15,2,20220617,       1138,    30.0006,  -160.0607,       5803,  1378.5,2,   2.8815,2,  34.5242,2,  34.5239,2,     50.3,2,    49.9,2,  140.96,2,   42.08,2,    0.00,2,    3.08,4,   0.007,2,   0.004,2,   0.0000,2,  2365.2,2,  2391.7,2,   7.3912,2,    25.00,2, -999.00,9,  -999.0,9, -999.00,1, -999.00,1,       46.7,2, 20220617,     1324,  30.0006,-160.0607,     2.8829,2,     -999.0,9,     -999.0,9,     -999.0,9,     -999.0,9,     0.0134,1,     4.7005,1,     -999.0,9,     -999.0,9,     -999.0,9,     -999.0,9,     -999.0,9
33RR20220613,       P02E,     120,          1,         14,         14,2,20220617,       1138,    30.0006,  -160.0607,       5803,  1550.9,2,   2.5642,2,  34.5594,2,  34.5598,2,     62.4,2,    62.0,2,  147.79,2,   41.42,2,    0.00,2,    3.04,4,   0.004,2,   0.003,2,   0.0000,2,  -999.0,9,  -999.0,9,-999.0000,9,  -999.00,9, -999.00,9,  -999.0,9, -999.00,1, -999.00,1,       41.4,2, 20220617,     1319,  30.0006,-160.0606,     2.5634,2,     -999.0,9,     -999.0,9,     -999.0,9,     -999.0,9,     0.0130,1,     4.7009,1,     -999.0,9,     -999.0,9,     -999.0,9,     -999.0,9,     -999.0,9
33RR20220613,       P02E,     120,          1,         13,         13,2,20220617,       1138,    30.0006,  -160.0607,       5803,  1753.8,2,   2.2854,2,  34.5857,2,  34.5861,2,     72.5,2,    72.3,2,  153.75,2,   41.22,2,    0.00,2,    3.03,4,   0.004,2,   0.004,2,   0.0000,2,  2364.0,2,  2407.9,2,   7.4340,2,    24.99,2, -999.00,9,  -999.0,9, -999.00,1, -999.00,1,       38.0,2, 20220617,     1314,  30.0006,-160.0606,     2.2849,2,     -999.0,9,     -999.0,9,     -999.0,9,     -999.0,9,     0.0133,1,     4.7015,1,     -999.0,9,     -999.0,9,     -999.0,9,     -999.0,9,     -999.0,9
33RR20220613,       P02E,     120,          1,         12,         12,2,20220617,       1138,    30.0006,  -160.0607,       5803,  1955.9,2,   2.0614,2,  34.6063,2,  34.6054,2,     80.7,3,    79.6,2,  158.54,2,   40.59,2,    0.00,2,    3.00,4,   0.003,2,   0.000,2,   0.0000,2,  -999.0,9,  -999.0,9,-999.0000,9,  -999.00,9, -999.00,9,  -999.0,9, -999.00,1, -999.00,1,       35.7,2, 20220617,     1309,  30.0006,-160.0606,     2.0620,2,     -999.0,9,     -999.0,9,     -999.0,9,     -999.0,9,     0.0128,1,     4.7012,1,     -999.0,9,     -999.0,9,     -999.0,9,     -999.0,9,     -999.0,9
33RR20220613,       P02E,     120,          1,         11,         11,2,20220617,       1138,    30.0006,  -160.0607,       5803,  2189.5,2,   1.8784,2,  34.6256,2,  34.6244,2,     92.0,2,    92.4,2,  161.57,2,   39.70,2,    0.00,2,    2.95,4,   0.003,2,   0.000,2,   0.0000,2,  2360.4,2,  2415.8,2,   7.4706,2,    25.02,2, -999.00,9,  -999.0,9, -999.00,1, -999.00,1,       32.3,2, 20220617,     1305,  30.0006,-160.0606,     1.8781,2,     -999.0,9,     -999.0,9,     -999.0,9,     -999.0,9,     0.0127,1,     4.7031,1,     -999.0,9,     -999.0,9,     -999.0,9,     -999.0,9,     -999.0,9
33RR20220613,       P02E,     120,          1,         10,         10,2,20220617,       1138,    30.0006,  -160.0607,       5803,  2444.4,2,   1.7477,2,  34.6400,2,  34.6398,2,    101.1,2,   101.0,2,  163.72,2,   39.07,2,    0.00,2,    2.92,4,   0.004,2,   0.002,2,   0.0000,2,  -999.0,9,  -999.0,9,-999.0000,9,  -999.00,9, -999.00,9,  -999.0,9, -999.00,1, -999.00,1,       30.1,2, 20220617,     1259,  30.0006,-160.0606,     1.7477,2,     -999.0,9,     -999.0,9,     -999.0,9,     -999.0,9,     0.0131,1,     4.7032,1,     -999.0,9,     -999.0,9,     -999.0,9,     -999.0,9,     -999.0,9
33RR20220613,       P02E,     120,          1,          9,          9,2,20220617,       1138,    30.0006,  -160.0607,       5803,  2698.8,2,   1.6556,2,  34.6511,2,  34.6517,2,    108.9,2,   108.6,2,  165.57,2,   38.54,2,    0.00,2,    2.93,4,   0.005,2,   0.000,2,   0.0000,2,  2354.7,2,  2421.5,2,   7.5036,2,    25.01,2, -999.00,9,  -999.0,9, -999.00,1, -999.00,1,       27.8,2, 20220617,     1254,  30.0006,-160.0606,     1.6555,2,     -999.0,9,     -999.0,9,     -999.0,9,     -999.0,9,     0.0127,1,     4.7032,1,     -999.0,9,     -999.0,9,     -999.0,9,     -999.0,9,     -999.0,9
33RR20220613,       P02E,     120,          1,          8,          8,2,20220617,       1138,    30.0006,  -160.0607,       5803,  2955.0,2,   1.5799,2,  34.6612,2,  34.6612,2,    118.6,2,   118.8,2,  164.01,2,   37.82,2,    0.00,2,    2.84,4,   0.004,2,   0.002,2,   0.0000,2,  -999.0,9,  -999.0,9,-999.0000,9,  -999.00,9, -999.00,9,  -999.0,9, -999.00,1, -999.00,1,       26.6,2, 20220617,     1248,  30.0006,-160.0606,     1.5799,2,     -999.0,9,     -999.0,9,     -999.0,9,     -999.0,9,     0.0122,1,     4.7038,1,     -999.0,9,     -999.0,9,     -999.0,9,     -999.0,9,     -999.0,9
33RR20220613,       P02E,     120,          1,          7,          7,2,20220617,       1138,    30.0006,  -160.0607,       5803,  3245.1,2,   1.5266,2,  34.6694,2,  34.6680,2,    127.6,2,   128.5,2,  162.74,2,   37.69,2,    0.00,2,    2.79,4,   0.002,2,   0.003,2,   0.0000,2,  2342.3,2,  2422.5,6,   7.5377,2,    25.02,2, -999.00,9,  -999.0,9, -999.00,1, -999.00,1,       25.7,2, 20220617,     1242,  30.0006,-160.0606,     1.5272,2,     -999.0,9,     -999.0,9,     -999.0,9,     -999.0,9,     0.0129,1,     4.7042,1,     -999.0,9,     -999.0,9,     -999.0,9,     -999.0,9,     -999.0,9
33RR20220613,       P02E,     120,          1,          6,          6,2,20220617,       1138,    30.0006,  -160.0607,       5803,  3619.0,2,   1.4882,2,  34.6773,2,  34.6767,2,    137.2,2,   137.8,2,  160.10,2,   36.82,2,    0.00,2,    2.73,4,   0.006,2,   0.006,2,   0.0000,2,  -999.0,9,  -999.0,9,-999.0000,9,  -999.00,9, -999.00,9,  -999.0,9, -999.00,1, -999.00,1,       24.5,2, 20220617,     1234,  30.0006,-160.0606,     1.4882,2,     -999.0,9,     -999.0,9,     -999.0,9,     -999.0,9,     0.0128,1,     4.7043,1,     -999.0,9,     -999.0,9,     -999.0,9,     -999.0,9,     -999.0,9
33RR20220613,       P02E,     120,          1,          5,          5,4,20220617,       1138,    30.0006,  -160.0607,       5803,  4029.2,3,   1.4795,3,  34.6828,3,  34.6757,3,    144.7,3,   138.3,3,  159.31,3,   36.71,3,    0.00,3,    2.68,4,   0.007,3,   0.005,3,   0.0000,3,  2335.8,3,  2422.8,3,   7.5558,3,    25.01,3, -999.00,9,  -999.0,9, -999.00,1, -999.00,1,       24.5,3, 20220617,     1226,  30.0006,-160.0606,     1.4797,3,     -999.0,9,     -999.0,9,     -999.0,9,     -999.0,9,     0.0122,1,     4.7044,1,     -999.0,9,     -999.0,9,     -999.0,9,     -999.0,9,     -999.0,9