BOTTLE,20230830CCHSIOCBG
EXPOCODE,SECT_ID,STNNBR,CASTNO,SAMPNO,BTLNBR,BTLNBR_FLAG_W,DATE,TIME,LATITUDE,LONGITUDE,DEPTH,CTDPRS,CTDPRS_FLAG_W,CTDTMP,CTDTMP_FLAG_W,CTDSAL,CTDSAL_FLAG_W,SALNTY,SALNTY_FLAG_W,CTDOXY,CTDOXY_FLAG_W,OXYGEN,OXYGEN_FLAG_W,SILCAT,SILCAT_FLAG_W,NITRAT,NITRAT_FLAG_W,NITRIT,NITRIT_FLAG_W,PHSPHT,PHSPHT_FLAG_W,CFC-11,CFC-11_FLAG_W,CFC-12,CFC-12_FLAG_W,SF6,SF6_FLAG_W,TCARBN,TCARBN_FLAG_W,ALKALI,ALKALI_FLAG_W,PH_TOT,PH_TOT_FLAG_W,PH_TMP,PH_TMP_FLAG_W,DELC13,DELC13_FLAG_W,DELC14,DELC14_FLAG_W,DOC,DOC_FLAG_W,TDN,TDN_FLAG_W,N2O,N2O_FLAG_W,BTL_DATE,BTL_TIME,BTL_LAT,BTL_LON,REFTMP,REFTMP_FLAG_W,POC,POC_FLAG_W,PON,PON_FLAG_W,POP,POP_FLAG_W,PCOD,PCOD_FLAG_W,CTDFLUOR,CTDFLUOR_FLAG_W,CTDXMISS,CTDXMISS_FLAG_W,HPLC,HPLC_FLAG_W,DNA,DNA_FLAG_W,FCM,FCM_FLAG_W,IMAGES,IMAGES_FLAG_W,VIRAL_ABUNDANCE,VIRAL_ABUNDANCE_FLAG_W
,,,,,,,,,,,METERS,DBAR,,ITS-90,,PSS-78,,PSS-78,,UMOL/KG,,UMOL/KG,,UMOL/KG,,UMOL/KG,,UMOL/KG,,UMOL/KG,,PMOL/KG,,PMOL/KG,,FMOL/KG,,UMOL/KG,,UMOL/KG,,,,DEG C,,/MILLE,,/MILLE,,UMOL/KG,,UMOL/KG,,NMOL/KG,,,,,,ITS-90,,UG/L,,UG/L,,UG/L,,UG/L,,VOLTS,,VOLTS,,,,,,,,,,,
33RR20220613,       P02E,     137,          3,         36,         36,2,20220623,       0953,    30.0002,  -150.2433,       6180,     4.3,2,  24.2657,2,  35.4578,2,-999.0000,9,    213.0,2,  -999.0,9, -999.00,9, -999.00,9, -999.00,9, -999.00,9,-999.000,9,-999.000,9,-999.0000,9,  -999.0,9,  -999.0,9,-999.0000,9,  -999.00,9, -999.00,9,  -999.0,9, -999.00,9, -999.00,9,     -999.0,9, 20220623,     1012,  30.0002,-150.2433,     -999.0,9,     -999.0,9,     -999.0,9,     -999.0,9,     -999.0,9,     0.0134,1,     4.6354,1,     -999.0,9,     -999.0,9,     -999.0,9,     -999.0,9,     -999.0,9
33RR20220613,       P02E,     137,          3,         20,         20,2,20220623,       0953,    30.0002,  -150.2433,       6180,     4.3,2,  24.2668,2,  35.4580,2,-999.0000,9,    212.7,2,  -999.0,9, -999.00,9, -999.00,9, -999.00,9, -999.00,9,-999.000,9,-999.000,9,-999.0000,9,  -999.0,9,  -999.0,9,-999.0000,9,  -999.00,9, -999.00,9,  -999.0,9, -999.00,9, -999.00,9,     -999.0,9, 20220623,     1009,  30.0002,-150.2433,     -999.0,9,     -999.0,9,     -999.0,9,     -999.0,9,     -999.0,9,     0.0135,1,     4.6353,1,     -999.0,9,     -999.0,9,     -999.0,9,     -999.0,9,     -999.0,9
33RR20220613,       P02E,     137,          3,         22,         22,2,20220623,       0953,    30.0002,  -150.2433,       6180,     4.4,2,  24.2673,2,  35.4580,2,-999.0000,9,    212.6,2,  -999.0,9, -999.00,9, -999.00,9, -999.00,9, -999.00,9,-999.000,9,-999.000,9,-999.0000,9,  -999.0,9,  -999.0,9,-999.0000,9,  -999.00,9, -999.00,9,  -999.0,9, -999.00,9, -999.00,9,     -999.0,9, 20220623,     1009,  30.0002,-150.2433,    24.2680,2,     -999.0,9,     -999.0,9,     -999.0,9,     -999.0,9,     0.0135,1,     4.6359,1,     -999.0,9,     -999.0,9,     -999.0,9,     -999.0,9,     -999.0,9
33RR20220613,       P02E,     137,          3,         17,         37,2,20220623,       0953,    30.0002,  -150.2433,       6180,     4.4,2,  24.2663,2,  35.4580,2,-999.0000,9,    212.7,2,  -999.0,9, -999.00,9, -999.00,9, -999.00,9, -999.00,9,-999.000,9,-999.000,9,-999.0000,9,  -999.0,9,  -999.0,9,-999.0000,9,  -999.00,9, -999.00,9,  -999.0,9, -999.00,9, -999.00,9,     -999.0,9, 20220623,     1009,  30.0002,-150.2433,     -999.0,9,     -999.0,9,     -999.0,9,     -999.0,9,     -999.0,9,     0.0135,1,     4.6356,1,     -999.0,9,     -999.0,9,     -999.0,9,     -999.0,9,     -999.0,9
33RR20220613,       P02E,     137,          3,         19,         39,2,20220623,       0953,    30.0002,  -150.2433,       6180,     4.5,2,  24.2670,2,  35.4579,2,-999.0000,9,    212.8,2,  -999.0,9, -999.00,9, -999.00,9, -999.00,9, -999.00,9,-999.000,9,-999.000,9,-999.0000,9,  -999.0,9,  -999.0,9,-999.0000,9,  -999.00,9, -999.00,9,  -999.0,9, -999.00,9, -999.00,9,     -999.0,9, 20220623,     1009,  30.0002,-150.2433,     -999.0,9,     -999.0,9,     -999.0,9,     -999.0,9,     -999.0,9,     0.0135,1,     4.6355,1,     -999.0,9,     -999.0,9,     -999.0,9,     -999.0,9,     -999.0,9
33RR20220613,       P02E,     137,          3,         25,         25,2,20220623,       0953,    30.0002,  -150.2433,       6180,     4.6,2,  24.2692,2,  35.4579,2,-999.0000,9,    212.8,2,  -999.0,9, -999.00,9, -999.00,9, -999.00,9, -999.00,9,-999.000,9,-999.000,9,-999.0000,9,  -999.0,9,  -999.0,9,-999.0000,9,  -999.00,9, -999.00,9,  -999.0,9, -999.00,9, -999.00,9,     -999.0,9, 20220623,     1011,  30.0002,-150.2432,     -999.0,9,     -999.0,9,     -999.0,9,     -999.0,9,     -999.0,9,     0.0135,1,     4.6354,1,     -999.0,9,     -999.0,9,     -999.0,9,     -999.0,9,     -999.0,9
33RR20220613,       P02E,     137,          3,         23,         23,2,20220623,       0953,    30.0002,  -150.2433,       6180,     4.6,2,  24.2683,2,  35.4579,2,-999.0000,9,    212.7,2,  -999.0,9, -999.00,9, -999.00,9, -999.00,9, -999.00,9,-999.000,9,-999.000,9,-999.0000,9,  -999.0,9,  -999.0,9,-999.0000,9,  -999.00,9, -999.00,9,  -999.0,9, -999.00,9, -999.00,9,     -999.0,9, 20220623,     1011,  30.0002,-150.2433,     -999.0,9,     -999.0,9,     -999.0,9,     -999.0,9,     -999.0,9,     0.0135,1,     4.6354,1,     -999.0,9,     -999.0,9,     -999.0,9,     -999.0,9,     -999.0,9
33RR20220613,       P02E,     137,          3,         29,         29,2,20220623,       0953,    30.0002,  -150.2433,       6180,     4.7,2,  24.2673,2,  35.4577,2,-999.0000,9,    212.8,2,  -999.0,9, -999.00,9, -999.00,9, -999.00,9, -999.00,9,-999.000,9,-999.000,9,-999.0000,9,  -999.0,9,  -999.0,9,-999.0000,9,  -999.00,9, -999.00,9,  -999.0,9, -999.00,9, -999.00,9,     -999.0,9, 20220623,     1011,  30.0002,-150.2432,     -999.0,9,     -999.0,9,     -999.0,9,     -999.0,9,     -999.0,9,     0.0136,1,     4.6351,1,     -999.0,9,     -999.0,9,     -999.0,9,     -999.0,9,     -999.0,9
33RR20220613,       P02E,     137,          3,         27,         27,2,20220623,       0953,    30.0002,  -150.2433,       6180,     4.7,2,  24.2690,2,  35.4579,2,-999.0000,9,    212.8,2,  -999.0,9, -999.00,9, -999.00,9, -999.00,9, -999.00,9,-999.000,9,-999.000,9,-999.0000,9,  -999.0,9,  -999.0,9,-999.0000,9,  -999.00,9, -999.00,9,  -999.0,9, -999.00,9, -999.00,9,     -999.0,9, 20220623,     1011,  30.0002,-150.2432,     -999.0,9,     -999.0,9,     -999.0,9,     -999.0,9,     -999.0,9,     0.0135,1,     4.6357,1,     -999.0,9,     -999.0,9,     -999.0,9,     -999.0,9,     -999.0,9
33RR20220613,       P02E,     137,          3,         24,         24,2,20220623,       0953,    30.0002,  -150.2433,       6180,     4.7,2,  24.2687,2,  35.4580,2,-999.0000,9,    212.7,2,  -999.0,9, -999.00,9, -999.00,9, -999.00,9, -999.00,9,-999.000,9,-999.000,9,-999.0000,9,  -999.0,9,  -999.0,9,-999.0000,9,  -999.00,9, -999.00,9,  -999.0,9, -999.00,9, -999.00,9,     -999.0,9, 20220623,     1011,  30.0002,-150.2433,     -999.0,9,     -999.0,9,     -999.0,9,     -999.0,9,     -999.0,9,     0.0136,1,     4.6352,1,     -999.0,9,     -999.0,9,     -999.0,9,     -999.0,9,     -999.0,9
33RR20220613,       P02E,     137,          3,         34,         34,2,20220623,       0953,    30.0002,  -150.2433,       6180,     4.8,2,  24.2679,2,  35.4577,2,-999.0000,9,    212.7,2,  -999.0,9, -999.00,9, -999.00,9, -999.00,9, -999.00,9,-999.000,9,-999.000,9,-999.0000,9,  -999.0,9,  -999.0,9,-999.0000,9,  -999.00,9, -999.00,9,  -999.0,9, -999.00,9, -999.00,9,     -999.0,9, 20220623,     1011,  30.0002,-150.2432,    24.2666,2,     -999.0,9,     -999.0,9,     -999.0,9,     -999.0,9,     0.0135,1,     4.6360,1,     -999.0,9,     -999.0,9,     -999.0,9,     -999.0,9,     -999.0,9
33RR20220613,       P02E,     137,          3,         31,         31,2,20220623,       0953,    30.0002,  -150.2433,       6180,     4.8,2,  24.2679,2,  35.4578,2,-999.0000,9,    212.8,2,  -999.0,9, -999.00,9, -999.00,9, -999.00,9, -999.00,9,-999.000,9,-999.000,9,-999.0000,9,  -999.0,9,  -999.0,9,-999.0000,9,  -999.00,9, -999.00,9,  -999.0,9, -999.00,9, -999.00,9,     -999.0,9, 20220623,     1011,  30.0002,-150.2432,     -999.0,9,     -999.0,9,     -999.0,9,     -999.0,9,     -999.0,9,     0.0135,1,     4.6363,1,     -999.0,9,     -999.0,9,     -999.0,9,     -999.0,9,     -999.0,9
33RR20220613,       P02E,     137,          3,         12,         12,2,20220623,       0953,    30.0002,  -150.2433,       6180,     4.8,2,  24.2662,2,  35.4580,2,-999.0000,9,    212.6,2,  -999.0,9, -999.00,9, -999.00,9, -999.00,9, -999.00,9,-999.000,9,-999.000,9,-999.0000,9,  -999.0,9,  -999.0,9,-999.0000,9,  -999.00,9, -999.00,9,  -999.0,9, -999.00,9, -999.00,9,     -999.0,9, 20220623,     1009,  30.0002,-150.2433,     -999.0,9,     -999.0,9,     -999.0,9,     -999.0,9,     -999.0,9,     0.0135,1,     4.6360,1,     -999.0,9,     -999.0,9,     -999.0,9,     -999.0,9,     -999.0,9
33RR20220613,       P02E,     137,          3,         28,         28,2,20220623,       0953,    30.0002,  -150.2433,       6180,     4.9,2,  24.2683,2,  35.4579,2,-999.0000,9,    212.8,2,  -999.0,9, -999.00,9, -999.00,9, -999.00,9, -999.00,9,-999.000,9,-999.000,9,-999.0000,9,  -999.0,9,  -999.0,9,-999.0000,9,  -999.00,9, -999.00,9,  -999.0,9, -999.00,9, -999.00,9,     -999.0,9, 20220623,     1011,  30.0002,-150.2432,     -999.0,9,     -999.0,9,     -999.0,9,     -999.0,9,     -999.0,9,     0.0135,1,     4.6351,1,     -999.0,9,     -999.0,9,     -999.0,9,     -999.0,9,     -999.0,9
33RR20220613,       P02E,     137,          3,         35,         35,2,20220623,       0953,    30.0002,  -150.2433,       6180,     4.9,2,  24.2668,2,  35.4578,2,-999.0000,9,    212.7,2,  -999.0,9, -999.00,9, -999.00,9, -999.00,9, -999.00,9,-999.000,9,-999.000,9,-999.0000,9,  -999.0,9,  -999.0,9,-999.0000,9,  -999.00,9, -999.00,9,  -999.0,9, -999.00,9, -999.00,9,     -999.0,9, 20220623,     1012,  30.0002,-150.2432,     -999.0,9,     -999.0,9,     -999.0,9,     -999.0,9,     -999.0,9,     0.0136,1,     4.6361,1,     -999.0,9,     -999.0,9,     -999.0,9,     -999.0,9,     -999.0,9
33RR20220613,       P02E,     137,          3,         18,         18,2,20220623,       0953,    30.0002,  -150.2433,       6180,     4.9,2,  24.2671,2,  35.4579,2,-999.0000,9,    212.7,2,  -999.0,9, -999.00,9, -999.00,9, -999.00,9, -999.00,9,-999.000,9,-999.000,9,-999.0000,9,  -999.0,9,  -999.0,9,-999.0000,9,  -999.00,9, -999.00,9,  -999.0,9, -999.00,9, -999.00,9,     -999.0,9, 20220623,     1009,  30.0002,-150.2433,    24.2670,2,     -999.0,9,     -999.0,9,     -999.0,9,     -999.0,9,     0.0135,1,     4.6360,1,     -999.0,9,     -999.0,9,     -999.0,9,     -999.0,9,     -999.0,9
33RR20220613,       P02E,     137,          3,         14,         14,2,20220623,       0953,    30.0002,  -150.2433,       6180,     4.9,2,  24.2666,2,  35.4579,2,-999.0000,9,    212.7,2,  -999.0,9, -999.00,9, -999.00,9, -999.00,9, -999.00,9,-999.000,9,-999.000,9,-999.0000,9,  -999.0,9,  -999.0,9,-999.0000,9,  -999.00,9, -999.00,9,  -999.0,9, -999.00,9, -999.00,9,     -999.0,9, 20220623,     1009,  30.0002,-150.2433,    24.2662,2,     -999.0,9,     -999.0,9,     -999.0,9,     -999.0,9,     0.0137,1,     4.6360,1,     -999.0,9,     -999.0,9,     -999.0,9,     -999.0,9,     -999.0,9
33RR20220613,       P02E,     137,          3,         16,         16,2,20220623,       0953,    30.0002,  -150.2433,       6180,     4.9,2,  24.2664,2,  35.4580,2,-999.0000,9,    212.7,2,  -999.0,9, -999.00,9, -999.00,9, -999.00,9, -999.00,9,-999.000,9,-999.000,9,-999.0000,9,  -999.0,9,  -999.0,9,-999.0000,9,  -999.00,9, -999.00,9,  -999.0,9, -999.00,9, -999.00,9,     -999.0,9, 20220623,     1009,  30.0002,-150.2433,     -999.0,9,     -999.0,9,     -999.0,9,     -999.0,9,     -999.0,9,     0.0135,1,     4.6356,1,     -999.0,9,     -999.0,9,     -999.0,9,     -999.0,9,     -999.0,9
33RR20220613,       P02E,     137,          3,         26,         26,2,20220623,       0953,    30.0002,  -150.2433,       6180,     5.0,2,  24.2690,2,  35.4579,2,-999.0000,9,    212.7,2,  -999.0,9, -999.00,9, -999.00,9, -999.00,9, -999.00,9,-999.000,9,-999.000,9,-999.0000,9,  -999.0,9,  -999.0,9,-999.0000,9,  -999.00,9, -999.00,9,  -999.0,9, -999.00,9, -999.00,9,     -999.0,9, 20220623,     1011,  30.0002,-150.2432,    24.2682,2,     -999.0,9,     -999.0,9,     -999.0,9,     -999.0,9,     0.0135,1,     4.6353,1,     -999.0,9,     -999.0,9,     -999.0,9,     -999.0,9,     -999.0,9
33RR20220613,       P02E,     137,          3,         33,         33,2,20220623,       0953,    30.0002,  -150.2433,       6180,     5.0,2,  24.2682,2,  35.4577,2,-999.0000,9,    212.9,2,  -999.0,9, -999.00,9, -999.00,9, -999.00,9, -999.00,9,-999.000,9,-999.000,9,-999.0000,9,  -999.0,9,  -999.0,9,-999.0000,9,  -999.00,9, -999.00,9,  -999.0,9, -999.00,9, -999.00,9,     -999.0,9, 20220623,     1011,  30.0002,-150.2432,     -999.0,9,     -999.0,9,     -999.0,9,     -999.0,9,     -999.0,9,     0.0135,1,     4.6357,1,     -999.0,9,     -999.0,9,     -999.0,9,     -999.0,9,     -999.0,9
33RR20220613,       P02E,     137,          3,         11,         11,2,20220623,       0953,    30.0002,  -150.2433,       6180,     5.0,2,  24.2661,2,  35.4580,2,  35.4567,2,    212.5,3,   213.8,2,    0.20,2,    0.01,2,    0.01,2,    0.00,3,   1.530,2,   1.050,2,   1.7044,2,  -999.0,9,  2332.7,2,   8.0271,2,    25.03,2, -999.00,9,  -999.0,9, -999.00,9, -999.00,9,        6.9,2, 20220623,     1009,  30.0002,-150.2433,     -999.0,9,     -999.0,9,     -999.0,9,     -999.0,9,     -999.0,9,     0.0135,1,     4.6360,1,     -999.0,9,     -999.0,9,     -999.0,9,     -999.0,9,     -999.0,9
33RR20220613,       P02E,     137,          3,         21,         21,2,20220623,       0953,    30.0002,  -150.2433,       6180,     5.0,2,  24.2678,2,  35.4579,2,-999.0000,9,    212.8,2,  -999.0,9, -999.00,9, -999.00,9, -999.00,9, -999.00,9,-999.000,9,-999.000,9,-999.0000,9,  -999.0,9,  -999.0,9,-999.0000,9,  -999.00,9, -999.00,9,  -999.0,9, -999.00,9, -999.00,9,     -999.0,9, 20220623,     1009,  30.0002,-150.2433,     -999.0,9,     -999.0,9,     -999.0,9,     -999.0,9,     -999.0,9,     0.0135,1,     4.6348,1,     -999.0,9,     -999.0,9,     -999.0,9,     -999.0,9,     -999.0,9
33RR20220613,       P02E,     137,          3,         10,         10,4,20220623,       0953,    30.0002,  -150.2433,       6180,     5.0,3,  24.2668,3,  35.4579,3,  34.8888,3,    212.7,3,   216.2,3,    3.22,3,    2.96,3,    0.02,3,    0.20,3,-999.000,5,-999.000,5,-999.0000,5,  -999.0,9,  -999.0,9,-999.0000,9,  -999.00,9, -999.00,9,  -999.0,9, -999.00,9, -999.00,9,     -999.0,5, 20220623,     1009,  30.0002,-150.2432,    24.2660,3,     -999.0,9,     -999.0,9,     -999.0,9,     -999.0,9,     0.0140,1,     4.6361,1,     -999.0,9,     -999.0,9,     -999.0,9,     -999.0,9,     -999.0,9
33RR20220613,       P02E,     137,          3,         30,         17,2,20220623,       0953,    30.0002,  -150.2433,       6180,     5.0,2,  24.2679,2,  35.4578,2,-999.0000,9,    212.7,2,  -999.0,9, -999.00,9, -999.00,9, -999.00,9, -999.00,9,-999.000,9,-999.000,9,-999.0000,9,  -999.0,9,  -999.0,9,-999.0000,9,  -999.00,9, -999.00,9,  -999.0,9, -999.00,9, -999.00,9,     -999.0,9, 20220623,     1011,  30.0002,-150.2432,    24.2679,2,     -999.0,9,     -999.0,9,     -999.0,9,     -999.0,9,     0.0134,1,     4.6358,1,     -999.0,9,     -999.0,9,     -999.0,9,     -999.0,9,     -999.0,9
33RR20220613,       P02E,     137,          3,         32,         32,2,20220623,       0953,    30.0002,  -150.2433,       6180,     5.1,2,  24.2685,2,  35.4578,2,-999.0000,9,    212.7,2,  -999.0,9, -999.00,9, -999.00,9, -999.00,9, -999.00,9,-999.000,9,-999.000,9,-999.0000,9,  -999.0,9,  -999.0,9,-999.0000,9,  -999.00,9, -999.00,9,  -999.0,9, -999.00,9, -999.00,9,     -999.0,9, 20220623,     1011,  30.0002,-150.2432,     -999.0,9,     -999.0,9,     -999.0,9,     -999.0,9,     -999.0,9,     0.0136,1,     4.6361,1,     -999.0,9,     -999.0,9,     -999.0,9,     -999.0,9,     -999.0,9
33RR20220613,       P02E,     137,          3,         15,         15,2,20220623,       0953,    30.0002,  -150.2433,       6180,     5.1,2,  24.2668,2,  35.4579,2,-999.0000,9,    212.6,2,  -999.0,9, -999.00,9, -999.00,9, -999.00,9, -999.00,9,-999.000,9,-999.000,9,-999.0000,9,  -999.0,9,  -999.0,9,-999.0000,9,  -999.00,9, -999.00,9,  -999.0,9, -999.00,9, -999.00,9,     -999.0,9, 20220623,     1009,  30.0002,-150.2433,     -999.0,9,     -999.0,9,     -999.0,9,     -999.0,9,     -999.0,9,     0.0136,1,     4.6355,1,     -999.0,9,     -999.0,9,     -999.0,9,     -999.0,9,     -999.0,9
33RR20220613,       P02E,     137,          3,         13,         13,2,20220623,       0953,    30.0002,  -150.2433,       6180,     5.3,2,  24.2670,2,  35.4579,2,-999.0000,9,    212.6,2,  -999.0,9, -999.00,9, -999.00,9, -999.00,9, -999.00,9,-999.000,9,-999.000,9,-999.0000,9,  -999.0,9,  -999.0,9,-999.0000,9,  -999.00,9, -999.00,9,  -999.0,9, -999.00,9, -999.00,9,     -999.0,9, 20220623,     1009,  30.0002,-150.2432,     -999.0,9,     -999.0,9,     -999.0,9,     -999.0,9,     -999.0,9,     0.0137,1,     4.6355,1,     -999.0,9,     -999.0,9,     -999.0,9,     -999.0,9,     -999.0,9
33RR20220613,       P02E,     137,          3,          9,          9,2,20220623,       0953,    30.0002,  -150.2433,       6180,    25.4,2,  24.2630,2,  35.4572,2,  35.4557,2,    212.5,3,   214.0,2,    0.49,2,    0.00,2,    0.01,2,    0.00,2,   1.526,2,   1.051,2,   1.6183,2,  -999.0,9,  2333.9,2,   8.0267,2,    25.05,2, -999.00,9,  -999.0,9, -999.00,9, -999.00,9,        6.8,2, 20220623,     1008,  30.0002,-150.2433,    24.2646,2,     -999.0,9,     -999.0,9,     -999.0,9,     -999.0,9,     0.0136,1,     4.6370,1,     -999.0,9,     -999.0,9,     -999.0,9,     -999.0,9,     -999.0,9
33RR20220613,       P02E,     137,          3,          8,          8,2,20220623,       0953,    30.0002,  -150.2433,       6180,    50.7,2,  22.8749,2,  35.3508,2,  35.3502,2,    225.0,3,   225.9,2,    0.39,2,    0.00,2,    0.01,2,    0.01,3,   1.762,2,   1.116,2,   1.7347,2,  2028.7,2,  2327.2,2,   8.0286,2,    25.03,2, -999.00,9,  -999.0,9, -999.00,9, -999.00,9,        7.2,2, 20220623,     1006,  30.0002,-150.2433,    22.8698,2,     -999.0,9,     -999.0,9,     -999.0,9,     -999.0,9,     0.0151,1,     4.6275,1,     -999.0,9,     -999.0,9,     -999.0,9,     -999.0,9,     -999.0,9
33RR20220613,       P02E,     137,          3,          7,          7,2,20220623,       0953,    30.0002,  -150.2433,       6180,    76.4,2,  21.8030,2,  35.2929,2,  35.2934,2,    225.1,3,   226.2,2,    0.39,2,    0.00,2,    0.01,2,    0.00,3,   1.852,2,   1.153,2,   1.7374,2,  2036.4,2,  2323.8,2,   8.0146,2,    25.05,2, -999.00,9,  -999.0,9, -999.00,9, -999.00,9,        7.3,2, 20220623,     1004,  30.0002,-150.2433,    21.8180,2,     -999.0,9,     -999.0,9,     -999.0,9,     -999.0,9,     0.0177,1,     4.6340,1,     -999.0,9,     -999.0,9,     -999.0,9,     -999.0,9,     -999.0,9
33RR20220613,       P02E,     137,          3,          6,          6,2,20220623,       0953,    30.0002,  -150.2433,       6180,   101.7,2,  21.0159,2,  35.2298,2,  35.2144,2,    222.6,3,   224.2,2,    1.27,2,    0.00,2,    0.09,2,    0.03,3,   1.881,2,   1.183,2,   1.7573,2,  2043.8,2,  2317.6,2,   7.9935,2,    25.02,2, -999.00,9,  -999.0,9, -999.00,9, -999.00,9,        7.5,2, 20220623,     1001,  30.0002,-150.2433,    21.0247,2,     -999.0,9,     -999.0,9,     -999.0,9,     -999.0,9,     0.0190,1,     4.6506,1,     -999.0,9,     -999.0,9,     -999.0,9,     -999.0,9,     -999.0,9
33RR20220613,       P02E,     137,          3,          5,          5,2,20220623,       0953,    30.0002,  -150.2433,       6180,   151.9,2,  19.5512,2,  35.0174,2,  35.0161,2,    221.3,3,   221.2,2,    0.68,2,    0.00,2,    0.02,2,    0.00,3,   1.945,2,   1.257,2,   1.9597,2,  2048.1,2,  2306.2,2,   7.9650,2,    25.03,2, -999.00,9,  -999.0,9, -999.00,9, -999.00,9,        8.2,2, 20220623,     1000,  30.0002,-150.2433,    19.5379,2,     -999.0,9,     -999.0,9,     -999.0,9,     -999.0,9,     0.0224,1,     4.6679,1,     -999.0,9,     -999.0,9,     -999.0,9,     -999.0,9,     -999.0,9