BOTTLE,20230830CCHSIOCBG
EXPOCODE,SECT_ID,STNNBR,CASTNO,SAMPNO,BTLNBR,BTLNBR_FLAG_W,DATE,TIME,LATITUDE,LONGITUDE,DEPTH,CTDPRS,CTDPRS_FLAG_W,CTDTMP,CTDTMP_FLAG_W,CTDSAL,CTDSAL_FLAG_W,SALNTY,SALNTY_FLAG_W,CTDOXY,CTDOXY_FLAG_W,OXYGEN,OXYGEN_FLAG_W,SILCAT,SILCAT_FLAG_W,NITRAT,NITRAT_FLAG_W,NITRIT,NITRIT_FLAG_W,PHSPHT,PHSPHT_FLAG_W,CFC-11,CFC-11_FLAG_W,CFC-12,CFC-12_FLAG_W,SF6,SF6_FLAG_W,TCARBN,TCARBN_FLAG_W,ALKALI,ALKALI_FLAG_W,PH_TOT,PH_TOT_FLAG_W,PH_TMP,PH_TMP_FLAG_W,DELC13,DELC13_FLAG_W,DELC14,DELC14_FLAG_W,DOC,DOC_FLAG_W,TDN,TDN_FLAG_W,N2O,N2O_FLAG_W,BTL_DATE,BTL_TIME,BTL_LAT,BTL_LON,REFTMP,REFTMP_FLAG_W,POC,POC_FLAG_W,PON,PON_FLAG_W,POP,POP_FLAG_W,PCOD,PCOD_FLAG_W,CTDFLUOR,CTDFLUOR_FLAG_W,CTDXMISS,CTDXMISS_FLAG_W,HPLC,HPLC_FLAG_W,DNA,DNA_FLAG_W,FCM,FCM_FLAG_W,IMAGES,IMAGES_FLAG_W,VIRAL_ABUNDANCE,VIRAL_ABUNDANCE_FLAG_W
,,,,,,,,,,,METERS,DBAR,,ITS-90,,PSS-78,,PSS-78,,UMOL/KG,,UMOL/KG,,UMOL/KG,,UMOL/KG,,UMOL/KG,,UMOL/KG,,PMOL/KG,,PMOL/KG,,FMOL/KG,,UMOL/KG,,UMOL/KG,,,,DEG C,,/MILLE,,/MILLE,,UMOL/KG,,UMOL/KG,,NMOL/KG,,,,,,ITS-90,,UG/L,,UG/L,,UG/L,,UG/L,,VOLTS,,VOLTS,,,,,,,,,,,
33RR20220613,       P02E,     157,          1,          4,          4,2,20220629,       0759,    30.0007,  -138.6952,       4782,  4118.5,2,   1.4974,2,  34.6798,2,  34.6810,2,    142.9,2,   142.9,2,  161.08,2,   36.18,2,    0.00,2,    2.53,2,   0.007,2,   0.007,2,   0.0000,2,  2334.9,2,  2426.2,6,   7.5668,2,    25.02,2, -999.00,9,  -999.0,9, -999.00,9, -999.00,9,       22.2,2, 20220629,      816,  30.0007,-138.6952,     1.4970,2,     -999.0,9,     -999.0,9,     -999.0,9,     -999.0,9,     0.0122,1,     4.7014,1,     -999.0,9,     -999.0,9,     -999.0,9,     -999.0,9,     -999.0,9
33RR20220613,       P02E,     157,          1,          3,          3,2,20220629,       0759,    30.0007,  -138.6952,       4782,  4375.0,2,   1.5043,2,  34.6823,3,  34.6846,2,    146.8,2,   147.0,2,  159.62,2,   35.98,2,    0.00,2,    2.50,2,   0.005,2,   0.004,2,   0.0000,2,  2332.2,2,  2426.6,2,   7.5729,2,    25.00,2, -999.00,9,  -999.0,9, -999.00,9, -999.00,9,       21.8,2, 20220629,      810,  30.0007,-138.6952,     1.5041,2,     -999.0,9,     -999.0,9,     -999.0,9,     -999.0,9,     0.0124,1,     4.7007,1,     -999.0,9,     -999.0,9,     -999.0,9,     -999.0,9,     -999.0,9
33RR20220613,       P02E,     157,          1,          2,          2,2,20220629,       0759,    30.0007,  -138.6952,       4782,  4630.8,2,   1.5292,2,  34.6829,2,  34.6844,2,    147.9,2,   148.1,2,  157.18,3,   35.94,3,    0.00,2,    2.49,2,   0.008,2,   0.009,2,   0.0000,2,  2331.5,2,  2426.8,6,   7.5743,2,    25.01,2, -999.00,9,  -999.0,9, -999.00,9, -999.00,9,       22.1,2, 20220629,      804,  30.0007,-138.6952,     1.5291,2,     -999.0,9,     -999.0,9,     -999.0,9,     -999.0,9,     0.0121,1,     4.7007,1,     -999.0,9,     -999.0,9,     -999.0,9,     -999.0,9,     -999.0,9
33RR20220613,       P02E,     157,          1,          1,          1,2,20220629,       0759,    30.0007,  -138.6952,       4782,  4860.5,2,   1.5576,2,  34.6827,3,  34.6851,2,    148.1,2,   147.9,2,  159.32,2,   35.97,2,    0.00,2,    2.49,2,   0.011,2,   0.010,2,   0.0000,2,  2330.9,6,  2426.8,2,   7.5756,2,    25.01,2, -999.00,9,  -999.0,9, -999.00,9, -999.00,9,       22.3,2, 20220629,      759,  30.0007,-138.6952,     1.5574,2,     -999.0,9,     -999.0,9,     -999.0,9,     -999.0,9,     0.0123,1,     4.7006,1,     -999.0,9,     -999.0,9,     -999.0,9,     -999.0,9,     -999.0,9
33RR20220613,       P02E,     158,          1,         17,         37,2,20220629,       1319,    30.0004,  -138.1173,       4680,     4.6,2,  21.6361,2,  34.3621,2,-999.0000,9,    223.4,2,  -999.0,9, -999.00,9, -999.00,9, -999.00,9, -999.00,9,-999.000,9,-999.000,9,-999.0000,9,  -999.0,9,  -999.0,9,-999.0000,9,  -999.00,9, -999.00,9,  -999.0,9, -999.00,9, -999.00,9,     -999.0,9, 20220629,     1346,  30.0004,-138.1173,     -999.0,9,     -999.0,9,     -999.0,9,     -999.0,1,     -999.0,9,     0.0134,1,     4.6356,1,     -999.0,9,     -999.0,9,     -999.0,9,     -999.0,9,     -999.0,9
33RR20220613,       P02E,     158,          1,         14,         41,2,20220629,       1319,    30.0004,  -138.1173,       4680,     4.7,2,  21.6603,2,  34.3495,2,-999.0000,9,    223.1,2,  -999.0,9, -999.00,9, -999.00,9, -999.00,9, -999.00,9,-999.000,9,-999.000,9,-999.0000,9,  -999.0,9,  -999.0,9,-999.0000,9,  -999.00,9, -999.00,9,  -999.0,9, -999.00,9, -999.00,9,     -999.0,9, 20220629,     1346,  30.0004,-138.1173,    21.6520,2,     -999.0,9,     -999.0,9,     -999.0,9,     -999.0,9,     0.0134,1,     4.6340,1,     -999.0,9,     -999.0,9,     -999.0,9,     -999.0,9,     -999.0,9
33RR20220613,       P02E,     158,          1,         11,         11,2,20220629,       1319,    30.0004,  -138.1173,       4680,     4.9,2,  21.6031,2,  34.3739,2,-999.0000,9,    223.5,2,  -999.0,9, -999.00,9, -999.00,9, -999.00,9, -999.00,9,-999.000,9,-999.000,9,-999.0000,9,  -999.0,9,  -999.0,9,-999.0000,9,  -999.00,9, -999.00,9,  -999.0,9, -999.00,9, -999.00,9,     -999.0,9, 20220629,     1346,  30.0004,-138.1173,     -999.0,9,     -999.0,1,     -999.0,1,     -999.0,9,     -999.0,9,     0.0134,1,     4.6341,1,     -999.0,9,     -999.0,9,     -999.0,9,     -999.0,9,     -999.0,9
33RR20220613,       P02E,     158,          1,         19,         39,2,20220629,       1319,    30.0004,  -138.1173,       4680,     5.0,2,  21.6331,2,  34.3649,2,-999.0000,9,    223.4,2,  -999.0,9, -999.00,9, -999.00,9, -999.00,9, -999.00,9,-999.000,9,-999.000,9,-999.0000,9,  -999.0,9,  -999.0,9,-999.0000,9,  -999.00,9, -999.00,9,  -999.0,9, -999.00,9, -999.00,9,     -999.0,9, 20220629,     1346,  30.0004,-138.1173,    21.6175,2,     -999.0,9,     -999.0,9,     -999.0,9,     -999.0,1,     0.0134,1,     4.6345,1,     -999.0,9,     -999.0,9,     -999.0,9,     -999.0,9,     -999.0,9
33RR20220613,       P02E,     158,          1,         12,         12,2,20220629,       1319,    30.0004,  -138.1173,       4680,     5.0,2,  21.6741,2,  34.3431,2,-999.0000,9,    223.3,2,  -999.0,9, -999.00,9, -999.00,9, -999.00,9, -999.00,9,-999.000,9,-999.000,9,-999.0000,9,  -999.0,9,  -999.0,9,-999.0000,9,  -999.00,9, -999.00,9,  -999.0,9, -999.00,9, -999.00,9,     -999.0,9, 20220629,     1346,  30.0004,-138.1173,     -999.0,9,     -999.0,1,     -999.0,1,     -999.0,9,     -999.0,9,     0.0134,1,     4.6329,1,     -999.0,9,     -999.0,9,     -999.0,9,     -999.0,9,     -999.0,9
33RR20220613,       P02E,     158,          1,         20,         20,2,20220629,       1319,    30.0004,  -138.1173,       4680,     5.2,2,  21.6171,2,  34.3740,2,-999.0000,9,    223.4,2,  -999.0,9, -999.00,9, -999.00,9, -999.00,9, -999.00,9,-999.000,9,-999.000,9,-999.0000,9,  -999.0,9,  -999.0,9,-999.0000,9,  -999.00,9, -999.00,9,  -999.0,9, -999.00,9, -999.00,9,     -999.0,9, 20220629,     1346,  30.0004,-138.1173,     -999.0,9,     -999.0,9,     -999.0,9,     -999.0,9,     -999.0,1,     0.0134,1,     4.6354,1,     -999.0,9,     -999.0,9,     -999.0,9,     -999.0,9,     -999.0,9
33RR20220613,       P02E,     158,          1,          9,          9,2,20220629,       1319,    30.0004,  -138.1173,       4680,     5.2,2,  21.5504,2,  34.3983,2,-999.0000,9,    223.9,2,  -999.0,9, -999.00,9, -999.00,9, -999.00,9, -999.00,9,-999.000,9,-999.000,9,-999.0000,9,  -999.0,9,  -999.0,9,-999.0000,9,  -999.00,9, -999.00,9,  -999.0,9, -999.00,9, -999.00,9,     -999.0,9, 20220629,     1346,  30.0004,-138.1173,    21.6501,2,     -999.0,9,     -999.0,9,     -999.0,9,     -999.0,9,     0.0134,1,     4.6354,1,     -999.0,1,     -999.0,9,     -999.0,1,     -999.0,9,     -999.0,9
33RR20220613,       P02E,     158,          1,         10,         10,2,20220629,       1319,    30.0004,  -138.1173,       4680,     5.2,2,  21.5630,2,  34.3936,2,-999.0000,9,    223.7,2,  -999.0,9, -999.00,9, -999.00,9, -999.00,9, -999.00,9,-999.000,9,-999.000,9,-999.0000,9,  -999.0,9,  -999.0,9,-999.0000,9,  -999.00,9, -999.00,9,  -999.0,9, -999.00,9, -999.00,9,     -999.0,9, 20220629,     1346,  30.0004,-138.1173,     -999.0,9,     -999.0,9,     -999.0,9,     -999.0,9,     -999.0,9,     0.0134,1,     4.6348,1,     -999.0,9,     -999.0,1,     -999.0,9,     -999.0,9,     -999.0,9
33RR20220613,       P02E,     158,          1,         15,         15,2,20220629,       1319,    30.0004,  -138.1173,       4680,     5.3,2,  21.6504,2,  34.3554,2,-999.0000,9,    223.4,2,  -999.0,9, -999.00,9, -999.00,9, -999.00,9, -999.00,9,-999.000,9,-999.000,9,-999.0000,9,  -999.0,9,  -999.0,9,-999.0000,9,  -999.00,9, -999.00,9,  -999.0,9, -999.00,9, -999.00,9,     -999.0,9, 20220629,     1346,  30.0004,-138.1173,     -999.0,9,     -999.0,9,     -999.0,9,     -999.0,1,     -999.0,9,     0.0134,1,     4.6342,1,     -999.0,9,     -999.0,9,     -999.0,9,     -999.0,9,     -999.0,9
33RR20220613,       P02E,     158,          1,         16,         16,2,20220629,       1319,    30.0004,  -138.1173,       4680,     5.3,2,  21.6502,2,  34.3568,2,-999.0000,9,    223.2,2,  -999.0,9, -999.00,9, -999.00,9, -999.00,9, -999.00,9,-999.000,9,-999.000,9,-999.0000,9,  -999.0,9,  -999.0,9,-999.0000,9,  -999.00,9, -999.00,9,  -999.0,9, -999.00,9, -999.00,9,     -999.0,9, 20220629,     1346,  30.0004,-138.1173,     -999.0,9,     -999.0,9,     -999.0,9,     -999.0,1,     -999.0,9,     0.0134,1,     4.6355,1,     -999.0,9,     -999.0,9,     -999.0,9,     -999.0,9,     -999.0,9
33RR20220613,       P02E,     158,          1,         13,         13,2,20220629,       1319,    30.0004,  -138.1173,       4680,     5.4,2,  21.6835,2,  34.3386,2,-999.0000,9,    223.0,2,  -999.0,9, -999.00,9, -999.00,9, -999.00,9, -999.00,9,-999.000,9,-999.000,9,-999.0000,9,  -999.0,9,  -999.0,9,-999.0000,9,  -999.00,9, -999.00,9,  -999.0,9, -999.00,9, -999.00,9,     -999.0,9, 20220629,     1346,  30.0004,-138.1173,     -999.0,9,     -999.0,1,     -999.0,1,     -999.0,9,     -999.0,9,     0.0135,1,     4.6341,1,     -999.0,9,     -999.0,9,     -999.0,9,     -999.0,9,     -999.0,9
33RR20220613,       P02E,     158,          1,         18,         18,2,20220629,       1319,    30.0004,  -138.1173,       4680,     5.6,2,  21.6543,2,  34.3550,2,-999.0000,9,    223.1,2,  -999.0,9, -999.00,9, -999.00,9, -999.00,9, -999.00,9,-999.000,9,-999.000,9,-999.0000,9,  -999.0,9,  -999.0,9,-999.0000,9,  -999.00,9, -999.00,9,  -999.0,9, -999.00,9, -999.00,9,     -999.0,9, 20220629,     1346,  30.0004,-138.1173,     -999.0,9,     -999.0,9,     -999.0,9,     -999.0,9,     -999.0,1,     0.0134,1,     4.6349,1,     -999.0,9,     -999.0,9,     -999.0,9,     -999.0,9,     -999.0,9
33RR20220613,       P02E,     158,          1,          8,          8,2,20220629,       1319,    30.0004,  -138.1173,       4680,    40.9,2,  19.9128,2,  34.2516,2,-999.0000,9,    239.6,2,  -999.0,9, -999.00,9, -999.00,9, -999.00,9, -999.00,9,-999.000,9,-999.000,9,-999.0000,9,  -999.0,9,  -999.0,9,-999.0000,9,  -999.00,9, -999.00,9,  -999.0,9, -999.00,9, -999.00,9,     -999.0,9, 20220629,     1343,  30.0004,-138.1173,    19.9198,2,     -999.0,9,     -999.0,9,     -999.0,9,     -999.0,9,     0.0134,1,     4.6469,1,     -999.0,1,     -999.0,9,     -999.0,1,     -999.0,9,     -999.0,9
33RR20220613,       P02E,     158,          1,          7,          7,2,20220629,       1319,    30.0004,  -138.1173,       4680,    75.9,2,  18.9298,2,  34.4048,2,-999.0000,9,    239.0,2,  -999.0,9, -999.00,9, -999.00,9, -999.00,9, -999.00,9,-999.000,9,-999.000,9,-999.0000,9,  -999.0,9,  -999.0,9,-999.0000,9,  -999.00,9, -999.00,9,  -999.0,9, -999.00,9, -999.00,9,     -999.0,9, 20220629,     1341,  30.0004,-138.1173,    18.9232,2,     -999.0,9,     -999.0,9,     -999.0,9,     -999.0,9,     0.0159,1,     4.6527,1,     -999.0,9,     -999.0,9,     -999.0,1,     -999.0,9,     -999.0,9
33RR20220613,       P02E,     158,          1,          5,          5,2,20220629,       1319,    30.0004,  -138.1173,       4680,   101.1,2,  18.7013,2,  34.4428,2,-999.0000,9,    235.4,2,  -999.0,9, -999.00,9, -999.00,9, -999.00,9, -999.00,9,-999.000,9,-999.000,9,-999.0000,9,  -999.0,9,  -999.0,9,-999.0000,9,  -999.00,9, -999.00,9,  -999.0,9, -999.00,9, -999.00,9,     -999.0,9, 20220629,     1339,  30.0004,-138.1173,    18.7003,2,     -999.0,9,     -999.0,9,     -999.0,9,     -999.0,9,     0.0171,1,     4.6583,1,     -999.0,1,     -999.0,9,     -999.0,1,     -999.0,9,     -999.0,9
33RR20220613,       P02E,     158,          1,          6,          6,2,20220629,       1319,    30.0004,  -138.1173,       4680,   101.3,2,  18.6999,2,  34.4421,2,-999.0000,9,    235.5,2,  -999.0,9, -999.00,9, -999.00,9, -999.00,9, -999.00,9,-999.000,9,-999.000,9,-999.0000,9,  -999.0,9,  -999.0,9,-999.0000,9,  -999.00,9, -999.00,9,  -999.0,9, -999.00,9, -999.00,9,     -999.0,9, 20220629,     1339,  30.0004,-138.1173,     -999.0,9,     -999.0,9,     -999.0,9,     -999.0,9,     -999.0,9,     0.0171,1,     4.6573,1,     -999.0,9,     -999.0,1,     -999.0,9,     -999.0,9,     -999.0,9
33RR20220613,       P02E,     158,          1,          4,          4,2,20220629,       1319,    30.0004,  -138.1173,       4680,   151.7,2,  16.4637,2,  34.1772,2,-999.0000,9,    229.5,2,  -999.0,9, -999.00,9, -999.00,9, -999.00,9, -999.00,9,-999.000,9,-999.000,9,-999.0000,9,  -999.0,9,  -999.0,9,-999.0000,9,  -999.00,9, -999.00,9,  -999.0,9, -999.00,9, -999.00,9,     -999.0,9, 20220629,     1337,  30.0004,-138.1173,    16.4644,2,     -999.0,9,     -999.0,9,     -999.0,9,     -999.0,9,     0.0301,1,     4.6666,1,     -999.0,9,     -999.0,9,     -999.0,1,     -999.0,9,     -999.0,9
33RR20220613,       P02E,     158,          1,          3,          3,2,20220629,       1319,    30.0004,  -138.1173,       4680,   202.4,2,  12.7215,2,  33.7520,2,-999.0000,9,    225.5,2,  -999.0,9, -999.00,9, -999.00,9, -999.00,9, -999.00,9,-999.000,9,-999.000,9,-999.0000,9,  -999.0,9,  -999.0,9,-999.0000,9,  -999.00,9, -999.00,9,  -999.0,9, -999.00,9, -999.00,9,     -999.0,9, 20220629,     1335,  30.0004,-138.1173,    12.7242,2,     -999.0,9,     -999.0,9,     -999.0,9,     -999.0,9,     0.0163,1,     4.6820,1,     -999.0,9,     -999.0,1,     -999.0,1,     -999.0,9,     -999.0,9
33RR20220613,       P02E,     158,          1,          2,          2,2,20220629,       1319,    30.0004,  -138.1173,       4680,   504.4,2,   6.2398,2,  34.0004,2,-999.0000,9,     90.8,2,  -999.0,9, -999.00,9, -999.00,9, -999.00,9, -999.00,9,-999.000,9,-999.000,9,-999.0000,9,  -999.0,9,  -999.0,9,-999.0000,9,  -999.00,9, -999.00,9,  -999.0,9, -999.00,9, -999.00,9,     -999.0,9, 20220629,     1329,  30.0004,-138.1173,     6.2383,2,     -999.0,9,     -999.0,9,     -999.0,9,     -999.0,9,     0.0134,1,     4.6937,1,     -999.0,9,     -999.0,9,     -999.0,1,     -999.0,9,     -999.0,9
33RR20220613,       P02E,     158,          1,          1,          1,2,20220629,       1319,    30.0004,  -138.1173,       4680,  1011.0,2,   3.6637,2,  34.4358,2,-999.0000,9,     22.2,2,  -999.0,9, -999.00,9, -999.00,9, -999.00,9, -999.00,9,-999.000,9,-999.000,9,-999.0000,9,  -999.0,9,  -999.0,9,-999.0000,9,  -999.00,9, -999.00,9,  -999.0,9, -999.00,9, -999.00,9,     -999.0,9, 20220629,     1319,  30.0004,-138.1174,     3.6639,2,     -999.0,9,     -999.0,9,     -999.0,9,     -999.0,9,     0.0134,1,     4.6958,1,     -999.0,9,     -999.0,1,     -999.0,1,     -999.0,9,     -999.0,9