BOTTLE,20230830CCHSIOCBG
EXPOCODE,SECT_ID,STNNBR,CASTNO,SAMPNO,BTLNBR,BTLNBR_FLAG_W,DATE,TIME,LATITUDE,LONGITUDE,DEPTH,CTDPRS,CTDPRS_FLAG_W,CTDTMP,CTDTMP_FLAG_W,CTDSAL,CTDSAL_FLAG_W,SALNTY,SALNTY_FLAG_W,CTDOXY,CTDOXY_FLAG_W,OXYGEN,OXYGEN_FLAG_W,SILCAT,SILCAT_FLAG_W,NITRAT,NITRAT_FLAG_W,NITRIT,NITRIT_FLAG_W,PHSPHT,PHSPHT_FLAG_W,CFC-11,CFC-11_FLAG_W,CFC-12,CFC-12_FLAG_W,SF6,SF6_FLAG_W,TCARBN,TCARBN_FLAG_W,ALKALI,ALKALI_FLAG_W,PH_TOT,PH_TOT_FLAG_W,PH_TMP,PH_TMP_FLAG_W,DELC13,DELC13_FLAG_W,DELC14,DELC14_FLAG_W,DOC,DOC_FLAG_W,TDN,TDN_FLAG_W,N2O,N2O_FLAG_W,BTL_DATE,BTL_TIME,BTL_LAT,BTL_LON,REFTMP,REFTMP_FLAG_W,POC,POC_FLAG_W,PON,PON_FLAG_W,POP,POP_FLAG_W,PCOD,PCOD_FLAG_W,CTDFLUOR,CTDFLUOR_FLAG_W,CTDXMISS,CTDXMISS_FLAG_W,HPLC,HPLC_FLAG_W,DNA,DNA_FLAG_W,FCM,FCM_FLAG_W,IMAGES,IMAGES_FLAG_W,VIRAL_ABUNDANCE,VIRAL_ABUNDANCE_FLAG_W
,,,,,,,,,,,METERS,DBAR,,ITS-90,,PSS-78,,PSS-78,,UMOL/KG,,UMOL/KG,,UMOL/KG,,UMOL/KG,,UMOL/KG,,UMOL/KG,,PMOL/KG,,PMOL/KG,,FMOL/KG,,UMOL/KG,,UMOL/KG,,,,DEG C,,/MILLE,,/MILLE,,UMOL/KG,,UMOL/KG,,NMOL/KG,,,,,,ITS-90,,UG/L,,UG/L,,UG/L,,UG/L,,VOLTS,,VOLTS,,,,,,,,,,,
33RR20220613,       P02E,     180,          1,          4,          4,2,20220705,       2257,    30.0003,  -125.4144,       4357,  3733.0,2,   1.5068,2,  34.6790,3,  34.6946,2,    133.9,2,   133.7,2,  167.95,2,   37.06,2,    0.00,2,    2.60,2,-999.000,9,-999.000,9,-999.0000,9,  -999.0,9,  -999.0,9,-999.0000,9,  -999.00,9, -999.00,9,  -999.0,9, -999.00,1, -999.00,1,     -999.0,9, 20220705,     2314,  30.0003,-125.4144,     1.5067,2,     -999.0,9,     -999.0,9,     -999.0,9,     -999.0,9,     0.0130,1,     4.7005,1,     -999.0,9,     -999.0,9,     -999.0,9,     -999.0,9,     -999.0,9
33RR20220613,       P02E,     180,          1,          3,          3,2,20220705,       2257,    30.0003,  -125.4144,       4357,  4014.8,2,   1.5181,2,  34.6808,2,  34.6796,2,    136.7,2,   136.6,2,  167.26,2,   36.95,2,    0.00,2,    2.59,2,   0.007,2,   0.008,2,   0.0000,2,  2342.7,2,  2431.0,2,   7.5581,2,    25.01,2, -999.00,1,  -999.0,1, -999.00,1, -999.00,1,       23.1,2, 20220705,     2307,  30.0003,-125.4144,     1.5181,2,     -999.0,9,     -999.0,9,     -999.0,9,     -999.0,9,     0.0122,1,     4.7005,1,     -999.0,9,     -999.0,9,     -999.0,9,     -999.0,9,     -999.0,9
33RR20220613,       P02E,     180,          1,          2,          2,2,20220705,       2257,    30.0003,  -125.4144,       4357,  4289.3,2,   1.5369,2,  34.6819,2,  34.6804,2,    138.3,2,   138.4,2,  166.28,2,   36.82,2,    0.00,2,    2.58,2,   0.006,2,   0.010,2,   0.0000,2,  2341.1,2,  2431.1,6,   7.5618,2,    25.00,2, -999.00,1,  -999.0,1, -999.00,1, -999.00,1,       23.3,2, 20220705,     2301,  30.0003,-125.4144,     1.5368,2,     -999.0,9,     -999.0,9,     -999.0,9,     -999.0,9,     0.0122,1,     4.6996,1,     -999.0,9,     -999.0,9,     -999.0,9,     -999.0,9,     -999.0,9
33RR20220613,       P02E,     180,          1,          1,          1,2,20220705,       2257,    30.0003,  -125.4144,       4357,  4422.3,2,   1.5478,2,  34.6823,2,  34.6814,2,    139.0,2,   139.0,2,  165.99,2,   36.81,2,    0.00,2,    2.57,2,   0.008,6,   0.012,6,   0.0000,6,  2342.8,6,  2433.1,2,   7.5636,2,    24.99,2, -999.00,1,  -999.0,1, -999.00,1, -999.00,1,       24.2,6, 20220705,     2257,  30.0003,-125.4144,     1.5477,2,     -999.0,9,     -999.0,9,     -999.0,9,     -999.0,9,     0.0130,1,     4.6994,1,     -999.0,9,     -999.0,9,     -999.0,9,     -999.0,9,     -999.0,9