BOTTLE,20230830CCHSIOCBG
EXPOCODE,SECT_ID,STNNBR,CASTNO,SAMPNO,BTLNBR,BTLNBR_FLAG_W,DATE,TIME,LATITUDE,LONGITUDE,DEPTH,CTDPRS,CTDPRS_FLAG_W,CTDTMP,CTDTMP_FLAG_W,CTDSAL,CTDSAL_FLAG_W,SALNTY,SALNTY_FLAG_W,CTDOXY,CTDOXY_FLAG_W,OXYGEN,OXYGEN_FLAG_W,SILCAT,SILCAT_FLAG_W,NITRAT,NITRAT_FLAG_W,NITRIT,NITRIT_FLAG_W,PHSPHT,PHSPHT_FLAG_W,CFC-11,CFC-11_FLAG_W,CFC-12,CFC-12_FLAG_W,SF6,SF6_FLAG_W,TCARBN,TCARBN_FLAG_W,ALKALI,ALKALI_FLAG_W,PH_TOT,PH_TOT_FLAG_W,PH_TMP,PH_TMP_FLAG_W,DELC13,DELC13_FLAG_W,DELC14,DELC14_FLAG_W,DOC,DOC_FLAG_W,TDN,TDN_FLAG_W,N2O,N2O_FLAG_W,BTL_DATE,BTL_TIME,BTL_LAT,BTL_LON,REFTMP,REFTMP_FLAG_W,POC,POC_FLAG_W,PON,PON_FLAG_W,POP,POP_FLAG_W,PCOD,PCOD_FLAG_W,CTDFLUOR,CTDFLUOR_FLAG_W,CTDXMISS,CTDXMISS_FLAG_W,HPLC,HPLC_FLAG_W,DNA,DNA_FLAG_W,FCM,FCM_FLAG_W,IMAGES,IMAGES_FLAG_W,VIRAL_ABUNDANCE,VIRAL_ABUNDANCE_FLAG_W
,,,,,,,,,,,METERS,DBAR,,ITS-90,,PSS-78,,PSS-78,,UMOL/KG,,UMOL/KG,,UMOL/KG,,UMOL/KG,,UMOL/KG,,UMOL/KG,,PMOL/KG,,PMOL/KG,,FMOL/KG,,UMOL/KG,,UMOL/KG,,,,DEG C,,/MILLE,,/MILLE,,UMOL/KG,,UMOL/KG,,NMOL/KG,,,,,,ITS-90,,UG/L,,UG/L,,UG/L,,UG/L,,VOLTS,,VOLTS,,,,,,,,,,,
33RR20220613,       P02E,     199,          1,         34,         34,2,20220711,       2058,    32.3159,  -118.7528,       1526,     3.2,2,  17.3686,2,  33.6039,2,  33.6093,2,    247.3,2,   247.1,2,    0.00,2,    0.66,2,    0.05,2,    0.28,2,   2.361,2,   1.388,2,   2.2807,2,  2024.9,6,  2245.5,2,   7.9152,2,    24.99,2, -999.00,9,  -999.0,9, -999.00,9, -999.00,9,       11.1,2, 20220711,     2214,  32.3159,-118.7528,    17.3578,2,     -999.0,9,     -999.0,9,     -999.0,9,     -999.0,9,     0.0309,1,     4.4609,1,     -999.0,9,     -999.0,9,     -999.0,9,     -999.0,9,     -999.0,9
33RR20220613,       P02E,     199,          1,         33,         33,2,20220711,       2058,    32.3159,  -118.7528,       1526,    35.9,2,  12.7781,2,  33.6181,2,  33.6216,2,    222.6,2,   220.6,2,    6.75,2,   10.92,2,    0.46,2,    1.05,2,   2.812,2,   1.651,2,   2.3541,2,  2100.8,2,  2239.5,6,   7.7276,2,    25.00,2, -999.00,9,  -999.0,9, -999.00,9, -999.00,9,       16.4,2, 20220711,     2211,  32.3159,-118.7528,    12.7732,2,     -999.0,9,     -999.0,9,     -999.0,9,     -999.0,9,     0.0652,1,     4.5597,1,     -999.0,9,     -999.0,9,     -999.0,9,     -999.0,9,     -999.0,9
33RR20220613,       P02E,     199,          1,         32,         32,2,20220711,       2058,    32.3159,  -118.7528,       1526,    60.6,2,  11.3851,2,  33.6620,2,  33.6613,2,    186.9,2,   187.8,2,   13.00,2,   16.56,2,    0.28,2,    1.37,2,   2.916,2,   1.693,2,   2.3081,2,  2136.2,2,  2239.5,2,   7.6364,2,    24.99,2, -999.00,9,  -999.0,9, -999.00,9, -999.00,9,       18.8,2, 20220711,     2208,  32.3159,-118.7528,    11.3922,2,     -999.0,9,     -999.0,9,     -999.0,9,     -999.0,9,     0.0346,1,     4.6324,1,     -999.0,9,     -999.0,9,     -999.0,9,     -999.0,9,     -999.0,9
33RR20220613,       P02E,     199,          1,         31,         31,2,20220711,       2058,    32.3159,  -118.7528,       1526,    86.7,2,  10.2725,2,  33.7983,2,  33.8073,2,    146.6,2,   147.2,2,   21.12,2,   21.41,2,    0.03,2,    1.66,2,   2.891,2,   1.709,2,   1.9152,2,  2170.7,2,  2245.2,2,   7.5536,2,    25.01,2, -999.00,9,  -999.0,9, -999.00,9, -999.00,9,       24.1,2, 20220711,     2205,  32.3159,-118.7528,    10.2724,2,     -999.0,9,     -999.0,9,     -999.0,9,     -999.0,9,     0.0162,1,     4.6492,1,     -999.0,9,     -999.0,9,     -999.0,9,     -999.0,9,     -999.0,9
33RR20220613,       P02E,     199,          1,         30,         17,2,20220711,       2058,    32.3159,  -118.7528,       1526,   112.1,2,   9.7411,2,  33.9349,2,  33.9414,2,    123.8,2,   123.5,2,   25.12,2,   22.84,2,    0.00,2,    1.78,2,   2.805,2,   1.664,2,   1.6125,2,  2185.9,2,  2252.5,2,   7.5267,2,    25.00,2, -999.00,9,  -999.0,9, -999.00,9, -999.00,9,       28.5,2, 20220711,     2201,  32.3159,-118.7528,     9.7403,2,     -999.0,9,     -999.0,9,     -999.0,9,     -999.0,9,     0.0134,1,     4.6570,1,     -999.0,9,     -999.0,9,     -999.0,9,     -999.0,9,     -999.0,9
33RR20220613,       P02E,     199,          1,         29,         29,2,20220711,       2058,    32.3159,  -118.7528,       1526,   136.7,2,   9.4641,2,  34.0097,2,  34.0168,2,    116.1,2,   115.6,2,   27.96,2,   24.00,2,    0.00,2,    1.88,2,   2.704,2,   1.604,2,   1.3766,2,  2197.1,2,  2258.5,2,   7.5133,2,    24.99,2, -999.00,9,  -999.0,9, -999.00,9, -999.00,9,       30.5,2, 20220711,     2200,  32.3159,-118.7528,     9.4592,2,     -999.0,9,     -999.0,9,     -999.0,9,     -999.0,9,     0.0127,1,     4.6578,1,     -999.0,9,     -999.0,9,     -999.0,9,     -999.0,9,     -999.0,9
33RR20220613,       P02E,     199,          1,         28,         28,2,20220711,       2058,    32.3159,  -118.7528,       1526,   162.2,2,   9.1159,2,  34.0833,2,  34.0835,2,    102.7,2,   102.5,2,   32.74,2,   26.19,2,    0.00,2,    2.02,2,   2.561,2,   1.496,2,   1.1722,2,  2211.3,2,  2264.7,2,   7.4874,2,    25.01,2, -999.00,9,  -999.0,9, -999.00,9, -999.00,9,       32.1,2, 20220711,     2156,  32.3159,-118.7528,     9.1169,2,     -999.0,9,     -999.0,9,     -999.0,9,     -999.0,9,     0.0125,1,     4.6628,1,     -999.0,9,     -999.0,9,     -999.0,9,     -999.0,9,     -999.0,9
33RR20220613,       P02E,     199,          1,         27,         27,2,20220711,       2058,    32.3159,  -118.7528,       1526,   187.3,2,   8.7191,2,  34.0955,2,  34.1103,2,     94.9,2,    94.5,2,   36.16,2,   27.56,2,    0.00,2,    2.11,2,-999.000,9,-999.000,9,-999.0000,9,  -999.0,9,  -999.0,9,-999.0000,9,  -999.00,9, -999.00,9,  -999.0,9, -999.00,9, -999.00,9,     -999.0,9, 20220711,     2154,  32.3159,-118.7528,     8.7173,2,     -999.0,9,     -999.0,9,     -999.0,9,     -999.0,9,     0.0134,1,     4.6648,1,     -999.0,9,     -999.0,9,     -999.0,9,     -999.0,9,     -999.0,9
33RR20220613,       P02E,     199,          1,         26,         26,2,20220711,       2058,    32.3159,  -118.7528,       1526,   212.2,2,   8.4118,2,  34.0951,2,  34.1093,2,     90.0,3,    86.1,2,   39.29,2,   28.84,2,    0.00,2,    2.20,2,   2.373,2,   1.369,2,   0.9729,2,  2228.1,2,  2272.7,2,   7.4467,2,    25.00,2, -999.00,9,  -999.0,9, -999.00,9, -999.00,9,       35.5,2, 20220711,     2152,  32.3159,-118.7528,     8.4270,2,     -999.0,9,     -999.0,9,     -999.0,9,     -999.0,9,     0.0134,1,     4.6608,1,     -999.0,9,     -999.0,9,     -999.0,9,     -999.0,9,     -999.0,9
33RR20220613,       P02E,     199,          1,         25,         25,2,20220711,       2058,    32.3159,  -118.7528,       1526,   237.8,2,   8.0568,2,  34.1033,2,  34.1119,2,     78.2,2,    77.6,2,   42.91,2,   30.31,2,    0.00,2,    2.31,2,-999.000,9,-999.000,9,-999.0000,9,  -999.0,9,  -999.0,9,-999.0000,9,  -999.00,9, -999.00,9,  -999.0,9, -999.00,9, -999.00,9,     -999.0,9, 20220711,     2150,  32.3159,-118.7528,     8.0545,2,     -999.0,9,     -999.0,9,     -999.0,9,     -999.0,9,     0.0134,1,     4.6635,1,     -999.0,9,     -999.0,9,     -999.0,9,     -999.0,9,     -999.0,9
33RR20220613,       P02E,     199,          1,         24,         24,2,20220711,       2058,    32.3159,  -118.7528,       1526,   267.6,2,   8.3766,2,  34.2497,2,  34.2574,2,     42.4,2,    42.5,2,   46.13,2,   31.16,2,    0.00,2,    2.54,2,   1.601,2,   0.914,2,   0.5677,2,  2267.1,2,  2285.6,2,   7.3759,2,    25.00,2, -999.00,9,  -999.0,9, -999.00,9, -999.00,9,       40.5,2, 20220711,     2148,  32.3159,-118.7528,     8.3751,2,     -999.0,9,     -999.0,9,     -999.0,9,     -999.0,9,     0.0134,1,     4.6648,1,     -999.0,9,     -999.0,9,     -999.0,9,     -999.0,9,     -999.0,9
33RR20220613,       P02E,     199,          1,         23,         23,2,20220711,       2058,    32.3159,  -118.7528,       1526,   318.3,2,   7.9907,2,  34.2954,2,  34.2954,2,     27.7,3,    28.9,2,   51.99,2,   32.89,2,    0.00,2,    2.69,2,   1.207,2,   0.683,2,   0.4007,2,  2282.0,2,  2294.5,2,   7.3541,2,    25.00,2, -999.00,9,  -999.0,9, -999.00,9, -999.00,9,       44.3,2, 20220711,     2145,  32.3159,-118.7528,     7.9893,2,     -999.0,9,     -999.0,9,     -999.0,9,     -999.0,9,     0.0134,1,     4.6656,1,     -999.0,9,     -999.0,9,     -999.0,9,     -999.0,9,     -999.0,9
33RR20220613,       P02E,     199,          1,         22,         22,2,20220711,       2058,    32.3159,  -118.7528,       1526,   368.8,2,   7.4160,2,  34.2583,2,  34.2628,2,     28.4,2,    28.4,2,   57.47,2,   34.68,2,    0.00,2,    2.76,2,   1.114,2,   0.623,2,   0.3563,2,  -999.0,9,  -999.0,9,-999.0000,9,  -999.00,9, -999.00,9,  -999.0,9, -999.00,9, -999.00,9,       44.9,2, 20220711,     2143,  32.3159,-118.7528,     7.4157,2,     -999.0,9,     -999.0,9,     -999.0,9,     -999.0,9,     0.0134,1,     4.6665,1,     -999.0,9,     -999.0,9,     -999.0,9,     -999.0,9,     -999.0,9
33RR20220613,       P02E,     199,          1,         21,         21,2,20220711,       2058,    32.3159,  -118.7528,       1526,   419.2,2,   6.5952,2,  34.2401,2,  34.2434,2,     22.5,3,    23.2,2,   67.04,2,   37.35,2,    0.00,2,    2.86,2,   0.870,2,   0.473,2,   0.3324,2,  2302.3,2,  2303.9,2,   7.3279,2,    25.01,2, -999.00,9,  -999.0,9, -999.00,9, -999.00,9,       52.1,2, 20220711,     2140,  32.3159,-118.7528,     6.5908,2,     -999.0,9,     -999.0,9,     -999.0,9,     -999.0,9,     0.0134,1,     4.6686,1,     -999.0,9,     -999.0,9,     -999.0,9,     -999.0,9,     -999.0,9
33RR20220613,       P02E,     199,          1,         20,         20,2,20220711,       2058,    32.3159,  -118.7528,       1526,   469.6,2,   6.3278,2,  34.2834,2,  34.2860,2,     16.4,3,    16.6,2,   72.42,2,   38.36,2,    0.00,2,    2.95,2,-999.000,9,-999.000,9,-999.0000,9,  -999.0,9,  -999.0,9,-999.0000,9,  -999.00,9, -999.00,9,  -999.0,9, -999.00,9, -999.00,9,     -999.0,9, 20220711,     2138,  32.3160,-118.7528,     6.3243,2,     -999.0,9,     -999.0,9,     -999.0,9,     -999.0,9,     0.0134,1,     4.6709,1,     -999.0,9,     -999.0,9,     -999.0,9,     -999.0,9,     -999.0,9
33RR20220613,       P02E,     199,          1,         19,         39,2,20220711,       2058,    32.3159,  -118.7528,       1526,   520.0,2,   6.0495,2,  34.3095,2,  34.3121,2,     13.2,2,    13.2,2,   77.11,2,   39.21,2,    0.00,2,    3.01,2,   0.361,6,   0.201,6,   0.1472,6,  2317.7,2,  2320.2,2,   7.3177,2,    25.01,2, -999.00,9,  -999.0,9, -999.00,9, -999.00,9,       53.3,6, 20220711,     2136,  32.3160,-118.7528,     6.0481,2,     -999.0,9,     -999.0,9,     -999.0,9,     -999.0,9,     0.0134,1,     4.6715,1,     -999.0,9,     -999.0,9,     -999.0,9,     -999.0,9,     -999.0,9
33RR20220613,       P02E,     199,          1,         18,         18,2,20220711,       2058,    32.3159,  -118.7528,       1526,   570.6,2,   5.9293,2,  34.3514,2,  34.3533,2,     10.7,2,    10.8,2,   80.33,2,   39.70,2,    0.00,2,    3.06,2,-999.000,9,-999.000,9,-999.0000,9,  -999.0,9,  -999.0,9,-999.0000,9,  -999.00,9, -999.00,9,  -999.0,9, -999.00,9, -999.00,9,     -999.0,9, 20220711,     2134,  32.3160,-118.7528,     5.9162,2,     -999.0,9,     -999.0,9,     -999.0,9,     -999.0,9,     0.0134,1,     4.6713,1,     -999.0,9,     -999.0,9,     -999.0,9,     -999.0,9,     -999.0,9
33RR20220613,       P02E,     199,          1,         17,         37,2,20220711,       2058,    32.3159,  -118.7528,       1526,   620.8,2,   5.6478,2,  34.3515,2,  34.3527,2,     11.0,3,    10.8,2,   84.24,2,   40.39,2,    0.00,2,    3.09,2,   0.180,2,   0.104,2,   0.1343,2,  2327.5,2,  2329.8,2,   7.3183,2,    24.99,2, -999.00,9,  -999.0,9, -999.00,9, -999.00,9,       55.3,2, 20220711,     2132,  32.3160,-118.7528,     5.6502,2,     -999.0,9,     -999.0,9,     -999.0,9,     -999.0,9,     0.0134,1,     4.6723,1,     -999.0,9,     -999.0,9,     -999.0,9,     -999.0,9,     -999.0,9
33RR20220613,       P02E,     199,          1,         16,         16,2,20220711,       2058,    32.3159,  -118.7528,       1526,   671.5,2,   5.4867,2,  34.3709,2,  34.3733,2,     10.9,3,    10.5,2,   88.14,2,   40.86,2,    0.00,2,    3.12,2,-999.000,9,-999.000,9,-999.0000,9,  -999.0,9,  -999.0,9,-999.0000,9,  -999.00,9, -999.00,9,  -999.0,9, -999.00,9, -999.00,9,     -999.0,9, 20220711,     2130,  32.3160,-118.7528,     5.4841,2,     -999.0,9,     -999.0,9,     -999.0,9,     -999.0,9,     0.0134,1,     4.6735,1,     -999.0,9,     -999.0,9,     -999.0,9,     -999.0,9,     -999.0,9
33RR20220613,       P02E,     199,          1,         15,         15,2,20220711,       2058,    32.3159,  -118.7528,       1526,   721.8,2,   5.2317,2,  34.3913,2,  34.3943,2,     11.2,3,    11.6,2,   93.52,2,   41.25,2,    0.00,2,    3.14,2,   0.107,2,   0.069,2,   0.2819,2,  2340.3,2,  2343.1,2,   7.3226,2,    25.00,2, -999.00,9,  -999.0,9, -999.00,9, -999.00,9,       55.3,2, 20220711,     2128,  32.3160,-118.7528,     5.2326,2,     -999.0,9,     -999.0,9,     -999.0,9,     -999.0,9,     0.0134,1,     4.6702,1,     -999.0,9,     -999.0,9,     -999.0,9,     -999.0,9,     -999.0,9
33RR20220613,       P02E,     199,          1,         14,         42,2,20220711,       2058,    32.3159,  -118.7528,       1526,   772.6,2,   5.0225,2,  34.4095,2,  34.4188,2,     11.9,3,    12.1,2,   98.79,2,   41.51,2,    0.00,2,    3.15,2,-999.000,9,-999.000,9,-999.0000,9,  -999.0,9,  -999.0,9,-999.0000,9,  -999.00,9, -999.00,9,  -999.0,9, -999.00,9, -999.00,9,     -999.0,9, 20220711,     2126,  32.3160,-118.7529,     5.0215,2,     -999.0,9,     -999.0,9,     -999.0,9,     -999.0,9,     0.0134,1,     4.6677,1,     -999.0,9,     -999.0,9,     -999.0,9,     -999.0,9,     -999.0,9
33RR20220613,       P02E,     199,          1,         13,         13,2,20220711,       2058,    32.3159,  -118.7528,       1526,   823.2,2,   4.8561,2,  34.4213,3,  34.4314,2,     12.7,3,    12.4,2,  102.12,2,   41.77,2,    0.00,2,    3.15,2,   0.084,2,   0.063,2,   0.5301,2,  2349.2,2,  2352.8,2,   7.3258,2,    24.99,2, -999.00,9,  -999.0,9, -999.00,9, -999.00,9,       52.6,2, 20220711,     2124,  32.3160,-118.7528,     4.8526,2,     -999.0,9,     -999.0,9,     -999.0,9,     -999.0,9,     0.0134,1,     4.6675,1,     -999.0,9,     -999.0,9,     -999.0,9,     -999.0,9,     -999.0,9
33RR20220613,       P02E,     199,          1,         12,         12,2,20220711,       2058,    32.3159,  -118.7528,       1526,   874.0,2,   4.7063,2,  34.4310,2,  34.4330,2,     13.4,2,    13.4,2,  106.12,2,   41.74,2,    0.00,2,    3.17,2,-999.000,9,-999.000,9,-999.0000,9,  -999.0,9,  -999.0,9,-999.0000,9,  -999.00,9, -999.00,9,  -999.0,9, -999.00,9, -999.00,9,     -999.0,9, 20220711,     2122,  32.3160,-118.7528,     4.6969,2,     -999.0,9,     -999.0,9,     -999.0,9,     -999.0,9,     0.0134,1,     4.6677,1,     -999.0,9,     -999.0,9,     -999.0,9,     -999.0,9,     -999.0,9
33RR20220613,       P02E,     199,          1,         11,         11,2,20220711,       2058,    32.3159,  -118.7528,       1526,   924.2,2,   4.4971,2,  34.4479,2,  34.4575,2,     16.1,2,    16.0,2,  108.66,2,   42.38,2,    0.00,2,    3.16,2,   0.054,2,   0.043,2,   0.5715,2,  2353.1,2,  2361.2,2,   7.3314,2,    24.99,2, -999.00,9,  -999.0,9, -999.00,9, -999.00,9,       55.0,2, 20220711,     2120,  32.3160,-118.7528,     4.4979,2,     -999.0,9,     -999.0,9,     -999.0,9,     -999.0,9,     0.0134,1,     4.6722,1,     -999.0,9,     -999.0,9,     -999.0,9,     -999.0,9,     -999.0,9
33RR20220613,       P02E,     199,          1,         10,         10,2,20220711,       2058,    32.3159,  -118.7528,       1526,   974.6,2,   4.3558,2,  34.4585,2,  34.4581,2,     16.6,2,    16.7,2,  113.45,2,   42.14,2,    0.00,2,    3.18,2,-999.000,9,-999.000,9,-999.0000,9,  -999.0,9,  -999.0,9,-999.0000,9,  -999.00,9, -999.00,9,  -999.0,9, -999.00,9, -999.00,9,     -999.0,9, 20220711,     2118,  32.3159,-118.7528,     4.3546,2,     -999.0,9,     -999.0,9,     -999.0,9,     -999.0,9,     0.0134,1,     4.6695,1,     -999.0,9,     -999.0,9,     -999.0,9,     -999.0,9,     -999.0,9
33RR20220613,       P02E,     199,          1,          9,          9,2,20220711,       2058,    32.3159,  -118.7528,       1526,  1025.3,2,   4.1797,2,  34.4725,2,  34.4736,2,     20.3,2,    20.1,2,  115.21,2,   42.69,2,    0.00,2,    3.15,2,   0.044,2,   0.043,2,   0.9622,2,  2360.1,2,  2370.2,2,   7.3414,2,    25.00,2, -999.00,9,  -999.0,9, -999.00,9, -999.00,9,       51.2,2, 20220711,     2116,  32.3160,-118.7528,     4.1815,2,     -999.0,9,     -999.0,9,     -999.0,9,     -999.0,9,     0.0134,1,     4.6720,1,     -999.0,9,     -999.0,9,     -999.0,9,     -999.0,9,     -999.0,9
33RR20220613,       P02E,     199,          1,          8,          8,2,20220711,       2058,    32.3159,  -118.7528,       1526,  1075.9,2,   4.0573,2,  34.4815,2,  34.4811,2,     22.1,3,    22.4,2,  118.23,2,   42.72,2,    0.00,2,    3.14,2,-999.000,9,-999.000,9,-999.0000,9,  -999.0,9,  -999.0,9,-999.0000,9,  -999.00,9, -999.00,9,  -999.0,9, -999.00,9, -999.00,9,     -999.0,9, 20220711,     2114,  32.3160,-118.7528,     4.0570,2,     -999.0,9,     -999.0,9,     -999.0,9,     -999.0,9,     0.0134,1,     4.6720,1,     -999.0,9,     -999.0,9,     -999.0,9,     -999.0,9,     -999.0,9
33RR20220613,       P02E,     199,          1,          7,          7,2,20220711,       2058,    32.3159,  -118.7528,       1526,  1126.6,2,   3.8645,2,  34.4955,2,  34.4950,2,     25.3,2,    25.1,2,  122.24,2,   42.78,2,    0.00,2,    3.13,2,   0.049,2,   0.049,2,   1.1934,2,  2365.3,2,  2376.6,2,   7.3510,2,    24.99,2, -999.00,9,  -999.0,9, -999.00,9, -999.00,9,       48.5,2, 20220711,     2112,  32.3160,-118.7528,     3.8661,2,     -999.0,9,     -999.0,9,     -999.0,9,     -999.0,9,     0.0134,1,     4.6703,1,     -999.0,9,     -999.0,9,     -999.0,9,     -999.0,9,     -999.0,9
33RR20220613,       P02E,     199,          1,          6,          6,2,20220711,       2058,    32.3159,  -118.7528,       1526,  1177.1,2,   3.7516,2,  34.5034,2,  34.5050,2,     27.1,2,    27.2,2,  125.76,2,   42.75,2,    0.00,2,    3.11,2,-999.000,9,-999.000,9,-999.0000,9,  -999.0,9,  -999.0,9,-999.0000,9,  -999.00,9, -999.00,9,  -999.0,9, -999.00,9, -999.00,9,     -999.0,9, 20220711,     2110,  32.3160,-118.7528,     3.7517,2,     -999.0,9,     -999.0,9,     -999.0,9,     -999.0,9,     0.0134,1,     4.6667,1,     -999.0,9,     -999.0,9,     -999.0,9,     -999.0,9,     -999.0,9
33RR20220613,       P02E,     199,          1,          5,          5,2,20220711,       2058,    32.3159,  -118.7528,       1526,  1227.7,2,   3.5780,2,  34.5159,2,  34.5166,2,     30.0,2,    30.2,2,  129.86,2,   42.69,2,    0.00,2,    3.11,2,   0.057,2,   0.075,2,   1.1137,2,  2369.7,2,  2385.4,2,   7.3595,2,    25.00,2, -999.00,9,  -999.0,9, -999.00,9, -999.00,9,       50.2,2, 20220711,     2108,  32.3160,-118.7528,     3.5783,2,     -999.0,9,     -999.0,9,     -999.0,9,     -999.0,9,     0.0134,1,     4.6644,1,     -999.0,9,     -999.0,9,     -999.0,9,     -999.0,9,     -999.0,9
33RR20220613,       P02E,     199,          1,          4,          4,2,20220711,       2058,    32.3159,  -118.7528,       1526,  1313.7,2,   3.3530,2,  34.5321,2,  34.5313,2,     34.2,2,    34.2,2,  135.82,2,   42.45,2,    0.00,2,    3.11,2,   0.064,2,   0.125,2,   0.7674,2,  -999.0,9,  -999.0,9,-999.0000,9,  -999.00,9, -999.00,9,  -999.0,9, -999.00,9, -999.00,9,       46.3,2, 20220711,     2105,  32.3160,-118.7528,     3.3533,2,     -999.0,9,     -999.0,9,     -999.0,9,     -999.0,9,     0.0134,1,     4.6679,1,     -999.0,9,     -999.0,9,     -999.0,9,     -999.0,9,     -999.0,9
33RR20220613,       P02E,     199,          1,          3,          3,2,20220711,       2058,    32.3159,  -118.7528,       1526,  1415.7,2,   3.2607,2,  34.5400,2,  34.5396,2,     36.1,2,    36.0,2,  138.16,2,   42.35,2,    0.00,2,    3.08,2,   0.073,2,   0.166,2,   0.6281,2,  2377.4,2,  2395.2,2,   7.3739,2,    25.00,2, -999.00,9,  -999.0,9, -999.00,9, -999.00,9,       44.0,2, 20220711,     2102,  32.3160,-118.7528,     3.2609,2,     -999.0,9,     -999.0,9,     -999.0,9,     -999.0,9,     0.0134,1,     4.6703,1,     -999.0,9,     -999.0,9,     -999.0,9,     -999.0,9,     -999.0,9