BOTTLE,20230830CCHSIOCBG
EXPOCODE,SECT_ID,STNNBR,CASTNO,SAMPNO,BTLNBR,BTLNBR_FLAG_W,DATE,TIME,LATITUDE,LONGITUDE,DEPTH,CTDPRS,CTDPRS_FLAG_W,CTDTMP,CTDTMP_FLAG_W,CTDSAL,CTDSAL_FLAG_W,SALNTY,SALNTY_FLAG_W,CTDOXY,CTDOXY_FLAG_W,OXYGEN,OXYGEN_FLAG_W,SILCAT,SILCAT_FLAG_W,NITRAT,NITRAT_FLAG_W,NITRIT,NITRIT_FLAG_W,PHSPHT,PHSPHT_FLAG_W,CFC-11,CFC-11_FLAG_W,CFC-12,CFC-12_FLAG_W,SF6,SF6_FLAG_W,TCARBN,TCARBN_FLAG_W,ALKALI,ALKALI_FLAG_W,PH_TOT,PH_TOT_FLAG_W,PH_TMP,PH_TMP_FLAG_W,DELC13,DELC13_FLAG_W,DELC14,DELC14_FLAG_W,DOC,DOC_FLAG_W,TDN,TDN_FLAG_W,N2O,N2O_FLAG_W,BTL_DATE,BTL_TIME,BTL_LAT,BTL_LON,REFTMP,REFTMP_FLAG_W,POC,POC_FLAG_W,PON,PON_FLAG_W,POP,POP_FLAG_W,PCOD,PCOD_FLAG_W,CTDFLUOR,CTDFLUOR_FLAG_W,CTDXMISS,CTDXMISS_FLAG_W,HPLC,HPLC_FLAG_W,DNA,DNA_FLAG_W,FCM,FCM_FLAG_W,IMAGES,IMAGES_FLAG_W,VIRAL_ABUNDANCE,VIRAL_ABUNDANCE_FLAG_W
,,,,,,,,,,,METERS,DBAR,,ITS-90,,PSS-78,,PSS-78,,UMOL/KG,,UMOL/KG,,UMOL/KG,,UMOL/KG,,UMOL/KG,,UMOL/KG,,PMOL/KG,,PMOL/KG,,FMOL/KG,,UMOL/KG,,UMOL/KG,,,,DEG C,,/MILLE,,/MILLE,,UMOL/KG,,UMOL/KG,,NMOL/KG,,,,,,ITS-90,,UG/L,,UG/L,,UG/L,,UG/L,,VOLTS,,VOLTS,,,,,,,,,,,
33RR20220613,       P02E,     169,          1,         36,         36,2,20220702,       1843,    29.9998,  -131.7675,       4703,     6.6,2,  19.7389,2,  33.6076,2,  33.5995,2,    234.2,2,   233.8,2,    0.98,2,    0.00,2,    0.00,2,    0.23,2,   2.040,2,   1.256,2,   2.0990,2,  2020.2,2,  2244.2,2,   7.9251,2,    25.01,2, -999.00,9,  -999.0,9, -999.00,9, -999.00,9,        8.0,2, 20220702,     2051,  29.9998,-131.7675,    19.7383,2,     -999.0,9,     -999.0,9,     -999.0,9,     -999.0,9,     0.0134,1,     4.6380,1,     -999.0,9,     -999.0,9,     -999.0,9,     -999.0,9,     -999.0,9
33RR20220613,       P02E,     169,          1,         35,         35,2,20220702,       1843,    29.9998,  -131.7675,       4703,    20.8,2,  19.7221,2,  33.6060,2,  33.5993,2,    233.6,2,   234.0,2,    0.98,2,    0.00,2,    0.00,2,    0.24,2,   2.059,2,   1.261,2,   2.1829,2,  2018.7,6,  2244.1,6,   7.9257,2,    25.02,2, -999.00,9,  -999.0,9, -999.00,9, -999.00,9,        7.9,2, 20220702,     2050,  29.9998,-131.7675,    19.7154,2,     -999.0,9,     -999.0,9,     -999.0,9,     -999.0,9,     0.0134,1,     4.6376,1,     -999.0,9,     -999.0,9,     -999.0,9,     -999.0,9,     -999.0,9
33RR20220613,       P02E,     169,          1,         34,         34,2,20220702,       1843,    29.9998,  -131.7675,       4703,    40.8,2,  18.2293,2,  33.4387,2,  33.4336,2,    247.0,2,   246.8,2,    0.98,2,    0.00,2,    0.00,2,    0.25,2,   2.217,2,   1.329,2,   2.2533,2,  2014.8,2,  2235.4,2,   7.9180,2,    25.02,2, -999.00,9,  -999.0,9, -999.00,9, -999.00,9,        8.3,2, 20220702,     2047,  29.9998,-131.7675,    18.2584,2,     -999.0,9,     -999.0,9,     -999.0,9,     -999.0,9,     0.0155,1,     4.6248,1,     -999.0,9,     -999.0,9,     -999.0,9,     -999.0,9,     -999.0,9
33RR20220613,       P02E,     169,          1,         33,         33,2,20220702,       1843,    29.9998,  -131.7675,       4703,    65.5,2,  17.5973,2,  33.5011,2,  33.4975,2,    248.5,2,   248.4,2,    1.08,2,    0.00,2,    0.00,2,    0.24,2,   2.267,2,   1.379,2,   2.3605,2,  2015.5,2,  2239.2,2,   7.9217,2,    25.02,2, -999.00,9,  -999.0,9, -999.00,9, -999.00,9,        8.5,2, 20220702,     2046,  29.9998,-131.7675,    17.5881,2,     -999.0,9,     -999.0,9,     -999.0,9,     -999.0,9,     0.0171,1,     4.6359,1,     -999.0,9,     -999.0,9,     -999.0,9,     -999.0,9,     -999.0,9
33RR20220613,       P02E,     169,          1,         32,         32,2,20220702,       1843,    29.9998,  -131.7675,       4703,    91.2,2,  16.6853,2,  33.4128,2,  33.4062,2,    246.6,3,   250.0,2,    1.17,2,    0.00,2,    0.00,2,    0.25,2,   2.333,2,   1.414,2,   2.2071,2,  2012.7,2,  2231.7,2,   7.9153,2,    25.01,2, -999.00,9,  -999.0,9, -999.00,9, -999.00,9,        8.6,2, 20220702,     2044,  29.9998,-131.7675,    16.6847,2,     -999.0,9,     -999.0,9,     -999.0,9,     -999.0,9,     0.0232,1,     4.6471,1,     -999.0,9,     -999.0,9,     -999.0,9,     -999.0,9,     -999.0,9
33RR20220613,       P02E,     169,          1,         31,         31,2,20220702,       1843,    29.9998,  -131.7675,       4703,   136.0,2,  14.4549,2,  33.3638,2,  33.3584,2,    237.9,2,   238.3,2,    2.35,2,    1.19,2,    0.18,2,    0.40,2,   2.609,2,   1.572,2,   2.4554,2,  2033.4,2,  2219.7,2,   7.8516,2,    25.02,2, -999.00,9,  -999.0,9, -999.00,9, -999.00,9,       10.7,2, 20220702,     2042,  29.9998,-131.7675,    14.3832,3,     -999.0,9,     -999.0,9,     -999.0,9,     -999.0,9,     0.0271,1,     4.6665,1,     -999.0,9,     -999.0,9,     -999.0,9,     -999.0,9,     -999.0,9
33RR20220613,       P02E,     169,          1,         30,         17,2,20220702,       1843,    29.9998,  -131.7675,       4703,   186.3,2,  11.2920,2,  33.3555,2,  33.3611,2,    210.0,2,   210.2,2,    8.22,2,   10.35,2,    0.01,2,    0.95,2,   2.933,2,   1.772,2,   2.5137,2,  2086.4,2,  2216.0,2,   7.7187,2,    25.01,2, -999.00,9,  -999.0,9, -999.00,9, -999.00,9,       14.6,2, 20220702,     2039,  29.9998,-131.7675,    11.3078,2,     -999.0,9,     -999.0,9,     -999.0,9,     -999.0,9,     0.0177,1,     4.6808,1,     -999.0,9,     -999.0,9,     -999.0,9,     -999.0,9,     -999.0,9
33RR20220613,       P02E,     169,          1,         29,         29,2,20220702,       1843,    29.9998,  -131.7675,       4703,   237.3,2,   9.6483,2,  33.7995,2,  33.8050,2,    186.5,2,   187.4,2,   17.80,2,   17.48,2,    0.01,2,    1.30,2,   3.054,2,   1.851,2,   2.2324,2,  2130.5,2,  2240.2,2,   7.6502,2,    25.02,2, -999.00,9,  -999.0,9, -999.00,9, -999.00,9,       19.1,2, 20220702,     2038,  29.9998,-131.7675,     9.6530,2,     -999.0,9,     -999.0,9,     -999.0,9,     -999.0,9,     0.0122,1,     4.6896,1,     -999.0,9,     -999.0,9,     -999.0,9,     -999.0,9,     -999.0,9
33RR20220613,       P02E,     169,          1,         28,         28,2,20220702,       1843,    29.9998,  -131.7675,       4703,   287.4,2,   8.6736,2,  33.9882,2,  33.9847,2,    166.7,2,   166.5,2,   27.77,2,   22.18,2,    0.00,2,    1.56,2,   2.959,2,   1.777,2,   1.6912,2,  2162.1,2,  2258.9,2,   7.6028,2,    25.01,2, -999.00,9,  -999.0,9, -999.00,9, -999.00,9,       25.7,2, 20220702,     2036,  29.9998,-131.7675,     8.6775,2,     -999.0,9,     -999.0,9,     -999.0,9,     -999.0,9,     0.0122,1,     4.6904,1,     -999.0,9,     -999.0,9,     -999.0,9,     -999.0,9,     -999.0,9
33RR20220613,       P02E,     169,          1,         27,         27,2,20220702,       1843,    29.9998,  -131.7675,       4703,   338.0,2,   7.8721,2,  34.0086,2,  34.0066,2,    130.8,2,   130.4,2,   39.01,2,   27.27,2,    0.00,2,    1.94,2,   2.684,2,   1.593,2,   1.3368,2,  2199.3,2,  2267.3,2,   7.5197,2,    25.02,2, -999.00,9,  -999.0,9, -999.00,9, -999.00,9,       31.1,2, 20220702,     2034,  29.9998,-131.7675,     7.8787,2,     -999.0,9,     -999.0,9,     -999.0,9,     -999.0,9,     0.0122,1,     4.6907,1,     -999.0,9,     -999.0,9,     -999.0,9,     -999.0,9,     -999.0,9
33RR20220613,       P02E,     169,          1,         26,         26,2,20220702,       1843,    29.9998,  -131.7675,       4703,   389.3,2,   6.9953,2,  34.0238,2,  34.0223,2,     93.4,3,    95.5,2,   49.87,2,   31.81,2,    0.00,2,    2.28,2,   2.336,2,   1.376,2,   0.8752,2,  -999.0,9,  -999.0,9,-999.0000,9,  -999.00,9, -999.00,9,  -999.0,9, -999.00,9, -999.00,9,       34.8,2, 20220702,     2031,  29.9998,-131.7675,     7.0121,2,     -999.0,9,     -999.0,9,     -999.0,9,     -999.0,9,     0.0130,1,     4.6907,1,     -999.0,9,     -999.0,9,     -999.0,9,     -999.0,9,     -999.0,9
33RR20220613,       P02E,     169,          1,         25,         25,2,20220702,       1843,    29.9998,  -131.7675,       4703,   439.7,2,   6.3868,2,  34.0349,2,  34.0351,2,     76.0,2,    75.9,2,   59.94,2,   34.75,2,    0.00,2,    2.49,2,   1.910,2,   1.100,2,   0.6662,2,  2257.7,2,  2284.1,2,   7.3945,2,    25.02,2, -999.00,9,  -999.0,9, -999.00,9, -999.00,9,       37.8,2, 20220702,     2029,  29.9998,-131.7675,     6.3869,2,     -999.0,9,     -999.0,9,     -999.0,9,     -999.0,9,     0.0125,1,     4.6913,1,     -999.0,9,     -999.0,9,     -999.0,9,     -999.0,9,     -999.0,9
33RR20220613,       P02E,     169,          1,         24,         24,2,20220702,       1843,    29.9998,  -131.7675,       4703,   489.8,2,   5.9113,2,  34.0849,2,  34.0854,2,     49.9,3,    51.7,2,   69.61,2,   37.50,2,    0.00,2,    2.72,2,   1.470,2,   0.841,2,   0.4943,2,  -999.0,9,  -999.0,9,-999.0000,9,  -999.00,9, -999.00,9,  -999.0,9, -999.00,9, -999.00,9,       43.3,2, 20220702,     2026,  29.9998,-131.7675,     5.9170,2,     -999.0,9,     -999.0,9,     -999.0,9,     -999.0,9,     0.0134,1,     4.6925,1,     -999.0,9,     -999.0,9,     -999.0,9,     -999.0,9,     -999.0,9
33RR20220613,       P02E,     169,          1,         23,         23,2,20220702,       1843,    29.9998,  -131.7675,       4703,   570.9,2,   5.3285,2,  34.1515,2,  34.1560,2,     29.8,2,    30.0,2,   82.91,2,   40.12,2,    0.00,2,    2.91,2,   0.821,2,   0.457,2,   0.2931,2,  2307.9,2,  2308.8,2,   7.3152,2,    25.02,2, -999.00,9,  -999.0,9, -999.00,9, -999.00,9,       48.2,2, 20220702,     2023,  29.9998,-131.7675,     5.3265,2,     -999.0,9,     -999.0,9,     -999.0,9,     -999.0,9,     0.0134,1,     4.6922,1,     -999.0,9,     -999.0,9,     -999.0,9,     -999.0,9,     -999.0,9
33RR20220613,       P02E,     169,          1,         22,         22,2,20220702,       1843,    29.9998,  -131.7675,       4703,   671.8,2,   4.8037,2,  34.2498,2,  34.2452,2,     17.2,2,    17.1,2,   96.19,2,   41.87,2,    0.00,2,    3.06,2,   0.304,2,   0.175,2,   0.1168,2,  2330.4,2,  2328.6,2,   7.3048,2,    25.02,2, -999.00,9,  -999.0,9, -999.00,9, -999.00,9,       53.3,2, 20220702,     2019,  29.9998,-131.7675,     4.8090,2,     -999.0,9,     -999.0,9,     -999.0,9,     -999.0,9,     0.0134,1,     4.6934,1,     -999.0,9,     -999.0,9,     -999.0,9,     -999.0,9,     -999.0,9
33RR20220613,       P02E,     169,          1,         21,         21,2,20220702,       1843,    29.9998,  -131.7675,       4703,   773.0,2,   4.5149,2,  34.3424,2,  34.3417,2,     14.0,3,    13.8,2,  104.79,2,   42.62,2,    0.00,2,    3.13,2,   0.080,2,   0.052,2,   0.1083,2,  2344.4,2,  2345.9,2,   7.3122,2,    25.02,2, -999.00,9,  -999.0,9, -999.00,9, -999.00,9,       54.8,2, 20220702,     2016,  29.9998,-131.7675,     4.5263,2,     -999.0,9,     -999.0,9,     -999.0,9,     -999.0,9,     0.0134,1,     4.6924,1,     -999.0,9,     -999.0,9,     -999.0,9,     -999.0,9,     -999.0,9
33RR20220613,       P02E,     169,          1,         20,         20,2,20220702,       1843,    29.9998,  -131.7675,       4703,   873.4,2,   4.2596,2,  34.4146,2,  34.4141,2,     16.6,2,    16.6,2,  111.43,2,   42.99,2,    0.00,2,    3.15,2,   0.028,2,   0.022,2,   0.1154,2,  2352.2,2,  2358.5,2,   7.3267,2,    25.02,2, -999.00,9,  -999.0,9, -999.00,9, -999.00,9,       54.9,2, 20220702,     2013,  29.9998,-131.7675,     4.2670,2,     -999.0,9,     -999.0,9,     -999.0,9,     -999.0,9,     0.0134,1,     4.6933,1,     -999.0,9,     -999.0,9,     -999.0,9,     -999.0,9,     -999.0,9
33RR20220613,       P02E,     169,          1,         19,         39,2,20220702,       1843,    29.9998,  -131.7675,       4703,   974.5,2,   3.8947,2,  34.4449,2,  34.4449,2,     24.0,2,    24.1,2,  118.08,2,   42.99,2,    0.00,2,    3.12,2,   0.018,2,   0.015,2,   0.0000,2,  2355.7,2,  2365.6,2,   7.3428,2,    25.01,2, -999.00,9,  -999.0,9, -999.00,9, -999.00,9,       51.2,2, 20220702,     2010,  29.9998,-131.7675,     3.8962,2,     -999.0,9,     -999.0,9,     -999.0,9,     -999.0,9,     0.0134,1,     4.6942,1,     -999.0,9,     -999.0,9,     -999.0,9,     -999.0,9,     -999.0,9
33RR20220613,       P02E,     169,          1,         18,         18,2,20220702,       1843,    29.9998,  -131.7675,       4703,  1075.1,2,   3.6721,2,  34.4790,2,  34.4783,2,     30.4,3,    30.8,2,  122.96,2,   42.85,2,    0.00,2,    3.10,2,   0.010,2,   0.011,2,   0.0000,2,  -999.0,9,  -999.0,9,-999.0000,9,  -999.00,9, -999.00,9,  -999.0,9, -999.00,9, -999.00,9,       48.3,2, 20220702,     2007,  29.9998,-131.7675,     3.6743,2,     -999.0,9,     -999.0,9,     -999.0,9,     -999.0,9,     0.0134,1,     4.6949,1,     -999.0,9,     -999.0,9,     -999.0,9,     -999.0,9,     -999.0,9
33RR20220613,       P02E,     169,          1,         17,         37,2,20220702,       1843,    29.9998,  -131.7675,       4703,  1175.6,2,   3.4444,2,  34.5098,2,  34.5097,2,     39.3,2,    39.1,2,  126.87,2,   42.56,2,    0.00,2,    3.06,2,   0.007,2,   0.005,2,   0.0000,2,  2359.2,2,  2381.3,2,   7.3765,2,    25.01,2, -999.00,9,  -999.0,9, -999.00,9, -999.00,9,       44.4,2, 20220702,     2004,  29.9998,-131.7675,     3.4469,2,     -999.0,9,     -999.0,9,     -999.0,9,     -999.0,9,     0.0134,1,     4.6958,1,     -999.0,9,     -999.0,9,     -999.0,9,     -999.0,9,     -999.0,9
33RR20220613,       P02E,     169,          1,         16,         16,2,20220702,       1843,    29.9998,  -131.7675,       4703,  1277.9,2,   3.2629,2,  34.5273,2,  34.5260,2,     42.9,2,    42.8,2,  131.65,2,   42.45,2,    0.00,2,    3.04,2,   0.007,2,   0.005,2,   0.0000,2,  -999.0,9,  -999.0,9,-999.0000,9,  -999.00,9, -999.00,9,  -999.0,9, -999.00,9, -999.00,9,       44.3,2, 20220702,     2001,  29.9998,-131.7675,     3.2637,2,     -999.0,9,     -999.0,9,     -999.0,9,     -999.0,9,     0.0134,1,     4.6961,1,     -999.0,9,     -999.0,9,     -999.0,9,     -999.0,9,     -999.0,9
33RR20220613,       P02E,     169,          1,         15,         15,2,20220702,       1843,    29.9998,  -131.7675,       4703,  1379.0,2,   3.0391,2,  34.5446,2,  34.5439,2,     46.7,2,    46.9,2,  137.22,2,   42.28,2,    0.00,2,    3.02,2,   0.007,2,   0.006,2,   0.0000,2,  2363.3,2,  2393.4,2,   7.3907,2,    25.00,2, -999.00,9,  -999.0,9, -999.00,9, -999.00,9,       41.5,2, 20220702,     1958,  29.9998,-131.7675,     3.0385,2,     -999.0,9,     -999.0,9,     -999.0,9,     -999.0,9,     0.0134,1,     4.6969,1,     -999.0,9,     -999.0,9,     -999.0,9,     -999.0,9,     -999.0,9
33RR20220613,       P02E,     169,          1,         14,         42,2,20220702,       1843,    29.9998,  -131.7675,       4703,  1480.4,2,   2.8848,2,  34.5551,2,  34.5537,2,     50.8,2,    50.8,2,  140.55,2,   42.15,2,    0.00,2,    3.00,2,-999.000,9,-999.000,9,-999.0000,9,  -999.0,9,  -999.0,9,-999.0000,9,  -999.00,9, -999.00,9,  -999.0,9, -999.00,9, -999.00,9,     -999.0,9, 20220702,     1954,  29.9998,-131.7675,     2.8846,2,     -999.0,9,     -999.0,9,     -999.0,9,     -999.0,9,     0.0133,1,     4.6975,1,     -999.0,9,     -999.0,9,     -999.0,9,     -999.0,9,     -999.0,9
33RR20220613,       P02E,     169,          1,         13,         13,2,20220702,       1843,    29.9998,  -131.7675,       4703,  1582.2,2,   2.7363,2,  34.5672,2,  34.5671,2,     55.4,2,    55.4,2,  144.94,2,   41.94,2,    0.00,2,    2.97,2,   0.005,2,   0.003,2,   0.0000,2,  2367.1,2,  2401.4,2,   7.4064,2,    25.03,2, -999.00,9,  -999.0,9, -999.00,9, -999.00,9,       38.0,2, 20220702,     1951,  29.9998,-131.7675,     2.7350,2,     -999.0,9,     -999.0,9,     -999.0,9,     -999.0,9,     0.0133,1,     4.6974,1,     -999.0,9,     -999.0,9,     -999.0,9,     -999.0,9,     -999.0,9
33RR20220613,       P02E,     169,          1,         12,         12,2,20220702,       1843,    29.9998,  -131.7675,       4703,  1754.4,2,   2.4500,2,  34.5878,2,  34.5871,2,     62.7,2,    62.7,2,  153.15,2,   41.54,2,    0.00,2,    2.93,2,-999.000,9,-999.000,9,-999.0000,9,  -999.0,9,  -999.0,9,-999.0000,9,  -999.00,9, -999.00,9,  -999.0,9, -999.00,9, -999.00,9,     -999.0,9, 20220702,     1946,  29.9998,-131.7675,     2.4497,2,     -999.0,9,     -999.0,9,     -999.0,9,     -999.0,9,     0.0134,1,     4.6978,1,     -999.0,9,     -999.0,9,     -999.0,9,     -999.0,9,     -999.0,9
33RR20220613,       P02E,     169,          1,         11,         11,2,20220702,       1843,    29.9998,  -131.7675,       4703,  1958.0,2,   2.1945,2,  34.6095,2,  34.6093,2,     74.3,2,    74.3,2,  159.60,2,   40.81,2,    0.00,2,    2.87,2,   0.004,2,   0.003,2,   0.0000,2,  2368.1,2,  2415.3,2,   7.4418,2,    25.01,2, -999.00,9,  -999.0,9, -999.00,9, -999.00,9,       34.3,2, 20220702,     1941,  29.9998,-131.7675,     2.1965,2,     -999.0,9,     -999.0,9,     -999.0,9,     -999.0,9,     0.0134,1,     4.6994,1,     -999.0,9,     -999.0,9,     -999.0,9,     -999.0,9,     -999.0,9
33RR20220613,       P02E,     169,          1,         10,         10,2,20220702,       1843,    29.9998,  -131.7675,       4703,  2191.2,2,   1.9790,2,  34.6283,2,  34.6289,2,     86.0,2,    85.9,2,  164.38,2,   40.09,2,    0.00,2,    2.81,2,-999.000,9,-999.000,9,-999.0000,9,  -999.0,9,  -999.0,9,-999.0000,9,  -999.00,9, -999.00,9,  -999.0,9, -999.00,9, -999.00,9,     -999.0,9, 20220702,     1936,  29.9998,-131.7675,     1.9785,2,     -999.0,9,     -999.0,9,     -999.0,9,     -999.0,9,     0.0129,1,     4.6998,1,     -999.0,9,     -999.0,9,     -999.0,9,     -999.0,9,     -999.0,9
33RR20220613,       P02E,     169,          1,          9,          9,2,20220702,       1843,    29.9998,  -131.7675,       4703,  2445.5,2,   1.8149,2,  34.6428,2,  34.6433,2,     96.6,2,    97.0,2,  167.80,2,   39.43,2,    0.00,2,    2.77,2,   0.006,2,   0.004,2,   0.0000,2,  2364.2,2,  2422.1,2,   7.4842,2,    25.01,2, -999.00,9,  -999.0,9, -999.00,9, -999.00,9,       28.5,2, 20220702,     1931,  29.9998,-131.7675,     1.8148,2,     -999.0,9,     -999.0,9,     -999.0,9,     -999.0,9,     0.0134,1,     4.7007,1,     -999.0,9,     -999.0,9,     -999.0,9,     -999.0,9,     -999.0,9
33RR20220613,       P02E,     169,          1,          8,          8,2,20220702,       1843,    29.9998,  -131.7675,       4703,  2700.9,2,   1.7010,2,  34.6533,2,  34.6525,2,    105.7,2,   105.7,2,  168.68,2,   38.89,2,    0.00,2,    2.71,2,-999.000,9,-999.000,9,-999.0000,9,  -999.0,9,  -999.0,9,-999.0000,9,  -999.00,9, -999.00,9,  -999.0,9, -999.00,9, -999.00,9,     -999.0,9, 20220702,     1925,  29.9998,-131.7675,     1.7011,2,     -999.0,9,     -999.0,9,     -999.0,9,     -999.0,9,     0.0134,1,     4.7007,1,     -999.0,9,     -999.0,9,     -999.0,9,     -999.0,9,     -999.0,9
33RR20220613,       P02E,     169,          1,          7,          7,2,20220702,       1843,    29.9998,  -131.7675,       4703,  2956.4,2,   1.6075,2,  34.6621,2,  34.6618,2,    114.4,2,   114.1,2,  170.34,2,   38.34,2,    0.00,2,    2.67,2,   0.005,2,   0.006,2,   0.0000,2,  2354.9,2,  2425.9,2,   7.5179,2,    25.00,2, -999.00,9,  -999.0,9, -999.00,9, -999.00,9,       25.1,2, 20220702,     1919,  29.9998,-131.7675,     1.6076,2,     -999.0,9,     -999.0,9,     -999.0,9,     -999.0,9,     0.0134,1,     4.7010,1,     -999.0,9,     -999.0,9,     -999.0,9,     -999.0,9,     -999.0,9
33RR20220613,       P02E,     169,          1,          6,          6,2,20220702,       1843,    29.9998,  -131.7675,       4703,  3246.4,2,   1.5397,2,  34.6700,2,  34.6688,2,    123.5,2,   123.9,2,  170.05,2,   37.78,2,    0.00,2,    2.63,2,   0.006,2,   0.006,2,   0.0000,2,  -999.0,9,  -999.0,9,-999.0000,9,  -999.00,9, -999.00,9,  -999.0,9, -999.00,9, -999.00,9,       24.1,2, 20220702,     1913,  29.9998,-131.7675,     1.5401,2,     -999.0,9,     -999.0,9,     -999.0,9,     -999.0,9,     0.0126,1,     4.7018,1,     -999.0,9,     -999.0,9,     -999.0,9,     -999.0,9,     -999.0,9
33RR20220613,       P02E,     169,          1,          5,          5,2,20220702,       1843,    29.9998,  -131.7675,       4703,  3552.8,2,   1.4985,2,  34.6770,2,  34.6765,2,    132.2,2,   132.0,2,  168.09,2,   37.30,2,    0.00,2,    2.58,2,   0.006,2,   0.008,2,   0.0000,2,  2343.4,2,  2430.5,2,   7.5498,2,    25.01,2, -999.00,9,  -999.0,9, -999.00,9, -999.00,9,       22.9,2, 20220702,     1907,  29.9998,-131.7675,     1.4983,2,     -999.0,9,     -999.0,9,     -999.0,9,     -999.0,9,     0.0127,1,     4.7015,1,     -999.0,9,     -999.0,9,     -999.0,9,     -999.0,9,     -999.0,9