BOTTLE,20230830CCHSIOCBG
EXPOCODE,SECT_ID,STNNBR,CASTNO,SAMPNO,BTLNBR,BTLNBR_FLAG_W,DATE,TIME,LATITUDE,LONGITUDE,DEPTH,CTDPRS,CTDPRS_FLAG_W,CTDTMP,CTDTMP_FLAG_W,CTDSAL,CTDSAL_FLAG_W,SALNTY,SALNTY_FLAG_W,CTDOXY,CTDOXY_FLAG_W,OXYGEN,OXYGEN_FLAG_W,SILCAT,SILCAT_FLAG_W,NITRAT,NITRAT_FLAG_W,NITRIT,NITRIT_FLAG_W,PHSPHT,PHSPHT_FLAG_W,CFC-11,CFC-11_FLAG_W,CFC-12,CFC-12_FLAG_W,SF6,SF6_FLAG_W,TCARBN,TCARBN_FLAG_W,ALKALI,ALKALI_FLAG_W,PH_TOT,PH_TOT_FLAG_W,PH_TMP,PH_TMP_FLAG_W,DELC13,DELC13_FLAG_W,DELC14,DELC14_FLAG_W,DOC,DOC_FLAG_W,TDN,TDN_FLAG_W,N2O,N2O_FLAG_W,BTL_DATE,BTL_TIME,BTL_LAT,BTL_LON,REFTMP,REFTMP_FLAG_W,POC,POC_FLAG_W,PON,PON_FLAG_W,POP,POP_FLAG_W,PCOD,PCOD_FLAG_W,CTDFLUOR,CTDFLUOR_FLAG_W,CTDXMISS,CTDXMISS_FLAG_W,HPLC,HPLC_FLAG_W,DNA,DNA_FLAG_W,FCM,FCM_FLAG_W,IMAGES,IMAGES_FLAG_W,VIRAL_ABUNDANCE,VIRAL_ABUNDANCE_FLAG_W
,,,,,,,,,,,METERS,DBAR,,ITS-90,,PSS-78,,PSS-78,,UMOL/KG,,UMOL/KG,,UMOL/KG,,UMOL/KG,,UMOL/KG,,UMOL/KG,,PMOL/KG,,PMOL/KG,,FMOL/KG,,UMOL/KG,,UMOL/KG,,,,DEG C,,/MILLE,,/MILLE,,UMOL/KG,,UMOL/KG,,NMOL/KG,,,,,,ITS-90,,UG/L,,UG/L,,UG/L,,UG/L,,VOLTS,,VOLTS,,,,,,,,,,,
33RR20220613,       P02E,     187,          1,         36,         36,2,20220708,       0054,    30.7404,  -121.6764,       4207,     3.5,2,  18.5740,2,  33.2999,2,  33.3070,2,    243.2,2,   243.4,2,    0.39,2,    0.00,2,    0.00,2,    0.30,2,   2.289,2,   1.364,2,   2.2313,2,  2016.7,6,  2225.5,2,   7.9014,2,    25.00,2, -999.00,9,  -999.0,9, -999.00,9, -999.00,9,        8.9,2, 20220708,      306,  30.7404,-121.6764,    18.5831,2,     -999.0,9,     -999.0,9,     -999.0,9,     -999.0,9,     0.0290,1,     4.5692,1,     -999.0,9,     -999.0,9,     -999.0,9,     -999.0,9,     -999.0,9
33RR20220613,       P02E,     187,          1,         35,         35,2,20220708,       0054,    30.7404,  -121.6764,       4207,    20.5,2,  17.4381,2,  33.2003,3,  33.2332,2,    258.1,2,   257.9,2,    0.39,2,    0.00,2,    0.00,2,    0.31,2,   2.374,2,   1.422,2,   2.4037,2,  2010.8,2,  2221.7,2,   7.9052,2,    25.02,2, -999.00,9,  -999.0,9, -999.00,9, -999.00,9,        8.9,2, 20220708,      303,  30.7404,-121.6764,    17.4838,2,     -999.0,9,     -999.0,9,     -999.0,9,     -999.0,9,     0.0396,1,     4.5478,1,     -999.0,9,     -999.0,9,     -999.0,9,     -999.0,9,     -999.0,9
33RR20220613,       P02E,     187,          1,         34,         34,2,20220708,       0054,    30.7404,  -121.6764,       4207,    40.5,2,  15.2592,2,  33.2270,2,  33.2270,2,    259.7,2,   261.3,2,    1.47,2,    2.07,2,    0.07,2,    0.46,2,   2.515,2,   1.509,2,   2.5010,2,  2020.9,2,  2219.2,6,   7.8800,2,    25.00,2, -999.00,9,  -999.0,9, -999.00,9, -999.00,9,       10.3,2, 20220708,      300,  30.7404,-121.6764,    15.2594,2,     -999.0,9,     -999.0,9,     -999.0,9,     -999.0,9,     0.0603,1,     4.5994,1,     -999.0,9,     -999.0,9,     -999.0,9,     -999.0,9,     -999.0,9
33RR20220613,       P02E,     187,          1,         33,         33,2,20220708,       0054,    30.7404,  -121.6764,       4207,    65.5,2,  13.5400,2,  33.3881,2,  33.3937,2,    249.3,2,   249.4,2,    7.63,2,   12.55,2,    0.30,2,    1.11,2,   2.759,2,   1.637,2,   2.5736,2,  2066.5,2,  2227.9,2,   7.7962,2,    25.01,2, -999.00,9,  -999.0,9, -999.00,9, -999.00,9,       12.1,2, 20220708,      257,  30.7404,-121.6764,    13.5435,2,     -999.0,9,     -999.0,9,     -999.0,9,     -999.0,9,     0.0354,1,     4.6315,1,     -999.0,9,     -999.0,9,     -999.0,9,     -999.0,9,     -999.0,9
33RR20220613,       P02E,     187,          1,         32,         32,2,20220708,       0054,    30.7404,  -121.6764,       4207,    90.9,2,  11.3235,2,  33.3300,2,  33.3129,2,    219.4,2,   219.3,2,   15.65,2,   18.87,2,    0.03,2,    1.47,2,   2.945,2,   1.770,2,   2.5576,2,  2096.0,2,  2219.2,2,   7.6980,2,    25.01,2, -999.00,9,  -999.0,9, -999.00,9, -999.00,9,       14.7,2, 20220708,      255,  30.7404,-121.6764,    11.3199,2,     -999.0,9,     -999.0,9,     -999.0,9,     -999.0,9,     0.0189,1,     4.6638,1,     -999.0,9,     -999.0,9,     -999.0,9,     -999.0,9,     -999.0,9
33RR20220613,       P02E,     187,          1,         31,         31,2,20220708,       0054,    30.7404,  -121.6764,       4207,   116.6,2,  10.3244,2,  33.5957,2,  33.5782,2,    178.7,2,   177.1,2,   22.29,2,   22.63,2,    0.02,2,    1.69,2,   2.987,2,   1.795,2,   2.3165,2,  2143.2,2,  2230.9,2,   7.5963,2,    25.02,2, -999.00,9,  -999.0,9, -999.00,9, -999.00,9,       19.4,2, 20220708,      252,  30.7404,-121.6764,    10.3051,2,     -999.0,9,     -999.0,9,     -999.0,9,     -999.0,9,     0.0147,1,     4.6656,1,     -999.0,9,     -999.0,9,     -999.0,9,     -999.0,9,     -999.0,9
33RR20220613,       P02E,     187,          1,         30,         17,2,20220708,       0054,    30.7404,  -121.6764,       4207,   141.5,2,   9.8596,2,  33.7943,2,  33.7952,2,    149.6,2,   151.1,2,   26.98,2,   24.73,2,    0.00,2,    1.84,2,   2.897,2,   1.732,2,   1.9402,2,  2171.1,2,  2243.6,2,   7.5423,2,    25.00,2, -999.00,9,  -999.0,9, -999.00,9, -999.00,9,       23.6,2, 20220708,      249,  30.7404,-121.6764,     9.8592,2,     -999.0,9,     -999.0,9,     -999.0,9,     -999.0,9,     0.0134,1,     4.6650,1,     -999.0,9,     -999.0,9,     -999.0,9,     -999.0,9,     -999.0,9
33RR20220613,       P02E,     187,          1,         29,         29,2,20220708,       0054,    30.7404,  -121.6764,       4207,   187.4,2,   8.8884,2,  33.9217,2,  33.9256,2,    144.3,2,   144.8,2,   31.57,2,   26.31,2,    0.00,2,    1.89,2,   2.950,2,   1.761,2,   1.6016,2,  2178.0,2,  2250.3,2,   7.5510,2,    25.01,2, -999.00,9,  -999.0,9, -999.00,9, -999.00,9,       26.6,2, 20220708,      246,  30.7404,-121.6764,     8.8879,2,     -999.0,9,     -999.0,9,     -999.0,9,     -999.0,9,     0.0134,1,     4.6729,1,     -999.0,9,     -999.0,9,     -999.0,9,     -999.0,9,     -999.0,9
33RR20220613,       P02E,     187,          1,         28,         28,2,20220708,       0054,    30.7404,  -121.6764,       4207,   237.3,2,   8.2861,2,  34.0469,3,  34.0705,2,     95.4,3,    94.5,2,   39.29,2,   29.10,2,    0.00,2,    2.10,2,   2.493,2,   1.487,2,   1.0858,2,  2223.9,2,  2266.9,2,   7.4503,2,    25.02,2, -999.00,9,  -999.0,9, -999.00,9, -999.00,9,       34.8,2, 20220708,      244,  30.7404,-121.6764,     8.2873,2,     -999.0,9,     -999.0,9,     -999.0,9,     -999.0,9,     0.0134,1,     4.6732,1,     -999.0,9,     -999.0,9,     -999.0,9,     -999.0,9,     -999.0,9
33RR20220613,       P02E,     187,          1,         27,         27,2,20220708,       0054,    30.7404,  -121.6764,       4207,   287.5,2,   7.3926,2,  34.0641,2,  34.0678,2,     76.2,2,    76.1,2,   48.09,2,   32.34,2,    0.00,2,    2.37,2,   2.236,2,   1.290,2,   0.8398,2,  2247.6,2,  2275.6,2,   7.4067,2,    25.00,2, -999.00,9,  -999.0,9, -999.00,9, -999.00,9,       38.1,2, 20220708,      241,  30.7404,-121.6764,     7.4193,2,     -999.0,9,     -999.0,9,     -999.0,9,     -999.0,9,     0.0134,1,     4.6772,1,     -999.0,9,     -999.0,9,     -999.0,9,     -999.0,9,     -999.0,9
33RR20220613,       P02E,     187,          1,         26,         26,2,20220708,       0054,    30.7404,  -121.6764,       4207,   338.1,2,   6.8964,2,  34.1136,2,  34.1201,2,     51.9,2,    52.3,2,   56.59,2,   35.08,2,    0.00,2,    2.57,2,   1.719,2,   0.979,2,   0.5431,2,  2272.4,2,  2286.9,2,   7.3602,2,    25.01,2, -999.00,9,  -999.0,9, -999.00,9, -999.00,9,       41.8,2, 20220708,      238,  30.7404,-121.6764,     6.8946,2,     -999.0,9,     -999.0,9,     -999.0,9,     -999.0,9,     0.0134,1,     4.6813,1,     -999.0,9,     -999.0,9,     -999.0,9,     -999.0,9,     -999.0,9
33RR20220613,       P02E,     187,          1,         25,         25,2,20220708,       0054,    30.7404,  -121.6764,       4207,   388.3,2,   6.4166,2,  34.1540,2,  34.1556,2,     34.7,2,    35.0,2,   63.63,2,   37.03,2,    0.00,2,    2.76,2,   1.259,2,   0.707,2,   0.4391,2,  2291.1,2,  2295.1,2,   7.3299,2,    25.01,2, -999.00,9,  -999.0,9, -999.00,9, -999.00,9,       46.6,2, 20220708,      235,  30.7404,-121.6764,     6.4161,2,     -999.0,9,     -999.0,9,     -999.0,9,     -999.0,9,     0.0134,1,     4.6830,1,     -999.0,9,     -999.0,9,     -999.0,9,     -999.0,9,     -999.0,9
33RR20220613,       P02E,     187,          1,         24,         24,2,20220708,       0054,    30.7404,  -121.6764,       4207,   439.2,2,   6.1563,2,  34.2100,2,  34.2130,2,     22.4,3,    22.7,2,   72.52,2,   38.95,2,    0.00,2,    2.90,2,   0.832,2,   0.471,2,   0.2159,2,  2305.2,2,  2304.7,2,   7.3167,2,    25.00,2, -999.00,9,  -999.0,9, -999.00,9, -999.00,9,       50.8,2, 20220708,      233,  30.7404,-121.6764,     6.1708,2,     -999.0,9,     -999.0,9,     -999.0,9,     -999.0,9,     0.0134,1,     4.6840,1,     -999.0,9,     -999.0,9,     -999.0,9,     -999.0,9,     -999.0,9
33RR20220613,       P02E,     187,          1,         23,         23,2,20220708,       0054,    30.7404,  -121.6764,       4207,   489.1,2,   5.8025,2,  34.2199,2,  34.2222,2,     20.4,2,    20.4,2,   77.60,2,   39.73,2,    0.00,2,    2.97,2,   0.665,2,   0.367,2,   0.3155,2,  2313.8,2,  2311.5,2,   7.3118,2,    25.02,2, -999.00,9,  -999.0,9, -999.00,9, -999.00,9,       51.1,2, 20220708,      229,  30.7404,-121.6764,     5.8065,2,     -999.0,9,     -999.0,9,     -999.0,9,     -999.0,9,     0.0134,1,     4.6845,1,     -999.0,9,     -999.0,9,     -999.0,9,     -999.0,9,     -999.0,9
33RR20220613,       P02E,     187,          1,         22,         22,2,20220708,       0054,    30.7404,  -121.6764,       4207,   570.5,2,   5.3916,2,  34.2759,2,  34.2832,2,     13.9,2,    13.8,2,   87.47,2,   41.21,2,    0.00,2,    3.06,2,   0.318,2,   0.180,2,   0.1137,2,  2326.8,2,  2324.3,2,   7.3080,2,    25.01,2, -999.00,9,  -999.0,9, -999.00,9, -999.00,9,       54.7,2, 20220708,      225,  30.7404,-121.6764,     5.3892,2,     -999.0,9,     -999.0,9,     -999.0,9,     -999.0,9,     0.0134,1,     4.6866,1,     -999.0,9,     -999.0,9,     -999.0,9,     -999.0,9,     -999.0,9
33RR20220613,       P02E,     187,          1,         21,         21,2,20220708,       0054,    30.7404,  -121.6764,       4207,   671.3,2,   4.9175,2,  34.3417,2,  34.3427,2,     11.8,2,    11.7,2,   95.67,2,   42.11,2,    0.00,2,    3.12,2,   0.114,2,   0.070,2,   0.1691,2,  2340.3,6,  2339.4,2,   7.3131,2,    25.02,2, -999.00,9,  -999.0,9, -999.00,9, -999.00,9,       55.9,2, 20220708,      222,  30.7404,-121.6764,     4.9169,2,     -999.0,9,     -999.0,9,     -999.0,9,     -999.0,9,     0.0134,1,     4.6874,1,     -999.0,9,     -999.0,9,     -999.0,9,     -999.0,9,     -999.0,9
33RR20220613,       P02E,     187,          1,         20,         20,2,20220708,       0054,    30.7404,  -121.6764,       4207,   772.2,2,   4.5998,2,  34.4069,2,  34.4061,2,     13.9,3,    13.7,2,  104.66,2,   42.88,2,    0.00,2,    3.14,2,   0.039,2,   0.029,2,   0.1538,2,  2348.2,2,  2352.0,2,   7.3235,2,    25.01,2, -999.00,9,  -999.0,9, -999.00,9, -999.00,9,       56.6,2, 20220708,      219,  30.7404,-121.6764,     4.5986,2,     -999.0,9,     -999.0,9,     -999.0,9,     -999.0,9,     0.0134,1,     4.6864,1,     -999.0,9,     -999.0,9,     -999.0,9,     -999.0,9,     -999.0,9
33RR20220613,       P02E,     187,          1,         19,         39,2,20220708,       0054,    30.7404,  -121.6764,       4207,   873.4,2,   4.3140,2,  34.4467,2,  34.4475,2,     18.9,2,    19.0,2,  111.30,2,   43.21,2,    0.00,2,    3.13,2,   0.021,2,   0.020,2,   0.0684,2,  2351.6,2,  2361.5,2,   7.3368,2,    25.01,2, -999.00,9,  -999.0,9, -999.00,9, -999.00,9,       54.5,2, 20220708,      216,  30.7404,-121.6764,     4.3132,2,     -999.0,9,     -999.0,9,     -999.0,9,     -999.0,9,     0.0134,1,     4.6871,1,     -999.0,9,     -999.0,9,     -999.0,9,     -999.0,9,     -999.0,9
33RR20220613,       P02E,     187,          1,         18,         18,2,20220708,       0054,    30.7404,  -121.6764,       4207,   974.4,2,   4.0644,2,  34.4792,2,  34.4779,2,     22.2,3,    22.0,2,  116.77,2,   43.16,2,    0.00,2,    3.11,2,   0.027,2,   0.024,2,   0.3042,2,  2358.2,2,  2369.0,2,   7.3434,2,    25.01,2, -999.00,9,  -999.0,9, -999.00,9, -999.00,9,       51.4,2, 20220708,      213,  30.7404,-121.6764,     4.0630,2,     -999.0,9,     -999.0,9,     -999.0,9,     -999.0,9,     0.0134,1,     4.6860,1,     -999.0,9,     -999.0,9,     -999.0,9,     -999.0,9,     -999.0,9
33RR20220613,       P02E,     187,          1,         17,         37,2,20220708,       0054,    30.7404,  -121.6764,       4207,  1075.8,2,   3.7962,2,  34.4992,2,  34.4987,2,     27.1,2,    27.1,2,  122.73,2,   43.12,2,    0.00,2,    3.11,2,   0.018,2,   0.016,2,   0.1761,2,  2362.9,2,  2376.0,2,   7.3542,2,    24.99,2, -999.00,9,  -999.0,9, -999.00,9, -999.00,9,       47.1,2, 20220708,      209,  30.7404,-121.6764,     3.7987,2,     -999.0,9,     -999.0,9,     -999.0,9,     -999.0,9,     0.0134,1,     4.6877,1,     -999.0,9,     -999.0,9,     -999.0,9,     -999.0,9,     -999.0,9
33RR20220613,       P02E,     187,          1,         16,         16,2,20220708,       0054,    30.7404,  -121.6764,       4207,  1177.3,2,   3.5312,2,  34.5180,3,  34.5233,2,     32.0,2,    31.9,2,  129.56,2,   42.96,2,    0.00,2,    3.08,2,-999.000,5,-999.000,5,-999.0000,5,  2365.5,2,  2383.6,2,   7.3621,2,    25.00,2, -999.00,9,  -999.0,9, -999.00,9, -999.00,9,     -999.0,5, 20220708,      206,  30.7404,-121.6764,     3.5307,2,     -999.0,9,     -999.0,9,     -999.0,9,     -999.0,9,     0.0134,1,     4.6884,1,     -999.0,9,     -999.0,9,     -999.0,9,     -999.0,9,     -999.0,9
33RR20220613,       P02E,     187,          1,         15,         15,2,20220708,       0054,    30.7404,  -121.6764,       4207,  1278.7,2,   3.2931,2,  34.5351,2,  34.5341,2,     37.1,2,    37.0,2,  134.16,2,   42.77,2,    0.00,2,    3.05,2,   0.019,6,   0.018,6,   0.1402,6,  2368.3,2,  2388.8,2,   7.3734,2,    25.00,2, -999.00,9,  -999.0,9, -999.00,9, -999.00,9,       44.8,6, 20220708,      202,  30.7404,-121.6764,     3.2943,2,     -999.0,9,     -999.0,9,     -999.0,9,     -999.0,9,     0.0134,1,     4.6887,1,     -999.0,9,     -999.0,9,     -999.0,9,     -999.0,9,     -999.0,9
33RR20220613,       P02E,     187,          1,         14,         42,2,20220708,       0054,    30.7404,  -121.6764,       4207,  1378.9,2,   3.0618,2,  34.5503,2,  34.5508,2,     42.7,2,    42.9,2,  138.65,2,   42.56,2,    0.00,2,    3.03,2,   0.015,2,   0.015,2,   0.0955,2,  2371.3,2,  2395.4,2,   7.3828,2,    25.00,2, -999.00,9,  -999.0,9, -999.00,9, -999.00,9,       42.0,2, 20220708,      200,  30.7404,-121.6764,     3.0613,2,     -999.0,9,     -999.0,9,     -999.0,9,     -999.0,9,     0.0134,1,     4.6896,1,     -999.0,9,     -999.0,9,     -999.0,9,     -999.0,9,     -999.0,9
33RR20220613,       P02E,     187,          1,         13,         13,2,20220708,       0054,    30.7404,  -121.6764,       4207,  1480.1,2,   2.8851,2,  34.5631,2,  34.5635,2,     48.1,2,    47.6,2,  143.04,2,   42.26,2,    0.00,2,    3.00,2,   0.015,2,   0.013,2,   0.0000,2,  2373.3,2,  2399.6,2,   7.3925,2,    24.99,2, -999.00,9,  -999.0,9, -999.00,9, -999.00,9,       40.2,2, 20220708,      156,  30.7404,-121.6764,     2.8816,2,     -999.0,9,     -999.0,9,     -999.0,9,     -999.0,9,     0.0134,1,     4.6902,1,     -999.0,9,     -999.0,9,     -999.0,9,     -999.0,9,     -999.0,9
33RR20220613,       P02E,     187,          1,         12,         12,2,20220708,       0054,    30.7404,  -121.6764,       4207,  1582.1,2,   2.6977,2,  34.5761,2,  34.5763,2,     53.5,2,    53.8,2,  147.05,2,   41.97,2,    0.00,2,    2.98,2,   0.011,2,   0.012,2,   0.0000,2,  2375.1,2,  2405.9,2,   7.4026,2,    25.01,2, -999.00,9,  -999.0,9, -999.00,9, -999.00,9,       36.2,2, 20220708,      153,  30.7404,-121.6764,     2.6975,2,     -999.0,9,     -999.0,9,     -999.0,9,     -999.0,9,     0.0134,1,     4.6899,1,     -999.0,9,     -999.0,9,     -999.0,9,     -999.0,9,     -999.0,9
33RR20220613,       P02E,     187,          1,         11,         11,2,20220708,       0054,    30.7404,  -121.6764,       4207,  1754.2,2,   2.3896,2,  34.5978,2,  34.5993,2,     64.7,2,    64.8,2,  153.59,2,   41.36,2,    0.00,2,    2.92,2,   0.010,2,   0.009,2,   0.0000,2,  2373.9,2,  2413.1,2,   7.4246,2,    25.01,2, -999.00,9,  -999.0,9, -999.00,9, -999.00,9,       34.9,2, 20220708,      149,  30.7404,-121.6764,     2.3894,2,     -999.0,9,     -999.0,9,     -999.0,9,     -999.0,9,     0.0134,1,     4.6921,1,     -999.0,9,     -999.0,9,     -999.0,9,     -999.0,9,     -999.0,9
33RR20220613,       P02E,     187,          1,         10,         10,2,20220708,       0054,    30.7404,  -121.6764,       4207,  1957.6,2,   2.1539,2,  34.6195,3,  34.6282,2,     78.0,2,    78.5,2,  157.99,2,   40.59,2,    0.00,2,    2.85,2,   0.006,2,   0.006,2,   0.0000,2,  2371.0,2,  2418.8,2,   7.4504,2,    25.02,2, -999.00,9,  -999.0,9, -999.00,9, -999.00,9,       30.6,2, 20220708,      144,  30.7404,-121.6764,     2.1543,2,     -999.0,9,     -999.0,9,     -999.0,9,     -999.0,9,     0.0134,1,     4.6930,1,     -999.0,9,     -999.0,9,     -999.0,9,     -999.0,9,     -999.0,9
33RR20220613,       P02E,     187,          1,          9,          9,2,20220708,       0054,    30.7404,  -121.6764,       4207,  2191.2,2,   1.9624,2,  34.6366,3,  34.6407,2,     89.9,2,    90.0,2,  161.21,2,   39.83,2,    0.00,2,    2.78,2,   0.006,2,   0.005,2,   0.0000,2,  2367.6,2,  2423.7,2,   7.4737,2,    25.00,2, -999.00,9,  -999.0,9, -999.00,9, -999.00,9,       29.9,2, 20220708,      139,  30.7404,-121.6764,     1.9623,2,     -999.0,9,     -999.0,9,     -999.0,9,     -999.0,9,     0.0134,1,     4.6924,1,     -999.0,9,     -999.0,9,     -999.0,9,     -999.0,9,     -999.0,9
33RR20220613,       P02E,     187,          1,          8,          8,2,20220708,       0054,    30.7404,  -121.6764,       4207,  2446.1,2,   1.8257,2,  34.6496,2,  34.6504,2,    100.7,2,   100.6,2,  163.36,2,   39.01,2,    0.00,2,    2.74,2,   0.005,2,   0.006,2,   0.0000,2,  2363.3,2,  2426.5,2,   7.4940,2,    25.00,2, -999.00,9,  -999.0,9, -999.00,9, -999.00,9,       27.3,2, 20220708,      133,  30.7404,-121.6764,     1.8252,2,     -999.0,9,     -999.0,9,     -999.0,9,     -999.0,9,     0.0129,1,     4.6939,1,     -999.0,9,     -999.0,9,     -999.0,9,     -999.0,9,     -999.0,9
33RR20220613,       P02E,     187,          1,          7,          7,2,20220708,       0054,    30.7404,  -121.6764,       4207,  2700.7,2,   1.7218,2,  34.6582,2,  34.6568,2,    109.0,2,   109.0,2,  164.63,2,   38.68,2,    0.00,2,    2.71,2,   0.005,2,   0.006,2,   0.0000,2,  2361.0,2,  2428.0,2,   7.5100,2,    24.99,2, -999.00,9,  -999.0,9, -999.00,9, -999.00,9,       26.1,2, 20220708,      128,  30.7404,-121.6764,     1.7219,2,     -999.0,9,     -999.0,9,     -999.0,9,     -999.0,9,     0.0125,1,     4.6947,1,     -999.0,9,     -999.0,9,     -999.0,9,     -999.0,9,     -999.0,9
33RR20220613,       P02E,     187,          1,          6,          6,2,20220708,       0054,    30.7404,  -121.6764,       4207,  2956.1,2,   1.6530,2,  34.6640,2,  34.6633,2,    115.2,2,   115.6,2,  165.90,2,   38.40,2,    0.00,2,    2.67,2,   0.007,2,   0.007,2,   0.0000,2,  2354.9,2,  2429.3,2,   7.5215,2,    25.00,2, -999.00,9,  -999.0,9, -999.00,9, -999.00,9,       25.3,2, 20220708,      122,  30.7404,-121.6764,     1.6526,2,     -999.0,9,     -999.0,9,     -999.0,9,     -999.0,9,     0.0129,1,     4.6956,1,     -999.0,9,     -999.0,9,     -999.0,9,     -999.0,9,     -999.0,9
33RR20220613,       P02E,     187,          1,          5,          5,2,20220708,       0054,    30.7404,  -121.6764,       4207,  3247.1,2,   1.5947,2,  34.6693,2,  34.6702,2,    121.3,2,   121.4,2,  166.77,2,   37.99,2,    0.00,2,    2.65,2,   0.008,2,   0.011,2,   0.0000,2,  2353.7,2,  2429.9,2,   7.5327,2,    25.01,2, -999.00,9,  -999.0,9, -999.00,9, -999.00,9,       24.5,2, 20220708,      116,  30.7404,-121.6764,     1.5945,2,     -999.0,9,     -999.0,9,     -999.0,9,     -999.0,9,     0.0134,1,     4.6960,1,     -999.0,9,     -999.0,9,     -999.0,9,     -999.0,9,     -999.0,9