BOTTLE,20230830CCHSIOCBG
EXPOCODE,SECT_ID,STNNBR,CASTNO,SAMPNO,BTLNBR,BTLNBR_FLAG_W,DATE,TIME,LATITUDE,LONGITUDE,DEPTH,CTDPRS,CTDPRS_FLAG_W,CTDTMP,CTDTMP_FLAG_W,CTDSAL,CTDSAL_FLAG_W,SALNTY,SALNTY_FLAG_W,CTDOXY,CTDOXY_FLAG_W,OXYGEN,OXYGEN_FLAG_W,SILCAT,SILCAT_FLAG_W,NITRAT,NITRAT_FLAG_W,NITRIT,NITRIT_FLAG_W,PHSPHT,PHSPHT_FLAG_W,CFC-11,CFC-11_FLAG_W,CFC-12,CFC-12_FLAG_W,SF6,SF6_FLAG_W,TCARBN,TCARBN_FLAG_W,ALKALI,ALKALI_FLAG_W,PH_TOT,PH_TOT_FLAG_W,PH_TMP,PH_TMP_FLAG_W,DELC13,DELC13_FLAG_W,DELC14,DELC14_FLAG_W,DOC,DOC_FLAG_W,TDN,TDN_FLAG_W,N2O,N2O_FLAG_W,BTL_DATE,BTL_TIME,BTL_LAT,BTL_LON,REFTMP,REFTMP_FLAG_W,POC,POC_FLAG_W,PON,PON_FLAG_W,POP,POP_FLAG_W,PCOD,PCOD_FLAG_W,CTDFLUOR,CTDFLUOR_FLAG_W,CTDXMISS,CTDXMISS_FLAG_W,HPLC,HPLC_FLAG_W,DNA,DNA_FLAG_W,FCM,FCM_FLAG_W,IMAGES,IMAGES_FLAG_W,VIRAL_ABUNDANCE,VIRAL_ABUNDANCE_FLAG_W
,,,,,,,,,,,METERS,DBAR,,ITS-90,,PSS-78,,PSS-78,,UMOL/KG,,UMOL/KG,,UMOL/KG,,UMOL/KG,,UMOL/KG,,UMOL/KG,,PMOL/KG,,PMOL/KG,,FMOL/KG,,UMOL/KG,,UMOL/KG,,,,DEG C,,/MILLE,,/MILLE,,UMOL/KG,,UMOL/KG,,NMOL/KG,,,,,,ITS-90,,UG/L,,UG/L,,UG/L,,UG/L,,VOLTS,,VOLTS,,,,,,,,,,,
33RR20220613,       P02E,     173,          2,          4,          4,2,20220704,       0014,    30.0002,  -129.4566,       4653,  3965.2,2,   1.5010,2,  34.6805,2,  34.6800,2,    138.8,2,   138.7,2,  165.14,2,   36.74,2,    0.00,2,    2.55,2,   0.006,2,   0.009,2,   0.0000,2,  -999.0,9,  -999.0,9,-999.0000,9,  -999.00,9, -999.00,9,  -999.0,9, -999.00,9, -999.00,9,       22.9,2, 20220704,       32,  30.0003,-129.4567,     1.5010,2,     -999.0,9,     -999.0,9,     -999.0,9,     -999.0,9,     0.0122,1,     4.7019,1,     -999.0,9,     -999.0,9,     -999.0,9,     -999.0,9,     -999.0,9
33RR20220613,       P02E,     173,          2,          3,          3,2,20220704,       0014,    30.0002,  -129.4566,       4653,  4274.2,2,   1.5238,2,  34.6821,2,  34.6828,2,    141.1,2,   141.6,2,  164.35,2,   36.60,2,    0.00,2,    2.54,2,   0.006,2,   0.007,2,   0.0000,2,  2340.1,6,  2431.5,2,   7.5660,2,    25.00,2, -999.00,9,  -999.0,9, -999.00,9, -999.00,9,       22.8,2, 20220704,       26,  30.0003,-129.4567,     1.5238,2,     -999.0,9,     -999.0,9,     -999.0,9,     -999.0,9,     0.0122,1,     4.7015,1,     -999.0,9,     -999.0,9,     -999.0,9,     -999.0,9,     -999.0,9
33RR20220613,       P02E,     173,          2,          2,          2,2,20220704,       0014,    30.0002,  -129.4566,       4653,  4528.8,2,   1.5502,2,  34.6826,2,  34.6834,2,    141.9,2,   141.9,2,  163.57,2,   36.55,2,    0.00,2,    2.53,2,   0.006,6,   0.009,6,   0.0000,6,  -999.0,9,  -999.0,9,-999.0000,9,  -999.00,9, -999.00,9,  -999.0,9, -999.00,9, -999.00,9,       23.2,6, 20220704,       20,  30.0003,-129.4567,     1.5503,2,     -999.0,9,     -999.0,9,     -999.0,9,     -999.0,9,     0.0124,1,     4.7004,1,     -999.0,9,     -999.0,9,     -999.0,9,     -999.0,9,     -999.0,9
33RR20220613,       P02E,     173,          2,          1,          1,2,20220704,       0014,    30.0002,  -129.4566,       4653,  4726.4,2,   1.5744,2,  34.6827,2,  34.6836,2,    142.0,2,   141.8,2,  163.08,2,   36.59,2,    0.00,2,    2.54,2,   0.008,2,   0.009,2,   0.0000,2,  2339.4,2,  2430.9,2,   7.5677,2,    25.01,2, -999.00,9,  -999.0,9, -999.00,9, -999.00,9,       23.6,2, 20220704,       14,  30.0003,-129.4568,     1.5744,2,     -999.0,9,     -999.0,9,     -999.0,9,     -999.0,9,     0.0122,1,     4.7005,1,     -999.0,9,     -999.0,9,     -999.0,9,     -999.0,9,     -999.0,9