BOTTLE,20230830CCHSIOCBG
EXPOCODE,SECT_ID,STNNBR,CASTNO,SAMPNO,BTLNBR,BTLNBR_FLAG_W,DATE,TIME,LATITUDE,LONGITUDE,DEPTH,CTDPRS,CTDPRS_FLAG_W,CTDTMP,CTDTMP_FLAG_W,CTDSAL,CTDSAL_FLAG_W,SALNTY,SALNTY_FLAG_W,CTDOXY,CTDOXY_FLAG_W,OXYGEN,OXYGEN_FLAG_W,SILCAT,SILCAT_FLAG_W,NITRAT,NITRAT_FLAG_W,NITRIT,NITRIT_FLAG_W,PHSPHT,PHSPHT_FLAG_W,CFC-11,CFC-11_FLAG_W,CFC-12,CFC-12_FLAG_W,SF6,SF6_FLAG_W,TCARBN,TCARBN_FLAG_W,ALKALI,ALKALI_FLAG_W,PH_TOT,PH_TOT_FLAG_W,PH_TMP,PH_TMP_FLAG_W,DELC13,DELC13_FLAG_W,DELC14,DELC14_FLAG_W,DOC,DOC_FLAG_W,TDN,TDN_FLAG_W,N2O,N2O_FLAG_W,BTL_DATE,BTL_TIME,BTL_LAT,BTL_LON,REFTMP,REFTMP_FLAG_W,POC,POC_FLAG_W,PON,PON_FLAG_W,POP,POP_FLAG_W,PCOD,PCOD_FLAG_W,CTDFLUOR,CTDFLUOR_FLAG_W,CTDXMISS,CTDXMISS_FLAG_W,HPLC,HPLC_FLAG_W,DNA,DNA_FLAG_W,FCM,FCM_FLAG_W,IMAGES,IMAGES_FLAG_W,VIRAL_ABUNDANCE,VIRAL_ABUNDANCE_FLAG_W
,,,,,,,,,,,METERS,DBAR,,ITS-90,,PSS-78,,PSS-78,,UMOL/KG,,UMOL/KG,,UMOL/KG,,UMOL/KG,,UMOL/KG,,UMOL/KG,,PMOL/KG,,PMOL/KG,,FMOL/KG,,UMOL/KG,,UMOL/KG,,,,DEG C,,/MILLE,,/MILLE,,UMOL/KG,,UMOL/KG,,NMOL/KG,,,,,,ITS-90,,UG/L,,UG/L,,UG/L,,UG/L,,VOLTS,,VOLTS,,,,,,,,,,,
33RR20220613,       P02E,     121,          1,          4,          4,2,20220617,       1930,    30.0023,  -159.4820,       5706,  4888.8,2,   1.5186,2,  34.6886,2,  34.6877,2,    155.4,2,   155.5,2,  150.63,2,   36.04,2,    0.00,2,    2.71,4,-999.000,9,-999.000,9,-999.0000,9,  -999.0,9,  -999.0,9,-999.0000,9,  -999.00,9, -999.00,9,  -999.0,9, -999.00,9, -999.00,9,     -999.0,9, 20220617,     2001,  30.0023,-159.4820,     1.5186,2,     -999.0,9,     -999.0,9,     -999.0,9,     -999.0,9,     0.0122,1,     4.7053,1,     -999.0,9,     -999.0,9,     -999.0,9,     -999.0,9,     -999.0,9
33RR20220613,       P02E,     121,          1,          3,          3,2,20220617,       1930,    30.0023,  -159.4820,       5706,  5300.0,2,   1.5584,2,  34.6896,2,  34.6895,2,    157.9,2,   157.8,2,  148.87,2,   35.93,2,    0.00,2,    2.69,4,   0.005,2,   0.005,2,   0.0000,2,  2320.6,2,  2416.2,2,   7.5861,2,    25.02,2, -999.00,9,  -999.0,9, -999.00,9, -999.00,9,       23.7,2, 20220617,     1950,  30.0023,-159.4820,     1.5585,2,     -999.0,9,     -999.0,9,     -999.0,9,     -999.0,9,     0.0122,1,     4.7044,1,     -999.0,9,     -999.0,9,     -999.0,9,     -999.0,9,     -999.0,9
33RR20220613,       P02E,     121,          1,          2,          2,2,20220617,       1930,    30.0023,  -159.4820,       5706,  5507.7,2,   1.5833,2,  34.6898,2,  34.6889,2,    158.3,2,   158.7,2,  147.80,2,   35.89,2,    0.00,2,    2.71,4,   0.005,2,   0.006,2,   0.0000,2,  2321.9,2,  2415.9,2,   7.5869,2,    25.03,2, -999.00,9,  -999.0,9, -999.00,9, -999.00,9,       23.4,2, 20220617,     1943,  30.0023,-159.4820,     1.5835,2,     -999.0,9,     -999.0,9,     -999.0,9,     -999.0,9,     0.0122,1,     4.7035,1,     -999.0,9,     -999.0,9,     -999.0,9,     -999.0,9,     -999.0,9
33RR20220613,       P02E,     121,          1,          1,          1,2,20220617,       1930,    30.0023,  -159.4820,       5706,  5806.7,2,   1.6199,2,  34.6899,2,  34.6905,2,    158.9,2,   159.1,2,  147.02,2,   35.85,2,    0.00,2,    2.68,4,   0.007,2,   0.005,2,   0.0000,2,  2321.5,6,  2414.0,2,   7.5881,2,    25.03,2, -999.00,9,  -999.0,9, -999.00,9, -999.00,9,       23.3,2, 20220617,     1930,  30.0023,-159.4820,     1.6202,2,     -999.0,9,     -999.0,9,     -999.0,9,     -999.0,9,     0.0122,1,     4.7021,1,     -999.0,9,     -999.0,9,     -999.0,9,     -999.0,9,     -999.0,9
33RR20220613,       P02E,     122,          1,         22,         22,2,20220618,       0143,    30.0015,  -158.9032,       5807,     3.8,2,  25.7198,2,  35.2560,2,-999.0000,9,    207.5,2,  -999.0,9, -999.00,9, -999.00,9, -999.00,9, -999.00,9,-999.000,9,-999.000,9,-999.0000,9,  -999.0,9,  -999.0,9,-999.0000,9,  -999.00,9, -999.00,9,  -999.0,9, -999.00,9, -999.00,9,     -999.0,9, 20220618,      214,  30.0016,-158.9032,    25.7185,2,     -999.0,9,     -999.0,9,     -999.0,1,     -999.0,9,     0.0130,1,     4.6321,1,     -999.0,9,     -999.0,9,     -999.0,9,     -999.0,9,     -999.0,9
33RR20220613,       P02E,     122,          1,         25,         25,2,20220618,       0143,    30.0015,  -158.9032,       5807,     3.9,2,  25.7157,2,  35.2553,2,-999.0000,9,    207.3,2,  -999.0,9, -999.00,9, -999.00,9, -999.00,9, -999.00,9,-999.000,9,-999.000,9,-999.0000,9,  -999.0,9,  -999.0,9,-999.0000,9,  -999.00,9, -999.00,9,  -999.0,9, -999.00,9, -999.00,9,     -999.0,9, 20220618,      214,  30.0015,-158.9032,     -999.0,9,     -999.0,9,     -999.0,9,     -999.0,9,     -999.0,1,     0.0122,1,     4.6314,1,     -999.0,9,     -999.0,9,     -999.0,9,     -999.0,9,     -999.0,9
33RR20220613,       P02E,     122,          1,         24,         24,2,20220618,       0143,    30.0015,  -158.9032,       5807,     3.9,2,  25.7195,2,  35.2556,2,-999.0000,9,    207.4,2,  -999.0,9, -999.00,9, -999.00,9, -999.00,9, -999.00,9,-999.000,9,-999.000,9,-999.0000,9,  -999.0,9,  -999.0,9,-999.0000,9,  -999.00,9, -999.00,9,  -999.0,9, -999.00,9, -999.00,9,     -999.0,9, 20220618,      214,  30.0015,-158.9032,     -999.0,9,     -999.0,9,     -999.0,9,     -999.0,9,     -999.0,1,     0.0122,1,     4.6315,1,     -999.0,9,     -999.0,9,     -999.0,9,     -999.0,9,     -999.0,9
33RR20220613,       P02E,     122,          1,         20,         20,2,20220618,       0143,    30.0015,  -158.9032,       5807,     4.1,2,  25.7207,2,  35.2557,2,-999.0000,9,    207.3,2,  -999.0,9, -999.00,9, -999.00,9, -999.00,9, -999.00,9,-999.000,9,-999.000,9,-999.0000,9,  -999.0,9,  -999.0,9,-999.0000,9,  -999.00,9, -999.00,9,  -999.0,9, -999.00,9, -999.00,9,     -999.0,9, 20220618,      214,  30.0016,-158.9032,     -999.0,9,     -999.0,1,     -999.0,1,     -999.0,9,     -999.0,9,     0.0122,1,     4.6321,1,     -999.0,9,     -999.0,9,     -999.0,9,     -999.0,9,     -999.0,9
33RR20220613,       P02E,     122,          1,         16,         16,2,20220618,       0143,    30.0015,  -158.9032,       5807,     4.3,2,  25.7252,2,  35.2564,2,-999.0000,9,    207.2,2,  -999.0,9, -999.00,9, -999.00,9, -999.00,9, -999.00,9,-999.000,9,-999.000,9,-999.0000,9,  -999.0,9,  -999.0,9,-999.0000,9,  -999.00,9, -999.00,9,  -999.0,9, -999.00,9, -999.00,9,     -999.0,9, 20220618,      214,  30.0016,-158.9033,     -999.0,9,     -999.0,1,     -999.0,1,     -999.0,9,     -999.0,9,     0.0122,1,     4.6324,1,     -999.0,9,     -999.0,9,     -999.0,1,     -999.0,9,     -999.0,9
33RR20220613,       P02E,     122,          1,         18,         18,2,20220618,       0143,    30.0015,  -158.9032,       5807,     4.3,2,  25.7220,2,  35.2552,2,-999.0000,9,    207.5,2,  -999.0,9, -999.00,9, -999.00,9, -999.00,9, -999.00,9,-999.000,9,-999.000,9,-999.0000,9,  -999.0,9,  -999.0,9,-999.0000,9,  -999.00,9, -999.00,9,  -999.0,9, -999.00,9, -999.00,9,     -999.0,9, 20220618,      214,  30.0016,-158.9033,     -999.0,9,     -999.0,1,     -999.0,1,     -999.0,9,     -999.0,9,     0.0122,1,     4.6322,1,     -999.0,9,     -999.0,9,     -999.0,9,     -999.0,9,     -999.0,9
33RR20220613,       P02E,     122,          1,         26,         26,2,20220618,       0143,    30.0015,  -158.9032,       5807,     4.4,2,  25.7144,2,  35.2553,2,-999.0000,9,    207.5,2,  -999.0,9, -999.00,9, -999.00,9, -999.00,9, -999.00,9,-999.000,9,-999.000,9,-999.0000,9,  -999.0,9,  -999.0,9,-999.0000,9,  -999.00,9, -999.00,9,  -999.0,9, -999.00,9, -999.00,9,     -999.0,9, 20220618,      214,  30.0015,-158.9032,     -999.0,9,     -999.0,9,     -999.0,9,     -999.0,9,     -999.0,1,     0.0126,1,     4.6319,1,     -999.0,9,     -999.0,9,     -999.0,9,     -999.0,9,     -999.0,9
33RR20220613,       P02E,     122,          1,         17,         37,2,20220618,       0143,    30.0015,  -158.9032,       5807,     4.5,2,  25.7223,2,  35.2558,2,-999.0000,9,    207.4,2,  -999.0,9, -999.00,9, -999.00,9, -999.00,9, -999.00,9,-999.000,9,-999.000,9,-999.0000,9,  -999.0,9,  -999.0,9,-999.0000,9,  -999.00,9, -999.00,9,  -999.0,9, -999.00,9, -999.00,9,     -999.0,9, 20220618,      214,  30.0016,-158.9033,     -999.0,9,     -999.0,9,     -999.0,9,     -999.0,9,     -999.0,9,     0.0122,1,     4.6319,1,     -999.0,9,     -999.0,1,     -999.0,9,     -999.0,9,     -999.0,9
33RR20220613,       P02E,     122,          1,         19,         39,2,20220618,       0143,    30.0015,  -158.9032,       5807,     4.5,2,  25.7196,2,  35.2555,2,-999.0000,9,    207.4,2,  -999.0,9, -999.00,9, -999.00,9, -999.00,9, -999.00,9,-999.000,9,-999.000,9,-999.0000,9,  -999.0,9,  -999.0,9,-999.0000,9,  -999.00,9, -999.00,9,  -999.0,9, -999.00,9, -999.00,9,     -999.0,9, 20220618,      214,  30.0016,-158.9032,     -999.0,9,     -999.0,1,     -999.0,1,     -999.0,9,     -999.0,9,     0.0128,1,     4.6316,1,     -999.0,9,     -999.0,9,     -999.0,9,     -999.0,9,     -999.0,9
33RR20220613,       P02E,     122,          1,         15,         15,2,20220618,       0143,    30.0015,  -158.9032,       5807,     4.6,2,  25.7272,2,  35.2561,2,-999.0000,9,    207.3,2,  -999.0,9, -999.00,9, -999.00,9, -999.00,9, -999.00,9,-999.000,9,-999.000,9,-999.0000,9,  -999.0,9,  -999.0,9,-999.0000,9,  -999.00,9, -999.00,9,  -999.0,9, -999.00,9, -999.00,9,     -999.0,9, 20220618,      214,  30.0016,-158.9033,    25.7243,2,     -999.0,9,     -999.0,9,     -999.0,9,     -999.0,9,     0.0122,1,     4.6326,1,     -999.0,1,     -999.0,9,     -999.0,9,     -999.0,9,     -999.0,9
33RR20220613,       P02E,     122,          1,         21,         21,2,20220618,       0143,    30.0015,  -158.9032,       5807,     4.6,2,  25.7188,2,  35.2556,2,-999.0000,9,    207.4,2,  -999.0,9, -999.00,9, -999.00,9, -999.00,9, -999.00,9,-999.000,9,-999.000,9,-999.0000,9,  -999.0,9,  -999.0,9,-999.0000,9,  -999.00,9, -999.00,9,  -999.0,9, -999.00,9, -999.00,9,     -999.0,9, 20220618,      214,  30.0016,-158.9032,     -999.0,9,     -999.0,9,     -999.0,9,     -999.0,1,     -999.0,9,     0.0132,1,     4.6318,1,     -999.0,9,     -999.0,9,     -999.0,9,     -999.0,9,     -999.0,9
33RR20220613,       P02E,     122,          1,         23,         23,2,20220618,       0143,    30.0015,  -158.9032,       5807,     4.7,2,  25.7196,2,  35.2558,2,-999.0000,9,    207.5,2,  -999.0,9, -999.00,9, -999.00,9, -999.00,9, -999.00,9,-999.000,9,-999.000,9,-999.0000,9,  -999.0,9,  -999.0,9,-999.0000,9,  -999.00,9, -999.00,9,  -999.0,9, -999.00,9, -999.00,9,     -999.0,9, 20220618,      214,  30.0015,-158.9032,     -999.0,9,     -999.0,9,     -999.0,9,     -999.0,1,     -999.0,9,     0.0122,1,     4.6305,1,     -999.0,9,     -999.0,9,     -999.0,9,     -999.0,9,     -999.0,9
33RR20220613,       P02E,     122,          1,         14,         14,2,20220618,       0143,    30.0015,  -158.9032,       5807,    26.5,2,  25.5351,2,  35.2466,2,-999.0000,9,    208.1,2,  -999.0,9, -999.00,9, -999.00,9, -999.00,9, -999.00,9,-999.000,9,-999.000,9,-999.0000,9,  -999.0,9,  -999.0,9,-999.0000,9,  -999.00,9, -999.00,9,  -999.0,9, -999.00,9, -999.00,9,     -999.0,9, 20220618,      210,  30.0016,-158.9033,     -999.0,9,     -999.0,1,     -999.0,1,     -999.0,9,     -999.0,9,     0.0134,1,     4.6284,1,     -999.0,9,     -999.0,9,     -999.0,9,     -999.0,9,     -999.0,9
33RR20220613,       P02E,     122,          1,         13,         13,2,20220618,       0143,    30.0015,  -158.9032,       5807,    26.7,2,  25.5373,2,  35.2461,2,-999.0000,9,    208.2,2,  -999.0,9, -999.00,9, -999.00,9, -999.00,9, -999.00,9,-999.000,9,-999.000,9,-999.0000,9,  -999.0,9,  -999.0,9,-999.0000,9,  -999.00,9, -999.00,9,  -999.0,9, -999.00,9, -999.00,9,     -999.0,9, 20220618,      210,  30.0016,-158.9033,    25.5372,2,     -999.0,9,     -999.0,9,     -999.0,9,     -999.0,9,     0.0134,1,     4.6293,1,     -999.0,1,     -999.0,9,     -999.0,1,     -999.0,9,     -999.0,9
33RR20220613,       P02E,     122,          1,         12,         12,2,20220618,       0143,    30.0015,  -158.9032,       5807,    84.9,2,  21.3543,2,  35.2220,2,-999.0000,9,    223.2,2,  -999.0,9, -999.00,9, -999.00,9, -999.00,9, -999.00,9,-999.000,9,-999.000,9,-999.0000,9,  -999.0,9,  -999.0,9,-999.0000,9,  -999.00,9, -999.00,9,  -999.0,9, -999.00,9, -999.00,9,     -999.0,9, 20220618,      207,  30.0015,-158.9032,     -999.0,9,     -999.0,1,     -999.0,1,     -999.0,9,     -999.0,9,     0.0190,1,     4.6368,1,     -999.0,9,     -999.0,9,     -999.0,9,     -999.0,9,     -999.0,9
33RR20220613,       P02E,     122,          1,         11,         11,2,20220618,       0143,    30.0015,  -158.9032,       5807,    85.2,2,  21.3522,2,  35.2220,2,-999.0000,9,    223.0,2,  -999.0,9, -999.00,9, -999.00,9, -999.00,9, -999.00,9,-999.000,9,-999.000,9,-999.0000,9,  -999.0,9,  -999.0,9,-999.0000,9,  -999.00,9, -999.00,9,  -999.0,9, -999.00,9, -999.00,9,     -999.0,9, 20220618,      207,  30.0015,-158.9032,    21.3553,2,     -999.0,9,     -999.0,9,     -999.0,9,     -999.0,9,     0.0254,1,     4.6348,1,     -999.0,1,     -999.0,9,     -999.0,1,     -999.0,9,     -999.0,9
33RR20220613,       P02E,     122,          1,          9,          9,2,20220618,       0143,    30.0015,  -158.9032,       5807,   115.8,2,  19.8547,2,  35.0523,2,-999.0000,9,    212.6,2,  -999.0,9, -999.00,9, -999.00,9, -999.00,9, -999.00,9,-999.000,9,-999.000,9,-999.0000,9,  -999.0,9,  -999.0,9,-999.0000,9,  -999.00,9, -999.00,9,  -999.0,9, -999.00,9, -999.00,9,     -999.0,9, 20220618,      204,  30.0016,-158.9032,     -999.0,9,     -999.0,1,     -999.0,1,     -999.0,9,     -999.0,9,     0.0429,1,     4.6389,1,     -999.0,9,     -999.0,9,     -999.0,9,     -999.0,9,     -999.0,9
33RR20220613,       P02E,     122,          1,          8,          8,2,20220618,       0143,    30.0015,  -158.9032,       5807,   116.0,2,  19.8641,2,  35.0540,2,-999.0000,9,    211.7,2,  -999.0,9, -999.00,9, -999.00,9, -999.00,9, -999.00,9,-999.000,9,-999.000,9,-999.0000,9,  -999.0,9,  -999.0,9,-999.0000,9,  -999.00,9, -999.00,9,  -999.0,9, -999.00,9, -999.00,9,     -999.0,9, 20220618,      204,  30.0016,-158.9032,    19.8499,2,     -999.0,9,     -999.0,9,     -999.0,9,     -999.0,9,     0.0379,1,     4.6393,1,     -999.0,1,     -999.0,9,     -999.0,1,     -999.0,9,     -999.0,9
33RR20220613,       P02E,     122,          1,         10,         10,2,20220618,       0143,    30.0015,  -158.9032,       5807,   116.6,2,  19.8287,2,  35.0485,2,-999.0000,9,    212.7,2,  -999.0,9, -999.00,9, -999.00,9, -999.00,9, -999.00,9,-999.000,9,-999.000,9,-999.0000,9,  -999.0,9,  -999.0,9,-999.0000,9,  -999.00,9, -999.00,9,  -999.0,9, -999.00,9, -999.00,9,     -999.0,9, 20220618,      204,  30.0016,-158.9032,     -999.0,9,     -999.0,9,     -999.0,9,     -999.0,9,     -999.0,9,     0.0382,1,     4.6384,1,     -999.0,9,     -999.0,1,     -999.0,9,     -999.0,9,     -999.0,9
33RR20220613,       P02E,     122,          1,          7,          7,2,20220618,       0143,    30.0015,  -158.9032,       5807,   166.1,2,  17.1657,2,  34.6801,2,-999.0000,9,    205.7,2,  -999.0,9, -999.00,9, -999.00,9, -999.00,9, -999.00,9,-999.000,9,-999.000,9,-999.0000,9,  -999.0,9,  -999.0,9,-999.0000,9,  -999.00,9, -999.00,9,  -999.0,9, -999.00,9, -999.00,9,     -999.0,9, 20220618,      202,  30.0015,-158.9032,     -999.0,9,     -999.0,1,     -999.0,1,     -999.0,9,     -999.0,9,     0.0171,1,     4.6772,1,     -999.0,9,     -999.0,9,     -999.0,9,     -999.0,9,     -999.0,9
33RR20220613,       P02E,     122,          1,          6,          6,2,20220618,       0143,    30.0015,  -158.9032,       5807,   166.2,2,  17.1658,2,  34.6800,2,-999.0000,9,    205.7,2,  -999.0,9, -999.00,9, -999.00,9, -999.00,9, -999.00,9,-999.000,9,-999.000,9,-999.0000,9,  -999.0,9,  -999.0,9,-999.0000,9,  -999.00,9, -999.00,9,  -999.0,9, -999.00,9, -999.00,9,     -999.0,9, 20220618,      202,  30.0015,-158.9032,    17.1446,2,     -999.0,9,     -999.0,9,     -999.0,9,     -999.0,9,     0.0179,1,     4.6775,1,     -999.0,1,     -999.0,9,     -999.0,1,     -999.0,9,     -999.0,9
33RR20220613,       P02E,     122,          1,          5,          5,2,20220618,       0143,    30.0015,  -158.9032,       5807,   205.1,2,  15.3623,2,  34.4991,2,-999.0000,9,    203.7,2,  -999.0,9, -999.00,9, -999.00,9, -999.00,9, -999.00,9,-999.000,9,-999.000,9,-999.0000,9,  -999.0,9,  -999.0,9,-999.0000,9,  -999.00,9, -999.00,9,  -999.0,9, -999.00,9, -999.00,9,     -999.0,9, 20220618,      200,  30.0015,-158.9032,     -999.0,9,     -999.0,1,     -999.0,1,     -999.0,9,     -999.0,9,     0.0134,1,     4.6839,1,     -999.0,9,     -999.0,9,     -999.0,9,     -999.0,9,     -999.0,9
33RR20220613,       P02E,     122,          1,          3,          3,2,20220618,       0143,    30.0015,  -158.9032,       5807,   205.8,2,  15.3440,2,  34.4973,2,-999.0000,9,    203.5,2,  -999.0,9, -999.00,9, -999.00,9, -999.00,9, -999.00,9,-999.000,9,-999.000,9,-999.0000,9,  -999.0,9,  -999.0,9,-999.0000,9,  -999.00,9, -999.00,9,  -999.0,9, -999.00,9, -999.00,9,     -999.0,9, 20220618,      159,  30.0015,-158.9032,    15.3488,2,     -999.0,9,     -999.0,9,     -999.0,9,     -999.0,9,     0.0147,1,     4.6843,1,     -999.0,9,     -999.0,1,     -999.0,1,     -999.0,9,     -999.0,9
33RR20220613,       P02E,     122,          1,          4,          4,2,20220618,       0143,    30.0015,  -158.9032,       5807,   205.8,2,  15.3434,2,  34.4965,2,-999.0000,9,    203.5,2,  -999.0,9, -999.00,9, -999.00,9, -999.00,9, -999.00,9,-999.000,9,-999.000,9,-999.0000,9,  -999.0,9,  -999.0,9,-999.0000,9,  -999.00,9, -999.00,9,  -999.0,9, -999.00,9, -999.00,9,     -999.0,9, 20220618,      159,  30.0015,-158.9032,     -999.0,9,     -999.0,9,     -999.0,9,     -999.0,9,     -999.0,9,     0.0147,1,     4.6849,1,     -999.0,1,     -999.0,9,     -999.0,9,     -999.0,9,     -999.0,9
33RR20220613,       P02E,     122,          1,          2,          2,2,20220618,       0143,    30.0015,  -158.9032,       5807,   508.7,2,   7.6242,2,  34.0173,2,-999.0000,9,    152.1,2,  -999.0,9, -999.00,9, -999.00,9, -999.00,9, -999.00,9,-999.000,9,-999.000,9,-999.0000,9,  -999.0,9,  -999.0,9,-999.0000,9,  -999.00,9, -999.00,9,  -999.0,9, -999.00,9, -999.00,9,     -999.0,9, 20220618,      153,  30.0015,-158.9032,     7.5863,2,     -999.0,9,     -999.0,9,     -999.0,9,     -999.0,9,     0.0122,1,     4.6971,1,     -999.0,9,     -999.0,9,     -999.0,1,     -999.0,9,     -999.0,9
33RR20220613,       P02E,     122,          1,          1,          1,2,20220618,       0143,    30.0015,  -158.9032,       5807,  1013.8,2,   3.7961,2,  34.3714,2,-999.0000,9,     16.9,2,  -999.0,9, -999.00,9, -999.00,9, -999.00,9, -999.00,9,-999.000,9,-999.000,9,-999.0000,9,  -999.0,9,  -999.0,9,-999.0000,9,  -999.00,9, -999.00,9,  -999.0,9, -999.00,9, -999.00,9,     -999.0,9, 20220618,      143,  30.0016,-158.9032,     3.7972,2,     -999.0,9,     -999.0,9,     -999.0,9,     -999.0,9,     0.0134,1,     4.6995,1,     -999.0,9,     -999.0,1,     -999.0,1,     -999.0,9,     -999.0,9