BOTTLE,20230830CCHSIOCBG
EXPOCODE,SECT_ID,STNNBR,CASTNO,SAMPNO,BTLNBR,BTLNBR_FLAG_W,DATE,TIME,LATITUDE,LONGITUDE,DEPTH,CTDPRS,CTDPRS_FLAG_W,CTDTMP,CTDTMP_FLAG_W,CTDSAL,CTDSAL_FLAG_W,SALNTY,SALNTY_FLAG_W,CTDOXY,CTDOXY_FLAG_W,OXYGEN,OXYGEN_FLAG_W,SILCAT,SILCAT_FLAG_W,NITRAT,NITRAT_FLAG_W,NITRIT,NITRIT_FLAG_W,PHSPHT,PHSPHT_FLAG_W,CFC-11,CFC-11_FLAG_W,CFC-12,CFC-12_FLAG_W,SF6,SF6_FLAG_W,TCARBN,TCARBN_FLAG_W,ALKALI,ALKALI_FLAG_W,PH_TOT,PH_TOT_FLAG_W,PH_TMP,PH_TMP_FLAG_W,DELC13,DELC13_FLAG_W,DELC14,DELC14_FLAG_W,DOC,DOC_FLAG_W,TDN,TDN_FLAG_W,N2O,N2O_FLAG_W,BTL_DATE,BTL_TIME,BTL_LAT,BTL_LON,REFTMP,REFTMP_FLAG_W,POC,POC_FLAG_W,PON,PON_FLAG_W,POP,POP_FLAG_W,PCOD,PCOD_FLAG_W,CTDFLUOR,CTDFLUOR_FLAG_W,CTDXMISS,CTDXMISS_FLAG_W,HPLC,HPLC_FLAG_W,DNA,DNA_FLAG_W,FCM,FCM_FLAG_W,IMAGES,IMAGES_FLAG_W,VIRAL_ABUNDANCE,VIRAL_ABUNDANCE_FLAG_W
,,,,,,,,,,,METERS,DBAR,,ITS-90,,PSS-78,,PSS-78,,UMOL/KG,,UMOL/KG,,UMOL/KG,,UMOL/KG,,UMOL/KG,,UMOL/KG,,PMOL/KG,,PMOL/KG,,FMOL/KG,,UMOL/KG,,UMOL/KG,,,,DEG C,,/MILLE,,/MILLE,,UMOL/KG,,UMOL/KG,,NMOL/KG,,,,,,ITS-90,,UG/L,,UG/L,,UG/L,,UG/L,,VOLTS,,VOLTS,,,,,,,,,,,
33RR20220613,       P02E,     141,          1,          4,          4,2,20220624,       1327,    30.0001,  -147.9343,       4651,  4066.4,2,   1.4642,2,  34.6849,2,  34.6844,2,    147.7,2,   147.5,2,  157.91,2,   36.64,2,    0.00,2,    2.86,4,-999.000,9,-999.000,9,-999.0000,9,  2330.7,2,  2425.6,2,   7.5734,2,    25.03,2, -999.00,9,  -999.0,9, -999.00,9, -999.00,9,     -999.0,9, 20220624,     1342,  30.0001,-147.9343,     1.4642,2,     -999.0,9,     -999.0,9,     -999.0,9,     -999.0,9,     0.0122,1,     4.7054,1,     -999.0,9,     -999.0,9,     -999.0,9,     -999.0,9,     -999.0,9
33RR20220613,       P02E,     141,          1,          3,          3,2,20220624,       1327,    30.0001,  -147.9343,       4651,  4374.9,2,   1.4722,2,  34.6874,3,  34.6924,2,    153.1,2,   153.1,2,  153.32,2,   36.23,2,    0.00,2,    2.79,4,   0.006,2,   0.005,2,   0.0000,2,  2325.3,2,  2422.1,2,   7.5802,2,    25.02,2, -999.00,9,  -999.0,9, -999.00,9, -999.00,9,       22.6,2, 20220624,     1335,  30.0001,-147.9343,     1.4721,2,     -999.0,9,     -999.0,9,     -999.0,9,     -999.0,9,     0.0122,1,     4.7047,1,     -999.0,9,     -999.0,9,     -999.0,9,     -999.0,9,     -999.0,9
33RR20220613,       P02E,     141,          1,          2,          2,2,20220624,       1327,    30.0001,  -147.9343,       4651,  4554.4,2,   1.4845,2,  34.6882,2,  34.6887,2,    154.7,2,   155.3,2,  151.75,2,   36.10,2,    0.00,2,    2.79,4,-999.000,9,-999.000,9,-999.0000,9,  2325.0,2,  2420.4,2,   7.5817,2,    24.97,2, -999.00,9,  -999.0,9, -999.00,9, -999.00,9,     -999.0,9, 20220624,     1331,  30.0001,-147.9343,     1.4845,2,     -999.0,9,     -999.0,9,     -999.0,9,     -999.0,9,     0.0122,1,     4.7050,1,     -999.0,9,     -999.0,9,     -999.0,9,     -999.0,9,     -999.0,9
33RR20220613,       P02E,     141,          1,          1,          1,2,20220624,       1327,    30.0001,  -147.9343,       4651,  4724.0,2,   1.4974,2,  34.6886,2,  34.6895,2,    156.5,2,   156.4,2,  150.29,2,   35.94,2,    0.00,2,    2.78,4,   0.011,2,   0.009,2,   0.0000,2,  2326.1,6,  2421.1,2,   7.5854,2,    25.02,2, -999.00,9,  -999.0,9, -999.00,9, -999.00,9,       22.0,2, 20220624,     1327,  30.0001,-147.9343,     1.4975,2,     -999.0,9,     -999.0,9,     -999.0,9,     -999.0,9,     0.0122,1,     4.7052,1,     -999.0,9,     -999.0,9,     -999.0,9,     -999.0,9,     -999.0,9