BOTTLE,20230830CCHSIOCBG
EXPOCODE,SECT_ID,STNNBR,CASTNO,SAMPNO,BTLNBR,BTLNBR_FLAG_W,DATE,TIME,LATITUDE,LONGITUDE,DEPTH,CTDPRS,CTDPRS_FLAG_W,CTDTMP,CTDTMP_FLAG_W,CTDSAL,CTDSAL_FLAG_W,SALNTY,SALNTY_FLAG_W,CTDOXY,CTDOXY_FLAG_W,OXYGEN,OXYGEN_FLAG_W,SILCAT,SILCAT_FLAG_W,NITRAT,NITRAT_FLAG_W,NITRIT,NITRIT_FLAG_W,PHSPHT,PHSPHT_FLAG_W,CFC-11,CFC-11_FLAG_W,CFC-12,CFC-12_FLAG_W,SF6,SF6_FLAG_W,TCARBN,TCARBN_FLAG_W,ALKALI,ALKALI_FLAG_W,PH_TOT,PH_TOT_FLAG_W,PH_TMP,PH_TMP_FLAG_W,DELC13,DELC13_FLAG_W,DELC14,DELC14_FLAG_W,DOC,DOC_FLAG_W,TDN,TDN_FLAG_W,N2O,N2O_FLAG_W,BTL_DATE,BTL_TIME,BTL_LAT,BTL_LON,REFTMP,REFTMP_FLAG_W,POC,POC_FLAG_W,PON,PON_FLAG_W,POP,POP_FLAG_W,PCOD,PCOD_FLAG_W,CTDFLUOR,CTDFLUOR_FLAG_W,CTDXMISS,CTDXMISS_FLAG_W,HPLC,HPLC_FLAG_W,DNA,DNA_FLAG_W,FCM,FCM_FLAG_W,IMAGES,IMAGES_FLAG_W,VIRAL_ABUNDANCE,VIRAL_ABUNDANCE_FLAG_W
,,,,,,,,,,,METERS,DBAR,,ITS-90,,PSS-78,,PSS-78,,UMOL/KG,,UMOL/KG,,UMOL/KG,,UMOL/KG,,UMOL/KG,,UMOL/KG,,PMOL/KG,,PMOL/KG,,FMOL/KG,,UMOL/KG,,UMOL/KG,,,,DEG C,,/MILLE,,/MILLE,,UMOL/KG,,UMOL/KG,,NMOL/KG,,,,,,ITS-90,,UG/L,,UG/L,,UG/L,,UG/L,,VOLTS,,VOLTS,,,,,,,,,,,
33RR20220613,       P02E,     175,          1,          4,          4,2,20220704,       1307,    29.9996,  -128.3016,       4598,  3860.3,2,   1.5080,2,  34.6782,3,  34.6853,2,    135.9,2,   136.0,2,  165.70,2,   37.30,2,    0.00,2,    2.57,2,-999.000,9,-999.000,9,-999.0000,9,  -999.0,9,  -999.0,9,-999.0000,9,  -999.00,9, -999.00,9,  -999.0,9, -999.00,9, -999.00,9,     -999.0,9, 20220704,     1324,  29.9996,-128.3016,     1.5079,2,     -999.0,9,     -999.0,9,     -999.0,9,     -999.0,9,     0.0121,1,     4.7018,1,     -999.0,9,     -999.0,9,     -999.0,9,     -999.0,9,     -999.0,9
33RR20220613,       P02E,     175,          1,          3,          3,2,20220704,       1307,    29.9996,  -128.3016,       4598,  4168.8,2,   1.5215,2,  34.6805,3,  34.6826,2,    139.1,2,   139.1,2,  163.74,2,   37.19,2,    0.00,2,    2.56,2,   0.006,2,   0.011,2,   0.0000,2,  2344.0,2,  2430.9,6,   7.5635,2,    25.01,2, -999.00,9,  -999.0,9, -999.00,9, -999.00,9,       23.0,2, 20220704,     1317,  29.9996,-128.3016,     1.5215,2,     -999.0,9,     -999.0,9,     -999.0,9,     -999.0,9,     0.0122,1,     4.7012,1,     -999.0,9,     -999.0,9,     -999.0,9,     -999.0,9,     -999.0,9
33RR20220613,       P02E,     175,          1,          2,          2,2,20220704,       1307,    29.9996,  -128.3016,       4598,  4425.3,2,   1.5453,2,  34.6814,2,  34.6810,2,    140.3,2,   140.4,2,  163.74,2,   37.11,2,    0.00,2,    2.55,2,   0.007,2,   0.014,2,   0.0000,2,  2340.8,2,  2430.5,2,   7.5652,2,    25.02,2, -999.00,9,  -999.0,9, -999.00,9, -999.00,9,       23.1,2, 20220704,     1312,  29.9996,-128.3016,     1.5453,2,     -999.0,9,     -999.0,9,     -999.0,9,     -999.0,9,     0.0122,1,     4.7007,1,     -999.0,9,     -999.0,9,     -999.0,9,     -999.0,9,     -999.0,9
33RR20220613,       P02E,     175,          1,          1,          1,2,20220704,       1307,    29.9996,  -128.3016,       4598,  4669.1,2,   1.5733,2,  34.6816,2,  34.6824,2,    140.8,2,   140.8,2,  163.35,2,   37.09,2,    0.00,2,    2.54,2,   0.009,2,   0.013,2,   0.0000,2,  2343.9,6,  2430.0,2,   7.5673,2,    25.00,2, -999.00,9,  -999.0,9, -999.00,9, -999.00,9,       23.3,2, 20220704,     1307,  29.9996,-128.3016,     1.5733,2,     -999.0,9,     -999.0,9,     -999.0,9,     -999.0,9,     0.0122,1,     4.7003,1,     -999.0,9,     -999.0,9,     -999.0,9,     -999.0,9,     -999.0,9
33RR20220613,       P02E,     176,          1,         15,         15,2,20220704,       1821,    29.9998,  -127.7248,       4490,     6.5,2,  19.3348,2,  33.5328,2,-999.0000,9,    234.7,2,  -999.0,9, -999.00,9, -999.00,9, -999.00,9, -999.00,9,-999.000,9,-999.000,9,-999.0000,9,  -999.0,9,  -999.0,9,-999.0000,9,  -999.00,9, -999.00,9,  -999.0,9, -999.00,9, -999.00,9,     -999.0,9, 20220704,     1848,  29.9999,-127.7248,     -999.0,9,     -999.0,9,     -999.0,9,     -999.0,1,     -999.0,9,     0.0134,1,     4.6173,1,     -999.0,9,     -999.0,9,     -999.0,9,     -999.0,9,     -999.0,9
33RR20220613,       P02E,     176,          1,         17,         37,2,20220704,       1821,    29.9998,  -127.7248,       4490,     6.5,2,  19.3222,2,  33.5329,2,-999.0000,9,    234.6,2,  -999.0,9, -999.00,9, -999.00,9, -999.00,9, -999.00,9,-999.000,9,-999.000,9,-999.0000,9,  -999.0,9,  -999.0,9,-999.0000,9,  -999.00,9, -999.00,9,  -999.0,9, -999.00,9, -999.00,9,     -999.0,9, 20220704,     1848,  29.9999,-127.7248,     -999.0,9,     -999.0,9,     -999.0,9,     -999.0,9,     -999.0,1,     0.0134,1,     4.6172,1,     -999.0,9,     -999.0,9,     -999.0,9,     -999.0,9,     -999.0,9
33RR20220613,       P02E,     176,          1,         18,         18,2,20220704,       1821,    29.9998,  -127.7248,       4490,     6.6,2,  19.3280,2,  33.5329,2,-999.0000,9,    234.7,2,  -999.0,9, -999.00,9, -999.00,9, -999.00,9, -999.00,9,-999.000,9,-999.000,9,-999.0000,9,  -999.0,9,  -999.0,9,-999.0000,9,  -999.00,9, -999.00,9,  -999.0,9, -999.00,9, -999.00,9,     -999.0,9, 20220704,     1848,  29.9998,-127.7248,     -999.0,9,     -999.0,9,     -999.0,9,     -999.0,9,     -999.0,1,     0.0134,1,     4.6176,1,     -999.0,9,     -999.0,9,     -999.0,9,     -999.0,9,     -999.0,9
33RR20220613,       P02E,     176,          1,         14,         42,2,20220704,       1821,    29.9998,  -127.7248,       4490,     6.6,2,  19.3275,2,  33.5326,2,-999.0000,9,    234.7,2,  -999.0,9, -999.00,9, -999.00,9, -999.00,9, -999.00,9,-999.000,9,-999.000,9,-999.0000,9,  -999.0,9,  -999.0,9,-999.0000,9,  -999.00,9, -999.00,9,  -999.0,9, -999.00,9, -999.00,9,     -999.0,9, 20220704,     1848,  29.9999,-127.7248,     -999.0,9,     -999.0,9,     -999.0,9,     -999.0,1,     -999.0,9,     0.0134,1,     4.6170,1,     -999.0,9,     -999.0,9,     -999.0,9,     -999.0,9,     -999.0,9
33RR20220613,       P02E,     176,          1,         10,         10,2,20220704,       1821,    29.9998,  -127.7248,       4490,     6.6,2,  19.3208,2,  33.5326,2,-999.0000,9,    234.6,2,  -999.0,9, -999.00,9, -999.00,9, -999.00,9, -999.00,9,-999.000,9,-999.000,9,-999.0000,9,  -999.0,9,  -999.0,9,-999.0000,9,  -999.00,9, -999.00,9,  -999.0,9, -999.00,9, -999.00,9,     -999.0,9, 20220704,     1847,  29.9999,-127.7249,     -999.0,9,     -999.0,9,     -999.0,9,     -999.0,9,     -999.0,9,     0.0134,1,     4.6181,1,     -999.0,9,     -999.0,1,     -999.0,9,     -999.0,9,     -999.0,9
33RR20220613,       P02E,     176,          1,         16,         16,2,20220704,       1821,    29.9998,  -127.7248,       4490,     6.7,2,  19.3205,2,  33.5328,2,-999.0000,9,    234.8,2,  -999.0,9, -999.00,9, -999.00,9, -999.00,9, -999.00,9,-999.000,9,-999.000,9,-999.0000,9,  -999.0,9,  -999.0,9,-999.0000,9,  -999.00,9, -999.00,9,  -999.0,9, -999.00,9, -999.00,9,     -999.0,9, 20220704,     1848,  29.9999,-127.7248,    19.3256,2,     -999.0,9,     -999.0,9,     -999.0,1,     -999.0,9,     0.0134,1,     4.6180,1,     -999.0,9,     -999.0,9,     -999.0,9,     -999.0,9,     -999.0,9
33RR20220613,       P02E,     176,          1,         12,         12,2,20220704,       1821,    29.9998,  -127.7248,       4490,     6.7,2,  19.3206,2,  33.5325,2,-999.0000,9,    234.8,2,  -999.0,9, -999.00,9, -999.00,9, -999.00,9, -999.00,9,-999.000,9,-999.000,9,-999.0000,9,  -999.0,9,  -999.0,9,-999.0000,9,  -999.00,9, -999.00,9,  -999.0,9, -999.00,9, -999.00,9,     -999.0,9, 20220704,     1847,  29.9999,-127.7249,    19.3232,2,     -999.0,1,     -999.0,1,     -999.0,9,     -999.0,9,     0.0134,1,     4.6154,1,     -999.0,9,     -999.0,9,     -999.0,9,     -999.0,9,     -999.0,9
33RR20220613,       P02E,     176,          1,         11,         11,2,20220704,       1821,    29.9998,  -127.7248,       4490,     6.7,2,  19.3276,2,  33.5329,2,-999.0000,9,    234.7,2,  -999.0,9, -999.00,9, -999.00,9, -999.00,9, -999.00,9,-999.000,9,-999.000,9,-999.0000,9,  -999.0,9,  -999.0,9,-999.0000,9,  -999.00,9, -999.00,9,  -999.0,9, -999.00,9, -999.00,9,     -999.0,9, 20220704,     1847,  29.9999,-127.7249,     -999.0,9,     -999.0,1,     -999.0,1,     -999.0,9,     -999.0,9,     0.0134,1,     4.6176,1,     -999.0,9,     -999.0,9,     -999.0,9,     -999.0,9,     -999.0,9
33RR20220613,       P02E,     176,          1,         19,         39,2,20220704,       1821,    29.9998,  -127.7248,       4490,     6.7,2,  19.3380,2,  33.5329,2,-999.0000,9,    234.8,2,  -999.0,9, -999.00,9, -999.00,9, -999.00,9, -999.00,9,-999.000,9,-999.000,9,-999.0000,9,  -999.0,9,  -999.0,9,-999.0000,9,  -999.00,9, -999.00,9,  -999.0,9, -999.00,9, -999.00,9,     -999.0,9, 20220704,     1848,  29.9998,-127.7248,    19.3364,2,     -999.0,9,     -999.0,9,     -999.0,9,     -999.0,1,     0.0134,1,     4.6167,1,     -999.0,9,     -999.0,9,     -999.0,9,     -999.0,9,     -999.0,9
33RR20220613,       P02E,     176,          1,         13,         13,2,20220704,       1821,    29.9998,  -127.7248,       4490,     6.8,2,  19.3168,2,  33.5325,2,-999.0000,9,    234.6,2,  -999.0,9, -999.00,9, -999.00,9, -999.00,9, -999.00,9,-999.000,9,-999.000,9,-999.0000,9,  -999.0,9,  -999.0,9,-999.0000,9,  -999.00,9, -999.00,9,  -999.0,9, -999.00,9, -999.00,9,     -999.0,9, 20220704,     1848,  29.9999,-127.7248,     -999.0,9,     -999.0,1,     -999.0,1,     -999.0,9,     -999.0,9,     0.0134,1,     4.6166,1,     -999.0,9,     -999.0,9,     -999.0,9,     -999.0,9,     -999.0,9
33RR20220613,       P02E,     176,          1,          9,          9,2,20220704,       1821,    29.9998,  -127.7248,       4490,     6.9,2,  19.3207,2,  33.5326,2,-999.0000,9,    234.5,2,  -999.0,9, -999.00,9, -999.00,9, -999.00,9, -999.00,9,-999.000,9,-999.000,9,-999.0000,9,  -999.0,9,  -999.0,9,-999.0000,9,  -999.00,9, -999.00,9,  -999.0,9, -999.00,9, -999.00,9,     -999.0,9, 20220704,     1847,  29.9999,-127.7249,    19.3225,2,     -999.0,9,     -999.0,9,     -999.0,9,     -999.0,9,     0.0134,1,     4.6186,1,     -999.0,1,     -999.0,9,     -999.0,1,     -999.0,9,     -999.0,9
33RR20220613,       P02E,     176,          1,          8,          8,2,20220704,       1821,    29.9998,  -127.7248,       4490,    41.6,2,  18.5632,2,  33.4898,2,-999.0000,9,    239.7,2,  -999.0,9, -999.00,9, -999.00,9, -999.00,9, -999.00,9,-999.000,9,-999.000,9,-999.0000,9,  -999.0,9,  -999.0,9,-999.0000,9,  -999.00,9, -999.00,9,  -999.0,9, -999.00,9, -999.00,9,     -999.0,9, 20220704,     1845,  29.9999,-127.7248,    18.5649,2,     -999.0,9,     -999.0,9,     -999.0,9,     -999.0,9,     0.0147,1,     4.6231,1,     -999.0,1,     -999.0,9,     -999.0,1,     -999.0,9,     -999.0,9
33RR20220613,       P02E,     176,          1,          7,          7,2,20220704,       1821,    29.9998,  -127.7248,       4490,    76.9,2,  18.0938,2,  33.7196,2,-999.0000,9,    242.4,2,  -999.0,9, -999.00,9, -999.00,9, -999.00,9, -999.00,9,-999.000,9,-999.000,9,-999.0000,9,  -999.0,9,  -999.0,9,-999.0000,9,  -999.00,9, -999.00,9,  -999.0,9, -999.00,9, -999.00,9,     -999.0,9, 20220704,     1843,  29.9999,-127.7248,    18.0926,2,     -999.0,9,     -999.0,9,     -999.0,9,     -999.0,9,     0.0192,1,     4.6309,1,     -999.0,9,     -999.0,9,     -999.0,1,     -999.0,9,     -999.0,9
33RR20220613,       P02E,     176,          1,          6,          6,2,20220704,       1821,    29.9998,  -127.7248,       4490,   101.6,2,  17.5405,2,  33.7090,2,-999.0000,9,    242.0,2,  -999.0,9, -999.00,9, -999.00,9, -999.00,9, -999.00,9,-999.000,9,-999.000,9,-999.0000,9,  -999.0,9,  -999.0,9,-999.0000,9,  -999.00,9, -999.00,9,  -999.0,9, -999.00,9, -999.00,9,     -999.0,9, 20220704,     1840,  29.9999,-127.7248,     -999.0,9,     -999.0,9,     -999.0,9,     -999.0,9,     -999.0,9,     0.0237,1,     4.6450,1,     -999.0,9,     -999.0,1,     -999.0,9,     -999.0,1,     -999.0,9
33RR20220613,       P02E,     176,          1,          5,          5,2,20220704,       1821,    29.9998,  -127.7248,       4490,   101.9,2,  17.5423,2,  33.7084,2,-999.0000,9,    241.9,2,  -999.0,9, -999.00,9, -999.00,9, -999.00,9, -999.00,9,-999.000,9,-999.000,9,-999.0000,9,  -999.0,9,  -999.0,9,-999.0000,9,  -999.00,9, -999.00,9,  -999.0,9, -999.00,9, -999.00,9,     -999.0,9, 20220704,     1840,  29.9999,-127.7248,    17.5412,2,     -999.0,9,     -999.0,9,     -999.0,9,     -999.0,9,     0.0220,1,     4.6443,1,     -999.0,1,     -999.0,9,     -999.0,1,     -999.0,1,     -999.0,9
33RR20220613,       P02E,     176,          1,          4,          4,2,20220704,       1821,    29.9998,  -127.7248,       4490,   152.7,2,  12.5355,2,  33.2873,2,-999.0000,9,    223.4,2,  -999.0,9, -999.00,9, -999.00,9, -999.00,9, -999.00,9,-999.000,9,-999.000,9,-999.0000,9,  -999.0,9,  -999.0,9,-999.0000,9,  -999.00,9, -999.00,9,  -999.0,9, -999.00,9, -999.00,9,     -999.0,9, 20220704,     1838,  29.9999,-127.7248,    12.5475,2,     -999.0,9,     -999.0,9,     -999.0,9,     -999.0,9,     0.0225,1,     4.6716,1,     -999.0,9,     -999.0,9,     -999.0,1,     -999.0,9,     -999.0,9
33RR20220613,       P02E,     176,          1,          3,          3,2,20220704,       1821,    29.9998,  -127.7248,       4490,   202.7,2,  10.1241,2,  33.6469,2,-999.0000,9,    176.7,2,  -999.0,9, -999.00,9, -999.00,9, -999.00,9, -999.00,9,-999.000,9,-999.000,9,-999.0000,9,  -999.0,9,  -999.0,9,-999.0000,9,  -999.00,9, -999.00,9,  -999.0,9, -999.00,9, -999.00,9,     -999.0,9, 20220704,     1836,  29.9999,-127.7248,    10.1233,2,     -999.0,9,     -999.0,9,     -999.0,9,     -999.0,9,     0.0137,1,     4.6859,1,     -999.0,9,     -999.0,1,     -999.0,1,     -999.0,9,     -999.0,9
33RR20220613,       P02E,     176,          1,          2,          2,2,20220704,       1821,    29.9998,  -127.7248,       4490,   504.8,2,   5.7391,2,  34.1159,2,-999.0000,9,     38.8,2,  -999.0,9, -999.00,9, -999.00,9, -999.00,9, -999.00,9,-999.000,9,-999.000,9,-999.0000,9,  -999.0,9,  -999.0,9,-999.0000,9,  -999.00,9, -999.00,9,  -999.0,9, -999.00,9, -999.00,9,     -999.0,9, 20220704,     1830,  29.9999,-127.7248,     5.7396,2,     -999.0,9,     -999.0,9,     -999.0,9,     -999.0,9,     0.0134,1,     4.6928,1,     -999.0,9,     -999.0,9,     -999.0,1,     -999.0,9,     -999.0,9
33RR20220613,       P02E,     176,          1,          1,          1,2,20220704,       1821,    29.9998,  -127.7248,       4490,  1010.5,2,   3.8486,2,  34.4650,2,-999.0000,9,     27.7,2,  -999.0,9, -999.00,9, -999.00,9, -999.00,9, -999.00,9,-999.000,9,-999.000,9,-999.0000,9,  -999.0,9,  -999.0,9,-999.0000,9,  -999.00,9, -999.00,9,  -999.0,9, -999.00,9, -999.00,9,     -999.0,9, 20220704,     1821,  29.9999,-127.7248,     3.8494,2,     -999.0,9,     -999.0,9,     -999.0,9,     -999.0,9,     0.0134,1,     4.6956,1,     -999.0,9,     -999.0,1,     -999.0,1,     -999.0,9,     -999.0,9