BOTTLE,20230830CCHSIOCBG
EXPOCODE,SECT_ID,STNNBR,CASTNO,SAMPNO,BTLNBR,BTLNBR_FLAG_W,DATE,TIME,LATITUDE,LONGITUDE,DEPTH,CTDPRS,CTDPRS_FLAG_W,CTDTMP,CTDTMP_FLAG_W,CTDSAL,CTDSAL_FLAG_W,SALNTY,SALNTY_FLAG_W,CTDOXY,CTDOXY_FLAG_W,OXYGEN,OXYGEN_FLAG_W,SILCAT,SILCAT_FLAG_W,NITRAT,NITRAT_FLAG_W,NITRIT,NITRIT_FLAG_W,PHSPHT,PHSPHT_FLAG_W,CFC-11,CFC-11_FLAG_W,CFC-12,CFC-12_FLAG_W,SF6,SF6_FLAG_W,TCARBN,TCARBN_FLAG_W,ALKALI,ALKALI_FLAG_W,PH_TOT,PH_TOT_FLAG_W,PH_TMP,PH_TMP_FLAG_W,DELC13,DELC13_FLAG_W,DELC14,DELC14_FLAG_W,DOC,DOC_FLAG_W,TDN,TDN_FLAG_W,N2O,N2O_FLAG_W,BTL_DATE,BTL_TIME,BTL_LAT,BTL_LON,REFTMP,REFTMP_FLAG_W,POC,POC_FLAG_W,PON,PON_FLAG_W,POP,POP_FLAG_W,PCOD,PCOD_FLAG_W,CTDFLUOR,CTDFLUOR_FLAG_W,CTDXMISS,CTDXMISS_FLAG_W,HPLC,HPLC_FLAG_W,DNA,DNA_FLAG_W,FCM,FCM_FLAG_W,IMAGES,IMAGES_FLAG_W,VIRAL_ABUNDANCE,VIRAL_ABUNDANCE_FLAG_W
,,,,,,,,,,,METERS,DBAR,,ITS-90,,PSS-78,,PSS-78,,UMOL/KG,,UMOL/KG,,UMOL/KG,,UMOL/KG,,UMOL/KG,,UMOL/KG,,PMOL/KG,,PMOL/KG,,FMOL/KG,,UMOL/KG,,UMOL/KG,,,,DEG C,,/MILLE,,/MILLE,,UMOL/KG,,UMOL/KG,,NMOL/KG,,,,,,ITS-90,,UG/L,,UG/L,,UG/L,,UG/L,,VOLTS,,VOLTS,,,,,,,,,,,
33RR20220613,       P02E,     197,          3,         35,         35,2,20220711,       0626,    32.0019,  -119.3499,       1789,     4.4,2,  17.7641,2,  33.5160,2,  33.5178,2,    244.0,2,   243.7,2,    0.10,2,    0.09,2,    0.01,2,    0.29,2,   2.307,2,   1.359,2,   2.1541,2,  2022.8,6,  2241.8,2,   7.9158,2,    25.00,2, -999.00,9,  -999.0,9, -999.00,9, -999.00,9,        8.8,2, 20220711,      752,  32.0019,-119.3499,    17.7618,2,     -999.0,9,     -999.0,9,     -999.0,9,     -999.0,9,     0.0458,1,     4.5626,1,     -999.0,9,     -999.0,9,     -999.0,9,     -999.0,9,     -999.0,9
33RR20220613,       P02E,     197,          3,         34,         34,2,20220711,       0626,    32.0019,  -119.3499,       1789,    20.5,2,  17.7671,2,  33.5150,2,  33.5184,2,    243.6,2,   243.8,2,    0.20,2,    0.07,2,    0.01,2,    0.28,2,   2.300,2,   1.365,2,   2.1769,2,  2023.1,2,  2240.5,6,   7.9154,2,    25.01,2, -999.00,9,  -999.0,9, -999.00,9, -999.00,9,        9.4,2, 20220711,      749,  32.0019,-119.3499,    17.7634,2,     -999.0,9,     -999.0,9,     -999.0,9,     -999.0,9,     0.0450,1,     4.5639,1,     -999.0,9,     -999.0,9,     -999.0,9,     -999.0,9,     -999.0,9
33RR20220613,       P02E,     197,          3,         33,         33,4,20220711,       0626,    32.0019,  -119.3499,       1789,    41.0,3,  16.3252,3,  33.6199,3,-999.0000,9,    253.3,3,  -999.0,9, -999.00,9, -999.00,9, -999.00,9, -999.00,9,-999.000,9,-999.000,9,-999.0000,9,  -999.0,9,  -999.0,9,-999.0000,9,  -999.00,9, -999.00,9,  -999.0,9, -999.00,9, -999.00,9,     -999.0,9, 20220711,      746,  32.0019,-119.3499,    16.3358,3,     -999.0,9,     -999.0,9,     -999.0,9,     -999.0,9,     0.0640,1,     4.5461,1,     -999.0,9,     -999.0,9,     -999.0,9,     -999.0,9,     -999.0,9
33RR20220613,       P02E,     197,          3,         32,         32,2,20220711,       0626,    32.0019,  -119.3499,       1789,    66.0,2,  11.4962,2,  33.6983,2,  33.7032,2,    178.5,2,   178.9,2,   13.68,2,   16.97,2,    0.35,2,    1.46,2,   2.873,2,   1.679,2,   2.1524,2,  -999.0,9,  -999.0,9,-999.0000,9,  -999.00,9, -999.00,9,  -999.0,9, -999.00,9, -999.00,9,       19.1,2, 20220711,      744,  32.0019,-119.3499,    11.5056,2,     -999.0,9,     -999.0,9,     -999.0,9,     -999.0,9,     0.0368,1,     4.6337,1,     -999.0,9,     -999.0,9,     -999.0,9,     -999.0,9,     -999.0,9
33RR20220613,       P02E,     197,          3,         31,         31,2,20220711,       0626,    32.0019,  -119.3499,       1789,    91.1,2,  10.0726,2,  33.8468,2,  33.8453,2,    136.6,2,   136.2,2,   23.06,2,   22.94,2,    0.03,2,    1.81,2,   2.876,2,   1.673,2,   1.8716,2,  2181.7,2,  -999.0,1,   7.5270,2,    25.01,2, -999.00,9,  -999.0,9, -999.00,9, -999.00,9,       25.5,2, 20220711,      741,  32.0019,-119.3499,    10.0962,2,     -999.0,9,     -999.0,9,     -999.0,9,     -999.0,9,     0.0147,1,     4.6678,1,     -999.0,9,     -999.0,9,     -999.0,9,     -999.0,9,     -999.0,9
33RR20220613,       P02E,     197,          3,         30,         17,2,20220711,       0626,    32.0019,  -119.3499,       1789,   116.6,2,   9.4995,2,  33.9284,2,  33.9267,2,    116.6,2,   115.7,2,   27.16,2,   24.87,2,    0.00,2,    1.94,2,   2.778,2,   1.637,2,   1.5452,2,  -999.0,9,  -999.0,9,-999.0000,9,  -999.00,9, -999.00,9,  -999.0,9, -999.00,9, -999.00,9,       28.6,2, 20220711,      739,  32.0019,-119.3499,     9.4922,2,     -999.0,9,     -999.0,9,     -999.0,9,     -999.0,9,     0.0134,1,     4.6689,1,     -999.0,9,     -999.0,9,     -999.0,9,     -999.0,9,     -999.0,9
33RR20220613,       P02E,     197,          3,         29,         29,2,20220711,       0626,    32.0019,  -119.3499,       1789,   142.3,2,   8.9363,2,  33.9899,2,  33.9872,2,    119.7,2,   120.8,2,   29.80,2,   25.34,2,    0.00,2,    1.92,2,   2.835,2,   1.648,2,   1.3706,2,  2197.4,2,  2259.1,2,   7.5107,2,    25.00,2, -999.00,9,  -999.0,9, -999.00,9, -999.00,9,       30.0,2, 20220711,      736,  32.0019,-119.3499,     8.9338,2,     -999.0,9,     -999.0,9,     -999.0,9,     -999.0,9,     0.0134,1,     4.6665,1,     -999.0,9,     -999.0,9,     -999.0,9,     -999.0,9,     -999.0,9
33RR20220613,       P02E,     197,          3,         28,         28,2,20220711,       0626,    32.0019,  -119.3499,       1789,   167.4,2,   8.8347,2,  34.0811,2,  34.0811,2,     86.0,2,    85.9,2,   35.37,2,   28.17,2,    0.00,2,    2.21,2,-999.000,9,-999.000,9,-999.0000,9,  -999.0,9,  -999.0,9,-999.0000,9,  -999.00,9, -999.00,9,  -999.0,9, -999.00,9, -999.00,9,     -999.0,9, 20220711,      734,  32.0019,-119.3499,     8.8275,2,     -999.0,9,     -999.0,9,     -999.0,9,     -999.0,9,     0.0134,1,     4.6660,1,     -999.0,9,     -999.0,9,     -999.0,9,     -999.0,9,     -999.0,9
33RR20220613,       P02E,     197,          3,         27,         27,2,20220711,       0626,    32.0019,  -119.3499,       1789,   192.3,2,   8.5770,2,  34.1222,2,  34.1234,2,     73.0,2,    72.8,2,   39.18,2,   29.62,2,    0.00,2,    2.34,2,   2.262,2,   1.315,2,   0.9207,2,  2239.4,2,  2273.6,6,   7.4208,2,    25.01,2, -999.00,9,  -999.0,9, -999.00,9, -999.00,9,       36.5,2, 20220711,      732,  32.0019,-119.3499,     8.5379,2,     -999.0,9,     -999.0,9,     -999.0,9,     -999.0,9,     0.0134,1,     4.6663,1,     -999.0,9,     -999.0,9,     -999.0,9,     -999.0,9,     -999.0,9
33RR20220613,       P02E,     197,          3,         26,         26,2,20220711,       0626,    32.0019,  -119.3499,       1789,   218.3,2,   8.4186,2,  34.1497,2,  34.1503,2,     62.1,2,    62.1,2,   41.82,2,   30.73,2,    0.00,2,    2.43,2,-999.000,9,-999.000,9,-999.0000,9,  -999.0,9,  -999.0,9,-999.0000,9,  -999.00,9, -999.00,9,  -999.0,9, -999.00,9, -999.00,9,     -999.0,9, 20220711,      730,  32.0019,-119.3499,     8.4153,2,     -999.0,9,     -999.0,9,     -999.0,9,     -999.0,9,     0.0134,1,     4.6676,1,     -999.0,9,     -999.0,9,     -999.0,9,     -999.0,9,     -999.0,9
33RR20220613,       P02E,     197,          3,         25,         25,2,20220711,       0626,    32.0019,  -119.3499,       1789,   242.3,2,   7.9083,2,  34.1170,2,  34.1183,2,     68.2,3,    67.2,2,   45.14,2,   31.66,2,    0.00,2,    2.44,2,   2.141,2,   1.221,2,   0.7820,2,  2251.7,2,  2279.3,6,   7.4011,2,    25.00,2, -999.00,9,  -999.0,9, -999.00,9, -999.00,9,       39.0,2, 20220711,      727,  32.0019,-119.3499,     7.8920,2,     -999.0,9,     -999.0,9,     -999.0,9,     -999.0,9,     0.0134,1,     4.6710,1,     -999.0,9,     -999.0,9,     -999.0,9,     -999.0,9,     -999.0,9
33RR20220613,       P02E,     197,          3,         24,         24,2,20220711,       0626,    32.0019,  -119.3499,       1789,   288.6,2,   7.7925,2,  34.2162,2,  34.2179,2,     37.7,3,    38.2,2,   51.00,2,   33.49,2,    0.00,2,    2.70,2,   1.511,2,   0.872,2,   0.6109,2,  -999.0,9,  -999.0,9,-999.0000,9,  -999.00,9, -999.00,9,  -999.0,9, -999.00,9, -999.00,9,       42.2,2, 20220711,      725,  32.0019,-119.3499,     7.7943,2,     -999.0,9,     -999.0,9,     -999.0,9,     -999.0,9,     0.0134,1,     4.6729,1,     -999.0,9,     -999.0,9,     -999.0,9,     -999.0,9,     -999.0,9
33RR20220613,       P02E,     197,          3,         23,         23,2,20220711,       0626,    32.0019,  -119.3499,       1789,   338.6,2,   7.2513,2,  34.2373,2,  34.2385,2,     27.9,3,    28.5,2,   58.23,2,   35.46,2,    0.00,2,    2.81,2,   1.168,2,   0.655,2,   0.3964,2,  2292.0,2,  2298.3,6,   7.3382,2,    25.00,2, -999.00,9,  -999.0,9, -999.00,9, -999.00,9,       45.5,2, 20220711,      722,  32.0019,-119.3499,     7.2532,2,     -999.0,9,     -999.0,9,     -999.0,9,     -999.0,9,     0.0134,1,     4.6745,1,     -999.0,9,     -999.0,9,     -999.0,9,     -999.0,9,     -999.0,9
33RR20220613,       P02E,     197,          3,         22,         22,2,20220711,       0626,    32.0019,  -119.3499,       1789,   389.2,2,   6.7551,2,  34.2406,2,  34.2411,2,     22.7,3,    23.9,2,   64.18,2,   37.01,2,    0.00,2,    2.89,2,   0.928,2,   0.514,2,   0.3460,2,  -999.0,9,  -999.0,9,-999.0000,9,  -999.00,9, -999.00,9,  -999.0,9, -999.00,9, -999.00,9,       48.2,2, 20220711,      719,  32.0019,-119.3499,     6.7537,2,     -999.0,9,     -999.0,9,     -999.0,9,     -999.0,9,     0.0134,1,     4.6734,1,     -999.0,9,     -999.0,9,     -999.0,9,     -999.0,9,     -999.0,9
33RR20220613,       P02E,     197,          3,         21,         21,2,20220711,       0626,    32.0019,  -119.3499,       1789,   439.3,2,   6.3843,2,  34.2584,2,  34.2589,2,     18.6,2,    18.7,2,   69.95,2,   38.27,2,    0.00,2,    2.97,2,   0.675,2,   0.382,2,   0.2601,2,  2310.8,2,  2309.3,2,   7.3191,2,    25.01,2, -999.00,9,  -999.0,9, -999.00,9, -999.00,9,       49.8,2, 20220711,      717,  32.0019,-119.3499,     6.3805,2,     -999.0,9,     -999.0,9,     -999.0,9,     -999.0,9,     0.0134,1,     4.6752,1,     -999.0,9,     -999.0,9,     -999.0,9,     -999.0,9,     -999.0,9
33RR20220613,       P02E,     197,          3,         20,         20,2,20220711,       0626,    32.0019,  -119.3499,       1789,   490.2,2,   6.0841,2,  34.2886,2,  34.2887,2,     14.7,2,    14.8,2,   75.32,2,   39.18,2,    0.00,2,    3.07,2,-999.000,9,-999.000,9,-999.0000,9,  -999.0,9,  -999.0,9,-999.0000,9,  -999.00,9, -999.00,9,  -999.0,9, -999.00,9, -999.00,9,     -999.0,9, 20220711,      714,  32.0019,-119.3499,     6.0831,2,     -999.0,9,     -999.0,9,     -999.0,9,     -999.0,9,     0.0134,1,     4.6763,1,     -999.0,9,     -999.0,9,     -999.0,9,     -999.0,9,     -999.0,9
33RR20220613,       P02E,     197,          3,         19,         39,2,20220711,       0626,    32.0019,  -119.3499,       1789,   539.9,2,   5.9127,2,  34.3228,2,  34.3237,2,     12.0,3,    12.2,2,   79.03,2,   39.79,2,    0.00,2,    3.10,2,   0.285,2,   0.159,2,   0.1819,2,  2323.4,2,  2324.2,2,   7.3161,2,    25.00,2, -999.00,9,  -999.0,9, -999.00,9, -999.00,9,       53.2,2, 20220711,      712,  32.0019,-119.3499,     5.9078,2,     -999.0,9,     -999.0,9,     -999.0,9,     -999.0,9,     0.0134,1,     4.6765,1,     -999.0,9,     -999.0,9,     -999.0,9,     -999.0,9,     -999.0,9
33RR20220613,       P02E,     197,          3,         18,         18,2,20220711,       0626,    32.0019,  -119.3499,       1789,   591.0,2,   5.6344,2,  34.3572,2,  34.3596,2,     10.8,2,    10.7,2,   84.40,2,   40.53,2,    0.00,2,    3.15,2,-999.000,9,-999.000,9,-999.0000,9,  2329.7,2,  2331.7,2,   7.3151,2,    25.00,2, -999.00,9,  -999.0,9, -999.00,9, -999.00,9,     -999.0,9, 20220711,      709,  32.0019,-119.3499,     5.6325,2,     -999.0,9,     -999.0,9,     -999.0,9,     -999.0,9,     0.0134,1,     4.6771,1,     -999.0,9,     -999.0,9,     -999.0,9,     -999.0,9,     -999.0,9
33RR20220613,       P02E,     197,          3,         17,         37,2,20220711,       0626,    32.0019,  -119.3499,       1789,   641.3,2,   5.3699,2,  34.3761,2,  34.3760,2,     11.1,3,    10.7,2,   88.99,2,   41.13,2,    0.00,2,    3.16,2,   0.119,2,   0.074,2,   0.1478,2,  2335.8,2,  2337.5,2,   7.3193,2,    25.01,2, -999.00,9,  -999.0,9, -999.00,9, -999.00,9,       55.5,2, 20220711,      708,  32.0019,-119.3499,     5.3706,2,     -999.0,9,     -999.0,9,     -999.0,9,     -999.0,9,     0.0134,1,     4.6776,1,     -999.0,9,     -999.0,9,     -999.0,9,     -999.0,9,     -999.0,9
33RR20220613,       P02E,     197,          3,         16,         16,2,20220711,       0626,    32.0019,  -119.3499,       1789,   692.4,2,   5.0966,2,  34.3978,2,  34.3984,2,     12.1,3,    11.6,2,   93.77,2,   41.73,2,    0.00,2,    3.19,2,-999.000,9,-999.000,9,-999.0000,9,  -999.0,9,  -999.0,9,-999.0000,9,  -999.00,9, -999.00,9,  -999.0,9, -999.00,9, -999.00,9,     -999.0,9, 20220711,      705,  32.0019,-119.3499,     5.0934,2,     -999.0,9,     -999.0,9,     -999.0,9,     -999.0,9,     0.0134,1,     4.6778,1,     -999.0,9,     -999.0,9,     -999.0,9,     -999.0,9,     -999.0,9
33RR20220613,       P02E,     197,          3,         15,         15,2,20220711,       0626,    32.0019,  -119.3499,       1789,   741.5,2,   4.8806,2,  34.4164,2,  34.4151,2,     13.4,2,    13.4,2,   97.97,2,   42.08,2,    0.00,2,    3.21,2,   0.058,2,   0.039,2,   0.2354,2,  2346.2,2,  2349.7,2,   7.3255,2,    25.01,2, -999.00,9,  -999.0,9, -999.00,9, -999.00,9,       56.2,2, 20220711,      703,  32.0019,-119.3499,     4.8775,2,     -999.0,9,     -999.0,9,     -999.0,9,     -999.0,9,     0.0134,1,     4.6779,1,     -999.0,9,     -999.0,9,     -999.0,9,     -999.0,9,     -999.0,9
33RR20220613,       P02E,     197,          3,         14,         42,2,20220711,       0626,    32.0019,  -119.3499,       1789,   793.2,2,   4.7442,2,  34.4281,2,  34.4279,2,     14.5,2,    14.4,2,  100.81,2,   42.38,2,    0.00,2,    3.21,2,-999.000,9,-999.000,9,-999.0000,9,  -999.0,9,  -999.0,9,-999.0000,9,  -999.00,9, -999.00,9,  -999.0,9, -999.00,9, -999.00,9,     -999.0,9, 20220711,      701,  32.0019,-119.3499,     4.7426,2,     -999.0,9,     -999.0,9,     -999.0,9,     -999.0,9,     0.0134,1,     4.6794,1,     -999.0,9,     -999.0,9,     -999.0,9,     -999.0,9,     -999.0,9
33RR20220613,       P02E,     197,          3,         13,         13,2,20220711,       0626,    32.0019,  -119.3499,       1789,   843.9,2,   4.5959,2,  34.4405,2,  34.4404,2,     15.9,3,    15.6,2,  104.03,2,   42.49,2,    0.00,2,    3.22,2,   0.042,2,   0.032,2,   0.3227,2,  2353.3,2,  2357.8,2,   7.3301,2,    25.01,2, -999.00,9,  -999.0,9, -999.00,9, -999.00,9,       56.9,2, 20220711,      659,  32.0018,-119.3499,     4.5936,2,     -999.0,9,     -999.0,9,     -999.0,9,     -999.0,9,     0.0134,1,     4.6459,1,     -999.0,9,     -999.0,9,     -999.0,9,     -999.0,9,     -999.0,9
33RR20220613,       P02E,     197,          3,         12,         12,2,20220711,       0626,    32.0019,  -119.3499,       1789,   894.5,2,   4.4040,2,  34.4557,2,  34.4553,2,     17.8,2,    17.6,2,  108.42,2,   42.63,2,    0.00,2,    3.22,2,-999.000,9,-999.000,9,-999.0000,9,  -999.0,9,  -999.0,9,-999.0000,9,  -999.00,9, -999.00,9,  -999.0,9, -999.00,9, -999.00,9,     -999.0,9, 20220711,      657,  32.0018,-119.3498,     4.4048,2,     -999.0,9,     -999.0,9,     -999.0,9,     -999.0,9,     0.0134,1,     4.6788,1,     -999.0,9,     -999.0,9,     -999.0,9,     -999.0,9,     -999.0,9
33RR20220613,       P02E,     197,          3,         11,         11,2,20220711,       0626,    32.0019,  -119.3499,       1789,   944.6,2,   4.2667,2,  34.4660,2,  34.4661,2,     19.7,2,    19.7,2,  111.06,2,   42.82,2,    0.00,2,    3.21,2,   0.033,2,   0.028,2,   0.4386,2,  2357.2,2,  2366.0,2,   7.3384,2,    25.00,2, -999.00,9,  -999.0,9, -999.00,9, -999.00,9,       53.5,2, 20220711,      655,  32.0019,-119.3499,     4.2699,2,     -999.0,9,     -999.0,9,     -999.0,9,     -999.0,9,     0.0134,1,     4.6789,1,     -999.0,9,     -999.0,9,     -999.0,9,     -999.0,9,     -999.0,9
33RR20220613,       P02E,     197,          3,         10,         10,2,20220711,       0626,    32.0019,  -119.3499,       1789,  1020.6,2,   4.0776,2,  34.4804,2,  34.4795,2,     22.1,2,    22.1,2,  115.94,2,   42.87,2,    0.00,2,    3.23,2,-999.000,9,-999.000,9,-999.0000,9,  -999.0,9,  -999.0,9,-999.0000,9,  -999.00,9, -999.00,9,  -999.0,9, -999.00,9, -999.00,9,     -999.0,9, 20220711,      652,  32.0019,-119.3499,     4.0766,2,     -999.0,9,     -999.0,9,     -999.0,9,     -999.0,9,     0.0134,1,     4.6770,1,     -999.0,9,     -999.0,9,     -999.0,9,     -999.0,9,     -999.0,9
33RR20220613,       P02E,     197,          3,          9,          9,2,20220711,       0626,    32.0019,  -119.3499,       1789,  1096.6,2,   3.8981,2,  34.4938,2,  34.4948,2,     25.7,2,    25.6,2,  119.26,2,   43.05,2,    0.00,2,    3.19,2,   0.028,2,   0.026,2,   0.6310,2,  2362.2,2,  2376.0,2,   7.3501,2,    25.02,2, -999.00,9,  -999.0,9, -999.00,9, -999.00,9,       50.9,2, 20220711,      649,  32.0019,-119.3499,     3.8968,2,     -999.0,9,     -999.0,9,     -999.0,9,     -999.0,9,     0.0134,1,     4.6802,1,     -999.0,9,     -999.0,9,     -999.0,9,     -999.0,9,     -999.0,9
33RR20220613,       P02E,     197,          3,          8,          8,2,20220711,       0626,    32.0019,  -119.3499,       1789,  1172.5,2,   3.7353,2,  34.5058,2,  34.5056,2,     28.4,2,    28.6,2,  123.07,2,   42.99,2,    0.00,2,    3.18,2,-999.000,9,-999.000,9,-999.0000,9,  -999.0,9,  -999.0,9,-999.0000,9,  -999.00,9, -999.00,9,  -999.0,9, -999.00,9, -999.00,9,     -999.0,9, 20220711,      647,  32.0018,-119.3499,     3.7357,2,     -999.0,9,     -999.0,9,     -999.0,9,     -999.0,9,     0.0133,1,     4.6798,1,     -999.0,9,     -999.0,9,     -999.0,9,     -999.0,9,     -999.0,9
33RR20220613,       P02E,     197,          3,          7,          7,2,20220711,       0626,    32.0019,  -119.3499,       1789,  1248.1,2,   3.5106,2,  34.5224,2,  34.5239,2,     32.7,2,    32.9,2,  128.54,2,   42.84,2,    0.00,2,    3.16,2,   0.046,2,   0.034,2,   0.4234,2,  2370.5,3,  2386.4,2,   7.3640,2,    25.01,2, -999.00,9,  -999.0,9, -999.00,9, -999.00,9,       47.2,2, 20220711,      644,  32.0019,-119.3499,     3.5106,2,     -999.0,9,     -999.0,9,     -999.0,9,     -999.0,9,     0.0134,1,     4.6800,1,     -999.0,9,     -999.0,9,     -999.0,9,     -999.0,9,     -999.0,9
33RR20220613,       P02E,     197,          3,          6,          6,2,20220711,       0626,    32.0019,  -119.3499,       1789,  1349.3,2,   3.3283,2,  34.5343,2,  34.5337,2,     36.6,2,    36.6,2,  133.03,2,   42.70,2,    0.00,2,    3.14,2,   0.051,2,   0.042,2,   0.4509,2,  2372.7,2,  2392.1,2,   7.3724,2,    25.00,2, -999.00,9,  -999.0,9, -999.00,9, -999.00,9,       44.4,2, 20220711,      640,  32.0018,-119.3499,     3.3280,2,     -999.0,9,     -999.0,9,     -999.0,9,     -999.0,9,     0.0134,1,     4.6779,1,     -999.0,9,     -999.0,9,     -999.0,9,     -999.0,9,     -999.0,9
33RR20220613,       P02E,     197,          3,          5,          5,2,20220711,       0626,    32.0019,  -119.3499,       1789,  1451.5,2,   3.1389,2,  34.5495,2,  34.5500,2,     41.8,2,    42.0,2,  137.13,2,   42.65,2,    0.00,2,    3.10,2,   0.046,2,   0.032,2,   0.1984,2,  2372.2,2,  2397.0,6,   7.3827,2,    25.01,2, -999.00,9,  -999.0,9, -999.00,9, -999.00,9,       43.8,2, 20220711,      638,  32.0019,-119.3499,     3.1377,2,     -999.0,9,     -999.0,9,     -999.0,9,     -999.0,9,     0.0134,1,     4.6811,1,     -999.0,9,     -999.0,9,     -999.0,9,     -999.0,9,     -999.0,9
33RR20220613,       P02E,     197,          3,          4,          4,2,20220711,       0626,    32.0019,  -119.3499,       1789,  1552.5,2,   2.9297,2,  34.5649,2,  34.5643,2,     47.8,2,    47.9,2,  141.52,2,   42.49,2,    0.00,2,    3.09,2,   0.034,2,   0.029,2,   0.1283,2,  -999.0,9,  -999.0,9,-999.0000,9,  -999.00,9, -999.00,9,  -999.0,9, -999.00,9, -999.00,9,       42.2,2, 20220711,      635,  32.0018,-119.3498,     2.9299,2,     -999.0,9,     -999.0,9,     -999.0,9,     -999.0,9,     0.0134,1,     4.6790,1,     -999.0,9,     -999.0,9,     -999.0,9,     -999.0,9,     -999.0,9