BOTTLE,20230830CCHSIOCBG
EXPOCODE,SECT_ID,STNNBR,CASTNO,SAMPNO,BTLNBR,BTLNBR_FLAG_W,DATE,TIME,LATITUDE,LONGITUDE,DEPTH,CTDPRS,CTDPRS_FLAG_W,CTDTMP,CTDTMP_FLAG_W,CTDSAL,CTDSAL_FLAG_W,SALNTY,SALNTY_FLAG_W,CTDOXY,CTDOXY_FLAG_W,OXYGEN,OXYGEN_FLAG_W,SILCAT,SILCAT_FLAG_W,NITRAT,NITRAT_FLAG_W,NITRIT,NITRIT_FLAG_W,PHSPHT,PHSPHT_FLAG_W,CFC-11,CFC-11_FLAG_W,CFC-12,CFC-12_FLAG_W,SF6,SF6_FLAG_W,TCARBN,TCARBN_FLAG_W,ALKALI,ALKALI_FLAG_W,PH_TOT,PH_TOT_FLAG_W,PH_TMP,PH_TMP_FLAG_W,DELC13,DELC13_FLAG_W,DELC14,DELC14_FLAG_W,DOC,DOC_FLAG_W,TDN,TDN_FLAG_W,N2O,N2O_FLAG_W,BTL_DATE,BTL_TIME,BTL_LAT,BTL_LON,REFTMP,REFTMP_FLAG_W,POC,POC_FLAG_W,PON,PON_FLAG_W,POP,POP_FLAG_W,PCOD,PCOD_FLAG_W,CTDFLUOR,CTDFLUOR_FLAG_W,CTDXMISS,CTDXMISS_FLAG_W,HPLC,HPLC_FLAG_W,DNA,DNA_FLAG_W,FCM,FCM_FLAG_W,IMAGES,IMAGES_FLAG_W,VIRAL_ABUNDANCE,VIRAL_ABUNDANCE_FLAG_W
,,,,,,,,,,,METERS,DBAR,,ITS-90,,PSS-78,,PSS-78,,UMOL/KG,,UMOL/KG,,UMOL/KG,,UMOL/KG,,UMOL/KG,,UMOL/KG,,PMOL/KG,,PMOL/KG,,FMOL/KG,,UMOL/KG,,UMOL/KG,,,,DEG C,,/MILLE,,/MILLE,,UMOL/KG,,UMOL/KG,,NMOL/KG,,,,,,ITS-90,,UG/L,,UG/L,,UG/L,,UG/L,,VOLTS,,VOLTS,,,,,,,,,,,
33RR20220613,       P02E,     186,          2,         36,         36,2,20220715,       0610,    30.4969,  -122.1468,       4048,     3.3,2,  17.5957,2,  33.2524,2,  33.2615,2,    250.6,2,   250.1,2,    0.88,2,    1.51,2,    0.07,2,    0.43,2,   2.301,2,   1.413,2,   2.3632,2,  2018.4,2,  2224.2,2,   7.8898,2,    25.01,2, -999.00,9,  -999.0,9, -999.00,1, -999.00,1,       11.0,2, 20220715,      806,  30.4969,-122.1468,    17.5878,2,     -999.0,9,     -999.0,9,     -999.0,9,     -999.0,9,     0.0517,1,     4.5356,1,     -999.0,9,     -999.0,9,     -999.0,9,     -999.0,9,     -999.0,9
33RR20220613,       P02E,     186,          2,         35,         35,2,20220715,       0610,    30.4969,  -122.1468,       4048,    35.7,2,  15.2744,2,  33.3352,2,  33.3498,2,    261.6,2,   261.9,2,    0.49,2,    2.90,2,    0.13,2,    0.54,2,   2.525,2,   1.527,2,   2.4822,2,  2031.3,2,  2230.6,2,   7.8676,2,    25.00,2, -999.00,9,  -999.0,9, -999.00,1, -999.00,1,       12.2,2, 20220715,      802,  30.4969,-122.1468,    15.2667,2,     -999.0,9,     -999.0,9,     -999.0,9,     -999.0,9,     0.0474,1,     4.5943,1,     -999.0,9,     -999.0,9,     -999.0,9,     -999.0,9,     -999.0,9
33RR20220613,       P02E,     186,          2,         34,         34,2,20220715,       0610,    30.4969,  -122.1468,       4048,    60.8,2,  12.9469,2,  33.1622,2,  33.1706,2,    247.1,2,   249.0,2,    3.23,2,    5.31,2,    0.54,2,    0.79,2,   2.782,2,   1.673,2,   2.7367,2,  -999.0,9,  -999.0,9,-999.0000,9,  -999.00,9, -999.00,9,  -999.0,9, -999.00,1, -999.00,1,       12.8,2, 20220715,      801,  30.4969,-122.1468,    12.8308,3,     -999.0,9,     -999.0,9,     -999.0,9,     -999.0,9,     0.0386,1,     4.6194,1,     -999.0,9,     -999.0,9,     -999.0,9,     -999.0,9,     -999.0,9
33RR20220613,       P02E,     186,          2,         33,         33,2,20220715,       0610,    30.4969,  -122.1468,       4048,    85.7,2,  11.6363,2,  33.2889,2,  33.3012,2,    223.5,2,   223.8,2,    7.43,2,   11.55,2,    0.05,2,    1.05,2,   2.884,2,   1.741,2,   2.6497,2,  2087.9,2,  2219.4,2,   7.7150,2,    25.00,2, -999.00,9,  -999.0,9, -999.00,1, -999.00,1,       14.9,2, 20220715,      759,  30.4969,-122.1468,    11.6908,2,     -999.0,9,     -999.0,9,     -999.0,9,     -999.0,9,     0.0212,1,     4.6400,1,     -999.0,9,     -999.0,9,     -999.0,9,     -999.0,9,     -999.0,9
33RR20220613,       P02E,     186,          2,         32,         32,2,20220715,       0610,    30.4969,  -122.1468,       4048,   111.8,2,  10.9806,2,  33.5681,2,  33.5730,2,    187.8,2,   187.5,2,   13.79,2,   17.39,2,    0.03,2,    1.42,2,   2.858,2,   1.738,2,   2.3705,2,  -999.0,9,  -999.0,9,-999.0000,9,  -999.00,9, -999.00,9,  -999.0,9, -999.00,1, -999.00,1,       18.1,2, 20220715,      756,  30.4969,-122.1468,    10.9672,3,     -999.0,9,     -999.0,9,     -999.0,9,     -999.0,9,     0.0147,1,     4.6441,1,     -999.0,9,     -999.0,9,     -999.0,9,     -999.0,9,     -999.0,9
33RR20220613,       P02E,     186,          2,         31,         31,2,20220715,       0610,    30.4969,  -122.1468,       4048,   136.5,2,   9.9461,2,  33.7187,2,  33.7190,2,    149.3,2,   149.2,2,   20.14,2,   21.36,2,    0.02,2,    1.65,2,   2.963,2,   1.752,2,   2.0614,2,  2161.3,2,  2239.7,2,   7.5522,2,    25.01,2, -999.00,9,  -999.0,9, -999.00,1, -999.00,1,       23.4,2, 20220715,      754,  30.4969,-122.1468,     9.9678,2,     -999.0,9,     -999.0,9,     -999.0,9,     -999.0,9,     0.0134,1,     4.6467,1,     -999.0,9,     -999.0,9,     -999.0,9,     -999.0,9,     -999.0,9
33RR20220613,       P02E,     186,          2,         30,         17,2,20220715,       0610,    30.4969,  -122.1468,       4048,   167.6,2,   9.1772,2,  33.8838,2,  33.8901,2,    138.5,3,   136.8,2,   24.54,2,   22.58,2,    0.00,2,    1.72,2,   2.875,2,   1.745,2,   1.7945,2,  -999.0,9,  -999.0,9,-999.0000,9,  -999.00,9, -999.00,9,  -999.0,9, -999.00,1, -999.00,1,       27.4,2, 20220715,      752,  30.4969,-122.1468,     9.1722,2,     -999.0,9,     -999.0,9,     -999.0,9,     -999.0,9,     0.0134,1,     4.6467,1,     -999.0,9,     -999.0,9,     -999.0,9,     -999.0,9,     -999.0,9
33RR20220613,       P02E,     186,          2,         29,         29,2,20220715,       0610,    30.4969,  -122.1468,       4048,   217.9,2,   8.4767,2,  34.0139,2,  34.0139,2,    110.6,3,   112.7,2,   34.02,2,   27.23,2,    0.00,2,    1.95,2,   2.682,2,   1.603,2,   1.3089,2,  2206.9,2,  2263.4,2,   7.4861,2,    25.04,2, -999.00,9,  -999.0,9, -999.00,1, -999.00,1,       34.0,2, 20220715,      750,  30.4969,-122.1468,     8.4648,2,     -999.0,9,     -999.0,9,     -999.0,9,     -999.0,9,     0.0134,1,     4.6486,1,     -999.0,9,     -999.0,9,     -999.0,9,     -999.0,9,     -999.0,9
33RR20220613,       P02E,     186,          2,         28,         28,2,20220715,       0610,    30.4969,  -122.1468,       4048,   268.2,2,   7.6760,2,  34.0518,2,  34.0537,2,     83.0,2,    82.8,2,   44.48,2,   31.38,2,    0.00,2,    2.30,2,   2.302,2,   1.376,2,   0.9825,2,  -999.0,9,  -999.0,9,-999.0000,9,  -999.00,9, -999.00,9,  -999.0,9, -999.00,1, -999.00,1,       40.3,2, 20220715,      746,  30.4969,-122.1468,     7.6793,2,     -999.0,9,     -999.0,9,     -999.0,9,     -999.0,9,     0.0134,1,     4.6521,1,     -999.0,9,     -999.0,9,     -999.0,9,     -999.0,9,     -999.0,9
33RR20220613,       P02E,     186,          2,         27,         27,2,20220715,       0610,    30.4969,  -122.1468,       4048,   318.1,2,   6.9823,2,  34.0773,2,  34.0801,2,     61.8,2,    61.9,2,   54.45,2,   34.32,2,    0.00,2,    2.54,2,   1.899,2,   1.120,2,   0.7263,2,  2262.8,2,  2282.7,2,   7.3746,2,    24.99,2, -999.00,9,  -999.0,9, -999.00,1, -999.00,1,       44.9,2, 20220715,      745,  30.4969,-122.1468,     6.9845,2,     -999.0,9,     -999.0,9,     -999.0,9,     -999.0,9,     0.0134,1,     4.6535,1,     -999.0,9,     -999.0,9,     -999.0,9,     -999.0,9,     -999.0,9
33RR20220613,       P02E,     186,          2,         26,         26,2,20220715,       0610,    30.4969,  -122.1468,       4048,   368.4,2,   6.5380,2,  34.1168,2,  34.1176,2,     44.9,2,    45.2,2,   61.68,2,   36.41,2,    0.00,2,    2.73,2,   1.506,2,   0.866,2,   0.5608,2,  -999.0,9,  -999.0,9,-999.0000,9,  -999.00,9, -999.00,9,  -999.0,9, -999.00,1, -999.00,1,       49.8,2, 20220715,      743,  30.4969,-122.1468,     6.5343,2,     -999.0,9,     -999.0,9,     -999.0,9,     -999.0,9,     0.0134,1,     4.6554,1,     -999.0,9,     -999.0,9,     -999.0,9,     -999.0,9,     -999.0,9
33RR20220613,       P02E,     186,          2,         25,         25,2,20220715,       0610,    30.4969,  -122.1468,       4048,   419.2,2,   6.2538,2,  34.1705,2,  34.1703,2,     29.8,3,    30.2,2,   68.23,2,   38.09,2,    0.00,2,    2.88,2,   1.085,2,   0.617,2,   0.4188,2,  2294.7,2,  2300.3,2,   7.3226,2,    24.99,2, -999.00,9,  -999.0,9, -999.00,1, -999.00,1,       55.8,2, 20220715,      740,  30.4969,-122.1468,     6.2617,2,     -999.0,9,     -999.0,9,     -999.0,9,     -999.0,9,     0.0134,1,     4.6546,1,     -999.0,9,     -999.0,9,     -999.0,9,     -999.0,9,     -999.0,9
33RR20220613,       P02E,     186,          2,         24,         24,2,20220715,       0610,    30.4969,  -122.1468,       4048,   469.6,2,   5.8919,2,  34.2220,2,  34.2209,2,     20.3,3,    20.7,2,   75.75,2,   39.23,2,    0.00,2,    2.98,2,   0.682,2,   0.386,2,   0.3522,2,  -999.0,9,  -999.0,9,-999.0000,9,  -999.00,9, -999.00,9,  -999.0,9, -999.00,1, -999.00,1,       61.4,2, 20220715,      738,  30.4969,-122.1468,     5.8955,2,     -999.0,9,     -999.0,9,     -999.0,9,     -999.0,9,     0.0134,1,     4.6605,1,     -999.0,9,     -999.0,9,     -999.0,9,     -999.0,9,     -999.0,9
33RR20220613,       P02E,     186,          2,         23,         23,2,20220715,       0610,    30.4969,  -122.1468,       4048,   539.4,2,   5.4385,2,  34.2610,2,  34.2615,2,     15.3,3,    16.0,2,   84.74,2,   40.80,2,    0.00,2,    3.08,2,   0.386,2,   0.212,2,   0.2943,2,  2324.2,2,  2323.3,2,   7.3096,2,    24.99,2, -999.00,9,  -999.0,9, -999.00,1, -999.00,1,       70.9,2, 20220715,      735,  30.4969,-122.1468,     5.4281,2,     -999.0,9,     -999.0,9,     -999.0,9,     -999.0,9,     0.0134,1,     4.6630,1,     -999.0,9,     -999.0,9,     -999.0,9,     -999.0,9,     -999.0,9
33RR20220613,       P02E,     186,          2,         22,         22,2,20220715,       0610,    30.4969,  -122.1468,       4048,   641.1,2,   4.9700,2,  34.3371,2,  34.3376,2,     12.4,2,    12.3,2,   95.00,2,   41.99,2,    0.00,2,    3.17,2,   0.121,2,   0.073,2,   0.1940,2,  2338.3,2,  2338.3,2,   7.3120,2,    24.99,2, -999.00,9,  -999.0,9, -999.00,1, -999.00,1,       70.9,2, 20220715,      732,  30.4969,-122.1468,     4.9701,2,     -999.0,9,     -999.0,9,     -999.0,9,     -999.0,9,     0.0134,1,     4.6650,1,     -999.0,9,     -999.0,9,     -999.0,9,     -999.0,9,     -999.0,9
33RR20220613,       P02E,     186,          2,         21,         21,2,20220715,       0610,    30.4969,  -122.1468,       4048,   741.7,2,   4.6777,2,  34.3962,2,  34.3965,2,     13.7,2,    13.7,2,  101.15,2,   42.60,2,    0.00,2,    3.19,2,   0.047,2,   0.031,2,   0.1643,2,  2346.5,2,  2351.3,2,   7.3221,2,    24.99,2, -999.00,9,  -999.0,9, -999.00,1, -999.00,1,       74.0,2, 20220715,      729,  30.4969,-122.1468,     4.6782,2,     -999.0,9,     -999.0,9,     -999.0,9,     -999.0,9,     0.0134,1,     4.6653,1,     -999.0,9,     -999.0,9,     -999.0,9,     -999.0,9,     -999.0,9
33RR20220613,       P02E,     186,          2,         20,         20,2,20220715,       0610,    30.4969,  -122.1468,       4048,   843.9,2,   4.3743,2,  34.4373,2,  34.4396,2,     17.4,3,    17.2,2,  107.99,2,   42.87,2,    0.00,2,    3.19,2,   0.025,2,   0.020,2,   0.1464,2,  -999.0,9,  -999.0,9,-999.0000,9,  -999.00,9, -999.00,9,  -999.0,9, -999.00,1, -999.00,1,       70.0,2, 20220715,      725,  30.4969,-122.1468,     4.3749,2,     -999.0,9,     -999.0,9,     -999.0,9,     -999.0,9,     0.0134,1,     4.6656,1,     -999.0,9,     -999.0,9,     -999.0,9,     -999.0,9,     -999.0,9
33RR20220613,       P02E,     186,          2,         19,         39,2,20220715,       0610,    30.4969,  -122.1468,       4048,   943.9,2,   4.0789,2,  34.4645,2,  34.4646,2,     21.6,2,    21.5,2,  113.95,2,   43.12,2,    0.00,2,    3.18,2,   0.022,2,   0.012,2,   0.1605,2,  2358.5,2,  2369.1,2,   7.3417,2,    24.98,2, -999.00,9,  -999.0,9, -999.00,1, -999.00,1,       66.0,2, 20220715,      723,  30.4969,-122.1468,     4.0783,2,     -999.0,9,     -999.0,9,     -999.0,9,     -999.0,9,     0.0134,1,     4.6653,1,     -999.0,9,     -999.0,9,     -999.0,9,     -999.0,9,     -999.0,9
33RR20220613,       P02E,     186,          2,         18,         18,2,20220715,       0610,    30.4969,  -122.1468,       4048,  1046.0,2,   3.7933,2,  34.4897,2,  34.4893,2,     26.8,3,    26.5,2,  120.10,2,   43.19,2,    0.00,2,    3.17,2,   0.021,2,   0.011,2,   0.0000,2,  -999.0,9,  -999.0,9,-999.0000,9,  -999.00,9, -999.00,9,  -999.0,9, -999.00,1, -999.00,1,       62.2,2, 20220715,      721,  30.4969,-122.1468,     3.7947,2,     -999.0,9,     -999.0,9,     -999.0,9,     -999.0,9,     0.0134,1,     4.6665,1,     -999.0,9,     -999.0,9,     -999.0,9,     -999.0,9,     -999.0,9
33RR20220613,       P02E,     186,          2,         17,         37,4,20220715,       0610,    30.4969,  -122.1468,       4048,  1146.1,3,   3.5488,3,  34.5116,3,  34.2326,3,     32.2,3,    19.2,3,   77.49,3,   39.59,3,    0.00,3,    3.00,3,-999.000,5,-999.000,5,-999.0000,5,  2312.7,4,  2312.6,3,   7.3113,3,    25.00,3, -999.00,9,  -999.0,9, -999.00,1, -999.00,1,     -999.0,5, 20220715,      717,  30.4969,-122.1468,     3.5484,3,     -999.0,9,     -999.0,9,     -999.0,9,     -999.0,9,     0.0134,1,     4.6678,1,     -999.0,9,     -999.0,9,     -999.0,9,     -999.0,9,     -999.0,9
33RR20220613,       P02E,     186,          2,         16,         16,2,20220715,       0610,    30.4969,  -122.1468,       4048,  1248.5,2,   3.3300,2,  34.5264,2,  34.5264,2,     36.5,2,    36.4,2,  131.14,2,   42.81,2,    0.00,2,    3.12,2,   0.013,2,   0.013,2,   0.1427,2,  -999.0,9,  -999.0,9,-999.0000,9,  -999.00,9, -999.00,9,  -999.0,9, -999.00,1, -999.00,1,       54.3,2, 20220715,      715,  30.4969,-122.1467,     3.3275,2,     -999.0,9,     -999.0,9,     -999.0,9,     -999.0,9,     0.0134,1,     4.6684,1,     -999.0,9,     -999.0,9,     -999.0,9,     -999.0,9,     -999.0,9
33RR20220613,       P02E,     186,          2,         15,         15,2,20220715,       0610,    30.4969,  -122.1468,       4048,  1348.0,2,   3.1265,2,  34.5443,2,  34.5441,2,     41.6,2,    41.6,2,  136.51,2,   42.77,2,    0.00,2,    3.11,2,   0.012,2,   0.011,2,   0.0000,2,  2371.2,2,  2393.2,2,   7.3795,2,    24.99,2, -999.00,9,  -999.0,9, -999.00,1, -999.00,1,       50.5,2, 20220715,      713,  30.4969,-122.1469,     3.1262,2,     -999.0,9,     -999.0,9,     -999.0,9,     -999.0,9,     0.0134,1,     4.6691,1,     -999.0,9,     -999.0,9,     -999.0,9,     -999.0,9,     -999.0,9
33RR20220613,       P02E,     186,          2,         14,         42,2,20220715,       0610,    30.4969,  -122.1468,       4048,  1450.5,2,   2.9341,2,  34.5574,2,  34.5610,2,     46.5,2,    46.4,2,  141.40,2,   42.40,2,    0.00,2,    3.07,2,   0.015,2,   0.015,2,   0.1012,2,  -999.0,9,  -999.0,9,-999.0000,9,  -999.00,9, -999.00,9,  -999.0,9, -999.00,1, -999.00,1,       47.5,2, 20220715,      709,  30.4969,-122.1469,     2.9343,2,     -999.0,9,     -999.0,9,     -999.0,9,     -999.0,9,     0.0134,1,     4.6700,1,     -999.0,9,     -999.0,9,     -999.0,9,     -999.0,9,     -999.0,9
33RR20220613,       P02E,     186,          2,         13,         13,2,20220715,       0610,    30.4969,  -122.1468,       4048,  1552.5,2,   2.7049,2,  34.5735,2,  34.5720,2,     53.2,2,    53.2,2,  147.26,2,   42.09,2,    0.00,2,    3.04,2,   0.010,2,   0.009,2,   0.0000,2,  2373.0,2,  2403.8,2,   7.4019,2,    24.99,2, -999.00,9,  -999.0,9, -999.00,1, -999.00,1,       45.6,2, 20220715,      707,  30.4968,-122.1469,     2.7058,2,     -999.0,9,     -999.0,9,     -999.0,9,     -999.0,9,     0.0134,1,     4.6695,1,     -999.0,9,     -999.0,9,     -999.0,9,     -999.0,9,     -999.0,9
33RR20220613,       P02E,     186,          2,         12,         12,2,20220715,       0610,    30.4969,  -122.1468,       4048,  1653.3,2,   2.5483,2,  34.5864,2,  34.5859,2,     59.3,2,    59.6,2,  150.48,2,   41.58,2,    0.00,2,    3.00,2,   0.009,2,   0.007,2,   0.0000,2,  -999.0,9,  -999.0,9,-999.0000,9,  -999.00,9, -999.00,9,  -999.0,9, -999.00,1, -999.00,1,       42.0,2, 20220715,      704,  30.4969,-122.1469,     2.5478,2,     -999.0,9,     -999.0,9,     -999.0,9,     -999.0,9,     0.0134,1,     4.6702,1,     -999.0,9,     -999.0,9,     -999.0,9,     -999.0,9,     -999.0,9
33RR20220613,       P02E,     186,          2,         11,         11,2,20220715,       0610,    30.4969,  -122.1468,       4048,  1755.7,2,   2.4175,2,  34.5977,2,  34.5995,2,     65.2,2,    65.3,2,  153.02,2,   41.09,2,    0.00,2,    2.98,2,   0.010,2,   0.006,2,   0.0000,2,  2373.3,2,  2412.3,2,   7.4251,2,    24.99,2, -999.00,9,  -999.0,9, -999.00,1, -999.00,1,       39.6,2, 20220715,      701,  30.4969,-122.1469,     2.4175,2,     -999.0,9,     -999.0,9,     -999.0,9,     -999.0,9,     0.0133,1,     4.6705,1,     -999.0,9,     -999.0,9,     -999.0,9,     -999.0,9,     -999.0,9
33RR20220613,       P02E,     186,          2,         10,         10,2,20220715,       0610,    30.4969,  -122.1468,       4048,  1887.9,2,   2.2369,2,  34.6122,2,  34.6121,2,     73.9,2,    74.2,2,  156.63,2,   40.61,2,    0.00,2,    2.93,2,   0.010,2,   0.008,2,   0.0000,2,  -999.0,9,  -999.0,9,-999.0000,9,  -999.00,9, -999.00,9,  -999.0,9, -999.00,1, -999.00,1,       36.3,2, 20220715,      658,  30.4969,-122.1469,     2.2367,2,     -999.0,9,     -999.0,9,     -999.0,9,     -999.0,9,     0.0134,1,     4.6709,1,     -999.0,9,     -999.0,9,     -999.0,9,     -999.0,9,     -999.0,9
33RR20220613,       P02E,     186,          2,          9,          9,2,20220715,       0610,    30.4969,  -122.1468,       4048,  2112.0,2,   2.0435,2,  34.6302,2,  34.6297,2,     85.7,2,    86.2,2,  159.56,2,   39.94,2,    0.00,2,    2.87,2,   0.010,2,   0.008,2,   0.0000,2,  2368.5,2,  2421.3,6,   7.4645,2,    25.01,2, -999.00,9,  -999.0,9, -999.00,1, -999.00,1,       33.7,2, 20220715,      653,  30.4969,-122.1469,     2.0435,2,     -999.0,9,     -999.0,9,     -999.0,9,     -999.0,9,     0.0134,1,     4.6714,1,     -999.0,9,     -999.0,9,     -999.0,9,     -999.0,9,     -999.0,9
33RR20220613,       P02E,     186,          2,          8,          8,2,20220715,       0610,    30.4969,  -122.1468,       4048,  2366.2,2,   1.8749,2,  34.6450,2,  34.6462,2,     97.6,2,    97.6,2,  162.59,2,   39.22,2,    0.00,2,    2.78,2,   0.007,2,   0.006,2,   0.0000,2,  -999.0,9,  -999.0,9,-999.0000,9,  -999.00,9, -999.00,9,  -999.0,9, -999.00,1, -999.00,1,       30.4,2, 20220715,      648,  30.4969,-122.1469,     1.8746,2,     -999.0,9,     -999.0,9,     -999.0,9,     -999.0,9,     0.0134,1,     4.6726,1,     -999.0,9,     -999.0,9,     -999.0,9,     -999.0,9,     -999.0,9
33RR20220613,       P02E,     186,          2,          7,          7,2,20220715,       0610,    30.4969,  -122.1468,       4048,  2619.9,2,   1.7723,2,  34.6541,2,  34.6537,2,    105.6,2,   105.4,2,  164.35,2,   38.80,2,    0.00,2,    2.72,2,   0.006,2,   0.006,2,   0.0000,2,  2359.2,2,  2427.4,2,   7.5028,2,    25.00,2, -999.00,9,  -999.0,9, -999.00,1, -999.00,1,       28.5,2, 20220715,      642,  30.4969,-122.1469,     1.7725,2,     -999.0,9,     -999.0,9,     -999.0,9,     -999.0,9,     0.0129,1,     4.6719,1,     -999.0,9,     -999.0,9,     -999.0,9,     -999.0,9,     -999.0,9
33RR20220613,       P02E,     186,          2,          6,          6,2,20220715,       0610,    30.4969,  -122.1468,       4048,  2874.7,2,   1.6917,2,  34.6617,2,  34.6606,2,    113.2,2,   113.3,2,  164.64,2,   38.29,2,    0.00,2,    2.70,2,   0.009,2,   0.009,2,   0.0000,2,  -999.0,9,  -999.0,9,-999.0000,9,  -999.00,9, -999.00,9,  -999.0,9, -999.00,1, -999.00,1,       27.5,2, 20220715,      637,  30.4968,-122.1469,     1.6917,2,     -999.0,9,     -999.0,9,     -999.0,9,     -999.0,9,     0.0125,1,     4.6739,1,     -999.0,9,     -999.0,9,     -999.0,9,     -999.0,9,     -999.0,9
33RR20220613,       P02E,     186,          2,          5,          5,2,20220715,       0610,    30.4969,  -122.1468,       4048,  3147.1,2,   1.6251,2,  34.6668,2,  34.6657,2,    119.3,2,   119.6,2,  165.62,2,   37.93,2,    0.00,2,    2.65,2,   0.009,2,   0.008,2,   0.0000,2,  2350.5,2,  2430.4,2,   7.5282,2,    25.01,2, -999.00,9,  -999.0,9, -999.00,1, -999.00,1,       26.8,2, 20220715,      631,  30.4969,-122.1469,     1.6252,2,     -999.0,9,     -999.0,9,     -999.0,9,     -999.0,9,     0.0125,1,     4.6752,1,     -999.0,9,     -999.0,9,     -999.0,9,     -999.0,9,     -999.0,9