BOTTLE,20230830CCHSIOCBG
EXPOCODE,SECT_ID,STNNBR,CASTNO,SAMPNO,BTLNBR,BTLNBR_FLAG_W,DATE,TIME,LATITUDE,LONGITUDE,DEPTH,CTDPRS,CTDPRS_FLAG_W,CTDTMP,CTDTMP_FLAG_W,CTDSAL,CTDSAL_FLAG_W,SALNTY,SALNTY_FLAG_W,CTDOXY,CTDOXY_FLAG_W,OXYGEN,OXYGEN_FLAG_W,SILCAT,SILCAT_FLAG_W,NITRAT,NITRAT_FLAG_W,NITRIT,NITRIT_FLAG_W,PHSPHT,PHSPHT_FLAG_W,CFC-11,CFC-11_FLAG_W,CFC-12,CFC-12_FLAG_W,SF6,SF6_FLAG_W,TCARBN,TCARBN_FLAG_W,ALKALI,ALKALI_FLAG_W,PH_TOT,PH_TOT_FLAG_W,PH_TMP,PH_TMP_FLAG_W,DELC13,DELC13_FLAG_W,DELC14,DELC14_FLAG_W,DOC,DOC_FLAG_W,TDN,TDN_FLAG_W,N2O,N2O_FLAG_W,BTL_DATE,BTL_TIME,BTL_LAT,BTL_LON,REFTMP,REFTMP_FLAG_W,POC,POC_FLAG_W,PON,PON_FLAG_W,POP,POP_FLAG_W,PCOD,PCOD_FLAG_W,CTDFLUOR,CTDFLUOR_FLAG_W,CTDXMISS,CTDXMISS_FLAG_W,HPLC,HPLC_FLAG_W,DNA,DNA_FLAG_W,FCM,FCM_FLAG_W,IMAGES,IMAGES_FLAG_W,VIRAL_ABUNDANCE,VIRAL_ABUNDANCE_FLAG_W
,,,,,,,,,,,METERS,DBAR,,ITS-90,,PSS-78,,PSS-78,,UMOL/KG,,UMOL/KG,,UMOL/KG,,UMOL/KG,,UMOL/KG,,UMOL/KG,,PMOL/KG,,PMOL/KG,,FMOL/KG,,UMOL/KG,,UMOL/KG,,,,DEG C,,/MILLE,,/MILLE,,UMOL/KG,,UMOL/KG,,NMOL/KG,,,,,,ITS-90,,UG/L,,UG/L,,UG/L,,UG/L,,VOLTS,,VOLTS,,,,,,,,,,,
33RR20220613,       P02E,     149,          2,         36,         36,2,20220626,       2346,    30.0004,  -143.3135,       5046,     2.5,2,  22.6150,2,  34.9167,2,  34.9172,2,    222.0,2,   221.8,2,    0.68,2,    0.09,2,    0.00,2,    0.03,2,   1.810,2,   1.132,2,   1.8729,2,  2043.7,6,  2304.0,2,   7.9758,2,    24.99,2, -999.00,9,  -999.0,9, -999.00,9, -999.00,9,        7.2,2, 20220627,      202,  30.0004,-143.3135,    22.6086,2,     -999.0,9,     -999.0,9,     -999.0,9,     -999.0,9,     0.0128,1,     4.6342,1,     -999.0,9,     -999.0,9,     -999.0,9,     -999.0,9,     -999.0,9
33RR20220613,       P02E,     149,          2,         35,         35,2,20220626,       2346,    30.0004,  -143.3135,       5046,    25.1,2,  22.4036,2,  34.9145,2,  34.9146,2,    222.1,2,   222.4,2,    0.68,2,    0.09,2,    0.00,2,    0.04,2,   1.802,2,   1.117,2,   1.8878,2,  2042.4,2,  2303.5,2,   7.9766,2,    25.00,2, -999.00,9,  -999.0,9, -999.00,9, -999.00,9,        7.2,2, 20220627,      201,  30.0004,-143.3135,    22.4004,2,     -999.0,9,     -999.0,9,     -999.0,9,     -999.0,9,     0.0134,1,     4.6326,1,     -999.0,9,     -999.0,9,     -999.0,9,     -999.0,9,     -999.0,9
33RR20220613,       P02E,     149,          2,         34,         34,2,20220626,       2346,    30.0004,  -143.3135,       5046,    51.3,2,  21.0305,2,  35.0171,2,  35.0163,2,    233.7,2,   233.8,2,    0.59,2,    0.08,2,    0.00,2,    0.02,2,   1.946,2,   1.202,2,   1.9904,2,  2038.0,2,  2306.8,2,   7.9889,2,    25.00,2, -999.00,9,  -999.0,9, -999.00,9, -999.00,9,        7.6,2, 20220627,      159,  30.0004,-143.3135,    21.0239,2,     -999.0,9,     -999.0,9,     -999.0,9,     -999.0,9,     0.0144,1,     4.6332,1,     -999.0,9,     -999.0,9,     -999.0,9,     -999.0,9,     -999.0,9
33RR20220613,       P02E,     149,          2,         33,         33,2,20220626,       2346,    30.0004,  -143.3135,       5046,    76.4,2,  20.5946,2,  35.0012,2,  34.9888,2,    234.9,2,   234.0,2,    0.59,2,    0.08,2,    0.00,2,    0.02,2,   1.936,2,   1.166,2,   1.8624,2,  2035.5,2,  2304.8,2,   7.9866,2,    25.00,2, -999.00,9,  -999.0,9, -999.00,9, -999.00,9,        7.5,2, 20220627,      157,  30.0004,-143.3134,    20.6077,2,     -999.0,9,     -999.0,9,     -999.0,9,     -999.0,9,     0.0147,1,     4.6393,1,     -999.0,9,     -999.0,9,     -999.0,9,     -999.0,9,     -999.0,9
33RR20220613,       P02E,     149,          2,         32,         32,2,20220626,       2346,    30.0004,  -143.3135,       5046,   100.7,2,  19.7550,2,  34.8474,2,  34.8373,2,    234.4,2,   234.6,2,    0.68,2,    0.08,2,    0.00,2,    0.04,2,   2.026,2,   1.234,2,   1.9292,2,  2036.0,2,  2297.1,2,   7.9750,2,    25.00,2, -999.00,9,  -999.0,9, -999.00,9, -999.00,9,        7.8,2, 20220627,      154,  30.0004,-143.3135,    19.7512,2,     -999.0,9,     -999.0,9,     -999.0,9,     -999.0,9,     0.0177,1,     4.6445,1,     -999.0,9,     -999.0,9,     -999.0,9,     -999.0,9,     -999.0,9
33RR20220613,       P02E,     149,          2,         31,         31,2,20220626,       2346,    30.0004,  -143.3135,       5046,   150.9,2,  18.8167,2,  34.7556,2,  34.7522,2,    228.5,2,   227.8,2,    1.17,2,    0.09,2,    0.00,2,    0.07,2,   2.101,2,   1.279,2,   2.0681,2,  2042.3,2,  2288.4,2,   7.9541,2,    25.00,2, -999.00,9,  -999.0,9, -999.00,9, -999.00,9,        8.2,2, 20220627,      153,  30.0004,-143.3135,    18.8327,2,     -999.0,9,     -999.0,9,     -999.0,9,     -999.0,9,     0.0282,1,     4.6587,1,     -999.0,9,     -999.0,9,     -999.0,9,     -999.0,9,     -999.0,9
33RR20220613,       P02E,     149,          2,         30,         17,2,20220626,       2346,    30.0004,  -143.3135,       5046,   201.4,2,  15.2337,2,  34.2134,2,  34.2097,2,    220.8,2,   221.5,2,    3.03,2,    2.61,2,    0.00,2,    0.31,2,   2.439,2,   1.459,2,   2.1612,2,  2056.8,2,  2254.1,2,   7.8706,2,    24.99,2, -999.00,9,  -999.0,9, -999.00,9, -999.00,9,       10.0,2, 20220627,      151,  30.0004,-143.3135,    15.2116,2,     -999.0,9,     -999.0,9,     -999.0,9,     -999.0,9,     0.0159,1,     4.6802,1,     -999.0,9,     -999.0,9,     -999.0,9,     -999.0,9,     -999.0,9
33RR20220613,       P02E,     149,          2,         29,         29,2,20220626,       2346,    30.0004,  -143.3135,       5046,   252.4,2,  11.9503,2,  34.0504,2,  34.0486,2,    214.7,2,   214.6,2,    8.41,2,    9.78,2,    0.00,2,    0.77,2,   2.847,2,   1.706,2,   2.2504,2,  2088.3,2,  2247.1,6,   7.7842,2,    25.01,2, -999.00,9,  -999.0,9, -999.00,9, -999.00,9,       13.7,2, 20220627,      148,  30.0004,-143.3135,    11.9624,2,     -999.0,9,     -999.0,9,     -999.0,9,     -999.0,9,     0.0122,1,     4.6874,1,     -999.0,9,     -999.0,9,     -999.0,9,     -999.0,9,     -999.0,9
33RR20220613,       P02E,     149,          2,         28,         28,2,20220626,       2346,    30.0004,  -143.3135,       5046,   302.6,2,  10.8246,2,  34.0924,2,  34.0919,2,    209.0,2,   209.1,2,   13.79,2,   14.41,2,    0.00,2,    1.02,2,   2.959,2,   1.769,2,   2.0588,2,  2109.7,2,  2252.8,2,   7.7416,2,    25.00,2, -999.00,9,  -999.0,9, -999.00,9, -999.00,9,       17.3,2, 20220627,      146,  30.0004,-143.3135,    10.8237,2,     -999.0,9,     -999.0,9,     -999.0,9,     -999.0,9,     0.0122,1,     4.6907,1,     -999.0,9,     -999.0,9,     -999.0,9,     -999.0,9,     -999.0,9
33RR20220613,       P02E,     149,          2,         27,         27,2,20220626,       2346,    30.0004,  -143.3135,       5046,   352.7,2,   9.7285,2,  34.0568,2,  34.0584,2,    205.8,2,   205.9,2,   17.80,2,   16.32,2,    0.00,2,    1.16,2,   3.031,2,   1.801,2,   1.8695,2,  2124.4,2,  2255.2,2,   7.7090,2,    25.00,2, -999.00,9,  -999.0,9, -999.00,9, -999.00,9,       21.6,2, 20220627,      144,  30.0004,-143.3135,     9.7264,2,     -999.0,9,     -999.0,9,     -999.0,9,     -999.0,9,     0.0122,1,     4.6919,1,     -999.0,9,     -999.0,9,     -999.0,9,     -999.0,9,     -999.0,9
33RR20220613,       P02E,     149,          2,         26,         26,2,20220626,       2346,    30.0004,  -143.3135,       5046,   403.4,2,   8.9211,2,  34.0381,2,  34.0382,2,    185.6,2,   185.8,2,   24.84,2,   20.21,2,    0.00,2,    1.42,2,   3.024,2,   1.763,2,   1.6510,2,  -999.0,9,  -999.0,9,-999.0000,9,  -999.00,9, -999.00,9,  -999.0,9, -999.00,9, -999.00,9,       23.3,2, 20220627,      141,  30.0004,-143.3135,     8.9210,2,     -999.0,9,     -999.0,9,     -999.0,9,     -999.0,9,     0.0127,1,     4.6933,1,     -999.0,9,     -999.0,9,     -999.0,9,     -999.0,9,     -999.0,9
33RR20220613,       P02E,     149,          2,         25,         25,2,20220626,       2346,    30.0004,  -143.3135,       5046,   504.6,2,   6.8149,2,  33.9913,2,  33.9927,2,    124.4,2,   124.6,2,   48.50,2,   30.14,2,    0.00,2,    2.14,2,   2.571,6,   1.459,6,   0.8806,6,  2217.0,2,  2277.8,2,   7.4987,2,    25.01,2, -999.00,9,  -999.0,9, -999.00,9, -999.00,9,       31.5,6, 20220627,      138,  30.0004,-143.3135,     6.8309,2,     -999.0,9,     -999.0,9,     -999.0,9,     -999.0,9,     0.0134,1,     4.6936,1,     -999.0,9,     -999.0,9,     -999.0,9,     -999.0,9,     -999.0,9
33RR20220613,       P02E,     149,          2,         24,         24,2,20220626,       2346,    30.0004,  -143.3135,       5046,   605.2,2,   5.4046,2,  34.0296,2,  34.0309,2,     69.1,2,    69.1,2,   73.34,2,   37.24,2,    0.00,2,    2.67,2,   1.664,2,   0.913,2,   0.3891,2,  2280.1,2,  2295.5,2,   7.3715,2,    25.00,2, -999.00,9,  -999.0,9, -999.00,9, -999.00,9,       39.4,2, 20220627,      135,  30.0004,-143.3135,     5.4100,2,     -999.0,9,     -999.0,9,     -999.0,9,     -999.0,9,     0.0134,1,     4.6945,1,     -999.0,9,     -999.0,9,     -999.0,9,     -999.0,9,     -999.0,9
33RR20220613,       P02E,     149,          2,         23,         23,2,20220626,       2346,    30.0004,  -143.3135,       5046,   706.4,2,   4.6665,2,  34.1193,2,  34.1232,2,     36.6,2,    36.8,2,   91.82,2,   41.28,2,    0.00,2,    2.93,2,   0.846,2,   0.443,2,   0.2022,2,  -999.0,9,  -999.0,9,-999.0000,9,  -999.00,9, -999.00,9,  -999.0,9, -999.00,9, -999.00,9,       47.5,2, 20220627,      132,  30.0004,-143.3135,     4.6750,2,     -999.0,9,     -999.0,9,     -999.0,9,     -999.0,9,     0.0134,1,     4.6948,1,     -999.0,9,     -999.0,9,     -999.0,9,     -999.0,9,     -999.0,9
33RR20220613,       P02E,     149,          2,         22,         22,2,20220626,       2346,    30.0004,  -143.3135,       5046,   807.9,2,   4.1540,2,  34.2260,2,  34.2313,2,     16.5,3,    16.3,2,  104.03,2,   43.49,2,    0.00,2,    3.11,2,   0.250,2,   0.134,2,   0.0000,2,  2347.9,2,  2338.1,2,   7.2914,2,    25.01,2, -999.00,9,  -999.0,9, -999.00,9, -999.00,9,       52.6,2, 20220627,      129,  30.0004,-143.3135,     4.1502,2,     -999.0,9,     -999.0,9,     -999.0,9,     -999.0,9,     0.0134,1,     4.6948,1,     -999.0,9,     -999.0,9,     -999.0,9,     -999.0,9,     -999.0,9
33RR20220613,       P02E,     149,          2,         21,         21,2,20220626,       2346,    30.0004,  -143.3135,       5046,   908.2,2,   3.8467,2,  34.3117,2,  34.3133,2,     11.1,3,    10.7,2,  117.71,2,   44.03,2,    0.00,2,    3.18,2,   0.067,2,   0.039,2,   0.0000,2,  2362.2,2,  2353.2,2,   7.2931,2,    25.01,2, -999.00,9,  -999.0,9, -999.00,9, -999.00,9,       55.0,2, 20220627,      125,  30.0004,-143.3135,     3.8481,2,     -999.0,9,     -999.0,9,     -999.0,9,     -999.0,9,     0.0134,1,     4.6948,1,     -999.0,9,     -999.0,9,     -999.0,9,     -999.0,9,     -999.0,9
33RR20220613,       P02E,     149,          2,         20,         20,2,20220626,       2346,    30.0004,  -143.3135,       5046,  1009.5,2,   3.6290,2,  34.3943,2,  34.3947,2,     14.4,2,    14.5,2,  124.84,2,   44.10,2,    0.00,2,    3.17,2,   0.016,2,   0.016,2,   0.0000,2,  2367.8,2,  2364.6,2,   7.3114,2,    25.00,2, -999.00,9,  -999.0,9, -999.00,9, -999.00,9,       54.5,2, 20220627,      123,  30.0004,-143.3135,     3.6282,2,     -999.0,9,     -999.0,9,     -999.0,9,     -999.0,9,     0.0134,1,     4.6949,1,     -999.0,9,     -999.0,9,     -999.0,9,     -999.0,9,     -999.0,9
33RR20220613,       P02E,     149,          2,         19,         39,2,20220626,       2346,    30.0004,  -143.3135,       5046,  1109.6,2,   3.4310,2,  34.4517,2,  34.4522,2,     23.1,3,    23.4,2,  129.73,2,   43.57,2,    0.00,2,    3.16,2,   0.011,2,   0.009,2,   0.0000,2,  -999.0,9,  -999.0,9,-999.0000,9,  -999.00,9, -999.00,9,  -999.0,9, -999.00,9, -999.00,9,       50.3,2, 20220627,      120,  30.0004,-143.3135,     3.4314,2,     -999.0,9,     -999.0,9,     -999.0,9,     -999.0,9,     0.0134,1,     4.6958,1,     -999.0,9,     -999.0,9,     -999.0,9,     -999.0,9,     -999.0,9
33RR20220613,       P02E,     149,          2,         18,         18,2,20220626,       2346,    30.0004,  -143.3135,       5046,  1211.9,2,   3.2627,2,  34.4866,2,  34.4877,2,     32.4,2,    32.6,2,  130.99,2,   43.07,2,    0.00,2,    3.11,2,   0.007,2,   0.005,2,   0.0000,2,  -999.0,9,  -999.0,9,-999.0000,9,  -999.00,9, -999.00,9,  -999.0,9, -999.00,9, -999.00,9,       46.1,2, 20220627,      116,  30.0004,-143.3135,     3.2624,2,     -999.0,9,     -999.0,9,     -999.0,9,     -999.0,9,     0.0134,1,     4.6961,1,     -999.0,9,     -999.0,9,     -999.0,9,     -999.0,9,     -999.0,9
33RR20220613,       P02E,     149,          2,         17,         37,2,20220626,       2346,    30.0004,  -143.3135,       5046,  1312.8,2,   3.0557,2,  34.5126,2,  34.5127,2,     40.0,2,    39.9,2,  136.95,2,   42.84,2,    0.00,2,    3.09,2,   0.005,2,   0.000,2,   0.0000,2,  2369.5,2,  2387.4,2,   7.3719,2,    25.00,2, -999.00,9,  -999.0,9, -999.00,9, -999.00,9,       43.5,2, 20220627,      113,  30.0004,-143.3135,     3.0550,2,     -999.0,9,     -999.0,9,     -999.0,9,     -999.0,9,     0.0134,1,     4.6969,1,     -999.0,9,     -999.0,9,     -999.0,9,     -999.0,9,     -999.0,9
33RR20220613,       P02E,     149,          2,         16,         16,2,20220626,       2346,    30.0004,  -143.3135,       5046,  1414.9,2,   2.8909,2,  34.5357,2,  34.5358,2,     47.9,2,    47.9,2,  142.03,2,   42.44,2,    0.00,2,    3.05,2,   0.004,2,   0.002,2,   0.0000,2,  -999.0,9,  -999.0,9,-999.0000,9,  -999.00,9, -999.00,9,  -999.0,9, -999.00,9, -999.00,9,       40.3,2, 20220627,      109,  30.0004,-143.3135,     2.8903,2,     -999.0,9,     -999.0,9,     -999.0,9,     -999.0,9,     0.0134,1,     4.6971,1,     -999.0,9,     -999.0,9,     -999.0,9,     -999.0,9,     -999.0,9
33RR20220613,       P02E,     149,          2,         15,         15,2,20220626,       2346,    30.0004,  -143.3135,       5046,  1617.7,2,   2.5404,2,  34.5717,2,  34.5726,2,     61.1,2,    61.2,2,  148.09,2,   41.83,2,    0.00,2,    2.99,2,   0.004,2,   0.002,2,   0.0000,2,  2369.8,2,  2403.3,2,   7.4136,2,    25.00,2, -999.00,9,  -999.0,9, -999.00,9, -999.00,9,       35.8,2, 20220627,      105,  30.0004,-143.3135,     2.5391,2,     -999.0,9,     -999.0,9,     -999.0,9,     -999.0,9,     0.0134,1,     4.6983,1,     -999.0,9,     -999.0,9,     -999.0,9,     -999.0,9,     -999.0,9
33RR20220613,       P02E,     149,          2,         14,         14,2,20220626,       2346,    30.0004,  -143.3135,       5046,  1819.6,2,   2.2658,2,  34.5958,2,  34.5961,2,     70.1,2,    70.2,2,  155.91,2,   41.41,2,    0.00,2,    2.94,2,   0.007,2,   0.005,2,   0.0000,2,  -999.0,9,  -999.0,9,-999.0000,9,  -999.00,9, -999.00,9,  -999.0,9, -999.00,9, -999.00,9,       33.1,2, 20220627,      100,  30.0004,-143.3135,     2.2655,2,     -999.0,9,     -999.0,9,     -999.0,9,     -999.0,9,     0.0134,1,     4.6989,1,     -999.0,9,     -999.0,9,     -999.0,9,     -999.0,9,     -999.0,9
33RR20220613,       P02E,     149,          2,         13,         13,2,20220626,       2346,    30.0004,  -143.3135,       5046,  2023.0,2,   2.0421,2,  34.6147,2,  34.6144,2,     78.5,2,    78.5,2,  161.77,2,   40.87,2,    0.00,2,    2.88,2,   0.003,2,   0.001,2,   0.0000,2,  2372.2,2,  2419.9,2,   7.4469,2,    25.01,2, -999.00,9,  -999.0,9, -999.00,9, -999.00,9,       31.4,2, 20220627,       55,  30.0004,-143.3135,     2.0436,2,     -999.0,9,     -999.0,9,     -999.0,9,     -999.0,9,     0.0134,1,     4.6995,1,     -999.0,9,     -999.0,9,     -999.0,9,     -999.0,9,     -999.0,9
33RR20220613,       P02E,     149,          2,         12,         12,2,20220626,       2346,    30.0004,  -143.3135,       5046,  2277.2,2,   1.8540,2,  34.6339,2,  34.6337,2,     90.9,2,    91.3,2,  165.39,2,   40.00,2,    0.00,2,    2.82,2,   0.003,2,   0.003,2,   0.0000,2,  -999.0,9,  -999.0,9,-999.0000,9,  -999.00,9, -999.00,9,  -999.0,9, -999.00,9, -999.00,9,       28.4,2, 20220627,       49,  30.0004,-143.3135,     1.8554,2,     -999.0,9,     -999.0,9,     -999.0,9,     -999.0,9,     0.0134,1,     4.7006,1,     -999.0,9,     -999.0,9,     -999.0,9,     -999.0,9,     -999.0,9
33RR20220613,       P02E,     149,          2,         11,         11,2,20220626,       2346,    30.0004,  -143.3135,       5046,  2531.3,2,   1.7211,2,  34.6469,3,  34.6517,2,    101.6,2,   101.7,2,  167.44,2,   39.44,2,    0.00,2,    2.74,2,   0.003,2,   0.003,2,   0.0000,2,  2363.5,2,  2426.9,2,   7.4921,2,    25.00,2, -999.00,9,  -999.0,9, -999.00,9, -999.00,9,       26.6,2, 20220627,       44,  30.0004,-143.3135,     1.7201,2,     -999.0,9,     -999.0,9,     -999.0,9,     -999.0,9,     0.0134,1,     4.7009,1,     -999.0,9,     -999.0,9,     -999.0,9,     -999.0,9,     -999.0,9
33RR20220613,       P02E,     149,          2,         10,         10,2,20220626,       2346,    30.0004,  -143.3135,       5046,  2786.4,2,   1.6270,2,  34.6569,2,  34.6567,2,    110.9,2,   111.3,2,  167.63,2,   38.97,2,    0.00,2,    2.71,2,   0.003,2,   0.003,2,   0.0000,2,  -999.0,9,  -999.0,9,-999.0000,9,  -999.00,9, -999.00,9,  -999.0,9, -999.00,9, -999.00,9,       24.7,2, 20220627,       38,  30.0004,-143.3135,     1.6274,2,     -999.0,9,     -999.0,9,     -999.0,9,     -999.0,9,     0.0122,1,     4.7013,1,     -999.0,9,     -999.0,9,     -999.0,9,     -999.0,9,     -999.0,9
33RR20220613,       P02E,     149,          2,          9,          9,2,20220626,       2346,    30.0004,  -143.3135,       5046,  3041.6,2,   1.5605,2,  34.6646,2,  34.6647,2,    119.6,2,   119.3,2,  166.85,2,   38.53,2,    0.00,2,    2.65,2,   0.002,2,   0.002,2,   0.0000,2,  2352.3,2,  2426.5,2,   7.5245,2,    25.00,2, -999.00,9,  -999.0,9, -999.00,9, -999.00,9,       24.4,2, 20220627,       32,  30.0004,-143.3135,     1.5605,2,     -999.0,9,     -999.0,9,     -999.0,9,     -999.0,9,     0.0134,1,     4.7018,1,     -999.0,9,     -999.0,9,     -999.0,9,     -999.0,9,     -999.0,9
33RR20220613,       P02E,     149,          2,          8,          8,2,20220626,       2346,    30.0004,  -143.3135,       5046,  3348.9,2,   1.5064,2,  34.6726,2,  34.6728,2,    129.6,2,   129.7,2,  163.91,2,   37.15,2,    0.00,2,    2.60,2,   0.003,2,   0.002,2,   0.0000,2,  -999.0,9,  -999.0,9,-999.0000,9,  -999.00,9, -999.00,9,  -999.0,9, -999.00,9, -999.00,9,       23.1,2, 20220627,       24,  30.0004,-143.3135,     1.5066,2,     -999.0,9,     -999.0,9,     -999.0,9,     -999.0,9,     0.0129,1,     4.7020,1,     -999.0,9,     -999.0,9,     -999.0,9,     -999.0,9,     -999.0,9
33RR20220613,       P02E,     149,          2,          7,          7,2,20220626,       2346,    30.0004,  -143.3135,       5046,  3656.0,2,   1.4786,2,  34.6785,2,  34.6789,2,    137.6,2,   137.7,2,  161.57,2,   37.00,2,    0.00,2,    2.55,2,   0.004,2,   0.004,2,   0.0000,2,  2339.9,2,  2426.2,2,   7.5569,2,    25.00,2, -999.00,9,  -999.0,9, -999.00,9, -999.00,9,       22.7,2, 20220627,       19,  30.0004,-143.3135,     1.4782,2,     -999.0,9,     -999.0,9,     -999.0,9,     -999.0,9,     0.0130,1,     4.7027,1,     -999.0,9,     -999.0,9,     -999.0,9,     -999.0,9,     -999.0,9
33RR20220613,       P02E,     149,          2,          6,          6,2,20220626,       2346,    30.0004,  -143.3135,       5046,  3963.3,2,   1.4715,2,  34.6828,2,  34.6824,2,    144.1,2,   144.0,2,  158.24,2,   36.68,2,    0.00,2,    2.52,2,   0.006,2,   0.005,2,   0.0000,2,  -999.0,9,  -999.0,9,-999.0000,9,  -999.00,9, -999.00,9,  -999.0,9, -999.00,9, -999.00,9,       22.2,2, 20220627,       13,  30.0004,-143.3135,     1.4713,2,     -999.0,9,     -999.0,9,     -999.0,9,     -999.0,9,     0.0122,1,     4.7027,1,     -999.0,9,     -999.0,9,     -999.0,9,     -999.0,9,     -999.0,9
33RR20220613,       P02E,     149,          2,          5,          5,2,20220626,       2346,    30.0004,  -143.3135,       5046,  4270.4,2,   1.4842,2,  34.6851,2,  34.6849,2,    148.1,2,   147.9,2,  155.90,2,   36.56,2,    0.00,2,    2.49,2,   0.004,2,   0.007,2,   0.0000,2,  2332.0,2,  2424.7,6,   7.5741,2,    25.00,2, -999.00,9,  -999.0,9, -999.00,9, -999.00,9,       22.3,2, 20220627,        6,  30.0004,-143.3135,     1.4842,2,     -999.0,9,     -999.0,9,     -999.0,9,     -999.0,9,     0.0131,1,     4.7030,1,     -999.0,9,     -999.0,9,     -999.0,9,     -999.0,9,     -999.0,9