BOTTLE,20230830CCHSIOCBG
EXPOCODE,SECT_ID,STNNBR,CASTNO,SAMPNO,BTLNBR,BTLNBR_FLAG_W,DATE,TIME,LATITUDE,LONGITUDE,DEPTH,CTDPRS,CTDPRS_FLAG_W,CTDTMP,CTDTMP_FLAG_W,CTDSAL,CTDSAL_FLAG_W,SALNTY,SALNTY_FLAG_W,CTDOXY,CTDOXY_FLAG_W,OXYGEN,OXYGEN_FLAG_W,SILCAT,SILCAT_FLAG_W,NITRAT,NITRAT_FLAG_W,NITRIT,NITRIT_FLAG_W,PHSPHT,PHSPHT_FLAG_W,CFC-11,CFC-11_FLAG_W,CFC-12,CFC-12_FLAG_W,SF6,SF6_FLAG_W,TCARBN,TCARBN_FLAG_W,ALKALI,ALKALI_FLAG_W,PH_TOT,PH_TOT_FLAG_W,PH_TMP,PH_TMP_FLAG_W,DELC13,DELC13_FLAG_W,DELC14,DELC14_FLAG_W,DOC,DOC_FLAG_W,TDN,TDN_FLAG_W,N2O,N2O_FLAG_W,BTL_DATE,BTL_TIME,BTL_LAT,BTL_LON,REFTMP,REFTMP_FLAG_W,POC,POC_FLAG_W,PON,PON_FLAG_W,POP,POP_FLAG_W,PCOD,PCOD_FLAG_W,CTDFLUOR,CTDFLUOR_FLAG_W,CTDXMISS,CTDXMISS_FLAG_W,HPLC,HPLC_FLAG_W,DNA,DNA_FLAG_W,FCM,FCM_FLAG_W,IMAGES,IMAGES_FLAG_W,VIRAL_ABUNDANCE,VIRAL_ABUNDANCE_FLAG_W
,,,,,,,,,,,METERS,DBAR,,ITS-90,,PSS-78,,PSS-78,,UMOL/KG,,UMOL/KG,,UMOL/KG,,UMOL/KG,,UMOL/KG,,UMOL/KG,,PMOL/KG,,PMOL/KG,,FMOL/KG,,UMOL/KG,,UMOL/KG,,,,DEG C,,/MILLE,,/MILLE,,UMOL/KG,,UMOL/KG,,NMOL/KG,,,,,,ITS-90,,UG/L,,UG/L,,UG/L,,UG/L,,VOLTS,,VOLTS,,,,,,,,,,,
33RR20220613,       P02E,     179,          2,         36,         36,2,20220705,       1700,    30.0006,  -125.9928,       4111,     5.8,2,  19.0507,2,  33.3596,2,  33.3590,2,    237.3,2,   236.9,2,    1.17,2,    0.01,2,    0.00,2,    0.29,2,   2.105,2,   1.309,2,   2.0721,2,  2016.1,6,  2232.9,2,   7.9107,2,    25.01,2, -999.00,9,  -999.0,9, -999.00,9, -999.00,9,        8.1,2, 20220705,     1845,  30.0006,-125.9928,    19.0789,2,     -999.0,9,     -999.0,9,     -999.0,9,     -999.0,9,     0.0134,1,     4.6231,1,     -999.0,9,     -999.0,9,     -999.0,9,     -999.0,9,     -999.0,9
33RR20220613,       P02E,     179,          2,         35,         35,2,20220705,       1700,    30.0006,  -125.9928,       4111,    25.4,2,  18.8074,2,  33.4227,2,  33.4225,2,    238.7,2,   238.9,2,    1.17,2,    0.01,2,    0.01,2,    0.28,2,-999.000,9,-999.000,9,-999.0000,9,  2016.3,2,  2238.5,2,   7.9146,2,    25.01,2, -999.00,9,  -999.0,9, -999.00,9, -999.00,9,     -999.0,9, 20220705,     1842,  30.0006,-125.9928,    18.8097,2,     -999.0,9,     -999.0,9,     -999.0,9,     -999.0,9,     0.0134,1,     4.6151,1,     -999.0,9,     -999.0,9,     -999.0,9,     -999.0,9,     -999.0,9
33RR20220613,       P02E,     179,          2,         34,         34,2,20220705,       1700,    30.0006,  -125.9928,       4111,    50.7,2,  17.6342,2,  33.4466,2,  33.4438,2,    246.9,2,   247.0,2,    1.17,2,    0.00,2,    0.00,2,    0.28,2,   2.250,2,   1.386,2,   2.1342,2,  2018.6,2,  2239.5,2,   7.9159,2,    25.00,2, -999.00,9,  -999.0,9, -999.00,9, -999.00,9,        8.5,2, 20220705,     1840,  30.0006,-125.9928,    17.6319,2,     -999.0,9,     -999.0,9,     -999.0,9,     -999.0,9,     0.0154,1,     4.6280,1,     -999.0,9,     -999.0,9,     -999.0,9,     -999.0,9,     -999.0,9
33RR20220613,       P02E,     179,          2,         33,         33,2,20220705,       1700,    30.0006,  -125.9928,       4111,    76.4,2,  17.1400,2,  33.3984,2,  33.3990,2,    248.7,2,   248.9,2,    1.08,2,    0.00,2,    0.00,2,    0.28,2,-999.000,9,-999.000,9,-999.0000,9,  2019.2,2,  2234.2,6,   7.9135,2,    25.00,2, -999.00,9,  -999.0,9, -999.00,9, -999.00,9,     -999.0,9, 20220705,     1839,  30.0006,-125.9928,    17.1381,2,     -999.0,9,     -999.0,9,     -999.0,9,     -999.0,9,     0.0183,1,     4.6343,1,     -999.0,9,     -999.0,9,     -999.0,9,     -999.0,9,     -999.0,9
33RR20220613,       P02E,     179,          2,         32,         32,2,20220705,       1700,    30.0006,  -125.9928,       4111,   100.9,2,  16.3437,2,  33.3127,2,  33.3170,2,    249.1,2,   249.0,2,    1.08,2,    0.00,2,    0.01,2,    0.29,2,   2.340,2,   1.441,2,   2.2664,2,  2017.9,2,  2229.8,2,   7.9033,2,    25.00,2, -999.00,9,  -999.0,9, -999.00,9, -999.00,9,        8.9,2, 20220705,     1837,  30.0006,-125.9928,    16.3546,2,     -999.0,9,     -999.0,9,     -999.0,9,     -999.0,9,     0.0256,1,     4.6446,1,     -999.0,9,     -999.0,9,     -999.0,9,     -999.0,9,     -999.0,9
33RR20220613,       P02E,     179,          2,         31,         31,2,20220705,       1700,    30.0006,  -125.9928,       4111,   126.6,2,  14.8656,2,  33.1530,2,  33.1518,2,    250.5,2,   250.4,2,    1.47,2,    0.02,2,    0.01,2,    0.33,2,-999.000,9,-999.000,9,-999.0000,9,  2017.5,2,  2217.8,2,   7.8776,2,    24.99,2, -999.00,9,  -999.0,9, -999.00,9, -999.00,9,     -999.0,9, 20220705,     1835,  30.0006,-125.9928,    14.8726,2,     -999.0,9,     -999.0,9,     -999.0,9,     -999.0,9,     0.0322,1,     4.6495,1,     -999.0,9,     -999.0,9,     -999.0,9,     -999.0,9,     -999.0,9
33RR20220613,       P02E,     179,          2,         30,         17,2,20220705,       1700,    30.0006,  -125.9928,       4111,   151.8,2,  12.8865,2,  33.2523,2,  33.2568,2,    226.7,2,   227.4,2,    4.21,2,    4.78,2,    0.10,2,    0.65,2,   2.765,2,   1.678,2,   2.3574,2,  2054.9,2,  2217.6,2,   7.7905,2,    25.01,2, -999.00,9,  -999.0,9, -999.00,9, -999.00,9,       12.2,2, 20220705,     1834,  30.0006,-125.9928,    12.9533,3,     -999.0,9,     -999.0,9,     -999.0,9,     -999.0,9,     0.0239,1,     4.6697,1,     -999.0,9,     -999.0,9,     -999.0,9,     -999.0,9,     -999.0,9
33RR20220613,       P02E,     179,          2,         29,         29,2,20220705,       1700,    30.0006,  -125.9928,       4111,   201.7,2,  10.4362,2,  33.7146,2,  33.7138,2,    171.0,2,   170.6,2,   16.04,2,   16.65,2,    0.01,2,    1.32,2,   2.863,2,   1.754,2,   1.9988,2,  2131.6,2,  2237.4,2,   7.6368,2,    25.01,2, -999.00,9,  -999.0,9, -999.00,9, -999.00,9,       19.7,2, 20220705,     1832,  30.0006,-125.9928,    10.4358,2,     -999.0,9,     -999.0,9,     -999.0,9,     -999.0,9,     0.0140,1,     4.6824,1,     -999.0,9,     -999.0,9,     -999.0,9,     -999.0,9,     -999.0,9
33RR20220613,       P02E,     179,          2,         28,         28,2,20220705,       1700,    30.0006,  -125.9928,       4111,   252.3,2,   9.3424,2,  33.9913,2,  33.9939,2,    121.6,2,   121.5,2,   28.26,2,   24.22,2,    0.00,2,    1.86,2,   2.623,2,   1.620,2,   1.3085,2,  2188.9,2,  2257.7,2,   7.5244,2,    25.00,2, -999.00,9,  -999.0,9, -999.00,9, -999.00,9,       28.7,2, 20220705,     1830,  30.0006,-125.9928,     9.3410,2,     -999.0,9,     -999.0,9,     -999.0,9,     -999.0,9,     0.0122,1,     4.6850,1,     -999.0,9,     -999.0,9,     -999.0,9,     -999.0,9,     -999.0,9
33RR20220613,       P02E,     179,          2,         27,         27,2,20220705,       1700,    30.0006,  -125.9928,       4111,   302.7,2,   8.8055,2,  34.1188,2,  34.1152,2,     72.2,2,    72.5,2,   38.23,2,   29.22,2,    0.00,2,    2.31,2,   2.158,2,   1.327,2,   0.9326,2,  2234.9,2,  2269.2,2,   7.4229,2,    25.00,2, -999.00,9,  -999.0,9, -999.00,9, -999.00,9,       35.5,2, 20220705,     1828,  30.0006,-125.9928,     8.8132,2,     -999.0,9,     -999.0,9,     -999.0,9,     -999.0,9,     0.0134,1,     4.6843,1,     -999.0,9,     -999.0,9,     -999.0,9,     -999.0,9,     -999.0,9
33RR20220613,       P02E,     179,          2,         26,         26,2,20220705,       1700,    30.0006,  -125.9928,       4111,   352.7,2,   8.3998,2,  34.1494,2,  34.1464,2,     60.0,2,    60.3,2,   43.11,2,   30.88,2,    0.00,2,    2.43,2,   1.969,2,   1.194,2,   0.7052,2,  -999.0,9,  -999.0,9,-999.0000,9,  -999.00,9, -999.00,9,  -999.0,9, -999.00,9, -999.00,9,       37.2,2, 20220705,     1826,  30.0006,-125.9928,     8.4021,2,     -999.0,9,     -999.0,9,     -999.0,9,     -999.0,9,     0.0134,1,     4.6834,1,     -999.0,9,     -999.0,9,     -999.0,9,     -999.0,9,     -999.0,9
33RR20220613,       P02E,     179,          2,         25,         25,2,20220705,       1700,    30.0006,  -125.9928,       4111,   403.2,2,   7.8467,2,  34.1841,2,  34.1813,2,     44.7,2,    45.0,2,   50.35,2,   33.14,2,    0.00,2,    2.62,2,   1.627,2,   0.969,2,   0.5960,2,  2268.5,2,  2286.2,2,   7.3657,2,    25.01,2, -999.00,9,  -999.0,9, -999.00,9, -999.00,9,       40.7,2, 20220705,     1824,  30.0006,-125.9927,     7.8503,2,     -999.0,9,     -999.0,9,     -999.0,9,     -999.0,9,     0.0134,1,     4.6849,1,     -999.0,9,     -999.0,9,     -999.0,9,     -999.0,9,     -999.0,9
33RR20220613,       P02E,     179,          2,         24,         24,2,20220705,       1700,    30.0006,  -125.9928,       4111,   453.7,2,   7.3231,2,  34.2026,2,  34.2036,2,     34.5,2,    34.6,2,   57.29,2,   35.09,2,    0.00,2,    2.75,2,   1.314,2,   0.776,2,   0.3974,2,  2281.7,2,  2291.4,2,   7.3444,2,    25.01,2, -999.00,9,  -999.0,9, -999.00,9, -999.00,9,       44.6,2, 20220705,     1823,  30.0006,-125.9928,     7.3263,2,     -999.0,9,     -999.0,9,     -999.0,9,     -999.0,9,     0.0134,1,     4.6865,1,     -999.0,9,     -999.0,9,     -999.0,9,     -999.0,9,     -999.0,9
33RR20220613,       P02E,     179,          2,         23,         23,2,20220705,       1700,    30.0006,  -125.9928,       4111,   504.2,2,   6.9129,2,  34.2234,2,  34.2254,2,     26.7,2,    26.9,2,   63.54,2,   36.61,2,    0.00,2,    2.85,2,   1.028,2,   0.590,2,   0.3785,2,  2294.6,2,  2300.9,2,   7.3305,2,    25.00,2, -999.00,9,  -999.0,9, -999.00,9, -999.00,9,       47.7,2, 20220705,     1821,  30.0006,-125.9928,     6.9121,2,     -999.0,9,     -999.0,9,     -999.0,9,     -999.0,9,     0.0133,1,     4.6874,1,     -999.0,9,     -999.0,9,     -999.0,9,     -999.0,9,     -999.0,9
33RR20220613,       P02E,     179,          2,         22,         22,2,20220705,       1700,    30.0006,  -125.9928,       4111,   605.2,2,   5.9395,2,  34.2496,2,  34.2473,2,     17.8,2,    17.9,2,   77.72,2,   39.52,2,    0.00,2,    3.02,2,   0.568,2,   0.324,2,   0.2131,2,  -999.0,9,  -999.0,9,-999.0000,9,  -999.00,9, -999.00,9,  -999.0,9, -999.00,9, -999.00,9,       52.3,2, 20220705,     1819,  30.0006,-125.9928,     5.9498,2,     -999.0,9,     -999.0,9,     -999.0,9,     -999.0,9,     0.0134,1,     4.6885,1,     -999.0,9,     -999.0,9,     -999.0,9,     -999.0,9,     -999.0,9
33RR20220613,       P02E,     179,          2,         21,         21,2,20220705,       1700,    30.0006,  -125.9928,       4111,   706.4,2,   5.1559,2,  34.3062,2,  34.3054,2,     13.4,3,    13.3,2,   92.28,2,   41.63,2,    0.00,2,    3.14,2,   0.203,2,   0.121,2,   0.1838,2,  2333.6,2,  2331.9,2,   7.3104,2,    25.01,2, -999.00,9,  -999.0,9, -999.00,9, -999.00,9,       54.4,2, 20220705,     1816,  30.0006,-125.9928,     5.1541,2,     -999.0,9,     -999.0,9,     -999.0,9,     -999.0,9,     0.0134,1,     4.6898,1,     -999.0,9,     -999.0,9,     -999.0,9,     -999.0,9,     -999.0,9
33RR20220613,       P02E,     179,          2,         20,         20,2,20220705,       1700,    30.0006,  -125.9928,       4111,   807.5,2,   4.7907,2,  34.3651,2,  34.3707,2,     13.5,2,    13.4,2,  100.19,2,   42.49,2,    0.00,2,    3.18,2,   0.068,2,   0.045,2,   0.1058,2,  2342.7,2,  2345.4,2,   7.3176,2,    24.98,2, -999.00,9,  -999.0,9, -999.00,9, -999.00,9,       56.4,2, 20220705,     1813,  30.0006,-125.9928,     4.7838,2,     -999.0,9,     -999.0,9,     -999.0,9,     -999.0,9,     0.0134,1,     4.6900,1,     -999.0,9,     -999.0,9,     -999.0,9,     -999.0,9,     -999.0,9
33RR20220613,       P02E,     179,          2,         19,         39,2,20220705,       1700,    30.0006,  -125.9928,       4111,   908.3,2,   4.3492,2,  34.4250,2,  34.4228,2,     18.6,3,    18.3,2,  109.08,2,   43.05,2,    0.00,2,    3.20,2,   0.025,2,   0.019,2,   0.0000,2,  2351.4,2,  2358.9,2,   7.3329,2,    24.98,2, -999.00,9,  -999.0,9, -999.00,9, -999.00,9,       53.5,2, 20220705,     1811,  30.0006,-125.9928,     4.3474,2,     -999.0,9,     -999.0,9,     -999.0,9,     -999.0,9,     0.0134,1,     4.6913,1,     -999.0,9,     -999.0,9,     -999.0,9,     -999.0,9,     -999.0,9
33RR20220613,       P02E,     179,          2,         18,         18,2,20220705,       1700,    30.0006,  -125.9928,       4111,  1009.9,2,   4.0898,2,  34.4669,2,  34.4634,2,     22.9,3,    22.4,2,  114.85,2,   43.18,2,    0.00,2,    3.19,2,   0.015,2,   0.013,2,   0.0000,2,  -999.0,9,  -999.0,9,-999.0000,9,  -999.00,9, -999.00,9,  -999.0,9, -999.00,9, -999.00,9,       52.1,2, 20220705,     1808,  30.0006,-125.9928,     4.0930,2,     -999.0,9,     -999.0,9,     -999.0,9,     -999.0,9,     0.0134,1,     4.6914,1,     -999.0,9,     -999.0,9,     -999.0,9,     -999.0,9,     -999.0,9
33RR20220613,       P02E,     179,          2,         17,         37,2,20220705,       1700,    30.0006,  -125.9928,       4111,  1110.7,2,   3.8413,2,  34.4867,2,  34.4832,2,     27.8,3,    27.4,2,  119.83,2,   43.17,2,    0.00,2,    3.18,2,   0.012,2,   0.011,2,   0.0000,2,  2360.7,2,  2372.8,2,   7.3525,2,    24.99,2, -999.00,9,  -999.0,9, -999.00,9, -999.00,9,       50.1,2, 20220705,     1805,  30.0006,-125.9928,     3.8433,2,     -999.0,9,     -999.0,9,     -999.0,9,     -999.0,9,     0.0134,1,     4.6927,1,     -999.0,9,     -999.0,9,     -999.0,9,     -999.0,9,     -999.0,9
33RR20220613,       P02E,     179,          2,         16,         16,2,20220705,       1700,    30.0006,  -125.9928,       4111,  1212.1,2,   3.6074,2,  34.5088,2,  34.5084,2,     32.4,2,    32.3,2,  125.79,2,   43.05,2,    0.00,2,    3.15,2,   0.011,2,   0.010,2,   0.0000,2,  -999.0,9,  -999.0,9,-999.0000,9,  -999.00,9, -999.00,9,  -999.0,9, -999.00,9, -999.00,9,       47.4,2, 20220705,     1803,  30.0006,-125.9928,     3.6070,2,     -999.0,9,     -999.0,9,     -999.0,9,     -999.0,9,     0.0133,1,     4.6934,1,     -999.0,9,     -999.0,9,     -999.0,9,     -999.0,9,     -999.0,9
33RR20220613,       P02E,     179,          2,         15,         15,2,20220705,       1700,    30.0006,  -125.9928,       4111,  1313.9,2,   3.3653,2,  34.5277,2,  34.5268,2,     37.3,2,    37.7,2,  132.14,2,   43.64,2,    0.00,2,    3.14,2,   0.011,2,   0.010,2,   0.0000,2,  2365.8,2,  2388.1,2,   7.3726,2,    24.99,2, -999.00,9,  -999.0,9, -999.00,9, -999.00,9,       44.8,2, 20220705,     1800,  30.0006,-125.9928,     3.3626,2,     -999.0,9,     -999.0,9,     -999.0,9,     -999.0,9,     0.0134,1,     4.6936,1,     -999.0,9,     -999.0,9,     -999.0,9,     -999.0,9,     -999.0,9
33RR20220613,       P02E,     179,          2,         14,         42,2,20220705,       1700,    30.0006,  -125.9928,       4111,  1414.6,2,   3.1727,2,  34.5427,2,  34.5429,2,     41.5,2,    41.5,2,  136.25,2,   42.60,2,    0.00,2,    3.12,2,-999.000,9,-999.000,9,-999.0000,9,  -999.0,9,  -999.0,9,-999.0000,9,  -999.00,9, -999.00,9,  -999.0,9, -999.00,9, -999.00,9,     -999.0,9, 20220705,     1758,  30.0006,-125.9928,     3.1734,2,     -999.0,9,     -999.0,9,     -999.0,9,     -999.0,9,     0.0134,1,     4.6946,1,     -999.0,9,     -999.0,9,     -999.0,9,     -999.0,9,     -999.0,9
33RR20220613,       P02E,     179,          2,         13,         13,2,20220705,       1700,    30.0006,  -125.9928,       4111,  1516.5,2,   2.9308,2,  34.5596,2,  34.5602,2,     47.8,2,    47.7,2,  142.60,2,   42.51,2,    0.00,2,    3.07,2,   0.010,2,   0.009,2,   0.0000,2,  2372.0,2,  2400.7,2,   7.3923,2,    24.99,2, -999.00,9,  -999.0,9, -999.00,9, -999.00,9,       41.6,2, 20220705,     1755,  30.0006,-125.9928,     2.9324,2,     -999.0,9,     -999.0,9,     -999.0,9,     -999.0,9,     0.0132,1,     4.6947,1,     -999.0,9,     -999.0,9,     -999.0,9,     -999.0,9,     -999.0,9
33RR20220613,       P02E,     179,          2,         12,         12,2,20220705,       1700,    30.0006,  -125.9928,       4111,  1617.8,2,   2.7175,2,  34.5752,2,  34.5737,2,     54.1,2,    54.2,2,  145.92,2,   42.14,2,    0.00,2,    3.05,2,-999.000,9,-999.000,9,-999.0000,9,  -999.0,9,  -999.0,9,-999.0000,9,  -999.00,9, -999.00,9,  -999.0,9, -999.00,9, -999.00,9,     -999.0,9, 20220705,     1752,  30.0006,-125.9928,     2.7214,2,     -999.0,9,     -999.0,9,     -999.0,9,     -999.0,9,     0.0133,1,     4.6955,1,     -999.0,9,     -999.0,9,     -999.0,9,     -999.0,9,     -999.0,9
33RR20220613,       P02E,     179,          2,         11,         11,2,20220705,       1700,    30.0006,  -125.9928,       4111,  1718.2,2,   2.5656,2,  34.5869,2,  34.5832,2,     59.5,2,    59.6,2,  150.61,2,   41.83,2,    0.00,2,    3.03,2,   0.006,2,   0.009,2,   0.0000,2,  2373.9,2,  2406.9,2,   7.4138,2,    25.00,2, -999.00,9,  -999.0,9, -999.00,9, -999.00,9,       38.1,2, 20220705,     1749,  30.0006,-125.9928,     2.5667,2,     -999.0,9,     -999.0,9,     -999.0,9,     -999.0,9,     0.0133,1,     4.6958,1,     -999.0,9,     -999.0,9,     -999.0,9,     -999.0,9,     -999.0,9
33RR20220613,       P02E,     179,          2,         10,         10,2,20220705,       1700,    30.0006,  -125.9928,       4111,  1819.3,2,   2.4220,2,  34.5985,2,  34.5987,2,     65.5,2,    65.2,2,  153.93,2,   41.52,2,    0.00,2,    2.98,2,-999.000,9,-999.000,9,-999.0000,9,  -999.0,9,  -999.0,9,-999.0000,9,  -999.00,9, -999.00,9,  -999.0,9, -999.00,9, -999.00,9,     -999.0,9, 20220705,     1747,  30.0006,-125.9928,     2.4218,2,     -999.0,9,     -999.0,9,     -999.0,9,     -999.0,9,     0.0134,1,     4.6959,1,     -999.0,9,     -999.0,9,     -999.0,9,     -999.0,9,     -999.0,9
33RR20220613,       P02E,     179,          2,          9,          9,2,20220705,       1700,    30.0006,  -125.9928,       4111,  2022.7,2,   2.1712,2,  34.6188,2,  34.6172,2,     77.7,2,    77.7,2,  159.01,2,   40.80,2,    0.00,2,    2.91,2,   0.004,2,   0.005,2,   0.0000,2,  2369.1,2,  2417.6,2,   7.4485,2,    25.00,2, -999.00,9,  -999.0,9, -999.00,9, -999.00,9,       33.4,2, 20220705,     1742,  30.0006,-125.9928,     2.1712,2,     -999.0,9,     -999.0,9,     -999.0,9,     -999.0,9,     0.0134,1,     4.6971,1,     -999.0,9,     -999.0,9,     -999.0,9,     -999.0,9,     -999.0,9
33RR20220613,       P02E,     179,          2,          8,          8,2,20220705,       1700,    30.0006,  -125.9928,       4111,  2277.6,2,   1.9595,2,  34.6367,3,  34.6396,2,     90.2,2,    90.5,2,  163.21,2,   40.05,2,    0.00,2,    2.83,2,-999.000,9,-999.000,9,-999.0000,9,  -999.0,9,  -999.0,9,-999.0000,9,  -999.00,9, -999.00,9,  -999.0,9, -999.00,9, -999.00,9,     -999.0,9, 20220705,     1737,  30.0006,-125.9928,     1.9588,2,     -999.0,9,     -999.0,9,     -999.0,9,     -999.0,9,     0.0132,1,     4.6982,1,     -999.0,9,     -999.0,9,     -999.0,9,     -999.0,9,     -999.0,9
33RR20220613,       P02E,     179,          2,          7,          7,2,20220705,       1700,    30.0006,  -125.9928,       4111,  2532.2,2,   1.8026,2,  34.6497,2,  34.6498,2,    101.0,2,   100.7,2,  165.95,2,   39.38,2,    0.00,2,    2.78,2,   0.005,2,   0.007,2,   0.0000,2,  2363.5,2,  2426.5,2,   7.4928,2,    25.00,2, -999.00,9,  -999.0,9, -999.00,9, -999.00,9,       28.1,2, 20220705,     1731,  30.0006,-125.9928,     1.8030,2,     -999.0,9,     -999.0,9,     -999.0,9,     -999.0,9,     0.0133,1,     4.6986,1,     -999.0,9,     -999.0,9,     -999.0,9,     -999.0,9,     -999.0,9
33RR20220613,       P02E,     179,          2,          6,          6,2,20220705,       1700,    30.0006,  -125.9928,       4111,  2787.4,2,   1.6813,2,  34.6589,3,  34.6563,2,    109.7,2,   110.0,2,  168.39,2,   38.81,2,    0.00,2,    2.73,2,-999.000,9,-999.000,9,-999.0000,9,  -999.0,9,  -999.0,9,-999.0000,9,  -999.00,9, -999.00,9,  -999.0,9, -999.00,9, -999.00,9,     -999.0,9, 20220705,     1727,  30.0006,-125.9928,     1.6814,2,     -999.0,9,     -999.0,9,     -999.0,9,     -999.0,9,     0.0133,1,     4.6997,1,     -999.0,9,     -999.0,9,     -999.0,9,     -999.0,9,     -999.0,9
33RR20220613,       P02E,     179,          2,          5,          5,2,20220705,       1700,    30.0006,  -125.9928,       4111,  3042.6,2,   1.5924,2,  34.6666,3,  34.6641,2,    117.8,2,   117.6,2,  169.95,2,   38.33,2,    0.00,2,    2.68,2,   0.007,2,   0.009,2,   0.0000,2,  2356.5,2,  2430.3,6,   7.5255,2,    25.00,2, -999.00,9,  -999.0,9, -999.00,9, -999.00,9,       26.9,2, 20220705,     1722,  30.0006,-125.9928,     1.5919,2,     -999.0,9,     -999.0,9,     -999.0,9,     -999.0,9,     0.0130,1,     4.6996,1,     -999.0,9,     -999.0,9,     -999.0,9,     -999.0,9,     -999.0,9