BOTTLE,20230830CCHSIOCBG
EXPOCODE,SECT_ID,STNNBR,CASTNO,SAMPNO,BTLNBR,BTLNBR_FLAG_W,DATE,TIME,LATITUDE,LONGITUDE,DEPTH,CTDPRS,CTDPRS_FLAG_W,CTDTMP,CTDTMP_FLAG_W,CTDSAL,CTDSAL_FLAG_W,SALNTY,SALNTY_FLAG_W,CTDOXY,CTDOXY_FLAG_W,OXYGEN,OXYGEN_FLAG_W,SILCAT,SILCAT_FLAG_W,NITRAT,NITRAT_FLAG_W,NITRIT,NITRIT_FLAG_W,PHSPHT,PHSPHT_FLAG_W,CFC-11,CFC-11_FLAG_W,CFC-12,CFC-12_FLAG_W,SF6,SF6_FLAG_W,TCARBN,TCARBN_FLAG_W,ALKALI,ALKALI_FLAG_W,PH_TOT,PH_TOT_FLAG_W,PH_TMP,PH_TMP_FLAG_W,DELC13,DELC13_FLAG_W,DELC14,DELC14_FLAG_W,DOC,DOC_FLAG_W,TDN,TDN_FLAG_W,N2O,N2O_FLAG_W,BTL_DATE,BTL_TIME,BTL_LAT,BTL_LON,REFTMP,REFTMP_FLAG_W,POC,POC_FLAG_W,PON,PON_FLAG_W,POP,POP_FLAG_W,PCOD,PCOD_FLAG_W,CTDFLUOR,CTDFLUOR_FLAG_W,CTDXMISS,CTDXMISS_FLAG_W,HPLC,HPLC_FLAG_W,DNA,DNA_FLAG_W,FCM,FCM_FLAG_W,IMAGES,IMAGES_FLAG_W,VIRAL_ABUNDANCE,VIRAL_ABUNDANCE_FLAG_W
,,,,,,,,,,,METERS,DBAR,,ITS-90,,PSS-78,,PSS-78,,UMOL/KG,,UMOL/KG,,UMOL/KG,,UMOL/KG,,UMOL/KG,,UMOL/KG,,PMOL/KG,,PMOL/KG,,FMOL/KG,,UMOL/KG,,UMOL/KG,,,,DEG C,,/MILLE,,/MILLE,,UMOL/KG,,UMOL/KG,,NMOL/KG,,,,,,ITS-90,,UG/L,,UG/L,,UG/L,,UG/L,,VOLTS,,VOLTS,,,,,,,,,,,
33RR20220613,       P02E,     181,          1,          4,          4,2,20220706,       0457,    29.9995,  -124.8368,       3768,  3212.5,2,   1.5509,2,  34.6706,2,  34.6694,2,    123.4,2,   123.4,2,  167.95,2,   37.92,2,    0.00,2,    2.62,2,-999.000,9,-999.000,9,-999.0000,9,  -999.0,9,  -999.0,9,-999.0000,9,  -999.00,9, -999.00,9,  -999.0,9, -999.00,9, -999.00,9,     -999.0,9, 20220706,      510,  29.9995,-124.8368,     1.5508,2,     -999.0,9,     -999.0,9,     -999.0,9,     -999.0,9,     0.0131,1,     4.7007,1,     -999.0,9,     -999.0,9,     -999.0,9,     -999.0,9,     -999.0,9
33RR20220613,       P02E,     181,          1,          3,          3,2,20220706,       0457,    29.9995,  -124.8368,       3768,  3502.4,2,   1.5530,2,  34.6727,2,  34.6718,2,    126.2,2,   126.5,2,  167.66,2,   37.73,2,    0.00,2,    2.61,2,   0.007,2,   0.009,2,   0.0000,2,  2349.5,2,  2430.2,2,   7.5400,2,    25.01,2, -999.00,9,  -999.0,9, -999.00,9, -999.00,9,       24.6,2, 20220706,      505,  29.9995,-124.8368,     1.5530,2,     -999.0,9,     -999.0,9,     -999.0,9,     -999.0,9,     0.0123,1,     4.7007,1,     -999.0,9,     -999.0,9,     -999.0,9,     -999.0,9,     -999.0,9
33RR20220613,       P02E,     181,          1,          2,          2,2,20220706,       0457,    29.9995,  -124.8368,       3768,  3697.5,2,   1.5126,2,  34.6780,2,  34.6769,2,    132.9,2,   133.1,2,  166.58,2,   37.33,2,    0.00,2,    2.58,2,   0.007,2,   0.008,2,   0.0000,2,  2343.7,2,  2431.2,6,   7.5527,2,    25.00,2, -999.00,9,  -999.0,9, -999.00,9, -999.00,9,       23.8,2, 20220706,      500,  29.9995,-124.8368,     1.5125,2,     -999.0,9,     -999.0,9,     -999.0,9,     -999.0,9,     0.0122,1,     4.7008,1,     -999.0,9,     -999.0,9,     -999.0,9,     -999.0,9,     -999.0,9
33RR20220613,       P02E,     181,          1,          1,          1,2,20220706,       0457,    29.9995,  -124.8368,       3768,  3816.5,2,   1.5097,2,  34.6793,2,  34.6800,2,    134.8,2,   134.5,2,  166.00,2,   37.20,2,    0.00,2,    2.56,2,   0.009,2,   0.012,2,   0.0000,2,  2346.0,6,  2432.4,2,   7.5557,2,    25.01,2, -999.00,9,  -999.0,9, -999.00,9, -999.00,9,       23.4,2, 20220706,      457,  29.9995,-124.8368,     1.5097,2,     -999.0,9,     -999.0,9,     -999.0,9,     -999.0,9,     0.0125,1,     4.7007,1,     -999.0,9,     -999.0,9,     -999.0,9,     -999.0,9,     -999.0,9
33RR20220613,       P02E,     182,          1,          9,          9,2,20220706,       1003,    30.0000,  -124.2599,       4620,     5.1,2,  18.6134,2,  33.1540,2,-999.0000,9,    239.8,2,  -999.0,9, -999.00,9, -999.00,9, -999.00,9, -999.00,9,-999.000,9,-999.000,9,-999.0000,9,  -999.0,9,  -999.0,9,-999.0000,9,  -999.00,9, -999.00,9,  -999.0,9, -999.00,9, -999.00,9,     -999.0,9, 20220706,     1029,  30.0000,-124.2599,    18.6131,2,     -999.0,9,     -999.0,9,     -999.0,9,     -999.0,9,     0.0142,1,     4.6304,1,     -999.0,1,     -999.0,9,     -999.0,1,     -999.0,9,     -999.0,9
33RR20220613,       P02E,     182,          1,         16,         16,2,20220706,       1003,    30.0000,  -124.2599,       4620,     5.2,2,  18.6179,2,  33.1541,2,-999.0000,9,    239.8,2,  -999.0,9, -999.00,9, -999.00,9, -999.00,9, -999.00,9,-999.000,9,-999.000,9,-999.0000,9,  -999.0,9,  -999.0,9,-999.0000,9,  -999.00,9, -999.00,9,  -999.0,9, -999.00,9, -999.00,9,     -999.0,9, 20220706,     1029,  30.0000,-124.2599,    18.6168,2,     -999.0,9,     -999.0,9,     -999.0,1,     -999.0,9,     0.0134,1,     4.6297,1,     -999.0,9,     -999.0,9,     -999.0,9,     -999.0,9,     -999.0,9
33RR20220613,       P02E,     182,          1,         13,         13,2,20220706,       1003,    30.0000,  -124.2599,       4620,     5.2,2,  18.6157,2,  33.1541,2,-999.0000,9,    239.8,2,  -999.0,9, -999.00,9, -999.00,9, -999.00,9, -999.00,9,-999.000,9,-999.000,9,-999.0000,9,  -999.0,9,  -999.0,9,-999.0000,9,  -999.00,9, -999.00,9,  -999.0,9, -999.00,9, -999.00,9,     -999.0,9, 20220706,     1029,  30.0000,-124.2599,    18.6161,2,     -999.0,1,     -999.0,1,     -999.0,9,     -999.0,9,     0.0142,1,     4.6305,1,     -999.0,9,     -999.0,9,     -999.0,9,     -999.0,9,     -999.0,9
33RR20220613,       P02E,     182,          1,         11,         11,2,20220706,       1003,    30.0000,  -124.2599,       4620,     5.2,2,  18.6153,2,  33.1540,2,-999.0000,9,    239.7,2,  -999.0,9, -999.00,9, -999.00,9, -999.00,9, -999.00,9,-999.000,9,-999.000,9,-999.0000,9,  -999.0,9,  -999.0,9,-999.0000,9,  -999.00,9, -999.00,9,  -999.0,9, -999.00,9, -999.00,9,     -999.0,9, 20220706,     1029,  30.0000,-124.2599,     -999.0,9,     -999.0,1,     -999.0,1,     -999.0,9,     -999.0,9,     0.0146,1,     4.6275,1,     -999.0,9,     -999.0,9,     -999.0,9,     -999.0,9,     -999.0,9
33RR20220613,       P02E,     182,          1,         19,         39,2,20220706,       1003,    30.0000,  -124.2599,       4620,     5.2,2,  18.6158,2,  33.1542,2,-999.0000,9,    239.7,2,  -999.0,9, -999.00,9, -999.00,9, -999.00,9, -999.00,9,-999.000,9,-999.000,9,-999.0000,9,  -999.0,9,  -999.0,9,-999.0000,9,  -999.00,9, -999.00,9,  -999.0,9, -999.00,9, -999.00,9,     -999.0,9, 20220706,     1030,  30.0000,-124.2599,     -999.0,9,     -999.0,9,     -999.0,9,     -999.0,9,     -999.0,1,     0.0142,1,     4.6300,1,     -999.0,9,     -999.0,9,     -999.0,9,     -999.0,9,     -999.0,9
33RR20220613,       P02E,     182,          1,         12,         12,2,20220706,       1003,    30.0000,  -124.2599,       4620,     5.3,2,  18.6150,2,  33.1540,2,-999.0000,9,    239.8,2,  -999.0,9, -999.00,9, -999.00,9, -999.00,9, -999.00,9,-999.000,9,-999.000,9,-999.0000,9,  -999.0,9,  -999.0,9,-999.0000,9,  -999.00,9, -999.00,9,  -999.0,9, -999.00,9, -999.00,9,     -999.0,9, 20220706,     1029,  30.0000,-124.2599,     -999.0,9,     -999.0,1,     -999.0,1,     -999.0,9,     -999.0,9,     0.0134,1,     4.6245,1,     -999.0,9,     -999.0,9,     -999.0,9,     -999.0,9,     -999.0,9
33RR20220613,       P02E,     182,          1,         18,         18,2,20220706,       1003,    30.0000,  -124.2599,       4620,     5.3,2,  18.6165,2,  33.1543,2,-999.0000,9,    239.9,2,  -999.0,9, -999.00,9, -999.00,9, -999.00,9, -999.00,9,-999.000,9,-999.000,9,-999.0000,9,  -999.0,9,  -999.0,9,-999.0000,9,  -999.00,9, -999.00,9,  -999.0,9, -999.00,9, -999.00,9,     -999.0,9, 20220706,     1029,  30.0000,-124.2599,     -999.0,9,     -999.0,9,     -999.0,9,     -999.0,9,     -999.0,1,     0.0134,1,     4.6299,1,     -999.0,9,     -999.0,9,     -999.0,9,     -999.0,9,     -999.0,9
33RR20220613,       P02E,     182,          1,         17,         37,2,20220706,       1003,    30.0000,  -124.2599,       4620,     5.4,2,  18.6185,2,  33.1542,2,-999.0000,9,    239.7,2,  -999.0,9, -999.00,9, -999.00,9, -999.00,9, -999.00,9,-999.000,9,-999.000,9,-999.0000,9,  -999.0,9,  -999.0,9,-999.0000,9,  -999.00,9, -999.00,9,  -999.0,9, -999.00,9, -999.00,9,     -999.0,9, 20220706,     1029,  30.0000,-124.2599,     -999.0,9,     -999.0,9,     -999.0,9,     -999.0,9,     -999.0,1,     0.0134,1,     4.6297,1,     -999.0,9,     -999.0,9,     -999.0,9,     -999.0,9,     -999.0,9
33RR20220613,       P02E,     182,          1,         10,         10,2,20220706,       1003,    30.0000,  -124.2599,       4620,     5.4,2,  18.6125,2,  33.1541,2,-999.0000,9,    239.8,2,  -999.0,9, -999.00,9, -999.00,9, -999.00,9, -999.00,9,-999.000,9,-999.000,9,-999.0000,9,  -999.0,9,  -999.0,9,-999.0000,9,  -999.00,9, -999.00,9,  -999.0,9, -999.00,9, -999.00,9,     -999.0,9, 20220706,     1029,  30.0000,-124.2599,     -999.0,9,     -999.0,9,     -999.0,9,     -999.0,9,     -999.0,9,     0.0143,1,     4.6298,1,     -999.0,9,     -999.0,1,     -999.0,9,     -999.0,9,     -999.0,9
33RR20220613,       P02E,     182,          1,         14,         42,2,20220706,       1003,    30.0000,  -124.2599,       4620,     5.4,2,  18.6188,2,  33.1540,2,-999.0000,9,    239.7,2,  -999.0,9, -999.00,9, -999.00,9, -999.00,9, -999.00,9,-999.000,9,-999.000,9,-999.0000,9,  -999.0,9,  -999.0,9,-999.0000,9,  -999.00,9, -999.00,9,  -999.0,9, -999.00,9, -999.00,9,     -999.0,9, 20220706,     1029,  30.0000,-124.2599,     -999.0,9,     -999.0,9,     -999.0,9,     -999.0,1,     -999.0,9,     0.0134,1,     4.6299,1,     -999.0,9,     -999.0,9,     -999.0,9,     -999.0,9,     -999.0,9
33RR20220613,       P02E,     182,          1,         15,         15,2,20220706,       1003,    30.0000,  -124.2599,       4620,     5.4,2,  18.6186,2,  33.1541,2,-999.0000,9,    239.8,2,  -999.0,9, -999.00,9, -999.00,9, -999.00,9, -999.00,9,-999.000,9,-999.000,9,-999.0000,9,  -999.0,9,  -999.0,9,-999.0000,9,  -999.00,9, -999.00,9,  -999.0,9, -999.00,9, -999.00,9,     -999.0,9, 20220706,     1029,  30.0000,-124.2599,     -999.0,9,     -999.0,9,     -999.0,9,     -999.0,1,     -999.0,9,     0.0135,1,     4.6288,1,     -999.0,9,     -999.0,9,     -999.0,9,     -999.0,9,     -999.0,9
33RR20220613,       P02E,     182,          1,          8,          8,2,20220706,       1003,    30.0000,  -124.2599,       4620,    40.2,2,  17.3660,2,  33.1585,2,-999.0000,9,    246.7,2,  -999.0,9, -999.00,9, -999.00,9, -999.00,9, -999.00,9,-999.000,9,-999.000,9,-999.0000,9,  -999.0,9,  -999.0,9,-999.0000,9,  -999.00,9, -999.00,9,  -999.0,9, -999.00,9, -999.00,9,     -999.0,9, 20220706,     1025,  30.0000,-124.2599,    17.3642,2,     -999.0,9,     -999.0,9,     -999.0,9,     -999.0,9,     0.0159,1,     4.6190,1,     -999.0,1,     -999.0,9,     -999.0,1,     -999.0,9,     -999.0,9
33RR20220613,       P02E,     182,          1,          7,          7,2,20220706,       1003,    30.0000,  -124.2599,       4620,    75.6,2,  15.2758,2,  33.0966,2,-999.0000,9,    258.6,2,  -999.0,9, -999.00,9, -999.00,9, -999.00,9, -999.00,9,-999.000,9,-999.000,9,-999.0000,9,  -999.0,9,  -999.0,9,-999.0000,9,  -999.00,9, -999.00,9,  -999.0,9, -999.00,9, -999.00,9,     -999.0,9, 20220706,     1024,  30.0000,-124.2599,    15.2910,2,     -999.0,9,     -999.0,9,     -999.0,9,     -999.0,9,     0.0253,1,     4.6266,1,     -999.0,9,     -999.0,9,     -999.0,1,     -999.0,9,     -999.0,9
33RR20220613,       P02E,     182,          1,          6,          6,2,20220706,       1003,    30.0000,  -124.2599,       4620,   101.3,2,  14.2904,2,  33.0564,2,-999.0000,9,    258.6,2,  -999.0,9, -999.00,9, -999.00,9, -999.00,9, -999.00,9,-999.000,9,-999.000,9,-999.0000,9,  -999.0,9,  -999.0,9,-999.0000,9,  -999.00,9, -999.00,9,  -999.0,9, -999.00,9, -999.00,9,     -999.0,9, 20220706,     1022,  30.0001,-124.2599,     -999.0,9,     -999.0,9,     -999.0,9,     -999.0,9,     -999.0,9,     0.0558,1,     4.6232,1,     -999.0,9,     -999.0,1,     -999.0,9,     -999.0,9,     -999.0,9
33RR20220613,       P02E,     182,          1,          5,          5,2,20220706,       1003,    30.0000,  -124.2599,       4620,   101.3,2,  14.2911,2,  33.0548,2,-999.0000,9,    258.7,2,  -999.0,9, -999.00,9, -999.00,9, -999.00,9, -999.00,9,-999.000,9,-999.000,9,-999.0000,9,  -999.0,9,  -999.0,9,-999.0000,9,  -999.00,9, -999.00,9,  -999.0,9, -999.00,9, -999.00,9,     -999.0,9, 20220706,     1022,  30.0000,-124.2599,    14.3035,2,     -999.0,9,     -999.0,9,     -999.0,9,     -999.0,9,     0.0576,1,     4.6245,1,     -999.0,1,     -999.0,9,     -999.0,1,     -999.0,9,     -999.0,9
33RR20220613,       P02E,     182,          1,          4,          4,2,20220706,       1003,    30.0000,  -124.2599,       4620,   152.5,2,  12.1671,2,  33.2116,2,-999.0000,9,    239.3,2,  -999.0,9, -999.00,9, -999.00,9, -999.00,9, -999.00,9,-999.000,9,-999.000,9,-999.0000,9,  -999.0,9,  -999.0,9,-999.0000,9,  -999.00,9, -999.00,9,  -999.0,9, -999.00,9, -999.00,9,     -999.0,9, 20220706,     1020,  30.0001,-124.2599,    12.1656,2,     -999.0,9,     -999.0,9,     -999.0,9,     -999.0,9,     0.0138,1,     4.6740,1,     -999.0,9,     -999.0,9,     -999.0,1,     -999.0,9,     -999.0,9
33RR20220613,       P02E,     182,          1,          3,          3,2,20220706,       1003,    30.0000,  -124.2599,       4620,   202.7,2,  10.0619,2,  33.6798,2,-999.0000,9,    160.7,2,  -999.0,9, -999.00,9, -999.00,9, -999.00,9, -999.00,9,-999.000,9,-999.000,9,-999.0000,9,  -999.0,9,  -999.0,9,-999.0000,9,  -999.00,9, -999.00,9,  -999.0,9, -999.00,9, -999.00,9,     -999.0,9, 20220706,     1017,  30.0001,-124.2599,    10.0854,2,     -999.0,9,     -999.0,9,     -999.0,9,     -999.0,9,     0.0128,1,     4.6752,1,     -999.0,9,     -999.0,1,     -999.0,1,     -999.0,9,     -999.0,9
33RR20220613,       P02E,     182,          1,          2,          2,2,20220706,       1003,    30.0000,  -124.2599,       4620,   504.1,2,   6.1384,2,  34.1496,2,-999.0000,9,     33.8,2,  -999.0,9, -999.00,9, -999.00,9, -999.00,9, -999.00,9,-999.000,9,-999.000,9,-999.0000,9,  -999.0,9,  -999.0,9,-999.0000,9,  -999.00,9, -999.00,9,  -999.0,9, -999.00,9, -999.00,9,     -999.0,9, 20220706,     1012,  30.0001,-124.2599,     6.1392,2,     -999.0,9,     -999.0,9,     -999.0,9,     -999.0,9,     0.0134,1,     4.6825,1,     -999.0,9,     -999.0,9,     -999.0,1,     -999.0,9,     -999.0,9
33RR20220613,       P02E,     182,          1,          1,          1,2,20220706,       1003,    30.0000,  -124.2599,       4620,  1009.8,2,   4.1108,2,  34.4640,2,-999.0000,9,     21.9,2,  -999.0,9, -999.00,9, -999.00,9, -999.00,9, -999.00,9,-999.000,9,-999.000,9,-999.0000,9,  -999.0,9,  -999.0,9,-999.0000,9,  -999.00,9, -999.00,9,  -999.0,9, -999.00,9, -999.00,9,     -999.0,9, 20220706,     1003,  30.0001,-124.2599,     4.1114,2,     -999.0,9,     -999.0,9,     -999.0,9,     -999.0,9,     0.0134,1,     4.6910,1,     -999.0,9,     -999.0,1,     -999.0,1,     -999.0,9,     -999.0,9