BOTTLE,20230830CCHSIOCBG
EXPOCODE,SECT_ID,STNNBR,CASTNO,SAMPNO,BTLNBR,BTLNBR_FLAG_W,DATE,TIME,LATITUDE,LONGITUDE,DEPTH,CTDPRS,CTDPRS_FLAG_W,CTDTMP,CTDTMP_FLAG_W,CTDSAL,CTDSAL_FLAG_W,SALNTY,SALNTY_FLAG_W,CTDOXY,CTDOXY_FLAG_W,OXYGEN,OXYGEN_FLAG_W,SILCAT,SILCAT_FLAG_W,NITRAT,NITRAT_FLAG_W,NITRIT,NITRIT_FLAG_W,PHSPHT,PHSPHT_FLAG_W,CFC-11,CFC-11_FLAG_W,CFC-12,CFC-12_FLAG_W,SF6,SF6_FLAG_W,TCARBN,TCARBN_FLAG_W,ALKALI,ALKALI_FLAG_W,PH_TOT,PH_TOT_FLAG_W,PH_TMP,PH_TMP_FLAG_W,DELC13,DELC13_FLAG_W,DELC14,DELC14_FLAG_W,DOC,DOC_FLAG_W,TDN,TDN_FLAG_W,N2O,N2O_FLAG_W,BTL_DATE,BTL_TIME,BTL_LAT,BTL_LON,REFTMP,REFTMP_FLAG_W,POC,POC_FLAG_W,PON,PON_FLAG_W,POP,POP_FLAG_W,PCOD,PCOD_FLAG_W,CTDFLUOR,CTDFLUOR_FLAG_W,CTDXMISS,CTDXMISS_FLAG_W,HPLC,HPLC_FLAG_W,DNA,DNA_FLAG_W,FCM,FCM_FLAG_W,IMAGES,IMAGES_FLAG_W,VIRAL_ABUNDANCE,VIRAL_ABUNDANCE_FLAG_W
,,,,,,,,,,,METERS,DBAR,,ITS-90,,PSS-78,,PSS-78,,UMOL/KG,,UMOL/KG,,UMOL/KG,,UMOL/KG,,UMOL/KG,,UMOL/KG,,PMOL/KG,,PMOL/KG,,FMOL/KG,,UMOL/KG,,UMOL/KG,,,,DEG C,,/MILLE,,/MILLE,,UMOL/KG,,UMOL/KG,,NMOL/KG,,,,,,ITS-90,,UG/L,,UG/L,,UG/L,,UG/L,,VOLTS,,VOLTS,,,,,,,,,,,
33RR20220613,       P02E,     193,          1,          4,          4,2,20220710,       0125,    31.8560,  -119.6188,       2831,  2435.3,2,   1.8663,2,  34.6447,2,  34.6449,2,     97.7,2,    97.4,2,  163.86,2,   39.53,2,    0.00,2,    2.77,2,   0.006,2,   0.006,2,   0.0000,2,  -999.0,9,  -999.0,9,-999.0000,9,  -999.00,9, -999.00,9,  -999.0,9, -999.00,9, -999.00,9,       29.0,2, 20220710,      139,  31.8559,-119.6188,     1.8643,2,     -999.0,9,     -999.0,9,     -999.0,9,     -999.0,9,     0.0134,1,     4.6875,1,     -999.0,9,     -999.0,9,     -999.0,9,     -999.0,9,     -999.0,9
33RR20220613,       P02E,     193,          1,          3,          3,2,20220710,       0125,    31.8560,  -119.6188,       2831,  2588.8,2,   1.7666,2,  34.6537,2,  34.6527,2,    105.1,2,   105.2,2,  164.83,2,   39.13,2,    0.00,2,    2.74,2,   0.007,2,   0.008,2,   0.0000,2,  2367.8,2,  2428.9,2,   7.5031,2,    25.00,2, -999.00,9,  -999.0,9, -999.00,9, -999.00,9,       26.9,2, 20220710,      134,  31.8559,-119.6188,     1.7673,2,     -999.0,9,     -999.0,9,     -999.0,9,     -999.0,9,     0.0134,1,     4.6860,1,     -999.0,9,     -999.0,9,     -999.0,9,     -999.0,9,     -999.0,9
33RR20220613,       P02E,     193,          1,          2,          2,2,20220710,       0125,    31.8560,  -119.6188,       2831,  2742.1,2,   1.6967,2,  34.6596,2,  34.6592,2,    111.1,2,   111.2,2,  165.91,2,   38.80,2,    0.00,2,    2.69,2,   0.008,2,   0.009,2,   0.0000,2,  2361.4,2,  2429.3,6,   7.5146,2,    25.00,2, -999.00,9,  -999.0,9, -999.00,9, -999.00,9,       27.5,2, 20220710,      131,  31.8560,-119.6188,     1.6967,2,     -999.0,9,     -999.0,9,     -999.0,9,     -999.0,9,     0.0127,1,     4.6881,1,     -999.0,9,     -999.0,9,     -999.0,9,     -999.0,9,     -999.0,9
33RR20220613,       P02E,     193,          1,          1,          1,2,20220710,       0125,    31.8560,  -119.6188,       2831,  2860.6,2,   1.6828,2,  34.6613,2,  34.6624,2,    112.9,2,   112.7,2,  166.30,2,   38.86,2,    0.00,2,    2.69,2,   0.011,2,   0.011,2,   0.0000,2,  2361.0,6,  2431.5,2,   7.5171,2,    25.00,2, -999.00,9,  -999.0,9, -999.00,9, -999.00,9,       26.8,2, 20220710,      125,  31.8560,-119.6188,     1.6828,2,     -999.0,9,     -999.0,9,     -999.0,9,     -999.0,9,     0.0122,1,     4.6832,1,     -999.0,9,     -999.0,9,     -999.0,9,     -999.0,9,     -999.0,9
33RR20220613,       P02E,     194,          2,          9,          9,2,20220710,       0729,    31.8648,  -119.6030,       2271,     3.1,2,  17.2053,2,  33.6314,2,-999.0000,9,    245.6,2,  -999.0,9, -999.00,9, -999.00,9, -999.00,9, -999.00,9,-999.000,9,-999.000,9,-999.0000,9,  -999.0,9,  -999.0,9,-999.0000,9,  -999.00,9, -999.00,9,  -999.0,9, -999.00,9, -999.00,9,     -999.0,9, 20220710,      758,  31.8649,-119.6031,    17.2061,2,     -999.0,9,     -999.0,9,     -999.0,9,     -999.0,9,     0.0478,1,     4.5496,1,     -999.0,1,     -999.0,9,     -999.0,1,     -999.0,9,     -999.0,9
33RR20220613,       P02E,     194,          2,         16,         16,2,20220710,       0729,    31.8648,  -119.6030,       2271,     3.4,2,  17.2045,2,  33.6315,2,-999.0000,9,    245.7,2,  -999.0,9, -999.00,9, -999.00,9, -999.00,9, -999.00,9,-999.000,9,-999.000,9,-999.0000,9,  -999.0,9,  -999.0,9,-999.0000,9,  -999.00,9, -999.00,9,  -999.0,9, -999.00,9, -999.00,9,     -999.0,9, 20220710,      758,  31.8648,-119.6030,     -999.0,9,     -999.0,9,     -999.0,9,     -999.0,1,     -999.0,9,     0.0470,1,     4.5500,1,     -999.0,9,     -999.0,9,     -999.0,9,     -999.0,9,     -999.0,9
33RR20220613,       P02E,     194,          2,         19,         39,2,20220710,       0729,    31.8648,  -119.6030,       2271,     3.5,2,  17.2058,2,  33.6314,2,-999.0000,9,    245.7,2,  -999.0,9, -999.00,9, -999.00,9, -999.00,9, -999.00,9,-999.000,9,-999.000,9,-999.0000,9,  -999.0,9,  -999.0,9,-999.0000,9,  -999.00,9, -999.00,9,  -999.0,9, -999.00,9, -999.00,9,     -999.0,9, 20220710,      758,  31.8648,-119.6030,     -999.0,9,     -999.0,9,     -999.0,9,     -999.0,9,     -999.0,1,     0.0481,1,     4.5484,1,     -999.0,9,     -999.0,9,     -999.0,9,     -999.0,9,     -999.0,9
33RR20220613,       P02E,     194,          2,         17,         37,2,20220710,       0729,    31.8648,  -119.6030,       2271,     3.6,2,  17.2051,2,  33.6315,2,-999.0000,9,    245.6,2,  -999.0,9, -999.00,9, -999.00,9, -999.00,9, -999.00,9,-999.000,9,-999.000,9,-999.0000,9,  -999.0,9,  -999.0,9,-999.0000,9,  -999.00,9, -999.00,9,  -999.0,9, -999.00,9, -999.00,9,     -999.0,9, 20220710,      758,  31.8648,-119.6030,     -999.0,9,     -999.0,9,     -999.0,9,     -999.0,9,     -999.0,1,     0.0469,1,     4.5490,1,     -999.0,9,     -999.0,9,     -999.0,9,     -999.0,9,     -999.0,9
33RR20220613,       P02E,     194,          2,         10,         10,2,20220710,       0729,    31.8648,  -119.6030,       2271,     3.6,2,  17.2065,2,  33.6315,2,-999.0000,9,    245.6,2,  -999.0,9, -999.00,9, -999.00,9, -999.00,9, -999.00,9,-999.000,9,-999.000,9,-999.0000,9,  -999.0,9,  -999.0,9,-999.0000,9,  -999.00,9, -999.00,9,  -999.0,9, -999.00,9, -999.00,9,     -999.0,9, 20220710,      758,  31.8649,-119.6031,     -999.0,9,     -999.0,9,     -999.0,9,     -999.0,9,     -999.0,9,     0.0464,1,     4.5496,1,     -999.0,9,     -999.0,1,     -999.0,9,     -999.0,9,     -999.0,9
33RR20220613,       P02E,     194,          2,         13,         13,2,20220710,       0729,    31.8648,  -119.6030,       2271,     3.7,2,  17.2057,2,  33.6315,2,-999.0000,9,    245.6,2,  -999.0,9, -999.00,9, -999.00,9, -999.00,9, -999.00,9,-999.000,9,-999.000,9,-999.0000,9,  -999.0,9,  -999.0,9,-999.0000,9,  -999.00,9, -999.00,9,  -999.0,9, -999.00,9, -999.00,9,     -999.0,9, 20220710,      758,  31.8648,-119.6030,    17.2052,2,     -999.0,1,     -999.0,1,     -999.0,9,     -999.0,9,     0.0478,1,     4.5493,1,     -999.0,9,     -999.0,9,     -999.0,9,     -999.0,9,     -999.0,9
33RR20220613,       P02E,     194,          2,         18,         18,2,20220710,       0729,    31.8648,  -119.6030,       2271,     3.8,2,  17.2055,2,  33.6313,2,-999.0000,9,    245.8,2,  -999.0,9, -999.00,9, -999.00,9, -999.00,9, -999.00,9,-999.000,9,-999.000,9,-999.0000,9,  -999.0,9,  -999.0,9,-999.0000,9,  -999.00,9, -999.00,9,  -999.0,9, -999.00,9, -999.00,9,     -999.0,9, 20220710,      758,  31.8648,-119.6030,     -999.0,9,     -999.0,9,     -999.0,9,     -999.0,9,     -999.0,1,     0.0464,1,     4.5487,1,     -999.0,9,     -999.0,9,     -999.0,9,     -999.0,9,     -999.0,9
33RR20220613,       P02E,     194,          2,         12,         12,2,20220710,       0729,    31.8648,  -119.6030,       2271,     3.9,2,  17.2064,2,  33.6314,2,-999.0000,9,    245.5,2,  -999.0,9, -999.00,9, -999.00,9, -999.00,9, -999.00,9,-999.000,9,-999.000,9,-999.0000,9,  -999.0,9,  -999.0,9,-999.0000,9,  -999.00,9, -999.00,9,  -999.0,9, -999.00,9, -999.00,9,     -999.0,9, 20220710,      758,  31.8649,-119.6031,     -999.0,9,     -999.0,1,     -999.0,1,     -999.0,9,     -999.0,9,     0.0473,1,     4.5287,1,     -999.0,9,     -999.0,9,     -999.0,9,     -999.0,9,     -999.0,9
33RR20220613,       P02E,     194,          2,         20,         20,2,20220710,       0729,    31.8648,  -119.6030,       2271,     4.0,2,  17.2059,2,  33.6314,2,-999.0000,9,    245.8,2,  -999.0,9, -999.00,9, -999.00,9, -999.00,9, -999.00,9,-999.000,9,-999.000,9,-999.0000,9,  -999.0,9,  -999.0,9,-999.0000,9,  -999.00,9, -999.00,9,  -999.0,9, -999.00,9, -999.00,9,     -999.0,9, 20220710,      758,  31.8648,-119.6030,    17.2053,2,     -999.0,9,     -999.0,9,     -999.0,9,     -999.0,9,     0.0472,1,     4.5495,1,     -999.0,9,     -999.0,9,     -999.0,9,     -999.0,9,     -999.0,9
33RR20220613,       P02E,     194,          2,         14,         42,2,20220710,       0729,    31.8648,  -119.6030,       2271,     4.0,2,  17.2057,2,  33.6314,2,-999.0000,9,    245.6,2,  -999.0,9, -999.00,9, -999.00,9, -999.00,9, -999.00,9,-999.000,9,-999.000,9,-999.0000,9,  -999.0,9,  -999.0,9,-999.0000,9,  -999.00,9, -999.00,9,  -999.0,9, -999.00,9, -999.00,9,     -999.0,9, 20220710,      758,  31.8648,-119.6030,     -999.0,9,     -999.0,9,     -999.0,9,     -999.0,1,     -999.0,9,     0.0469,1,     4.5505,1,     -999.0,9,     -999.0,9,     -999.0,9,     -999.0,9,     -999.0,9
33RR20220613,       P02E,     194,          2,         15,         15,2,20220710,       0729,    31.8648,  -119.6030,       2271,     4.0,2,  17.2055,2,  33.6314,2,-999.0000,9,    245.8,2,  -999.0,9, -999.00,9, -999.00,9, -999.00,9, -999.00,9,-999.000,9,-999.000,9,-999.0000,9,  -999.0,9,  -999.0,9,-999.0000,9,  -999.00,9, -999.00,9,  -999.0,9, -999.00,9, -999.00,9,     -999.0,9, 20220710,      758,  31.8648,-119.6030,     -999.0,9,     -999.0,9,     -999.0,9,     -999.0,1,     -999.0,9,     0.0486,1,     4.5493,1,     -999.0,9,     -999.0,9,     -999.0,9,     -999.0,9,     -999.0,9
33RR20220613,       P02E,     194,          2,         11,         11,2,20220710,       0729,    31.8648,  -119.6030,       2271,     4.3,2,  17.2069,2,  33.6314,2,-999.0000,9,    245.5,2,  -999.0,9, -999.00,9, -999.00,9, -999.00,9, -999.00,9,-999.000,9,-999.000,9,-999.0000,9,  -999.0,9,  -999.0,9,-999.0000,9,  -999.00,9, -999.00,9,  -999.0,9, -999.00,9, -999.00,9,     -999.0,9, 20220710,      758,  31.8649,-119.6031,     -999.0,9,     -999.0,1,     -999.0,1,     -999.0,9,     -999.0,9,     0.0472,1,     4.5497,1,     -999.0,9,     -999.0,9,     -999.0,9,     -999.0,9,     -999.0,9
33RR20220613,       P02E,     194,          2,          8,          8,2,20220710,       0729,    31.8648,  -119.6030,       2271,    40.5,2,  15.0654,2,  33.6038,2,-999.0000,9,    257.0,2,  -999.0,9, -999.00,9, -999.00,9, -999.00,9, -999.00,9,-999.000,9,-999.000,9,-999.0000,9,  -999.0,9,  -999.0,9,-999.0000,9,  -999.00,9, -999.00,9,  -999.0,9, -999.00,9, -999.00,9,     -999.0,9, 20220710,      754,  31.8649,-119.6030,    15.0630,2,     -999.0,9,     -999.0,9,     -999.0,9,     -999.0,9,     0.0564,1,     4.5777,1,     -999.0,1,     -999.0,9,     -999.0,1,     -999.0,9,     -999.0,9
33RR20220613,       P02E,     194,          2,          7,          7,2,20220710,       0729,    31.8648,  -119.6030,       2271,    75.6,2,  11.0843,2,  33.5888,2,-999.0000,9,    180.2,2,  -999.0,9, -999.00,9, -999.00,9, -999.00,9, -999.00,9,-999.000,9,-999.000,9,-999.0000,9,  -999.0,9,  -999.0,9,-999.0000,9,  -999.00,9, -999.00,9,  -999.0,9, -999.00,9, -999.00,9,     -999.0,9, 20220710,      753,  31.8649,-119.6031,    11.0859,2,     -999.0,9,     -999.0,9,     -999.0,9,     -999.0,9,     0.0293,1,     4.6505,1,     -999.0,9,     -999.0,9,     -999.0,1,     -999.0,9,     -999.0,9
33RR20220613,       P02E,     194,          2,          5,          5,2,20220710,       0729,    31.8648,  -119.6030,       2271,   100.8,2,  10.2597,2,  33.7895,2,-999.0000,9,    147.7,2,  -999.0,9, -999.00,9, -999.00,9, -999.00,9, -999.00,9,-999.000,9,-999.000,9,-999.0000,9,  -999.0,9,  -999.0,9,-999.0000,9,  -999.00,9, -999.00,9,  -999.0,9, -999.00,9, -999.00,9,     -999.0,9, 20220710,      750,  31.8649,-119.6031,    10.2529,2,     -999.0,9,     -999.0,9,     -999.0,9,     -999.0,9,     0.0159,1,     4.6671,1,     -999.0,1,     -999.0,9,     -999.0,1,     -999.0,9,     -999.0,9
33RR20220613,       P02E,     194,          2,          6,          6,2,20220710,       0729,    31.8648,  -119.6030,       2271,   101.0,2,  10.2551,2,  33.7904,2,-999.0000,9,    147.8,2,  -999.0,9, -999.00,9, -999.00,9, -999.00,9, -999.00,9,-999.000,9,-999.000,9,-999.0000,9,  -999.0,9,  -999.0,9,-999.0000,9,  -999.00,9, -999.00,9,  -999.0,9, -999.00,9, -999.00,9,     -999.0,9, 20220710,      750,  31.8649,-119.6031,     -999.0,9,     -999.0,9,     -999.0,9,     -999.0,9,     -999.0,9,     0.0158,1,     4.6670,1,     -999.0,9,     -999.0,1,     -999.0,9,     -999.0,9,     -999.0,9
33RR20220613,       P02E,     194,          2,          4,          4,2,20220710,       0729,    31.8648,  -119.6030,       2271,   152.2,2,   9.1861,2,  33.9844,2,-999.0000,9,    103.0,2,  -999.0,9, -999.00,9, -999.00,9, -999.00,9, -999.00,9,-999.000,9,-999.000,9,-999.0000,9,  -999.0,9,  -999.0,9,-999.0000,9,  -999.00,9, -999.00,9,  -999.0,9, -999.00,9, -999.00,9,     -999.0,9, 20220710,      748,  31.8649,-119.6031,     9.1864,2,     -999.0,9,     -999.0,9,     -999.0,9,     -999.0,9,     0.0134,1,     4.6726,1,     -999.0,9,     -999.0,9,     -999.0,1,     -999.0,9,     -999.0,9
33RR20220613,       P02E,     194,          2,          3,          3,2,20220710,       0729,    31.8648,  -119.6030,       2271,   201.8,2,   8.2883,2,  34.0641,2,-999.0000,9,     93.8,2,  -999.0,9, -999.00,9, -999.00,9, -999.00,9, -999.00,9,-999.000,9,-999.000,9,-999.0000,9,  -999.0,9,  -999.0,9,-999.0000,9,  -999.00,9, -999.00,9,  -999.0,9, -999.00,9, -999.00,9,     -999.0,9, 20220710,      745,  31.8648,-119.6031,     8.2871,2,     -999.0,9,     -999.0,9,     -999.0,9,     -999.0,9,     0.0134,1,     4.6732,1,     -999.0,9,     -999.0,1,     -999.0,1,     -999.0,9,     -999.0,9
33RR20220613,       P02E,     194,          2,          2,          2,2,20220710,       0729,    31.8648,  -119.6030,       2271,   504.6,2,   6.0147,2,  34.2932,2,-999.0000,9,     14.4,2,  -999.0,9, -999.00,9, -999.00,9, -999.00,9, -999.00,9,-999.000,9,-999.000,9,-999.0000,9,  -999.0,9,  -999.0,9,-999.0000,9,  -999.00,9, -999.00,9,  -999.0,9, -999.00,9, -999.00,9,     -999.0,9, 20220710,      739,  31.8649,-119.6031,     6.0214,2,     -999.0,9,     -999.0,9,     -999.0,9,     -999.0,9,     0.0134,1,     4.6813,1,     -999.0,9,     -999.0,9,     -999.0,1,     -999.0,9,     -999.0,9
33RR20220613,       P02E,     194,          2,          1,          1,2,20220710,       0729,    31.8648,  -119.6030,       2271,  1009.4,2,   4.0563,2,  34.4864,2,-999.0000,9,     23.2,2,  -999.0,9, -999.00,9, -999.00,9, -999.00,9, -999.00,9,-999.000,9,-999.000,9,-999.0000,9,  -999.0,9,  -999.0,9,-999.0000,9,  -999.00,9, -999.00,9,  -999.0,9, -999.00,9, -999.00,9,     -999.0,9, 20220710,      729,  31.8648,-119.6030,     4.0569,2,     -999.0,9,     -999.0,9,     -999.0,9,     -999.0,9,     0.0134,1,     4.6870,1,     -999.0,9,     -999.0,1,     -999.0,1,     -999.0,9,     -999.0,9