BOTTLE,20230830CCHSIOCBG
EXPOCODE,SECT_ID,STNNBR,CASTNO,SAMPNO,BTLNBR,BTLNBR_FLAG_W,DATE,TIME,LATITUDE,LONGITUDE,DEPTH,CTDPRS,CTDPRS_FLAG_W,CTDTMP,CTDTMP_FLAG_W,CTDSAL,CTDSAL_FLAG_W,SALNTY,SALNTY_FLAG_W,CTDOXY,CTDOXY_FLAG_W,OXYGEN,OXYGEN_FLAG_W,SILCAT,SILCAT_FLAG_W,NITRAT,NITRAT_FLAG_W,NITRIT,NITRIT_FLAG_W,PHSPHT,PHSPHT_FLAG_W,CFC-11,CFC-11_FLAG_W,CFC-12,CFC-12_FLAG_W,SF6,SF6_FLAG_W,TCARBN,TCARBN_FLAG_W,ALKALI,ALKALI_FLAG_W,PH_TOT,PH_TOT_FLAG_W,PH_TMP,PH_TMP_FLAG_W,DELC13,DELC13_FLAG_W,DELC14,DELC14_FLAG_W,DOC,DOC_FLAG_W,TDN,TDN_FLAG_W,N2O,N2O_FLAG_W,BTL_DATE,BTL_TIME,BTL_LAT,BTL_LON,REFTMP,REFTMP_FLAG_W,POC,POC_FLAG_W,PON,PON_FLAG_W,POP,POP_FLAG_W,PCOD,PCOD_FLAG_W,CTDFLUOR,CTDFLUOR_FLAG_W,CTDXMISS,CTDXMISS_FLAG_W,HPLC,HPLC_FLAG_W,DNA,DNA_FLAG_W,FCM,FCM_FLAG_W,IMAGES,IMAGES_FLAG_W,VIRAL_ABUNDANCE,VIRAL_ABUNDANCE_FLAG_W
,,,,,,,,,,,METERS,DBAR,,ITS-90,,PSS-78,,PSS-78,,UMOL/KG,,UMOL/KG,,UMOL/KG,,UMOL/KG,,UMOL/KG,,UMOL/KG,,PMOL/KG,,PMOL/KG,,FMOL/KG,,UMOL/KG,,UMOL/KG,,,,DEG C,,/MILLE,,/MILLE,,UMOL/KG,,UMOL/KG,,NMOL/KG,,,,,,ITS-90,,UG/L,,UG/L,,UG/L,,UG/L,,VOLTS,,VOLTS,,,,,,,,,,,
33RR20220613,       P02E,     178,          1,          4,          4,2,20220705,       0932,    29.9995,  -126.5697,       4258,  3554.0,2,   1.5127,2,  34.6771,2,  34.6779,2,    130.9,2,   131.0,2,  168.58,2,   37.49,2,    0.00,2,    2.57,2,-999.000,9,-999.000,9,-999.0000,9,  -999.0,9,  -999.0,9,-999.0000,9,  -999.00,9, -999.00,9,  -999.0,9, -999.00,1, -999.00,1,     -999.0,9, 20220705,      948,  29.9995,-126.5697,     1.5125,2,     -999.0,9,     -999.0,9,     -999.0,9,     -999.0,9,     0.0134,1,     4.7009,1,     -999.0,9,     -999.0,9,     -999.0,9,     -999.0,9,     -999.0,9
33RR20220613,       P02E,     178,          1,          3,          3,2,20220705,       0932,    29.9995,  -126.5697,       4258,  3835.2,2,   1.5002,2,  34.6813,2,  34.6794,2,    136.6,2,   136.7,2,  166.82,2,   37.09,2,    0.00,2,    2.54,2,   0.006,2,   0.011,2,   0.0000,2,  2343.5,2,  2431.4,6,   7.5588,2,    25.00,2, -999.00,9,  -999.0,9, -999.00,1, -999.00,1,       23.6,2, 20220705,      942,  29.9995,-126.5697,     1.5001,2,     -999.0,9,     -999.0,9,     -999.0,9,     -999.0,9,     0.0129,1,     4.7010,1,     -999.0,9,     -999.0,9,     -999.0,9,     -999.0,9,     -999.0,9
33RR20220613,       P02E,     178,          1,          2,          2,2,20220705,       0932,    29.9995,  -126.5697,       4258,  4116.6,2,   1.5128,2,  34.6832,2,  34.6826,2,    139.5,2,   139.8,2,  165.84,2,   36.87,2,    0.00,2,    2.54,2,   0.006,2,   0.015,2,   0.0000,2,  2342.4,2,  2431.1,2,   7.5637,2,    25.02,2, -999.00,9,  -999.0,9, -999.00,1, -999.00,1,       23.0,2, 20220705,      937,  29.9995,-126.5697,     1.5127,2,     -999.0,9,     -999.0,9,     -999.0,9,     -999.0,9,     0.0122,1,     4.7007,1,     -999.0,9,     -999.0,9,     -999.0,9,     -999.0,9,     -999.0,9
33RR20220613,       P02E,     178,          1,          1,          1,2,20220705,       0932,    29.9995,  -126.5697,       4258,  4319.8,2,   1.5339,2,  34.6835,3,  34.6869,2,    139.8,2,   139.8,2,  165.74,2,   36.86,2,    0.00,2,    2.54,2,   0.009,2,   0.012,2,   0.0000,2,  2344.4,6,  2432.7,2,   7.5647,2,    25.02,2, -999.00,9,  -999.0,9, -999.00,1, -999.00,1,       23.2,2, 20220705,      932,  29.9995,-126.5697,     1.5338,2,     -999.0,9,     -999.0,9,     -999.0,9,     -999.0,9,     0.0122,1,     4.6995,1,     -999.0,9,     -999.0,9,     -999.0,9,     -999.0,9,     -999.0,9
33RR20220613,       P02E,     179,          1,         19,         39,2,20220705,       1436,    30.0006,  -125.9927,       4111,     7.1,2,  18.9812,2,  33.3867,2,-999.0000,9,    236.3,2,  -999.0,9, -999.00,9, -999.00,9, -999.00,9, -999.00,9,-999.000,9,-999.000,9,-999.0000,9,  -999.0,9,  -999.0,9,-999.0000,9,  -999.00,9, -999.00,9,  -999.0,9, -999.00,9, -999.00,9,     -999.0,9, 20220705,     1503,  30.0006,-125.9927,     -999.0,9,     -999.0,9,     -999.0,9,     -999.0,9,     -999.0,1,     0.0140,1,     4.6194,1,     -999.0,9,     -999.0,9,     -999.0,9,     -999.0,9,     -999.0,9
33RR20220613,       P02E,     179,          1,         16,         16,2,20220705,       1436,    30.0006,  -125.9927,       4111,     7.1,2,  18.9639,2,  33.3879,2,-999.0000,9,    236.2,2,  -999.0,9, -999.00,9, -999.00,9, -999.00,9, -999.00,9,-999.000,9,-999.000,9,-999.0000,9,  -999.0,9,  -999.0,9,-999.0000,9,  -999.00,9, -999.00,9,  -999.0,9, -999.00,9, -999.00,9,     -999.0,9, 20220705,     1502,  30.0006,-125.9927,     -999.0,9,     -999.0,9,     -999.0,9,     -999.0,1,     -999.0,9,     0.0134,1,     4.6179,1,     -999.0,9,     -999.0,9,     -999.0,9,     -999.0,9,     -999.0,9
33RR20220613,       P02E,     179,          1,         15,         15,2,20220705,       1436,    30.0006,  -125.9927,       4111,     7.2,2,  18.9704,2,  33.3875,2,-999.0000,9,    236.3,2,  -999.0,9, -999.00,9, -999.00,9, -999.00,9, -999.00,9,-999.000,9,-999.000,9,-999.0000,9,  -999.0,9,  -999.0,9,-999.0000,9,  -999.00,9, -999.00,9,  -999.0,9, -999.00,9, -999.00,9,     -999.0,9, 20220705,     1502,  30.0006,-125.9927,     -999.0,9,     -999.0,9,     -999.0,9,     -999.0,1,     -999.0,9,     0.0134,1,     4.6185,1,     -999.0,9,     -999.0,9,     -999.0,9,     -999.0,9,     -999.0,9
33RR20220613,       P02E,     179,          1,         13,         13,2,20220705,       1436,    30.0006,  -125.9927,       4111,     7.2,2,  18.9498,2,  33.3884,2,-999.0000,9,    236.2,2,  -999.0,9, -999.00,9, -999.00,9, -999.00,9, -999.00,9,-999.000,9,-999.000,9,-999.0000,9,  -999.0,9,  -999.0,9,-999.0000,9,  -999.00,9, -999.00,9,  -999.0,9, -999.00,9, -999.00,9,     -999.0,9, 20220705,     1502,  30.0006,-125.9927,    18.9576,2,     -999.0,1,     -999.0,1,     -999.0,9,     -999.0,9,     0.0134,1,     4.6182,1,     -999.0,9,     -999.0,9,     -999.0,9,     -999.0,9,     -999.0,9
33RR20220613,       P02E,     179,          1,         11,         11,2,20220705,       1436,    30.0006,  -125.9927,       4111,     7.3,2,  18.9405,2,  33.3895,2,-999.0000,9,    236.4,2,  -999.0,9, -999.00,9, -999.00,9, -999.00,9, -999.00,9,-999.000,9,-999.000,9,-999.0000,9,  -999.0,9,  -999.0,9,-999.0000,9,  -999.00,9, -999.00,9,  -999.0,9, -999.00,9, -999.00,9,     -999.0,9, 20220705,     1502,  30.0006,-125.9927,     -999.0,9,     -999.0,1,     -999.0,1,     -999.0,9,     -999.0,9,     0.0134,1,     4.6175,1,     -999.0,9,     -999.0,9,     -999.0,9,     -999.0,9,     -999.0,9
33RR20220613,       P02E,     179,          1,         12,         12,2,20220705,       1436,    30.0006,  -125.9927,       4111,     7.4,2,  18.9425,2,  33.3894,2,-999.0000,9,    236.3,2,  -999.0,9, -999.00,9, -999.00,9, -999.00,9, -999.00,9,-999.000,9,-999.000,9,-999.0000,9,  -999.0,9,  -999.0,9,-999.0000,9,  -999.00,9, -999.00,9,  -999.0,9, -999.00,9, -999.00,9,     -999.0,9, 20220705,     1502,  30.0006,-125.9927,     -999.0,9,     -999.0,1,     -999.0,1,     -999.0,9,     -999.0,9,     0.0134,1,     4.6171,1,     -999.0,9,     -999.0,9,     -999.0,9,     -999.0,9,     -999.0,9
33RR20220613,       P02E,     179,          1,         14,         42,2,20220705,       1436,    30.0006,  -125.9927,       4111,     7.5,2,  18.9570,2,  33.3880,2,-999.0000,9,    236.0,2,  -999.0,9, -999.00,9, -999.00,9, -999.00,9, -999.00,9,-999.000,9,-999.000,9,-999.0000,9,  -999.0,9,  -999.0,9,-999.0000,9,  -999.00,9, -999.00,9,  -999.0,9, -999.00,9, -999.00,9,     -999.0,9, 20220705,     1502,  30.0006,-125.9927,     -999.0,9,     -999.0,9,     -999.0,9,     -999.0,1,     -999.0,9,     0.0134,1,     4.6179,1,     -999.0,9,     -999.0,9,     -999.0,9,     -999.0,9,     -999.0,9
33RR20220613,       P02E,     179,          1,          9,          9,2,20220705,       1436,    30.0006,  -125.9927,       4111,     7.5,2,  18.9392,2,  33.3895,2,-999.0000,9,    236.1,2,  -999.0,9, -999.00,9, -999.00,9, -999.00,9, -999.00,9,-999.000,9,-999.000,9,-999.0000,9,  -999.0,9,  -999.0,9,-999.0000,9,  -999.00,9, -999.00,9,  -999.0,9, -999.00,9, -999.00,9,     -999.0,9, 20220705,     1502,  30.0006,-125.9927,    18.9404,2,     -999.0,9,     -999.0,9,     -999.0,9,     -999.0,9,     0.0134,1,     4.6180,1,     -999.0,9,     -999.0,9,     -999.0,1,     -999.0,9,     -999.0,9
33RR20220613,       P02E,     179,          1,         20,         20,2,20220705,       1436,    30.0006,  -125.9927,       4111,     7.5,2,  18.9966,2,  33.3856,2,-999.0000,9,    236.0,2,  -999.0,9, -999.00,9, -999.00,9, -999.00,9, -999.00,9,-999.000,9,-999.000,9,-999.0000,9,  -999.0,9,  -999.0,9,-999.0000,9,  -999.00,9, -999.00,9,  -999.0,9, -999.00,9, -999.00,9,     -999.0,9, 20220705,     1503,  30.0006,-125.9927,    19.0034,2,     -999.0,9,     -999.0,9,     -999.0,9,     -999.0,9,     0.0134,1,     4.6201,1,     -999.0,9,     -999.0,9,     -999.0,9,     -999.0,9,     -999.0,1
33RR20220613,       P02E,     179,          1,         17,         37,2,20220705,       1436,    30.0006,  -125.9927,       4111,     7.6,2,  18.9747,2,  33.3870,2,-999.0000,9,    236.1,2,  -999.0,9, -999.00,9, -999.00,9, -999.00,9, -999.00,9,-999.000,9,-999.000,9,-999.0000,9,  -999.0,9,  -999.0,9,-999.0000,9,  -999.00,9, -999.00,9,  -999.0,9, -999.00,9, -999.00,9,     -999.0,9, 20220705,     1502,  30.0006,-125.9927,    18.9806,2,     -999.0,9,     -999.0,9,     -999.0,9,     -999.0,1,     0.0134,1,     4.6191,1,     -999.0,9,     -999.0,9,     -999.0,9,     -999.0,9,     -999.0,9
33RR20220613,       P02E,     179,          1,         18,         18,2,20220705,       1436,    30.0006,  -125.9927,       4111,     7.6,2,  18.9856,2,  33.3863,2,-999.0000,9,    236.3,2,  -999.0,9, -999.00,9, -999.00,9, -999.00,9, -999.00,9,-999.000,9,-999.000,9,-999.0000,9,  -999.0,9,  -999.0,9,-999.0000,9,  -999.00,9, -999.00,9,  -999.0,9, -999.00,9, -999.00,9,     -999.0,9, 20220705,     1503,  30.0006,-125.9927,     -999.0,9,     -999.0,9,     -999.0,9,     -999.0,9,     -999.0,1,     0.0134,1,     4.6194,1,     -999.0,9,     -999.0,9,     -999.0,9,     -999.0,9,     -999.0,9
33RR20220613,       P02E,     179,          1,         10,         10,2,20220705,       1436,    30.0006,  -125.9927,       4111,     7.6,2,  18.9393,2,  33.3895,2,-999.0000,9,    236.4,2,  -999.0,9, -999.00,9, -999.00,9, -999.00,9, -999.00,9,-999.000,9,-999.000,9,-999.0000,9,  -999.0,9,  -999.0,9,-999.0000,9,  -999.00,9, -999.00,9,  -999.0,9, -999.00,9, -999.00,9,     -999.0,9, 20220705,     1502,  30.0006,-125.9927,     -999.0,9,     -999.0,9,     -999.0,9,     -999.0,9,     -999.0,9,     0.0134,1,     4.6182,1,     -999.0,9,     -999.0,1,     -999.0,9,     -999.0,9,     -999.0,9
33RR20220613,       P02E,     179,          1,          8,          8,2,20220705,       1436,    30.0006,  -125.9927,       4111,    44.6,2,  18.1009,2,  33.4514,2,-999.0000,9,    243.1,2,  -999.0,9, -999.00,9, -999.00,9, -999.00,9, -999.00,9,-999.000,9,-999.000,9,-999.0000,9,  -999.0,9,  -999.0,9,-999.0000,9,  -999.00,9, -999.00,9,  -999.0,9, -999.00,9, -999.00,9,     -999.0,9, 20220705,     1459,  30.0005,-125.9927,    18.0939,2,     -999.0,9,     -999.0,9,     -999.0,9,     -999.0,9,     0.0147,1,     4.6288,1,     -999.0,9,     -999.0,9,     -999.0,1,     -999.0,9,     -999.0,9
33RR20220613,       P02E,     179,          1,          7,          7,2,20220705,       1436,    30.0006,  -125.9927,       4111,    80.0,2,  17.0050,2,  33.3851,2,-999.0000,9,    247.8,2,  -999.0,9, -999.00,9, -999.00,9, -999.00,9, -999.00,9,-999.000,9,-999.000,9,-999.0000,9,  -999.0,9,  -999.0,9,-999.0000,9,  -999.00,9, -999.00,9,  -999.0,9, -999.00,9, -999.00,9,     -999.0,9, 20220705,     1457,  30.0006,-125.9927,    17.0060,2,     -999.0,9,     -999.0,9,     -999.0,9,     -999.0,9,     0.0208,1,     4.6373,1,     -999.0,9,     -999.0,9,     -999.0,1,     -999.0,9,     -999.0,9
33RR20220613,       P02E,     179,          1,          5,          5,2,20220705,       1436,    30.0006,  -125.9927,       4111,   104.8,2,  15.9509,2,  33.2585,2,-999.0000,9,    248.6,2,  -999.0,9, -999.00,9, -999.00,9, -999.00,9, -999.00,9,-999.000,9,-999.000,9,-999.0000,9,  -999.0,9,  -999.0,9,-999.0000,9,  -999.00,9, -999.00,9,  -999.0,9, -999.00,9, -999.00,9,     -999.0,9, 20220705,     1455,  30.0006,-125.9927,    15.9433,2,     -999.0,9,     -999.0,9,     -999.0,9,     -999.0,9,     0.0292,1,     4.6467,1,     -999.0,9,     -999.0,9,     -999.0,1,     -999.0,9,     -999.0,9
33RR20220613,       P02E,     179,          1,          6,          6,2,20220705,       1436,    30.0006,  -125.9927,       4111,   105.1,2,  15.9303,2,  33.2570,2,-999.0000,9,    249.0,2,  -999.0,9, -999.00,9, -999.00,9, -999.00,9, -999.00,9,-999.000,9,-999.000,9,-999.0000,9,  -999.0,9,  -999.0,9,-999.0000,9,  -999.00,9, -999.00,9,  -999.0,9, -999.00,9, -999.00,9,     -999.0,9, 20220705,     1455,  30.0006,-125.9927,     -999.0,9,     -999.0,9,     -999.0,9,     -999.0,9,     -999.0,9,     0.0289,1,     4.6471,1,     -999.0,9,     -999.0,1,     -999.0,9,     -999.0,9,     -999.0,9
33RR20220613,       P02E,     179,          1,          4,          4,2,20220705,       1436,    30.0006,  -125.9927,       4111,   154.9,2,  12.7044,2,  33.2779,2,-999.0000,9,    224.0,2,  -999.0,9, -999.00,9, -999.00,9, -999.00,9, -999.00,9,-999.000,9,-999.000,9,-999.0000,9,  -999.0,9,  -999.0,9,-999.0000,9,  -999.00,9, -999.00,9,  -999.0,9, -999.00,9, -999.00,9,     -999.0,9, 20220705,     1453,  30.0006,-125.9927,    12.7194,2,     -999.0,9,     -999.0,9,     -999.0,9,     -999.0,9,     0.0209,1,     4.6742,1,     -999.0,9,     -999.0,9,     -999.0,1,     -999.0,9,     -999.0,9
33RR20220613,       P02E,     179,          1,          3,          3,2,20220705,       1436,    30.0006,  -125.9927,       4111,   205.4,2,  10.1706,2,  33.7790,2,-999.0000,9,    158.8,2,  -999.0,9, -999.00,9, -999.00,9, -999.00,9, -999.00,9,-999.000,9,-999.000,9,-999.0000,9,  -999.0,9,  -999.0,9,-999.0000,9,  -999.00,9, -999.00,9,  -999.0,9, -999.00,9, -999.00,9,     -999.0,9, 20220705,     1451,  30.0006,-125.9928,    10.1705,2,     -999.0,9,     -999.0,9,     -999.0,9,     -999.0,9,     0.0134,1,     4.6846,1,     -999.0,9,     -999.0,1,     -999.0,1,     -999.0,9,     -999.0,9
33RR20220613,       P02E,     179,          1,          2,          2,2,20220705,       1436,    30.0006,  -125.9927,       4111,   506.7,2,   6.9792,2,  34.2118,2,-999.0000,9,     29.4,2,  -999.0,9, -999.00,9, -999.00,9, -999.00,9, -999.00,9,-999.000,9,-999.000,9,-999.0000,9,  -999.0,9,  -999.0,9,-999.0000,9,  -999.00,9, -999.00,9,  -999.0,9, -999.00,9, -999.00,9,     -999.0,9, 20220705,     1445,  30.0006,-125.9927,     6.9793,2,     -999.0,9,     -999.0,9,     -999.0,9,     -999.0,9,     0.0134,1,     4.6881,1,     -999.0,9,     -999.0,9,     -999.0,1,     -999.0,9,     -999.0,9
33RR20220613,       P02E,     179,          1,          1,          1,2,20220705,       1436,    30.0006,  -125.9927,       4111,  1012.1,2,   4.1202,2,  34.4657,2,-999.0000,9,     22.0,2,  -999.0,9, -999.00,9, -999.00,9, -999.00,9, -999.00,9,-999.000,9,-999.000,9,-999.0000,9,  -999.0,9,  -999.0,9,-999.0000,9,  -999.00,9, -999.00,9,  -999.0,9, -999.00,9, -999.00,9,     -999.0,9, 20220705,     1436,  30.0006,-125.9927,     4.1213,2,     -999.0,9,     -999.0,9,     -999.0,9,     -999.0,9,     0.0134,1,     4.6919,1,     -999.0,9,     -999.0,1,     -999.0,1,     -999.0,9,     -999.0,9