BOTTLE,20230830CCHSIOCBG
EXPOCODE,SECT_ID,STNNBR,CASTNO,SAMPNO,BTLNBR,BTLNBR_FLAG_W,DATE,TIME,LATITUDE,LONGITUDE,DEPTH,CTDPRS,CTDPRS_FLAG_W,CTDTMP,CTDTMP_FLAG_W,CTDSAL,CTDSAL_FLAG_W,SALNTY,SALNTY_FLAG_W,CTDOXY,CTDOXY_FLAG_W,OXYGEN,OXYGEN_FLAG_W,SILCAT,SILCAT_FLAG_W,NITRAT,NITRAT_FLAG_W,NITRIT,NITRIT_FLAG_W,PHSPHT,PHSPHT_FLAG_W,CFC-11,CFC-11_FLAG_W,CFC-12,CFC-12_FLAG_W,SF6,SF6_FLAG_W,TCARBN,TCARBN_FLAG_W,ALKALI,ALKALI_FLAG_W,PH_TOT,PH_TOT_FLAG_W,PH_TMP,PH_TMP_FLAG_W,DELC13,DELC13_FLAG_W,DELC14,DELC14_FLAG_W,DOC,DOC_FLAG_W,TDN,TDN_FLAG_W,N2O,N2O_FLAG_W,BTL_DATE,BTL_TIME,BTL_LAT,BTL_LON,REFTMP,REFTMP_FLAG_W,POC,POC_FLAG_W,PON,PON_FLAG_W,POP,POP_FLAG_W,PCOD,PCOD_FLAG_W,CTDFLUOR,CTDFLUOR_FLAG_W,CTDXMISS,CTDXMISS_FLAG_W,HPLC,HPLC_FLAG_W,DNA,DNA_FLAG_W,FCM,FCM_FLAG_W,IMAGES,IMAGES_FLAG_W,VIRAL_ABUNDANCE,VIRAL_ABUNDANCE_FLAG_W
,,,,,,,,,,,METERS,DBAR,,ITS-90,,PSS-78,,PSS-78,,UMOL/KG,,UMOL/KG,,UMOL/KG,,UMOL/KG,,UMOL/KG,,UMOL/KG,,PMOL/KG,,PMOL/KG,,FMOL/KG,,UMOL/KG,,UMOL/KG,,,,DEG C,,/MILLE,,/MILLE,,UMOL/KG,,UMOL/KG,,NMOL/KG,,,,,,ITS-90,,UG/L,,UG/L,,UG/L,,UG/L,,VOLTS,,VOLTS,,,,,,,,,,,
33RR20220613,       P02E,     156,          1,         36,         36,2,20220629,       0114,    30.0000,  -139.2730,       4882,     6.0,2,  22.0888,2,  34.3611,2,  34.3678,2,    225.6,2,   225.1,2,    1.56,2,    0.01,2,    0.00,2,    0.09,2,   1.853,2,   1.170,2,   1.9361,2,  2034.7,2,  2279.6,2,   7.9565,2,    25.00,2, -999.00,9,  -999.0,9, -999.00,9, -999.00,9,        7.4,2, 20220629,      339,  30.0000,-139.2730,    22.0890,2,     -999.0,9,     -999.0,9,     -999.0,9,     -999.0,9,     0.0135,1,     4.6238,1,     -999.0,9,     -999.0,9,     -999.0,9,     -999.0,9,     -999.0,9
33RR20220613,       P02E,     156,          1,         35,         35,2,20220629,       0114,    30.0000,  -139.2730,       4882,    35.8,2,  20.9171,2,  34.6342,2,  34.6374,2,    236.8,2,   236.7,2,    1.66,2,    0.00,2,    0.00,2,    0.04,2,   1.934,2,   1.225,2,   1.9543,2,  2035.7,6,  2288.5,2,   7.9671,2,    25.01,2, -999.00,9,  -999.0,9, -999.00,9, -999.00,9,        7.7,2, 20220629,      337,  30.0000,-139.2730,    20.9300,2,     -999.0,9,     -999.0,9,     -999.0,9,     -999.0,9,     0.0143,1,     4.6304,1,     -999.0,9,     -999.0,9,     -999.0,9,     -999.0,9,     -999.0,9
33RR20220613,       P02E,     156,          1,         34,         34,2,20220629,       0114,    30.0000,  -139.2730,       4882,    65.8,2,  20.0966,2,  34.7005,2,  34.6873,2,    237.5,2,   237.8,2,    1.56,2,    0.01,2,    0.00,2,    0.05,2,-999.000,9,-999.000,9,-999.0000,9,  2039.3,2,  2290.6,2,   7.9687,2,    25.01,2, -999.00,9,  -999.0,9, -999.00,9, -999.00,9,     -999.0,9, 20220629,      334,  30.0000,-139.2730,    20.0967,2,     -999.0,9,     -999.0,9,     -999.0,9,     -999.0,9,     0.0140,1,     4.6400,1,     -999.0,9,     -999.0,9,     -999.0,9,     -999.0,9,     -999.0,9
33RR20220613,       P02E,     156,          1,         33,         33,2,20220629,       0114,    30.0000,  -139.2730,       4882,    86.2,2,  20.1731,2,  34.9189,2,  34.9384,2,    236.1,3,   233.4,2,    1.47,2,    0.00,2,    0.00,2,    0.03,2,   1.971,2,   1.223,2,   2.0357,2,  2040.1,2,  2303.6,2,   7.9813,2,    24.99,2, -999.00,9,  -999.0,9, -999.00,9, -999.00,9,        7.8,2, 20220629,      332,  30.0000,-139.2730,    20.1768,2,     -999.0,9,     -999.0,9,     -999.0,9,     -999.0,9,     0.0159,1,     4.6446,1,     -999.0,9,     -999.0,9,     -999.0,9,     -999.0,9,     -999.0,9
33RR20220613,       P02E,     156,          1,         32,         32,2,20220629,       0114,    30.0000,  -139.2730,       4882,   115.9,2,  20.0807,2,  34.9698,2,  34.9608,2,    230.7,2,   230.9,2,    1.56,2,    0.00,2,    0.00,2,    0.03,2,-999.000,9,-999.000,9,-999.0000,9,  2041.3,2,  2303.5,2,   7.9790,2,    25.00,2, -999.00,9,  -999.0,9, -999.00,9, -999.00,9,     -999.0,9, 20220629,      330,  30.0000,-139.2730,    20.0752,2,     -999.0,9,     -999.0,9,     -999.0,9,     -999.0,9,     0.0208,1,     4.6501,1,     -999.0,9,     -999.0,9,     -999.0,9,     -999.0,9,     -999.0,9
33RR20220613,       P02E,     156,          1,         31,         31,2,20220629,       0114,    30.0000,  -139.2730,       4882,   166.2,2,  18.2412,2,  34.6262,2,  34.6311,2,    225.2,2,   226.3,2,    2.05,2,    0.06,2,    0.11,2,    0.08,2,   2.083,2,   1.319,2,   2.0118,2,  2046.0,2,  2280.7,6,   7.9389,2,    25.01,2, -999.00,9,  -999.0,9, -999.00,9, -999.00,9,        8.7,2, 20220629,      328,  30.0000,-139.2730,    18.2390,2,     -999.0,9,     -999.0,9,     -999.0,9,     -999.0,9,     0.0244,1,     4.6645,1,     -999.0,9,     -999.0,9,     -999.0,9,     -999.0,9,     -999.0,9
33RR20220613,       P02E,     156,          1,         30,         17,2,20220629,       0114,    30.0000,  -139.2730,       4882,   216.1,2,  13.6448,2,  33.9522,2,  33.9634,2,    226.7,2,   225.7,2,    4.60,2,    3.85,2,    0.00,2,    0.42,2,   2.615,2,   1.607,2,   2.3752,2,  2059.9,2,  2241.1,2,   7.8389,2,    25.00,2, -999.00,9,  -999.0,9, -999.00,9, -999.00,9,       11.4,2, 20220629,      326,  30.0000,-139.2730,    13.6401,2,     -999.0,9,     -999.0,9,     -999.0,9,     -999.0,9,     0.0180,1,     4.6815,1,     -999.0,9,     -999.0,9,     -999.0,9,     -999.0,9,     -999.0,9
33RR20220613,       P02E,     156,          1,         29,         29,2,20220629,       0114,    30.0000,  -139.2730,       4882,   267.4,2,  10.9968,2,  33.9018,2,  33.9191,2,    209.4,2,   209.7,2,   11.25,2,   11.91,2,    0.00,2,    0.93,2,   2.941,2,   1.789,2,   2.2284,2,  2102.8,2,  2241.2,2,   7.7410,2,    25.00,2, -999.00,9,  -999.0,9, -999.00,9, -999.00,9,       15.3,2, 20220629,      324,  30.0000,-139.2730,    11.0088,2,     -999.0,9,     -999.0,9,     -999.0,9,     -999.0,9,     0.0122,1,     4.6886,1,     -999.0,9,     -999.0,9,     -999.0,9,     -999.0,9,     -999.0,9
33RR20220613,       P02E,     156,          1,         28,         28,2,20220629,       0114,    30.0000,  -139.2730,       4882,   317.1,2,   9.8813,2,  33.9926,2,  34.0102,2,    203.1,3,   205.4,2,   17.41,2,   15.84,2,    0.00,2,    1.15,2,   3.014,2,   1.843,2,   1.9648,2,  2124.2,2,  2251.6,2,   7.7055,2,    24.99,2, -999.00,9,  -999.0,9, -999.00,9, -999.00,9,       19.1,2, 20220629,      321,  30.0000,-139.2730,     9.8791,2,     -999.0,9,     -999.0,9,     -999.0,9,     -999.0,9,     0.0122,1,     4.6904,1,     -999.0,9,     -999.0,9,     -999.0,9,     -999.0,9,     -999.0,9
33RR20220613,       P02E,     156,          1,         27,         27,2,20220629,       0114,    30.0000,  -139.2730,       4882,   367.2,2,   8.8925,2,  33.9977,2,  34.0047,2,    193.4,3,   190.7,2,   25.33,2,   19.62,2,    0.00,2,    1.40,2,   3.025,2,   1.821,2,   1.7632,2,  2146.4,2,  2258.6,2,   7.6565,2,    25.00,2, -999.00,9,  -999.0,9, -999.00,9, -999.00,9,       22.6,2, 20220629,      319,  30.0000,-139.2730,     8.8982,2,     -999.0,9,     -999.0,9,     -999.0,9,     -999.0,9,     0.0124,1,     4.6909,1,     -999.0,9,     -999.0,9,     -999.0,9,     -999.0,9,     -999.0,9
33RR20220613,       P02E,     156,          1,         26,         26,2,20220629,       0114,    30.0000,  -139.2730,       4882,   417.9,2,   8.0215,2,  34.0004,2,  34.0037,2,    151.9,2,   152.1,2,   36.58,2,   25.37,2,    0.00,2,    1.79,2,   2.790,2,   1.656,2,   1.2452,2,  -999.0,9,  -999.0,9,-999.0000,9,  -999.00,9, -999.00,9,  -999.0,9, -999.00,9, -999.00,9,       28.3,2, 20220629,      316,  30.0000,-139.2730,     8.0399,2,     -999.0,9,     -999.0,9,     -999.0,9,     -999.0,9,     0.0122,1,     4.6918,1,     -999.0,9,     -999.0,9,     -999.0,9,     -999.0,9,     -999.0,9
33RR20220613,       P02E,     156,          1,         25,         25,2,20220629,       0114,    30.0000,  -139.2730,       4882,   469.1,2,   6.8924,2,  33.9868,2,  33.9894,2,    119.1,3,   116.3,2,   50.08,2,   30.85,2,    0.00,2,    2.19,2,   2.492,2,   1.479,2,   0.8821,2,  2227.2,2,  2274.7,2,   7.4754,2,    25.00,2, -999.00,9,  -999.0,9, -999.00,9, -999.00,9,       32.7,2, 20220629,      315,  30.0000,-139.2730,     6.9313,2,     -999.0,9,     -999.0,9,     -999.0,9,     -999.0,9,     0.0134,1,     4.6920,1,     -999.0,9,     -999.0,9,     -999.0,9,     -999.0,9,     -999.0,9
33RR20220613,       P02E,     156,          1,         24,         24,2,20220629,       0114,    30.0000,  -139.2730,       4882,   539.3,2,   5.8869,2,  34.0066,2,  34.0104,2,     81.0,2,    81.1,2,   65.24,2,   35.60,2,    0.00,2,    2.55,2,   1.972,2,   1.149,2,   0.6325,2,  -999.0,9,  -999.0,9,-999.0000,9,  -999.00,9, -999.00,9,  -999.0,9, -999.00,9, -999.00,9,       37.4,2, 20220629,      312,  30.0000,-139.2730,     5.8785,2,     -999.0,9,     -999.0,9,     -999.0,9,     -999.0,9,     0.0134,1,     4.6929,1,     -999.0,9,     -999.0,9,     -999.0,9,     -999.0,9,     -999.0,9
33RR20220613,       P02E,     156,          1,         23,         23,2,20220629,       0114,    30.0000,  -139.2730,       4882,   640.8,2,   5.0335,2,  34.0944,3,  34.1099,2,     40.4,2,    40.4,2,   85.18,2,   40.29,2,    0.00,2,    2.91,2,   1.042,2,   0.597,2,   0.3468,2,  2310.2,2,  2308.1,2,   7.3235,2,    25.00,2, -999.00,9,  -999.0,9, -999.00,9, -999.00,9,       44.9,2, 20220629,      309,  30.0000,-139.2730,     5.0332,2,     -999.0,9,     -999.0,9,     -999.0,9,     -999.0,9,     0.0134,1,     4.6928,1,     -999.0,9,     -999.0,9,     -999.0,9,     -999.0,9,     -999.0,9
33RR20220613,       P02E,     156,          1,         22,         22,2,20220629,       0114,    30.0000,  -139.2730,       4882,   741.2,2,   4.4402,2,  34.2111,3,  34.2309,2,     17.4,3,    17.6,2,  103.07,2,   42.75,2,    0.00,2,    3.11,2,   0.357,2,   0.200,2,   0.1548,2,  2341.0,2,  2330.6,2,   7.2956,2,    24.99,2, -999.00,9,  -999.0,9, -999.00,9, -999.00,9,       50.9,2, 20220629,      306,  30.0000,-139.2730,     4.4382,2,     -999.0,9,     -999.0,9,     -999.0,9,     -999.0,9,     0.0134,1,     4.6934,1,     -999.0,9,     -999.0,9,     -999.0,9,     -999.0,9,     -999.0,9
33RR20220613,       P02E,     156,          1,         21,         21,2,20220629,       0114,    30.0000,  -139.2730,       4882,   842.8,2,   4.1016,2,  34.2937,2,  34.3005,2,     12.0,2,    12.0,2,  113.23,2,   43.68,2,    0.00,2,    3.17,2,   0.103,2,   0.062,2,   0.0000,2,  2356.0,2,  2346.6,2,   7.2938,2,    25.00,2, -999.00,9,  -999.0,9, -999.00,9, -999.00,9,       54.1,2, 20220629,      303,  30.0000,-139.2730,     4.0984,2,     -999.0,9,     -999.0,9,     -999.0,9,     -999.0,9,     0.0134,1,     4.6935,1,     -999.0,9,     -999.0,9,     -999.0,9,     -999.0,9,     -999.0,9
33RR20220613,       P02E,     156,          1,         20,         20,2,20220629,       0114,    30.0000,  -139.2730,       4882,   943.3,2,   3.8641,2,  34.3786,3,  34.3888,2,     13.5,3,    13.1,2,  120.76,2,   43.79,2,    0.00,2,    3.20,2,   0.029,2,   0.023,2,   0.0000,2,  2363.0,2,  2360.3,2,   7.3102,2,    24.99,2, -999.00,9,  -999.0,9, -999.00,9, -999.00,9,       54.4,2, 20220629,      300,  30.0000,-139.2730,     3.8636,2,     -999.0,9,     -999.0,9,     -999.0,9,     -999.0,9,     0.0134,1,     4.6937,1,     -999.0,9,     -999.0,9,     -999.0,9,     -999.0,9,     -999.0,9
33RR20220613,       P02E,     156,          1,         19,         39,2,20220629,       0114,    30.0000,  -139.2730,       4882,  1044.4,2,   3.6173,2,  34.4311,2,  34.4345,2,     19.2,3,    18.9,2,  127.11,2,   43.68,2,    0.00,2,    3.19,2,   0.015,2,   0.011,2,   0.0000,2,  -999.0,9,  -999.0,9,-999.0000,9,  -999.00,9, -999.00,9,  -999.0,9, -999.00,9, -999.00,9,       52.5,2, 20220629,      255,  30.0000,-139.2730,     3.6170,2,     -999.0,9,     -999.0,9,     -999.0,9,     -999.0,9,     0.0134,1,     4.6945,1,     -999.0,9,     -999.0,9,     -999.0,9,     -999.0,9,     -999.0,9
33RR20220613,       P02E,     156,          1,         18,         18,2,20220629,       0114,    30.0000,  -139.2730,       4882,  1146.4,2,   3.3566,2,  34.4724,3,  34.4785,2,     27.3,2,    27.3,2,  132.38,2,   43.31,2,    0.00,2,    3.15,2,   0.008,2,   0.006,2,   0.0000,2,  -999.0,9,  -999.0,9,-999.0000,9,  -999.00,9, -999.00,9,  -999.0,9, -999.00,9, -999.00,9,       48.2,2, 20220629,      252,  30.0000,-139.2730,     3.3561,2,     -999.0,9,     -999.0,9,     -999.0,9,     -999.0,9,     0.0134,1,     4.6950,1,     -999.0,9,     -999.0,9,     -999.0,9,     -999.0,9,     -999.0,9
33RR20220613,       P02E,     156,          1,         17,         37,2,20220629,       0114,    30.0000,  -139.2730,       4882,  1247.0,2,   3.1196,2,  34.5068,2,  34.5107,2,     37.0,2,    37.0,2,  137.37,2,   42.89,2,    0.00,2,    3.11,2,   0.006,2,   0.005,2,   0.0000,2,  2374.1,2,  2387.9,2,   7.3661,2,    25.02,2, -999.00,9,  -999.0,9, -999.00,9, -999.00,9,       46.0,2, 20220629,      247,  30.0000,-139.2730,     3.1209,2,     -999.0,9,     -999.0,9,     -999.0,9,     -999.0,9,     0.0134,1,     4.6959,1,     -999.0,9,     -999.0,9,     -999.0,9,     -999.0,9,     -999.0,9
33RR20220613,       P02E,     156,          1,         16,         16,2,20220629,       0114,    30.0000,  -139.2730,       4882,  1348.8,2,   2.9285,2,  34.5293,2,  34.5321,2,     44.8,2,    44.9,2,  140.79,2,   42.54,2,    0.00,2,    3.07,2,-999.000,9,-999.000,9,-999.0000,9,  -999.0,9,  -999.0,9,-999.0000,9,  -999.00,9, -999.00,9,  -999.0,9, -999.00,9, -999.00,9,     -999.0,9, 20220629,      246,  30.0000,-139.2730,     2.9295,2,     -999.0,9,     -999.0,9,     -999.0,9,     -999.0,9,     0.0134,1,     4.6962,1,     -999.0,9,     -999.0,9,     -999.0,9,     -999.0,9,     -999.0,9
33RR20220613,       P02E,     156,          1,         15,         15,2,20220629,       0114,    30.0000,  -139.2730,       4882,  1450.6,2,   2.7473,2,  34.5486,2,  34.5516,2,     51.9,2,    51.8,2,  145.08,2,   42.26,2,    0.00,2,    3.03,2,   0.004,2,   0.004,2,   0.0000,2,  2372.0,2,  2399.9,2,   7.3963,2,    25.02,2, -999.00,9,  -999.0,9, -999.00,9, -999.00,9,       39.7,2, 20220629,      243,  30.0000,-139.2730,     2.7454,2,     -999.0,9,     -999.0,9,     -999.0,9,     -999.0,9,     0.0134,1,     4.6968,1,     -999.0,9,     -999.0,9,     -999.0,9,     -999.0,9,     -999.0,9
33RR20220613,       P02E,     156,          1,         14,         41,2,20220629,       0114,    30.0000,  -139.2730,       4882,  1552.1,2,   2.5822,2,  34.5653,2,  34.5688,2,     58.2,3,    58.8,2,  149.87,2,   41.87,2,    0.00,2,    2.99,2,-999.000,9,-999.000,9,-999.0000,9,  -999.0,9,  -999.0,9,-999.0000,9,  -999.00,9, -999.00,9,  -999.0,9, -999.00,9, -999.00,9,     -999.0,9, 20220629,      239,  30.0000,-139.2730,     2.5830,2,     -999.0,9,     -999.0,9,     -999.0,9,     -999.0,9,     0.0134,1,     4.6971,1,     -999.0,9,     -999.0,9,     -999.0,9,     -999.0,9,     -999.0,9
33RR20220613,       P02E,     156,          1,         13,         13,2,20220629,       0114,    30.0000,  -139.2730,       4882,  1682.1,2,   2.4228,2,  34.5794,2,  34.5824,2,     63.5,2,    63.3,2,  152.80,2,   41.54,2,    0.00,2,    2.97,2,   0.003,2,   0.000,2,   0.0000,2,  2372.4,2,  2408.5,2,   7.4182,2,    25.03,2, -999.00,9,  -999.0,9, -999.00,9, -999.00,9,       35.7,2, 20220629,      236,  30.0000,-139.2730,     2.4223,2,     -999.0,9,     -999.0,9,     -999.0,9,     -999.0,9,     0.0134,1,     4.6979,1,     -999.0,9,     -999.0,9,     -999.0,9,     -999.0,9,     -999.0,9
33RR20220613,       P02E,     156,          1,         12,         12,2,20220629,       0114,    30.0000,  -139.2730,       4882,  1886.1,2,   2.1170,2,  34.6063,2,  34.6091,2,     74.9,2,    74.8,2,  161.40,2,   40.82,2,    0.00,2,    2.90,2,-999.000,9,-999.000,9,-999.0000,9,  -999.0,9,  -999.0,9,-999.0000,9,  -999.00,9, -999.00,9,  -999.0,9, -999.00,9, -999.00,9,     -999.0,9, 20220629,      225,  30.0000,-139.2730,     2.1163,2,     -999.0,9,     -999.0,9,     -999.0,9,     -999.0,9,     0.0134,1,     4.6987,1,     -999.0,9,     -999.0,9,     -999.0,9,     -999.0,9,     -999.0,9
33RR20220613,       P02E,     156,          1,         11,         11,2,20220629,       0114,    30.0000,  -139.2730,       4882,  2109.9,2,   1.9489,2,  34.6223,3,  34.6260,2,     83.9,2,    83.8,2,  166.39,2,   40.31,2,    0.00,2,    2.85,2,   0.003,2,   0.000,2,   0.0000,2,  2369.9,2,  2420.4,2,   7.4595,2,    25.02,2, -999.00,9,  -999.0,9, -999.00,9, -999.00,9,       30.2,2, 20220629,      220,  30.0000,-139.2730,     1.9491,2,     -999.0,9,     -999.0,9,     -999.0,9,     -999.0,9,     0.0134,1,     4.6995,1,     -999.0,9,     -999.0,9,     -999.0,9,     -999.0,9,     -999.0,9
33RR20220613,       P02E,     156,          1,         10,         10,2,20220629,       0114,    30.0000,  -139.2730,       4882,  2364.3,2,   1.7796,2,  34.6387,3,  34.6427,2,     95.8,2,    95.6,2,  170.20,2,   39.49,2,    0.00,2,    2.79,2,-999.000,9,-999.000,9,-999.0000,9,  -999.0,9,  -999.0,9,-999.0000,9,  -999.00,9, -999.00,9,  -999.0,9, -999.00,9, -999.00,9,     -999.0,9, 20220629,      214,  30.0000,-139.2730,     1.7794,2,     -999.0,9,     -999.0,9,     -999.0,9,     -999.0,9,     0.0125,1,     4.7001,1,     -999.0,9,     -999.0,9,     -999.0,9,     -999.0,9,     -999.0,9
33RR20220613,       P02E,     156,          1,          9,          9,2,20220629,       0114,    30.0000,  -139.2730,       4882,  2620.0,2,   1.6783,2,  34.6496,3,  34.6529,2,    105.6,2,   105.8,2,  169.51,2,   38.91,2,    0.00,2,    2.76,2,   0.004,2,   0.003,2,   0.0000,2,  2362.2,2,  2426.8,2,   7.4997,2,    25.03,2, -999.00,9,  -999.0,9, -999.00,9, -999.00,9,       26.5,2, 20220629,      208,  30.0000,-139.2730,     1.6793,2,     -999.0,9,     -999.0,9,     -999.0,9,     -999.0,9,     0.0122,1,     4.7004,1,     -999.0,9,     -999.0,9,     -999.0,9,     -999.0,9,     -999.0,9
33RR20220613,       P02E,     156,          1,          8,          8,2,20220629,       0114,    30.0000,  -139.2730,       4882,  2873.4,2,   1.5973,2,  34.6586,3,  34.6625,2,    115.4,2,   115.8,2,  168.83,2,   38.34,2,    0.00,2,    2.68,2,-999.000,9,-999.000,9,-999.0000,9,  -999.0,9,  -999.0,9,-999.0000,9,  -999.00,9, -999.00,9,  -999.0,9, -999.00,9, -999.00,9,     -999.0,9, 20220629,      202,  30.0000,-139.2730,     1.5971,2,     -999.0,9,     -999.0,9,     -999.0,9,     -999.0,9,     0.0124,1,     4.7007,1,     -999.0,9,     -999.0,9,     -999.0,9,     -999.0,9,     -999.0,9
33RR20220613,       P02E,     156,          1,          7,          7,2,20220629,       0114,    30.0000,  -139.2730,       4882,  3144.1,2,   1.5559,2,  34.6646,3,  34.6673,2,    122.0,2,   122.1,2,  167.26,2,   37.97,2,    0.00,2,    2.65,2,   0.004,2,   0.004,2,   0.0000,2,  2348.6,2,  2427.1,2,   7.5296,2,    25.02,2, -999.00,9,  -999.0,9, -999.00,9, -999.00,9,       24.3,2, 20220629,      157,  30.0000,-139.2730,     1.5561,2,     -999.0,9,     -999.0,9,     -999.0,9,     -999.0,9,     0.0126,1,     4.7008,1,     -999.0,9,     -999.0,9,     -999.0,9,     -999.0,9,     -999.0,9
33RR20220613,       P02E,     156,          1,          6,          6,2,20220629,       0114,    30.0000,  -139.2730,       4882,  3450.6,2,   1.5117,2,  34.6715,2,  34.6732,2,    130.7,2,   130.6,2,  165.60,2,   37.46,2,    0.00,2,    2.59,2,-999.000,9,-999.000,9,-999.0000,9,  -999.0,9,  -999.0,9,-999.0000,9,  -999.00,9, -999.00,9,  -999.0,9, -999.00,9, -999.00,9,     -999.0,9, 20220629,      150,  30.0000,-139.2730,     1.5114,2,     -999.0,9,     -999.0,9,     -999.0,9,     -999.0,9,     0.0132,1,     4.7013,1,     -999.0,9,     -999.0,9,     -999.0,9,     -999.0,9,     -999.0,9
33RR20220613,       P02E,     156,          1,          5,          5,2,20220629,       0114,    30.0000,  -139.2730,       4882,  3759.9,2,   1.4927,2,  34.6765,3,  34.6802,2,    137.6,2,   137.9,2,  162.37,2,   37.04,2,    0.00,2,    2.56,2,   0.007,2,   0.004,2,   0.0000,2,  2339.1,2,  2429.0,2,   7.5567,2,    25.02,2, -999.00,9,  -999.0,9, -999.00,9, -999.00,9,       23.0,2, 20220629,      143,  30.0000,-139.2730,     1.4925,2,     -999.0,9,     -999.0,9,     -999.0,9,     -999.0,9,     0.0122,1,     4.7017,1,     -999.0,9,     -999.0,9,     -999.0,9,     -999.0,9,     -999.0,9