BOTTLE,20230830CCHSIOCBG
EXPOCODE,SECT_ID,STNNBR,CASTNO,SAMPNO,BTLNBR,BTLNBR_FLAG_W,DATE,TIME,LATITUDE,LONGITUDE,DEPTH,CTDPRS,CTDPRS_FLAG_W,CTDTMP,CTDTMP_FLAG_W,CTDSAL,CTDSAL_FLAG_W,SALNTY,SALNTY_FLAG_W,CTDOXY,CTDOXY_FLAG_W,OXYGEN,OXYGEN_FLAG_W,SILCAT,SILCAT_FLAG_W,NITRAT,NITRAT_FLAG_W,NITRIT,NITRIT_FLAG_W,PHSPHT,PHSPHT_FLAG_W,CFC-11,CFC-11_FLAG_W,CFC-12,CFC-12_FLAG_W,SF6,SF6_FLAG_W,TCARBN,TCARBN_FLAG_W,ALKALI,ALKALI_FLAG_W,PH_TOT,PH_TOT_FLAG_W,PH_TMP,PH_TMP_FLAG_W,DELC13,DELC13_FLAG_W,DELC14,DELC14_FLAG_W,DOC,DOC_FLAG_W,TDN,TDN_FLAG_W,N2O,N2O_FLAG_W,BTL_DATE,BTL_TIME,BTL_LAT,BTL_LON,REFTMP,REFTMP_FLAG_W,POC,POC_FLAG_W,PON,PON_FLAG_W,POP,POP_FLAG_W,PCOD,PCOD_FLAG_W,CTDFLUOR,CTDFLUOR_FLAG_W,CTDXMISS,CTDXMISS_FLAG_W,HPLC,HPLC_FLAG_W,DNA,DNA_FLAG_W,FCM,FCM_FLAG_W,IMAGES,IMAGES_FLAG_W,VIRAL_ABUNDANCE,VIRAL_ABUNDANCE_FLAG_W
,,,,,,,,,,,METERS,DBAR,,ITS-90,,PSS-78,,PSS-78,,UMOL/KG,,UMOL/KG,,UMOL/KG,,UMOL/KG,,UMOL/KG,,UMOL/KG,,PMOL/KG,,PMOL/KG,,FMOL/KG,,UMOL/KG,,UMOL/KG,,,,DEG C,,/MILLE,,/MILLE,,UMOL/KG,,UMOL/KG,,NMOL/KG,,,,,,ITS-90,,UG/L,,UG/L,,UG/L,,UG/L,,VOLTS,,VOLTS,,,,,,,,,,,
33RR20220613,       P02E,     175,          1,         36,         36,2,20220704,       1307,    29.9996,  -128.3016,       4598,     3.2,2,  19.2448,2,  33.5332,2,  33.5254,2,    236.6,2,   235.8,2,    0.98,2,    0.00,2,    0.00,2,    0.27,2,   2.075,6,   1.299,6,   2.1751,6,  2023.4,6,  2242.6,2,   7.9184,2,    25.02,2, -999.00,9,  -999.0,9, -999.00,9, -999.00,9,        8.0,6, 20220704,     1503,  29.9996,-128.3016,    19.2606,2,     -999.0,9,     -999.0,9,     -999.0,9,     -999.0,9,     0.0136,1,     4.6299,1,     -999.0,9,     -999.0,9,     -999.0,9,     -999.0,9,     -999.0,9
33RR20220613,       P02E,     175,          1,         35,         35,2,20220704,       1307,    29.9996,  -128.3016,       4598,    20.2,2,  19.2827,2,  33.5349,2,  33.5264,2,    236.2,2,   235.7,2,    0.98,2,    0.00,2,    0.00,2,    0.26,2,   2.062,2,   1.299,2,   2.1924,2,  2022.9,2,  2242.3,2,   7.9187,2,    25.02,2, -999.00,9,  -999.0,9, -999.00,9, -999.00,9,        8.2,2, 20220704,     1501,  29.9996,-128.3016,    19.2787,2,     -999.0,9,     -999.0,9,     -999.0,9,     -999.0,9,     0.0134,1,     4.6324,1,     -999.0,9,     -999.0,9,     -999.0,9,     -999.0,9,     -999.0,9
33RR20220613,       P02E,     175,          1,         34,         34,2,20220704,       1307,    29.9996,  -128.3016,       4598,    40.8,2,  19.1139,2,  33.5334,2,  33.5395,2,    236.4,2,   236.7,2,    1.08,2,    0.00,2,    0.00,2,    0.27,2,   2.093,2,   1.303,2,   2.1874,2,  2022.7,2,  2242.1,2,   7.9186,2,    25.02,2, -999.00,9,  -999.0,9, -999.00,9, -999.00,9,        8.0,2, 20220704,     1459,  29.9996,-128.3016,    19.1442,2,     -999.0,9,     -999.0,9,     -999.0,9,     -999.0,9,     0.0149,1,     4.6262,1,     -999.0,9,     -999.0,9,     -999.0,9,     -999.0,9,     -999.0,9
33RR20220613,       P02E,     175,          1,         33,         33,2,20220704,       1307,    29.9996,  -128.3016,       4598,    66.5,2,  17.9316,2,  33.6010,2,  33.6033,2,    246.8,2,   246.8,2,    1.17,2,    0.00,2,    0.00,2,    0.22,2,   2.233,2,   1.367,2,   2.2210,2,  2018.6,2,  2241.2,2,   7.9265,2,    25.02,2, -999.00,9,  -999.0,9, -999.00,9, -999.00,9,        8.3,2, 20220704,     1457,  29.9996,-128.3016,    17.9280,2,     -999.0,9,     -999.0,9,     -999.0,9,     -999.0,9,     0.0161,1,     4.6342,1,     -999.0,9,     -999.0,9,     -999.0,9,     -999.0,9,     -999.0,9
33RR20220613,       P02E,     175,          1,         32,         32,2,20220704,       1307,    29.9996,  -128.3016,       4598,    90.7,2,  17.4353,2,  33.6527,2,  33.6510,2,    245.3,2,   246.3,2,    1.17,2,    0.00,2,    0.00,2,    0.22,2,   2.242,2,   1.379,2,   2.2706,2,  2021.5,2,  2244.1,6,   7.9228,2,    25.02,2, -999.00,9,  -999.0,9, -999.00,9, -999.00,9,        8.5,2, 20220704,     1455,  29.9996,-128.3016,    17.4256,2,     -999.0,9,     -999.0,9,     -999.0,9,     -999.0,9,     0.0220,1,     4.6441,1,     -999.0,9,     -999.0,9,     -999.0,9,     -999.0,9,     -999.0,9
33RR20220613,       P02E,     175,          1,         31,         31,2,20220704,       1307,    29.9996,  -128.3016,       4598,   136.5,2,  14.3244,2,  33.3362,2,  33.3197,2,    238.0,2,   237.7,2,    2.44,2,    1.51,2,    0.16,2,    0.41,2,   2.604,2,   1.591,2,   2.2712,2,  2036.2,2,  2219.1,2,   7.8425,2,    25.02,2, -999.00,9,  -999.0,9, -999.00,9, -999.00,9,       10.7,2, 20220704,     1453,  29.9996,-128.3016,    14.3266,2,     -999.0,9,     -999.0,9,     -999.0,9,     -999.0,9,     0.0317,1,     4.6585,1,     -999.0,9,     -999.0,9,     -999.0,9,     -999.0,9,     -999.0,9
33RR20220613,       P02E,     175,          1,         30,         17,2,20220704,       1307,    29.9996,  -128.3016,       4598,   186.5,2,  10.8175,2,  33.3472,2,  33.3449,2,    207.7,2,   208.3,2,    9.58,2,   11.91,2,    0.01,2,    1.04,2,-999.000,9,-999.000,9,-999.0000,9,  2092.8,2,  2218.2,2,   7.6994,2,    25.02,2, -999.00,9,  -999.0,9, -999.00,9, -999.00,9,     -999.0,9, 20220704,     1451,  29.9996,-128.3016,    10.8163,2,     -999.0,9,     -999.0,9,     -999.0,9,     -999.0,9,     0.0159,1,     4.6823,1,     -999.0,9,     -999.0,9,     -999.0,9,     -999.0,9,     -999.0,9
33RR20220613,       P02E,     175,          1,         29,         29,2,20220704,       1307,    29.9996,  -128.3016,       4598,   237.2,2,   9.2263,2,  33.8420,2,  33.8553,2,    156.3,2,   155.8,2,   23.46,2,   22.03,2,    0.00,2,    1.62,2,   2.919,2,   1.785,2,   1.8239,2,  2163.5,2,  2246.5,2,   7.5725,2,    25.02,2, -999.00,9,  -999.0,9, -999.00,9, -999.00,9,       23.5,2, 20220704,     1450,  29.9996,-128.3016,     9.2253,2,     -999.0,9,     -999.0,9,     -999.0,9,     -999.0,9,     0.0122,1,     4.6863,1,     -999.0,9,     -999.0,9,     -999.0,9,     -999.0,9,     -999.0,9
33RR20220613,       P02E,     175,          1,         28,         28,2,20220704,       1307,    29.9996,  -128.3016,       4598,   287.6,2,   8.4070,2,  33.9929,2,  33.9918,2,    129.2,3,   127.8,2,   33.43,2,   26.50,2,    0.00,2,    1.92,2,   2.750,2,   1.665,2,   1.4027,2,  -999.0,9,  -999.0,9,-999.0000,9,  -999.00,9, -999.00,9,  -999.0,9, -999.00,9, -999.00,9,       30.0,2, 20220704,     1447,  29.9996,-128.3016,     8.4220,2,     -999.0,9,     -999.0,9,     -999.0,9,     -999.0,9,     0.0130,1,     4.6862,1,     -999.0,9,     -999.0,9,     -999.0,9,     -999.0,9,     -999.0,9
33RR20220613,       P02E,     175,          1,         27,         27,2,20220704,       1307,    29.9996,  -128.3016,       4598,   337.5,2,   7.5849,2,  34.0335,2,  34.0313,2,     94.7,2,    94.9,2,   44.38,2,   30.93,2,    0.00,2,    2.25,2,   2.395,2,   1.443,2,   0.9695,2,  2232.3,2,  2271.7,2,   7.4421,2,    25.04,2, -999.00,9,  -999.0,9, -999.00,9, -999.00,9,       34.9,2, 20220704,     1446,  29.9996,-128.3016,     7.5867,2,     -999.0,9,     -999.0,9,     -999.0,9,     -999.0,9,     0.0134,1,     4.6868,1,     -999.0,9,     -999.0,9,     -999.0,9,     -999.0,9,     -999.0,9
33RR20220613,       P02E,     175,          1,         26,         26,2,20220704,       1307,    29.9996,  -128.3016,       4598,   388.4,2,   6.8316,2,  34.0619,2,  34.0605,2,     66.9,3,    65.5,2,   55.52,2,   34.80,2,    0.00,2,    2.56,2,   1.949,2,   1.156,2,   0.6906,2,  -999.0,9,  -999.0,9,-999.0000,9,  -999.00,9, -999.00,9,  -999.0,9, -999.00,9, -999.00,9,       39.0,2, 20220704,     1444,  29.9996,-128.3017,     6.8492,2,     -999.0,9,     -999.0,9,     -999.0,9,     -999.0,9,     0.0134,1,     4.6861,1,     -999.0,9,     -999.0,9,     -999.0,9,     -999.0,9,     -999.0,9
33RR20220613,       P02E,     175,          1,         25,         25,2,20220704,       1307,    29.9996,  -128.3016,       4598,   438.7,2,   6.3397,2,  34.0893,2,  34.0897,2,     48.0,2,    48.4,2,   63.83,2,   37.21,2,    0.00,2,    2.74,2,   1.583,2,   0.922,2,   0.4572,2,  2281.4,2,  2289.6,2,   7.3444,2,    25.04,2, -999.00,9,  -999.0,9, -999.00,9, -999.00,9,       42.3,2, 20220704,     1442,  29.9996,-128.3016,     6.3366,2,     -999.0,9,     -999.0,9,     -999.0,9,     -999.0,9,     0.0134,1,     4.6886,1,     -999.0,9,     -999.0,9,     -999.0,9,     -999.0,9,     -999.0,9
33RR20220613,       P02E,     175,          1,         24,         24,2,20220704,       1307,    29.9996,  -128.3016,       4598,   489.0,2,   5.9640,2,  34.1223,2,  34.1238,2,     35.6,2,    35.3,2,   71.15,2,   38.94,2,    0.00,2,    2.87,2,   1.239,2,   0.712,2,   0.3910,2,  2299.0,2,  2299.2,2,   7.3208,2,    25.02,2, -999.00,9,  -999.0,9, -999.00,9, -999.00,9,       45.2,2, 20220704,     1439,  29.9996,-128.3016,     5.9625,2,     -999.0,9,     -999.0,9,     -999.0,9,     -999.0,9,     0.0134,1,     4.6892,1,     -999.0,9,     -999.0,9,     -999.0,9,     -999.0,9,     -999.0,9
33RR20220613,       P02E,     175,          1,         23,         23,2,20220704,       1307,    29.9996,  -128.3016,       4598,   569.9,2,   5.4416,2,  34.1880,2,  34.1889,2,     21.3,3,    22.3,2,   82.29,2,   40.83,2,    0.00,2,    3.03,2,   0.708,2,   0.396,2,   0.3160,2,  2319.7,2,  2313.6,2,   7.3047,2,    25.03,2, -999.00,9,  -999.0,9, -999.00,9, -999.00,9,       49.2,2, 20220704,     1438,  29.9996,-128.3016,     5.4440,2,     -999.0,9,     -999.0,9,     -999.0,9,     -999.0,9,     0.0134,1,     4.6893,1,     -999.0,9,     -999.0,9,     -999.0,9,     -999.0,9,     -999.0,9
33RR20220613,       P02E,     175,          1,         22,         22,2,20220704,       1307,    29.9996,  -128.3016,       4598,   670.8,2,   5.1282,2,  34.3127,2,  34.3125,2,     11.5,3,    11.4,2,   92.16,2,   42.01,2,    0.00,2,    3.15,2,   0.192,2,   0.114,2,   0.2048,2,  2335.7,2,  2332.7,2,   7.3076,2,    25.03,2, -999.00,9,  -999.0,9, -999.00,9, -999.00,9,       54.3,2, 20220704,     1435,  29.9996,-128.3016,     5.1271,2,     -999.0,9,     -999.0,9,     -999.0,9,     -999.0,9,     0.0134,1,     4.6897,1,     -999.0,9,     -999.0,9,     -999.0,9,     -999.0,9,     -999.0,9
33RR20220613,       P02E,     175,          1,         21,         21,2,20220704,       1307,    29.9996,  -128.3016,       4598,   771.5,2,   4.5851,2,  34.3650,2,  34.3639,2,     13.1,3,    12.9,2,  103.39,2,   43.06,2,    0.00,2,    3.20,2,   0.061,2,   0.041,2,   0.1116,2,  2350.5,2,  2346.8,2,   7.3148,2,    25.02,2, -999.00,9,  -999.0,9, -999.00,9, -999.00,9,       54.6,2, 20220704,     1433,  29.9996,-128.3016,     4.5938,2,     -999.0,9,     -999.0,9,     -999.0,9,     -999.0,9,     0.0134,1,     4.6910,1,     -999.0,9,     -999.0,9,     -999.0,9,     -999.0,9,     -999.0,9
33RR20220613,       P02E,     175,          1,         20,         20,2,20220704,       1307,    29.9996,  -128.3016,       4598,   873.1,2,   4.2529,2,  34.4105,2,  34.4110,2,     17.2,3,    16.9,2,  110.13,2,   43.34,2,    0.00,2,    3.21,2,-999.000,9,-999.000,9,-999.0000,9,  2356.2,2,  2357.0,2,   7.3268,2,    25.03,2, -999.00,9,  -999.0,9, -999.00,9, -999.00,9,     -999.0,9, 20220704,     1430,  29.9996,-128.3016,     4.2534,2,     -999.0,9,     -999.0,9,     -999.0,9,     -999.0,9,     0.0134,1,     4.6914,1,     -999.0,9,     -999.0,9,     -999.0,9,     -999.0,9,     -999.0,9
33RR20220613,       P02E,     175,          1,         19,         39,2,20220704,       1307,    29.9996,  -128.3016,       4598,   973.5,2,   3.9503,2,  34.4596,2,  34.4601,2,     22.6,3,    22.1,2,  117.06,2,   43.41,2,    0.00,2,    3.19,2,   0.018,2,   0.015,2,   0.0000,2,  2362.8,2,  2369.1,2,   7.3413,2,    25.03,2, -999.00,9,  -999.0,9, -999.00,9, -999.00,9,       50.3,2, 20220704,     1427,  29.9996,-128.3016,     3.9500,2,     -999.0,9,     -999.0,9,     -999.0,9,     -999.0,9,     0.0134,1,     4.6920,1,     -999.0,9,     -999.0,9,     -999.0,9,     -999.0,9,     -999.0,9
33RR20220613,       P02E,     175,          1,         18,         18,2,20220704,       1307,    29.9996,  -128.3016,       4598,  1075.3,2,   3.7157,2,  34.4910,2,  34.4928,2,     27.1,2,    26.9,2,  122.92,2,   43.41,2,    0.00,2,    3.19,2,-999.000,9,-999.000,9,-999.0000,9,  -999.0,9,  -999.0,9,-999.0000,9,  -999.00,9, -999.00,9,  -999.0,9, -999.00,9, -999.00,9,     -999.0,9, 20220704,     1425,  29.9996,-128.3016,     3.7138,2,     -999.0,9,     -999.0,9,     -999.0,9,     -999.0,9,     0.0134,1,     4.6914,1,     -999.0,9,     -999.0,9,     -999.0,9,     -999.0,9,     -999.0,9
33RR20220613,       P02E,     175,          1,         17,         37,2,20220704,       1307,    29.9996,  -128.3016,       4598,  1175.9,2,   3.4527,2,  34.5076,2,  34.5087,2,     34.8,2,    34.6,2,  127.71,2,   43.29,2,    0.00,2,    3.14,2,   0.010,2,   0.009,2,   0.0000,2,  2366.5,2,  2382.9,2,   7.3654,2,    25.03,2, -999.00,9,  -999.0,9, -999.00,9, -999.00,9,       44.8,2, 20220704,     1422,  29.9996,-128.3016,     3.4528,2,     -999.0,9,     -999.0,9,     -999.0,9,     -999.0,9,     0.0134,1,     4.6943,1,     -999.0,9,     -999.0,9,     -999.0,9,     -999.0,9,     -999.0,9
33RR20220613,       P02E,     175,          1,         16,         16,2,20220704,       1307,    29.9996,  -128.3016,       4598,  1277.8,2,   3.2622,2,  34.5275,2,  34.5276,2,     40.5,2,    40.3,2,  131.32,2,   43.06,2,    0.00,2,    3.10,2,-999.000,9,-999.000,9,-999.0000,9,  -999.0,9,  -999.0,9,-999.0000,9,  -999.00,9, -999.00,9,  -999.0,9, -999.00,9, -999.00,9,     -999.0,9, 20220704,     1420,  29.9996,-128.3017,     3.2618,2,     -999.0,9,     -999.0,9,     -999.0,9,     -999.0,9,     0.0134,1,     4.6957,1,     -999.0,9,     -999.0,9,     -999.0,9,     -999.0,9,     -999.0,9
33RR20220613,       P02E,     175,          1,         15,         15,2,20220704,       1307,    29.9996,  -128.3016,       4598,  1379.3,2,   3.0543,2,  34.5431,2,  34.5439,2,     46.3,2,    46.4,2,  136.70,2,   42.79,2,    0.00,2,    3.08,2,   0.010,2,   0.009,2,   0.0000,2,  2369.5,2,  2392.9,2,   7.3899,2,    25.03,2, -999.00,9,  -999.0,9, -999.00,9, -999.00,9,       42.7,2, 20220704,     1417,  29.9996,-128.3016,     3.0542,2,     -999.0,9,     -999.0,9,     -999.0,9,     -999.0,9,     0.0134,1,     4.6964,1,     -999.0,9,     -999.0,9,     -999.0,9,     -999.0,9,     -999.0,9
33RR20220613,       P02E,     175,          1,         14,         42,2,20220704,       1307,    29.9996,  -128.3016,       4598,  1480.7,2,   2.8527,2,  34.5576,2,  34.5586,2,     50.0,2,    50.2,2,  142.26,2,   42.68,2,    0.00,2,    3.05,2,-999.000,9,-999.000,9,-999.0000,9,  -999.0,9,  -999.0,9,-999.0000,9,  -999.00,9, -999.00,9,  -999.0,9, -999.00,9, -999.00,9,     -999.0,9, 20220704,     1414,  29.9996,-128.3016,     2.8519,2,     -999.0,9,     -999.0,9,     -999.0,9,     -999.0,9,     0.0134,1,     4.6960,1,     -999.0,9,     -999.0,9,     -999.0,9,     -999.0,9,     -999.0,9
33RR20220613,       P02E,     175,          1,         13,         13,2,20220704,       1307,    29.9996,  -128.3016,       4598,  1582.5,2,   2.6981,2,  34.5699,2,  34.5704,2,     54.6,2,    54.4,2,  145.88,2,   42.40,2,    0.00,2,    3.03,2,   0.007,2,   0.007,2,   0.0000,2,  2372.2,2,  2402.8,2,   7.4036,2,    25.00,2, -999.00,9,  -999.0,9, -999.00,9, -999.00,9,       38.8,2, 20220704,     1412,  29.9996,-128.3016,     2.6964,2,     -999.0,9,     -999.0,9,     -999.0,9,     -999.0,9,     0.0134,1,     4.6969,1,     -999.0,9,     -999.0,9,     -999.0,9,     -999.0,9,     -999.0,9
33RR20220613,       P02E,     175,          1,         12,         12,2,20220704,       1307,    29.9996,  -128.3016,       4598,  1753.8,2,   2.4516,2,  34.5899,2,  34.5901,2,     63.2,2,    63.1,2,  152.32,2,   41.84,2,    0.00,2,    2.99,2,-999.000,9,-999.000,9,-999.0000,9,  -999.0,9,  -999.0,9,-999.0000,9,  -999.00,9, -999.00,9,  -999.0,9, -999.00,9, -999.00,9,     -999.0,9, 20220704,     1408,  29.9996,-128.3016,     2.4528,2,     -999.0,9,     -999.0,9,     -999.0,9,     -999.0,9,     0.0134,1,     4.6970,1,     -999.0,9,     -999.0,9,     -999.0,9,     -999.0,9,     -999.0,9
33RR20220613,       P02E,     175,          1,         11,         11,2,20220704,       1307,    29.9996,  -128.3016,       4598,  1957.9,2,   2.1740,2,  34.6136,2,  34.6148,2,     76.4,2,    76.5,2,  158.48,2,   41.06,2,    0.00,2,    2.90,2,   0.004,2,   0.003,2,   0.0000,2,  2372.0,2,  2416.8,2,   7.4466,2,    25.01,2, -999.00,9,  -999.0,9, -999.00,9, -999.00,9,       32.5,2, 20220704,     1402,  29.9996,-128.3016,     2.1755,2,     -999.0,9,     -999.0,9,     -999.0,9,     -999.0,9,     0.0134,1,     4.6983,1,     -999.0,9,     -999.0,9,     -999.0,9,     -999.0,9,     -999.0,9
33RR20220613,       P02E,     175,          1,         10,         10,2,20220704,       1307,    29.9996,  -128.3016,       4598,  2192.1,2,   1.9800,2,  34.6320,2,  34.6325,2,     88.9,2,    89.1,2,  161.21,2,   40.26,2,    0.00,2,    2.83,2,-999.000,9,-999.000,9,-999.0000,9,  -999.0,9,  -999.0,9,-999.0000,9,  -999.00,9, -999.00,9,  -999.0,9, -999.00,9, -999.00,9,     -999.0,9, 20220704,     1359,  29.9996,-128.3017,     1.9792,2,     -999.0,9,     -999.0,9,     -999.0,9,     -999.0,9,     0.0134,1,     4.6993,1,     -999.0,9,     -999.0,9,     -999.0,9,     -999.0,9,     -999.0,9
33RR20220613,       P02E,     175,          1,          9,          9,2,20220704,       1307,    29.9996,  -128.3016,       4598,  2446.4,2,   1.8285,2,  34.6437,3,  34.6484,2,     98.4,2,    98.3,2,  164.14,2,   39.60,2,    0.00,2,    2.79,2,   0.005,2,   0.005,2,   0.0000,2,  2363.8,2,  2425.6,2,   7.4892,2,    25.02,2, -999.00,9,  -999.0,9, -999.00,9, -999.00,9,       27.5,2, 20220704,     1353,  29.9996,-128.3016,     1.8286,2,     -999.0,9,     -999.0,9,     -999.0,9,     -999.0,9,     0.0133,1,     4.6995,1,     -999.0,9,     -999.0,9,     -999.0,9,     -999.0,9,     -999.0,9
33RR20220613,       P02E,     175,          1,          8,          8,2,20220704,       1307,    29.9996,  -128.3016,       4598,  2701.3,2,   1.7040,2,  34.6532,2,  34.6537,2,    107.4,2,   107.3,2,  167.07,2,   39.02,2,    0.00,2,    2.75,2,-999.000,9,-999.000,9,-999.0000,9,  -999.0,9,  -999.0,9,-999.0000,9,  -999.00,9, -999.00,9,  -999.0,9, -999.00,9, -999.00,9,     -999.0,9, 20220704,     1348,  29.9996,-128.3016,     1.7047,2,     -999.0,9,     -999.0,9,     -999.0,9,     -999.0,9,     0.0134,1,     4.6999,1,     -999.0,9,     -999.0,9,     -999.0,9,     -999.0,9,     -999.0,9
33RR20220613,       P02E,     175,          1,          7,          7,2,20220704,       1307,    29.9996,  -128.3016,       4598,  2956.7,2,   1.6028,2,  34.6614,2,  34.6624,2,    116.0,2,   116.0,2,  168.14,2,   38.47,2,    0.00,2,    2.70,2,   0.006,2,   0.006,2,   0.0000,2,  2357.3,2,  2428.7,2,   7.5210,2,    25.00,2, -999.00,9,  -999.0,9, -999.00,9, -999.00,9,       25.2,2, 20220704,     1343,  29.9996,-128.3016,     1.6026,2,     -999.0,9,     -999.0,9,     -999.0,9,     -999.0,9,     0.0127,1,     4.7009,1,     -999.0,9,     -999.0,9,     -999.0,9,     -999.0,9,     -999.0,9
33RR20220613,       P02E,     175,          1,          6,          6,2,20220704,       1307,    29.9996,  -128.3016,       4598,  3246.0,2,   1.5461,2,  34.6683,2,  34.6698,2,    123.6,2,   123.7,2,  168.34,2,   38.01,2,    0.00,2,    2.65,2,-999.000,9,-999.000,9,-999.0000,9,  -999.0,9,  -999.0,9,-999.0000,9,  -999.00,9, -999.00,9,  -999.0,9, -999.00,9, -999.00,9,     -999.0,9, 20220704,     1336,  29.9996,-128.3016,     1.5461,2,     -999.0,9,     -999.0,9,     -999.0,9,     -999.0,9,     0.0122,1,     4.7010,1,     -999.0,9,     -999.0,9,     -999.0,9,     -999.0,9,     -999.0,9
33RR20220613,       P02E,     175,          1,          5,          5,2,20220704,       1307,    29.9996,  -128.3016,       4598,  3553.9,2,   1.5121,2,  34.6744,2,  34.6747,2,    131.0,2,   131.0,2,  166.77,2,   37.64,2,    0.00,2,    2.60,2,   0.008,2,   0.009,2,   0.0000,2,  2346.9,2,  2430.0,2,   7.5478,2,    25.00,2, -999.00,9,  -999.0,9, -999.00,9, -999.00,9,       23.9,2, 20220704,     1330,  29.9996,-128.3016,     1.5118,2,     -999.0,9,     -999.0,9,     -999.0,9,     -999.0,9,     0.0122,1,     4.7013,1,     -999.0,9,     -999.0,9,     -999.0,9,     -999.0,9,     -999.0,9