BOTTLE,20230830CCHSIOCBG
EXPOCODE,SECT_ID,STNNBR,CASTNO,SAMPNO,BTLNBR,BTLNBR_FLAG_W,DATE,TIME,LATITUDE,LONGITUDE,DEPTH,CTDPRS,CTDPRS_FLAG_W,CTDTMP,CTDTMP_FLAG_W,CTDSAL,CTDSAL_FLAG_W,SALNTY,SALNTY_FLAG_W,CTDOXY,CTDOXY_FLAG_W,OXYGEN,OXYGEN_FLAG_W,SILCAT,SILCAT_FLAG_W,NITRAT,NITRAT_FLAG_W,NITRIT,NITRIT_FLAG_W,PHSPHT,PHSPHT_FLAG_W,CFC-11,CFC-11_FLAG_W,CFC-12,CFC-12_FLAG_W,SF6,SF6_FLAG_W,TCARBN,TCARBN_FLAG_W,ALKALI,ALKALI_FLAG_W,PH_TOT,PH_TOT_FLAG_W,PH_TMP,PH_TMP_FLAG_W,DELC13,DELC13_FLAG_W,DELC14,DELC14_FLAG_W,DOC,DOC_FLAG_W,TDN,TDN_FLAG_W,N2O,N2O_FLAG_W,BTL_DATE,BTL_TIME,BTL_LAT,BTL_LON,REFTMP,REFTMP_FLAG_W,POC,POC_FLAG_W,PON,PON_FLAG_W,POP,POP_FLAG_W,PCOD,PCOD_FLAG_W,CTDFLUOR,CTDFLUOR_FLAG_W,CTDXMISS,CTDXMISS_FLAG_W,HPLC,HPLC_FLAG_W,DNA,DNA_FLAG_W,FCM,FCM_FLAG_W,IMAGES,IMAGES_FLAG_W,VIRAL_ABUNDANCE,VIRAL_ABUNDANCE_FLAG_W
,,,,,,,,,,,METERS,DBAR,,ITS-90,,PSS-78,,PSS-78,,UMOL/KG,,UMOL/KG,,UMOL/KG,,UMOL/KG,,UMOL/KG,,UMOL/KG,,PMOL/KG,,PMOL/KG,,FMOL/KG,,UMOL/KG,,UMOL/KG,,,,DEG C,,/MILLE,,/MILLE,,UMOL/KG,,UMOL/KG,,NMOL/KG,,,,,,ITS-90,,UG/L,,UG/L,,UG/L,,UG/L,,VOLTS,,VOLTS,,,,,,,,,,,
33RR20220613,       P02E,     167,          2,         36,         36,2,20220702,       0555,    29.9997,  -132.9210,       4592,     5.0,2,  20.4487,2,  33.9817,2,  33.9720,2,    231.0,2,   230.7,2,    1.27,2,    0.00,2,    0.00,2,    0.17,2,   1.968,2,   1.216,2,   1.8872,2,  2028.9,6,  2265.2,2,   7.9413,2,    25.01,2, -999.00,9,  -999.0,9, -999.00,9, -999.00,9,        7.7,2, 20220702,      800,  29.9997,-132.9210,    20.4463,2,     -999.0,9,     -999.0,9,     -999.0,9,     -999.0,9,     0.0147,1,     4.6321,1,     -999.0,9,     -999.0,9,     -999.0,9,     -999.0,9,     -999.0,9
33RR20220613,       P02E,     167,          2,         35,         35,2,20220702,       0555,    29.9997,  -132.9210,       4592,    25.4,2,  20.4393,2,  33.9891,2,  33.9802,2,    230.6,2,   230.8,2,    1.27,2,    0.00,2,    0.00,2,    0.17,2,   1.956,2,   1.232,2,   2.0249,2,  2029.9,2,  2266.0,2,   7.9414,2,    25.02,2, -999.00,9,  -999.0,9, -999.00,9, -999.00,9,        7.6,2, 20220702,      758,  29.9997,-132.9210,    20.4549,2,     -999.0,9,     -999.0,9,     -999.0,9,     -999.0,9,     0.0147,1,     4.6340,1,     -999.0,9,     -999.0,9,     -999.0,9,     -999.0,9,     -999.0,9
33RR20220613,       P02E,     167,          2,         34,         34,2,20220702,       0555,    29.9997,  -132.9210,       4592,    49.7,2,  17.9204,2,  33.7543,3,  33.7922,2,    247.2,3,   244.6,2,    1.27,2,    0.01,2,    0.00,2,    0.18,2,   2.176,2,   1.330,2,   2.0075,2,  2019.7,2,  2251.9,2,   7.9347,2,    25.01,2, -999.00,9,  -999.0,9, -999.00,9, -999.00,9,        8.2,2, 20220702,      756,  29.9997,-132.9210,    17.9200,2,     -999.0,9,     -999.0,9,     -999.0,9,     -999.0,9,     0.0150,1,     4.6438,1,     -999.0,9,     -999.0,9,     -999.0,9,     -999.0,9,     -999.0,9
33RR20220613,       P02E,     167,          2,         33,         33,2,20220702,       0555,    29.9997,  -132.9210,       4592,    76.9,2,  17.1295,2,  33.7078,2,  33.7048,2,    245.4,2,   247.8,2,    1.27,2,    0.01,2,    0.00,2,    0.17,2,   2.300,2,   1.383,2,   2.1153,2,  2020.1,2,  2241.7,2,   7.9248,2,    25.01,2, -999.00,9,  -999.0,9, -999.00,9, -999.00,9,        8.5,2, 20220702,      754,  29.9997,-132.9210,    17.1145,2,     -999.0,9,     -999.0,9,     -999.0,9,     -999.0,9,     0.0176,1,     4.6527,1,     -999.0,9,     -999.0,9,     -999.0,9,     -999.0,9,     -999.0,9
33RR20220613,       P02E,     167,          2,         32,         32,2,20220702,       0555,    29.9997,  -132.9210,       4592,   101.1,2,  17.3886,2,  33.9672,2,  33.9600,2,    236.0,3,   239.2,2,    1.37,2,    0.01,2,    0.00,2,    0.15,2,   2.228,2,   1.362,2,   2.0899,2,  2029.5,2,  2254.2,6,   7.9243,2,    25.01,2, -999.00,9,  -999.0,9, -999.00,9, -999.00,9,        8.6,2, 20220702,      752,  29.9997,-132.9210,    17.3948,2,     -999.0,9,     -999.0,9,     -999.0,9,     -999.0,9,     0.0281,1,     4.6594,1,     -999.0,9,     -999.0,9,     -999.0,9,     -999.0,9,     -999.0,9
33RR20220613,       P02E,     167,          2,         31,         31,2,20220702,       0555,    29.9997,  -132.9210,       4592,   151.5,2,  14.9826,2,  33.7908,2,  33.7736,2,    226.6,2,   226.7,2,    2.74,2,    2.13,2,    0.03,2,    0.34,2,   2.485,2,   1.527,2,   2.1249,2,  2046.0,2,  2237.4,2,   7.8582,2,    25.01,2, -999.00,9,  -999.0,9, -999.00,9, -999.00,9,       11.1,2, 20220702,      749,  29.9997,-132.9210,    14.9795,2,     -999.0,9,     -999.0,9,     -999.0,9,     -999.0,9,     0.0231,1,     4.6692,1,     -999.0,9,     -999.0,9,     -999.0,9,     -999.0,9,     -999.0,9
33RR20220613,       P02E,     167,          2,         30,         17,2,20220702,       0555,    29.9997,  -132.9210,       4592,   202.6,2,  11.4617,2,  33.6204,2,  33.6209,2,    208.9,2,   208.6,2,    8.80,2,   10.18,2,    0.00,2,    0.88,2,   2.900,2,   1.750,2,   2.2006,2,  2088.6,2,  2229.7,2,   7.7356,2,    25.02,2, -999.00,9,  -999.0,9, -999.00,9, -999.00,9,       14.1,2, 20220702,      746,  29.9997,-132.9210,    11.5091,2,     -999.0,9,     -999.0,9,     -999.0,9,     -999.0,9,     0.0141,1,     4.6859,1,     -999.0,9,     -999.0,9,     -999.0,9,     -999.0,9,     -999.0,9
33RR20220613,       P02E,     167,          2,         29,         29,2,20220702,       0555,    29.9997,  -132.9210,       4592,   252.9,2,   9.7316,2,  33.9508,2,  33.9536,2,    196.3,2,   197.3,2,   17.89,2,   16.59,2,    0.00,2,    1.21,2,   3.044,2,   1.829,2,   1.9758,2,  2129.0,2,  2249.8,2,   7.6842,2,    25.01,2, -999.00,9,  -999.0,9, -999.00,9, -999.00,9,       19.6,2, 20220702,      745,  29.9997,-132.9210,     9.7330,2,     -999.0,9,     -999.0,9,     -999.0,9,     -999.0,9,     0.0122,1,     4.6910,1,     -999.0,9,     -999.0,9,     -999.0,9,     -999.0,9,     -999.0,9
33RR20220613,       P02E,     167,          2,         28,         28,2,20220702,       0555,    29.9997,  -132.9210,       4592,   301.4,2,   8.9835,2,  33.9975,2,  33.9968,2,    183.0,2,   183.3,2,   25.03,2,   20.12,2,    0.00,2,    1.43,2,   3.016,2,   1.795,2,   1.6942,2,  -999.0,9,  -999.0,9,-999.0000,9,  -999.00,9, -999.00,9,  -999.0,9, -999.00,9, -999.00,9,       23.5,2, 20220702,      743,  29.9997,-132.9210,     8.9883,2,     -999.0,9,     -999.0,9,     -999.0,9,     -999.0,9,     0.0122,1,     4.6918,1,     -999.0,9,     -999.0,9,     -999.0,9,     -999.0,9,     -999.0,9
33RR20220613,       P02E,     167,          2,         27,         27,2,20220702,       0555,    29.9997,  -132.9210,       4592,   354.2,2,   8.1210,2,  34.0113,2,  34.0059,2,    150.4,3,   148.1,2,   35.98,2,   25.41,2,    0.00,2,    1.80,2,   2.792,2,   1.639,2,   1.2286,2,  2187.5,2,  2266.3,2,   7.5612,2,    25.02,2, -999.00,9,  -999.0,9, -999.00,9, -999.00,9,       28.6,2, 20220702,      741,  29.9997,-132.9210,     8.1196,2,     -999.0,9,     -999.0,9,     -999.0,9,     -999.0,9,     0.0134,1,     4.6922,1,     -999.0,9,     -999.0,9,     -999.0,9,     -999.0,9,     -999.0,9
33RR20220613,       P02E,     167,          2,         26,         26,2,20220702,       0555,    29.9997,  -132.9210,       4592,   403.6,2,   7.1409,2,  33.9992,2,  33.9955,2,    116.8,2,   116.8,2,   46.83,2,   30.04,2,    0.00,2,    2.14,2,   2.543,2,   1.501,2,   0.9572,2,  -999.0,9,  -999.0,9,-999.0000,9,  -999.00,9, -999.00,9,  -999.0,9, -999.00,9, -999.00,9,       33.6,2, 20220702,      739,  29.9997,-132.9210,     7.1379,2,     -999.0,9,     -999.0,9,     -999.0,9,     -999.0,9,     0.0134,1,     4.6921,1,     -999.0,9,     -999.0,9,     -999.0,9,     -999.0,9,     -999.0,9
33RR20220613,       P02E,     167,          2,         25,         25,2,20220702,       0555,    29.9997,  -132.9210,       4592,   455.0,2,   6.4074,2,  34.0102,2,  34.0090,2,     89.1,2,    88.4,2,   57.87,2,   34.01,2,    0.00,2,    2.44,2,   2.138,6,   1.244,6,   0.7390,6,  2250.3,2,  2283.0,2,   7.4155,2,    25.03,2, -999.00,9,  -999.0,9, -999.00,9, -999.00,9,       36.7,6, 20220702,      737,  29.9997,-132.9210,     6.4050,2,     -999.0,9,     -999.0,9,     -999.0,9,     -999.0,9,     0.0133,1,     4.6932,1,     -999.0,9,     -999.0,9,     -999.0,9,     -999.0,9,     -999.0,9
33RR20220613,       P02E,     167,          2,         24,         24,2,20220702,       0555,    29.9997,  -132.9210,       4592,   503.6,2,   5.8273,2,  34.0496,2,  34.0470,2,     64.4,2,    64.4,2,   68.63,2,   36.45,2,    0.00,2,    2.68,2,   1.656,2,   0.949,2,   0.4804,2,  -999.0,9,  -999.0,9,-999.0000,9,  -999.00,9, -999.00,9,  -999.0,9, -999.00,9, -999.00,9,       40.4,2, 20220702,      735,  29.9997,-132.9210,     5.8281,2,     -999.0,9,     -999.0,9,     -999.0,9,     -999.0,9,     0.0134,1,     4.6936,1,     -999.0,9,     -999.0,9,     -999.0,9,     -999.0,9,     -999.0,9
33RR20220613,       P02E,     167,          2,         23,         23,2,20220702,       0555,    29.9997,  -132.9210,       4592,   605.2,2,   5.1159,2,  34.1510,2,  34.1493,2,     28.7,3,    29.1,2,   85.63,2,   40.39,2,    0.00,2,    2.98,2,   0.792,2,   0.441,2,   0.2385,2,  2316.9,2,  2312.8,2,   7.3096,2,    25.02,2, -999.00,9,  -999.0,9, -999.00,9, -999.00,9,       49.3,2, 20220702,      732,  29.9997,-132.9210,     5.1165,2,     -999.0,9,     -999.0,9,     -999.0,9,     -999.0,9,     0.0134,1,     4.6934,1,     -999.0,9,     -999.0,9,     -999.0,9,     -999.0,9,     -999.0,9
33RR20220613,       P02E,     167,          2,         22,         22,2,20220702,       0555,    29.9997,  -132.9210,       4592,   705.0,2,   4.5986,2,  34.2632,2,  34.2636,2,     15.7,2,    15.6,2,  100.38,2,   42.25,2,    0.00,2,    3.13,2,   0.229,2,   0.133,2,   0.0822,2,  2340.1,2,  2334.3,2,   7.3009,2,    25.03,2, -999.00,9,  -999.0,9, -999.00,9, -999.00,9,       53.9,2, 20220702,      729,  29.9997,-132.9210,     4.5969,2,     -999.0,9,     -999.0,9,     -999.0,9,     -999.0,9,     0.0134,1,     4.6945,1,     -999.0,9,     -999.0,9,     -999.0,9,     -999.0,9,     -999.0,9
33RR20220613,       P02E,     167,          2,         21,         21,2,20220702,       0555,    29.9997,  -132.9210,       4592,   807.2,2,   4.3140,2,  34.3474,2,  34.3454,2,     15.9,3,    15.6,2,  107.90,2,   42.84,2,    0.00,2,    3.18,2,   0.063,2,   0.039,2,   0.1504,2,  2350.5,2,  2348.8,2,   7.3144,2,    25.02,2, -999.00,9,  -999.0,9, -999.00,9, -999.00,9,       54.6,2, 20220702,      725,  29.9997,-132.9210,     4.3137,2,     -999.0,9,     -999.0,9,     -999.0,9,     -999.0,9,     0.0134,1,     4.6947,1,     -999.0,9,     -999.0,9,     -999.0,9,     -999.0,9,     -999.0,9
33RR20220613,       P02E,     167,          2,         20,         20,2,20220702,       0555,    29.9997,  -132.9210,       4592,   907.7,2,   4.0949,2,  34.4126,2,  34.4110,2,     21.6,3,    21.4,2,  112.10,2,   42.88,2,    0.00,2,    3.16,2,   0.025,2,   0.020,2,   0.1000,2,  2353.6,2,  2359.9,2,   7.3351,2,    25.03,2, -999.00,9,  -999.0,9, -999.00,9, -999.00,9,       56.5,2, 20220702,      724,  29.9997,-132.9210,     4.0943,2,     -999.0,9,     -999.0,9,     -999.0,9,     -999.0,9,     0.0134,1,     4.6946,1,     -999.0,9,     -999.0,9,     -999.0,9,     -999.0,9,     -999.0,9
33RR20220613,       P02E,     167,          2,         19,         39,2,20220702,       0555,    29.9997,  -132.9210,       4592,  1009.3,2,   3.8543,2,  34.4592,2,  34.4581,2,     28.6,2,    28.6,2,  117.28,2,   42.77,2,    0.00,2,    3.14,2,   0.012,2,   0.009,2,   0.0000,2,  -999.0,9,  -999.0,9,-999.0000,9,  -999.00,9, -999.00,9,  -999.0,9, -999.00,9, -999.00,9,       49.1,2, 20220702,      721,  29.9997,-132.9210,     3.8520,2,     -999.0,9,     -999.0,9,     -999.0,9,     -999.0,9,     0.0134,1,     4.6958,1,     -999.0,9,     -999.0,9,     -999.0,9,     -999.0,9,     -999.0,9
33RR20220613,       P02E,     167,          2,         18,         18,2,20220702,       0555,    29.9997,  -132.9210,       4592,  1109.7,2,   3.6357,2,  34.4917,2,  34.4895,2,     34.4,2,    34.3,2,  122.06,2,   42.62,2,    0.00,2,    3.12,2,   0.009,2,   0.007,2,   0.0000,2,  2361.9,2,  2377.3,2,   7.3500,2,    25.02,2, -999.00,9,  -999.0,9, -999.00,9, -999.00,9,       46.3,2, 20220702,      717,  29.9997,-132.9210,     3.6362,2,     -999.0,9,     -999.0,9,     -999.0,9,     -999.0,9,     0.0133,1,     4.6960,1,     -999.0,9,     -999.0,9,     -999.0,9,     -999.0,9,     -999.0,9
33RR20220613,       P02E,     167,          2,         17,         37,2,20220702,       0555,    29.9997,  -132.9210,       4592,  1211.9,2,   3.4472,2,  34.5082,2,  34.5076,2,     39.0,2,    39.1,2,  126.46,2,   42.46,2,    0.00,2,    3.11,2,   0.007,2,   0.007,2,   0.0000,2,  -999.0,9,  -999.0,9,-999.0000,9,  -999.00,9, -999.00,9,  -999.0,9, -999.00,9, -999.00,9,       44.4,2, 20220702,      715,  29.9997,-132.9210,     3.4472,2,     -999.0,9,     -999.0,9,     -999.0,9,     -999.0,9,     0.0134,1,     4.6966,1,     -999.0,9,     -999.0,9,     -999.0,9,     -999.0,9,     -999.0,9
33RR20220613,       P02E,     167,          2,         16,         16,2,20220702,       0555,    29.9997,  -132.9210,       4592,  1313.9,2,   3.1900,2,  34.5290,2,  34.5315,2,     42.8,2,    42.9,2,  133.30,2,   42.36,2,    0.00,2,    3.10,2,   0.007,2,   0.005,2,   0.0000,2,  2367.4,2,  2389.9,2,   7.3816,2,    25.02,2, -999.00,9,  -999.0,9, -999.00,9, -999.00,9,       42.2,2, 20220702,      712,  29.9997,-132.9210,     3.1905,2,     -999.0,9,     -999.0,9,     -999.0,9,     -999.0,9,     0.0134,1,     4.6971,1,     -999.0,9,     -999.0,9,     -999.0,9,     -999.0,9,     -999.0,9
33RR20220613,       P02E,     167,          2,         15,         15,2,20220702,       0555,    29.9997,  -132.9210,       4592,  1414.2,2,   3.0189,2,  34.5416,2,  34.5406,2,     47.7,2,    47.8,2,  136.71,2,   42.15,2,    0.00,2,    3.07,2,   0.005,2,   0.006,2,   0.0000,2,  2367.0,2,  2396.4,2,   7.3909,2,    25.01,2, -999.00,9,  -999.0,9, -999.00,9, -999.00,9,       41.3,2, 20220702,      709,  29.9997,-132.9210,     3.0183,2,     -999.0,9,     -999.0,9,     -999.0,9,     -999.0,9,     0.0125,1,     4.6972,1,     -999.0,9,     -999.0,9,     -999.0,9,     -999.0,9,     -999.0,9
33RR20220613,       P02E,     167,          2,         14,         42,2,20220702,       0555,    29.9997,  -132.9210,       4592,  1516.2,2,   2.8225,2,  34.5578,2,  34.5565,2,     52.6,2,    52.8,2,  142.28,2,   41.94,2,    0.00,2,    3.04,2,   0.007,2,   0.006,2,   0.0000,2,  -999.0,9,  -999.0,9,-999.0000,9,  -999.00,9, -999.00,9,  -999.0,9, -999.00,9, -999.00,9,       39.6,2, 20220702,      706,  29.9997,-132.9210,     2.8220,2,     -999.0,9,     -999.0,9,     -999.0,9,     -999.0,9,     0.0133,1,     4.6982,1,     -999.0,9,     -999.0,9,     -999.0,9,     -999.0,9,     -999.0,9
33RR20220613,       P02E,     167,          2,         13,         13,2,20220702,       0555,    29.9997,  -132.9210,       4592,  1617.4,2,   2.6317,2,  34.5721,2,  34.5714,2,     58.0,2,    57.9,2,  147.27,2,   41.69,2,    0.00,2,    3.01,2,   0.004,2,   0.003,2,   0.0000,2,  2372.1,2,  2403.4,2,   7.4095,2,    25.02,2, -999.00,9,  -999.0,9, -999.00,9, -999.00,9,       37.3,2, 20220702,      703,  29.9997,-132.9210,     2.6311,2,     -999.0,9,     -999.0,9,     -999.0,9,     -999.0,9,     0.0134,1,     4.6986,1,     -999.0,9,     -999.0,9,     -999.0,9,     -999.0,9,     -999.0,9
33RR20220613,       P02E,     167,          2,         12,         12,2,20220702,       0555,    29.9997,  -132.9210,       4592,  1819.2,2,   2.3439,2,  34.5964,2,  34.5946,2,     67.9,2,    67.8,2,  153.13,2,   41.08,2,    0.00,2,    2.95,2,   0.003,2,   0.004,2,   0.0000,2,  -999.0,9,  -999.0,9,-999.0000,9,  -999.00,9, -999.00,9,  -999.0,9, -999.00,9, -999.00,9,       34.2,2, 20220702,      659,  29.9997,-132.9210,     2.3470,2,     -999.0,9,     -999.0,9,     -999.0,9,     -999.0,9,     0.0134,1,     4.6996,1,     -999.0,9,     -999.0,9,     -999.0,9,     -999.0,9,     -999.0,9
33RR20220613,       P02E,     167,          2,         11,         11,2,20220702,       0555,    29.9997,  -132.9210,       4592,  2024.0,2,   2.1051,2,  34.6177,2,  34.6183,2,     78.4,2,    78.5,2,  159.77,2,   40.46,2,    0.00,2,    2.89,2,   0.004,2,   0.003,2,   0.0000,2,  2373.8,2,  2419.8,2,   7.4491,2,    25.01,2, -999.00,9,  -999.0,9, -999.00,9, -999.00,9,       32.1,2, 20220702,      654,  29.9997,-132.9210,     2.1067,2,     -999.0,9,     -999.0,9,     -999.0,9,     -999.0,9,     0.0134,1,     4.6999,1,     -999.0,9,     -999.0,9,     -999.0,9,     -999.0,9,     -999.0,9
33RR20220613,       P02E,     167,          2,         10,         10,2,20220702,       0555,    29.9997,  -132.9210,       4592,  2278.3,2,   1.8859,2,  34.6333,2,  34.6321,2,     89.4,2,    89.1,2,  165.73,2,   39.73,2,    0.00,2,    2.82,2,   0.003,2,   0.001,2,   0.0000,2,  -999.0,9,  -999.0,9,-999.0000,9,  -999.00,9, -999.00,9,  -999.0,9, -999.00,9, -999.00,9,       28.8,2, 20220702,      648,  29.9997,-132.9210,     1.8865,2,     -999.0,9,     -999.0,9,     -999.0,9,     -999.0,9,     0.0129,1,     4.7000,1,     -999.0,9,     -999.0,9,     -999.0,9,     -999.0,9,     -999.0,9
33RR20220613,       P02E,     167,          2,          9,          9,2,20220702,       0555,    29.9997,  -132.9210,       4592,  2532.1,2,   1.7520,2,  34.6457,2,  34.6443,2,     98.9,2,    99.3,2,  168.56,2,   39.10,2,    0.00,2,    2.77,2,   0.005,2,   0.004,2,   0.0000,2,  2366.9,2,  2424.6,2,   7.4875,2,    25.04,2, -999.00,9,  -999.0,9, -999.00,9, -999.00,9,       28.4,2, 20220702,      640,  29.9997,-132.9210,     1.7526,2,     -999.0,9,     -999.0,9,     -999.0,9,     -999.0,9,     0.0122,1,     4.7008,1,     -999.0,9,     -999.0,9,     -999.0,9,     -999.0,9,     -999.0,9
33RR20220613,       P02E,     167,          2,          8,          8,2,20220702,       0555,    29.9997,  -132.9210,       4592,  2787.2,2,   1.6379,2,  34.6577,2,  34.6561,2,    109.8,2,   109.8,2,  169.54,2,   38.43,2,    0.00,2,    2.71,2,-999.000,5,-999.000,5,-999.0000,5,  2360.1,2,  2429.1,2,   7.5088,2,    25.04,2, -999.00,9,  -999.0,9, -999.00,9, -999.00,9,     -999.0,5, 20220702,      636,  29.9997,-132.9210,     1.6387,2,     -999.0,9,     -999.0,9,     -999.0,9,     -999.0,9,     0.0134,1,     4.7018,1,     -999.0,9,     -999.0,9,     -999.0,9,     -999.0,9,     -999.0,9
33RR20220613,       P02E,     167,          2,          7,          7,2,20220702,       0555,    29.9997,  -132.9210,       4592,  3041.9,2,   1.5572,2,  34.6667,2,  34.6649,2,    119.1,2,   118.9,2,  169.73,2,   37.83,2,    0.00,2,    2.67,2,   0.005,2,   0.005,2,   0.0000,2,  2353.4,2,  2429.3,2,   7.5266,2,    25.02,2, -999.00,9,  -999.0,9, -999.00,9, -999.00,9,       25.1,2, 20220702,      630,  29.9997,-132.9210,     1.5573,2,     -999.0,9,     -999.0,9,     -999.0,9,     -999.0,9,     0.0122,1,     4.7019,1,     -999.0,9,     -999.0,9,     -999.0,9,     -999.0,9,     -999.0,9
33RR20220613,       P02E,     167,          2,          6,          6,2,20220702,       0555,    29.9997,  -132.9210,       4592,  3348.9,2,   1.5034,2,  34.6741,2,  34.6747,2,    128.8,2,   128.9,2,  166.50,2,   37.22,2,    0.00,2,    2.61,2,   0.005,2,   0.007,2,   0.0000,2,  2348.1,2,  2429.5,2,   7.5432,2,    25.03,2, -999.00,9,  -999.0,9, -999.00,9, -999.00,9,       23.6,2, 20220702,      624,  29.9997,-132.9210,     1.5039,2,     -999.0,9,     -999.0,9,     -999.0,9,     -999.0,9,     0.0125,1,     4.7023,1,     -999.0,9,     -999.0,9,     -999.0,9,     -999.0,9,     -999.0,9
33RR20220613,       P02E,     167,          2,          5,          5,2,20220702,       0555,    29.9997,  -132.9210,       4592,  3655.4,2,   1.4813,2,  34.6798,3,  34.6879,2,    136.2,2,   136.2,2,  165.04,2,   36.80,2,    0.00,2,    2.57,2,   0.010,2,   0.009,2,   0.0000,2,  -999.0,9,  -999.0,9,-999.0000,9,  -999.00,9, -999.00,9,  -999.0,9, -999.00,9, -999.00,9,       22.9,2, 20220702,      618,  29.9997,-132.9210,     1.4811,2,     -999.0,9,     -999.0,9,     -999.0,9,     -999.0,9,     0.0122,1,     4.7029,1,     -999.0,9,     -999.0,9,     -999.0,9,     -999.0,9,     -999.0,9