BOTTLE,20230830CCHSIOCBG
EXPOCODE,SECT_ID,STNNBR,CASTNO,SAMPNO,BTLNBR,BTLNBR_FLAG_W,DATE,TIME,LATITUDE,LONGITUDE,DEPTH,CTDPRS,CTDPRS_FLAG_W,CTDTMP,CTDTMP_FLAG_W,CTDSAL,CTDSAL_FLAG_W,SALNTY,SALNTY_FLAG_W,CTDOXY,CTDOXY_FLAG_W,OXYGEN,OXYGEN_FLAG_W,SILCAT,SILCAT_FLAG_W,NITRAT,NITRAT_FLAG_W,NITRIT,NITRIT_FLAG_W,PHSPHT,PHSPHT_FLAG_W,CFC-11,CFC-11_FLAG_W,CFC-12,CFC-12_FLAG_W,SF6,SF6_FLAG_W,TCARBN,TCARBN_FLAG_W,ALKALI,ALKALI_FLAG_W,PH_TOT,PH_TOT_FLAG_W,PH_TMP,PH_TMP_FLAG_W,DELC13,DELC13_FLAG_W,DELC14,DELC14_FLAG_W,DOC,DOC_FLAG_W,TDN,TDN_FLAG_W,N2O,N2O_FLAG_W,BTL_DATE,BTL_TIME,BTL_LAT,BTL_LON,REFTMP,REFTMP_FLAG_W,POC,POC_FLAG_W,PON,PON_FLAG_W,POP,POP_FLAG_W,PCOD,PCOD_FLAG_W,CTDFLUOR,CTDFLUOR_FLAG_W,CTDXMISS,CTDXMISS_FLAG_W,HPLC,HPLC_FLAG_W,DNA,DNA_FLAG_W,FCM,FCM_FLAG_W,IMAGES,IMAGES_FLAG_W,VIRAL_ABUNDANCE,VIRAL_ABUNDANCE_FLAG_W
,,,,,,,,,,,METERS,DBAR,,ITS-90,,PSS-78,,PSS-78,,UMOL/KG,,UMOL/KG,,UMOL/KG,,UMOL/KG,,UMOL/KG,,UMOL/KG,,PMOL/KG,,PMOL/KG,,FMOL/KG,,UMOL/KG,,UMOL/KG,,,,DEG C,,/MILLE,,/MILLE,,UMOL/KG,,UMOL/KG,,NMOL/KG,,,,,,ITS-90,,UG/L,,UG/L,,UG/L,,UG/L,,VOLTS,,VOLTS,,,,,,,,,,,
33RR20220613,       P02E,     186,          2,          4,          4,2,20220715,       0610,    30.4969,  -122.1468,       4048,  3452.1,2,   1.5739,2,  34.6711,2,  34.6708,2,    125.1,2,   124.9,2,  166.98,2,   37.98,2,    0.00,2,    2.63,2,   0.009,2,   0.008,2,   0.0000,2,  -999.0,9,  -999.0,9,-999.0000,9,  -999.00,9, -999.00,9,  -999.0,9, -999.00,1, -999.00,1,       25.9,2, 20220715,      624,  30.4969,-122.1469,     1.5739,2,     -999.0,9,     -999.0,9,     -999.0,9,     -999.0,9,     0.0126,1,     4.6761,1,     -999.0,9,     -999.0,9,     -999.0,9,     -999.0,9,     -999.0,9
33RR20220613,       P02E,     186,          2,          3,          3,2,20220715,       0610,    30.4969,  -122.1468,       4048,  3760.1,2,   1.5456,2,  34.6753,2,  34.6755,2,    130.1,2,   130.2,2,  167.28,2,   37.61,2,    0.00,2,    2.60,2,   0.011,2,   0.011,2,   0.0000,2,  2348.2,2,  2432.2,2,   7.5480,2,    25.00,2, -999.00,9,  -999.0,9, -999.00,1, -999.00,1,       26.4,2, 20220715,      618,  30.4969,-122.1469,     1.5455,2,     -999.0,9,     -999.0,9,     -999.0,9,     -999.0,9,     0.0134,1,     4.6761,1,     -999.0,9,     -999.0,9,     -999.0,9,     -999.0,9,     -999.0,9
33RR20220613,       P02E,     186,          2,          2,          2,2,20220715,       0610,    30.4969,  -122.1468,       4048,  3913.5,2,   1.5416,2,  34.6771,2,  34.6767,2,    132.2,2,   132.6,2,  167.37,2,   37.47,2,    0.00,2,    2.58,2,   0.010,2,   0.010,2,   0.0000,2,  -999.0,9,  -999.0,9,-999.0000,9,  -999.00,9, -999.00,9,  -999.0,9, -999.00,1, -999.00,1,       26.0,2, 20220715,      615,  30.4969,-122.1469,     1.5417,2,     -999.0,9,     -999.0,9,     -999.0,9,     -999.0,9,     0.0122,1,     4.6752,1,     -999.0,9,     -999.0,9,     -999.0,9,     -999.0,9,     -999.0,9
33RR20220613,       P02E,     186,          2,          1,          1,2,20220715,       0610,    30.4969,  -122.1468,       4048,  4100.7,2,   1.5457,2,  34.6785,2,  34.6789,2,    134.2,2,   134.2,2,  167.08,2,   37.47,2,    0.00,2,    2.58,2,   0.017,2,   0.012,2,   0.0000,2,  2345.9,6,  2433.5,2,   7.5556,2,    25.01,2, -999.00,9,  -999.0,9, -999.00,1, -999.00,1,       24.5,2, 20220715,      610,  30.4969,-122.1469,     1.5457,2,     -999.0,9,     -999.0,9,     -999.0,9,     -999.0,9,     0.0133,1,     4.6671,1,     -999.0,9,     -999.0,9,     -999.0,9,     -999.0,9,     -999.0,9