BOTTLE,20230830CCHSIOCBG
EXPOCODE,SECT_ID,STNNBR,CASTNO,SAMPNO,BTLNBR,BTLNBR_FLAG_W,DATE,TIME,LATITUDE,LONGITUDE,DEPTH,CTDPRS,CTDPRS_FLAG_W,CTDTMP,CTDTMP_FLAG_W,CTDSAL,CTDSAL_FLAG_W,SALNTY,SALNTY_FLAG_W,CTDOXY,CTDOXY_FLAG_W,OXYGEN,OXYGEN_FLAG_W,SILCAT,SILCAT_FLAG_W,NITRAT,NITRAT_FLAG_W,NITRIT,NITRIT_FLAG_W,PHSPHT,PHSPHT_FLAG_W,CFC-11,CFC-11_FLAG_W,CFC-12,CFC-12_FLAG_W,SF6,SF6_FLAG_W,TCARBN,TCARBN_FLAG_W,ALKALI,ALKALI_FLAG_W,PH_TOT,PH_TOT_FLAG_W,PH_TMP,PH_TMP_FLAG_W,DELC13,DELC13_FLAG_W,DELC14,DELC14_FLAG_W,DOC,DOC_FLAG_W,TDN,TDN_FLAG_W,N2O,N2O_FLAG_W,BTL_DATE,BTL_TIME,BTL_LAT,BTL_LON,REFTMP,REFTMP_FLAG_W,POC,POC_FLAG_W,PON,PON_FLAG_W,POP,POP_FLAG_W,PCOD,PCOD_FLAG_W,CTDFLUOR,CTDFLUOR_FLAG_W,CTDXMISS,CTDXMISS_FLAG_W,HPLC,HPLC_FLAG_W,DNA,DNA_FLAG_W,FCM,FCM_FLAG_W,IMAGES,IMAGES_FLAG_W,VIRAL_ABUNDANCE,VIRAL_ABUNDANCE_FLAG_W
,,,,,,,,,,,METERS,DBAR,,ITS-90,,PSS-78,,PSS-78,,UMOL/KG,,UMOL/KG,,UMOL/KG,,UMOL/KG,,UMOL/KG,,UMOL/KG,,PMOL/KG,,PMOL/KG,,FMOL/KG,,UMOL/KG,,UMOL/KG,,,,DEG C,,/MILLE,,/MILLE,,UMOL/KG,,UMOL/KG,,NMOL/KG,,,,,,ITS-90,,UG/L,,UG/L,,UG/L,,UG/L,,VOLTS,,VOLTS,,,,,,,,,,,
33RR20220613,       P02E,     168,          1,         36,         36,2,20220702,       1220,    30.0003,  -132.3434,       4584,     4.1,2,  20.0042,2,  33.6306,2,  33.6240,2,    232.9,2,   232.3,2,    1.27,2,    0.00,2,    0.00,2,    0.22,2,   2.032,2,   1.244,2,   2.0424,2,  2018.5,6,  2245.0,2,   7.9281,2,    25.02,2, -999.00,1,  -999.0,1, -999.00,1, -999.00,1,        7.8,2, 20220702,     1418,  30.0003,-132.3434,    20.0023,2,     -999.0,9,     -999.0,9,     -999.0,9,     -999.0,9,     0.0143,1,     4.6147,1,     -999.0,9,     -999.0,9,     -999.0,9,     -999.0,9,     -999.0,9
33RR20220613,       P02E,     168,          1,         35,         35,2,20220702,       1220,    30.0003,  -132.3434,       4584,    36.3,2,  20.2735,2,  34.0556,2,  34.0482,2,    231.2,2,   231.9,2,    1.27,2,    0.00,2,    0.00,2,    0.18,2,   1.986,2,   1.227,2,   1.9501,2,  2029.7,2,  2268.3,2,   7.9429,2,    25.02,2, -999.00,1,  -999.0,1, -999.00,1, -999.00,1,        7.7,2, 20220702,     1415,  30.0003,-132.3434,    20.2711,2,     -999.0,9,     -999.0,9,     -999.0,9,     -999.0,9,     0.0134,1,     4.6446,1,     -999.0,9,     -999.0,9,     -999.0,9,     -999.0,9,     -999.0,9
33RR20220613,       P02E,     168,          1,         34,         34,2,20220702,       1220,    30.0003,  -132.3434,       4584,    61.5,2,  19.1915,2,  34.1178,2,  34.1195,2,    241.1,2,   241.3,2,    1.27,2,    0.00,2,    0.00,2,    0.14,2,   2.138,2,   1.292,2,   2.0279,2,  2029.2,2,  2268.4,2,   7.9470,2,    25.02,2, -999.00,1,  -999.0,1, -999.00,1, -999.00,1,        8.1,2, 20220702,     1413,  30.0004,-132.3434,    19.2655,2,     -999.0,9,     -999.0,9,     -999.0,9,     -999.0,9,     0.0157,1,     4.6474,1,     -999.0,9,     -999.0,9,     -999.0,9,     -999.0,9,     -999.0,9
33RR20220613,       P02E,     168,          1,         33,         33,2,20220702,       1220,    30.0003,  -132.3434,       4584,    86.3,2,  18.3996,2,  34.1521,2,  34.1483,2,    242.4,2,   241.6,2,    1.47,2,    0.00,2,    0.00,2,    0.12,2,-999.000,9,-999.000,9,-999.0000,9,  2027.3,2,  2266.3,6,   7.9449,2,    25.01,2, -999.00,1,  -999.0,1, -999.00,1, -999.00,1,     -999.0,9, 20220702,     1412,  30.0003,-132.3434,    18.4072,2,     -999.0,9,     -999.0,9,     -999.0,9,     -999.0,9,     0.0162,1,     4.6536,1,     -999.0,9,     -999.0,9,     -999.0,9,     -999.0,9,     -999.0,9
33RR20220613,       P02E,     168,          1,         32,         32,2,20220702,       1220,    30.0003,  -132.3434,       4584,   111.8,2,  18.6772,2,  34.4092,2,  34.4033,2,    236.0,2,   236.1,2,    1.66,2,    0.00,2,    0.00,2,    0.09,2,   2.095,2,   1.290,2,   1.9809,2,  2032.8,2,  2278.2,2,   7.9502,2,    25.03,2, -999.00,1,  -999.0,1, -999.00,1, -999.00,1,        8.2,2, 20220702,     1410,  30.0003,-132.3434,    18.6719,2,     -999.0,9,     -999.0,9,     -999.0,9,     -999.0,9,     0.0174,1,     4.6636,1,     -999.0,9,     -999.0,9,     -999.0,9,     -999.0,9,     -999.0,9
33RR20220613,       P02E,     168,          1,         31,         31,2,20220702,       1220,    30.0003,  -132.3434,       4584,   136.7,2,  17.6578,2,  34.2846,3,  34.2319,2,    227.5,2,   228.8,2,    2.15,2,    0.16,2,    0.04,2,    0.16,2,-999.000,9,-999.000,9,-999.0000,9,  2039.7,2,  2263.9,2,   7.9168,2,    25.02,2, -999.00,1,  -999.0,1, -999.00,1, -999.00,1,     -999.0,9, 20220702,     1409,  30.0003,-132.3434,    17.6546,2,     -999.0,9,     -999.0,9,     -999.0,9,     -999.0,9,     0.0317,1,     4.6606,1,     -999.0,9,     -999.0,9,     -999.0,9,     -999.0,9,     -999.0,9
33RR20220613,       P02E,     168,          1,         30,         17,2,20220702,       1220,    30.0003,  -132.3434,       4584,   166.7,2,  14.7117,2,  33.8883,3,  33.8602,2,    221.3,2,   221.6,2,    3.81,2,    3.31,2,    0.00,2,    0.40,2,   2.531,2,   1.543,2,   2.2482,2,  2055.9,2,  2240.6,2,   7.8433,2,    25.03,2, -999.00,1,  -999.0,1, -999.00,1, -999.00,1,       10.7,2, 20220702,     1407,  30.0003,-132.3434,    14.7154,2,     -999.0,9,     -999.0,9,     -999.0,9,     -999.0,9,     0.0220,1,     4.6742,1,     -999.0,9,     -999.0,9,     -999.0,9,     -999.0,9,     -999.0,9
33RR20220613,       P02E,     168,          1,         29,         29,2,20220702,       1220,    30.0003,  -132.3434,       4584,   216.7,2,  10.4518,2,  33.6504,3,  33.6846,2,    200.7,2,   200.2,2,   12.72,2,   13.88,2,    0.00,2,    1.10,2,   2.992,2,   1.810,2,   2.2169,2,  2109.5,2,  2232.8,2,   7.6926,2,    25.03,2, -999.00,1,  -999.0,1, -999.00,1, -999.00,1,       16.2,2, 20220702,     1405,  30.0003,-132.3434,    10.4533,2,     -999.0,9,     -999.0,9,     -999.0,9,     -999.0,9,     0.0134,1,     4.6869,1,     -999.0,9,     -999.0,9,     -999.0,9,     -999.0,9,     -999.0,9
33RR20220613,       P02E,     168,          1,         28,         28,2,20220702,       1220,    30.0003,  -132.3434,       4584,   266.6,2,   9.2435,2,  33.8993,2,  33.9071,2,    180.4,2,   180.3,2,   21.71,2,   19.49,2,    0.00,2,    1.41,2,   3.035,2,   1.821,2,   1.9391,2,  -999.0,9,  -999.0,9,-999.0000,9,  -999.00,9, -999.00,1,  -999.0,1, -999.00,1, -999.00,1,       21.6,2, 20220702,     1402,  30.0003,-132.3434,     9.2464,2,     -999.0,9,     -999.0,9,     -999.0,9,     -999.0,9,     0.0122,1,     4.6908,1,     -999.0,9,     -999.0,9,     -999.0,9,     -999.0,9,     -999.0,9
33RR20220613,       P02E,     168,          1,         27,         27,2,20220702,       1220,    30.0003,  -132.3434,       4584,   317.4,2,   8.5946,2,  33.9789,2,  33.9833,2,    161.6,3,   159.7,2,   29.43,2,   23.08,2,    0.00,2,    1.65,2,   2.947,2,   1.760,2,   1.5903,2,  2171.2,2,  2258.0,2,   7.5865,2,    25.04,2, -999.00,1,  -999.0,1, -999.00,1, -999.00,1,       26.7,2, 20220702,     1402,  30.0003,-132.3434,     8.5888,2,     -999.0,9,     -999.0,9,     -999.0,9,     -999.0,9,     0.0122,1,     4.6910,1,     -999.0,9,     -999.0,9,     -999.0,9,     -999.0,9,     -999.0,9
33RR20220613,       P02E,     168,          1,         26,         26,2,20220702,       1220,    30.0003,  -132.3434,       4584,   367.7,2,   7.6042,2,  34.0056,2,  34.0025,2,    121.3,2,   121.7,2,   41.66,2,   28.54,2,    0.00,2,    2.04,2,   2.643,2,   1.551,2,   1.1281,2,  -999.0,9,  -999.0,9,-999.0000,9,  -999.00,9, -999.00,1,  -999.0,1, -999.00,1, -999.00,1,       32.3,2, 20220702,     1400,  30.0003,-132.3434,     7.5961,2,     -999.0,9,     -999.0,9,     -999.0,9,     -999.0,9,     0.0134,1,     4.6909,1,     -999.0,9,     -999.0,9,     -999.0,9,     -999.0,9,     -999.0,9
33RR20220613,       P02E,     168,          1,         25,         25,2,20220702,       1220,    30.0003,  -132.3434,       4584,   418.5,2,   6.8563,2,  34.0149,2,  34.0108,2,     91.6,2,    91.7,2,   52.41,2,   32.72,2,    0.00,2,    2.36,2,   2.340,2,   1.334,2,   0.8177,2,  2242.4,2,  2278.6,2,   7.4240,2,    25.02,2, -999.00,1,  -999.0,1, -999.00,1, -999.00,1,       36.3,2, 20220702,     1358,  30.0003,-132.3434,     6.8615,2,     -999.0,9,     -999.0,9,     -999.0,9,     -999.0,9,     0.0134,1,     4.6916,1,     -999.0,9,     -999.0,9,     -999.0,9,     -999.0,9,     -999.0,9
33RR20220613,       P02E,     168,          1,         24,         24,2,20220702,       1220,    30.0003,  -132.3434,       4584,   468.9,2,   6.0869,2,  34.0431,2,  34.0403,2,     65.6,2,    65.2,2,   64.24,2,   36.24,2,    0.00,2,    2.64,2,   1.797,2,   1.039,2,   0.6177,2,  -999.0,9,  -999.0,9,-999.0000,9,  -999.00,9, -999.00,1,  -999.0,1, -999.00,1, -999.00,1,       40.7,2, 20220702,     1356,  30.0003,-132.3434,     6.0867,2,     -999.0,9,     -999.0,9,     -999.0,9,     -999.0,9,     0.0134,1,     4.6923,1,     -999.0,9,     -999.0,9,     -999.0,9,     -999.0,9,     -999.0,9
33RR20220613,       P02E,     168,          1,         23,         23,2,20220702,       1220,    30.0003,  -132.3434,       4584,   539.9,2,   5.4648,2,  34.1096,3,  34.1289,2,     39.0,3,    39.6,2,   78.02,2,   39.41,2,    0.00,2,    2.88,2,   1.108,2,   0.620,2,   0.3495,2,  2299.4,2,  2304.2,2,   7.3242,2,    25.02,2, -999.00,1,  -999.0,1, -999.00,1, -999.00,1,       46.7,2, 20220702,     1354,  30.0003,-132.3434,     5.4639,2,     -999.0,9,     -999.0,9,     -999.0,9,     -999.0,9,     0.0134,1,     4.6932,1,     -999.0,9,     -999.0,9,     -999.0,9,     -999.0,9,     -999.0,9
33RR20220613,       P02E,     168,          1,         22,         22,2,20220702,       1220,    30.0003,  -132.3434,       4584,   640.2,2,   4.9803,2,  34.2171,2,  34.2158,2,     19.7,2,    19.6,2,   91.51,2,   41.61,2,    0.00,2,    3.07,2,   0.439,2,   0.248,2,   0.1756,2,  2327.2,2,  2324.5,2,   7.3026,2,    25.02,2, -999.00,1,  -999.0,1, -999.00,1, -999.00,1,       53.2,2, 20220702,     1351,  30.0003,-132.3434,     4.9751,2,     -999.0,9,     -999.0,9,     -999.0,9,     -999.0,9,     0.0134,1,     4.6935,1,     -999.0,9,     -999.0,9,     -999.0,9,     -999.0,9,     -999.0,9
33RR20220613,       P02E,     168,          1,         21,         21,2,20220702,       1220,    30.0003,  -132.3434,       4584,   741.3,2,   4.6274,2,  34.3250,2,  34.3254,2,     12.9,2,    12.8,2,  102.35,2,   42.65,2,    0.00,2,    3.18,2,   0.110,2,   0.072,2,   0.1047,2,  2343.4,2,  2342.3,2,   7.3062,2,    25.04,2, -999.00,1,  -999.0,1, -999.00,1, -999.00,1,       56.7,2, 20220702,     1349,  30.0003,-132.3434,     4.6264,2,     -999.0,9,     -999.0,9,     -999.0,9,     -999.0,9,     0.0134,1,     4.6935,1,     -999.0,9,     -999.0,9,     -999.0,9,     -999.0,9,     -999.0,9
33RR20220613,       P02E,     168,          1,         20,         20,2,20220702,       1220,    30.0003,  -132.3434,       4584,   843.0,2,   4.3194,2,  34.3850,2,  34.3868,2,     14.9,3,    15.1,2,  109.39,2,   43.08,2,    0.00,2,    3.20,2,-999.000,9,-999.000,9,-999.0000,9,  2351.7,2,  2354.4,2,   7.3176,2,    25.04,2, -999.00,1,  -999.0,1, -999.00,1, -999.00,1,     -999.0,9, 20220702,     1346,  30.0003,-132.3434,     4.3194,2,     -999.0,9,     -999.0,9,     -999.0,9,     -999.0,9,     0.0134,1,     4.6936,1,     -999.0,9,     -999.0,9,     -999.0,9,     -999.0,9,     -999.0,9
33RR20220613,       P02E,     168,          1,         19,         39,2,20220702,       1220,    30.0003,  -132.3434,       4584,   943.6,2,   4.0113,2,  34.4327,2,  34.4294,2,     21.2,2,    21.4,2,  115.25,2,   43.20,2,    0.00,2,    3.18,2,   0.022,2,   0.018,2,   0.1559,2,  2353.9,2,  2364.4,2,   7.3342,2,    25.03,2, -999.00,1,  -999.0,1, -999.00,1, -999.00,1,       53.2,2, 20220702,     1343,  30.0003,-132.3434,     4.0113,2,     -999.0,9,     -999.0,9,     -999.0,9,     -999.0,9,     0.0133,1,     4.6941,1,     -999.0,9,     -999.0,9,     -999.0,9,     -999.0,9,     -999.0,9
33RR20220613,       P02E,     168,          1,         18,         18,2,20220702,       1220,    30.0003,  -132.3434,       4584,  1044.6,2,   3.7442,2,  34.4739,2,  34.4730,2,     28.3,2,    28.4,2,  121.21,2,   43.12,2,    0.00,2,    3.16,2,-999.000,9,-999.000,9,-999.0000,9,  -999.0,9,  -999.0,9,-999.0000,9,  -999.00,9, -999.00,1,  -999.0,1, -999.00,1, -999.00,1,     -999.0,9, 20220702,     1340,  30.0003,-132.3434,     3.7438,2,     -999.0,9,     -999.0,9,     -999.0,9,     -999.0,9,     0.0134,1,     4.6952,1,     -999.0,9,     -999.0,9,     -999.0,9,     -999.0,9,     -999.0,9
33RR20220613,       P02E,     168,          1,         17,         37,2,20220702,       1220,    30.0003,  -132.3434,       4584,  1145.9,2,   3.4499,2,  34.5015,2,  34.4991,2,     37.3,2,    37.3,2,  127.17,2,   42.81,2,    0.00,2,    3.11,2,   0.006,2,   0.007,2,   0.0106,2,  2358.5,2,  2381.7,2,   7.3689,2,    25.03,2, -999.00,1,  -999.0,1, -999.00,1, -999.00,1,       46.6,2, 20220702,     1337,  30.0003,-132.3434,     3.4486,2,     -999.0,9,     -999.0,9,     -999.0,9,     -999.0,9,     0.0134,1,     4.6962,1,     -999.0,9,     -999.0,9,     -999.0,9,     -999.0,9,     -999.0,9
33RR20220613,       P02E,     168,          1,         16,         16,2,20220702,       1220,    30.0003,  -132.3434,       4584,  1247.4,2,   3.2596,2,  34.5236,2,  34.5215,2,     42.1,2,    41.9,2,  131.37,2,   42.69,2,    0.00,2,    3.09,2,-999.000,9,-999.000,9,-999.0000,9,  -999.0,9,  -999.0,9,-999.0000,9,  -999.00,9, -999.00,1,  -999.0,1, -999.00,1, -999.00,1,     -999.0,9, 20220702,     1334,  30.0003,-132.3434,     3.2604,2,     -999.0,9,     -999.0,9,     -999.0,9,     -999.0,9,     0.0134,1,     4.6969,1,     -999.0,9,     -999.0,9,     -999.0,9,     -999.0,9,     -999.0,9
33RR20220613,       P02E,     168,          1,         15,         15,2,20220702,       1220,    30.0003,  -132.3434,       4584,  1348.3,2,   3.1034,2,  34.5412,2,  34.5396,2,     46.1,2,    45.9,2,  135.18,2,   42.52,2,    0.00,2,    3.08,2,   0.008,2,   0.009,2,   0.0000,2,  2365.5,2,  2391.4,2,   7.3884,2,    25.03,2, -999.00,1,  -999.0,1, -999.00,1, -999.00,1,       42.1,2, 20220702,     1332,  30.0003,-132.3434,     3.1039,2,     -999.0,9,     -999.0,9,     -999.0,9,     -999.0,9,     0.0134,1,     4.6971,1,     -999.0,9,     -999.0,9,     -999.0,9,     -999.0,9,     -999.0,9
33RR20220613,       P02E,     168,          1,         14,         42,2,20220702,       1220,    30.0003,  -132.3434,       4584,  1450.1,2,   2.9044,2,  34.5555,2,  34.5604,2,     50.8,2,    50.8,2,  140.46,2,   42.38,2,    0.00,2,    3.05,2,-999.000,9,-999.000,9,-999.0000,9,  -999.0,9,  -999.0,9,-999.0000,9,  -999.00,9, -999.00,1,  -999.0,1, -999.00,1, -999.00,1,     -999.0,9, 20220702,     1329,  30.0003,-132.3434,     2.9039,2,     -999.0,9,     -999.0,9,     -999.0,9,     -999.0,9,     0.0134,1,     4.6974,1,     -999.0,9,     -999.0,9,     -999.0,9,     -999.0,9,     -999.0,9
33RR20220613,       P02E,     168,          1,         13,         13,2,20220702,       1220,    30.0003,  -132.3434,       4584,  1551.9,2,   2.7467,2,  34.5675,2,  34.5661,2,     54.9,2,    54.9,2,  144.66,2,   42.15,2,    0.00,2,    3.02,2,   0.005,2,   0.007,2,   0.0000,2,  2367.5,2,  2402.4,2,   7.4042,2,    25.04,2, -999.00,1,  -999.0,1, -999.00,1, -999.00,1,       39.2,2, 20220702,     1325,  30.0003,-132.3434,     2.7462,2,     -999.0,9,     -999.0,9,     -999.0,9,     -999.0,9,     0.0134,1,     4.6983,1,     -999.0,9,     -999.0,9,     -999.0,9,     -999.0,9,     -999.0,9
33RR20220613,       P02E,     168,          1,         12,         12,2,20220702,       1220,    30.0003,  -132.3434,       4584,  1684.4,2,   2.5211,2,  34.5844,2,  34.5828,2,     62.1,2,    62.0,2,  150.32,2,   41.69,2,    0.00,2,    2.98,2,-999.000,9,-999.000,9,-999.0000,9,  2370.4,2,  2406.3,2,   7.4173,2,    25.03,2, -999.00,1,  -999.0,1, -999.00,1, -999.00,1,     -999.0,9, 20220702,     1323,  30.0003,-132.3434,     2.5220,2,     -999.0,9,     -999.0,9,     -999.0,9,     -999.0,9,     0.0134,1,     4.6984,1,     -999.0,9,     -999.0,9,     -999.0,9,     -999.0,9,     -999.0,9
33RR20220613,       P02E,     168,          1,         11,         11,2,20220702,       1220,    30.0003,  -132.3434,       4584,  1886.6,2,   2.2602,2,  34.6040,2,  34.6016,2,     71.8,2,    71.9,2,  156.48,2,   41.22,2,    0.00,2,    2.92,2,   0.006,2,   0.004,2,   0.0000,2,  2368.1,2,  2413.6,2,   7.4357,2,    25.03,2, -999.00,9,  -999.0,9, -999.00,1, -999.00,1,       33.3,2, 20220702,     1317,  30.0003,-132.3434,     2.2594,2,     -999.0,9,     -999.0,9,     -999.0,9,     -999.0,9,     0.0134,1,     4.6995,1,     -999.0,9,     -999.0,9,     -999.0,9,     -999.0,9,     -999.0,9
33RR20220613,       P02E,     168,          1,         10,         10,2,20220702,       1220,    30.0003,  -132.3434,       4584,  2110.8,2,   2.0389,2,  34.6231,2,  34.6234,2,     82.7,2,    82.9,2,  161.85,2,   40.49,2,    0.00,2,    2.86,2,-999.000,9,-999.000,9,-999.0000,9,  -999.0,9,  -999.0,9,-999.0000,9,  -999.00,9, -999.00,1,  -999.0,1, -999.00,1, -999.00,1,     -999.0,9, 20220702,     1313,  30.0003,-132.3434,     2.0390,2,     -999.0,9,     -999.0,9,     -999.0,9,     -999.0,9,     0.0133,1,     4.7005,1,     -999.0,9,     -999.0,9,     -999.0,9,     -999.0,9,     -999.0,9
33RR20220613,       P02E,     168,          1,          9,          9,2,20220702,       1220,    30.0003,  -132.3434,       4584,  2365.1,2,   1.8651,2,  34.6384,2,  34.6364,2,     93.1,2,    92.7,2,  165.57,2,   39.82,2,    0.00,2,    2.81,2,   0.004,2,   0.004,2,   0.0000,2,  2365.0,2,  2424.9,2,   7.4771,2,    25.04,2, -999.00,9,  -999.0,9, -999.00,1, -999.00,1,       28.9,2, 20220702,     1308,  30.0003,-132.3434,     1.8659,2,     -999.0,9,     -999.0,9,     -999.0,9,     -999.0,9,     0.0134,1,     4.7008,1,     -999.0,9,     -999.0,9,     -999.0,9,     -999.0,9,     -999.0,9
33RR20220613,       P02E,     168,          1,          8,          8,2,20220702,       1220,    30.0003,  -132.3434,       4584,  2619.4,2,   1.7233,2,  34.6511,2,  34.6494,2,    103.7,2,   103.8,2,  168.30,2,   39.14,2,    0.00,2,    2.77,2,-999.000,9,-999.000,9,-999.0000,9,  -999.0,9,  -999.0,9,-999.0000,9,  -999.00,9, -999.00,9,  -999.0,9, -999.00,1, -999.00,1,     -999.0,9, 20220702,     1301,  30.0003,-132.3434,     1.7233,2,     -999.0,9,     -999.0,9,     -999.0,9,     -999.0,9,     0.0134,1,     4.7017,1,     -999.0,9,     -999.0,9,     -999.0,9,     -999.0,9,     -999.0,9
33RR20220613,       P02E,     168,          1,          7,          7,2,20220702,       1220,    30.0003,  -132.3434,       4584,  2874.3,2,   1.6216,2,  34.6598,2,  34.6596,2,    112.1,2,   112.3,2,  170.16,2,   38.62,2,    0.00,2,    2.71,2,   0.004,2,   0.005,2,   0.0000,2,  2356.4,2,  2428.5,2,   7.5126,2,    25.02,2, -999.00,1,  -999.0,1, -999.00,1, -999.00,1,       26.1,2, 20220702,     1257,  30.0003,-132.3434,     1.6214,2,     -999.0,9,     -999.0,9,     -999.0,9,     -999.0,9,     0.0125,1,     4.7017,1,     -999.0,9,     -999.0,9,     -999.0,9,     -999.0,9,     -999.0,9
33RR20220613,       P02E,     168,          1,          6,          6,2,20220702,       1220,    30.0003,  -132.3434,       4584,  3144.3,2,   1.5469,2,  34.6683,3,  34.6661,2,    121.3,2,   121.5,2,  169.76,2,   38.17,2,    0.00,2,    2.65,2,-999.000,9,-999.000,9,-999.0000,9,  -999.0,9,  -999.0,9,-999.0000,9,  -999.00,9, -999.00,9,  -999.0,9, -999.00,1, -999.00,1,     -999.0,9, 20220702,     1251,  30.0003,-132.3434,     1.5469,2,     -999.0,9,     -999.0,9,     -999.0,9,     -999.0,9,     0.0131,1,     4.7019,1,     -999.0,9,     -999.0,9,     -999.0,9,     -999.0,9,     -999.0,9
33RR20220613,       P02E,     168,          1,          5,          5,2,20220702,       1220,    30.0003,  -132.3434,       4584,  3451.8,2,   1.4976,2,  34.6758,2,  34.6749,2,    130.6,2,   130.7,2,  168.10,2,   37.50,2,    0.00,2,    2.60,2,   0.010,2,   0.009,2,   0.0000,2,  2344.9,2,  2431.0,6,   7.5478,2,    25.03,2, -999.00,1,  -999.0,1, -999.00,1, -999.00,1,       23.4,2, 20220702,     1245,  30.0003,-132.3434,     1.4975,2,     -999.0,9,     -999.0,9,     -999.0,9,     -999.0,9,     0.0133,1,     4.7022,1,     -999.0,9,     -999.0,9,     -999.0,9,     -999.0,9,     -999.0,9