BOTTLE,20230830CCHSIOCBG
EXPOCODE,SECT_ID,STNNBR,CASTNO,SAMPNO,BTLNBR,BTLNBR_FLAG_W,DATE,TIME,LATITUDE,LONGITUDE,DEPTH,CTDPRS,CTDPRS_FLAG_W,CTDTMP,CTDTMP_FLAG_W,CTDSAL,CTDSAL_FLAG_W,SALNTY,SALNTY_FLAG_W,CTDOXY,CTDOXY_FLAG_W,OXYGEN,OXYGEN_FLAG_W,SILCAT,SILCAT_FLAG_W,NITRAT,NITRAT_FLAG_W,NITRIT,NITRIT_FLAG_W,PHSPHT,PHSPHT_FLAG_W,CFC-11,CFC-11_FLAG_W,CFC-12,CFC-12_FLAG_W,SF6,SF6_FLAG_W,TCARBN,TCARBN_FLAG_W,ALKALI,ALKALI_FLAG_W,PH_TOT,PH_TOT_FLAG_W,PH_TMP,PH_TMP_FLAG_W,DELC13,DELC13_FLAG_W,DELC14,DELC14_FLAG_W,DOC,DOC_FLAG_W,TDN,TDN_FLAG_W,N2O,N2O_FLAG_W,BTL_DATE,BTL_TIME,BTL_LAT,BTL_LON,REFTMP,REFTMP_FLAG_W,POC,POC_FLAG_W,PON,PON_FLAG_W,POP,POP_FLAG_W,PCOD,PCOD_FLAG_W,CTDFLUOR,CTDFLUOR_FLAG_W,CTDXMISS,CTDXMISS_FLAG_W,HPLC,HPLC_FLAG_W,DNA,DNA_FLAG_W,FCM,FCM_FLAG_W,IMAGES,IMAGES_FLAG_W,VIRAL_ABUNDANCE,VIRAL_ABUNDANCE_FLAG_W
,,,,,,,,,,,METERS,DBAR,,ITS-90,,PSS-78,,PSS-78,,UMOL/KG,,UMOL/KG,,UMOL/KG,,UMOL/KG,,UMOL/KG,,UMOL/KG,,PMOL/KG,,PMOL/KG,,FMOL/KG,,UMOL/KG,,UMOL/KG,,,,DEG C,,/MILLE,,/MILLE,,UMOL/KG,,UMOL/KG,,NMOL/KG,,,,,,ITS-90,,UG/L,,UG/L,,UG/L,,UG/L,,VOLTS,,VOLTS,,,,,,,,,,,
33RR20220613,       P02E,     185,          2,          4,          4,2,20220707,       0901,    30.2516,  -122.6177,       3825,  3298.1,2,   1.5837,2,  34.6708,2,  34.6700,2,    123.2,2,   123.1,2,  168.12,2,   38.13,2,    0.00,2,    2.63,2,-999.000,9,-999.000,9,-999.0000,9,  2349.9,2,  2430.6,2,   7.5342,2,    25.03,2, -999.00,9,  -999.0,9, -999.00,9, -999.00,9,     -999.0,9, 20220707,      914,  30.2516,-122.6177,     1.5833,2,     -999.0,9,     -999.0,9,     -999.0,9,     -999.0,9,     0.0134,1,     4.6971,1,     -999.0,9,     -999.0,9,     -999.0,9,     -999.0,9,     -999.0,9
33RR20220613,       P02E,     185,          2,          3,          3,2,20220707,       0901,    30.2516,  -122.6177,       3825,  3553.8,2,   1.5391,2,  34.6756,2,  34.6743,2,    128.8,2,   128.7,2,  168.51,2,   37.85,2,    0.00,2,    2.60,2,-999.000,9,-999.000,9,-999.0000,9,  2347.0,2,  2430.6,2,   7.5454,2,    25.02,2, -999.00,9,  -999.0,9, -999.00,9, -999.00,9,     -999.0,9, 20220707,      909,  30.2516,-122.6177,     1.5392,2,     -999.0,9,     -999.0,9,     -999.0,9,     -999.0,9,     0.0132,1,     4.6962,1,     -999.0,9,     -999.0,9,     -999.0,9,     -999.0,9,     -999.0,9
33RR20220613,       P02E,     185,          2,          2,          2,2,20220707,       0901,    30.2516,  -122.6177,       3825,  3706.5,2,   1.5415,2,  34.6766,2,  34.6759,2,    130.0,2,   130.2,2,  169.00,2,   37.68,2,    0.00,2,    2.59,2,-999.000,9,-999.000,9,-999.0000,9,  2349.2,2,  2431.3,2,   7.5480,2,    25.03,2, -999.00,9,  -999.0,9, -999.00,9, -999.00,9,     -999.0,9, 20220707,      905,  30.2516,-122.6177,     1.5417,2,     -999.0,9,     -999.0,9,     -999.0,9,     -999.0,9,     0.0123,1,     4.6971,1,     -999.0,9,     -999.0,9,     -999.0,9,     -999.0,9,     -999.0,9
33RR20220613,       P02E,     185,          2,          1,          1,2,20220707,       0901,    30.2516,  -122.6177,       3825,  3871.7,2,   1.5425,2,  34.6778,2,  34.6773,2,    131.6,2,   131.6,2,  168.90,2,   37.55,2,    0.00,2,    2.59,2,-999.000,9,-999.000,9,-999.0000,9,  2347.1,6,  2432.6,2,   7.5511,2,    25.02,2, -999.00,9,  -999.0,9, -999.00,9, -999.00,9,     -999.0,9, 20220707,      901,  30.2516,-122.6176,     1.5426,2,     -999.0,9,     -999.0,9,     -999.0,9,     -999.0,9,     0.0133,1,     4.6971,1,     -999.0,9,     -999.0,9,     -999.0,9,     -999.0,9,     -999.0,9