BOTTLE,20230830CCHSIOCBG
EXPOCODE,SECT_ID,STNNBR,CASTNO,SAMPNO,BTLNBR,BTLNBR_FLAG_W,DATE,TIME,LATITUDE,LONGITUDE,DEPTH,CTDPRS,CTDPRS_FLAG_W,CTDTMP,CTDTMP_FLAG_W,CTDSAL,CTDSAL_FLAG_W,SALNTY,SALNTY_FLAG_W,CTDOXY,CTDOXY_FLAG_W,OXYGEN,OXYGEN_FLAG_W,SILCAT,SILCAT_FLAG_W,NITRAT,NITRAT_FLAG_W,NITRIT,NITRIT_FLAG_W,PHSPHT,PHSPHT_FLAG_W,CFC-11,CFC-11_FLAG_W,CFC-12,CFC-12_FLAG_W,SF6,SF6_FLAG_W,TCARBN,TCARBN_FLAG_W,ALKALI,ALKALI_FLAG_W,PH_TOT,PH_TOT_FLAG_W,PH_TMP,PH_TMP_FLAG_W,DELC13,DELC13_FLAG_W,DELC14,DELC14_FLAG_W,DOC,DOC_FLAG_W,TDN,TDN_FLAG_W,N2O,N2O_FLAG_W,BTL_DATE,BTL_TIME,BTL_LAT,BTL_LON,REFTMP,REFTMP_FLAG_W,POC,POC_FLAG_W,PON,PON_FLAG_W,POP,POP_FLAG_W,PCOD,PCOD_FLAG_W,CTDFLUOR,CTDFLUOR_FLAG_W,CTDXMISS,CTDXMISS_FLAG_W,HPLC,HPLC_FLAG_W,DNA,DNA_FLAG_W,FCM,FCM_FLAG_W,IMAGES,IMAGES_FLAG_W,VIRAL_ABUNDANCE,VIRAL_ABUNDANCE_FLAG_W
,,,,,,,,,,,METERS,DBAR,,ITS-90,,PSS-78,,PSS-78,,UMOL/KG,,UMOL/KG,,UMOL/KG,,UMOL/KG,,UMOL/KG,,UMOL/KG,,PMOL/KG,,PMOL/KG,,FMOL/KG,,UMOL/KG,,UMOL/KG,,,,DEG C,,/MILLE,,/MILLE,,UMOL/KG,,UMOL/KG,,NMOL/KG,,,,,,ITS-90,,UG/L,,UG/L,,UG/L,,UG/L,,VOLTS,,VOLTS,,,,,,,,,,,
33RR20220613,       P02E,     189,          1,          4,          4,2,20220708,       1650,    31.2473,  -120.7536,       4027,  3452.2,2,   1.5714,2,  34.6720,2,  34.6712,2,    124.8,2,   124.7,2,  167.84,2,   37.86,2,    0.00,2,    2.62,2,   0.014,2,   0.015,2,   0.0000,2,  2351.9,2,  2432.1,2,   7.5394,2,    25.00,2, -999.00,9,  -999.0,9, -999.00,9, -999.00,9,       23.6,2, 20220708,     1704,  31.2473,-120.7536,     1.5714,2,     -999.0,9,     -999.0,9,     -999.0,9,     -999.0,9,     0.0134,1,     4.6963,1,     -999.0,9,     -999.0,9,     -999.0,9,     -999.0,9,     -999.0,9
33RR20220613,       P02E,     189,          1,          3,          3,2,20220708,       1650,    31.2473,  -120.7536,       4027,  3759.0,2,   1.5575,2,  34.6753,2,  34.6749,2,    128.1,2,   128.1,2,  168.53,2,   37.68,2,    0.00,2,    2.60,2,   0.015,2,   0.015,2,   0.0000,2,  2353.5,2,  2435.1,6,   7.5460,2,    25.00,2, -999.00,9,  -999.0,9, -999.00,9, -999.00,9,       24.1,2, 20220708,     1658,  31.2473,-120.7536,     1.5575,2,     -999.0,9,     -999.0,9,     -999.0,9,     -999.0,9,     0.0129,1,     4.6953,1,     -999.0,9,     -999.0,9,     -999.0,9,     -999.0,9,     -999.0,9
33RR20220613,       P02E,     189,          1,          2,          2,2,20220708,       1650,    31.2473,  -120.7536,       4027,  3910.9,2,   1.5624,2,  34.6763,2,  34.6767,2,    128.8,2,   129.0,2,  168.82,2,   37.68,2,    0.00,2,    2.59,2,   0.017,2,   0.019,2,   0.0000,2,  2351.9,2,  2435.2,2,   7.5482,2,    25.01,2, -999.00,9,  -999.0,9, -999.00,9, -999.00,9,       24.7,2, 20220708,     1654,  31.2473,-120.7536,     1.5625,2,     -999.0,9,     -999.0,9,     -999.0,9,     -999.0,9,     0.0133,1,     4.6912,1,     -999.0,9,     -999.0,9,     -999.0,9,     -999.0,9,     -999.0,9
33RR20220613,       P02E,     189,          1,          1,          1,2,20220708,       1650,    31.2473,  -120.7536,       4027,  4077.2,2,   1.5749,2,  34.6765,2,  34.6763,2,    129.1,2,   129.1,2,  169.31,2,   37.60,2,    0.00,2,    2.58,2,   0.018,6,   0.022,6,   0.0000,6,  2352.8,6,  2430.2,6,   7.5496,2,    25.00,2, -999.00,9,  -999.0,9, -999.00,9, -999.00,9,       23.6,6, 20220708,     1650,  31.2473,-120.7536,     1.5749,2,     -999.0,9,     -999.0,9,     -999.0,9,     -999.0,9,     0.0122,1,     4.6835,1,     -999.0,9,     -999.0,9,     -999.0,9,     -999.0,9,     -999.0,9