BOTTLE,20230830CCHSIOCBG
EXPOCODE,SECT_ID,STNNBR,CASTNO,SAMPNO,BTLNBR,BTLNBR_FLAG_W,DATE,TIME,LATITUDE,LONGITUDE,DEPTH,CTDPRS,CTDPRS_FLAG_W,CTDTMP,CTDTMP_FLAG_W,CTDSAL,CTDSAL_FLAG_W,SALNTY,SALNTY_FLAG_W,CTDOXY,CTDOXY_FLAG_W,OXYGEN,OXYGEN_FLAG_W,SILCAT,SILCAT_FLAG_W,NITRAT,NITRAT_FLAG_W,NITRIT,NITRIT_FLAG_W,PHSPHT,PHSPHT_FLAG_W,CFC-11,CFC-11_FLAG_W,CFC-12,CFC-12_FLAG_W,SF6,SF6_FLAG_W,TCARBN,TCARBN_FLAG_W,ALKALI,ALKALI_FLAG_W,PH_TOT,PH_TOT_FLAG_W,PH_TMP,PH_TMP_FLAG_W,DELC13,DELC13_FLAG_W,DELC14,DELC14_FLAG_W,DOC,DOC_FLAG_W,TDN,TDN_FLAG_W,N2O,N2O_FLAG_W,BTL_DATE,BTL_TIME,BTL_LAT,BTL_LON,REFTMP,REFTMP_FLAG_W,POC,POC_FLAG_W,PON,PON_FLAG_W,POP,POP_FLAG_W,PCOD,PCOD_FLAG_W,CTDFLUOR,CTDFLUOR_FLAG_W,CTDXMISS,CTDXMISS_FLAG_W,HPLC,HPLC_FLAG_W,DNA,DNA_FLAG_W,FCM,FCM_FLAG_W,IMAGES,IMAGES_FLAG_W,VIRAL_ABUNDANCE,VIRAL_ABUNDANCE_FLAG_W
,,,,,,,,,,,METERS,DBAR,,ITS-90,,PSS-78,,PSS-78,,UMOL/KG,,UMOL/KG,,UMOL/KG,,UMOL/KG,,UMOL/KG,,UMOL/KG,,PMOL/KG,,PMOL/KG,,FMOL/KG,,UMOL/KG,,UMOL/KG,,,,DEG C,,/MILLE,,/MILLE,,UMOL/KG,,UMOL/KG,,NMOL/KG,,,,,,ITS-90,,UG/L,,UG/L,,UG/L,,UG/L,,VOLTS,,VOLTS,,,,,,,,,,,
33RR20220613,       P02E,     187,          1,          4,          4,2,20220708,       0054,    30.7404,  -121.6764,       4207,  3528.9,2,   1.5606,2,  34.6736,2,  34.6741,2,    126.0,2,   126.0,2,  166.68,2,   37.67,2,    0.00,2,    2.62,2,   0.012,2,   0.013,2,   0.0000,2,  2351.6,2,  2431.6,2,   7.5414,2,    25.01,2, -999.00,9,  -999.0,9, -999.00,9, -999.00,9,       24.2,2, 20220708,      109,  30.7404,-121.6764,     1.5608,2,     -999.0,9,     -999.0,9,     -999.0,9,     -999.0,9,     0.0128,1,     4.6965,1,     -999.0,9,     -999.0,9,     -999.0,9,     -999.0,9,     -999.0,9
33RR20220613,       P02E,     187,          1,          3,          3,2,20220708,       0054,    30.7404,  -121.6764,       4207,  3836.0,2,   1.5460,2,  34.6770,2,  34.6775,2,    130.3,2,   130.3,2,  167.26,2,   37.45,2,    0.00,2,    2.60,2,   0.011,2,   0.016,2,   0.0000,2,  2349.4,2,  2433.2,2,   7.5485,2,    25.00,2, -999.00,9,  -999.0,9, -999.00,9, -999.00,9,       24.3,2, 20220708,      104,  30.7404,-121.6764,     1.5461,2,     -999.0,9,     -999.0,9,     -999.0,9,     -999.0,9,     0.0129,1,     4.6971,1,     -999.0,9,     -999.0,9,     -999.0,9,     -999.0,9,     -999.0,9
33RR20220613,       P02E,     187,          1,          2,          2,2,20220708,       0054,    30.7404,  -121.6764,       4207,  4042.3,2,   1.5503,2,  34.6782,2,  34.6781,2,    132.0,2,   132.2,2,  167.16,2,   37.34,2,    0.00,2,    2.58,2,   0.010,2,   0.014,2,   0.0000,2,  2349.3,2,  2433.6,6,   7.5520,2,    25.00,2, -999.00,9,  -999.0,9, -999.00,9, -999.00,9,       24.3,2, 20220708,       59,  30.7404,-121.6764,     1.5503,2,     -999.0,9,     -999.0,9,     -999.0,9,     -999.0,9,     0.0123,1,     4.6958,1,     -999.0,9,     -999.0,9,     -999.0,9,     -999.0,9,     -999.0,9
33RR20220613,       P02E,     187,          1,          1,          1,2,20220708,       0054,    30.7404,  -121.6764,       4207,  4267.2,2,   1.5669,2,  34.6789,2,  34.6793,2,    133.3,2,   133.3,2,  166.87,2,   37.33,2,    0.00,2,    2.58,2,   0.010,2,   0.011,2,   0.0000,2,  2347.2,6,  2432.2,2,   7.5570,2,    25.00,2, -999.00,9,  -999.0,9, -999.00,9, -999.00,9,       24.6,2, 20220708,       54,  30.7404,-121.6764,     1.5669,2,     -999.0,9,     -999.0,9,     -999.0,9,     -999.0,9,     0.0122,1,     4.6829,1,     -999.0,9,     -999.0,9,     -999.0,9,     -999.0,9,     -999.0,9
33RR20220613,       P02E,     188,          1,         12,         12,2,20220708,       0643,    30.9993,  -121.2219,       3892,     3.1,2,  18.2978,2,  33.2050,2,-999.0000,9,    242.9,2,  -999.0,9, -999.00,9, -999.00,9, -999.00,9, -999.00,9,-999.000,9,-999.000,9,-999.0000,9,  -999.0,9,  -999.0,9,-999.0000,9,  -999.00,9, -999.00,9,  -999.0,9, -999.00,9, -999.00,9,     -999.0,9, 20220708,      716,  30.9993,-121.2219,     -999.0,9,     -999.0,1,     -999.0,1,     -999.0,9,     -999.0,9,     0.0184,1,     4.6020,1,     -999.0,9,     -999.0,9,     -999.0,9,     -999.0,9,     -999.0,9
33RR20220613,       P02E,     188,          1,         18,         18,2,20220708,       0643,    30.9993,  -121.2219,       3892,     3.3,2,  18.2997,2,  33.2053,2,-999.0000,9,    243.0,2,  -999.0,9, -999.00,9, -999.00,9, -999.00,9, -999.00,9,-999.000,9,-999.000,9,-999.0000,9,  -999.0,9,  -999.0,9,-999.0000,9,  -999.00,9, -999.00,9,  -999.0,9, -999.00,9, -999.00,9,     -999.0,9, 20220708,      716,  30.9993,-121.2219,    18.2994,2,     -999.0,9,     -999.0,9,     -999.0,9,     -999.0,1,     0.0190,1,     4.6026,1,     -999.0,9,     -999.0,9,     -999.0,9,     -999.0,9,     -999.0,9
33RR20220613,       P02E,     188,          1,         16,         16,2,20220708,       0643,    30.9993,  -121.2219,       3892,     3.3,2,  18.2982,2,  33.2051,2,-999.0000,9,    243.0,2,  -999.0,9, -999.00,9, -999.00,9, -999.00,9, -999.00,9,-999.000,9,-999.000,9,-999.0000,9,  -999.0,9,  -999.0,9,-999.0000,9,  -999.00,9, -999.00,9,  -999.0,9, -999.00,9, -999.00,9,     -999.0,9, 20220708,      716,  30.9993,-121.2219,     -999.0,9,     -999.0,9,     -999.0,9,     -999.0,1,     -999.0,9,     0.0183,1,     4.6007,1,     -999.0,9,     -999.0,9,     -999.0,9,     -999.0,9,     -999.0,9
33RR20220613,       P02E,     188,          1,         11,         11,2,20220708,       0643,    30.9993,  -121.2219,       3892,     3.3,2,  18.2978,2,  33.2050,2,-999.0000,9,    243.1,2,  -999.0,9, -999.00,9, -999.00,9, -999.00,9, -999.00,9,-999.000,9,-999.000,9,-999.0000,9,  -999.0,9,  -999.0,9,-999.0000,9,  -999.00,9, -999.00,9,  -999.0,9, -999.00,9, -999.00,9,     -999.0,9, 20220708,      716,  30.9993,-121.2219,     -999.0,9,     -999.0,1,     -999.0,1,     -999.0,9,     -999.0,9,     0.0183,1,     4.6012,1,     -999.0,9,     -999.0,9,     -999.0,9,     -999.0,9,     -999.0,9
33RR20220613,       P02E,     188,          1,         10,         10,2,20220708,       0643,    30.9993,  -121.2219,       3892,     3.3,2,  18.2980,2,  33.2050,2,-999.0000,9,    242.9,2,  -999.0,9, -999.00,9, -999.00,9, -999.00,9, -999.00,9,-999.000,9,-999.000,9,-999.0000,9,  -999.0,9,  -999.0,9,-999.0000,9,  -999.00,9, -999.00,9,  -999.0,9, -999.00,9, -999.00,9,     -999.0,9, 20220708,      715,  30.9993,-121.2219,     -999.0,9,     -999.0,9,     -999.0,9,     -999.0,9,     -999.0,9,     0.0193,1,     4.6024,1,     -999.0,9,     -999.0,1,     -999.0,9,     -999.0,9,     -999.0,9
33RR20220613,       P02E,     188,          1,         13,         13,2,20220708,       0643,    30.9993,  -121.2219,       3892,     3.4,2,  18.2986,2,  33.2051,2,-999.0000,9,    243.0,2,  -999.0,9, -999.00,9, -999.00,9, -999.00,9, -999.00,9,-999.000,9,-999.000,9,-999.0000,9,  -999.0,9,  -999.0,9,-999.0000,9,  -999.00,9, -999.00,9,  -999.0,9, -999.00,9, -999.00,9,     -999.0,9, 20220708,      716,  30.9993,-121.2219,     -999.0,9,     -999.0,1,     -999.0,1,     -999.0,9,     -999.0,9,     0.0184,1,     4.6028,1,     -999.0,9,     -999.0,9,     -999.0,9,     -999.0,9,     -999.0,9
33RR20220613,       P02E,     188,          1,         15,         15,2,20220708,       0643,    30.9993,  -121.2219,       3892,     3.5,2,  18.2983,2,  33.2050,2,-999.0000,9,    243.0,2,  -999.0,9, -999.00,9, -999.00,9, -999.00,9, -999.00,9,-999.000,9,-999.000,9,-999.0000,9,  -999.0,9,  -999.0,9,-999.0000,9,  -999.00,9, -999.00,9,  -999.0,9, -999.00,9, -999.00,9,     -999.0,9, 20220708,      716,  30.9993,-121.2219,     -999.0,9,     -999.0,9,     -999.0,9,     -999.0,1,     -999.0,9,     0.0184,1,     4.6037,1,     -999.0,9,     -999.0,9,     -999.0,9,     -999.0,9,     -999.0,9
33RR20220613,       P02E,     188,          1,         17,         37,2,20220708,       0643,    30.9993,  -121.2219,       3892,     3.5,2,  18.2984,2,  33.2051,2,-999.0000,9,    243.0,2,  -999.0,9, -999.00,9, -999.00,9, -999.00,9, -999.00,9,-999.000,9,-999.000,9,-999.0000,9,  -999.0,9,  -999.0,9,-999.0000,9,  -999.00,9, -999.00,9,  -999.0,9, -999.00,9, -999.00,9,     -999.0,9, 20220708,      716,  30.9993,-121.2219,     -999.0,9,     -999.0,9,     -999.0,9,     -999.0,9,     -999.0,1,     0.0183,1,     4.6028,1,     -999.0,9,     -999.0,9,     -999.0,9,     -999.0,9,     -999.0,9
33RR20220613,       P02E,     188,          1,          9,          9,2,20220708,       0643,    30.9993,  -121.2219,       3892,     3.5,2,  18.2986,2,  33.2050,2,-999.0000,9,    243.0,2,  -999.0,9, -999.00,9, -999.00,9, -999.00,9, -999.00,9,-999.000,9,-999.000,9,-999.0000,9,  -999.0,9,  -999.0,9,-999.0000,9,  -999.00,9, -999.00,9,  -999.0,9, -999.00,9, -999.00,9,     -999.0,9, 20220708,      715,  30.9993,-121.2219,    18.2975,2,     -999.0,9,     -999.0,9,     -999.0,9,     -999.0,9,     0.0188,1,     4.6018,1,     -999.0,1,     -999.0,9,     -999.0,1,     -999.0,9,     -999.0,9
33RR20220613,       P02E,     188,          1,         14,         42,2,20220708,       0643,    30.9993,  -121.2219,       3892,     3.6,2,  18.2984,2,  33.2050,2,-999.0000,9,    242.9,2,  -999.0,9, -999.00,9, -999.00,9, -999.00,9, -999.00,9,-999.000,9,-999.000,9,-999.0000,9,  -999.0,9,  -999.0,9,-999.0000,9,  -999.00,9, -999.00,9,  -999.0,9, -999.00,9, -999.00,9,     -999.0,9, 20220708,      716,  30.9993,-121.2219,     -999.0,9,     -999.0,9,     -999.0,9,     -999.0,1,     -999.0,9,     0.0183,1,     4.6027,1,     -999.0,9,     -999.0,9,     -999.0,9,     -999.0,9,     -999.0,9
33RR20220613,       P02E,     188,          1,         19,         39,2,20220708,       0643,    30.9993,  -121.2219,       3892,     3.6,2,  18.3000,2,  33.2052,2,-999.0000,9,    243.1,2,  -999.0,9, -999.00,9, -999.00,9, -999.00,9, -999.00,9,-999.000,9,-999.000,9,-999.0000,9,  -999.0,9,  -999.0,9,-999.0000,9,  -999.00,9, -999.00,9,  -999.0,9, -999.00,9, -999.00,9,     -999.0,9, 20220708,      716,  30.9993,-121.2219,     -999.0,9,     -999.0,9,     -999.0,9,     -999.0,9,     -999.0,1,     0.0187,1,     4.6025,1,     -999.0,9,     -999.0,9,     -999.0,9,     -999.0,9,     -999.0,9
33RR20220613,       P02E,     188,          1,          8,          8,2,20220708,       0643,    30.9993,  -121.2219,       3892,    41.6,2,  15.5335,2,  33.1814,2,-999.0000,9,    263.2,2,  -999.0,9, -999.00,9, -999.00,9, -999.00,9, -999.00,9,-999.000,9,-999.000,9,-999.0000,9,  -999.0,9,  -999.0,9,-999.0000,9,  -999.00,9, -999.00,9,  -999.0,9, -999.00,9, -999.00,9,     -999.0,9, 20220708,      712,  30.9993,-121.2219,    15.5402,2,     -999.0,9,     -999.0,9,     -999.0,9,     -999.0,9,     0.0585,1,     4.5982,1,     -999.0,1,     -999.0,9,     -999.0,1,     -999.0,9,     -999.0,9
33RR20220613,       P02E,     188,          1,          7,          7,2,20220708,       0643,    30.9993,  -121.2219,       3892,    76.3,2,  12.3910,2,  32.9817,2,-999.0000,9,    245.1,2,  -999.0,9, -999.00,9, -999.00,9, -999.00,9, -999.00,9,-999.000,9,-999.000,9,-999.0000,9,  -999.0,9,  -999.0,9,-999.0000,9,  -999.00,9, -999.00,9,  -999.0,9, -999.00,9, -999.00,9,     -999.0,9, 20220708,      707,  30.9993,-121.2219,    12.3430,3,     -999.0,9,     -999.0,9,     -999.0,9,     -999.0,9,     0.0376,1,     4.6421,1,     -999.0,9,     -999.0,9,     -999.0,1,     -999.0,9,     -999.0,9
33RR20220613,       P02E,     188,          1,          5,          5,2,20220708,       0643,    30.9993,  -121.2219,       3892,   101.7,2,  11.7864,2,  33.1925,2,-999.0000,9,    226.0,2,  -999.0,9, -999.00,9, -999.00,9, -999.00,9, -999.00,9,-999.000,9,-999.000,9,-999.0000,9,  -999.0,9,  -999.0,9,-999.0000,9,  -999.00,9, -999.00,9,  -999.0,9, -999.00,9, -999.00,9,     -999.0,9, 20220708,      705,  30.9993,-121.2219,    11.7896,2,     -999.0,9,     -999.0,9,     -999.0,9,     -999.0,9,     0.0225,1,     4.6567,1,     -999.0,1,     -999.0,9,     -999.0,1,     -999.0,9,     -999.0,9
33RR20220613,       P02E,     188,          1,          6,          6,2,20220708,       0643,    30.9993,  -121.2219,       3892,   101.9,2,  11.7913,2,  33.1908,2,-999.0000,9,    225.9,2,  -999.0,9, -999.00,9, -999.00,9, -999.00,9, -999.00,9,-999.000,9,-999.000,9,-999.0000,9,  -999.0,9,  -999.0,9,-999.0000,9,  -999.00,9, -999.00,9,  -999.0,9, -999.00,9, -999.00,9,     -999.0,9, 20220708,      705,  30.9993,-121.2219,     -999.0,9,     -999.0,9,     -999.0,9,     -999.0,9,     -999.0,9,     0.0220,1,     4.6617,1,     -999.0,9,     -999.0,1,     -999.0,9,     -999.0,9,     -999.0,9
33RR20220613,       P02E,     188,          1,          4,          4,2,20220708,       0643,    30.9993,  -121.2219,       3892,   151.6,2,   9.7194,2,  33.7626,2,-999.0000,9,    142.9,2,  -999.0,9, -999.00,9, -999.00,9, -999.00,9, -999.00,9,-999.000,9,-999.000,9,-999.0000,9,  -999.0,9,  -999.0,9,-999.0000,9,  -999.00,9, -999.00,9,  -999.0,9, -999.00,9, -999.00,9,     -999.0,9, 20220708,      701,  30.9993,-121.2219,     9.7231,2,     -999.0,9,     -999.0,9,     -999.0,9,     -999.0,9,     0.0134,1,     4.6703,1,     -999.0,9,     -999.0,9,     -999.0,1,     -999.0,9,     -999.0,9
33RR20220613,       P02E,     188,          1,          3,          3,2,20220708,       0643,    30.9993,  -121.2219,       3892,   201.5,2,   8.7818,2,  33.9627,2,-999.0000,9,    138.3,2,  -999.0,9, -999.00,9, -999.00,9, -999.00,9, -999.00,9,-999.000,9,-999.000,9,-999.0000,9,  -999.0,9,  -999.0,9,-999.0000,9,  -999.00,9, -999.00,9,  -999.0,9, -999.00,9, -999.00,9,     -999.0,9, 20220708,      700,  30.9993,-121.2219,     8.7934,2,     -999.0,9,     -999.0,9,     -999.0,9,     -999.0,9,     0.0134,1,     4.6741,1,     -999.0,9,     -999.0,1,     -999.0,1,     -999.0,9,     -999.0,9
33RR20220613,       P02E,     188,          1,          2,          2,2,20220708,       0643,    30.9993,  -121.2219,       3892,   504.6,2,   5.9359,2,  34.2788,2,-999.0000,9,     14.9,2,  -999.0,9, -999.00,9, -999.00,9, -999.00,9, -999.00,9,-999.000,9,-999.000,9,-999.0000,9,  -999.0,9,  -999.0,9,-999.0000,9,  -999.00,9, -999.00,9,  -999.0,9, -999.00,9, -999.00,9,     -999.0,9, 20220708,      654,  30.9993,-121.2219,     5.9336,2,     -999.0,9,     -999.0,9,     -999.0,9,     -999.0,9,     0.0134,1,     4.6785,1,     -999.0,9,     -999.0,9,     -999.0,1,     -999.0,9,     -999.0,9
33RR20220613,       P02E,     188,          1,          1,          1,2,20220708,       0643,    30.9993,  -121.2219,       3892,  1015.4,2,   3.9414,2,  34.4876,2,-999.0000,9,     25.4,2,  -999.0,9, -999.00,9, -999.00,9, -999.00,9, -999.00,9,-999.000,9,-999.000,9,-999.0000,9,  -999.0,9,  -999.0,9,-999.0000,9,  -999.00,9, -999.00,9,  -999.0,9, -999.00,9, -999.00,9,     -999.0,9, 20220708,      643,  30.9993,-121.2219,     3.9421,2,     -999.0,9,     -999.0,9,     -999.0,9,     -999.0,9,     0.0134,1,     4.6875,1,     -999.0,9,     -999.0,1,     -999.0,1,     -999.0,9,     -999.0,9