BOTTLE,20230830CCHSIOCBG
EXPOCODE,SECT_ID,STNNBR,CASTNO,SAMPNO,BTLNBR,BTLNBR_FLAG_W,DATE,TIME,LATITUDE,LONGITUDE,DEPTH,CTDPRS,CTDPRS_FLAG_W,CTDTMP,CTDTMP_FLAG_W,CTDSAL,CTDSAL_FLAG_W,SALNTY,SALNTY_FLAG_W,CTDOXY,CTDOXY_FLAG_W,OXYGEN,OXYGEN_FLAG_W,SILCAT,SILCAT_FLAG_W,NITRAT,NITRAT_FLAG_W,NITRIT,NITRIT_FLAG_W,PHSPHT,PHSPHT_FLAG_W,CFC-11,CFC-11_FLAG_W,CFC-12,CFC-12_FLAG_W,SF6,SF6_FLAG_W,TCARBN,TCARBN_FLAG_W,ALKALI,ALKALI_FLAG_W,PH_TOT,PH_TOT_FLAG_W,PH_TMP,PH_TMP_FLAG_W,DELC13,DELC13_FLAG_W,DELC14,DELC14_FLAG_W,DOC,DOC_FLAG_W,TDN,TDN_FLAG_W,N2O,N2O_FLAG_W,BTL_DATE,BTL_TIME,BTL_LAT,BTL_LON,REFTMP,REFTMP_FLAG_W,POC,POC_FLAG_W,PON,PON_FLAG_W,POP,POP_FLAG_W,PCOD,PCOD_FLAG_W,CTDFLUOR,CTDFLUOR_FLAG_W,CTDXMISS,CTDXMISS_FLAG_W,HPLC,HPLC_FLAG_W,DNA,DNA_FLAG_W,FCM,FCM_FLAG_W,IMAGES,IMAGES_FLAG_W,VIRAL_ABUNDANCE,VIRAL_ABUNDANCE_FLAG_W
,,,,,,,,,,,METERS,DBAR,,ITS-90,,PSS-78,,PSS-78,,UMOL/KG,,UMOL/KG,,UMOL/KG,,UMOL/KG,,UMOL/KG,,UMOL/KG,,PMOL/KG,,PMOL/KG,,FMOL/KG,,UMOL/KG,,UMOL/KG,,,,DEG C,,/MILLE,,/MILLE,,UMOL/KG,,UMOL/KG,,NMOL/KG,,,,,,ITS-90,,UG/L,,UG/L,,UG/L,,UG/L,,VOLTS,,VOLTS,,,,,,,,,,,
33RR20220613,       P02E,     184,          1,          4,          4,2,20220707,       0131,    29.9999,  -123.0868,       4125,  3528.6,2,   1.5274,2,  34.6758,3,  34.6736,2,    129.5,2,   129.3,2,  167.81,2,   37.44,2,    0.00,2,    2.56,2,-999.000,9,-999.000,9,-999.0000,9,  2350.0,2,  2431.0,2,   7.5467,2,    25.02,2, -999.00,9,  -999.0,9, -999.00,1, -999.00,1,     -999.0,9, 20220707,      146,  29.9999,-123.0868,     1.5276,2,     -999.0,9,     -999.0,9,     -999.0,9,     -999.0,9,     0.0132,1,     4.6982,1,     -999.0,9,     -999.0,9,     -999.0,9,     -999.0,9,     -999.0,9
33RR20220613,       P02E,     184,          1,          3,          3,2,20220707,       0131,    29.9999,  -123.0868,       4125,  3835.9,2,   1.5211,2,  34.6793,2,  34.6791,2,    133.8,2,   134.0,2,  167.23,2,   37.18,2,    0.00,2,    2.54,2,   0.013,2,   0.013,2,   0.0000,2,  -999.0,9,  -999.0,9,-999.0000,9,  -999.00,9, -999.00,1,  -999.0,1, -999.00,1, -999.00,1,       24.2,2, 20220707,      140,  30.0000,-123.0868,     1.5209,2,     -999.0,9,     -999.0,9,     -999.0,9,     -999.0,9,     0.0123,1,     4.6983,1,     -999.0,9,     -999.0,9,     -999.0,9,     -999.0,9,     -999.0,9
33RR20220613,       P02E,     184,          1,          2,          2,2,20220707,       0131,    29.9999,  -123.0868,       4125,  4118.4,2,   1.5350,2,  34.6808,2,  34.6798,2,    136.0,2,   136.1,2,  166.74,2,   37.07,2,    0.00,2,    2.52,2,   0.080,2,   0.013,2,   0.0000,2,  2345.3,2,  2431.7,6,   7.5589,2,    25.02,2, -999.00,1,  -999.0,1, -999.00,1, -999.00,1,       23.7,2, 20220707,      134,  30.0000,-123.0868,     1.5349,2,     -999.0,9,     -999.0,9,     -999.0,9,     -999.0,9,     0.0122,1,     4.6969,1,     -999.0,9,     -999.0,9,     -999.0,9,     -999.0,9,     -999.0,9
33RR20220613,       P02E,     184,          1,          1,          1,2,20220707,       0131,    29.9999,  -123.0868,       4125,  4183.1,2,   1.5413,2,  34.6809,2,  34.6798,2,    136.1,2,   136.1,2,  166.74,2,   37.08,2,    0.00,2,    2.53,2,   0.087,2,   0.014,2,   0.0000,2,  2348.8,6,  2430.8,2,   7.5591,2,    25.02,2, -999.00,1,  -999.0,1, -999.00,1, -999.00,1,       23.8,2, 20220707,      131,  30.0000,-123.0868,     1.5412,2,     -999.0,9,     -999.0,9,     -999.0,9,     -999.0,9,     0.0133,1,     4.6959,1,     -999.0,9,     -999.0,9,     -999.0,9,     -999.0,9,     -999.0,9
33RR20220613,       P02E,     185,          1,         18,         18,2,20220707,       0640,    30.2516,  -122.6176,       3825,     3.4,2,  18.3505,2,  33.2142,2,-999.0000,9,    244.5,2,  -999.0,9, -999.00,9, -999.00,9, -999.00,9, -999.00,9,-999.000,9,-999.000,9,-999.0000,9,  -999.0,9,  -999.0,9,-999.0000,9,  -999.00,9, -999.00,9,  -999.0,9, -999.00,9, -999.00,9,     -999.0,9, 20220707,      707,  30.2516,-122.6176,     -999.0,9,     -999.0,9,     -999.0,9,     -999.0,9,     -999.0,1,     0.0293,1,     4.6006,1,     -999.0,9,     -999.0,9,     -999.0,9,     -999.0,9,     -999.0,9
33RR20220613,       P02E,     185,          1,         14,         42,2,20220707,       0640,    30.2516,  -122.6176,       3825,     3.5,2,  18.3198,2,  33.2166,2,-999.0000,9,    244.9,2,  -999.0,9, -999.00,9, -999.00,9, -999.00,9, -999.00,9,-999.000,9,-999.000,9,-999.0000,9,  -999.0,9,  -999.0,9,-999.0000,9,  -999.00,9, -999.00,9,  -999.0,9, -999.00,9, -999.00,9,     -999.0,9, 20220707,      707,  30.2516,-122.6176,     -999.0,9,     -999.0,9,     -999.0,9,     -999.0,1,     -999.0,9,     0.0293,1,     4.5981,1,     -999.0,9,     -999.0,9,     -999.0,9,     -999.0,9,     -999.0,9
33RR20220613,       P02E,     185,          1,         13,         13,2,20220707,       0640,    30.2516,  -122.6176,       3825,     3.5,2,  18.3700,2,  33.2104,2,-999.0000,9,    244.4,2,  -999.0,9, -999.00,9, -999.00,9, -999.00,9, -999.00,9,-999.000,9,-999.000,9,-999.0000,9,  -999.0,9,  -999.0,9,-999.0000,9,  -999.00,9, -999.00,9,  -999.0,9, -999.00,9, -999.00,9,     -999.0,9, 20220707,      707,  30.2516,-122.6176,     -999.0,9,     -999.0,1,     -999.0,1,     -999.0,9,     -999.0,9,     0.0293,1,     4.5954,1,     -999.0,9,     -999.0,9,     -999.0,9,     -999.0,9,     -999.0,9
33RR20220613,       P02E,     185,          1,          9,          9,2,20220707,       0640,    30.2516,  -122.6176,       3825,     3.5,2,  18.3489,2,  33.1964,2,-999.0000,9,    244.5,2,  -999.0,9, -999.00,9, -999.00,9, -999.00,9, -999.00,9,-999.000,9,-999.000,9,-999.0000,9,  -999.0,9,  -999.0,9,-999.0000,9,  -999.00,9, -999.00,9,  -999.0,9, -999.00,9, -999.00,9,     -999.0,9, 20220707,      707,  30.2516,-122.6176,    18.3298,2,     -999.0,9,     -999.0,9,     -999.0,9,     -999.0,9,     0.0293,1,     4.5968,1,     -999.0,1,     -999.0,9,     -999.0,1,     -999.0,9,     -999.0,9
33RR20220613,       P02E,     185,          1,         19,         39,2,20220707,       0640,    30.2516,  -122.6176,       3825,     3.5,2,  18.3604,2,  33.2144,2,-999.0000,9,    244.6,2,  -999.0,9, -999.00,9, -999.00,9, -999.00,9, -999.00,9,-999.000,9,-999.000,9,-999.0000,9,  -999.0,9,  -999.0,9,-999.0000,9,  -999.00,9, -999.00,9,  -999.0,9, -999.00,9, -999.00,9,     -999.0,9, 20220707,      707,  30.2516,-122.6176,    18.3291,2,     -999.0,9,     -999.0,9,     -999.0,9,     -999.0,1,     0.0270,1,     4.6002,1,     -999.0,9,     -999.0,9,     -999.0,9,     -999.0,9,     -999.0,9
33RR20220613,       P02E,     185,          1,         12,         12,2,20220707,       0640,    30.2516,  -122.6176,       3825,     3.6,2,  18.3709,2,  33.2150,2,-999.0000,9,    244.3,2,  -999.0,9, -999.00,9, -999.00,9, -999.00,9, -999.00,9,-999.000,9,-999.000,9,-999.0000,9,  -999.0,9,  -999.0,9,-999.0000,9,  -999.00,9, -999.00,9,  -999.0,9, -999.00,9, -999.00,9,     -999.0,9, 20220707,      707,  30.2516,-122.6176,     -999.0,9,     -999.0,1,     -999.0,1,     -999.0,9,     -999.0,9,     0.0283,1,     4.5985,1,     -999.0,9,     -999.0,9,     -999.0,9,     -999.0,9,     -999.0,9
33RR20220613,       P02E,     185,          1,         15,         15,2,20220707,       0640,    30.2516,  -122.6176,       3825,     3.6,2,  18.3355,2,  33.2153,2,-999.0000,9,    244.5,2,  -999.0,9, -999.00,9, -999.00,9, -999.00,9, -999.00,9,-999.000,9,-999.000,9,-999.0000,9,  -999.0,9,  -999.0,9,-999.0000,9,  -999.00,9, -999.00,9,  -999.0,9, -999.00,9, -999.00,9,     -999.0,9, 20220707,      707,  30.2516,-122.6176,     -999.0,9,     -999.0,9,     -999.0,9,     -999.0,1,     -999.0,9,     0.0281,1,     4.5959,1,     -999.0,9,     -999.0,9,     -999.0,9,     -999.0,9,     -999.0,9
33RR20220613,       P02E,     185,          1,         17,         37,2,20220707,       0640,    30.2516,  -122.6176,       3825,     3.6,2,  18.3312,2,  33.2149,2,-999.0000,9,    244.8,2,  -999.0,9, -999.00,9, -999.00,9, -999.00,9, -999.00,9,-999.000,9,-999.000,9,-999.0000,9,  -999.0,9,  -999.0,9,-999.0000,9,  -999.00,9, -999.00,9,  -999.0,9, -999.00,9, -999.00,9,     -999.0,9, 20220707,      707,  30.2516,-122.6176,     -999.0,9,     -999.0,9,     -999.0,9,     -999.0,9,     -999.0,1,     0.0278,1,     4.6004,1,     -999.0,9,     -999.0,9,     -999.0,9,     -999.0,9,     -999.0,9
33RR20220613,       P02E,     185,          1,         10,         10,2,20220707,       0640,    30.2516,  -122.6176,       3825,     3.6,2,  18.3182,2,  33.2169,2,-999.0000,9,    244.6,2,  -999.0,9, -999.00,9, -999.00,9, -999.00,9, -999.00,9,-999.000,9,-999.000,9,-999.0000,9,  -999.0,9,  -999.0,9,-999.0000,9,  -999.00,9, -999.00,9,  -999.0,9, -999.00,9, -999.00,9,     -999.0,9, 20220707,      707,  30.2516,-122.6176,     -999.0,9,     -999.0,9,     -999.0,9,     -999.0,9,     -999.0,9,     0.0282,1,     4.5908,1,     -999.0,9,     -999.0,1,     -999.0,9,     -999.0,9,     -999.0,9
33RR20220613,       P02E,     185,          1,         20,         20,2,20220707,       0640,    30.2516,  -122.6176,       3825,     3.7,2,  18.3621,2,  33.2137,2,-999.0000,9,    244.5,2,  -999.0,9, -999.00,9, -999.00,9, -999.00,9, -999.00,9,-999.000,9,-999.000,9,-999.0000,9,  -999.0,9,  -999.0,9,-999.0000,9,  -999.00,9, -999.00,9,  -999.0,9, -999.00,9, -999.00,9,     -999.0,9, 20220707,      708,  30.2516,-122.6176,     -999.0,9,     -999.0,9,     -999.0,9,     -999.0,9,     -999.0,9,     0.0275,1,     4.5990,1,     -999.0,9,     -999.0,9,     -999.0,9,     -999.0,9,     -999.0,1
33RR20220613,       P02E,     185,          1,         11,         11,2,20220707,       0640,    30.2516,  -122.6176,       3825,     3.7,2,  18.3608,2,  33.2159,2,-999.0000,9,    244.5,2,  -999.0,9, -999.00,9, -999.00,9, -999.00,9, -999.00,9,-999.000,9,-999.000,9,-999.0000,9,  -999.0,9,  -999.0,9,-999.0000,9,  -999.00,9, -999.00,9,  -999.0,9, -999.00,9, -999.00,9,     -999.0,9, 20220707,      707,  30.2516,-122.6176,     -999.0,9,     -999.0,1,     -999.0,1,     -999.0,9,     -999.0,9,     0.0281,1,     4.6009,1,     -999.0,9,     -999.0,9,     -999.0,9,     -999.0,9,     -999.0,9
33RR20220613,       P02E,     185,          1,         16,         16,2,20220707,       0640,    30.2516,  -122.6176,       3825,     3.7,2,  18.3441,2,  33.2140,2,-999.0000,9,    244.7,2,  -999.0,9, -999.00,9, -999.00,9, -999.00,9, -999.00,9,-999.000,9,-999.000,9,-999.0000,9,  -999.0,9,  -999.0,9,-999.0000,9,  -999.00,9, -999.00,9,  -999.0,9, -999.00,9, -999.00,9,     -999.0,9, 20220707,      707,  30.2516,-122.6176,     -999.0,9,     -999.0,9,     -999.0,9,     -999.0,1,     -999.0,9,     0.0290,1,     4.5994,1,     -999.0,9,     -999.0,9,     -999.0,9,     -999.0,9,     -999.0,9
33RR20220613,       P02E,     185,          1,          8,          8,2,20220707,       0640,    30.2516,  -122.6176,       3825,    40.4,2,  15.2153,2,  33.1735,2,-999.0000,9,    267.7,2,  -999.0,9, -999.00,9, -999.00,9, -999.00,9, -999.00,9,-999.000,9,-999.000,9,-999.0000,9,  -999.0,9,  -999.0,9,-999.0000,9,  -999.00,9, -999.00,9,  -999.0,9, -999.00,9, -999.00,9,     -999.0,9, 20220707,      704,  30.2515,-122.6176,    15.1653,3,     -999.0,9,     -999.0,9,     -999.0,9,     -999.0,9,     0.0486,1,     4.5891,1,     -999.0,1,     -999.0,9,     -999.0,1,     -999.0,9,     -999.0,9
33RR20220613,       P02E,     185,          1,          7,          7,2,20220707,       0640,    30.2516,  -122.6176,       3825,    76.4,2,  11.8767,2,  33.0979,2,-999.0000,9,    236.8,2,  -999.0,9, -999.00,9, -999.00,9, -999.00,9, -999.00,9,-999.000,9,-999.000,9,-999.0000,9,  -999.0,9,  -999.0,9,-999.0000,9,  -999.00,9, -999.00,9,  -999.0,9, -999.00,9, -999.00,9,     -999.0,9, 20220707,      701,  30.2515,-122.6176,    11.8826,2,     -999.0,9,     -999.0,9,     -999.0,9,     -999.0,9,     0.0538,1,     4.6176,1,     -999.0,9,     -999.0,9,     -999.0,1,     -999.0,9,     -999.0,9
33RR20220613,       P02E,     185,          1,          6,          6,2,20220707,       0640,    30.2516,  -122.6176,       3825,    92.6,2,  11.6894,2,  33.3831,2,-999.0000,9,    223.4,2,  -999.0,9, -999.00,9, -999.00,9, -999.00,9, -999.00,9,-999.000,9,-999.000,9,-999.0000,9,  -999.0,9,  -999.0,9,-999.0000,9,  -999.00,9, -999.00,9,  -999.0,9, -999.00,9, -999.00,9,     -999.0,9, 20220707,      700,  30.2515,-122.6176,     -999.0,9,     -999.0,9,     -999.0,9,     -999.0,9,     -999.0,9,     0.0304,1,     4.6534,1,     -999.0,9,     -999.0,1,     -999.0,9,     -999.0,9,     -999.0,9
33RR20220613,       P02E,     185,          1,          5,          5,2,20220707,       0640,    30.2516,  -122.6176,       3825,    93.1,2,  11.6722,2,  33.3709,2,-999.0000,9,    223.7,2,  -999.0,9, -999.00,9, -999.00,9, -999.00,9, -999.00,9,-999.000,9,-999.000,9,-999.0000,9,  -999.0,9,  -999.0,9,-999.0000,9,  -999.00,9, -999.00,9,  -999.0,9, -999.00,9, -999.00,9,     -999.0,9, 20220707,      700,  30.2515,-122.6176,    11.6900,2,     -999.0,9,     -999.0,9,     -999.0,9,     -999.0,9,     0.0281,1,     4.6544,1,     -999.0,1,     -999.0,9,     -999.0,1,     -999.0,9,     -999.0,9
33RR20220613,       P02E,     185,          1,          4,          4,2,20220707,       0640,    30.2516,  -122.6176,       3825,   151.1,2,   9.3583,2,  33.7935,2,-999.0000,9,    147.6,2,  -999.0,9, -999.00,9, -999.00,9, -999.00,9, -999.00,9,-999.000,9,-999.000,9,-999.0000,9,  -999.0,9,  -999.0,9,-999.0000,9,  -999.00,9, -999.00,9,  -999.0,9, -999.00,9, -999.00,9,     -999.0,9, 20220707,      658,  30.2516,-122.6177,     9.3637,2,     -999.0,9,     -999.0,9,     -999.0,9,     -999.0,9,     0.0134,1,     4.6692,1,     -999.0,9,     -999.0,9,     -999.0,1,     -999.0,9,     -999.0,9
33RR20220613,       P02E,     185,          1,          3,          3,2,20220707,       0640,    30.2516,  -122.6176,       3825,   201.1,2,   8.6216,2,  33.9799,2,-999.0000,9,    127.9,2,  -999.0,9, -999.00,9, -999.00,9, -999.00,9, -999.00,9,-999.000,9,-999.000,9,-999.0000,9,  -999.0,9,  -999.0,9,-999.0000,9,  -999.00,9, -999.00,9,  -999.0,9, -999.00,9, -999.00,9,     -999.0,9, 20220707,      656,  30.2516,-122.6177,     8.6282,2,     -999.0,9,     -999.0,9,     -999.0,9,     -999.0,9,     0.0134,1,     4.6727,1,     -999.0,9,     -999.0,1,     -999.0,1,     -999.0,9,     -999.0,9
33RR20220613,       P02E,     185,          1,          2,          2,2,20220707,       0640,    30.2516,  -122.6176,       3825,   502.0,2,   5.8377,2,  34.2403,2,-999.0000,9,     17.7,2,  -999.0,9, -999.00,9, -999.00,9, -999.00,9, -999.00,9,-999.000,9,-999.000,9,-999.0000,9,  -999.0,9,  -999.0,9,-999.0000,9,  -999.00,9, -999.00,9,  -999.0,9, -999.00,9, -999.00,9,     -999.0,9, 20220707,      649,  30.2516,-122.6176,     5.8359,2,     -999.0,9,     -999.0,9,     -999.0,9,     -999.0,9,     0.0134,1,     4.6847,1,     -999.0,9,     -999.0,9,     -999.0,1,     -999.0,9,     -999.0,9
33RR20220613,       P02E,     185,          1,          1,          1,2,20220707,       0640,    30.2516,  -122.6176,       3825,  1007.7,2,   3.9231,2,  34.4811,2,-999.0000,9,     23.8,2,  -999.0,9, -999.00,9, -999.00,9, -999.00,9, -999.00,9,-999.000,9,-999.000,9,-999.0000,9,  -999.0,9,  -999.0,9,-999.0000,9,  -999.00,9, -999.00,9,  -999.0,9, -999.00,9, -999.00,9,     -999.0,9, 20220707,      640,  30.2516,-122.6176,     3.9242,2,     -999.0,9,     -999.0,9,     -999.0,9,     -999.0,9,     0.0134,1,     4.6886,1,     -999.0,9,     -999.0,1,     -999.0,1,     -999.0,9,     -999.0,9