BOTTLE,20230830CCHSIOCBG
EXPOCODE,SECT_ID,STNNBR,CASTNO,SAMPNO,BTLNBR,BTLNBR_FLAG_W,DATE,TIME,LATITUDE,LONGITUDE,DEPTH,CTDPRS,CTDPRS_FLAG_W,CTDTMP,CTDTMP_FLAG_W,CTDSAL,CTDSAL_FLAG_W,SALNTY,SALNTY_FLAG_W,CTDOXY,CTDOXY_FLAG_W,OXYGEN,OXYGEN_FLAG_W,SILCAT,SILCAT_FLAG_W,NITRAT,NITRAT_FLAG_W,NITRIT,NITRIT_FLAG_W,PHSPHT,PHSPHT_FLAG_W,CFC-11,CFC-11_FLAG_W,CFC-12,CFC-12_FLAG_W,SF6,SF6_FLAG_W,TCARBN,TCARBN_FLAG_W,ALKALI,ALKALI_FLAG_W,PH_TOT,PH_TOT_FLAG_W,PH_TMP,PH_TMP_FLAG_W,DELC13,DELC13_FLAG_W,DELC14,DELC14_FLAG_W,DOC,DOC_FLAG_W,TDN,TDN_FLAG_W,N2O,N2O_FLAG_W,BTL_DATE,BTL_TIME,BTL_LAT,BTL_LON,REFTMP,REFTMP_FLAG_W,POC,POC_FLAG_W,PON,PON_FLAG_W,POP,POP_FLAG_W,PCOD,PCOD_FLAG_W,CTDFLUOR,CTDFLUOR_FLAG_W,CTDXMISS,CTDXMISS_FLAG_W,HPLC,HPLC_FLAG_W,DNA,DNA_FLAG_W,FCM,FCM_FLAG_W,IMAGES,IMAGES_FLAG_W,VIRAL_ABUNDANCE,VIRAL_ABUNDANCE_FLAG_W
,,,,,,,,,,,METERS,DBAR,,ITS-90,,PSS-78,,PSS-78,,UMOL/KG,,UMOL/KG,,UMOL/KG,,UMOL/KG,,UMOL/KG,,UMOL/KG,,PMOL/KG,,PMOL/KG,,FMOL/KG,,UMOL/KG,,UMOL/KG,,,,DEG C,,/MILLE,,/MILLE,,UMOL/KG,,UMOL/KG,,NMOL/KG,,,,,,ITS-90,,UG/L,,UG/L,,UG/L,,UG/L,,VOLTS,,VOLTS,,,,,,,,,,,
33RR20220613,       P02E,     128,          2,          4,          4,2,20220620,       0743,    30.0001,  -155.4387,       5725,  4965.6,2,   1.5256,2,  34.6887,2,  34.6879,2,    156.1,2,   156.1,2,  150.26,2,   35.99,2,    0.00,2,    2.69,4,   0.006,2,   0.008,2,   0.0000,2,  2321.0,2,  -999.0,9,   7.5847,2,    25.00,2, -999.00,9,  -999.0,9, -999.00,1, -999.00,1,       22.0,2, 20220620,      818,  30.0001,-155.4387,     1.5256,2,     -999.0,9,     -999.0,9,     -999.0,9,     -999.0,9,     0.0122,1,     4.7041,1,     -999.0,9,     -999.0,9,     -999.0,9,     -999.0,9,     -999.0,9
33RR20220613,       P02E,     128,          2,          3,          3,2,20220620,       0743,    30.0001,  -155.4387,       5725,  5232.0,2,   1.5511,2,  34.6894,2,  34.6897,2,    157.7,2,   157.9,2,  149.18,2,   35.68,2,    0.00,2,    2.68,4,   0.005,2,   0.005,2,   0.0000,2,  -999.0,9,  -999.0,9,-999.0000,9,  -999.00,9, -999.00,9,  -999.0,9, -999.00,1, -999.00,1,       22.2,2, 20220620,      809,  30.0001,-155.4387,     1.5513,2,     -999.0,9,     -999.0,9,     -999.0,9,     -999.0,9,     0.0131,1,     4.7042,1,     -999.0,9,     -999.0,9,     -999.0,9,     -999.0,9,     -999.0,9
33RR20220613,       P02E,     128,          2,          2,          2,2,20220620,       0743,    30.0001,  -155.4387,       5725,  5542.5,2,   1.5874,2,  34.6898,2,  34.6887,2,    158.8,2,   158.7,2,  148.11,2,   35.60,2,    0.00,2,    2.67,4,   0.004,2,   0.005,2,   0.0000,2,  2318.2,2,  2416.4,2,   7.5870,2,    25.02,2, -999.00,9,  -999.0,9, -999.00,1, -999.00,1,       22.2,2, 20220620,      758,  30.0001,-155.4387,     1.5876,2,     -999.0,9,     -999.0,9,     -999.0,9,     -999.0,9,     0.0122,1,     4.7032,1,     -999.0,9,     -999.0,9,     -999.0,9,     -999.0,9,     -999.0,9
33RR20220613,       P02E,     128,          2,          1,          1,2,20220620,       0743,    30.0001,  -155.4387,       5725,  5831.1,2,   1.6240,2,  34.6899,2,  34.6897,2,    159.3,2,   159.4,2,  147.62,2,   35.63,2,    0.00,2,    2.67,4,   0.005,2,   0.002,2,   0.0000,2,  2318.3,2,  2413.6,2,   7.5872,2,    25.01,2, -999.00,9,  -999.0,9, -999.00,1, -999.00,1,       21.9,2, 20220620,      743,  30.0001,-155.4387,     1.6242,2,     -999.0,9,     -999.0,9,     -999.0,9,     -999.0,9,     0.0122,1,     4.7023,1,     -999.0,9,     -999.0,9,     -999.0,9,     -999.0,9,     -999.0,9