BOTTLE,20230830CCHSIOCBG
EXPOCODE,SECT_ID,STNNBR,CASTNO,SAMPNO,BTLNBR,BTLNBR_FLAG_W,DATE,TIME,LATITUDE,LONGITUDE,DEPTH,CTDPRS,CTDPRS_FLAG_W,CTDTMP,CTDTMP_FLAG_W,CTDSAL,CTDSAL_FLAG_W,SALNTY,SALNTY_FLAG_W,CTDOXY,CTDOXY_FLAG_W,OXYGEN,OXYGEN_FLAG_W,SILCAT,SILCAT_FLAG_W,NITRAT,NITRAT_FLAG_W,NITRIT,NITRIT_FLAG_W,PHSPHT,PHSPHT_FLAG_W,CFC-11,CFC-11_FLAG_W,CFC-12,CFC-12_FLAG_W,SF6,SF6_FLAG_W,TCARBN,TCARBN_FLAG_W,ALKALI,ALKALI_FLAG_W,PH_TOT,PH_TOT_FLAG_W,PH_TMP,PH_TMP_FLAG_W,DELC13,DELC13_FLAG_W,DELC14,DELC14_FLAG_W,DOC,DOC_FLAG_W,TDN,TDN_FLAG_W,N2O,N2O_FLAG_W,BTL_DATE,BTL_TIME,BTL_LAT,BTL_LON,REFTMP,REFTMP_FLAG_W,POC,POC_FLAG_W,PON,PON_FLAG_W,POP,POP_FLAG_W,PCOD,PCOD_FLAG_W,CTDFLUOR,CTDFLUOR_FLAG_W,CTDXMISS,CTDXMISS_FLAG_W,HPLC,HPLC_FLAG_W,DNA,DNA_FLAG_W,FCM,FCM_FLAG_W,IMAGES,IMAGES_FLAG_W,VIRAL_ABUNDANCE,VIRAL_ABUNDANCE_FLAG_W
,,,,,,,,,,,METERS,DBAR,,ITS-90,,PSS-78,,PSS-78,,UMOL/KG,,UMOL/KG,,UMOL/KG,,UMOL/KG,,UMOL/KG,,UMOL/KG,,PMOL/KG,,PMOL/KG,,FMOL/KG,,UMOL/KG,,UMOL/KG,,,,DEG C,,/MILLE,,/MILLE,,UMOL/KG,,UMOL/KG,,NMOL/KG,,,,,,ITS-90,,UG/L,,UG/L,,UG/L,,UG/L,,VOLTS,,VOLTS,,,,,,,,,,,
33RR20220613,       P02E,     172,          1,         36,         36,2,20220703,       1619,    30.0009,  -130.0336,       4667,     4.3,2,  19.2848,2,  33.5842,2,  33.5767,2,    235.5,2,   235.2,2,    0.98,2,    0.01,2,    0.00,2,    0.25,2,   2.073,2,   1.288,2,   2.1619,2,  2020.6,6,  2246.0,2,   7.9218,2,    24.99,2, -999.00,9,  -999.0,9, -999.00,1, -999.00,1,        7.9,2, 20220703,     1818,  30.0009,-130.0336,    19.2835,2,     -999.0,9,     -999.0,9,     -999.0,9,     -999.0,9,     0.0134,1,     4.6354,1,     -999.0,9,     -999.0,9,     -999.0,9,     -999.0,9,     -999.0,9
33RR20220613,       P02E,     172,          1,         35,         35,2,20220703,       1619,    30.0009,  -130.0336,       4667,    20.6,2,  19.2793,2,  33.5835,2,  33.5765,2,    235.6,2,   235.5,2,    1.08,2,    0.01,2,    0.00,2,    0.25,2,   2.088,2,   1.288,2,   2.1748,2,  2022.3,2,  2244.1,2,   7.9217,2,    25.00,2, -999.00,9,  -999.0,9, -999.00,1, -999.00,1,        7.9,2, 20220703,     1815,  30.0009,-130.0335,    19.2783,2,     -999.0,9,     -999.0,9,     -999.0,9,     -999.0,9,     0.0146,1,     4.6358,1,     -999.0,9,     -999.0,9,     -999.0,9,     -999.0,9,     -999.0,9
33RR20220613,       P02E,     172,          1,         34,         34,2,20220703,       1619,    30.0009,  -130.0336,       4667,    40.4,2,  19.1750,2,  33.6141,2,  33.5995,2,    236.6,2,   237.8,2,    0.98,2,    0.00,2,    0.00,2,    0.24,2,-999.000,9,-999.000,9,-999.0000,9,  2022.8,2,  2247.3,6,   7.9236,2,    25.00,2, -999.00,9,  -999.0,9, -999.00,1, -999.00,1,     -999.0,9, 20220703,     1813,  30.0009,-130.0335,    19.1778,2,     -999.0,9,     -999.0,9,     -999.0,9,     -999.0,9,     0.0147,1,     4.6385,1,     -999.0,9,     -999.0,9,     -999.0,9,     -999.0,9,     -999.0,9
33RR20220613,       P02E,     172,          1,         33,         33,2,20220703,       1619,    30.0009,  -130.0336,       4667,    66.2,2,  18.0957,2,  33.6804,2,  33.6737,2,    249.7,3,   245.0,2,    0.98,2,    0.00,2,    0.00,2,    0.23,2,   2.217,2,   1.355,2,   2.2104,2,  2019.4,2,  2251.3,2,   7.9282,2,    25.00,2, -999.00,9,  -999.0,9, -999.00,1, -999.00,1,        8.2,2, 20220703,     1812,  30.0009,-130.0336,    18.1362,2,     -999.0,9,     -999.0,9,     -999.0,9,     -999.0,9,     0.0168,1,     4.6416,1,     -999.0,9,     -999.0,9,     -999.0,9,     -999.0,9,     -999.0,9
33RR20220613,       P02E,     172,          1,         32,         32,2,20220703,       1619,    30.0009,  -130.0336,       4667,    91.2,2,  17.5573,2,  33.6276,2,  33.6373,2,    244.5,2,   244.8,2,    0.98,2,    0.00,2,    0.00,2,    0.23,2,-999.000,9,-999.000,9,-999.0000,9,  2022.0,2,  2248.0,2,   7.9202,2,    24.99,2, -999.00,9,  -999.0,9, -999.00,1, -999.00,1,     -999.0,9, 20220703,     1810,  30.0009,-130.0336,    17.5550,2,     -999.0,9,     -999.0,9,     -999.0,9,     -999.0,9,     0.0199,1,     4.6533,1,     -999.0,9,     -999.0,9,     -999.0,9,     -999.0,9,     -999.0,9
33RR20220613,       P02E,     172,          1,         31,         31,2,20220703,       1619,    30.0009,  -130.0336,       4667,   136.3,2,  18.1664,2,  34.0247,3,  33.9951,2,    234.4,2,   236.0,2,    1.17,2,    0.00,2,    0.01,2,    0.21,2,   2.183,2,   1.343,2,   2.0313,2,  2033.7,2,  2265.4,6,   7.9267,2,    25.00,2, -999.00,9,  -999.0,9, -999.00,1, -999.00,1,        8.4,2, 20220703,     1808,  30.0009,-130.0335,    18.1601,2,     -999.0,9,     -999.0,9,     -999.0,9,     -999.0,9,     0.0263,1,     4.6659,1,     -999.0,9,     -999.0,9,     -999.0,9,     -999.0,9,     -999.0,9
33RR20220613,       P02E,     172,          1,         30,         17,2,20220703,       1619,    30.0009,  -130.0336,       4667,   186.7,2,  12.6622,2,  33.2757,2,  33.2756,2,    225.3,2,   225.7,2,    4.30,2,    5.53,2,    0.03,2,    0.68,2,-999.000,9,-999.000,9,-999.0000,9,  2059.3,2,  2219.3,2,   7.7851,2,    25.00,2, -999.00,9,  -999.0,9, -999.00,1, -999.00,1,     -999.0,9, 20220703,     1806,  30.0009,-130.0335,    12.6542,2,     -999.0,9,     -999.0,9,     -999.0,9,     -999.0,9,     0.0204,1,     4.6789,1,     -999.0,9,     -999.0,9,     -999.0,9,     -999.0,9,     -999.0,9
33RR20220613,       P02E,     172,          1,         29,         29,2,20220703,       1619,    30.0009,  -130.0336,       4667,   236.9,2,  10.0809,2,  33.6644,2,  33.6733,2,    179.2,2,   178.7,2,   15.84,2,   17.13,2,    0.00,2,    1.33,2,   2.950,2,   1.821,2,   2.0392,2,  2132.0,2,  2236.6,2,   7.6356,2,    25.01,2, -999.00,9,  -999.0,9, -999.00,1, -999.00,1,       19.2,2, 20220703,     1804,  30.0009,-130.0335,    10.0792,2,     -999.0,9,     -999.0,9,     -999.0,9,     -999.0,9,     0.0134,1,     4.6870,1,     -999.0,9,     -999.0,9,     -999.0,9,     -999.0,9,     -999.0,9
33RR20220613,       P02E,     172,          1,         28,         28,2,20220703,       1619,    30.0009,  -130.0336,       4667,   287.6,2,   8.9170,2,  33.9645,2,  33.9645,2,    143.3,2,   143.4,2,   27.57,2,   23.63,2,    0.00,2,    1.72,2,-999.000,9,-999.000,9,-999.0000,9,  2180.1,2,  2256.1,2,   7.5579,2,    25.00,2, -999.00,9,  -999.0,9, -999.00,1, -999.00,1,     -999.0,9, 20220703,     1802,  30.0009,-130.0335,     8.9167,2,     -999.0,9,     -999.0,9,     -999.0,9,     -999.0,9,     0.0122,1,     4.6884,1,     -999.0,9,     -999.0,9,     -999.0,9,     -999.0,9,     -999.0,9
33RR20220613,       P02E,     172,          1,         27,         27,2,20220703,       1619,    30.0009,  -130.0336,       4667,   338.2,2,   7.9255,2,  34.0321,2,  34.0286,2,    107.9,2,   108.1,2,   40.28,2,   29.06,2,    0.00,2,    2.11,2,   2.511,2,   1.502,2,   1.0167,2,  2219.9,2,  2271.5,2,   7.4748,2,    25.00,2, -999.00,9,  -999.0,9, -999.00,1, -999.00,1,       32.4,2, 20220703,     1800,  30.0009,-130.0335,     7.9346,2,     -999.0,9,     -999.0,9,     -999.0,9,     -999.0,9,     0.0130,1,     4.6885,1,     -999.0,9,     -999.0,9,     -999.0,9,     -999.0,9,     -999.0,9
33RR20220613,       P02E,     172,          1,         26,         26,2,20220703,       1619,    30.0009,  -130.0336,       4667,   388.1,2,   7.1722,2,  34.0473,2,  34.0476,2,     81.9,3,    80.6,2,   50.54,2,   32.96,2,    0.00,2,    2.40,2,   2.146,2,   1.279,2,   0.7275,2,  -999.0,9,  -999.0,9,-999.0000,9,  -999.00,9, -999.00,9,  -999.0,9, -999.00,1, -999.00,1,       37.5,2, 20220703,     1758,  30.0009,-130.0335,     7.1688,2,     -999.0,9,     -999.0,9,     -999.0,9,     -999.0,9,     0.0131,1,     4.6886,1,     -999.0,9,     -999.0,9,     -999.0,9,     -999.0,9,     -999.0,9
33RR20220613,       P02E,     172,          1,         25,         25,2,20220703,       1619,    30.0009,  -130.0336,       4667,   438.6,2,   6.5995,2,  34.0635,2,  34.0644,2,     63.5,2,    63.5,2,   58.36,2,   35.50,2,    0.00,2,    2.58,2,   1.827,2,   1.070,2,   0.5754,2,  2268.5,2,  2287.1,2,   7.3724,2,    25.01,2, -999.00,9,  -999.0,9, -999.00,1, -999.00,1,       39.1,2, 20220703,     1755,  30.0009,-130.0336,     6.5987,2,     -999.0,9,     -999.0,9,     -999.0,9,     -999.0,9,     0.0134,1,     4.6894,1,     -999.0,9,     -999.0,9,     -999.0,9,     -999.0,9,     -999.0,9
33RR20220613,       P02E,     172,          1,         24,         24,2,20220703,       1619,    30.0009,  -130.0336,       4667,   488.7,2,   6.0874,2,  34.0993,2,  34.1003,2,     44.7,2,    44.8,2,   67.65,2,   37.88,2,    0.00,2,    2.77,2,   1.439,2,   0.818,2,   0.4369,2,  -999.0,9,  -999.0,9,-999.0000,9,  -999.00,9, -999.00,9,  -999.0,9, -999.00,1, -999.00,1,       44.0,2, 20220703,     1754,  30.0009,-130.0335,     6.0875,2,     -999.0,9,     -999.0,9,     -999.0,9,     -999.0,9,     0.0134,1,     4.6905,1,     -999.0,9,     -999.0,9,     -999.0,9,     -999.0,9,     -999.0,9
33RR20220613,       P02E,     172,          1,         23,         23,2,20220703,       1619,    30.0009,  -130.0336,       4667,   569.5,2,   5.5317,2,  34.1846,2,  34.1858,2,     22.9,3,    23.2,2,   80.06,2,   40.38,2,    0.00,2,    2.98,2,   0.720,2,   0.413,2,   0.1955,2,  2315.8,2,  2313.7,2,   7.3087,2,    25.00,2, -999.00,9,  -999.0,9, -999.00,1, -999.00,1,       49.3,2, 20220703,     1752,  30.0009,-130.0335,     5.5370,2,     -999.0,9,     -999.0,9,     -999.0,9,     -999.0,9,     0.0134,1,     4.6909,1,     -999.0,9,     -999.0,9,     -999.0,9,     -999.0,9,     -999.0,9
33RR20220613,       P02E,     172,          1,         22,         22,2,20220703,       1619,    30.0009,  -130.0336,       4667,   670.9,2,   5.0673,2,  34.2700,2,  34.2717,2,     13.5,2,    13.6,2,   91.59,2,   41.86,2,    0.00,2,    3.11,2,   0.273,2,   0.162,2,   0.1000,2,  2333.1,2,  2329.7,2,   7.3038,2,    25.02,2, -999.00,9,  -999.0,9, -999.00,1, -999.00,1,       53.3,2, 20220703,     1749,  30.0009,-130.0335,     5.0485,2,     -999.0,9,     -999.0,9,     -999.0,9,     -999.0,9,     0.0134,1,     4.6922,1,     -999.0,9,     -999.0,9,     -999.0,9,     -999.0,9,     -999.0,9
33RR20220613,       P02E,     172,          1,         21,         21,2,20220703,       1619,    30.0009,  -130.0336,       4667,   772.5,2,   4.5501,2,  34.3450,2,  34.3425,2,     12.8,3,    12.4,2,  102.82,2,   42.98,2,    0.00,2,    3.17,2,   0.080,2,   0.051,2,   0.0679,2,  2343.6,2,  2345.5,2,   7.3105,2,    25.00,2, -999.00,9,  -999.0,9, -999.00,1, -999.00,1,       55.8,2, 20220703,     1746,  30.0009,-130.0335,     4.5504,2,     -999.0,9,     -999.0,9,     -999.0,9,     -999.0,9,     0.0134,1,     4.6927,1,     -999.0,9,     -999.0,9,     -999.0,9,     -999.0,9,     -999.0,9
33RR20220613,       P02E,     172,          1,         20,         20,2,20220703,       1619,    30.0009,  -130.0336,       4667,   872.4,2,   4.1863,2,  34.3928,2,  34.3925,2,     17.5,2,    17.3,2,  110.73,2,   43.30,2,    0.00,2,    3.16,2,   0.029,2,   0.021,2,   0.0763,2,  -999.0,9,  -999.0,9,-999.0000,9,  -999.00,9, -999.00,9,  -999.0,9, -999.00,1, -999.00,1,       54.6,2, 20220703,     1744,  30.0009,-130.0336,     4.1846,2,     -999.0,9,     -999.0,9,     -999.0,9,     -999.0,9,     0.0134,1,     4.6933,1,     -999.0,9,     -999.0,9,     -999.0,9,     -999.0,9,     -999.0,9
33RR20220613,       P02E,     172,          1,         19,         39,2,20220703,       1619,    30.0009,  -130.0336,       4667,   974.5,2,   3.9481,2,  34.4498,2,  34.4491,2,     22.8,2,    23.0,2,  116.01,2,   43.29,2,    0.00,2,    3.15,2,   0.016,2,   0.011,2,   0.0716,2,  2359.5,2,  2368.8,2,   7.3417,2,    24.99,2, -999.00,9,  -999.0,9, -999.00,1, -999.00,1,       52.8,2, 20220703,     1741,  30.0009,-130.0335,     3.9481,2,     -999.0,9,     -999.0,9,     -999.0,9,     -999.0,9,     0.0134,1,     4.6934,1,     -999.0,9,     -999.0,9,     -999.0,9,     -999.0,9,     -999.0,9
33RR20220613,       P02E,     172,          1,         18,         18,2,20220703,       1619,    30.0009,  -130.0336,       4667,  1075.0,2,   3.6680,2,  34.4849,2,  34.4852,2,     29.9,2,    29.9,2,  122.16,2,   43.18,2,    0.00,2,    3.13,2,   0.011,2,   0.010,2,   0.0000,2,  -999.0,9,  -999.0,9,-999.0000,9,  -999.00,9, -999.00,9,  -999.0,9, -999.00,1, -999.00,1,       50.5,2, 20220703,     1738,  30.0009,-130.0336,     3.6684,2,     -999.0,9,     -999.0,9,     -999.0,9,     -999.0,9,     0.0134,1,     4.6946,1,     -999.0,9,     -999.0,9,     -999.0,9,     -999.0,9,     -999.0,9
33RR20220613,       P02E,     172,          1,         17,         37,2,20220703,       1619,    30.0009,  -130.0336,       4667,  1176.4,2,   3.4495,2,  34.5079,2,  34.5101,2,     34.7,2,    34.9,2,  127.14,2,   43.08,2,    0.00,2,    3.11,2,   0.010,2,   0.009,2,   0.0000,2,  2366.4,2,  2383.4,2,   7.3667,2,    25.00,2, -999.00,9,  -999.0,9, -999.00,1, -999.00,1,       47.7,2, 20220703,     1736,  30.0009,-130.0335,     3.4493,2,     -999.0,9,     -999.0,9,     -999.0,9,     -999.0,9,     0.0134,1,     4.6946,1,     -999.0,9,     -999.0,9,     -999.0,9,     -999.0,9,     -999.0,9
33RR20220613,       P02E,     172,          1,         16,         16,2,20220703,       1619,    30.0009,  -130.0336,       4667,  1277.5,2,   3.2265,2,  34.5279,2,  34.5325,2,     40.0,2,    39.9,2,  132.61,2,   42.80,2,    0.00,2,    3.09,2,   0.008,2,   0.007,2,   0.0000,2,  -999.0,9,  -999.0,9,-999.0000,9,  -999.00,9, -999.00,9,  -999.0,9, -999.00,1, -999.00,1,     -999.0,5, 20220703,     1733,  30.0009,-130.0335,     3.2252,2,     -999.0,9,     -999.0,9,     -999.0,9,     -999.0,9,     0.0134,1,     4.6957,1,     -999.0,9,     -999.0,9,     -999.0,9,     -999.0,9,     -999.0,9
33RR20220613,       P02E,     172,          1,         15,         15,2,20220703,       1619,    30.0009,  -130.0336,       4667,  1379.3,2,   3.0266,2,  34.5437,2,  34.5423,2,     45.0,2,    44.6,2,  137.30,2,   42.64,2,    0.00,2,    3.07,2,   0.009,2,   0.007,2,   0.0000,2,  2370.1,2,  2395.0,2,   7.3856,2,    25.01,2, -999.00,9,  -999.0,9, -999.00,1, -999.00,1,     -999.0,5, 20220703,     1731,  30.0009,-130.0335,     3.0320,2,     -999.0,9,     -999.0,9,     -999.0,9,     -999.0,9,     0.0134,1,     4.6961,1,     -999.0,9,     -999.0,9,     -999.0,9,     -999.0,9,     -999.0,9
33RR20220613,       P02E,     172,          1,         14,         42,2,20220703,       1619,    30.0009,  -130.0336,       4667,  1481.0,2,   2.8547,2,  34.5570,2,  34.5565,2,     50.1,2,    50.2,2,  141.50,2,   42.39,2,    0.00,2,    3.04,2,-999.000,9,-999.000,9,-999.0000,9,  -999.0,9,  -999.0,9,-999.0000,9,  -999.00,9, -999.00,9,  -999.0,9, -999.00,1, -999.00,1,     -999.0,9, 20220703,     1728,  30.0009,-130.0335,     2.8557,2,     -999.0,9,     -999.0,9,     -999.0,9,     -999.0,9,     0.0134,1,     4.6971,1,     -999.0,9,     -999.0,9,     -999.0,9,     -999.0,9,     -999.0,9
33RR20220613,       P02E,     172,          1,         13,         13,2,20220703,       1619,    30.0009,  -130.0336,       4667,  1581.3,2,   2.7089,2,  34.5688,2,  34.5686,2,     54.6,2,    54.6,2,  145.31,2,   42.09,2,    0.00,2,    3.02,2,   0.005,2,   0.005,2,   0.0000,2,  2372.9,2,  2402.7,2,   7.4033,2,    25.01,2, -999.00,9,  -999.0,9, -999.00,1, -999.00,1,       39.7,2, 20220703,     1725,  30.0009,-130.0335,     2.7075,2,     -999.0,9,     -999.0,9,     -999.0,9,     -999.0,9,     0.0134,1,     4.6971,1,     -999.0,9,     -999.0,9,     -999.0,9,     -999.0,9,     -999.0,9
33RR20220613,       P02E,     172,          1,         12,         12,2,20220703,       1619,    30.0009,  -130.0336,       4667,  1754.8,2,   2.4483,2,  34.5891,2,  34.5883,2,     64.0,2,    63.9,2,  150.98,2,   41.58,2,    0.00,2,    2.96,2,-999.000,9,-999.000,9,-999.0000,9,  2373.1,2,  2410.3,2,   7.4170,2,    25.00,2, -999.00,9,  -999.0,9, -999.00,1, -999.00,1,     -999.0,9, 20220703,     1721,  30.0009,-130.0336,     2.4484,2,     -999.0,9,     -999.0,9,     -999.0,9,     -999.0,9,     0.0134,1,     4.6983,1,     -999.0,9,     -999.0,9,     -999.0,9,     -999.0,9,     -999.0,9
33RR20220613,       P02E,     172,          1,         11,         11,2,20220703,       1619,    30.0009,  -130.0336,       4667,  1958.1,2,   2.2283,2,  34.6086,2,  34.6089,2,     73.7,2,    74.0,2,  156.25,2,   40.96,2,    0.00,2,    2.91,2,   0.003,2,   0.002,2,   0.0000,2,  2371.5,2,  2415.6,2,   7.4405,2,    25.01,2, -999.00,9,  -999.0,9, -999.00,1, -999.00,1,       34.0,2, 20220703,     1717,  30.0009,-130.0335,     2.2292,2,     -999.0,9,     -999.0,9,     -999.0,9,     -999.0,9,     0.0134,1,     4.6990,1,     -999.0,9,     -999.0,9,     -999.0,9,     -999.0,9,     -999.0,9
33RR20220613,       P02E,     172,          1,         10,         10,2,20220703,       1619,    30.0009,  -130.0336,       4667,  2192.0,2,   2.0033,2,  34.6274,2,  34.6270,2,     85.5,2,    85.7,2,  160.94,2,   40.27,2,    0.00,2,    2.84,2,-999.000,9,-999.000,9,-999.0000,9,  -999.0,9,  -999.0,9,-999.0000,9,  -999.00,9, -999.00,9,  -999.0,9, -999.00,1, -999.00,1,     -999.0,9, 20220703,     1712,  30.0009,-130.0335,     2.0032,2,     -999.0,9,     -999.0,9,     -999.0,9,     -999.0,9,     0.0134,1,     4.6995,1,     -999.0,9,     -999.0,9,     -999.0,9,     -999.0,9,     -999.0,9
33RR20220613,       P02E,     172,          1,          9,          9,2,20220703,       1619,    30.0009,  -130.0336,       4667,  2446.8,2,   1.8199,2,  34.6420,2,  34.6423,2,     96.7,2,    96.6,2,  164.94,2,   39.54,2,    0.00,2,    2.78,2,   0.004,2,   0.004,2,   0.0000,2,  2367.5,2,  2426.8,6,   7.4840,2,    25.01,2, -999.00,9,  -999.0,9, -999.00,1, -999.00,1,       29.0,2, 20220703,     1706,  30.0009,-130.0336,     1.8211,2,     -999.0,9,     -999.0,9,     -999.0,9,     -999.0,9,     0.0134,1,     4.7004,1,     -999.0,9,     -999.0,9,     -999.0,9,     -999.0,9,     -999.0,9
33RR20220613,       P02E,     172,          1,          8,          8,2,20220703,       1619,    30.0009,  -130.0336,       4667,  2700.1,2,   1.6946,2,  34.6526,2,  34.6537,2,    106.2,2,   106.2,2,  167.39,2,   38.94,2,    0.00,2,    2.73,2,-999.000,9,-999.000,9,-999.0000,9,  -999.0,9,  -999.0,9,-999.0000,9,  -999.00,9, -999.00,9,  -999.0,9, -999.00,1, -999.00,1,     -999.0,9, 20220703,     1701,  30.0009,-130.0336,     1.6946,2,     -999.0,9,     -999.0,9,     -999.0,9,     -999.0,9,     0.0134,1,     4.7007,1,     -999.0,9,     -999.0,9,     -999.0,9,     -999.0,9,     -999.0,9
33RR20220613,       P02E,     172,          1,          7,          7,2,20220703,       1619,    30.0009,  -130.0336,       4667,  2957.0,2,   1.6124,2,  34.6607,3,  34.6635,2,    114.3,2,   114.4,2,  168.36,2,   38.45,2,    0.00,2,    2.69,2,   0.007,2,   0.006,2,   0.0000,2,  2357.3,2,  2430.9,2,   7.5161,2,    25.01,2, -999.00,9,  -999.0,9, -999.00,1, -999.00,1,       25.7,2, 20220703,     1654,  30.0009,-130.0336,     1.6125,2,     -999.0,9,     -999.0,9,     -999.0,9,     -999.0,9,     0.0128,1,     4.7014,1,     -999.0,9,     -999.0,9,     -999.0,9,     -999.0,9,     -999.0,9
33RR20220613,       P02E,     172,          1,          6,          6,2,20220703,       1619,    30.0009,  -130.0336,       4667,  3246.9,2,   1.5293,2,  34.6702,2,  34.6692,2,    125.0,2,   125.0,2,  167.48,2,   37.76,2,    0.00,2,    2.63,2,-999.000,9,-999.000,9,-999.0000,9,  -999.0,9,  -999.0,9,-999.0000,9,  -999.00,9, -999.00,9,  -999.0,9, -999.00,1, -999.00,1,     -999.0,9, 20220703,     1649,  30.0009,-130.0335,     1.5291,2,     -999.0,9,     -999.0,9,     -999.0,9,     -999.0,9,     0.0131,1,     4.7019,1,     -999.0,9,     -999.0,9,     -999.0,9,     -999.0,9,     -999.0,9
33RR20220613,       P02E,     172,          1,          5,          5,2,20220703,       1619,    30.0009,  -130.0336,       4667,  3554.6,2,   1.4900,2,  34.6771,2,  34.6769,2,    134.0,2,   134.1,2,  164.94,2,   37.23,2,    0.00,2,    2.58,2,   0.005,2,   0.006,2,   0.0000,2,  2346.9,2,  2430.1,2,   7.5522,2,    25.01,2, -999.00,9,  -999.0,9, -999.00,1, -999.00,1,       23.8,2, 20220703,     1643,  30.0009,-130.0335,     1.4900,2,     -999.0,9,     -999.0,9,     -999.0,9,     -999.0,9,     0.0122,1,     4.7020,1,     -999.0,9,     -999.0,9,     -999.0,9,     -999.0,9,     -999.0,9