BOTTLE,20230830CCHSIOCBG
EXPOCODE,SECT_ID,STNNBR,CASTNO,SAMPNO,BTLNBR,BTLNBR_FLAG_W,DATE,TIME,LATITUDE,LONGITUDE,DEPTH,CTDPRS,CTDPRS_FLAG_W,CTDTMP,CTDTMP_FLAG_W,CTDSAL,CTDSAL_FLAG_W,SALNTY,SALNTY_FLAG_W,CTDOXY,CTDOXY_FLAG_W,OXYGEN,OXYGEN_FLAG_W,SILCAT,SILCAT_FLAG_W,NITRAT,NITRAT_FLAG_W,NITRIT,NITRIT_FLAG_W,PHSPHT,PHSPHT_FLAG_W,CFC-11,CFC-11_FLAG_W,CFC-12,CFC-12_FLAG_W,SF6,SF6_FLAG_W,TCARBN,TCARBN_FLAG_W,ALKALI,ALKALI_FLAG_W,PH_TOT,PH_TOT_FLAG_W,PH_TMP,PH_TMP_FLAG_W,DELC13,DELC13_FLAG_W,DELC14,DELC14_FLAG_W,DOC,DOC_FLAG_W,TDN,TDN_FLAG_W,N2O,N2O_FLAG_W,BTL_DATE,BTL_TIME,BTL_LAT,BTL_LON,REFTMP,REFTMP_FLAG_W,POC,POC_FLAG_W,PON,PON_FLAG_W,POP,POP_FLAG_W,PCOD,PCOD_FLAG_W,CTDFLUOR,CTDFLUOR_FLAG_W,CTDXMISS,CTDXMISS_FLAG_W,HPLC,HPLC_FLAG_W,DNA,DNA_FLAG_W,FCM,FCM_FLAG_W,IMAGES,IMAGES_FLAG_W,VIRAL_ABUNDANCE,VIRAL_ABUNDANCE_FLAG_W
,,,,,,,,,,,METERS,DBAR,,ITS-90,,PSS-78,,PSS-78,,UMOL/KG,,UMOL/KG,,UMOL/KG,,UMOL/KG,,UMOL/KG,,UMOL/KG,,PMOL/KG,,PMOL/KG,,FMOL/KG,,UMOL/KG,,UMOL/KG,,,,DEG C,,/MILLE,,/MILLE,,UMOL/KG,,UMOL/KG,,NMOL/KG,,,,,,ITS-90,,UG/L,,UG/L,,UG/L,,UG/L,,VOLTS,,VOLTS,,,,,,,,,,,
33RR20220613,       P02E,     148,          1,         36,         36,2,20220626,       1538,    30.0005,  -143.8905,       5235,     5.6,2,  22.6000,2,  34.9046,2,  34.9020,2,    221.8,2,   221.6,2,    0.88,2,    0.05,2,    0.00,2,    0.00,2,   1.819,2,   1.135,2,   1.8961,2,  2037.1,6,  2302.1,2,   7.9768,2,    25.01,2, -999.00,9,  -999.0,9, -999.00,1, -999.00,1,        7.3,2, 20220626,     1746,  30.0005,-143.8905,    22.5997,2,     -999.0,9,     -999.0,9,     -999.0,9,     -999.0,9,     0.0122,1,     4.6471,1,     -999.0,9,     -999.0,9,     -999.0,9,     -999.0,9,     -999.0,9
33RR20220613,       P02E,     148,          1,         35,         35,2,20220626,       1538,    30.0005,  -143.8905,       5235,    20.2,2,  22.2404,2,  34.8699,2,  34.8668,2,    223.1,2,   222.8,2,    0.78,2,    0.03,2,    0.00,2,    0.00,2,   1.837,2,   1.137,2,   1.8498,2,  2036.2,2,  2299.0,2,   7.9762,2,    25.01,2, -999.00,9,  -999.0,9, -999.00,1, -999.00,1,        7.2,2, 20220626,     1744,  30.0004,-143.8905,    22.2492,2,     -999.0,9,     -999.0,9,     -999.0,9,     -999.0,9,     0.0134,1,     4.6443,1,     -999.0,9,     -999.0,9,     -999.0,9,     -999.0,9,     -999.0,9
33RR20220613,       P02E,     148,          1,         34,         34,2,20220626,       1538,    30.0005,  -143.8905,       5235,    40.5,2,  20.9264,2,  34.7946,2,  34.7937,2,    236.4,2,   236.4,2,    0.68,2,    0.01,2,    0.00,2,    0.00,2,-999.000,9,-999.000,9,-999.0000,9,  -999.0,9,  -999.0,9,-999.0000,9,  -999.00,9, -999.00,9,  -999.0,9, -999.00,1, -999.00,1,     -999.0,9, 20220626,     1743,  30.0004,-143.8905,    20.9116,2,     -999.0,9,     -999.0,9,     -999.0,9,     -999.0,9,     0.0134,1,     4.6441,1,     -999.0,9,     -999.0,9,     -999.0,9,     -999.0,9,     -999.0,9
33RR20220613,       P02E,     148,          1,         33,         33,2,20220626,       1538,    30.0005,  -143.8905,       5235,    65.9,2,  19.9177,2,  34.7672,2,  34.7628,2,    238.3,2,   237.9,2,    0.88,2,    0.00,2,    0.00,2,    0.02,2,   2.049,2,   1.241,2,   2.0089,2,  2029.5,2,  2292.9,2,   7.9750,2,    25.01,2, -999.00,9,  -999.0,9, -999.00,1, -999.00,1,        7.8,2, 20220626,     1741,  30.0004,-143.8905,    19.9155,2,     -999.0,9,     -999.0,9,     -999.0,9,     -999.0,9,     0.0143,1,     4.6475,1,     -999.0,9,     -999.0,9,     -999.0,9,     -999.0,9,     -999.0,9
33RR20220613,       P02E,     148,          1,         32,         32,2,20220626,       1538,    30.0005,  -143.8905,       5235,    91.2,2,  19.6192,2,  34.7759,2,  34.7740,2,    235.7,2,   235.8,2,    0.88,2,    0.01,2,    0.00,2,    0.02,2,-999.000,9,-999.000,9,-999.0000,9,  2033.0,2,  2292.1,2,   7.9720,2,    24.99,2, -999.00,9,  -999.0,9, -999.00,1, -999.00,1,     -999.0,9, 20220626,     1739,  30.0004,-143.8905,    19.6121,2,     -999.0,9,     -999.0,9,     -999.0,9,     -999.0,9,     0.0159,1,     4.6536,1,     -999.0,9,     -999.0,9,     -999.0,9,     -999.0,9,     -999.0,9
33RR20220613,       P02E,     148,          1,         31,         31,2,20220626,       1538,    30.0005,  -143.8905,       5235,   136.7,2,  19.1828,2,  34.7964,2,  34.7944,2,    228.8,2,   229.3,2,    0.98,2,    0.00,2,    0.00,2,    0.03,2,   2.019,2,   1.260,2,   1.9574,2,  2036.6,2,  2291.1,2,   7.9620,2,    25.00,2, -999.00,9,  -999.0,9, -999.00,1, -999.00,1,        8.0,2, 20220626,     1737,  30.0004,-143.8905,    19.1807,2,     -999.0,9,     -999.0,9,     -999.0,9,     -999.0,9,     0.0246,1,     4.6630,1,     -999.0,9,     -999.0,9,     -999.0,9,     -999.0,9,     -999.0,9
33RR20220613,       P02E,     148,          1,         30,         17,2,20220626,       1538,    30.0005,  -143.8905,       5235,   186.6,2,  17.3108,2,  34.5090,3,  34.4544,2,    219.7,3,   221.9,2,    1.56,2,    1.04,2,    0.04,2,    0.16,2,-999.000,9,-999.000,9,-999.0000,9,  2045.2,2,  2269.3,2,   7.9099,2,    24.99,2, -999.00,9,  -999.0,9, -999.00,1, -999.00,1,     -999.0,9, 20220626,     1735,  30.0004,-143.8905,    17.3704,2,     -999.0,9,     -999.0,9,     -999.0,9,     -999.0,9,     0.0195,1,     4.6756,1,     -999.0,9,     -999.0,9,     -999.0,9,     -999.0,9,     -999.0,9
33RR20220613,       P02E,     148,          1,         29,         29,2,20220626,       1538,    30.0005,  -143.8905,       5235,   236.5,2,  13.2758,2,  34.0288,2,  34.0174,2,    218.5,2,   219.5,2,    4.89,2,    5.60,2,    0.00,2,    0.51,2,   2.717,2,   1.635,2,   2.2849,2,  2064.9,2,  2246.0,2,   7.8183,2,    25.00,2, -999.00,9,  -999.0,9, -999.00,1, -999.00,1,       12.3,2, 20220626,     1733,  30.0005,-143.8905,    13.3738,2,     -999.0,9,     -999.0,9,     -999.0,9,     -999.0,9,     0.0134,1,     4.6854,1,     -999.0,9,     -999.0,9,     -999.0,9,     -999.0,9,     -999.0,9
33RR20220613,       P02E,     148,          1,         28,         28,2,20220626,       1538,    30.0005,  -143.8905,       5235,   287.1,2,  11.4551,2,  34.0432,2,  34.0460,2,    212.8,2,   212.4,2,   10.17,2,   11.33,2,    0.00,2,    0.84,2,   2.904,2,   1.750,2,   2.0847,2,  -999.0,9,  -999.0,9,-999.0000,9,  -999.00,9, -999.00,9,  -999.0,9, -999.00,1, -999.00,1,       17.1,2, 20220626,     1731,  30.0004,-143.8905,    11.4613,2,     -999.0,9,     -999.0,9,     -999.0,9,     -999.0,9,     0.0122,1,     4.6894,1,     -999.0,9,     -999.0,9,     -999.0,9,     -999.0,9,     -999.0,9
33RR20220613,       P02E,     148,          1,         27,         27,2,20220626,       1538,    30.0005,  -143.8905,       5235,   337.5,2,  10.4245,2,  34.0733,2,  34.0740,2,    210.2,2,   210.1,2,   14.47,2,   14.28,2,    0.00,2,    1.03,2,   3.030,2,   1.801,2,   2.0235,2,  2112.5,2,  2254.1,6,   7.7327,2,    25.00,2, -999.00,9,  -999.0,9, -999.00,1, -999.00,1,       18.3,2, 20220626,     1730,  30.0005,-143.8905,    10.4081,3,     -999.0,9,     -999.0,9,     -999.0,9,     -999.0,9,     0.0122,1,     4.6921,1,     -999.0,9,     -999.0,9,     -999.0,9,     -999.0,9,     -999.0,9
33RR20220613,       P02E,     148,          1,         26,         26,2,20220626,       1538,    30.0005,  -143.8905,       5235,   388.3,2,   9.6862,2,  34.0477,2,  34.0454,2,    206.6,2,   206.8,2,   18.38,2,   16.38,2,    0.00,2,    1.16,2,   3.118,2,   1.825,2,   1.9204,2,  2123.1,2,  2257.1,2,   7.7061,2,    25.00,2, -999.00,9,  -999.0,9, -999.00,1, -999.00,1,       20.8,2, 20220626,     1728,  30.0004,-143.8905,     9.6816,2,     -999.0,9,     -999.0,9,     -999.0,9,     -999.0,9,     0.0122,1,     4.6934,1,     -999.0,9,     -999.0,9,     -999.0,9,     -999.0,9,     -999.0,9
33RR20220613,       P02E,     148,          1,         25,         25,2,20220626,       1538,    30.0005,  -143.8905,       5235,   468.9,2,   7.8455,2,  34.0090,2,  34.0088,2,    151.9,2,   152.9,2,   36.76,2,   25.35,2,    0.00,2,    1.79,2,   2.880,2,   1.647,2,   1.2060,2,  2183.1,2,  2270.7,2,   7.5726,2,    25.00,2, -999.00,9,  -999.0,9, -999.00,1, -999.00,1,       28.1,2, 20220626,     1726,  30.0004,-143.8905,     7.8190,2,     -999.0,9,     -999.0,9,     -999.0,9,     -999.0,9,     0.0122,1,     4.6944,1,     -999.0,9,     -999.0,9,     -999.0,9,     -999.0,9,     -999.0,9
33RR20220613,       P02E,     148,          1,         24,         24,2,20220626,       1538,    30.0005,  -143.8905,       5235,   569.3,2,   6.0563,2,  33.9990,2,  33.9976,2,     95.6,2,    94.7,2,   59.94,2,   33.83,2,    0.00,2,    2.42,2,   2.164,2,   1.204,2,   0.6224,2,  2248.5,2,  2284.8,2,   7.4279,2,    25.00,2, -999.00,9,  -999.0,9, -999.00,1, -999.00,1,       35.6,2, 20220626,     1723,  30.0005,-143.8905,     6.0559,2,     -999.0,9,     -999.0,9,     -999.0,9,     -999.0,9,     0.0134,1,     4.6947,1,     -999.0,9,     -999.0,9,     -999.0,9,     -999.0,9,     -999.0,9
33RR20220613,       P02E,     148,          1,         23,         23,2,20220626,       1538,    30.0005,  -143.8905,       5235,   670.7,2,   4.9632,2,  34.0858,2,  34.0876,2,     46.2,2,    46.6,2,   83.59,2,   39.74,2,    0.00,2,    2.87,2,   1.146,2,   0.613,2,   0.3024,2,  2303.2,2,  2307.3,2,   7.3317,2,    24.99,2, -999.00,9,  -999.0,9, -999.00,1, -999.00,1,       44.2,2, 20220626,     1720,  30.0005,-143.8905,     4.9684,2,     -999.0,9,     -999.0,9,     -999.0,9,     -999.0,9,     0.0134,1,     4.6956,1,     -999.0,9,     -999.0,9,     -999.0,9,     -999.0,9,     -999.0,9
33RR20220613,       P02E,     148,          1,         22,         22,2,20220626,       1538,    30.0005,  -143.8905,       5235,   772.1,2,   4.5348,2,  34.1832,2,  34.1836,2,     23.1,3,    23.4,2,   97.47,2,   42.11,2,    0.00,2,    3.07,2,   0.478,2,   0.259,2,   0.1560,2,  2330.1,2,  2325.7,2,   7.3004,2,    24.99,2, -999.00,9,  -999.0,9, -999.00,1, -999.00,1,       50.4,2, 20220626,     1717,  30.0005,-143.8905,     4.5351,2,     -999.0,9,     -999.0,9,     -999.0,9,     -999.0,9,     0.0134,1,     4.6958,1,     -999.0,9,     -999.0,9,     -999.0,9,     -999.0,9,     -999.0,9
33RR20220613,       P02E,     148,          1,         21,         21,2,20220626,       1538,    30.0005,  -143.8905,       5235,   872.9,2,   4.2022,2,  34.2877,2,  34.2887,2,     13.3,3,    12.9,2,  108.90,2,   43.12,2,    0.00,2,    3.16,2,   0.126,2,   0.071,2,   0.1661,2,  2348.2,2,  2344.5,2,   7.2966,2,    25.01,2, -999.00,9,  -999.0,9, -999.00,1, -999.00,1,       54.4,2, 20220626,     1715,  30.0005,-143.8905,     4.2020,2,     -999.0,9,     -999.0,9,     -999.0,9,     -999.0,9,     0.0134,1,     4.6958,1,     -999.0,9,     -999.0,9,     -999.0,9,     -999.0,9,     -999.0,9
33RR20220613,       P02E,     148,          1,         20,         20,2,20220626,       1538,    30.0005,  -143.8905,       5235,   974.0,2,   3.8964,2,  34.3742,2,  34.3711,2,     15.0,3,    14.7,2,  117.69,2,   43.34,2,    0.00,2,    3.19,2,   0.029,2,   0.022,2,   0.0000,2,  2361.0,2,  2360.7,2,   7.3106,2,    25.00,2, -999.00,9,  -999.0,9, -999.00,1, -999.00,1,       54.5,2, 20220626,     1712,  30.0005,-143.8905,     3.8956,2,     -999.0,9,     -999.0,9,     -999.0,9,     -999.0,9,     0.0134,1,     4.6958,1,     -999.0,9,     -999.0,9,     -999.0,9,     -999.0,9,     -999.0,9
33RR20220613,       P02E,     148,          1,         19,         39,2,20220626,       1538,    30.0005,  -143.8905,       5235,  1075.6,2,   3.6030,2,  34.4376,2,  34.4353,2,     23.1,3,    22.8,2,  124.53,2,   43.17,2,    0.00,2,    3.15,2,   0.015,2,   0.016,2,   0.0000,2,  2365.2,2,  2372.5,2,   7.3345,2,    25.00,2, -999.00,9,  -999.0,9, -999.00,1, -999.00,1,       50.3,2, 20220626,     1709,  30.0005,-143.8905,     3.6107,2,     -999.0,9,     -999.0,9,     -999.0,9,     -999.0,9,     0.0134,1,     4.6970,1,     -999.0,9,     -999.0,9,     -999.0,9,     -999.0,9,     -999.0,9
33RR20220613,       P02E,     148,          1,         18,         18,2,20220626,       1538,    30.0005,  -143.8905,       5235,  1176.6,2,   3.3436,2,  34.4828,2,  34.4811,2,     32.8,2,    32.6,2,  129.90,2,   42.72,2,    0.00,2,    3.11,2,   0.007,2,   0.010,2,   0.0000,2,  -999.0,9,  -999.0,9,-999.0000,9,  -999.00,9, -999.00,9,  -999.0,9, -999.00,1, -999.00,1,       47.2,2, 20220626,     1707,  30.0005,-143.8905,     3.3438,2,     -999.0,9,     -999.0,9,     -999.0,9,     -999.0,9,     0.0134,1,     4.6970,1,     -999.0,9,     -999.0,9,     -999.0,9,     -999.0,9,     -999.0,9
33RR20220613,       P02E,     148,          1,         17,         37,2,20220626,       1538,    30.0005,  -143.8905,       5235,  1277.6,2,   3.1848,2,  34.5062,2,  34.5052,2,     39.4,2,    39.3,2,  133.42,2,   42.30,2,    0.00,2,    3.08,2,   0.005,2,   0.005,2,   0.0000,2,  2365.6,2,  2386.6,2,   7.3701,2,    25.00,2, -999.00,9,  -999.0,9, -999.00,1, -999.00,1,       43.6,2, 20220626,     1704,  30.0005,-143.8905,     3.1845,2,     -999.0,9,     -999.0,9,     -999.0,9,     -999.0,9,     0.0134,1,     4.6977,1,     -999.0,9,     -999.0,9,     -999.0,9,     -999.0,9,     -999.0,9
33RR20220613,       P02E,     148,          1,         16,         16,2,20220626,       1538,    30.0005,  -143.8905,       5235,  1378.7,2,   2.9600,2,  34.5326,2,  34.5331,2,     46.7,3,    47.3,2,  137.81,2,   41.98,2,    0.00,2,    3.04,2,   0.004,2,   0.005,2,   0.0000,2,  -999.0,9,  -999.0,9,-999.0000,9,  -999.00,9, -999.00,9,  -999.0,9, -999.00,1, -999.00,1,       42.8,2, 20220626,     1701,  30.0004,-143.8905,     2.9676,2,     -999.0,9,     -999.0,9,     -999.0,9,     -999.0,9,     0.0134,1,     4.6983,1,     -999.0,9,     -999.0,9,     -999.0,9,     -999.0,9,     -999.0,9
33RR20220613,       P02E,     148,          1,         15,         15,2,20220626,       1538,    30.0005,  -143.8905,       5235,  1505.5,2,   2.7450,2,  34.5554,2,  34.5592,2,     55.2,2,    55.3,2,  143.09,2,   41.50,2,    0.00,2,    3.00,2,   0.004,2,   0.002,2,   0.0000,2,  2368.5,2,  2399.4,2,   7.4027,2,    25.00,2, -999.00,9,  -999.0,9, -999.00,1, -999.00,1,       37.9,2, 20220626,     1658,  30.0004,-143.8905,     2.7447,2,     -999.0,9,     -999.0,9,     -999.0,9,     -999.0,9,     0.0134,1,     4.6987,1,     -999.0,9,     -999.0,9,     -999.0,9,     -999.0,9,     -999.0,9
33RR20220613,       P02E,     148,          1,         14,         14,2,20220626,       1538,    30.0005,  -143.8905,       5235,  1754.0,2,   2.3726,2,  34.5876,2,  34.5859,2,     66.6,2,    66.7,2,  152.56,2,   40.99,2,    0.00,2,    2.93,2,-999.000,9,-999.000,9,-999.0000,9,  -999.0,9,  -999.0,9,-999.0000,9,  -999.00,9, -999.00,9,  -999.0,9, -999.00,1, -999.00,1,     -999.0,9, 20220626,     1653,  30.0005,-143.8905,     2.3721,2,     -999.0,9,     -999.0,9,     -999.0,9,     -999.0,9,     0.0133,1,     4.6995,1,     -999.0,9,     -999.0,9,     -999.0,9,     -999.0,9,     -999.0,9
33RR20220613,       P02E,     148,          1,         13,         13,2,20220626,       1538,    30.0005,  -143.8905,       5235,  1956.7,2,   2.1502,2,  34.6075,2,  34.6066,2,     75.2,2,    75.3,2,  159.40,2,   40.34,2,    0.00,2,    2.89,2,   0.002,2,   0.003,2,   0.0000,2,  2369.2,2,  2417.1,2,   7.4423,2,    25.01,2, -999.00,9,  -999.0,9, -999.00,1, -999.00,1,       32.4,2, 20220626,     1648,  30.0005,-143.8905,     2.1462,2,     -999.0,9,     -999.0,9,     -999.0,9,     -999.0,9,     0.0134,1,     4.7007,1,     -999.0,9,     -999.0,9,     -999.0,9,     -999.0,9,     -999.0,9
33RR20220613,       P02E,     148,          1,         12,         12,2,20220626,       1538,    30.0005,  -143.8905,       5235,  2191.5,2,   1.9217,2,  34.6281,2,  34.6286,2,     87.0,2,    86.8,2,  164.38,2,   39.56,2,    0.00,2,    2.83,2,-999.000,9,-999.000,9,-999.0000,9,  -999.0,9,  -999.0,9,-999.0000,9,  -999.00,9, -999.00,9,  -999.0,9, -999.00,1, -999.00,1,     -999.0,9, 20220626,     1643,  30.0005,-143.8905,     1.9208,2,     -999.0,9,     -999.0,9,     -999.0,9,     -999.0,9,     0.0134,1,     4.7007,1,     -999.0,9,     -999.0,9,     -999.0,9,     -999.0,9,     -999.0,9
33RR20220613,       P02E,     148,          1,         11,         11,2,20220626,       1538,    30.0005,  -143.8905,       5235,  2445.6,2,   1.7684,2,  34.6427,2,  34.6423,2,     97.5,2,    97.6,2,  167.02,2,   38.97,2,    0.00,2,    2.78,2,   0.003,2,   0.002,2,   0.0000,2,  2362.9,2,  2424.4,6,   7.4844,2,    25.01,2, -999.00,9,  -999.0,9, -999.00,1, -999.00,1,       28.0,2, 20220626,     1638,  30.0005,-143.8905,     1.7682,2,     -999.0,9,     -999.0,9,     -999.0,9,     -999.0,9,     0.0133,1,     4.7018,1,     -999.0,9,     -999.0,9,     -999.0,9,     -999.0,9,     -999.0,9
33RR20220613,       P02E,     148,          1,         10,         10,2,20220626,       1538,    30.0005,  -143.8905,       5235,  2700.2,2,   1.6707,2,  34.6528,2,  34.6521,2,    106.7,2,   107.2,2,  167.90,2,   38.39,2,    0.00,2,    2.73,2,-999.000,9,-999.000,9,-999.0000,9,  -999.0,9,  -999.0,9,-999.0000,9,  -999.00,9, -999.00,9,  -999.0,9, -999.00,1, -999.00,1,     -999.0,9, 20220626,     1633,  30.0005,-143.8905,     1.6698,2,     -999.0,9,     -999.0,9,     -999.0,9,     -999.0,9,     0.0134,1,     4.7020,1,     -999.0,9,     -999.0,9,     -999.0,9,     -999.0,9,     -999.0,9
33RR20220613,       P02E,     148,          1,          9,          9,2,20220626,       1538,    30.0005,  -143.8905,       5235,  2954.4,2,   1.5851,2,  34.6620,2,  34.6635,2,    116.1,2,   116.2,2,  167.90,2,   37.86,2,    0.00,2,    2.68,2,   0.004,2,   0.002,2,   0.0000,2,  2355.0,2,  2427.8,2,   7.5174,2,    25.00,2, -999.00,9,  -999.0,9, -999.00,1, -999.00,1,       24.7,2, 20220626,     1627,  30.0005,-143.8905,     1.5849,2,     -999.0,9,     -999.0,9,     -999.0,9,     -999.0,9,     0.0130,1,     4.7021,1,     -999.0,9,     -999.0,9,     -999.0,9,     -999.0,9,     -999.0,9
33RR20220613,       P02E,     148,          1,          8,          8,2,20220626,       1538,    30.0005,  -143.8905,       5235,  3245.4,2,   1.5212,2,  34.6703,2,  34.6686,2,    126.0,2,   126.0,2,  166.53,2,   37.30,2,    0.00,2,    2.64,2,-999.000,9,-999.000,9,-999.0000,9,  -999.0,9,  -999.0,9,-999.0000,9,  -999.00,9, -999.00,9,  -999.0,9, -999.00,1, -999.00,1,     -999.0,9, 20220626,     1621,  30.0004,-143.8905,     1.5203,2,     -999.0,9,     -999.0,9,     -999.0,9,     -999.0,9,     0.0122,1,     4.7024,1,     -999.0,9,     -999.0,9,     -999.0,9,     -999.0,9,     -999.0,9
33RR20220613,       P02E,     148,          1,          7,          7,2,20220626,       1538,    30.0005,  -143.8905,       5235,  3554.0,2,   1.4840,2,  34.6772,2,  34.6759,2,    135.1,2,   134.8,2,  163.50,2,   36.74,2,    0.00,2,    2.58,2,   0.004,2,   0.002,2,   0.0000,2,  2339.9,2,  2426.8,2,   7.5518,2,    25.00,2, -999.00,9,  -999.0,9, -999.00,1, -999.00,1,       22.9,2, 20220626,     1615,  30.0005,-143.8905,     1.4836,2,     -999.0,9,     -999.0,9,     -999.0,9,     -999.0,9,     0.0122,1,     4.7026,1,     -999.0,9,     -999.0,9,     -999.0,9,     -999.0,9,     -999.0,9
33RR20220613,       P02E,     148,          1,          6,          6,2,20220626,       1538,    30.0005,  -143.8905,       5235,  3860.6,2,   1.4742,2,  34.6816,2,  34.6798,2,    141.6,2,   141.8,2,  160.37,2,   36.32,2,    0.00,2,    2.54,2,-999.000,9,-999.000,9,-999.0000,9,  -999.0,9,  -999.0,9,-999.0000,9,  -999.00,9, -999.00,9,  -999.0,9, -999.00,1, -999.00,1,     -999.0,9, 20220626,     1609,  30.0005,-143.8905,     1.4739,2,     -999.0,9,     -999.0,9,     -999.0,9,     -999.0,9,     0.0122,1,     4.7032,1,     -999.0,9,     -999.0,9,     -999.0,9,     -999.0,9,     -999.0,9
33RR20220613,       P02E,     148,          1,          5,          5,2,20220626,       1538,    30.0005,  -143.8905,       5235,  4168.7,2,   1.4817,2,  34.6845,2,  34.6834,2,    146.4,2,   146.5,2,  157.24,2,   36.03,2,    0.00,2,    2.51,2,   0.004,2,   0.005,2,   0.0000,2,  2330.5,2,  2427.2,2,   7.5724,2,    25.01,2, -999.00,9,  -999.0,9, -999.00,1, -999.00,1,       22.5,2, 20220626,     1603,  30.0004,-143.8905,     1.4815,2,     -999.0,9,     -999.0,9,     -999.0,9,     -999.0,9,     0.0122,1,     4.7031,1,     -999.0,9,     -999.0,9,     -999.0,9,     -999.0,9,     -999.0,9