BOTTLE,20230830CCHSIOCBG
EXPOCODE,SECT_ID,STNNBR,CASTNO,SAMPNO,BTLNBR,BTLNBR_FLAG_W,DATE,TIME,LATITUDE,LONGITUDE,DEPTH,CTDPRS,CTDPRS_FLAG_W,CTDTMP,CTDTMP_FLAG_W,CTDSAL,CTDSAL_FLAG_W,SALNTY,SALNTY_FLAG_W,CTDOXY,CTDOXY_FLAG_W,OXYGEN,OXYGEN_FLAG_W,SILCAT,SILCAT_FLAG_W,NITRAT,NITRAT_FLAG_W,NITRIT,NITRIT_FLAG_W,PHSPHT,PHSPHT_FLAG_W,CFC-11,CFC-11_FLAG_W,CFC-12,CFC-12_FLAG_W,SF6,SF6_FLAG_W,TCARBN,TCARBN_FLAG_W,ALKALI,ALKALI_FLAG_W,PH_TOT,PH_TOT_FLAG_W,PH_TMP,PH_TMP_FLAG_W,DELC13,DELC13_FLAG_W,DELC14,DELC14_FLAG_W,DOC,DOC_FLAG_W,TDN,TDN_FLAG_W,N2O,N2O_FLAG_W,BTL_DATE,BTL_TIME,BTL_LAT,BTL_LON,REFTMP,REFTMP_FLAG_W,POC,POC_FLAG_W,PON,PON_FLAG_W,POP,POP_FLAG_W,PCOD,PCOD_FLAG_W,CTDFLUOR,CTDFLUOR_FLAG_W,CTDXMISS,CTDXMISS_FLAG_W,HPLC,HPLC_FLAG_W,DNA,DNA_FLAG_W,FCM,FCM_FLAG_W,IMAGES,IMAGES_FLAG_W,VIRAL_ABUNDANCE,VIRAL_ABUNDANCE_FLAG_W
,,,,,,,,,,,METERS,DBAR,,ITS-90,,PSS-78,,PSS-78,,UMOL/KG,,UMOL/KG,,UMOL/KG,,UMOL/KG,,UMOL/KG,,UMOL/KG,,PMOL/KG,,PMOL/KG,,FMOL/KG,,UMOL/KG,,UMOL/KG,,,,DEG C,,/MILLE,,/MILLE,,UMOL/KG,,UMOL/KG,,NMOL/KG,,,,,,ITS-90,,UG/L,,UG/L,,UG/L,,UG/L,,VOLTS,,VOLTS,,,,,,,,,,,
33RR20220613,       P02E,     164,          2,          4,          4,2,20220701,       0914,    30.0005,  -134.6546,       4725,  3963.0,2,   1.4860,2,  34.6838,3,  34.6861,2,    141.4,2,   141.5,2,  161.91,2,   37.52,2,    0.00,2,    2.55,2,   0.006,2,   0.007,2,   0.0000,2,  2335.7,2,  2428.3,2,   7.5648,2,    25.00,2, -999.00,9,  -999.0,9, -999.00,1, -999.00,1,       22.7,2, 20220701,      931,  30.0005,-134.6545,     1.4860,2,     -999.0,9,     -999.0,9,     -999.0,9,     -999.0,9,     0.0122,1,     4.7028,1,     -999.0,9,     -999.0,9,     -999.0,9,     -999.0,9,     -999.0,9
33RR20220613,       P02E,     164,          2,          3,          3,2,20220701,       0914,    30.0005,  -134.6546,       4725,  4271.2,2,   1.5127,2,  34.6850,3,  34.6826,2,    143.2,2,   143.4,2,  160.35,2,   37.45,2,    0.00,2,    2.56,2,   0.008,2,   0.009,2,   0.0000,2,  2336.1,2,  2428.9,2,   7.5693,2,    25.00,2, -999.00,9,  -999.0,9, -999.00,1, -999.00,1,       22.6,2, 20220701,      924,  30.0005,-134.6546,     1.5127,2,     -999.0,9,     -999.0,9,     -999.0,9,     -999.0,9,     0.0122,1,     4.7022,1,     -999.0,9,     -999.0,9,     -999.0,9,     -999.0,9,     -999.0,9
33RR20220613,       P02E,     164,          2,          2,          2,2,20220701,       0914,    30.0005,  -134.6546,       4725,  4578.0,2,   1.5475,2,  34.6853,3,  34.6832,2,    143.6,2,   143.6,2,  159.57,2,   37.64,2,    0.00,2,    2.54,2,   0.006,2,   0.007,2,   0.0000,2,  2336.5,2,  2427.6,2,   7.5699,2,    25.00,2, -999.00,9,  -999.0,9, -999.00,1, -999.00,1,       22.5,2, 20220701,      918,  30.0004,-134.6546,     1.5477,2,     -999.0,9,     -999.0,9,     -999.0,9,     -999.0,9,     0.0122,1,     4.7020,1,     -999.0,9,     -999.0,9,     -999.0,9,     -999.0,9,     -999.0,9
33RR20220613,       P02E,     164,          2,          1,          1,2,20220701,       0914,    30.0005,  -134.6546,       4725,  4800.3,2,   1.5734,2,  34.6853,3,  34.6832,2,    143.9,2,   143.7,2,  160.64,2,   37.76,2,    0.00,2,    2.52,2,   0.007,2,   0.007,2,   0.0000,2,  2338.1,6,  2428.7,2,   7.5707,2,    24.99,2, -999.00,9,  -999.0,9, -999.00,1, -999.00,1,       23.1,2, 20220701,      914,  30.0005,-134.6545,     1.5736,2,     -999.0,9,     -999.0,9,     -999.0,9,     -999.0,9,     0.0130,1,     4.7017,1,     -999.0,9,     -999.0,9,     -999.0,9,     -999.0,9,     -999.0,9