BOTTLE,20230830CCHSIOCBG
EXPOCODE,SECT_ID,STNNBR,CASTNO,SAMPNO,BTLNBR,BTLNBR_FLAG_W,DATE,TIME,LATITUDE,LONGITUDE,DEPTH,CTDPRS,CTDPRS_FLAG_W,CTDTMP,CTDTMP_FLAG_W,CTDSAL,CTDSAL_FLAG_W,SALNTY,SALNTY_FLAG_W,CTDOXY,CTDOXY_FLAG_W,OXYGEN,OXYGEN_FLAG_W,SILCAT,SILCAT_FLAG_W,NITRAT,NITRAT_FLAG_W,NITRIT,NITRIT_FLAG_W,PHSPHT,PHSPHT_FLAG_W,CFC-11,CFC-11_FLAG_W,CFC-12,CFC-12_FLAG_W,SF6,SF6_FLAG_W,TCARBN,TCARBN_FLAG_W,ALKALI,ALKALI_FLAG_W,PH_TOT,PH_TOT_FLAG_W,PH_TMP,PH_TMP_FLAG_W,DELC13,DELC13_FLAG_W,DELC14,DELC14_FLAG_W,DOC,DOC_FLAG_W,TDN,TDN_FLAG_W,N2O,N2O_FLAG_W,BTL_DATE,BTL_TIME,BTL_LAT,BTL_LON,REFTMP,REFTMP_FLAG_W,POC,POC_FLAG_W,PON,PON_FLAG_W,POP,POP_FLAG_W,PCOD,PCOD_FLAG_W,CTDFLUOR,CTDFLUOR_FLAG_W,CTDXMISS,CTDXMISS_FLAG_W,HPLC,HPLC_FLAG_W,DNA,DNA_FLAG_W,FCM,FCM_FLAG_W,IMAGES,IMAGES_FLAG_W,VIRAL_ABUNDANCE,VIRAL_ABUNDANCE_FLAG_W
,,,,,,,,,,,METERS,DBAR,,ITS-90,,PSS-78,,PSS-78,,UMOL/KG,,UMOL/KG,,UMOL/KG,,UMOL/KG,,UMOL/KG,,UMOL/KG,,PMOL/KG,,PMOL/KG,,FMOL/KG,,UMOL/KG,,UMOL/KG,,,,DEG C,,/MILLE,,/MILLE,,UMOL/KG,,UMOL/KG,,NMOL/KG,,,,,,ITS-90,,UG/L,,UG/L,,UG/L,,UG/L,,VOLTS,,VOLTS,,,,,,,,,,,
33RR20220613,       P02E,     139,          1,         36,         36,2,20220623,       2214,    29.9999,  -149.0879,       5663,     4.2,2,  23.9535,2,  35.2683,2,  35.2690,2,    215.3,2,   215.0,2,    0.00,2,    0.20,2,    0.00,2,    0.00,3,   1.688,2,   1.062,2,   1.7799,2,  2034.6,2,  2318.2,2,   8.0084,2,    25.04,2, -999.00,9,  -999.0,9, -999.00,9, -999.00,9,        6.9,2, 20220624,       49,  29.9999,-149.0879,    23.9529,2,     -999.0,9,     -999.0,9,     -999.0,9,     -999.0,9,     0.0130,1,     4.6369,1,     -999.0,9,     -999.0,9,     -999.0,9,     -999.0,9,     -999.0,9
33RR20220613,       P02E,     139,          1,         35,         35,2,20220623,       2214,    29.9999,  -149.0879,       5663,    20.8,2,  23.8580,2,  35.2819,2,  35.2830,2,    214.6,2,   214.9,2,    0.10,2,    0.12,2,    0.00,2,    0.00,3,   1.658,2,   1.056,2,   1.7833,2,  2036.1,6,  2319.8,2,   8.0091,2,    25.05,2, -999.00,9,  -999.0,9, -999.00,9, -999.00,9,        6.8,2, 20220624,       47,  29.9999,-149.0879,    23.8581,2,     -999.0,9,     -999.0,9,     -999.0,9,     -999.0,9,     0.0135,1,     4.6327,1,     -999.0,9,     -999.0,9,     -999.0,9,     -999.0,9,     -999.0,9
33RR20220613,       P02E,     139,          1,         34,         34,2,20220623,       2214,    29.9999,  -149.0879,       5663,    40.6,2,  21.7090,2,  35.1306,2,  35.1408,2,    232.2,2,   232.7,2,    0.59,2,    0.08,2,    0.00,2,    0.00,3,   1.905,2,   1.195,2,   1.9806,2,  2033.6,2,  2309.0,2,   8.0009,2,    25.03,2, -999.00,9,  -999.0,9, -999.00,9, -999.00,9,        7.5,2, 20220624,       45,  30.0000,-149.0879,    21.7229,2,     -999.0,9,     -999.0,9,     -999.0,9,     -999.0,9,     0.0135,1,     4.6232,1,     -999.0,9,     -999.0,9,     -999.0,9,     -999.0,9,     -999.0,9
33RR20220613,       P02E,     139,          1,         33,         33,2,20220623,       2214,    29.9999,  -149.0879,       5663,    67.1,2,  19.9547,2,  35.0109,2,  35.0128,2,    237.4,2,   237.1,2,    0.68,2,    0.03,2,    0.00,2,    0.00,3,   2.000,2,   1.239,2,   2.0680,2,  2032.6,2,  2301.5,2,   7.9895,2,    25.01,2, -999.00,9,  -999.0,9, -999.00,9, -999.00,9,        7.7,2, 20220624,       42,  29.9999,-149.0879,    19.9564,2,     -999.0,9,     -999.0,9,     -999.0,9,     -999.0,9,     0.0159,1,     4.6338,1,     -999.0,9,     -999.0,9,     -999.0,9,     -999.0,9,     -999.0,9
33RR20220613,       P02E,     139,          1,         32,         32,2,20220623,       2214,    29.9999,  -149.0879,       5663,    91.6,2,  19.2393,2,  34.9278,2,  34.9299,2,    235.5,2,   235.4,2,    0.78,2,    0.01,2,    0.00,2,    0.01,3,   2.107,2,   1.250,2,   1.9620,2,  2031.5,2,  2297.4,2,   7.9781,2,    25.04,2, -999.00,9,  -999.0,9, -999.00,9, -999.00,9,        7.9,2, 20220624,       39,  29.9999,-149.0879,    19.2372,2,     -999.0,9,     -999.0,9,     -999.0,9,     -999.0,9,     0.0195,1,     4.6409,1,     -999.0,9,     -999.0,9,     -999.0,9,     -999.0,9,     -999.0,9
33RR20220613,       P02E,     139,          1,         31,         31,2,20220623,       2214,    29.9999,  -149.0879,       5663,   137.0,2,  17.7108,2,  34.7280,2,  34.7223,2,    222.5,2,   222.6,2,    1.66,2,    0.24,2,    0.08,2,    0.08,3,   2.175,2,   1.354,2,   2.0827,2,  2046.6,2,  2282.3,6,   7.9323,2,    25.04,2, -999.00,9,  -999.0,9, -999.00,9, -999.00,9,        9.0,2, 20220624,       36,  29.9999,-149.0879,    17.7073,2,     -999.0,9,     -999.0,9,     -999.0,9,     -999.0,9,     0.0409,1,     4.6458,1,     -999.0,9,     -999.0,9,     -999.0,9,     -999.0,9,     -999.0,9
33RR20220613,       P02E,     139,          1,         30,         17,2,20220623,       2214,    29.9999,  -149.0879,       5663,   187.2,2,  14.5199,2,  34.3723,2,  34.3743,2,    212.6,2,   212.7,2,    4.79,2,    5.04,2,    0.00,2,    0.35,3,   2.539,2,   1.538,2,   2.1484,2,  2069.6,2,  2263.9,2,   7.8483,2,    25.03,2, -999.00,9,  -999.0,9, -999.00,9, -999.00,9,       11.6,2, 20220624,       34,  30.0000,-149.0879,    14.5226,2,     -999.0,9,     -999.0,9,     -999.0,9,     -999.0,9,     0.0171,1,     4.6800,1,     -999.0,9,     -999.0,9,     -999.0,9,     -999.0,9,     -999.0,9
33RR20220613,       P02E,     139,          1,         29,         29,2,20220623,       2214,    29.9999,  -149.0879,       5663,   237.4,2,  12.8508,2,  34.2705,2,  34.2701,2,    212.8,2,   212.8,2,    7.92,2,    8.69,2,    0.00,2,    0.55,3,   2.713,2,   1.634,2,   2.2314,2,  2085.4,2,  2260.0,2,   7.8087,2,    25.04,2, -999.00,9,  -999.0,9, -999.00,9, -999.00,9,       13.8,2, 20220624,       31,  29.9999,-149.0879,    12.8508,2,     -999.0,9,     -999.0,9,     -999.0,9,     -999.0,9,     0.0122,1,     4.6881,1,     -999.0,9,     -999.0,9,     -999.0,9,     -999.0,9,     -999.0,9
33RR20220613,       P02E,     139,          1,         28,         28,2,20220623,       2214,    29.9999,  -149.0879,       5663,   287.7,2,  11.7383,2,  34.2009,2,  34.1983,2,    210.9,2,   210.8,2,   11.24,2,   11.40,2,    0.00,2,    0.71,3,   2.847,2,   1.704,2,   1.9522,2,  2101.4,2,  2258.9,2,   7.7747,2,    24.93,2, -999.00,9,  -999.0,9, -999.00,9, -999.00,9,       15.5,2, 20220624,       29,  29.9999,-149.0879,    11.7387,2,     -999.0,9,     -999.0,9,     -999.0,9,     -999.0,9,     0.0122,1,     4.6897,1,     -999.0,9,     -999.0,9,     -999.0,9,     -999.0,9,     -999.0,9
33RR20220613,       P02E,     139,          1,         27,         27,2,20220623,       2214,    29.9999,  -149.0879,       5663,   338.0,2,  10.7449,2,  34.1504,2,  34.1522,2,    209.7,2,   210.2,2,   14.76,2,   13.49,2,    0.00,2,    0.85,3,   2.963,2,   1.749,2,   1.9484,2,  -999.0,9,  -999.0,9,-999.0000,9,  -999.00,9, -999.00,9,  -999.0,9, -999.00,9, -999.00,9,       17.4,2, 20220624,       27,  29.9999,-149.0879,    10.7401,2,     -999.0,9,     -999.0,9,     -999.0,9,     -999.0,9,     0.0122,1,     4.6912,1,     -999.0,9,     -999.0,9,     -999.0,9,     -999.0,9,     -999.0,9
33RR20220613,       P02E,     139,          1,         26,         26,2,20220623,       2214,    29.9999,  -149.0879,       5663,   387.9,2,   9.7645,2,  34.0853,2,  34.0868,2,    203.6,2,   203.7,2,   19.36,2,   15.98,2,    0.00,2,    1.01,3,   3.024,2,   1.792,2,   1.8064,2,  2127.5,2,  2263.1,2,   7.7106,2,    25.02,2, -999.00,9,  -999.0,9, -999.00,9, -999.00,9,       19.6,2, 20220624,       24,  29.9999,-149.0879,     9.7532,2,     -999.0,9,     -999.0,9,     -999.0,9,     -999.0,9,     0.0122,1,     4.6934,1,     -999.0,9,     -999.0,9,     -999.0,9,     -999.0,9,     -999.0,9
33RR20220613,       P02E,     139,          1,         25,         25,2,20220623,       2214,    29.9999,  -149.0879,       5663,   468.1,2,   7.9665,2,  34.0194,2,  34.0198,2,    161.5,3,   158.5,2,   36.27,2,   23.85,2,    0.00,2,    1.53,3,   2.806,2,   1.656,2,   1.1721,2,  2181.4,2,  2270.9,2,   7.5894,2,    25.05,2, -999.00,9,  -999.0,9, -999.00,9, -999.00,9,       26.1,2, 20220624,       20,  29.9999,-149.0879,     7.9341,3,     -999.0,9,     -999.0,9,     -999.0,9,     -999.0,9,     0.0122,1,     4.6958,1,     -999.0,9,     -999.0,9,     -999.0,9,     -999.0,9,     -999.0,9
33RR20220613,       P02E,     139,          1,         24,         24,2,20220623,       2214,    29.9999,  -149.0879,       5663,   568.8,2,   5.9556,2,  33.9973,2,  33.9921,2,    100.9,3,   106.8,2,   60.12,2,   31.93,2,    0.00,2,    2.14,3,   2.195,2,   1.260,2,   0.6663,2,  -999.0,9,  -999.0,9,-999.0000,9,  -999.00,9, -999.00,9,  -999.0,9, -999.00,9, -999.00,9,       33.4,2, 20220624,       16,  29.9999,-149.0878,     5.9678,2,     -999.0,9,     -999.0,9,     -999.0,9,     -999.0,9,     0.0134,1,     4.6963,1,     -999.0,9,     -999.0,9,     -999.0,9,     -999.0,9,     -999.0,9
33RR20220613,       P02E,     139,          1,         23,         23,2,20220623,       2214,    29.9999,  -149.0879,       5663,   670.4,2,   4.9790,2,  34.0426,2,  34.0448,2,     65.8,3,    64.7,2,   80.94,2,   37.64,2,    0.00,2,    2.54,3,   1.432,2,   0.797,2,   0.4057,2,  2290.2,2,  2306.0,2,   7.3642,2,    25.04,2, -999.00,9,  -999.0,9, -999.00,9, -999.00,9,       40.4,2, 20220624,       14,  30.0000,-149.0879,     4.9766,2,     -999.0,9,     -999.0,9,     -999.0,9,     -999.0,9,     0.0134,1,     4.6971,1,     -999.0,9,     -999.0,9,     -999.0,9,     -999.0,9,     -999.0,9
33RR20220613,       P02E,     139,          1,         22,         22,2,20220623,       2214,    29.9999,  -149.0879,       5663,   771.9,2,   4.3411,2,  34.1581,2,  34.1568,2,     29.3,2,    29.5,2,  100.59,2,   41.43,2,    0.00,2,    2.87,4,   0.538,2,   0.293,2,   0.0990,2,  -999.0,9,  -999.0,9,-999.0000,9,  -999.00,9, -999.00,9,  -999.0,9, -999.00,9, -999.00,9,       48.2,2, 20220624,       11,  29.9999,-149.0878,     4.3431,2,     -999.0,9,     -999.0,9,     -999.0,9,     -999.0,9,     0.0134,1,     4.6971,1,     -999.0,9,     -999.0,9,     -999.0,9,     -999.0,9,     -999.0,9
33RR20220613,       P02E,     139,          1,         21,         21,2,20220623,       2214,    29.9999,  -149.0879,       5663,   873.0,2,   4.0170,2,  34.2655,2,  34.2670,2,     13.7,3,    13.4,2,  114.07,2,   43.09,2,    0.00,2,    3.04,4,   0.120,2,   0.074,2,   0.0000,2,  2354.1,2,  2346.9,2,   7.2951,2,    25.03,2, -999.00,9,  -999.0,9, -999.00,9, -999.00,9,       53.7,2, 20220624,        8,  30.0000,-149.0878,     4.0178,2,     -999.0,9,     -999.0,9,     -999.0,9,     -999.0,9,     0.0134,1,     4.6977,1,     -999.0,9,     -999.0,9,     -999.0,9,     -999.0,9,     -999.0,9
33RR20220613,       P02E,     139,          1,         20,         20,2,20220623,       2214,    29.9999,  -149.0879,       5663,   973.7,2,   3.7819,2,  34.3518,2,  34.3592,2,     12.0,3,    11.4,2,  122.17,2,   43.57,2,    0.00,2,    3.12,4,   0.028,2,   0.019,2,   0.0000,2,  2365.5,2,  2361.8,2,   7.3028,2,    25.03,2, -999.00,9,  -999.0,9, -999.00,9, -999.00,9,       56.2,2, 20220624,        5,  29.9999,-149.0879,     3.7816,2,     -999.0,9,     -999.0,9,     -999.0,9,     -999.0,9,     0.0134,1,     4.6971,1,     -999.0,9,     -999.0,9,     -999.0,9,     -999.0,9,     -999.0,9
33RR20220613,       P02E,     139,          1,         19,         39,2,20220623,       2214,    29.9999,  -149.0879,       5663,  1074.8,2,   3.5480,2,  34.4205,2,  34.4198,2,     17.5,3,    17.2,2,  128.32,2,   43.60,2,    0.00,2,    3.14,4,   0.014,2,   0.011,2,   0.0000,2,  2370.2,2,  2372.2,2,   7.3183,2,    25.00,2, -999.00,9,  -999.0,9, -999.00,9, -999.00,9,       53.4,2, 20220624,        1,  29.9999,-149.0878,     3.5465,2,     -999.0,9,     -999.0,9,     -999.0,9,     -999.0,9,     0.0134,1,     4.6974,1,     -999.0,9,     -999.0,9,     -999.0,9,     -999.0,9,     -999.0,9
33RR20220613,       P02E,     139,          1,         18,         18,2,20220623,       2214,    29.9999,  -149.0879,       5663,  1176.5,2,   3.3095,2,  34.4716,2,  34.4730,2,     26.8,3,    27.5,2,  134.18,2,   43.33,2,    0.00,2,    3.14,4,   0.007,2,   0.008,2,   0.0000,2,  -999.0,9,  -999.0,9,-999.0000,9,  -999.00,9, -999.00,9,  -999.0,9, -999.00,9, -999.00,9,       48.3,2, 20220623,     2358,  29.9999,-149.0878,     3.3102,2,     -999.0,9,     -999.0,9,     -999.0,9,     -999.0,9,     0.0134,1,     4.6982,1,     -999.0,9,     -999.0,9,     -999.0,9,     -999.0,9,     -999.0,9
33RR20220613,       P02E,     139,          1,         17,         37,2,20220623,       2214,    29.9999,  -149.0879,       5663,  1276.0,2,   3.0896,2,  34.5059,2,  34.5064,2,     35.9,2,    36.2,2,  138.58,2,   42.92,2,    0.00,2,    3.12,4,   0.005,2,   0.006,2,   0.0000,2,  2371.6,2,  2390.6,2,   7.3638,2,    24.96,2, -999.00,9,  -999.0,9, -999.00,9, -999.00,9,       45.5,2, 20220623,     2355,  29.9999,-149.0879,     3.0898,2,     -999.0,9,     -999.0,9,     -999.0,9,     -999.0,9,     0.0134,1,     4.6990,1,     -999.0,9,     -999.0,9,     -999.0,9,     -999.0,9,     -999.0,9
33RR20220613,       P02E,     139,          1,         16,         16,2,20220623,       2214,    29.9999,  -149.0879,       5663,  1377.6,2,   2.9008,2,  34.5287,2,  34.5288,2,     45.1,2,    45.2,2,  141.99,2,   42.55,2,    0.00,2,    3.10,4,   0.005,2,   0.007,2,   0.0000,2,  -999.0,9,  -999.0,9,-999.0000,9,  -999.00,9, -999.00,9,  -999.0,9, -999.00,9, -999.00,9,       43.2,2, 20220623,     2352,  29.9999,-149.0878,     2.9007,2,     -999.0,9,     -999.0,9,     -999.0,9,     -999.0,9,     0.0134,1,     4.6993,1,     -999.0,9,     -999.0,9,     -999.0,9,     -999.0,9,     -999.0,9
33RR20220613,       P02E,     139,          1,         15,         15,2,20220623,       2214,    29.9999,  -149.0879,       5663,  1550.5,2,   2.5760,2,  34.5625,2,  34.5626,2,     57.3,2,    57.2,2,  149.32,2,   41.85,2,    0.00,2,    3.09,4,   0.006,2,   0.004,2,   0.0000,2,  2370.4,2,  2405.1,2,   7.4059,2,    25.01,2, -999.00,9,  -999.0,9, -999.00,9, -999.00,9,       38.3,2, 20220623,     2347,  29.9999,-149.0879,     2.5768,2,     -999.0,9,     -999.0,9,     -999.0,9,     -999.0,9,     0.0123,1,     4.6998,1,     -999.0,9,     -999.0,9,     -999.0,9,     -999.0,9,     -999.0,9
33RR20220613,       P02E,     139,          1,         14,         14,2,20220623,       2214,    29.9999,  -149.0879,       5663,  1753.6,2,   2.3116,2,  34.5875,2,  34.5883,2,     68.1,2,    68.2,2,  156.06,2,   41.17,2,    0.00,2,    3.08,4,   0.006,2,   0.005,2,   0.0000,2,  -999.0,9,  -999.0,9,-999.0000,9,  -999.00,9, -999.00,9,  -999.0,9, -999.00,9, -999.00,9,       33.9,2, 20220623,     2342,  29.9999,-149.0879,     2.3108,2,     -999.0,9,     -999.0,9,     -999.0,9,     -999.0,9,     0.0134,1,     4.7008,1,     -999.0,9,     -999.0,9,     -999.0,9,     -999.0,9,     -999.0,9
33RR20220613,       P02E,     139,          1,         13,         13,2,20220623,       2214,    29.9999,  -149.0879,       5663,  1957.3,2,   2.0939,2,  34.6075,2,  34.6087,2,     76.1,2,    76.4,2,  162.41,2,   40.84,2,    0.00,2,    3.08,4,   0.004,2,   0.003,2,   0.0000,2,  2371.3,2,  2416.8,2,   7.4419,2,    25.00,2, -999.00,9,  -999.0,9, -999.00,9, -999.00,9,       31.7,2, 20220623,     2337,  29.9999,-149.0879,     2.0939,2,     -999.0,9,     -999.0,9,     -999.0,9,     -999.0,9,     0.0127,1,     4.7007,1,     -999.0,9,     -999.0,9,     -999.0,9,     -999.0,9,     -999.0,9
33RR20220613,       P02E,     139,          1,         12,         12,2,20220623,       2214,    29.9999,  -149.0879,       5663,  2190.7,2,   1.9180,2,  34.6246,2,  34.6248,2,     84.2,2,    84.3,2,  167.29,2,   40.31,2,    0.00,2,    3.09,4,   0.005,2,   0.004,2,   0.0000,2,  -999.0,9,  -999.0,9,-999.0000,9,  -999.00,9, -999.00,9,  -999.0,9, -999.00,9, -999.00,9,       30.4,2, 20220623,     2331,  29.9999,-149.0879,     1.9180,2,     -999.0,9,     -999.0,9,     -999.0,9,     -999.0,9,     0.0134,1,     4.7013,1,     -999.0,9,     -999.0,9,     -999.0,9,     -999.0,9,     -999.0,9
33RR20220613,       P02E,     139,          1,         11,         11,2,20220623,       2214,    29.9999,  -149.0879,       5663,  2443.6,2,   1.7512,2,  34.6417,2,  34.6417,2,     95.5,2,    95.5,2,  171.20,2,   39.58,2,    0.00,2,    3.06,4,   0.006,2,   0.003,2,   0.0000,2,  2367.1,2,  2425.6,2,   7.4814,2,    24.91,2, -999.00,9,  -999.0,9, -999.00,9, -999.00,9,       27.3,2, 20220623,     2326,  29.9999,-149.0879,     1.7503,2,     -999.0,9,     -999.0,9,     -999.0,9,     -999.0,9,     0.0127,1,     4.7020,1,     -999.0,9,     -999.0,9,     -999.0,9,     -999.0,9,     -999.0,9
33RR20220613,       P02E,     139,          1,         10,         10,2,20220623,       2214,    29.9999,  -149.0879,       5663,  2700.3,2,   1.6477,2,  34.6536,2,  34.6545,2,    106.6,2,   106.7,2,  170.71,2,   38.92,2,    0.00,2,    3.01,4,   0.004,2,   0.001,2,   0.0000,2,  -999.0,9,  -999.0,9,-999.0000,9,  -999.00,9, -999.00,9,  -999.0,9, -999.00,9, -999.00,9,       25.8,2, 20220623,     2319,  29.9999,-149.0878,     1.6471,2,     -999.0,9,     -999.0,9,     -999.0,9,     -999.0,9,     0.0122,1,     4.7031,1,     -999.0,9,     -999.0,9,     -999.0,9,     -999.0,9,     -999.0,9
33RR20220613,       P02E,     139,          1,          9,          9,2,20220623,       2214,    29.9999,  -149.0879,       5663,  2955.5,2,   1.5652,2,  34.6629,2,  34.6627,2,    115.8,2,   115.6,2,  170.41,2,   38.36,2,    0.00,2,    2.97,4,   0.004,2,   0.004,2,   0.0000,2,  2355.1,2,  2428.1,2,   7.5167,2,    25.03,2, -999.00,9,  -999.0,9, -999.00,9, -999.00,9,       24.7,2, 20220623,     2314,  29.9999,-149.0878,     1.5652,2,     -999.0,9,     -999.0,9,     -999.0,9,     -999.0,9,     0.0125,1,     4.7032,1,     -999.0,9,     -999.0,9,     -999.0,9,     -999.0,9,     -999.0,9
33RR20220613,       P02E,     139,          1,          8,          8,2,20220623,       2214,    29.9999,  -149.0879,       5663,  3245.5,2,   1.4999,2,  34.6721,2,  34.6724,2,    127.9,2,   128.2,2,  166.21,2,   37.61,2,    0.00,2,    2.89,4,   0.004,2,   0.000,2,   0.0000,2,  -999.0,9,  -999.0,9,-999.0000,9,  -999.00,9, -999.00,9,  -999.0,9, -999.00,9, -999.00,9,       25.3,2, 20220623,     2307,  29.9999,-149.0879,     1.4999,2,     -999.0,9,     -999.0,9,     -999.0,9,     -999.0,9,     0.0130,1,     4.7032,1,     -999.0,9,     -999.0,9,     -999.0,9,     -999.0,9,     -999.0,9
33RR20220613,       P02E,     139,          1,          7,          7,2,20220623,       2214,    29.9999,  -149.0879,       5663,  3619.9,2,   1.4656,2,  34.6802,2,  34.6800,2,    139.6,2,   139.5,2,  162.11,2,   36.86,2,    0.00,2,    2.83,4,   0.004,2,   0.003,2,   0.0000,2,  2338.9,2,  2428.0,2,   7.5598,2,    25.02,2, -999.00,9,  -999.0,9, -999.00,9, -999.00,9,       23.1,2, 20220623,     2259,  29.9999,-149.0879,     1.4655,2,     -999.0,9,     -999.0,9,     -999.0,9,     -999.0,9,     0.0122,1,     4.7043,1,     -999.0,9,     -999.0,9,     -999.0,9,     -999.0,9,     -999.0,9
33RR20220613,       P02E,     139,          1,          6,          6,2,20220623,       2214,    29.9999,  -149.0879,       5663,  4029.0,2,   1.4665,2,  34.6845,2,  34.6844,2,    146.8,2,   146.8,2,  157.61,2,   36.41,2,    0.00,2,    2.78,4,-999.000,9,-999.000,9,-999.0000,9,  -999.0,9,  -999.0,9,-999.0000,9,  -999.00,9, -999.00,9,  -999.0,9, -999.00,9, -999.00,9,     -999.0,9, 20220623,     2251,  30.0000,-149.0879,     1.4664,2,     -999.0,9,     -999.0,9,     -999.0,9,     -999.0,9,     0.0122,1,     4.7043,1,     -999.0,9,     -999.0,9,     -999.0,9,     -999.0,9,     -999.0,9
33RR20220613,       P02E,     139,          1,          5,          5,2,20220623,       2214,    29.9999,  -149.0879,       5663,  4439.6,2,   1.4825,2,  34.6875,2,  34.6877,2,    152.3,2,   152.7,2,  154.09,2,   36.00,2,    0.00,2,    2.73,4,   0.005,2,   0.005,2,   0.0000,2,  2329.0,2,  2425.0,2,   7.5786,2,    25.02,2, -999.00,9,  -999.0,9, -999.00,9, -999.00,9,       21.2,2, 20220623,     2243,  29.9999,-149.0878,     1.4826,2,     -999.0,9,     -999.0,9,     -999.0,9,     -999.0,9,     0.0128,1,     4.7044,1,     -999.0,9,     -999.0,9,     -999.0,9,     -999.0,9,     -999.0,9