BOTTLE,20230830CCHSIOCBG
EXPOCODE,SECT_ID,STNNBR,CASTNO,SAMPNO,BTLNBR,BTLNBR_FLAG_W,DATE,TIME,LATITUDE,LONGITUDE,DEPTH,CTDPRS,CTDPRS_FLAG_W,CTDTMP,CTDTMP_FLAG_W,CTDSAL,CTDSAL_FLAG_W,SALNTY,SALNTY_FLAG_W,CTDOXY,CTDOXY_FLAG_W,OXYGEN,OXYGEN_FLAG_W,SILCAT,SILCAT_FLAG_W,NITRAT,NITRAT_FLAG_W,NITRIT,NITRIT_FLAG_W,PHSPHT,PHSPHT_FLAG_W,CFC-11,CFC-11_FLAG_W,CFC-12,CFC-12_FLAG_W,SF6,SF6_FLAG_W,TCARBN,TCARBN_FLAG_W,ALKALI,ALKALI_FLAG_W,PH_TOT,PH_TOT_FLAG_W,PH_TMP,PH_TMP_FLAG_W,DELC13,DELC13_FLAG_W,DELC14,DELC14_FLAG_W,DOC,DOC_FLAG_W,TDN,TDN_FLAG_W,N2O,N2O_FLAG_W,BTL_DATE,BTL_TIME,BTL_LAT,BTL_LON,REFTMP,REFTMP_FLAG_W,POC,POC_FLAG_W,PON,PON_FLAG_W,POP,POP_FLAG_W,PCOD,PCOD_FLAG_W,CTDFLUOR,CTDFLUOR_FLAG_W,CTDXMISS,CTDXMISS_FLAG_W,HPLC,HPLC_FLAG_W,DNA,DNA_FLAG_W,FCM,FCM_FLAG_W,IMAGES,IMAGES_FLAG_W,VIRAL_ABUNDANCE,VIRAL_ABUNDANCE_FLAG_W
,,,,,,,,,,,METERS,DBAR,,ITS-90,,PSS-78,,PSS-78,,UMOL/KG,,UMOL/KG,,UMOL/KG,,UMOL/KG,,UMOL/KG,,UMOL/KG,,PMOL/KG,,PMOL/KG,,FMOL/KG,,UMOL/KG,,UMOL/KG,,,,DEG C,,/MILLE,,/MILLE,,UMOL/KG,,UMOL/KG,,NMOL/KG,,,,,,ITS-90,,UG/L,,UG/L,,UG/L,,UG/L,,VOLTS,,VOLTS,,,,,,,,,,,
33RR20220613,       P02E,     160,          1,          4,          4,2,20220630,       0434,    29.9998,  -136.9629,       3734,  3180.1,2,   1.5095,2,  34.6728,2,  34.6710,2,    126.0,2,   126.2,2,  167.15,2,   37.89,2,    0.00,2,    2.70,2,-999.000,9,-999.000,9,-999.0000,9,  -999.0,9,  -999.0,9,-999.0000,9,  -999.00,9, -999.00,9,  -999.0,9, -999.00,1, -999.00,1,     -999.0,9, 20220630,      446,  29.9998,-136.9629,     1.5104,2,     -999.0,9,     -999.0,9,     -999.0,9,     -999.0,9,     0.0122,1,     4.7014,1,     -999.0,9,     -999.0,9,     -999.0,9,     -999.0,9,     -999.0,9
33RR20220613,       P02E,     160,          1,          3,          3,2,20220630,       0434,    29.9998,  -136.9629,       3734,  3405.5,2,   1.4892,2,  34.6772,2,  34.6779,2,    132.0,2,   132.1,2,  165.20,2,   37.51,2,    0.00,2,    2.63,2,   0.004,2,   0.004,2,   0.0000,2,  2345.6,2,  2429.0,2,   7.5478,2,    25.01,2, -999.00,9,  -999.0,9, -999.00,1, -999.00,1,       23.0,2, 20220630,      442,  29.9999,-136.9628,     1.4893,2,     -999.0,9,     -999.0,9,     -999.0,9,     -999.0,9,     0.0122,1,     4.7016,1,     -999.0,9,     -999.0,9,     -999.0,9,     -999.0,9,     -999.0,9
33RR20220613,       P02E,     160,          1,          2,          2,2,20220630,       0434,    29.9998,  -136.9629,       3734,  3628.9,2,   1.4810,2,  34.6808,2,  34.6794,2,    137.1,2,   137.3,2,  163.83,2,   37.18,2,    0.00,2,    2.60,2,   0.004,2,   0.004,2,   0.0000,2,  2338.6,2,  2428.4,6,   7.5568,2,    25.01,2, -999.00,9,  -999.0,9, -999.00,1, -999.00,1,       22.8,2, 20220630,      437,  29.9998,-136.9629,     1.4810,2,     -999.0,9,     -999.0,9,     -999.0,9,     -999.0,9,     0.0122,1,     4.7017,1,     -999.0,9,     -999.0,9,     -999.0,9,     -999.0,9,     -999.0,9
33RR20220613,       P02E,     160,          1,          1,          1,2,20220630,       0434,    29.9998,  -136.9629,       3734,  3782.0,2,   1.4832,2,  34.6825,2,  34.6806,2,    139.3,2,   139.3,2,  162.56,2,   37.12,2,    0.00,2,    2.58,2,   0.006,2,   0.006,2,   0.0000,2,  2340.8,6,  2428.2,2,   7.5616,2,    25.01,2, -999.00,9,  -999.0,9, -999.00,1, -999.00,1,       22.7,2, 20220630,      434,  29.9998,-136.9628,     1.4828,2,     -999.0,9,     -999.0,9,     -999.0,9,     -999.0,9,     0.0125,1,     4.7008,1,     -999.0,9,     -999.0,9,     -999.0,9,     -999.0,9,     -999.0,9
33RR20220613,       P02E,     161,          1,         11,         11,2,20220630,       0939,    29.9998,  -136.3864,       4476,     4.6,2,  21.4044,2,  34.3259,2,-999.0000,9,    225.9,2,  -999.0,9, -999.00,9, -999.00,9, -999.00,9, -999.00,9,-999.000,9,-999.000,9,-999.0000,9,  -999.0,9,  -999.0,9,-999.0000,9,  -999.00,9, -999.00,9,  -999.0,9, -999.00,9, -999.00,9,     -999.0,9, 20220630,     1007,  29.9998,-136.3864,    21.4042,2,     -999.0,1,     -999.0,1,     -999.0,9,     -999.0,9,     0.0135,1,     4.6302,1,     -999.0,9,     -999.0,9,     -999.0,9,     -999.0,9,     -999.0,9
33RR20220613,       P02E,     161,          1,         15,         15,2,20220630,       0939,    29.9998,  -136.3864,       4476,     4.9,2,  21.4082,2,  34.3258,2,-999.0000,9,    225.9,2,  -999.0,9, -999.00,9, -999.00,9, -999.00,9, -999.00,9,-999.000,9,-999.000,9,-999.0000,9,  -999.0,9,  -999.0,9,-999.0000,9,  -999.00,9, -999.00,9,  -999.0,9, -999.00,9, -999.00,9,     -999.0,9, 20220630,     1008,  29.9998,-136.3864,     -999.0,9,     -999.0,9,     -999.0,9,     -999.0,1,     -999.0,9,     0.0134,1,     4.6298,1,     -999.0,9,     -999.0,9,     -999.0,9,     -999.0,9,     -999.0,9
33RR20220613,       P02E,     161,          1,         18,         18,2,20220630,       0939,    29.9998,  -136.3864,       4476,     5.0,2,  21.4072,2,  34.3258,2,-999.0000,9,    225.9,2,  -999.0,9, -999.00,9, -999.00,9, -999.00,9, -999.00,9,-999.000,9,-999.000,9,-999.0000,9,  -999.0,9,  -999.0,9,-999.0000,9,  -999.00,9, -999.00,9,  -999.0,9, -999.00,9, -999.00,9,     -999.0,9, 20220630,     1009,  29.9998,-136.3864,    21.4068,2,     -999.0,9,     -999.0,9,     -999.0,9,     -999.0,1,     0.0134,1,     4.6291,1,     -999.0,9,     -999.0,9,     -999.0,9,     -999.0,9,     -999.0,9
33RR20220613,       P02E,     161,          1,          9,          9,2,20220630,       0939,    29.9998,  -136.3864,       4476,     5.0,2,  21.4053,2,  34.3259,2,-999.0000,9,    226.0,2,  -999.0,9, -999.00,9, -999.00,9, -999.00,9, -999.00,9,-999.000,9,-999.000,9,-999.0000,9,  -999.0,9,  -999.0,9,-999.0000,9,  -999.00,9, -999.00,9,  -999.0,9, -999.00,9, -999.00,9,     -999.0,9, 20220630,     1007,  29.9998,-136.3864,    21.4052,2,     -999.0,9,     -999.0,9,     -999.0,9,     -999.0,9,     0.0134,1,     4.6306,1,     -999.0,1,     -999.0,9,     -999.0,1,     -999.0,9,     -999.0,9
33RR20220613,       P02E,     161,          1,         20,         20,2,20220630,       0939,    29.9998,  -136.3864,       4476,     5.0,2,  21.4073,2,  34.3258,2,-999.0000,9,    226.1,2,  -999.0,9, -999.00,9, -999.00,9, -999.00,9, -999.00,9,-999.000,9,-999.000,9,-999.0000,9,  -999.0,9,  -999.0,9,-999.0000,9,  -999.00,9, -999.00,9,  -999.0,9, -999.00,9, -999.00,9,     -999.0,9, 20220630,     1009,  29.9998,-136.3864,    21.4067,2,     -999.0,9,     -999.0,9,     -999.0,9,     -999.0,9,     0.0134,1,     4.6285,1,     -999.0,9,     -999.0,9,     -999.0,9,     -999.0,9,     -999.0,9
33RR20220613,       P02E,     161,          1,         19,         39,2,20220630,       0939,    29.9998,  -136.3864,       4476,     5.1,2,  21.4077,2,  34.3259,2,-999.0000,9,    226.0,2,  -999.0,9, -999.00,9, -999.00,9, -999.00,9, -999.00,9,-999.000,9,-999.000,9,-999.0000,9,  -999.0,9,  -999.0,9,-999.0000,9,  -999.00,9, -999.00,9,  -999.0,9, -999.00,9, -999.00,9,     -999.0,9, 20220630,     1009,  29.9998,-136.3864,     -999.0,9,     -999.0,9,     -999.0,9,     -999.0,9,     -999.0,1,     0.0134,1,     4.6299,1,     -999.0,9,     -999.0,9,     -999.0,9,     -999.0,9,     -999.0,9
33RR20220613,       P02E,     161,          1,         12,         12,2,20220630,       0939,    29.9998,  -136.3864,       4476,     5.1,2,  21.4066,2,  34.3257,2,-999.0000,9,    225.9,2,  -999.0,9, -999.00,9, -999.00,9, -999.00,9, -999.00,9,-999.000,9,-999.000,9,-999.0000,9,  -999.0,9,  -999.0,9,-999.0000,9,  -999.00,9, -999.00,9,  -999.0,9, -999.00,9, -999.00,9,     -999.0,9, 20220630,     1008,  29.9998,-136.3864,    21.4041,2,     -999.0,1,     -999.0,1,     -999.0,9,     -999.0,9,     0.0139,1,     4.6297,1,     -999.0,9,     -999.0,9,     -999.0,9,     -999.0,9,     -999.0,9
33RR20220613,       P02E,     161,          1,         21,         21,2,20220630,       0939,    29.9998,  -136.3864,       4476,     5.1,2,  21.4075,2,  34.3260,2,-999.0000,9,    226.0,2,  -999.0,9, -999.00,9, -999.00,9, -999.00,9, -999.00,9,-999.000,9,-999.000,9,-999.0000,9,  -999.0,9,  -999.0,9,-999.0000,9,  -999.00,9, -999.00,9,  -999.0,9, -999.00,9, -999.00,9,     -999.0,9, 20220630,     1009,  29.9998,-136.3864,     -999.0,9,     -999.0,9,     -999.0,9,     -999.0,9,     -999.0,9,     0.0134,1,     4.6290,1,     -999.0,9,     -999.0,9,     -999.0,9,     -999.0,9,     -999.0,1
33RR20220613,       P02E,     161,          1,         14,         42,2,20220630,       0939,    29.9998,  -136.3864,       4476,     5.2,2,  21.4066,2,  34.3256,2,-999.0000,9,    225.9,2,  -999.0,9, -999.00,9, -999.00,9, -999.00,9, -999.00,9,-999.000,9,-999.000,9,-999.0000,9,  -999.0,9,  -999.0,9,-999.0000,9,  -999.00,9, -999.00,9,  -999.0,9, -999.00,9, -999.00,9,     -999.0,9, 20220630,     1008,  29.9998,-136.3864,    21.4069,2,     -999.0,9,     -999.0,9,     -999.0,1,     -999.0,9,     0.0134,1,     4.6305,1,     -999.0,9,     -999.0,9,     -999.0,9,     -999.0,9,     -999.0,9
33RR20220613,       P02E,     161,          1,         13,         13,2,20220630,       0939,    29.9998,  -136.3864,       4476,     5.3,2,  21.4056,2,  34.3258,2,-999.0000,9,    225.8,2,  -999.0,9, -999.00,9, -999.00,9, -999.00,9, -999.00,9,-999.000,9,-999.000,9,-999.0000,9,  -999.0,9,  -999.0,9,-999.0000,9,  -999.00,9, -999.00,9,  -999.0,9, -999.00,9, -999.00,9,     -999.0,9, 20220630,     1008,  29.9998,-136.3864,     -999.0,9,     -999.0,1,     -999.0,1,     -999.0,9,     -999.0,9,     0.0134,1,     4.6296,1,     -999.0,9,     -999.0,9,     -999.0,9,     -999.0,9,     -999.0,9
33RR20220613,       P02E,     161,          1,         16,         16,2,20220630,       0939,    29.9998,  -136.3864,       4476,     5.3,2,  21.4064,2,  34.3259,2,-999.0000,9,    226.0,2,  -999.0,9, -999.00,9, -999.00,9, -999.00,9, -999.00,9,-999.000,9,-999.000,9,-999.0000,9,  -999.0,9,  -999.0,9,-999.0000,9,  -999.00,9, -999.00,9,  -999.0,9, -999.00,9, -999.00,9,     -999.0,9, 20220630,     1008,  29.9998,-136.3864,    21.4067,2,     -999.0,9,     -999.0,9,     -999.0,1,     -999.0,9,     0.0134,1,     4.6298,1,     -999.0,9,     -999.0,9,     -999.0,9,     -999.0,9,     -999.0,9
33RR20220613,       P02E,     161,          1,         17,         37,2,20220630,       0939,    29.9998,  -136.3864,       4476,     5.3,2,  21.4081,2,  34.3256,2,-999.0000,9,    226.3,2,  -999.0,9, -999.00,9, -999.00,9, -999.00,9, -999.00,9,-999.000,9,-999.000,9,-999.0000,9,  -999.0,9,  -999.0,9,-999.0000,9,  -999.00,9, -999.00,9,  -999.0,9, -999.00,9, -999.00,9,     -999.0,9, 20220630,     1009,  29.9998,-136.3864,     -999.0,9,     -999.0,9,     -999.0,9,     -999.0,9,     -999.0,1,     0.0134,1,     4.6289,1,     -999.0,9,     -999.0,9,     -999.0,9,     -999.0,9,     -999.0,9
33RR20220613,       P02E,     161,          1,         10,         10,2,20220630,       0939,    29.9998,  -136.3864,       4476,     5.3,2,  21.4068,2,  34.3257,2,-999.0000,9,    225.8,2,  -999.0,9, -999.00,9, -999.00,9, -999.00,9, -999.00,9,-999.000,9,-999.000,9,-999.0000,9,  -999.0,9,  -999.0,9,-999.0000,9,  -999.00,9, -999.00,9,  -999.0,9, -999.00,9, -999.00,9,     -999.0,9, 20220630,     1007,  29.9998,-136.3864,     -999.0,9,     -999.0,9,     -999.0,9,     -999.0,9,     -999.0,9,     0.0134,1,     4.6302,1,     -999.0,9,     -999.0,1,     -999.0,9,     -999.0,9,     -999.0,9
33RR20220613,       P02E,     161,          1,          8,          8,2,20220630,       0939,    29.9998,  -136.3864,       4476,    40.9,2,  20.5010,2,  34.1685,2,-999.0000,9,    232.4,2,  -999.0,9, -999.00,9, -999.00,9, -999.00,9, -999.00,9,-999.000,9,-999.000,9,-999.0000,9,  -999.0,9,  -999.0,9,-999.0000,9,  -999.00,9, -999.00,9,  -999.0,9, -999.00,9, -999.00,9,     -999.0,9, 20220630,     1005,  29.9998,-136.3864,    20.4827,2,     -999.0,9,     -999.0,9,     -999.0,9,     -999.0,9,     0.0142,1,     4.6366,1,     -999.0,1,     -999.0,9,     -999.0,1,     -999.0,9,     -999.0,9
33RR20220613,       P02E,     161,          1,          7,          7,2,20220630,       0939,    29.9998,  -136.3864,       4476,    77.1,2,  18.3881,2,  34.1868,2,-999.0000,9,    242.6,2,  -999.0,9, -999.00,9, -999.00,9, -999.00,9, -999.00,9,-999.000,9,-999.000,9,-999.0000,9,  -999.0,9,  -999.0,9,-999.0000,9,  -999.00,9, -999.00,9,  -999.0,9, -999.00,9, -999.00,9,     -999.0,9, 20220630,     1003,  29.9998,-136.3864,    18.3617,2,     -999.0,9,     -999.0,9,     -999.0,9,     -999.0,9,     0.0168,1,     4.6464,1,     -999.0,9,     -999.0,9,     -999.0,1,     -999.0,9,     -999.0,9
33RR20220613,       P02E,     161,          1,          5,          5,2,20220630,       0939,    29.9998,  -136.3864,       4476,   101.6,2,  17.7259,2,  34.1218,2,-999.0000,9,    238.1,2,  -999.0,9, -999.00,9, -999.00,9, -999.00,9, -999.00,9,-999.000,9,-999.000,9,-999.0000,9,  -999.0,9,  -999.0,9,-999.0000,9,  -999.00,9, -999.00,9,  -999.0,9, -999.00,9, -999.00,9,     -999.0,9, 20220630,     1001,  29.9998,-136.3864,    17.7471,2,     -999.0,9,     -999.0,9,     -999.0,9,     -999.0,9,     0.0213,1,     4.6518,1,     -999.0,1,     -999.0,9,     -999.0,1,     -999.0,9,     -999.0,9
33RR20220613,       P02E,     161,          1,          6,          6,2,20220630,       0939,    29.9998,  -136.3864,       4476,   101.7,2,  17.7666,2,  34.1291,2,-999.0000,9,    238.1,2,  -999.0,9, -999.00,9, -999.00,9, -999.00,9, -999.00,9,-999.000,9,-999.000,9,-999.0000,9,  -999.0,9,  -999.0,9,-999.0000,9,  -999.00,9, -999.00,9,  -999.0,9, -999.00,9, -999.00,9,     -999.0,9, 20220630,     1001,  29.9998,-136.3864,     -999.0,9,     -999.0,9,     -999.0,9,     -999.0,9,     -999.0,9,     0.0216,1,     4.6536,1,     -999.0,9,     -999.0,1,     -999.0,9,     -999.0,9,     -999.0,9
33RR20220613,       P02E,     161,          1,          4,          4,2,20220630,       0939,    29.9998,  -136.3864,       4476,   151.7,2,  14.7664,2,  33.8231,2,-999.0000,9,    225.2,2,  -999.0,9, -999.00,9, -999.00,9, -999.00,9, -999.00,9,-999.000,9,-999.000,9,-999.0000,9,  -999.0,9,  -999.0,9,-999.0000,9,  -999.00,9, -999.00,9,  -999.0,9, -999.00,9, -999.00,9,     -999.0,9, 20220630,      958,  29.9998,-136.3864,    14.7641,2,     -999.0,9,     -999.0,9,     -999.0,9,     -999.0,9,     0.0226,1,     4.6690,1,     -999.0,9,     -999.0,9,     -999.0,1,     -999.0,9,     -999.0,9
33RR20220613,       P02E,     161,          1,          3,          3,2,20220630,       0939,    29.9998,  -136.3864,       4476,   202.1,2,  12.1220,2,  33.8681,2,-999.0000,9,    213.8,2,  -999.0,9, -999.00,9, -999.00,9, -999.00,9, -999.00,9,-999.000,9,-999.000,9,-999.0000,9,  -999.0,9,  -999.0,9,-999.0000,9,  -999.00,9, -999.00,9,  -999.0,9, -999.00,9, -999.00,9,     -999.0,9, 20220630,      956,  29.9998,-136.3864,    12.1175,2,     -999.0,9,     -999.0,9,     -999.0,9,     -999.0,9,     0.0147,1,     4.6844,1,     -999.0,9,     -999.0,1,     -999.0,1,     -999.0,9,     -999.0,9
33RR20220613,       P02E,     161,          1,          2,          2,2,20220630,       0939,    29.9998,  -136.3864,       4476,   504.9,2,   5.8525,2,  34.0324,2,-999.0000,9,     72.3,2,  -999.0,9, -999.00,9, -999.00,9, -999.00,9, -999.00,9,-999.000,9,-999.000,9,-999.0000,9,  -999.0,9,  -999.0,9,-999.0000,9,  -999.00,9, -999.00,9,  -999.0,9, -999.00,9, -999.00,9,     -999.0,9, 20220630,      949,  29.9998,-136.3864,     5.8471,2,     -999.0,9,     -999.0,9,     -999.0,9,     -999.0,9,     0.0134,1,     4.6930,1,     -999.0,9,     -999.0,9,     -999.0,1,     -999.0,9,     -999.0,9
33RR20220613,       P02E,     161,          1,          1,          1,2,20220630,       0939,    29.9998,  -136.3864,       4476,  1010.3,2,   3.7246,2,  34.4487,2,-999.0000,9,     23.4,2,  -999.0,9, -999.00,9, -999.00,9, -999.00,9, -999.00,9,-999.000,9,-999.000,9,-999.0000,9,  -999.0,9,  -999.0,9,-999.0000,9,  -999.00,9, -999.00,9,  -999.0,9, -999.00,9, -999.00,9,     -999.0,9, 20220630,      939,  29.9998,-136.3864,     3.7258,2,     -999.0,9,     -999.0,9,     -999.0,9,     -999.0,9,     0.0134,1,     4.6947,1,     -999.0,9,     -999.0,1,     -999.0,1,     -999.0,9,     -999.0,9