BOTTLE,20230830CCHSIOCBG
EXPOCODE,SECT_ID,STNNBR,CASTNO,SAMPNO,BTLNBR,BTLNBR_FLAG_W,DATE,TIME,LATITUDE,LONGITUDE,DEPTH,CTDPRS,CTDPRS_FLAG_W,CTDTMP,CTDTMP_FLAG_W,CTDSAL,CTDSAL_FLAG_W,SALNTY,SALNTY_FLAG_W,CTDOXY,CTDOXY_FLAG_W,OXYGEN,OXYGEN_FLAG_W,SILCAT,SILCAT_FLAG_W,NITRAT,NITRAT_FLAG_W,NITRIT,NITRIT_FLAG_W,PHSPHT,PHSPHT_FLAG_W,CFC-11,CFC-11_FLAG_W,CFC-12,CFC-12_FLAG_W,SF6,SF6_FLAG_W,TCARBN,TCARBN_FLAG_W,ALKALI,ALKALI_FLAG_W,PH_TOT,PH_TOT_FLAG_W,PH_TMP,PH_TMP_FLAG_W,DELC13,DELC13_FLAG_W,DELC14,DELC14_FLAG_W,DOC,DOC_FLAG_W,TDN,TDN_FLAG_W,N2O,N2O_FLAG_W,BTL_DATE,BTL_TIME,BTL_LAT,BTL_LON,REFTMP,REFTMP_FLAG_W,POC,POC_FLAG_W,PON,PON_FLAG_W,POP,POP_FLAG_W,PCOD,PCOD_FLAG_W,CTDFLUOR,CTDFLUOR_FLAG_W,CTDXMISS,CTDXMISS_FLAG_W,HPLC,HPLC_FLAG_W,DNA,DNA_FLAG_W,FCM,FCM_FLAG_W,IMAGES,IMAGES_FLAG_W,VIRAL_ABUNDANCE,VIRAL_ABUNDANCE_FLAG_W
,,,,,,,,,,,METERS,DBAR,,ITS-90,,PSS-78,,PSS-78,,UMOL/KG,,UMOL/KG,,UMOL/KG,,UMOL/KG,,UMOL/KG,,UMOL/KG,,PMOL/KG,,PMOL/KG,,FMOL/KG,,UMOL/KG,,UMOL/KG,,,,DEG C,,/MILLE,,/MILLE,,UMOL/KG,,UMOL/KG,,NMOL/KG,,,,,,ITS-90,,UG/L,,UG/L,,UG/L,,UG/L,,VOLTS,,VOLTS,,,,,,,,,,,
33RR20220613,       P02E,     149,          2,          4,          4,2,20220626,       2346,    30.0004,  -143.3135,       5046,  4554.4,2,   1.5022,2,  34.6867,2,  34.6867,2,    151.2,2,   151.5,2,  154.24,2,   36.39,2,    0.00,2,    2.48,2,   0.006,2,   0.007,2,   0.0000,2,  2328.6,2,  2422.0,2,   7.5779,2,    25.01,2, -999.00,9,  -999.0,9, -999.00,9, -999.00,9,       21.9,2, 20220627,        0,  30.0004,-143.3135,     1.5020,2,     -999.0,9,     -999.0,9,     -999.0,9,     -999.0,9,     0.0122,1,     4.7031,1,     -999.0,9,     -999.0,9,     -999.0,9,     -999.0,9,     -999.0,9
33RR20220613,       P02E,     149,          2,          3,          3,2,20220626,       2346,    30.0004,  -143.3135,       5046,  4708.8,2,   1.5168,2,  34.6871,2,  34.6877,2,    152.3,2,   152.5,2,  152.48,2,   36.32,2,    0.00,2,    2.46,2,   0.006,2,   0.007,2,   0.0000,2,  2327.4,2,  2421.3,2,   7.5796,2,    25.00,2, -999.00,9,  -999.0,9, -999.00,9, -999.00,9,       22.0,2, 20220626,     2355,  30.0004,-143.3135,     1.5167,2,     -999.0,9,     -999.0,9,     -999.0,9,     -999.0,9,     0.0122,1,     4.7027,1,     -999.0,9,     -999.0,9,     -999.0,9,     -999.0,9,     -999.0,9
33RR20220613,       P02E,     149,          2,          2,          2,2,20220626,       2346,    30.0004,  -143.3135,       5046,  4991.5,2,   1.5457,2,  34.6876,2,  34.6865,2,    153.5,2,   153.9,2,  151.01,2,   36.21,2,    0.00,2,    2.46,2,   0.007,2,   0.006,2,   0.0000,2,  2325.7,2,  2419.6,2,   7.5815,2,    25.01,2, -999.00,9,  -999.0,9, -999.00,9, -999.00,9,       21.6,2, 20220626,     2350,  30.0004,-143.3135,     1.5456,2,     -999.0,9,     -999.0,9,     -999.0,9,     -999.0,9,     0.0122,1,     4.7019,1,     -999.0,9,     -999.0,9,     -999.0,9,     -999.0,9,     -999.0,9
33RR20220613,       P02E,     149,          2,          1,          1,2,20220626,       2346,    30.0004,  -143.3135,       5046,  5130.9,2,   1.5618,2,  34.6876,2,  34.6875,2,    154.0,2,   154.0,2,  150.52,2,   36.30,2,    0.00,2,    2.45,2,   0.008,2,   0.007,2,   0.0000,2,  2326.2,6,  2420.3,2,   7.5816,2,    25.01,2, -999.00,9,  -999.0,9, -999.00,9, -999.00,9,       21.7,2, 20220626,     2346,  30.0004,-143.3135,     1.5618,2,     -999.0,9,     -999.0,9,     -999.0,9,     -999.0,9,     0.0117,1,     4.7015,1,     -999.0,9,     -999.0,9,     -999.0,9,     -999.0,9,     -999.0,9