BOTTLE,20230830CCHSIOCBG
EXPOCODE,SECT_ID,STNNBR,CASTNO,SAMPNO,BTLNBR,BTLNBR_FLAG_W,DATE,TIME,LATITUDE,LONGITUDE,DEPTH,CTDPRS,CTDPRS_FLAG_W,CTDTMP,CTDTMP_FLAG_W,CTDSAL,CTDSAL_FLAG_W,SALNTY,SALNTY_FLAG_W,CTDOXY,CTDOXY_FLAG_W,OXYGEN,OXYGEN_FLAG_W,SILCAT,SILCAT_FLAG_W,NITRAT,NITRAT_FLAG_W,NITRIT,NITRIT_FLAG_W,PHSPHT,PHSPHT_FLAG_W,CFC-11,CFC-11_FLAG_W,CFC-12,CFC-12_FLAG_W,SF6,SF6_FLAG_W,TCARBN,TCARBN_FLAG_W,ALKALI,ALKALI_FLAG_W,PH_TOT,PH_TOT_FLAG_W,PH_TMP,PH_TMP_FLAG_W,DELC13,DELC13_FLAG_W,DELC14,DELC14_FLAG_W,DOC,DOC_FLAG_W,TDN,TDN_FLAG_W,N2O,N2O_FLAG_W,BTL_DATE,BTL_TIME,BTL_LAT,BTL_LON,REFTMP,REFTMP_FLAG_W,POC,POC_FLAG_W,PON,PON_FLAG_W,POP,POP_FLAG_W,PCOD,PCOD_FLAG_W,CTDFLUOR,CTDFLUOR_FLAG_W,CTDXMISS,CTDXMISS_FLAG_W,HPLC,HPLC_FLAG_W,DNA,DNA_FLAG_W,FCM,FCM_FLAG_W,IMAGES,IMAGES_FLAG_W,VIRAL_ABUNDANCE,VIRAL_ABUNDANCE_FLAG_W
,,,,,,,,,,,METERS,DBAR,,ITS-90,,PSS-78,,PSS-78,,UMOL/KG,,UMOL/KG,,UMOL/KG,,UMOL/KG,,UMOL/KG,,UMOL/KG,,PMOL/KG,,PMOL/KG,,FMOL/KG,,UMOL/KG,,UMOL/KG,,,,DEG C,,/MILLE,,/MILLE,,UMOL/KG,,UMOL/KG,,NMOL/KG,,,,,,ITS-90,,UG/L,,UG/L,,UG/L,,UG/L,,VOLTS,,VOLTS,,,,,,,,,,,
33RR20220613,       P02E,     135,          1,          4,          4,2,20220622,       1329,    29.9998,  -151.3981,       5177,  4470.5,2,   1.4887,2,  34.6870,2,  34.6857,2,    152.1,2,   152.3,2,  154.44,2,   36.73,2,    0.00,2,    2.76,4,   0.004,2,   0.003,2,   0.0000,2,  -999.0,9,  -999.0,9,-999.0000,9,  -999.00,9, -999.00,9,  -999.0,9, -999.00,9, -999.00,9,       22.9,2, 20220622,     1346,  29.9998,-151.3981,     1.4886,2,     -999.0,9,     -999.0,9,     -999.0,9,     -999.0,9,     0.0122,1,     4.7054,1,     -999.0,9,     -999.0,9,     -999.0,9,     -999.0,9,     -999.0,9
33RR20220613,       P02E,     135,          1,          3,          3,2,20220622,       1329,    29.9998,  -151.3981,       5177,  4785.5,2,   1.5080,2,  34.6887,3,  34.6930,2,    155.6,2,   155.8,2,  151.41,2,   36.52,2,    0.00,2,    2.71,4,-999.000,9,-999.000,9,-999.0000,9,  2323.8,2,  2422.0,2,   7.5833,2,    25.01,2, -999.00,9,  -999.0,9, -999.00,9, -999.00,9,     -999.0,9, 20220622,     1341,  29.9998,-151.3981,     1.5079,2,     -999.0,9,     -999.0,9,     -999.0,9,     -999.0,9,     0.0130,1,     4.7053,1,     -999.0,9,     -999.0,9,     -999.0,9,     -999.0,9,     -999.0,9
33RR20220613,       P02E,     135,          1,          2,          2,2,20220622,       1329,    29.9998,  -151.3981,       5177,  4990.5,2,   1.5223,2,  34.6896,2,  34.6881,2,    157.6,2,   157.7,2,  149.55,2,   36.36,2,    0.00,2,    2.72,4,-999.000,9,-999.000,9,-999.0000,9,  -999.0,9,  -999.0,9,-999.0000,9,  -999.00,9, -999.00,9,  -999.0,9, -999.00,9, -999.00,9,     -999.0,9, 20220622,     1337,  29.9998,-151.3981,     1.5225,2,     -999.0,9,     -999.0,9,     -999.0,9,     -999.0,9,     0.0122,1,     4.7046,1,     -999.0,9,     -999.0,9,     -999.0,9,     -999.0,9,     -999.0,9
33RR20220613,       P02E,     135,          1,          1,          1,2,20220622,       1329,    29.9998,  -151.3981,       5177,  5266.4,2,   1.5453,2,  34.6903,2,  34.6889,2,    159.7,2,   159.7,2,  147.70,2,   36.20,2,    0.00,2,    2.70,4,   0.004,2,   0.005,2,   0.0000,2,  2321.5,6,  2417.2,2,   7.5882,2,    25.02,2, -999.00,9,  -999.0,9, -999.00,9, -999.00,9,       23.7,2, 20220622,     1329,  29.9998,-151.3981,     1.5454,2,     -999.0,9,     -999.0,9,     -999.0,9,     -999.0,9,     0.0122,1,     4.7042,1,     -999.0,9,     -999.0,9,     -999.0,9,     -999.0,9,     -999.0,9