BOTTLE,20230830CCHSIOCBG
EXPOCODE,SECT_ID,STNNBR,CASTNO,SAMPNO,BTLNBR,BTLNBR_FLAG_W,DATE,TIME,LATITUDE,LONGITUDE,DEPTH,CTDPRS,CTDPRS_FLAG_W,CTDTMP,CTDTMP_FLAG_W,CTDSAL,CTDSAL_FLAG_W,SALNTY,SALNTY_FLAG_W,CTDOXY,CTDOXY_FLAG_W,OXYGEN,OXYGEN_FLAG_W,SILCAT,SILCAT_FLAG_W,NITRAT,NITRAT_FLAG_W,NITRIT,NITRIT_FLAG_W,PHSPHT,PHSPHT_FLAG_W,CFC-11,CFC-11_FLAG_W,CFC-12,CFC-12_FLAG_W,SF6,SF6_FLAG_W,TCARBN,TCARBN_FLAG_W,ALKALI,ALKALI_FLAG_W,PH_TOT,PH_TOT_FLAG_W,PH_TMP,PH_TMP_FLAG_W,DELC13,DELC13_FLAG_W,DELC14,DELC14_FLAG_W,DOC,DOC_FLAG_W,TDN,TDN_FLAG_W,N2O,N2O_FLAG_W,BTL_DATE,BTL_TIME,BTL_LAT,BTL_LON,REFTMP,REFTMP_FLAG_W,POC,POC_FLAG_W,PON,PON_FLAG_W,POP,POP_FLAG_W,PCOD,PCOD_FLAG_W,CTDFLUOR,CTDFLUOR_FLAG_W,CTDXMISS,CTDXMISS_FLAG_W,HPLC,HPLC_FLAG_W,DNA,DNA_FLAG_W,FCM,FCM_FLAG_W,IMAGES,IMAGES_FLAG_W,VIRAL_ABUNDANCE,VIRAL_ABUNDANCE_FLAG_W
,,,,,,,,,,,METERS,DBAR,,ITS-90,,PSS-78,,PSS-78,,UMOL/KG,,UMOL/KG,,UMOL/KG,,UMOL/KG,,UMOL/KG,,UMOL/KG,,PMOL/KG,,PMOL/KG,,FMOL/KG,,UMOL/KG,,UMOL/KG,,,,DEG C,,/MILLE,,/MILLE,,UMOL/KG,,UMOL/KG,,NMOL/KG,,,,,,ITS-90,,UG/L,,UG/L,,UG/L,,UG/L,,VOLTS,,VOLTS,,,,,,,,,,,
33RR20220613,       P02E,     183,          2,         36,         36,2,20220706,       1907,    29.9981,  -123.6842,       4456,     3.6,2,  18.8911,2,  33.1518,2,  33.1610,2,    241.1,2,   240.3,2,    0.98,2,    0.01,2,    0.00,2,    0.31,2,   2.228,2,   1.345,2,   2.2046,2,  2014.1,6,  2218.4,2,   7.8948,2,    25.02,2, -999.00,9,  -999.0,9, -999.00,9, -999.00,9,        8.4,2, 20220706,     2110,  29.9981,-123.6842,    19.0689,3,     -999.0,9,     -999.0,9,     -999.0,9,     -999.0,9,     0.0134,1,     4.6165,1,     -999.0,9,     -999.0,9,     -999.0,9,     -999.0,9,     -999.0,9
33RR20220613,       P02E,     183,          2,         35,         35,2,20220706,       1907,    29.9981,  -123.6842,       4456,    35.9,2,  17.2994,2,  33.1579,2,  33.1604,2,    248.7,2,   249.0,2,    0.98,2,    0.00,2,    0.00,2,    0.30,2,   2.277,2,   1.405,2,   2.4075,2,  2010.3,2,  2217.1,6,   7.8998,2,    25.02,2, -999.00,9,  -999.0,9, -999.00,9, -999.00,9,        8.7,2, 20220706,     2107,  29.9981,-123.6842,    17.3026,2,     -999.0,9,     -999.0,9,     -999.0,9,     -999.0,9,     0.0135,1,     4.6288,1,     -999.0,9,     -999.0,9,     -999.0,9,     -999.0,9,     -999.0,9
33RR20220613,       P02E,     183,          2,         34,         34,2,20220706,       1907,    29.9981,  -123.6842,       4456,    61.4,2,  16.1947,2,  33.2990,2,  33.2967,2,    255.0,2,   255.7,2,    1.17,2,    0.00,2,    0.00,2,    0.26,2,   2.390,2,   1.457,2,   2.3413,2,  2011.0,2,  2222.6,2,   7.9103,2,    25.02,2, -999.00,9,  -999.0,9, -999.00,9, -999.00,9,        9.1,2, 20220706,     2106,  29.9981,-123.6842,    16.2067,2,     -999.0,9,     -999.0,9,     -999.0,9,     -999.0,9,     0.0171,1,     4.6421,1,     -999.0,9,     -999.0,9,     -999.0,9,     -999.0,9,     -999.0,9
33RR20220613,       P02E,     183,          2,         33,         33,2,20220706,       1907,    29.9981,  -123.6842,       4456,    85.5,2,  14.9926,2,  33.1651,2,  33.1667,2,    254.7,2,   256.5,2,    1.27,2,    0.00,2,    0.00,2,    0.30,2,-999.000,9,-999.000,9,-999.0000,9,  2012.8,2,  2214.7,2,   7.8893,2,    25.02,2, -999.00,9,  -999.0,9, -999.00,9, -999.00,9,     -999.0,9, 20220706,     2103,  29.9981,-123.6842,    14.9902,2,     -999.0,9,     -999.0,9,     -999.0,9,     -999.0,9,     0.0288,1,     4.6478,1,     -999.0,9,     -999.0,9,     -999.0,9,     -999.0,9,     -999.0,9
33RR20220613,       P02E,     183,          2,         32,         32,2,20220706,       1907,    29.9981,  -123.6842,       4456,   111.2,2,  13.2063,2,  33.0531,2,  33.0504,2,    247.9,2,   249.0,2,    2.25,2,    1.40,2,    0.18,2,    0.45,2,   2.717,2,   1.637,2,   2.6306,2,  2028.4,2,  2206.6,2,   7.8403,2,    25.02,2, -999.00,9,  -999.0,9, -999.00,9, -999.00,9,       11.1,2, 20220706,     2102,  29.9981,-123.6842,    13.2073,2,     -999.0,9,     -999.0,9,     -999.0,9,     -999.0,9,     0.0366,1,     4.6532,1,     -999.0,9,     -999.0,9,     -999.0,9,     -999.0,9,     -999.0,9
33RR20220613,       P02E,     183,          2,         31,         31,2,20220706,       1907,    29.9981,  -123.6842,       4456,   136.3,2,  12.2950,2,  33.0520,2,  33.0598,2,    238.5,2,   237.8,2,    3.82,2,    4.68,2,    0.10,2,    0.63,2,   2.810,2,   1.701,2,   2.4907,2,  2044.1,2,  2203.2,2,   7.7945,2,    25.02,2, -999.00,9,  -999.0,9, -999.00,9, -999.00,9,       12.0,2, 20220706,     2059,  29.9981,-123.6842,    12.2935,2,     -999.0,9,     -999.0,9,     -999.0,9,     -999.0,9,     0.0251,1,     4.6642,1,     -999.0,9,     -999.0,9,     -999.0,9,     -999.0,9,     -999.0,9
33RR20220613,       P02E,     183,          2,         30,         17,2,20220706,       1907,    29.9981,  -123.6842,       4456,   166.5,2,  10.7580,2,  33.3367,2,  33.3488,2,    208.0,2,   207.6,2,   10.17,2,   12.31,2,    0.02,2,    1.09,2,   2.951,2,   1.811,2,   2.4687,2,  2096.3,2,  2216.6,2,   7.6951,2,    25.01,2, -999.00,9,  -999.0,9, -999.00,9, -999.00,9,       15.3,2, 20220706,     2057,  29.9981,-123.6842,    10.7595,2,     -999.0,9,     -999.0,9,     -999.0,9,     -999.0,9,     0.0171,1,     4.6757,1,     -999.0,9,     -999.0,9,     -999.0,9,     -999.0,9,     -999.0,9
33RR20220613,       P02E,     183,          2,         29,         29,2,20220706,       1907,    29.9981,  -123.6842,       4456,   216.7,2,   9.1567,2,  33.8753,2,  33.8936,2,    148.8,3,   145.1,2,   25.52,2,   22.86,2,    0.00,2,    1.70,2,   2.872,2,   1.755,2,   1.5796,2,  2174.8,2,  2247.8,2,   7.5532,2,    25.01,2, -999.00,9,  -999.0,9, -999.00,9, -999.00,9,       25.4,2, 20220706,     2055,  29.9981,-123.6842,     9.1558,2,     -999.0,9,     -999.0,9,     -999.0,9,     -999.0,9,     0.0122,1,     4.6783,1,     -999.0,9,     -999.0,9,     -999.0,9,     -999.0,9,     -999.0,9
33RR20220613,       P02E,     183,          2,         28,         28,2,20220706,       1907,    29.9981,  -123.6842,       4456,   267.0,2,   8.8260,2,  34.0553,2,  34.0611,2,     94.8,3,    93.1,2,   35.00,2,   27.67,2,    0.00,2,    2.11,2,   2.421,2,   1.490,2,   1.1869,2,  -999.0,9,  -999.0,9,-999.0000,9,  -999.00,9, -999.00,9,  -999.0,9, -999.00,9, -999.00,9,       32.4,2, 20220706,     2052,  29.9981,-123.6842,     8.8259,2,     -999.0,9,     -999.0,9,     -999.0,9,     -999.0,9,     0.0134,1,     4.6727,1,     -999.0,9,     -999.0,9,     -999.0,9,     -999.0,9,     -999.0,9
33RR20220613,       P02E,     183,          2,         27,         27,2,20220706,       1907,    29.9981,  -123.6842,       4456,   317.5,2,   8.0671,2,  34.0732,2,  34.0786,2,     80.3,3,    82.5,2,   42.42,2,   30.22,2,    0.00,2,    2.28,2,   2.280,2,   1.358,2,   0.8953,2,  2237.2,2,  2270.4,2,   7.4286,2,    25.01,2, -999.00,9,  -999.0,9, -999.00,9, -999.00,9,       35.8,2, 20220706,     2050,  29.9981,-123.6842,     8.0727,2,     -999.0,9,     -999.0,9,     -999.0,9,     -999.0,9,     0.0134,1,     4.6754,1,     -999.0,9,     -999.0,9,     -999.0,9,     -999.0,9,     -999.0,9
33RR20220613,       P02E,     183,          2,         26,         26,2,20220706,       1907,    29.9981,  -123.6842,       4456,   367.8,2,   7.6406,2,  34.1656,2,  34.1730,2,     47.0,3,    48.3,2,   51.51,2,   33.31,2,    0.00,2,    2.60,2,-999.000,5,-999.000,5,-999.0000,5,  2268.8,2,  2285.7,6,   7.3661,2,    25.02,2, -999.00,9,  -999.0,9, -999.00,9, -999.00,9,       38.7,2, 20220706,     2047,  29.9981,-123.6842,     7.6372,2,     -999.0,9,     -999.0,9,     -999.0,9,     -999.0,9,     0.0134,1,     4.6728,1,     -999.0,9,     -999.0,9,     -999.0,9,     -999.0,9,     -999.0,9
33RR20220613,       P02E,     183,          2,         25,         25,2,20220706,       1907,    29.9981,  -123.6842,       4456,   418.7,2,   6.6372,2,  34.0968,2,  34.0985,2,     49.8,3,    49.1,2,   61.09,2,   36.07,2,    0.00,2,    2.69,2,   1.728,2,   0.968,2,   0.5543,2,  2278.4,2,  2287.8,2,   7.3484,2,    25.00,2, -999.00,9,  -999.0,9, -999.00,9, -999.00,9,       42.1,2, 20220706,     2046,  29.9981,-123.6842,     6.6362,2,     -999.0,9,     -999.0,9,     -999.0,9,     -999.0,9,     0.0134,1,     4.6763,1,     -999.0,9,     -999.0,9,     -999.0,9,     -999.0,9,     -999.0,9
33RR20220613,       P02E,     183,          2,         24,         24,2,20220706,       1907,    29.9981,  -123.6842,       4456,   468.5,2,   6.1327,2,  34.1512,2,  34.1619,2,     31.8,2,    32.1,2,   69.69,2,   38.04,2,    0.00,2,    2.83,2,   1.104,2,   0.630,2,   0.3722,2,  2297.0,2,  2299.6,2,   7.3242,2,    25.04,2, -999.00,9,  -999.0,9, -999.00,9, -999.00,9,       45.8,2, 20220706,     2044,  29.9981,-123.6842,     6.1281,2,     -999.0,9,     -999.0,9,     -999.0,9,     -999.0,9,     0.0134,1,     4.6801,1,     -999.0,9,     -999.0,9,     -999.0,9,     -999.0,9,     -999.0,9
33RR20220613,       P02E,     183,          2,         23,         23,2,20220706,       1907,    29.9981,  -123.6842,       4456,   539.5,2,   5.6556,2,  34.2083,2,  34.2130,2,     20.5,2,    20.4,2,   79.95,2,   39.88,2,    0.00,2,    2.97,2,   0.660,2,   0.365,2,   0.2452,2,  2316.1,2,  2312.7,2,   7.3105,2,    25.02,2, -999.00,9,  -999.0,9, -999.00,9, -999.00,9,       48.6,2, 20220706,     2041,  29.9981,-123.6842,     5.6538,2,     -999.0,9,     -999.0,9,     -999.0,9,     -999.0,9,     0.0134,1,     4.6827,1,     -999.0,9,     -999.0,9,     -999.0,9,     -999.0,9,     -999.0,9
33RR20220613,       P02E,     183,          2,         22,         22,2,20220706,       1907,    29.9981,  -123.6842,       4456,   640.5,2,   5.2328,2,  34.2915,2,  34.2929,2,     12.8,2,    12.8,2,   90.01,2,   41.22,2,    0.00,2,    3.09,2,   0.262,2,   0.144,2,   0.2110,2,  2331.6,2,  2326.2,2,   7.3080,2,    25.04,2, -999.00,9,  -999.0,9, -999.00,9, -999.00,9,       49.6,2, 20220706,     2039,  29.9981,-123.6842,     5.2319,2,     -999.0,9,     -999.0,9,     -999.0,9,     -999.0,9,     0.0134,1,     4.6840,1,     -999.0,9,     -999.0,9,     -999.0,9,     -999.0,9,     -999.0,9
33RR20220613,       P02E,     183,          2,         21,         21,2,20220706,       1907,    29.9981,  -123.6842,       4456,   741.4,2,   4.7576,2,  34.3493,2,  34.3505,2,     12.2,2,    12.1,2,  100.17,2,   42.26,2,    0.00,2,    3.14,2,   0.089,2,   0.052,2,   0.1011,2,  2345.6,2,  2341.6,2,   7.3131,2,    25.02,2, -999.00,9,  -999.0,9, -999.00,9, -999.00,9,       53.3,2, 20220706,     2036,  29.9981,-123.6842,     4.7604,2,     -999.0,9,     -999.0,9,     -999.0,9,     -999.0,9,     0.0134,1,     4.6859,1,     -999.0,9,     -999.0,9,     -999.0,9,     -999.0,9,     -999.0,9
33RR20220613,       P02E,     183,          2,         20,         20,2,20220706,       1907,    29.9981,  -123.6842,       4456,   842.9,2,   4.5049,2,  34.4164,2,  34.4163,2,     14.8,2,    14.7,2,  106.52,2,   42.57,2,    0.00,2,    3.15,2,   0.036,2,   0.026,2,   0.1625,2,  2351.8,2,  2355.1,2,   7.3265,2,    25.02,2, -999.00,9,  -999.0,9, -999.00,9, -999.00,9,       52.9,2, 20220706,     2033,  29.9981,-123.6842,     4.5182,2,     -999.0,9,     -999.0,9,     -999.0,9,     -999.0,9,     0.0134,1,     4.6845,1,     -999.0,9,     -999.0,9,     -999.0,9,     -999.0,9,     -999.0,9
33RR20220613,       P02E,     183,          2,         19,         39,2,20220706,       1907,    29.9981,  -123.6842,       4456,   943.8,2,   4.2011,2,  34.4532,2,  34.4540,2,     18.9,3,    18.7,2,  112.28,2,   42.84,2,    0.00,2,    3.15,2,   0.024,2,   0.020,2,   0.1910,2,  2358.3,2,  2363.2,2,   7.3371,2,    25.01,2, -999.00,9,  -999.0,9, -999.00,9, -999.00,9,       51.3,2, 20220706,     2030,  29.9981,-123.6842,     4.1981,2,     -999.0,9,     -999.0,9,     -999.0,9,     -999.0,9,     0.0134,1,     4.6841,1,     -999.0,9,     -999.0,9,     -999.0,9,     -999.0,9,     -999.0,9
33RR20220613,       P02E,     183,          2,         18,         18,2,20220706,       1907,    29.9981,  -123.6842,       4456,  1045.0,2,   3.9004,2,  34.4796,2,  34.4785,2,     24.4,2,    24.6,2,  119.03,2,   42.87,2,    0.00,2,    3.13,2,   0.016,2,   0.016,2,   0.1222,2,  -999.0,9,  -999.0,9,-999.0000,9,  -999.00,9, -999.00,9,  -999.0,9, -999.00,9, -999.00,9,       48.6,2, 20220706,     2027,  29.9981,-123.6842,     3.8985,2,     -999.0,9,     -999.0,9,     -999.0,9,     -999.0,9,     0.0134,1,     4.6858,1,     -999.0,9,     -999.0,9,     -999.0,9,     -999.0,9,     -999.0,9
33RR20220613,       P02E,     183,          2,         17,         37,2,20220706,       1907,    29.9981,  -123.6842,       4456,  1145.9,2,   3.6295,2,  34.5057,2,  34.5099,2,     29.7,2,    29.7,2,  124.98,2,   42.76,2,    0.00,2,    3.11,2,   0.015,2,   0.015,2,-999.0000,5,  2363.9,2,  2380.4,2,   7.3589,2,    25.03,2, -999.00,9,  -999.0,9, -999.00,9, -999.00,9,       46.9,2, 20220706,     2024,  29.9981,-123.6842,     3.6304,2,     -999.0,9,     -999.0,9,     -999.0,9,     -999.0,9,     0.0134,1,     4.6861,1,     -999.0,9,     -999.0,9,     -999.0,9,     -999.0,9,     -999.0,9
33RR20220613,       P02E,     183,          2,         16,         16,2,20220706,       1907,    29.9981,  -123.6842,       4456,  1247.8,2,   3.3846,2,  34.5259,2,  34.5252,2,     34.7,2,    34.5,2,  131.04,2,   42.61,2,    0.00,2,    3.10,2,-999.000,9,-999.000,9,-999.0000,9,  -999.0,9,  -999.0,9,-999.0000,9,  -999.00,9, -999.00,9,  -999.0,9, -999.00,9, -999.00,9,     -999.0,9, 20220706,     2021,  29.9981,-123.6842,     3.3818,2,     -999.0,9,     -999.0,9,     -999.0,9,     -999.0,9,     0.0134,1,     4.6869,1,     -999.0,9,     -999.0,9,     -999.0,9,     -999.0,9,     -999.0,9
33RR20220613,       P02E,     183,          2,         15,         15,2,20220706,       1907,    29.9981,  -123.6842,       4456,  1349.2,2,   3.1146,2,  34.5452,2,  34.5435,2,     41.0,2,    41.0,2,  137.49,2,   42.34,2,    0.00,2,    3.07,2,   0.019,2,   0.018,2,   0.0000,2,  2369.8,2,  2394.4,2,   7.3793,2,    25.02,2, -999.00,9,  -999.0,9, -999.00,9, -999.00,9,       43.8,2, 20220706,     2018,  29.9981,-123.6842,     3.1124,2,     -999.0,9,     -999.0,9,     -999.0,9,     -999.0,9,     0.0133,1,     4.6873,1,     -999.0,9,     -999.0,9,     -999.0,9,     -999.0,9,     -999.0,9
33RR20220613,       P02E,     183,          2,         14,         42,2,20220706,       1907,    29.9981,  -123.6842,       4456,  1450.5,2,   2.9263,2,  34.5579,2,  34.5574,2,     46.1,2,    46.2,2,  143.06,2,   42.20,2,    0.00,2,    3.03,2,-999.000,9,-999.000,9,-999.0000,9,  -999.0,9,  -999.0,9,-999.0000,9,  -999.00,9, -999.00,9,  -999.0,9, -999.00,9, -999.00,9,     -999.0,9, 20220706,     2016,  29.9981,-123.6842,     2.9201,2,     -999.0,9,     -999.0,9,     -999.0,9,     -999.0,9,     0.0134,1,     4.6862,1,     -999.0,9,     -999.0,9,     -999.0,9,     -999.0,9,     -999.0,9
33RR20220613,       P02E,     183,          2,         13,         13,2,20220706,       1907,    29.9981,  -123.6842,       4456,  1551.6,2,   2.7373,2,  34.5725,2,  34.5745,2,     51.7,2,    52.1,2,  147.35,2,   41.88,2,    0.00,2,    3.00,2,   0.009,2,   0.013,2,   0.0000,2,  2373.7,2,  2402.3,2,   7.4007,2,    25.02,2, -999.00,9,  -999.0,9, -999.00,9, -999.00,9,       38.2,2, 20220706,     2013,  29.9981,-123.6842,     2.7360,2,     -999.0,9,     -999.0,9,     -999.0,9,     -999.0,9,     0.0134,1,     4.6885,1,     -999.0,9,     -999.0,9,     -999.0,9,     -999.0,9,     -999.0,9
33RR20220613,       P02E,     183,          2,         12,         12,2,20220706,       1907,    29.9981,  -123.6842,       4456,  1684.1,2,   2.5115,2,  34.5894,2,  34.5879,2,     60.3,2,    60.2,2,  152.34,2,   41.39,2,    0.00,2,    2.96,2,-999.000,9,-999.000,9,-999.0000,9,  -999.0,9,  -999.0,9,-999.0000,9,  -999.00,9, -999.00,9,  -999.0,9, -999.00,9, -999.00,9,     -999.0,9, 20220706,     2009,  29.9981,-123.6842,     2.5075,2,     -999.0,9,     -999.0,9,     -999.0,9,     -999.0,9,     0.0134,1,     4.6893,1,     -999.0,9,     -999.0,9,     -999.0,9,     -999.0,9,     -999.0,9
33RR20220613,       P02E,     183,          2,         11,         11,2,20220706,       1907,    29.9981,  -123.6842,       4456,  1886.5,2,   2.1923,2,  34.6170,2,  34.6166,2,     75.7,2,    76.1,2,  158.39,2,   40.46,2,    0.00,2,    2.87,2,   0.004,2,   0.006,2,   0.0000,2,  2370.8,2,  2416.5,2,   7.4465,2,    25.02,2, -999.00,9,  -999.0,9, -999.00,9, -999.00,9,       33.2,2, 20220706,     2002,  29.9981,-123.6842,     2.1926,2,     -999.0,9,     -999.0,9,     -999.0,9,     -999.0,9,     0.0134,1,     4.6921,1,     -999.0,9,     -999.0,9,     -999.0,9,     -999.0,9,     -999.0,9
33RR20220613,       P02E,     183,          2,         10,         10,2,20220706,       1907,    29.9981,  -123.6842,       4456,  2110.4,2,   2.0339,2,  34.6310,2,  34.6293,2,     85.5,2,    85.3,2,  161.03,2,   39.91,2,    0.00,2,    2.81,2,-999.000,9,-999.000,9,-999.0000,9,  -999.0,9,  -999.0,9,-999.0000,9,  -999.00,9, -999.00,9,  -999.0,9, -999.00,9, -999.00,9,     -999.0,9, 20220706,     1958,  29.9981,-123.6842,     2.0339,2,     -999.0,9,     -999.0,9,     -999.0,9,     -999.0,9,     0.0134,1,     4.6922,1,     -999.0,9,     -999.0,9,     -999.0,9,     -999.0,9,     -999.0,9
33RR20220613,       P02E,     183,          2,          9,          9,2,20220706,       1907,    29.9981,  -123.6842,       4456,  2364.9,2,   1.9004,2,  34.6447,2,  34.6443,2,     96.0,2,    96.1,2,  162.39,2,   39.22,2,    0.00,2,    2.77,2,   0.005,2,   0.006,2,   0.0000,2,  2365.3,2,  2427.7,2,   7.4847,2,    25.01,2, -999.00,9,  -999.0,9, -999.00,9, -999.00,9,       28.0,2, 20220706,     1952,  29.9981,-123.6842,     1.8996,2,     -999.0,9,     -999.0,9,     -999.0,9,     -999.0,9,     0.0133,1,     4.6937,1,     -999.0,9,     -999.0,9,     -999.0,9,     -999.0,9,     -999.0,9
33RR20220613,       P02E,     183,          2,          8,          8,2,20220706,       1907,    29.9981,  -123.6842,       4456,  2619.4,2,   1.7732,2,  34.6556,3,  34.6535,2,    105.6,2,   105.7,2,  164.35,2,   38.63,2,    0.00,2,    2.71,2,-999.000,9,-999.000,9,-999.0000,9,  -999.0,9,  -999.0,9,-999.0000,9,  -999.00,9, -999.00,9,  -999.0,9, -999.00,9, -999.00,9,     -999.0,9, 20220706,     1946,  29.9981,-123.6842,     1.7736,2,     -999.0,9,     -999.0,9,     -999.0,9,     -999.0,9,     0.0134,1,     4.6947,1,     -999.0,9,     -999.0,9,     -999.0,9,     -999.0,9,     -999.0,9
33RR20220613,       P02E,     183,          2,          7,          7,2,20220706,       1907,    29.9981,  -123.6842,       4456,  2874.3,2,   1.6680,2,  34.6622,2,  34.6608,2,    113.0,2,   113.2,2,  166.69,2,   38.26,2,    0.00,2,    2.66,2,   0.004,2,   0.005,2,   0.0000,2,  2359.9,2,  -999.0,1,   7.5168,2,    25.01,2, -999.00,9,  -999.0,9, -999.00,9, -999.00,9,       27.3,2, 20220706,     1941,  29.9981,-123.6842,     1.6695,2,     -999.0,9,     -999.0,9,     -999.0,9,     -999.0,9,     0.0133,1,     4.6959,1,     -999.0,9,     -999.0,9,     -999.0,9,     -999.0,9,     -999.0,9
33RR20220613,       P02E,     183,          2,          6,          6,2,20220706,       1907,    29.9981,  -123.6842,       4456,  3145.2,2,   1.5908,2,  34.6683,2,  34.6677,2,    120.3,2,   120.1,2,  168.35,2,   37.86,2,    0.00,2,    2.62,2,   0.006,2,   0.009,2,   0.0000,2,  -999.0,9,  -999.0,9,-999.0000,9,  -999.00,9, -999.00,9,  -999.0,9, -999.00,9, -999.00,9,       25.1,2, 20220706,     1936,  29.9981,-123.6842,     1.5918,2,     -999.0,9,     -999.0,9,     -999.0,9,     -999.0,9,     0.0131,1,     4.6964,1,     -999.0,9,     -999.0,9,     -999.0,9,     -999.0,9,     -999.0,9
33RR20220613,       P02E,     183,          2,          5,          5,2,20220706,       1907,    29.9981,  -123.6842,       4456,  3451.1,2,   1.5418,2,  34.6734,2,  34.6722,2,    126.3,2,   126.7,2,  167.67,2,   37.62,2,    0.00,2,    2.60,2,   0.006,2,   0.009,2,   0.0000,2,  2349.2,2,  2430.4,6,   7.5408,2,    25.01,2, -999.00,9,  -999.0,9, -999.00,9, -999.00,9,       25.8,2, 20220706,     1930,  29.9981,-123.6842,     1.5421,2,     -999.0,9,     -999.0,9,     -999.0,9,     -999.0,9,     0.0130,1,     4.6963,1,     -999.0,9,     -999.0,9,     -999.0,9,     -999.0,9,     -999.0,9