BOTTLE,20230830CCHSIOCBG
EXPOCODE,SECT_ID,STNNBR,CASTNO,SAMPNO,BTLNBR,BTLNBR_FLAG_W,DATE,TIME,LATITUDE,LONGITUDE,DEPTH,CTDPRS,CTDPRS_FLAG_W,CTDTMP,CTDTMP_FLAG_W,CTDSAL,CTDSAL_FLAG_W,SALNTY,SALNTY_FLAG_W,CTDOXY,CTDOXY_FLAG_W,OXYGEN,OXYGEN_FLAG_W,SILCAT,SILCAT_FLAG_W,NITRAT,NITRAT_FLAG_W,NITRIT,NITRIT_FLAG_W,PHSPHT,PHSPHT_FLAG_W,CFC-11,CFC-11_FLAG_W,CFC-12,CFC-12_FLAG_W,SF6,SF6_FLAG_W,TCARBN,TCARBN_FLAG_W,ALKALI,ALKALI_FLAG_W,PH_TOT,PH_TOT_FLAG_W,PH_TMP,PH_TMP_FLAG_W,DELC13,DELC13_FLAG_W,DELC14,DELC14_FLAG_W,DOC,DOC_FLAG_W,TDN,TDN_FLAG_W,N2O,N2O_FLAG_W,BTL_DATE,BTL_TIME,BTL_LAT,BTL_LON,REFTMP,REFTMP_FLAG_W,POC,POC_FLAG_W,PON,PON_FLAG_W,POP,POP_FLAG_W,PCOD,PCOD_FLAG_W,CTDFLUOR,CTDFLUOR_FLAG_W,CTDXMISS,CTDXMISS_FLAG_W,HPLC,HPLC_FLAG_W,DNA,DNA_FLAG_W,FCM,FCM_FLAG_W,IMAGES,IMAGES_FLAG_W,VIRAL_ABUNDANCE,VIRAL_ABUNDANCE_FLAG_W
,,,,,,,,,,,METERS,DBAR,,ITS-90,,PSS-78,,PSS-78,,UMOL/KG,,UMOL/KG,,UMOL/KG,,UMOL/KG,,UMOL/KG,,UMOL/KG,,PMOL/KG,,PMOL/KG,,FMOL/KG,,UMOL/KG,,UMOL/KG,,,,DEG C,,/MILLE,,/MILLE,,UMOL/KG,,UMOL/KG,,NMOL/KG,,,,,,ITS-90,,UG/L,,UG/L,,UG/L,,UG/L,,VOLTS,,VOLTS,,,,,,,,,,,
33RR20220613,       P02E,     197,          3,          3,          3,2,20220711,       0626,    32.0019,  -119.3499,       1789,  1653.6,2,   2.7777,2,  34.5737,2,  34.5732,2,     51.6,2,    51.4,2,  146.01,2,   42.11,2,    0.00,2,    3.05,2,   0.047,2,   0.057,2,   0.1685,2,  2375.6,2,  2406.4,2,   7.4012,2,    25.01,2, -999.00,9,  -999.0,9, -999.00,9, -999.00,9,       40.5,2, 20220711,      631,  32.0019,-119.3499,     2.7778,2,     -999.0,9,     -999.0,9,     -999.0,9,     -999.0,9,     0.0134,1,     4.6692,1,     -999.0,9,     -999.0,9,     -999.0,9,     -999.0,9,     -999.0,9
33RR20220613,       P02E,     197,          3,          2,          2,2,20220711,       0626,    32.0019,  -119.3499,       1789,  1754.1,2,   2.7101,2,  34.5777,2,  34.5779,2,     53.3,2,    53.2,2,  148.65,2,   42.07,2,    0.00,2,    3.05,2,   0.039,2,   0.100,2,   0.2161,2,  -999.0,9,  -999.0,9,-999.0000,9,  -999.00,9, -999.00,9,  -999.0,9, -999.00,9, -999.00,9,       39.8,2, 20220711,      628,  32.0019,-119.3499,     2.7099,2,     -999.0,9,     -999.0,9,     -999.0,9,     -999.0,9,     0.0134,1,     4.6525,1,     -999.0,9,     -999.0,9,     -999.0,9,     -999.0,9,     -999.0,9
33RR20220613,       P02E,     197,          3,          1,          1,2,20220711,       0626,    32.0019,  -119.3499,       1789,  1801.0,2,   2.7028,2,  34.5783,2,  34.5783,2,     53.3,2,    53.4,2,  149.24,2,   42.03,2,    0.03,2,    3.05,2,   0.040,2,   0.101,2,   0.1576,2,  2378.9,6,  2408.4,2,   7.4055,2,    25.02,2, -999.00,9,  -999.0,9, -999.00,9, -999.00,9,       39.4,2, 20220711,      626,  32.0019,-119.3499,     2.7034,2,     -999.0,9,     -999.0,9,     -999.0,9,     -999.0,9,     0.0140,1,     4.6383,1,     -999.0,9,     -999.0,9,     -999.0,9,     -999.0,9,     -999.0,9