BOTTLE,20230830CCHSIOCBG
EXPOCODE,SECT_ID,STNNBR,CASTNO,SAMPNO,BTLNBR,BTLNBR_FLAG_W,DATE,TIME,LATITUDE,LONGITUDE,DEPTH,CTDPRS,CTDPRS_FLAG_W,CTDTMP,CTDTMP_FLAG_W,CTDSAL,CTDSAL_FLAG_W,SALNTY,SALNTY_FLAG_W,CTDOXY,CTDOXY_FLAG_W,OXYGEN,OXYGEN_FLAG_W,SILCAT,SILCAT_FLAG_W,NITRAT,NITRAT_FLAG_W,NITRIT,NITRIT_FLAG_W,PHSPHT,PHSPHT_FLAG_W,CFC-11,CFC-11_FLAG_W,CFC-12,CFC-12_FLAG_W,SF6,SF6_FLAG_W,TCARBN,TCARBN_FLAG_W,ALKALI,ALKALI_FLAG_W,PH_TOT,PH_TOT_FLAG_W,PH_TMP,PH_TMP_FLAG_W,DELC13,DELC13_FLAG_W,DELC14,DELC14_FLAG_W,DOC,DOC_FLAG_W,TDN,TDN_FLAG_W,N2O,N2O_FLAG_W,BTL_DATE,BTL_TIME,BTL_LAT,BTL_LON,REFTMP,REFTMP_FLAG_W,POC,POC_FLAG_W,PON,PON_FLAG_W,POP,POP_FLAG_W,PCOD,PCOD_FLAG_W,CTDFLUOR,CTDFLUOR_FLAG_W,CTDXMISS,CTDXMISS_FLAG_W,HPLC,HPLC_FLAG_W,DNA,DNA_FLAG_W,FCM,FCM_FLAG_W,IMAGES,IMAGES_FLAG_W,VIRAL_ABUNDANCE,VIRAL_ABUNDANCE_FLAG_W
,,,,,,,,,,,METERS,DBAR,,ITS-90,,PSS-78,,PSS-78,,UMOL/KG,,UMOL/KG,,UMOL/KG,,UMOL/KG,,UMOL/KG,,UMOL/KG,,PMOL/KG,,PMOL/KG,,FMOL/KG,,UMOL/KG,,UMOL/KG,,,,DEG C,,/MILLE,,/MILLE,,UMOL/KG,,UMOL/KG,,NMOL/KG,,,,,,ITS-90,,UG/L,,UG/L,,UG/L,,UG/L,,VOLTS,,VOLTS,,,,,,,,,,,
33RR20220613,       P02E,     138,          1,         36,         36,2,20220623,       1502,    29.9998,  -149.6680,       5764,     7.1,2,  23.8495,2,  35.4090,2,  35.4085,2,    214.4,2,   214.5,2,    0.00,2,    0.28,2,    0.00,2,    0.00,3,   1.696,2,   1.067,2,   1.7500,2,  2042.4,6,  2329.3,2,   8.0099,2,    25.01,2, -999.00,1,  -999.0,1, -999.00,1, -999.00,1,        7.1,2, 20220623,     1722,  29.9998,-149.6680,    23.8540,2,     -999.0,9,     -999.0,9,     -999.0,9,     -999.0,9,     0.0134,1,     4.6409,1,     -999.0,9,     -999.0,9,     -999.0,9,     -999.0,9,     -999.0,9
33RR20220613,       P02E,     138,          1,         35,         35,2,20220623,       1502,    29.9998,  -149.6680,       5764,    36.3,2,  23.8013,2,  35.4017,3,  35.3636,2,    214.6,3,   220.1,2,    0.20,2,    0.18,2,    0.00,2,    0.00,3,   1.738,6,   1.108,6,   1.8044,6,  2042.1,2,  2327.5,2,   8.0067,2,    25.01,2, -999.00,1,  -999.0,1, -999.00,1, -999.00,1,        7.1,6, 20220623,     1721,  29.9998,-149.6680,    23.7794,2,     -999.0,9,     -999.0,9,     -999.0,9,     -999.0,9,     0.0134,1,     4.6416,1,     -999.0,9,     -999.0,9,     -999.0,9,     -999.0,9,     -999.0,9
33RR20220613,       P02E,     138,          1,         34,         34,2,20220623,       1502,    29.9998,  -149.6680,       5764,    60.9,2,  21.0450,2,  35.2047,2,  35.2065,2,    232.7,2,   232.6,2,    0.20,2,    0.11,2,    0.00,2,    0.00,3,   1.889,2,   1.199,2,   1.9577,2,  2039.0,2,  2317.6,2,   7.9991,2,    25.01,2, -999.00,1,  -999.0,1, -999.00,1, -999.00,1,        7.5,2, 20220623,     1719,  29.9998,-149.6680,    21.0449,2,     -999.0,9,     -999.0,9,     -999.0,9,     -999.0,9,     0.0147,1,     4.6434,1,     -999.0,9,     -999.0,9,     -999.0,9,     -999.0,9,     -999.0,9
33RR20220613,       P02E,     138,          1,         33,         33,2,20220623,       1502,    29.9998,  -149.6680,       5764,    85.5,2,  20.8052,2,  35.2516,2,  35.2499,2,    230.2,2,   230.0,2,    0.20,2,    0.08,2,    0.00,2,    0.00,3,   1.926,2,   1.201,2,   1.9920,2,  2040.1,2,  2318.9,6,   7.9997,2,    25.03,2, -999.00,1,  -999.0,1, -999.00,1, -999.00,1,        7.5,2, 20220623,     1717,  29.9998,-149.6680,    20.8073,2,     -999.0,9,     -999.0,9,     -999.0,9,     -999.0,9,     0.0174,1,     4.6447,1,     -999.0,9,     -999.0,9,     -999.0,9,     -999.0,9,     -999.0,9
33RR20220613,       P02E,     138,          1,         32,         32,2,20220623,       1502,    29.9998,  -149.6680,       5764,   116.5,2,  20.5373,2,  35.2346,2,  35.2320,2,    226.3,2,   226.5,2,    0.20,2,    0.06,2,    0.00,2,    0.00,3,   1.892,2,   1.195,2,   1.9565,2,  2043.8,2,  2320.2,2,   7.9919,2,    25.02,2, -999.00,1,  -999.0,1, -999.00,1, -999.00,1,        7.6,2, 20220623,     1714,  29.9998,-149.6680,    20.5368,2,     -999.0,9,     -999.0,9,     -999.0,9,     -999.0,9,     0.0180,1,     4.6581,1,     -999.0,9,     -999.0,9,     -999.0,9,     -999.0,9,     -999.0,9
33RR20220613,       P02E,     138,          1,         31,         31,2,20220623,       1502,    29.9998,  -149.6680,       5764,   166.9,2,  19.5281,2,  35.0441,2,  35.0435,2,    216.6,2,   217.7,2,    0.68,2,    0.12,2,    0.10,2,    0.05,3,   1.992,2,   1.249,2,   1.8924,2,  2051.1,2,  2305.9,2,   7.9621,2,    25.00,2, -999.00,1,  -999.0,1, -999.00,1, -999.00,1,        8.8,2, 20220623,     1713,  29.9998,-149.6681,    19.5276,2,     -999.0,9,     -999.0,9,     -999.0,9,     -999.0,9,     0.0252,1,     4.6669,1,     -999.0,9,     -999.0,9,     -999.0,9,     -999.0,9,     -999.0,9
33RR20220613,       P02E,     138,          1,         30,         17,2,20220623,       1502,    29.9998,  -149.6680,       5764,   217.4,2,  15.3998,2,  34.3482,2,  34.3419,2,    217.1,2,   217.2,2,    2.74,2,    2.66,2,    0.00,2,    0.24,3,   2.444,2,   1.502,2,   2.1145,2,  2059.4,2,  2263.0,2,   7.8713,2,    25.02,2, -999.00,1,  -999.0,1, -999.00,1, -999.00,1,       11.9,2, 20220623,     1710,  29.9998,-149.6681,    15.4163,2,     -999.0,9,     -999.0,9,     -999.0,9,     -999.0,9,     0.0159,1,     4.6805,1,     -999.0,9,     -999.0,9,     -999.0,9,     -999.0,9,     -999.0,9
33RR20220613,       P02E,     138,          1,         29,         29,2,20220623,       1502,    29.9998,  -149.6680,       5764,   266.6,2,  12.6798,2,  34.1834,2,  34.1842,2,    212.1,2,   212.6,2,    7.43,2,    8.18,2,    0.00,2,    0.56,3,   2.741,2,   1.673,2,   2.0940,2,  2084.9,2,  2254.3,2,   7.8026,2,    25.03,2, -999.00,1,  -999.0,1, -999.00,1, -999.00,1,       13.7,2, 20220623,     1709,  29.9998,-149.6681,    12.6997,2,     -999.0,9,     -999.0,9,     -999.0,9,     -999.0,9,     0.0122,1,     4.6893,1,     -999.0,9,     -999.0,9,     -999.0,9,     -999.0,9,     -999.0,9
33RR20220613,       P02E,     138,          1,         28,         28,2,20220623,       1502,    29.9998,  -149.6680,       5764,   318.2,2,  11.6333,2,  34.1888,2,  34.1866,2,    211.5,2,   212.0,2,   11.34,2,   11.37,2,    0.00,2,    0.74,3,   2.799,2,   1.718,2,   2.1354,2,  2100.0,2,  2258.1,2,   7.7732,2,    25.03,2, -999.00,1,  -999.0,1, -999.00,1, -999.00,1,       16.0,2, 20220623,     1707,  29.9998,-149.6681,    11.6305,2,     -999.0,9,     -999.0,9,     -999.0,9,     -999.0,9,     0.0122,1,     4.6913,1,     -999.0,9,     -999.0,9,     -999.0,9,     -999.0,9,     -999.0,9
33RR20220613,       P02E,     138,          1,         27,         27,2,20220623,       1502,    29.9998,  -149.6680,       5764,   368.1,2,  10.4892,2,  34.1195,2,  34.1197,2,    208.7,2,   209.3,2,   15.45,2,   13.91,2,    0.00,2,    0.90,3,   2.924,2,   1.804,2,   1.7839,2,  2115.0,2,  2258.9,2,   7.7377,2,    25.03,2, -999.00,1,  -999.0,1, -999.00,1, -999.00,1,       18.0,2, 20220623,     1705,  29.9998,-149.6681,    10.4909,2,     -999.0,9,     -999.0,9,     -999.0,9,     -999.0,9,     0.0122,1,     4.6934,1,     -999.0,9,     -999.0,9,     -999.0,9,     -999.0,9,     -999.0,9
33RR20220613,       P02E,     138,          1,         26,         26,2,20220623,       1502,    29.9998,  -149.6680,       5764,   437.7,2,   9.1202,2,  34.0566,2,  34.0562,2,    192.3,2,   192.9,2,   24.34,2,   18.21,2,    0.00,2,    1.19,3,   2.970,2,   1.784,2,   1.7423,2,  2145.1,2,  2262.2,2,   7.6768,2,    25.02,2, -999.00,1,  -999.0,1, -999.00,1, -999.00,1,       22.2,2, 20220623,     1702,  29.9998,-149.6681,     9.1138,2,     -999.0,9,     -999.0,9,     -999.0,9,     -999.0,9,     0.0122,1,     4.6946,1,     -999.0,9,     -999.0,9,     -999.0,9,     -999.0,9,     -999.0,9
33RR20220613,       P02E,     138,          1,         25,         25,2,20220623,       1502,    29.9998,  -149.6680,       5764,   539.6,2,   7.0277,2,  33.9992,2,  33.9982,2,    133.0,2,   132.7,2,   47.51,2,   27.69,2,    0.00,2,    1.85,3,   2.528,2,   1.491,2,   0.9490,2,  2210.9,2,  2276.8,2,   7.5224,2,    25.03,2, -999.00,1,  -999.0,1, -999.00,1, -999.00,1,       29.5,2, 20220623,     1700,  29.9998,-149.6681,     7.0320,2,     -999.0,9,     -999.0,9,     -999.0,9,     -999.0,9,     0.0134,1,     4.6961,1,     -999.0,9,     -999.0,9,     -999.0,9,     -999.0,9,     -999.0,9
33RR20220613,       P02E,     138,          1,         24,         24,2,20220623,       1502,    29.9998,  -149.6680,       5764,   640.4,2,   5.5723,2,  34.0173,2,  34.0178,2,     82.8,3,    81.9,2,   68.53,2,   34.79,2,    0.00,2,    2.40,3,   1.761,2,   1.004,2,   0.5230,2,  -999.0,9,  -999.0,9,-999.0000,9,  -999.00,9, -999.00,1,  -999.0,1, -999.00,1, -999.00,1,       36.8,2, 20220623,     1657,  29.9998,-149.6681,     5.5843,2,     -999.0,9,     -999.0,9,     -999.0,9,     -999.0,9,     0.0127,1,     4.6964,1,     -999.0,9,     -999.0,9,     -999.0,9,     -999.0,9,     -999.0,9
33RR20220613,       P02E,     138,          1,         23,         23,2,20220623,       1502,    29.9998,  -149.6680,       5764,   742.2,2,   4.8029,2,  34.0946,2,  34.0989,2,     44.5,3,    45.0,2,   86.71,2,   39.99,2,    0.00,2,    2.71,3,   0.977,2,   0.526,2,   0.3127,2,  2309.3,2,  2314.1,2,   7.3320,2,    25.03,2, -999.00,1,  -999.0,1, -999.00,1, -999.00,1,       45.5,2, 20220623,     1654,  29.9998,-149.6680,     4.8010,2,     -999.0,9,     -999.0,9,     -999.0,9,     -999.0,9,     0.0134,1,     4.6971,1,     -999.0,9,     -999.0,9,     -999.0,9,     -999.0,9,     -999.0,9
33RR20220613,       P02E,     138,          1,         22,         22,2,20220623,       1502,    29.9998,  -149.6680,       5764,   841.8,2,   4.2790,2,  34.2104,2,  34.2120,2,     19.7,2,    19.5,2,  104.88,2,   42.16,2,    0.00,2,    2.98,3,   0.299,2,   0.167,2,   0.1509,2,  2338.3,2,  2335.5,2,   7.2973,2,    25.03,2, -999.00,1,  -999.0,1, -999.00,1, -999.00,1,       51.2,2, 20220623,     1652,  29.9998,-149.6680,     4.2790,2,     -999.0,9,     -999.0,9,     -999.0,9,     -999.0,9,     0.0134,1,     4.6975,1,     -999.0,9,     -999.0,9,     -999.0,9,     -999.0,9,     -999.0,9
33RR20220613,       P02E,     138,          1,         21,         21,2,20220623,       1502,    29.9998,  -149.6680,       5764,   942.3,2,   3.9697,2,  34.2985,2,  34.2980,2,     12.8,3,    12.2,2,  115.92,2,   43.12,2,    0.00,2,    3.10,4,   0.076,2,   0.048,2,   0.0000,2,  2361.0,2,  2352.6,2,   7.2966,2,    25.03,2, -999.00,1,  -999.0,1, -999.00,1, -999.00,1,       56.4,2, 20220623,     1649,  29.9998,-149.6680,     3.9688,2,     -999.0,9,     -999.0,9,     -999.0,9,     -999.0,9,     0.0134,1,     4.6974,1,     -999.0,9,     -999.0,9,     -999.0,9,     -999.0,9,     -999.0,9
33RR20220613,       P02E,     138,          1,         20,         20,2,20220623,       1502,    29.9998,  -149.6680,       5764,  1043.7,2,   3.7020,2,  34.3778,2,  34.3774,2,     15.0,3,    14.5,2,  124.51,2,   43.33,2,    0.00,2,    3.14,4,   0.019,2,   0.016,2,   0.0754,2,  2367.5,2,  2364.4,2,   7.3098,2,    25.04,2, -999.00,1,  -999.0,1, -999.00,1, -999.00,1,       53.8,2, 20220623,     1646,  29.9998,-149.6680,     3.7019,2,     -999.0,9,     -999.0,9,     -999.0,9,     -999.0,9,     0.0134,1,     4.6973,1,     -999.0,9,     -999.0,9,     -999.0,9,     -999.0,9,     -999.0,9
33RR20220613,       P02E,     138,          1,         19,         39,2,20220623,       1502,    29.9998,  -149.6680,       5764,  1144.8,2,   3.4533,2,  34.4399,2,  34.4389,2,     22.2,3,    21.9,2,  131.06,2,   43.17,2,    0.00,2,    3.16,4,   0.010,2,   0.009,2,   0.0000,2,  2370.1,2,  2378.1,2,   7.3322,2,    25.02,2, -999.00,1,  -999.0,1, -999.00,1, -999.00,1,       52.1,2, 20220623,     1643,  29.9998,-149.6681,     3.4537,2,     -999.0,9,     -999.0,9,     -999.0,9,     -999.0,9,     0.0134,1,     4.6981,1,     -999.0,9,     -999.0,9,     -999.0,9,     -999.0,9,     -999.0,9
33RR20220613,       P02E,     138,          1,         18,         18,2,20220623,       1502,    29.9998,  -149.6680,       5764,  1246.0,2,   3.2344,2,  34.4815,2,  34.4805,2,     31.2,3,    30.5,2,  135.65,2,   42.82,2,    0.00,2,    3.15,4,   0.005,2,   0.007,2,   0.0000,2,  2372.0,2,  2383.7,6,   7.3523,2,    25.00,2, -999.00,1,  -999.0,1, -999.00,1, -999.00,1,       47.4,2, 20220623,     1641,  29.9998,-149.6680,     3.2391,2,     -999.0,9,     -999.0,9,     -999.0,9,     -999.0,9,     0.0134,1,     4.6983,1,     -999.0,9,     -999.0,9,     -999.0,9,     -999.0,9,     -999.0,9
33RR20220613,       P02E,     138,          1,         17,         37,2,20220623,       1502,    29.9998,  -149.6680,       5764,  1349.1,2,   3.0280,2,  34.5118,2,  34.5115,2,     40.0,2,    40.1,2,  140.04,2,   42.44,2,    0.00,2,    3.14,4,   0.006,2,   0.006,2,   0.0000,2,  2371.2,2,  2391.1,6,   7.3712,2,    24.96,2, -999.00,1,  -999.0,1, -999.00,1, -999.00,1,       44.3,2, 20220623,     1638,  29.9998,-149.6680,     3.0272,2,     -999.0,9,     -999.0,9,     -999.0,9,     -999.0,9,     0.0134,1,     4.6993,1,     -999.0,9,     -999.0,9,     -999.0,9,     -999.0,9,     -999.0,9
33RR20220613,       P02E,     138,          1,         16,         16,2,20220623,       1502,    29.9998,  -149.6680,       5764,  1479.8,2,   2.7832,2,  34.5404,2,  34.5402,2,     50.0,2,    49.9,2,  145.51,2,   42.02,2,    0.00,2,    3.12,4,   0.005,2,   0.004,2,   0.0000,2,  -999.0,9,  -999.0,9,-999.0000,9,  -999.00,9, -999.00,1,  -999.0,1, -999.00,1, -999.00,1,       40.1,2, 20220623,     1635,  29.9998,-149.6681,     2.7835,2,     -999.0,9,     -999.0,9,     -999.0,9,     -999.0,9,     0.0134,1,     4.6995,1,     -999.0,9,     -999.0,9,     -999.0,9,     -999.0,9,     -999.0,9
33RR20220613,       P02E,     138,          1,         15,         15,2,20220623,       1502,    29.9998,  -149.6680,       5764,  1681.2,2,   2.4494,2,  34.5744,2,  34.5736,2,     62.2,2,    62.4,2,  153.23,2,   41.37,2,    0.00,2,    3.12,4,   0.004,2,   0.005,2,   0.0000,2,  2371.5,2,  2407.1,2,   7.4159,2,    25.00,2, -999.00,9,  -999.0,9, -999.00,1, -999.00,1,       37.5,2, 20220623,     1630,  29.9998,-149.6680,     2.4507,2,     -999.0,9,     -999.0,9,     -999.0,9,     -999.0,9,     0.0133,1,     4.7005,1,     -999.0,9,     -999.0,9,     -999.0,9,     -999.0,9,     -999.0,9
33RR20220613,       P02E,     138,          1,         14,         14,2,20220623,       1502,    29.9998,  -149.6680,       5764,  1885.6,2,   2.1883,2,  34.5982,2,  34.5983,2,     71.9,2,    71.9,2,  160.16,2,   40.80,2,    0.00,2,    3.11,4,   0.007,2,   0.005,2,   0.0000,2,  -999.0,9,  -999.0,9,-999.0000,9,  -999.00,9, -999.00,9,  -999.0,9, -999.00,1, -999.00,1,       36.4,2, 20220623,     1625,  29.9998,-149.6681,     2.1902,2,     -999.0,9,     -999.0,9,     -999.0,9,     -999.0,9,     0.0134,1,     4.7008,1,     -999.0,9,     -999.0,9,     -999.0,9,     -999.0,9,     -999.0,9
33RR20220613,       P02E,     138,          1,         13,         13,2,20220623,       1502,    29.9998,  -149.6680,       5764,  2107.4,2,   1.9747,2,  34.6177,2,  34.6166,2,     78.1,2,    78.2,2,  168.07,2,   40.34,2,    0.00,2,    3.12,4,   0.006,2,   0.004,2,   0.0000,2,  2373.2,2,  2423.9,6,   7.4471,2,    25.00,2, -999.00,1,  -999.0,1, -999.00,1, -999.00,1,       30.8,2, 20220623,     1621,  29.9998,-149.6680,     1.9752,2,     -999.0,9,     -999.0,9,     -999.0,9,     -999.0,9,     0.0130,1,     4.7017,1,     -999.0,9,     -999.0,9,     -999.0,9,     -999.0,9,     -999.0,9
33RR20220613,       P02E,     138,          1,         12,         12,2,20220623,       1502,    29.9998,  -149.6680,       5764,  2363.0,2,   1.8041,2,  34.6353,2,  34.6348,2,     88.3,2,    88.4,2,  171.98,4,   38.83,4,    0.00,4,    3.04,4,   0.010,2,   0.010,2,   0.0000,2,  -999.0,9,  -999.0,9,-999.0000,9,  -999.00,9, -999.00,9,  -999.0,9, -999.00,1, -999.00,1,       28.7,2, 20220623,     1615,  29.9998,-149.6680,     1.8043,2,     -999.0,9,     -999.0,9,     -999.0,9,     -999.0,9,     0.0133,1,     4.7019,1,     -999.0,9,     -999.0,9,     -999.0,9,     -999.0,9,     -999.0,9
33RR20220613,       P02E,     138,          1,         11,         11,2,20220623,       1502,    29.9998,  -149.6680,       5764,  2617.6,2,   1.6739,2,  34.6500,2,  34.6496,2,    102.5,2,   102.6,2,  171.49,4,   38.22,4,    0.00,4,    3.00,4,   0.006,2,   0.004,2,   0.0000,2,  2364.6,2,  2425.9,2,   7.4948,2,    25.00,2, -999.00,1,  -999.0,1, -999.00,1, -999.00,1,       26.5,2, 20220623,     1609,  29.9998,-149.6681,     1.6737,2,     -999.0,9,     -999.0,9,     -999.0,9,     -999.0,9,     0.0127,1,     4.7028,1,     -999.0,9,     -999.0,9,     -999.0,9,     -999.0,9,     -999.0,9
33RR20220613,       P02E,     138,          1,         10,         10,2,20220623,       1502,    29.9998,  -149.6680,       5764,  2873.0,2,   1.5860,2,  34.6602,2,  34.6602,2,    113.1,2,   113.2,2,  173.25,4,   39.59,4,    0.00,4,    3.11,4,   0.004,2,   0.000,2,   0.0000,2,  -999.0,9,  -999.0,9,-999.0000,9,  -999.00,9, -999.00,9,  -999.0,9, -999.00,1, -999.00,1,       24.9,2, 20220623,     1605,  29.9998,-149.6681,     1.5856,2,     -999.0,9,     -999.0,9,     -999.0,9,     -999.0,9,     0.0134,1,     4.7032,1,     -999.0,9,     -999.0,9,     -999.0,9,     -999.0,9,     -999.0,9
33RR20220613,       P02E,     138,          1,          9,          9,2,20220623,       1502,    29.9998,  -149.6680,       5764,  3143.8,2,   1.5188,2,  34.6694,2,  34.6692,2,    124.5,2,   124.5,2,  167.97,2,   37.47,2,    0.00,2,    2.93,4,   0.005,2,   0.003,2,   0.0000,2,  2349.1,2,  2427.9,2,   7.5329,2,    25.00,2, -999.00,1,  -999.0,1, -999.00,1, -999.00,1,       24.0,2, 20220623,     1559,  29.9998,-149.6680,     1.5187,2,     -999.0,9,     -999.0,9,     -999.0,9,     -999.0,9,     0.0124,1,     4.7034,1,     -999.0,9,     -999.0,9,     -999.0,9,     -999.0,9,     -999.0,9
33RR20220613,       P02E,     138,          1,          8,          8,2,20220623,       1502,    29.9998,  -149.6680,       5764,  3450.2,2,   1.4825,2,  34.6764,3,  34.6808,2,    134.3,2,   134.8,2,  164.65,2,   36.88,2,    0.00,2,    2.87,4,   0.009,2,   0.006,2,   0.0000,2,  -999.0,9,  -999.0,9,-999.0000,9,  -999.00,9, -999.00,9,  -999.0,9, -999.00,1, -999.00,1,       24.8,2, 20220623,     1553,  29.9998,-149.6680,     1.4827,2,     -999.0,9,     -999.0,9,     -999.0,9,     -999.0,9,     0.0122,1,     4.7032,1,     -999.0,9,     -999.0,9,     -999.0,9,     -999.0,9,     -999.0,9
33RR20220613,       P02E,     138,          1,          7,          7,2,20220623,       1502,    29.9998,  -149.6680,       5764,  3758.4,2,   1.4670,2,  34.6813,2,  34.6816,2,    141.3,2,   141.3,2,  162.01,2,   36.49,2,    0.00,2,    2.82,4,   0.006,2,   0.008,2,   0.0000,2,  2336.5,2,  2426.8,2,   7.5629,2,    25.00,2, -999.00,1,  -999.0,1, -999.00,1, -999.00,1,       22.3,2, 20220623,     1547,  29.9998,-149.6681,     1.4673,2,     -999.0,9,     -999.0,9,     -999.0,9,     -999.0,9,     0.0122,1,     4.7039,1,     -999.0,9,     -999.0,9,     -999.0,9,     -999.0,9,     -999.0,9
33RR20220613,       P02E,     138,          1,          6,          6,2,20220623,       1502,    29.9998,  -149.6680,       5764,  4100.9,2,   1.4740,2,  34.6845,3,  34.6948,2,    146.9,2,   147.0,2,  158.69,2,   36.13,2,    0.00,2,    2.78,4,-999.000,9,-999.000,9,-999.0000,9,  -999.0,9,  -999.0,9,-999.0000,9,  -999.00,9, -999.00,1,  -999.0,1, -999.00,1, -999.00,1,     -999.0,9, 20220623,     1540,  29.9998,-149.6680,     1.4740,2,     -999.0,9,     -999.0,9,     -999.0,9,     -999.0,9,     0.0122,1,     4.7043,1,     -999.0,9,     -999.0,9,     -999.0,9,     -999.0,9,     -999.0,9
33RR20220613,       P02E,     138,          1,          5,          5,2,20220623,       1502,    29.9998,  -149.6680,       5764,  4512.5,2,   1.4920,2,  34.6873,2,  34.6883,2,    152.1,2,   152.3,2,  154.87,2,   35.92,2,    0.00,2,    2.74,4,-999.000,5,-999.000,5,-999.0000,5,  2326.8,2,  2425.3,2,   7.5793,2,    25.01,2, -999.00,1,  -999.0,1, -999.00,1, -999.00,1,     -999.0,5, 20220623,     1532,  29.9998,-149.6680,     1.4919,2,     -999.0,9,     -999.0,9,     -999.0,9,     -999.0,9,     0.0122,1,     4.7042,1,     -999.0,9,     -999.0,9,     -999.0,9,     -999.0,9,     -999.0,9