BOTTLE,20230830CCHSIOCBG
EXPOCODE,SECT_ID,STNNBR,CASTNO,SAMPNO,BTLNBR,BTLNBR_FLAG_W,DATE,TIME,LATITUDE,LONGITUDE,DEPTH,CTDPRS,CTDPRS_FLAG_W,CTDTMP,CTDTMP_FLAG_W,CTDSAL,CTDSAL_FLAG_W,SALNTY,SALNTY_FLAG_W,CTDOXY,CTDOXY_FLAG_W,OXYGEN,OXYGEN_FLAG_W,SILCAT,SILCAT_FLAG_W,NITRAT,NITRAT_FLAG_W,NITRIT,NITRIT_FLAG_W,PHSPHT,PHSPHT_FLAG_W,CFC-11,CFC-11_FLAG_W,CFC-12,CFC-12_FLAG_W,SF6,SF6_FLAG_W,TCARBN,TCARBN_FLAG_W,ALKALI,ALKALI_FLAG_W,PH_TOT,PH_TOT_FLAG_W,PH_TMP,PH_TMP_FLAG_W,DELC13,DELC13_FLAG_W,DELC14,DELC14_FLAG_W,DOC,DOC_FLAG_W,TDN,TDN_FLAG_W,N2O,N2O_FLAG_W,BTL_DATE,BTL_TIME,BTL_LAT,BTL_LON,REFTMP,REFTMP_FLAG_W,POC,POC_FLAG_W,PON,PON_FLAG_W,POP,POP_FLAG_W,PCOD,PCOD_FLAG_W,CTDFLUOR,CTDFLUOR_FLAG_W,CTDXMISS,CTDXMISS_FLAG_W,HPLC,HPLC_FLAG_W,DNA,DNA_FLAG_W,FCM,FCM_FLAG_W,IMAGES,IMAGES_FLAG_W,VIRAL_ABUNDANCE,VIRAL_ABUNDANCE_FLAG_W
,,,,,,,,,,,METERS,DBAR,,ITS-90,,PSS-78,,PSS-78,,UMOL/KG,,UMOL/KG,,UMOL/KG,,UMOL/KG,,UMOL/KG,,UMOL/KG,,PMOL/KG,,PMOL/KG,,FMOL/KG,,UMOL/KG,,UMOL/KG,,,,DEG C,,/MILLE,,/MILLE,,UMOL/KG,,UMOL/KG,,NMOL/KG,,,,,,ITS-90,,UG/L,,UG/L,,UG/L,,UG/L,,VOLTS,,VOLTS,,,,,,,,,,,
33RR20220613,       P02E,     167,          2,          4,          4,2,20220702,       0555,    29.9997,  -132.9210,       4592,  3937.8,2,   1.4878,2,  34.6827,2,  34.6808,2,    140.2,2,   140.0,2,  163.28,2,   36.59,2,    0.00,2,    2.54,2,   0.005,2,   0.008,2,   0.0000,2,  -999.0,9,  -999.0,9,-999.0000,9,  -999.00,9, -999.00,9,  -999.0,9, -999.00,9, -999.00,9,       22.8,2, 20220702,      612,  29.9997,-132.9210,     1.4878,2,     -999.0,9,     -999.0,9,     -999.0,9,     -999.0,9,     0.0122,1,     4.7031,1,     -999.0,9,     -999.0,9,     -999.0,9,     -999.0,9,     -999.0,9
33RR20220613,       P02E,     167,          2,          3,          3,2,20220702,       0555,    29.9997,  -132.9210,       4592,  4245.2,2,   1.5115,2,  34.6841,2,  34.6834,2,    142.7,2,   143.0,2,  162.01,2,   36.44,2,    0.00,2,    2.53,2,   0.005,2,   0.007,2,   0.0000,2,  2339.2,2,  2430.9,2,   7.5685,2,    25.02,2, -999.00,9,  -999.0,9, -999.00,9, -999.00,9,       22.5,2, 20220702,      605,  29.9997,-132.9210,     1.5115,2,     -999.0,9,     -999.0,9,     -999.0,9,     -999.0,9,     0.0122,1,     4.7020,1,     -999.0,9,     -999.0,9,     -999.0,9,     -999.0,9,     -999.0,9
33RR20220613,       P02E,     167,          2,          2,          2,2,20220702,       0555,    29.9997,  -132.9210,       4592,  4476.6,2,   1.5359,2,  34.6845,2,  34.6828,2,    143.3,2,   143.7,2,  161.72,2,   36.43,2,    0.00,2,    2.53,2,   0.005,2,   0.009,2,   0.0000,2,  2338.3,2,  2429.6,6,   7.5696,2,    25.03,2, -999.00,9,  -999.0,9, -999.00,9, -999.00,9,       22.5,2, 20220702,      600,  29.9997,-132.9210,     1.5359,2,     -999.0,9,     -999.0,9,     -999.0,9,     -999.0,9,     0.0122,1,     4.7018,1,     -999.0,9,     -999.0,9,     -999.0,9,     -999.0,9,     -999.0,9
33RR20220613,       P02E,     167,          2,          1,          1,2,20220702,       0555,    29.9997,  -132.9210,       4592,  4664.9,2,   1.5585,2,  34.6845,2,  34.6834,2,    143.3,2,   143.3,2,  161.72,2,   36.47,2,    0.00,2,    2.54,2,   0.005,2,   0.008,2,   0.0000,2,  2339.9,6,  2429.8,2,   7.5702,2,    25.03,2, -999.00,9,  -999.0,9, -999.00,9, -999.00,9,       22.6,2, 20220702,      555,  29.9997,-132.9211,     1.5585,2,     -999.0,9,     -999.0,9,     -999.0,9,     -999.0,9,     0.0134,1,     4.7017,1,     -999.0,9,     -999.0,9,     -999.0,9,     -999.0,9,     -999.0,9