BOTTLE,20230830CCHSIOCBG
EXPOCODE,SECT_ID,STNNBR,CASTNO,SAMPNO,BTLNBR,BTLNBR_FLAG_W,DATE,TIME,LATITUDE,LONGITUDE,DEPTH,CTDPRS,CTDPRS_FLAG_W,CTDTMP,CTDTMP_FLAG_W,CTDSAL,CTDSAL_FLAG_W,SALNTY,SALNTY_FLAG_W,CTDOXY,CTDOXY_FLAG_W,OXYGEN,OXYGEN_FLAG_W,SILCAT,SILCAT_FLAG_W,NITRAT,NITRAT_FLAG_W,NITRIT,NITRIT_FLAG_W,PHSPHT,PHSPHT_FLAG_W,CFC-11,CFC-11_FLAG_W,CFC-12,CFC-12_FLAG_W,SF6,SF6_FLAG_W,TCARBN,TCARBN_FLAG_W,ALKALI,ALKALI_FLAG_W,PH_TOT,PH_TOT_FLAG_W,PH_TMP,PH_TMP_FLAG_W,DELC13,DELC13_FLAG_W,DELC14,DELC14_FLAG_W,DOC,DOC_FLAG_W,TDN,TDN_FLAG_W,N2O,N2O_FLAG_W,BTL_DATE,BTL_TIME,BTL_LAT,BTL_LON,REFTMP,REFTMP_FLAG_W,POC,POC_FLAG_W,PON,PON_FLAG_W,POP,POP_FLAG_W,PCOD,PCOD_FLAG_W,CTDFLUOR,CTDFLUOR_FLAG_W,CTDXMISS,CTDXMISS_FLAG_W,HPLC,HPLC_FLAG_W,DNA,DNA_FLAG_W,FCM,FCM_FLAG_W,IMAGES,IMAGES_FLAG_W,VIRAL_ABUNDANCE,VIRAL_ABUNDANCE_FLAG_W
,,,,,,,,,,,METERS,DBAR,,ITS-90,,PSS-78,,PSS-78,,UMOL/KG,,UMOL/KG,,UMOL/KG,,UMOL/KG,,UMOL/KG,,UMOL/KG,,PMOL/KG,,PMOL/KG,,FMOL/KG,,UMOL/KG,,UMOL/KG,,,,DEG C,,/MILLE,,/MILLE,,UMOL/KG,,UMOL/KG,,NMOL/KG,,,,,,ITS-90,,UG/L,,UG/L,,UG/L,,UG/L,,VOLTS,,VOLTS,,,,,,,,,,,
33RR20220613,       P02E,     176,          2,         36,         36,2,20220704,       2053,    29.9999,  -127.7248,       4489,     3.2,2,  19.3713,2,  33.5318,2,  33.5276,2,    235.8,2,   235.4,2,    0.88,2,    0.01,2,    0.00,2,    0.28,2,   2.037,2,   1.279,2,   2.0906,2,  2022.0,6,  2241.8,2,   7.9181,2,    25.03,2, -999.00,9,  -999.0,9, -999.00,1, -999.00,1,        8.1,2, 20220704,     2302,  29.9999,-127.7248,    19.4033,2,     -999.0,9,     -999.0,9,     -999.0,9,     -999.0,9,     0.0129,1,     4.6136,1,     -999.0,9,     -999.0,9,     -999.0,9,     -999.0,9,     -999.0,9
33RR20220613,       P02E,     176,          2,         35,         35,2,20220704,       2053,    29.9999,  -127.7248,       4489,    25.7,2,  19.1530,2,  33.5198,2,  33.5149,2,    236.2,2,   236.6,2,    0.78,2,    0.00,2,    0.00,2,    0.28,2,   2.041,2,   1.297,2,   2.0973,2,  2019.8,2,  2242.5,6,   7.9190,2,    25.01,2, -999.00,9,  -999.0,9, -999.00,1, -999.00,1,        7.9,2, 20220704,     2301,  29.9999,-127.7248,    19.1511,2,     -999.0,9,     -999.0,9,     -999.0,9,     -999.0,9,     0.0134,1,     4.6063,1,     -999.0,9,     -999.0,9,     -999.0,9,     -999.0,9,     -999.0,9
33RR20220613,       P02E,     176,          2,         34,         34,2,20220704,       2053,    29.9999,  -127.7248,       4489,    51.5,2,  17.9824,2,  33.5123,2,  33.5313,2,    246.3,2,   245.5,2,    0.78,2,    0.00,2,    0.00,2,    0.25,2,   2.188,2,   1.364,2,   2.3050,2,  2019.2,2,  2241.6,2,   7.9198,2,    25.00,2, -999.00,9,  -999.0,9, -999.00,1, -999.00,1,        8.3,2, 20220704,     2258,  29.9999,-127.7248,    17.9708,2,     -999.0,9,     -999.0,9,     -999.0,9,     -999.0,9,     0.0159,1,     4.6189,1,     -999.0,9,     -999.0,9,     -999.0,9,     -999.0,9,     -999.0,9
33RR20220613,       P02E,     176,          2,         33,         33,2,20220704,       2053,    29.9999,  -127.7248,       4489,    75.5,2,  17.6192,2,  33.5887,2,  33.5851,2,    245.5,2,   246.1,2,    0.88,2,    0.00,2,    0.00,2,    0.24,2,   2.215,2,   1.370,2,   2.3183,2,  2019.2,2,  2244.2,2,   7.9231,2,    25.02,2, -999.00,9,  -999.0,9, -999.00,1, -999.00,1,        8.5,2, 20220704,     2256,  29.9999,-127.7248,    17.6149,2,     -999.0,9,     -999.0,9,     -999.0,9,     -999.0,9,     0.0188,1,     4.6290,1,     -999.0,9,     -999.0,9,     -999.0,9,     -999.0,9,     -999.0,9
33RR20220613,       P02E,     176,          2,         32,         32,2,20220704,       2053,    29.9999,  -127.7248,       4489,   101.1,2,  17.0739,2,  33.6720,2,  33.6615,2,    243.6,2,   243.4,2,    0.98,2,    0.00,2,    0.00,2,    0.23,2,   2.243,2,   1.404,2,   2.2236,2,  2024.4,2,  2246.1,2,   7.9151,2,    25.00,2, -999.00,9,  -999.0,9, -999.00,1, -999.00,1,        8.6,2, 20220704,     2254,  29.9999,-127.7248,    17.0653,2,     -999.0,9,     -999.0,9,     -999.0,9,     -999.0,9,     0.0269,1,     4.6361,1,     -999.0,9,     -999.0,9,     -999.0,9,     -999.0,9,     -999.0,9
33RR20220613,       P02E,     176,          2,         31,         31,2,20220704,       2053,    29.9999,  -127.7248,       4489,   126.5,2,  15.5847,2,  33.6382,2,  33.6279,2,    233.0,2,   233.8,2,    1.66,2,    0.44,2,    0.08,2,    0.31,2,   2.410,2,   1.502,2,   2.2767,2,  2036.3,2,  2237.1,2,   7.8706,2,    25.02,2, -999.00,9,  -999.0,9, -999.00,1, -999.00,1,       10.0,2, 20220704,     2251,  29.9999,-127.7248,    15.5849,2,     -999.0,9,     -999.0,9,     -999.0,9,     -999.0,9,     0.0354,1,     4.6497,1,     -999.0,9,     -999.0,9,     -999.0,9,     -999.0,9,     -999.0,9
33RR20220613,       P02E,     176,          2,         30,         17,2,20220704,       2053,    29.9999,  -127.7248,       4489,   151.9,2,  12.4556,2,  33.3544,2,  33.3648,2,    219.1,2,   218.9,2,    5.09,2,    6.81,2,    0.02,2,    0.73,2,   2.755,2,   1.774,2,-999.0000,5,  2067.1,2,  2219.5,2,   7.7674,2,    25.01,2, -999.00,9,  -999.0,9, -999.00,1, -999.00,1,       12.7,2, 20220704,     2249,  29.9999,-127.7248,    12.4594,2,     -999.0,9,     -999.0,9,     -999.0,9,     -999.0,9,     0.0230,1,     4.6719,1,     -999.0,9,     -999.0,9,     -999.0,9,     -999.0,9,     -999.0,9
33RR20220613,       P02E,     176,          2,         29,         29,2,20220704,       2053,    29.9999,  -127.7248,       4489,   202.0,2,  10.0662,2,  33.6259,2,  33.6299,2,    174.5,2,   174.9,2,   15.94,2,   17.73,2,    0.00,2,    1.38,2,   2.941,2,   1.805,2,   2.0675,2,  2133.3,2,  2231.7,2,   7.6189,2,    25.02,2, -999.00,9,  -999.0,9, -999.00,1, -999.00,1,       19.1,2, 20220704,     2246,  29.9999,-127.7248,    10.0635,2,     -999.0,9,     -999.0,9,     -999.0,9,     -999.0,9,     0.0134,1,     4.6837,1,     -999.0,9,     -999.0,9,     -999.0,9,     -999.0,9,     -999.0,9
33RR20220613,       P02E,     176,          2,         28,         28,2,20220704,       2053,    29.9999,  -127.7248,       4489,   252.4,2,   9.1641,2,  33.9401,2,  33.9447,2,    156.5,2,   156.9,2,   24.73,2,   21.80,2,    0.00,2,    1.59,2,   2.870,2,   1.761,2,   1.6455,2,  2162.7,2,  2253.1,2,   7.5898,2,    25.00,2, -999.00,9,  -999.0,9, -999.00,1, -999.00,1,       24.6,2, 20220704,     2245,  29.9999,-127.7248,     9.1630,2,     -999.0,9,     -999.0,9,     -999.0,9,     -999.0,9,     0.0122,1,     4.6873,1,     -999.0,9,     -999.0,9,     -999.0,9,     -999.0,9,     -999.0,9
33RR20220613,       P02E,     176,          2,         27,         27,2,20220704,       2053,    29.9999,  -127.7248,       4489,   303.1,2,   8.5023,2,  34.0192,2,  34.0188,2,    129.1,2,   128.7,2,   34.02,2,   26.03,2,    0.00,2,    1.91,2,   2.665,2,   1.625,2,   1.1725,2,  2195.6,2,  2262.9,2,   7.5272,2,    25.02,2, -999.00,9,  -999.0,9, -999.00,1, -999.00,1,       28.9,2, 20220704,     2242,  29.9999,-127.7248,     8.5013,2,     -999.0,9,     -999.0,9,     -999.0,9,     -999.0,9,     0.0133,1,     4.6873,1,     -999.0,9,     -999.0,9,     -999.0,9,     -999.0,9,     -999.0,9
33RR20220613,       P02E,     176,          2,         26,         26,2,20220704,       2053,    29.9999,  -127.7248,       4489,   353.6,2,   7.5956,2,  34.0304,2,  34.0447,2,    104.2,2,   105.0,2,   43.69,2,   29.90,2,    0.00,2,    2.18,2,   2.435,2,   1.458,2,   0.9168,2,  -999.0,9,  -999.0,9,-999.0000,9,  -999.00,9, -999.00,9,  -999.0,9, -999.00,1, -999.00,1,       33.0,2, 20220704,     2241,  29.9999,-127.7248,     7.5956,2,     -999.0,9,     -999.0,9,     -999.0,9,     -999.0,9,     0.0128,1,     4.6873,1,     -999.0,9,     -999.0,9,     -999.0,9,     -999.0,9,     -999.0,9
33RR20220613,       P02E,     176,          2,         25,         25,2,20220704,       2053,    29.9999,  -127.7248,       4489,   403.6,2,   7.0109,2,  34.0809,2,  34.0780,2,     65.5,2,    65.7,2,   55.03,2,   34.26,2,    0.00,2,    2.55,2,   1.885,2,   1.124,2,   0.6411,2,  2259.6,2,  2281.1,2,   7.3835,2,    25.02,2, -999.00,9,  -999.0,9, -999.00,1, -999.00,1,       39.8,2, 20220704,     2238,  29.9999,-127.7248,     7.0150,2,     -999.0,9,     -999.0,9,     -999.0,9,     -999.0,9,     0.0134,1,     4.6859,1,     -999.0,9,     -999.0,9,     -999.0,9,     -999.0,9,     -999.0,9
33RR20220613,       P02E,     176,          2,         24,         24,2,20220704,       2053,    29.9999,  -127.7248,       4489,   453.9,2,   6.2861,2,  34.0819,2,  34.0829,2,     53.6,2,    53.7,2,   64.41,2,   36.79,2,    0.00,2,    2.71,2,   1.600,2,   0.929,2,   0.5091,2,  -999.0,9,  -999.0,9,-999.0000,9,  -999.00,9, -999.00,9,  -999.0,9, -999.00,1, -999.00,1,       41.0,2, 20220704,     2235,  29.9999,-127.7248,     6.2923,2,     -999.0,9,     -999.0,9,     -999.0,9,     -999.0,9,     0.0134,1,     4.6886,1,     -999.0,9,     -999.0,9,     -999.0,9,     -999.0,9,     -999.0,9
33RR20220613,       P02E,     176,          2,         23,         23,2,20220704,       2053,    29.9999,  -127.7248,       4489,   504.2,2,   5.8448,2,  34.1035,2,  34.1074,2,     42.7,2,    42.7,2,   72.04,2,   38.57,2,    0.00,2,    2.83,2,   1.252,2,   0.724,2,   0.3721,2,  2290.2,2,  2296.3,2,   7.3358,2,    25.02,2, -999.00,9,  -999.0,9, -999.00,1, -999.00,1,       44.0,2, 20220704,     2233,  29.9999,-127.7248,     5.8438,2,     -999.0,9,     -999.0,9,     -999.0,9,     -999.0,9,     0.0134,1,     4.6899,1,     -999.0,9,     -999.0,9,     -999.0,9,     -999.0,9,     -999.0,9
33RR20220613,       P02E,     176,          2,         22,         22,2,20220704,       2053,    29.9999,  -127.7248,       4489,   605.3,2,   5.2980,2,  34.2014,2,  34.2050,2,     21.7,3,    21.4,2,   85.62,2,   41.06,2,    0.00,2,    3.05,2,   0.552,2,   0.306,2,   0.2154,2,  2317.5,2,  2316.6,2,   7.3095,2,    25.00,2, -999.00,9,  -999.0,9, -999.00,1, -999.00,1,       49.5,2, 20220704,     2230,  30.0000,-127.7247,     5.2981,2,     -999.0,9,     -999.0,9,     -999.0,9,     -999.0,9,     0.0134,1,     4.6906,1,     -999.0,9,     -999.0,9,     -999.0,9,     -999.0,9,     -999.0,9
33RR20220613,       P02E,     176,          2,         21,         21,2,20220704,       2053,    29.9999,  -127.7248,       4489,   706.6,2,   4.8366,2,  34.2878,2,  34.2887,2,     14.5,2,    14.6,2,   96.85,2,   42.42,2,    0.00,2,    3.15,2,   0.186,2,   0.107,2,   0.1880,2,  2335.5,2,  2333.4,2,   7.3079,2,    25.00,2, -999.00,9,  -999.0,9, -999.00,1, -999.00,1,       53.4,2, 20220704,     2227,  29.9999,-127.7248,     4.8395,2,     -999.0,9,     -999.0,9,     -999.0,9,     -999.0,9,     0.0134,1,     4.6914,1,     -999.0,9,     -999.0,9,     -999.0,9,     -999.0,9,     -999.0,9
33RR20220613,       P02E,     176,          2,         20,         20,2,20220704,       2053,    29.9999,  -127.7248,       4489,   807.8,2,   4.4384,2,  34.3613,2,  34.3649,2,     15.7,3,    15.5,2,  106.32,2,   43.12,2,    0.00,2,    3.18,2,   0.050,2,   0.033,2,   0.0890,2,  2348.3,2,  2348.3,2,   7.3193,2,    25.03,2, -999.00,9,  -999.0,9, -999.00,1, -999.00,1,       53.9,2, 20220704,     2224,  29.9999,-127.7248,     4.4382,2,     -999.0,9,     -999.0,9,     -999.0,9,     -999.0,9,     0.0134,1,     4.6920,1,     -999.0,9,     -999.0,9,     -999.0,9,     -999.0,9,     -999.0,9
33RR20220613,       P02E,     176,          2,         19,         39,2,20220704,       2053,    29.9999,  -127.7248,       4489,   908.7,2,   4.0734,2,  34.4129,2,  34.4110,2,     20.9,2,    20.8,2,  113.85,2,   43.37,2,    0.00,2,    3.17,2,   0.021,2,   0.017,2,   0.0000,2,  -999.0,9,  -999.0,9,-999.0000,9,  -999.00,9, -999.00,9,  -999.0,9, -999.00,1, -999.00,1,       50.9,2, 20220704,     2221,  29.9999,-127.7248,     4.0743,2,     -999.0,9,     -999.0,9,     -999.0,9,     -999.0,9,     0.0134,1,     4.6922,1,     -999.0,9,     -999.0,9,     -999.0,9,     -999.0,9,     -999.0,9
33RR20220613,       P02E,     176,          2,         18,         18,2,20220704,       2053,    29.9999,  -127.7248,       4489,  1010.0,2,   3.8474,2,  34.4600,2,  34.4599,2,     27.5,2,    27.5,2,  118.73,2,   43.25,2,    0.00,2,    3.16,2,   0.012,2,   0.014,2,   0.0000,2,  -999.0,9,  -999.0,9,-999.0000,9,  -999.00,9, -999.00,9,  -999.0,9, -999.00,9, -999.00,9,       48.0,2, 20220704,     2215,  29.9999,-127.7248,     3.8479,2,     -999.0,9,     -999.0,9,     -999.0,9,     -999.0,9,     0.0134,1,     4.6933,1,     -999.0,9,     -999.0,9,     -999.0,9,     -999.0,9,     -999.0,9
33RR20220613,       P02E,     176,          2,         17,         37,2,20220704,       2053,    29.9999,  -127.7248,       4489,  1111.5,2,   3.6578,2,  34.4980,2,  34.4972,2,     31.9,3,    31.6,2,  123.12,2,   43.16,2,    0.00,2,    3.15,2,   0.010,2,   0.011,2,   0.0000,2,  2361.2,2,  2379.6,2,   7.3597,2,    25.02,2, -999.00,9,  -999.0,9, -999.00,1, -999.00,1,       46.3,2, 20220704,     2212,  29.9999,-127.7248,     3.6627,2,     -999.0,9,     -999.0,9,     -999.0,9,     -999.0,9,     0.0134,1,     4.6932,1,     -999.0,9,     -999.0,9,     -999.0,9,     -999.0,9,     -999.0,9
33RR20220613,       P02E,     176,          2,         16,         16,2,20220704,       2053,    29.9999,  -127.7248,       4489,  1212.3,2,   3.4334,2,  34.5166,2,  34.5182,2,     35.7,2,    36.0,2,  129.37,2,   43.00,2,    0.00,2,    3.14,2,   0.010,2,   0.009,2,   0.0000,2,  -999.0,9,  -999.0,9,-999.0000,9,  -999.00,9, -999.00,9,  -999.0,9, -999.00,1, -999.00,1,       43.6,2, 20220704,     2209,  29.9999,-127.7248,     3.4331,2,     -999.0,9,     -999.0,9,     -999.0,9,     -999.0,9,     0.0134,1,     4.6928,1,     -999.0,9,     -999.0,9,     -999.0,9,     -999.0,9,     -999.0,9
33RR20220613,       P02E,     176,          2,         15,         15,2,20220704,       2053,    29.9999,  -127.7248,       4489,  1313.4,2,   3.2232,2,  34.5348,2,  34.5355,2,     39.3,2,    39.4,2,  135.04,2,   42.93,2,    0.00,2,    3.13,2,   0.011,2,   0.011,2,   0.0000,2,  2368.9,2,  2391.0,2,   7.3754,2,    25.02,2, -999.00,9,  -999.0,9, -999.00,1, -999.00,1,       41.6,2, 20220704,     2207,  29.9999,-127.7248,     3.2240,2,     -999.0,9,     -999.0,9,     -999.0,9,     -999.0,9,     0.0134,1,     4.6930,1,     -999.0,9,     -999.0,9,     -999.0,9,     -999.0,9,     -999.0,9
33RR20220613,       P02E,     176,          2,         14,         42,2,20220704,       2053,    29.9999,  -127.7248,       4489,  1415.3,2,   2.9966,2,  34.5495,2,  34.5512,2,     45.6,2,    45.5,2,  140.12,2,   42.67,2,    0.00,2,    3.09,2,   0.010,2,   0.011,2,   0.0000,2,  -999.0,9,  -999.0,9,-999.0000,9,  -999.00,9, -999.00,9,  -999.0,9, -999.00,1, -999.00,1,       43.6,2, 20220704,     2203,  29.9999,-127.7248,     2.9994,2,     -999.0,9,     -999.0,9,     -999.0,9,     -999.0,9,     0.0134,1,     4.6944,1,     -999.0,9,     -999.0,9,     -999.0,9,     -999.0,9,     -999.0,9
33RR20220613,       P02E,     176,          2,         13,         13,2,20220704,       2053,    29.9999,  -127.7248,       4489,  1517.1,2,   2.8014,2,  34.5628,2,  34.5645,2,     51.4,2,    51.1,2,  145.10,2,   42.34,2,    0.00,2,    3.07,2,   0.007,2,   0.007,2,   0.0000,2,  2369.4,2,  2399.5,2,   7.3986,2,    25.02,2, -999.00,9,  -999.0,9, -999.00,1, -999.00,1,       39.4,2, 20220704,     2200,  29.9999,-127.7248,     2.8005,2,     -999.0,9,     -999.0,9,     -999.0,9,     -999.0,9,     0.0133,1,     4.6955,1,     -999.0,9,     -999.0,9,     -999.0,9,     -999.0,9,     -999.0,9
33RR20220613,       P02E,     176,          2,         12,         12,2,20220704,       2053,    29.9999,  -127.7248,       4489,  1617.7,2,   2.6415,2,  34.5757,2,  34.5783,2,     56.5,2,    56.2,2,  149.01,2,   42.06,2,    0.00,2,    3.03,2,   0.006,2,   0.007,2,   0.0000,2,  2372.3,2,  2403.7,2,   7.4080,2,    25.01,2, -999.00,9,  -999.0,9, -999.00,1, -999.00,1,       37.6,2, 20220704,     2157,  29.9998,-127.7248,     2.6384,2,     -999.0,9,     -999.0,9,     -999.0,9,     -999.0,9,     0.0134,1,     4.6955,1,     -999.0,9,     -999.0,9,     -999.0,9,     -999.0,9,     -999.0,9
33RR20220613,       P02E,     176,          2,         11,         11,2,20220704,       2053,    29.9999,  -127.7248,       4489,  1820.6,2,   2.3448,2,  34.5993,2,  34.6003,2,     68.1,2,    68.2,2,  155.65,2,   41.38,2,    0.00,2,    2.96,2,   0.005,2,   0.003,2,   0.0000,2,  2369.9,2,  2411.3,2,   7.4301,2,    25.02,2, -999.00,9,  -999.0,9, -999.00,1, -999.00,1,       36.2,2, 20220704,     2152,  29.9999,-127.7249,     2.3445,2,     -999.0,9,     -999.0,9,     -999.0,9,     -999.0,9,     0.0134,1,     4.6965,1,     -999.0,9,     -999.0,9,     -999.0,9,     -999.0,9,     -999.0,9
33RR20220613,       P02E,     176,          2,         10,         10,2,20220704,       2053,    29.9999,  -127.7248,       4489,  2023.7,2,   2.1243,2,  34.6178,2,  34.6185,2,     79.5,2,    79.7,2,  159.95,2,   40.71,2,    0.00,2,    2.89,2,   0.004,2,   0.004,2,   0.0000,2,  -999.0,9,  -999.0,9,-999.0000,9,  -999.00,9, -999.00,9,  -999.0,9, -999.00,1, -999.00,1,       33.5,2, 20220704,     2147,  29.9998,-127.7248,     2.1241,2,     -999.0,9,     -999.0,9,     -999.0,9,     -999.0,9,     0.0129,1,     4.6972,1,     -999.0,9,     -999.0,9,     -999.0,9,     -999.0,9,     -999.0,9
33RR20220613,       P02E,     176,          2,          9,          9,2,20220704,       2053,    29.9999,  -127.7248,       4489,  2277.4,2,   1.9263,2,  34.6365,2,  34.6378,2,     92.7,2,    92.6,2,  162.87,2,   39.97,2,    0.00,2,    2.81,2,   0.007,2,   0.005,2,   0.0000,2,  2365.4,2,  2423.2,2,   7.4780,2,    25.03,2, -999.00,9,  -999.0,9, -999.00,1, -999.00,1,       29.0,2, 20220704,     2142,  29.9998,-127.7248,     1.9259,2,     -999.0,9,     -999.0,9,     -999.0,9,     -999.0,9,     0.0134,1,     4.6979,1,     -999.0,9,     -999.0,9,     -999.0,9,     -999.0,9,     -999.0,9
33RR20220613,       P02E,     176,          2,          8,          8,2,20220704,       2053,    29.9999,  -127.7248,       4489,  2532.7,2,   1.7903,2,  34.6462,3,  34.6641,2,    101.2,2,   101.5,2,  166.39,2,   39.39,2,    0.00,2,    2.77,2,   0.003,6,   0.004,6,   0.0000,6,  -999.0,9,  -999.0,9,-999.0000,9,  -999.00,9, -999.00,9,  -999.0,9, -999.00,1, -999.00,1,       27.6,6, 20220704,     2136,  29.9999,-127.7249,     1.7900,2,     -999.0,9,     -999.0,9,     -999.0,9,     -999.0,9,     0.0134,1,     4.6985,1,     -999.0,9,     -999.0,9,     -999.0,9,     -999.0,9,     -999.0,9
33RR20220613,       P02E,     176,          2,          7,          7,2,20220704,       2053,    29.9999,  -127.7248,       4489,  2788.2,2,   1.6656,2,  34.6557,2,  34.6576,2,    110.2,2,   110.1,2,  168.83,2,   38.87,2,    0.00,2,    2.72,2,   0.005,2,   0.005,2,   0.0000,2,  2356.9,2,  2426.8,2,   7.5104,2,    25.03,2, -999.00,9,  -999.0,9, -999.00,1, -999.00,1,       26.7,2, 20220704,     2131,  29.9998,-127.7248,     1.6655,2,     -999.0,9,     -999.0,9,     -999.0,9,     -999.0,9,     0.0131,1,     4.6989,1,     -999.0,9,     -999.0,9,     -999.0,9,     -999.0,9,     -999.0,9
33RR20220613,       P02E,     176,          2,          6,          6,2,20220704,       2053,    29.9999,  -127.7248,       4489,  3043.1,2,   1.5788,2,  34.6638,2,  34.6635,2,    118.6,2,   118.6,2,  169.61,2,   38.31,2,    0.00,2,    2.66,2,   0.006,2,   0.008,2,   0.0000,2,  -999.0,9,  -999.0,9,-999.0000,9,  -999.00,9, -999.00,9,  -999.0,9, -999.00,1, -999.00,1,       24.9,2, 20220704,     2126,  29.9999,-127.7249,     1.5787,2,     -999.0,9,     -999.0,9,     -999.0,9,     -999.0,9,     0.0129,1,     4.6995,1,     -999.0,9,     -999.0,9,     -999.0,9,     -999.0,9,     -999.0,9
33RR20220613,       P02E,     176,          2,          5,          5,2,20220704,       2053,    29.9999,  -127.7248,       4489,  3349.1,2,   1.5312,2,  34.6701,2,  34.6712,2,    126.4,2,   126.7,2,  169.22,2,   37.88,2,    0.00,2,    2.63,2,   0.006,2,   0.009,2,   0.0000,2,  2347.9,2,  2428.7,2,   7.5403,2,    25.05,2, -999.00,9,  -999.0,9, -999.00,1, -999.00,1,       24.3,2, 20220704,     2119,  29.9999,-127.7249,     1.5310,2,     -999.0,9,     -999.0,9,     -999.0,9,     -999.0,9,     0.0123,1,     4.6996,1,     -999.0,9,     -999.0,9,     -999.0,9,     -999.0,9,     -999.0,9