BOTTLE,20230830CCHSIOCBG
EXPOCODE,SECT_ID,STNNBR,CASTNO,SAMPNO,BTLNBR,BTLNBR_FLAG_W,DATE,TIME,LATITUDE,LONGITUDE,DEPTH,CTDPRS,CTDPRS_FLAG_W,CTDTMP,CTDTMP_FLAG_W,CTDSAL,CTDSAL_FLAG_W,SALNTY,SALNTY_FLAG_W,CTDOXY,CTDOXY_FLAG_W,OXYGEN,OXYGEN_FLAG_W,SILCAT,SILCAT_FLAG_W,NITRAT,NITRAT_FLAG_W,NITRIT,NITRIT_FLAG_W,PHSPHT,PHSPHT_FLAG_W,CFC-11,CFC-11_FLAG_W,CFC-12,CFC-12_FLAG_W,SF6,SF6_FLAG_W,TCARBN,TCARBN_FLAG_W,ALKALI,ALKALI_FLAG_W,PH_TOT,PH_TOT_FLAG_W,PH_TMP,PH_TMP_FLAG_W,DELC13,DELC13_FLAG_W,DELC14,DELC14_FLAG_W,DOC,DOC_FLAG_W,TDN,TDN_FLAG_W,N2O,N2O_FLAG_W,BTL_DATE,BTL_TIME,BTL_LAT,BTL_LON,REFTMP,REFTMP_FLAG_W,POC,POC_FLAG_W,PON,PON_FLAG_W,POP,POP_FLAG_W,PCOD,PCOD_FLAG_W,CTDFLUOR,CTDFLUOR_FLAG_W,CTDXMISS,CTDXMISS_FLAG_W,HPLC,HPLC_FLAG_W,DNA,DNA_FLAG_W,FCM,FCM_FLAG_W,IMAGES,IMAGES_FLAG_W,VIRAL_ABUNDANCE,VIRAL_ABUNDANCE_FLAG_W
,,,,,,,,,,,METERS,DBAR,,ITS-90,,PSS-78,,PSS-78,,UMOL/KG,,UMOL/KG,,UMOL/KG,,UMOL/KG,,UMOL/KG,,UMOL/KG,,PMOL/KG,,PMOL/KG,,FMOL/KG,,UMOL/KG,,UMOL/KG,,,,DEG C,,/MILLE,,/MILLE,,UMOL/KG,,UMOL/KG,,NMOL/KG,,,,,,ITS-90,,UG/L,,UG/L,,UG/L,,UG/L,,VOLTS,,VOLTS,,,,,,,,,,,
33RR20220613,       P02E,     126,          1,         36,         36,2,20220619,       1359,    29.9991,  -156.5950,       5905,     4.2,2,  24.3585,2,  35.1936,2,  35.1914,2,    213.6,2,   213.2,2,    0.10,2,    0.02,2,    0.00,2,    0.00,4,   1.662,2,   1.057,2,   1.7111,2,  2024.2,2,  2313.1,2,   8.0201,2,    25.02,2, -999.00,1,  -999.0,1, -999.00,1, -999.00,1,        7.2,2, 20220619,     1640,  29.9991,-156.5950,    24.3566,2,     -999.0,9,     -999.0,9,     -999.0,9,     -999.0,9,     0.0135,1,     4.6368,1,     -999.0,9,     -999.0,9,     -999.0,9,     -999.0,9,     -999.0,9
33RR20220613,       P02E,     126,          1,         35,         35,2,20220619,       1359,    29.9991,  -156.5950,       5905,    20.5,2,  24.3597,2,  35.1933,2,  35.1912,2,    213.5,2,   213.3,2,    0.20,2,    0.04,2,    0.00,2,    0.00,4,   1.645,6,   1.054,6,   1.7864,6,  2024.3,6,  2312.2,2,   8.0203,2,    25.02,2, -999.00,1,  -999.0,1, -999.00,1, -999.00,1,        7.2,6, 20220619,     1638,  29.9992,-156.5950,    24.3571,2,     -999.0,9,     -999.0,9,     -999.0,9,     -999.0,9,     0.0134,1,     4.6394,1,     -999.0,9,     -999.0,9,     -999.0,9,     -999.0,9,     -999.0,9
33RR20220613,       P02E,     126,          1,         34,         34,2,20220619,       1359,    29.9991,  -156.5950,       5905,    41.2,2,  22.2658,2,  35.1641,2,  35.1675,2,    230.5,2,   230.6,2,    0.49,2,    0.00,2,    0.00,2,    0.00,4,   1.917,2,   1.167,2,   1.8454,2,  2026.9,2,  2311.0,2,   8.0172,2,    25.01,2, -999.00,1,  -999.0,1, -999.00,1, -999.00,1,        7.8,2, 20220619,     1636,  29.9991,-156.5950,    22.2508,2,     -999.0,9,     -999.0,9,     -999.0,9,     -999.0,9,     0.0147,1,     4.6252,1,     -999.0,9,     -999.0,9,     -999.0,9,     -999.0,9,     -999.0,9
33RR20220613,       P02E,     126,          1,         33,         33,2,20220619,       1359,    29.9991,  -156.5950,       5905,    66.4,2,  20.6151,2,  35.0932,2,  35.0811,2,    231.7,2,   232.4,2,    0.10,2,    0.00,2,    0.00,2,    0.00,4,   1.970,2,   1.216,2,   1.8520,2,  2030.1,2,  2304.2,2,   7.9992,2,    25.02,2, -999.00,1,  -999.0,1, -999.00,1, -999.00,1,        8.1,2, 20220619,     1635,  29.9991,-156.5950,    20.6391,2,     -999.0,9,     -999.0,9,     -999.0,9,     -999.0,9,     0.0151,1,     4.6332,1,     -999.0,9,     -999.0,9,     -999.0,9,     -999.0,9,     -999.0,9
33RR20220613,       P02E,     126,          1,         32,         32,2,20220619,       1359,    29.9991,  -156.5950,       5905,    91.2,2,  19.2568,2,  34.9299,2,  34.9296,2,    230.4,2,   230.5,2,    0.59,2,    0.00,2,    0.00,2,    0.02,4,   2.058,2,   1.277,2,   1.9861,2,  2033.8,2,  2296.2,2,   7.9748,2,    24.98,2, -999.00,1,  -999.0,1, -999.00,1, -999.00,1,        8.5,2, 20220619,     1633,  29.9991,-156.5950,    19.2588,2,     -999.0,9,     -999.0,9,     -999.0,9,     -999.0,9,     0.0195,1,     4.6465,1,     -999.0,9,     -999.0,9,     -999.0,9,     -999.0,9,     -999.0,9
33RR20220613,       P02E,     126,          1,         31,         31,2,20220619,       1359,    29.9991,  -156.5950,       5905,   135.8,2,  16.8205,2,  34.5893,2,  34.5920,2,    235.5,2,   235.1,2,    1.66,2,    0.11,2,    0.06,2,    0.07,4,   2.234,2,   1.374,2,   2.0845,2,  2038.6,2,  2272.8,2,   7.9342,2,    25.02,2, -999.00,1,  -999.0,1, -999.00,1, -999.00,1,        9.8,2, 20220619,     1630,  29.9991,-156.5950,    16.8220,2,     -999.0,9,     -999.0,9,     -999.0,9,     -999.0,9,     0.0313,1,     4.6557,1,     -999.0,9,     -999.0,9,     -999.0,9,     -999.0,9,     -999.0,9
33RR20220613,       P02E,     126,          1,         30,         40,2,20220619,       1359,    29.9991,  -156.5950,       5905,   186.6,2,  14.8115,2,  34.4355,2,  34.4341,2,    213.7,2,   214.0,2,    4.01,2,    5.13,2,    0.02,2,    0.29,4,   2.439,2,   1.516,2,   2.1730,2,  2071.2,2,  2264.8,2,   7.8589,2,    25.01,2, -999.00,1,  -999.0,1, -999.00,1, -999.00,1,       14.1,2, 20220619,     1629,  29.9991,-156.5950,    14.8095,2,     -999.0,9,     -999.0,9,     -999.0,9,     -999.0,9,     0.0175,1,     4.6787,1,     -999.0,9,     -999.0,9,     -999.0,9,     -999.0,9,     -999.0,9
33RR20220613,       P02E,     126,          1,         29,         29,2,20220619,       1359,    29.9991,  -156.5950,       5905,   237.1,2,  13.1770,2,  34.3095,2,  34.3084,2,    211.7,2,   212.7,2,    6.94,2,    8.58,2,    0.01,2,    0.46,4,   2.653,2,   1.607,2,   2.0417,2,  2083.3,2,  2261.7,6,   7.8170,2,    25.01,2, -999.00,1,  -999.0,1, -999.00,1, -999.00,1,       14.9,2, 20220619,     1627,  29.9992,-156.5950,    13.1766,2,     -999.0,9,     -999.0,9,     -999.0,9,     -999.0,9,     0.0122,1,     4.6885,1,     -999.0,9,     -999.0,9,     -999.0,9,     -999.0,9,     -999.0,9
33RR20220613,       P02E,     126,          1,         28,         28,2,20220619,       1359,    29.9991,  -156.5950,       5905,   287.1,2,  12.0485,2,  34.2524,2,  34.2464,2,    213.0,2,   212.2,2,   10.37,2,   11.18,2,    0.01,2,    0.58,4,   2.724,2,   1.681,2,   2.0733,2,  2098.2,2,  2259.9,2,   7.7879,2,    25.02,2, -999.00,1,  -999.0,1, -999.00,1, -999.00,1,       17.2,2, 20220619,     1625,  29.9991,-156.5950,    12.0497,2,     -999.0,9,     -999.0,9,     -999.0,9,     -999.0,9,     0.0122,1,     4.6908,1,     -999.0,9,     -999.0,9,     -999.0,9,     -999.0,9,     -999.0,9
33RR20220613,       P02E,     126,          1,         27,         27,2,20220619,       1359,    29.9991,  -156.5950,       5905,   337.4,2,  11.1349,2,  34.1910,2,  34.1907,2,    209.9,2,   210.2,2,   13.20,2,   13.15,2,    0.01,2,    0.69,4,   2.896,2,   1.738,2,   1.9751,2,  2109.7,2,  2260.9,2,   7.7615,2,    25.02,2, -999.00,1,  -999.0,1, -999.00,1, -999.00,1,       18.0,2, 20220619,     1623,  29.9992,-156.5950,    11.1407,2,     -999.0,9,     -999.0,9,     -999.0,9,     -999.0,9,     0.0122,1,     4.6927,1,     -999.0,9,     -999.0,9,     -999.0,9,     -999.0,9,     -999.0,9
33RR20220613,       P02E,     126,          1,         26,         26,2,20220619,       1359,    29.9991,  -156.5950,       5905,   387.0,2,   9.8677,2,  34.1061,2,  34.1083,2,    202.1,3,   204.5,2,   18.88,2,   16.20,2,    0.01,2,    0.86,4,   2.896,2,   1.748,2,   1.8349,2,  2127.6,2,  2262.6,2,   7.7190,2,    25.02,2, -999.00,1,  -999.0,1, -999.00,1, -999.00,1,       20.9,2, 20220619,     1621,  29.9991,-156.5950,     9.8666,2,     -999.0,9,     -999.0,9,     -999.0,9,     -999.0,9,     0.0122,1,     4.6947,1,     -999.0,9,     -999.0,9,     -999.0,9,     -999.0,9,     -999.0,9
33RR20220613,       P02E,     126,          1,         25,         25,2,20220619,       1359,    29.9991,  -156.5950,       5905,   468.9,2,   8.2053,2,  34.0267,2,  34.0249,2,    173.6,2,   173.9,2,   32.38,2,   22.54,2,    0.02,2,    1.22,4,   2.827,2,   1.673,2,   1.3592,2,  2169.7,2,  2268.6,2,   7.6243,2,    25.00,2, -999.00,1,  -999.0,1, -999.00,1, -999.00,1,       25.5,2, 20220619,     1617,  29.9991,-156.5950,     8.2194,2,     -999.0,9,     -999.0,9,     -999.0,9,     -999.0,9,     0.0130,1,     4.6969,1,     -999.0,9,     -999.0,9,     -999.0,9,     -999.0,9,     -999.0,9
33RR20220613,       P02E,     126,          1,         24,         24,2,20220619,       1359,    29.9991,  -156.5950,       5905,   568.8,2,   6.4474,2,  33.9892,2,  33.9876,2,    127.2,2,   126.6,2,   53.21,2,   30.37,2,    0.02,2,    1.69,4,   2.335,2,   1.370,2,   0.8526,2,  2225.5,2,  2283.8,2,   7.4996,2,    25.01,2, -999.00,1,  -999.0,1, -999.00,1, -999.00,1,       32.9,2, 20220619,     1615,  29.9991,-156.5950,     6.4461,2,     -999.0,9,     -999.0,9,     -999.0,9,     -999.0,9,     0.0129,1,     4.6977,1,     -999.0,9,     -999.0,9,     -999.0,9,     -999.0,9,     -999.0,9
33RR20220613,       P02E,     126,          1,         23,         23,2,20220619,       1359,    29.9991,  -156.5950,       5905,   669.7,2,   5.0525,2,  34.0301,2,  34.0290,2,     78.7,2,    79.3,2,   77.37,2,   36.98,2,    0.02,2,    2.12,4,   1.587,2,   0.894,2,   0.5001,2,  2278.1,2,  2305.3,2,   7.3907,2,    25.01,2, -999.00,1,  -999.0,1, -999.00,1, -999.00,1,       42.9,2, 20220619,     1613,  29.9991,-156.5950,     5.0365,2,     -999.0,9,     -999.0,9,     -999.0,9,     -999.0,9,     0.0134,1,     4.6971,1,     -999.0,9,     -999.0,9,     -999.0,9,     -999.0,9,     -999.0,9
33RR20220613,       P02E,     126,          1,         22,         22,2,20220619,       1359,    29.9991,  -156.5950,       5905,   771.5,2,   4.3523,2,  34.1516,2,  34.1505,2,     31.8,3,    32.7,2,   98.79,2,   42.14,2,    0.02,2,    2.46,4,   0.572,2,   0.309,2,   0.2260,2,  2330.5,2,  2329.1,2,   7.3118,2,    25.01,2, -999.00,1,  -999.0,1, -999.00,1, -999.00,1,       52.6,2, 20220619,     1609,  29.9991,-156.5950,     4.3595,2,     -999.0,9,     -999.0,9,     -999.0,9,     -999.0,9,     0.0134,1,     4.6983,1,     -999.0,9,     -999.0,9,     -999.0,9,     -999.0,9,     -999.0,9
33RR20220613,       P02E,     126,          1,         21,         21,2,20220619,       1359,    29.9991,  -156.5950,       5905,   872.1,2,   4.0474,2,  34.2393,2,  34.2368,2,     17.2,3,    16.8,2,  110.13,2,   43.41,2,    0.02,2,    2.60,4,   0.195,2,   0.114,2,   0.1242,2,  -999.0,9,  -999.0,9,-999.0000,9,  -999.00,9, -999.00,1,  -999.0,1, -999.00,1, -999.00,1,       59.3,2, 20220619,     1607,  29.9991,-156.5950,     4.0417,2,     -999.0,9,     -999.0,9,     -999.0,9,     -999.0,9,     0.0134,1,     4.6994,1,     -999.0,9,     -999.0,9,     -999.0,9,     -999.0,9,     -999.0,9
33RR20220613,       P02E,     126,          1,         20,         20,2,20220619,       1359,    29.9991,  -156.5950,       5905,   973.3,2,   3.7672,2,  34.3379,2,  34.3360,2,     12.5,3,    12.4,2,  120.68,2,   43.93,2,    0.02,2,    2.68,4,   0.039,2,   0.029,2,   0.0847,2,  2365.1,2,  2359.7,2,   7.2983,2,    25.02,2, -999.00,1,  -999.0,1, -999.00,1, -999.00,1,       63.4,2, 20220619,     1604,  29.9992,-156.5950,     3.7701,2,     -999.0,9,     -999.0,9,     -999.0,9,     -999.0,9,     0.0134,1,     4.6983,1,     -999.0,9,     -999.0,9,     -999.0,9,     -999.0,9,     -999.0,9
33RR20220613,       P02E,     126,          1,         19,         39,2,20220619,       1359,    29.9991,  -156.5950,       5905,  1074.8,2,   3.5326,2,  34.4084,2,  34.4067,2,     17.1,2,    17.0,2,  127.23,2,   43.80,2,    0.02,2,    2.71,4,   0.016,2,   0.015,2,   0.0000,2,  2368.8,2,  2372.1,2,   7.3146,2,    25.01,2, -999.00,1,  -999.0,1, -999.00,1, -999.00,1,       59.8,2, 20220619,     1601,  29.9992,-156.5950,     3.5323,2,     -999.0,9,     -999.0,9,     -999.0,9,     -999.0,9,     0.0134,1,     4.6983,1,     -999.0,9,     -999.0,9,     -999.0,9,     -999.0,9,     -999.0,9
33RR20220613,       P02E,     126,          1,         18,         18,2,20220619,       1359,    29.9991,  -156.5950,       5905,  1174.3,2,   3.2877,2,  34.4519,2,  34.4506,2,     21.4,3,    20.9,2,  133.68,2,   43.80,2,    0.02,2,    2.74,4,   0.009,2,   0.007,2,   0.0000,2,  2375.7,2,  2382.2,2,   7.3272,2,    25.00,2, -999.00,1,  -999.0,1, -999.00,1, -999.00,1,       56.1,2, 20220619,     1558,  29.9992,-156.5950,     3.2886,2,     -999.0,9,     -999.0,9,     -999.0,9,     -999.0,9,     0.0134,1,     4.6987,1,     -999.0,9,     -999.0,9,     -999.0,9,     -999.0,9,     -999.0,9
33RR20220613,       P02E,     126,          1,         17,         37,2,20220619,       1359,    29.9991,  -156.5950,       5905,  1276.8,2,   3.0700,2,  34.4926,2,  34.4911,2,     29.4,2,    29.1,2,  138.66,2,   43.47,2,    0.02,2,    2.73,4,   0.006,2,   0.008,2,   0.0000,2,  2376.3,2,  2391.6,2,   7.3469,2,    24.99,2, -999.00,1,  -999.0,1, -999.00,1, -999.00,1,       51.9,2, 20220619,     1555,  29.9991,-156.5950,     3.0709,2,     -999.0,9,     -999.0,9,     -999.0,9,     -999.0,9,     0.0134,1,     4.6995,1,     -999.0,9,     -999.0,9,     -999.0,9,     -999.0,9,     -999.0,9
33RR20220613,       P02E,     126,          1,         16,         16,2,20220619,       1359,    29.9991,  -156.5950,       5905,  1378.1,2,   2.8900,2,  34.5209,2,  34.5186,2,     38.0,2,    38.0,2,  142.57,2,   43.02,2,    0.02,2,    2.72,4,   0.007,2,   0.012,2,   0.0000,2,  -999.0,9,  -999.0,9,-999.0000,9,  -999.00,9, -999.00,1,  -999.0,1, -999.00,1, -999.00,1,       47.8,2, 20220619,     1552,  29.9992,-156.5950,     2.8974,2,     -999.0,9,     -999.0,9,     -999.0,9,     -999.0,9,     0.0134,1,     4.7002,1,     -999.0,9,     -999.0,9,     -999.0,9,     -999.0,9,     -999.0,9
33RR20220613,       P02E,     126,          1,         15,         15,2,20220619,       1359,    29.9991,  -156.5950,       5905,  1552.0,2,   2.5552,2,  34.5589,2,  34.5569,2,     52.8,2,    52.9,2,  149.90,2,   42.24,2,    0.02,2,    2.71,4,   0.006,2,   0.007,2,   0.0000,2,  2373.7,2,  2407.4,2,   7.3960,2,    24.98,2, -999.00,9,  -999.0,9, -999.00,1, -999.00,1,       42.4,2, 20220619,     1548,  29.9992,-156.5950,     2.5590,2,     -999.0,9,     -999.0,9,     -999.0,9,     -999.0,9,     0.0132,1,     4.7008,1,     -999.0,9,     -999.0,9,     -999.0,9,     -999.0,9,     -999.0,9
33RR20220613,       P02E,     126,          1,         14,         14,2,20220619,       1359,    29.9991,  -156.5950,       5905,  1753.4,2,   2.3056,2,  34.5850,2,  34.5830,2,     69.5,3,    70.6,2,  152.14,2,   41.26,2,    0.02,2,    2.67,4,   0.013,2,   0.008,2,   0.0000,2,  -999.0,9,  -999.0,9,-999.0000,9,  -999.00,9, -999.00,1,  -999.0,1, -999.00,1, -999.00,1,       37.5,2, 20220619,     1544,  29.9991,-156.5950,     2.3056,2,     -999.0,9,     -999.0,9,     -999.0,9,     -999.0,9,     0.0129,1,     4.7019,1,     -999.0,9,     -999.0,9,     -999.0,9,     -999.0,9,     -999.0,9
33RR20220613,       P02E,     126,          1,         13,         13,2,20220619,       1359,    29.9991,  -156.5950,       5905,  1956.9,2,   2.0664,2,  34.6074,2,  34.6064,2,     81.6,2,    81.7,2,  157.03,2,   40.50,2,    0.02,2,    2.65,4,   0.006,2,   0.003,2,   0.0000,2,  2364.8,2,  2416.6,6,   7.4509,2,    24.97,2, -999.00,9,  -999.0,9, -999.00,1, -999.00,1,       34.7,2, 20220619,     1539,  29.9992,-156.5950,     2.0652,2,     -999.0,9,     -999.0,9,     -999.0,9,     -999.0,9,     0.0128,1,     4.7030,1,     -999.0,9,     -999.0,9,     -999.0,9,     -999.0,9,     -999.0,9
33RR20220613,       P02E,     126,          1,         12,         12,2,20220619,       1359,    29.9991,  -156.5950,       5905,  2190.8,2,   1.8887,2,  34.6250,2,  34.6236,2,     90.6,2,    90.5,2,  161.33,2,   39.96,2,    0.02,2,    2.63,4,-999.000,9,-999.000,9,-999.0000,9,  -999.0,9,  -999.0,9,-999.0000,9,  -999.00,9, -999.00,1,  -999.0,1, -999.00,1, -999.00,1,     -999.0,9, 20220619,     1534,  29.9992,-156.5950,     1.8886,2,     -999.0,9,     -999.0,9,     -999.0,9,     -999.0,9,     0.0132,1,     4.7028,1,     -999.0,9,     -999.0,9,     -999.0,9,     -999.0,9,     -999.0,9
33RR20220613,       P02E,     126,          1,         11,         11,2,20220619,       1359,    29.9991,  -156.5950,       5905,  2446.4,2,   1.7542,2,  34.6410,2,  34.6429,2,    100.1,2,    99.9,2,  164.16,2,   39.50,2,    0.02,2,    2.62,4,   0.004,2,   0.003,2,   0.0000,2,  2358.2,2,  2423.7,6,   7.4852,2,    24.98,2, -999.00,1,  -999.0,1, -999.00,1, -999.00,1,       30.3,2, 20220619,     1528,  29.9992,-156.5950,     1.7548,2,     -999.0,9,     -999.0,9,     -999.0,9,     -999.0,9,     0.0133,1,     4.7038,1,     -999.0,9,     -999.0,9,     -999.0,9,     -999.0,9,     -999.0,9
33RR20220613,       P02E,     126,          1,         10,         10,4,20220619,       1359,    29.9991,  -156.5950,       5905,  2700.8,3,   1.6530,3,  34.6529,3,-999.0000,9,    109.7,3,  -999.0,9, -999.00,9, -999.00,9, -999.00,9, -999.00,9,-999.000,9,-999.000,9,-999.0000,9,  -999.0,9,  -999.0,9,-999.0000,9,  -999.00,9, -999.00,9,  -999.0,9, -999.00,9, -999.00,9,     -999.0,9, 20220619,     1523,  29.9992,-156.5950,     1.6540,3,     -999.0,9,     -999.0,9,     -999.0,9,     -999.0,9,     0.0134,1,     4.7043,1,     -999.0,9,     -999.0,9,     -999.0,9,     -999.0,9,     -999.0,9
33RR20220613,       P02E,     126,          1,          9,          9,2,20220619,       1359,    29.9991,  -156.5950,       5905,  2955.8,2,   1.5834,2,  34.6618,3,  34.6592,2,    119.0,2,   118.9,2,  163.48,2,   38.03,2,    0.02,2,    2.54,4,   0.004,2,   0.002,2,   0.0000,2,  2348.2,2,  2425.8,2,   7.5211,2,    25.02,2, -999.00,9,  -999.0,9, -999.00,1, -999.00,1,       27.6,2, 20220619,     1516,  29.9991,-156.5950,     1.5829,2,     -999.0,9,     -999.0,9,     -999.0,9,     -999.0,9,     0.0133,1,     4.7042,1,     -999.0,9,     -999.0,9,     -999.0,9,     -999.0,9,     -999.0,9
33RR20220613,       P02E,     126,          1,          8,          8,2,20220619,       1359,    29.9991,  -156.5950,       5905,  3246.1,2,   1.5320,2,  34.6695,2,  34.6679,2,    128.0,2,   128.0,2,  160.74,2,   37.50,2,    0.02,2,    2.50,4,-999.000,9,-999.000,9,-999.0000,9,  -999.0,9,  -999.0,9,-999.0000,9,  -999.00,9, -999.00,9,  -999.0,9, -999.00,1, -999.00,1,     -999.0,9, 20220619,     1511,  29.9992,-156.5950,     1.5319,2,     -999.0,9,     -999.0,9,     -999.0,9,     -999.0,9,     0.0134,1,     4.7046,1,     -999.0,9,     -999.0,9,     -999.0,9,     -999.0,9,     -999.0,9
33RR20220613,       P02E,     126,          1,          7,          7,2,20220619,       1359,    29.9991,  -156.5950,       5905,  3619.4,2,   1.4900,2,  34.6771,2,  34.6759,2,    137.4,2,   137.6,2,  158.88,2,   36.93,2,    0.02,2,    2.45,4,   0.003,2,   0.003,2,   0.0000,2,  2339.7,2,  2424.6,2,   7.5541,2,    25.00,2, -999.00,1,  -999.0,1, -999.00,1, -999.00,1,       25.2,2, 20220619,     1504,  29.9991,-156.5950,     1.4899,2,     -999.0,9,     -999.0,9,     -999.0,9,     -999.0,9,     0.0122,1,     4.7044,1,     -999.0,9,     -999.0,9,     -999.0,9,     -999.0,9,     -999.0,9
33RR20220613,       P02E,     126,          1,          6,          6,2,20220619,       1359,    29.9991,  -156.5950,       5905,  4026.0,2,   1.4848,2,  34.6819,2,  34.6816,2,    144.5,2,   144.7,2,  155.95,2,   36.53,2,    0.02,2,    2.44,4,-999.000,9,-999.000,9,-999.0000,9,  -999.0,9,  -999.0,9,-999.0000,9,  -999.00,9, -999.00,1,  -999.0,1, -999.00,1, -999.00,1,     -999.0,9, 20220619,     1455,  29.9991,-156.5950,     1.4848,2,     -999.0,9,     -999.0,9,     -999.0,9,     -999.0,9,     0.0121,1,     4.7048,1,     -999.0,9,     -999.0,9,     -999.0,9,     -999.0,9,     -999.0,9
33RR20220613,       P02E,     126,          1,          5,          5,2,20220619,       1359,    29.9991,  -156.5950,       5905,  4440.4,2,   1.4918,2,  34.6860,2,  34.6840,2,    150.6,2,   150.7,2,  153.11,2,   36.18,2,    0.02,2,    2.39,4,   0.004,2,   0.005,2,   0.0000,2,  2326.8,2,  2421.9,6,   7.5758,2,    25.00,2, -999.00,1,  -999.0,1, -999.00,1, -999.00,1,       23.8,2, 20220619,     1446,  29.9991,-156.5951,     1.4917,2,     -999.0,9,     -999.0,9,     -999.0,9,     -999.0,9,     0.0122,1,     4.7049,1,     -999.0,9,     -999.0,9,     -999.0,9,     -999.0,9,     -999.0,9