BOTTLE,20230830CCHSIOCBG
EXPOCODE,SECT_ID,STNNBR,CASTNO,SAMPNO,BTLNBR,BTLNBR_FLAG_W,DATE,TIME,LATITUDE,LONGITUDE,DEPTH,CTDPRS,CTDPRS_FLAG_W,CTDTMP,CTDTMP_FLAG_W,CTDSAL,CTDSAL_FLAG_W,SALNTY,SALNTY_FLAG_W,CTDOXY,CTDOXY_FLAG_W,OXYGEN,OXYGEN_FLAG_W,SILCAT,SILCAT_FLAG_W,NITRAT,NITRAT_FLAG_W,NITRIT,NITRIT_FLAG_W,PHSPHT,PHSPHT_FLAG_W,CFC-11,CFC-11_FLAG_W,CFC-12,CFC-12_FLAG_W,SF6,SF6_FLAG_W,TCARBN,TCARBN_FLAG_W,ALKALI,ALKALI_FLAG_W,PH_TOT,PH_TOT_FLAG_W,PH_TMP,PH_TMP_FLAG_W,DELC13,DELC13_FLAG_W,DELC14,DELC14_FLAG_W,DOC,DOC_FLAG_W,TDN,TDN_FLAG_W,N2O,N2O_FLAG_W,BTL_DATE,BTL_TIME,BTL_LAT,BTL_LON,REFTMP,REFTMP_FLAG_W,POC,POC_FLAG_W,PON,PON_FLAG_W,POP,POP_FLAG_W,PCOD,PCOD_FLAG_W,CTDFLUOR,CTDFLUOR_FLAG_W,CTDXMISS,CTDXMISS_FLAG_W,HPLC,HPLC_FLAG_W,DNA,DNA_FLAG_W,FCM,FCM_FLAG_W,IMAGES,IMAGES_FLAG_W,VIRAL_ABUNDANCE,VIRAL_ABUNDANCE_FLAG_W
,,,,,,,,,,,METERS,DBAR,,ITS-90,,PSS-78,,PSS-78,,UMOL/KG,,UMOL/KG,,UMOL/KG,,UMOL/KG,,UMOL/KG,,UMOL/KG,,PMOL/KG,,PMOL/KG,,FMOL/KG,,UMOL/KG,,UMOL/KG,,,,DEG C,,/MILLE,,/MILLE,,UMOL/KG,,UMOL/KG,,NMOL/KG,,,,,,ITS-90,,UG/L,,UG/L,,UG/L,,UG/L,,VOLTS,,VOLTS,,,,,,,,,,,
33RR20220613,       P02E,     187,          2,         36,         36,2,20220714,       2319,    30.7411,  -121.6762,       4208,     3.9,2,  18.8562,2,  33.2394,2,  33.2473,2,    239.1,2,   238.7,2,    0.39,2,   -0.01,2,    0.00,2,    0.30,2,-999.000,9,-999.000,9,-999.0000,9,  2013.9,2,  2224.1,2,   7.9040,2,    25.00,2, -999.00,9,  -999.0,9, -999.00,9, -999.00,9,     -999.0,9, 20220715,      125,  30.7411,-121.6762,    18.8572,2,     -999.0,9,     -999.0,9,     -999.0,9,     -999.0,9,     0.0220,1,     4.5867,1,     -999.0,9,     -999.0,9,     -999.0,9,     -999.0,9,     -999.0,9
33RR20220613,       P02E,     187,          2,         35,         35,2,20220714,       2319,    30.7411,  -121.6762,       4208,    20.3,2,  18.8498,2,  33.2378,2,  33.2442,2,    238.5,2,   239.1,2,    0.39,2,    0.00,2,    0.00,2,    0.31,2,-999.000,9,-999.000,9,-999.0000,9,  2014.0,2,  2224.0,2,   7.9028,2,    25.01,2, -999.00,9,  -999.0,9, -999.00,9, -999.00,9,     -999.0,9, 20220715,      123,  30.7411,-121.6762,    18.8485,2,     -999.0,9,     -999.0,9,     -999.0,9,     -999.0,9,     0.0228,1,     4.5895,1,     -999.0,9,     -999.0,9,     -999.0,9,     -999.0,9,     -999.0,9
33RR20220613,       P02E,     187,          2,         34,         34,2,20220714,       2319,    30.7411,  -121.6762,       4208,    41.1,2,  15.1606,2,  33.2973,2,  33.2850,2,    279.9,2,   279.4,2,    1.47,2,    2.07,2,    0.07,2,    0.46,2,-999.000,9,-999.000,9,-999.0000,9,  -999.0,9,  -999.0,9,-999.0000,9,  -999.00,9, -999.00,9,  -999.0,9, -999.00,9, -999.00,9,     -999.0,9, 20220715,      121,  30.7412,-121.6762,    15.2812,3,     -999.0,9,     -999.0,9,     -999.0,9,     -999.0,9,     0.0479,1,     4.5594,1,     -999.0,9,     -999.0,9,     -999.0,9,     -999.0,9,     -999.0,9
33RR20220613,       P02E,     187,          2,         33,         33,2,20220714,       2319,    30.7411,  -121.6762,       4208,    66.1,2,  11.7187,2,  33.4346,2,  33.4381,2,    227.4,2,   229.7,2,    7.63,2,   12.55,2,    0.30,2,    1.11,2,-999.000,9,-999.000,9,-999.0000,9,  2100.1,2,  2227.7,2,   7.7066,2,    25.00,2, -999.00,9,  -999.0,9, -999.00,9, -999.00,9,     -999.0,9, 20220715,      117,  30.7412,-121.6762,    11.7122,2,     -999.0,9,     -999.0,9,     -999.0,9,     -999.0,9,     0.0613,1,     4.5854,1,     -999.0,9,     -999.0,9,     -999.0,9,     -999.0,9,     -999.0,9
33RR20220613,       P02E,     187,          2,         32,         32,2,20220714,       2319,    30.7411,  -121.6762,       4208,    91.5,2,  10.4110,2,  33.5825,2,  33.5870,2,    181.0,2,   181.2,2,   15.64,2,   18.87,2,    0.03,2,    1.47,2,-999.000,9,-999.000,9,-999.0000,9,  -999.0,9,  -999.0,9,-999.0000,9,  -999.00,9, -999.00,9,  -999.0,9, -999.00,9, -999.00,9,     -999.0,9, 20220715,      115,  30.7412,-121.6762,    10.4083,2,     -999.0,9,     -999.0,9,     -999.0,9,     -999.0,9,     0.0220,1,     4.6362,1,     -999.0,9,     -999.0,9,     -999.0,9,     -999.0,9,     -999.0,9
33RR20220613,       P02E,     187,          2,         31,         31,2,20220714,       2319,    30.7411,  -121.6762,       4208,   116.8,2,   9.6163,2,  33.7778,2,  33.7801,2,    143.9,2,   144.0,2,   22.29,2,   22.62,2,    0.02,2,    1.69,2,-999.000,9,-999.000,9,-999.0000,9,  2170.3,2,  2242.0,2,   7.5399,2,    25.00,2, -999.00,9,  -999.0,9, -999.00,9, -999.00,9,     -999.0,9, 20220715,      113,  30.7411,-121.6762,     9.6254,2,     -999.0,9,     -999.0,9,     -999.0,9,     -999.0,9,     0.0147,1,     4.6482,1,     -999.0,9,     -999.0,9,     -999.0,9,     -999.0,9,     -999.0,9
33RR20220613,       P02E,     187,          2,         30,         17,2,20220714,       2319,    30.7411,  -121.6762,       4208,   142.2,2,   9.2731,2,  33.9204,2,  33.9308,2,    122.0,2,   122.3,2,   26.98,2,   24.73,2,    0.02,2,    1.84,2,-999.000,9,-999.000,9,-999.0000,9,  -999.0,9,  -999.0,9,-999.0000,9,  -999.00,9, -999.00,9,  -999.0,9, -999.00,9, -999.00,9,     -999.0,9, 20220715,      109,  30.7412,-121.6762,     9.2753,2,     -999.0,9,     -999.0,9,     -999.0,9,     -999.0,9,     0.0134,1,     4.6481,1,     -999.0,9,     -999.0,9,     -999.0,9,     -999.0,9,     -999.0,9
33RR20220613,       P02E,     187,          2,         29,         29,2,20220714,       2319,    30.7411,  -121.6762,       4208,   186.9,2,   8.6263,2,  33.9892,2,  33.9914,2,    121.5,2,   121.6,2,   31.57,2,   26.30,2,    0.01,2,    1.89,2,-999.000,9,-999.000,9,-999.0000,9,  2199.3,2,  2258.9,2,   7.5049,2,    25.00,2, -999.00,9,  -999.0,9, -999.00,9, -999.00,9,     -999.0,9, 20220715,      107,  30.7411,-121.6762,     8.6229,2,     -999.0,9,     -999.0,9,     -999.0,9,     -999.0,9,     0.0134,1,     4.6503,1,     -999.0,9,     -999.0,9,     -999.0,9,     -999.0,9,     -999.0,9
33RR20220613,       P02E,     187,          2,         28,         28,2,20220714,       2319,    30.7411,  -121.6762,       4208,   237.8,2,   7.9813,2,  34.0245,2,  34.0255,2,    105.2,2,   105.3,2,   39.29,2,   29.10,2,    0.01,2,    2.10,2,-999.000,9,-999.000,9,-999.0000,9,  -999.0,9,  -999.0,9,-999.0000,9,  -999.00,9, -999.00,9,  -999.0,9, -999.00,9, -999.00,9,     -999.0,9, 20220715,      104,  30.7411,-121.6762,     7.9821,2,     -999.0,9,     -999.0,9,     -999.0,9,     -999.0,9,     0.0134,1,     4.6568,1,     -999.0,9,     -999.0,9,     -999.0,9,     -999.0,9,     -999.0,9
33RR20220613,       P02E,     187,          2,         27,         27,2,20220714,       2319,    30.7411,  -121.6762,       4208,   287.4,2,   7.3967,2,  34.0628,2,  34.0644,2,     77.7,2,    77.6,2,   48.09,2,   32.34,2,    0.01,2,    2.37,2,-999.000,9,-999.000,9,-999.0000,9,  2248.3,2,  2278.1,2,   7.4089,2,    25.01,2, -999.00,9,  -999.0,9, -999.00,9, -999.00,9,     -999.0,9, 20220715,      101,  30.7412,-121.6762,     7.3886,2,     -999.0,9,     -999.0,9,     -999.0,9,     -999.0,9,     0.0134,1,     4.6612,1,     -999.0,9,     -999.0,9,     -999.0,9,     -999.0,9,     -999.0,9
33RR20220613,       P02E,     187,          2,         26,         26,2,20220714,       2319,    30.7411,  -121.6762,       4208,   337.5,2,   6.8005,2,  34.0866,2,  34.0976,2,     57.7,2,    58.1,2,   56.59,2,   35.08,2,    0.00,2,    2.57,2,-999.000,9,-999.000,9,-999.0000,9,  -999.0,9,  -999.0,9,-999.0000,9,  -999.00,9, -999.00,9,  -999.0,9, -999.00,9, -999.00,9,     -999.0,9, 20220715,       59,  30.7411,-121.6762,     6.8023,2,     -999.0,9,     -999.0,9,     -999.0,9,     -999.0,9,     0.0134,1,     4.6586,1,     -999.0,9,     -999.0,9,     -999.0,9,     -999.0,9,     -999.0,9
33RR20220613,       P02E,     187,          2,         25,         25,2,20220714,       2319,    30.7411,  -121.6762,       4208,   388.6,2,   6.4818,2,  34.1407,2,  34.1424,2,     38.1,2,    38.4,2,   63.63,2,   37.03,2,    0.00,2,    2.76,2,-999.000,9,-999.000,9,-999.0000,9,  2288.3,3,  2295.3,6,   7.3361,2,    25.00,2, -999.00,9,  -999.0,9, -999.00,9, -999.00,9,     -999.0,9, 20220715,       57,  30.7412,-121.6762,     6.4815,2,     -999.0,9,     -999.0,9,     -999.0,9,     -999.0,9,     0.0134,1,     4.6573,1,     -999.0,9,     -999.0,9,     -999.0,9,     -999.0,9,     -999.0,9
33RR20220613,       P02E,     187,          2,         24,         24,2,20220714,       2319,    30.7411,  -121.6762,       4208,   439.2,2,   6.0086,2,  34.1819,2,  34.1836,2,     25.8,2,    26.0,2,   72.52,2,   38.95,2,    0.00,2,    2.90,2,-999.000,9,-999.000,9,-999.0000,9,  -999.0,9,  -999.0,9,-999.0000,9,  -999.00,9, -999.00,9,  -999.0,9, -999.00,9, -999.00,9,     -999.0,9, 20220715,       54,  30.7412,-121.6762,     6.0076,2,     -999.0,9,     -999.0,9,     -999.0,9,     -999.0,9,     0.0134,1,     4.6606,1,     -999.0,9,     -999.0,9,     -999.0,9,     -999.0,9,     -999.0,9
33RR20220613,       P02E,     187,          2,         23,         23,2,20220714,       2319,    30.7411,  -121.6762,       4208,   489.6,2,   5.7992,2,  34.2255,2,  34.2266,2,     19.6,3,    19.9,2,   77.60,2,   39.73,2,    0.00,2,    2.97,2,-999.000,9,-999.000,9,-999.0000,9,  2315.6,2,  2313.1,2,   7.3107,2,    25.01,2, -999.00,9,  -999.0,9, -999.00,9, -999.00,9,     -999.0,9, 20220715,       52,  30.7411,-121.6762,     5.7988,2,     -999.0,9,     -999.0,9,     -999.0,9,     -999.0,9,     0.0134,1,     4.6651,1,     -999.0,9,     -999.0,9,     -999.0,9,     -999.0,9,     -999.0,9
33RR20220613,       P02E,     187,          2,         22,         22,2,20220714,       2319,    30.7411,  -121.6762,       4208,   570.5,2,   5.3199,2,  34.2863,2,  34.2872,2,     13.7,2,    13.7,2,   87.47,2,   41.21,2,    0.00,2,    3.06,2,-999.000,9,-999.000,9,-999.0000,9,  2329.5,2,  2326.1,2,   7.3101,2,    25.01,2, -999.00,9,  -999.0,9, -999.00,9, -999.00,9,     -999.0,9, 20220715,       48,  30.7412,-121.6762,     5.3195,2,     -999.0,9,     -999.0,9,     -999.0,9,     -999.0,9,     0.0134,1,     4.6690,1,     -999.0,9,     -999.0,9,     -999.0,9,     -999.0,9,     -999.0,9
33RR20220613,       P02E,     187,          2,         21,         21,2,20220714,       2319,    30.7411,  -121.6762,       4208,   670.9,2,   4.9590,2,  34.3486,2,  34.3543,2,     12.1,3,    11.9,2,   95.67,2,   42.11,2,    0.00,2,    3.12,2,-999.000,9,-999.000,9,-999.0000,9,  2340.8,2,  2341.0,2,   7.3141,2,    25.00,2, -999.00,9,  -999.0,9, -999.00,9, -999.00,9,     -999.0,9, 20220715,       44,  30.7412,-121.6762,     4.9600,2,     -999.0,9,     -999.0,9,     -999.0,9,     -999.0,9,     0.0134,1,     4.6687,1,     -999.0,9,     -999.0,9,     -999.0,9,     -999.0,9,     -999.0,9
33RR20220613,       P02E,     187,          2,         20,         20,2,20220714,       2319,    30.7411,  -121.6762,       4208,   772.3,2,   4.5407,2,  34.4125,2,  34.4127,2,     14.9,3,    14.3,2,  104.66,2,   42.88,2,    0.00,2,    3.14,2,-999.000,9,-999.000,9,-999.0000,9,  -999.0,9,  -999.0,9,-999.0000,9,  -999.00,9, -999.00,9,  -999.0,9, -999.00,9, -999.00,9,     -999.0,9, 20220715,       40,  30.7412,-121.6762,     4.5404,2,     -999.0,9,     -999.0,9,     -999.0,9,     -999.0,9,     0.0134,1,     4.6688,1,     -999.0,9,     -999.0,9,     -999.0,9,     -999.0,9,     -999.0,9
33RR20220613,       P02E,     187,          2,         19,         39,2,20220714,       2319,    30.7411,  -121.6762,       4208,   874.2,2,   4.2161,2,  34.4496,2,  34.4493,2,     19.3,2,    19.5,2,  111.30,2,   43.21,2,    0.00,2,    3.13,2,-999.000,9,-999.000,9,-999.0000,9,  2357.1,2,  2366.5,2,   7.3374,2,    25.00,2, -999.00,9,  -999.0,9, -999.00,9, -999.00,9,     -999.0,9, 20220715,       38,  30.7411,-121.6762,     4.2170,2,     -999.0,9,     -999.0,9,     -999.0,9,     -999.0,9,     0.0134,1,     4.6691,1,     -999.0,9,     -999.0,9,     -999.0,9,     -999.0,9,     -999.0,9
33RR20220613,       P02E,     187,          2,         18,         18,2,20220714,       2319,    30.7411,  -121.6762,       4208,   974.8,2,   3.9422,2,  34.4856,2,  34.4875,2,     25.9,2,    25.9,2,  116.77,2,   43.16,2,    0.00,2,    3.11,2,-999.000,9,-999.000,9,-999.0000,9,  -999.0,9,  -999.0,9,-999.0000,9,  -999.00,9, -999.00,9,  -999.0,9, -999.00,9, -999.00,9,     -999.0,9, 20220715,       35,  30.7412,-121.6762,     3.9418,2,     -999.0,9,     -999.0,9,     -999.0,9,     -999.0,9,     0.0134,1,     4.6708,1,     -999.0,9,     -999.0,9,     -999.0,9,     -999.0,9,     -999.0,9
33RR20220613,       P02E,     187,          2,         17,         37,2,20220714,       2319,    30.7411,  -121.6762,       4208,  1075.6,2,   3.7201,2,  34.5032,2,  34.5025,2,     28.7,3,    28.4,2,  122.73,2,   43.12,2,    0.00,2,    3.11,2,-999.000,9,-999.000,9,-999.0000,9,  2364.0,2,  2379.6,2,   7.3565,2,    25.00,2, -999.00,9,  -999.0,9, -999.00,9, -999.00,9,     -999.0,9, 20220715,       32,  30.7411,-121.6762,     3.7209,2,     -999.0,9,     -999.0,9,     -999.0,9,     -999.0,9,     0.0134,1,     4.6690,1,     -999.0,9,     -999.0,9,     -999.0,9,     -999.0,9,     -999.0,9
33RR20220613,       P02E,     187,          2,         16,         16,2,20220714,       2319,    30.7411,  -121.6762,       4208,  1177.1,2,   3.4224,2,  34.5252,2,  34.5248,2,     34.6,2,    34.6,2,  129.56,2,   42.96,2,    0.00,2,    3.08,2,-999.000,9,-999.000,9,-999.0000,9,  -999.0,9,  -999.0,9,-999.0000,9,  -999.00,9, -999.00,9,  -999.0,9, -999.00,9, -999.00,9,     -999.0,9, 20220715,       29,  30.7412,-121.6762,     3.4218,2,     -999.0,9,     -999.0,9,     -999.0,9,     -999.0,9,     0.0134,1,     4.6708,1,     -999.0,9,     -999.0,9,     -999.0,9,     -999.0,9,     -999.0,9
33RR20220613,       P02E,     187,          2,         15,         15,2,20220714,       2319,    30.7411,  -121.6762,       4208,  1278.3,2,   3.2188,2,  34.5409,2,  34.5415,2,     39.5,2,    39.6,2,  134.15,2,   42.77,2,    0.00,2,    3.05,2,-999.000,9,-999.000,9,-999.0000,9,  2370.3,2,  2394.0,2,   7.3772,2,    25.01,2, -999.00,9,  -999.0,9, -999.00,9, -999.00,9,     -999.0,9, 20220715,       26,  30.7412,-121.6762,     3.2180,2,     -999.0,9,     -999.0,9,     -999.0,9,     -999.0,9,     0.0134,1,     4.6716,1,     -999.0,9,     -999.0,9,     -999.0,9,     -999.0,9,     -999.0,9
33RR20220613,       P02E,     187,          2,         14,         42,2,20220714,       2319,    30.7411,  -121.6762,       4208,  1378.8,2,   3.0413,2,  34.5525,2,  34.5537,2,     43.9,2,    44.1,2,  138.65,2,   42.56,2,    0.00,2,    3.03,2,-999.000,9,-999.000,9,-999.0000,9,  -999.0,9,  -999.0,9,-999.0000,9,  -999.00,9, -999.00,9,  -999.0,9, -999.00,9, -999.00,9,     -999.0,9, 20220715,       23,  30.7411,-121.6762,     3.0386,2,     -999.0,9,     -999.0,9,     -999.0,9,     -999.0,9,     0.0134,1,     4.6713,1,     -999.0,9,     -999.0,9,     -999.0,9,     -999.0,9,     -999.0,9
33RR20220613,       P02E,     187,          2,         13,         13,2,20220714,       2319,    30.7411,  -121.6762,       4208,  1480.6,2,   2.8495,2,  34.5653,2,  34.5665,2,     49.4,2,    49.1,2,  143.04,2,   42.26,2,   -0.01,2,    3.00,2,-999.000,9,-999.000,9,-999.0000,9,  2374.0,2,  2402.8,2,   7.3949,2,    25.00,2, -999.00,9,  -999.0,9, -999.00,9, -999.00,9,     -999.0,9, 20220715,       20,  30.7412,-121.6762,     2.8507,2,     -999.0,9,     -999.0,9,     -999.0,9,     -999.0,9,     0.0134,1,     4.6720,1,     -999.0,9,     -999.0,9,     -999.0,9,     -999.0,9,     -999.0,9
33RR20220613,       P02E,     187,          2,         12,         12,2,20220714,       2319,    30.7411,  -121.6762,       4208,  1581.5,2,   2.6903,2,  34.5761,2,  34.5757,2,     54.5,2,    54.2,2,  147.05,2,   41.97,2,   -0.01,2,    2.98,2,-999.000,9,-999.000,9,-999.0000,9,  -999.0,9,  -999.0,9,-999.0000,9,  -999.00,9, -999.00,9,  -999.0,9, -999.00,9, -999.00,9,     -999.0,9, 20220715,       16,  30.7412,-121.6763,     2.6898,2,     -999.0,9,     -999.0,9,     -999.0,9,     -999.0,9,     0.0134,1,     4.6726,1,     -999.0,9,     -999.0,9,     -999.0,9,     -999.0,9,     -999.0,9
33RR20220613,       P02E,     187,          2,         11,         11,2,20220714,       2319,    30.7411,  -121.6762,       4208,  1754.7,2,   2.4059,2,  34.5972,2,  34.5963,2,     65.3,2,    65.8,2,  153.59,2,   41.36,2,   -0.01,2,    2.92,2,-999.000,9,-999.000,9,-999.0000,9,  2373.5,2,  2414.2,2,   7.4260,2,    25.01,2, -999.00,9,  -999.0,9, -999.00,9, -999.00,9,     -999.0,9, 20220715,       12,  30.7411,-121.6762,     2.4082,2,     -999.0,9,     -999.0,9,     -999.0,9,     -999.0,9,     0.0132,1,     4.6738,1,     -999.0,9,     -999.0,9,     -999.0,9,     -999.0,9,     -999.0,9
33RR20220613,       P02E,     187,          2,         10,         10,2,20220714,       2319,    30.7411,  -121.6762,       4208,  1957.4,2,   2.1460,2,  34.6197,2,  34.6201,2,     79.0,2,    79.1,2,  157.99,2,   40.59,2,   -0.01,2,    2.85,2,-999.000,9,-999.000,9,-999.0000,9,  -999.0,9,  -999.0,9,-999.0000,9,  -999.00,9, -999.00,9,  -999.0,9, -999.00,9, -999.00,9,     -999.0,9, 20220715,        8,  30.7412,-121.6762,     2.1453,2,     -999.0,9,     -999.0,9,     -999.0,9,     -999.0,9,     0.0132,1,     4.6745,1,     -999.0,9,     -999.0,9,     -999.0,9,     -999.0,9,     -999.0,9
33RR20220613,       P02E,     187,          2,          9,          9,2,20220714,       2319,    30.7411,  -121.6762,       4208,  2191.2,2,   1.9526,2,  34.6377,2,  34.6370,2,     91.4,2,    91.5,2,  161.21,2,   39.83,2,   -0.01,2,    2.78,2,-999.000,9,-999.000,9,-999.0000,9,  2366.7,2,  2423.8,2,   7.4763,2,    24.99,2, -999.00,9,  -999.0,9, -999.00,9, -999.00,9,     -999.0,9, 20220715,        2,  30.7412,-121.6762,     1.9527,2,     -999.0,9,     -999.0,9,     -999.0,9,     -999.0,9,     0.0134,1,     4.6756,1,     -999.0,9,     -999.0,9,     -999.0,9,     -999.0,9,     -999.0,9
33RR20220613,       P02E,     187,          2,          8,          8,2,20220714,       2319,    30.7411,  -121.6762,       4208,  2445.6,2,   1.7961,2,  34.6511,2,  34.6531,2,    103.1,2,   103.1,2,  163.36,2,   39.01,2,    0.00,2,    2.74,2,-999.000,9,-999.000,9,-999.0000,9,  -999.0,9,  -999.0,9,-999.0000,9,  -999.00,9, -999.00,9,  -999.0,9, -999.00,9, -999.00,9,     -999.0,9, 20220714,     2357,  30.7412,-121.6762,     1.7964,2,     -999.0,9,     -999.0,9,     -999.0,9,     -999.0,9,     0.0134,1,     4.6773,1,     -999.0,9,     -999.0,9,     -999.0,9,     -999.0,9,     -999.0,9
33RR20220613,       P02E,     187,          2,          7,          7,2,20220714,       2319,    30.7411,  -121.6762,       4208,  2701.2,2,   1.7310,2,  34.6573,2,  34.6572,2,    109.1,2,   108.8,2,  164.63,2,   38.68,2,    0.00,2,    2.71,2,-999.000,9,-999.000,9,-999.0000,9,  2360.0,2,  2429.1,2,   7.5103,2,    25.00,2, -999.00,9,  -999.0,9, -999.00,9, -999.00,9,     -999.0,9, 20220714,     2352,  30.7411,-121.6762,     1.7311,2,     -999.0,9,     -999.0,9,     -999.0,9,     -999.0,9,     0.0133,1,     4.6777,1,     -999.0,9,     -999.0,9,     -999.0,9,     -999.0,9,     -999.0,9
33RR20220613,       P02E,     187,          2,          6,          6,2,20220714,       2319,    30.7411,  -121.6762,       4208,  2955.8,2,   1.6602,2,  34.6633,2,  34.6620,2,    115.4,2,   115.8,2,  165.90,2,   38.40,2,    0.00,2,    2.67,2,-999.000,9,-999.000,9,-999.0000,9,  -999.0,9,  -999.0,9,-999.0000,9,  -999.00,9, -999.00,9,  -999.0,9, -999.00,9, -999.00,9,     -999.0,9, 20220714,     2346,  30.7411,-121.6762,     1.6603,2,     -999.0,9,     -999.0,9,     -999.0,9,     -999.0,9,     0.0122,1,     4.6787,1,     -999.0,9,     -999.0,9,     -999.0,9,     -999.0,9,     -999.0,9
33RR20220613,       P02E,     187,          2,          5,          5,2,20220714,       2319,    30.7411,  -121.6762,       4208,  3246.8,2,   1.5950,2,  34.6688,2,  34.6679,2,    122.0,2,   122.6,2,  166.77,2,   37.99,2,    0.00,2,    2.65,2,-999.000,9,-999.000,9,-999.0000,9,  2353.3,2,  2430.5,6,   7.5335,2,    24.99,2, -999.00,9,  -999.0,9, -999.00,9, -999.00,9,     -999.0,9, 20220714,     2339,  30.7411,-121.6762,     1.5952,2,     -999.0,9,     -999.0,9,     -999.0,9,     -999.0,9,     0.0133,1,     4.6791,1,     -999.0,9,     -999.0,9,     -999.0,9,     -999.0,9,     -999.0,9