BOTTLE,20230830CCHSIOCBG
EXPOCODE,SECT_ID,STNNBR,CASTNO,SAMPNO,BTLNBR,BTLNBR_FLAG_W,DATE,TIME,LATITUDE,LONGITUDE,DEPTH,CTDPRS,CTDPRS_FLAG_W,CTDTMP,CTDTMP_FLAG_W,CTDSAL,CTDSAL_FLAG_W,SALNTY,SALNTY_FLAG_W,CTDOXY,CTDOXY_FLAG_W,OXYGEN,OXYGEN_FLAG_W,SILCAT,SILCAT_FLAG_W,NITRAT,NITRAT_FLAG_W,NITRIT,NITRIT_FLAG_W,PHSPHT,PHSPHT_FLAG_W,CFC-11,CFC-11_FLAG_W,CFC-12,CFC-12_FLAG_W,SF6,SF6_FLAG_W,TCARBN,TCARBN_FLAG_W,ALKALI,ALKALI_FLAG_W,PH_TOT,PH_TOT_FLAG_W,PH_TMP,PH_TMP_FLAG_W,DELC13,DELC13_FLAG_W,DELC14,DELC14_FLAG_W,DOC,DOC_FLAG_W,TDN,TDN_FLAG_W,N2O,N2O_FLAG_W,BTL_DATE,BTL_TIME,BTL_LAT,BTL_LON,REFTMP,REFTMP_FLAG_W,POC,POC_FLAG_W,PON,PON_FLAG_W,POP,POP_FLAG_W,PCOD,PCOD_FLAG_W,CTDFLUOR,CTDFLUOR_FLAG_W,CTDXMISS,CTDXMISS_FLAG_W,HPLC,HPLC_FLAG_W,DNA,DNA_FLAG_W,FCM,FCM_FLAG_W,IMAGES,IMAGES_FLAG_W,VIRAL_ABUNDANCE,VIRAL_ABUNDANCE_FLAG_W
,,,,,,,,,,,METERS,DBAR,,ITS-90,,PSS-78,,PSS-78,,UMOL/KG,,UMOL/KG,,UMOL/KG,,UMOL/KG,,UMOL/KG,,UMOL/KG,,PMOL/KG,,PMOL/KG,,FMOL/KG,,UMOL/KG,,UMOL/KG,,,,DEG C,,/MILLE,,/MILLE,,UMOL/KG,,UMOL/KG,,NMOL/KG,,,,,,ITS-90,,UG/L,,UG/L,,UG/L,,UG/L,,VOLTS,,VOLTS,,,,,,,,,,,
33RR20220613,       P02E,     186,          1,          4,          4,2,20220707,       1639,    30.4966,  -122.1466,       4067,  3452.4,2,   1.5689,2,  34.6719,2,  34.6722,2,    125.3,2,   125.3,2,  167.72,2,   37.62,2,    0.00,2,    2.59,2,   0.009,2,   0.009,2,   0.0000,2,  2348.3,2,  2432.5,2,   7.5389,2,    25.00,2, -999.00,1,  -999.0,1, -999.00,1, -999.00,1,       25.1,2, 20220707,     1654,  30.4967,-122.1465,     1.5689,2,     -999.0,9,     -999.0,9,     -999.0,9,     -999.0,9,     0.0126,1,     4.6982,1,     -999.0,9,     -999.0,9,     -999.0,9,     -999.0,9,     -999.0,9
33RR20220613,       P02E,     186,          1,          3,          3,2,20220707,       1639,    30.4966,  -122.1466,       4067,  3759.3,2,   1.5412,2,  34.6763,2,  34.6765,2,    130.5,2,   130.7,2,  167.81,2,   37.48,2,    0.00,2,    2.57,2,   0.011,2,   0.011,2,   0.0000,2,  2345.0,2,  2432.7,2,   7.5482,2,    25.01,2, -999.00,1,  -999.0,1, -999.00,1, -999.00,1,       24.3,2, 20220707,     1646,  30.4967,-122.1465,     1.5413,2,     -999.0,9,     -999.0,9,     -999.0,9,     -999.0,9,     0.0122,1,     4.6978,1,     -999.0,9,     -999.0,9,     -999.0,9,     -999.0,9,     -999.0,9
33RR20220613,       P02E,     186,          1,          2,          2,2,20220707,       1639,    30.4966,  -122.1466,       4067,  3912.8,2,   1.5401,2,  34.6779,2,  34.6785,2,    132.4,2,   132.4,2,  167.72,2,   37.33,2,    0.00,2,    2.56,2,   0.012,2,   0.013,2,   0.0000,2,  2345.0,2,  2431.4,2,   7.5524,2,    24.99,2, -999.00,1,  -999.0,1, -999.00,1, -999.00,1,       24.4,2, 20220707,     1644,  30.4966,-122.1465,     1.5400,2,     -999.0,9,     -999.0,9,     -999.0,9,     -999.0,9,     0.0122,1,     4.6980,1,     -999.0,9,     -999.0,9,     -999.0,9,     -999.0,9,     -999.0,9
33RR20220613,       P02E,     186,          1,          1,          1,2,20220707,       1639,    30.4966,  -122.1466,       4067,  4123.9,2,   1.5452,2,  34.6794,3,  34.6848,2,    134.4,2,   134.3,2,  167.13,2,   37.25,2,    0.00,2,    2.56,2,   0.016,2,   0.012,2,   0.0000,2,  2347.2,6,  2433.1,2,   7.5566,2,    25.01,2, -999.00,1,  -999.0,1, -999.00,1, -999.00,1,       24.1,2, 20220707,     1639,  30.4967,-122.1466,     1.5451,2,     -999.0,9,     -999.0,9,     -999.0,9,     -999.0,9,     0.0133,1,     4.6835,1,     -999.0,9,     -999.0,9,     -999.0,9,     -999.0,9,     -999.0,9