BOTTLE,20230830CCHSIOCBG
EXPOCODE,SECT_ID,STNNBR,CASTNO,SAMPNO,BTLNBR,BTLNBR_FLAG_W,DATE,TIME,LATITUDE,LONGITUDE,DEPTH,CTDPRS,CTDPRS_FLAG_W,CTDTMP,CTDTMP_FLAG_W,CTDSAL,CTDSAL_FLAG_W,SALNTY,SALNTY_FLAG_W,CTDOXY,CTDOXY_FLAG_W,OXYGEN,OXYGEN_FLAG_W,SILCAT,SILCAT_FLAG_W,NITRAT,NITRAT_FLAG_W,NITRIT,NITRIT_FLAG_W,PHSPHT,PHSPHT_FLAG_W,CFC-11,CFC-11_FLAG_W,CFC-12,CFC-12_FLAG_W,SF6,SF6_FLAG_W,TCARBN,TCARBN_FLAG_W,ALKALI,ALKALI_FLAG_W,PH_TOT,PH_TOT_FLAG_W,PH_TMP,PH_TMP_FLAG_W,DELC13,DELC13_FLAG_W,DELC14,DELC14_FLAG_W,DOC,DOC_FLAG_W,TDN,TDN_FLAG_W,N2O,N2O_FLAG_W,BTL_DATE,BTL_TIME,BTL_LAT,BTL_LON,REFTMP,REFTMP_FLAG_W,POC,POC_FLAG_W,PON,PON_FLAG_W,POP,POP_FLAG_W,PCOD,PCOD_FLAG_W,CTDFLUOR,CTDFLUOR_FLAG_W,CTDXMISS,CTDXMISS_FLAG_W,HPLC,HPLC_FLAG_W,DNA,DNA_FLAG_W,FCM,FCM_FLAG_W,IMAGES,IMAGES_FLAG_W,VIRAL_ABUNDANCE,VIRAL_ABUNDANCE_FLAG_W
,,,,,,,,,,,METERS,DBAR,,ITS-90,,PSS-78,,PSS-78,,UMOL/KG,,UMOL/KG,,UMOL/KG,,UMOL/KG,,UMOL/KG,,UMOL/KG,,PMOL/KG,,PMOL/KG,,FMOL/KG,,UMOL/KG,,UMOL/KG,,,,DEG C,,/MILLE,,/MILLE,,UMOL/KG,,UMOL/KG,,NMOL/KG,,,,,,ITS-90,,UG/L,,UG/L,,UG/L,,UG/L,,VOLTS,,VOLTS,,,,,,,,,,,
33RR20220613,       P02E,     144,          1,         36,         36,2,20220625,       1107,    29.9998,  -146.2018,       4915,     2.7,2,  22.9306,2,  35.0175,2,  35.0152,2,    221.8,3,   219.3,2,    0.59,2,    0.03,2,    0.00,2,    0.00,3,   1.780,2,   1.119,2,   1.8064,2,  2041.6,2,  2306.8,6,   7.9828,2,    25.00,2, -999.00,1,  -999.0,1, -999.00,1, -999.00,1,        7.0,2, 20220625,     1309,  29.9998,-146.2018,    22.9282,2,     -999.0,9,     -999.0,9,     -999.0,9,     -999.0,9,     0.0134,1,     4.6425,1,     -999.0,9,     -999.0,9,     -999.0,9,     -999.0,9,     -999.0,9
33RR20220613,       P02E,     144,          1,         35,         35,2,20220625,       1107,    29.9998,  -146.2018,       4915,    35.4,2,  19.7937,2,  34.6508,2,  34.6443,2,    239.5,2,   240.1,2,    0.68,2,    0.01,2,    0.00,2,    0.00,3,   2.075,2,   1.282,2,   2.0526,2,  2031.9,6,  2286.4,2,   7.9674,2,    25.00,2, -999.00,1,  -999.0,1, -999.00,1, -999.00,1,        7.7,2, 20220625,     1307,  29.9998,-146.2018,    19.7920,2,     -999.0,9,     -999.0,9,     -999.0,9,     -999.0,9,     0.0139,1,     4.6427,1,     -999.0,9,     -999.0,9,     -999.0,9,     -999.0,9,     -999.0,9
33RR20220613,       P02E,     144,          1,         34,         34,2,20220625,       1107,    29.9998,  -146.2018,       4915,    60.7,2,  19.1439,2,  34.7005,2,  34.6944,2,    239.6,2,   238.5,2,    0.78,2,    0.01,2,    0.00,2,    0.00,3,-999.000,9,-999.000,9,-999.0000,9,  2033.5,2,  2287.8,2,   7.9671,2,    24.92,2, -999.00,1,  -999.0,1, -999.00,1, -999.00,1,     -999.0,9, 20220625,     1305,  29.9998,-146.2018,    19.1494,2,     -999.0,9,     -999.0,9,     -999.0,9,     -999.0,9,     0.0176,1,     4.6476,1,     -999.0,9,     -999.0,9,     -999.0,9,     -999.0,9,     -999.0,9
33RR20220613,       P02E,     144,          1,         33,         33,2,20220625,       1107,    29.9998,  -146.2018,       4915,    85.8,2,  19.2690,2,  34.8902,2,  34.8886,2,    234.7,2,   233.7,2,    0.39,2,    0.00,2,    0.00,2,    0.00,3,   2.044,2,   1.263,2,   1.9865,2,  2039.6,2,  2295.6,2,   7.9730,2,    25.01,2, -999.00,1,  -999.0,1, -999.00,1, -999.00,1,        7.7,2, 20220625,     1303,  29.9998,-146.2018,    19.2871,2,     -999.0,9,     -999.0,9,     -999.0,9,     -999.0,9,     0.0183,1,     4.6535,1,     -999.0,9,     -999.0,9,     -999.0,9,     -999.0,9,     -999.0,9
33RR20220613,       P02E,     144,          1,         32,         32,2,20220625,       1107,    29.9998,  -146.2018,       4915,   116.5,2,  18.6790,2,  34.7801,2,  34.7821,2,    231.9,2,   232.6,2,    0.98,2,    0.00,2,    0.00,2,    0.02,3,-999.000,9,-999.000,9,-999.0000,9,  2036.3,2,  2290.4,2,   7.9609,2,    25.01,2, -999.00,1,  -999.0,1, -999.00,1, -999.00,1,     -999.0,9, 20220625,     1301,  29.9998,-146.2018,    18.6792,2,     -999.0,9,     -999.0,9,     -999.0,9,     -999.0,9,     0.0232,1,     4.6593,1,     -999.0,9,     -999.0,9,     -999.0,9,     -999.0,9,     -999.0,9
33RR20220613,       P02E,     144,          1,         31,         31,2,20220625,       1107,    29.9998,  -146.2018,       4915,   166.0,2,  15.0204,2,  34.1113,2,  34.1029,2,    227.1,2,   227.7,2,    2.54,2,    1.97,2,    0.04,2,    0.20,3,   2.505,2,   1.526,2,   2.2506,2,  2048.9,2,  2250.7,6,   7.8732,2,    25.01,2, -999.00,1,  -999.0,1, -999.00,1, -999.00,1,       10.0,2, 20220625,     1259,  29.9998,-146.2018,    15.0544,2,     -999.0,9,     -999.0,9,     -999.0,9,     -999.0,9,     0.0229,1,     4.6744,1,     -999.0,9,     -999.0,9,     -999.0,9,     -999.0,9,     -999.0,9
33RR20220613,       P02E,     144,          1,         30,         17,2,20220625,       1107,    29.9998,  -146.2018,       4915,   216.5,2,  12.2109,2,  34.0018,3,  34.0229,2,    220.3,2,   220.9,2,    7.14,2,    8.04,2,    0.01,2,    0.50,3,-999.000,9,-999.000,9,-999.0000,9,  2079.3,2,  2246.4,2,   7.7958,2,    25.00,2, -999.00,1,  -999.0,1, -999.00,1, -999.00,1,     -999.0,9, 20220625,     1257,  29.9998,-146.2018,    12.2138,2,     -999.0,9,     -999.0,9,     -999.0,9,     -999.0,9,     0.0122,1,     4.6873,1,     -999.0,9,     -999.0,9,     -999.0,9,     -999.0,9,     -999.0,9
33RR20220613,       P02E,     144,          1,         29,         29,2,20220625,       1107,    29.9998,  -146.2018,       4915,   267.8,2,  11.0562,2,  34.0882,2,  34.0887,2,    211.4,2,   211.5,2,   13.00,2,   12.82,2,    0.00,2,    0.73,3,   2.953,2,   1.774,2,   2.1135,2,  2104.4,2,  2254.7,2,   7.7516,2,    25.02,2, -999.00,1,  -999.0,1, -999.00,1, -999.00,1,       15.9,2, 20220625,     1255,  29.9998,-146.2018,    11.0563,2,     -999.0,9,     -999.0,9,     -999.0,9,     -999.0,9,     0.0122,1,     4.6910,1,     -999.0,9,     -999.0,9,     -999.0,9,     -999.0,9,     -999.0,9
33RR20220613,       P02E,     144,          1,         28,         28,2,20220625,       1107,    29.9998,  -146.2018,       4915,   318.0,2,  10.1140,2,  34.0844,2,  34.0835,2,    209.3,2,   210.1,2,   16.91,2,   15.07,2,    0.00,2,    0.87,3,-999.000,9,-999.000,9,-999.0000,9,  2120.1,2,  2256.8,2,   7.7264,2,    25.01,2, -999.00,1,  -999.0,1, -999.00,1, -999.00,1,     -999.0,9, 20220625,     1253,  29.9998,-146.2018,    10.1139,2,     -999.0,9,     -999.0,9,     -999.0,9,     -999.0,9,     0.0122,1,     4.6921,1,     -999.0,9,     -999.0,9,     -999.0,9,     -999.0,9,     -999.0,9
33RR20220613,       P02E,     144,          1,         27,         27,2,20220625,       1107,    29.9998,  -146.2018,       4915,   368.8,2,   9.3032,2,  34.0402,2,  34.0382,2,    204.2,2,   204.0,2,   22.00,2,   17.36,2,    0.00,2,    1.02,3,   3.103,2,   1.840,2,   1.8523,2,  2133.7,2,  2259.0,2,   7.6916,2,    25.01,2, -999.00,1,  -999.0,1, -999.00,1, -999.00,1,       20.4,2, 20220625,     1251,  29.9998,-146.2018,     9.2957,2,     -999.0,9,     -999.0,9,     -999.0,9,     -999.0,9,     0.0128,1,     4.6933,1,     -999.0,9,     -999.0,9,     -999.0,9,     -999.0,9,     -999.0,9
33RR20220613,       P02E,     144,          1,         26,         26,2,20220625,       1107,    29.9998,  -146.2018,       4915,   418.0,2,   8.4554,2,  34.0196,2,  34.0174,2,    180.9,3,   179.1,2,   31.29,2,   21.65,2,    0.00,2,    1.28,3,-999.000,9,-999.000,9,-999.0000,9,  -999.0,9,  -999.0,9,-999.0000,9,  -999.00,9, -999.00,1,  -999.0,1, -999.00,1, -999.00,1,     -999.0,9, 20220625,     1249,  29.9998,-146.2018,     8.4572,2,     -999.0,9,     -999.0,9,     -999.0,9,     -999.0,9,     0.0132,1,     4.6935,1,     -999.0,9,     -999.0,9,     -999.0,9,     -999.0,9,     -999.0,9
33RR20220613,       P02E,     144,          1,         25,         25,2,20220625,       1107,    29.9998,  -146.2018,       4915,   468.6,2,   7.5094,2,  33.9976,2,  33.9961,2,    154.7,2,   154.3,2,   40.58,2,   25.73,2,    0.00,2,    1.55,3,   2.829,2,   1.646,2,   1.1358,2,  2191.2,2,  2273.4,2,   7.5680,2,    25.02,2, -999.00,1,  -999.0,1, -999.00,1, -999.00,1,       27.0,2, 20220625,     1247,  29.9998,-146.2018,     7.5161,2,     -999.0,9,     -999.0,9,     -999.0,9,     -999.0,9,     0.0134,1,     4.6939,1,     -999.0,9,     -999.0,9,     -999.0,9,     -999.0,9,     -999.0,9
33RR20220613,       P02E,     144,          1,         24,         24,2,20220625,       1107,    29.9998,  -146.2018,       4915,   540.0,2,   6.0361,2,  33.9825,2,  33.9804,2,    111.5,2,   110.7,2,   59.25,2,   31.60,2,    0.00,2,    2.04,3,-999.000,9,-999.000,9,-999.0000,9,  -999.0,9,  -999.0,9,-999.0000,9,  -999.00,9, -999.00,1,  -999.0,1, -999.00,1, -999.00,1,     -999.0,9, 20220625,     1245,  29.9998,-146.2018,     6.0504,2,     -999.0,9,     -999.0,9,     -999.0,9,     -999.0,9,     0.0125,1,     4.6959,1,     -999.0,9,     -999.0,9,     -999.0,9,     -999.0,9,     -999.0,9
33RR20220613,       P02E,     144,          1,         23,         23,2,20220625,       1107,    29.9998,  -146.2018,       4915,   641.2,2,   4.9265,2,  34.0585,2,  34.0566,2,     55.5,2,    56.0,2,   83.01,2,   39.05,2,    0.00,2,    2.53,3,   1.324,2,   0.727,2,   0.3662,2,  2297.5,2,  2308.6,2,   7.3449,2,    25.02,2, -999.00,1,  -999.0,1, -999.00,1, -999.00,1,       40.7,2, 20220625,     1242,  29.9998,-146.2017,     4.9247,2,     -999.0,9,     -999.0,9,     -999.0,9,     -999.0,9,     0.0134,1,     4.6959,1,     -999.0,9,     -999.0,9,     -999.0,9,     -999.0,9,     -999.0,9
33RR20220613,       P02E,     144,          1,         22,         22,2,20220625,       1107,    29.9998,  -146.2018,       4915,   742.4,2,   4.4336,2,  34.1573,2,  34.1591,2,     26.0,3,    26.8,2,  100.99,2,   42.08,2,    0.00,2,    2.80,3,-999.000,9,-999.000,9,-999.0000,9,  -999.0,9,  -999.0,9,-999.0000,9,  -999.00,9, -999.00,1,  -999.0,1, -999.00,1, -999.00,1,     -999.0,9, 20220625,     1239,  29.9998,-146.2018,     4.4343,2,     -999.0,9,     -999.0,9,     -999.0,9,     -999.0,9,     0.0134,1,     4.6963,1,     -999.0,9,     -999.0,9,     -999.0,9,     -999.0,9,     -999.0,9
33RR20220613,       P02E,     144,          1,         21,         21,2,20220625,       1107,    29.9998,  -146.2018,       4915,   842.4,2,   4.0505,2,  34.2775,2,  34.2721,2,     12.5,3,    12.7,2,  113.59,2,   43.39,2,    0.00,2,    2.99,4,   0.119,2,   0.068,2,   0.0000,2,  2354.6,2,  2347.8,2,   7.2925,2,    25.01,2, -999.00,1,  -999.0,1, -999.00,1, -999.00,1,       53.1,2, 20220625,     1236,  29.9999,-146.2017,     4.0499,2,     -999.0,9,     -999.0,9,     -999.0,9,     -999.0,9,     0.0134,1,     4.6968,1,     -999.0,9,     -999.0,9,     -999.0,9,     -999.0,9,     -999.0,9
33RR20220613,       P02E,     144,          1,         20,         20,2,20220625,       1107,    29.9998,  -146.2018,       4915,   944.1,2,   3.8337,2,  34.3555,2,  34.3533,2,     12.5,2,    12.5,2,  121.90,2,   43.72,2,    0.00,2,    3.07,4,   0.034,2,   0.029,2,   0.0000,2,  2364.2,2,  2359.5,2,   7.3043,2,    25.00,2, -999.00,1,  -999.0,1, -999.00,1, -999.00,1,       52.2,2, 20220625,     1232,  29.9999,-146.2018,     3.8308,2,     -999.0,9,     -999.0,9,     -999.0,9,     -999.0,9,     0.0134,1,     4.6961,1,     -999.0,9,     -999.0,9,     -999.0,9,     -999.0,9,     -999.0,9
33RR20220613,       P02E,     144,          1,         19,         39,2,20220625,       1107,    29.9998,  -146.2018,       4915,  1046.1,2,   3.5998,2,  34.4265,2,  34.4241,2,     20.2,3,    20.0,2,  127.17,2,   43.52,2,    0.00,2,    3.09,4,   0.014,2,   0.012,2,   0.0000,2,  2366.1,2,  2369.9,2,   7.3264,2,    24.99,2, -999.00,1,  -999.0,1, -999.00,1, -999.00,1,       50.9,2, 20220625,     1231,  29.9998,-146.2018,     3.5995,2,     -999.0,9,     -999.0,9,     -999.0,9,     -999.0,9,     0.0134,1,     4.6971,1,     -999.0,9,     -999.0,9,     -999.0,9,     -999.0,9,     -999.0,9
33RR20220613,       P02E,     144,          1,         18,         18,2,20220625,       1107,    29.9998,  -146.2018,       4915,  1146.8,2,   3.3338,2,  34.4637,2,  34.4616,2,     24.0,2,    23.9,2,  134.59,2,   43.55,2,    0.00,2,    3.14,4,   0.010,2,   0.007,2,   0.0000,2,  2373.3,2,  2382.1,2,   7.3360,2,    25.00,2, -999.00,1,  -999.0,1, -999.00,1, -999.00,1,       49.7,2, 20220625,     1228,  29.9998,-146.2018,     3.3329,2,     -999.0,9,     -999.0,9,     -999.0,9,     -999.0,9,     0.0134,1,     4.6970,1,     -999.0,9,     -999.0,9,     -999.0,9,     -999.0,9,     -999.0,9
33RR20220613,       P02E,     144,          1,         17,         37,2,20220625,       1107,    29.9998,  -146.2018,       4915,  1248.0,2,   3.1528,2,  34.4952,2,  34.4932,2,     32.4,2,    32.1,2,  138.21,2,   43.13,2,    0.00,2,    3.12,4,   0.006,2,   0.005,2,   0.0000,2,  2372.5,2,  2386.1,2,   7.3553,2,    25.00,2, -999.00,1,  -999.0,1, -999.00,1, -999.00,1,       46.1,2, 20220625,     1224,  29.9998,-146.2018,     3.1528,2,     -999.0,9,     -999.0,9,     -999.0,9,     -999.0,9,     0.0134,1,     4.6982,1,     -999.0,9,     -999.0,9,     -999.0,9,     -999.0,9,     -999.0,9
33RR20220613,       P02E,     144,          1,         16,         16,2,20220625,       1107,    29.9998,  -146.2018,       4915,  1346.1,2,   2.9542,2,  34.5219,2,  34.5219,2,     42.1,2,    42.3,2,  142.31,2,   42.68,2,    0.00,2,    3.12,4,   0.006,2,   0.007,2,   0.0000,2,  -999.0,9,  -999.0,9,-999.0000,9,  -999.00,9, -999.00,1,  -999.0,1, -999.00,1, -999.00,1,       41.8,2, 20220625,     1223,  29.9998,-146.2018,     2.9520,2,     -999.0,9,     -999.0,9,     -999.0,9,     -999.0,9,     0.0134,1,     4.6985,1,     -999.0,9,     -999.0,9,     -999.0,9,     -999.0,9,     -999.0,9
33RR20220613,       P02E,     144,          1,         15,         15,2,20220625,       1107,    29.9998,  -146.2018,       4915,  1450.1,2,   2.7487,2,  34.5450,2,  34.5443,2,     48.8,2,    49.2,2,  146.90,2,   42.26,2,    0.00,2,    3.14,4,   0.005,2,   0.004,2,   0.0000,2,  2373.4,2,  2400.2,2,   7.3895,2,    25.00,2, -999.00,1,  -999.0,1, -999.00,1, -999.00,1,       39.5,2, 20220625,     1220,  29.9998,-146.2018,     2.7511,2,     -999.0,9,     -999.0,9,     -999.0,9,     -999.0,9,     0.0134,1,     4.6993,1,     -999.0,9,     -999.0,9,     -999.0,9,     -999.0,9,     -999.0,9
33RR20220613,       P02E,     144,          1,         14,         14,2,20220625,       1107,    29.9998,  -146.2018,       4915,  1551.9,2,   2.5796,2,  34.5622,2,  34.5637,2,     56.2,2,    55.8,2,  150.90,2,   41.82,2,    0.00,2,    3.13,4,   0.004,2,   0.003,2,   0.0000,2,  -999.0,9,  -999.0,9,-999.0000,9,  -999.00,9, -999.00,1,  -999.0,1, -999.00,1, -999.00,1,       38.5,2, 20220625,     1216,  29.9998,-146.2018,     2.5866,2,     -999.0,9,     -999.0,9,     -999.0,9,     -999.0,9,     0.0134,1,     4.6996,1,     -999.0,9,     -999.0,9,     -999.0,9,     -999.0,9,     -999.0,9
33RR20220613,       P02E,     144,          1,         13,         13,2,20220625,       1107,    29.9998,  -146.2018,       4915,  1683.2,2,   2.3916,2,  34.5796,2,  34.5779,2,     63.9,2,    64.0,2,  155.20,2,   41.40,2,    0.00,2,    3.12,4,   0.003,2,   0.001,2,   0.0000,2,  2372.9,2,  2408.4,2,   7.4185,2,    25.00,2, -999.00,1,  -999.0,1, -999.00,1, -999.00,1,       35.7,2, 20220625,     1214,  29.9998,-146.2018,     2.3942,2,     -999.0,9,     -999.0,9,     -999.0,9,     -999.0,9,     0.0134,1,     4.6997,1,     -999.0,9,     -999.0,9,     -999.0,9,     -999.0,9,     -999.0,9
33RR20220613,       P02E,     144,          1,         12,         12,2,20220625,       1107,    29.9998,  -146.2018,       4915,  1886.0,2,   2.1540,2,  34.6044,2,  34.6028,2,     75.0,2,    75.0,2,  161.85,2,   40.72,2,    0.00,2,    3.12,4,   0.003,2,   0.000,2,   0.0000,2,  -999.0,9,  -999.0,9,-999.0000,9,  -999.00,9, -999.00,1,  -999.0,1, -999.00,1, -999.00,1,       33.0,2, 20220625,     1210,  29.9998,-146.2017,     2.1524,2,     -999.0,9,     -999.0,9,     -999.0,9,     -999.0,9,     0.0126,1,     4.7003,1,     -999.0,9,     -999.0,9,     -999.0,9,     -999.0,9,     -999.0,9
33RR20220613,       P02E,     144,          1,         11,         11,2,20220625,       1107,    29.9998,  -146.2018,       4915,  2111.3,2,   1.9278,2,  34.6251,3,  34.6231,2,     85.7,2,    85.7,2,  167.41,2,   40.11,2,    0.00,2,    3.12,4,   0.003,2,   0.002,2,   0.0000,2,  2369.8,2,  2420.6,2,   7.4622,2,    25.01,2, -999.00,1,  -999.0,1, -999.00,1, -999.00,1,       29.9,2, 20220625,     1205,  29.9998,-146.2018,     1.9273,2,     -999.0,9,     -999.0,9,     -999.0,9,     -999.0,9,     0.0134,1,     4.7018,1,     -999.0,9,     -999.0,9,     -999.0,9,     -999.0,9,     -999.0,9
33RR20220613,       P02E,     144,          1,         10,         10,2,20220625,       1107,    29.9998,  -146.2018,       4915,  2362.3,2,   1.7817,2,  34.6389,2,  34.6372,2,     94.2,2,    94.3,2,  170.83,2,   39.50,2,    0.00,2,    3.12,4,-999.000,9,-999.000,9,-999.0000,9,  -999.0,9,  -999.0,9,-999.0000,9,  -999.00,9, -999.00,9,  -999.0,9, -999.00,1, -999.00,1,     -999.0,9, 20220625,     1200,  29.9998,-146.2018,     1.7821,2,     -999.0,9,     -999.0,9,     -999.0,9,     -999.0,9,     0.0132,1,     4.7020,1,     -999.0,9,     -999.0,9,     -999.0,9,     -999.0,9,     -999.0,9
33RR20220613,       P02E,     144,          1,          9,          9,2,20220625,       1107,    29.9998,  -146.2018,       4915,  2618.1,2,   1.6683,2,  34.6504,2,  34.6496,2,    103.3,2,   103.3,2,  173.37,2,   38.95,2,    0.00,2,    3.10,4,   0.005,2,   0.003,2,   0.0000,2,  2361.9,2,  2427.8,2,   7.4948,2,    25.00,2, -999.00,9,  -999.0,9, -999.00,1, -999.00,1,       26.4,2, 20220625,     1155,  29.9999,-146.2018,     1.6679,2,     -999.0,9,     -999.0,9,     -999.0,9,     -999.0,9,     0.0134,1,     4.7025,1,     -999.0,9,     -999.0,9,     -999.0,9,     -999.0,9,     -999.0,9
33RR20220613,       P02E,     144,          1,          8,          8,2,20220625,       1107,    29.9998,  -146.2018,       4915,  2872.7,2,   1.5802,2,  34.6609,2,  34.6592,2,    114.6,2,   114.8,2,  171.32,2,   38.24,2,    0.00,2,    3.03,4,-999.000,9,-999.000,9,-999.0000,9,  -999.0,9,  -999.0,9,-999.0000,9,  -999.00,9, -999.00,1,  -999.0,1, -999.00,1, -999.00,1,     -999.0,9, 20220625,     1149,  29.9998,-146.2018,     1.5802,2,     -999.0,9,     -999.0,9,     -999.0,9,     -999.0,9,     0.0133,1,     4.7026,1,     -999.0,9,     -999.0,9,     -999.0,9,     -999.0,9,     -999.0,9
33RR20220613,       P02E,     144,          1,          7,          7,2,20220625,       1107,    29.9998,  -146.2018,       4915,  3144.2,2,   1.5202,2,  34.6694,2,  34.6700,2,    124.9,2,   124.9,2,  169.07,2,   37.59,2,    0.00,2,    2.98,4,   0.003,2,   0.005,2,   0.0000,2,  2346.9,2,  2427.9,2,   7.5337,2,    25.02,2, -999.00,1,  -999.0,1, -999.00,1, -999.00,1,       23.6,2, 20220625,     1144,  29.9998,-146.2018,     1.5201,2,     -999.0,9,     -999.0,9,     -999.0,9,     -999.0,9,     0.0134,1,     4.7032,1,     -999.0,9,     -999.0,9,     -999.0,9,     -999.0,9,     -999.0,9
33RR20220613,       P02E,     144,          1,          6,          6,2,20220625,       1107,    29.9998,  -146.2018,       4915,  3451.1,2,   1.4786,2,  34.6766,2,  34.6753,2,    134.5,2,   134.5,2,  166.14,2,   37.03,2,    0.00,2,    2.93,4,-999.000,9,-999.000,9,-999.0000,9,  -999.0,9,  -999.0,9,-999.0000,9,  -999.00,9, -999.00,9,  -999.0,9, -999.00,1, -999.00,1,     -999.0,9, 20220625,     1138,  29.9998,-146.2018,     1.4785,2,     -999.0,9,     -999.0,9,     -999.0,9,     -999.0,9,     0.0122,1,     4.7033,1,     -999.0,9,     -999.0,9,     -999.0,9,     -999.0,9,     -999.0,9
33RR20220613,       P02E,     144,          1,          5,          5,2,20220625,       1107,    29.9998,  -146.2018,       4915,  3758.0,2,   1.4643,2,  34.6815,2,  34.6808,2,    141.6,2,   141.6,2,  162.91,2,   36.55,2,    0.00,2,    2.88,4,-999.000,9,-999.000,9,-999.0000,9,  2336.1,2,  2427.8,2,   7.5630,2,    25.02,2, -999.00,9,  -999.0,9, -999.00,1, -999.00,1,     -999.0,9, 20220625,     1131,  29.9999,-146.2017,     1.4642,2,     -999.0,9,     -999.0,9,     -999.0,9,     -999.0,9,     0.0122,1,     4.7033,1,     -999.0,9,     -999.0,9,     -999.0,9,     -999.0,9,     -999.0,9