BOTTLE,20230830CCHSIOCBG
EXPOCODE,SECT_ID,STNNBR,CASTNO,SAMPNO,BTLNBR,BTLNBR_FLAG_W,DATE,TIME,LATITUDE,LONGITUDE,DEPTH,CTDPRS,CTDPRS_FLAG_W,CTDTMP,CTDTMP_FLAG_W,CTDSAL,CTDSAL_FLAG_W,SALNTY,SALNTY_FLAG_W,CTDOXY,CTDOXY_FLAG_W,OXYGEN,OXYGEN_FLAG_W,SILCAT,SILCAT_FLAG_W,NITRAT,NITRAT_FLAG_W,NITRIT,NITRIT_FLAG_W,PHSPHT,PHSPHT_FLAG_W,CFC-11,CFC-11_FLAG_W,CFC-12,CFC-12_FLAG_W,SF6,SF6_FLAG_W,TCARBN,TCARBN_FLAG_W,ALKALI,ALKALI_FLAG_W,PH_TOT,PH_TOT_FLAG_W,PH_TMP,PH_TMP_FLAG_W,DELC13,DELC13_FLAG_W,DELC14,DELC14_FLAG_W,DOC,DOC_FLAG_W,TDN,TDN_FLAG_W,N2O,N2O_FLAG_W,BTL_DATE,BTL_TIME,BTL_LAT,BTL_LON,REFTMP,REFTMP_FLAG_W,POC,POC_FLAG_W,PON,PON_FLAG_W,POP,POP_FLAG_W,PCOD,PCOD_FLAG_W,CTDFLUOR,CTDFLUOR_FLAG_W,CTDXMISS,CTDXMISS_FLAG_W,HPLC,HPLC_FLAG_W,DNA,DNA_FLAG_W,FCM,FCM_FLAG_W,IMAGES,IMAGES_FLAG_W,VIRAL_ABUNDANCE,VIRAL_ABUNDANCE_FLAG_W
,,,,,,,,,,,METERS,DBAR,,ITS-90,,PSS-78,,PSS-78,,UMOL/KG,,UMOL/KG,,UMOL/KG,,UMOL/KG,,UMOL/KG,,UMOL/KG,,PMOL/KG,,PMOL/KG,,FMOL/KG,,UMOL/KG,,UMOL/KG,,,,DEG C,,/MILLE,,/MILLE,,UMOL/KG,,UMOL/KG,,NMOL/KG,,,,,,ITS-90,,UG/L,,UG/L,,UG/L,,UG/L,,VOLTS,,VOLTS,,,,,,,,,,,
33RR20220613,       P02E,     136,          1,          4,          4,2,20220622,       2026,    30.0008,  -150.8224,       5769,  4580.0,2,   1.4967,2,  34.6876,2,  34.6863,2,    152.9,2,   152.8,2,  154.82,2,   35.72,2,    0.00,2,    2.71,4,-999.000,9,-999.000,9,-999.0000,9,  -999.0,9,  -999.0,9,-999.0000,9,  -999.00,9, -999.00,9,  -999.0,9, -999.00,1, -999.00,1,     -999.0,9, 20220622,     2052,  30.0008,-150.8224,     1.4967,2,     -999.0,9,     -999.0,9,     -999.0,9,     -999.0,9,     0.0122,1,     4.7043,1,     -999.0,9,     -999.0,9,     -999.0,9,     -999.0,9,     -999.0,9
33RR20220613,       P02E,     136,          1,          3,          3,2,20220622,       2026,    30.0008,  -150.8224,       5769,  4888.4,2,   1.5211,2,  34.6887,2,  34.6881,2,    155.5,2,   155.5,2,  152.47,2,   35.55,2,    0.00,2,    2.70,4,   0.009,2,   0.009,2,   0.0000,2,  2323.1,2,  2421.4,2,   7.5836,2,    24.99,2, -999.00,9,  -999.0,9, -999.00,1, -999.00,1,       22.1,2, 20220622,     2046,  30.0008,-150.8224,     1.5212,2,     -999.0,9,     -999.0,9,     -999.0,9,     -999.0,9,     0.0122,1,     4.7040,1,     -999.0,9,     -999.0,9,     -999.0,9,     -999.0,9,     -999.0,9
33RR20220613,       P02E,     136,          1,          2,          2,2,20220622,       2026,    30.0008,  -150.8224,       5769,  5377.9,2,   1.5617,2,  34.6901,2,  34.6895,2,    159.3,2,   159.6,2,  148.95,2,   35.07,2,    0.00,2,    2.65,4,-999.000,9,-999.000,9,-999.0000,9,  2320.3,2,  2419.1,2,   7.5868,2,    25.01,2, -999.00,9,  -999.0,9, -999.00,1, -999.00,1,     -999.0,9, 20220622,     2037,  30.0008,-150.8224,     1.5617,2,     -999.0,9,     -999.0,9,     -999.0,9,     -999.0,9,     0.0125,1,     4.7036,1,     -999.0,9,     -999.0,9,     -999.0,9,     -999.0,9,     -999.0,9
33RR20220613,       P02E,     136,          1,          1,          1,2,20220622,       2026,    30.0008,  -150.8224,       5769,  5874.2,2,   1.6207,2,  34.6907,2,  34.6899,2,    160.9,2,   160.7,2,  147.49,2,   35.20,2,    0.00,2,    2.64,4,   0.008,2,   0.007,2,   0.0000,2,  2317.6,6,  2415.9,2,   7.5882,2,    25.01,2, -999.00,9,  -999.0,9, -999.00,1, -999.00,1,       26.0,2, 20220622,     2026,  30.0008,-150.8224,     1.6210,2,     -999.0,9,     -999.0,9,     -999.0,9,     -999.0,9,     0.0131,1,     4.7024,1,     -999.0,9,     -999.0,9,     -999.0,9,     -999.0,9,     -999.0,9
33RR20220613,       P02E,     137,          1,         18,         18,2,20220623,       0226,    30.0002,  -150.2432,       6180,     3.4,2,  24.3203,2,  35.4607,2,-999.0000,9,    212.9,2,  -999.0,9, -999.00,9, -999.00,9, -999.00,9, -999.00,9,-999.000,9,-999.000,9,-999.0000,9,  -999.0,9,  -999.0,9,-999.0000,9,  -999.00,9, -999.00,9,  -999.0,9, -999.00,9, -999.00,9,     -999.0,9, 20220623,      255,  30.0002,-150.2432,     -999.0,9,     -999.0,9,     -999.0,9,     -999.0,9,     -999.0,1,     0.0135,1,     4.6320,1,     -999.0,9,     -999.0,9,     -999.0,9,     -999.0,9,     -999.0,9
33RR20220613,       P02E,     137,          1,         20,         20,2,20220623,       0226,    30.0002,  -150.2432,       6180,     3.4,2,  24.3200,2,  35.4607,2,-999.0000,9,    213.0,2,  -999.0,9, -999.00,9, -999.00,9, -999.00,9, -999.00,9,-999.000,9,-999.000,9,-999.0000,9,  -999.0,9,  -999.0,9,-999.0000,9,  -999.00,9, -999.00,9,  -999.0,9, -999.00,9, -999.00,9,     -999.0,9, 20220623,      255,  30.0002,-150.2432,     -999.0,9,     -999.0,9,     -999.0,9,     -999.0,9,     -999.0,9,     0.0135,1,     4.6326,1,     -999.0,9,     -999.0,9,     -999.0,9,     -999.0,9,     -999.0,1
33RR20220613,       P02E,     137,          1,         16,         16,2,20220623,       0226,    30.0002,  -150.2432,       6180,     3.6,2,  24.3207,2,  35.4606,2,-999.0000,9,    212.9,2,  -999.0,9, -999.00,9, -999.00,9, -999.00,9, -999.00,9,-999.000,9,-999.000,9,-999.0000,9,  -999.0,9,  -999.0,9,-999.0000,9,  -999.00,9, -999.00,9,  -999.0,9, -999.00,9, -999.00,9,     -999.0,9, 20220623,      254,  30.0002,-150.2432,     -999.0,9,     -999.0,9,     -999.0,9,     -999.0,1,     -999.0,9,     0.0125,1,     4.6322,1,     -999.0,9,     -999.0,9,     -999.0,9,     -999.0,9,     -999.0,9
33RR20220613,       P02E,     137,          1,         13,         13,2,20220623,       0226,    30.0002,  -150.2432,       6180,     3.7,2,  24.3213,2,  35.4607,2,-999.0000,9,    212.8,2,  -999.0,9, -999.00,9, -999.00,9, -999.00,9, -999.00,9,-999.000,9,-999.000,9,-999.0000,9,  -999.0,9,  -999.0,9,-999.0000,9,  -999.00,9, -999.00,9,  -999.0,9, -999.00,9, -999.00,9,     -999.0,9, 20220623,      254,  30.0002,-150.2432,     -999.0,9,     -999.0,1,     -999.0,1,     -999.0,9,     -999.0,9,     0.0134,1,     4.6314,1,     -999.0,9,     -999.0,9,     -999.0,9,     -999.0,9,     -999.0,9
33RR20220613,       P02E,     137,          1,         12,         12,2,20220623,       0226,    30.0002,  -150.2432,       6180,     3.7,2,  24.3209,2,  35.4605,2,-999.0000,9,    212.9,2,  -999.0,9, -999.00,9, -999.00,9, -999.00,9, -999.00,9,-999.000,9,-999.000,9,-999.0000,9,  -999.0,9,  -999.0,9,-999.0000,9,  -999.00,9, -999.00,9,  -999.0,9, -999.00,9, -999.00,9,     -999.0,9, 20220623,      254,  30.0002,-150.2432,     -999.0,9,     -999.0,1,     -999.0,1,     -999.0,9,     -999.0,9,     0.0134,1,     4.6316,1,     -999.0,9,     -999.0,9,     -999.0,9,     -999.0,9,     -999.0,9
33RR20220613,       P02E,     137,          1,         15,         15,2,20220623,       0226,    30.0002,  -150.2432,       6180,     4.0,2,  24.3208,2,  35.4605,2,-999.0000,9,    212.9,2,  -999.0,9, -999.00,9, -999.00,9, -999.00,9, -999.00,9,-999.000,9,-999.000,9,-999.0000,9,  -999.0,9,  -999.0,9,-999.0000,9,  -999.00,9, -999.00,9,  -999.0,9, -999.00,9, -999.00,9,     -999.0,9, 20220623,      254,  30.0002,-150.2432,     -999.0,9,     -999.0,9,     -999.0,9,     -999.0,1,     -999.0,9,     0.0134,1,     4.6305,1,     -999.0,9,     -999.0,9,     -999.0,9,     -999.0,9,     -999.0,9
33RR20220613,       P02E,     137,          1,          9,          9,2,20220623,       0226,    30.0002,  -150.2432,       6180,     4.0,2,  24.3205,2,  35.4606,2,-999.0000,9,    212.8,2,  -999.0,9, -999.00,9, -999.00,9, -999.00,9, -999.00,9,-999.000,9,-999.000,9,-999.0000,9,  -999.0,9,  -999.0,9,-999.0000,9,  -999.00,9, -999.00,9,  -999.0,9, -999.00,9, -999.00,9,     -999.0,9, 20220623,      254,  30.0002,-150.2432,    24.3205,2,     -999.0,9,     -999.0,9,     -999.0,9,     -999.0,9,     0.0135,1,     4.6335,1,     -999.0,1,     -999.0,9,     -999.0,1,     -999.0,9,     -999.0,9
33RR20220613,       P02E,     137,          1,         10,         10,2,20220623,       0226,    30.0002,  -150.2432,       6180,     4.0,2,  24.3208,2,  35.4604,2,-999.0000,9,    212.9,2,  -999.0,9, -999.00,9, -999.00,9, -999.00,9, -999.00,9,-999.000,9,-999.000,9,-999.0000,9,  -999.0,9,  -999.0,9,-999.0000,9,  -999.00,9, -999.00,9,  -999.0,9, -999.00,9, -999.00,9,     -999.0,9, 20220623,      254,  30.0002,-150.2432,     -999.0,9,     -999.0,9,     -999.0,9,     -999.0,9,     -999.0,9,     0.0135,1,     4.6326,1,     -999.0,9,     -999.0,1,     -999.0,9,     -999.0,9,     -999.0,9
33RR20220613,       P02E,     137,          1,         11,         11,2,20220623,       0226,    30.0002,  -150.2432,       6180,     4.1,2,  24.3221,2,  35.4606,2,-999.0000,9,    212.7,2,  -999.0,9, -999.00,9, -999.00,9, -999.00,9, -999.00,9,-999.000,9,-999.000,9,-999.0000,9,  -999.0,9,  -999.0,9,-999.0000,9,  -999.00,9, -999.00,9,  -999.0,9, -999.00,9, -999.00,9,     -999.0,9, 20220623,      254,  30.0002,-150.2432,     -999.0,9,     -999.0,1,     -999.0,1,     -999.0,9,     -999.0,9,     0.0134,1,     4.6330,1,     -999.0,9,     -999.0,9,     -999.0,9,     -999.0,9,     -999.0,9
33RR20220613,       P02E,     137,          1,         14,         14,2,20220623,       0226,    30.0002,  -150.2432,       6180,     4.2,2,  24.3227,2,  35.4606,2,-999.0000,9,    213.0,2,  -999.0,9, -999.00,9, -999.00,9, -999.00,9, -999.00,9,-999.000,9,-999.000,9,-999.0000,9,  -999.0,9,  -999.0,9,-999.0000,9,  -999.00,9, -999.00,9,  -999.0,9, -999.00,9, -999.00,9,     -999.0,9, 20220623,      254,  30.0002,-150.2432,     -999.0,9,     -999.0,9,     -999.0,9,     -999.0,1,     -999.0,9,     0.0134,1,     4.6318,1,     -999.0,9,     -999.0,9,     -999.0,9,     -999.0,9,     -999.0,9
33RR20220613,       P02E,     137,          1,         17,         37,2,20220623,       0226,    30.0002,  -150.2432,       6180,     4.3,2,  24.3231,2,  35.4609,2,-999.0000,9,    212.9,2,  -999.0,9, -999.00,9, -999.00,9, -999.00,9, -999.00,9,-999.000,9,-999.000,9,-999.0000,9,  -999.0,9,  -999.0,9,-999.0000,9,  -999.00,9, -999.00,9,  -999.0,9, -999.00,9, -999.00,9,     -999.0,9, 20220623,      254,  30.0002,-150.2432,    24.3201,2,     -999.0,9,     -999.0,9,     -999.0,9,     -999.0,1,     0.0134,1,     4.6329,1,     -999.0,9,     -999.0,9,     -999.0,9,     -999.0,9,     -999.0,9
33RR20220613,       P02E,     137,          1,         19,         39,2,20220623,       0226,    30.0002,  -150.2432,       6180,     4.3,2,  24.3227,2,  35.4611,2,-999.0000,9,    212.9,2,  -999.0,9, -999.00,9, -999.00,9, -999.00,9, -999.00,9,-999.000,9,-999.000,9,-999.0000,9,  -999.0,9,  -999.0,9,-999.0000,9,  -999.00,9, -999.00,9,  -999.0,9, -999.00,9, -999.00,9,     -999.0,9, 20220623,      255,  30.0002,-150.2432,     -999.0,9,     -999.0,9,     -999.0,9,     -999.0,9,     -999.0,1,     0.0135,1,     4.6323,1,     -999.0,9,     -999.0,9,     -999.0,9,     -999.0,9,     -999.0,9
33RR20220613,       P02E,     137,          1,          8,          8,2,20220623,       0226,    30.0002,  -150.2432,       6180,    45.3,2,  22.8928,2,  35.3533,2,-999.0000,9,    225.5,2,  -999.0,9, -999.00,9, -999.00,9, -999.00,9, -999.00,9,-999.000,9,-999.000,9,-999.0000,9,  -999.0,9,  -999.0,9,-999.0000,9,  -999.00,9, -999.00,9,  -999.0,9, -999.00,9, -999.00,9,     -999.0,9, 20220623,      251,  30.0002,-150.2432,    22.8970,2,     -999.0,9,     -999.0,9,     -999.0,9,     -999.0,9,     0.0147,1,     4.6243,1,     -999.0,1,     -999.0,9,     -999.0,1,     -999.0,9,     -999.0,9
33RR20220613,       P02E,     137,          1,          7,          7,2,20220623,       0226,    30.0002,  -150.2432,       6180,    80.4,2,  21.5164,2,  35.2593,2,-999.0000,9,    226.8,2,  -999.0,9, -999.00,9, -999.00,9, -999.00,9, -999.00,9,-999.000,9,-999.000,9,-999.0000,9,  -999.0,9,  -999.0,9,-999.0000,9,  -999.00,9, -999.00,9,  -999.0,9, -999.00,9, -999.00,9,     -999.0,9, 20220623,      249,  30.0002,-150.2433,    21.5337,2,     -999.0,9,     -999.0,9,     -999.0,9,     -999.0,9,     0.0195,1,     4.6322,1,     -999.0,9,     -999.0,9,     -999.0,1,     -999.0,9,     -999.0,9
33RR20220613,       P02E,     137,          1,          6,          6,2,20220623,       0226,    30.0002,  -150.2432,       6180,   104.8,2,  20.8312,2,  35.1966,2,-999.0000,9,    224.8,2,  -999.0,9, -999.00,9, -999.00,9, -999.00,9, -999.00,9,-999.000,9,-999.000,9,-999.0000,9,  -999.0,9,  -999.0,9,-999.0000,9,  -999.00,9, -999.00,9,  -999.0,9, -999.00,9, -999.00,9,     -999.0,9, 20220623,      247,  30.0002,-150.2433,     -999.0,9,     -999.0,9,     -999.0,9,     -999.0,9,     -999.0,9,     0.0208,1,     4.6517,1,     -999.0,9,     -999.0,1,     -999.0,9,     -999.0,9,     -999.0,9
33RR20220613,       P02E,     137,          1,          5,          5,2,20220623,       0226,    30.0002,  -150.2432,       6180,   105.0,2,  20.8379,2,  35.1978,2,-999.0000,9,    225.0,2,  -999.0,9, -999.00,9, -999.00,9, -999.00,9, -999.00,9,-999.000,9,-999.000,9,-999.0000,9,  -999.0,9,  -999.0,9,-999.0000,9,  -999.00,9, -999.00,9,  -999.0,9, -999.00,9, -999.00,9,     -999.0,9, 20220623,      247,  30.0002,-150.2433,    20.8389,2,     -999.0,9,     -999.0,9,     -999.0,9,     -999.0,9,     0.0208,1,     4.6516,1,     -999.0,1,     -999.0,9,     -999.0,1,     -999.0,9,     -999.0,9
33RR20220613,       P02E,     137,          1,          4,          4,2,20220623,       0226,    30.0002,  -150.2432,       6180,   155.9,2,  19.7404,2,  35.0473,2,-999.0000,9,    222.3,2,  -999.0,9, -999.00,9, -999.00,9, -999.00,9, -999.00,9,-999.000,9,-999.000,9,-999.0000,9,  -999.0,9,  -999.0,9,-999.0000,9,  -999.00,9, -999.00,9,  -999.0,9, -999.00,9, -999.00,9,     -999.0,9, 20220623,      245,  30.0002,-150.2432,    19.7363,2,     -999.0,9,     -999.0,9,     -999.0,9,     -999.0,9,     0.0235,1,     4.6657,1,     -999.0,9,     -999.0,9,     -999.0,1,     -999.0,9,     -999.0,9
33RR20220613,       P02E,     137,          1,          3,          3,2,20220623,       0226,    30.0002,  -150.2432,       6180,   205.5,2,  17.3879,2,  34.6756,2,-999.0000,9,    213.3,2,  -999.0,9, -999.00,9, -999.00,9, -999.00,9, -999.00,9,-999.000,9,-999.000,9,-999.0000,9,  -999.0,9,  -999.0,9,-999.0000,9,  -999.00,9, -999.00,9,  -999.0,9, -999.00,9, -999.00,9,     -999.0,9, 20220623,      242,  30.0002,-150.2433,    17.3867,2,     -999.0,9,     -999.0,9,     -999.0,9,     -999.0,9,     0.0190,1,     4.6793,1,     -999.0,9,     -999.0,1,     -999.0,1,     -999.0,9,     -999.0,9
33RR20220613,       P02E,     137,          1,          2,          2,2,20220623,       0226,    30.0002,  -150.2432,       6180,   507.6,2,   8.0875,2,  34.0263,2,-999.0000,9,    165.6,2,  -999.0,9, -999.00,9, -999.00,9, -999.00,9, -999.00,9,-999.000,9,-999.000,9,-999.0000,9,  -999.0,9,  -999.0,9,-999.0000,9,  -999.00,9, -999.00,9,  -999.0,9, -999.00,9, -999.00,9,     -999.0,9, 20220623,      236,  30.0002,-150.2433,     8.0920,2,     -999.0,9,     -999.0,9,     -999.0,9,     -999.0,9,     0.0122,1,     4.6974,1,     -999.0,9,     -999.0,9,     -999.0,1,     -999.0,9,     -999.0,9
33RR20220613,       P02E,     137,          1,          1,          1,2,20220623,       0226,    30.0002,  -150.2432,       6180,  1013.5,2,   3.7267,2,  34.3726,2,-999.0000,9,     13.9,2,  -999.0,9, -999.00,9, -999.00,9, -999.00,9, -999.00,9,-999.000,9,-999.000,9,-999.0000,9,  -999.0,9,  -999.0,9,-999.0000,9,  -999.00,9, -999.00,9,  -999.0,9, -999.00,9, -999.00,9,     -999.0,9, 20220623,      226,  30.0002,-150.2433,     3.7270,2,     -999.0,9,     -999.0,9,     -999.0,9,     -999.0,9,     0.0134,1,     4.6984,1,     -999.0,9,     -999.0,1,     -999.0,1,     -999.0,9,     -999.0,9