BOTTLE,20230830CCHSIOCBG
EXPOCODE,SECT_ID,STNNBR,CASTNO,SAMPNO,BTLNBR,BTLNBR_FLAG_W,DATE,TIME,LATITUDE,LONGITUDE,DEPTH,CTDPRS,CTDPRS_FLAG_W,CTDTMP,CTDTMP_FLAG_W,CTDSAL,CTDSAL_FLAG_W,SALNTY,SALNTY_FLAG_W,CTDOXY,CTDOXY_FLAG_W,OXYGEN,OXYGEN_FLAG_W,SILCAT,SILCAT_FLAG_W,NITRAT,NITRAT_FLAG_W,NITRIT,NITRIT_FLAG_W,PHSPHT,PHSPHT_FLAG_W,CFC-11,CFC-11_FLAG_W,CFC-12,CFC-12_FLAG_W,SF6,SF6_FLAG_W,TCARBN,TCARBN_FLAG_W,ALKALI,ALKALI_FLAG_W,PH_TOT,PH_TOT_FLAG_W,PH_TMP,PH_TMP_FLAG_W,DELC13,DELC13_FLAG_W,DELC14,DELC14_FLAG_W,DOC,DOC_FLAG_W,TDN,TDN_FLAG_W,N2O,N2O_FLAG_W,BTL_DATE,BTL_TIME,BTL_LAT,BTL_LON,REFTMP,REFTMP_FLAG_W,POC,POC_FLAG_W,PON,PON_FLAG_W,POP,POP_FLAG_W,PCOD,PCOD_FLAG_W,CTDFLUOR,CTDFLUOR_FLAG_W,CTDXMISS,CTDXMISS_FLAG_W,HPLC,HPLC_FLAG_W,DNA,DNA_FLAG_W,FCM,FCM_FLAG_W,IMAGES,IMAGES_FLAG_W,VIRAL_ABUNDANCE,VIRAL_ABUNDANCE_FLAG_W
,,,,,,,,,,,METERS,DBAR,,ITS-90,,PSS-78,,PSS-78,,UMOL/KG,,UMOL/KG,,UMOL/KG,,UMOL/KG,,UMOL/KG,,UMOL/KG,,PMOL/KG,,PMOL/KG,,FMOL/KG,,UMOL/KG,,UMOL/KG,,,,DEG C,,/MILLE,,/MILLE,,UMOL/KG,,UMOL/KG,,NMOL/KG,,,,,,ITS-90,,UG/L,,UG/L,,UG/L,,UG/L,,VOLTS,,VOLTS,,,,,,,,,,,
33RR20220613,       P02E,     196,          1,         33,         33,2,20220710,       2312,    31.9522,  -119.4416,       1290,     4.0,2,  17.2844,2,  33.6285,2,  33.6324,2,    247.9,2,   247.8,2,    0.00,2,    0.54,2,    0.04,2,    0.30,2,   2.353,2,   1.391,2,   2.2401,2,  2027.7,6,  2247.3,2,   7.9140,2,    25.00,2, -999.00,9,  -999.0,9, -999.00,9, -999.00,9,        9.9,2, 20220711,       30,  31.9522,-119.4416,    17.2834,2,     -999.0,9,     -999.0,9,     -999.0,9,     -999.0,9,     0.0355,1,     4.5237,1,     -999.0,9,     -999.0,9,     -999.0,9,     -999.0,9,     -999.0,9
33RR20220613,       P02E,     196,          1,         32,         32,2,20220710,       2312,    31.9522,  -119.4416,       1290,    35.3,2,  16.2418,2,  33.6257,2,  33.6306,2,    254.2,2,   254.4,2,    0.20,2,    1.81,2,    0.09,2,    0.40,2,   2.500,2,   1.459,2,   2.2450,2,  2038.0,2,  2245.9,2,   7.8908,2,    25.01,2, -999.00,9,  -999.0,9, -999.00,9, -999.00,9,       11.2,2, 20220711,       26,  31.9522,-119.4416,    16.2354,2,     -999.0,9,     -999.0,9,     -999.0,9,     -999.0,9,     0.0551,1,     4.5487,1,     -999.0,9,     -999.0,9,     -999.0,9,     -999.0,9,     -999.0,9
33RR20220613,       P02E,     196,          1,         31,         31,2,20220710,       2312,    31.9522,  -119.4416,       1290,    60.7,2,  11.7826,2,  33.7371,2,  33.7494,2,    182.2,3,   186.2,2,   12.32,2,   15.27,2,    0.79,2,    1.37,2,   2.803,2,   1.642,2,   2.0634,2,  2134.6,2,  2244.4,2,   7.6532,2,    25.00,2, -999.00,9,  -999.0,9, -999.00,9, -999.00,9,       18.8,2, 20220711,       24,  31.9522,-119.4416,    11.7383,3,     -999.0,9,     -999.0,9,     -999.0,9,     -999.0,9,     0.0420,1,     4.6286,1,     -999.0,9,     -999.0,9,     -999.0,9,     -999.0,9,     -999.0,9
33RR20220613,       P02E,     196,          1,         30,         17,2,20220710,       2312,    31.9522,  -119.4416,       1290,    85.6,2,  10.1569,2,  33.8337,2,  33.8275,2,    138.9,2,   139.5,2,   22.38,2,   22.79,2,    0.03,2,    1.78,2,   2.902,2,   1.685,2,   1.8711,2,  2176.8,2,  2246.3,2,   7.5318,2,    25.00,2, -999.00,9,  -999.0,9, -999.00,9, -999.00,9,       24.7,2, 20220711,       21,  31.9522,-119.4417,    10.1546,2,     -999.0,9,     -999.0,9,     -999.0,9,     -999.0,9,     0.0158,1,     4.6650,1,     -999.0,9,     -999.0,9,     -999.0,9,     -999.0,9,     -999.0,9
33RR20220613,       P02E,     196,          1,         29,         29,2,20220710,       2312,    31.9522,  -119.4416,       1290,   111.2,2,   9.7178,2,  33.9091,2,  33.9083,2,    119.4,2,   119.0,2,   26.29,2,   24.57,2,    0.00,2,    1.91,2,   2.806,2,   1.629,2,   1.5820,2,  2192.5,2,  2251.7,6,   7.4985,2,    25.01,2, -999.00,9,  -999.0,9, -999.00,9, -999.00,9,       27.9,2, 20220711,       19,  31.9522,-119.4416,     9.7200,2,     -999.0,9,     -999.0,9,     -999.0,9,     -999.0,9,     0.0134,1,     4.6700,1,     -999.0,9,     -999.0,9,     -999.0,9,     -999.0,9,     -999.0,9
33RR20220613,       P02E,     196,          1,         28,         28,2,20220710,       2312,    31.9522,  -119.4416,       1290,   136.4,2,   9.1709,2,  33.9919,2,  33.9929,2,    101.4,2,   100.9,2,   30.88,2,   26.67,2,    0.00,2,    2.06,2,   2.672,2,   1.561,2,   1.3602,2,  2206.6,2,  2258.5,2,   7.4700,2,    25.00,2, -999.00,9,  -999.0,9, -999.00,9, -999.00,9,       32.2,2, 20220711,       16,  31.9522,-119.4416,     9.1695,2,     -999.0,9,     -999.0,9,     -999.0,9,     -999.0,9,     0.0134,1,     4.6701,1,     -999.0,9,     -999.0,9,     -999.0,9,     -999.0,9,     -999.0,9
33RR20220613,       P02E,     196,          1,         27,         27,2,20220710,       2312,    31.9522,  -119.4416,       1290,   161.3,2,   8.9119,2,  34.0558,2,  34.0576,2,     92.6,2,    92.3,2,   33.62,2,   27.57,2,    0.00,2,    2.14,2,   2.578,2,   1.493,2,   1.2068,2,  2220.0,2,  2263.6,2,   7.4577,2,    25.01,2, -999.00,9,  -999.0,9, -999.00,9, -999.00,9,       33.3,2, 20220711,       14,  31.9522,-119.4416,     8.9105,2,     -999.0,9,     -999.0,9,     -999.0,9,     -999.0,9,     0.0134,1,     4.6677,1,     -999.0,9,     -999.0,9,     -999.0,9,     -999.0,9,     -999.0,9
33RR20220613,       P02E,     196,          1,         26,         26,2,20220710,       2312,    31.9522,  -119.4416,       1290,   186.5,2,   8.7377,2,  34.1173,2,  34.1181,2,     74.9,2,    74.9,2,   37.33,2,   29.04,2,    0.00,2,    2.30,2,   2.336,2,   1.349,2,   0.9608,2,  2234.5,2,  2271.9,2,   7.4272,2,    25.00,2, -999.00,9,  -999.0,9, -999.00,9, -999.00,9,       36.0,2, 20220711,       12,  31.9523,-119.4417,     8.7364,2,     -999.0,9,     -999.0,9,     -999.0,9,     -999.0,9,     0.0134,1,     4.6661,1,     -999.0,9,     -999.0,9,     -999.0,9,     -999.0,9,     -999.0,9
33RR20220613,       P02E,     196,          1,         25,         25,2,20220710,       2312,    31.9522,  -119.4416,       1290,   211.4,2,   8.3641,2,  34.1634,2,  34.1652,2,     57.7,2,    57.8,2,   42.90,2,   31.01,2,    0.00,2,    2.48,2,-999.000,9,-999.000,9,-999.0000,9,  2253.8,2,  2279.6,2,   7.3935,2,    25.00,2, -999.00,9,  -999.0,9, -999.00,9, -999.00,9,     -999.0,9, 20220711,       10,  31.9522,-119.4417,     8.3638,2,     -999.0,9,     -999.0,9,     -999.0,9,     -999.0,9,     0.0134,1,     4.6702,1,     -999.0,9,     -999.0,9,     -999.0,9,     -999.0,9,     -999.0,9
33RR20220613,       P02E,     196,          1,         24,         24,2,20220710,       2312,    31.9522,  -119.4416,       1290,   236.5,2,   8.1880,2,  34.1861,2,  34.1871,2,     48.7,2,    48.8,2,   46.12,2,   32.13,2,    0.00,2,    2.57,2,   1.856,2,   1.053,2,   0.6095,2,  2262.8,2,  2282.0,2,   7.3781,2,    25.00,2, -999.00,9,  -999.0,9, -999.00,9, -999.00,9,       39.9,2, 20220711,        7,  31.9522,-119.4416,     8.1864,2,     -999.0,9,     -999.0,9,     -999.0,9,     -999.0,9,     0.0134,1,     4.6706,1,     -999.0,9,     -999.0,9,     -999.0,9,     -999.0,9,     -999.0,9
33RR20220613,       P02E,     196,          1,         23,         23,2,20220710,       2312,    31.9522,  -119.4416,       1290,   262.3,2,   7.8785,2,  34.1876,2,  34.1871,2,     45.8,3,    46.6,2,   49.05,2,   32.98,2,    0.00,2,    2.62,2,-999.000,9,-999.000,9,-999.0000,9,  2266.2,2,  2285.6,2,   7.3702,2,    25.01,2, -999.00,9,  -999.0,9, -999.00,9, -999.00,9,     -999.0,9, 20220711,        5,  31.9523,-119.4417,     7.8781,2,     -999.0,9,     -999.0,9,     -999.0,9,     -999.0,9,     0.0134,1,     4.6694,1,     -999.0,9,     -999.0,9,     -999.0,9,     -999.0,9,     -999.0,9
33RR20220613,       P02E,     196,          1,         22,         22,2,20220710,       2312,    31.9522,  -119.4416,       1290,   287.2,2,   7.2845,2,  34.1344,2,  34.1370,2,     52.8,2,    52.4,2,   52.86,2,   34.25,2,    0.00,2,    2.62,2,   1.830,2,   1.009,2,   0.6112,2,  2266.0,2,  2285.7,2,   7.3701,2,    25.00,2, -999.00,9,  -999.0,9, -999.00,9, -999.00,9,       40.2,2, 20220711,        3,  31.9522,-119.4417,     7.2877,2,     -999.0,9,     -999.0,9,     -999.0,9,     -999.0,9,     0.0134,1,     4.6750,1,     -999.0,9,     -999.0,9,     -999.0,9,     -999.0,9,     -999.0,9
33RR20220613,       P02E,     196,          1,         21,         21,2,20220710,       2312,    31.9522,  -119.4416,       1290,   313.0,2,   7.1715,2,  34.1804,2,  34.1813,2,     39.9,2,    40.1,2,   56.48,2,   35.26,2,    0.00,2,    2.73,2,-999.000,9,-999.000,9,-999.0000,9,  -999.0,9,  -999.0,9,-999.0000,9,  -999.00,9, -999.00,9,  -999.0,9, -999.00,9, -999.00,9,     -999.0,9, 20220711,        1,  31.9522,-119.4417,     7.1707,2,     -999.0,9,     -999.0,9,     -999.0,9,     -999.0,9,     0.0134,1,     4.6702,1,     -999.0,9,     -999.0,9,     -999.0,9,     -999.0,9,     -999.0,9
33RR20220613,       P02E,     196,          1,         20,         20,2,20220710,       2312,    31.9522,  -119.4416,       1290,   337.9,2,   6.8877,2,  34.1844,2,  34.1856,2,     35.5,3,    35.9,2,   59.90,2,   36.14,2,    0.00,2,    2.78,2,   1.343,2,   0.730,2,   0.4309,2,  -999.0,9,  -999.0,9,-999.0000,9,  -999.00,9, -999.00,9,  -999.0,9, -999.00,9, -999.00,9,       45.6,2, 20220710,     2359,  31.9522,-119.4416,     6.8931,2,     -999.0,9,     -999.0,9,     -999.0,9,     -999.0,9,     0.0134,1,     4.6592,1,     -999.0,9,     -999.0,9,     -999.0,9,     -999.0,9,     -999.0,9
33RR20220613,       P02E,     196,          1,         19,         39,2,20220710,       2312,    31.9522,  -119.4416,       1290,   362.9,2,   6.6200,2,  34.1957,2,  34.1956,2,     30.5,2,    30.6,2,   64.10,2,   37.19,2,    0.00,2,    2.84,2,-999.000,9,-999.000,9,-999.0000,9,  2293.2,2,  2299.9,2,   7.3344,2,    25.00,2, -999.00,9,  -999.0,9, -999.00,9, -999.00,9,     -999.0,9, 20220710,     2357,  31.9522,-119.4416,     6.6257,2,     -999.0,9,     -999.0,9,     -999.0,9,     -999.0,9,     0.0134,1,     4.6761,1,     -999.0,9,     -999.0,9,     -999.0,9,     -999.0,9,     -999.0,9
33RR20220613,       P02E,     196,          1,         18,         18,2,20220710,       2312,    31.9522,  -119.4416,       1290,   388.0,2,   6.4477,2,  34.2115,2,  34.2128,2,     26.4,2,    26.5,2,   67.03,2,   37.80,2,    0.00,2,    2.90,2,   0.950,2,   0.506,2,   0.2759,2,  -999.0,9,  -999.0,9,-999.0000,9,  -999.00,9, -999.00,9,  -999.0,9, -999.00,9, -999.00,9,       48.1,2, 20220710,     2354,  31.9522,-119.4416,     6.4441,2,     -999.0,9,     -999.0,9,     -999.0,9,     -999.0,9,     0.0134,1,     4.6762,1,     -999.0,9,     -999.0,9,     -999.0,9,     -999.0,9,     -999.0,9
33RR20220613,       P02E,     196,          1,         17,         37,2,20220710,       2312,    31.9522,  -119.4416,       1290,   413.4,2,   6.4431,2,  34.2478,2,  34.2489,2,     20.7,2,    20.8,2,   68.39,2,   37.86,2,    0.00,2,    3.04,3,-999.000,9,-999.000,9,-999.0000,9,  2301.7,2,  2307.2,2,   7.3225,2,    25.00,2, -999.00,9,  -999.0,9, -999.00,9, -999.00,9,     -999.0,9, 20220710,     2352,  31.9522,-119.4417,     6.4424,2,     -999.0,9,     -999.0,9,     -999.0,9,     -999.0,9,     0.0134,1,     4.6736,1,     -999.0,9,     -999.0,9,     -999.0,9,     -999.0,9,     -999.0,9
33RR20220613,       P02E,     196,          1,         16,         16,2,20220710,       2312,    31.9522,  -119.4416,       1290,   438.4,2,   6.3585,2,  34.2757,2,  34.2772,2,     17.0,2,    17.0,2,   70.44,2,   38.29,2,    0.00,2,    2.99,2,   0.611,2,   0.334,2,   0.3587,2,  -999.0,9,  -999.0,9,-999.0000,9,  -999.00,9, -999.00,9,  -999.0,9, -999.00,9, -999.00,9,       52.8,2, 20220710,     2350,  31.9523,-119.4417,     6.3605,2,     -999.0,9,     -999.0,9,     -999.0,9,     -999.0,9,     0.0134,1,     4.6763,1,     -999.0,9,     -999.0,9,     -999.0,9,     -999.0,9,     -999.0,9
33RR20220613,       P02E,     196,          1,         15,         15,2,20220710,       2312,    31.9522,  -119.4416,       1290,   464.1,2,   6.2144,2,  34.2880,2,  34.2893,2,     15.2,3,    15.5,2,   72.79,2,   38.74,2,    0.00,2,    3.02,2,-999.000,9,-999.000,9,-999.0000,9,  2311.7,2,  2314.4,2,   7.3188,2,    25.01,2, -999.00,9,  -999.0,9, -999.00,9, -999.00,9,     -999.0,9, 20220710,     2347,  31.9523,-119.4417,     6.2148,2,     -999.0,9,     -999.0,9,     -999.0,9,     -999.0,9,     0.0134,1,     4.6772,1,     -999.0,9,     -999.0,9,     -999.0,9,     -999.0,9,     -999.0,9
33RR20220613,       P02E,     196,          1,         14,         42,2,20220710,       2312,    31.9522,  -119.4416,       1290,   488.9,2,   6.0267,2,  34.3074,2,  34.3189,2,     13.3,3,    13.7,2,   76.50,2,   39.40,2,    0.00,2,    3.07,2,   0.380,2,   0.204,2,   0.1370,2,  -999.0,9,  -999.0,9,-999.0000,9,  -999.00,9, -999.00,9,  -999.0,9, -999.00,9, -999.00,9,       52.6,2, 20220710,     2347,  31.9523,-119.4417,     6.0261,2,     -999.0,9,     -999.0,9,     -999.0,9,     -999.0,9,     0.0134,1,     4.6787,1,     -999.0,9,     -999.0,9,     -999.0,9,     -999.0,9,     -999.0,9
33RR20220613,       P02E,     196,          1,         13,         13,2,20220710,       2312,    31.9522,  -119.4416,       1290,   524.6,2,   5.9209,2,  34.3178,2,  34.3211,2,     12.4,3,    12.1,2,   79.04,2,   39.67,2,    0.00,2,    3.10,2,-999.000,9,-999.000,9,-999.0000,9,  2321.2,2,  2321.6,2,   7.3167,2,    25.01,2, -999.00,9,  -999.0,9, -999.00,9, -999.00,9,     -999.0,9, 20220710,     2344,  31.9522,-119.4416,     5.9198,2,     -999.0,9,     -999.0,9,     -999.0,9,     -999.0,9,     0.0134,1,     4.6786,1,     -999.0,9,     -999.0,9,     -999.0,9,     -999.0,9,     -999.0,9
33RR20220613,       P02E,     196,          1,         12,         12,2,20220710,       2312,    31.9522,  -119.4416,       1290,   569.5,2,   5.6571,2,  34.3496,2,  34.3496,2,     11.1,3,    11.0,2,   83.53,2,   40.40,2,    0.00,2,    3.14,2,   0.188,2,   0.105,2,   0.1115,2,  2326.8,2,  2329.0,2,   7.3179,2,    25.00,2, -999.00,9,  -999.0,9, -999.00,9, -999.00,9,       54.4,2, 20220710,     2342,  31.9522,-119.4417,     5.6558,2,     -999.0,9,     -999.0,9,     -999.0,9,     -999.0,9,     0.0134,1,     4.6789,1,     -999.0,9,     -999.0,9,     -999.0,9,     -999.0,9,     -999.0,9
33RR20220613,       P02E,     196,          1,         11,         11,2,20220710,       2312,    31.9522,  -119.4416,       1290,   620.1,2,   5.4971,2,  34.3649,2,  34.3672,2,     11.0,2,    10.9,2,   86.46,2,   40.86,2,    0.00,2,    3.17,2,-999.000,9,-999.000,9,-999.0000,9,  2330.4,2,  2332.0,2,   7.3195,2,    25.00,2, -999.00,9,  -999.0,9, -999.00,9, -999.00,9,     -999.0,9, 20220710,     2339,  31.9522,-119.4416,     5.4984,2,     -999.0,9,     -999.0,9,     -999.0,9,     -999.0,9,     0.0134,1,     4.6796,1,     -999.0,9,     -999.0,9,     -999.0,9,     -999.0,9,     -999.0,9
33RR20220613,       P02E,     196,          1,         10,         10,2,20220710,       2312,    31.9522,  -119.4416,       1290,   670.6,2,   5.2088,2,  34.3894,2,  34.3910,2,     11.6,3,    11.5,2,   92.13,2,   41.70,2,    0.00,2,    3.20,2,   0.086,2,   0.051,2,   0.1541,2,  -999.0,9,  -999.0,9,-999.0000,9,  -999.00,9, -999.00,9,  -999.0,9, -999.00,9, -999.00,9,       58.8,2, 20220710,     2337,  31.9522,-119.4417,     5.2027,2,     -999.0,9,     -999.0,9,     -999.0,9,     -999.0,9,     0.0134,1,     4.6794,1,     -999.0,9,     -999.0,9,     -999.0,9,     -999.0,9,     -999.0,9
33RR20220613,       P02E,     196,          1,          9,          9,2,20220710,       2312,    31.9522,  -119.4416,       1290,   721.9,2,   4.9386,2,  34.4111,2,  34.4133,2,     13.0,3,    12.8,2,   97.40,2,   42.27,2,    0.00,2,    3.21,2,-999.000,9,-999.000,9,-999.0000,9,  2343.0,2,  2346.2,2,   7.3260,2,    24.99,2, -999.00,9,  -999.0,9, -999.00,9, -999.00,9,     -999.0,9, 20220710,     2335,  31.9522,-119.4416,     4.9283,2,     -999.0,9,     -999.0,9,     -999.0,9,     -999.0,9,     0.0134,1,     4.6800,1,     -999.0,9,     -999.0,9,     -999.0,9,     -999.0,9,     -999.0,9
33RR20220613,       P02E,     196,          1,          8,          8,2,20220710,       2312,    31.9522,  -119.4416,       1290,   771.7,2,   4.7630,2,  34.4270,2,  34.4249,2,     14.3,3,    14.0,2,  100.53,2,   42.55,2,    0.00,2,    3.21,2,   0.053,2,   0.035,2,   0.1649,2,  -999.0,9,  -999.0,9,-999.0000,9,  -999.00,9, -999.00,9,  -999.0,9, -999.00,9, -999.00,9,       54.2,2, 20220710,     2331,  31.9522,-119.4417,     4.7654,2,     -999.0,9,     -999.0,9,     -999.0,9,     -999.0,9,     0.0134,1,     4.6800,1,     -999.0,9,     -999.0,9,     -999.0,9,     -999.0,9,     -999.0,9
33RR20220613,       P02E,     196,          1,          7,          7,2,20220710,       2312,    31.9522,  -119.4416,       1290,   822.5,2,   4.6390,2,  34.4365,2,  34.4355,2,     15.6,3,    15.3,2,  102.58,2,   42.72,2,    0.00,2,    3.21,2,-999.000,9,-999.000,9,-999.0000,9,  2348.0,2,  2355.6,2,   7.3307,2,    25.01,2, -999.00,9,  -999.0,9, -999.00,9, -999.00,9,     -999.0,9, 20220710,     2330,  31.9522,-119.4417,     4.6443,2,     -999.0,9,     -999.0,9,     -999.0,9,     -999.0,9,     0.0134,1,     4.6802,1,     -999.0,9,     -999.0,9,     -999.0,9,     -999.0,9,     -999.0,9
33RR20220613,       P02E,     196,          1,          6,          6,2,20220710,       2312,    31.9522,  -119.4416,       1290,   873.2,2,   4.4900,2,  34.4490,2,  34.4514,2,     16.9,3,    17.7,2,  106.58,2,   42.84,2,    0.00,2,    3.21,2,   0.043,2,   0.033,2,   0.3040,2,  -999.0,9,  -999.0,9,-999.0000,9,  -999.00,9, -999.00,9,  -999.0,9, -999.00,9, -999.00,9,       53.1,2, 20220710,     2328,  31.9523,-119.4417,     4.4926,2,     -999.0,9,     -999.0,9,     -999.0,9,     -999.0,9,     0.0134,1,     4.6805,1,     -999.0,9,     -999.0,9,     -999.0,9,     -999.0,9,     -999.0,9
33RR20220613,       P02E,     196,          1,          5,          5,2,20220710,       2312,    31.9522,  -119.4416,       1290,   958.6,2,   4.1799,2,  34.4727,2,  34.4736,2,     21.0,2,    21.1,2,  112.93,2,   43.08,2,    0.00,2,    3.19,2,   0.033,2,   0.028,2,   0.7707,2,  2358.4,2,  2368.5,6,   7.3446,2,    25.00,2, -999.00,9,  -999.0,9, -999.00,9, -999.00,9,       51.6,2, 20220710,     2325,  31.9522,-119.4416,     4.1790,2,     -999.0,9,     -999.0,9,     -999.0,9,     -999.0,9,     0.0134,1,     4.6803,1,     -999.0,9,     -999.0,9,     -999.0,9,     -999.0,9,     -999.0,9
33RR20220613,       P02E,     196,          1,          4,          4,2,20220710,       2312,    31.9522,  -119.4416,       1290,  1060.7,2,   3.9094,2,  34.4930,2,  34.4926,2,     25.4,2,    25.5,2,  118.89,2,   43.11,2,    0.00,2,    3.18,2,   0.029,2,   0.025,2,   0.5011,2,  -999.0,9,  -999.0,9,-999.0000,9,  -999.00,9, -999.00,9,  -999.0,9, -999.00,9, -999.00,9,       51.3,2, 20220710,     2322,  31.9522,-119.4416,     3.9081,2,     -999.0,9,     -999.0,9,     -999.0,9,     -999.0,9,     0.0134,1,     4.6815,1,     -999.0,9,     -999.0,9,     -999.0,9,     -999.0,9,     -999.0,9
33RR20220613,       P02E,     196,          1,          3,          3,2,20220710,       2312,    31.9522,  -119.4416,       1290,  1162.0,2,   3.6114,2,  34.5153,2,  34.5150,2,     30.8,2,    30.9,2,  125.62,2,   42.93,2,    0.00,2,    3.17,2,   0.032,2,   0.027,2,   0.5879,2,  2365.8,2,  2381.2,2,   7.3611,2,    25.01,2, -999.00,9,  -999.0,9, -999.00,9, -999.00,9,       49.1,2, 20220710,     2318,  31.9522,-119.4416,     3.6128,2,     -999.0,9,     -999.0,9,     -999.0,9,     -999.0,9,     0.0134,1,     4.6804,1,     -999.0,9,     -999.0,9,     -999.0,9,     -999.0,9,     -999.0,9
33RR20220613,       P02E,     196,          1,          2,          2,2,20220710,       2312,    31.9522,  -119.4416,       1290,  1268.2,2,   3.4779,2,  34.5259,2,  34.5258,2,     33.8,2,    34.0,2,  128.95,2,   42.84,2,    0.00,2,    3.16,2,-999.000,9,-999.000,9,-999.0000,9,  -999.0,9,  -999.0,9,-999.0000,9,  -999.00,9, -999.00,9,  -999.0,9, -999.00,9, -999.00,9,     -999.0,9, 20220710,     2315,  31.9522,-119.4416,     3.4776,2,     -999.0,9,     -999.0,9,     -999.0,9,     -999.0,9,     0.0134,1,     4.6813,1,     -999.0,9,     -999.0,9,     -999.0,9,     -999.0,9,     -999.0,9