BOTTLE,20230830CCHSIOCBG
EXPOCODE,SECT_ID,STNNBR,CASTNO,SAMPNO,BTLNBR,BTLNBR_FLAG_W,DATE,TIME,LATITUDE,LONGITUDE,DEPTH,CTDPRS,CTDPRS_FLAG_W,CTDTMP,CTDTMP_FLAG_W,CTDSAL,CTDSAL_FLAG_W,SALNTY,SALNTY_FLAG_W,CTDOXY,CTDOXY_FLAG_W,OXYGEN,OXYGEN_FLAG_W,SILCAT,SILCAT_FLAG_W,NITRAT,NITRAT_FLAG_W,NITRIT,NITRIT_FLAG_W,PHSPHT,PHSPHT_FLAG_W,CFC-11,CFC-11_FLAG_W,CFC-12,CFC-12_FLAG_W,SF6,SF6_FLAG_W,TCARBN,TCARBN_FLAG_W,ALKALI,ALKALI_FLAG_W,PH_TOT,PH_TOT_FLAG_W,PH_TMP,PH_TMP_FLAG_W,DELC13,DELC13_FLAG_W,DELC14,DELC14_FLAG_W,DOC,DOC_FLAG_W,TDN,TDN_FLAG_W,N2O,N2O_FLAG_W,BTL_DATE,BTL_TIME,BTL_LAT,BTL_LON,REFTMP,REFTMP_FLAG_W,POC,POC_FLAG_W,PON,PON_FLAG_W,POP,POP_FLAG_W,PCOD,PCOD_FLAG_W,CTDFLUOR,CTDFLUOR_FLAG_W,CTDXMISS,CTDXMISS_FLAG_W,HPLC,HPLC_FLAG_W,DNA,DNA_FLAG_W,FCM,FCM_FLAG_W,IMAGES,IMAGES_FLAG_W,VIRAL_ABUNDANCE,VIRAL_ABUNDANCE_FLAG_W
,,,,,,,,,,,METERS,DBAR,,ITS-90,,PSS-78,,PSS-78,,UMOL/KG,,UMOL/KG,,UMOL/KG,,UMOL/KG,,UMOL/KG,,UMOL/KG,,PMOL/KG,,PMOL/KG,,FMOL/KG,,UMOL/KG,,UMOL/KG,,,,DEG C,,/MILLE,,/MILLE,,UMOL/KG,,UMOL/KG,,NMOL/KG,,,,,,ITS-90,,UG/L,,UG/L,,UG/L,,UG/L,,VOLTS,,VOLTS,,,,,,,,,,,
33RR20220613,       P02E,     146,          2,          4,          4,2,20220626,       0207,    30.0001,  -145.0468,       5221,  4554.4,2,   1.5037,2,  34.6871,2,  34.6863,2,    150.6,2,   150.9,2,  155.02,2,   36.16,2,    0.00,2,    2.82,4,   0.007,2,   0.007,2,   0.0000,2,  -999.0,9,  -999.0,9,-999.0000,9,  -999.00,9, -999.00,9,  -999.0,9, -999.00,1, -999.00,1,       20.7,2, 20220626,      225,  30.0001,-145.0468,     1.5034,2,     -999.0,9,     -999.0,9,     -999.0,9,     -999.0,9,     0.0121,1,     4.7032,1,     -999.0,9,     -999.0,9,     -999.0,9,     -999.0,9,     -999.0,9
33RR20220613,       P02E,     146,          2,          3,          3,2,20220626,       0207,    30.0001,  -145.0468,       5221,  4889.0,2,   1.5326,2,  34.6881,2,  34.6885,2,    153.3,2,   153.5,2,  152.38,2,   35.83,2,    0.00,2,    2.80,4,   0.007,2,   0.007,2,   0.0000,2,  2326.4,2,  2423.2,2,   7.5809,2,    25.01,2, -999.00,9,  -999.0,9, -999.00,1, -999.00,1,       20.9,2, 20220626,      218,  30.0001,-145.0469,     1.5325,2,     -999.0,9,     -999.0,9,     -999.0,9,     -999.0,9,     0.0122,1,     4.7032,1,     -999.0,9,     -999.0,9,     -999.0,9,     -999.0,9,     -999.0,9
33RR20220613,       P02E,     146,          2,          2,          2,2,20220626,       0207,    30.0001,  -145.0468,       5221,  5097.3,2,   1.5559,2,  34.6884,2,  34.6871,2,    153.9,2,   154.0,2,  151.60,2,   35.81,2,    0.00,2,    2.79,4,   0.007,2,   0.005,2,   0.0000,2,  -999.0,9,  -999.0,9,-999.0000,9,  -999.00,9, -999.00,9,  -999.0,9, -999.00,1, -999.00,1,       20.7,2, 20220626,      213,  30.0000,-145.0469,     1.5559,2,     -999.0,9,     -999.0,9,     -999.0,9,     -999.0,9,     0.0122,1,     4.7019,1,     -999.0,9,     -999.0,9,     -999.0,9,     -999.0,9,     -999.0,9
33RR20220613,       P02E,     146,          2,          1,          1,2,20220626,       0207,    30.0001,  -145.0468,       5221,  5312.0,2,   1.5822,2,  34.6884,2,  34.6899,2,    154.4,2,   154.4,2,  151.21,2,   35.77,2,    0.00,2,    2.79,4,   0.009,2,   0.005,2,   0.0000,2,  2328.8,6,  2422.8,2,   7.5816,2,    25.01,2, -999.00,9,  -999.0,9, -999.00,1, -999.00,1,       20.5,2, 20220626,      207,  30.0001,-145.0468,     1.5821,2,     -999.0,9,     -999.0,9,     -999.0,9,     -999.0,9,     0.0121,1,     4.7017,1,     -999.0,9,     -999.0,9,     -999.0,9,     -999.0,9,     -999.0,9