BOTTLE,20230830CCHSIOCBG
EXPOCODE,SECT_ID,STNNBR,CASTNO,SAMPNO,BTLNBR,BTLNBR_FLAG_W,DATE,TIME,LATITUDE,LONGITUDE,DEPTH,CTDPRS,CTDPRS_FLAG_W,CTDTMP,CTDTMP_FLAG_W,CTDSAL,CTDSAL_FLAG_W,SALNTY,SALNTY_FLAG_W,CTDOXY,CTDOXY_FLAG_W,OXYGEN,OXYGEN_FLAG_W,SILCAT,SILCAT_FLAG_W,NITRAT,NITRAT_FLAG_W,NITRIT,NITRIT_FLAG_W,PHSPHT,PHSPHT_FLAG_W,CFC-11,CFC-11_FLAG_W,CFC-12,CFC-12_FLAG_W,SF6,SF6_FLAG_W,TCARBN,TCARBN_FLAG_W,ALKALI,ALKALI_FLAG_W,PH_TOT,PH_TOT_FLAG_W,PH_TMP,PH_TMP_FLAG_W,DELC13,DELC13_FLAG_W,DELC14,DELC14_FLAG_W,DOC,DOC_FLAG_W,TDN,TDN_FLAG_W,N2O,N2O_FLAG_W,BTL_DATE,BTL_TIME,BTL_LAT,BTL_LON,REFTMP,REFTMP_FLAG_W,POC,POC_FLAG_W,PON,PON_FLAG_W,POP,POP_FLAG_W,PCOD,PCOD_FLAG_W,CTDFLUOR,CTDFLUOR_FLAG_W,CTDXMISS,CTDXMISS_FLAG_W,HPLC,HPLC_FLAG_W,DNA,DNA_FLAG_W,FCM,FCM_FLAG_W,IMAGES,IMAGES_FLAG_W,VIRAL_ABUNDANCE,VIRAL_ABUNDANCE_FLAG_W
,,,,,,,,,,,METERS,DBAR,,ITS-90,,PSS-78,,PSS-78,,UMOL/KG,,UMOL/KG,,UMOL/KG,,UMOL/KG,,UMOL/KG,,UMOL/KG,,PMOL/KG,,PMOL/KG,,FMOL/KG,,UMOL/KG,,UMOL/KG,,,,DEG C,,/MILLE,,/MILLE,,UMOL/KG,,UMOL/KG,,NMOL/KG,,,,,,ITS-90,,UG/L,,UG/L,,UG/L,,UG/L,,VOLTS,,VOLTS,,,,,,,,,,,
33RR20220613,       P02E,     153,          1,          4,          4,2,20220628,       0349,    29.9996,  -141.0062,       4934,  4090.9,2,   1.4857,2,  34.6815,2,  34.6812,2,    143.7,2,   143.9,2,  161.94,2,   36.39,2,    0.00,2,    2.55,2,   0.004,2,   0.003,2,   0.0000,2,  2334.9,2,  2425.2,2,   7.5666,2,    25.03,2, -999.00,9,  -999.0,9, -999.00,9, -999.00,9,       22.0,2, 20220628,      409,  29.9996,-141.0062,     1.4855,2,     -999.0,9,     -999.0,9,     -999.0,9,     -999.0,9,     0.0129,1,     4.7020,1,     -999.0,9,     -999.0,9,     -999.0,9,     -999.0,9,     -999.0,9
33RR20220613,       P02E,     153,          1,          3,          3,2,20220628,       0349,    29.9996,  -141.0062,       4934,  4425.2,2,   1.5034,2,  34.6838,3,  34.6861,2,    147.7,2,   147.8,2,  160.28,2,   36.11,2,    0.00,2,    2.53,2,   0.004,2,   0.004,2,   0.0000,2,  2331.7,2,  2424.8,2,   7.5742,2,    25.02,2, -999.00,9,  -999.0,9, -999.00,9, -999.00,9,       21.8,2, 20220628,      401,  29.9996,-141.0062,     1.5032,2,     -999.0,9,     -999.0,9,     -999.0,9,     -999.0,9,     0.0122,1,     4.7020,1,     -999.0,9,     -999.0,9,     -999.0,9,     -999.0,9,     -999.0,9
33RR20220613,       P02E,     153,          1,          2,          2,2,20220628,       0349,    29.9996,  -141.0062,       4934,  4917.5,2,   1.5473,2,  34.6855,3,  34.6879,2,    151.6,2,   151.8,2,  156.56,2,   35.84,2,    0.00,2,    2.49,2,   0.006,2,   0.006,2,   0.0000,2,  2330.0,2,  2424.9,6,   7.5801,2,    25.01,2, -999.00,9,  -999.0,9, -999.00,9, -999.00,9,       22.4,2, 20220628,      352,  29.9996,-141.0062,     1.5472,2,     -999.0,9,     -999.0,9,     -999.0,9,     -999.0,9,     0.0130,1,     4.7009,1,     -999.0,9,     -999.0,9,     -999.0,9,     -999.0,9,     -999.0,9
33RR20220613,       P02E,     153,          1,          1,          1,2,20220628,       0349,    29.9996,  -141.0062,       4934,  5016.3,2,   1.5597,2,  34.6854,3,  34.6881,2,    151.7,2,   151.5,2,  156.76,2,   35.81,2,    0.00,2,    2.50,2,   0.008,2,   0.007,2,   0.0000,2,  2328.8,6,  2423.5,2,   7.5795,2,    25.00,2, -999.00,9,  -999.0,9, -999.00,9, -999.00,9,       22.8,2, 20220628,      349,  29.9996,-141.0062,     1.5596,2,     -999.0,9,     -999.0,9,     -999.0,9,     -999.0,9,     0.0122,1,     4.7007,1,     -999.0,9,     -999.0,9,     -999.0,9,     -999.0,9,     -999.0,9