BOTTLE,20230830CCHSIOCBG
EXPOCODE,SECT_ID,STNNBR,CASTNO,SAMPNO,BTLNBR,BTLNBR_FLAG_W,DATE,TIME,LATITUDE,LONGITUDE,DEPTH,CTDPRS,CTDPRS_FLAG_W,CTDTMP,CTDTMP_FLAG_W,CTDSAL,CTDSAL_FLAG_W,SALNTY,SALNTY_FLAG_W,CTDOXY,CTDOXY_FLAG_W,OXYGEN,OXYGEN_FLAG_W,SILCAT,SILCAT_FLAG_W,NITRAT,NITRAT_FLAG_W,NITRIT,NITRIT_FLAG_W,PHSPHT,PHSPHT_FLAG_W,CFC-11,CFC-11_FLAG_W,CFC-12,CFC-12_FLAG_W,SF6,SF6_FLAG_W,TCARBN,TCARBN_FLAG_W,ALKALI,ALKALI_FLAG_W,PH_TOT,PH_TOT_FLAG_W,PH_TMP,PH_TMP_FLAG_W,DELC13,DELC13_FLAG_W,DELC14,DELC14_FLAG_W,DOC,DOC_FLAG_W,TDN,TDN_FLAG_W,N2O,N2O_FLAG_W,BTL_DATE,BTL_TIME,BTL_LAT,BTL_LON,REFTMP,REFTMP_FLAG_W,POC,POC_FLAG_W,PON,PON_FLAG_W,POP,POP_FLAG_W,PCOD,PCOD_FLAG_W,CTDFLUOR,CTDFLUOR_FLAG_W,CTDXMISS,CTDXMISS_FLAG_W,HPLC,HPLC_FLAG_W,DNA,DNA_FLAG_W,FCM,FCM_FLAG_W,IMAGES,IMAGES_FLAG_W,VIRAL_ABUNDANCE,VIRAL_ABUNDANCE_FLAG_W
,,,,,,,,,,,METERS,DBAR,,ITS-90,,PSS-78,,PSS-78,,UMOL/KG,,UMOL/KG,,UMOL/KG,,UMOL/KG,,UMOL/KG,,UMOL/KG,,PMOL/KG,,PMOL/KG,,FMOL/KG,,UMOL/KG,,UMOL/KG,,,,DEG C,,/MILLE,,/MILLE,,UMOL/KG,,UMOL/KG,,NMOL/KG,,,,,,ITS-90,,UG/L,,UG/L,,UG/L,,UG/L,,VOLTS,,VOLTS,,,,,,,,,,,
33RR20220613,       P02E,     189,          1,         36,         36,2,20220708,       1650,    31.2473,  -120.7536,       4027,     5.2,2,  17.7105,2,  33.3725,2,  33.3738,2,    245.3,2,   245.4,2,    0.59,2,    0.02,2,    0.00,2,    0.33,2,   2.290,2,   1.369,2,   2.3101,2,  2020.3,6,  2227.2,2,   7.9020,2,    25.02,2, -999.00,9,  -999.0,9, -999.00,9, -999.00,9,        8.7,2, 20220708,     1840,  31.2473,-120.7536,    17.7084,2,     -999.0,9,     -999.0,9,     -999.0,9,     -999.0,9,     0.0211,1,     4.5934,1,     -999.0,9,     -999.0,9,     -999.0,9,     -999.0,9,     -999.0,9
33RR20220613,       P02E,     189,          1,         35,         35,2,20220708,       1650,    31.2473,  -120.7536,       4027,    35.5,2,  14.8976,2,  33.4161,2,  33.4160,2,    268.4,2,   268.5,2,    0.78,2,    3.72,2,    0.20,2,    0.61,2,   2.707,2,   1.572,2,   2.6521,2,  2039.1,2,  2229.6,2,   7.8574,2,    25.02,2, -999.00,9,  -999.0,9, -999.00,9, -999.00,9,       11.0,2, 20220708,     1838,  31.2473,-120.7536,    14.9117,2,     -999.0,9,     -999.0,9,     -999.0,9,     -999.0,9,     0.0435,1,     4.5895,1,     -999.0,9,     -999.0,9,     -999.0,9,     -999.0,9,     -999.0,9
33RR20220613,       P02E,     189,          1,         34,         34,2,20220708,       1650,    31.2473,  -120.7536,       4027,    60.7,2,  12.6269,2,  33.4447,2,  33.4369,2,    238.6,2,   238.9,2,    4.69,2,    9.78,2,    0.49,2,    1.04,2,   2.854,2,   1.690,2,   2.6013,2,  2083.0,2,  2227.0,2,   7.7475,2,    25.03,2, -999.00,9,  -999.0,9, -999.00,9, -999.00,9,       13.2,2, 20220708,     1836,  31.2473,-120.7536,    12.6283,2,     -999.0,9,     -999.0,9,     -999.0,9,     -999.0,9,     0.0506,1,     4.6189,1,     -999.0,9,     -999.0,9,     -999.0,9,     -999.0,9,     -999.0,9
33RR20220613,       P02E,     189,          1,         33,         33,2,20220708,       1650,    31.2473,  -120.7536,       4027,    86.4,2,  11.6043,2,  33.5197,2,  33.5251,2,    205.4,3,   207.9,2,   10.46,2,   14.99,2,    0.05,2,    1.29,2,   2.909,2,   1.721,2,   2.5676,2,  2115.1,2,  2229.0,2,   7.6684,2,    24.98,2, -999.00,9,  -999.0,9, -999.00,9, -999.00,9,       16.1,2, 20220708,     1834,  31.2473,-120.7536,    11.6083,2,     -999.0,9,     -999.0,9,     -999.0,9,     -999.0,9,     0.0228,1,     4.6569,1,     -999.0,9,     -999.0,9,     -999.0,9,     -999.0,9,     -999.0,9
33RR20220613,       P02E,     189,          1,         32,         32,2,20220708,       1650,    31.2473,  -120.7536,       4027,   110.9,2,  10.4812,2,  33.6916,2,  33.6930,2,    176.5,2,   175.5,2,   17.89,2,   20.03,2,    0.03,2,    1.57,2,   2.963,2,   1.753,2,   2.2092,2,  2150.6,2,  2238.3,2,   7.5885,2,    25.00,2, -999.00,9,  -999.0,9, -999.00,9, -999.00,9,       19.9,2, 20220708,     1832,  31.2473,-120.7536,    10.5242,2,     -999.0,9,     -999.0,9,     -999.0,9,     -999.0,9,     0.0147,1,     4.6662,1,     -999.0,9,     -999.0,9,     -999.0,9,     -999.0,9,     -999.0,9
33RR20220613,       P02E,     189,          1,         31,         31,2,20220708,       1650,    31.2473,  -120.7536,       4027,   136.0,2,   9.5386,2,  33.8125,2,  33.8136,2,    145.1,2,   145.1,2,   22.58,2,   22.17,2,    0.03,2,    1.69,2,   2.960,2,   1.761,2,   1.9373,2,  2167.0,2,  2244.3,6,   7.5530,2,    25.01,2, -999.00,9,  -999.0,9, -999.00,9, -999.00,9,       24.3,2, 20220708,     1830,  31.2473,-120.7536,     9.5687,2,     -999.0,9,     -999.0,9,     -999.0,9,     -999.0,9,     0.0134,1,     4.6692,1,     -999.0,9,     -999.0,9,     -999.0,9,     -999.0,9,     -999.0,9
33RR20220613,       P02E,     189,          1,         30,         17,2,20220708,       1650,    31.2473,  -120.7536,       4027,   166.3,2,   8.9946,2,  33.9519,2,  33.9684,2,    131.7,2,   131.0,2,   28.45,2,   24.70,2,    0.00,2,    1.83,2,   2.915,2,   1.701,2,   1.5388,2,  2187.3,2,  2254.3,2,   7.5287,2,    25.01,2, -999.00,9,  -999.0,9, -999.00,9, -999.00,9,       28.2,2, 20220708,     1828,  31.2473,-120.7536,     8.9944,2,     -999.0,9,     -999.0,9,     -999.0,9,     -999.0,9,     0.0128,1,     4.6716,1,     -999.0,9,     -999.0,9,     -999.0,9,     -999.0,9,     -999.0,9
33RR20220613,       P02E,     189,          1,         29,         29,2,20220708,       1650,    31.2473,  -120.7536,       4027,   216.9,2,   8.5117,2,  34.0516,2,  34.0503,2,    101.6,2,   102.6,2,   36.26,2,   28.14,2,    0.00,2,    2.10,2,   2.574,2,   1.514,2,   1.1248,2,  2216.2,2,  2265.6,2,   7.4733,2,    25.01,2, -999.00,9,  -999.0,9, -999.00,9, -999.00,9,       32.8,2, 20220708,     1826,  31.2473,-120.7536,     8.5112,2,     -999.0,9,     -999.0,9,     -999.0,9,     -999.0,9,     0.0128,1,     4.6739,1,     -999.0,9,     -999.0,9,     -999.0,9,     -999.0,9,     -999.0,9
33RR20220613,       P02E,     189,          1,         28,         28,2,20220708,       1650,    31.2473,  -120.7536,       4027,   267.2,2,   7.6813,2,  34.0785,2,  34.0774,2,     76.0,3,    76.9,2,   46.13,2,   31.87,2,    0.00,2,    2.38,2,   2.268,2,   1.301,2,   0.8511,2,  2242.4,2,  2274.6,2,   7.4132,2,    25.00,2, -999.00,9,  -999.0,9, -999.00,9, -999.00,9,       37.1,2, 20220708,     1824,  31.2473,-120.7536,     7.6791,2,     -999.0,9,     -999.0,9,     -999.0,9,     -999.0,9,     0.0134,1,     4.6759,1,     -999.0,9,     -999.0,9,     -999.0,9,     -999.0,9,     -999.0,9
33RR20220613,       P02E,     189,          1,         27,         27,2,20220708,       1650,    31.2473,  -120.7536,       4027,   317.1,2,   7.1254,2,  34.1241,2,  34.1238,2,     50.8,2,    51.3,2,   55.12,2,   34.84,2,    0.00,2,    2.63,2,   1.742,2,   0.999,2,   0.5928,2,  2269.0,2,  2286.1,2,   7.3625,2,    24.97,2, -999.00,9,  -999.0,9, -999.00,9, -999.00,9,       41.2,2, 20220708,     1822,  31.2473,-120.7536,     7.1225,2,     -999.0,9,     -999.0,9,     -999.0,9,     -999.0,9,     0.0134,1,     4.6749,1,     -999.0,9,     -999.0,9,     -999.0,9,     -999.0,9,     -999.0,9
33RR20220613,       P02E,     189,          1,         26,         26,2,20220708,       1650,    31.2473,  -120.7536,       4027,   368.0,2,   6.5637,2,  34.1603,2,  34.1587,2,     34.4,3,    35.6,2,   64.11,2,   37.20,2,    0.00,2,    2.81,2,   1.289,2,   0.726,2,   0.3940,2,  2288.5,2,  2295.0,2,   7.3345,2,    25.03,2, -999.00,9,  -999.0,9, -999.00,9, -999.00,9,       45.6,2, 20220708,     1820,  31.2473,-120.7536,     6.5643,2,     -999.0,9,     -999.0,9,     -999.0,9,     -999.0,9,     0.0134,1,     4.6733,1,     -999.0,9,     -999.0,9,     -999.0,9,     -999.0,9,     -999.0,9
33RR20220613,       P02E,     189,          1,         25,         25,2,20220708,       1650,    31.2473,  -120.7536,       4027,   418.4,2,   6.2594,2,  34.2045,2,  34.2052,2,     24.4,2,    24.4,2,   70.46,2,   38.59,2,    0.00,2,    2.92,2,   0.895,2,   0.498,2,   0.2566,2,  2303.1,2,  2305.1,2,   7.3198,2,    25.00,2, -999.00,9,  -999.0,9, -999.00,9, -999.00,9,       49.0,2, 20220708,     1818,  31.2473,-120.7536,     6.2579,2,     -999.0,9,     -999.0,9,     -999.0,9,     -999.0,9,     0.0134,1,     4.6793,1,     -999.0,9,     -999.0,9,     -999.0,9,     -999.0,9,     -999.0,9
33RR20220613,       P02E,     189,          1,         24,         24,2,20220708,       1650,    31.2473,  -120.7536,       4027,   469.3,2,   6.0340,2,  34.2444,2,  34.2485,2,     18.2,2,    18.3,2,   75.35,2,   39.33,2,    0.00,2,    2.98,2,   0.617,2,   0.338,2,   0.1865,2,  2312.8,2,  2312.2,2,   7.3150,2,    24.99,2, -999.00,9,  -999.0,9, -999.00,9, -999.00,9,       50.9,2, 20220708,     1816,  31.2473,-120.7536,     6.0366,2,     -999.0,9,     -999.0,9,     -999.0,9,     -999.0,9,     0.0134,1,     4.6772,1,     -999.0,9,     -999.0,9,     -999.0,9,     -999.0,9,     -999.0,9
33RR20220613,       P02E,     189,          1,         23,         23,2,20220708,       1650,    31.2473,  -120.7536,       4027,   539.3,2,   5.6910,2,  34.2941,2,  34.2978,2,     13.3,3,    13.0,2,   82.48,2,   40.46,2,    0.00,2,    3.08,2,   0.327,2,   0.186,2,   0.1858,2,  2323.3,2,  2324.6,2,   7.3130,2,    25.00,2, -999.00,9,  -999.0,9, -999.00,9, -999.00,9,       56.9,2, 20220708,     1814,  31.2473,-120.7536,     5.6899,2,     -999.0,9,     -999.0,9,     -999.0,9,     -999.0,9,     0.0134,1,     4.6813,1,     -999.0,9,     -999.0,9,     -999.0,9,     -999.0,9,     -999.0,9
33RR20220613,       P02E,     189,          1,         22,         22,2,20220708,       1650,    31.2473,  -120.7536,       4027,   640.2,2,   5.1957,2,  34.3653,2,  34.3639,2,     11.5,3,    11.7,2,   92.05,2,   41.69,2,    0.00,2,    3.14,2,-999.000,5,-999.000,5,-999.0000,5,  2337.3,2,  2337.5,2,   7.3184,2,    24.99,2, -999.00,9,  -999.0,9, -999.00,9, -999.00,9,     -999.0,5, 20220708,     1811,  31.2473,-120.7536,     5.2038,2,     -999.0,9,     -999.0,9,     -999.0,9,     -999.0,9,     0.0134,1,     4.6835,1,     -999.0,9,     -999.0,9,     -999.0,9,     -999.0,9,     -999.0,9
33RR20220613,       P02E,     189,          1,         21,         21,2,20220708,       1650,    31.2473,  -120.7536,       4027,   741.5,2,   4.8323,2,  34.4093,2,  34.4082,2,     13.4,3,    13.1,2,   99.67,2,   42.46,2,    0.00,2,    3.16,2,   0.054,2,   0.033,2,   0.2115,2,  2344.9,2,  2348.6,2,   7.3247,2,    25.00,2, -999.00,9,  -999.0,9, -999.00,9, -999.00,9,       58.1,2, 20220708,     1808,  31.2473,-120.7536,     4.8324,2,     -999.0,9,     -999.0,9,     -999.0,9,     -999.0,9,     0.0134,1,     4.6837,1,     -999.0,9,     -999.0,9,     -999.0,9,     -999.0,9,     -999.0,9
33RR20220613,       P02E,     189,          1,         20,         20,2,20220708,       1650,    31.2473,  -120.7536,       4027,   842.7,2,   4.4851,2,  34.4404,2,  34.4457,2,     17.0,3,    16.7,2,  106.61,2,   42.86,2,    0.00,2,    3.17,2,   0.029,2,   0.024,2,   0.2137,2,  2351.8,2,  2358.0,2,   7.3332,2,    25.01,2, -999.00,9,  -999.0,9, -999.00,9, -999.00,9,       54.8,2, 20220708,     1805,  31.2473,-120.7536,     4.4865,2,     -999.0,9,     -999.0,9,     -999.0,9,     -999.0,9,     0.0134,1,     4.6853,1,     -999.0,9,     -999.0,9,     -999.0,9,     -999.0,9,     -999.0,9
33RR20220613,       P02E,     189,          1,         19,         39,2,20220708,       1650,    31.2473,  -120.7536,       4027,   943.4,2,   4.1880,2,  34.4706,2,  34.4703,2,     20.8,2,    20.9,2,  112.47,2,   43.00,2,    0.00,2,    3.17,2,   0.025,2,   0.022,2,   0.2487,2,  2357.3,6,  2368.1,2,   7.3418,2,    25.00,2, -999.00,9,  -999.0,9, -999.00,9, -999.00,9,       52.6,2, 20220708,     1803,  31.2473,-120.7536,     4.1880,2,     -999.0,9,     -999.0,9,     -999.0,9,     -999.0,9,     0.0134,1,     4.6855,1,     -999.0,9,     -999.0,9,     -999.0,9,     -999.0,9,     -999.0,9
33RR20220613,       P02E,     189,          1,         18,         18,2,20220708,       1650,    31.2473,  -120.7536,       4027,  1044.7,2,   3.8603,2,  34.4941,2,  34.4926,2,     25.9,2,    25.9,2,  120.09,2,   43.09,2,    0.00,2,    3.16,2,   0.021,2,   0.019,2,   0.1414,2,  2363.6,2,  2375.4,2,   7.3519,2,    24.98,2, -999.00,9,  -999.0,9, -999.00,9, -999.00,9,       48.7,2, 20220708,     1800,  31.2473,-120.7536,     3.8598,2,     -999.0,9,     -999.0,9,     -999.0,9,     -999.0,9,     0.0134,1,     4.6837,1,     -999.0,9,     -999.0,9,     -999.0,9,     -999.0,9,     -999.0,9
33RR20220613,       P02E,     189,          1,         17,         37,2,20220708,       1650,    31.2473,  -120.7536,       4027,  1146.1,2,   3.5632,2,  34.5133,2,  34.5125,2,     31.0,2,    30.9,2,  127.02,2,   43.10,2,    0.00,2,    3.13,2,   0.022,2,   0.020,2,   0.3475,2,  2367.1,2,  2382.9,2,   7.3612,2,    25.00,2, -999.00,9,  -999.0,9, -999.00,9, -999.00,9,       46.7,2, 20220708,     1758,  31.2473,-120.7536,     3.5636,2,     -999.0,9,     -999.0,9,     -999.0,9,     -999.0,9,     0.0134,1,     4.6861,1,     -999.0,9,     -999.0,9,     -999.0,9,     -999.0,9,     -999.0,9
33RR20220613,       P02E,     189,          1,         16,         16,2,20220708,       1650,    31.2473,  -120.7536,       4027,  1247.3,2,   3.3027,2,  34.5316,2,  34.5323,2,     36.9,2,    36.8,2,  133.47,2,   42.86,2,    0.00,2,    3.10,2,   0.018,2,   0.018,2,   0.1006,2,  2372.5,2,  2390.5,2,   7.3719,2,    25.00,2, -999.00,9,  -999.0,9, -999.00,9, -999.00,9,       43.7,2, 20220708,     1755,  31.2473,-120.7536,     3.2907,2,     -999.0,9,     -999.0,9,     -999.0,9,     -999.0,9,     0.0133,1,     4.6862,1,     -999.0,9,     -999.0,9,     -999.0,9,     -999.0,9,     -999.0,9
33RR20220613,       P02E,     189,          1,         15,         15,2,20220708,       1650,    31.2473,  -120.7536,       4027,  1348.5,2,   3.1044,2,  34.5487,2,  34.5476,2,     42.0,2,    41.7,2,  137.77,2,   42.65,2,    0.00,2,    3.08,2,   0.022,2,   0.018,2,   0.0000,2,  2373.0,2,  2396.7,2,   7.3820,2,    24.99,2, -999.00,9,  -999.0,9, -999.00,9, -999.00,9,       42.0,2, 20220708,     1753,  31.2473,-120.7536,     3.1006,2,     -999.0,9,     -999.0,9,     -999.0,9,     -999.0,9,     0.0134,1,     4.6874,1,     -999.0,9,     -999.0,9,     -999.0,9,     -999.0,9,     -999.0,9
33RR20220613,       P02E,     189,          1,         14,         42,2,20220708,       1650,    31.2473,  -120.7536,       4027,  1450.2,2,   2.8838,2,  34.5634,2,  34.5626,2,     47.9,2,    47.6,2,  142.94,2,   42.37,2,    0.00,2,    3.03,2,   0.021,2,   0.020,2,   0.0000,2,  2375.9,2,  2401.6,2,   7.3927,2,    24.99,2, -999.00,9,  -999.0,9, -999.00,9, -999.00,9,       40.4,2, 20220708,     1750,  31.2473,-120.7536,     2.8868,2,     -999.0,9,     -999.0,9,     -999.0,9,     -999.0,9,     0.0134,1,     4.6878,1,     -999.0,9,     -999.0,9,     -999.0,9,     -999.0,9,     -999.0,9
33RR20220613,       P02E,     189,          1,         13,         13,2,20220708,       1650,    31.2473,  -120.7536,       4027,  1551.2,2,   2.7160,2,  34.5754,2,  34.5741,2,     53.4,2,    53.5,2,  147.24,2,   42.17,2,    0.00,2,    3.00,2,   0.017,2,   0.017,2,   0.0000,2,  2374.5,2,  2404.6,2,   7.4024,2,    25.00,2, -999.00,9,  -999.0,9, -999.00,9, -999.00,9,       39.1,2, 20220708,     1747,  31.2473,-120.7536,     2.7169,2,     -999.0,9,     -999.0,9,     -999.0,9,     -999.0,9,     0.0134,1,     4.6881,1,     -999.0,9,     -999.0,9,     -999.0,9,     -999.0,9,     -999.0,9
33RR20220613,       P02E,     189,          1,         12,         12,2,20220708,       1650,    31.2473,  -120.7536,       4027,  1652.7,2,   2.5512,2,  34.5872,2,  34.5859,2,     59.2,2,    59.0,2,  150.95,2,   41.88,2,    0.00,2,    2.96,2,-999.000,9,-999.000,9,-999.0000,9,  2374.2,2,  2409.6,2,   7.4137,2,    24.99,2, -999.00,9,  -999.0,9, -999.00,9, -999.00,9,     -999.0,9, 20220708,     1745,  31.2473,-120.7536,     2.5520,2,     -999.0,9,     -999.0,9,     -999.0,9,     -999.0,9,     0.0134,1,     4.6886,1,     -999.0,9,     -999.0,9,     -999.0,9,     -999.0,9,     -999.0,9
33RR20220613,       P02E,     189,          1,         11,         11,2,20220708,       1650,    31.2473,  -120.7536,       4027,  1754.2,2,   2.3758,2,  34.5998,2,  34.5983,2,     66.3,2,    66.3,2,  155.15,2,   41.48,2,    0.00,2,    2.92,2,   0.009,2,   0.010,2,   0.0000,2,  2376.3,2,  2414.5,2,   7.4275,2,    25.00,2, -999.00,9,  -999.0,9, -999.00,9, -999.00,9,       34.9,2, 20220708,     1742,  31.2473,-120.7536,     2.3751,2,     -999.0,9,     -999.0,9,     -999.0,9,     -999.0,9,     0.0134,1,     4.6897,1,     -999.0,9,     -999.0,9,     -999.0,9,     -999.0,9,     -999.0,9
33RR20220613,       P02E,     189,          1,         10,         10,2,20220708,       1650,    31.2473,  -120.7536,       4027,  1886.1,2,   2.1996,2,  34.6138,2,  34.6126,2,     74.9,2,    75.3,2,  159.16,2,   40.88,2,    0.00,2,    2.87,2,-999.000,9,-999.000,9,-999.0000,9,  2373.2,2,  2417.1,2,   7.4449,2,    25.00,2, -999.00,9,  -999.0,9, -999.00,9, -999.00,9,     -999.0,9, 20220708,     1739,  31.2473,-120.7536,     2.1991,2,     -999.0,9,     -999.0,9,     -999.0,9,     -999.0,9,     0.0134,1,     4.6897,1,     -999.0,9,     -999.0,9,     -999.0,9,     -999.0,9,     -999.0,9
33RR20220613,       P02E,     189,          1,          9,          9,2,20220708,       1650,    31.2473,  -120.7536,       4027,  2110.0,2,   1.9737,2,  34.6333,2,  34.6315,2,     88.2,2,    88.3,2,  162.47,2,   40.14,2,    0.00,2,    2.81,2,   0.006,2,   0.005,2,   0.0000,2,  2370.9,2,  2423.2,2,   7.4697,2,    25.00,2, -999.00,9,  -999.0,9, -999.00,9, -999.00,9,       29.9,2, 20220708,     1733,  31.2473,-120.7536,     1.9749,2,     -999.0,9,     -999.0,9,     -999.0,9,     -999.0,9,     0.0133,1,     4.6903,1,     -999.0,9,     -999.0,9,     -999.0,9,     -999.0,9,     -999.0,9
33RR20220613,       P02E,     189,          1,          8,          8,2,20220708,       1650,    31.2473,  -120.7536,       4027,  2364.8,2,   1.8312,2,  34.6471,2,  34.6456,2,     99.3,2,    99.6,2,  163.94,2,   39.44,2,    0.00,2,    2.76,2,-999.000,9,-999.000,9,-999.0000,9,  2366.0,2,  2427.2,2,   7.4914,2,    25.01,2, -999.00,9,  -999.0,9, -999.00,9, -999.00,9,     -999.0,9, 20220708,     1728,  31.2473,-120.7536,     1.8310,2,     -999.0,9,     -999.0,9,     -999.0,9,     -999.0,9,     0.0133,1,     4.6913,1,     -999.0,9,     -999.0,9,     -999.0,9,     -999.0,9,     -999.0,9
33RR20220613,       P02E,     189,          1,          7,          7,2,20220708,       1650,    31.2473,  -120.7536,       4027,  2618.8,2,   1.7322,2,  34.6568,2,  34.6563,2,    108.0,2,   108.1,2,  164.04,2,   38.89,2,    0.00,2,    2.71,2,   0.007,2,   0.006,2,   0.0000,2,  2360.6,2,  2427.8,2,   7.5080,2,    25.00,2, -999.00,9,  -999.0,9, -999.00,9, -999.00,9,       26.4,2, 20220708,     1722,  31.2473,-120.7536,     1.7321,2,     -999.0,9,     -999.0,9,     -999.0,9,     -999.0,9,     0.0134,1,     4.6932,1,     -999.0,9,     -999.0,9,     -999.0,9,     -999.0,9,     -999.0,9
33RR20220613,       P02E,     189,          1,          6,          6,2,20220708,       1650,    31.2473,  -120.7536,       4027,  2874.4,2,   1.6644,2,  34.6626,2,  34.6614,2,    114.1,2,   114.3,2,  166.09,2,   38.67,2,    0.00,2,    2.67,2,-999.000,9,-999.000,9,-999.0000,9,  2357.2,2,  2430.2,2,   7.5192,2,    25.01,2, -999.00,9,  -999.0,9, -999.00,9, -999.00,9,     -999.0,9, 20220708,     1716,  31.2473,-120.7536,     1.6643,2,     -999.0,9,     -999.0,9,     -999.0,9,     -999.0,9,     0.0134,1,     4.6943,1,     -999.0,9,     -999.0,9,     -999.0,9,     -999.0,9,     -999.0,9
33RR20220613,       P02E,     189,          1,          5,          5,2,20220708,       1650,    31.2473,  -120.7536,       4027,  3145.5,2,   1.6121,2,  34.6674,2,  34.6692,2,    119.7,2,   119.7,2,  166.67,2,   38.19,2,    0.00,2,    2.64,2,   0.009,2,   0.010,2,   0.0000,2,  2358.2,2,  2431.5,2,   7.5297,2,    25.00,2, -999.00,9,  -999.0,9, -999.00,9, -999.00,9,       25.4,2, 20220708,     1710,  31.2473,-120.7536,     1.6121,2,     -999.0,9,     -999.0,9,     -999.0,9,     -999.0,9,     0.0127,1,     4.6957,1,     -999.0,9,     -999.0,9,     -999.0,9,     -999.0,9,     -999.0,9