BOTTLE,20230830CCHSIOCBG
EXPOCODE,SECT_ID,STNNBR,CASTNO,SAMPNO,BTLNBR,BTLNBR_FLAG_W,DATE,TIME,LATITUDE,LONGITUDE,DEPTH,CTDPRS,CTDPRS_FLAG_W,CTDTMP,CTDTMP_FLAG_W,CTDSAL,CTDSAL_FLAG_W,SALNTY,SALNTY_FLAG_W,CTDOXY,CTDOXY_FLAG_W,OXYGEN,OXYGEN_FLAG_W,SILCAT,SILCAT_FLAG_W,NITRAT,NITRAT_FLAG_W,NITRIT,NITRIT_FLAG_W,PHSPHT,PHSPHT_FLAG_W,CFC-11,CFC-11_FLAG_W,CFC-12,CFC-12_FLAG_W,SF6,SF6_FLAG_W,TCARBN,TCARBN_FLAG_W,ALKALI,ALKALI_FLAG_W,PH_TOT,PH_TOT_FLAG_W,PH_TMP,PH_TMP_FLAG_W,DELC13,DELC13_FLAG_W,DELC14,DELC14_FLAG_W,DOC,DOC_FLAG_W,TDN,TDN_FLAG_W,N2O,N2O_FLAG_W,BTL_DATE,BTL_TIME,BTL_LAT,BTL_LON,REFTMP,REFTMP_FLAG_W,POC,POC_FLAG_W,PON,PON_FLAG_W,POP,POP_FLAG_W,PCOD,PCOD_FLAG_W,CTDFLUOR,CTDFLUOR_FLAG_W,CTDXMISS,CTDXMISS_FLAG_W,HPLC,HPLC_FLAG_W,DNA,DNA_FLAG_W,FCM,FCM_FLAG_W,IMAGES,IMAGES_FLAG_W,VIRAL_ABUNDANCE,VIRAL_ABUNDANCE_FLAG_W
,,,,,,,,,,,METERS,DBAR,,ITS-90,,PSS-78,,PSS-78,,UMOL/KG,,UMOL/KG,,UMOL/KG,,UMOL/KG,,UMOL/KG,,UMOL/KG,,PMOL/KG,,PMOL/KG,,FMOL/KG,,UMOL/KG,,UMOL/KG,,,,DEG C,,/MILLE,,/MILLE,,UMOL/KG,,UMOL/KG,,NMOL/KG,,,,,,ITS-90,,UG/L,,UG/L,,UG/L,,UG/L,,VOLTS,,VOLTS,,,,,,,,,,,
33RR20220613,       P02E,     192,          1,         36,         36,2,20220709,       1713,    31.8339,  -119.6607,       3323,     3.1,2,  16.9266,2,  33.6211,2,  33.6240,2,    250.8,2,   249.5,2,    0.78,2,    1.19,2,    0.06,2,    0.37,2,   2.338,2,   1.421,2,   2.3304,2,  2031.2,6,  2245.1,2,   7.9034,2,    25.01,2, -999.00,1,  -999.0,1, -999.00,1, -999.00,1,        9.9,2, 20220709,     1855,  31.8339,-119.6607,    16.9249,2,     -999.0,9,     -999.0,9,     -999.0,9,     -999.0,9,     0.0236,1,     4.5611,1,     -999.0,9,     -999.0,9,     -999.0,9,     -999.0,9,     -999.0,9
33RR20220613,       P02E,     192,          1,         35,         35,2,20220709,       1713,    31.8339,  -119.6607,       3323,    35.4,2,  15.7536,2,  33.6212,2,  33.6132,2,    260.0,2,   259.9,2,    0.88,2,    2.90,2,    0.14,2,    0.50,2,   2.552,2,   1.501,2,   2.4463,2,  2039.4,2,  2243.1,2,   7.8794,2,    24.99,2, -999.00,1,  -999.0,1, -999.00,1, -999.00,1,       10.5,2, 20220709,     1853,  31.8339,-119.6606,    15.7565,2,     -999.0,9,     -999.0,9,     -999.0,9,     -999.0,9,     0.0477,1,     4.5757,1,     -999.0,9,     -999.0,9,     -999.0,9,     -999.0,9,     -999.0,9
33RR20220613,       P02E,     192,          1,         34,         34,2,20220709,       1713,    31.8339,  -119.6607,       3323,    60.7,2,  12.0630,2,  33.5378,2,  33.5380,2,    216.9,2,   216.5,2,    8.99,2,   13.70,2,    0.31,2,    1.21,2,-999.000,9,-999.000,9,-999.0000,9,  2108.9,2,  2232.6,2,   7.6909,2,    24.99,2, -999.00,1,  -999.0,1, -999.00,1, -999.00,1,     -999.0,9, 20220709,     1851,  31.8339,-119.6606,    12.0619,2,     -999.0,9,     -999.0,9,     -999.0,9,     -999.0,9,     0.0452,1,     4.6189,1,     -999.0,9,     -999.0,9,     -999.0,9,     -999.0,9,     -999.0,9
33RR20220613,       P02E,     192,          1,         33,         33,2,20220709,       1713,    31.8339,  -119.6607,       3323,    85.6,2,  10.4925,2,  33.6759,2,  33.6758,2,    158.9,3,   160.6,2,   17.99,2,   19.71,2,    0.04,2,    1.56,2,   2.896,2,   1.736,2,   2.0784,2,  2146.6,2,  2238.1,6,   7.5797,2,    25.00,2, -999.00,1,  -999.0,1, -999.00,1, -999.00,1,       21.0,2, 20220709,     1849,  31.8339,-119.6607,    10.5026,2,     -999.0,9,     -999.0,9,     -999.0,9,     -999.0,9,     0.0172,1,     4.6584,1,     -999.0,9,     -999.0,9,     -999.0,9,     -999.0,9,     -999.0,9
33RR20220613,       P02E,     192,          1,         32,         32,2,20220709,       1713,    31.8339,  -119.6607,       3323,   110.7,2,   9.9007,2,  33.8391,2,  33.8433,2,    136.4,2,   135.2,2,   23.65,2,   23.07,2,    0.05,2,    1.78,2,-999.000,9,-999.000,9,-999.0000,9,  2180.4,2,  2247.1,2,   7.5297,2,    25.00,2, -999.00,1,  -999.0,1, -999.00,1, -999.00,1,     -999.0,9, 20220709,     1847,  31.8339,-119.6607,     9.8964,2,     -999.0,9,     -999.0,9,     -999.0,9,     -999.0,9,     0.0139,1,     4.6671,1,     -999.0,9,     -999.0,9,     -999.0,9,     -999.0,9,     -999.0,9
33RR20220613,       P02E,     192,          1,         31,         31,2,20220709,       1713,    31.8339,  -119.6607,       3323,   136.1,2,   9.3745,2,  33.9703,2,  33.9704,2,    103.6,2,   103.3,2,   30.20,2,   26.32,2,    0.03,2,    2.01,2,   2.617,2,   1.577,2,   1.4554,2,  2204.9,2,  2256.4,6,   7.4720,2,    25.01,2, -999.00,1,  -999.0,1, -999.00,1, -999.00,1,       30.3,2, 20220709,     1845,  31.8339,-119.6607,     9.3732,2,     -999.0,9,     -999.0,9,     -999.0,9,     -999.0,9,     0.0134,1,     4.6643,1,     -999.0,9,     -999.0,9,     -999.0,9,     -999.0,9,     -999.0,9
33RR20220613,       P02E,     192,          1,         30,         17,2,20220709,       1713,    31.8339,  -119.6607,       3323,   166.6,2,   8.6522,2,  34.0159,2,  34.0243,2,    112.4,3,   111.0,2,   34.30,2,   27.30,2,    0.00,2,    2.00,2,   2.696,2,   1.585,2,   1.2137,2,  2205.2,2,  2264.0,2,   7.4885,2,    25.01,2, -999.00,1,  -999.0,1, -999.00,1, -999.00,1,       31.4,2, 20220709,     1842,  31.8339,-119.6607,     8.6492,2,     -999.0,9,     -999.0,9,     -999.0,9,     -999.0,9,     0.0134,1,     4.6673,1,     -999.0,9,     -999.0,9,     -999.0,9,     -999.0,9,     -999.0,9
33RR20220613,       P02E,     192,          1,         29,         29,2,20220709,       1713,    31.8339,  -119.6607,       3323,   186.4,2,   8.2803,2,  34.0635,2,  34.0533,2,     93.1,3,    96.5,2,   38.60,2,   29.17,2,    0.00,2,    2.15,2,   2.502,2,   1.488,2,   1.0446,2,  2220.1,2,  2266.7,2,   7.4575,2,    25.00,2, -999.00,1,  -999.0,1, -999.00,1, -999.00,1,       33.8,2, 20220709,     1840,  31.8339,-119.6607,     8.2796,2,     -999.0,9,     -999.0,9,     -999.0,9,     -999.0,9,     0.0134,1,     4.6681,1,     -999.0,9,     -999.0,9,     -999.0,9,     -999.0,9,     -999.0,9
33RR20220613,       P02E,     192,          1,         28,         28,2,20220709,       1713,    31.8339,  -119.6607,       3323,   217.2,2,   8.3760,2,  34.1699,2,  34.1722,2,     55.2,2,    55.0,2,   43.68,2,   31.47,2,    0.00,2,    2.47,2,   1.937,2,   1.138,2,   0.8052,2,  2254.5,2,  2279.4,2,   7.3922,2,    25.01,2, -999.00,1,  -999.0,1, -999.00,1, -999.00,1,       39.2,2, 20220709,     1838,  31.8339,-119.6607,     8.3775,2,     -999.0,9,     -999.0,9,     -999.0,9,     -999.0,9,     0.0134,1,     4.6683,1,     -999.0,9,     -999.0,9,     -999.0,9,     -999.0,9,     -999.0,9
33RR20220613,       P02E,     192,          1,         27,         27,2,20220709,       1713,    31.8339,  -119.6607,       3323,   266.9,2,   7.9436,2,  34.2142,2,  34.2120,2,     39.8,3,    40.7,2,   49.83,2,   33.13,2,    0.00,2,    2.63,2,   1.565,2,   0.926,2,   0.5834,2,  2270.0,2,  2287.9,2,   7.3632,2,    25.00,2, -999.00,1,  -999.0,1, -999.00,1, -999.00,1,       42.6,2, 20220709,     1836,  31.8339,-119.6607,     7.9421,2,     -999.0,9,     -999.0,9,     -999.0,9,     -999.0,9,     0.0134,1,     4.6733,1,     -999.0,9,     -999.0,9,     -999.0,9,     -999.0,9,     -999.0,9
33RR20220613,       P02E,     192,          1,         26,         26,2,20220709,       1713,    31.8339,  -119.6607,       3323,   317.7,2,   7.3997,2,  34.2260,2,  34.2283,2,     31.6,2,    31.5,2,   56.77,2,   34.89,2,    0.00,2,    2.77,2,   1.272,2,   0.730,2,   0.3873,2,  -999.0,9,  -999.0,9,-999.0000,9,  -999.00,9, -999.00,1,  -999.0,1, -999.00,1, -999.00,1,       45.8,2, 20220709,     1834,  31.8339,-119.6607,     7.4005,2,     -999.0,9,     -999.0,9,     -999.0,9,     -999.0,9,     0.0134,1,     4.6738,1,     -999.0,9,     -999.0,9,     -999.0,9,     -999.0,9,     -999.0,9
33RR20220613,       P02E,     192,          1,         25,         25,2,20220709,       1713,    31.8339,  -119.6607,       3323,   367.6,2,   6.8694,2,  34.2216,2,  34.2238,2,     27.4,3,    27.7,2,   62.44,2,   36.47,2,    0.00,2,    2.83,2,   1.072,6,   0.605,6,   0.3685,6,  2292.1,2,  2299.2,2,   7.3329,2,    25.00,2, -999.00,1,  -999.0,1, -999.00,1, -999.00,1,       49.0,6, 20220709,     1832,  31.8339,-119.6607,     6.8532,2,     -999.0,9,     -999.0,9,     -999.0,9,     -999.0,9,     0.0134,1,     4.6738,1,     -999.0,9,     -999.0,9,     -999.0,9,     -999.0,9,     -999.0,9
33RR20220613,       P02E,     192,          1,         24,         24,2,20220709,       1713,    31.8339,  -119.6607,       3323,   418.2,2,   6.4855,2,  34.2401,2,  34.2401,2,     22.0,3,    22.4,2,   68.59,2,   37.88,2,    0.00,2,    2.92,2,   0.812,2,   0.445,2,   0.2975,2,  -999.0,9,  -999.0,9,-999.0000,9,  -999.00,9, -999.00,1,  -999.0,1, -999.00,1, -999.00,1,       50.0,2, 20220709,     1830,  31.8339,-119.6606,     6.4790,2,     -999.0,9,     -999.0,9,     -999.0,9,     -999.0,9,     0.0138,1,     4.6728,1,     -999.0,9,     -999.0,9,     -999.0,9,     -999.0,9,     -999.0,9
33RR20220613,       P02E,     192,          1,         23,         23,2,20220709,       1713,    31.8339,  -119.6607,       3323,   468.9,2,   6.1095,2,  34.2724,2,  34.2721,2,     16.4,3,    16.9,2,   75.04,2,   39.10,2,    0.00,2,    3.00,2,   0.513,2,   0.283,2,   0.1835,2,  2313.7,2,  2312.0,2,   7.3149,2,    25.00,2, -999.00,1,  -999.0,1, -999.00,1, -999.00,1,       52.6,2, 20220709,     1827,  31.8339,-119.6607,     6.1076,2,     -999.0,9,     -999.0,9,     -999.0,9,     -999.0,9,     0.0134,1,     4.6764,1,     -999.0,9,     -999.0,9,     -999.0,9,     -999.0,9,     -999.0,9
33RR20220613,       P02E,     192,          1,         22,         22,2,20220709,       1713,    31.8339,  -119.6607,       3323,   539.3,2,   5.7735,2,  34.3225,2,  34.3223,2,     12.2,3,    12.4,2,   81.68,2,   40.19,2,    0.00,2,    3.09,2,   0.256,2,   0.148,2,   0.1671,2,  2322.6,2,  2325.3,2,   7.3154,2,    25.00,2, -999.00,1,  -999.0,1, -999.00,1, -999.00,1,       54.9,2, 20220709,     1824,  31.8339,-119.6607,     5.7731,2,     -999.0,9,     -999.0,9,     -999.0,9,     -999.0,9,     0.0134,1,     4.6769,1,     -999.0,9,     -999.0,9,     -999.0,9,     -999.0,9,     -999.0,9
33RR20220613,       P02E,     192,          1,         21,         21,2,20220709,       1713,    31.8339,  -119.6607,       3323,   640.3,2,   5.3390,2,  34.3781,2,  34.3768,2,     11.2,3,    11.4,2,   89.98,2,   41.29,2,    0.00,2,    3.16,2,   0.106,2,   0.066,2,   0.0725,2,  2336.3,2,  2337.5,2,   7.3199,2,    25.00,2, -999.00,1,  -999.0,1, -999.00,1, -999.00,1,       56.9,2, 20220709,     1822,  31.8339,-119.6607,     5.3377,2,     -999.0,9,     -999.0,9,     -999.0,9,     -999.0,9,     0.0134,1,     4.6784,1,     -999.0,9,     -999.0,9,     -999.0,9,     -999.0,9,     -999.0,9
33RR20220613,       P02E,     192,          1,         20,         20,2,20220709,       1713,    31.8339,  -119.6607,       3323,   741.1,2,   4.9281,2,  34.4180,2,  34.4188,2,     13.2,2,    13.2,2,   97.89,2,   42.34,2,    0.00,2,    3.18,2,   0.043,2,   0.029,2,   0.1163,2,  2341.9,2,  2349.5,2,   7.3265,2,    25.01,2, -999.00,1,  -999.0,1, -999.00,1, -999.00,1,       57.6,2, 20220709,     1818,  31.8339,-119.6606,     4.9295,2,     -999.0,9,     -999.0,9,     -999.0,9,     -999.0,9,     0.0134,1,     4.6795,1,     -999.0,9,     -999.0,9,     -999.0,9,     -999.0,9,     -999.0,9
33RR20220613,       P02E,     192,          1,         19,         39,2,20220709,       1713,    31.8339,  -119.6607,       3323,   842.9,2,   4.6017,2,  34.4454,2,  34.4453,2,     16.2,2,    16.2,2,  104.05,2,   42.68,2,    0.00,2,    3.20,2,   0.029,2,   0.023,2,   0.1247,2,  2348.0,2,  2356.4,2,   7.3337,2,    24.99,2, -999.00,1,  -999.0,1, -999.00,1, -999.00,1,       56.8,2, 20220709,     1815,  31.8339,-119.6607,     4.5982,2,     -999.0,9,     -999.0,9,     -999.0,9,     -999.0,9,     0.0134,1,     4.6809,1,     -999.0,9,     -999.0,9,     -999.0,9,     -999.0,9,     -999.0,9
33RR20220613,       P02E,     192,          1,         18,         18,2,20220709,       1713,    31.8339,  -119.6607,       3323,   943.8,2,   4.2659,2,  34.4681,2,  34.4671,2,     20.4,3,    20.0,2,  111.18,2,   42.80,2,    0.00,2,    3.19,2,   0.021,2,   0.019,2,   0.1382,2,  -999.0,9,  -999.0,9,-999.0000,9,  -999.00,9, -999.00,1,  -999.0,1, -999.00,1, -999.00,1,       53.3,2, 20220709,     1812,  31.8339,-119.6607,     4.2671,2,     -999.0,9,     -999.0,9,     -999.0,9,     -999.0,9,     0.0134,1,     4.6817,1,     -999.0,9,     -999.0,9,     -999.0,9,     -999.0,9,     -999.0,9
33RR20220613,       P02E,     192,          1,         17,         37,2,20220709,       1713,    31.8339,  -119.6607,       3323,  1044.3,2,   3.9984,2,  34.4883,2,  34.4891,2,     24.4,2,    24.5,2,  117.13,2,   42.93,2,    0.00,2,    3.18,2,   0.021,2,   0.018,2,   0.1154,2,  2360.2,2,  2371.6,2,   7.3478,2,    24.99,2, -999.00,1,  -999.0,1, -999.00,1, -999.00,1,       50.7,2, 20220709,     1809,  31.8339,-119.6607,     3.9936,2,     -999.0,9,     -999.0,9,     -999.0,9,     -999.0,9,     0.0134,1,     4.6826,1,     -999.0,9,     -999.0,9,     -999.0,9,     -999.0,9,     -999.0,9
33RR20220613,       P02E,     192,          1,         16,         16,2,20220709,       1713,    31.8339,  -119.6607,       3323,  1145.6,2,   3.6994,2,  34.5102,2,  34.5121,2,     29.4,2,    29.5,2,  124.46,2,   42.84,2,    0.00,2,    3.17,2,   0.024,2,   0.021,2,   0.1278,2,  -999.0,9,  -999.0,9,-999.0000,9,  -999.00,9, -999.00,1,  -999.0,1, -999.00,1, -999.00,1,       47.6,2, 20220709,     1806,  31.8339,-119.6607,     3.7026,2,     -999.0,9,     -999.0,9,     -999.0,9,     -999.0,9,     0.0134,1,     4.6822,1,     -999.0,9,     -999.0,9,     -999.0,9,     -999.0,9,     -999.0,9
33RR20220613,       P02E,     192,          1,         15,         15,2,20220709,       1713,    31.8339,  -119.6607,       3323,  1247.5,2,   3.5118,2,  34.5237,2,  34.5270,2,     33.2,2,    33.1,2,  128.56,2,   43.14,2,    0.00,2,    3.16,2,   0.025,2,   0.018,2,   0.1276,2,  2366.9,2,  2384.3,6,   7.3654,2,    24.98,2, -999.00,1,  -999.0,1, -999.00,1, -999.00,1,       47.6,2, 20220709,     1803,  31.8339,-119.6606,     3.5130,2,     -999.0,9,     -999.0,9,     -999.0,9,     -999.0,9,     0.0134,1,     4.6824,1,     -999.0,9,     -999.0,9,     -999.0,9,     -999.0,9,     -999.0,9
33RR20220613,       P02E,     192,          1,         14,         42,2,20220709,       1713,    31.8339,  -119.6607,       3323,  1348.5,2,   3.2072,2,  34.5460,2,  34.5455,2,     40.3,3,    39.8,2,  135.30,2,   42.76,2,    0.00,2,    3.12,2,-999.000,9,-999.000,9,-999.0000,9,  -999.0,9,  -999.0,9,-999.0000,9,  -999.00,9, -999.00,1,  -999.0,1, -999.00,1, -999.00,1,     -999.0,9, 20220709,     1801,  31.8339,-119.6607,     3.2081,2,     -999.0,9,     -999.0,9,     -999.0,9,     -999.0,9,     0.0134,1,     4.6835,1,     -999.0,9,     -999.0,9,     -999.0,9,     -999.0,9,     -999.0,9
33RR20220613,       P02E,     192,          1,         13,         13,2,20220709,       1713,    31.8339,  -119.6607,       3323,  1450.2,2,   2.9675,2,  34.5634,2,  34.5633,2,     47.1,2,    46.8,2,  140.96,2,   42.39,2,    0.00,2,    3.08,2,   0.025,2,   0.020,2,   0.0980,2,  2372.5,2,  2401.0,2,   7.3910,2,    24.99,2, -999.00,1,  -999.0,1, -999.00,1, -999.00,1,       40.6,2, 20220709,     1758,  31.8339,-119.6607,     2.9678,2,     -999.0,9,     -999.0,9,     -999.0,9,     -999.0,9,     0.0134,1,     4.6827,1,     -999.0,9,     -999.0,9,     -999.0,9,     -999.0,9,     -999.0,9
33RR20220613,       P02E,     192,          1,         12,         12,2,20220709,       1713,    31.8339,  -119.6607,       3323,  1551.8,2,   2.8017,2,  34.5750,2,  34.5747,2,     52.4,2,    52.3,2,  145.26,2,   42.18,2,    0.00,2,    3.04,2,-999.000,9,-999.000,9,-999.0000,9,  -999.0,9,  -999.0,9,-999.0000,9,  -999.00,9, -999.00,1,  -999.0,1, -999.00,1, -999.00,1,     -999.0,9, 20220709,     1755,  31.8339,-119.6607,     2.8005,2,     -999.0,9,     -999.0,9,     -999.0,9,     -999.0,9,     0.0134,1,     4.6796,1,     -999.0,9,     -999.0,9,     -999.0,9,     -999.0,9,     -999.0,9
33RR20220613,       P02E,     192,          1,         11,         11,2,20220709,       1713,    31.8339,  -119.6607,       3323,  1652.7,2,   2.6365,2,  34.5867,2,  34.5871,2,     58.3,2,    58.7,2,  148.48,2,   41.91,2,    0.00,2,    3.01,2,   0.018,2,   0.018,2,   0.0000,2,  2374.5,2,  2409.9,2,   7.4132,2,    24.99,2, -999.00,9,  -999.0,9, -999.00,1, -999.00,1,       37.2,2, 20220709,     1753,  31.8339,-119.6607,     2.6358,2,     -999.0,9,     -999.0,9,     -999.0,9,     -999.0,9,     0.0134,1,     4.6836,1,     -999.0,9,     -999.0,9,     -999.0,9,     -999.0,9,     -999.0,9
33RR20220613,       P02E,     192,          1,         10,         10,2,20220709,       1713,    31.8339,  -119.6607,       3323,  1754.0,2,   2.4522,2,  34.5973,2,  34.5975,2,     65.2,2,    65.1,2,  152.88,2,   41.58,2,    0.00,2,    2.97,2,-999.000,9,-999.000,9,-999.0000,9,  -999.0,9,  -999.0,9,-999.0000,9,  -999.00,9, -999.00,9,  -999.0,9, -999.00,1, -999.00,1,     -999.0,9, 20220709,     1750,  31.8339,-119.6607,     2.4481,2,     -999.0,9,     -999.0,9,     -999.0,9,     -999.0,9,     0.0134,1,     4.6822,1,     -999.0,9,     -999.0,9,     -999.0,9,     -999.0,9,     -999.0,9
33RR20220613,       P02E,     192,          1,          9,          9,2,20220709,       1713,    31.8339,  -119.6607,       3323,  1886.7,2,   2.2762,2,  34.6084,2,  34.6085,2,     72.0,2,    72.1,2,  156.88,2,   41.22,2,    0.00,2,    2.92,2,   0.009,2,   0.010,2,   0.0000,2,  2371.6,2,  2418.0,2,   7.4377,2,    25.00,2, -999.00,1,  -999.0,1, -999.00,1, -999.00,1,       33.6,2, 20220709,     1747,  31.8339,-119.6607,     2.2753,2,     -999.0,9,     -999.0,9,     -999.0,9,     -999.0,9,     0.0134,1,     4.6849,1,     -999.0,9,     -999.0,9,     -999.0,9,     -999.0,9,     -999.0,9
33RR20220613,       P02E,     192,          1,          8,          8,2,20220709,       1713,    31.8339,  -119.6607,       3323,  2089.8,2,   2.0404,2,  34.6272,2,  34.6274,2,     84.4,2,    84.6,2,  161.86,2,   40.40,2,    0.00,2,    2.84,2,   0.008,2,   0.008,2,   0.0000,2,  2370.1,2,  2420.7,2,   7.4621,2,    24.99,2, -999.00,9,  -999.0,9, -999.00,1, -999.00,1,       29.7,2, 20220709,     1742,  31.8339,-119.6607,     2.0400,2,     -999.0,9,     -999.0,9,     -999.0,9,     -999.0,9,     0.0134,1,     4.6858,1,     -999.0,9,     -999.0,9,     -999.0,9,     -999.0,9,     -999.0,9
33RR20220613,       P02E,     192,          1,          7,          7,2,20220709,       1713,    31.8339,  -119.6607,       3323,  2293.5,2,   1.8903,2,  34.6422,2,  34.6425,2,     95.7,2,    95.4,2,  163.42,2,   39.68,2,    0.00,2,    2.78,2,   0.006,2,   0.006,2,   0.0000,2,  2365.2,2,  2426.4,6,   7.4832,2,    24.99,2, -999.00,1,  -999.0,1, -999.00,1, -999.00,1,       28.3,2, 20220709,     1738,  31.8339,-119.6607,     1.8903,2,     -999.0,9,     -999.0,9,     -999.0,9,     -999.0,9,     0.0132,1,     4.6874,1,     -999.0,9,     -999.0,9,     -999.0,9,     -999.0,9,     -999.0,9
33RR20220613,       P02E,     192,          1,          6,          6,2,20220709,       1713,    31.8339,  -119.6607,       3323,  2497.2,2,   1.8052,2,  34.6502,2,  34.6504,2,    102.6,2,   102.5,2,  164.40,2,   39.26,2,    0.00,2,    2.74,2,-999.000,9,-999.000,9,-999.0000,9,  -999.0,9,  -999.0,9,-999.0000,9,  -999.00,9, -999.00,9,  -999.0,9, -999.00,1, -999.00,1,     -999.0,9, 20220709,     1733,  31.8339,-119.6607,     1.8050,2,     -999.0,9,     -999.0,9,     -999.0,9,     -999.0,9,     0.0127,1,     4.6885,1,     -999.0,9,     -999.0,9,     -999.0,9,     -999.0,9,     -999.0,9
33RR20220613,       P02E,     192,          1,          5,          5,2,20220709,       1713,    31.8339,  -119.6607,       3323,  2701.3,2,   1.7282,2,  34.6570,2,  34.6574,2,    109.1,2,   109.0,2,  164.59,2,   38.81,2,    0.00,2,    2.70,2,   0.008,2,   0.010,2,   0.0000,2,  2358.4,2,  2429.9,6,   7.5090,2,    24.99,2, -999.00,1,  -999.0,1, -999.00,1, -999.00,1,       25.8,2, 20220709,     1729,  31.8339,-119.6607,     1.7276,2,     -999.0,9,     -999.0,9,     -999.0,9,     -999.0,9,     0.0123,1,     4.6896,1,     -999.0,9,     -999.0,9,     -999.0,9,     -999.0,9,     -999.0,9