BOTTLE,20230830CCHSIOCBG
EXPOCODE,SECT_ID,STNNBR,CASTNO,SAMPNO,BTLNBR,BTLNBR_FLAG_W,DATE,TIME,LATITUDE,LONGITUDE,DEPTH,CTDPRS,CTDPRS_FLAG_W,CTDTMP,CTDTMP_FLAG_W,CTDSAL,CTDSAL_FLAG_W,SALNTY,SALNTY_FLAG_W,CTDOXY,CTDOXY_FLAG_W,OXYGEN,OXYGEN_FLAG_W,SILCAT,SILCAT_FLAG_W,NITRAT,NITRAT_FLAG_W,NITRIT,NITRIT_FLAG_W,PHSPHT,PHSPHT_FLAG_W,CFC-11,CFC-11_FLAG_W,CFC-12,CFC-12_FLAG_W,SF6,SF6_FLAG_W,TCARBN,TCARBN_FLAG_W,ALKALI,ALKALI_FLAG_W,PH_TOT,PH_TOT_FLAG_W,PH_TMP,PH_TMP_FLAG_W,DELC13,DELC13_FLAG_W,DELC14,DELC14_FLAG_W,DOC,DOC_FLAG_W,TDN,TDN_FLAG_W,N2O,N2O_FLAG_W,BTL_DATE,BTL_TIME,BTL_LAT,BTL_LON,REFTMP,REFTMP_FLAG_W,POC,POC_FLAG_W,PON,PON_FLAG_W,POP,POP_FLAG_W,PCOD,PCOD_FLAG_W,CTDFLUOR,CTDFLUOR_FLAG_W,CTDXMISS,CTDXMISS_FLAG_W,HPLC,HPLC_FLAG_W,DNA,DNA_FLAG_W,FCM,FCM_FLAG_W,IMAGES,IMAGES_FLAG_W,VIRAL_ABUNDANCE,VIRAL_ABUNDANCE_FLAG_W
,,,,,,,,,,,METERS,DBAR,,ITS-90,,PSS-78,,PSS-78,,UMOL/KG,,UMOL/KG,,UMOL/KG,,UMOL/KG,,UMOL/KG,,UMOL/KG,,PMOL/KG,,PMOL/KG,,FMOL/KG,,UMOL/KG,,UMOL/KG,,,,DEG C,,/MILLE,,/MILLE,,UMOL/KG,,UMOL/KG,,NMOL/KG,,,,,,ITS-90,,UG/L,,UG/L,,UG/L,,UG/L,,VOLTS,,VOLTS,,,,,,,,,,,
33RR20220613,       P02E,     146,          2,         36,         36,2,20220626,       0207,    30.0001,  -145.0468,       5221,     3.5,2,  23.2752,2,  35.0907,2,  35.0990,2,    218.1,2,   217.8,2,    0.78,2,    0.06,2,    0.00,2,    0.04,3,   1.740,2,   1.077,2,   1.8124,2,  2044.8,2,  2313.2,2,   7.9855,2,    25.01,2, -999.00,9,  -999.0,9, -999.00,1, -999.00,1,        6.7,2, 20220626,      427,  30.0001,-145.0468,    23.4352,3,     -999.0,9,     -999.0,9,     -999.0,9,     -999.0,9,     0.0135,1,     4.6410,1,     -999.0,9,     -999.0,9,     -999.0,9,     -999.0,9,     -999.0,9
33RR20220613,       P02E,     146,          2,         35,         35,2,20220626,       0207,    30.0001,  -145.0468,       5221,    25.4,2,  22.8113,2,  35.1658,2,  35.1754,2,    222.5,2,   223.9,2,    0.59,2,    0.00,2,    0.00,2,    0.02,3,   1.798,2,   1.119,2,   1.8555,2,  2047.1,6,  2318.8,2,   7.9927,2,    25.03,2, -999.00,9,  -999.0,9, -999.00,1, -999.00,1,        7.0,2, 20220626,      425,  30.0000,-145.0468,    22.8401,2,     -999.0,9,     -999.0,9,     -999.0,9,     -999.0,9,     0.0147,1,     4.6322,1,     -999.0,9,     -999.0,9,     -999.0,9,     -999.0,9,     -999.0,9
33RR20220613,       P02E,     146,          2,         34,         34,2,20220626,       0207,    30.0001,  -145.0468,       5221,    50.0,2,  21.6202,2,  35.2625,2,  35.2639,2,    230.7,2,   230.3,2,    0.39,2,    0.11,2,    0.00,2,    0.02,3,   1.872,2,   1.164,2,   1.9356,2,  2042.7,2,  2323.8,2,   8.0047,2,    25.01,2, -999.00,9,  -999.0,9, -999.00,1, -999.00,1,        7.2,2, 20220626,      423,  30.0001,-145.0468,    21.6324,2,     -999.0,9,     -999.0,9,     -999.0,9,     -999.0,9,     0.0147,1,     4.6287,1,     -999.0,9,     -999.0,9,     -999.0,9,     -999.0,9,     -999.0,9
33RR20220613,       P02E,     146,          2,         33,         33,4,20220626,       0207,    30.0001,  -145.0468,       5221,    76.2,3,  20.7715,3,  35.1197,3,-999.0000,9,    232.1,3,  -999.0,9, -999.00,9, -999.00,9, -999.00,9, -999.00,9,-999.000,9,-999.000,9,-999.0000,9,  -999.0,9,  -999.0,9,-999.0000,9,  -999.00,9, -999.00,9,  -999.0,9, -999.00,9, -999.00,9,     -999.0,9, 20220626,      421,  30.0000,-145.0469,    20.7612,3,     -999.0,9,     -999.0,9,     -999.0,9,     -999.0,9,     0.0167,1,     4.6381,1,     -999.0,9,     -999.0,9,     -999.0,9,     -999.0,9,     -999.0,9
33RR20220613,       P02E,     146,          2,         32,         32,2,20220626,       0207,    30.0001,  -145.0468,       5221,   101.0,2,  19.9366,2,  35.0209,2,  35.0030,2,    232.2,2,   232.7,2,    0.68,2,    0.06,2,    0.00,2,    0.00,3,   1.998,2,   1.228,2,   1.9461,2,  2037.2,2,  2304.5,2,   7.9824,2,    25.02,2, -999.00,9,  -999.0,9, -999.00,1, -999.00,1,        7.4,2, 20220626,      419,  30.0000,-145.0469,    19.9339,2,     -999.0,9,     -999.0,9,     -999.0,9,     -999.0,9,     0.0184,1,     4.6480,1,     -999.0,9,     -999.0,9,     -999.0,9,     -999.0,9,     -999.0,9
33RR20220613,       P02E,     146,          2,         31,         31,2,20220626,       0207,    30.0001,  -145.0468,       5221,   150.6,2,  18.5308,2,  34.8060,2,  34.7964,2,    223.3,2,   223.2,2,    1.27,2,    0.16,2,    0.10,2,    0.08,3,   2.129,2,   1.308,2,   2.0975,2,  2046.1,2,  2292.3,2,   7.9460,2,    25.01,2, -999.00,9,  -999.0,9, -999.00,1, -999.00,1,        9.8,2, 20220626,      417,  30.0001,-145.0468,    18.5287,2,     -999.0,9,     -999.0,9,     -999.0,9,     -999.0,9,     0.0281,1,     4.6621,1,     -999.0,9,     -999.0,9,     -999.0,9,     -999.0,9,     -999.0,9
33RR20220613,       P02E,     146,          2,         30,         17,2,20220626,       0207,    30.0001,  -145.0468,       5221,   201.1,2,  13.8798,2,  34.1879,2,  34.1768,2,    217.6,2,   217.7,2,    4.99,2,    5.48,2,    0.00,2,    0.38,3,-999.000,9,-999.000,9,-999.0000,9,  2070.6,2,  2252.5,2,   7.8324,2,    25.03,2, -999.00,9,  -999.0,9, -999.00,1, -999.00,1,     -999.0,9, 20220626,      415,  30.0000,-145.0469,    13.9658,2,     -999.0,9,     -999.0,9,     -999.0,9,     -999.0,9,     0.0147,1,     4.6812,1,     -999.0,9,     -999.0,9,     -999.0,9,     -999.0,9,     -999.0,9
33RR20220613,       P02E,     146,          2,         29,         29,2,20220626,       0207,    30.0001,  -145.0468,       5221,   251.6,2,  12.0273,2,  34.1022,2,  34.1052,2,    214.2,2,   214.2,2,    8.41,2,    9.75,2,    0.00,2,    0.60,3,   2.856,2,   1.692,2,   2.1471,2,  2089.3,2,  2252.2,6,   7.7866,2,    25.03,2, -999.00,9,  -999.0,9, -999.00,1, -999.00,1,       13.6,2, 20220626,      413,  30.0001,-145.0469,    12.0236,2,     -999.0,9,     -999.0,9,     -999.0,9,     -999.0,9,     0.0122,1,     4.6885,1,     -999.0,9,     -999.0,9,     -999.0,9,     -999.0,9,     -999.0,9
33RR20220613,       P02E,     146,          2,         28,         28,2,20220626,       0207,    30.0001,  -145.0468,       5221,   302.1,2,  10.8832,2,  34.1272,2,  34.1242,2,    208.9,2,   209.6,2,   13.69,2,   13.73,2,    0.00,2,    0.80,3,   2.981,2,   1.756,2,   1.8979,2,  2113.3,2,  2257.4,2,   7.7466,2,    25.02,2, -999.00,9,  -999.0,9, -999.00,1, -999.00,1,       16.9,2, 20220626,      409,  30.0000,-145.0469,    10.8749,2,     -999.0,9,     -999.0,9,     -999.0,9,     -999.0,9,     0.0122,1,     4.6907,1,     -999.0,9,     -999.0,9,     -999.0,9,     -999.0,9,     -999.0,9
33RR20220613,       P02E,     146,          2,         27,         27,2,20220626,       0207,    30.0001,  -145.0468,       5221,   352.6,2,   9.7658,2,  34.0695,2,  34.0689,2,    207.0,2,   207.1,2,   18.38,2,   16.15,2,    0.00,2,    0.96,3,   3.120,2,   1.825,2,   1.9862,2,  2128.7,2,  2260.8,2,   7.7131,2,    25.02,2, -999.00,9,  -999.0,9, -999.00,1, -999.00,1,       19.2,2, 20220626,      408,  30.0000,-145.0469,     9.7653,2,     -999.0,9,     -999.0,9,     -999.0,9,     -999.0,9,     0.0122,1,     4.6925,1,     -999.0,9,     -999.0,9,     -999.0,9,     -999.0,9,     -999.0,9
33RR20220613,       P02E,     146,          2,         26,         26,2,20220626,       0207,    30.0001,  -145.0468,       5221,   402.6,2,   8.8660,2,  34.0375,2,  34.0368,2,    186.6,2,   185.8,2,   26.21,2,   20.23,2,    0.00,2,    1.20,3,   3.063,2,   1.776,2,   1.5671,2,  2153.0,2,  2263.2,2,   7.6545,2,    25.03,2, -999.00,9,  -999.0,9, -999.00,1, -999.00,1,       22.5,2, 20220626,      406,  30.0001,-145.0468,     8.8736,2,     -999.0,9,     -999.0,9,     -999.0,9,     -999.0,9,     0.0122,1,     4.6935,1,     -999.0,9,     -999.0,9,     -999.0,9,     -999.0,9,     -999.0,9
33RR20220613,       P02E,     146,          2,         25,         25,2,20220626,       0207,    30.0001,  -145.0468,       5221,   503.6,2,   6.8547,2,  33.9896,2,  33.9898,2,    132.0,2,   131.8,2,   48.31,2,   29.21,2,    0.00,2,    1.81,3,   2.657,2,   1.487,2,   0.9678,2,  2217.8,2,  2277.9,2,   7.5136,2,    25.01,2, -999.00,9,  -999.0,9, -999.00,1, -999.00,1,       29.5,2, 20220626,      403,  30.0000,-145.0469,     6.8498,2,     -999.0,9,     -999.0,9,     -999.0,9,     -999.0,9,     0.0122,1,     4.6946,1,     -999.0,9,     -999.0,9,     -999.0,9,     -999.0,9,     -999.0,9
33RR20220613,       P02E,     146,          2,         24,         24,2,20220626,       0207,    30.0001,  -145.0468,       5221,   605.1,2,   5.4340,2,  34.0172,2,  34.0215,2,     76.7,3,    74.6,2,   72.27,2,   36.93,2,    0.00,2,    2.37,3,   1.759,2,   0.951,2,   0.4298,2,  2280.8,2,  2297.5,2,   7.3872,2,    25.03,2, -999.00,9,  -999.0,9, -999.00,1, -999.00,1,       37.3,2, 20220626,      400,  30.0000,-145.0468,     5.4298,2,     -999.0,9,     -999.0,9,     -999.0,9,     -999.0,9,     0.0134,1,     4.6958,1,     -999.0,9,     -999.0,9,     -999.0,9,     -999.0,9,     -999.0,9
33RR20220613,       P02E,     146,          2,         23,         23,2,20220626,       0207,    30.0001,  -145.0468,       5221,   706.1,2,   4.7180,2,  34.1104,2,  34.1117,2,     38.7,2,    38.7,2,   90.16,2,   40.86,2,    0.00,2,    2.70,3,   0.909,2,   0.475,2,   0.1970,2,  -999.0,9,  -999.0,9,-999.0000,9,  -999.00,9, -999.00,9,  -999.0,9, -999.00,1, -999.00,1,       43.6,2, 20220626,      357,  30.0000,-145.0468,     4.7180,2,     -999.0,9,     -999.0,9,     -999.0,9,     -999.0,9,     0.0134,1,     4.6959,1,     -999.0,9,     -999.0,9,     -999.0,9,     -999.0,9,     -999.0,9
33RR20220613,       P02E,     146,          2,         22,         22,2,20220626,       0207,    30.0001,  -145.0468,       5221,   806.9,2,   4.2555,2,  34.2431,2,  34.2446,2,     15.5,2,    15.4,2,  106.48,2,   42.61,2,    0.00,2,    2.94,3,   0.219,2,   0.119,2,   0.0000,2,  2351.0,2,  2340.3,2,   7.2936,2,    25.02,2, -999.00,9,  -999.0,9, -999.00,1, -999.00,1,       50.1,2, 20220626,      354,  30.0000,-145.0469,     4.2550,2,     -999.0,9,     -999.0,9,     -999.0,9,     -999.0,9,     0.0134,1,     4.6956,1,     -999.0,9,     -999.0,9,     -999.0,9,     -999.0,9,     -999.0,9
33RR20220613,       P02E,     146,          2,         21,         21,2,20220626,       0207,    30.0001,  -145.0468,       5221,   907.8,2,   3.9341,2,  34.3323,2,  34.3331,2,     12.1,3,    11.6,2,  117.32,2,   43.76,2,    0.00,2,    3.05,4,   0.048,2,   0.033,2,   0.0000,2,  2362.8,2,  2356.2,2,   7.3000,2,    25.03,2, -999.00,9,  -999.0,9, -999.00,1, -999.00,1,       51.0,2, 20220626,      351,  30.0000,-145.0469,     3.9339,2,     -999.0,9,     -999.0,9,     -999.0,9,     -999.0,9,     0.0134,1,     4.6961,1,     -999.0,9,     -999.0,9,     -999.0,9,     -999.0,9,     -999.0,9
33RR20220613,       P02E,     146,          2,         20,         20,2,20220626,       0207,    30.0001,  -145.0468,       5221,  1009.3,2,   3.6798,2,  34.4055,2,  34.4072,2,     16.8,3,    16.6,2,  124.55,2,   43.60,2,    0.00,2,    3.10,4,   0.021,2,   0.016,2,   0.0000,2,  2368.4,2,  2370.3,2,   7.3188,2,    25.01,2, -999.00,9,  -999.0,9, -999.00,1, -999.00,1,       50.2,2, 20220626,      348,  30.0000,-145.0469,     3.6792,2,     -999.0,9,     -999.0,9,     -999.0,9,     -999.0,9,     0.0134,1,     4.6960,1,     -999.0,9,     -999.0,9,     -999.0,9,     -999.0,9,     -999.0,9
33RR20220613,       P02E,     146,          2,         19,         39,2,20220626,       0207,    30.0001,  -145.0468,       5221,  1109.4,2,   3.4346,2,  34.4562,2,  34.4559,2,     24.9,2,    24.8,2,  130.12,2,   43.38,2,    0.00,2,    3.11,4,   0.010,2,   0.010,2,   0.0000,2,  2370.6,2,  2379.2,2,   7.3383,2,    25.03,2, -999.00,9,  -999.0,9, -999.00,1, -999.00,1,       47.7,2, 20220626,      345,  30.0000,-145.0469,     3.4331,2,     -999.0,9,     -999.0,9,     -999.0,9,     -999.0,9,     0.0134,1,     4.6970,1,     -999.0,9,     -999.0,9,     -999.0,9,     -999.0,9,     -999.0,9
33RR20220613,       P02E,     146,          2,         18,         18,2,20220626,       0207,    30.0001,  -145.0468,       5221,  1211.0,2,   3.2273,2,  34.4923,2,  34.4921,2,     34.3,3,    34.8,2,  134.32,2,   42.95,2,    0.00,2,    3.10,4,   0.006,2,   0.007,2,   0.0000,2,  2370.9,2,  2384.8,2,   7.3599,2,    25.00,2, -999.00,9,  -999.0,9, -999.00,1, -999.00,1,       45.1,2, 20220626,      342,  30.0000,-145.0469,     3.2261,2,     -999.0,9,     -999.0,9,     -999.0,9,     -999.0,9,     0.0134,1,     4.6975,1,     -999.0,9,     -999.0,9,     -999.0,9,     -999.0,9,     -999.0,9
33RR20220613,       P02E,     146,          2,         17,         37,2,20220626,       0207,    30.0001,  -145.0468,       5221,  1312.1,2,   3.0448,2,  34.5194,2,  34.5193,2,     42.7,2,    42.9,2,  137.93,2,   42.48,2,    0.00,2,    3.10,4,-999.000,9,-999.000,9,-999.0000,9,  2366.5,2,  2391.8,2,   7.3774,2,    24.99,2, -999.00,9,  -999.0,9, -999.00,1, -999.00,1,     -999.0,9, 20220626,      338,  30.0000,-145.0468,     3.0475,2,     -999.0,9,     -999.0,9,     -999.0,9,     -999.0,9,     0.0134,1,     4.6980,1,     -999.0,9,     -999.0,9,     -999.0,9,     -999.0,9,     -999.0,9
33RR20220613,       P02E,     146,          2,         16,         16,2,20220626,       0207,    30.0001,  -145.0468,       5221,  1413.1,2,   2.8591,2,  34.5418,2,  34.5408,2,     50.1,2,    49.9,2,  141.74,2,   42.07,2,    0.00,2,    3.10,4,   0.004,2,   0.004,2,   0.0000,2,  -999.0,9,  -999.0,9,-999.0000,9,  -999.00,9, -999.00,9,  -999.0,9, -999.00,1, -999.00,1,       38.2,2, 20220626,      335,  30.0001,-145.0469,     2.8591,2,     -999.0,9,     -999.0,9,     -999.0,9,     -999.0,9,     0.0134,1,     4.6989,1,     -999.0,9,     -999.0,9,     -999.0,9,     -999.0,9,     -999.0,9
33RR20220613,       P02E,     146,          2,         15,         15,2,20220626,       0207,    30.0001,  -145.0468,       5221,  1616.9,2,   2.5447,2,  34.5736,2,  34.5732,2,     61.0,2,    61.0,2,  149.46,2,   41.43,2,    0.00,2,    3.12,4,   0.003,2,   0.003,2,   0.0000,2,  2368.8,2,  2405.4,2,   7.4150,2,    25.01,2, -999.00,9,  -999.0,9, -999.00,1, -999.00,1,       34.7,2, 20220626,      330,  30.0001,-145.0469,     2.5441,2,     -999.0,9,     -999.0,9,     -999.0,9,     -999.0,9,     0.0134,1,     4.6995,1,     -999.0,9,     -999.0,9,     -999.0,9,     -999.0,9,     -999.0,9
33RR20220613,       P02E,     146,          2,         14,         14,2,20220626,       0207,    30.0001,  -145.0468,       5221,  1819.8,2,   2.2775,2,  34.5966,2,  34.5957,2,     69.7,2,    69.7,2,  156.99,2,   41.01,2,    0.00,2,    3.14,4,   0.003,2,   0.004,2,   0.0000,2,  -999.0,9,  -999.0,9,-999.0000,9,  -999.00,9, -999.00,9,  -999.0,9, -999.00,1, -999.00,1,       34.1,2, 20220626,      324,  30.0001,-145.0469,     2.2795,2,     -999.0,9,     -999.0,9,     -999.0,9,     -999.0,9,     0.0129,1,     4.7005,1,     -999.0,9,     -999.0,9,     -999.0,9,     -999.0,9,     -999.0,9
33RR20220613,       P02E,     146,          2,         13,         13,2,20220626,       0207,    30.0001,  -145.0468,       5221,  2022.7,2,   2.0714,2,  34.6143,2,  34.6130,2,     78.0,2,    78.2,2,  162.75,2,   40.57,2,    0.00,2,    3.14,4,   0.002,2,   0.000,2,   0.0000,2,  2371.9,2,  2418.7,2,   7.4472,2,    25.01,2, -999.00,9,  -999.0,9, -999.00,1, -999.00,1,       29.4,2, 20220626,      321,  30.0001,-145.0469,     2.0718,2,     -999.0,9,     -999.0,9,     -999.0,9,     -999.0,9,     0.0134,1,     4.7005,1,     -999.0,9,     -999.0,9,     -999.0,9,     -999.0,9,     -999.0,9
33RR20220613,       P02E,     146,          2,         12,         12,2,20220626,       0207,    30.0001,  -145.0468,       5221,  2278.7,2,   1.8588,2,  34.6337,2,  34.6329,2,     90.0,2,    90.1,2,  167.54,2,   39.87,2,    0.00,2,    3.11,4,   0.003,2,   0.000,2,   0.0000,2,  2367.7,2,  2423.5,2,   7.4707,2,    25.00,2, -999.00,9,  -999.0,9, -999.00,1, -999.00,1,       27.5,2, 20220626,      315,  30.0000,-145.0468,     1.8586,2,     -999.0,9,     -999.0,9,     -999.0,9,     -999.0,9,     0.0134,1,     4.7010,1,     -999.0,9,     -999.0,9,     -999.0,9,     -999.0,9,     -999.0,9
33RR20220613,       P02E,     146,          2,         11,         11,2,20220626,       0207,    30.0001,  -145.0468,       5221,  2532.4,2,   1.7154,2,  34.6472,2,  34.6470,2,    100.7,2,   100.8,2,  168.91,2,   39.16,2,    0.00,2,    3.10,4,   0.003,2,   0.002,2,   0.0000,2,  2361.7,2,  2427.7,2,   7.4909,2,    24.96,2, -999.00,9,  -999.0,9, -999.00,1, -999.00,1,       27.2,2, 20220626,      310,  30.0001,-145.0468,     1.7150,2,     -999.0,9,     -999.0,9,     -999.0,9,     -999.0,9,     0.0134,1,     4.7020,1,     -999.0,9,     -999.0,9,     -999.0,9,     -999.0,9,     -999.0,9
33RR20220613,       P02E,     146,          2,         10,         10,2,20220626,       0207,    30.0001,  -145.0468,       5221,  2787.5,2,   1.6168,2,  34.6572,2,  34.6574,2,    109.7,2,   109.8,2,  170.27,2,   38.59,2,    0.00,2,    3.07,4,   0.005,2,   0.004,2,   0.0000,2,  2359.4,2,  2428.8,2,   7.5075,2,    25.01,2, -999.00,9,  -999.0,9, -999.00,1, -999.00,1,       24.7,2, 20220626,      304,  30.0001,-145.0468,     1.6167,2,     -999.0,9,     -999.0,9,     -999.0,9,     -999.0,9,     0.0127,1,     4.7019,1,     -999.0,9,     -999.0,9,     -999.0,9,     -999.0,9,     -999.0,9
33RR20220613,       P02E,     146,          2,          9,          9,2,20220626,       0207,    30.0001,  -145.0468,       5221,  3042.3,2,   1.5461,2,  34.6660,2,  34.6657,2,    119.0,2,   118.9,2,  169.39,2,   38.09,2,    0.00,2,    3.02,4,   0.004,2,   0.005,2,   0.0000,2,  -999.0,9,  -999.0,9,-999.0000,9,  -999.00,9, -999.00,9,  -999.0,9, -999.00,1, -999.00,1,       25.1,2, 20220626,      258,  30.0001,-145.0468,     1.5462,2,     -999.0,9,     -999.0,9,     -999.0,9,     -999.0,9,     0.0133,1,     4.7022,1,     -999.0,9,     -999.0,9,     -999.0,9,     -999.0,9,     -999.0,9
33RR20220613,       P02E,     146,          2,          8,          8,2,20220626,       0207,    30.0001,  -145.0468,       5221,  3349.5,2,   1.4893,2,  34.6745,2,  34.6737,2,    129.6,2,   129.6,2,  167.44,2,   37.47,2,    0.00,2,    2.97,4,   0.005,2,   0.005,2,   0.0000,2,  -999.0,9,  -999.0,9,-999.0000,9,  -999.00,9, -999.00,9,  -999.0,9, -999.00,1, -999.00,1,       23.2,2, 20220626,      252,  30.0001,-145.0468,     1.4898,2,     -999.0,9,     -999.0,9,     -999.0,9,     -999.0,9,     0.0129,1,     4.7025,1,     -999.0,9,     -999.0,9,     -999.0,9,     -999.0,9,     -999.0,9
33RR20220613,       P02E,     146,          2,          7,          7,2,20220626,       0207,    30.0001,  -145.0468,       5221,  3656.2,2,   1.4708,2,  34.6798,2,  34.6804,2,    137.4,2,   137.7,2,  164.50,2,   36.86,2,    0.00,2,    2.92,4,   0.007,2,   0.006,2,   0.0000,2,  2342.4,2,  2429.0,6,   7.5579,2,    25.01,2, -999.00,9,  -999.0,9, -999.00,1, -999.00,1,       22.2,2, 20220626,      245,  30.0000,-145.0468,     1.4705,2,     -999.0,9,     -999.0,9,     -999.0,9,     -999.0,9,     0.0122,1,     4.7032,1,     -999.0,9,     -999.0,9,     -999.0,9,     -999.0,9,     -999.0,9
33RR20220613,       P02E,     146,          2,          6,          6,2,20220626,       0207,    30.0001,  -145.0468,       5221,  3963.5,2,   1.4689,2,  34.6837,2,  34.6834,2,    143.6,2,   143.5,2,  160.89,2,   36.57,2,    0.00,2,    2.88,4,   0.004,2,   0.004,2,   0.0000,2,  -999.0,9,  -999.0,9,-999.0000,9,  -999.00,9, -999.00,9,  -999.0,9, -999.00,1, -999.00,1,       22.1,2, 20220626,      239,  30.0000,-145.0469,     1.4689,2,     -999.0,9,     -999.0,9,     -999.0,9,     -999.0,9,     0.0122,1,     4.7032,1,     -999.0,9,     -999.0,9,     -999.0,9,     -999.0,9,     -999.0,9
33RR20220613,       P02E,     146,          2,          5,          5,2,20220626,       0207,    30.0001,  -145.0468,       5221,  4272.0,2,   1.4836,2,  34.6859,2,  34.6846,2,    147.8,2,   147.7,2,  157.96,2,   36.19,2,    0.00,2,    2.84,4,   0.005,2,   0.005,2,   0.0000,2,  -999.0,9,  -999.0,9,-999.0000,9,  -999.00,9, -999.00,9,  -999.0,9, -999.00,1, -999.00,1,       20.8,2, 20220626,      231,  30.0001,-145.0469,     1.4835,2,     -999.0,9,     -999.0,9,     -999.0,9,     -999.0,9,     0.0122,1,     4.7032,1,     -999.0,9,     -999.0,9,     -999.0,9,     -999.0,9,     -999.0,9