BOTTLE,20230830CCHSIOCBG
EXPOCODE,SECT_ID,STNNBR,CASTNO,SAMPNO,BTLNBR,BTLNBR_FLAG_W,DATE,TIME,LATITUDE,LONGITUDE,DEPTH,CTDPRS,CTDPRS_FLAG_W,CTDTMP,CTDTMP_FLAG_W,CTDSAL,CTDSAL_FLAG_W,SALNTY,SALNTY_FLAG_W,CTDOXY,CTDOXY_FLAG_W,OXYGEN,OXYGEN_FLAG_W,SILCAT,SILCAT_FLAG_W,NITRAT,NITRAT_FLAG_W,NITRIT,NITRIT_FLAG_W,PHSPHT,PHSPHT_FLAG_W,CFC-11,CFC-11_FLAG_W,CFC-12,CFC-12_FLAG_W,SF6,SF6_FLAG_W,TCARBN,TCARBN_FLAG_W,ALKALI,ALKALI_FLAG_W,PH_TOT,PH_TOT_FLAG_W,PH_TMP,PH_TMP_FLAG_W,DELC13,DELC13_FLAG_W,DELC14,DELC14_FLAG_W,DOC,DOC_FLAG_W,TDN,TDN_FLAG_W,N2O,N2O_FLAG_W,BTL_DATE,BTL_TIME,BTL_LAT,BTL_LON,REFTMP,REFTMP_FLAG_W,POC,POC_FLAG_W,PON,PON_FLAG_W,POP,POP_FLAG_W,PCOD,PCOD_FLAG_W,CTDFLUOR,CTDFLUOR_FLAG_W,CTDXMISS,CTDXMISS_FLAG_W,HPLC,HPLC_FLAG_W,DNA,DNA_FLAG_W,FCM,FCM_FLAG_W,IMAGES,IMAGES_FLAG_W,VIRAL_ABUNDANCE,VIRAL_ABUNDANCE_FLAG_W
,,,,,,,,,,,METERS,DBAR,,ITS-90,,PSS-78,,PSS-78,,UMOL/KG,,UMOL/KG,,UMOL/KG,,UMOL/KG,,UMOL/KG,,UMOL/KG,,PMOL/KG,,PMOL/KG,,FMOL/KG,,UMOL/KG,,UMOL/KG,,,,DEG C,,/MILLE,,/MILLE,,UMOL/KG,,UMOL/KG,,NMOL/KG,,,,,,ITS-90,,UG/L,,UG/L,,UG/L,,UG/L,,VOLTS,,VOLTS,,,,,,,,,,,
33RR20220613,       P02E,     127,          1,         36,         36,2,20220619,       2132,    30.0145,  -156.0119,       5967,     3.0,2,  24.3539,2,  35.1014,2,  35.1006,2,    213.9,2,   214.5,2,    0.29,2,    0.03,2,    0.00,2,    0.01,3,   1.718,2,   1.075,2,   1.7599,2,  2025.2,6,  2305.5,2,   8.0065,2,    25.03,2, -999.00,9,  -999.0,9, -999.00,9, -999.00,9,        7.1,2, 20220620,      105,  30.0145,-156.0119,    24.3750,2,     -999.0,9,     -999.0,9,     -999.0,9,     -999.0,9,     0.0122,1,     4.6276,1,     -999.0,9,     -999.0,9,     -999.0,9,     -999.0,9,     -999.0,9
33RR20220613,       P02E,     127,          1,         35,         35,2,20220619,       2132,    30.0145,  -156.0119,       5967,    26.2,2,  24.0205,2,  35.0904,2,  35.0862,2,    213.4,3,   216.5,2,    0.39,2,    0.03,2,    0.00,2,    0.00,3,   1.678,2,   1.067,2,   1.7794,2,  2025.0,2,  2306.0,2,   8.0061,2,    25.02,2, -999.00,9,  -999.0,9, -999.00,9, -999.00,9,        7.0,2, 20220620,      101,  30.0142,-156.0121,    24.0188,2,     -999.0,9,     -999.0,9,     -999.0,9,     -999.0,9,     0.0134,1,     4.6291,1,     -999.0,9,     -999.0,9,     -999.0,9,     -999.0,9,     -999.0,9
33RR20220613,       P02E,     127,          1,         34,         34,2,20220619,       2132,    30.0145,  -156.0119,       5967,    51.4,2,  20.0096,2,  34.9984,2,  35.0026,2,    236.5,2,   235.8,2,    0.59,2,    0.01,2,    0.00,2,    0.01,3,   1.957,2,   1.234,2,   1.9264,2,  2030.1,2,  2300.4,2,   7.9899,2,    25.01,2, -999.00,9,  -999.0,9, -999.00,9, -999.00,9,        7.9,2, 20220620,       58,  30.0139,-156.0122,    20.0110,2,     -999.0,9,     -999.0,9,     -999.0,9,     -999.0,9,     0.0147,1,     4.6272,1,     -999.0,9,     -999.0,9,     -999.0,9,     -999.0,9,     -999.0,9
33RR20220613,       P02E,     127,          1,         33,         33,2,20220619,       2132,    30.0145,  -156.0119,       5967,    76.6,2,  18.3593,2,  34.7883,2,  34.7917,2,    238.3,2,   238.7,2,    1.27,2,    0.00,2,    0.00,2,    0.03,3,   2.155,2,   1.314,2,   2.1381,2,  2031.9,2,  2287.7,6,   7.9669,2,    25.04,2, -999.00,9,  -999.0,9, -999.00,9, -999.00,9,        8.4,2, 20220620,       56,  30.0136,-156.0124,    18.3703,2,     -999.0,9,     -999.0,9,     -999.0,9,     -999.0,9,     0.0183,1,     4.6314,1,     -999.0,9,     -999.0,9,     -999.0,9,     -999.0,9,     -999.0,9
33RR20220613,       P02E,     127,          1,         32,         32,2,20220619,       2132,    30.0145,  -156.0119,       5967,   101.0,2,  17.2375,2,  34.6476,2,  34.6468,2,    235.9,2,   235.6,2,    1.76,2,    0.07,2,    0.01,2,    0.07,3,   2.273,2,   1.368,2,   2.0296,2,  2038.5,2,  -999.0,9,   7.9418,2,    25.02,2, -999.00,9,  -999.0,9, -999.00,9, -999.00,9,        9.0,2, 20220620,       53,  30.0133,-156.0125,    17.2391,2,     -999.0,9,     -999.0,9,     -999.0,9,     -999.0,9,     0.0504,1,     4.6203,1,     -999.0,9,     -999.0,9,     -999.0,9,     -999.0,9,     -999.0,9
33RR20220613,       P02E,     127,          1,         31,         31,2,20220619,       2132,    30.0145,  -156.0119,       5967,   153.1,2,  15.2347,2,  34.4678,2,  34.4689,2,    210.0,2,   210.2,2,    3.52,2,    4.42,2,    0.01,2,    0.31,3,   2.389,2,   1.478,2,   2.0215,2,  2066.0,2,  2268.7,2,   7.8638,2,    25.04,2, -999.00,9,  -999.0,9, -999.00,9, -999.00,9,       11.6,2, 20220620,       50,  30.0131,-156.0126,    15.2658,2,     -999.0,9,     -999.0,9,     -999.0,9,     -999.0,9,     0.0191,1,     4.6732,1,     -999.0,9,     -999.0,9,     -999.0,9,     -999.0,9,     -999.0,9
33RR20220613,       P02E,     127,          1,         30,         40,2,20220619,       2132,    30.0145,  -156.0119,       5967,   202.7,2,  13.5851,2,  34.3467,2,  34.3452,2,    213.5,2,   213.7,2,    6.26,2,    7.63,2,    0.01,2,    0.49,3,   2.567,2,   1.583,2,   2.0078,2,  2077.9,2,  -999.0,9,   7.8300,2,    25.00,2, -999.00,9,  -999.0,9, -999.00,9, -999.00,9,       13.7,2, 20220620,       47,  30.0129,-156.0127,    13.5823,2,     -999.0,9,     -999.0,9,     -999.0,9,     -999.0,9,     0.0130,1,     4.6830,1,     -999.0,9,     -999.0,9,     -999.0,9,     -999.0,9,     -999.0,9
33RR20220613,       P02E,     127,          1,         29,         29,2,20220619,       2132,    30.0145,  -156.0119,       5967,   253.5,2,  12.3029,2,  34.2505,2,  34.2485,2,    214.0,2,   213.6,2,    9.19,2,   10.31,2,    0.01,2,    0.65,3,   2.760,2,   1.666,2,   2.0482,2,  2092.6,2,  2260.4,2,   7.7972,2,    25.02,2, -999.00,9,  -999.0,9, -999.00,9, -999.00,9,       15.4,2, 20220620,       44,  30.0127,-156.0129,    12.3041,2,     -999.0,9,     -999.0,9,     -999.0,9,     -999.0,9,     0.0122,1,     4.6879,1,     -999.0,9,     -999.0,9,     -999.0,9,     -999.0,9,     -999.0,9
33RR20220613,       P02E,     127,          1,         28,         28,2,20220619,       2132,    30.0145,  -156.0119,       5967,   303.8,2,  11.4448,2,  34.2034,2,  34.2060,2,    213.6,2,   213.9,2,   12.03,2,   12.26,2,    0.00,2,    0.76,3,   2.840,2,   1.712,2,   2.0774,2,  -999.0,9,  -999.0,9,-999.0000,9,  -999.00,9, -999.00,9,  -999.0,9, -999.00,9, -999.00,9,       16.5,2, 20220620,       42,  30.0125,-156.0129,    11.4454,2,     -999.0,9,     -999.0,9,     -999.0,9,     -999.0,9,     0.0122,1,     4.6886,1,     -999.0,9,     -999.0,9,     -999.0,9,     -999.0,9,     -999.0,9
33RR20220613,       P02E,     127,          1,         27,         27,2,20220619,       2132,    30.0145,  -156.0119,       5967,   353.2,2,  10.5060,2,  34.1481,2,  34.1475,2,    211.0,2,   211.2,2,   16.04,2,   14.54,2,    0.00,2,    0.89,3,   2.936,2,   1.745,2,   1.8241,2,  2116.0,2,  -999.0,9,   7.7441,2,    25.00,2, -999.00,9,  -999.0,9, -999.00,9, -999.00,9,       18.1,2, 20220620,       39,  30.0123,-156.0131,    10.5004,2,     -999.0,9,     -999.0,9,     -999.0,9,     -999.0,9,     0.0122,1,     4.6898,1,     -999.0,9,     -999.0,9,     -999.0,9,     -999.0,9,     -999.0,9
33RR20220613,       P02E,     127,          1,         26,         26,2,20220619,       2132,    30.0145,  -156.0119,       5967,   404.0,2,   9.5145,2,  34.0797,2,  34.0784,2,    203.7,2,   204.0,2,   21.03,2,   17.31,2,    0.00,2,    1.06,3,   2.972,2,   1.754,2,   1.8069,2,  2130.4,2,  2263.6,2,   7.7063,2,    25.01,2, -999.00,9,  -999.0,9, -999.00,9, -999.00,9,       20.5,2, 20220620,       37,  30.0120,-156.0132,     9.5169,2,     -999.0,9,     -999.0,9,     -999.0,9,     -999.0,9,     0.0123,1,     4.6901,1,     -999.0,9,     -999.0,9,     -999.0,9,     -999.0,9,     -999.0,9
33RR20220613,       P02E,     127,          1,         25,         25,2,20220619,       2132,    30.0145,  -156.0119,       5967,   505.5,2,   7.5814,2,  34.0044,2,  34.0043,2,    161.0,2,   161.0,2,   38.93,2,   25.25,2,    0.00,2,    1.57,3,   2.760,2,   1.609,2,   1.1728,2,  2184.5,2,  2274.9,2,   7.5886,2,    25.01,2, -999.00,9,  -999.0,9, -999.00,9, -999.00,9,       25.8,2, 20220620,       32,  30.0116,-156.0134,     7.5845,2,     -999.0,9,     -999.0,9,     -999.0,9,     -999.0,9,     0.0134,1,     4.6920,1,     -999.0,9,     -999.0,9,     -999.0,9,     -999.0,9,     -999.0,9
33RR20220613,       P02E,     127,          1,         24,         24,2,20220619,       2132,    30.0145,  -156.0119,       5967,   606.3,2,   5.7330,2,  33.9947,2,  33.9931,2,    103.4,2,   104.0,2,   64.27,2,   33.89,2,    0.00,2,    2.21,3,   2.053,2,   1.136,2,   0.6146,2,  2249.9,2,  2292.3,2,   7.4457,2,    25.01,2, -999.00,9,  -999.0,9, -999.00,9, -999.00,9,       34.1,2, 20220620,       30,  30.0113,-156.0135,     5.7319,2,     -999.0,9,     -999.0,9,     -999.0,9,     -999.0,9,     0.0134,1,     4.6957,1,     -999.0,9,     -999.0,9,     -999.0,9,     -999.0,9,     -999.0,9
33RR20220613,       P02E,     127,          1,         23,         23,2,20220619,       2132,    30.0145,  -156.0119,       5967,   707.4,2,   4.7149,2,  34.0820,2,  34.0811,2,     52.7,3,    53.6,2,   87.54,2,   39.89,2,    0.00,2,    2.65,3,   1.107,2,   0.603,2,   0.3573,2,  -999.0,9,  -999.0,9,-999.0000,9,  -999.00,9, -999.00,9,  -999.0,9, -999.00,9, -999.00,9,       44.3,2, 20220620,       26,  30.0111,-156.0136,     4.7152,2,     -999.0,9,     -999.0,9,     -999.0,9,     -999.0,9,     0.0134,1,     4.6962,1,     -999.0,9,     -999.0,9,     -999.0,9,     -999.0,9,     -999.0,9
33RR20220613,       P02E,     127,          1,         22,         22,2,20220619,       2132,    30.0145,  -156.0119,       5967,   808.6,2,   4.2385,2,  34.1814,2,  34.1803,2,     25.2,3,    25.6,2,  103.77,2,   42.77,2,    0.00,2,    2.90,3,   0.401,2,   0.223,2,   0.1610,2,  2336.5,2,  2333.5,2,   7.3046,2,    25.01,2, -999.00,9,  -999.0,9, -999.00,9, -999.00,9,       50.6,2, 20220620,       23,  30.0110,-156.0138,     4.2380,2,     -999.0,9,     -999.0,9,     -999.0,9,     -999.0,9,     0.0134,1,     4.6966,1,     -999.0,9,     -999.0,9,     -999.0,9,     -999.0,9,     -999.0,9
33RR20220613,       P02E,     127,          1,         21,         21,2,20220619,       2132,    30.0145,  -156.0119,       5967,   909.4,2,   3.8909,2,  34.3009,2,  34.2989,2,     12.1,3,    11.9,2,  116.87,2,   44.06,2,    0.00,2,    3.06,3,   0.068,2,   0.045,2,   0.0000,2,  2359.7,2,  -999.0,9,   7.2948,2,    25.02,2, -999.00,9,  -999.0,9, -999.00,9, -999.00,9,       57.7,2, 20220620,       19,  30.0108,-156.0139,     3.8898,2,     -999.0,9,     -999.0,9,     -999.0,9,     -999.0,9,     0.0134,1,     4.6960,1,     -999.0,9,     -999.0,9,     -999.0,9,     -999.0,9,     -999.0,9
33RR20220613,       P02E,     127,          1,         20,         20,2,20220619,       2132,    30.0145,  -156.0119,       5967,  1010.3,2,   3.6103,2,  34.3721,2,  34.3690,2,     13.4,3,    12.7,2,  126.06,2,   44.21,2,    0.00,2,    3.12,3,   0.019,2,   0.018,2,   0.0000,2,  2369.5,2,  2365.8,2,   7.3044,2,    25.01,2, -999.00,9,  -999.0,9, -999.00,9, -999.00,9,       59.5,2, 20220620,       16,  30.0106,-156.0140,     3.6098,2,     -999.0,9,     -999.0,9,     -999.0,9,     -999.0,9,     0.0134,1,     4.6958,1,     -999.0,9,     -999.0,9,     -999.0,9,     -999.0,9,     -999.0,9
33RR20220613,       P02E,     127,          1,         19,         39,2,20220619,       2132,    30.0145,  -156.0119,       5967,  1111.6,2,   3.3877,2,  34.4361,2,  34.4324,2,     23.2,3,    21.9,2,  131.53,2,   43.92,2,    0.00,2,    3.13,3,   0.015,2,   0.012,2,   0.0000,2,  2370.1,2,  2376.1,2,   7.3327,2,    25.02,2, -999.00,9,  -999.0,9, -999.00,9, -999.00,9,       54.7,2, 20220620,       13,  30.0103,-156.0142,     3.3871,2,     -999.0,9,     -999.0,9,     -999.0,9,     -999.0,9,     0.0134,1,     4.6960,1,     -999.0,9,     -999.0,9,     -999.0,9,     -999.0,9,     -999.0,9
33RR20220613,       P02E,     127,          1,         18,         18,2,20220619,       2132,    30.0145,  -156.0119,       5967,  1212.7,2,   3.1948,2,  34.4813,2,  34.4791,2,     36.7,2,    36.8,2,  134.16,2,   43.07,2,    0.00,2,    3.10,3,   0.010,2,   0.008,2,   0.0000,2,  2364.6,2,  -999.0,9,   7.3629,2,    25.02,2, -999.00,9,  -999.0,9, -999.00,9, -999.00,9,       47.3,2, 20220620,        9,  30.0101,-156.0143,     3.1942,2,     -999.0,9,     -999.0,9,     -999.0,9,     -999.0,9,     0.0134,1,     4.6971,1,     -999.0,9,     -999.0,9,     -999.0,9,     -999.0,9,     -999.0,9
33RR20220613,       P02E,     127,          1,         17,         37,2,20220619,       2132,    30.0145,  -156.0119,       5967,  1313.4,2,   3.0172,2,  34.5091,2,  34.5070,2,     44.1,2,    43.8,2,  137.88,2,   42.71,2,    0.00,2,    3.09,3,   0.008,2,   0.007,2,   0.0000,2,  2366.0,2,  2389.5,2,   7.3797,2,    25.00,2, -999.00,9,  -999.0,9, -999.00,9, -999.00,9,       45.5,2, 20220620,        5,  30.0098,-156.0145,     3.0169,2,     -999.0,9,     -999.0,9,     -999.0,9,     -999.0,9,     0.0134,1,     4.6980,1,     -999.0,9,     -999.0,9,     -999.0,9,     -999.0,9,     -999.0,9
33RR20220613,       P02E,     127,          1,         16,         16,2,20220619,       2132,    30.0145,  -156.0119,       5967,  1417.1,2,   2.8016,2,  34.5342,2,  34.5323,2,     50.8,2,    50.6,2,  143.06,2,   42.47,2,    0.00,2,    3.09,3,   0.004,2,   0.005,2,   0.0000,2,  -999.0,9,  -999.0,9,-999.0000,9,  -999.00,9, -999.00,9,  -999.0,9, -999.00,9, -999.00,9,       41.2,2, 20220620,        1,  30.0096,-156.0147,     2.8014,2,     -999.0,9,     -999.0,9,     -999.0,9,     -999.0,9,     0.0134,1,     4.6986,1,     -999.0,9,     -999.0,9,     -999.0,9,     -999.0,9,     -999.0,9
33RR20220613,       P02E,     127,          1,         15,         15,2,20220619,       2132,    30.0145,  -156.0119,       5967,  1619.9,2,   2.4983,2,  34.5695,2,  34.5682,2,     65.7,2,    66.0,2,  148.92,2,   41.56,2,    0.00,2,    3.04,4,   0.004,6,   0.002,6,   0.0000,6,  2365.6,2,  2404.6,2,   7.4218,2,    25.02,2, -999.00,9,  -999.0,9, -999.00,9, -999.00,9,       37.7,6, 20220619,     2355,  30.0092,-156.0149,     2.4981,2,     -999.0,9,     -999.0,9,     -999.0,9,     -999.0,9,     0.0134,1,     4.6994,1,     -999.0,9,     -999.0,9,     -999.0,9,     -999.0,9,     -999.0,9
33RR20220613,       P02E,     127,          1,         14,         14,2,20220619,       2132,    30.0145,  -156.0119,       5967,  1821.8,2,   2.2119,2,  34.5946,2,  34.5924,2,     75.0,2,    75.0,2,  156.15,2,   41.10,2,    0.00,2,    3.06,4,   0.006,2,   0.004,2,   0.0000,2,  -999.0,9,  -999.0,9,-999.0000,9,  -999.00,9, -999.00,9,  -999.0,9, -999.00,9, -999.00,9,       34.6,2, 20220619,     2347,  30.0086,-156.0153,     2.2119,2,     -999.0,9,     -999.0,9,     -999.0,9,     -999.0,9,     0.0134,1,     4.7000,1,     -999.0,9,     -999.0,9,     -999.0,9,     -999.0,9,     -999.0,9
33RR20220613,       P02E,     127,          1,         13,         13,2,20220619,       2132,    30.0145,  -156.0119,       5967,  2018.9,2,   2.0056,2,  34.6146,2,  34.6136,2,     84.9,2,    84.9,2,  160.55,2,   40.48,2,    0.00,2,    3.04,4,   0.004,2,   0.000,2,   0.0000,2,  2365.3,2,  2417.7,2,   7.4582,2,    25.02,2, -999.00,9,  -999.0,9, -999.00,9, -999.00,9,       32.7,2, 20220619,     2344,  30.0080,-156.0155,     2.0056,2,     -999.0,9,     -999.0,9,     -999.0,9,     -999.0,9,     0.0134,1,     4.7007,1,     -999.0,9,     -999.0,9,     -999.0,9,     -999.0,9,     -999.0,9
33RR20220613,       P02E,     127,          1,         12,         12,2,20220619,       2132,    30.0145,  -156.0119,       5967,  2275.5,2,   1.8435,2,  34.6316,2,  34.6321,2,     94.1,2,    93.9,2,  164.26,2,   39.82,2,    0.00,2,    3.02,4,   0.003,2,   0.002,2,   0.0000,2,  -999.0,9,  -999.0,9,-999.0000,9,  -999.00,9, -999.00,9,  -999.0,9, -999.00,9, -999.00,9,       29.4,2, 20220619,     2338,  30.0072,-156.0158,     1.8434,2,     -999.0,9,     -999.0,9,     -999.0,9,     -999.0,9,     0.0134,1,     4.7009,1,     -999.0,9,     -999.0,9,     -999.0,9,     -999.0,9,     -999.0,9
33RR20220613,       P02E,     127,          1,         11,         11,2,20220619,       2132,    30.0145,  -156.0119,       5967,  2531.6,2,   1.7199,2,  34.6454,2,  34.6445,2,    104.0,2,   103.9,2,  164.65,2,   39.26,2,    0.00,2,    3.00,4,   0.003,2,   0.000,2,   0.0000,2,  2356.7,2,  -999.0,9,   7.4942,2,    25.02,2, -999.00,9,  -999.0,9, -999.00,9, -999.00,9,       29.1,2, 20220619,     2331,  30.0065,-156.0161,     1.7193,2,     -999.0,9,     -999.0,9,     -999.0,9,     -999.0,9,     0.0122,1,     4.7012,1,     -999.0,9,     -999.0,9,     -999.0,9,     -999.0,9,     -999.0,9
33RR20220613,       P02E,     127,          1,         10,         10,2,20220619,       2132,    30.0145,  -156.0119,       5967,  2784.3,2,   1.6331,2,  34.6551,2,  34.6533,2,    112.7,2,   112.7,2,  165.24,2,   38.63,2,    0.00,2,    2.95,4,   0.004,2,   0.000,2,   0.0000,2,  -999.0,9,  -999.0,9,-999.0000,9,  -999.00,9, -999.00,9,  -999.0,9, -999.00,9, -999.00,9,       30.9,2, 20220619,     2327,  30.0061,-156.0162,     1.6330,2,     -999.0,9,     -999.0,9,     -999.0,9,     -999.0,9,     0.0126,1,     4.7016,1,     -999.0,9,     -999.0,9,     -999.0,9,     -999.0,9,     -999.0,9
33RR20220613,       P02E,     127,          1,          9,          9,2,20220619,       2132,    30.0145,  -156.0119,       5967,  3037.1,2,   1.5705,2,  34.6633,2,  34.6631,2,    121.3,2,   121.7,2,  164.06,2,   38.07,2,    0.00,2,    2.89,4,   0.003,2,   0.000,2,   0.0000,2,  2347.8,2,  2425.7,2,   7.5243,2,    25.04,2, -999.00,9,  -999.0,9, -999.00,9, -999.00,9,       27.0,2, 20220619,     2321,  30.0056,-156.0165,     1.5705,2,     -999.0,9,     -999.0,9,     -999.0,9,     -999.0,9,     0.0122,1,     4.7019,1,     -999.0,9,     -999.0,9,     -999.0,9,     -999.0,9,     -999.0,9
33RR20220613,       P02E,     127,          1,          8,          8,2,20220619,       2132,    30.0145,  -156.0119,       5967,  3346.6,2,   1.5188,2,  34.6712,2,  34.6702,2,    130.6,2,   130.9,2,  161.81,2,   37.43,2,    0.00,2,    2.85,4,   0.005,2,   0.005,2,   0.0000,2,  -999.0,9,  -999.0,9,-999.0000,9,  -999.00,9, -999.00,9,  -999.0,9, -999.00,9, -999.00,9,       26.5,2, 20220619,     2314,  30.0049,-156.0166,     1.5186,2,     -999.0,9,     -999.0,9,     -999.0,9,     -999.0,9,     0.0130,1,     4.7022,1,     -999.0,9,     -999.0,9,     -999.0,9,     -999.0,9,     -999.0,9
33RR20220613,       P02E,     127,          1,          7,          7,2,20220619,       2132,    30.0145,  -156.0119,       5967,  3654.8,2,   1.4877,2,  34.6774,2,  34.6771,2,    138.5,2,   138.5,2,  159.56,2,   36.95,2,    0.00,2,    2.83,4,   0.003,2,   0.003,2,   0.0000,2,  2337.4,2,  2426.3,2,   7.5557,2,    25.03,2, -999.00,9,  -999.0,9, -999.00,9, -999.00,9,       23.7,2, 20220619,     2308,  30.0043,-156.0167,     1.4873,2,     -999.0,9,     -999.0,9,     -999.0,9,     -999.0,9,     0.0122,1,     4.7019,1,     -999.0,9,     -999.0,9,     -999.0,9,     -999.0,9,     -999.0,9
33RR20220613,       P02E,     127,          1,          6,          6,2,20220619,       2132,    30.0145,  -156.0119,       5967,  4064.3,2,   1.4844,2,  34.6823,2,  34.6812,2,    144.9,2,   145.1,2,  157.22,2,   36.53,2,    0.00,2,    2.78,4,   0.003,2,   0.003,2,   0.0000,2,  -999.0,9,  -999.0,9,-999.0000,9,  -999.00,9, -999.00,9,  -999.0,9, -999.00,9, -999.00,9,       23.2,2, 20220619,     2259,  30.0037,-156.0170,     1.4845,2,     -999.0,9,     -999.0,9,     -999.0,9,     -999.0,9,     0.0122,1,     4.7019,1,     -999.0,9,     -999.0,9,     -999.0,9,     -999.0,9,     -999.0,9
33RR20220613,       P02E,     127,          1,          5,          5,2,20220619,       2132,    30.0145,  -156.0119,       5967,  4475.7,2,   1.4965,2,  34.6860,2,  34.6851,2,    150.2,2,   150.5,2,  154.87,2,   36.17,2,    0.00,2,    2.75,4,   0.003,2,   0.003,2,   0.0000,2,  2327.8,2,  2419.4,2,   7.5757,2,    25.03,2, -999.00,9,  -999.0,9, -999.00,9, -999.00,9,       23.9,2, 20220619,     2251,  30.0031,-156.0171,     1.4965,2,     -999.0,9,     -999.0,9,     -999.0,9,     -999.0,9,     0.0122,1,     4.7024,1,     -999.0,9,     -999.0,9,     -999.0,9,     -999.0,9,     -999.0,9