BOTTLE,20230830CCHSIOCBG
EXPOCODE,SECT_ID,STNNBR,CASTNO,SAMPNO,BTLNBR,BTLNBR_FLAG_W,DATE,TIME,LATITUDE,LONGITUDE,DEPTH,CTDPRS,CTDPRS_FLAG_W,CTDTMP,CTDTMP_FLAG_W,CTDSAL,CTDSAL_FLAG_W,SALNTY,SALNTY_FLAG_W,CTDOXY,CTDOXY_FLAG_W,OXYGEN,OXYGEN_FLAG_W,SILCAT,SILCAT_FLAG_W,NITRAT,NITRAT_FLAG_W,NITRIT,NITRIT_FLAG_W,PHSPHT,PHSPHT_FLAG_W,CFC-11,CFC-11_FLAG_W,CFC-12,CFC-12_FLAG_W,SF6,SF6_FLAG_W,TCARBN,TCARBN_FLAG_W,ALKALI,ALKALI_FLAG_W,PH_TOT,PH_TOT_FLAG_W,PH_TMP,PH_TMP_FLAG_W,DELC13,DELC13_FLAG_W,DELC14,DELC14_FLAG_W,DOC,DOC_FLAG_W,TDN,TDN_FLAG_W,N2O,N2O_FLAG_W,BTL_DATE,BTL_TIME,BTL_LAT,BTL_LON,REFTMP,REFTMP_FLAG_W,POC,POC_FLAG_W,PON,PON_FLAG_W,POP,POP_FLAG_W,PCOD,PCOD_FLAG_W,CTDFLUOR,CTDFLUOR_FLAG_W,CTDXMISS,CTDXMISS_FLAG_W,HPLC,HPLC_FLAG_W,DNA,DNA_FLAG_W,FCM,FCM_FLAG_W,IMAGES,IMAGES_FLAG_W,VIRAL_ABUNDANCE,VIRAL_ABUNDANCE_FLAG_W
,,,,,,,,,,,METERS,DBAR,,ITS-90,,PSS-78,,PSS-78,,UMOL/KG,,UMOL/KG,,UMOL/KG,,UMOL/KG,,UMOL/KG,,UMOL/KG,,PMOL/KG,,PMOL/KG,,FMOL/KG,,UMOL/KG,,UMOL/KG,,,,DEG C,,/MILLE,,/MILLE,,UMOL/KG,,UMOL/KG,,NMOL/KG,,,,,,ITS-90,,UG/L,,UG/L,,UG/L,,UG/L,,VOLTS,,VOLTS,,,,,,,,,,,
33RR20220613,       P02E,     123,          1,          4,          4,2,20220618,       1305,    29.9999,  -158.3276,       5742,  4681.9,2,   1.5089,2,  34.6870,2,  34.6871,2,    153.0,2,   153.3,2,  153.07,2,   36.21,2,    0.00,2,    2.81,4,   0.006,2,   0.005,2,   0.0000,2,  -999.0,9,  -999.0,9,-999.0000,9,  -999.00,9, -999.00,9,  -999.0,9, -999.00,9, -999.00,9,       23.9,2, 20220618,     1338,  29.9999,-158.3277,     1.5090,2,     -999.0,9,     -999.0,9,     -999.0,9,     -999.0,9,     0.0122,1,     4.7034,1,     -999.0,9,     -999.0,9,     -999.0,9,     -999.0,9,     -999.0,9
33RR20220613,       P02E,     123,          1,          3,          3,2,20220618,       1305,    29.9999,  -158.3276,       5742,  5093.9,2,   1.5392,2,  34.6891,2,  34.6881,2,    157.0,2,   156.9,2,  148.38,2,   36.05,2,    0.00,2,    2.74,4,   0.007,2,   0.006,2,   0.0000,2,  2323.9,2,  2417.9,2,   7.5855,2,    25.00,2, -999.00,9,  -999.0,9, -999.00,9, -999.00,9,       24.0,2, 20220618,     1330,  30.0000,-158.3277,     1.5393,2,     -999.0,9,     -999.0,9,     -999.0,9,     -999.0,9,     0.0127,1,     4.7043,1,     -999.0,9,     -999.0,9,     -999.0,9,     -999.0,9,     -999.0,9
33RR20220613,       P02E,     123,          1,          2,          2,2,20220618,       1305,    29.9999,  -158.3276,       5742,  5507.3,2,   1.5835,2,  34.6899,2,  34.6901,2,    159.0,2,   159.6,2,  147.60,2,   35.73,2,    0.00,2,    2.69,4,   0.007,2,   0.006,2,   0.0000,2,  2321.6,2,  2414.7,2,   7.5868,2,    25.00,2, -999.00,9,  -999.0,9, -999.00,9, -999.00,9,       24.5,2, 20220618,     1317,  30.0000,-158.3277,     1.5837,2,     -999.0,9,     -999.0,9,     -999.0,9,     -999.0,9,     0.0122,1,     4.7032,1,     -999.0,9,     -999.0,9,     -999.0,9,     -999.0,9,     -999.0,9
33RR20220613,       P02E,     123,          1,          1,          1,2,20220618,       1305,    29.9999,  -158.3276,       5742,  5849.1,2,   1.6274,2,  34.6902,3,  34.6954,2,    159.6,2,   159.2,2,  147.21,2,   36.17,2,    0.00,2,    2.77,4,   0.007,2,   0.005,2,   0.0000,2,  2322.4,6,  2414.0,2,   7.5878,2,    24.99,2, -999.00,9,  -999.0,9, -999.00,9, -999.00,9,       24.5,2, 20220618,     1305,  30.0000,-158.3277,     1.6276,2,     -999.0,9,     -999.0,9,     -999.0,9,     -999.0,9,     0.0131,1,     4.7021,1,     -999.0,9,     -999.0,9,     -999.0,9,     -999.0,9,     -999.0,9