BOTTLE,20230830CCHSIOCBG
EXPOCODE,SECT_ID,STNNBR,CASTNO,SAMPNO,BTLNBR,BTLNBR_FLAG_W,DATE,TIME,LATITUDE,LONGITUDE,DEPTH,CTDPRS,CTDPRS_FLAG_W,CTDTMP,CTDTMP_FLAG_W,CTDSAL,CTDSAL_FLAG_W,SALNTY,SALNTY_FLAG_W,CTDOXY,CTDOXY_FLAG_W,OXYGEN,OXYGEN_FLAG_W,SILCAT,SILCAT_FLAG_W,NITRAT,NITRAT_FLAG_W,NITRIT,NITRIT_FLAG_W,PHSPHT,PHSPHT_FLAG_W,CFC-11,CFC-11_FLAG_W,CFC-12,CFC-12_FLAG_W,SF6,SF6_FLAG_W,TCARBN,TCARBN_FLAG_W,ALKALI,ALKALI_FLAG_W,PH_TOT,PH_TOT_FLAG_W,PH_TMP,PH_TMP_FLAG_W,DELC13,DELC13_FLAG_W,DELC14,DELC14_FLAG_W,DOC,DOC_FLAG_W,TDN,TDN_FLAG_W,N2O,N2O_FLAG_W,BTL_DATE,BTL_TIME,BTL_LAT,BTL_LON,REFTMP,REFTMP_FLAG_W,POC,POC_FLAG_W,PON,PON_FLAG_W,POP,POP_FLAG_W,PCOD,PCOD_FLAG_W,CTDFLUOR,CTDFLUOR_FLAG_W,CTDXMISS,CTDXMISS_FLAG_W,HPLC,HPLC_FLAG_W,DNA,DNA_FLAG_W,FCM,FCM_FLAG_W,IMAGES,IMAGES_FLAG_W,VIRAL_ABUNDANCE,VIRAL_ABUNDANCE_FLAG_W
,,,,,,,,,,,METERS,DBAR,,ITS-90,,PSS-78,,PSS-78,,UMOL/KG,,UMOL/KG,,UMOL/KG,,UMOL/KG,,UMOL/KG,,UMOL/KG,,PMOL/KG,,PMOL/KG,,FMOL/KG,,UMOL/KG,,UMOL/KG,,,,DEG C,,/MILLE,,/MILLE,,UMOL/KG,,UMOL/KG,,NMOL/KG,,,,,,ITS-90,,UG/L,,UG/L,,UG/L,,UG/L,,VOLTS,,VOLTS,,,,,,,,,,,
33RR20220613,       P02E,     159,          1,          4,          4,2,20220629,       2214,    30.0000,  -137.5405,       4475,  4015.0,2,   1.4992,2,  34.6843,3,  34.6793,2,    140.7,2,   140.7,2,  161.74,2,   36.95,2,    0.00,2,    2.54,2,   0.005,2,   0.006,2,   0.0000,2,  -999.0,9,  -999.0,9,-999.0000,9,  -999.00,9, -999.00,9,  -999.0,9, -999.00,9, -999.00,9,       22.7,2, 20220629,     2225,  30.0000,-137.5405,     1.4992,2,     -999.0,9,     -999.0,9,     -999.0,9,     -999.0,9,     0.0122,1,     4.7006,1,     -999.0,9,     -999.0,9,     -999.0,9,     -999.0,9,     -999.0,9
33RR20220613,       P02E,     159,          1,          3,          3,2,20220629,       2214,    30.0000,  -137.5405,       4475,  4168.8,2,   1.5091,2,  34.6853,3,  34.6826,2,    141.9,2,   142.0,2,  160.47,2,   36.95,2,    0.00,2,    2.52,2,   0.008,2,   0.010,2,   0.0000,2,  2338.6,2,  2429.8,2,   7.5660,2,    25.02,2, -999.00,9,  -999.0,9, -999.00,9, -999.00,9,       22.8,2, 20220629,     2223,  30.0000,-137.5405,     1.5090,2,     -999.0,9,     -999.0,9,     -999.0,9,     -999.0,9,     0.0122,1,     4.6996,1,     -999.0,9,     -999.0,9,     -999.0,9,     -999.0,9,     -999.0,9
33RR20220613,       P02E,     159,          1,          2,          2,2,20220629,       2214,    30.0000,  -137.5405,       4475,  4400.1,2,   1.5339,2,  34.6857,3,  34.6828,2,    142.3,2,   142.5,2,  161.54,2,   36.89,2,    0.00,2,    2.53,2,   0.005,2,   0.007,2,   0.0000,2,  2338.1,6,  2429.8,2,   7.5653,2,    25.03,2, -999.00,9,  -999.0,9, -999.00,9, -999.00,9,       23.2,2, 20220629,     2217,  30.0000,-137.5405,     1.5339,2,     -999.0,9,     -999.0,9,     -999.0,9,     -999.0,9,     0.0122,1,     4.6995,1,     -999.0,9,     -999.0,9,     -999.0,9,     -999.0,9,     -999.0,9
33RR20220613,       P02E,     159,          1,          1,          1,2,20220629,       2214,    30.0000,  -137.5405,       4475,  4542.7,2,   1.5510,2,  34.6857,3,  34.6824,2,    142.5,2,   142.5,2,  161.64,2,   36.97,2,    0.00,2,    2.52,2,   0.008,2,   0.007,2,   0.0000,2,  2338.9,2,  2429.5,6,   7.5672,2,    25.02,2, -999.00,9,  -999.0,9, -999.00,9, -999.00,9,       23.0,2, 20220629,     2214,  30.0000,-137.5405,     1.5510,2,     -999.0,9,     -999.0,9,     -999.0,9,     -999.0,9,     0.0121,1,     4.6995,1,     -999.0,9,     -999.0,9,     -999.0,9,     -999.0,9,     -999.0,9