BOTTLE,20230830CCHSIOCBG
EXPOCODE,SECT_ID,STNNBR,CASTNO,SAMPNO,BTLNBR,BTLNBR_FLAG_W,DATE,TIME,LATITUDE,LONGITUDE,DEPTH,CTDPRS,CTDPRS_FLAG_W,CTDTMP,CTDTMP_FLAG_W,CTDSAL,CTDSAL_FLAG_W,SALNTY,SALNTY_FLAG_W,CTDOXY,CTDOXY_FLAG_W,OXYGEN,OXYGEN_FLAG_W,SILCAT,SILCAT_FLAG_W,NITRAT,NITRAT_FLAG_W,NITRIT,NITRIT_FLAG_W,PHSPHT,PHSPHT_FLAG_W,CFC-11,CFC-11_FLAG_W,CFC-12,CFC-12_FLAG_W,SF6,SF6_FLAG_W,TCARBN,TCARBN_FLAG_W,ALKALI,ALKALI_FLAG_W,PH_TOT,PH_TOT_FLAG_W,PH_TMP,PH_TMP_FLAG_W,DELC13,DELC13_FLAG_W,DELC14,DELC14_FLAG_W,DOC,DOC_FLAG_W,TDN,TDN_FLAG_W,N2O,N2O_FLAG_W,BTL_DATE,BTL_TIME,BTL_LAT,BTL_LON,REFTMP,REFTMP_FLAG_W,POC,POC_FLAG_W,PON,PON_FLAG_W,POP,POP_FLAG_W,PCOD,PCOD_FLAG_W,CTDFLUOR,CTDFLUOR_FLAG_W,CTDXMISS,CTDXMISS_FLAG_W,HPLC,HPLC_FLAG_W,DNA,DNA_FLAG_W,FCM,FCM_FLAG_W,IMAGES,IMAGES_FLAG_W,VIRAL_ABUNDANCE,VIRAL_ABUNDANCE_FLAG_W
,,,,,,,,,,,METERS,DBAR,,ITS-90,,PSS-78,,PSS-78,,UMOL/KG,,UMOL/KG,,UMOL/KG,,UMOL/KG,,UMOL/KG,,UMOL/KG,,PMOL/KG,,PMOL/KG,,FMOL/KG,,UMOL/KG,,UMOL/KG,,,,DEG C,,/MILLE,,/MILLE,,UMOL/KG,,UMOL/KG,,NMOL/KG,,,,,,ITS-90,,UG/L,,UG/L,,UG/L,,UG/L,,VOLTS,,VOLTS,,,,,,,,,,,
33RR20220613,       P02E,     183,          2,          4,          4,2,20220706,       1907,    29.9981,  -123.6842,       4456,  3758.3,2,   1.5191,2,  34.6781,2,  34.6777,2,    132.2,2,   132.3,2,  168.06,2,   37.18,2,    0.00,2,    2.56,2,   0.007,6,   0.009,6,   0.0000,6,  -999.0,9,  -999.0,9,-999.0000,9,  -999.00,9, -999.00,9,  -999.0,9, -999.00,9, -999.00,9,       25.1,6, 20220706,     1923,  29.9981,-123.6842,     1.5191,2,     -999.0,9,     -999.0,9,     -999.0,9,     -999.0,9,     0.0131,1,     4.6958,1,     -999.0,9,     -999.0,9,     -999.0,9,     -999.0,9,     -999.0,9
33RR20220613,       P02E,     183,          2,          3,          3,2,20220706,       1907,    29.9981,  -123.6842,       4456,  4066.4,2,   1.5231,2,  34.6810,2,  34.6808,2,    136.4,2,   136.6,2,  166.10,2,   36.84,2,    0.00,2,    2.54,2,   0.007,2,   0.010,2,   0.0000,2,  2345.3,2,  2431.6,2,   7.5588,2,    24.99,2, -999.00,9,  -999.0,9, -999.00,9, -999.00,9,       25.8,2, 20220706,     1917,  29.9981,-123.6842,     1.5232,2,     -999.0,9,     -999.0,9,     -999.0,9,     -999.0,9,     0.0130,1,     4.6959,1,     -999.0,9,     -999.0,9,     -999.0,9,     -999.0,9,     -999.0,9
33RR20220613,       P02E,     183,          2,          2,          2,2,20220706,       1907,    29.9981,  -123.6842,       4456,  4291.4,2,   1.5398,2,  34.6819,2,  34.6816,2,    137.4,2,   137.5,2,  166.01,2,   36.81,2,    0.00,2,    2.54,2,   0.010,2,   0.013,2,   0.0000,2,  -999.0,9,  -999.0,9,-999.0000,9,  -999.00,9, -999.00,9,  -999.0,9, -999.00,9, -999.00,9,       24.2,2, 20220706,     1912,  29.9981,-123.6842,     1.5400,2,     -999.0,9,     -999.0,9,     -999.0,9,     -999.0,9,     0.0129,1,     4.6952,1,     -999.0,9,     -999.0,9,     -999.0,9,     -999.0,9,     -999.0,9
33RR20220613,       P02E,     183,          2,          1,          1,2,20220706,       1907,    29.9981,  -123.6842,       4456,  4518.3,2,   1.5627,2,  34.6820,2,  34.6832,2,    137.9,2,   137.6,2,  166.01,2,   36.80,2,    0.00,2,    2.54,2,   0.009,2,   0.010,2,   0.0000,2,  2343.7,6,  2430.6,2,   7.5620,2,    25.00,2, -999.00,9,  -999.0,9, -999.00,9, -999.00,9,       25.2,2, 20220706,     1907,  29.9981,-123.6842,     1.5626,2,     -999.0,9,     -999.0,9,     -999.0,9,     -999.0,9,     0.0122,1,     4.6937,1,     -999.0,9,     -999.0,9,     -999.0,9,     -999.0,9,     -999.0,9