BOTTLE,20230830CCHSIOCBG
EXPOCODE,SECT_ID,STNNBR,CASTNO,SAMPNO,BTLNBR,BTLNBR_FLAG_W,DATE,TIME,LATITUDE,LONGITUDE,DEPTH,CTDPRS,CTDPRS_FLAG_W,CTDTMP,CTDTMP_FLAG_W,CTDSAL,CTDSAL_FLAG_W,SALNTY,SALNTY_FLAG_W,CTDOXY,CTDOXY_FLAG_W,OXYGEN,OXYGEN_FLAG_W,SILCAT,SILCAT_FLAG_W,NITRAT,NITRAT_FLAG_W,NITRIT,NITRIT_FLAG_W,PHSPHT,PHSPHT_FLAG_W,CFC-11,CFC-11_FLAG_W,CFC-12,CFC-12_FLAG_W,SF6,SF6_FLAG_W,TCARBN,TCARBN_FLAG_W,ALKALI,ALKALI_FLAG_W,PH_TOT,PH_TOT_FLAG_W,PH_TMP,PH_TMP_FLAG_W,DELC13,DELC13_FLAG_W,DELC14,DELC14_FLAG_W,DOC,DOC_FLAG_W,TDN,TDN_FLAG_W,N2O,N2O_FLAG_W,BTL_DATE,BTL_TIME,BTL_LAT,BTL_LON,REFTMP,REFTMP_FLAG_W,POC,POC_FLAG_W,PON,PON_FLAG_W,POP,POP_FLAG_W,PCOD,PCOD_FLAG_W,CTDFLUOR,CTDFLUOR_FLAG_W,CTDXMISS,CTDXMISS_FLAG_W,HPLC,HPLC_FLAG_W,DNA,DNA_FLAG_W,FCM,FCM_FLAG_W,IMAGES,IMAGES_FLAG_W,VIRAL_ABUNDANCE,VIRAL_ABUNDANCE_FLAG_W
,,,,,,,,,,,METERS,DBAR,,ITS-90,,PSS-78,,PSS-78,,UMOL/KG,,UMOL/KG,,UMOL/KG,,UMOL/KG,,UMOL/KG,,UMOL/KG,,PMOL/KG,,PMOL/KG,,FMOL/KG,,UMOL/KG,,UMOL/KG,,,,DEG C,,/MILLE,,/MILLE,,UMOL/KG,,UMOL/KG,,NMOL/KG,,,,,,ITS-90,,UG/L,,UG/L,,UG/L,,UG/L,,VOLTS,,VOLTS,,,,,,,,,,,
33RR20220613,       P02E,     130,          1,         36,         36,2,20220620,       2219,    30.0012,  -154.2849,       5634,     3.9,2,  24.7512,2,  35.3062,2,  35.3047,2,    212.6,2,   212.1,2,    0.59,2,    0.04,2,    0.00,2,    0.00,4,   1.587,2,   0.942,2,   1.4348,2,  2034.0,6,  2321.2,2,   8.0149,2,    24.99,2, -999.00,9,  -999.0,9, -999.00,1, -999.00,1,        6.8,2, 20220621,       44,  30.0012,-154.2849,    24.7515,2,     -999.0,9,     -999.0,9,     -999.0,9,     -999.0,9,     0.0135,1,     4.6387,1,     -999.0,9,     -999.0,9,     -999.0,9,     -999.0,9,     -999.0,9
33RR20220613,       P02E,     130,          1,         35,         35,2,20220620,       2219,    30.0012,  -154.2849,       5634,    26.0,2,  24.5702,2,  35.3056,2,  35.3049,2,    212.1,2,   212.7,2,    0.78,2,    0.03,2,    0.00,2,    0.00,4,   1.653,2,   1.037,2,   1.6757,2,  2033.7,2,  2323.8,2,   8.0142,2,    25.00,2, -999.00,9,  -999.0,9, -999.00,1, -999.00,1,        6.9,2, 20220621,       40,  30.0013,-154.2849,    24.5688,2,     -999.0,9,     -999.0,9,     -999.0,9,     -999.0,9,     0.0125,1,     4.6397,1,     -999.0,9,     -999.0,9,     -999.0,9,     -999.0,9,     -999.0,9
33RR20220613,       P02E,     130,          1,         34,         34,2,20220620,       2219,    30.0012,  -154.2849,       5634,    51.8,2,  22.3291,2,  35.2626,2,  35.2676,2,    230.7,2,   230.1,2,    0.78,2,    0.01,2,    0.00,2,    0.00,4,   1.803,2,   1.127,2,   1.7630,2,  2032.0,2,  2318.8,6,   8.0143,2,    24.98,2, -999.00,9,  -999.0,9, -999.00,1, -999.00,1,        7.3,2, 20220621,       39,  30.0013,-154.2849,    22.2123,3,     -999.0,9,     -999.0,9,     -999.0,9,     -999.0,9,     0.0143,1,     4.6290,1,     -999.0,9,     -999.0,9,     -999.0,9,     -999.0,9,     -999.0,9
33RR20220613,       P02E,     130,          1,         33,         33,2,20220620,       2219,    30.0012,  -154.2849,       5634,    76.2,2,  20.5911,2,  35.1096,2,  35.0994,2,    232.5,2,   232.4,2,    1.07,2,    0.00,2,    0.00,2,    0.00,4,-999.000,9,-999.000,9,-999.0000,9,  2031.5,2,  -999.0,9,   7.9967,2,    25.00,2, -999.00,9,  -999.0,9, -999.00,1, -999.00,1,     -999.0,9, 20220621,       37,  30.0013,-154.2849,    20.5889,2,     -999.0,9,     -999.0,9,     -999.0,9,     -999.0,9,     0.0159,1,     4.6343,1,     -999.0,9,     -999.0,9,     -999.0,9,     -999.0,9,     -999.0,9
33RR20220613,       P02E,     130,          1,         32,         32,2,20220620,       2219,    30.0012,  -154.2849,       5634,   101.2,2,  19.4091,2,  34.9609,2,  34.9563,2,    230.8,2,   230.7,2,    1.47,2,    0.00,2,    0.00,2,    0.00,4,   2.081,2,   1.259,2,   1.9289,2,  2035.8,2,  -999.0,9,   7.9782,2,    24.99,2, -999.00,9,  -999.0,9, -999.00,1, -999.00,1,        8.3,2, 20220621,       35,  30.0013,-154.2849,    19.4078,2,     -999.0,9,     -999.0,9,     -999.0,9,     -999.0,9,     0.0205,1,     4.6447,1,     -999.0,9,     -999.0,9,     -999.0,9,     -999.0,9,     -999.0,9
33RR20220613,       P02E,     130,          1,         31,         31,2,20220620,       2219,    30.0012,  -154.2849,       5634,   151.6,2,  16.3551,2,  34.5675,3,  34.5386,2,    211.8,2,   212.7,2,    3.42,2,    2.70,2,    0.04,2,    0.20,4,-999.000,9,-999.000,9,-999.0000,9,  2061.6,2,  2272.4,2,   7.8850,2,    24.99,2, -999.00,9,  -999.0,9, -999.00,1, -999.00,1,     -999.0,9, 20220621,       32,  30.0012,-154.2849,    16.3527,2,     -999.0,9,     -999.0,9,     -999.0,9,     -999.0,9,     0.0288,1,     4.6639,1,     -999.0,9,     -999.0,9,     -999.0,9,     -999.0,9,     -999.0,9
33RR20220613,       P02E,     130,          1,         30,         17,2,20220620,       2219,    30.0012,  -154.2849,       5634,   202.1,2,  14.4106,2,  34.3752,2,  34.3741,2,    209.7,2,   210.3,2,    5.47,2,    5.87,2,    0.01,2,    0.37,4,   2.555,2,   1.543,2,   2.0668,2,  2072.7,2,  2259.9,2,   7.8426,2,    25.00,2, -999.00,9,  -999.0,9, -999.00,1, -999.00,1,       12.4,2, 20220621,       30,  30.0013,-154.2849,    14.4166,2,     -999.0,9,     -999.0,9,     -999.0,9,     -999.0,9,     0.0159,1,     4.6796,1,     -999.0,9,     -999.0,9,     -999.0,9,     -999.0,9,     -999.0,9
33RR20220613,       P02E,     130,          1,         29,         29,2,20220620,       2219,    30.0012,  -154.2849,       5634,   252.1,2,  12.4333,2,  34.2433,2,  34.2399,2,    208.4,2,   209.1,2,    9.68,2,   10.35,2,    0.00,2,    0.61,4,-999.000,9,-999.000,9,-999.0000,9,  2091.0,2,  -999.0,9,   7.7921,2,    24.99,2, -999.00,9,  -999.0,9, -999.00,1, -999.00,1,     -999.0,9, 20220621,       28,  30.0012,-154.2849,    12.4312,2,     -999.0,9,     -999.0,9,     -999.0,9,     -999.0,9,     0.0122,1,     4.6886,1,     -999.0,9,     -999.0,9,     -999.0,9,     -999.0,9,     -999.0,9
33RR20220613,       P02E,     130,          1,         28,         28,2,20220620,       2219,    30.0012,  -154.2849,       5634,   302.3,2,  11.2577,2,  34.1758,2,  34.1783,2,    209.0,2,   209.1,2,   13.30,2,   12.87,2,    0.00,2,    0.77,4,   2.879,2,   1.739,2,   1.9320,2,  2104.1,2,  2259.9,2,   7.7621,2,    24.99,2, -999.00,9,  -999.0,9, -999.00,1, -999.00,1,       16.9,2, 20220621,       26,  30.0012,-154.2849,    11.2819,2,     -999.0,9,     -999.0,9,     -999.0,9,     -999.0,9,     0.0122,1,     4.6911,1,     -999.0,9,     -999.0,9,     -999.0,9,     -999.0,9,     -999.0,9
33RR20220613,       P02E,     130,          1,         27,         27,2,20220620,       2219,    30.0012,  -154.2849,       5634,   353.0,2,  10.2606,2,  34.1158,2,  34.1154,2,    205.4,2,   205.7,2,   17.21,2,   15.15,2,    0.00,2,    0.91,4,-999.000,9,-999.000,9,-999.0000,9,  2117.8,2,  2259.1,2,   7.7302,2,    24.99,2, -999.00,9,  -999.0,9, -999.00,1, -999.00,1,     -999.0,9, 20220621,       24,  30.0012,-154.2849,    10.2702,2,     -999.0,9,     -999.0,9,     -999.0,9,     -999.0,9,     0.0122,1,     4.6931,1,     -999.0,9,     -999.0,9,     -999.0,9,     -999.0,9,     -999.0,9
33RR20220613,       P02E,     130,          1,         26,         26,2,20220620,       2219,    30.0012,  -154.2849,       5634,   403.3,2,   9.2952,2,  34.0695,2,  34.0688,2,    193.8,2,   193.8,2,   23.76,2,   18.46,2,    0.00,2,    1.10,4,   3.014,2,   1.773,2,   1.7098,2,  2138.3,2,  -999.0,9,   7.6857,2,    25.00,2, -999.00,9,  -999.0,9, -999.00,1, -999.00,1,       22.0,2, 20220621,       21,  30.0012,-154.2849,     9.2911,2,     -999.0,9,     -999.0,9,     -999.0,9,     -999.0,9,     0.0122,1,     4.6946,1,     -999.0,9,     -999.0,9,     -999.0,9,     -999.0,9,     -999.0,9
33RR20220613,       P02E,     130,          1,         25,         25,2,20220620,       2219,    30.0012,  -154.2849,       5634,   504.9,2,   7.3436,2,  34.0047,2,  34.0039,2,    146.2,2,   146.5,2,   43.61,2,   26.90,2,    0.00,2,    1.67,4,   2.708,2,   1.566,2,   1.1155,2,  2195.3,2,  2274.2,2,   7.5569,2,    25.00,2, -999.00,9,  -999.0,9, -999.00,1, -999.00,1,       28.4,2, 20220621,       18,  30.0012,-154.2849,     7.3631,2,     -999.0,9,     -999.0,9,     -999.0,9,     -999.0,9,     0.0122,1,     4.6962,1,     -999.0,9,     -999.0,9,     -999.0,9,     -999.0,9,     -999.0,9
33RR20220613,       P02E,     130,          1,         24,         24,2,20220620,       2219,    30.0012,  -154.2849,       5634,   605.0,2,   5.7946,2,  33.9997,2,  33.9998,2,     99.2,2,    98.5,2,   66.88,2,   34.26,2,    0.00,2,    2.21,4,   1.922,2,   1.114,2,   0.5869,2,  2251.2,2,  2290.6,2,   7.4379,2,    25.00,2, -999.00,9,  -999.0,9, -999.00,1, -999.00,1,       34.4,2, 20220621,       15,  30.0012,-154.2849,     5.7913,2,     -999.0,9,     -999.0,9,     -999.0,9,     -999.0,9,     0.0129,1,     4.6971,1,     -999.0,9,     -999.0,9,     -999.0,9,     -999.0,9,     -999.0,9
33RR20220613,       P02E,     130,          1,         23,         23,2,20220620,       2219,    30.0012,  -154.2849,       5634,   706.3,2,   4.8156,2,  34.0714,2,  34.0735,2,     55.5,3,    55.0,2,   80.85,4,   39.36,4,    0.00,2,    2.64,4,   1.132,2,   0.631,2,   0.2956,2,  -999.0,9,  -999.0,9,-999.0000,9,  -999.00,9, -999.00,9,  -999.0,9, -999.00,1, -999.00,1,       43.0,2, 20220621,       12,  30.0012,-154.2849,     4.8147,2,     -999.0,9,     -999.0,9,     -999.0,9,     -999.0,9,     0.0134,1,     4.6978,1,     -999.0,9,     -999.0,9,     -999.0,9,     -999.0,9,     -999.0,9
33RR20220613,       P02E,     130,          1,         22,         22,2,20220620,       2219,    30.0012,  -154.2849,       5634,   808.3,2,   4.2535,2,  34.2014,2,  34.2036,2,     20.8,2,    20.8,2,  106.17,2,   43.11,2,    0.00,2,    2.90,4,   0.288,2,   0.176,2,   0.0000,2,  -999.0,9,  -999.0,9,-999.0000,9,  -999.00,9, -999.00,9,  -999.0,9, -999.00,1, -999.00,1,       51.9,2, 20220621,        9,  30.0012,-154.2849,     4.2499,2,     -999.0,9,     -999.0,9,     -999.0,9,     -999.0,9,     0.0134,1,     4.6980,1,     -999.0,9,     -999.0,9,     -999.0,9,     -999.0,9,     -999.0,9
33RR20220613,       P02E,     130,          1,         21,         21,2,20220620,       2219,    30.0012,  -154.2849,       5634,   909.0,2,   3.9055,2,  34.2880,2,  34.2876,2,     13.3,3,    13.1,2,  118.57,2,   44.08,2,    0.00,2,    3.02,4,   0.089,2,   0.052,2,   0.0000,2,  2357.4,2,  2351.3,2,   7.2975,2,    25.00,2, -999.00,9,  -999.0,9, -999.00,1, -999.00,1,       54.6,2, 20220621,        6,  30.0012,-154.2849,     3.9078,2,     -999.0,9,     -999.0,9,     -999.0,9,     -999.0,9,     0.0134,1,     4.6981,1,     -999.0,9,     -999.0,9,     -999.0,9,     -999.0,9,     -999.0,9
33RR20220613,       P02E,     130,          1,         20,         20,2,20220620,       2219,    30.0012,  -154.2849,       5634,  1009.8,2,   3.5833,2,  34.3695,2,  34.3682,2,     12.8,2,    12.7,2,  129.42,2,   44.38,2,    0.00,2,    3.10,4,   0.019,2,   0.015,2,   0.0000,2,  2370.3,2,  -999.0,9,   7.3051,2,    25.00,2, -999.00,9,  -999.0,9, -999.00,1, -999.00,1,       58.0,2, 20220621,        3,  30.0013,-154.2849,     3.5824,2,     -999.0,9,     -999.0,9,     -999.0,9,     -999.0,9,     0.0134,1,     4.6971,1,     -999.0,9,     -999.0,9,     -999.0,9,     -999.0,9,     -999.0,9
33RR20220613,       P02E,     130,          1,         19,         39,2,20220620,       2219,    30.0012,  -154.2849,       5634,  1110.6,2,   3.3825,2,  34.4278,2,  34.4269,2,     17.7,3,    18.0,2,  135.08,2,   44.32,2,    0.00,2,    3.12,4,   0.010,2,   0.007,2,   0.0000,2,  2374.0,2,  2376.3,2,   7.3205,2,    25.00,2, -999.00,9,  -999.0,9, -999.00,1, -999.00,1,       55.5,2, 20220621,        0,  30.0013,-154.2849,     3.3820,2,     -999.0,9,     -999.0,9,     -999.0,9,     -999.0,9,     0.0134,1,     4.6978,1,     -999.0,9,     -999.0,9,     -999.0,9,     -999.0,9,     -999.0,9
33RR20220613,       P02E,     130,          1,         18,         18,2,20220620,       2219,    30.0012,  -154.2849,       5634,  1210.9,2,   3.2346,2,  34.4719,2,  34.4693,2,     27.4,2,    27.6,2,  138.01,2,   43.70,2,    0.00,2,    3.10,4,   0.006,2,   0.007,2,   0.0000,2,  2372.5,2,  -999.0,9,   7.3445,2,    25.00,2, -999.00,9,  -999.0,9, -999.00,1, -999.00,1,       51.1,2, 20220620,     2355,  30.0012,-154.2849,     3.2335,2,     -999.0,9,     -999.0,9,     -999.0,9,     -999.0,9,     0.0134,1,     4.6983,1,     -999.0,9,     -999.0,9,     -999.0,9,     -999.0,9,     -999.0,9
33RR20220613,       P02E,     130,          1,         17,         37,2,20220620,       2219,    30.0012,  -154.2849,       5634,  1311.8,2,   3.0356,2,  34.5055,2,  34.5056,2,     36.5,3,    37.1,2,  142.31,2,   43.30,2,    0.00,2,    3.09,4,   0.007,2,   0.005,2,   0.0000,2,  2371.7,2,  2391.0,2,   7.3664,2,    25.01,2, -999.00,9,  -999.0,9, -999.00,1, -999.00,1,       46.3,2, 20220620,     2353,  30.0012,-154.2849,     3.0373,2,     -999.0,9,     -999.0,9,     -999.0,9,     -999.0,9,     0.0134,1,     4.6994,1,     -999.0,9,     -999.0,9,     -999.0,9,     -999.0,9,     -999.0,9
33RR20220613,       P02E,     130,          1,         16,         16,2,20220620,       2219,    30.0012,  -154.2849,       5634,  1413.2,2,   2.8386,2,  34.5315,2,  34.5309,2,     43.8,2,    44.1,2,  147.09,2,   43.05,2,    0.00,2,    3.09,4,   0.003,2,   0.003,2,   0.0000,2,  -999.0,9,  -999.0,9,-999.0000,9,  -999.00,9, -999.00,9,  -999.0,9, -999.00,1, -999.00,1,       42.3,2, 20220620,     2350,  30.0013,-154.2849,     2.8434,2,     -999.0,9,     -999.0,9,     -999.0,9,     -999.0,9,     0.0134,1,     4.6995,1,     -999.0,9,     -999.0,9,     -999.0,9,     -999.0,9,     -999.0,9
33RR20220613,       P02E,     130,          1,         15,         15,2,20220620,       2219,    30.0012,  -154.2849,       5634,  1616.3,2,   2.4950,2,  34.5674,2,  34.5663,2,     59.5,2,    59.7,2,  153.93,2,   42.06,2,    0.00,2,    3.06,4,   0.005,2,   0.003,2,   0.0000,2,  2371.8,2,  2405.3,2,   7.4116,2,    25.02,2, -999.00,9,  -999.0,9, -999.00,1, -999.00,1,       37.6,2, 20220620,     2345,  30.0013,-154.2849,     2.4959,2,     -999.0,9,     -999.0,9,     -999.0,9,     -999.0,9,     0.0134,1,     4.7007,1,     -999.0,9,     -999.0,9,     -999.0,9,     -999.0,9,     -999.0,9
33RR20220613,       P02E,     130,          1,         14,         14,2,20220620,       2219,    30.0012,  -154.2849,       5634,  1820.0,2,   2.2104,2,  34.5935,2,  34.5920,2,     67.7,2,    67.8,2,  163.11,2,   41.78,2,    0.00,2,    3.07,4,   0.006,2,   0.003,2,   0.0000,2,  -999.0,9,  -999.0,9,-999.0000,9,  -999.00,9, -999.00,9,  -999.0,9, -999.00,1, -999.00,1,       34.8,2, 20220620,     2341,  30.0012,-154.2849,     2.2106,2,     -999.0,9,     -999.0,9,     -999.0,9,     -999.0,9,     0.0134,1,     4.7007,1,     -999.0,9,     -999.0,9,     -999.0,9,     -999.0,9,     -999.0,9
33RR20220613,       P02E,     130,          1,         13,         13,2,20220620,       2219,    30.0012,  -154.2849,       5634,  2023.1,2,   2.0054,2,  34.6147,3,  34.6115,2,     83.7,2,    83.5,2,  164.19,2,   40.58,2,    0.00,2,    3.01,4,   0.003,2,   0.000,2,   0.0000,2,  2366.2,2,  2417.1,2,   7.4563,2,    25.00,2, -999.00,9,  -999.0,9, -999.00,1, -999.00,1,       32.6,2, 20220620,     2336,  30.0012,-154.2849,     2.0062,2,     -999.0,9,     -999.0,9,     -999.0,9,     -999.0,9,     0.0134,1,     4.7019,1,     -999.0,9,     -999.0,9,     -999.0,9,     -999.0,9,     -999.0,9
33RR20220613,       P02E,     130,          1,         12,         12,2,20220620,       2219,    30.0012,  -154.2849,       5634,  2276.7,2,   1.8323,2,  34.6326,2,  34.6311,2,     94.0,2,    93.8,2,  167.70,2,   40.01,2,    0.00,2,    3.01,4,   0.002,2,   0.003,2,   0.0000,2,  -999.0,9,  -999.0,9,-999.0000,9,  -999.00,9, -999.00,9,  -999.0,9, -999.00,1, -999.00,1,       30.0,2, 20220620,     2331,  30.0013,-154.2849,     1.8360,2,     -999.0,9,     -999.0,9,     -999.0,9,     -999.0,9,     0.0130,1,     4.7023,1,     -999.0,9,     -999.0,9,     -999.0,9,     -999.0,9,     -999.0,9
33RR20220613,       P02E,     130,          1,         11,         11,2,20220620,       2219,    30.0012,  -154.2849,       5634,  2531.9,2,   1.7074,2,  34.6467,2,  34.6455,2,    103.9,2,   104.1,2,  169.46,2,   39.35,2,    0.00,2,    2.96,4,   0.003,2,   0.001,2,   0.0000,2,  2358.9,2,  -999.0,9,   7.4945,2,    25.01,2, -999.00,9,  -999.0,9, -999.00,1, -999.00,1,       27.3,2, 20220620,     2325,  30.0013,-154.2849,     1.7092,2,     -999.0,9,     -999.0,9,     -999.0,9,     -999.0,9,     0.0129,1,     4.7032,1,     -999.0,9,     -999.0,9,     -999.0,9,     -999.0,9,     -999.0,9
33RR20220613,       P02E,     130,          1,         10,         10,2,20220620,       2219,    30.0012,  -154.2849,       5634,  2785.9,2,   1.6295,2,  34.6565,2,  34.6559,2,    112.6,2,   112.8,2,  169.26,2,   38.82,2,    0.00,2,    2.94,4,-999.000,9,-999.000,9,-999.0000,9,  -999.0,9,  -999.0,9,-999.0000,9,  -999.00,9, -999.00,9,  -999.0,9, -999.00,1, -999.00,1,     -999.0,9, 20220620,     2320,  30.0013,-154.2849,     1.6292,2,     -999.0,9,     -999.0,9,     -999.0,9,     -999.0,9,     0.0126,1,     4.7033,1,     -999.0,9,     -999.0,9,     -999.0,9,     -999.0,9,     -999.0,9
33RR20220613,       P02E,     130,          1,          9,          9,2,20220620,       2219,    30.0012,  -154.2849,       5634,  3041.9,2,   1.5613,2,  34.6653,2,  34.6641,2,    122.3,2,   122.5,2,  167.11,2,   38.24,2,    0.00,2,    2.89,4,   0.003,2,   0.002,2,   0.0000,2,  2348.5,2,  2425.8,2,   7.5287,2,    25.02,2, -999.00,9,  -999.0,9, -999.00,1, -999.00,1,       25.4,2, 20220620,     2314,  30.0012,-154.2849,     1.5613,2,     -999.0,9,     -999.0,9,     -999.0,9,     -999.0,9,     0.0126,1,     4.7034,1,     -999.0,9,     -999.0,9,     -999.0,9,     -999.0,9,     -999.0,9
33RR20220613,       P02E,     130,          1,          8,          8,2,20220620,       2219,    30.0012,  -154.2849,       5634,  3348.6,2,   1.5155,2,  34.6731,3,  34.6702,2,    131.4,2,   131.5,2,  165.35,2,   37.55,2,    0.00,2,    2.83,4,-999.000,9,-999.000,9,-999.0000,9,  -999.0,9,  -999.0,9,-999.0000,9,  -999.00,9, -999.00,9,  -999.0,9, -999.00,1, -999.00,1,     -999.0,9, 20220620,     2308,  30.0012,-154.2849,     1.5154,2,     -999.0,9,     -999.0,9,     -999.0,9,     -999.0,9,     0.0122,1,     4.7043,1,     -999.0,9,     -999.0,9,     -999.0,9,     -999.0,9,     -999.0,9
33RR20220613,       P02E,     130,          1,          7,          7,2,20220620,       2219,    30.0012,  -154.2849,       5634,  3655.6,2,   1.4906,2,  34.6785,3,  34.6763,2,    138.4,2,   138.4,2,  163.30,2,   37.23,2,    0.00,2,    2.80,4,   0.006,2,   0.005,2,   0.0000,2,  2339.9,2,  -999.0,9,   7.5575,2,    25.00,2, -999.00,9,  -999.0,9, -999.00,1, -999.00,1,       25.3,2, 20220620,     2302,  30.0013,-154.2850,     1.4905,2,     -999.0,9,     -999.0,9,     -999.0,9,     -999.0,9,     0.0122,1,     4.7044,1,     -999.0,9,     -999.0,9,     -999.0,9,     -999.0,9,     -999.0,9
33RR20220613,       P02E,     130,          1,          6,          6,2,20220620,       2219,    30.0012,  -154.2849,       5634,  3963.1,2,   1.4845,2,  34.6822,2,  34.6802,2,    144.0,2,   144.1,2,  160.66,2,   36.80,2,    0.00,2,    2.77,4,-999.000,9,-999.000,9,-999.0000,9,  -999.0,9,  -999.0,9,-999.0000,9,  -999.00,9, -999.00,9,  -999.0,9, -999.00,1, -999.00,1,     -999.0,9, 20220620,     2254,  30.0013,-154.2849,     1.4844,2,     -999.0,9,     -999.0,9,     -999.0,9,     -999.0,9,     0.0122,1,     4.7044,1,     -999.0,9,     -999.0,9,     -999.0,9,     -999.0,9,     -999.0,9
33RR20220613,       P02E,     130,          1,          5,          5,2,20220620,       2219,    30.0012,  -154.2849,       5634,  4374.1,2,   1.4887,2,  34.6860,2,  34.6844,2,    150.5,2,   150.5,2,  157.34,2,   36.38,2,    0.00,2,    2.72,4,   0.006,2,   0.006,2,   0.0000,2,  2328.6,2,  2421.7,2,   7.5765,2,    25.01,2, -999.00,9,  -999.0,9, -999.00,1, -999.00,1,       22.7,2, 20220620,     2248,  30.0013,-154.2849,     1.4885,2,     -999.0,9,     -999.0,9,     -999.0,9,     -999.0,9,     0.0122,1,     4.7044,1,     -999.0,9,     -999.0,9,     -999.0,9,     -999.0,9,     -999.0,9