BOTTLE,20230830CCHSIOCBG
EXPOCODE,SECT_ID,STNNBR,CASTNO,SAMPNO,BTLNBR,BTLNBR_FLAG_W,DATE,TIME,LATITUDE,LONGITUDE,DEPTH,CTDPRS,CTDPRS_FLAG_W,CTDTMP,CTDTMP_FLAG_W,CTDSAL,CTDSAL_FLAG_W,SALNTY,SALNTY_FLAG_W,CTDOXY,CTDOXY_FLAG_W,OXYGEN,OXYGEN_FLAG_W,SILCAT,SILCAT_FLAG_W,NITRAT,NITRAT_FLAG_W,NITRIT,NITRIT_FLAG_W,PHSPHT,PHSPHT_FLAG_W,CFC-11,CFC-11_FLAG_W,CFC-12,CFC-12_FLAG_W,SF6,SF6_FLAG_W,TCARBN,TCARBN_FLAG_W,ALKALI,ALKALI_FLAG_W,PH_TOT,PH_TOT_FLAG_W,PH_TMP,PH_TMP_FLAG_W,DELC13,DELC13_FLAG_W,DELC14,DELC14_FLAG_W,DOC,DOC_FLAG_W,TDN,TDN_FLAG_W,N2O,N2O_FLAG_W,BTL_DATE,BTL_TIME,BTL_LAT,BTL_LON,REFTMP,REFTMP_FLAG_W,POC,POC_FLAG_W,PON,PON_FLAG_W,POP,POP_FLAG_W,PCOD,PCOD_FLAG_W,CTDFLUOR,CTDFLUOR_FLAG_W,CTDXMISS,CTDXMISS_FLAG_W,HPLC,HPLC_FLAG_W,DNA,DNA_FLAG_W,FCM,FCM_FLAG_W,IMAGES,IMAGES_FLAG_W,VIRAL_ABUNDANCE,VIRAL_ABUNDANCE_FLAG_W
,,,,,,,,,,,METERS,DBAR,,ITS-90,,PSS-78,,PSS-78,,UMOL/KG,,UMOL/KG,,UMOL/KG,,UMOL/KG,,UMOL/KG,,UMOL/KG,,PMOL/KG,,PMOL/KG,,FMOL/KG,,UMOL/KG,,UMOL/KG,,,,DEG C,,/MILLE,,/MILLE,,UMOL/KG,,UMOL/KG,,NMOL/KG,,,,,,ITS-90,,UG/L,,UG/L,,UG/L,,UG/L,,VOLTS,,VOLTS,,,,,,,,,,,
33RR20220613,       P02E,     158,          2,          4,          4,2,20220629,       1556,    30.0004,  -138.1173,       4680,  3964.1,2,   1.5093,2,  34.6770,2,  34.6783,2,    138.5,2,   138.9,2,  164.01,2,   37.36,2,    0.00,2,    2.57,2,   0.003,2,   0.006,2,   0.0000,2,  -999.0,9,  -999.0,9,-999.0000,9,  -999.00,9, -999.00,1,  -999.0,1, -999.00,1, -999.00,1,       23.9,2, 20220629,     1614,  30.0004,-138.1173,     1.5089,2,     -999.0,9,     -999.0,9,     -999.0,9,     -999.0,9,     0.0129,1,     4.6995,1,     -999.0,9,     -999.0,9,     -999.0,9,     -999.0,9,     -999.0,9
33RR20220613,       P02E,     158,          2,          3,          3,2,20220629,       1556,    30.0004,  -138.1173,       4680,  4272.3,2,   1.5265,2,  34.6787,2,  34.6794,2,    141.5,2,   141.5,2,  162.06,2,   37.25,2,    0.00,2,    2.55,2,   0.004,2,   0.008,2,   0.0000,2,  2339.0,2,  2428.6,6,   7.5641,2,    25.00,2, -999.00,1,  -999.0,1, -999.00,1, -999.00,1,       23.8,2, 20220629,     1607,  30.0004,-138.1173,     1.5262,2,     -999.0,9,     -999.0,9,     -999.0,9,     -999.0,9,     0.0122,1,     4.7000,1,     -999.0,9,     -999.0,9,     -999.0,9,     -999.0,9,     -999.0,9
33RR20220613,       P02E,     158,          2,          2,          2,2,20220629,       1556,    30.0004,  -138.1173,       4680,  4500.3,2,   1.5447,2,  34.6799,3,  34.6824,2,    142.9,2,   142.9,2,  162.06,2,   37.20,2,    0.00,2,    2.54,2,   0.005,2,   0.006,2,   0.0000,2,  -999.0,9,  -999.0,9,-999.0000,9,  -999.00,9, -999.00,1,  -999.0,1, -999.00,1, -999.00,1,       29.1,2, 20220629,     1603,  30.0004,-138.1174,     1.5446,2,     -999.0,9,     -999.0,9,     -999.0,9,     -999.0,9,     0.0122,1,     4.6995,1,     -999.0,9,     -999.0,9,     -999.0,9,     -999.0,9,     -999.0,9
33RR20220613,       P02E,     158,          2,          1,          1,2,20220629,       1556,    30.0004,  -138.1173,       4680,  4754.9,2,   1.5677,2,  34.6805,3,  34.6908,2,    144.5,2,   144.5,2,  160.98,2,   36.96,2,    0.00,2,    2.54,2,   0.009,2,   0.010,2,   0.0000,2,  2338.7,6,  2426.9,2,   7.5704,2,    25.01,2, -999.00,1,  -999.0,1, -999.00,1, -999.00,1,       23.7,2, 20220629,     1556,  30.0004,-138.1173,     1.5676,2,     -999.0,9,     -999.0,9,     -999.0,9,     -999.0,9,     0.0111,1,     4.6993,1,     -999.0,9,     -999.0,9,     -999.0,9,     -999.0,9,     -999.0,9