BOTTLE,20230830CCHSIOCBG
EXPOCODE,SECT_ID,STNNBR,CASTNO,SAMPNO,BTLNBR,BTLNBR_FLAG_W,DATE,TIME,LATITUDE,LONGITUDE,DEPTH,CTDPRS,CTDPRS_FLAG_W,CTDTMP,CTDTMP_FLAG_W,CTDSAL,CTDSAL_FLAG_W,SALNTY,SALNTY_FLAG_W,CTDOXY,CTDOXY_FLAG_W,OXYGEN,OXYGEN_FLAG_W,SILCAT,SILCAT_FLAG_W,NITRAT,NITRAT_FLAG_W,NITRIT,NITRIT_FLAG_W,PHSPHT,PHSPHT_FLAG_W,CFC-11,CFC-11_FLAG_W,CFC-12,CFC-12_FLAG_W,SF6,SF6_FLAG_W,TCARBN,TCARBN_FLAG_W,ALKALI,ALKALI_FLAG_W,PH_TOT,PH_TOT_FLAG_W,PH_TMP,PH_TMP_FLAG_W,DELC13,DELC13_FLAG_W,DELC14,DELC14_FLAG_W,DOC,DOC_FLAG_W,TDN,TDN_FLAG_W,N2O,N2O_FLAG_W,BTL_DATE,BTL_TIME,BTL_LAT,BTL_LON,REFTMP,REFTMP_FLAG_W,POC,POC_FLAG_W,PON,PON_FLAG_W,POP,POP_FLAG_W,PCOD,PCOD_FLAG_W,CTDFLUOR,CTDFLUOR_FLAG_W,CTDXMISS,CTDXMISS_FLAG_W,HPLC,HPLC_FLAG_W,DNA,DNA_FLAG_W,FCM,FCM_FLAG_W,IMAGES,IMAGES_FLAG_W,VIRAL_ABUNDANCE,VIRAL_ABUNDANCE_FLAG_W
,,,,,,,,,,,METERS,DBAR,,ITS-90,,PSS-78,,PSS-78,,UMOL/KG,,UMOL/KG,,UMOL/KG,,UMOL/KG,,UMOL/KG,,UMOL/KG,,PMOL/KG,,PMOL/KG,,FMOL/KG,,UMOL/KG,,UMOL/KG,,,,DEG C,,/MILLE,,/MILLE,,UMOL/KG,,UMOL/KG,,NMOL/KG,,,,,,ITS-90,,UG/L,,UG/L,,UG/L,,UG/L,,VOLTS,,VOLTS,,,,,,,,,,,
33RR20220613,       P02E,     173,          2,         36,         36,2,20220704,       0014,    30.0002,  -129.4566,       4653,     4.3,2,  18.8842,2,  33.4380,2,  33.4326,2,    238.5,2,   238.1,2,    1.08,2,    0.01,2,    0.00,2,    0.28,2,   2.094,2,   1.309,2,   2.2122,2,  2020.3,2,  2235.8,2,   7.9151,2,    24.99,2, -999.00,9,  -999.0,9, -999.00,9, -999.00,9,        8.1,2, 20220704,      225,  30.0002,-129.4566,    18.8760,2,     -999.0,9,     -999.0,9,     -999.0,9,     -999.0,9,     0.0134,1,     4.6165,1,     -999.0,9,     -999.0,9,     -999.0,9,     -999.0,9,     -999.0,9
33RR20220613,       P02E,     173,          2,         35,         35,2,20220704,       0014,    30.0002,  -129.4566,       4653,    25.7,2,  18.6556,2,  33.4257,2,  33.4279,2,    239.8,2,   240.2,2,    1.08,2,    0.01,2,    0.00,2,    0.26,2,   2.153,2,   1.317,2,   2.2491,2,  2019.3,2,  2235.8,2,   7.9155,2,    24.99,2, -999.00,9,  -999.0,9, -999.00,9, -999.00,9,        8.2,2, 20220704,      222,  30.0002,-129.4566,    18.6542,2,     -999.0,9,     -999.0,9,     -999.0,9,     -999.0,9,     0.0159,1,     4.6131,1,     -999.0,9,     -999.0,9,     -999.0,9,     -999.0,9,     -999.0,9
33RR20220613,       P02E,     173,          2,         34,         34,2,20220704,       0014,    30.0002,  -129.4566,       4653,    51.2,2,  17.8199,2,  33.4761,2,  33.4738,2,    246.3,2,   248.2,2,    1.08,2,    0.00,2,    0.00,2,    0.25,2,   2.237,2,   1.367,2,   2.2077,2,  2017.7,2,  2239.0,2,   7.9201,2,    25.01,2, -999.00,9,  -999.0,9, -999.00,9, -999.00,9,        8.4,2, 20220704,      220,  30.0002,-129.4566,    17.8151,2,     -999.0,9,     -999.0,9,     -999.0,9,     -999.0,9,     0.0171,1,     4.6182,1,     -999.0,9,     -999.0,9,     -999.0,9,     -999.0,9,     -999.0,9
33RR20220613,       P02E,     173,          2,         33,         33,2,20220704,       0014,    30.0002,  -129.4566,       4653,    76.2,2,  17.2521,2,  33.5080,2,  33.5122,2,    249.8,2,   249.5,2,    1.08,2,    0.00,2,    0.00,2,    0.24,2,   2.271,2,   1.400,2,   2.2808,2,  2015.6,2,  2240.0,2,   7.9205,2,    24.99,2, -999.00,9,  -999.0,9, -999.00,9, -999.00,9,        8.5,2, 20220704,      218,  30.0002,-129.4566,    17.2646,2,     -999.0,9,     -999.0,9,     -999.0,9,     -999.0,9,     0.0205,1,     4.6326,1,     -999.0,9,     -999.0,9,     -999.0,9,     -999.0,9,     -999.0,9
33RR20220613,       P02E,     173,          2,         32,         32,2,20220704,       0014,    30.0002,  -129.4566,       4653,   101.0,2,  16.5239,2,  33.4661,3,  33.5024,2,    244.4,3,   247.3,2,    1.27,2,    0.00,2,    0.00,2,    0.24,2,   2.329,2,   1.424,2,   2.3171,2,  2019.0,6,  2237.4,2,   7.9106,2,    25.01,2, -999.00,9,  -999.0,9, -999.00,9, -999.00,9,        8.8,2, 20220704,      216,  30.0002,-129.4567,    16.5228,2,     -999.0,9,     -999.0,9,     -999.0,9,     -999.0,9,     0.0317,1,     4.6440,1,     -999.0,9,     -999.0,9,     -999.0,9,     -999.0,9,     -999.0,9
33RR20220613,       P02E,     173,          2,         31,         31,2,20220704,       0014,    30.0002,  -129.4566,       4653,   151.2,2,  13.7548,2,  33.3811,2,  33.3756,2,    232.1,2,   232.6,2,    3.03,2,    2.79,2,    0.11,2,    0.48,2,   2.641,2,   1.608,2,   2.3278,2,  2041.2,2,  2222.8,2,   7.8285,2,    24.99,2, -999.00,9,  -999.0,9, -999.00,9, -999.00,9,       11.0,2, 20220704,      213,  30.0002,-129.4568,    13.7508,2,     -999.0,9,     -999.0,9,     -999.0,9,     -999.0,9,     0.0235,1,     4.6702,1,     -999.0,9,     -999.0,9,     -999.0,9,     -999.0,9,     -999.0,9
33RR20220613,       P02E,     173,          2,         30,         17,2,20220704,       0014,    30.0002,  -129.4566,       4653,   201.8,2,  10.4110,2,  33.4999,2,  33.4987,2,    197.4,2,   197.8,2,   11.93,2,   13.81,2,    0.01,2,    1.14,2,   2.977,2,   1.821,2,   2.3536,2,  2111.3,2,  2226.0,6,   7.6766,2,    25.00,2, -999.00,9,  -999.0,9, -999.00,9, -999.00,9,       16.0,2, 20220704,      210,  30.0002,-129.4567,    10.4137,2,     -999.0,9,     -999.0,9,     -999.0,9,     -999.0,9,     0.0134,1,     4.6849,1,     -999.0,9,     -999.0,9,     -999.0,9,     -999.0,9,     -999.0,9
33RR20220613,       P02E,     173,          2,         29,         29,2,20220704,       0014,    30.0002,  -129.4566,       4653,   252.5,2,   9.5177,2,  33.9554,2,  33.9520,2,    185.1,2,   186.6,2,   19.65,2,   17.87,2,    0.00,2,    1.31,2,   2.998,2,   1.825,2,   1.8805,2,  2135.4,2,  2252.4,2,   7.6607,2,    25.00,2, -999.00,9,  -999.0,9, -999.00,9, -999.00,9,       20.9,2, 20220704,      210,  30.0002,-129.4567,     9.5259,2,     -999.0,9,     -999.0,9,     -999.0,9,     -999.0,9,     0.0113,1,     4.6891,1,     -999.0,9,     -999.0,9,     -999.0,9,     -999.0,9,     -999.0,9
33RR20220613,       P02E,     173,          2,         28,         28,2,20220704,       0014,    30.0002,  -129.4566,       4653,   302.4,2,   8.5362,2,  34.0129,2,  34.0108,2,    125.2,2,   125.1,2,   33.24,2,   26.00,2,    0.00,2,    1.92,2,   2.653,2,   1.627,2,   1.2451,2,  2195.8,2,  2266.9,2,   7.5190,2,    25.00,2, -999.00,9,  -999.0,9, -999.00,9, -999.00,9,       30.6,2, 20220704,      208,  30.0002,-129.4567,     8.5278,2,     -999.0,9,     -999.0,9,     -999.0,9,     -999.0,9,     0.0129,1,     4.6872,1,     -999.0,9,     -999.0,9,     -999.0,9,     -999.0,9,     -999.0,9
33RR20220613,       P02E,     173,          2,         27,         27,2,20220704,       0014,    30.0002,  -129.4566,       4653,   352.9,2,   7.9243,2,  34.0488,2,  34.0513,2,     95.8,3,    93.5,2,   42.53,2,   29.96,2,    0.00,2,    2.24,2,   2.375,2,   1.421,2,   0.9473,2,  2231.4,2,  2275.4,2,   7.4470,2,    25.00,2, -999.00,9,  -999.0,9, -999.00,9, -999.00,9,       35.1,2, 20220704,      205,  30.0002,-129.4567,     7.9232,2,     -999.0,9,     -999.0,9,     -999.0,9,     -999.0,9,     0.0125,1,     4.6868,1,     -999.0,9,     -999.0,9,     -999.0,9,     -999.0,9,     -999.0,9
33RR20220613,       P02E,     173,          2,         26,         26,2,20220704,       0014,    30.0002,  -129.4566,       4653,   403.6,2,   7.2585,2,  34.0993,2,  34.1017,2,     61.8,2,    61.6,2,   52.69,2,   33.68,2,    0.00,2,    2.55,2,   1.891,2,   1.108,2,   0.6030,2,  -999.0,9,  -999.0,9,-999.0000,9,  -999.00,9, -999.00,9,  -999.0,9, -999.00,9, -999.00,9,       40.3,2, 20220704,      202,  30.0002,-129.4567,     7.2583,2,     -999.0,9,     -999.0,9,     -999.0,9,     -999.0,9,     0.0134,1,     4.6872,1,     -999.0,9,     -999.0,9,     -999.0,9,     -999.0,9,     -999.0,9
33RR20220613,       P02E,     173,          2,         25,         25,2,20220704,       0014,    30.0002,  -129.4566,       4653,   453.6,2,   6.6652,2,  34.1354,2,  34.1403,2,     41.9,3,    41.3,2,   62.27,2,   36.36,2,    0.00,2,    2.76,2,   1.422,2,   0.816,2,   0.4665,2,  2283.8,2,  2291.9,2,   7.3432,2,    25.00,2, -999.00,9,  -999.0,9, -999.00,9, -999.00,9,       43.9,2, 20220704,      201,  30.0002,-129.4567,     6.6639,2,     -999.0,9,     -999.0,9,     -999.0,9,     -999.0,9,     0.0134,1,     4.6879,1,     -999.0,9,     -999.0,9,     -999.0,9,     -999.0,9,     -999.0,9
33RR20220613,       P02E,     173,          2,         24,         24,2,20220704,       0014,    30.0002,  -129.4566,       4653,   504.4,2,   6.2369,2,  34.1683,2,  34.1697,2,     30.5,2,    30.6,2,   69.50,2,   38.06,2,    0.00,2,    2.88,2,   1.066,2,   0.603,2,   0.3717,2,  -999.0,9,  -999.0,9,-999.0000,9,  -999.00,9, -999.00,9,  -999.0,9, -999.00,9, -999.00,9,       47.6,2, 20220704,      159,  30.0002,-129.4567,     6.2340,2,     -999.0,9,     -999.0,9,     -999.0,9,     -999.0,9,     0.0134,1,     4.6889,1,     -999.0,9,     -999.0,9,     -999.0,9,     -999.0,9,     -999.0,9
33RR20220613,       P02E,     173,          2,         23,         23,2,20220704,       0014,    30.0002,  -129.4566,       4653,   605.1,2,   5.6197,2,  34.2646,2,  34.2634,2,     14.9,2,    14.9,2,   82.20,2,   40.31,2,    0.00,2,    3.06,2,   0.432,2,   0.241,2,   0.1051,2,  2322.1,2,  2320.3,2,   7.3102,2,    25.02,2, -999.00,9,  -999.0,9, -999.00,9, -999.00,9,       54.4,2, 20220704,      156,  30.0002,-129.4568,     5.6384,2,     -999.0,9,     -999.0,9,     -999.0,9,     -999.0,9,     0.0134,1,     4.6893,1,     -999.0,9,     -999.0,9,     -999.0,9,     -999.0,9,     -999.0,9
33RR20220613,       P02E,     173,          2,         22,         22,2,20220704,       0014,    30.0002,  -129.4566,       4653,   706.7,2,   4.9290,2,  34.3063,2,  34.3089,2,     12.8,2,    12.9,2,   95.88,2,   42.15,2,    0.00,2,    3.15,2,   0.167,2,   0.101,2,   0.1187,2,  2336.9,2,  2337.7,2,   7.3083,2,    25.02,2, -999.00,9,  -999.0,9, -999.00,9, -999.00,9,       56.3,2, 20220704,      153,  30.0002,-129.4567,     4.9300,2,     -999.0,9,     -999.0,9,     -999.0,9,     -999.0,9,     0.0134,1,     4.6912,1,     -999.0,9,     -999.0,9,     -999.0,9,     -999.0,9,     -999.0,9
33RR20220613,       P02E,     173,          2,         21,         21,2,20220704,       0014,    30.0002,  -129.4566,       4653,   807.9,2,   4.4778,2,  34.3558,2,  34.3566,2,     13.4,3,    13.7,2,  105.56,2,   42.95,2,    0.00,2,    3.17,2,   0.065,2,   0.043,2,   0.0785,2,  2348.2,2,  2350.2,2,   7.3134,2,    25.01,2, -999.00,9,  -999.0,9, -999.00,9, -999.00,9,       56.1,2, 20220704,      150,  30.0002,-129.4568,     4.4786,2,     -999.0,9,     -999.0,9,     -999.0,9,     -999.0,9,     0.0134,1,     4.6922,1,     -999.0,9,     -999.0,9,     -999.0,9,     -999.0,9,     -999.0,9
33RR20220613,       P02E,     173,          2,         20,         20,2,20220704,       0014,    30.0002,  -129.4566,       4653,   908.6,2,   4.1768,2,  34.4118,2,  34.4120,2,     19.2,2,    19.2,2,  112.20,2,   43.14,2,    0.00,2,    3.16,2,   0.023,2,   0.020,2,   0.1042,2,  -999.0,9,  -999.0,9,-999.0000,9,  -999.00,9, -999.00,9,  -999.0,9, -999.00,9, -999.00,9,       53.3,2, 20220704,      146,  30.0002,-129.4567,     4.1780,2,     -999.0,9,     -999.0,9,     -999.0,9,     -999.0,9,     0.0134,1,     4.6934,1,     -999.0,9,     -999.0,9,     -999.0,9,     -999.0,9,     -999.0,9
33RR20220613,       P02E,     173,          2,         19,         39,2,20220704,       0014,    30.0002,  -129.4566,       4653,  1009.9,2,   3.9029,2,  34.4558,2,  34.4573,2,     25.2,3,    25.5,2,  117.96,2,   43.08,2,    0.00,2,    3.14,2,   0.015,2,   0.012,2,   0.0359,2,  2358.8,2,  2370.2,2,   7.3466,2,    25.01,2, -999.00,9,  -999.0,9, -999.00,9, -999.00,9,       50.9,2, 20220704,      144,  30.0002,-129.4567,     3.9013,2,     -999.0,9,     -999.0,9,     -999.0,9,     -999.0,9,     0.0134,1,     4.6934,1,     -999.0,9,     -999.0,9,     -999.0,9,     -999.0,9,     -999.0,9
33RR20220613,       P02E,     173,          2,         18,         18,2,20220704,       0014,    30.0002,  -129.4566,       4653,  1110.7,2,   3.6903,2,  34.4892,2,  34.4891,2,     33.1,2,    33.2,2,  121.47,2,   42.84,2,    0.00,2,    3.12,2,   0.011,2,   0.011,2,   0.0796,2,  -999.0,9,  -999.0,9,-999.0000,9,  -999.00,9, -999.00,9,  -999.0,9, -999.00,9, -999.00,9,       47.2,2, 20220704,      140,  30.0002,-129.4567,     3.6901,2,     -999.0,9,     -999.0,9,     -999.0,9,     -999.0,9,     0.0134,1,     4.6943,1,     -999.0,9,     -999.0,9,     -999.0,9,     -999.0,9,     -999.0,9
33RR20220613,       P02E,     173,          2,         17,         37,2,20220704,       0014,    30.0002,  -129.4566,       4653,  1211.4,2,   3.4111,2,  34.5161,2,  34.5166,2,     39.7,2,    39.6,2,  127.92,2,   42.63,2,    0.00,2,    3.08,2,   0.007,2,   0.005,2,   0.0000,2,  2361.4,2,  2385.2,2,   7.3771,2,    25.01,2, -999.00,9,  -999.0,9, -999.00,9, -999.00,9,       43.8,2, 20220704,      138,  30.0002,-129.4567,     3.4104,2,     -999.0,9,     -999.0,9,     -999.0,9,     -999.0,9,     0.0134,1,     4.6955,1,     -999.0,9,     -999.0,9,     -999.0,9,     -999.0,9,     -999.0,9
33RR20220613,       P02E,     173,          2,         16,         16,2,20220704,       0014,    30.0002,  -129.4566,       4653,  1312.4,2,   3.2526,2,  34.5256,2,  34.5258,2,     41.8,2,    41.7,2,  132.51,2,   42.57,2,    0.00,2,    3.07,2,   0.007,2,   0.007,2,   0.0000,2,  2363.5,2,  2389.8,2,   7.3802,2,    25.00,2, -999.00,9,  -999.0,9, -999.00,9, -999.00,9,       43.8,2, 20220704,      135,  30.0002,-129.4567,     3.2521,2,     -999.0,9,     -999.0,9,     -999.0,9,     -999.0,9,     0.0133,1,     4.6957,1,     -999.0,9,     -999.0,9,     -999.0,9,     -999.0,9,     -999.0,9
33RR20220613,       P02E,     173,          2,         15,         15,2,20220704,       0014,    30.0002,  -129.4566,       4653,  1415.5,2,   3.0665,2,  34.5410,2,  34.5429,2,     46.5,2,    46.7,2,  136.52,2,   42.32,2,    0.00,2,    3.05,2,   0.005,2,   0.006,2,   0.0000,2,  2365.3,2,  2393.1,6,   7.3898,2,    25.00,2, -999.00,9,  -999.0,9, -999.00,9, -999.00,9,       42.1,2, 20220704,      131,  30.0002,-129.4567,     3.0661,2,     -999.0,9,     -999.0,9,     -999.0,9,     -999.0,9,     0.0134,1,     4.6959,1,     -999.0,9,     -999.0,9,     -999.0,9,     -999.0,9,     -999.0,9
33RR20220613,       P02E,     173,          2,         14,         42,2,20220704,       0014,    30.0002,  -129.4566,       4653,  1516.7,2,   2.8828,2,  34.5562,2,  34.5571,2,     51.7,2,    51.4,2,  141.50,2,   42.11,2,    0.00,2,    3.03,2,   0.004,2,   0.005,2,   0.0000,2,  -999.0,9,  -999.0,9,-999.0000,9,  -999.00,9, -999.00,9,  -999.0,9, -999.00,9, -999.00,9,       39.7,2, 20220704,      128,  30.0002,-129.4567,     2.8819,2,     -999.0,9,     -999.0,9,     -999.0,9,     -999.0,9,     0.0134,1,     4.6971,1,     -999.0,9,     -999.0,9,     -999.0,9,     -999.0,9,     -999.0,9
33RR20220613,       P02E,     173,          2,         13,         13,2,20220704,       0014,    30.0002,  -129.4566,       4653,  1617.2,2,   2.7281,2,  34.5684,2,  34.5684,2,     55.4,2,    55.5,2,  145.31,2,   41.90,2,    0.00,2,    3.00,2,   0.005,2,   0.004,2,   0.0000,2,  -999.0,9,  -999.0,9,-999.0000,9,  -999.00,9, -999.00,9,  -999.0,9, -999.00,9, -999.00,9,       37.9,2, 20220704,      125,  30.0002,-129.4567,     2.7289,2,     -999.0,9,     -999.0,9,     -999.0,9,     -999.0,9,     0.0134,1,     4.6971,1,     -999.0,9,     -999.0,9,     -999.0,9,     -999.0,9,     -999.0,9
33RR20220613,       P02E,     173,          2,         12,         12,2,20220704,       0014,    30.0002,  -129.4566,       4653,  1820.4,2,   2.3968,2,  34.5947,2,  34.5954,2,     66.4,2,    66.9,2,  154.30,2,   41.29,2,    0.00,2,    2.93,2,   0.004,2,   0.004,2,   0.0000,2,  2371.0,2,  2412.1,2,   7.4277,2,    25.00,2, -999.00,9,  -999.0,9, -999.00,9, -999.00,9,       34.6,2, 20220704,      120,  30.0002,-129.4567,     2.3957,2,     -999.0,9,     -999.0,9,     -999.0,9,     -999.0,9,     0.0134,1,     4.6981,1,     -999.0,9,     -999.0,9,     -999.0,9,     -999.0,9,     -999.0,9
33RR20220613,       P02E,     173,          2,         11,         11,2,20220704,       0014,    30.0002,  -129.4566,       4653,  2023.6,2,   2.2013,2,  34.6127,2,  34.6142,2,     75.9,2,    76.0,2,  158.60,2,   40.70,2,    0.00,2,    2.89,2,   0.004,2,   0.003,2,   0.0000,2,  2369.9,2,  2416.9,2,   7.4466,2,    24.99,2, -999.00,9,  -999.0,9, -999.00,9, -999.00,9,       32.3,2, 20220704,      115,  30.0002,-129.4567,     2.2016,2,     -999.0,9,     -999.0,9,     -999.0,9,     -999.0,9,     0.0134,1,     4.6985,1,     -999.0,9,     -999.0,9,     -999.0,9,     -999.0,9,     -999.0,9
33RR20220613,       P02E,     173,          2,         10,         10,2,20220704,       0014,    30.0002,  -129.4566,       4653,  2277.7,2,   1.9684,2,  34.6324,2,  34.6341,2,     89.1,2,    89.0,2,  162.21,2,   39.88,2,    0.00,2,    2.81,2,   0.003,2,   0.005,2,   0.0000,2,  2368.6,2,  2423.5,2,   7.4705,2,    24.99,2, -999.00,9,  -999.0,9, -999.00,9, -999.00,9,       29.5,2, 20220704,      109,  30.0002,-129.4567,     1.9683,2,     -999.0,9,     -999.0,9,     -999.0,9,     -999.0,9,     0.0125,1,     4.6996,1,     -999.0,9,     -999.0,9,     -999.0,9,     -999.0,9,     -999.0,9
33RR20220613,       P02E,     173,          2,          9,          9,2,20220704,       0014,    30.0002,  -129.4566,       4653,  2531.7,2,   1.8090,2,  34.6441,2,  34.6435,2,     98.9,2,    98.8,2,  166.31,2,   39.23,2,    0.00,2,    2.77,2,   0.004,2,   0.002,2,   0.0000,2,  -999.0,9,  -999.0,9,-999.0000,9,  -999.00,9, -999.00,9,  -999.0,9, -999.00,9, -999.00,9,       27.5,2, 20220704,      104,  30.0002,-129.4567,     1.8093,2,     -999.0,9,     -999.0,9,     -999.0,9,     -999.0,9,     0.0131,1,     4.6999,1,     -999.0,9,     -999.0,9,     -999.0,9,     -999.0,9,     -999.0,9
33RR20220613,       P02E,     173,          2,          8,          8,2,20220704,       0014,    30.0002,  -129.4566,       4653,  2787.5,2,   1.6811,2,  34.6540,2,  34.6545,2,    107.8,2,   108.0,2,  169.24,2,   38.64,2,    0.00,2,    2.71,2,   0.004,2,   0.003,2,   0.0000,2,  -999.0,9,  -999.0,9,-999.0000,9,  -999.00,9, -999.00,9,  -999.0,9, -999.00,9, -999.00,9,       26.5,2, 20220704,       58,  30.0002,-129.4567,     1.6809,2,     -999.0,9,     -999.0,9,     -999.0,9,     -999.0,9,     0.0134,1,     4.7007,1,     -999.0,9,     -999.0,9,     -999.0,9,     -999.0,9,     -999.0,9
33RR20220613,       P02E,     173,          2,          7,          7,2,20220704,       0014,    30.0002,  -129.4566,       4653,  3042.0,2,   1.5947,2,  34.6626,3,  34.6655,2,    116.7,2,   116.8,2,  169.44,2,   38.15,2,    0.00,2,    2.68,2,   0.005,2,   0.004,2,   0.0000,2,  2356.0,2,  2430.5,6,   7.5220,2,    25.00,2, -999.00,9,  -999.0,9, -999.00,9, -999.00,9,       25.1,2, 20220704,       52,  30.0002,-129.4567,     1.5946,2,     -999.0,9,     -999.0,9,     -999.0,9,     -999.0,9,     0.0131,1,     4.7007,1,     -999.0,9,     -999.0,9,     -999.0,9,     -999.0,9,     -999.0,9
33RR20220613,       P02E,     173,          2,          6,          6,2,20220704,       0014,    30.0002,  -129.4566,       4653,  3349.8,2,   1.5321,2,  34.6704,2,  34.6708,2,    125.9,2,   125.9,2,  169.14,2,   37.58,2,    0.00,2,    2.61,2,   0.007,2,   0.007,2,   0.0000,2,  2349.2,2,  2429.7,2,   7.5386,2,    25.00,2, -999.00,9,  -999.0,9, -999.00,9, -999.00,9,       24.5,2, 20220704,       45,  30.0003,-129.4567,     1.5321,2,     -999.0,9,     -999.0,9,     -999.0,9,     -999.0,9,     0.0128,1,     4.7008,1,     -999.0,9,     -999.0,9,     -999.0,9,     -999.0,9,     -999.0,9
33RR20220613,       P02E,     173,          2,          5,          5,2,20220704,       0014,    30.0002,  -129.4566,       4653,  3656.7,2,   1.5010,2,  34.6767,2,  34.6777,2,    133.7,2,   133.9,2,  167.19,2,   37.06,2,    0.00,2,    2.56,2,   0.008,2,   0.008,2,   0.0000,2,  2336.9,3,  2430.2,2,   7.5526,2,    25.00,2, -999.00,9,  -999.0,9, -999.00,9, -999.00,9,       23.8,2, 20220704,       39,  30.0003,-129.4567,     1.5005,2,     -999.0,9,     -999.0,9,     -999.0,9,     -999.0,9,     0.0122,1,     4.7019,1,     -999.0,9,     -999.0,9,     -999.0,9,     -999.0,9,     -999.0,9