BOTTLE,20230830CCHSIOCBG
EXPOCODE,SECT_ID,STNNBR,CASTNO,SAMPNO,BTLNBR,BTLNBR_FLAG_W,DATE,TIME,LATITUDE,LONGITUDE,DEPTH,CTDPRS,CTDPRS_FLAG_W,CTDTMP,CTDTMP_FLAG_W,CTDSAL,CTDSAL_FLAG_W,SALNTY,SALNTY_FLAG_W,CTDOXY,CTDOXY_FLAG_W,OXYGEN,OXYGEN_FLAG_W,SILCAT,SILCAT_FLAG_W,NITRAT,NITRAT_FLAG_W,NITRIT,NITRIT_FLAG_W,PHSPHT,PHSPHT_FLAG_W,CFC-11,CFC-11_FLAG_W,CFC-12,CFC-12_FLAG_W,SF6,SF6_FLAG_W,TCARBN,TCARBN_FLAG_W,ALKALI,ALKALI_FLAG_W,PH_TOT,PH_TOT_FLAG_W,PH_TMP,PH_TMP_FLAG_W,DELC13,DELC13_FLAG_W,DELC14,DELC14_FLAG_W,DOC,DOC_FLAG_W,TDN,TDN_FLAG_W,N2O,N2O_FLAG_W,BTL_DATE,BTL_TIME,BTL_LAT,BTL_LON,REFTMP,REFTMP_FLAG_W,POC,POC_FLAG_W,PON,PON_FLAG_W,POP,POP_FLAG_W,PCOD,PCOD_FLAG_W,CTDFLUOR,CTDFLUOR_FLAG_W,CTDXMISS,CTDXMISS_FLAG_W,HPLC,HPLC_FLAG_W,DNA,DNA_FLAG_W,FCM,FCM_FLAG_W,IMAGES,IMAGES_FLAG_W,VIRAL_ABUNDANCE,VIRAL_ABUNDANCE_FLAG_W
,,,,,,,,,,,METERS,DBAR,,ITS-90,,PSS-78,,PSS-78,,UMOL/KG,,UMOL/KG,,UMOL/KG,,UMOL/KG,,UMOL/KG,,UMOL/KG,,PMOL/KG,,PMOL/KG,,FMOL/KG,,UMOL/KG,,UMOL/KG,,,,DEG C,,/MILLE,,/MILLE,,UMOL/KG,,UMOL/KG,,NMOL/KG,,,,,,ITS-90,,UG/L,,UG/L,,UG/L,,UG/L,,VOLTS,,VOLTS,,,,,,,,,,,
33RR20220613,       P02E,     129,          1,          4,          4,2,20220620,       1511,    29.9997,  -154.8635,       5607,  4682.1,2,   1.5043,2,  34.6879,2,  34.6863,2,    153.9,2,   154.7,2,  152.40,2,   36.03,2,    0.00,2,    2.71,4,   0.005,2,   0.004,2,   0.0000,2,  -999.0,9,  -999.0,9,-999.0000,9,  -999.00,9, -999.00,9,  -999.0,9, -999.00,9, -999.00,9,       23.1,2, 20220620,     1538,  29.9996,-154.8635,     1.5043,2,     -999.0,9,     -999.0,9,     -999.0,9,     -999.0,9,     0.0131,1,     4.7044,1,     -999.0,9,     -999.0,9,     -999.0,9,     -999.0,9,     -999.0,9
33RR20220613,       P02E,     129,          1,          3,          3,2,20220620,       1511,    29.9997,  -154.8635,       5607,  5094.1,2,   1.5315,2,  34.6897,2,  34.6879,2,    158.0,2,   157.9,2,  149.07,2,   35.75,2,    0.00,2,    2.68,4,   0.005,2,   0.007,2,   0.0000,2,  2321.5,2,  2419.0,2,   7.5874,2,    25.01,2, -999.00,9,  -999.0,9, -999.00,9, -999.00,9,       22.7,2, 20220620,     1530,  29.9996,-154.8635,     1.5315,2,     -999.0,9,     -999.0,9,     -999.0,9,     -999.0,9,     0.0122,1,     4.7037,1,     -999.0,9,     -999.0,9,     -999.0,9,     -999.0,9,     -999.0,9
33RR20220613,       P02E,     129,          1,          2,          2,2,20220620,       1511,    29.9997,  -154.8635,       5607,  5403.5,2,   1.5633,2,  34.6904,2,  34.6897,2,    159.7,2,   159.5,2,  147.22,2,   35.75,2,    0.00,2,    2.68,4,   0.005,2,   0.010,2,   0.0000,2,  2318.5,2,  -999.0,9,   7.5880,2,    25.02,2, -999.00,9,  -999.0,9, -999.00,9, -999.00,9,       22.7,2, 20220620,     1522,  29.9997,-154.8635,     1.5634,2,     -999.0,9,     -999.0,9,     -999.0,9,     -999.0,9,     0.0122,1,     4.7034,1,     -999.0,9,     -999.0,9,     -999.0,9,     -999.0,9,     -999.0,9
33RR20220613,       P02E,     129,          1,          1,          1,2,20220620,       1511,    29.9997,  -154.8635,       5607,  5703.3,2,   1.6031,2,  34.6903,2,  34.6895,2,    159.7,2,   159.7,2,  147.22,2,   35.69,2,    0.00,2,    2.66,4,   0.007,2,   0.006,2,   0.0000,2,  2323.1,2,  2417.5,2,   7.5885,2,    25.02,2, -999.00,9,  -999.0,9, -999.00,9, -999.00,9,       22.9,2, 20220620,     1511,  29.9996,-154.8635,     1.6032,2,     -999.0,9,     -999.0,9,     -999.0,9,     -999.0,9,     0.0134,1,     4.7032,1,     -999.0,9,     -999.0,9,     -999.0,9,     -999.0,9,     -999.0,9