BOTTLE,20230830CCHSIOCBG
EXPOCODE,SECT_ID,STNNBR,CASTNO,SAMPNO,BTLNBR,BTLNBR_FLAG_W,DATE,TIME,LATITUDE,LONGITUDE,DEPTH,CTDPRS,CTDPRS_FLAG_W,CTDTMP,CTDTMP_FLAG_W,CTDSAL,CTDSAL_FLAG_W,SALNTY,SALNTY_FLAG_W,CTDOXY,CTDOXY_FLAG_W,OXYGEN,OXYGEN_FLAG_W,SILCAT,SILCAT_FLAG_W,NITRAT,NITRAT_FLAG_W,NITRIT,NITRIT_FLAG_W,PHSPHT,PHSPHT_FLAG_W,CFC-11,CFC-11_FLAG_W,CFC-12,CFC-12_FLAG_W,SF6,SF6_FLAG_W,TCARBN,TCARBN_FLAG_W,ALKALI,ALKALI_FLAG_W,PH_TOT,PH_TOT_FLAG_W,PH_TMP,PH_TMP_FLAG_W,DELC13,DELC13_FLAG_W,DELC14,DELC14_FLAG_W,DOC,DOC_FLAG_W,TDN,TDN_FLAG_W,N2O,N2O_FLAG_W,BTL_DATE,BTL_TIME,BTL_LAT,BTL_LON,REFTMP,REFTMP_FLAG_W,POC,POC_FLAG_W,PON,PON_FLAG_W,POP,POP_FLAG_W,PCOD,PCOD_FLAG_W,CTDFLUOR,CTDFLUOR_FLAG_W,CTDXMISS,CTDXMISS_FLAG_W,HPLC,HPLC_FLAG_W,DNA,DNA_FLAG_W,FCM,FCM_FLAG_W,IMAGES,IMAGES_FLAG_W,VIRAL_ABUNDANCE,VIRAL_ABUNDANCE_FLAG_W
,,,,,,,,,,,METERS,DBAR,,ITS-90,,PSS-78,,PSS-78,,UMOL/KG,,UMOL/KG,,UMOL/KG,,UMOL/KG,,UMOL/KG,,UMOL/KG,,PMOL/KG,,PMOL/KG,,FMOL/KG,,UMOL/KG,,UMOL/KG,,,,DEG C,,/MILLE,,/MILLE,,UMOL/KG,,UMOL/KG,,NMOL/KG,,,,,,ITS-90,,UG/L,,UG/L,,UG/L,,UG/L,,VOLTS,,VOLTS,,,,,,,,,,,
33RR20220613,       P02E,     145,          1,          4,          4,2,20220625,       1739,    30.0009,  -145.6231,       5130,  4476.9,2,   1.4937,2,  34.6872,2,  34.6857,2,    151.1,2,   151.1,2,  153.55,2,   35.67,2,    0.00,2,    2.81,4,-999.000,9,-999.000,9,-999.0000,9,  -999.0,9,  -999.0,9,-999.0000,9,  -999.00,9, -999.00,9,  -999.0,9, -999.00,9, -999.00,9,     -999.0,9, 20220625,     1755,  30.0010,-145.6232,     1.4936,2,     -999.0,9,     -999.0,9,     -999.0,9,     -999.0,9,     0.0122,1,     4.7039,1,     -999.0,9,     -999.0,9,     -999.0,9,     -999.0,9,     -999.0,9
33RR20220613,       P02E,     145,          1,          3,          3,2,20220625,       1739,    30.0009,  -145.6231,       5130,  4786.2,2,   1.5213,2,  34.6880,2,  34.6877,2,    153.3,2,   153.5,2,  151.40,2,   35.54,2,    0.00,2,    2.79,4,-999.000,5,-999.000,5,-999.0000,5,  2326.9,2,  2422.7,2,   7.5817,2,    25.01,2, -999.00,9,  -999.0,9, -999.00,9, -999.00,9,     -999.0,5, 20220625,     1749,  30.0010,-145.6232,     1.5213,2,     -999.0,9,     -999.0,9,     -999.0,9,     -999.0,9,     0.0122,1,     4.7031,1,     -999.0,9,     -999.0,9,     -999.0,9,     -999.0,9,     -999.0,9
33RR20220613,       P02E,     145,          1,          2,          2,2,20220625,       1739,    30.0009,  -145.6231,       5130,  4991.6,2,   1.5426,2,  34.6883,2,  34.6873,2,    154.3,2,   154.3,2,  150.42,2,   35.54,2,    0.00,2,    2.79,4,-999.000,9,-999.000,9,-999.0000,9,  2326.5,2,  2423.1,2,   7.5816,2,    25.00,2, -999.00,9,  -999.0,9, -999.00,9, -999.00,9,     -999.0,9, 20220625,     1745,  30.0010,-145.6232,     1.5426,2,     -999.0,9,     -999.0,9,     -999.0,9,     -999.0,9,     0.0120,1,     4.7030,1,     -999.0,9,     -999.0,9,     -999.0,9,     -999.0,9,     -999.0,9
33RR20220613,       P02E,     145,          1,          1,          1,2,20220625,       1739,    30.0009,  -145.6231,       5130,  5219.4,2,   1.5649,2,  34.6887,2,  34.6875,2,    155.6,2,   155.5,2,  149.15,2,   35.46,2,    0.00,2,    2.78,4,   0.009,2,   0.005,2,   0.0000,2,  2325.1,6,  2421.4,2,   7.5834,2,    25.00,2, -999.00,9,  -999.0,9, -999.00,9, -999.00,9,       23.3,2, 20220625,     1739,  30.0010,-145.6232,     1.5649,2,     -999.0,9,     -999.0,9,     -999.0,9,     -999.0,9,     0.0129,1,     4.7020,1,     -999.0,9,     -999.0,9,     -999.0,9,     -999.0,9,     -999.0,9
33RR20220613,       P02E,     146,          1,         26,         26,2,20220625,       2254,    30.0000,  -145.0469,       5221,     3.5,2,  23.3049,2,  35.0941,2,-999.0000,9,    216.6,2,  -999.0,9, -999.00,9, -999.00,9, -999.00,9, -999.00,9,-999.000,9,-999.000,9,-999.0000,9,  -999.0,9,  -999.0,9,-999.0000,9,  -999.00,9, -999.00,9,  -999.0,9, -999.00,9, -999.00,9,     -999.0,9, 20220625,     2324,  30.0000,-145.0469,    23.2743,2,     -999.0,9,     -999.0,9,     -999.0,9,     -999.0,1,     0.0122,1,     4.6421,1,     -999.0,9,     -999.0,9,     -999.0,9,     -999.0,9,     -999.0,9
33RR20220613,       P02E,     146,          1,         19,         39,2,20220625,       2254,    30.0000,  -145.0469,       5221,     3.5,2,  23.2213,2,  35.0947,2,-999.0000,9,    217.1,2,  -999.0,9, -999.00,9, -999.00,9, -999.00,9, -999.00,9,-999.000,9,-999.000,9,-999.0000,9,  -999.0,9,  -999.0,9,-999.0000,9,  -999.00,9, -999.00,9,  -999.0,9, -999.00,9, -999.00,9,     -999.0,9, 20220625,     2324,  30.0000,-145.0469,     -999.0,9,     -999.0,1,     -999.0,1,     -999.0,9,     -999.0,9,     0.0125,1,     4.6415,1,     -999.0,9,     -999.0,9,     -999.0,9,     -999.0,9,     -999.0,9
33RR20220613,       P02E,     146,          1,         22,         22,2,20220625,       2254,    30.0000,  -145.0469,       5221,     3.6,2,  23.2539,2,  35.0938,2,-999.0000,9,    217.1,2,  -999.0,9, -999.00,9, -999.00,9, -999.00,9, -999.00,9,-999.000,9,-999.000,9,-999.0000,9,  -999.0,9,  -999.0,9,-999.0000,9,  -999.00,9, -999.00,9,  -999.0,9, -999.00,9, -999.00,9,     -999.0,9, 20220625,     2324,  30.0000,-145.0469,     -999.0,9,     -999.0,9,     -999.0,9,     -999.0,1,     -999.0,9,     0.0130,1,     4.6429,1,     -999.0,9,     -999.0,9,     -999.0,9,     -999.0,9,     -999.0,9
33RR20220613,       P02E,     146,          1,         20,         20,2,20220625,       2254,    30.0000,  -145.0469,       5221,     3.6,2,  23.2306,2,  35.0974,2,-999.0000,9,    217.1,2,  -999.0,9, -999.00,9, -999.00,9, -999.00,9, -999.00,9,-999.000,9,-999.000,9,-999.0000,9,  -999.0,9,  -999.0,9,-999.0000,9,  -999.00,9, -999.00,9,  -999.0,9, -999.00,9, -999.00,9,     -999.0,9, 20220625,     2324,  30.0000,-145.0469,     -999.0,9,     -999.0,1,     -999.0,1,     -999.0,9,     -999.0,9,     0.0122,1,     4.6437,1,     -999.0,9,     -999.0,9,     -999.0,9,     -999.0,9,     -999.0,9
33RR20220613,       P02E,     146,          1,         16,         16,2,20220625,       2254,    30.0000,  -145.0469,       5221,     3.6,2,  23.1380,2,  35.0914,2,-999.0000,9,    217.5,2,  -999.0,9, -999.00,9, -999.00,9, -999.00,9, -999.00,9,-999.000,9,-999.000,9,-999.0000,9,  -999.0,9,  -999.0,9,-999.0000,9,  -999.00,9, -999.00,9,  -999.0,9, -999.00,9, -999.00,9,     -999.0,9, 20220625,     2324,  30.0000,-145.0469,    23.2200,2,     -999.0,9,     -999.0,9,     -999.0,9,     -999.0,9,     0.0129,1,     4.6400,1,     -999.0,1,     -999.0,9,     -999.0,9,     -999.0,9,     -999.0,9
33RR20220613,       P02E,     146,          1,         25,         25,2,20220625,       2254,    30.0000,  -145.0469,       5221,     3.6,2,  23.2573,2,  35.0977,2,-999.0000,9,    216.9,2,  -999.0,9, -999.00,9, -999.00,9, -999.00,9, -999.00,9,-999.000,9,-999.000,9,-999.0000,9,  -999.0,9,  -999.0,9,-999.0000,9,  -999.00,9, -999.00,9,  -999.0,9, -999.00,9, -999.00,9,     -999.0,9, 20220625,     2324,  30.0000,-145.0469,     -999.0,9,     -999.0,9,     -999.0,9,     -999.0,9,     -999.0,1,     0.0132,1,     4.6409,1,     -999.0,9,     -999.0,9,     -999.0,9,     -999.0,9,     -999.0,9
33RR20220613,       P02E,     146,          1,         21,         21,2,20220625,       2254,    30.0000,  -145.0469,       5221,     3.7,2,  23.2314,2,  35.0968,2,-999.0000,9,    217.2,2,  -999.0,9, -999.00,9, -999.00,9, -999.00,9, -999.00,9,-999.000,9,-999.000,9,-999.0000,9,  -999.0,9,  -999.0,9,-999.0000,9,  -999.00,9, -999.00,9,  -999.0,9, -999.00,9, -999.00,9,     -999.0,9, 20220625,     2324,  30.0000,-145.0469,     -999.0,9,     -999.0,1,     -999.0,1,     -999.0,9,     -999.0,9,     0.0132,1,     4.6416,1,     -999.0,9,     -999.0,9,     -999.0,9,     -999.0,9,     -999.0,9
33RR20220613,       P02E,     146,          1,         17,         37,2,20220625,       2254,    30.0000,  -145.0469,       5221,     3.7,2,  23.1455,2,  35.0911,2,-999.0000,9,    217.5,2,  -999.0,9, -999.00,9, -999.00,9, -999.00,9, -999.00,9,-999.000,9,-999.000,9,-999.0000,9,  -999.0,9,  -999.0,9,-999.0000,9,  -999.00,9, -999.00,9,  -999.0,9, -999.00,9, -999.00,9,     -999.0,9, 20220625,     2324,  30.0000,-145.0469,     -999.0,9,     -999.0,1,     -999.0,1,     -999.0,9,     -999.0,9,     0.0135,1,     4.6409,1,     -999.0,9,     -999.0,9,     -999.0,1,     -999.0,9,     -999.0,9
33RR20220613,       P02E,     146,          1,         24,         24,2,20220625,       2254,    30.0000,  -145.0469,       5221,     3.8,2,  23.2283,2,  35.0937,2,-999.0000,9,    217.2,2,  -999.0,9, -999.00,9, -999.00,9, -999.00,9, -999.00,9,-999.000,9,-999.000,9,-999.0000,9,  -999.0,9,  -999.0,9,-999.0000,9,  -999.00,9, -999.00,9,  -999.0,9, -999.00,9, -999.00,9,     -999.0,9, 20220625,     2324,  30.0000,-145.0469,     -999.0,9,     -999.0,9,     -999.0,9,     -999.0,1,     -999.0,9,     0.0122,1,     4.6446,1,     -999.0,9,     -999.0,9,     -999.0,9,     -999.0,9,     -999.0,9
33RR20220613,       P02E,     146,          1,         23,         23,2,20220625,       2254,    30.0000,  -145.0469,       5221,     3.8,2,  23.2633,2,  35.0926,2,-999.0000,9,    216.9,2,  -999.0,9, -999.00,9, -999.00,9, -999.00,9, -999.00,9,-999.000,9,-999.000,9,-999.0000,9,  -999.0,9,  -999.0,9,-999.0000,9,  -999.00,9, -999.00,9,  -999.0,9, -999.00,9, -999.00,9,     -999.0,9, 20220625,     2324,  30.0000,-145.0469,     -999.0,9,     -999.0,9,     -999.0,9,     -999.0,1,     -999.0,9,     0.0131,1,     4.6430,1,     -999.0,9,     -999.0,9,     -999.0,9,     -999.0,9,     -999.0,9
33RR20220613,       P02E,     146,          1,         18,         18,2,20220625,       2254,    30.0000,  -145.0469,       5221,     3.8,2,  23.1680,2,  35.0909,2,-999.0000,9,    217.4,2,  -999.0,9, -999.00,9, -999.00,9, -999.00,9, -999.00,9,-999.000,9,-999.000,9,-999.0000,9,  -999.0,9,  -999.0,9,-999.0000,9,  -999.00,9, -999.00,9,  -999.0,9, -999.00,9, -999.00,9,     -999.0,9, 20220625,     2324,  30.0000,-145.0469,     -999.0,9,     -999.0,9,     -999.0,9,     -999.0,9,     -999.0,9,     0.0134,1,     4.6397,1,     -999.0,9,     -999.0,1,     -999.0,9,     -999.0,9,     -999.0,9
33RR20220613,       P02E,     146,          1,         27,         27,2,20220625,       2254,    30.0000,  -145.0469,       5221,     3.9,2,  23.2664,2,  35.0977,2,-999.0000,9,    217.2,2,  -999.0,9, -999.00,9, -999.00,9, -999.00,9, -999.00,9,-999.000,9,-999.000,9,-999.0000,9,  -999.0,9,  -999.0,9,-999.0000,9,  -999.00,9, -999.00,9,  -999.0,9, -999.00,9, -999.00,9,     -999.0,9, 20220625,     2324,  30.0000,-145.0469,     -999.0,9,     -999.0,9,     -999.0,9,     -999.0,9,     -999.0,1,     0.0122,1,     4.6409,1,     -999.0,9,     -999.0,9,     -999.0,9,     -999.0,9,     -999.0,9
33RR20220613,       P02E,     146,          1,         15,         15,2,20220625,       2254,    30.0000,  -145.0469,       5221,    30.2,2,  22.9374,2,  35.1830,2,-999.0000,9,    218.9,2,  -999.0,9, -999.00,9, -999.00,9, -999.00,9, -999.00,9,-999.000,9,-999.000,9,-999.0000,9,  -999.0,9,  -999.0,9,-999.0000,9,  -999.00,9, -999.00,9,  -999.0,9, -999.00,9, -999.00,9,     -999.0,9, 20220625,     2321,  30.0000,-145.0469,     -999.0,9,     -999.0,1,     -999.0,1,     -999.0,9,     -999.0,9,     0.0134,1,     4.6291,1,     -999.0,9,     -999.0,9,     -999.0,9,     -999.0,9,     -999.0,9
33RR20220613,       P02E,     146,          1,         14,         14,2,20220625,       2254,    30.0000,  -145.0469,       5221,    30.3,2,  22.9365,2,  35.1831,2,-999.0000,9,    218.8,2,  -999.0,9, -999.00,9, -999.00,9, -999.00,9, -999.00,9,-999.000,9,-999.000,9,-999.0000,9,  -999.0,9,  -999.0,9,-999.0000,9,  -999.00,9, -999.00,9,  -999.0,9, -999.00,9, -999.00,9,     -999.0,9, 20220625,     2321,  30.0000,-145.0469,    22.9357,2,     -999.0,9,     -999.0,9,     -999.0,9,     -999.0,9,     0.0134,1,     4.6285,1,     -999.0,1,     -999.0,9,     -999.0,1,     -999.0,9,     -999.0,9
33RR20220613,       P02E,     146,          1,         13,         13,2,20220625,       2254,    30.0000,  -145.0469,       5221,   101.3,2,  19.9145,2,  34.9884,2,-999.0000,9,    232.5,2,  -999.0,9, -999.00,9, -999.00,9, -999.00,9, -999.00,9,-999.000,9,-999.000,9,-999.0000,9,  -999.0,9,  -999.0,9,-999.0000,9,  -999.00,9, -999.00,9,  -999.0,9, -999.00,9, -999.00,9,     -999.0,9, 20220625,     2316,  30.0000,-145.0468,     -999.0,9,     -999.0,1,     -999.0,1,     -999.0,9,     -999.0,9,     0.0195,1,     4.6477,1,     -999.0,9,     -999.0,9,     -999.0,9,     -999.0,9,     -999.0,9
33RR20220613,       P02E,     146,          1,         12,         12,2,20220625,       2254,    30.0000,  -145.0469,       5221,   101.8,2,  19.9159,2,  34.9889,2,-999.0000,9,    232.8,2,  -999.0,9, -999.00,9, -999.00,9, -999.00,9, -999.00,9,-999.000,9,-999.000,9,-999.0000,9,  -999.0,9,  -999.0,9,-999.0000,9,  -999.00,9, -999.00,9,  -999.0,9, -999.00,9, -999.00,9,     -999.0,9, 20220625,     2316,  30.0000,-145.0468,    19.9143,2,     -999.0,9,     -999.0,9,     -999.0,9,     -999.0,9,     0.0183,1,     4.6481,1,     -999.0,1,     -999.0,9,     -999.0,1,     -999.0,9,     -999.0,9
33RR20220613,       P02E,     146,          1,         10,         10,2,20220625,       2254,    30.0000,  -145.0469,       5221,   151.1,2,  18.8377,2,  34.8464,2,-999.0000,9,    224.5,2,  -999.0,9, -999.00,9, -999.00,9, -999.00,9, -999.00,9,-999.000,9,-999.000,9,-999.0000,9,  -999.0,9,  -999.0,9,-999.0000,9,  -999.00,9, -999.00,9,  -999.0,9, -999.00,9, -999.00,9,     -999.0,9, 20220625,     2313,  30.0000,-145.0468,     -999.0,9,     -999.0,1,     -999.0,1,     -999.0,9,     -999.0,9,     0.0315,1,     4.6606,1,     -999.0,9,     -999.0,9,     -999.0,9,     -999.0,9,     -999.0,9
33RR20220613,       P02E,     146,          1,          9,          9,2,20220625,       2254,    30.0000,  -145.0469,       5221,   151.2,2,  18.8266,2,  34.8440,2,-999.0000,9,    224.4,2,  -999.0,9, -999.00,9, -999.00,9, -999.00,9, -999.00,9,-999.000,9,-999.000,9,-999.0000,9,  -999.0,9,  -999.0,9,-999.0000,9,  -999.00,9, -999.00,9,  -999.0,9, -999.00,9, -999.00,9,     -999.0,9, 20220625,     2313,  30.0000,-145.0468,    18.8289,2,     -999.0,9,     -999.0,9,     -999.0,9,     -999.0,9,     0.0323,1,     4.6604,1,     -999.0,1,     -999.0,9,     -999.0,1,     -999.0,9,     -999.0,9
33RR20220613,       P02E,     146,          1,         11,         11,2,20220625,       2254,    30.0000,  -145.0469,       5221,   151.4,2,  18.8251,2,  34.8433,2,-999.0000,9,    224.7,2,  -999.0,9, -999.00,9, -999.00,9, -999.00,9, -999.00,9,-999.000,9,-999.000,9,-999.0000,9,  -999.0,9,  -999.0,9,-999.0000,9,  -999.00,9, -999.00,9,  -999.0,9, -999.00,9, -999.00,9,     -999.0,9, 20220625,     2313,  30.0000,-145.0469,     -999.0,9,     -999.0,9,     -999.0,9,     -999.0,9,     -999.0,9,     0.0314,1,     4.6604,1,     -999.0,9,     -999.0,1,     -999.0,9,     -999.0,9,     -999.0,9
33RR20220613,       P02E,     146,          1,          4,          4,2,20220625,       2254,    30.0000,  -145.0469,       5221,   201.5,2,  14.7761,2,  34.2332,2,-999.0000,9,    220.9,2,  -999.0,9, -999.00,9, -999.00,9, -999.00,9, -999.00,9,-999.000,9,-999.000,9,-999.0000,9,  -999.0,9,  -999.0,9,-999.0000,9,  -999.00,9, -999.00,9,  -999.0,9, -999.00,9, -999.00,9,     -999.0,9, 20220625,     2310,  30.0000,-145.0469,     -999.0,9,     -999.0,9,     -999.0,9,     -999.0,9,     -999.0,9,     0.0195,1,     4.6799,1,     -999.0,1,     -999.0,9,     -999.0,9,     -999.0,9,     -999.0,9
33RR20220613,       P02E,     146,          1,          8,          8,2,20220625,       2254,    30.0000,  -145.0469,       5221,   201.7,2,  14.7980,2,  34.2341,2,-999.0000,9,    220.7,2,  -999.0,9, -999.00,9, -999.00,9, -999.00,9, -999.00,9,-999.000,9,-999.000,9,-999.0000,9,  -999.0,9,  -999.0,9,-999.0000,9,  -999.00,9, -999.00,9,  -999.0,9, -999.00,9, -999.00,9,     -999.0,9, 20220625,     2310,  30.0000,-145.0469,     -999.0,9,     -999.0,1,     -999.0,1,     -999.0,9,     -999.0,9,     0.0195,1,     4.6789,1,     -999.0,9,     -999.0,9,     -999.0,9,     -999.0,9,     -999.0,9
33RR20220613,       P02E,     146,          1,          7,          7,2,20220625,       2254,    30.0000,  -145.0469,       5221,   201.8,2,  14.7878,2,  34.2322,2,-999.0000,9,    220.8,2,  -999.0,9, -999.00,9, -999.00,9, -999.00,9, -999.00,9,-999.000,9,-999.000,9,-999.0000,9,  -999.0,9,  -999.0,9,-999.0000,9,  -999.00,9, -999.00,9,  -999.0,9, -999.00,9, -999.00,9,     -999.0,9, 20220625,     2310,  30.0000,-145.0468,     -999.0,9,     -999.0,9,     -999.0,9,     -999.0,9,     -999.0,9,     0.0189,1,     4.6795,1,     -999.0,1,     -999.0,9,     -999.0,1,     -999.0,9,     -999.0,9
33RR20220613,       P02E,     146,          1,          3,          3,2,20220625,       2254,    30.0000,  -145.0469,       5221,   202.0,2,  14.8111,2,  34.2344,2,-999.0000,9,    220.5,2,  -999.0,9, -999.00,9, -999.00,9, -999.00,9, -999.00,9,-999.000,9,-999.000,9,-999.0000,9,  -999.0,9,  -999.0,9,-999.0000,9,  -999.00,9, -999.00,9,  -999.0,9, -999.00,9, -999.00,9,     -999.0,9, 20220625,     2310,  30.0000,-145.0469,    14.7942,2,     -999.0,9,     -999.0,9,     -999.0,9,     -999.0,9,     0.0192,1,     4.6799,1,     -999.0,9,     -999.0,1,     -999.0,1,     -999.0,9,     -999.0,9
33RR20220613,       P02E,     146,          1,          6,          6,2,20220625,       2254,    30.0000,  -145.0469,       5221,   202.1,2,  14.8090,2,  34.2343,2,-999.0000,9,    220.6,2,  -999.0,9, -999.00,9, -999.00,9, -999.00,9, -999.00,9,-999.000,9,-999.000,9,-999.0000,9,  -999.0,9,  -999.0,9,-999.0000,9,  -999.00,9, -999.00,9,  -999.0,9, -999.00,9, -999.00,9,     -999.0,9, 20220625,     2310,  30.0000,-145.0468,     -999.0,9,     -999.0,9,     -999.0,9,     -999.0,9,     -999.0,9,     0.0185,1,     4.6799,1,     -999.0,9,     -999.0,9,     -999.0,9,     -999.0,9,     -999.0,9
33RR20220613,       P02E,     146,          1,          5,          5,2,20220625,       2254,    30.0000,  -145.0469,       5221,   202.2,2,  14.8154,2,  34.2346,2,-999.0000,9,    220.6,2,  -999.0,9, -999.00,9, -999.00,9, -999.00,9, -999.00,9,-999.000,9,-999.000,9,-999.0000,9,  -999.0,9,  -999.0,9,-999.0000,9,  -999.00,9, -999.00,9,  -999.0,9, -999.00,9, -999.00,9,     -999.0,9, 20220625,     2310,  30.0000,-145.0468,     -999.0,9,     -999.0,1,     -999.0,1,     -999.0,9,     -999.0,9,     0.0195,1,     4.6798,1,     -999.0,9,     -999.0,9,     -999.0,9,     -999.0,9,     -999.0,9
33RR20220613,       P02E,     146,          1,          2,          2,2,20220625,       2254,    30.0000,  -145.0469,       5221,   503.6,2,   7.0326,2,  33.9931,2,-999.0000,9,    139.5,2,  -999.0,9, -999.00,9, -999.00,9, -999.00,9, -999.00,9,-999.000,9,-999.000,9,-999.0000,9,  -999.0,9,  -999.0,9,-999.0000,9,  -999.00,9, -999.00,9,  -999.0,9, -999.00,9, -999.00,9,     -999.0,9, 20220625,     2304,  30.0000,-145.0469,     7.0601,2,     -999.0,9,     -999.0,9,     -999.0,9,     -999.0,9,     0.0130,1,     4.6959,1,     -999.0,9,     -999.0,9,     -999.0,1,     -999.0,9,     -999.0,9
33RR20220613,       P02E,     146,          1,          1,          1,2,20220625,       2254,    30.0000,  -145.0469,       5221,  1013.5,2,   3.7011,2,  34.4019,2,-999.0000,9,     16.1,2,  -999.0,9, -999.00,9, -999.00,9, -999.00,9, -999.00,9,-999.000,9,-999.000,9,-999.0000,9,  -999.0,9,  -999.0,9,-999.0000,9,  -999.00,9, -999.00,9,  -999.0,9, -999.00,9, -999.00,9,     -999.0,9, 20220625,     2254,  30.0000,-145.0469,     3.7017,2,     -999.0,9,     -999.0,9,     -999.0,9,     -999.0,9,     0.0134,1,     4.6974,1,     -999.0,9,     -999.0,1,     -999.0,1,     -999.0,9,     -999.0,9