BOTTLE,20230830CCHSIOCBG
EXPOCODE,SECT_ID,STNNBR,CASTNO,SAMPNO,BTLNBR,BTLNBR_FLAG_W,DATE,TIME,LATITUDE,LONGITUDE,DEPTH,CTDPRS,CTDPRS_FLAG_W,CTDTMP,CTDTMP_FLAG_W,CTDSAL,CTDSAL_FLAG_W,SALNTY,SALNTY_FLAG_W,CTDOXY,CTDOXY_FLAG_W,OXYGEN,OXYGEN_FLAG_W,SILCAT,SILCAT_FLAG_W,NITRAT,NITRAT_FLAG_W,NITRIT,NITRIT_FLAG_W,PHSPHT,PHSPHT_FLAG_W,CFC-11,CFC-11_FLAG_W,CFC-12,CFC-12_FLAG_W,SF6,SF6_FLAG_W,TCARBN,TCARBN_FLAG_W,ALKALI,ALKALI_FLAG_W,PH_TOT,PH_TOT_FLAG_W,PH_TMP,PH_TMP_FLAG_W,DELC13,DELC13_FLAG_W,DELC14,DELC14_FLAG_W,DOC,DOC_FLAG_W,TDN,TDN_FLAG_W,N2O,N2O_FLAG_W,BTL_DATE,BTL_TIME,BTL_LAT,BTL_LON,REFTMP,REFTMP_FLAG_W,POC,POC_FLAG_W,PON,PON_FLAG_W,POP,POP_FLAG_W,PCOD,PCOD_FLAG_W,CTDFLUOR,CTDFLUOR_FLAG_W,CTDXMISS,CTDXMISS_FLAG_W,HPLC,HPLC_FLAG_W,DNA,DNA_FLAG_W,FCM,FCM_FLAG_W,IMAGES,IMAGES_FLAG_W,VIRAL_ABUNDANCE,VIRAL_ABUNDANCE_FLAG_W
,,,,,,,,,,,METERS,DBAR,,ITS-90,,PSS-78,,PSS-78,,UMOL/KG,,UMOL/KG,,UMOL/KG,,UMOL/KG,,UMOL/KG,,UMOL/KG,,PMOL/KG,,PMOL/KG,,FMOL/KG,,UMOL/KG,,UMOL/KG,,,,DEG C,,/MILLE,,/MILLE,,UMOL/KG,,UMOL/KG,,NMOL/KG,,,,,,ITS-90,,UG/L,,UG/L,,UG/L,,UG/L,,VOLTS,,VOLTS,,,,,,,,,,,
33RR20220613,       P02E,     198,          1,         34,         34,2,20220711,       1328,    32.1593,  -119.0506,       1529,     5.2,2,  17.0187,2,  33.5680,2,  33.5704,2,    251.4,2,   251.2,2,    0.20,2,    0.45,2,    0.05,2,    0.29,2,   2.414,2,   1.425,2,   2.2473,2,  2025.9,6,  2244.3,2,   7.9166,2,    24.99,2, -999.00,1,  -999.0,1, -999.00,1, -999.00,1,        9.9,2, 20220711,     1427,  32.1593,-119.0506,    17.0141,2,     -999.0,9,     -999.0,9,     -999.0,9,     -999.0,9,     0.0394,1,     4.5537,1,     -999.0,9,     -999.0,9,     -999.0,9,     -999.0,9,     -999.0,9
33RR20220613,       P02E,     198,          1,         33,         33,2,20220711,       1328,    32.1593,  -119.0506,       1529,    25.6,2,  15.6517,2,  33.4606,2,  33.4658,2,    247.7,3,   254.7,2,    0.88,2,    2.35,2,    0.16,2,    0.48,2,   2.622,2,   1.526,2,   2.5100,2,  2039.1,2,  2235.7,2,   7.8715,2,    25.00,2, -999.00,1,  -999.0,1, -999.00,1, -999.00,1,       11.2,2, 20220711,     1426,  32.1593,-119.0506,    15.6599,3,     -999.0,9,     -999.0,9,     -999.0,9,     -999.0,9,     0.0428,1,     4.5687,1,     -999.0,9,     -999.0,9,     -999.0,9,     -999.0,9,     -999.0,9
33RR20220613,       P02E,     198,          1,         32,         32,2,20220711,       1328,    32.1593,  -119.0506,       1529,    50.1,2,  12.0166,2,  33.4827,2,  33.4733,2,    207.2,2,   208.0,2,    8.70,2,   12.76,2,    0.25,2,    1.13,2,   2.965,2,   1.730,2,   2.4624,2,  2107.9,2,  2229.4,2,   7.6889,2,    25.01,2, -999.00,1,  -999.0,1, -999.00,1, -999.00,1,       15.5,2, 20220711,     1424,  32.1593,-119.0506,    12.0084,2,     -999.0,9,     -999.0,9,     -999.0,9,     -999.0,9,     0.0392,1,     4.6167,1,     -999.0,9,     -999.0,9,     -999.0,9,     -999.0,9,     -999.0,9
33RR20220613,       P02E,     198,          1,         31,         31,2,20220711,       1328,    32.1593,  -119.0506,       1529,    75.6,2,  10.7825,2,  33.6356,2,  33.6357,2,    172.2,2,   173.2,2,   15.94,2,   18.19,2,    0.00,2,    1.45,2,   3.015,2,   1.737,2,   2.3038,2,  2144.6,2,  2234.7,2,   7.6018,2,    25.00,2, -999.00,1,  -999.0,1, -999.00,1, -999.00,1,       19.6,2, 20220711,     1422,  32.1593,-119.0506,    10.7740,2,     -999.0,9,     -999.0,9,     -999.0,9,     -999.0,9,     0.0168,1,     4.6575,1,     -999.0,9,     -999.0,9,     -999.0,9,     -999.0,9,     -999.0,9
33RR20220613,       P02E,     198,          1,         30,         17,2,20220711,       1328,    32.1593,  -119.0506,       1529,   105.9,2,   9.7418,2,  33.8143,2,  33.8298,2,    140.8,2,   140.2,2,   22.48,2,   21.79,2,    0.00,2,    1.64,2,   2.985,2,   1.740,2,   1.8555,2,  2171.4,2,  2243.8,2,   7.5489,2,    25.00,2, -999.00,1,  -999.0,1, -999.00,1, -999.00,1,       24.9,2, 20220711,     1420,  32.1593,-119.0506,     9.7387,2,     -999.0,9,     -999.0,9,     -999.0,9,     -999.0,9,     0.0134,1,     4.6654,1,     -999.0,9,     -999.0,9,     -999.0,9,     -999.0,9,     -999.0,9
33RR20220613,       P02E,     198,          1,         29,         29,2,20220711,       1328,    32.1593,  -119.0506,       1529,   125.8,2,   9.3321,2,  33.9064,2,  33.9189,2,    135.3,2,   135.1,2,   25.81,2,   23.26,2,    0.00,2,    1.71,2,   2.968,2,   1.718,2,   1.6670,2,  2181.2,2,  2251.5,6,   7.5398,2,    25.00,2, -999.00,1,  -999.0,1, -999.00,1, -999.00,1,       26.9,2, 20220711,     1419,  32.1593,-119.0506,     9.3355,2,     -999.0,9,     -999.0,9,     -999.0,9,     -999.0,9,     0.0134,1,     4.6662,1,     -999.0,9,     -999.0,9,     -999.0,9,     -999.0,9,     -999.0,9
33RR20220613,       P02E,     198,          1,         28,         28,2,20220711,       1328,    32.1593,  -119.0506,       1529,   151.0,2,   8.9951,2,  33.9715,2,  33.9743,2,    130.9,2,   129.8,2,   28.83,2,   24.50,2,    0.00,2,    1.78,2,   2.928,2,   1.689,2,   1.5155,2,  2187.6,2,  2257.7,2,   7.5299,2,    25.00,2, -999.00,1,  -999.0,1, -999.00,1, -999.00,1,       28.6,2, 20220711,     1417,  32.1593,-119.0507,     8.9993,2,     -999.0,9,     -999.0,9,     -999.0,9,     -999.0,9,     0.0134,1,     4.6667,1,     -999.0,9,     -999.0,9,     -999.0,9,     -999.0,9,     -999.0,9
33RR20220613,       P02E,     198,          1,         27,         27,2,20220711,       1328,    32.1593,  -119.0506,       1529,   176.3,2,   8.6673,2,  34.0047,2,  34.0104,2,    123.3,2,   123.0,2,   32.55,2,   25.93,2,    0.00,2,    1.86,2,-999.000,9,-999.000,9,-999.0000,9,  2199.5,2,  2261.8,2,   7.5133,2,    25.01,2, -999.00,1,  -999.0,1, -999.00,1, -999.00,1,     -999.0,9, 20220711,     1416,  32.1593,-119.0506,     8.6705,2,     -999.0,9,     -999.0,9,     -999.0,9,     -999.0,9,     0.0129,1,     4.6663,1,     -999.0,9,     -999.0,9,     -999.0,9,     -999.0,9,     -999.0,9
33RR20220613,       P02E,     198,          1,         26,         26,2,20220711,       1328,    32.1593,  -119.0506,       1529,   201.6,2,   8.2922,2,  34.0426,2,  34.0452,2,    103.1,3,   101.5,2,   38.02,2,   28.42,2,    0.00,2,    2.07,2,   2.628,2,   1.490,2,   1.0396,2,  2219.2,2,  2268.5,2,   7.4673,2,    25.02,2, -999.00,1,  -999.0,1, -999.00,1, -999.00,1,       33.4,2, 20220711,     1415,  32.1593,-119.0506,     8.2943,2,     -999.0,9,     -999.0,9,     -999.0,9,     -999.0,9,     0.0134,1,     4.6655,1,     -999.0,9,     -999.0,9,     -999.0,9,     -999.0,9,     -999.0,9
33RR20220613,       P02E,     198,          1,         25,         25,2,20220711,       1328,    32.1593,  -119.0506,       1529,   226.3,2,   8.0113,2,  34.0676,2,  34.0664,2,     88.4,2,    88.0,2,   42.52,2,   30.21,2,    0.00,2,    2.20,2,-999.000,9,-999.000,9,-999.0000,9,  -999.0,9,  -999.0,9,-999.0000,9,  -999.00,9, -999.00,1,  -999.0,1, -999.00,1, -999.00,1,     -999.0,9, 20220711,     1413,  32.1593,-119.0507,     8.0113,2,     -999.0,9,     -999.0,9,     -999.0,9,     -999.0,9,     0.0134,1,     4.6687,1,     -999.0,9,     -999.0,9,     -999.0,9,     -999.0,9,     -999.0,9
33RR20220613,       P02E,     198,          1,         24,         24,2,20220711,       1328,    32.1593,  -119.0506,       1529,   256.8,2,   7.6834,2,  34.0701,2,  34.0650,2,     80.9,3,    83.1,2,   45.55,2,   31.33,2,    0.00,2,    2.27,2,   2.348,2,   1.328,2,   0.8397,2,  2241.2,2,  2275.3,2,   7.4236,2,    25.02,2, -999.00,1,  -999.0,1, -999.00,1, -999.00,1,       35.8,2, 20220711,     1412,  32.1593,-119.0506,     7.6848,2,     -999.0,9,     -999.0,9,     -999.0,9,     -999.0,9,     0.0134,1,     4.6709,1,     -999.0,9,     -999.0,9,     -999.0,9,     -999.0,9,     -999.0,9
33RR20220613,       P02E,     198,          1,         23,         23,2,20220711,       1328,    32.1593,  -119.0506,       1529,   303.2,2,   7.2621,2,  34.1516,2,  34.1501,2,     48.9,3,    50.2,2,   54.44,2,   34.29,2,    0.00,2,    2.58,2,   1.722,2,   0.954,2,   0.5704,2,  2270.9,2,  2288.7,2,   7.3659,2,    25.00,2, -999.00,1,  -999.0,1, -999.00,1, -999.00,1,       41.5,2, 20220711,     1410,  32.1593,-119.0506,     7.2747,2,     -999.0,9,     -999.0,9,     -999.0,9,     -999.0,9,     0.0134,1,     4.6707,1,     -999.0,9,     -999.0,9,     -999.0,9,     -999.0,9,     -999.0,9
33RR20220613,       P02E,     198,          1,         22,         22,2,20220711,       1328,    32.1593,  -119.0506,       1529,   353.5,2,   6.7906,2,  34.2113,2,  34.2117,2,     30.1,2,    30.1,2,   63.33,2,   36.64,2,    0.00,2,    2.78,2,   1.123,2,   0.615,2,   0.4025,2,  -999.0,9,  -999.0,9,-999.0000,9,  -999.00,9, -999.00,1,  -999.0,1, -999.00,1, -999.00,1,       47.4,2, 20220711,     1408,  32.1594,-119.0507,     6.7930,2,     -999.0,9,     -999.0,9,     -999.0,9,     -999.0,9,     0.0134,1,     4.6710,1,     -999.0,9,     -999.0,9,     -999.0,9,     -999.0,9,     -999.0,9
33RR20220613,       P02E,     198,          1,         21,         21,2,20220711,       1328,    32.1593,  -119.0506,       1529,   403.6,2,   6.5007,2,  34.2516,2,  34.2564,2,     21.3,2,    21.2,2,   69.09,2,   37.84,2,    0.00,2,    2.89,2,   0.777,2,   0.424,2,   0.2718,2,  2303.8,2,  2305.8,2,   7.3233,2,    25.01,2, -999.00,1,  -999.0,1, -999.00,1, -999.00,1,       50.5,2, 20220711,     1407,  32.1593,-119.0506,     6.5016,2,     -999.0,9,     -999.0,9,     -999.0,9,     -999.0,9,     0.0134,1,     4.6724,1,     -999.0,9,     -999.0,9,     -999.0,9,     -999.0,9,     -999.0,9
33RR20220613,       P02E,     198,          1,         20,         20,2,20220711,       1328,    32.1593,  -119.0506,       1529,   453.1,2,   6.2407,2,  34.2809,2,  34.2815,2,     16.5,3,    16.7,2,   73.49,2,   38.76,2,    0.00,2,    2.95,2,   0.542,2,   0.292,2,   0.2170,2,  -999.0,9,  -999.0,9,-999.0000,9,  -999.00,9, -999.00,1,  -999.0,1, -999.00,1, -999.00,1,       52.1,2, 20220711,     1405,  32.1593,-119.0506,     6.2473,2,     -999.0,9,     -999.0,9,     -999.0,9,     -999.0,9,     0.0134,1,     4.6738,1,     -999.0,9,     -999.0,9,     -999.0,9,     -999.0,9,     -999.0,9
33RR20220613,       P02E,     198,          1,         19,         39,2,20220711,       1328,    32.1593,  -119.0506,       1529,   503.5,2,   6.0509,2,  34.3118,2,  34.3125,2,     13.4,2,    13.4,2,   77.39,2,   39.40,2,    0.00,2,    3.00,2,   0.366,2,   0.205,2,   0.1480,2,  2319.9,2,  2320.0,2,   7.3181,2,    25.00,2, -999.00,1,  -999.0,1, -999.00,1, -999.00,1,       53.2,2, 20220711,     1402,  32.1593,-119.0506,     6.0519,2,     -999.0,9,     -999.0,9,     -999.0,9,     -999.0,9,     0.0134,1,     4.6752,1,     -999.0,9,     -999.0,9,     -999.0,9,     -999.0,9,     -999.0,9
33RR20220613,       P02E,     198,          1,         18,         18,2,20220711,       1328,    32.1593,  -119.0506,       1529,   554.2,2,   5.8899,2,  34.3317,2,  34.3317,2,     12.0,3,    12.3,2,   80.52,2,   39.90,2,    0.00,2,    3.03,2,   0.268,6,   0.150,6,   0.1306,6,  -999.0,9,  -999.0,9,-999.0000,9,  -999.00,9, -999.00,1,  -999.0,1, -999.00,1, -999.00,1,       55.1,6, 20220711,     1402,  32.1593,-119.0506,     5.8895,2,     -999.0,9,     -999.0,9,     -999.0,9,     -999.0,9,     0.0134,1,     4.6763,1,     -999.0,9,     -999.0,9,     -999.0,9,     -999.0,9,     -999.0,9
33RR20220613,       P02E,     198,          1,         17,         37,2,20220711,       1328,    32.1593,  -119.0506,       1529,   604.4,2,   5.6358,2,  34.3394,2,  34.3411,2,     11.6,3,    11.3,2,   84.62,2,   40.61,2,    0.00,2,    3.05,2,-999.000,9,-999.000,9,-999.0000,9,  2327.5,2,  2328.3,2,   7.3166,2,    24.98,2, -999.00,1,  -999.0,1, -999.00,1, -999.00,1,     -999.0,9, 20220711,     1400,  32.1593,-119.0506,     5.6342,2,     -999.0,9,     -999.0,9,     -999.0,9,     -999.0,9,     0.0134,1,     4.6772,1,     -999.0,9,     -999.0,9,     -999.0,9,     -999.0,9,     -999.0,9
33RR20220613,       P02E,     198,          1,         16,         16,2,20220711,       1328,    32.1593,  -119.0506,       1529,   655.2,2,   5.5049,2,  34.3694,2,  34.3705,2,     10.9,3,    10.5,2,   88.53,2,   40.76,2,    0.00,2,    3.09,2,   0.149,2,   0.090,2,   0.1401,2,  2332.5,2,  2335.0,2,   7.3191,2,    24.99,2, -999.00,1,  -999.0,1, -999.00,1, -999.00,1,       55.7,2, 20220711,     1358,  32.1593,-119.0506,     5.5022,2,     -999.0,9,     -999.0,9,     -999.0,9,     -999.0,9,     0.0134,1,     4.6741,1,     -999.0,9,     -999.0,9,     -999.0,9,     -999.0,9,     -999.0,9
33RR20220613,       P02E,     198,          1,         15,         15,2,20220711,       1328,    32.1593,  -119.0506,       1529,   705.6,2,   5.2966,2,  34.3907,2,  34.3923,2,     11.1,2,    11.0,2,   93.22,2,   41.16,2,    0.00,2,    3.13,2,-999.000,9,-999.000,9,-999.0000,9,  2337.3,2,  2344.5,2,   7.3213,2,    25.00,2, -999.00,9,  -999.0,9, -999.00,1, -999.00,1,     -999.0,9, 20220711,     1356,  32.1593,-119.0506,     5.2949,2,     -999.0,9,     -999.0,9,     -999.0,9,     -999.0,9,     0.0134,1,     4.6725,1,     -999.0,9,     -999.0,9,     -999.0,9,     -999.0,9,     -999.0,9
33RR20220613,       P02E,     198,          1,         14,         42,2,20220711,       1328,    32.1593,  -119.0506,       1529,   756.1,2,   5.0282,2,  34.4093,2,  34.4106,2,     12.1,2,    12.0,2,   98.50,2,   41.65,2,    0.00,2,    3.13,2,   0.096,2,   0.067,2,   0.3876,2,  -999.0,9,  -999.0,9,-999.0000,9,  -999.00,9, -999.00,1,  -999.0,1, -999.00,1, -999.00,1,       56.0,2, 20220711,     1354,  32.1593,-119.0506,     5.0265,2,     -999.0,9,     -999.0,9,     -999.0,9,     -999.0,9,     0.0134,1,     4.6700,1,     -999.0,9,     -999.0,9,     -999.0,9,     -999.0,9,     -999.0,9
33RR20220613,       P02E,     198,          1,         13,         13,2,20220711,       1328,    32.1593,  -119.0506,       1529,   807.0,2,   4.8821,2,  34.4198,2,  34.4226,2,     12.8,3,    13.0,2,  101.43,2,   41.80,2,    0.00,2,    3.14,2,-999.000,9,-999.000,9,-999.0000,9,  2346.9,2,  2353.2,2,   7.3258,2,    25.00,2, -999.00,1,  -999.0,1, -999.00,1, -999.00,1,     -999.0,9, 20220711,     1353,  32.1593,-119.0506,     4.8824,2,     -999.0,9,     -999.0,9,     -999.0,9,     -999.0,9,     0.0134,1,     4.6726,1,     -999.0,9,     -999.0,9,     -999.0,9,     -999.0,9,     -999.0,9
33RR20220613,       P02E,     198,          1,         12,         12,2,20220711,       1328,    32.1593,  -119.0506,       1529,   857.2,2,   4.7150,2,  34.4326,2,  34.4326,2,     13.9,3,    13.6,2,  104.75,2,   42.05,2,    0.00,2,    3.15,2,   0.076,2,   0.058,2,   0.5464,2,  -999.0,9,  -999.0,9,-999.0000,9,  -999.00,9, -999.00,1,  -999.0,1, -999.00,1, -999.00,1,       54.1,2, 20220711,     1351,  32.1593,-119.0506,     4.7151,2,     -999.0,9,     -999.0,9,     -999.0,9,     -999.0,9,     0.0134,1,     4.6731,1,     -999.0,9,     -999.0,9,     -999.0,9,     -999.0,9,     -999.0,9
33RR20220613,       P02E,     198,          1,         11,         11,2,20220711,       1328,    32.1593,  -119.0506,       1529,   908.3,2,   4.5258,2,  34.4469,2,  34.4496,2,     16.9,3,    17.3,2,  106.50,2,   42.82,2,    0.00,2,    3.13,2,-999.000,9,-999.000,9,-999.0000,9,  2350.7,2,  2359.7,2,   7.3345,2,    25.00,2, -999.00,9,  -999.0,9, -999.00,1, -999.00,1,     -999.0,9, 20220711,     1349,  32.1594,-119.0506,     4.5248,2,     -999.0,9,     -999.0,9,     -999.0,9,     -999.0,9,     0.0134,1,     4.6777,1,     -999.0,9,     -999.0,9,     -999.0,9,     -999.0,9,     -999.0,9
33RR20220613,       P02E,     198,          1,         10,         10,2,20220711,       1328,    32.1593,  -119.0506,       1529,   958.8,2,   4.3849,2,  34.4579,2,  34.4579,2,     18.4,2,    18.5,2,  109.73,2,   42.84,2,    0.00,2,    3.15,2,   0.037,2,   0.030,2,   0.3016,2,  -999.0,9,  -999.0,9,-999.0000,9,  -999.00,9, -999.00,1,  -999.0,1, -999.00,1, -999.00,1,       53.3,2, 20220711,     1348,  32.1593,-119.0506,     4.3894,2,     -999.0,9,     -999.0,9,     -999.0,9,     -999.0,9,     0.0134,1,     4.6770,1,     -999.0,9,     -999.0,9,     -999.0,9,     -999.0,9,     -999.0,9
33RR20220613,       P02E,     198,          1,          9,          9,2,20220711,       1328,    32.1593,  -119.0506,       1529,  1009.1,2,   4.1599,2,  34.4729,2,  34.4728,2,     20.2,2,    20.2,2,  117.15,2,   42.57,2,    0.00,2,    3.16,2,-999.000,9,-999.000,9,-999.0000,9,  2360.0,2,  2371.1,2,   7.3402,2,    25.00,2, -999.00,1,  -999.0,1, -999.00,1, -999.00,1,     -999.0,9, 20220711,     1346,  32.1593,-119.0506,     4.1576,2,     -999.0,9,     -999.0,9,     -999.0,9,     -999.0,9,     0.0134,1,     4.6698,1,     -999.0,9,     -999.0,9,     -999.0,9,     -999.0,9,     -999.0,9
33RR20220613,       P02E,     198,          1,          8,          8,2,20220711,       1328,    32.1593,  -119.0506,       1529,  1059.6,2,   4.0222,2,  34.4843,2,  34.4840,2,     23.0,2,    23.2,2,  118.91,2,   42.87,2,    0.00,2,    3.16,2,   0.040,2,   0.041,2,   1.2310,2,  -999.0,9,  -999.0,9,-999.0000,9,  -999.00,9, -999.00,1,  -999.0,1, -999.00,1, -999.00,1,       51.1,2, 20220711,     1344,  32.1593,-119.0506,     4.0211,2,     -999.0,9,     -999.0,9,     -999.0,9,     -999.0,9,     0.0134,1,     4.6725,1,     -999.0,9,     -999.0,9,     -999.0,9,     -999.0,9,     -999.0,9
33RR20220613,       P02E,     198,          1,          7,          7,2,20220711,       1328,    32.1593,  -119.0506,       1529,  1109.5,2,   3.9016,2,  34.4925,2,  34.4921,2,     25.0,3,    24.7,2,  121.55,2,   42.94,2,    0.00,2,    3.16,2,-999.000,9,-999.000,9,-999.0000,9,  2360.9,3,  2376.6,2,   7.3480,2,    25.01,2, -999.00,9,  -999.0,9, -999.00,1, -999.00,1,     -999.0,9, 20220711,     1342,  32.1593,-119.0506,     3.8998,2,     -999.0,9,     -999.0,9,     -999.0,9,     -999.0,9,     0.0134,1,     4.6747,1,     -999.0,9,     -999.0,9,     -999.0,9,     -999.0,9,     -999.0,9
33RR20220613,       P02E,     198,          1,          6,          6,2,20220711,       1328,    32.1593,  -119.0506,       1529,  1160.6,2,   3.7214,2,  34.5053,2,  34.5048,2,     28.1,2,    28.3,2,  126.14,2,   42.89,2,    0.00,2,    3.15,2,   0.047,2,   0.054,2,   0.9206,2,  -999.0,9,  -999.0,9,-999.0000,9,  -999.00,9, -999.00,1,  -999.0,1, -999.00,1, -999.00,1,       46.8,2, 20220711,     1340,  32.1593,-119.0506,     3.7233,2,     -999.0,9,     -999.0,9,     -999.0,9,     -999.0,9,     0.0134,1,     4.6738,1,     -999.0,9,     -999.0,9,     -999.0,9,     -999.0,9,     -999.0,9
33RR20220613,       P02E,     198,          1,          5,          5,2,20220711,       1328,    32.1593,  -119.0506,       1529,  1211.5,2,   3.5490,2,  34.5175,2,  34.5166,2,     30.7,2,    30.9,2,  130.24,2,   42.85,2,    0.00,2,    3.13,2,-999.000,9,-999.000,9,-999.0000,9,  2368.7,2,  2386.5,6,   7.3597,2,    25.01,2, -999.00,1,  -999.0,1, -999.00,1, -999.00,1,     -999.0,9, 20220711,     1338,  32.1594,-119.0506,     3.5516,2,     -999.0,9,     -999.0,9,     -999.0,9,     -999.0,9,     0.0134,1,     4.6712,1,     -999.0,9,     -999.0,9,     -999.0,9,     -999.0,9,     -999.0,9
33RR20220613,       P02E,     198,          1,          4,          4,2,20220711,       1328,    32.1593,  -119.0506,       1529,  1282.0,2,   3.4332,2,  34.5258,2,  34.5258,2,     32.9,2,    33.2,2,  133.86,2,   42.84,2,    0.00,2,    3.13,2,   0.056,2,   0.087,2,   0.9841,2,  -999.0,9,  -999.0,9,-999.0000,9,  -999.00,9, -999.00,1,  -999.0,1, -999.00,1, -999.00,1,       43.6,2, 20220711,     1336,  32.1593,-119.0507,     3.4326,2,     -999.0,9,     -999.0,9,     -999.0,9,     -999.0,9,     0.0134,1,     4.6697,1,     -999.0,9,     -999.0,9,     -999.0,9,     -999.0,9,     -999.0,9
33RR20220613,       P02E,     198,          1,          3,          3,2,20220711,       1328,    32.1593,  -119.0506,       1529,  1383.5,2,   3.3008,2,  34.5360,2,  34.5353,2,     34.5,2,    34.5,2,  137.57,2,   42.62,2,    0.00,2,    3.13,2,   0.066,2,   0.130,2,   0.6755,2,  2376.0,2,  2395.1,6,   7.3701,2,    25.01,2, -999.00,1,  -999.0,1, -999.00,1, -999.00,1,       43.1,2, 20220711,     1333,  32.1593,-119.0506,     3.3021,2,     -999.0,9,     -999.0,9,     -999.0,9,     -999.0,9,     0.0134,1,     4.6704,1,     -999.0,9,     -999.0,9,     -999.0,9,     -999.0,9,     -999.0,9