BOTTLE,20230830CCHSIOCBG
EXPOCODE,SECT_ID,STNNBR,CASTNO,SAMPNO,BTLNBR,BTLNBR_FLAG_W,DATE,TIME,LATITUDE,LONGITUDE,DEPTH,CTDPRS,CTDPRS_FLAG_W,CTDTMP,CTDTMP_FLAG_W,CTDSAL,CTDSAL_FLAG_W,SALNTY,SALNTY_FLAG_W,CTDOXY,CTDOXY_FLAG_W,OXYGEN,OXYGEN_FLAG_W,SILCAT,SILCAT_FLAG_W,NITRAT,NITRAT_FLAG_W,NITRIT,NITRIT_FLAG_W,PHSPHT,PHSPHT_FLAG_W,CFC-11,CFC-11_FLAG_W,CFC-12,CFC-12_FLAG_W,SF6,SF6_FLAG_W,TCARBN,TCARBN_FLAG_W,ALKALI,ALKALI_FLAG_W,PH_TOT,PH_TOT_FLAG_W,PH_TMP,PH_TMP_FLAG_W,DELC13,DELC13_FLAG_W,DELC14,DELC14_FLAG_W,DOC,DOC_FLAG_W,TDN,TDN_FLAG_W,N2O,N2O_FLAG_W,BTL_DATE,BTL_TIME,BTL_LAT,BTL_LON,REFTMP,REFTMP_FLAG_W,POC,POC_FLAG_W,PON,PON_FLAG_W,POP,POP_FLAG_W,PCOD,PCOD_FLAG_W,CTDFLUOR,CTDFLUOR_FLAG_W,CTDXMISS,CTDXMISS_FLAG_W,HPLC,HPLC_FLAG_W,DNA,DNA_FLAG_W,FCM,FCM_FLAG_W,IMAGES,IMAGES_FLAG_W,VIRAL_ABUNDANCE,VIRAL_ABUNDANCE_FLAG_W
,,,,,,,,,,,METERS,DBAR,,ITS-90,,PSS-78,,PSS-78,,UMOL/KG,,UMOL/KG,,UMOL/KG,,UMOL/KG,,UMOL/KG,,UMOL/KG,,PMOL/KG,,PMOL/KG,,FMOL/KG,,UMOL/KG,,UMOL/KG,,,,DEG C,,/MILLE,,/MILLE,,UMOL/KG,,UMOL/KG,,NMOL/KG,,,,,,ITS-90,,UG/L,,UG/L,,UG/L,,UG/L,,VOLTS,,VOLTS,,,,,,,,,,,
33RR20220613,       P02E,     165,          1,          4,          4,2,20220701,       1531,    30.0007,  -134.0758,       4580,  3759.4,2,   1.4746,2,  34.6824,3,  34.6851,2,    138.9,2,   139.1,2,  163.81,2,   37.01,2,    0.00,2,    2.54,2,   0.006,2,   0.006,2,   0.0000,2,  -999.0,9,  -999.0,9,-999.0000,9,  -999.00,9, -999.00,9,  -999.0,9, -999.00,9, -999.00,9,       23.2,2, 20220701,     1550,  30.0007,-134.0757,     1.4748,2,     -999.0,9,     -999.0,9,     -999.0,9,     -999.0,9,     0.0124,1,     4.7029,1,     -999.0,9,     -999.0,9,     -999.0,9,     -999.0,9,     -999.0,9
33RR20220613,       P02E,     165,          1,          3,          3,2,20220701,       1531,    30.0007,  -134.0758,       4580,  4066.9,2,   1.4922,2,  34.6845,2,  34.6828,2,    142.2,2,   142.3,2,  162.06,2,   36.84,2,    0.00,2,    2.53,2,   0.006,2,   0.006,2,   0.0000,2,  2337.1,2,  2429.7,6,   7.5676,2,    25.00,2, -999.00,9,  -999.0,9, -999.00,9, -999.00,9,       23.0,2, 20220701,     1543,  30.0007,-134.0758,     1.4922,2,     -999.0,9,     -999.0,9,     -999.0,9,     -999.0,9,     0.0122,1,     4.7028,1,     -999.0,9,     -999.0,9,     -999.0,9,     -999.0,9,     -999.0,9
33RR20220613,       P02E,     165,          1,          2,          2,2,20220701,       1531,    30.0007,  -134.0758,       4580,  4374.9,2,   1.5239,2,  34.6851,3,  34.6828,2,    143.3,2,   143.3,2,  160.39,2,   36.81,2,    0.00,2,    2.53,2,   0.006,2,   0.007,2,   0.0000,2,  2336.5,2,  2429.4,2,   7.5699,2,    25.01,2, -999.00,9,  -999.0,9, -999.00,9, -999.00,9,       24.6,2, 20220701,     1537,  30.0007,-134.0757,     1.5239,2,     -999.0,9,     -999.0,9,     -999.0,9,     -999.0,9,     0.0122,1,     4.7019,1,     -999.0,9,     -999.0,9,     -999.0,9,     -999.0,9,     -999.0,9
33RR20220613,       P02E,     165,          1,          1,          1,2,20220701,       1531,    30.0007,  -134.0758,       4580,  4651.4,2,   1.5567,2,  34.6852,2,  34.6836,2,    143.4,2,   143.3,2,  160.79,2,   36.72,2,    0.00,2,    2.52,2,   0.009,2,   0.009,2,   0.0000,2,  2337.3,6,  2428.7,2,   7.5701,2,    25.01,2, -999.00,9,  -999.0,9, -999.00,9, -999.00,9,       30.4,2, 20220701,     1531,  30.0007,-134.0758,     1.5568,2,     -999.0,9,     -999.0,9,     -999.0,9,     -999.0,9,     0.0126,1,     4.7011,1,     -999.0,9,     -999.0,9,     -999.0,9,     -999.0,9,     -999.0,9