BOTTLE,20230830CCHSIOCBG
EXPOCODE,SECT_ID,STNNBR,CASTNO,SAMPNO,BTLNBR,BTLNBR_FLAG_W,DATE,TIME,LATITUDE,LONGITUDE,DEPTH,CTDPRS,CTDPRS_FLAG_W,CTDTMP,CTDTMP_FLAG_W,CTDSAL,CTDSAL_FLAG_W,SALNTY,SALNTY_FLAG_W,CTDOXY,CTDOXY_FLAG_W,OXYGEN,OXYGEN_FLAG_W,SILCAT,SILCAT_FLAG_W,NITRAT,NITRAT_FLAG_W,NITRIT,NITRIT_FLAG_W,PHSPHT,PHSPHT_FLAG_W,CFC-11,CFC-11_FLAG_W,CFC-12,CFC-12_FLAG_W,SF6,SF6_FLAG_W,TCARBN,TCARBN_FLAG_W,ALKALI,ALKALI_FLAG_W,PH_TOT,PH_TOT_FLAG_W,PH_TMP,PH_TMP_FLAG_W,DELC13,DELC13_FLAG_W,DELC14,DELC14_FLAG_W,DOC,DOC_FLAG_W,TDN,TDN_FLAG_W,N2O,N2O_FLAG_W,BTL_DATE,BTL_TIME,BTL_LAT,BTL_LON,REFTMP,REFTMP_FLAG_W,POC,POC_FLAG_W,PON,PON_FLAG_W,POP,POP_FLAG_W,PCOD,PCOD_FLAG_W,CTDFLUOR,CTDFLUOR_FLAG_W,CTDXMISS,CTDXMISS_FLAG_W,HPLC,HPLC_FLAG_W,DNA,DNA_FLAG_W,FCM,FCM_FLAG_W,IMAGES,IMAGES_FLAG_W,VIRAL_ABUNDANCE,VIRAL_ABUNDANCE_FLAG_W
,,,,,,,,,,,METERS,DBAR,,ITS-90,,PSS-78,,PSS-78,,UMOL/KG,,UMOL/KG,,UMOL/KG,,UMOL/KG,,UMOL/KG,,UMOL/KG,,PMOL/KG,,PMOL/KG,,FMOL/KG,,UMOL/KG,,UMOL/KG,,,,DEG C,,/MILLE,,/MILLE,,UMOL/KG,,UMOL/KG,,NMOL/KG,,,,,,ITS-90,,UG/L,,UG/L,,UG/L,,UG/L,,VOLTS,,VOLTS,,,,,,,,,,,
33RR20220613,       P02E,     168,          1,          4,          4,2,20220702,       1220,    30.0003,  -132.3434,       4584,  3760.5,2,   1.4841,2,  34.6807,3,  34.6779,2,    137.5,2,   137.4,2,  165.85,2,   37.09,2,    0.00,2,    2.57,2,-999.000,9,-999.000,9,-999.0000,9,  -999.0,9,  -999.0,9,-999.0000,9,  -999.00,9, -999.00,9,  -999.0,9, -999.00,1, -999.00,1,     -999.0,9, 20220702,     1238,  30.0003,-132.3434,     1.4839,2,     -999.0,9,     -999.0,9,     -999.0,9,     -999.0,9,     0.0122,1,     4.7030,1,     -999.0,9,     -999.0,9,     -999.0,9,     -999.0,9,     -999.0,9
33RR20220613,       P02E,     168,          1,          3,          3,2,20220702,       1220,    30.0003,  -132.3434,       4584,  4142.2,2,   1.5025,2,  34.6833,3,  34.6808,2,    141.8,2,   141.8,2,  163.41,2,   36.77,2,    0.00,2,    2.55,2,   0.006,2,   0.009,2,   0.0000,2,  2339.2,2,  2428.1,2,   7.5676,2,    25.04,2, -999.00,1,  -999.0,1, -999.00,1, -999.00,1,       22.4,2, 20220702,     1231,  30.0004,-132.3434,     1.5024,2,     -999.0,9,     -999.0,9,     -999.0,9,     -999.0,9,     0.0133,1,     4.7031,1,     -999.0,9,     -999.0,9,     -999.0,9,     -999.0,9,     -999.0,9
33RR20220613,       P02E,     168,          1,          2,          2,2,20220702,       1220,    30.0003,  -132.3434,       4584,  4450.6,2,   1.5316,2,  34.6844,2,  34.6838,2,    143.7,2,   143.8,2,  162.24,2,   36.63,2,    0.00,2,    2.54,2,   0.009,2,   0.010,2,-999.0000,5,  2336.4,2,  2428.4,2,   7.5701,2,    25.03,2, -999.00,1,  -999.0,1, -999.00,1, -999.00,1,       22.0,2, 20220702,     1224,  30.0003,-132.3434,     1.5315,2,     -999.0,9,     -999.0,9,     -999.0,9,     -999.0,9,     0.0121,1,     4.7010,1,     -999.0,9,     -999.0,9,     -999.0,9,     -999.0,9,     -999.0,9
33RR20220613,       P02E,     168,          1,          1,          1,2,20220702,       1220,    30.0003,  -132.3434,       4584,  4654.8,2,   1.5563,2,  34.6844,2,  34.6834,2,    143.7,2,   143.8,2,  161.85,2,   36.65,2,    0.00,2,    2.55,2,   0.007,2,   0.009,2,-999.0000,5,  2336.4,6,  2428.4,2,   7.5708,2,    25.02,2, -999.00,1,  -999.0,1, -999.00,1, -999.00,1,       22.9,2, 20220702,     1220,  30.0003,-132.3434,     1.5563,2,     -999.0,9,     -999.0,9,     -999.0,9,     -999.0,9,     0.0122,1,     4.7013,1,     -999.0,9,     -999.0,9,     -999.0,9,     -999.0,9,     -999.0,9