BOTTLE,20230830CCHSIOCBG
EXPOCODE,SECT_ID,STNNBR,CASTNO,SAMPNO,BTLNBR,BTLNBR_FLAG_W,DATE,TIME,LATITUDE,LONGITUDE,DEPTH,CTDPRS,CTDPRS_FLAG_W,CTDTMP,CTDTMP_FLAG_W,CTDSAL,CTDSAL_FLAG_W,SALNTY,SALNTY_FLAG_W,CTDOXY,CTDOXY_FLAG_W,OXYGEN,OXYGEN_FLAG_W,SILCAT,SILCAT_FLAG_W,NITRAT,NITRAT_FLAG_W,NITRIT,NITRIT_FLAG_W,PHSPHT,PHSPHT_FLAG_W,CFC-11,CFC-11_FLAG_W,CFC-12,CFC-12_FLAG_W,SF6,SF6_FLAG_W,TCARBN,TCARBN_FLAG_W,ALKALI,ALKALI_FLAG_W,PH_TOT,PH_TOT_FLAG_W,PH_TMP,PH_TMP_FLAG_W,DELC13,DELC13_FLAG_W,DELC14,DELC14_FLAG_W,DOC,DOC_FLAG_W,TDN,TDN_FLAG_W,N2O,N2O_FLAG_W,BTL_DATE,BTL_TIME,BTL_LAT,BTL_LON,REFTMP,REFTMP_FLAG_W,POC,POC_FLAG_W,PON,PON_FLAG_W,POP,POP_FLAG_W,PCOD,PCOD_FLAG_W,CTDFLUOR,CTDFLUOR_FLAG_W,CTDXMISS,CTDXMISS_FLAG_W,HPLC,HPLC_FLAG_W,DNA,DNA_FLAG_W,FCM,FCM_FLAG_W,IMAGES,IMAGES_FLAG_W,VIRAL_ABUNDANCE,VIRAL_ABUNDANCE_FLAG_W
,,,,,,,,,,,METERS,DBAR,,ITS-90,,PSS-78,,PSS-78,,UMOL/KG,,UMOL/KG,,UMOL/KG,,UMOL/KG,,UMOL/KG,,UMOL/KG,,PMOL/KG,,PMOL/KG,,FMOL/KG,,UMOL/KG,,UMOL/KG,,,,DEG C,,/MILLE,,/MILLE,,UMOL/KG,,UMOL/KG,,NMOL/KG,,,,,,ITS-90,,UG/L,,UG/L,,UG/L,,UG/L,,VOLTS,,VOLTS,,,,,,,,,,,
33RR20220613,       P02E,     132,          1,          4,          4,2,20220621,       1434,    30.0002,  -153.1313,       5342,  4554.3,2,   1.4930,2,  34.6877,2,  34.6871,2,    153.1,2,   153.2,2,  154.54,2,   35.99,2,    0.00,2,    2.73,4,-999.000,9,-999.000,9,-999.0000,9,  -999.0,9,  -999.0,9,-999.0000,9,  -999.00,9, -999.00,9,  -999.0,9, -999.00,9, -999.00,9,     -999.0,9, 20220621,     1500,  30.0002,-153.1313,     1.4930,2,     -999.0,9,     -999.0,9,     -999.0,9,     -999.0,9,     0.0122,1,     4.7054,1,     -999.0,9,     -999.0,9,     -999.0,9,     -999.0,9,     -999.0,9
33RR20220613,       P02E,     132,          1,          3,          3,2,20220621,       1434,    30.0002,  -153.1313,       5342,  4940.8,2,   1.5206,2,  34.6894,2,  34.6889,2,    156.9,2,   157.0,2,  150.63,2,   35.72,2,    0.00,2,    2.70,4,   0.005,2,   0.005,2,   0.0000,2,  2321.6,2,  2420.3,2,   7.5851,2,    25.00,2, -999.00,9,  -999.0,9, -999.00,9, -999.00,9,       23.1,2, 20220621,     1452,  30.0002,-153.1313,     1.5205,2,     -999.0,9,     -999.0,9,     -999.0,9,     -999.0,9,     0.0122,1,     4.7044,1,     -999.0,9,     -999.0,9,     -999.0,9,     -999.0,9,     -999.0,9
33RR20220613,       P02E,     132,          1,          2,          2,2,20220621,       1434,    30.0002,  -153.1313,       5342,  5198.0,2,   1.5432,2,  34.6900,2,  34.6889,2,    158.6,2,   158.8,2,  149.56,2,   35.57,2,    0.00,2,    2.70,4,-999.000,9,-999.000,9,-999.0000,9,  2319.0,2,  -999.0,9,   7.5867,2,    24.99,2, -999.00,9,  -999.0,9, -999.00,9, -999.00,9,     -999.0,9, 20220621,     1444,  30.0002,-153.1313,     1.5433,2,     -999.0,9,     -999.0,9,     -999.0,9,     -999.0,9,     0.0122,1,     4.7043,1,     -999.0,9,     -999.0,9,     -999.0,9,     -999.0,9,     -999.0,9
33RR20220613,       P02E,     132,          1,          1,          1,2,20220621,       1434,    30.0002,  -153.1313,       5342,  5437.2,2,   1.5701,2,  34.6904,2,  34.6897,2,    159.5,2,   159.6,2,  148.58,2,   35.62,2,    0.00,2,    2.69,4,   0.007,2,   0.010,2,   0.0000,2,  2319.8,6,  2416.2,2,   7.5877,2,    25.00,2, -999.00,9,  -999.0,9, -999.00,9, -999.00,9,       23.7,2, 20220621,     1434,  30.0001,-153.1313,     1.5703,2,     -999.0,9,     -999.0,9,     -999.0,9,     -999.0,9,     0.0118,1,     4.7033,1,     -999.0,9,     -999.0,9,     -999.0,9,     -999.0,9,     -999.0,9