BOTTLE,20230830CCHSIOCBG
EXPOCODE,SECT_ID,STNNBR,CASTNO,SAMPNO,BTLNBR,BTLNBR_FLAG_W,DATE,TIME,LATITUDE,LONGITUDE,DEPTH,CTDPRS,CTDPRS_FLAG_W,CTDTMP,CTDTMP_FLAG_W,CTDSAL,CTDSAL_FLAG_W,SALNTY,SALNTY_FLAG_W,CTDOXY,CTDOXY_FLAG_W,OXYGEN,OXYGEN_FLAG_W,SILCAT,SILCAT_FLAG_W,NITRAT,NITRAT_FLAG_W,NITRIT,NITRIT_FLAG_W,PHSPHT,PHSPHT_FLAG_W,CFC-11,CFC-11_FLAG_W,CFC-12,CFC-12_FLAG_W,SF6,SF6_FLAG_W,TCARBN,TCARBN_FLAG_W,ALKALI,ALKALI_FLAG_W,PH_TOT,PH_TOT_FLAG_W,PH_TMP,PH_TMP_FLAG_W,DELC13,DELC13_FLAG_W,DELC14,DELC14_FLAG_W,DOC,DOC_FLAG_W,TDN,TDN_FLAG_W,N2O,N2O_FLAG_W,BTL_DATE,BTL_TIME,BTL_LAT,BTL_LON,REFTMP,REFTMP_FLAG_W,POC,POC_FLAG_W,PON,PON_FLAG_W,POP,POP_FLAG_W,PCOD,PCOD_FLAG_W,CTDFLUOR,CTDFLUOR_FLAG_W,CTDXMISS,CTDXMISS_FLAG_W,HPLC,HPLC_FLAG_W,DNA,DNA_FLAG_W,FCM,FCM_FLAG_W,IMAGES,IMAGES_FLAG_W,VIRAL_ABUNDANCE,VIRAL_ABUNDANCE_FLAG_W
,,,,,,,,,,,METERS,DBAR,,ITS-90,,PSS-78,,PSS-78,,UMOL/KG,,UMOL/KG,,UMOL/KG,,UMOL/KG,,UMOL/KG,,UMOL/KG,,PMOL/KG,,PMOL/KG,,FMOL/KG,,UMOL/KG,,UMOL/KG,,,,DEG C,,/MILLE,,/MILLE,,UMOL/KG,,UMOL/KG,,NMOL/KG,,,,,,ITS-90,,UG/L,,UG/L,,UG/L,,UG/L,,VOLTS,,VOLTS,,,,,,,,,,,
33RR20220613,       P02E,     194,          4,          1,          1,2,20220710,       0944,    31.8649,  -119.6030,       2271,  2285.2,2,   1.9204,2,  34.6521,3,  34.6390,2,     93.6,2,    93.6,2,  163.75,2,   39.67,2,    0.00,2,    2.77,2,   0.015,2,   0.011,2,   0.0000,2,  2367.7,6,  2424.5,2,   7.4814,2,    25.00,2, -999.00,9,  -999.0,9, -999.00,1, -999.00,1,       30.6,2, 20220710,      944,  31.8649,-119.6030,     1.9075,2,     -999.0,9,     -999.0,9,     -999.0,9,     -999.0,9,     0.0122,1,     4.6808,1,     -999.0,9,     -999.0,9,     -999.0,9,     -999.0,9,     -999.0,9
33RR20220613,       P02E,     195,          1,         28,         28,2,20220710,       1649,    31.9344,  -119.4745,       1794,     5.3,2,  17.2710,2,  33.6324,2,  33.6365,2,    247.3,2,   247.3,2,    0.59,2,    0.55,2,    0.04,2,    0.31,2,   2.391,2,   1.402,2,   2.2814,2,  2026.9,6,  2246.5,2,   7.9144,2,    25.01,2, -999.00,9,  -999.0,9, -999.00,9, -999.00,9,       10.1,2, 20220710,     1754,  31.9344,-119.4745,    17.2682,2,     -999.0,9,     -999.0,9,     -999.0,9,     -999.0,9,     0.0285,1,     4.5496,1,     -999.0,9,     -999.0,9,     -999.0,9,     -999.0,9,     -999.0,9
33RR20220613,       P02E,     195,          1,         27,         27,2,20220710,       1649,    31.9344,  -119.4745,       1794,    25.6,2,  16.7141,2,  33.6235,2,  33.6295,2,    249.2,2,   249.0,2,    0.59,2,    0.87,2,    0.05,2,    0.33,2,   2.429,6,   1.416,6,   2.2681,6,  2027.2,2,  2245.0,2,   7.9089,2,    25.03,2, -999.00,9,  -999.0,9, -999.00,9, -999.00,9,        9.9,6, 20220710,     1751,  31.9344,-119.4745,    16.8016,2,     -999.0,9,     -999.0,9,     -999.0,9,     -999.0,9,     0.0377,1,     4.5567,1,     -999.0,9,     -999.0,9,     -999.0,9,     -999.0,9,     -999.0,9
33RR20220613,       P02E,     195,          1,         26,         26,2,20220710,       1649,    31.9344,  -119.4745,       1794,    50.9,2,  13.5224,2,  33.6869,2,  33.6922,2,    228.3,2,   229.0,2,    5.18,2,    8.50,2,    0.48,2,    0.95,2,   2.777,2,   1.608,2,   2.3610,2,  2090.9,2,  2245.5,2,   7.7725,2,    25.01,2, -999.00,9,  -999.0,9, -999.00,9, -999.00,9,       15.2,2, 20220710,     1749,  31.9344,-119.4745,    13.5170,2,     -999.0,9,     -999.0,9,     -999.0,9,     -999.0,9,     0.0565,1,     4.5847,1,     -999.0,9,     -999.0,9,     -999.0,9,     -999.0,9,     -999.0,9
33RR20220613,       P02E,     195,          1,         25,         25,2,20220710,       1649,    31.9344,  -119.4745,       1794,    76.0,2,  11.0201,2,  33.7124,2,  33.7136,2,    168.0,2,   167.5,2,   16.52,2,   18.94,2,    0.05,2,    1.55,2,   2.916,2,   1.711,2,   2.1236,2,  2148.5,2,  2238.5,2,   7.5956,2,    25.01,2, -999.00,9,  -999.0,9, -999.00,9, -999.00,9,       20.6,2, 20220710,     1747,  31.9344,-119.4745,    11.0493,2,     -999.0,9,     -999.0,9,     -999.0,9,     -999.0,9,     0.0268,1,     4.6420,1,     -999.0,9,     -999.0,9,     -999.0,9,     -999.0,9,     -999.0,9
33RR20220613,       P02E,     195,          1,         24,         24,2,20220710,       1649,    31.9344,  -119.4745,       1794,   101.3,2,  10.1320,2,  33.8344,2,  33.8296,2,    139.7,2,   139.3,2,   22.97,2,   22.84,2,    0.03,2,    1.79,2,   2.888,2,   1.690,2,   1.8312,2,  2178.1,2,  2245.8,2,   7.5290,2,    25.02,2, -999.00,9,  -999.0,9, -999.00,9, -999.00,9,       24.6,2, 20220710,     1744,  31.9344,-119.4745,    10.1557,2,     -999.0,9,     -999.0,9,     -999.0,9,     -999.0,9,     0.0147,1,     4.6622,1,     -999.0,9,     -999.0,9,     -999.0,9,     -999.0,9,     -999.0,9
33RR20220613,       P02E,     195,          1,         23,         23,2,20220710,       1649,    31.9344,  -119.4745,       1794,   126.7,2,   9.2200,2,  33.9730,2,  33.9692,2,    106.1,2,   106.3,2,   30.40,2,   26.15,2,    0.00,2,    2.02,2,   2.715,2,   1.604,2,   1.4119,2,  2204.2,2,  2254.8,2,   7.4793,2,    24.73,2, -999.00,9,  -999.0,9, -999.00,9, -999.00,9,       31.2,2, 20220710,     1742,  31.9344,-119.4745,     9.2107,2,     -999.0,9,     -999.0,9,     -999.0,9,     -999.0,9,     0.0134,1,     4.6662,1,     -999.0,9,     -999.0,9,     -999.0,9,     -999.0,9,     -999.0,9
33RR20220613,       P02E,     195,          1,         22,         22,2,20220710,       1649,    31.9344,  -119.4745,       1794,   151.3,2,   8.9145,2,  34.0269,2,  34.0280,2,     97.8,2,    98.1,2,   33.43,2,   27.25,2,    0.00,2,    2.09,2,   2.639,2,   1.538,2,   1.2804,2,  2212.4,2,  2260.7,6,   7.4634,2,    25.01,2, -999.00,9,  -999.0,9, -999.00,9, -999.00,9,       33.4,2, 20220710,     1739,  31.9344,-119.4745,     8.9132,2,     -999.0,9,     -999.0,9,     -999.0,9,     -999.0,9,     0.0134,1,     4.6652,1,     -999.0,9,     -999.0,9,     -999.0,9,     -999.0,9,     -999.0,9
33RR20220613,       P02E,     195,          1,         21,         21,2,20220710,       1649,    31.9344,  -119.4745,       1794,   176.9,2,   8.7821,2,  34.1025,2,  34.1017,2,     79.9,2,    80.0,2,   37.04,2,   28.67,2,    0.00,2,    2.24,2,   2.397,2,   1.389,2,   1.0850,2,  2229.7,2,  2267.6,2,   7.4320,2,    25.01,2, -999.00,9,  -999.0,9, -999.00,9, -999.00,9,       35.5,2, 20220710,     1738,  31.9344,-119.4744,     8.7789,2,     -999.0,9,     -999.0,9,     -999.0,9,     -999.0,9,     0.0134,1,     4.6618,1,     -999.0,9,     -999.0,9,     -999.0,9,     -999.0,9,     -999.0,9
33RR20220613,       P02E,     195,          1,         20,         20,2,20220710,       1649,    31.9344,  -119.4745,       1794,   202.0,2,   8.5221,2,  34.1301,2,  34.1313,2,     69.9,2,    69.7,2,   40.46,2,   29.91,2,    0.00,2,    2.35,2,   2.212,2,   1.293,2,   0.8967,2,  2241.1,2,  2271.2,2,   7.4150,2,    25.00,2, -999.00,9,  -999.0,9, -999.00,9, -999.00,9,       36.8,2, 20220710,     1737,  31.9344,-119.4744,     8.5103,2,     -999.0,9,     -999.0,9,     -999.0,9,     -999.0,9,     0.0134,1,     4.6632,1,     -999.0,9,     -999.0,9,     -999.0,9,     -999.0,9,     -999.0,9
33RR20220613,       P02E,     195,          1,         19,         39,2,20220710,       1649,    31.9344,  -119.4745,       1794,   252.3,2,   8.1353,2,  34.1791,2,  34.1754,2,     50.1,3,    53.3,2,   46.32,2,   31.89,2,    0.04,2,    2.54,2,   1.846,2,   1.082,2,   0.6846,2,  2258.8,2,  2279.8,2,   7.3801,2,    24.95,2, -999.00,9,  -999.0,9, -999.00,9, -999.00,9,       39.7,2, 20220710,     1734,  31.9344,-119.4745,     8.1382,2,     -999.0,9,     -999.0,9,     -999.0,9,     -999.0,9,     0.0134,1,     4.6697,1,     -999.0,9,     -999.0,9,     -999.0,9,     -999.0,9,     -999.0,9
33RR20220613,       P02E,     195,          1,         18,         18,2,20220710,       1649,    31.9344,  -119.4745,       1794,   302.5,2,   7.2741,2,  34.1702,2,  34.1726,2,     43.4,2,    43.4,2,   54.63,2,   34.45,2,    0.00,2,    2.67,2,   1.571,2,   0.889,2,   0.5214,2,  2275.1,2,  2288.8,2,   7.3563,2,    25.00,2, -999.00,9,  -999.0,9, -999.00,9, -999.00,9,       41.9,2, 20220710,     1731,  31.9344,-119.4745,     7.2831,2,     -999.0,9,     -999.0,9,     -999.0,9,     -999.0,9,     0.0161,1,     4.6709,1,     -999.0,9,     -999.0,9,     -999.0,9,     -999.0,9,     -999.0,9
33RR20220613,       P02E,     195,          1,         17,         37,2,20220710,       1649,    31.9344,  -119.4745,       1794,   352.7,2,   6.8201,2,  34.1843,2,  34.1858,2,     34.7,2,    34.9,2,   60.98,2,   36.23,2,    0.00,2,    2.79,2,   1.280,2,   0.709,2,   0.3665,2,  2285.2,2,  2293.4,2,   7.3381,2,    25.03,2, -999.00,9,  -999.0,9, -999.00,9, -999.00,9,       44.8,2, 20220710,     1730,  31.9344,-119.4745,     6.8138,2,     -999.0,9,     -999.0,9,     -999.0,9,     -999.0,9,     0.0134,1,     4.6697,1,     -999.0,9,     -999.0,9,     -999.0,9,     -999.0,9,     -999.0,9
33RR20220613,       P02E,     195,          1,         16,         16,2,20220710,       1649,    31.9344,  -119.4745,       1794,   403.3,2,   6.5962,2,  34.2262,2,  34.2254,2,     25.0,2,    25.1,2,   65.67,2,   37.24,2,    0.00,2,    2.90,2,   0.934,2,   0.510,2,   0.2542,2,  2297.4,2,  2301.5,2,   7.3269,2,    25.02,2, -999.00,9,  -999.0,9, -999.00,9, -999.00,9,       47.5,2, 20220710,     1727,  31.9344,-119.4745,     6.5956,2,     -999.0,9,     -999.0,9,     -999.0,9,     -999.0,9,     0.0134,1,     4.6718,1,     -999.0,9,     -999.0,9,     -999.0,9,     -999.0,9,     -999.0,9
33RR20220613,       P02E,     195,          1,         15,         15,2,20220710,       1649,    31.9344,  -119.4745,       1794,   453.8,2,   6.3817,2,  34.2423,3,  34.2662,2,     18.0,3,    18.2,2,   69.97,2,   38.14,2,    0.00,2,    2.98,2,   0.628,2,   0.346,2,   0.2245,2,  2306.7,2,  2308.5,2,   7.3203,2,    25.02,2, -999.00,9,  -999.0,9, -999.00,9, -999.00,9,       49.8,2, 20220710,     1725,  31.9344,-119.4745,     6.3827,2,     -999.0,9,     -999.0,9,     -999.0,9,     -999.0,9,     0.0134,1,     4.6711,1,     -999.0,9,     -999.0,9,     -999.0,9,     -999.0,9,     -999.0,9
33RR20220613,       P02E,     195,          1,         14,         42,2,20220710,       1649,    31.9344,  -119.4745,       1794,   504.2,2,   6.1270,2,  34.3036,2,  34.3031,2,     13.6,2,    13.7,2,   75.14,2,   39.05,2,    0.00,2,    3.04,2,   0.410,2,   0.227,2,   0.1496,2,  2312.8,2,  2318.8,2,   7.3185,2,    25.02,2, -999.00,9,  -999.0,9, -999.00,9, -999.00,9,       55.0,2, 20220710,     1724,  31.9344,-119.4745,     6.1246,2,     -999.0,9,     -999.0,9,     -999.0,9,     -999.0,9,     0.0134,1,     4.6733,1,     -999.0,9,     -999.0,9,     -999.0,9,     -999.0,9,     -999.0,9
33RR20220613,       P02E,     195,          1,         13,         13,2,20220710,       1649,    31.9344,  -119.4745,       1794,   605.4,2,   5.5341,2,  34.3631,2,  34.3684,2,     10.9,3,    10.5,2,   85.89,2,   40.72,2,    0.00,2,    3.14,2,   0.143,2,   0.084,2,   0.2025,2,  2329.0,2,  2331.9,2,   7.3174,2,    25.01,2, -999.00,9,  -999.0,9, -999.00,9, -999.00,9,       55.7,2, 20220710,     1721,  31.9344,-119.4745,     5.5328,2,     -999.0,9,     -999.0,9,     -999.0,9,     -999.0,9,     0.0134,1,     4.6753,1,     -999.0,9,     -999.0,9,     -999.0,9,     -999.0,9,     -999.0,9
33RR20220613,       P02E,     195,          1,         12,         12,2,20220710,       1649,    31.9344,  -119.4745,       1794,   706.8,2,   5.0584,2,  34.4050,2,  34.4037,2,     12.2,3,    12.1,2,   94.68,2,   41.77,2,    0.00,2,    3.18,2,   0.065,2,   0.041,2,   0.1581,2,  2339.8,2,  2345.1,2,   7.3230,2,    25.02,2, -999.00,9,  -999.0,9, -999.00,9, -999.00,9,       56.3,2, 20220710,     1718,  31.9344,-119.4745,     5.0570,2,     -999.0,9,     -999.0,9,     -999.0,9,     -999.0,9,     0.0134,1,     4.6764,1,     -999.0,9,     -999.0,9,     -999.0,9,     -999.0,9,     -999.0,9
33RR20220613,       P02E,     195,          1,         11,         11,2,20220710,       1649,    31.9344,  -119.4745,       1794,   807.1,2,   4.7346,2,  34.4311,2,  34.4292,2,     14.6,3,    14.4,2,  100.93,2,   42.31,2,    0.00,2,    3.19,2,   0.044,2,   0.030,2,   0.1385,2,  2343.9,2,  2352.1,2,   7.3291,2,    25.02,2, -999.00,9,  -999.0,9, -999.00,9, -999.00,9,       55.4,2, 20220710,     1716,  31.9344,-119.4745,     4.7378,2,     -999.0,9,     -999.0,9,     -999.0,9,     -999.0,9,     0.0134,1,     4.6768,1,     -999.0,9,     -999.0,9,     -999.0,9,     -999.0,9,     -999.0,9
33RR20220613,       P02E,     195,          1,         10,         10,2,20220710,       1649,    31.9344,  -119.4745,       1794,   909.0,2,   4.4039,2,  34.4561,2,  34.4561,2,     18.3,2,    18.2,2,  108.35,2,   42.64,2,    0.00,2,    3.19,2,   0.037,2,   0.027,2,   0.4095,2,  2352.5,2,  2360.8,2,   7.3363,2,    25.02,2, -999.00,9,  -999.0,9, -999.00,9, -999.00,9,       53.2,2, 20220710,     1713,  31.9344,-119.4745,     4.4036,2,     -999.0,9,     -999.0,9,     -999.0,9,     -999.0,9,     0.0134,1,     4.6760,1,     -999.0,9,     -999.0,9,     -999.0,9,     -999.0,9,     -999.0,9
33RR20220613,       P02E,     195,          1,          9,          9,2,20220710,       1649,    31.9344,  -119.4745,       1794,  1009.9,2,   4.0887,2,  34.4808,2,  34.4805,2,     22.6,3,    23.0,2,  114.90,2,   42.84,2,    0.00,2,    3.18,2,   0.027,2,   0.023,2,   0.6742,2,  2357.9,2,  2370.2,2,   7.3448,2,    25.01,2, -999.00,9,  -999.0,9, -999.00,9, -999.00,9,       50.9,2, 20220710,     1710,  31.9344,-119.4745,     4.0891,2,     -999.0,9,     -999.0,9,     -999.0,9,     -999.0,9,     0.0134,1,     4.6751,1,     -999.0,9,     -999.0,9,     -999.0,9,     -999.0,9,     -999.0,9
33RR20220613,       P02E,     195,          1,          8,          8,2,20220710,       1649,    31.9344,  -119.4745,       1794,  1110.8,2,   3.8322,2,  34.4998,2,  34.4985,2,     26.8,2,    27.0,2,  120.17,2,   42.92,2,    0.00,2,    3.17,2,   0.026,2,   0.021,2,   0.6357,2,  2362.9,2,  2375.7,2,   7.3538,2,    25.01,2, -999.00,9,  -999.0,9, -999.00,9, -999.00,9,       50.0,2, 20220710,     1708,  31.9344,-119.4745,     3.8290,2,     -999.0,9,     -999.0,9,     -999.0,9,     -999.0,9,     0.0134,1,     4.6770,1,     -999.0,9,     -999.0,9,     -999.0,9,     -999.0,9,     -999.0,9
33RR20220613,       P02E,     195,          1,          7,          7,2,20220710,       1649,    31.9344,  -119.4745,       1794,  1212.3,2,   3.6153,2,  34.5164,2,  34.5152,2,     31.0,2,    30.9,2,  125.25,2,   42.85,2,    0.00,2,    3.16,2,   0.026,2,   0.022,2,   0.4139,2,  2364.3,2,  2381.8,2,   7.3612,2,    25.01,2, -999.00,9,  -999.0,9, -999.00,9, -999.00,9,       48.3,2, 20220710,     1706,  31.9344,-119.4745,     3.6141,2,     -999.0,9,     -999.0,9,     -999.0,9,     -999.0,9,     0.0134,1,     4.6783,1,     -999.0,9,     -999.0,9,     -999.0,9,     -999.0,9,     -999.0,9
33RR20220613,       P02E,     195,          1,          6,          6,2,20220710,       1649,    31.9344,  -119.4745,       1794,  1313.7,2,   3.4022,2,  34.5328,2,  34.5311,2,     35.5,3,    36.1,2,  130.04,2,   42.82,2,    0.00,2,    3.14,2,   0.021,2,   0.017,2,   0.1710,2,  -999.0,9,  -999.0,9,-999.0000,9,  -999.00,9, -999.00,9,  -999.0,9, -999.00,9, -999.00,9,       48.1,2, 20220710,     1702,  31.9344,-119.4745,     3.4016,2,     -999.0,9,     -999.0,9,     -999.0,9,     -999.0,9,     0.0134,1,     4.6801,1,     -999.0,9,     -999.0,9,     -999.0,9,     -999.0,9,     -999.0,9
33RR20220613,       P02E,     195,          1,          5,          5,2,20220710,       1649,    31.9344,  -119.4745,       1794,  1420.1,2,   3.1225,2,  34.5509,2,  34.5498,2,     42.6,2,    42.3,2,  137.17,2,   42.51,2,    0.00,2,    3.11,2,   0.034,2,   0.027,2,   0.1971,2,  2370.2,2,  2394.8,2,   7.3832,2,    25.00,2, -999.00,9,  -999.0,9, -999.00,9, -999.00,9,       44.5,2, 20220710,     1659,  31.9344,-119.4745,     3.1251,2,     -999.0,9,     -999.0,9,     -999.0,9,     -999.0,9,     0.0134,1,     4.6766,1,     -999.0,9,     -999.0,9,     -999.0,9,     -999.0,9,     -999.0,9
33RR20220613,       P02E,     195,          1,          4,          4,2,20220710,       1649,    31.9344,  -119.4745,       1794,  1516.0,2,   2.9243,2,  34.5662,2,  34.5643,2,     48.3,2,    48.3,2,  141.46,2,   42.21,2,    0.00,2,    3.08,2,   0.025,2,   0.020,2,   0.1092,2,  -999.0,9,  -999.0,9,-999.0000,9,  -999.00,9, -999.00,9,  -999.0,9, -999.00,9, -999.00,9,       42.1,2, 20220710,     1657,  31.9344,-119.4745,     2.9259,2,     -999.0,9,     -999.0,9,     -999.0,9,     -999.0,9,     0.0134,1,     4.6733,1,     -999.0,9,     -999.0,9,     -999.0,9,     -999.0,9,     -999.0,9
33RR20220613,       P02E,     195,          1,          3,          3,2,20220710,       1649,    31.9344,  -119.4745,       1794,  1617.1,2,   2.7429,2,  34.5785,2,  34.5765,2,     54.0,2,    54.0,2,  145.96,2,   41.90,2,    0.00,2,    3.03,2,   0.021,2,   0.016,2,   0.1146,2,  2374.1,6,  2404.9,2,   7.4050,2,    25.00,2, -999.00,9,  -999.0,9, -999.00,9, -999.00,9,       41.0,2, 20220710,     1654,  31.9344,-119.4745,     2.7446,2,     -999.0,9,     -999.0,9,     -999.0,9,     -999.0,9,     0.0134,1,     4.6682,1,     -999.0,9,     -999.0,9,     -999.0,9,     -999.0,9,     -999.0,9
33RR20220613,       P02E,     195,          1,          2,          2,2,20220710,       1649,    31.9344,  -119.4745,       1794,  1719.3,2,   2.6397,2,  34.5850,2,  34.5830,2,     57.6,2,    57.8,2,  148.59,2,   41.69,2,    0.00,2,    3.03,2,   0.021,2,   0.019,2,   0.0000,2,  2373.4,2,  2407.0,6,   7.4092,2,    24.99,2, -999.00,9,  -999.0,9, -999.00,9, -999.00,9,       39.3,2, 20220710,     1652,  31.9344,-119.4745,     2.6393,2,     -999.0,9,     -999.0,9,     -999.0,9,     -999.0,9,     0.0134,1,     4.6661,1,     -999.0,9,     -999.0,9,     -999.0,9,     -999.0,9,     -999.0,9
33RR20220613,       P02E,     195,          1,          1,          1,2,20220710,       1649,    31.9344,  -119.4745,       1794,  1802.5,2,   2.5588,2,  34.5902,2,  34.5877,2,     60.4,2,    60.3,2,  150.16,2,   41.59,2,    0.00,2,    3.01,2,   0.019,2,   0.018,2,   0.0000,2,  2372.9,2,  2409.8,2,   7.4171,2,    24.99,2, -999.00,9,  -999.0,9, -999.00,9, -999.00,9,       38.6,2, 20220710,     1649,  31.9344,-119.4745,     2.5582,2,     -999.0,9,     -999.0,9,     -999.0,9,     -999.0,9,     0.0134,1,     4.6607,1,     -999.0,9,     -999.0,9,     -999.0,9,     -999.0,9,     -999.0,9