BOTTLE,20230830CCHSIOCBG
EXPOCODE,SECT_ID,STNNBR,CASTNO,SAMPNO,BTLNBR,BTLNBR_FLAG_W,DATE,TIME,LATITUDE,LONGITUDE,DEPTH,CTDPRS,CTDPRS_FLAG_W,CTDTMP,CTDTMP_FLAG_W,CTDSAL,CTDSAL_FLAG_W,SALNTY,SALNTY_FLAG_W,CTDOXY,CTDOXY_FLAG_W,OXYGEN,OXYGEN_FLAG_W,SILCAT,SILCAT_FLAG_W,NITRAT,NITRAT_FLAG_W,NITRIT,NITRIT_FLAG_W,PHSPHT,PHSPHT_FLAG_W,CFC-11,CFC-11_FLAG_W,CFC-12,CFC-12_FLAG_W,SF6,SF6_FLAG_W,TCARBN,TCARBN_FLAG_W,ALKALI,ALKALI_FLAG_W,PH_TOT,PH_TOT_FLAG_W,PH_TMP,PH_TMP_FLAG_W,DELC13,DELC13_FLAG_W,DELC14,DELC14_FLAG_W,DOC,DOC_FLAG_W,TDN,TDN_FLAG_W,N2O,N2O_FLAG_W,BTL_DATE,BTL_TIME,BTL_LAT,BTL_LON,REFTMP,REFTMP_FLAG_W,POC,POC_FLAG_W,PON,PON_FLAG_W,POP,POP_FLAG_W,PCOD,PCOD_FLAG_W,CTDFLUOR,CTDFLUOR_FLAG_W,CTDXMISS,CTDXMISS_FLAG_W,HPLC,HPLC_FLAG_W,DNA,DNA_FLAG_W,FCM,FCM_FLAG_W,IMAGES,IMAGES_FLAG_W,VIRAL_ABUNDANCE,VIRAL_ABUNDANCE_FLAG_W
,,,,,,,,,,,METERS,DBAR,,ITS-90,,PSS-78,,PSS-78,,UMOL/KG,,UMOL/KG,,UMOL/KG,,UMOL/KG,,UMOL/KG,,UMOL/KG,,PMOL/KG,,PMOL/KG,,FMOL/KG,,UMOL/KG,,UMOL/KG,,,,DEG C,,/MILLE,,/MILLE,,UMOL/KG,,UMOL/KG,,NMOL/KG,,,,,,ITS-90,,UG/L,,UG/L,,UG/L,,UG/L,,VOLTS,,VOLTS,,,,,,,,,,,
33RR20220613,       P02E,     192,          1,          4,          4,2,20220709,       1713,    31.8339,  -119.6607,       3323,  2905.1,2,   1.6684,2,  34.6618,2,  34.6618,2,    114.1,2,   114.1,2,  166.25,2,   38.47,2,    0.00,2,    2.68,2,   0.009,2,   0.009,2,   0.0000,2,  -999.0,9,  -999.0,9,-999.0000,9,  -999.00,9, -999.00,9,  -999.0,9, -999.00,1, -999.00,1,       25.5,2, 20220709,     1724,  31.8339,-119.6607,     1.6684,2,     -999.0,9,     -999.0,9,     -999.0,9,     -999.0,9,     0.0123,1,     4.6897,1,     -999.0,9,     -999.0,9,     -999.0,9,     -999.0,9,     -999.0,9
33RR20220613,       P02E,     192,          1,          3,          3,2,20220709,       1713,    31.8339,  -119.6607,       3323,  3109.3,2,   1.6224,2,  34.6664,2,  34.6659,2,    118.8,2,   118.8,2,  167.23,2,   38.25,2,    0.00,2,    2.65,2,   0.010,2,   0.012,2,   0.0000,2,  2354.8,2,  2430.8,2,   7.5278,2,    24.98,2, -999.00,1,  -999.0,1, -999.00,1, -999.00,1,       25.6,2, 20220709,     1720,  31.8339,-119.6607,     1.6223,2,     -999.0,9,     -999.0,9,     -999.0,9,     -999.0,9,     0.0133,1,     4.6899,1,     -999.0,9,     -999.0,9,     -999.0,9,     -999.0,9,     -999.0,9
33RR20220613,       P02E,     192,          1,          2,          2,2,20220709,       1713,    31.8339,  -119.6607,       3323,  3231.5,2,   1.5999,2,  34.6688,2,  34.6686,2,    121.1,2,   121.0,2,  167.62,2,   38.16,2,    0.00,2,    2.64,2,   0.013,2,   0.015,2,   0.0000,2,  -999.0,9,  -999.0,9,-999.0000,9,  -999.00,9, -999.00,1,  -999.0,1, -999.00,1, -999.00,1,       25.9,2, 20220709,     1716,  31.8339,-119.6607,     1.6000,2,     -999.0,9,     -999.0,9,     -999.0,9,     -999.0,9,     0.0125,1,     4.6862,1,     -999.0,9,     -999.0,9,     -999.0,9,     -999.0,9,     -999.0,9
33RR20220613,       P02E,     192,          1,          1,          1,2,20220709,       1713,    31.8339,  -119.6607,       3323,  3359.0,2,   1.5878,2,  34.6702,2,  34.6712,2,    122.5,2,   122.2,2,  168.21,2,   37.96,2,    0.00,2,    2.63,2,   0.015,2,   0.020,2,   0.0000,2,  2354.7,6,  2434.0,2,   7.5354,2,    24.99,2, -999.00,1,  -999.0,1, -999.00,1, -999.00,1,       25.8,2, 20220709,     1713,  31.8339,-119.6607,     1.5873,2,     -999.0,9,     -999.0,9,     -999.0,9,     -999.0,9,     0.0124,1,     4.6843,1,     -999.0,9,     -999.0,9,     -999.0,9,     -999.0,9,     -999.0,9