BOTTLE,20230830CCHSIOCBG
EXPOCODE,SECT_ID,STNNBR,CASTNO,SAMPNO,BTLNBR,BTLNBR_FLAG_W,DATE,TIME,LATITUDE,LONGITUDE,DEPTH,CTDPRS,CTDPRS_FLAG_W,CTDTMP,CTDTMP_FLAG_W,CTDSAL,CTDSAL_FLAG_W,SALNTY,SALNTY_FLAG_W,CTDOXY,CTDOXY_FLAG_W,OXYGEN,OXYGEN_FLAG_W,SILCAT,SILCAT_FLAG_W,NITRAT,NITRAT_FLAG_W,NITRIT,NITRIT_FLAG_W,PHSPHT,PHSPHT_FLAG_W,CFC-11,CFC-11_FLAG_W,CFC-12,CFC-12_FLAG_W,SF6,SF6_FLAG_W,TCARBN,TCARBN_FLAG_W,ALKALI,ALKALI_FLAG_W,PH_TOT,PH_TOT_FLAG_W,PH_TMP,PH_TMP_FLAG_W,DELC13,DELC13_FLAG_W,DELC14,DELC14_FLAG_W,DOC,DOC_FLAG_W,TDN,TDN_FLAG_W,N2O,N2O_FLAG_W,BTL_DATE,BTL_TIME,BTL_LAT,BTL_LON,REFTMP,REFTMP_FLAG_W,POC,POC_FLAG_W,PON,PON_FLAG_W,POP,POP_FLAG_W,PCOD,PCOD_FLAG_W,CTDFLUOR,CTDFLUOR_FLAG_W,CTDXMISS,CTDXMISS_FLAG_W,HPLC,HPLC_FLAG_W,DNA,DNA_FLAG_W,FCM,FCM_FLAG_W,IMAGES,IMAGES_FLAG_W,VIRAL_ABUNDANCE,VIRAL_ABUNDANCE_FLAG_W
,,,,,,,,,,,METERS,DBAR,,ITS-90,,PSS-78,,PSS-78,,UMOL/KG,,UMOL/KG,,UMOL/KG,,UMOL/KG,,UMOL/KG,,UMOL/KG,,PMOL/KG,,PMOL/KG,,FMOL/KG,,UMOL/KG,,UMOL/KG,,,,DEG C,,/MILLE,,/MILLE,,UMOL/KG,,UMOL/KG,,NMOL/KG,,,,,,ITS-90,,UG/L,,UG/L,,UG/L,,UG/L,,VOLTS,,VOLTS,,,,,,,,,,,
33RR20220613,       P02E,     125,          2,          4,          4,2,20220619,       0616,    30.0000,  -157.1710,       5941,  4978.7,2,   1.5301,2,  34.6884,2,  34.6877,2,    155.2,2,   155.6,2,  150.68,2,   35.99,2,    0.00,2,    2.69,4,   0.006,2,   0.003,2,   0.0000,2,  -999.0,9,  -999.0,9,-999.0000,9,  -999.00,9, -999.00,9,  -999.0,9, -999.00,9, -999.00,9,       22.6,2, 20220619,      700,  30.0000,-157.1710,     1.5301,2,     -999.0,9,     -999.0,9,     -999.0,9,     -999.0,9,     0.0122,1,     4.7049,1,     -999.0,9,     -999.0,9,     -999.0,9,     -999.0,9,     -999.0,9
33RR20220613,       P02E,     125,          2,          3,          3,2,20220619,       0616,    30.0000,  -157.1710,       5941,  5339.2,2,   1.5651,2,  34.6895,2,  34.6899,2,    157.5,2,   157.4,2,  148.53,2,   35.84,2,    0.00,2,    2.68,4,   0.005,2,   0.004,2,   0.0000,2,  2323.2,2,  2418.5,6,   7.5863,2,    25.00,2, -999.00,9,  -999.0,9, -999.00,9, -999.00,9,       23.4,2, 20220619,      649,  30.0000,-157.1710,     1.5653,2,     -999.0,9,     -999.0,9,     -999.0,9,     -999.0,9,     0.0122,1,     4.7044,1,     -999.0,9,     -999.0,9,     -999.0,9,     -999.0,9,     -999.0,9
33RR20220613,       P02E,     125,          2,          2,          2,2,20220619,       0616,    30.0000,  -157.1710,       5941,  5702.4,2,   1.6083,2,  34.6900,2,  34.6885,2,    158.6,2,   158.8,2,  147.75,2,   35.77,2,    0.00,2,    2.68,4,   0.005,2,   0.003,2,   0.0000,2,  -999.0,9,  -999.0,9,-999.0000,9,  -999.00,9, -999.00,9,  -999.0,9, -999.00,9, -999.00,9,       23.4,2, 20220619,      635,  30.0000,-157.1710,     1.6085,2,     -999.0,9,     -999.0,9,     -999.0,9,     -999.0,9,     0.0122,1,     4.7038,1,     -999.0,9,     -999.0,9,     -999.0,9,     -999.0,9,     -999.0,9
33RR20220613,       P02E,     125,          2,          1,          1,2,20220619,       0616,    30.0000,  -157.1710,       5941,  6056.4,2,   1.6563,2,  34.6901,2,  34.6914,2,    158.7,2,   158.7,2,  147.26,2,   35.78,2,    0.00,2,    2.67,4,   0.006,2,   0.004,2,   0.0000,2,  2320.7,6,  2415.8,2,   7.5867,2,    24.97,2, -999.00,9,  -999.0,9, -999.00,9, -999.00,9,       23.7,2, 20220619,      616,  30.0000,-157.1710,     1.6566,2,     -999.0,9,     -999.0,9,     -999.0,9,     -999.0,9,     0.0122,1,     4.7032,1,     -999.0,9,     -999.0,9,     -999.0,9,     -999.0,9,     -999.0,9