BOTTLE,20230830CCHSIOCBG
EXPOCODE,SECT_ID,STNNBR,CASTNO,SAMPNO,BTLNBR,BTLNBR_FLAG_W,DATE,TIME,LATITUDE,LONGITUDE,DEPTH,CTDPRS,CTDPRS_FLAG_W,CTDTMP,CTDTMP_FLAG_W,CTDSAL,CTDSAL_FLAG_W,SALNTY,SALNTY_FLAG_W,CTDOXY,CTDOXY_FLAG_W,OXYGEN,OXYGEN_FLAG_W,SILCAT,SILCAT_FLAG_W,NITRAT,NITRAT_FLAG_W,NITRIT,NITRIT_FLAG_W,PHSPHT,PHSPHT_FLAG_W,CFC-11,CFC-11_FLAG_W,CFC-12,CFC-12_FLAG_W,SF6,SF6_FLAG_W,TCARBN,TCARBN_FLAG_W,ALKALI,ALKALI_FLAG_W,PH_TOT,PH_TOT_FLAG_W,PH_TMP,PH_TMP_FLAG_W,DELC13,DELC13_FLAG_W,DELC14,DELC14_FLAG_W,DOC,DOC_FLAG_W,TDN,TDN_FLAG_W,N2O,N2O_FLAG_W,BTL_DATE,BTL_TIME,BTL_LAT,BTL_LON,REFTMP,REFTMP_FLAG_W,POC,POC_FLAG_W,PON,PON_FLAG_W,POP,POP_FLAG_W,PCOD,PCOD_FLAG_W,CTDFLUOR,CTDFLUOR_FLAG_W,CTDXMISS,CTDXMISS_FLAG_W,HPLC,HPLC_FLAG_W,DNA,DNA_FLAG_W,FCM,FCM_FLAG_W,IMAGES,IMAGES_FLAG_W,VIRAL_ABUNDANCE,VIRAL_ABUNDANCE_FLAG_W
,,,,,,,,,,,METERS,DBAR,,ITS-90,,PSS-78,,PSS-78,,UMOL/KG,,UMOL/KG,,UMOL/KG,,UMOL/KG,,UMOL/KG,,UMOL/KG,,PMOL/KG,,PMOL/KG,,FMOL/KG,,UMOL/KG,,UMOL/KG,,,,DEG C,,/MILLE,,/MILLE,,UMOL/KG,,UMOL/KG,,NMOL/KG,,,,,,ITS-90,,UG/L,,UG/L,,UG/L,,UG/L,,VOLTS,,VOLTS,,,,,,,,,,,
33RR20220613,       P02E,     174,          1,          4,          4,2,20220704,       0640,    30.0009,  -128.8812,       4611,  4039.8,2,   1.5087,2,  34.6804,2,  34.6804,2,    139.1,2,   139.3,2,  165.34,2,   36.56,2,    0.00,2,    2.56,2,-999.000,9,-999.000,9,-999.0000,9,  -999.0,9,  -999.0,9,-999.0000,9,  -999.00,9, -999.00,1,  -999.0,1, -999.00,1, -999.00,1,     -999.0,9, 20220704,      657,  30.0009,-128.8813,     1.5087,2,     -999.0,9,     -999.0,9,     -999.0,9,     -999.0,9,     0.0122,1,     4.7017,1,     -999.0,9,     -999.0,9,     -999.0,9,     -999.0,9,     -999.0,9
33RR20220613,       P02E,     174,          1,          3,          3,2,20220704,       0640,    30.0009,  -128.8812,       4611,  4348.6,2,   1.5342,2,  34.6816,2,  34.6818,2,    140.9,2,   141.1,2,  164.36,2,   36.45,2,    0.00,2,    2.56,2,   0.010,2,   0.014,2,   0.0000,2,  2338.2,2,  2431.6,2,   7.5656,2,    24.99,2, -999.00,1,  -999.0,1, -999.00,1, -999.00,1,       22.7,2, 20220704,      650,  30.0009,-128.8812,     1.5342,2,     -999.0,9,     -999.0,9,     -999.0,9,     -999.0,9,     0.0125,1,     4.7010,1,     -999.0,9,     -999.0,9,     -999.0,9,     -999.0,9,     -999.0,9
33RR20220613,       P02E,     174,          1,          2,          2,2,20220704,       0640,    30.0009,  -128.8812,       4611,  4580.5,2,   1.5590,2,  34.6821,2,  34.6818,2,    141.6,2,   141.7,2,  163.77,2,   36.46,2,    0.00,2,    2.55,2,   0.007,2,   0.011,2,   0.0000,2,  2338.6,2,  2430.8,6,   7.5676,2,    24.98,2, -999.00,1,  -999.0,1, -999.00,1, -999.00,1,       23.5,2, 20220704,      645,  30.0009,-128.8813,     1.5590,2,     -999.0,9,     -999.0,9,     -999.0,9,     -999.0,9,     0.0131,1,     4.7006,1,     -999.0,9,     -999.0,9,     -999.0,9,     -999.0,9,     -999.0,9
33RR20220613,       P02E,     174,          1,          1,          1,2,20220704,       0640,    30.0009,  -128.8812,       4611,  4684.0,2,   1.5714,2,  34.6821,3,  34.6846,2,    141.6,2,   141.4,2,  163.77,2,   36.57,2,    0.00,2,    2.56,2,   0.007,2,   0.012,2,   0.0000,2,  2340.8,6,  2430.0,6,   7.5683,2,    24.98,2, -999.00,1,  -999.0,1, -999.00,1, -999.00,1,       23.1,2, 20220704,      640,  30.0009,-128.8812,     1.5714,2,     -999.0,9,     -999.0,9,     -999.0,9,     -999.0,9,     0.0122,1,     4.7002,1,     -999.0,9,     -999.0,9,     -999.0,9,     -999.0,9,     -999.0,9