BOTTLE,20230808CCHSIOADS
EXPOCODE,SECT_ID,STNNBR,CASTNO,SAMPNO,BTLNBR,BTLNBR_FLAG_W,DATE,TIME,BTL_TIME,LATITUDE,LONGITUDE,DEPTH,CTDPRS,CTDTMP,CTDSAL,CTDSAL_FLAG_W,CTDOXY,CTDOXY_FLAG_W,SALNTY,SALNTY_FLAG_W,OXYGEN,OXYGEN_FLAG_W,SILCAT,SILCAT_FLAG_W,NO2+NO3,NO2+NO3_FLAG_W,NITRIT,NITRIT_FLAG_W,PHSPHT,PHSPHT_FLAG_W,CFC-11,CFC-11_FLAG_W,CFC-12,CFC-12_FLAG_W,TCARBN,TCARBN_FLAG_W,ALKALI,ALKALI_FLAG_W,PH_TOT,PH_TOT_FLAG_W,PH_TMP,CFC113,CFC113_FLAG_W,SF6,SF6_FLAG_W,CHLORA,CHLORA_FLAG_W,PPHYTN,PPHYTN_FLAG_W,THETA,THETA_FLAG_W,SIG0,SIG0_FLAG_W,SBE35,SBE35_FLAG_W
,,,,,,,,,,,,METERS,DBAR,ITS-90,PSS-78,,UMOL/KG,,PSS78,,UMOL/KG,,UMOL/KG,,UMOL/KG,,UMOL/KG,,UMOL/KG,,PMOL/KG,,PMOL/KG,,UMOL/KG,,UMOL/KG,,,,DEG C,PMOL/KG,,FMOL/KG,,UG/KG,,UG/KG,,ITS-90,,KG/M^3,,ITS-90,
49UP20210827_1,   P03,    48,  1,      0,     BUC,2,20210901,2051,2300, 24.2512, 147.8275, 5778,      0.0,   29.3197,  34.9101,2,    196.3,2,     -999,9,   196.45,2,     1.15,2,     0.00,2,     0.00,2,    0.020,2,     -999,9,     -999,9,     -999,9,     -999,9,     -999,9,     -999,     -999,9,     -999,9,     -999,9,     -999,9,  29.3191,2,  21.8896,2,     -999,9
49UP20210827_1,   P03,    48,  1,     36,     757,2,20210901,2051,2329, 24.2512, 147.8275, 5778,      9.5,   29.2986,  34.9078,2,    196.0,2,     -999,9,   196.47,2,     1.15,2,     0.02,2,     0.00,2,    0.010,2,     -999,9,     -999,9,     -999,9,     -999,9,     -999,9,     -999,     -999,9,     -999,9,     -999,9,     -999,9,  29.2963,2,  21.8955,2,  29.2988,2
49UP20210827_1,   P03,    48,  1,     35,     756,2,20210901,2051,2325, 24.2512, 147.8275, 5778,     49.7,   26.3622,  34.9419,2,    216.1,2,     -999,9,   215.48,2,     1.29,2,     0.01,2,     0.00,2,    0.010,2,     -999,9,     -999,9,     -999,9,     -999,9,     -999,9,     -999,     -999,9,     -999,9,     -999,9,     -999,9,  26.3510,2,  22.8796,2,  26.3705,2
49UP20210827_1,   P03,    48,  1,     34,     843,2,20210901,2051,2323, 24.2512, 147.8275, 5778,     99.4,   22.4623,  34.9924,2,    226.5,2,     -999,9,   226.13,2,     1.54,2,     0.01,2,     0.00,2,    0.010,2,     -999,9,     -999,9,     -999,9,     -999,9,     -999,9,     -999,     -999,9,     -999,9,     -999,9,     -999,9,  22.4424,2,  24.0873,2,  22.4629,2
49UP20210827_1,   P03,    48,  1,     33,     842,2,20210901,2051,2321, 24.2512, 147.8275, 5778,    125.7,   21.1633,  34.9392,2,    229.1,2,     -999,9,   229.21,2,     1.63,2,     0.02,2,     0.00,2,    0.010,2,     -999,9,     -999,9,     -999,9,     -999,9,     -999,9,     -999,     -999,9,     -999,9,     -999,9,     -999,9,  21.1391,2,  24.4097,2,  21.1654,2
49UP20210827_1,   P03,    48,  1,     32,     841,2,20210901,2051,2319, 24.2512, 147.8275, 5778,    150.3,   20.2726,  34.8929,2,    223.3,2,     -999,9,   223.39,6,     1.75,6,     0.06,6,     0.03,6,    0.020,6,     -999,9,     -999,9,     -999,9,     -999,9,     -999,9,     -999,     -999,9,     -999,9,     -999,9,     -999,9,  20.2446,2,  24.6154,2,  20.2718,2
49UP20210827_1,   P03,    48,  1,     31,     840,2,20210901,2051,2317, 24.2512, 147.8275, 5778,    208.2,   18.4919,  34.8004,2,    203.5,2,     -999,9,   203.58,2,     2.95,2,     2.61,2,     0.00,2,    0.190,2,     -999,9,     -999,9,     -999,9,     -999,9,     -999,9,     -999,     -999,9,     -999,9,     -999,9,     -999,9,  18.4555,2,  25.0061,2,  18.4932,2
49UP20210827_1,   P03,    48,  1,     30,     839,2,20210901,2051,2315, 24.2512, 147.8275, 5778,    253.2,   17.4423,  34.7496,2,    207.0,2,     -999,9,   207.17,2,     3.90,2,     4.17,2,     0.00,2,    0.280,2,     -999,9,     -999,9,     -999,9,     -999,9,     -999,9,     -999,     -999,9,     -999,9,     -999,9,     -999,9,  17.3998,2,  25.2264,2,  17.4431,2
49UP20210827_1,   P03,    48,  1,     29,     838,2,20210901,2051,2312, 24.2512, 147.8275, 5778,    335.0,   16.0633,  34.6568,2,    199.0,2,     -999,9,   199.10,2,     6.52,2,     6.93,2,     0.00,2,    0.470,2,     -999,9,     -999,9,     -999,9,     -999,9,     -999,9,     -999,     -999,9,     -999,9,     -999,9,     -999,9,  16.0101,2,  25.4813,2,  16.0572,2
49UP20210827_1,   P03,    48,  1,     28,     755,2,20210901,2051,2308, 24.2512, 147.8275, 5778,    433.6,   13.1365,  34.4010,2,    197.3,2,     -999,9,   197.58,2,    12.64,2,    11.56,2,     0.00,2,    0.800,2,     -999,9,     -999,9,     -999,9,     -999,9,     -999,9,     -999,     -999,9,     -999,9,     -999,9,     -999,9,  13.0762,2,  25.9136,2,  13.1328,2
49UP20210827_1,   P03,    48,  1,     27,     754,3,20210901,2051,2305, 24.2512, 147.8275, 5778,    537.1,   10.4948,  34.2189,2,    179.6,2,     -999,9,   180.19,2,    24.03,2,    17.82,2,     0.00,2,    1.250,2,     -999,9,     -999,9,     -999,9,     -999,9,     -999,9,     -999,     -999,9,     -999,9,     -999,9,     -999,9,  10.4301,2,  26.2681,2,  10.4757,2
49UP20210827_1,   P03,    48,  1,     26,     835,2,20210901,2051,2301, 24.2512, 147.8275, 5778,    638.7,    7.4845,  34.0923,2,    130.3,2,     -999,9,   130.71,2,    48.89,2,    27.94,2,     0.00,2,    1.990,2,     -999,9,     -999,9,     -999,9,     -999,9,     -999,9,     -999,     -999,9,     -999,9,     -999,9,     -999,9,   7.4214,2,  26.6449,2,   7.4870,2
49UP20210827_1,   P03,    48,  1,     25,     834,2,20210901,2051,2257, 24.2512, 147.8275, 5778,    736.5,    5.8012,  34.1268,2,     84.7,2,     -999,9,    84.99,2,    73.68,2,    35.20,2,     0.00,2,    2.520,2,     -999,9,     -999,9,     -999,9,     -999,9,     -999,9,     -999,     -999,9,     -999,9,     -999,9,     -999,9,   5.7371,2,  26.8954,2,   5.8015,2
49UP20210827_1,   P03,    48,  1,     24,     753,2,20210901,2051,2253, 24.2512, 147.8275, 5778,    839.6,    4.8280,  34.1895,2,     64.1,2,     -999,9,    64.59,2,    93.04,2,    38.51,2,     0.00,2,    2.750,2,     -999,9,     -999,9,     -999,9,     -999,9,     -999,9,     -999,     -999,9,     -999,9,     -999,9,     -999,9,   4.7606,2,  27.0598,2,   4.8283,2
49UP20210827_1,   P03,    48,  1,     23,     832,2,20210901,2051,2249, 24.2512, 147.8275, 5778,    943.3,    4.1545,  34.2846,2,     49.7,2,     -999,9,    50.34,6,   109.78,6,    40.66,6,     0.00,6,    2.900,6,     -999,9,     -999,9,     -999,9,     -999,9,     -999,9,     -999,     -999,9,     -999,9,     -999,9,     -999,9,   4.0827,2,  27.2085,2,   4.1561,2
49UP20210827_1,   P03,    48,  1,     22,     831,2,20210901,2051,2244, 24.2512, 147.8275, 5778,   1082.0,    3.5674,  34.3817,2,     48.1,2,     -999,9,    48.07,2,   124.83,2,    41.59,2,     0.00,2,    2.960,2,     -999,9,     -999,9,     -999,9,     -999,9,     -999,9,     -999,     -999,9,     -999,9,     -999,9,     -999,9,   3.4887,2,  27.3456,2,   3.5672,2
49UP20210827_1,   P03,    48,  1,     21,     830,2,20210901,2051,2239, 24.2512, 147.8275, 5778,   1283.2,    2.9231,  34.4672,2,     52.7,2,     -999,9,    52.51,2,   140.53,2,    41.92,2,     0.00,2,    2.970,2,     -999,9,     -999,9,     -999,9,     -999,9,     -999,9,     -999,     -999,9,     -999,9,     -999,9,     -999,9,   2.8340,2,  27.4747,2,   2.9239,2
49UP20210827_1,   P03,    48,  1,     20,     829,2,20210901,2051,2232, 24.2512, 147.8275, 5778,   1485.4,    2.5031,  34.5278,2,     70.7,2,     -999,9,    70.78,2,   147.08,2,    40.96,2,     0.00,2,    2.890,2,     -999,9,     -999,9,     -999,9,     -999,9,     -999,9,     -999,     -999,9,     -999,9,     -999,9,     -999,9,   2.4023,2,  27.5606,2,   2.5031,2
49UP20210827_1,   P03,    48,  1,     19,     828,2,20210901,2051,2226, 24.2512, 147.8275, 5778,   1688.3,    2.3016,  34.5617,2,     84.2,2,     -999,9,    84.00,2,   148.42,2,    40.21,2,     0.00,2,    2.820,2,     -999,9,     -999,9,     -999,9,     -999,9,     -999,9,     -999,     -999,9,     -999,9,     -999,9,     -999,9,   2.1869,2,  27.6055,2,   2.3019,2
49UP20210827_1,   P03,    48,  1,     18,     752,2,20210901,2051,2221, 24.2512, 147.8275, 5778,   1890.2,    2.0805,  34.5919,2,     95.6,2,     -999,9,    95.81,2,   150.78,2,    39.61,2,     0.00,2,    2.770,2,     -999,9,     -999,9,     -999,9,     -999,9,     -999,9,     -999,     -999,9,     -999,9,     -999,9,     -999,9,   1.9521,2,  27.6485,2,   2.0803,2
49UP20210827_1,   P03,    48,  1,     17,     751,2,20210901,2051,2215, 24.2512, 147.8275, 5778,   2096.1,    1.9141,  34.6175,2,    107.0,2,     -999,9,   107.21,2,   151.33,2,    38.97,2,     0.00,2,    2.720,2,     -999,9,     -999,9,     -999,9,     -999,9,     -999,9,     -999,     -999,9,     -999,9,     -999,9,     -999,9,   1.7709,2,  27.6830,2,   1.9142,2
49UP20210827_1,   P03,    48,  1,     16,     328,2,20210901,2051,2210, 24.2512, 147.8275, 5778,   2298.8,    1.7911,  34.6328,2,    114.4,2,     -999,9,   114.25,2,   152.72,2,    38.57,2,     0.00,2,    2.690,2,     -999,9,     -999,9,     -999,9,     -999,9,     -999,9,     -999,     -999,9,     -999,9,     -999,9,     -999,9,   1.6326,2,  27.7057,2,   1.7914,2
49UP20210827_1,   P03,    48,  1,     15,     822,2,20210901,2051,2204, 24.2512, 147.8275, 5778,   2500.3,    1.7211,  34.6435,2,    120.7,2,     -999,9,   120.64,2,   152.39,2,    38.17,2,     0.00,2,    2.650,2,     -999,9,     -999,9,     -999,9,     -999,9,     -999,9,     -999,     -999,9,     -999,9,     -999,9,     -999,9,   1.5461,2,  27.7207,2,   1.7205,2
49UP20210827_1,   P03,    48,  1,     14,     326,2,20210901,2051,2200, 24.2512, 147.8275, 5778,   2703.7,    1.6564,  34.6531,2,    126.8,2,     -999,9,   126.40,6,   152.27,6,    37.83,6,     0.00,6,    2.630,6,     -999,9,     -999,9,     -999,9,     -999,9,     -999,9,     -999,     -999,9,     -999,9,     -999,9,     -999,9,   1.4641,2,  27.7344,2,   1.6564,2
49UP20210827_1,   P03,    48,  1,     13,     325,2,20210901,2051,2155, 24.2512, 147.8275, 5778,   2908.6,    1.6140,  34.6594,2,    131.3,2,     -999,9,   131.03,2,   151.95,2,    37.51,2,     0.00,2,    2.610,2,     -999,9,     -999,9,     -999,9,     -999,9,     -999,9,     -999,     -999,9,     -999,9,     -999,9,     -999,9,   1.4035,2,  27.7438,2,   1.6140,2
49UP20210827_1,   P03,    48,  1,     12,     324,2,20210901,2051,2150, 24.2512, 147.8275, 5778,   3120.2,    1.5757,  34.6652,2,    136.0,2,     -999,9,   136.07,2,   151.69,2,    37.25,2,     0.00,2,    2.580,2,     -999,9,     -999,9,     -999,9,     -999,9,     -999,9,     -999,     -999,9,     -999,9,     -999,9,     -999,9,   1.3457,2,  27.7525,2,   1.5757,2
49UP20210827_1,   P03,    48,  1,     11,     323,2,20210901,2051,2144, 24.2512, 147.8275, 5778,   3378.7,    1.5431,  34.6706,2,    141.0,2,     -999,9,   140.39,2,   150.64,2,    36.91,2,     0.00,2,    2.550,2,     -999,9,     -999,9,     -999,9,     -999,9,     -999,9,     -999,     -999,9,     -999,9,     -999,9,     -999,9,   1.2883,2,  27.7610,2,   1.5430,2
49UP20210827_1,   P03,    48,  1,     10,     322,2,20210901,2051,2139, 24.2512, 147.8275, 5778,   3628.9,    1.5119,  34.6758,2,    145.9,2,     -999,9,   145.70,2,   149.85,2,    36.56,2,     0.00,2,    2.520,2,     -999,9,     -999,9,     -999,9,     -999,9,     -999,9,     -999,     -999,9,     -999,9,     -999,9,     -999,9,   1.2322,2,  27.7691,2,   1.5117,2
49UP20210827_1,   P03,    48,  1,      9,     750,2,20210901,2051,2134, 24.2512, 147.8275, 5778,   3883.6,    1.4947,  34.6797,2,    150.4,2,     -999,9,   150.30,2,   148.30,2,    36.25,2,     0.00,2,    2.500,2,     -999,9,     -999,9,     -999,9,     -999,9,     -999,9,     -999,     -999,9,     -999,9,     -999,9,     -999,9,   1.1886,2,  27.7752,2,   1.4945,2
49UP20210827_1,   P03,    48,  1,      8,     320,2,20210901,2051,2128, 24.2512, 147.8275, 5778,   4143.6,    1.4893,  34.6831,2,    154.4,2,     -999,9,   154.56,2,   146.94,2,    35.99,2,     0.00,2,    2.480,2,     -999,9,     -999,9,     -999,9,     -999,9,     -999,9,     -999,     -999,9,     -999,9,     -999,9,     -999,9,   1.1549,2,  27.7802,2,   1.4893,2
49UP20210827_1,   P03,    48,  1,      7,     319,2,20210901,2051,2123, 24.2512, 147.8275, 5778,   4400.2,    1.4860,  34.6860,2,    158.3,2,     -999,9,   158.48,2,   144.93,2,    35.67,2,     0.00,2,    2.460,2,     -999,9,     -999,9,     -999,9,     -999,9,     -999,9,     -999,     -999,9,     -999,9,     -999,9,     -999,9,   1.1229,2,  27.7848,2,   1.4860,2
49UP20210827_1,   P03,    48,  1,      6,     318,2,20210901,2051,2118, 24.2512, 147.8275, 5778,   4657.4,    1.4884,  34.6883,2,    161.8,2,     -999,9,   161.89,2,   143.14,2,    35.43,2,     0.00,2,    2.440,2,     -999,9,     -999,9,     -999,9,     -999,9,     -999,9,     -999,     -999,9,     -999,9,     -999,9,     -999,9,   1.0955,2,  27.7885,2,   1.4884,2
49UP20210827_1,   P03,    48,  1,      5,     317,3,20210901,2051,2112, 24.2512, 147.8275, 5778,   4915.1,    1.4988,  34.6901,2,    164.9,2,     -999,9,   164.83,6,   141.56,6,    35.24,6,     0.00,6,    2.430,6,     -999,9,     -999,9,     -999,9,     -999,9,     -999,9,     -999,     -999,9,     -999,9,     -999,9,     -999,9,   1.0749,2,  27.7913,2,   1.4988,2
49UP20210827_1,   P03,    48,  1,      4,     316,2,20210901,2051,2107, 24.2512, 147.8275, 5778,   5171.4,    1.5126,  34.6918,2,    167.7,2,     -999,9,   167.70,2,   139.87,2,    35.06,2,     0.00,2,    2.410,2,     -999,9,     -999,9,     -999,9,     -999,9,     -999,9,     -999,     -999,9,     -999,9,     -999,9,     -999,9,   1.0569,2,  27.7939,2,   1.5128,2
49UP20210827_1,   P03,    48,  1,      3,     315,2,20210901,2051,2102, 24.2512, 147.8275, 5778,   5426.7,    1.5279,  34.6933,2,    170.3,2,     -999,9,   170.64,2,   137.98,2,    34.79,2,     0.00,2,    2.400,2,     -999,9,     -999,9,     -999,9,     -999,9,     -999,9,     -999,     -999,9,     -999,9,     -999,9,     -999,9,   1.0396,2,  27.7963,2,   1.5279,2
49UP20210827_1,   P03,    48,  1,      2,     314,2,20210901,2051,2057, 24.2512, 147.8275, 5778,   5686.0,    1.5439,  34.6947,2,    173.1,2,     -999,9,   173.16,2,   136.22,2,    34.61,2,     0.00,2,    2.380,2,     -999,9,     -999,9,     -999,9,     -999,9,     -999,9,     -999,     -999,9,     -999,9,     -999,9,     -999,9,   1.0217,2,  27.7986,2,   1.5440,2
49UP20210827_1,   P03,    48,  1,      1,     811,2,20210901,2051,2052, 24.2512, 147.8275, 5778,   5923.9,    1.5546,  34.6961,2,    176.2,2,     -999,9,   176.17,2,   134.20,2,    34.37,2,     0.00,2,    2.360,2,     -999,9,     -999,9,     -999,9,     -999,9,     -999,9,     -999,     -999,9,     -999,9,     -999,9,     -999,9,   1.0008,2,  27.8011,2,   1.5545,2