BOTTLE,20230808CCHSIOADS
EXPOCODE,SECT_ID,STNNBR,CASTNO,SAMPNO,BTLNBR,BTLNBR_FLAG_W,DATE,TIME,BTL_TIME,LATITUDE,LONGITUDE,DEPTH,CTDPRS,CTDTMP,CTDSAL,CTDSAL_FLAG_W,CTDOXY,CTDOXY_FLAG_W,SALNTY,SALNTY_FLAG_W,OXYGEN,OXYGEN_FLAG_W,SILCAT,SILCAT_FLAG_W,NO2+NO3,NO2+NO3_FLAG_W,NITRIT,NITRIT_FLAG_W,PHSPHT,PHSPHT_FLAG_W,CFC-11,CFC-11_FLAG_W,CFC-12,CFC-12_FLAG_W,TCARBN,TCARBN_FLAG_W,ALKALI,ALKALI_FLAG_W,PH_TOT,PH_TOT_FLAG_W,PH_TMP,CFC113,CFC113_FLAG_W,SF6,SF6_FLAG_W,CHLORA,CHLORA_FLAG_W,PPHYTN,PPHYTN_FLAG_W,THETA,THETA_FLAG_W,SIG0,SIG0_FLAG_W,SBE35,SBE35_FLAG_W
,,,,,,,,,,,,METERS,DBAR,ITS-90,PSS-78,,UMOL/KG,,PSS78,,UMOL/KG,,UMOL/KG,,UMOL/KG,,UMOL/KG,,UMOL/KG,,PMOL/KG,,PMOL/KG,,UMOL/KG,,UMOL/KG,,,,DEG C,PMOL/KG,,FMOL/KG,,UG/KG,,UG/KG,,ITS-90,,KG/M^3,,ITS-90,
49UP20210719_2,   P03,    29,  1,      0,     BUC,2,20210810,0131, 317, 24.2515, 139.4122, 4758,      0.0,   28.3311,  34.5146,2,    201.0,2,     -999,9,   200.46,2,     0.98,2,     0.11,2,     0.00,2,    0.010,2,     -999,9,     -999,9,     -999,9,     -999,9,     -999,9,     -999,     -999,9,     -999,9,     -999,9,     -999,9,  28.3305,2,  21.9215,2,     -999,9
49UP20210719_2,   P03,    29,  1,     36,     757,2,20210810,0131, 348, 24.2515, 139.4122, 4758,     10.1,   28.2179,  34.5148,2,    201.1,2,     -999,9,   200.79,2,     0.98,2,     0.10,2,     0.00,2,    0.000,2,     -999,9,     -999,9,     -999,9,     -999,9,     -999,9,     -999,     -999,9,     -999,9,     -999,9,     -999,9,  28.2155,2,  21.9594,2,  28.2356,2
49UP20210719_2,   P03,    29,  1,     35,     756,2,20210810,0131, 346, 24.2515, 139.4122, 4758,     25.8,   27.8261,  34.5183,2,    201.9,2,     -999,9,   201.67,2,     1.01,2,     0.10,2,     0.00,2,    0.000,2,     -999,9,     -999,9,     -999,9,     -999,9,     -999,9,     -999,     -999,9,     -999,9,     -999,9,     -999,9,  27.8201,2,  22.0910,2,  27.8291,2
49UP20210719_2,   P03,    29,  1,     34,     843,2,20210810,0131, 342, 24.2515, 139.4122, 4758,     50.4,   23.7322,  34.8525,2,    222.7,2,     -999,9,   221.65,2,     1.17,2,     0.08,2,     0.00,2,    0.000,2,     -999,9,     -999,9,     -999,9,     -999,9,     -999,9,     -999,     -999,9,     -999,9,     -999,9,     -999,9,  23.7217,2,  23.6118,2,  23.7327,2
49UP20210719_2,   P03,    29,  1,     33,     842,2,20210810,0131, 341, 24.2515, 139.4122, 4758,     74.4,   21.8875,  34.8749,2,    218.3,2,     -999,9,   217.37,2,     1.36,2,     0.15,2,     0.00,2,    0.010,2,     -999,9,     -999,9,     -999,9,     -999,9,     -999,9,     -999,     -999,9,     -999,9,     -999,9,     -999,9,  21.8728,2,  24.1583,2,  21.8825,2
49UP20210719_2,   P03,    29,  1,     32,     841,2,20210810,0131, 339, 24.2515, 139.4122, 4758,    101.2,   20.8221,  34.8408,2,    217.9,2,     -999,9,   217.33,2,     1.52,2,     0.24,2,     0.05,2,    0.030,2,     -999,9,     -999,9,     -999,9,     -999,9,     -999,9,     -999,     -999,9,     -999,9,     -999,9,     -999,9,  20.8029,2,  24.4261,2,  20.8146,2
49UP20210719_2,   P03,    29,  1,     31,     840,2,20210810,0131, 337, 24.2515, 139.4122, 4758,    126.6,   19.6990,  34.8265,2,    206.3,2,     -999,9,   206.43,2,     2.09,2,     1.88,2,     0.03,2,    0.120,2,     -999,9,     -999,9,     -999,9,     -999,9,     -999,9,     -999,     -999,9,     -999,9,     -999,9,     -999,9,  19.6759,2,  24.7143,2,  19.7014,2
49UP20210719_2,   P03,    29,  1,     30,     839,2,20210810,0131, 335, 24.2515, 139.4122, 4758,    150.8,   18.9666,  34.8132,2,    202.3,2,     -999,9,   201.97,2,     2.69,2,     2.86,2,     0.01,2,    0.190,2,     -999,9,     -999,9,     -999,9,     -999,9,     -999,9,     -999,     -999,9,     -999,9,     -999,9,     -999,9,  18.9398,2,  24.8937,2,  18.9659,2
49UP20210719_2,   P03,    29,  1,     29,     838,2,20210810,0131, 333, 24.2515, 139.4122, 4758,    204.4,   18.0040,  34.7721,2,    208.5,2,     -999,9,   208.28,2,     3.17,2,     3.43,2,     0.01,2,    0.220,2,     -999,9,     -999,9,     -999,9,     -999,9,     -999,9,     -999,     -999,9,     -999,9,     -999,9,     -999,9,  17.9689,2,  25.1051,2,  18.0039,2
49UP20210719_2,   P03,    29,  1,     28,     755,2,20210810,0131, 330, 24.2515, 139.4122, 4758,    251.9,   17.2316,  34.7454,2,    204.0,2,     -999,9,   203.19,2,     4.36,2,     5.09,2,     0.00,2,    0.330,2,     -999,9,     -999,9,     -999,9,     -999,9,     -999,9,     -999,     -999,9,     -999,9,     -999,9,     -999,9,  17.1896,2,  25.2737,2,  17.2315,2
49UP20210719_2,   P03,    29,  1,     27,     754,2,20210810,0131, 328, 24.2515, 139.4122, 4758,    283.0,   16.6092,  34.7044,2,    199.4,2,     -999,9,   199.29,6,     5.72,6,     6.41,6,     0.00,6,    0.420,6,     -999,9,     -999,9,     -999,9,     -999,9,     -999,9,     -999,     -999,9,     -999,9,     -999,9,     -999,9,  16.5633,2,  25.3902,2,  16.6096,2
49UP20210719_2,   P03,    29,  1,     26,     835,2,20210810,0131, 325, 24.2515, 139.4122, 4758,    373.9,   14.4219,  34.5299,2,    191.9,2,     -999,9,   191.43,2,    10.99,2,    10.32,2,     0.00,2,    0.690,2,     -999,9,     -999,9,     -999,9,     -999,9,     -999,9,     -999,     -999,9,     -999,9,     -999,9,     -999,9,  14.3667,2,  25.7463,2,  14.4450,2
49UP20210719_2,   P03,    29,  1,     25,     834,2,20210810,0131, 322, 24.2515, 139.4122, 4758,    472.4,   11.4160,  34.3011,2,    181.5,2,     -999,9,   181.27,2,    22.32,2,    16.35,2,     0.00,2,    1.130,2,     -999,9,     -999,9,     -999,9,     -999,9,     -999,9,     -999,     -999,9,     -999,9,     -999,9,     -999,9,  11.3560,2,  26.1665,2,  11.4019,2
49UP20210719_2,   P03,    29,  1,     24,     753,2,20210810,0131, 319, 24.2515, 139.4122, 4758,    575.2,    8.8134,  34.1483,2,    155.4,2,     -999,9,   154.68,2,    38.43,2,    23.36,2,     0.00,2,    1.660,2,     -999,9,     -999,9,     -999,9,     -999,9,     -999,9,     -999,     -999,9,     -999,9,     -999,9,     -999,9,   8.7511,2,  26.4905,2,   8.8158,2
49UP20210719_2,   P03,    29,  1,     23,     832,2,20210810,0131, 316, 24.2515, 139.4122, 4758,    676.1,    6.5603,  34.1107,2,    115.5,2,     -999,9,   114.85,2,    63.96,2,    30.93,2,     0.00,2,    2.210,2,     -999,9,     -999,9,     -999,9,     -999,9,     -999,9,     -999,     -999,9,     -999,9,     -999,9,     -999,9,   6.4980,2,  26.7858,2,   6.5604,2
49UP20210719_2,   P03,    29,  1,     22,     831,2,20210810,0131, 313, 24.2515, 139.4122, 4758,    777.3,    5.0355,  34.1819,2,     75.8,2,     -999,9,    75.59,2,    89.95,2,    36.92,2,     0.00,2,    2.640,2,     -999,9,     -999,9,     -999,9,     -999,9,     -999,9,     -999,     -999,9,     -999,9,     -999,9,     -999,9,   4.9722,2,  27.0298,2,   5.0358,2
49UP20210719_2,   P03,    29,  1,     21,     830,2,20210810,0131, 310, 24.2515, 139.4122, 4758,    877.3,    4.3485,  34.2488,2,     57.9,2,     -999,9,    57.30,2,   105.22,2,    39.55,2,     0.00,2,    2.830,2,     -999,9,     -999,9,     -999,9,     -999,9,     -999,9,     -999,     -999,9,     -999,9,     -999,9,     -999,9,   4.2809,2,  27.1592,2,   4.3504,2
49UP20210719_2,   P03,    29,  1,     20,     829,2,20210810,0131, 306, 24.2515, 139.4122, 4758,    979.4,    3.7837,  34.3294,2,     50.3,2,     -999,9,    49.91,2,   118.71,2,    40.94,2,     0.00,2,    2.920,2,     -999,9,     -999,9,     -999,9,     -999,9,     -999,9,     -999,     -999,9,     -999,9,     -999,9,     -999,9,   3.7117,2,  27.2819,2,   3.7837,2
49UP20210719_2,   P03,    29,  1,     19,     828,2,20210810,0131, 301, 24.2515, 139.4122, 4758,   1141.2,    3.1566,  34.4334,2,     57.1,2,     -999,9,    56.99,6,   132.91,6,    41.12,6,     0.00,6,    2.920,6,     -999,9,     -999,9,     -999,9,     -999,9,     -999,9,     -999,     -999,9,     -999,9,     -999,9,     -999,9,   3.0766,2,  27.4258,2,   3.1563,2
49UP20210719_2,   P03,    29,  1,     18,     752,2,20210810,0131, 256, 24.2515, 139.4122, 4758,   1344.2,    2.7514,  34.5041,2,     72.7,2,     -999,9,    72.68,2,   139.04,2,    40.43,2,     0.00,2,    2.860,2,     -999,9,     -999,9,     -999,9,     -999,9,     -999,9,     -999,     -999,9,     -999,9,     -999,9,     -999,9,   2.6591,2,  27.5196,2,   2.7514,2
49UP20210719_2,   P03,    29,  1,     17,     751,2,20210810,0131, 251, 24.2515, 139.4122, 4758,   1546.3,    2.3949,  34.5523,2,     86.7,2,     -999,9,    86.55,2,   143.69,2,    39.74,2,     0.00,2,    2.800,2,     -999,9,     -999,9,     -999,9,     -999,9,     -999,9,     -999,     -999,9,     -999,9,     -999,9,     -999,9,   2.2904,2,  27.5896,2,   2.3949,2
49UP20210719_2,   P03,    29,  1,     16,     328,2,20210810,0131, 245, 24.2515, 139.4122, 4758,   1748.1,    2.1454,  34.5880,2,    100.4,2,     -999,9,   100.42,2,   145.15,2,    39.01,2,     0.00,2,    2.740,2,     -999,9,     -999,9,     -999,9,     -999,9,     -999,9,     -999,     -999,9,     -999,9,     -999,9,     -999,9,   2.0277,2,  27.6394,2,   2.1454,2
49UP20210719_2,   P03,    29,  1,     15,     822,2,20210810,0131, 241, 24.2515, 139.4122, 4758,   1951.9,    2.0076,  34.6109,2,    111.4,2,     -999,9,   111.92,2,   144.94,2,    38.38,2,     0.00,2,    2.690,2,     -999,9,     -999,9,     -999,9,     -999,9,     -999,9,     -999,     -999,9,     -999,9,     -999,9,     -999,9,   1.8751,2,  27.6698,2,   2.0076,2
49UP20210719_2,   P03,    29,  1,     14,     326,3,20210810,0131, 236, 24.2515, 139.4122, 4758,   2154.8,    1.8894,  34.6282,2,    120.1,2,     -999,9,   120.03,2,   144.48,2,    37.85,2,     0.00,2,    2.650,2,     -999,9,     -999,9,     -999,9,     -999,9,     -999,9,     -999,     -999,9,     -999,9,     -999,9,     -999,9,   1.7416,2,  27.6938,2,   1.8893,2
49UP20210719_2,   P03,    29,  1,     13,     325,2,20210810,0131, 230, 24.2515, 139.4122, 4758,   2358.1,    1.8030,  34.6395,2,    126.2,2,     -999,9,   126.40,2,   144.93,2,    37.55,2,     0.00,2,    2.620,2,     -999,9,     -999,9,     -999,9,     -999,9,     -999,9,     -999,     -999,9,     -999,9,     -999,9,     -999,9,   1.6390,2,  27.7106,2,   1.8030,2
49UP20210719_2,   P03,    29,  1,     12,     324,2,20210810,0131, 225, 24.2515, 139.4122, 4758,   2562.7,    1.7355,  34.6487,2,    131.4,2,     -999,9,   131.33,6,   144.91,6,    37.20,6,     0.00,6,    2.600,6,     -999,9,     -999,9,     -999,9,     -999,9,     -999,9,     -999,     -999,9,     -999,9,     -999,9,     -999,9,   1.5545,2,  27.7243,2,   1.7355,2
49UP20210719_2,   P03,    29,  1,     10,     322,2,20210810,0131, 220, 24.2515, 139.4122, 4758,   2764.5,    1.6832,  34.6557,2,    135.8,2,     -999,9,   135.72,2,   144.45,2,    36.90,2,     0.00,2,    2.570,2,     -999,9,     -999,9,     -999,9,     -999,9,     -999,9,     -999,     -999,9,     -999,9,     -999,9,     -999,9,   1.4848,2,  27.7349,2,   1.6832,2
49UP20210719_2,   P03,    29,  1,     11,     323,2,20210810,0131, 221, 24.2515, 139.4122, 4758,   2764.8,    1.6832,  34.6557,2,    135.8,2,     -999,9,   135.04,2,   144.51,2,    36.96,2,     0.00,2,    2.570,2,     -999,9,     -999,9,     -999,9,     -999,9,     -999,9,     -999,     -999,9,     -999,9,     -999,9,     -999,9,   1.4848,2,  27.7350,2,   1.6832,2
49UP20210719_2,   P03,    29,  1,      9,     750,2,20210810,0131, 215, 24.2515, 139.4122, 4758,   2970.1,    1.6284,  34.6630,2,    140.7,2,     -999,9,   140.37,2,   144.15,2,    36.63,2,     0.00,2,    2.550,2,     -999,9,     -999,9,     -999,9,     -999,9,     -999,9,     -999,     -999,9,     -999,9,     -999,9,     -999,9,   1.4117,2,  27.7461,2,   1.6288,2
49UP20210719_2,   P03,    29,  1,      8,     320,2,20210810,0131, 209, 24.2515, 139.4122, 4758,   3213.2,    1.5823,  34.6697,2,    145.5,2,     -999,9,   145.85,2,   143.81,2,    36.38,2,     0.00,2,    2.520,2,     -999,9,     -999,9,     -999,9,     -999,9,     -999,9,     -999,     -999,9,     -999,9,     -999,9,     -999,9,   1.3430,2,  27.7564,2,   1.5824,2
49UP20210719_2,   P03,    29,  1,      7,     319,2,20210810,0131, 203, 24.2515, 139.4122, 4758,   3470.5,    1.5352,  34.6763,2,    150.8,2,     -999,9,   150.68,2,   143.19,2,    36.01,2,     0.00,2,    2.500,2,     -999,9,     -999,9,     -999,9,     -999,9,     -999,9,     -999,     -999,9,     -999,9,     -999,9,     -999,9,   1.2712,2,  27.7667,2,   1.5351,2
49UP20210719_2,   P03,    29,  1,      6,     318,2,20210810,0131, 158, 24.2515, 139.4122, 4758,   3726.0,    1.5059,  34.6812,2,    155.1,2,     -999,9,   155.13,2,   141.82,2,    35.76,2,     0.00,2,    2.470,2,     -999,9,     -999,9,     -999,9,     -999,9,     -999,9,     -999,     -999,9,     -999,9,     -999,9,     -999,9,   1.2162,2,  27.7745,2,   1.5061,2
49UP20210719_2,   P03,    29,  1,      5,     317,3,20210810,0131, 152, 24.2515, 139.4122, 4758,   3982.6,    1.5082,  34.6832,2,    157.2,2,     -999,9,   157.05,2,   141.62,2,    35.59,2,     0.00,2,    2.460,2,     -999,9,     -999,9,     -999,9,     -999,9,     -999,9,     -999,     -999,9,     -999,9,     -999,9,     -999,9,   1.1910,2,  27.7779,2,   1.5082,2
49UP20210719_2,   P03,    29,  1,      4,     316,3,20210810,0131, 146, 24.2515, 139.4122, 4758,   4238.2,    1.5258,  34.6841,2,    158.1,2,     -999,9,   158.22,2,   141.23,2,    35.56,2,     0.00,2,    2.450,2,     -999,9,     -999,9,     -999,9,     -999,9,     -999,9,     -999,     -999,9,     -999,9,     -999,9,     -999,9,   1.1799,2,  27.7793,2,   1.5259,2
49UP20210719_2,   P03,    29,  1,      3,     315,2,20210810,0131, 140, 24.2515, 139.4122, 4758,   4494.7,    1.5526,  34.6843,2,    158.5,2,     -999,9,   158.45,6,   141.13,6,    35.59,6,     0.00,6,    2.450,6,     -999,9,     -999,9,     -999,9,     -999,9,     -999,9,     -999,     -999,9,     -999,9,     -999,9,     -999,9,   1.1766,2,  27.7797,2,   1.5526,2
49UP20210719_2,   P03,    29,  1,      2,     314,2,20210810,0131, 134, 24.2515, 139.4122, 4758,   4752.9,    1.5834,  34.6843,2,    158.7,2,     -999,9,   158.83,2,   141.02,2,    35.62,2,     0.00,2,    2.450,2,     -999,9,     -999,9,     -999,9,     -999,9,     -999,9,     -999,     -999,9,     -999,9,     -999,9,     -999,9,   1.1762,2,  27.7798,2,   1.5834,2
49UP20210719_2,   P03,    29,  1,      1,     811,2,20210810,0131, 131, 24.2515, 139.4122, 4758,   4846.1,    1.5951,  34.6842,2,    158.8,2,     -999,9,   158.64,2,   141.27,2,    35.69,2,     0.00,2,    2.450,2,     -999,9,     -999,9,     -999,9,     -999,9,     -999,9,     -999,     -999,9,     -999,9,     -999,9,     -999,9,   1.1763,2,  27.7797,2,   1.5950,2