BOTTLE,20230808CCHSIOADS
EXPOCODE,SECT_ID,STNNBR,CASTNO,SAMPNO,BTLNBR,BTLNBR_FLAG_W,DATE,TIME,BTL_TIME,LATITUDE,LONGITUDE,DEPTH,CTDPRS,CTDTMP,CTDSAL,CTDSAL_FLAG_W,CTDOXY,CTDOXY_FLAG_W,SALNTY,SALNTY_FLAG_W,OXYGEN,OXYGEN_FLAG_W,SILCAT,SILCAT_FLAG_W,NO2+NO3,NO2+NO3_FLAG_W,NITRIT,NITRIT_FLAG_W,PHSPHT,PHSPHT_FLAG_W,CFC-11,CFC-11_FLAG_W,CFC-12,CFC-12_FLAG_W,TCARBN,TCARBN_FLAG_W,ALKALI,ALKALI_FLAG_W,PH_TOT,PH_TOT_FLAG_W,PH_TMP,CFC113,CFC113_FLAG_W,SF6,SF6_FLAG_W,CHLORA,CHLORA_FLAG_W,PPHYTN,PPHYTN_FLAG_W,THETA,THETA_FLAG_W,SIG0,SIG0_FLAG_W,SBE35,SBE35_FLAG_W
,,,,,,,,,,,,METERS,DBAR,ITS-90,PSS-78,,UMOL/KG,,PSS78,,UMOL/KG,,UMOL/KG,,UMOL/KG,,UMOL/KG,,UMOL/KG,,PMOL/KG,,PMOL/KG,,UMOL/KG,,UMOL/KG,,,,DEG C,PMOL/KG,,FMOL/KG,,UG/KG,,UG/KG,,ITS-90,,KG/M^3,,ITS-90,
49UP20210719_2,   P03,    31,  1,      0,     BUC,2,20210810,1635,1736, 24.2555, 140.7965, 2679,      0.0,   28.1962,  34.5821,2,    200.0,2,     -999,9,   200.08,2,     1.21,2,     0.00,2,     0.00,2,    0.020,2,     -999,9,     -999,9,     -999,9,     -999,9,     -999,9,     -999,     -999,9,     -999,9,     -999,9,     -999,9,  28.1956,2,  22.0164,2,     -999,9
49UP20210719_2,   P03,    31,  1,     36,     757,2,20210810,1635,1806, 24.2555, 140.7965, 2679,     10.4,   28.1646,  34.5797,2,    200.2,2,     -999,9,   200.67,2,     1.20,2,     0.00,2,     0.00,2,    0.000,2,     -999,9,     -999,9,     -999,9,     -999,9,     -999,9,     -999,     -999,9,     -999,9,     -999,9,     -999,9,  28.1622,2,  22.0256,2,  28.1518,2
49UP20210719_2,   P03,    31,  1,     35,     756,2,20210810,1635,1804, 24.2555, 140.7965, 2679,     25.3,   27.6311,  34.5838,2,    202.4,2,     -999,9,   202.45,2,     1.32,2,     0.00,2,     0.00,2,    0.000,2,     -999,9,     -999,9,     -999,9,     -999,9,     -999,9,     -999,     -999,9,     -999,9,     -999,9,     -999,9,  27.6252,2,  22.2035,2,  27.6298,2
49UP20210719_2,   P03,    31,  1,     34,     843,2,20210810,1635,1800, 24.2555, 140.7965, 2679,     49.9,   24.0413,  34.7670,2,    223.1,2,     -999,9,   222.11,2,     1.46,2,     0.00,2,     0.00,2,    0.000,2,     -999,9,     -999,9,     -999,9,     -999,9,     -999,9,     -999,     -999,9,     -999,9,     -999,9,     -999,9,  24.0307,2,  23.4559,2,  24.0012,2
49UP20210719_2,   P03,    31,  1,     29,     838,2,20210810,1635,1758, 24.2555, 140.7965, 2679,     74.9,   20.7418,  34.8492,2,    221.9,2,     -999,9,   215.34,6,     1.86,6,     0.26,6,     0.04,6,    0.040,6,     -999,9,     -999,9,     -999,9,     -999,9,     -999,9,     -999,     -999,9,     -999,9,     -999,9,     -999,9,  20.7277,2,  24.4528,2,  20.7764,2
49UP20210719_2,   P03,    31,  1,     28,     755,2,20210810,1635,1756, 24.2555, 140.7965, 2679,     98.3,   19.8063,  34.8393,2,    209.4,2,     -999,9,   209.19,2,     2.12,2,     1.12,2,     0.09,2,    0.090,2,     -999,9,     -999,9,     -999,9,     -999,9,     -999,9,     -999,     -999,9,     -999,9,     -999,9,     -999,9,  19.7883,2,  24.6947,2,  19.8067,2
49UP20210719_2,   P03,    31,  1,     27,     754,2,20210810,1635,1756, 24.2555, 140.7965, 2679,     98.3,   19.8047,  34.8390,2,    209.3,2,     -999,9,   209.64,2,     2.13,2,     1.12,2,     0.09,2,    0.090,2,     -999,9,     -999,9,     -999,9,     -999,9,     -999,9,     -999,     -999,9,     -999,9,     -999,9,     -999,9,  19.7867,2,  24.6950,2,  19.8046,2
49UP20210719_2,   P03,    31,  1,     26,     835,2,20210810,1635,1754, 24.2555, 140.7965, 2679,    125.8,   19.0308,  34.8037,2,    210.5,2,     -999,9,   210.53,2,     2.33,2,     1.78,2,     0.03,2,    0.130,2,     -999,9,     -999,9,     -999,9,     -999,9,     -999,9,     -999,     -999,9,     -999,9,     -999,9,     -999,9,  19.0084,2,  24.8690,2,  19.0553,2
49UP20210719_2,   P03,    31,  1,     25,     834,2,20210810,1635,1752, 24.2555, 140.7965, 2679,    151.0,   18.4085,  34.7733,2,    213.8,2,     -999,9,   213.76,2,     2.54,2,     2.21,2,     0.01,2,    0.150,2,     -999,9,     -999,9,     -999,9,     -999,9,     -999,9,     -999,     -999,9,     -999,9,     -999,9,     -999,9,  18.3822,2,  25.0037,2,  18.4071,2
49UP20210719_2,   P03,    31,  1,     24,     753,2,20210810,1635,1750, 24.2555, 140.7965, 2679,    204.5,   17.6275,  34.7622,2,    210.5,2,     -999,9,   210.46,2,     3.57,2,     3.77,2,     0.01,2,    0.250,2,     -999,9,     -999,9,     -999,9,     -999,9,     -999,9,     -999,     -999,9,     -999,9,     -999,9,     -999,9,  17.5930,2,  25.1894,2,  17.6239,2
49UP20210719_2,   P03,    31,  1,     23,     832,2,20210810,1635,1747, 24.2555, 140.7965, 2679,    253.8,   16.9533,  34.7315,2,    202.8,2,     -999,9,   203.61,2,     4.92,2,     5.45,2,     0.01,2,    0.360,2,     -999,9,     -999,9,     -999,9,     -999,9,     -999,9,     -999,     -999,9,     -999,9,     -999,9,     -999,9,  16.9115,2,  25.3291,2,  16.9531,2
49UP20210719_2,   P03,    31,  1,     22,     831,2,20210810,1635,1745, 24.2555, 140.7965, 2679,    302.1,   15.6924,  34.6310,2,    193.9,2,     -999,9,   194.15,2,     7.96,2,     8.19,2,     0.00,2,    0.540,2,     -999,9,     -999,9,     -999,9,     -999,9,     -999,9,     -999,     -999,9,     -999,9,     -999,9,     -999,9,  15.6452,2,  25.5442,2,  15.6902,2
49UP20210719_2,   P03,    31,  1,     21,     830,2,20210810,1635,1742, 24.2555, 140.7965, 2679,    403.0,   13.2107,  34.4347,2,    187.8,2,     -999,9,   187.72,2,    15.40,2,    12.70,2,     0.00,2,    0.860,2,     -999,9,     -999,9,     -999,9,     -999,9,     -999,9,     -999,     -999,9,     -999,9,     -999,9,     -999,9,  13.1545,2,  25.9239,2,  13.2202,2
49UP20210719_2,   P03,    31,  1,     20,     829,2,20210810,1635,1739, 24.2555, 140.7965, 2679,    505.7,    9.9667,  34.2097,2,    171.1,2,     -999,9,   170.85,2,    30.38,2,    19.84,2,     0.00,2,    1.390,2,     -999,9,     -999,9,     -999,9,     -999,9,     -999,9,     -999,     -999,9,     -999,9,     -999,9,     -999,9,   9.9078,2,  26.3504,2,   9.9678,2
49UP20210719_2,   P03,    31,  1,     19,     828,3,20210810,1635,1736, 24.2555, 140.7965, 2679,    604.7,    7.4423,  34.0911,2,    137.4,2,     -999,9,   136.90,2,    50.50,2,    27.47,2,     0.00,2,    1.950,2,     -999,9,     -999,9,     -999,9,     -999,9,     -999,9,     -999,     -999,9,     -999,9,     -999,9,     -999,9,   7.3829,2,  26.6494,2,   7.4407,2
49UP20210719_2,   P03,    31,  1,     18,     752,3,20210810,1635,1733, 24.2555, 140.7965, 2679,    706.6,    5.6076,  34.1377,2,     90.5,2,     -999,9,    89.96,2,    78.41,2,    34.96,2,     0.00,2,    2.490,2,     -999,9,     -999,9,     -999,9,     -999,9,     -999,9,     -999,     -999,9,     -999,9,     -999,9,     -999,9,   5.5474,2,  26.9272,2,   5.6095,2
49UP20210719_2,   P03,    31,  1,     17,     751,2,20210810,1635,1730, 24.2555, 140.7965, 2679,    808.2,    4.6146,  34.2353,2,     63.7,2,     -999,9,    63.22,2,    99.05,2,    38.87,2,     0.00,2,    2.760,2,     -999,9,     -999,9,     -999,9,     -999,9,     -999,9,     -999,     -999,9,     -999,9,     -999,9,     -999,9,   4.5511,2,  27.1193,2,   4.6146,2
49UP20210719_2,   P03,    31,  1,     16,     328,2,20210810,1635,1727, 24.2555, 140.7965, 2679,    907.7,    4.0493,  34.3082,2,     55.1,2,     -999,9,    54.99,2,   112.66,2,    40.43,2,     0.00,2,    2.870,2,     -999,9,     -999,9,     -999,9,     -999,9,     -999,9,     -999,     -999,9,     -999,9,     -999,9,     -999,9,   3.9812,2,  27.2378,2,   4.0493,2
49UP20210719_2,   P03,    31,  1,     15,     822,2,20210810,1635,1724, 24.2555, 140.7965, 2679,   1009.1,    3.6336,  34.3638,2,     53.0,2,     -999,9,    53.28,6,   122.56,6,    41.10,6,     0.00,6,    2.910,6,     -999,9,     -999,9,     -999,9,     -999,9,     -999,9,     -999,     -999,9,     -999,9,     -999,9,     -999,9,   3.5603,2,  27.3243,2,   3.6337,2
49UP20210719_2,   P03,    31,  1,     14,     326,2,20210810,1635,1717, 24.2555, 140.7965, 2679,   1212.0,    3.0457,  34.4448,2,     58.5,2,     -999,9,    58.47,2,   135.24,2,    41.36,2,     0.00,2,    2.920,2,     -999,9,     -999,9,     -999,9,     -999,9,     -999,9,     -999,     -999,9,     -999,9,     -999,9,     -999,9,   2.9611,2,  27.4454,2,   3.0456,2
49UP20210719_2,   P03,    31,  1,     13,     325,2,20210810,1635,1717, 24.2555, 140.7965, 2679,   1212.4,    3.0458,  34.4448,2,     58.5,2,     -999,9,    58.46,2,   135.20,2,    41.33,2,     0.00,2,    2.920,2,     -999,9,     -999,9,     -999,9,     -999,9,     -999,9,     -999,     -999,9,     -999,9,     -999,9,     -999,9,   2.9611,2,  27.4454,2,   3.0456,2
49UP20210719_2,   P03,    31,  1,     12,     324,2,20210810,1635,1712, 24.2555, 140.7965, 2679,   1415.2,    2.5370,  34.5295,2,     79.0,2,     -999,9,    78.86,2,   142.58,2,    40.40,2,     0.00,2,    2.830,2,     -999,9,     -999,9,     -999,9,     -999,9,     -999,9,     -999,     -999,9,     -999,9,     -999,9,     -999,9,   2.4413,2,  27.5586,2,   2.5369,2
49UP20210719_2,   P03,    31,  1,     11,     323,2,20210810,1635,1707, 24.2555, 140.7965, 2679,   1618.5,    2.3473,  34.5667,2,     93.3,2,     -999,9,    93.90,2,   142.88,2,    39.51,2,     0.00,2,    2.760,2,     -999,9,     -999,9,     -999,9,     -999,9,     -999,9,     -999,     -999,9,     -999,9,     -999,9,     -999,9,   2.2376,2,  27.6053,2,   2.3475,2
49UP20210719_2,   P03,    31,  1,     10,     322,2,20210810,1635,1701, 24.2555, 140.7965, 2679,   1821.5,    2.1192,  34.5976,2,    105.9,2,     -999,9,   105.66,2,   144.00,2,    38.82,2,     0.00,2,    2.710,2,     -999,9,     -999,9,     -999,9,     -999,9,     -999,9,     -999,     -999,9,     -999,9,     -999,9,     -999,9,   1.9959,2,  27.6496,2,   2.1189,2
49UP20210719_2,   P03,    31,  1,      9,     750,2,20210810,1635,1655, 24.2555, 140.7965, 2679,   2026.8,    1.9736,  34.6172,2,    114.8,2,     -999,9,   114.71,2,   144.97,2,    38.37,2,     0.00,2,    2.670,2,     -999,9,     -999,9,     -999,9,     -999,9,     -999,9,     -999,     -999,9,     -999,9,     -999,9,     -999,9,   1.8354,2,  27.6778,2,   1.9729,2
49UP20210719_2,   P03,    31,  1,      8,     320,3,20210810,1635,1651, 24.2555, 140.7965, 2679,   2226.2,    1.8393,  34.6354,2,    123.8,2,     -999,9,   123.79,2,   144.86,2,    37.83,2,     0.00,2,    2.620,2,     -999,9,     -999,9,     -999,9,     -999,9,     -999,9,     -999,     -999,9,     -999,9,     -999,9,     -999,9,   1.6862,2,  27.7038,2,   1.8393,2
49UP20210719_2,   P03,    31,  1,      7,     319,2,20210810,1635,1644, 24.2555, 140.7965, 2679,   2428.8,    1.7634,  34.6456,2,    129.3,2,     -999,9,   129.26,2,   144.98,2,    37.53,2,     0.00,2,    2.600,2,     -999,9,     -999,9,     -999,9,     -999,9,     -999,9,     -999,     -999,9,     -999,9,     -999,9,     -999,9,   1.5939,2,  27.7189,2,   1.7634,2
49UP20210719_2,   P03,    31,  1,      6,     318,2,20210810,1635,1639, 24.2555, 140.7965, 2679,   2633.1,    1.7034,  34.6534,2,    134.1,2,     -999,9,   134.01,2,   144.99,2,    37.24,2,     0.00,2,    2.580,2,     -999,9,     -999,9,     -999,9,     -999,9,     -999,9,     -999,     -999,9,     -999,9,     -999,9,     -999,9,   1.5167,2,  27.7308,2,   1.7035,2
49UP20210719_2,   P03,    31,  1,      5,     317,2,20210810,1635,1638, 24.2555, 140.7965, 2679,   2633.2,    1.7036,  34.6533,2,    134.1,2,     -999,9,   133.92,2,   145.00,2,    37.25,2,     0.00,2,    2.580,2,     -999,9,     -999,9,     -999,9,     -999,9,     -999,9,     -999,     -999,9,     -999,9,     -999,9,     -999,9,   1.5168,2,  27.7307,2,   1.7033,2
49UP20210719_2,   P03,    31,  1,      1,     811,2,20210810,1635,1635, 24.2555, 140.7965, 2679,   2698.0,    1.7046,  34.6537,2,    134.5,2,     -999,9,   134.20,6,   145.15,6,    37.23,6,     0.00,6,    2.580,6,     -999,9,     -999,9,     -999,9,     -999,9,     -999,9,     -999,     -999,9,     -999,9,     -999,9,     -999,9,   1.5119,2,  27.7314,2,   1.7046,2
49UP20210719_2,   P03,    33,  1,      0,     BUC,2,20210810,2323,  32, 24.2470, 141.4020,  907,      0.0,   28.8515,  34.3531,2,    197.3,2,  34.3610,2,   198.74,2,     1.01,2,     0.14,2,     0.00,2,    0.020,2,     -999,9,     -999,9,   1942.8,2,   2255.9,2,   8.0820,2,    25.00,     -999,9,     -999,9,     0.05,2,     0.02,2,  28.8509,2,  21.6281,2,     -999,9
49UP20210719_2,   P03,    33,  1,     36,     757,2,20210810,2323,2359, 24.2470, 141.4020,  907,      9.6,   28.7612,  34.3580,2,    197.1,2,  34.3646,2,   201.64,4,     1.04,2,     0.12,2,     0.00,2,    0.000,2,     -999,9,     -999,9,   1944.1,2,   2257.1,2,   8.0799,6,    25.00,     -999,9,     -999,9,     0.05,2,     0.02,2,  28.7589,2,  21.6623,2,  28.7278,2
49UP20210719_2,   P03,    33,  1,     35,     756,2,20210810,2323,2358, 24.2470, 141.4020,  907,     24.5,   28.0416,  34.4381,2,    199.8,2,  34.4400,2,   201.49,2,     1.09,2,     0.11,2,     0.00,2,    0.000,2,     -999,9,     -999,9,   1951.9,6,   2261.0,6,   8.0766,2,    25.00,     -999,9,     -999,9,     0.06,2,     0.02,2,  28.0358,2,  21.9604,2,  28.0436,2
49UP20210719_2,   P03,    33,  1,     34,     843,2,20210810,2323,2354, 24.2470, 141.4020,  907,     51.5,   26.0354,  34.6690,2,    210.6,2,  34.6711,2,   213.41,4,     1.34,2,     0.10,2,     0.00,2,    0.000,2,     -999,9,     -999,9,   1976.7,2,   2275.1,2,   8.0498,2,    25.00,     -999,9,     -999,9,     0.09,2,     0.04,2,  26.0239,2,  22.7761,2,  26.0224,2
49UP20210719_2,   P03,    33,  1,     27,     754,3,20210810,2323,2352, 24.2470, 141.4020,  907,     75.2,   20.3592,  34.8367,2,    216.1,2,  34.8376,2,   216.97,2,     1.84,2,     0.42,2,     0.08,2,    0.040,2,     -999,9,     -999,9,   2016.0,2,   2287.4,2,   7.9988,2,    25.00,     -999,9,     -999,9,     0.33,2,     0.51,2,  20.3452,2,  24.5458,2,  20.3501,2
49UP20210719_2,   P03,    33,  1,     26,     835,2,20210810,2323,2351, 24.2470, 141.4020,  907,    100.2,   19.6841,  34.8292,2,    208.4,2,  34.8291,2,   213.45,4,     2.23,2,     1.52,2,     0.06,2,    0.100,2,     -999,9,     -999,9,   2027.0,2,   2285.9,2,   7.9815,2,    25.00,     -999,9,     -999,9,     0.18,2,     0.36,2,  19.6658,2,  24.7190,2,  19.6822,2
49UP20210719_2,   P03,    33,  1,     25,     834,2,20210810,2323,2350, 24.2470, 141.4020,  907,    124.9,   19.3531,  34.8292,2,    201.1,2,  34.8263,2,   202.65,6,     2.67,6,     2.43,6,     0.03,6,    0.160,6,     -999,9,     -999,9,   2034.9,2,   2287.7,2,   7.9656,2,    25.00,     -999,9,     -999,9,     0.09,2,     0.24,2,  19.3306,2,  24.8059,2,  19.3507,2
49UP20210719_2,   P03,    33,  1,     21,     830,2,20210810,2323,2348, 24.2470, 141.4020,  907,    150.4,   18.4971,  34.7995,2,    200.6,2,  34.8023,2,   201.11,2,     3.26,2,     3.49,2,     0.01,2,    0.230,2,     -999,9,     -999,9,   2042.6,2,   2283.8,2,   7.9487,2,    25.00,     -999,9,     -999,9,     -999,9,     -999,9,  18.4708,2,  25.0016,2,  18.5134,2
49UP20210719_2,   P03,    33,  1,     20,     829,2,20210810,2323,2348, 24.2470, 141.4020,  907,    150.5,   18.4887,  34.7976,2,    200.5,2,  34.7999,2,   201.89,2,     3.31,2,     3.46,2,     0.01,2,    0.230,2,     -999,9,     -999,9,   2042.0,2,   2285.3,2,   7.9500,2,    25.00,     -999,9,     -999,9,     0.03,2,     0.10,2,  18.4624,2,  25.0023,2,  18.5072,2
49UP20210719_2,   P03,    33,  1,     19,     828,2,20210810,2323,2346, 24.2470, 141.4020,  907,    203.4,   17.4322,  34.7489,2,    207.1,2,  34.7592,4,   207.46,2,     4.02,2,     4.19,2,     0.01,2,    0.270,2,     -999,9,     -999,9,   2043.7,2,   2280.6,2,   7.9413,2,    25.00,     -999,9,     -999,9,     0.01,2,     0.04,2,  17.3980,2,  25.2263,2,  17.4333,2
49UP20210719_2,   P03,    33,  1,     18,     752,2,20210810,2323,2344, 24.2470, 141.4020,  907,    251.5,   16.6035,  34.6993,2,    200.6,2,  34.6994,2,   201.49,2,     6.14,2,     6.32,2,     0.00,2,    0.410,2,     -999,9,     -999,9,   2058.4,2,   2279.8,2,   7.9110,2,    25.00,     -999,9,     -999,9,     -999,9,     -999,9,  16.5627,2,  25.3864,2,  16.6020,2
49UP20210719_2,   P03,    33,  1,     17,     751,2,20210810,2323,2343, 24.2470, 141.4020,  907,    282.1,   15.9602,  34.6512,2,    196.2,2,  34.6509,2,   196.81,2,     7.72,2,     7.71,2,     0.00,2,    0.510,2,     -999,9,     -999,9,   2068.0,2,   2279.2,2,   7.8887,2,    25.00,     -999,9,     -999,9,     -999,9,     -999,9,  15.9157,2,  25.4985,2,  15.9590,2
49UP20210719_2,   P03,    33,  1,     16,     328,2,20210810,2323,2340, 24.2470, 141.4020,  907,    373.9,   12.9490,  34.4237,2,    185.2,2,  34.4234,2,   185.36,2,    17.76,2,    13.53,2,     0.00,2,    0.920,2,     -999,9,     -999,9,   2106.0,2,   2274.8,2,   7.7976,2,    25.00,     -999,9,     -999,9,     -999,9,     -999,9,  12.8977,2,  25.9668,2,  12.9450,2
49UP20210719_2,   P03,    33,  1,     15,     822,2,20210810,2323,2340, 24.2470, 141.4020,  907,    375.0,   12.9427,  34.4234,2,    185.4,2,  34.4235,2,   185.41,2,    17.66,2,    13.59,2,     0.00,2,    0.930,2,     -999,9,     -999,9,   2106.9,2,   2275.2,2,   7.7976,2,    25.00,     -999,9,     -999,9,     -999,9,     -999,9,  12.8912,2,  25.9679,2,  12.9417,2
49UP20210719_2,   P03,    33,  1,      9,     750,2,20210810,2323,2337, 24.2470, 141.4020,  907,    473.6,   10.2240,  34.2508,2,    167.2,2,  34.2499,2,   167.19,6,    32.43,6,    20.01,6,     0.00,6,    1.400,6,     -999,9,     -999,9,   2152.8,2,   2280.7,2,   7.6945,2,    25.00,     -999,9,     -999,9,     -999,9,     -999,9,  10.1680,2,  26.3383,2,  10.2155,2
49UP20210719_2,   P03,    33,  1,      8,     320,3,20210810,2323,2334, 24.2470, 141.4020,  907,    574.9,    8.1797,  34.1612,2,    143.0,2,  34.1622,2,   142.48,2,    48.74,2,    25.77,2,     0.00,2,    1.820,2,     -999,9,     -999,9,   2194.6,2,   2288.4,2,   7.6052,2,    25.00,     -999,9,     -999,9,     -999,9,     -999,9,   8.1200,2,  26.5971,2,   8.1788,2
49UP20210719_2,   P03,    33,  1,      7,     319,2,20210810,2323,2332, 24.2470, 141.4020,  907,    675.6,    6.0722,  34.1644,2,    103.3,2,  34.1648,2,   102.60,2,    75.52,2,    33.06,2,     0.00,2,    2.350,2,     -999,9,     -999,9,   2254.6,2,   2311.4,2,   7.4949,2,    25.00,     -999,9,     -999,9,     -999,9,     -999,9,   6.0123,2,  26.8908,2,   6.0715,2
49UP20210719_2,   P03,    33,  1,      3,     315,2,20210810,2323,2329, 24.2470, 141.4020,  907,    775.8,    5.4359,  34.1946,2,     88.8,2,  34.1947,6,    88.14,2,    86.18,2,    35.33,2,     0.00,2,    2.510,2,     -999,9,     -999,9,   2276.4,2,   2321.6,2,   7.4603,6,    25.00,     -999,9,     -999,9,     -999,9,     -999,9,   5.3703,2,  26.9934,2,   5.4379,2
49UP20210719_2,   P03,    33,  1,      2,     314,3,20210810,2323,2326, 24.2470, 141.4020,  907,    880.0,    4.3260,  34.2802,2,     65.6,2,  34.2807,2,    65.95,2,   107.86,2,    39.07,2,     0.00,2,    2.770,2,     -999,9,     -999,9,   2317.6,6,   2344.9,6,   7.4118,2,    25.00,     -999,9,     -999,9,     -999,9,     -999,9,   4.2583,2,  27.1866,2,   4.3241,2
49UP20210719_2,   P03,    33,  1,      1,     811,2,20210810,2323,2324, 24.2470, 141.4020,  907,    912.2,    3.9345,  34.3219,2,     59.5,2,  34.3211,2,    59.87,2,   116.16,2,    40.13,2,     0.00,2,    2.840,2,     -999,9,     -999,9,   2327.8,2,   2354.2,2,   7.3986,2,    25.00,     -999,9,     -999,9,     -999,9,     -999,9,   3.8669,2,  27.2603,2,   3.9342,2