BOTTLE,20230808CCHSIOADS
EXPOCODE,SECT_ID,STNNBR,CASTNO,SAMPNO,BTLNBR,BTLNBR_FLAG_W,DATE,TIME,BTL_TIME,LATITUDE,LONGITUDE,DEPTH,CTDPRS,CTDTMP,CTDSAL,CTDSAL_FLAG_W,CTDOXY,CTDOXY_FLAG_W,SALNTY,SALNTY_FLAG_W,OXYGEN,OXYGEN_FLAG_W,SILCAT,SILCAT_FLAG_W,NO2+NO3,NO2+NO3_FLAG_W,NITRIT,NITRIT_FLAG_W,PHSPHT,PHSPHT_FLAG_W,CFC-11,CFC-11_FLAG_W,CFC-12,CFC-12_FLAG_W,TCARBN,TCARBN_FLAG_W,ALKALI,ALKALI_FLAG_W,PH_TOT,PH_TOT_FLAG_W,PH_TMP,CFC113,CFC113_FLAG_W,SF6,SF6_FLAG_W,CHLORA,CHLORA_FLAG_W,PPHYTN,PPHYTN_FLAG_W,THETA,THETA_FLAG_W,SIG0,SIG0_FLAG_W,SBE35,SBE35_FLAG_W
,,,,,,,,,,,,METERS,DBAR,ITS-90,PSS-78,,UMOL/KG,,PSS78,,UMOL/KG,,UMOL/KG,,UMOL/KG,,UMOL/KG,,UMOL/KG,,PMOL/KG,,PMOL/KG,,UMOL/KG,,UMOL/KG,,,,DEG C,PMOL/KG,,FMOL/KG,,UG/KG,,UG/KG,,ITS-90,,KG/M^3,,ITS-90,
49UP20210827_1,   P03,    51,  1,      0,     BUC,2,20210902,2110,2255, 24.2542, 149.6532, 4983,      0.0,   29.4662,  34.8694,2,    195.1,2,  34.8725,2,   195.92,2,     1.09,2,     0.00,2,     0.00,2,    0.040,2,     -999,9,     -999,9,   1963.2,2,   2289.7,2,   8.0977,2,    25.00,     -999,9,     -999,9,     0.03,2,     0.01,2,  29.4656,2,  21.8097,2,     -999,9
49UP20210827_1,   P03,    51,  1,     36,     757,2,20210902,2110,2330, 24.2542, 149.6532, 4983,      9.4,   29.3923,  34.8662,2,    195.1,2,  34.8641,6,   196.19,2,     1.06,2,     0.00,2,     0.00,2,    0.010,2,    1.057,2,    0.781,2,   1963.7,2,   2291.2,2,   8.1005,2,    25.00,    0.079,2,    1.389,2,     0.03,2,     0.01,2,  29.3900,2,  21.8327,2,  29.3924,2
49UP20210827_1,   P03,    51,  1,     35,     756,2,20210902,2110,2329, 24.2542, 149.6532, 4983,     25.6,   29.1854,  34.8735,2,    196.6,2,  34.8721,2,   197.28,6,     1.05,6,     0.00,6,     0.00,6,    0.010,6,     -999,9,     -999,9,   1964.6,2,   2290.6,2,   8.0978,2,    25.00,     -999,9,     -999,9,     0.03,2,     0.01,2,  29.1792,2,  21.9091,2,  29.1868,2
49UP20210827_1,   P03,    51,  1,     34,     843,2,20210902,2110,2325, 24.2542, 149.6532, 4983,     49.4,   28.5082,  34.8864,2,    201.7,2,  34.8812,2,   201.81,2,     1.08,2,     0.00,2,     0.00,2,    0.010,2,    1.113,2,    0.802,2,   1964.2,2,   2289.5,2,   8.0980,2,    25.00,    0.083,2,    1.549,2,     0.04,2,     0.02,2,  28.4964,2,  22.1461,2,  28.5242,2
49UP20210827_1,   P03,    51,  1,     33,     842,2,20210902,2110,2323, 24.2542, 149.6532, 4983,     74.6,   25.6676,  35.0917,2,    220.1,2,  35.0930,2,   219.97,2,     1.22,2,     0.00,2,     0.00,2,    0.010,2,     -999,9,     -999,9,   1983.7,2,   2302.8,2,   8.0851,2,    25.00,     -999,9,     -999,9,     0.07,2,     0.03,2,  25.6511,2,  23.2108,2,  25.6754,2
49UP20210827_1,   P03,    51,  1,     32,     841,2,20210902,2110,2321, 24.2542, 149.6532, 4983,     99.7,   24.1150,  35.1061,2,    216.7,2,  35.1062,2,   216.31,2,     1.38,2,     0.00,2,     0.00,2,    0.010,2,    1.416,2,    0.911,2,   1997.3,2,   2306.0,2,   8.0636,6,    25.00,    0.100,2,    1.714,2,     0.10,2,     0.06,2,  24.0940,2,  23.6938,2,  24.1130,2
49UP20210827_1,   P03,    51,  1,     31,     840,2,20210902,2110,2320, 24.2542, 149.6532, 4983,    125.7,   22.3499,  35.0328,2,    214.5,2,  35.0281,2,   214.39,2,     1.65,2,     0.00,2,     0.00,2,    0.010,2,     -999,9,     -999,9,   2012.3,6,   2301.3,6,   8.0322,2,    25.00,     -999,9,     -999,9,     0.15,4,     0.24,4,  22.3247,2,  24.1513,2,  22.3493,2
49UP20210827_1,   P03,    51,  1,     30,     839,2,20210902,2110,2318, 24.2542, 149.6532, 4983,    152.0,   21.0445,  34.9442,2,    213.0,2,  34.9437,2,   213.24,2,     1.81,2,     0.04,2,     0.10,2,    0.030,2,     -999,9,     -999,9,   2019.9,2,   2294.8,2,   8.0111,2,    25.00,     -999,9,     -999,9,     0.13,2,     0.29,2,  21.0154,2,  24.4473,2,  21.0346,2
49UP20210827_1,   P03,    51,  1,     29,     838,2,20210902,2110,2316, 24.2542, 149.6532, 4983,    205.0,   18.9348,  34.8169,2,    204.3,2,  34.8173,2,   203.83,2,     2.55,2,     1.77,2,     0.01,2,    0.150,2,    1.837,2,    1.087,2,   2038.6,2,   2287.1,2,   7.9644,2,    25.00,    0.072,2,    1.796,2,     0.02,2,     0.07,2,  18.8984,2,  24.9071,2,  18.9412,2
49UP20210827_1,   P03,    51,  1,     28,     755,2,20210902,2110,2314, 24.2542, 149.6532, 4983,    252.8,   17.7480,  34.7736,2,    201.4,2,  34.7729,2,   201.07,2,     3.70,2,     3.98,2,     0.00,2,    0.290,2,     -999,9,     -999,9,   2049.2,2,   2284.7,2,   7.9384,2,    25.00,     -999,9,     -999,9,     -999,9,     -999,9,  17.7050,2,  25.1709,2,  17.7506,2
49UP20210827_1,   P03,    51,  1,     27,     754,2,20210902,2110,2311, 24.2542, 149.6532, 4983,    331.3,   15.7927,  34.6321,2,    198.4,2,  34.6326,6,   197.77,2,     7.11,2,     7.36,2,     0.00,2,    0.510,2,    2.207,2,    1.109,2,   2069.0,2,   2278.8,2,   7.8894,2,    25.00,    0.033,2,    1.699,2,     -999,9,     -999,9,  15.7407,2,  25.5235,2,  15.7959,2
49UP20210827_1,   P03,    51,  1,     26,     835,2,20210902,2110,2308, 24.2542, 149.6532, 4983,    431.3,   13.2802,  34.4144,2,    197.8,2,  34.4151,2,   197.37,6,    12.42,6,    11.22,6,     0.00,6,    0.790,6,     -999,9,     -999,9,   2094.0,2,   2270.6,2,   7.8229,2,    25.00,     -999,9,     -999,9,     -999,9,     -999,9,  13.2199,2,  25.8950,2,  13.2870,2
49UP20210827_1,   P03,    51,  1,     25,     834,2,20210902,2110,2305, 24.2542, 149.6532, 4983,    533.1,   10.5216,  34.2132,2,    181.6,2,  34.2162,2,   181.54,2,    23.51,2,    17.59,2,     0.00,2,    1.250,2,    2.683,2,    1.347,2,   2135.0,2,   2270.0,2,   7.7244,2,    25.00,    0.070,2,    1.357,2,     -999,9,     -999,9,  10.4573,2,  26.2589,2,  10.5386,2
49UP20210827_1,   P03,    51,  1,     24,     753,2,20210902,2110,2302, 24.2542, 149.6532, 4983,    635.3,    7.7849,  34.0940,2,    136.4,2,  34.0950,2,   135.35,2,    46.13,2,    27.01,2,     0.00,2,    1.940,2,     -999,9,     -999,9,   2200.9,2,   2279.9,2,   7.5800,2,    25.00,     -999,9,     -999,9,     -999,9,     -999,9,   7.7207,2,  26.6032,2,   7.7868,2
49UP20210827_1,   P03,    51,  1,     23,     832,2,20210902,2110,2259, 24.2542, 149.6532, 4983,    735.2,    5.8630,  34.0994,2,     92.9,2,  34.1007,2,    92.00,2,    72.06,2,    34.42,2,     0.00,2,    2.480,2,     -999,9,     -999,9,   2260.0,2,   2303.2,2,   7.4604,2,    25.00,     -999,9,     -999,9,     -999,9,     -999,9,   5.7988,2,  26.8661,2,   5.8625,2
49UP20210827_1,   P03,    51,  1,     22,     831,2,20210902,2110,2256, 24.2542, 149.6532, 4983,    836.2,    4.9738,  34.1856,2,     63.2,2,  34.1866,2,    62.88,2,    90.49,2,    38.52,2,     0.00,2,    2.770,2,    0.640,2,    0.341,2,   2299.0,2,   2322.6,2,   7.4009,2,    25.00,    0.034,2,    0.147,2,     -999,9,     -999,9,   4.9057,2,  27.0404,2,   4.9741,2
49UP20210827_1,   P03,    51,  1,     21,     830,2,20210902,2110,2253, 24.2542, 149.6532, 4983,    937.9,    4.4233,  34.2957,2,     49.9,2,  34.2956,2,    49.82,2,   103.72,2,    40.47,2,     0.00,2,    2.910,2,     -999,9,     -999,9,   2322.2,2,   2343.0,2,   7.3864,2,    25.00,     -999,9,     -999,9,     -999,9,     -999,9,   4.3500,2,  27.1891,2,   4.4238,2
49UP20210827_1,   P03,    51,  1,     20,     829,2,20210902,2110,2248, 24.2542, 149.6532, 4983,   1079.7,    3.7286,  34.3936,2,     50.0,2,  34.3944,2,    49.84,2,   120.11,2,    41.36,2,     0.00,2,    2.960,2,    0.134,2,    0.036,2,   2341.8,2,   2365.0,2,   7.3931,2,    25.00,    0.016,2,   -0.047,2,     -999,9,     -999,9,   3.6487,2,  27.3393,2,   3.7296,2
49UP20210827_1,   P03,    51,  1,     19,     828,2,20210902,2110,2243, 24.2542, 149.6532, 4983,   1281.8,    3.0500,  34.4804,2,     59.1,2,  34.4812,2,    59.20,2,   136.09,2,    41.46,2,     0.00,2,    2.950,2,     -999,9,     -999,9,   2353.1,2,   2384.6,2,   7.4122,2,    25.00,     -999,9,     -999,9,     -999,9,     -999,9,   2.9597,2,  27.4740,2,   3.0489,2
49UP20210827_1,   P03,    51,  1,     18,     752,2,20210902,2110,2238, 24.2542, 149.6532, 4983,   1483.9,    2.5668,  34.5303,2,     67.9,2,  34.5304,6,    67.64,2,   146.55,2,    41.23,2,     0.00,2,    2.920,2,    0.076,2,    0.015,2,   2360.4,2,   2397.3,2,   7.4299,2,    25.00,    0.024,2,    0.042,2,     -999,9,     -999,9,   2.4654,2,  27.5572,2,   2.5666,2
49UP20210827_1,   P03,    51,  1,     17,     751,2,20210902,2110,2232, 24.2542, 149.6532, 4983,   1686.9,    2.2492,  34.5677,2,     79.0,2,  34.5678,2,    79.15,6,   151.88,6,    40.69,6,     0.00,6,    2.870,6,     -999,9,     -999,9,   2360.3,2,   2404.8,2,   7.4503,2,    25.00,     -999,9,     -999,9,     -999,9,     -999,9,   2.1352,2,  27.6145,2,   2.2493,2
49UP20210827_1,   P03,    51,  1,     16,     328,2,20210902,2110,2227, 24.2542, 149.6532, 4983,   1891.2,    2.0177,  34.5975,2,     91.3,2,  34.5972,2,    91.21,2,   154.64,2,    40.02,2,     0.00,2,    2.820,2,     -999,9,     -999,9,   2359.1,2,   2407.5,2,   7.4715,2,    25.00,     -999,9,     -999,9,     -999,9,     -999,9,   1.8902,2,  27.6578,2,   2.0177,2
49UP20210827_1,   P03,    51,  1,     15,     822,2,20210902,2110,2222, 24.2542, 149.6532, 4983,   2092.1,    1.8587,  34.6197,2,    103.6,2,  34.6201,2,   103.49,2,   154.87,2,    39.30,2,     0.00,2,    2.760,2,    0.000,2,    0.000,2,   2353.0,2,   2412.6,2,   7.4963,2,    25.00,    0.018,2,    0.019,2,     -999,9,     -999,9,   1.7168,2,  27.6889,2,   1.8589,2
49UP20210827_1,   P03,    51,  1,     14,     326,2,20210902,2110,2217, 24.2542, 149.6532, 4983,   2297.1,    1.7396,  34.6366,2,    114.5,2,  34.6365,2,   114.29,2,   154.33,2,    38.60,2,     0.00,2,    2.700,2,     -999,9,     -999,9,   2347.8,2,   2414.4,2,   7.5145,2,    25.00,     -999,9,     -999,9,     -999,9,     -999,9,   1.5821,2,  27.7125,2,   1.7396,2
49UP20210827_1,   P03,    51,  1,     13,     325,2,20210902,2110,2212, 24.2542, 149.6532, 4983,   2499.4,    1.6507,  34.6494,2,    123.2,2,  34.6496,2,   123.29,2,   153.53,2,    38.02,2,     0.00,2,    2.660,2,     -999,9,     -999,9,   2343.0,2,   2414.4,2,   7.5308,2,    25.00,     -999,9,     -999,9,     -999,9,     -999,9,   1.4770,2,  27.7305,2,   1.6506,2
49UP20210827_1,   P03,    51,  1,     12,     324,2,20210902,2110,2207, 24.2542, 149.6532, 4983,   2703.9,    1.5944,  34.6580,2,    129.7,2,  34.6588,4,   129.84,2,   152.99,2,    37.64,2,     0.00,2,    2.630,2,     -999,9,     -999,9,   2340.3,2,   2416.1,2,   7.5446,2,    25.00,     -999,9,     -999,9,     -999,9,     -999,9,   1.4033,2,  27.7427,2,   1.5944,2
49UP20210827_1,   P03,    51,  1,     11,     323,2,20210902,2110,2202, 24.2542, 149.6532, 4983,   2907.1,    1.5586,  34.6641,2,    134.8,2,  34.6644,2,   134.52,2,   152.42,2,    37.34,2,     0.00,2,    2.600,2,     -999,9,     -999,9,   2337.9,2,   2417.2,2,   7.5510,6,    25.00,     -999,9,     -999,9,     -999,9,     -999,9,   1.3494,2,  27.7514,2,   1.5587,2
49UP20210827_1,   P03,    51,  1,     10,     322,2,20210902,2110,2157, 24.2542, 149.6532, 4983,   3121.9,    1.5225,  34.6701,2,    139.9,2,  34.6707,2,   139.89,2,   151.84,2,    36.99,2,     0.00,2,    2.580,2,     -999,9,     -999,9,   2335.7,6,   2415.9,6,   7.5608,2,    25.00,     -999,9,     -999,9,     -999,9,     -999,9,   1.2936,2,  27.7602,2,   1.5225,2
49UP20210827_1,   P03,    51,  1,      9,     750,2,20210902,2110,2151, 24.2542, 149.6532, 4983,   3377.6,    1.4854,  34.6756,2,    145.5,2,  34.6760,6,   145.23,2,   150.35,2,    36.63,2,     0.00,2,    2.540,2,     -999,9,     -999,9,   2329.9,2,   2415.6,2,   7.5690,2,    25.00,     -999,9,     -999,9,     -999,9,     -999,9,   1.2321,2,  27.7689,2,   1.4855,2
49UP20210827_1,   P03,    51,  1,      8,     320,2,20210902,2110,2145, 24.2542, 149.6532, 4983,   3634.3,    1.4740,  34.6791,2,    149.6,2,  34.6793,2,   149.46,6,   148.88,6,    36.29,6,     0.00,6,    2.520,6,     -999,9,     -999,9,   2327.2,2,   2413.8,2,   7.5742,2,    25.00,     -999,9,     -999,9,     -999,9,     -999,9,   1.1947,2,  27.7743,2,   1.4741,2
49UP20210827_1,   P03,    51,  1,      7,     319,2,20210902,2110,2139, 24.2542, 149.6532, 4983,   3889.5,    1.4528,  34.6835,2,    154.8,2,  34.6838,2,   154.95,2,   147.17,2,    35.97,2,     0.00,2,    2.500,2,     -999,9,     -999,9,   2322.3,2,   2411.5,2,   7.5844,2,    25.00,     -999,9,     -999,9,     -999,9,     -999,9,   1.1471,2,  27.7811,2,   1.4527,2
49UP20210827_1,   P03,    51,  1,      5,     317,2,20210902,2110,2133, 24.2542, 149.6532, 4983,   4145.3,    1.4439,  34.6867,2,    159.2,2,  34.6862,2,   159.02,2,   145.30,2,    35.63,2,     0.00,2,    2.470,2,    0.000,2,    0.000,2,   2320.0,2,   2410.3,2,   7.5893,2,    25.00,    0.019,2,   -0.014,2,     -999,9,     -999,9,   1.1107,2,  27.7862,2,   1.4440,2
49UP20210827_1,   P03,    51,  1,      6,     318,2,20210902,2110,2133, 24.2542, 149.6532, 4983,   4145.9,    1.4443,  34.6866,2,    159.1,2,  34.6862,2,   159.21,2,   145.15,2,    35.65,2,     0.00,2,    2.470,2,     -999,9,     -999,9,   2322.0,2,   2407.2,2,   7.5864,2,    25.00,     -999,9,     -999,9,     -999,9,     -999,9,   1.1110,2,  27.7860,2,   1.4444,2
49UP20210827_1,   P03,    51,  1,      4,     316,2,20210902,2110,2127, 24.2542, 149.6532, 4983,   4402.5,    1.4545,  34.6882,2,    161.8,2,  34.6885,2,   161.93,2,   143.97,2,    35.47,2,     0.00,2,    2.460,2,    0.000,2,    0.000,2,   2317.5,2,   2410.9,2,   7.5928,2,    25.00,    0.018,2,   -0.008,2,     -999,9,     -999,9,   1.0921,2,  27.7886,2,   1.4544,2
49UP20210827_1,   P03,    51,  1,      3,     315,2,20210902,2110,2121, 24.2542, 149.6532, 4983,   4658.2,    1.4624,  34.6902,2,    164.8,2,  34.6904,2,   165.05,2,   141.98,2,    35.23,2,     0.00,2,    2.440,2,    0.000,2,    0.001,2,   2319.8,2,   2408.3,2,   7.5947,2,    25.00,    0.009,2,   -0.011,2,     -999,9,     -999,9,   1.0702,2,  27.7917,2,   1.4625,2
49UP20210827_1,   P03,    51,  1,      2,     314,2,20210902,2110,2115, 24.2542, 149.6532, 4983,   4916.2,    1.4806,  34.6912,2,    166.9,2,  34.6918,2,   167.09,2,   140.63,2,    35.06,2,     0.00,2,    2.430,2,    0.000,2,    0.000,2,   2311.9,2,   2405.4,2,   7.6002,6,    25.00,    0.000,2,   -0.020,2,     -999,9,     -999,9,   1.0572,2,  27.7934,2,   1.4806,2
49UP20210827_1,   P03,    51,  1,      1,     811,2,20210902,2110,2111, 24.2542, 149.6532, 4983,   5071.2,    1.4893,  34.6923,2,    168.9,2,  34.6924,2,   168.85,2,   139.15,2,    34.99,2,     0.00,2,    2.420,2,    0.000,2,    0.000,2,   2310.8,6,   2404.9,6,   7.6007,2,    25.00,    0.000,2,    0.007,2,     -999,9,     -999,9,   1.0468,2,  27.7950,2,   1.4892,2