BOTTLE,20230808CCHSIOADS
EXPOCODE,SECT_ID,STNNBR,CASTNO,SAMPNO,BTLNBR,BTLNBR_FLAG_W,DATE,TIME,BTL_TIME,LATITUDE,LONGITUDE,DEPTH,CTDPRS,CTDTMP,CTDSAL,CTDSAL_FLAG_W,CTDOXY,CTDOXY_FLAG_W,SALNTY,SALNTY_FLAG_W,OXYGEN,OXYGEN_FLAG_W,SILCAT,SILCAT_FLAG_W,NO2+NO3,NO2+NO3_FLAG_W,NITRIT,NITRIT_FLAG_W,PHSPHT,PHSPHT_FLAG_W,CFC-11,CFC-11_FLAG_W,CFC-12,CFC-12_FLAG_W,TCARBN,TCARBN_FLAG_W,ALKALI,ALKALI_FLAG_W,PH_TOT,PH_TOT_FLAG_W,PH_TMP,CFC113,CFC113_FLAG_W,SF6,SF6_FLAG_W,CHLORA,CHLORA_FLAG_W,PPHYTN,PPHYTN_FLAG_W,THETA,THETA_FLAG_W,SIG0,SIG0_FLAG_W,SBE35,SBE35_FLAG_W
,,,,,,,,,,,,METERS,DBAR,ITS-90,PSS-78,,UMOL/KG,,PSS78,,UMOL/KG,,UMOL/KG,,UMOL/KG,,UMOL/KG,,UMOL/KG,,PMOL/KG,,PMOL/KG,,UMOL/KG,,UMOL/KG,,,,DEG C,PMOL/KG,,FMOL/KG,,UG/KG,,UG/KG,,ITS-90,,KG/M^3,,ITS-90,
49UP20210719_2,   P03,    14,  1,      0,     BUC,2,20210803,0106, 210, 24.0055, 131.0042, 3328,      0.0,   28.5009,  34.4371,2,    197.4,2,  34.4377,2,   197.29,2,     1.32,2,     0.00,2,     0.00,2,    0.010,2,     -999,9,     -999,9,   1950.3,2,   2261.5,2,   8.0887,2,    25.00,     -999,9,     -999,9,     0.05,2,     0.02,2,  28.5002,2,  21.8073,2,     -999,9
49UP20210719_2,   P03,    14,  1,     36,     757,2,20210803,0106, 246, 24.0055, 131.0042, 3328,      9.9,   28.4938,  34.4366,2,    197.5,2,  34.4368,2,   197.63,2,     1.28,2,     0.00,2,     0.00,2,    0.000,2,     -999,9,     -999,9,   1950.0,2,   2263.7,2,   8.0868,2,    25.00,     -999,9,     -999,9,     0.05,2,     0.02,2,  28.4914,2,  21.8098,2,  28.4923,2
49UP20210719_2,   P03,    14,  1,     35,     756,2,20210803,0106, 244, 24.0055, 131.0042, 3328,     25.0,   27.7519,  34.4381,2,    200.1,2,  34.4385,2,   199.76,2,     1.24,2,     0.00,2,     0.00,2,    0.000,2,     -999,9,     -999,9,   1950.8,2,   2260.8,2,   8.0876,2,    25.00,     -999,9,     -999,9,     0.04,2,     0.02,2,  27.7461,2,  22.0547,2,  27.7521,2
49UP20210719_2,   P03,    14,  1,     34,     843,2,20210803,0106, 241, 24.0055, 131.0042, 3328,     49.9,   22.8369,  34.8120,2,    222.6,2,  34.8121,2,   221.40,2,     1.61,2,     0.00,2,     0.00,2,    0.010,2,     -999,9,     -999,9,   1990.4,2,   2285.1,2,   8.0528,2,    25.00,     -999,9,     -999,9,     0.12,2,     0.04,2,  22.8268,2,  23.8408,2,  22.8373,2
49UP20210719_2,   P03,    14,  1,     30,     839,2,20210803,0106, 239, 24.0055, 131.0042, 3328,     74.3,   21.6903,  34.8471,2,    227.1,2,  34.8467,6,   226.40,2,     1.61,2,     0.00,2,     0.00,2,    0.010,2,     -999,9,     -999,9,   1996.2,2,   2288.7,2,   8.0485,2,    25.00,     -999,9,     -999,9,     0.19,2,     0.10,2,  21.6758,2,  24.1920,2,  21.6897,2
49UP20210719_2,   P03,    14,  1,     29,     838,2,20210803,0106, 238, 24.0055, 131.0042, 3328,    100.7,   20.9500,  34.8356,2,    216.0,2,  34.8345,2,   215.62,2,     1.94,2,     0.09,2,     0.03,2,    0.030,2,     -999,9,     -999,9,   2008.6,2,   2288.9,2,   8.0245,2,    25.00,     -999,9,     -999,9,     0.33,2,     0.47,2,  20.9308,2,  24.3876,2,  20.9503,2
49UP20210719_2,   P03,    14,  1,     28,     755,2,20210803,0106, 236, 24.0055, 131.0042, 3328,    125.8,   20.5442,  34.8393,2,    210.1,2,  34.8394,2,   210.14,2,     1.99,2,     0.61,2,     0.13,2,    0.060,2,     -999,9,     -999,9,   2017.1,2,   2286.7,2,   8.0127,2,    25.00,     -999,9,     -999,9,     0.18,2,     0.39,2,  20.5205,2,  24.5009,2,  20.5374,2
49UP20210719_2,   P03,    14,  1,     27,     754,2,20210803,0106, 235, 24.0055, 131.0042, 3328,    153.0,   19.9449,  34.8328,2,    203.8,2,  34.8323,2,   204.12,2,     2.43,2,     1.67,2,     0.03,2,    0.120,2,     -999,9,     -999,9,   2026.5,2,   2286.4,2,   7.9947,2,    25.00,     -999,9,     -999,9,     0.08,2,     0.23,2,  19.9167,2,  24.6561,2,  19.9436,2
49UP20210719_2,   P03,    14,  1,     26,     835,2,20210803,0106, 233, 24.0055, 131.0042, 3328,    204.7,   18.5317,  34.7991,2,    198.9,2,  34.7984,2,   198.57,2,     3.62,2,     3.61,2,     0.01,2,    0.240,2,     -999,9,     -999,9,   2043.2,2,   2284.7,2,   7.9589,2,    25.00,     -999,9,     -999,9,     0.01,2,     0.03,2,  18.4959,2,  24.9950,2,  18.5289,2
49UP20210719_2,   P03,    14,  1,     25,     834,2,20210803,0106, 231, 24.0055, 131.0042, 3328,    251.8,   17.5283,  34.7618,2,    198.0,2,  34.7608,2,   198.20,2,     4.69,2,     5.12,2,     0.00,2,    0.340,2,     -999,9,     -999,9,   2051.9,2,   2281.6,2,   7.9365,2,    25.00,     -999,9,     -999,9,     -999,9,     -999,9,  17.4859,2,  25.2150,2,  17.5285,2
49UP20210719_2,   P03,    14,  1,     24,     753,2,20210803,0106, 229, 24.0055, 131.0042, 3328,    282.3,   16.9717,  34.7318,2,    195.2,2,  34.7317,2,   195.16,2,     5.59,2,     6.18,2,     0.00,2,    0.410,2,     -999,9,     -999,9,   2061.1,2,   2281.7,2,   7.9187,2,    25.00,     -999,9,     -999,9,     -999,9,     -999,9,  16.9251,2,  25.3261,2,  16.9700,2
49UP20210719_2,   P03,    14,  1,     23,     832,2,20210803,0106, 227, 24.0055, 131.0042, 3328,    374.5,   13.9034,  34.4779,2,    186.7,2,  34.4787,2,   186.58,2,    12.65,2,    11.49,2,     0.00,2,    0.790,2,     -999,9,     -999,9,   2095.8,2,   2273.6,2,   7.8285,6,    25.00,     -999,9,     -999,9,     -999,9,     -999,9,  13.8494,2,  25.8151,2,  13.9031,2
49UP20210719_2,   P03,    14,  1,     22,     831,2,20210803,0106, 224, 24.0055, 131.0042, 3328,    474.1,   11.2755,  34.2999,2,    169.5,2,  34.3007,2,   169.44,2,    24.26,2,    17.62,2,     0.00,2,    1.230,2,     -999,9,     -999,9,   2136.0,6,   2273.4,6,   7.7343,2,    25.00,     -999,9,     -999,9,     -999,9,     -999,9,  11.2158,2,  26.1912,2,  11.2746,2
49UP20210719_2,   P03,    14,  1,     21,     830,2,20210803,0106, 221, 24.0055, 131.0042, 3328,    574.6,    8.4120,  34.1560,2,    143.5,2,  34.1571,6,   142.80,6,    44.53,6,    25.19,6,     0.00,6,    1.790,6,     -999,9,     -999,9,   2190.3,2,   2284.4,2,   7.6203,2,    25.00,     -999,9,     -999,9,     -999,9,     -999,9,   8.3514,2,  26.5582,2,   8.4119,2
49UP20210719_2,   P03,    14,  1,     20,     829,2,20210803,0106, 218, 24.0055, 131.0042, 3328,    675.5,    6.6170,  34.1275,2,    111.7,2,  34.1274,2,   110.90,2,    64.61,2,    31.29,2,     0.00,2,    2.240,2,     -999,9,     -999,9,   2238.3,2,   2297.9,2,   7.5211,2,    25.00,     -999,9,     -999,9,     -999,9,     -999,9,   6.5544,2,  26.7915,2,   6.6174,2
49UP20210719_2,   P03,    14,  1,     19,     828,2,20210803,0106, 217, 24.0055, 131.0042, 3328,    675.9,    6.6176,  34.1273,2,    111.7,2,  34.1279,2,   110.92,2,    64.60,2,    31.29,2,     0.00,2,    2.240,2,     -999,9,     -999,9,   2237.9,2,   2297.8,2,   7.5209,2,    25.00,     -999,9,     -999,9,     -999,9,     -999,9,   6.5550,2,  26.7913,2,   6.6173,2
49UP20210719_2,   P03,    14,  1,     18,     752,2,20210803,0106, 214, 24.0055, 131.0042, 3328,    776.1,    5.1134,  34.2089,2,     74.3,2,  34.2087,2,    73.50,2,    90.49,2,    37.24,2,     0.00,2,    2.670,2,     -999,9,     -999,9,   2292.1,2,   2324.9,2,   7.4353,2,    25.00,     -999,9,     -999,9,     -999,9,     -999,9,   5.0497,2,  27.0424,2,   5.1150,2
49UP20210719_2,   P03,    14,  1,     17,     751,2,20210803,0106, 211, 24.0055, 131.0042, 3328,    878.1,    4.4980,  34.2658,2,     62.6,2,  34.2654,2,    62.35,2,   103.00,2,    39.12,2,     0.00,2,    2.800,2,     -999,9,     -999,9,   2313.5,2,   2340.1,2,   7.4124,6,    25.00,     -999,9,     -999,9,     -999,9,     -999,9,   4.4294,2,  27.1568,2,   4.4976,2
49UP20210719_2,   P03,    14,  1,     16,     328,2,20210803,0106, 208, 24.0055, 131.0042, 3328,    979.2,    3.9268,  34.3459,2,     57.7,2,  34.3453,2,    57.44,2,   115.98,2,    40.35,2,     0.00,2,    2.880,2,     -999,9,     -999,9,   2330.5,6,   2357.4,6,   7.4074,2,    25.00,     -999,9,     -999,9,     -999,9,     -999,9,   3.8537,2,  27.2808,2,   3.9274,2
49UP20210719_2,   P03,    14,  1,     15,     822,2,20210803,0106, 203, 24.0055, 131.0042, 3328,   1140.6,    3.2910,  34.4450,2,     64.4,2,  34.4429,4,    63.88,2,   129.00,2,    40.61,2,     0.00,2,    2.890,2,     -999,9,     -999,9,   2343.7,2,   2374.8,2,   7.4235,2,    25.00,     -999,9,     -999,9,     -999,9,     -999,9,   3.2099,2,  27.4226,2,   3.2908,2
49UP20210719_2,   P03,    14,  1,     14,     326,3,20210803,0106, 158, 24.0055, 131.0042, 3328,   1343.4,    2.7562,  34.5102,2,     76.9,2,  34.5081,4,    76.96,2,   137.81,2,    40.11,2,     0.00,2,    2.840,2,     -999,9,     -999,9,   2348.2,2,   2392.2,2,   7.4529,2,    25.00,     -999,9,     -999,9,     -999,9,     -999,9,   2.6639,2,  27.5241,2,   2.7562,2
49UP20210719_2,   P03,    14,  1,     12,     324,2,20210803,0106, 154, 24.0055, 131.0042, 3328,   1545.1,    2.3568,  34.5582,2,     91.6,2,  34.5580,2,    91.25,2,   143.36,2,    39.58,2,     0.00,2,    2.790,2,     -999,9,     -999,9,   2347.9,2,   2401.2,2,   7.4783,2,    25.00,     -999,9,     -999,9,     -999,9,     -999,9,   2.2529,2,  27.5973,2,   2.3567,2
49UP20210719_2,   P03,    14,  1,     11,     323,2,20210803,0106, 148, 24.0055, 131.0042, 3328,   1748.0,    2.1154,  34.5906,2,    104.3,2,  34.5905,6,   103.69,2,   144.74,2,    38.89,2,     0.00,2,    2.730,2,     -999,9,     -999,9,   2343.4,2,   2406.1,2,   7.5015,2,    25.00,     -999,9,     -999,9,     -999,9,     -999,9,   1.9981,2,  27.6438,2,   2.1148,2
49UP20210719_2,   P03,    14,  1,     10,     322,2,20210803,0106, 143, 24.0055, 131.0042, 3328,   1952.5,    1.9764,  34.6110,2,    113.6,2,  34.6109,2,   113.09,6,   144.98,6,    38.38,6,     0.00,6,    2.690,6,     -999,9,     -999,9,   2340.7,2,   2408.1,2,   7.5195,2,    25.00,     -999,9,     -999,9,     -999,9,     -999,9,   1.8443,2,  27.6722,2,   1.9765,2
49UP20210719_2,   P03,    14,  1,      9,     750,2,20210803,0106, 138, 24.0055, 131.0042, 3328,   2156.4,    1.8352,  34.6304,2,    123.3,2,  34.6304,2,   122.76,2,   144.91,2,    37.82,2,     0.00,2,    2.640,2,     -999,9,     -999,9,   2338.7,2,   2410.9,2,   7.5364,2,    25.00,     -999,9,     -999,9,     -999,9,     -999,9,   1.6882,2,  27.6997,2,   1.8353,2
49UP20210719_2,   P03,    14,  1,      8,     320,2,20210803,0106, 137, 24.0055, 131.0042, 3328,   2156.6,    1.8351,  34.6305,2,    123.3,2,  34.6303,2,   123.21,2,   144.82,2,    37.81,2,     0.00,2,    2.640,2,     -999,9,     -999,9,   2339.4,2,   2408.9,2,   7.5366,2,    25.00,     -999,9,     -999,9,     -999,9,     -999,9,   1.6881,2,  27.6997,2,   1.8352,2
49UP20210719_2,   P03,    14,  1,      7,     319,2,20210803,0106, 132, 24.0055, 131.0042, 3328,   2359.0,    1.7703,  34.6410,2,    128.7,2,  34.6411,2,   128.57,2,   144.73,2,    37.50,2,     0.00,2,    2.620,2,     -999,9,     -999,9,   2334.7,2,   2411.1,2,   7.5441,2,    25.00,     -999,9,     -999,9,     -999,9,     -999,9,   1.6068,2,  27.7142,2,   1.7703,2
49UP20210719_2,   P03,    14,  1,      6,     318,2,20210803,0106, 127, 24.0055, 131.0042, 3328,   2562.7,    1.7015,  34.6501,2,    134.0,2,  34.6504,2,   133.65,2,   144.63,2,    37.20,2,     0.00,2,    2.600,2,     -999,9,     -999,9,   2332.8,2,   2411.5,2,   7.5589,3,    25.00,     -999,9,     -999,9,     -999,9,     -999,9,   1.5212,2,  27.7278,2,   1.7013,2
49UP20210719_2,   P03,    14,  1,      5,     317,2,20210803,0106, 122, 24.0055, 131.0042, 3328,   2765.0,    1.6577,  34.6568,2,    137.9,2,  34.6563,2,   137.67,2,   144.16,2,    36.92,2,     0.00,2,    2.570,2,     -999,9,     -999,9,   2330.7,2,   2410.9,2,   7.5638,6,    25.00,     -999,9,     -999,9,     -999,9,     -999,9,   1.4597,2,  27.7377,2,   1.6576,2
49UP20210719_2,   P03,    14,  1,      4,     316,2,20210803,0106, 117, 24.0055, 131.0042, 3328,   2969.3,    1.5982,  34.6644,2,    142.9,2,  34.6643,2,   142.61,2,   143.73,2,    36.60,2,     0.00,2,    2.540,2,     -999,9,     -999,9,   2328.3,6,   2413.6,6,   7.5706,2,    25.00,     -999,9,     -999,9,     -999,9,     -999,9,   1.3822,2,  27.7493,2,   1.5983,2
49UP20210719_2,   P03,    14,  1,      3,     315,2,20210803,0106, 111, 24.0055, 131.0042, 3328,   3215.2,    1.5747,  34.6689,2,    146.1,2,  34.6689,6,   145.70,6,   143.83,6,    36.49,6,     0.00,6,    2.530,6,     -999,9,     -999,9,   2326.9,2,   2413.8,2,   7.5742,2,    25.00,     -999,9,     -999,9,     -999,9,     -999,9,   1.3354,2,  27.7563,2,   1.5745,2
49UP20210719_2,   P03,    14,  1,      2,     314,2,20210803,0106, 107, 24.0055, 131.0042, 3328,   3377.6,    1.5550,  34.6725,2,    148.7,2,  34.6731,2,   148.26,2,   143.54,2,    36.33,2,     0.00,2,    2.520,2,     -999,9,     -999,9,   2326.0,2,   2414.2,2,   7.5813,2,    25.00,     -999,9,     -999,9,     -999,9,     -999,9,   1.2999,2,  27.7617,2,   1.5548,2
49UP20210719_2,   P03,    14,  1,      1,     811,2,20210803,0106, 107, 24.0055, 131.0042, 3328,   3377.8,    1.5550,  34.6725,2,    148.7,2,  34.6729,2,   148.20,2,   143.23,2,    36.32,2,     0.00,2,    2.520,2,     -999,9,     -999,9,   2327.0,2,   2415.1,2,   7.5790,2,    25.00,     -999,9,     -999,9,     -999,9,     -999,9,   1.2999,2,  27.7616,2,   1.5547,2