BOTTLE,20230808CCHSIOADS
EXPOCODE,SECT_ID,STNNBR,CASTNO,SAMPNO,BTLNBR,BTLNBR_FLAG_W,DATE,TIME,BTL_TIME,LATITUDE,LONGITUDE,DEPTH,CTDPRS,CTDTMP,CTDSAL,CTDSAL_FLAG_W,CTDOXY,CTDOXY_FLAG_W,SALNTY,SALNTY_FLAG_W,OXYGEN,OXYGEN_FLAG_W,SILCAT,SILCAT_FLAG_W,NO2+NO3,NO2+NO3_FLAG_W,NITRIT,NITRIT_FLAG_W,PHSPHT,PHSPHT_FLAG_W,CFC-11,CFC-11_FLAG_W,CFC-12,CFC-12_FLAG_W,TCARBN,TCARBN_FLAG_W,ALKALI,ALKALI_FLAG_W,PH_TOT,PH_TOT_FLAG_W,PH_TMP,CFC113,CFC113_FLAG_W,SF6,SF6_FLAG_W,CHLORA,CHLORA_FLAG_W,PPHYTN,PPHYTN_FLAG_W,THETA,THETA_FLAG_W,SIG0,SIG0_FLAG_W,SBE35,SBE35_FLAG_W
,,,,,,,,,,,,METERS,DBAR,ITS-90,PSS-78,,UMOL/KG,,PSS78,,UMOL/KG,,UMOL/KG,,UMOL/KG,,UMOL/KG,,UMOL/KG,,PMOL/KG,,PMOL/KG,,UMOL/KG,,UMOL/KG,,,,DEG C,PMOL/KG,,FMOL/KG,,UG/KG,,UG/KG,,ITS-90,,KG/M^3,,ITS-90,
49UP20210827_1,   P03,    60,  1,      0,     BUC,2,20210906,0546, 750, 24.2313, 156.8172, 5659,      0.0,   29.5474,  35.2153,2,    195.4,2,  35.2294,2,   195.42,2,     1.27,2,     0.01,2,     0.00,2,    0.040,2,     -999,9,     -999,9,   1983.6,2,   2312.3,2,   8.0930,2,    25.00,     -999,9,     -999,9,     0.03,2,     0.01,2,  29.5468,2,  22.0418,2,     -999,9
49UP20210827_1,   P03,    60,  1,     36,     757,2,20210906,0546, 817, 24.2313, 156.8172, 5659,     10.0,   29.5536,  35.2224,2,    195.6,2,  35.2208,6,   195.42,2,     1.27,2,     0.03,2,     0.00,2,    0.010,2,     -999,9,     -999,9,   1985.3,2,   2312.2,2,   8.0937,2,    25.00,     -999,9,     -999,9,     0.03,2,     0.01,2,  29.5511,2,  22.0456,2,  29.5533,2
49UP20210827_1,   P03,    60,  1,     35,     756,2,20210906,0546, 812, 24.2313, 156.8172, 5659,     49.2,   25.7683,  35.2164,2,    226.8,2,  35.2201,2,   225.31,6,     1.53,6,     0.02,6,     0.00,6,    0.010,6,     -999,9,     -999,9,   1995.0,2,   2312.5,2,   8.0765,2,    25.00,     -999,9,     -999,9,     0.04,2,     0.01,2,  25.7574,2,  23.2721,2,  25.7024,2
49UP20210827_1,   P03,    60,  1,     34,     843,2,20210906,0546, 810, 24.2313, 156.8172, 5659,    100.4,   20.3481,  34.9347,2,    206.8,2,  34.9375,2,   206.50,2,     2.40,2,     0.23,2,     0.00,2,    0.070,2,     -999,9,     -999,9,   2033.6,2,   2295.3,2,   7.9882,2,    25.00,     -999,9,     -999,9,     0.21,2,     0.37,2,  20.3293,2,  24.6247,2,  20.3736,2
49UP20210827_1,   P03,    60,  1,     33,     842,2,20210906,0546, 808, 24.2313, 156.8172, 5659,    125.0,   18.9491,  34.8614,2,    199.8,2,  34.8613,2,   199.82,2,     2.88,2,     1.64,2,     0.06,2,    0.160,2,     -999,9,     -999,9,   2047.8,2,   2291.0,2,   7.9534,2,    25.00,     -999,9,     -999,9,     0.11,2,     0.34,2,  18.9269,2,  24.9338,2,  18.9542,2
49UP20210827_1,   P03,    60,  1,     32,     841,2,20210906,0546, 807, 24.2313, 156.8172, 5659,    150.3,   18.0265,  34.7764,2,    208.0,2,  34.7764,2,   207.77,2,     3.24,2,     2.40,2,     0.03,2,    0.180,2,     -999,9,     -999,9,   2043.6,2,   2283.1,2,   7.9514,2,    25.00,     -999,9,     -999,9,     0.05,2,     0.23,2,  18.0007,2,  25.1007,2,  18.0248,2
49UP20210827_1,   P03,    60,  1,     31,     840,2,20210906,0546, 804, 24.2313, 156.8172, 5659,    200.5,   17.1587,  34.7401,2,    214.2,2,  34.7413,2,   214.62,2,     4.19,2,     3.98,2,     0.01,2,    0.270,2,     -999,9,     -999,9,   2044.3,2,   2282.2,2,   7.9461,2,    25.00,     -999,9,     -999,9,     0.01,2,     0.02,2,  17.1255,2,  25.2849,2,  17.1569,2
49UP20210827_1,   P03,    60,  1,     30,     839,2,20210906,0546, 802, 24.2313, 156.8172, 5659,    251.2,   16.5034,  34.6919,2,    206.1,2,  34.6926,2,   206.15,2,     5.51,2,     5.65,2,     0.00,2,    0.390,2,     -999,9,     -999,9,   2055.2,2,   2279.3,2,   7.9188,6,    25.00,     -999,9,     -999,9,     -999,9,     -999,9,  16.4628,2,  25.4040,2,  16.5003,2
49UP20210827_1,   P03,    60,  1,     29,     838,2,20210906,0546, 800, 24.2313, 156.8172, 5659,    331.0,   14.3069,  34.5074,2,    202.1,2,  34.5082,2,   202.42,2,    10.42,2,     9.34,2,     0.00,2,    0.640,2,     -999,9,     -999,9,   2080.2,6,   2271.4,6,   7.8579,2,    25.00,     -999,9,     -999,9,     -999,9,     -999,9,  14.2584,2,  25.7519,2,  14.2953,2
49UP20210827_1,   P03,    60,  1,     28,     755,2,20210906,0546, 757, 24.2313, 156.8172, 5659,    433.1,   11.1578,  34.2540,2,    199.4,2,  34.2550,2,   199.66,2,    18.94,2,    14.87,2,     0.00,2,    1.040,2,     -999,9,     -999,9,   2116.2,2,   2267.4,2,   7.7697,2,    25.00,     -999,9,     -999,9,     -999,9,     -999,9,  11.1038,2,  26.1758,2,  11.1566,2
49UP20210827_1,   P03,    60,  1,     27,     754,2,20210906,0546, 754, 24.2313, 156.8172, 5659,    534.2,    8.2078,  34.0729,2,    160.0,2,  34.0735,6,   160.25,2,    38.11,2,    23.91,2,     0.00,2,    1.700,2,     -999,9,     -999,9,   2177.8,2,   2274.7,2,   7.6268,2,    25.00,     -999,9,     -999,9,     -999,9,     -999,9,   8.1525,2,  26.5230,2,   8.2129,2
49UP20210827_1,   P03,    60,  1,     26,     835,2,20210906,0546, 751, 24.2313, 156.8172, 5659,    634.9,    6.2039,  34.0458,2,    114.1,2,  34.0459,2,   113.95,6,    62.50,6,    31.87,6,     0.00,6,    2.290,6,     -999,9,     -999,9,   2237.8,2,   2290.4,2,   7.5001,2,    25.00,     -999,9,     -999,9,     -999,9,     -999,9,   6.1473,2,  26.7800,2,   6.2026,2
49UP20210827_1,   P03,    60,  1,     25,     834,2,20210906,0546, 748, 24.2313, 156.8172, 5659,    734.9,    5.0662,  34.1285,2,     72.0,2,  34.1285,2,    72.19,2,    84.72,2,    37.37,2,     0.00,2,    2.690,2,     -999,9,     -999,9,   2288.3,2,   2314.9,2,   7.4142,2,    25.00,     -999,9,     -999,9,     -999,9,     -999,9,   5.0065,2,  26.9836,2,   5.0650,2
49UP20210827_1,   P03,    60,  1,     24,     753,2,20210906,0546, 746, 24.2313, 156.8172, 5659,    835.4,    4.2072,  34.2283,2,     46.4,2,  34.2271,2,    46.05,2,   106.13,2,    40.91,2,     0.00,2,    2.930,2,     -999,9,     -999,9,   2327.4,2,   2337.9,2,   7.3694,2,    25.00,     -999,9,     -999,9,     -999,9,     -999,9,   4.1441,2,  27.1573,2,   4.2091,2
49UP20210827_1,   P03,    60,  1,     23,     832,2,20210906,0546, 743, 24.2313, 156.8172, 5659,    937.7,    3.7994,  34.3230,2,     38.8,2,  34.3245,2,    39.33,2,   118.04,2,    41.95,2,     0.00,2,    3.010,2,     -999,9,     -999,9,   2343.8,2,   2354.3,2,   7.3647,2,    25.00,     -999,9,     -999,9,     -999,9,     -999,9,   3.7306,2,  27.2750,2,   3.7990,2
49UP20210827_1,   P03,    60,  1,     22,     831,2,20210906,0546, 739, 24.2313, 156.8172, 5659,   1079.3,    3.4169,  34.4318,2,     49.5,2,  34.4320,2,    49.06,2,   126.82,2,    41.66,2,     0.00,2,    2.990,2,     -999,9,     -999,9,   2351.4,2,   2372.8,2,   7.3911,2,    25.00,     -999,9,     -999,9,     -999,9,     -999,9,   3.3396,2,  27.3998,2,   3.4169,2
49UP20210827_1,   P03,    60,  1,     21,     830,2,20210906,0546, 735, 24.2313, 156.8172, 5659,   1282.3,    2.9620,  34.5016,2,     64.2,2,  34.5010,2,    64.32,2,   135.51,2,    40.99,2,     0.00,2,    2.920,2,     -999,9,     -999,9,   2352.8,2,   2386.5,2,   7.4257,2,    25.00,     -999,9,     -999,9,     -999,9,     -999,9,   2.8725,2,  27.4988,2,   2.9610,2
49UP20210827_1,   P03,    60,  1,     20,     829,2,20210906,0546, 730, 24.2313, 156.8172, 5659,   1485.6,    2.6191,  34.5453,2,     76.6,2,  34.5446,2,    76.57,2,   140.99,2,    40.42,2,     0.00,2,    2.870,2,     -999,9,     -999,9,   2353.8,2,   2395.5,2,   7.4469,2,    25.00,     -999,9,     -999,9,     -999,9,     -999,9,   2.5169,2,  27.5649,2,   2.6198,2
49UP20210827_1,   P03,    60,  1,     19,     828,2,20210906,0546, 725, 24.2313, 156.8172, 5659,   1688.7,    2.3034,  34.5764,2,     87.0,2,  34.5764,2,    86.61,2,   146.91,2,    39.99,2,     0.00,2,    2.830,2,     -999,9,     -999,9,   2353.8,2,   2403.0,2,   7.4676,2,    25.00,     -999,9,     -999,9,     -999,9,     -999,9,   2.1886,2,  27.6172,2,   2.3033,2
49UP20210827_1,   P03,    60,  1,     18,     752,2,20210906,0546, 720, 24.2313, 156.8172, 5659,   1890.4,    2.0682,  34.6008,2,     96.3,2,  34.6011,6,    95.90,2,   149.94,2,    39.48,2,     0.00,2,    2.780,2,     -999,9,     -999,9,   2352.2,2,   2406.5,2,   7.4842,2,    25.00,     -999,9,     -999,9,     -999,9,     -999,9,   1.9400,2,  27.6566,2,   2.0683,2
49UP20210827_1,   P03,    60,  1,     17,     751,2,20210906,0546, 716, 24.2313, 156.8172, 5659,   2092.9,    1.9027,  34.6198,2,    105.2,2,  34.6199,2,   104.70,6,   152.14,6,    39.04,6,     0.00,6,    2.740,6,     -999,9,     -999,9,   2349.8,2,   2409.9,2,   7.4992,2,    25.00,     -999,9,     -999,9,     -999,9,     -999,9,   1.7600,2,  27.6857,2,   1.9024,2
49UP20210827_1,   P03,    60,  1,     16,     328,2,20210906,0546, 710, 24.2313, 156.8172, 5659,   2300.7,    1.7832,  34.6357,2,    114.3,2,  34.6358,2,   113.92,2,   152.35,2,    38.49,2,     0.00,2,    2.700,2,     -999,9,     -999,9,   2347.6,2,   2412.3,2,   7.5172,2,    25.00,     -999,9,     -999,9,     -999,9,     -999,9,   1.6247,2,  27.7086,2,   1.7832,2
49UP20210827_1,   P03,    60,  1,     15,     822,2,20210906,0546, 706, 24.2313, 156.8172, 5659,   2498.7,    1.6861,  34.6465,2,    121.0,2,  34.6464,2,   120.83,2,   152.88,2,    38.06,2,     0.00,2,    2.660,2,     -999,9,     -999,9,   2345.2,2,   2411.5,2,   7.5289,2,    25.00,     -999,9,     -999,9,     -999,9,     -999,9,   1.5118,2,  27.7256,2,   1.6862,2
49UP20210827_1,   P03,    60,  1,     14,     326,2,20210906,0546, 701, 24.2313, 156.8172, 5659,   2702.2,    1.6191,  34.6557,2,    127.8,2,  34.6557,2,   127.59,2,   151.97,2,    37.60,2,     0.00,2,    2.630,2,     -999,9,     -999,9,   2340.4,2,   2413.8,2,   7.5423,6,    25.00,     -999,9,     -999,9,     -999,9,     -999,9,   1.4276,2,  27.7391,2,   1.6190,2
49UP20210827_1,   P03,    60,  1,     13,     325,2,20210906,0546, 656, 24.2313, 156.8172, 5659,   2908.3,    1.5687,  34.6627,2,    133.3,2,  34.6624,2,   133.28,2,   151.78,2,    37.25,2,     0.00,2,    2.600,2,     -999,9,     -999,9,   2338.3,6,   2414.9,6,   7.5514,2,    25.00,     -999,9,     -999,9,     -999,9,     -999,9,   1.3592,2,  27.7496,2,   1.5689,2
49UP20210827_1,   P03,    60,  1,     12,     324,3,20210906,0546, 651, 24.2313, 156.8172, 5659,   3123.7,    1.5266,  34.6689,2,    138.7,2,  34.6691,2,   138.48,2,   151.13,2,    36.89,2,     0.00,2,    2.570,2,     -999,9,     -999,9,   2334.8,2,   2414.9,2,   7.5622,2,    25.00,     -999,9,     -999,9,     -999,9,     -999,9,   1.2973,2,  27.7589,2,   1.5268,2
49UP20210827_1,   P03,    60,  1,     11,     323,2,20210906,0546, 646, 24.2313, 156.8172, 5659,   3380.5,    1.5012,  34.6738,2,    143.7,2,  34.6736,2,   143.57,2,   150.32,2,    36.61,2,     0.00,2,    2.550,2,     -999,9,     -999,9,   2333.8,2,   2412.4,2,   7.5675,2,    25.00,     -999,9,     -999,9,     -999,9,     -999,9,   1.2471,2,  27.7664,2,   1.5013,2
49UP20210827_1,   P03,    60,  1,     10,     322,2,20210906,0546, 639, 24.2313, 156.8172, 5659,   3631.9,    1.4805,  34.6779,2,    148.0,2,  34.6779,2,   148.12,2,   149.23,2,    36.33,2,     0.00,2,    2.520,2,     -999,9,     -999,9,   2328.2,2,   2413.6,2,   7.5746,2,    25.00,     -999,9,     -999,9,     -999,9,     -999,9,   1.2013,2,  27.7729,2,   1.4805,2
49UP20210827_1,   P03,    60,  1,      9,     750,2,20210906,0546, 633, 24.2313, 156.8172, 5659,   3889.3,    1.4660,  34.6816,2,    152.0,2,  34.6820,6,   152.07,2,   148.30,2,    36.05,2,     0.00,2,    2.510,2,     -999,9,     -999,9,   2325.6,2,   2412.8,2,   7.5808,2,    25.00,     -999,9,     -999,9,     -999,9,     -999,9,   1.1601,2,  27.7787,2,   1.4660,2
49UP20210827_1,   P03,    60,  1,      8,     320,2,20210906,0546, 627, 24.2313, 156.8172, 5659,   4147.4,    1.4616,  34.6848,2,    156.0,2,  34.6846,2,   156.20,6,   146.52,6,    35.77,6,     0.00,6,    2.480,6,     -999,9,     -999,9,   2322.1,2,   2410.3,2,   7.5879,2,    25.00,     -999,9,     -999,9,     -999,9,     -999,9,   1.1276,2,  27.7835,2,   1.4615,2
49UP20210827_1,   P03,    60,  1,      7,     319,2,20210906,0546, 621, 24.2313, 156.8172, 5659,   4401.0,    1.4654,  34.6871,2,    159.4,2,  34.6866,2,   159.46,2,   145.14,2,    35.58,2,     0.00,2,    2.470,2,     -999,9,     -999,9,   2319.3,2,   2408.0,2,   7.5918,2,    25.00,     -999,9,     -999,9,     -999,9,     -999,9,   1.1029,2,  27.7870,2,   1.4655,2
49UP20210827_1,   P03,    60,  1,      6,     318,2,20210906,0546, 615, 24.2313, 156.8172, 5659,   4660.9,    1.4746,  34.6892,2,    162.5,2,  34.6887,2,   162.22,2,   143.33,2,    35.35,2,     0.00,2,    2.450,2,     -999,9,     -999,9,   2315.8,2,   2408.2,2,   7.5917,2,    25.00,     -999,9,     -999,9,     -999,9,     -999,9,   1.0817,2,  27.7901,2,   1.4748,2
49UP20210827_1,   P03,    60,  1,      5,     317,2,20210906,0546, 608, 24.2313, 156.8172, 5659,   4918.6,    1.4880,  34.6907,2,    165.5,2,  34.6910,2,   165.48,2,   141.32,2,    35.15,2,     0.00,2,    2.430,2,     -999,9,     -999,9,   2313.8,2,   2408.0,2,   7.5948,2,    25.00,     -999,9,     -999,9,     -999,9,     -999,9,   1.0640,2,  27.7926,2,   1.4880,2
49UP20210827_1,   P03,    60,  1,      4,     316,2,20210906,0546, 602, 24.2313, 156.8172, 5659,   5173.9,    1.5025,  34.6925,2,    168.4,2,  34.6923,2,   168.51,2,   139.17,2,    34.88,2,     0.00,2,    2.420,2,     -999,9,     -999,9,   2310.2,2,   2406.1,2,   7.6009,2,    25.00,     -999,9,     -999,9,     -999,9,     -999,9,   1.0468,2,  27.7951,2,   1.5027,2
49UP20210827_1,   P03,    60,  1,      3,     315,2,20210906,0546, 556, 24.2313, 156.8172, 5659,   5431.4,    1.5216,  34.6936,2,    170.7,2,  34.6933,2,   170.62,2,   137.50,2,    34.72,2,     0.00,2,    2.410,2,     -999,9,     -999,9,   2308.3,2,   2403.6,2,   7.6018,2,    25.00,     -999,9,     -999,9,     -999,9,     -999,9,   1.0330,2,  27.7969,2,   1.5215,2
49UP20210827_1,   P03,    60,  1,      2,     314,2,20210906,0546, 550, 24.2313, 156.8172, 5659,   5691.8,    1.5425,  34.6947,2,    173.0,2,  34.6946,2,   172.95,2,   135.80,2,    34.58,2,     0.00,2,    2.390,2,     -999,9,     -999,9,   2305.2,2,   2403.0,2,   7.6068,6,    25.00,     -999,9,     -999,9,     -999,9,     -999,9,   1.0196,2,  27.7987,2,   1.5425,2
49UP20210827_1,   P03,    60,  1,      1,     811,2,20210906,0546, 546, 24.2313, 156.8172, 5659,   5798.3,    1.5534,  34.6950,2,    173.7,2,  34.6947,2,   173.54,2,   135.20,2,    34.57,2,     0.00,2,    2.390,2,     -999,9,     -999,9,   2304.9,6,   2403.2,6,   7.6044,2,    25.00,     -999,9,     -999,9,     -999,9,     -999,9,   1.0161,2,  27.7992,2,   1.5534,2