BOTTLE,20230808CCHSIOADS
EXPOCODE,SECT_ID,STNNBR,CASTNO,SAMPNO,BTLNBR,BTLNBR_FLAG_W,DATE,TIME,BTL_TIME,LATITUDE,LONGITUDE,DEPTH,CTDPRS,CTDTMP,CTDSAL,CTDSAL_FLAG_W,CTDOXY,CTDOXY_FLAG_W,SALNTY,SALNTY_FLAG_W,OXYGEN,OXYGEN_FLAG_W,SILCAT,SILCAT_FLAG_W,NO2+NO3,NO2+NO3_FLAG_W,NITRIT,NITRIT_FLAG_W,PHSPHT,PHSPHT_FLAG_W,CFC-11,CFC-11_FLAG_W,CFC-12,CFC-12_FLAG_W,TCARBN,TCARBN_FLAG_W,ALKALI,ALKALI_FLAG_W,PH_TOT,PH_TOT_FLAG_W,PH_TMP,CFC113,CFC113_FLAG_W,SF6,SF6_FLAG_W,CHLORA,CHLORA_FLAG_W,PPHYTN,PPHYTN_FLAG_W,THETA,THETA_FLAG_W,SIG0,SIG0_FLAG_W,SBE35,SBE35_FLAG_W
,,,,,,,,,,,,METERS,DBAR,ITS-90,PSS-78,,UMOL/KG,,PSS78,,UMOL/KG,,UMOL/KG,,UMOL/KG,,UMOL/KG,,UMOL/KG,,PMOL/KG,,PMOL/KG,,UMOL/KG,,UMOL/KG,,,,DEG C,PMOL/KG,,FMOL/KG,,UG/KG,,UG/KG,,ITS-90,,KG/M^3,,ITS-90,
49UP20210719_2,   P03,    38,  1,      0,     BUC,2,20210812,0024, 114, 24.2543, 142.9413, 2501,      0.0,   28.7147,  34.3377,2,    198.2,2,     -999,9,   199.14,2,     0.97,2,     0.02,2,     0.00,2,    0.010,2,     -999,9,     -999,9,     -999,9,     -999,9,     -999,9,     -999,     -999,9,     -999,9,     -999,9,     -999,9,  28.7141,2,  21.6620,2,     -999,9
49UP20210719_2,   P03,    38,  1,     36,     757,2,20210812,0024, 144, 24.2543, 142.9413, 2501,     10.3,   28.6948,  34.3482,2,    198.1,2,     -999,9,   198.71,2,     0.95,2,     0.03,2,     0.00,2,    0.000,2,     -999,9,     -999,9,     -999,9,     -999,9,     -999,9,     -999,     -999,9,     -999,9,     -999,9,     -999,9,  28.6924,2,  21.6770,2,  28.6926,2
49UP20210719_2,   P03,    38,  1,     35,     756,2,20210812,0024, 143, 24.2543, 142.9413, 2501,     25.5,   28.6583,  34.5329,2,    198.0,2,     -999,9,   199.61,2,     0.99,2,     0.05,2,     0.00,2,    0.000,2,     -999,9,     -999,9,     -999,9,     -999,9,     -999,9,     -999,     -999,9,     -999,9,     -999,9,     -999,9,  28.6522,2,  21.8290,2,  28.6620,2
49UP20210719_2,   P03,    38,  1,     34,     843,2,20210812,0024, 139, 24.2543, 142.9413, 2501,     49.8,   24.1167,  34.8737,2,    223.8,2,     -999,9,   224.65,2,     1.21,2,     0.03,2,     0.00,2,    0.010,2,     -999,9,     -999,9,     -999,9,     -999,9,     -999,9,     -999,     -999,9,     -999,9,     -999,9,     -999,9,  24.1062,2,  23.5143,2,  24.1309,2
49UP20210719_2,   P03,    38,  1,     30,     839,2,20210812,0024, 137, 24.2543, 142.9413, 2501,     74.7,   21.5021,  34.8390,2,    226.1,2,     -999,9,   226.28,2,     1.42,2,     0.05,2,     0.00,2,    0.010,2,     -999,9,     -999,9,     -999,9,     -999,9,     -999,9,     -999,     -999,9,     -999,9,     -999,9,     -999,9,  21.4876,2,  24.2379,2,  21.5008,2
49UP20210719_2,   P03,    38,  1,     29,     838,2,20210812,0024, 136, 24.2543, 142.9413, 2501,    100.0,   19.9234,  34.8191,2,    219.4,2,     -999,9,   219.44,2,     1.74,2,     0.34,2,     0.09,2,    0.040,2,     -999,9,     -999,9,     -999,9,     -999,9,     -999,9,     -999,     -999,9,     -999,9,     -999,9,     -999,9,  19.9050,2,  24.6487,2,  19.9231,2
49UP20210719_2,   P03,    38,  1,     28,     755,2,20210812,0024, 135, 24.2543, 142.9413, 2501,    125.1,   19.2788,  34.8100,2,    210.5,2,     -999,9,   212.17,2,     2.06,2,     1.44,2,     0.09,2,    0.110,2,     -999,9,     -999,9,     -999,9,     -999,9,     -999,9,     -999,     -999,9,     -999,9,     -999,9,     -999,9,  19.2563,2,  24.8104,2,  19.2784,2
49UP20210719_2,   P03,    38,  1,     27,     754,2,20210812,0024, 134, 24.2543, 142.9413, 2501,    151.5,   18.6624,  34.7874,2,    210.5,2,     -999,9,   210.53,2,     2.47,2,     2.27,2,     0.02,2,    0.150,2,     -999,9,     -999,9,     -999,9,     -999,9,     -999,9,     -999,     -999,9,     -999,9,     -999,9,     -999,9,  18.6358,2,  24.9509,2,  18.6633,2
49UP20210719_2,   P03,    38,  1,     26,     835,2,20210812,0024, 132, 24.2543, 142.9413, 2501,    205.9,   17.8377,  34.7674,2,    212.4,2,     -999,9,   211.76,6,     3.11,6,     3.32,6,     0.01,6,    0.220,6,     -999,9,     -999,9,     -999,9,     -999,9,     -999,9,     -999,     -999,9,     -999,9,     -999,9,     -999,9,  17.8026,2,  25.1423,2,  17.8370,2
49UP20210719_2,   P03,    38,  1,     25,     834,2,20210812,0024, 130, 24.2543, 142.9413, 2501,    251.5,   17.2953,  34.7553,2,    208.0,2,     -999,9,   208.15,2,     4.14,2,     4.54,2,     0.00,2,    0.300,2,     -999,9,     -999,9,     -999,9,     -999,9,     -999,9,     -999,     -999,9,     -999,9,     -999,9,     -999,9,  17.2533,2,  25.2660,2,  17.2967,2
49UP20210719_2,   P03,    38,  1,     24,     753,2,20210812,0024, 129, 24.2543, 142.9413, 2501,    251.8,   17.3039,  34.7556,2,    208.2,2,     -999,9,   207.61,2,     4.11,2,     4.59,2,     0.00,2,    0.300,2,     -999,9,     -999,9,     -999,9,     -999,9,     -999,9,     -999,     -999,9,     -999,9,     -999,9,     -999,9,  17.2619,2,  25.2642,2,  17.3028,2
49UP20210719_2,   P03,    38,  1,     23,     832,2,20210812,0024, 127, 24.2543, 142.9413, 2501,    333.0,   15.8804,  34.6480,2,    193.7,2,     -999,9,   193.65,2,     7.82,2,     8.06,2,     0.00,2,    0.540,2,     -999,9,     -999,9,     -999,9,     -999,9,     -999,9,     -999,     -999,9,     -999,9,     -999,9,     -999,9,  15.8279,2,  25.5160,2,  15.8802,2
49UP20210719_2,   P03,    38,  1,     22,     831,2,20210812,0024, 124, 24.2543, 142.9413, 2501,    433.0,   12.7343,  34.3889,2,    187.0,2,     -999,9,   186.86,2,    16.01,2,    13.46,2,     0.00,2,    0.930,2,     -999,9,     -999,9,     -999,9,     -999,9,     -999,9,     -999,     -999,9,     -999,9,     -999,9,     -999,9,  12.6754,2,  25.9838,2,  12.7255,2
49UP20210719_2,   P03,    38,  1,     21,     830,2,20210812,0024, 121, 24.2543, 142.9413, 2501,    535.0,    9.9603,  34.2020,2,    163.9,2,     -999,9,   163.95,2,    28.85,2,    20.32,2,     0.00,2,    1.440,2,     -999,9,     -999,9,     -999,9,     -999,9,     -999,9,     -999,     -999,9,     -999,9,     -999,9,     -999,9,   9.8979,2,  26.3460,2,   9.9478,2
49UP20210719_2,   P03,    38,  1,     20,     829,2,20210812,0024, 118, 24.2543, 142.9413, 2501,    634.9,    7.5016,  34.1217,2,    123.5,2,     -999,9,   123.13,2,    51.32,2,    28.62,2,     0.00,2,    2.050,2,     -999,9,     -999,9,     -999,9,     -999,9,     -999,9,     -999,     -999,9,     -999,9,     -999,9,     -999,9,   7.4387,2,  26.6656,2,   7.5003,2
49UP20210719_2,   P03,    38,  1,     19,     828,2,20210812,0024, 115, 24.2543, 142.9413, 2501,    736.8,    5.9373,  34.1257,2,     93.5,2,     -999,9,    93.68,2,    72.43,2,    34.14,2,     0.00,2,    2.440,2,     -999,9,     -999,9,     -999,9,     -999,9,     -999,9,     -999,     -999,9,     -999,9,     -999,9,     -999,9,   5.8725,2,  26.8778,2,   5.9339,2
49UP20210719_2,   P03,    38,  1,     18,     752,2,20210812,0024, 113, 24.2543, 142.9413, 2501,    837.7,    4.7241,  34.2246,2,     62.2,2,     -999,9,    62.05,6,    96.32,6,    38.77,6,     0.00,6,    2.770,6,     -999,9,     -999,9,     -999,9,     -999,9,     -999,9,     -999,     -999,9,     -999,9,     -999,9,     -999,9,   4.6575,2,  27.0991,2,   4.7242,2
49UP20210719_2,   P03,    38,  1,     16,     328,2,20210812,0024, 110, 24.2543, 142.9413, 2501,    938.2,    4.0513,  34.3095,2,     51.6,2,     -999,9,    51.78,2,   112.35,2,    40.60,2,     0.00,2,    2.900,2,     -999,9,     -999,9,     -999,9,     -999,9,     -999,9,     -999,     -999,9,     -999,9,     -999,9,     -999,9,   3.9807,2,  27.2389,2,   4.0518,2
49UP20210719_2,   P03,    38,  1,     17,     751,2,20210812,0024, 110, 24.2543, 142.9413, 2501,    939.0,    4.0465,  34.3104,2,     51.7,2,     -999,9,    51.93,2,   112.50,2,    40.57,2,     0.00,2,    2.900,2,     -999,9,     -999,9,     -999,9,     -999,9,     -999,9,     -999,     -999,9,     -999,9,     -999,9,     -999,9,   3.9759,2,  27.2400,2,   4.0467,2
49UP20210719_2,   P03,    38,  1,     12,     324,2,20210812,0024, 104, 24.2543, 142.9413, 2501,   1081.0,    3.5096,  34.3859,2,     49.8,2,     -999,9,    49.99,2,   126.10,2,    41.41,2,     0.00,2,    2.950,2,     -999,9,     -999,9,     -999,9,     -999,9,     -999,9,     -999,     -999,9,     -999,9,     -999,9,     -999,9,   3.4315,2,  27.3544,2,   3.5079,2
49UP20210719_2,   P03,    38,  1,     11,     323,3,20210812,0024, 100, 24.2543, 142.9413, 2501,   1283.6,    2.8978,  34.4754,2,     59.4,2,     -999,9,    59.35,2,   138.89,2,    41.31,2,     0.00,2,    2.930,2,     -999,9,     -999,9,     -999,9,     -999,9,     -999,9,     -999,     -999,9,     -999,9,     -999,9,     -999,9,   2.8089,2,  27.4835,2,   2.8978,2
49UP20210719_2,   P03,    38,  1,     10,     322,2,20210812,0024,  55, 24.2543, 142.9413, 2501,   1487.3,    2.4987,  34.5349,2,     75.6,2,     -999,9,    75.66,2,   144.97,2,    40.55,2,     0.00,2,    2.860,2,     -999,9,     -999,9,     -999,9,     -999,9,     -999,9,     -999,     -999,9,     -999,9,     -999,9,     -999,9,   2.3977,2,  27.5667,2,   2.4987,2
49UP20210719_2,   P03,    38,  1,      9,     750,2,20210812,0024,  49, 24.2543, 142.9413, 2501,   1689.8,    2.2968,  34.5692,2,     89.0,2,     -999,9,    89.06,2,   146.46,2,    39.85,2,     0.00,2,    2.800,2,     -999,9,     -999,9,     -999,9,     -999,9,     -999,9,     -999,     -999,9,     -999,9,     -999,9,     -999,9,   2.1820,2,  27.6119,2,   2.2967,2
49UP20210719_2,   P03,    38,  1,      8,     320,2,20210812,0024,  44, 24.2543, 142.9413, 2501,   1891.4,    2.0770,  34.5920,2,     96.1,2,     -999,9,    95.87,6,   150.24,6,    39.52,6,     0.00,6,    2.770,6,     -999,9,     -999,9,     -999,9,     -999,9,     -999,9,     -999,     -999,9,     -999,9,     -999,9,     -999,9,   1.9486,2,  27.6488,2,   2.0769,2
49UP20210719_2,   P03,    38,  1,      6,     318,2,20210812,0024,  39, 24.2543, 142.9413, 2501,   2094.9,    1.9006,  34.6146,2,    106.4,2,     -999,9,   106.41,2,   151.63,2,    38.93,2,     0.00,2,    2.720,2,     -999,9,     -999,9,     -999,9,     -999,9,     -999,9,     -999,     -999,9,     -999,9,     -999,9,     -999,9,   1.7578,2,  27.6817,2,   1.9007,2
49UP20210719_2,   P03,    38,  1,      7,     319,2,20210812,0024,  39, 24.2543, 142.9413, 2501,   2095.5,    1.9011,  34.6145,2,    106.3,2,     -999,9,   106.54,2,   151.57,2,    38.95,2,     0.00,2,    2.720,2,     -999,9,     -999,9,     -999,9,     -999,9,     -999,9,     -999,     -999,9,     -999,9,     -999,9,     -999,9,   1.7582,2,  27.6816,2,   1.9009,2
49UP20210719_2,   P03,    38,  1,      3,     315,2,20210812,0024,  33, 24.2543, 142.9413, 2501,   2299.5,    1.7480,  34.6347,2,    117.4,2,     -999,9,   117.65,2,   151.88,2,    38.31,2,     0.00,2,    2.670,2,     -999,9,     -999,9,     -999,9,     -999,9,     -999,9,     -999,     -999,9,     -999,9,     -999,9,     -999,9,   1.5902,2,  27.7104,2,   1.7481,2
49UP20210719_2,   P03,    38,  1,      2,     314,2,20210812,0024,  28, 24.2543, 142.9413, 2501,   2502.6,    1.6775,  34.6454,2,    123.7,2,     -999,9,   123.94,2,   151.82,2,    37.90,2,     0.00,2,    2.640,2,     -999,9,     -999,9,     -999,9,     -999,9,     -999,9,     -999,     -999,9,     -999,9,     -999,9,     -999,9,   1.5030,2,  27.7253,2,   1.6774,2
49UP20210719_2,   P03,    38,  1,      1,     811,2,20210812,0024,  25, 24.2543, 142.9413, 2501,   2600.0,    1.6692,  34.6475,2,    125.0,2,     -999,9,   125.29,2,   152.05,2,    37.86,2,     0.00,2,    2.630,2,     -999,9,     -999,9,     -999,9,     -999,9,     -999,9,     -999,     -999,9,     -999,9,     -999,9,     -999,9,   1.4861,2,  27.7283,2,   1.6689,2