BOTTLE,20230808CCHSIOADS
EXPOCODE,SECT_ID,STNNBR,CASTNO,SAMPNO,BTLNBR,BTLNBR_FLAG_W,DATE,TIME,BTL_TIME,LATITUDE,LONGITUDE,DEPTH,CTDPRS,CTDTMP,CTDSAL,CTDSAL_FLAG_W,CTDOXY,CTDOXY_FLAG_W,SALNTY,SALNTY_FLAG_W,OXYGEN,OXYGEN_FLAG_W,SILCAT,SILCAT_FLAG_W,NO2+NO3,NO2+NO3_FLAG_W,NITRIT,NITRIT_FLAG_W,PHSPHT,PHSPHT_FLAG_W,CFC-11,CFC-11_FLAG_W,CFC-12,CFC-12_FLAG_W,TCARBN,TCARBN_FLAG_W,ALKALI,ALKALI_FLAG_W,PH_TOT,PH_TOT_FLAG_W,PH_TMP,CFC113,CFC113_FLAG_W,SF6,SF6_FLAG_W,CHLORA,CHLORA_FLAG_W,PPHYTN,PPHYTN_FLAG_W,THETA,THETA_FLAG_W,SIG0,SIG0_FLAG_W,SBE35,SBE35_FLAG_W
,,,,,,,,,,,,METERS,DBAR,ITS-90,PSS-78,,UMOL/KG,,PSS78,,UMOL/KG,,UMOL/KG,,UMOL/KG,,UMOL/KG,,UMOL/KG,,PMOL/KG,,PMOL/KG,,UMOL/KG,,UMOL/KG,,,,DEG C,PMOL/KG,,FMOL/KG,,UG/KG,,UG/KG,,ITS-90,,KG/M^3,,ITS-90,
49UP20210719_2,   P03,    17,  1,      0,     BUC,2,20210804,0540, 725, 23.7605, 132.5048, 3447,      0.0,   28.3880,  34.3759,2,    197.4,2,     -999,9,   197.70,2,     1.11,2,     0.05,2,     0.00,2,    0.030,2,     -999,9,     -999,9,     -999,9,     -999,9,     -999,9,     -999,     -999,9,     -999,9,     -999,9,     -999,9,  28.3873,2,  21.7985,2,     -999,9
49UP20210719_2,   P03,    17,  1,     36,     757,2,20210804,0540, 757, 23.7605, 132.5048, 3447,     10.1,   28.3677,  34.3964,2,    197.5,2,     -999,9,   197.97,2,     1.11,2,     0.07,2,     0.00,2,    0.010,2,     -999,9,     -999,9,     -999,9,     -999,9,     -999,9,     -999,     -999,9,     -999,9,     -999,9,     -999,9,  28.3653,2,  21.8211,2,  28.3690,2
49UP20210719_2,   P03,    17,  1,     35,     756,2,20210804,0540, 756, 23.7605, 132.5048, 3447,     24.6,   26.5328,  34.4012,2,    207.2,2,     -999,9,   206.71,2,     1.30,2,     0.04,2,     0.00,2,    0.010,2,     -999,9,     -999,9,     -999,9,     -999,9,     -999,9,     -999,     -999,9,     -999,9,     -999,9,     -999,9,  26.5272,2,  22.4166,2,  26.5325,2
49UP20210719_2,   P03,    17,  1,     34,     843,3,20210804,0540, 751, 23.7605, 132.5048, 3447,     48.5,   22.8387,  34.8330,2,    225.7,2,     -999,9,   225.47,2,     1.45,2,     0.02,2,     0.00,2,    0.010,2,     -999,9,     -999,9,     -999,9,     -999,9,     -999,9,     -999,     -999,9,     -999,9,     -999,9,     -999,9,  22.8289,2,  23.8561,2,  22.8517,2
49UP20210719_2,   P03,    17,  1,     30,     839,2,20210804,0540, 750, 23.7605, 132.5048, 3447,     73.3,   21.0274,  34.8460,2,    222.1,2,     -999,9,   222.45,2,     1.54,2,     0.02,2,     0.00,2,    0.010,2,     -999,9,     -999,9,     -999,9,     -999,9,     -999,9,     -999,     -999,9,     -999,9,     -999,9,     -999,9,  21.0134,2,  24.3730,2,  21.0301,2
49UP20210719_2,   P03,    17,  1,     29,     838,2,20210804,0540, 748, 23.7605, 132.5048, 3447,     99.8,   20.3985,  34.8415,2,    214.6,2,     -999,9,   214.49,2,     1.90,2,     0.12,2,     0.02,2,    0.030,2,     -999,9,     -999,9,     -999,9,     -999,9,     -999,9,     -999,     -999,9,     -999,9,     -999,9,     -999,9,  20.3798,2,  24.5402,2,  20.3970,2
49UP20210719_2,   P03,    17,  1,     28,     755,2,20210804,0540, 747, 23.7605, 132.5048, 3447,    124.9,   19.7627,  34.8338,2,    204.8,2,     -999,9,   205.06,2,     2.33,2,     1.68,2,     0.04,2,    0.120,2,     -999,9,     -999,9,     -999,9,     -999,9,     -999,9,     -999,     -999,9,     -999,9,     -999,9,     -999,9,  19.7399,2,  24.7032,2,  19.7606,2
49UP20210719_2,   P03,    17,  1,     27,     754,2,20210804,0540, 745, 23.7605, 132.5048, 3447,    149.5,   18.8488,  34.8037,2,    198.2,2,     -999,9,   198.73,2,     3.25,2,     3.43,2,     0.01,2,    0.230,2,     -999,9,     -999,9,     -999,9,     -999,9,     -999,9,     -999,     -999,9,     -999,9,     -999,9,     -999,9,  18.8223,2,  24.9162,2,  18.8477,2
49UP20210719_2,   P03,    17,  1,     26,     835,2,20210804,0540, 743, 23.7605, 132.5048, 3447,    202.1,   17.4829,  34.7559,2,    194.4,2,     -999,9,   194.73,2,     5.09,2,     5.58,2,     0.00,2,    0.370,2,     -999,9,     -999,9,     -999,9,     -999,9,     -999,9,     -999,     -999,9,     -999,9,     -999,9,     -999,9,  17.4490,2,  25.2194,2,  17.4866,2
49UP20210719_2,   P03,    17,  1,     25,     834,2,20210804,0540, 741, 23.7605, 132.5048, 3447,    250.5,   16.4460,  34.6930,2,    192.0,2,     -999,9,   192.50,2,     6.42,2,     7.19,2,     0.00,2,    0.480,2,     -999,9,     -999,9,     -999,9,     -999,9,     -999,9,     -999,     -999,9,     -999,9,     -999,9,     -999,9,  16.4057,2,  25.4181,2,  16.4483,2
49UP20210719_2,   P03,    17,  1,     24,     753,3,20210804,0540, 739, 23.7605, 132.5048, 3447,    281.9,   15.4184,  34.6078,2,    189.7,2,     -999,9,   190.15,6,     8.57,6,     8.89,6,     0.00,6,    0.600,6,     -999,9,     -999,9,     -999,9,     -999,9,     -999,9,     -999,     -999,9,     -999,9,     -999,9,     -999,9,  15.3749,2,  25.5867,2,  15.4155,2
49UP20210719_2,   P03,    17,  1,     22,     831,3,20210804,0540, 737, 23.7605, 132.5048, 3447,    371.2,   12.8029,  34.4093,2,    181.1,2,     -999,9,   181.47,2,    17.34,2,    14.00,2,     0.00,2,    0.960,2,     -999,9,     -999,9,     -999,9,     -999,9,     -999,9,     -999,     -999,9,     -999,9,     -999,9,     -999,9,  12.7523,2,  25.9845,2,  12.8044,2
49UP20210719_2,   P03,    17,  1,     23,     832,2,20210804,0540, 737, 23.7605, 132.5048, 3447,    371.8,   12.7766,  34.4070,2,    181.1,2,     -999,9,   181.31,2,    17.39,2,    14.01,2,     0.00,2,    0.970,2,     -999,9,     -999,9,     -999,9,     -999,9,     -999,9,     -999,     -999,9,     -999,9,     -999,9,     -999,9,  12.7260,2,  25.9878,2,  12.7822,2
49UP20210719_2,   P03,    17,  1,     21,     830,2,20210804,0540, 734, 23.7605, 132.5048, 3447,    472.6,   10.3346,  34.2478,2,    166.6,2,     -999,9,   166.29,2,    29.96,2,    19.65,2,     0.00,2,    1.380,2,     -999,9,     -999,9,     -999,9,     -999,9,     -999,9,     -999,     -999,9,     -999,9,     -999,9,     -999,9,  10.2783,2,  26.3169,2,  10.3361,2
49UP20210719_2,   P03,    17,  1,     20,     829,2,20210804,0540, 730, 23.7605, 132.5048, 3447,    573.4,    7.8087,  34.1364,2,    134.8,2,     -999,9,   134.28,2,    49.79,2,    26.97,2,     0.00,2,    1.920,2,     -999,9,     -999,9,     -999,9,     -999,9,     -999,9,     -999,     -999,9,     -999,9,     -999,9,     -999,9,   7.7509,2,  26.6322,2,   7.8042,2
49UP20210719_2,   P03,    17,  1,     19,     828,3,20210804,0540, 727, 23.7605, 132.5048, 3447,    674.7,    5.9265,  34.1490,2,     94.6,2,     -999,9,    94.62,2,    74.39,2,    33.88,2,     0.00,2,    2.430,2,     -999,9,     -999,9,     -999,9,     -999,9,     -999,9,     -999,     -999,9,     -999,9,     -999,9,     -999,9,   5.8675,2,  26.8968,2,   5.9263,2
49UP20210719_2,   P03,    17,  1,     18,     752,2,20210804,0540, 724, 23.7605, 132.5048, 3447,    775.5,    4.8916,  34.2403,2,     70.8,2,     -999,9,    70.68,2,    94.82,2,    37.67,2,     0.00,2,    2.700,2,     -999,9,     -999,9,     -999,9,     -999,9,     -999,9,     -999,     -999,9,     -999,9,     -999,9,     -999,9,   4.8292,2,  27.0924,2,   4.8933,2
49UP20210719_2,   P03,    17,  1,     17,     751,2,20210804,0540, 721, 23.7605, 132.5048, 3447,    876.7,    4.0962,  34.3071,2,     57.5,2,     -999,9,    56.88,2,   111.66,2,    40.01,2,     0.00,2,    2.860,2,     -999,9,     -999,9,     -999,9,     -999,9,     -999,9,     -999,     -999,9,     -999,9,     -999,9,     -999,9,   4.0303,2,  27.2318,2,   4.0973,2
49UP20210719_2,   P03,    17,  1,     16,     328,2,20210804,0540, 718, 23.7605, 132.5048, 3447,    977.2,    3.6703,  34.3675,2,     56.6,2,     -999,9,    57.12,6,   121.05,6,    40.52,6,     0.00,6,    2.890,6,     -999,9,     -999,9,     -999,9,     -999,9,     -999,9,     -999,     -999,9,     -999,9,     -999,9,     -999,9,   3.5992,2,  27.3234,2,   3.6725,2
49UP20210719_2,   P03,    17,  1,     14,     326,2,20210804,0540, 714, 23.7605, 132.5048, 3447,   1139.8,    3.0621,  34.4574,2,     63.9,2,     -999,9,    64.29,2,   133.27,2,    40.64,2,     0.00,2,    2.890,2,     -999,9,     -999,9,     -999,9,     -999,9,     -999,9,     -999,     -999,9,     -999,9,     -999,9,     -999,9,   2.9830,2,  27.4535,2,   3.0622,2
49UP20210719_2,   P03,    17,  1,     15,     822,2,20210804,0540, 714, 23.7605, 132.5048, 3447,   1140.1,    3.0623,  34.4574,2,     63.9,2,     -999,9,    63.61,2,   133.15,2,    40.76,2,     0.00,2,    2.900,2,     -999,9,     -999,9,     -999,9,     -999,9,     -999,9,     -999,     -999,9,     -999,9,     -999,9,     -999,9,   2.9831,2,  27.4535,2,   3.0622,2
49UP20210719_2,   P03,    17,  1,     13,     325,3,20210804,0540, 645, 23.7605, 132.5048, 3447,   1341.8,    2.6725,  34.5179,2,     77.8,2,     -999,9,    77.63,2,   139.33,2,    40.09,2,     0.00,2,    2.840,2,     -999,9,     -999,9,     -999,9,     -999,9,     -999,9,     -999,     -999,9,     -999,9,     -999,9,     -999,9,   2.5812,2,  27.5374,2,   2.6723,2
49UP20210719_2,   P03,    17,  1,     12,     324,2,20210804,0540, 640, 23.7605, 132.5048, 3447,   1546.0,    2.3630,  34.5550,2,     88.8,2,     -999,9,    88.99,2,   143.43,2,    39.72,2,     0.00,2,    2.800,2,     -999,9,     -999,9,     -999,9,     -999,9,     -999,9,     -999,     -999,9,     -999,9,     -999,9,     -999,9,   2.2590,2,  27.5943,2,   2.3630,2
49UP20210719_2,   P03,    17,  1,     11,     323,2,20210804,0540, 623, 23.7605, 132.5048, 3447,   1746.5,    2.0901,  34.5930,2,    104.7,2,     -999,9,   104.69,2,   144.35,2,    38.78,2,     0.00,2,    2.730,2,     -999,9,     -999,9,     -999,9,     -999,9,     -999,9,     -999,     -999,9,     -999,9,     -999,9,     -999,9,   1.9733,2,  27.6477,2,   2.0904,2
49UP20210719_2,   P03,    17,  1,     10,     322,2,20210804,0540, 619, 23.7605, 132.5048, 3447,   1950.6,    1.8869,  34.6213,2,    118.3,2,     -999,9,   118.20,2,   144.52,2,    37.98,2,     0.00,2,    2.660,2,     -999,9,     -999,9,     -999,9,     -999,9,     -999,9,     -999,     -999,9,     -999,9,     -999,9,     -999,9,   1.7563,2,  27.6872,2,   1.8868,2
49UP20210719_2,   P03,    17,  1,      9,     750,2,20210804,0540, 614, 23.7605, 132.5048, 3447,   2154.9,    1.7959,  34.6342,2,    125.2,2,     -999,9,   124.91,2,   144.33,2,    37.55,2,     0.00,2,    2.630,2,     -999,9,     -999,9,     -999,9,     -999,9,     -999,9,     -999,     -999,9,     -999,9,     -999,9,     -999,9,   1.6497,2,  27.7056,2,   1.7955,2
49UP20210719_2,   P03,    17,  1,      8,     320,2,20210804,0540, 608, 23.7605, 132.5048, 3447,   2358.4,    1.7429,  34.6427,2,    129.9,2,     -999,9,   129.93,2,   144.10,2,    37.31,2,     0.00,2,    2.610,2,     -999,9,     -999,9,     -999,9,     -999,9,     -999,9,     -999,     -999,9,     -999,9,     -999,9,     -999,9,   1.5800,2,  27.7176,2,   1.7428,2
49UP20210719_2,   P03,    17,  1,      7,     319,2,20210804,0540, 603, 23.7605, 132.5048, 3447,   2560.5,    1.6849,  34.6514,2,    134.9,2,     -999,9,   134.76,6,   143.89,6,    37.13,6,     0.00,6,    2.580,6,     -999,9,     -999,9,     -999,9,     -999,9,     -999,9,     -999,     -999,9,     -999,9,     -999,9,     -999,9,   1.5050,2,  27.7301,2,   1.6854,2
49UP20210719_2,   P03,    17,  1,      5,     317,2,20210804,0540, 558, 23.7605, 132.5048, 3447,   2768.7,    1.6100,  34.6613,2,    140.8,2,     -999,9,   140.61,2,   143.20,2,    36.73,2,     0.00,2,    2.560,2,     -999,9,     -999,9,     -999,9,     -999,9,     -999,9,     -999,     -999,9,     -999,9,     -999,9,     -999,9,   1.4126,2,  27.7447,2,   1.6099,2
49UP20210719_2,   P03,    17,  1,      6,     318,2,20210804,0540, 558, 23.7605, 132.5048, 3447,   2769.8,    1.6104,  34.6612,2,    140.8,2,     -999,9,   140.52,2,   143.52,2,    36.69,2,     0.00,2,    2.550,2,     -999,9,     -999,9,     -999,9,     -999,9,     -999,9,     -999,     -999,9,     -999,9,     -999,9,     -999,9,   1.4130,2,  27.7445,2,   1.6103,2
49UP20210719_2,   P03,    17,  1,      4,     316,3,20210804,0540, 553, 23.7605, 132.5048, 3447,   2971.7,    1.5701,  34.6672,2,    144.7,2,     -999,9,   144.64,2,   143.23,2,    36.45,2,     0.00,2,    2.530,2,     -999,9,     -999,9,     -999,9,     -999,9,     -999,9,     -999,     -999,9,     -999,9,     -999,9,     -999,9,   1.3545,2,  27.7536,2,   1.5700,2
49UP20210719_2,   P03,    17,  1,      3,     315,2,20210804,0540, 547, 23.7605, 132.5048, 3447,   3214.8,    1.5609,  34.6705,2,    147.0,2,     -999,9,   147.02,2,   142.90,2,    36.36,2,     0.00,2,    2.520,2,     -999,9,     -999,9,     -999,9,     -999,9,     -999,9,     -999,     -999,9,     -999,9,     -999,9,     -999,9,   1.3219,2,  27.7585,2,   1.5608,2
49UP20210719_2,   P03,    17,  1,      2,     314,2,20210804,0540, 541, 23.7605, 132.5048, 3447,   3469.4,    1.5442,  34.6745,2,    150.1,2,     -999,9,   150.92,2,   142.81,2,    36.10,2,     0.00,2,    2.510,2,     -999,9,     -999,9,     -999,9,     -999,9,     -999,9,     -999,     -999,9,     -999,9,     -999,9,     -999,9,   1.2802,2,  27.7646,2,   1.5440,2