BOTTLE,20230808CCHSIOADS
EXPOCODE,SECT_ID,STNNBR,CASTNO,SAMPNO,BTLNBR,BTLNBR_FLAG_W,DATE,TIME,BTL_TIME,LATITUDE,LONGITUDE,DEPTH,CTDPRS,CTDTMP,CTDSAL,CTDSAL_FLAG_W,CTDOXY,CTDOXY_FLAG_W,SALNTY,SALNTY_FLAG_W,OXYGEN,OXYGEN_FLAG_W,SILCAT,SILCAT_FLAG_W,NO2+NO3,NO2+NO3_FLAG_W,NITRIT,NITRIT_FLAG_W,PHSPHT,PHSPHT_FLAG_W,CFC-11,CFC-11_FLAG_W,CFC-12,CFC-12_FLAG_W,TCARBN,TCARBN_FLAG_W,ALKALI,ALKALI_FLAG_W,PH_TOT,PH_TOT_FLAG_W,PH_TMP,CFC113,CFC113_FLAG_W,SF6,SF6_FLAG_W,CHLORA,CHLORA_FLAG_W,PPHYTN,PPHYTN_FLAG_W,THETA,THETA_FLAG_W,SIG0,SIG0_FLAG_W,SBE35,SBE35_FLAG_W
,,,,,,,,,,,,METERS,DBAR,ITS-90,PSS-78,,UMOL/KG,,PSS78,,UMOL/KG,,UMOL/KG,,UMOL/KG,,UMOL/KG,,UMOL/KG,,PMOL/KG,,PMOL/KG,,UMOL/KG,,UMOL/KG,,,,DEG C,PMOL/KG,,FMOL/KG,,UG/KG,,UG/KG,,ITS-90,,KG/M^3,,ITS-90,
49UP20210920_1,   P03,    83,  1,      0,     BUC,2,20211002,1645,1840, 24.2698, 174.3903, 5681,      0.0,   28.3083,  35.2045,2,    199.8,2,  35.2201,2,   199.06,2,     0.97,2,     0.00,2,     0.00,2,    0.030,2,     -999,9,     -999,9,   1984.0,2,   2309.8,2,   8.0928,2,    25.00,     -999,9,     -999,9,     0.06,2,     0.02,2,  28.3077,2,  22.4474,2,     -999,9
49UP20210920_1,   P03,    83,  1,     36,     757,2,20211002,1645,1914, 24.2698, 174.3903, 5681,     10.4,   28.3239,  35.2040,2,    199.6,2,  35.2035,2,   199.48,2,     1.05,2,     0.00,2,     0.00,2,    0.010,2,    1.092,2,    0.820,2,   1984.2,2,   2311.7,2,   8.0965,2,    25.00,    0.071,2,    1.526,2,     0.06,2,     0.02,2,  28.3215,2,  22.4425,2,  28.3242,2
49UP20210920_1,   P03,    83,  1,     35,     756,2,20211002,1645,1912, 24.2698, 174.3903, 5681,     51.3,   27.4157,  35.2753,2,    212.9,2,  35.2743,2,   212.29,2,     1.21,2,     0.00,2,     0.00,2,    0.000,2,    1.217,2,    0.876,2,   1990.2,2,   2315.7,2,   8.0866,2,    25.00,    0.077,2,    1.620,2,     0.08,2,     0.03,2,  27.4038,2,  22.7954,2,  27.4161,2
49UP20210920_1,   P03,    83,  1,     34,     843,2,20211002,1645,1908, 24.2698, 174.3903, 5681,    102.2,   22.6756,  35.1862,2,    217.0,2,  35.2019,4,   216.63,2,     1.67,2,     0.00,2,     0.00,2,    0.020,2,    1.549,2,    1.027,2,   2020.9,2,   2310.3,2,   8.0340,2,    25.00,    0.089,2,    1.790,2,     0.20,2,     0.21,2,  22.6549,2,  24.1739,2,  22.7186,2
49UP20210920_1,   P03,    83,  1,     33,     842,2,20211002,1645,1906, 24.2698, 174.3903, 5681,    126.5,   20.5883,  35.0376,2,    206.4,2,  35.0425,2,   206.79,6,     2.19,6,     0.13,6,     0.06,6,    0.080,6,     -999,9,     -999,9,   2043.6,2,   2300.3,2,   7.9821,2,    25.00,     -999,9,     -999,9,     0.13,2,     0.35,2,  20.5644,2,  24.6403,2,  20.5914,2
49UP20210920_1,   P03,    83,  1,     32,     841,2,20211002,1645,1904, 24.2698, 174.3903, 5681,    149.5,   19.2397,  34.9153,2,    191.7,2,  34.9136,2,   192.94,2,     3.16,2,     2.44,2,     0.05,2,    0.240,2,     -999,9,     -999,9,   2058.2,2,   2290.7,2,   7.9358,2,    25.00,     -999,9,     -999,9,     0.08,2,     0.26,2,  19.2128,2,  24.9019,2,  19.2346,2
49UP20210920_1,   P03,    83,  1,     31,     840,2,20211002,1645,1902, 24.2698, 174.3903, 5681,    203.7,   16.9769,  34.7193,2,    199.3,2,  34.7205,2,   199.69,2,     4.69,2,     4.92,2,     0.01,2,    0.360,2,    2.081,2,    1.225,2,   2061.5,2,   2277.3,2,   7.9114,2,    25.00,    0.010,2,    1.753,2,     0.01,2,     0.03,2,  16.9434,2,  25.3122,2,  16.9795,2
49UP20210920_1,   P03,    83,  1,     30,     839,2,20211002,1645,1900, 24.2698, 174.3903, 5681,    252.1,   15.5078,  34.5893,2,    198.2,2,  34.5890,2,   198.39,2,     7.04,2,     7.32,2,     0.00,2,    0.510,2,     -999,9,     -999,9,   2076.8,2,   2273.6,2,   7.8750,2,    25.00,     -999,9,     -999,9,     -999,9,     -999,9,  15.4688,2,  25.5516,2,  15.5067,2
49UP20210920_1,   P03,    83,  1,     29,     838,2,20211002,1645,1858, 24.2698, 174.3903, 5681,    302.4,   13.7249,  34.4311,2,    198.5,2,  34.4421,4,   197.69,2,    10.10,2,     9.85,2,     0.00,2,    0.700,2,    2.459,2,    1.331,2,   2087.5,2,   2267.6,2,   7.8290,3,    25.00,    0.015,2,    1.656,2,     -999,9,     -999,9,  13.6818,2,  25.8136,2,  13.7516,2
49UP20210920_1,   P03,    83,  1,     28,     755,2,20211002,1645,1855, 24.2698, 174.3903, 5681,    405.5,   10.7288,  34.2093,2,    174.5,2,  34.2096,2,   174.89,2,    21.30,2,    17.45,2,     0.00,2,    1.260,2,     -999,9,     -999,9,   2135.8,2,   2260.4,2,   7.7122,2,    25.00,     -999,9,     -999,9,     -999,9,     -999,9,  10.6796,2,  26.2168,2,  10.7355,2
49UP20210920_1,   P03,    83,  1,     27,     754,3,20211002,1645,1852, 24.2698, 174.3903, 5681,    504.1,    8.4219,  34.0919,2,    148.8,2,  34.0928,2,   148.52,2,    36.91,2,    24.46,2,     0.00,2,    1.740,2,    2.540,2,    1.217,2,   2182.0,2,   2270.0,2,   7.6080,2,    25.00,    0.046,2,    0.955,2,     -999,9,     -999,9,   8.3690,2,  26.5052,2,   8.4235,2
49UP20210920_1,   P03,    83,  1,     26,     835,2,20211002,1645,1849, 24.2698, 174.3903, 5681,    604.8,    6.7495,  34.0868,2,    103.0,2,  34.0868,2,   102.74,2,    57.67,2,    31.81,2,     0.00,2,    2.280,2,     -999,9,     -999,9,   2235.9,2,   2285.8,2,   7.4924,6,    25.00,     -999,9,     -999,9,     -999,9,     -999,9,   6.6932,2,  26.7410,2,   6.7385,2
49UP20210920_1,   P03,    83,  1,     25,     834,2,20211002,1645,1846, 24.2698, 174.3903, 5681,    705.2,    5.3203,  34.1501,2,     63.7,2,  34.1494,6,    63.85,2,    82.42,2,    37.80,2,     0.00,2,    2.720,2,     -999,9,     -999,9,   2289.2,6,   2314.0,6,   7.4032,2,    25.00,     -999,9,     -999,9,     -999,9,     -999,9,   5.2618,2,  26.9710,2,   5.3230,2
49UP20210920_1,   P03,    83,  1,     24,     753,2,20211002,1645,1843, 24.2698, 174.3903, 5681,    806.2,    4.4327,  34.2502,2,     42.1,2,  34.2499,2,    42.24,6,   102.53,6,    41.06,6,     0.00,6,    2.960,6,    0.329,2,    0.152,2,   2325.8,2,   2334.6,2,   7.3685,2,    25.00,    0.000,2,    0.084,2,     -999,9,     -999,9,   4.3705,2,  27.1507,2,   4.4327,2
49UP20210920_1,   P03,    83,  1,     23,     832,2,20211002,1645,1840, 24.2698, 174.3903, 5681,    907.3,    4.0630,  34.3182,2,     37.0,2,  34.3175,2,    36.82,2,   112.02,2,    42.02,2,     0.00,2,    3.020,2,     -999,9,     -999,9,   2340.4,2,   2348.9,2,   7.3667,2,    25.00,     -999,9,     -999,9,     -999,9,     -999,9,   3.9949,2,  27.2443,2,   4.0635,2
49UP20210920_1,   P03,    83,  1,     22,     831,2,20211002,1645,1837, 24.2698, 174.3903, 5681,   1009.7,    3.7126,  34.3915,2,     38.7,2,  34.3915,2,    38.97,2,   120.78,2,    42.33,2,     0.00,2,    3.030,2,    0.100,2,    0.021,2,   2351.0,2,   2361.8,2,   7.3720,2,    25.00,    0.000,2,    0.038,2,     -999,9,     -999,9,   3.6385,2,  27.3387,2,   3.7110,2
49UP20210920_1,   P03,    83,  1,     21,     830,2,20211002,1645,1832, 24.2698, 174.3903, 5681,   1210.6,    3.2181,  34.4946,2,     56.8,2,  34.4932,2,    56.96,2,   130.22,2,    41.52,2,     0.00,2,    2.960,2,     -999,9,     -999,9,   2352.9,2,   2381.8,2,   7.4115,2,    25.00,     -999,9,     -999,9,     -999,9,     -999,9,   3.1319,2,  27.4694,2,   3.2168,2
49UP20210920_1,   P03,    83,  1,     20,     829,2,20211002,1645,1827, 24.2698, 174.3903, 5681,   1415.2,    2.8171,  34.5504,2,     74.0,2,  34.5503,2,    74.17,2,   137.10,2,    40.63,2,     0.00,2,    2.890,2,    0.000,2,    0.000,2,   2351.6,2,   2391.1,2,   7.4469,2,    25.00,    0.000,2,   -0.020,2,     -999,9,     -999,9,   2.7183,2,  27.5515,2,   2.8157,2
49UP20210920_1,   P03,    83,  1,     19,     828,2,20211002,1645,1822, 24.2698, 174.3903, 5681,   1616.9,    2.4686,  34.5778,2,     82.3,2,  34.5773,2,    82.40,2,   144.16,2,    40.37,2,     0.00,2,    2.850,2,     -999,9,     -999,9,   2353.0,2,   2400.7,2,   7.4644,2,    25.00,     -999,9,     -999,9,     -999,9,     -999,9,   2.3575,2,  27.6044,2,   2.4683,2
49UP20210920_1,   P03,    83,  1,     18,     752,2,20211002,1645,1817, 24.2698, 174.3903, 5681,   1820.3,    2.1828,  34.6019,2,     91.1,2,  34.6012,2,    90.93,2,   149.92,2,    39.96,2,     0.00,2,    2.810,2,     -999,9,     -999,9,   2356.4,2,   2410.1,2,   7.4795,2,    25.00,     -999,9,     -999,9,     -999,9,     -999,9,   2.0588,2,  27.6481,2,   2.1836,2
49UP20210920_1,   P03,    83,  1,     17,     751,2,20211002,1645,1812, 24.2698, 174.3903, 5681,   2024.9,    1.9925,  34.6195,2,     99.5,2,  34.6190,2,    99.95,2,   153.24,2,    39.48,2,     0.00,2,    2.770,2,    0.000,2,    0.000,2,   2351.9,2,   2410.6,2,   7.4915,2,    25.00,    0.000,2,   -0.004,2,     -999,9,     -999,9,   1.8541,2,  27.6782,2,   1.9926,2
49UP20210920_1,   P03,    83,  1,     16,     328,2,20211002,1645,1806, 24.2698, 174.3903, 5681,   2226.3,    1.8288,  34.6355,2,    108.9,2,  34.6353,6,   108.91,2,   155.11,2,    38.90,2,     0.00,2,    2.730,2,     -999,9,     -999,9,   2353.2,2,   2413.6,2,   7.5101,2,    25.00,     -999,9,     -999,9,     -999,9,     -999,9,   1.6759,2,  27.7046,2,   1.8287,2
49UP20210920_1,   P03,    83,  1,     15,     822,2,20211002,1645,1801, 24.2698, 174.3903, 5681,   2431.1,    1.7310,  34.6454,2,    115.5,2,  34.6453,2,   115.22,6,   155.94,6,    38.55,6,     0.00,6,    2.690,6,     -999,9,     -999,9,   2352.4,2,   2412.9,2,   7.5197,2,    25.00,     -999,9,     -999,9,     -999,9,     -999,9,   1.5619,2,  27.7211,2,   1.7311,2
49UP20210920_1,   P03,    83,  1,     14,     326,2,20211002,1645,1756, 24.2698, 174.3903, 5681,   2634.3,    1.6553,  34.6534,2,    121.4,2,  34.6531,2,   121.57,2,   156.54,2,    38.18,2,     0.00,2,    2.660,2,     -999,9,     -999,9,   2347.2,2,   2414.4,2,   7.5287,2,    25.00,     -999,9,     -999,9,     -999,9,     -999,9,   1.4693,2,  27.7342,2,   1.6553,2
49UP20210920_1,   P03,    83,  1,     13,     325,2,20211002,1645,1751, 24.2698, 174.3903, 5681,   2839.2,    1.6054,  34.6601,2,    127.5,2,  34.6600,2,   127.53,2,   155.50,2,    37.73,2,     0.00,2,    2.630,2,     -999,9,     -999,9,   2340.5,2,   2418.2,2,   7.5443,2,    25.00,     -999,9,     -999,9,     -999,9,     -999,9,   1.4015,2,  27.7445,2,   1.6054,2
49UP20210920_1,   P03,    83,  1,     12,     324,2,20211002,1645,1746, 24.2698, 174.3903, 5681,   3041.0,    1.5656,  34.6661,2,    133.3,2,  34.6660,2,   133.41,2,   154.31,2,    37.39,2,     0.00,2,    2.600,2,     -999,9,     -999,9,   2337.3,2,   2417.3,2,   7.5526,2,    25.00,     -999,9,     -999,9,     -999,9,     -999,9,   1.3434,2,  27.7535,2,   1.5657,2
49UP20210920_1,   P03,    83,  1,     11,     323,2,20211002,1645,1741, 24.2698, 174.3903, 5681,   3295.8,    1.5253,  34.6720,2,    139.8,2,  34.6718,2,   139.61,2,   152.75,2,    36.96,2,     0.00,2,    2.560,2,     -999,9,     -999,9,   2335.5,2,   2418.8,2,   7.5619,6,    25.00,     -999,9,     -999,9,     -999,9,     -999,9,   1.2792,2,  27.7627,2,   1.5252,2
49UP20210920_1,   P03,    83,  1,     10,     322,2,20211002,1645,1735, 24.2698, 174.3903, 5681,   3552.6,    1.5003,  34.6765,2,    145.0,2,  34.6771,2,   144.86,2,   151.16,2,    36.60,2,     0.00,2,    2.540,2,     -999,9,     -999,9,   2331.5,6,   2418.7,6,   7.5706,2,    25.00,     -999,9,     -999,9,     -999,9,     -999,9,   1.2288,2,  27.7698,2,   1.5003,2
49UP20210920_1,   P03,    83,  1,      9,     750,2,20211002,1645,1729, 24.2698, 174.3903, 5681,   3808.2,    1.4778,  34.6804,2,    149.9,2,  34.6803,2,   149.78,2,   149.66,2,    36.27,2,     0.00,2,    2.510,2,    0.000,2,    0.000,2,   2329.5,2,   2414.2,2,   7.5794,6,    25.00,    0.002,2,    0.038,2,     -999,9,     -999,9,   1.1802,2,  27.7764,2,   1.4777,2
49UP20210920_1,   P03,    83,  1,      8,     320,2,20211002,1645,1724, 24.2698, 174.3903, 5681,   4063.0,    1.4571,  34.6844,2,    155.7,2,  34.6842,2,   155.77,2,   147.22,2,    35.86,2,     0.00,2,    2.480,2,    0.000,2,    0.000,2,   2322.3,6,   2412.1,6,   7.5867,2,    25.00,    0.011,2,   -0.032,2,     -999,9,     -999,9,   1.1325,2,  27.7828,2,   1.4570,2
49UP20210920_1,   P03,    83,  1,      7,     319,2,20211002,1645,1718, 24.2698, 174.3903, 5681,   4319.7,    1.4412,  34.6883,2,    162.2,2,  34.6884,6,   162.24,2,   143.41,2,    35.38,2,     0.00,2,    2.440,2,     -999,9,     -999,9,   2318.3,2,   2406.7,2,   7.5934,2,    25.00,     -999,9,     -999,9,     -999,9,     -999,9,   1.0886,2,  27.7890,2,   1.4411,2
49UP20210920_1,   P03,    83,  1,      6,     318,2,20211002,1645,1713, 24.2698, 174.3903, 5681,   4576.0,    1.4352,  34.6913,2,    166.9,2,  34.6913,2,   166.89,6,   140.67,6,    35.04,6,     0.00,6,    2.420,6,     -999,9,     -999,9,   2313.0,2,   2409.5,2,   7.5956,2,    25.00,     -999,9,     -999,9,     -999,9,     -999,9,   1.0535,2,  27.7937,2,   1.4352,2
49UP20210920_1,   P03,    83,  1,      5,     317,2,20211002,1645,1707, 24.2698, 174.3903, 5681,   4834.7,    1.4326,  34.6938,2,    171.6,2,  34.6938,2,   171.72,2,   137.57,2,    34.69,2,     0.00,2,    2.390,2,    0.000,2,    0.000,2,   2307.0,2,   2403.8,2,   7.6030,2,    25.00,    0.011,2,    0.013,2,     -999,9,     -999,9,   1.0205,2,  27.7980,2,   1.4324,2
49UP20210920_1,   P03,    83,  1,      4,     316,2,20211002,1645,1702, 24.2698, 174.3903, 5681,   5088.2,    1.4387,  34.6957,2,    174.8,2,  34.6960,2,   174.81,2,   135.83,2,    34.45,2,     0.00,2,    2.380,2,    0.000,2,    0.000,2,   2304.1,2,   2400.2,2,   7.6044,2,    25.00,    0.009,2,    0.002,2,     -999,9,     -999,9,   0.9957,2,  27.8011,2,   1.4386,2
49UP20210920_1,   P03,    83,  1,      3,     315,2,20211002,1645,1656, 24.2698, 174.3903, 5681,   5346.9,    1.4523,  34.6970,2,    177.4,2,  34.6971,2,   177.38,2,   134.31,2,    34.23,2,     0.00,2,    2.360,2,    0.011,2,    0.003,2,   2299.9,2,   2394.5,2,   7.6100,2,    25.00,   -0.000,2,    0.018,2,     -999,9,     -999,9,   0.9768,2,  27.8034,2,   1.4522,2
49UP20210920_1,   P03,    83,  1,      2,     314,2,20211002,1645,1651, 24.2698, 174.3903, 5681,   5605.5,    1.4711,  34.6980,2,    179.2,2,  34.6976,2,   179.24,2,   133.07,2,    34.09,2,     0.00,2,    2.350,2,    0.004,2,    0.000,2,   2297.0,2,   2395.1,2,   7.6113,2,    25.00,    0.000,2,    0.001,2,     -999,9,     -999,9,   0.9620,2,  27.8052,2,   1.4711,2
49UP20210920_1,   P03,    83,  1,      1,     811,2,20211002,1645,1646, 24.2698, 174.3903, 5681,   5828.4,    1.4918,  34.6988,2,    180.5,2,  34.6979,4,   180.53,2,   132.44,2,    34.01,2,     0.00,2,    2.340,2,    0.003,2,    0.000,2,   2296.1,2,   2395.0,2,   7.6100,2,    25.00,    0.000,2,    0.010,2,     -999,9,     -999,9,   0.9529,2,  27.8065,2,   1.4918,2