BOTTLE,20230808CCHSIOADS
EXPOCODE,SECT_ID,STNNBR,CASTNO,SAMPNO,BTLNBR,BTLNBR_FLAG_W,DATE,TIME,BTL_TIME,LATITUDE,LONGITUDE,DEPTH,CTDPRS,CTDTMP,CTDSAL,CTDSAL_FLAG_W,CTDOXY,CTDOXY_FLAG_W,SALNTY,SALNTY_FLAG_W,OXYGEN,OXYGEN_FLAG_W,SILCAT,SILCAT_FLAG_W,NO2+NO3,NO2+NO3_FLAG_W,NITRIT,NITRIT_FLAG_W,PHSPHT,PHSPHT_FLAG_W,CFC-11,CFC-11_FLAG_W,CFC-12,CFC-12_FLAG_W,TCARBN,TCARBN_FLAG_W,ALKALI,ALKALI_FLAG_W,PH_TOT,PH_TOT_FLAG_W,PH_TMP,CFC113,CFC113_FLAG_W,SF6,SF6_FLAG_W,CHLORA,CHLORA_FLAG_W,PPHYTN,PPHYTN_FLAG_W,THETA,THETA_FLAG_W,SIG0,SIG0_FLAG_W,SBE35,SBE35_FLAG_W
,,,,,,,,,,,,METERS,DBAR,ITS-90,PSS-78,,UMOL/KG,,PSS78,,UMOL/KG,,UMOL/KG,,UMOL/KG,,UMOL/KG,,UMOL/KG,,PMOL/KG,,PMOL/KG,,UMOL/KG,,UMOL/KG,,,,DEG C,PMOL/KG,,FMOL/KG,,UG/KG,,UG/KG,,ITS-90,,KG/M^3,,ITS-90,
49UP20210719_2,   P03,    41,  1,      0,     BUC,2,20210812,2226,   6, 24.2533, 144.2518, 4861,      0.0,   28.9576,  34.5003,2,    197.1,2,     -999,9,   198.06,2,     0.82,2,     0.06,2,     0.00,2,    0.020,2,     -999,9,     -999,9,     -999,9,     -999,9,     -999,9,     -999,     -999,9,     -999,9,     -999,9,     -999,9,  28.9570,2,  21.7033,2,     -999,9
49UP20210719_2,   P03,    41,  1,     36,     757,2,20210812,2226,  34, 24.2533, 144.2518, 4861,      9.7,   28.9401,  34.5000,2,    197.1,2,     -999,9,   198.10,2,     0.76,2,     0.04,2,     0.00,2,    0.000,2,     -999,9,     -999,9,     -999,9,     -999,9,     -999,9,     -999,     -999,9,     -999,9,     -999,9,     -999,9,  28.9378,2,  21.7095,2,  28.9502,2
49UP20210719_2,   P03,    41,  1,     35,     756,2,20210812,2226,  33, 24.2533, 144.2518, 4861,     25.1,   28.1966,  34.6619,2,    200.3,2,     -999,9,   200.32,2,     0.82,2,     0.06,2,     0.00,2,    0.000,2,     -999,9,     -999,9,     -999,9,     -999,9,     -999,9,     -999,     -999,9,     -999,9,     -999,9,     -999,9,  28.1907,2,  22.0780,2,  28.1994,2
49UP20210719_2,   P03,    41,  1,     34,     843,3,20210812,2226,  29, 24.2533, 144.2518, 4861,     53.3,   24.0677,  34.9391,2,    214.2,2,     -999,9,   215.69,2,     1.06,2,     0.06,2,     0.00,2,    0.010,2,     -999,9,     -999,9,     -999,9,     -999,9,     -999,9,     -999,     -999,9,     -999,9,     -999,9,     -999,9,  24.0564,2,  23.5785,2,  24.0674,2
49UP20210719_2,   P03,    41,  1,     33,     842,2,20210812,2226,  28, 24.2533, 144.2518, 4861,     76.6,   22.4453,  34.9178,2,    213.4,2,     -999,9,   214.61,2,     1.26,2,     0.05,2,     0.00,2,    0.010,2,     -999,9,     -999,9,     -999,9,     -999,9,     -999,9,     -999,     -999,9,     -999,9,     -999,9,     -999,9,  22.4299,2,  24.0342,2,  22.4579,2
49UP20210719_2,   P03,    41,  1,     32,     841,2,20210812,2226,  27, 24.2533, 144.2518, 4861,    101.2,   21.1721,  34.8950,2,    198.0,2,     -999,9,   198.35,2,     1.62,2,     1.10,2,     0.01,2,    0.090,2,     -999,9,     -999,9,     -999,9,     -999,9,     -999,9,     -999,     -999,9,     -999,9,     -999,9,     -999,9,  21.1527,2,  24.3724,2,  21.1718,2
49UP20210719_2,   P03,    41,  1,     31,     840,2,20210812,2226,  25, 24.2533, 144.2518, 4861,    128.1,   20.6052,  34.8875,2,    197.0,2,     -999,9,   197.67,2,     1.87,2,     1.54,2,     0.02,2,    0.120,2,     -999,9,     -999,9,     -999,9,     -999,9,     -999,9,     -999,     -999,9,     -999,9,     -999,9,     -999,9,  20.5810,2,  24.5214,2,  20.6131,2
49UP20210719_2,   P03,    41,  1,     30,     839,2,20210812,2226,  24, 24.2533, 144.2518, 4861,    152.5,   19.5568,  34.8354,2,    203.0,2,     -999,9,   203.40,2,     2.12,2,     1.98,2,     0.01,2,    0.140,2,     -999,9,     -999,9,     -999,9,     -999,9,     -999,9,     -999,     -999,9,     -999,9,     -999,9,     -999,9,  19.5291,2,  24.7593,2,  19.5631,2
49UP20210719_2,   P03,    41,  1,     29,     838,2,20210812,2226,  22, 24.2533, 144.2518, 4861,    205.7,   18.1955,  34.8035,2,    197.6,2,     -999,9,   197.93,2,     3.17,2,     3.88,2,     0.00,2,    0.260,2,     -999,9,     -999,9,     -999,9,     -999,9,     -999,9,     -999,     -999,9,     -999,9,     -999,9,     -999,9,  18.1600,2,  25.0820,2,  18.2066,2
49UP20210719_2,   P03,    41,  1,     28,     755,2,20210812,2226,  20, 24.2533, 144.2518, 4861,    253.3,   17.2955,  34.7521,2,    201.5,2,     -999,9,   202.46,6,     4.11,6,     4.99,6,     0.00,6,    0.320,6,     -999,9,     -999,9,     -999,9,     -999,9,     -999,9,     -999,     -999,9,     -999,9,     -999,9,     -999,9,  17.2532,2,  25.2636,2,  17.2960,2
49UP20210719_2,   P03,    41,  1,     27,     754,2,20210812,2226,  17, 24.2533, 144.2518, 4861,    332.9,   15.8559,  34.6413,2,    196.3,2,     -999,9,   196.49,2,     6.86,2,     7.59,2,     0.00,2,    0.500,2,     -999,9,     -999,9,     -999,9,     -999,9,     -999,9,     -999,     -999,9,     -999,9,     -999,9,     -999,9,  15.8034,2,  25.5163,2,  15.8494,2
49UP20210719_2,   P03,    41,  1,     26,     835,3,20210812,2226,  15, 24.2533, 144.2518, 4861,    435.6,   12.1023,  34.3557,2,    180.5,2,     -999,9,   181.21,2,    19.87,2,    15.13,2,     0.00,2,    1.040,2,     -999,9,     -999,9,     -999,9,     -999,9,     -999,9,     -999,     -999,9,     -999,9,     -999,9,     -999,9,  12.0450,2,  26.0801,2,  12.0886,2
49UP20210719_2,   P03,    41,  1,     25,     834,2,20210812,2226,  12, 24.2533, 144.2518, 4861,    534.1,   10.2294,  34.3002,2,    146.7,2,     -999,9,   146.51,2,    36.95,2,    21.73,2,     0.00,2,    1.520,2,     -999,9,     -999,9,     -999,9,     -999,9,     -999,9,     -999,     -999,9,     -999,9,     -999,9,     -999,9,  10.1660,2,  26.3772,2,  10.2335,2
49UP20210719_2,   P03,    41,  1,     24,     753,2,20210812,2226,   9, 24.2533, 144.2518, 4861,    634.4,    9.0041,  34.2440,2,    136.7,2,     -999,9,   136.90,2,    46.18,2,    24.80,2,     0.00,2,    1.760,2,     -999,9,     -999,9,     -999,9,     -999,9,     -999,9,     -999,     -999,9,     -999,9,     -999,9,     -999,9,   8.9341,2,  26.5366,2,   9.0059,2
49UP20210719_2,   P03,    41,  1,     23,     832,2,20210812,2226,   6, 24.2533, 144.2518, 4861,    734.9,    6.0775,  34.0888,2,    108.6,2,     -999,9,   109.94,2,    69.21,2,    32.29,2,     0.00,2,    2.310,2,     -999,9,     -999,9,     -999,9,     -999,9,     -999,9,     -999,     -999,9,     -999,9,     -999,9,     -999,9,   6.0121,2,  26.8311,2,   6.0542,2
49UP20210719_2,   P03,    41,  1,     22,     831,2,20210812,2226,   3, 24.2533, 144.2518, 4861,    836.3,    5.2337,  34.2189,2,     69.4,2,     -999,9,    70.25,2,    87.68,2,    37.48,2,     0.00,2,    2.680,2,     -999,9,     -999,9,     -999,9,     -999,9,     -999,9,     -999,     -999,9,     -999,9,     -999,9,     -999,9,   5.1639,2,  27.0370,2,   5.2339,2
49UP20210719_2,   P03,    41,  1,     21,     830,2,20210812,2226,   1, 24.2533, 144.2518, 4861,    937.5,    4.3441,  34.2969,2,     55.8,2,     -999,9,    56.63,2,   105.73,2,    39.86,2,     0.00,2,    2.840,2,     -999,9,     -999,9,     -999,9,     -999,9,     -999,9,     -999,     -999,9,     -999,9,     -999,9,     -999,9,   4.2714,2,  27.1984,2,   4.3425,2
49UP20210719_2,   P03,    41,  1,     20,     829,2,20210812,2226,2355, 24.2533, 144.2518, 4861,   1080.9,    3.8632,  34.3892,2,     57.2,2,     -999,9,    57.74,6,   116.75,6,    40.51,6,     0.00,6,    2.880,6,     -999,9,     -999,9,     -999,9,     -999,9,     -999,9,     -999,     -999,9,     -999,9,     -999,9,     -999,9,   3.7821,2,  27.3225,2,   3.8630,2
49UP20210719_2,   P03,    41,  1,     19,     828,2,20210812,2226,2351, 24.2533, 144.2518, 4861,   1281.4,    3.0316,  34.4865,2,     68.1,2,     -999,9,    68.67,2,   133.68,2,    40.60,2,     0.00,2,    2.870,2,     -999,9,     -999,9,     -999,9,     -999,9,     -999,9,     -999,     -999,9,     -999,9,     -999,9,     -999,9,   2.9415,2,  27.4805,2,   3.0310,2
49UP20210719_2,   P03,    41,  1,     18,     752,2,20210812,2226,2346, 24.2533, 144.2518, 4861,   1486.3,    2.6557,  34.5256,2,     76.4,2,     -999,9,    76.45,2,   140.93,2,    40.36,2,     0.00,2,    2.840,2,     -999,9,     -999,9,     -999,9,     -999,9,     -999,9,     -999,     -999,9,     -999,9,     -999,9,     -999,9,   2.5530,2,  27.5460,2,   2.6557,2
49UP20210719_2,   P03,    41,  1,     17,     751,2,20210812,2226,2341, 24.2533, 144.2518, 4861,   1688.2,    2.2928,  34.5680,2,     89.2,2,     -999,9,    89.36,2,   146.43,2,    39.80,2,     0.00,2,    2.790,2,     -999,9,     -999,9,     -999,9,     -999,9,     -999,9,     -999,     -999,9,     -999,9,     -999,9,     -999,9,   2.1782,2,  27.6113,2,   2.2921,2
49UP20210719_2,   P03,    41,  1,     16,     328,2,20210812,2226,2336, 24.2533, 144.2518, 4861,   1890.7,    2.0697,  34.5961,2,     99.1,2,     -999,9,    99.42,2,   148.92,2,    39.29,2,     0.00,2,    2.740,2,     -999,9,     -999,9,     -999,9,     -999,9,     -999,9,     -999,     -999,9,     -999,9,     -999,9,     -999,9,   1.9414,2,  27.6527,2,   2.0693,2
49UP20210719_2,   P03,    41,  1,     15,     822,2,20210812,2226,2331, 24.2533, 144.2518, 4861,   2094.7,    1.9100,  34.6148,2,    105.5,2,     -999,9,   105.91,2,   151.64,2,    38.98,2,     0.00,2,    2.720,2,     -999,9,     -999,9,     -999,9,     -999,9,     -999,9,     -999,     -999,9,     -999,9,     -999,9,     -999,9,   1.7670,2,  27.6812,2,   1.9099,2
49UP20210719_2,   P03,    41,  1,     14,     326,2,20210812,2226,2327, 24.2533, 144.2518, 4861,   2296.3,    1.8058,  34.6297,2,    113.0,2,     -999,9,   112.95,2,   152.06,2,    38.57,2,     0.00,2,    2.680,2,     -999,9,     -999,9,     -999,9,     -999,9,     -999,9,     -999,     -999,9,     -999,9,     -999,9,     -999,9,   1.6472,2,  27.7021,2,   1.8059,2
49UP20210719_2,   P03,    41,  1,     13,     325,2,20210812,2226,2322, 24.2533, 144.2518, 4861,   2501.3,    1.7278,  34.6424,2,    121.0,2,     -999,9,   121.07,6,   151.57,6,    38.09,6,     0.00,6,    2.640,6,     -999,9,     -999,9,     -999,9,     -999,9,     -999,9,     -999,     -999,9,     -999,9,     -999,9,     -999,9,   1.5525,2,  27.7193,2,   1.7276,2
49UP20210719_2,   P03,    41,  1,     11,     323,2,20210812,2226,2317, 24.2533, 144.2518, 4861,   2704.6,    1.6671,  34.6512,2,    126.3,2,     -999,9,   126.09,2,   151.50,2,    37.71,2,     0.00,2,    2.610,2,     -999,9,     -999,9,     -999,9,     -999,9,     -999,9,     -999,     -999,9,     -999,9,     -999,9,     -999,9,   1.4746,2,  27.7321,2,   1.6668,2
49UP20210719_2,   P03,    41,  1,     12,     324,2,20210812,2226,2317, 24.2533, 144.2518, 4861,   2705.0,    1.6662,  34.6514,2,    126.3,2,     -999,9,   126.50,2,   151.53,2,    37.77,2,     0.00,2,    2.610,2,     -999,9,     -999,9,     -999,9,     -999,9,     -999,9,     -999,     -999,9,     -999,9,     -999,9,     -999,9,   1.4736,2,  27.7323,2,   1.6665,2
49UP20210719_2,   P03,    41,  1,     10,     322,2,20210812,2226,2312, 24.2533, 144.2518, 4861,   2909.5,    1.6140,  34.6595,2,    132.5,2,     -999,9,   131.93,2,   149.92,2,    37.28,2,     0.00,2,    2.580,2,     -999,9,     -999,9,     -999,9,     -999,9,     -999,9,     -999,     -999,9,     -999,9,     -999,9,     -999,9,   1.4033,2,  27.7439,2,   1.6139,2
49UP20210719_2,   P03,    41,  1,      9,     750,2,20210812,2226,2307, 24.2533, 144.2518, 4861,   3119.5,    1.5555,  34.6668,2,    138.1,2,     -999,9,   138.39,2,   150.50,2,    37.06,2,     0.00,2,    2.560,2,     -999,9,     -999,9,     -999,9,     -999,9,     -999,9,     -999,     -999,9,     -999,9,     -999,9,     -999,9,   1.3261,2,  27.7553,2,   1.5555,2
49UP20210719_2,   P03,    41,  1,      8,     320,2,20210812,2226,2302, 24.2533, 144.2518, 4861,   3378.6,    1.5103,  34.6738,2,    144.3,2,     -999,9,   144.32,2,   149.29,2,    36.61,2,     0.00,2,    2.530,2,     -999,9,     -999,9,     -999,9,     -999,9,     -999,9,     -999,     -999,9,     -999,9,     -999,9,     -999,9,   1.2562,2,  27.7658,2,   1.5102,2
49UP20210719_2,   P03,    41,  1,      7,     319,2,20210812,2226,2256, 24.2533, 144.2518, 4861,   3633.5,    1.4866,  34.6784,2,    149.0,2,     -999,9,   148.91,2,   148.13,2,    36.31,2,     0.00,2,    2.500,2,     -999,9,     -999,9,     -999,9,     -999,9,     -999,9,     -999,     -999,9,     -999,9,     -999,9,     -999,9,   1.2071,2,  27.7728,2,   1.4867,2
49UP20210719_2,   P03,    41,  1,      6,     318,2,20210812,2226,2250, 24.2533, 144.2518, 4861,   3890.9,    1.4737,  34.6821,2,    153.2,2,     -999,9,   153.18,2,   146.56,2,    35.97,2,     0.00,2,    2.480,2,     -999,9,     -999,9,     -999,9,     -999,9,     -999,9,     -999,     -999,9,     -999,9,     -999,9,     -999,9,   1.1673,2,  27.7786,2,   1.4739,2
49UP20210719_2,   P03,    41,  1,      5,     317,2,20210812,2226,2245, 24.2533, 144.2518, 4861,   4147.1,    1.4711,  34.6847,2,    156.8,2,     -999,9,   157.05,2,   145.10,2,    35.76,2,     0.00,2,    2.460,2,     -999,9,     -999,9,     -999,9,     -999,9,     -999,9,     -999,     -999,9,     -999,9,     -999,9,     -999,9,   1.1368,2,  27.7828,2,   1.4711,2
49UP20210719_2,   P03,    41,  1,      4,     316,2,20210812,2226,2239, 24.2533, 144.2518, 4861,   4401.9,    1.4752,  34.6867,2,    159.9,2,     -999,9,   160.57,2,   143.58,2,    35.54,2,     0.00,2,    2.440,2,     -999,9,     -999,9,     -999,9,     -999,9,     -999,9,     -999,     -999,9,     -999,9,     -999,9,     -999,9,   1.1123,2,  27.7861,2,   1.4752,2
49UP20210719_2,   P03,    41,  1,      3,     315,2,20210812,2226,2233, 24.2533, 144.2518, 4861,   4658.8,    1.4790,  34.6892,2,    163.6,2,     -999,9,   163.99,6,   141.66,6,    35.31,6,     0.00,6,    2.430,6,     -999,9,     -999,9,     -999,9,     -999,9,     -999,9,     -999,     -999,9,     -999,9,     -999,9,     -999,9,   1.0862,2,  27.7898,2,   1.4790,2
49UP20210719_2,   P03,    41,  1,      1,     811,2,20210812,2226,2226, 24.2533, 144.2518, 4861,   4956.3,    1.4814,  34.6921,2,    168.6,2,     -999,9,   169.05,2,   138.92,2,    34.92,2,     0.00,2,    2.400,2,     -999,9,     -999,9,     -999,9,     -999,9,     -999,9,     -999,     -999,9,     -999,9,     -999,9,     -999,9,   1.0530,2,  27.7944,2,   1.4813,2
49UP20210719_2,   P03,    41,  1,      2,     314,2,20210812,2226,2226, 24.2533, 144.2518, 4861,   4956.9,    1.4815,  34.6920,2,    168.6,2,     -999,9,   168.83,2,   138.99,2,    34.94,2,     0.00,2,    2.400,2,     -999,9,     -999,9,     -999,9,     -999,9,     -999,9,     -999,     -999,9,     -999,9,     -999,9,     -999,9,   1.0531,2,  27.7943,2,   1.4812,2