BOTTLE,20230808CCHSIOADS
EXPOCODE,SECT_ID,STNNBR,CASTNO,SAMPNO,BTLNBR,BTLNBR_FLAG_W,DATE,TIME,BTL_TIME,LATITUDE,LONGITUDE,DEPTH,CTDPRS,CTDTMP,CTDSAL,CTDSAL_FLAG_W,CTDOXY,CTDOXY_FLAG_W,SALNTY,SALNTY_FLAG_W,OXYGEN,OXYGEN_FLAG_W,SILCAT,SILCAT_FLAG_W,NO2+NO3,NO2+NO3_FLAG_W,NITRIT,NITRIT_FLAG_W,PHSPHT,PHSPHT_FLAG_W,CFC-11,CFC-11_FLAG_W,CFC-12,CFC-12_FLAG_W,TCARBN,TCARBN_FLAG_W,ALKALI,ALKALI_FLAG_W,PH_TOT,PH_TOT_FLAG_W,PH_TMP,CFC113,CFC113_FLAG_W,SF6,SF6_FLAG_W,CHLORA,CHLORA_FLAG_W,PPHYTN,PPHYTN_FLAG_W,THETA,THETA_FLAG_W,SIG0,SIG0_FLAG_W,SBE35,SBE35_FLAG_W
,,,,,,,,,,,,METERS,DBAR,ITS-90,PSS-78,,UMOL/KG,,PSS78,,UMOL/KG,,UMOL/KG,,UMOL/KG,,UMOL/KG,,UMOL/KG,,PMOL/KG,,PMOL/KG,,UMOL/KG,,UMOL/KG,,,,DEG C,PMOL/KG,,FMOL/KG,,UG/KG,,UG/KG,,ITS-90,,KG/M^3,,ITS-90,
49UP20210827_1,   P03,    45,  1,      0,     BUC,2,20210831,1921,2135, 24.2588, 146.0347, 5676,      0.0,   29.3999,  34.8116,2,    195.9,2,  34.8033,2,   196.28,2,     1.29,2,     0.04,2,     0.00,2,    0.020,2,     -999,9,     -999,9,   1968.5,2,   2282.7,2,   8.0866,2,    25.00,     -999,9,     -999,9,     0.04,2,     0.01,2,  29.3993,2,  21.7887,2,     -999,9
49UP20210827_1,   P03,    45,  1,     36,     757,2,20210831,1921,2204, 24.2588, 146.0347, 5676,      9.4,   29.4061,  34.8144,2,    196.0,2,  34.8135,2,   196.19,2,     1.25,2,     0.01,2,     0.00,2,    0.000,2,     -999,9,     -999,9,   1969.3,2,   2285.4,2,   8.0847,2,    25.00,     -999,9,     -999,9,     0.04,2,     0.01,2,  29.4038,2,  21.7892,2,  29.4068,2
49UP20210827_1,   P03,    45,  1,     35,     756,2,20210831,1921,2159, 24.2588, 146.0347, 5676,     49.0,   25.6341,  34.9021,2,    222.8,2,  34.9022,2,   222.69,2,     1.45,2,     0.00,2,     0.00,2,    0.000,2,     -999,9,     -999,9,   1981.3,2,   2290.1,2,   8.0737,2,    25.00,     -999,9,     -999,9,     0.07,2,     0.02,2,  25.6233,2,  23.0763,2,  25.6310,2
49UP20210827_1,   P03,    45,  1,     34,     843,2,20210831,1921,2157, 24.2588, 146.0347, 5676,     99.3,   20.8411,  34.9484,2,    209.0,2,  34.9474,2,   208.71,2,     2.04,2,     0.01,2,     0.00,2,    0.030,2,     -999,9,     -999,9,   2027.8,2,   2294.3,2,   7.9987,2,    25.00,     -999,9,     -999,9,     0.12,2,     0.14,2,  20.8222,2,  24.5029,2,  20.8348,2
49UP20210827_1,   P03,    45,  1,     33,     842,2,20210831,1921,2155, 24.2588, 146.0347, 5676,    124.6,   19.4419,  34.8559,2,    202.1,2,  34.8531,2,   202.10,2,     2.49,2,     1.14,2,     0.03,2,    0.110,2,     -999,9,     -999,9,   2038.2,2,   2288.5,2,   7.9695,2,    25.00,     -999,9,     -999,9,     0.18,2,     0.39,2,  19.4194,2,  24.8033,2,  19.4384,2
49UP20210827_1,   P03,    45,  1,     32,     841,2,20210831,1921,2153, 24.2588, 146.0347, 5676,    148.8,   18.5524,  34.7936,2,    205.1,2,  34.7916,2,   205.30,2,     2.83,2,     2.50,2,     0.01,2,    0.180,2,     -999,9,     -999,9,   2038.5,2,   2282.8,2,   7.9618,2,    25.00,     -999,9,     -999,9,     0.07,2,     0.20,2,  18.5263,2,  24.9832,2,  18.5571,2
49UP20210827_1,   P03,    45,  1,     31,     840,2,20210831,1921,2151, 24.2588, 146.0347, 5676,    201.1,   17.7146,  34.7681,2,    206.9,2,  34.7683,2,   206.97,2,     3.58,2,     3.82,2,     0.00,2,    0.250,2,     -999,9,     -999,9,   2042.7,2,   2282.2,2,   7.9497,2,    25.00,     -999,9,     -999,9,     0.01,2,     0.02,2,  17.6805,2,  25.1726,2,  17.7215,2
49UP20210827_1,   P03,    45,  1,     30,     839,2,20210831,1921,2149, 24.2588, 146.0347, 5676,    250.9,   17.0981,  34.7416,2,    201.9,2,  34.7385,6,   202.03,2,     4.80,2,     5.40,2,     0.00,2,    0.360,2,     -999,9,     -999,9,   2054.6,2,   2280.3,2,   7.9283,2,    25.00,     -999,9,     -999,9,     -999,9,     -999,9,  17.0566,2,  25.3025,2,  17.0981,2
49UP20210827_1,   P03,    45,  1,     29,     838,3,20210831,1921,2146, 24.2588, 146.0347, 5676,    331.5,   14.9515,  34.5700,2,    192.4,2,  34.5705,2,   192.08,6,     9.93,6,     9.53,6,     0.00,6,    0.640,6,     -999,9,     -999,9,   2080.3,2,   2274.5,2,   7.8632,2,    25.00,     -999,9,     -999,9,     -999,9,     -999,9,  14.9014,2,  25.6620,2,  14.9451,2
49UP20210827_1,   P03,    45,  1,     28,     755,2,20210831,1921,2143, 24.2588, 146.0347, 5676,    432.1,   12.1383,  34.3536,2,    187.1,2,  34.3532,2,   187.13,2,    18.89,2,    14.61,2,     0.00,2,    1.010,2,     -999,9,     -999,9,   2114.5,2,   2271.6,2,   7.7825,2,    25.00,     -999,9,     -999,9,     -999,9,     -999,9,  12.0813,2,  26.0715,2,  12.1383,2
49UP20210827_1,   P03,    45,  1,     27,     754,2,20210831,1921,2140, 24.2588, 146.0347, 5676,    532.6,    9.0162,  34.1270,2,    168.2,2,  34.1260,2,   167.97,2,    33.84,2,    21.86,2,     0.00,2,    1.540,2,     -999,9,     -999,9,   2162.9,2,   2272.2,2,   7.6626,2,    25.00,     -999,9,     -999,9,     -999,9,     -999,9,   8.9578,2,  26.4412,2,   9.0156,2
49UP20210827_1,   P03,    45,  1,     26,     835,3,20210831,1921,2137, 24.2588, 146.0347, 5676,    635.0,    6.6278,  34.0494,2,    127.8,2,  34.0504,2,   127.53,2,    57.57,2,    29.83,2,     0.00,2,    2.130,2,     -999,9,     -999,9,   2224.8,2,   2287.3,2,   7.5339,6,    25.00,     -999,9,     -999,9,     -999,9,     -999,9,   6.5691,2,  26.7280,2,   6.6262,2
49UP20210827_1,   P03,    45,  1,     25,     834,2,20210831,1921,2134, 24.2588, 146.0347, 5676,    736.3,    5.2630,  34.1554,2,     75.4,2,  34.1562,2,    75.47,2,    83.73,2,    36.85,2,     0.00,2,    2.640,2,     -999,9,     -999,9,   2284.5,6,   2315.1,6,   7.4310,2,    25.00,     -999,9,     -999,9,     -999,9,     -999,9,   5.2020,2,  26.9822,2,   5.2629,2
49UP20210827_1,   P03,    45,  1,     24,     753,2,20210831,1921,2131, 24.2588, 146.0347, 5676,    836.0,    4.2626,  34.2423,2,     50.9,2,  34.2419,2,    51.01,2,   106.13,2,    40.46,2,     0.00,2,    2.890,2,     -999,9,     -999,9,   2323.5,2,   2338.1,2,   7.3796,2,    25.00,     -999,9,     -999,9,     -999,9,     -999,9,   4.1990,2,  27.1627,2,   4.2627,2
49UP20210827_1,   P03,    45,  1,     23,     832,2,20210831,1921,2128, 24.2588, 146.0347, 5676,    937.2,    3.8640,  34.3430,2,     48.0,2,  34.3445,2,    48.25,2,   116.56,2,    41.24,2,     0.00,2,    2.940,2,     -999,9,     -999,9,   2338.4,2,   2354.6,2,   7.3861,2,    25.00,     -999,9,     -999,9,     -999,9,     -999,9,   3.7948,2,  27.2844,2,   3.8642,2
49UP20210827_1,   P03,    45,  1,     22,     831,2,20210831,1921,2118, 24.2588, 146.0347, 5676,   1079.4,    3.3784,  34.4142,2,     49.0,2,  34.4132,2,    48.92,2,   128.35,2,    41.75,2,     0.00,2,    2.960,2,     -999,9,     -999,9,   2352.4,2,   2370.2,2,   7.3884,2,    25.00,     -999,9,     -999,9,     -999,9,     -999,9,   3.3015,2,  27.3894,2,   3.3781,2
49UP20210827_1,   P03,    45,  1,     21,     830,2,20210831,1921,2113, 24.2588, 146.0347, 5676,   1282.0,    2.8751,  34.4807,2,     56.1,2,  34.4805,6,    55.80,2,   140.09,2,    41.71,2,     0.00,2,    2.950,2,     -999,9,     -999,9,   2360.4,2,   2385.1,2,   7.4038,2,    25.00,     -999,9,     -999,9,     -999,9,     -999,9,   2.7865,2,  27.4897,2,   2.8751,2
49UP20210827_1,   P03,    45,  1,     20,     829,2,20210831,1921,2108, 24.2588, 146.0347, 5676,   1484.2,    2.5072,  34.5289,2,     65.8,2,  34.5288,2,    65.66,6,   147.83,6,    41.33,6,     0.00,6,    2.920,6,     -999,9,     -999,9,   2371.6,3,   2393.4,2,   7.4242,2,    25.00,     -999,9,     -999,9,     -999,9,     -999,9,   2.4064,2,  27.5612,2,   2.5072,2
49UP20210827_1,   P03,    45,  1,     19,     828,2,20210831,1921,2100, 24.2588, 146.0347, 5676,   1687.9,    2.2051,  34.5702,2,     83.0,2,  34.5701,2,    83.06,2,   150.97,2,    40.38,2,     0.00,2,    2.840,2,     -999,9,     -999,9,   2359.1,2,   2402.7,2,   7.4578,2,    25.00,     -999,9,     -999,9,     -999,9,     -999,9,   2.0916,2,  27.6200,2,   2.2049,2
49UP20210827_1,   P03,    45,  1,     18,     752,2,20210831,1921,2055, 24.2588, 146.0347, 5676,   1890.4,    1.9855,  34.6035,2,     99.7,2,  34.6035,2,    99.65,2,   151.15,2,    39.38,2,     0.00,2,    2.760,2,     -999,9,     -999,9,   2352.1,2,   2405.8,2,   7.4884,2,    25.00,     -999,9,     -999,9,     -999,9,     -999,9,   1.8585,2,  27.6651,2,   1.9856,2
49UP20210827_1,   P03,    45,  1,     17,     751,2,20210831,1921,2050, 24.2588, 146.0347, 5676,   2092.8,    1.8439,  34.6235,2,    109.1,2,  34.6234,2,   109.16,2,   152.00,2,    38.82,2,     0.00,2,    2.710,2,     -999,9,     -999,9,   2347.8,2,   2408.8,2,   7.5071,6,    25.00,     -999,9,     -999,9,     -999,9,     -999,9,   1.7021,2,  27.6930,2,   1.8440,2
49UP20210827_1,   P03,    45,  1,     16,     328,2,20210831,1921,2046, 24.2588, 146.0347, 5676,   2296.1,    1.7694,  34.6347,2,    115.6,2,  34.6347,2,   115.80,2,   151.87,2,    38.41,2,     0.00,2,    2.680,2,     -999,9,     -999,9,   2348.1,2,   2410.9,6,   7.5173,2,    25.00,     -999,9,     -999,9,     -999,9,     -999,9,   1.6115,2,  27.7088,2,   1.7694,2
49UP20210827_1,   P03,    45,  1,     15,     822,2,20210831,1921,2040, 24.2588, 146.0347, 5676,   2502.3,    1.7068,  34.6452,2,    121.8,2,  34.6452,2,   121.65,2,   151.64,2,    38.04,2,     0.00,2,    2.650,2,     -999,9,     -999,9,   2342.3,2,   2413.0,2,   7.5296,2,    25.00,     -999,9,     -999,9,     -999,9,     -999,9,   1.5318,2,  27.7231,2,   1.7069,2
49UP20210827_1,   P03,    45,  1,     14,     326,2,20210831,1921,2036, 24.2588, 146.0347, 5676,   2703.2,    1.6440,  34.6543,2,    127.7,2,  34.6542,2,   127.57,2,   151.60,2,    37.67,2,     0.00,2,    2.620,2,     -999,9,     -999,9,   2338.9,2,   2413.6,2,   7.5413,2,    25.00,     -999,9,     -999,9,     -999,9,     -999,9,   1.4520,2,  27.7363,2,   1.6440,2
49UP20210827_1,   P03,    45,  1,     13,     325,2,20210831,1921,2031, 24.2588, 146.0347, 5676,   2908.4,    1.6030,  34.6608,2,    132.3,2,  34.6610,2,   132.27,2,   151.26,2,    37.40,2,     0.00,2,    2.600,2,     -999,9,     -999,9,   2340.9,2,   2414.4,2,   7.5511,2,    25.00,     -999,9,     -999,9,     -999,9,     -999,9,   1.3928,2,  27.7457,2,   1.6031,2
49UP20210827_1,   P03,    45,  1,     12,     324,3,20210831,1921,2025, 24.2588, 146.0347, 5676,   3122.9,    1.5607,  34.6668,2,    137.1,2,  34.6665,6,   137.00,2,   150.54,2,    37.06,2,     0.00,2,    2.570,2,     -999,9,     -999,9,   2334.8,2,   2414.7,2,   7.5575,2,    25.00,     -999,9,     -999,9,     -999,9,     -999,9,   1.3308,2,  27.7550,2,   1.5609,2
49UP20210827_1,   P03,    45,  1,     11,     323,3,20210831,1921,2019, 24.2588, 146.0347, 5676,   3378.1,    1.5209,  34.6728,2,    142.7,2,  34.6713,4,   142.17,6,   149.77,6,    36.74,6,     0.00,6,    2.540,6,     -999,9,     -999,9,   2332.3,2,   2414.7,2,   7.5658,2,    25.00,     -999,9,     -999,9,     -999,9,     -999,9,   1.2666,2,  27.7642,2,   1.5210,2
49UP20210827_1,   P03,    45,  1,     10,     322,2,20210831,1921,2013, 24.2588, 146.0347, 5676,   3634.3,    1.4975,  34.6774,2,    147.4,2,  34.6764,4,   147.16,2,   148.56,2,    36.43,2,     0.00,2,    2.520,2,     -999,9,     -999,9,   2329.1,2,   2413.8,2,   7.5737,2,    25.00,     -999,9,     -999,9,     -999,9,     -999,9,   1.2176,2,  27.7713,2,   1.4975,2
49UP20210827_1,   P03,    45,  1,      9,     750,2,20210831,1921,2007, 24.2588, 146.0347, 5676,   3891.5,    1.4831,  34.6809,2,    151.7,2,  34.6811,2,   151.71,2,   147.41,2,    36.15,2,     0.00,2,    2.500,2,     -999,9,     -999,9,   2327.1,2,   2412.5,2,   7.5802,2,    25.00,     -999,9,     -999,9,     -999,9,     -999,9,   1.1764,2,  27.7770,2,   1.4831,2
49UP20210827_1,   P03,    45,  1,      8,     320,2,20210831,1921,2001, 24.2588, 146.0347, 5676,   4145.8,    1.4740,  34.6842,2,    155.9,2,  34.6846,2,   155.79,2,   145.70,2,    35.86,2,     0.00,2,    2.470,2,     -999,9,     -999,9,   2324.9,2,   2411.8,2,   7.5870,2,    25.00,     -999,9,     -999,9,     -999,9,     -999,9,   1.1398,2,  27.7822,2,   1.4740,2
49UP20210827_1,   P03,    45,  1,      7,     319,2,20210831,1921,1955, 24.2588, 146.0347, 5676,   4404.0,    1.4747,  34.6867,2,    159.4,2,  34.6869,2,   159.62,2,   144.13,2,    35.62,2,     0.00,2,    2.450,2,     -999,9,     -999,9,   2317.7,2,   2411.2,2,   7.5911,2,    25.00,     -999,9,     -999,9,     -999,9,     -999,9,   1.1115,2,  27.7861,2,   1.4746,2
49UP20210827_1,   P03,    45,  1,      6,     318,2,20210831,1921,1949, 24.2588, 146.0347, 5676,   4659.5,    1.4847,  34.6886,2,    162.2,2,  34.6884,2,   162.26,2,   142.58,2,    35.44,2,     0.00,2,    2.440,2,     -999,9,     -999,9,   2315.8,2,   2409.5,2,   7.5942,2,    25.00,     -999,9,     -999,9,     -999,9,     -999,9,   1.0916,2,  27.7890,2,   1.4848,2
49UP20210827_1,   P03,    45,  1,      5,     317,2,20210831,1921,1943, 24.2588, 146.0347, 5676,   4917.8,    1.4962,  34.6903,2,    165.3,2,  34.6901,2,   165.50,2,   140.67,2,    35.18,2,     0.00,2,    2.420,2,     -999,9,     -999,9,   2313.5,2,   2406.5,2,   7.5982,6,    25.00,     -999,9,     -999,9,     -999,9,     -999,9,   1.0720,2,  27.7917,2,   1.4963,2
49UP20210827_1,   P03,    45,  1,      4,     316,2,20210831,1921,1938, 24.2588, 146.0347, 5676,   5174.3,    1.5100,  34.6920,2,    168.0,2,  34.6922,2,   168.05,2,   138.99,2,    34.99,2,     0.00,2,    2.410,2,     -999,9,     -999,9,   2311.4,6,   2404.3,6,   7.5995,2,    25.00,     -999,9,     -999,9,     -999,9,     -999,9,   1.0540,2,  27.7943,2,   1.5102,2
49UP20210827_1,   P03,    45,  1,      3,     315,2,20210831,1921,1932, 24.2588, 146.0347, 5676,   5432.1,    1.5269,  34.6934,2,    170.8,2,  34.6935,6,   170.67,2,   137.13,2,    34.80,2,     0.00,2,    2.390,2,     -999,9,     -999,9,   2308.0,2,   2403.4,2,   7.6043,2,    25.00,     -999,9,     -999,9,     -999,9,     -999,9,   1.0380,2,  27.7965,2,   1.5269,2
49UP20210827_1,   P03,    45,  1,      2,     314,2,20210831,1921,1926, 24.2588, 146.0347, 5676,   5689.6,    1.5439,  34.6947,2,    173.2,2,  34.6945,2,   172.91,6,   135.43,6,    34.62,6,     0.00,6,    2.380,6,     -999,9,     -999,9,   2305.2,2,   2401.3,2,   7.6057,2,    25.00,     -999,9,     -999,9,     -999,9,     -999,9,   1.0212,2,  27.7986,2,   1.5440,2
49UP20210827_1,   P03,    45,  1,      1,     811,2,20210831,1921,1922, 24.2588, 146.0347, 5676,   5832.2,    1.5514,  34.6953,2,    174.9,2,  34.6962,4,   174.70,2,   134.37,2,    34.48,2,     0.00,2,    2.370,2,     -999,9,     -999,9,   2303.2,2,   2402.9,2,   7.6063,2,    25.00,     -999,9,     -999,9,     -999,9,     -999,9,   1.0098,2,  27.7999,2,   1.5513,2