BOTTLE,20230808CCHSIOADS
EXPOCODE,SECT_ID,STNNBR,CASTNO,SAMPNO,BTLNBR,BTLNBR_FLAG_W,DATE,TIME,BTL_TIME,LATITUDE,LONGITUDE,DEPTH,CTDPRS,CTDTMP,CTDSAL,CTDSAL_FLAG_W,CTDOXY,CTDOXY_FLAG_W,SALNTY,SALNTY_FLAG_W,OXYGEN,OXYGEN_FLAG_W,SILCAT,SILCAT_FLAG_W,NO2+NO3,NO2+NO3_FLAG_W,NITRIT,NITRIT_FLAG_W,PHSPHT,PHSPHT_FLAG_W,CFC-11,CFC-11_FLAG_W,CFC-12,CFC-12_FLAG_W,TCARBN,TCARBN_FLAG_W,ALKALI,ALKALI_FLAG_W,PH_TOT,PH_TOT_FLAG_W,PH_TMP,CFC113,CFC113_FLAG_W,SF6,SF6_FLAG_W,CHLORA,CHLORA_FLAG_W,PPHYTN,PPHYTN_FLAG_W,THETA,THETA_FLAG_W,SIG0,SIG0_FLAG_W,SBE35,SBE35_FLAG_W
,,,,,,,,,,,,METERS,DBAR,ITS-90,PSS-78,,UMOL/KG,,PSS78,,UMOL/KG,,UMOL/KG,,UMOL/KG,,UMOL/KG,,UMOL/KG,,PMOL/KG,,PMOL/KG,,UMOL/KG,,UMOL/KG,,,,DEG C,PMOL/KG,,FMOL/KG,,UG/KG,,UG/KG,,ITS-90,,KG/M^3,,ITS-90,
49UP20210827_1,   P03,    62,  1,      0,     BUC,2,20210906,2309, 130, 24.2623, 158.4090, 5781,      0.0,   29.7195,  35.0345,2,    195.1,2,  35.0475,2,   195.67,2,     1.02,2,     0.00,2,     0.00,2,    0.060,2,     -999,9,     -999,9,   1967.2,2,   2301.1,2,   8.1037,2,    25.00,     -999,9,     -999,9,     0.04,2,     0.01,2,  29.7188,2,  21.8478,2,     -999,9
49UP20210827_1,   P03,    62,  1,     36,     757,2,20210906,2309, 152, 24.2623, 158.4090, 5781,     10.5,   29.6270,  35.0314,2,    195.2,2,  35.0326,2,   195.88,2,     1.02,2,     0.02,2,     0.00,2,    0.010,2,     -999,9,     -999,9,   1969.3,2,   2300.4,2,   8.1024,2,    25.00,     -999,9,     -999,9,     0.04,2,     0.02,2,  29.6245,2,  21.8775,2,  29.6372,2
49UP20210827_1,   P03,    62,  1,     35,     756,2,20210906,2309, 149, 24.2623, 158.4090, 5781,     51.0,   25.4234,  35.1173,2,    224.0,2,  35.1178,2,   223.87,2,     1.11,2,     0.00,2,     0.00,2,    0.010,2,     -999,9,     -999,9,   1984.8,2,   2304.4,2,   8.0883,6,    25.00,     -999,9,     -999,9,     0.07,2,     0.03,2,  25.4122,2,  23.3039,2,  25.4228,2
49UP20210827_1,   P03,    62,  1,     34,     843,2,20210906,2309, 147, 24.2623, 158.4090, 5781,    101.5,   21.8105,  35.0004,2,    218.2,2,  35.0078,2,   217.71,2,     1.77,2,     0.01,2,     0.00,2,    0.030,2,     -999,9,     -999,9,   2013.7,6,   2299.1,6,   8.0292,2,    25.00,     -999,9,     -999,9,     0.16,2,     0.12,2,  21.7906,2,  24.2766,2,  21.8542,2
49UP20210827_1,   P03,    62,  1,     33,     842,2,20210906,2309, 144, 24.2623, 158.4090, 5781,    152.0,   19.0281,  34.8706,2,    201.7,2,  34.8744,2,   202.27,2,     2.84,2,     1.18,2,     0.06,2,    0.130,2,     -999,9,     -999,9,   2042.7,2,   2290.0,2,   7.9596,2,    25.00,     -999,9,     -999,9,     0.08,2,     0.27,2,  19.0010,2,  24.9220,2,  19.0365,2
49UP20210827_1,   P03,    62,  1,     32,     841,2,20210906,2309, 142, 24.2623, 158.4090, 5781,    205.3,   17.1322,  34.7333,2,    196.9,2,  34.7336,2,   196.96,2,     4.66,2,     5.19,2,     0.00,2,    0.370,2,     -999,9,     -999,9,   2058.2,2,   2280.7,2,   7.9144,2,    25.00,     -999,9,     -999,9,     0.00,2,     0.01,2,  17.0982,2,  25.2862,2,  17.1342,2
49UP20210827_1,   P03,    62,  1,     31,     840,2,20210906,2309, 140, 24.2623, 158.4090, 5781,    251.4,   15.8345,  34.6324,2,    201.1,2,  34.6325,2,   201.24,2,     6.76,2,     6.93,2,     0.00,2,    0.480,2,     -999,9,     -999,9,   2064.9,2,   2275.4,2,   7.8954,2,    25.00,     -999,9,     -999,9,     -999,9,     -999,9,  15.7950,2,  25.5114,2,  15.8342,2
49UP20210827_1,   P03,    62,  1,     30,     839,2,20210906,2309, 138, 24.2623, 158.4090, 5781,    283.4,   15.0254,  34.5633,2,    200.7,2,  34.5650,2,   201.61,2,     8.32,2,     8.20,2,     0.00,2,    0.570,2,     -999,9,     -999,9,   2078.5,2,   2272.3,2,   7.8734,2,    25.00,     -999,9,     -999,9,     -999,9,     -999,9,  14.9825,2,  25.6391,2,  15.0299,2
49UP20210827_1,   P03,    62,  1,     29,     838,2,20210906,2309, 135, 24.2623, 158.4090, 5781,    372.8,   13.0482,  34.3970,2,    203.8,2,  34.3984,6,   204.46,2,    12.52,2,    11.02,2,     0.00,2,    0.770,2,     -999,9,     -999,9,   2092.0,2,   2268.6,2,   7.8267,2,    25.00,     -999,9,     -999,9,     -999,9,     -999,9,  12.9968,2,  25.9263,2,  13.0494,2
49UP20210827_1,   P03,    62,  1,     28,     755,2,20210906,2309, 131, 24.2623, 158.4090, 5781,    474.7,   10.1810,  34.1770,2,    191.4,2,  34.1815,2,   191.88,6,    23.25,6,    17.17,6,     0.00,6,    1.210,6,     -999,9,     -999,9,   2132.8,2,   2267.8,2,   7.7298,2,    25.00,     -999,9,     -999,9,     -999,9,     -999,9,  10.1251,2,  26.2880,2,  10.1926,2
49UP20210827_1,   P03,    62,  1,     27,     754,2,20210906,2309, 128, 24.2623, 158.4090, 5781,    576.6,    7.3213,  34.0516,2,    140.5,2,  34.0516,2,   140.58,2,    48.20,2,    27.27,2,     0.00,2,    1.960,2,     -999,9,     -999,9,   2200.5,2,   2280.4,2,   7.5728,2,    25.00,     -999,9,     -999,9,     -999,9,     -999,9,   7.2652,2,  26.6349,2,   7.3211,2
49UP20210827_1,   P03,    62,  1,     26,     835,2,20210906,2309, 124, 24.2623, 158.4090, 5781,    676.4,    5.6215,  34.0906,2,     87.8,2,  34.0906,2,    87.56,2,    74.05,2,    35.07,2,     0.00,2,    2.530,2,     -999,9,     -999,9,   2262.7,2,   2303.6,2,   7.4489,2,    25.00,     -999,9,     -999,9,     -999,9,     -999,9,   5.5639,2,  26.8879,2,   5.6223,2
49UP20210827_1,   P03,    62,  1,     25,     834,2,20210906,2309, 121, 24.2623, 158.4090, 5781,    776.0,    4.6741,  34.1774,2,     57.6,2,  34.1766,2,    57.99,2,    94.43,2,    39.14,2,     0.00,2,    2.820,2,     -999,9,     -999,9,   2306.3,2,   2324.5,2,   7.3894,2,    25.00,     -999,9,     -999,9,     -999,9,     -999,9,   4.6130,2,  27.0666,2,   4.6782,2
49UP20210827_1,   P03,    62,  1,     24,     753,2,20210906,2309, 116, 24.2623, 158.4090, 5781,    879.3,    4.0397,  34.2676,2,     41.4,2,  34.2661,2,    41.51,2,   111.32,2,    41.35,2,     0.00,2,    2.970,2,     -999,9,     -999,9,   2335.5,2,   2343.7,2,   7.3643,2,    25.00,     -999,9,     -999,9,     -999,9,     -999,9,   3.9740,2,  27.2062,2,   4.0406,2
49UP20210827_1,   P03,    62,  1,     23,     832,2,20210906,2309, 112, 24.2623, 158.4090, 5781,    985.4,    3.6396,  34.3614,2,     38.3,2,  34.3595,2,    38.53,2,   122.52,2,    42.15,2,     0.00,2,    3.030,2,     -999,9,     -999,9,   2350.3,2,   2360.5,2,   7.3668,2,    25.00,     -999,9,     -999,9,     -999,9,     -999,9,   3.5681,2,  27.3216,2,   3.6405,2
49UP20210827_1,   P03,    62,  1,     22,     831,2,20210906,2309, 107, 24.2623, 158.4090, 5781,   1141.2,    3.1876,  34.4613,2,     51.8,2,  34.4612,2,    51.70,2,   132.62,2,    41.62,2,     0.00,2,    2.980,2,     -999,9,     -999,9,   2352.4,2,   2377.8,2,   7.3996,2,    25.00,     -999,9,     -999,9,     -999,9,     -999,9,   3.1073,2,  27.4452,2,   3.1877,2
49UP20210827_1,   P03,    62,  1,     21,     830,2,20210906,2309, 102, 24.2623, 158.4090, 5781,   1348.8,    2.7603,  34.5224,2,     68.0,2,  34.5210,2,    67.94,2,   139.52,2,    40.84,2,     0.00,2,    2.910,2,     -999,9,     -999,9,   2352.5,2,   2389.5,2,   7.4332,6,    25.00,     -999,9,     -999,9,     -999,9,     -999,9,   2.6675,2,  27.5336,2,   2.7603,2
49UP20210827_1,   P03,    62,  1,     20,     829,2,20210906,2309,  56, 24.2623, 158.4090, 5781,   1547.5,    2.4140,  34.5622,2,     81.8,2,  34.5618,6,    81.70,2,   144.59,2,    40.13,2,     0.00,2,    2.850,2,     -999,9,     -999,9,   2354.2,6,   2398.1,6,   7.4579,2,    25.00,     -999,9,     -999,9,     -999,9,     -999,9,   2.3092,2,  27.5959,2,   2.4141,2
49UP20210827_1,   P03,    62,  1,     19,     828,2,20210906,2309,  50, 24.2623, 158.4090, 5781,   1753.9,    2.1743,  34.5878,2,     90.1,2,  34.5880,2,    90.41,6,   148.79,6,    39.78,6,     0.00,6,    2.810,6,     -999,9,     -999,9,   2356.6,2,   2402.9,2,   7.4710,3,    25.00,     -999,9,     -999,9,     -999,9,     -999,9,   2.0558,2,  27.6370,2,   2.1743,2
49UP20210827_1,   P03,    62,  1,     18,     752,2,20210906,2309,  45, 24.2623, 158.4090, 5781,   1954.2,    1.9869,  34.6103,2,    100.6,2,  34.6107,2,   100.97,2,   150.63,2,    39.19,2,     0.00,2,    2.770,2,     -999,9,     -999,9,   2350.8,2,   2407.8,2,   7.4901,2,    25.00,     -999,9,     -999,9,     -999,9,     -999,9,   1.8546,2,  27.6708,2,   1.9868,2
49UP20210827_1,   P03,    62,  1,     17,     751,2,20210906,2309,  39, 24.2623, 158.4090, 5781,   2157.3,    1.8403,  34.6250,2,    107.3,2,  34.6255,2,   107.32,2,   153.09,2,    38.84,2,     0.00,2,    2.730,2,     -999,9,     -999,9,   2347.1,2,   2409.7,2,   7.5044,2,    25.00,     -999,9,     -999,9,     -999,9,     -999,9,   1.6931,2,  27.6949,2,   1.8403,2
49UP20210827_1,   P03,    62,  1,     16,     328,2,20210906,2309,  34, 24.2623, 158.4090, 5781,   2362.5,    1.7414,  34.6384,2,    115.4,2,  34.6389,2,   115.35,2,   153.24,2,    38.36,2,     0.00,2,    2.700,2,     -999,9,     -999,9,   2347.1,2,   2413.0,2,   7.5178,2,    25.00,     -999,9,     -999,9,     -999,9,     -999,9,   1.5781,2,  27.7143,2,   1.7415,2
49UP20210827_1,   P03,    62,  1,     15,     822,2,20210906,2309,  28, 24.2623, 158.4090, 5781,   2564.0,    1.6628,  34.6499,2,    123.4,2,  34.6500,2,   123.36,2,   152.77,2,    37.87,2,     0.00,2,    2.650,2,     -999,9,     -999,9,   2343.4,2,   2414.0,2,   7.5349,2,    25.00,     -999,9,     -999,9,     -999,9,     -999,9,   1.4831,2,  27.7304,2,   1.6627,2
49UP20210827_1,   P03,    62,  1,     14,     326,2,20210906,2309,  23, 24.2623, 158.4090, 5781,   2768.1,    1.6083,  34.6575,2,    129.0,2,  34.6554,4,   127.90,3,   152.27,2,    37.53,2,     0.00,2,    2.630,2,     -999,9,     -999,9,   2337.7,2,   2414.6,2,   7.5413,2,    25.00,     -999,9,     -999,9,     -999,9,     -999,9,   1.4110,2,  27.7418,2,   1.6082,2
49UP20210827_1,   P03,    62,  1,     13,     325,2,20210906,2309,  18, 24.2623, 158.4090, 5781,   2969.5,    1.5653,  34.6639,2,    134.4,2,  34.6621,4,   133.38,3,   151.73,2,    37.22,2,     0.00,2,    2.610,2,     -999,9,     -999,9,   2336.9,2,   2413.7,2,   7.5494,2,    25.00,     -999,9,     -999,9,     -999,9,     -999,9,   1.3500,2,  27.7513,2,   1.5651,2
49UP20210827_1,   P03,    62,  1,     12,     324,2,20210906,2309,  12, 24.2623, 158.4090, 5781,   3216.1,    1.5238,  34.6700,2,    139.7,2,  34.6701,2,   140.03,2,   151.12,2,    36.82,2,     0.00,2,    2.570,2,     -999,9,     -999,9,   2332.3,2,   2413.7,2,   7.5601,2,    25.00,     -999,9,     -999,9,     -999,9,     -999,9,   1.2856,2,  27.7607,2,   1.5240,2
49UP20210827_1,   P03,    62,  1,     11,     323,2,20210906,2309,   6, 24.2623, 158.4090, 5781,   3470.7,    1.4929,  34.6751,2,    144.9,2,  34.6753,6,   144.92,2,   150.20,2,    36.52,2,     0.00,2,    2.550,2,     -999,9,     -999,9,   2328.2,2,   2413.9,2,   7.5696,2,    25.00,     -999,9,     -999,9,     -999,9,     -999,9,   1.2300,2,  27.7687,2,   1.4928,2
49UP20210827_1,   P03,    62,  1,     10,     322,2,20210906,2309,   0, 24.2623, 158.4090, 5781,   3726.6,    1.4801,  34.6790,2,    149.1,2,  34.6793,2,   149.00,6,   148.99,6,    36.23,6,     0.00,6,    2.520,6,     -999,9,     -999,9,   2326.4,2,   2412.8,2,   7.5756,2,    25.00,     -999,9,     -999,9,     -999,9,     -999,9,   1.1910,2,  27.7744,2,   1.4801,2
49UP20210827_1,   P03,    62,  1,      9,     750,2,20210906,2309,2354, 24.2623, 158.4090, 5781,   3981.6,    1.4626,  34.6828,2,    153.8,2,  34.6833,2,   153.78,2,   147.36,2,    35.96,2,     0.00,2,    2.500,2,     -999,9,     -999,9,   2321.4,2,   2410.3,2,   7.5849,2,    25.00,     -999,9,     -999,9,     -999,9,     -999,9,   1.1468,2,  27.7806,2,   1.4626,2
49UP20210827_1,   P03,    62,  1,      8,     320,2,20210906,2309,2348, 24.2623, 158.4090, 5781,   4238.4,    1.4591,  34.6858,2,    157.4,2,  34.6856,2,   157.48,2,   146.50,2,    35.71,2,     0.00,2,    2.480,2,     -999,9,     -999,9,   2319.2,2,   2410.7,2,   7.5876,2,    25.00,     -999,9,     -999,9,     -999,9,     -999,9,   1.1151,2,  27.7851,2,   1.4590,2
49UP20210827_1,   P03,    62,  1,      7,     319,2,20210906,2309,2342, 24.2623, 158.4090, 5781,   4494.2,    1.4641,  34.6879,2,    160.3,2,  34.6881,2,   160.26,2,   145.05,2,    35.49,2,     0.00,2,    2.460,2,     -999,9,     -999,9,   2316.3,2,   2411.0,2,   7.5888,2,    25.00,     -999,9,     -999,9,     -999,9,     -999,9,   1.0909,2,  27.7884,2,   1.4639,2
49UP20210827_1,   P03,    62,  1,      6,     318,2,20210906,2309,2337, 24.2623, 158.4090, 5781,   4752.1,    1.4762,  34.6897,2,    163.2,2,  34.6889,4,   162.91,2,   143.19,2,    35.31,2,     0.00,2,    2.450,2,     -999,9,     -999,9,   2312.7,2,   2408.1,2,   7.5949,2,    25.00,     -999,9,     -999,9,     -999,9,     -999,9,   1.0725,2,  27.7911,2,   1.4762,2
49UP20210827_1,   P03,    62,  1,      5,     317,3,20210906,2309,2331, 24.2623, 158.4090, 5781,   5008.6,    1.4886,  34.6915,2,    166.7,2,  34.6919,2,   166.69,2,   140.51,2,    34.93,2,     0.00,2,    2.420,2,     -999,9,     -999,9,   2309.7,2,   2406.8,2,   7.5997,6,    25.00,     -999,9,     -999,9,     -999,9,     -999,9,   1.0537,2,  27.7939,2,   1.4886,2
49UP20210827_1,   P03,    62,  1,      4,     316,2,20210906,2309,2325, 24.2623, 158.4090, 5781,   5266.2,    1.5056,  34.6930,2,    169.3,2,  34.6931,2,   169.50,2,   138.54,2,    34.85,2,     0.00,2,    2.410,2,     -999,9,     -999,9,   2303.5,3,   2404.2,6,   7.6033,2,    25.00,     -999,9,     -999,9,     -999,9,     -999,9,   1.0383,2,  27.7961,2,   1.5057,2
49UP20210827_1,   P03,    62,  1,      3,     315,2,20210906,2309,2319, 24.2623, 158.4090, 5781,   5525.1,    1.5314,  34.6936,2,    170.7,2,  34.6938,2,   171.00,2,   137.85,2,    34.74,2,     0.00,2,    2.410,2,     -999,9,     -999,9,   2305.0,2,   2403.9,2,   7.6051,2,    25.00,     -999,9,     -999,9,     -999,9,     -999,9,   1.0305,2,  27.7971,2,   1.5313,2
49UP20210827_1,   P03,    62,  1,      2,     314,2,20210906,2309,2313, 24.2623, 158.4090, 5781,   5780.3,    1.5620,  34.6941,2,    171.2,2,  34.6940,6,   171.27,2,   137.62,2,    34.72,2,     0.00,2,    2.410,2,     -999,9,     -999,9,   2306.1,2,   2403.8,2,   7.6013,2,    25.00,     -999,9,     -999,9,     -999,9,     -999,9,   1.0268,2,  27.7977,2,   1.5620,2
49UP20210827_1,   P03,    62,  1,      1,     811,2,20210906,2309,2310, 24.2623, 158.4090, 5781,   5929.0,    1.5818,  34.6940,2,    171.7,2,  34.6942,2,   171.73,6,   137.14,6,    34.65,6,     0.00,6,    2.410,6,     -999,9,     -999,9,   2308.3,2,   2404.2,2,   7.6050,2,    25.00,     -999,9,     -999,9,     -999,9,     -999,9,   1.0262,2,  27.7977,2,   1.5815,2