BOTTLE,20230808CCHSIOADS
EXPOCODE,SECT_ID,STNNBR,CASTNO,SAMPNO,BTLNBR,BTLNBR_FLAG_W,DATE,TIME,BTL_TIME,LATITUDE,LONGITUDE,DEPTH,CTDPRS,CTDTMP,CTDSAL,CTDSAL_FLAG_W,CTDOXY,CTDOXY_FLAG_W,SALNTY,SALNTY_FLAG_W,OXYGEN,OXYGEN_FLAG_W,SILCAT,SILCAT_FLAG_W,NO2+NO3,NO2+NO3_FLAG_W,NITRIT,NITRIT_FLAG_W,PHSPHT,PHSPHT_FLAG_W,CFC-11,CFC-11_FLAG_W,CFC-12,CFC-12_FLAG_W,TCARBN,TCARBN_FLAG_W,ALKALI,ALKALI_FLAG_W,PH_TOT,PH_TOT_FLAG_W,PH_TMP,CFC113,CFC113_FLAG_W,SF6,SF6_FLAG_W,CHLORA,CHLORA_FLAG_W,PPHYTN,PPHYTN_FLAG_W,THETA,THETA_FLAG_W,SIG0,SIG0_FLAG_W,SBE35,SBE35_FLAG_W
,,,,,,,,,,,,METERS,DBAR,ITS-90,PSS-78,,UMOL/KG,,PSS78,,UMOL/KG,,UMOL/KG,,UMOL/KG,,UMOL/KG,,UMOL/KG,,PMOL/KG,,PMOL/KG,,UMOL/KG,,UMOL/KG,,,,DEG C,PMOL/KG,,FMOL/KG,,UG/KG,,UG/KG,,ITS-90,,KG/M^3,,ITS-90,
49UP20210827_1,   P03,    54,  1,      0,     BUC,2,20210903,2052,2250, 24.2408, 152.0518, 5424,      0.0,   29.1167,  34.7735,2,    196.4,2,  34.7775,2,   196.93,2,     1.29,2,     0.00,2,     0.00,2,    0.030,2,     -999,9,     -999,9,   1962.1,2,   2277.4,2,   8.0897,2,    25.00,     -999,9,     -999,9,     0.04,2,     0.02,2,  29.1162,2,  21.8552,2,     -999,9
49UP20210827_1,   P03,    54,  1,     36,     757,2,20210903,2052,2322, 24.2408, 152.0518, 5424,      9.7,   29.1128,  34.7727,2,    196.6,2,  34.7718,2,   197.54,2,     1.32,2,     0.00,2,     0.00,2,    0.010,2,     -999,9,     -999,9,   1963.5,2,   2277.3,2,   8.0888,2,    25.00,     -999,9,     -999,9,     0.04,2,     0.02,2,  29.1104,2,  21.8565,2,  29.1171,2
49UP20210827_1,   P03,    54,  1,     35,     756,2,20210903,2052,2318, 24.2408, 152.0518, 5424,     49.0,   27.4382,  34.8619,2,    211.1,2,  34.8692,2,   212.05,2,     1.33,2,     0.00,2,     0.00,2,    0.010,2,     -999,9,     -999,9,   1969.0,2,   2285.4,2,   8.0903,2,    25.00,     -999,9,     -999,9,     0.05,2,     0.02,2,  27.4269,2,  22.4768,2,  27.4132,2
49UP20210827_1,   P03,    54,  1,     34,     843,2,20210903,2052,2317, 24.2408, 152.0518, 5424,     75.4,   23.2602,  35.0158,2,    223.9,2,  35.0186,2,   222.97,2,     1.60,2,     0.00,2,     0.00,2,    0.020,2,     -999,9,     -999,9,   1995.6,2,   2294.3,2,   8.0596,2,    25.00,     -999,9,     -999,9,     0.11,2,     0.05,2,  23.2447,2,  23.8748,2,  23.3014,2
49UP20210827_1,   P03,    54,  1,     33,     842,2,20210903,2052,2315, 24.2408, 152.0518, 5424,    100.1,   21.4596,  34.9587,2,    216.0,2,  34.9608,2,   216.27,2,     1.99,2,     0.00,2,     0.00,2,    0.030,2,     -999,9,     -999,9,   2075.4,4,   2269.7,4,   8.0255,2,    25.00,     -999,9,     -999,9,     0.15,2,     0.14,2,  21.4402,2,  24.3420,2,  21.4809,2
49UP20210827_1,   P03,    54,  1,     32,     841,2,20210903,2052,2313, 24.2408, 152.0518, 5424,    125.1,   19.7870,  34.8747,2,    200.1,2,  34.8741,2,   200.51,2,     2.56,2,     0.69,2,     0.03,2,    0.100,2,     -999,9,     -999,9,   2038.3,2,   2284.9,2,   7.9735,6,    25.00,     -999,9,     -999,9,     0.15,2,     0.35,2,  19.7641,2,  24.7281,2,  19.7828,2
49UP20210827_1,   P03,    54,  1,     31,     840,2,20210903,2052,2312, 24.2408, 152.0518, 5424,    149.5,   18.6958,  34.8043,2,    202.8,2,  34.8040,2,   203.18,2,     3.02,2,     2.19,2,     0.02,2,    0.180,2,     -999,9,     -999,9,   2040.9,6,   2279.1,6,   7.9608,2,    25.00,     -999,9,     -999,9,     0.05,2,     0.17,2,  18.6695,2,  24.9554,2,  18.6956,2
49UP20210827_1,   P03,    54,  1,     30,     839,2,20210903,2052,2310, 24.2408, 152.0518, 5424,    204.1,   17.6328,  34.7500,2,    217.8,2,  34.7487,6,   218.45,2,     3.58,2,     2.97,2,     0.01,2,    0.230,2,     -999,9,     -999,9,   2033.8,2,   2275.4,2,   7.9643,2,    25.00,     -999,9,     -999,9,     0.00,2,     0.01,2,  17.5983,2,  25.1787,2,  17.6353,2
49UP20210827_1,   P03,    54,  1,     29,     838,2,20210903,2052,2308, 24.2408, 152.0518, 5424,    252.2,   17.1757,  34.7455,2,    210.3,2,  34.7450,2,   210.30,6,     4.53,6,     4.25,6,     0.01,6,    0.310,6,     -999,9,     -999,9,   2047.3,2,   2274.8,2,   7.9421,2,    25.00,     -999,9,     -999,9,     -999,9,     -999,9,  17.1338,2,  25.2871,2,  17.1763,2
49UP20210827_1,   P03,    54,  1,     28,     755,2,20210903,2052,2305, 24.2408, 152.0518, 5424,    332.4,   15.3516,  34.6029,2,    193.7,2,  34.6035,2,   193.59,2,     9.25,2,     8.52,2,     0.00,2,    0.600,2,     -999,9,     -999,9,   2016.3,4,   2291.4,4,   7.8755,2,    25.00,     -999,9,     -999,9,     -999,9,     -999,9,  15.3004,2,  25.5996,2,  15.3519,2
49UP20210827_1,   P03,    54,  1,     27,     754,2,20210903,2052,2302, 24.2408, 152.0518, 5424,    434.0,   12.3292,  34.3533,2,    190.1,2,  34.3526,2,   190.27,2,    16.87,2,    13.52,2,     0.00,2,    0.970,2,     -999,9,     -999,9,   2113.2,2,   2264.3,3,   7.7888,2,    25.00,     -999,9,     -999,9,     -999,9,     -999,9,  12.2714,2,  26.0348,2,  12.3303,2
49UP20210827_1,   P03,    54,  1,     26,     835,2,20210903,2052,2258, 24.2408, 152.0518, 5424,    535.7,    9.6390,  34.1532,2,    177.1,2,  34.1543,2,   177.22,2,    28.18,2,    19.43,2,     0.00,2,    1.400,2,     -999,9,     -999,9,   2147.1,2,   2263.1,2,   7.6943,2,    25.00,     -999,9,     -999,9,     -999,9,     -999,9,   9.5779,2,  26.3613,2,   9.6451,2
49UP20210827_1,   P03,    54,  1,     25,     834,2,20210903,2052,2255, 24.2408, 152.0518, 5424,    635.3,    6.9733,  34.0635,2,    126.4,2,  34.0633,2,   126.33,2,    53.76,2,    29.03,2,     0.00,2,    2.110,2,     -999,9,     -999,9,   2218.2,2,   2279.7,2,   7.5414,2,    25.00,     -999,9,     -999,9,     -999,9,     -999,9,   6.9130,2,  26.6929,2,   6.9762,2
49UP20210827_1,   P03,    54,  1,     24,     753,2,20210903,2052,2252, 24.2408, 152.0518, 5424,    734.4,    5.3679,  34.1346,2,     74.0,2,  34.1345,2,    73.50,2,    80.84,2,    36.56,2,     0.00,2,    2.660,2,     -999,9,     -999,9,   2280.1,2,   2305.5,2,   7.4249,2,    25.00,     -999,9,     -999,9,     -999,9,     -999,9,   5.3065,2,  26.9535,2,   5.3674,2
49UP20210827_1,   P03,    54,  1,     23,     832,2,20210903,2052,2249, 24.2408, 152.0518, 5424,    836.5,    4.6072,  34.2340,2,     51.1,2,  34.2332,2,    50.95,2,    98.81,2,    39.77,2,     0.00,2,    2.890,2,     -999,9,     -999,9,   2316.3,2,   2325.9,2,   7.3845,6,    25.00,     -999,9,     -999,9,     -999,9,     -999,9,   4.5414,2,  27.1193,2,   4.6071,2
49UP20210827_1,   P03,    54,  1,     22,     831,2,20210903,2052,2246, 24.2408, 152.0518, 5424,    938.6,    4.1781,  34.3461,2,     49.3,2,  34.3464,2,    49.07,2,   109.51,2,    40.60,2,     0.00,2,    2.950,2,     -999,9,     -999,9,   2330.9,6,   2344.6,6,   7.3916,2,    25.00,     -999,9,     -999,9,     -999,9,     -999,9,   4.1065,2,  27.2549,2,   4.1782,2
49UP20210827_1,   P03,    54,  1,     21,     830,2,20210903,2052,2242, 24.2408, 152.0518, 5424,   1081.4,    3.7577,  34.4253,2,     55.3,2,  34.4240,6,    55.34,2,   119.30,2,    40.71,2,     0.00,2,    2.940,2,     -999,9,     -999,9,   2338.4,2,   2358.6,2,   7.4104,2,    25.00,     -999,9,     -999,9,     -999,9,     -999,9,   3.6774,2,  27.3618,2,   3.7573,2
49UP20210827_1,   P03,    54,  1,     20,     829,2,20210903,2052,2237, 24.2408, 152.0518, 5424,   1282.9,    3.1384,  34.4839,2,     62.5,2,  34.4837,2,    62.27,6,   133.70,6,    40.93,6,     0.00,6,    2.930,6,     -999,9,     -999,9,   2349.8,2,   2375.8,2,   7.4207,2,    25.00,     -999,9,     -999,9,     -999,9,     -999,9,   3.0472,2,  27.4688,2,   3.1384,2
49UP20210827_1,   P03,    54,  1,     19,     828,2,20210903,2052,2232, 24.2408, 152.0518, 5424,   1485.2,    2.5529,  34.5337,2,     71.0,2,  34.5341,2,    71.15,2,   146.17,2,    40.71,2,     0.00,2,    2.910,2,     -999,9,     -999,9,   2356.0,2,   2387.7,2,   7.4366,2,    25.00,     -999,9,     -999,9,     -999,9,     -999,9,   2.4515,2,  27.5611,2,   2.5531,2
49UP20210827_1,   P03,    54,  1,     18,     752,2,20210903,2052,2227, 24.2408, 152.0518, 5424,   1688.3,    2.1985,  34.5747,2,     81.8,2,  34.5747,2,    81.78,2,   152.67,2,    40.27,2,     0.00,2,    2.870,2,     -999,9,     -999,9,   2359.6,2,   2397.7,2,   7.4551,2,    25.00,     -999,9,     -999,9,     -999,9,     -999,9,   2.0851,2,  27.6242,2,   2.1986,2
49UP20210827_1,   P03,    54,  1,     17,     751,2,20210903,2052,2222, 24.2408, 152.0518, 5424,   1890.8,    1.9649,  34.6040,2,     94.3,2,  34.6041,2,    94.40,2,   155.66,2,    39.57,2,     0.00,2,    2.810,2,     -999,9,     -999,9,   2358.4,2,   2401.0,3,   7.4785,2,    25.00,     -999,9,     -999,9,     -999,9,     -999,9,   1.8381,2,  27.6671,2,   1.9645,2
49UP20210827_1,   P03,    54,  1,     16,     328,2,20210903,2052,2217, 24.2408, 152.0518, 5424,   2093.3,    1.8486,  34.6209,2,    104.0,2,  34.6208,2,   104.08,2,   155.37,2,    39.01,2,     0.00,2,    2.760,2,     -999,9,     -999,9,   2350.3,2,   2404.6,2,   7.4957,2,    25.00,     -999,9,     -999,9,     -999,9,     -999,9,   1.7067,2,  27.6906,2,   1.8485,2
49UP20210827_1,   P03,    54,  1,     15,     822,2,20210903,2052,2212, 24.2408, 152.0518, 5424,   2296.6,    1.7336,  34.6373,2,    114.4,2,  34.6371,2,   114.47,2,   155.24,2,    38.36,2,     0.00,2,    2.720,2,     -999,9,     -999,9,   2349.8,2,   2407.0,3,   7.5152,2,    25.00,     -999,9,     -999,9,     -999,9,     -999,9,   1.5762,2,  27.7135,2,   1.7335,2
49UP20210827_1,   P03,    54,  1,     14,     326,2,20210903,2052,2207, 24.2408, 152.0518, 5424,   2500.9,    1.6637,  34.6476,2,    121.5,2,  34.6469,4,   121.30,2,   154.63,2,    37.90,2,     0.00,2,    2.670,2,     -999,9,     -999,9,   2344.3,2,   2406.7,3,   7.5302,2,    25.00,     -999,9,     -999,9,     -999,9,     -999,9,   1.4897,2,  27.7281,2,   1.6637,2
49UP20210827_1,   P03,    54,  1,     13,     325,2,20210903,2052,2202, 24.2408, 152.0518, 5424,   2703.9,    1.6052,  34.6562,2,    128.0,2,  34.6562,2,   128.07,2,   154.01,2,    37.43,2,     0.00,2,    2.640,2,     -999,9,     -999,9,   2339.8,2,   2409.6,2,   7.5398,2,    25.00,     -999,9,     -999,9,     -999,9,     -999,9,   1.4139,2,  27.7405,2,   1.6050,2
49UP20210827_1,   P03,    54,  1,     12,     324,2,20210903,2052,2157, 24.2408, 152.0518, 5424,   2907.6,    1.5604,  34.6633,2,    133.7,2,  34.6636,6,   134.63,2,   153.54,2,    37.01,2,     0.00,2,    2.610,2,     -999,9,     -999,9,   2339.2,2,   2414.9,2,   7.5504,2,    25.00,     -999,9,     -999,9,     -999,9,     -999,9,   1.3511,2,  27.7507,2,   1.5604,2
49UP20210827_1,   P03,    54,  1,     11,     323,2,20210903,2052,2152, 24.2408, 152.0518, 5424,   3122.0,    1.5239,  34.6692,2,    138.8,2,  34.6692,2,   138.87,6,   152.67,6,    36.66,6,     0.00,6,    2.590,6,     -999,9,     -999,9,   2336.0,2,   2413.2,2,   7.5594,2,    25.00,     -999,9,     -999,9,     -999,9,     -999,9,   1.2948,2,  27.7594,2,   1.5238,2
49UP20210827_1,   P03,    54,  1,     10,     322,2,20210903,2052,2146, 24.2408, 152.0518, 5424,   3377.5,    1.4918,  34.6747,2,    144.3,2,  34.6748,2,   144.12,2,   151.66,2,    36.34,2,     0.00,2,    2.560,2,     -999,9,     -999,9,   2327.8,2,   2412.9,2,   7.5660,2,    25.00,     -999,9,     -999,9,     -999,9,     -999,9,   1.2383,2,  27.7677,2,   1.4919,2
49UP20210827_1,   P03,    54,  1,      9,     750,2,20210903,2052,2140, 24.2408, 152.0518, 5424,   3633.5,    1.4701,  34.6792,2,    149.2,2,  34.6792,2,   149.47,2,   150.11,2,    36.01,2,     0.00,2,    2.530,2,     -999,9,     -999,9,   2327.1,2,   2410.9,2,   7.5749,2,    25.00,     -999,9,     -999,9,     -999,9,     -999,9,   1.1910,2,  27.7746,2,   1.4701,2
49UP20210827_1,   P03,    54,  1,      8,     320,2,20210903,2052,2135, 24.2408, 152.0518, 5424,   3889.7,    1.4541,  34.6831,2,    153.9,2,  34.6835,2,   154.13,2,   148.41,2,    35.83,2,     0.00,2,    2.510,2,     -999,9,     -999,9,   2319.6,2,   2410.7,2,   7.5825,6,    25.00,     -999,9,     -999,9,     -999,9,     -999,9,   1.1484,2,  27.7807,2,   1.4540,2
49UP20210827_1,   P03,    54,  1,      7,     319,2,20210903,2052,2129, 24.2408, 152.0518, 5424,   4145.9,    1.4551,  34.6856,2,    157.2,2,  34.6852,2,   157.45,2,   147.05,2,    35.55,2,     0.00,2,    2.490,2,     -999,9,     -999,9,   2321.1,6,   2409.1,6,   7.5866,2,    25.00,     -999,9,     -999,9,     -999,9,     -999,9,   1.1215,2,  27.7845,2,   1.4551,2
49UP20210827_1,   P03,    54,  1,      6,     318,2,20210903,2052,2119, 24.2408, 152.0518, 5424,   4401.8,    1.4584,  34.6880,2,    160.7,2,  34.6879,2,   161.19,2,   145.27,2,    35.31,2,     0.00,2,    2.470,2,     -999,9,     -999,9,   2317.3,2,   2406.8,2,   7.5925,2,    25.00,     -999,9,     -999,9,     -999,9,     -999,9,   1.0959,2,  27.7882,2,   1.4583,2
49UP20210827_1,   P03,    54,  1,      5,     317,2,20210903,2052,2114, 24.2408, 152.0518, 5424,   4659.5,    1.4664,  34.6900,2,    163.5,2,  34.6897,2,   163.56,2,   143.83,2,    35.14,2,     0.00,2,    2.450,2,     -999,9,     -999,9,   2314.0,2,   2406.4,2,   7.5954,2,    25.00,     -999,9,     -999,9,     -999,9,     -999,9,   1.0739,2,  27.7913,2,   1.4664,2
49UP20210827_1,   P03,    54,  1,      4,     316,2,20210903,2052,2108, 24.2408, 152.0518, 5424,   4916.2,    1.4856,  34.6910,2,    165.8,2,  34.6908,2,   166.29,2,   142.03,2,    35.05,2,     0.00,2,    2.440,2,     -999,9,     -999,9,   2311.5,2,   2404.4,2,   7.5975,2,    25.00,     -999,9,     -999,9,     -999,9,     -999,9,   1.0620,2,  27.7929,2,   1.4857,2
49UP20210827_1,   P03,    54,  1,      3,     315,2,20210903,2052,2102, 24.2408, 152.0518, 5424,   5173.1,    1.5010,  34.6926,2,    168.7,2,  34.6928,6,   168.93,2,   139.83,2,    34.82,2,     0.00,2,    2.420,2,     -999,9,     -999,9,   2308.3,2,   2403.2,2,   7.6011,2,    25.00,     -999,9,     -999,9,     -999,9,     -999,9,   1.0455,2,  27.7953,2,   1.5010,2
49UP20210827_1,   P03,    54,  1,      2,     314,2,20210903,2052,2056, 24.2408, 152.0518, 5424,   5430.2,    1.5211,  34.6937,2,    171.0,2,  34.6940,2,   171.15,6,   137.95,6,    34.67,6,     0.00,6,    2.410,6,     -999,9,     -999,9,   2308.3,2,   2400.4,2,   7.6042,2,    25.00,     -999,9,     -999,9,     -999,9,     -999,9,   1.0326,2,  27.7970,2,   1.5211,2
49UP20210827_1,   P03,    54,  1,      1,     811,2,20210903,2052,2052, 24.2408, 152.0518, 5424,   5565.4,    1.5140,  34.6956,2,    175.0,2,  34.6959,2,   175.25,2,   135.09,2,    34.41,2,     0.00,2,    2.390,2,     -999,9,     -999,9,   2304.3,2,   2398.4,2,   7.6074,2,    25.00,     -999,9,     -999,9,     -999,9,     -999,9,   1.0085,2,  27.8002,2,   1.5139,2