BOTTLE,20230808CCHSIOADS
EXPOCODE,SECT_ID,STNNBR,CASTNO,SAMPNO,BTLNBR,BTLNBR_FLAG_W,DATE,TIME,BTL_TIME,LATITUDE,LONGITUDE,DEPTH,CTDPRS,CTDTMP,CTDSAL,CTDSAL_FLAG_W,CTDOXY,CTDOXY_FLAG_W,SALNTY,SALNTY_FLAG_W,OXYGEN,OXYGEN_FLAG_W,SILCAT,SILCAT_FLAG_W,NO2+NO3,NO2+NO3_FLAG_W,NITRIT,NITRIT_FLAG_W,PHSPHT,PHSPHT_FLAG_W,CFC-11,CFC-11_FLAG_W,CFC-12,CFC-12_FLAG_W,TCARBN,TCARBN_FLAG_W,ALKALI,ALKALI_FLAG_W,PH_TOT,PH_TOT_FLAG_W,PH_TMP,CFC113,CFC113_FLAG_W,SF6,SF6_FLAG_W,CHLORA,CHLORA_FLAG_W,PPHYTN,PPHYTN_FLAG_W,THETA,THETA_FLAG_W,SIG0,SIG0_FLAG_W,SBE35,SBE35_FLAG_W
,,,,,,,,,,,,METERS,DBAR,ITS-90,PSS-78,,UMOL/KG,,PSS78,,UMOL/KG,,UMOL/KG,,UMOL/KG,,UMOL/KG,,UMOL/KG,,PMOL/KG,,PMOL/KG,,UMOL/KG,,UMOL/KG,,,,DEG C,PMOL/KG,,FMOL/KG,,UG/KG,,UG/KG,,ITS-90,,KG/M^3,,ITS-90,
49UP20210920_1,   P03,    87,  1,      0,     BUC,2,20211004,0303, 500, 24.2660, 177.5713, 5748,      0.0,   27.8487,  35.1502,2,    201.9,2,  35.1547,2,   201.33,2,     1.00,2,     0.04,2,     0.00,2,    0.020,2,     -999,9,     -999,9,   1985.3,2,   2311.6,2,   8.0878,2,    25.00,     -999,9,     -999,9,     0.05,2,     0.02,2,  27.8480,2,  22.5572,2,     -999,9
49UP20210920_1,   P03,    87,  1,     36,     757,2,20211004,0303, 537, 24.2660, 177.5713, 5748,      8.5,   27.8589,  35.1496,2,    201.9,2,  35.1483,2,   201.51,2,     1.09,2,     0.13,2,     0.00,2,    0.010,2,     -999,9,     -999,9,   1985.6,2,   2311.8,2,   8.0879,6,    25.00,     -999,9,     -999,9,     0.05,2,     0.02,2,  27.8569,2,  22.5539,2,  27.8586,2
49UP20210920_1,   P03,    87,  1,     35,     756,2,20211004,0303, 535, 24.2660, 177.5713, 5748,     49.7,   27.6222,  35.1283,2,    204.3,2,  35.1276,2,   203.45,2,     1.09,2,     0.05,2,     0.00,2,    0.000,2,     -999,9,     -999,9,   1985.5,6,   2308.5,6,   8.0882,2,    25.00,     -999,9,     -999,9,     0.07,2,     0.03,2,  27.6106,2,  22.6179,2,  27.6396,2
49UP20210920_1,   P03,    87,  1,     34,     843,2,20211004,0303, 530, 24.2660, 177.5713, 5748,    100.3,   23.4582,  35.2183,2,    214.7,2,  35.2163,2,   213.81,2,     1.24,2,     0.09,2,     0.00,2,    0.010,2,     -999,9,     -999,9,   2013.1,2,   2314.9,2,   8.0482,2,    25.00,     -999,9,     -999,9,     0.15,2,     0.13,2,  23.4374,2,  23.9722,2,  23.4673,2
49UP20210920_1,   P03,    87,  1,     33,     842,2,20211004,0303, 528, 24.2660, 177.5713, 5748,    150.1,   21.4365,  35.1212,2,    199.3,2,  35.1227,2,   199.41,2,     2.01,2,     0.72,2,     0.07,2,    0.100,2,     -999,9,     -999,9,   2043.0,2,   2309.3,2,   7.9859,2,    25.00,     -999,9,     -999,9,     0.08,2,     0.29,2,  21.4074,2,  24.4747,2,  21.4444,2
49UP20210920_1,   P03,    87,  1,     32,     841,2,20211004,0303, 526, 24.2660, 177.5713, 5748,    202.7,   19.0717,  34.9180,2,    207.5,2,  34.9189,2,   207.81,2,     2.86,2,     1.64,2,     0.01,2,    0.150,2,     -999,9,     -999,9,   2048.0,2,   2293.7,2,   7.9603,2,    25.00,     -999,9,     -999,9,     0.01,2,     0.03,2,  19.0355,2,  24.9495,2,  19.0747,2
49UP20210920_1,   P03,    87,  1,     31,     840,2,20211004,0303, 524, 24.2660, 177.5713, 5748,    250.7,   17.0168,  34.7142,2,    206.1,2,  34.7158,2,   206.70,2,     4.42,2,     4.40,2,     0.00,2,    0.310,2,     -999,9,     -999,9,   2054.5,2,   2282.7,2,   7.9239,2,    25.00,     -999,9,     -999,9,     -999,9,     -999,9,  16.9755,2,  25.3007,2,  17.0022,2
49UP20210920_1,   P03,    87,  1,     30,     839,2,20211004,0303, 522, 24.2660, 177.5713, 5748,    281.2,   15.9911,  34.6247,2,    205.9,2,  34.6256,6,   205.98,2,     5.88,2,     5.83,2,     0.00,2,    0.410,2,     -999,9,     -999,9,   2063.4,2,   2277.8,2,   7.8980,2,    25.00,     -999,9,     -999,9,     -999,9,     -999,9,  15.9466,2,  25.4710,2,  15.9931,2
49UP20210920_1,   P03,    87,  1,     29,     838,2,20211004,0303, 519, 24.2660, 177.5713, 5748,    371.7,   12.7811,  34.3411,2,    202.4,2,  34.3414,2,   202.47,6,    12.06,6,    11.29,6,     0.00,6,    0.790,6,     -999,9,     -999,9,   2095.1,2,   2265.5,2,   7.8106,2,    25.00,     -999,9,     -999,9,     -999,9,     -999,9,  12.7306,2,  25.9359,2,  12.7821,2
49UP20210920_1,   P03,    87,  1,     28,     755,2,20211004,0303, 516, 24.2660, 177.5713, 5748,    475.6,   10.0000,  34.1508,2,    180.7,2,  34.1519,2,   180.96,2,    23.81,2,    18.52,2,     0.00,2,    1.300,2,     -999,9,     -999,9,   2142.7,2,   2265.5,2,   7.7022,2,    25.00,     -999,9,     -999,9,     -999,9,     -999,9,   9.9446,2,  26.2982,2,  10.0046,2
49UP20210920_1,   P03,    87,  1,     27,     754,2,20211004,0303, 513, 24.2660, 177.5713, 5748,    575.1,    7.7226,  34.0844,2,    129.2,2,  34.0837,2,   128.56,2,    45.02,2,    27.78,2,     0.00,2,    1.980,2,     -999,9,     -999,9,   2205.3,2,   2280.0,2,   7.5575,6,    25.00,     -999,9,     -999,9,     -999,9,     -999,9,   7.6650,2,  26.6038,2,   7.7236,2
49UP20210920_1,   P03,    87,  1,     26,     835,2,20211004,0303, 509, 24.2660, 177.5713, 5748,    675.3,    6.1022,  34.0993,2,     87.2,2,  34.0986,2,    86.89,2,    67.47,2,    34.54,2,     0.00,2,    2.470,2,     -999,9,     -999,9,   2259.3,6,   2299.7,6,   7.4547,2,    25.00,     -999,9,     -999,9,     -999,9,     -999,9,   6.0423,2,  26.8356,2,   6.1030,2
49UP20210920_1,   P03,    87,  1,     25,     834,2,20211004,0303, 506, 24.2660, 177.5713, 5748,    775.3,    4.8402,  34.1843,2,     52.6,2,  34.1837,2,    53.10,2,    92.19,2,    39.68,2,     0.00,2,    2.850,2,     -999,9,     -999,9,   2306.8,2,   2324.2,2,   7.3858,2,    25.00,     -999,9,     -999,9,     -999,9,     -999,9,   4.7783,2,  27.0536,2,   4.8403,2
49UP20210920_1,   P03,    87,  1,     24,     753,2,20211004,0303, 503, 24.2660, 177.5713, 5748,    877.5,    4.2574,  34.2968,2,     39.0,2,  34.2962,2,    39.22,2,   106.81,2,    41.78,2,     0.00,2,    2.990,2,     -999,9,     -999,9,   2332.6,2,   2345.2,2,   7.3657,2,    25.00,     -999,9,     -999,9,     -999,9,     -999,9,   4.1904,2,  27.2069,2,   4.2578,2
49UP20210920_1,   P03,    87,  1,     23,     832,2,20211004,0303, 500, 24.2660, 177.5713, 5748,    978.5,    3.8798,  34.3754,2,     39.1,2,  34.3747,2,    38.85,2,   116.19,2,    42.31,2,     0.00,2,    3.030,2,     -999,9,     -999,9,   2345.6,2,   2360.6,2,   7.3691,2,    25.00,     -999,9,     -999,9,     -999,9,     -999,9,   3.8071,2,  27.3090,2,   3.8781,2
49UP20210920_1,   P03,    87,  1,     22,     831,2,20211004,0303, 455, 24.2660, 177.5713, 5748,   1139.8,    3.4820,  34.4743,2,     53.8,2,  34.4744,2,    53.82,2,   124.24,2,    41.71,2,     0.00,2,    2.970,2,     -999,9,     -999,9,   2347.4,2,   2377.5,2,   7.4082,2,    25.00,     -999,9,     -999,9,     -999,9,     -999,9,   3.3992,2,  27.4280,2,   3.4815,2
49UP20210920_1,   P03,    87,  1,     21,     830,2,20211004,0303, 450, 24.2660, 177.5713, 5748,   1342.3,    3.0994,  34.5367,2,     70.8,2,  34.5364,6,    70.59,2,   130.37,2,    40.84,2,     0.00,2,    2.900,2,     -999,9,     -999,9,   2346.2,2,   2387.8,2,   7.4449,2,    25.00,     -999,9,     -999,9,     -999,9,     -999,9,   3.0036,2,  27.5149,2,   3.0986,2
49UP20210920_1,   P03,    87,  1,     20,     829,2,20211004,0303, 445, 24.2660, 177.5713, 5748,   1546.6,    2.6712,  34.5690,2,     79.6,2,  34.5689,2,    79.58,6,   139.26,6,    40.56,6,     0.00,6,    2.870,6,     -999,9,     -999,9,   2351.4,2,   2398.0,2,   7.4607,2,    25.00,     -999,9,     -999,9,     -999,9,     -999,9,   2.5634,2,  27.5799,2,   2.6708,2
49UP20210920_1,   P03,    87,  1,     19,     828,2,20211004,0303, 440, 24.2660, 177.5713, 5748,   1749.9,    2.3445,  34.5960,2,     89.3,2,  34.5960,2,    89.31,2,   145.86,2,    40.17,2,     0.00,2,    2.830,2,     -999,9,     -999,9,   2353.8,2,   2405.9,2,   7.4781,2,    25.00,     -999,9,     -999,9,     -999,9,     -999,9,   2.2240,2,  27.6300,2,   2.3446,2
49UP20210920_1,   P03,    87,  1,     18,     752,2,20211004,0303, 435, 24.2660, 177.5713, 5748,   1953.1,    2.1081,  34.6110,2,     94.5,2,  34.6112,2,    94.36,2,   151.45,2,    39.99,2,     0.00,2,    2.810,2,     -999,9,     -999,9,   2355.7,2,   2409.7,2,   7.4825,2,    25.00,     -999,9,     -999,9,     -999,9,     -999,9,   1.9740,2,  27.6620,2,   2.1080,2
49UP20210920_1,   P03,    87,  1,     17,     751,2,20211004,0303, 430, 24.2660, 177.5713, 5748,   2154.3,    1.9351,  34.6235,2,    100.4,2,  34.6234,2,   100.04,2,   155.48,2,    39.69,2,     0.00,2,    2.780,2,     -999,9,     -999,9,   2360.4,2,   2412.9,2,   7.4937,2,    25.00,     -999,9,     -999,9,     -999,9,     -999,9,   1.7867,2,  27.6866,2,   1.9350,2
49UP20210920_1,   P03,    87,  1,     16,     328,2,20211004,0303, 425, 24.2660, 177.5713, 5748,   2358.2,    1.8083,  34.6360,2,    108.0,2,  34.6359,2,   107.94,2,   156.97,2,    39.21,2,     0.00,2,    2.740,2,     -999,9,     -999,9,   2350.5,2,   2416.4,2,   7.5070,2,    25.00,     -999,9,     -999,9,     -999,9,     -999,9,   1.6443,2,  27.7074,2,   1.8082,2
49UP20210920_1,   P03,    87,  1,     15,     822,2,20211004,0303, 420, 24.2660, 177.5713, 5748,   2561.7,    1.7196,  34.6464,2,    115.4,2,  34.6463,2,   115.44,2,   157.33,2,    38.70,2,     0.00,2,    2.700,2,     -999,9,     -999,9,   2349.6,2,   2418.4,2,   7.5221,2,    25.00,     -999,9,     -999,9,     -999,9,     -999,9,   1.5390,2,  27.7236,2,   1.7196,2
49UP20210920_1,   P03,    87,  1,     14,     326,2,20211004,0303, 416, 24.2660, 177.5713, 5748,   2765.6,    1.6487,  34.6542,2,    121.5,2,  34.6532,4,   121.24,2,   156.84,2,    38.32,2,     0.00,2,    2.670,2,     -999,9,     -999,9,   2346.4,2,   2420.1,2,   7.5342,2,    25.00,     -999,9,     -999,9,     -999,9,     -999,9,   1.4509,2,  27.7362,2,   1.6486,2
49UP20210920_1,   P03,    87,  1,     13,     325,2,20211004,0303, 411, 24.2660, 177.5713, 5748,   2969.4,    1.5882,  34.6613,2,    127.5,2,  34.6611,2,   127.62,2,   157.01,2,    37.96,2,     0.00,2,    2.640,2,     -999,9,     -999,9,   2342.7,2,   2418.0,2,   7.5410,2,    25.00,     -999,9,     -999,9,     -999,9,     -999,9,   1.3725,2,  27.7475,2,   1.5884,2
49UP20210920_1,   P03,    87,  1,     12,     324,2,20211004,0303, 405, 24.2660, 177.5713, 5748,   3213.3,    1.5469,  34.6677,2,    133.8,2,  34.6671,6,   133.68,2,   155.78,2,    37.58,2,     0.00,2,    2.600,2,     -999,9,     -999,9,   2339.6,2,   2418.2,2,   7.5548,2,    25.00,     -999,9,     -999,9,     -999,9,     -999,9,   1.3084,2,  27.7572,2,   1.5470,2
49UP20210920_1,   P03,    87,  1,     11,     323,2,20211004,0303, 359, 24.2660, 177.5713, 5748,   3470.5,    1.5048,  34.6742,2,    140.8,2,  34.6732,4,   140.88,6,   154.15,6,    37.08,6,     0.00,6,    2.570,6,     -999,9,     -999,9,   2336.1,2,   2417.8,2,   7.5645,2,    25.00,     -999,9,     -999,9,     -999,9,     -999,9,   1.2416,2,  27.7671,2,   1.5051,2
49UP20210920_1,   P03,    87,  1,     10,     322,2,20211004,0303, 353, 24.2660, 177.5713, 5748,   3726.8,    1.4794,  34.6787,2,    147.1,2,  34.6778,4,   147.42,2,   152.08,2,    36.67,2,     0.00,2,    2.530,2,     -999,9,     -999,9,   2330.9,2,   2417.8,2,   7.5749,2,    25.00,     -999,9,     -999,9,     -999,9,     -999,9,   1.1903,2,  27.7743,2,   1.4793,2
49UP20210920_1,   P03,    87,  1,      9,     750,2,20211004,0303, 347, 24.2660, 177.5713, 5748,   3982.3,    1.4610,  34.6829,2,    152.7,2,  34.6829,2,   152.62,2,   149.61,2,    36.30,2,     0.00,2,    2.500,2,     -999,9,     -999,9,   2325.6,2,   2415.4,2,   7.5815,2,    25.00,     -999,9,     -999,9,     -999,9,     -999,9,   1.1451,2,  27.7808,2,   1.4610,2
49UP20210920_1,   P03,    87,  1,      8,     320,2,20211004,0303, 341, 24.2660, 177.5713, 5748,   4237.7,    1.4548,  34.6861,2,    156.9,2,  34.6856,2,   156.91,2,   147.98,2,    35.94,2,     0.00,2,    2.480,2,     -999,9,     -999,9,   2321.1,2,   2415.6,2,   7.5842,2,    25.00,     -999,9,     -999,9,     -999,9,     -999,9,   1.1110,2,  27.7857,2,   1.4549,2
49UP20210920_1,   P03,    87,  1,      7,     319,2,20211004,0303, 335, 24.2660, 177.5713, 5748,   4493.2,    1.4463,  34.6891,2,    162.5,2,  34.6889,2,   162.39,2,   144.58,2,    35.54,2,     0.00,2,    2.450,2,     -999,9,     -999,9,   2315.5,2,   2411.1,2,   7.5940,2,    25.00,     -999,9,     -999,9,     -999,9,     -999,9,   1.0738,2,  27.7906,2,   1.4462,2
49UP20210920_1,   P03,    87,  1,      6,     318,2,20211004,0303, 329, 24.2660, 177.5713, 5748,   4751.4,    1.4410,  34.6925,2,    168.3,2,  34.6921,2,   168.09,2,   139.98,2,    35.04,2,     0.00,2,    2.410,2,     -999,9,     -999,9,   2308.8,2,   2409.3,2,   7.5973,2,    25.00,     -999,9,     -999,9,     -999,9,     -999,9,   1.0385,2,  27.7957,2,   1.4410,2
49UP20210920_1,   P03,    87,  1,      5,     317,2,20211004,0303, 324, 24.2660, 177.5713, 5748,   5007.2,    1.4441,  34.6947,2,    172.4,2,  34.6940,2,   172.35,2,   137.31,2,    34.79,2,     0.00,2,    2.390,2,     -999,9,     -999,9,   2307.2,2,   2401.7,2,   7.6048,6,    25.00,     -999,9,     -999,9,     -999,9,     -999,9,   1.0108,2,  27.7993,2,   1.4441,2
49UP20210920_1,   P03,    87,  1,      4,     316,2,20211004,0303, 318, 24.2660, 177.5713, 5748,   5266.1,    1.4548,  34.6963,2,    175.5,2,  34.6963,2,   175.51,2,   135.48,2,    34.55,2,     0.00,2,    2.380,2,     -999,9,     -999,9,   2302.7,6,   2401.1,6,   7.6093,2,    25.00,     -999,9,     -999,9,     -999,9,     -999,9,   0.9893,2,  27.8020,2,   1.4548,2
49UP20210920_1,   P03,    87,  1,      3,     315,2,20211004,0303, 312, 24.2660, 177.5713, 5748,   5525.2,    1.4756,  34.6972,2,    177.4,2,  34.6968,2,   177.29,2,   134.20,2,    34.34,2,     0.00,2,    2.370,2,     -999,9,     -999,9,   2299.5,2,   2399.2,2,   7.6084,2,    25.00,     -999,9,     -999,9,     -999,9,     -999,9,   0.9767,2,  27.8036,2,   1.4756,2
49UP20210920_1,   P03,    87,  1,      2,     314,2,20211004,0303, 306, 24.2660, 177.5713, 5748,   5781.8,    1.5015,  34.6977,2,    178.6,2,  34.6976,2,   178.42,6,   133.50,6,    34.25,6,     0.00,6,    2.360,6,     -999,9,     -999,9,   2298.7,2,   2398.9,2,   7.6067,2,    25.00,     -999,9,     -999,9,     -999,9,     -999,9,   0.9684,2,  27.8045,2,   1.5014,2
49UP20210920_1,   P03,    87,  1,      1,     811,2,20211004,0303, 303, 24.2660, 177.5713, 5748,   5891.6,    1.5158,  34.6979,2,    178.8,2,  34.6978,6,   178.73,2,   133.41,2,    34.27,2,     0.00,2,    2.360,2,     -999,9,     -999,9,   2298.2,2,   2399.1,2,   7.6107,2,    25.00,     -999,9,     -999,9,     -999,9,     -999,9,   0.9677,2,  27.8047,2,   1.5157,2