BOTTLE,20230808CCHSIOADS
EXPOCODE,SECT_ID,STNNBR,CASTNO,SAMPNO,BTLNBR,BTLNBR_FLAG_W,DATE,TIME,BTL_TIME,LATITUDE,LONGITUDE,DEPTH,CTDPRS,CTDTMP,CTDSAL,CTDSAL_FLAG_W,CTDOXY,CTDOXY_FLAG_W,SALNTY,SALNTY_FLAG_W,OXYGEN,OXYGEN_FLAG_W,SILCAT,SILCAT_FLAG_W,NO2+NO3,NO2+NO3_FLAG_W,NITRIT,NITRIT_FLAG_W,PHSPHT,PHSPHT_FLAG_W,CFC-11,CFC-11_FLAG_W,CFC-12,CFC-12_FLAG_W,TCARBN,TCARBN_FLAG_W,ALKALI,ALKALI_FLAG_W,PH_TOT,PH_TOT_FLAG_W,PH_TMP,CFC113,CFC113_FLAG_W,SF6,SF6_FLAG_W,CHLORA,CHLORA_FLAG_W,PPHYTN,PPHYTN_FLAG_W,THETA,THETA_FLAG_W,SIG0,SIG0_FLAG_W,SBE35,SBE35_FLAG_W
,,,,,,,,,,,,METERS,DBAR,ITS-90,PSS-78,,UMOL/KG,,PSS78,,UMOL/KG,,UMOL/KG,,UMOL/KG,,UMOL/KG,,UMOL/KG,,PMOL/KG,,PMOL/KG,,UMOL/KG,,UMOL/KG,,,,DEG C,PMOL/KG,,FMOL/KG,,UG/KG,,UG/KG,,ITS-90,,KG/M^3,,ITS-90,
49UP20210827_1,   P03,    70,  1,      0,     BUC,2,20210909,1957,2207, 24.0103, 164.9882, 6017,      0.0,   29.1159,  35.1657,2,    196.6,2,  35.1651,2,   197.14,2,     0.99,2,     0.04,2,     0.00,2,    0.030,2,     -999,9,     -999,9,   1980.3,2,   2311.7,2,   8.0970,2,    25.00,     -999,9,     -999,9,     0.11,4,     0.04,4,  29.1153,2,  22.1499,2,     -999,9
49UP20210827_1,   P03,    70,  1,     36,     757,2,20210909,1957,2231, 24.0103, 164.9882, 6017,      8.7,   29.1191,  35.1658,2,    196.4,2,  35.1652,2,   197.02,6,     1.00,6,     0.06,6,     0.00,6,    0.010,6,    1.048,2,    0.790,2,   1978.3,2,   2311.6,2,   8.0956,2,    25.00,    0.096,2,    1.338,2,     0.06,2,     0.02,2,  29.1170,2,  22.1494,2,  29.1183,2
49UP20210827_1,   P03,    70,  1,     35,     756,2,20210909,1957,2225, 24.0103, 164.9882, 6017,     48.6,   27.9100,  35.0903,2,    212.5,2,  35.0929,6,   212.04,2,     0.97,2,     0.06,2,     0.00,2,    0.010,2,    1.170,2,    0.842,2,   1974.8,2,   2308.6,2,   8.0969,2,    25.00,    0.106,2,    1.361,2,     0.09,2,     0.03,2,  27.8986,2,  22.4957,2,  27.8778,2
49UP20210827_1,   P03,    70,  1,     34,     843,2,20210909,1957,2223, 24.0103, 164.9882, 6017,    100.7,   24.4383,  35.3280,2,    214.9,2,  35.3276,2,   214.54,2,     1.25,2,     0.05,2,     0.00,2,    0.010,2,    1.376,2,    0.937,2,   2006.2,2,   2322.0,2,   8.0627,2,    25.00,    0.120,2,    1.505,2,     0.19,2,     0.14,2,  24.4168,2,  23.7654,2,  24.4404,2
49UP20210827_1,   P03,    70,  1,     33,     842,2,20210909,1957,2221, 24.0103, 164.9882, 6017,    149.8,   21.1871,  35.1118,2,    205.0,2,  35.1176,2,   205.44,2,     1.87,2,     0.33,2,     0.15,2,    0.060,2,     -999,9,     -999,9,   2035.7,2,   2308.4,2,   7.9918,2,    25.00,     -999,9,     -999,9,     0.08,2,     0.24,2,  21.1582,2,  24.5358,2,  21.2007,2
49UP20210827_1,   P03,    70,  1,     32,     841,2,20210909,1957,2219, 24.0103, 164.9882, 6017,    202.1,   18.3022,  34.8275,2,    202.7,2,  34.8288,2,   202.65,2,     3.19,2,     2.70,2,     0.00,2,    0.210,2,    1.929,2,    1.161,2,   2047.9,2,   2289.6,2,   7.9405,2,    25.00,    0.069,2,    1.730,2,     0.01,2,     0.04,2,  18.2671,2,  25.0739,2,  18.2972,2
49UP20210827_1,   P03,    70,  1,     31,     840,2,20210909,1957,2217, 24.0103, 164.9882, 6017,    250.9,   16.8357,  34.7142,2,    204.1,2,  34.7136,2,   204.13,2,     4.77,2,     5.04,2,     0.00,2,    0.340,2,     -999,9,     -999,9,   2055.2,2,   2281.6,2,   7.9148,2,    25.00,     -999,9,     -999,9,     -999,9,     -999,9,  16.7946,2,  25.3435,2,  16.8326,2
49UP20210827_1,   P03,    70,  1,     30,     839,2,20210909,1957,2215, 24.0103, 164.9882, 6017,    302.8,   15.8943,  34.6275,2,    200.3,2,  34.6289,2,   200.09,2,     6.50,2,     6.85,2,     0.00,2,    0.470,2,    2.185,2,    1.250,2,   2072.9,2,   2277.3,2,   7.8872,2,    25.00,    0.035,2,    1.673,2,     -999,9,     -999,9,  15.8466,2,  25.4960,2,  15.8989,2
49UP20210827_1,   P03,    70,  1,     29,     838,2,20210909,1957,2212, 24.0103, 164.9882, 6017,    403.2,   13.0311,  34.3758,2,    201.4,2,  34.3764,2,   201.50,2,    12.11,2,    11.11,2,     0.00,2,    0.770,2,     -999,9,     -999,9,   2094.5,2,   2270.1,2,   7.8141,2,    25.00,     -999,9,     -999,9,     -999,9,     -999,9,  12.9755,2,  25.9142,2,  13.0230,2
49UP20210827_1,   P03,    70,  1,     28,     755,2,20210909,1957,2209, 24.0103, 164.9882, 6017,    501.9,    9.9379,  34.1611,2,    179.0,2,  34.1617,6,   178.88,2,    25.52,2,    18.92,2,     0.00,2,    1.330,2,    2.749,2,    1.370,2,   2140.9,2,   2269.4,2,   7.6969,2,    25.00,    0.082,2,    1.385,2,     -999,9,     -999,9,   9.8796,2,  26.3172,2,   9.9374,2
49UP20210827_1,   P03,    70,  1,     27,     754,2,20210909,1957,2206, 24.0103, 164.9882, 6017,    607.0,    7.4009,  34.0628,2,    135.7,2,  34.0632,2,   135.89,6,    47.91,6,    27.67,6,     0.00,6,    1.960,6,     -999,9,     -999,9,   2203.1,2,   2282.2,2,   7.5650,2,    25.00,     -999,9,     -999,9,     -999,9,     -999,9,   7.3414,2,  26.6330,2,   7.4044,2
49UP20210827_1,   P03,    70,  1,     26,     835,2,20210909,1957,2202, 24.0103, 164.9882, 6017,    708.1,    5.6214,  34.1154,2,     78.0,2,  34.1136,2,    78.08,2,    75.65,2,    36.11,2,     0.00,2,    2.580,2,     -999,9,     -999,9,   2273.3,2,   2308.8,2,   7.4285,2,    25.00,     -999,9,     -999,9,     -999,9,     -999,9,   5.5609,2,  26.9078,2,   5.6224,2
49UP20210827_1,   P03,    70,  1,     25,     834,2,20210909,1957,2159, 24.0103, 164.9882, 6017,    805.9,    4.7801,  34.2020,2,     52.1,2,  34.2011,2,    52.34,2,    94.03,2,    39.76,2,     0.00,2,    2.840,2,    0.476,2,    0.247,2,   2308.7,2,   2329.7,2,   7.3824,2,    25.00,    0.025,2,    0.139,2,     -999,9,     -999,9,   4.7158,2,  27.0747,2,   4.7798,2
49UP20210827_1,   P03,    70,  1,     24,     753,2,20210909,1957,2156, 24.0103, 164.9882, 6017,    905.9,    4.3137,  34.3094,2,     42.9,2,  34.3089,2,    42.57,2,   106.27,2,    41.34,2,     0.00,2,    2.960,2,     -999,9,     -999,9,   2330.0,2,   2348.5,2,   7.3749,2,    25.00,     -999,9,     -999,9,     -999,9,     -999,9,   4.2439,2,  27.2113,2,   4.3135,2
49UP20210827_1,   P03,    70,  1,     23,     832,2,20210909,1957,2153, 24.0103, 164.9882, 6017,   1009.1,    3.9121,  34.3930,2,     45.0,2,  34.3925,2,    44.56,2,   116.19,2,    41.78,2,     0.00,2,    2.980,2,    0.102,2,    0.024,2,   2345.0,2,   2362.1,2,   7.3871,2,    25.00,    0.012,2,    0.020,2,     -999,9,     -999,9,   3.8365,2,  27.3201,2,   3.9118,2
49UP20210827_1,   P03,    70,  1,     22,     831,2,20210909,1957,2149, 24.0103, 164.9882, 6017,   1210.6,    3.3718,  34.4935,2,     62.9,2,  34.4929,2,    62.49,2,   126.55,2,    41.02,2,     0.00,2,    2.910,2,     -999,9,     -999,9,   2342.5,2,   2379.6,2,   7.4266,2,    25.00,     -999,9,     -999,9,     -999,9,     -999,9,   3.2842,2,  27.4543,2,   3.3719,2
49UP20210827_1,   P03,    70,  1,     21,     830,2,20210909,1957,2144, 24.0103, 164.9882, 6017,   1414.8,    2.8693,  34.5369,2,     73.9,2,  34.5357,2,    73.74,2,   136.52,2,    40.69,2,     0.00,2,    2.870,2,    0.011,2,    0.005,2,   2346.9,2,   2391.4,2,   7.4447,2,    25.00,    0.021,2,    0.010,2,     -999,9,     -999,9,   2.7700,2,  27.5361,2,   2.8692,2
49UP20210827_1,   P03,    70,  1,     20,     829,2,20210909,1957,2139, 24.0103, 164.9882, 6017,   1617.1,    2.4982,  34.5648,2,     81.6,2,  34.5646,2,    81.59,2,   144.04,2,    40.37,2,     0.00,2,    2.840,2,     -999,9,     -999,9,   2350.9,2,   2400.1,2,   7.4576,6,    25.00,     -999,9,     -999,9,     -999,9,     -999,9,   2.3868,2,  27.5915,2,   2.4984,2
49UP20210827_1,   P03,    70,  1,     19,     828,2,20210909,1957,2134, 24.0103, 164.9882, 6017,   1817.2,    2.2252,  34.5909,2,     90.7,2,  34.5908,6,    90.55,2,   148.18,2,    39.98,2,     0.00,2,    2.800,2,     -999,9,     -999,9,   2354.3,6,   2407.5,6,   7.4740,2,    25.00,     -999,9,     -999,9,     -999,9,     -999,9,   2.1009,2,  27.6359,2,   2.2254,2
49UP20210827_1,   P03,    70,  1,     18,     752,2,20210909,1957,2129, 24.0103, 164.9882, 6017,   2022.1,    2.0353,  34.6127,2,     99.5,2,  34.6131,2,    99.37,6,   151.35,6,    39.52,6,     0.00,6,    2.770,6,    0.000,2,    0.001,2,   2350.3,2,   2410.9,2,   7.4901,2,    25.00,    0.012,2,   -0.001,2,     -999,9,     -999,9,   1.8965,2,  27.6695,2,   2.0354,2
49UP20210827_1,   P03,    70,  1,     17,     751,3,20210909,1957,2124, 24.0103, 164.9882, 6017,   2225.8,    1.8858,  34.6297,2,    108.0,2,  34.6306,2,   108.15,2,   153.07,2,    39.05,2,     0.00,2,    2.720,2,     -999,9,     -999,9,   2350.3,2,   2413.7,2,   7.5044,2,    25.00,     -999,9,     -999,9,     -999,9,     -999,9,   1.7320,2,  27.6957,2,   1.8859,2
49UP20210827_1,   P03,    70,  1,     16,     328,2,20210909,1957,2119, 24.0103, 164.9882, 6017,   2428.5,    1.7884,  34.6416,2,    116.2,2,  34.6418,2,   115.89,2,   152.93,2,    38.56,2,     0.00,2,    2.680,2,     -999,9,     -999,9,   2345.0,2,   2415.6,2,   7.5214,2,    25.00,     -999,9,     -999,9,     -999,9,     -999,9,   1.6185,2,  27.7139,2,   1.7885,2
49UP20210827_1,   P03,    70,  1,     15,     822,2,20210909,1957,2114, 24.0103, 164.9882, 6017,   2632.1,    1.7045,  34.6517,2,    122.1,2,  34.6519,2,   122.11,2,   154.00,2,    38.17,2,     0.00,2,    2.640,2,     -999,9,     -999,9,   2345.0,2,   2417.2,2,   7.5324,2,    25.00,     -999,9,     -999,9,     -999,9,     -999,9,   1.5178,2,  27.7293,2,   1.7044,2
49UP20210827_1,   P03,    70,  1,     14,     326,2,20210909,1957,2109, 24.0103, 164.9882, 6017,   2836.7,    1.6592,  34.6574,2,    126.8,2,  34.6576,2,   126.69,2,   153.63,2,    37.88,2,     0.00,2,    2.620,2,     -999,9,     -999,9,   2341.7,2,   2419.4,2,   7.5407,6,    25.00,     -999,9,     -999,9,     -999,9,     -999,9,   1.4545,2,  27.7385,2,   1.6591,2
49UP20210827_1,   P03,    70,  1,     13,     325,2,20210909,1957,2105, 24.0103, 164.9882, 6017,   3039.4,    1.6103,  34.6633,2,    131.8,2,  34.6630,2,   131.66,2,   153.40,2,    37.59,2,     0.00,2,    2.600,2,     -999,9,     -999,9,   2338.3,6,   2418.7,6,   7.5460,2,    25.00,     -999,9,     -999,9,     -999,9,     -999,9,   1.3873,2,  27.7481,2,   1.6101,2
49UP20210827_1,   P03,    70,  1,     12,     324,2,20210909,1957,2059, 24.0103, 164.9882, 6017,   3294.6,    1.5685,  34.6693,2,    137.1,2,  34.6693,2,   136.93,2,   153.16,2,    37.23,2,     0.00,2,    2.570,2,     -999,9,     -999,9,   2335.2,2,   2418.8,2,   7.5566,2,    25.00,     -999,9,     -999,9,     -999,9,     -999,9,   1.3215,2,  27.7576,2,   1.5686,2
49UP20210827_1,   P03,    70,  1,     11,     323,2,20210909,1957,2053, 24.0103, 164.9882, 6017,   3550.4,    1.5381,  34.6738,2,    141.9,2,  34.6736,2,   141.66,2,   152.70,2,    36.93,2,     0.00,2,    2.550,2,     -999,9,     -999,9,   2334.4,2,   2416.7,2,   7.5624,2,    25.00,     -999,9,     -999,9,     -999,9,     -999,9,   1.2658,2,  27.7651,2,   1.5381,2
49UP20210827_1,   P03,    70,  1,     10,     322,2,20210909,1957,2048, 24.0103, 164.9882, 6017,   3805.7,    1.5156,  34.6778,2,    146.6,2,  34.6776,6,   146.73,2,   150.68,2,    36.62,2,     0.00,2,    2.520,2,     -999,9,     -999,9,   2329.3,2,   2414.9,2,   7.5676,2,    25.00,     -999,9,     -999,9,     -999,9,     -999,9,   1.2172,2,  27.7717,2,   1.5155,2
49UP20210827_1,   P03,    70,  1,      9,     750,2,20210909,1957,2042, 24.0103, 164.9882, 6017,   4061.1,    1.4981,  34.6815,2,    151.3,2,  34.6814,2,   151.31,6,   149.28,6,    36.30,6,     0.00,6,    2.490,6,     -999,9,     -999,9,   2324.4,2,   2416.0,2,   7.5732,2,    25.00,     -999,9,     -999,9,     -999,9,     -999,9,   1.1726,2,  27.7777,2,   1.4983,2
49UP20210827_1,   P03,    70,  1,      8,     320,2,20210909,1957,2036, 24.0103, 164.9882, 6017,   4318.9,    1.4819,  34.6850,2,    156.6,2,  34.6848,2,   156.34,2,   146.91,2,    35.93,2,     0.00,2,    2.470,2,     -999,9,     -999,9,   2320.0,2,   2415.0,2,   7.5849,2,    25.00,     -999,9,     -999,9,     -999,9,     -999,9,   1.1282,2,  27.7836,2,   1.4819,2
49UP20210827_1,   P03,    70,  1,      7,     319,2,20210909,1957,2031, 24.0103, 164.9882, 6017,   4577.1,    1.4731,  34.6881,2,    161.4,2,  34.6878,2,   161.53,2,   144.71,2,    35.54,2,     0.00,2,    2.440,2,     -999,9,     -999,9,   2314.3,2,   2411.9,2,   7.5913,6,    25.00,     -999,9,     -999,9,     -999,9,     -999,9,   1.0900,2,  27.7887,2,   1.4730,2
49UP20210827_1,   P03,    70,  1,      6,     318,2,20210909,1957,2025, 24.0103, 164.9882, 6017,   4833.0,    1.4687,  34.6911,2,    166.4,2,  34.6909,2,   166.31,2,   141.25,2,    35.23,2,     0.00,2,    2.410,2,     -999,9,     -999,9,   2311.3,6,   2407.9,6,   7.5973,2,    25.00,     -999,9,     -999,9,     -999,9,     -999,9,   1.0556,2,  27.7934,2,   1.4687,2
49UP20210827_1,   P03,    70,  1,      5,     317,2,20210909,1957,2019, 24.0103, 164.9882, 6017,   5089.9,    1.4645,  34.6939,2,    171.2,2,  34.6933,4,   171.35,2,   138.52,2,    34.81,2,     0.00,2,    2.380,2,    0.000,2,    0.002,2,   2307.0,2,   2401.9,2,   7.5996,2,    25.00,    0.006,2,   -0.003,2,     -999,9,     -999,9,   1.0204,2,  27.7980,2,   1.4645,2
49UP20210827_1,   P03,    70,  1,      4,     316,2,20210909,1957,2014, 24.0103, 164.9882, 6017,   5347.5,    1.4685,  34.6960,2,    175.2,2,  34.6959,2,   175.21,2,   136.16,2,    34.59,2,     0.00,2,    2.360,2,    0.000,2,    0.001,2,   2303.7,2,   2402.6,2,   7.6009,2,    25.00,    0.003,2,    0.020,2,     -999,9,     -999,9,   0.9923,2,  27.8016,2,   1.4685,2
49UP20210827_1,   P03,    70,  1,      3,     315,2,20210909,1957,2009, 24.0103, 164.9882, 6017,   5608.1,    1.4904,  34.6968,2,    176.8,2,  34.6968,2,   177.07,2,   134.81,2,    34.42,2,     0.00,2,    2.350,2,    0.074,4,    0.068,4,   2299.1,2,   2402.0,2,   7.6068,2,    25.00,    0.012,4,    0.326,4,     -999,9,     -999,9,   0.9803,2,  27.8030,2,   1.4905,2
49UP20210827_1,   P03,    70,  1,      2,     314,2,20210909,1957,2003, 24.0103, 164.9882, 6017,   5863.6,    1.5166,  34.6973,2,    178.0,2,  34.6975,2,   177.83,2,   134.29,2,    34.28,2,     0.00,2,    2.350,2,    0.001,2,    0.004,2,   2296.1,2,   2400.2,2,   7.6109,2,    25.00,    0.000,2,    0.004,2,     -999,9,     -999,9,   0.9721,2,  27.8039,2,   1.5166,2
49UP20210827_1,   P03,    70,  1,      1,     811,2,20210909,1957,1958, 24.0103, 164.9882, 6017,   6125.3,    1.5463,  34.6978,2,    179.0,2,  34.6979,2,   178.96,2,   133.46,2,    34.27,2,     0.00,2,    2.350,2,    0.001,2,    0.003,2,   2297.8,2,   2398.7,2,   7.6097,2,    25.00,    0.000,2,    0.022,2,     -999,9,     -999,9,   0.9657,2,  27.8048,2,   1.5462,2