BOTTLE,20230808CCHSIOADS
EXPOCODE,SECT_ID,STNNBR,CASTNO,SAMPNO,BTLNBR,BTLNBR_FLAG_W,DATE,TIME,BTL_TIME,LATITUDE,LONGITUDE,DEPTH,CTDPRS,CTDTMP,CTDSAL,CTDSAL_FLAG_W,CTDOXY,CTDOXY_FLAG_W,SALNTY,SALNTY_FLAG_W,OXYGEN,OXYGEN_FLAG_W,SILCAT,SILCAT_FLAG_W,NO2+NO3,NO2+NO3_FLAG_W,NITRIT,NITRIT_FLAG_W,PHSPHT,PHSPHT_FLAG_W,CFC-11,CFC-11_FLAG_W,CFC-12,CFC-12_FLAG_W,TCARBN,TCARBN_FLAG_W,ALKALI,ALKALI_FLAG_W,PH_TOT,PH_TOT_FLAG_W,PH_TMP,CFC113,CFC113_FLAG_W,SF6,SF6_FLAG_W,CHLORA,CHLORA_FLAG_W,PPHYTN,PPHYTN_FLAG_W,THETA,THETA_FLAG_W,SIG0,SIG0_FLAG_W,SBE35,SBE35_FLAG_W
,,,,,,,,,,,,METERS,DBAR,ITS-90,PSS-78,,UMOL/KG,,PSS78,,UMOL/KG,,UMOL/KG,,UMOL/KG,,UMOL/KG,,UMOL/KG,,PMOL/KG,,PMOL/KG,,UMOL/KG,,UMOL/KG,,,,DEG C,PMOL/KG,,FMOL/KG,,UG/KG,,UG/KG,,ITS-90,,KG/M^3,,ITS-90,
49UP20210920_1,   P03,    82,  1,      0,     BUC,2,20211002,0805,1005, 24.2613, 173.5667, 5760,      0.0,   28.3537,  35.2463,2,    199.7,2,     -999,9,   199.36,2,     1.08,2,     0.03,2,     0.00,2,    0.020,2,     -999,9,     -999,9,     -999,9,     -999,9,     -999,9,     -999,     -999,9,     -999,9,     -999,9,     -999,9,  28.3531,2,  22.4639,2,     -999,9
49UP20210920_1,   P03,    82,  1,     36,     757,2,20211002,0805,1038, 24.2613, 173.5667, 5760,      9.8,   28.3346,  35.2610,2,    199.7,2,     -999,9,   199.79,2,     1.04,2,     0.03,2,     0.00,2,    0.000,2,     -999,9,     -999,9,     -999,9,     -999,9,     -999,9,     -999,     -999,9,     -999,9,     -999,9,     -999,9,  28.3322,2,  22.4818,2,  28.3484,2
49UP20210920_1,   P03,    82,  1,     35,     756,2,20211002,0805,1033, 24.2613, 173.5667, 5760,     49.3,   28.2087,  35.2532,2,    199.5,2,     -999,9,   200.59,2,     1.00,2,     0.03,2,     0.00,2,    0.010,2,     -999,9,     -999,9,     -999,9,     -999,9,     -999,9,     -999,     -999,9,     -999,9,     -999,9,     -999,9,  28.1970,2,  22.5205,2,  28.2059,2
49UP20210920_1,   P03,    82,  1,     34,     843,2,20211002,0805,1031, 24.2613, 173.5667, 5760,     99.7,   21.0427,  35.0755,2,    215.5,2,     -999,9,   215.57,6,     2.11,6,     0.02,6,     0.00,6,    0.040,6,     -999,9,     -999,9,     -999,9,     -999,9,     -999,9,     -999,     -999,9,     -999,9,     -999,9,     -999,9,  21.0236,2,  24.5449,2,  21.0510,2
49UP20210920_1,   P03,    82,  1,     33,     842,2,20211002,0805,1030, 24.2613, 173.5667, 5760,    123.6,   19.7656,  34.9731,2,    205.5,2,     -999,9,   205.17,2,     2.53,2,     0.42,2,     0.07,2,    0.100,2,     -999,9,     -999,9,     -999,9,     -999,9,     -999,9,     -999,     -999,9,     -999,9,     -999,9,     -999,9,  19.7429,2,  24.8087,2,  19.7599,2
49UP20210920_1,   P03,    82,  1,     32,     841,2,20211002,0805,1028, 24.2613, 173.5667, 5760,    152.1,   18.7158,  34.8775,2,    199.9,2,     -999,9,   200.34,2,     3.09,2,     1.97,2,     0.06,2,    0.190,2,     -999,9,     -999,9,     -999,9,     -999,9,     -999,9,     -999,     -999,9,     -999,9,     -999,9,     -999,9,  18.6890,2,  25.0064,2,  18.7046,2
49UP20210920_1,   P03,    82,  1,     31,     840,2,20211002,0805,1026, 24.2613, 173.5667, 5760,    204.4,   16.6124,  34.6885,2,    201.1,2,     -999,9,   201.11,2,     5.12,2,     5.40,2,     0.00,2,    0.380,2,     -999,9,     -999,9,     -999,9,     -999,9,     -999,9,     -999,     -999,9,     -999,9,     -999,9,     -999,9,  16.5793,2,  25.3742,2,  16.6148,2
49UP20210920_1,   P03,    82,  1,     30,     839,2,20211002,0805,1024, 24.2613, 173.5667, 5760,    250.8,   15.2675,  34.5657,2,    202.4,2,     -999,9,   202.61,2,     7.29,2,     7.39,2,     0.00,2,    0.510,2,     -999,9,     -999,9,     -999,9,     -999,9,     -999,9,     -999,     -999,9,     -999,9,     -999,9,     -999,9,  15.2291,2,  25.5867,2,  15.2685,2
49UP20210920_1,   P03,    82,  1,     29,     838,2,20211002,0805,1021, 24.2613, 173.5667, 5760,    333.9,   12.2877,  34.3002,2,    201.2,2,     -999,9,   201.17,2,    13.46,2,    12.27,2,     0.00,2,    0.850,2,     -999,9,     -999,9,     -999,9,     -999,9,     -999,9,     -999,     -999,9,     -999,9,     -999,9,     -999,9,  12.2435,2,  25.9990,2,  12.2871,2
49UP20210920_1,   P03,    82,  1,     28,     755,2,20211002,0805,1018, 24.2613, 173.5667, 5760,    434.9,    9.6555,  34.1361,2,    179.2,2,     -999,9,   180.01,2,    25.77,2,    19.15,2,     0.00,2,    1.350,2,     -999,9,     -999,9,     -999,9,     -999,9,     -999,9,     -999,     -999,9,     -999,9,     -999,9,     -999,9,   9.6061,2,  26.3433,2,   9.6628,2
49UP20210920_1,   P03,    82,  1,     27,     754,2,20211002,0805,1016, 24.2613, 173.5667, 5760,    533.4,    7.4702,  34.0812,2,    124.6,2,     -999,9,   124.42,2,    47.81,2,    28.57,2,     0.00,2,    2.040,2,     -999,9,     -999,9,     -999,9,     -999,9,     -999,9,     -999,     -999,9,     -999,9,     -999,9,     -999,9,   7.4179,2,  26.6367,2,   7.4581,2
49UP20210920_1,   P03,    82,  1,     26,     835,2,20211002,0805,1012, 24.2613, 173.5667, 5760,    634.9,    5.9989,  34.1029,2,     86.3,2,     -999,9,    85.76,2,    69.13,2,    34.74,2,     0.00,2,    2.490,2,     -999,9,     -999,9,     -999,9,     -999,9,     -999,9,     -999,     -999,9,     -999,9,     -999,9,     -999,9,   5.9433,2,  26.8509,2,   6.0028,2
49UP20210920_1,   P03,    82,  1,     25,     834,2,20211002,0805,1010, 24.2613, 173.5667, 5760,    737.1,    4.8881,  34.1523,2,     60.6,2,     -999,9,    60.90,6,    90.03,6,    38.75,6,     0.00,6,    2.780,6,     -999,9,     -999,9,     -999,9,     -999,9,     -999,9,     -999,     -999,9,     -999,9,     -999,9,     -999,9,   4.8292,2,  27.0226,2,   4.8883,2
49UP20210920_1,   P03,    82,  1,     24,     753,2,20211002,0805,1007, 24.2613, 173.5667, 5760,    836.5,    4.2281,  34.2592,2,     39.8,2,     -999,9,    39.99,2,   107.24,2,    41.53,2,     0.00,2,    2.980,2,     -999,9,     -999,9,     -999,9,     -999,9,     -999,9,     -999,     -999,9,     -999,9,     -999,9,     -999,9,   4.1647,2,  27.1797,2,   4.2280,2
49UP20210920_1,   P03,    82,  1,     23,     832,2,20211002,0805,1004, 24.2613, 173.5667, 5760,    939.5,    3.8417,  34.3574,2,     36.7,2,     -999,9,    37.41,2,   117.41,2,    42.26,2,     0.00,2,    3.030,2,     -999,9,     -999,9,     -999,9,     -999,9,     -999,9,     -999,     -999,9,     -999,9,     -999,9,     -999,9,   3.7724,2,  27.2981,2,   3.8420,2
49UP20210920_1,   P03,    82,  1,     22,     831,2,20211002,0805,1000, 24.2613, 173.5667, 5760,   1081.4,    3.4060,  34.4515,2,     46.3,2,     -999,9,    46.08,2,   127.53,2,    42.16,2,     0.00,2,    3.010,2,     -999,9,     -999,9,     -999,9,     -999,9,     -999,9,     -999,     -999,9,     -999,9,     -999,9,     -999,9,   3.3286,2,  27.4166,2,   3.4064,2
49UP20210920_1,   P03,    82,  1,     21,     830,2,20211002,0805, 955, 24.2613, 173.5667, 5760,   1282.1,    2.9538,  34.5200,2,     62.5,2,     -999,9,    62.37,2,   135.56,2,    41.31,2,     0.00,2,    2.940,2,     -999,9,     -999,9,     -999,9,     -999,9,     -999,9,     -999,     -999,9,     -999,9,     -999,9,     -999,9,   2.8644,2,  27.5142,2,   2.9547,2
49UP20210920_1,   P03,    82,  1,     20,     829,2,20211002,0805, 950, 24.2613, 173.5667, 5760,   1487.3,    2.6091,  34.5594,2,     75.0,2,     -999,9,    75.02,2,   142.33,2,    40.77,2,     0.00,2,    2.890,2,     -999,9,     -999,9,     -999,9,     -999,9,     -999,9,     -999,     -999,9,     -999,9,     -999,9,     -999,9,   2.5069,2,  27.5770,2,   2.6092,2
49UP20210920_1,   P03,    82,  1,     19,     828,2,20211002,0805, 945, 24.2613, 173.5667, 5760,   1688.9,    2.3100,  34.5912,2,     86.9,2,     -999,9,    86.73,2,   147.04,2,    40.12,2,     0.00,2,    2.840,2,     -999,9,     -999,9,     -999,9,     -999,9,     -999,9,     -999,     -999,9,     -999,9,     -999,9,     -999,9,   2.1950,2,  27.6285,2,   2.3099,2
49UP20210920_1,   P03,    82,  1,     18,     752,2,20211002,0805, 940, 24.2613, 173.5667, 5760,   1890.9,    2.0793,  34.6104,2,     95.1,2,     -999,9,    95.16,2,   151.43,2,    39.70,2,     0.00,2,    2.800,2,     -999,9,     -999,9,     -999,9,     -999,9,     -999,9,     -999,     -999,9,     -999,9,     -999,9,     -999,9,   1.9508,2,  27.6634,2,   2.0792,2
49UP20210920_1,   P03,    82,  1,     17,     751,2,20211002,0805, 935, 24.2613, 173.5667, 5760,   2095.2,    1.9103,  34.6266,2,    103.9,2,     -999,9,   103.76,2,   153.94,2,    39.25,2,     0.00,2,    2.750,2,     -999,9,     -999,9,     -999,9,     -999,9,     -999,9,     -999,     -999,9,     -999,9,     -999,9,     -999,9,   1.7673,2,  27.6906,2,   1.9106,2
49UP20210920_1,   P03,    82,  1,     16,     328,2,20211002,0805, 930, 24.2613, 173.5667, 5760,   2298.3,    1.7819,  34.6402,2,    112.7,2,     -999,9,   112.66,6,   154.39,6,    38.74,6,     0.00,6,    2.710,6,     -999,9,     -999,9,     -999,9,     -999,9,     -999,9,     -999,     -999,9,     -999,9,     -999,9,     -999,9,   1.6235,2,  27.7124,2,   1.7817,2
49UP20210920_1,   P03,    82,  1,     15,     822,2,20211002,0805, 925, 24.2613, 173.5667, 5760,   2501.2,    1.6872,  34.6496,2,    119.4,2,     -999,9,   119.41,2,   155.39,2,    38.37,2,     0.00,2,    2.670,2,     -999,9,     -999,9,     -999,9,     -999,9,     -999,9,     -999,     -999,9,     -999,9,     -999,9,     -999,9,   1.5126,2,  27.7281,2,   1.6870,2
49UP20210920_1,   P03,    82,  1,     14,     326,2,20211002,0805, 920, 24.2613, 173.5667, 5760,   2704.7,    1.6564,  34.6554,2,    123.8,2,     -999,9,   123.82,2,   154.40,2,    38.04,2,     0.00,2,    2.650,2,     -999,9,     -999,9,     -999,9,     -999,9,     -999,9,     -999,     -999,9,     -999,9,     -999,9,     -999,9,   1.4640,2,  27.7362,2,   1.6564,2
49UP20210920_1,   P03,    82,  1,     13,     325,3,20211002,0805, 915, 24.2613, 173.5667, 5760,   2909.6,    1.6056,  34.6614,2,    129.0,2,     -999,9,   128.20,2,   154.24,2,    37.74,2,     0.00,2,    2.630,2,     -999,9,     -999,9,     -999,9,     -999,9,     -999,9,     -999,     -999,9,     -999,9,     -999,9,     -999,9,   1.3951,2,  27.7460,2,   1.6056,2
49UP20210920_1,   P03,    82,  1,     12,     324,2,20211002,0805, 910, 24.2613, 173.5667, 5760,   3122.4,    1.5580,  34.6670,2,    134.3,2,     -999,9,   134.61,2,   153.87,2,    37.31,2,     0.00,2,    2.590,2,     -999,9,     -999,9,     -999,9,     -999,9,     -999,9,     -999,     -999,9,     -999,9,     -999,9,     -999,9,   1.3282,2,  27.7553,2,   1.5580,2
49UP20210920_1,   P03,    82,  1,     11,     323,2,20211002,0805, 904, 24.2613, 173.5667, 5760,   3379.0,    1.5179,  34.6726,2,    140.1,2,     -999,9,   140.36,2,   152.99,2,    36.97,2,     0.00,2,    2.560,2,     -999,9,     -999,9,     -999,9,     -999,9,     -999,9,     -999,     -999,9,     -999,9,     -999,9,     -999,9,   1.2637,2,  27.7643,2,   1.5178,2
49UP20210920_1,   P03,    82,  1,     10,     322,2,20211002,0805, 858, 24.2613, 173.5667, 5760,   3633.3,    1.4878,  34.6777,2,    146.3,2,     -999,9,   146.50,2,   151.12,2,    36.55,2,     0.00,2,    2.530,2,     -999,9,     -999,9,     -999,9,     -999,9,     -999,9,     -999,     -999,9,     -999,9,     -999,9,     -999,9,   1.2083,2,  27.7722,2,   1.4877,2
49UP20210920_1,   P03,    82,  1,      9,     750,2,20211002,0805, 852, 24.2613, 173.5667, 5760,   3888.8,    1.4693,  34.6817,2,    151.6,2,     -999,9,   151.70,2,   148.92,2,    36.21,2,     0.00,2,    2.500,2,     -999,9,     -999,9,     -999,9,     -999,9,     -999,9,     -999,     -999,9,     -999,9,     -999,9,     -999,9,   1.1633,2,  27.7786,2,   1.4693,2
49UP20210920_1,   P03,    82,  1,      8,     320,2,20211002,0805, 846, 24.2613, 173.5667, 5760,   4146.5,    1.4542,  34.6858,2,    157.4,2,     -999,9,   157.87,2,   145.73,2,    35.64,2,     0.00,2,    2.470,2,     -999,9,     -999,9,     -999,9,     -999,9,     -999,9,     -999,     -999,9,     -999,9,     -999,9,     -999,9,   1.1205,2,  27.7847,2,   1.4543,2
49UP20210920_1,   P03,    82,  1,      7,     319,2,20211002,0805, 840, 24.2613, 173.5667, 5760,   4402.9,    1.4442,  34.6890,2,    162.9,2,     -999,9,   163.07,6,   142.84,6,    35.33,6,     0.00,6,    2.440,6,     -999,9,     -999,9,     -999,9,     -999,9,     -999,9,     -999,     -999,9,     -999,9,     -999,9,     -999,9,   1.0820,2,  27.7899,2,   1.4440,2
49UP20210920_1,   P03,    82,  1,      6,     318,2,20211002,0805, 834, 24.2613, 173.5667, 5760,   4659.6,    1.4378,  34.6920,2,    168.0,2,     -999,9,   167.52,2,   139.88,2,    34.98,2,     0.00,2,    2.420,2,     -999,9,     -999,9,     -999,9,     -999,9,     -999,9,     -999,     -999,9,     -999,9,     -999,9,     -999,9,   1.0462,2,  27.7948,2,   1.4378,2
49UP20210920_1,   P03,    82,  1,      5,     317,2,20211002,0805, 829, 24.2613, 173.5667, 5760,   4916.7,    1.4352,  34.6946,2,    172.6,2,     -999,9,   172.40,2,   136.97,2,    34.60,2,     0.00,2,    2.390,2,     -999,9,     -999,9,     -999,9,     -999,9,     -999,9,     -999,     -999,9,     -999,9,     -999,9,     -999,9,   1.0131,2,  27.7990,2,   1.4351,2
49UP20210920_1,   P03,    82,  1,      4,     316,2,20211002,0805, 823, 24.2613, 173.5667, 5760,   5173.7,    1.4438,  34.6963,2,    175.7,2,     -999,9,   175.62,2,   135.37,2,    34.48,2,     0.00,2,    2.370,2,     -999,9,     -999,9,     -999,9,     -999,9,     -999,9,     -999,     -999,9,     -999,9,     -999,9,     -999,9,   0.9901,2,  27.8019,2,   1.4438,2
49UP20210920_1,   P03,    82,  1,      3,     315,2,20211002,0805, 817, 24.2613, 173.5667, 5760,   5430.1,    1.4572,  34.6975,2,    178.1,2,     -999,9,   178.03,2,   133.85,2,    34.27,2,     0.00,2,    2.360,2,     -999,9,     -999,9,     -999,9,     -999,9,     -999,9,     -999,     -999,9,     -999,9,     -999,9,     -999,9,   0.9711,2,  27.8042,2,   1.4572,2
49UP20210920_1,   P03,    82,  1,      2,     314,2,20211002,0805, 811, 24.2613, 173.5667, 5760,   5687.8,    1.4763,  34.6985,2,    180.0,2,     -999,9,   180.03,2,   132.88,2,    34.07,2,     0.00,2,    2.350,2,     -999,9,     -999,9,     -999,9,     -999,9,     -999,9,     -999,     -999,9,     -999,9,     -999,9,     -999,9,   0.9564,2,  27.8060,2,   1.4765,2
49UP20210920_1,   P03,    82,  1,      1,     811,2,20211002,0805, 806, 24.2613, 173.5667, 5760,   5910.1,    1.5042,  34.6987,2,    180.4,2,     -999,9,   180.26,2,   132.46,2,    34.06,2,     0.00,2,    2.350,2,     -999,9,     -999,9,     -999,9,     -999,9,     -999,9,     -999,     -999,9,     -999,9,     -999,9,     -999,9,   0.9541,2,  27.8063,2,   1.5043,2