BOTTLE,20230808CCHSIOADS
EXPOCODE,SECT_ID,STNNBR,CASTNO,SAMPNO,BTLNBR,BTLNBR_FLAG_W,DATE,TIME,BTL_TIME,LATITUDE,LONGITUDE,DEPTH,CTDPRS,CTDTMP,CTDSAL,CTDSAL_FLAG_W,CTDOXY,CTDOXY_FLAG_W,SALNTY,SALNTY_FLAG_W,OXYGEN,OXYGEN_FLAG_W,SILCAT,SILCAT_FLAG_W,NO2+NO3,NO2+NO3_FLAG_W,NITRIT,NITRIT_FLAG_W,PHSPHT,PHSPHT_FLAG_W,CFC-11,CFC-11_FLAG_W,CFC-12,CFC-12_FLAG_W,TCARBN,TCARBN_FLAG_W,ALKALI,ALKALI_FLAG_W,PH_TOT,PH_TOT_FLAG_W,PH_TMP,CFC113,CFC113_FLAG_W,SF6,SF6_FLAG_W,CHLORA,CHLORA_FLAG_W,PPHYTN,PPHYTN_FLAG_W,THETA,THETA_FLAG_W,SIG0,SIG0_FLAG_W,SBE35,SBE35_FLAG_W
,,,,,,,,,,,,METERS,DBAR,ITS-90,PSS-78,,UMOL/KG,,PSS78,,UMOL/KG,,UMOL/KG,,UMOL/KG,,UMOL/KG,,UMOL/KG,,PMOL/KG,,PMOL/KG,,UMOL/KG,,UMOL/KG,,,,DEG C,PMOL/KG,,FMOL/KG,,UG/KG,,UG/KG,,ITS-90,,KG/M^3,,ITS-90,
49UP20210827_1,   P03,    50,  1,      0,     BUC,2,20210902,1310,1522, 24.2362, 148.9992, 5730,      0.0,   29.5568,  34.8864,2,    195.3,2,     -999,9,   195.73,2,     1.11,2,     0.01,2,     0.00,2,    0.020,2,     -999,9,     -999,9,     -999,9,     -999,9,     -999,9,     -999,     -999,9,     -999,9,     -999,9,     -999,9,  29.5562,2,  21.7918,2,     -999,9
49UP20210827_1,   P03,    50,  1,     36,     757,2,20210902,1310,1552, 24.2362, 148.9992, 5730,      9.5,   29.4234,  34.8771,2,    196.0,2,     -999,9,   196.79,2,     1.07,2,     0.00,2,     0.00,2,    0.000,2,     -999,9,     -999,9,     -999,9,     -999,9,     -999,9,     -999,     -999,9,     -999,9,     -999,9,     -999,9,  29.4211,2,  21.8304,2,  29.4266,2
49UP20210827_1,   P03,    50,  1,     35,     756,2,20210902,1310,1547, 24.2362, 148.9992, 5730,     50.3,   26.1371,  35.0399,2,    220.2,2,     -999,9,   220.25,2,     1.16,2,     0.01,2,     0.00,2,    0.000,2,     -999,9,     -999,9,     -999,9,     -999,9,     -999,9,     -999,     -999,9,     -999,9,     -999,9,     -999,9,  26.1258,2,  23.0241,2,  26.1348,2
49UP20210827_1,   P03,    50,  1,     34,     843,2,20210902,1310,1545, 24.2362, 148.9992, 5730,    102.1,   22.3067,  35.0395,2,    214.6,2,     -999,9,   214.26,6,     1.56,6,     0.00,6,     0.00,6,    0.010,6,     -999,9,     -999,9,     -999,9,     -999,9,     -999,9,     -999,     -999,9,     -999,9,     -999,9,     -999,9,  22.2864,2,  24.1673,2,  22.3164,2
49UP20210827_1,   P03,    50,  1,     33,     842,2,20210902,1310,1542, 24.2362, 148.9992, 5730,    152.8,   20.1340,  34.8829,2,    223.3,2,     -999,9,   223.57,2,     1.71,2,     0.03,2,     0.03,2,    0.010,2,     -999,9,     -999,9,     -999,9,     -999,9,     -999,9,     -999,     -999,9,     -999,9,     -999,9,     -999,9,  20.1056,2,  24.6445,2,  20.1376,2
49UP20210827_1,   P03,    50,  1,     32,     841,2,20210902,1310,1540, 24.2362, 148.9992, 5730,    204.5,   18.1427,  34.7515,2,    214.6,2,     -999,9,   214.75,2,     2.81,2,     2.47,2,     0.01,2,    0.170,2,     -999,9,     -999,9,     -999,9,     -999,9,     -999,9,     -999,     -999,9,     -999,9,     -999,9,     -999,9,  18.1074,2,  25.0553,2,  18.1432,2
49UP20210827_1,   P03,    50,  1,     31,     840,2,20210902,1310,1537, 24.2362, 148.9992, 5730,    252.6,   17.6464,  34.7503,2,    216.9,2,     -999,9,   217.05,2,     3.44,2,     3.28,2,     0.00,2,    0.220,2,     -999,9,     -999,9,     -999,9,     -999,9,     -999,9,     -999,     -999,9,     -999,9,     -999,9,     -999,9,  17.6036,2,  25.1777,2,  17.6529,2
49UP20210827_1,   P03,    50,  1,     30,     839,2,20210902,1310,1535, 24.2362, 148.9992, 5730,    284.2,   17.3582,  34.7475,2,    217.6,2,     -999,9,   217.46,2,     3.68,2,     3.60,2,     0.00,2,    0.240,2,     -999,9,     -999,9,     -999,9,     -999,9,     -999,9,     -999,     -999,9,     -999,9,     -999,9,     -999,9,  17.3105,2,  25.2463,2,  17.3610,2
49UP20210827_1,   P03,    50,  1,     29,     838,2,20210902,1310,1532, 24.2362, 148.9992, 5730,    373.7,   15.8847,  34.6434,2,    198.0,2,     -999,9,   197.83,2,     7.18,2,     7.50,2,     0.00,2,    0.500,2,     -999,9,     -999,9,     -999,9,     -999,9,     -999,9,     -999,     -999,9,     -999,9,     -999,9,     -999,9,  15.8257,2,  25.5130,2,  15.8816,2
49UP20210827_1,   P03,    50,  1,     28,     755,2,20210902,1310,1529, 24.2362, 148.9992, 5730,    474.6,   12.6484,  34.3616,2,    197.0,2,     -999,9,   197.09,2,    14.02,2,    12.42,2,     0.00,2,    0.860,2,     -999,9,     -999,9,     -999,9,     -999,9,     -999,9,     -999,     -999,9,     -999,9,     -999,9,     -999,9,  12.5840,2,  25.9806,2,  12.6491,2
49UP20210827_1,   P03,    50,  1,     27,     754,3,20210902,1310,1525, 24.2362, 148.9992, 5730,    576.7,   10.2285,  34.2009,2,    177.9,2,     -999,9,   178.04,2,    25.69,2,    18.57,2,     0.00,2,    1.300,2,     -999,9,     -999,9,     -999,9,     -999,9,     -999,9,     -999,     -999,9,     -999,9,     -999,9,     -999,9,  10.1600,2,  26.3007,2,  10.2303,2
49UP20210827_1,   P03,    50,  1,     26,     835,3,20210902,1310,1522, 24.2362, 148.9992, 5730,    675.3,    7.2070,  34.0842,2,    127.2,2,     -999,9,   127.17,2,    52.21,2,    28.78,2,     0.00,2,    2.050,2,     -999,9,     -999,9,     -999,9,     -999,9,     -999,9,     -999,     -999,9,     -999,9,     -999,9,     -999,9,   7.1415,2,  26.6778,2,   7.2058,2
49UP20210827_1,   P03,    50,  1,     25,     834,2,20210902,1310,1519, 24.2362, 148.9992, 5730,    777.2,    5.7609,  34.1213,2,     89.5,2,     -999,9,    89.40,6,    74.53,6,    34.74,6,     0.00,6,    2.490,6,     -999,9,     -999,9,     -999,9,     -999,9,     -999,9,     -999,     -999,9,     -999,9,     -999,9,     -999,9,   5.6933,2,  26.8964,2,   5.7612,2
49UP20210827_1,   P03,    50,  1,     24,     753,2,20210902,1310,1515, 24.2362, 148.9992, 5730,    877.9,    4.9291,  34.1975,2,     64.4,2,     -999,9,    65.04,2,    91.65,2,    38.37,2,     0.00,2,    2.740,2,     -999,9,     -999,9,     -999,9,     -999,9,     -999,9,     -999,     -999,9,     -999,9,     -999,9,     -999,9,   4.8576,2,  27.0553,2,   4.9292,2
49UP20210827_1,   P03,    50,  1,     23,     832,2,20210902,1310,1512, 24.2362, 148.9992, 5730,    977.5,    4.2337,  34.2960,2,     47.5,2,     -999,9,    47.57,2,   107.81,2,    40.83,2,     0.00,2,    2.910,2,     -999,9,     -999,9,     -999,9,     -999,9,     -999,9,     -999,     -999,9,     -999,9,     -999,9,     -999,9,   4.1584,2,  27.2097,2,   4.2336,2
49UP20210827_1,   P03,    50,  1,     22,     831,2,20210902,1310,1507, 24.2362, 148.9992, 5730,   1140.7,    3.5796,  34.4140,2,     51.5,2,     -999,9,    51.62,2,   123.64,2,    41.36,2,     0.00,2,    2.940,2,     -999,9,     -999,9,     -999,9,     -999,9,     -999,9,     -999,     -999,9,     -999,9,     -999,9,     -999,9,   3.4959,2,  27.3705,2,   3.5801,2
49UP20210827_1,   P03,    50,  1,     21,     830,2,20210902,1310,1502, 24.2362, 148.9992, 5730,   1342.9,    2.9876,  34.4834,2,     58.8,2,     -999,9,    58.78,2,   137.22,2,    41.38,2,     0.00,2,    2.930,2,     -999,9,     -999,9,     -999,9,     -999,9,     -999,9,     -999,     -999,9,     -999,9,     -999,9,     -999,9,   2.8930,2,  27.4824,2,   2.9874,2
49UP20210827_1,   P03,    50,  1,     20,     829,2,20210902,1310,1457, 24.2362, 148.9992, 5730,   1546.3,    2.5057,  34.5345,2,     68.6,2,     -999,9,    68.62,2,   147.78,2,    41.10,2,     0.00,2,    2.900,2,     -999,9,     -999,9,     -999,9,     -999,9,     -999,9,     -999,     -999,9,     -999,9,     -999,9,     -999,9,   2.3999,2,  27.5661,2,   2.5057,2
49UP20210827_1,   P03,    50,  1,     19,     828,2,20210902,1310,1450, 24.2362, 148.9992, 5730,   1749.5,    2.1657,  34.5757,2,     80.5,2,     -999,9,    80.75,2,   153.82,2,    40.55,2,     0.00,2,    2.850,2,     -999,9,     -999,9,     -999,9,     -999,9,     -999,9,     -999,     -999,9,     -999,9,     -999,9,     -999,9,   2.0477,2,  27.6279,2,   2.1658,2
49UP20210827_1,   P03,    50,  1,     18,     752,2,20210902,1310,1444, 24.2362, 148.9992, 5730,   1953.0,    1.9626,  34.6068,2,     99.1,2,     -999,9,    99.66,2,   152.89,2,    39.37,2,     0.00,2,    2.760,2,     -999,9,     -999,9,     -999,9,     -999,9,     -999,9,     -999,     -999,9,     -999,9,     -999,9,     -999,9,   1.8307,2,  27.6698,2,   1.9628,2
49UP20210827_1,   P03,    50,  1,     17,     751,2,20210902,1310,1439, 24.2362, 148.9992, 5730,   2157.1,    1.8221,  34.6261,2,    108.9,2,     -999,9,   109.09,2,   153.60,2,    38.85,2,     0.00,2,    2.710,2,     -999,9,     -999,9,     -999,9,     -999,9,     -999,9,     -999,     -999,9,     -999,9,     -999,9,     -999,9,   1.6752,2,  27.6972,2,   1.8223,2
49UP20210827_1,   P03,    50,  1,     16,     328,2,20210902,1310,1434, 24.2362, 148.9992, 5730,   2358.4,    1.7588,  34.6376,2,    116.5,2,     -999,9,   116.89,6,   152.76,6,    38.31,6,     0.00,6,    2.670,6,     -999,9,     -999,9,     -999,9,     -999,9,     -999,9,     -999,     -999,9,     -999,9,     -999,9,     -999,9,   1.5956,2,  27.7123,2,   1.7589,2
49UP20210827_1,   P03,    50,  1,     15,     822,2,20210902,1310,1429, 24.2362, 148.9992, 5730,   2562.1,    1.6944,  34.6483,2,    123.8,2,     -999,9,   124.07,2,   151.87,2,    37.87,2,     0.00,2,    2.630,2,     -999,9,     -999,9,     -999,9,     -999,9,     -999,9,     -999,     -999,9,     -999,9,     -999,9,     -999,9,   1.5143,2,  27.7269,2,   1.6944,2
49UP20210827_1,   P03,    50,  1,     14,     326,3,20210902,1310,1424, 24.2362, 148.9992, 5730,   2765.2,    1.6483,  34.6556,2,    128.2,2,     -999,9,   127.48,2,   151.95,2,    37.63,2,     0.00,2,    2.610,2,     -999,9,     -999,9,     -999,9,     -999,9,     -999,9,     -999,     -999,9,     -999,9,     -999,9,     -999,9,   1.4505,2,  27.7373,2,   1.6484,2
49UP20210827_1,   P03,    50,  1,     13,     325,2,20210902,1310,1419, 24.2362, 148.9992, 5730,   2969.5,    1.5965,  34.6628,2,    133.4,2,     -999,9,   133.95,2,   151.75,2,    37.26,2,     0.00,2,    2.580,2,     -999,9,     -999,9,     -999,9,     -999,9,     -999,9,     -999,     -999,9,     -999,9,     -999,9,     -999,9,   1.3805,2,  27.7482,2,   1.5964,2
49UP20210827_1,   P03,    50,  1,     12,     324,2,20210902,1310,1413, 24.2362, 148.9992, 5730,   3214.5,    1.5568,  34.6687,2,    138.6,2,     -999,9,   138.74,2,   150.76,2,    36.97,2,     0.00,2,    2.560,2,     -999,9,     -999,9,     -999,9,     -999,9,     -999,9,     -999,     -999,9,     -999,9,     -999,9,     -999,9,   1.3180,2,  27.7573,2,   1.5568,2
49UP20210827_1,   P03,    50,  1,     11,     323,3,20210902,1310,1408, 24.2362, 148.9992, 5730,   3470.1,    1.5235,  34.6745,2,    143.7,2,     -999,9,   143.35,2,   149.86,2,    36.59,2,     0.00,2,    2.530,2,     -999,9,     -999,9,     -999,9,     -999,9,     -999,9,     -999,     -999,9,     -999,9,     -999,9,     -999,9,   1.2599,2,  27.7661,2,   1.5236,2
49UP20210827_1,   P03,    50,  1,     10,     322,2,20210902,1310,1402, 24.2362, 148.9992, 5730,   3726.5,    1.4980,  34.6786,2,    148.5,2,     -999,9,   148.22,2,   148.61,2,    36.35,2,     0.00,2,    2.510,2,     -999,9,     -999,9,     -999,9,     -999,9,     -999,9,     -999,     -999,9,     -999,9,     -999,9,     -999,9,   1.2085,2,  27.7729,2,   1.4980,2
49UP20210827_1,   P03,    50,  1,      9,     750,2,20210902,1310,1356, 24.2362, 148.9992, 5730,   3982.0,    1.4864,  34.6819,2,    152.6,2,     -999,9,   153.09,2,   147.37,2,    36.02,2,     0.00,2,    2.490,2,     -999,9,     -999,9,     -999,9,     -999,9,     -999,9,     -999,     -999,9,     -999,9,     -999,9,     -999,9,   1.1699,2,  27.7782,2,   1.4865,2
49UP20210827_1,   P03,    50,  1,      8,     320,2,20210902,1310,1350, 24.2362, 148.9992, 5730,   4238.3,    1.4764,  34.6848,2,    156.7,2,     -999,9,   157.05,2,   145.93,2,    35.75,2,     0.00,2,    2.470,2,     -999,9,     -999,9,     -999,9,     -999,9,     -999,9,     -999,     -999,9,     -999,9,     -999,9,     -999,9,   1.1318,2,  27.7832,2,   1.4764,2
49UP20210827_1,   P03,    50,  1,      7,     319,2,20210902,1310,1344, 24.2362, 148.9992, 5730,   4496.6,    1.4800,  34.6872,2,    160.0,2,     -999,9,   160.44,6,   144.38,6,    35.52,6,     0.00,6,    2.450,6,     -999,9,     -999,9,     -999,9,     -999,9,     -999,9,     -999,     -999,9,     -999,9,     -999,9,     -999,9,   1.1060,2,  27.7869,2,   1.4800,2
49UP20210827_1,   P03,    50,  1,      6,     318,2,20210902,1310,1338, 24.2362, 148.9992, 5730,   4753.9,    1.4812,  34.6899,2,    164.1,2,     -999,9,   164.14,2,   141.72,2,    35.18,2,     0.00,2,    2.420,2,     -999,9,     -999,9,     -999,9,     -999,9,     -999,9,     -999,     -999,9,     -999,9,     -999,9,     -999,9,   1.0771,2,  27.7910,2,   1.4813,2
49UP20210827_1,   P03,    50,  1,      5,     317,3,20210902,1310,1332, 24.2362, 148.9992, 5730,   5008.9,    1.4903,  34.6919,2,    167.6,2,     -999,9,   166.62,4,   139.91,2,    35.03,2,     0.00,2,    2.410,2,     -999,9,     -999,9,     -999,9,     -999,9,     -999,9,     -999,     -999,9,     -999,9,     -999,9,     -999,9,   1.0553,2,  27.7941,2,   1.4905,2
49UP20210827_1,   P03,    50,  1,      4,     316,2,20210902,1310,1326, 24.2362, 148.9992, 5730,   5267.9,    1.5069,  34.6933,2,    170.2,2,     -999,9,   170.64,2,   138.13,2,    34.82,2,     0.00,2,    2.390,2,     -999,9,     -999,9,     -999,9,     -999,9,     -999,9,     -999,     -999,9,     -999,9,     -999,9,     -999,9,   1.0393,2,  27.7963,2,   1.5069,2
49UP20210827_1,   P03,    50,  1,      3,     315,2,20210902,1310,1320, 24.2362, 148.9992, 5730,   5525.3,    1.5235,  34.6946,2,    172.9,2,     -999,9,   172.93,2,   136.28,2,    34.63,2,     0.00,2,    2.380,2,     -999,9,     -999,9,     -999,9,     -999,9,     -999,9,     -999,     -999,9,     -999,9,     -999,9,     -999,9,   1.0228,2,  27.7984,2,   1.5236,2
49UP20210827_1,   P03,    50,  1,      2,     314,2,20210902,1310,1314, 24.2362, 148.9992, 5730,   5782.9,    1.5430,  34.6956,2,    175.0,2,     -999,9,   174.74,2,   134.81,2,    34.47,2,     0.00,2,    2.370,2,     -999,9,     -999,9,     -999,9,     -999,9,     -999,9,     -999,     -999,9,     -999,9,     -999,9,     -999,9,   1.0082,2,  27.8002,2,   1.5430,2
49UP20210827_1,   P03,    50,  1,      1,     811,2,20210902,1310,1311, 24.2362, 148.9992, 5730,   5885.9,    1.5528,  34.6959,2,    175.8,2,     -999,9,   175.78,2,   134.47,2,    34.44,2,     0.00,2,    2.360,2,     -999,9,     -999,9,     -999,9,     -999,9,     -999,9,     -999,     -999,9,     -999,9,     -999,9,     -999,9,   1.0040,2,  27.8007,2,   1.5527,2