BOTTLE,20230808CCHSIOADS
EXPOCODE,SECT_ID,STNNBR,CASTNO,SAMPNO,BTLNBR,BTLNBR_FLAG_W,DATE,TIME,BTL_TIME,LATITUDE,LONGITUDE,DEPTH,CTDPRS,CTDTMP,CTDSAL,CTDSAL_FLAG_W,CTDOXY,CTDOXY_FLAG_W,SALNTY,SALNTY_FLAG_W,OXYGEN,OXYGEN_FLAG_W,SILCAT,SILCAT_FLAG_W,NO2+NO3,NO2+NO3_FLAG_W,NITRIT,NITRIT_FLAG_W,PHSPHT,PHSPHT_FLAG_W,CFC-11,CFC-11_FLAG_W,CFC-12,CFC-12_FLAG_W,TCARBN,TCARBN_FLAG_W,ALKALI,ALKALI_FLAG_W,PH_TOT,PH_TOT_FLAG_W,PH_TMP,CFC113,CFC113_FLAG_W,SF6,SF6_FLAG_W,CHLORA,CHLORA_FLAG_W,PPHYTN,PPHYTN_FLAG_W,THETA,THETA_FLAG_W,SIG0,SIG0_FLAG_W,SBE35,SBE35_FLAG_W
,,,,,,,,,,,,METERS,DBAR,ITS-90,PSS-78,,UMOL/KG,,PSS78,,UMOL/KG,,UMOL/KG,,UMOL/KG,,UMOL/KG,,UMOL/KG,,PMOL/KG,,PMOL/KG,,UMOL/KG,,UMOL/KG,,,,DEG C,PMOL/KG,,FMOL/KG,,UG/KG,,UG/KG,,ITS-90,,KG/M^3,,ITS-90,
49UP20210719_2,   P03,    11,  1,      0,     BUC,2,20210802,0239, 410, 24.6672, 130.0190, 4191,      0.0,   28.5290,  34.2594,2,    197.6,2,  34.2698,2,   197.30,2,     1.15,2,     0.06,2,     0.00,2,    0.020,2,     -999,9,     -999,9,   1938.5,2,   2250.3,2,   8.0898,2,    25.00,     -999,9,     -999,9,     0.07,2,     0.02,2,  28.5284,2,  21.6645,2,     -999,9
49UP20210719_2,   P03,    11,  1,     36,     757,2,20210802,0239, 446, 24.6672, 130.0190, 4191,     10.0,   28.3331,  34.2958,2,    197.8,2,  34.2889,2,   197.62,2,     1.15,2,     0.00,2,     0.00,2,    0.010,2,    1.116,2,    0.805,2,   1939.8,2,   2251.3,2,   8.0936,2,    25.00,    0.078,2,    1.501,2,     0.06,2,     0.02,2,  28.3308,2,  21.7569,2,  28.3393,2
49UP20210719_2,   P03,    11,  1,     35,     756,2,20210802,0239, 444, 24.6672, 130.0190, 4191,     26.0,   27.2813,  34.4425,2,    201.7,2,  34.4433,2,   201.84,2,     1.16,2,     0.03,2,     0.00,2,    0.010,2,     -999,9,     -999,9,   1949.9,2,   2262.1,2,   8.0895,2,    25.00,     -999,9,     -999,9,     0.05,2,     0.02,2,  27.2753,2,  22.2099,2,  27.2762,2
49UP20210719_2,   P03,    11,  1,     34,     843,2,20210802,0239, 438, 24.6672, 130.0190, 4191,     51.1,   24.3942,  34.8613,2,    208.8,2,  34.8623,6,   207.70,2,     1.46,2,     0.00,2,     0.00,2,    0.020,2,    1.431,2,    0.942,2,   1992.1,2,   2290.1,2,   8.0554,2,    25.00,    0.074,2,    1.664,2,     0.10,2,     0.04,2,  24.3833,2,  23.4223,2,  24.3835,2
49UP20210719_2,   P03,    11,  1,     33,     842,2,20210802,0239, 436, 24.6672, 130.0190, 4191,     74.1,   22.4383,  34.8552,2,    214.3,2,  34.8551,2,   212.66,2,     1.55,2,     0.04,2,     0.00,2,    0.040,2,     -999,9,     -999,9,   2008.3,2,   2290.6,2,   8.0359,2,    25.00,     -999,9,     -999,9,     0.15,2,     0.17,2,  22.4235,2,  23.9885,2,  22.4507,2
49UP20210719_2,   P03,    11,  1,     32,     841,2,20210802,0239, 435, 24.6672, 130.0190, 4191,     99.8,   21.5943,  34.8143,2,    222.0,2,  34.8135,2,   220.70,2,     1.64,2,     0.06,2,     0.00,2,    0.020,2,    1.599,2,    1.016,2,   1997.8,2,   2286.5,2,   8.0393,2,    25.00,    0.099,2,    1.794,2,     0.25,2,     0.40,2,  21.5749,2,  24.1950,2,  21.5878,2
49UP20210719_2,   P03,    11,  1,     31,     840,2,20210802,0239, 433, 24.6672, 130.0190, 4191,    125.0,   20.9564,  34.8102,2,    213.4,2,  34.8108,2,   213.02,2,     1.76,2,     0.49,2,     0.03,2,    0.050,2,     -999,9,     -999,9,   2009.5,2,   2284.8,2,   8.0230,6,    25.00,     -999,9,     -999,9,     0.14,2,     0.33,2,  20.9325,2,  24.3678,2,  20.9498,2
49UP20210719_2,   P03,    11,  1,     30,     839,2,20210802,0239, 431, 24.6672, 130.0190, 4191,    150.2,   20.4849,  34.8150,2,    208.5,2,  34.8148,2,   208.81,2,     1.96,2,     1.14,2,     0.02,2,    0.090,2,     -999,9,     -999,9,   2014.8,6,   2285.6,6,   8.0120,2,    25.00,     -999,9,     -999,9,     0.05,2,     0.15,2,  20.4567,2,  24.4995,2,  20.4819,2
49UP20210719_2,   P03,    11,  1,     29,     838,2,20210802,0239, 429, 24.6672, 130.0190, 4191,    206.0,   19.9444,  34.8156,2,    203.7,2,  34.8150,2,   203.97,2,     2.51,2,     2.14,2,     0.01,2,    0.150,2,    1.711,2,    1.062,2,   2024.2,2,   2287.6,2,   7.9959,2,    25.00,    0.056,2,    1.853,2,     0.00,2,     0.01,2,  19.9064,2,  24.6457,2,  19.9465,2
49UP20210719_2,   P03,    11,  1,     28,     755,2,20210802,0239, 427, 24.6672, 130.0190, 4191,    251.0,   18.8748,  34.8041,2,    196.7,2,  34.8041,2,   196.76,2,     3.55,2,     3.58,2,     0.00,2,    0.240,2,     -999,9,     -999,9,   2041.9,2,   2284.0,2,   7.9614,2,    25.00,     -999,9,     -999,9,     -999,9,     -999,9,  18.8302,2,  24.9146,2,  18.8728,2
49UP20210719_2,   P03,    11,  1,     27,     754,2,20210802,0239, 425, 24.6672, 130.0190, 4191,    284.5,   18.0177,  34.7853,2,    196.6,2,  34.7850,2,   196.80,6,     4.14,6,     4.60,6,     0.00,6,    0.310,6,    1.949,2,    1.153,2,   2050.2,2,   2282.0,2,   7.9466,2,    25.00,    0.015,2,    1.821,2,     -999,9,     -999,9,  17.9688,2,  25.1153,2,  18.0186,2
49UP20210719_2,   P03,    11,  1,     25,     834,3,20210802,0239, 422, 24.6672, 130.0190, 4191,    372.9,   16.0222,  34.6623,2,    191.0,2,  34.6629,2,   191.94,2,     7.90,2,     8.05,2,     0.00,2,    0.550,2,     -999,9,     -999,9,   2072.2,2,   2278.4,2,   7.8897,2,    25.00,     -999,9,     -999,9,     -999,9,     -999,9,  15.9630,2,  25.4963,2,  16.0189,2
49UP20210719_2,   P03,    11,  1,     26,     835,3,20210802,0239, 422, 24.6672, 130.0190, 4191,    373.8,   16.0144,  34.6621,2,    191.1,2,  34.6623,2,   192.07,2,     7.89,2,     8.07,2,     0.00,2,    0.550,2,     -999,9,     -999,9,   2071.1,2,   2277.1,2,   7.8898,2,    25.00,     -999,9,     -999,9,     -999,9,     -999,9,  15.9550,2,  25.4980,2,  16.0136,2
49UP20210719_2,   P03,    11,  1,     24,     753,2,20210802,0239, 419, 24.6672, 130.0190, 4191,    472.3,   12.8492,  34.4053,2,    185.2,2,  34.4063,2,   185.99,2,    16.69,2,    13.53,2,     0.00,2,    0.940,2,    2.455,2,    1.269,2,   2107.0,2,   2272.3,2,   7.8023,2,    25.00,    0.036,2,    1.504,2,     -999,9,     -999,9,  12.7844,2,  25.9750,2,  12.8469,2
49UP20210719_2,   P03,    11,  1,     23,     832,2,20210802,0239, 416, 24.6672, 130.0190, 4191,    573.7,   10.2217,  34.2339,2,    168.1,2,  34.2340,2,   168.35,2,    30.13,2,    19.69,2,     0.00,2,    1.390,2,     -999,9,     -999,9,   2150.4,2,   2273.2,2,   7.7040,6,    25.00,     -999,9,     -999,9,     -999,9,     -999,9,  10.1536,2,  26.3275,2,  10.2204,2
49UP20210719_2,   P03,    11,  1,     22,     831,2,20210802,0239, 413, 24.6672, 130.0190, 4191,    675.1,    8.0488,  34.1438,2,    136.9,2,  34.1433,2,   137.47,2,    47.94,2,    26.38,2,     0.00,2,    1.890,2,     -999,9,     -999,9,   2199.3,6,   2284.3,6,   7.5962,2,    25.00,     -999,9,     -999,9,     -999,9,     -999,9,   7.9790,2,  26.6045,2,   8.0479,2
49UP20210719_2,   P03,    11,  1,     21,     830,2,20210802,0239, 410, 24.6672, 130.0190, 4191,    775.5,    5.8581,  34.1482,2,     93.9,2,  34.1495,2,    94.09,6,    76.33,6,    34.34,6,     0.00,6,    2.460,6,    1.230,2,    0.565,2,   2265.1,2,   2308.8,2,   7.4771,2,    25.00,    0.033,2,    0.502,2,     -999,9,     -999,9,   5.7901,2,  26.9058,2,   5.8770,2
49UP20210719_2,   P03,    11,  1,     20,     829,2,20210802,0239, 407, 24.6672, 130.0190, 4191,    878.4,    4.8483,  34.2256,2,     68.2,2,  34.2256,2,    69.15,2,    95.52,2,    38.06,2,     0.00,2,    2.730,2,     -999,9,     -999,9,   2300.3,2,   2328.0,2,   7.4246,2,    25.00,     -999,9,     -999,9,     -999,9,     -999,9,   4.7773,2,  27.0866,2,   4.8479,2
49UP20210719_2,   P03,    11,  1,     19,     828,2,20210802,0239, 404, 24.6672, 130.0190, 4191,    978.7,    4.1709,  34.2947,2,     57.7,2,  34.2948,6,    58.93,2,   110.78,2,    40.00,2,     0.00,2,    2.860,2,    0.399,2,    0.186,2,   2324.5,2,   2343.5,2,   7.4020,2,    25.00,    0.010,2,    0.151,2,     -999,9,     -999,9,   4.0960,2,  27.2152,2,   4.1708,2
49UP20210719_2,   P03,    11,  1,     18,     752,2,20210802,0239, 359, 24.6672, 130.0190, 4191,   1141.6,    3.5005,  34.3950,2,     57.1,2,  34.3944,2,    56.90,2,   125.86,2,    40.99,2,     0.00,2,    2.920,2,     -999,9,     -999,9,   2347.5,2,   2366.1,2,   7.4051,6,    25.00,     -999,9,     -999,9,     -999,9,     -999,9,   3.4175,2,  27.3630,2,   3.5002,2
49UP20210719_2,   P03,    11,  1,     17,     751,2,20210802,0239, 354, 24.6672, 130.0190, 4191,   1345.1,    3.0044,  34.4835,2,     70.3,2,  34.4831,2,    70.28,2,   135.17,2,    40.57,2,     0.00,2,    2.880,2,    0.106,2,    0.017,2,   2346.9,6,   2382.1,6,   7.4365,2,    25.00,    0.002,2,    0.023,2,     -999,9,     -999,9,   2.9095,2,  27.4810,2,   3.0047,2
49UP20210719_2,   P03,    11,  1,     16,     328,2,20210802,0239, 349, 24.6672, 130.0190, 4191,   1545.4,    2.4788,  34.5414,2,     86.3,2,  34.5422,2,    86.21,2,   142.71,2,    39.89,2,     0.00,2,    2.820,2,     -999,9,     -999,9,   2348.1,2,   2394.2,2,   7.4651,2,    25.00,     -999,9,     -999,9,     -999,9,     -999,9,   2.3735,2,  27.5739,2,   2.4784,2
49UP20210719_2,   P03,    11,  1,     15,     822,2,20210802,0239, 341, 24.6672, 130.0190, 4191,   1747.7,    2.2383,  34.5740,2,     97.5,2,  34.5740,2,    98.07,2,   144.61,2,    39.34,2,     0.00,2,    2.770,2,     -999,9,     -999,9,   2346.8,2,   2399.9,2,   7.4885,2,    25.00,     -999,9,     -999,9,     -999,9,     -999,9,   2.1195,2,  27.6209,2,   2.2381,2
49UP20210719_2,   P03,    11,  1,     14,     326,2,20210802,0239, 336, 24.6672, 130.0190, 4191,   1949.9,    2.0498,  34.6015,2,    109.4,2,  34.6009,6,   109.78,6,   145.01,6,    38.65,6,     0.00,6,    2.710,6,    0.021,2,    0.000,2,   2348.1,2,   2403.7,2,   7.5116,2,    25.00,    0.007,2,    0.006,2,     -999,9,     -999,9,   1.9169,2,  27.6590,2,   2.0495,2
49UP20210719_2,   P03,    11,  1,     12,     324,2,20210802,0239, 331, 24.6672, 130.0190, 4191,   2155.5,    1.9254,  34.6225,2,    118.8,2,  34.6231,2,   118.98,2,   144.70,2,    38.13,2,     0.00,2,    2.670,2,     -999,9,     -999,9,   2342.9,2,   2406.5,2,   7.5309,2,    25.00,     -999,9,     -999,9,     -999,9,     -999,9,   1.7770,2,  27.6866,2,   1.9256,2
49UP20210719_2,   P03,    11,  1,     13,     325,3,20210802,0239, 331, 24.6672, 130.0190, 4191,   2156.4,    1.9258,  34.6224,2,    118.7,2,  34.6181,4,   119.22,2,   144.27,2,    38.09,2,     0.00,2,    2.670,2,     -999,9,     -999,9,   2338.4,2,   2405.0,2,   7.5295,2,    25.00,     -999,9,     -999,9,     -999,9,     -999,9,   1.7773,2,  27.6865,2,   1.9259,2
49UP20210719_2,   P03,    11,  1,     11,     323,2,20210802,0239, 326, 24.6672, 130.0190, 4191,   2358.2,    1.8116,  34.6366,2,    126.2,2,  34.6366,2,   126.45,2,   144.79,2,    37.69,2,     0.00,2,    2.630,2,     -999,9,     -999,9,   2335.3,2,   2408.3,2,   7.5416,2,    25.00,     -999,9,     -999,9,     -999,9,     -999,9,   1.6475,2,  27.7077,2,   1.8115,2
49UP20210719_2,   P03,    11,  1,     10,     322,2,20210802,0239, 321, 24.6672, 130.0190, 4191,   2559.2,    1.7158,  34.6499,2,    133.2,2,  34.6476,4,   132.84,2,   144.50,2,    37.28,2,     0.00,2,    2.600,2,     -999,9,     -999,9,   2334.0,2,   2408.9,2,   7.5537,2,    25.00,     -999,9,     -999,9,     -999,9,     -999,9,   1.5355,2,  27.7266,2,   1.7160,2
49UP20210719_2,   P03,    11,  1,      9,     750,2,20210802,0239, 316, 24.6672, 130.0190, 4191,   2766.0,    1.6562,  34.6578,2,    137.8,2,  34.6578,2,   138.36,2,   144.84,2,    36.99,2,     0.00,2,    2.570,2,     -999,9,     -999,9,   2330.4,2,   2411.2,2,   7.5626,6,    25.00,     -999,9,     -999,9,     -999,9,     -999,9,   1.4581,2,  27.7386,2,   1.6562,2
49UP20210719_2,   P03,    11,  1,      8,     320,2,20210802,0239, 311, 24.6672, 130.0190, 4191,   2971.1,    1.6085,  34.6638,2,    141.9,2,  34.6641,2,   142.49,2,   144.56,2,    36.75,2,     0.00,2,    2.560,2,     -999,9,     -999,9,   2330.6,6,   2410.0,6,   7.5691,2,    25.00,     -999,9,     -999,9,     -999,9,     -999,9,   1.3921,2,  27.7481,2,   1.6085,2
49UP20210719_2,   P03,    11,  1,      7,     319,2,20210802,0239, 305, 24.6672, 130.0190, 4191,   3215.6,    1.5776,  34.6689,2,    145.5,2,  34.6691,2,   146.05,2,   144.14,2,    36.54,2,     0.00,2,    2.540,2,    0.002,2,    0.000,2,   2327.3,2,   2411.5,2,   7.5764,2,    25.00,    0.008,2,   -0.013,2,     -999,9,     -999,9,   1.3381,2,  27.7561,2,   1.5776,2
49UP20210719_2,   P03,    11,  1,      6,     318,2,20210802,0239, 259, 24.6672, 130.0190, 4191,   3474.1,    1.5648,  34.6727,2,    148.2,2,  34.6725,2,   148.13,2,   143.59,2,    36.38,2,     0.00,2,    2.520,2,    0.003,2,    0.000,2,   2330.3,2,   2410.6,2,   7.5787,2,    25.00,    0.005,2,    0.003,2,     -999,9,     -999,9,   1.2997,2,  27.7618,2,   1.5648,2
49UP20210719_2,   P03,    11,  1,      5,     317,2,20210802,0239, 252, 24.6672, 130.0190, 4191,   3729.0,    1.5604,  34.6757,2,    150.5,2,  34.6758,6,   150.62,6,   143.21,6,    36.20,6,     0.00,6,    2.520,6,    0.000,2,    0.000,2,   2324.5,2,   2410.1,2,   7.5848,2,    25.00,    0.000,2,   -0.018,2,     -999,9,     -999,9,   1.2689,2,  27.7664,2,   1.5605,2
49UP20210719_2,   P03,    11,  1,      4,     316,3,20210802,0239, 246, 24.6672, 130.0190, 4191,   3983.0,    1.5675,  34.6776,2,    152.2,2,  34.6782,2,   152.10,2,   142.96,2,    36.11,2,     0.00,2,    2.510,2,   -0.000,2,    0.000,2,   2323.5,2,   2410.2,2,   7.5869,2,    25.00,    0.000,2,   -0.004,2,     -999,9,     -999,9,   1.2486,2,  27.7694,2,   1.5675,2
49UP20210719_2,   P03,    11,  1,      3,     315,2,20210802,0239, 246, 24.6672, 130.0190, 4191,   3984.0,    1.5673,  34.6778,2,    152.2,2,  34.6783,2,   152.10,2,   143.10,2,    36.08,2,     0.00,2,    2.500,2,     -999,9,     -999,9,   2327.1,2,   2409.9,2,   7.5876,2,    25.00,     -999,9,     -999,9,     -999,9,     -999,9,   1.2483,2,  27.7695,2,   1.5674,2
49UP20210719_2,   P03,    11,  1,      2,     314,2,20210802,0239, 240, 24.6672, 130.0190, 4191,   4248.7,    1.5816,  34.6792,2,    153.5,2,  34.6794,2,   153.66,2,   142.80,2,    35.95,2,     0.00,2,    2.500,2,    0.000,2,    0.000,2,   2322.9,2,   2410.0,2,   7.5873,2,    25.00,    0.000,2,    0.016,2,     -999,9,     -999,9,   1.2328,2,  27.7717,2,   1.5814,2