BOTTLE,20230808CCHSIOADS
EXPOCODE,SECT_ID,STNNBR,CASTNO,SAMPNO,BTLNBR,BTLNBR_FLAG_W,DATE,TIME,BTL_TIME,LATITUDE,LONGITUDE,DEPTH,CTDPRS,CTDTMP,CTDSAL,CTDSAL_FLAG_W,CTDOXY,CTDOXY_FLAG_W,SALNTY,SALNTY_FLAG_W,OXYGEN,OXYGEN_FLAG_W,SILCAT,SILCAT_FLAG_W,NO2+NO3,NO2+NO3_FLAG_W,NITRIT,NITRIT_FLAG_W,PHSPHT,PHSPHT_FLAG_W,CFC-11,CFC-11_FLAG_W,CFC-12,CFC-12_FLAG_W,TCARBN,TCARBN_FLAG_W,ALKALI,ALKALI_FLAG_W,PH_TOT,PH_TOT_FLAG_W,PH_TMP,CFC113,CFC113_FLAG_W,SF6,SF6_FLAG_W,CHLORA,CHLORA_FLAG_W,PPHYTN,PPHYTN_FLAG_W,THETA,THETA_FLAG_W,SIG0,SIG0_FLAG_W,SBE35,SBE35_FLAG_W
,,,,,,,,,,,,METERS,DBAR,ITS-90,PSS-78,,UMOL/KG,,PSS78,,UMOL/KG,,UMOL/KG,,UMOL/KG,,UMOL/KG,,UMOL/KG,,PMOL/KG,,PMOL/KG,,UMOL/KG,,UMOL/KG,,,,DEG C,PMOL/KG,,FMOL/KG,,UG/KG,,UG/KG,,ITS-90,,KG/M^3,,ITS-90,
49UP20210719_2,   P03,    28,  1,      0,     BUC,2,20210809,1727,1915, 24.2498, 138.5813, 4918,      0.0,   28.2190,  34.5452,2,    200.3,2,  34.5463,2,   199.96,2,     0.97,2,     0.00,2,     0.00,2,    0.020,2,     -999,9,     -999,9,   1955.4,2,   2265.7,2,   8.0791,2,    25.00,     -999,9,     -999,9,     0.06,2,     0.02,2,  28.2183,2,  21.9812,2,     -999,9
49UP20210719_2,   P03,    28,  1,     36,     757,2,20210809,1727,1946, 24.2498, 138.5813, 4918,      9.6,   28.2203,  34.5449,2,    200.3,2,  34.5449,2,   199.73,2,     0.91,2,     0.01,2,     0.00,2,    0.000,2,     -999,9,     -999,9,   1956.1,2,   2268.1,2,   8.0797,2,    25.00,     -999,9,     -999,9,     0.06,2,     0.02,2,  28.2180,2,  21.9811,2,  28.2207,2
49UP20210719_2,   P03,    28,  1,     35,     756,2,20210809,1727,1945, 24.2498, 138.5813, 4918,     25.0,   27.9299,  34.5583,2,    201.7,2,  34.5589,2,   201.35,2,     0.93,2,     0.01,2,     0.00,2,    0.010,2,     -999,9,     -999,9,   1957.9,2,   2268.2,2,   8.0775,2,    25.00,     -999,9,     -999,9,     0.06,2,     0.02,2,  27.9240,2,  22.0873,2,  27.9277,2
49UP20210719_2,   P03,    28,  1,     34,     843,3,20210809,1727,1940, 24.2498, 138.5813, 4918,     49.8,   23.5486,  34.8089,2,    225.2,2,  34.7810,4,   223.57,2,     1.07,2,     0.01,2,     0.00,2,    0.010,2,     -999,9,     -999,9,   1983.4,2,   2285.4,2,   8.0520,2,    25.00,     -999,9,     -999,9,     0.12,2,     0.06,2,  23.5383,2,  23.6325,2,  23.5535,2
49UP20210719_2,   P03,    28,  1,     33,     842,2,20210809,1727,1939, 24.2498, 138.5813, 4918,     73.9,   21.8146,  34.8317,2,    222.6,2,  34.8315,2,   221.76,2,     1.25,2,     0.02,2,     0.00,2,    0.010,2,     -999,9,     -999,9,   1998.1,2,   2289.2,2,   8.0343,2,    25.00,     -999,9,     -999,9,     0.21,2,     0.18,2,  21.8001,2,  24.1457,2,  21.8133,2
49UP20210719_2,   P03,    28,  1,     32,     841,2,20210809,1727,1937, 24.2498, 138.5813, 4918,     99.7,   21.0620,  34.8358,2,    219.4,2,  34.8361,2,   217.95,2,     1.34,2,     0.08,2,     0.03,2,    0.020,2,     -999,9,     -999,9,   2006.5,2,   2289.4,2,   8.0226,2,    25.00,     -999,9,     -999,9,     0.23,2,     0.42,2,  21.0429,2,  24.3572,2,  21.0623,2
49UP20210719_2,   P03,    28,  1,     31,     840,2,20210809,1727,1936, 24.2498, 138.5813, 4918,    127.5,   20.2807,  34.8397,2,    209.6,2,  34.8396,2,   209.04,2,     1.73,2,     1.20,2,     0.06,2,    0.090,2,     -999,9,     -999,9,   2018.6,2,   2288.0,2,   8.0002,2,    25.00,     -999,9,     -999,9,     0.11,2,     0.34,2,  20.2569,2,  24.5715,2,  20.2733,2
49UP20210719_2,   P03,    28,  1,     30,     839,2,20210809,1727,1934, 24.2498, 138.5813, 4918,    150.8,   19.5061,  34.8202,2,    207.0,2,  34.8199,2,   206.38,2,     2.18,2,     2.07,2,     0.02,2,    0.140,2,     -999,9,     -999,9,   2027.7,2,   2284.4,2,   7.9841,2,    25.00,     -999,9,     -999,9,     0.04,2,     0.10,2,  19.4787,2,  24.7607,2,  19.5032,2
49UP20210719_2,   P03,    28,  1,     29,     838,2,20210809,1727,1932, 24.2498, 138.5813, 4918,    204.5,   18.2995,  34.7863,2,    204.7,2,  34.7859,2,   204.60,6,     3.06,6,     3.43,6,     0.01,6,    0.230,6,     -999,9,     -999,9,   2039.6,2,   2284.3,2,   7.9582,2,    25.00,     -999,9,     -999,9,     0.00,2,     0.02,2,  18.2640,2,  25.0430,2,  18.2991,2
49UP20210719_2,   P03,    28,  1,     28,     755,2,20210809,1727,1930, 24.2498, 138.5813, 4918,    253.5,   17.4819,  34.7613,2,    200.0,2,  34.7613,2,   199.71,2,     4.09,2,     5.01,2,     0.00,2,    0.330,2,     -999,9,     -999,9,   2050.7,2,   2282.4,2,   7.9294,2,    25.00,     -999,9,     -999,9,     -999,9,     -999,9,  17.4392,2,  25.2259,2,  17.4842,2
49UP20210719_2,   P03,    28,  1,     27,     754,2,20210809,1727,1928, 24.2498, 138.5813, 4918,    301.7,   16.4153,  34.6896,2,    195.2,2,  34.6882,2,   194.69,2,     6.17,2,     7.10,2,     0.00,2,    0.470,2,     -999,9,     -999,9,   2065.5,2,   2279.8,2,   7.8981,2,    25.00,     -999,9,     -999,9,     -999,9,     -999,9,  16.3667,2,  25.4245,2,  16.4147,2
49UP20210719_2,   P03,    28,  1,     26,     835,2,20210809,1727,1925, 24.2498, 138.5813, 4918,    402.5,   13.7530,  34.4787,2,    184.9,2,  34.4784,2,   184.56,2,    14.11,2,    12.26,2,     0.00,2,    0.830,2,     -999,9,     -999,9,   2099.3,2,   2274.2,2,   7.8188,2,    25.00,     -999,9,     -999,9,     -999,9,     -999,9,  13.6954,2,  25.8476,2,  13.7506,2
49UP20210719_2,   P03,    28,  1,     25,     834,2,20210809,1727,1922, 24.2498, 138.5813, 4918,    503.8,   10.5903,  34.2487,2,    175.4,2,  34.2508,6,   175.44,2,    26.51,2,    18.37,2,     0.00,2,    1.280,2,     -999,9,     -999,9,   2139.7,2,   2273.7,2,   7.7222,2,    25.00,     -999,9,     -999,9,     -999,9,     -999,9,  10.5293,2,  26.2740,2,  10.5766,2
49UP20210719_2,   P03,    28,  1,     24,     753,2,20210809,1727,1919, 24.2498, 138.5813, 4918,    605.3,    7.6615,  34.1396,2,    131.1,2,  34.1397,2,   130.05,2,    51.99,2,    27.82,2,     0.00,2,    1.980,2,     -999,9,     -999,9,   2208.9,2,   2289.9,2,   7.5737,2,    25.00,     -999,9,     -999,9,     -999,9,     -999,9,   7.6009,2,  26.6564,2,   7.6639,2
49UP20210719_2,   P03,    28,  1,     23,     832,2,20210809,1727,1916, 24.2498, 138.5813, 4918,    706.0,    6.3458,  34.1411,2,    101.1,2,  34.1415,2,   101.35,2,    68.04,2,    32.76,2,     0.00,2,    2.340,2,     -999,9,     -999,9,   2248.1,2,   2303.3,2,   7.4950,2,    25.00,     -999,9,     -999,9,     -999,9,     -999,9,   6.2817,2,  26.8379,2,   6.3459,2
49UP20210719_2,   P03,    28,  1,     22,     831,2,20210809,1727,1913, 24.2498, 138.5813, 4918,    806.1,    4.9161,  34.2063,2,     71.1,2,  34.2057,2,    72.15,2,    93.25,2,    37.71,2,     0.00,2,    2.690,2,     -999,9,     -999,9,   2297.0,2,   2327.8,2,   7.4230,2,    25.00,     -999,9,     -999,9,     -999,9,     -999,9,   4.8510,2,  27.0629,2,   4.9153,2
49UP20210719_2,   P03,    28,  1,     21,     830,2,20210809,1727,1910, 24.2498, 138.5813, 4918,    907.7,    4.2105,  34.2926,2,     57.5,2,  34.2941,4,    57.27,2,   109.32,2,    39.94,2,     0.00,2,    2.850,2,     -999,9,     -999,9,   2324.7,2,   2344.5,2,   7.3908,2,    25.00,     -999,9,     -999,9,     -999,9,     -999,9,   4.1413,2,  27.2087,2,   4.2082,2
49UP20210719_2,   P03,    28,  1,     20,     829,2,20210809,1727,1907, 24.2498, 138.5813, 4918,   1009.0,    3.7524,  34.3601,2,     54.7,2,  34.3604,2,    54.55,2,   119.72,2,    40.83,2,     0.00,2,    2.900,2,     -999,9,     -999,9,   2337.8,2,   2359.9,2,   7.3944,2,    25.00,     -999,9,     -999,9,     -999,9,     -999,9,   3.6782,2,  27.3097,2,   3.7525,2
49UP20210719_2,   P03,    28,  1,     19,     828,2,20210809,1727,1903, 24.2498, 138.5813, 4918,   1210.9,    3.0924,  34.4540,2,     61.9,2,  34.4544,2,    61.71,2,   133.99,2,    41.06,2,     0.00,2,    2.910,2,     -999,9,     -999,9,   2349.2,2,   2381.8,2,   7.4132,2,    25.00,     -999,9,     -999,9,     -999,9,     -999,9,   3.0074,2,  27.4485,2,   3.0923,2
49UP20210719_2,   P03,    28,  1,     18,     752,2,20210809,1727,1857, 24.2498, 138.5813, 4918,   1414.2,    2.6775,  34.5203,2,     77.4,2,  34.5202,2,    77.79,6,   140.19,6,    40.33,6,     0.00,6,    2.850,6,     -999,9,     -999,9,   2350.4,2,   2393.7,2,   7.4462,2,    25.00,     -999,9,     -999,9,     -999,9,     -999,9,   2.5804,2,  27.5394,2,   2.6776,2
49UP20210719_2,   P03,    28,  1,     17,     751,2,20210809,1727,1852, 24.2498, 138.5813, 4918,   1614.7,    2.3544,  34.5652,2,     93.0,2,  34.5650,2,    92.73,2,   143.39,2,    39.55,2,     0.00,2,    2.780,2,     -999,9,     -999,9,   2345.6,2,   2401.3,2,   7.4776,6,    25.00,     -999,9,     -999,9,     -999,9,     -999,9,   2.2449,2,  27.6036,2,   2.3544,2
49UP20210719_2,   P03,    28,  1,     16,     328,2,20210809,1727,1845, 24.2498, 138.5813, 4918,   1818.7,    2.1275,  34.5936,2,    103.8,2,  34.5937,6,   103.81,2,   145.16,2,    38.92,2,     0.00,2,    2.740,2,     -999,9,     -999,9,   2344.2,6,   2403.2,6,   7.4972,2,    25.00,     -999,9,     -999,9,     -999,9,     -999,9,   2.0043,2,  27.6458,2,   2.1267,2
49UP20210719_2,   P03,    28,  1,     15,     822,2,20210809,1727,1840, 24.2498, 138.5813, 4918,   2027.5,    1.9672,  34.6173,2,    115.3,2,  34.6173,2,   115.57,2,   144.95,2,    38.24,2,     0.00,2,    2.670,2,     -999,9,     -999,9,   2338.8,2,   2406.7,2,   7.5188,2,    25.00,     -999,9,     -999,9,     -999,9,     -999,9,   1.8290,2,  27.6784,2,   1.9674,2
49UP20210719_2,   P03,    28,  1,     14,     326,3,20210809,1727,1835, 24.2498, 138.5813, 4918,   2226.0,    1.8580,  34.6321,2,    122.6,2,  34.6317,2,   122.76,2,   144.60,2,    37.89,2,     0.00,2,    2.640,2,     -999,9,     -999,9,   2336.6,2,   2408.3,2,   7.5322,2,    25.00,     -999,9,     -999,9,     -999,9,     -999,9,   1.7047,2,  27.6998,2,   1.8580,2
49UP20210719_2,   P03,    28,  1,     13,     325,2,20210809,1727,1829, 24.2498, 138.5813, 4918,   2430.0,    1.7885,  34.6415,2,    127.4,2,  34.6408,2,   127.42,2,   145.63,2,    37.61,2,     0.00,2,    2.620,2,     -999,9,     -999,9,   2336.1,2,   2411.2,2,   7.5409,2,    25.00,     -999,9,     -999,9,     -999,9,     -999,9,   1.6184,2,  27.7138,2,   1.7888,2
49UP20210719_2,   P03,    28,  1,     12,     324,2,20210809,1727,1824, 24.2498, 138.5813, 4918,   2631.9,    1.7311,  34.6496,2,    132.0,2,  34.6494,2,   132.20,2,   145.19,2,    37.32,2,     0.00,2,    2.600,2,     -999,9,     -999,9,   2335.7,2,   2413.0,2,   7.5483,2,    25.00,     -999,9,     -999,9,     -999,9,     -999,9,   1.5439,2,  27.7258,2,   1.7313,2
49UP20210719_2,   P03,    28,  1,     11,     323,2,20210809,1727,1819, 24.2498, 138.5813, 4918,   2837.5,    1.6747,  34.6571,2,    136.8,2,  34.6563,2,   136.41,6,   144.96,6,    37.06,6,     0.00,6,    2.570,6,     -999,9,     -999,9,   2330.0,2,   2412.3,2,   7.5556,2,    25.00,     -999,9,     -999,9,     -999,9,     -999,9,   1.4696,2,  27.7372,2,   1.6747,2
49UP20210719_2,   P03,    28,  1,     10,     322,2,20210809,1727,1814, 24.2498, 138.5813, 4918,   3040.4,    1.6299,  34.6633,2,    141.1,2,  34.6622,4,   140.78,2,   144.40,2,    36.76,2,     0.00,2,    2.550,2,     -999,9,     -999,9,   2327.9,2,   2413.1,2,   7.5634,2,    25.00,     -999,9,     -999,9,     -999,9,     -999,9,   1.4064,2,  27.7468,2,   1.6300,2
49UP20210719_2,   P03,    28,  1,      9,     750,2,20210809,1727,1814, 24.2498, 138.5813, 4918,   3040.4,    1.6299,  34.6634,2,    141.1,2,  34.6633,2,   140.79,2,   144.78,2,    36.78,2,     0.00,2,    2.550,2,     -999,9,     -999,9,   2330.1,2,   2412.9,2,   7.5619,2,    25.00,     -999,9,     -999,9,     -999,9,     -999,9,   1.4065,2,  27.7468,2,   1.6300,2
49UP20210719_2,   P03,    28,  1,      8,     320,2,20210809,1727,1808, 24.2498, 138.5813, 4918,   3297.2,    1.5838,  34.6704,2,    146.1,2,  34.6704,2,   146.12,2,   143.89,2,    36.48,2,     0.00,2,    2.530,2,     -999,9,     -999,9,   2325.2,2,   2412.2,2,   7.5691,2,    25.00,     -999,9,     -999,9,     -999,9,     -999,9,   1.3361,2,  27.7574,2,   1.5838,2
49UP20210719_2,   P03,    28,  1,      7,     319,2,20210809,1727,1802, 24.2498, 138.5813, 4918,   3553.4,    1.5489,  34.6758,2,    150.6,2,  34.6757,6,   150.79,2,   143.57,2,    36.17,2,     0.00,2,    2.510,2,     -999,9,     -999,9,   2323.8,2,   2414.5,2,   7.5748,2,    25.00,     -999,9,     -999,9,     -999,9,     -999,9,   1.2761,2,  27.7660,2,   1.5489,2
49UP20210719_2,   P03,    28,  1,      6,     318,2,20210809,1727,1756, 24.2498, 138.5813, 4918,   3808.9,    1.5177,  34.6809,2,    155.1,2,  34.6796,4,   154.86,2,   142.52,2,    35.86,2,     0.00,2,    2.480,2,     -999,9,     -999,9,   2319.6,2,   2413.4,2,   7.5842,6,    25.00,     -999,9,     -999,9,     -999,9,     -999,9,   1.2189,2,  27.7741,2,   1.5178,2
49UP20210719_2,   P03,    28,  1,      5,     317,2,20210809,1727,1750, 24.2498, 138.5813, 4918,   4063.7,    1.5233,  34.6827,2,    156.9,2,  34.6827,2,   156.72,2,   142.16,2,    35.75,2,     0.00,2,    2.470,2,     -999,9,     -999,9,   2318.7,6,   2411.9,6,   7.5845,2,    25.00,     -999,9,     -999,9,     -999,9,     -999,9,   1.1968,2,  27.7771,2,   1.5234,2
49UP20210719_2,   P03,    28,  1,      4,     316,2,20210809,1727,1744, 24.2498, 138.5813, 4918,   4320.0,    1.5393,  34.6837,2,    158.0,2,  34.6834,6,   158.35,2,   141.73,2,    35.65,2,     0.00,2,    2.460,2,     -999,9,     -999,9,   2318.0,2,   2410.8,2,   7.5888,2,    25.00,     -999,9,     -999,9,     -999,9,     -999,9,   1.1837,2,  27.7787,2,   1.5394,2
49UP20210719_2,   P03,    28,  1,      3,     315,2,20210809,1727,1738, 24.2498, 138.5813, 4918,   4577.5,    1.5674,  34.6838,2,    158.3,2,  34.6834,2,   158.18,2,   141.79,2,    35.67,2,     0.00,2,    2.470,2,     -999,9,     -999,9,   2318.9,2,   2411.0,2,   7.5897,2,    25.00,     -999,9,     -999,9,     -999,9,     -999,9,   1.1813,2,  27.7790,2,   1.5673,2
49UP20210719_2,   P03,    28,  1,      2,     314,2,20210809,1727,1733, 24.2498, 138.5813, 4918,   4835.9,    1.5976,  34.6840,2,    158.4,2,  34.6837,2,   158.48,6,   141.53,6,    35.65,6,     0.00,6,    2.460,6,     -999,9,     -999,9,   2318.0,2,   2411.8,2,   7.5896,6,    25.00,     -999,9,     -999,9,     -999,9,     -999,9,   1.1800,2,  27.7792,2,   1.5976,2
49UP20210719_2,   P03,    28,  1,      1,     811,2,20210809,1727,1728, 24.2498, 138.5813, 4918,   5033.3,    1.6202,  34.6839,2,    158.7,2,  34.6843,2,   158.58,2,   141.48,2,    35.54,2,     0.00,2,    2.460,2,     -999,9,     -999,9,   2317.0,6,   2411.4,6,   7.5890,2,    25.00,     -999,9,     -999,9,     -999,9,     -999,9,   1.1779,2,  27.7794,2,   1.6204,2