BOTTLE,20230808CCHSIOADS
EXPOCODE,SECT_ID,STNNBR,CASTNO,SAMPNO,BTLNBR,BTLNBR_FLAG_W,DATE,TIME,BTL_TIME,LATITUDE,LONGITUDE,DEPTH,CTDPRS,CTDTMP,CTDSAL,CTDSAL_FLAG_W,CTDOXY,CTDOXY_FLAG_W,SALNTY,SALNTY_FLAG_W,OXYGEN,OXYGEN_FLAG_W,SILCAT,SILCAT_FLAG_W,NO2+NO3,NO2+NO3_FLAG_W,NITRIT,NITRIT_FLAG_W,PHSPHT,PHSPHT_FLAG_W,CFC-11,CFC-11_FLAG_W,CFC-12,CFC-12_FLAG_W,TCARBN,TCARBN_FLAG_W,ALKALI,ALKALI_FLAG_W,PH_TOT,PH_TOT_FLAG_W,PH_TMP,CFC113,CFC113_FLAG_W,SF6,SF6_FLAG_W,CHLORA,CHLORA_FLAG_W,PPHYTN,PPHYTN_FLAG_W,THETA,THETA_FLAG_W,SIG0,SIG0_FLAG_W,SBE35,SBE35_FLAG_W
,,,,,,,,,,,,METERS,DBAR,ITS-90,PSS-78,,UMOL/KG,,PSS78,,UMOL/KG,,UMOL/KG,,UMOL/KG,,UMOL/KG,,UMOL/KG,,PMOL/KG,,PMOL/KG,,UMOL/KG,,UMOL/KG,,,,DEG C,PMOL/KG,,FMOL/KG,,UG/KG,,UG/KG,,ITS-90,,KG/M^3,,ITS-90,
49UP20210920_1,   P03,    88,  1,      0,     BUC,2,20211004,1133,1348, 24.2655, 178.3893, 5668,      0.0,   27.7674,  35.1485,2,    202.0,2,     -999,9,   201.99,2,     1.19,2,     0.00,2,     0.00,2,    0.030,2,     -999,9,     -999,9,     -999,9,     -999,9,     -999,9,     -999,     -999,9,     -999,9,     -999,9,     -999,9,  27.7668,2,  22.5823,2,     -999,9
49UP20210920_1,   P03,    88,  1,     36,     757,2,20211004,1133,1411, 24.2655, 178.3893, 5668,     11.1,   27.7772,  35.1480,2,    202.1,2,     -999,9,   201.68,2,     1.15,2,     0.00,2,     0.00,2,    0.010,2,     -999,9,     -999,9,     -999,9,     -999,9,     -999,9,     -999,     -999,9,     -999,9,     -999,9,     -999,9,  27.7746,2,  22.5794,2,  27.7816,2
49UP20210920_1,   P03,    88,  1,     35,     756,2,20211004,1133,1407, 24.2655, 178.3893, 5668,     50.4,   27.6734,  35.1415,2,    204.1,2,     -999,9,   203.60,2,     1.24,2,     0.00,2,     0.00,2,    0.010,2,     -999,9,     -999,9,     -999,9,     -999,9,     -999,9,     -999,     -999,9,     -999,9,     -999,9,     -999,9,  27.6616,2,  22.6113,2,  27.6636,2
49UP20210920_1,   P03,    88,  1,     34,     843,2,20211004,1133,1404, 24.2655, 178.3893, 5668,    102.5,   23.4268,  35.2166,2,    214.0,2,     -999,9,   213.77,2,     1.46,2,     0.00,2,     0.00,2,    0.030,2,     -999,9,     -999,9,     -999,9,     -999,9,     -999,9,     -999,     -999,9,     -999,9,     -999,9,     -999,9,  23.4056,2,  23.9802,2,  23.4381,2
49UP20210920_1,   P03,    88,  1,     33,     842,2,20211004,1133,1403, 24.2655, 178.3893, 5668,    124.7,   22.5509,  35.1907,2,    205.1,2,     -999,9,   204.94,2,     1.69,2,     0.00,2,     0.03,2,    0.050,2,     -999,9,     -999,9,     -999,9,     -999,9,     -999,9,     -999,     -999,9,     -999,9,     -999,9,     -999,9,  22.5258,2,  24.2142,2,  22.5548,2
49UP20210920_1,   P03,    88,  1,     32,     841,2,20211004,1133,1401, 24.2655, 178.3893, 5668,    150.7,   21.4751,  35.1240,2,    197.6,2,     -999,9,   198.35,2,     2.10,2,     0.61,2,     0.04,2,    0.110,2,     -999,9,     -999,9,     -999,9,     -999,9,     -999,9,     -999,     -999,9,     -999,9,     -999,9,     -999,9,  21.4458,2,  24.4662,2,  21.4763,2
49UP20210920_1,   P03,    88,  1,     31,     840,2,20211004,1133,1359, 24.2655, 178.3893, 5668,    204.9,   17.9635,  34.8008,2,    204.5,2,     -999,9,   205.00,2,     3.73,2,     2.80,2,     0.01,2,    0.240,2,     -999,9,     -999,9,     -999,9,     -999,9,     -999,9,     -999,     -999,9,     -999,9,     -999,9,     -999,9,  17.9284,2,  25.1371,2,  17.9566,2
49UP20210920_1,   P03,    88,  1,     30,     839,2,20211004,1133,1357, 24.2655, 178.3893, 5668,    255.6,   16.2885,  34.6499,2,    205.8,2,     -999,9,   204.98,2,     5.57,2,     5.33,2,     0.00,2,    0.390,2,     -999,9,     -999,9,     -999,9,     -999,9,     -999,9,     -999,     -999,9,     -999,9,     -999,9,     -999,9,  16.2476,2,  25.4215,2,  16.2920,2
49UP20210920_1,   P03,    88,  1,     29,     838,2,20211004,1133,1354, 24.2655, 178.3893, 5668,    334.8,   14.0145,  34.4661,2,    209.9,2,     -999,9,   210.14,2,     9.58,2,     8.57,2,     0.00,2,    0.610,2,     -999,9,     -999,9,     -999,9,     -999,9,     -999,9,     -999,     -999,9,     -999,9,     -999,9,     -999,9,  13.9660,2,  25.7816,2,  14.0168,2
49UP20210920_1,   P03,    88,  1,     28,     755,2,20211004,1133,1351, 24.2655, 178.3893, 5668,    436.0,   10.8975,  34.1869,2,    191.6,2,     -999,9,   192.55,6,    18.21,6,    15.29,6,     0.00,6,    1.090,6,     -999,9,     -999,9,     -999,9,     -999,9,     -999,9,     -999,     -999,9,     -999,9,     -999,9,     -999,9,  10.8440,2,  26.1702,2,  10.8881,2
49UP20210920_1,   P03,    88,  1,     27,     754,2,20211004,1133,1347, 24.2655, 178.3893, 5668,    535.8,    8.3660,  34.0971,2,    141.1,2,     -999,9,   141.35,2,    38.16,2,    25.07,2,     0.00,2,    1.810,2,     -999,9,     -999,9,     -999,9,     -999,9,     -999,9,     -999,     -999,9,     -999,9,     -999,9,     -999,9,   8.3099,2,  26.5182,2,   8.3695,2
49UP20210920_1,   P03,    88,  1,     26,     835,2,20211004,1133,1344, 24.2655, 178.3893, 5668,    636.4,    6.4430,  34.1019,2,     90.4,2,     -999,9,    90.20,2,    62.79,2,    33.30,2,     0.00,2,    2.410,2,     -999,9,     -999,9,     -999,9,     -999,9,     -999,9,     -999,     -999,9,     -999,9,     -999,9,     -999,9,   6.3851,2,  26.7936,2,   6.4431,2
49UP20210920_1,   P03,    88,  1,     25,     834,2,20211004,1133,1341, 24.2655, 178.3893, 5668,    737.4,    5.3616,  34.1578,2,     61.7,2,     -999,9,    61.56,2,    81.85,2,    37.72,2,     0.00,2,    2.730,2,     -999,9,     -999,9,     -999,9,     -999,9,     -999,9,     -999,     -999,9,     -999,9,     -999,9,     -999,9,   5.3000,2,  26.9727,2,   5.3611,2
49UP20210920_1,   P03,    88,  1,     24,     753,2,20211004,1133,1338, 24.2655, 178.3893, 5668,    837.6,    4.6916,  34.2342,2,     45.3,2,     -999,9,    45.32,2,    96.89,2,    40.20,2,     0.00,2,    2.920,2,     -999,9,     -999,9,     -999,9,     -999,9,     -999,9,     -999,     -999,9,     -999,9,     -999,9,     -999,9,   4.6252,2,  27.1103,2,   4.6915,2
49UP20210920_1,   P03,    88,  1,     23,     832,2,20211004,1133,1334, 24.2655, 178.3893, 5668,    939.6,    4.0403,  34.3396,2,     37.9,2,     -999,9,    38.16,2,   112.65,2,    41.77,2,     0.00,2,    3.020,2,     -999,9,     -999,9,     -999,9,     -999,9,     -999,9,     -999,     -999,9,     -999,9,     -999,9,     -999,9,   3.9696,2,  27.2639,2,   4.0403,2
49UP20210920_1,   P03,    88,  1,     22,     831,2,20211004,1133,1330, 24.2655, 178.3893, 5668,   1082.8,    3.6409,  34.4363,2,     45.8,2,     -999,9,    46.04,2,   121.66,2,    41.71,2,     0.00,2,    3.010,2,     -999,9,     -999,9,     -999,9,     -999,9,     -999,9,     -999,     -999,9,     -999,9,     -999,9,     -999,9,   3.5614,2,  27.3819,2,   3.6414,2
49UP20210920_1,   P03,    88,  1,     21,     830,2,20211004,1133,1325, 24.2655, 178.3893, 5668,   1284.6,    3.2823,  34.5242,2,     66.5,2,     -999,9,    66.58,2,   126.86,2,    40.61,2,     0.00,2,    2.910,2,     -999,9,     -999,9,     -999,9,     -999,9,     -999,9,     -999,     -999,9,     -999,9,     -999,9,     -999,9,   3.1894,2,  27.4877,2,   3.2816,2
49UP20210920_1,   P03,    88,  1,     20,     829,2,20211004,1133,1320, 24.2655, 178.3893, 5668,   1485.8,    2.8900,  34.5526,2,     73.4,2,     -999,9,    73.68,2,   135.34,2,    40.48,2,     0.00,2,    2.890,2,     -999,9,     -999,9,     -999,9,     -999,9,     -999,9,     -999,     -999,9,     -999,9,     -999,9,     -999,9,   2.7847,2,  27.5474,2,   2.8894,2
49UP20210920_1,   P03,    88,  1,     19,     828,2,20211004,1133,1315, 24.2655, 178.3893, 5668,   1689.8,    2.5062,  34.5820,2,     83.0,2,     -999,9,    83.32,6,   143.37,6,    40.10,6,     0.00,6,    2.860,6,     -999,9,     -999,9,     -999,9,     -999,9,     -999,9,     -999,     -999,9,     -999,9,     -999,9,     -999,9,   2.3886,2,  27.6051,2,   2.5062,2
49UP20210920_1,   P03,    88,  1,     18,     752,2,20211004,1133,1309, 24.2655, 178.3893, 5668,   1894.6,    2.2259,  34.6023,2,     90.7,2,     -999,9,    91.01,2,   149.48,2,    39.68,2,     0.00,2,    2.820,2,     -999,9,     -999,9,     -999,9,     -999,9,     -999,9,     -999,     -999,9,     -999,9,     -999,9,     -999,9,   2.0950,2,  27.6455,2,   2.2257,2
49UP20210920_1,   P03,    88,  1,     17,     751,2,20211004,1133,1304, 24.2655, 178.3893, 5668,   2099.6,    2.0000,  34.6197,2,     98.6,2,     -999,9,    98.48,2,   154.29,2,    39.35,2,     0.00,2,    2.790,2,     -999,9,     -999,9,     -999,9,     -999,9,     -999,9,     -999,     -999,9,     -999,9,     -999,9,     -999,9,   1.8552,2,  27.6783,2,   2.0002,2
49UP20210920_1,   P03,    88,  1,     16,     328,2,20211004,1133,1258, 24.2655, 178.3893, 5668,   2298.0,    1.8510,  34.6331,2,    106.2,2,     -999,9,   106.06,2,   156.30,2,    38.91,2,     0.00,2,    2.740,2,     -999,9,     -999,9,     -999,9,     -999,9,     -999,9,     -999,     -999,9,     -999,9,     -999,9,     -999,9,   1.6914,2,  27.7016,2,   1.8510,2
49UP20210920_1,   P03,    88,  1,     15,     822,2,20211004,1133,1253, 24.2655, 178.3893, 5668,   2500.8,    1.7575,  34.6421,2,    112.3,2,     -999,9,   112.28,2,   157.32,2,    38.48,2,     0.00,2,    2.700,2,     -999,9,     -999,9,     -999,9,     -999,9,     -999,9,     -999,     -999,9,     -999,9,     -999,9,     -999,9,   1.5817,2,  27.7169,2,   1.7573,2
49UP20210920_1,   P03,    88,  1,     14,     326,2,20211004,1133,1248, 24.2655, 178.3893, 5668,   2706.3,    1.6814,  34.6501,2,    118.0,2,     -999,9,   117.56,2,   157.37,2,    38.15,2,     0.00,2,    2.680,2,     -999,9,     -999,9,     -999,9,     -999,9,     -999,9,     -999,     -999,9,     -999,9,     -999,9,     -999,9,   1.4884,2,  27.7302,2,   1.6814,2
49UP20210920_1,   P03,    88,  1,     13,     325,2,20211004,1133,1243, 24.2655, 178.3893, 5668,   2907.8,    1.6195,  34.6578,2,    124.7,2,     -999,9,   124.83,2,   157.53,2,    37.64,2,     0.00,2,    2.650,2,     -999,9,     -999,9,     -999,9,     -999,9,     -999,9,     -999,     -999,9,     -999,9,     -999,9,     -999,9,   1.4089,2,  27.7421,2,   1.6194,2
49UP20210920_1,   P03,    88,  1,     12,     324,2,20211004,1133,1238, 24.2655, 178.3893, 5668,   3122.5,    1.5658,  34.6648,2,    130.9,2,     -999,9,   130.93,2,   156.89,2,    37.27,2,     0.00,2,    2.610,2,     -999,9,     -999,9,     -999,9,     -999,9,     -999,9,     -999,     -999,9,     -999,9,     -999,9,     -999,9,   1.3358,2,  27.7530,2,   1.5659,2
49UP20210920_1,   P03,    88,  1,     11,     323,2,20211004,1133,1232, 24.2655, 178.3893, 5668,   3377.9,    1.5217,  34.6710,2,    137.2,2,     -999,9,   137.08,2,   155.55,2,    36.83,2,     0.00,2,    2.580,2,     -999,9,     -999,9,     -999,9,     -999,9,     -999,9,     -999,     -999,9,     -999,9,     -999,9,     -999,9,   1.2674,2,  27.7627,2,   1.5216,2
49UP20210920_1,   P03,    88,  1,     10,     322,2,20211004,1133,1226, 24.2655, 178.3893, 5668,   3634.1,    1.4946,  34.6761,2,    143.5,2,     -999,9,   143.43,6,   153.82,6,    36.43,6,     0.00,6,    2.550,6,     -999,9,     -999,9,     -999,9,     -999,9,     -999,9,     -999,     -999,9,     -999,9,     -999,9,     -999,9,   1.2149,2,  27.7705,2,   1.4943,2
49UP20210920_1,   P03,    88,  1,      9,     750,2,20211004,1133,1220, 24.2655, 178.3893, 5668,   3889.1,    1.4770,  34.6804,2,    148.5,2,     -999,9,   148.36,2,   152.41,2,    36.14,2,     0.00,2,    2.520,2,     -999,9,     -999,9,     -999,9,     -999,9,     -999,9,     -999,     -999,9,     -999,9,     -999,9,     -999,9,   1.1708,2,  27.7770,2,   1.4770,2
49UP20210920_1,   P03,    88,  1,      8,     320,2,20211004,1133,1214, 24.2655, 178.3893, 5668,   4148.4,    1.4664,  34.6839,2,    152.8,2,     -999,9,   152.92,2,   151.60,2,    35.81,2,     0.00,2,    2.500,2,     -999,9,     -999,9,     -999,9,     -999,9,     -999,9,     -999,     -999,9,     -999,9,     -999,9,     -999,9,   1.1322,2,  27.7824,2,   1.4663,2
49UP20210920_1,   P03,    88,  1,      7,     319,2,20211004,1133,1208, 24.2655, 178.3893, 5668,   4402.1,    1.4620,  34.6869,2,    157.7,2,     -999,9,   157.67,2,   148.64,2,    35.44,2,     0.00,2,    2.470,2,     -999,9,     -999,9,     -999,9,     -999,9,     -999,9,     -999,     -999,9,     -999,9,     -999,9,     -999,9,   1.0994,2,  27.7871,2,   1.4619,2
49UP20210920_1,   P03,    88,  1,      6,     318,2,20211004,1133,1202, 24.2655, 178.3893, 5668,   4660.9,    1.4555,  34.6903,2,    163.8,2,     -999,9,   163.68,2,   144.09,2,    34.96,2,     0.00,2,    2.440,2,     -999,9,     -999,9,     -999,9,     -999,9,     -999,9,     -999,     -999,9,     -999,9,     -999,9,     -999,9,   1.0632,2,  27.7922,2,   1.4554,2
49UP20210920_1,   P03,    88,  1,      5,     317,2,20211004,1133,1156, 24.2655, 178.3893, 5668,   4915.1,    1.4586,  34.6925,2,    168.2,2,     -999,9,   168.35,2,   140.75,2,    34.65,2,     0.00,2,    2.420,2,     -999,9,     -999,9,     -999,9,     -999,9,     -999,9,     -999,     -999,9,     -999,9,     -999,9,     -999,9,   1.0360,2,  27.7959,2,   1.4586,2
49UP20210920_1,   P03,    88,  1,      4,     316,3,20211004,1133,1150, 24.2655, 178.3893, 5668,   5171.8,    1.4688,  34.6946,2,    171.7,2,     -999,9,   171.67,2,   138.51,2,    34.39,2,     0.00,2,    2.400,2,     -999,9,     -999,9,     -999,9,     -999,9,     -999,9,     -999,     -999,9,     -999,9,     -999,9,     -999,9,   1.0145,2,  27.7990,2,   1.4689,2
49UP20210920_1,   P03,    88,  1,      3,     315,3,20211004,1133,1144, 24.2655, 178.3893, 5668,   5432.1,    1.4870,  34.6958,2,    174.1,2,     -999,9,   174.30,2,   136.48,2,    34.22,2,     0.00,2,    2.380,2,     -999,9,     -999,9,     -999,9,     -999,9,     -999,9,     -999,     -999,9,     -999,9,     -999,9,     -999,9,   0.9995,2,  27.8010,2,   1.4870,2
49UP20210920_1,   P03,    88,  1,      2,     314,2,20211004,1133,1138, 24.2655, 178.3893, 5668,   5689.8,    1.5077,  34.6966,2,    176.2,2,     -999,9,   176.36,2,   135.04,2,    34.06,2,     0.00,2,    2.370,2,     -999,9,     -999,9,     -999,9,     -999,9,     -999,9,     -999,     -999,9,     -999,9,     -999,9,     -999,9,   0.9864,2,  27.8025,2,   1.5076,2
49UP20210920_1,   P03,    88,  1,      1,     811,2,20211004,1133,1134, 24.2655, 178.3893, 5668,   5817.8,    1.5194,  34.6971,2,    177.1,2,     -999,9,   176.95,6,   134.43,6,    34.07,6,     0.00,6,    2.370,6,     -999,9,     -999,9,     -999,9,     -999,9,     -999,9,     -999,     -999,9,     -999,9,     -999,9,     -999,9,   0.9809,2,  27.8032,2,   1.5194,2