BOTTLE,20230808CCHSIOADS
EXPOCODE,SECT_ID,STNNBR,CASTNO,SAMPNO,BTLNBR,BTLNBR_FLAG_W,DATE,TIME,BTL_TIME,LATITUDE,LONGITUDE,DEPTH,CTDPRS,CTDTMP,CTDSAL,CTDSAL_FLAG_W,CTDOXY,CTDOXY_FLAG_W,SALNTY,SALNTY_FLAG_W,OXYGEN,OXYGEN_FLAG_W,SILCAT,SILCAT_FLAG_W,NO2+NO3,NO2+NO3_FLAG_W,NITRIT,NITRIT_FLAG_W,PHSPHT,PHSPHT_FLAG_W,CFC-11,CFC-11_FLAG_W,CFC-12,CFC-12_FLAG_W,TCARBN,TCARBN_FLAG_W,ALKALI,ALKALI_FLAG_W,PH_TOT,PH_TOT_FLAG_W,PH_TMP,CFC113,CFC113_FLAG_W,SF6,SF6_FLAG_W,CHLORA,CHLORA_FLAG_W,PPHYTN,PPHYTN_FLAG_W,THETA,THETA_FLAG_W,SIG0,SIG0_FLAG_W,SBE35,SBE35_FLAG_W
,,,,,,,,,,,,METERS,DBAR,ITS-90,PSS-78,,UMOL/KG,,PSS78,,UMOL/KG,,UMOL/KG,,UMOL/KG,,UMOL/KG,,UMOL/KG,,PMOL/KG,,PMOL/KG,,UMOL/KG,,UMOL/KG,,,,DEG C,PMOL/KG,,FMOL/KG,,UG/KG,,UG/KG,,ITS-90,,KG/M^3,,ITS-90,
49UP20210719_2,   P03,    13,  1,      0,     BUC,2,20210802,1800,1950, 24.2452, 130.6557, 4562,      0.0,   28.3012,  34.3683,2,    197.6,2,     -999,9,   197.62,2,     1.37,2,     0.00,2,     0.00,2,    0.020,2,     -999,9,     -999,9,     -999,9,     -999,9,     -999,9,     -999,     -999,9,     -999,9,     -999,9,     -999,9,  28.3006,2,  21.8213,2,     -999,9
49UP20210719_2,   P03,    13,  1,     36,     757,2,20210802,1800,2013, 24.2452, 130.6557, 4562,     10.9,   28.2955,  34.3700,2,    197.7,2,     -999,9,   198.00,2,     1.32,2,     0.00,2,     0.00,2,    0.000,2,     -999,9,     -999,9,     -999,9,     -999,9,     -999,9,     -999,     -999,9,     -999,9,     -999,9,     -999,9,  28.2929,2,  21.8251,2,  28.2945,2
49UP20210719_2,   P03,    13,  1,     35,     756,2,20210802,1800,2011, 24.2452, 130.6557, 4562,     25.3,   27.3215,  34.3984,2,    202.6,2,     -999,9,   202.57,2,     1.39,2,     0.02,2,     0.00,2,    0.000,2,     -999,9,     -999,9,     -999,9,     -999,9,     -999,9,     -999,     -999,9,     -999,9,     -999,9,     -999,9,  27.3156,2,  22.1637,2,  27.3171,2
49UP20210719_2,   P03,    13,  1,     34,     843,2,20210802,1800,2006, 24.2452, 130.6557, 4562,     50.0,   23.7017,  34.8165,2,    226.6,2,     -999,9,   225.52,2,     1.53,2,     0.00,2,     0.00,2,    0.000,2,     -999,9,     -999,9,     -999,9,     -999,9,     -999,9,     -999,     -999,9,     -999,9,     -999,9,     -999,9,  23.6913,2,  23.5934,2,  23.6968,2
49UP20210719_2,   P03,    13,  1,     33,     842,3,20210802,1800,2005, 24.2452, 130.6557, 4562,     73.9,   21.8287,  34.8440,2,    227.4,2,     -999,9,   226.83,2,     1.66,2,     0.00,2,     0.00,2,    0.000,2,     -999,9,     -999,9,     -999,9,     -999,9,     -999,9,     -999,     -999,9,     -999,9,     -999,9,     -999,9,  21.8142,2,  24.1511,2,  21.8293,2
49UP20210719_2,   P03,    13,  1,     32,     841,2,20210802,1800,2003, 24.2452, 130.6557, 4562,    101.1,   20.7904,  34.8381,2,    217.1,2,     -999,9,   216.82,2,     1.88,2,     0.04,2,     0.03,2,    0.020,2,     -999,9,     -999,9,     -999,9,     -999,9,     -999,9,     -999,     -999,9,     -999,9,     -999,9,     -999,9,  20.7712,2,  24.4326,2,  20.7906,2
49UP20210719_2,   P03,    13,  1,     31,     840,2,20210802,1800,2001, 24.2452, 130.6557, 4562,    125.8,   20.2313,  34.8166,2,    204.6,2,     -999,9,   204.71,2,     2.34,2,     1.65,2,     0.04,2,    0.110,2,     -999,9,     -999,9,     -999,9,     -999,9,     -999,9,     -999,     -999,9,     -999,9,     -999,9,     -999,9,  20.2079,2,  24.5669,2,  20.2316,2
49UP20210719_2,   P03,    13,  1,     30,     839,2,20210802,1800,2000, 24.2452, 130.6557, 4562,    151.0,   19.8149,  34.8231,2,    199.2,2,     -999,9,   199.52,2,     2.69,2,     2.43,2,     0.02,2,    0.170,2,     -999,9,     -999,9,     -999,9,     -999,9,     -999,9,     -999,     -999,9,     -999,9,     -999,9,     -999,9,  19.7872,2,  24.6827,2,  19.8145,2
49UP20210719_2,   P03,    13,  1,     29,     838,2,20210802,1800,1958, 24.2452, 130.6557, 4562,    203.4,   18.5825,  34.7977,2,    196.2,2,     -999,9,   196.54,6,     3.72,6,     3.86,6,     0.00,6,    0.260,6,     -999,9,     -999,9,     -999,9,     -999,9,     -999,9,     -999,     -999,9,     -999,9,     -999,9,     -999,9,  18.5469,2,  24.9811,2,  18.5772,2
49UP20210719_2,   P03,    13,  1,     28,     755,2,20210802,1800,1956, 24.2452, 130.6557, 4562,    250.7,   17.6290,  34.7710,2,    196.0,2,     -999,9,   196.40,2,     4.55,2,     5.07,2,     0.00,2,    0.340,2,     -999,9,     -999,9,     -999,9,     -999,9,     -999,9,     -999,     -999,9,     -999,9,     -999,9,     -999,9,  17.5865,2,  25.1977,2,  17.6269,2
49UP20210719_2,   P03,    13,  1,     27,     754,2,20210802,1800,1954, 24.2452, 130.6557, 4562,    301.6,   16.6767,  34.7134,2,    193.2,2,     -999,9,   193.39,2,     6.24,2,     6.74,2,     0.00,2,    0.450,2,     -999,9,     -999,9,     -999,9,     -999,9,     -999,9,     -999,     -999,9,     -999,9,     -999,9,     -999,9,  16.6275,2,  25.3821,2,  16.6762,2
49UP20210719_2,   P03,    13,  1,     26,     835,2,20210802,1800,1951, 24.2452, 130.6557, 4562,    403.0,   13.8119,  34.4794,2,    184.9,2,     -999,9,   185.47,2,    13.83,2,    11.98,2,     0.00,2,    0.820,2,     -999,9,     -999,9,     -999,9,     -999,9,     -999,9,     -999,     -999,9,     -999,9,     -999,9,     -999,9,  13.7541,2,  25.8360,2,  13.8110,2
49UP20210719_2,   P03,    13,  1,     25,     834,2,20210802,1800,1948, 24.2452, 130.6557, 4562,    503.4,   10.3127,  34.2461,2,    164.3,2,     -999,9,   163.96,2,    30.12,2,    19.87,2,     0.00,2,    1.400,2,     -999,9,     -999,9,     -999,9,     -999,9,     -999,9,     -999,     -999,9,     -999,9,     -999,9,     -999,9,  10.2528,2,  26.3200,2,  10.3128,2
49UP20210719_2,   P03,    13,  1,     24,     753,2,20210802,1800,1945, 24.2452, 130.6557, 4562,    604.6,    8.1555,  34.1771,2,    127.9,2,     -999,9,   127.90,2,    48.53,2,    27.11,2,     0.00,2,    1.930,2,     -999,9,     -999,9,     -999,9,     -999,9,     -999,9,     -999,     -999,9,     -999,9,     -999,9,     -999,9,   8.0927,2,  26.6137,2,   8.1556,2
49UP20210719_2,   P03,    13,  1,     23,     832,2,20210802,1800,1942, 24.2452, 130.6557, 4562,    706.1,    6.3240,  34.1620,2,     99.9,2,     -999,9,   100.34,2,    70.65,2,    32.87,2,     0.00,2,    2.350,2,     -999,9,     -999,9,     -999,9,     -999,9,     -999,9,     -999,     -999,9,     -999,9,     -999,9,     -999,9,   6.2600,2,  26.8573,2,   6.3225,2
49UP20210719_2,   P03,    13,  1,     22,     831,2,20210802,1800,1939, 24.2452, 130.6557, 4562,    808.0,    5.0669,  34.2081,2,     73.6,2,     -999,9,    73.60,2,    90.76,2,    37.22,2,     0.00,2,    2.660,2,     -999,9,     -999,9,     -999,9,     -999,9,     -999,9,     -999,     -999,9,     -999,9,     -999,9,     -999,9,   5.0007,2,  27.0474,2,   5.0667,2
49UP20210719_2,   P03,    13,  1,     21,     830,2,20210802,1800,1936, 24.2452, 130.6557, 4562,    908.4,    4.1569,  34.3015,2,     58.9,2,     -999,9,    58.79,6,   110.52,6,    39.86,6,     0.00,6,    2.850,6,     -999,9,     -999,9,     -999,9,     -999,9,     -999,9,     -999,     -999,9,     -999,9,     -999,9,     -999,9,   4.0880,2,  27.2214,2,   4.1566,2
49UP20210719_2,   P03,    13,  1,     20,     829,2,20210802,1800,1933, 24.2452, 130.6557, 4562,   1008.7,    3.7241,  34.3615,2,     56.5,2,     -999,9,    56.84,2,   120.34,2,    40.71,2,     0.00,2,    2.890,2,     -999,9,     -999,9,     -999,9,     -999,9,     -999,9,     -999,     -999,9,     -999,9,     -999,9,     -999,9,   3.6501,2,  27.3136,2,   3.7244,2
49UP20210719_2,   P03,    13,  1,     19,     828,2,20210802,1800,1927, 24.2452, 130.6557, 4562,   1211.9,    3.1411,  34.4614,2,     66.1,2,     -999,9,    66.31,2,   131.79,2,    40.72,2,     0.00,2,    2.890,2,     -999,9,     -999,9,     -999,9,     -999,9,     -999,9,     -999,     -999,9,     -999,9,     -999,9,     -999,9,   3.0556,2,  27.4500,2,   3.1388,2
49UP20210719_2,   P03,    13,  1,     18,     752,2,20210802,1800,1922, 24.2452, 130.6557, 4562,   1412.6,    2.5245,  34.5347,2,     83.7,2,     -999,9,    83.55,2,   141.41,2,    40.03,2,     0.00,2,    2.830,2,     -999,9,     -999,9,     -999,9,     -999,9,     -999,9,     -999,     -999,9,     -999,9,     -999,9,     -999,9,   2.4292,2,  27.5639,2,   2.5242,2
49UP20210719_2,   P03,    13,  1,     17,     751,2,20210802,1800,1917, 24.2452, 130.6557, 4562,   1616.5,    2.3181,  34.5644,2,     93.8,2,     -999,9,    94.44,2,   143.24,2,    39.53,2,     0.00,2,    2.780,2,     -999,9,     -999,9,     -999,9,     -999,9,     -999,9,     -999,     -999,9,     -999,9,     -999,9,     -999,9,   2.2089,2,  27.6059,2,   2.3180,2
49UP20210719_2,   P03,    13,  1,     16,     328,2,20210802,1800,1912, 24.2452, 130.6557, 4562,   1817.3,    2.0860,  34.5954,2,    106.5,2,     -999,9,   106.77,6,   144.37,6,    38.90,6,     0.00,6,    2.720,6,     -999,9,     -999,9,     -999,9,     -999,9,     -999,9,     -999,     -999,9,     -999,9,     -999,9,     -999,9,   1.9635,2,  27.6504,2,   2.0860,2
49UP20210719_2,   P03,    13,  1,     15,     822,2,20210802,1800,1906, 24.2452, 130.6557, 4562,   2023.9,    1.9140,  34.6209,2,    118.2,2,     -999,9,   118.47,2,   144.41,2,    38.19,2,     0.00,2,    2.670,2,     -999,9,     -999,9,     -999,9,     -999,9,     -999,9,     -999,     -999,9,     -999,9,     -999,9,     -999,9,   1.7770,2,  27.6853,2,   1.9140,2
49UP20210719_2,   P03,    13,  1,     14,     326,2,20210802,1800,1906, 24.2452, 130.6557, 4562,   2024.2,    1.9139,  34.6208,2,    118.2,2,     -999,9,   118.26,2,   144.27,2,    38.22,2,     0.00,2,    2.670,2,     -999,9,     -999,9,     -999,9,     -999,9,     -999,9,     -999,     -999,9,     -999,9,     -999,9,     -999,9,   1.7768,2,  27.6852,2,   1.9141,2
49UP20210719_2,   P03,    13,  1,     13,     325,3,20210802,1800,1901, 24.2452, 130.6557, 4562,   2225.4,    1.8013,  34.6360,2,    125.9,2,     -999,9,   126.61,2,   144.24,2,    37.75,2,     0.00,2,    2.630,2,     -999,9,     -999,9,     -999,9,     -999,9,     -999,9,     -999,     -999,9,     -999,9,     -999,9,     -999,9,   1.6489,2,  27.7070,2,   1.8016,2
49UP20210719_2,   P03,    13,  1,     12,     324,2,20210802,1800,1855, 24.2452, 130.6557, 4562,   2428.2,    1.7439,  34.6441,2,    130.4,2,     -999,9,   131.13,2,   144.15,2,    37.54,2,     0.00,2,    2.610,2,     -999,9,     -999,9,     -999,9,     -999,9,     -999,9,     -999,     -999,9,     -999,9,     -999,9,     -999,9,   1.5748,2,  27.7191,2,   1.7439,2
49UP20210719_2,   P03,    13,  1,     11,     323,2,20210802,1800,1850, 24.2452, 130.6557, 4562,   2632.6,    1.7190,  34.6493,2,    133.4,2,     -999,9,   133.43,2,   144.10,2,    37.40,2,     0.00,2,    2.600,2,     -999,9,     -999,9,     -999,9,     -999,9,     -999,9,     -999,     -999,9,     -999,9,     -999,9,     -999,9,   1.5320,2,  27.7264,2,   1.7189,2
49UP20210719_2,   P03,    13,  1,     10,     322,2,20210802,1800,1844, 24.2452, 130.6557, 4562,   2836.4,    1.6486,  34.6586,2,    138.8,2,     -999,9,   138.95,2,   143.78,2,    37.05,2,     0.00,2,    2.560,2,     -999,9,     -999,9,     -999,9,     -999,9,     -999,9,     -999,     -999,9,     -999,9,     -999,9,     -999,9,   1.4441,2,  27.7402,2,   1.6486,2
49UP20210719_2,   P03,    13,  1,      9,     750,2,20210802,1800,1839, 24.2452, 130.6557, 4562,   3041.5,    1.6026,  34.6650,2,    142.9,2,     -999,9,   143.10,2,   144.09,2,    36.85,2,     0.00,2,    2.550,2,     -999,9,     -999,9,     -999,9,     -999,9,     -999,9,     -999,     -999,9,     -999,9,     -999,9,     -999,9,   1.3796,2,  27.7500,2,   1.6027,2
49UP20210719_2,   P03,    13,  1,      8,     320,2,20210802,1800,1833, 24.2452, 130.6557, 4562,   3295.4,    1.5774,  34.6698,2,    146.3,2,     -999,9,   146.52,6,   143.56,6,    36.64,6,     0.00,6,    2.530,6,     -999,9,     -999,9,     -999,9,     -999,9,     -999,9,     -999,     -999,9,     -999,9,     -999,9,     -999,9,   1.3301,2,  27.7574,2,   1.5775,2
49UP20210719_2,   P03,    13,  1,      6,     318,2,20210802,1800,1827, 24.2452, 130.6557, 4562,   3552.0,    1.5628,  34.6739,2,    149.1,2,     -999,9,   149.14,2,   143.15,2,    36.43,2,     0.00,2,    2.510,2,     -999,9,     -999,9,     -999,9,     -999,9,     -999,9,     -999,     -999,9,     -999,9,     -999,9,     -999,9,   1.2898,2,  27.7635,2,   1.5629,2
49UP20210719_2,   P03,    13,  1,      7,     319,2,20210802,1800,1827, 24.2452, 130.6557, 4562,   3552.6,    1.5630,  34.6738,2,    149.2,2,     -999,9,   149.49,2,   143.31,2,    36.46,2,     0.00,2,    2.520,2,     -999,9,     -999,9,     -999,9,     -999,9,     -999,9,     -999,     -999,9,     -999,9,     -999,9,     -999,9,   1.2899,2,  27.7634,2,   1.5629,2
49UP20210719_2,   P03,    13,  1,      5,     317,2,20210802,1800,1821, 24.2452, 130.6557, 4562,   3805.8,    1.5675,  34.6760,2,    150.8,2,     -999,9,   151.18,2,   142.79,2,    36.32,2,     0.00,2,    2.510,2,     -999,9,     -999,9,     -999,9,     -999,9,     -999,9,     -999,     -999,9,     -999,9,     -999,9,     -999,9,   1.2677,2,  27.7668,2,   1.5674,2
49UP20210719_2,   P03,    13,  1,      4,     316,2,20210802,1800,1815, 24.2452, 130.6557, 4562,   4062.9,    1.5691,  34.6785,2,    152.9,2,     -999,9,   153.28,2,   142.61,2,    36.18,2,     0.00,2,    2.500,2,     -999,9,     -999,9,     -999,9,     -999,9,     -999,9,     -999,     -999,9,     -999,9,     -999,9,     -999,9,   1.2414,2,  27.7706,2,   1.5689,2
49UP20210719_2,   P03,    13,  1,      3,     315,2,20210802,1800,1809, 24.2452, 130.6557, 4562,   4319.4,    1.5894,  34.6793,2,    153.6,2,     -999,9,   154.08,2,   142.27,2,    36.12,2,     0.00,2,    2.490,2,     -999,9,     -999,9,     -999,9,     -999,9,     -999,9,     -999,     -999,9,     -999,9,     -999,9,     -999,9,   1.2325,2,  27.7719,2,   1.5894,2
49UP20210719_2,   P03,    13,  1,      2,     314,2,20210802,1800,1804, 24.2452, 130.6557, 4562,   4578.3,    1.6138,  34.6798,2,    154.2,2,     -999,9,   154.40,2,   142.22,2,    36.07,2,     0.00,2,    2.490,2,     -999,9,     -999,9,     -999,9,     -999,9,     -999,9,     -999,     -999,9,     -999,9,     -999,9,     -999,9,   1.2262,2,  27.7727,2,   1.6136,2
49UP20210719_2,   P03,    13,  1,      1,     811,2,20210802,1800,1801, 24.2452, 130.6557, 4562,   4654.3,    1.6228,  34.6799,2,    154.2,2,     -999,9,   154.67,2,   142.37,2,    36.05,2,     0.00,2,    2.490,2,     -999,9,     -999,9,     -999,9,     -999,9,     -999,9,     -999,     -999,9,     -999,9,     -999,9,     -999,9,   1.2261,2,  27.7728,2,   1.6227,2