BOTTLE,20230808CCHSIOADS
EXPOCODE,SECT_ID,STNNBR,CASTNO,SAMPNO,BTLNBR,BTLNBR_FLAG_W,DATE,TIME,BTL_TIME,LATITUDE,LONGITUDE,DEPTH,CTDPRS,CTDTMP,CTDSAL,CTDSAL_FLAG_W,CTDOXY,CTDOXY_FLAG_W,SALNTY,SALNTY_FLAG_W,OXYGEN,OXYGEN_FLAG_W,SILCAT,SILCAT_FLAG_W,NO2+NO3,NO2+NO3_FLAG_W,NITRIT,NITRIT_FLAG_W,PHSPHT,PHSPHT_FLAG_W,CFC-11,CFC-11_FLAG_W,CFC-12,CFC-12_FLAG_W,TCARBN,TCARBN_FLAG_W,ALKALI,ALKALI_FLAG_W,PH_TOT,PH_TOT_FLAG_W,PH_TMP,CFC113,CFC113_FLAG_W,SF6,SF6_FLAG_W,CHLORA,CHLORA_FLAG_W,PPHYTN,PPHYTN_FLAG_W,THETA,THETA_FLAG_W,SIG0,SIG0_FLAG_W,SBE35,SBE35_FLAG_W
,,,,,,,,,,,,METERS,DBAR,ITS-90,PSS-78,,UMOL/KG,,PSS78,,UMOL/KG,,UMOL/KG,,UMOL/KG,,UMOL/KG,,UMOL/KG,,PMOL/KG,,PMOL/KG,,UMOL/KG,,UMOL/KG,,,,DEG C,PMOL/KG,,FMOL/KG,,UG/KG,,UG/KG,,ITS-90,,KG/M^3,,ITS-90,
49UP20210719_2,   P03,     6,  1,      0,     BUC,2,20210731,1830,2040, 25.5222, 128.7383, 7093,      0.0,   28.9100,  34.3767,2,    196.1,2,  34.3837,2,   195.98,2,     1.31,2,     0.09,2,     0.00,2,    0.040,2,     -999,9,     -999,9,   1950.9,2,   2256.1,2,   8.0820,2,    25.00,     -999,9,     -999,9,     0.07,2,     0.03,2,  28.9094,2,  21.6263,2,     -999,9
49UP20210719_2,   P03,     6,  1,     36,     757,2,20210731,1830,2115, 25.5222, 128.7383, 7093,      9.6,   28.9289,  34.3762,2,    195.9,2,  34.3773,6,   196.40,2,     1.36,2,     0.05,2,     0.00,2,    0.020,2,    1.129,2,    0.803,2,   1953.6,2,   2256.3,2,   8.0827,2,    25.00,    0.086,2,    1.491,2,     0.07,2,     0.02,2,  28.9266,2,  21.6202,2,  28.9265,2
49UP20210719_2,   P03,     6,  1,     35,     756,2,20210731,1830,2110, 25.5222, 128.7383, 7093,     49.7,   27.1491,  34.3832,2,    202.2,2,  34.3871,2,   203.07,2,     1.35,2,     0.06,2,     0.00,2,    0.010,2,    1.206,2,    0.838,2,   1950.9,2,   2257.7,2,   8.0810,2,    25.00,    0.084,2,    1.500,2,     0.06,2,     0.02,2,  27.1377,2,  22.2093,2,  27.1447,2
49UP20210719_2,   P03,     6,  1,     34,     843,2,20210731,1830,2108, 25.5222, 128.7383, 7093,     99.8,   22.4138,  34.8413,2,    213.8,2,  34.8424,2,   213.82,2,     1.59,2,     0.02,2,     0.00,2,    0.030,2,    1.576,2,    1.004,2,   2001.4,2,   2287.5,2,   8.0359,2,    25.00,    0.080,2,    1.642,2,     0.18,2,     0.15,2,  22.3938,2,  23.9864,2,  22.4054,2
49UP20210719_2,   P03,     6,  1,     33,     842,2,20210731,1830,2106, 25.5222, 128.7383, 7093,    151.1,   20.5647,  34.8565,2,    194.3,2,  34.8578,2,   194.68,2,     2.33,2,     1.61,2,     0.06,2,    0.140,2,     -999,9,     -999,9,   2032.9,2,   2288.9,2,   7.9849,2,    25.00,     -999,9,     -999,9,     0.10,2,     0.29,2,  20.5362,2,  24.5098,2,  20.5834,2
49UP20210719_2,   P03,     6,  1,     32,     841,2,20210731,1830,2104, 25.5222, 128.7383, 7093,    202.8,   18.9030,  34.8169,2,    190.9,2,  34.8156,2,   191.82,2,     3.56,2,     4.03,2,     0.01,2,    0.280,2,    1.898,2,    1.129,2,   2051.4,2,   2284.8,2,   7.9506,2,    25.00,    0.028,2,    1.659,2,     0.02,2,     0.06,2,  18.8670,2,  24.9150,2,  18.9052,2
49UP20210719_2,   P03,     6,  1,     31,     840,2,20210731,1830,2102, 25.5222, 128.7383, 7093,    249.8,   17.7618,  34.7800,2,    190.7,2,  34.7796,2,   191.30,2,     4.43,2,     5.27,2,     0.00,2,    0.370,2,     -999,9,     -999,9,   2058.4,2,   2283.2,2,   7.9253,2,    25.00,     -999,9,     -999,9,     -999,9,     -999,9,  17.7193,2,  25.1723,2,  17.7605,2
49UP20210719_2,   P03,     6,  1,     30,     839,2,20210731,1830,2059, 25.5222, 128.7383, 7093,    332.1,   15.6876,  34.6217,2,    190.2,2,  34.6226,2,   191.15,2,     7.59,2,     8.26,2,     0.00,2,    0.580,2,    2.235,2,    1.236,2,   2076.7,2,   2274.0,2,   7.8766,2,    25.00,    0.028,2,    1.607,2,     -999,9,     -999,9,  15.6357,2,  25.5391,2,  15.6876,2
49UP20210719_2,   P03,     6,  1,     29,     838,2,20210731,1830,2056, 25.5222, 128.7383, 7093,    433.8,   13.3174,  34.4396,2,    178.3,2,  34.4394,2,   178.62,6,    15.49,6,    13.29,6,     0.00,6,    0.930,6,     -999,9,     -999,9,   2111.1,2,   2271.8,2,   7.8022,2,    25.00,     -999,9,     -999,9,     -999,9,     -999,9,  13.2566,2,  25.9071,2,  13.3202,2
49UP20210719_2,   P03,     6,  1,     28,     755,2,20210731,1830,2053, 25.5222, 128.7383, 7093,    533.9,   10.1617,  34.2342,2,    158.3,2,  34.2343,2,   158.75,2,    30.23,2,    20.65,2,     0.00,2,    1.470,2,    2.404,2,    1.165,2,   2157.4,2,   2276.0,2,   7.6870,2,    25.00,    0.054,2,    1.057,2,     -999,9,     -999,9,  10.0986,2,  26.3372,2,  10.1573,2
49UP20210719_2,   P03,     6,  1,     27,     754,2,20210731,1830,2050, 25.5222, 128.7383, 7093,    637.8,    7.6242,  34.1291,2,    131.9,2,  34.1292,6,   132.83,2,    51.28,2,    27.55,2,     0.00,2,    1.980,2,     -999,9,     -999,9,   2208.9,2,   2287.1,2,   7.5806,2,    25.00,     -999,9,     -999,9,     -999,9,     -999,9,   7.5604,2,  26.6540,2,   7.6302,2
49UP20210719_2,   P03,     6,  1,     26,     835,2,20210731,1830,2047, 25.5222, 128.7383, 7093,    738.6,    6.0259,  34.1483,2,     96.1,2,  34.1478,2,    96.46,2,    73.24,2,    33.68,2,     0.00,2,    2.420,2,     -999,9,     -999,9,   2258.4,2,   2305.9,2,   7.4844,2,    25.00,     -999,9,     -999,9,     -999,9,     -999,9,   5.9605,2,  26.8846,2,   6.0280,2
49UP20210719_2,   P03,     6,  1,     25,     834,2,20210731,1830,2044, 25.5222, 128.7383, 7093,    839.1,    5.1254,  34.2326,2,     72.1,2,  34.2333,2,    72.99,2,    90.22,2,    37.28,2,     0.00,2,    2.680,2,    0.683,2,    0.340,2,   2293.4,2,   2325.4,2,   7.4369,2,    25.00,    0.031,2,    0.241,2,     -999,9,     -999,9,   5.0560,2,  27.0604,2,   5.1226,2
49UP20210719_2,   P03,     6,  1,     24,     753,2,20210731,1830,2041, 25.5222, 128.7383, 7093,    940.4,    4.4270,  34.3029,2,     62.7,2,  34.3021,2,    63.15,2,   104.81,2,    39.24,2,     0.00,2,    2.810,2,     -999,9,     -999,9,   2316.6,2,   2342.7,2,   7.4168,2,    25.00,     -999,9,     -999,9,     -999,9,     -999,9,   4.3535,2,  27.1944,2,   4.4284,2
49UP20210719_2,   P03,     6,  1,     23,     832,2,20210731,1830,2036, 25.5222, 128.7383, 7093,   1082.9,    3.6041,  34.3973,2,     60.6,2,  34.3968,2,    61.27,2,   122.72,2,    40.49,2,     0.00,2,    2.880,2,    0.208,2,    0.076,2,   2337.4,2,   2364.5,2,   7.4194,6,    25.00,    0.019,2,    0.061,2,     -999,9,     -999,9,   3.5249,2,  27.3545,2,   3.6045,2
49UP20210719_2,   P03,     6,  1,     22,     831,2,20210731,1830,2030, 25.5222, 128.7383, 7093,   1283.9,    3.0043,  34.4785,2,     70.2,2,  34.4710,4,    70.49,2,   134.38,2,    40.48,2,     0.00,2,    2.870,2,     -999,9,     -999,9,   2346.8,2,   2379.0,6,   7.4386,2,    25.00,     -999,9,     -999,9,     -999,9,     -999,9,   2.9143,2,  27.4766,2,   3.0039,2
49UP20210719_2,   P03,     6,  1,     21,     830,2,20210731,1830,2025, 25.5222, 128.7383, 7093,   1487.9,    2.5915,  34.5257,2,     80.2,2,  34.5241,4,    80.47,6,   140.75,6,    40.11,6,     0.00,6,    2.840,6,    0.087,2,    0.007,2,   2351.2,2,   2389.0,2,   7.4571,2,    25.00,    0.021,2,    0.060,2,     -999,9,     -999,9,   2.4895,2,  27.5515,2,   2.5914,2
49UP20210719_2,   P03,     6,  1,     20,     829,2,20210731,1830,2018, 25.5222, 128.7383, 7093,   1689.4,    2.3031,  34.5651,2,     93.3,2,  34.5653,2,    93.45,2,   143.81,2,    39.51,2,     0.00,2,    2.790,2,     -999,9,     -999,9,   2350.2,2,   2396.5,2,   7.4823,2,    25.00,     -999,9,     -999,9,     -999,9,     -999,9,   2.1882,2,  27.6081,2,   2.3026,2
49UP20210719_2,   P03,     6,  1,     19,     828,2,20210731,1830,2013, 25.5222, 128.7383, 7093,   1893.4,    2.1014,  34.5951,2,    105.4,2,  34.5944,2,   106.02,2,   144.69,2,    38.83,2,     0.00,2,    2.730,2,     -999,9,     -999,9,   2344.7,2,   2403.1,2,   7.5054,2,    25.00,     -999,9,     -999,9,     -999,9,     -999,9,   1.9725,2,  27.6494,2,   2.1014,2
49UP20210719_2,   P03,     6,  1,     18,     752,2,20210731,1830,2007, 25.5222, 128.7383, 7093,   2095.1,    1.9530,  34.6188,2,    116.6,2,  34.6188,6,   116.98,2,   144.33,2,    38.19,2,     0.00,2,    2.680,2,    0.007,2,    0.000,2,   2342.1,2,   2404.6,2,   7.5275,2,    25.00,    0.013,2,    0.044,2,     -999,9,     -999,9,   1.8094,2,  27.6811,2,   1.9531,2
49UP20210719_2,   P03,     6,  1,     17,     751,2,20210731,1830,2002, 25.5222, 128.7383, 7093,   2297.0,    1.8369,  34.6354,2,    124.7,2,  34.6358,2,   125.52,2,   144.27,2,    37.81,2,     0.00,2,    2.640,2,     -999,9,     -999,9,   2335.8,2,   2406.1,2,   7.5437,6,    25.00,     -999,9,     -999,9,     -999,9,     -999,9,   1.6777,2,  27.7044,2,   1.8370,2
49UP20210719_2,   P03,     6,  1,     16,     328,2,20210731,1830,1957, 25.5222, 128.7383, 7093,   2500.5,    1.7753,  34.6451,2,    129.5,2,  34.6451,2,   130.74,3,   144.21,2,    37.52,2,     0.00,2,    2.620,2,     -999,9,     -999,9,   2334.0,6,   2408.4,6,   7.5515,2,    25.00,     -999,9,     -999,9,     -999,9,     -999,9,   1.5992,2,  27.7181,2,   1.7755,2
49UP20210719_2,   P03,     6,  1,     15,     822,2,20210731,1830,1951, 25.5222, 128.7383, 7093,   2703.8,    1.7038,  34.6533,2,    134.7,2,  34.6533,2,   135.10,2,   144.09,2,    37.17,2,     0.00,2,    2.590,2,     -999,9,     -999,9,   2340.1,3,   2410.7,2,   7.5586,2,    25.00,     -999,9,     -999,9,     -999,9,     -999,9,   1.5106,2,  27.7312,2,   1.7039,2
49UP20210719_2,   P03,     6,  1,     14,     326,2,20210731,1830,1946, 25.5222, 128.7383, 7093,   2909.0,    1.6591,  34.6592,2,    138.5,2,  34.6590,2,   138.78,2,   143.74,2,    36.94,2,     0.00,2,    2.570,2,     -999,9,     -999,9,   2331.6,2,   2412.1,2,   7.5653,2,    25.00,     -999,9,     -999,9,     -999,9,     -999,9,   1.4475,2,  27.7404,2,   1.6592,2
49UP20210719_2,   P03,     6,  1,     13,     325,3,20210731,1830,1941, 25.5222, 128.7383, 7093,   3121.8,    1.6185,  34.6647,2,    142.3,2,  34.6589,4,   140.93,4,   143.14,2,    36.70,2,     0.00,2,    2.560,2,     -999,9,     -999,9,   2329.7,2,   2410.4,2,   7.5681,2,    25.00,     -999,9,     -999,9,     -999,9,     -999,9,   1.3874,2,  27.7492,2,   1.6186,2
49UP20210719_2,   P03,     6,  1,     12,     324,3,20210731,1830,1933, 25.5222, 128.7383, 7093,   3378.6,    1.5947,  34.6694,2,    145.5,2,  34.6690,2,   146.61,4,   143.41,2,    36.43,2,     0.00,2,    2.540,2,     -999,9,     -999,9,   2329.0,2,   2411.3,2,   7.5765,2,    25.00,     -999,9,     -999,9,     -999,9,     -999,9,   1.3386,2,  27.7564,2,   1.5949,2
49UP20210719_2,   P03,     6,  1,     11,     323,2,20210731,1830,1927, 25.5222, 128.7383, 7093,   3634.0,    1.5800,  34.6730,2,    148.4,2,  34.6728,2,   148.65,2,   143.19,2,    36.27,2,     0.00,2,    2.530,2,     -999,9,     -999,9,   2331.8,2,   2411.3,2,   7.5822,2,    25.00,     -999,9,     -999,9,     -999,9,     -999,9,   1.2981,2,  27.7622,2,   1.5800,2
49UP20210719_2,   P03,     6,  1,     10,     322,3,20210731,1830,1921, 25.5222, 128.7383, 7093,   3889.2,    1.5780,  34.6758,2,    150.6,2,  34.6719,4,   150.27,6,   142.13,6,    36.13,6,     0.00,6,    2.520,6,     -999,9,     -999,9,   2326.7,2,   2410.3,2,   7.5843,2,    25.00,     -999,9,     -999,9,     -999,9,     -999,9,   1.2690,2,  27.7665,2,   1.5781,2
49UP20210719_2,   P03,     6,  1,      9,     750,2,20210731,1830,1915, 25.5222, 128.7383, 7093,   4144.8,    1.5890,  34.6776,2,    152.1,2,  34.6782,6,   152.34,2,   142.98,2,    36.19,2,     0.00,2,    2.510,2,     -999,9,     -999,9,   2325.3,2,   2411.0,2,   7.5842,2,    25.00,     -999,9,     -999,9,     -999,9,     -999,9,   1.2517,2,  27.7691,2,   1.5893,2
49UP20210719_2,   P03,     6,  1,      8,     320,3,20210731,1830,1909, 25.5222, 128.7383, 7093,   4400.0,    1.6033,  34.6789,2,    153.2,2,  34.6788,2,   153.66,2,   142.36,2,    36.02,2,     0.00,2,    2.500,2,     -999,9,     -999,9,   2323.8,2,   2411.9,2,   7.5869,2,    25.00,     -999,9,     -999,9,     -999,9,     -999,9,   1.2367,2,  27.7713,2,   1.6035,2
49UP20210719_2,   P03,     6,  1,      7,     319,2,20210731,1830,1904, 25.5222, 128.7383, 7093,   4659.4,    1.6249,  34.6799,2,    154.2,2,  34.6801,2,   154.40,2,   142.46,2,    36.02,2,     0.00,2,    2.500,2,     -999,9,     -999,9,   2324.1,2,   2411.1,2,   7.5897,3,    25.00,     -999,9,     -999,9,     -999,9,     -999,9,   1.2275,2,  27.7726,2,   1.6252,2
49UP20210719_2,   P03,     6,  1,      6,     318,2,20210731,1830,1858, 25.5222, 128.7383, 7093,   4914.6,    1.6492,  34.6804,2,    154.8,2,  34.6798,2,   154.86,2,   142.22,2,    35.94,2,     0.00,2,    2.490,2,     -999,9,     -999,9,   2321.5,2,   2410.5,2,   7.5894,2,    25.00,     -999,9,     -999,9,     -999,9,     -999,9,   1.2204,2,  27.7736,2,   1.6493,2
49UP20210719_2,   P03,     6,  1,      5,     317,2,20210731,1830,1852, 25.5222, 128.7383, 7093,   5172.5,    1.6764,  34.6810,2,    155.3,2,  34.6804,2,   155.57,2,   142.28,2,    35.87,2,     0.00,2,    2.490,2,    0.002,2,    0.000,2,   2322.0,2,   2411.1,2,   7.5905,6,    25.00,    0.015,2,    0.012,2,     -999,9,     -999,9,   1.2150,2,  27.7744,2,   1.6766,2
49UP20210719_2,   P03,     6,  1,      4,     316,2,20210731,1830,1846, 25.5222, 128.7383, 7093,   5429.9,    1.7069,  34.6811,2,    155.6,2,  34.6811,2,   155.41,2,   142.32,2,    35.82,2,     0.00,2,    2.490,2,    0.000,2,    0.000,2,   2323.7,6,   2409.8,6,   7.5894,4,    25.00,    0.010,2,   -0.011,2,     -999,9,     -999,9,   1.2119,2,  27.7747,2,   1.7070,2
49UP20210719_2,   P03,     6,  1,      3,     315,2,20210731,1830,1840, 25.5222, 128.7383, 7093,   5688.5,    1.7406,  34.6811,2,    155.8,2,  34.6811,2,   155.65,6,   142.02,6,    35.92,6,     0.00,6,    2.490,6,    0.002,2,    0.000,2,   2321.5,2,   2410.1,2,   7.5935,2,    25.00,    0.007,2,    0.027,2,     -999,9,     -999,9,   1.2109,2,  27.7748,2,   1.7407,2
49UP20210719_2,   P03,     6,  1,      2,     314,2,20210731,1830,1835, 25.5222, 128.7383, 7093,   5947.0,    1.7760,  34.6810,2,    155.8,2,  34.6808,2,   155.49,2,   141.97,2,    35.92,2,     0.00,2,    2.490,2,    0.001,2,    0.000,2,   2321.9,2,   2410.5,2,   7.5933,2,    25.00,    0.000,2,    0.054,2,     -999,9,     -999,9,   1.2106,2,  27.7747,2,   1.7759,2
49UP20210719_2,   P03,     6,  1,      1,     811,2,20210731,1830,1830, 25.5222, 128.7383, 7093,   6125.0,    1.8004,  34.6809,2,    156.0,2,  34.6819,2,   155.99,2,   141.78,2,    35.89,2,     0.00,2,    2.480,2,     -999,5,     -999,5,   2322.2,2,   2411.4,2,   7.5918,2,    25.00,     -999,5,     -999,5,     -999,9,     -999,9,   1.2100,2,  27.7747,2,   1.8005,2