BOTTLE,20230808CCHSIOADS
EXPOCODE,SECT_ID,STNNBR,CASTNO,SAMPNO,BTLNBR,BTLNBR_FLAG_W,DATE,TIME,BTL_TIME,LATITUDE,LONGITUDE,DEPTH,CTDPRS,CTDTMP,CTDSAL,CTDSAL_FLAG_W,CTDOXY,CTDOXY_FLAG_W,SALNTY,SALNTY_FLAG_W,OXYGEN,OXYGEN_FLAG_W,SILCAT,SILCAT_FLAG_W,NO2+NO3,NO2+NO3_FLAG_W,NITRIT,NITRIT_FLAG_W,PHSPHT,PHSPHT_FLAG_W,CFC-11,CFC-11_FLAG_W,CFC-12,CFC-12_FLAG_W,TCARBN,TCARBN_FLAG_W,ALKALI,ALKALI_FLAG_W,PH_TOT,PH_TOT_FLAG_W,PH_TMP,CFC113,CFC113_FLAG_W,SF6,SF6_FLAG_W,CHLORA,CHLORA_FLAG_W,PPHYTN,PPHYTN_FLAG_W,THETA,THETA_FLAG_W,SIG0,SIG0_FLAG_W,SBE35,SBE35_FLAG_W
,,,,,,,,,,,,METERS,DBAR,ITS-90,PSS-78,,UMOL/KG,,PSS78,,UMOL/KG,,UMOL/KG,,UMOL/KG,,UMOL/KG,,UMOL/KG,,PMOL/KG,,PMOL/KG,,UMOL/KG,,UMOL/KG,,,,DEG C,PMOL/KG,,FMOL/KG,,UG/KG,,UG/KG,,ITS-90,,KG/M^3,,ITS-90,
49UP20210827_1,   P03,    52,  1,      0,     BUC,2,20210903,0522, 710, 24.2988, 150.5280, 5227,      0.0,   29.3091,  34.8419,2,    195.9,2,     -999,9,   196.63,2,     1.05,2,     0.00,2,     0.00,2,    0.050,2,     -999,9,     -999,9,     -999,9,     -999,9,     -999,9,     -999,     -999,9,     -999,9,     -999,9,     -999,9,  29.3085,2,  21.8420,2,     -999,9
49UP20210827_1,   P03,    52,  1,     36,     757,2,20210903,0522, 743, 24.2988, 150.5280, 5227,      9.5,   29.3172,  34.8430,2,    196.0,2,     -999,9,   196.63,6,     0.99,6,     0.00,6,     0.00,6,    0.010,6,     -999,9,     -999,9,     -999,9,     -999,9,     -999,9,     -999,     -999,9,     -999,9,     -999,9,     -999,9,  29.3149,2,  21.8406,2,  29.3169,2
49UP20210827_1,   P03,    52,  1,     35,     756,2,20210903,0522, 742, 24.2988, 150.5280, 5227,     24.5,   29.1868,  34.8453,2,    197.2,2,     -999,9,   197.46,2,     1.04,2,     0.00,2,     0.00,2,    0.010,2,     -999,9,     -999,9,     -999,9,     -999,9,     -999,9,     -999,     -999,9,     -999,9,     -999,9,     -999,9,  29.1808,2,  21.8874,2,  29.1858,2
49UP20210827_1,   P03,    52,  1,     34,     843,2,20210903,0522, 738, 24.2988, 150.5280, 5227,     49.8,   28.0848,  34.9217,2,    206.2,2,     -999,9,   206.00,2,     1.09,2,     0.00,2,     0.00,2,    0.010,2,     -999,9,     -999,9,     -999,9,     -999,9,     -999,9,     -999,     -999,9,     -999,9,     -999,9,     -999,9,  28.0730,2,  22.3119,2,  28.0877,2
49UP20210827_1,   P03,    52,  1,     33,     842,2,20210903,0522, 736, 24.2988, 150.5280, 5227,     74.6,   25.2687,  35.0867,2,    222.1,2,     -999,9,   221.60,2,     1.16,2,     0.00,2,     0.00,2,    0.010,2,     -999,9,     -999,9,     -999,9,     -999,9,     -999,9,     -999,     -999,9,     -999,9,     -999,9,     -999,9,  25.2524,2,  23.3297,2,  25.2736,2
49UP20210827_1,   P03,    52,  1,     32,     841,2,20210903,0522, 735, 24.2988, 150.5280, 5227,    100.3,   23.4296,  35.0161,2,    210.4,2,     -999,9,   209.46,2,     1.43,2,     0.00,2,     0.00,2,    0.010,2,     -999,9,     -999,9,     -999,9,     -999,9,     -999,9,     -999,     -999,9,     -999,9,     -999,9,     -999,9,  23.4088,2,  23.8273,2,  23.4432,2
49UP20210827_1,   P03,    52,  1,     31,     840,2,20210903,0522, 733, 24.2988, 150.5280, 5227,    124.8,   21.8365,  34.9536,2,    206.9,2,     -999,9,   207.40,2,     1.61,2,     0.00,2,     0.02,2,    0.030,2,     -999,9,     -999,9,     -999,9,     -999,9,     -999,9,     -999,     -999,9,     -999,9,     -999,9,     -999,9,  21.8120,2,  24.2351,2,  21.8172,2
49UP20210827_1,   P03,    52,  1,     30,     839,2,20210903,0522, 732, 24.2988, 150.5280, 5227,    149.9,   20.5640,  34.8843,2,    210.6,2,     -999,9,   210.76,2,     1.86,2,     0.38,2,     0.07,2,    0.050,2,     -999,9,     -999,9,     -999,9,     -999,9,     -999,9,     -999,     -999,9,     -999,9,     -999,9,     -999,9,  20.5357,2,  24.5311,2,  20.5638,2
49UP20210827_1,   P03,    52,  1,     29,     838,2,20210903,0522, 730, 24.2988, 150.5280, 5227,    206.2,   18.1702,  34.7869,2,    202.7,2,     -999,9,   202.54,2,     3.22,2,     3.18,2,     0.01,2,    0.230,2,     -999,9,     -999,9,     -999,9,     -999,9,     -999,9,     -999,     -999,9,     -999,9,     -999,9,     -999,9,  18.1346,2,  25.0756,2,  18.1710,2
49UP20210827_1,   P03,    52,  1,     28,     755,2,20210903,0522, 728, 24.2988, 150.5280, 5227,    253.4,   17.2293,  34.7451,2,    204.5,2,     -999,9,   204.75,2,     4.32,2,     4.79,2,     0.00,2,    0.320,2,     -999,9,     -999,9,     -999,9,     -999,9,     -999,9,     -999,     -999,9,     -999,9,     -999,9,     -999,9,  17.1871,2,  25.2740,2,  17.2220,2
49UP20210827_1,   P03,    52,  1,     27,     754,2,20210903,0522, 726, 24.2988, 150.5280, 5227,    300.9,   16.5689,  34.7025,2,    200.0,2,     -999,9,   199.41,6,     5.89,6,     6.49,6,     0.00,6,    0.440,6,     -999,9,     -999,9,     -999,9,     -999,9,     -999,9,     -999,     -999,9,     -999,9,     -999,9,     -999,9,  16.5201,2,  25.3987,2,  16.5549,2
49UP20210827_1,   P03,    52,  1,     26,     835,2,20210903,0522, 723, 24.2988, 150.5280, 5227,    402.2,   13.4180,  34.4207,2,    199.4,2,     -999,9,   199.32,2,    11.61,2,    10.85,2,     0.00,2,    0.760,2,     -999,9,     -999,9,     -999,9,     -999,9,     -999,9,     -999,     -999,9,     -999,9,     -999,9,     -999,9,  13.3614,2,  25.8712,2,  13.4235,2
49UP20210827_1,   P03,    52,  1,     25,     834,2,20210903,0522, 720, 24.2988, 150.5280, 5227,    503.9,   10.4153,  34.1985,2,    186.4,2,     -999,9,   186.29,2,    23.25,2,    17.47,2,     0.00,2,    1.230,2,     -999,9,     -999,9,     -999,9,     -999,9,     -999,9,     -999,     -999,9,     -999,9,     -999,9,     -999,9,  10.3550,2,  26.2652,2,  10.4103,2
49UP20210827_1,   P03,    52,  1,     24,     753,2,20210903,0522, 718, 24.2988, 150.5280, 5227,    604.0,    7.7762,  34.0794,2,    142.7,2,     -999,9,   141.84,2,    44.76,2,    26.48,2,     0.00,2,    1.890,2,     -999,9,     -999,9,     -999,9,     -999,9,     -999,9,     -999,     -999,9,     -999,9,     -999,9,     -999,9,   7.7153,2,  26.5925,2,   7.7801,2
49UP20210827_1,   P03,    52,  1,     23,     832,2,20210903,0522, 715, 24.2988, 150.5280, 5227,    705.4,    6.0559,  34.0672,2,    106.6,2,     -999,9,   106.30,2,    66.55,2,    32.83,2,     0.00,2,    2.360,2,     -999,9,     -999,9,     -999,9,     -999,9,     -999,9,     -999,     -999,9,     -999,9,     -999,9,     -999,9,   5.9934,2,  26.8164,2,   6.0568,2
49UP20210827_1,   P03,    52,  1,     22,     831,2,20210903,0522, 712, 24.2988, 150.5280, 5227,    803.3,    4.9213,  34.1306,2,     71.7,2,     -999,9,    71.40,2,    88.53,2,    37.79,2,     0.00,2,    2.720,2,     -999,9,     -999,9,     -999,9,     -999,9,     -999,9,     -999,     -999,9,     -999,9,     -999,9,     -999,9,   4.8565,2,  27.0023,2,   4.9213,2
49UP20210827_1,   P03,    52,  1,     21,     830,2,20210903,0522, 709, 24.2988, 150.5280, 5227,    909.5,    4.2260,  34.2283,2,     48.3,2,     -999,9,    48.28,2,   106.86,2,    40.74,2,     0.00,2,    2.920,2,     -999,9,     -999,9,     -999,9,     -999,9,     -999,9,     -999,     -999,9,     -999,9,     -999,9,     -999,9,   4.1567,2,  27.1560,2,   4.2239,2
49UP20210827_1,   P03,    52,  1,     20,     829,2,20210903,0522, 706, 24.2988, 150.5280, 5227,   1010.4,    3.6639,  34.3294,2,     38.2,2,     -999,9,    37.79,2,   122.87,2,    42.24,2,     0.00,2,    3.020,2,     -999,9,     -999,9,     -999,9,     -999,9,     -999,9,     -999,     -999,9,     -999,9,     -999,9,     -999,9,   3.5903,2,  27.2940,2,   3.6637,2
49UP20210827_1,   P03,    52,  1,     19,     828,2,20210903,0522, 701, 24.2988, 150.5280, 5227,   1212.0,    2.9516,  34.4573,2,     45.1,2,     -999,9,    45.05,2,   141.15,2,    42.48,2,     0.00,2,    3.020,2,     -999,9,     -999,9,     -999,9,     -999,9,     -999,9,     -999,     -999,9,     -999,9,     -999,9,     -999,9,   2.8679,2,  27.4638,2,   2.9518,2
49UP20210827_1,   P03,    52,  1,     18,     752,2,20210903,0522, 656, 24.2988, 150.5280, 5227,   1417.3,    2.5747,  34.5222,2,     63.3,2,     -999,9,    63.75,2,   146.95,6,    41.51,6,     0.00,6,    2.940,6,     -999,9,     -999,9,     -999,9,     -999,9,     -999,9,     -999,     -999,9,     -999,9,     -999,9,     -999,9,   2.4785,2,  27.5497,2,   2.5746,2
49UP20210827_1,   P03,    52,  1,     17,     751,2,20210903,0522, 652, 24.2988, 150.5280, 5227,   1619.2,    2.2592,  34.5646,2,     77.8,2,     -999,9,    77.96,2,   151.68,2,    40.73,2,     0.00,2,    2.870,2,     -999,9,     -999,9,     -999,9,     -999,9,     -999,9,     -999,     -999,9,     -999,9,     -999,9,     -999,9,   2.1506,2,  27.6108,2,   2.2591,2
49UP20210827_1,   P03,    52,  1,     16,     328,2,20210903,0522, 647, 24.2988, 150.5280, 5227,   1821.8,    2.0443,  34.5897,2,     85.7,2,     -999,9,    86.27,2,   155.52,2,    40.37,2,     0.00,2,    2.840,2,     -999,9,     -999,9,     -999,9,     -999,9,     -999,9,     -999,     -999,9,     -999,9,     -999,9,     -999,9,   1.9221,2,  27.6490,2,   2.0442,2
49UP20210827_1,   P03,    52,  1,     15,     822,2,20210903,0522, 641, 24.2988, 150.5280, 5227,   2024.4,    1.8711,  34.6153,2,    100.5,2,     -999,9,   100.41,2,   155.21,2,    39.40,2,     0.00,2,    2.760,2,     -999,9,     -999,9,     -999,9,     -999,9,     -999,9,     -999,     -999,9,     -999,9,     -999,9,     -999,9,   1.7347,2,  27.6840,2,   1.8710,2
49UP20210827_1,   P03,    52,  1,     14,     326,3,20210903,0522, 636, 24.2988, 150.5280, 5227,   2225.1,    1.7566,  34.6331,2,    112.0,2,     -999,9,   112.12,2,   154.22,2,    38.69,2,     0.00,2,    2.710,2,     -999,9,     -999,9,     -999,9,     -999,9,     -999,9,     -999,     -999,9,     -999,9,     -999,9,     -999,9,   1.6050,2,  27.7080,2,   1.7567,2
49UP20210827_1,   P03,    52,  1,     13,     325,2,20210903,0522, 632, 24.2988, 150.5280, 5227,   2428.5,    1.6802,  34.6448,2,    119.9,2,     -999,9,   119.75,2,   154.17,2,    38.24,2,     0.00,2,    2.670,2,     -999,9,     -999,9,     -999,9,     -999,9,     -999,9,     -999,     -999,9,     -999,9,     -999,9,     -999,9,   1.5123,2,  27.7243,2,   1.6804,2
49UP20210827_1,   P03,    52,  1,     12,     324,2,20210903,0522, 627, 24.2988, 150.5280, 5227,   2631.4,    1.6238,  34.6537,2,    126.4,2,     -999,9,   126.28,2,   153.15,2,    37.82,2,     0.00,2,    2.640,2,     -999,9,     -999,9,     -999,9,     -999,9,     -999,9,     -999,     -999,9,     -999,9,     -999,9,     -999,9,   1.4388,2,  27.7367,2,   1.6238,2
49UP20210827_1,   P03,    52,  1,     11,     323,2,20210903,0522, 622, 24.2988, 150.5280, 5227,   2833.6,    1.5785,  34.6612,2,    132.1,2,     -999,9,   131.98,2,   152.37,2,    37.48,2,     0.00,2,    2.610,2,     -999,9,     -999,9,     -999,9,     -999,9,     -999,9,     -999,     -999,9,     -999,9,     -999,9,     -999,9,   1.3758,2,  27.7472,2,   1.5784,2
49UP20210827_1,   P03,    52,  1,     10,     322,2,20210903,0522, 617, 24.2988, 150.5280, 5227,   3040.4,    1.5414,  34.6666,2,    136.8,2,     -999,9,   136.64,2,   151.76,2,    37.17,2,     0.00,2,    2.590,2,     -999,9,     -999,9,     -999,9,     -999,9,     -999,9,     -999,     -999,9,     -999,9,     -999,9,     -999,9,   1.3199,2,  27.7555,2,   1.5414,2
49UP20210827_1,   P03,    52,  1,      9,     750,2,20210903,0522, 611, 24.2988, 150.5280, 5227,   3295.6,    1.5114,  34.6721,2,    142.0,2,     -999,9,   141.82,6,   150.98,6,    36.84,6,     0.00,6,    2.560,6,     -999,9,     -999,9,     -999,9,     -999,9,     -999,9,     -999,     -999,9,     -999,9,     -999,9,     -999,9,   1.2657,2,  27.7638,2,   1.5115,2
49UP20210827_1,   P03,    52,  1,      8,     320,2,20210903,0522, 605, 24.2988, 150.5280, 5227,   3552.3,    1.4898,  34.6767,2,    146.6,2,     -999,9,   146.43,2,   149.79,2,    36.60,2,     0.00,2,    2.540,2,     -999,9,     -999,9,     -999,9,     -999,9,     -999,9,     -999,     -999,9,     -999,9,     -999,9,     -999,9,   1.2186,2,  27.7707,2,   1.4898,2
49UP20210827_1,   P03,    52,  1,      7,     319,2,20210903,0522, 559, 24.2988, 150.5280, 5227,   3809.5,    1.4623,  34.6816,2,    152.5,2,     -999,9,   152.34,2,   148.07,2,    36.21,2,     0.00,2,    2.500,2,     -999,9,     -999,9,     -999,9,     -999,9,     -999,9,     -999,     -999,9,     -999,9,     -999,9,     -999,9,   1.1649,2,  27.7784,2,   1.4623,2
49UP20210827_1,   P03,    52,  1,      6,     318,2,20210903,0522, 552, 24.2988, 150.5280, 5227,   4065.7,    1.4538,  34.6849,2,    156.6,2,     -999,9,   156.02,2,   146.06,2,    35.86,2,     0.00,2,    2.480,2,     -999,9,     -999,9,     -999,9,     -999,9,     -999,9,     -999,     -999,9,     -999,9,     -999,9,     -999,9,   1.1290,2,  27.7835,2,   1.4538,2
49UP20210827_1,   P03,    52,  1,      5,     317,2,20210903,0522, 546, 24.2988, 150.5280, 5227,   4320.2,    1.4578,  34.6871,2,    159.7,2,     -999,9,   159.55,2,   144.85,2,    35.64,2,     0.00,2,    2.470,2,     -999,9,     -999,9,     -999,9,     -999,9,     -999,9,     -999,     -999,9,     -999,9,     -999,9,     -999,9,   1.1046,2,  27.7869,2,   1.4577,2
49UP20210827_1,   P03,    52,  1,      4,     316,2,20210903,0522, 540, 24.2988, 150.5280, 5227,   4577.9,    1.4651,  34.6892,2,    162.9,2,     -999,9,   162.98,2,   142.86,2,    35.41,2,     0.00,2,    2.450,2,     -999,9,     -999,9,     -999,9,     -999,9,     -999,9,     -999,     -999,9,     -999,9,     -999,9,     -999,9,   1.0822,2,  27.7901,2,   1.4652,2
49UP20210827_1,   P03,    52,  1,      3,     315,2,20210903,0522, 534, 24.2988, 150.5280, 5227,   4833.1,    1.4817,  34.6903,2,    164.8,2,     -999,9,   164.79,2,   142.31,2,    35.29,2,     0.00,2,    2.440,2,     -999,9,     -999,9,     -999,9,     -999,9,     -999,9,     -999,     -999,9,     -999,9,     -999,9,     -999,9,   1.0682,2,  27.7920,2,   1.4817,2
49UP20210827_1,   P03,    52,  1,      2,     314,2,20210903,0522, 528, 24.2988, 150.5280, 5227,   5094.2,    1.4923,  34.6922,2,    168.8,2,     -999,9,   168.78,2,   139.06,2,    34.96,2,     0.00,2,    2.410,2,     -999,9,     -999,9,     -999,9,     -999,9,     -999,9,     -999,     -999,9,     -999,9,     -999,9,     -999,9,   1.0468,2,  27.7949,2,   1.4921,2
49UP20210827_1,   P03,    52,  1,      1,     811,2,20210903,0522, 523, 24.2988, 150.5280, 5227,   5232.4,    1.4968,  34.6934,2,    171.1,2,     -999,9,   170.84,2,   137.57,2,    34.82,2,     0.00,2,    2.410,2,     -999,9,     -999,9,     -999,9,     -999,9,     -999,9,     -999,     -999,9,     -999,9,     -999,9,     -999,9,   1.0340,2,  27.7967,2,   1.4967,2