BOTTLE,20230808CCHSIOADS
EXPOCODE,SECT_ID,STNNBR,CASTNO,SAMPNO,BTLNBR,BTLNBR_FLAG_W,DATE,TIME,BTL_TIME,LATITUDE,LONGITUDE,DEPTH,CTDPRS,CTDTMP,CTDSAL,CTDSAL_FLAG_W,CTDOXY,CTDOXY_FLAG_W,SALNTY,SALNTY_FLAG_W,OXYGEN,OXYGEN_FLAG_W,SILCAT,SILCAT_FLAG_W,NO2+NO3,NO2+NO3_FLAG_W,NITRIT,NITRIT_FLAG_W,PHSPHT,PHSPHT_FLAG_W,CFC-11,CFC-11_FLAG_W,CFC-12,CFC-12_FLAG_W,TCARBN,TCARBN_FLAG_W,ALKALI,ALKALI_FLAG_W,PH_TOT,PH_TOT_FLAG_W,PH_TMP,CFC113,CFC113_FLAG_W,SF6,SF6_FLAG_W,CHLORA,CHLORA_FLAG_W,PPHYTN,PPHYTN_FLAG_W,THETA,THETA_FLAG_W,SIG0,SIG0_FLAG_W,SBE35,SBE35_FLAG_W
,,,,,,,,,,,,METERS,DBAR,ITS-90,PSS-78,,UMOL/KG,,PSS78,,UMOL/KG,,UMOL/KG,,UMOL/KG,,UMOL/KG,,UMOL/KG,,PMOL/KG,,PMOL/KG,,UMOL/KG,,UMOL/KG,,,,DEG C,PMOL/KG,,FMOL/KG,,UG/KG,,UG/KG,,ITS-90,,KG/M^3,,ITS-90,
49UP20210827_1,   P03,    69,  1,      0,     BUC,2,20210909,1030,1245, 24.2540, 164.0297, 5756,      0.0,   29.4156,  35.1784,2,    194.9,2,     -999,9,   195.67,2,     1.22,2,     0.00,2,     0.00,2,    0.030,2,     -999,9,     -999,9,     -999,9,     -999,9,     -999,9,     -999,     -999,9,     -999,9,     -999,9,     -999,9,  29.4149,2,  22.0587,2,     -999,9
49UP20210827_1,   P03,    69,  1,     36,     757,2,20210909,1030,1301, 24.2540, 164.0297, 5756,      9.6,   29.4207,  35.1778,2,    195.0,2,     -999,9,   195.49,2,     1.24,2,     0.00,2,     0.00,2,    0.000,2,     -999,9,     -999,9,     -999,9,     -999,9,     -999,9,     -999,     -999,9,     -999,9,     -999,9,     -999,9,  29.4183,2,  22.0570,2,  29.4197,2
49UP20210827_1,   P03,    69,  1,     35,     756,2,20210909,1030,1257, 24.2540, 164.0297, 5756,     52.9,   26.9885,  35.2727,2,    219.8,2,     -999,9,   218.90,6,     1.31,6,     0.00,6,     0.00,6,    0.010,6,     -999,9,     -999,9,     -999,9,     -999,9,     -999,9,     -999,     -999,9,     -999,9,     -999,9,     -999,9,  26.9764,2,  22.9307,2,  26.9981,2
49UP20210827_1,   P03,    69,  1,     34,     843,2,20210909,1030,1255, 24.2540, 164.0297, 5756,    101.0,   23.9365,  35.2533,2,    217.8,2,     -999,9,   217.29,2,     1.55,2,     0.00,2,     0.00,2,    0.020,2,     -999,9,     -999,9,     -999,9,     -999,9,     -999,9,     -999,     -999,9,     -999,9,     -999,9,     -999,9,  23.9153,2,  23.8582,2,  23.9476,2
49UP20210827_1,   P03,    69,  1,     33,     842,2,20210909,1030,1253, 24.2540, 164.0297, 5756,    127.0,   22.3509,  35.1828,2,    209.5,2,     -999,9,   209.30,2,     1.81,2,     0.00,2,     0.00,2,    0.030,2,     -999,9,     -999,9,     -999,9,     -999,9,     -999,9,     -999,     -999,9,     -999,9,     -999,9,     -999,9,  22.3255,2,  24.2650,2,  22.3488,2
49UP20210827_1,   P03,    69,  1,     32,     841,2,20210909,1030,1251, 24.2540, 164.0297, 5756,    153.0,   20.8122,  35.0466,2,    195.8,2,     -999,9,   195.91,2,     2.41,2,     0.34,2,     0.14,2,    0.110,2,     -999,9,     -999,9,     -999,9,     -999,9,     -999,9,     -999,     -999,9,     -999,9,     -999,9,     -999,9,  20.7831,2,  24.5882,2,  20.8218,2
49UP20210827_1,   P03,    69,  1,     31,     840,2,20210909,1030,1249, 24.2540, 164.0297, 5756,    203.5,   18.3394,  34.8454,2,    192.0,2,     -999,9,   191.74,2,     3.77,2,     3.52,2,     0.01,2,    0.290,2,     -999,9,     -999,9,     -999,9,     -999,9,     -999,9,     -999,     -999,9,     -999,9,     -999,9,     -999,9,  18.3040,2,  25.0783,2,  18.3390,2
49UP20210827_1,   P03,    69,  1,     30,     839,2,20210909,1030,1247, 24.2540, 164.0297, 5756,    251.5,   16.4755,  34.6684,2,    192.7,2,     -999,9,   192.32,2,     5.74,2,     6.11,2,     0.00,2,    0.470,2,     -999,9,     -999,9,     -999,9,     -999,9,     -999,9,     -999,     -999,9,     -999,9,     -999,9,     -999,9,  16.4349,2,  25.3924,2,  16.4763,2
49UP20210827_1,   P03,    69,  1,     29,     838,2,20210909,1030,1244, 24.2540, 164.0297, 5756,    334.2,   13.7225,  34.4188,2,    197.2,2,     -999,9,   197.21,2,    10.34,2,    10.03,2,     0.00,2,    0.720,2,     -999,9,     -999,9,     -999,9,     -999,9,     -999,9,     -999,     -999,9,     -999,9,     -999,9,     -999,9,  13.6748,2,  25.8055,2,  13.7257,2
49UP20210827_1,   P03,    69,  1,     28,     755,2,20210909,1030,1241, 24.2540, 164.0297, 5756,    434.7,   10.8804,  34.2061,2,    189.1,2,     -999,9,   189.74,2,    19.28,2,    15.82,2,     0.00,2,    1.130,2,     -999,9,     -999,9,     -999,9,     -999,9,     -999,9,     -999,     -999,9,     -999,9,     -999,9,     -999,9,  10.8271,2,  26.1882,2,  10.8854,2
49UP20210827_1,   P03,    69,  1,     27,     754,2,20210909,1030,1238, 24.2540, 164.0297, 5756,    536.1,    8.6635,  34.1046,2,    155.9,2,     -999,9,   155.70,2,    35.35,2,    23.35,2,     0.00,2,    1.670,2,     -999,9,     -999,9,     -999,9,     -999,9,     -999,9,     -999,     -999,9,     -999,9,     -999,9,     -999,9,   8.6062,2,  26.4787,2,   8.6641,2
49UP20210827_1,   P03,    69,  1,     26,     835,2,20210909,1030,1234, 24.2540, 164.0297, 5756,    635.4,    6.5444,  34.0804,2,    104.4,2,     -999,9,   105.19,6,    60.03,6,    31.99,6,     0.00,6,    2.310,6,     -999,9,     -999,9,     -999,9,     -999,9,     -999,9,     -999,     -999,9,     -999,9,     -999,9,     -999,9,   6.4861,2,  26.7634,2,   6.5437,2
49UP20210827_1,   P03,    69,  1,     25,     834,2,20210909,1030,1231, 24.2540, 164.0297, 5756,    737.6,    5.2455,  34.1422,2,     66.8,2,     -999,9,    67.12,2,    83.09,2,    37.57,2,     0.00,2,    2.720,2,     -999,9,     -999,9,     -999,9,     -999,9,     -999,9,     -999,     -999,9,     -999,9,     -999,9,     -999,9,   5.1845,2,  26.9738,2,   5.2452,2
49UP20210827_1,   P03,    69,  1,     24,     753,2,20210909,1030,1228, 24.2540, 164.0297, 5756,    838.3,    4.5454,  34.2454,2,     46.0,2,     -999,9,    45.86,2,    99.35,2,    40.50,2,     0.00,2,    2.920,2,     -999,9,     -999,9,     -999,9,     -999,9,     -999,9,     -999,     -999,9,     -999,9,     -999,9,     -999,9,   4.4799,2,  27.1351,2,   4.5456,2
49UP20210827_1,   P03,    69,  1,     23,     832,2,20210909,1030,1225, 24.2540, 164.0297, 5756,    939.6,    4.1510,  34.3499,2,     43.0,2,     -999,9,    42.90,2,   109.60,2,    41.39,2,     0.00,2,    2.980,2,     -999,9,     -999,9,     -999,9,     -999,9,     -999,9,     -999,     -999,9,     -999,9,     -999,9,     -999,9,   4.0795,2,  27.2608,2,   4.1506,2
49UP20210827_1,   P03,    69,  1,     22,     831,2,20210909,1030,1221, 24.2540, 164.0297, 5756,   1081.4,    3.6506,  34.4493,2,     53.0,2,     -999,9,    52.46,2,   120.42,2,    41.27,2,     0.00,2,    2.970,2,     -999,9,     -999,9,     -999,9,     -999,9,     -999,9,     -999,     -999,9,     -999,9,     -999,9,     -999,9,   3.5712,2,  27.3913,2,   3.6507,2
49UP20210827_1,   P03,    69,  1,     21,     830,2,20210909,1030,1216, 24.2540, 164.0297, 5756,   1283.3,    3.1185,  34.5172,2,     68.1,2,     -999,9,    67.99,2,   130.12,2,    40.72,2,     0.00,2,    2.900,2,     -999,9,     -999,9,     -999,9,     -999,9,     -999,9,     -999,     -999,9,     -999,9,     -999,9,     -999,9,   3.0274,2,  27.4972,2,   3.1186,2
49UP20210827_1,   P03,    69,  1,     20,     829,2,20210909,1030,1210, 24.2540, 164.0297, 5756,   1485.8,    2.6984,  34.5472,2,     75.8,2,     -999,9,    76.40,2,   139.08,2,    40.46,2,     0.00,2,    2.880,2,     -999,9,     -999,9,     -999,9,     -999,9,     -999,9,     -999,     -999,9,     -999,9,     -999,9,     -999,9,   2.5952,2,  27.5596,2,   2.6985,2
49UP20210827_1,   P03,    69,  1,     19,     828,2,20210909,1030,1205, 24.2540, 164.0297, 5756,   1688.3,    2.3779,  34.5770,2,     86.3,2,     -999,9,    86.33,2,   144.90,2,    40.01,2,     0.00,2,    2.840,2,     -999,9,     -999,9,     -999,9,     -999,9,     -999,9,     -999,     -999,9,     -999,9,     -999,9,     -999,9,   2.2621,2,  27.6116,2,   2.3780,2
49UP20210827_1,   P03,    69,  1,     18,     752,2,20210909,1030,1200, 24.2540, 164.0297, 5756,   1891.9,    2.1193,  34.6033,2,     96.3,2,     -999,9,    95.91,2,   149.04,2,    39.55,2,     0.00,2,    2.790,2,     -999,9,     -999,9,     -999,9,     -999,9,     -999,9,     -999,     -999,9,     -999,9,     -999,9,     -999,9,   1.9902,2,  27.6546,2,   2.1194,2
49UP20210827_1,   P03,    69,  1,     17,     751,2,20210909,1030,1155, 24.2540, 164.0297, 5756,   2094.7,    1.9741,  34.6197,2,    103.4,2,     -999,9,   103.48,6,   150.79,6,    39.17,6,     0.00,6,    2.760,6,     -999,9,     -999,9,     -999,9,     -999,9,     -999,9,     -999,     -999,9,     -999,9,     -999,9,     -999,9,   1.8301,2,  27.6803,2,   1.9741,2
49UP20210827_1,   P03,    69,  1,     16,     328,2,20210909,1030,1150, 24.2540, 164.0297, 5756,   2296.5,    1.8589,  34.6338,2,    110.7,2,     -999,9,   110.44,2,   151.92,2,    38.81,2,     0.00,2,    2.720,2,     -999,9,     -999,9,     -999,9,     -999,9,     -999,9,     -999,     -999,9,     -999,9,     -999,9,     -999,9,   1.6994,2,  27.7016,2,   1.8588,2
49UP20210827_1,   P03,    69,  1,     15,     822,2,20210909,1030,1145, 24.2540, 164.0297, 5756,   2500.7,    1.7567,  34.6450,2,    117.5,2,     -999,9,   117.18,2,   153.03,2,    38.38,2,     0.00,2,    2.690,2,     -999,9,     -999,9,     -999,9,     -999,9,     -999,9,     -999,     -999,9,     -999,9,     -999,9,     -999,9,   1.5810,2,  27.7193,2,   1.7565,2
49UP20210827_1,   P03,    69,  1,     14,     326,2,20210909,1030,1140, 24.2540, 164.0297, 5756,   2705.4,    1.6900,  34.6527,2,    123.0,2,     -999,9,   122.86,2,   152.92,2,    37.99,2,     0.00,2,    2.660,2,     -999,9,     -999,9,     -999,9,     -999,9,     -999,9,     -999,     -999,9,     -999,9,     -999,9,     -999,9,   1.4969,2,  27.7317,2,   1.6900,2
49UP20210827_1,   P03,    69,  1,     13,     325,2,20210909,1030,1135, 24.2540, 164.0297, 5756,   2909.8,    1.6244,  34.6602,2,    128.9,2,     -999,9,   129.05,2,   153.02,2,    37.66,2,     0.00,2,    2.630,2,     -999,9,     -999,9,     -999,9,     -999,9,     -999,9,     -999,     -999,9,     -999,9,     -999,9,     -999,9,   1.4136,2,  27.7437,2,   1.6244,2
49UP20210827_1,   P03,    69,  1,     12,     324,2,20210909,1030,1131, 24.2540, 164.0297, 5756,   3123.2,    1.5814,  34.6661,2,    133.9,2,     -999,9,   133.88,2,   152.34,2,    37.30,2,     0.00,2,    2.600,2,     -999,9,     -999,9,     -999,9,     -999,9,     -999,9,     -999,     -999,9,     -999,9,     -999,9,     -999,9,   1.3509,2,  27.7529,2,   1.5813,2
49UP20210827_1,   P03,    69,  1,     11,     323,2,20210909,1030,1125, 24.2540, 164.0297, 5756,   3376.6,    1.5482,  34.6711,2,    138.9,2,     -999,9,   138.81,2,   151.87,2,    37.04,2,     0.00,2,    2.580,2,     -999,9,     -999,9,     -999,9,     -999,9,     -999,9,     -999,     -999,9,     -999,9,     -999,9,     -999,9,   1.2934,2,  27.7610,2,   1.5483,2
49UP20210827_1,   P03,    69,  1,     10,     322,2,20210909,1030,1119, 24.2540, 164.0297, 5756,   3631.1,    1.5197,  34.6755,2,    143.9,2,     -999,9,   143.71,2,   150.53,2,    36.70,2,     0.00,2,    2.560,2,     -999,9,     -999,9,     -999,9,     -999,9,     -999,9,     -999,     -999,9,     -999,9,     -999,9,     -999,9,   1.2396,2,  27.7683,2,   1.5197,2
49UP20210827_1,   P03,    69,  1,      9,     750,2,20210909,1030,1114, 24.2540, 164.0297, 5756,   3887.0,    1.4990,  34.6795,2,    148.8,2,     -999,9,   148.54,2,   149.19,2,    36.35,2,     0.00,2,    2.520,2,     -999,9,     -999,9,     -999,9,     -999,9,     -999,9,     -999,     -999,9,     -999,9,     -999,9,     -999,9,   1.1924,2,  27.7748,2,   1.4989,2
49UP20210827_1,   P03,    69,  1,      8,     320,2,20210909,1030,1108, 24.2540, 164.0297, 5756,   4143.3,    1.4795,  34.6835,2,    154.2,2,     -999,9,   154.21,6,   146.97,6,    35.99,6,     0.00,6,    2.500,6,     -999,9,     -999,9,     -999,9,     -999,9,     -999,9,     -999,     -999,9,     -999,9,     -999,9,     -999,9,   1.1455,2,  27.7812,2,   1.4795,2
49UP20210827_1,   P03,    69,  1,      7,     319,2,20210909,1030,1103, 24.2540, 164.0297, 5756,   4401.4,    1.4706,  34.6867,2,    159.0,2,     -999,9,   158.82,2,   145.01,2,    35.68,2,     0.00,2,    2.470,2,     -999,9,     -999,9,     -999,9,     -999,9,     -999,9,     -999,     -999,9,     -999,9,     -999,9,     -999,9,   1.1078,2,  27.7864,2,   1.4706,2
49UP20210827_1,   P03,    69,  1,      6,     318,2,20210909,1030,1057, 24.2540, 164.0297, 5756,   4658.4,    1.4631,  34.6897,2,    164.1,2,     -999,9,   163.85,2,   141.90,2,    35.28,2,     0.00,2,    2.450,2,     -999,9,     -999,9,     -999,9,     -999,9,     -999,9,     -999,     -999,9,     -999,9,     -999,9,     -999,9,   1.0708,2,  27.7913,2,   1.4630,2
49UP20210827_1,   P03,    69,  1,      5,     317,2,20210909,1030,1052, 24.2540, 164.0297, 5756,   4916.6,    1.4607,  34.6925,2,    168.8,2,     -999,9,   168.91,2,   138.78,2,    34.89,2,     0.00,2,    2.410,2,     -999,9,     -999,9,     -999,9,     -999,9,     -999,9,     -999,     -999,9,     -999,9,     -999,9,     -999,9,   1.0378,2,  27.7957,2,   1.4606,2
49UP20210827_1,   P03,    69,  1,      4,     316,2,20210909,1030,1046, 24.2540, 164.0297, 5756,   5174.5,    1.4606,  34.6948,2,    173.2,2,     -999,9,   173.54,2,   136.15,2,    34.64,2,     0.00,2,    2.400,2,     -999,9,     -999,9,     -999,9,     -999,9,     -999,9,     -999,     -999,9,     -999,9,     -999,9,     -999,9,   1.0063,2,  27.7997,2,   1.4605,2
49UP20210827_1,   P03,    69,  1,      3,     315,2,20210909,1030,1041, 24.2540, 164.0297, 5756,   5431.5,    1.4730,  34.6962,2,    176.0,2,     -999,9,   176.22,2,   134.69,2,    34.39,2,     0.00,2,    2.380,2,     -999,9,     -999,9,     -999,9,     -999,9,     -999,9,     -999,     -999,9,     -999,9,     -999,9,     -999,9,   0.9861,2,  27.8022,2,   1.4729,2
49UP20210827_1,   P03,    69,  1,      2,     314,2,20210909,1030,1035, 24.2540, 164.0297, 5756,   5689.2,    1.4976,  34.6969,2,    177.3,2,     -999,9,   177.84,2,   133.84,2,    34.33,2,     0.00,2,    2.370,2,     -999,9,     -999,9,     -999,9,     -999,9,     -999,9,     -999,     -999,9,     -999,9,     -999,9,     -999,9,   0.9767,2,  27.8033,2,   1.4976,2
49UP20210827_1,   P03,    69,  1,      1,     811,2,20210909,1030,1030, 24.2540, 164.0297, 5756,   5901.7,    1.5194,  34.6973,2,    178.5,2,     -999,9,   178.31,2,   132.95,2,    34.24,2,     0.00,2,    2.360,2,     -999,9,     -999,9,     -999,9,     -999,9,     -999,9,     -999,     -999,9,     -999,9,     -999,9,     -999,9,   0.9698,2,  27.8042,2,   1.5193,2