BOTTLE,20230808CCHSIOADS
EXPOCODE,SECT_ID,STNNBR,CASTNO,SAMPNO,BTLNBR,BTLNBR_FLAG_W,DATE,TIME,BTL_TIME,LATITUDE,LONGITUDE,DEPTH,CTDPRS,CTDTMP,CTDSAL,CTDSAL_FLAG_W,CTDOXY,CTDOXY_FLAG_W,SALNTY,SALNTY_FLAG_W,OXYGEN,OXYGEN_FLAG_W,SILCAT,SILCAT_FLAG_W,NO2+NO3,NO2+NO3_FLAG_W,NITRIT,NITRIT_FLAG_W,PHSPHT,PHSPHT_FLAG_W,CFC-11,CFC-11_FLAG_W,CFC-12,CFC-12_FLAG_W,TCARBN,TCARBN_FLAG_W,ALKALI,ALKALI_FLAG_W,PH_TOT,PH_TOT_FLAG_W,PH_TMP,CFC113,CFC113_FLAG_W,SF6,SF6_FLAG_W,CHLORA,CHLORA_FLAG_W,PPHYTN,PPHYTN_FLAG_W,THETA,THETA_FLAG_W,SIG0,SIG0_FLAG_W,SBE35,SBE35_FLAG_W
,,,,,,,,,,,,METERS,DBAR,ITS-90,PSS-78,,UMOL/KG,,PSS78,,UMOL/KG,,UMOL/KG,,UMOL/KG,,UMOL/KG,,UMOL/KG,,PMOL/KG,,PMOL/KG,,UMOL/KG,,UMOL/KG,,,,DEG C,PMOL/KG,,FMOL/KG,,UG/KG,,UG/KG,,ITS-90,,KG/M^3,,ITS-90,
49UP20210920_1,   P03,    81,  1,      0,     BUC,2,20211001,2317, 124, 24.2478, 172.7230, 5774,      0.0,   28.5303,  35.2588,2,    200.0,2,  35.2624,2,   199.69,2,     1.07,2,     0.05,2,     0.00,2,    0.050,2,     -999,9,     -999,9,   1990.7,2,   2314.0,2,   8.0863,2,    25.00,     -999,9,     -999,9,     0.05,2,     0.02,2,  28.5297,2,  22.4150,2,     -999,9
49UP20210920_1,   P03,    81,  1,     36,     757,2,20211001,2317, 159, 24.2478, 172.7230, 5774,      9.7,   28.3521,  35.2597,2,    200.2,2,  35.2588,6,   199.87,2,     0.99,2,     0.03,2,     0.00,2,    0.000,2,     -999,9,     -999,9,   1991.2,2,   2315.5,2,   8.0891,2,    25.00,     -999,9,     -999,9,     0.04,2,     0.02,2,  28.3498,2,  22.4751,2,  28.3628,2
49UP20210920_1,   P03,    81,  1,     35,     756,2,20211001,2317, 156, 24.2478, 172.7230, 5774,     49.9,   28.1675,  35.2666,2,    201.4,2,  35.2678,2,   201.75,6,     1.00,6,     0.03,6,     0.00,6,    0.000,6,     -999,9,     -999,9,   1989.7,2,   2317.1,2,   8.0888,2,    25.00,     -999,9,     -999,9,     0.07,2,     0.03,2,  28.1557,2,  22.5441,2,  28.1624,2
49UP20210920_1,   P03,    81,  1,     34,     843,2,20211001,2317, 151, 24.2478, 172.7230, 5774,    101.2,   21.9654,  35.1462,2,    215.5,2,  35.1498,2,   215.03,2,     1.79,2,     0.04,2,     0.00,2,    0.040,2,     -999,9,     -999,9,   2029.2,2,   2307.9,2,   8.0165,2,    25.00,     -999,9,     -999,9,     0.15,2,     0.18,2,  21.9454,2,  24.3442,2,  21.9785,2
49UP20210920_1,   P03,    81,  1,     33,     842,2,20211001,2317, 149, 24.2478, 172.7230, 5774,    150.7,   19.3457,  34.9369,2,    198.5,2,  34.9363,2,   198.87,2,     2.87,2,     1.36,2,     0.16,2,    0.160,2,     -999,9,     -999,9,   2055.1,2,   2293.3,2,   7.9459,2,    25.00,     -999,9,     -999,9,     0.11,2,     0.35,2,  19.3185,2,  24.8913,2,  19.3230,2
49UP20210920_1,   P03,    81,  1,     32,     841,2,20211001,2317, 147, 24.2478, 172.7230, 5774,    205.4,   17.1242,  34.7363,2,    198.8,2,  34.7356,2,   198.78,2,     4.54,2,     4.65,2,     0.01,2,    0.350,2,     -999,9,     -999,9,   2064.7,2,   2280.6,2,   7.9077,2,    25.00,     -999,9,     -999,9,     0.02,2,     0.09,2,  17.0901,2,  25.2904,2,  17.1248,2
49UP20210920_1,   P03,    81,  1,     31,     840,2,20211001,2317, 144, 24.2478, 172.7230, 5774,    252.1,   15.5133,  34.5808,2,    200.7,2,  34.5814,2,   200.77,2,     6.54,2,     6.80,2,     0.00,2,    0.490,2,     -999,9,     -999,9,   2072.9,2,   2271.5,2,   7.8722,2,    25.00,     -999,9,     -999,9,     -999,9,     -999,9,  15.4743,2,  25.5438,2,  15.5140,2
49UP20210920_1,   P03,    81,  1,     30,     839,3,20211001,2317, 142, 24.2478, 172.7230, 5774,    283.0,   14.5229,  34.4997,2,    204.5,2,  34.5019,2,   203.64,2,     8.22,2,     8.20,2,     0.00,2,    0.580,2,     -999,9,     -999,9,   2077.9,2,   2270.0,2,   7.8596,6,    25.00,     -999,9,     -999,9,     -999,9,     -999,9,  14.4811,2,  25.6985,2,  14.5254,2
49UP20210920_1,   P03,    81,  1,     29,     838,2,20211001,2317, 139, 24.2478, 172.7230, 5774,    375.1,   11.2843,  34.2253,2,    195.9,2,  34.2283,2,   196.08,2,    16.70,2,    14.50,2,     0.00,2,    1.020,2,     -999,9,     -999,9,   2114.6,6,   2259.7,6,   7.7612,2,    25.00,     -999,9,     -999,9,     -999,9,     -999,9,  11.2373,2,  26.1292,2,  11.2835,2
49UP20210920_1,   P03,    81,  1,     28,     755,2,20211001,2317, 136, 24.2478, 172.7230, 5774,    474.6,    8.6872,  34.0936,2,    162.2,2,  34.0935,2,   162.01,2,    33.99,2,    22.89,2,     0.00,2,    1.610,2,     -999,9,     -999,9,   2169.5,2,   2271.5,2,   7.6379,2,    25.00,     -999,9,     -999,9,     -999,9,     -999,9,   8.6366,2,  26.4654,2,   8.6864,2
49UP20210920_1,   P03,    81,  1,     27,     754,2,20211001,2317, 132, 24.2478, 172.7230, 5774,    574.2,    6.9885,  34.0803,2,    113.3,2,  34.0799,6,   112.95,2,    53.97,2,    30.57,2,     0.00,2,    2.180,2,     -999,9,     -999,9,   2227.5,2,   2284.9,2,   7.5156,2,    25.00,     -999,9,     -999,9,     -999,9,     -999,9,   6.9341,2,  26.7033,2,   6.9877,2
49UP20210920_1,   P03,    81,  1,     26,     835,2,20211001,2317, 129, 24.2478, 172.7230, 5774,    677.1,    5.1971,  34.1078,2,     74.9,2,  34.1072,2,    75.08,6,    82.10,6,    37.14,6,     0.00,6,    2.660,6,     -999,9,     -999,9,   2282.4,2,   2309.3,2,   7.4184,2,    25.00,     -999,9,     -999,9,     -999,9,     -999,9,   5.1417,2,  26.9515,2,   5.1948,2
49UP20210920_1,   P03,    81,  1,     25,     834,2,20211001,2317, 126, 24.2478, 172.7230, 5774,    778.5,    4.5012,  34.2288,2,     44.7,2,  34.2282,2,    45.38,3,    99.58,2,    40.73,2,     0.00,2,    2.930,2,     -999,9,     -999,9,   2319.5,2,   2333.0,2,   7.3746,2,    25.00,     -999,9,     -999,9,     -999,9,     -999,9,   4.4410,2,  27.1262,2,   4.5019,2
49UP20210920_1,   P03,    81,  1,     24,     753,2,20211001,2317, 123, 24.2478, 172.7230, 5774,    878.8,    3.8515,  34.2896,2,     32.6,2,  34.2866,2,    32.20,2,   116.92,2,    42.59,2,     0.00,2,    3.040,2,     -999,9,     -999,9,   2344.7,2,   2351.4,2,   7.3459,2,    25.00,     -999,9,     -999,9,     -999,9,     -999,9,   3.7871,2,  27.2427,2,   3.8514,2
49UP20210920_1,   P03,    81,  1,     23,     832,2,20211001,2317, 120, 24.2478, 172.7230, 5774,    980.0,    3.6490,  34.4008,2,     41.3,2,  34.3997,2,    41.20,2,   121.66,2,    42.27,2,     0.00,2,    3.020,2,     -999,9,     -999,9,   2347.0,2,   2364.0,2,   7.3803,2,    25.00,     -999,9,     -999,9,     -999,9,     -999,9,   3.5778,2,  27.3521,2,   3.6492,2
49UP20210920_1,   P03,    81,  1,     22,     831,2,20211001,2317, 115, 24.2478, 172.7230, 5774,   1141.6,    3.2489,  34.4803,2,     54.6,2,  34.4795,2,    54.26,2,   129.90,2,    41.74,2,     0.00,2,    2.970,2,     -999,9,     -999,9,   2351.2,2,   2378.1,2,   7.4086,2,    25.00,     -999,9,     -999,9,     -999,9,     -999,9,   3.1680,2,  27.4547,2,   3.2488,2
49UP20210920_1,   P03,    81,  1,     21,     830,2,20211001,2317, 110, 24.2478, 172.7230, 5774,   1345.1,    2.8500,  34.5356,2,     69.4,2,  34.5327,4,    69.15,2,   136.42,2,    40.95,2,     0.00,2,    2.900,2,     -999,9,     -999,9,   2352.1,2,   2387.8,2,   7.4392,6,    25.00,     -999,9,     -999,9,     -999,9,     -999,9,   2.7565,2,  27.5363,2,   2.8501,2
49UP20210920_1,   P03,    81,  1,     20,     829,2,20211001,2317, 105, 24.2478, 172.7230, 5774,   1546.0,    2.5327,  34.5669,2,     78.3,2,  34.5674,2,    78.16,2,   142.89,2,    40.62,2,     0.00,2,    2.870,2,     -999,9,     -999,9,   2353.7,6,   2398.7,6,   7.4566,2,    25.00,     -999,9,     -999,9,     -999,9,     -999,9,   2.4266,2,  27.5898,2,   2.5327,2
49UP20210920_1,   P03,    81,  1,     19,     828,2,20211001,2317,  59, 24.2478, 172.7230, 5774,   1749.3,    2.2314,  34.5934,2,     87.4,2,  34.5937,2,    87.33,2,   148.94,2,    40.24,2,     0.00,2,    2.830,2,     -999,9,     -999,9,   2356.6,2,   2403.3,2,   7.4696,2,    25.00,     -999,9,     -999,9,     -999,9,     -999,9,   2.1125,2,  27.6369,2,   2.2313,2
49UP20210920_1,   P03,    81,  1,     18,     752,2,20211001,2317,  54, 24.2478, 172.7230, 5774,   1953.3,    2.0293,  34.6142,2,     96.9,2,  34.6143,6,    97.00,2,   152.09,2,    39.75,2,     0.00,2,    2.790,2,     -999,9,     -999,9,   2355.3,2,   2408.7,2,   7.4876,2,    25.00,     -999,9,     -999,9,     -999,9,     -999,9,   1.8964,2,  27.6707,2,   2.0292,2
49UP20210920_1,   P03,    81,  1,     17,     751,2,20211001,2317,  49, 24.2478, 172.7230, 5774,   2155.2,    1.8562,  34.6317,2,    106.9,2,  34.6321,2,   107.06,6,   154.10,6,    39.13,6,     0.00,6,    2.740,6,     -999,9,     -999,9,   2351.1,2,   2411.9,2,   7.5063,2,    25.00,     -999,9,     -999,9,     -999,9,     -999,9,   1.7089,2,  27.6991,2,   1.8561,2
49UP20210920_1,   P03,    81,  1,     16,     328,2,20211001,2317,  44, 24.2478, 172.7230, 5774,   2359.5,    1.7558,  34.6422,2,    113.8,2,  34.6428,2,   114.09,2,   154.87,2,    38.70,2,     0.00,2,    2.700,2,     -999,9,     -999,9,   2348.0,2,   2415.4,2,   7.5201,2,    25.00,     -999,9,     -999,9,     -999,9,     -999,9,   1.5925,2,  27.7163,2,   1.7557,2
49UP20210920_1,   P03,    81,  1,     15,     822,2,20211001,2317,  38, 24.2478, 172.7230, 5774,   2561.8,    1.6868,  34.6500,2,    119.5,2,  34.6504,2,   119.73,2,   155.21,2,    38.35,2,     0.00,2,    2.670,2,     -999,9,     -999,9,   2346.9,2,   2415.0,2,   7.5284,2,    25.00,     -999,9,     -999,9,     -999,9,     -999,9,   1.5069,2,  27.7288,2,   1.6866,2
49UP20210920_1,   P03,    81,  1,     14,     326,2,20211001,2317,  33, 24.2478, 172.7230, 5774,   2765.1,    1.6324,  34.6569,2,    124.9,2,  34.6565,2,   124.90,2,   154.70,2,    37.98,2,     0.00,2,    2.640,2,     -999,9,     -999,9,   2343.3,2,   2415.3,2,   7.5351,2,    25.00,     -999,9,     -999,9,     -999,9,     -999,9,   1.4350,2,  27.7395,2,   1.6325,2
49UP20210920_1,   P03,    81,  1,     13,     325,2,20211001,2317,  28, 24.2478, 172.7230, 5774,   2969.0,    1.5770,  34.6636,2,    131.0,2,  34.6636,2,   130.54,2,   154.44,2,    37.62,2,     0.00,2,    2.610,2,     -999,9,     -999,9,   2341.6,2,   2415.7,2,   7.5485,2,    25.00,     -999,9,     -999,9,     -999,9,     -999,9,   1.3615,2,  27.7502,2,   1.5769,2
49UP20210920_1,   P03,    81,  1,     12,     324,3,20211001,2317,  23, 24.2478, 172.7230, 5774,   3214.7,    1.5347,  34.6700,2,    137.1,2,  34.6701,2,   137.80,2,   153.34,2,    37.19,2,     0.00,2,    2.580,2,     -999,9,     -999,9,   2336.6,2,   2416.7,2,   7.5584,2,    25.00,     -999,9,     -999,9,     -999,9,     -999,9,   1.2964,2,  27.7599,2,   1.5349,2
49UP20210920_1,   P03,    81,  1,     11,     323,2,20211001,2317,  17, 24.2478, 172.7230, 5774,   3469.0,    1.5058,  34.6749,2,    142.9,2,  34.6747,2,   143.26,2,   151.45,2,    36.77,2,     0.00,2,    2.550,2,     -999,9,     -999,9,   2332.8,2,   2414.2,2,   7.5683,6,    25.00,     -999,9,     -999,9,     -999,9,     -999,9,   1.2427,2,  27.7676,2,   1.5056,2
49UP20210920_1,   P03,    81,  1,     10,     322,2,20211001,2317,  11, 24.2478, 172.7230, 5774,   3725.7,    1.4799,  34.6794,2,    148.6,2,  34.6793,2,   148.87,2,   149.66,2,    36.42,2,     0.00,2,    2.520,2,     -999,9,     -999,9,   2328.5,6,   2413.1,6,   7.5701,3,    25.00,     -999,9,     -999,9,     -999,9,     -999,9,   1.1910,2,  27.7748,2,   1.4798,2
49UP20210920_1,   P03,    81,  1,      9,     750,2,20211001,2317,   5, 24.2478, 172.7230, 5774,   3982.1,    1.4646,  34.6831,2,    153.6,2,  34.6828,6,   153.77,2,   147.83,2,    36.08,2,     0.00,2,    2.490,2,     -999,9,     -999,9,   2324.5,2,   2411.2,2,   7.5847,2,    25.00,     -999,9,     -999,9,     -999,9,     -999,9,   1.1486,2,  27.7807,2,   1.4644,2
49UP20210920_1,   P03,    81,  1,      8,     320,2,20211001,2317,2359, 24.2478, 172.7230, 5774,   4238.2,    1.4528,  34.6865,2,    158.9,2,  34.6861,2,   159.18,6,   145.17,6,    35.71,6,     0.00,6,    2.470,6,     -999,9,     -999,9,   2319.9,2,   2407.5,2,   7.5890,2,    25.00,     -999,9,     -999,9,     -999,9,     -999,9,   1.1090,2,  27.7861,2,   1.4527,2
49UP20210920_1,   P03,    81,  1,      7,     319,2,20211001,2317,2353, 24.2478, 172.7230, 5774,   4494.9,    1.4418,  34.6899,2,    164.6,2,  34.6894,2,   164.76,2,   141.68,2,    35.26,2,     0.00,2,    2.440,2,     -999,9,     -999,9,   2312.5,2,   2406.4,2,   7.5950,2,    25.00,     -999,9,     -999,9,     -999,9,     -999,9,   1.0692,2,  27.7916,2,   1.4417,2
49UP20210920_1,   P03,    81,  1,      6,     318,2,20211001,2317,2346, 24.2478, 172.7230, 5774,   4752.2,    1.4346,  34.6930,2,    169.9,2,  34.6925,2,   169.74,2,   138.20,2,    34.89,2,     0.00,2,    2.400,2,     -999,9,     -999,9,   2308.4,2,   2402.4,2,   7.6016,2,    25.00,     -999,9,     -999,9,     -999,9,     -999,9,   1.0322,2,  27.7965,2,   1.4346,2
49UP20210920_1,   P03,    81,  1,      5,     317,2,20211001,2317,2340, 24.2478, 172.7230, 5774,   5008.4,    1.4364,  34.6952,2,    173.9,2,  34.6949,2,   173.80,2,   136.02,2,    34.61,2,     0.00,2,    2.380,2,     -999,9,     -999,9,   2304.2,2,   2399.1,2,   7.6047,2,    25.00,     -999,9,     -999,9,     -999,9,     -999,9,   1.0033,2,  27.8002,2,   1.4364,2
49UP20210920_1,   P03,    81,  1,      4,     316,2,20211001,2317,2334, 24.2478, 172.7230, 5774,   5267.1,    1.4472,  34.6967,2,    176.8,2,  34.6971,2,   176.79,2,   134.42,2,    34.38,2,     0.00,2,    2.370,2,     -999,9,     -999,9,   2301.8,2,   2396.4,2,   7.6096,2,    25.00,     -999,9,     -999,9,     -999,9,     -999,9,   0.9818,2,  27.8029,2,   1.4471,2
49UP20210920_1,   P03,    81,  1,      3,     315,2,20211001,2317,2328, 24.2478, 172.7230, 5774,   5524.3,    1.4658,  34.6978,2,    178.6,2,  34.6974,2,   178.75,2,   133.14,2,    34.22,2,     0.00,2,    2.350,2,     -999,9,     -999,9,   2299.2,2,   2395.3,2,   7.6104,2,    25.00,     -999,9,     -999,9,     -999,9,     -999,9,   0.9673,2,  27.8046,2,   1.4657,2
49UP20210920_1,   P03,    81,  1,      2,     314,2,20211001,2317,2322, 24.2478, 172.7230, 5774,   5784.5,    1.4878,  34.6985,2,    180.2,2,  34.6987,2,   180.28,2,   132.30,2,    34.08,2,     0.00,2,    2.350,2,     -999,9,     -999,9,   2297.1,2,   2393.5,2,   7.6096,2,    25.00,     -999,9,     -999,9,     -999,9,     -999,9,   0.9549,2,  27.8060,2,   1.4878,2
49UP20210920_1,   P03,    81,  1,      1,     811,2,20211001,2317,2318, 24.2478, 172.7230, 5774,   5923.9,    1.5054,  34.6986,2,    180.6,2,  34.6987,2,   180.38,2,   132.12,2,    34.03,2,     0.00,2,    2.340,2,     -999,9,     -999,9,   2295.6,2,   2395.2,2,   7.6093,2,    25.00,     -999,9,     -999,9,     -999,9,     -999,9,   0.9534,2,  27.8063,2,   1.5052,2