BOTTLE,20230808CCHSIOADS
EXPOCODE,SECT_ID,STNNBR,CASTNO,SAMPNO,BTLNBR,BTLNBR_FLAG_W,DATE,TIME,BTL_TIME,LATITUDE,LONGITUDE,DEPTH,CTDPRS,CTDTMP,CTDSAL,CTDSAL_FLAG_W,CTDOXY,CTDOXY_FLAG_W,SALNTY,SALNTY_FLAG_W,OXYGEN,OXYGEN_FLAG_W,SILCAT,SILCAT_FLAG_W,NO2+NO3,NO2+NO3_FLAG_W,NITRIT,NITRIT_FLAG_W,PHSPHT,PHSPHT_FLAG_W,CFC-11,CFC-11_FLAG_W,CFC-12,CFC-12_FLAG_W,TCARBN,TCARBN_FLAG_W,ALKALI,ALKALI_FLAG_W,PH_TOT,PH_TOT_FLAG_W,PH_TMP,CFC113,CFC113_FLAG_W,SF6,SF6_FLAG_W,CHLORA,CHLORA_FLAG_W,PPHYTN,PPHYTN_FLAG_W,THETA,THETA_FLAG_W,SIG0,SIG0_FLAG_W,SBE35,SBE35_FLAG_W
,,,,,,,,,,,,METERS,DBAR,ITS-90,PSS-78,,UMOL/KG,,PSS78,,UMOL/KG,,UMOL/KG,,UMOL/KG,,UMOL/KG,,UMOL/KG,,PMOL/KG,,PMOL/KG,,UMOL/KG,,UMOL/KG,,,,DEG C,PMOL/KG,,FMOL/KG,,UG/KG,,UG/KG,,ITS-90,,KG/M^3,,ITS-90,
49UP20210827_1,   P03,    43,  1,      0,     BUC,2,20210831,0247, 445, 24.2432, 144.8207, 5298,      0.0,   29.5649,  34.4693,2,    196.4,2,  34.4853,2,   196.71,2,     1.16,2,     0.02,2,     0.00,2,    0.040,2,     -999,9,     -999,9,   1944.6,2,   2264.7,2,   8.0997,2,    25.00,     -999,9,     -999,9,     0.04,2,     0.01,2,  29.5643,2,  21.4762,2,     -999,9
49UP20210827_1,   P03,    43,  1,     36,     757,2,20210831,0247, 521, 24.2432, 144.8207, 5298,      9.1,   29.5616,  34.4689,2,    196.4,2,  34.4698,2,   196.38,2,     1.04,2,     0.00,2,     0.00,2,    0.010,2,    1.061,2,    0.781,2,   1943.9,2,   2262.8,2,   8.0983,2,    25.00,    0.048,2,    1.194,2,     0.03,2,     0.01,2,  29.5594,2,  21.4776,2,  29.5521,2
49UP20210827_1,   P03,    43,  1,     35,     756,2,20210831,0247, 516, 24.2432, 144.8207, 5298,     50.3,   25.3120,  34.8330,2,    222.7,2,  34.8330,2,   222.12,2,     1.39,2,     0.02,2,     0.00,2,    0.010,2,     -999,9,     -999,9,   1980.6,2,   2288.6,2,   8.0685,2,    25.00,     -999,9,     -999,9,     0.06,2,     0.02,2,  25.3010,2,  23.1232,2,  25.3142,2
49UP20210827_1,   P03,    43,  1,     34,     843,3,20210831,0247, 515, 24.2432, 144.8207, 5298,     74.8,   22.3377,  34.8860,2,    218.5,2,  34.8862,2,   217.66,2,     1.66,2,     0.00,2,     0.00,2,    0.020,2,     -999,9,     -999,9,   2004.0,2,   2289.7,2,   8.0351,2,    25.00,     -999,9,     -999,9,     0.13,2,     0.08,2,  22.3228,2,  24.0404,2,  22.3365,2
49UP20210827_1,   P03,    43,  1,     33,     842,2,20210831,0247, 513, 24.2432, 144.8207, 5298,    100.2,   21.0232,  34.8836,2,    206.8,2,  34.8828,2,   206.71,2,     1.96,2,     0.25,2,     0.03,2,    0.050,2,    1.690,2,    1.057,2,   2022.5,2,   2289.1,2,   8.0044,2,    25.00,    0.048,2,    1.580,2,     0.35,2,     0.50,2,  21.0041,2,  24.4042,2,  21.0235,2
49UP20210827_1,   P03,    43,  1,     32,     841,2,20210831,0247, 511, 24.2432, 144.8207, 5298,    125.7,   20.1086,  34.8771,2,    196.3,2,  34.8760,2,   196.26,2,     2.44,2,     1.82,2,     0.04,2,    0.150,2,     -999,9,     -999,9,   2036.4,2,   2288.9,2,   7.9737,2,    25.00,     -999,9,     -999,9,     0.11,2,     0.33,2,  20.0853,2,  24.6455,2,  20.1129,2
49UP20210827_1,   P03,    43,  1,     31,     840,2,20210831,0247, 510, 24.2432, 144.8207, 5298,    151.9,   19.0920,  34.8054,2,    207.8,2,  34.8057,2,   207.36,2,     2.67,2,     2.11,2,     0.02,2,    0.160,2,     -999,9,     -999,9,   2033.3,2,   2286.0,2,   7.9759,2,    25.00,     -999,9,     -999,9,     0.06,2,     0.15,2,  19.0649,2,  24.8559,2,  19.1042,2
49UP20210827_1,   P03,    43,  1,     30,     839,2,20210831,0247, 507, 24.2432, 144.8207, 5298,    203.2,   18.0650,  34.7660,2,    213.7,2,  34.7656,6,   213.46,2,     3.15,2,     2.86,2,     0.01,2,    0.200,2,    1.920,2,    1.152,2,   2035.6,2,   2283.5,2,   7.9662,2,    25.00,    0.071,2,    1.784,2,     0.01,2,     0.02,2,  18.0301,2,  25.0854,2,  18.0739,2
49UP20210827_1,   P03,    43,  1,     29,     838,2,20210831,0247, 505, 24.2432, 144.8207, 5298,    252.1,   17.4009,  34.7607,2,    218.0,2,  34.7599,2,   217.57,6,     3.80,6,     3.56,6,     0.01,6,    0.250,6,     -999,9,     -999,9,   2038.4,2,   2283.1,2,   7.9603,2,    25.00,     -999,9,     -999,9,     -999,9,     -999,9,  17.3586,2,  25.2448,2,  17.4022,2
49UP20210827_1,   P03,    43,  1,     28,     755,2,20210831,0247, 503, 24.2432, 144.8207, 5298,    302.5,   16.7266,  34.7158,2,    203.4,2,  34.7148,2,   202.99,2,     5.84,2,     5.93,2,     0.00,2,    0.400,2,    2.070,2,    1.205,2,   2057.3,2,   2282.7,2,   7.9215,2,    25.00,    0.038,2,    1.571,2,     -999,9,     -999,9,  16.6772,2,  25.3722,2,  16.7263,2
49UP20210827_1,   P03,    43,  1,     27,     754,3,20210831,0247, 500, 24.2432, 144.8207, 5298,    403.8,   13.6324,  34.4580,2,    188.1,2,  34.4580,2,   187.75,2,    13.39,2,    11.82,2,     0.00,2,    0.820,2,     -999,9,     -999,9,   2098.4,2,   2273.5,2,   7.8203,2,    25.00,     -999,9,     -999,9,     -999,9,     -999,9,  13.5749,2,  25.8564,2,  13.6323,2
49UP20210827_1,   P03,    43,  1,     26,     835,3,20210831,0247, 457, 24.2432, 144.8207, 5298,    503.1,   10.2790,  34.2184,2,    168.1,2,  34.2192,2,   168.22,2,    27.15,2,    19.32,2,     0.00,2,    1.370,2,    2.533,2,    1.254,2,   2145.9,2,   2272.0,2,   7.6987,2,    25.00,    0.052,2,    1.224,2,     -999,9,     -999,9,  10.2192,2,  26.3041,2,  10.2771,2
49UP20210827_1,   P03,    43,  1,     25,     834,2,20210831,0247, 453, 24.2432, 144.8207, 5298,    604.9,    7.2765,  34.0847,2,    134.7,2,  34.0859,2,   134.43,2,    52.05,2,    27.91,2,     0.00,2,    1.990,2,     -999,9,     -999,9,   2210.8,2,   2288.3,2,   7.5663,2,    25.00,     -999,9,     -999,9,     -999,9,     -999,9,   7.2178,2,  26.6675,2,   7.2811,2
49UP20210827_1,   P03,    43,  1,     24,     753,2,20210831,0247, 450, 24.2432, 144.8207, 5298,    706.4,    5.8660,  34.1239,2,     93.3,2,  34.1239,2,    93.23,2,    73.21,2,    34.15,2,     0.00,2,    2.450,2,     -999,9,     -999,9,   2261.4,2,   2305.8,2,   7.4707,2,    25.00,     -999,9,     -999,9,     -999,9,     -999,9,   5.8044,2,  26.8848,2,   5.8716,2
49UP20210827_1,   P03,    43,  1,     23,     832,2,20210831,0247, 447, 24.2432, 144.8207, 5298,    808.0,    4.7438,  34.2251,2,     62.5,2,  34.2254,6,    63.02,2,    95.73,2,    38.63,2,     0.00,2,    2.770,2,    0.577,2,    0.296,2,   2305.6,2,   2331.6,2,   7.4095,2,    25.00,    0.025,2,    0.176,2,     -999,9,     -999,9,   4.6796,2,  27.0971,2,   4.7414,2
49UP20210827_1,   P03,    43,  1,     22,     831,2,20210831,0247, 444, 24.2432, 144.8207, 5298,    908.0,    4.1090,  34.2846,2,     47.4,2,  34.2866,2,    47.60,6,   110.74,6,    40.88,6,     0.00,6,    2.930,6,     -999,9,     -999,9,   2331.2,2,   2348.2,2,   7.3794,2,    25.00,     -999,9,     -999,9,     -999,9,     -999,9,   4.0405,2,  27.2129,2,   4.1109,2
49UP20210827_1,   P03,    43,  1,     21,     830,2,20210831,0247, 440, 24.2432, 144.8207, 5298,   1009.2,    3.6490,  34.3630,2,     47.5,2,  34.3634,2,    47.92,2,   122.43,2,    41.37,2,     0.00,2,    2.950,2,    0.192,2,    0.065,2,   2343.3,2,   2363.0,2,   7.3837,6,    25.00,    0.018,2,    0.033,2,     -999,9,     -999,9,   3.5755,2,  27.3222,2,   3.6500,2
49UP20210827_1,   P03,    43,  1,     20,     829,2,20210831,0247, 435, 24.2432, 144.8207, 5298,   1211.4,    3.0479,  34.4445,2,     51.0,2,  34.4448,2,    50.91,2,   137.35,2,    41.79,2,     0.00,2,    2.970,2,     -999,9,     -999,9,   2359.4,6,   2379.9,6,   7.3929,2,    25.00,     -999,9,     -999,9,     -999,9,     -999,9,   2.9633,2,  27.4450,2,   3.0483,2
49UP20210827_1,   P03,    43,  1,     19,     828,2,20210831,0247, 430, 24.2432, 144.8207, 5298,   1414.8,    2.6359,  34.5082,2,     64.2,2,  34.5033,4,    63.43,2,   144.70,2,    41.31,2,     0.00,2,    2.930,2,    0.077,2,    0.007,2,   2362.2,2,   2392.0,2,   7.4179,2,    25.00,    0.020,2,    0.017,2,     -999,9,     -999,9,   2.5392,2,  27.5333,2,   2.6356,2
49UP20210827_1,   P03,    43,  1,     18,     752,2,20210831,0247, 424, 24.2432, 144.8207, 5298,   1616.3,    2.3359,  34.5502,2,     76.8,2,  34.5503,2,    76.60,2,   149.50,2,    40.60,2,     0.00,2,    2.870,2,     -999,9,     -999,9,   2360.7,2,   2401.3,2,   7.4445,2,    25.00,     -999,9,     -999,9,     -999,9,     -999,9,   2.2266,2,  27.5931,2,   2.3368,2
49UP20210827_1,   P03,    43,  1,     17,     751,2,20210831,0247, 418, 24.2432, 144.8207, 5298,   1820.5,    2.1258,  34.5887,2,     96.6,2,  34.5887,2,    96.60,2,   148.28,2,    39.37,2,     0.00,2,    2.770,2,     -999,9,     -999,9,   2351.6,2,   2406.4,2,   7.4835,2,    25.00,     -999,9,     -999,9,     -999,9,     -999,9,   2.0025,2,  27.6420,2,   2.1259,2
49UP20210827_1,   P03,    43,  1,     16,     328,2,20210831,0247, 413, 24.2432, 144.8207, 5298,   2025.8,    1.9466,  34.6116,2,    105.8,2,  34.6117,2,   105.70,2,   150.30,2,    38.84,2,     0.00,2,    2.720,2,    0.009,2,    0.001,2,   2348.7,2,   2409.7,2,   7.5015,2,    25.00,    0.029,2,    0.004,2,     -999,9,     -999,9,   1.8089,2,  27.6754,2,   1.9468,2
49UP20210827_1,   P03,    43,  1,     15,     822,2,20210831,0247, 408, 24.2432, 144.8207, 5298,   2226.3,    1.8564,  34.6236,2,    111.5,2,  34.6236,2,   111.31,2,   150.96,2,    38.49,2,     0.00,2,    2.700,2,    0.010,2,    0.002,2,   2347.6,2,   2410.0,2,   7.5125,2,    25.00,    0.038,2,    0.005,2,     -999,9,     -999,9,   1.7030,2,  27.6930,2,   1.8568,2
49UP20210827_1,   P03,    43,  1,     14,     326,2,20210831,0247, 403, 24.2432, 144.8207, 5298,   2430.6,    1.7651,  34.6357,2,    116.9,2,  34.6352,6,   116.28,2,   152.23,2,    38.20,2,     0.00,2,    2.670,2,    0.012,2,    0.005,2,   2347.5,2,   2413.1,2,   7.5223,2,    25.00,    0.048,2,    0.031,2,     -999,9,     -999,9,   1.5955,2,  27.7108,2,   1.7652,2
49UP20210827_1,   P03,    43,  1,     13,     325,2,20210831,0247, 358, 24.2432, 144.8207, 5298,   2633.3,    1.6976,  34.6463,2,    123.5,2,  34.6465,2,   123.50,6,   151.78,6,    37.82,6,     0.00,6,    2.640,6,     -999,9,     -999,9,   2343.4,2,   2414.3,2,   7.5341,2,    25.00,     -999,9,     -999,9,     -999,9,     -999,9,   1.5109,2,  27.7255,2,   1.6978,2
49UP20210827_1,   P03,    43,  1,     12,     324,2,20210831,0247, 352, 24.2432, 144.8207, 5298,   2837.0,    1.6311,  34.6566,2,    130.6,2,  34.6562,2,   130.73,2,   151.18,2,    37.37,2,     0.00,2,    2.600,2,     -999,9,     -999,9,   2339.9,2,   2415.4,2,   7.5461,2,    25.00,     -999,9,     -999,9,     -999,9,     -999,9,   1.4270,2,  27.7399,2,   1.6311,2
49UP20210827_1,   P03,    43,  1,     11,     323,3,20210831,0247, 347, 24.2432, 144.8207, 5298,   3042.2,    1.5778,  34.6639,2,    135.6,2,  34.6579,4,   138.03,4,   150.14,2,    37.06,2,     0.00,2,    2.580,2,     -999,9,     -999,9,   2335.3,2,   2413.2,2,   7.5523,2,    25.00,     -999,9,     -999,9,     -999,9,     -999,9,   1.3554,2,  27.7508,2,   1.5778,2
49UP20210827_1,   P03,    43,  1,     10,     322,3,20210831,0247, 341, 24.2432, 144.8207, 5298,   3297.8,    1.5473,  34.6695,2,    140.2,2,  34.6669,4,   140.14,2,   150.47,2,    36.78,2,     0.00,2,    2.550,2,     -999,9,     -999,9,   2332.4,2,   2412.6,2,   7.5615,2,    25.00,     -999,9,     -999,9,     -999,9,     -999,9,   1.3005,2,  27.7592,2,   1.5475,2
49UP20210827_1,   P03,    43,  1,      9,     750,2,20210831,0247, 335, 24.2432, 144.8207, 5298,   3552.2,    1.5171,  34.6744,2,    145.1,2,  34.6740,2,   144.81,2,   149.35,2,    36.51,2,     0.00,2,    2.530,2,     -999,9,     -999,9,   2330.6,2,   2413.2,2,   7.5690,6,    25.00,     -999,9,     -999,9,     -999,9,     -999,9,   1.2452,2,  27.7670,2,   1.5173,2
49UP20210827_1,   P03,    43,  1,      8,     320,2,20210831,0247, 329, 24.2432, 144.8207, 5298,   3807.7,    1.4956,  34.6790,2,    149.8,2,  34.6786,2,   149.78,2,   148.56,2,    36.18,2,     0.00,2,    2.510,2,     -999,9,     -999,9,   2327.5,6,   2414.1,6,   7.5781,2,    25.00,     -999,9,     -999,9,     -999,9,     -999,9,   1.1975,2,  27.7740,2,   1.4957,2
49UP20210827_1,   P03,    43,  1,      7,     319,2,20210831,0247, 323, 24.2432, 144.8207, 5298,   4065.0,    1.4860,  34.6825,2,    153.8,2,  34.6820,2,   154.16,2,   146.72,2,    35.91,2,     0.00,2,    2.480,2,     -999,9,     -999,9,   2327.2,2,   2411.4,2,   7.5811,2,    25.00,     -999,9,     -999,9,     -999,9,     -999,9,   1.1604,2,  27.7794,2,   1.4862,2
49UP20210827_1,   P03,    43,  1,      6,     318,2,20210831,0247, 316, 24.2432, 144.8207, 5298,   4321.3,    1.4849,  34.6850,2,    157.4,2,  34.6815,4,   157.36,2,   144.97,2,    35.66,2,     0.00,2,    2.470,2,     -999,9,     -999,9,   2321.7,2,   2410.7,2,   7.5875,2,    25.00,     -999,9,     -999,9,     -999,9,     -999,9,   1.1308,2,  27.7834,2,   1.4850,2
49UP20210827_1,   P03,    43,  1,      5,     317,2,20210831,0247, 310, 24.2432, 144.8207, 5298,   4577.6,    1.4770,  34.6883,2,    162.3,2,  34.6889,2,   162.47,2,   142.59,2,    35.37,2,     0.00,2,    2.440,2,    0.004,2,    0.000,2,   2316.4,2,   2408.4,2,   7.5940,2,    25.00,    0.037,2,   -0.051,2,     -999,9,     -999,9,   1.0938,2,  27.7886,2,   1.4770,2
49UP20210827_1,   P03,    43,  1,      4,     316,2,20210831,0247, 304, 24.2432, 144.8207, 5298,   4835.1,    1.4887,  34.6901,2,    165.0,2,  34.6901,6,   165.14,2,   141.13,2,    35.13,2,     0.00,2,    2.430,2,    0.006,2,    0.000,2,   2313.1,2,   2408.5,2,   7.5963,2,    25.00,    0.029,2,   -0.032,2,     -999,9,     -999,9,   1.0747,2,  27.7913,2,   1.4888,2
49UP20210827_1,   P03,    43,  1,      3,     315,2,20210831,0247, 258, 24.2432, 144.8207, 5298,   5092.3,    1.5010,  34.6918,2,    168.1,2,  34.6915,2,   168.25,6,   139.18,6,    34.89,6,     0.00,6,    2.410,6,    0.007,2,    0.000,2,   2309.4,2,   2407.1,2,   7.5989,2,    25.00,    0.020,2,   -0.010,2,     -999,9,     -999,9,   1.0554,2,  27.7940,2,   1.5010,2
49UP20210827_1,   P03,    43,  1,      2,     314,2,20210831,0247, 251, 24.2432, 144.8207, 5298,   5349.5,    1.5115,  34.6938,2,    171.5,2,  34.6940,2,   171.68,2,   136.76,2,    34.66,2,     0.00,2,    2.390,2,    0.008,2,    0.000,2,   2306.7,2,   2405.3,2,   7.6047,6,    25.00,    0.013,2,   -0.012,2,     -999,9,     -999,9,   1.0336,2,  27.7971,2,   1.5116,2
49UP20210827_1,   P03,    43,  1,      1,     811,2,20210831,0247, 248, 24.2432, 144.8207, 5298,   5416.1,    1.5144,  34.6942,2,    172.6,2,  34.6945,2,   172.58,2,   136.40,2,    34.59,2,     0.00,2,    2.390,2,    0.000,2,    0.000,2,   2306.5,6,   2405.0,6,   7.6066,2,    25.00,    0.011,2,    0.008,2,     -999,9,     -999,9,   1.0280,2,  27.7978,2,   1.5143,2