BOTTLE,20230808CCHSIOADS
EXPOCODE,SECT_ID,STNNBR,CASTNO,SAMPNO,BTLNBR,BTLNBR_FLAG_W,DATE,TIME,BTL_TIME,LATITUDE,LONGITUDE,DEPTH,CTDPRS,CTDTMP,CTDSAL,CTDSAL_FLAG_W,CTDOXY,CTDOXY_FLAG_W,SALNTY,SALNTY_FLAG_W,OXYGEN,OXYGEN_FLAG_W,SILCAT,SILCAT_FLAG_W,NO2+NO3,NO2+NO3_FLAG_W,NITRIT,NITRIT_FLAG_W,PHSPHT,PHSPHT_FLAG_W,CFC-11,CFC-11_FLAG_W,CFC-12,CFC-12_FLAG_W,TCARBN,TCARBN_FLAG_W,ALKALI,ALKALI_FLAG_W,PH_TOT,PH_TOT_FLAG_W,PH_TMP,CFC113,CFC113_FLAG_W,SF6,SF6_FLAG_W,CHLORA,CHLORA_FLAG_W,PPHYTN,PPHYTN_FLAG_W,THETA,THETA_FLAG_W,SIG0,SIG0_FLAG_W,SBE35,SBE35_FLAG_W
,,,,,,,,,,,,METERS,DBAR,ITS-90,PSS-78,,UMOL/KG,,PSS78,,UMOL/KG,,UMOL/KG,,UMOL/KG,,UMOL/KG,,UMOL/KG,,PMOL/KG,,PMOL/KG,,UMOL/KG,,UMOL/KG,,,,DEG C,PMOL/KG,,FMOL/KG,,UG/KG,,UG/KG,,ITS-90,,KG/M^3,,ITS-90,
49UP20210719_2,   P03,    26,  1,      0,     BUC,2,20210809,0126, 248, 24.0083, 136.9820, 3988,      0.0,   28.3143,  34.4606,2,    200.2,2,  34.4596,2,   200.00,2,     1.12,2,     0.00,2,     0.00,2,    0.010,2,     -999,9,     -999,9,   1951.1,2,   2265.0,2,   8.0851,2,    25.00,     -999,9,     -999,9,     0.08,2,     0.03,2,  28.3136,2,  21.8864,2,     -999,9
49UP20210719_2,   P03,    26,  1,     36,     757,2,20210809,0126, 321, 24.0083, 136.9820, 3988,     10.2,   28.1533,  34.4700,2,    200.4,2,  34.4657,2,   199.97,2,     1.05,2,     0.00,2,     0.00,2,    0.000,2,    1.103,2,    0.823,2,   1955.6,2,   2263.3,2,   8.0819,2,    25.00,    0.076,2,    1.447,2,     0.07,2,     0.03,2,  28.1509,2,  21.9468,2,  28.1573,2
49UP20210719_2,   P03,    26,  1,     35,     756,2,20210809,0126, 319, 24.0083, 136.9820, 3988,     25.1,   28.1017,  34.4844,2,    200.4,2,  34.4841,6,   200.48,2,     1.01,2,     0.00,2,     0.00,2,    0.000,2,     -999,9,     -999,9,   1951.6,2,   2264.2,2,   8.0805,2,    25.00,     -999,9,     -999,9,     0.07,2,     0.03,2,  28.0958,2,  21.9757,2,  28.1017,2
49UP20210719_2,   P03,    26,  1,     34,     843,2,20210809,0126, 315, 24.0083, 136.9820, 3988,     49.6,   25.4685,  34.8368,2,    221.8,2,  34.8392,2,   220.37,2,     1.18,2,     0.00,2,     0.00,2,    0.000,2,    1.371,2,    0.946,2,   1979.2,2,   2286.6,2,   8.0697,2,    25.00,    0.082,2,    1.763,2,     0.11,2,     0.05,2,  25.4576,2,  23.0780,2,  25.4469,2
49UP20210719_2,   P03,    26,  1,     33,     842,2,20210809,0126, 313, 24.0083, 136.9820, 3988,     74.5,   22.8924,  34.9057,2,    225.7,2,  34.9069,2,   224.48,2,     1.36,2,     0.00,2,     0.00,2,    0.000,2,     -999,9,     -999,9,   1993.0,2,   2293.2,2,   8.0491,2,    25.00,     -999,9,     -999,9,     0.20,2,     0.12,2,  22.8772,2,  23.8974,2,  22.9027,2
49UP20210719_2,   P03,    26,  1,     32,     841,2,20210809,0126, 312, 24.0083, 136.9820, 3988,    100.1,   21.4424,  34.8709,2,    216.4,2,  34.8716,2,   215.64,2,     1.48,2,     0.00,2,     0.00,2,    0.010,2,    1.631,2,    1.051,2,   2009.2,2,   2290.3,2,   8.0192,2,    25.00,    0.066,2,    1.984,2,     0.24,2,     0.30,2,  21.4230,2,  24.2799,2,  21.4382,2
49UP20210719_2,   P03,    26,  1,     30,     839,2,20210809,0126, 310, 24.0083, 136.9820, 3988,    125.1,   20.1990,  34.8536,2,    205.7,2,  34.8535,2,   205.04,2,     1.98,2,     1.15,2,     0.03,2,    0.090,2,     -999,9,     -999,9,   2023.9,2,   2288.2,2,   7.9910,6,    25.00,     -999,9,     -999,9,     0.10,2,     0.32,2,  20.1757,2,  24.6037,2,  20.2007,2
49UP20210719_2,   P03,    26,  1,     29,     838,2,20210809,0126, 308, 24.0083, 136.9820, 3988,    151.6,   19.0462,  34.8079,2,    199.3,2,  34.8076,2,   199.03,2,     2.99,2,     3.12,2,     0.01,2,    0.210,2,     -999,9,     -999,9,   2040.0,6,   2286.1,6,   7.9629,2,    25.00,     -999,9,     -999,9,     0.01,2,     0.03,2,  19.0192,2,  24.8695,2,  19.0480,2
49UP20210719_2,   P03,    26,  1,     28,     755,2,20210809,0126, 306, 24.0083, 136.9820, 3988,    204.1,   18.0910,  34.7758,2,    209.5,2,  34.7752,2,   209.37,6,     3.13,6,     3.02,6,     0.01,6,    0.210,6,    1.892,2,    1.153,2,   2035.2,2,   2283.3,2,   7.9607,2,    25.00,    0.045,2,    1.913,2,     0.00,2,     0.02,2,  18.0559,2,  25.0866,2,  18.0922,2
49UP20210719_2,   P03,    26,  1,     26,     835,2,20210809,0126, 304, 24.0083, 136.9820, 3988,    252.6,   17.3539,  34.7538,2,    206.8,2,  34.7545,2,   206.36,2,     4.09,2,     4.50,2,     0.00,2,    0.300,2,     -999,9,     -999,9,   2045.4,2,   2282.5,2,   7.9391,2,    25.00,     -999,9,     -999,9,     -999,9,     -999,9,  17.3116,2,  25.2509,2,  17.3542,2
49UP20210719_2,   P03,    26,  1,     27,     754,3,20210809,0126, 304, 24.0083, 136.9820, 3988,    253.3,   17.3349,  34.7537,2,    206.3,2,  34.7541,2,   205.97,2,     4.13,2,     4.55,2,     0.00,2,    0.300,2,     -999,9,     -999,9,   2045.1,2,   2284.1,2,   7.9394,2,    25.00,     -999,9,     -999,9,     -999,9,     -999,9,  17.2925,2,  25.2554,2,  17.3346,2
49UP20210719_2,   P03,    26,  1,     25,     834,2,20210809,0126, 302, 24.0083, 136.9820, 3988,    285.0,   16.6988,  34.7121,2,    195.3,2,  34.7119,6,   195.33,2,     5.91,2,     6.50,2,     0.00,2,    0.440,2,    2.058,2,    1.216,2,   2061.3,2,   2281.9,2,   7.9083,2,    25.00,    0.017,2,    1.722,2,     -999,9,     -999,9,  16.6524,2,  25.3752,2,  16.6927,2
49UP20210719_2,   P03,    26,  1,     24,     753,2,20210809,0126, 259, 24.0083, 136.9820, 3988,    375.4,   14.4790,  34.5317,2,    192.6,2,  34.5337,2,   191.57,2,    10.82,2,    10.04,2,     0.00,2,    0.680,2,     -999,9,     -999,9,   2084.9,2,   2274.5,2,   7.8492,2,    25.00,     -999,9,     -999,9,     -999,9,     -999,9,  14.4234,2,  25.7356,2,  14.4822,2
49UP20210719_2,   P03,    26,  1,     23,     832,2,20210809,0126, 256, 24.0083, 136.9820, 3988,    474.7,   11.2358,  34.2810,2,    182.8,2,  34.2859,4,   182.34,2,    22.07,2,    16.25,2,     0.00,2,    1.140,2,    2.529,2,    1.289,2,   2131.6,2,   2271.5,2,   7.7484,2,    25.00,    0.064,2,    1.450,2,     -999,9,     -999,9,  11.1762,2,  26.1837,2,  11.2351,2
49UP20210719_2,   P03,    26,  1,     22,     831,2,20210809,0126, 253, 24.0083, 136.9820, 3988,    576.0,    8.5769,  34.1322,2,    153.7,2,  34.1328,2,   152.99,2,    39.71,2,    23.75,2,     0.00,2,    1.690,2,     -999,9,     -999,9,   2183.8,2,   2277.7,2,   7.6296,2,    25.00,     -999,9,     -999,9,     -999,9,     -999,9,   8.5155,2,  26.5144,2,   8.5764,2
49UP20210719_2,   P03,    26,  1,     21,     830,2,20210809,0126, 250, 24.0083, 136.9820, 3988,    676.0,    6.6368,  34.1041,2,    113.9,2,  34.1036,2,   113.79,2,    61.16,2,    30.86,2,     0.00,2,    2.210,2,     -999,9,     -999,9,   2236.1,2,   2294.5,2,   7.5177,2,    25.00,     -999,9,     -999,9,     -999,9,     -999,9,   6.5741,2,  26.7705,2,   6.6370,2
49UP20210719_2,   P03,    26,  1,     20,     829,2,20210809,0126, 247, 24.0083, 136.9820, 3988,    777.0,    5.4334,  34.1692,2,     79.2,2,  34.1691,2,    79.13,6,    82.07,6,    36.07,6,     0.00,6,    2.590,6,    0.913,2,    0.491,2,   2279.6,2,   2317.3,2,   7.4436,2,    25.00,    0.046,2,    0.326,2,     -999,9,     -999,9,   5.3677,2,  26.9736,2,   5.4335,2
49UP20210719_2,   P03,    26,  1,     19,     828,2,20210809,0126, 244, 24.0083, 136.9820, 3988,    876.7,    4.5457,  34.2526,2,     62.4,2,  34.2528,2,    62.40,2,   101.62,2,    38.84,2,     0.00,2,    2.780,2,     -999,9,     -999,9,   2312.8,2,   2337.0,2,   7.4059,2,    25.00,     -999,9,     -999,9,     -999,9,     -999,9,   4.4769,2,  27.1412,2,   4.5458,2
49UP20210719_2,   P03,    26,  1,     18,     752,2,20210809,0126, 241, 24.0083, 136.9820, 3988,    981.6,    3.9878,  34.3254,2,     55.8,2,  34.3241,2,    55.85,2,   114.26,2,    40.13,2,     0.00,2,    2.870,2,    0.314,2,    0.170,2,   2328.6,2,   2353.2,2,   7.3986,2,    25.00,    0.033,2,    0.099,2,     -999,9,     -999,9,   3.9140,2,  27.2584,2,   3.9833,2
49UP20210719_2,   P03,    26,  1,     17,     751,2,20210809,0126, 236, 24.0083, 136.9820, 3988,   1143.5,    3.3951,  34.4123,2,     57.3,2,  34.4114,6,    56.80,2,   127.71,2,    40.84,2,     0.00,2,    2.910,2,     -999,9,     -999,9,   2347.2,2,   2372.3,2,   7.4021,2,    25.00,     -999,9,     -999,9,     -999,9,     -999,9,   3.3128,2,  27.3869,2,   3.3954,2
49UP20210719_2,   P03,    26,  1,     16,     328,2,20210809,0126, 231, 24.0083, 136.9820, 3988,   1339.5,    2.9162,  34.4940,2,     71.8,2,  34.4933,2,    71.73,2,   135.98,2,    40.32,2,     0.00,2,    2.860,2,    0.096,2,    0.031,2,   2348.9,2,   2385.9,2,   7.4363,2,    25.00,    0.037,2,   -0.012,2,     -999,9,     -999,9,   2.8226,2,  27.4972,2,   2.9158,2
49UP20210719_2,   P03,    26,  1,     15,     822,2,20210809,0126, 226, 24.0083, 136.9820, 3988,   1551.5,    2.5903,  34.5464,2,     87.9,2,  34.5455,2,    87.35,2,   139.86,2,    39.46,2,     0.00,2,    2.780,2,     -999,9,     -999,9,   2351.3,2,   2395.4,2,   7.4703,6,    25.00,     -999,9,     -999,9,     -999,9,     -999,9,   2.4831,2,  27.5686,2,   2.5902,2
49UP20210719_2,   P03,    26,  1,     14,     326,2,20210809,0126, 220, 24.0083, 136.9820, 3988,   1746.7,    2.3226,  34.5785,2,     99.6,2,  34.5768,4,    99.56,2,   142.23,2,    38.83,2,     0.00,2,    2.730,2,     -999,9,     -999,9,   2345.7,6,   2401.6,6,   7.4931,2,    25.00,     -999,9,     -999,9,     -999,9,     -999,9,   2.2028,2,  27.6177,2,   2.3226,2
49UP20210719_2,   P03,    26,  1,     13,     325,2,20210809,0126, 216, 24.0083, 136.9820, 3988,   1949.2,    2.1098,  34.6048,2,    110.3,2,  34.6045,2,   110.19,2,   143.42,2,    38.30,2,     0.00,2,    2.690,2,    0.013,2,    0.011,2,   2339.1,2,   2405.5,2,   7.5113,2,    25.00,    0.040,2,   -0.030,2,     -999,9,     -999,9,   1.9761,2,  27.6569,2,   2.1099,2
49UP20210719_2,   P03,    26,  1,     12,     324,2,20210809,0126, 211, 24.0083, 136.9820, 3988,   2153.9,    1.9448,  34.6235,2,    118.9,2,  34.6228,2,   118.72,2,   143.86,2,    37.84,2,     0.00,2,    2.650,2,     -999,9,     -999,9,   2339.3,2,   2409.3,2,   7.5263,2,    25.00,     -999,9,     -999,9,     -999,9,     -999,9,   1.7962,2,  27.6859,2,   1.9450,2
49UP20210719_2,   P03,    26,  1,     11,     323,2,20210809,0126, 206, 24.0083, 136.9820, 3988,   2359.3,    1.8502,  34.6344,2,    124.7,2,  34.6320,4,   124.07,6,   144.41,6,    37.51,6,     0.00,6,    2.620,6,     -999,9,     -999,9,   2336.7,2,   2411.7,2,   7.5359,2,    25.00,     -999,9,     -999,9,     -999,9,     -999,9,   1.6853,2,  27.7030,2,   1.8501,2
49UP20210719_2,   P03,    26,  1,     10,     322,2,20210809,0126, 202, 24.0083, 136.9820, 3988,   2559.3,    1.7614,  34.6450,2,    130.6,2,  34.6413,4,   130.31,2,   143.99,2,    37.13,2,     0.00,2,    2.590,2,     -999,9,     -999,9,   2336.6,2,   2411.4,2,   7.5472,2,    25.00,     -999,9,     -999,9,     -999,9,     -999,9,   1.5803,2,  27.7194,2,   1.7614,2
49UP20210719_2,   P03,    26,  1,      9,     750,2,20210809,0126, 202, 24.0083, 136.9820, 3988,   2560.0,    1.7615,  34.6450,2,    130.6,2,  34.6449,2,   130.38,2,   144.69,2,    37.20,2,     0.00,2,    2.600,2,     -999,9,     -999,9,   2334.4,2,   2412.1,2,   7.5474,2,    25.00,     -999,9,     -999,9,     -999,9,     -999,9,   1.5803,2,  27.7194,2,   1.7615,2
49UP20210719_2,   P03,    26,  1,      8,     320,2,20210809,0126, 157, 24.0083, 136.9820, 3988,   2765.5,    1.7238,  34.6507,2,    134.0,2,  34.6511,6,   134.12,2,   144.31,2,    36.98,2,     0.00,2,    2.580,2,     -999,9,     -999,9,   2332.7,2,   2411.5,2,   7.5532,6,    25.00,     -999,9,     -999,9,     -999,9,     -999,9,   1.5245,2,  27.7281,2,   1.7239,2
49UP20210719_2,   P03,    26,  1,      7,     319,2,20210809,0126, 152, 24.0083, 136.9820, 3988,   2971.5,    1.6808,  34.6567,2,    137.7,2,  34.6567,2,   137.39,2,   144.16,2,    36.78,2,     0.00,2,    2.560,2,     -999,9,     -999,9,   2332.6,6,   2411.9,6,   7.5618,2,    25.00,     -999,9,     -999,9,     -999,9,     -999,9,   1.4628,2,  27.7374,2,   1.6808,2
49UP20210719_2,   P03,    26,  1,      6,     318,3,20210809,0126, 147, 24.0083, 136.9820, 3988,   3216.9,    1.6240,  34.6649,2,    142.9,2,  34.6641,2,   143.06,6,   143.76,6,    36.43,6,     0.00,6,    2.530,6,    0.002,2,    0.009,2,   2330.2,2,   2412.9,2,   7.5668,2,    25.00,    0.043,2,   -0.045,2,     -999,9,     -999,9,   1.3834,2,  27.7496,2,   1.6242,2
49UP20210719_2,   P03,    26,  1,      4,     316,2,20210809,0126, 141, 24.0083, 136.9820, 3988,   3468.8,    1.5775,  34.6715,2,    147.9,2,  34.6718,2,   147.61,2,   143.00,2,    36.09,2,     0.00,2,    2.510,2,     -999,9,     -999,9,   2326.7,2,   2413.7,2,   7.5743,2,    25.00,     -999,9,     -999,9,     -999,9,     -999,9,   1.3127,2,  27.7600,2,   1.5776,2
49UP20210719_2,   P03,    26,  1,      5,     317,2,20210809,0126, 141, 24.0083, 136.9820, 3988,   3469.5,    1.5779,  34.6713,2,    147.9,2,  34.6716,2,   147.46,2,   142.87,2,    36.10,2,     0.00,2,    2.510,2,    0.004,2,    0.011,2,   2327.4,2,   2412.6,2,   7.5753,2,    25.00,    0.045,2,   -0.042,2,     -999,9,     -999,9,   1.3130,2,  27.7598,2,   1.5779,2
49UP20210719_2,   P03,    26,  1,      3,     315,2,20210809,0126, 135, 24.0083, 136.9820, 3988,   3725.9,    1.5330,  34.6782,2,    153.2,2,  34.6782,2,   153.03,2,   142.20,2,    35.80,2,     0.00,2,    2.480,2,    0.000,2,    0.009,2,   2328.9,2,   2413.2,2,   7.5808,2,    25.00,    0.043,2,   -0.028,2,     -999,9,     -999,9,   1.2426,2,  27.7703,2,   1.5331,2
49UP20210719_2,   P03,    26,  1,      2,     314,2,20210809,0126, 130, 24.0083, 136.9820, 3988,   3981.5,    1.5323,  34.6808,2,    155.5,2,  34.6807,2,   155.30,2,   141.69,2,    35.65,2,     0.00,2,    2.470,2,    0.004,2,    0.011,2,   2321.1,2,   2411.9,2,   7.5846,2,    25.00,    0.017,2,   -0.007,2,     -999,9,     -999,9,   1.2146,2,  27.7743,2,   1.5322,2
49UP20210719_2,   P03,    26,  1,      1,     811,2,20210809,0126, 126, 24.0083, 136.9820, 3988,   4111.2,    1.5468,  34.6808,2,    155.6,2,  34.6808,2,   155.46,2,   141.87,2,    35.67,2,     0.00,2,    2.470,2,    0.002,2,    0.010,2,   2327.0,2,   2412.4,2,   7.5858,2,    25.00,    0.000,2,    0.010,2,     -999,9,     -999,9,   1.2144,2,  27.7743,2,   1.5468,2