BOTTLE,20230808CCHSIOADS
EXPOCODE,SECT_ID,STNNBR,CASTNO,SAMPNO,BTLNBR,BTLNBR_FLAG_W,DATE,TIME,BTL_TIME,LATITUDE,LONGITUDE,DEPTH,CTDPRS,CTDTMP,CTDSAL,CTDSAL_FLAG_W,CTDOXY,CTDOXY_FLAG_W,SALNTY,SALNTY_FLAG_W,OXYGEN,OXYGEN_FLAG_W,SILCAT,SILCAT_FLAG_W,NO2+NO3,NO2+NO3_FLAG_W,NITRIT,NITRIT_FLAG_W,PHSPHT,PHSPHT_FLAG_W,CFC-11,CFC-11_FLAG_W,CFC-12,CFC-12_FLAG_W,TCARBN,TCARBN_FLAG_W,ALKALI,ALKALI_FLAG_W,PH_TOT,PH_TOT_FLAG_W,PH_TMP,CFC113,CFC113_FLAG_W,SF6,SF6_FLAG_W,CHLORA,CHLORA_FLAG_W,PPHYTN,PPHYTN_FLAG_W,THETA,THETA_FLAG_W,SIG0,SIG0_FLAG_W,SBE35,SBE35_FLAG_W
,,,,,,,,,,,,METERS,DBAR,ITS-90,PSS-78,,UMOL/KG,,PSS78,,UMOL/KG,,UMOL/KG,,UMOL/KG,,UMOL/KG,,UMOL/KG,,PMOL/KG,,PMOL/KG,,UMOL/KG,,UMOL/KG,,,,DEG C,PMOL/KG,,FMOL/KG,,UG/KG,,UG/KG,,ITS-90,,KG/M^3,,ITS-90,
49UP20210719_2,   P03,    35,  1,      0,     BUC,2,20210811,0524, 620, 24.2468, 141.7610, 2475,      0.0,   28.4047,  34.4842,2,    200.2,2,  34.4935,2,   201.11,2,     1.14,2,     0.00,2,     0.00,2,    0.030,2,     -999,9,     -999,9,   1955.5,2,   2261.9,2,   8.0693,2,    25.00,     -999,9,     -999,9,     0.05,2,     0.02,2,  28.4042,2,  21.8743,2,     -999,9
49UP20210719_2,   P03,    35,  1,     36,     757,2,20210811,0524, 646, 24.2468, 141.7610, 2475,     10.6,   27.8305,  34.4799,2,    202.2,2,  34.4800,2,   201.67,2,     1.05,2,     0.00,2,     0.00,2,    0.000,2,    1.114,2,    0.833,2,   1958.4,2,   2261.0,2,   8.0679,2,    25.00,    0.081,2,    1.460,2,     0.05,2,     0.02,2,  27.8280,2,  22.0596,2,  27.8367,2
49UP20210719_2,   P03,    35,  1,     35,     756,2,20210811,0524, 644, 24.2468, 141.7610, 2475,     25.4,   26.7800,  34.6417,2,    210.0,2,  34.6369,2,   209.55,2,     1.17,2,     0.00,2,     0.00,2,    0.000,2,     -999,9,     -999,9,   1965.7,2,   2270.2,2,   8.0665,2,    25.00,     -999,9,     -999,9,     0.05,2,     0.02,2,  26.7742,2,  22.5197,2,  26.7632,2
49UP20210719_2,   P03,    35,  1,     34,     843,2,20210811,0524, 640, 24.2468, 141.7610, 2475,     50.6,   24.1175,  34.8516,2,    222.4,2,  34.8517,2,   221.03,2,     1.24,2,     0.00,2,     0.00,2,    0.000,2,    1.414,2,    0.962,2,   1993.5,2,   2286.6,2,   8.0575,2,    25.00,    0.085,2,    1.671,2,     0.08,2,     0.03,2,  24.1068,2,  23.4973,2,  24.1200,2
49UP20210719_2,   P03,    35,  1,     30,     839,2,20210811,0524, 638, 24.2468, 141.7610, 2475,     74.7,   22.5300,  34.8759,2,    214.4,2,  34.8750,2,   213.83,2,     1.42,2,     0.00,2,     0.00,2,    0.010,2,     -999,9,     -999,9,   2004.1,2,   2288.6,2,   8.0331,2,    25.00,     -999,9,     -999,9,     0.14,2,     0.11,2,  22.5150,2,  23.9783,2,  22.5284,2
49UP20210719_2,   P03,    35,  1,     29,     838,2,20210811,0524, 637, 24.2468, 141.7610, 2475,    100.1,   21.4494,  34.8831,2,    207.8,2,  34.8828,2,   207.66,2,     1.65,2,     0.00,2,     0.00,2,    0.030,2,    1.600,2,    1.046,2,   2015.3,2,   2289.6,2,   8.0083,6,    25.00,    0.065,2,    1.722,2,     0.22,2,     0.43,2,  21.4300,2,  24.2873,2,  21.4442,2
49UP20210719_2,   P03,    35,  1,     28,     755,2,20210811,0524, 635, 24.2468, 141.7610, 2475,    125.2,   20.5638,  34.8685,2,    200.5,2,  34.8688,2,   200.53,2,     1.92,2,     0.95,2,     0.04,2,    0.090,2,     -999,9,     -999,9,   2026.3,6,   2287.8,6,   7.9875,2,    25.00,     -999,9,     -999,9,     0.19,2,     0.48,2,  20.5403,2,  24.5179,2,  20.5367,2
49UP20210719_2,   P03,    35,  1,     27,     754,3,20210811,0524, 633, 24.2468, 141.7610, 2475,    151.1,   19.4329,  34.8415,2,    196.0,2,  34.8409,6,   196.15,2,     2.59,2,     2.62,2,     0.01,2,    0.190,2,    1.770,2,    1.116,2,   2039.7,2,   2285.2,2,   7.9602,2,    25.00,    0.035,2,    1.740,2,     0.04,2,     0.15,2,  19.4055,2,  24.7959,2,  19.4398,2
49UP20210719_2,   P03,    35,  1,     26,     835,2,20210811,0524, 631, 24.2468, 141.7610, 2475,    204.7,   18.0918,  34.7939,2,    195.6,2,  34.7937,2,   195.82,2,     3.59,2,     4.26,2,     0.01,2,    0.290,2,    1.900,2,    1.171,2,   2051.1,2,   2283.1,2,   7.9349,2,    25.00,    0.014,2,    1.789,2,     0.00,2,     0.03,2,  18.0565,2,  25.1003,2,  18.0915,2
49UP20210719_2,   P03,    35,  1,     25,     834,2,20210811,0524, 629, 24.2468, 141.7610, 2475,    251.9,   17.3412,  34.7542,2,    196.6,2,  34.7526,2,   196.95,2,     4.51,2,     5.30,2,     0.00,2,    0.360,2,     -999,9,     -999,9,   2057.2,2,   2280.6,2,   7.9211,2,    25.00,     -999,9,     -999,9,     -999,9,     -999,9,  17.2991,2,  25.2542,2,  17.3376,2
49UP20210719_2,   P03,    35,  1,     24,     753,2,20210811,0524, 626, 24.2468, 141.7610, 2475,    334.4,   15.3607,  34.6006,2,    191.0,2,  34.6008,2,   191.37,2,     8.56,2,     8.79,2,     0.00,2,    0.600,2,    2.191,2,    1.261,2,   2076.3,2,   2273.1,2,   7.8658,2,    25.00,    0.016,2,    1.608,2,     -999,9,     -999,9,  15.3092,2,  25.5958,2,  15.3608,2
49UP20210719_2,   P03,    35,  1,     23,     832,2,20210811,0524, 623, 24.2468, 141.7610, 2475,    433.4,   12.8360,  34.3962,2,    187.6,2,  34.3956,2,   187.57,6,    15.62,6,    13.15,6,     0.00,6,    0.920,6,     -999,9,     -999,9,   2104.8,2,   2269.5,2,   7.8003,2,    25.00,     -999,9,     -999,9,     -999,9,     -999,9,  12.7768,2,  25.9695,2,  12.8359,2
49UP20210719_2,   P03,    35,  1,     21,     830,2,20210811,0524, 619, 24.2468, 141.7610, 2475,    536.6,    9.1764,  34.1713,2,    146.2,2,  34.1717,2,   146.14,2,    34.64,2,    23.24,2,     0.00,2,    1.670,2,     -999,9,     -999,9,   2176.8,2,   2286.5,3,   7.6299,2,    25.00,     -999,9,     -999,9,     -999,9,     -999,9,   9.1169,2,  26.4505,2,   9.1631,2
49UP20210719_2,   P03,    35,  1,     22,     831,2,20210811,0524, 619, 24.2468, 141.7610, 2475,    537.3,    9.1269,  34.1699,2,    146.3,2,  34.1706,2,   145.98,2,    34.89,2,    23.31,2,     0.00,2,    1.670,2,    2.265,2,    1.111,2,   2175.5,2,   2274.1,2,   7.6309,2,    25.00,    0.039,2,    0.973,2,     -999,9,     -999,9,   9.0675,2,  26.4573,2,   9.1294,2
49UP20210719_2,   P03,    35,  1,     20,     829,2,20210811,0524, 616, 24.2468, 141.7610, 2475,    635.1,    7.3268,  34.1028,2,    129.3,2,  34.1032,6,   128.38,2,    52.25,2,    28.27,2,     0.00,2,    2.030,2,     -999,9,     -999,9,   2213.2,2,   2285.6,2,   7.5564,2,    25.00,     -999,9,     -999,9,     -999,9,     -999,9,   7.2648,2,  26.6752,2,   7.3263,2
49UP20210719_2,   P03,    35,  1,     19,     828,2,20210811,0524, 612, 24.2468, 141.7610, 2475,    736.7,    5.6783,  34.1073,2,     94.8,2,  34.1071,2,    94.41,2,    75.12,2,    34.26,2,     0.00,2,    2.460,2,     -999,9,     -999,9,   2261.6,2,   2306.2,2,   7.4621,2,    25.00,     -999,9,     -999,9,     -999,9,     -999,9,   5.6150,2,  26.8949,2,   5.6778,2
49UP20210719_2,   P03,    35,  1,     18,     752,2,20210811,0524, 609, 24.2468, 141.7610, 2475,    837.5,    4.6561,  34.1923,2,     62.6,2,  34.1919,2,    62.93,2,    96.01,2,    38.67,2,     0.00,2,    2.780,2,    0.636,2,    0.348,2,   2303.4,2,   2324.6,2,   7.3947,6,    25.00,    0.020,2,    0.179,2,     -999,9,     -999,9,   4.5900,2,  27.0809,2,   4.6570,2
49UP20210719_2,   P03,    35,  1,     17,     751,2,20210811,0524, 606, 24.2468, 141.7610, 2475,    937.6,    3.9780,  34.2951,2,     47.3,2,  34.2949,2,    47.54,2,   113.38,2,    40.84,2,     0.00,2,    2.930,2,     -999,9,     -999,9,   2337.3,6,   2347.5,6,   7.3734,2,    25.00,     -999,9,     -999,9,     -999,9,     -999,9,   3.9080,2,  27.2348,2,   3.9779,2
49UP20210719_2,   P03,    35,  1,     16,     328,2,20210811,0524, 602, 24.2468, 141.7610, 2475,   1081.1,    3.3937,  34.3877,2,     44.9,2,  34.3873,2,    45.03,6,   128.53,6,    41.76,6,     0.00,6,    2.980,6,    0.153,2,    0.060,2,   2354.6,2,   2367.2,2,   7.3763,2,    25.00,    0.004,2,    0.008,2,     -999,9,     -999,9,   3.3165,2,  27.3668,2,   3.3936,2
49UP20210719_2,   P03,    35,  1,     12,     324,2,20210811,0524, 557, 24.2468, 141.7610, 2475,   1283.8,    2.8407,  34.4660,2,     53.2,2,  34.4660,2,    52.64,2,   141.90,2,    41.72,2,     0.00,2,    2.960,2,     -999,9,     -999,9,   2362.9,2,   2383.2,2,   7.3919,2,    25.00,     -999,9,     -999,9,     -999,9,     -999,9,   2.7524,2,  27.4810,2,   2.8408,2
49UP20210719_2,   P03,    35,  1,     11,     323,2,20210811,0524, 557, 24.2468, 141.7610, 2475,   1284.0,    2.8406,  34.4659,2,     53.2,2,  34.4659,2,    52.88,2,   141.38,2,    41.61,2,     0.00,2,    2.960,2,     -999,9,     -999,9,   2363.8,2,   2383.7,2,   7.3971,2,    25.00,     -999,9,     -999,9,     -999,9,     -999,9,   2.7523,2,  27.4809,2,   2.8408,2
49UP20210719_2,   P03,    35,  1,     10,     322,3,20210811,0524, 552, 24.2468, 141.7610, 2475,   1485.6,    2.5107,  34.5159,2,     66.1,2,  34.5139,4,    66.23,2,   145.94,2,    40.91,2,     0.00,2,    2.900,2,    0.090,2,    0.020,2,   2363.1,2,   2390.7,2,   7.4093,3,    25.00,    0.003,2,    0.040,2,     -999,9,     -999,9,   2.4098,2,  27.5504,2,   2.5108,2
49UP20210719_2,   P03,    35,  1,      9,     750,2,20210811,0524, 546, 24.2468, 141.7610, 2475,   1687.3,    2.1951,  34.5631,2,     79.0,2,  34.5636,2,    78.89,2,   152.33,2,    40.43,2,     0.00,2,    2.850,2,    0.017,2,    0.001,2,   2361.9,2,   2402.3,2,   7.4461,6,    25.00,    0.000,2,    0.024,2,     -999,9,     -999,9,   2.0818,2,  27.6151,2,   2.1949,2
49UP20210719_2,   P03,    35,  1,      8,     320,2,20210811,0524, 541, 24.2468, 141.7610, 2475,   1891.1,    2.0144,  34.5939,2,     94.8,2,  34.5940,2,    94.68,2,   151.68,2,    39.42,2,     0.00,2,    2.780,2,    0.004,2,    0.000,2,   2354.6,2,   2405.0,6,   7.4757,2,    25.00,    0.000,2,    0.014,2,     -999,9,     -999,9,   1.8869,2,  27.6552,2,   2.0145,2
49UP20210719_2,   P03,    35,  1,      7,     319,2,20210811,0524, 536, 24.2468, 141.7610, 2475,   2093.7,    1.8687,  34.6162,2,    108.0,2,  34.6170,6,   107.86,2,   150.59,2,    38.64,2,     0.00,2,    2.710,2,    0.000,2,    0.001,2,   2349.1,2,   2408.1,2,   7.5010,2,    25.00,    0.000,2,   -0.010,2,     -999,9,     -999,9,   1.7265,2,  27.6853,2,   1.8686,2
49UP20210719_2,   P03,    35,  1,      3,     315,2,20210811,0524, 530, 24.2468, 141.7610, 2475,   2297.2,    1.7472,  34.6336,2,    118.2,2,  34.6345,2,   118.13,6,   150.43,6,    38.05,6,     0.00,6,    2.660,6,    0.000,2,    0.004,2,   2343.8,2,   2410.0,2,   7.5193,2,    25.00,    0.000,2,   -0.002,2,     -999,9,     -999,9,   1.5895,2,  27.7096,2,   1.7478,2
49UP20210719_2,   P03,    35,  1,      1,     811,2,20210811,0524, 525, 24.2468, 141.7610, 2475,   2512.6,    1.6866,  34.6434,2,    124.6,2,  34.6439,2,   124.43,2,   149.95,2,    37.67,2,     0.00,2,    2.630,2,     -999,9,     -999,9,   2346.7,3,   2409.9,2,   7.5315,2,    25.00,     -999,9,     -999,9,     -999,9,     -999,9,   1.5111,2,  27.7232,2,   1.6865,2
49UP20210719_2,   P03,    35,  1,      2,     314,2,20210811,0524, 525, 24.2468, 141.7610, 2475,   2513.6,    1.6874,  34.6433,2,    124.6,2,  34.6437,2,   124.45,2,   149.50,2,    37.65,2,     0.00,2,    2.630,2,    0.000,2,    0.007,2,   2338.6,2,   2409.8,2,   7.5296,2,    25.00,    0.000,2,    0.009,2,     -999,9,     -999,9,   1.5117,2,  27.7231,2,   1.6870,2