BOTTLE,20230808CCHSIOADS
EXPOCODE,SECT_ID,STNNBR,CASTNO,SAMPNO,BTLNBR,BTLNBR_FLAG_W,DATE,TIME,BTL_TIME,LATITUDE,LONGITUDE,DEPTH,CTDPRS,CTDTMP,CTDSAL,CTDSAL_FLAG_W,CTDOXY,CTDOXY_FLAG_W,SALNTY,SALNTY_FLAG_W,OXYGEN,OXYGEN_FLAG_W,SILCAT,SILCAT_FLAG_W,NO2+NO3,NO2+NO3_FLAG_W,NITRIT,NITRIT_FLAG_W,PHSPHT,PHSPHT_FLAG_W,CFC-11,CFC-11_FLAG_W,CFC-12,CFC-12_FLAG_W,TCARBN,TCARBN_FLAG_W,ALKALI,ALKALI_FLAG_W,PH_TOT,PH_TOT_FLAG_W,PH_TMP,CFC113,CFC113_FLAG_W,SF6,SF6_FLAG_W,CHLORA,CHLORA_FLAG_W,PPHYTN,PPHYTN_FLAG_W,THETA,THETA_FLAG_W,SIG0,SIG0_FLAG_W,SBE35,SBE35_FLAG_W
,,,,,,,,,,,,METERS,DBAR,ITS-90,PSS-78,,UMOL/KG,,PSS78,,UMOL/KG,,UMOL/KG,,UMOL/KG,,UMOL/KG,,UMOL/KG,,PMOL/KG,,PMOL/KG,,UMOL/KG,,UMOL/KG,,,,DEG C,PMOL/KG,,FMOL/KG,,UG/KG,,UG/KG,,ITS-90,,KG/M^3,,ITS-90,
49UP20210719_2,   P03,    15,  1,      0,     BUC,2,20210803,1450,1651, 23.7573, 131.5350, 4575,      0.0,   28.3086,  34.4321,2,    197.9,2,     -999,9,   197.13,2,     1.20,2,     0.06,2,     0.00,2,    0.010,2,     -999,9,     -999,9,     -999,9,     -999,9,     -999,9,     -999,     -999,9,     -999,9,     -999,9,     -999,9,  28.3080,2,  21.8669,2,     -999,9
49UP20210719_2,   P03,    15,  1,     36,     757,2,20210803,1450,1721, 23.7573, 131.5350, 4575,     10.6,   28.3047,  34.4330,2,    197.7,2,     -999,9,   197.72,2,     1.18,2,     0.07,2,     0.00,2,    0.000,2,     -999,9,     -999,9,     -999,9,     -999,9,     -999,9,     -999,     -999,9,     -999,9,     -999,9,     -999,9,  28.3022,2,  21.8694,2,  28.3046,2
49UP20210719_2,   P03,    15,  1,     35,     756,2,20210803,1450,1719, 23.7573, 131.5350, 4575,     26.4,   27.6730,  34.4336,2,    201.0,2,     -999,9,   200.94,2,     1.21,2,     0.06,2,     0.00,2,    0.000,2,     -999,9,     -999,9,     -999,9,     -999,9,     -999,9,     -999,     -999,9,     -999,9,     -999,9,     -999,9,  27.6669,2,  22.0770,2,  27.6818,2
49UP20210719_2,   P03,    15,  1,     34,     843,2,20210803,1450,1715, 23.7573, 131.5350, 4575,     50.2,   24.1933,  34.7957,2,    220.4,2,     -999,9,   219.10,2,     1.30,2,     0.02,2,     0.00,2,    0.000,2,     -999,9,     -999,9,     -999,9,     -999,9,     -999,9,     -999,     -999,9,     -999,9,     -999,9,     -999,9,  24.1827,2,  23.4325,2,  24.2118,2
49UP20210719_2,   P03,    15,  1,     33,     842,2,20210803,1450,1713, 23.7573, 131.5350, 4575,     76.0,   22.2502,  34.8469,2,    218.9,2,     -999,9,   218.22,2,     1.61,2,     0.05,2,     0.00,2,    0.020,2,     -999,9,     -999,9,     -999,9,     -999,9,     -999,9,     -999,     -999,9,     -999,9,     -999,9,     -999,9,  22.2350,2,  24.0355,2,  22.2574,2
49UP20210719_2,   P03,    15,  1,     32,     841,2,20210803,1450,1711, 23.7573, 131.5350, 4575,    100.1,   21.0599,  34.8327,2,    210.3,2,     -999,9,   209.88,2,     1.80,2,     0.35,2,     0.05,2,    0.040,2,     -999,9,     -999,9,     -999,9,     -999,9,     -999,9,     -999,     -999,9,     -999,9,     -999,9,     -999,9,  21.0407,2,  24.3555,2,  21.0584,2
49UP20210719_2,   P03,    15,  1,     31,     840,2,20210803,1450,1709, 23.7573, 131.5350, 4575,    125.3,   20.4518,  34.8305,2,    203.6,2,     -999,9,   203.49,2,     2.09,2,     1.39,2,     0.03,2,    0.100,2,     -999,9,     -999,9,     -999,9,     -999,9,     -999,9,     -999,     -999,9,     -999,9,     -999,9,     -999,9,  20.4283,2,  24.5188,2,  20.4580,2
49UP20210719_2,   P03,    15,  1,     30,     839,2,20210803,1450,1708, 23.7573, 131.5350, 4575,    151.7,   19.6466,  34.8282,2,    196.4,2,     -999,9,   196.66,2,     2.72,2,     2.78,2,     0.01,2,    0.190,2,     -999,9,     -999,9,     -999,9,     -999,9,     -999,9,     -999,     -999,9,     -999,9,     -999,9,     -999,9,  19.6189,2,  24.7304,2,  19.6517,2
49UP20210719_2,   P03,    15,  1,     29,     838,2,20210803,1450,1705, 23.7573, 131.5350, 4575,    203.9,   18.0495,  34.7863,2,    196.4,2,     -999,9,   196.67,2,     3.95,2,     4.53,2,     0.00,2,    0.300,2,     -999,9,     -999,9,     -999,9,     -999,9,     -999,9,     -999,     -999,9,     -999,9,     -999,9,     -999,9,  18.0144,2,  25.1048,2,  18.0431,2
49UP20210719_2,   P03,    15,  1,     28,     755,2,20210803,1450,1703, 23.7573, 131.5350, 4575,    252.6,   16.8228,  34.7247,2,    194.2,2,     -999,9,   194.34,2,     6.02,2,     6.56,2,     0.00,2,    0.420,2,     -999,9,     -999,9,     -999,9,     -999,9,     -999,9,     -999,     -999,9,     -999,9,     -999,9,     -999,9,  16.7814,2,  25.3546,2,  16.8229,2
49UP20210719_2,   P03,    15,  1,     27,     754,2,20210803,1450,1700, 23.7573, 131.5350, 4575,    333.0,   15.1351,  34.5894,2,    189.6,2,     -999,9,   189.69,2,     9.89,2,     9.53,2,     0.00,2,    0.640,2,     -999,9,     -999,9,     -999,9,     -999,9,     -999,9,     -999,     -999,9,     -999,9,     -999,9,     -999,9,  15.0843,2,  25.6369,2,  15.1359,2
49UP20210719_2,   P03,    15,  1,     26,     835,2,20210803,1450,1656, 23.7573, 131.5350, 4575,    433.0,   12.2499,  34.3624,2,    179.5,2,     -999,9,   179.55,2,    19.26,2,    15.10,2,     0.00,2,    1.050,2,     -999,9,     -999,9,     -999,9,     -999,9,     -999,9,     -999,     -999,9,     -999,9,     -999,9,     -999,9,  12.1924,2,  26.0571,2,  12.2519,2
49UP20210719_2,   P03,    15,  1,     25,     834,2,20210803,1450,1653, 23.7573, 131.5350, 4575,    534.3,    8.7792,  34.1675,2,    149.6,2,     -999,9,   149.33,2,    40.98,2,    23.94,2,     0.00,2,    1.690,2,     -999,9,     -999,9,     -999,9,     -999,9,     -999,9,     -999,     -999,9,     -999,9,     -999,9,     -999,9,   8.7216,2,  26.5101,2,   8.7793,2
49UP20210719_2,   P03,    15,  1,     24,     753,2,20210803,1450,1649, 23.7573, 131.5350, 4575,    634.4,    6.2814,  34.1302,2,    104.4,2,     -999,9,   103.76,2,    68.92,2,    32.59,2,     0.00,2,    2.330,2,     -999,9,     -999,9,     -999,9,     -999,9,     -999,9,     -999,     -999,9,     -999,9,     -999,9,     -999,9,   6.2244,2,  26.8368,2,   6.2824,2
49UP20210719_2,   P03,    15,  1,     23,     832,2,20210803,1450,1646, 23.7573, 131.5350, 4575,    735.3,    5.2159,  34.1900,2,     76.8,2,     -999,9,    76.70,2,    87.26,2,    36.82,2,     0.00,2,    2.620,2,     -999,9,     -999,9,     -999,9,     -999,9,     -999,9,     -999,     -999,9,     -999,9,     -999,9,     -999,9,   5.1552,2,  27.0152,2,   5.2157,2
49UP20210719_2,   P03,    15,  1,     22,     831,2,20210803,1450,1642, 23.7573, 131.5350, 4575,    837.8,    4.5405,  34.2585,2,     62.7,2,     -999,9,    62.18,6,   101.84,6,    39.09,6,     0.00,6,    2.790,6,     -999,9,     -999,9,     -999,9,     -999,9,     -999,9,     -999,     -999,9,     -999,9,     -999,9,     -999,9,   4.4749,2,  27.1461,2,   4.5400,2
49UP20210719_2,   P03,    15,  1,     21,     830,2,20210803,1450,1639, 23.7573, 131.5350, 4575,    937.7,    3.8323,  34.3477,2,     56.3,2,     -999,9,    56.15,2,   117.78,2,    40.62,2,     0.00,2,    2.880,2,     -999,9,     -999,9,     -999,9,     -999,9,     -999,9,     -999,     -999,9,     -999,9,     -999,9,     -999,9,   3.7633,2,  27.2914,2,   3.8322,2
49UP20210719_2,   P03,    15,  1,     20,     829,2,20210803,1450,1639, 23.7573, 131.5350, 4575,    937.7,    3.8323,  34.3478,2,     56.3,2,     -999,9,    56.22,2,   117.86,2,    40.61,2,     0.00,2,    2.880,2,     -999,9,     -999,9,     -999,9,     -999,9,     -999,9,     -999,     -999,9,     -999,9,     -999,9,     -999,9,   3.7632,2,  27.2914,2,   3.8321,2
49UP20210719_2,   P03,    15,  1,     19,     828,3,20210803,1450,1634, 23.7573, 131.5350, 4575,   1079.4,    3.4591,  34.4183,2,     60.6,2,     -999,9,    60.49,2,   125.44,2,    40.75,2,     0.00,2,    2.890,2,     -999,9,     -999,9,     -999,9,     -999,9,     -999,9,     -999,     -999,9,     -999,9,     -999,9,     -999,9,   3.3815,2,  27.3850,2,   3.4590,2
49UP20210719_2,   P03,    15,  1,     18,     752,2,20210803,1450,1628, 23.7573, 131.5350, 4575,   1281.7,    2.9339,  34.4974,2,     74.4,2,     -999,9,    74.18,2,   135.34,2,    40.31,2,     0.00,2,    2.850,2,     -999,9,     -999,9,     -999,9,     -999,9,     -999,9,     -999,     -999,9,     -999,9,     -999,9,     -999,9,   2.8448,2,  27.4979,2,   2.9340,2
49UP20210719_2,   P03,    15,  1,     17,     751,2,20210803,1450,1622, 23.7573, 131.5350, 4575,   1484.6,    2.4644,  34.5446,2,     86.4,2,     -999,9,    85.59,2,   142.47,2,    39.92,2,     0.00,2,    2.810,2,     -999,9,     -999,9,     -999,9,     -999,9,     -999,9,     -999,     -999,9,     -999,9,     -999,9,     -999,9,   2.3641,2,  27.5772,2,   2.4643,2
49UP20210719_2,   P03,    15,  1,     16,     328,2,20210803,1450,1615, 23.7573, 131.5350, 4575,   1688.3,    2.2269,  34.5761,2,     98.0,2,     -999,9,    97.89,6,   144.41,6,    39.33,6,     0.00,6,    2.750,6,     -999,9,     -999,9,     -999,9,     -999,9,     -999,9,     -999,     -999,9,     -999,9,     -999,9,     -999,9,   2.1131,2,  27.6230,2,   2.2267,2
49UP20210719_2,   P03,    15,  1,     15,     822,2,20210803,1450,1610, 23.7573, 131.5350, 4575,   1890.0,    2.0060,  34.6068,2,    111.8,2,     -999,9,   111.66,2,   144.77,2,    38.53,2,     0.00,2,    2.690,2,     -999,9,     -999,9,     -999,9,     -999,9,     -999,9,     -999,     -999,9,     -999,9,     -999,9,     -999,9,   1.8787,2,  27.6662,2,   2.0059,2
49UP20210719_2,   P03,    15,  1,     14,     326,2,20210803,1450,1604, 23.7573, 131.5350, 4575,   2093.7,    1.8941,  34.6232,2,    119.7,2,     -999,9,   119.08,2,   144.42,2,    38.07,2,     0.00,2,    2.650,2,     -999,9,     -999,9,     -999,9,     -999,9,     -999,9,     -999,     -999,9,     -999,9,     -999,9,     -999,9,   1.7514,2,  27.6891,2,   1.8942,2
49UP20210719_2,   P03,    15,  1,     13,     325,2,20210803,1450,1558, 23.7573, 131.5350, 4575,   2296.2,    1.8060,  34.6364,2,    126.3,2,     -999,9,   126.19,2,   144.83,2,    37.72,2,     0.00,2,    2.620,2,     -999,9,     -999,9,     -999,9,     -999,9,     -999,9,     -999,     -999,9,     -999,9,     -999,9,     -999,9,   1.6474,2,  27.7075,2,   1.8058,2
49UP20210719_2,   P03,    15,  1,     12,     324,2,20210803,1450,1549, 23.7573, 131.5350, 4575,   2500.6,    1.7372,  34.6463,2,    131.6,2,     -999,9,   131.32,2,   144.64,2,    37.39,2,     0.00,2,    2.600,2,     -999,9,     -999,9,     -999,9,     -999,9,     -999,9,     -999,     -999,9,     -999,9,     -999,9,     -999,9,   1.5618,2,  27.7218,2,   1.7373,2
49UP20210719_2,   P03,    15,  1,     11,     323,2,20210803,1450,1544, 23.7573, 131.5350, 4575,   2704.2,    1.6768,  34.6540,2,    136.4,2,     -999,9,   136.26,2,   144.40,2,    37.11,2,     0.00,2,    2.570,2,     -999,9,     -999,9,     -999,9,     -999,9,     -999,9,     -999,     -999,9,     -999,9,     -999,9,     -999,9,   1.4840,2,  27.7337,2,   1.6767,2
49UP20210719_2,   P03,    15,  1,     10,     322,2,20210803,1450,1538, 23.7573, 131.5350, 4575,   2908.6,    1.6304,  34.6606,2,    140.5,2,     -999,9,   139.82,2,   144.06,2,    36.81,2,     0.00,2,    2.550,2,     -999,9,     -999,9,     -999,9,     -999,9,     -999,9,     -999,     -999,9,     -999,9,     -999,9,     -999,9,   1.4196,2,  27.7436,2,   1.6304,2
49UP20210719_2,   P03,    15,  1,      9,     750,2,20210803,1450,1532, 23.7573, 131.5350, 4575,   3122.9,    1.5919,  34.6666,2,    144.4,2,     -999,9,   144.06,6,   144.02,6,    36.61,6,     0.00,6,    2.540,6,     -999,9,     -999,9,     -999,9,     -999,9,     -999,9,     -999,     -999,9,     -999,9,     -999,9,     -999,9,   1.3613,2,  27.7526,2,   1.5920,2
49UP20210719_2,   P03,    15,  1,      8,     320,2,20210803,1450,1525, 23.7573, 131.5350, 4575,   3379.7,    1.5700,  34.6714,2,    147.7,2,     -999,9,   147.35,2,   143.62,2,    36.39,2,     0.00,2,    2.520,2,     -999,9,     -999,9,     -999,9,     -999,9,     -999,9,     -999,     -999,9,     -999,9,     -999,9,     -999,9,   1.3144,2,  27.7597,2,   1.5699,2
49UP20210719_2,   P03,    15,  1,      7,     319,2,20210803,1450,1525, 23.7573, 131.5350, 4575,   3379.8,    1.5699,  34.6713,2,    147.8,2,     -999,9,   147.55,2,   143.55,2,    36.43,2,     0.00,2,    2.520,2,     -999,9,     -999,9,     -999,9,     -999,9,     -999,9,     -999,     -999,9,     -999,9,     -999,9,     -999,9,   1.3143,2,  27.7597,2,   1.5699,2
49UP20210719_2,   P03,    15,  1,      6,     318,2,20210803,1450,1519, 23.7573, 131.5350, 4575,   3633.4,    1.5601,  34.6750,2,    150.3,2,     -999,9,   150.16,2,   143.33,2,    36.27,2,     0.00,2,    2.500,2,     -999,9,     -999,9,     -999,9,     -999,9,     -999,9,     -999,     -999,9,     -999,9,     -999,9,     -999,9,   1.2787,2,  27.7651,2,   1.5601,2
49UP20210719_2,   P03,    15,  1,      5,     317,2,20210803,1450,1511, 23.7573, 131.5350, 4575,   3890.1,    1.5585,  34.6778,2,    152.5,2,     -999,9,   152.25,2,   142.92,2,    36.07,2,     0.00,2,    2.490,2,     -999,9,     -999,9,     -999,9,     -999,9,     -999,9,     -999,     -999,9,     -999,9,     -999,9,     -999,9,   1.2499,2,  27.7694,2,   1.5583,2
49UP20210719_2,   P03,    15,  1,      4,     316,2,20210803,1450,1505, 23.7573, 131.5350, 4575,   4146.9,    1.5641,  34.6799,2,    154.3,2,     -999,9,   153.87,2,   142.62,2,    35.95,2,     0.00,2,    2.490,2,     -999,9,     -999,9,     -999,9,     -999,9,     -999,9,     -999,     -999,9,     -999,9,     -999,9,     -999,9,   1.2272,2,  27.7727,2,   1.5640,2
49UP20210719_2,   P03,    15,  1,      3,     315,2,20210803,1450,1458, 23.7573, 131.5350, 4575,   4402.9,    1.5827,  34.6808,2,    155.2,2,     -999,9,   155.09,6,   142.34,6,    35.91,6,     0.00,6,    2.480,6,     -999,9,     -999,9,     -999,9,     -999,9,     -999,9,     -999,     -999,9,     -999,9,     -999,9,     -999,9,   1.2164,2,  27.7742,2,   1.5826,2
49UP20210719_2,   P03,    15,  1,      2,     314,2,20210803,1450,1451, 23.7573, 131.5350, 4575,   4692.5,    1.6040,  34.6819,2,    156.6,2,     -999,9,   155.96,2,   141.96,2,    35.74,2,     0.00,2,    2.470,2,     -999,9,     -999,9,     -999,9,     -999,9,     -999,9,     -999,     -999,9,     -999,9,     -999,9,     -999,9,   1.2033,2,  27.7760,2,   1.6039,2
49UP20210719_2,   P03,    15,  1,      1,     811,2,20210803,1450,1451, 23.7573, 131.5350, 4575,   4692.9,    1.6040,  34.6819,2,    156.6,2,     -999,9,   156.28,2,   141.82,2,    35.75,2,     0.00,2,    2.470,2,     -999,9,     -999,9,     -999,9,     -999,9,     -999,9,     -999,     -999,9,     -999,9,     -999,9,     -999,9,   1.2033,2,  27.7760,2,   1.6038,2