BOTTLE,20230808CCHSIOADS
EXPOCODE,SECT_ID,STNNBR,CASTNO,SAMPNO,BTLNBR,BTLNBR_FLAG_W,DATE,TIME,BTL_TIME,LATITUDE,LONGITUDE,DEPTH,CTDPRS,CTDTMP,CTDSAL,CTDSAL_FLAG_W,CTDOXY,CTDOXY_FLAG_W,SALNTY,SALNTY_FLAG_W,OXYGEN,OXYGEN_FLAG_W,SILCAT,SILCAT_FLAG_W,NO2+NO3,NO2+NO3_FLAG_W,NITRIT,NITRIT_FLAG_W,PHSPHT,PHSPHT_FLAG_W,CFC-11,CFC-11_FLAG_W,CFC-12,CFC-12_FLAG_W,TCARBN,TCARBN_FLAG_W,ALKALI,ALKALI_FLAG_W,PH_TOT,PH_TOT_FLAG_W,PH_TMP,CFC113,CFC113_FLAG_W,SF6,SF6_FLAG_W,CHLORA,CHLORA_FLAG_W,PPHYTN,PPHYTN_FLAG_W,THETA,THETA_FLAG_W,SIG0,SIG0_FLAG_W,SBE35,SBE35_FLAG_W
,,,,,,,,,,,,METERS,DBAR,ITS-90,PSS-78,,UMOL/KG,,PSS78,,UMOL/KG,,UMOL/KG,,UMOL/KG,,UMOL/KG,,UMOL/KG,,PMOL/KG,,PMOL/KG,,UMOL/KG,,UMOL/KG,,,,DEG C,PMOL/KG,,FMOL/KG,,UG/KG,,UG/KG,,ITS-90,,KG/M^3,,ITS-90,
49UP20210719_2,   P03,    42,  1,      0,     BUC,2,20210813,0558, 750, 24.2552, 144.8202, 5288,      0.0,   28.8603,  34.5543,2,    198.3,2,  34.5543,2,   198.54,2,     1.15,2,     0.10,2,     0.00,2,    0.020,2,     -999,9,     -999,9,   1952.2,2,   2268.8,2,   8.0851,2,    25.00,     -999,9,     -999,9,     0.04,2,     0.01,2,  28.8597,2,  21.7762,2,     -999,9
49UP20210719_2,   P03,    42,  1,     36,     757,2,20210813,0558, 822, 24.2552, 144.8202, 5288,      9.5,   28.8512,  34.5544,2,    198.1,2,  34.5550,2,   198.50,2,     1.13,2,     0.09,2,     0.00,2,    0.000,2,     -999,9,     -999,9,   1952.1,2,   2269.1,2,   8.0854,6,    25.00,     -999,9,     -999,9,     0.04,2,     0.01,2,  28.8489,2,  21.7799,2,  28.8460,2
49UP20210719_2,   P03,    42,  1,     35,     756,2,20210813,0558, 817, 24.2552, 144.8202, 5288,     49.9,   24.6059,  34.9152,2,    221.6,2,  34.9127,2,   220.81,2,     1.20,2,     0.04,2,     0.00,2,    0.000,2,     -999,9,     -999,9,   1984.9,6,   2292.5,6,   8.0649,2,    25.00,     -999,9,     -999,9,     0.07,2,     0.03,2,  24.5953,2,  23.3996,2,  24.6043,2
49UP20210719_2,   P03,    42,  1,     34,     843,2,20210813,0558, 816, 24.2552, 144.8202, 5288,     75.3,   22.6018,  34.9194,2,    211.6,2,  34.9185,2,   211.63,2,     1.53,2,     0.07,2,     0.00,2,    0.010,2,     -999,9,     -999,9,   2007.0,2,   2293.5,2,   8.0297,2,    25.00,     -999,9,     -999,9,     0.14,2,     0.10,2,  22.5866,2,  23.9909,2,  22.6003,2
49UP20210719_2,   P03,    42,  1,     33,     842,2,20210813,0558, 815, 24.2552, 144.8202, 5288,    100.6,   21.8547,  34.8997,2,    204.8,2,  34.8999,2,   204.38,2,     1.68,2,     0.15,2,     0.00,2,    0.040,2,     -999,9,     -999,9,   2014.1,2,   2292.2,2,   8.0136,2,    25.00,     -999,9,     -999,9,     0.41,2,     0.52,2,  21.8350,2,  24.1877,2,  21.8568,2
49UP20210719_2,   P03,    42,  1,     32,     841,2,20210813,0558, 813, 24.2552, 144.8202, 5288,    125.4,   20.7016,  34.9085,2,    193.3,2,  34.9060,2,   194.54,2,     2.09,2,     1.64,2,     0.02,2,    0.130,2,     -999,9,     -999,9,   2032.5,2,   2292.6,2,   7.9785,2,    25.00,     -999,9,     -999,9,     0.16,2,     0.28,2,  20.6779,2,  24.5114,2,  20.6963,2
49UP20210719_2,   P03,    42,  1,     31,     840,2,20210813,0558, 812, 24.2552, 144.8202, 5288,    151.6,   19.5465,  34.8709,2,    193.3,2,  34.8710,2,   194.07,2,     2.57,2,     2.55,2,     0.01,2,    0.190,2,     -999,9,     -999,9,   2042.8,2,   2290.2,2,   7.9583,2,    25.00,     -999,9,     -999,9,     0.03,2,     0.06,2,  19.5189,2,  24.7891,2,  19.5418,2
49UP20210719_2,   P03,    42,  1,     30,     839,2,20210813,0558, 810, 24.2552, 144.8202, 5288,    203.1,   17.9651,  34.7865,2,    200.1,2,  34.7867,2,   200.24,2,     3.59,2,     4.03,2,     0.00,2,    0.270,2,     -999,9,     -999,9,   2046.9,2,   2286.2,2,   7.9398,2,    25.00,     -999,9,     -999,9,     0.00,2,     0.01,2,  17.9303,2,  25.1257,2,  17.9663,2
49UP20210719_2,   P03,    42,  1,     29,     838,2,20210813,0558, 808, 24.2552, 144.8202, 5288,    251.6,   16.9703,  34.7326,2,    200.3,2,  34.7325,2,   200.24,6,     4.94,6,     5.63,6,     0.00,6,    0.370,6,     -999,9,     -999,9,   2055.0,2,   2281.8,2,   7.9209,2,    25.00,     -999,9,     -999,9,     -999,9,     -999,9,  16.9289,2,  25.3259,2,  16.9717,2
49UP20210719_2,   P03,    42,  1,     28,     755,2,20210813,0558, 806, 24.2552, 144.8202, 5288,    302.3,   15.9868,  34.6517,2,    194.4,2,  34.6529,2,   194.84,2,     6.93,2,     7.54,2,     0.00,2,    0.500,2,     -999,9,     -999,9,   2068.5,2,   2278.7,2,   7.8866,2,    25.00,     -999,9,     -999,9,     -999,9,     -999,9,  15.9389,2,  25.4935,2,  15.9894,2
49UP20210719_2,   P03,    42,  1,     27,     754,2,20210813,0558, 803, 24.2552, 144.8202, 5288,    402.1,   13.9585,  34.4900,2,    189.4,2,  34.4897,6,   189.42,2,    12.87,2,    11.36,2,     0.00,2,    0.760,2,     -999,9,     -999,9,   2091.9,2,   2274.9,2,   7.8318,2,    25.00,     -999,9,     -999,9,     -999,9,     -999,9,  13.9004,2,  25.8138,2,  13.9583,2
49UP20210719_2,   P03,    42,  1,     26,     835,2,20210813,0558, 800, 24.2552, 144.8202, 5288,    504.8,   10.7659,  34.2500,2,    177.9,2,  34.2502,2,   178.08,2,    24.78,2,    17.68,2,     0.00,2,    1.240,2,     -999,9,     -999,9,   2134.8,2,   2272.3,2,   7.7250,2,    25.00,     -999,9,     -999,9,     -999,9,     -999,9,  10.7042,2,  26.2442,2,  10.7665,2
49UP20210719_2,   P03,    42,  1,     25,     834,2,20210813,0558, 757, 24.2552, 144.8202, 5288,    603.6,    7.7620,  34.1092,2,    137.6,2,  34.1099,2,   137.21,2,    48.07,2,    26.87,2,     0.00,2,    1.920,2,     -999,9,     -999,9,   2199.3,2,   2284.5,2,   7.5810,2,    25.00,     -999,9,     -999,9,     -999,9,     -999,9,   7.7012,2,  26.6180,2,   7.7613,2
49UP20210719_2,   P03,    42,  1,     24,     753,2,20210813,0558, 754, 24.2552, 144.8202, 5288,    704.9,    5.8142,  34.1282,2,     92.1,2,  34.1282,2,    92.14,2,    74.96,2,    34.40,2,     0.00,2,    2.460,2,     -999,9,     -999,9,   2262.4,2,   2307.6,2,   7.4643,2,    25.00,     -999,9,     -999,9,     -999,9,     -999,9,   5.7530,2,  26.8945,2,   5.8138,2
49UP20210719_2,   P03,    42,  1,     23,     832,2,20210813,0558, 751, 24.2552, 144.8202, 5288,    804.7,    4.7526,  34.1846,2,     63.6,2,  34.1851,2,    63.58,2,    95.10,2,    38.66,2,     0.00,2,    2.760,2,     -999,9,     -999,9,   2301.1,2,   2327.4,2,   7.3979,2,    25.00,     -999,9,     -999,9,     -999,9,     -999,9,   4.6887,2,  27.0639,2,   4.7518,2
49UP20210719_2,   P03,    42,  1,     22,     831,2,20210813,0558, 749, 24.2552, 144.8202, 5288,    906.8,    4.1222,  34.2768,2,     47.4,2,  34.2770,2,    48.13,6,   110.85,6,    40.89,6,     0.00,6,    2.920,6,     -999,9,     -999,9,   2330.1,2,   2346.0,2,   7.3704,2,    25.00,     -999,9,     -999,9,     -999,9,     -999,9,   4.0537,2,  27.2053,2,   4.1216,2
49UP20210719_2,   P03,    42,  1,     21,     830,2,20210813,0558, 746, 24.2552, 144.8202, 5288,   1009.2,    3.7217,  34.3489,2,     46.1,2,  34.3477,2,    46.30,2,   121.21,2,    41.42,2,     0.00,2,    2.950,2,     -999,9,     -999,9,   2342.3,2,   2358.8,2,   7.3739,2,    25.00,     -999,9,     -999,9,     -999,9,     -999,9,   3.6477,2,  27.3038,2,   3.7231,2
49UP20210719_2,   P03,    42,  1,     20,     829,2,20210813,0558, 740, 24.2552, 144.8202, 5288,   1212.0,    3.0931,  34.4413,2,     51.5,2,  34.4406,2,    51.19,2,   136.89,2,    41.73,2,     0.00,2,    2.960,2,     -999,9,     -999,9,   2354.4,2,   2381.3,2,   7.3913,2,    25.00,     -999,9,     -999,9,     -999,9,     -999,9,   3.0081,2,  27.4384,2,   3.0932,2
49UP20210719_2,   P03,    42,  1,     19,     828,2,20210813,0558, 735, 24.2552, 144.8202, 5288,   1413.2,    2.6046,  34.5137,2,     65.8,2,  34.5132,2,    65.40,2,   145.70,2,    41.16,2,     0.00,2,    2.900,2,     -999,9,     -999,9,   2357.8,2,   2393.9,2,   7.4083,4,    25.00,     -999,9,     -999,9,     -999,9,     -999,9,   2.5084,2,  27.5403,2,   2.6048,2
49UP20210719_2,   P03,    42,  1,     18,     752,2,20210813,0558, 730, 24.2552, 144.8202, 5288,   1616.6,    2.3303,  34.5505,2,     76.6,2,  34.5505,6,    76.47,2,   150.50,2,    40.60,2,     0.00,2,    2.860,2,     -999,9,     -999,9,   2358.7,2,   2401.5,2,   7.4425,6,    25.00,     -999,9,     -999,9,     -999,9,     -999,9,   2.2210,2,  27.5938,2,   2.3303,2
49UP20210719_2,   P03,    42,  1,     17,     751,2,20210813,0558, 726, 24.2552, 144.8202, 5288,   1821.2,    2.1111,  34.5824,2,     88.3,2,  34.5825,2,    88.51,2,   152.95,2,    39.99,2,     0.00,2,    2.800,2,     -999,9,     -999,9,   2356.6,6,   2405.5,6,   7.4612,2,    25.00,     -999,9,     -999,9,     -999,9,     -999,9,   1.9880,2,  27.6380,2,   2.1112,2
49UP20210719_2,   P03,    42,  1,     16,     328,2,20210813,0558, 721, 24.2552, 144.8202, 5288,   2024.4,    1.9510,  34.6058,2,     99.3,2,  34.6060,2,    99.54,2,   153.54,2,    39.34,2,     0.00,2,    2.750,2,     -999,9,     -999,9,   2354.2,2,   2409.2,2,   7.4842,2,    25.00,     -999,9,     -999,9,     -999,9,     -999,9,   1.8133,2,  27.6704,2,   1.9510,2
49UP20210719_2,   P03,    42,  1,     15,     822,2,20210813,0558, 716, 24.2552, 144.8202, 5288,   2227.0,    1.8273,  34.6256,2,    110.3,2,  34.6252,2,   110.47,2,   153.33,2,    38.65,2,     0.00,2,    2.700,2,     -999,9,     -999,9,   2346.1,2,   2410.3,2,   7.5049,2,    25.00,     -999,9,     -999,9,     -999,9,     -999,9,   1.6744,2,  27.6968,2,   1.8275,2
49UP20210719_2,   P03,    42,  1,     14,     326,2,20210813,0558, 711, 24.2552, 144.8202, 5288,   2428.4,    1.7371,  34.6398,2,    119.1,2,  34.6396,2,   119.29,2,   152.06,2,    38.10,2,     0.00,2,    2.650,2,     -999,9,     -999,9,   2343.8,2,   2412.4,2,   7.5230,2,    25.00,     -999,9,     -999,9,     -999,9,     -999,9,   1.5681,2,  27.7161,2,   1.7371,2
49UP20210719_2,   P03,    42,  1,     13,     325,2,20210813,0558, 706, 24.2552, 144.8202, 5288,   2633.0,    1.6724,  34.6501,2,    125.6,2,  34.6503,2,   125.73,6,   151.96,6,    37.69,6,     0.00,6,    2.620,6,     -999,9,     -999,9,   2340.0,2,   2414.8,2,   7.5343,2,    25.00,     -999,9,     -999,9,     -999,9,     -999,9,   1.4863,2,  27.7304,2,   1.6725,2
49UP20210719_2,   P03,    42,  1,     12,     324,2,20210813,0558, 701, 24.2552, 144.8202, 5288,   2837.6,    1.6212,  34.6581,2,    131.0,2,  34.6572,2,   131.81,2,   151.75,2,    37.39,2,     0.00,2,    2.600,2,     -999,9,     -999,9,   2336.5,2,   2414.0,2,   7.5415,2,    25.00,     -999,9,     -999,9,     -999,9,     -999,9,   1.4172,2,  27.7418,2,   1.6213,2
49UP20210719_2,   P03,    42,  1,     11,     323,2,20210813,0558, 655, 24.2552, 144.8202, 5288,   3042.8,    1.5902,  34.6631,2,    134.5,2,  34.6625,2,   135.07,2,   151.82,2,    37.16,2,     0.00,2,    2.580,2,     -999,9,     -999,9,   2336.2,2,   2413.6,2,   7.5492,2,    25.00,     -999,9,     -999,9,     -999,9,     -999,9,   1.3674,2,  27.7493,2,   1.5904,2
49UP20210719_2,   P03,    42,  1,     10,     322,2,20210813,0558, 649, 24.2552, 144.8202, 5288,   3298.2,    1.5255,  34.6718,2,    141.9,2,  34.6698,4,   141.45,2,   150.87,2,    36.70,2,     0.00,2,    2.540,2,     -999,9,     -999,9,   2330.4,2,   2413.2,2,   7.5595,2,    25.00,     -999,9,     -999,9,     -999,9,     -999,9,   1.2792,2,  27.7626,2,   1.5257,2
49UP20210719_2,   P03,    42,  1,      9,     750,2,20210813,0558, 643, 24.2552, 144.8202, 5288,   3552.5,    1.5109,  34.6755,2,    145.7,2,  34.6751,6,   145.77,2,   150.25,2,    36.48,2,     0.00,2,    2.520,2,     -999,9,     -999,9,   2330.3,2,   2415.2,2,   7.5674,2,    25.00,     -999,9,     -999,9,     -999,9,     -999,9,   1.2392,2,  27.7683,2,   1.5109,2
49UP20210719_2,   P03,    42,  1,      8,     320,2,20210813,0558, 637, 24.2552, 144.8202, 5288,   3809.2,    1.4856,  34.6803,2,    150.8,2,  34.6797,2,   151.08,2,   148.98,2,    36.12,2,     0.00,2,    2.490,2,     -999,9,     -999,9,   2325.5,2,   2413.3,2,   7.5750,6,    25.00,     -999,9,     -999,9,     -999,9,     -999,9,   1.1877,2,  27.7758,2,   1.4857,2
49UP20210719_2,   P03,    42,  1,      7,     319,2,20210813,0558, 631, 24.2552, 144.8202, 5288,   4065.1,    1.4787,  34.6834,2,    154.7,2,  34.6830,2,   154.99,2,   147.57,2,    35.89,2,     0.00,2,    2.470,2,     -999,9,     -999,9,   2321.6,6,   2412.7,6,   7.5784,2,    25.00,     -999,9,     -999,9,     -999,9,     -999,9,   1.1533,2,  27.7806,2,   1.4788,2
49UP20210719_2,   P03,    42,  1,      6,     318,2,20210813,0558, 625, 24.2552, 144.8202, 5288,   4321.7,    1.4793,  34.6858,2,    158.1,2,  34.6846,4,   158.74,2,   145.93,2,    35.64,2,     0.00,2,    2.450,2,     -999,9,     -999,9,   2319.1,2,   2411.2,2,   7.5857,2,    25.00,     -999,9,     -999,9,     -999,9,     -999,9,   1.1253,2,  27.7844,2,   1.4792,2
49UP20210719_2,   P03,    42,  1,      5,     317,2,20210813,0558, 619, 24.2552, 144.8202, 5288,   4578.5,    1.4848,  34.6878,2,    161.1,2,  34.6873,2,   161.52,2,   143.91,2,    35.38,2,     0.00,2,    2.440,2,     -999,9,     -999,9,   2316.6,2,   2408.7,2,   7.5896,2,    25.00,     -999,9,     -999,9,     -999,9,     -999,9,   1.1012,2,  27.7877,2,   1.4848,2
49UP20210719_2,   P03,    42,  1,      4,     316,2,20210813,0558, 613, 24.2552, 144.8202, 5288,   4834.8,    1.4887,  34.6902,2,    165.1,2,  34.6897,2,   165.39,2,   141.72,2,    35.14,2,     0.00,2,    2.420,2,     -999,9,     -999,9,   2313.7,2,   2406.0,2,   7.5931,2,    25.00,     -999,9,     -999,9,     -999,9,     -999,9,   1.0747,2,  27.7914,2,   1.4888,2
49UP20210719_2,   P03,    42,  1,      3,     315,2,20210813,0558, 607, 24.2552, 144.8202, 5288,   5092.3,    1.5015,  34.6918,2,    168.0,2,  34.6917,6,   168.29,6,   139.92,6,    34.98,6,     0.00,6,    2.400,6,     -999,9,     -999,9,   2311.5,2,   2405.8,2,   7.5980,2,    25.00,     -999,9,     -999,9,     -999,9,     -999,9,   1.0559,2,  27.7940,2,   1.5015,2
49UP20210719_2,   P03,    42,  1,      2,     314,2,20210813,0558, 601, 24.2552, 144.8202, 5288,   5349.7,    1.5062,  34.6940,2,    172.3,2,  34.6937,2,   172.14,2,   137.06,2,    34.68,2,     0.00,2,    2.380,2,     -999,9,     -999,9,   2304.8,2,   2403.6,2,   7.6035,2,    25.00,     -999,9,     -999,9,     -999,9,     -999,9,   1.0285,2,  27.7976,2,   1.5061,2
49UP20210719_2,   P03,    42,  1,      1,     811,2,20210813,0558, 559, 24.2552, 144.8202, 5288,   5405.8,    1.5121,  34.6942,2,    172.6,2,  34.6944,2,   172.91,2,   137.07,2,    34.65,2,     0.00,2,    2.380,2,     -999,9,     -999,9,   2304.7,2,   2403.0,2,   7.6015,2,    25.00,     -999,9,     -999,9,     -999,9,     -999,9,   1.0270,2,  27.7978,2,   1.5121,2