BOTTLE,20230808CCHSIOADS
EXPOCODE,SECT_ID,STNNBR,CASTNO,SAMPNO,BTLNBR,BTLNBR_FLAG_W,DATE,TIME,BTL_TIME,LATITUDE,LONGITUDE,DEPTH,CTDPRS,CTDTMP,CTDSAL,CTDSAL_FLAG_W,CTDOXY,CTDOXY_FLAG_W,SALNTY,SALNTY_FLAG_W,OXYGEN,OXYGEN_FLAG_W,SILCAT,SILCAT_FLAG_W,NO2+NO3,NO2+NO3_FLAG_W,NITRIT,NITRIT_FLAG_W,PHSPHT,PHSPHT_FLAG_W,CFC-11,CFC-11_FLAG_W,CFC-12,CFC-12_FLAG_W,TCARBN,TCARBN_FLAG_W,ALKALI,ALKALI_FLAG_W,PH_TOT,PH_TOT_FLAG_W,PH_TMP,CFC113,CFC113_FLAG_W,SF6,SF6_FLAG_W,CHLORA,CHLORA_FLAG_W,PPHYTN,PPHYTN_FLAG_W,THETA,THETA_FLAG_W,SIG0,SIG0_FLAG_W,SBE35,SBE35_FLAG_W
,,,,,,,,,,,,METERS,DBAR,ITS-90,PSS-78,,UMOL/KG,,PSS78,,UMOL/KG,,UMOL/KG,,UMOL/KG,,UMOL/KG,,UMOL/KG,,PMOL/KG,,PMOL/KG,,UMOL/KG,,UMOL/KG,,,,DEG C,PMOL/KG,,FMOL/KG,,UG/KG,,UG/KG,,ITS-90,,KG/M^3,,ITS-90,
49UP20210827_1,   P03,    61,  1,      0,     BUC,2,20210906,1421,1628, 24.2537, 157.6378, 5764,      0.0,   29.7024,  35.1872,2,    194.2,2,     -999,9,   194.99,2,     1.21,2,     0.03,2,     0.00,2,    0.020,2,     -999,9,     -999,9,     -999,9,     -999,9,     -999,9,     -999,     -999,9,     -999,9,     -999,9,     -999,9,  29.7018,2,  21.9681,2,     -999,9
49UP20210827_1,   P03,    61,  1,     36,     757,2,20210906,1421,1704, 24.2537, 157.6378, 5764,      9.5,   29.7084,  35.1870,2,    194.0,2,     -999,9,   195.08,6,     1.17,6,     0.03,6,     0.00,6,    0.010,6,     -999,9,     -999,9,     -999,9,     -999,9,     -999,9,     -999,     -999,9,     -999,9,     -999,9,     -999,9,  29.7061,2,  21.9665,2,  29.7085,2
49UP20210827_1,   P03,    61,  1,     35,     756,2,20210906,1421,1700, 24.2537, 157.6378, 5764,     51.1,   26.3206,  35.2387,2,    224.1,2,     -999,9,   222.54,2,     1.41,2,     0.06,2,     0.00,2,    0.010,2,     -999,9,     -999,9,     -999,9,     -999,9,     -999,9,     -999,     -999,9,     -999,9,     -999,9,     -999,9,  26.3091,2,  23.1166,2,  26.3861,2
49UP20210827_1,   P03,    61,  1,     34,     843,2,20210906,1421,1658, 24.2537, 157.6378, 5764,    101.9,   20.7380,  34.9758,2,    227.9,2,     -999,9,   228.53,2,     1.95,2,     0.05,2,     0.00,2,    0.010,2,     -999,9,     -999,9,     -999,9,     -999,9,     -999,9,     -999,     -999,9,     -999,9,     -999,9,     -999,9,  20.7187,2,  24.5517,2,  20.7360,2
49UP20210827_1,   P03,    61,  1,     33,     842,2,20210906,1421,1655, 24.2537, 157.6378, 5764,    152.9,   18.5941,  34.8496,2,    200.6,2,     -999,9,   200.98,2,     3.04,2,     1.82,2,     0.02,2,    0.160,2,     -999,9,     -999,9,     -999,9,     -999,9,     -999,9,     -999,     -999,9,     -999,9,     -999,9,     -999,9,  18.5673,2,  25.0157,2,  18.6100,2
49UP20210827_1,   P03,    61,  1,     32,     841,2,20210906,1421,1653, 24.2537, 157.6378, 5764,    202.7,   17.0799,  34.7331,2,    202.0,2,     -999,9,   201.92,2,     4.51,2,     4.83,2,     0.00,2,    0.330,2,     -999,9,     -999,9,     -999,9,     -999,9,     -999,9,     -999,     -999,9,     -999,9,     -999,9,     -999,9,  17.0464,2,  25.2984,2,  17.0839,2
49UP20210827_1,   P03,    61,  1,     31,     840,2,20210906,1421,1651, 24.2537, 157.6378, 5764,    253.8,   16.1142,  34.6535,2,    201.4,2,     -999,9,   201.55,2,     6.13,2,     6.42,2,     0.00,2,    0.440,2,     -999,9,     -999,9,     -999,9,     -999,9,     -999,9,     -999,     -999,9,     -999,9,     -999,9,     -999,9,  16.0738,2,  25.4641,2,  16.1225,2
49UP20210827_1,   P03,    61,  1,     30,     839,2,20210906,1421,1649, 24.2537, 157.6378, 5764,    305.2,   14.9297,  34.5509,2,    202.5,2,     -999,9,   202.82,2,     8.36,2,     8.11,2,     0.00,2,    0.560,2,     -999,9,     -999,9,     -999,9,     -999,9,     -999,9,     -999,     -999,9,     -999,9,     -999,9,     -999,9,  14.8836,2,  25.6511,2,  14.9286,2
49UP20210827_1,   P03,    61,  1,     29,     838,2,20210906,1421,1645, 24.2537, 157.6378, 5764,    404.8,   12.0169,  34.3232,2,    200.7,2,     -999,9,   201.04,2,    16.48,2,    13.20,2,     0.00,2,    0.910,2,     -999,9,     -999,9,     -999,9,     -999,9,     -999,9,     -999,     -999,9,     -999,9,     -999,9,     -999,9,  11.9640,2,  26.0703,2,  12.0141,2
49UP20210827_1,   P03,    61,  1,     28,     755,2,20210906,1421,1642, 24.2537, 157.6378, 5764,    505.9,    8.8451,  34.0984,2,    175.7,2,     -999,9,   175.91,2,    32.62,2,    21.27,2,     0.00,2,    1.500,2,     -999,9,     -999,9,     -999,9,     -999,9,     -999,9,     -999,     -999,9,     -999,9,     -999,9,     -999,9,   8.7904,2,  26.4452,2,   8.8469,2
49UP20210827_1,   P03,    61,  1,     27,     754,2,20210906,1421,1638, 24.2537, 157.6378, 5764,    606.9,    6.6440,  34.0484,2,    122.0,2,     -999,9,   121.85,6,    56.96,6,    30.39,6,     0.00,6,    2.170,6,     -999,9,     -999,9,     -999,9,     -999,9,     -999,9,     -999,     -999,9,     -999,9,     -999,9,     -999,9,   6.5880,2,  26.7247,2,   6.6443,2
49UP20210827_1,   P03,    61,  1,     26,     835,2,20210906,1421,1635, 24.2537, 157.6378, 5764,    708.3,    5.2990,  34.1037,2,     79.0,2,     -999,9,    79.24,2,    80.45,2,    36.46,2,     0.00,2,    2.620,2,     -999,9,     -999,9,     -999,9,     -999,9,     -999,9,     -999,     -999,9,     -999,9,     -999,9,     -999,9,   5.2404,2,  26.9368,2,   5.2998,2
49UP20210827_1,   P03,    61,  1,     25,     834,2,20210906,1421,1632, 24.2537, 157.6378, 5764,    809.5,    4.4256,  34.2006,2,     50.1,2,     -999,9,    50.67,2,   101.53,2,    40.19,2,     0.00,2,    2.890,2,     -999,9,     -999,9,     -999,9,     -999,9,     -999,9,     -999,     -999,9,     -999,9,     -999,9,     -999,9,   4.3633,2,  27.1121,2,   4.4240,2
49UP20210827_1,   P03,    61,  1,     24,     753,2,20210906,1421,1628, 24.2537, 157.6378, 5764,    911.9,    3.8268,  34.3040,2,     37.9,2,     -999,9,    38.99,2,   118.32,2,    42.00,2,     0.00,2,    3.010,2,     -999,9,     -999,9,     -999,9,     -999,9,     -999,9,     -999,     -999,9,     -999,9,     -999,9,     -999,9,   3.7599,2,  27.2569,2,   3.8267,2
49UP20210827_1,   P03,    61,  1,     23,     832,2,20210906,1421,1625, 24.2537, 157.6378, 5764,   1011.4,    3.5176,  34.4030,2,     43.6,2,     -999,9,    43.73,2,   126.04,2,    41.95,2,     0.00,2,    3.000,2,     -999,9,     -999,9,     -999,9,     -999,9,     -999,9,     -999,     -999,9,     -999,9,     -999,9,     -999,9,   3.4449,2,  27.3668,2,   3.5177,2
49UP20210827_1,   P03,    61,  1,     22,     831,2,20210906,1421,1619, 24.2537, 157.6378, 5764,   1214.5,    3.0596,  34.4820,2,     56.4,2,     -999,9,    56.24,2,   135.51,2,    41.47,2,     0.00,2,    2.950,2,     -999,9,     -999,9,     -999,9,     -999,9,     -999,9,     -999,     -999,9,     -999,9,     -999,9,     -999,9,   2.9746,2,  27.4739,2,   3.0589,2
49UP20210827_1,   P03,    61,  1,     21,     830,2,20210906,1421,1613, 24.2537, 157.6378, 5764,   1416.2,    2.6406,  34.5375,2,     73.2,2,     -999,9,    73.17,2,   142.49,2,    40.63,2,     0.00,2,    2.880,2,     -999,9,     -999,9,     -999,9,     -999,9,     -999,9,     -999,     -999,9,     -999,9,     -999,9,     -999,9,   2.5438,2,  27.5564,2,   2.6411,2
49UP20210827_1,   P03,    61,  1,     20,     829,2,20210906,1421,1608, 24.2537, 157.6378, 5764,   1619.8,    2.3529,  34.5691,2,     84.2,2,     -999,9,    84.19,2,   146.66,2,    40.07,2,     0.00,2,    2.830,2,     -999,9,     -999,9,     -999,9,     -999,9,     -999,9,     -999,     -999,9,     -999,9,     -999,9,     -999,9,   2.2430,2,  27.6069,2,   2.3533,2
49UP20210827_1,   P03,    61,  1,     19,     828,2,20210906,1421,1603, 24.2537, 157.6378, 5764,   1821.0,    2.1080,  34.5956,2,     94.1,2,     -999,9,    94.07,2,   150.36,2,    39.61,2,     0.00,2,    2.790,2,     -999,9,     -999,9,     -999,9,     -999,9,     -999,9,     -999,     -999,9,     -999,9,     -999,9,     -999,9,   1.9850,2,  27.6489,2,   2.1080,2
49UP20210827_1,   P03,    61,  1,     18,     752,2,20210906,1421,1557, 24.2537, 157.6378, 5764,   2025.9,    1.9297,  34.6151,2,    102.6,2,     -999,9,   102.90,6,   153.15,6,    39.15,6,     0.00,6,    2.750,6,     -999,9,     -999,9,     -999,9,     -999,9,     -999,9,     -999,     -999,9,     -999,9,     -999,9,     -999,9,   1.7922,2,  27.6795,2,   1.9294,2
49UP20210827_1,   P03,    61,  1,     17,     751,2,20210906,1421,1552, 24.2537, 157.6378, 5764,   2227.0,    1.7899,  34.6323,2,    111.6,2,     -999,9,   111.67,2,   153.92,2,    38.61,2,     0.00,2,    2.710,2,     -999,9,     -999,9,     -999,9,     -999,9,     -999,9,     -999,     -999,9,     -999,9,     -999,9,     -999,9,   1.6376,2,  27.7049,2,   1.7902,2
49UP20210827_1,   P03,    61,  1,     16,     328,2,20210906,1421,1547, 24.2537, 157.6378, 5764,   2430.4,    1.7105,  34.6426,2,    118.1,2,     -999,9,   118.73,2,   154.06,2,    38.22,2,     0.00,2,    2.670,2,     -999,9,     -999,9,     -999,9,     -999,9,     -999,9,     -999,     -999,9,     -999,9,     -999,9,     -999,9,   1.5418,2,  27.7203,2,   1.7103,2
49UP20210827_1,   P03,    61,  1,     15,     822,2,20210906,1421,1542, 24.2537, 157.6378, 5764,   2634.3,    1.6430,  34.6522,2,    124.9,2,     -999,9,   124.99,2,   153.21,2,    37.79,2,     0.00,2,    2.640,2,     -999,9,     -999,9,     -999,9,     -999,9,     -999,9,     -999,     -999,9,     -999,9,     -999,9,     -999,9,   1.4573,2,  27.7342,2,   1.6430,2
49UP20210827_1,   P03,    61,  1,     14,     326,2,20210906,1421,1536, 24.2537, 157.6378, 5764,   2838.9,    1.5925,  34.6594,2,    130.3,2,     -999,9,   130.52,2,   152.77,2,    37.47,2,     0.00,2,    2.610,2,     -999,9,     -999,9,     -999,9,     -999,9,     -999,9,     -999,     -999,9,     -999,9,     -999,9,     -999,9,   1.3890,2,  27.7449,2,   1.5924,2
49UP20210827_1,   P03,    61,  1,     13,     325,2,20210906,1421,1531, 24.2537, 157.6378, 5764,   3042.6,    1.5425,  34.6665,2,    136.4,2,     -999,9,   136.31,2,   152.35,2,    37.05,2,     0.00,2,    2.580,2,     -999,9,     -999,9,     -999,9,     -999,9,     -999,9,     -999,     -999,9,     -999,9,     -999,9,     -999,9,   1.3207,2,  27.7554,2,   1.5424,2
49UP20210827_1,   P03,    61,  1,     12,     324,2,20210906,1421,1524, 24.2537, 157.6378, 5764,   3296.0,    1.5019,  34.6727,2,    142.0,2,     -999,9,   142.35,2,   151.47,2,    36.66,2,     0.00,2,    2.550,2,     -999,9,     -999,9,     -999,9,     -999,9,     -999,9,     -999,     -999,9,     -999,9,     -999,9,     -999,9,   1.2563,2,  27.7649,2,   1.5021,2
49UP20210827_1,   P03,    61,  1,     11,     323,2,20210906,1421,1518, 24.2537, 157.6378, 5764,   3554.3,    1.4746,  34.6769,2,    145.8,2,     -999,9,   146.09,2,   151.71,2,    36.46,2,     0.00,2,    2.530,2,     -999,9,     -999,9,     -999,9,     -999,9,     -999,9,     -999,     -999,9,     -999,9,     -999,9,     -999,9,   1.2035,2,  27.7719,2,   1.4744,2
49UP20210827_1,   P03,    61,  1,     10,     322,2,20210906,1421,1512, 24.2537, 157.6378, 5764,   3807.7,    1.4705,  34.6803,2,    150.3,2,     -999,9,   150.46,2,   149.69,2,    36.19,2,     0.00,2,    2.510,2,     -999,9,     -999,9,     -999,9,     -999,9,     -999,9,     -999,     -999,9,     -999,9,     -999,9,     -999,9,   1.1731,2,  27.7767,2,   1.4703,2
49UP20210827_1,   P03,    61,  1,      9,     750,2,20210906,1421,1505, 24.2537, 157.6378, 5764,   4065.1,    1.4528,  34.6847,2,    155.4,2,     -999,9,   155.76,6,   148.05,6,    35.85,6,     0.00,6,    2.480,6,     -999,9,     -999,9,     -999,9,     -999,9,     -999,9,     -999,     -999,9,     -999,9,     -999,9,     -999,9,   1.1282,2,  27.7834,2,   1.4530,2
49UP20210827_1,   P03,    61,  1,      8,     320,2,20210906,1421,1459, 24.2537, 157.6378, 5764,   4319.9,    1.4553,  34.6870,2,    159.0,2,     -999,9,   159.16,2,   146.24,2,    35.55,2,     0.00,2,    2.470,2,     -999,9,     -999,9,     -999,9,     -999,9,     -999,9,     -999,     -999,9,     -999,9,     -999,9,     -999,9,   1.1022,2,  27.7870,2,   1.4553,2
49UP20210827_1,   P03,    61,  1,      7,     319,2,20210906,1421,1453, 24.2537, 157.6378, 5764,   4575.8,    1.4659,  34.6887,2,    161.6,2,     -999,9,   161.98,2,   145.03,2,    35.39,2,     0.00,2,    2.450,2,     -999,9,     -999,9,     -999,9,     -999,9,     -999,9,     -999,     -999,9,     -999,9,     -999,9,     -999,9,   1.0832,2,  27.7896,2,   1.4658,2
49UP20210827_1,   P03,    61,  1,      6,     318,2,20210906,1421,1447, 24.2537, 157.6378, 5764,   4834.8,    1.4770,  34.6906,2,    164.8,2,     -999,9,   165.18,2,   142.71,2,    35.11,2,     0.00,2,    2.430,2,     -999,9,     -999,9,     -999,9,     -999,9,     -999,9,     -999,     -999,9,     -999,9,     -999,9,     -999,9,   1.0635,2,  27.7925,2,   1.4773,2
49UP20210827_1,   P03,    61,  1,      5,     317,2,20210906,1421,1441, 24.2537, 157.6378, 5764,   5089.9,    1.4912,  34.6923,2,    167.9,2,     -999,9,   168.00,2,   140.83,2,    34.94,2,     0.00,2,    2.410,2,     -999,9,     -999,9,     -999,9,     -999,9,     -999,9,     -999,     -999,9,     -999,9,     -999,9,     -999,9,   1.0462,2,  27.7950,2,   1.4913,2
49UP20210827_1,   P03,    61,  1,      4,     316,2,20210906,1421,1435, 24.2537, 157.6378, 5764,   5348.7,    1.5133,  34.6933,2,    169.7,2,     -999,9,   170.02,2,   139.37,2,    34.83,2,     0.00,2,    2.410,2,     -999,9,     -999,9,     -999,9,     -999,9,     -999,9,     -999,     -999,9,     -999,9,     -999,9,     -999,9,   1.0354,2,  27.7965,2,   1.5133,2
49UP20210827_1,   P03,    61,  1,      3,     315,2,20210906,1421,1429, 24.2537, 157.6378, 5764,   5606.9,    1.5413,  34.6938,2,    170.7,2,     -999,9,   170.76,2,   138.75,2,    34.78,2,     0.00,2,    2.400,2,     -999,9,     -999,9,     -999,9,     -999,9,     -999,9,     -999,     -999,9,     -999,9,     -999,9,     -999,9,   1.0294,2,  27.7974,2,   1.5415,2
49UP20210827_1,   P03,    61,  1,      2,     314,2,20210906,1421,1423, 24.2537, 157.6378, 5764,   5864.7,    1.5741,  34.6939,2,    171.1,2,     -999,9,   171.20,2,   138.38,2,    34.73,2,     0.00,2,    2.390,2,     -999,9,     -999,9,     -999,9,     -999,9,     -999,9,     -999,     -999,9,     -999,9,     -999,9,     -999,9,   1.0273,2,  27.7976,2,   1.5741,2
49UP20210827_1,   P03,    61,  1,      1,     811,2,20210906,1421,1421, 24.2537, 157.6378, 5764,   5918.9,    1.5816,  34.6939,2,    171.2,2,     -999,9,   171.08,2,   138.59,2,    34.76,2,     0.00,2,    2.400,2,     -999,9,     -999,9,     -999,9,     -999,9,     -999,9,     -999,     -999,9,     -999,9,     -999,9,     -999,9,   1.0274,2,  27.7976,2,   1.5816,2