BOTTLE,20230808CCHSIOADS
EXPOCODE,SECT_ID,STNNBR,CASTNO,SAMPNO,BTLNBR,BTLNBR_FLAG_W,DATE,TIME,BTL_TIME,LATITUDE,LONGITUDE,DEPTH,CTDPRS,CTDTMP,CTDSAL,CTDSAL_FLAG_W,CTDOXY,CTDOXY_FLAG_W,SALNTY,SALNTY_FLAG_W,OXYGEN,OXYGEN_FLAG_W,SILCAT,SILCAT_FLAG_W,NO2+NO3,NO2+NO3_FLAG_W,NITRIT,NITRIT_FLAG_W,PHSPHT,PHSPHT_FLAG_W,CFC-11,CFC-11_FLAG_W,CFC-12,CFC-12_FLAG_W,TCARBN,TCARBN_FLAG_W,ALKALI,ALKALI_FLAG_W,PH_TOT,PH_TOT_FLAG_W,PH_TMP,CFC113,CFC113_FLAG_W,SF6,SF6_FLAG_W,CHLORA,CHLORA_FLAG_W,PPHYTN,PPHYTN_FLAG_W,THETA,THETA_FLAG_W,SIG0,SIG0_FLAG_W,SBE35,SBE35_FLAG_W
,,,,,,,,,,,,METERS,DBAR,ITS-90,PSS-78,,UMOL/KG,,PSS78,,UMOL/KG,,UMOL/KG,,UMOL/KG,,UMOL/KG,,UMOL/KG,,PMOL/KG,,PMOL/KG,,UMOL/KG,,UMOL/KG,,,,DEG C,PMOL/KG,,FMOL/KG,,UG/KG,,UG/KG,,ITS-90,,KG/M^3,,ITS-90,
49UP20210719_2,   P03,    16,  1,      0,     BUC,2,20210803,2218,2325, 23.7552, 131.9970, 3418,      0.0,   28.3416,  34.3966,2,    197.9,2,     -999,5,   197.71,2,     1.40,2,     0.03,2,     0.00,2,    0.030,2,     -999,9,     -999,9,   1950.1,3,   2257.3,3,   8.0855,3,    25.00,     -999,9,     -999,9,     0.06,2,     0.02,2,  28.3409,2,  21.8293,2,     -999,9
49UP20210719_2,   P03,    16,  1,     36,     757,2,20210803,2218,   1, 23.7552, 131.9970, 3418,      9.6,   28.3357,  34.3957,2,    197.8,2,  34.3957,2,   199.14,2,     1.27,2,     0.02,2,     0.00,2,    0.010,2,    1.117,2,    0.810,2,   1946.6,2,   2256.3,2,   8.0858,2,    25.00,    0.089,2,    1.457,2,     0.05,2,     0.02,2,  28.3334,2,  21.8311,2,  28.3331,2
49UP20210719_2,   P03,    16,  1,     35,     756,2,20210803,2218,2359, 23.7552, 131.9970, 3418,     24.3,   27.0894,  34.5784,2,    203.7,2,  34.5781,2,   204.22,2,     1.40,2,     0.00,2,     0.00,2,    0.010,2,     -999,9,     -999,9,   1963.8,2,   2268.9,2,   8.0723,6,    25.00,     -999,9,     -999,9,     0.06,2,     0.02,2,  27.0838,2,  22.3735,2,  27.0808,2
49UP20210719_2,   P03,    16,  1,     34,     843,2,20210803,2218,2356, 23.7552, 131.9970, 3418,     49.3,   22.7440,  34.8216,2,    223.4,2,  34.8233,2,   222.92,2,     1.62,2,     0.00,2,     0.00,2,    0.010,2,    1.541,2,    1.000,2,   1989.5,2,   2285.9,6,   8.0499,2,    25.00,    0.095,2,    1.837,2,     0.13,2,     0.06,2,  22.7340,2,  23.8746,2,  22.7402,2
49UP20210719_2,   P03,    16,  1,     30,     839,2,20210803,2218,2354, 23.7552, 131.9970, 3418,     73.5,   21.7218,  34.8450,2,    220.8,2,  34.8453,2,   221.15,2,     1.75,2,     0.00,2,     0.00,2,    0.020,2,     -999,9,     -999,9,   2005.0,2,   2286.7,2,   8.0361,2,    25.00,     -999,9,     -999,9,     0.16,2,     0.11,2,  21.7074,2,  24.1816,2,  21.7046,2
49UP20210719_2,   P03,    16,  1,     29,     838,2,20210803,2218,2352, 23.7552, 131.9970, 3418,    100.6,   20.5645,  34.8444,2,    208.2,2,  34.8437,6,   208.56,2,     2.07,2,     0.66,2,     0.07,2,    0.080,2,    1.665,2,    1.050,2,   2016.3,2,   2287.7,2,   8.0052,2,    25.00,    0.084,2,    1.867,2,     0.26,2,     0.47,2,  20.5456,2,  24.4981,2,  20.5625,2
49UP20210719_2,   P03,    16,  1,     28,     755,2,20210803,2218,2351, 23.7552, 131.9970, 3418,    125.0,   19.8923,  34.8226,2,    204.2,2,  34.8224,2,   204.69,2,     2.54,2,     1.93,2,     0.03,2,    0.140,2,     -999,9,     -999,9,   2020.6,2,   2285.4,2,   7.9918,2,    25.00,     -999,9,     -999,9,     0.10,2,     0.28,2,  19.8694,2,  24.6608,2,  19.8870,2
49UP20210719_2,   P03,    16,  1,     27,     754,2,20210803,2218,2350, 23.7552, 131.9970, 3418,    150.6,   19.2752,  34.8100,2,    198.8,2,  34.8096,2,   199.84,2,     3.15,2,     2.96,2,     0.01,2,    0.210,2,     -999,9,     -999,9,   2033.6,2,   2284.8,2,   7.9723,2,    25.00,     -999,9,     -999,9,     0.03,2,     0.04,2,  19.2481,2,  24.8124,2,  19.2730,2
49UP20210719_2,   P03,    16,  1,     26,     835,2,20210803,2218,2348, 23.7552, 131.9970, 3418,    203.0,   17.7856,  34.7746,2,    198.8,2,  34.7743,2,   199.14,2,     4.14,2,     4.53,2,     0.00,2,    0.310,2,    1.957,2,    1.160,2,   2047.4,2,   2281.8,2,   7.9415,2,    25.00,    0.020,2,    1.837,2,     0.00,2,     0.02,2,  17.7511,2,  25.1604,2,  17.7855,2
49UP20210719_2,   P03,    16,  1,     25,     834,2,20210803,2218,2346, 23.7552, 131.9970, 3418,    252.5,   17.0486,  34.7371,2,    198.0,2,  34.7393,2,   198.23,2,     5.17,2,     5.67,2,     0.00,2,    0.390,2,     -999,9,     -999,9,   2056.4,2,   2281.5,2,   7.9249,2,    25.00,     -999,9,     -999,9,     -999,9,     -999,9,  17.0069,2,  25.3108,2,  17.0504,2
49UP20210719_2,   P03,    16,  1,     24,     753,2,20210803,2218,2344, 23.7552, 131.9970, 3418,    303.4,   16.0718,  34.6639,2,    194.7,2,  34.6687,4,   195.10,2,     7.17,2,     7.40,2,     0.00,2,    0.500,2,    2.141,2,    1.220,2,   2067.5,2,   2276.9,2,   7.8963,2,    25.00,    0.017,2,    1.742,2,     -999,9,     -999,9,  16.0237,2,  25.4836,2,  16.0778,2
49UP20210719_2,   P03,    16,  1,     23,     832,2,20210803,2218,2341, 23.7552, 131.9970, 3418,    402.5,   12.5880,  34.3884,2,    180.5,2,  34.3881,6,   180.66,2,    18.14,2,    14.31,2,     0.00,2,    1.000,2,     -999,9,     -999,9,   2113.5,2,   2271.3,2,   7.7867,2,    25.00,     -999,9,     -999,9,     -999,9,     -999,9,  12.5337,2,  26.0112,2,  12.5760,2
49UP20210719_2,   P03,    16,  1,     22,     831,2,20210803,2218,2338, 23.7552, 131.9970, 3418,    505.9,    9.0426,  34.1788,2,    153.0,2,  34.1789,2,   153.50,6,    38.66,6,    23.03,6,     0.00,6,    1.640,6,    2.280,2,    1.077,2,   2172.7,2,   2279.2,2,   7.6502,2,    25.00,    0.059,2,    1.078,2,     -999,9,     -999,9,   8.9871,2,  26.4771,2,   9.0429,2
49UP20210719_2,   P03,    16,  1,     20,     829,2,20210803,2218,2335, 23.7552, 131.9970, 3418,    604.8,    6.9734,  34.1229,2,    119.3,2,  34.1229,2,   119.28,2,    59.27,2,    29.88,2,     0.00,2,    2.150,2,     -999,9,     -999,9,   2231.6,3,   2291.9,2,   7.5414,2,    25.00,     -999,9,     -999,9,     -999,9,     -999,9,   6.9160,2,  26.7393,2,   6.9718,2
49UP20210719_2,   P03,    16,  1,     21,     830,2,20210803,2218,2335, 23.7552, 131.9970, 3418,    605.7,    6.9668,  34.1235,2,    119.3,2,  34.1233,2,   119.41,2,    59.21,2,    29.83,2,     0.00,2,    2.150,2,     -999,9,     -999,9,   2224.6,2,   2291.7,2,   7.5441,2,    25.00,     -999,9,     -999,9,     -999,9,     -999,9,   6.9093,2,  26.7407,2,   6.9693,2
49UP20210719_2,   P03,    16,  1,     19,     828,2,20210803,2218,2332, 23.7552, 131.9970, 3418,    706.2,    5.5235,  34.1674,2,     85.0,2,  34.1671,2,    85.64,2,    81.18,2,    35.36,2,     0.00,2,    2.540,2,     -999,9,     -999,9,   2277.0,2,   2313.8,2,   7.4561,2,    25.00,     -999,9,     -999,9,     -999,9,     -999,9,   5.4637,2,  26.9608,2,   5.5257,2
49UP20210719_2,   P03,    16,  1,     18,     752,2,20210803,2218,2329, 23.7552, 131.9970, 3418,    808.1,    4.6479,  34.2448,2,     64.8,2,  34.2433,2,    65.03,2,    99.06,2,    38.52,2,     0.00,2,    2.760,2,    0.565,2,    0.278,2,   2308.8,2,   2331.5,2,   7.4144,6,    25.00,    0.028,2,    0.191,2,     -999,9,     -999,9,   4.5842,2,  27.1232,2,   4.6519,2
49UP20210719_2,   P03,    16,  1,     17,     751,2,20210803,2218,2326, 23.7552, 131.9970, 3418,    908.2,    3.9701,  34.3209,2,     56.2,2,  34.3207,2,    56.31,2,   114.83,2,    40.20,2,     0.00,2,    2.880,2,     -999,9,     -999,9,   2333.5,6,   2350.8,6,   7.4012,2,    25.00,     -999,9,     -999,9,     -999,9,     -999,9,   3.9025,2,  27.2559,2,   3.9710,2
49UP20210719_2,   P03,    16,  1,     16,     328,2,20210803,2218,2323, 23.7552, 131.9970, 3418,   1009.1,    3.5562,  34.3777,2,     55.3,2,  34.3774,2,    55.71,2,   124.11,2,    40.80,2,     0.00,2,    2.910,2,    0.225,2,    0.072,2,   2341.3,2,   2362.8,2,   7.4020,2,    25.00,    0.025,2,    0.064,2,     -999,9,     -999,9,   3.4835,2,  27.3428,2,   3.5561,2
49UP20210719_2,   P03,    16,  1,     15,     822,2,20210803,2218,2317, 23.7552, 131.9970, 3418,   1211.9,    3.0052,  34.4895,2,     72.5,2,  34.4895,2,    72.69,6,   133.53,6,    40.19,6,     0.00,6,    2.850,6,     -999,9,     -999,9,   2348.3,2,   2381.1,2,   7.4452,2,    25.00,     -999,9,     -999,9,     -999,9,     -999,9,   2.9209,2,  27.4848,2,   3.0052,2
49UP20210719_2,   P03,    16,  1,     14,     326,2,20210803,2218,2312, 23.7552, 131.9970, 3418,   1414.5,    2.5812,  34.5302,2,     81.9,2,  34.5294,2,    82.61,2,   140.66,2,    39.88,2,     0.00,2,    2.820,2,    0.079,2,    0.008,2,   2350.4,2,   2390.6,2,   7.4589,2,    25.00,    0.018,2,    0.025,2,     -999,9,     -999,9,   2.4851,2,  27.5555,2,   2.5808,2
49UP20210719_2,   P03,    16,  1,     13,     325,3,20210803,2218,2312, 23.7552, 131.9970, 3418,   1415.2,    2.5798,  34.5304,2,     81.9,2,  34.5286,4,    82.20,2,   140.75,2,    39.85,2,     0.00,2,    2.820,2,     -999,9,     -999,9,   2350.1,2,   2389.2,2,   7.4609,2,    25.00,     -999,9,     -999,9,     -999,9,     -999,9,   2.4837,2,  27.5558,2,   2.5803,2
49UP20210719_2,   P03,    16,  1,     12,     324,2,20210803,2218,2307, 23.7552, 131.9970, 3418,   1615.6,    2.2494,  34.5709,2,     95.2,2,  34.5706,6,    95.12,2,   144.30,2,    39.29,2,     0.00,2,    2.770,2,     -999,9,     -999,9,   2346.6,2,   2400.2,2,   7.4818,2,    25.00,     -999,9,     -999,9,     -999,9,     -999,9,   2.1411,2,  27.6166,2,   2.2493,2
49UP20210719_2,   P03,    16,  1,     11,     323,2,20210803,2218,2301, 23.7552, 131.9970, 3418,   1818.4,    2.0452,  34.6012,2,    108.9,2,  34.6012,2,   109.31,2,   144.48,2,    38.50,2,     0.00,2,    2.710,2,     -999,9,     -999,9,   2340.5,2,   2405.2,2,   7.4939,4,    25.00,     -999,9,     -999,9,     -999,9,     -999,9,   1.9232,2,  27.6582,2,   2.0450,2
49UP20210719_2,   P03,    16,  1,     10,     322,2,20210803,2218,2256, 23.7552, 131.9970, 3418,   2023.3,    1.8897,  34.6231,2,    119.5,2,  34.6226,2,   120.28,2,   144.32,2,    37.94,2,     0.00,2,    2.650,2,    0.011,2,    0.000,2,   2338.5,2,   2406.5,2,   7.5302,2,    25.00,    0.020,2,    0.032,2,     -999,9,     -999,9,   1.7530,2,  27.6889,2,   1.8896,2
49UP20210719_2,   P03,    16,  1,      9,     750,2,20210803,2218,2252, 23.7552, 131.9970, 3418,   2224.5,    1.8006,  34.6359,2,    126.1,2,  34.6357,2,   126.23,2,   144.36,2,    37.56,2,     0.00,2,    2.630,2,     -999,9,     -999,9,   2333.8,2,   2407.6,2,   7.5425,2,    25.00,     -999,9,     -999,9,     -999,9,     -999,9,   1.6483,2,  27.7070,2,   1.8005,2
49UP20210719_2,   P03,    16,  1,      8,     320,2,20210803,2218,2246, 23.7552, 131.9970, 3418,   2429.6,    1.7091,  34.6481,2,    132.8,2,  34.6480,2,   132.38,2,   144.54,2,    37.21,2,     0.00,2,    2.590,2,     -999,9,     -999,9,   2339.8,3,   2408.3,2,   7.5542,6,    25.00,     -999,9,     -999,9,     -999,9,     -999,9,   1.5405,2,  27.7248,2,   1.7089,2
49UP20210719_2,   P03,    16,  1,      7,     319,2,20210803,2218,2241, 23.7552, 131.9970, 3418,   2632.5,    1.6591,  34.6548,2,    137.0,2,  34.6550,2,   137.30,2,   144.28,2,    36.92,2,     0.00,2,    2.570,2,    0.003,2,    0.000,2,   2332.8,6,   2409.9,6,   7.5600,2,    25.00,    0.015,2,   -0.006,2,     -999,9,     -999,9,   1.4733,2,  27.7351,2,   1.6591,2
49UP20210719_2,   P03,    16,  1,      6,     318,2,20210803,2218,2236, 23.7552, 131.9970, 3418,   2836.1,    1.6138,  34.6615,2,    141.1,2,  34.6612,2,   140.98,6,   143.77,6,    36.68,6,     0.00,6,    2.550,6,    0.004,2,    0.000,2,   2329.6,2,   2411.0,2,   7.5680,2,    25.00,    0.011,2,    0.018,2,     -999,9,     -999,9,   1.4101,2,  27.7450,2,   1.6139,2
49UP20210719_2,   P03,    16,  1,      4,     316,2,20210803,2218,2230, 23.7552, 131.9970, 3418,   3039.1,    1.5859,  34.6662,2,    144.2,2,  34.6658,2,   144.02,2,   143.49,2,    36.46,2,     0.00,2,    2.530,2,     -999,9,     -999,9,   2329.5,2,   2411.8,2,   7.5736,2,    25.00,     -999,9,     -999,9,     -999,9,     -999,9,   1.3635,2,  27.7521,2,   1.5859,2
49UP20210719_2,   P03,    16,  1,      5,     317,2,20210803,2218,2231, 23.7552, 131.9970, 3418,   3039.3,    1.5858,  34.6662,2,    144.3,2,  34.6662,2,   144.02,2,   143.71,2,    36.42,2,     0.00,2,    2.540,2,    0.000,2,    0.000,2,   2326.5,2,   2411.4,2,   7.5735,2,    25.00,    0.002,2,    0.024,2,     -999,9,     -999,9,   1.3634,2,  27.7521,2,   1.5856,2
49UP20210719_2,   P03,    16,  1,      3,     315,2,20210803,2218,2224, 23.7552, 131.9970, 3418,   3294.8,    1.5651,  34.6707,2,    147.4,2,  34.6711,2,   147.25,2,   143.30,2,    36.26,2,     0.00,2,    2.520,2,   -0.000,2,    0.000,2,   2328.8,2,   2412.2,2,   7.5764,2,    25.00,   -0.000,2,   -0.012,2,     -999,9,     -999,9,   1.3181,2,  27.7590,2,   1.5648,2
49UP20210719_2,   P03,    16,  1,      2,     314,2,20210803,2218,2218, 23.7552, 131.9970, 3418,   3512.5,    1.5491,  34.6746,2,    150.2,2,  34.6743,6,   150.01,2,   142.91,2,    36.06,2,     0.00,2,    2.500,2,    0.001,2,    0.000,2,   2323.5,2,   2410.5,2,   7.5822,2,    25.00,    0.000,2,    0.017,2,     -999,9,     -999,9,   1.2805,2,  27.7647,2,   1.5488,2