BOTTLE,20230808CCHSIOADS
EXPOCODE,SECT_ID,STNNBR,CASTNO,SAMPNO,BTLNBR,BTLNBR_FLAG_W,DATE,TIME,BTL_TIME,LATITUDE,LONGITUDE,DEPTH,CTDPRS,CTDTMP,CTDSAL,CTDSAL_FLAG_W,CTDOXY,CTDOXY_FLAG_W,SALNTY,SALNTY_FLAG_W,OXYGEN,OXYGEN_FLAG_W,SILCAT,SILCAT_FLAG_W,NO2+NO3,NO2+NO3_FLAG_W,NITRIT,NITRIT_FLAG_W,PHSPHT,PHSPHT_FLAG_W,CFC-11,CFC-11_FLAG_W,CFC-12,CFC-12_FLAG_W,TCARBN,TCARBN_FLAG_W,ALKALI,ALKALI_FLAG_W,PH_TOT,PH_TOT_FLAG_W,PH_TMP,CFC113,CFC113_FLAG_W,SF6,SF6_FLAG_W,CHLORA,CHLORA_FLAG_W,PPHYTN,PPHYTN_FLAG_W,THETA,THETA_FLAG_W,SIG0,SIG0_FLAG_W,SBE35,SBE35_FLAG_W
,,,,,,,,,,,,METERS,DBAR,ITS-90,PSS-78,,UMOL/KG,,PSS78,,UMOL/KG,,UMOL/KG,,UMOL/KG,,UMOL/KG,,UMOL/KG,,PMOL/KG,,PMOL/KG,,UMOL/KG,,UMOL/KG,,,,DEG C,PMOL/KG,,FMOL/KG,,UG/KG,,UG/KG,,ITS-90,,KG/M^3,,ITS-90,
49UP20210920_1,   P03,    79,  1,      0,     BUC,2,20211001,0614, 817, 24.2450, 171.1622, 5798,      0.0,   28.8793,  35.0387,2,    198.9,2,  35.0483,2,   198.25,2,     0.79,2,     0.01,2,     0.00,2,    0.050,2,     -999,9,     -999,9,   1974.7,2,   2300.2,2,   8.0951,2,    25.00,     -999,9,     -999,9,     0.08,2,     0.02,2,  28.8787,2,  22.1336,2,     -999,9
49UP20210920_1,   P03,    79,  1,     36,     757,2,20211001,0614, 848, 24.2450, 171.1622, 5798,     10.9,   28.6883,  35.0356,2,    199.2,2,  35.0363,2,   198.86,2,     0.87,2,     0.00,2,     0.00,2,    0.010,2,     -999,9,     -999,9,   1973.2,2,   2300.6,2,   8.0968,2,    25.00,     -999,9,     -999,9,     0.04,2,     0.02,2,  28.6857,2,  22.1955,2,  28.7129,2
49UP20210920_1,   P03,    79,  1,     35,     756,2,20211001,0614, 844, 24.2450, 171.1622, 5798,     50.4,   26.9630,  35.1415,2,    220.8,2,  35.1403,2,   219.39,2,     0.86,2,     0.00,2,     0.00,2,    0.010,2,     -999,9,     -999,9,   1981.5,2,   2304.8,2,   8.0925,2,    25.00,     -999,9,     -999,9,     0.07,2,     0.03,2,  26.9514,2,  22.8399,2,  26.9567,2
49UP20210920_1,   P03,    79,  1,     34,     843,2,20211001,0614, 842, 24.2450, 171.1622, 5798,     99.7,   24.3929,  35.2590,2,    216.0,2,  35.2588,2,   214.53,2,     1.21,2,     0.00,2,     0.00,2,    0.020,2,     -999,9,     -999,9,   2008.4,2,   2311.6,2,   8.0545,2,    25.00,     -999,9,     -999,9,     0.15,2,     0.11,2,  24.3716,2,  23.7267,2,  24.3871,2
49UP20210920_1,   P03,    79,  1,     33,     842,2,20211001,0614, 840, 24.2450, 171.1622, 5798,    124.2,   23.0121,  35.1875,2,    204.7,2,  35.1860,2,   204.07,2,     1.48,2,     0.00,2,     0.00,2,    0.050,2,     -999,9,     -999,9,   2028.9,2,   2309.0,2,   8.0233,2,    25.00,     -999,9,     -999,9,     0.15,2,     0.38,2,  22.9867,2,  24.0797,2,  23.0046,2
49UP20210920_1,   P03,    79,  1,     32,     841,2,20211001,0614, 838, 24.2450, 171.1622, 5798,    150.0,   21.7405,  35.1343,2,    198.7,2,  35.1317,2,   198.70,2,     1.84,2,     0.44,2,     0.14,2,    0.090,2,     -999,9,     -999,9,   2041.4,2,   2306.9,2,   7.9933,6,    25.00,     -999,9,     -999,9,     0.10,2,     0.32,2,  21.7111,2,  24.4005,2,  21.7396,2
49UP20210920_1,   P03,    79,  1,     31,     840,2,20211001,0614, 836, 24.2450, 171.1622, 5798,    203.8,   18.7771,  34.8758,2,    197.1,2,  34.8731,2,   197.65,2,     3.04,2,     2.68,2,     0.01,2,    0.230,2,     -999,9,     -999,9,   2054.4,6,   2287.3,6,   7.9396,2,    25.00,     -999,9,     -999,9,     0.02,2,     0.06,2,  18.7411,2,  24.9920,2,  18.7762,2
49UP20210920_1,   P03,    79,  1,     30,     839,2,20211001,0614, 833, 24.2450, 171.1622, 5798,    251.4,   16.7744,  34.7036,2,    203.8,2,  34.7025,2,   203.75,2,     4.77,2,     5.17,2,     0.00,2,    0.360,2,     -999,9,     -999,9,   2057.1,2,   2275.7,2,   7.9152,2,    25.00,     -999,9,     -999,9,     -999,9,     -999,9,  16.7333,2,  25.3497,2,  16.7773,2
49UP20210920_1,   P03,    79,  1,     29,     838,2,20211001,0614, 831, 24.2450, 171.1622, 5798,    331.3,   14.0740,  34.4566,2,    202.4,2,  34.4554,6,   201.91,2,     9.20,2,     9.20,2,     0.00,2,    0.650,2,     -999,9,     -999,9,   2083.5,2,   2268.2,2,   7.8432,2,    25.00,     -999,9,     -999,9,     -999,9,     -999,9,  14.0260,2,  25.7617,2,  14.0734,2
49UP20210920_1,   P03,    79,  1,     28,     755,2,20211001,0614, 828, 24.2450, 171.1622, 5798,    433.1,   11.3060,  34.2430,2,    179.9,2,  34.2404,2,   179.50,6,    18.74,6,    16.12,6,     0.00,6,    1.160,6,     -999,9,     -999,9,   2127.1,2,   2264.1,2,   7.7322,2,    25.00,     -999,9,     -999,9,     -999,9,     -999,9,  11.2515,2,  26.1405,2,  11.3063,2
49UP20210920_1,   P03,    79,  1,     27,     754,2,20211001,0614, 825, 24.2450, 171.1622, 5798,    534.5,    8.7108,  34.0892,2,    175.7,2,  34.0881,2,   175.23,2,    32.92,2,    21.57,2,     0.00,2,    1.540,2,     -999,9,     -999,9,   2161.3,2,   2269.5,2,   7.6598,2,    25.00,     -999,9,     -999,9,     -999,9,     -999,9,   8.6535,2,  26.4594,2,   8.7251,2
49UP20210920_1,   P03,    79,  1,     26,     835,2,20211001,0614, 822, 24.2450, 171.1622, 5798,    634.6,    6.5542,  34.0636,2,    111.9,2,  34.0649,2,   110.00,2,    59.43,2,    31.59,2,     0.00,2,    2.260,2,     -999,9,     -999,9,   2235.5,2,   2287.9,2,   7.5009,2,    25.00,     -999,9,     -999,9,     -999,9,     -999,9,   6.4959,2,  26.7489,2,   6.5555,2
49UP20210920_1,   P03,    79,  1,     25,     834,2,20211001,0614, 819, 24.2450, 171.1622, 5798,    735.7,    5.4860,  34.1552,2,     65.3,2,  34.1544,2,    65.08,2,    79.14,2,    37.37,2,     0.00,2,    2.700,2,     -999,9,     -999,9,   2287.7,2,   2306.2,2,   7.4142,2,    25.00,     -999,9,     -999,9,     -999,9,     -999,9,   5.4238,2,  26.9559,2,   5.4885,2
49UP20210920_1,   P03,    79,  1,     24,     753,2,20211001,0614, 816, 24.2450, 171.1622, 5798,    837.1,    4.5554,  34.2261,2,     45.2,2,  34.2263,2,    44.99,2,    99.16,2,    40.58,2,     0.00,2,    2.920,2,     -999,9,     -999,9,   2321.0,2,   2331.8,2,   7.3735,2,    25.00,     -999,9,     -999,9,     -999,9,     -999,9,   4.4899,2,  27.1187,2,   4.5565,2
49UP20210920_1,   P03,    79,  1,     23,     832,2,20211001,0614, 813, 24.2450, 171.1622, 5798,    937.7,    4.0785,  34.3320,2,     39.0,2,  34.3321,2,    38.72,2,   111.40,2,    41.77,2,     0.00,2,    3.010,2,     -999,9,     -999,9,   2339.6,2,   2347.6,2,   7.3702,6,    25.00,     -999,9,     -999,9,     -999,9,     -999,9,   4.0077,2,  27.2540,2,   4.0783,2
49UP20210920_1,   P03,    79,  1,     22,     831,2,20211001,0614, 809, 24.2450, 171.1622, 5798,   1079.6,    3.5890,  34.4380,2,     47.2,2,  34.4370,2,    47.21,2,   122.75,2,    41.81,2,     0.00,2,    3.000,2,     -999,9,     -999,9,   2348.9,6,   2365.6,6,   7.3928,2,    25.00,     -999,9,     -999,9,     -999,9,     -999,9,   3.5102,2,  27.3883,2,   3.5877,2
49UP20210920_1,   P03,    79,  1,     21,     830,2,20211001,0614, 804, 24.2450, 171.1622, 5798,   1282.8,    3.0918,  34.5096,2,     62.0,2,  34.5094,2,    61.77,2,   132.37,2,    41.17,2,     0.00,2,    2.940,2,     -999,9,     -999,9,   2351.5,2,   2380.5,2,   7.4227,2,    25.00,     -999,9,     -999,9,     -999,9,     -999,9,   3.0009,2,  27.4935,2,   3.0921,2
49UP20210920_1,   P03,    79,  1,     20,     829,2,20211001,0614, 759, 24.2450, 171.1622, 5798,   1483.8,    2.7176,  34.5551,2,     75.2,2,  34.5551,6,    74.87,2,   138.83,2,    40.64,2,     0.00,2,    2.880,2,     -999,9,     -999,9,   2353.2,2,   2390.3,2,   7.4533,2,    25.00,     -999,9,     -999,9,     -999,9,     -999,9,   2.6144,2,  27.5643,2,   2.7177,2
49UP20210920_1,   P03,    79,  1,     19,     828,2,20211001,0614, 754, 24.2450, 171.1622, 5798,   1687.1,    2.3305,  34.5825,2,     83.1,2,  34.5830,2,    83.48,6,   147.16,6,    40.25,6,     0.00,6,    2.850,6,     -999,9,     -999,9,   2355.1,2,   2399.5,2,   7.4650,2,    25.00,     -999,9,     -999,9,     -999,9,     -999,9,   2.2154,2,  27.6198,2,   2.3305,2
49UP20210920_1,   P03,    79,  1,     18,     752,2,20211001,0614, 749, 24.2450, 171.1622, 5798,   1889.1,    2.0766,  34.6037,2,     92.4,2,  34.6041,2,    92.35,2,   152.16,2,    39.85,2,     0.00,2,    2.810,2,     -999,9,     -999,9,   2356.8,2,   2406.9,2,   7.4768,2,    25.00,     -999,9,     -999,9,     -999,9,     -999,9,   1.9483,2,  27.6582,2,   2.0758,2
49UP20210920_1,   P03,    79,  1,     17,     751,2,20211001,0614, 744, 24.2450, 171.1622, 5798,   2093.4,    1.9226,  34.6239,2,    102.4,2,  34.6237,2,   102.11,2,   153.77,2,    39.32,2,     0.00,2,    2.760,2,     -999,9,     -999,9,   2357.6,2,   2409.8,2,   7.4975,2,    25.00,     -999,9,     -999,9,     -999,9,     -999,9,   1.7795,2,  27.6875,2,   1.9225,2
49UP20210920_1,   P03,    79,  1,     16,     328,2,20211001,0614, 739, 24.2450, 171.1622, 5798,   2297.1,    1.7849,  34.6385,2,    111.6,2,  34.6381,2,   111.64,2,   154.66,2,    38.71,2,     0.00,2,    2.710,2,     -999,9,     -999,9,   2350.3,2,   2411.9,2,   7.5159,2,    25.00,     -999,9,     -999,9,     -999,9,     -999,9,   1.6266,2,  27.7107,2,   1.7849,2
49UP20210920_1,   P03,    79,  1,     15,     822,2,20211001,0614, 735, 24.2450, 171.1622, 5798,   2499.4,    1.6974,  34.6492,2,    119.5,2,  34.6491,2,   119.50,2,   154.45,2,    38.19,2,     0.00,2,    2.670,2,     -999,9,     -999,9,   2345.2,2,   2416.4,2,   7.5304,2,    25.00,     -999,9,     -999,9,     -999,9,     -999,9,   1.5229,2,  27.7270,2,   1.6974,2
49UP20210920_1,   P03,    79,  1,     14,     326,2,20211001,0614, 730, 24.2450, 171.1622, 5798,   2703.6,    1.6405,  34.6566,2,    125.0,2,  34.6557,4,   124.82,2,   154.20,2,    37.88,2,     0.00,2,    2.640,2,     -999,9,     -999,9,   2343.2,2,   2417.0,2,   7.5401,2,    25.00,     -999,9,     -999,9,     -999,9,     -999,9,   1.4485,2,  27.7383,2,   1.6406,2
49UP20210920_1,   P03,    79,  1,     13,     325,2,20211001,0614, 725, 24.2450, 171.1622, 5798,   2907.6,    1.5927,  34.6626,2,    130.2,2,  34.6627,2,   130.46,2,   153.72,2,    37.50,2,     0.00,2,    2.610,2,     -999,9,     -999,9,   2341.8,2,   2414.6,2,   7.5479,2,    25.00,     -999,9,     -999,9,     -999,9,     -999,9,   1.3828,2,  27.7478,2,   1.5928,2
49UP20210920_1,   P03,    79,  1,     12,     324,2,20211001,0614, 720, 24.2450, 171.1622, 5798,   3122.3,    1.5605,  34.6687,2,    136.2,2,  34.6687,2,   136.34,2,   152.42,2,    37.12,2,     0.00,2,    2.590,2,     -999,9,     -999,9,   2338.2,2,   2415.2,2,   7.5566,2,    25.00,     -999,9,     -999,9,     -999,9,     -999,9,   1.3307,2,  27.7564,2,   1.5605,2
49UP20210920_1,   P03,    79,  1,     11,     323,2,20211001,0614, 714, 24.2450, 171.1622, 5798,   3378.1,    1.5272,  34.6739,2,    141.6,2,  34.6739,6,   141.31,2,   151.00,2,    36.75,2,     0.00,2,    2.550,2,     -999,9,     -999,9,   2334.0,2,   2414.8,2,   7.5647,2,    25.00,     -999,9,     -999,9,     -999,9,     -999,9,   1.2728,2,  27.7647,2,   1.5272,2
49UP20210920_1,   P03,    79,  1,     10,     322,2,20211001,0614, 708, 24.2450, 171.1622, 5798,   3633.5,    1.5059,  34.6776,2,    146.2,2,  34.6778,2,   146.02,6,   149.75,6,    36.47,6,     0.00,6,    2.530,6,     -999,9,     -999,9,   2332.0,2,   2416.6,2,   7.5735,2,    25.00,     -999,9,     -999,9,     -999,9,     -999,9,   1.2259,2,  27.7709,2,   1.5058,2
49UP20210920_1,   P03,    79,  1,      9,     750,2,20211001,0614, 702, 24.2450, 171.1622, 5798,   3889.3,    1.4854,  34.6815,2,    151.2,2,  34.6814,2,   150.99,2,   147.83,2,    36.06,2,     0.00,2,    2.510,2,     -999,9,     -999,9,   2325.5,2,   2409.6,2,   7.5810,2,    25.00,     -999,9,     -999,9,     -999,9,     -999,9,   1.1789,2,  27.7773,2,   1.4855,2
49UP20210920_1,   P03,    79,  1,      8,     320,2,20211001,0614, 656, 24.2450, 171.1622, 5798,   4145.0,    1.4718,  34.6848,2,    156.0,2,  34.6848,2,   155.88,2,   145.75,2,    35.72,2,     0.00,2,    2.480,2,     -999,9,     -999,9,   2321.3,2,   2411.5,2,   7.5863,2,    25.00,     -999,9,     -999,9,     -999,9,     -999,9,   1.1378,2,  27.7828,2,   1.4719,2
49UP20210920_1,   P03,    79,  1,      7,     319,2,20211001,0614, 651, 24.2450, 171.1622, 5798,   4400.6,    1.4593,  34.6880,2,    161.2,2,  34.6876,2,   161.29,2,   143.23,2,    35.36,2,     0.00,2,    2.450,2,     -999,9,     -999,9,   2323.5,3,   2409.2,2,   7.5909,2,    25.00,     -999,9,     -999,9,     -999,9,     -999,9,   1.0970,2,  27.7881,2,   1.4593,2
49UP20210920_1,   P03,    79,  1,      6,     318,2,20211001,0614, 645, 24.2450, 171.1622, 5798,   4660.5,    1.4461,  34.6915,2,    167.0,2,  34.6909,2,   166.98,2,   139.77,2,    34.87,2,     0.00,2,    2.420,2,     -999,9,     -999,9,   2309.2,2,   2401.7,2,   7.5994,2,    25.00,     -999,9,     -999,9,     -999,9,     -999,9,   1.0541,2,  27.7938,2,   1.4461,2
49UP20210920_1,   P03,    79,  1,      5,     317,2,20211001,0614, 639, 24.2450, 171.1622, 5798,   4917.4,    1.4432,  34.6939,2,    171.6,2,  34.6942,2,   171.65,2,   137.19,2,    34.59,2,     0.00,2,    2.390,2,     -999,9,     -999,9,   2305.7,2,   2398.8,2,   7.6018,6,    25.00,     -999,9,     -999,9,     -999,9,     -999,9,   1.0208,2,  27.7980,2,   1.4434,2
49UP20210920_1,   P03,    79,  1,      4,     316,2,20211001,0614, 633, 24.2450, 171.1622, 5798,   5174.2,    1.4441,  34.6964,2,    175.7,2,  34.6960,2,   175.72,2,   134.73,2,    34.30,2,     0.00,2,    2.370,2,     -999,9,     -999,9,   2300.6,6,   2398.1,6,   7.6079,2,    25.00,     -999,9,     -999,9,     -999,9,     -999,9,   0.9904,2,  27.8020,2,   1.4444,2
49UP20210920_1,   P03,    79,  1,      3,     315,2,20211001,0614, 627, 24.2450, 171.1622, 5798,   5431.5,    1.4575,  34.6975,2,    178.2,2,  34.6974,2,   178.27,2,   133.46,2,    34.08,2,     0.00,2,    2.360,2,     -999,9,     -999,9,   2299.9,2,   2396.3,2,   7.6100,2,    25.00,     -999,9,     -999,9,     -999,9,     -999,9,   0.9711,2,  27.8042,2,   1.4577,2
49UP20210920_1,   P03,    79,  1,      2,     314,2,20211001,0614, 621, 24.2450, 171.1622, 5798,   5689.0,    1.4804,  34.6983,2,    179.5,2,  34.6986,6,   179.79,2,   132.52,2,    34.02,2,     0.00,2,    2.350,2,     -999,9,     -999,9,   2298.1,2,   2395.3,2,   7.6064,2,    25.00,     -999,9,     -999,9,     -999,9,     -999,9,   0.9602,2,  27.8055,2,   1.4805,2
49UP20210920_1,   P03,    79,  1,      1,     811,2,20211001,0614, 615, 24.2450, 171.1622, 5798,   5968.3,    1.5140,  34.6984,2,    180.2,2,  34.6984,2,   180.22,6,   132.09,6,    33.96,6,     0.00,6,    2.350,6,     -999,9,     -999,9,   2297.6,2,   2394.4,2,   7.6124,2,    25.00,     -999,9,     -999,9,     -999,9,     -999,9,   0.9558,2,  27.8059,2,   1.5139,2