BOTTLE,20230808CCHSIOADS
EXPOCODE,SECT_ID,STNNBR,CASTNO,SAMPNO,BTLNBR,BTLNBR_FLAG_W,DATE,TIME,BTL_TIME,LATITUDE,LONGITUDE,DEPTH,CTDPRS,CTDTMP,CTDSAL,CTDSAL_FLAG_W,CTDOXY,CTDOXY_FLAG_W,SALNTY,SALNTY_FLAG_W,OXYGEN,OXYGEN_FLAG_W,SILCAT,SILCAT_FLAG_W,NO2+NO3,NO2+NO3_FLAG_W,NITRIT,NITRIT_FLAG_W,PHSPHT,PHSPHT_FLAG_W,CFC-11,CFC-11_FLAG_W,CFC-12,CFC-12_FLAG_W,TCARBN,TCARBN_FLAG_W,ALKALI,ALKALI_FLAG_W,PH_TOT,PH_TOT_FLAG_W,PH_TMP,CFC113,CFC113_FLAG_W,SF6,SF6_FLAG_W,CHLORA,CHLORA_FLAG_W,PPHYTN,PPHYTN_FLAG_W,THETA,THETA_FLAG_W,SIG0,SIG0_FLAG_W,SBE35,SBE35_FLAG_W
,,,,,,,,,,,,METERS,DBAR,ITS-90,PSS-78,,UMOL/KG,,PSS78,,UMOL/KG,,UMOL/KG,,UMOL/KG,,UMOL/KG,,UMOL/KG,,PMOL/KG,,PMOL/KG,,UMOL/KG,,UMOL/KG,,,,DEG C,PMOL/KG,,FMOL/KG,,UG/KG,,UG/KG,,ITS-90,,KG/M^3,,ITS-90,
49UP20210920_1,   P03,    73,  1,      0,     BUC,2,20210929,0316, 525, 24.2807, 166.4937, 5662,      0.0,   28.7160,  35.1485,2,    197.6,2,  35.0813,2,   197.51,2,     1.02,2,     0.00,2,     0.00,2,    0.020,2,     -999,9,     -999,9,   1972.2,2,   2303.6,2,   8.1014,2,    25.00,     -999,9,     -999,9,     0.08,2,     0.03,2,  28.7154,2,  22.2705,2,     -999,9
49UP20210920_1,   P03,    73,  1,     36,     757,2,20210929,0316, 603, 24.2807, 166.4937, 5662,      8.7,   28.7299,  35.1522,2,    197.9,2,  35.1527,2,   197.48,2,     0.99,2,     0.00,2,     0.00,2,    0.000,2,     -999,9,     -999,9,   1976.6,2,   2307.2,2,   8.0988,2,    25.00,     -999,9,     -999,9,     0.08,2,     0.03,2,  28.7278,2,  22.2691,2,  28.7298,2
49UP20210920_1,   P03,    73,  1,     35,     756,2,20210929,0316, 600, 24.2807, 166.4937, 5662,     49.0,   28.7133,  35.1709,2,    198.2,2,  35.1711,6,   198.27,2,     1.09,2,     0.00,2,     0.00,2,    0.000,2,     -999,9,     -999,9,   1977.3,2,   2309.6,2,   8.1024,2,    25.00,     -999,9,     -999,9,     0.09,2,     0.04,2,  28.7015,2,  22.2919,2,  28.7095,2
49UP20210920_1,   P03,    73,  1,     34,     843,2,20210929,0316, 555, 24.2807, 166.4937, 5662,     99.8,   23.1041,  35.1813,2,    227.8,2,  35.1822,2,   226.65,6,     1.63,6,     0.00,6,     0.00,6,    0.010,6,     -999,9,     -999,9,   2009.6,2,   2310.3,2,   8.0520,2,    25.00,     -999,9,     -999,9,     0.22,2,     0.15,2,  23.0837,2,  24.0470,2,  23.1034,2
49UP20210920_1,   P03,    73,  1,     33,     842,2,20210929,0316, 553, 24.2807, 166.4937, 5662,    125.2,   21.4724,  35.0770,2,    210.7,2,  35.0777,2,   210.36,2,     1.91,2,     0.00,2,     0.02,2,    0.030,2,     -999,9,     -999,9,   2027.1,2,   2303.7,2,   8.0091,2,    25.00,     -999,9,     -999,9,     0.15,2,     0.33,2,  21.4481,2,  24.4298,2,  21.4598,2
49UP20210920_1,   P03,    73,  1,     32,     841,2,20210929,0316, 552, 24.2807, 166.4937, 5662,    150.6,   20.4201,  34.9901,2,    216.9,2,  34.9922,2,   216.60,2,     2.16,2,     0.01,2,     0.01,2,    0.040,2,     -999,9,     -999,9,   2030.4,2,   2298.3,2,   7.9987,2,    25.00,     -999,9,     -999,9,     0.11,2,     0.27,2,  20.3918,2,  24.6502,2,  20.4225,2
49UP20210920_1,   P03,    73,  1,     31,     840,2,20210929,0316, 549, 24.2807, 166.4937, 5662,    202.5,   17.5675,  34.7484,2,    208.7,2,  34.7479,2,   208.80,2,     3.62,2,     3.44,2,     0.01,2,    0.250,2,     -999,9,     -999,9,   2045.7,2,   2281.8,2,   7.9423,2,    25.00,     -999,9,     -999,9,     0.02,2,     0.05,2,  17.5333,2,  25.1932,2,  17.5652,2
49UP20210920_1,   P03,    73,  1,     30,     839,2,20210929,0316, 547, 24.2807, 166.4937, 5662,    250.5,   16.2777,  34.6759,2,    211.0,2,  34.6730,2,   210.96,2,     5.93,2,     5.76,2,     0.00,2,    0.390,2,     -999,9,     -999,9,   2055.0,2,   2278.4,2,   7.9196,2,    25.00,     -999,9,     -999,9,     -999,9,     -999,9,  16.2377,2,  25.4438,2,  16.2756,2
49UP20210920_1,   P03,    73,  1,     29,     838,2,20210929,0316, 544, 24.2807, 166.4937, 5662,    332.8,   14.1941,  34.4911,2,    206.9,2,  34.4916,2,   206.69,2,     9.82,2,     8.94,2,     0.00,2,    0.620,2,     -999,9,     -999,9,   2078.6,2,   2271.7,2,   7.8581,6,    25.00,     -999,9,     -999,9,     -999,9,     -999,9,  14.1456,2,  25.7632,2,  14.1954,2
49UP20210920_1,   P03,    73,  1,     28,     755,2,20210929,0316, 541, 24.2807, 166.4937, 5662,    431.5,   11.6357,  34.2851,2,    203.4,2,  34.2856,2,   203.98,2,    16.76,2,    13.61,2,     0.00,2,    0.950,2,     -999,9,     -999,9,   2107.8,6,   2267.2,6,   7.7852,2,    25.00,     -999,9,     -999,9,     -999,9,     -999,9,  11.5804,2,  26.1126,2,  11.6302,2
49UP20210920_1,   P03,    73,  1,     27,     754,3,20210929,0316, 538, 24.2807, 166.4937, 5662,    533.7,    8.6990,  34.0929,2,    167.7,2,  34.0941,2,   167.36,2,    33.96,2,    22.32,2,     0.00,2,    1.580,2,     -999,9,     -999,9,   2164.4,2,   2272.1,2,   7.6517,2,    25.00,     -999,9,     -999,9,     -999,9,     -999,9,   8.6418,2,  26.4641,2,   8.6984,2
49UP20210920_1,   P03,    73,  1,     26,     835,2,20210929,0316, 535, 24.2807, 166.4937, 5662,    634.3,    6.4779,  34.0732,2,    106.8,2,  34.0738,6,   106.43,2,    60.69,2,    32.02,2,     0.00,2,    2.300,2,     -999,9,     -999,9,   2237.5,2,   2290.8,2,   7.4993,2,    25.00,     -999,9,     -999,9,     -999,9,     -999,9,   6.4201,2,  26.7664,2,   6.4785,2
49UP20210920_1,   P03,    73,  1,     25,     834,2,20210929,0316, 532, 24.2807, 166.4937, 5662,    735.6,    5.3473,  34.1424,2,     67.3,2,  34.1425,2,    67.10,6,    81.32,6,    37.51,6,     0.00,6,    2.700,6,     -999,9,     -999,9,   2286.5,2,   2310.5,2,   7.4129,2,    25.00,     -999,9,     -999,9,     -999,9,     -999,9,   5.2859,2,  26.9621,2,   5.3473,2
49UP20210920_1,   P03,    73,  1,     24,     753,2,20210929,0316, 529, 24.2807, 166.4937, 5662,    835.1,    4.5886,  34.2507,2,     45.6,2,  34.2508,2,    45.14,2,    98.87,2,    40.53,2,     0.00,2,    2.930,2,     -999,9,     -999,9,   2318.3,2,   2336.6,2,   7.3812,2,    25.00,     -999,9,     -999,9,     -999,9,     -999,9,   4.5230,2,  27.1346,2,   4.5870,2
49UP20210920_1,   P03,    73,  1,     23,     832,2,20210929,0316, 525, 24.2807, 166.4937, 5662,    938.2,    4.1160,  34.3663,2,     43.8,2,  34.3675,2,    43.84,2,   110.39,2,    41.31,2,     0.00,2,    2.980,2,     -999,9,     -999,9,   2334.5,2,   2354.6,2,   7.3878,2,    25.00,     -999,9,     -999,9,     -999,9,     -999,9,   4.0448,2,  27.2774,2,   4.1163,2
49UP20210920_1,   P03,    73,  1,     22,     831,2,20210929,0316, 521, 24.2807, 166.4937, 5662,   1079.1,    3.6593,  34.4513,2,     53.0,2,  34.4513,2,    52.67,2,   119.99,2,    41.28,2,     0.00,2,    2.960,2,     -999,9,     -999,9,   2343.0,2,   2370.8,2,   7.4100,6,    25.00,     -999,9,     -999,9,     -999,9,     -999,9,   3.5800,2,  27.3920,2,   3.6595,2
49UP20210920_1,   P03,    73,  1,     21,     830,2,20210929,0316, 516, 24.2807, 166.4937, 5662,   1281.9,    3.1328,  34.5131,2,     65.6,2,  34.5127,2,    65.18,2,   130.73,2,    40.88,2,     0.00,2,    2.920,2,     -999,9,     -999,9,   2347.6,6,   2385.4,6,   7.4320,2,    25.00,     -999,9,     -999,9,     -999,9,     -999,9,   3.0416,2,  27.4926,2,   3.1331,2
49UP20210920_1,   P03,    73,  1,     20,     829,2,20210929,0316, 511, 24.2807, 166.4937, 5662,   1485.3,    2.6736,  34.5527,2,     76.3,2,  34.5527,2,    76.28,2,   139.97,2,    40.50,2,     0.00,2,    2.880,2,     -999,9,     -999,9,   2352.2,2,   2397.6,2,   7.4528,2,    25.00,     -999,9,     -999,9,     -999,9,     -999,9,   2.5707,2,  27.5662,2,   2.6735,2
49UP20210920_1,   P03,    73,  1,     19,     828,2,20210929,0316, 505, 24.2807, 166.4937, 5662,   1687.6,    2.3513,  34.5850,2,     87.3,2,  34.5853,2,    87.04,2,   145.76,2,    40.04,2,     0.00,2,    2.830,2,     -999,9,     -999,9,   2353.2,2,   2404.0,2,   7.4721,2,    25.00,     -999,9,     -999,9,     -999,9,     -999,9,   2.2359,2,  27.6202,2,   2.3514,2
49UP20210920_1,   P03,    73,  1,     18,     752,2,20210929,0316, 459, 24.2807, 166.4937, 5662,   1888.4,    2.1355,  34.6057,2,     95.6,2,  34.6051,2,    95.31,2,   149.21,2,    39.58,2,     0.00,2,    2.790,2,     -999,9,     -999,9,   2354.4,2,   2408.9,2,   7.4858,2,    25.00,     -999,9,     -999,9,     -999,9,     -999,9,   2.0065,2,  27.6553,2,   2.1363,2
49UP20210920_1,   P03,    73,  1,     17,     751,2,20210929,0316, 453, 24.2807, 166.4937, 5662,   2094.4,    1.9322,  34.6266,2,    105.6,2,  34.6264,6,   105.72,2,   151.84,2,    39.06,2,     0.00,2,    2.750,2,     -999,9,     -999,9,   2351.7,2,   2411.9,2,   7.5075,2,    25.00,     -999,9,     -999,9,     -999,9,     -999,9,   1.7889,2,  27.6890,2,   1.9327,2
49UP20210920_1,   P03,    73,  1,     16,     328,2,20210929,0316, 445, 24.2807, 166.4937, 5662,   2300.3,    1.8182,  34.6404,2,    113.9,2,  34.6400,2,   113.73,6,   152.73,6,    38.60,6,     0.00,6,    2.710,6,     -999,9,     -999,9,   2349.5,2,   2413.5,2,   7.5234,2,    25.00,     -999,9,     -999,9,     -999,9,     -999,9,   1.6591,2,  27.7098,2,   1.8189,2
49UP20210920_1,   P03,    73,  1,     15,     822,2,20210929,0316, 436, 24.2807, 166.4937, 5662,   2497.0,    1.7295,  34.6495,2,    120.1,2,  34.6490,2,   119.99,2,   153.68,2,    38.23,2,     0.00,2,    2.670,2,     -999,9,     -999,9,   2344.0,2,   2415.3,2,   7.5334,2,    25.00,     -999,9,     -999,9,     -999,9,     -999,9,   1.5546,2,  27.7249,2,   1.7295,2
49UP20210920_1,   P03,    73,  1,     14,     326,2,20210929,0316, 430, 24.2807, 166.4937, 5662,   2708.8,    1.6782,  34.6555,2,    124.7,2,  34.6559,2,   124.71,2,   153.77,2,    37.99,2,     0.00,2,    2.650,2,     -999,9,     -999,9,   2343.0,2,   2415.7,2,   7.5420,3,    25.00,     -999,9,     -999,9,     -999,9,     -999,9,   1.4850,2,  27.7348,2,   1.6782,2
49UP20210920_1,   P03,    73,  1,     13,     325,2,20210929,0316, 422, 24.2807, 166.4937, 5662,   2912.0,    1.6302,  34.6611,2,    129.4,2,  34.6612,2,   129.34,2,   153.72,2,    37.56,2,     0.00,2,    2.630,2,     -999,9,     -999,9,   2340.3,2,   2418.3,2,   7.5458,2,    25.00,     -999,9,     -999,9,     -999,9,     -999,9,   1.4190,2,  27.7441,2,   1.6303,2
49UP20210920_1,   P03,    73,  1,     12,     324,2,20210929,0316, 417, 24.2807, 166.4937, 5662,   3123.6,    1.5905,  34.6663,2,    134.1,2,  34.6662,2,   134.12,2,   153.07,2,    37.32,2,     0.00,2,    2.600,2,     -999,9,     -999,9,   2337.4,2,   2419.0,2,   7.5566,2,    25.00,     -999,9,     -999,9,     -999,9,     -999,9,   1.3598,2,  27.7525,2,   1.5906,2
49UP20210920_1,   P03,    73,  1,     11,     323,2,20210929,0316, 411, 24.2807, 166.4937, 5662,   3377.7,    1.5604,  34.6710,2,    138.8,2,  34.6707,2,   138.37,2,   152.18,2,    36.98,2,     0.00,2,    2.570,2,     -999,9,     -999,9,   2335.9,2,   2418.6,2,   7.5555,4,    25.00,     -999,9,     -999,9,     -999,9,     -999,9,   1.3052,2,  27.7601,2,   1.5605,2
49UP20210920_1,   P03,    73,  1,     10,     322,2,20210929,0316, 405, 24.2807, 166.4937, 5662,   3633.3,    1.5260,  34.6756,2,    144.3,2,  34.6756,2,   144.39,2,   150.93,2,    36.63,2,     0.00,2,    2.540,2,     -999,9,     -999,9,   2332.3,2,   2417.1,2,   7.5700,2,    25.00,     -999,9,     -999,9,     -999,9,     -999,9,   1.2455,2,  27.7680,2,   1.5260,2
49UP20210920_1,   P03,    73,  1,      9,     750,2,20210929,0316, 400, 24.2807, 166.4937, 5662,   3889.3,    1.5018,  34.6798,2,    149.5,2,  34.6804,2,   149.32,2,   149.00,2,    36.30,2,     0.00,2,    2.520,2,     -999,9,     -999,9,   2327.8,2,   2415.5,2,   7.5780,2,    25.00,     -999,9,     -999,9,     -999,9,     -999,9,   1.1949,2,  27.7749,2,   1.5018,2
49UP20210920_1,   P03,    73,  1,      8,     320,2,20210929,0316, 354, 24.2807, 166.4937, 5662,   4144.9,    1.4920,  34.6828,2,    153.7,2,  34.6825,6,   153.67,2,   147.33,2,    35.96,2,     0.00,2,    2.490,2,     -999,9,     -999,9,   2322.8,2,   2412.8,2,   7.5851,2,    25.00,     -999,9,     -999,9,     -999,9,     -999,9,   1.1574,2,  27.7799,2,   1.4921,2
49UP20210920_1,   P03,    73,  1,      7,     319,2,20210929,0316, 348, 24.2807, 166.4937, 5662,   4402.1,    1.4764,  34.6863,2,    159.1,2,  34.6860,2,   159.00,6,   144.82,6,    35.63,6,     0.00,6,    2.470,6,     -999,9,     -999,9,   2318.9,2,   2410.4,2,   7.5892,2,    25.00,     -999,9,     -999,9,     -999,9,     -999,9,   1.1134,2,  27.7857,2,   1.4763,2
49UP20210920_1,   P03,    73,  1,      6,     318,2,20210929,0316, 342, 24.2807, 166.4937, 5662,   4657.9,    1.4689,  34.6894,2,    164.0,2,  34.6890,2,   163.89,2,   142.33,2,    35.23,2,     0.00,2,    2.440,2,     -999,9,     -999,9,   2313.5,2,   2406.6,2,   7.5979,2,    25.00,     -999,9,     -999,9,     -999,9,     -999,9,   1.0765,2,  27.7906,2,   1.4689,2
49UP20210920_1,   P03,    73,  1,      5,     317,2,20210929,0316, 337, 24.2807, 166.4937, 5662,   4918.1,    1.4640,  34.6922,2,    168.7,2,  34.6924,2,   168.72,2,   139.18,2,    34.83,2,     0.00,2,    2.410,2,     -999,9,     -999,9,   2309.0,2,   2403.9,2,   7.6004,2,    25.00,     -999,9,     -999,9,     -999,9,     -999,9,   1.0409,2,  27.7953,2,   1.4641,2
49UP20210920_1,   P03,    73,  1,      4,     316,2,20210929,0316, 331, 24.2807, 166.4937, 5662,   5174.3,    1.4574,  34.6951,2,    174.0,2,  34.6948,2,   173.94,2,   136.27,2,    34.59,2,     0.00,2,    2.380,2,     -999,9,     -999,9,   2304.7,2,   2400.0,2,   7.6061,2,    25.00,     -999,9,     -999,9,     -999,9,     -999,9,   1.0032,2,  27.8001,2,   1.4577,2
49UP20210920_1,   P03,    73,  1,      3,     315,2,20210929,0316, 326, 24.2807, 166.4937, 5662,   5426.4,    1.4668,  34.6966,2,    177.0,2,  34.6969,2,   176.99,2,   134.59,2,    34.34,2,     0.00,2,    2.370,2,     -999,9,     -999,9,   2299.8,2,   2399.7,2,   7.6087,2,    25.00,     -999,9,     -999,9,     -999,9,     -999,9,   0.9808,2,  27.8029,2,   1.4668,2
49UP20210920_1,   P03,    73,  1,      2,     314,2,20210929,0316, 321, 24.2807, 166.4937, 5662,   5686.9,    1.4916,  34.6973,2,    178.3,2,  34.6974,2,   178.20,2,   133.80,2,    34.20,2,     0.00,2,    2.360,2,     -999,9,     -999,9,   2299.1,2,   2397.9,2,   7.6100,6,    25.00,     -999,9,     -999,9,     -999,9,     -999,9,   0.9713,2,  27.8040,2,   1.4917,2
49UP20210920_1,   P03,    73,  1,      1,     811,2,20210929,0316, 316, 24.2807, 166.4937, 5662,   5857.0,    1.5017,  34.6981,2,    179.9,2,  34.6982,2,   179.85,2,   132.87,2,    34.12,2,     0.00,2,    2.350,2,     -999,9,     -999,9,   2297.1,6,   2397.1,6,   7.6117,2,    25.00,     -999,9,     -999,9,     -999,9,     -999,9,   0.9587,2,  27.8055,2,   1.5016,2