BOTTLE,20230808CCHSIOADS
EXPOCODE,SECT_ID,STNNBR,CASTNO,SAMPNO,BTLNBR,BTLNBR_FLAG_W,DATE,TIME,BTL_TIME,LATITUDE,LONGITUDE,DEPTH,CTDPRS,CTDTMP,CTDSAL,CTDSAL_FLAG_W,CTDOXY,CTDOXY_FLAG_W,SALNTY,SALNTY_FLAG_W,OXYGEN,OXYGEN_FLAG_W,SILCAT,SILCAT_FLAG_W,NO2+NO3,NO2+NO3_FLAG_W,NITRIT,NITRIT_FLAG_W,PHSPHT,PHSPHT_FLAG_W,CFC-11,CFC-11_FLAG_W,CFC-12,CFC-12_FLAG_W,TCARBN,TCARBN_FLAG_W,ALKALI,ALKALI_FLAG_W,PH_TOT,PH_TOT_FLAG_W,PH_TMP,CFC113,CFC113_FLAG_W,SF6,SF6_FLAG_W,CHLORA,CHLORA_FLAG_W,PPHYTN,PPHYTN_FLAG_W,THETA,THETA_FLAG_W,SIG0,SIG0_FLAG_W,SBE35,SBE35_FLAG_W
,,,,,,,,,,,,METERS,DBAR,ITS-90,PSS-78,,UMOL/KG,,PSS78,,UMOL/KG,,UMOL/KG,,UMOL/KG,,UMOL/KG,,UMOL/KG,,PMOL/KG,,PMOL/KG,,UMOL/KG,,UMOL/KG,,,,DEG C,PMOL/KG,,FMOL/KG,,UG/KG,,UG/KG,,ITS-90,,KG/M^3,,ITS-90,
49UP20210920_1,   P03,    74,  1,      0,     BUC,2,20210929,1148,1402, 24.2585, 167.2427, 5612,      0.0,   28.7775,  35.1061,2,    197.8,2,     -999,9,   197.70,2,     1.09,2,     0.01,2,     0.00,2,    0.020,2,     -999,9,     -999,9,     -999,9,     -999,9,     -999,9,     -999,     -999,9,     -999,9,     -999,9,     -999,9,  28.7769,2,  22.2182,2,     -999,9
49UP20210920_1,   P03,    74,  1,     36,     757,2,20210929,1148,1428, 24.2585, 167.2427, 5612,      9.3,   28.7854,  35.1057,2,    197.5,2,     -999,9,   197.55,2,     1.15,2,     0.00,2,     0.00,2,    0.000,2,     -999,9,     -999,9,     -999,9,     -999,9,     -999,9,     -999,     -999,9,     -999,9,     -999,9,     -999,9,  28.7831,2,  22.2158,2,  28.7846,2
49UP20210920_1,   P03,    74,  1,     35,     756,2,20210929,1148,1426, 24.2585, 167.2427, 5612,     50.0,   28.7603,  35.1595,2,    197.3,2,     -999,9,   197.65,2,     1.09,2,     0.00,2,     0.00,2,    0.000,2,     -999,9,     -999,9,     -999,9,     -999,9,     -999,9,     -999,     -999,9,     -999,9,     -999,9,     -999,9,  28.7483,2,  22.2678,2,  28.7566,2
49UP20210920_1,   P03,    74,  1,     34,     843,3,20210929,1148,1421, 24.2585, 167.2427, 5612,    100.7,   23.8494,  35.2555,2,    214.9,2,     -999,9,   214.38,2,     1.53,2,     0.00,2,     0.00,2,    0.010,2,     -999,9,     -999,9,     -999,9,     -999,9,     -999,9,     -999,     -999,9,     -999,9,     -999,9,     -999,9,  23.8283,2,  23.8856,2,  23.8471,2
49UP20210920_1,   P03,    74,  1,     33,     842,2,20210929,1148,1419, 24.2585, 167.2427, 5612,    125.6,   21.8303,  35.1192,2,    203.2,2,     -999,9,   203.59,6,     1.98,6,     0.16,6,     0.07,6,    0.060,6,     -999,9,     -999,9,     -999,9,     -999,9,     -999,9,     -999,     -999,9,     -999,9,     -999,9,     -999,9,  21.8056,2,  24.3627,2,  21.8331,2
49UP20210920_1,   P03,    74,  1,     32,     841,2,20210929,1148,1417, 24.2585, 167.2427, 5612,    150.7,   20.4031,  35.0219,2,    206.4,2,     -999,9,   207.46,2,     2.15,2,     0.36,2,     0.12,2,    0.070,2,     -999,9,     -999,9,     -999,9,     -999,9,     -999,9,     -999,     -999,9,     -999,9,     -999,9,     -999,9,  20.3748,2,  24.6790,2,  20.4014,2
49UP20210920_1,   P03,    74,  1,     31,     840,2,20210929,1148,1415, 24.2585, 167.2427, 5612,    203.5,   18.0166,  34.8040,2,    205.4,2,     -999,9,   205.28,2,     3.38,2,     2.85,2,     0.01,2,    0.210,2,     -999,9,     -999,9,     -999,9,     -999,9,     -999,9,     -999,     -999,9,     -999,9,     -999,9,     -999,9,  17.9816,2,  25.1265,2,  18.0165,2
49UP20210920_1,   P03,    74,  1,     30,     839,2,20210929,1148,1413, 24.2585, 167.2427, 5612,    251.2,   16.5804,  34.6724,2,    211.6,2,     -999,9,   211.31,2,     4.94,2,     4.93,2,     0.00,2,    0.330,2,     -999,9,     -999,9,     -999,9,     -999,9,     -999,9,     -999,     -999,9,     -999,9,     -999,9,     -999,9,  16.5397,2,  25.3711,2,  16.5790,2
49UP20210920_1,   P03,    74,  1,     29,     838,2,20210929,1148,1410, 24.2585, 167.2427, 5612,    303.3,   15.4320,  34.5884,2,    209.3,2,     -999,9,   209.43,2,     7.19,2,     6.80,2,     0.00,2,    0.470,2,     -999,9,     -999,9,     -999,9,     -999,9,     -999,9,     -999,     -999,9,     -999,9,     -999,9,     -999,9,  15.3851,2,  25.5696,2,  15.4409,2
49UP20210920_1,   P03,    74,  1,     28,     755,2,20210929,1148,1407, 24.2585, 167.2427, 5612,    404.4,   12.0026,  34.2919,2,    193.8,2,     -999,9,   193.10,2,    15.19,2,    13.56,2,     0.00,2,    0.960,2,     -999,9,     -999,9,     -999,9,     -999,9,     -999,9,     -999,     -999,9,     -999,9,     -999,9,     -999,9,  11.9497,2,  26.0487,2,  12.0065,2
49UP20210920_1,   P03,    74,  1,     27,     754,2,20210929,1148,1403, 24.2585, 167.2427, 5612,    505.3,    9.2344,  34.1202,2,    169.9,2,     -999,9,   169.92,2,    29.56,2,    21.01,2,     0.00,2,    1.480,2,     -999,9,     -999,9,     -999,9,     -999,9,     -999,9,     -999,     -999,9,     -999,9,     -999,9,     -999,9,   9.1783,2,  26.4007,2,   9.2381,2
49UP20210920_1,   P03,    74,  1,     26,     835,2,20210929,1148,1400, 24.2585, 167.2427, 5612,    604.9,    7.2522,  34.0836,2,    120.2,2,     -999,9,   119.68,2,    50.74,2,    29.39,2,     0.00,2,    2.100,2,     -999,9,     -999,9,     -999,9,     -999,9,     -999,9,     -999,     -999,9,     -999,9,     -999,9,     -999,9,   7.1936,2,  26.6701,2,   7.2535,2
49UP20210920_1,   P03,    74,  1,     25,     834,2,20210929,1148,1357, 24.2585, 167.2427, 5612,    707.3,    5.7090,  34.1264,2,     75.6,2,     -999,9,    75.92,2,    74.21,2,    36.14,2,     0.00,2,    2.590,2,     -999,9,     -999,9,     -999,9,     -999,9,     -999,9,     -999,     -999,9,     -999,9,     -999,9,     -999,9,   5.6482,2,  26.9060,2,   5.7081,2
49UP20210920_1,   P03,    74,  1,     24,     753,2,20210929,1148,1353, 24.2585, 167.2427, 5612,    807.2,    4.9309,  34.1967,2,     53.8,2,     -999,9,    53.62,6,    90.19,6,    39.36,6,     0.00,6,    2.830,6,     -999,9,     -999,9,     -999,9,     -999,9,     -999,9,     -999,     -999,9,     -999,9,     -999,9,     -999,9,   4.8656,2,  27.0536,2,   4.9309,2
49UP20210920_1,   P03,    74,  1,     23,     832,2,20210929,1148,1350, 24.2585, 167.2427, 5612,    909.1,    4.3494,  34.2816,2,     41.9,2,     -999,9,    42.31,2,   104.09,2,    41.19,2,     0.00,2,    2.950,2,     -999,9,     -999,9,     -999,9,     -999,9,     -999,9,     -999,     -999,9,     -999,9,     -999,9,     -999,9,   4.2791,2,  27.1855,2,   4.3475,2
49UP20210920_1,   P03,    74,  1,     22,     831,2,20210929,1148,1346, 24.2585, 167.2427, 5612,   1010.0,    3.9858,  34.3785,2,     42.8,2,     -999,9,    42.83,2,   113.01,2,    41.71,2,     0.00,2,    2.990,2,     -999,9,     -999,9,     -999,9,     -999,9,     -999,9,     -999,     -999,9,     -999,9,     -999,9,     -999,9,   3.9097,2,  27.3011,2,   3.9862,2
49UP20210920_1,   P03,    74,  1,     21,     830,2,20210929,1148,1340, 24.2585, 167.2427, 5612,   1212.6,    3.3512,  34.4851,2,     58.0,2,     -999,9,    57.71,2,   126.55,2,    41.28,2,     0.00,2,    2.940,2,     -999,9,     -999,9,     -999,9,     -999,9,     -999,9,     -999,     -999,9,     -999,9,     -999,9,     -999,9,   3.2636,2,  27.4495,2,   3.3514,2
49UP20210920_1,   P03,    74,  1,     20,     829,2,20210929,1148,1335, 24.2585, 167.2427, 5612,   1414.8,    2.9453,  34.5301,2,     69.3,2,     -999,9,    69.65,2,   133.89,2,    40.82,2,     0.00,2,    2.900,2,     -999,9,     -999,9,     -999,9,     -999,9,     -999,9,     -999,     -999,9,     -999,9,     -999,9,     -999,9,   2.8453,2,  27.5240,2,   2.9474,2
49UP20210920_1,   P03,    74,  1,     19,     828,2,20210929,1148,1330, 24.2585, 167.2427, 5612,   1616.1,    2.5409,  34.5591,2,     77.8,2,     -999,9,    78.11,2,   142.68,2,    40.53,2,     0.00,2,    2.860,2,     -999,9,     -999,9,     -999,9,     -999,9,     -999,9,     -999,     -999,9,     -999,9,     -999,9,     -999,9,   2.4290,2,  27.5834,2,   2.5401,2
49UP20210920_1,   P03,    74,  1,     18,     752,2,20210929,1148,1324, 24.2585, 167.2427, 5612,   1821.5,    2.2300,  34.5875,2,     88.2,2,     -999,9,    88.41,2,   148.34,2,    40.02,2,     0.00,2,    2.820,2,     -999,9,     -999,9,     -999,9,     -999,9,     -999,9,     -999,     -999,9,     -999,9,     -999,9,     -999,9,   2.1052,2,  27.6328,2,   2.2297,2
49UP20210920_1,   P03,    74,  1,     17,     751,2,20210929,1148,1319, 24.2585, 167.2427, 5612,   2025.4,    2.0237,  34.6111,2,     98.1,2,     -999,9,    98.18,2,   151.26,2,    39.51,2,     0.00,2,    2.770,2,     -999,9,     -999,9,     -999,9,     -999,9,     -999,9,     -999,     -999,9,     -999,9,     -999,9,     -999,9,   1.8848,2,  27.6691,2,   2.0237,2
49UP20210920_1,   P03,    74,  1,     16,     328,2,20210929,1148,1314, 24.2585, 167.2427, 5612,   2226.5,    1.8679,  34.6307,2,    108.7,2,     -999,9,   109.15,2,   152.29,2,    38.84,2,     0.00,2,    2.730,2,     -999,9,     -999,9,     -999,9,     -999,9,     -999,9,     -999,     -999,9,     -999,9,     -999,9,     -999,9,   1.7143,2,  27.6979,2,   1.8679,2
49UP20210920_1,   P03,    74,  1,     15,     822,2,20210929,1148,1308, 24.2585, 167.2427, 5612,   2430.1,    1.7658,  34.6434,2,    116.3,2,     -999,9,   116.10,6,   153.18,6,    38.43,6,     0.00,6,    2.680,6,     -999,9,     -999,9,     -999,9,     -999,9,     -999,9,     -999,     -999,9,     -999,9,     -999,9,     -999,9,   1.5962,2,  27.7170,2,   1.7658,2
49UP20210920_1,   P03,    74,  1,     14,     326,3,20210929,1148,1303, 24.2585, 167.2427, 5612,   2633.7,    1.6891,  34.6521,2,    122.4,2,     -999,9,   122.59,2,   153.20,2,    37.93,2,     0.00,2,    2.650,2,     -999,9,     -999,9,     -999,9,     -999,9,     -999,9,     -999,     -999,9,     -999,9,     -999,9,     -999,9,   1.5026,2,  27.7308,2,   1.6892,2
49UP20210920_1,   P03,    74,  1,     13,     325,2,20210929,1148,1258, 24.2585, 167.2427, 5612,   2837.0,    1.6334,  34.6590,2,    127.9,2,     -999,9,   128.04,2,   153.26,2,    37.61,2,     0.00,2,    2.620,2,     -999,9,     -999,9,     -999,9,     -999,9,     -999,9,     -999,     -999,9,     -999,9,     -999,9,     -999,9,   1.4292,2,  27.7416,2,   1.6335,2
49UP20210920_1,   P03,    74,  1,     12,     324,2,20210929,1148,1253, 24.2585, 167.2427, 5612,   3042.0,    1.5912,  34.6652,2,    133.1,2,     -999,9,   133.23,2,   152.72,2,    37.30,2,     0.00,2,    2.590,2,     -999,9,     -999,9,     -999,9,     -999,9,     -999,9,     -999,     -999,9,     -999,9,     -999,9,     -999,9,   1.3685,2,  27.7510,2,   1.5913,2
49UP20210920_1,   P03,    74,  1,     11,     323,2,20210929,1148,1247, 24.2585, 167.2427, 5612,   3296.1,    1.5533,  34.6702,2,    138.1,2,     -999,9,   138.18,2,   152.63,2,    36.98,2,     0.00,2,    2.570,2,     -999,9,     -999,9,     -999,9,     -999,9,     -999,9,     -999,     -999,9,     -999,9,     -999,9,     -999,9,   1.3065,2,  27.7594,2,   1.5532,2
49UP20210920_1,   P03,    74,  1,     10,     322,2,20210929,1148,1241, 24.2585, 167.2427, 5612,   3552.9,    1.5268,  34.6747,2,    143.2,2,     -999,9,   143.13,2,   150.66,2,    36.65,2,     0.00,2,    2.540,2,     -999,9,     -999,9,     -999,9,     -999,9,     -999,9,     -999,     -999,9,     -999,9,     -999,9,     -999,9,   1.2546,2,  27.7666,2,   1.5268,2
49UP20210920_1,   P03,    74,  1,      9,     750,2,20210929,1148,1234, 24.2585, 167.2427, 5612,   3805.9,    1.5094,  34.6782,2,    147.6,2,     -999,9,   147.87,2,   149.36,2,    36.36,2,     0.00,2,    2.520,2,     -999,9,     -999,9,     -999,9,     -999,9,     -999,9,     -999,     -999,9,     -999,9,     -999,9,     -999,9,   1.2112,2,  27.7725,2,   1.5095,2
49UP20210920_1,   P03,    74,  1,      8,     320,2,20210929,1148,1229, 24.2585, 167.2427, 5612,   4065.2,    1.4883,  34.6820,2,    152.6,2,     -999,9,   153.08,2,   147.87,2,    36.03,2,     0.00,2,    2.500,2,     -999,9,     -999,9,     -999,9,     -999,9,     -999,9,     -999,     -999,9,     -999,9,     -999,9,     -999,9,   1.1627,2,  27.7789,2,   1.4884,2
49UP20210920_1,   P03,    74,  1,      7,     319,2,20210929,1148,1223, 24.2585, 167.2427, 5612,   4320.0,    1.4704,  34.6859,2,    158.3,2,     -999,9,   158.50,2,   145.16,2,    35.60,2,     0.00,2,    2.460,2,     -999,9,     -999,9,     -999,9,     -999,9,     -999,9,     -999,     -999,9,     -999,9,     -999,9,     -999,9,   1.1168,2,  27.7851,2,   1.4705,2
49UP20210920_1,   P03,    74,  1,      6,     318,2,20210929,1148,1217, 24.2585, 167.2427, 5612,   4578.3,    1.4613,  34.6891,2,    163.6,2,     -999,9,   163.40,6,   141.87,6,    35.26,6,     0.00,6,    2.430,6,     -999,9,     -999,9,     -999,9,     -999,9,     -999,9,     -999,     -999,9,     -999,9,     -999,9,     -999,9,   1.0785,2,  27.7903,2,   1.4614,2
49UP20210920_1,   P03,    74,  1,      5,     317,2,20210929,1148,1211, 24.2585, 167.2427, 5612,   4834.7,    1.4544,  34.6922,2,    168.5,2,     -999,9,   168.28,2,   139.04,2,    34.87,2,     0.00,2,    2.400,2,     -999,9,     -999,9,     -999,9,     -999,9,     -999,9,     -999,     -999,9,     -999,9,     -999,9,     -999,9,   1.0416,2,  27.7952,2,   1.4546,2
49UP20210920_1,   P03,    74,  1,      4,     316,2,20210929,1148,1205, 24.2585, 167.2427, 5612,   5092.5,    1.4500,  34.6947,2,    173.5,2,     -999,9,   173.87,2,   136.16,2,    34.48,2,     0.00,2,    2.380,2,     -999,9,     -999,9,     -999,9,     -999,9,     -999,9,     -999,     -999,9,     -999,9,     -999,9,     -999,9,   1.0061,2,  27.7996,2,   1.4500,2
49UP20210920_1,   P03,    74,  1,      3,     315,2,20210929,1148,1159, 24.2585, 167.2427, 5612,   5350.2,    1.4599,  34.6964,2,    176.6,2,     -999,9,   176.51,2,   134.50,2,    34.31,2,     0.00,2,    2.360,2,     -999,9,     -999,9,     -999,9,     -999,9,     -999,9,     -999,     -999,9,     -999,9,     -999,9,     -999,9,   0.9837,2,  27.8025,2,   1.4599,2
49UP20210920_1,   P03,    74,  1,      2,     314,3,20210929,1148,1153, 24.2585, 167.2427, 5612,   5607.8,    1.4787,  34.6973,2,    178.4,2,     -999,9,   178.39,2,   133.41,2,    34.13,2,     0.00,2,    2.350,2,     -999,9,     -999,9,     -999,9,     -999,9,     -999,9,     -999,     -999,9,     -999,9,     -999,9,     -999,9,   0.9690,2,  27.8042,2,   1.4786,2
49UP20210920_1,   P03,    74,  1,      1,     811,2,20210929,1148,1149, 24.2585, 167.2427, 5612,   5765.4,    1.4921,  34.6979,2,    179.5,2,     -999,9,   179.38,2,   132.72,2,    34.06,2,     0.00,2,    2.340,2,     -999,9,     -999,9,     -999,9,     -999,9,     -999,9,     -999,     -999,9,     -999,9,     -999,9,     -999,9,   0.9614,2,  27.8051,2,   1.4920,2