BOTTLE,20230808CCHSIOADS
# Changed bucket samples: BTLNBR to BUC and flag to 2 
# DATA CITATION
#| CCHDO Citation Information
#|
#| Please cite data downloaded from CCHDO as: 
#| [Data providers of the parameter(s) used]. [Year of file access]. [CTD/Bottle] data from cruise [expocode], 
#| [format version used]. Accessed from CCHDO [url of cruise data page]. Access date [date of download].
#| [Applicable CCHDO cruise DOI if provided].
#|
#| For example: 
#| Swift, J. and Becker, S. 2019. CTD data from Cruise 33RR20160321, exchange version. Accessed from CCHDO 
#| https://cchdo.ucsd.edu/cruise/33RR20160321. Access date 2019-08-21. CCHDO cruise DOI: 10.7942/C2008W
#|
#| Information on the scientists who provided the different parameters can be found in the cruise report. 
#| Additionally, for US GO-SHIP cruises, this information is usually in the comments section in the text headers 
#| of the Exchange bottle files.
#|
#| Users are also encouraged to acknowledge the funding program that supported the data collection in their publication. 
#| For US GO-SHIP data this is the NSF/NOAA funded U.S Repeat Hydrography Program.
#|
EXPOCODE,SECT_ID,STNNBR,CASTNO,SAMPNO,BTLNBR,BTLNBR_FLAG_W,DATE,TIME,BTL_TIME,LATITUDE,LONGITUDE,DEPTH,CTDPRS,CTDTMP,CTDSAL,CTDSAL_FLAG_W,CTDOXY,CTDOXY_FLAG_W,SALNTY,SALNTY_FLAG_W,OXYGEN,OXYGEN_FLAG_W,SILCAT,SILCAT_FLAG_W,NO2+NO3,NO2+NO3_FLAG_W,NITRIT,NITRIT_FLAG_W,PHSPHT,PHSPHT_FLAG_W,CFC-11,CFC-11_FLAG_W,CFC-12,CFC-12_FLAG_W,TCARBN,TCARBN_FLAG_W,ALKALI,ALKALI_FLAG_W,PH_TOT,PH_TOT_FLAG_W,PH_TMP,CFC113,CFC113_FLAG_W,SF6,SF6_FLAG_W,CHLORA,CHLORA_FLAG_W,PPHYTN,PPHYTN_FLAG_W,THETA,THETA_FLAG_W,SIG0,SIG0_FLAG_W,SBE35,SBE35_FLAG_W
,,,,,,,,,,,,METERS,DBAR,ITS-90,PSS-78,,UMOL/KG,,PSS78,,UMOL/KG,,UMOL/KG,,UMOL/KG,,UMOL/KG,,UMOL/KG,,PMOL/KG,,PMOL/KG,,UMOL/KG,,UMOL/KG,,,,DEG C,PMOL/KG,,FMOL/KG,,UG/KG,,UG/KG,,ITS-90,,KG/M^3,,ITS-90,
49UP20210719_2,   P03,     1,  1,      0,     BUC,2,20210730,2046,2045, 26.0637, 127.8965,  436,      0.0,   28.6282,  34.2918,2,    195.9,2,  34.2980,2,   197.43,2,     1.21,2,     0.00,2,     0.00,2,    0.030,2,     -999,9,     -999,9,   1944.0,2,   2252.2,2,   8.0836,2,    25.00,     -999,9,     -999,9,     0.06,2,     0.02,2,  28.6277,2,  21.6561,2,     -999,9
49UP20210719_2,   P03,     1,  1,     30,     839,2,20210730,2046,2114, 26.0637, 127.8965,  436,      9.4,   28.5772,  34.2961,2,    195.8,2,  34.3011,2,   198.24,2,     1.29,2,     0.00,2,     0.00,2,    0.020,2,    1.119,2,    0.781,2,   1945.7,2,   2251.5,2,   8.0836,2,    25.00,    0.106,2,    1.518,2,     0.06,2,     0.02,2,  28.5749,2,  21.6767,2,  28.5625,2
49UP20210719_2,   P03,     1,  1,     29,     838,2,20210730,2046,2112, 26.0637, 127.8965,  436,     25.0,   27.8088,  34.3315,2,    199.4,2,  34.3308,2,   201.10,2,     1.27,2,     0.00,2,     0.00,2,    0.010,2,     -999,9,     -999,9,   1948.2,2,   2255.7,2,   8.0811,2,    25.00,     -999,9,     -999,9,     0.06,2,     0.03,2,  27.8029,2,  21.9561,2,  27.8094,2
49UP20210719_2,   P03,     1,  1,     28,     755,2,20210730,2046,2107, 26.0637, 127.8965,  436,     49.2,   26.3694,  34.4506,2,    205.8,2,  34.4307,4,   206.25,2,     1.27,2,     0.00,2,     0.00,2,    0.010,2,    1.237,2,    0.843,2,   1954.8,2,   2258.4,2,   8.0777,2,    25.00,    0.108,2,    1.736,2,     0.09,2,     0.04,2,  26.3583,2,  22.5069,2,  26.3704,2
49UP20210719_2,   P03,     1,  1,     21,     830,2,20210730,2046,2105, 26.0637, 127.8965,  436,     74.5,   24.0525,  34.7734,2,    220.7,2,  34.7757,2,   220.73,2,     1.37,2,     0.00,2,     0.00,2,    0.010,2,     -999,9,     -999,9,   1982.9,2,   2283.5,2,   8.0634,6,    25.00,     -999,9,     -999,9,     0.12,2,     0.07,2,  24.0368,2,  23.4589,2,  24.0524,2
49UP20210719_2,   P03,     1,  1,     20,     829,2,20210730,2046,2103, 26.0637, 127.8965,  436,     99.6,   23.0455,  34.8437,2,    212.6,2,  34.8416,2,   212.80,2,     1.44,2,     0.00,2,     0.00,2,    0.020,2,    1.524,2,    0.959,2,   1997.4,6,   2287.7,6,   8.0438,2,    25.00,    0.133,2,    1.752,2,     0.17,2,     0.14,2,  23.0252,2,  23.8078,2,  23.0083,2
49UP20210719_2,   P03,     1,  1,     19,     828,2,20210730,2046,2102, 26.0637, 127.8965,  436,    125.4,   21.6378,  34.8179,2,    212.7,2,  34.8186,6,   213.08,6,     1.57,6,     0.01,6,     0.05,6,    0.030,6,     -999,9,     -999,9,   2005.9,2,   2285.8,2,   8.0287,2,    25.00,     -999,9,     -999,9,     0.25,2,     0.42,2,  21.6133,2,  24.1871,2,  21.6439,2
49UP20210719_2,   P03,     1,  1,     17,     751,2,20210730,2046,2100, 26.0637, 127.8965,  436,    151.4,   20.6100,  34.8449,2,    195.6,2,  34.8483,2,   196.31,2,     2.25,2,     1.68,2,     0.02,2,    0.140,2,     -999,9,     -999,9,   2028.2,2,   2286.4,2,   7.9892,2,    25.00,     -999,9,     -999,9,     0.08,2,     0.28,2,  20.5815,2,  24.4889,2,  20.6106,2
49UP20210719_2,   P03,     1,  1,     18,     752,2,20210730,2046,2100, 26.0637, 127.8965,  436,    151.5,   20.6115,  34.8448,2,    195.8,2,  34.8477,2,   196.58,2,     2.21,2,     1.57,2,     0.03,2,    0.140,2,    1.695,2,    1.038,2,   2028.8,2,   2286.5,2,   7.9896,2,    25.00,    0.129,2,    1.928,2,     -999,9,     -999,9,  20.5829,2,  24.4884,2,  20.6131,2
49UP20210719_2,   P03,     1,  1,     16,     328,2,20210730,2046,2057, 26.0637, 127.8965,  436,    204.5,   18.4959,  34.8046,2,    193.2,2,  34.8072,2,   193.48,2,     3.74,2,     4.13,2,     0.00,2,    0.290,2,    1.905,2,    1.114,2,   2048.1,2,   2285.3,2,   7.9498,2,    25.00,    0.099,2,    1.833,2,     0.00,2,     0.02,2,  18.4601,2,  25.0082,2,  18.5075,2
49UP20210719_2,   P03,     1,  1,      9,     750,2,20210730,2046,2055, 26.0637, 127.8965,  436,    251.6,   17.4384,  34.7603,2,    197.4,2,  34.7602,6,   198.25,2,     4.64,2,     5.23,2,     0.00,2,    0.360,2,    2.006,2,    1.147,2,   2054.8,2,   2280.5,2,   7.9325,6,    25.00,    0.122,2,    1.944,2,     -999,9,     -999,9,  17.3962,2,  25.2355,2,  17.4387,2
49UP20210719_2,   P03,     1,  1,      8,     320,3,20210730,2046,2053, 26.0637, 127.8965,  436,    301.3,   16.5959,  34.7064,2,    193.2,2,  34.7042,2,   193.77,2,     6.51,2,     6.96,2,     0.00,2,    0.470,2,    2.121,2,    1.170,2,   2065.5,6,   2280.7,6,   7.9063,2,    25.00,    0.103,2,    1.805,2,     -999,9,     -999,9,  16.5469,2,  25.3955,2,  16.5905,2
49UP20210719_2,   P03,     1,  1,      7,     319,2,20210730,2046,2049, 26.0637, 127.8965,  436,    401.5,   13.3274,  34.4477,2,    180.9,2,  34.4476,6,   179.52,6,    16.39,6,    13.35,6,     0.00,6,    0.930,6,    2.393,2,    1.209,2,   2107.0,2,   2273.9,2,   7.8035,2,    25.00,    0.159,2,    1.634,2,     -999,9,     -999,9,  13.2711,2,  25.9104,2,  13.3250,2
49UP20210719_2,   P03,     1,  1,      3,     315,2,20210730,2046,2047, 26.0637, 127.8965,  436,    437.0,   12.8438,  34.4199,2,    177.9,2,  34.4193,2,   176.08,2,    18.72,2,    14.50,2,     0.00,2,    1.010,2,    2.383,2,    1.188,2,   2115.5,2,   2275.0,2,   7.7882,2,    25.00,    0.190,2,    1.528,2,     -999,9,     -999,9,  12.7840,2,  25.9864,2,  12.8437,2
49UP20210719_2,   P03,     1,  1,      2,     314,2,20210730,2046,2047, 26.0637, 127.8965,  436,    437.3,   12.8424,  34.4201,2,    177.9,2,  34.4202,2,   176.50,2,    18.65,2,    14.48,2,     0.00,2,    1.010,2,     -999,9,     -999,9,   2114.6,2,   2275.5,2,   7.7912,2,    25.00,     -999,9,     -999,9,     -999,9,     -999,9,  12.7825,2,  25.9869,2,  12.8449,2
49UP20210719_2,   P03,     3,  1,      0,     BUC,2,20210731,0309, 344, 25.9112, 128.1468, 2063,      0.0,   28.7435,  34.2379,2,    196.8,2,  34.2517,2,   196.30,2,     1.13,2,     0.23,2,     0.00,2,    0.060,2,     -999,9,     -999,9,   1941.9,2,   2248.5,2,   8.0848,2,    25.00,     -999,9,     -999,9,     0.08,2,     0.02,2,  28.7429,2,  21.5774,2,     -999,9
49UP20210719_2,   P03,     3,  1,     36,     757,2,20210731,0309, 428, 25.9112, 128.1468, 2063,      9.8,   28.3758,  34.2373,2,    197.9,2,  34.2376,2,   198.89,2,     1.09,2,     0.18,2,     0.00,2,    0.010,2,     -999,9,     -999,9,   1941.9,2,   2247.0,2,   8.0780,2,    25.00,     -999,9,     -999,9,     0.06,2,     0.02,2,  28.3735,2,  21.6990,2,  28.3752,2
49UP20210719_2,   P03,     3,  1,     35,     756,2,20210731,0309, 427, 25.9112, 128.1468, 2063,     24.7,   28.1021,  34.3202,2,    198.9,2,  34.3207,2,   199.59,2,     1.17,2,     0.13,2,     0.00,2,    0.010,2,     -999,9,     -999,9,   1947.6,2,   2252.9,2,   8.0814,2,    25.00,     -999,9,     -999,9,     0.06,2,     0.02,2,  28.0963,2,  21.8521,2,  28.1009,2
49UP20210719_2,   P03,     3,  1,     34,     843,2,20210731,0309, 422, 25.9112, 128.1468, 2063,     49.8,   24.7807,  34.7763,2,    223.1,2,  34.7766,2,   221.72,2,     1.25,2,     0.11,2,     0.00,2,    0.020,2,     -999,9,     -999,9,   1979.1,2,   2283.7,2,   8.0685,2,    25.00,     -999,9,     -999,9,     0.10,2,     0.04,2,  24.7700,2,  23.2418,2,  24.7807,2
49UP20210719_2,   P03,     3,  1,     30,     839,2,20210731,0309, 420, 25.9112, 128.1468, 2063,     75.2,   23.2432,  34.8222,2,    221.4,2,  34.8235,2,   220.83,2,     1.35,2,     0.14,2,     0.00,2,    0.010,2,     -999,9,     -999,9,   1989.8,2,   2285.1,2,   8.0533,2,    25.00,     -999,9,     -999,9,     0.15,2,     0.07,2,  23.2278,2,  23.7329,2,  23.2459,2
49UP20210719_2,   P03,     3,  1,     29,     838,2,20210731,0309, 419, 25.9112, 128.1468, 2063,    100.6,   21.9513,  34.8138,2,    215.0,2,  34.8141,2,   214.94,2,     1.51,2,     0.09,2,     0.00,2,    0.020,2,     -999,9,     -999,9,   2001.4,2,   2285.0,2,   8.0364,2,    25.00,     -999,9,     -999,9,     0.22,2,     0.22,2,  21.9314,2,  24.0955,2,  21.9505,2
49UP20210719_2,   P03,     3,  1,     28,     755,2,20210731,0309, 417, 25.9112, 128.1468, 2063,    125.0,   21.1425,  34.8217,2,    200.7,2,  34.8217,2,   202.43,2,     1.77,2,     1.04,2,     0.17,2,    0.080,2,     -999,9,     -999,9,   2017.4,2,   2285.5,2,   8.0069,2,    25.00,     -999,9,     -999,9,     0.24,2,     0.49,2,  21.1185,2,  24.3259,2,  21.1445,2
49UP20210719_2,   P03,     3,  1,     27,     754,3,20210731,0309, 415, 25.9112, 128.1468, 2063,    150.5,   20.7157,  34.9221,2,    184.5,2,  34.9219,2,   185.36,2,     2.26,2,     2.39,2,     0.02,2,    0.190,2,     -999,9,     -999,9,   2043.9,2,   2295.4,2,   7.9682,2,    25.00,     -999,9,     -999,9,     0.05,2,     0.16,2,  20.6872,2,  24.5193,2,  20.7138,2
49UP20210719_2,   P03,     3,  1,     26,     835,3,20210731,0309, 413, 25.9112, 128.1468, 2063,    201.2,   18.8194,  34.8375,2,    187.5,2,  34.8372,2,   187.88,2,     3.28,2,     4.09,2,     0.00,2,    0.300,2,     -999,9,     -999,9,   2055.3,2,   2288.0,2,   7.9380,2,    25.00,     -999,9,     -999,9,     0.00,2,     0.02,2,  18.7838,2,  24.9519,2,  18.8154,2
49UP20210719_2,   P03,     3,  1,     25,     834,2,20210731,0309, 411, 25.9112, 128.1468, 2063,    250.4,   17.5042,  34.7662,2,    193.5,2,  34.7662,6,   193.83,2,     4.38,2,     5.34,2,     0.00,2,    0.380,2,     -999,9,     -999,9,   2059.7,2,   2281.3,2,   7.9211,2,    25.00,     -999,9,     -999,9,     -999,9,     -999,9,  17.4620,2,  25.2242,2,  17.5016,2
49UP20210719_2,   P03,     3,  1,     21,     830,2,20210731,0309, 409, 25.9112, 128.1468, 2063,    282.6,   16.7778,  34.7195,2,    191.8,2,  34.7196,2,   192.27,6,     5.83,6,     6.79,6,     0.00,6,    0.470,6,     -999,9,     -999,9,   2064.3,2,   2280.8,2,   7.9083,2,    25.00,     -999,9,     -999,9,     -999,9,     -999,9,  16.7316,2,  25.3623,2,  16.7758,2
49UP20210719_2,   P03,     3,  1,     19,     828,3,20210731,0309, 405, 25.9112, 128.1468, 2063,    373.6,   14.4644,  34.5356,2,    184.8,2,  34.5356,2,   185.23,2,    12.06,2,    11.04,2,     0.00,2,    0.760,2,     -999,9,     -999,9,   2092.3,2,   2276.7,2,   7.8414,2,    25.00,     -999,9,     -999,9,     -999,9,     -999,9,  14.4091,2,  25.7416,2,  14.4641,2
49UP20210719_2,   P03,     3,  1,     20,     829,2,20210731,0309, 406, 25.9112, 128.1468, 2063,    374.7,   14.4610,  34.5353,2,    184.9,2,  34.5357,2,   185.08,2,    12.04,2,    11.05,2,     0.00,2,    0.760,2,     -999,9,     -999,9,   2092.3,2,   2276.6,2,   7.8413,2,    25.00,     -999,9,     -999,9,     -999,9,     -999,9,  14.4055,2,  25.7422,2,  14.4610,2
49UP20210719_2,   P03,     3,  1,     18,     752,2,20210731,0309, 400, 25.9112, 128.1468, 2063,    474.0,   11.4575,  34.3148,2,    173.6,2,  34.3155,2,   173.38,2,    23.42,2,    17.07,2,     0.00,2,    1.190,2,     -999,9,     -999,9,   2132.9,2,   2276.1,2,   7.7479,6,    25.00,     -999,9,     -999,9,     -999,9,     -999,9,  11.3972,2,  26.1696,2,  11.4536,2
49UP20210719_2,   P03,     3,  1,     17,     751,2,20210731,0309, 356, 25.9112, 128.1468, 2063,    575.1,    9.0857,  34.1970,2,    141.8,2,  34.1971,2,   141.38,2,    39.05,2,    24.19,2,     0.00,2,    1.720,2,     -999,9,     -999,9,   2181.5,6,   2281.7,6,   7.6362,2,    25.00,     -999,9,     -999,9,     -999,9,     -999,9,   9.0221,2,  26.4858,2,   9.0857,2
49UP20210719_2,   P03,     3,  1,     16,     328,2,20210731,0309, 353, 25.9112, 128.1468, 2063,    676.4,    6.6608,  34.1858,2,    103.5,2,  34.1848,6,   103.57,2,    67.58,2,    31.92,2,     0.00,2,    2.280,2,     -999,9,     -999,9,   2246.4,2,   2305.4,2,   7.5185,2,    25.00,     -999,9,     -999,9,     -999,9,     -999,9,   6.5978,2,  26.8318,2,   6.6600,2
49UP20210719_2,   P03,     3,  1,     12,     324,2,20210731,0309, 350, 25.9112, 128.1468, 2063,    775.7,    5.7685,  34.2168,2,     86.5,2,  34.2187,4,    87.15,2,    81.17,2,    34.83,2,     0.00,2,    2.490,2,     -999,9,     -999,9,   2272.6,2,   2319.6,2,   7.4779,2,    25.00,     -999,9,     -999,9,     -999,9,     -999,9,   5.7009,2,  26.9710,2,   5.7686,2
49UP20210719_2,   P03,     3,  1,     11,     323,2,20210731,0309, 347, 25.9112, 128.1468, 2063,    878.4,    4.9102,  34.3135,2,     72.6,2,  34.3141,2,    72.95,2,    97.20,2,    37.64,2,     0.00,2,    2.690,2,     -999,9,     -999,9,   2304.3,2,   2342.1,2,   7.4518,2,    25.00,     -999,9,     -999,9,     -999,9,     -999,9,   4.8387,2,  27.1494,2,   4.9097,2
49UP20210719_2,   P03,     3,  1,     10,     322,2,20210731,0309, 346, 25.9112, 128.1468, 2063,    878.4,    4.9132,  34.3131,2,     72.6,2,  34.3135,2,    73.38,2,    97.22,2,    37.70,2,     0.00,2,    2.690,2,     -999,9,     -999,9,   2306.7,2,   2341.8,2,   7.4483,2,    25.00,     -999,9,     -999,9,     -999,9,     -999,9,   4.8416,2,  27.1487,2,   4.9124,2
49UP20210719_2,   P03,     3,  1,      9,     750,2,20210731,0309, 343, 25.9112, 128.1468, 2063,    977.7,    4.3429,  34.3887,2,     72.7,2,  34.3895,2,    72.90,6,   108.97,6,    38.46,6,     0.00,6,    2.750,6,     -999,9,     -999,9,   2316.1,2,   2359.3,2,   7.4535,2,    25.00,     -999,9,     -999,9,     -999,9,     -999,9,   4.2667,2,  27.2719,2,   4.3427,2
49UP20210719_2,   P03,     3,  1,      8,     320,2,20210731,0309, 333, 25.9112, 128.1468, 2063,   1142.0,    3.4453,  34.4593,2,     72.3,2,  34.4594,2,    72.60,2,   125.69,2,    39.67,2,     0.00,2,    2.820,2,     -999,9,     -999,9,   2338.6,2,   2379.7,2,   7.4510,6,    25.00,     -999,9,     -999,9,     -999,9,     -999,9,   3.3626,2,  27.4195,2,   3.4470,2
49UP20210719_2,   P03,     3,  1,      7,     319,2,20210731,0309, 328, 25.9112, 128.1468, 2063,   1343.1,    2.8252,  34.4940,2,     72.6,2,  34.4948,6,    72.94,2,   137.61,2,    40.51,2,     0.00,2,    2.870,2,     -999,9,     -999,9,   2352.4,6,   2390.2,6,   7.4393,2,    25.00,     -999,9,     -999,9,     -999,9,     -999,9,   2.7323,2,  27.5052,2,   2.8249,2
49UP20210719_2,   P03,     3,  1,      4,     316,2,20210731,0309, 323, 25.9112, 128.1468, 2063,   1545.7,    2.4629,  34.5404,2,     85.1,2,  34.5412,2,    85.48,2,   142.31,2,    39.93,2,     0.00,2,    2.830,2,     -999,9,     -999,9,   2352.8,2,   2394.2,2,   7.4659,2,    25.00,     -999,9,     -999,9,     -999,9,     -999,9,   2.3577,2,  27.5744,2,   2.4629,2
49UP20210719_2,   P03,     3,  1,      3,     315,2,20210731,0309, 318, 25.9112, 128.1468, 2063,   1748.0,    2.1774,  34.5790,2,     99.3,2,  34.5801,2,    99.76,2,   144.47,2,    39.21,2,     0.00,2,    2.760,2,     -999,9,     -999,9,   2349.3,2,   2405.0,2,   7.4911,2,    25.00,     -999,9,     -999,9,     -999,9,     -999,9,   2.0594,2,  27.6297,2,   2.1773,2
49UP20210719_2,   P03,     3,  1,      2,     314,2,20210731,0309, 313, 25.9112, 128.1468, 2063,   1951.5,    1.9620,  34.6114,2,    113.8,2,  34.6120,2,   113.78,2,   144.56,2,    38.35,2,     0.00,2,    2.690,2,     -999,9,     -999,9,   2344.5,2,   2409.2,2,   7.5207,6,    25.00,     -999,9,     -999,9,     -999,9,     -999,9,   1.8303,2,  27.6736,2,   1.9623,2
49UP20210719_2,   P03,     3,  1,      1,     811,2,20210731,0309, 309, 25.9112, 128.1468, 2063,   2075.8,    1.9310,  34.6181,2,    117.0,2,  34.6188,6,   116.97,2,   144.45,2,    38.24,2,     0.00,2,    2.680,2,     -999,9,     -999,9,   2342.6,6,   2409.1,6,   7.5290,2,    25.00,     -999,9,     -999,9,     -999,9,     -999,9,   1.7893,2,  27.6821,2,   1.9313,2