BOTTLE,20230808CCHSIOADS
EXPOCODE,SECT_ID,STNNBR,CASTNO,SAMPNO,BTLNBR,BTLNBR_FLAG_W,DATE,TIME,BTL_TIME,LATITUDE,LONGITUDE,DEPTH,CTDPRS,CTDTMP,CTDSAL,CTDSAL_FLAG_W,CTDOXY,CTDOXY_FLAG_W,SALNTY,SALNTY_FLAG_W,OXYGEN,OXYGEN_FLAG_W,SILCAT,SILCAT_FLAG_W,NO2+NO3,NO2+NO3_FLAG_W,NITRIT,NITRIT_FLAG_W,PHSPHT,PHSPHT_FLAG_W,CFC-11,CFC-11_FLAG_W,CFC-12,CFC-12_FLAG_W,TCARBN,TCARBN_FLAG_W,ALKALI,ALKALI_FLAG_W,PH_TOT,PH_TOT_FLAG_W,PH_TMP,CFC113,CFC113_FLAG_W,SF6,SF6_FLAG_W,CHLORA,CHLORA_FLAG_W,PPHYTN,PPHYTN_FLAG_W,THETA,THETA_FLAG_W,SIG0,SIG0_FLAG_W,SBE35,SBE35_FLAG_W
,,,,,,,,,,,,METERS,DBAR,ITS-90,PSS-78,,UMOL/KG,,PSS78,,UMOL/KG,,UMOL/KG,,UMOL/KG,,UMOL/KG,,UMOL/KG,,PMOL/KG,,PMOL/KG,,UMOL/KG,,UMOL/KG,,,,DEG C,PMOL/KG,,FMOL/KG,,UG/KG,,UG/KG,,ITS-90,,KG/M^3,,ITS-90,
49UP20210827_1,   P03,    47,  1,      0,     BUC,2,20210901,1208,1425, 24.2643, 147.2208, 5826,      0.0,   29.2483,  34.7941,2,    196.5,2,  34.8008,2,   197.13,2,     1.26,2,     0.00,2,     0.00,2,    0.040,2,     -999,9,     -999,9,   1960.6,2,   2286.1,2,   8.0940,2,    25.00,     -999,9,     -999,9,     0.03,2,     0.01,2,  29.2477,2,  21.8266,2,     -999,9
49UP20210827_1,   P03,    47,  1,     36,     757,2,20210901,1208,1452, 24.2643, 147.2208, 5826,     10.5,   29.2550,  34.7931,2,    196.7,2,  34.7933,2,   196.98,2,     1.25,2,     0.00,2,     0.00,2,    0.010,2,     -999,9,     -999,9,   1961.0,2,   2286.8,2,   8.0967,2,    25.00,     -999,9,     -999,9,     0.03,2,     0.01,2,  29.2525,2,  21.8242,2,  29.2540,2
49UP20210827_1,   P03,    47,  1,     35,     756,2,20210901,1208,1450, 24.2643, 147.2208, 5826,     51.2,   25.8674,  35.0445,2,    220.2,2,  35.0435,2,   220.51,2,     1.36,2,     0.00,2,     0.00,2,    0.000,2,     -999,9,     -999,9,   1980.1,2,   2302.3,2,   8.0876,2,    25.00,     -999,9,     -999,9,     0.05,2,     0.02,2,  25.8560,2,  23.1117,2,  25.8700,2
49UP20210827_1,   P03,    47,  1,     34,     843,2,20210901,1208,1445, 24.2643, 147.2208, 5826,    100.8,   21.7375,  34.9858,2,    213.7,2,  34.9858,2,   214.03,2,     1.83,2,     0.00,2,     0.00,2,    0.020,2,     -999,9,     -999,9,   2015.0,2,   2298.5,2,   8.0234,2,    25.00,     -999,9,     -999,9,     0.13,2,     0.16,2,  21.7178,2,  24.2858,2,  21.7381,2
49UP20210827_1,   P03,    47,  1,     33,     842,2,20210901,1208,1443, 24.2643, 147.2208, 5826,    150.2,   19.9548,  34.8628,2,    211.2,2,  34.8624,2,   211.39,2,     2.18,2,     0.61,2,     0.03,2,    0.070,2,     -999,9,     -999,9,   2024.5,2,   2290.6,2,   7.9953,2,    25.00,     -999,9,     -999,9,     0.08,2,     0.21,2,  19.9272,2,  24.6763,2,  19.9544,2
49UP20210827_1,   P03,    47,  1,     32,     841,2,20210901,1208,1441, 24.2643, 147.2208, 5826,    203.8,   17.9767,  34.7832,2,    201.5,2,  34.7829,6,   201.74,2,     3.61,2,     3.60,2,     0.00,2,    0.250,2,     -999,9,     -999,9,   2046.4,2,   2285.8,2,   7.9422,2,    25.00,     -999,9,     -999,9,     0.01,2,     0.03,2,  17.9418,2,  25.1203,2,  17.9688,2
49UP20210827_1,   P03,    47,  1,     31,     840,2,20210901,1208,1439, 24.2643, 147.2208, 5826,    251.6,   17.2376,  34.7452,2,    204.8,2,  34.7445,2,   204.87,6,     4.47,6,     4.66,6,     0.00,6,    0.320,6,     -999,9,     -999,9,   2052.1,2,   2283.4,2,   7.9360,2,    25.00,     -999,9,     -999,9,     -999,9,     -999,9,  17.1957,2,  25.2721,2,  17.2381,2
49UP20210827_1,   P03,    47,  1,     30,     839,2,20210901,1208,1437, 24.2643, 147.2208, 5826,    283.0,   16.6350,  34.7111,2,    199.3,2,  34.7103,2,   199.01,2,     5.60,2,     6.16,2,     0.00,2,    0.420,2,     -999,9,     -999,9,   2059.6,2,   2280.6,2,   7.9144,2,    25.00,     -999,9,     -999,9,     -999,9,     -999,9,  16.5890,2,  25.3893,2,  16.6348,2
49UP20210827_1,   P03,    47,  1,     29,     838,2,20210901,1208,1434, 24.2643, 147.2208, 5826,    375.2,   14.2678,  34.5066,2,    193.2,2,  34.5098,2,   192.68,2,    10.80,2,    10.11,2,     0.00,2,    0.700,2,     -999,9,     -999,9,   2086.1,2,   2274.7,2,   7.8457,6,    25.00,     -999,9,     -999,9,     -999,9,     -999,9,  14.2128,2,  25.7610,2,  14.2832,2
49UP20210827_1,   P03,    47,  1,     28,     755,2,20210901,1208,1430, 24.2643, 147.2208, 5826,    475.9,   11.8418,  34.3174,2,    188.8,2,  34.3176,2,   188.64,2,    18.47,2,    14.63,2,     0.00,2,    1.020,2,     -999,9,     -999,9,   2114.9,6,   2269.6,6,   7.7753,2,    25.00,     -999,9,     -999,9,     -999,9,     -999,9,  11.7800,2,  26.1005,2,  11.8418,2
49UP20210827_1,   P03,    47,  1,     27,     754,2,20210901,1208,1427, 24.2643, 147.2208, 5826,    576.5,    8.8338,  34.1164,2,    165.5,2,  34.1175,2,   165.93,2,    34.31,2,    22.09,2,     0.00,2,    1.570,2,     -999,9,     -999,9,   2164.7,2,   2274.2,2,   7.6569,2,    25.00,     -999,9,     -999,9,     -999,9,     -999,9,   8.7712,2,  26.4623,2,   8.8413,2
49UP20210827_1,   P03,    47,  1,     26,     835,3,20210901,1208,1423, 24.2643, 147.2208, 5826,    677.3,    6.1610,  34.0837,2,    106.3,2,  34.0844,2,   106.39,2,    65.98,2,    32.37,2,     0.00,2,    2.330,2,     -999,9,     -999,9,   2244.7,2,   2297.2,2,   7.4928,2,    25.00,     -999,9,     -999,9,     -999,9,     -999,9,   6.1006,2,  26.8159,2,   6.1592,2
49UP20210827_1,   P03,    47,  1,     25,     834,2,20210901,1208,1420, 24.2643, 147.2208, 5826,    777.0,    5.0699,  34.1854,2,     68.3,2,  34.1832,2,    68.61,2,    87.95,2,    37.62,2,     0.00,2,    2.700,2,     -999,9,     -999,9,   2292.0,2,   2321.4,2,   7.4180,2,    25.00,     -999,9,     -999,9,     -999,9,     -999,9,   5.0064,2,  27.0287,2,   5.0701,2
49UP20210827_1,   P03,    47,  1,     24,     753,2,20210901,1208,1417, 24.2643, 147.2208, 5826,    879.5,    4.3461,  34.2554,2,     52.4,2,  34.2547,2,    53.39,2,   103.98,2,    40.06,2,     0.00,2,    2.860,2,     -999,9,     -999,9,   2320.1,2,   2338.9,2,   7.3882,2,    25.00,     -999,9,     -999,9,     -999,9,     -999,9,   4.2783,2,  27.1647,2,   4.3506,2
49UP20210827_1,   P03,    47,  1,     23,     832,2,20210901,1208,1413, 24.2643, 147.2208, 5826,    981.4,    3.8603,  34.3361,2,     46.3,2,  34.3336,6,    46.40,2,   116.76,2,    41.25,2,     0.00,2,    2.940,2,     -999,9,     -999,9,   2337.4,2,   2355.0,2,   7.3785,2,    25.00,     -999,9,     -999,9,     -999,9,     -999,9,   3.7875,2,  27.2797,2,   3.8614,2
49UP20210827_1,   P03,    47,  1,     22,     831,2,20210901,1208,1408, 24.2643, 147.2208, 5826,   1141.9,    3.2728,  34.4234,2,     47.3,2,  34.4219,2,    47.27,6,   131.69,6,    41.86,6,     0.00,6,    2.980,6,     -999,9,     -999,9,   2355.4,2,   2374.8,2,   7.3826,2,    25.00,     -999,9,     -999,9,     -999,9,     -999,9,   3.1917,2,  27.4071,2,   3.2737,2
49UP20210827_1,   P03,    47,  1,     21,     830,2,20210901,1208,1403, 24.2643, 147.2208, 5826,   1345.4,    2.7752,  34.4883,2,     58.5,2,  34.4877,2,    58.30,2,   142.48,2,    41.41,2,     0.00,2,    2.930,2,     -999,9,     -999,9,   2364.2,2,   2389.0,2,   7.4067,2,    25.00,     -999,9,     -999,9,     -999,9,     -999,9,   2.6826,2,  27.5050,2,   2.7751,2
49UP20210827_1,   P03,    47,  1,     20,     829,2,20210901,1208,1356, 24.2643, 147.2208, 5826,   1547.4,    2.3928,  34.5387,2,     69.8,2,  34.5387,2,    69.89,2,   149.99,2,    40.97,2,     0.00,2,    2.890,2,     -999,9,     -999,9,   2363.4,2,   2398.4,2,   7.4313,2,    25.00,     -999,9,     -999,9,     -999,9,     -999,9,   2.2883,2,  27.5788,2,   2.3926,2
49UP20210827_1,   P03,    47,  1,     19,     828,2,20210901,1208,1351, 24.2643, 147.2208, 5826,   1749.1,    2.1676,  34.5753,2,     86.0,2,  34.5747,2,    86.07,2,   150.83,2,    40.04,2,     0.00,2,    2.810,2,     -999,9,     -999,9,   2356.9,2,   2406.0,2,   7.4613,2,    25.00,     -999,9,     -999,9,     -999,9,     -999,9,   2.0496,2,  27.6275,2,   2.1678,2
49UP20210827_1,   P03,    47,  1,     18,     752,2,20210901,1208,1346, 24.2643, 147.2208, 5826,   1952.2,    2.0115,  34.5996,2,     98.1,2,  34.5996,2,    98.81,2,   150.75,2,    39.28,2,     0.00,2,    2.760,2,     -999,9,     -999,9,   2352.6,2,   2408.1,2,   7.4849,2,    25.00,     -999,9,     -999,9,     -999,9,     -999,9,   1.8790,2,  27.6604,2,   2.0116,2
49UP20210827_1,   P03,    47,  1,     17,     751,2,20210901,1208,1340, 24.2643, 147.2208, 5826,   2155.6,    1.8830,  34.6194,2,    108.2,2,  34.6197,2,   108.23,2,   151.56,2,    38.71,2,     0.00,2,    2.710,2,     -999,9,     -999,9,   2348.3,2,   2410.4,2,   7.5046,6,    25.00,     -999,9,     -999,9,     -999,9,     -999,9,   1.7353,2,  27.6873,2,   1.8831,2
49UP20210827_1,   P03,    47,  1,     16,     328,2,20210901,1208,1335, 24.2643, 147.2208, 5826,   2360.1,    1.7666,  34.6357,2,    117.0,2,  34.6362,2,   117.32,2,   151.27,2,    38.21,2,     0.00,2,    2.670,2,     -999,9,     -999,9,   2346.4,6,   2412.6,6,   7.5205,2,    25.00,     -999,9,     -999,9,     -999,9,     -999,9,   1.6032,2,  27.7103,2,   1.7666,2
49UP20210827_1,   P03,    47,  1,     15,     822,2,20210901,1208,1330, 24.2643, 147.2208, 5826,   2563.2,    1.6978,  34.6473,2,    123.0,2,  34.6468,2,   123.10,2,   151.60,2,    37.89,2,     0.00,2,    2.640,2,     -999,9,     -999,9,   2342.4,2,   2414.7,2,   7.5317,2,    25.00,     -999,9,     -999,9,     -999,9,     -999,9,   1.5175,2,  27.7259,2,   1.6977,2
49UP20210827_1,   P03,    47,  1,     14,     326,2,20210901,1208,1324, 24.2643, 147.2208, 5826,   2766.4,    1.6436,  34.6550,2,    128.1,2,  34.6548,6,   128.16,2,   151.49,2,    37.54,2,     0.00,2,    2.610,2,     -999,9,     -999,9,   2344.5,2,   2413.8,2,   7.5412,2,    25.00,     -999,9,     -999,9,     -999,9,     -999,9,   1.4458,2,  27.7372,2,   1.6434,2
49UP20210827_1,   P03,    47,  1,     13,     325,2,20210901,1208,1319, 24.2643, 147.2208, 5826,   2968.9,    1.5916,  34.6620,2,    133.2,2,  34.6617,2,   133.11,6,   151.24,6,    37.26,6,     0.00,6,    2.590,6,     -999,9,     -999,9,   2335.4,2,   2417.3,2,   7.5508,2,    25.00,     -999,9,     -999,9,     -999,9,     -999,9,   1.3758,2,  27.7479,2,   1.5915,2
49UP20210827_1,   P03,    47,  1,     12,     324,2,20210901,1208,1313, 24.2643, 147.2208, 5826,   3214.4,    1.5560,  34.6680,2,    138.2,2,  34.6680,2,   138.31,2,   150.91,2,    36.92,2,     0.00,2,    2.560,2,     -999,9,     -999,9,   2334.5,2,   2414.7,2,   7.5589,2,    25.00,     -999,9,     -999,9,     -999,9,     -999,9,   1.3172,2,  27.7569,2,   1.5560,2
49UP20210827_1,   P03,    47,  1,     11,     323,2,20210901,1208,1308, 24.2643, 147.2208, 5826,   3470.4,    1.5180,  34.6741,2,    143.8,2,  34.6737,2,   143.87,2,   149.75,2,    36.55,2,     0.00,2,    2.530,2,     -999,9,     -999,9,   2337.4,2,   2415.1,2,   7.5680,2,    25.00,     -999,9,     -999,9,     -999,9,     -999,9,   1.2545,2,  27.7661,2,   1.5181,2
49UP20210827_1,   P03,    47,  1,     10,     322,3,20210901,1208,1302, 24.2643, 147.2208, 5826,   3727.6,    1.4970,  34.6783,2,    148.3,2,  34.6767,4,   147.91,2,   148.71,2,    36.31,2,     0.00,2,    2.510,2,     -999,9,     -999,9,   2326.2,2,   2414.1,2,   7.5732,2,    25.00,     -999,9,     -999,9,     -999,9,     -999,9,   1.2074,2,  27.7728,2,   1.4971,2
49UP20210827_1,   P03,    47,  1,      9,     750,2,20210901,1208,1255, 24.2643, 147.2208, 5826,   3983.2,    1.4887,  34.6813,2,    152.2,2,  34.6809,2,   152.19,2,   147.51,2,    36.02,2,     0.00,2,    2.490,2,     -999,9,     -999,9,   2323.5,2,   2413.7,2,   7.5790,2,    25.00,     -999,9,     -999,9,     -999,9,     -999,9,   1.1719,2,  27.7776,2,   1.4886,2
49UP20210827_1,   P03,    47,  1,      8,     320,2,20210901,1208,1249, 24.2643, 147.2208, 5826,   4239.9,    1.4866,  34.6843,2,    155.7,2,  34.6835,4,   155.91,2,   146.20,2,    35.76,2,     0.00,2,    2.470,2,     -999,9,     -999,9,   2320.7,2,   2411.0,2,   7.5834,2,    25.00,     -999,9,     -999,9,     -999,9,     -999,9,   1.1416,2,  27.7821,2,   1.4868,2
49UP20210827_1,   P03,    47,  1,      7,     319,2,20210901,1208,1243, 24.2643, 147.2208, 5826,   4497.6,    1.4821,  34.6871,2,    160.0,2,  34.6868,2,   160.15,2,   144.25,2,    35.45,2,     0.00,2,    2.450,2,     -999,9,     -999,9,   2321.8,2,   2409.8,2,   7.5909,2,    25.00,     -999,9,     -999,9,     -999,9,     -999,9,   1.1079,2,  27.7867,2,   1.4821,2
49UP20210827_1,   P03,    47,  1,      6,     318,2,20210901,1208,1237, 24.2643, 147.2208, 5826,   4752.2,    1.4908,  34.6890,2,    163.0,2,  34.6881,4,   162.99,2,   142.11,2,    35.28,2,     0.00,2,    2.460,4,     -999,9,     -999,9,   2314.8,2,   2410.3,2,   7.5953,2,    25.00,     -999,9,     -999,9,     -999,9,     -999,9,   1.0867,2,  27.7896,2,   1.4910,2
49UP20210827_1,   P03,    47,  1,      5,     317,2,20210901,1208,1231, 24.2643, 147.2208, 5826,   5009.7,    1.5022,  34.6909,2,    166.2,2,  34.6887,4,   164.82,3,   140.50,2,    35.10,2,     0.00,2,    2.450,4,     -999,9,     -999,9,   2314.2,2,   2405.8,2,   7.5962,2,    25.00,     -999,9,     -999,9,     -999,9,     -999,9,   1.0667,2,  27.7925,2,   1.5022,2
49UP20210827_1,   P03,    47,  1,      4,     316,2,20210901,1208,1225, 24.2643, 147.2208, 5826,   5268.0,    1.5190,  34.6922,2,    168.6,2,  34.6924,2,   168.77,6,   138.72,6,    34.84,6,     0.00,6,    2.400,6,     -999,9,     -999,9,   2309.1,2,   2405.3,2,   7.6008,2,    25.00,     -999,9,     -999,9,     -999,9,     -999,9,   1.0511,2,  27.7946,2,   1.5190,2
49UP20210827_1,   P03,    47,  1,      3,     315,2,20210901,1208,1219, 24.2643, 147.2208, 5826,   5524.4,    1.5395,  34.6934,2,    170.7,2,  34.6933,2,   170.62,2,   137.11,2,    34.67,2,     0.00,2,    2.390,2,     -999,9,     -999,9,   2306.7,2,   2406.1,2,   7.6032,6,    25.00,     -999,9,     -999,9,     -999,9,     -999,9,   1.0384,2,  27.7964,2,   1.5394,2
49UP20210827_1,   P03,    47,  1,      2,     314,2,20210901,1208,1213, 24.2643, 147.2208, 5826,   5780.2,    1.5600,  34.6945,2,    172.7,2,  34.6943,2,   172.69,2,   135.96,2,    34.53,2,     0.00,2,    2.380,2,     -999,9,     -999,9,   2304.8,6,   2402.9,6,   7.6066,2,    25.00,     -999,9,     -999,9,     -999,9,     -999,9,   1.0249,2,  27.7982,2,   1.5601,2
49UP20210827_1,   P03,    47,  1,      1,     811,2,20210901,1208,1208, 24.2643, 147.2208, 5826,   5971.2,    1.5738,  34.6954,2,    174.7,2,  34.6957,2,   174.63,2,   135.04,2,    34.43,2,     0.00,2,    2.370,2,     -999,9,     -999,9,   2303.2,2,   2403.6,2,   7.6097,2,    25.00,     -999,9,     -999,9,     -999,9,     -999,9,   1.0128,2,  27.7997,2,   1.5737,2