BOTTLE,20230808CCHSIOADS
EXPOCODE,SECT_ID,STNNBR,CASTNO,SAMPNO,BTLNBR,BTLNBR_FLAG_W,DATE,TIME,BTL_TIME,LATITUDE,LONGITUDE,DEPTH,CTDPRS,CTDTMP,CTDSAL,CTDSAL_FLAG_W,CTDOXY,CTDOXY_FLAG_W,SALNTY,SALNTY_FLAG_W,OXYGEN,OXYGEN_FLAG_W,SILCAT,SILCAT_FLAG_W,NO2+NO3,NO2+NO3_FLAG_W,NITRIT,NITRIT_FLAG_W,PHSPHT,PHSPHT_FLAG_W,CFC-11,CFC-11_FLAG_W,CFC-12,CFC-12_FLAG_W,TCARBN,TCARBN_FLAG_W,ALKALI,ALKALI_FLAG_W,PH_TOT,PH_TOT_FLAG_W,PH_TMP,CFC113,CFC113_FLAG_W,SF6,SF6_FLAG_W,CHLORA,CHLORA_FLAG_W,PPHYTN,PPHYTN_FLAG_W,THETA,THETA_FLAG_W,SIG0,SIG0_FLAG_W,SBE35,SBE35_FLAG_W
,,,,,,,,,,,,METERS,DBAR,ITS-90,PSS-78,,UMOL/KG,,PSS78,,UMOL/KG,,UMOL/KG,,UMOL/KG,,UMOL/KG,,UMOL/KG,,PMOL/KG,,PMOL/KG,,UMOL/KG,,UMOL/KG,,,,DEG C,PMOL/KG,,FMOL/KG,,UG/KG,,UG/KG,,ITS-90,,KG/M^3,,ITS-90,
49UP20210719_2,   P03,     9,  1,      0,     BUC,2,20210801,1419,1549, 25.0228, 129.5015, 3702,      0.0,   29.2584,  34.3506,2,    194.0,2,  34.3926,2,   192.85,2,     1.43,2,     0.07,2,     0.00,2,    0.050,2,     -999,9,     -999,9,   1946.2,2,   2259.8,2,   8.0896,2,    25.00,     -999,9,     -999,9,     0.04,2,     0.02,2,  29.2578,2,  21.4903,2,     -999,9
49UP20210719_2,   P03,     9,  1,     36,     757,2,20210801,1419,1625, 25.0228, 129.5015, 3702,     10.6,   29.2600,  34.3506,2,    194.0,2,  34.3506,2,   194.49,2,     1.37,2,     0.01,2,     0.00,2,    0.010,2,     -999,9,     -999,9,   1944.9,2,   2255.9,2,   8.0894,2,    25.00,     -999,9,     -999,9,     0.05,2,     0.02,2,  29.2574,2,  21.4905,2,  29.2607,2
49UP20210719_2,   P03,     9,  1,     35,     756,2,20210801,1419,1624, 25.0228, 129.5015, 3702,     25.2,   28.6289,  34.4015,2,    197.0,2,  34.4023,6,   197.53,2,     1.33,2,     0.00,2,     0.00,2,    0.010,2,     -999,9,     -999,9,   1946.8,2,   2261.5,2,   8.0903,2,    25.00,     -999,9,     -999,9,     0.04,2,     0.02,2,  28.6229,2,  21.7401,2,  28.6297,2
49UP20210719_2,   P03,     9,  1,     34,     843,2,20210801,1419,1619, 25.0228, 129.5015, 3702,     50.0,   25.8718,  34.6170,2,    217.7,2,  34.6167,2,   216.49,2,     1.39,2,     0.00,2,     0.00,2,    0.010,2,     -999,9,     -999,9,   1966.0,2,   2274.7,2,   8.0788,2,    25.00,     -999,9,     -999,9,     0.08,2,     0.03,2,  25.8607,2,  22.7877,2,  25.8682,2
49UP20210719_2,   P03,     9,  1,     33,     842,2,20210801,1419,1617, 25.0228, 129.5015, 3702,     74.8,   24.0605,  34.8355,2,    200.9,2,  34.8460,4,   198.99,2,     1.54,2,     0.05,2,     0.00,2,    0.060,2,     -999,9,     -999,9,   1999.9,2,   2291.1,2,   8.0420,2,    25.00,     -999,9,     -999,9,     0.11,2,     0.11,2,  24.0448,2,  23.5036,2,  24.0456,2
49UP20210719_2,   P03,     9,  1,     32,     841,2,20210801,1419,1615, 25.0228, 129.5015, 3702,    100.6,   22.0801,  34.8353,2,    222.4,2,  34.8347,2,   220.29,2,     1.69,2,     0.00,2,     0.00,2,    0.030,2,     -999,9,     -999,9,   1997.6,2,   2289.0,2,   8.0452,6,    25.00,     -999,9,     -999,9,     0.24,2,     0.25,2,  22.0602,2,  24.0758,2,  22.0722,2
49UP20210719_2,   P03,     9,  1,     31,     840,2,20210801,1419,1613, 25.0228, 129.5015, 3702,    126.3,   21.2203,  34.8120,2,    217.6,2,  34.8113,2,   216.04,2,     1.73,2,     0.19,2,     0.12,2,    0.040,2,     -999,9,     -999,9,   2004.1,6,   2287.5,6,   8.0336,2,    25.00,     -999,9,     -999,9,     0.15,2,     0.33,2,  21.1960,2,  24.2974,2,  21.2226,2
49UP20210719_2,   P03,     9,  1,     30,     839,2,20210801,1419,1611, 25.0228, 129.5015, 3702,    154.8,   20.6868,  34.8101,2,    209.7,2,  34.8101,2,   209.31,2,     1.95,2,     1.00,2,     0.03,2,    0.090,2,     -999,9,     -999,9,   2010.5,2,   2288.1,2,   8.0210,2,    25.00,     -999,9,     -999,9,     0.06,2,     0.20,2,  20.6575,2,  24.4419,2,  20.6918,2
49UP20210719_2,   P03,     9,  1,     29,     838,2,20210801,1419,1608, 25.0228, 129.5015, 3702,    207.2,   19.9478,  34.8181,2,    202.2,2,  34.8179,2,   202.59,2,     2.50,2,     2.22,2,     0.01,2,    0.160,2,     -999,9,     -999,9,   2025.0,2,   2287.5,2,   7.9909,2,    25.00,     -999,9,     -999,9,     0.01,2,     0.03,2,  19.9096,2,  24.6468,2,  19.9429,2
49UP20210719_2,   P03,     9,  1,     28,     755,2,20210801,1419,1605, 25.0228, 129.5015, 3702,    254.3,   18.8100,  34.8120,2,    193.5,2,  34.8105,2,   193.94,6,     3.52,6,     3.87,6,     0.00,6,    0.270,6,     -999,9,     -999,9,   2046.0,2,   2284.9,2,   7.9556,2,    25.00,     -999,9,     -999,9,     -999,9,     -999,9,  18.7650,2,  24.9371,2,  18.8120,2
49UP20210719_2,   P03,     9,  1,     27,     754,2,20210801,1419,1602, 25.0228, 129.5015, 3702,    302.2,   17.4849,  34.7609,2,    197.4,2,  34.7607,2,   197.48,2,     4.87,2,     5.30,2,     0.00,2,    0.370,2,     -999,9,     -999,9,   2053.1,2,   2281.9,2,   7.9336,6,    25.00,     -999,9,     -999,9,     -999,9,     -999,9,  17.4340,2,  25.2269,2,  17.4843,2
49UP20210719_2,   P03,     9,  1,     26,     835,2,20210801,1419,1558, 25.0228, 129.5015, 3702,    404.5,   15.1943,  34.5929,2,    189.0,2,  34.5976,4,   189.89,2,     9.76,2,     9.39,2,     0.00,2,    0.640,2,     -999,9,     -999,9,   2079.5,6,   2279.0,6,   7.8693,2,    25.00,     -999,9,     -999,9,     -999,9,     -999,9,  15.1324,2,  25.6290,2,  15.2012,2
49UP20210719_2,   P03,     9,  1,     25,     834,2,20210801,1419,1554, 25.0228, 129.5015, 3702,    506.7,   11.5505,  34.3097,2,    172.2,2,  34.3119,2,   171.95,2,    22.02,2,    16.86,2,     0.00,2,    1.200,2,     -999,9,     -999,9,   2129.9,2,   2274.8,2,   7.7466,2,    25.00,     -999,9,     -999,9,     -999,9,     -999,9,  11.4857,2,  26.1493,2,  11.5528,2
49UP20210719_2,   P03,     9,  1,     24,     753,2,20210801,1419,1549, 25.0228, 129.5015, 3702,    606.8,    9.0201,  34.1790,2,    152.3,2,  34.1789,2,   152.30,2,    39.32,2,    23.32,2,     0.00,2,    1.660,2,     -999,9,     -999,9,   2176.3,2,   2279.2,2,   7.6512,2,    25.00,     -999,9,     -999,9,     -999,9,     -999,9,   8.9532,2,  26.4827,2,   9.0130,2
49UP20210719_2,   P03,     9,  1,     23,     832,2,20210801,1419,1545, 25.0228, 129.5015, 3702,    707.6,    7.1580,  34.1793,2,    111.6,2,  34.1808,2,   111.91,2,    61.24,2,    30.38,2,     0.00,2,    2.170,2,     -999,9,     -999,9,   2235.6,2,   2299.8,2,   7.5433,2,    25.00,     -999,9,     -999,9,     -999,9,     -999,9,   7.0893,2,  26.7599,2,   7.1571,2
49UP20210719_2,   P03,     9,  1,     22,     831,3,20210801,1419,1540, 25.0228, 129.5015, 3702,    809.2,    5.3871,  34.1724,2,     82.0,2,  34.1737,2,    83.05,2,    83.44,2,    35.89,2,     0.00,2,    2.570,2,     -999,9,     -999,9,   2279.2,2,   2319.3,2,   7.4538,2,    25.00,     -999,9,     -999,9,     -999,9,     -999,9,   5.3189,2,  26.9820,2,   5.3878,2
49UP20210719_2,   P03,     9,  1,     21,     830,2,20210801,1419,1535, 25.0228, 129.5015, 3702,    910.2,    4.4074,  34.2744,2,     61.4,2,  34.2737,2,    61.31,6,   105.33,6,    39.44,6,     0.00,6,    2.820,6,     -999,9,     -999,9,   2316.3,2,   2342.2,2,   7.4106,2,    25.00,     -999,9,     -999,9,     -999,9,     -999,9,   4.3366,2,  27.1736,2,   4.4068,2
49UP20210719_2,   P03,     9,  1,     19,     828,4,20210801,1419,1531, 25.0228, 129.5015, 3702,   1012.6,    3.9915,  34.3479,2,     59.0,2,  34.4678,4,   175.86,4,    20.09,4,    14.09,4,     0.00,4,    0.990,4,     -999,9,     -999,9,   2114.7,4,   2276.2,4,   7.7959,4,    25.00,     -999,9,     -999,9,     -999,9,     -999,9,   3.9151,2,  27.2761,2,   3.9936,2
49UP20210719_2,   P03,     9,  1,     20,     829,2,20210801,1419,1531, 25.0228, 129.5015, 3702,   1013.9,    3.9856,  34.3483,2,     59.0,2,  34.3469,2,    58.71,2,   114.65,2,    40.33,2,     0.00,2,    2.870,2,     -999,9,     -999,9,   2329.4,2,   2358.0,2,   7.4136,2,    25.00,     -999,9,     -999,9,     -999,9,     -999,9,   3.9092,2,  27.2771,2,   3.9863,2
49UP20210719_2,   P03,     9,  1,     18,     752,2,20210801,1419,1524, 25.0228, 129.5015, 3702,   1214.7,    3.2035,  34.4460,2,     64.6,2,  34.4455,2,    64.13,2,   131.95,2,    40.87,2,     0.00,2,    2.900,2,     -999,9,     -999,9,   2346.4,2,   2380.3,2,   7.4312,2,    25.00,     -999,9,     -999,9,     -999,9,     -999,9,   3.1172,2,  27.4321,2,   3.2034,2
49UP20210719_2,   P03,     9,  1,     17,     751,2,20210801,1419,1518, 25.0228, 129.5015, 3702,   1412.0,    2.7546,  34.5107,2,     77.6,2,  34.5111,6,    77.61,2,   139.00,2,    40.35,2,     0.00,2,    2.850,2,     -999,9,     -999,9,   2348.0,2,   2392.3,2,   7.4560,2,    25.00,     -999,9,     -999,9,     -999,9,     -999,9,   2.6569,2,  27.5251,2,   2.7543,2
49UP20210719_2,   P03,     9,  1,     16,     328,2,20210801,1419,1513, 25.0228, 129.5015, 3702,   1615.7,    2.4309,  34.5518,2,     89.7,2,  34.5518,2,    89.84,2,   143.11,2,    39.83,2,     0.00,2,    2.810,2,     -999,9,     -999,9,   2349.2,2,   2396.6,2,   7.4744,2,    25.00,     -999,9,     -999,9,     -999,9,     -999,9,   2.3205,2,  27.5866,2,   2.4308,2
49UP20210719_2,   P03,     9,  1,     15,     822,2,20210801,1419,1508, 25.0228, 129.5015, 3702,   1817.5,    2.1999,  34.5836,2,    101.6,2,  34.5831,2,   101.45,2,   144.17,2,    39.20,2,     0.00,2,    2.750,2,     -999,9,     -999,9,   2344.0,2,   2403.6,2,   7.4982,6,    25.00,     -999,9,     -999,9,     -999,9,     -999,9,   2.0759,2,  27.6320,2,   2.1999,2
49UP20210719_2,   P03,     9,  1,     14,     326,2,20210801,1419,1501, 25.0228, 129.5015, 3702,   2028.9,    2.0154,  34.6088,2,    112.3,2,  34.6021,4,   111.98,2,   144.53,2,    38.52,2,     0.00,2,    2.700,2,     -999,9,     -999,9,   2340.8,6,   2406.0,6,   7.5188,2,    25.00,     -999,9,     -999,9,     -999,9,     -999,9,   1.8764,2,  27.6679,2,   2.0154,2
49UP20210719_2,   P03,     9,  1,     13,     325,2,20210801,1419,1456, 25.0228, 129.5015, 3702,   2225.1,    1.8701,  34.6302,2,    122.4,2,  34.6288,4,   121.91,2,   145.11,2,    38.08,2,     0.00,2,    2.660,2,     -999,9,     -999,9,   2338.3,2,   2409.0,2,   7.5377,2,    25.00,     -999,9,     -999,9,     -999,9,     -999,9,   1.7166,2,  27.6974,2,   1.8702,2
49UP20210719_2,   P03,     9,  1,     12,     324,3,20210801,1419,1451, 25.0228, 129.5015, 3702,   2425.9,    1.7754,  34.6435,2,    129.5,2,  34.6430,2,   129.31,2,   144.86,2,    37.67,2,     0.00,2,    2.630,2,     -999,9,     -999,9,   2335.8,2,   2410.9,2,   7.5496,2,    25.00,     -999,9,     -999,9,     -999,9,     -999,9,   1.6060,2,  27.7163,2,   1.7753,2
49UP20210719_2,   P03,     9,  1,     11,     323,3,20210801,1419,1446, 25.0228, 129.5015, 3702,   2632.6,    1.6971,  34.6528,2,    135.0,2,  34.6523,2,   134.73,6,   144.90,6,    37.32,6,     0.00,6,    2.600,6,     -999,9,     -999,9,   2331.9,2,   2412.0,2,   7.5596,2,    25.00,     -999,9,     -999,9,     -999,9,     -999,9,   1.5105,2,  27.7308,2,   1.6969,2
49UP20210719_2,   P03,     9,  1,      9,     750,2,20210801,1419,1441, 25.0228, 129.5015, 3702,   2836.8,    1.6388,  34.6601,2,    139.5,2,  34.6604,2,   139.40,2,   144.79,2,    37.08,2,     0.00,2,    2.580,2,     -999,9,     -999,9,   2330.2,2,   2412.9,2,   7.5667,2,    25.00,     -999,9,     -999,9,     -999,9,     -999,9,   1.4345,2,  27.7422,2,   1.6389,2
49UP20210719_2,   P03,     9,  1,     10,     322,3,20210801,1419,1441, 25.0228, 129.5015, 3702,   2836.9,    1.6387,  34.6600,2,    139.5,2,  34.6521,4,   137.99,4,   143.37,4,    36.90,4,     0.00,2,    2.570,2,     -999,9,     -999,9,   2330.2,2,   2410.3,2,   7.5654,2,    25.00,     -999,9,     -999,9,     -999,9,     -999,9,   1.4344,2,  27.7420,2,   1.6387,2
49UP20210719_2,   P03,     9,  1,      8,     320,3,20210801,1419,1436, 25.0228, 129.5015, 3702,   3040.4,    1.6037,  34.6651,2,    142.8,2,  34.6646,6,   142.72,2,   144.25,2,    36.79,2,     0.00,2,    2.560,2,     -999,9,     -999,9,   2329.3,2,   2413.7,2,   7.5741,6,    25.00,     -999,9,     -999,9,     -999,9,     -999,9,   1.3808,2,  27.7500,2,   1.6038,2
49UP20210719_2,   P03,     9,  1,      7,     319,2,20210801,1419,1431, 25.0228, 129.5015, 3702,   3299.1,    1.5680,  34.6706,2,    147.0,2,  34.6712,2,   146.98,2,   144.29,2,    36.62,2,     0.00,2,    2.540,2,     -999,9,     -999,9,   2327.1,6,   2415.5,6,   7.5796,2,    25.00,     -999,9,     -999,9,     -999,9,     -999,9,   1.3206,2,  27.7587,2,   1.5680,2
49UP20210719_2,   P03,     9,  1,      6,     318,2,20210801,1419,1425, 25.0228, 129.5015, 3702,   3553.5,    1.5575,  34.6740,2,    149.6,2,  34.6728,4,   148.98,6,   143.45,6,    36.41,6,     0.00,6,    2.520,6,     -999,9,     -999,9,   2326.1,2,   2413.4,2,   7.5813,2,    25.00,     -999,9,     -999,9,     -999,9,     -999,9,   1.2845,2,  27.7640,2,   1.5573,2
49UP20210719_2,   P03,     9,  1,      5,     317,2,20210801,1419,1420, 25.0228, 129.5015, 3702,   3755.0,    1.5500,  34.6769,2,    151.9,2,  34.6759,4,   151.32,2,   143.47,2,    36.34,2,     0.00,2,    2.520,2,     -999,9,     -999,9,   2324.5,2,   2416.9,2,   7.5839,2,    25.00,     -999,9,     -999,9,     -999,9,     -999,9,   1.2560,2,  27.7683,2,   1.5498,2
49UP20210719_2,   P03,     9,  1,      4,     316,2,20210801,1419,1420, 25.0228, 129.5015, 3702,   3755.7,    1.5500,  34.6769,2,    151.9,2,  34.6771,2,   151.64,2,   143.20,2,    36.29,2,     0.00,2,    2.520,2,     -999,9,     -999,9,   2325.7,2,   2415.7,2,   7.5852,2,    25.00,     -999,9,     -999,9,     -999,9,     -999,9,   1.2560,2,  27.7683,2,   1.5499,2