BOTTLE,20230808CCHSIOADS
EXPOCODE,SECT_ID,STNNBR,CASTNO,SAMPNO,BTLNBR,BTLNBR_FLAG_W,DATE,TIME,BTL_TIME,LATITUDE,LONGITUDE,DEPTH,CTDPRS,CTDTMP,CTDSAL,CTDSAL_FLAG_W,CTDOXY,CTDOXY_FLAG_W,SALNTY,SALNTY_FLAG_W,OXYGEN,OXYGEN_FLAG_W,SILCAT,SILCAT_FLAG_W,NO2+NO3,NO2+NO3_FLAG_W,NITRIT,NITRIT_FLAG_W,PHSPHT,PHSPHT_FLAG_W,CFC-11,CFC-11_FLAG_W,CFC-12,CFC-12_FLAG_W,TCARBN,TCARBN_FLAG_W,ALKALI,ALKALI_FLAG_W,PH_TOT,PH_TOT_FLAG_W,PH_TMP,CFC113,CFC113_FLAG_W,SF6,SF6_FLAG_W,CHLORA,CHLORA_FLAG_W,PPHYTN,PPHYTN_FLAG_W,THETA,THETA_FLAG_W,SIG0,SIG0_FLAG_W,SBE35,SBE35_FLAG_W
,,,,,,,,,,,,METERS,DBAR,ITS-90,PSS-78,,UMOL/KG,,PSS78,,UMOL/KG,,UMOL/KG,,UMOL/KG,,UMOL/KG,,UMOL/KG,,PMOL/KG,,PMOL/KG,,UMOL/KG,,UMOL/KG,,,,DEG C,PMOL/KG,,FMOL/KG,,UG/KG,,UG/KG,,ITS-90,,KG/M^3,,ITS-90,
49UP20210920_1,   P03,    89,  1,      0,     BUC,2,20211004,1949,2200, 24.0005, 178.9567, 5686,      0.0,   27.9392,  35.1669,2,    201.4,2,  35.1598,2,   200.98,2,     1.16,2,     0.06,2,     0.00,2,    0.070,2,     -999,9,     -999,9,   1983.9,2,   2311.2,2,   8.0869,2,    25.00,     -999,9,     -999,9,     0.10,2,     0.05,2,  27.9387,2,  22.5402,2,     -999,9
49UP20210920_1,   P03,    89,  1,     36,     757,2,20211004,1949,2230, 24.0005, 178.9567, 5686,     10.7,   27.9134,  35.1667,2,    201.2,2,  35.1656,2,   200.83,6,     1.04,6,     0.01,6,     0.00,6,    0.010,6,    1.101,2,    0.811,2,   1986.3,2,   2314.7,2,   8.0890,2,    25.00,    0.086,2,    1.538,2,     0.06,2,     0.02,2,  27.9109,2,  22.5491,2,  27.9127,2
49UP20210920_1,   P03,    89,  1,     35,     756,2,20211004,1949,2226, 24.0005, 178.9567, 5686,     48.5,   27.9014,  35.1639,2,    200.8,2,  35.1650,6,   200.80,2,     1.09,2,     0.01,2,     0.00,2,    0.010,2,    1.109,2,    0.830,2,   1986.0,2,   2311.8,2,   8.0889,2,    25.00,    0.077,2,    1.584,2,     0.07,2,     0.03,2,  27.8900,2,  22.5538,2,  27.8994,2
49UP20210920_1,   P03,    89,  1,     34,     843,2,20211004,1949,2223, 24.0005, 178.9567, 5686,    102.0,   23.7004,  35.2443,2,    214.0,2,  35.2453,2,   213.82,2,     1.48,2,     0.00,2,     0.00,2,    0.020,2,    1.479,2,    0.986,2,   2015.4,2,   2317.3,2,   8.0440,2,    25.00,    0.095,2,    1.635,2,     0.20,2,     0.14,2,  23.6791,2,  23.9211,2,  23.7085,2
49UP20210920_1,   P03,    89,  1,     33,     842,2,20211004,1949,2222, 24.0005, 178.9567, 5686,    127.2,   21.5897,  35.0391,2,    236.4,2,  35.0379,2,   235.98,2,     1.89,2,     0.00,2,     0.00,2,    0.010,2,     -999,9,     -999,9,   2016.5,2,   2301.2,2,   8.0253,6,    25.00,     -999,9,     -999,9,     0.16,2,     0.19,2,  21.5649,2,  24.3687,2,  21.5983,2
49UP20210920_1,   P03,    89,  1,     32,     841,2,20211004,1949,2220, 24.0005, 178.9567, 5686,    150.1,   19.7874,  34.9196,2,    231.8,2,  34.9202,2,   231.50,2,     2.28,2,     0.01,2,     0.00,2,    0.040,2,     -999,9,     -999,9,   2025.4,6,   2294.4,6,   8.0004,2,    25.00,     -999,9,     -999,9,     0.08,2,     0.13,2,  19.7599,2,  24.7635,2,  19.7879,2
49UP20210920_1,   P03,    89,  1,     31,     840,2,20211004,1949,2218, 24.0005, 178.9567, 5686,    202.9,   17.2933,  34.7373,2,    204.9,2,  34.7297,2,   205.89,2,     4.25,2,     4.00,2,     0.01,2,    0.290,2,    2.039,2,    1.217,2,   2055.5,2,   2282.4,2,   7.9215,2,    25.00,    0.055,2,    1.865,2,     0.02,2,     0.07,2,  17.2594,2,  25.2507,2,  17.2931,2
49UP20210920_1,   P03,    89,  1,     30,     839,2,20211004,1949,2216, 24.0005, 178.9567, 5686,    250.4,   15.6659,  34.5940,2,    201.3,2,  34.5930,2,   201.71,2,     6.42,2,     6.57,2,     0.00,2,    0.470,2,     -999,9,     -999,9,   2069.9,2,   2274.9,2,   7.8788,2,    25.00,     -999,9,     -999,9,     -999,9,     -999,9,  15.6269,2,  25.5198,2,  15.6643,2
49UP20210920_1,   P03,    89,  1,     29,     838,2,20211004,1949,2214, 24.0005, 178.9567, 5686,    303.6,   14.1355,  34.4633,2,    206.6,2,  34.4662,2,   207.05,2,     8.91,2,     8.57,2,     0.00,2,    0.600,2,    2.449,2,    1.364,2,   2076.8,2,   2268.9,2,   7.8512,2,    25.00,    0.036,2,    1.960,2,     -999,9,     -999,9,  14.0914,2,  25.7532,2,  14.1379,2
49UP20210920_1,   P03,    89,  1,     28,     755,2,20211004,1949,2211, 24.0005, 178.9567, 5686,    404.5,   10.8595,  34.1929,2,    183.0,2,  34.1936,2,   183.03,2,    19.36,2,    16.43,2,     0.00,2,    1.170,2,     -999,9,     -999,9,   2127.5,2,   2260.2,2,   7.7265,2,    25.00,     -999,9,     -999,9,     -999,9,     -999,9,  10.8100,2,  26.1810,2,  10.8640,2
49UP20210920_1,   P03,    89,  1,     27,     754,2,20211004,1949,2208, 24.0005, 178.9567, 5686,    505.2,    8.7843,  34.0968,2,    162.3,2,  34.0981,2,   162.97,6,    33.18,6,    22.57,6,     0.00,6,    1.600,6,    2.668,2,    1.317,2,   2167.2,2,   2272.5,2,   7.6409,2,    25.00,    0.069,2,    1.373,2,     -999,9,     -999,9,   8.7299,2,  26.4534,2,   8.7839,2
49UP20210920_1,   P03,    89,  1,     26,     835,2,20211004,1949,2205, 24.0005, 178.9567, 5686,    605.6,    6.9668,  34.0837,2,    109.1,2,  34.0826,2,   108.99,2,    54.31,2,    30.82,2,     0.00,2,    2.210,2,     -999,9,     -999,9,   2229.5,2,   2287.4,2,   7.5072,6,    25.00,     -999,9,     -999,9,     -999,9,     -999,9,   6.9094,2,  26.7093,2,   6.9716,2
49UP20210920_1,   P03,    89,  1,     25,     834,2,20211004,1949,2202, 24.0005, 178.9567, 5686,    705.6,    5.5552,  34.1421,2,     67.0,2,  34.1417,2,    67.28,2,    77.75,2,    37.01,2,     0.00,2,    2.670,2,     -999,9,     -999,9,   2282.0,6,   2309.3,6,   7.4174,2,    25.00,     -999,9,     -999,9,     -999,9,     -999,9,   5.4953,2,  26.9369,2,   5.5563,2
49UP20210920_1,   P03,    89,  1,     24,     753,2,20211004,1949,2159, 24.0005, 178.9567, 5686,    808.9,    4.7676,  34.2511,2,     44.3,2,  34.2482,2,    44.69,2,    94.97,2,    40.40,2,     0.00,2,    2.920,2,    0.344,2,    0.195,2,   2315.9,2,   2328.9,2,   7.3771,2,    25.00,    0.012,2,    0.147,2,     -999,9,     -999,9,   4.7031,2,  27.1150,2,   4.7687,2
49UP20210920_1,   P03,    89,  1,     23,     832,2,20211004,1949,2156, 24.0005, 178.9567, 5686,    907.7,    4.1025,  34.3175,2,     37.9,2,  34.3164,2,    38.12,2,   110.57,2,    41.79,2,     0.00,2,    3.000,2,     -999,9,     -999,9,   2337.5,2,   2352.7,2,   7.3668,2,    25.00,     -999,9,     -999,9,     -999,9,     -999,9,   4.0340,2,  27.2397,2,   4.1024,2
49UP20210920_1,   P03,    89,  1,     22,     831,2,20211004,1949,2152, 24.0005, 178.9567, 5686,   1012.2,    3.6861,  34.4009,2,     40.2,2,  34.4005,2,    40.18,2,   120.93,2,    42.21,2,     0.00,2,    3.030,2,    0.098,2,    0.027,2,   2349.9,2,   2366.0,2,   7.3783,2,    25.00,    0.004,2,    0.025,2,     -999,9,     -999,9,   3.6121,2,  27.3487,2,   3.6862,2
49UP20210920_1,   P03,    89,  1,     21,     830,2,20211004,1949,2147, 24.0005, 178.9567, 5686,   1212.9,    3.2283,  34.5013,2,     58.5,2,  34.5008,2,    58.73,2,   129.73,2,    41.40,2,     0.00,2,    2.960,2,     -999,9,     -999,9,   2351.3,2,   2383.1,2,   7.4174,2,    25.00,     -999,9,     -999,9,     -999,9,     -999,9,   3.1418,2,  27.4739,2,   3.2284,2
49UP20210920_1,   P03,    89,  1,     20,     829,2,20211004,1949,2142, 24.0005, 178.9567, 5686,   1416.4,    2.8655,  34.5541,2,     74.1,2,  34.5536,2,    74.39,2,   135.47,2,    40.62,2,     0.00,2,    2.890,2,    0.000,2,    0.002,2,   2350.7,2,   2392.7,2,   7.4516,2,    25.00,    0.010,2,   -0.014,2,     -999,9,     -999,9,   2.7661,2,  27.5502,2,   2.8649,2
49UP20210920_1,   P03,    89,  1,     19,     828,2,20211004,1949,2136, 24.0005, 178.9567, 5686,   1618.4,    2.5477,  34.5827,2,     83.6,2,  34.5824,6,    83.99,2,   141.11,2,    40.20,2,     0.00,2,    2.850,2,     -999,9,     -999,9,   2351.6,2,   2401.4,2,   7.4686,2,    25.00,     -999,9,     -999,9,     -999,9,     -999,9,   2.4355,2,  27.6017,2,   2.5479,2
49UP20210920_1,   P03,    89,  1,     18,     752,2,20211004,1949,2130, 24.0005, 178.9567, 5686,   1822.9,    2.2495,  34.6021,2,     90.6,2,  34.6020,2,    90.52,6,   148.20,6,    39.91,6,     0.00,6,    2.820,6,     -999,9,     -999,9,   2354.7,2,   2405.7,2,   7.4797,2,    25.00,     -999,9,     -999,9,     -999,9,     -999,9,   2.1243,2,  27.6430,2,   2.2500,2
49UP20210920_1,   P03,    89,  1,     17,     751,2,20211004,1949,2125, 24.0005, 178.9567, 5686,   2027.2,    2.0032,  34.6210,2,     99.7,2,  34.6214,2,    99.57,2,   152.86,2,    39.49,2,     0.00,2,    2.770,2,    0.000,2,    0.001,2,   2354.2,2,   2415.8,2,   7.4957,2,    25.00,    0.003,2,    0.005,2,     -999,9,     -999,9,   1.8645,2,  27.6786,2,   2.0030,2
49UP20210920_1,   P03,    89,  1,     16,     328,2,20211004,1949,2119, 24.0005, 178.9567, 5686,   2229.2,    1.8572,  34.6336,2,    107.2,2,  34.6340,2,   107.26,2,   154.90,2,    38.99,2,     0.00,2,    2.740,2,     -999,9,     -999,9,   2352.9,2,   2416.3,2,   7.5081,2,    25.00,     -999,9,     -999,9,     -999,9,     -999,9,   1.7036,2,  27.7011,2,   1.8570,2
49UP20210920_1,   P03,    89,  1,     15,     822,2,20211004,1949,2113, 24.0005, 178.9567, 5686,   2434.7,    1.7662,  34.6423,2,    112.8,2,  34.6418,2,   112.75,2,   155.90,2,    38.63,2,     0.00,2,    2.710,2,     -999,9,     -999,9,   2349.8,2,   2416.1,2,   7.5190,2,    25.00,     -999,9,     -999,9,     -999,9,     -999,9,   1.5961,2,  27.7160,2,   1.7658,2
49UP20210920_1,   P03,    89,  1,     14,     326,2,20211004,1949,2107, 24.0005, 178.9567, 5686,   2632.3,    1.6824,  34.6502,2,    118.3,2,  34.6495,2,   118.12,2,   157.12,2,    38.29,2,     0.00,2,    2.680,2,     -999,9,     -999,9,   2348.1,2,   2419.9,2,   7.5283,2,    25.00,     -999,9,     -999,9,     -999,9,     -999,9,   1.4962,2,  27.7297,2,   1.6824,2
49UP20210920_1,   P03,    89,  1,     13,     325,2,20211004,1949,2102, 24.0005, 178.9567, 5686,   2839.7,    1.6202,  34.6574,2,    124.4,2,  34.6569,2,   123.93,2,   156.71,2,    37.97,2,     0.00,2,    2.650,2,     -999,9,     -999,9,   2344.6,2,   2418.8,2,   7.5378,2,    25.00,     -999,9,     -999,9,     -999,9,     -999,9,   1.4160,2,  27.7413,2,   1.6201,2
49UP20210920_1,   P03,    89,  1,     12,     324,2,20211004,1949,2057, 24.0005, 178.9567, 5686,   3042.7,    1.5748,  34.6635,2,    129.9,2,  34.6637,2,   130.05,2,   156.19,2,    37.59,2,     0.00,2,    2.620,2,     -999,9,     -999,9,   2341.9,2,   2418.3,2,   7.5458,2,    25.00,     -999,9,     -999,9,     -999,9,     -999,9,   1.3523,2,  27.7508,2,   1.5748,2
49UP20210920_1,   P03,    89,  1,     11,     323,2,20211004,1949,2051, 24.0005, 178.9567, 5686,   3300.3,    1.5267,  34.6703,2,    136.8,2,  34.6707,2,   136.67,2,   154.99,2,    37.13,2,     0.00,2,    2.580,2,     -999,9,     -999,9,   2337.8,2,   2421.1,2,   7.5566,2,    25.00,     -999,9,     -999,9,     -999,9,     -999,9,   1.2801,2,  27.7613,2,   1.5267,2
49UP20210920_1,   P03,    89,  1,     10,     322,2,20211004,1949,2044, 24.0005, 178.9567, 5686,   3558.3,    1.4950,  34.6756,2,    142.7,2,  34.6753,6,   142.30,2,   153.64,2,    36.73,2,     0.00,2,    2.550,2,     -999,9,     -999,9,   2334.5,2,   2419.0,2,   7.5673,2,    25.00,     -999,9,     -999,9,     -999,9,     -999,9,   1.2230,2,  27.7695,2,   1.4948,2
49UP20210920_1,   P03,    89,  1,      9,     750,2,20211004,1949,2038, 24.0005, 178.9567, 5686,   3804.6,    1.4732,  34.6799,2,    148.0,2,  34.6798,2,   147.83,6,   152.04,6,    36.38,6,     0.00,6,    2.520,6,     -999,9,     -999,9,   2330.1,2,   2417.5,2,   7.5760,2,    25.00,     -999,9,     -999,9,     -999,9,     -999,9,   1.1760,2,  27.7762,2,   1.4730,2
49UP20210920_1,   P03,    89,  1,      8,     320,2,20211004,1949,2032, 24.0005, 178.9567, 5686,   4059.3,    1.4563,  34.6839,2,    153.1,2,  34.6836,2,   153.18,2,   150.45,2,    36.12,2,     0.00,2,    2.500,2,     -999,9,     -999,9,   2325.1,2,   2416.4,2,   7.5831,2,    25.00,     -999,9,     -999,9,     -999,9,     -999,9,   1.1322,2,  27.7824,2,   1.4562,2
49UP20210920_1,   P03,    89,  1,      7,     319,2,20211004,1949,2027, 24.0005, 178.9567, 5686,   4317.6,    1.4514,  34.6872,2,    157.9,2,  34.6867,2,   158.05,2,   147.80,2,    35.72,2,     0.00,2,    2.470,2,     -999,9,     -999,9,   2322.9,2,   2412.0,2,   7.5913,6,    25.00,     -999,9,     -999,9,     -999,9,     -999,9,   1.0987,2,  27.7874,2,   1.4514,2
49UP20210920_1,   P03,    89,  1,      6,     318,2,20211004,1949,2021, 24.0005, 178.9567, 5686,   4578.6,    1.4508,  34.6898,2,    162.9,2,  34.6894,2,   162.66,2,   144.15,2,    35.34,2,     0.00,2,    2.440,2,     -999,9,     -999,9,   2317.0,6,   2408.3,6,   7.5933,2,    25.00,     -999,9,     -999,9,     -999,9,     -999,9,   1.0683,2,  27.7915,2,   1.4507,2
49UP20210920_1,   P03,    89,  1,      5,     317,3,20211004,1949,2014, 24.0005, 178.9567, 5686,   4833.6,    1.4494,  34.6924,2,    168.1,2,  34.6930,2,   168.39,2,   140.27,2,    34.94,2,     0.00,2,    2.410,2,    0.000,2,    0.000,2,   2310.4,2,   2407.4,2,   7.6001,2,    25.00,    0.005,2,   -0.013,2,     -999,9,     -999,9,   1.0369,2,  27.7958,2,   1.4494,2
49UP20210920_1,   P03,    89,  1,      4,     316,2,20211004,1949,2008, 24.0005, 178.9567, 5686,   5088.9,    1.4556,  34.6945,2,    172.1,2,  34.6943,2,   172.33,2,   137.44,2,    34.68,2,     0.00,2,    2.390,2,   -0.000,2,    0.002,2,   2306.0,2,   2403.8,2,   7.6034,2,    25.00,    0.002,2,    0.010,2,     -999,9,     -999,9,   1.0119,2,  27.7991,2,   1.4555,2
49UP20210920_1,   P03,    89,  1,      3,     315,2,20211004,1949,2002, 24.0005, 178.9567, 5686,   5350.1,    1.4730,  34.6959,2,    174.5,2,  34.6958,2,   174.92,2,   135.91,2,    34.45,2,     0.00,2,    2.380,2,    0.000,2,    0.005,2,   2304.1,2,   2401.2,2,   7.6061,2,    25.00,    0.000,2,   -0.023,2,     -999,9,     -999,9,   0.9963,2,  27.8012,2,   1.4729,2
49UP20210920_1,   P03,    89,  1,      2,     314,2,20211004,1949,1956, 24.0005, 178.9567, 5686,   5609.2,    1.4965,  34.6966,2,    176.2,2,  34.6962,2,   176.14,2,   134.80,2,    34.36,2,     0.00,2,    2.370,2,    0.000,2,    0.004,2,   2302.3,2,   2400.8,2,   7.6082,2,    25.00,    0.000,2,    0.006,2,     -999,9,     -999,9,   0.9860,2,  27.8025,2,   1.4963,2
49UP20210920_1,   P03,    89,  1,      1,     811,2,20211004,1949,1950, 24.0005, 178.9567, 5686,   5832.7,    1.5176,  34.6972,2,    177.5,2,  34.6971,2,   177.54,2,   133.75,2,    34.27,2,     0.00,2,    2.370,2,    0.001,2,    0.008,2,   2302.6,2,   2400.5,2,   7.6106,2,    25.00,    0.000,2,    0.016,2,     -999,9,     -999,9,   0.9772,2,  27.8035,2,   1.5175,2