BOTTLE,20230808CCHSIOADS
EXPOCODE,SECT_ID,STNNBR,CASTNO,SAMPNO,BTLNBR,BTLNBR_FLAG_W,DATE,TIME,BTL_TIME,LATITUDE,LONGITUDE,DEPTH,CTDPRS,CTDTMP,CTDSAL,CTDSAL_FLAG_W,CTDOXY,CTDOXY_FLAG_W,SALNTY,SALNTY_FLAG_W,OXYGEN,OXYGEN_FLAG_W,SILCAT,SILCAT_FLAG_W,NO2+NO3,NO2+NO3_FLAG_W,NITRIT,NITRIT_FLAG_W,PHSPHT,PHSPHT_FLAG_W,CFC-11,CFC-11_FLAG_W,CFC-12,CFC-12_FLAG_W,TCARBN,TCARBN_FLAG_W,ALKALI,ALKALI_FLAG_W,PH_TOT,PH_TOT_FLAG_W,PH_TMP,CFC113,CFC113_FLAG_W,SF6,SF6_FLAG_W,CHLORA,CHLORA_FLAG_W,PPHYTN,PPHYTN_FLAG_W,THETA,THETA_FLAG_W,SIG0,SIG0_FLAG_W,SBE35,SBE35_FLAG_W
,,,,,,,,,,,,METERS,DBAR,ITS-90,PSS-78,,UMOL/KG,,PSS78,,UMOL/KG,,UMOL/KG,,UMOL/KG,,UMOL/KG,,UMOL/KG,,PMOL/KG,,PMOL/KG,,UMOL/KG,,UMOL/KG,,,,DEG C,PMOL/KG,,FMOL/KG,,UG/KG,,UG/KG,,ITS-90,,KG/M^3,,ITS-90,
49UP20210719_2,   P03,    40,  1,      0,     BUC,2,20210812,1300,1506, 24.2667, 143.6297, 8568,      0.0,   28.9275,  34.3762,2,    197.1,2,  34.3840,2,   198.10,2,     1.00,2,     0.00,2,     0.00,2,    0.010,2,     -999,9,     -999,9,   1940.8,2,   2255.8,2,   8.0930,2,    25.00,     -999,9,     -999,9,     0.04,2,     0.01,2,  28.9269,2,  21.6201,2,     -999,9
49UP20210719_2,   P03,    40,  1,     36,     757,2,20210812,1300,1537, 24.2667, 143.6297, 8568,     10.0,   28.9258,  34.3761,2,    197.1,2,  34.3784,2,   197.16,2,     0.94,2,     0.00,2,     0.00,2,    0.000,2,    1.039,2,    0.802,2,   1947.1,2,   2256.1,2,   8.0907,2,    25.00,    0.079,2,    1.428,2,     0.04,2,     0.01,2,  28.9234,2,  21.6212,2,  28.9258,2
49UP20210719_2,   P03,    40,  1,     35,     756,2,20210812,1300,1533, 24.2667, 143.6297, 8568,     50.6,   26.3733,  34.7970,2,    212.8,2,  34.7894,6,   213.07,2,     1.10,2,     0.00,2,     0.00,2,    0.000,2,    1.261,2,    0.912,2,   1972.0,2,   2284.1,2,   8.0723,2,    25.00,    0.078,2,    1.645,2,     0.05,2,     0.02,2,  26.3619,2,  22.7669,2,  26.4447,2
49UP20210719_2,   P03,    40,  1,     34,     843,2,20210812,1300,1531, 24.2667, 143.6297, 8568,    104.3,   20.9075,  34.8734,2,    209.0,2,  34.8811,4,   208.16,2,     1.62,2,     0.28,2,     0.02,2,    0.040,2,    1.605,2,    1.059,2,   2014.0,2,   2289.0,2,   8.0086,2,    25.00,    0.073,2,    1.830,2,     0.39,2,     0.48,2,  20.8876,2,  24.4281,2,  20.9085,2
49UP20210719_2,   P03,    40,  1,     33,     842,2,20210812,1300,1529, 24.2667, 143.6297, 8568,    151.9,   19.2736,  34.8413,2,    195.0,2,  34.8397,2,   194.88,2,     2.82,2,     2.98,2,     0.01,2,    0.210,2,     -999,9,     -999,9,   2044.5,2,   2286.0,2,   7.9604,3,    25.00,     -999,9,     -999,9,     0.02,2,     0.06,2,  19.2463,2,  24.8368,2,  19.2736,2
49UP20210719_2,   P03,    40,  1,     32,     841,2,20210812,1300,1526, 24.2667, 143.6297, 8568,    202.6,   17.9154,  34.7844,2,    198.2,2,  34.7842,2,   198.19,2,     3.71,2,     4.25,2,     0.00,2,    0.290,2,    1.928,2,    1.183,2,   2049.5,2,   2284.8,2,   7.9358,2,    25.00,    0.010,2,    1.866,2,     0.00,2,     0.01,2,  17.8807,2,  25.1362,2,  17.9112,2
49UP20210719_2,   P03,    40,  1,     31,     840,2,20210812,1300,1524, 24.2667, 143.6297, 8568,    252.7,   16.9774,  34.7314,2,    196.7,2,  34.7307,2,   196.50,2,     4.98,2,     5.84,2,     0.00,2,    0.390,2,     -999,9,     -999,9,   2058.9,2,   2281.3,2,   7.9121,2,    25.00,     -999,9,     -999,9,     -999,9,     -999,9,  16.9358,2,  25.3233,2,  16.9788,2
49UP20210719_2,   P03,    40,  1,     30,     839,2,20210812,1300,1523, 24.2667, 143.6297, 8568,    282.0,   16.3760,  34.6848,2,    194.7,2,  34.6837,2,   194.91,2,     6.14,2,     6.90,2,     0.00,2,    0.460,2,    2.099,2,    1.236,2,   2064.9,2,   2278.0,2,   7.8964,2,    25.00,    0.010,2,    1.804,2,     -999,9,     -999,9,  16.3307,2,  25.4291,2,  16.3737,2
49UP20210719_2,   P03,    40,  1,     29,     838,2,20210812,1300,1520, 24.2667, 143.6297, 8568,    372.7,   13.9085,  34.4783,2,    186.8,2,  34.4769,2,   186.78,2,    12.44,2,    11.41,2,     0.00,2,    0.790,2,     -999,9,     -999,9,   2093.4,2,   2272.4,2,   7.8226,2,    25.00,     -999,9,     -999,9,     -999,9,     -999,9,  13.8548,2,  25.8142,2,  13.9063,2
49UP20210719_2,   P03,    40,  1,     28,     755,2,20210812,1300,1517, 24.2667, 143.6297, 8568,    474.5,   10.8668,  34.2552,2,    170.3,2,  34.2561,2,   170.33,2,    23.79,2,    17.96,2,     0.00,2,    1.270,2,    2.480,2,    1.296,2,   2138.4,2,   2268.8,2,   7.7144,2,    25.00,    0.042,2,    1.267,2,     -999,9,     -999,9,  10.8085,2,  26.2298,2,  10.8661,2
49UP20210719_2,   P03,    40,  1,     27,     754,2,20210812,1300,1513, 24.2667, 143.6297, 8568,    575.3,    8.4150,  34.1509,2,    132.1,2,  34.1505,2,   131.31,2,    41.76,2,    26.06,2,     0.00,2,    1.870,2,     -999,9,     -999,9,   2195.3,2,   2279.0,2,   7.5858,2,    25.00,     -999,9,     -999,9,     -999,9,     -999,9,   8.3543,2,  26.5537,2,   8.4137,2
49UP20210719_2,   P03,    40,  1,     26,     835,2,20210812,1300,1510, 24.2667, 143.6297, 8568,    676.7,    6.3411,  34.1498,2,     92.5,2,  34.1504,2,    92.09,6,    67.25,6,    33.34,6,     0.00,6,    2.390,6,     -999,9,     -999,9,   2252.4,2,   2302.1,2,   7.4785,2,    25.00,     -999,9,     -999,9,     -999,9,     -999,9,   6.2797,2,  26.8451,2,   6.3408,2
49UP20210719_2,   P03,    40,  1,     25,     834,2,20210812,1300,1507, 24.2667, 143.6297, 8568,    777.5,    5.2936,  34.1899,2,     74.5,2,  34.1902,2,    74.75,2,    85.12,2,    36.72,2,     0.00,2,    2.630,2,    0.787,2,    0.420,2,   2284.4,2,   2318.2,2,   7.4336,2,    25.00,    0.021,2,    0.296,2,     -999,9,     -999,9,   5.2287,2,  27.0064,2,   5.2928,2
49UP20210719_2,   P03,    40,  1,     24,     753,2,20210812,1300,1504, 24.2667, 143.6297, 8568,    878.5,    4.3907,  34.2733,2,     56.1,2,  34.2724,2,    55.87,2,   104.36,2,    39.74,2,     0.00,2,    2.840,2,     -999,9,     -999,9,   2323.9,2,   2340.7,2,   7.3950,2,    25.00,     -999,9,     -999,9,     -999,9,     -999,9,   4.3227,2,  27.1742,2,   4.3916,2
49UP20210719_2,   P03,    40,  1,     23,     832,2,20210812,1300,1501, 24.2667, 143.6297, 8568,    979.0,    3.8337,  34.3501,2,     50.0,2,  34.3488,2,    49.93,2,   117.87,2,    40.98,2,     0.00,2,    2.920,2,    0.214,2,    0.095,2,   2340.4,2,   2357.5,2,   7.3871,2,    25.00,    0.000,2,    0.063,2,     -999,9,     -999,9,   3.7613,2,  27.2935,2,   3.8342,2
49UP20210719_2,   P03,    40,  1,     22,     831,2,20210812,1300,1457, 24.2667, 143.6297, 8568,   1141.8,    3.3711,  34.4403,2,     58.5,2,  34.4358,4,    57.90,2,   128.07,2,    40.95,2,     0.00,2,    2.910,2,     -999,9,     -999,9,   2346.5,2,   2373.1,2,   7.4084,2,    25.00,     -999,9,     -999,9,     -999,9,     -999,9,   3.2892,2,  27.4114,2,   3.3717,2
49UP20210719_2,   P03,    40,  1,     21,     830,2,20210812,1300,1452, 24.2667, 143.6297, 8568,   1343.4,    2.9103,  34.4984,2,     69.4,2,  34.4977,2,    69.13,2,   136.83,2,    40.59,2,     0.00,2,    2.870,2,    0.091,2,    0.022,2,   2350.4,2,   2385.9,2,   7.4321,2,    25.00,    0.000,2,    0.012,2,     -999,9,     -999,9,   2.8164,2,  27.5012,2,   2.9101,2
49UP20210719_2,   P03,    40,  1,     20,     829,2,20210812,1300,1447, 24.2667, 143.6297, 8568,   1546.7,    2.4965,  34.5420,2,     79.2,2,  34.5406,4,    78.92,2,   144.09,2,    40.19,2,     0.00,2,    2.830,2,     -999,9,     -999,9,   2355.2,2,   2395.2,2,   7.4508,2,    25.00,     -999,9,     -999,9,     -999,9,     -999,9,   2.3908,2,  27.5729,2,   2.4965,2
49UP20210719_2,   P03,    40,  1,     19,     828,2,20210812,1300,1441, 24.2667, 143.6297, 8568,   1750.4,    2.1675,  34.5755,2,     87.5,2,  34.5751,2,    87.54,2,   150.69,2,    39.91,2,     0.00,2,    2.800,2,     -999,9,     -999,9,   2356.2,2,   2403.5,2,   7.4643,2,    25.00,     -999,9,     -999,9,     -999,9,     -999,9,   2.0495,2,  27.6276,2,   2.1675,2
49UP20210719_2,   P03,    40,  1,     18,     752,2,20210812,1300,1436, 24.2667, 143.6297, 8568,   1953.1,    2.0062,  34.5972,2,     95.1,2,  34.5974,2,    94.77,2,   153.02,2,    39.58,2,     0.00,2,    2.770,2,    0.006,2,    0.002,2,   2353.1,2,   2408.1,2,   7.4787,2,    25.00,    0.000,2,    0.029,2,     -999,9,     -999,9,   1.8737,2,  27.6588,2,   2.0063,2
49UP20210719_2,   P03,    40,  1,     17,     751,2,20210812,1300,1431, 24.2667, 143.6297, 8568,   2156.2,    1.9007,  34.6129,2,    102.6,2,  34.6131,6,   102.40,2,   153.49,2,    39.11,2,     0.00,2,    2.730,2,     -999,9,     -999,9,   2351.2,2,   2409.3,2,   7.4924,2,    25.00,     -999,9,     -999,9,     -999,9,     -999,9,   1.7526,2,  27.6807,2,   1.9005,2
49UP20210719_2,   P03,    40,  1,     16,     328,2,20210812,1300,1426, 24.2667, 143.6297, 8568,   2359.2,    1.8085,  34.6278,2,    111.2,2,  34.6283,2,   111.05,6,   153.11,6,    38.57,6,     0.00,6,    2.690,6,     -999,9,     -999,9,   2347.8,2,   2409.6,2,   7.5137,3,    25.00,     -999,9,     -999,9,     -999,9,     -999,9,   1.6444,2,  27.7008,2,   1.8086,2
49UP20210719_2,   P03,    40,  1,     15,     822,2,20210812,1300,1421, 24.2667, 143.6297, 8568,   2562.4,    1.7382,  34.6389,2,    118.0,2,  34.6384,2,   117.95,2,   153.10,2,    38.19,2,     0.00,2,    2.660,2,     -999,9,     -999,9,   2344.0,2,   2411.3,2,   7.5187,2,    25.00,     -999,9,     -999,9,     -999,9,     -999,9,   1.5573,2,  27.7161,2,   1.7382,2
49UP20210719_2,   P03,    40,  1,     14,     326,2,20210812,1300,1416, 24.2667, 143.6297, 8568,   2765.5,    1.6640,  34.6502,2,    125.6,2,  34.6480,4,   125.14,2,   152.09,2,    37.70,2,     0.00,2,    2.620,2,     -999,9,     -999,9,   2339.8,2,   2410.9,2,   7.5292,2,    25.00,     -999,9,     -999,9,     -999,9,     -999,9,   1.4659,2,  27.7319,2,   1.6640,2
49UP20210719_2,   P03,    40,  1,     13,     325,2,20210812,1300,1411, 24.2667, 143.6297, 8568,   2969.2,    1.5822,  34.6616,2,    133.8,2,  34.6612,2,   133.72,2,   151.23,2,    37.19,2,     0.00,2,    2.580,2,     -999,9,     -999,9,   2335.4,2,   2413.2,2,   7.5496,2,    25.00,     -999,9,     -999,9,     -999,9,     -999,9,   1.3666,2,  27.7482,2,   1.5824,2
49UP20210719_2,   P03,    40,  1,     12,     324,2,20210812,1300,1405, 24.2667, 143.6297, 8568,   3215.2,    1.5045,  34.6722,2,    142.9,2,  34.6725,2,   142.96,2,   149.51,2,    36.58,2,     0.00,2,    2.530,2,     -999,9,     -999,9,   2330.7,2,   2414.0,2,   7.5644,2,    25.00,     -999,9,     -999,9,     -999,9,     -999,9,   1.2669,2,  27.7638,2,   1.5045,2
49UP20210719_2,   P03,    40,  1,     11,     323,2,20210812,1300,1359, 24.2667, 143.6297, 8568,   3471.3,    1.4771,  34.6776,2,    148.0,2,  34.6775,2,   148.03,2,   148.60,2,    36.31,2,     0.00,2,    2.500,2,     -999,9,     -999,9,   2327.2,2,   2412.6,2,   7.5737,6,    25.00,     -999,9,     -999,9,     -999,9,     -999,9,   1.2145,2,  27.7718,2,   1.4772,2
49UP20210719_2,   P03,    40,  1,     10,     322,2,20210812,1300,1353, 24.2667, 143.6297, 8568,   3727.2,    1.4648,  34.6812,2,    152.2,2,  34.6798,4,   152.23,2,   147.15,2,    36.00,2,     0.00,2,    2.480,2,     -999,9,     -999,9,   2324.7,6,   2410.7,6,   7.5776,2,    25.00,     -999,9,     -999,9,     -999,9,     -999,9,   1.1761,2,  27.7773,2,   1.4649,2
49UP20210719_2,   P03,    40,  1,      9,     750,2,20210812,1300,1348, 24.2667, 143.6297, 8568,   3982.3,    1.4629,  34.6839,2,    155.7,2,  34.6839,2,   155.79,6,   145.81,6,    35.81,6,     0.00,6,    2.470,6,     -999,9,     -999,9,   2321.0,2,   2409.9,2,   7.5835,2,    25.00,     -999,9,     -999,9,     -999,9,     -999,9,   1.1470,2,  27.7814,2,   1.4629,2
49UP20210719_2,   P03,    40,  1,      8,     320,2,20210812,1300,1342, 24.2667, 143.6297, 8568,   4238.7,    1.4613,  34.6865,2,    159.4,2,  34.6862,6,   159.29,2,   144.11,2,    35.54,2,     0.00,2,    2.440,2,     -999,9,     -999,9,   2315.5,2,   2409.0,2,   7.5888,2,    25.00,     -999,9,     -999,9,     -999,9,     -999,9,   1.1172,2,  27.7855,2,   1.4613,2
49UP20210719_2,   P03,    40,  1,      7,     319,2,20210812,1300,1336, 24.2667, 143.6297, 8568,   4496.4,    1.4618,  34.6892,2,    163.3,2,  34.6890,2,   163.45,2,   142.15,2,    35.23,2,     0.00,2,    2.480,4,     -999,9,     -999,9,   2311.3,2,   2407.4,2,   7.5928,6,    25.00,     -999,9,     -999,9,     -999,9,     -999,9,   1.0884,2,  27.7896,2,   1.4617,2
49UP20210719_2,   P03,    40,  1,      6,     318,2,20210812,1300,1331, 24.2667, 143.6297, 8568,   4752.1,    1.4749,  34.6908,2,    165.8,2,  34.6903,2,   165.71,2,   140.48,2,    35.08,2,     0.00,2,    2.410,2,     -999,9,     -999,9,   2314.4,6,   2406.9,6,   7.5943,2,    25.00,     -999,9,     -999,9,     -999,9,     -999,9,   1.0712,2,  27.7921,2,   1.4750,2
49UP20210719_2,   P03,    40,  1,      5,     317,2,20210812,1300,1325, 24.2667, 143.6297, 8568,   5010.0,    1.4923,  34.6919,2,    168.0,2,  34.6916,2,   167.87,2,   139.13,2,    34.87,2,     0.00,2,    2.400,2,    0.035,4,    0.022,4,   2307.6,2,   2405.9,2,   7.5958,2,    25.00,    0.000,4,    0.035,4,     -999,9,     -999,9,   1.0571,2,  27.7940,2,   1.4924,2
49UP20210719_2,   P03,    40,  1,      4,     316,2,20210812,1300,1319, 24.2667, 143.6297, 8568,   5267.2,    1.5165,  34.6927,2,    169.3,2,  34.6920,2,   169.11,2,   138.35,2,    34.79,2,     0.00,2,    2.390,2,    0.000,2,   -0.000,2,   2308.0,2,   2404.0,2,   7.6002,6,    25.00,    0.000,2,   -0.010,2,     -999,9,     -999,9,   1.0487,2,  27.7951,2,   1.5165,2
49UP20210719_2,   P03,    40,  1,      3,     315,2,20210812,1300,1313, 24.2667, 143.6297, 8568,   5523.2,    1.5431,  34.6933,2,    170.3,2,  34.6935,2,   170.28,2,   137.71,2,    34.73,2,     0.00,2,    2.390,2,    0.000,2,    0.002,2,   2310.6,6,   2403.3,6,   7.6015,2,    25.00,    0.000,2,   -0.009,2,     -999,9,     -999,9,   1.0419,2,  27.7961,2,   1.5432,2
49UP20210719_2,   P03,    40,  1,      2,     314,2,20210812,1300,1308, 24.2667, 143.6297, 8568,   5783.1,    1.5719,  34.6935,2,    171.3,2,  34.6935,2,   171.08,6,   136.99,6,    34.65,6,     0.00,6,    2.380,6,    0.000,2,    0.002,2,   2307.7,2,   2403.5,2,   7.6023,2,    25.00,    0.000,2,    0.009,2,     -999,9,     -999,9,   1.0360,2,  27.7967,2,   1.5719,2
49UP20210719_2,   P03,    40,  1,      1,     811,2,20210812,1300,1301, 24.2667, 143.6297, 8568,   6129.9,    1.6172,  34.6935,2,    171.9,2,  34.6942,6,   171.54,2,   136.49,2,    34.59,2,     0.00,2,    2.380,2,    0.001,2,    0.003,2,   2307.0,2,   2402.9,2,   7.6014,2,    25.00,    0.000,2,    0.027,2,     -999,9,     -999,9,   1.0332,2,  27.7968,2,   1.6169,2