BOTTLE,20230808CCHSIOADS
EXPOCODE,SECT_ID,STNNBR,CASTNO,SAMPNO,BTLNBR,BTLNBR_FLAG_W,DATE,TIME,BTL_TIME,LATITUDE,LONGITUDE,DEPTH,CTDPRS,CTDTMP,CTDSAL,CTDSAL_FLAG_W,CTDOXY,CTDOXY_FLAG_W,SALNTY,SALNTY_FLAG_W,OXYGEN,OXYGEN_FLAG_W,SILCAT,SILCAT_FLAG_W,NO2+NO3,NO2+NO3_FLAG_W,NITRIT,NITRIT_FLAG_W,PHSPHT,PHSPHT_FLAG_W,CFC-11,CFC-11_FLAG_W,CFC-12,CFC-12_FLAG_W,TCARBN,TCARBN_FLAG_W,ALKALI,ALKALI_FLAG_W,PH_TOT,PH_TOT_FLAG_W,PH_TMP,CFC113,CFC113_FLAG_W,SF6,SF6_FLAG_W,CHLORA,CHLORA_FLAG_W,PPHYTN,PPHYTN_FLAG_W,THETA,THETA_FLAG_W,SIG0,SIG0_FLAG_W,SBE35,SBE35_FLAG_W
,,,,,,,,,,,,METERS,DBAR,ITS-90,PSS-78,,UMOL/KG,,PSS78,,UMOL/KG,,UMOL/KG,,UMOL/KG,,UMOL/KG,,UMOL/KG,,PMOL/KG,,PMOL/KG,,UMOL/KG,,UMOL/KG,,,,DEG C,PMOL/KG,,FMOL/KG,,UG/KG,,UG/KG,,ITS-90,,KG/M^3,,ITS-90,
49UP20210920_1,   P03,    72,  1,      0,     BUC,2,20210928,1815,2025, 24.2645, 165.6403, 5920,      0.0,   28.6365,  35.1870,2,    197.7,2,     -999,9,   197.92,2,     0.87,2,     0.19,2,     0.00,2,    0.050,2,     -999,9,     -999,9,     -999,9,     -999,9,     -999,9,     -999,     -999,9,     -999,9,     -999,9,     -999,9,  28.6359,2,  22.3258,2,     -999,9
49UP20210920_1,   P03,    72,  1,     36,     757,2,20210928,1815,2058, 24.2645, 165.6403, 5920,      9.9,   28.6382,  35.1862,2,    197.5,2,     -999,9,   197.49,2,     0.97,2,     0.02,2,     0.00,2,    0.000,2,     -999,9,     -999,9,     -999,9,     -999,9,     -999,9,     -999,     -999,9,     -999,9,     -999,9,     -999,9,  28.6358,2,  22.3252,2,  28.6384,2
49UP20210920_1,   P03,    72,  1,     35,     756,2,20210928,1815,2055, 24.2645, 165.6403, 5920,     51.4,   28.6342,  35.2856,2,    198.7,2,     -999,9,   198.74,6,     1.00,6,     0.04,6,     0.00,6,    0.000,6,     -999,9,     -999,9,     -999,9,     -999,9,     -999,9,     -999,     -999,9,     -999,9,     -999,9,     -999,9,  28.6218,2,  22.4045,2,  28.6294,2
49UP20210920_1,   P03,    72,  1,     34,     843,2,20210928,1815,2051, 24.2645, 165.6403, 5920,     99.6,   21.9118,  35.1152,2,    222.2,2,     -999,9,   221.63,2,     1.73,2,     0.03,2,     0.00,2,    0.010,2,     -999,9,     -999,9,     -999,9,     -999,9,     -999,9,     -999,     -999,9,     -999,9,     -999,9,     -999,9,  21.8922,2,  24.3356,2,  21.9189,2
49UP20210920_1,   P03,    72,  1,     33,     842,2,20210928,1815,2049, 24.2645, 165.6403, 5920,    151.7,   18.6369,  34.8257,2,    214.4,2,     -999,9,   214.17,2,     2.44,2,     0.94,2,     0.03,2,    0.100,2,     -999,9,     -999,9,     -999,9,     -999,9,     -999,9,     -999,     -999,9,     -999,9,     -999,9,     -999,9,  18.6103,2,  24.9867,2,  18.6348,2
49UP20210920_1,   P03,    72,  1,     32,     841,2,20210928,1815,2046, 24.2645, 165.6403, 5920,    202.9,   17.2700,  34.7264,2,    210.4,2,     -999,9,   210.08,2,     3.91,2,     4.08,2,     0.00,2,    0.270,2,     -999,9,     -999,9,     -999,9,     -999,9,     -999,9,     -999,     -999,9,     -999,9,     -999,9,     -999,9,  17.2362,2,  25.2479,2,  17.2684,2
49UP20210920_1,   P03,    72,  1,     31,     840,2,20210928,1815,2044, 24.2645, 165.6403, 5920,    251.9,   16.3446,  34.6773,2,    210.0,2,     -999,9,   209.51,2,     5.58,2,     5.73,2,     0.00,2,    0.380,2,     -999,9,     -999,9,     -999,9,     -999,9,     -999,9,     -999,     -999,9,     -999,9,     -999,9,     -999,9,  16.3042,2,  25.4295,2,  16.3451,2
49UP20210920_1,   P03,    72,  1,     30,     839,2,20210928,1815,2042, 24.2645, 165.6403, 5920,    281.5,   15.6267,  34.6069,2,    200.8,2,     -999,9,   200.71,2,     6.80,2,     7.25,2,     0.00,2,    0.500,2,     -999,9,     -999,9,     -999,9,     -999,9,     -999,9,     -999,     -999,9,     -999,9,     -999,9,     -999,9,  15.5829,2,  25.5396,2,  15.6276,2
49UP20210920_1,   P03,    72,  1,     29,     838,2,20210928,1815,2039, 24.2645, 165.6403, 5920,    372.2,   12.8939,  34.3743,2,    202.8,2,     -999,9,   202.44,2,    12.49,2,    11.50,2,     0.00,2,    0.790,2,     -999,9,     -999,9,     -999,9,     -999,9,     -999,9,     -999,     -999,9,     -999,9,     -999,9,     -999,9,  12.8430,2,  25.9394,2,  12.8804,2
49UP20210920_1,   P03,    72,  1,     28,     755,2,20210928,1815,2036, 24.2645, 165.6403, 5920,    472.7,   10.2914,  34.1797,2,    190.6,2,     -999,9,   190.17,2,    22.40,2,    17.31,2,     0.00,2,    1.200,2,     -999,9,     -999,9,     -999,9,     -999,9,     -999,9,     -999,     -999,9,     -999,9,     -999,9,     -999,9,  10.2354,2,  26.2712,2,  10.2916,2
49UP20210920_1,   P03,    72,  1,     27,     754,2,20210928,1815,2033, 24.2645, 165.6403, 5920,    574.7,    7.7375,  34.0413,2,    162.6,2,     -999,9,   162.47,2,    41.81,2,    24.78,2,     0.00,2,    1.760,2,     -999,9,     -999,9,     -999,9,     -999,9,     -999,9,     -999,     -999,9,     -999,9,     -999,9,     -999,9,   7.6799,2,  26.5677,2,   7.7335,2
49UP20210920_1,   P03,    72,  1,     26,     835,2,20210928,1815,2030, 24.2645, 165.6403, 5920,    677.7,    5.7876,  34.0845,2,     90.6,2,     -999,9,    90.66,6,    70.89,6,    34.77,6,     0.00,6,    2.490,6,     -999,9,     -999,9,     -999,9,     -999,9,     -999,9,     -999,     -999,9,     -999,9,     -999,9,     -999,9,   5.7291,2,  26.8629,2,   5.7942,2
49UP20210920_1,   P03,    72,  1,     25,     834,2,20210928,1815,2026, 24.2645, 165.6403, 5920,    776.1,    4.8150,  34.1944,2,     53.3,2,     -999,9,    53.16,2,    92.35,2,    39.64,2,     0.00,2,    2.840,2,     -999,9,     -999,9,     -999,9,     -999,9,     -999,9,     -999,     -999,9,     -999,9,     -999,9,     -999,9,   4.7531,2,  27.0645,2,   4.8159,2
49UP20210920_1,   P03,    72,  1,     24,     753,2,20210928,1815,2023, 24.2645, 165.6403, 5920,    875.7,    4.2498,  34.2823,2,     41.1,2,     -999,9,    41.19,2,   106.82,2,    41.45,2,     0.00,2,    2.980,2,     -999,9,     -999,9,     -999,9,     -999,9,     -999,9,     -999,     -999,9,     -999,9,     -999,9,     -999,9,   4.1830,2,  27.1962,2,   4.2502,2
49UP20210920_1,   P03,    72,  1,     23,     832,2,20210928,1815,2020, 24.2645, 165.6403, 5920,    979.3,    3.8864,  34.3804,2,     43.1,2,     -999,9,    42.85,2,   115.86,2,    41.87,2,     0.00,2,    2.990,2,     -999,9,     -999,9,     -999,9,     -999,9,     -999,9,     -999,     -999,9,     -999,9,     -999,9,     -999,9,   3.8135,2,  27.3123,2,   3.8865,2
49UP20210920_1,   P03,    72,  1,     22,     831,2,20210928,1815,2015, 24.2645, 165.6403, 5920,   1142.5,    3.3809,  34.4723,2,     56.2,2,     -999,9,    56.15,2,   126.31,2,    41.50,2,     0.00,2,    2.950,2,     -999,9,     -999,9,     -999,9,     -999,9,     -999,9,     -999,     -999,9,     -999,9,     -999,9,     -999,9,   3.2987,2,  27.4360,2,   3.3821,2
49UP20210920_1,   P03,    72,  1,     21,     830,2,20210928,1815,2010, 24.2645, 165.6403, 5920,   1342.7,    2.9133,  34.5227,2,     68.3,2,     -999,9,    67.70,2,   135.90,2,    41.00,2,     0.00,2,    2.900,2,     -999,9,     -999,9,     -999,9,     -999,9,     -999,9,     -999,     -999,9,     -999,9,     -999,9,     -999,9,   2.8194,2,  27.5204,2,   2.9128,2
49UP20210920_1,   P03,    72,  1,     20,     829,2,20210928,1815,2005, 24.2645, 165.6403, 5920,   1545.3,    2.5466,  34.5570,2,     78.3,2,     -999,9,    78.14,2,   142.81,2,    40.60,2,     0.00,2,    2.860,2,     -999,9,     -999,9,     -999,9,     -999,9,     -999,9,     -999,     -999,9,     -999,9,     -999,9,     -999,9,   2.4404,2,  27.5807,2,   2.5470,2
49UP20210920_1,   P03,    72,  1,     19,     828,2,20210928,1815,2000, 24.2645, 165.6403, 5920,   1747.3,    2.2752,  34.5850,2,     87.6,2,     -999,9,    87.86,2,   147.84,2,    40.21,2,     0.00,2,    2.830,2,     -999,9,     -999,9,     -999,9,     -999,9,     -999,9,     -999,     -999,9,     -999,9,     -999,9,     -999,9,   2.1559,2,  27.6267,2,   2.2755,2
49UP20210920_1,   P03,    72,  1,     18,     752,2,20210928,1815,1955, 24.2645, 165.6403, 5920,   1949.7,    2.0457,  34.6095,2,     97.8,2,     -999,9,    97.76,2,   151.09,2,    39.62,2,     0.00,2,    2.780,2,     -999,9,     -999,9,     -999,9,     -999,9,     -999,9,     -999,     -999,9,     -999,9,     -999,9,     -999,9,   1.9129,2,  27.6656,2,   2.0457,2
49UP20210920_1,   P03,    72,  1,     17,     751,2,20210928,1815,1950, 24.2645, 165.6403, 5920,   2154.1,    1.9016,  34.6269,2,    106.4,2,     -999,9,   106.65,6,   152.84,6,    39.17,6,     0.00,6,    2.740,6,     -999,9,     -999,9,     -999,9,     -999,9,     -999,9,     -999,     -999,9,     -999,9,     -999,9,     -999,9,   1.7537,2,  27.6919,2,   1.9015,2
49UP20210920_1,   P03,    72,  1,     16,     328,2,20210928,1815,1945, 24.2645, 165.6403, 5920,   2357.9,    1.7901,  34.6403,2,    114.4,2,     -999,9,   114.54,2,   153.67,2,    38.65,2,     0.00,2,    2.700,2,     -999,9,     -999,9,     -999,9,     -999,9,     -999,9,     -999,     -999,9,     -999,9,     -999,9,     -999,9,   1.6264,2,  27.7122,2,   1.7900,2
49UP20210920_1,   P03,    72,  1,     15,     822,2,20210928,1815,1940, 24.2645, 165.6403, 5920,   2561.0,    1.7200,  34.6497,2,    120.6,2,     -999,9,   120.29,2,   153.50,2,    38.28,2,     0.00,2,    2.660,2,     -999,9,     -999,9,     -999,9,     -999,9,     -999,9,     -999,     -999,9,     -999,9,     -999,9,     -999,9,   1.5395,2,  27.7261,2,   1.7201,2
49UP20210920_1,   P03,    72,  1,     14,     326,2,20210928,1815,1935, 24.2645, 165.6403, 5920,   2763.0,    1.6714,  34.6560,2,    125.3,2,     -999,9,   125.17,2,   153.80,2,    37.99,2,     0.00,2,    2.640,2,     -999,9,     -999,9,     -999,9,     -999,9,     -999,9,     -999,     -999,9,     -999,9,     -999,9,     -999,9,   1.4733,2,  27.7360,2,   1.6715,2
49UP20210920_1,   P03,    72,  1,     13,     325,2,20210928,1815,1930, 24.2645, 165.6403, 5920,   2968.3,    1.6130,  34.6626,2,    131.0,2,     -999,9,   130.97,2,   153.45,2,    37.69,2,     0.00,2,    2.610,2,     -999,9,     -999,9,     -999,9,     -999,9,     -999,9,     -999,     -999,9,     -999,9,     -999,9,     -999,9,   1.3968,2,  27.7469,2,   1.6129,2
49UP20210920_1,   P03,    72,  1,     12,     324,2,20210928,1815,1924, 24.2645, 165.6403, 5920,   3213.1,    1.5808,  34.6675,2,    135.4,2,     -999,9,   135.73,2,   153.06,2,    37.39,2,     0.00,2,    2.580,2,     -999,9,     -999,9,     -999,9,     -999,9,     -999,9,     -999,     -999,9,     -999,9,     -999,9,     -999,9,   1.3416,2,  27.7547,2,   1.5809,2
49UP20210920_1,   P03,    72,  1,     11,     323,2,20210928,1815,1918, 24.2645, 165.6403, 5920,   3468.0,    1.5412,  34.6724,2,    140.6,2,     -999,9,   140.58,2,   152.28,2,    37.12,2,     0.00,2,    2.560,2,     -999,9,     -999,9,     -999,9,     -999,9,     -999,9,     -999,     -999,9,     -999,9,     -999,9,     -999,9,   1.2774,2,  27.7632,2,   1.5411,2
49UP20210920_1,   P03,    72,  1,     10,     322,2,20210928,1815,1911, 24.2645, 165.6403, 5920,   3725.6,    1.5133,  34.6771,2,    146.1,2,     -999,9,   145.97,2,   150.59,2,    36.64,2,     0.00,2,    2.530,2,     -999,9,     -999,9,     -999,9,     -999,9,     -999,9,     -999,     -999,9,     -999,9,     -999,9,     -999,9,   1.2234,2,  27.7707,2,   1.5133,2
49UP20210920_1,   P03,    72,  1,      9,     750,2,20210928,1815,1904, 24.2645, 165.6403, 5920,   3989.8,    1.4967,  34.6810,2,    150.8,2,     -999,9,   150.69,2,   148.82,2,    36.29,2,     0.00,2,    2.510,2,     -999,9,     -999,9,     -999,9,     -999,9,     -999,9,     -999,     -999,9,     -999,9,     -999,9,     -999,9,   1.1790,2,  27.7769,2,   1.4970,2
49UP20210920_1,   P03,    72,  1,      8,     320,2,20210928,1815,1858, 24.2645, 165.6403, 5920,   4241.4,    1.4858,  34.6840,2,    155.4,2,     -999,9,   155.27,6,   146.89,6,    36.04,6,     0.00,6,    2.490,6,     -999,9,     -999,9,     -999,9,     -999,9,     -999,9,     -999,     -999,9,     -999,9,     -999,9,     -999,9,   1.1407,2,  27.7820,2,   1.4859,2
49UP20210920_1,   P03,    72,  1,      7,     319,2,20210928,1815,1852, 24.2645, 165.6403, 5920,   4494.3,    1.4710,  34.6874,2,    160.6,2,     -999,9,   160.69,2,   144.37,2,    35.64,2,     0.00,2,    2.460,2,     -999,9,     -999,9,     -999,9,     -999,9,     -999,9,     -999,     -999,9,     -999,9,     -999,9,     -999,9,   1.0976,2,  27.7876,2,   1.4710,2
49UP20210920_1,   P03,    72,  1,      6,     318,2,20210928,1815,1846, 24.2645, 165.6403, 5920,   4753.5,    1.4627,  34.6907,2,    166.0,2,     -999,9,   166.18,2,   141.20,2,    35.22,2,     0.00,2,    2.430,2,     -999,9,     -999,9,     -999,9,     -999,9,     -999,9,     -999,     -999,9,     -999,9,     -999,9,     -999,9,   1.0593,2,  27.7928,2,   1.4628,2
49UP20210920_1,   P03,    72,  1,      5,     317,2,20210928,1815,1840, 24.2645, 165.6403, 5920,   5012.4,    1.4603,  34.6933,2,    170.6,2,     -999,9,   170.53,2,   138.46,2,    34.88,2,     0.00,2,    2.400,2,     -999,9,     -999,9,     -999,9,     -999,9,     -999,9,     -999,     -999,9,     -999,9,     -999,9,     -999,9,   1.0259,2,  27.7972,2,   1.4604,2
49UP20210920_1,   P03,    72,  1,      4,     316,2,20210928,1815,1834, 24.2645, 165.6403, 5920,   5265.4,    1.4598,  34.6956,2,    175.1,2,     -999,9,   175.38,2,   135.55,2,    34.56,2,     0.00,2,    2.380,2,     -999,9,     -999,9,     -999,9,     -999,9,     -999,9,     -999,     -999,9,     -999,9,     -999,9,     -999,9,   0.9942,2,  27.8012,2,   1.4599,2
49UP20210920_1,   P03,    72,  1,      3,     315,2,20210928,1815,1828, 24.2645, 165.6403, 5920,   5526.8,    1.4751,  34.6971,2,    177.6,2,     -999,9,   177.54,2,   133.98,2,    34.38,2,     0.00,2,    2.370,2,     -999,9,     -999,9,     -999,9,     -999,9,     -999,9,     -999,     -999,9,     -999,9,     -999,9,     -999,9,   0.9760,2,  27.8036,2,   1.4753,2
49UP20210920_1,   P03,    72,  1,      2,     314,2,20210928,1815,1822, 24.2645, 165.6403, 5920,   5780.6,    1.5011,  34.6977,2,    178.7,2,     -999,9,   178.60,2,   133.50,2,    34.31,2,     0.00,2,    2.360,2,     -999,9,     -999,9,     -999,9,     -999,9,     -999,9,     -999,     -999,9,     -999,9,     -999,9,     -999,9,   0.9682,2,  27.8045,2,   1.5013,2
49UP20210920_1,   P03,    72,  1,      1,     811,2,20210928,1815,1816, 24.2645, 165.6403, 5920,   6078.6,    1.5355,  34.6980,2,    179.6,2,     -999,9,   179.52,2,   132.83,2,    34.24,2,     0.00,2,    2.360,2,     -999,9,     -999,9,     -999,9,     -999,9,     -999,9,     -999,     -999,9,     -999,9,     -999,9,     -999,9,   0.9617,2,  27.8052,2,   1.5358,2