BOTTLE,20230808CCHSIOADS
EXPOCODE,SECT_ID,STNNBR,CASTNO,SAMPNO,BTLNBR,BTLNBR_FLAG_W,DATE,TIME,BTL_TIME,LATITUDE,LONGITUDE,DEPTH,CTDPRS,CTDTMP,CTDSAL,CTDSAL_FLAG_W,CTDOXY,CTDOXY_FLAG_W,SALNTY,SALNTY_FLAG_W,OXYGEN,OXYGEN_FLAG_W,SILCAT,SILCAT_FLAG_W,NO2+NO3,NO2+NO3_FLAG_W,NITRIT,NITRIT_FLAG_W,PHSPHT,PHSPHT_FLAG_W,CFC-11,CFC-11_FLAG_W,CFC-12,CFC-12_FLAG_W,TCARBN,TCARBN_FLAG_W,ALKALI,ALKALI_FLAG_W,PH_TOT,PH_TOT_FLAG_W,PH_TMP,CFC113,CFC113_FLAG_W,SF6,SF6_FLAG_W,CHLORA,CHLORA_FLAG_W,PPHYTN,PPHYTN_FLAG_W,THETA,THETA_FLAG_W,SIG0,SIG0_FLAG_W,SBE35,SBE35_FLAG_W
,,,,,,,,,,,,METERS,DBAR,ITS-90,PSS-78,,UMOL/KG,,PSS78,,UMOL/KG,,UMOL/KG,,UMOL/KG,,UMOL/KG,,UMOL/KG,,PMOL/KG,,PMOL/KG,,UMOL/KG,,UMOL/KG,,,,DEG C,PMOL/KG,,FMOL/KG,,UG/KG,,UG/KG,,ITS-90,,KG/M^3,,ITS-90,
49UP20210920_1,   P03,    76,  1,      0,     BUC,2,20210930,0416, 620, 24.2530, 168.7410, 5920,      0.0,   28.9330,  35.1665,2,    198.3,2,     -999,9,   197.95,2,     1.07,2,     0.00,2,     0.00,2,    0.030,2,     -999,9,     -999,9,     -999,9,     -999,9,     -999,9,     -999,     -999,9,     -999,9,     -999,9,     -999,9,  28.9324,2,  22.2117,2,     -999,9
49UP20210920_1,   P03,    76,  1,     36,     757,2,20210930,0416, 650, 24.2530, 168.7410, 5920,      9.9,   28.9391,  35.1654,2,    198.2,2,     -999,9,   198.07,2,     1.05,2,     0.00,2,     0.00,2,    0.010,2,     -999,9,     -999,9,     -999,9,     -999,9,     -999,9,     -999,     -999,9,     -999,9,     -999,9,     -999,9,  28.9367,2,  22.2094,2,  28.9370,2
49UP20210920_1,   P03,    76,  1,     35,     756,2,20210930,0416, 646, 24.2530, 168.7410, 5920,     50.2,   28.8371,  35.1761,2,    197.7,2,     -999,9,   198.29,2,     1.05,2,     0.00,2,     0.00,2,    0.010,2,     -999,9,     -999,9,     -999,9,     -999,9,     -999,9,     -999,     -999,9,     -999,9,     -999,9,     -999,9,  28.8250,2,  22.2547,2,  28.8371,2
49UP20210920_1,   P03,    76,  1,     34,     843,2,20210930,0416, 644, 24.2530, 168.7410, 5920,    100.8,   23.4627,  35.2935,2,    211.3,2,     -999,9,   210.99,2,     1.47,2,     0.00,2,     0.00,2,    0.020,2,     -999,9,     -999,9,     -999,9,     -999,9,     -999,9,     -999,     -999,9,     -999,9,     -999,9,     -999,9,  23.4418,2,  24.0279,2,  23.4623,2
49UP20210920_1,   P03,    76,  1,     33,     842,2,20210930,0416, 642, 24.2530, 168.7410, 5920,    150.4,   20.3284,  35.0277,2,    202.8,2,     -999,9,   202.56,2,     2.19,2,     0.62,2,     0.05,2,    0.100,2,     -999,9,     -999,9,     -999,9,     -999,9,     -999,9,     -999,     -999,9,     -999,9,     -999,9,     -999,9,  20.3003,2,  24.7034,2,  20.3285,2
49UP20210920_1,   P03,    76,  1,     32,     841,2,20210930,0416, 639, 24.2530, 168.7410, 5920,    202.1,   17.9790,  34.8030,2,    204.3,2,     -999,9,   204.15,2,     3.43,2,     3.03,2,     0.01,2,    0.240,2,     -999,9,     -999,9,     -999,9,     -999,9,     -999,9,     -999,     -999,9,     -999,9,     -999,9,     -999,9,  17.9443,2,  25.1348,2,  17.9749,2
49UP20210920_1,   P03,    76,  1,     31,     840,2,20210930,0416, 637, 24.2530, 168.7410, 5920,    251.6,   16.8379,  34.7145,2,    202.2,2,     -999,9,   201.89,6,     4.93,6,     5.15,6,     0.00,6,    0.370,6,     -999,9,     -999,9,     -999,9,     -999,9,     -999,9,     -999,     -999,9,     -999,9,     -999,9,     -999,9,  16.7967,2,  25.3432,2,  16.8179,2
49UP20210920_1,   P03,    76,  1,     30,     839,2,20210930,0416, 635, 24.2530, 168.7410, 5920,    331.7,   14.2424,  34.4741,2,    202.7,2,     -999,9,   202.19,2,     9.12,2,     8.86,2,     0.00,2,    0.630,2,     -999,9,     -999,9,     -999,9,     -999,9,     -999,9,     -999,     -999,9,     -999,9,     -999,9,     -999,9,  14.1939,2,  25.7399,2,  14.2581,2
49UP20210920_1,   P03,    76,  1,     29,     838,2,20210930,0416, 632, 24.2530, 168.7410, 5920,    432.7,   11.4244,  34.2634,2,    200.3,2,     -999,9,   199.86,2,    17.56,2,    14.23,2,     0.00,2,    1.000,2,     -999,9,     -999,9,     -999,9,     -999,9,     -999,9,     -999,     -999,9,     -999,9,     -999,9,     -999,9,  11.3696,2,  26.1347,2,  11.4247,2
49UP20210920_1,   P03,    76,  1,     28,     755,2,20210930,0416, 629, 24.2530, 168.7410, 5920,    533.8,    8.7981,  34.1089,2,    159.1,2,     -999,9,   159.05,2,    34.17,2,    22.84,2,     0.00,2,    1.630,2,     -999,9,     -999,9,     -999,9,     -999,9,     -999,9,     -999,     -999,9,     -999,9,     -999,9,     -999,9,   8.7405,2,  26.4612,2,   8.7994,2
49UP20210920_1,   P03,    76,  1,     27,     754,3,20210930,0416, 626, 24.2530, 168.7410, 5920,    634.8,    6.8906,  34.0722,2,    115.9,2,     -999,9,   115.69,2,    55.20,2,    30.39,2,     0.00,2,    2.180,2,     -999,9,     -999,9,     -999,9,     -999,9,     -999,9,     -999,     -999,9,     -999,9,     -999,9,     -999,9,   6.8306,2,  26.7110,2,   6.8915,2
49UP20210920_1,   P03,    76,  1,     26,     835,2,20210930,0416, 623, 24.2530, 168.7410, 5920,    736.2,    5.4161,  34.1350,2,     71.3,2,     -999,9,    71.23,2,    79.68,2,    36.91,2,     0.00,2,    2.670,2,     -999,9,     -999,9,     -999,9,     -999,9,     -999,9,     -999,     -999,9,     -999,9,     -999,9,     -999,9,   5.3542,2,  26.9482,2,   5.4172,2
49UP20210920_1,   P03,    76,  1,     25,     834,2,20210930,0416, 619, 24.2530, 168.7410, 5920,    836.8,    4.6135,  34.2495,2,     46.1,2,     -999,9,    46.10,2,    98.66,2,    40.43,2,     0.00,2,    2.920,2,     -999,9,     -999,9,     -999,9,     -999,9,     -999,9,     -999,     -999,9,     -999,9,     -999,9,     -999,9,   4.5476,2,  27.1310,2,   4.6135,2
49UP20210920_1,   P03,    76,  1,     24,     753,2,20210930,0416, 616, 24.2530, 168.7410, 5920,    937.9,    4.2875,  34.3450,2,     44.2,2,     -999,9,    44.08,2,   106.46,2,    41.13,2,     0.00,2,    2.970,2,     -999,9,     -999,9,     -999,9,     -999,9,     -999,9,     -999,     -999,9,     -999,9,     -999,9,     -999,9,   4.2152,2,  27.2426,2,   4.2878,2
49UP20210920_1,   P03,    76,  1,     23,     832,2,20210930,0416, 612, 24.2530, 168.7410, 5920,   1080.2,    3.8551,  34.4273,2,     50.2,2,     -999,9,    51.29,3,   115.93,2,    41.18,2,     0.00,2,    2.970,2,     -999,9,     -999,9,     -999,9,     -999,9,     -999,9,     -999,     -999,9,     -999,9,     -999,9,     -999,9,   3.7741,2,  27.3537,2,   3.8568,2
49UP20210920_1,   P03,    76,  1,     22,     831,2,20210930,0416, 607, 24.2530, 168.7410, 5920,   1281.3,    3.2445,  34.5084,2,     64.4,2,     -999,9,    64.38,6,   128.75,6,    40.89,6,     0.00,6,    2.930,6,     -999,9,     -999,9,     -999,9,     -999,9,     -999,9,     -999,     -999,9,     -999,9,     -999,9,     -999,9,   3.1523,2,  27.4786,2,   3.2440,2
49UP20210920_1,   P03,    76,  1,     21,     830,2,20210930,0416, 602, 24.2530, 168.7410, 5920,   1486.0,    2.7465,  34.5443,2,     73.2,2,     -999,9,    73.16,2,   139.31,2,    40.61,2,     0.00,2,    2.890,2,     -999,9,     -999,9,     -999,9,     -999,9,     -999,9,     -999,     -999,9,     -999,9,     -999,9,     -999,9,   2.6428,2,  27.5532,2,   2.7465,2
49UP20210920_1,   P03,    76,  1,     20,     829,2,20210930,0416, 557, 24.2530, 168.7410, 5920,   1686.6,    2.3919,  34.5752,2,     82.9,2,     -999,9,    83.41,2,   146.04,2,    40.24,2,     0.00,2,    2.850,2,     -999,9,     -999,9,     -999,9,     -999,9,     -999,9,     -999,     -999,9,     -999,9,     -999,9,     -999,9,   2.2761,2,  27.6091,2,   2.3920,2
49UP20210920_1,   P03,    76,  1,     19,     828,2,20210930,0416, 552, 24.2530, 168.7410, 5920,   1889.8,    2.1198,  34.5987,2,     92.1,2,     -999,9,    92.29,2,   151.21,2,    39.82,2,     0.00,2,    2.810,2,     -999,9,     -999,9,     -999,9,     -999,9,     -999,9,     -999,     -999,9,     -999,9,     -999,9,     -999,9,   1.9909,2,  27.6509,2,   2.1198,2
49UP20210920_1,   P03,    76,  1,     18,     752,2,20210930,0416, 547, 24.2530, 168.7410, 5920,   2092.4,    1.9522,  34.6206,2,    102.2,2,     -999,9,   102.18,2,   153.22,2,    39.28,2,     0.00,2,    2.770,2,     -999,9,     -999,9,     -999,9,     -999,9,     -999,9,     -999,     -999,9,     -999,9,     -999,9,     -999,9,   1.8088,2,  27.6826,2,   1.9523,2
49UP20210920_1,   P03,    76,  1,     17,     751,2,20210930,0416, 542, 24.2530, 168.7410, 5920,   2296.5,    1.8234,  34.6355,2,    110.7,2,     -999,9,   110.55,2,   154.40,2,    38.77,2,     0.00,2,    2.720,2,     -999,9,     -999,9,     -999,9,     -999,9,     -999,9,     -999,     -999,9,     -999,9,     -999,9,     -999,9,   1.6645,2,  27.7055,2,   1.8235,2
49UP20210920_1,   P03,    76,  1,     16,     328,2,20210930,0416, 537, 24.2530, 168.7410, 5920,   2500.4,    1.7330,  34.6456,2,    116.8,2,     -999,9,   116.82,2,   155.52,2,    38.40,2,     0.00,2,    2.690,2,     -999,9,     -999,9,     -999,9,     -999,9,     -999,9,     -999,     -999,9,     -999,9,     -999,9,     -999,9,   1.5577,2,  27.7215,2,   1.7331,2
49UP20210920_1,   P03,    76,  1,     15,     822,2,20210930,0416, 533, 24.2530, 168.7410, 5920,   2703.0,    1.6665,  34.6538,2,    123.1,2,     -999,9,   123.08,2,   155.14,2,    38.00,2,     0.00,2,    2.660,2,     -999,9,     -999,9,     -999,9,     -999,9,     -999,9,     -999,     -999,9,     -999,9,     -999,9,     -999,9,   1.4740,2,  27.7342,2,   1.6665,2
49UP20210920_1,   P03,    76,  1,     14,     326,2,20210930,0416, 528, 24.2530, 168.7410, 5920,   2909.0,    1.6147,  34.6606,2,    128.6,2,     -999,9,   128.98,2,   154.87,2,    37.65,2,     0.00,2,    2.630,2,     -999,9,     -999,9,     -999,9,     -999,9,     -999,9,     -999,     -999,9,     -999,9,     -999,9,     -999,9,   1.4041,2,  27.7448,2,   1.6148,2
49UP20210920_1,   P03,    76,  1,     13,     325,2,20210930,0416, 523, 24.2530, 168.7410, 5920,   3121.5,    1.5707,  34.6665,2,    134.2,2,     -999,9,   134.20,6,   153.56,6,    37.17,6,     0.00,6,    2.600,6,     -999,9,     -999,9,     -999,9,     -999,9,     -999,9,     -999,     -999,9,     -999,9,     -999,9,     -999,9,   1.3407,2,  27.7540,2,   1.5707,2
49UP20210920_1,   P03,    76,  1,     12,     324,2,20210930,0416, 517, 24.2530, 168.7410, 5920,   3376.8,    1.5393,  34.6715,2,    139.5,2,     -999,9,   139.61,2,   152.65,2,    36.92,2,     0.00,2,    2.570,2,     -999,9,     -999,9,     -999,9,     -999,9,     -999,9,     -999,     -999,9,     -999,9,     -999,9,     -999,9,   1.2848,2,  27.7620,2,   1.5393,2
49UP20210920_1,   P03,    76,  1,     11,     323,2,20210930,0416, 512, 24.2530, 168.7410, 5920,   3634.0,    1.5197,  34.6757,2,    144.4,2,     -999,9,   144.31,2,   151.61,2,    36.61,2,     0.00,2,    2.550,2,     -999,9,     -999,9,     -999,9,     -999,9,     -999,9,     -999,     -999,9,     -999,9,     -999,9,     -999,9,   1.2393,2,  27.7685,2,   1.5197,2
49UP20210920_1,   P03,    76,  1,     10,     322,2,20210930,0416, 506, 24.2530, 168.7410, 5920,   3889.9,    1.5041,  34.6799,2,    149.4,2,     -999,9,   149.15,2,   149.39,2,    36.24,2,     0.00,2,    2.520,2,     -999,9,     -999,9,     -999,9,     -999,9,     -999,9,     -999,     -999,9,     -999,9,     -999,9,     -999,9,   1.1971,2,  27.7747,2,   1.5042,2
49UP20210920_1,   P03,    76,  1,      9,     750,2,20210930,0416, 500, 24.2530, 168.7410, 5920,   4144.8,    1.4919,  34.6828,2,    153.6,2,     -999,9,   153.32,2,   147.83,2,    35.99,2,     0.00,2,    2.510,2,     -999,9,     -999,9,     -999,9,     -999,9,     -999,9,     -999,     -999,9,     -999,9,     -999,9,     -999,9,   1.1574,2,  27.7799,2,   1.4921,2
49UP20210920_1,   P03,    76,  1,      8,     320,2,20210930,0416, 455, 24.2530, 168.7410, 5920,   4402.0,    1.4804,  34.6861,2,    158.7,2,     -999,9,   158.58,2,   145.17,2,    35.62,2,     0.00,2,    2.480,2,     -999,9,     -999,9,     -999,9,     -999,9,     -999,9,     -999,     -999,9,     -999,9,     -999,9,     -999,9,   1.1173,2,  27.7852,2,   1.4804,2
49UP20210920_1,   P03,    76,  1,      7,     319,2,20210930,0416, 449, 24.2530, 168.7410, 5920,   4659.1,    1.4696,  34.6895,2,    164.0,2,     -999,9,   164.02,2,   142.45,2,    35.25,2,     0.00,2,    2.440,2,     -999,9,     -999,9,     -999,9,     -999,9,     -999,9,     -999,     -999,9,     -999,9,     -999,9,     -999,9,   1.0771,2,  27.7907,2,   1.4698,2
49UP20210920_1,   P03,    76,  1,      6,     318,2,20210930,0416, 444, 24.2530, 168.7410, 5920,   4916.2,    1.4661,  34.6920,2,    168.6,2,     -999,9,   167.90,2,   139.89,2,    34.90,2,     0.00,2,    2.420,2,     -999,9,     -999,9,     -999,9,     -999,9,     -999,9,     -999,     -999,9,     -999,9,     -999,9,     -999,9,   1.0431,2,  27.7950,2,   1.4660,2
49UP20210920_1,   P03,    76,  1,      5,     317,2,20210930,0416, 438, 24.2530, 168.7410, 5920,   5174.3,    1.4695,  34.6941,2,    172.5,2,     -999,9,   172.76,2,   137.53,2,    34.65,2,     0.00,2,    2.400,2,     -999,9,     -999,9,     -999,9,     -999,9,     -999,9,     -999,     -999,9,     -999,9,     -999,9,     -999,9,   1.0149,2,  27.7986,2,   1.4695,2
49UP20210920_1,   P03,    76,  1,      4,     316,2,20210930,0416, 432, 24.2530, 168.7410, 5920,   5431.6,    1.4836,  34.6955,2,    175.1,2,     -999,9,   175.05,6,   135.97,6,    34.44,6,     0.00,6,    2.380,6,     -999,9,     -999,9,     -999,9,     -999,9,     -999,9,     -999,     -999,9,     -999,9,     -999,9,     -999,9,   0.9963,2,  27.8009,2,   1.4836,2
49UP20210920_1,   P03,    76,  1,      3,     315,2,20210930,0416, 427, 24.2530, 168.7410, 5920,   5689.1,    1.4998,  34.6969,2,    177.4,2,     -999,9,   177.16,2,   134.56,2,    34.30,2,     0.00,2,    2.370,2,     -999,9,     -999,9,     -999,9,     -999,9,     -999,9,     -999,     -999,9,     -999,9,     -999,9,     -999,9,   0.9789,2,  27.8032,2,   1.4999,2
49UP20210920_1,   P03,    76,  1,      2,     314,2,20210930,0416, 421, 24.2530, 168.7410, 5920,   5949.2,    1.5190,  34.6978,2,    179.5,2,     -999,9,   179.33,2,   133.54,2,    34.11,2,     0.00,2,    2.350,2,     -999,9,     -999,9,     -999,9,     -999,9,     -999,9,     -999,     -999,9,     -999,9,     -999,9,     -999,9,   0.9631,2,  27.8049,2,   1.5190,2
49UP20210920_1,   P03,    76,  1,      1,     811,2,20210930,0416, 417, 24.2530, 168.7410, 5920,   6088.5,    1.5317,  34.6983,2,    180.3,2,     -999,9,   180.28,2,   133.10,2,    34.08,2,     0.00,2,    2.350,2,     -999,9,     -999,9,     -999,9,     -999,9,     -999,9,     -999,     -999,9,     -999,9,     -999,9,     -999,9,   0.9567,2,  27.8058,2,   1.5317,2