BOTTLE,20230808CCHSIOADS
EXPOCODE,SECT_ID,STNNBR,CASTNO,SAMPNO,BTLNBR,BTLNBR_FLAG_W,DATE,TIME,BTL_TIME,LATITUDE,LONGITUDE,DEPTH,CTDPRS,CTDTMP,CTDSAL,CTDSAL_FLAG_W,CTDOXY,CTDOXY_FLAG_W,SALNTY,SALNTY_FLAG_W,OXYGEN,OXYGEN_FLAG_W,SILCAT,SILCAT_FLAG_W,NO2+NO3,NO2+NO3_FLAG_W,NITRIT,NITRIT_FLAG_W,PHSPHT,PHSPHT_FLAG_W,CFC-11,CFC-11_FLAG_W,CFC-12,CFC-12_FLAG_W,TCARBN,TCARBN_FLAG_W,ALKALI,ALKALI_FLAG_W,PH_TOT,PH_TOT_FLAG_W,PH_TMP,CFC113,CFC113_FLAG_W,SF6,SF6_FLAG_W,CHLORA,CHLORA_FLAG_W,PPHYTN,PPHYTN_FLAG_W,THETA,THETA_FLAG_W,SIG0,SIG0_FLAG_W,SBE35,SBE35_FLAG_W
,,,,,,,,,,,,METERS,DBAR,ITS-90,PSS-78,,UMOL/KG,,PSS78,,UMOL/KG,,UMOL/KG,,UMOL/KG,,UMOL/KG,,UMOL/KG,,PMOL/KG,,PMOL/KG,,UMOL/KG,,UMOL/KG,,,,DEG C,PMOL/KG,,FMOL/KG,,UG/KG,,UG/KG,,ITS-90,,KG/M^3,,ITS-90,
49UP20210719_2,   P03,    24,  1,      0,     BUC,2,20210808,1041,1235, 24.2538, 135.5987, 5283,      0.0,   27.8469,  34.3786,2,    201.2,2,     -999,9,   201.11,2,     1.08,2,     0.00,2,     0.00,2,    0.010,2,     -999,9,     -999,9,     -999,9,     -999,9,     -999,9,     -999,     -999,9,     -999,9,     -999,9,     -999,9,  27.8463,2,  21.9775,2,     -999,9
49UP20210719_2,   P03,    24,  1,     36,     757,2,20210808,1041,1300, 24.2538, 135.5987, 5283,      9.5,   27.8470,  34.3788,2,    201.2,2,     -999,9,   200.69,2,     1.11,2,     0.00,2,     0.00,2,    0.000,2,     -999,9,     -999,9,     -999,9,     -999,9,     -999,9,     -999,     -999,9,     -999,9,     -999,9,     -999,9,  27.8448,2,  21.9781,2,  27.8468,2
49UP20210719_2,   P03,    24,  1,     35,     756,2,20210808,1041,1259, 24.2538, 135.5987, 5283,     25.2,   27.8465,  34.3774,2,    200.8,2,     -999,9,   201.01,2,     1.06,2,     0.00,2,     0.00,2,    0.000,2,     -999,9,     -999,9,     -999,9,     -999,9,     -999,9,     -999,     -999,9,     -999,9,     -999,9,     -999,9,  27.8406,2,  21.9784,2,  27.8458,2
49UP20210719_2,   P03,    24,  1,     34,     843,2,20210808,1041,1255, 24.2538, 135.5987, 5283,     49.6,   24.4741,  34.7883,2,    220.8,2,     -999,9,   219.98,2,     1.16,2,     0.00,2,     0.00,2,    0.010,2,     -999,9,     -999,9,     -999,9,     -999,9,     -999,9,     -999,     -999,9,     -999,9,     -999,9,     -999,9,  24.4635,2,  23.3431,2,  24.4729,2
49UP20210719_2,   P03,    24,  1,     33,     842,2,20210808,1041,1254, 24.2538, 135.5987, 5283,     74.5,   22.7872,  34.8524,2,    208.7,2,     -999,9,   208.43,6,     1.38,6,     0.00,6,     0.00,6,    0.030,6,     -999,9,     -999,9,     -999,9,     -999,9,     -999,9,     -999,     -999,9,     -999,9,     -999,9,     -999,9,  22.7721,2,  23.8871,2,  22.7867,2
49UP20210719_2,   P03,    24,  1,     32,     841,2,20210808,1041,1253, 24.2538, 135.5987, 5283,    101.5,   21.3721,  34.8445,2,    206.3,2,     -999,9,   206.33,2,     1.57,2,     0.11,2,     0.04,2,    0.040,2,     -999,9,     -999,9,     -999,9,     -999,9,     -999,9,     -999,     -999,9,     -999,9,     -999,9,     -999,9,  21.3524,2,  24.2793,2,  21.3750,2
49UP20210719_2,   P03,    24,  1,     31,     840,2,20210808,1041,1252, 24.2538, 135.5987, 5283,    126.1,   20.5631,  34.8222,2,    207.6,2,     -999,9,   207.41,2,     1.73,2,     1.06,2,     0.07,2,    0.090,2,     -999,9,     -999,9,     -999,9,     -999,9,     -999,9,     -999,     -999,9,     -999,9,     -999,9,     -999,9,  20.5394,2,  24.4829,2,  20.5623,2
49UP20210719_2,   P03,    24,  1,     30,     839,2,20210808,1041,1250, 24.2538, 135.5987, 5283,    153.3,   19.7785,  34.8204,2,    202.4,2,     -999,9,   203.10,2,     2.37,2,     2.28,2,     0.01,2,    0.150,2,     -999,9,     -999,9,     -999,9,     -999,9,     -999,9,     -999,     -999,9,     -999,9,     -999,9,     -999,9,  19.7504,2,  24.6902,2,  19.7784,2
49UP20210719_2,   P03,    24,  1,     29,     838,2,20210808,1041,1248, 24.2538, 135.5987, 5283,    208.8,   18.0123,  34.7973,2,    192.0,2,     -999,9,   192.20,2,     3.81,2,     4.50,2,     0.00,2,    0.330,2,     -999,9,     -999,9,     -999,9,     -999,9,     -999,9,     -999,     -999,9,     -999,9,     -999,9,     -999,9,  17.9764,2,  25.1226,2,  18.0238,2
49UP20210719_2,   P03,    24,  1,     28,     755,2,20210808,1041,1246, 24.2538, 135.5987, 5283,    255.1,   16.9106,  34.7239,2,    195.0,2,     -999,9,   194.94,2,     5.07,2,     6.01,2,     0.00,2,    0.410,2,     -999,9,     -999,9,     -999,9,     -999,9,     -999,9,     -999,     -999,9,     -999,9,     -999,9,     -999,9,  16.8687,2,  25.3334,2,  16.9187,2
49UP20210719_2,   P03,    24,  1,     27,     754,2,20210808,1041,1243, 24.2538, 135.5987, 5283,    333.0,   15.3228,  34.5937,2,    188.9,2,     -999,9,     -999,5,     8.61,2,     9.05,2,     0.00,2,    0.620,2,     -999,9,     -999,9,     -999,9,     -999,9,     -999,9,     -999,     -999,9,     -999,9,     -999,9,     -999,9,  15.2716,2,  25.5988,2,  15.3222,2
49UP20210719_2,   P03,    24,  1,     26,     835,2,20210808,1041,1241, 24.2538, 135.5987, 5283,    432.5,   12.2135,  34.3431,2,    177.7,2,     -999,9,   178.11,2,    17.79,2,    15.03,2,     0.00,2,    1.060,2,     -999,9,     -999,9,     -999,9,     -999,9,     -999,9,     -999,     -999,9,     -999,9,     -999,9,     -999,9,  12.1562,2,  26.0491,2,  12.2118,2
49UP20210719_2,   P03,    24,  1,     25,     834,2,20210808,1041,1238, 24.2538, 135.5987, 5283,    531.9,    9.4487,  34.1978,2,    148.6,2,     -999,9,   149.06,2,    34.52,2,    22.77,2,     0.00,2,    1.630,2,     -999,9,     -999,9,     -999,9,     -999,9,     -999,9,     -999,     -999,9,     -999,9,     -999,9,     -999,9,   9.3887,2,  26.4273,2,   9.4484,2
49UP20210719_2,   P03,    24,  1,     24,     753,2,20210808,1041,1235, 24.2538, 135.5987, 5283,    633.5,    7.1893,  34.1561,2,    110.1,2,     -999,9,   109.82,2,    57.02,2,    30.42,2,     0.00,2,    2.180,2,     -999,9,     -999,9,     -999,9,     -999,9,     -999,9,     -999,     -999,9,     -999,9,     -999,9,     -999,9,   7.1280,2,  26.7363,2,   7.1880,2
49UP20210719_2,   P03,    24,  1,     23,     832,2,20210808,1041,1233, 24.2538, 135.5987, 5283,    736.8,    5.8333,  34.1807,2,     86.8,2,     -999,9,    86.66,6,    77.05,6,    34.86,6,     0.00,6,    2.510,6,     -999,9,     -999,9,     -999,9,     -999,9,     -999,9,     -999,     -999,9,     -999,9,     -999,9,     -999,9,   5.7691,2,  26.9341,2,   5.8330,2
49UP20210719_2,   P03,    24,  1,     22,     831,2,20210808,1041,1230, 24.2538, 135.5987, 5283,    835.5,    5.0037,  34.2516,2,     66.8,2,     -999,9,    65.95,2,    91.69,2,    38.06,2,     0.00,2,    2.720,2,     -999,9,     -999,9,     -999,9,     -999,9,     -999,9,     -999,     -999,9,     -999,9,     -999,9,     -999,9,   4.9354,2,  27.0893,2,   5.0037,2
49UP20210719_2,   P03,    24,  1,     21,     830,2,20210808,1041,1227, 24.2538, 135.5987, 5283,    938.7,    4.2115,  34.3271,2,     59.2,2,     -999,9,    59.27,2,   108.46,2,    39.76,2,     0.00,2,    2.840,2,     -999,9,     -999,9,     -999,9,     -999,9,     -999,9,     -999,     -999,9,     -999,9,     -999,9,     -999,9,   4.1397,2,  27.2363,2,   4.2117,2
49UP20210719_2,   P03,    24,  1,     20,     829,2,20210808,1041,1222, 24.2538, 135.5987, 5283,   1080.6,    3.6168,  34.4203,2,     62.4,2,     -999,9,    62.57,2,   121.72,2,    40.37,2,     0.00,2,    2.870,2,     -999,9,     -999,9,     -999,9,     -999,9,     -999,9,     -999,     -999,9,     -999,9,     -999,9,     -999,9,   3.5377,2,  27.3715,2,   3.6179,2
49UP20210719_2,   P03,    24,  1,     19,     828,2,20210808,1041,1217, 24.2538, 135.5987, 5283,   1283.0,    3.0773,  34.4883,2,     72.5,2,     -999,9,    72.51,2,   132.12,2,    40.19,2,     0.00,2,    2.850,2,     -999,9,     -999,9,     -999,9,     -999,9,     -999,9,     -999,     -999,9,     -999,9,     -999,9,     -999,9,   2.9866,2,  27.4778,2,   3.0773,2
49UP20210719_2,   P03,    24,  1,     18,     752,2,20210808,1041,1212, 24.2538, 135.5987, 5283,   1487.1,    2.6066,  34.5409,2,     86.6,2,     -999,9,    86.26,2,   139.33,2,    39.62,2,     0.00,2,    2.790,2,     -999,9,     -999,9,     -999,9,     -999,9,     -999,9,     -999,     -999,9,     -999,9,     -999,9,     -999,9,   2.5044,2,  27.5624,2,   2.6066,2
49UP20210719_2,   P03,    24,  1,     17,     751,2,20210808,1041,1207, 24.2538, 135.5987, 5283,   1689.9,    2.3265,  34.5685,2,     94.9,2,     -999,9,    94.58,2,   143.19,2,    39.33,2,     0.00,2,    2.770,2,     -999,9,     -999,9,     -999,9,     -999,9,     -999,9,     -999,     -999,9,     -999,9,     -999,9,     -999,9,   2.2112,2,  27.6090,2,   2.3260,2
49UP20210719_2,   P03,    24,  1,     16,     328,2,20210808,1041,1202, 24.2538, 135.5987, 5283,   1892.3,    2.0878,  34.5997,2,    108.2,2,     -999,9,   108.10,2,   144.09,2,    38.64,2,     0.00,2,    2.710,2,     -999,9,     -999,9,     -999,9,     -999,9,     -999,9,     -999,     -999,9,     -999,9,     -999,9,     -999,9,   1.9591,2,  27.6542,2,   2.0872,2
49UP20210719_2,   P03,    24,  1,     15,     822,2,20210808,1041,1157, 24.2538, 135.5987, 5283,   2096.5,    1.9250,  34.6206,2,    118.1,2,     -999,9,   117.94,2,   144.32,2,    38.05,2,     0.00,2,    2.660,2,     -999,9,     -999,9,     -999,9,     -999,9,     -999,9,     -999,     -999,9,     -999,9,     -999,9,     -999,9,   1.7817,2,  27.6847,2,   1.9252,2
49UP20210719_2,   P03,    24,  1,     14,     326,2,20210808,1041,1150, 24.2538, 135.5987, 5283,   2300.0,    1.8374,  34.6327,2,    124.2,2,     -999,9,   123.93,2,   144.60,2,    37.75,2,     0.00,2,    2.630,2,     -999,9,     -999,9,     -999,9,     -999,9,     -999,9,     -999,     -999,9,     -999,9,     -999,9,     -999,9,   1.6780,2,  27.7023,2,   1.8373,2
49UP20210719_2,   P03,    24,  1,     13,     325,2,20210808,1041,1145, 24.2538, 135.5987, 5283,   2504.3,    1.7606,  34.6427,2,    129.7,2,     -999,9,   129.56,6,   144.72,6,    37.41,6,     0.00,6,    2.610,6,     -999,9,     -999,9,     -999,9,     -999,9,     -999,9,     -999,     -999,9,     -999,9,     -999,9,     -999,9,   1.5844,2,  27.7173,2,   1.7601,2
49UP20210719_2,   P03,    24,  1,     12,     324,2,20210808,1041,1139, 24.2538, 135.5987, 5283,   2710.1,    1.6905,  34.6525,2,    135.3,2,     -999,9,   135.24,2,   144.60,2,    37.11,2,     0.00,2,    2.580,2,     -999,9,     -999,9,     -999,9,     -999,9,     -999,9,     -999,     -999,9,     -999,9,     -999,9,     -999,9,   1.4970,2,  27.7315,2,   1.6906,2
49UP20210719_2,   P03,    24,  1,     11,     323,2,20210808,1041,1133, 24.2538, 135.5987, 5283,   2909.4,    1.6450,  34.6589,2,    139.2,2,     -999,9,   139.14,2,   144.18,2,    36.79,2,     0.00,2,    2.560,2,     -999,9,     -999,9,     -999,9,     -999,9,     -999,9,     -999,     -999,9,     -999,9,     -999,9,     -999,9,   1.4338,2,  27.7412,2,   1.6450,2
49UP20210719_2,   P03,    24,  1,     10,     322,3,20210808,1041,1129, 24.2538, 135.5987, 5283,   3115.4,    1.6041,  34.6651,2,    143.4,2,     -999,9,   143.21,2,   143.85,2,    36.48,2,     0.00,2,    2.530,2,     -999,9,     -999,9,     -999,9,     -999,9,     -999,9,     -999,     -999,9,     -999,9,     -999,9,     -999,9,   1.3739,2,  27.7505,2,   1.6042,2
49UP20210719_2,   P03,    24,  1,      9,     750,2,20210808,1041,1124, 24.2538, 135.5987, 5283,   3375.1,    1.5784,  34.6701,2,    147.0,2,     -999,9,   146.68,2,   144.02,2,    36.36,2,     0.00,2,    2.520,2,     -999,9,     -999,9,     -999,9,     -999,9,     -999,9,     -999,     -999,9,     -999,9,     -999,9,     -999,9,   1.3231,2,  27.7581,2,   1.5784,2
49UP20210719_2,   P03,    24,  1,      8,     320,2,20210808,1041,1119, 24.2538, 135.5987, 5283,   3633.4,    1.5523,  34.6755,2,    150.9,2,     -999,9,   150.82,2,   142.98,2,    36.07,2,     0.00,2,    2.490,2,     -999,9,     -999,9,     -999,9,     -999,9,     -999,9,     -999,     -999,9,     -999,9,     -999,9,     -999,9,   1.2711,2,  27.7661,2,   1.5524,2
49UP20210719_2,   P03,    24,  1,      7,     319,2,20210808,1041,1114, 24.2538, 135.5987, 5283,   3890.8,    1.5490,  34.6786,2,    153.2,2,     -999,9,   153.09,2,   142.93,2,    35.93,2,     0.00,2,    2.490,2,     -999,9,     -999,9,     -999,9,     -999,9,     -999,9,     -999,     -999,9,     -999,9,     -999,9,     -999,9,   1.2406,2,  27.7707,2,   1.5491,2
49UP20210719_2,   P03,    24,  1,      6,     318,2,20210808,1041,1108, 24.2538, 135.5987, 5283,   4143.7,    1.5556,  34.6805,2,    155.0,2,     -999,9,   154.55,2,   142.32,2,    35.77,2,     0.00,2,    2.470,2,     -999,9,     -999,9,     -999,9,     -999,9,     -999,9,     -999,     -999,9,     -999,9,     -999,9,     -999,9,   1.2193,2,  27.7737,2,   1.5556,2
49UP20210719_2,   P03,    24,  1,      5,     317,2,20210808,1041,1103, 24.2538, 135.5987, 5283,   4402.1,    1.5755,  34.6814,2,    155.9,2,     -999,9,   156.22,2,   142.18,2,    35.72,2,     0.00,2,    2.470,2,     -999,9,     -999,9,     -999,9,     -999,9,     -999,9,     -999,     -999,9,     -999,9,     -999,9,     -999,9,   1.2095,2,  27.7752,2,   1.5753,2
49UP20210719_2,   P03,    24,  1,      4,     316,2,20210808,1041,1057, 24.2538, 135.5987, 5283,   4656.3,    1.6013,  34.6819,2,    156.3,2,     -999,9,   156.04,2,   141.90,2,    35.71,2,     0.00,2,    2.470,2,     -999,9,     -999,9,     -999,9,     -999,9,     -999,9,     -999,     -999,9,     -999,9,     -999,9,     -999,9,   1.2049,2,  27.7758,2,   1.6013,2
49UP20210719_2,   P03,    24,  1,      3,     315,2,20210808,1041,1052, 24.2538, 135.5987, 5283,   4915.2,    1.6288,  34.6822,2,    156.6,2,     -999,9,   156.25,6,   141.83,6,    35.70,6,     0.00,6,    2.470,6,     -999,9,     -999,9,     -999,9,     -999,9,     -999,9,     -999,     -999,9,     -999,9,     -999,9,     -999,9,   1.2006,2,  27.7764,2,   1.6289,2
49UP20210719_2,   P03,    24,  1,      2,     314,2,20210808,1041,1047, 24.2538, 135.5987, 5283,   5173.2,    1.6613,  34.6821,2,    156.8,2,     -999,9,   156.49,2,   141.98,2,    35.70,2,     0.00,2,    2.470,2,     -999,9,     -999,9,     -999,9,     -999,9,     -999,9,     -999,     -999,9,     -999,9,     -999,9,     -999,9,   1.2003,2,  27.7763,2,   1.6612,2
49UP20210719_2,   P03,    24,  1,      1,     811,2,20210808,1041,1042, 24.2538, 135.5987, 5283,   5395.1,    1.6894,  34.6821,2,    157.0,2,     -999,9,   156.59,2,   141.79,2,    35.74,2,     0.00,2,    2.470,2,     -999,9,     -999,9,     -999,9,     -999,9,     -999,9,     -999,     -999,9,     -999,9,     -999,9,     -999,9,   1.1995,2,  27.7764,2,   1.6892,2