BOTTLE,20230808CCHSIOADS
EXPOCODE,SECT_ID,STNNBR,CASTNO,SAMPNO,BTLNBR,BTLNBR_FLAG_W,DATE,TIME,BTL_TIME,LATITUDE,LONGITUDE,DEPTH,CTDPRS,CTDTMP,CTDSAL,CTDSAL_FLAG_W,CTDOXY,CTDOXY_FLAG_W,SALNTY,SALNTY_FLAG_W,OXYGEN,OXYGEN_FLAG_W,SILCAT,SILCAT_FLAG_W,NO2+NO3,NO2+NO3_FLAG_W,NITRIT,NITRIT_FLAG_W,PHSPHT,PHSPHT_FLAG_W,CFC-11,CFC-11_FLAG_W,CFC-12,CFC-12_FLAG_W,TCARBN,TCARBN_FLAG_W,ALKALI,ALKALI_FLAG_W,PH_TOT,PH_TOT_FLAG_W,PH_TMP,CFC113,CFC113_FLAG_W,SF6,SF6_FLAG_W,CHLORA,CHLORA_FLAG_W,PPHYTN,PPHYTN_FLAG_W,THETA,THETA_FLAG_W,SIG0,SIG0_FLAG_W,SBE35,SBE35_FLAG_W
,,,,,,,,,,,,METERS,DBAR,ITS-90,PSS-78,,UMOL/KG,,PSS78,,UMOL/KG,,UMOL/KG,,UMOL/KG,,UMOL/KG,,UMOL/KG,,PMOL/KG,,PMOL/KG,,UMOL/KG,,UMOL/KG,,,,DEG C,PMOL/KG,,FMOL/KG,,UG/KG,,UG/KG,,ITS-90,,KG/M^3,,ITS-90,
49UP20210719_2,   P03,    22,  1,      0,     BUC,2,20210807,1854,2040, 24.2627, 134.5048, 5000,      0.0,   27.7555,  34.3814,2,    202.2,2,     -999,9,   201.33,2,     1.01,2,     0.00,2,     0.00,2,    0.030,2,     -999,9,     -999,9,     -999,9,     -999,9,     -999,9,     -999,     -999,9,     -999,9,     -999,9,     -999,9,  27.7548,2,  22.0092,2,     -999,9
49UP20210719_2,   P03,    22,  1,     36,     757,2,20210807,1854,2114, 24.2627, 134.5048, 5000,      9.7,   27.7561,  34.3807,2,    202.2,2,     -999,9,   201.21,2,     1.03,2,     0.00,2,     0.00,2,    0.000,2,     -999,9,     -999,9,     -999,9,     -999,9,     -999,9,     -999,     -999,9,     -999,9,     -999,9,     -999,9,  27.7539,2,  22.0090,2,  27.7552,2
49UP20210719_2,   P03,    22,  1,     35,     756,2,20210807,1854,2113, 24.2627, 134.5048, 5000,     24.2,   26.4333,  34.5394,2,    210.7,2,     -999,9,   209.28,2,     1.04,2,     0.00,2,     0.00,2,    0.000,2,     -999,9,     -999,9,     -999,9,     -999,9,     -999,9,     -999,     -999,9,     -999,9,     -999,9,     -999,9,  26.4278,2,  22.5521,2,  26.4265,2
49UP20210719_2,   P03,    22,  1,     34,     843,2,20210807,1854,2111, 24.2627, 134.5048, 5000,     49.9,   22.7560,  34.8279,2,    221.8,2,     -999,9,   219.59,2,     1.24,2,     0.00,2,     0.00,2,    0.010,2,     -999,9,     -999,9,     -999,9,     -999,9,     -999,9,     -999,     -999,9,     -999,9,     -999,9,     -999,9,  22.7459,2,  23.8760,2,  22.7521,2
49UP20210719_2,   P03,    22,  1,     33,     842,2,20210807,1854,2110, 24.2627, 134.5048, 5000,     74.4,   21.8489,  34.8525,2,    212.3,2,     -999,9,   210.69,2,     1.38,2,     0.00,2,     0.00,2,    0.030,2,     -999,9,     -999,9,     -999,9,     -999,9,     -999,9,     -999,     -999,9,     -999,9,     -999,9,     -999,9,  21.8343,2,  24.1520,2,  21.8487,2
49UP20210719_2,   P03,    22,  1,     32,     841,2,20210807,1854,2106, 24.2627, 134.5048, 5000,    100.1,   20.7192,  34.8391,2,    203.3,2,     -999,9,   202.26,2,     1.69,2,     1.06,2,     0.10,2,    0.100,2,     -999,9,     -999,9,     -999,9,     -999,9,     -999,9,     -999,     -999,9,     -999,9,     -999,9,     -999,9,  20.7003,2,  24.4525,2,  20.7228,2
49UP20210719_2,   P03,    22,  1,     31,     840,2,20210807,1854,2104, 24.2627, 134.5048, 5000,    124.0,   20.2369,  34.8417,2,    198.1,2,     -999,9,   197.75,2,     2.06,2,     2.09,2,     0.05,2,    0.160,2,     -999,9,     -999,9,     -999,9,     -999,9,     -999,9,     -999,     -999,9,     -999,9,     -999,9,     -999,9,  20.2138,2,  24.5845,2,  20.2398,2
49UP20210719_2,   P03,    22,  1,     30,     839,2,20210807,1854,2102, 24.2627, 134.5048, 5000,    149.9,   19.7940,  34.8507,2,    190.5,2,     -999,9,   190.05,2,     2.67,2,     3.21,2,     0.02,2,    0.240,2,     -999,9,     -999,9,     -999,9,     -999,9,     -999,9,     -999,     -999,9,     -999,9,     -999,9,     -999,9,  19.7666,2,  24.7091,2,  19.7711,2
49UP20210719_2,   P03,    22,  1,     29,     838,2,20210807,1854,2100, 24.2627, 134.5048, 5000,    202.8,   17.7933,  34.7727,2,    196.2,2,     -999,9,   196.09,2,     4.25,2,     4.93,2,     0.00,2,    0.340,2,     -999,9,     -999,9,     -999,9,     -999,9,     -999,9,     -999,     -999,9,     -999,9,     -999,9,     -999,9,  17.7588,2,  25.1571,2,  17.7928,2
49UP20210719_2,   P03,    22,  1,     28,     755,2,20210807,1854,2058, 24.2627, 134.5048, 5000,    252.4,   16.9802,  34.7348,2,    196.3,2,     -999,9,   195.78,2,     5.39,2,     6.10,2,     0.00,2,    0.410,2,     -999,9,     -999,9,     -999,9,     -999,9,     -999,9,     -999,     -999,9,     -999,9,     -999,9,     -999,9,  16.9386,2,  25.3252,2,  16.9775,2
49UP20210719_2,   P03,    22,  1,     27,     754,3,20210807,1854,2056, 24.2627, 134.5048, 5000,    304.0,   15.8466,  34.6492,2,    190.2,2,     -999,9,   189.76,2,     8.15,2,     8.31,2,     0.00,2,    0.570,2,     -999,9,     -999,9,     -999,9,     -999,9,     -999,9,     -999,     -999,9,     -999,9,     -999,9,     -999,9,  15.7988,2,  25.5235,2,  15.8494,2
49UP20210719_2,   P03,    22,  1,     26,     835,2,20210807,1854,2053, 24.2627, 134.5048, 5000,    401.9,   12.8373,  34.4109,2,    180.6,2,     -999,9,   180.31,6,    17.71,6,    14.02,6,     0.00,6,    0.980,6,     -999,9,     -999,9,     -999,9,     -999,9,     -999,9,     -999,     -999,9,     -999,9,     -999,9,     -999,9,  12.7824,2,  25.9797,2,  12.8374,2
49UP20210719_2,   P03,    22,  1,     25,     834,2,20210807,1854,2050, 24.2627, 134.5048, 5000,    505.6,   10.4654,  34.2575,2,    166.9,2,     -999,9,   166.69,2,    29.41,2,    19.24,2,     0.00,2,    1.370,2,     -999,9,     -999,9,     -999,9,     -999,9,     -999,9,     -999,     -999,9,     -999,9,     -999,9,     -999,9,  10.4047,2,  26.3026,2,  10.4642,2
49UP20210719_2,   P03,    22,  1,     24,     753,2,20210807,1854,2047, 24.2627, 134.5048, 5000,    606.6,    7.5786,  34.1335,2,    131.6,2,     -999,9,   130.60,2,    52.35,2,    27.62,2,     0.00,2,    1.980,2,     -999,9,     -999,9,     -999,9,     -999,9,     -999,9,     -999,     -999,9,     -999,9,     -999,9,     -999,9,   7.5183,2,  26.6635,2,   7.5988,2
49UP20210719_2,   P03,    22,  1,     23,     832,2,20210807,1854,2044, 24.2627, 134.5048, 5000,    704.0,    5.8087,  34.1782,2,     90.5,2,     -999,9,    91.04,2,    78.46,2,    34.26,2,     0.00,2,    2.460,2,     -999,9,     -999,9,     -999,9,     -999,9,     -999,9,     -999,     -999,9,     -999,9,     -999,9,     -999,9,   5.7475,2,  26.9348,2,   5.8029,2
49UP20210719_2,   P03,    22,  1,     22,     831,2,20210807,1854,2041, 24.2627, 134.5048, 5000,    806.2,    4.9698,  34.2422,2,     73.3,2,     -999,9,    73.16,2,    94.76,2,    37.26,2,     0.00,2,    2.680,2,     -999,9,     -999,9,     -999,9,     -999,9,     -999,9,     -999,     -999,9,     -999,9,     -999,9,     -999,9,   4.9043,2,  27.0853,2,   4.9701,2
49UP20210719_2,   P03,    22,  1,     21,     830,2,20210807,1854,2038, 24.2627, 134.5048, 5000,    908.0,    4.1912,  34.3140,2,     61.9,2,     -999,9,    61.98,2,   110.39,2,    39.24,2,     0.00,2,    2.820,2,     -999,9,     -999,9,     -999,9,     -999,9,     -999,9,     -999,     -999,9,     -999,9,     -999,9,     -999,9,   4.1221,2,  27.2278,2,   4.1908,2
49UP20210719_2,   P03,    22,  1,     20,     829,2,20210807,1854,2036, 24.2627, 134.5048, 5000,   1008.9,    3.7104,  34.3715,2,     59.4,2,     -999,9,    59.16,2,   121.66,2,    40.03,2,     0.00,2,    2.870,2,     -999,9,     -999,9,     -999,9,     -999,9,     -999,9,     -999,     -999,9,     -999,9,     -999,9,     -999,9,   3.6364,2,  27.3229,2,   3.7104,2
49UP20210719_2,   P03,    22,  1,     19,     828,2,20210807,1854,2030, 24.2627, 134.5048, 5000,   1210.8,    2.9434,  34.4691,2,     65.7,2,     -999,9,    66.39,2,   137.10,2,    40.69,2,     0.00,2,    2.890,2,     -999,9,     -999,9,     -999,9,     -999,9,     -999,9,     -999,     -999,9,     -999,9,     -999,9,     -999,9,   2.8598,2,  27.4739,2,   2.9432,2
49UP20210719_2,   P03,    22,  1,     18,     752,2,20210807,1854,2025, 24.2627, 134.5048, 5000,   1414.0,    2.5095,  34.5269,2,     78.2,2,     -999,9,    78.53,2,   143.57,2,    40.22,2,     0.00,2,    2.840,2,     -999,9,     -999,9,     -999,9,     -999,9,     -999,9,     -999,     -999,9,     -999,9,     -999,9,     -999,9,   2.4142,2,  27.5588,2,   2.5113,2
49UP20210719_2,   P03,    22,  1,     17,     751,2,20210807,1854,2020, 24.2627, 134.5048, 5000,   1616.3,    2.2362,  34.5698,2,     94.1,2,     -999,9,    94.33,6,   145.39,6,    39.33,6,     0.00,6,    2.770,6,     -999,9,     -999,9,     -999,9,     -999,9,     -999,9,     -999,     -999,9,     -999,9,     -999,9,     -999,9,   2.1281,2,  27.6167,2,   2.2361,2
49UP20210719_2,   P03,    22,  1,     16,     328,2,20210807,1854,2014, 24.2627, 134.5048, 5000,   1818.6,    2.0514,  34.5988,2,    107.3,2,     -999,9,   107.14,2,   145.48,2,    38.52,2,     0.00,2,    2.710,2,     -999,9,     -999,9,     -999,9,     -999,9,     -999,9,     -999,     -999,9,     -999,9,     -999,9,     -999,9,   1.9293,2,  27.6558,2,   2.0514,2
49UP20210719_2,   P03,    22,  1,     15,     822,2,20210807,1854,2009, 24.2627, 134.5048, 5000,   2023.3,    1.9020,  34.6197,2,    117.5,2,     -999,9,   117.43,2,   145.19,2,    38.02,2,     0.00,2,    2.660,2,     -999,9,     -999,9,     -999,9,     -999,9,     -999,9,     -999,     -999,9,     -999,9,     -999,9,     -999,9,   1.7652,2,  27.6852,2,   1.9020,2
49UP20210719_2,   P03,    22,  1,     14,     326,2,20210807,1854,2004, 24.2627, 134.5048, 5000,   2225.1,    1.8114,  34.6328,2,    124.4,2,     -999,9,   124.67,2,   144.92,2,    37.64,2,     0.00,2,    2.630,2,     -999,9,     -999,9,     -999,9,     -999,9,     -999,9,     -999,     -999,9,     -999,9,     -999,9,     -999,9,   1.6588,2,  27.7038,2,   1.8116,2
49UP20210719_2,   P03,    22,  1,     13,     325,2,20210807,1854,1958, 24.2627, 134.5048, 5000,   2429.5,    1.7247,  34.6449,2,    131.1,2,     -999,9,   131.29,2,   144.80,2,    37.25,2,     0.00,2,    2.600,2,     -999,9,     -999,9,     -999,9,     -999,9,     -999,9,     -999,     -999,9,     -999,9,     -999,9,     -999,9,   1.5558,2,  27.7211,2,   1.7246,2
49UP20210719_2,   P03,    22,  1,     12,     324,2,20210807,1854,1953, 24.2627, 134.5048, 5000,   2633.1,    1.6732,  34.6527,2,    135.7,2,     -999,9,   136.11,2,   144.34,2,    37.00,2,     0.00,2,    2.570,2,     -999,9,     -999,9,     -999,9,     -999,9,     -999,9,     -999,     -999,9,     -999,9,     -999,9,     -999,9,   1.4871,2,  27.7324,2,   1.6733,2
49UP20210719_2,   P03,    22,  1,     11,     323,2,20210807,1854,1948, 24.2627, 134.5048, 5000,   2836.8,    1.6219,  34.6603,2,    140.3,2,     -999,9,   140.97,2,   144.36,2,    36.76,2,     0.00,2,    2.560,2,     -999,9,     -999,9,     -999,9,     -999,9,     -999,9,     -999,     -999,9,     -999,9,     -999,9,     -999,9,   1.4179,2,  27.7435,2,   1.6222,2
49UP20210719_2,   P03,    22,  1,     10,     322,3,20210807,1854,1943, 24.2627, 134.5048, 5000,   3039.5,    1.5770,  34.6667,2,    144.6,2,     -999,9,   144.85,2,   144.00,2,    36.49,2,     0.00,2,    2.530,2,     -999,9,     -999,9,     -999,9,     -999,9,     -999,9,     -999,     -999,9,     -999,9,     -999,9,     -999,9,   1.3547,2,  27.7532,2,   1.5771,2
49UP20210719_2,   P03,    22,  1,      9,     750,2,20210807,1854,1937, 24.2627, 134.5048, 5000,   3295.9,    1.5491,  34.6721,2,    148.3,2,     -999,9,   148.61,6,   143.62,6,    36.26,6,     0.00,6,    2.510,6,     -999,9,     -999,9,     -999,9,     -999,9,     -999,9,     -999,     -999,9,     -999,9,     -999,9,     -999,9,   1.3024,2,  27.7612,2,   1.5493,2
49UP20210719_2,   P03,    22,  1,      7,     319,2,20210807,1854,1931, 24.2627, 134.5048, 5000,   3551.4,    1.5366,  34.6760,2,    151.3,2,     -999,9,   151.63,2,   143.16,2,    36.07,2,     0.00,2,    2.500,2,     -999,9,     -999,9,     -999,9,     -999,9,     -999,9,     -999,     -999,9,     -999,9,     -999,9,     -999,9,   1.2643,2,  27.7670,2,   1.5366,2
49UP20210719_2,   P03,    22,  1,      8,     320,2,20210807,1854,1931, 24.2627, 134.5048, 5000,   3551.5,    1.5366,  34.6760,2,    151.2,2,     -999,9,   151.47,2,   143.13,2,    36.06,2,     0.00,2,    2.500,2,     -999,9,     -999,9,     -999,9,     -999,9,     -999,9,     -999,     -999,9,     -999,9,     -999,9,     -999,9,   1.2642,2,  27.7670,2,   1.5366,2
49UP20210719_2,   P03,    22,  1,      6,     318,2,20210807,1854,1925, 24.2627, 134.5048, 5000,   3807.0,    1.5362,  34.6788,2,    153.5,2,     -999,9,   153.40,2,   142.86,2,    35.92,2,     0.00,2,    2.490,2,     -999,9,     -999,9,     -999,9,     -999,9,     -999,9,     -999,     -999,9,     -999,9,     -999,9,     -999,9,   1.2372,2,  27.7711,2,   1.5363,2
49UP20210719_2,   P03,    22,  1,      5,     317,2,20210807,1854,1919, 24.2627, 134.5048, 5000,   4064.8,    1.5486,  34.6803,2,    154.8,2,     -999,9,   154.93,2,   142.10,2,    35.90,2,     0.00,2,    2.480,2,     -999,9,     -999,9,     -999,9,     -999,9,     -999,9,     -999,     -999,9,     -999,9,     -999,9,     -999,9,   1.2212,2,  27.7735,2,   1.5487,2
49UP20210719_2,   P03,    22,  1,      4,     316,3,20210807,1854,1913, 24.2627, 134.5048, 5000,   4319.8,    1.5690,  34.6811,2,    155.6,2,     -999,9,   155.93,2,   142.00,2,    35.74,2,     0.00,2,    2.470,2,     -999,9,     -999,9,     -999,9,     -999,9,     -999,9,     -999,     -999,9,     -999,9,     -999,9,     -999,9,   1.2126,2,  27.7747,2,   1.5691,2
49UP20210719_2,   P03,    22,  1,      3,     315,2,20210807,1854,1907, 24.2627, 134.5048, 5000,   4575.8,    1.5943,  34.6815,2,    156.0,2,     -999,9,   156.18,2,   141.87,2,    35.73,2,     0.00,2,    2.470,2,     -999,9,     -999,9,     -999,9,     -999,9,     -999,9,     -999,     -999,9,     -999,9,     -999,9,     -999,9,   1.2077,2,  27.7754,2,   1.5945,2
49UP20210719_2,   P03,    22,  1,      2,     314,2,20210807,1854,1901, 24.2627, 134.5048, 5000,   4833.6,    1.6219,  34.6817,2,    156.5,2,     -999,9,   156.54,2,   141.68,2,    35.65,2,     0.00,2,    2.470,2,     -999,9,     -999,9,     -999,9,     -999,9,     -999,9,     -999,     -999,9,     -999,9,     -999,9,     -999,9,   1.2038,2,  27.7758,2,   1.6220,2
49UP20210719_2,   P03,    22,  1,      1,     811,2,20210807,1854,1854, 24.2627, 134.5048, 5000,   5096.8,    1.6510,  34.6823,2,    157.0,2,     -999,9,   156.22,6,   141.35,6,    35.71,6,     0.00,6,    2.470,6,     -999,9,     -999,9,     -999,9,     -999,9,     -999,9,     -999,     -999,9,     -999,9,     -999,9,     -999,9,   1.1998,2,  27.7765,2,   1.6511,2