BOTTLE,20230808CCHSIOADS
EXPOCODE,SECT_ID,STNNBR,CASTNO,SAMPNO,BTLNBR,BTLNBR_FLAG_W,DATE,TIME,BTL_TIME,LATITUDE,LONGITUDE,DEPTH,CTDPRS,CTDTMP,CTDSAL,CTDSAL_FLAG_W,CTDOXY,CTDOXY_FLAG_W,SALNTY,SALNTY_FLAG_W,OXYGEN,OXYGEN_FLAG_W,SILCAT,SILCAT_FLAG_W,NO2+NO3,NO2+NO3_FLAG_W,NITRIT,NITRIT_FLAG_W,PHSPHT,PHSPHT_FLAG_W,CFC-11,CFC-11_FLAG_W,CFC-12,CFC-12_FLAG_W,TCARBN,TCARBN_FLAG_W,ALKALI,ALKALI_FLAG_W,PH_TOT,PH_TOT_FLAG_W,PH_TMP,CFC113,CFC113_FLAG_W,SF6,SF6_FLAG_W,CHLORA,CHLORA_FLAG_W,PPHYTN,PPHYTN_FLAG_W,THETA,THETA_FLAG_W,SIG0,SIG0_FLAG_W,SBE35,SBE35_FLAG_W
,,,,,,,,,,,,METERS,DBAR,ITS-90,PSS-78,,UMOL/KG,,PSS78,,UMOL/KG,,UMOL/KG,,UMOL/KG,,UMOL/KG,,UMOL/KG,,PMOL/KG,,PMOL/KG,,UMOL/KG,,UMOL/KG,,,,DEG C,PMOL/KG,,FMOL/KG,,UG/KG,,UG/KG,,ITS-90,,KG/M^3,,ITS-90,
49UP20210719_2,   P03,    27,  1,      0,     BUC,2,20210809,0939,1132, 24.2710, 137.7757, 4967,      0.0,   28.3828,  34.6011,2,    200.6,2,     -999,9,   200.05,2,     0.92,2,     0.08,2,     0.00,2,    0.010,2,     -999,9,     -999,9,     -999,9,     -999,9,     -999,9,     -999,     -999,9,     -999,9,     -999,9,     -999,9,  28.3822,2,  21.9694,2,     -999,9
49UP20210719_2,   P03,    27,  1,     36,     757,2,20210809,0939,1200, 24.2710, 137.7757, 4967,     10.2,   28.3742,  34.6032,2,    200.7,2,     -999,9,   200.83,2,     0.94,2,     0.07,2,     0.00,2,    0.000,2,     -999,9,     -999,9,     -999,9,     -999,9,     -999,9,     -999,     -999,9,     -999,9,     -999,9,     -999,9,  28.3718,2,  21.9744,2,  28.3747,2
49UP20210719_2,   P03,    27,  1,     35,     756,2,20210809,0939,1159, 24.2710, 137.7757, 4967,     25.3,   28.0578,  34.6241,2,    201.3,2,     -999,9,   200.78,2,     0.90,2,     0.07,2,     0.00,2,    0.000,2,     -999,9,     -999,9,     -999,9,     -999,9,     -999,9,     -999,     -999,9,     -999,9,     -999,9,     -999,9,  28.0519,2,  22.0950,2,  28.0572,2
49UP20210719_2,   P03,    27,  1,     34,     843,2,20210809,0939,1155, 24.2710, 137.7757, 4967,     49.9,   25.8105,  34.8113,2,    219.1,2,     -999,9,   218.24,2,     1.06,2,     0.06,2,     0.00,2,    0.000,2,     -999,9,     -999,9,     -999,9,     -999,9,     -999,9,     -999,     -999,9,     -999,9,     -999,9,     -999,9,  25.7994,2,  22.9533,2,  25.8030,2
49UP20210719_2,   P03,    27,  1,     33,     842,2,20210809,0939,1154, 24.2710, 137.7757, 4967,     75.2,   23.1794,  34.8745,2,    224.4,2,     -999,9,   224.00,6,     1.23,6,     0.05,6,     0.00,6,    0.000,6,     -999,9,     -999,9,     -999,9,     -999,9,     -999,9,     -999,     -999,9,     -999,9,     -999,9,     -999,9,  23.1640,2,  23.7911,2,  23.1750,2
49UP20210719_2,   P03,    27,  1,     32,     841,2,20210809,0939,1152, 24.2710, 137.7757, 4967,    100.9,   21.4436,  34.8867,2,    216.7,2,     -999,9,   216.53,2,     1.40,2,     0.05,2,     0.00,2,    0.010,2,     -999,9,     -999,9,     -999,9,     -999,9,     -999,9,     -999,     -999,9,     -999,9,     -999,9,     -999,9,  21.4241,2,  24.2916,2,  21.4491,2
49UP20210719_2,   P03,    27,  1,     31,     840,2,20210809,0939,1151, 24.2710, 137.7757, 4967,    124.9,   20.5260,  34.8611,2,    207.3,2,     -999,9,   207.17,2,     1.68,2,     0.85,2,     0.06,2,    0.060,2,     -999,9,     -999,9,     -999,9,     -999,9,     -999,9,     -999,     -999,9,     -999,9,     -999,9,     -999,9,  20.5025,2,  24.5224,2,  20.5260,2
49UP20210719_2,   P03,    27,  1,     30,     839,2,20210809,0939,1150, 24.2710, 137.7757, 4967,    151.2,   19.6624,  34.8303,2,    202.5,2,     -999,9,   202.62,2,     2.31,2,     2.19,2,     0.02,2,    0.140,2,     -999,9,     -999,9,     -999,9,     -999,9,     -999,9,     -999,     -999,9,     -999,9,     -999,9,     -999,9,  19.6348,2,  24.7279,2,  19.6618,2
49UP20210719_2,   P03,    27,  1,     29,     838,2,20210809,0939,1148, 24.2710, 137.7757, 4967,    204.1,   17.9848,  34.7777,2,    206.1,2,     -999,9,   206.77,2,     3.32,2,     3.60,2,     0.00,2,    0.240,2,     -999,9,     -999,9,     -999,9,     -999,9,     -999,9,     -999,     -999,9,     -999,9,     -999,9,     -999,9,  17.9498,2,  25.1141,2,  17.9837,2
49UP20210719_2,   P03,    27,  1,     28,     755,2,20210809,0939,1146, 24.2710, 137.7757, 4967,    252.0,   17.2875,  34.7525,2,    197.7,2,     -999,9,   198.03,2,     4.59,2,     5.51,2,     0.00,2,    0.360,2,     -999,9,     -999,9,     -999,9,     -999,9,     -999,9,     -999,     -999,9,     -999,9,     -999,9,     -999,9,  17.2454,2,  25.2657,2,  17.2878,2
49UP20210719_2,   P03,    27,  1,     27,     754,3,20210809,0939,1143, 24.2710, 137.7757, 4967,    331.6,   15.6985,  34.6323,2,    191.9,2,     -999,9,   192.13,2,     7.95,2,     8.37,2,     0.00,2,    0.550,2,     -999,9,     -999,9,     -999,9,     -999,9,     -999,9,     -999,     -999,9,     -999,9,     -999,9,     -999,9,  15.6467,2,  25.5448,2,  15.7001,2
49UP20210719_2,   P03,    27,  1,     26,     835,2,20210809,0939,1140, 24.2710, 137.7757, 4967,    434.5,   12.6635,  34.3942,2,    186.1,2,     -999,9,   186.40,2,    17.28,2,    13.79,2,     0.00,2,    0.940,2,     -999,9,     -999,9,     -999,9,     -999,9,     -999,9,     -999,     -999,9,     -999,9,     -999,9,     -999,9,  12.6046,2,  26.0018,2,  12.6645,2
49UP20210719_2,   P03,    27,  1,     25,     834,2,20210809,0939,1137, 24.2710, 137.7757, 4967,    535.6,    9.8800,  34.1946,2,    171.3,2,     -999,9,   171.26,2,    29.49,2,    19.87,2,     0.00,2,    1.390,2,     -999,9,     -999,9,     -999,9,     -999,9,     -999,9,     -999,     -999,9,     -999,9,     -999,9,     -999,9,   9.8179,2,  26.3538,2,   9.8804,2
49UP20210719_2,   P03,    27,  1,     24,     753,2,20210809,0939,1134, 24.2710, 137.7757, 4967,    636.8,    7.9342,  34.1448,2,    134.8,2,     -999,9,   134.52,2,    48.74,2,    26.77,2,     0.00,2,    1.900,2,     -999,9,     -999,9,     -999,9,     -999,9,     -999,9,     -999,     -999,9,     -999,9,     -999,9,     -999,9,   7.8690,2,  26.6215,2,   7.9362,2
49UP20210719_2,   P03,    27,  1,     23,     832,2,20210809,0939,1131, 24.2710, 137.7757, 4967,    738.5,    5.7704,  34.1482,2,     93.9,2,     -999,9,    94.07,6,    77.18,6,    34.23,6,     0.00,6,    2.440,6,     -999,9,     -999,9,     -999,9,     -999,9,     -999,9,     -999,     -999,9,     -999,9,     -999,9,     -999,9,   5.7064,2,  26.9161,2,   5.7704,2
49UP20210719_2,   P03,    27,  1,     22,     831,2,20210809,0939,1128, 24.2710, 137.7757, 4967,    839.5,    4.8824,  34.2116,2,     70.4,2,     -999,9,    70.90,2,    93.71,2,    37.75,2,     0.00,2,    2.690,2,     -999,9,     -999,9,     -999,9,     -999,9,     -999,9,     -999,     -999,9,     -999,9,     -999,9,     -999,9,   4.8146,2,  27.0712,2,   4.8849,2
49UP20210719_2,   P03,    27,  1,     21,     830,2,20210809,0939,1125, 24.2710, 137.7757, 4967,    939.4,    4.1994,  34.3014,2,     57.4,2,     -999,9,    58.10,2,   108.55,2,    39.78,2,     0.00,2,    2.840,2,     -999,9,     -999,9,     -999,9,     -999,9,     -999,9,     -999,     -999,9,     -999,9,     -999,9,     -999,9,   4.1277,2,  27.2172,2,   4.2006,2
49UP20210719_2,   P03,    27,  1,     20,     829,2,20210809,0939,1120, 24.2710, 137.7757, 4967,   1080.5,    3.6370,  34.3766,2,     54.7,2,     -999,9,    55.17,2,   122.17,2,    40.85,2,     0.00,2,    2.900,2,     -999,9,     -999,9,     -999,9,     -999,9,     -999,9,     -999,     -999,9,     -999,9,     -999,9,     -999,9,   3.5579,2,  27.3347,2,   3.6370,2
49UP20210719_2,   P03,    27,  1,     19,     828,2,20210809,0939,1115, 24.2710, 137.7757, 4967,   1285.5,    2.9921,  34.4726,2,     65.2,2,     -999,9,    65.54,2,   134.99,2,    40.81,2,     0.00,2,    2.880,2,     -999,9,     -999,9,     -999,9,     -999,9,     -999,9,     -999,     -999,9,     -999,9,     -999,9,     -999,9,   2.9021,2,  27.4730,2,   2.9897,2
49UP20210719_2,   P03,    27,  1,     18,     752,2,20210809,0939,1110, 24.2710, 137.7757, 4967,   1487.2,    2.5930,  34.5338,2,     81.4,2,     -999,9,    81.38,2,   140.41,2,    40.03,2,     0.00,2,    2.820,2,     -999,9,     -999,9,     -999,9,     -999,9,     -999,9,     -999,     -999,9,     -999,9,     -999,9,     -999,9,   2.4910,2,  27.5579,2,   2.5934,2
49UP20210719_2,   P03,    27,  1,     17,     751,2,20210809,0939,1105, 24.2710, 137.7757, 4967,   1691.3,    2.3659,  34.5699,2,     95.5,2,     -999,9,    95.83,2,   141.87,2,    39.20,2,     0.00,2,    2.760,2,     -999,9,     -999,9,     -999,9,     -999,9,     -999,9,     -999,     -999,9,     -999,9,     -999,9,     -999,9,   2.2501,2,  27.6069,2,   2.3656,2
49UP20210719_2,   P03,    27,  1,     16,     328,2,20210809,0939,1100, 24.2710, 137.7757, 4967,   1893.3,    2.1589,  34.5980,2,    107.0,2,     -999,9,   107.11,2,   142.95,2,    38.68,2,     0.00,2,    2.700,2,     -999,9,     -999,9,     -999,9,     -999,9,     -999,9,     -999,     -999,9,     -999,9,     -999,9,     -999,9,   2.0291,2,  27.6473,2,   2.1592,2
49UP20210719_2,   P03,    27,  1,     15,     822,2,20210809,0939,1054, 24.2710, 137.7757, 4967,   2096.5,    1.9824,  34.6199,2,    116.9,2,     -999,9,   117.12,2,   143.75,2,    38.11,2,     0.00,2,    2.660,2,     -999,9,     -999,9,     -999,9,     -999,9,     -999,9,     -999,     -999,9,     -999,9,     -999,9,     -999,9,   1.8381,2,  27.6798,2,   1.9828,2
49UP20210719_2,   P03,    27,  1,     14,     326,2,20210809,0939,1049, 24.2710, 137.7757, 4967,   2300.1,    1.8628,  34.6343,2,    123.9,2,     -999,9,   124.05,2,   143.72,2,    37.72,2,     0.00,2,    2.620,2,     -999,9,     -999,9,     -999,9,     -999,9,     -999,9,     -999,     -999,9,     -999,9,     -999,9,     -999,9,   1.7029,2,  27.7017,2,   1.8629,2
49UP20210719_2,   P03,    27,  1,     13,     325,2,20210809,0939,1043, 24.2710, 137.7757, 4967,   2501.9,    1.7801,  34.6449,2,    129.2,2,     -999,9,   129.66,2,   144.65,2,    37.48,2,     0.00,2,    2.600,2,     -999,9,     -999,9,     -999,9,     -999,9,     -999,9,     -999,     -999,9,     -999,9,     -999,9,     -999,9,   1.6038,2,  27.7176,2,   1.7807,2
49UP20210719_2,   P03,    27,  1,     12,     324,2,20210809,0939,1037, 24.2710, 137.7757, 4967,   2705.6,    1.7280,  34.6517,2,    133.2,2,     -999,9,   133.40,6,   144.43,6,    37.24,6,     0.00,6,    2.580,6,     -999,9,     -999,9,     -999,9,     -999,9,     -999,9,     -999,     -999,9,     -999,9,     -999,9,     -999,9,   1.5341,2,  27.7282,2,   1.7281,2
49UP20210719_2,   P03,    27,  1,     11,     323,2,20210809,0939,1032, 24.2710, 137.7757, 4967,   2908.9,    1.6815,  34.6572,2,    137.2,2,     -999,9,   136.92,2,   144.04,2,    37.00,2,     0.00,2,    2.560,2,     -999,9,     -999,9,     -999,9,     -999,9,     -999,9,     -999,     -999,9,     -999,9,     -999,9,     -999,9,   1.4695,2,  27.7373,2,   1.6818,2
49UP20210719_2,   P03,    27,  1,     10,     322,2,20210809,0939,1026, 24.2710, 137.7757, 4967,   3122.9,    1.6460,  34.6619,2,    140.8,2,     -999,9,   141.49,2,   143.96,2,    36.78,2,     0.00,2,    2.550,2,     -999,9,     -999,9,     -999,9,     -999,9,     -999,9,     -999,     -999,9,     -999,9,     -999,9,     -999,9,   1.4141,2,  27.7450,2,   1.6461,2
49UP20210719_2,   P03,    27,  1,      9,     750,2,20210809,0939,1020, 24.2710, 137.7757, 4967,   3378.4,    1.5980,  34.6692,2,    145.8,2,     -999,9,   145.99,2,   143.49,2,    36.47,2,     0.00,2,    2.520,2,     -999,9,     -999,9,     -999,9,     -999,9,     -999,9,     -999,     -999,9,     -999,9,     -999,9,     -999,9,   1.3418,2,  27.7561,2,   1.5981,2
49UP20210719_2,   P03,    27,  1,      8,     320,2,20210809,0939,1014, 24.2710, 137.7757, 4967,   3632.9,    1.5689,  34.6745,2,    149.7,2,     -999,9,   150.41,2,   143.12,2,    36.22,2,     0.00,2,    2.500,2,     -999,9,     -999,9,     -999,9,     -999,9,     -999,9,     -999,     -999,9,     -999,9,     -999,9,     -999,9,   1.2873,2,  27.7642,2,   1.5690,2
49UP20210719_2,   P03,    27,  1,      7,     319,2,20210809,0939,1008, 24.2710, 137.7757, 4967,   3890.6,    1.5480,  34.6789,2,    153.4,2,     -999,9,   153.83,2,   142.58,2,    35.98,2,     0.00,2,    2.480,2,     -999,9,     -999,9,     -999,9,     -999,9,     -999,9,     -999,     -999,9,     -999,9,     -999,9,     -999,9,   1.2396,2,  27.7711,2,   1.5481,2
49UP20210719_2,   P03,    27,  1,      6,     318,2,20210809,0939,1002, 24.2710, 137.7757, 4967,   4145.5,    1.5503,  34.6811,2,    155.6,2,     -999,9,   155.85,2,   141.84,2,    35.85,2,     0.00,2,    2.470,2,     -999,9,     -999,9,     -999,9,     -999,9,     -999,9,     -999,     -999,9,     -999,9,     -999,9,     -999,9,   1.2140,2,  27.7746,2,   1.5503,2
49UP20210719_2,   P03,    27,  1,      5,     317,2,20210809,0939, 956, 24.2710, 137.7757, 4967,   4402.3,    1.5617,  34.6826,2,    157.0,2,     -999,9,   157.33,2,   141.31,2,    35.77,2,     0.00,2,    2.460,2,     -999,9,     -999,9,     -999,9,     -999,9,     -999,9,     -999,     -999,9,     -999,9,     -999,9,     -999,9,   1.1961,2,  27.7770,2,   1.5617,2
49UP20210719_2,   P03,    27,  1,      4,     316,2,20210809,0939, 951, 24.2710, 137.7757, 4967,   4659.8,    1.5823,  34.6835,2,    157.9,2,     -999,9,   159.00,3,   141.45,2,    35.70,2,     0.00,2,    2.460,2,     -999,9,     -999,9,     -999,9,     -999,9,     -999,9,     -999,     -999,9,     -999,9,     -999,9,     -999,9,   1.1862,2,  27.7784,2,   1.5825,2
49UP20210719_2,   P03,    27,  1,      3,     315,2,20210809,0939, 945, 24.2710, 137.7757, 4967,   4916.9,    1.6093,  34.6837,2,    158.3,2,     -999,9,   158.47,6,   141.27,6,    35.71,6,     0.00,6,    2.460,6,     -999,9,     -999,9,     -999,9,     -999,9,     -999,9,     -999,     -999,9,     -999,9,     -999,9,     -999,9,   1.1816,2,  27.7789,2,   1.6093,2
49UP20210719_2,   P03,    27,  1,      2,     314,2,20210809,0939, 940, 24.2710, 137.7757, 4967,   5137.9,    1.6362,  34.6836,2,    158.5,2,     -999,9,   158.92,2,   141.30,2,    35.74,2,     0.00,2,    2.450,2,     -999,9,     -999,9,     -999,9,     -999,9,     -999,9,     -999,     -999,9,     -999,9,     -999,9,     -999,9,   1.1804,2,  27.7789,2,   1.6361,2
49UP20210719_2,   P03,    27,  1,      1,     811,2,20210809,0939, 939, 24.2710, 137.7757, 4967,   5138.7,    1.6362,  34.6837,2,    158.5,2,     -999,9,   158.66,2,   141.14,2,    35.74,2,     0.00,2,    2.460,2,     -999,9,     -999,9,     -999,9,     -999,9,     -999,9,     -999,     -999,9,     -999,9,     -999,9,     -999,9,   1.1803,2,  27.7790,2,   1.6361,2