BOTTLE,20230808CCHSIOADS
EXPOCODE,SECT_ID,STNNBR,CASTNO,SAMPNO,BTLNBR,BTLNBR_FLAG_W,DATE,TIME,BTL_TIME,LATITUDE,LONGITUDE,DEPTH,CTDPRS,CTDTMP,CTDSAL,CTDSAL_FLAG_W,CTDOXY,CTDOXY_FLAG_W,SALNTY,SALNTY_FLAG_W,OXYGEN,OXYGEN_FLAG_W,SILCAT,SILCAT_FLAG_W,NO2+NO3,NO2+NO3_FLAG_W,NITRIT,NITRIT_FLAG_W,PHSPHT,PHSPHT_FLAG_W,CFC-11,CFC-11_FLAG_W,CFC-12,CFC-12_FLAG_W,TCARBN,TCARBN_FLAG_W,ALKALI,ALKALI_FLAG_W,PH_TOT,PH_TOT_FLAG_W,PH_TMP,CFC113,CFC113_FLAG_W,SF6,SF6_FLAG_W,CHLORA,CHLORA_FLAG_W,PPHYTN,PPHYTN_FLAG_W,THETA,THETA_FLAG_W,SIG0,SIG0_FLAG_W,SBE35,SBE35_FLAG_W
,,,,,,,,,,,,METERS,DBAR,ITS-90,PSS-78,,UMOL/KG,,PSS78,,UMOL/KG,,UMOL/KG,,UMOL/KG,,UMOL/KG,,UMOL/KG,,PMOL/KG,,PMOL/KG,,UMOL/KG,,UMOL/KG,,,,DEG C,PMOL/KG,,FMOL/KG,,UG/KG,,UG/KG,,ITS-90,,KG/M^3,,ITS-90,
49UP20210827_1,   P03,    66,  1,      0,     BUC,2,20210908,0938,1047, 24.2562, 161.5705, 3483,      0.0,   29.5559,  35.2354,2,    194.6,2,  35.2375,2,   195.44,2,     1.17,2,     0.00,2,     0.00,2,    0.030,2,     -999,9,     -999,9,   1981.7,2,   2312.7,2,   8.0984,2,    25.00,     -999,9,     -999,9,     0.03,2,     0.01,2,  29.5552,2,  22.0540,2,     -999,9
49UP20210827_1,   P03,    66,  1,     36,     757,2,20210908,0938,1117, 24.2562, 161.5705, 3483,     10.3,   29.5653,  35.2621,2,    194.9,2,  35.2555,4,   195.26,2,     1.15,2,     0.00,2,     0.00,2,    0.000,2,     -999,9,     -999,9,   1982.5,2,   2315.1,2,   8.0986,2,    25.00,     -999,9,     -999,9,     0.03,2,     0.01,2,  29.5628,2,  22.0714,2,  29.5665,2
49UP20210827_1,   P03,    66,  1,     35,     756,2,20210908,0938,1116, 24.2562, 161.5705, 3483,     25.5,   29.5231,  35.2568,2,    195.0,2,  35.2568,2,   195.56,2,     1.13,2,     0.00,2,     0.00,2,    0.000,2,     -999,9,     -999,9,   1982.3,2,   2314.7,2,   8.0959,2,    25.00,     -999,9,     -999,9,     0.04,2,     0.02,2,  29.5169,2,  22.0830,2,  29.5219,2
49UP20210827_1,   P03,    66,  1,     34,     843,3,20210908,0938,1114, 24.2562, 161.5705, 3483,     50.6,   26.2772,  35.2380,2,    224.4,2,  35.2415,2,   222.70,2,     1.36,2,     0.00,2,     0.00,2,    0.010,2,     -999,9,     -999,9,   1992.4,2,   2313.8,2,   8.0793,2,    25.00,     -999,9,     -999,9,     0.07,2,     0.03,2,  26.2658,2,  23.1297,2,  26.2938,2
49UP20210827_1,   P03,    66,  1,     33,     842,2,20210908,0938,1113, 24.2562, 161.5705, 3483,     75.8,   24.0713,  35.1973,2,    230.1,2,  35.1989,6,   229.63,2,     1.55,2,     0.00,2,     0.00,2,    0.000,2,     -999,9,     -999,9,   1999.7,2,   2308.9,2,   8.0668,2,    25.00,     -999,9,     -999,9,     0.10,2,     0.03,2,  24.0553,2,  23.7743,2,  24.1112,2
49UP20210827_1,   P03,    66,  1,     32,     841,2,20210908,0938,1109, 24.2562, 161.5705, 3483,    100.2,   23.1307,  35.1303,2,    226.3,2,  35.1309,2,   226.28,6,     1.65,6,     0.00,6,     0.00,6,    0.010,6,     -999,9,     -999,9,   2003.1,2,   2305.2,2,   8.0552,2,    25.00,     -999,9,     -999,9,     0.11,2,     0.05,2,  23.1101,2,  24.0006,2,  23.1320,2
49UP20210827_1,   P03,    66,  1,     31,     840,2,20210908,0938,1107, 24.2562, 161.5705, 3483,    125.1,   21.0150,  35.0536,2,    201.0,2,  35.0532,2,   200.90,2,     2.19,2,     0.05,2,     0.05,2,    0.070,2,     -999,9,     -999,9,   2044.5,2,   2302.8,2,   7.9848,2,    25.00,     -999,9,     -999,9,     0.18,2,     0.37,2,  20.9911,2,  24.5372,2,  21.0141,2
49UP20210827_1,   P03,    66,  1,     30,     839,2,20210908,0938,1106, 24.2562, 161.5705, 3483,    149.9,   19.3024,  34.9307,2,    193.2,2,  34.9299,2,   193.09,2,     3.03,2,     2.11,2,     0.02,2,    0.210,2,     -999,9,     -999,9,   2056.4,2,   2294.1,2,   7.9397,2,    25.00,     -999,9,     -999,9,     0.05,2,     0.20,2,  19.2754,2,  24.8976,2,  19.2983,2
49UP20210827_1,   P03,    66,  1,     29,     838,2,20210908,0938,1103, 24.2562, 161.5705, 3483,    202.2,   17.2222,  34.7425,2,    193.0,2,  34.7456,2,   192.42,2,     4.75,2,     5.03,2,     0.00,2,    0.380,2,     -999,9,     -999,9,   2067.6,2,   2283.1,2,   7.9014,2,    25.00,     -999,9,     -999,9,     0.01,2,     0.03,2,  17.1886,2,  25.2717,2,  17.2267,2
49UP20210827_1,   P03,    66,  1,     28,     755,2,20210908,0938,1101, 24.2562, 161.5705, 3483,    254.5,   15.2746,  34.5562,2,    194.7,2,  34.5606,2,   194.18,2,     7.27,2,     7.69,2,     0.00,2,    0.560,2,     -999,9,     -999,9,   2078.9,2,   2273.4,2,   7.8609,6,    25.00,     -999,9,     -999,9,     -999,9,     -999,9,  15.2357,2,  25.5779,2,  15.2869,2
49UP20210827_1,   P03,    66,  1,     27,     754,2,20210908,0938,1058, 24.2562, 161.5705, 3483,    333.7,   13.1799,  34.3934,2,    201.6,2,  34.3932,2,   201.50,2,    11.79,2,    10.86,2,     0.00,2,    0.760,2,     -999,9,     -999,9,   2091.8,6,   2267.8,6,   7.8214,2,    25.00,     -999,9,     -999,9,     -999,9,     -999,9,  13.1336,2,  25.8961,2,  13.1800,2
49UP20210827_1,   P03,    66,  1,     25,     834,2,20210908,0938,1055, 24.2562, 161.5705, 3483,    433.3,   10.7128,  34.2142,2,    196.7,2,  34.2155,2,   196.77,2,    20.54,2,    15.82,2,     0.00,2,    1.110,2,     -999,9,     -999,9,   2121.3,2,   2266.8,2,   7.7480,2,    25.00,     -999,9,     -999,9,     -999,9,     -999,9,  10.6602,2,  26.2241,2,  10.7116,2
49UP20210827_1,   P03,    66,  1,     26,     835,2,20210908,0938,1055, 24.2562, 161.5705, 3483,    434.5,   10.6924,  34.2130,2,    196.6,2,  34.2139,2,   196.47,2,    20.69,2,    15.89,2,     0.00,2,    1.110,2,     -999,9,     -999,9,   2127.0,2,   2267.7,2,   7.7485,2,    25.00,     -999,9,     -999,9,     -999,9,     -999,9,  10.6397,2,  26.2268,2,  10.6949,2
49UP20210827_1,   P03,    66,  1,     24,     753,2,20210908,0938,1052, 24.2562, 161.5705, 3483,    533.1,    8.3287,  34.0823,2,    158.8,2,  34.0827,6,   158.43,2,    37.63,2,    23.87,2,     0.00,2,    1.700,2,     -999,9,     -999,9,   2174.8,2,   2274.6,2,   7.6240,2,    25.00,     -999,9,     -999,9,     -999,9,     -999,9,   8.2730,2,  26.5122,2,   8.3274,2
49UP20210827_1,   P03,    66,  1,     23,     832,2,20210908,0938,1049, 24.2562, 161.5705, 3483,    635.5,    6.2408,  34.0955,2,     95.7,2,  34.0952,2,    95.11,6,    65.01,6,    33.36,6,     0.00,6,    2.400,6,     -999,9,     -999,9,   2253.5,2,   2296.0,2,   7.4745,2,    25.00,     -999,9,     -999,9,     -999,9,     -999,9,   6.1839,2,  26.8145,2,   6.2416,2
49UP20210827_1,   P03,    66,  1,     22,     831,2,20210908,0938,1046, 24.2562, 161.5705, 3483,    735.3,    5.1548,  34.1778,2,     60.9,2,  34.1774,2,     -999,5,    85.70,2,    38.29,2,     0.00,2,    2.760,2,     -999,9,     -999,9,   2298.4,2,   2319.6,2,   7.3951,2,    25.00,     -999,9,     -999,9,     -999,9,     -999,9,   5.0944,2,  27.0125,2,   5.1519,2
49UP20210827_1,   P03,    66,  1,     18,     752,2,20210908,0938,1043, 24.2562, 161.5705, 3483,    837.1,    4.5151,  34.2810,2,     45.9,2,  34.2805,2,    45.60,2,   100.57,2,    40.63,2,     0.00,2,    2.930,2,     -999,9,     -999,9,   2326.9,2,   2339.0,2,   7.3805,2,    25.00,     -999,9,     -999,9,     -999,9,     -999,9,   4.4498,2,  27.1666,2,   4.5154,2
49UP20210827_1,   P03,    66,  1,     17,     751,2,20210908,0938,1040, 24.2562, 161.5705, 3483,    939.9,    4.1722,  34.3598,2,     45.5,2,  34.3583,2,    44.98,2,   108.61,2,    41.21,2,     0.00,2,    2.960,2,     -999,9,     -999,9,   2331.3,2,   2352.8,2,   7.3854,6,    25.00,     -999,9,     -999,9,     -999,9,     -999,9,   4.1005,2,  27.2664,2,   4.1718,2
49UP20210827_1,   P03,    66,  1,     16,     328,2,20210908,0938,1036, 24.2562, 161.5705, 3483,   1079.9,    3.6151,  34.4484,2,     53.6,2,  34.4487,2,    53.48,2,   121.31,2,    41.21,2,     0.00,2,    2.960,2,     -999,9,     -999,9,   2343.4,6,   2370.9,6,   7.4078,2,    25.00,     -999,9,     -999,9,     -999,9,     -999,9,   3.5360,2,  27.3941,2,   3.6149,2
49UP20210827_1,   P03,    66,  1,     15,     822,2,20210908,0938,1031, 24.2562, 161.5705, 3483,   1283.2,    3.0983,  34.5060,2,     64.4,2,  34.5058,6,    63.93,2,   131.91,2,    40.95,2,     0.00,2,    2.920,2,     -999,9,     -999,9,   2349.7,2,   2386.8,2,   7.4291,2,    25.00,     -999,9,     -999,9,     -999,9,     -999,9,   3.0073,2,  27.4900,2,   3.0984,2
49UP20210827_1,   P03,    66,  1,     14,     326,2,20210908,0938,1026, 24.2562, 161.5705, 3483,   1486.3,    2.6615,  34.5469,2,     75.8,2,  34.5460,2,    75.53,6,   140.23,6,    40.46,6,     0.00,6,    2.880,6,     -999,9,     -999,9,   2351.8,2,   2394.9,2,   7.4467,2,    25.00,     -999,9,     -999,9,     -999,9,     -999,9,   2.5588,2,  27.5626,2,   2.6610,2
49UP20210827_1,   P03,    66,  1,     13,     325,2,20210908,0938,1021, 24.2562, 161.5705, 3483,   1688.6,    2.2758,  34.5811,2,     87.5,2,  34.5812,2,    87.30,2,   147.15,2,    39.95,2,     0.00,2,    2.820,2,     -999,9,     -999,9,   2354.6,2,   2403.0,2,   7.4685,2,    25.00,     -999,9,     -999,9,     -999,9,     -999,9,   2.1613,2,  27.6231,2,   2.2771,2
49UP20210827_1,   P03,    66,  1,     11,     323,2,20210908,0938,1017, 24.2562, 161.5705, 3483,   1889.2,    2.0699,  34.6035,2,     97.1,2,  34.6038,2,    96.66,2,   149.93,2,    39.47,2,     0.00,2,    2.780,2,     -999,9,     -999,9,   2351.3,2,   2405.7,2,   7.4857,2,    25.00,     -999,9,     -999,9,     -999,9,     -999,9,   1.9418,2,  27.6586,2,   2.0695,2
49UP20210827_1,   P03,    66,  1,     12,     324,2,20210908,0938,1017, 24.2562, 161.5705, 3483,   1889.9,    2.0700,  34.6035,2,     97.1,2,  34.6040,2,    96.87,2,   149.40,2,    39.44,2,     0.00,2,    2.780,2,     -999,9,     -999,9,   2352.0,2,   2408.1,2,   7.4870,2,    25.00,     -999,9,     -999,9,     -999,9,     -999,9,   1.9418,2,  27.6586,2,   2.0700,2
49UP20210827_1,   P03,    66,  1,     10,     322,2,20210908,0938,1011, 24.2562, 161.5705, 3483,   2092.6,    1.9227,  34.6204,2,    105.2,2,  34.6209,2,   105.08,2,   151.63,2,    39.01,2,     0.00,2,    2.740,2,     -999,9,     -999,9,   2355.3,2,   2410.1,2,   7.5015,2,    25.00,     -999,9,     -999,9,     -999,9,     -999,9,   1.7797,2,  27.6847,2,   1.9224,2
49UP20210827_1,   P03,    66,  1,      9,     750,2,20210908,0938,1006, 24.2562, 161.5705, 3483,   2295.7,    1.8086,  34.6343,2,    112.9,2,  34.6346,2,   112.60,2,   152.43,2,    38.56,2,     0.00,2,    2.700,2,     -999,9,     -999,9,   2348.3,2,   2411.1,2,   7.5158,2,    25.00,     -999,9,     -999,9,     -999,9,     -999,9,   1.6500,2,  27.7056,2,   1.8085,2
49UP20210827_1,   P03,    66,  1,      8,     320,2,20210908,0938,1001, 24.2562, 161.5705, 3483,   2501.0,    1.7046,  34.6469,2,    120.7,2,  34.6474,2,   120.53,2,   152.86,2,    38.09,2,     0.00,2,    2.670,2,     -999,9,     -999,9,   2346.8,2,   2418.0,2,   7.5295,6,    25.00,     -999,9,     -999,9,     -999,9,     -999,9,   1.5298,2,  27.7246,2,   1.7045,2
49UP20210827_1,   P03,    66,  1,      7,     319,2,20210908,0938, 956, 24.2562, 161.5705, 3483,   2703.0,    1.6406,  34.6549,2,    126.4,2,  34.6553,2,   126.41,2,   153.14,2,    37.72,2,     0.00,2,    2.640,2,     -999,9,     -999,9,   2339.2,6,   2414.6,6,   7.5374,2,    25.00,     -999,9,     -999,9,     -999,9,     -999,9,   1.4487,2,  27.7369,2,   1.6407,2
49UP20210827_1,   P03,    66,  1,      6,     318,2,20210908,0938, 952, 24.2562, 161.5705, 3483,   2906.8,    1.6052,  34.6600,2,    130.5,2,  34.6601,2,   130.32,2,   152.56,2,    37.45,2,     0.00,2,    2.620,2,     -999,9,     -999,9,   2341.5,2,   2417.0,2,   7.5435,2,    25.00,     -999,9,     -999,9,     -999,9,     -999,9,   1.3951,2,  27.7449,2,   1.6051,2
49UP20210827_1,   P03,    66,  1,      5,     317,2,20210908,0938, 947, 24.2562, 161.5705, 3483,   3122.2,    1.5720,  34.6652,2,    134.9,2,  34.6657,2,   134.67,2,   152.31,2,    37.19,2,     0.00,2,    2.590,2,     -999,9,     -999,9,   2335.5,2,   2416.0,2,   7.5504,2,    25.00,     -999,9,     -999,9,     -999,9,     -999,9,   1.3419,2,  27.7528,2,   1.5718,2
49UP20210827_1,   P03,    66,  1,      4,     316,2,20210908,0938, 941, 24.2562, 161.5705, 3483,   3376.6,    1.5447,  34.6700,2,    139.5,2,  34.6702,2,   139.08,2,   151.62,2,    36.89,2,     0.00,2,    2.570,2,     -999,9,     -999,9,   2332.4,2,   2415.5,2,   7.5612,2,    25.00,     -999,9,     -999,9,     -999,9,     -999,9,   1.2900,2,  27.7603,2,   1.5445,2
49UP20210827_1,   P03,    66,  1,      3,     315,2,20210908,0938, 938, 24.2562, 161.5705, 3483,   3498.0,    1.5202,  34.6733,2,    142.8,2,  34.6739,2,   142.22,2,   150.67,2,    36.71,2,     0.00,2,    2.550,2,     -999,9,     -999,9,   2332.1,2,   2414.8,2,   7.5652,2,    25.00,     -999,9,     -999,9,     -999,9,     -999,9,   1.2538,2,  27.7655,2,   1.5203,2