BOTTLE,20230808CCHSIOADS
EXPOCODE,SECT_ID,STNNBR,CASTNO,SAMPNO,BTLNBR,BTLNBR_FLAG_W,DATE,TIME,BTL_TIME,LATITUDE,LONGITUDE,DEPTH,CTDPRS,CTDTMP,CTDSAL,CTDSAL_FLAG_W,CTDOXY,CTDOXY_FLAG_W,SALNTY,SALNTY_FLAG_W,OXYGEN,OXYGEN_FLAG_W,SILCAT,SILCAT_FLAG_W,NO2+NO3,NO2+NO3_FLAG_W,NITRIT,NITRIT_FLAG_W,PHSPHT,PHSPHT_FLAG_W,CFC-11,CFC-11_FLAG_W,CFC-12,CFC-12_FLAG_W,TCARBN,TCARBN_FLAG_W,ALKALI,ALKALI_FLAG_W,PH_TOT,PH_TOT_FLAG_W,PH_TMP,CFC113,CFC113_FLAG_W,SF6,SF6_FLAG_W,CHLORA,CHLORA_FLAG_W,PPHYTN,PPHYTN_FLAG_W,THETA,THETA_FLAG_W,SIG0,SIG0_FLAG_W,SBE35,SBE35_FLAG_W
,,,,,,,,,,,,METERS,DBAR,ITS-90,PSS-78,,UMOL/KG,,PSS78,,UMOL/KG,,UMOL/KG,,UMOL/KG,,UMOL/KG,,UMOL/KG,,PMOL/KG,,PMOL/KG,,UMOL/KG,,UMOL/KG,,,,DEG C,PMOL/KG,,FMOL/KG,,UG/KG,,UG/KG,,ITS-90,,KG/M^3,,ITS-90,
49UP20210827_1,   P03,    49,  1,      0,     BUC,2,20210902,0445, 650, 24.2520, 148.4268, 5732,      0.0,   29.6004,  34.8498,2,    196.6,2,  34.8535,2,   196.65,2,     1.17,2,     0.00,2,     0.00,2,    0.040,2,     -999,9,     -999,9,   1963.7,2,   2287.4,2,   8.0944,2,    25.00,     -999,9,     -999,9,     0.03,2,     0.01,2,  29.5998,2,  21.7496,2,     -999,9
49UP20210827_1,   P03,    49,  1,     36,     757,2,20210902,0445, 719, 24.2520, 148.4268, 5732,      9.5,   29.2788,  34.8450,2,    197.0,2,  34.8443,2,   197.14,2,     1.17,2,     0.00,2,     0.00,2,    0.010,2,     -999,9,     -999,9,   1964.4,2,   2288.0,2,   8.0957,2,    25.00,     -999,9,     -999,9,     0.03,2,     0.01,2,  29.2765,2,  21.8550,2,  29.2828,2
49UP20210827_1,   P03,    49,  1,     35,     756,2,20210902,0445, 715, 24.2520, 148.4268, 5732,     48.6,   25.6221,  35.0037,2,    220.0,2,  34.9994,2,   219.36,2,     1.24,2,     0.00,2,     0.00,2,    0.000,2,     -999,9,     -999,9,   1982.3,2,   2297.7,2,   8.0823,2,    25.00,     -999,9,     -999,9,     0.06,2,     0.02,2,  25.6114,2,  23.1567,2,  25.6094,2
49UP20210827_1,   P03,    49,  1,     34,     843,2,20210902,0445, 713, 24.2520, 148.4268, 5732,     99.1,   22.8902,  35.0043,2,    226.0,2,  35.0056,6,   225.24,2,     1.57,2,     0.00,2,     0.00,2,    0.010,2,     -999,9,     -999,9,   2002.4,2,   2297.7,2,   8.0511,2,    25.00,     -999,9,     -999,9,     0.13,2,     0.07,2,  22.8700,2,  23.9743,2,  22.8801,2
49UP20210827_1,   P03,    49,  1,     33,     842,2,20210902,0445, 711, 24.2520, 148.4268, 5732,    125.0,   21.5878,  34.9545,2,    229.6,2,  34.9555,2,   228.82,6,     1.66,6,     0.00,6,     0.00,6,    0.010,6,     -999,9,     -999,9,   2004.2,2,   2294.9,2,   8.0416,2,    25.00,     -999,9,     -999,9,     0.17,2,     0.11,2,  21.5634,2,  24.3047,2,  21.5935,2
49UP20210827_1,   P03,    49,  1,     32,     841,2,20210902,0445, 710, 24.2520, 148.4268, 5732,    151.0,   20.6916,  34.9182,2,    227.4,2,  34.9165,2,   226.98,2,     1.73,2,     0.00,2,     0.00,2,    0.010,2,     -999,9,     -999,9,   2008.7,2,   2293.0,2,   8.0262,2,    25.00,     -999,9,     -999,9,     0.19,2,     0.23,2,  20.6631,2,  24.5228,2,  20.6919,2
49UP20210827_1,   P03,    49,  1,     31,     840,2,20210902,0445, 708, 24.2520, 148.4268, 5732,    202.0,   18.5367,  34.7618,2,    213.9,2,  34.7610,2,   213.87,2,     2.49,2,     1.73,2,     0.02,2,    0.130,2,     -999,9,     -999,9,   2029.0,2,   2281.0,2,   7.9760,6,    25.00,     -999,9,     -999,9,     0.03,2,     0.14,2,  18.5014,2,  24.9651,2,  18.5378,2
49UP20210827_1,   P03,    49,  1,     30,     839,2,20210902,0445, 706, 24.2520, 148.4268, 5732,    250.0,   17.6807,  34.7512,2,    216.3,2,  34.7507,2,   216.06,2,     3.47,2,     3.20,2,     0.01,2,    0.220,2,     -999,9,     -999,9,   2033.9,6,   2281.6,6,   7.9604,2,    25.00,     -999,9,     -999,9,     -999,9,     -999,9,  17.6383,2,  25.1700,2,  17.6802,2
49UP20210827_1,   P03,    49,  1,     29,     838,2,20210902,0445, 704, 24.2520, 148.4268, 5732,    303.9,   17.1728,  34.7455,2,    212.7,2,  34.7457,2,   212.41,2,     4.31,2,     4.28,2,     0.00,2,    0.290,2,     -999,9,     -999,9,   2043.9,2,   2281.9,2,   7.9435,2,    25.00,     -999,9,     -999,9,     -999,9,     -999,9,  17.1223,2,  25.2898,2,  17.1719,2
49UP20210827_1,   P03,    49,  1,     28,     755,2,20210902,0445, 701, 24.2520, 148.4268, 5732,    404.1,   14.8507,  34.5568,2,    195.5,2,  34.5571,2,   195.17,2,     9.84,2,     9.24,2,     0.00,2,    0.630,2,     -999,9,     -999,9,   2079.4,2,   2274.0,2,   7.8598,2,    25.00,     -999,9,     -999,9,     -999,9,     -999,9,  14.7898,2,  25.6760,2,  14.8460,2
49UP20210827_1,   P03,    49,  1,     27,     754,2,20210902,0445, 658, 24.2520, 148.4268, 5732,    504.6,   11.2686,  34.2612,2,    190.6,2,  34.2626,2,   190.86,2,    19.33,2,    15.30,2,     0.00,2,    1.080,2,     -999,9,     -999,9,   2119.0,2,   2264.9,2,   7.7582,2,    25.00,     -999,9,     -999,9,     -999,9,     -999,9,  11.2050,2,  26.1631,2,  11.2705,2
49UP20210827_1,   P03,    49,  1,     26,     835,2,20210902,0445, 655, 24.2520, 148.4268, 5732,    606.4,    8.8875,  34.1365,2,    152.6,2,  34.1370,2,   152.56,2,    35.49,2,    23.25,2,     0.00,2,    1.660,2,     -999,9,     -999,9,   2179.8,2,   2272.6,2,   7.6326,2,    25.00,     -999,9,     -999,9,     -999,9,     -999,9,   8.8213,2,  26.4702,2,   8.8878,2
49UP20210827_1,   P03,    49,  1,     25,     834,2,20210902,0445, 653, 24.2520, 148.4268, 5732,    705.6,    6.8484,  34.0829,2,    117.6,2,  34.0838,6,   117.46,2,    56.69,2,    30.26,2,     0.00,2,    2.170,2,     -999,9,     -999,9,   2225.5,2,   2287.2,2,   7.5269,2,    25.00,     -999,9,     -999,9,     -999,9,     -999,9,   6.7817,2,  26.7260,2,   6.8491,2
49UP20210827_1,   P03,    49,  1,     24,     753,2,20210902,0445, 650, 24.2520, 148.4268, 5732,    805.7,    5.4205,  34.1553,2,     74.0,2,  34.1549,2,    73.55,6,    80.85,6,    36.71,6,     0.00,6,    2.640,6,     -999,9,     -999,9,   2280.7,2,   2311.6,2,   7.4269,2,    25.00,     -999,9,     -999,9,     -999,9,     -999,9,   5.3523,2,  26.9644,2,   5.4202,2
49UP20210827_1,   P03,    49,  1,     23,     832,2,20210902,0445, 647, 24.2520, 148.4268, 5732,    908.7,    4.5097,  34.2728,2,     53.9,2,  34.2713,2,    54.17,2,   101.25,2,    39.78,2,     0.00,2,    2.850,2,     -999,9,     -999,9,   2315.4,2,   2336.3,2,   7.3973,2,    25.00,     -999,9,     -999,9,     -999,9,     -999,9,   4.4384,2,  27.1614,2,   4.5082,2
49UP20210827_1,   P03,    49,  1,     22,     831,2,20210902,0445, 644, 24.2520, 148.4268, 5732,   1010.1,    3.9768,  34.3533,2,     50.7,2,  34.3536,2,    50.54,2,   113.99,2,    40.81,2,     0.00,2,    2.920,2,     -999,9,     -999,9,   2334.0,2,   2353.4,2,   7.3906,2,    25.00,     -999,9,     -999,9,     -999,9,     -999,9,   3.9008,2,  27.2819,2,   3.9757,2
49UP20210827_1,   P03,    49,  1,     21,     830,2,20210902,0445, 639, 24.2520, 148.4268, 5732,   1211.7,    3.2618,  34.4363,2,     52.5,2,  34.4362,2,    52.83,2,   131.46,2,    41.42,2,     0.00,2,    2.950,2,     -999,9,     -999,9,   2350.7,2,   2372.1,2,   7.3953,2,    25.00,     -999,9,     -999,9,     -999,9,     -999,9,   3.1752,2,  27.4189,2,   3.2616,2
49UP20210827_1,   P03,    49,  1,     20,     829,2,20210902,0445, 634, 24.2520, 148.4268, 5732,   1415.6,    2.6811,  34.5071,2,     60.5,2,  34.5068,2,    60.70,2,   144.48,2,    41.50,2,     0.00,2,    2.930,2,     -999,9,     -999,9,   2363.1,2,   2390.6,2,   7.4141,6,    25.00,     -999,9,     -999,9,     -999,9,     -999,9,   2.5839,2,  27.5285,2,   2.6812,2
49UP20210827_1,   P03,    49,  1,     19,     828,2,20210902,0445, 629, 24.2520, 148.4268, 5732,   1616.9,    2.3844,  34.5484,2,     77.9,2,  34.5481,2,    78.67,2,   147.44,2,    40.44,2,     0.00,2,    2.850,2,     -999,9,     -999,9,   2357.7,6,   2395.7,6,   7.4444,2,    25.00,     -999,9,     -999,9,     -999,9,     -999,9,   2.2745,2,  27.5877,2,   2.3844,2
49UP20210827_1,   P03,    49,  1,     18,     752,2,20210902,0445, 624, 24.2520, 148.4268, 5732,   1819.8,    2.1348,  34.5836,2,     91.1,2,  34.5840,2,    91.25,2,   150.06,2,    39.77,2,     0.00,2,    2.790,2,     -999,9,     -999,9,   2354.3,2,   2401.9,2,   7.4736,2,    25.00,     -999,9,     -999,9,     -999,9,     -999,9,   2.0115,2,  27.6371,2,   2.1348,2
49UP20210827_1,   P03,    49,  1,     17,     751,2,20210902,0445, 619, 24.2520, 148.4268, 5732,   2025.5,    1.9714,  34.6070,2,    101.5,2,  34.6077,2,   101.59,2,   151.28,2,    39.20,2,     0.00,2,    2.740,2,     -999,9,     -999,9,   2355.4,2,   2404.8,2,   7.4907,2,    25.00,     -999,9,     -999,9,     -999,9,     -999,9,   1.8333,2,  27.6699,2,   1.9714,2
49UP20210827_1,   P03,    49,  1,     16,     328,2,20210902,0445, 613, 24.2520, 148.4268, 5732,   2228.1,    1.8316,  34.6274,2,    111.3,2,  34.6280,6,   111.21,2,   152.16,2,    38.61,2,     0.00,2,    2.700,2,     -999,9,     -999,9,   2348.0,2,   2408.4,2,   7.5091,2,    25.00,     -999,9,     -999,9,     -999,9,     -999,9,   1.6785,2,  27.6980,2,   1.8317,2
49UP20210827_1,   P03,    49,  1,     15,     822,2,20210902,0445, 608, 24.2520, 148.4268, 5732,   2431.3,    1.7492,  34.6397,2,    118.1,2,  34.6402,2,   118.02,6,   152.27,6,    38.21,6,     0.00,6,    2.660,6,     -999,9,     -999,9,   2343.5,2,   2411.0,2,   7.5209,2,    25.00,     -999,9,     -999,9,     -999,9,     -999,9,   1.5798,2,  27.7152,2,   1.7492,2
49UP20210827_1,   P03,    49,  1,     14,     326,3,20210902,0445, 603, 24.2520, 148.4268, 5732,   2634.3,    1.6834,  34.6491,2,    123.9,2,  34.6490,2,   124.10,2,   152.20,2,    37.86,2,     0.00,2,    2.630,2,     -999,9,     -999,9,   2339.6,2,   2411.3,2,   7.5325,2,    25.00,     -999,9,     -999,9,     -999,9,     -999,9,   1.4970,2,  27.7288,2,   1.6833,2
49UP20210827_1,   P03,    49,  1,     13,     325,2,20210902,0445, 558, 24.2520, 148.4268, 5732,   2837.2,    1.6243,  34.6572,2,    129.2,2,  34.6569,2,   129.34,2,   152.59,2,    37.56,2,     0.00,2,    2.610,2,     -999,9,     -999,9,   2342.5,2,   2414.0,2,   7.5448,2,    25.00,     -999,9,     -999,9,     -999,9,     -999,9,   1.4203,2,  27.7408,2,   1.6242,2
49UP20210827_1,   P03,    49,  1,     12,     324,3,20210902,0445, 553, 24.2520, 148.4268, 5732,   3042.7,    1.5798,  34.6643,2,    134.9,2,  34.6635,4,   134.67,2,   151.38,2,    37.14,2,     0.00,2,    2.580,2,     -999,9,     -999,9,   2339.2,2,   2413.5,2,   7.5535,2,    25.00,     -999,9,     -999,9,     -999,9,     -999,9,   1.3572,2,  27.7511,2,   1.5797,2
49UP20210827_1,   P03,    49,  1,     11,     323,2,20210902,0445, 547, 24.2520, 148.4268, 5732,   3296.6,    1.5412,  34.6705,2,    140.2,2,  34.6700,2,   140.14,2,   150.79,2,    36.84,2,     0.00,2,    2.550,2,     -999,9,     -999,9,   2333.8,2,   2412.1,2,   7.5591,6,    25.00,     -999,9,     -999,9,     -999,9,     -999,9,   1.2946,2,  27.7605,2,   1.5414,2
49UP20210827_1,   P03,    49,  1,     10,     322,3,20210902,0445, 541, 24.2520, 148.4268, 5732,   3551.9,    1.5178,  34.6747,2,    144.4,2,  34.6732,4,   143.70,2,   149.94,2,    36.58,2,     0.00,2,    2.540,2,     -999,9,     -999,9,   2329.8,6,   2413.3,6,   7.5659,2,    25.00,     -999,9,     -999,9,     -999,9,     -999,9,   1.2459,2,  27.7672,2,   1.5177,2
49UP20210827_1,   P03,    49,  1,      9,     750,2,20210902,0445, 534, 24.2520, 148.4268, 5732,   3808.2,    1.5017,  34.6785,2,    148.4,2,  34.6788,2,   148.07,2,   149.03,2,    36.26,2,     0.00,2,    2.510,2,     -999,9,     -999,9,   2328.6,2,   2412.4,2,   7.5708,2,    25.00,     -999,9,     -999,9,     -999,9,     -999,9,   1.2035,2,  27.7732,2,   1.5019,2
49UP20210827_1,   P03,    49,  1,      8,     320,2,20210902,0445, 529, 24.2520, 148.4268, 5732,   4063.5,    1.4916,  34.6822,2,    153.0,2,  34.6822,2,   152.66,2,   147.22,2,    35.92,2,     0.00,2,    2.490,2,     -999,9,     -999,9,   2330.9,3,   2411.7,2,   7.5808,2,    25.00,     -999,9,     -999,9,     -999,9,     -999,9,   1.1660,2,  27.7788,2,   1.4917,2
49UP20210827_1,   P03,    49,  1,      7,     319,2,20210902,0445, 522, 24.2520, 148.4268, 5732,   4319.5,    1.4855,  34.6852,2,    157.3,2,  34.6854,6,   157.27,2,   145.27,2,    35.64,2,     0.00,2,    2.470,2,     -999,9,     -999,9,   2319.2,2,   2409.2,2,   7.5888,2,    25.00,     -999,9,     -999,9,     -999,9,     -999,9,   1.1316,2,  27.7835,2,   1.4855,2
49UP20210827_1,   P03,    49,  1,      6,     318,2,20210902,0445, 516, 24.2520, 148.4268, 5732,   4577.7,    1.4863,  34.6875,2,    160.8,2,  34.6879,2,   160.37,6,   143.46,6,    35.38,6,     0.00,6,    2.450,6,     -999,9,     -999,9,   2319.4,2,   2407.6,2,   7.5915,2,    25.00,     -999,9,     -999,9,     -999,9,     -999,9,   1.1028,2,  27.7873,2,   1.4862,2
49UP20210827_1,   P03,    49,  1,      5,     317,2,20210902,0445, 510, 24.2520, 148.4268, 5732,   4833.9,    1.4932,  34.6898,2,    164.4,2,  34.6896,2,   163.94,2,   141.02,2,    35.13,2,     0.00,2,    2.430,2,     -999,9,     -999,9,   2313.8,2,   2405.5,2,   7.5959,2,    25.00,     -999,9,     -999,9,     -999,9,     -999,9,   1.0792,2,  27.7908,2,   1.4932,2
49UP20210827_1,   P03,    49,  1,      4,     316,2,20210902,0445, 504, 24.2520, 148.4268, 5732,   5092.9,    1.5043,  34.6916,2,    167.4,2,  34.6915,2,   167.28,2,   139.38,2,    34.91,2,     0.00,2,    2.410,2,     -999,9,     -999,9,   2309.6,2,   2403.2,2,   7.6000,2,    25.00,     -999,9,     -999,9,     -999,9,     -999,9,   1.0585,2,  27.7937,2,   1.5044,2
49UP20210827_1,   P03,    49,  1,      3,     315,2,20210902,0445, 458, 24.2520, 148.4268, 5732,   5348.5,    1.5195,  34.6934,2,    170.1,2,  34.6934,2,   169.88,2,   137.37,2,    34.71,2,     0.00,2,    2.390,2,     -999,9,     -999,9,   2307.2,2,   2404.0,2,   7.6021,2,    25.00,     -999,9,     -999,9,     -999,9,     -999,9,   1.0414,2,  27.7962,2,   1.5198,2
49UP20210827_1,   P03,    49,  1,      2,     314,2,20210902,0445, 452, 24.2520, 148.4268, 5732,   5606.9,    1.5334,  34.6946,2,    173.2,2,  34.6946,2,   172.80,2,   135.60,2,    34.47,2,     0.00,2,    2.380,2,     -999,9,     -999,9,   2303.9,2,   2401.2,2,   7.6055,2,    25.00,     -999,9,     -999,9,     -999,9,     -999,9,   1.0218,2,  27.7985,2,   1.5333,2
49UP20210827_1,   P03,    49,  1,      1,     811,2,20210902,0445, 445, 24.2520, 148.4268, 5732,   5889.1,    1.5476,  34.6963,2,    176.4,2,  34.6965,2,   175.90,2,   133.51,2,    34.24,2,     0.00,2,    2.360,2,     -999,9,     -999,9,   2301.9,2,   2399.3,2,   7.6077,2,    25.00,     -999,9,     -999,9,     -999,9,     -999,9,   0.9986,2,  27.8014,2,   1.5476,2