BOTTLE,20230808CCHSIOADS
EXPOCODE,SECT_ID,STNNBR,CASTNO,SAMPNO,BTLNBR,BTLNBR_FLAG_W,DATE,TIME,BTL_TIME,LATITUDE,LONGITUDE,DEPTH,CTDPRS,CTDTMP,CTDSAL,CTDSAL_FLAG_W,CTDOXY,CTDOXY_FLAG_W,SALNTY,SALNTY_FLAG_W,OXYGEN,OXYGEN_FLAG_W,SILCAT,SILCAT_FLAG_W,NO2+NO3,NO2+NO3_FLAG_W,NITRIT,NITRIT_FLAG_W,PHSPHT,PHSPHT_FLAG_W,CFC-11,CFC-11_FLAG_W,CFC-12,CFC-12_FLAG_W,TCARBN,TCARBN_FLAG_W,ALKALI,ALKALI_FLAG_W,PH_TOT,PH_TOT_FLAG_W,PH_TMP,CFC113,CFC113_FLAG_W,SF6,SF6_FLAG_W,CHLORA,CHLORA_FLAG_W,PPHYTN,PPHYTN_FLAG_W,THETA,THETA_FLAG_W,SIG0,SIG0_FLAG_W,SBE35,SBE35_FLAG_W
,,,,,,,,,,,,METERS,DBAR,ITS-90,PSS-78,,UMOL/KG,,PSS78,,UMOL/KG,,UMOL/KG,,UMOL/KG,,UMOL/KG,,UMOL/KG,,PMOL/KG,,PMOL/KG,,UMOL/KG,,UMOL/KG,,,,DEG C,PMOL/KG,,FMOL/KG,,UG/KG,,UG/KG,,ITS-90,,KG/M^3,,ITS-90,
49UP20210719_2,   P03,    21,  1,      0,     BUC,2,20210805,0905,1050, 24.2623, 133.9967, 4903,      0.0,   28.6781,  34.2535,2,    196.9,2,  34.2485,2,   197.45,2,     1.35,2,     0.03,2,     0.00,2,    0.020,2,     -999,9,     -999,9,   1939.2,2,   2247.8,2,   8.0879,2,    25.00,     -999,9,     -999,9,     0.05,2,     0.02,2,  28.6775,2,  21.6108,2,     -999,9
49UP20210719_2,   P03,    21,  1,     36,     757,2,20210805,0905,1122, 24.2623, 133.9967, 4903,      9.8,   28.6849,  34.2522,2,    196.7,2,  34.2533,2,   197.60,2,     1.37,2,     0.02,2,     0.00,2,    0.000,2,    1.081,2,    0.792,2,   1939.3,2,   2247.2,2,   8.0858,2,    25.00,    0.059,2,    1.179,2,     0.05,2,     0.02,2,  28.6826,2,  21.6081,2,  28.6852,2
49UP20210719_2,   P03,    21,  1,     35,     756,2,20210805,0905,1121, 24.2623, 133.9967, 4903,     24.8,   26.8463,  34.5348,2,    211.5,2,  34.5311,2,   210.79,2,     1.42,2,     0.03,2,     0.00,2,    0.000,2,     -999,9,     -999,9,   1964.0,2,   2265.8,2,   8.0773,2,    25.00,     -999,9,     -999,9,     0.06,2,     0.02,2,  26.8407,2,  22.4181,2,  26.7879,2
49UP20210719_2,   P03,    21,  1,     34,     843,2,20210805,0905,1118, 24.2623, 133.9967, 4903,     48.9,   23.4320,  34.8148,2,    222.1,2,  34.8150,2,   221.78,2,     1.57,2,     0.02,2,     0.00,2,    0.000,2,    1.508,2,    0.994,2,   1985.9,2,   2286.3,2,   8.0517,2,    25.00,    0.072,2,    1.721,2,     0.12,2,     0.04,2,  23.4219,2,  23.6709,2,  23.4311,2
49UP20210719_2,   P03,    21,  1,     33,     842,2,20210805,0905,1116, 24.2623, 133.9967, 4903,     74.5,   21.7806,  34.8267,2,    217.0,2,  34.8261,2,   217.46,2,     1.81,2,     0.03,2,     0.00,2,    0.010,2,     -999,9,     -999,9,   1998.5,2,   2286.2,2,   8.0345,2,    25.00,     -999,9,     -999,9,     0.15,2,     0.10,2,  21.7660,2,  24.1514,2,  21.7793,2
49UP20210719_2,   P03,    21,  1,     32,     841,2,20210805,0905,1115, 24.2623, 133.9967, 4903,    101.0,   20.7531,  34.8202,2,    211.7,2,  34.8203,2,   211.97,2,     1.96,2,     0.37,2,     0.07,2,    0.050,2,    1.632,2,    1.042,2,   2009.5,2,   2286.5,2,   8.0151,2,    25.00,    0.082,2,    1.724,2,     0.23,2,     0.58,2,  20.7340,2,  24.4290,2,  20.7590,2
49UP20210719_2,   P03,    21,  1,     31,     840,2,20210805,0905,1114, 24.2623, 133.9967, 4903,    129.4,   20.2864,  34.8135,2,    209.7,2,  34.8128,2,   210.26,2,     2.14,2,     1.24,2,     0.03,2,    0.080,2,     -999,9,     -999,9,   2016.4,2,   2284.0,2,   8.0116,2,    25.00,     -999,9,     -999,9,     0.10,2,     0.35,2,  20.2623,2,  24.5501,2,  20.2862,2
49UP20210719_2,   P03,    21,  1,     30,     839,2,20210805,0905,1112, 24.2623, 133.9967, 4903,    150.3,   19.8588,  34.8218,2,    201.8,2,  34.8220,2,   201.98,6,     2.62,6,     2.31,6,     0.02,6,    0.150,6,     -999,9,     -999,9,   2024.3,2,   2285.1,2,   7.9862,2,    25.00,     -999,9,     -999,9,     0.04,2,     0.09,2,  19.8312,2,  24.6701,2,  19.8593,2
49UP20210719_2,   P03,    21,  1,     29,     838,2,20210805,0905,1110, 24.2623, 133.9967, 4903,    204.8,   17.9720,  34.7797,2,    193.9,2,  34.7800,6,   194.35,2,     4.73,2,     4.95,2,     0.00,2,    0.320,2,    1.928,2,    1.156,2,   2051.8,2,   2283.3,2,   7.9375,2,    25.00,    0.006,2,    1.659,2,     0.00,2,     0.02,2,  17.9369,2,  25.1188,2,  17.9710,2
49UP20210719_2,   P03,    21,  1,     28,     755,2,20210805,0905,1108, 24.2623, 133.9967, 4903,    251.1,   17.3414,  34.7534,2,    194.6,2,  34.7543,2,   195.53,2,     5.37,2,     5.69,2,     0.00,2,    0.370,2,     -999,9,     -999,9,   2054.4,2,   2282.0,2,   7.9242,2,    25.00,     -999,9,     -999,9,     -999,9,     -999,9,  17.2994,2,  25.2535,2,  17.3409,2
49UP20210719_2,   P03,    21,  1,     27,     754,2,20210805,0905,1106, 24.2623, 133.9967, 4903,    331.1,   15.2814,  34.5988,2,    188.5,2,  34.6002,2,   189.48,2,     9.69,2,     9.26,2,     0.00,2,    0.620,2,    2.209,2,    1.242,2,   2077.5,2,   2277.3,2,   7.8654,2,    25.00,    0.009,2,    1.478,2,     -999,9,     -999,9,  15.2306,2,  25.6119,2,  15.2797,2
49UP20210719_2,   P03,    21,  1,     26,     835,2,20210805,0905,1103, 24.2623, 133.9967, 4903,    436.2,   11.7965,  34.3394,2,    175.7,2,  34.3405,2,   176.03,2,    22.24,2,    16.25,2,     0.00,2,    1.110,2,     -999,9,     -999,9,   2122.9,2,   2272.4,2,   7.7589,2,    25.00,     -999,9,     -999,9,     -999,9,     -999,9,  11.7400,2,  26.1251,2,  11.7983,2
49UP20210719_2,   P03,    21,  1,     25,     834,2,20210805,0905,1100, 24.2623, 133.9967, 4903,    534.7,    8.6272,  34.1647,2,    146.6,2,  34.1659,2,   147.80,2,    42.41,2,    24.31,2,     0.00,2,    1.710,2,    2.184,2,    1.031,2,   2184.5,2,   2280.9,2,   7.6291,2,    25.00,    0.049,2,    0.900,2,     -999,9,     -999,9,   8.5701,2,  26.5315,2,   8.6323,2
49UP20210719_2,   P03,    21,  1,     24,     753,2,20210805,0905,1057, 24.2623, 133.9967, 4903,    633.6,    6.4788,  34.1375,2,    107.3,2,  34.1377,2,   107.41,2,    67.12,2,    31.87,2,     0.00,2,    2.270,2,     -999,9,     -999,9,   2241.0,2,   2299.9,2,   7.5104,6,    25.00,     -999,9,     -999,9,     -999,9,     -999,9,   6.4210,2,  26.8170,2,   6.4771,2
49UP20210719_2,   P03,    21,  1,     23,     832,2,20210805,0905,1054, 24.2623, 133.9967, 4903,    735.6,    5.4321,  34.1809,2,     81.9,2,  34.1815,2,    82.43,6,    84.17,6,    35.93,6,     0.00,6,    2.550,6,     -999,9,     -999,9,   2280.4,6,   2318.7,6,   7.4493,2,    25.00,     -999,9,     -999,9,     -999,9,     -999,9,   5.3702,2,  26.9826,2,   5.4310,2
49UP20210719_2,   P03,    21,  1,     22,     831,2,20210805,0905,1051, 24.2623, 133.9967, 4903,    837.5,    4.6438,  34.2502,2,     65.9,2,  34.2503,2,    66.16,2,   100.25,2,    38.45,2,     0.00,2,    2.730,2,    0.560,2,    0.278,2,   2308.2,2,   2334.5,2,   7.4173,2,    25.00,    0.013,2,    0.128,2,     -999,9,     -999,9,   4.5777,2,  27.1282,2,   4.6392,2
49UP20210719_2,   P03,    21,  1,     21,     830,2,20210805,0905,1048, 24.2623, 133.9967, 4903,    937.9,    4.0256,  34.3313,2,     60.1,2,  34.3321,2,    60.58,2,   114.73,2,    39.83,2,     0.00,2,    2.830,2,     -999,9,     -999,9,   2327.0,2,   2354.1,2,   7.4048,2,    25.00,     -999,9,     -999,9,     -999,9,     -999,9,   3.9552,2,  27.2588,2,   4.0252,2
49UP20210719_2,   P03,    21,  1,     20,     829,2,20210805,0905,1044, 24.2623, 133.9967, 4903,   1078.3,    3.3726,  34.4163,2,     60.9,2,  34.4164,2,    61.43,2,   129.20,2,    40.59,2,     0.00,2,    2.870,2,    0.183,2,    0.055,2,   2343.2,2,   2372.4,2,   7.4118,2,    25.00,    0.007,2,    0.025,2,     -999,9,     -999,9,   3.2958,2,  27.3916,2,   3.3718,2
49UP20210719_2,   P03,    21,  1,     19,     828,2,20210805,0905,1038, 24.2623, 133.9967, 4903,   1281.9,    2.7681,  34.4939,2,     70.1,2,  34.4936,6,    70.56,2,   140.70,2,    40.54,2,     0.00,2,    2.860,2,     -999,9,     -999,9,   2350.0,2,   2386.8,2,   7.4356,2,    25.00,     -999,9,     -999,9,     -999,9,     -999,9,   2.6806,2,  27.5096,2,   2.7681,2
49UP20210719_2,   P03,    21,  1,     18,     752,2,20210805,0905,1033, 24.2623, 133.9967, 4903,   1485.1,    2.3969,  34.5447,2,     84.2,2,  34.5445,2,    84.67,2,   145.31,2,    39.96,2,     0.00,2,    2.800,2,    0.041,2,    0.008,2,   2352.4,2,   2396.9,2,   7.4629,2,    25.00,    0.000,2,    0.037,2,     -999,9,     -999,9,   2.2973,2,  27.5829,2,   2.3968,2
49UP20210719_2,   P03,    21,  1,     17,     751,2,20210805,0905,1027, 24.2623, 133.9967, 4903,   1687.5,    2.1296,  34.5861,2,    100.8,2,  34.5861,2,   101.48,2,   146.44,2,    39.08,2,     0.00,2,    2.730,2,     -999,9,     -999,9,   2354.0,3,   2403.2,2,   7.4916,2,    25.00,     -999,9,     -999,9,     -999,9,     -999,9,   2.0171,2,  27.6387,2,   2.1294,2
49UP20210719_2,   P03,    21,  1,     16,     328,2,20210805,0905,1022, 24.2623, 133.9967, 4903,   1890.3,    1.9691,  34.6098,2,    111.9,2,  34.6098,2,   112.40,6,   146.35,6,    38.42,6,     0.00,6,    2.680,6,     -999,9,     -999,9,   2341.9,2,   2405.7,2,   7.5142,2,    25.00,     -999,9,     -999,9,     -999,9,     -999,9,   1.8422,2,  27.6714,2,   1.9690,2
49UP20210719_2,   P03,    21,  1,     15,     822,2,20210805,0905,1017, 24.2623, 133.9967, 4903,   2092.2,    1.8410,  34.6273,2,    120.9,2,  34.6272,2,   121.51,2,   146.15,2,    37.86,2,     0.00,2,    2.630,2,    0.003,2,    0.000,2,   2341.3,2,   2410.4,2,   7.5314,2,    25.00,    0.002,2,   -0.002,2,     -999,9,     -999,9,   1.6993,2,  27.6963,2,   1.8410,2
49UP20210719_2,   P03,    21,  1,     14,     326,2,20210805,0905,1010, 24.2623, 133.9967, 4903,   2296.9,    1.7366,  34.6420,2,    129.1,2,  34.6420,2,   129.31,2,   145.30,2,    37.43,2,     0.00,2,    2.600,2,     -999,9,     -999,9,   2335.3,2,   2410.0,2,   7.5463,6,    25.00,     -999,9,     -999,9,     -999,9,     -999,9,   1.5791,2,  27.7171,2,   1.7365,2
49UP20210719_2,   P03,    21,  1,     13,     325,2,20210805,0905,1005, 24.2623, 133.9967, 4903,   2499.7,    1.6632,  34.6522,2,    134.9,2,  34.6506,4,   135.27,2,   145.43,2,    37.05,2,     0.00,2,    2.570,2,     -999,9,     -999,9,   2332.6,6,   2411.6,6,   7.5558,2,    25.00,     -999,9,     -999,9,     -999,9,     -999,9,   1.4893,2,  27.7318,2,   1.6630,2
49UP20210719_2,   P03,    21,  1,     12,     324,2,20210805,0905,1000, 24.2623, 133.9967, 4903,   2703.9,    1.6180,  34.6594,2,    139.3,2,  34.6595,2,   140.01,2,   144.90,2,    36.83,2,     0.00,2,    2.550,2,     -999,9,     -999,9,   2330.6,2,   2410.3,2,   7.5607,2,    25.00,     -999,9,     -999,9,     -999,9,     -999,9,   1.4264,2,  27.7422,2,   1.6179,2
49UP20210719_2,   P03,    21,  1,     11,     323,2,20210805,0905, 954, 24.2623, 133.9967, 4903,   2907.7,    1.5806,  34.6654,2,    143.1,2,  34.6634,4,   143.57,2,   144.58,2,    36.51,2,     0.00,2,    2.520,2,     -999,9,     -999,9,   2327.0,2,   2411.8,2,   7.5689,2,    25.00,     -999,9,     -999,9,     -999,9,     -999,9,   1.3708,2,  27.7510,2,   1.5806,2
49UP20210719_2,   P03,    21,  1,     10,     322,2,20210805,0905, 949, 24.2623, 133.9967, 4903,   3122.8,    1.5550,  34.6700,2,    146.4,2,  34.6701,2,   146.78,2,   144.43,2,    36.34,2,     0.00,2,    2.510,2,     -999,9,     -999,9,   2331.4,2,   2412.2,2,   7.5750,6,    25.00,     -999,9,     -999,9,     -999,9,     -999,9,   1.3252,2,  27.7579,2,   1.5551,2
49UP20210719_2,   P03,    21,  1,      9,     750,2,20210805,0905, 943, 24.2623, 133.9967, 4903,   3378.1,    1.5305,  34.6750,2,    150.0,2,  34.6751,6,   149.95,2,   144.25,2,    36.09,2,     0.00,2,    2.490,2,     -999,9,     -999,9,   2323.8,6,   2412.0,6,   7.5792,2,    25.00,     -999,9,     -999,9,     -999,9,     -999,9,   1.2760,2,  27.7654,2,   1.5305,2
49UP20210719_2,   P03,    21,  1,      8,     320,2,20210805,0905, 936, 24.2623, 133.9967, 4903,   3634.0,    1.5298,  34.6776,2,    152.1,2,  34.6777,2,   152.33,6,   143.67,6,    35.99,6,     0.00,6,    2.480,6,     -999,9,     -999,9,   2322.9,2,   2412.6,2,   7.5828,2,    25.00,     -999,9,     -999,9,     -999,9,     -999,9,   1.2491,2,  27.7694,2,   1.5297,2
49UP20210719_2,   P03,    21,  1,      6,     318,2,20210805,0905, 931, 24.2623, 133.9967, 4903,   3888.5,    1.5366,  34.6798,2,    153.8,2,  34.6804,2,   154.17,2,   143.01,2,    35.93,2,     0.00,2,    2.470,2,     -999,9,     -999,9,   2323.6,2,   2411.9,2,   7.5833,2,    25.00,     -999,9,     -999,9,     -999,9,     -999,9,   1.2288,2,  27.7725,2,   1.5367,2
49UP20210719_2,   P03,    21,  1,      7,     319,2,20210805,0905, 931, 24.2623, 133.9967, 4903,   3888.8,    1.5368,  34.6798,2,    153.8,2,  34.6800,2,   154.19,2,   143.19,2,    35.97,2,     0.00,2,    2.470,2,     -999,9,     -999,9,   2324.1,2,   2410.2,2,   7.5825,2,    25.00,     -999,9,     -999,9,     -999,9,     -999,9,   1.2289,2,  27.7725,2,   1.5368,2
49UP20210719_2,   P03,    21,  1,      5,     317,2,20210805,0905, 925, 24.2623, 133.9967, 4903,   4145.6,    1.5542,  34.6808,2,    154.8,2,  34.6810,2,   154.95,2,   142.99,2,    35.95,2,     0.00,2,    2.470,2,    0.000,2,    0.000,2,   2321.0,2,   2413.0,2,   7.5833,2,    25.00,    0.005,2,   -0.023,2,     -999,9,     -999,9,   1.2178,2,  27.7741,2,   1.5541,2
49UP20210719_2,   P03,    21,  1,      4,     316,2,20210805,0905, 919, 24.2623, 133.9967, 4903,   4402.5,    1.5753,  34.6816,2,    155.5,2,  34.6813,2,   155.59,2,   142.59,2,    35.75,2,     0.00,2,    2.460,2,    0.000,2,    0.000,2,   2321.1,2,   2411.5,2,   7.5935,3,    25.00,    0.002,2,    0.039,2,     -999,9,     -999,9,   1.2093,2,  27.7753,2,   1.5752,2
49UP20210719_2,   P03,    21,  1,      3,     315,2,20210805,0905, 913, 24.2623, 133.9967, 4903,   4659.8,    1.6025,  34.6819,2,    155.9,2,  34.6819,2,   156.21,2,   142.77,2,    35.85,2,     0.00,2,    2.460,2,    0.000,2,    0.000,2,   2320.1,2,   2409.8,2,   7.5886,2,    25.00,    0.000,2,   -0.051,2,     -999,9,     -999,9,   1.2057,2,  27.7758,2,   1.6025,2
49UP20210719_2,   P03,    21,  1,      2,     314,2,20210805,0905, 908, 24.2623, 133.9967, 4903,   4914.7,    1.6313,  34.6820,2,    156.3,2,  34.6819,2,   156.31,2,   142.12,2,    35.76,2,     0.00,2,    2.460,2,    0.000,2,    0.000,2,   2319.4,2,   2411.6,2,   7.5875,2,    25.00,    0.000,2,    0.007,2,     -999,9,     -999,9,   1.2030,2,  27.7760,2,   1.6311,2
49UP20210719_2,   P03,    21,  1,      1,     811,2,20210805,0905, 905, 24.2623, 133.9967, 4903,   4996.5,    1.6396,  34.6821,2,    156.6,2,  34.6827,6,   156.53,2,   142.17,2,    35.74,2,     0.00,2,    2.460,2,    0.000,2,    0.000,2,   2322.9,2,   2410.0,2,   7.5881,2,    25.00,    0.000,2,    0.007,2,     -999,9,     -999,9,   1.2012,2,  27.7763,2,   1.6395,2