BOTTLE,20230808CCHSIOADS
EXPOCODE,SECT_ID,STNNBR,CASTNO,SAMPNO,BTLNBR,BTLNBR_FLAG_W,DATE,TIME,BTL_TIME,LATITUDE,LONGITUDE,DEPTH,CTDPRS,CTDTMP,CTDSAL,CTDSAL_FLAG_W,CTDOXY,CTDOXY_FLAG_W,SALNTY,SALNTY_FLAG_W,OXYGEN,OXYGEN_FLAG_W,SILCAT,SILCAT_FLAG_W,NO2+NO3,NO2+NO3_FLAG_W,NITRIT,NITRIT_FLAG_W,PHSPHT,PHSPHT_FLAG_W,CFC-11,CFC-11_FLAG_W,CFC-12,CFC-12_FLAG_W,TCARBN,TCARBN_FLAG_W,ALKALI,ALKALI_FLAG_W,PH_TOT,PH_TOT_FLAG_W,PH_TMP,CFC113,CFC113_FLAG_W,SF6,SF6_FLAG_W,CHLORA,CHLORA_FLAG_W,PPHYTN,PPHYTN_FLAG_W,THETA,THETA_FLAG_W,SIG0,SIG0_FLAG_W,SBE35,SBE35_FLAG_W
,,,,,,,,,,,,METERS,DBAR,ITS-90,PSS-78,,UMOL/KG,,PSS78,,UMOL/KG,,UMOL/KG,,UMOL/KG,,UMOL/KG,,UMOL/KG,,PMOL/KG,,PMOL/KG,,UMOL/KG,,UMOL/KG,,,,DEG C,PMOL/KG,,FMOL/KG,,UG/KG,,UG/KG,,ITS-90,,KG/M^3,,ITS-90,
49UP20210920_1,   P03,    80,  1,      0,     BUC,2,20211001,1438,1650, 24.2402, 171.9040, 5776,      0.0,   28.7053,  35.2708,2,    198.4,2,     -999,9,   197.93,2,     1.03,2,     0.07,2,     0.00,2,    0.020,2,     -999,9,     -999,9,     -999,9,     -999,9,     -999,9,     -999,     -999,9,     -999,9,     -999,9,     -999,9,  28.7047,2,  22.3659,2,     -999,9
49UP20210920_1,   P03,    80,  1,     36,     757,2,20211001,1438,1715, 24.2402, 171.9040, 5776,      9.4,   28.7310,  35.2707,2,    198.3,2,     -999,9,   197.69,6,     1.07,6,     0.07,6,     0.00,6,    0.010,6,     -999,9,     -999,9,     -999,9,     -999,9,     -999,9,     -999,     -999,9,     -999,9,     -999,9,     -999,9,  28.7287,2,  22.3579,2,  28.7338,2
49UP20210920_1,   P03,    80,  1,     35,     756,2,20211001,1438,1710, 24.2402, 171.9040, 5776,     52.3,   28.6412,  35.2654,2,    197.8,2,     -999,9,   198.42,2,     1.06,2,     0.05,2,     0.00,2,    0.000,2,     -999,9,     -999,9,     -999,9,     -999,9,     -999,9,     -999,     -999,9,     -999,9,     -999,9,     -999,9,  28.6286,2,  22.3871,2,  28.6402,2
49UP20210920_1,   P03,    80,  1,     34,     843,2,20211001,1438,1708, 24.2402, 171.9040, 5776,     99.7,   23.6510,  35.2241,2,    217.3,2,     -999,9,   217.32,2,     1.58,2,     0.06,2,     0.00,2,    0.020,2,     -999,9,     -999,9,     -999,9,     -999,9,     -999,9,     -999,     -999,9,     -999,9,     -999,9,     -999,9,  23.6302,2,  23.9201,2,  23.6539,2
49UP20210920_1,   P03,    80,  1,     33,     842,2,20211001,1438,1706, 24.2402, 171.9040, 5776,    151.0,   19.5571,  34.9563,2,    205.3,2,     -999,9,   204.56,2,     2.42,2,     0.93,2,     0.03,2,    0.110,2,     -999,9,     -999,9,     -999,9,     -999,9,     -999,9,     -999,     -999,9,     -999,9,     -999,9,     -999,9,  19.5296,2,  24.8514,2,  19.5921,2
49UP20210920_1,   P03,    80,  1,     32,     841,2,20211001,1438,1703, 24.2402, 171.9040, 5776,    201.9,   17.2250,  34.7421,2,    206.3,2,     -999,9,   206.28,2,     4.18,2,     4.37,2,     0.00,2,    0.300,2,     -999,9,     -999,9,     -999,9,     -999,9,     -999,9,     -999,     -999,9,     -999,9,     -999,9,     -999,9,  17.1914,2,  25.2707,2,  17.2253,2
49UP20210920_1,   P03,    80,  1,     31,     840,2,20211001,1438,1701, 24.2402, 171.9040, 5776,    251.2,   16.0746,  34.6480,2,    204.2,2,     -999,9,   204.19,2,     6.15,2,     6.26,2,     0.00,2,    0.430,2,     -999,9,     -999,9,     -999,9,     -999,9,     -999,9,     -999,     -999,9,     -999,9,     -999,9,     -999,9,  16.0347,2,  25.4689,2,  16.0742,2
49UP20210920_1,   P03,    80,  1,     30,     839,2,20211001,1438,1658, 24.2402, 171.9040, 5776,    303.1,   14.7118,  34.5258,2,    203.8,2,     -999,9,   204.01,2,     8.55,2,     8.28,2,     0.00,2,    0.570,2,     -999,9,     -999,9,     -999,9,     -999,9,     -999,9,     -999,     -999,9,     -999,9,     -999,9,     -999,9,  14.6665,2,  25.6788,2,  14.6852,2
49UP20210920_1,   P03,    80,  1,     29,     838,2,20211001,1438,1655, 24.2402, 171.9040, 5776,    405.2,   11.6730,  34.2679,2,    198.7,2,     -999,9,   199.02,2,    15.95,2,    13.64,2,     0.00,2,    0.960,2,     -999,9,     -999,9,     -999,9,     -999,9,     -999,9,     -999,     -999,9,     -999,9,     -999,9,     -999,9,  11.6210,2,  26.0917,2,  11.6749,2
49UP20210920_1,   P03,    80,  1,     28,     755,2,20211001,1438,1652, 24.2402, 171.9040, 5776,    505.9,    8.8372,  34.1041,2,    164.9,2,     -999,9,   164.67,2,    32.98,2,    22.29,2,     0.00,2,    1.580,2,     -999,9,     -999,9,     -999,9,     -999,9,     -999,9,     -999,     -999,9,     -999,9,     -999,9,     -999,9,   8.7826,2,  26.4509,2,   8.8517,2
49UP20210920_1,   P03,    80,  1,     27,     754,2,20211001,1438,1649, 24.2402, 171.9040, 5776,    603.9,    6.8088,  34.0798,2,    109.6,2,     -999,9,   109.30,6,    56.66,6,    31.14,6,     0.00,6,    2.230,6,     -999,9,     -999,9,     -999,9,     -999,9,     -999,9,     -999,     -999,9,     -999,9,     -999,9,     -999,9,   6.7523,2,  26.7276,2,   6.8085,2
49UP20210920_1,   P03,    80,  1,     26,     835,2,20211001,1438,1646, 24.2402, 171.9040, 5776,    705.1,    5.4333,  34.1330,2,     69.8,2,     -999,9,    69.73,2,    79.37,2,    37.05,2,     0.00,2,    2.670,2,     -999,9,     -999,9,     -999,9,     -999,9,     -999,9,     -999,     -999,9,     -999,9,     -999,9,     -999,9,   5.3741,2,  26.9442,2,   5.4337,2
49UP20210920_1,   P03,    80,  1,     25,     834,2,20211001,1438,1643, 24.2402, 171.9040, 5776,    806.5,    4.4645,  34.2324,2,     43.8,2,     -999,9,    44.01,2,   101.06,2,    40.71,2,     0.00,2,    2.930,2,     -999,9,     -999,9,     -999,9,     -999,9,     -999,9,     -999,     -999,9,     -999,9,     -999,9,     -999,9,   4.4021,2,  27.1332,2,   4.4644,2
49UP20210920_1,   P03,    80,  1,     24,     753,2,20211001,1438,1640, 24.2402, 171.9040, 5776,    908.4,    4.0546,  34.3126,2,     37.5,2,     -999,9,    38.42,2,   112.09,2,    41.90,2,     0.00,2,    3.010,2,     -999,9,     -999,9,     -999,9,     -999,9,     -999,9,     -999,     -999,9,     -999,9,     -999,9,     -999,9,   3.9865,2,  27.2407,2,   4.0548,2
49UP20210920_1,   P03,    80,  1,     23,     832,2,20211001,1438,1636, 24.2402, 171.9040, 5776,   1008.1,    3.6325,  34.3834,2,     37.0,2,     -999,9,    37.46,2,   122.46,2,    42.32,2,     0.00,2,    3.030,2,     -999,9,     -999,9,     -999,9,     -999,9,     -999,9,     -999,     -999,9,     -999,9,     -999,9,     -999,9,   3.5593,2,  27.3400,2,   3.6326,2
49UP20210920_1,   P03,    80,  1,     22,     831,2,20211001,1438,1631, 24.2402, 171.9040, 5776,   1211.1,    3.1702,  34.4956,2,     58.7,2,     -999,9,    59.08,2,   130.88,2,    41.28,2,     0.00,2,    2.940,2,     -999,9,     -999,9,     -999,9,     -999,9,     -999,9,     -999,     -999,9,     -999,9,     -999,9,     -999,9,   3.0844,2,  27.4747,2,   3.1700,2
49UP20210920_1,   P03,    80,  1,     21,     830,2,20211001,1438,1626, 24.2402, 171.9040, 5776,   1413.9,    2.7585,  34.5410,2,     70.4,2,     -999,9,    70.00,2,   139.07,2,    40.79,2,     0.00,2,    2.900,2,     -999,9,     -999,9,     -999,9,     -999,9,     -999,9,     -999,     -999,9,     -999,9,     -999,9,     -999,9,   2.6605,2,  27.5490,2,   2.7586,2
49UP20210920_1,   P03,    80,  1,     20,     829,2,20211001,1438,1621, 24.2402, 171.9040, 5776,   1616.8,    2.4151,  34.5765,2,     81.4,2,     -999,9,    81.53,2,   145.22,2,    40.31,2,     0.00,2,    2.860,2,     -999,9,     -999,9,     -999,9,     -999,9,     -999,9,     -999,     -999,9,     -999,9,     -999,9,     -999,9,   2.3047,2,  27.6077,2,   2.4155,2
49UP20210920_1,   P03,    80,  1,     19,     828,2,20211001,1438,1616, 24.2402, 171.9040, 5776,   1819.5,    2.1555,  34.6004,2,     90.6,2,     -999,9,    90.64,2,   150.54,2,    39.95,2,     0.00,2,    2.820,2,     -999,9,     -999,9,     -999,9,     -999,9,     -999,9,     -999,     -999,9,     -999,9,     -999,9,     -999,9,   2.0319,2,  27.6490,2,   2.1555,2
49UP20210920_1,   P03,    80,  1,     18,     752,2,20211001,1438,1611, 24.2402, 171.9040, 5776,   2024.7,    1.9634,  34.6204,2,    100.3,2,     -999,9,   100.45,6,   153.26,6,    39.36,6,     0.00,6,    2.770,6,     -999,9,     -999,9,     -999,9,     -999,9,     -999,9,     -999,     -999,9,     -999,9,     -999,9,     -999,9,   1.8255,2,  27.6812,2,   1.9633,2
49UP20210920_1,   P03,    80,  1,     17,     751,2,20211001,1438,1606, 24.2402, 171.9040, 5776,   2226.1,    1.8335,  34.6336,2,    108.1,2,     -999,9,   107.75,2,   154.51,2,    38.90,2,     0.00,2,    2.730,2,     -999,9,     -999,9,     -999,9,     -999,9,     -999,9,     -999,     -999,9,     -999,9,     -999,9,     -999,9,   1.6805,2,  27.7027,2,   1.8337,2
49UP20210920_1,   P03,    80,  1,     16,     328,2,20211001,1438,1601, 24.2402, 171.9040, 5776,   2429.8,    1.7321,  34.6446,2,    115.7,2,     -999,9,   115.41,2,   154.65,2,    38.43,2,     0.00,2,    2.690,2,     -999,9,     -999,9,     -999,9,     -999,9,     -999,9,     -999,     -999,9,     -999,9,     -999,9,     -999,9,   1.5630,2,  27.7203,2,   1.7324,2
49UP20210920_1,   P03,    80,  1,     15,     822,2,20211001,1438,1555, 24.2402, 171.9040, 5776,   2632.6,    1.6589,  34.6535,2,    121.9,2,     -999,9,   121.88,2,   154.95,2,    37.98,2,     0.00,2,    2.660,2,     -999,9,     -999,9,     -999,9,     -999,9,     -999,9,     -999,     -999,9,     -999,9,     -999,9,     -999,9,   1.4731,2,  27.7341,2,   1.6591,2
49UP20210920_1,   P03,    80,  1,     14,     326,2,20211001,1438,1550, 24.2402, 171.9040, 5776,   2836.5,    1.6091,  34.6598,2,    127.7,2,     -999,9,   127.67,2,   154.48,2,    37.61,2,     0.00,2,    2.630,2,     -999,9,     -999,9,     -999,9,     -999,9,     -999,9,     -999,     -999,9,     -999,9,     -999,9,     -999,9,   1.4055,2,  27.7440,2,   1.6091,2
49UP20210920_1,   P03,    80,  1,     13,     325,2,20211001,1438,1545, 24.2402, 171.9040, 5776,   3040.6,    1.5651,  34.6659,2,    133.2,2,     -999,9,   133.32,2,   153.59,2,    37.29,2,     0.00,2,    2.600,2,     -999,9,     -999,9,     -999,9,     -999,9,     -999,9,     -999,     -999,9,     -999,9,     -999,9,     -999,9,   1.3430,2,  27.7533,2,   1.5652,2
49UP20210920_1,   P03,    80,  1,     12,     324,2,20211001,1438,1540, 24.2402, 171.9040, 5776,   3296.4,    1.5229,  34.6716,2,    139.0,2,     -999,9,   139.30,2,   152.75,2,    36.92,2,     0.00,2,    2.570,2,     -999,9,     -999,9,     -999,9,     -999,9,     -999,9,     -999,     -999,9,     -999,9,     -999,9,     -999,9,   1.2767,2,  27.7626,2,   1.5229,2
49UP20210920_1,   P03,    80,  1,     11,     323,2,20211001,1438,1534, 24.2402, 171.9040, 5776,   3550.4,    1.4973,  34.6760,2,    144.1,2,     -999,9,   144.02,2,   151.64,2,    36.58,2,     0.00,2,    2.540,2,     -999,9,     -999,9,     -999,9,     -999,9,     -999,9,     -999,     -999,9,     -999,9,     -999,9,     -999,9,   1.2261,2,  27.7697,2,   1.4972,2
49UP20210920_1,   P03,    80,  1,     10,     322,2,20211001,1438,1528, 24.2402, 171.9040, 5776,   3806.3,    1.4753,  34.6804,2,    149.5,2,     -999,9,   149.74,2,   149.60,2,    36.19,2,     0.00,2,    2.510,2,     -999,9,     -999,9,     -999,9,     -999,9,     -999,9,     -999,     -999,9,     -999,9,     -999,9,     -999,9,   1.1779,2,  27.7765,2,   1.4753,2
49UP20210920_1,   P03,    80,  1,      9,     750,2,20211001,1438,1522, 24.2402, 171.9040, 5776,   4063.6,    1.4632,  34.6844,2,    155.5,2,     -999,9,   155.48,6,   146.76,6,    35.81,6,     0.00,6,    2.480,6,     -999,9,     -999,9,     -999,9,     -999,9,     -999,9,     -999,     -999,9,     -999,9,     -999,9,     -999,9,   1.1384,2,  27.7825,2,   1.4633,2
49UP20210920_1,   P03,    80,  1,      8,     320,2,20211001,1438,1517, 24.2402, 171.9040, 5776,   4318.9,    1.4502,  34.6877,2,    160.1,2,     -999,9,   160.18,2,   144.72,2,    35.46,2,     0.00,2,    2.460,2,     -999,9,     -999,9,     -999,9,     -999,9,     -999,9,     -999,     -999,9,     -999,9,     -999,9,     -999,9,   1.0974,2,  27.7878,2,   1.4503,2
49UP20210920_1,   P03,    80,  1,      7,     319,2,20211001,1438,1511, 24.2402, 171.9040, 5776,   4577.3,    1.4415,  34.6908,2,    166.0,2,     -999,9,   165.99,2,   140.92,2,    35.06,2,     0.00,2,    2.430,2,     -999,9,     -999,9,     -999,9,     -999,9,     -999,9,     -999,     -999,9,     -999,9,     -999,9,     -999,9,   1.0594,2,  27.7930,2,   1.4416,2
49UP20210920_1,   P03,    80,  1,      6,     318,2,20211001,1438,1505, 24.2402, 171.9040, 5776,   4834.2,    1.4383,  34.6934,2,    170.7,2,     -999,9,   170.43,2,   138.27,2,    34.74,2,     0.00,2,    2.400,2,     -999,9,     -999,9,     -999,9,     -999,9,     -999,9,     -999,     -999,9,     -999,9,     -999,9,     -999,9,   1.0261,2,  27.7972,2,   1.4383,2
49UP20210920_1,   P03,    80,  1,      5,     317,2,20211001,1438,1459, 24.2402, 171.9040, 5776,   5090.7,    1.4441,  34.6953,2,    174.2,2,     -999,9,   174.15,2,   135.89,2,    34.44,2,     0.00,2,    2.380,2,     -999,9,     -999,9,     -999,9,     -999,9,     -999,9,     -999,     -999,9,     -999,9,     -999,9,     -999,9,   1.0006,2,  27.8005,2,   1.4441,2
49UP20210920_1,   P03,    80,  1,      4,     316,2,20211001,1438,1453, 24.2402, 171.9040, 5776,   5348.3,    1.4564,  34.6969,2,    176.8,2,     -999,9,   177.12,2,   134.30,2,    34.25,2,     0.00,2,    2.360,2,     -999,9,     -999,9,     -999,9,     -999,9,     -999,9,     -999,     -999,9,     -999,9,     -999,9,     -999,9,   0.9806,2,  27.8031,2,   1.4565,2
49UP20210920_1,   P03,    80,  1,      3,     315,2,20211001,1438,1448, 24.2402, 171.9040, 5776,   5606.7,    1.4783,  34.6977,2,    178.3,2,     -999,9,   178.33,2,   133.37,2,    34.13,2,     0.00,2,    2.360,2,     -999,9,     -999,9,     -999,9,     -999,9,     -999,9,     -999,     -999,9,     -999,9,     -999,9,     -999,9,   0.9688,2,  27.8045,2,   1.4781,2
49UP20210920_1,   P03,    80,  1,      2,     314,2,20211001,1438,1442, 24.2402, 171.9040, 5776,   5865.3,    1.5001,  34.6986,2,    180.1,2,     -999,9,   180.16,2,   132.48,2,    33.97,2,     0.00,2,    2.350,2,     -999,9,     -999,9,     -999,9,     -999,9,     -999,9,     -999,     -999,9,     -999,9,     -999,9,     -999,9,   0.9560,2,  27.8061,2,   1.5001,2
49UP20210920_1,   P03,    80,  1,      1,     811,2,20211001,1438,1439, 24.2402, 171.9040, 5776,   5930.4,    1.5074,  34.6987,2,    180.4,2,     -999,9,   180.37,2,   132.30,2,    34.00,2,     0.00,2,    2.350,2,     -999,9,     -999,9,     -999,9,     -999,9,     -999,9,     -999,     -999,9,     -999,9,     -999,9,     -999,9,   0.9545,2,  27.8063,2,   1.5073,2