BOTTLE,20230808CCHSIOADS
EXPOCODE,SECT_ID,STNNBR,CASTNO,SAMPNO,BTLNBR,BTLNBR_FLAG_W,DATE,TIME,BTL_TIME,LATITUDE,LONGITUDE,DEPTH,CTDPRS,CTDTMP,CTDSAL,CTDSAL_FLAG_W,CTDOXY,CTDOXY_FLAG_W,SALNTY,SALNTY_FLAG_W,OXYGEN,OXYGEN_FLAG_W,SILCAT,SILCAT_FLAG_W,NO2+NO3,NO2+NO3_FLAG_W,NITRIT,NITRIT_FLAG_W,PHSPHT,PHSPHT_FLAG_W,CFC-11,CFC-11_FLAG_W,CFC-12,CFC-12_FLAG_W,TCARBN,TCARBN_FLAG_W,ALKALI,ALKALI_FLAG_W,PH_TOT,PH_TOT_FLAG_W,PH_TMP,CFC113,CFC113_FLAG_W,SF6,SF6_FLAG_W,CHLORA,CHLORA_FLAG_W,PPHYTN,PPHYTN_FLAG_W,THETA,THETA_FLAG_W,SIG0,SIG0_FLAG_W,SBE35,SBE35_FLAG_W
,,,,,,,,,,,,METERS,DBAR,ITS-90,PSS-78,,UMOL/KG,,PSS78,,UMOL/KG,,UMOL/KG,,UMOL/KG,,UMOL/KG,,UMOL/KG,,PMOL/KG,,PMOL/KG,,UMOL/KG,,UMOL/KG,,,,DEG C,PMOL/KG,,FMOL/KG,,UG/KG,,UG/KG,,ITS-90,,KG/M^3,,ITS-90,
49UP20210827_1,   P03,    46,  1,      0,     BUC,2,20210901,0415, 625, 24.2703, 146.6605, 5820,      0.0,   29.6034,  34.5684,2,    197.1,2,     -999,9,   196.99,2,     1.23,2,     0.03,2,     0.00,2,    0.040,2,     -999,9,     -999,9,     -999,9,     -999,9,     -999,9,     -999,     -999,9,     -999,9,     -999,9,     -999,9,  29.6028,2,  21.5375,2,     -999,9
49UP20210827_1,   P03,    46,  1,     36,     757,2,20210901,0415, 657, 24.2703, 146.6605, 5820,      9.9,   29.5890,  34.5675,2,    197.3,2,     -999,9,   197.08,2,     1.23,2,     0.00,2,     0.00,2,    0.010,2,     -999,9,     -999,9,     -999,9,     -999,9,     -999,9,     -999,     -999,9,     -999,9,     -999,9,     -999,9,  29.5865,2,  21.5423,2,  29.5856,2
49UP20210827_1,   P03,    46,  1,     35,     756,2,20210901,0415, 653, 24.2703, 146.6605, 5820,     52.5,   24.0598,  34.6895,2,    227.3,2,     -999,9,   226.91,2,     1.47,2,     0.00,2,     0.00,2,    0.000,2,     -999,9,     -999,9,     -999,9,     -999,9,     -999,9,     -999,     -999,9,     -999,9,     -999,9,     -999,9,  24.0487,2,  23.3919,2,  24.0642,2
49UP20210827_1,   P03,    46,  1,     34,     843,2,20210901,0415, 651, 24.2703, 146.6605, 5820,    102.6,   20.1134,  34.8240,2,    219.7,2,     -999,9,   220.25,2,     2.01,2,     0.01,2,     0.01,2,    0.030,2,     -999,9,     -999,9,     -999,9,     -999,9,     -999,9,     -999,     -999,9,     -999,9,     -999,9,     -999,9,  20.0944,2,  24.6026,2,  20.1154,2
49UP20210827_1,   P03,    46,  1,     33,     842,2,20210901,0415, 649, 24.2703, 146.6605, 5820,    149.9,   18.5585,  34.7847,2,    208.9,2,     -999,9,   208.87,2,     2.85,2,     2.51,2,     0.02,2,    0.180,2,     -999,9,     -999,9,     -999,9,     -999,9,     -999,9,     -999,     -999,9,     -999,9,     -999,9,     -999,9,  18.5322,2,  24.9749,2,  18.5595,2
49UP20210827_1,   P03,    46,  1,     32,     841,2,20210901,0415, 648, 24.2703, 146.6605, 5820,    202.9,   17.6625,  34.7644,2,    214.0,2,     -999,9,   213.74,2,     3.50,2,     3.42,2,     0.01,2,    0.230,2,     -999,9,     -999,9,     -999,9,     -999,9,     -999,9,     -999,     -999,9,     -999,9,     -999,9,     -999,9,  17.6281,2,  25.1826,2,  17.6618,2
49UP20210827_1,   P03,    46,  1,     31,     840,2,20210901,0415, 646, 24.2703, 146.6605, 5820,    251.4,   16.9992,  34.7364,2,    203.9,2,     -999,9,   203.87,2,     5.12,2,     5.40,2,     0.00,2,    0.360,2,     -999,9,     -999,9,     -999,9,     -999,9,     -999,9,     -999,     -999,9,     -999,9,     -999,9,     -999,9,  16.9577,2,  25.3220,2,  17.0029,2
49UP20210827_1,   P03,    46,  1,     30,     839,2,20210901,0415, 643, 24.2703, 146.6605, 5820,    302.3,   15.4189,  34.6106,2,    191.0,2,     -999,9,   190.94,6,     9.25,6,     8.99,6,     0.00,6,    0.600,6,     -999,9,     -999,9,     -999,9,     -999,9,     -999,9,     -999,     -999,9,     -999,9,     -999,9,     -999,9,  15.3723,2,  25.5895,2,  15.4198,2
49UP20210827_1,   P03,    46,  1,     29,     838,2,20210901,0415, 640, 24.2703, 146.6605, 5820,    403.1,   12.3011,  34.3532,2,    187.4,2,     -999,9,   186.83,2,    16.87,2,    14.03,2,     0.00,2,    0.970,2,     -999,9,     -999,9,     -999,9,     -999,9,     -999,9,     -999,     -999,9,     -999,9,     -999,9,     -999,9,  12.2475,2,  26.0394,2,  12.3120,2
49UP20210827_1,   P03,    46,  1,     28,     755,2,20210901,0415, 637, 24.2703, 146.6605, 5820,    504.3,    9.4064,  34.1596,2,    168.1,2,     -999,9,   169.02,2,    31.61,2,    20.98,2,     0.00,2,    1.480,2,     -999,9,     -999,9,     -999,9,     -999,9,     -999,9,     -999,     -999,9,     -999,9,     -999,9,     -999,9,   9.3497,2,  26.4037,2,   9.4084,2
49UP20210827_1,   P03,    46,  1,     27,     754,3,20210901,0415, 634, 24.2703, 146.6605, 5820,    607.4,    7.3864,  34.0857,2,    131.8,2,     -999,9,   131.61,2,    49.90,2,    28.14,2,     0.00,2,    2.010,2,     -999,9,     -999,9,     -999,9,     -999,9,     -999,9,     -999,     -999,9,     -999,9,     -999,9,     -999,9,   7.3269,2,  26.6531,2,   7.3865,2
49UP20210827_1,   P03,    46,  1,     26,     835,2,20210901,0415, 631, 24.2703, 146.6605, 5820,    706.7,    5.7695,  34.1248,2,     86.4,2,     -999,9,    86.03,2,    74.06,2,    35.17,2,     0.00,2,    2.530,2,     -999,9,     -999,9,     -999,9,     -999,9,     -999,9,     -999,     -999,9,     -999,9,     -999,9,     -999,9,   5.7085,2,  26.8974,2,   5.7696,2
49UP20210827_1,   P03,    46,  1,     25,     834,2,20210901,0415, 627, 24.2703, 146.6605, 5820,    806.9,    4.8245,  34.2100,2,     62.5,2,     -999,9,    62.26,2,    93.71,2,    38.78,2,     0.00,2,    2.780,2,     -999,9,     -999,9,     -999,9,     -999,9,     -999,9,     -999,     -999,9,     -999,9,     -999,9,     -999,9,   4.7599,2,  27.0761,2,   4.8242,2
49UP20210827_1,   P03,    46,  1,     24,     753,2,20210901,0415, 624, 24.2703, 146.6605, 5820,    908.6,    4.2480,  34.2943,2,     51.2,2,     -999,9,    51.01,2,   107.55,2,    40.64,2,     0.00,2,    2.920,2,     -999,9,     -999,9,     -999,9,     -999,9,     -999,9,     -999,     -999,9,     -999,9,     -999,9,     -999,9,   4.1785,2,  27.2062,2,   4.2480,2
49UP20210827_1,   P03,    46,  1,     23,     832,2,20210901,0415, 619, 24.2703, 146.6605, 5820,   1008.8,    3.7746,  34.3657,2,     49.0,2,     -999,9,    48.52,2,   119.16,2,    41.37,2,     0.00,2,    2.960,2,     -999,9,     -999,9,     -999,9,     -999,9,     -999,9,     -999,     -999,9,     -999,9,     -999,9,     -999,9,   3.7002,2,  27.3120,2,   3.7740,2
49UP20210827_1,   P03,    46,  1,     22,     831,2,20210901,0415, 614, 24.2703, 146.6605, 5820,   1211.5,    2.9914,  34.4564,2,     49.5,2,     -999,9,    49.46,2,   139.04,2,    42.22,2,     0.00,2,    3.000,2,     -999,9,     -999,9,     -999,9,     -999,9,     -999,9,     -999,     -999,9,     -999,9,     -999,9,     -999,9,   2.9073,2,  27.4595,2,   2.9917,2
49UP20210827_1,   P03,    46,  1,     21,     830,2,20210901,0415, 609, 24.2703, 146.6605, 5820,   1413.2,    2.6342,  34.5053,2,     58.3,2,     -999,9,    58.01,6,   146.82,6,    41.93,6,     0.00,6,    2.960,6,     -999,9,     -999,9,     -999,9,     -999,9,     -999,9,     -999,     -999,9,     -999,9,     -999,9,     -999,9,   2.5377,2,  27.5311,2,   2.6342,2
49UP20210827_1,   P03,    46,  1,     20,     829,2,20210901,0415, 604, 24.2703, 146.6605, 5820,   1617.3,    2.3071,  34.5549,2,     75.9,2,     -999,9,    76.21,2,   150.98,2,    40.91,2,     0.00,2,    2.880,2,     -999,9,     -999,9,     -999,9,     -999,9,     -999,9,     -999,     -999,9,     -999,9,     -999,9,     -999,9,   2.1981,2,  27.5992,2,   2.3074,2
49UP20210827_1,   P03,    46,  1,     19,     828,2,20210901,0415, 559, 24.2703, 146.6605, 5820,   1819.9,    2.0721,  34.5901,2,     91.6,2,     -999,9,    91.78,2,   151.99,2,    40.00,2,     0.00,2,    2.810,2,     -999,9,     -999,9,     -999,9,     -999,9,     -999,9,     -999,     -999,9,     -999,9,     -999,9,     -999,9,   1.9496,2,  27.6473,2,   2.0724,2
49UP20210827_1,   P03,    46,  1,     18,     752,2,20210901,0415, 553, 24.2703, 146.6605, 5820,   2026.0,    1.8955,  34.6164,2,    105.3,2,     -999,9,   105.26,2,   152.51,2,    39.17,2,     0.00,2,    2.740,2,     -999,9,     -999,9,     -999,9,     -999,9,     -999,9,     -999,     -999,9,     -999,9,     -999,9,     -999,9,   1.7586,2,  27.6831,2,   1.8956,2
49UP20210827_1,   P03,    46,  1,     17,     751,2,20210901,0415, 548, 24.2703, 146.6605, 5820,   2226.1,    1.7849,  34.6323,2,    114.1,2,     -999,9,   114.26,2,   152.54,2,    38.67,2,     0.00,2,    2.700,2,     -999,9,     -999,9,     -999,9,     -999,9,     -999,9,     -999,     -999,9,     -999,9,     -999,9,     -999,9,   1.6327,2,  27.7053,2,   1.7847,2
49UP20210827_1,   P03,    46,  1,     16,     328,2,20210901,0415, 543, 24.2703, 146.6605, 5820,   2429.3,    1.7122,  34.6441,2,    121.1,2,     -999,9,   121.17,2,   152.47,2,    38.29,2,     0.00,2,    2.670,2,     -999,9,     -999,9,     -999,9,     -999,9,     -999,9,     -999,     -999,9,     -999,9,     -999,9,     -999,9,   1.5436,2,  27.7213,2,   1.7123,2
49UP20210827_1,   P03,    46,  1,     15,     822,2,20210901,0415, 538, 24.2703, 146.6605, 5820,   2633.9,    1.6582,  34.6529,2,    126.6,2,     -999,9,   126.39,2,   151.93,2,    37.92,2,     0.00,2,    2.640,2,     -999,9,     -999,9,     -999,9,     -999,9,     -999,9,     -999,     -999,9,     -999,9,     -999,9,     -999,9,   1.4723,2,  27.7337,2,   1.6582,2
49UP20210827_1,   P03,    46,  1,     14,     326,2,20210901,0415, 533, 24.2703, 146.6605, 5820,   2837.3,    1.6047,  34.6599,2,    131.4,2,     -999,9,   131.82,2,   151.99,2,    37.60,2,     0.00,2,    2.610,2,     -999,9,     -999,9,     -999,9,     -999,9,     -999,9,     -999,     -999,9,     -999,9,     -999,9,     -999,9,   1.4011,2,  27.7444,2,   1.6045,2
49UP20210827_1,   P03,    46,  1,     13,     325,2,20210901,0415, 528, 24.2703, 146.6605, 5820,   3041.4,    1.5671,  34.6653,2,    135.9,2,     -999,9,   135.92,2,   151.60,2,    37.33,2,     0.00,2,    2.590,2,     -999,9,     -999,9,     -999,9,     -999,9,     -999,9,     -999,     -999,9,     -999,9,     -999,9,     -999,9,   1.3449,2,  27.7527,2,   1.5671,2
49UP20210827_1,   P03,    46,  1,     12,     324,2,20210901,0415, 522, 24.2703, 146.6605, 5820,   3296.3,    1.5346,  34.6708,2,    140.7,2,     -999,9,   140.98,6,   150.80,6,    37.02,6,     0.00,6,    2.560,6,     -999,9,     -999,9,     -999,9,     -999,9,     -999,9,     -999,     -999,9,     -999,9,     -999,9,     -999,9,   1.2882,2,  27.7611,2,   1.5349,2
49UP20210827_1,   P03,    46,  1,     11,     323,2,20210901,0415, 516, 24.2703, 146.6605, 5820,   3552.1,    1.5079,  34.6756,2,    145.5,2,     -999,9,   145.74,2,   149.97,2,    36.69,2,     0.00,2,    2.540,2,     -999,9,     -999,9,     -999,9,     -999,9,     -999,9,     -999,     -999,9,     -999,9,     -999,9,     -999,9,   1.2363,2,  27.7686,2,   1.5080,2
49UP20210827_1,   P03,    46,  1,     10,     322,2,20210901,0415, 510, 24.2703, 146.6605, 5820,   3807.3,    1.4933,  34.6793,2,    149.9,2,     -999,9,   149.38,2,   148.58,2,    36.41,2,     0.00,2,    2.520,2,     -999,9,     -999,9,     -999,9,     -999,9,     -999,9,     -999,     -999,9,     -999,9,     -999,9,     -999,9,   1.1954,2,  27.7744,2,   1.4931,2
49UP20210827_1,   P03,    46,  1,      9,     750,2,20210901,0415, 504, 24.2703, 146.6605, 5820,   4064.7,    1.4837,  34.6825,2,    153.7,2,     -999,9,   153.98,2,   147.31,2,    36.17,2,     0.00,2,    2.500,2,     -999,9,     -999,9,     -999,9,     -999,9,     -999,9,     -999,     -999,9,     -999,9,     -999,9,     -999,9,   1.1582,2,  27.7796,2,   1.4837,2
49UP20210827_1,   P03,    46,  1,      8,     320,2,20210901,0415, 458, 24.2703, 146.6605, 5820,   4320.8,    1.4803,  34.6855,2,    157.5,2,     -999,9,   157.72,2,   145.77,2,    35.87,2,     0.00,2,    2.470,2,     -999,9,     -999,9,     -999,9,     -999,9,     -999,9,     -999,     -999,9,     -999,9,     -999,9,     -999,9,   1.1264,2,  27.7841,2,   1.4803,2
49UP20210827_1,   P03,    46,  1,      7,     319,2,20210901,0415, 451, 24.2703, 146.6605, 5820,   4577.7,    1.4850,  34.6876,2,    160.8,2,     -999,9,   160.89,2,   144.21,2,    35.66,2,     0.00,2,    2.460,2,     -999,9,     -999,9,     -999,9,     -999,9,     -999,9,     -999,     -999,9,     -999,9,     -999,9,     -999,9,   1.1015,2,  27.7875,2,   1.4851,2
49UP20210827_1,   P03,    46,  1,      6,     318,2,20210901,0415, 445, 24.2703, 146.6605, 5820,   4834.9,    1.4934,  34.6895,2,    163.8,2,     -999,9,   163.20,2,   142.45,2,    35.45,2,     0.00,2,    2.440,2,     -999,9,     -999,9,     -999,9,     -999,9,     -999,9,     -999,     -999,9,     -999,9,     -999,9,     -999,9,   1.0793,2,  27.7906,2,   1.4935,2
49UP20210827_1,   P03,    46,  1,      5,     317,2,20210901,0415, 439, 24.2703, 146.6605, 5820,   5092.9,    1.5079,  34.6912,2,    166.8,2,     -999,9,   166.53,2,   140.40,2,    35.19,2,     0.00,2,    2.420,2,     -999,9,     -999,9,     -999,9,     -999,9,     -999,9,     -999,     -999,9,     -999,9,     -999,9,     -999,9,   1.0620,2,  27.7930,2,   1.5079,2
49UP20210827_1,   P03,    46,  1,      4,     316,2,20210901,0415, 433, 24.2703, 146.6605, 5820,   5351.5,    1.5259,  34.6926,2,    169.2,2,     -999,9,   169.30,2,   138.97,2,    35.05,2,     0.00,2,    2.410,2,     -999,9,     -999,9,     -999,9,     -999,9,     -999,9,     -999,     -999,9,     -999,9,     -999,9,     -999,9,   1.0472,2,  27.7952,2,   1.5260,2
49UP20210827_1,   P03,    46,  1,      3,     315,2,20210901,0415, 426, 24.2703, 146.6605, 5820,   5610.9,    1.5459,  34.6938,2,    171.4,2,     -999,9,   171.18,6,   137.31,6,    34.86,6,     0.00,6,    2.400,6,     -999,9,     -999,9,     -999,9,     -999,9,     -999,9,     -999,     -999,9,     -999,9,     -999,9,     -999,9,   1.0334,2,  27.7971,2,   1.5461,2
49UP20210827_1,   P03,    46,  1,      2,     314,2,20210901,0415, 419, 24.2703, 146.6605, 5820,   5870.5,    1.5647,  34.6949,2,    173.9,2,     -999,9,   173.54,2,   135.34,2,    34.70,2,     0.00,2,    2.380,2,     -999,9,     -999,9,     -999,9,     -999,9,     -999,9,     -999,     -999,9,     -999,9,     -999,9,     -999,9,   1.0175,2,  27.7990,2,   1.5645,2
49UP20210827_1,   P03,    46,  1,      1,     811,2,20210901,0415, 415, 24.2703, 146.6605, 5820,   5980.0,    1.5764,  34.6953,2,    174.4,2,     -999,9,   173.91,2,   135.03,2,    34.68,2,     0.00,2,    2.380,2,     -999,9,     -999,9,     -999,9,     -999,9,     -999,9,     -999,     -999,9,     -999,9,     -999,9,     -999,9,   1.0142,2,  27.7995,2,   1.5764,2