BOTTLE,20230808CCHSIOADS
EXPOCODE,SECT_ID,STNNBR,CASTNO,SAMPNO,BTLNBR,BTLNBR_FLAG_W,DATE,TIME,BTL_TIME,LATITUDE,LONGITUDE,DEPTH,CTDPRS,CTDTMP,CTDSAL,CTDSAL_FLAG_W,CTDOXY,CTDOXY_FLAG_W,SALNTY,SALNTY_FLAG_W,OXYGEN,OXYGEN_FLAG_W,SILCAT,SILCAT_FLAG_W,NO2+NO3,NO2+NO3_FLAG_W,NITRIT,NITRIT_FLAG_W,PHSPHT,PHSPHT_FLAG_W,CFC-11,CFC-11_FLAG_W,CFC-12,CFC-12_FLAG_W,TCARBN,TCARBN_FLAG_W,ALKALI,ALKALI_FLAG_W,PH_TOT,PH_TOT_FLAG_W,PH_TMP,CFC113,CFC113_FLAG_W,SF6,SF6_FLAG_W,CHLORA,CHLORA_FLAG_W,PPHYTN,PPHYTN_FLAG_W,THETA,THETA_FLAG_W,SIG0,SIG0_FLAG_W,SBE35,SBE35_FLAG_W
,,,,,,,,,,,,METERS,DBAR,ITS-90,PSS-78,,UMOL/KG,,PSS78,,UMOL/KG,,UMOL/KG,,UMOL/KG,,UMOL/KG,,UMOL/KG,,PMOL/KG,,PMOL/KG,,UMOL/KG,,UMOL/KG,,,,DEG C,PMOL/KG,,FMOL/KG,,UG/KG,,UG/KG,,ITS-90,,KG/M^3,,ITS-90,
49UP20210719_2,   P03,    37,  1,      0,     BUC,2,20210811,1720,1821, 24.2462, 142.4377, 2883,      0.0,   28.5964,  34.2194,2,    198.7,2,  34.1944,2,   199.39,2,     0.85,2,     0.03,2,     0.00,2,    0.020,2,     -999,9,     -999,9,   1933.2,2,   2243.2,2,   8.0850,2,    25.00,     -999,9,     -999,9,     0.05,2,     0.02,2,  28.5958,2,  21.6123,2,     -999,9
49UP20210719_2,   P03,    37,  1,     36,     757,2,20210811,1720,1858, 24.2462, 142.4377, 2883,      9.9,   28.6358,  34.2314,2,    198.6,2,  34.2376,2,   198.95,2,     0.89,2,     0.04,2,     0.00,2,    0.000,2,     -999,9,     -999,9,   1937.0,2,   2248.7,2,   8.0841,2,    25.00,     -999,9,     -999,9,     0.04,2,     0.02,2,  28.6334,2,  21.6088,2,  28.6354,2
49UP20210719_2,   P03,    37,  1,     35,     756,2,20210811,1720,1856, 24.2462, 142.4377, 2883,     24.7,   28.1655,  34.4862,2,    199.2,2,  34.5017,4,   200.05,2,     0.96,2,     0.02,2,     0.00,2,    0.000,2,     -999,9,     -999,9,   1952.0,2,   2266.1,2,   8.0814,6,    25.00,     -999,9,     -999,9,     0.05,2,     0.02,2,  28.1597,2,  21.9561,2,  28.1468,2
49UP20210719_2,   P03,    37,  1,     34,     843,2,20210811,1720,1852, 24.2462, 142.4377, 2883,     49.9,   24.1273,  34.8184,2,    224.7,2,  34.8244,4,   224.33,2,     1.21,2,     0.01,2,     0.00,2,    0.000,2,     -999,9,     -999,9,   1985.2,6,   2287.7,6,   8.0571,2,    25.00,     -999,9,     -999,9,     0.08,2,     0.03,2,  24.1168,2,  23.4693,2,  24.1227,2
49UP20210719_2,   P03,    37,  1,     30,     839,2,20210811,1720,1850, 24.2462, 142.4377, 2883,     75.1,   21.3103,  34.8522,2,    224.4,2,  34.8529,2,   224.16,2,     1.51,2,     0.01,2,     0.00,2,    0.000,2,     -999,9,     -999,9,   2003.1,2,   2291.2,2,   8.0272,2,    25.00,     -999,9,     -999,9,     0.16,2,     0.10,2,  21.2958,2,  24.3007,2,  21.3109,2
49UP20210719_2,   P03,    37,  1,     29,     838,2,20210811,1720,1848, 24.2462, 142.4377, 2883,    100.7,   19.9414,  34.8438,2,    217.9,2,  34.8427,2,   217.80,2,     1.60,2,     0.05,2,     0.02,2,    0.030,2,     -999,9,     -999,9,   2016.2,2,   2288.3,2,   8.0027,2,    25.00,     -999,9,     -999,9,     0.28,2,     0.46,2,  19.9229,2,  24.6628,2,  19.9338,2
49UP20210719_2,   P03,    37,  1,     28,     755,2,20210811,1720,1846, 24.2462, 142.4377, 2883,    127.4,   19.0584,  34.8058,2,    213.9,2,  34.8042,2,   213.36,2,     1.99,2,     1.36,2,     0.05,2,    0.100,2,     -999,9,     -999,9,   2023.4,2,   2286.1,2,   7.9853,2,    25.00,     -999,9,     -999,9,     0.17,2,     0.36,2,  19.0357,2,  24.8636,2,  19.0655,2
49UP20210719_2,   P03,    37,  1,     27,     754,3,20210811,1720,1844, 24.2462, 142.4377, 2883,    152.6,   18.1761,  34.7697,2,    218.4,2,  34.7690,2,   218.30,2,     2.42,2,     2.18,2,     0.01,2,    0.140,2,     -999,9,     -999,9,   2025.4,2,   2284.1,2,   7.9744,2,    25.00,     -999,9,     -999,9,     0.02,2,     0.03,2,  18.1497,2,  25.0587,2,  18.1776,2
49UP20210719_2,   P03,    37,  1,     26,     835,2,20210811,1720,1842, 24.2462, 142.4377, 2883,    204.4,   17.7390,  34.7782,2,    219.7,2,  34.7783,2,   219.86,2,     3.00,2,     2.96,2,     0.01,2,    0.190,2,     -999,9,     -999,9,   2029.9,2,   2284.8,2,   7.9682,2,    25.00,     -999,9,     -999,9,     0.00,2,     0.01,2,  17.7043,2,  25.1746,2,  17.7385,2
49UP20210719_2,   P03,    37,  1,     25,     834,2,20210811,1720,1839, 24.2462, 142.4377, 2883,    251.0,   17.3585,  34.7623,2,    219.3,2,  34.7614,2,   219.64,2,     3.61,2,     3.57,2,     0.01,2,    0.230,2,     -999,9,     -999,9,   2034.7,2,   2284.6,2,   7.9616,2,    25.00,     -999,9,     -999,9,     -999,9,     -999,9,  17.3164,2,  25.2562,2,  17.3594,2
49UP20210719_2,   P03,    37,  1,     24,     753,2,20210811,1720,1838, 24.2462, 142.4377, 2883,    283.3,   17.1526,  34.7560,2,    216.9,2,  34.7552,2,   217.02,6,     4.14,6,     4.10,6,     0.01,6,    0.270,6,     -999,9,     -999,9,   2041.2,2,   2285.9,2,   7.9496,2,    25.00,     -999,9,     -999,9,     -999,9,     -999,9,  17.1055,2,  25.3018,2,  17.1518,2
49UP20210719_2,   P03,    37,  1,     22,     831,2,20210811,1720,1834, 24.2462, 142.4377, 2883,    374.5,   14.5934,  34.5435,2,    188.7,2,  34.5479,4,   189.04,2,    11.10,2,    10.35,2,     0.00,2,    0.690,2,     -999,9,     -999,9,   2085.2,2,   2275.9,2,   7.8480,2,    25.00,     -999,9,     -999,9,     -999,9,     -999,9,  14.5377,2,  25.7202,2,  14.5937,2
49UP20210719_2,   P03,    37,  1,     23,     832,2,20210811,1720,1835, 24.2462, 142.4377, 2883,    374.9,   14.5876,  34.5431,2,    188.7,2,  34.5464,2,   188.95,2,    11.10,2,    10.39,2,     0.00,2,    0.700,2,     -999,9,     -999,9,   2085.2,2,   2276.0,2,   7.8543,3,    25.00,     -999,9,     -999,9,     -999,9,     -999,9,  14.5318,2,  25.7212,2,  14.5869,2
49UP20210719_2,   P03,    37,  1,     21,     830,2,20210811,1720,1831, 24.2462, 142.4377, 2883,    473.2,   11.5046,  34.3023,2,    182.7,2,  34.3002,6,   181.82,2,    21.03,2,    16.08,2,     0.00,2,    1.110,2,     -999,9,     -999,9,   2122.8,2,   2272.2,2,   7.7551,2,    25.00,     -999,9,     -999,9,     -999,9,     -999,9,  11.4443,2,  26.1512,2,  11.5097,2
49UP20210719_2,   P03,    37,  1,     20,     829,2,20210811,1720,1828, 24.2462, 142.4377, 2883,    575.8,    8.4321,  34.1416,2,    141.1,2,  34.1413,2,   139.22,2,    41.48,2,    25.43,2,     0.00,2,    1.810,2,     -999,9,     -999,9,   2188.2,2,   2282.0,2,   7.6040,2,    25.00,     -999,9,     -999,9,     -999,9,     -999,9,   8.3713,2,  26.5439,2,   8.4288,2
49UP20210719_2,   P03,    37,  1,     19,     828,2,20210811,1720,1825, 24.2462, 142.4377, 2883,    676.0,    6.0384,  34.1289,2,     94.8,2,  34.1287,2,    94.26,2,    70.50,2,    33.79,2,     0.00,2,    2.410,2,     -999,9,     -999,9,   2255.7,2,   2303.3,2,   7.4701,2,    25.00,     -999,9,     -999,9,     -999,9,     -999,9,   5.9787,2,  26.8670,2,   6.0401,2
49UP20210719_2,   P03,    37,  1,     18,     752,2,20210811,1720,1821, 24.2462, 142.4377, 2883,    781.1,    4.8761,  34.1736,2,     68.4,2,  34.1730,2,    68.23,2,    90.70,2,    37.96,2,     0.00,2,    2.710,2,     -999,9,     -999,9,   2295.5,2,   2323.8,2,   7.4110,2,    25.00,     -999,9,     -999,9,     -999,9,     -999,9,   4.8134,2,  27.0412,2,   4.8765,2
49UP20210719_2,   P03,    37,  1,     17,     751,2,20210811,1720,1817, 24.2462, 142.4377, 2883,    884.2,    4.1899,  34.2988,2,     53.8,2,  34.2985,2,    53.59,2,   108.12,2,    40.17,2,     0.00,2,    2.870,2,     -999,9,     -999,9,   2324.0,2,   2348.3,2,   7.3920,6,    25.00,     -999,9,     -999,9,     -999,9,     -999,9,   4.1228,2,  27.2156,2,   4.1901,2
49UP20210719_2,   P03,    37,  1,     16,     328,2,20210811,1720,1814, 24.2462, 142.4377, 2883,    977.8,    3.8043,  34.3694,2,     52.7,2,  34.3694,2,    52.64,2,   117.48,2,    40.82,2,     0.00,2,    2.910,2,     -999,9,     -999,9,   2335.4,6,   2360.7,6,   7.3954,2,    25.00,     -999,9,     -999,9,     -999,9,     -999,9,   3.7321,2,  27.3117,2,   3.8042,2
49UP20210719_2,   P03,    37,  1,     12,     324,2,20210811,1720,1809, 24.2462, 142.4377, 2883,   1141.0,    3.2624,  34.4607,2,     63.3,2,  34.4605,6,    63.16,2,   128.62,2,    40.66,2,     0.00,2,    2.890,2,     -999,9,     -999,9,   2343.3,2,   2378.2,2,   7.4224,2,    25.00,     -999,9,     -999,9,     -999,9,     -999,9,   3.1814,2,  27.4378,2,   3.2623,2
49UP20210719_2,   P03,    37,  1,     11,     323,2,20210811,1720,1804, 24.2462, 142.4377, 2883,   1341.4,    2.7543,  34.5108,2,     71.9,2,  34.5106,2,    71.94,6,   138.71,6,    40.47,6,     0.00,6,    2.860,6,     -999,9,     -999,9,   2350.8,2,   2390.6,2,   7.4359,2,    25.00,     -999,9,     -999,9,     -999,9,     -999,9,   2.6622,2,  27.5248,2,   2.7543,2
49UP20210719_2,   P03,    37,  1,      9,     750,2,20210811,1720,1759, 24.2462, 142.4377, 2883,   1543.9,    2.4170,  34.5528,2,     83.1,2,  34.5530,2,    83.56,2,   143.78,2,    39.97,2,     0.00,2,    2.820,2,     -999,9,     -999,9,   2351.2,2,   2400.4,2,   7.4585,2,    25.00,     -999,9,     -999,9,     -999,9,     -999,9,   2.3125,2,  27.5881,2,   2.4157,2
49UP20210719_2,   P03,    37,  1,     10,     322,2,20210811,1720,1759, 24.2462, 142.4377, 2883,   1544.4,    2.4112,  34.5522,2,     82.8,2,  34.5523,2,    83.16,2,   144.21,2,    39.96,2,     0.00,2,    2.820,2,     -999,9,     -999,9,   2352.5,2,   2399.8,2,   7.4564,2,    25.00,     -999,9,     -999,9,     -999,9,     -999,9,   2.3066,2,  27.5881,2,   2.4125,2
49UP20210719_2,   P03,    37,  1,      8,     320,2,20210811,1720,1753, 24.2462, 142.4377, 2883,   1752.0,    2.1560,  34.5736,2,     85.8,2,  34.5741,2,    85.53,2,   150.55,2,    40.06,2,     0.00,2,    2.810,2,     -999,9,     -999,9,   2356.3,2,   2406.6,2,   7.4604,2,    25.00,     -999,9,     -999,9,     -999,9,     -999,9,   2.0380,2,  27.6271,2,   2.1559,2
49UP20210719_2,   P03,    37,  1,      7,     319,2,20210811,1720,1747, 24.2462, 142.4377, 2883,   1952.3,    1.9581,  34.6046,2,    101.1,2,  34.6037,2,   101.24,2,   150.70,2,    39.09,2,     0.00,2,    2.740,2,     -999,9,     -999,9,   2349.9,2,   2407.9,2,   7.4866,2,    25.00,     -999,9,     -999,9,     -999,9,     -999,9,   1.8264,2,  27.6684,2,   1.9582,2
49UP20210719_2,   P03,    37,  1,      6,     318,2,20210811,1720,1742, 24.2462, 142.4377, 2883,   2158.9,    1.8599,  34.6192,2,    108.3,2,  34.6199,2,   108.04,2,   151.34,2,    38.72,2,     0.00,2,    2.710,2,     -999,9,     -999,9,   2347.7,2,   2411.1,2,   7.5043,2,    25.00,     -999,9,     -999,9,     -999,9,     -999,9,   1.7123,2,  27.6888,2,   1.8599,2
49UP20210719_2,   P03,    37,  1,      5,     317,2,20210811,1720,1735, 24.2462, 142.4377, 2883,   2358.8,    1.7755,  34.6327,2,    116.1,2,  34.6332,2,   115.89,2,   150.97,2,    38.22,2,     0.00,2,    2.670,2,     -999,9,     -999,9,   2345.2,2,   2413.1,2,   7.5173,6,    25.00,     -999,9,     -999,9,     -999,9,     -999,9,   1.6120,2,  27.7072,2,   1.7753,2
49UP20210719_2,   P03,    37,  1,      4,     316,2,20210811,1720,1730, 24.2462, 142.4377, 2883,   2561.4,    1.6763,  34.6458,2,    124.9,2,  34.6471,2,   124.59,2,   150.19,2,    37.62,2,     0.00,2,    2.620,2,     -999,9,     -999,9,   2341.0,6,   2414.3,6,   7.5332,2,    25.00,     -999,9,     -999,9,     -999,9,     -999,9,   1.4966,2,  27.7262,2,   1.6763,2
49UP20210719_2,   P03,    37,  1,      3,     315,2,20210811,1720,1725, 24.2462, 142.4377, 2883,   2764.1,    1.5792,  34.6595,2,    132.9,2,  34.6606,6,   132.62,6,   150.51,6,    37.18,6,     0.00,6,    2.590,6,     -999,9,     -999,9,   2335.5,2,   2415.6,2,   7.5437,2,    25.00,     -999,9,     -999,9,     -999,9,     -999,9,   1.3829,2,  27.7453,2,   1.5791,2
49UP20210719_2,   P03,    37,  1,      2,     314,2,20210811,1720,1721, 24.2462, 142.4377, 2883,   2916.4,    1.5110,  34.6682,2,    140.1,2,  34.6686,2,   139.53,2,   149.24,2,    36.73,2,     0.00,2,    2.550,2,     -999,9,     -999,9,   2330.2,2,   2416.1,2,   7.5612,2,    25.00,     -999,9,     -999,9,     -999,9,     -999,9,   1.3019,2,  27.7581,2,   1.5110,2
49UP20210719_2,   P03,    37,  1,      1,     811,2,20210811,1720,1721, 24.2462, 142.4377, 2883,   2918.0,    1.5112,  34.6681,2,    140.1,2,  34.6687,2,   139.56,2,   149.48,2,    36.76,2,     0.00,2,    2.550,2,     -999,9,     -999,9,   2331.5,2,   2415.2,2,   7.5607,2,    25.00,     -999,9,     -999,9,     -999,9,     -999,9,   1.3020,2,  27.7580,2,   1.5110,2