BOTTLE,20230808CCHSIOADS
EXPOCODE,SECT_ID,STNNBR,CASTNO,SAMPNO,BTLNBR,BTLNBR_FLAG_W,DATE,TIME,BTL_TIME,LATITUDE,LONGITUDE,DEPTH,CTDPRS,CTDTMP,CTDSAL,CTDSAL_FLAG_W,CTDOXY,CTDOXY_FLAG_W,SALNTY,SALNTY_FLAG_W,OXYGEN,OXYGEN_FLAG_W,SILCAT,SILCAT_FLAG_W,NO2+NO3,NO2+NO3_FLAG_W,NITRIT,NITRIT_FLAG_W,PHSPHT,PHSPHT_FLAG_W,CFC-11,CFC-11_FLAG_W,CFC-12,CFC-12_FLAG_W,TCARBN,TCARBN_FLAG_W,ALKALI,ALKALI_FLAG_W,PH_TOT,PH_TOT_FLAG_W,PH_TMP,CFC113,CFC113_FLAG_W,SF6,SF6_FLAG_W,CHLORA,CHLORA_FLAG_W,PPHYTN,PPHYTN_FLAG_W,THETA,THETA_FLAG_W,SIG0,SIG0_FLAG_W,SBE35,SBE35_FLAG_W
,,,,,,,,,,,,METERS,DBAR,ITS-90,PSS-78,,UMOL/KG,,PSS78,,UMOL/KG,,UMOL/KG,,UMOL/KG,,UMOL/KG,,UMOL/KG,,PMOL/KG,,PMOL/KG,,UMOL/KG,,UMOL/KG,,,,DEG C,PMOL/KG,,FMOL/KG,,UG/KG,,UG/KG,,ITS-90,,KG/M^3,,ITS-90,
49UP20210920_1,   P03,    71,  1,      0,     BUC,2,20210928,0934,1142, 23.9942, 164.9843, 6033,      0.0,   28.7979,  35.0976,2,    197.6,2,  35.1000,2,   197.07,2,     1.03,2,     0.01,2,     0.00,2,    0.020,2,     -999,9,     -999,9,   1973.1,2,   2303.3,2,   8.1052,2,    25.00,     -999,9,     -999,9,     0.05,2,     0.02,2,  28.7973,2,  22.2050,2,     -999,9
49UP20210920_1,   P03,    71,  1,     36,     757,2,20210928,0934,1213, 23.9942, 164.9843, 6033,      9.4,   28.8068,  35.0977,2,    197.5,2,  35.0976,2,   196.82,6,     0.99,6,     0.01,6,     0.00,6,    0.010,6,    1.079,2,    0.804,2,   1973.4,2,   2300.5,2,   8.1040,2,    25.00,    0.076,2,    1.592,2,     0.05,2,     0.02,2,  28.8045,2,  22.2026,2,  28.8089,2
49UP20210920_1,   P03,    71,  1,     35,     756,2,20210928,0934,1211, 23.9942, 164.9843, 6033,     51.8,   28.6986,  35.1392,2,    200.5,2,  35.1370,6,   199.45,2,     0.99,2,     0.01,2,     0.00,2,    0.000,2,    1.089,2,    0.809,2,   1977.3,2,   2304.2,2,   8.1017,2,    25.00,    0.074,2,    1.465,2,     0.06,2,     0.03,2,  28.6862,2,  22.2732,2,  28.6947,2
49UP20210920_1,   P03,    71,  1,     34,     843,3,20210928,0934,1206, 23.9942, 164.9843, 6033,    104.1,   23.8927,  35.2732,2,    214.7,2,  35.2784,2,   214.19,2,     1.43,2,     0.02,2,     0.00,2,    0.020,2,    1.465,2,    0.978,2,   2012.7,2,   2314.0,2,   8.0553,2,    25.00,    0.095,2,    1.617,2,     0.18,2,     0.15,2,  23.8709,2,  23.8865,2,  23.8970,2
49UP20210920_1,   P03,    71,  1,     33,     842,2,20210928,0934,1204, 23.9942, 164.9843, 6033,    150.9,   20.6995,  35.0668,2,    202.7,2,  35.0719,2,   202.54,2,     2.10,2,     0.62,2,     0.07,2,    0.090,2,     -999,9,     -999,9,   2041.0,2,   2303.7,2,   7.9847,2,    25.00,     -999,9,     -999,9,     0.06,2,     0.20,2,  20.6709,2,  24.6338,2,  20.7086,2
49UP20210920_1,   P03,    71,  1,     32,     841,3,20210928,0934,1202, 23.9942, 164.9843, 6033,    204.9,   17.9093,  34.7876,2,    206.4,2,  34.7866,2,   206.24,2,     3.35,2,     2.87,2,     0.01,2,    0.220,2,    1.961,2,    1.190,2,   2047.8,2,   2284.7,2,   7.9418,2,    25.00,    0.052,2,    1.905,2,     0.01,2,     0.04,2,  17.8743,2,  25.1403,2,  17.9119,2
49UP20210920_1,   P03,    71,  1,     31,     840,2,20210928,0934,1159, 23.9942, 164.9843, 6033,    251.1,   16.8764,  34.7113,2,    205.5,2,  34.7112,2,   205.15,2,     4.75,2,     4.99,2,     0.00,2,    0.350,2,     -999,9,     -999,9,   2056.0,2,   2278.9,2,   7.9211,2,    25.00,     -999,9,     -999,9,     -999,9,     -999,9,  16.8352,2,  25.3316,2,  16.8738,2
49UP20210920_1,   P03,    71,  1,     30,     839,2,20210928,0934,1157, 23.9942, 164.9843, 6033,    301.9,   15.5874,  34.6016,2,    202.0,2,  34.6010,2,   201.59,2,     6.83,2,     7.11,2,     0.00,2,    0.500,2,    2.240,2,    1.276,2,   2070.5,2,   2275.0,2,   7.8845,2,    25.00,    0.019,2,    1.801,2,     -999,9,     -999,9,  15.5404,2,  25.5450,2,  15.5874,2
49UP20210920_1,   P03,    71,  1,     29,     838,2,20210928,0934,1154, 23.9942, 164.9843, 6033,    404.4,   12.4226,  34.3392,2,    199.5,2,  34.3396,2,   198.91,2,    14.22,2,    12.49,2,     0.00,2,    0.870,2,     -999,9,     -999,9,   2104.1,2,   2267.8,2,   7.8003,2,    25.00,     -999,9,     -999,9,     -999,9,     -999,9,  12.3685,2,  26.0051,2,  12.4222,2
49UP20210920_1,   P03,    71,  1,     28,     755,2,20210928,0934,1150, 23.9942, 164.9843, 6033,    502.9,    9.7521,  34.1531,2,    182.5,2,  34.1543,6,   181.82,2,    26.40,2,    19.01,2,     0.00,2,    1.340,2,    2.766,2,    1.384,2,   2145.0,2,   2269.3,2,   7.7046,2,    25.00,    0.062,2,    1.504,2,     -999,9,     -999,9,   9.6944,2,  26.3419,2,   9.7621,2
49UP20210920_1,   P03,    71,  1,     27,     754,2,20210928,0934,1147, 23.9942, 164.9843, 6033,    605.0,    7.2533,  34.0712,2,    125.8,2,  34.0714,2,   125.32,6,    50.37,6,    28.91,6,     0.00,6,    2.070,6,     -999,9,     -999,9,   2214.8,2,   2280.6,2,   7.5462,2,    25.00,     -999,9,     -999,9,     -999,9,     -999,9,   7.1946,2,  26.6602,2,   7.2509,2
49UP20210920_1,   P03,    71,  1,     26,     835,2,20210928,0934,1144, 23.9942, 164.9843, 6033,    706.1,    5.7830,  34.1036,2,     84.1,2,  34.1027,2,    84.13,2,    72.34,2,    35.27,2,     0.00,2,    2.530,2,     -999,9,     -999,9,   2268.4,2,   2302.6,2,   7.4466,2,    25.00,     -999,9,     -999,9,     -999,9,     -999,9,   5.7219,2,  26.8789,2,   5.7824,2
49UP20210920_1,   P03,    71,  1,     25,     834,2,20210928,0934,1141, 23.9942, 164.9843, 6033,    806.9,    4.8822,  34.1977,2,     54.0,2,  34.1973,2,    53.99,2,    91.60,2,    39.39,2,     0.00,2,    2.840,2,    0.519,2,    0.286,2,   2308.5,2,   2322.6,2,   7.3906,2,    25.00,    0.008,2,    0.132,2,     -999,9,     -999,9,   4.8173,2,  27.0599,2,   4.8831,2
49UP20210920_1,   P03,    71,  1,     24,     753,2,20210928,0934,1138, 23.9942, 164.9843, 6033,    907.4,    4.2780,  34.3018,2,     41.1,2,  34.3010,2,    41.29,2,   106.87,2,    41.44,2,     0.00,2,    2.980,2,     -999,9,     -999,9,   2334.4,2,   2346.0,2,   7.3751,2,    25.00,     -999,9,     -999,9,     -999,9,     -999,9,   4.2083,2,  27.2090,2,   4.2775,2
49UP20210920_1,   P03,    71,  1,     23,     832,2,20210928,0934,1134, 23.9942, 164.9843, 6033,   1008.8,    3.8888,  34.3777,2,     41.2,2,  34.3775,2,    41.11,2,   116.20,2,    41.99,2,     0.00,2,    3.010,2,    0.113,2,    0.032,2,   2344.4,2,   2361.7,2,   7.3808,2,    25.00,    0.000,2,    0.015,2,     -999,9,     -999,9,   3.8134,2,  27.3102,2,   3.8890,2
49UP20210920_1,   P03,    71,  1,     22,     831,2,20210928,0934,1130, 23.9942, 164.9843, 6033,   1211.7,    3.3888,  34.4824,2,     58.4,2,  34.4823,2,    58.27,2,   126.44,2,    41.23,2,     0.00,2,    2.940,2,     -999,9,     -999,9,   2347.5,2,   2373.8,2,   7.4225,2,    25.00,     -999,9,     -999,9,     -999,9,     -999,9,   3.3010,2,  27.4438,2,   3.3890,2
49UP20210920_1,   P03,    71,  1,     21,     830,2,20210928,0934,1125, 23.9942, 164.9843, 6033,   1413.7,    2.9352,  34.5268,2,     68.9,2,  34.5262,2,    69.01,2,   135.79,2,    40.88,2,     0.00,2,    2.910,2,    0.010,2,    0.002,2,   2351.2,2,   2386.8,2,   7.4406,2,    25.00,    0.002,2,   -0.028,2,     -999,9,     -999,9,   2.8353,2,  27.5222,2,   2.9352,2
49UP20210920_1,   P03,    71,  1,     20,     829,2,20210928,0934,1120, 23.9942, 164.9843, 6033,   1617.8,    2.4912,  34.5667,2,     80.1,2,  34.5675,2,    80.06,2,   144.42,2,    40.45,2,     0.00,2,    2.860,2,     -999,9,     -999,9,   2355.9,2,   2401.9,2,   7.4604,6,    25.00,     -999,9,     -999,9,     -999,9,     -999,9,   2.3798,2,  27.5936,2,   2.4907,2
49UP20210920_1,   P03,    71,  1,     19,     828,2,20210928,0934,1115, 23.9942, 164.9843, 6033,   1819.9,    2.1878,  34.5963,2,     91.9,2,  34.5974,6,    91.78,2,   149.07,2,    39.76,2,     0.00,2,    2.810,2,     -999,9,     -999,9,   2355.7,6,   2403.9,6,   7.4809,2,    25.00,     -999,9,     -999,9,     -999,9,     -999,9,   2.0637,2,  27.6432,2,   2.1877,2
49UP20210920_1,   P03,    71,  1,     18,     752,2,20210928,0934,1110, 23.9942, 164.9843, 6033,   2025.1,    1.9967,  34.6173,2,    102.4,2,  34.6178,2,   102.43,6,   151.25,6,    39.23,6,     0.00,6,    2.760,6,    0.004,2,    0.002,2,   2352.2,2,   2409.7,2,   7.4991,2,    25.00,    0.007,2,   -0.015,2,     -999,9,     -999,9,   1.8582,2,  27.6762,2,   1.9968,2
49UP20210920_1,   P03,    71,  1,     17,     751,2,20210928,0934,1105, 23.9942, 164.9843, 6033,   2225.3,    1.8632,  34.6324,2,    109.4,2,  34.6323,2,   109.41,2,   153.19,2,    38.81,2,     0.00,2,    2.730,2,     -999,9,     -999,9,   2350.6,2,   2410.5,2,   7.5110,2,    25.00,     -999,9,     -999,9,     -999,9,     -999,9,   1.7098,2,  27.6996,2,   1.8631,2
49UP20210920_1,   P03,    71,  1,     16,     328,2,20210928,0934,1059, 23.9942, 164.9843, 6033,   2430.1,    1.7650,  34.6446,2,    117.5,2,  34.6450,2,   117.37,2,   153.65,2,    38.33,2,     0.00,2,    2.690,2,     -999,9,     -999,9,   2349.4,2,   2411.5,2,   7.5288,2,    25.00,     -999,9,     -999,9,     -999,9,     -999,9,   1.5953,2,  27.7179,2,   1.7650,2
49UP20210920_1,   P03,    71,  1,     15,     822,2,20210928,0934,1054, 23.9942, 164.9843, 6033,   2632.6,    1.7009,  34.6523,2,    122.9,2,  34.6526,2,   123.04,2,   153.63,2,    38.00,2,     0.00,2,    2.660,2,     -999,9,     -999,9,   2343.6,2,   2415.8,2,   7.5355,2,    25.00,     -999,9,     -999,9,     -999,9,     -999,9,   1.5142,2,  27.7301,2,   1.7011,2
49UP20210920_1,   P03,    71,  1,     14,     326,2,20210928,0934,1049, 23.9942, 164.9843, 6033,   2837.8,    1.6500,  34.6585,2,    127.9,2,  34.6590,2,   127.77,2,   153.70,2,    37.71,2,     0.00,2,    2.630,2,     -999,9,     -999,9,   2343.1,2,   2416.0,2,   7.5444,6,    25.00,     -999,9,     -999,9,     -999,9,     -999,9,   1.4454,2,  27.7401,2,   1.6501,2
49UP20210920_1,   P03,    71,  1,     13,     325,3,20210928,0934,1044, 23.9942, 164.9843, 6033,   3040.4,    1.6201,  34.6631,2,    131.3,2,  34.6625,4,   130.98,2,   153.14,2,    37.48,2,     0.00,2,    2.610,2,     -999,9,     -999,9,   2340.9,6,   2415.0,6,   7.5507,2,    25.00,     -999,9,     -999,9,     -999,9,     -999,9,   1.3969,2,  27.7472,2,   1.6203,2
49UP20210920_1,   P03,    71,  1,     12,     324,2,20210928,0934,1038, 23.9942, 164.9843, 6033,   3296.6,    1.5738,  34.6690,2,    137.0,2,  34.6690,2,   136.83,2,   152.93,2,    37.12,2,     0.00,2,    2.580,2,     -999,9,     -999,9,   2336.3,2,   2414.2,2,   7.5592,2,    25.00,     -999,9,     -999,9,     -999,9,     -999,9,   1.3264,2,  27.7570,2,   1.5739,2
49UP20210920_1,   P03,    71,  1,     11,     323,2,20210928,0934,1032, 23.9942, 164.9843, 6033,   3551.5,    1.5424,  34.6734,2,    141.8,2,  34.6735,2,   141.50,2,   151.95,2,    36.78,2,     0.00,2,    2.560,2,     -999,9,     -999,9,   2334.1,2,   2417.5,2,   7.5673,2,    25.00,     -999,9,     -999,9,     -999,9,     -999,9,   1.2700,2,  27.7645,2,   1.5426,2
49UP20210920_1,   P03,    71,  1,     10,     322,2,20210928,0934,1026, 23.9942, 164.9843, 6033,   3808.1,    1.5159,  34.6780,2,    147.0,2,  34.6778,6,   146.86,2,   150.28,2,    36.52,2,     0.00,2,    2.530,2,     -999,9,     -999,9,   2331.2,2,   2415.6,2,   7.5738,2,    25.00,     -999,9,     -999,9,     -999,9,     -999,9,   1.2173,2,  27.7719,2,   1.5161,2
49UP20210920_1,   P03,    71,  1,      9,     750,2,20210928,0934,1020, 23.9942, 164.9843, 6033,   4062.7,    1.4978,  34.6813,2,    151.6,2,  34.6814,2,   151.60,6,   148.81,6,    36.18,6,     0.00,6,    2.510,6,     -999,9,     -999,9,   2328.3,2,   2415.6,2,   7.5793,2,    25.00,     -999,9,     -999,9,     -999,9,     -999,9,   1.1722,2,  27.7777,2,   1.4980,2
49UP20210920_1,   P03,    71,  1,      8,     320,2,20210928,0934,1015, 23.9942, 164.9843, 6033,   4321.3,    1.4840,  34.6848,2,    156.7,2,  34.6848,2,   156.77,2,   146.43,2,    35.74,2,     0.00,2,    2.480,2,     -999,9,     -999,9,   2322.9,2,   2410.3,2,   7.5882,2,    25.00,     -999,9,     -999,9,     -999,9,     -999,9,   1.1300,2,  27.7833,2,   1.4841,2
49UP20210920_1,   P03,    71,  1,      7,     319,2,20210928,0934,1009, 23.9942, 164.9843, 6033,   4578.5,    1.4749,  34.6881,2,    161.5,2,  34.6873,4,   161.64,2,   144.47,2,    35.40,2,     0.00,2,    2.450,2,     -999,9,     -999,9,   2316.6,2,   2411.3,2,   7.5942,6,    25.00,     -999,9,     -999,9,     -999,9,     -999,9,   1.0916,2,  27.7885,2,   1.4750,2
49UP20210920_1,   P03,    71,  1,      6,     318,3,20210928,0934,1003, 23.9942, 164.9843, 6033,   4834.2,    1.4747,  34.6907,2,    165.7,2,  34.6888,4,   164.65,4,   141.67,2,    35.12,2,     0.00,2,    2.430,2,     -999,9,     -999,9,   2312.8,6,   2405.5,6,   7.5995,2,    25.00,     -999,9,     -999,9,     -999,9,     -999,9,   1.0613,2,  27.7927,2,   1.4748,2
49UP20210920_1,   P03,    71,  1,      5,     317,2,20210928,0934, 957, 23.9942, 164.9843, 6033,   5092.7,    1.4737,  34.6930,2,    170.4,2,  34.6932,2,   170.60,2,   138.80,2,    34.77,2,     0.00,2,    2.400,2,    0.000,2,    0.000,2,   2312.9,2,   2407.5,2,   7.6029,2,    25.00,    0.008,2,    0.025,2,     -999,9,     -999,9,   1.0290,2,  27.7967,2,   1.4736,2
49UP20210920_1,   P03,    71,  1,      4,     316,3,20210928,0934, 952, 23.9942, 164.9843, 6033,   5349.4,    1.4774,  34.6953,2,    174.2,2,  34.6955,2,   174.46,2,   136.26,2,    34.45,2,     0.00,2,    2.380,2,    0.002,2,    0.000,2,   2306.0,2,   2403.8,2,   7.6078,2,    25.00,    0.005,2,   -0.031,2,     -999,9,     -999,9,   1.0007,2,  27.8004,2,   1.4775,2
49UP20210920_1,   P03,    71,  1,      3,     315,2,20210928,0934, 946, 23.9942, 164.9843, 6033,   5607.8,    1.4927,  34.6966,2,    176.7,2,  34.6970,2,   176.82,2,   134.85,2,    34.32,2,     0.00,2,    2.370,2,    0.001,2,    0.001,2,   2300.4,2,   2400.3,2,   7.6091,2,    25.00,    0.003,2,    0.025,2,     -999,9,     -999,9,   0.9825,2,  27.8027,2,   1.4929,2
49UP20210920_1,   P03,    71,  1,      2,     314,2,20210928,0934, 940, 23.9942, 164.9843, 6033,   5864.1,    1.5178,  34.6972,2,    178.1,2,  34.6970,2,   177.90,2,   134.00,2,    34.21,2,     0.00,2,    2.360,2,    0.004,2,    0.003,2,   2298.9,2,   2397.3,2,   7.6098,2,    25.00,    0.002,2,    0.013,2,     -999,9,     -999,9,   0.9732,2,  27.8038,2,   1.5180,2
49UP20210920_1,   P03,    71,  1,      1,     811,2,20210928,0934, 934, 23.9942, 164.9843, 6033,   6125.8,    1.5489,  34.6976,2,    178.9,2,  34.6976,2,   178.75,2,   133.54,2,    34.19,2,     0.00,2,    2.360,2,    0.002,2,    0.004,2,   2302.3,2,   2397.2,2,   7.6138,2,    25.00,    0.004,2,    0.040,2,     -999,9,     -999,9,   0.9682,2,  27.8045,2,   1.5490,2