BOTTLE,20230808CCHSIOADS
EXPOCODE,SECT_ID,STNNBR,CASTNO,SAMPNO,BTLNBR,BTLNBR_FLAG_W,DATE,TIME,BTL_TIME,LATITUDE,LONGITUDE,DEPTH,CTDPRS,CTDTMP,CTDSAL,CTDSAL_FLAG_W,CTDOXY,CTDOXY_FLAG_W,SALNTY,SALNTY_FLAG_W,OXYGEN,OXYGEN_FLAG_W,SILCAT,SILCAT_FLAG_W,NO2+NO3,NO2+NO3_FLAG_W,NITRIT,NITRIT_FLAG_W,PHSPHT,PHSPHT_FLAG_W,CFC-11,CFC-11_FLAG_W,CFC-12,CFC-12_FLAG_W,TCARBN,TCARBN_FLAG_W,ALKALI,ALKALI_FLAG_W,PH_TOT,PH_TOT_FLAG_W,PH_TMP,CFC113,CFC113_FLAG_W,SF6,SF6_FLAG_W,CHLORA,CHLORA_FLAG_W,PPHYTN,PPHYTN_FLAG_W,THETA,THETA_FLAG_W,SIG0,SIG0_FLAG_W,SBE35,SBE35_FLAG_W
,,,,,,,,,,,,METERS,DBAR,ITS-90,PSS-78,,UMOL/KG,,PSS78,,UMOL/KG,,UMOL/KG,,UMOL/KG,,UMOL/KG,,UMOL/KG,,PMOL/KG,,PMOL/KG,,UMOL/KG,,UMOL/KG,,,,DEG C,PMOL/KG,,FMOL/KG,,UG/KG,,UG/KG,,ITS-90,,KG/M^3,,ITS-90,
49UP20210827_1,   P03,    68,  1,      0,     BUC,2,20210909,0206, 404, 24.2430, 163.2502, 5390,      0.0,   29.6984,  35.0290,2,    194.6,2,  35.0262,2,   195.50,2,     1.13,2,     0.03,2,     0.00,2,    0.040,2,     -999,9,     -999,9,   1965.9,2,   2301.7,2,   8.1078,2,    25.00,     -999,9,     -999,9,     0.05,2,     0.02,2,  29.6977,2,  21.8509,2,     -999,9
49UP20210827_1,   P03,    68,  1,     36,     757,2,20210909,0206, 439, 24.2430, 163.2502, 5390,     10.8,   29.6974,  35.0278,2,    194.8,2,  35.0278,2,   195.37,2,     0.98,2,     0.00,2,     0.00,2,    0.000,2,     -999,9,     -999,9,   1966.7,2,   2302.0,2,   8.1093,2,    25.00,     -999,9,     -999,9,     0.05,2,     0.02,2,  29.6948,2,  21.8509,2,  29.6983,2
49UP20210827_1,   P03,    68,  1,     35,     756,2,20210909,0206, 436, 24.2430, 163.2502, 5390,     49.1,   28.4496,  35.2578,2,    209.1,2,  35.2592,6,   209.15,2,     1.14,2,     0.00,2,     0.00,2,    0.010,2,     -999,9,     -999,9,   1986.4,2,   2317.7,2,   8.0918,2,    25.00,     -999,9,     -999,9,     0.06,2,     0.02,2,  28.4379,2,  22.4446,2,  28.4313,2
49UP20210827_1,   P03,    68,  1,     34,     843,2,20210909,0206, 432, 24.2430, 163.2502, 5390,    100.3,   24.6429,  35.3051,2,    218.5,2,  35.3069,2,   218.91,6,     1.33,6,     0.00,6,     0.00,6,    0.010,6,     -999,9,     -999,9,   2003.3,2,   2319.3,2,   8.0710,2,    25.00,     -999,9,     -999,9,     0.12,2,     0.06,2,  24.6213,2,  23.6866,2,  24.6118,2
49UP20210827_1,   P03,    68,  1,     33,     842,2,20210909,0206, 430, 24.2430, 163.2502, 5390,    124.0,   23.1548,  35.2292,2,    219.7,2,  35.2215,2,   219.04,2,     1.50,2,     0.00,2,     0.00,2,    0.010,2,     -999,9,     -999,9,   2015.1,2,   2315.4,2,   8.0459,2,    25.00,     -999,9,     -999,9,     0.17,2,     0.15,2,  23.1293,2,  24.0701,2,  23.1531,2
49UP20210827_1,   P03,    68,  1,     32,     841,2,20210909,0206, 429, 24.2430, 163.2502, 5390,    149.6,   21.9258,  35.1527,2,    213.3,2,  35.1422,2,   213.30,2,     1.85,2,     0.02,2,     0.01,2,    0.030,2,     -999,9,     -999,9,   2027.1,2,   2309.6,2,   8.0197,2,    25.00,     -999,9,     -999,9,     0.14,2,     0.33,2,  21.8962,2,  24.3629,2,  21.9173,2
49UP20210827_1,   P03,    68,  1,     31,     840,2,20210909,0206, 426, 24.2430, 163.2502, 5390,    206.7,   18.3257,  34.8305,2,    201.2,2,  34.8226,2,   201.19,2,     3.31,2,     2.54,2,     0.01,2,    0.210,2,     -999,9,     -999,9,   2051.8,2,   2289.8,2,   7.9392,2,    25.00,     -999,9,     -999,9,     0.02,2,     0.08,2,  18.2898,2,  25.0705,2,  18.3275,2
49UP20210827_1,   P03,    68,  1,     30,     839,2,20210909,0206, 424, 24.2430, 163.2502, 5390,    250.8,   16.9276,  34.7146,2,    204.6,2,  34.7134,2,   204.61,2,     4.66,2,     4.94,2,     0.00,2,    0.340,2,     -999,9,     -999,9,   2055.2,2,   2282.2,2,   7.9227,2,    25.00,     -999,9,     -999,9,     -999,9,     -999,9,  16.8863,2,  25.3221,2,  16.9173,2
49UP20210827_1,   P03,    68,  1,     29,     838,2,20210909,0206, 422, 24.2430, 163.2502, 5390,    281.2,   16.2007,  34.6589,2,    201.7,2,  34.6540,2,   201.68,2,     6.28,2,     6.48,2,     0.00,2,    0.440,2,     -999,9,     -999,9,   2064.0,2,   2279.1,2,   7.8982,2,    25.00,     -999,9,     -999,9,     -999,9,     -999,9,  16.1558,2,  25.4496,2,  16.1932,2
49UP20210827_1,   P03,    68,  1,     28,     755,2,20210909,0206, 419, 24.2430, 163.2502, 5390,    372.6,   13.3676,  34.3956,2,    199.1,2,  34.3915,2,   198.48,2,    11.04,2,    10.73,2,     0.00,2,    0.750,2,     -999,9,     -999,9,   2092.0,2,   2268.3,2,   7.8197,2,    25.00,     -999,9,     -999,9,     -999,9,     -999,9,  13.3153,2,  25.8612,2,  13.3692,2
49UP20210827_1,   P03,    68,  1,     27,     754,2,20210909,0206, 415, 24.2430, 163.2502, 5390,    473.2,   10.1645,  34.1669,2,    179.5,2,  34.1656,2,   178.51,2,    23.94,2,    18.48,2,     0.00,2,    1.300,2,     -999,9,     -999,9,   2140.8,2,   2267.0,2,   7.7032,2,    25.00,     -999,9,     -999,9,     -999,9,     -999,9,  10.1088,2,  26.2829,2,  10.1690,2
49UP20210827_1,   P03,    68,  1,     26,     835,2,20210909,0206, 412, 24.2430, 163.2502, 5390,    573.9,    7.7646,  34.0893,2,    131.4,2,  34.0899,6,   130.82,2,    44.69,2,    27.44,2,     0.00,2,    1.960,2,     -999,9,     -999,9,   2203.7,2,   2280.2,2,   7.5637,2,    25.00,     -999,9,     -999,9,     -999,9,     -999,9,   7.7069,2,  26.6016,2,   7.7663,2
49UP20210827_1,   P03,    68,  1,     25,     834,2,20210909,0206, 409, 24.2430, 163.2502, 5390,    675.3,    6.2467,  34.0839,2,     97.2,2,  34.0844,2,    96.89,6,    64.46,6,    33.46,6,     0.00,6,    2.390,6,     -999,9,     -999,9,   2248.8,2,   2295.5,2,   7.4707,2,    25.00,     -999,9,     -999,9,     -999,9,     -999,9,   6.1860,2,  26.8051,2,   6.2486,2
49UP20210827_1,   P03,    68,  1,     24,     753,2,20210909,0206, 406, 24.2430, 163.2502, 5390,    776.5,    5.0005,  34.1585,2,     61.7,2,  34.1573,2,    61.45,2,    87.85,2,    38.62,2,     0.00,2,    2.770,2,     -999,9,     -999,9,   2297.8,2,   2321.8,2,   7.3958,6,    25.00,     -999,9,     -999,9,     -999,9,     -999,9,   4.9375,2,  27.0152,2,   4.9995,2
49UP20210827_1,   P03,    68,  1,     23,     832,2,20210909,0206, 403, 24.2430, 163.2502, 5390,    875.7,    4.2927,  34.2564,2,     43.6,2,  34.2562,2,    43.31,2,   105.78,2,    41.32,2,     0.00,2,    2.950,2,     -999,9,     -999,9,   2327.8,6,   2343.2,6,   7.3636,3,    25.00,     -999,9,     -999,9,     -999,9,     -999,9,   4.2257,2,  27.1711,2,   4.2919,2
49UP20210827_1,   P03,    68,  1,     22,     831,2,20210909,0206, 359, 24.2430, 163.2502, 5390,    979.0,    3.8156,  34.3701,2,     41.8,2,  34.3698,2,    41.77,2,   117.89,2,    42.14,2,     0.00,2,    3.010,2,     -999,9,     -999,9,   2344.4,2,   2362.9,2,   7.3734,2,    25.00,     -999,9,     -999,9,     -999,9,     -999,9,   3.7433,2,  27.3112,2,   3.8155,2
49UP20210827_1,   P03,    68,  1,     21,     830,2,20210909,0206, 355, 24.2430, 163.2502, 5390,   1141.0,    3.3769,  34.4662,2,     55.3,2,  34.4656,2,    55.26,2,   126.74,2,    41.55,2,     0.00,2,    2.950,2,     -999,9,     -999,9,   2349.6,2,   2378.2,2,   7.4033,2,    25.00,     -999,9,     -999,9,     -999,9,     -999,9,   3.2950,2,  27.4315,2,   3.3768,2
49UP20210827_1,   P03,    68,  1,     20,     829,2,20210909,0206, 350, 24.2430, 163.2502, 5390,   1342.9,    2.9429,  34.5232,2,     68.6,2,  34.5226,2,    68.65,2,   134.63,2,    40.92,2,     0.00,2,    2.900,2,     -999,9,     -999,9,   2350.4,2,   2389.1,2,   7.4331,2,    25.00,     -999,9,     -999,9,     -999,9,     -999,9,   2.8487,2,  27.5182,2,   2.9422,2
49UP20210827_1,   P03,    68,  1,     19,     828,2,20210909,0206, 345, 24.2430, 163.2502, 5390,   1544.9,    2.5686,  34.5537,2,     77.6,2,  34.5536,2,    77.70,2,   143.16,2,    40.65,2,     0.00,2,    2.860,2,     -999,9,     -999,9,   2355.3,2,   2399.4,2,   7.4516,2,    25.00,     -999,9,     -999,9,     -999,9,     -999,9,   2.4622,2,  27.5763,2,   2.5685,2
49UP20210827_1,   P03,    68,  1,     18,     752,2,20210909,0206, 339, 24.2430, 163.2502, 5390,   1748.6,    2.2535,  34.5843,2,     88.4,2,  34.5843,2,    88.34,2,   148.11,2,    40.13,2,     0.00,2,    2.820,2,     -999,9,     -999,9,   2355.4,2,   2406.3,2,   7.4729,3,    25.00,     -999,9,     -999,9,     -999,9,     -999,9,   2.1344,2,  27.6279,2,   2.2535,2
49UP20210827_1,   P03,    68,  1,     17,     751,2,20210909,0206, 334, 24.2430, 163.2502, 5390,   1951.6,    2.0284,  34.6107,2,     99.6,2,  34.6109,6,    99.55,2,   150.53,2,    39.41,2,     0.00,2,    2.760,2,     -999,9,     -999,9,   2352.8,2,   2409.9,2,   7.4902,2,    25.00,     -999,9,     -999,9,     -999,9,     -999,9,   1.8956,2,  27.6680,2,   2.0285,2
49UP20210827_1,   P03,    68,  1,     16,     328,2,20210909,0206, 329, 24.2430, 163.2502, 5390,   2155.1,    1.9176,  34.6249,2,    106.0,2,  34.6249,2,   106.37,6,   152.26,6,    39.02,6,     0.00,6,    2.730,6,     -999,9,     -999,9,   2352.2,2,   2412.4,2,   7.5053,2,    25.00,     -999,9,     -999,9,     -999,9,     -999,9,   1.7694,2,  27.6891,2,   1.9178,2
49UP20210827_1,   P03,    68,  1,     15,     822,2,20210909,0206, 324, 24.2430, 163.2502, 5390,   2358.3,    1.8010,  34.6385,2,    113.7,2,  34.6384,2,   113.66,2,   152.81,2,    38.52,2,     0.00,2,    2.690,2,     -999,9,     -999,9,   2348.5,2,   2416.2,2,   7.5167,2,    25.00,     -999,9,     -999,9,     -999,9,     -999,9,   1.6371,2,  27.7099,2,   1.8011,2
49UP20210827_1,   P03,    68,  1,     14,     326,2,20210909,0206, 319, 24.2430, 163.2502, 5390,   2560.6,    1.7120,  34.6487,2,    120.5,2,  34.6493,2,   120.56,2,   153.42,2,    38.15,2,     0.00,2,    2.660,2,     -999,9,     -999,9,   2347.7,2,   2416.7,2,   7.5318,2,    25.00,     -999,9,     -999,9,     -999,9,     -999,9,   1.5317,2,  27.7260,2,   1.7123,2
49UP20210827_1,   P03,    68,  1,     13,     325,2,20210909,0206, 314, 24.2430, 163.2502, 5390,   2765.2,    1.6434,  34.6563,2,    126.3,2,  34.6571,4,   126.40,2,   152.76,2,    37.75,2,     0.00,2,    2.630,2,     -999,9,     -999,9,   2343.1,2,   2416.3,2,   7.5397,2,    25.00,     -999,9,     -999,9,     -999,9,     -999,9,   1.4457,2,  27.7383,2,   1.6432,2
49UP20210827_1,   P03,    68,  1,     12,     324,2,20210909,0206, 308, 24.2430, 163.2502, 5390,   2970.0,    1.6011,  34.6620,2,    130.7,2,  34.6615,2,   131.09,2,   153.28,2,    37.48,2,     0.00,2,    2.610,2,     -999,9,     -999,9,   2340.5,2,   2416.2,2,   7.5445,2,    25.00,     -999,9,     -999,9,     -999,9,     -999,9,   1.3850,2,  27.7472,2,   1.6010,2
49UP20210827_1,   P03,    68,  1,     11,     323,2,20210909,0206, 303, 24.2430, 163.2502, 5390,   3215.3,    1.5552,  34.6682,2,    136.5,2,  34.6681,2,   136.74,2,   152.09,2,    37.10,2,     0.00,2,    2.580,2,     -999,9,     -999,9,   2337.3,2,   2417.4,2,   7.5547,6,    25.00,     -999,9,     -999,9,     -999,9,     -999,9,   1.3164,2,  27.7571,2,   1.5554,2
49UP20210827_1,   P03,    68,  1,     10,     322,2,20210909,0206, 255, 24.2430, 163.2502, 5390,   3471.4,    1.5198,  34.6741,2,    142.2,2,  34.6737,2,   142.50,2,   151.53,2,    36.71,2,     0.00,2,    2.550,2,     -999,9,     -999,9,   2334.0,6,   2418.3,6,   7.5660,2,    25.00,     -999,9,     -999,9,     -999,9,     -999,9,   1.2561,2,  27.7661,2,   1.5197,2
49UP20210827_1,   P03,    68,  1,      9,     750,2,20210909,0206, 249, 24.2430, 163.2502, 5390,   3725.5,    1.4974,  34.6782,2,    147.0,2,  34.6779,2,   147.31,2,   149.87,2,    36.40,2,     0.00,2,    2.520,2,     -999,9,     -999,9,   2330.7,2,   2416.6,2,   7.5730,2,    25.00,     -999,9,     -999,9,     -999,9,     -999,9,   1.2080,2,  27.7727,2,   1.4976,2
49UP20210827_1,   P03,    68,  1,      8,     320,2,20210909,0206, 243, 24.2430, 163.2502, 5390,   3984.6,    1.4877,  34.6812,2,    151.1,2,  34.6808,6,   151.11,2,   148.82,2,    36.09,2,     0.00,2,    2.500,2,     -999,9,     -999,9,   2326.6,2,   2416.5,2,   7.5797,2,    25.00,     -999,9,     -999,9,     -999,9,     -999,9,   1.1708,2,  27.7776,2,   1.4875,2
49UP20210827_1,   P03,    68,  1,      7,     319,2,20210909,0206, 237, 24.2430, 163.2502, 5390,   4238.6,    1.4745,  34.6849,2,    156.1,2,  34.6845,2,   156.49,6,   146.45,6,    35.74,6,     0.00,6,    2.470,6,     -999,9,     -999,9,   2322.1,2,   2414.0,2,   7.5861,2,    25.00,     -999,9,     -999,9,     -999,9,     -999,9,   1.1300,2,  27.7834,2,   1.4743,2
49UP20210827_1,   P03,    68,  1,      6,     318,2,20210909,0206, 231, 24.2430, 163.2502, 5390,   4494.9,    1.4615,  34.6882,2,    161.6,2,  34.6866,4,   160.97,2,   143.44,2,    35.36,2,     0.00,2,    2.450,2,     -999,9,     -999,9,   2316.5,2,   2409.7,2,   7.5902,3,    25.00,     -999,9,     -999,9,     -999,9,     -999,9,   1.0883,2,  27.7889,2,   1.4614,2
49UP20210827_1,   P03,    68,  1,      5,     317,3,20210909,0206, 225, 24.2430, 163.2502, 5390,   4751.4,    1.4626,  34.6908,2,    165.7,2,  34.6907,2,   166.07,2,   141.10,2,    35.04,2,     0.00,2,    2.420,2,     -999,9,     -999,9,   2313.3,2,   2408.6,2,   7.5968,2,    25.00,     -999,9,     -999,9,     -999,9,     -999,9,   1.0594,2,  27.7929,2,   1.4626,2
49UP20210827_1,   P03,    68,  1,      4,     316,2,20210909,0206, 219, 24.2430, 163.2502, 5390,   5009.9,    1.4701,  34.6928,2,    169.4,2,  34.6922,4,   169.56,2,   138.99,2,    34.84,2,     0.00,2,    2.400,2,     -999,9,     -999,9,   2309.3,2,   2407.3,2,   7.5974,2,    25.00,     -999,9,     -999,9,     -999,9,     -999,9,   1.0356,2,  27.7962,2,   1.4699,2
49UP20210827_1,   P03,    68,  1,      3,     315,2,20210909,0206, 214, 24.2430, 163.2502, 5390,   5266.1,    1.4684,  34.6952,2,    173.8,2,  34.6952,2,   174.19,2,   136.36,2,    34.44,2,     0.00,2,    2.370,2,     -999,9,     -999,9,   2304.4,2,   2402.4,2,   7.6043,2,    25.00,     -999,9,     -999,9,     -999,9,     -999,9,   1.0024,2,  27.8002,2,   1.4685,2
49UP20210827_1,   P03,    68,  1,      2,     314,2,20210909,0206, 208, 24.2430, 163.2502, 5390,   5523.0,    1.4845,  34.6963,2,    176.3,2,  34.6964,2,   176.44,2,   134.67,2,    34.28,2,     0.00,2,    2.360,2,     -999,9,     -999,9,   2302.9,2,   2401.1,2,   7.6087,2,    25.00,     -999,9,     -999,9,     -999,9,     -999,9,   0.9856,2,  27.8023,2,   1.4844,2
49UP20210827_1,   P03,    68,  1,      1,     811,2,20210909,0206, 206, 24.2430, 163.2502, 5390,   5582.7,    1.4899,  34.6966,2,    176.6,2,  34.6968,2,   176.51,2,   134.31,2,    34.29,2,     0.00,2,    2.360,2,     -999,9,     -999,9,   2301.9,6,   2401.3,6,   7.6091,2,    25.00,     -999,9,     -999,9,     -999,9,     -999,9,   0.9831,2,  27.8027,2,   1.4899,2