BOTTLE,20230808CCHSIOADS
EXPOCODE,SECT_ID,STNNBR,CASTNO,SAMPNO,BTLNBR,BTLNBR_FLAG_W,DATE,TIME,BTL_TIME,LATITUDE,LONGITUDE,DEPTH,CTDPRS,CTDTMP,CTDSAL,CTDSAL_FLAG_W,CTDOXY,CTDOXY_FLAG_W,SALNTY,SALNTY_FLAG_W,OXYGEN,OXYGEN_FLAG_W,SILCAT,SILCAT_FLAG_W,NO2+NO3,NO2+NO3_FLAG_W,NITRIT,NITRIT_FLAG_W,PHSPHT,PHSPHT_FLAG_W,CFC-11,CFC-11_FLAG_W,CFC-12,CFC-12_FLAG_W,TCARBN,TCARBN_FLAG_W,ALKALI,ALKALI_FLAG_W,PH_TOT,PH_TOT_FLAG_W,PH_TMP,CFC113,CFC113_FLAG_W,SF6,SF6_FLAG_W,CHLORA,CHLORA_FLAG_W,PPHYTN,PPHYTN_FLAG_W,THETA,THETA_FLAG_W,SIG0,SIG0_FLAG_W,SBE35,SBE35_FLAG_W
,,,,,,,,,,,,METERS,DBAR,ITS-90,PSS-78,,UMOL/KG,,PSS78,,UMOL/KG,,UMOL/KG,,UMOL/KG,,UMOL/KG,,UMOL/KG,,PMOL/KG,,PMOL/KG,,UMOL/KG,,UMOL/KG,,,,DEG C,PMOL/KG,,FMOL/KG,,UG/KG,,UG/KG,,ITS-90,,KG/M^3,,ITS-90,
49UP20210827_1,   P03,    53,  1,      0,     BUC,2,20210903,1243,1445, 24.2380, 151.2473, 5426,      0.0,   29.2908,  34.7979,2,    195.4,2,     -999,9,   198.21,2,     1.01,2,     0.05,2,     0.00,2,    0.020,2,     -999,9,     -999,9,     -999,9,     -999,9,     -999,9,     -999,     -999,9,     -999,9,     -999,9,     -999,9,  29.2901,2,  21.8151,2,     -999,9
49UP20210827_1,   P03,    53,  1,     36,     757,2,20210903,1243,1516, 24.2380, 151.2473, 5426,     10.2,   29.2988,  34.7972,2,    195.5,2,     -999,9,   196.49,2,     0.99,2,     0.03,2,     0.00,2,    0.000,2,     -999,9,     -999,9,     -999,9,     -999,9,     -999,9,     -999,     -999,9,     -999,9,     -999,9,     -999,9,  29.2963,2,  21.8125,2,  29.2988,2
49UP20210827_1,   P03,    53,  1,     35,     756,2,20210903,1243,1511, 24.2380, 151.2473, 5426,     49.0,   27.6277,  34.8725,2,    209.1,2,     -999,9,   207.45,2,     1.11,2,     0.02,2,     0.00,2,    0.000,2,     -999,9,     -999,9,     -999,9,     -999,9,     -999,9,     -999,     -999,9,     -999,9,     -999,9,     -999,9,  27.6163,2,  22.4236,2,  27.6508,2
49UP20210827_1,   P03,    53,  1,     34,     843,2,20210903,1243,1509, 24.2380, 151.2473, 5426,     75.8,   24.7499,  34.9920,2,    222.5,2,     -999,9,   222.87,2,     1.25,2,     0.01,2,     0.00,2,    0.000,2,     -999,9,     -999,9,     -999,9,     -999,9,     -999,9,     -999,     -999,9,     -999,9,     -999,9,     -999,9,  24.7336,2,  23.4159,2,  24.7547,2
49UP20210827_1,   P03,    53,  1,     33,     842,2,20210903,1243,1507, 24.2380, 151.2473, 5426,    100.5,   22.5722,  34.9681,2,    225.9,2,     -999,9,   225.89,2,     1.54,2,     0.00,2,     0.00,2,    0.000,2,     -999,9,     -999,9,     -999,9,     -999,9,     -999,9,     -999,     -999,9,     -999,9,     -999,9,     -999,9,  22.5520,2,  24.0377,2,  22.5851,2
49UP20210827_1,   P03,    53,  1,     32,     841,2,20210903,1243,1505, 24.2380, 151.2473, 5426,    123.9,   21.5299,  34.9175,2,    213.8,2,     -999,9,   214.46,2,     1.66,2,     0.03,2,     0.00,2,    0.020,2,     -999,9,     -999,9,     -999,9,     -999,9,     -999,9,     -999,     -999,9,     -999,9,     -999,9,     -999,9,  21.5058,2,  24.2926,2,  21.5192,2
49UP20210827_1,   P03,    53,  1,     31,     840,2,20210903,1243,1504, 24.2380, 151.2473, 5426,    150.5,   20.1903,  34.8615,2,    211.1,2,     -999,9,   211.26,2,     1.85,2,     0.17,2,     0.10,2,    0.040,2,     -999,9,     -999,9,     -999,9,     -999,9,     -999,9,     -999,     -999,9,     -999,9,     -999,9,     -999,9,  20.1624,2,  24.6132,2,  20.1965,2
49UP20210827_1,   P03,    53,  1,     30,     839,2,20210903,1243,1501, 24.2380, 151.2473, 5426,    202.5,   17.9901,  34.7657,2,    212.6,2,     -999,9,   213.27,2,     2.98,2,     2.83,2,     0.01,2,    0.190,2,     -999,9,     -999,9,     -999,9,     -999,9,     -999,9,     -999,     -999,9,     -999,9,     -999,9,     -999,9,  17.9554,2,  25.1036,2,  17.9900,2
49UP20210827_1,   P03,    53,  1,     29,     838,2,20210903,1243,1459, 24.2380, 151.2473, 5426,    252.1,   17.3109,  34.7501,2,    210.8,2,     -999,9,   212.16,2,     3.82,2,     4.13,2,     0.00,2,    0.270,2,     -999,9,     -999,9,     -999,9,     -999,9,     -999,9,     -999,     -999,9,     -999,9,     -999,9,     -999,9,  17.2688,2,  25.2583,2,  17.3109,2
49UP20210827_1,   P03,    53,  1,     28,     755,2,20210903,1243,1457, 24.2380, 151.2473, 5426,    281.1,   16.8641,  34.7269,2,    208.0,2,     -999,9,   208.14,6,     4.86,6,     5.28,6,     0.00,6,    0.340,6,     -999,9,     -999,9,     -999,9,     -999,9,     -999,9,     -999,     -999,9,     -999,9,     -999,9,     -999,9,  16.8180,2,  25.3477,2,  16.8624,2
49UP20210827_1,   P03,    53,  1,     27,     754,3,20210903,1243,1453, 24.2380, 151.2473, 5426,    373.1,   14.3910,  34.5138,2,    196.6,2,     -999,9,   196.92,2,    10.00,2,     9.85,2,     0.00,2,    0.660,2,     -999,9,     -999,9,     -999,9,     -999,9,     -999,9,     -999,     -999,9,     -999,9,     -999,9,     -999,9,  14.3359,2,  25.7404,2,  14.3905,2
49UP20210827_1,   P03,    53,  1,     26,     835,2,20210903,1243,1450, 24.2380, 151.2473, 5426,    472.6,   11.3594,  34.2654,2,    192.3,2,     -999,9,   193.04,2,    18.51,2,    15.24,2,     0.00,2,    1.050,2,     -999,9,     -999,9,     -999,9,     -999,9,     -999,9,     -999,     -999,9,     -999,9,     -999,9,     -999,9,  11.2997,2,  26.1491,2,  11.3621,2
49UP20210827_1,   P03,    53,  1,     25,     834,2,20210903,1243,1447, 24.2380, 151.2473, 5426,    575.1,    8.2445,  34.0883,2,    157.4,2,     -999,9,   157.79,2,    39.43,2,    24.29,2,     0.00,2,    1.710,2,     -999,9,     -999,9,     -999,9,     -999,9,     -999,9,     -999,     -999,9,     -999,9,     -999,9,     -999,9,   8.1846,2,  26.5303,2,   8.2429,2
49UP20210827_1,   P03,    53,  1,     24,     753,2,20210903,1243,1443, 24.2380, 151.2473, 5426,    675.1,    5.9235,  34.0642,2,    105.3,2,     -999,9,   105.01,2,    68.19,2,    33.39,2,     0.00,2,    2.380,2,     -999,9,     -999,9,     -999,9,     -999,9,     -999,9,     -999,     -999,9,     -999,9,     -999,9,     -999,9,   5.8646,2,  26.8301,2,   5.9227,2
49UP20210827_1,   P03,    53,  1,     23,     832,2,20210903,1243,1440, 24.2380, 151.2473, 5426,    776.3,    4.7773,  34.1571,2,     64.7,2,     -999,9,    64.79,2,    92.18,2,    38.85,2,     0.00,2,    2.770,2,     -999,9,     -999,9,     -999,9,     -999,9,     -999,9,     -999,     -999,9,     -999,9,     -999,9,     -999,9,   4.7156,2,  27.0391,2,   4.7768,2
49UP20210827_1,   P03,    53,  1,     22,     831,2,20210903,1243,1437, 24.2380, 151.2473, 5426,    876.6,    4.2179,  34.2684,2,     47.5,2,     -999,9,    47.70,2,   107.42,2,    41.09,2,     0.00,2,    2.920,2,     -999,9,     -999,9,     -999,9,     -999,9,     -999,9,     -999,     -999,9,     -999,9,     -999,9,     -999,9,   4.1513,2,  27.1884,2,   4.2184,2
49UP20210827_1,   P03,    53,  1,     21,     830,2,20210903,1243,1434, 24.2380, 151.2473, 5426,    980.5,    3.9034,  34.3904,2,     51.8,2,     -999,9,    51.86,2,   115.04,2,    41.35,2,     0.00,2,    2.930,2,     -999,9,     -999,9,     -999,9,     -999,9,     -999,9,     -999,     -999,9,     -999,9,     -999,9,     -999,9,   3.8303,2,  27.3186,2,   3.9034,2
49UP20210827_1,   P03,    53,  1,     20,     829,2,20210903,1243,1429, 24.2380, 151.2473, 5426,   1140.8,    3.4116,  34.4467,2,     56.2,2,     -999,9,    56.48,2,   126.56,2,    41.57,2,     0.00,2,    2.930,2,     -999,9,     -999,9,     -999,9,     -999,9,     -999,9,     -999,     -999,9,     -999,9,     -999,9,     -999,9,   3.3293,2,  27.4127,2,   3.4105,2
49UP20210827_1,   P03,    53,  1,     19,     828,2,20210903,1243,1424, 24.2380, 151.2473, 5426,   1342.3,    2.7629,  34.5073,2,     63.8,2,     -999,9,    63.97,6,   141.52,6,    41.60,6,     0.00,6,    2.920,6,     -999,9,     -999,9,     -999,9,     -999,9,     -999,9,     -999,     -999,9,     -999,9,     -999,9,     -999,9,   2.6706,2,  27.5212,2,   2.7623,2
49UP20210827_1,   P03,    53,  1,     18,     752,2,20210903,1243,1419, 24.2380, 151.2473, 5426,   1545.3,    2.3623,  34.5543,2,     76.2,2,     -999,9,    76.16,2,   148.88,2,    41.00,2,     0.00,2,    2.870,2,     -999,9,     -999,9,     -999,9,     -999,9,     -999,9,     -999,     -999,9,     -999,9,     -999,9,     -999,9,   2.2583,2,  27.5938,2,   2.3620,2
49UP20210827_1,   P03,    53,  1,     17,     751,3,20210903,1243,1414, 24.2380, 151.2473, 5426,   1747.5,    2.0681,  34.5904,2,     88.7,2,     -999,9,    88.69,2,   153.15,2,    40.36,2,     0.00,2,    2.820,2,     -999,9,     -999,9,     -999,9,     -999,9,     -999,9,     -999,     -999,9,     -999,9,     -999,9,     -999,9,   1.9515,2,  27.6473,2,   2.0681,2
49UP20210827_1,   P03,    53,  1,     16,     328,2,20210903,1243,1409, 24.2380, 151.2473, 5426,   1951.0,    1.9158,  34.6109,2,     98.6,2,     -999,9,    98.79,2,   154.55,2,    39.83,2,     0.00,2,    2.770,2,     -999,9,     -999,9,     -999,9,     -999,9,     -999,9,     -999,     -999,9,     -999,9,     -999,9,     -999,9,   1.7848,2,  27.6767,2,   1.9158,2
49UP20210827_1,   P03,    53,  1,     15,     822,2,20210903,1243,1404, 24.2380, 151.2473, 5426,   2155.2,    1.8184,  34.6258,2,    107.8,2,     -999,9,   107.90,2,   153.91,2,    39.15,2,     0.00,2,    2.720,2,     -999,9,     -999,9,     -999,9,     -999,9,     -999,9,     -999,     -999,9,     -999,9,     -999,9,     -999,9,   1.6717,2,  27.6972,2,   1.8184,2
49UP20210827_1,   P03,    53,  1,     14,     326,2,20210903,1243,1359, 24.2380, 151.2473, 5426,   2358.0,    1.7258,  34.6393,2,    116.0,2,     -999,9,   116.11,2,   153.84,2,    38.67,2,     0.00,2,    2.680,2,     -999,9,     -999,9,     -999,9,     -999,9,     -999,9,     -999,     -999,9,     -999,9,     -999,9,     -999,9,   1.5632,2,  27.7160,2,   1.7256,2
49UP20210827_1,   P03,    53,  1,     13,     325,2,20210903,1243,1354, 24.2380, 151.2473, 5426,   2561.3,    1.6585,  34.6492,2,    122.9,2,     -999,9,   123.10,2,   153.45,2,    38.32,2,     0.00,2,    2.650,2,     -999,9,     -999,9,     -999,9,     -999,9,     -999,9,     -999,     -999,9,     -999,9,     -999,9,     -999,9,   1.4792,2,  27.7301,2,   1.6586,2
49UP20210827_1,   P03,    53,  1,     12,     324,2,20210903,1243,1349, 24.2380, 151.2473, 5426,   2764.9,    1.6041,  34.6573,2,    128.9,2,     -999,9,   129.60,2,   152.88,2,    37.87,2,     0.00,2,    2.620,2,     -999,9,     -999,9,     -999,9,     -999,9,     -999,9,     -999,     -999,9,     -999,9,     -999,9,     -999,9,   1.4072,2,  27.7419,2,   1.6041,2
49UP20210827_1,   P03,    53,  1,     11,     323,2,20210903,1243,1345, 24.2380, 151.2473, 5426,   2970.6,    1.5580,  34.6642,2,    134.7,2,     -999,9,   134.87,2,   152.19,2,    37.50,2,     0.00,2,    2.590,2,     -999,9,     -999,9,     -999,9,     -999,9,     -999,9,     -999,     -999,9,     -999,9,     -999,9,     -999,9,   1.3428,2,  27.7520,2,   1.5580,2
49UP20210827_1,   P03,    53,  1,     10,     322,2,20210903,1243,1339, 24.2380, 151.2473, 5426,   3214.8,    1.5263,  34.6699,2,    139.8,2,     -999,9,   140.23,6,   151.06,6,    37.17,6,     0.00,6,    2.570,6,     -999,9,     -999,9,     -999,9,     -999,9,     -999,9,     -999,     -999,9,     -999,9,     -999,9,     -999,9,   1.2882,2,  27.7604,2,   1.5263,2
49UP20210827_1,   P03,    53,  1,      9,     750,2,20210903,1243,1333, 24.2380, 151.2473, 5426,   3470.2,    1.4978,  34.6751,2,    144.9,2,     -999,9,   145.07,2,   150.06,2,    36.84,2,     0.00,2,    2.540,2,     -999,9,     -999,9,     -999,9,     -999,9,     -999,9,     -999,     -999,9,     -999,9,     -999,9,     -999,9,   1.2348,2,  27.7683,2,   1.4977,2
49UP20210827_1,   P03,    53,  1,      8,     320,2,20210903,1243,1327, 24.2380, 151.2473, 5426,   3725.6,    1.4762,  34.6795,2,    149.7,2,     -999,9,   149.89,2,   148.87,2,    36.52,2,     0.00,2,    2.510,2,     -999,9,     -999,9,     -999,9,     -999,9,     -999,9,     -999,     -999,9,     -999,9,     -999,9,     -999,9,   1.1874,2,  27.7751,2,   1.4763,2
49UP20210827_1,   P03,    53,  1,      7,     319,2,20210903,1243,1321, 24.2380, 151.2473, 5426,   3983.0,    1.4624,  34.6832,2,    154.3,2,     -999,9,   154.54,2,   147.36,2,    36.20,2,     0.00,2,    2.490,2,     -999,9,     -999,9,     -999,9,     -999,9,     -999,9,     -999,     -999,9,     -999,9,     -999,9,     -999,9,   1.1464,2,  27.7809,2,   1.4624,2
49UP20210827_1,   P03,    53,  1,      6,     318,2,20210903,1243,1315, 24.2380, 151.2473, 5426,   4237.1,    1.4646,  34.6857,2,    157.4,2,     -999,9,   157.74,2,   146.23,2,    35.95,2,     0.00,2,    2.470,2,     -999,9,     -999,9,     -999,9,     -999,9,     -999,9,     -999,     -999,9,     -999,9,     -999,9,     -999,9,   1.1206,2,  27.7847,2,   1.4648,2
49UP20210827_1,   P03,    53,  1,      5,     317,2,20210903,1243,1309, 24.2380, 151.2473, 5426,   4494.0,    1.4721,  34.6876,2,    160.2,2,     -999,9,   160.53,2,   144.49,2,    35.71,2,     0.00,2,    2.460,2,     -999,9,     -999,9,     -999,9,     -999,9,     -999,9,     -999,     -999,9,     -999,9,     -999,9,     -999,9,   1.0987,2,  27.7877,2,   1.4722,2
49UP20210827_1,   P03,    53,  1,      4,     316,2,20210903,1243,1303, 24.2380, 151.2473, 5426,   4753.0,    1.4833,  34.6894,2,    162.8,2,     -999,9,   163.38,2,   143.47,2,    35.54,2,     0.00,2,    2.440,2,     -999,9,     -999,9,     -999,9,     -999,9,     -999,9,     -999,     -999,9,     -999,9,     -999,9,     -999,9,   1.0792,2,  27.7905,2,   1.4833,2
49UP20210827_1,   P03,    53,  1,      3,     315,2,20210903,1243,1257, 24.2380, 151.2473, 5426,   5009.4,    1.4998,  34.6907,2,    165.3,2,     -999,9,   165.57,2,   141.73,2,    35.38,2,     0.00,2,    2.430,2,     -999,9,     -999,9,     -999,9,     -999,9,     -999,9,     -999,     -999,9,     -999,9,     -999,9,     -999,9,   1.0644,2,  27.7925,2,   1.4998,2
49UP20210827_1,   P03,    53,  1,      2,     314,2,20210903,1243,1251, 24.2380, 151.2473, 5426,   5266.7,    1.5119,  34.6927,2,    168.9,2,     -999,9,   169.11,2,   138.91,2,    35.11,2,     0.00,2,    2.410,2,     -999,9,     -999,9,     -999,9,     -999,9,     -999,9,     -999,     -999,9,     -999,9,     -999,9,     -999,9,   1.0444,2,  27.7954,2,   1.5119,2
49UP20210827_1,   P03,    53,  1,      1,     811,2,20210903,1243,1244, 24.2380, 151.2473, 5426,   5568.8,    1.5085,  34.6959,2,    175.9,2,     -999,9,   175.93,6,   134.26,6,    34.58,6,     0.00,6,    2.380,6,     -999,9,     -999,9,     -999,9,     -999,9,     -999,9,     -999,     -999,9,     -999,9,     -999,9,     -999,9,   1.0028,2,  27.8008,2,   1.5084,2