BOTTLE,20230808CCHSIOADS
EXPOCODE,SECT_ID,STNNBR,CASTNO,SAMPNO,BTLNBR,BTLNBR_FLAG_W,DATE,TIME,BTL_TIME,LATITUDE,LONGITUDE,DEPTH,CTDPRS,CTDTMP,CTDSAL,CTDSAL_FLAG_W,CTDOXY,CTDOXY_FLAG_W,SALNTY,SALNTY_FLAG_W,OXYGEN,OXYGEN_FLAG_W,SILCAT,SILCAT_FLAG_W,NO2+NO3,NO2+NO3_FLAG_W,NITRIT,NITRIT_FLAG_W,PHSPHT,PHSPHT_FLAG_W,CFC-11,CFC-11_FLAG_W,CFC-12,CFC-12_FLAG_W,TCARBN,TCARBN_FLAG_W,ALKALI,ALKALI_FLAG_W,PH_TOT,PH_TOT_FLAG_W,PH_TMP,CFC113,CFC113_FLAG_W,SF6,SF6_FLAG_W,CHLORA,CHLORA_FLAG_W,PPHYTN,PPHYTN_FLAG_W,THETA,THETA_FLAG_W,SIG0,SIG0_FLAG_W,SBE35,SBE35_FLAG_W
,,,,,,,,,,,,METERS,DBAR,ITS-90,PSS-78,,UMOL/KG,,PSS78,,UMOL/KG,,UMOL/KG,,UMOL/KG,,UMOL/KG,,UMOL/KG,,PMOL/KG,,PMOL/KG,,UMOL/KG,,UMOL/KG,,,,DEG C,PMOL/KG,,FMOL/KG,,UG/KG,,UG/KG,,ITS-90,,KG/M^3,,ITS-90,
49UP20210719_2,   P03,    12,  1,      0,     BUC,2,20210802,1050,1223, 24.4418, 130.3227, 4369,      0.0,   28.4929,  34.3044,2,    197.5,2,     -999,9,   197.71,2,     1.22,2,     0.07,2,     0.00,2,    0.020,2,     -999,9,     -999,9,     -999,9,     -999,9,     -999,9,     -999,     -999,9,     -999,9,     -999,9,     -999,9,  28.4922,2,  21.7102,2,     -999,9
49UP20210719_2,   P03,    12,  1,     36,     757,2,20210802,1050,1253, 24.4418, 130.3227, 4369,      9.8,   28.4678,  34.3102,2,    197.6,2,     -999,9,   198.22,2,     1.30,2,     0.07,2,     0.00,2,    0.010,2,     -999,9,     -999,9,     -999,9,     -999,9,     -999,9,     -999,     -999,9,     -999,9,     -999,9,     -999,9,  28.4654,2,  21.7234,2,  28.4669,2
49UP20210719_2,   P03,    12,  1,     35,     756,2,20210802,1050,1251, 24.4418, 130.3227, 4369,     25.1,   27.0385,  34.4369,2,    203.7,2,     -999,9,   203.55,2,     1.37,2,     0.07,2,     0.00,2,    0.010,2,     -999,9,     -999,9,     -999,9,     -999,9,     -999,9,     -999,     -999,9,     -999,9,     -999,9,     -999,9,  27.0327,2,  22.2832,2,  27.0382,2
49UP20210719_2,   P03,    12,  1,     34,     843,2,20210802,1050,1247, 24.4418, 130.3227, 4369,     50.4,   23.0620,  34.8330,2,    224.5,2,     -999,9,   222.76,2,     1.65,2,     0.03,2,     0.00,2,    0.010,2,     -999,9,     -999,9,     -999,9,     -999,9,     -999,9,     -999,     -999,9,     -999,9,     -999,9,     -999,9,  23.0517,2,  23.7920,2,  23.0568,2
49UP20210719_2,   P03,    12,  1,     33,     842,2,20210802,1050,1246, 24.4418, 130.3227, 4369,     75.0,   21.6018,  34.8176,2,    226.1,2,     -999,9,   225.45,2,     1.57,2,     0.03,2,     0.00,2,    0.020,2,     -999,9,     -999,9,     -999,9,     -999,9,     -999,9,     -999,     -999,9,     -999,9,     -999,9,     -999,9,  21.5872,2,  24.1941,2,  21.6028,2
49UP20210719_2,   P03,    12,  1,     32,     841,2,20210802,1050,1244, 24.4418, 130.3227, 4369,    100.9,   20.9182,  34.8150,2,    217.2,2,     -999,9,   217.21,2,     1.83,2,     0.17,2,     0.06,2,    0.040,2,     -999,9,     -999,9,     -999,9,     -999,9,     -999,9,     -999,     -999,9,     -999,9,     -999,9,     -999,9,  20.8989,2,  24.3805,2,  20.9182,2
49UP20210719_2,   P03,    12,  1,     31,     840,2,20210802,1050,1243, 24.4418, 130.3227, 4369,    126.5,   20.4460,  34.8113,2,    209.4,2,     -999,9,   209.52,2,     2.03,2,     1.25,2,     0.02,2,    0.100,2,     -999,9,     -999,9,     -999,9,     -999,9,     -999,9,     -999,     -999,9,     -999,9,     -999,9,     -999,9,  20.4223,2,  24.5059,2,  20.4474,2
49UP20210719_2,   P03,    12,  1,     30,     839,2,20210802,1050,1241, 24.4418, 130.3227, 4369,    150.3,   20.1195,  34.8144,2,    208.8,2,     -999,9,   209.34,2,     2.10,2,     1.52,2,     0.01,2,    0.120,2,     -999,9,     -999,9,     -999,9,     -999,9,     -999,9,     -999,     -999,9,     -999,9,     -999,9,     -999,9,  20.0917,2,  24.5960,2,  20.1180,2
49UP20210719_2,   P03,    12,  1,     29,     838,2,20210802,1050,1239, 24.4418, 130.3227, 4369,    204.3,   18.9498,  34.8089,2,    195.3,2,     -999,9,   195.86,2,     3.47,2,     3.65,2,     0.01,2,    0.260,2,     -999,9,     -999,9,     -999,9,     -999,9,     -999,9,     -999,     -999,9,     -999,9,     -999,9,     -999,9,  18.9135,2,  24.8971,2,  18.9537,2
49UP20210719_2,   P03,    12,  1,     28,     755,2,20210802,1050,1237, 24.4418, 130.3227, 4369,    252.3,   17.9367,  34.7792,2,    199.1,2,     -999,9,   199.64,6,     4.03,6,     4.47,6,     0.00,6,    0.300,6,     -999,9,     -999,9,     -999,9,     -999,9,     -999,9,     -999,     -999,9,     -999,9,     -999,9,     -999,9,  17.8935,2,  25.1291,2,  17.9366,2
49UP20210719_2,   P03,    12,  1,     26,     835,3,20210802,1050,1235, 24.4418, 130.3227, 4369,    333.2,   16.2606,  34.6825,2,    191.9,2,     -999,9,   193.28,2,     7.23,2,     7.49,2,     0.00,2,    0.500,2,     -999,9,     -999,9,     -999,9,     -999,9,     -999,9,     -999,     -999,9,     -999,9,     -999,9,     -999,9,  16.2072,2,  25.4559,2,  16.2647,2
49UP20210719_2,   P03,    12,  1,     27,     754,3,20210802,1050,1235, 24.4418, 130.3227, 4369,    333.3,   16.2375,  34.6800,2,    191.9,2,     -999,9,   192.99,2,     7.28,2,     7.59,2,     0.00,2,    0.500,2,     -999,9,     -999,9,     -999,9,     -999,9,     -999,9,     -999,     -999,9,     -999,9,     -999,9,     -999,9,  16.1842,2,  25.4593,2,  16.2366,2
49UP20210719_2,   P03,    12,  1,     25,     834,2,20210802,1050,1232, 24.4418, 130.3227, 4369,    434.3,   13.0464,  34.4227,2,    184.7,2,     -999,9,   185.61,2,    16.33,2,    13.32,2,     0.00,2,    0.920,2,     -999,9,     -999,9,     -999,9,     -999,9,     -999,9,     -999,     -999,9,     -999,9,     -999,9,     -999,9,  12.9864,2,  25.9484,2,  13.0444,2
49UP20210719_2,   P03,    12,  1,     24,     753,2,20210802,1050,1229, 24.4418, 130.3227, 4369,    535.7,    9.7333,  34.2089,2,    162.1,2,     -999,9,   162.52,2,    33.41,2,    21.11,2,     0.00,2,    1.490,2,     -999,9,     -999,9,     -999,9,     -999,9,     -999,9,     -999,     -999,9,     -999,9,     -999,9,     -999,9,   9.6718,2,  26.3893,2,   9.7326,2
49UP20210719_2,   P03,    12,  1,     23,     832,2,20210802,1050,1226, 24.4418, 130.3227, 4369,    634.8,    7.3234,  34.1332,2,    124.3,2,     -999,9,   125.29,2,    55.87,2,    28.94,2,     0.00,2,    2.070,2,     -999,9,     -999,9,     -999,9,     -999,9,     -999,9,     -999,     -999,9,     -999,9,     -999,9,     -999,9,   7.2614,2,  26.6997,2,   7.3228,2
49UP20210719_2,   P03,    12,  1,     22,     831,2,20210802,1050,1223, 24.4418, 130.3227, 4369,    736.0,    5.8784,  34.1636,2,     92.2,2,     -999,9,    92.36,2,    76.60,2,    34.31,2,     0.00,2,    2.460,2,     -999,9,     -999,9,     -999,9,     -999,9,     -999,9,     -999,     -999,9,     -999,9,     -999,9,     -999,9,   5.8140,2,  26.9150,2,   5.8755,2
49UP20210719_2,   P03,    12,  1,     21,     830,2,20210802,1050,1220, 24.4418, 130.3227, 4369,    836.4,    4.8288,  34.2239,2,     68.7,2,     -999,9,    68.48,6,    95.80,6,    38.10,6,     0.00,6,    2.730,6,     -999,9,     -999,9,     -999,9,     -999,9,     -999,9,     -999,     -999,9,     -999,9,     -999,9,     -999,9,   4.7616,2,  27.0870,2,   4.8303,2
49UP20210719_2,   P03,    12,  1,     20,     829,2,20210802,1050,1217, 24.4418, 130.3227, 4369,    938.8,    4.0884,  34.3181,2,     58.7,2,     -999,9,    58.28,2,   112.18,2,    39.96,2,     0.00,2,    2.860,2,     -999,9,     -999,9,     -999,9,     -999,9,     -999,9,     -999,     -999,9,     -999,9,     -999,9,     -999,9,   4.0175,2,  27.2419,2,   4.0889,2
49UP20210719_2,   P03,    12,  1,     19,     828,2,20210802,1050,1212, 24.4418, 130.3227, 4369,   1079.9,    3.4971,  34.3999,2,     57.9,2,     -999,9,    58.21,2,   125.29,2,    40.86,2,     0.00,2,    2.910,2,     -999,9,     -999,9,     -999,9,     -999,9,     -999,9,     -999,     -999,9,     -999,9,     -999,9,     -999,9,   3.4191,2,  27.3668,2,   3.4968,2
49UP20210719_2,   P03,    12,  1,     18,     752,2,20210802,1050,1207, 24.4418, 130.3227, 4369,   1283.0,    2.9606,  34.4866,2,     71.1,2,     -999,9,    70.89,2,   135.44,2,    40.49,2,     0.00,2,    2.870,2,     -999,9,     -999,9,     -999,9,     -999,9,     -999,9,     -999,     -999,9,     -999,9,     -999,9,     -999,9,   2.8711,2,  27.4869,2,   2.9605,2
49UP20210719_2,   P03,    12,  1,     17,     751,2,20210802,1050,1202, 24.4418, 130.3227, 4369,   1485.0,    2.5625,  34.5305,2,     82.1,2,     -999,9,    81.77,2,   141.50,2,    40.06,2,     0.00,2,    2.830,2,     -999,9,     -999,9,     -999,9,     -999,9,     -999,9,     -999,     -999,9,     -999,9,     -999,9,     -999,9,   2.4610,2,  27.5578,2,   2.5635,2
49UP20210719_2,   P03,    12,  1,     16,     328,2,20210802,1050,1158, 24.4418, 130.3227, 4369,   1688.9,    2.2136,  34.5778,2,     99.1,2,     -999,9,    99.12,2,   144.34,2,    39.21,2,     0.00,2,    2.760,2,     -999,9,     -999,9,     -999,9,     -999,9,     -999,9,     -999,     -999,9,     -999,9,     -999,9,     -999,9,   2.0999,2,  27.6254,2,   2.2113,2
49UP20210719_2,   P03,    12,  1,     15,     822,2,20210802,1050,1153, 24.4418, 130.3227, 4369,   1891.7,    2.0569,  34.5997,2,    108.5,2,     -999,9,   108.51,6,   144.80,6,    38.70,6,     0.00,6,    2.720,6,     -999,9,     -999,9,     -999,9,     -999,9,     -999,9,     -999,     -999,9,     -999,9,     -999,9,     -999,9,   1.9288,2,  27.6565,2,   2.0569,2
49UP20210719_2,   P03,    12,  1,     13,     325,3,20210802,1050,1147, 24.4418, 130.3227, 4369,   2094.1,    1.9143,  34.6203,2,    118.2,2,     -999,9,   117.30,2,   144.27,2,    38.12,2,     0.00,2,    2.670,2,     -999,9,     -999,9,     -999,9,     -999,9,     -999,9,     -999,     -999,9,     -999,9,     -999,9,     -999,9,   1.7713,2,  27.6853,2,   1.9129,2
49UP20210719_2,   P03,    12,  1,     14,     326,2,20210802,1050,1147, 24.4418, 130.3227, 4369,   2094.5,    1.9176,  34.6199,2,    118.1,2,     -999,9,   118.08,2,   144.58,2,    38.12,2,     0.00,2,    2.670,2,     -999,9,     -999,9,     -999,9,     -999,9,     -999,9,     -999,     -999,9,     -999,9,     -999,9,     -999,9,   1.7745,2,  27.6847,2,   1.9155,2
49UP20210719_2,   P03,    12,  1,     12,     324,2,20210802,1050,1142, 24.4418, 130.3227, 4369,   2297.0,    1.8227,  34.6344,2,    125.0,2,     -999,9,   125.31,2,   144.37,2,    37.74,2,     0.00,2,    2.640,2,     -999,9,     -999,9,     -999,9,     -999,9,     -999,9,     -999,     -999,9,     -999,9,     -999,9,     -999,9,   1.6638,2,  27.7047,2,   1.8225,2
49UP20210719_2,   P03,    12,  1,     11,     323,2,20210802,1050,1137, 24.4418, 130.3227, 4369,   2500.9,    1.7333,  34.6464,2,    131.6,2,     -999,9,   131.78,2,   144.24,2,    37.35,2,     0.00,2,    2.600,2,     -999,9,     -999,9,     -999,9,     -999,9,     -999,9,     -999,     -999,9,     -999,9,     -999,9,     -999,9,   1.5580,2,  27.7222,2,   1.7331,2
49UP20210719_2,   P03,    12,  1,     10,     322,2,20210802,1050,1132, 24.4418, 130.3227, 4369,   2706.1,    1.6725,  34.6552,2,    136.5,2,     -999,9,   136.45,2,   144.01,2,    37.10,2,     0.00,2,    2.580,2,     -999,9,     -999,9,     -999,9,     -999,9,     -999,9,     -999,     -999,9,     -999,9,     -999,9,     -999,9,   1.4796,2,  27.7350,2,   1.6724,2
49UP20210719_2,   P03,    12,  1,      9,     750,2,20210802,1050,1128, 24.4418, 130.3227, 4369,   2908.7,    1.6117,  34.6627,2,    141.4,2,     -999,9,   141.27,2,   143.92,2,    36.80,2,     0.00,2,    2.560,2,     -999,9,     -999,9,     -999,9,     -999,9,     -999,9,     -999,     -999,9,     -999,9,     -999,9,     -999,9,   1.4012,2,  27.7466,2,   1.6115,2
49UP20210719_2,   P03,    12,  1,      8,     320,2,20210802,1050,1122, 24.4418, 130.3227, 4369,   3122.4,    1.5851,  34.6673,2,    144.6,2,     -999,9,   144.54,2,   143.80,2,    36.56,2,     0.00,2,    2.540,2,     -999,9,     -999,9,     -999,9,     -999,9,     -999,9,     -999,     -999,9,     -999,9,     -999,9,     -999,9,   1.3547,2,  27.7536,2,   1.5851,2
49UP20210719_2,   P03,    12,  1,      7,     319,2,20210802,1050,1117, 24.4418, 130.3227, 4369,   3377.8,    1.5756,  34.6708,2,    146.9,2,     -999,9,   147.00,2,   143.58,2,    36.42,2,     0.00,2,    2.530,2,     -999,9,     -999,9,     -999,9,     -999,9,     -999,9,     -999,     -999,9,     -999,9,     -999,9,     -999,9,   1.3200,2,  27.7589,2,   1.5756,2
49UP20210719_2,   P03,    12,  1,      6,     318,2,20210802,1050,1111, 24.4418, 130.3227, 4369,   3635.2,    1.5631,  34.6745,2,    149.7,2,     -999,9,   149.60,6,   143.19,6,    36.29,6,     0.00,6,    2.520,6,     -999,9,     -999,9,     -999,9,     -999,9,     -999,9,     -999,     -999,9,     -999,9,     -999,9,     -999,9,   1.2814,2,  27.7646,2,   1.5631,2
49UP20210719_2,   P03,    12,  1,      5,     317,2,20210802,1050,1105, 24.4418, 130.3227, 4369,   3890.2,    1.5618,  34.6773,2,    151.8,2,     -999,9,   151.84,2,   142.93,2,    36.15,2,     0.00,2,    2.510,2,     -999,9,     -999,9,     -999,9,     -999,9,     -999,9,     -999,     -999,9,     -999,9,     -999,9,     -999,9,   1.2531,2,  27.7688,2,   1.5618,2
49UP20210719_2,   P03,    12,  1,      4,     316,2,20210802,1050,1105, 24.4418, 130.3227, 4369,   3890.3,    1.5618,  34.6773,2,    151.8,2,     -999,9,   151.77,2,   142.94,2,    36.14,2,     0.00,2,    2.510,2,     -999,9,     -999,9,     -999,9,     -999,9,     -999,9,     -999,     -999,9,     -999,9,     -999,9,     -999,9,   1.2531,2,  27.7688,2,   1.5618,2
49UP20210719_2,   P03,    12,  1,      3,     315,2,20210802,1050,1059, 24.4418, 130.3227, 4369,   4146.1,    1.5715,  34.6791,2,    153.3,2,     -999,9,   153.16,2,   142.63,2,    36.04,2,     0.00,2,    2.500,2,     -999,9,     -999,9,     -999,9,     -999,9,     -999,9,     -999,     -999,9,     -999,9,     -999,9,     -999,9,   1.2345,2,  27.7716,2,   1.5713,2
49UP20210719_2,   P03,    12,  1,      2,     314,2,20210802,1050,1053, 24.4418, 130.3227, 4369,   4404.8,    1.5965,  34.6794,2,    153.8,2,     -999,9,   153.72,2,   142.42,2,    35.98,2,     0.00,2,    2.490,2,     -999,9,     -999,9,     -999,9,     -999,9,     -999,9,     -999,     -999,9,     -999,9,     -999,9,     -999,9,   1.2296,2,  27.7722,2,   1.5962,2
49UP20210719_2,   P03,    12,  1,      1,     811,2,20210802,1050,1050, 24.4418, 130.3227, 4369,   4476.6,    1.6044,  34.6795,2,    153.9,2,     -999,9,   153.44,2,   142.43,2,    36.01,2,     0.00,2,    2.490,2,     -999,9,     -999,9,     -999,9,     -999,9,     -999,9,     -999,     -999,9,     -999,9,     -999,9,     -999,9,   1.2290,2,  27.7723,2,   1.6042,2