BOTTLE,20230808CCHSIOADS
EXPOCODE,SECT_ID,STNNBR,CASTNO,SAMPNO,BTLNBR,BTLNBR_FLAG_W,DATE,TIME,BTL_TIME,LATITUDE,LONGITUDE,DEPTH,CTDPRS,CTDTMP,CTDSAL,CTDSAL_FLAG_W,CTDOXY,CTDOXY_FLAG_W,SALNTY,SALNTY_FLAG_W,OXYGEN,OXYGEN_FLAG_W,SILCAT,SILCAT_FLAG_W,NO2+NO3,NO2+NO3_FLAG_W,NITRIT,NITRIT_FLAG_W,PHSPHT,PHSPHT_FLAG_W,CFC-11,CFC-11_FLAG_W,CFC-12,CFC-12_FLAG_W,TCARBN,TCARBN_FLAG_W,ALKALI,ALKALI_FLAG_W,PH_TOT,PH_TOT_FLAG_W,PH_TMP,CFC113,CFC113_FLAG_W,SF6,SF6_FLAG_W,CHLORA,CHLORA_FLAG_W,PPHYTN,PPHYTN_FLAG_W,THETA,THETA_FLAG_W,SIG0,SIG0_FLAG_W,SBE35,SBE35_FLAG_W
,,,,,,,,,,,,METERS,DBAR,ITS-90,PSS-78,,UMOL/KG,,PSS78,,UMOL/KG,,UMOL/KG,,UMOL/KG,,UMOL/KG,,UMOL/KG,,PMOL/KG,,PMOL/KG,,UMOL/KG,,UMOL/KG,,,,DEG C,PMOL/KG,,FMOL/KG,,UG/KG,,UG/KG,,ITS-90,,KG/M^3,,ITS-90,
49UP20210827_1,   P03,    56,  1,      0,     BUC,2,20210904,1950,2152, 24.2570, 153.5340, 5374,      0.0,   29.1869,  34.9881,2,    196.8,2,  34.9888,2,   197.19,2,     1.07,2,     0.00,2,     0.00,2,    0.040,2,     -999,9,     -999,9,   1971.0,2,   2295.9,2,   8.0967,2,    25.00,     -999,9,     -999,9,     0.06,2,     0.02,2,  29.1862,2,  21.9927,2,     -999,9
49UP20210827_1,   P03,    56,  1,     36,     757,2,20210904,1950,2218, 24.2570, 153.5340, 5374,      9.6,   29.1776,  34.9877,2,    196.7,2,  34.9872,2,   196.89,2,     1.12,2,     0.00,2,     0.00,2,    0.010,2,     -999,9,     -999,9,   1971.8,2,   2296.7,2,   8.0987,2,    25.00,     -999,9,     -999,9,     0.05,2,     0.02,2,  29.1753,2,  21.9962,2,  29.1803,2
49UP20210827_1,   P03,    56,  1,     35,     756,2,20210904,1950,2214, 24.2570, 153.5340, 5374,     49.5,   26.8292,  35.0548,2,    215.6,2,  35.0545,2,   215.27,2,     1.19,2,     0.00,2,     0.00,2,    0.010,2,     -999,9,     -999,9,   1981.9,2,   2301.4,2,   8.0870,2,    25.00,     -999,9,     -999,9,     0.09,2,     0.04,2,  26.8179,2,  22.8170,2,  26.8296,2
49UP20210827_1,   P03,    56,  1,     34,     843,2,20210904,1950,2212, 24.2570, 153.5340, 5374,     74.0,   23.9127,  35.0725,2,    229.4,2,  35.0726,2,   229.30,2,     1.51,2,     0.00,2,     0.00,2,    0.020,2,     -999,9,     -999,9,   1996.4,2,   2300.2,2,   8.0626,2,    25.00,     -999,9,     -999,9,     0.14,2,     0.06,2,  23.8972,2,  23.7267,2,  23.9112,2
49UP20210827_1,   P03,    56,  1,     33,     842,3,20210904,1950,2211, 24.2570, 153.5340, 5374,     99.3,   21.4493,  34.9643,2,    218.6,2,  34.9643,2,   218.45,2,     1.91,2,     0.01,2,     0.00,2,    0.030,2,     -999,9,     -999,9,   2017.1,2,   2295.8,2,   8.0215,2,    25.00,     -999,9,     -999,9,     0.18,2,     0.13,2,  21.4300,2,  24.3490,2,  21.4504,2
49UP20210827_1,   P03,    56,  1,     32,     841,2,20210904,1950,2209, 24.2570, 153.5340, 5374,    124.8,   19.4831,  34.8671,2,    202.2,2,  34.8664,6,   202.08,2,     2.54,2,     0.50,2,     0.10,2,    0.100,2,     -999,9,     -999,9,   2040.9,2,   2290.2,2,   7.9675,2,    25.00,     -999,9,     -999,9,     0.16,2,     0.47,2,  19.4605,2,  24.8012,2,  19.4838,2
49UP20210827_1,   P03,    56,  1,     31,     840,2,20210904,1950,2207, 24.2570, 153.5340, 5374,    151.7,   18.8281,  34.8429,2,    196.0,2,  34.8434,2,   195.98,6,     3.04,6,     2.18,6,     0.04,6,    0.200,6,     -999,9,     -999,9,   2050.1,2,   2287.1,2,   7.9463,2,    25.00,     -999,9,     -999,9,     0.06,2,     0.28,2,  18.8013,2,  24.9515,2,  18.8262,2
49UP20210827_1,   P03,    56,  1,     30,     839,2,20210904,1950,2205, 24.2570, 153.5340, 5374,    202.0,   17.2017,  34.7415,2,    203.0,2,  34.7410,2,   202.80,2,     4.42,2,     4.85,2,     0.00,2,    0.340,2,     -999,9,     -999,9,   2053.2,2,   2281.6,2,   7.9300,2,    25.00,     -999,9,     -999,9,     0.01,2,     0.03,2,  17.1681,2,  25.2758,2,  17.2007,2
49UP20210827_1,   P03,    56,  1,     29,     838,2,20210904,1950,2203, 24.2570, 153.5340, 5374,    250.7,   16.3654,  34.6857,2,    199.7,2,  34.6855,2,   199.38,2,     6.32,2,     6.66,2,     0.00,2,    0.450,2,     -999,9,     -999,9,   2061.7,2,   2279.6,2,   7.9074,2,    25.00,     -999,9,     -999,9,     -999,9,     -999,9,  16.3251,2,  25.4311,2,  16.3658,2
49UP20210827_1,   P03,    56,  1,     28,     755,2,20210904,1950,2201, 24.2570, 153.5340, 5374,    281.2,   15.7850,  34.6371,2,    197.5,2,  34.6364,2,   197.29,2,     7.68,2,     7.73,2,     0.00,2,    0.530,2,     -999,9,     -999,9,   2069.1,2,   2277.1,2,   7.8877,2,    25.00,     -999,9,     -999,9,     -999,9,     -999,9,  15.7409,2,  25.5273,2,  15.7804,2
49UP20210827_1,   P03,    56,  1,     27,     754,2,20210904,1950,2158, 24.2570, 153.5340, 5374,    371.8,   13.3027,  34.4267,2,    199.4,2,  34.4264,2,   199.35,2,    12.82,2,    11.20,2,     0.00,2,    0.780,2,     -999,9,     -999,9,   2092.8,2,   2270.5,2,   7.8229,2,    25.00,     -999,9,     -999,9,     -999,9,     -999,9,  13.2508,2,  25.8983,2,  13.3005,2
49UP20210827_1,   P03,    56,  1,     26,     835,2,20210904,1950,2155, 24.2570, 153.5340, 5374,    470.8,   10.7379,  34.2234,2,    190.9,2,  34.2240,2,   190.92,2,    21.36,2,    16.30,2,     0.00,2,    1.160,2,     -999,9,     -999,9,   2126.3,2,   2270.3,2,   7.7437,6,    25.00,     -999,9,     -999,9,     -999,9,     -999,9,  10.6806,2,  26.2276,2,  10.7370,2
49UP20210827_1,   P03,    56,  1,     25,     834,2,20210904,1950,2152, 24.2570, 153.5340, 5374,    573.4,    7.5086,  34.0760,2,    137.0,2,  34.0763,2,   136.62,2,    47.57,2,    27.31,2,     0.00,2,    1.970,2,     -999,9,     -999,9,   2203.4,6,   2283.8,6,   7.5726,2,    25.00,     -999,9,     -999,9,     -999,9,     -999,9,   7.4520,2,  26.6277,2,   7.5087,2
49UP20210827_1,   P03,    56,  1,     24,     753,2,20210904,1950,2149, 24.2570, 153.5340, 5374,    674.8,    5.9376,  34.0921,2,     95.0,2,  34.0926,2,    94.49,2,    69.53,2,    33.96,2,     0.00,2,    2.460,2,     -999,9,     -999,9,   2255.8,2,   2300.4,2,   7.4654,2,    25.00,     -999,9,     -999,9,     -999,9,     -999,9,   5.8786,2,  26.8504,2,   5.9339,2
49UP20210827_1,   P03,    56,  1,     23,     832,2,20210904,1950,2145, 24.2570, 153.5340, 5374,    777.0,    5.0179,  34.1627,2,     65.1,2,  34.1618,6,    64.72,2,    87.47,2,    38.13,2,     0.00,2,    2.760,2,     -999,9,     -999,9,   2295.5,2,   2318.6,2,   7.4063,2,    25.00,     -999,9,     -999,9,     -999,9,     -999,9,   4.9548,2,  27.0165,2,   5.0176,2
49UP20210827_1,   P03,    56,  1,     22,     831,2,20210904,1950,2142, 24.2570, 153.5340, 5374,    879.7,    4.4390,  34.2671,2,     48.8,2,  34.2667,2,    48.44,6,   102.17,6,    40.43,6,     0.00,6,    2.920,6,     -999,9,     -999,9,   2322.6,2,   2339.6,2,   7.3808,2,    25.00,     -999,9,     -999,9,     -999,9,     -999,9,   4.3706,2,  27.1642,2,   4.4384,2
49UP20210827_1,   P03,    56,  1,     21,     830,2,20210904,1950,2139, 24.2570, 153.5340, 5374,    975.4,    3.9953,  34.3413,2,     45.7,2,  34.3406,2,    45.39,2,   113.24,2,    41.31,2,     0.00,2,    2.970,2,     -999,9,     -999,9,   2338.4,2,   2354.3,2,   7.3802,2,    25.00,     -999,9,     -999,9,     -999,9,     -999,9,   3.9220,2,  27.2702,2,   3.9953,2
49UP20210827_1,   P03,    56,  1,     20,     829,2,20210904,1950,2135, 24.2570, 153.5340, 5374,   1139.5,    3.3738,  34.4294,2,     49.6,2,  34.4294,2,    49.28,2,   128.11,2,    41.69,2,     0.00,2,    2.980,2,     -999,9,     -999,9,   2353.1,2,   2374.7,2,   7.3926,6,    25.00,     -999,9,     -999,9,     -999,9,     -999,9,   3.2920,2,  27.4024,2,   3.3740,2
49UP20210827_1,   P03,    56,  1,     19,     828,2,20210904,1950,2130, 24.2570, 153.5340, 5374,   1341.0,    2.9148,  34.5014,2,     64.2,2,  34.5016,2,    63.87,2,   137.41,2,    41.09,2,     0.00,2,    2.930,2,     -999,9,     -999,9,   2354.4,6,   2387.1,6,   7.4264,2,    25.00,     -999,9,     -999,9,     -999,9,     -999,9,   2.8211,2,  27.5032,2,   2.9147,2
49UP20210827_1,   P03,    56,  1,     18,     752,2,20210904,1950,2124, 24.2570, 153.5340, 5374,   1544.6,    2.4853,  34.5423,2,     72.1,2,  34.5416,2,    71.82,2,   146.68,2,    40.89,2,     0.00,2,    2.900,2,     -999,9,     -999,9,   2359.1,2,   2397.3,2,   7.4369,2,    25.00,     -999,9,     -999,9,     -999,9,     -999,9,   2.3800,2,  27.5741,2,   2.4854,2
49UP20210827_1,   P03,    56,  1,     17,     751,2,20210904,1950,2118, 24.2570, 153.5340, 5374,   1750.5,    2.2020,  34.5755,2,     82.8,2,  34.5754,2,    82.69,2,   151.67,2,    40.36,2,     0.00,2,    2.860,2,     -999,9,     -999,9,   2358.8,2,   2405.0,2,   7.4562,2,    25.00,     -999,9,     -999,9,     -999,9,     -999,9,   2.0834,2,  27.6249,2,   2.2020,2
49UP20210827_1,   P03,    56,  1,     16,     328,2,20210904,1950,2112, 24.2570, 153.5340, 5374,   1952.1,    1.9710,  34.6052,2,     95.8,2,  34.6054,2,    96.02,2,   153.55,2,    39.64,2,     0.00,2,    2.800,2,     -999,9,     -999,9,   2356.6,2,   2408.7,2,   7.4797,2,    25.00,     -999,9,     -999,9,     -999,9,     -999,9,   1.8391,2,  27.6679,2,   1.9708,2
49UP20210827_1,   P03,    56,  1,     15,     822,2,20210904,1950,2107, 24.2570, 153.5340, 5374,   2154.9,    1.8166,  34.6261,2,    107.3,2,  34.6257,2,   106.88,2,   154.21,2,    38.96,2,     0.00,2,    2.740,2,     -999,9,     -999,9,   2352.3,2,   2411.0,2,   7.5009,2,    25.00,     -999,9,     -999,9,     -999,9,     -999,9,   1.6700,2,  27.6976,2,   1.8173,2
49UP20210827_1,   P03,    56,  1,     14,     326,2,20210904,1950,2102, 24.2570, 153.5340, 5374,   2357.9,    1.7104,  34.6409,2,    116.8,2,  34.6396,4,   116.16,2,   153.55,2,    38.34,2,     0.00,2,    2.690,2,     -999,9,     -999,9,   2346.3,2,   2414.2,2,   7.5183,2,    25.00,     -999,9,     -999,9,     -999,9,     -999,9,   1.5481,2,  27.7184,2,   1.7107,2
49UP20210827_1,   P03,    56,  1,     13,     325,2,20210904,1950,2056, 24.2570, 153.5340, 5374,   2561.9,    1.6529,  34.6496,2,    123.5,2,  34.6497,2,   123.14,6,   153.08,6,    37.95,6,     0.00,6,    2.660,6,     -999,9,     -999,9,   2342.1,2,   2414.6,2,   7.5298,2,    25.00,     -999,9,     -999,9,     -999,9,     -999,9,   1.4736,2,  27.7309,2,   1.6529,2
49UP20210827_1,   P03,    56,  1,     12,     324,2,20210904,1950,2051, 24.2570, 153.5340, 5374,   2766.6,    1.5892,  34.6587,2,    130.1,2,  34.6586,2,   130.15,2,   152.69,2,    37.49,2,     0.00,2,    2.620,2,     -999,9,     -999,9,   2339.2,2,   2416.7,2,   7.5437,2,    25.00,     -999,9,     -999,9,     -999,9,     -999,9,   1.3925,2,  27.7441,2,   1.5894,2
49UP20210827_1,   P03,    56,  1,     11,     323,2,20210904,1950,2046, 24.2570, 153.5340, 5374,   2970.2,    1.5419,  34.6655,2,    135.9,2,  34.6659,2,   135.71,2,   152.25,2,    37.16,2,     0.00,2,    2.600,2,     -999,9,     -999,9,   2337.6,2,   2413.6,2,   7.5550,6,    25.00,     -999,9,     -999,9,     -999,9,     -999,9,   1.3271,2,  27.7542,2,   1.5418,2
49UP20210827_1,   P03,    56,  1,     10,     322,2,20210904,1950,2040, 24.2570, 153.5340, 5374,   3215.6,    1.5040,  34.6719,2,    141.6,2,  34.6722,2,   141.48,2,   150.91,2,    36.82,2,     0.00,2,    2.570,2,     -999,9,     -999,9,   2334.3,6,   2415.5,6,   7.5604,2,    25.00,     -999,9,     -999,9,     -999,9,     -999,9,   1.2663,2,  27.7635,2,   1.5041,2
49UP20210827_1,   P03,    56,  1,      9,     750,2,20210904,1950,2034, 24.2570, 153.5340, 5374,   3471.3,    1.4771,  34.6769,2,    146.8,2,  34.6771,2,   146.73,2,   149.99,2,    36.45,2,     0.00,2,    2.540,2,     -999,9,     -999,9,   2330.3,2,   2414.4,2,   7.5704,2,    25.00,     -999,9,     -999,9,     -999,9,     -999,9,   1.2145,2,  27.7712,2,   1.4770,2
49UP20210827_1,   P03,    56,  1,      8,     320,2,20210904,1950,2028, 24.2570, 153.5340, 5374,   3725.3,    1.4614,  34.6807,2,    151.1,2,  34.6810,2,   151.25,2,   148.59,2,    36.13,2,     0.00,2,    2.520,2,     -999,9,     -999,9,   2326.5,2,   2413.2,2,   7.5783,2,    25.00,     -999,9,     -999,9,     -999,9,     -999,9,   1.1730,2,  27.7770,2,   1.4614,2
49UP20210827_1,   P03,    56,  1,      7,     319,2,20210904,1950,2023, 24.2570, 153.5340, 5374,   3982.6,    1.4539,  34.6841,2,    155.0,2,  34.6842,2,   155.23,2,   147.43,2,    35.92,2,     0.00,2,    2.500,2,     -999,9,     -999,9,   2322.5,2,   2412.8,2,   7.5814,2,    25.00,     -999,9,     -999,9,     -999,9,     -999,9,   1.1381,2,  27.7822,2,   1.4541,2
49UP20210827_1,   P03,    56,  1,      6,     318,3,20210904,1950,2017, 24.2570, 153.5340, 5374,   4237.6,    1.4516,  34.6868,2,    159.1,2,  34.6869,2,   159.09,2,   145.00,2,    35.60,2,     0.00,2,    2.480,2,     -999,9,     -999,9,   2319.5,2,   2408.8,2,   7.5880,2,    25.00,     -999,9,     -999,9,     -999,9,     -999,9,   1.1079,2,  27.7864,2,   1.4515,2
49UP20210827_1,   P03,    56,  1,      5,     317,2,20210904,1950,2011, 24.2570, 153.5340, 5374,   4494.6,    1.4587,  34.6889,2,    162.3,2,  34.6887,6,   162.21,2,   143.39,2,    35.44,2,     0.00,2,    2.460,2,     -999,9,     -999,9,   2317.0,2,   2409.0,2,   7.5925,2,    25.00,     -999,9,     -999,9,     -999,9,     -999,9,   1.0856,2,  27.7896,2,   1.4588,2
49UP20210827_1,   P03,    56,  1,      4,     316,2,20210904,1950,2006, 24.2570, 153.5340, 5374,   4751.7,    1.4705,  34.6905,2,    165.0,2,  34.6906,2,   165.02,6,   142.09,6,    35.23,6,     0.00,6,    2.440,6,     -999,9,     -999,9,   2314.5,2,   2407.1,2,   7.5978,2,    25.00,     -999,9,     -999,9,     -999,9,     -999,9,   1.0670,2,  27.7921,2,   1.4706,2
49UP20210827_1,   P03,    56,  1,      3,     315,2,20210904,1950,2000, 24.2570, 153.5340, 5374,   5009.0,    1.4863,  34.6919,2,    167.7,2,  34.6918,2,   167.65,2,   139.99,2,    35.02,2,     0.00,2,    2.430,2,     -999,9,     -999,9,   2311.8,2,   2407.1,2,   7.6006,2,    25.00,     -999,9,     -999,9,     -999,9,     -999,9,   1.0514,2,  27.7944,2,   1.4863,2
49UP20210827_1,   P03,    56,  1,      2,     314,2,20210904,1950,1955, 24.2570, 153.5340, 5374,   5264.3,    1.5024,  34.6934,2,    170.5,2,  34.6932,2,   170.32,2,   138.32,2,    34.80,2,     0.00,2,    2.410,2,     -999,9,     -999,9,   2308.1,2,   2404.2,2,   7.6026,2,    25.00,     -999,9,     -999,9,     -999,9,     -999,9,   1.0355,2,  27.7966,2,   1.5024,2
49UP20210827_1,   P03,    56,  1,      1,     811,2,20210904,1950,1950, 24.2570, 153.5340, 5374,   5501.3,    1.5209,  34.6945,2,    173.0,2,  34.6950,2,   172.88,2,   136.45,2,    34.69,2,     0.00,2,    2.400,2,     -999,9,     -999,9,   2305.3,2,   2403.6,2,   7.5993,2,    25.00,     -999,9,     -999,9,     -999,9,     -999,9,   1.0233,2,  27.7983,2,   1.5208,2