BOTTLE,20230808CCHSIOADS
EXPOCODE,SECT_ID,STNNBR,CASTNO,SAMPNO,BTLNBR,BTLNBR_FLAG_W,DATE,TIME,BTL_TIME,LATITUDE,LONGITUDE,DEPTH,CTDPRS,CTDTMP,CTDSAL,CTDSAL_FLAG_W,CTDOXY,CTDOXY_FLAG_W,SALNTY,SALNTY_FLAG_W,OXYGEN,OXYGEN_FLAG_W,SILCAT,SILCAT_FLAG_W,NO2+NO3,NO2+NO3_FLAG_W,NITRIT,NITRIT_FLAG_W,PHSPHT,PHSPHT_FLAG_W,CFC-11,CFC-11_FLAG_W,CFC-12,CFC-12_FLAG_W,TCARBN,TCARBN_FLAG_W,ALKALI,ALKALI_FLAG_W,PH_TOT,PH_TOT_FLAG_W,PH_TMP,CFC113,CFC113_FLAG_W,SF6,SF6_FLAG_W,CHLORA,CHLORA_FLAG_W,PPHYTN,PPHYTN_FLAG_W,THETA,THETA_FLAG_W,SIG0,SIG0_FLAG_W,SBE35,SBE35_FLAG_W
,,,,,,,,,,,,METERS,DBAR,ITS-90,PSS-78,,UMOL/KG,,PSS78,,UMOL/KG,,UMOL/KG,,UMOL/KG,,UMOL/KG,,UMOL/KG,,PMOL/KG,,PMOL/KG,,UMOL/KG,,UMOL/KG,,,,DEG C,PMOL/KG,,FMOL/KG,,UG/KG,,UG/KG,,ITS-90,,KG/M^3,,ITS-90,
49UP20210719_2,   P03,    18,  1,      0,     BUC,2,20210804,1201,1301, 23.7553, 132.9998, 2989,      0.0,   28.5200,  34.4048,2,    197.4,2,  34.4065,2,   198.58,2,     1.27,2,     0.04,2,     0.00,2,    0.030,2,     -999,9,     -999,9,   1948.8,2,   2257.8,2,   8.0852,2,    25.00,     -999,9,     -999,9,     0.04,2,     0.02,2,  28.5193,2,  21.7767,2,     -999,9
49UP20210719_2,   P03,    18,  1,     36,     757,2,20210804,1201,1332, 23.7553, 132.9998, 2989,      9.4,   28.5242,  34.4044,2,    197.3,2,  34.4046,2,   198.44,2,     1.30,2,     0.06,2,     0.00,2,    0.010,2,     -999,9,     -999,9,   1949.7,2,   2258.7,2,   8.0843,2,    25.00,     -999,9,     -999,9,     0.04,2,     0.02,2,  28.5220,2,  21.7755,2,  28.5257,2
49UP20210719_2,   P03,    18,  1,     35,     756,2,20210804,1201,1331, 23.7553, 132.9998, 2989,     26.2,   26.3500,  34.5656,2,    209.0,2,  34.5294,4,   207.71,2,     1.32,2,     0.02,2,     0.00,2,    0.010,2,     -999,9,     -999,9,   1962.2,2,   2268.6,2,   8.0741,2,    25.00,     -999,9,     -999,9,     0.06,2,     0.02,2,  26.3441,2,  22.5981,2,  26.4448,2
49UP20210719_2,   P03,    18,  1,     34,     843,2,20210804,1201,1327, 23.7553, 132.9998, 2989,     49.6,   22.6434,  34.8385,2,    218.7,2,  34.8367,2,   219.23,2,     1.49,2,     0.02,2,     0.00,2,    0.020,2,     -999,9,     -999,9,   1994.9,2,   2286.9,2,   8.0471,2,    25.00,     -999,9,     -999,9,     0.10,2,     0.04,2,  22.6334,2,  23.9162,2,  22.5906,2
49UP20210719_2,   P03,    18,  1,     30,     839,2,20210804,1201,1326, 23.7553, 132.9998, 2989,     74.9,   21.4396,  34.8280,2,    218.2,2,  34.8280,2,   218.15,2,     1.66,2,     0.02,2,     0.00,2,    0.020,2,     -999,9,     -999,9,   2002.2,2,   2287.9,2,   8.0324,2,    25.00,     -999,9,     -999,9,     0.16,2,     0.14,2,  21.4251,2,  24.2467,2,  21.4371,2
49UP20210719_2,   P03,    18,  1,     29,     838,2,20210804,1201,1324, 23.7553, 132.9998, 2989,    104.9,   20.6431,  34.8206,2,    210.2,2,  34.8222,6,   209.98,2,     1.94,2,     0.60,2,     0.03,2,    0.060,2,     -999,9,     -999,9,   2012.6,2,   2287.6,2,   8.0122,2,    25.00,     -999,9,     -999,9,     0.36,2,     0.62,2,  20.6233,2,  24.4591,2,  20.6412,2
49UP20210719_2,   P03,    18,  1,     28,     755,2,20210804,1201,1323, 23.7553, 132.9998, 2989,    127.3,   19.9738,  34.8324,2,    202.6,2,  34.8316,2,   202.63,2,     2.43,2,     1.84,2,     0.03,2,    0.140,2,     -999,9,     -999,9,   2025.1,2,   2286.9,2,   7.9921,2,    25.00,     -999,9,     -999,9,     0.10,2,     0.27,2,  19.9503,2,  24.6470,2,  19.9645,2
49UP20210719_2,   P03,    18,  1,     27,     754,3,20210804,1201,1322, 23.7553, 132.9998, 2989,    151.8,   19.4116,  34.8247,2,    194.6,2,  34.8253,2,   194.66,2,     2.95,2,     3.12,2,     0.01,2,    0.220,2,     -999,9,     -999,9,   2041.8,2,   2285.7,2,   7.9687,2,    25.00,     -999,9,     -999,9,     0.03,2,     0.09,2,  19.3842,2,  24.7886,2,  19.4165,2
49UP20210719_2,   P03,    18,  1,     26,     835,2,20210804,1201,1320, 23.7553, 132.9998, 2989,    203.8,   18.1763,  34.7887,2,    197.5,2,  34.7898,2,   197.74,6,     3.76,6,     4.09,6,     0.00,6,    0.280,6,     -999,9,     -999,9,   2046.1,2,   2285.6,2,   7.9467,2,    25.00,     -999,9,     -999,9,     0.01,2,     0.02,2,  18.1411,2,  25.0754,2,  18.1721,2
49UP20210719_2,   P03,    18,  1,     25,     834,2,20210804,1201,1318, 23.7553, 132.9998, 2989,    253.8,   17.1367,  34.7357,2,    192.9,2,  34.7361,2,   192.93,2,     6.12,2,     6.22,2,     0.00,2,    0.420,2,     -999,9,     -999,9,   2059.9,2,   2282.8,2,   7.9195,2,    25.00,     -999,9,     -999,9,     -999,9,     -999,9,  17.0946,2,  25.2889,2,  17.1436,2
49UP20210719_2,   P03,    18,  1,     24,     753,2,20210804,1201,1318, 23.7553, 132.9998, 2989,    253.8,   17.1358,  34.7350,2,    192.6,2,  34.7365,2,   193.01,2,     5.96,2,     6.25,2,     0.00,2,    0.420,2,     -999,9,     -999,9,   2060.7,2,   2282.4,2,   7.9177,2,    25.00,     -999,9,     -999,9,     -999,9,     -999,9,  17.0936,2,  25.2886,2,  17.1342,2
49UP20210719_2,   P03,    18,  1,     23,     832,2,20210804,1201,1315, 23.7553, 132.9998, 2989,    330.3,   15.2385,  34.5981,2,    189.0,2,  34.5987,2,   189.45,2,     9.68,2,     9.35,2,     0.00,2,    0.640,2,     -999,9,     -999,9,   2080.1,2,   2277.0,2,   7.8671,6,    25.00,     -999,9,     -999,9,     -999,9,     -999,9,  15.1879,2,  25.6207,2,  15.2330,2
49UP20210719_2,   P03,    18,  1,     22,     831,2,20210804,1201,1312, 23.7553, 132.9998, 2989,    434.5,   11.6429,  34.3278,2,    176.0,2,  34.3337,4,   175.50,2,    22.45,2,    16.37,2,     0.00,2,    1.150,2,     -999,9,     -999,9,   2127.0,6,   2274.0,6,   7.7551,2,    25.00,     -999,9,     -999,9,     -999,9,     -999,9,  11.5872,2,  26.1446,2,  11.6266,2
49UP20210719_2,   P03,    18,  1,     21,     830,2,20210804,1201,1309, 23.7553, 132.9998, 2989,    536.9,    8.3485,  34.1585,2,    140.5,2,  34.1584,2,   139.44,2,    45.22,2,    25.54,2,     0.00,2,    1.830,2,     -999,9,     -999,9,   2192.3,2,   2286.4,2,   7.6123,2,    25.00,     -999,9,     -999,9,     -999,9,     -999,9,   8.2922,2,  26.5691,2,   8.3452,2
49UP20210719_2,   P03,    18,  1,     20,     829,2,20210804,1201,1307, 23.7553, 132.9998, 2989,    635.9,    6.4530,  34.1344,2,    107.3,2,  34.1341,2,   107.10,2,    66.39,2,    31.81,2,     0.00,2,    2.280,2,     -999,9,     -999,9,   2241.5,2,   2301.9,2,   7.5116,2,    25.00,     -999,9,     -999,9,     -999,9,     -999,9,   6.3950,2,  26.8180,2,   6.4552,2
49UP20210719_2,   P03,    18,  1,     19,     828,2,20210804,1201,1304, 23.7553, 132.9998, 2989,    736.2,    5.3885,  34.1975,2,     81.1,2,  34.1976,6,    81.20,2,    85.38,2,    35.94,2,     0.00,2,    2.580,2,     -999,9,     -999,9,   2282.7,2,   2321.6,2,   7.4494,2,    25.00,     -999,9,     -999,9,     -999,9,     -999,9,   5.3268,2,  27.0009,2,   5.3877,2
49UP20210719_2,   P03,    18,  1,     18,     752,2,20210804,1201,1301, 23.7553, 132.9998, 2989,    838.5,    4.4185,  34.2673,2,     61.2,2,  34.2677,2,    60.46,6,   104.49,6,    39.22,6,     0.00,6,    2.810,6,     -999,9,     -999,9,   2316.8,2,   2339.5,2,   7.4041,2,    25.00,     -999,9,     -999,9,     -999,9,     -999,9,   4.3537,2,  27.1661,2,   4.4157,2
49UP20210719_2,   P03,    18,  1,     17,     751,2,20210804,1201,1258, 23.7553, 132.9998, 2989,    938.6,    4.0827,  34.3119,2,     58.2,2,  34.3122,2,    57.90,2,   112.20,2,    39.93,2,     0.00,2,    2.850,2,     -999,9,     -999,9,   2326.8,2,   2349.5,2,   7.4019,2,    25.00,     -999,9,     -999,9,     -999,9,     -999,9,   4.0118,2,  27.2376,2,   4.0860,2
49UP20210719_2,   P03,    18,  1,     16,     328,2,20210804,1201,1258, 23.7553, 132.9998, 2989,    939.5,    4.0822,  34.3120,2,     58.2,2,  34.3123,2,    57.84,2,   112.31,2,    39.99,2,     0.00,2,    2.860,2,     -999,9,     -999,9,   2326.1,2,   2351.2,2,   7.4013,2,    25.00,     -999,9,     -999,9,     -999,9,     -999,9,   4.0113,2,  27.2377,2,   4.0812,2
49UP20210719_2,   P03,    18,  1,     15,     822,2,20210804,1201,1253, 23.7553, 132.9998, 2989,   1080.1,    3.4022,  34.4142,2,     60.4,2,  34.4140,2,    59.88,2,   127.19,2,    40.58,2,     0.00,2,    2.900,2,     -999,9,     -999,9,   2341.8,2,   2371.4,2,   7.4115,2,    25.00,     -999,9,     -999,9,     -999,9,     -999,9,   3.3250,2,  27.3872,2,   3.4020,2
49UP20210719_2,   P03,    18,  1,     14,     326,2,20210804,1201,1247, 23.7553, 132.9998, 2989,   1283.9,    2.7416,  34.5018,2,     73.0,2,  34.5018,2,    73.15,2,   139.29,2,    40.36,2,     0.00,2,    2.870,2,     -999,9,     -999,9,   2349.4,2,   2390.0,2,   7.4396,2,    25.00,     -999,9,     -999,9,     -999,9,     -999,9,   2.6541,2,  27.5183,2,   2.7414,2
49UP20210719_2,   P03,    18,  1,     12,     324,2,20210804,1201,1242, 23.7553, 132.9998, 2989,   1486.0,    2.3948,  34.5543,2,     89.9,2,  34.5543,6,    89.58,2,   142.67,2,    39.57,2,     0.00,2,    2.790,2,     -999,9,     -999,9,   2346.9,2,   2397.7,2,   7.4718,6,    25.00,     -999,9,     -999,9,     -999,9,     -999,9,   2.2951,2,  27.5907,2,   2.3946,2
49UP20210719_2,   P03,    18,  1,     11,     323,2,20210804,1201,1236, 23.7553, 132.9998, 2989,   1689.5,    2.1586,  34.5865,2,    102.6,2,  34.5864,2,   102.32,2,   143.75,2,    38.84,2,     0.00,2,    2.740,2,     -999,9,     -999,9,   2344.1,6,   2403.0,6,   7.4957,2,    25.00,     -999,9,     -999,9,     -999,9,     -999,9,   2.0456,2,  27.6368,2,   2.1588,2
49UP20210719_2,   P03,    18,  1,     10,     322,2,20210804,1201,1231, 23.7553, 132.9998, 2989,   1891.2,    1.9626,  34.6149,2,    115.2,2,  34.6142,2,   114.61,2,   143.96,2,    38.15,2,     0.00,2,    2.680,2,     -999,9,     -999,9,   2339.3,2,   2408.8,2,   7.5200,2,    25.00,     -999,9,     -999,9,     -999,9,     -999,9,   1.8358,2,  27.6760,2,   1.9628,2
49UP20210719_2,   P03,    18,  1,      9,     750,2,20210804,1201,1225, 23.7553, 132.9998, 2989,   2095.2,    1.8563,  34.6277,2,    121.9,2,  34.6285,2,   121.40,2,   144.38,2,    37.75,2,     0.00,2,    2.650,2,     -999,9,     -999,9,   2336.9,2,   2410.2,2,   7.5337,2,    25.00,     -999,9,     -999,9,     -999,9,     -999,9,   1.7141,2,  27.6955,2,   1.8561,2
49UP20210719_2,   P03,    18,  1,      8,     320,2,20210804,1201,1220, 23.7553, 132.9998, 2989,   2298.2,    1.7573,  34.6413,2,    129.0,2,  34.6415,2,   128.74,6,   144.34,6,    37.37,6,     0.00,6,    2.610,6,     -999,9,     -999,9,   2335.1,2,   2410.9,2,   7.5454,2,    25.00,     -999,9,     -999,9,     -999,9,     -999,9,   1.5994,2,  27.7150,2,   1.7572,2
49UP20210719_2,   P03,    18,  1,      7,     319,2,20210804,1201,1216, 23.7553, 132.9998, 2989,   2499.4,    1.6842,  34.6506,2,    134.4,2,  34.6512,2,   134.83,2,   144.23,2,    37.04,2,     0.00,2,    2.590,2,     -999,9,     -999,9,   2334.1,2,   2410.9,2,   7.5523,2,    25.00,     -999,9,     -999,9,     -999,9,     -999,9,   1.5099,2,  27.7291,2,   1.6843,2
49UP20210719_2,   P03,    18,  1,      6,     318,2,20210804,1201,1215, 23.7553, 132.9998, 2989,   2501.5,    1.6840,  34.6509,2,    134.5,2,  34.6512,2,   134.41,2,   144.17,2,    37.01,2,     0.00,2,    2.580,2,     -999,9,     -999,9,   2333.4,2,   2411.5,2,   7.5535,2,    25.00,     -999,9,     -999,9,     -999,9,     -999,9,   1.5094,2,  27.7293,2,   1.6839,2
49UP20210719_2,   P03,    18,  1,      5,     317,2,20210804,1201,1210, 23.7553, 132.9998, 2989,   2704.2,    1.6217,  34.6590,2,    139.7,2,  34.6588,2,   139.52,2,   143.85,2,    36.73,2,     0.00,2,    2.560,2,     -999,9,     -999,9,   2329.9,2,   2414.1,2,   7.5634,2,    25.00,     -999,9,     -999,9,     -999,9,     -999,9,   1.4301,2,  27.7416,2,   1.6215,2
49UP20210719_2,   P03,    18,  1,      4,     316,2,20210804,1201,1205, 23.7553, 132.9998, 2989,   2908.3,    1.5747,  34.6657,2,    144.1,2,  34.6665,2,   143.93,2,   143.40,2,    36.41,2,     0.00,2,    2.540,2,     -999,9,     -999,9,   2327.8,2,   2412.7,2,   7.5703,2,    25.00,     -999,9,     -999,9,     -999,9,     -999,9,   1.3650,2,  27.7516,2,   1.5746,2
49UP20210719_2,   P03,    18,  1,      3,     315,2,20210804,1201,1202, 23.7553, 132.9998, 2989,   2993.8,    1.5610,  34.6679,2,    145.6,2,  34.6683,2,   144.98,2,   143.38,2,    36.34,2,     0.00,2,    2.540,2,     -999,9,     -999,9,   2327.7,2,   2414.8,2,   7.5725,2,    25.00,     -999,9,     -999,9,     -999,9,     -999,9,   1.3435,2,  27.7549,2,   1.5609,2