BOTTLE,20230808CCHSIOADS
EXPOCODE,SECT_ID,STNNBR,CASTNO,SAMPNO,BTLNBR,BTLNBR_FLAG_W,DATE,TIME,BTL_TIME,LATITUDE,LONGITUDE,DEPTH,CTDPRS,CTDTMP,CTDSAL,CTDSAL_FLAG_W,CTDOXY,CTDOXY_FLAG_W,SALNTY,SALNTY_FLAG_W,OXYGEN,OXYGEN_FLAG_W,SILCAT,SILCAT_FLAG_W,NO2+NO3,NO2+NO3_FLAG_W,NITRIT,NITRIT_FLAG_W,PHSPHT,PHSPHT_FLAG_W,CFC-11,CFC-11_FLAG_W,CFC-12,CFC-12_FLAG_W,TCARBN,TCARBN_FLAG_W,ALKALI,ALKALI_FLAG_W,PH_TOT,PH_TOT_FLAG_W,PH_TMP,CFC113,CFC113_FLAG_W,SF6,SF6_FLAG_W,CHLORA,CHLORA_FLAG_W,PPHYTN,PPHYTN_FLAG_W,THETA,THETA_FLAG_W,SIG0,SIG0_FLAG_W,SBE35,SBE35_FLAG_W
,,,,,,,,,,,,METERS,DBAR,ITS-90,PSS-78,,UMOL/KG,,PSS78,,UMOL/KG,,UMOL/KG,,UMOL/KG,,UMOL/KG,,UMOL/KG,,PMOL/KG,,PMOL/KG,,UMOL/KG,,UMOL/KG,,,,DEG C,PMOL/KG,,FMOL/KG,,UG/KG,,UG/KG,,ITS-90,,KG/M^3,,ITS-90,
49UP20210719_2,   P03,    39,  1,      0,     BUC,2,20210812,0550, 740, 24.2512, 143.2287, 4609,      0.0,   29.0912,  34.5102,2,    197.7,2,     -999,9,   197.85,2,     0.91,2,     0.00,2,     0.00,2,    0.020,2,     -999,9,     -999,9,     -999,9,     -999,9,     -999,9,     -999,     -999,9,     -999,9,     -999,9,     -999,9,  29.0906,2,  21.6661,2,     -999,9
49UP20210719_2,   P03,    39,  1,     36,     757,2,20210812,0550, 801, 24.2512, 143.2287, 4609,      9.1,   29.0989,  34.5109,2,    197.5,2,     -999,9,   197.78,2,     0.95,2,     0.00,2,     0.00,2,    0.010,2,     -999,9,     -999,9,     -999,9,     -999,9,     -999,9,     -999,     -999,9,     -999,9,     -999,9,     -999,9,  29.0967,2,  21.6646,2,  29.0983,2
49UP20210719_2,   P03,    39,  1,     35,     756,2,20210812,0550, 800, 24.2512, 143.2287, 4609,     24.5,   28.7758,  34.6084,2,    198.4,2,     -999,9,   198.44,2,     0.96,2,     0.00,2,     0.00,2,    0.010,2,     -999,9,     -999,9,     -999,9,     -999,9,     -999,9,     -999,     -999,9,     -999,9,     -999,9,     -999,9,  28.7700,2,  21.8467,2,  28.7777,2
49UP20210719_2,   P03,    39,  1,     34,     843,2,20210812,0550, 756, 24.2512, 143.2287, 4609,     49.7,   26.1812,  34.7972,2,    216.1,2,     -999,9,   215.29,2,     1.10,2,     0.00,2,     0.00,2,    0.000,2,     -999,9,     -999,9,     -999,9,     -999,9,     -999,9,     -999,     -999,9,     -999,9,     -999,9,     -999,9,  26.1701,2,  22.8272,2,  26.2014,2
49UP20210719_2,   P03,    39,  1,     33,     842,2,20210812,0550, 754, 24.2512, 143.2287, 4609,     75.5,   23.7662,  34.8659,2,    221.3,2,     -999,9,   220.90,2,     1.19,2,     0.00,2,     0.00,2,    0.000,2,     -999,9,     -999,9,     -999,9,     -999,9,     -999,9,     -999,     -999,9,     -999,9,     -999,9,     -999,9,  23.7504,2,  23.6135,2,  23.7693,2
49UP20210719_2,   P03,    39,  1,     32,     841,2,20210812,0550, 753, 24.2512, 143.2287, 4609,     99.3,   22.0957,  34.8939,2,    215.5,2,     -999,9,   215.88,2,     1.40,2,     0.00,2,     0.00,2,    0.010,2,     -999,9,     -999,9,     -999,9,     -999,9,     -999,9,     -999,     -999,9,     -999,9,     -999,9,     -999,9,  22.0760,2,  24.1159,2,  22.0755,2
49UP20210719_2,   P03,    39,  1,     31,     840,2,20210812,0550, 751, 24.2512, 143.2287, 4609,    124.7,   20.4809,  34.8581,2,    220.9,2,     -999,9,   220.63,2,     1.56,2,     0.00,2,     0.00,2,    0.020,2,     -999,9,     -999,9,     -999,9,     -999,9,     -999,9,     -999,     -999,9,     -999,9,     -999,9,     -999,9,  20.4575,2,  24.5321,2,  20.4883,2
49UP20210719_2,   P03,    39,  1,     30,     839,2,20210812,0550, 749, 24.2512, 143.2287, 4609,    151.5,   18.9569,  34.7958,2,    215.1,2,     -999,9,   214.84,2,     2.01,2,     1.36,2,     0.04,2,    0.100,2,     -999,9,     -999,9,     -999,9,     -999,9,     -999,9,     -999,     -999,9,     -999,9,     -999,9,     -999,9,  18.9300,2,  24.8830,2,  18.9565,2
49UP20210719_2,   P03,    39,  1,     29,     838,2,20210812,0550, 748, 24.2512, 143.2287, 4609,    201.7,   17.8919,  34.7684,2,    219.3,2,     -999,9,   218.70,2,     2.78,2,     2.54,2,     0.01,2,    0.170,2,     -999,9,     -999,9,     -999,9,     -999,9,     -999,9,     -999,     -999,9,     -999,9,     -999,9,     -999,9,  17.8575,2,  25.1296,2,  17.8949,2
49UP20210719_2,   P03,    39,  1,     28,     755,2,20210812,0550, 746, 24.2512, 143.2287, 4609,    251.4,   17.4853,  34.7648,2,    216.3,2,     -999,9,   215.64,2,     3.63,2,     3.58,2,     0.01,2,    0.240,2,     -999,9,     -999,9,     -999,9,     -999,9,     -999,9,     -999,     -999,9,     -999,9,     -999,9,     -999,9,  17.4431,2,  25.2277,2,  17.4872,2
49UP20210719_2,   P03,    39,  1,     27,     754,3,20210812,0550, 744, 24.2512, 143.2287, 4609,    301.9,   16.7781,  34.7203,2,    200.2,2,     -999,9,   199.47,6,     5.57,6,     6.11,6,     0.00,6,    0.410,6,     -999,9,     -999,9,     -999,9,     -999,9,     -999,9,     -999,     -999,9,     -999,9,     -999,9,     -999,9,  16.7287,2,  25.3636,2,  16.7781,2
49UP20210719_2,   P03,    39,  1,     26,     835,2,20210812,0550, 741, 24.2512, 143.2287, 4609,    401.8,   13.7255,  34.4674,2,    190.0,2,     -999,9,   189.47,2,    13.07,2,    11.54,2,     0.00,2,    0.790,2,     -999,9,     -999,9,     -999,9,     -999,9,     -999,9,     -999,     -999,9,     -999,9,     -999,9,     -999,9,  13.6681,2,  25.8445,2,  13.7236,2
49UP20210719_2,   P03,    39,  1,     25,     834,2,20210812,0550, 738, 24.2512, 143.2287, 4609,    503.3,   11.1217,  34.2636,2,    174.0,2,     -999,9,   173.52,2,    22.11,2,    17.19,2,     0.00,2,    1.220,2,     -999,9,     -999,9,     -999,9,     -999,9,     -999,9,     -999,     -999,9,     -999,9,     -999,9,     -999,9,  11.0589,2,  26.1915,2,  11.1202,2
49UP20210719_2,   P03,    39,  1,     24,     753,2,20210812,0550, 735, 24.2512, 143.2287, 4609,    605.0,    7.4311,  34.1229,2,    122.0,2,     -999,9,   121.22,2,    52.09,2,    28.75,2,     0.00,2,    2.070,2,     -999,9,     -999,9,     -999,9,     -999,9,     -999,9,     -999,     -999,9,     -999,9,     -999,9,     -999,9,   7.3716,2,  26.6760,2,   7.4316,2
49UP20210719_2,   P03,    39,  1,     23,     832,2,20210812,0550, 732, 24.2512, 143.2287, 4609,    705.9,    5.4517,  34.1300,2,     84.4,2,     -999,9,    83.94,2,    79.65,2,    35.52,2,     0.00,2,    2.560,2,     -999,9,     -999,9,     -999,9,     -999,9,     -999,9,     -999,     -999,9,     -999,9,     -999,9,     -999,9,   5.3924,2,  26.9396,2,   5.4520,2
49UP20210719_2,   P03,    39,  1,     22,     831,2,20210812,0550, 729, 24.2512, 143.2287, 4609,    805.3,    4.6983,  34.2194,2,     62.1,2,     -999,9,    61.67,2,    96.73,2,    38.68,2,     0.00,2,    2.780,2,     -999,9,     -999,9,     -999,9,     -999,9,     -999,9,     -999,     -999,9,     -999,9,     -999,9,     -999,9,   4.6346,2,  27.0975,2,   4.6983,2
49UP20210719_2,   P03,    39,  1,     21,     830,2,20210812,0550, 726, 24.2512, 143.2287, 4609,    907.5,    4.0967,  34.3005,2,     51.2,2,     -999,9,    51.03,2,   111.29,2,    40.39,2,     0.00,2,    2.900,2,     -999,9,     -999,9,     -999,9,     -999,9,     -999,9,     -999,     -999,9,     -999,9,     -999,9,     -999,9,   4.0283,2,  27.2268,2,   4.0967,2
49UP20210719_2,   P03,    39,  1,     20,     829,2,20210812,0550, 723, 24.2512, 143.2287, 4609,   1009.5,    3.7034,  34.3593,2,     49.3,2,     -999,9,    49.03,2,   121.22,2,    41.07,2,     0.00,2,    2.940,2,     -999,9,     -999,9,     -999,9,     -999,9,     -999,9,     -999,     -999,9,     -999,9,     -999,9,     -999,9,   3.6295,2,  27.3139,2,   3.7036,2
49UP20210719_2,   P03,    39,  1,     19,     828,2,20210812,0550, 718, 24.2512, 143.2287, 4609,   1212.1,    3.0536,  34.4519,2,     55.8,2,     -999,9,    55.86,2,   135.94,2,    41.32,2,     0.00,2,    2.940,2,     -999,9,     -999,9,     -999,9,     -999,9,     -999,9,     -999,     -999,9,     -999,9,     -999,9,     -999,9,   2.9689,2,  27.4504,2,   3.0538,2
49UP20210719_2,   P03,    39,  1,     18,     752,2,20210812,0550, 713, 24.2512, 143.2287, 4609,   1415.0,    2.6498,  34.5026,2,     62.9,2,     -999,9,    62.70,6,   144.90,6,    41.20,6,     0.00,6,    2.920,6,     -999,9,     -999,9,     -999,9,     -999,9,     -999,9,     -999,     -999,9,     -999,9,     -999,9,     -999,9,   2.5530,2,  27.5277,2,   2.6500,2
49UP20210719_2,   P03,    39,  1,     16,     328,2,20210812,0550, 708, 24.2512, 143.2287, 4609,   1615.6,    2.3122,  34.5524,2,     78.1,2,     -999,9,    78.01,2,   149.45,2,    40.43,2,     0.00,2,    2.860,2,     -999,9,     -999,9,     -999,9,     -999,9,     -999,9,     -999,     -999,9,     -999,9,     -999,9,     -999,9,   2.2032,2,  27.5967,2,   2.3116,2
49UP20210719_2,   P03,    39,  1,     17,     751,2,20210812,0550, 708, 24.2512, 143.2287, 4609,   1616.2,    2.3106,  34.5526,2,     78.2,2,     -999,9,    78.03,2,   149.70,2,    40.39,2,     0.00,2,    2.860,2,     -999,9,     -999,9,     -999,9,     -999,9,     -999,9,     -999,     -999,9,     -999,9,     -999,9,     -999,9,   2.2015,2,  27.5971,2,   2.3109,2
49UP20210719_2,   P03,    39,  1,     15,     822,2,20210812,0550, 702, 24.2512, 143.2287, 4609,   1819.5,    2.1147,  34.5823,2,     89.4,2,     -999,9,    89.09,2,   151.31,2,    39.76,2,     0.00,2,    2.800,2,     -999,9,     -999,9,     -999,9,     -999,9,     -999,9,     -999,     -999,9,     -999,9,     -999,9,     -999,9,   1.9917,2,  27.6377,2,   2.1147,2
49UP20210719_2,   P03,    39,  1,     14,     326,2,20210812,0550, 657, 24.2512, 143.2287, 4609,   2024.4,    1.9118,  34.6105,2,    101.7,2,     -999,9,   101.41,2,   153.26,2,    39.12,2,     0.00,2,    2.750,2,     -999,9,     -999,9,     -999,9,     -999,9,     -999,9,     -999,     -999,9,     -999,9,     -999,9,     -999,9,   1.7748,2,  27.6771,2,   1.9119,2
49UP20210719_2,   P03,    39,  1,     13,     325,3,20210812,0550, 652, 24.2512, 143.2287, 4609,   2225.4,    1.7945,  34.6287,2,    112.1,2,     -999,9,   111.76,2,   152.66,2,    38.50,2,     0.00,2,    2.690,2,     -999,9,     -999,9,     -999,9,     -999,9,     -999,9,     -999,     -999,9,     -999,9,     -999,9,     -999,9,   1.6422,2,  27.7017,2,   1.7948,2
49UP20210719_2,   P03,    39,  1,     12,     324,2,20210812,0550, 647, 24.2512, 143.2287, 4609,   2430.1,    1.7023,  34.6440,2,    121.8,2,     -999,9,   121.71,2,   151.86,2,    37.85,2,     0.00,2,    2.650,2,     -999,9,     -999,9,     -999,9,     -999,9,     -999,9,     -999,     -999,9,     -999,9,     -999,9,     -999,9,   1.5338,2,  27.7220,2,   1.7025,2
49UP20210719_2,   P03,    39,  1,     11,     323,2,20210812,0550, 642, 24.2512, 143.2287, 4609,   2634.2,    1.6493,  34.6521,2,    127.8,2,     -999,9,   127.15,6,   150.96,6,    37.49,6,     0.00,6,    2.620,6,     -999,9,     -999,9,     -999,9,     -999,9,     -999,9,     -999,     -999,9,     -999,9,     -999,9,     -999,9,   1.4635,2,  27.7336,2,   1.6493,2
49UP20210719_2,   P03,    39,  1,     10,     322,2,20210812,0550, 636, 24.2512, 143.2287, 4609,   2837.5,    1.5882,  34.6604,2,    133.0,2,     -999,9,   132.51,2,   151.43,2,    37.15,2,     0.00,2,    2.600,2,     -999,9,     -999,9,     -999,9,     -999,9,     -999,9,     -999,     -999,9,     -999,9,     -999,9,     -999,9,   1.3849,2,  27.7460,2,   1.5883,2
49UP20210719_2,   P03,    39,  1,      9,     750,2,20210812,0550, 631, 24.2512, 143.2287, 4609,   3041.8,    1.5435,  34.6669,2,    138.3,2,     -999,9,   138.65,2,   150.76,2,    36.87,2,     0.00,2,    2.570,2,     -999,9,     -999,9,     -999,9,     -999,9,     -999,9,     -999,     -999,9,     -999,9,     -999,9,     -999,9,   1.3218,2,  27.7556,2,   1.5437,2
49UP20210719_2,   P03,    39,  1,      8,     320,2,20210812,0550, 625, 24.2512, 143.2287, 4609,   3296.5,    1.4999,  34.6736,2,    144.5,2,     -999,9,   144.46,2,   149.45,2,    36.42,2,     0.00,2,    2.530,2,     -999,9,     -999,9,     -999,9,     -999,9,     -999,9,     -999,     -999,9,     -999,9,     -999,9,     -999,9,   1.2543,2,  27.7658,2,   1.4999,2
49UP20210719_2,   P03,    39,  1,      7,     319,2,20210812,0550, 619, 24.2512, 143.2287, 4609,   3551.4,    1.4753,  34.6784,2,    149.3,2,     -999,9,   149.44,2,   148.44,2,    36.10,2,     0.00,2,    2.510,2,     -999,9,     -999,9,     -999,9,     -999,9,     -999,9,     -999,     -999,9,     -999,9,     -999,9,     -999,9,   1.2045,2,  27.7730,2,   1.4754,2
49UP20210719_2,   P03,    39,  1,      6,     318,3,20210812,0550, 613, 24.2512, 143.2287, 4609,   3807.8,    1.4719,  34.6812,2,    152.7,2,     -999,9,   152.22,2,   147.20,2,    35.87,2,     0.00,2,    2.490,2,     -999,9,     -999,9,     -999,9,     -999,9,     -999,9,     -999,     -999,9,     -999,9,     -999,9,     -999,9,   1.1745,2,  27.7774,2,   1.4719,2
49UP20210719_2,   P03,    39,  1,      5,     317,2,20210812,0550, 607, 24.2512, 143.2287, 4609,   4063.8,    1.4712,  34.6839,2,    155.6,2,     -999,9,   155.36,2,   146.36,2,    35.65,2,     0.00,2,    2.480,2,     -999,9,     -999,9,     -999,9,     -999,9,     -999,9,     -999,     -999,9,     -999,9,     -999,9,     -999,9,   1.1461,2,  27.7815,2,   1.4713,2
49UP20210719_2,   P03,    39,  1,      4,     316,2,20210812,0550, 601, 24.2512, 143.2287, 4609,   4319.7,    1.4762,  34.6858,2,    158.6,2,     -999,9,   158.61,2,   144.89,2,    35.47,2,     0.00,2,    2.460,2,     -999,9,     -999,9,     -999,9,     -999,9,     -999,9,     -999,     -999,9,     -999,9,     -999,9,     -999,9,   1.1225,2,  27.7846,2,   1.4762,2
49UP20210719_2,   P03,    39,  1,      3,     315,2,20210812,0550, 555, 24.2512, 143.2287, 4609,   4577.2,    1.4901,  34.6873,2,    160.9,2,     -999,9,   160.83,6,   143.57,6,    35.28,6,     0.00,6,    2.450,6,     -999,9,     -999,9,     -999,9,     -999,9,     -999,9,     -999,     -999,9,     -999,9,     -999,9,     -999,9,   1.1065,2,  27.7869,2,   1.4900,2
49UP20210719_2,   P03,    39,  1,      1,     811,2,20210812,0550, 551, 24.2512, 143.2287, 4609,   4735.6,    1.4930,  34.6886,2,    163.2,2,     -999,9,   162.93,2,   142.12,2,    35.21,2,     0.00,2,    2.440,2,     -999,9,     -999,9,     -999,9,     -999,9,     -999,9,     -999,     -999,9,     -999,9,     -999,9,     -999,9,   1.0907,2,  27.7890,2,   1.4929,2
49UP20210719_2,   P03,    39,  1,      2,     314,2,20210812,0550, 551, 24.2512, 143.2287, 4609,   4736.4,    1.4930,  34.6886,2,    163.2,2,     -999,9,   163.00,2,   142.44,2,    35.16,2,     0.00,2,    2.430,2,     -999,9,     -999,9,     -999,9,     -999,9,     -999,9,     -999,     -999,9,     -999,9,     -999,9,     -999,9,   1.0906,2,  27.7890,2,   1.4929,2