BOTTLE,20230808CCHSIOADS
EXPOCODE,SECT_ID,STNNBR,CASTNO,SAMPNO,BTLNBR,BTLNBR_FLAG_W,DATE,TIME,BTL_TIME,LATITUDE,LONGITUDE,DEPTH,CTDPRS,CTDTMP,CTDSAL,CTDSAL_FLAG_W,CTDOXY,CTDOXY_FLAG_W,SALNTY,SALNTY_FLAG_W,OXYGEN,OXYGEN_FLAG_W,SILCAT,SILCAT_FLAG_W,NO2+NO3,NO2+NO3_FLAG_W,NITRIT,NITRIT_FLAG_W,PHSPHT,PHSPHT_FLAG_W,CFC-11,CFC-11_FLAG_W,CFC-12,CFC-12_FLAG_W,TCARBN,TCARBN_FLAG_W,ALKALI,ALKALI_FLAG_W,PH_TOT,PH_TOT_FLAG_W,PH_TMP,CFC113,CFC113_FLAG_W,SF6,SF6_FLAG_W,CHLORA,CHLORA_FLAG_W,PPHYTN,PPHYTN_FLAG_W,THETA,THETA_FLAG_W,SIG0,SIG0_FLAG_W,SBE35,SBE35_FLAG_W
,,,,,,,,,,,,METERS,DBAR,ITS-90,PSS-78,,UMOL/KG,,PSS78,,UMOL/KG,,UMOL/KG,,UMOL/KG,,UMOL/KG,,UMOL/KG,,PMOL/KG,,PMOL/KG,,UMOL/KG,,UMOL/KG,,,,DEG C,PMOL/KG,,FMOL/KG,,UG/KG,,UG/KG,,ITS-90,,KG/M^3,,ITS-90,
49UP20210719_2,   P03,    19,  1,      0,     BUC,2,20210804,1856,2045, 24.0115, 133.2647, 4444,      0.0,   28.2935,  34.2707,2,    198.1,2,     -999,9,   198.19,2,     1.25,2,     0.08,2,     0.00,2,    0.020,2,     -999,9,     -999,9,     -999,9,     -999,9,     -999,9,     -999,     -999,9,     -999,9,     -999,9,     -999,9,  28.2929,2,  21.7505,2,     -999,9
49UP20210719_2,   P03,    19,  1,     36,     757,3,20210804,1856,2107, 24.0115, 133.2647, 4444,      9.7,   28.2989,  34.2707,2,    198.0,2,     -999,9,   198.27,2,     1.25,2,     0.04,2,     0.00,2,    0.000,2,     -999,9,     -999,9,     -999,9,     -999,9,     -999,9,     -999,     -999,9,     -999,9,     -999,9,     -999,9,  28.2966,2,  21.7493,2,  28.2988,2
49UP20210719_2,   P03,    19,  1,     35,     756,2,20210804,1856,2105, 24.0115, 133.2647, 4444,     25.0,   27.8970,  34.2465,2,    200.1,2,     -999,9,   200.16,2,     1.29,2,     0.04,2,     0.00,2,    0.000,2,     -999,9,     -999,9,     -999,9,     -999,9,     -999,9,     -999,     -999,9,     -999,9,     -999,9,     -999,9,  27.8911,2,  21.8635,2,  27.8819,2
49UP20210719_2,   P03,    19,  1,     34,     843,2,20210804,1856,2101, 24.0115, 133.2647, 4444,     48.9,   23.1746,  34.8257,2,    227.1,2,     -999,9,   226.23,2,     1.57,2,     0.05,2,     0.00,2,    0.000,2,     -999,9,     -999,9,     -999,9,     -999,9,     -999,9,     -999,     -999,9,     -999,9,     -999,9,     -999,9,  23.1646,2,  23.7539,2,  23.1656,2
49UP20210719_2,   P03,    19,  1,     33,     842,2,20210804,1856,2100, 24.0115, 133.2647, 4444,     73.3,   20.8694,  34.8624,2,    217.4,2,     -999,9,   216.88,2,     1.82,2,     0.05,2,     0.00,2,    0.010,2,     -999,9,     -999,9,     -999,9,     -999,9,     -999,9,     -999,     -999,9,     -999,9,     -999,9,     -999,9,  20.8555,2,  24.4283,2,  20.8751,2
49UP20210719_2,   P03,    19,  1,     32,     841,2,20210804,1856,2058, 24.0115, 133.2647, 4444,    100.8,   20.3143,  34.8502,2,    210.9,2,     -999,9,   210.78,2,     2.05,2,     0.34,2,     0.06,2,    0.050,2,     -999,9,     -999,9,     -999,9,     -999,9,     -999,9,     -999,     -999,9,     -999,9,     -999,9,     -999,9,  20.2955,2,  24.5692,2,  20.3135,2
49UP20210719_2,   P03,    19,  1,     31,     840,2,20210804,1856,2056, 24.0115, 133.2647, 4444,    126.6,   19.7372,  34.8423,2,    203.3,2,     -999,9,   203.59,2,     2.37,2,     1.44,2,     0.06,2,    0.110,2,     -999,9,     -999,9,     -999,9,     -999,9,     -999,9,     -999,     -999,9,     -999,9,     -999,9,     -999,9,  19.7140,2,  24.7164,2,  19.7545,2
49UP20210719_2,   P03,    19,  1,     30,     839,2,20210804,1856,2055, 24.0115, 133.2647, 4444,    151.8,   19.1995,  34.8273,2,    198.3,2,     -999,9,   198.60,2,     2.90,2,     2.76,2,     0.02,2,    0.180,2,     -999,9,     -999,9,     -999,9,     -999,9,     -999,9,     -999,     -999,9,     -999,9,     -999,9,     -999,9,  19.1723,2,  24.8451,2,  19.2042,2
49UP20210719_2,   P03,    19,  1,     29,     838,2,20210804,1856,2053, 24.0115, 133.2647, 4444,    204.9,   18.0379,  34.7890,2,    196.6,2,     -999,9,   196.79,6,     3.86,6,     4.30,6,     0.01,6,    0.290,6,     -999,9,     -999,9,     -999,9,     -999,9,     -999,9,     -999,     -999,9,     -999,9,     -999,9,     -999,9,  18.0027,2,  25.1098,2,  18.0380,2
49UP20210719_2,   P03,    19,  1,     28,     755,2,20210804,1856,2051, 24.0115, 133.2647, 4444,    253.0,   16.7509,  34.7104,2,    190.6,2,     -999,9,   191.00,2,     7.11,2,     7.05,2,     0.00,2,    0.470,2,     -999,9,     -999,9,     -999,9,     -999,9,     -999,9,     -999,     -999,9,     -999,9,     -999,9,     -999,9,  16.7096,2,  25.3605,2,  16.7511,2
49UP20210719_2,   P03,    19,  1,     27,     754,2,20210804,1856,2048, 24.0115, 133.2647, 4444,    301.9,   15.4166,  34.6113,2,    186.4,2,     -999,9,   186.60,2,    10.07,2,     9.37,2,     0.00,2,    0.630,2,     -999,9,     -999,9,     -999,9,     -999,9,     -999,9,     -999,     -999,9,     -999,9,     -999,9,     -999,9,  15.3700,2,  25.5905,2,  15.4166,2
49UP20210719_2,   P03,    19,  1,     26,     835,2,20210804,1856,2045, 24.0115, 133.2647, 4444,    404.9,   12.9616,  34.4183,2,    181.7,2,     -999,9,   181.03,2,    16.65,2,    13.61,2,     0.00,2,    0.940,2,     -999,9,     -999,9,     -999,9,     -999,9,     -999,9,     -999,     -999,9,     -999,9,     -999,9,     -999,9,  12.9059,2,  25.9609,2,  12.9623,2
49UP20210719_2,   P03,    19,  1,     25,     834,2,20210804,1856,2042, 24.0115, 133.2647, 4444,    507.2,    9.9581,  34.2290,2,    161.7,2,     -999,9,   161.98,6,    32.20,6,    20.61,6,     0.00,6,    1.450,6,     -999,9,     -999,9,     -999,9,     -999,9,     -999,9,     -999,     -999,9,     -999,9,     -999,9,     -999,9,   9.8990,2,  26.3670,2,   9.9548,2
49UP20210719_2,   P03,    19,  1,     23,     832,2,20210804,1856,2039, 24.0115, 133.2647, 4444,    607.2,    7.3266,  34.1285,2,    126.4,2,     -999,9,   126.27,2,    55.19,2,    28.66,2,     0.00,2,    2.040,2,     -999,9,     -999,9,     -999,9,     -999,9,     -999,9,     -999,     -999,9,     -999,9,     -999,9,     -999,9,   7.2674,2,  26.6951,2,   7.3267,2
49UP20210719_2,   P03,    19,  1,     24,     753,2,20210804,1856,2039, 24.0115, 133.2647, 4444,    607.3,    7.3285,  34.1286,2,    126.4,2,     -999,9,   126.17,2,    55.23,2,    28.56,2,     0.00,2,    2.040,2,     -999,9,     -999,9,     -999,9,     -999,9,     -999,9,     -999,     -999,9,     -999,9,     -999,9,     -999,9,   7.2693,2,  26.6950,2,   7.3286,2
49UP20210719_2,   P03,    19,  1,     22,     831,3,20210804,1856,2036, 24.0115, 133.2647, 4444,    707.3,    5.5515,  34.1693,2,     84.5,2,     -999,9,    84.41,2,    80.90,2,    35.44,2,     0.00,2,    2.540,2,     -999,9,     -999,9,     -999,9,     -999,9,     -999,9,     -999,     -999,9,     -999,9,     -999,9,     -999,9,   5.4915,2,  26.9589,2,   5.5499,2
49UP20210719_2,   P03,    19,  1,     21,     830,2,20210804,1856,2033, 24.0115, 133.2647, 4444,    807.0,    4.8027,  34.2288,2,     68.1,2,     -999,9,    69.13,2,    96.10,2,    38.03,2,     0.00,2,    2.720,2,     -999,9,     -999,9,     -999,9,     -999,9,     -999,9,     -999,     -999,9,     -999,9,     -999,9,     -999,9,   4.7382,2,  27.0934,2,   4.8026,2
49UP20210719_2,   P03,    19,  1,     20,     829,2,20210804,1856,2030, 24.0115, 133.2647, 4444,    910.1,    4.2226,  34.3025,2,     60.3,2,     -999,9,    60.20,2,   108.88,2,    39.60,2,     0.00,2,    2.820,2,     -999,9,     -999,9,     -999,9,     -999,9,     -999,9,     -999,     -999,9,     -999,9,     -999,9,     -999,9,   4.1531,2,  27.2154,2,   4.2234,2
49UP20210719_2,   P03,    19,  1,     19,     828,3,20210804,1856,2026, 24.0115, 133.2647, 4444,   1010.5,    3.6783,  34.3734,2,     58.5,2,     -999,9,    59.64,4,   115.25,2,    40.02,2,     0.00,2,    2.840,2,     -999,9,     -999,9,     -999,9,     -999,9,     -999,9,     -999,     -999,9,     -999,9,     -999,9,     -999,9,   3.6044,2,  27.3276,2,   3.6785,2
49UP20210719_2,   P03,    19,  1,     18,     752,2,20210804,1856,2020, 24.0115, 133.2647, 4444,   1213.2,    2.9576,  34.4782,2,     68.6,2,     -999,9,    68.94,6,   135.72,6,    40.56,6,     0.00,6,    2.870,6,     -999,9,     -999,9,     -999,9,     -999,9,     -999,9,     -999,     -999,9,     -999,9,     -999,9,     -999,9,   2.8737,2,  27.4800,2,   2.9576,2
49UP20210719_2,   P03,    19,  1,     17,     751,2,20210804,1856,2015, 24.0115, 133.2647, 4444,   1414.5,    2.4865,  34.5354,2,     81.9,2,     -999,9,    81.87,2,   143.14,2,    40.04,2,     0.00,2,    2.820,2,     -999,9,     -999,9,     -999,9,     -999,9,     -999,9,     -999,     -999,9,     -999,9,     -999,9,     -999,9,   2.3915,2,  27.5676,2,   2.4863,2
49UP20210719_2,   P03,    19,  1,     16,     328,2,20210804,1856,2015, 24.0115, 133.2647, 4444,   1414.7,    2.4861,  34.5356,2,     81.9,2,     -999,9,    82.22,2,   143.11,2,    40.08,2,     0.00,2,    2.820,2,     -999,9,     -999,9,     -999,9,     -999,9,     -999,9,     -999,     -999,9,     -999,9,     -999,9,     -999,9,   2.3910,2,  27.5678,2,   2.4859,2
49UP20210719_2,   P03,    19,  1,     15,     822,2,20210804,1856,2009, 24.0115, 133.2647, 4444,   1617.3,    2.2149,  34.5730,2,     95.1,2,     -999,9,    95.32,2,   145.32,2,    39.46,2,     0.00,2,    2.760,2,     -999,9,     -999,9,     -999,9,     -999,9,     -999,9,     -999,     -999,9,     -999,9,     -999,9,     -999,9,   2.1069,2,  27.6210,2,   2.2151,2
49UP20210719_2,   P03,    19,  1,     14,     326,3,20210804,1856,2004, 24.0115, 133.2647, 4444,   1819.4,    2.0190,  34.6014,2,    107.8,2,     -999,9,   108.06,2,   145.24,2,    38.68,2,     0.00,2,    2.700,2,     -999,9,     -999,9,     -999,9,     -999,9,     -999,9,     -999,     -999,9,     -999,9,     -999,9,     -999,9,   1.8973,2,  27.6604,2,   2.0191,2
49UP20210719_2,   P03,    19,  1,     13,     325,3,20210804,1856,1959, 24.0115, 133.2647, 4444,   2022.8,    1.9109,  34.6190,2,    117.1,2,     -999,9,   116.92,2,   144.74,2,    38.12,2,     0.00,2,    2.660,2,     -999,9,     -999,9,     -999,9,     -999,9,     -999,9,     -999,     -999,9,     -999,9,     -999,9,     -999,9,   1.7739,2,  27.6840,2,   1.9109,2
49UP20210719_2,   P03,    19,  1,     12,     324,2,20210804,1856,1953, 24.0115, 133.2647, 4444,   2224.9,    1.7875,  34.6355,2,    125.5,2,     -999,9,   126.07,2,   145.35,2,    37.61,2,     0.00,2,    2.630,2,     -999,9,     -999,9,     -999,9,     -999,9,     -999,9,     -999,     -999,9,     -999,9,     -999,9,     -999,9,   1.6354,2,  27.7077,2,   1.7875,2
49UP20210719_2,   P03,    19,  1,     11,     323,2,20210804,1856,1948, 24.0115, 133.2647, 4444,   2428.6,    1.7057,  34.6473,2,    132.4,2,     -999,9,   132.63,2,   144.39,2,    37.22,2,     0.00,2,    2.590,2,     -999,9,     -999,9,     -999,9,     -999,9,     -999,9,     -999,     -999,9,     -999,9,     -999,9,     -999,9,   1.5372,2,  27.7244,2,   1.7057,2
49UP20210719_2,   P03,    19,  1,     10,     322,2,20210804,1856,1944, 24.0115, 133.2647, 4444,   2631.5,    1.6471,  34.6556,2,    137.2,2,     -999,9,   136.61,2,   143.24,2,    36.86,2,     0.00,2,    2.560,2,     -999,9,     -999,9,     -999,9,     -999,9,     -999,9,     -999,     -999,9,     -999,9,     -999,9,     -999,9,   1.4616,2,  27.7366,2,   1.6466,2
49UP20210719_2,   P03,    19,  1,      9,     750,2,20210804,1856,1938, 24.0115, 133.2647, 4444,   2834.6,    1.6003,  34.6628,2,    141.7,2,     -999,9,   141.96,2,   144.03,2,    36.81,2,     0.00,2,    2.540,2,     -999,9,     -999,9,     -999,9,     -999,9,     -999,9,     -999,     -999,9,     -999,9,     -999,9,     -999,9,   1.3970,2,  27.7470,2,   1.6003,2
49UP20210719_2,   P03,    19,  1,      8,     320,2,20210804,1856,1933, 24.0115, 133.2647, 4444,   3038.5,    1.5719,  34.6677,2,    145.0,2,     -999,9,   145.32,6,   143.77,6,    36.48,6,     0.00,6,    2.530,6,     -999,9,     -999,9,     -999,9,     -999,9,     -999,9,     -999,     -999,9,     -999,9,     -999,9,     -999,9,   1.3499,2,  27.7543,2,   1.5721,2
49UP20210719_2,   P03,    19,  1,      6,     318,2,20210804,1856,1926, 24.0115, 133.2647, 4444,   3296.2,    1.5471,  34.6725,2,    148.3,2,     -999,9,   148.69,2,   143.73,2,    36.22,2,     0.00,2,    2.510,2,     -999,9,     -999,9,     -999,9,     -999,9,     -999,9,     -999,     -999,9,     -999,9,     -999,9,     -999,9,   1.3004,2,  27.7617,2,   1.5472,2
49UP20210719_2,   P03,    19,  1,      7,     319,2,20210804,1856,1926, 24.0115, 133.2647, 4444,   3296.4,    1.5473,  34.6725,2,    148.3,2,     -999,9,   149.17,2,   143.76,2,    36.28,2,     0.00,2,    2.510,2,     -999,9,     -999,9,     -999,9,     -999,9,     -999,9,     -999,     -999,9,     -999,9,     -999,9,     -999,9,   1.3005,2,  27.7617,2,   1.5472,2
49UP20210719_2,   P03,    19,  1,      5,     317,2,20210804,1856,1920, 24.0115, 133.2647, 4444,   3552.2,    1.5308,  34.6767,2,    151.4,2,     -999,9,   151.57,2,   143.26,2,    36.06,2,     0.00,2,    2.500,2,     -999,9,     -999,9,     -999,9,     -999,9,     -999,9,     -999,     -999,9,     -999,9,     -999,9,     -999,9,   1.2586,2,  27.7680,2,   1.5308,2
49UP20210719_2,   P03,    19,  1,      4,     316,2,20210804,1856,1914, 24.0115, 133.2647, 4444,   3807.1,    1.5401,  34.6786,2,    152.9,2,     -999,9,   152.98,2,   142.75,2,    36.03,2,     0.00,2,    2.490,2,     -999,9,     -999,9,     -999,9,     -999,9,     -999,9,     -999,     -999,9,     -999,9,     -999,9,     -999,9,   1.2409,2,  27.7707,2,   1.5401,2
49UP20210719_2,   P03,    19,  1,      3,     315,2,20210804,1856,1907, 24.0115, 133.2647, 4444,   4062.5,    1.5492,  34.6805,2,    154.3,2,     -999,9,   155.02,2,   142.37,2,    35.95,2,     0.00,2,    2.480,2,     -999,9,     -999,9,     -999,9,     -999,9,     -999,9,     -999,     -999,9,     -999,9,     -999,9,     -999,9,   1.2221,2,  27.7736,2,   1.5494,2
49UP20210719_2,   P03,    19,  1,      2,     314,2,20210804,1856,1902, 24.0115, 133.2647, 4444,   4320.1,    1.5654,  34.6815,2,    155.5,2,     -999,9,   155.69,2,   142.25,2,    35.82,2,     0.00,2,    2.470,2,     -999,9,     -999,9,     -999,9,     -999,9,     -999,9,     -999,     -999,9,     -999,9,     -999,9,     -999,9,   1.2090,2,  27.7752,2,   1.5653,2
49UP20210719_2,   P03,    19,  1,      1,     811,2,20210804,1856,1857, 24.0115, 133.2647, 4444,   4498.6,    1.5809,  34.6819,2,    156.1,2,     -999,9,   156.41,2,   142.22,2,    35.78,2,     0.00,2,    2.470,2,     -999,9,     -999,9,     -999,9,     -999,9,     -999,9,     -999,     -999,9,     -999,9,     -999,9,     -999,9,   1.2036,2,  27.7760,2,   1.5806,2