BOTTLE,20230808CCHSIOADS
EXPOCODE,SECT_ID,STNNBR,CASTNO,SAMPNO,BTLNBR,BTLNBR_FLAG_W,DATE,TIME,BTL_TIME,LATITUDE,LONGITUDE,DEPTH,CTDPRS,CTDTMP,CTDSAL,CTDSAL_FLAG_W,CTDOXY,CTDOXY_FLAG_W,SALNTY,SALNTY_FLAG_W,OXYGEN,OXYGEN_FLAG_W,SILCAT,SILCAT_FLAG_W,NO2+NO3,NO2+NO3_FLAG_W,NITRIT,NITRIT_FLAG_W,PHSPHT,PHSPHT_FLAG_W,CFC-11,CFC-11_FLAG_W,CFC-12,CFC-12_FLAG_W,TCARBN,TCARBN_FLAG_W,ALKALI,ALKALI_FLAG_W,PH_TOT,PH_TOT_FLAG_W,PH_TMP,CFC113,CFC113_FLAG_W,SF6,SF6_FLAG_W,CHLORA,CHLORA_FLAG_W,PPHYTN,PPHYTN_FLAG_W,THETA,THETA_FLAG_W,SIG0,SIG0_FLAG_W,SBE35,SBE35_FLAG_W
,,,,,,,,,,,,METERS,DBAR,ITS-90,PSS-78,,UMOL/KG,,PSS78,,UMOL/KG,,UMOL/KG,,UMOL/KG,,UMOL/KG,,UMOL/KG,,PMOL/KG,,PMOL/KG,,UMOL/KG,,UMOL/KG,,,,DEG C,PMOL/KG,,FMOL/KG,,UG/KG,,UG/KG,,ITS-90,,KG/M^3,,ITS-90,
49UP20210920_1,   P03,    78,  1,      0,     BUC,2,20210930,2134,2345, 24.2653, 170.3125, 5764,      0.0,   28.7834,  35.0311,2,    198.6,2,     -999,9,   198.10,2,     1.00,2,     0.06,2,     0.00,2,    0.020,2,     -999,9,     -999,9,     -999,9,     -999,9,     -999,9,     -999,     -999,9,     -999,9,     -999,9,     -999,9,  28.7829,2,  22.1598,2,     -999,9
49UP20210920_1,   P03,    78,  1,     36,     757,2,20210930,2134,  14, 24.2653, 170.3125, 5764,      9.8,   28.7330,  35.0310,2,    198.5,2,     -999,9,   198.16,2,     0.96,2,     0.06,2,     0.00,2,    0.010,2,     -999,9,     -999,9,     -999,9,     -999,9,     -999,9,     -999,     -999,9,     -999,9,     -999,9,     -999,9,  28.7307,2,  22.1771,2,  28.7419,2
49UP20210920_1,   P03,    78,  1,     35,     756,2,20210930,2134,  10, 24.2653, 170.3125, 5764,     50.3,   28.3193,  35.1205,2,    204.0,2,     -999,9,   203.92,2,     1.05,2,     0.08,2,     0.00,2,    0.000,2,     -999,9,     -999,9,     -999,9,     -999,9,     -999,9,     -999,     -999,9,     -999,9,     -999,9,     -999,9,  28.3074,2,  22.3844,2,  28.3233,2
49UP20210920_1,   P03,    78,  1,     34,     843,2,20210930,2134,   7, 24.2653, 170.3125, 5764,     99.6,   24.1756,  35.2445,2,    214.8,2,     -999,9,   214.81,2,     1.32,2,     0.06,2,     0.00,2,    0.010,2,     -999,9,     -999,9,     -999,9,     -999,9,     -999,9,     -999,     -999,9,     -999,9,     -999,9,     -999,9,  24.1545,2,  23.7806,2,  24.1749,2
49UP20210920_1,   P03,    78,  1,     33,     842,2,20210930,2134,   5, 24.2653, 170.3125, 5764,    151.0,   20.6076,  35.0456,2,    202.4,2,     -999,9,   202.52,2,     2.18,2,     0.86,2,     0.07,2,    0.110,2,     -999,9,     -999,9,     -999,9,     -999,9,     -999,9,     -999,     -999,9,     -999,9,     -999,9,     -999,9,  20.5791,2,  24.6424,2,  20.6073,2
49UP20210920_1,   P03,    78,  1,     32,     841,2,20210930,2134,   2, 24.2653, 170.3125, 5764,    204.2,   18.2510,  34.8245,2,    201.9,2,     -999,9,   202.36,2,     3.06,2,     2.79,2,     0.01,2,    0.230,2,     -999,9,     -999,9,     -999,9,     -999,9,     -999,9,     -999,     -999,9,     -999,9,     -999,9,     -999,9,  18.2156,2,  25.0843,2,  18.2524,2
49UP20210920_1,   P03,    78,  1,     31,     840,2,20210930,2134,   0, 24.2653, 170.3125, 5764,    251.1,   16.9265,  34.7148,2,    202.8,2,     -999,9,   202.77,2,     4.72,2,     5.03,2,     0.00,2,    0.350,2,     -999,9,     -999,9,     -999,9,     -999,9,     -999,9,     -999,     -999,9,     -999,9,     -999,9,     -999,9,  16.8852,2,  25.3226,2,  16.9253,2
49UP20210920_1,   P03,    78,  1,     30,     839,2,20210930,2134,2358, 24.2653, 170.3125, 5764,    282.6,   16.1493,  34.6480,2,    203.0,2,     -999,9,   203.37,2,     5.76,2,     6.15,2,     0.00,2,    0.420,2,     -999,9,     -999,9,     -999,9,     -999,9,     -999,9,     -999,     -999,9,     -999,9,     -999,9,     -999,9,  16.1043,2,  25.4530,2,  16.1429,2
49UP20210920_1,   P03,    78,  1,     29,     838,2,20210930,2134,2355, 24.2653, 170.3125, 5764,    372.3,   13.2705,  34.3788,2,    197.7,2,     -999,9,   198.01,6,    10.97,6,    10.84,6,     0.00,6,    0.760,6,     -999,9,     -999,9,     -999,9,     -999,9,     -999,9,     -999,     -999,9,     -999,9,     -999,9,     -999,9,  13.2186,2,  25.8677,2,  13.2731,2
49UP20210920_1,   P03,    78,  1,     28,     755,2,20210930,2134,2352, 24.2653, 170.3125, 5764,    475.2,   10.2108,  34.1697,2,    188.5,2,     -999,9,   188.54,2,    22.64,2,    17.51,2,     0.00,2,    1.220,2,     -999,9,     -999,9,     -999,9,     -999,9,     -999,9,     -999,     -999,9,     -999,9,     -999,9,     -999,9,  10.1547,2,  26.2772,2,  10.2124,2
49UP20210920_1,   P03,    78,  1,     27,     754,2,20210930,2134,2349, 24.2653, 170.3125, 5764,    575.2,    7.7134,  34.0801,2,    133.6,2,     -999,9,   134.11,2,    44.64,2,    27.26,2,     0.00,2,    1.940,2,     -999,9,     -999,9,     -999,9,     -999,9,     -999,9,     -999,     -999,9,     -999,9,     -999,9,     -999,9,   7.6558,2,  26.6017,2,   7.7154,2
49UP20210920_1,   P03,    78,  1,     26,     835,2,20210930,2134,2346, 24.2653, 170.3125, 5764,    675.9,    6.0418,  34.0926,2,     89.1,2,     -999,9,    89.25,2,    68.17,2,    34.44,2,     0.00,2,    2.470,2,     -999,9,     -999,9,     -999,9,     -999,9,     -999,9,     -999,     -999,9,     -999,9,     -999,9,     -999,9,   5.9821,2,  26.8378,2,   6.0386,2
49UP20210920_1,   P03,    78,  1,     25,     834,2,20210930,2134,2342, 24.2653, 170.3125, 5764,    777.6,    4.9823,  34.1790,2,     55.3,2,     -999,9,    55.27,2,    89.06,2,    39.13,2,     0.00,2,    2.810,2,     -999,9,     -999,9,     -999,9,     -999,9,     -999,9,     -999,     -999,9,     -999,9,     -999,9,     -999,9,   4.9193,2,  27.0336,2,   4.9823,2
49UP20210920_1,   P03,    78,  1,     24,     753,2,20210930,2134,2339, 24.2653, 170.3125, 5764,    878.4,    4.3836,  34.2622,2,     42.4,2,     -999,9,    42.24,2,   103.54,2,    41.21,2,     0.00,2,    2.960,2,     -999,9,     -999,9,     -999,9,     -999,9,     -999,9,     -999,     -999,9,     -999,9,     -999,9,     -999,9,   4.3157,2,  27.1662,2,   4.3834,2
49UP20210920_1,   P03,    78,  1,     23,     832,2,20210930,2134,2336, 24.2653, 170.3125, 5764,    979.8,    3.9287,  34.3416,2,     38.0,2,     -999,9,    38.02,2,   115.13,2,    42.13,2,     0.00,2,    3.020,2,     -999,9,     -999,9,     -999,9,     -999,9,     -999,9,     -999,     -999,9,     -999,9,     -999,9,     -999,9,   3.8555,2,  27.2772,2,   3.9285,2
49UP20210920_1,   P03,    78,  1,     22,     831,2,20210930,2134,2331, 24.2653, 170.3125, 5764,   1142.2,    3.4558,  34.4678,2,     53.2,2,     -999,9,    52.94,2,   125.31,2,    41.70,2,     0.00,2,    2.970,2,     -999,9,     -999,9,     -999,9,     -999,9,     -999,9,     -999,     -999,9,     -999,9,     -999,9,     -999,9,   3.3730,2,  27.4253,2,   3.4559,2
49UP20210920_1,   P03,    78,  1,     21,     830,2,20210930,2134,2326, 24.2653, 170.3125, 5764,   1343.7,    2.9963,  34.5267,2,     67.0,2,     -999,9,    67.01,2,   133.83,2,    41.06,2,     0.00,2,    2.910,2,     -999,9,     -999,9,     -999,9,     -999,9,     -999,9,     -999,     -999,9,     -999,9,     -999,9,     -999,9,   2.9015,2,  27.5162,2,   2.9964,2
49UP20210920_1,   P03,    78,  1,     20,     829,2,20210930,2134,2321, 24.2653, 170.3125, 5764,   1546.9,    2.5915,  34.5644,2,     77.9,2,     -999,9,    77.76,6,   141.84,6,    40.63,6,     0.00,6,    2.880,6,     -999,9,     -999,9,     -999,9,     -999,9,     -999,9,     -999,     -999,9,     -999,9,     -999,9,     -999,9,   2.4846,2,  27.5829,2,   2.5913,2
49UP20210920_1,   P03,    78,  1,     19,     828,2,20210930,2134,2315, 24.2653, 170.3125, 5764,   1749.7,    2.2899,  34.5896,2,     86.2,2,     -999,9,    86.21,2,   148.24,2,    40.29,2,     0.00,2,    2.840,2,     -999,9,     -999,9,     -999,9,     -999,9,     -999,9,     -999,     -999,9,     -999,9,     -999,9,     -999,9,   2.1702,2,  27.6292,2,   2.2899,2
49UP20210920_1,   P03,    78,  1,     18,     752,2,20210930,2134,2310, 24.2653, 170.3125, 5764,   1952.9,    2.0508,  34.6084,2,     94.6,2,     -999,9,    94.61,2,   152.47,2,    39.86,2,     0.00,2,    2.790,2,     -999,9,     -999,9,     -999,9,     -999,9,     -999,9,     -999,     -999,9,     -999,9,     -999,9,     -999,9,   1.9176,2,  27.6644,2,   2.0511,2
49UP20210920_1,   P03,    78,  1,     17,     751,2,20210930,2134,2305, 24.2653, 170.3125, 5764,   2155.6,    1.8804,  34.6273,2,    105.0,2,     -999,9,   104.86,2,   154.10,2,    39.21,2,     0.00,2,    2.740,2,     -999,9,     -999,9,     -999,9,     -999,9,     -999,9,     -999,     -999,9,     -999,9,     -999,9,     -999,9,   1.7327,2,  27.6938,2,   1.8804,2
49UP20210920_1,   P03,    78,  1,     16,     328,2,20210930,2134,2300, 24.2653, 170.3125, 5764,   2358.3,    1.7789,  34.6389,2,    112.1,2,     -999,9,   112.33,2,   154.89,2,    38.81,2,     0.00,2,    2.710,2,     -999,9,     -999,9,     -999,9,     -999,9,     -999,9,     -999,     -999,9,     -999,9,     -999,9,     -999,9,   1.6153,2,  27.7119,2,   1.7789,2
49UP20210920_1,   P03,    78,  1,     15,     822,2,20210930,2134,2255, 24.2653, 170.3125, 5764,   2561.4,    1.6973,  34.6493,2,    119.4,2,     -999,9,   119.33,2,   154.93,2,    38.35,2,     0.00,2,    2.670,2,     -999,9,     -999,9,     -999,9,     -999,9,     -999,9,     -999,     -999,9,     -999,9,     -999,9,     -999,9,   1.5171,2,  27.7275,2,   1.6972,2
49UP20210920_1,   P03,    78,  1,     14,     326,2,20210930,2134,2250, 24.2653, 170.3125, 5764,   2765.1,    1.6413,  34.6572,2,    125.6,2,     -999,9,   124.96,2,   154.59,2,    37.95,2,     0.00,2,    2.640,2,     -999,9,     -999,9,     -999,9,     -999,9,     -999,9,     -999,     -999,9,     -999,9,     -999,9,     -999,9,   1.4436,2,  27.7392,2,   1.6413,2
49UP20210920_1,   P03,    78,  1,     13,     325,3,20210930,2134,2244, 24.2653, 170.3125, 5764,   2971.0,    1.5878,  34.6635,2,    131.0,2,     -999,9,   130.50,2,   153.89,2,    37.55,2,     0.00,2,    2.610,2,     -999,9,     -999,9,     -999,9,     -999,9,     -999,9,     -999,     -999,9,     -999,9,     -999,9,     -999,9,   1.3719,2,  27.7493,2,   1.5878,2
49UP20210920_1,   P03,    78,  1,     12,     324,2,20210930,2134,2239, 24.2653, 170.3125, 5764,   3212.7,    1.5459,  34.6697,2,    137.0,2,     -999,9,   137.04,2,   152.73,2,    37.20,2,     0.00,2,    2.580,2,     -999,9,     -999,9,     -999,9,     -999,9,     -999,9,     -999,     -999,9,     -999,9,     -999,9,     -999,9,   1.3075,2,  27.7589,2,   1.5460,2
49UP20210920_1,   P03,    78,  1,     11,     323,2,20210930,2134,2233, 24.2653, 170.3125, 5764,   3470.7,    1.5179,  34.6743,2,    142.3,2,     -999,9,   142.31,6,   151.49,6,    36.90,6,     0.00,6,    2.550,6,     -999,9,     -999,9,     -999,9,     -999,9,     -999,9,     -999,     -999,9,     -999,9,     -999,9,     -999,9,   1.2543,2,  27.7663,2,   1.5178,2
49UP20210920_1,   P03,    78,  1,     10,     322,2,20210930,2134,2227, 24.2653, 170.3125, 5764,   3724.5,    1.5003,  34.6781,2,    146.9,2,     -999,9,   147.26,2,   150.10,2,    36.56,2,     0.00,2,    2.520,2,     -999,9,     -999,9,     -999,9,     -999,9,     -999,9,     -999,     -999,9,     -999,9,     -999,9,     -999,9,   1.2109,2,  27.7724,2,   1.5004,2
49UP20210920_1,   P03,    78,  1,      9,     750,2,20210930,2134,2221, 24.2653, 170.3125, 5764,   3980.6,    1.4795,  34.6822,2,    152.4,2,     -999,9,   152.32,2,   147.91,2,    36.14,2,     0.00,2,    2.500,2,     -999,9,     -999,9,     -999,9,     -999,9,     -999,9,     -999,     -999,9,     -999,9,     -999,9,     -999,9,   1.1633,2,  27.7790,2,   1.4795,2
49UP20210920_1,   P03,    78,  1,      8,     320,2,20210930,2134,2215, 24.2653, 170.3125, 5764,   4238.3,    1.4608,  34.6860,2,    158.0,2,     -999,9,   158.29,2,   145.55,2,    35.76,2,     0.00,2,    2.470,2,     -999,9,     -999,9,     -999,9,     -999,9,     -999,9,     -999,     -999,9,     -999,9,     -999,9,     -999,9,   1.1168,2,  27.7852,2,   1.4607,2
49UP20210920_1,   P03,    78,  1,      7,     319,2,20210930,2134,2209, 24.2653, 170.3125, 5764,   4493.6,    1.4532,  34.6890,2,    163.1,2,     -999,9,   163.17,2,   142.58,2,    35.39,2,     0.00,2,    2.450,2,     -999,9,     -999,9,     -999,9,     -999,9,     -999,9,     -999,     -999,9,     -999,9,     -999,9,     -999,9,   1.0804,2,  27.7901,2,   1.4532,2
49UP20210920_1,   P03,    78,  1,      6,     318,2,20210930,2134,2203, 24.2653, 170.3125, 5764,   4750.2,    1.4495,  34.6919,2,    167.9,2,     -999,9,   168.36,2,   139.94,2,    35.05,2,     0.00,2,    2.410,2,     -999,9,     -999,9,     -999,9,     -999,9,     -999,9,     -999,     -999,9,     -999,9,     -999,9,     -999,9,   1.0468,2,  27.7946,2,   1.4496,2
49UP20210920_1,   P03,    78,  1,      5,     317,2,20210930,2134,2157, 24.2653, 170.3125, 5764,   5008.3,    1.4468,  34.6946,2,    172.6,2,     -999,9,   172.96,2,   136.89,2,    34.73,2,     0.00,2,    2.390,2,     -999,9,     -999,9,     -999,9,     -999,9,     -999,9,     -999,     -999,9,     -999,9,     -999,9,     -999,9,   1.0133,2,  27.7990,2,   1.4468,2
49UP20210920_1,   P03,    78,  1,      4,     316,2,20210930,2134,2151, 24.2653, 170.3125, 5764,   5266.8,    1.4546,  34.6963,2,    175.7,2,     -999,9,   176.25,2,   135.06,2,    34.46,2,     0.00,2,    2.370,2,     -999,9,     -999,9,     -999,9,     -999,9,     -999,9,     -999,     -999,9,     -999,9,     -999,9,     -999,9,   0.9891,2,  27.8020,2,   1.4548,2
49UP20210920_1,   P03,    78,  1,      3,     315,2,20210930,2134,2145, 24.2653, 170.3125, 5764,   5523.6,    1.4677,  34.6976,2,    178.3,2,     -999,9,   178.75,2,   133.51,2,    34.31,2,     0.00,2,    2.360,2,     -999,9,     -999,9,     -999,9,     -999,9,     -999,9,     -999,     -999,9,     -999,9,     -999,9,     -999,9,   0.9692,2,  27.8044,2,   1.4678,2
49UP20210920_1,   P03,    78,  1,      2,     314,2,20210930,2134,2139, 24.2653, 170.3125, 5764,   5781.9,    1.4886,  34.6984,2,    180.0,2,     -999,9,   180.30,6,   132.45,6,    34.18,6,     0.00,6,    2.350,6,     -999,9,     -999,9,     -999,9,     -999,9,     -999,9,     -999,     -999,9,     -999,9,     -999,9,     -999,9,   0.9559,2,  27.8059,2,   1.4885,2
49UP20210920_1,   P03,    78,  1,      1,     811,2,20210930,2134,2135, 24.2653, 170.3125, 5764,   5944.8,    1.5091,  34.6987,2,    180.4,2,     -999,9,   180.52,2,   132.41,2,    34.17,2,     0.00,2,    2.340,2,     -999,9,     -999,9,     -999,9,     -999,9,     -999,9,     -999,     -999,9,     -999,9,     -999,9,     -999,9,   0.9542,2,  27.8063,2,   1.5090,2