BOTTLE,20230808CCHSIOADS
EXPOCODE,SECT_ID,STNNBR,CASTNO,SAMPNO,BTLNBR,BTLNBR_FLAG_W,DATE,TIME,BTL_TIME,LATITUDE,LONGITUDE,DEPTH,CTDPRS,CTDTMP,CTDSAL,CTDSAL_FLAG_W,CTDOXY,CTDOXY_FLAG_W,SALNTY,SALNTY_FLAG_W,OXYGEN,OXYGEN_FLAG_W,SILCAT,SILCAT_FLAG_W,NO2+NO3,NO2+NO3_FLAG_W,NITRIT,NITRIT_FLAG_W,PHSPHT,PHSPHT_FLAG_W,CFC-11,CFC-11_FLAG_W,CFC-12,CFC-12_FLAG_W,TCARBN,TCARBN_FLAG_W,ALKALI,ALKALI_FLAG_W,PH_TOT,PH_TOT_FLAG_W,PH_TMP,CFC113,CFC113_FLAG_W,SF6,SF6_FLAG_W,CHLORA,CHLORA_FLAG_W,PPHYTN,PPHYTN_FLAG_W,THETA,THETA_FLAG_W,SIG0,SIG0_FLAG_W,SBE35,SBE35_FLAG_W
,,,,,,,,,,,,METERS,DBAR,ITS-90,PSS-78,,UMOL/KG,,PSS78,,UMOL/KG,,UMOL/KG,,UMOL/KG,,UMOL/KG,,UMOL/KG,,PMOL/KG,,PMOL/KG,,UMOL/KG,,UMOL/KG,,,,DEG C,PMOL/KG,,FMOL/KG,,UG/KG,,UG/KG,,ITS-90,,KG/M^3,,ITS-90,
49UP20210827_1,   P03,    58,  1,      0,     BUC,2,20210905,1249,1449, 24.2477, 155.2122, 5520,      0.0,   29.4719,  35.0201,2,    195.5,2,  35.0155,2,   196.15,2,     1.19,2,     0.05,2,     0.00,2,    0.040,2,     -999,9,     -999,9,   1969.0,2,   2295.9,2,   8.1001,2,    25.00,     -999,9,     -999,9,     0.03,2,     0.01,2,  29.4713,2,  21.9208,2,     -999,9
49UP20210827_1,   P03,    58,  1,     36,     757,2,20210905,1249,1524, 24.2477, 155.2122, 5520,     10.3,   29.4726,  35.0197,2,    195.6,2,  35.0203,2,   196.11,2,     1.15,2,     0.02,2,     0.00,2,    0.010,2,    1.055,2,    0.784,2,   1969.0,2,   2296.6,2,   8.0996,2,    25.00,    0.051,2,    1.244,2,     0.03,2,     0.01,2,  29.4700,2,  21.9209,2,  29.4740,2
49UP20210827_1,   P03,    58,  1,     35,     756,2,20210905,1249,1520, 24.2477, 155.2122, 5520,     49.9,   26.8441,  35.0880,2,    217.9,2,  35.0853,2,   217.24,2,     1.31,2,     0.01,2,     0.00,2,    0.010,2,    1.274,2,    0.891,2,   1983.7,2,   2301.1,2,   8.0891,2,    25.00,    0.060,2,    1.292,2,     0.05,2,     0.02,2,  26.8327,2,  22.8374,2,  26.8645,2
49UP20210827_1,   P03,    58,  1,     34,     843,2,20210905,1249,1518, 24.2477, 155.2122, 5520,     99.5,   22.2050,  35.0303,2,    218.6,2,  35.0324,6,   218.74,2,     1.85,2,     0.06,2,     0.00,2,    0.010,2,    1.573,2,    1.019,2,   2008.9,2,   2297.2,2,   8.0375,2,    25.00,    0.080,2,    1.560,2,     0.11,2,     0.08,2,  22.1852,2,  24.1888,2,  22.1976,2
49UP20210827_1,   P03,    58,  1,     33,     842,2,20210905,1249,1516, 24.2477, 155.2122, 5520,    126.1,   20.7073,  34.9282,2,    213.1,2,  34.9308,2,   213.40,6,     2.11,6,     0.01,6,     0.00,6,    0.030,6,     -999,9,     -999,9,   2020.6,2,   2291.6,2,   8.0065,2,    25.00,     -999,9,     -999,9,     0.11,2,     0.31,2,  20.6835,2,  24.5249,2,  20.7148,2
49UP20210827_1,   P03,    58,  1,     32,     841,2,20210905,1249,1515, 24.2477, 155.2122, 5520,    151.8,   19.3879,  34.8471,2,    206.6,2,  34.8448,2,   206.90,2,     2.58,2,     0.80,2,     0.03,2,    0.100,2,     -999,9,     -999,9,   2032.2,2,   2286.6,2,   7.9745,2,    25.00,     -999,9,     -999,9,     0.07,2,     0.23,2,  19.3604,2,  24.8119,2,  19.3988,2
49UP20210827_1,   P03,    58,  1,     31,     840,2,20210905,1249,1512, 24.2477, 155.2122, 5520,    203.6,   17.8333,  34.7547,2,    210.9,2,  34.7541,2,   211.16,2,     3.43,2,     3.36,2,     0.01,2,    0.230,2,    1.922,2,    1.153,2,   2039.5,2,   2277.4,2,   7.9586,2,    25.00,    0.060,2,    1.794,2,     0.02,2,     0.08,2,  17.7986,2,  25.1336,2,  17.8340,2
49UP20210827_1,   P03,    58,  1,     30,     839,2,20210905,1249,1510, 24.2477, 155.2122, 5520,    253.0,   17.2937,  34.7471,2,    208.5,2,  34.7463,2,   208.64,2,     4.31,2,     4.47,2,     0.00,2,    0.310,2,     -999,9,     -999,9,   2048.1,2,   2278.3,2,   7.9453,2,    25.00,     -999,9,     -999,9,     -999,9,     -999,9,  17.2515,2,  25.2602,2,  17.2936,2
49UP20210827_1,   P03,    58,  1,     29,     838,2,20210905,1249,1508, 24.2477, 155.2122, 5520,    302.1,   16.6988,  34.7132,2,    203.6,2,  34.7136,2,   204.65,2,     5.67,2,     5.78,2,     0.00,2,    0.390,2,    2.068,2,    1.206,2,   2056.0,2,   2277.3,2,   7.9198,2,    25.00,    0.041,2,    1.700,2,     -999,9,     -999,9,  16.6495,2,  25.3767,2,  16.6995,2
49UP20210827_1,   P03,    58,  1,     28,     755,2,20210905,1249,1505, 24.2477, 155.2122, 5520,    403.8,   12.9007,  34.3868,2,    199.1,2,  34.3882,2,   199.41,2,    13.14,2,    11.65,2,     0.00,2,    0.810,2,     -999,9,     -999,9,   2096.0,2,   2264.9,2,   7.8147,2,    25.00,     -999,9,     -999,9,     -999,9,     -999,9,  12.8454,2,  25.9486,2,  12.9027,2
49UP20210827_1,   P03,    58,  1,     27,     754,2,20210905,1249,1501, 24.2477, 155.2122, 5520,    504.1,   10.3187,  34.1873,2,    183.6,2,  34.1883,2,   183.85,2,    23.21,2,    17.56,2,     0.00,2,    1.250,2,    2.742,2,    1.364,2,   2134.3,2,   2264.0,2,   7.7173,2,    25.00,    0.063,2,    1.265,2,     -999,9,     -999,9,  10.2587,2,  26.2731,2,  10.3201,2
49UP20210827_1,   P03,    58,  1,     26,     835,2,20210905,1249,1458, 24.2477, 155.2122, 5520,    607.8,    7.6166,  34.0659,2,    144.5,2,  34.0670,2,   144.89,2,    44.97,2,    26.27,2,     0.00,2,    1.890,2,     -999,9,     -999,9,   2196.8,2,   2275.7,2,   7.5859,6,    25.00,     -999,9,     -999,9,     -999,9,     -999,9,   7.5561,2,  26.6049,2,   7.6204,2
49UP20210827_1,   P03,    58,  1,     25,     834,2,20210905,1249,1454, 24.2477, 155.2122, 5520,    705.4,    5.8166,  34.0917,2,     90.5,2,  34.0913,6,    90.66,2,    71.04,2,    34.51,2,     0.00,2,    2.490,2,     -999,9,     -999,9,   2261.6,6,   2296.7,6,   7.4564,2,    25.00,     -999,9,     -999,9,     -999,9,     -999,9,   5.7554,2,  26.8654,2,   5.8169,2
49UP20210827_1,   P03,    58,  1,     24,     753,2,20210905,1249,1450, 24.2477, 155.2122, 5520,    808.6,    4.7667,  34.1845,2,     57.2,2,  34.1829,2,    57.23,6,    93.10,6,    39.19,6,     0.00,6,    2.840,6,    0.577,2,    0.292,2,   2303.6,2,   2320.7,2,   7.3916,2,    25.00,    0.024,2,    0.144,2,     -999,9,     -999,9,   4.7024,2,  27.0623,2,   4.7671,2
49UP20210827_1,   P03,    58,  1,     23,     832,2,20210905,1249,1447, 24.2477, 155.2122, 5520,    908.5,    4.1864,  34.2918,2,     43.8,2,  34.2918,2,    43.93,2,   108.50,2,    41.19,2,     0.00,2,    2.970,2,     -999,9,     -999,9,   2331.1,2,   2340.8,2,   7.3748,2,    25.00,     -999,9,     -999,9,     -999,9,     -999,9,   4.1173,2,  27.2106,2,   4.1862,2
49UP20210827_1,   P03,    58,  1,     22,     831,2,20210905,1249,1444, 24.2477, 155.2122, 5520,   1010.7,    3.8173,  34.3750,2,     44.7,2,  34.3745,2,    45.09,2,   117.82,2,    41.65,2,     0.00,2,    2.990,2,    0.130,2,    0.037,2,   2344.1,2,   2357.1,2,   7.3812,2,    25.00,    0.010,2,   -0.022,2,     -999,9,     -999,9,   3.7424,2,  27.3151,2,   3.8175,2
49UP20210827_1,   P03,    58,  1,     21,     830,2,20210905,1249,1438, 24.2477, 155.2122, 5520,   1211.4,    3.3342,  34.4739,2,     60.1,2,  34.4736,2,    60.45,2,   126.93,2,    40.99,2,     0.00,2,    2.930,2,     -999,9,     -999,9,   2347.2,2,   2374.4,2,   7.4174,2,    25.00,     -999,9,     -999,9,     -999,9,     -999,9,   3.2469,2,  27.4422,2,   3.3344,2
49UP20210827_1,   P03,    58,  1,     20,     829,2,20210905,1249,1433, 24.2477, 155.2122, 5520,   1413.7,    2.8282,  34.5276,2,     73.0,2,  34.5274,2,    74.02,2,   137.26,2,    40.54,2,     0.00,2,    2.880,2,    0.022,2,    0.010,2,   2351.8,2,   2386.4,2,   7.4433,2,    25.00,    0.019,2,   -0.028,2,     -999,9,     -999,9,   2.7295,2,  27.5323,2,   2.8281,2
49UP20210827_1,   P03,    58,  1,     19,     828,2,20210905,1249,1428, 24.2477, 155.2122, 5520,   1617.1,    2.4627,  34.5602,2,     82.7,2,  34.5603,2,    82.93,2,   143.50,2,    40.09,2,     0.00,2,    2.840,2,     -999,9,     -999,9,   2354.3,2,   2395.9,2,   7.4597,6,    25.00,     -999,9,     -999,9,     -999,9,     -999,9,   2.3517,2,  27.5907,2,   2.4627,2
49UP20210827_1,   P03,    58,  1,     18,     752,2,20210905,1249,1423, 24.2477, 155.2122, 5520,   1819.9,    2.2040,  34.5847,2,     91.1,2,  34.5847,2,    91.33,2,   148.17,2,    39.69,2,     0.00,2,    2.810,2,     -999,9,     -999,9,   2355.7,6,   2401.4,6,   7.4714,2,    25.00,     -999,9,     -999,9,     -999,9,     -999,9,   2.0797,2,  27.6326,2,   2.2039,2
49UP20210827_1,   P03,    58,  1,     17,     751,2,20210905,1249,1418, 24.2477, 155.2122, 5520,   2024.4,    1.9869,  34.6078,2,     99.4,2,  34.6081,2,    99.52,2,   151.53,2,    39.34,2,     0.00,2,    2.770,2,    0.005,2,    0.005,2,   2349.6,2,   2404.7,2,   7.4856,2,    25.00,    0.008,2,   -0.009,2,     -999,9,     -999,9,   1.8487,2,  27.6693,2,   1.9870,2
49UP20210827_1,   P03,    58,  1,     16,     328,2,20210905,1249,1413, 24.2477, 155.2122, 5520,   2225.8,    1.8601,  34.6221,2,    104.9,2,  34.6221,6,   105.33,2,   154.03,2,    39.06,2,     0.00,2,    2.740,2,     -999,9,     -999,9,   2350.2,2,   2407.5,2,   7.4968,3,    25.00,     -999,9,     -999,9,     -999,9,     -999,9,   1.7068,2,  27.6916,2,   1.8601,2
49UP20210827_1,   P03,    58,  1,     15,     822,2,20210905,1249,1408, 24.2477, 155.2122, 5520,   2430.5,    1.7447,  34.6383,2,    114.6,2,  34.6375,4,   114.92,6,   153.92,6,    38.46,6,     0.00,6,    2.700,6,     -999,9,     -999,9,   2347.3,2,   2410.5,2,   7.5141,2,    25.00,     -999,9,     -999,9,     -999,9,     -999,9,   1.5754,2,  27.7144,2,   1.7447,2
49UP20210827_1,   P03,    58,  1,     14,     326,2,20210905,1249,1403, 24.2477, 155.2122, 5520,   2633.1,    1.6642,  34.6494,2,    122.3,2,  34.6494,2,   123.00,2,   153.45,2,    37.93,2,     0.00,2,    2.660,2,     -999,9,     -999,9,   2342.4,2,   2411.1,2,   7.5319,2,    25.00,     -999,9,     -999,9,     -999,9,     -999,9,   1.4783,2,  27.7304,2,   1.6642,2
49UP20210827_1,   P03,    58,  1,     13,     325,2,20210905,1249,1358, 24.2477, 155.2122, 5520,   2837.2,    1.6043,  34.6579,2,    129.5,2,  34.6577,2,   130.49,3,   152.69,2,    37.46,2,     0.00,2,    2.620,2,     -999,9,     -999,9,   2338.0,2,   2411.8,2,   7.5423,2,    25.00,     -999,9,     -999,9,     -999,9,     -999,9,   1.4007,2,  27.7428,2,   1.6042,2
49UP20210827_1,   P03,    58,  1,     12,     324,2,20210905,1249,1352, 24.2477, 155.2122, 5520,   3042.4,    1.5601,  34.6646,2,    134.7,2,  34.6638,4,   135.10,2,   151.62,2,    37.15,2,     0.00,2,    2.600,2,     -999,9,     -999,9,   2337.4,2,   2411.7,2,   7.5523,2,    25.00,     -999,9,     -999,9,     -999,9,     -999,9,   1.3380,2,  27.7526,2,   1.5601,2
49UP20210827_1,   P03,    58,  1,     11,     323,2,20210905,1249,1346, 24.2477, 155.2122, 5520,   3296.2,    1.5165,  34.6712,2,    140.5,2,  34.6708,2,   140.73,2,   151.26,2,    36.78,2,     0.00,2,    2.560,2,     -999,9,     -999,9,   2331.7,2,   2411.0,2,   7.5588,2,    25.00,     -999,9,     -999,9,     -999,9,     -999,9,   1.2706,2,  27.7627,2,   1.5166,2
49UP20210827_1,   P03,    58,  1,     10,     322,2,20210905,1249,1340, 24.2477, 155.2122, 5520,   3551.9,    1.4899,  34.6764,2,    145.7,2,  34.6760,2,   145.86,2,   149.87,2,    36.50,2,     0.00,2,    2.540,2,     -999,9,     -999,9,   2329.4,2,   2411.4,2,   7.5663,2,    25.00,     -999,9,     -999,9,     -999,9,     -999,9,   1.2187,2,  27.7704,2,   1.4900,2
49UP20210827_1,   P03,    58,  1,      9,     750,2,20210905,1249,1334, 24.2477, 155.2122, 5520,   3808.7,    1.4685,  34.6807,2,    150.8,2,  34.6806,2,   150.95,2,   148.64,2,    36.10,2,     0.00,2,    2.510,2,     -999,9,     -999,9,   2326.1,2,   2410.9,2,   7.5757,6,    25.00,     -999,9,     -999,9,     -999,9,     -999,9,   1.1710,2,  27.7773,2,   1.4686,2
49UP20210827_1,   P03,    58,  1,      8,     320,2,20210905,1249,1328, 24.2477, 155.2122, 5520,   4064.7,    1.4600,  34.6840,2,    154.9,2,  34.6835,2,   155.24,2,   147.27,2,    35.79,2,     0.00,2,    2.490,2,     -999,9,     -999,9,   2323.7,2,   2409.1,6,   7.5795,2,    25.00,     -999,9,     -999,9,     -999,9,     -999,9,   1.1352,2,  27.7823,2,   1.4601,2
49UP20210827_1,   P03,    58,  1,      7,     319,2,20210905,1249,1322, 24.2477, 155.2122, 5520,   4322.2,    1.4584,  34.6869,2,    158.9,2,  34.6864,6,   159.23,2,   145.34,2,    35.52,2,     0.00,2,    2.470,2,     -999,9,     -999,9,   2321.5,2,   2406.9,2,   7.5872,2,    25.00,     -999,9,     -999,9,     -999,9,     -999,9,   1.1050,2,  27.7867,2,   1.4585,2
49UP20210827_1,   P03,    58,  1,      6,     318,2,20210905,1249,1316, 24.2477, 155.2122, 5520,   4577.4,    1.4656,  34.6888,2,    161.9,2,  34.6877,4,   161.99,6,   144.04,6,    35.32,6,     0.00,6,    2.450,6,     -999,9,     -999,9,   2315.5,2,   2406.6,2,   7.5909,2,    25.00,     -999,9,     -999,9,     -999,9,     -999,9,   1.0827,2,  27.7898,2,   1.4656,2
49UP20210827_1,   P03,    58,  1,      5,     317,2,20210905,1249,1310, 24.2477, 155.2122, 5520,   4833.9,    1.4772,  34.6907,2,    165.0,2,  34.6900,4,   165.27,2,   141.71,2,    35.12,2,     0.00,2,    2.430,2,    0.000,2,    0.000,2,   2311.1,2,   2404.8,2,   7.5932,2,    25.00,   -0.000,2,   -0.039,2,     -999,9,     -999,9,   1.0638,2,  27.7926,2,   1.4774,2
49UP20210827_1,   P03,    58,  1,      4,     316,2,20210905,1249,1304, 24.2477, 155.2122, 5520,   5091.3,    1.4944,  34.6921,2,    167.8,2,  34.6918,2,   167.89,2,   139.96,2,    34.92,2,     0.00,2,    2.410,2,    0.002,2,    0.002,2,   2309.3,2,   2402.4,2,   7.5988,2,    25.00,    0.000,2,   -0.033,2,     -999,9,     -999,9,   1.0492,2,  27.7947,2,   1.4944,2
49UP20210827_1,   P03,    58,  1,      3,     315,2,20210905,1249,1258, 24.2477, 155.2122, 5520,   5349.6,    1.5126,  34.6935,2,    170.5,2,  34.6936,2,   170.56,2,   137.70,2,    34.72,2,     0.00,2,    2.400,2,    0.001,2,    0.001,2,   2305.9,2,   2399.8,2,   7.6033,2,    25.00,    0.000,2,   -0.015,2,     -999,9,     -999,9,   1.0346,2,  27.7967,2,   1.5128,2
49UP20210827_1,   P03,    58,  1,      2,     314,2,20210905,1249,1252, 24.2477, 155.2122, 5520,   5605.9,    1.5381,  34.6943,2,    172.2,2,  34.6938,2,   172.09,2,   136.68,2,    34.63,2,     0.00,2,    2.390,2,    0.006,2,    0.008,2,   2306.4,2,   2400.1,2,   7.6032,2,    25.00,    0.000,2,    0.055,2,     -999,9,     -999,9,   1.0265,2,  27.7979,2,   1.5383,2
49UP20210827_1,   P03,    58,  1,      1,     811,2,20210905,1249,1249, 24.2477, 155.2122, 5520,   5661.8,    1.5454,  34.6943,2,    172.4,2,  34.6940,2,   172.11,2,   136.47,2,    34.69,2,     0.00,2,    2.390,2,   -0.000,2,    0.000,2,   2304.9,2,   2401.0,2,   7.6016,2,    25.00,    0.000,2,   -0.031,2,     -999,9,     -999,9,   1.0263,2,  27.7980,2,   1.5454,2