BOTTLE,20230808CCHSIOADS
EXPOCODE,SECT_ID,STNNBR,CASTNO,SAMPNO,BTLNBR,BTLNBR_FLAG_W,DATE,TIME,BTL_TIME,LATITUDE,LONGITUDE,DEPTH,CTDPRS,CTDTMP,CTDSAL,CTDSAL_FLAG_W,CTDOXY,CTDOXY_FLAG_W,SALNTY,SALNTY_FLAG_W,OXYGEN,OXYGEN_FLAG_W,SILCAT,SILCAT_FLAG_W,NO2+NO3,NO2+NO3_FLAG_W,NITRIT,NITRIT_FLAG_W,PHSPHT,PHSPHT_FLAG_W,CFC-11,CFC-11_FLAG_W,CFC-12,CFC-12_FLAG_W,TCARBN,TCARBN_FLAG_W,ALKALI,ALKALI_FLAG_W,PH_TOT,PH_TOT_FLAG_W,PH_TMP,CFC113,CFC113_FLAG_W,SF6,SF6_FLAG_W,CHLORA,CHLORA_FLAG_W,PPHYTN,PPHYTN_FLAG_W,THETA,THETA_FLAG_W,SIG0,SIG0_FLAG_W,SBE35,SBE35_FLAG_W
,,,,,,,,,,,,METERS,DBAR,ITS-90,PSS-78,,UMOL/KG,,PSS78,,UMOL/KG,,UMOL/KG,,UMOL/KG,,UMOL/KG,,UMOL/KG,,PMOL/KG,,PMOL/KG,,UMOL/KG,,UMOL/KG,,,,DEG C,PMOL/KG,,FMOL/KG,,UG/KG,,UG/KG,,ITS-90,,KG/M^3,,ITS-90,
49UP20210719_2,   P03,    36,  1,      0,     BUC,2,20210811,1159,1245, 24.2442, 142.1137, 2574,      0.0,   28.6896,  34.2639,2,    198.7,2,     -999,9,   199.08,2,     0.80,2,     0.00,2,     0.00,2,    0.010,2,     -999,9,     -999,9,     -999,9,     -999,9,     -999,9,     -999,     -999,9,     -999,9,     -999,9,     -999,9,  28.6890,2,  21.6148,2,     -999,9
49UP20210719_2,   P03,    36,  1,     36,     757,2,20210811,1159,1317, 24.2442, 142.1137, 2574,      8.8,   28.7207,  34.2646,2,    198.7,2,     -999,9,   199.54,2,     0.80,2,     0.00,2,     0.00,2,    0.000,2,     -999,9,     -999,9,     -999,9,     -999,9,     -999,9,     -999,     -999,9,     -999,9,     -999,9,     -999,9,  28.7186,2,  21.6055,2,  28.7210,2
49UP20210719_2,   P03,    36,  1,     35,     756,2,20210811,1159,1316, 24.2442, 142.1137, 2574,     24.9,   28.2262,  34.3767,2,    199.8,2,     -999,9,   200.92,2,     0.83,2,     0.00,2,     0.00,2,    0.000,2,     -999,9,     -999,9,     -999,9,     -999,9,     -999,9,     -999,     -999,9,     -999,9,     -999,9,     -999,9,  28.2204,2,  21.8539,2,  28.2158,2
49UP20210719_2,   P03,    36,  1,     34,     843,2,20210811,1159,1312, 24.2442, 142.1137, 2574,     50.3,   23.4269,  34.8972,2,    221.1,2,     -999,9,   220.97,2,     1.13,2,     0.00,2,     0.00,2,    0.000,2,     -999,9,     -999,9,     -999,9,     -999,9,     -999,9,     -999,     -999,9,     -999,9,     -999,9,     -999,9,  23.4165,2,  23.7350,2,  23.4304,2
49UP20210719_2,   P03,    36,  1,     30,     839,2,20210811,1159,1311, 24.2442, 142.1137, 2574,     75.4,   22.8919,  34.9024,2,    219.6,2,     -999,9,   220.00,2,     1.15,2,     0.00,2,     0.00,2,    0.000,2,     -999,9,     -999,9,     -999,9,     -999,9,     -999,9,     -999,     -999,9,     -999,9,     -999,9,     -999,9,  22.8766,2,  23.8951,2,  22.8924,2
49UP20210719_2,   P03,    36,  1,     29,     838,2,20210811,1159,1309, 24.2442, 142.1137, 2574,    100.1,   21.2967,  34.8810,2,    210.3,2,     -999,9,   211.05,2,     1.45,2,     0.00,2,     0.00,2,    0.020,2,     -999,9,     -999,9,     -999,9,     -999,9,     -999,9,     -999,     -999,9,     -999,9,     -999,9,     -999,9,  21.2774,2,  24.3276,2,  21.2832,2
49UP20210719_2,   P03,    36,  1,     28,     755,2,20210811,1159,1308, 24.2442, 142.1137, 2574,    124.7,   20.3192,  34.8606,2,    202.1,2,     -999,9,   202.52,2,     1.91,2,     1.26,2,     0.02,2,    0.100,2,     -999,9,     -999,9,     -999,9,     -999,9,     -999,9,     -999,     -999,9,     -999,9,     -999,9,     -999,9,  20.2959,2,  24.5771,2,  20.3126,2
49UP20210719_2,   P03,    36,  1,     27,     754,2,20210811,1159,1307, 24.2442, 142.1137, 2574,    152.8,   19.0927,  34.8348,2,    194.7,2,     -999,9,   195.23,2,     2.71,2,     3.15,2,     0.01,2,    0.220,2,     -999,9,     -999,9,     -999,9,     -999,9,     -999,9,     -999,     -999,9,     -999,9,     -999,9,     -999,9,  19.0654,2,  24.8782,2,  19.0941,2
49UP20210719_2,   P03,    36,  1,     26,     835,2,20210811,1159,1305, 24.2442, 142.1137, 2574,    203.2,   17.8691,  34.7850,2,    197.1,2,     -999,9,   197.82,2,     3.61,2,     4.50,2,     0.00,2,    0.300,2,     -999,9,     -999,9,     -999,9,     -999,9,     -999,9,     -999,     -999,9,     -999,9,     -999,9,     -999,9,  17.8345,2,  25.1480,2,  17.8702,2
49UP20210719_2,   P03,    36,  1,     25,     834,2,20210811,1159,1303, 24.2442, 142.1137, 2574,    255.5,   16.8721,  34.7254,2,    196.3,2,     -999,9,   196.87,2,     5.04,2,     6.05,2,     0.00,2,    0.400,2,     -999,9,     -999,9,     -999,9,     -999,9,     -999,9,     -999,     -999,9,     -999,9,     -999,9,     -999,9,  16.8302,2,  25.3437,2,  16.8727,2
49UP20210719_2,   P03,    36,  1,     24,     753,2,20210811,1159,1301, 24.2442, 142.1137, 2574,    308.9,   15.9666,  34.6535,2,    193.1,2,     -999,9,   193.61,2,     7.00,2,     7.75,2,     0.00,2,    0.510,2,     -999,9,     -999,9,     -999,9,     -999,9,     -999,9,     -999,     -999,9,     -999,9,     -999,9,     -999,9,  15.9178,2,  25.4998,2,  15.9678,2
49UP20210719_2,   P03,    36,  1,     23,     832,2,20210811,1159,1257, 24.2442, 142.1137, 2574,    409.8,   13.1690,  34.4236,2,    189.4,2,     -999,9,   189.48,6,    14.31,6,    12.49,6,     0.00,6,    0.860,6,     -999,9,     -999,9,     -999,9,     -999,9,     -999,9,     -999,     -999,9,     -999,9,     -999,9,     -999,9,  13.1120,2,  25.9238,2,  13.1729,2
49UP20210719_2,   P03,    36,  1,     21,     830,2,20210811,1159,1254, 24.2442, 142.1137, 2574,    507.9,   10.1657,  34.2118,2,    169.3,2,     -999,9,   169.43,2,    27.44,2,    19.50,2,     0.00,2,    1.370,2,     -999,9,     -999,9,     -999,9,     -999,9,     -999,9,     -999,     -999,9,     -999,9,     -999,9,     -999,9,  10.1058,2,  26.3184,2,  10.1644,2
49UP20210719_2,   P03,    36,  1,     22,     831,2,20210811,1159,1254, 24.2442, 142.1137, 2574,    508.6,   10.1267,  34.2098,2,    169.3,2,     -999,9,   169.13,2,    27.55,2,    19.55,2,     0.00,2,    1.380,2,     -999,9,     -999,9,     -999,9,     -999,9,     -999,9,     -999,     -999,9,     -999,9,     -999,9,     -999,9,  10.0669,2,  26.3236,2,  10.1256,2
49UP20210719_2,   P03,    36,  1,     20,     829,2,20210811,1159,1251, 24.2442, 142.1137, 2574,    605.1,    7.6912,  34.1377,2,    119.6,2,     -999,9,   118.70,2,    49.35,2,    28.65,2,     0.00,2,    2.050,2,     -999,9,     -999,9,     -999,9,     -999,9,     -999,9,     -999,     -999,9,     -999,9,     -999,9,     -999,9,   7.6305,2,  26.6507,2,   7.6908,2
49UP20210719_2,   P03,    36,  1,     19,     828,2,20210811,1159,1248, 24.2442, 142.1137, 2574,    702.8,    5.9250,  34.1408,2,     91.2,2,     -999,9,    91.03,2,    73.42,2,    34.35,2,     0.00,2,    2.460,2,     -999,9,     -999,9,     -999,9,     -999,9,     -999,9,     -999,     -999,9,     -999,9,     -999,9,     -999,9,   5.8634,2,  26.8909,2,   5.9146,2
49UP20210719_2,   P03,    36,  1,     18,     752,2,20210811,1159,1246, 24.2442, 142.1137, 2574,    802.3,    4.8952,  34.1973,2,     67.1,2,     -999,9,    66.06,6,    93.00,6,    38.28,6,     0.00,6,    2.740,6,     -999,9,     -999,9,     -999,9,     -999,9,     -999,9,     -999,     -999,9,     -999,9,     -999,9,     -999,9,   4.8305,2,  27.0581,2,   4.8946,2
49UP20210719_2,   P03,    36,  1,     17,     751,2,20210811,1159,1243, 24.2442, 142.1137, 2574,    904.1,    4.2184,  34.2649,2,     52.5,2,     -999,9,    52.28,2,   107.86,2,    40.28,2,     0.00,2,    2.880,2,     -999,9,     -999,9,     -999,9,     -999,9,     -999,9,     -999,     -999,9,     -999,9,     -999,9,     -999,9,   4.1495,2,  27.1858,2,   4.2170,2
49UP20210719_2,   P03,    36,  1,     16,     328,2,20210811,1159,1243, 24.2442, 142.1137, 2574,    905.3,    4.2158,  34.2649,2,     52.4,2,     -999,9,    52.09,2,   108.14,2,    40.33,2,     0.00,2,    2.880,2,     -999,9,     -999,9,     -999,9,     -999,9,     -999,9,     -999,     -999,9,     -999,9,     -999,9,     -999,9,   4.1468,2,  27.1861,2,   4.2152,2
49UP20210719_2,   P03,    36,  1,     12,     324,2,20210811,1159,1241, 24.2442, 142.1137, 2574,   1005.6,    3.7300,  34.3409,2,     47.0,2,     -999,9,    46.94,2,   120.35,2,    41.41,2,     0.00,2,    2.950,2,     -999,9,     -999,9,     -999,9,     -999,9,     -999,9,     -999,     -999,9,     -999,9,     -999,9,     -999,9,   3.6563,2,  27.2966,2,   3.7288,2
49UP20210719_2,   P03,    36,  1,     11,     323,2,20210811,1159,1235, 24.2442, 142.1137, 2574,   1211.9,    2.9752,  34.4551,2,     53.1,2,     -999,9,    53.43,2,   138.05,2,    41.68,2,     0.00,2,    2.950,2,     -999,9,     -999,9,     -999,9,     -999,9,     -999,9,     -999,     -999,9,     -999,9,     -999,9,     -999,9,   2.8912,2,  27.4599,2,   2.9746,2
49UP20210719_2,   P03,    36,  1,     10,     322,2,20210811,1159,1230, 24.2442, 142.1137, 2574,   1413.6,    2.5368,  34.5120,2,     61.0,2,     -999,9,    61.29,2,   148.08,2,    41.54,2,     0.00,2,    2.930,2,     -999,9,     -999,9,     -999,9,     -999,9,     -999,9,     -999,     -999,9,     -999,9,     -999,9,     -999,9,   2.4413,2,  27.5447,2,   2.5378,2
49UP20210719_2,   P03,    36,  1,      9,     750,2,20210811,1159,1225, 24.2442, 142.1137, 2574,   1616.1,    2.2784,  34.5497,2,     72.6,2,     -999,9,    49.56,4,   152.34,2,    41.02,2,     0.00,2,    2.890,2,     -999,9,     -999,9,     -999,9,     -999,9,     -999,9,     -999,     -999,9,     -999,9,     -999,9,     -999,9,   2.1697,2,  27.5973,2,   2.2784,2
49UP20210719_2,   P03,    36,  1,      8,     320,2,20210811,1159,1219, 24.2442, 142.1137, 2574,   1818.5,    1.9964,  34.5926,2,     91.3,2,     -999,9,    91.41,6,   153.98,6,    39.93,6,     0.00,6,    2.800,6,     -999,9,     -999,9,     -999,9,     -999,9,     -999,9,     -999,     -999,9,     -999,9,     -999,9,     -999,9,   1.8751,2,  27.6551,2,   1.9963,2
49UP20210719_2,   P03,    36,  1,      7,     319,2,20210811,1159,1215, 24.2442, 142.1137, 2574,   2025.9,    1.8487,  34.6168,2,    106.0,2,     -999,9,   106.19,2,   152.60,2,    39.04,2,     0.00,2,    2.720,2,     -999,9,     -999,9,     -999,9,     -999,9,     -999,9,     -999,     -999,9,     -999,9,     -999,9,     -999,9,   1.7124,2,  27.6869,2,   1.8486,2
49UP20210719_2,   P03,    36,  1,      6,     318,2,20210811,1159,1210, 24.2442, 142.1137, 2574,   2226.2,    1.7317,  34.6344,2,    118.0,2,     -999,9,   118.02,2,   150.86,2,    38.16,2,     0.00,2,    2.660,2,     -999,9,     -999,9,     -999,9,     -999,9,     -999,9,     -999,     -999,9,     -999,9,     -999,9,     -999,9,   1.5804,2,  27.7109,2,   1.7316,2
49UP20210719_2,   P03,    36,  1,      2,     314,2,20210811,1159,1203, 24.2442, 142.1137, 2574,   2428.5,    1.6631,  34.6457,2,    125.0,2,     -999,9,   124.85,2,   150.62,2,    37.79,2,     0.00,2,    2.630,2,     -999,9,     -999,9,     -999,9,     -999,9,     -999,9,     -999,     -999,9,     -999,9,     -999,9,     -999,9,   1.4954,2,  27.7262,2,   1.6630,2
49UP20210719_2,   P03,    36,  1,      3,     315,2,20210811,1159,1204, 24.2442, 142.1137, 2574,   2428.7,    1.6634,  34.6455,2,    125.0,2,     -999,9,   124.82,2,   150.91,2,    37.84,2,     0.00,2,    2.630,2,     -999,9,     -999,9,     -999,9,     -999,9,     -999,9,     -999,     -999,9,     -999,9,     -999,9,     -999,9,   1.4957,2,  27.7260,2,   1.6632,2
49UP20210719_2,   P03,    36,  1,      1,     811,2,20210811,1159,1159, 24.2442, 142.1137, 2574,   2586.4,    1.6281,  34.6517,2,    128.9,2,     -999,9,   128.63,2,   150.65,2,    37.57,2,     0.00,2,    2.610,2,     -999,9,     -999,9,     -999,9,     -999,9,     -999,9,     -999,     -999,9,     -999,9,     -999,9,     -999,9,   1.4470,2,  27.7345,2,   1.6278,2