BOTTLE,20230808CCHSIOADS
EXPOCODE,SECT_ID,STNNBR,CASTNO,SAMPNO,BTLNBR,BTLNBR_FLAG_W,DATE,TIME,BTL_TIME,LATITUDE,LONGITUDE,DEPTH,CTDPRS,CTDTMP,CTDSAL,CTDSAL_FLAG_W,CTDOXY,CTDOXY_FLAG_W,SALNTY,SALNTY_FLAG_W,OXYGEN,OXYGEN_FLAG_W,SILCAT,SILCAT_FLAG_W,NO2+NO3,NO2+NO3_FLAG_W,NITRIT,NITRIT_FLAG_W,PHSPHT,PHSPHT_FLAG_W,CFC-11,CFC-11_FLAG_W,CFC-12,CFC-12_FLAG_W,TCARBN,TCARBN_FLAG_W,ALKALI,ALKALI_FLAG_W,PH_TOT,PH_TOT_FLAG_W,PH_TMP,CFC113,CFC113_FLAG_W,SF6,SF6_FLAG_W,CHLORA,CHLORA_FLAG_W,PPHYTN,PPHYTN_FLAG_W,THETA,THETA_FLAG_W,SIG0,SIG0_FLAG_W,SBE35,SBE35_FLAG_W
,,,,,,,,,,,,METERS,DBAR,ITS-90,PSS-78,,UMOL/KG,,PSS78,,UMOL/KG,,UMOL/KG,,UMOL/KG,,UMOL/KG,,UMOL/KG,,PMOL/KG,,PMOL/KG,,UMOL/KG,,UMOL/KG,,,,DEG C,PMOL/KG,,FMOL/KG,,UG/KG,,UG/KG,,ITS-90,,KG/M^3,,ITS-90,
49UP20210827_1,   P03,    57,  1,      0,     BUC,2,20210905,0429, 625, 24.1818, 154.4143, 5010,      0.0,   29.7760,  34.7416,2,    194.7,2,     -999,9,   195.74,2,     1.15,2,     0.00,2,     0.00,2,    0.020,2,     -999,9,     -999,9,     -999,9,     -999,9,     -999,9,     -999,     -999,9,     -999,9,     -999,9,     -999,9,  29.7754,2,  21.6089,2,     -999,9
49UP20210827_1,   P03,    57,  1,     36,     757,2,20210905,0429, 656, 24.1818, 154.4143, 5010,      9.8,   29.7834,  34.7404,2,    194.9,2,     -999,9,   195.62,2,     1.11,2,     0.00,2,     0.00,2,    0.010,2,     -999,9,     -999,9,     -999,9,     -999,9,     -999,9,     -999,     -999,9,     -999,9,     -999,9,     -999,9,  29.7810,2,  21.6061,2,  29.7826,2
49UP20210827_1,   P03,    57,  1,     35,     756,2,20210905,0429, 655, 24.1818, 154.4143, 5010,     24.6,   29.5946,  34.7288,2,    195.6,2,     -999,9,   196.31,2,     1.15,2,     0.00,2,     0.00,2,    0.010,2,     -999,9,     -999,9,     -999,9,     -999,9,     -999,9,     -999,     -999,9,     -999,9,     -999,9,     -999,9,  29.5886,2,  21.6626,2,  29.5947,2
49UP20210827_1,   P03,    57,  1,     34,     843,2,20210905,0429, 651, 24.1818, 154.4143, 5010,     50.5,   27.0821,  35.0163,2,    215.9,2,     -999,9,   216.01,2,     1.30,2,     0.00,2,     0.00,2,    0.010,2,     -999,9,     -999,9,     -999,9,     -999,9,     -999,9,     -999,     -999,9,     -999,9,     -999,9,     -999,9,  27.0705,2,  22.7075,2,  27.0822,2
49UP20210827_1,   P03,    57,  1,     33,     842,2,20210905,0429, 650, 24.1818, 154.4143, 5010,     73.9,   24.9011,  35.0814,2,    224.6,2,     -999,9,   224.47,2,     1.35,2,     0.00,2,     0.00,2,    0.010,2,     -999,9,     -999,9,     -999,9,     -999,9,     -999,9,     -999,     -999,9,     -999,9,     -999,9,     -999,9,  24.8851,2,  23.4377,2,  24.8982,2
49UP20210827_1,   P03,    57,  1,     32,     841,2,20210905,0429, 649, 24.1818, 154.4143, 5010,    101.2,   23.1618,  35.0580,2,    220.5,2,     -999,9,   221.35,6,     1.52,6,     0.00,6,     0.00,6,    0.010,6,     -999,9,     -999,9,     -999,9,     -999,9,     -999,9,     -999,     -999,9,     -999,9,     -999,9,     -999,9,  23.1411,2,  23.9369,2,  23.1730,2
49UP20210827_1,   P03,    57,  1,     31,     840,2,20210905,0429, 647, 24.1818, 154.4143, 5010,    125.0,   21.6286,  34.9898,2,    216.9,2,     -999,9,   217.17,2,     1.70,2,     0.00,2,     0.00,2,    0.010,2,     -999,9,     -999,9,     -999,9,     -999,9,     -999,9,     -999,     -999,9,     -999,9,     -999,9,     -999,9,  21.6042,2,  24.3203,2,  21.6159,2
49UP20210827_1,   P03,    57,  1,     30,     839,2,20210905,0429, 646, 24.1818, 154.4143, 5010,    150.2,   19.9313,  34.9009,2,    197.2,2,     -999,9,   197.40,2,     2.46,2,     1.26,2,     0.05,2,    0.120,2,     -999,9,     -999,9,     -999,9,     -999,9,     -999,9,     -999,     -999,9,     -999,9,     -999,9,     -999,9,  19.9036,2,  24.7115,2,  19.9241,2
49UP20210827_1,   P03,    57,  1,     29,     838,2,20210905,0429, 644, 24.1818, 154.4143, 5010,    204.9,   18.3261,  34.8125,2,    192.9,2,     -999,9,   192.91,2,     3.59,2,     3.68,2,     0.01,2,    0.280,2,     -999,9,     -999,9,     -999,9,     -999,9,     -999,9,     -999,     -999,9,     -999,9,     -999,9,     -999,9,  18.2905,2,  25.0565,2,  18.3256,2
49UP20210827_1,   P03,    57,  1,     28,     755,2,20210905,0429, 640, 24.1818, 154.4143, 5010,    253.2,   16.9114,  34.7198,2,    195.9,2,     -999,9,   196.24,2,     5.08,2,     5.69,2,     0.00,2,    0.400,2,     -999,9,     -999,9,     -999,9,     -999,9,     -999,9,     -999,     -999,9,     -999,9,     -999,9,     -999,9,  16.8698,2,  25.3300,2,  16.9206,2
49UP20210827_1,   P03,    57,  1,     27,     754,2,20210905,0429, 638, 24.1818, 154.4143, 5010,    330.9,   14.9530,  34.5588,2,    199.3,2,     -999,9,   199.13,2,     8.48,2,     8.46,2,     0.00,2,    0.580,2,     -999,9,     -999,9,     -999,9,     -999,9,     -999,9,     -999,     -999,9,     -999,9,     -999,9,     -999,9,  14.9030,2,  25.6530,2,  14.9549,2
49UP20210827_1,   P03,    57,  1,     26,     835,2,20210905,0429, 634, 24.1818, 154.4143, 5010,    433.8,   11.8743,  34.2993,2,    197.9,2,     -999,9,   197.72,2,    15.85,2,    13.46,2,     0.00,2,    0.950,2,     -999,9,     -999,9,     -999,9,     -999,9,     -999,9,     -999,     -999,9,     -999,9,     -999,9,     -999,9,  11.8180,2,  26.0793,2,  11.8737,2
49UP20210827_1,   P03,    57,  1,     25,     834,2,20210905,0429, 630, 24.1818, 154.4143, 5010,    534.1,    9.2947,  34.1321,2,    169.8,2,     -999,9,   169.96,2,    29.69,2,    20.80,2,     0.00,2,    1.480,2,     -999,9,     -999,9,     -999,9,     -999,9,     -999,9,     -999,     -999,9,     -999,9,     -999,9,     -999,9,   9.2351,2,  26.4008,2,   9.2937,2
49UP20210827_1,   P03,    57,  1,     24,     753,2,20210905,0429, 626, 24.1818, 154.4143, 5010,    636.1,    6.9191,  34.0770,2,    116.7,2,     -999,9,   116.65,2,    54.13,2,    30.12,2,     0.00,2,    2.170,2,     -999,9,     -999,9,     -999,9,     -999,9,     -999,9,     -999,     -999,9,     -999,9,     -999,9,     -999,9,   6.8589,2,  26.7109,2,   6.9130,2
49UP20210827_1,   P03,    57,  1,     23,     832,2,20210905,0429, 623, 24.1818, 154.4143, 5010,    737.2,    5.6474,  34.1172,2,     80.5,2,     -999,9,    80.25,6,    74.58,6,    35.73,6,     0.00,6,    2.580,6,     -999,9,     -999,9,     -999,9,     -999,9,     -999,9,     -999,     -999,9,     -999,9,     -999,9,     -999,9,   5.5842,2,  26.9065,2,   5.6471,2
49UP20210827_1,   P03,    57,  1,     22,     831,2,20210905,0429, 620, 24.1818, 154.4143, 5010,    836.0,    4.6942,  34.2187,2,     53.1,2,     -999,9,    53.17,2,    95.21,2,    39.69,2,     0.00,2,    2.870,2,     -999,9,     -999,9,     -999,9,     -999,9,     -999,9,     -999,     -999,9,     -999,9,     -999,9,     -999,9,   4.6279,2,  27.0977,2,   4.6943,2
49UP20210827_1,   P03,    57,  1,     21,     830,2,20210905,0429, 616, 24.1818, 154.4143, 5010,    937.3,    4.2425,  34.3048,2,     46.1,2,     -999,9,    46.28,2,   106.59,2,    40.96,2,     0.00,2,    2.950,2,     -999,9,     -999,9,     -999,9,     -999,9,     -999,9,     -999,     -999,9,     -999,9,     -999,9,     -999,9,   4.1706,2,  27.2154,2,   4.2427,2
49UP20210827_1,   P03,    57,  1,     20,     829,2,20210905,0429, 612, 24.1818, 154.4143, 5010,   1081.3,    3.7006,  34.4114,2,     50.9,2,     -999,9,    50.99,2,   119.63,2,    41.28,2,     0.00,2,    2.970,2,     -999,9,     -999,9,     -999,9,     -999,9,     -999,9,     -999,     -999,9,     -999,9,     -999,9,     -999,9,   3.6208,2,  27.3562,2,   3.7007,2
49UP20210827_1,   P03,    57,  1,     19,     828,2,20210905,0429, 606, 24.1818, 154.4143, 5010,   1286.7,    3.0904,  34.4940,2,     64.5,2,     -999,9,    64.46,2,   132.47,2,    40.86,2,     0.00,2,    2.910,2,     -999,9,     -999,9,     -999,9,     -999,9,     -999,9,     -999,     -999,9,     -999,9,     -999,9,     -999,9,   2.9993,2,  27.4812,2,   3.0902,2
49UP20210827_1,   P03,    57,  1,     18,     752,2,20210905,0429, 559, 24.1818, 154.4143, 5010,   1489.6,    2.6922,  34.5327,2,     73.3,2,     -999,9,    73.27,2,   140.70,2,    40.58,2,     0.00,2,    2.880,2,     -999,9,     -999,9,     -999,9,     -999,9,     -999,9,     -999,     -999,9,     -999,9,     -999,9,     -999,9,   2.5889,2,  27.5486,2,   2.6923,2
49UP20210827_1,   P03,    57,  1,     17,     751,2,20210905,0429, 554, 24.1818, 154.4143, 5010,   1689.2,    2.3119,  34.5643,2,     79.3,2,     -999,9,    79.19,2,   149.25,2,    40.49,2,     0.00,2,    2.870,2,     -999,9,     -999,9,     -999,9,     -999,9,     -999,9,     -999,     -999,9,     -999,9,     -999,9,     -999,9,   2.1970,2,  27.6068,2,   2.3120,2
49UP20210827_1,   P03,    57,  1,     16,     328,2,20210905,0429, 549, 24.1818, 154.4143, 5010,   1891.2,    2.0659,  34.5949,2,     91.6,2,     -999,9,    91.78,2,   152.09,2,    39.83,2,     0.00,2,    2.810,2,     -999,9,     -999,9,     -999,9,     -999,9,     -999,9,     -999,     -999,9,     -999,9,     -999,9,     -999,9,   1.9377,2,  27.6520,2,   2.0660,2
49UP20210827_1,   P03,    57,  1,     15,     822,2,20210905,0429, 544, 24.1818, 154.4143, 5010,   2093.1,    1.8952,  34.6132,2,     99.7,2,     -999,9,    99.36,2,   155.01,2,    39.41,2,     0.00,2,    2.770,2,     -999,9,     -999,9,     -999,9,     -999,9,     -999,9,     -999,     -999,9,     -999,9,     -999,9,     -999,9,   1.7526,2,  27.6810,2,   1.8946,2
49UP20210827_1,   P03,    57,  1,     14,     326,2,20210905,0429, 539, 24.1818, 154.4143, 5010,   2297.0,    1.7822,  34.6306,2,    110.4,2,     -999,9,   110.29,6,   154.45,6,    38.76,6,     0.00,6,    2.720,6,     -999,9,     -999,9,     -999,9,     -999,9,     -999,9,     -999,     -999,9,     -999,9,     -999,9,     -999,9,   1.6239,2,  27.7046,2,   1.7821,2
49UP20210827_1,   P03,    57,  1,     13,     325,2,20210905,0429, 534, 24.1818, 154.4143, 5010,   2501.3,    1.7044,  34.6430,2,    118.4,2,     -999,9,   118.44,2,   153.97,2,    38.24,2,     0.00,2,    2.670,2,     -999,9,     -999,9,     -999,9,     -999,9,     -999,9,     -999,     -999,9,     -999,9,     -999,9,     -999,9,   1.5295,2,  27.7215,2,   1.7044,2
49UP20210827_1,   P03,    57,  1,     12,     324,2,20210905,0429, 528, 24.1818, 154.4143, 5010,   2704.1,    1.6439,  34.6519,2,    125.3,2,     -999,9,   125.22,2,   152.95,2,    37.79,2,     0.00,2,    2.640,2,     -999,9,     -999,9,     -999,9,     -999,9,     -999,9,     -999,     -999,9,     -999,9,     -999,9,     -999,9,   1.4518,2,  27.7343,2,   1.6438,2
49UP20210827_1,   P03,    57,  1,     11,     323,2,20210905,0429, 523, 24.1818, 154.4143, 5010,   2910.0,    1.5795,  34.6614,2,    132.4,2,     -999,9,   132.14,2,   152.47,2,    37.38,2,     0.00,2,    2.610,2,     -999,9,     -999,9,     -999,9,     -999,9,     -999,9,     -999,     -999,9,     -999,9,     -999,9,     -999,9,   1.3696,2,  27.7478,2,   1.5795,2
49UP20210827_1,   P03,    57,  1,      9,     750,2,20210905,0429, 517, 24.1818, 154.4143, 5010,   3125.9,    1.5390,  34.6676,2,    137.7,2,     -999,9,   137.50,2,   151.72,2,    37.04,2,     0.00,2,    2.580,2,     -999,9,     -999,9,     -999,9,     -999,9,     -999,9,     -999,     -999,9,     -999,9,     -999,9,     -999,9,   1.3093,2,  27.7571,2,   1.5391,2
49UP20210827_1,   P03,    57,  1,     10,     322,2,20210905,0429, 517, 24.1818, 154.4143, 5010,   3127.5,    1.5392,  34.6677,2,    137.7,2,     -999,9,   137.66,2,   151.90,2,    37.02,2,     0.00,2,    2.580,2,     -999,9,     -999,9,     -999,9,     -999,9,     -999,9,     -999,     -999,9,     -999,9,     -999,9,     -999,9,   1.3093,2,  27.7572,2,   1.5392,2
49UP20210827_1,   P03,    57,  1,      8,     320,2,20210905,0429, 510, 24.1818, 154.4143, 5010,   3378.2,    1.5096,  34.6729,2,    142.2,2,     -999,9,   142.03,2,   151.02,2,    36.74,2,     0.00,2,    2.560,2,     -999,9,     -999,9,     -999,9,     -999,9,     -999,9,     -999,     -999,9,     -999,9,     -999,9,     -999,9,   1.2556,2,  27.7651,2,   1.5097,2
49UP20210827_1,   P03,    57,  1,      7,     319,2,20210905,0429, 505, 24.1818, 154.4143, 5010,   3635.3,    1.4782,  34.6781,2,    148.0,2,     -999,9,   148.14,2,   149.98,2,    36.35,2,     0.00,2,    2.530,2,     -999,9,     -999,9,     -999,9,     -999,9,     -999,9,     -999,     -999,9,     -999,9,     -999,9,     -999,9,   1.1987,2,  27.7732,2,   1.4781,2
49UP20210827_1,   P03,    57,  1,      6,     318,2,20210905,0429, 459, 24.1818, 154.4143, 5010,   3889.0,    1.4626,  34.6820,2,    152.6,2,     -999,9,   152.22,2,   148.30,2,    36.01,2,     0.00,2,    2.500,2,     -999,9,     -999,9,     -999,9,     -999,9,     -999,9,     -999,     -999,9,     -999,9,     -999,9,     -999,9,   1.1567,2,  27.7793,2,   1.4626,2
49UP20210827_1,   P03,    57,  1,      5,     317,2,20210905,0429, 453, 24.1818, 154.4143, 5010,   4146.9,    1.4515,  34.6857,2,    157.4,2,     -999,9,   157.08,6,   146.16,6,    35.68,6,     0.00,6,    2.480,6,     -999,9,     -999,9,     -999,9,     -999,9,     -999,9,     -999,     -999,9,     -999,9,     -999,9,     -999,9,   1.1178,2,  27.7849,2,   1.4515,2
49UP20210827_1,   P03,    57,  1,      4,     316,2,20210905,0429, 447, 24.1818, 154.4143, 5010,   4402.5,    1.4549,  34.6880,2,    161.0,2,     -999,9,   161.24,2,   144.32,2,    35.44,2,     0.00,2,    2.460,2,     -999,9,     -999,9,     -999,9,     -999,9,     -999,9,     -999,     -999,9,     -999,9,     -999,9,     -999,9,   1.0925,2,  27.7884,2,   1.4549,2
49UP20210827_1,   P03,    57,  1,      3,     315,2,20210905,0429, 440, 24.1818, 154.4143, 5010,   4660.3,    1.4646,  34.6900,2,    164.1,2,     -999,9,   164.02,2,   142.65,2,    35.24,2,     0.00,2,    2.440,2,     -999,9,     -999,9,     -999,9,     -999,9,     -999,9,     -999,     -999,9,     -999,9,     -999,9,     -999,9,   1.0721,2,  27.7914,2,   1.4646,2
49UP20210827_1,   P03,    57,  1,      2,     314,2,20210905,0429, 434, 24.1818, 154.4143, 5010,   4914.7,    1.4772,  34.6916,2,    167.1,2,     -999,9,   167.06,2,   140.05,2,    35.03,2,     0.00,2,    2.420,2,     -999,9,     -999,9,     -999,9,     -999,9,     -999,9,     -999,     -999,9,     -999,9,     -999,9,     -999,9,   1.0541,2,  27.7939,2,   1.4771,2
49UP20210827_1,   P03,    57,  1,      1,     811,2,20210905,0429, 430, 24.1818, 154.4143, 5010,   5075.6,    1.4861,  34.6926,2,    169.2,2,     -999,9,   169.03,2,   138.82,2,    34.89,2,     0.00,2,    2.420,2,     -999,9,     -999,9,     -999,9,     -999,9,     -999,9,     -999,     -999,9,     -999,9,     -999,9,     -999,9,   1.0431,2,  27.7955,2,   1.4859,2