BOTTLE,20230808CCHSIOADS
EXPOCODE,SECT_ID,STNNBR,CASTNO,SAMPNO,BTLNBR,BTLNBR_FLAG_W,DATE,TIME,BTL_TIME,LATITUDE,LONGITUDE,DEPTH,CTDPRS,CTDTMP,CTDSAL,CTDSAL_FLAG_W,CTDOXY,CTDOXY_FLAG_W,SALNTY,SALNTY_FLAG_W,OXYGEN,OXYGEN_FLAG_W,SILCAT,SILCAT_FLAG_W,NO2+NO3,NO2+NO3_FLAG_W,NITRIT,NITRIT_FLAG_W,PHSPHT,PHSPHT_FLAG_W,CFC-11,CFC-11_FLAG_W,CFC-12,CFC-12_FLAG_W,TCARBN,TCARBN_FLAG_W,ALKALI,ALKALI_FLAG_W,PH_TOT,PH_TOT_FLAG_W,PH_TMP,CFC113,CFC113_FLAG_W,SF6,SF6_FLAG_W,CHLORA,CHLORA_FLAG_W,PPHYTN,PPHYTN_FLAG_W,THETA,THETA_FLAG_W,SIG0,SIG0_FLAG_W,SBE35,SBE35_FLAG_W
,,,,,,,,,,,,METERS,DBAR,ITS-90,PSS-78,,UMOL/KG,,PSS78,,UMOL/KG,,UMOL/KG,,UMOL/KG,,UMOL/KG,,UMOL/KG,,PMOL/KG,,PMOL/KG,,UMOL/KG,,UMOL/KG,,,,DEG C,PMOL/KG,,FMOL/KG,,UG/KG,,UG/KG,,ITS-90,,KG/M^3,,ITS-90,
49UP20210920_1,   P03,    86,  1,      0,     BUC,2,20211003,1829,2035, 24.2735, 176.7347, 5706,      0.0,   28.0393,  35.0828,2,    200.2,2,     -999,9,   199.87,2,     1.01,2,     0.00,2,     0.00,2,    0.030,2,     -999,9,     -999,9,     -999,9,     -999,9,     -999,9,     -999,     -999,9,     -999,9,     -999,9,     -999,9,  28.0388,2,  22.4442,2,     -999,9
49UP20210920_1,   P03,    86,  1,     36,     757,2,20211003,1829,2105, 24.2735, 176.7347, 5706,     10.1,   28.0393,  35.0823,2,    200.0,2,     -999,9,   200.00,2,     1.10,2,     0.00,2,     0.00,2,    0.010,2,     -999,9,     -999,9,     -999,9,     -999,9,     -999,9,     -999,     -999,9,     -999,9,     -999,9,     -999,9,  28.0369,2,  22.4445,2,  28.0390,2
49UP20210920_1,   P03,    86,  1,     35,     756,2,20211003,1829,2101, 24.2735, 176.7347, 5706,     50.5,   27.8419,  35.1756,2,    201.6,2,     -999,9,   201.70,2,     1.00,2,     0.00,2,     0.00,2,    0.000,2,     -999,9,     -999,9,     -999,9,     -999,9,     -999,9,     -999,     -999,9,     -999,9,     -999,9,     -999,9,  27.8301,2,  22.5821,2,  27.8422,2
49UP20210920_1,   P03,    86,  1,     34,     843,2,20211003,1829,2059, 24.2735, 176.7347, 5706,     99.1,   23.9591,  35.2008,2,    219.0,2,     -999,9,   218.37,2,     1.24,2,     0.00,2,     0.00,2,    0.010,2,     -999,9,     -999,9,     -999,9,     -999,9,     -999,9,     -999,     -999,9,     -999,9,     -999,9,     -999,9,  23.9383,2,  23.8117,2,  23.9492,2
49UP20210920_1,   P03,    86,  1,     33,     842,2,20211003,1829,2057, 24.2735, 176.7347, 5706,    123.9,   23.1033,  35.1966,2,    210.6,2,     -999,9,   210.65,2,     1.39,2,     0.00,2,     0.00,2,    0.030,2,     -999,9,     -999,9,     -999,9,     -999,9,     -999,9,     -999,     -999,9,     -999,9,     -999,9,     -999,9,  23.0779,2,  24.0602,2,  23.1011,2
49UP20210920_1,   P03,    86,  1,     32,     841,2,20211003,1829,2056, 24.2735, 176.7347, 5706,    153.6,   21.6765,  35.1309,2,    201.5,2,     -999,9,   202.59,2,     1.84,2,     0.22,2,     0.12,2,    0.070,2,     -999,9,     -999,9,     -999,9,     -999,9,     -999,9,     -999,     -999,9,     -999,9,     -999,9,     -999,9,  21.6464,2,  24.4159,2,  21.6895,2
49UP20210920_1,   P03,    86,  1,     31,     840,2,20211003,1829,2053, 24.2735, 176.7347, 5706,    203.5,   19.0207,  34.9012,2,    189.4,2,     -999,9,   190.08,2,     3.42,2,     3.18,2,     0.01,2,    0.280,2,     -999,9,     -999,9,     -999,9,     -999,9,     -999,9,     -999,     -999,9,     -999,9,     -999,9,     -999,9,  18.9843,2,  24.9496,2,  19.0245,2
49UP20210920_1,   P03,    86,  1,     30,     839,2,20211003,1829,2051, 24.2735, 176.7347, 5706,    254.1,   16.3528,  34.6577,2,    193.2,2,     -999,9,   193.72,6,     5.75,6,     6.17,6,     0.00,6,    0.450,6,     -999,9,     -999,9,     -999,9,     -999,9,     -999,9,     -999,     -999,9,     -999,9,     -999,9,     -999,9,  16.3120,2,  25.4126,2,  16.3673,2
49UP20210920_1,   P03,    86,  1,     29,     838,2,20211003,1829,2049, 24.2735, 176.7347, 5706,    303.9,   14.3532,  34.4724,2,    196.5,2,     -999,9,   196.62,2,     8.82,2,     8.91,2,     0.00,2,    0.630,2,     -999,9,     -999,9,     -999,9,     -999,9,     -999,9,     -999,     -999,9,     -999,9,     -999,9,     -999,9,  14.3086,2,  25.7143,2,  14.3579,2
49UP20210920_1,   P03,    86,  1,     28,     755,2,20211003,1829,2046, 24.2735, 176.7347, 5706,    401.6,   11.4836,  34.2433,2,    190.3,2,     -999,9,   190.69,2,    16.86,2,    14.69,2,     0.00,2,    1.040,2,     -999,9,     -999,9,     -999,9,     -999,9,     -999,9,     -999,     -999,9,     -999,9,     -999,9,     -999,9,  11.4326,2,  26.1075,2,  11.4840,2
49UP20210920_1,   P03,    86,  1,     27,     754,2,20211003,1829,2043, 24.2735, 176.7347, 5706,    503.7,    8.7506,  34.1196,2,    143.7,2,     -999,9,   143.80,2,    35.32,2,    24.17,2,     0.00,2,    1.740,2,     -999,9,     -999,9,     -999,9,     -999,9,     -999,9,     -999,     -999,9,     -999,9,     -999,9,     -999,9,   8.6965,2,  26.4765,2,   8.7507,2
49UP20210920_1,   P03,    86,  1,     26,     835,2,20211003,1829,2040, 24.2735, 176.7347, 5706,    605.7,    6.5883,  34.0764,2,    106.1,2,     -999,9,   106.17,2,    59.36,2,    31.83,2,     0.00,2,    2.280,2,     -999,9,     -999,9,     -999,9,     -999,9,     -999,9,     -999,     -999,9,     -999,9,     -999,9,     -999,9,   6.5326,2,  26.7541,2,   6.5897,2
49UP20210920_1,   P03,    86,  1,     25,     834,2,20211003,1829,2037, 24.2735, 176.7347, 5706,    705.9,    5.3840,  34.1529,2,     64.4,2,     -999,9,    64.57,2,    80.99,2,    37.51,2,     0.00,2,    2.710,2,     -999,9,     -999,9,     -999,9,     -999,9,     -999,9,     -999,     -999,9,     -999,9,     -999,9,     -999,9,   5.3250,2,  26.9658,2,   5.3857,2
49UP20210920_1,   P03,    86,  1,     24,     753,2,20211003,1829,2034, 24.2735, 176.7347, 5706,    806.5,    4.6636,  34.2701,2,     44.0,2,     -999,9,    43.83,2,    97.51,2,    40.52,2,     0.00,2,    2.930,2,     -999,9,     -999,9,     -999,9,     -999,9,     -999,9,     -999,     -999,9,     -999,9,     -999,9,     -999,9,   4.5999,2,  27.1416,2,   4.6635,2
49UP20210920_1,   P03,    86,  1,     23,     832,2,20211003,1829,2031, 24.2735, 176.7347, 5706,    907.4,    4.2734,  34.3592,2,     42.9,2,     -999,9,    43.26,2,   106.63,2,    41.26,2,     0.00,2,    2.980,2,     -999,9,     -999,9,     -999,9,     -999,9,     -999,9,     -999,     -999,9,     -999,9,     -999,9,     -999,9,   4.2037,2,  27.2551,2,   4.2727,2
49UP20210920_1,   P03,    86,  1,     22,     831,2,20211003,1829,2028, 24.2735, 176.7347, 5706,   1008.9,    3.9503,  34.4277,2,     48.8,2,     -999,9,    49.00,2,   113.53,2,    41.31,2,     0.00,2,    2.970,2,     -999,9,     -999,9,     -999,9,     -999,9,     -999,9,     -999,     -999,9,     -999,9,     -999,9,     -999,9,   3.8744,2,  27.3438,2,   3.9502,2
49UP20210920_1,   P03,    86,  1,     21,     830,2,20211003,1829,2023, 24.2735, 176.7347, 5706,   1210.7,    3.4207,  34.5105,2,     64.4,2,     -999,9,    64.15,6,   123.36,6,    40.77,6,     0.00,6,    2.920,6,     -999,9,     -999,9,     -999,9,     -999,9,     -999,9,     -999,     -999,9,     -999,9,     -999,9,     -999,9,   3.3326,2,  27.4633,2,   3.4207,2
49UP20210920_1,   P03,    86,  1,     20,     829,2,20211003,1829,2018, 24.2735, 176.7347, 5706,   1413.9,    2.9332,  34.5450,2,     72.9,2,     -999,9,    73.04,2,   133.80,2,    40.54,2,     0.00,2,    2.890,2,     -999,9,     -999,9,     -999,9,     -999,9,     -999,9,     -999,     -999,9,     -999,9,     -999,9,     -999,9,   2.8333,2,  27.5370,2,   2.9333,2
49UP20210920_1,   P03,    86,  1,     19,     828,2,20211003,1829,2013, 24.2735, 176.7347, 5706,   1617.0,    2.5558,  34.5698,2,     79.0,2,     -999,9,    79.14,2,   142.07,2,    40.41,2,     0.00,2,    2.870,2,     -999,9,     -999,9,     -999,9,     -999,9,     -999,9,     -999,     -999,9,     -999,9,     -999,9,     -999,9,   2.4436,2,  27.5907,2,   2.5556,2
49UP20210920_1,   P03,    86,  1,     18,     752,2,20211003,1829,2008, 24.2735, 176.7347, 5706,   1819.0,    2.2759,  34.5968,2,     89.6,2,     -999,9,    89.26,2,   147.18,2,    39.89,2,     0.00,2,    2.820,2,     -999,9,     -999,9,     -999,9,     -999,9,     -999,9,     -999,     -999,9,     -999,9,     -999,9,     -999,9,   2.1506,2,  27.6365,2,   2.2757,2
49UP20210920_1,   P03,    86,  1,     17,     751,2,20211003,1829,2003, 24.2735, 176.7347, 5706,   2025.1,    2.0422,  34.6147,2,     96.4,2,     -999,9,    96.33,2,   152.43,2,    39.56,2,     0.00,2,    2.790,2,     -999,9,     -999,9,     -999,9,     -999,9,     -999,9,     -999,     -999,9,     -999,9,     -999,9,     -999,9,   1.9030,2,  27.6706,2,   2.0419,2
49UP20210920_1,   P03,    86,  1,     16,     328,2,20211003,1829,1958, 24.2735, 176.7347, 5706,   2227.4,    1.8866,  34.6303,2,    104.6,2,     -999,9,   104.66,2,   154.77,2,    39.10,2,     0.00,2,    2.750,2,     -999,9,     -999,9,     -999,9,     -999,9,     -999,9,     -999,     -999,9,     -999,9,     -999,9,     -999,9,   1.7326,2,  27.6962,2,   1.8868,2
49UP20210920_1,   P03,    86,  1,     15,     822,2,20211003,1829,1953, 24.2735, 176.7347, 5706,   2430.6,    1.7614,  34.6425,2,    112.5,2,     -999,9,   112.69,2,   156.09,2,    38.67,2,     0.00,2,    2.700,2,     -999,9,     -999,9,     -999,9,     -999,9,     -999,9,     -999,     -999,9,     -999,9,     -999,9,     -999,9,   1.5918,2,  27.7165,2,   1.7615,2
49UP20210920_1,   P03,    86,  1,     14,     326,2,20211003,1829,1948, 24.2735, 176.7347, 5706,   2631.8,    1.6847,  34.6510,2,    119.7,2,     -999,9,   119.52,2,   155.67,2,    38.16,2,     0.00,2,    2.670,2,     -999,9,     -999,9,     -999,9,     -999,9,     -999,9,     -999,     -999,9,     -999,9,     -999,9,     -999,9,   1.4985,2,  27.7302,2,   1.6845,2
49UP20210920_1,   P03,    86,  1,     13,     325,3,20211003,1829,1943, 24.2735, 176.7347, 5706,   2836.1,    1.6194,  34.6586,2,    126.1,2,     -999,9,   126.05,2,   155.03,2,    37.72,2,     0.00,2,    2.630,2,     -999,9,     -999,9,     -999,9,     -999,9,     -999,9,     -999,     -999,9,     -999,9,     -999,9,     -999,9,   1.4155,2,  27.7423,2,   1.6193,2
49UP20210920_1,   P03,    86,  1,     12,     324,2,20211003,1829,1937, 24.2735, 176.7347, 5706,   3041.3,    1.5715,  34.6642,2,    130.9,2,     -999,9,   131.18,6,   155.26,6,    37.43,6,     0.00,6,    2.610,6,     -999,9,     -999,9,     -999,9,     -999,9,     -999,9,     -999,     -999,9,     -999,9,     -999,9,     -999,9,   1.3492,2,  27.7515,2,   1.5713,2
49UP20210920_1,   P03,    86,  1,     11,     323,2,20211003,1829,1931, 24.2735, 176.7347, 5706,   3297.7,    1.5221,  34.6710,2,    137.6,2,     -999,9,   137.73,2,   154.06,2,    37.01,2,     0.00,2,    2.570,2,     -999,9,     -999,9,     -999,9,     -999,9,     -999,9,     -999,     -999,9,     -999,9,     -999,9,     -999,9,   1.2758,2,  27.7621,2,   1.5220,2
49UP20210920_1,   P03,    86,  1,     10,     322,2,20211003,1829,1925, 24.2735, 176.7347, 5706,   3552.2,    1.4928,  34.6759,2,    143.3,2,     -999,9,   143.55,2,   152.34,2,    36.61,2,     0.00,2,    2.540,2,     -999,9,     -999,9,     -999,9,     -999,9,     -999,9,     -999,     -999,9,     -999,9,     -999,9,     -999,9,   1.2216,2,  27.7699,2,   1.4927,2
49UP20210920_1,   P03,    86,  1,      9,     750,2,20211003,1829,1919, 24.2735, 176.7347, 5706,   3808.7,    1.4673,  34.6808,2,    149.4,2,     -999,9,   149.44,2,   150.47,2,    36.22,2,     0.00,2,    2.520,2,     -999,9,     -999,9,     -999,9,     -999,9,     -999,9,     -999,     -999,9,     -999,9,     -999,9,     -999,9,   1.1699,2,  27.7774,2,   1.4673,2
49UP20210920_1,   P03,    86,  1,      8,     320,2,20211003,1829,1912, 24.2735, 176.7347, 5706,   4065.3,    1.4569,  34.6842,2,    154.2,2,     -999,9,   154.32,2,   148.66,2,    35.89,2,     0.00,2,    2.490,2,     -999,9,     -999,9,     -999,9,     -999,9,     -999,9,     -999,     -999,9,     -999,9,     -999,9,     -999,9,   1.1321,2,  27.7827,2,   1.4569,2
49UP20210920_1,   P03,    86,  1,      7,     319,2,20211003,1829,1906, 24.2735, 176.7347, 5706,   4321.2,    1.4426,  34.6879,2,    160.3,2,     -999,9,   160.58,2,   145.30,2,    35.43,2,     0.00,2,    2.460,2,     -999,9,     -999,9,     -999,9,     -999,9,     -999,9,     -999,     -999,9,     -999,9,     -999,9,     -999,9,   1.0897,2,  27.7885,2,   1.4426,2
49UP20210920_1,   P03,    86,  1,      6,     318,2,20211003,1829,1900, 24.2735, 176.7347, 5706,   4577.4,    1.4351,  34.6911,2,    165.7,2,     -999,9,   165.57,2,   141.38,2,    35.04,2,     0.00,2,    2.420,2,     -999,9,     -999,9,     -999,9,     -999,9,     -999,9,     -999,     -999,9,     -999,9,     -999,9,     -999,9,   1.0531,2,  27.7936,2,   1.4351,2
49UP20210920_1,   P03,    86,  1,      5,     317,2,20211003,1829,1854, 24.2735, 176.7347, 5706,   4833.9,    1.4279,  34.6941,2,    171.7,2,     -999,9,   171.88,2,   137.80,2,    34.60,2,     0.00,2,    2.390,2,     -999,9,     -999,9,     -999,9,     -999,9,     -999,9,     -999,     -999,9,     -999,9,     -999,9,     -999,9,   1.0160,2,  27.7984,2,   1.4277,2
49UP20210920_1,   P03,    86,  1,      4,     316,2,20211003,1829,1848, 24.2735, 176.7347, 5706,   5090.7,    1.4383,  34.6957,2,    174.7,2,     -999,9,   174.52,2,   135.81,2,    34.37,2,     0.00,2,    2.380,2,     -999,9,     -999,9,     -999,9,     -999,9,     -999,9,     -999,     -999,9,     -999,9,     -999,9,     -999,9,   0.9950,2,  27.8012,2,   1.4380,2
49UP20210920_1,   P03,    86,  1,      3,     315,2,20211003,1829,1842, 24.2735, 176.7347, 5706,   5352.5,    1.4575,  34.6969,2,    176.7,2,     -999,9,   176.64,6,   134.60,6,    34.27,6,     0.00,6,    2.370,6,     -999,9,     -999,9,     -999,9,     -999,9,     -999,9,     -999,     -999,9,     -999,9,     -999,9,     -999,9,   0.9811,2,  27.8031,2,   1.4575,2
49UP20210920_1,   P03,    86,  1,      2,     314,2,20211003,1829,1835, 24.2735, 176.7347, 5706,   5605.1,    1.4814,  34.6974,2,    178.0,2,     -999,9,   177.84,2,   133.89,2,    34.17,2,     0.00,2,    2.360,2,     -999,9,     -999,9,     -999,9,     -999,9,     -999,9,     -999,     -999,9,     -999,9,     -999,9,     -999,9,   0.9720,2,  27.8041,2,   1.4813,2
49UP20210920_1,   P03,    86,  1,      1,     811,2,20211003,1829,1830, 24.2735, 176.7347, 5706,   5855.0,    1.5091,  34.6979,2,    178.9,2,     -999,9,   178.83,2,   133.07,2,    34.09,2,     0.00,2,    2.360,2,     -999,9,     -999,9,     -999,9,     -999,9,     -999,9,     -999,     -999,9,     -999,9,     -999,9,     -999,9,   0.9661,2,  27.8049,2,   1.5089,2