BOTTLE,20230808CCHSIOADS
EXPOCODE,SECT_ID,STNNBR,CASTNO,SAMPNO,BTLNBR,BTLNBR_FLAG_W,DATE,TIME,BTL_TIME,LATITUDE,LONGITUDE,DEPTH,CTDPRS,CTDTMP,CTDSAL,CTDSAL_FLAG_W,CTDOXY,CTDOXY_FLAG_W,SALNTY,SALNTY_FLAG_W,OXYGEN,OXYGEN_FLAG_W,SILCAT,SILCAT_FLAG_W,NO2+NO3,NO2+NO3_FLAG_W,NITRIT,NITRIT_FLAG_W,PHSPHT,PHSPHT_FLAG_W,CFC-11,CFC-11_FLAG_W,CFC-12,CFC-12_FLAG_W,TCARBN,TCARBN_FLAG_W,ALKALI,ALKALI_FLAG_W,PH_TOT,PH_TOT_FLAG_W,PH_TMP,CFC113,CFC113_FLAG_W,SF6,SF6_FLAG_W,CHLORA,CHLORA_FLAG_W,PPHYTN,PPHYTN_FLAG_W,THETA,THETA_FLAG_W,SIG0,SIG0_FLAG_W,SBE35,SBE35_FLAG_W
,,,,,,,,,,,,METERS,DBAR,ITS-90,PSS-78,,UMOL/KG,,PSS78,,UMOL/KG,,UMOL/KG,,UMOL/KG,,UMOL/KG,,UMOL/KG,,PMOL/KG,,PMOL/KG,,UMOL/KG,,UMOL/KG,,,,DEG C,PMOL/KG,,FMOL/KG,,UG/KG,,UG/KG,,ITS-90,,KG/M^3,,ITS-90,
49UP20210719_2,   P03,    30,  1,      0,     BUC,2,20210810,0905,1030, 24.2368, 140.2627, 4041,      0.0,   28.6762,  34.4365,2,    198.9,2,  34.4661,2,   199.08,2,     0.97,2,     0.11,2,     0.00,2,    0.010,2,     -999,9,     -999,9,   1949.3,2,   2263.8,2,   8.0818,2,    25.00,     -999,9,     -999,9,     0.04,2,     0.02,2,  28.6756,2,  21.7489,2,     -999,9
49UP20210719_2,   P03,    30,  1,     36,     757,2,20210810,0905,1103, 24.2368, 140.2627, 4041,      9.4,   28.6836,  34.4360,2,    198.8,2,  34.4354,2,   199.86,2,     0.97,2,     0.09,2,     0.00,2,    0.000,2,    1.089,2,    0.801,2,   1949.4,2,   2263.4,2,   8.0809,2,    25.00,    0.073,2,    1.518,2,     0.04,2,     0.02,2,  28.6813,2,  21.7466,2,  28.6836,2
49UP20210719_2,   P03,    30,  1,     35,     756,2,20210810,0905,1101, 24.2368, 140.2627, 4041,     24.7,   28.1912,  34.4827,2,    200.2,2,  34.4905,4,   200.72,2,     0.97,2,     0.09,2,     0.00,2,    0.000,2,     -999,9,     -999,9,   1952.2,2,   2267.4,2,   8.0808,2,    25.00,     -999,9,     -999,9,     0.04,2,     0.02,2,  28.1854,2,  21.9451,2,  28.1875,2
49UP20210719_2,   P03,    30,  1,     34,     843,3,20210810,0905,1058, 24.2368, 140.2627, 4041,     49.7,   25.0971,  34.8122,2,    220.2,2,  34.8132,2,   219.40,2,     1.11,2,     0.08,2,     0.00,2,    0.000,2,    1.374,2,    0.948,2,   1978.2,2,   2288.7,2,   8.0665,2,    25.00,    0.074,2,    1.750,2,     0.07,2,     0.04,2,  25.0863,2,  23.1730,2,  25.0948,2
49UP20210719_2,   P03,    30,  1,     33,     842,2,20210810,0905,1056, 24.2368, 140.2627, 4041,     77.4,   22.0559,  34.8284,2,    226.9,2,  34.8237,6,   226.37,2,     1.27,2,     0.08,2,     0.00,2,    0.000,2,     -999,9,     -999,9,   1992.4,2,   2287.4,2,   8.0445,2,    25.00,     -999,9,     -999,9,     0.21,2,     0.15,2,  22.0406,2,  24.0760,2,  22.0722,2
49UP20210719_2,   P03,    30,  1,     32,     841,2,20210810,0905,1055, 24.2368, 140.2627, 4041,    102.9,   20.9018,  34.8409,2,    218.7,2,  34.8419,2,   218.34,2,     1.55,2,     0.10,2,     0.02,2,    0.020,2,    1.642,2,    1.044,2,   2007.9,2,   2290.4,2,   8.0176,2,    25.00,    0.084,2,    1.907,2,     0.27,2,     0.48,2,  20.8822,2,  24.4047,2,  20.9176,2
49UP20210719_2,   P03,    30,  1,     30,     839,2,20210810,0905,1053, 24.2368, 140.2627, 4041,    127.3,   19.8761,  34.8344,2,    207.3,2,  34.8354,2,   207.31,2,     2.05,2,     1.52,2,     0.04,2,    0.100,2,     -999,9,     -999,9,   2025.5,2,   2288.4,2,   7.9863,6,    25.00,     -999,9,     -999,9,     0.12,2,     0.28,2,  19.8527,2,  24.6741,2,  19.8802,2
49UP20210719_2,   P03,    30,  1,     29,     838,2,20210810,0905,1052, 24.2368, 140.2627, 4041,    152.6,   19.1612,  34.8097,2,    204.4,2,  34.8094,2,   203.80,2,     2.61,2,     2.64,2,     0.01,2,    0.170,2,     -999,9,     -999,9,   2033.2,6,   2287.2,6,   7.9706,2,    25.00,     -999,9,     -999,9,     0.05,2,     0.11,2,  19.1339,2,  24.8415,2,  19.1847,2
49UP20210719_2,   P03,    30,  1,     28,     755,2,20210810,0905,1050, 24.2368, 140.2627, 4041,    208.1,   18.2563,  34.7941,2,    199.5,2,  34.7932,2,   199.49,2,     3.34,2,     3.87,2,     0.01,2,    0.250,2,    1.906,2,    1.162,2,   2047.4,2,   2287.5,2,   7.9463,2,    25.00,    0.012,2,    1.943,2,     0.01,2,     0.03,2,  18.2202,2,  25.0600,2,  18.2572,2
49UP20210719_2,   P03,    30,  1,     27,     754,3,20210810,0905,1048, 24.2368, 140.2627, 4041,    252.6,   17.4049,  34.7561,2,    200.6,2,  34.7555,2,   200.74,6,     4.29,6,     5.04,6,     0.00,6,    0.330,6,     -999,9,     -999,9,   2050.5,2,   2283.2,2,   7.9298,2,    25.00,     -999,9,     -999,9,     -999,9,     -999,9,  17.3626,2,  25.2404,2,  17.4045,2
49UP20210719_2,   P03,    30,  1,     25,     834,2,20210810,0905,1045, 24.2368, 140.2627, 4041,    336.4,   15.7740,  34.6376,2,    194.7,2,  34.6390,2,   194.80,2,     7.38,2,     7.94,2,     0.00,2,    0.530,2,     -999,9,     -999,9,   2070.9,2,   2279.1,2,   7.8822,2,    25.00,     -999,9,     -999,9,     -999,9,     -999,9,  15.7212,2,  25.5321,2,  15.7728,2
49UP20210719_2,   P03,    30,  1,     26,     835,3,20210810,0905,1045, 24.2368, 140.2627, 4041,    337.3,   15.7712,  34.6372,2,    194.6,2,  34.6389,2,   194.81,2,     7.40,2,     7.95,2,     0.00,2,    0.530,2,    2.168,2,    1.249,2,   2076.8,2,   2279.3,2,   7.8845,2,    25.00,    0.000,2,    1.634,2,     -999,9,     -999,9,  15.7183,2,  25.5325,2,  15.7694,2
49UP20210719_2,   P03,    30,  1,     24,     753,2,20210810,0905,1042, 24.2368, 140.2627, 4041,    435.2,   12.4645,  34.3693,2,    188.6,2,  34.3721,2,   188.84,2,    16.90,2,    13.77,2,     0.00,2,    0.950,2,     -999,9,     -999,9,   2109.0,2,   2272.2,2,   7.7883,2,    25.00,     -999,9,     -999,9,     -999,9,     -999,9,  12.4061,2,  26.0212,2,  12.4610,2
49UP20210719_2,   P03,    30,  1,     23,     832,2,20210810,0905,1038, 24.2368, 140.2627, 4041,    537.5,    9.5786,  34.1853,2,    167.4,2,  34.1854,2,   167.73,2,    32.53,2,    20.83,2,     0.00,2,    1.460,2,    2.450,2,    1.239,2,   2157.4,2,   2277.7,2,   7.6831,2,    25.00,    0.053,2,    1.372,2,     -999,9,     -999,9,   9.5175,2,  26.3964,2,   9.5775,2
49UP20210719_2,   P03,    30,  1,     22,     831,2,20210810,0905,1035, 24.2368, 140.2627, 4041,    636.6,    7.1013,  34.1042,2,    128.1,2,  34.1049,2,   128.34,2,    55.87,2,    28.79,2,     0.00,2,    2.050,2,     -999,9,     -999,9,   2216.2,2,   2290.8,2,   7.5531,2,    25.00,     -999,9,     -999,9,     -999,9,     -999,9,   7.0402,2,  26.7076,2,   7.1024,2
49UP20210719_2,   P03,    30,  1,     21,     830,2,20210810,0905,1032, 24.2368, 140.2627, 4041,    736.6,    5.3099,  34.1498,2,     82.3,2,  34.1502,2,    83.21,2,    83.04,2,    35.95,2,     0.00,2,    2.570,2,     -999,9,     -999,9,   2279.8,2,   2315.0,2,   7.4403,2,    25.00,     -999,9,     -999,9,     -999,9,     -999,9,   5.2486,2,  26.9724,2,   5.3126,2
49UP20210719_2,   P03,    30,  1,     20,     829,2,20210810,0905,1028, 24.2368, 140.2627, 4041,    839.0,    4.4892,  34.2542,2,     62.5,2,  34.2543,2,    63.05,6,   102.13,6,    38.91,6,     0.00,6,    2.780,6,    0.511,2,    0.272,2,   2313.0,2,   2336.0,2,   7.4051,2,    25.00,    0.004,2,    0.222,2,     -999,9,     -999,9,   4.4239,2,  27.1481,2,   4.4891,2
49UP20210719_2,   P03,    30,  1,     19,     828,2,20210810,0905,1025, 24.2368, 140.2627, 4041,    939.6,    4.0669,  34.3012,2,     53.9,2,  34.3018,2,    54.46,2,   111.83,2,    40.29,2,     0.00,2,    2.870,2,     -999,9,     -999,9,   2329.0,2,   2349.1,2,   7.3919,2,    25.00,     -999,9,     -999,9,     -999,9,     -999,9,   3.9961,2,  27.2307,2,   4.0667,2
49UP20210719_2,   P03,    30,  1,     18,     752,2,20210810,0905,1020, 24.2368, 140.2627, 4041,   1081.3,    3.4737,  34.4022,2,     56.0,2,  34.4009,6,    56.00,2,   125.23,2,    40.88,2,     0.00,2,    2.910,2,    0.180,2,    0.052,2,   2341.4,2,   2365.8,2,   7.4034,2,    25.00,    0.000,2,    0.063,2,     -999,9,     -999,9,   3.3958,2,  27.3708,2,   3.4751,2
49UP20210719_2,   P03,    30,  1,     17,     751,2,20210810,0905,1016, 24.2368, 140.2627, 4041,   1282.6,    2.6986,  34.4949,2,     65.7,2,  34.4947,2,    65.63,2,   141.89,2,    40.99,2,     0.00,2,    2.900,2,     -999,9,     -999,9,   2356.3,2,   2392.3,2,   7.4193,2,    25.00,     -999,9,     -999,9,     -999,9,     -999,9,   2.6117,2,  27.5164,2,   2.6988,2
49UP20210719_2,   P03,    30,  1,     16,     328,2,20210810,0905,1011, 24.2368, 140.2627, 4041,   1484.6,    2.4124,  34.5383,2,     75.7,2,  34.5385,2,    76.53,2,   147.02,2,    40.54,2,     0.00,2,    2.860,2,    0.037,2,    0.022,2,   2364.3,2,   2436.1,4,   7.4412,2,    25.00,   -0.000,2,   -0.002,2,     -999,9,     -999,9,   2.3127,2,  27.5765,2,   2.4125,2
49UP20210719_2,   P03,    30,  1,     15,     822,2,20210810,0905,1005, 24.2368, 140.2627, 4041,   1687.9,    2.1382,  34.5869,2,     99.2,2,  34.5874,6,    99.43,2,   145.57,2,    39.12,2,     0.00,2,    2.750,2,     -999,9,     -999,9,   2349.0,2,   2400.8,2,   7.4862,6,    25.00,     -999,9,     -999,9,     -999,9,     -999,9,   2.0256,2,  27.6386,2,   2.1382,2
49UP20210719_2,   P03,    30,  1,     14,     326,2,20210810,0905,1000, 24.2368, 140.2627, 4041,   1888.1,    1.9706,  34.6113,2,    110.7,2,  34.6111,2,   111.11,2,   146.40,2,    38.44,2,     0.00,2,    2.690,2,     -999,9,     -999,9,   2342.9,6,   2404.9,6,   7.5095,2,    25.00,     -999,9,     -999,9,     -999,9,     -999,9,   1.8439,2,  27.6724,2,   1.9706,2
49UP20210719_2,   P03,    30,  1,     12,     324,2,20210810,0905, 955, 24.2368, 140.2627, 4041,   2091.7,    1.8661,  34.6285,2,    119.8,2,  34.6294,2,   119.81,2,   145.38,2,    37.90,2,     0.00,2,    2.650,2,    0.003,2,    0.007,2,   2337.5,2,   2406.9,2,   7.5266,2,    25.00,    0.001,2,   -0.039,2,     -999,9,     -999,9,   1.7240,2,  27.6954,2,   1.8659,2
49UP20210719_2,   P03,    30,  1,     11,     323,2,20210810,0905, 950, 24.2368, 140.2627, 4041,   2296.6,    1.7816,  34.6401,2,    126.3,2,  34.6399,2,   126.29,2,   145.37,2,    37.55,2,     0.00,2,    2.620,2,     -999,9,     -999,9,   2341.8,2,   2407.8,2,   7.5368,2,    25.00,     -999,9,     -999,9,     -999,9,     -999,9,   1.6234,2,  27.7123,2,   1.7818,2
49UP20210719_2,   P03,    30,  1,     10,     322,2,20210810,0905, 945, 24.2368, 140.2627, 4041,   2499.2,    1.7352,  34.6472,2,    130.6,2,  34.6425,4,   130.25,2,   144.17,2,    37.17,2,     0.00,2,    2.590,2,     -999,9,     -999,9,   2336.2,2,   2407.4,2,   7.5464,2,    25.00,     -999,9,     -999,9,     -999,9,     -999,9,   1.5600,2,  27.7226,2,   1.7351,2
49UP20210719_2,   P03,    30,  1,      9,     750,2,20210810,0905, 940, 24.2368, 140.2627, 4041,   2702.2,    1.6742,  34.6565,2,    136.0,2,  34.6564,2,   136.69,6,   144.83,6,    36.95,6,     0.00,6,    2.570,6,     -999,9,     -999,9,   2332.2,2,   2407.9,2,   7.5529,2,    25.00,     -999,9,     -999,9,     -999,9,     -999,9,   1.4817,2,  27.7358,2,   1.6744,2
49UP20210719_2,   P03,    30,  1,      8,     320,2,20210810,0905, 934, 24.2368, 140.2627, 4041,   2906.5,    1.6284,  34.6629,2,    140.4,2,  34.6628,2,   140.47,2,   144.18,2,    36.64,2,     0.00,2,    2.550,2,     -999,9,     -999,9,   2327.8,2,   2409.5,2,   7.5614,2,    25.00,     -999,9,     -999,9,     -999,9,     -999,9,   1.4177,2,  27.7456,2,   1.6286,2
49UP20210719_2,   P03,    30,  1,      7,     319,2,20210810,0905, 934, 24.2368, 140.2627, 4041,   2906.9,    1.6282,  34.6629,2,    140.4,2,  34.6625,2,   141.17,2,   144.28,2,    36.62,2,     0.00,2,    2.550,2,     -999,9,     -999,9,   2328.1,2,   2409.4,2,   7.5611,2,    25.00,     -999,9,     -999,9,     -999,9,     -999,9,   1.4175,2,  27.7456,2,   1.6282,2
49UP20210719_2,   P03,    30,  1,      6,     318,2,20210810,0905, 929, 24.2368, 140.2627, 4041,   3121.7,    1.5832,  34.6690,2,    145.0,2,  34.6689,6,   144.73,2,   144.02,2,    36.37,2,     0.00,2,    2.520,2,    0.000,2,    0.004,2,   2333.7,3,   2410.3,2,   7.5713,2,    25.00,    0.009,2,    0.030,2,     -999,9,     -999,9,   1.3529,2,  27.7551,2,   1.5834,2
49UP20210719_2,   P03,    30,  1,      5,     317,2,20210810,0905, 923, 24.2368, 140.2627, 4041,   3375.7,    1.5404,  34.6749,2,    149.9,2,  34.6746,2,   150.06,2,   142.69,2,    36.02,2,     0.00,2,    2.500,2,    0.000,2,    0.006,2,   2323.6,2,   2408.2,2,   7.5767,6,    25.00,    0.000,2,   -0.014,2,     -999,9,     -999,9,   1.2859,2,  27.7646,2,   1.5404,2
49UP20210719_2,   P03,    30,  1,      4,     316,2,20210810,0905, 917, 24.2368, 140.2627, 4041,   3632.5,    1.5018,  34.6805,2,    154.8,2,  34.6806,2,   155.36,2,   141.91,2,    35.72,2,     0.00,2,    2.470,2,    0.000,2,   -0.000,2,   2321.9,6,   2409.2,6,   7.5847,2,    25.00,    0.000,2,   -0.036,2,     -999,9,     -999,9,   1.2220,2,  27.7736,2,   1.5018,2
49UP20210719_2,   P03,    30,  1,      3,     315,2,20210810,0905, 911, 24.2368, 140.2627, 4041,   3889.8,    1.4993,  34.6832,2,    157.3,2,  34.6832,2,   157.81,6,   141.48,6,    35.66,6,     0.00,6,    2.460,6,    0.000,2,    0.008,2,   2324.8,2,   2409.5,2,   7.5867,2,    25.00,    0.000,2,    0.065,2,     -999,9,     -999,9,   1.1924,2,  27.7777,2,   1.4992,2
49UP20210719_2,   P03,    30,  1,      2,     314,2,20210810,0905, 906, 24.2368, 140.2627, 4041,   4111.1,    1.5166,  34.6838,2,    158.0,2,  34.6832,2,   157.78,2,   141.33,2,    35.65,2,     0.00,2,    2.470,2,    0.000,2,    0.009,2,   2317.5,2,   2408.6,2,   7.5881,2,    25.00,    0.000,2,    0.070,2,     -999,9,     -999,9,   1.1850,2,  27.7788,2,   1.5165,2
49UP20210719_2,   P03,    30,  1,      1,     811,2,20210810,0905, 906, 24.2368, 140.2627, 4041,   4111.1,    1.5166,  34.6838,2,    158.0,2,  34.6840,2,   158.50,2,   141.35,2,    35.69,2,     0.00,2,    2.460,2,     -999,9,     -999,9,   2316.8,2,   2407.8,2,   7.5878,2,    25.00,     -999,9,     -999,9,     -999,9,     -999,9,   1.1850,2,  27.7787,2,   1.5165,2