BOTTLE,20230808CCHSIOADS
EXPOCODE,SECT_ID,STNNBR,CASTNO,SAMPNO,BTLNBR,BTLNBR_FLAG_W,DATE,TIME,BTL_TIME,LATITUDE,LONGITUDE,DEPTH,CTDPRS,CTDTMP,CTDSAL,CTDSAL_FLAG_W,CTDOXY,CTDOXY_FLAG_W,SALNTY,SALNTY_FLAG_W,OXYGEN,OXYGEN_FLAG_W,SILCAT,SILCAT_FLAG_W,NO2+NO3,NO2+NO3_FLAG_W,NITRIT,NITRIT_FLAG_W,PHSPHT,PHSPHT_FLAG_W,CFC-11,CFC-11_FLAG_W,CFC-12,CFC-12_FLAG_W,TCARBN,TCARBN_FLAG_W,ALKALI,ALKALI_FLAG_W,PH_TOT,PH_TOT_FLAG_W,PH_TMP,CFC113,CFC113_FLAG_W,SF6,SF6_FLAG_W,CHLORA,CHLORA_FLAG_W,PPHYTN,PPHYTN_FLAG_W,THETA,THETA_FLAG_W,SIG0,SIG0_FLAG_W,SBE35,SBE35_FLAG_W
,,,,,,,,,,,,METERS,DBAR,ITS-90,PSS-78,,UMOL/KG,,PSS78,,UMOL/KG,,UMOL/KG,,UMOL/KG,,UMOL/KG,,UMOL/KG,,PMOL/KG,,PMOL/KG,,UMOL/KG,,UMOL/KG,,,,DEG C,PMOL/KG,,FMOL/KG,,UG/KG,,UG/KG,,ITS-90,,KG/M^3,,ITS-90,
49UP20210827_1,   P03,    63,  1,      0,     BUC,2,20210907,0839, 953, 24.2663, 159.2183, 3814,      0.0,   29.7242,  35.2029,2,    194.2,2,     -999,9,   195.13,2,     1.20,2,     0.00,2,     0.00,2,    0.030,2,     -999,9,     -999,9,     -999,9,     -999,9,     -999,9,     -999,     -999,9,     -999,9,     -999,9,     -999,9,  29.7235,2,  21.9725,2,     -999,9
49UP20210827_1,   P03,    63,  1,     36,     757,2,20210907,0839,1024, 24.2663, 159.2183, 3814,     10.0,   29.7185,  35.1804,2,    194.5,2,     -999,9,   194.70,2,     1.11,2,     0.00,2,     0.00,2,    0.010,2,     -999,9,     -999,9,     -999,9,     -999,9,     -999,9,     -999,     -999,9,     -999,9,     -999,9,     -999,9,  29.7160,2,  21.9582,2,  29.7287,2
49UP20210827_1,   P03,    63,  1,     35,     756,2,20210907,0839,1023, 24.2663, 159.2183, 3814,     25.5,   29.5895,  35.2321,2,    195.3,2,     -999,9,   195.56,2,     1.11,2,     0.00,2,     0.00,2,    0.000,2,     -999,9,     -999,9,     -999,9,     -999,9,     -999,9,     -999,     -999,9,     -999,9,     -999,9,     -999,9,  29.5832,2,  22.0420,2,  29.5870,2
49UP20210827_1,   P03,    63,  1,     34,     843,2,20210907,0839,1018, 24.2663, 159.2183, 3814,     49.7,   27.8876,  35.2408,2,    214.8,2,     -999,9,   215.60,2,     1.27,2,     0.01,2,     0.00,2,    0.010,2,     -999,9,     -999,9,     -999,9,     -999,9,     -999,9,     -999,     -999,9,     -999,9,     -999,9,     -999,9,  27.8759,2,  22.6163,2,  27.8947,2
49UP20210827_1,   P03,    63,  1,     33,     842,2,20210907,0839,1016, 24.2663, 159.2183, 3814,     76.4,   23.6389,  35.1410,2,    229.5,2,     -999,9,   228.21,2,     1.64,2,     0.03,2,     0.00,2,    0.020,2,     -999,9,     -999,9,     -999,9,     -999,9,     -999,9,     -999,     -999,9,     -999,9,     -999,9,     -999,9,  23.6230,2,  23.8593,2,  23.6952,2
49UP20210827_1,   P03,    63,  1,     32,     841,2,20210907,0839,1015, 24.2663, 159.2183, 3814,    101.1,   21.6522,  35.0580,2,    216.6,2,     -999,9,   216.67,2,     1.87,2,     0.00,2,     0.00,2,    0.020,2,     -999,9,     -999,9,     -999,9,     -999,9,     -999,9,     -999,     -999,9,     -999,9,     -999,9,     -999,9,  21.6324,2,  24.3644,2,  21.6528,2
49UP20210827_1,   P03,    63,  1,     31,     840,2,20210907,0839,1013, 24.2663, 159.2183, 3814,    127.9,   19.9150,  34.9283,2,    212.6,2,     -999,9,   212.08,2,     2.28,2,     0.02,2,     0.00,2,    0.050,2,     -999,9,     -999,9,     -999,9,     -999,9,     -999,9,     -999,     -999,9,     -999,9,     -999,9,     -999,9,  19.8914,2,  24.7356,2,  19.9200,2
49UP20210827_1,   P03,    63,  1,     30,     839,2,20210907,0839,1012, 24.2663, 159.2183, 3814,    150.5,   18.8750,  34.8541,2,    204.8,2,     -999,9,   205.11,2,     2.76,2,     1.07,2,     0.05,2,    0.130,2,     -999,9,     -999,9,     -999,9,     -999,9,     -999,9,     -999,     -999,9,     -999,9,     -999,9,     -999,9,  18.8483,2,  24.9483,2,  18.8690,2
49UP20210827_1,   P03,    63,  1,     29,     838,2,20210907,0839,1010, 24.2663, 159.2183, 3814,    202.8,   17.3323,  34.7502,2,    198.7,2,     -999,9,   198.57,6,     4.35,6,     4.88,6,     0.00,6,    0.350,6,     -999,9,     -999,9,     -999,9,     -999,9,     -999,9,     -999,     -999,9,     -999,9,     -999,9,     -999,9,  17.2984,2,  25.2513,2,  17.3326,2
49UP20210827_1,   P03,    63,  1,     28,     755,2,20210907,0839,1008, 24.2663, 159.2183, 3814,    253.0,   16.0014,  34.6457,2,    201.5,2,     -999,9,   200.80,2,     6.38,2,     6.70,2,     0.00,2,    0.460,2,     -999,9,     -999,9,     -999,9,     -999,9,     -999,9,     -999,     -999,9,     -999,9,     -999,9,     -999,9,  15.9614,2,  25.4839,2,  16.0132,2
49UP20210827_1,   P03,    63,  1,     27,     754,2,20210907,0839,1005, 24.2663, 159.2183, 3814,    331.9,   13.6295,  34.4368,2,    195.9,2,     -999,9,   194.85,2,    11.24,2,    10.69,2,     0.00,2,    0.750,2,     -999,9,     -999,9,     -999,9,     -999,9,     -999,9,     -999,     -999,9,     -999,9,     -999,9,     -999,9,  13.5824,2,  25.8385,2,  13.6424,2
49UP20210827_1,   P03,    63,  1,     26,     835,2,20210907,0839,1002, 24.2663, 159.2183, 3814,    431.7,   10.6519,  34.2100,2,    184.2,2,     -999,9,   183.55,2,    21.75,2,    17.03,2,     0.00,2,    1.210,2,     -999,9,     -999,9,     -999,9,     -999,9,     -999,9,     -999,     -999,9,     -999,9,     -999,9,     -999,9,  10.5997,2,  26.2315,2,  10.6488,2
49UP20210827_1,   P03,    63,  1,     25,     834,2,20210907,0839, 959, 24.2663, 159.2183, 3814,    533.6,    8.1754,  34.0725,2,    161.0,2,     -999,9,   160.48,2,    38.87,2,    23.98,2,     0.00,2,    1.710,2,     -999,9,     -999,9,     -999,9,     -999,9,     -999,9,     -999,     -999,9,     -999,9,     -999,9,     -999,9,   8.1203,2,  26.5275,2,   8.1788,2
49UP20210827_1,   P03,    63,  1,     24,     753,2,20210907,0839, 959, 24.2663, 159.2183, 3814,    533.9,    8.1737,  34.0725,2,    160.9,2,     -999,9,   160.07,2,    39.01,2,    24.01,2,     0.00,2,    1.710,2,     -999,9,     -999,9,     -999,9,     -999,9,     -999,9,     -999,     -999,9,     -999,9,     -999,9,     -999,9,   8.1186,2,  26.5278,2,   8.1742,2
49UP20210827_1,   P03,    63,  1,     23,     832,2,20210907,0839, 956, 24.2663, 159.2183, 3814,    635.6,    5.9771,  34.0534,2,    108.5,2,     -999,9,   108.50,2,    66.35,2,    32.72,2,     0.00,2,    2.360,2,     -999,9,     -999,9,     -999,9,     -999,9,     -999,9,     -999,     -999,9,     -999,9,     -999,9,     -999,9,   5.9216,2,  26.8145,2,   5.9813,2
49UP20210827_1,   P03,    63,  1,     22,     831,2,20210907,0839, 954, 24.2663, 159.2183, 3814,    738.1,    5.1152,  34.1429,2,     69.3,2,     -999,9,    70.48,2,    84.95,2,    37.57,2,     0.00,2,    2.700,2,     -999,9,     -999,9,     -999,9,     -999,9,     -999,9,     -999,     -999,9,     -999,9,     -999,9,     -999,9,   5.0549,2,  26.9894,2,   5.1150,2
49UP20210827_1,   P03,    63,  1,     21,     830,2,20210907,0839, 951, 24.2663, 159.2183, 3814,    838.0,    4.2765,  34.2588,2,     45.0,2,     -999,9,    45.19,2,   105.66,2,    40.93,2,     0.00,2,    2.940,2,     -999,9,     -999,9,     -999,9,     -999,9,     -999,9,     -999,     -999,9,     -999,9,     -999,9,     -999,9,   4.2127,2,  27.1743,2,   4.2781,2
49UP20210827_1,   P03,    63,  1,     20,     829,2,20210907,0839, 948, 24.2663, 159.2183, 3814,    937.9,    3.8899,  34.3663,2,     44.4,2,     -999,9,    44.06,6,   115.81,6,    41.61,6,     0.00,6,    2.980,6,     -999,9,     -999,9,     -999,9,     -999,9,     -999,9,     -999,     -999,9,     -999,9,     -999,9,     -999,9,   3.8204,2,  27.3004,2,   3.8900,2
49UP20210827_1,   P03,    63,  1,     19,     828,2,20210907,0839, 944, 24.2663, 159.2183, 3814,   1079.7,    3.4635,  34.4464,2,     53.1,2,     -999,9,    52.68,2,   125.16,2,    41.38,2,     0.00,2,    2.960,2,     -999,9,     -999,9,     -999,9,     -999,9,     -999,9,     -999,     -999,9,     -999,9,     -999,9,     -999,9,   3.3857,2,  27.4070,2,   3.4639,2
49UP20210827_1,   P03,    63,  1,     18,     752,2,20210907,0839, 939, 24.2663, 159.2183, 3814,   1283.1,    2.9532,  34.5075,2,     65.0,2,     -999,9,    64.94,2,   135.56,2,    41.02,2,     0.00,2,    2.920,2,     -999,9,     -999,9,     -999,9,     -999,9,     -999,9,     -999,     -999,9,     -999,9,     -999,9,     -999,9,   2.8637,2,  27.5043,2,   2.9534,2
49UP20210827_1,   P03,    63,  1,     17,     751,2,20210907,0839, 935, 24.2663, 159.2183, 3814,   1483.6,    2.5146,  34.5535,2,     78.9,2,     -999,9,    78.64,2,   143.46,2,    40.38,2,     0.00,2,    2.860,2,     -999,9,     -999,9,     -999,9,     -999,9,     -999,9,     -999,     -999,9,     -999,9,     -999,9,     -999,9,   2.4137,2,  27.5802,2,   2.5150,2
49UP20210827_1,   P03,    63,  1,     16,     328,2,20210907,0839, 930, 24.2663, 159.2183, 3814,   1687.7,    2.2077,  34.5860,2,     90.6,2,     -999,9,    90.32,2,   148.33,2,    39.82,2,     0.00,2,    2.810,2,     -999,9,     -999,9,     -999,9,     -999,9,     -999,9,     -999,     -999,9,     -999,9,     -999,9,     -999,9,   2.0941,2,  27.6325,2,   2.2077,2
49UP20210827_1,   P03,    63,  1,     15,     822,2,20210907,0839, 925, 24.2663, 159.2183, 3814,   1890.8,    2.0290,  34.6059,2,     99.5,2,     -999,9,    99.27,2,   150.08,2,    39.37,2,     0.00,2,    2.770,2,     -999,9,     -999,9,     -999,9,     -999,9,     -999,9,     -999,     -999,9,     -999,9,     -999,9,     -999,9,   1.9013,2,  27.6637,2,   2.0291,2
49UP20210827_1,   P03,    63,  1,     14,     326,2,20210907,0839, 920, 24.2663, 159.2183, 3814,   2093.0,    1.8374,  34.6287,2,    110.8,2,     -999,9,   110.57,2,   152.10,2,    38.72,2,     0.00,2,    2.720,2,     -999,9,     -999,9,     -999,9,     -999,9,     -999,9,     -999,     -999,9,     -999,9,     -999,9,     -999,9,   1.6957,2,  27.6977,2,   1.8374,2
49UP20210827_1,   P03,    63,  1,     13,     325,2,20210907,0839, 920, 24.2663, 159.2183, 3814,   2093.1,    1.8377,  34.6287,2,    110.7,2,     -999,9,   110.90,2,   152.01,2,    38.68,2,     0.00,2,    2.720,2,     -999,9,     -999,9,     -999,9,     -999,9,     -999,9,     -999,     -999,9,     -999,9,     -999,9,     -999,9,   1.6960,2,  27.6976,2,   1.8377,2
49UP20210827_1,   P03,    63,  1,     12,     324,2,20210907,0839, 915, 24.2663, 159.2183, 3814,   2298.4,    1.7471,  34.6398,2,    117.3,2,     -999,9,   117.10,2,   152.56,2,    38.29,2,     0.00,2,    2.690,2,     -999,9,     -999,9,     -999,9,     -999,9,     -999,9,     -999,     -999,9,     -999,9,     -999,9,     -999,9,   1.5893,2,  27.7146,2,   1.7470,2
49UP20210827_1,   P03,    63,  1,     11,     323,2,20210907,0839, 910, 24.2663, 159.2183, 3814,   2499.1,    1.6798,  34.6486,2,    123.0,2,     -999,9,   122.60,6,   152.95,6,    37.97,6,     0.00,6,    2.660,6,     -999,9,     -999,9,     -999,9,     -999,9,     -999,9,     -999,     -999,9,     -999,9,     -999,9,     -999,9,   1.5056,2,  27.7277,2,   1.6794,2
49UP20210827_1,   P03,    63,  1,     10,     322,2,20210907,0839, 905, 24.2663, 159.2183, 3814,   2703.3,    1.6183,  34.6565,2,    128.6,2,     -999,9,   128.48,2,   152.86,2,    37.62,2,     0.00,2,    2.630,2,     -999,9,     -999,9,     -999,9,     -999,9,     -999,9,     -999,     -999,9,     -999,9,     -999,9,     -999,9,   1.4268,2,  27.7398,2,   1.6182,2
49UP20210827_1,   P03,    63,  1,      9,     750,2,20210907,0839, 900, 24.2663, 159.2183, 3814,   2907.0,    1.5618,  34.6637,2,    134.6,2,     -999,9,   134.26,2,   152.31,2,    37.29,2,     0.00,2,    2.600,2,     -999,9,     -999,9,     -999,9,     -999,9,     -999,9,     -999,     -999,9,     -999,9,     -999,9,     -999,9,   1.3526,2,  27.7509,2,   1.5614,2
49UP20210827_1,   P03,    63,  1,      8,     320,2,20210907,0839, 855, 24.2663, 159.2183, 3814,   3122.4,    1.5294,  34.6687,2,    138.9,2,     -999,9,   138.52,2,   151.80,2,    37.03,2,     0.00,2,    2.580,2,     -999,9,     -999,9,     -999,9,     -999,9,     -999,9,     -999,     -999,9,     -999,9,     -999,9,     -999,9,   1.3002,2,  27.7586,2,   1.5294,2
49UP20210827_1,   P03,    63,  1,      7,     319,2,20210907,0839, 849, 24.2663, 159.2183, 3814,   3379.0,    1.4970,  34.6739,2,    144.2,2,     -999,9,   143.89,2,   150.60,2,    36.66,2,     0.00,2,    2.560,2,     -999,9,     -999,9,     -999,9,     -999,9,     -999,9,     -999,     -999,9,     -999,9,     -999,9,     -999,9,   1.2433,2,  27.7667,2,   1.4969,2
49UP20210827_1,   P03,    63,  1,      6,     318,2,20210907,0839, 843, 24.2663, 159.2183, 3814,   3634.2,    1.4773,  34.6779,2,    148.7,2,     -999,9,   148.17,2,   149.71,2,    36.35,2,     0.00,2,    2.530,2,     -999,9,     -999,9,     -999,9,     -999,9,     -999,9,     -999,     -999,9,     -999,9,     -999,9,     -999,9,   1.1980,2,  27.7731,2,   1.4772,2
49UP20210827_1,   P03,    63,  1,      5,     317,2,20210907,0839, 840, 24.2663, 159.2183, 3814,   3758.1,    1.4777,  34.6790,2,    150.1,2,     -999,9,   149.86,2,   148.90,2,    36.28,2,     0.00,2,    2.520,2,     -999,9,     -999,9,     -999,9,     -999,9,     -999,9,     -999,     -999,9,     -999,9,     -999,9,     -999,9,   1.1854,2,  27.7748,2,   1.4774,2
49UP20210827_1,   P03,    63,  1,      4,     316,2,20210907,0839, 839, 24.2663, 159.2183, 3814,   3758.8,    1.4778,  34.6790,2,    150.2,2,     -999,9,   150.06,2,   148.82,2,    36.23,2,     0.00,2,    2.520,2,     -999,9,     -999,9,     -999,9,     -999,9,     -999,9,     -999,     -999,9,     -999,9,     -999,9,     -999,9,   1.1854,2,  27.7748,2,   1.4773,2