BOTTLE,20230808CCHSIOADS
EXPOCODE,SECT_ID,STNNBR,CASTNO,SAMPNO,BTLNBR,BTLNBR_FLAG_W,DATE,TIME,BTL_TIME,LATITUDE,LONGITUDE,DEPTH,CTDPRS,CTDTMP,CTDSAL,CTDSAL_FLAG_W,CTDOXY,CTDOXY_FLAG_W,SALNTY,SALNTY_FLAG_W,OXYGEN,OXYGEN_FLAG_W,SILCAT,SILCAT_FLAG_W,NO2+NO3,NO2+NO3_FLAG_W,NITRIT,NITRIT_FLAG_W,PHSPHT,PHSPHT_FLAG_W,CFC-11,CFC-11_FLAG_W,CFC-12,CFC-12_FLAG_W,TCARBN,TCARBN_FLAG_W,ALKALI,ALKALI_FLAG_W,PH_TOT,PH_TOT_FLAG_W,PH_TMP,CFC113,CFC113_FLAG_W,SF6,SF6_FLAG_W,CHLORA,CHLORA_FLAG_W,PPHYTN,PPHYTN_FLAG_W,THETA,THETA_FLAG_W,SIG0,SIG0_FLAG_W,SBE35,SBE35_FLAG_W
,,,,,,,,,,,,METERS,DBAR,ITS-90,PSS-78,,UMOL/KG,,PSS78,,UMOL/KG,,UMOL/KG,,UMOL/KG,,UMOL/KG,,UMOL/KG,,PMOL/KG,,PMOL/KG,,UMOL/KG,,UMOL/KG,,,,DEG C,PMOL/KG,,FMOL/KG,,UG/KG,,UG/KG,,ITS-90,,KG/M^3,,ITS-90,
49UP20210827_1,   P03,    67,  1,      0,     BUC,2,20210908,1732,1941, 24.2628, 162.4173, 5418,      0.0,   29.4364,  35.1058,2,    195.1,2,     -999,9,   195.75,2,     0.90,2,     0.06,2,     0.00,2,    0.020,2,     -999,9,     -999,9,     -999,9,     -999,9,     -999,9,     -999,     -999,9,     -999,9,     -999,9,     -999,9,  29.4358,2,  21.9971,2,     -999,9
49UP20210827_1,   P03,    67,  1,     36,     757,2,20210908,1732,2006, 24.2628, 162.4173, 5418,      9.9,   29.4438,  35.1065,2,    195.2,2,     -999,9,   195.78,2,     1.07,2,     0.05,2,     0.00,2,    0.010,2,     -999,9,     -999,9,     -999,9,     -999,9,     -999,9,     -999,     -999,9,     -999,9,     -999,9,     -999,9,  29.4414,2,  21.9957,2,  29.4534,2
49UP20210827_1,   P03,    67,  1,     35,     756,2,20210908,1732,2001, 24.2628, 162.4173, 5418,     49.2,   28.8398,  35.1512,2,    204.4,2,     -999,9,   202.47,2,     0.94,2,     0.04,2,     0.00,2,    0.010,2,     -999,9,     -999,9,     -999,9,     -999,9,     -999,9,     -999,     -999,9,     -999,9,     -999,9,     -999,9,  28.8279,2,  22.2350,2,  28.9134,2
49UP20210827_1,   P03,    67,  1,     34,     843,2,20210908,1732,2000, 24.2628, 162.4173, 5418,     74.1,   25.8303,  35.1853,2,    218.7,2,     -999,9,   218.92,2,     1.24,2,     0.05,2,     0.00,2,    0.010,2,     -999,9,     -999,9,     -999,9,     -999,9,     -999,9,     -999,     -999,9,     -999,9,     -999,9,     -999,9,  25.8139,2,  23.2311,2,  25.8182,2
49UP20210827_1,   P03,    67,  1,     33,     842,2,20210908,1732,1958, 24.2628, 162.4173, 5418,     99.7,   23.6688,  35.1716,2,    214.1,2,     -999,9,   213.80,6,     1.45,6,     0.02,6,     0.00,6,    0.010,6,     -999,9,     -999,9,     -999,9,     -999,9,     -999,9,     -999,     -999,9,     -999,9,     -999,9,     -999,9,  23.6480,2,  23.8751,2,  23.6682,2
49UP20210827_1,   P03,    67,  1,     32,     841,2,20210908,1732,1956, 24.2628, 162.4173, 5418,    123.2,   22.4068,  35.1603,2,    207.4,2,     -999,9,   207.05,2,     1.70,2,     0.01,2,     0.00,2,    0.030,2,     -999,9,     -999,9,     -999,9,     -999,9,     -999,9,     -999,     -999,9,     -999,9,     -999,9,     -999,9,  22.3821,2,  24.2319,2,  22.4058,2
49UP20210827_1,   P03,    67,  1,     31,     840,2,20210908,1732,1955, 24.2628, 162.4173, 5418,    149.4,   20.6635,  35.0002,2,    194.0,2,     -999,9,   194.17,2,     2.33,2,     1.20,2,     0.05,2,    0.120,2,     -999,9,     -999,9,     -999,9,     -999,9,     -999,9,     -999,     -999,9,     -999,9,     -999,9,     -999,9,  20.6352,2,  24.5927,2,  20.6585,2
49UP20210827_1,   P03,    67,  1,     30,     839,2,20210908,1732,1952, 24.2628, 162.4173, 5418,    203.5,   17.9987,  34.7861,2,    202.8,2,     -999,9,   202.59,2,     3.41,2,     3.15,2,     0.02,2,    0.220,2,     -999,9,     -999,9,     -999,9,     -999,9,     -999,9,     -999,     -999,9,     -999,9,     -999,9,     -999,9,  17.9638,2,  25.1171,2,  18.0019,2
49UP20210827_1,   P03,    67,  1,     29,     838,2,20210908,1732,1950, 24.2628, 162.4173, 5418,    250.8,   16.7967,  34.7121,2,    201.8,2,     -999,9,   201.60,2,     5.09,2,     5.54,2,     0.00,2,    0.370,2,     -999,9,     -999,9,     -999,9,     -999,9,     -999,9,     -999,     -999,9,     -999,9,     -999,9,     -999,9,  16.7556,2,  25.3510,2,  16.7958,2
49UP20210827_1,   P03,    67,  1,     28,     755,2,20210908,1732,1948, 24.2628, 162.4173, 5418,    303.5,   14.8965,  34.5427,2,    197.4,2,     -999,9,   196.63,2,     8.16,2,     8.54,2,     0.00,2,    0.590,2,     -999,9,     -999,9,     -999,9,     -999,9,     -999,9,     -999,     -999,9,     -999,9,     -999,9,     -999,9,  14.8508,2,  25.6519,2,  14.9036,2
49UP20210827_1,   P03,    67,  1,     27,     754,2,20210908,1732,1945, 24.2628, 162.4173, 5418,    401.7,   11.6792,  34.2817,2,    201.2,2,     -999,9,   201.52,2,    16.37,2,    13.70,2,     0.00,2,    0.950,2,     -999,9,     -999,9,     -999,9,     -999,9,     -999,9,     -999,     -999,9,     -999,9,     -999,9,     -999,9,  11.6277,2,  26.1012,2,  11.6791,2
49UP20210827_1,   P03,    67,  1,     26,     835,2,20210908,1732,1941, 24.2628, 162.4173, 5418,    502.7,    9.1603,  34.1204,2,    164.9,2,     -999,9,   166.52,2,    30.53,2,    21.51,2,     0.00,2,    1.520,2,     -999,9,     -999,9,     -999,9,     -999,9,     -999,9,     -999,     -999,9,     -999,9,     -999,9,     -999,9,   9.1048,2,  26.4126,2,   9.1632,2
49UP20210827_1,   P03,    67,  1,     25,     834,2,20210908,1732,1938, 24.2628, 162.4173, 5418,    604.0,    7.0275,  34.0666,2,    122.6,2,     -999,9,   122.22,2,    52.42,2,    29.60,2,     0.00,2,    2.100,2,     -999,9,     -999,9,     -999,9,     -999,9,     -999,9,     -999,     -999,9,     -999,9,     -999,9,     -999,9,   6.9700,2,  26.6876,2,   7.0362,2
49UP20210827_1,   P03,    67,  1,     24,     753,2,20210908,1732,1935, 24.2628, 162.4173, 5418,    704.5,    5.2491,  34.1189,2,     74.0,2,     -999,9,    74.08,6,    81.71,6,    37.06,6,     0.00,6,    2.650,6,     -999,9,     -999,9,     -999,9,     -999,9,     -999,9,     -999,     -999,9,     -999,9,     -999,9,     -999,9,   5.1910,2,  26.9546,2,   5.2492,2
49UP20210827_1,   P03,    67,  1,     23,     832,2,20210908,1732,1932, 24.2628, 162.4173, 5418,    806.9,    4.5354,  34.2140,2,     49.3,2,     -999,9,    49.41,2,    99.20,2,    40.24,2,     0.00,2,    2.880,2,     -999,9,     -999,9,     -999,9,     -999,9,     -999,9,     -999,     -999,9,     -999,9,     -999,9,     -999,9,   4.4726,2,  27.1110,2,   4.5359,2
49UP20210827_1,   P03,    67,  1,     22,     831,2,20210908,1732,1929, 24.2628, 162.4173, 5418,    904.1,    4.2322,  34.3123,2,     41.3,2,     -999,9,    41.22,2,   107.87,2,    41.55,2,     0.00,2,    2.970,2,     -999,9,     -999,9,     -999,9,     -999,9,     -999,9,     -999,     -999,9,     -999,9,     -999,9,     -999,9,   4.1632,2,  27.2221,2,   4.2316,2
49UP20210827_1,   P03,    67,  1,     21,     830,2,20210908,1732,1925, 24.2628, 162.4173, 5418,   1009.3,    3.8868,  34.3884,2,     44.6,2,     -999,9,    44.45,2,   115.97,2,    41.81,2,     0.00,2,    2.980,2,     -999,9,     -999,9,     -999,9,     -999,9,     -999,9,     -999,     -999,9,     -999,9,     -999,9,     -999,9,   3.8115,2,  27.3189,2,   3.8873,2
49UP20210827_1,   P03,    67,  1,     20,     829,2,20210908,1732,1920, 24.2628, 162.4173, 5418,   1210.8,    3.3067,  34.4757,2,     56.5,2,     -999,9,    56.37,2,   128.73,2,    41.54,2,     0.00,2,    2.950,2,     -999,9,     -999,9,     -999,9,     -999,9,     -999,9,     -999,     -999,9,     -999,9,     -999,9,     -999,9,   3.2197,2,  27.4462,2,   3.3075,2
49UP20210827_1,   P03,    67,  1,     19,     828,2,20210908,1732,1915, 24.2628, 162.4173, 5418,   1415.0,    2.8220,  34.5324,2,     71.0,2,     -999,9,    71.06,2,   137.78,2,    40.83,2,     0.00,2,    2.880,2,     -999,9,     -999,9,     -999,9,     -999,9,     -999,9,     -999,     -999,9,     -999,9,     -999,9,     -999,9,   2.7232,2,  27.5366,2,   2.8226,2
49UP20210827_1,   P03,    67,  1,     18,     752,2,20210908,1732,1910, 24.2628, 162.4173, 5418,   1618.5,    2.4380,  34.5663,2,     82.0,2,     -999,9,    81.78,2,   145.21,2,    40.40,2,     0.00,2,    2.840,2,     -999,9,     -999,9,     -999,9,     -999,9,     -999,9,     -999,     -999,9,     -999,9,     -999,9,     -999,9,   2.3271,2,  27.5977,2,   2.4386,2
49UP20210827_1,   P03,    67,  1,     17,     751,2,20210908,1732,1905, 24.2628, 162.4173, 5418,   1820.9,    2.1792,  34.5942,2,     92.3,2,     -999,9,    92.36,2,   148.90,2,    39.90,2,     0.00,2,    2.800,2,     -999,9,     -999,9,     -999,9,     -999,9,     -999,9,     -999,     -999,9,     -999,9,     -999,9,     -999,9,   2.0551,2,  27.6422,2,   2.1788,2
49UP20210827_1,   P03,    67,  1,     16,     328,2,20210908,1732,1900, 24.2628, 162.4173, 5418,   2025.3,    1.9899,  34.6158,2,    101.5,2,     -999,9,   101.59,2,   151.74,2,    39.43,2,     0.00,2,    2.760,2,     -999,9,     -999,9,     -999,9,     -999,9,     -999,9,     -999,     -999,9,     -999,9,     -999,9,     -999,9,   1.8515,2,  27.6755,2,   1.9904,2
49UP20210827_1,   P03,    67,  1,     15,     822,2,20210908,1732,1855, 24.2628, 162.4173, 5418,   2227.5,    1.8671,  34.6302,2,    109.4,2,     -999,9,   109.53,6,   152.41,6,    38.92,6,     0.00,6,    2.720,6,     -999,9,     -999,9,     -999,9,     -999,9,     -999,9,     -999,     -999,9,     -999,9,     -999,9,     -999,9,   1.7134,2,  27.6976,2,   1.8670,2
49UP20210827_1,   P03,    67,  1,     14,     326,2,20210908,1732,1849, 24.2628, 162.4173, 5418,   2431.3,    1.7572,  34.6428,2,    116.8,2,     -999,9,   116.75,2,   153.32,2,    38.46,2,     0.00,2,    2.680,2,     -999,9,     -999,9,     -999,9,     -999,9,     -999,9,     -999,     -999,9,     -999,9,     -999,9,     -999,9,   1.5876,2,  27.7171,2,   1.7571,2
49UP20210827_1,   P03,    67,  1,     13,     325,2,20210908,1732,1844, 24.2628, 162.4173, 5418,   2633.2,    1.6718,  34.6519,2,    123.6,2,     -999,9,   123.75,2,   153.48,2,    38.00,2,     0.00,2,    2.640,2,     -999,9,     -999,9,     -999,9,     -999,9,     -999,9,     -999,     -999,9,     -999,9,     -999,9,     -999,9,   1.4857,2,  27.7319,2,   1.6714,2
49UP20210827_1,   P03,    67,  1,     12,     324,2,20210908,1732,1839, 24.2628, 162.4173, 5418,   2837.6,    1.6212,  34.6584,2,    128.4,2,     -999,9,   128.35,2,   153.53,2,    37.72,2,     0.00,2,    2.620,2,     -999,9,     -999,9,     -999,9,     -999,9,     -999,9,     -999,     -999,9,     -999,9,     -999,9,     -999,9,   1.4172,2,  27.7420,2,   1.6211,2
49UP20210827_1,   P03,    67,  1,     11,     323,2,20210908,1732,1834, 24.2628, 162.4173, 5418,   3041.7,    1.5766,  34.6642,2,    133.2,2,     -999,9,   133.18,2,   153.01,2,    37.37,2,     0.00,2,    2.590,2,     -999,9,     -999,9,     -999,9,     -999,9,     -999,9,     -999,     -999,9,     -999,9,     -999,9,     -999,9,   1.3542,2,  27.7512,2,   1.5766,2
49UP20210827_1,   P03,    67,  1,     10,     322,2,20210908,1732,1827, 24.2628, 162.4173, 5418,   3297.1,    1.5430,  34.6702,2,    138.2,2,     -999,9,   137.91,2,   152.38,2,    37.11,2,     0.00,2,    2.570,2,     -999,9,     -999,9,     -999,9,     -999,9,     -999,9,     -999,     -999,9,     -999,9,     -999,9,     -999,9,   1.2963,2,  27.7601,2,   1.5430,2
49UP20210827_1,   P03,    67,  1,      9,     750,2,20210908,1732,1821, 24.2628, 162.4173, 5418,   3551.9,    1.5139,  34.6750,2,    143.5,2,     -999,9,   143.25,2,   151.54,2,    36.71,2,     0.00,2,    2.540,2,     -999,9,     -999,9,     -999,9,     -999,9,     -999,9,     -999,     -999,9,     -999,9,     -999,9,     -999,9,   1.2421,2,  27.7677,2,   1.5139,2
49UP20210827_1,   P03,    67,  1,      8,     320,2,20210908,1732,1815, 24.2628, 162.4173, 5418,   3807.6,    1.4923,  34.6792,2,    148.5,2,     -999,9,   148.49,2,   149.71,2,    36.39,2,     0.00,2,    2.510,2,     -999,9,     -999,9,     -999,9,     -999,9,     -999,9,     -999,     -999,9,     -999,9,     -999,9,     -999,9,   1.1943,2,  27.7744,2,   1.4921,2
49UP20210827_1,   P03,    67,  1,      7,     319,2,20210908,1732,1809, 24.2628, 162.4173, 5418,   4066.4,    1.4712,  34.6834,2,    154.0,2,     -999,9,   154.14,2,   147.94,2,    36.01,2,     0.00,2,    2.480,2,     -999,9,     -999,9,     -999,9,     -999,9,     -999,9,     -999,     -999,9,     -999,9,     -999,9,     -999,9,   1.1458,2,  27.7811,2,   1.4712,2
49UP20210827_1,   P03,    67,  1,      6,     318,2,20210908,1732,1802, 24.2628, 162.4173, 5418,   4320.2,    1.4603,  34.6865,2,    158.7,2,     -999,9,   158.51,6,   145.53,6,    35.62,6,     0.00,6,    2.460,6,     -999,9,     -999,9,     -999,9,     -999,9,     -999,9,     -999,     -999,9,     -999,9,     -999,9,     -999,9,   1.1071,2,  27.7863,2,   1.4602,2
49UP20210827_1,   P03,    67,  1,      5,     317,3,20210908,1732,1756, 24.2628, 162.4173, 5418,   4577.8,    1.4592,  34.6893,2,    163.0,2,     -999,9,   162.75,2,   143.38,2,    35.37,2,     0.00,2,    2.430,2,     -999,9,     -999,9,     -999,9,     -999,9,     -999,9,     -999,     -999,9,     -999,9,     -999,9,     -999,9,   1.0765,2,  27.7905,2,   1.4591,2
49UP20210827_1,   P03,    67,  1,      4,     316,2,20210908,1732,1750, 24.2628, 162.4173, 5418,   4833.7,    1.4611,  34.6919,2,    167.5,2,     -999,9,   167.35,2,   140.18,2,    34.99,2,     0.00,2,    2.410,2,     -999,9,     -999,9,     -999,9,     -999,9,     -999,9,     -999,     -999,9,     -999,9,     -999,9,     -999,9,   1.0482,2,  27.7946,2,   1.4610,2
49UP20210827_1,   P03,    67,  1,      3,     315,2,20210908,1732,1744, 24.2628, 162.4173, 5418,   5093.1,    1.4773,  34.6934,2,    170.1,2,     -999,9,   169.97,2,   138.52,2,    34.81,2,     0.00,2,    2.400,2,     -999,9,     -999,9,     -999,9,     -999,9,     -999,9,     -999,     -999,9,     -999,9,     -999,9,     -999,9,   1.0324,2,  27.7968,2,   1.4772,2
49UP20210827_1,   P03,    67,  1,      2,     314,2,20210908,1732,1738, 24.2628, 162.4173, 5418,   5349.3,    1.4825,  34.6951,2,    173.4,2,     -999,9,   173.34,2,   136.37,2,    34.60,2,     0.00,2,    2.380,2,     -999,9,     -999,9,     -999,9,     -999,9,     -999,9,     -999,     -999,9,     -999,9,     -999,9,     -999,9,   1.0057,2,  27.8000,2,   1.4826,2
49UP20210827_1,   P03,    67,  1,      1,     811,2,20210908,1732,1733, 24.2628, 162.4173, 5418,   5552.6,    1.4882,  34.6964,2,    176.4,2,     -999,9,   176.21,2,   135.03,2,    34.38,2,     0.00,2,    2.360,2,     -999,9,     -999,9,     -999,9,     -999,9,     -999,9,     -999,     -999,9,     -999,9,     -999,9,     -999,9,   0.9853,2,  27.8023,2,   1.4881,2