BOTTLE,20230808CCHSIOADS
EXPOCODE,SECT_ID,STNNBR,CASTNO,SAMPNO,BTLNBR,BTLNBR_FLAG_W,DATE,TIME,BTL_TIME,LATITUDE,LONGITUDE,DEPTH,CTDPRS,CTDTMP,CTDSAL,CTDSAL_FLAG_W,CTDOXY,CTDOXY_FLAG_W,SALNTY,SALNTY_FLAG_W,OXYGEN,OXYGEN_FLAG_W,SILCAT,SILCAT_FLAG_W,NO2+NO3,NO2+NO3_FLAG_W,NITRIT,NITRIT_FLAG_W,PHSPHT,PHSPHT_FLAG_W,CFC-11,CFC-11_FLAG_W,CFC-12,CFC-12_FLAG_W,TCARBN,TCARBN_FLAG_W,ALKALI,ALKALI_FLAG_W,PH_TOT,PH_TOT_FLAG_W,PH_TMP,CFC113,CFC113_FLAG_W,SF6,SF6_FLAG_W,CHLORA,CHLORA_FLAG_W,PPHYTN,PPHYTN_FLAG_W,THETA,THETA_FLAG_W,SIG0,SIG0_FLAG_W,SBE35,SBE35_FLAG_W
,,,,,,,,,,,,METERS,DBAR,ITS-90,PSS-78,,UMOL/KG,,PSS78,,UMOL/KG,,UMOL/KG,,UMOL/KG,,UMOL/KG,,UMOL/KG,,PMOL/KG,,PMOL/KG,,UMOL/KG,,UMOL/KG,,,,DEG C,PMOL/KG,,FMOL/KG,,UG/KG,,UG/KG,,ITS-90,,KG/M^3,,ITS-90,
49UP20210827_1,   P03,    44,  1,      0,     BUC,2,20210831,1130,1325, 24.2535, 145.4323, 5479,      0.0,   29.3189,  34.5939,2,    196.8,2,     -999,9,   197.12,2,     1.23,2,     0.07,2,     0.00,2,    0.030,2,     -999,9,     -999,9,     -999,9,     -999,9,     -999,9,     -999,     -999,9,     -999,9,     -999,9,     -999,9,  29.3183,2,  21.6526,2,     -999,9
49UP20210827_1,   P03,    44,  1,     36,     757,3,20210831,1130,1358, 24.2535, 145.4323, 5479,     10.1,   29.3249,  34.5942,2,    196.9,2,     -999,9,   196.65,2,     1.23,2,     0.08,2,     0.00,2,    0.010,2,     -999,9,     -999,9,     -999,9,     -999,9,     -999,9,     -999,     -999,9,     -999,9,     -999,9,     -999,9,  29.3224,2,  21.6514,2,  29.3249,2
49UP20210827_1,   P03,    44,  1,     35,     756,3,20210831,1130,1353, 24.2535, 145.4323, 5479,     50.1,   27.0904,  34.9471,2,    215.1,2,     -999,9,   214.38,2,     1.03,2,     0.09,2,     0.00,2,    0.010,2,     -999,9,     -999,9,     -999,9,     -999,9,     -999,9,     -999,     -999,9,     -999,9,     -999,9,     -999,9,  27.0789,2,  22.6527,2,  27.0936,2
49UP20210827_1,   P03,    44,  1,     34,     843,2,20210831,1130,1351, 24.2535, 145.4323, 5479,    100.8,   20.9897,  34.9098,2,    218.2,2,     -999,9,   217.78,2,     1.80,2,     0.10,2,     0.00,2,    0.020,2,     -999,9,     -999,9,     -999,9,     -999,9,     -999,9,     -999,     -999,9,     -999,9,     -999,9,     -999,9,  20.9705,2,  24.4333,2,  20.9888,2
49UP20210827_1,   P03,    44,  1,     33,     842,2,20210831,1130,1349, 24.2535, 145.4323, 5479,    125.0,   19.6881,  34.8927,2,    199.3,2,     -999,9,   199.13,2,     2.43,2,     0.76,2,     0.05,2,    0.100,2,     -999,9,     -999,9,     -999,9,     -999,9,     -999,9,     -999,     -999,9,     -999,9,     -999,9,     -999,9,  19.6652,2,  24.7676,2,  19.6886,2
49UP20210827_1,   P03,    44,  1,     32,     841,2,20210831,1130,1348, 24.2535, 145.4323, 5479,    151.3,   18.6705,  34.8243,2,    199.3,2,     -999,9,   199.37,2,     2.93,2,     2.67,2,     0.01,2,    0.200,2,     -999,9,     -999,9,     -999,9,     -999,9,     -999,9,     -999,     -999,9,     -999,9,     -999,9,     -999,9,  18.6439,2,  24.9771,2,  18.6702,2
49UP20210827_1,   P03,    44,  1,     31,     840,2,20210831,1130,1345, 24.2535, 145.4323, 5479,    206.8,   17.4918,  34.7628,2,    203.5,2,     -999,9,   203.28,2,     3.96,2,     4.58,2,     0.00,2,    0.300,2,     -999,9,     -999,9,     -999,9,     -999,9,     -999,9,     -999,     -999,9,     -999,9,     -999,9,     -999,9,  17.4570,2,  25.2228,2,  17.4921,2
49UP20210827_1,   P03,    44,  1,     30,     839,3,20210831,1130,1343, 24.2535, 145.4323, 5479,    253.5,   16.6742,  34.7116,2,    199.1,2,     -999,9,     -999,5,     5.55,2,     6.22,2,     0.00,2,    0.420,2,     -999,9,     -999,9,     -999,9,     -999,9,     -999,9,     -999,     -999,9,     -999,9,     -999,9,     -999,9,  16.6330,2,  25.3794,2,  16.6746,2
49UP20210827_1,   P03,    44,  1,     29,     838,2,20210831,1130,1341, 24.2535, 145.4323, 5479,    283.4,   16.3053,  34.6822,2,    197.0,2,     -999,9,   196.86,2,     6.57,2,     7.08,2,     0.00,2,    0.480,2,     -999,9,     -999,9,     -999,9,     -999,9,     -999,9,     -999,     -999,9,     -999,9,     -999,9,     -999,9,  16.2598,2,  25.4435,2,  16.3058,2
49UP20210827_1,   P03,    44,  1,     28,     755,2,20210831,1130,1339, 24.2535, 145.4323, 5479,    372.8,   14.3016,  34.5228,2,    187.4,2,     -999,9,   187.32,6,    12.70,6,    11.10,6,     0.00,6,    0.760,6,     -999,9,     -999,9,     -999,9,     -999,9,     -999,9,     -999,     -999,9,     -999,9,     -999,9,     -999,9,  14.2469,2,  25.7663,2,  14.2980,2
49UP20210827_1,   P03,    44,  1,     27,     754,2,20210831,1130,1335, 24.2535, 145.4323, 5479,    473.5,   10.4765,  34.2230,2,    181.8,2,     -999,9,   181.65,2,    24.86,2,    17.88,2,     0.00,2,    1.270,2,     -999,9,     -999,9,     -999,9,     -999,9,     -999,9,     -999,     -999,9,     -999,9,     -999,9,     -999,9,  10.4197,2,  26.2731,2,  10.4763,2
49UP20210827_1,   P03,    44,  1,     26,     835,3,20210831,1130,1332, 24.2535, 145.4323, 5479,    572.5,    7.7404,  34.0851,2,    146.2,2,     -999,9,   145.76,2,    45.82,2,    26.09,2,     0.00,2,    1.860,2,     -999,9,     -999,9,     -999,9,     -999,9,     -999,9,     -999,     -999,9,     -999,9,     -999,9,     -999,9,   7.6829,2,  26.6018,2,   7.7413,2
49UP20210827_1,   P03,    44,  1,     25,     834,2,20210831,1130,1329, 24.2535, 145.4323, 5479,    675.1,    5.9722,  34.1083,2,     98.6,2,     -999,9,    98.40,2,    70.68,2,    33.60,2,     0.00,2,    2.400,2,     -999,9,     -999,9,     -999,9,     -999,9,     -999,9,     -999,     -999,9,     -999,9,     -999,9,     -999,9,   5.9129,2,  26.8590,2,   5.9722,2
49UP20210827_1,   P03,    44,  1,     24,     753,2,20210831,1130,1326, 24.2535, 145.4323, 5479,    775.2,    5.0241,  34.1858,2,     69.3,2,     -999,9,    69.37,2,    89.06,2,    37.78,2,     0.00,2,    2.710,2,     -999,9,     -999,9,     -999,9,     -999,9,     -999,9,     -999,     -999,9,     -999,9,     -999,9,     -999,9,   4.9610,2,  27.0342,2,   5.0229,2
49UP20210827_1,   P03,    44,  1,     23,     832,2,20210831,1130,1323, 24.2535, 145.4323, 5479,    878.6,    4.2771,  34.2941,2,     54.1,2,     -999,9,    54.19,2,   106.35,2,    40.04,2,     0.00,2,    2.860,2,     -999,9,     -999,9,     -999,9,     -999,9,     -999,9,     -999,     -999,9,     -999,9,     -999,9,     -999,9,   4.2099,2,  27.2027,2,   4.2782,2
49UP20210827_1,   P03,    44,  1,     22,     831,2,20210831,1130,1320, 24.2535, 145.4323, 5479,    980.3,    3.7518,  34.3574,2,     50.0,2,     -999,9,    49.35,2,   119.77,2,    41.18,2,     0.00,2,    2.930,2,     -999,9,     -999,9,     -999,9,     -999,9,     -999,9,     -999,     -999,9,     -999,9,     -999,9,     -999,9,   3.6799,2,  27.3074,2,   3.7508,2
49UP20210827_1,   P03,    44,  1,     21,     830,2,20210831,1130,1316, 24.2535, 145.4323, 5479,   1139.9,    3.2360,  34.4245,2,     51.2,2,     -999,9,    51.10,2,   131.97,2,    41.55,2,     0.00,2,    2.950,2,     -999,9,     -999,9,     -999,9,     -999,9,     -999,9,     -999,     -999,9,     -999,9,     -999,9,     -999,9,   3.1554,2,  27.4113,2,   3.2359,2
49UP20210827_1,   P03,    44,  1,     20,     829,2,20210831,1130,1311, 24.2535, 145.4323, 5479,   1341.7,    2.7857,  34.4886,2,     60.7,2,     -999,9,    60.49,2,   141.48,2,    41.37,2,     0.00,2,    2.930,2,     -999,9,     -999,9,     -999,9,     -999,9,     -999,9,     -999,     -999,9,     -999,9,     -999,9,     -999,9,   2.6933,2,  27.5042,2,   2.7857,2
49UP20210827_1,   P03,    44,  1,     19,     828,2,20210831,1130,1306, 24.2535, 145.4323, 5479,   1545.3,    2.4879,  34.5445,2,     79.1,2,     -999,9,    79.65,6,   144.20,6,    40.36,6,     0.00,6,    2.840,6,     -999,9,     -999,9,     -999,9,     -999,9,     -999,9,     -999,     -999,9,     -999,9,     -999,9,     -999,9,   2.3825,2,  27.5756,2,   2.4883,2
49UP20210827_1,   P03,    44,  1,     18,     752,2,20210831,1130,1300, 24.2535, 145.4323, 5479,   1748.9,    2.2434,  34.5747,2,     90.8,2,     -999,9,    90.41,2,   147.16,2,    39.79,2,     0.00,2,    2.790,2,     -999,9,     -999,9,     -999,9,     -999,9,     -999,9,     -999,     -999,9,     -999,9,     -999,9,     -999,9,   2.1244,2,  27.6210,2,   2.2436,2
49UP20210827_1,   P03,    44,  1,     17,     751,2,20210831,1130,1256, 24.2535, 145.4323, 5479,   1951.5,    2.0343,  34.6011,2,    101.0,2,     -999,9,   100.98,2,   149.27,2,    39.20,2,     0.00,2,    2.750,2,     -999,9,     -999,9,     -999,9,     -999,9,     -999,9,     -999,     -999,9,     -999,9,     -999,9,     -999,9,   1.9015,2,  27.6598,2,   2.0342,2
49UP20210827_1,   P03,    44,  1,     16,     328,2,20210831,1130,1251, 24.2535, 145.4323, 5479,   2155.6,    1.8959,  34.6197,2,    109.5,2,     -999,9,   109.28,2,   150.52,2,    38.73,2,     0.00,2,    2.700,2,     -999,9,     -999,9,     -999,9,     -999,9,     -999,9,     -999,     -999,9,     -999,9,     -999,9,     -999,9,   1.7480,2,  27.6865,2,   1.8958,2
49UP20210827_1,   P03,    44,  1,     15,     822,2,20210831,1130,1246, 24.2535, 145.4323, 5479,   2358.6,    1.8011,  34.6327,2,    116.2,2,     -999,9,   116.13,2,   150.59,2,    38.31,2,     0.00,2,    2.680,2,     -999,9,     -999,9,     -999,9,     -999,9,     -999,9,     -999,     -999,9,     -999,9,     -999,9,     -999,9,   1.6372,2,  27.7053,2,   1.8011,2
49UP20210827_1,   P03,    44,  1,     14,     326,2,20210831,1130,1241, 24.2535, 145.4323, 5479,   2561.5,    1.7177,  34.6454,2,    122.7,2,     -999,9,   122.58,2,   151.40,2,    37.96,2,     0.00,2,    2.640,2,     -999,9,     -999,9,     -999,9,     -999,9,     -999,9,     -999,     -999,9,     -999,9,     -999,9,     -999,9,   1.5372,2,  27.7229,2,   1.7178,2
49UP20210827_1,   P03,    44,  1,     13,     325,2,20210831,1130,1236, 24.2535, 145.4323, 5479,   2765.4,    1.6613,  34.6534,2,    128.3,2,     -999,9,   128.34,2,   150.97,2,    37.65,2,     0.00,2,    2.610,2,     -999,9,     -999,9,     -999,9,     -999,9,     -999,9,     -999,     -999,9,     -999,9,     -999,9,     -999,9,   1.4633,2,  27.7347,2,   1.6612,2
49UP20210827_1,   P03,    44,  1,     12,     324,2,20210831,1130,1232, 24.2535, 145.4323, 5479,   2969.4,    1.6081,  34.6618,2,    133.6,2,     -999,9,   133.80,2,   150.71,2,    37.31,2,     0.00,2,    2.590,2,     -999,9,     -999,9,     -999,9,     -999,9,     -999,9,     -999,     -999,9,     -999,9,     -999,9,     -999,9,   1.3919,2,  27.7466,2,   1.6080,2
49UP20210827_1,   P03,    44,  1,     11,     323,2,20210831,1130,1226, 24.2535, 145.4323, 5479,   3213.1,    1.5706,  34.6670,2,    137.7,2,     -999,9,   137.36,2,   150.38,2,    37.04,2,     0.00,2,    2.560,2,     -999,9,     -999,9,     -999,9,     -999,9,     -999,9,     -999,     -999,9,     -999,9,     -999,9,     -999,9,   1.3316,2,  27.7550,2,   1.5707,2
49UP20210827_1,   P03,    44,  1,     10,     322,3,20210831,1130,1220, 24.2535, 145.4323, 5479,   3469.3,    1.5280,  34.6728,2,    143.5,2,     -999,9,   143.01,6,   149.27,6,    36.64,6,     0.00,6,    2.540,6,     -999,9,     -999,9,     -999,9,     -999,9,     -999,9,     -999,     -999,9,     -999,9,     -999,9,     -999,9,   1.2643,2,  27.7644,2,   1.5280,2
49UP20210827_1,   P03,    44,  1,      9,     750,2,20210831,1130,1215, 24.2535, 145.4323, 5479,   3725.9,    1.5033,  34.6775,2,    148.4,2,     -999,9,   148.33,2,   148.02,2,    36.34,2,     0.00,2,    2.510,2,     -999,9,     -999,9,     -999,9,     -999,9,     -999,9,     -999,     -999,9,     -999,9,     -999,9,     -999,9,   1.2137,2,  27.7717,2,   1.5032,2
49UP20210827_1,   P03,    44,  1,      8,     320,2,20210831,1130,1209, 24.2535, 145.4323, 5479,   3981.8,    1.4865,  34.6814,2,    152.6,2,     -999,9,   152.74,2,   147.23,2,    36.04,2,     0.00,2,    2.490,2,     -999,9,     -999,9,     -999,9,     -999,9,     -999,9,     -999,     -999,9,     -999,9,     -999,9,     -999,9,   1.1700,2,  27.7778,2,   1.4866,2
49UP20210827_1,   P03,    44,  1,      7,     319,2,20210831,1130,1203, 24.2535, 145.4323, 5479,   4238.0,    1.4832,  34.6842,2,    156.4,2,     -999,9,   156.65,2,   145.51,2,    35.76,2,     0.00,2,    2.470,2,     -999,9,     -999,9,     -999,9,     -999,9,     -999,9,     -999,     -999,9,     -999,9,     -999,9,     -999,9,   1.1385,2,  27.7823,2,   1.4832,2
49UP20210827_1,   P03,    44,  1,      6,     318,2,20210831,1130,1157, 24.2535, 145.4323, 5479,   4495.5,    1.4859,  34.6866,2,    159.7,2,     -999,9,   159.72,2,   144.07,2,    35.54,2,     0.00,2,    2.450,2,     -999,9,     -999,9,     -999,9,     -999,9,     -999,9,     -999,     -999,9,     -999,9,     -999,9,     -999,9,   1.1119,2,  27.7860,2,   1.4859,2
49UP20210827_1,   P03,    44,  1,      5,     317,2,20210831,1130,1152, 24.2535, 145.4323, 5479,   4752.2,    1.4923,  34.6888,2,    163.0,2,     -999,9,   162.87,2,   142.63,2,    35.35,2,     0.00,2,    2.440,2,     -999,9,     -999,9,     -999,9,     -999,9,     -999,9,     -999,     -999,9,     -999,9,     -999,9,     -999,9,   1.0881,2,  27.7894,2,   1.4924,2
49UP20210827_1,   P03,    44,  1,      4,     316,2,20210831,1130,1146, 24.2535, 145.4323, 5479,   5007.6,    1.5040,  34.6905,2,    165.9,2,     -999,9,   166.06,2,   140.41,2,    35.11,2,     0.00,2,    2.420,2,     -999,9,     -999,9,     -999,9,     -999,9,     -999,9,     -999,     -999,9,     -999,9,     -999,9,     -999,9,   1.0687,2,  27.7921,2,   1.5042,2
49UP20210827_1,   P03,    44,  1,      3,     315,2,20210831,1130,1140, 24.2535, 145.4323, 5479,   5265.9,    1.5200,  34.6919,2,    168.6,2,     -999,9,   168.60,2,   138.74,2,    34.95,2,     0.00,2,    2.410,2,     -999,9,     -999,9,     -999,9,     -999,9,     -999,9,     -999,     -999,9,     -999,9,     -999,9,     -999,9,   1.0523,2,  27.7943,2,   1.5201,2
49UP20210827_1,   P03,    44,  1,      2,     314,2,20210831,1130,1134, 24.2535, 145.4323, 5479,   5523.8,    1.5326,  34.6938,2,    171.8,2,     -999,9,   171.69,2,   136.77,2,    34.71,2,     0.00,2,    2.390,2,     -999,9,     -999,9,     -999,9,     -999,9,     -999,9,     -999,     -999,9,     -999,9,     -999,9,     -999,9,   1.0317,2,  27.7972,2,   1.5325,2
49UP20210827_1,   P03,    44,  1,      1,     811,2,20210831,1130,1131, 24.2535, 145.4323, 5479,   5614.9,    1.5365,  34.6945,2,    173.2,2,     -999,9,   173.09,6,   136.05,6,    34.63,6,     0.00,6,    2.390,6,     -999,9,     -999,9,     -999,9,     -999,9,     -999,9,     -999,     -999,9,     -999,9,     -999,9,     -999,9,   1.0238,2,  27.7983,2,   1.5364,2