BOTTLE,20230808CCHSIOADS
EXPOCODE,SECT_ID,STNNBR,CASTNO,SAMPNO,BTLNBR,BTLNBR_FLAG_W,DATE,TIME,BTL_TIME,LATITUDE,LONGITUDE,DEPTH,CTDPRS,CTDTMP,CTDSAL,CTDSAL_FLAG_W,CTDOXY,CTDOXY_FLAG_W,SALNTY,SALNTY_FLAG_W,OXYGEN,OXYGEN_FLAG_W,SILCAT,SILCAT_FLAG_W,NO2+NO3,NO2+NO3_FLAG_W,NITRIT,NITRIT_FLAG_W,PHSPHT,PHSPHT_FLAG_W,CFC-11,CFC-11_FLAG_W,CFC-12,CFC-12_FLAG_W,TCARBN,TCARBN_FLAG_W,ALKALI,ALKALI_FLAG_W,PH_TOT,PH_TOT_FLAG_W,PH_TMP,CFC113,CFC113_FLAG_W,SF6,SF6_FLAG_W,CHLORA,CHLORA_FLAG_W,PPHYTN,PPHYTN_FLAG_W,THETA,THETA_FLAG_W,SIG0,SIG0_FLAG_W,SBE35,SBE35_FLAG_W
,,,,,,,,,,,,METERS,DBAR,ITS-90,PSS-78,,UMOL/KG,,PSS78,,UMOL/KG,,UMOL/KG,,UMOL/KG,,UMOL/KG,,UMOL/KG,,PMOL/KG,,PMOL/KG,,UMOL/KG,,UMOL/KG,,,,DEG C,PMOL/KG,,FMOL/KG,,UG/KG,,UG/KG,,ITS-90,,KG/M^3,,ITS-90,
49UP20210827_1,   P03,    64,  1,      0,     BUC,2,20210907,1616,1820, 24.2532, 160.0208, 5471,      0.0,   29.4333,  35.0039,2,    195.0,2,  35.0004,2,   195.87,2,     1.26,2,     0.01,2,     0.00,2,    0.030,2,     -999,9,     -999,9,   1972.9,2,   2299.6,2,   8.0959,2,    25.00,     -999,9,     -999,9,     0.04,2,     0.01,2,  29.4327,2,  21.9217,2,     -999,9
49UP20210827_1,   P03,    64,  1,     36,     757,2,20210907,1616,1856, 24.2532, 160.0208, 5471,     10.0,   29.4634,  35.0031,2,    195.0,2,  35.0031,2,   195.89,2,     1.18,2,     0.00,2,     0.00,2,    0.010,2,    1.035,2,    0.778,2,   1974.4,2,   2299.8,2,   8.0946,2,    25.00,    0.059,2,    1.334,2,     0.04,2,     0.02,2,  29.4609,2,  21.9116,2,  29.4610,2
49UP20210827_1,   P03,    64,  1,     34,     843,2,20210907,1616,1849, 24.2532, 160.0208, 5471,     74.7,   23.6566,  35.1872,2,    228.3,2,  35.1857,2,   228.51,2,     1.59,2,     0.00,2,     0.00,2,    0.010,2,     -999,9,     -999,9,   2002.8,2,   2312.8,2,   8.0614,2,    25.00,     -999,9,     -999,9,     0.09,2,     0.04,2,  23.6410,2,  23.8890,2,  23.6527,2
49UP20210827_1,   P03,    64,  1,     35,     756,2,20210907,1616,1849, 24.2532, 160.0208, 5471,     74.8,   23.6422,  35.1867,2,    228.6,2,  35.1879,2,   228.84,2,     1.59,2,     0.00,2,     0.00,2,    0.010,2,    1.496,2,    0.981,2,   2002.1,2,   2312.9,2,   8.0623,2,    25.00,    0.086,2,    1.561,2,     0.09,2,     0.03,2,  23.6266,2,  23.8929,2,  23.6416,2
49UP20210827_1,   P03,    64,  1,     33,     842,2,20210907,1616,1848, 24.2532, 160.0208, 5471,     99.4,   21.2655,  34.9912,2,    210.7,2,  34.9905,2,   211.05,2,     2.05,2,     0.00,2,     0.00,2,    0.040,2,    1.654,2,    1.053,2,   2026.1,2,   2299.2,2,   8.0056,6,    25.00,    0.086,2,    1.668,2,     0.13,2,     0.17,2,  21.2464,2,  24.4199,2,  21.2625,2
49UP20210827_1,   P03,    64,  1,     32,     841,2,20210907,1616,1846, 24.2532, 160.0208, 5471,    125.8,   19.5591,  34.8651,2,    208.3,2,  34.8705,2,   208.19,2,     2.38,2,     0.27,2,     0.04,2,    0.070,2,     -999,9,     -999,9,   2035.0,6,   2293.4,6,   7.9784,2,    25.00,     -999,9,     -999,9,     0.18,2,     0.35,2,  19.5363,2,  24.7801,2,  19.5785,2
49UP20210827_1,   P03,    64,  1,     31,     840,2,20210907,1616,1845, 24.2532, 160.0208, 5471,    151.6,   18.5257,  34.8263,2,    204.4,2,  34.8258,6,   204.75,2,     3.06,2,     1.61,2,     0.07,2,    0.160,2,     -999,9,     -999,9,   2046.0,2,   2289.8,2,   7.9519,2,    25.00,     -999,9,     -999,9,     0.08,2,     0.27,2,  18.4991,2,  25.0150,2,  18.5188,2
49UP20210827_1,   P03,    64,  1,     30,     839,2,20210907,1616,1843, 24.2532, 160.0208, 5471,    203.5,   16.7673,  34.6786,2,    183.2,2,  34.6816,2,   183.14,6,     5.90,6,     6.68,6,     0.00,6,    0.510,6,    2.109,2,    1.214,2,   2077.4,2,   2282.7,2,   7.8763,2,    25.00,    0.018,2,    1.593,2,     0.01,2,     0.02,2,  16.7341,2,  25.3303,2,  16.7718,2
49UP20210827_1,   P03,    64,  1,     29,     838,2,20210907,1616,1840, 24.2532, 160.0208, 5471,    252.6,   15.2995,  34.5821,2,    202.0,2,  34.5824,2,   202.17,2,     7.67,2,     7.61,2,     0.00,2,    0.520,2,     -999,9,     -999,9,   2070.6,2,   2276.5,2,   7.8807,2,    25.00,     -999,9,     -999,9,     -999,9,     -999,9,  15.2608,2,  25.5923,2,  15.2994,2
49UP20210827_1,   P03,    64,  1,     28,     755,2,20210907,1616,1838, 24.2532, 160.0208, 5471,    303.2,   13.7944,  34.4503,2,    198.7,2,  34.4533,2,   198.38,2,    10.66,2,    10.20,2,     0.00,2,    0.710,2,    2.454,2,    1.340,2,   2087.3,2,   2271.2,2,   7.8362,2,    25.00,    0.039,2,    1.657,2,     -999,9,     -999,9,  13.7511,2,  25.8141,2,  13.7991,2
49UP20210827_1,   P03,    64,  1,     27,     754,2,20210907,1616,1834, 24.2532, 160.0208, 5471,    402.4,   10.8863,  34.2251,2,    184.1,2,  34.2255,2,   184.17,2,    20.60,2,    16.53,2,     0.00,2,    1.180,2,     -999,9,     -999,9,   2128.2,2,   2268.2,2,   7.7326,2,    25.00,     -999,9,     -999,9,     -999,9,     -999,9,  10.8370,2,  26.2012,2,  10.8860,2
49UP20210827_1,   P03,    64,  1,     26,     835,2,20210907,1616,1831, 24.2532, 160.0208, 5471,    505.1,    8.1416,  34.0749,2,    158.1,2,  34.0755,2,   158.79,2,    39.21,2,    24.14,2,     0.00,2,    1.720,2,    2.559,2,    1.245,2,   2180.4,2,   2276.7,2,   7.6223,6,    25.00,    0.085,2,    1.193,2,     -999,9,     -999,9,   8.0896,2,  26.5339,2,   8.1424,2
49UP20210827_1,   P03,    64,  1,     25,     834,2,20210907,1616,1827, 24.2532, 160.0208, 5471,    606.4,    6.2760,  34.0649,2,    107.9,2,  34.0653,2,   107.72,2,    63.29,2,    32.23,2,     0.00,2,    2.320,2,     -999,9,     -999,9,   2242.1,6,   2293.0,6,   7.4934,2,    25.00,     -999,9,     -999,9,     -999,9,     -999,9,   6.2218,2,  26.7855,2,   6.2733,2
49UP20210827_1,   P03,    64,  1,     24,     753,2,20210907,1616,1824, 24.2532, 160.0208, 5471,    708.1,    5.0603,  34.1453,2,     66.6,2,  34.1448,2,    66.59,2,    86.33,2,    37.91,2,     0.00,2,    2.730,2,     -999,9,     -999,9,   2293.7,2,   2317.3,2,   7.4091,2,    25.00,     -999,9,     -999,9,     -999,9,     -999,9,   5.0029,2,  26.9973,2,   5.0607,2
49UP20210827_1,   P03,    64,  1,     23,     832,2,20210907,1616,1820, 24.2532, 160.0208, 5471,    808.8,    4.5472,  34.2490,2,     47.8,2,  34.2481,2,    47.74,2,    99.33,2,    40.28,2,     0.00,2,    2.900,2,    0.338,2,    0.179,2,   2320.4,2,   2337.7,2,   7.3805,2,    25.00,    0.020,2,    0.175,2,     -999,9,     -999,9,   4.4841,2,  27.1375,2,   4.5476,2
49UP20210827_1,   P03,    64,  1,     22,     831,2,20210907,1616,1817, 24.2532, 160.0208, 5471,    909.4,    4.1674,  34.3452,2,     45.1,2,  34.3454,6,    45.13,2,   109.43,2,    41.22,2,     0.00,2,    2.960,2,     -999,9,     -999,9,   2334.6,2,   2353.5,2,   7.3826,2,    25.00,     -999,9,     -999,9,     -999,9,     -999,9,   4.0983,2,  27.2551,2,   4.1674,2
49UP20210827_1,   P03,    64,  1,     21,     830,2,20210907,1616,1813, 24.2532, 160.0208, 5471,   1012.2,    3.7875,  34.4267,2,     51.9,2,  34.4277,2,    52.19,6,   117.41,6,    41.16,6,     0.00,6,    2.950,6,    0.089,2,    0.027,2,   2339.6,2,   2367.5,2,   7.4043,2,    25.00,    0.008,2,   -0.001,2,     -999,9,     -999,9,   3.7126,2,  27.3593,2,   3.7850,2
49UP20210827_1,   P03,    64,  1,     20,     829,2,20210907,1616,1807, 24.2532, 160.0208, 5471,   1214.7,    3.1687,  34.5034,2,     65.8,2,  34.5029,2,    65.77,2,   130.34,2,    40.75,2,     0.00,2,    2.910,2,     -999,9,     -999,9,   2346.7,2,   2381.9,2,   7.4314,2,    25.00,     -999,9,     -999,9,     -999,9,     -999,9,   3.0826,2,  27.4811,2,   3.1668,2
49UP20210827_1,   P03,    64,  1,     19,     828,2,20210907,1616,1802, 24.2532, 160.0208, 5471,   1417.0,    2.7361,  34.5381,2,     74.5,2,  34.5382,2,    74.56,2,   138.86,2,    40.50,2,     0.00,2,    2.880,2,    0.008,2,    0.007,2,   2351.6,2,   2394.6,2,   7.4474,2,    25.00,    0.007,2,    0.015,2,     -999,9,     -999,9,   2.6382,2,  27.5486,2,   2.7357,2
49UP20210827_1,   P03,    64,  1,     18,     752,2,20210907,1616,1756, 24.2532, 160.0208, 5471,   1618.1,    2.4059,  34.5698,2,     84.9,2,  34.5702,2,    84.65,2,   145.03,2,    40.02,2,     0.00,2,    2.840,2,     -999,9,     -999,9,   2352.4,2,   2402.1,2,   7.4667,2,    25.00,     -999,9,     -999,9,     -999,9,     -999,9,   2.2954,2,  27.6031,2,   2.4055,2
49UP20210827_1,   P03,    64,  1,     17,     751,2,20210907,1616,1751, 24.2532, 160.0208, 5471,   1819.6,    2.1631,  34.5949,2,     93.9,2,  34.5953,2,    93.81,2,   148.59,2,    39.60,2,     0.00,2,    2.790,2,     -999,9,     -999,9,   2353.7,2,   2404.6,2,   7.4782,2,    25.00,     -999,9,     -999,9,     -999,9,     -999,9,   2.0394,2,  27.6440,2,   2.1635,2
49UP20210827_1,   P03,    64,  1,     16,     328,2,20210907,1616,1745, 24.2532, 160.0208, 5471,   2025.3,    1.9766,  34.6160,2,    103.3,2,  34.6161,2,   103.49,2,   150.37,2,    39.09,2,     0.00,2,    2.750,2,    0.000,2,    0.001,2,   2349.5,2,   2408.8,2,   7.4957,2,    25.00,    0.009,2,    0.021,2,     -999,9,     -999,9,   1.8384,2,  27.6767,2,   1.9766,2
49UP20210827_1,   P03,    64,  1,     15,     822,2,20210907,1616,1739, 24.2532, 160.0208, 5471,   2227.2,    1.8427,  34.6317,2,    111.9,2,  34.6321,2,   111.96,2,   151.02,2,    38.58,2,     0.00,2,    2.700,2,     -999,9,     -999,9,   2348.1,2,   2413.2,2,   7.5132,6,    25.00,     -999,9,     -999,9,     -999,9,     -999,9,   1.6895,2,  27.7006,2,   1.8426,2
49UP20210827_1,   P03,    64,  1,     14,     326,2,20210907,1616,1734, 24.2532, 160.0208, 5471,   2429.5,    1.7560,  34.6418,2,    117.6,2,  34.6414,2,   117.55,2,   151.91,2,    38.24,2,     0.00,2,    2.680,2,     -999,9,     -999,9,   2345.9,6,   2414.6,6,   7.5261,2,    25.00,     -999,9,     -999,9,     -999,9,     -999,9,   1.5866,2,  27.7164,2,   1.7559,2
49UP20210827_1,   P03,    64,  1,     13,     325,2,20210907,1616,1729, 24.2532, 160.0208, 5471,   2633.7,    1.6808,  34.6516,2,    123.8,2,  34.6516,6,   124.42,2,   152.21,2,    37.85,2,     0.00,2,    2.640,2,     -999,9,     -999,9,   2342.4,2,   2416.8,2,   7.5371,2,    25.00,     -999,9,     -999,9,     -999,9,     -999,9,   1.4944,2,  27.7310,2,   1.6807,2
49UP20210827_1,   P03,    64,  1,     12,     324,2,20210907,1616,1723, 24.2532, 160.0208, 5471,   2839.2,    1.6200,  34.6589,2,    129.4,2,  34.6591,2,   129.54,6,   153.05,6,    37.52,6,     0.00,6,    2.620,6,     -999,9,     -999,9,   2339.3,2,   2416.2,2,   7.5454,2,    25.00,     -999,9,     -999,9,     -999,9,     -999,9,   1.4159,2,  27.7425,2,   1.6198,2
49UP20210827_1,   P03,    64,  1,     11,     323,2,20210907,1616,1718, 24.2532, 160.0208, 5471,   3042.6,    1.5724,  34.6650,2,    134.6,2,  34.6650,2,   134.57,2,   151.93,2,    37.17,2,     0.00,2,    2.590,2,     -999,9,     -999,9,   2336.8,2,   2416.5,2,   7.5514,2,    25.00,     -999,9,     -999,9,     -999,9,     -999,9,   1.3500,2,  27.7521,2,   1.5722,2
49UP20210827_1,   P03,    64,  1,     10,     322,2,20210907,1616,1712, 24.2532, 160.0208, 5471,   3297.6,    1.5347,  34.6704,2,    139.7,2,  34.6704,2,   139.64,2,   151.26,2,    36.88,2,     0.00,2,    2.570,2,     -999,9,     -999,9,   2334.6,2,   2416.1,2,   7.5607,2,    25.00,     -999,9,     -999,9,     -999,9,     -999,9,   1.2882,2,  27.7608,2,   1.5347,2
49UP20210827_1,   P03,    64,  1,      9,     750,2,20210907,1616,1705, 24.2532, 160.0208, 5471,   3553.5,    1.5045,  34.6757,2,    145.1,2,  34.6756,2,   145.07,2,   149.92,2,    36.50,2,     0.00,2,    2.540,2,     -999,9,     -999,9,   2331.3,2,   2416.2,2,   7.5689,2,    25.00,     -999,9,     -999,9,     -999,9,     -999,9,   1.2328,2,  27.7689,2,   1.5045,2
49UP20210827_1,   P03,    64,  1,      8,     320,2,20210907,1616,1659, 24.2532, 160.0208, 5471,   3808.2,    1.4841,  34.6796,2,    149.8,2,  34.6799,2,   149.84,2,   148.82,2,    36.17,2,     0.00,2,    2.510,2,     -999,9,     -999,9,   2325.7,2,   2414.3,2,   7.5785,2,    25.00,     -999,9,     -999,9,     -999,9,     -999,9,   1.1862,2,  27.7753,2,   1.4841,2
49UP20210827_1,   P03,    64,  1,      7,     319,2,20210907,1616,1653, 24.2532, 160.0208, 5471,   4065.5,    1.4690,  34.6835,2,    154.6,2,  34.6835,2,   154.69,2,   146.88,2,    35.93,2,     0.00,2,    2.490,2,     -999,9,     -999,9,   2321.6,2,   2412.8,2,   7.5848,2,    25.00,     -999,9,     -999,9,     -999,9,     -999,9,   1.1439,2,  27.7814,2,   1.4691,2
49UP20210827_1,   P03,    64,  1,      6,     318,3,20210907,1616,1647, 24.2532, 160.0208, 5471,   4321.2,    1.4622,  34.6866,2,    159.0,2,  34.6859,2,   158.26,2,   145.01,2,    35.55,2,     0.00,2,    2.460,2,     -999,9,     -999,9,   2319.8,2,   2410.5,2,   7.5871,2,    25.00,     -999,9,     -999,9,     -999,9,     -999,9,   1.1088,2,  27.7862,2,   1.4622,2
49UP20210827_1,   P03,    64,  1,      5,     317,2,20210907,1616,1641, 24.2532, 160.0208, 5471,   4577.6,    1.4643,  34.6892,2,    162.8,2,  34.6892,2,   162.62,2,   143.40,2,    35.28,2,     0.00,2,    2.440,2,    0.000,2,    0.001,2,   2317.2,2,   2411.0,2,   7.5955,2,    25.00,    0.007,2,    0.007,2,     -999,9,     -999,9,   1.0814,2,  27.7901,2,   1.4642,2
49UP20210827_1,   P03,    64,  1,      4,     316,2,20210907,1616,1635, 24.2532, 160.0208, 5471,   4834.2,    1.4737,  34.6910,2,    166.0,2,  34.6917,4,   166.07,2,   140.88,2,    35.03,2,     0.00,2,    2.420,2,    0.000,2,    0.001,2,   2310.5,2,   2407.9,2,   7.6008,2,    25.00,    0.000,2,   -0.001,2,     -999,9,     -999,9,   1.0603,2,  27.7930,2,   1.4737,2
49UP20210827_1,   P03,    64,  1,      3,     315,2,20210907,1616,1629, 24.2532, 160.0208, 5471,   5093.6,    1.4900,  34.6925,2,    168.6,2,  34.6935,4,   168.49,6,   139.79,6,    34.90,6,     0.00,6,    2.410,6,    0.000,2,    0.002,2,   2312.1,2,   2407.5,2,   7.6026,2,    25.00,    0.000,2,    0.009,2,     -999,9,     -999,9,   1.0446,2,  27.7953,2,   1.4898,2
49UP20210827_1,   P03,    64,  1,      2,     314,2,20210907,1616,1623, 24.2532, 160.0208, 5471,   5349.4,    1.5145,  34.6932,2,    170.1,2,  34.6936,2,   169.99,2,   138.14,2,    34.75,2,     0.00,2,    2.400,2,    0.000,2,    0.001,2,   2307.9,2,   2406.5,2,   7.6040,2,    25.00,    0.000,2,    0.022,2,     -999,9,     -999,9,   1.0364,2,  27.7964,2,   1.5143,2
49UP20210827_1,   P03,    64,  1,      1,     811,2,20210907,1616,1617, 24.2532, 160.0208, 5471,   5603.7,    1.5394,  34.6943,2,    171.9,2,  34.6950,4,   172.02,2,   137.02,2,    34.69,2,     0.00,2,    2.390,2,    0.000,2,    0.001,2,   2306.6,2,   2404.2,2,   7.6075,2,    25.00,    0.000,2,    0.056,2,     -999,9,     -999,9,   1.0281,2,  27.7978,2,   1.5395,2