BOTTLE,20230808CCHSIOADS
EXPOCODE,SECT_ID,STNNBR,CASTNO,SAMPNO,BTLNBR,BTLNBR_FLAG_W,DATE,TIME,BTL_TIME,LATITUDE,LONGITUDE,DEPTH,CTDPRS,CTDTMP,CTDSAL,CTDSAL_FLAG_W,CTDOXY,CTDOXY_FLAG_W,SALNTY,SALNTY_FLAG_W,OXYGEN,OXYGEN_FLAG_W,SILCAT,SILCAT_FLAG_W,NO2+NO3,NO2+NO3_FLAG_W,NITRIT,NITRIT_FLAG_W,PHSPHT,PHSPHT_FLAG_W,CFC-11,CFC-11_FLAG_W,CFC-12,CFC-12_FLAG_W,TCARBN,TCARBN_FLAG_W,ALKALI,ALKALI_FLAG_W,PH_TOT,PH_TOT_FLAG_W,PH_TMP,CFC113,CFC113_FLAG_W,SF6,SF6_FLAG_W,CHLORA,CHLORA_FLAG_W,PPHYTN,PPHYTN_FLAG_W,THETA,THETA_FLAG_W,SIG0,SIG0_FLAG_W,SBE35,SBE35_FLAG_W
,,,,,,,,,,,,METERS,DBAR,ITS-90,PSS-78,,UMOL/KG,,PSS78,,UMOL/KG,,UMOL/KG,,UMOL/KG,,UMOL/KG,,UMOL/KG,,PMOL/KG,,PMOL/KG,,UMOL/KG,,UMOL/KG,,,,DEG C,PMOL/KG,,FMOL/KG,,UG/KG,,UG/KG,,ITS-90,,KG/M^3,,ITS-90,
49UP20210827_1,   P03,    55,  1,      0,     BUC,2,20210904,0509, 715, 24.2500, 152.8103, 5311,      0.0,   29.3277,  34.7253,2,    195.6,2,     -999,9,   197.37,2,     1.01,2,     0.06,2,     0.00,2,    0.030,2,     -999,9,     -999,9,     -999,9,     -999,9,     -999,9,     -999,     -999,9,     -999,9,     -999,9,     -999,9,  29.3270,2,  21.7482,2,     -999,9
49UP20210827_1,   P03,    55,  1,     36,     757,2,20210904,0509, 736, 24.2500, 152.8103, 5311,      9.1,   29.3843,  34.7771,2,    195.8,2,     -999,9,   196.11,2,     0.95,2,     0.07,2,     0.00,2,    0.010,2,     -999,9,     -999,9,     -999,9,     -999,9,     -999,9,     -999,     -999,9,     -999,9,     -999,9,     -999,9,  29.3821,2,  21.7686,2,  29.3844,2
49UP20210827_1,   P03,    55,  1,     35,     756,2,20210904,0509, 732, 24.2500, 152.8103, 5311,     49.3,   28.3181,  34.9210,2,    203.9,2,     -999,9,   204.15,2,     0.99,2,     0.04,2,     0.00,2,    0.010,2,     -999,9,     -999,9,     -999,9,     -999,9,     -999,9,     -999,     -999,9,     -999,9,     -999,9,     -999,9,  28.3064,2,  22.2347,2,  28.3139,2
49UP20210827_1,   P03,    55,  1,     34,     843,2,20210904,0509, 731, 24.2500, 152.8103, 5311,     75.2,   24.4568,  35.0527,2,    224.5,2,     -999,9,   224.42,2,     1.28,2,     0.02,2,     0.00,2,    0.010,2,     -999,9,     -999,9,     -999,9,     -999,9,     -999,9,     -999,     -999,9,     -999,9,     -999,9,     -999,9,  24.4408,2,  23.5499,2,  24.4676,2
49UP20210827_1,   P03,    55,  1,     33,     842,2,20210904,0509, 729, 24.2500, 152.8103, 5311,     99.7,   22.5258,  35.0328,2,    219.7,2,     -999,9,   219.29,2,     1.55,2,     0.03,2,     0.00,2,    0.010,2,     -999,9,     -999,9,     -999,9,     -999,9,     -999,9,     -999,     -999,9,     -999,9,     -999,9,     -999,9,  22.5058,2,  24.1000,2,  22.5341,2
49UP20210827_1,   P03,    55,  1,     32,     841,2,20210904,0509, 728, 24.2500, 152.8103, 5311,    124.6,   20.7855,  34.9250,2,    215.9,2,     -999,9,   215.89,2,     1.82,2,     0.03,2,     0.00,2,    0.030,2,     -999,9,     -999,9,     -999,9,     -999,9,     -999,9,     -999,     -999,9,     -999,9,     -999,9,     -999,9,  20.7619,2,  24.5013,2,  20.7774,2
49UP20210827_1,   P03,    55,  1,     31,     840,2,20210904,0509, 726, 24.2500, 152.8103, 5311,    149.5,   19.3097,  34.8681,2,    197.1,2,     -999,9,   196.66,2,     2.62,2,     1.65,2,     0.02,2,    0.150,2,     -999,9,     -999,9,     -999,9,     -999,9,     -999,9,     -999,     -999,9,     -999,9,     -999,9,     -999,9,  19.2828,2,  24.8479,2,  19.3100,2
49UP20210827_1,   P03,    55,  1,     30,     839,2,20210904,0509, 723, 24.2500, 152.8103, 5311,    201.8,   17.6550,  34.7650,2,    201.8,2,     -999,9,   202.03,6,     3.74,6,     4.24,6,     0.00,6,    0.290,6,     -999,9,     -999,9,     -999,9,     -999,9,     -999,9,     -999,     -999,9,     -999,9,     -999,9,     -999,9,  17.6209,2,  25.1847,2,  17.6541,2
49UP20210827_1,   P03,    55,  1,     29,     838,2,20210904,0509, 721, 24.2500, 152.8103, 5311,    250.5,   16.6244,  34.7004,2,    200.3,2,     -999,9,   200.59,2,     5.29,2,     6.01,2,     0.00,2,    0.410,2,     -999,9,     -999,9,     -999,9,     -999,9,     -999,9,     -999,     -999,9,     -999,9,     -999,9,     -999,9,  16.5837,2,  25.3823,2,  16.6204,2
49UP20210827_1,   P03,    55,  1,     28,     755,2,20210904,0509, 719, 24.2500, 152.8103, 5311,    302.5,   15.6053,  34.6180,2,    199.5,2,     -999,9,   199.11,2,     7.39,2,     7.70,2,     0.00,2,    0.520,2,     -999,9,     -999,9,     -999,9,     -999,9,     -999,9,     -999,     -999,9,     -999,9,     -999,9,     -999,9,  15.5583,2,  25.5537,2,  15.6069,2
49UP20210827_1,   P03,    55,  1,     27,     754,3,20210904,0509, 717, 24.2500, 152.8103, 5311,    401.0,   12.6800,  34.3752,2,    197.5,2,     -999,9,   197.24,2,    14.47,2,    12.54,2,     0.00,2,    0.870,2,     -999,9,     -999,9,     -999,9,     -999,9,     -999,9,     -999,     -999,9,     -999,9,     -999,9,     -999,9,  12.6257,2,  25.9830,2,  12.6788,2
49UP20210827_1,   P03,    55,  1,     26,     835,2,20210904,0509, 713, 24.2500, 152.8103, 5311,    503.6,    9.8945,  34.1739,2,    179.8,2,     -999,9,   179.87,2,    26.95,2,    19.11,2,     0.00,2,    1.360,2,     -999,9,     -999,9,     -999,9,     -999,9,     -999,9,     -999,     -999,9,     -999,9,     -999,9,     -999,9,   9.8361,2,  26.3345,2,   9.8887,2
49UP20210827_1,   P03,    55,  1,     25,     834,2,20210904,0509, 710, 24.2500, 152.8103, 5311,    605.8,    7.2436,  34.0686,2,    132.8,2,     -999,9,   132.95,2,    50.25,2,    28.28,2,     0.00,2,    2.020,2,     -999,9,     -999,9,     -999,9,     -999,9,     -999,9,     -999,     -999,9,     -999,9,     -999,9,     -999,9,   7.1849,2,  26.6595,2,   7.2444,2
49UP20210827_1,   P03,    55,  1,     24,     753,2,20210904,0509, 707, 24.2500, 152.8103, 5311,    704.8,    5.5538,  34.1113,2,     83.7,2,     -999,9,    83.43,2,    76.72,2,    35.79,2,     0.00,2,    2.580,2,     -999,9,     -999,9,     -999,9,     -999,9,     -999,9,     -999,     -999,9,     -999,9,     -999,9,     -999,9,   5.4940,2,  26.9127,2,   5.5517,2
49UP20210827_1,   P03,    55,  1,     23,     832,2,20210904,0509, 704, 24.2500, 152.8103, 5311,    807.4,    4.6358,  34.2244,2,     52.5,2,     -999,9,    52.39,2,    97.36,2,    39.93,2,     0.00,2,    2.870,2,     -999,9,     -999,9,     -999,9,     -999,9,     -999,9,     -999,     -999,9,     -999,9,     -999,9,     -999,9,   4.5723,2,  27.1084,2,   4.6356,2
49UP20210827_1,   P03,    55,  1,     22,     831,2,20210904,0509, 701, 24.2500, 152.8103, 5311,    907.4,    4.2250,  34.3125,2,     46.3,2,     -999,9,    46.53,2,   107.81,2,    41.13,2,     0.00,2,    2.950,2,     -999,9,     -999,9,     -999,9,     -999,9,     -999,9,     -999,     -999,9,     -999,9,     -999,9,     -999,9,   4.1557,2,  27.2231,2,   4.2239,2
49UP20210827_1,   P03,    55,  1,     21,     830,2,20210904,0509, 658, 24.2500, 152.8103, 5311,   1008.0,    3.8787,  34.3794,2,     48.2,2,     -999,9,    48.51,6,   116.38,6,    41.41,6,     0.00,6,    2.970,6,     -999,9,     -999,9,     -999,9,     -999,9,     -999,9,     -999,     -999,9,     -999,9,     -999,9,     -999,9,   3.8035,2,  27.3126,2,   3.8788,2
49UP20210827_1,   P03,    55,  1,     20,     829,2,20210904,0509, 653, 24.2500, 152.8103, 5311,   1212.5,    3.2853,  34.4602,2,     57.4,2,     -999,9,    57.26,2,   129.68,2,    41.37,2,     0.00,2,    2.950,2,     -999,9,     -999,9,     -999,9,     -999,9,     -999,9,     -999,     -999,9,     -999,9,     -999,9,     -999,9,   3.1984,2,  27.4358,2,   3.2861,2
49UP20210827_1,   P03,    55,  1,     19,     828,2,20210904,0509, 648, 24.2500, 152.8103, 5311,   1414.1,    2.7462,  34.5190,2,     68.3,2,     -999,9,    68.22,2,   140.87,2,    41.08,2,     0.00,2,    2.910,2,     -999,9,     -999,9,     -999,9,     -999,9,     -999,9,     -999,     -999,9,     -999,9,     -999,9,     -999,9,   2.6484,2,  27.5325,2,   2.7462,2
49UP20210827_1,   P03,    55,  1,     18,     752,2,20210904,0509, 643, 24.2500, 152.8103, 5311,   1618.2,    2.3650,  34.5574,2,     77.8,2,     -999,9,    77.59,2,   148.51,2,    40.70,2,     0.00,2,    2.880,2,     -999,9,     -999,9,     -999,9,     -999,9,     -999,9,     -999,     -999,9,     -999,9,     -999,9,     -999,9,   2.2551,2,  27.5965,2,   2.3649,2
49UP20210827_1,   P03,    55,  1,     17,     751,2,20210904,0509, 638, 24.2500, 152.8103, 5311,   1820.4,    2.0907,  34.5914,2,     90.8,2,     -999,9,    90.81,2,   152.18,2,    40.02,2,     0.00,2,    2.820,2,     -999,9,     -999,9,     -999,9,     -999,9,     -999,9,     -999,     -999,9,     -999,9,     -999,9,     -999,9,   1.9679,2,  27.6468,2,   2.0905,2
49UP20210827_1,   P03,    55,  1,     16,     328,2,20210904,0509, 633, 24.2500, 152.8103, 5311,   2024.7,    1.9034,  34.6142,2,    101.0,2,     -999,9,   100.93,2,   154.31,2,    39.44,2,     0.00,2,    2.770,2,     -999,9,     -999,9,     -999,9,     -999,9,     -999,9,     -999,     -999,9,     -999,9,     -999,9,     -999,9,   1.7665,2,  27.6807,2,   1.9033,2
49UP20210827_1,   P03,    55,  1,     15,     822,2,20210904,0509, 628, 24.2500, 152.8103, 5311,   2225.2,    1.7839,  34.6313,2,    111.1,2,     -999,9,   111.14,2,   153.90,2,    38.77,2,     0.00,2,    2.720,2,     -999,9,     -999,9,     -999,9,     -999,9,     -999,9,     -999,     -999,9,     -999,9,     -999,9,     -999,9,   1.6319,2,  27.7046,2,   1.7839,2
49UP20210827_1,   P03,    55,  1,     14,     326,3,20210904,0509, 623, 24.2500, 152.8103, 5311,   2430.1,    1.7066,  34.6426,2,    118.5,2,     -999,9,   118.54,2,   153.30,2,    38.31,2,     0.00,2,    2.680,2,     -999,9,     -999,9,     -999,9,     -999,9,     -999,9,     -999,     -999,9,     -999,9,     -999,9,     -999,9,   1.5380,2,  27.7206,2,   1.7064,2
49UP20210827_1,   P03,    55,  1,     13,     325,2,20210904,0509, 618, 24.2500, 152.8103, 5311,   2632.8,    1.6387,  34.6523,2,    125.3,2,     -999,9,   125.11,2,   153.28,2,    37.93,2,     0.00,2,    2.650,2,     -999,9,     -999,9,     -999,9,     -999,9,     -999,9,     -999,     -999,9,     -999,9,     -999,9,     -999,9,   1.4532,2,  27.7345,2,   1.6387,2
49UP20210827_1,   P03,    55,  1,     12,     324,3,20210904,0509, 613, 24.2500, 152.8103, 5311,   2836.9,    1.5892,  34.6598,2,    131.0,2,     -999,9,   131.04,6,   152.54,6,    37.54,6,     0.00,6,    2.620,6,     -999,9,     -999,9,     -999,9,     -999,9,     -999,9,     -999,     -999,9,     -999,9,     -999,9,     -999,9,   1.3860,2,  27.7454,2,   1.5891,2
49UP20210827_1,   P03,    55,  1,     11,     323,2,20210904,0509, 608, 24.2500, 152.8103, 5311,   3041.8,    1.5512,  34.6654,2,    135.8,2,     -999,9,   135.76,2,   152.27,2,    37.34,2,     0.00,2,    2.600,2,     -999,9,     -999,9,     -999,9,     -999,9,     -999,9,     -999,     -999,9,     -999,9,     -999,9,     -999,9,   1.3293,2,  27.7539,2,   1.5511,2
49UP20210827_1,   P03,    55,  1,     10,     322,2,20210904,0509, 602, 24.2500, 152.8103, 5311,   3297.7,    1.5152,  34.6717,2,    141.4,2,     -999,9,   141.48,2,   151.27,2,    36.88,2,     0.00,2,    2.570,2,     -999,9,     -999,9,     -999,9,     -999,9,     -999,9,     -999,     -999,9,     -999,9,     -999,9,     -999,9,   1.2692,2,  27.7632,2,   1.5154,2
49UP20210827_1,   P03,    55,  1,      9,     750,2,20210904,0509, 555, 24.2500, 152.8103, 5311,   3553.4,    1.4901,  34.6766,2,    146.3,2,     -999,9,   146.36,2,   150.22,2,    36.54,2,     0.00,2,    2.540,2,     -999,9,     -999,9,     -999,9,     -999,9,     -999,9,     -999,     -999,9,     -999,9,     -999,9,     -999,9,   1.2188,2,  27.7706,2,   1.4901,2
49UP20210827_1,   P03,    55,  1,      8,     320,2,20210904,0509, 549, 24.2500, 152.8103, 5311,   3810.2,    1.4712,  34.6807,2,    151.1,2,     -999,9,   150.83,2,   148.74,2,    36.23,2,     0.00,2,    2.520,2,     -999,9,     -999,9,     -999,9,     -999,9,     -999,9,     -999,     -999,9,     -999,9,     -999,9,     -999,9,   1.1735,2,  27.7771,2,   1.4711,2
49UP20210827_1,   P03,    55,  1,      7,     319,2,20210904,0509, 543, 24.2500, 152.8103, 5311,   4066.4,    1.4583,  34.6844,2,    155.8,2,     -999,9,   156.00,2,   146.98,2,    35.92,2,     0.00,2,    2.500,2,     -999,9,     -999,9,     -999,9,     -999,9,     -999,9,     -999,     -999,9,     -999,9,     -999,9,     -999,9,   1.1333,2,  27.7828,2,   1.4582,2
49UP20210827_1,   P03,    55,  1,      6,     318,2,20210904,0509, 537, 24.2500, 152.8103, 5311,   4321.4,    1.4549,  34.6873,2,    159.5,2,     -999,9,   159.59,2,   145.54,2,    35.62,2,     0.00,2,    2.470,2,     -999,9,     -999,9,     -999,9,     -999,9,     -999,9,     -999,     -999,9,     -999,9,     -999,9,     -999,9,   1.1017,2,  27.7873,2,   1.4550,2
49UP20210827_1,   P03,    55,  1,      5,     317,2,20210904,0509, 531, 24.2500, 152.8103, 5311,   4577.5,    1.4640,  34.6891,2,    162.6,2,     -999,9,   162.78,2,   143.85,2,    35.43,2,     0.00,2,    2.460,2,     -999,9,     -999,9,     -999,9,     -999,9,     -999,9,     -999,     -999,9,     -999,9,     -999,9,     -999,9,   1.0812,2,  27.7901,2,   1.4640,2
49UP20210827_1,   P03,    55,  1,      4,     316,2,20210904,0509, 524, 24.2500, 152.8103, 5311,   4833.3,    1.4717,  34.6913,2,    166.4,2,     -999,9,   166.03,2,   141.18,2,    35.17,2,     0.00,2,    2.430,2,     -999,9,     -999,9,     -999,9,     -999,9,     -999,9,     -999,     -999,9,     -999,9,     -999,9,     -999,9,   1.0585,2,  27.7934,2,   1.4716,2
49UP20210827_1,   P03,    55,  1,      3,     315,2,20210904,0509, 518, 24.2500, 152.8103, 5311,   5091.7,    1.4900,  34.6926,2,    168.7,2,     -999,9,   168.87,6,   139.57,6,    34.99,6,     0.00,6,    2.420,6,     -999,9,     -999,9,     -999,9,     -999,9,     -999,9,     -999,     -999,9,     -999,9,     -999,9,     -999,9,   1.0449,2,  27.7953,2,   1.4899,2
49UP20210827_1,   P03,    55,  1,      2,     314,2,20210904,0509, 512, 24.2500, 152.8103, 5311,   5350.1,    1.5074,  34.6940,2,    171.5,2,     -999,9,   171.53,2,   137.62,2,    34.78,2,     0.00,2,    2.400,2,     -999,9,     -999,9,     -999,9,     -999,9,     -999,9,     -999,     -999,9,     -999,9,     -999,9,     -999,9,   1.0296,2,  27.7975,2,   1.5074,2
49UP20210827_1,   P03,    55,  1,      1,     811,2,20210904,0509, 509, 24.2500, 152.8103, 5311,   5430.7,    1.5157,  34.6942,2,    172.2,2,     -999,9,   171.90,2,   136.96,2,    34.72,2,     0.00,2,    2.400,2,     -999,9,     -999,9,     -999,9,     -999,9,     -999,9,     -999,     -999,9,     -999,9,     -999,9,     -999,9,   1.0273,2,  27.7978,2,   1.5156,2