BOTTLE,20230808CCHSIOADS
EXPOCODE,SECT_ID,STNNBR,CASTNO,SAMPNO,BTLNBR,BTLNBR_FLAG_W,DATE,TIME,BTL_TIME,LATITUDE,LONGITUDE,DEPTH,CTDPRS,CTDTMP,CTDSAL,CTDSAL_FLAG_W,CTDOXY,CTDOXY_FLAG_W,SALNTY,SALNTY_FLAG_W,OXYGEN,OXYGEN_FLAG_W,SILCAT,SILCAT_FLAG_W,NO2+NO3,NO2+NO3_FLAG_W,NITRIT,NITRIT_FLAG_W,PHSPHT,PHSPHT_FLAG_W,CFC-11,CFC-11_FLAG_W,CFC-12,CFC-12_FLAG_W,TCARBN,TCARBN_FLAG_W,ALKALI,ALKALI_FLAG_W,PH_TOT,PH_TOT_FLAG_W,PH_TMP,CFC113,CFC113_FLAG_W,SF6,SF6_FLAG_W,CHLORA,CHLORA_FLAG_W,PPHYTN,PPHYTN_FLAG_W,THETA,THETA_FLAG_W,SIG0,SIG0_FLAG_W,SBE35,SBE35_FLAG_W
,,,,,,,,,,,,METERS,DBAR,ITS-90,PSS-78,,UMOL/KG,,PSS78,,UMOL/KG,,UMOL/KG,,UMOL/KG,,UMOL/KG,,UMOL/KG,,PMOL/KG,,PMOL/KG,,UMOL/KG,,UMOL/KG,,,,DEG C,PMOL/KG,,FMOL/KG,,UG/KG,,UG/KG,,ITS-90,,KG/M^3,,ITS-90,
49UP20210827_1,   P03,    65,  1,      0,     BUC,2,20210908,0115, 305, 24.2543, 160.7963, 4932,      0.0,   30.1095,  35.1513,2,    193.8,2,     -999,9,   194.79,2,     1.18,2,     0.00,2,     0.00,2,    0.020,2,     -999,9,     -999,9,     -999,9,     -999,9,     -999,9,     -999,     -999,9,     -999,9,     -999,9,     -999,9,  30.1088,2,  21.8024,2,     -999,9
49UP20210827_1,   P03,    65,  1,     36,     757,2,20210908,0115, 335, 24.2543, 160.7963, 4932,      9.3,   29.7836,  35.1546,2,    194.7,2,     -999,9,   195.20,2,     1.18,2,     0.00,2,     0.00,2,    0.000,2,     -999,9,     -999,9,     -999,9,     -999,9,     -999,9,     -999,     -999,9,     -999,9,     -999,9,     -999,9,  29.7813,2,  21.9166,2,  29.8069,2
49UP20210827_1,   P03,    65,  1,     35,     756,2,20210908,0115, 334, 24.2543, 160.7963, 4932,     24.1,   29.6826,  35.1542,2,    194.5,2,     -999,9,   195.35,2,     1.11,2,     0.00,2,     0.00,2,    0.000,2,     -999,9,     -999,9,     -999,9,     -999,9,     -999,9,     -999,     -999,9,     -999,9,     -999,9,     -999,9,  29.6766,2,  21.9519,2,  29.6821,2
49UP20210827_1,   P03,    65,  1,     34,     843,2,20210908,0115, 331, 24.2543, 160.7963, 4932,     49.2,   26.4100,  35.1884,2,    221.6,2,     -999,9,   221.48,2,     1.19,2,     0.00,2,     0.00,2,    0.000,2,     -999,9,     -999,9,     -999,9,     -999,9,     -999,9,     -999,     -999,9,     -999,9,     -999,9,     -999,9,  26.3989,2,  23.0504,2,  26.4008,2
49UP20210827_1,   P03,    65,  1,     33,     842,2,20210908,0115, 329, 24.2543, 160.7963, 4932,     75.3,   24.7649,  35.1736,2,    224.4,2,     -999,9,   224.69,2,     1.46,2,     0.04,2,     0.00,2,    0.010,2,     -999,9,     -999,9,     -999,9,     -999,9,     -999,9,     -999,     -999,9,     -999,9,     -999,9,     -999,9,  24.7487,2,  23.5487,2,  24.7585,2
49UP20210827_1,   P03,    65,  1,     32,     841,2,20210908,0115, 327, 24.2543, 160.7963, 4932,    100.1,   22.4578,  35.0682,2,    221.6,2,     -999,9,   221.83,2,     1.77,2,     0.01,2,     0.00,2,    0.010,2,     -999,9,     -999,9,     -999,9,     -999,9,     -999,9,     -999,     -999,9,     -999,9,     -999,9,     -999,9,  22.4377,2,  24.1462,2,  22.4589,2
49UP20210827_1,   P03,    65,  1,     31,     840,2,20210908,0115, 325, 24.2543, 160.7963, 4932,    124.5,   20.6650,  34.9766,2,    196.1,2,     -999,9,   196.58,6,     2.39,6,     0.71,6,     0.04,6,    0.100,6,     -999,9,     -999,9,     -999,9,     -999,9,     -999,9,     -999,     -999,9,     -999,9,     -999,9,     -999,9,  20.6415,2,  24.5730,2,  20.6668,2
49UP20210827_1,   P03,    65,  1,     30,     839,2,20210908,0115, 324, 24.2543, 160.7963, 4932,    151.3,   19.0092,  34.8583,2,    196.2,2,     -999,9,   196.27,2,     3.08,2,     1.47,2,     0.12,2,    0.150,2,     -999,9,     -999,9,     -999,9,     -999,9,     -999,9,     -999,     -999,9,     -999,9,     -999,9,     -999,9,  18.9823,2,  24.9174,2,  19.0124,2
49UP20210827_1,   P03,    65,  1,     29,     838,2,20210908,0115, 321, 24.2543, 160.7963, 4932,    201.9,   17.2953,  34.7444,2,    198.1,2,     -999,9,   198.25,2,     4.55,2,     4.95,2,     0.00,2,    0.340,2,     -999,9,     -999,9,     -999,9,     -999,9,     -999,9,     -999,     -999,9,     -999,9,     -999,9,     -999,9,  17.2616,2,  25.2556,2,  17.2944,2
49UP20210827_1,   P03,    65,  1,     28,     755,2,20210908,0115, 319, 24.2543, 160.7963, 4932,    252.7,   16.0204,  34.6467,2,    199.7,2,     -999,9,   199.51,2,     6.37,2,     6.76,2,     0.00,2,    0.460,2,     -999,9,     -999,9,     -999,9,     -999,9,     -999,9,     -999,     -999,9,     -999,9,     -999,9,     -999,9,  15.9804,2,  25.4803,2,  16.0160,2
49UP20210827_1,   P03,    65,  1,     27,     754,2,20210908,0115, 316, 24.2543, 160.7963, 4932,    287.5,   15.2055,  34.5828,2,    201.4,2,     -999,9,   201.83,2,     7.87,2,     7.83,2,     0.00,2,    0.530,2,     -999,9,     -999,9,     -999,9,     -999,9,     -999,9,     -999,     -999,9,     -999,9,     -999,9,     -999,9,  15.1616,2,  25.6147,2,  15.2086,2
49UP20210827_1,   P03,    65,  1,     26,     835,2,20210908,0115, 313, 24.2543, 160.7963, 4932,    375.0,   12.7626,  34.3669,2,    200.7,2,     -999,9,   201.09,2,    13.17,2,    11.77,2,     0.00,2,    0.820,2,     -999,9,     -999,9,     -999,9,     -999,9,     -999,9,     -999,     -999,9,     -999,9,     -999,9,     -999,9,  12.7116,2,  25.9596,2,  12.7627,2
49UP20210827_1,   P03,    65,  1,     25,     834,2,20210908,0115, 309, 24.2543, 160.7963, 4932,    475.8,    9.9672,  34.1671,2,    183.3,2,     -999,9,   183.99,2,    25.23,2,    18.49,2,     0.00,2,    1.300,2,     -999,9,     -999,9,     -999,9,     -999,9,     -999,9,     -999,     -999,9,     -999,9,     -999,9,     -999,9,   9.9118,2,  26.3165,2,   9.9661,2
49UP20210827_1,   P03,    65,  1,     24,     753,2,20210908,0115, 306, 24.2543, 160.7963, 4932,    578.3,    7.3596,  34.0652,2,    135.1,2,     -999,9,   135.16,2,    48.32,2,    27.87,2,     0.00,2,    1.980,2,     -999,9,     -999,9,     -999,9,     -999,9,     -999,9,     -999,     -999,9,     -999,9,     -999,9,     -999,9,   7.3032,2,  26.6403,2,   7.3608,2
49UP20210827_1,   P03,    65,  1,     23,     832,2,20210908,0115, 302, 24.2543, 160.7963, 4932,    676.8,    5.5033,  34.1204,2,     76.6,2,     -999,9,    77.22,2,    77.38,2,    36.34,2,     0.00,2,    2.620,2,     -999,9,     -999,9,     -999,9,     -999,9,     -999,9,     -999,     -999,9,     -999,9,     -999,9,     -999,9,   5.4463,2,  26.9256,2,   5.5033,2
49UP20210827_1,   P03,    65,  1,     22,     831,2,20210908,0115, 258, 24.2543, 160.7963, 4932,    780.0,    4.6690,  34.2304,2,     49.1,2,     -999,9,    49.05,6,    96.76,6,    40.13,6,     0.00,6,    2.890,6,     -999,9,     -999,9,     -999,9,     -999,9,     -999,9,     -999,     -999,9,     -999,9,     -999,9,     -999,9,   4.6076,2,  27.1092,2,   4.6691,2
49UP20210827_1,   P03,    65,  1,     21,     830,2,20210908,0115, 254, 24.2543, 160.7963, 4932,    877.7,    4.2117,  34.3269,2,     43.2,2,     -999,9,    43.25,2,   108.10,2,    41.39,2,     0.00,2,    2.970,2,     -999,9,     -999,9,     -999,9,     -999,9,     -999,9,     -999,     -999,9,     -999,9,     -999,9,     -999,9,   4.1449,2,  27.2356,2,   4.2123,2
49UP20210827_1,   P03,    65,  1,     20,     829,2,20210908,0115, 250, 24.2543, 160.7963, 4932,    979.7,    3.8758,  34.3996,2,     47.0,2,     -999,9,    47.04,2,   115.85,2,    41.60,2,     0.00,2,    2.980,2,     -999,9,     -999,9,     -999,9,     -999,9,     -999,9,     -999,     -999,9,     -999,9,     -999,9,     -999,9,   3.8029,2,  27.3286,2,   3.8760,2
49UP20210827_1,   P03,    65,  1,     19,     828,2,20210908,0115, 246, 24.2543, 160.7963, 4932,   1145.1,    3.3708,  34.4768,2,     57.8,2,     -999,9,    57.85,2,   126.60,2,    41.32,2,     0.00,2,    2.950,2,     -999,9,     -999,9,     -999,9,     -999,9,     -999,9,     -999,     -999,9,     -999,9,     -999,9,     -999,9,   3.2885,2,  27.4405,2,   3.3722,2
49UP20210827_1,   P03,    65,  1,     18,     752,2,20210908,0115, 240, 24.2543, 160.7963, 4932,   1347.6,    2.8776,  34.5262,2,     69.6,2,     -999,9,    69.36,2,   137.13,2,    40.87,2,     0.00,2,    2.900,2,     -999,9,     -999,9,     -999,9,     -999,9,     -999,9,     -999,     -999,9,     -999,9,     -999,9,     -999,9,   2.7836,2,  27.5264,2,   2.8784,2
49UP20210827_1,   P03,    65,  1,     17,     751,2,20210908,0115, 235, 24.2543, 160.7963, 4932,   1549.3,    2.4688,  34.5630,2,     81.8,2,     -999,9,    81.79,2,   144.89,2,    40.31,2,     0.00,2,    2.850,2,     -999,9,     -999,9,     -999,9,     -999,9,     -999,9,     -999,     -999,9,     -999,9,     -999,9,     -999,9,   2.3632,2,  27.5921,2,   2.4687,2
49UP20210827_1,   P03,    65,  1,     16,     328,2,20210908,0115, 229, 24.2543, 160.7963, 4932,   1751.4,    2.1859,  34.5917,2,     92.5,2,     -999,9,    92.30,2,   149.72,2,    39.80,2,     0.00,2,    2.800,2,     -999,9,     -999,9,     -999,9,     -999,9,     -999,9,     -999,     -999,9,     -999,9,     -999,9,     -999,9,   2.0674,2,  27.6392,2,   2.1855,2
49UP20210827_1,   P03,    65,  1,     15,     822,2,20210908,0115, 224, 24.2543, 160.7963, 4932,   1955.0,    2.0058,  34.6125,2,    101.5,2,     -999,9,   101.40,2,   151.34,2,    39.34,2,     0.00,2,    2.760,2,     -999,9,     -999,9,     -999,9,     -999,9,     -999,9,     -999,     -999,9,     -999,9,     -999,9,     -999,9,   1.8731,2,  27.6711,2,   2.0058,2
49UP20210827_1,   P03,    65,  1,     14,     326,2,20210908,0115, 219, 24.2543, 160.7963, 4932,   2157.6,    1.8836,  34.6267,2,    108.6,2,     -999,9,   108.41,2,   152.81,2,    38.93,2,     0.00,2,    2.730,2,     -999,9,     -999,9,     -999,9,     -999,9,     -999,9,     -999,     -999,9,     -999,9,     -999,9,     -999,9,   1.7357,2,  27.6931,2,   1.8836,2
49UP20210827_1,   P03,    65,  1,     13,     325,2,20210908,0115, 214, 24.2543, 160.7963, 4932,   2354.9,    1.7815,  34.6395,2,    115.7,2,     -999,9,   115.32,6,   153.14,6,    38.45,6,     0.00,6,    2.690,6,     -999,9,     -999,9,     -999,9,     -999,9,     -999,9,     -999,     -999,9,     -999,9,     -999,9,     -999,9,   1.6182,2,  27.7122,2,   1.7813,2
49UP20210827_1,   P03,    65,  1,     12,     324,2,20210908,0115, 209, 24.2543, 160.7963, 4932,   2562.2,    1.6814,  34.6507,2,    123.1,2,     -999,9,   123.06,2,   153.82,2,    38.02,2,     0.00,2,    2.650,2,     -999,9,     -999,9,     -999,9,     -999,9,     -999,9,     -999,     -999,9,     -999,9,     -999,9,     -999,9,   1.5015,2,  27.7297,2,   1.6814,2
49UP20210827_1,   P03,    65,  1,     11,     323,2,20210908,0115, 204, 24.2543, 160.7963, 4932,   2765.2,    1.6356,  34.6566,2,    127.4,2,     -999,9,   127.35,2,   153.84,2,    37.82,2,     0.00,2,    2.630,2,     -999,9,     -999,9,     -999,9,     -999,9,     -999,9,     -999,     -999,9,     -999,9,     -999,9,     -999,9,   1.4381,2,  27.7391,2,   1.6354,2
49UP20210827_1,   P03,    65,  1,     10,     322,2,20210908,0115, 200, 24.2543, 160.7963, 4932,   2968.9,    1.5977,  34.6622,2,    132.0,2,     -999,9,   132.10,2,   153.48,2,    37.56,2,     0.00,2,    2.610,2,     -999,9,     -999,9,     -999,9,     -999,9,     -999,9,     -999,     -999,9,     -999,9,     -999,9,     -999,9,   1.3818,2,  27.7476,2,   1.5976,2
49UP20210827_1,   P03,    65,  1,      9,     750,2,20210908,0115, 154, 24.2543, 160.7963, 4932,   3214.8,    1.5492,  34.6686,2,    137.9,2,     -999,9,   137.80,2,   152.94,2,    37.18,2,     0.00,2,    2.580,2,     -999,9,     -999,9,     -999,9,     -999,9,     -999,9,     -999,     -999,9,     -999,9,     -999,9,     -999,9,   1.3106,2,  27.7578,2,   1.5490,2
49UP20210827_1,   P03,    65,  1,      8,     320,2,20210908,0115, 149, 24.2543, 160.7963, 4932,   3467.4,    1.5210,  34.6732,2,    142.8,2,     -999,9,   142.90,2,   151.47,2,    36.84,2,     0.00,2,    2.550,2,     -999,9,     -999,9,     -999,9,     -999,9,     -999,9,     -999,     -999,9,     -999,9,     -999,9,     -999,9,   1.2577,2,  27.7652,2,   1.5208,2
49UP20210827_1,   P03,    65,  1,      7,     319,2,20210908,0115, 144, 24.2543, 160.7963, 4932,   3725.6,    1.4901,  34.6782,2,    148.2,2,     -999,9,   148.41,2,   149.88,2,    36.51,2,     0.00,2,    2.520,2,     -999,9,     -999,9,     -999,9,     -999,9,     -999,9,     -999,     -999,9,     -999,9,     -999,9,     -999,9,   1.2009,2,  27.7732,2,   1.4901,2
49UP20210827_1,   P03,    65,  1,      6,     318,2,20210908,0115, 138, 24.2543, 160.7963, 4932,   3982.6,    1.4762,  34.6819,2,    152.7,2,     -999,9,   152.98,2,   148.23,2,    36.15,2,     0.00,2,    2.500,2,     -999,9,     -999,9,     -999,9,     -999,9,     -999,9,     -999,     -999,9,     -999,9,     -999,9,     -999,9,   1.1599,2,  27.7789,2,   1.4761,2
49UP20210827_1,   P03,    65,  1,      5,     317,3,20210908,0115, 132, 24.2543, 160.7963, 4932,   4237.1,    1.4668,  34.6852,2,    157.3,2,     -999,9,   157.51,2,   146.16,2,    35.84,2,     0.00,2,    2.470,2,     -999,9,     -999,9,     -999,9,     -999,9,     -999,9,     -999,     -999,9,     -999,9,     -999,9,     -999,9,   1.1227,2,  27.7841,2,   1.4667,2
49UP20210827_1,   P03,    65,  1,      4,     316,2,20210908,0115, 127, 24.2543, 160.7963, 4932,   4492.4,    1.4692,  34.6875,2,    160.6,2,     -999,9,   161.00,6,   144.75,6,    35.63,6,     0.00,6,    2.460,6,     -999,9,     -999,9,     -999,9,     -999,9,     -999,9,     -999,     -999,9,     -999,9,     -999,9,     -999,9,   1.0960,2,  27.7878,2,   1.4690,2
49UP20210827_1,   P03,    65,  1,      3,     315,2,20210908,0115, 121, 24.2543, 160.7963, 4932,   4748.6,    1.4753,  34.6897,2,    164.2,2,     -999,9,   164.62,2,   142.81,2,    35.41,2,     0.00,2,    2.440,2,     -999,9,     -999,9,     -999,9,     -999,9,     -999,9,     -999,     -999,9,     -999,9,     -999,9,     -999,9,   1.0720,2,  27.7912,2,   1.4751,2
49UP20210827_1,   P03,    65,  1,      2,     314,2,20210908,0115, 115, 24.2543, 160.7963, 4932,   5005.4,    1.4858,  34.6918,2,    167.5,2,     -999,9,   167.46,2,   140.23,2,    35.15,2,     0.00,2,    2.420,2,     -999,9,     -999,9,     -999,9,     -999,9,     -999,9,     -999,     -999,9,     -999,9,     -999,9,     -999,9,   1.0514,2,  27.7942,2,   1.4857,2
49UP20210827_1,   P03,    65,  1,      1,     811,2,20210908,0115, 115, 24.2543, 160.7963, 4932,   5005.9,    1.4861,  34.6917,2,    167.6,2,     -999,9,   167.62,2,   140.46,2,    35.14,2,     0.00,2,    2.420,2,     -999,9,     -999,9,     -999,9,     -999,9,     -999,9,     -999,     -999,9,     -999,9,     -999,9,     -999,9,   1.0516,2,  27.7942,2,   1.4859,2