BOTTLE,20230808CCHSIOADS
EXPOCODE,SECT_ID,STNNBR,CASTNO,SAMPNO,BTLNBR,BTLNBR_FLAG_W,DATE,TIME,BTL_TIME,LATITUDE,LONGITUDE,DEPTH,CTDPRS,CTDTMP,CTDSAL,CTDSAL_FLAG_W,CTDOXY,CTDOXY_FLAG_W,SALNTY,SALNTY_FLAG_W,OXYGEN,OXYGEN_FLAG_W,SILCAT,SILCAT_FLAG_W,NO2+NO3,NO2+NO3_FLAG_W,NITRIT,NITRIT_FLAG_W,PHSPHT,PHSPHT_FLAG_W,CFC-11,CFC-11_FLAG_W,CFC-12,CFC-12_FLAG_W,TCARBN,TCARBN_FLAG_W,ALKALI,ALKALI_FLAG_W,PH_TOT,PH_TOT_FLAG_W,PH_TMP,CFC113,CFC113_FLAG_W,SF6,SF6_FLAG_W,CHLORA,CHLORA_FLAG_W,PPHYTN,PPHYTN_FLAG_W,THETA,THETA_FLAG_W,SIG0,SIG0_FLAG_W,SBE35,SBE35_FLAG_W
,,,,,,,,,,,,METERS,DBAR,ITS-90,PSS-78,,UMOL/KG,,PSS78,,UMOL/KG,,UMOL/KG,,UMOL/KG,,UMOL/KG,,UMOL/KG,,PMOL/KG,,PMOL/KG,,UMOL/KG,,UMOL/KG,,,,DEG C,PMOL/KG,,FMOL/KG,,UG/KG,,UG/KG,,ITS-90,,KG/M^3,,ITS-90,
49UP20210920_1,   P03,    75,  1,      0,     BUC,2,20210929,2004,2213, 24.2657, 167.9880, 5948,      0.0,   28.7568,  35.1848,2,    198.3,2,  35.1860,2,   198.01,2,     1.13,2,     0.00,2,     0.00,2,    0.030,2,     -999,9,     -999,9,   1980.9,2,   2308.6,2,   8.0974,2,    25.00,     -999,9,     -999,9,     0.06,2,     0.01,2,  28.7562,2,  22.2842,2,     -999,9
49UP20210920_1,   P03,    75,  1,     36,     757,2,20210929,2004,2245, 24.2657, 167.9880, 5948,     10.9,   28.7531,  35.1847,2,    198.2,2,  35.1839,2,   198.00,2,     1.07,2,     0.00,2,     0.00,2,    0.000,2,     -999,9,     -999,9,   1984.3,2,   2311.7,2,   8.0972,2,    25.00,     -999,9,     -999,9,     0.06,2,     0.02,2,  28.7505,2,  22.2860,2,  28.7476,2
49UP20210920_1,   P03,    75,  1,     35,     756,2,20210929,2004,2241, 24.2657, 167.9880, 5948,     49.7,   25.8564,  35.3061,2,    224.8,2,  35.3060,2,   223.45,2,     1.38,2,     0.00,2,     0.00,2,    0.000,2,     -999,9,     -999,9,   1997.7,2,   2315.9,2,   8.0816,6,    25.00,     -999,9,     -999,9,     0.09,2,     0.03,2,  25.8453,2,  23.3125,2,  25.8521,2
49UP20210920_1,   P03,    75,  1,     34,     843,2,20210929,2004,2239, 24.2657, 167.9880, 5948,     99.9,   23.7269,  35.2586,2,    213.7,2,  35.2618,2,   213.35,2,     1.52,2,     0.00,2,     0.00,2,    0.020,2,     -999,9,     -999,9,   2015.4,6,   2314.0,6,   8.0466,2,    25.00,     -999,9,     -999,9,     0.15,2,     0.10,2,  23.7060,2,  23.9240,2,  23.7311,2
49UP20210920_1,   P03,    75,  1,     33,     842,2,20210929,2004,2236, 24.2657, 167.9880, 5948,    149.9,   20.8871,  35.0877,2,    208.9,2,  35.0908,6,   208.41,2,     2.11,2,     0.13,2,     0.12,2,    0.050,2,     -999,9,     -999,9,   2037.5,2,   2306.4,2,   7.9958,2,    25.00,     -999,9,     -999,9,     0.11,2,     0.29,2,  20.8585,2,  24.5991,2,  20.8971,2
49UP20210920_1,   P03,    75,  1,     32,     841,2,20210929,2004,2234, 24.2657, 167.9880, 5948,    203.6,   18.0213,  34.7810,2,    210.7,2,  34.7842,2,   210.31,6,     3.15,6,     2.02,6,     0.01,6,    0.180,6,     -999,9,     -999,9,   2045.3,2,   2284.1,2,   7.9509,2,    25.00,     -999,9,     -999,9,     0.02,2,     0.07,2,  17.9863,2,  25.1077,2,  18.0209,2
49UP20210920_1,   P03,    75,  1,     31,     840,2,20210929,2004,2232, 24.2657, 167.9880, 5948,    250.7,   16.8607,  34.7119,2,    205.7,2,  34.7109,2,   205.58,2,     4.76,2,     4.92,2,     0.00,2,    0.340,2,     -999,9,     -999,9,   2058.6,2,   2277.5,2,   7.9211,2,    25.00,     -999,9,     -999,9,     -999,9,     -999,9,  16.8196,2,  25.3358,2,  16.8603,2
49UP20210920_1,   P03,    75,  1,     30,     839,2,20210929,2004,2230, 24.2657, 167.9880, 5948,    283.2,   15.9019,  34.6345,2,    203.9,2,  34.6365,2,   203.54,2,     6.56,2,     6.58,2,     0.00,2,    0.450,2,     -999,9,     -999,9,   2065.7,2,   2277.4,2,   7.8988,2,    25.00,     -999,9,     -999,9,     -999,9,     -999,9,  15.8573,2,  25.4989,2,  15.8994,2
49UP20210920_1,   P03,    75,  1,     29,     838,2,20210929,2004,2227, 24.2657, 167.9880, 5948,    373.7,   13.1739,  34.3930,2,    204.8,2,  34.3937,2,   204.37,2,    11.68,2,    10.65,2,     0.00,2,    0.740,2,     -999,9,     -999,9,   2090.8,2,   2268.2,2,   7.8263,2,    25.00,     -999,9,     -999,9,     -999,9,     -999,9,  13.1220,2,  25.8981,2,  13.1750,2
49UP20210920_1,   P03,    75,  1,     28,     755,2,20210929,2004,2224, 24.2657, 167.9880, 5948,    475.5,   10.3584,  34.1791,2,    185.8,2,  34.1795,2,   185.84,2,    22.04,2,    17.29,2,     0.00,2,    1.220,2,     -999,9,     -999,9,   2132.0,2,   2265.3,2,   7.7204,2,    25.00,     -999,9,     -999,9,     -999,9,     -999,9,  10.3018,2,  26.2593,2,  10.3598,2
49UP20210920_1,   P03,    75,  1,     27,     754,2,20210929,2004,2221, 24.2657, 167.9880, 5948,    574.3,    7.8864,  34.0787,2,    141.2,2,  34.0792,2,   140.85,2,    42.85,2,    26.28,2,     0.00,2,    1.870,2,     -999,9,     -999,9,   2194.0,2,   2278.4,2,   7.5843,2,    25.00,     -999,9,     -999,9,     -999,9,     -999,9,   7.8281,2,  26.5756,2,   7.8777,2
49UP20210920_1,   P03,    75,  1,     26,     835,2,20210929,2004,2217, 24.2657, 167.9880, 5948,    676.0,    6.0958,  34.0798,2,     96.3,2,  34.0794,2,    96.09,2,    66.46,2,    33.65,2,     0.00,2,    2.420,2,     -999,9,     -999,9,   2254.3,2,   2298.5,2,   7.4708,2,    25.00,     -999,9,     -999,9,     -999,9,     -999,9,   6.0358,2,  26.8210,2,   6.0938,2
49UP20210920_1,   P03,    75,  1,     25,     834,2,20210929,2004,2214, 24.2657, 167.9880, 5948,    777.4,    5.0723,  34.1748,2,     59.5,2,  34.1739,2,    59.56,2,    86.98,2,    38.53,2,     0.00,2,    2.780,2,     -999,9,     -999,9,   2301.4,2,   2319.5,2,   7.4006,2,    25.00,     -999,9,     -999,9,     -999,9,     -999,9,   5.0088,2,  27.0200,2,   5.0724,2
49UP20210920_1,   P03,    75,  1,     24,     753,2,20210929,2004,2211, 24.2657, 167.9880, 5948,    878.5,    4.4887,  34.2573,2,     44.3,2,  34.2563,6,    44.06,2,   101.12,2,    40.78,2,     0.00,2,    2.940,2,     -999,9,     -999,9,   2325.4,2,   2336.3,2,   7.3771,2,    25.00,     -999,9,     -999,9,     -999,9,     -999,9,   4.4201,2,  27.1510,2,   4.4888,2
49UP20210920_1,   P03,    75,  1,     23,     832,2,20210929,2004,2207, 24.2657, 167.9880, 5948,    978.2,    4.0311,  34.3547,2,     40.8,2,  34.3541,2,    40.97,6,   112.53,6,    41.74,6,     0.00,6,    3.000,6,     -999,9,     -999,9,   2339.3,2,   2351.6,2,   7.3788,2,    25.00,     -999,9,     -999,9,     -999,9,     -999,9,   3.9573,2,  27.2773,2,   4.0310,2
49UP20210920_1,   P03,    75,  1,     22,     831,2,20210929,2004,2203, 24.2657, 167.9880, 5948,   1141.1,    3.5119,  34.4587,2,     52.2,2,  34.4587,2,    52.16,2,   124.21,2,    41.51,2,     0.00,2,    2.970,2,     -999,9,     -999,9,   2347.2,2,   2368.9,2,   7.4068,2,    25.00,     -999,9,     -999,9,     -999,9,     -999,9,   3.4287,2,  27.4127,2,   3.5113,2
49UP20210920_1,   P03,    75,  1,     21,     830,2,20210929,2004,2158, 24.2657, 167.9880, 5948,   1343.2,    3.0087,  34.5208,2,     66.6,2,  34.5205,2,    66.38,2,   134.18,2,    40.96,2,     0.00,2,    2.920,2,     -999,9,     -999,9,   2352.4,2,   2379.5,2,   7.4347,2,    25.00,     -999,9,     -999,9,     -999,9,     -999,9,   2.9138,2,  27.5104,2,   3.0088,2
49UP20210920_1,   P03,    75,  1,     20,     829,2,20210929,2004,2153, 24.2657, 167.9880, 5948,   1545.6,    2.6010,  34.5557,2,     76.6,2,  34.5548,2,    76.53,2,   142.37,2,    40.53,2,     0.00,2,    2.880,2,     -999,9,     -999,9,   2354.7,2,   2397.4,2,   7.4505,2,    25.00,     -999,9,     -999,9,     -999,9,     -999,9,   2.4942,2,  27.5751,2,   2.6011,2
49UP20210920_1,   P03,    75,  1,     19,     828,2,20210929,2004,2147, 24.2657, 167.9880, 5948,   1748.3,    2.2527,  34.5867,2,     87.3,2,  34.5869,2,    87.53,2,   148.79,2,    40.10,2,     0.00,2,    2.830,2,     -999,9,     -999,9,   2357.2,2,   2406.9,2,   7.4682,2,    25.00,     -999,9,     -999,9,     -999,9,     -999,9,   2.1336,2,  27.6299,2,   2.2527,2
49UP20210920_1,   P03,    75,  1,     18,     752,2,20210929,2004,2142, 24.2657, 167.9880, 5948,   1950.8,    2.0285,  34.6089,2,     97.5,2,  34.6088,2,    97.47,2,   152.11,2,    39.54,2,     0.00,2,    2.780,2,     -999,9,     -999,9,   2354.7,2,   2411.9,2,   7.4939,2,    25.00,     -999,9,     -999,9,     -999,9,     -999,9,   1.8959,2,  27.6665,2,   2.0285,2
49UP20210920_1,   P03,    75,  1,     17,     751,2,20210929,2004,2137, 24.2657, 167.9880, 5948,   2155.8,    1.9061,  34.6268,2,    106.4,2,  34.6268,2,   106.49,2,   152.79,2,    39.03,2,     0.00,2,    2.740,2,     -999,9,     -999,9,   2349.6,2,   2414.2,2,   7.5055,6,    25.00,     -999,9,     -999,9,     -999,9,     -999,9,   1.7580,2,  27.6915,2,   1.9061,2
49UP20210920_1,   P03,    75,  1,     16,     328,2,20210929,2004,2132, 24.2657, 167.9880, 5948,   2358.8,    1.7930,  34.6397,2,    113.9,2,  34.6401,2,   113.91,2,   153.79,2,    38.66,2,     0.00,2,    2.700,2,     -999,9,     -999,9,   2349.6,6,   2414.2,6,   7.5209,2,    25.00,     -999,9,     -999,9,     -999,9,     -999,9,   1.6292,2,  27.7115,2,   1.7928,2
49UP20210920_1,   P03,    75,  1,     15,     822,2,20210929,2004,2127, 24.2657, 167.9880, 5948,   2561.6,    1.7115,  34.6499,2,    120.8,2,  34.6498,6,   120.77,2,   154.23,2,    38.16,2,     0.00,2,    2.660,2,     -999,9,     -999,9,   2346.0,2,   2414.5,2,   7.5318,2,    25.00,     -999,9,     -999,9,     -999,9,     -999,9,   1.5311,2,  27.7270,2,   1.7115,2
49UP20210920_1,   P03,    75,  1,     14,     326,2,20210929,2004,2122, 24.2657, 167.9880, 5948,   2766.6,    1.6666,  34.6562,2,    125.3,2,  34.6551,4,   124.86,6,   153.92,6,    37.91,6,     0.00,6,    2.650,6,     -999,9,     -999,9,   2344.2,2,   2416.7,2,   7.5398,2,    25.00,     -999,9,     -999,9,     -999,9,     -999,9,   1.4682,2,  27.7366,2,   1.6666,2
49UP20210920_1,   P03,    75,  1,     13,     325,2,20210929,2004,2117, 24.2657, 167.9880, 5948,   2969.3,    1.6089,  34.6634,2,    131.5,2,  34.6639,2,   131.68,2,   153.46,2,    37.40,2,     0.00,2,    2.610,2,     -999,9,     -999,9,   2342.9,2,   2416.5,2,   7.5505,2,    25.00,     -999,9,     -999,9,     -999,9,     -999,9,   1.3927,2,  27.7478,2,   1.6088,2
49UP20210920_1,   P03,    75,  1,     12,     324,2,20210929,2004,2111, 24.2657, 167.9880, 5948,   3215.0,    1.5657,  34.6691,2,    136.9,2,  34.6686,2,   137.10,2,   152.73,2,    37.05,2,     0.00,2,    2.580,2,     -999,9,     -999,9,   2335.8,2,   2416.6,2,   7.5613,2,    25.00,     -999,9,     -999,9,     -999,9,     -999,9,   1.3266,2,  27.7570,2,   1.5657,2
49UP20210920_1,   P03,    75,  1,     11,     323,2,20210929,2004,2105, 24.2657, 167.9880, 5948,   3468.2,    1.5344,  34.6737,2,    141.8,2,  34.6739,2,   141.55,2,   151.81,2,    36.73,2,     0.00,2,    2.560,2,     -999,9,     -999,9,   2334.3,2,   2418.2,2,   7.5680,6,    25.00,     -999,9,     -999,9,     -999,9,     -999,9,   1.2707,2,  27.7647,2,   1.5345,2
49UP20210920_1,   P03,    75,  1,     10,     322,2,20210929,2004,2059, 24.2657, 167.9880, 5948,   3725.9,    1.5139,  34.6776,2,    146.5,2,  34.6774,2,   146.12,2,   150.32,2,    36.42,2,     0.00,2,    2.530,2,     -999,9,     -999,9,   2332.6,6,   2417.7,6,   7.5709,2,    25.00,     -999,9,     -999,9,     -999,9,     -999,9,   1.2240,2,  27.7711,2,   1.5139,2
49UP20210920_1,   P03,    75,  1,      9,     750,2,20210929,2004,2053, 24.2657, 167.9880, 5948,   3981.2,    1.4997,  34.6807,2,    150.9,2,  34.6808,2,   150.69,2,   148.84,2,    36.11,2,     0.00,2,    2.510,2,     -999,9,     -999,9,   2328.1,2,   2413.4,2,   7.5798,2,    25.00,     -999,9,     -999,9,     -999,9,     -999,9,   1.1829,2,  27.7764,2,   1.4997,2
49UP20210920_1,   P03,    75,  1,      8,     320,2,20210929,2004,2047, 24.2657, 167.9880, 5948,   4237.6,    1.4822,  34.6844,2,    156.2,2,  34.6841,2,   156.27,2,   146.19,2,    35.77,2,     0.00,2,    2.480,2,     -999,9,     -999,9,   2322.8,2,   2415.6,2,   7.5859,2,    25.00,     -999,9,     -999,9,     -999,9,     -999,9,   1.1376,2,  27.7825,2,   1.4821,2
49UP20210920_1,   P03,    75,  1,      7,     319,2,20210929,2004,2042, 24.2657, 167.9880, 5948,   4495.1,    1.4760,  34.6872,2,    160.6,2,  34.6872,2,   160.45,2,   144.09,2,    35.51,2,     0.00,2,    2.460,2,     -999,9,     -999,9,   2316.9,2,   2410.4,2,   7.5929,2,    25.00,     -999,9,     -999,9,     -999,9,     -999,9,   1.1023,2,  27.7871,2,   1.4760,2
49UP20210920_1,   P03,    75,  1,      6,     318,2,20210929,2004,2036, 24.2657, 167.9880, 5948,   4751.7,    1.4656,  34.6905,2,    166.0,2,  34.6905,6,   165.40,2,   141.14,2,    35.10,2,     0.00,2,    2.420,2,     -999,9,     -999,9,   2314.8,2,   2402.0,3,   7.6034,4,    25.00,     -999,9,     -999,9,     -999,9,     -999,9,   1.0623,2,  27.7925,2,   1.4657,2
49UP20210920_1,   P03,    75,  1,      5,     317,2,20210929,2004,2030, 24.2657, 167.9880, 5948,   5008.5,    1.4617,  34.6932,2,    170.8,2,  34.6940,4,   170.44,6,   138.38,6,    34.78,6,     0.00,6,    2.400,6,     -999,9,     -999,9,   2309.5,2,   2402.8,2,   7.5997,2,    25.00,     -999,9,     -999,9,     -999,9,     -999,9,   1.0277,2,  27.7970,2,   1.4618,2
49UP20210920_1,   P03,    75,  1,      4,     316,2,20210929,2004,2024, 24.2657, 167.9880, 5948,   5265.7,    1.4666,  34.6952,2,    174.5,2,  34.6951,2,   174.02,2,   136.08,2,    34.52,2,     0.00,2,    2.380,2,     -999,9,     -999,9,   2303.1,2,   2398.6,2,   7.6082,2,    25.00,     -999,9,     -999,9,     -999,9,     -999,9,   1.0007,2,  27.8004,2,   1.4667,2
49UP20210920_1,   P03,    75,  1,      3,     315,2,20210929,2004,2018, 24.2657, 167.9880, 5948,   5524.5,    1.4773,  34.6969,2,    177.3,2,  34.6974,2,   177.47,2,   134.31,2,    34.33,2,     0.00,2,    2.370,2,     -999,9,     -999,9,   2300.5,2,   2396.2,2,   7.6086,2,    25.00,     -999,9,     -999,9,     -999,9,     -999,9,   0.9783,2,  27.8032,2,   1.4773,2
49UP20210920_1,   P03,    75,  1,      2,     314,2,20210929,2004,2012, 24.2657, 167.9880, 5948,   5782.8,    1.4963,  34.6979,2,    179.3,2,  34.6977,2,   178.99,2,   133.05,2,    34.16,2,     0.00,2,    2.350,2,     -999,9,     -999,9,   2297.4,2,   2394.5,2,   7.6111,2,    25.00,     -999,9,     -999,9,     -999,9,     -999,9,   0.9632,2,  27.8050,2,   1.4964,2
49UP20210920_1,   P03,    75,  1,      1,     811,2,20210929,2004,2005, 24.2657, 167.9880, 5948,   6125.9,    1.5366,  34.6983,2,    180.3,2,  34.6987,2,   180.24,2,   132.58,2,    34.09,2,     0.00,2,    2.350,2,     -999,9,     -999,9,   2297.4,2,   2396.7,2,   7.6122,2,    25.00,     -999,9,     -999,9,     -999,9,     -999,9,   0.9564,2,  27.8058,2,   1.5366,2