BOTTLE,20230808CCHSIOADS
EXPOCODE,SECT_ID,STNNBR,CASTNO,SAMPNO,BTLNBR,BTLNBR_FLAG_W,DATE,TIME,BTL_TIME,LATITUDE,LONGITUDE,DEPTH,CTDPRS,CTDTMP,CTDSAL,CTDSAL_FLAG_W,CTDOXY,CTDOXY_FLAG_W,SALNTY,SALNTY_FLAG_W,OXYGEN,OXYGEN_FLAG_W,SILCAT,SILCAT_FLAG_W,NO2+NO3,NO2+NO3_FLAG_W,NITRIT,NITRIT_FLAG_W,PHSPHT,PHSPHT_FLAG_W,CFC-11,CFC-11_FLAG_W,CFC-12,CFC-12_FLAG_W,TCARBN,TCARBN_FLAG_W,ALKALI,ALKALI_FLAG_W,PH_TOT,PH_TOT_FLAG_W,PH_TMP,CFC113,CFC113_FLAG_W,SF6,SF6_FLAG_W,CHLORA,CHLORA_FLAG_W,PPHYTN,PPHYTN_FLAG_W,THETA,THETA_FLAG_W,SIG0,SIG0_FLAG_W,SBE35,SBE35_FLAG_W
,,,,,,,,,,,,METERS,DBAR,ITS-90,PSS-78,,UMOL/KG,,PSS78,,UMOL/KG,,UMOL/KG,,UMOL/KG,,UMOL/KG,,UMOL/KG,,PMOL/KG,,PMOL/KG,,UMOL/KG,,UMOL/KG,,,,DEG C,PMOL/KG,,FMOL/KG,,UG/KG,,UG/KG,,ITS-90,,KG/M^3,,ITS-90,
49UP20210719_2,   P03,    23,  1,      0,     BUC,2,20210808,0205, 352, 24.2580, 134.9925, 5117,      0.0,   28.1460,  34.2503,2,    200.7,2,  34.2548,2,   199.95,2,     1.07,2,     0.00,2,     0.00,2,    0.010,2,     -999,9,     -999,9,   1942.2,2,   2247.2,2,   8.0816,2,    25.00,     -999,9,     -999,9,     0.06,2,     0.02,2,  28.1453,2,  21.7835,2,     -999,9
49UP20210719_2,   P03,    23,  1,     36,     757,3,20210808,0205, 429, 24.2580, 134.9925, 5117,     11.0,   28.1068,  34.2499,2,    200.6,2,  34.2501,2,   200.23,2,     0.99,2,     0.00,2,     0.00,2,    0.000,2,     -999,9,     -999,9,   1942.1,2,   2246.7,2,   8.0776,2,    25.00,     -999,9,     -999,9,     0.06,2,     0.02,2,  28.1042,2,  21.7967,2,  28.1058,2
49UP20210719_2,   P03,    23,  1,     35,     756,2,20210808,0205, 428, 24.2580, 134.9925, 5117,     24.5,   27.4732,  34.3447,2,    204.0,2,  34.3232,4,   202.87,2,     1.02,2,     0.00,2,     0.00,2,    0.000,2,     -999,9,     -999,9,   1951.4,2,   2252.4,2,   8.0786,2,    25.00,     -999,9,     -999,9,     0.08,2,     0.03,2,  27.4675,2,  22.0745,2,  27.4569,2
49UP20210719_2,   P03,    23,  1,     34,     843,3,20210808,0205, 426, 24.2580, 134.9925, 5117,     50.5,   22.5308,  34.8108,2,    230.2,2,  34.8089,2,   227.05,2,     1.30,2,     0.00,2,     0.00,2,    0.000,2,     -999,9,     -999,9,   1989.6,2,   2286.8,2,   8.0490,2,    25.00,     -999,9,     -999,9,     0.13,2,     0.06,2,  22.5207,2,  23.9272,2,  22.5298,2
49UP20210719_2,   P03,    23,  1,     33,     842,2,20210808,0205, 424, 24.2580, 134.9925, 5117,     77.5,   21.2679,  34.8261,2,    221.5,2,  34.8224,2,   219.64,2,     1.37,2,     0.00,2,     0.00,2,    0.010,2,     -999,9,     -999,9,   2002.5,2,   2284.1,2,   8.0288,2,    25.00,     -999,9,     -999,9,     0.21,2,     0.19,2,  21.2530,2,  24.2925,2,  21.2708,2
49UP20210719_2,   P03,    23,  1,     32,     841,2,20210808,0205, 421, 24.2580, 134.9925, 5117,    100.9,   20.7341,  34.8580,2,    197.4,2,  34.8571,2,   196.81,2,     1.93,2,     1.60,2,     0.06,2,    0.130,2,     -999,9,     -999,9,   2026.7,2,   2286.2,2,   7.9888,2,    25.00,     -999,9,     -999,9,     0.18,2,     0.40,2,  20.7150,2,  24.4629,2,  20.7327,2
49UP20210719_2,   P03,    23,  1,     31,     840,2,20210808,0205, 419, 24.2580, 134.9925, 5117,    126.5,   20.0905,  34.8436,2,    196.9,2,  34.8412,2,   196.82,2,     2.24,2,     2.35,2,     0.03,2,    0.170,2,     -999,9,     -999,9,   2030.1,2,   2286.1,2,   7.9800,2,    25.00,     -999,9,     -999,9,     0.11,2,     0.30,2,  20.0671,2,  24.6248,2,  20.0974,2
49UP20210719_2,   P03,    23,  1,     30,     839,2,20210808,0205, 417, 24.2580, 134.9925, 5117,    151.1,   19.5513,  34.8399,2,    193.2,2,  34.8399,6,   192.71,6,     2.67,6,     3.12,6,     0.02,6,    0.220,6,     -999,9,     -999,9,   2040.6,2,   2285.0,2,   7.9615,2,    25.00,     -999,9,     -999,9,     0.05,2,     0.09,2,  19.5239,2,  24.7641,2,  19.5522,2
49UP20210719_2,   P03,    23,  1,     29,     838,2,20210808,0205, 415, 24.2580, 134.9925, 5117,    205.7,   17.8852,  34.7840,2,    196.0,2,  34.7835,2,   195.54,2,     4.00,2,     4.79,2,     0.00,2,    0.330,2,     -999,9,     -999,9,   2053.0,2,   2283.5,2,   7.9360,2,    25.00,     -999,9,     -999,9,     0.00,2,     0.02,2,  17.8501,2,  25.1434,2,  17.8850,2
49UP20210719_2,   P03,    23,  1,     28,     755,2,20210808,0205, 412, 24.2580, 134.9925, 5117,    253.3,   16.9718,  34.7360,2,    195.7,2,  34.7354,2,   195.19,2,     5.46,2,     6.26,2,     0.00,2,    0.410,2,     -999,9,     -999,9,   2059.3,2,   2281.3,2,   7.9147,2,    25.00,     -999,9,     -999,9,     -999,9,     -999,9,  16.9300,2,  25.3282,2,  16.9706,2
49UP20210719_2,   P03,    23,  1,     27,     754,3,20210808,0205, 410, 24.2580, 134.9925, 5117,    282.3,   16.4119,  34.6929,2,    192.5,2,  34.6933,2,   192.10,2,     6.62,2,     7.26,2,     0.00,2,    0.480,2,     -999,9,     -999,9,   2067.0,2,   2279.8,2,   7.8963,2,    25.00,     -999,9,     -999,9,     -999,9,     -999,9,  16.3664,2,  25.4271,2,  16.4088,2
49UP20210719_2,   P03,    23,  1,     26,     835,2,20210808,0205, 407, 24.2580, 134.9925, 5117,    375.4,   13.9498,  34.4890,2,    183.4,2,  34.4916,2,   183.60,2,    13.12,2,    11.79,2,     0.00,2,    0.810,2,     -999,9,     -999,9,   2097.3,2,   2273.4,2,   7.8198,6,    25.00,     -999,9,     -999,9,     -999,9,     -999,9,  13.8956,2,  25.8140,2,  13.9534,2
49UP20210719_2,   P03,    23,  1,     25,     834,2,20210808,0205, 404, 24.2580, 134.9925, 5117,    474.8,   10.5598,  34.2426,2,    165.6,2,  34.2435,2,   165.40,2,    25.71,2,    19.05,2,     0.00,2,    1.360,2,     -999,9,     -999,9,   2146.5,6,   2270.2,6,   7.7036,2,    25.00,     -999,9,     -999,9,     -999,9,     -999,9,  10.5025,2,  26.2739,2,  10.5591,2
49UP20210719_2,   P03,    23,  1,     24,     753,2,20210808,0205, 401, 24.2580, 134.9925, 5117,    576.2,    8.3584,  34.1690,2,    132.2,2,  34.1692,2,   131.69,2,    44.39,2,    26.16,2,     0.00,2,    1.880,2,     -999,9,     -999,9,   2196.5,2,   2281.4,2,   7.5980,2,    25.00,     -999,9,     -999,9,     -999,9,     -999,9,   8.2979,2,  26.5765,2,   8.3584,2
49UP20210719_2,   P03,    23,  1,     23,     832,2,20210808,0205, 358, 24.2580, 134.9925, 5117,    676.3,    6.3442,  34.1587,2,     98.5,2,  34.1586,2,    98.29,2,    68.85,2,    32.81,2,     0.00,2,    2.360,2,     -999,9,     -999,9,   2251.3,2,   2302.1,2,   7.4947,2,    25.00,     -999,9,     -999,9,     -999,9,     -999,9,   6.2829,2,  26.8517,2,   6.3429,2
49UP20210719_2,   P03,    23,  1,     22,     831,2,20210808,0205, 355, 24.2580, 134.9925, 5117,    776.8,    5.2022,  34.2231,2,     77.4,2,  34.2231,2,    77.15,2,    89.87,2,    36.52,2,     0.00,2,    2.620,2,     -999,9,     -999,9,   2293.8,2,   2322.8,2,   7.4418,2,    25.00,     -999,9,     -999,9,     -999,9,     -999,9,   5.1379,2,  27.0434,2,   5.1956,2
49UP20210719_2,   P03,    23,  1,     21,     830,2,20210808,0205, 351, 24.2580, 134.9925, 5117,    876.9,    4.3609,  34.2822,2,     61.1,2,  34.2822,2,    60.75,6,   105.56,6,    39.21,6,     0.00,6,    2.800,6,     -999,9,     -999,9,   2316.3,2,   2342.3,2,   7.4078,2,    25.00,     -999,9,     -999,9,     -999,9,     -999,9,   4.2932,2,  27.1844,2,   4.3611,2
49UP20210719_2,   P03,    23,  1,     20,     829,2,20210808,0205, 348, 24.2580, 134.9925, 5117,    977.1,    3.8934,  34.3496,2,     59.8,2,  34.3494,2,    59.45,2,   117.19,2,    39.94,2,     0.00,2,    2.850,2,     -999,9,     -999,9,   2332.0,2,   2355.7,2,   7.4064,2,    25.00,     -999,9,     -999,9,     -999,9,     -999,9,   3.8207,2,  27.2871,2,   3.8936,2
49UP20210719_2,   P03,    23,  1,     19,     828,2,20210808,0205, 343, 24.2580, 134.9925, 5117,   1141.2,    3.2044,  34.4295,2,     59.4,2,  34.4289,2,    59.47,2,   131.92,2,    40.96,2,     0.00,2,    2.910,2,     -999,9,     -999,9,   2347.9,2,   2372.3,2,   7.4082,2,    25.00,     -999,9,     -999,9,     -999,9,     -999,9,   3.1240,2,  27.4183,2,   3.2043,2
49UP20210719_2,   P03,    23,  1,     18,     752,2,20210808,0205, 338, 24.2580, 134.9925, 5117,   1344.2,    2.7834,  34.4999,2,     72.9,2,  34.4994,2,    72.93,2,   138.84,2,    40.42,2,     0.00,2,    2.860,2,     -999,9,     -999,9,   2349.5,2,   2386.7,2,   7.4380,2,    25.00,     -999,9,     -999,9,     -999,9,     -999,9,   2.6908,2,  27.5135,2,   2.7825,2
49UP20210719_2,   P03,    23,  1,     17,     751,2,20210808,0205, 333, 24.2580, 134.9925, 5117,   1545.6,    2.4218,  34.5523,2,     88.8,2,  34.5519,2,    88.48,2,   142.93,2,    39.64,2,     0.00,2,    2.790,2,     -999,9,     -999,9,   2347.6,2,   2396.2,2,   7.4734,2,    25.00,     -999,9,     -999,9,     -999,9,     -999,9,   2.3171,2,  27.5873,2,   2.4215,2
49UP20210719_2,   P03,    23,  1,     16,     328,2,20210808,0205, 327, 24.2580, 134.9925, 5117,   1749.0,    2.1760,  34.5837,2,    100.6,2,  34.5834,6,   100.80,2,   144.74,2,    38.99,2,     0.00,2,    2.740,2,     -999,9,     -999,9,   2346.3,2,   2403.9,2,   7.4935,2,    25.00,     -999,9,     -999,9,     -999,9,     -999,9,   2.0579,2,  27.6336,2,   2.1760,2
49UP20210719_2,   P03,    23,  1,     15,     822,2,20210808,0205, 323, 24.2580, 134.9925, 5117,   1953.1,    1.9770,  34.6100,2,    112.6,2,  34.6089,2,   112.57,2,   145.09,2,    38.34,2,     0.00,2,    2.690,2,     -999,9,     -999,9,   2341.7,2,   2406.8,2,   7.5144,6,    25.00,     -999,9,     -999,9,     -999,9,     -999,9,   1.8449,2,  27.6714,2,   1.9768,2
49UP20210719_2,   P03,    23,  1,     14,     326,3,20210808,0205, 318, 24.2580, 134.9925, 5117,   2153.5,    1.8691,  34.6258,2,    120.8,2,  34.6237,4,   120.51,2,   144.79,2,    37.87,2,     0.00,2,    2.650,2,     -999,9,     -999,9,   2337.1,6,   2408.9,6,   7.5273,2,    25.00,     -999,9,     -999,9,     -999,9,     -999,9,   1.7218,2,  27.6934,2,   1.8693,2
49UP20210719_2,   P03,    23,  1,     13,     325,2,20210808,0205, 312, 24.2580, 134.9925, 5117,   2360.0,    1.7729,  34.6385,2,    127.4,2,  34.6376,2,   127.39,2,   145.13,2,    37.54,2,     0.00,2,    2.620,2,     -999,9,     -999,9,   2336.4,2,   2411.5,2,   7.5407,2,    25.00,     -999,9,     -999,9,     -999,9,     -999,9,   1.6093,2,  27.7120,2,   1.7729,2
49UP20210719_2,   P03,    23,  1,     12,     324,2,20210808,0205, 307, 24.2580, 134.9925, 5117,   2561.9,    1.7001,  34.6491,2,    133.4,2,  34.6496,2,   133.38,6,   144.80,6,    37.18,6,     0.00,6,    2.590,6,     -999,9,     -999,9,   2333.1,2,   2411.9,2,   7.5520,2,    25.00,     -999,9,     -999,9,     -999,9,     -999,9,   1.5199,2,  27.7271,2,   1.7003,2
49UP20210719_2,   P03,    23,  1,     11,     323,2,20210808,0205, 301, 24.2580, 134.9925, 5117,   2765.5,    1.6455,  34.6568,2,    138.1,2,  34.6566,2,   138.14,2,   144.62,2,    36.94,2,     0.00,2,    2.560,2,     -999,9,     -999,9,   2331.0,2,   2414.9,2,   7.5594,2,    25.00,     -999,9,     -999,9,     -999,9,     -999,9,   1.4478,2,  27.7386,2,   1.6458,2
49UP20210719_2,   P03,    23,  1,     10,     322,2,20210808,0205, 256, 24.2580, 134.9925, 5117,   2969.1,    1.6058,  34.6632,2,    142.2,2,  34.6621,2,   141.78,2,   144.30,2,    36.64,2,     0.00,2,    2.540,2,     -999,9,     -999,9,   2328.2,2,   2411.8,2,   7.5645,2,    25.00,     -999,9,     -999,9,     -999,9,     -999,9,   1.3897,2,  27.7478,2,   1.6059,2
49UP20210719_2,   P03,    23,  1,      9,     750,2,20210808,0205, 251, 24.2580, 134.9925, 5117,   3216.3,    1.5713,  34.6691,2,    146.3,2,  34.6687,2,   145.98,2,   143.90,2,    36.38,2,     0.00,2,    2.520,2,     -999,9,     -999,9,   2325.0,2,   2412.2,2,   7.5713,2,    25.00,     -999,9,     -999,9,     -999,9,     -999,9,   1.3320,2,  27.7567,2,   1.5715,2
49UP20210719_2,   P03,    23,  1,      8,     320,2,20210808,0205, 245, 24.2580, 134.9925, 5117,   3469.9,    1.5592,  34.6729,2,    149.0,2,  34.6728,2,   148.82,2,   143.54,2,    36.24,2,     0.00,2,    2.510,2,     -999,9,     -999,9,   2325.6,2,   2412.1,2,   7.5776,6,    25.00,     -999,9,     -999,9,     -999,9,     -999,9,   1.2947,2,  27.7624,2,   1.5594,2
49UP20210719_2,   P03,    23,  1,      7,     319,2,20210808,0205, 239, 24.2580, 134.9925, 5117,   3726.9,    1.5508,  34.6765,2,    151.6,2,  34.6763,2,   152.11,2,   143.10,2,    36.04,2,     0.00,2,    2.500,2,     -999,9,     -999,9,   2323.6,6,   2412.1,6,   7.5809,2,    25.00,     -999,9,     -999,9,     -999,9,     -999,9,   1.2598,2,  27.7677,2,   1.5509,2
49UP20210719_2,   P03,    23,  1,      6,     318,3,20210808,0205, 234, 24.2580, 134.9925, 5117,   3981.6,    1.5566,  34.6788,2,    153.4,2,  34.6776,4,   152.79,2,   142.54,2,    35.96,2,     0.00,2,    2.490,2,     -999,9,     -999,9,   2324.3,2,   2410.5,2,   7.5829,2,    25.00,     -999,9,     -999,9,     -999,9,     -999,9,   1.2381,2,  27.7710,2,   1.5568,2
49UP20210719_2,   P03,    23,  1,      5,     317,2,20210808,0205, 228, 24.2580, 134.9925, 5117,   4240.2,    1.5683,  34.6805,2,    155.0,2,  34.6806,2,   154.42,2,   142.69,2,    35.91,2,     0.00,2,    2.480,2,     -999,9,     -999,9,   2321.9,2,   2412.8,2,   7.5831,2,    25.00,     -999,9,     -999,9,     -999,9,     -999,9,   1.2209,2,  27.7736,2,   1.5684,2
49UP20210719_2,   P03,    23,  1,      4,     316,2,20210808,0205, 222, 24.2580, 134.9925, 5117,   4496.0,    1.5910,  34.6811,2,    155.6,2,  34.6810,2,   155.08,2,   142.36,2,    35.86,2,     0.00,2,    2.480,2,     -999,9,     -999,9,   2323.4,2,   2411.2,2,   7.5854,2,    25.00,     -999,9,     -999,9,     -999,9,     -999,9,   1.2138,2,  27.7746,2,   1.5911,2
49UP20210719_2,   P03,    23,  1,      3,     315,2,20210808,0205, 216, 24.2580, 134.9925, 5117,   4753.2,    1.6174,  34.6816,2,    156.0,2,  34.6815,2,   155.68,6,   142.35,6,    35.89,6,     0.00,6,    2.480,6,     -999,9,     -999,9,   2322.2,2,   2411.1,2,   7.5872,2,    25.00,     -999,9,     -999,9,     -999,9,     -999,9,   1.2090,2,  27.7753,2,   1.6175,2
49UP20210719_2,   P03,    23,  1,      2,     314,2,20210808,0205, 211, 24.2580, 134.9925, 5117,   5010.1,    1.6458,  34.6816,2,    156.3,2,  34.6815,6,   155.86,2,   142.18,2,    35.81,2,     0.00,2,    2.470,2,     -999,9,     -999,9,   2321.5,2,   2411.1,2,   7.5888,2,    25.00,     -999,9,     -999,9,     -999,9,     -999,9,   1.2054,2,  27.7755,2,   1.6457,2
49UP20210719_2,   P03,    23,  1,      1,     811,2,20210808,0205, 205, 24.2580, 134.9925, 5117,   5242.3,    1.6718,  34.6818,2,    156.8,2,  34.6824,2,   156.27,2,   141.91,2,    35.81,2,     0.00,2,    2.470,2,     -999,9,     -999,9,   2319.6,2,   2412.4,2,   7.5893,2,    25.00,     -999,9,     -999,9,     -999,9,     -999,9,   1.2018,2,  27.7760,2,   1.6717,2