BOTTLE,20230808CCHSIOADS
EXPOCODE,SECT_ID,STNNBR,CASTNO,SAMPNO,BTLNBR,BTLNBR_FLAG_W,DATE,TIME,BTL_TIME,LATITUDE,LONGITUDE,DEPTH,CTDPRS,CTDTMP,CTDSAL,CTDSAL_FLAG_W,CTDOXY,CTDOXY_FLAG_W,SALNTY,SALNTY_FLAG_W,OXYGEN,OXYGEN_FLAG_W,SILCAT,SILCAT_FLAG_W,NO2+NO3,NO2+NO3_FLAG_W,NITRIT,NITRIT_FLAG_W,PHSPHT,PHSPHT_FLAG_W,CFC-11,CFC-11_FLAG_W,CFC-12,CFC-12_FLAG_W,TCARBN,TCARBN_FLAG_W,ALKALI,ALKALI_FLAG_W,PH_TOT,PH_TOT_FLAG_W,PH_TMP,CFC113,CFC113_FLAG_W,SF6,SF6_FLAG_W,CHLORA,CHLORA_FLAG_W,PPHYTN,PPHYTN_FLAG_W,THETA,THETA_FLAG_W,SIG0,SIG0_FLAG_W,SBE35,SBE35_FLAG_W
,,,,,,,,,,,,METERS,DBAR,ITS-90,PSS-78,,UMOL/KG,,PSS78,,UMOL/KG,,UMOL/KG,,UMOL/KG,,UMOL/KG,,UMOL/KG,,PMOL/KG,,PMOL/KG,,UMOL/KG,,UMOL/KG,,,,DEG C,PMOL/KG,,FMOL/KG,,UG/KG,,UG/KG,,ITS-90,,KG/M^3,,ITS-90,
49UP20210920_1,   P03,    84,  1,      0,     BUC,2,20211003,0114, 320, 24.2610, 175.1463, 5126,      0.0,   28.6234,  35.1089,2,    200.0,2,     -999,9,   199.75,2,     1.04,2,     0.03,2,     0.00,2,    0.040,2,     -999,9,     -999,9,     -999,9,     -999,9,     -999,9,     -999,     -999,9,     -999,9,     -999,9,     -999,9,  28.6227,2,  22.2715,2,     -999,9
49UP20210920_1,   P03,    84,  1,     36,     757,2,20211003,0114, 347, 24.2610, 175.1463, 5126,      9.8,   28.6278,  35.1084,2,    200.0,2,     -999,9,   199.50,2,     0.98,2,     0.02,2,     0.00,2,    0.010,2,     -999,9,     -999,9,     -999,9,     -999,9,     -999,9,     -999,     -999,9,     -999,9,     -999,9,     -999,9,  28.6255,2,  22.2702,2,  28.6237,2
49UP20210920_1,   P03,    84,  1,     35,     756,2,20211003,0114, 342, 24.2610, 175.1463, 5126,     49.0,   28.3323,  35.1007,2,    200.1,2,     -999,9,   200.08,2,     1.00,2,     0.03,2,     0.00,2,    0.010,2,     -999,9,     -999,9,     -999,9,     -999,9,     -999,9,     -999,     -999,9,     -999,9,     -999,9,     -999,9,  28.3206,2,  22.3652,2,  28.3311,2
49UP20210920_1,   P03,    84,  1,     34,     843,2,20211003,0114, 340, 24.2610, 175.1463, 5126,     73.9,   26.3064,  35.3582,2,    226.1,2,     -999,9,   224.90,2,     1.25,2,     0.01,2,     0.00,2,    0.010,2,     -999,9,     -999,9,     -999,9,     -999,9,     -999,9,     -999,     -999,9,     -999,9,     -999,9,     -999,9,  26.2898,2,  23.2128,2,  26.2916,2
49UP20210920_1,   P03,    84,  1,     33,     842,3,20211003,0114, 338, 24.2610, 175.1463, 5126,     98.1,   24.0137,  35.3044,2,    221.0,2,     -999,9,   220.49,2,     1.36,2,     0.03,2,     0.00,2,    0.010,2,     -999,9,     -999,9,     -999,9,     -999,9,     -999,9,     -999,     -999,9,     -999,9,     -999,9,     -999,9,  23.9931,2,  23.8739,2,  24.0178,2
49UP20210920_1,   P03,    84,  1,     32,     841,2,20211003,0114, 336, 24.2610, 175.1463, 5126,    126.7,   22.0198,  35.1436,2,    211.4,2,     -999,9,   211.07,6,     1.78,6,     0.06,6,     0.01,6,    0.040,6,     -999,9,     -999,9,     -999,9,     -999,9,     -999,9,     -999,     -999,9,     -999,9,     -999,9,     -999,9,  21.9947,2,  24.3284,2,  22.0185,2
49UP20210920_1,   P03,    84,  1,     31,     840,2,20211003,0114, 335, 24.2610, 175.1463, 5126,    149.0,   20.8637,  35.0267,2,    202.8,2,     -999,9,   203.37,2,     2.22,2,     0.74,2,     0.12,2,    0.110,2,     -999,9,     -999,9,     -999,9,     -999,9,     -999,9,     -999,     -999,9,     -999,9,     -999,9,     -999,9,  20.8354,2,  24.5589,2,  20.8464,2
49UP20210920_1,   P03,    84,  1,     30,     839,2,20211003,0114, 332, 24.2610, 175.1463, 5126,    204.7,   17.3894,  34.7615,2,    198.3,2,     -999,9,   198.57,2,     4.29,2,     4.47,2,     0.01,2,    0.330,2,     -999,9,     -999,9,     -999,9,     -999,9,     -999,9,     -999,     -999,9,     -999,9,     -999,9,     -999,9,  17.3551,2,  25.2463,2,  17.3897,2
49UP20210920_1,   P03,    84,  1,     29,     838,2,20211003,0114, 330, 24.2610, 175.1463, 5126,    251.7,   15.8682,  34.6215,2,    200.0,2,     -999,9,   200.27,2,     6.46,2,     6.66,2,     0.00,2,    0.470,2,     -999,9,     -999,9,     -999,9,     -999,9,     -999,9,     -999,     -999,9,     -999,9,     -999,9,     -999,9,  15.8286,2,  25.4954,2,  15.8680,2
49UP20210920_1,   P03,    84,  1,     28,     755,2,20211003,0114, 329, 24.2610, 175.1463, 5126,    281.1,   14.9719,  34.5407,2,    202.6,2,     -999,9,   202.67,2,     7.80,2,     7.86,2,     0.00,2,    0.550,2,     -999,9,     -999,9,     -999,9,     -999,9,     -999,9,     -999,     -999,9,     -999,9,     -999,9,     -999,9,  14.9294,2,  25.6333,2,  14.9715,2
49UP20210920_1,   P03,    84,  1,     27,     754,2,20211003,0114, 326, 24.2610, 175.1463, 5126,    372.2,   12.0083,  34.2796,2,    197.7,2,     -999,9,   197.72,2,    14.49,2,    13.14,2,     0.00,2,    0.920,2,     -999,9,     -999,9,     -999,9,     -999,9,     -999,9,     -999,     -999,9,     -999,9,     -999,9,     -999,9,  11.9597,2,  26.0372,2,  12.0068,2
49UP20210920_1,   P03,    84,  1,     26,     835,2,20211003,0114, 322, 24.2610, 175.1463, 5126,    473.0,    9.6664,  34.1366,2,    175.5,2,     -999,9,   175.76,2,    26.38,2,    19.68,2,     0.00,2,    1.390,2,     -999,9,     -999,9,     -999,9,     -999,9,     -999,9,     -999,     -999,9,     -999,9,     -999,9,     -999,9,   9.6125,2,  26.3426,2,   9.6664,2
49UP20210920_1,   P03,    84,  1,     25,     834,2,20211003,0114, 319, 24.2610, 175.1463, 5126,    574.9,    7.4285,  34.0813,2,    122.6,2,     -999,9,   122.69,2,    48.21,2,    28.83,2,     0.00,2,    2.060,2,     -999,9,     -999,9,     -999,9,     -999,9,     -999,9,     -999,     -999,9,     -999,9,     -999,9,     -999,9,   7.3722,2,  26.6433,2,   7.4302,2
49UP20210920_1,   P03,    84,  1,     24,     753,2,20211003,0114, 316, 24.2610, 175.1463, 5126,    677.3,    5.9038,  34.1061,2,     82.8,2,     -999,9,    83.44,2,    70.54,2,    35.14,2,     0.00,2,    2.510,2,     -999,9,     -999,9,     -999,9,     -999,9,     -999,9,     -999,     -999,9,     -999,9,     -999,9,     -999,9,   5.8447,2,  26.8657,2,   5.9040,2
49UP20210920_1,   P03,    84,  1,     23,     832,2,20211003,0114, 312, 24.2610, 175.1463, 5126,    775.7,    4.8688,  34.1932,2,     51.6,2,     -999,9,    51.47,6,    91.96,6,    39.65,6,     0.00,6,    2.840,6,     -999,9,     -999,9,     -999,9,     -999,9,     -999,9,     -999,     -999,9,     -999,9,     -999,9,     -999,9,   4.8066,2,  27.0576,2,   4.8680,2
49UP20210920_1,   P03,    84,  1,     22,     831,2,20211003,0114, 309, 24.2610, 175.1463, 5126,    877.5,    4.2410,  34.2868,2,     38.7,2,     -999,9,    38.61,2,   107.14,2,    41.67,2,     0.00,2,    2.990,2,     -999,9,     -999,9,     -999,9,     -999,9,     -999,9,     -999,     -999,9,     -999,9,     -999,9,     -999,9,   4.1741,2,  27.2007,2,   4.2409,2
49UP20210920_1,   P03,    84,  1,     21,     830,2,20211003,0114, 306, 24.2610, 175.1463, 5126,    978.9,    3.7661,  34.3744,2,     37.2,2,     -999,9,    36.98,2,   119.03,2,    42.43,2,     0.00,2,    3.030,2,     -999,9,     -999,9,     -999,9,     -999,9,     -999,9,     -999,     -999,9,     -999,9,     -999,9,     -999,9,   3.6942,2,  27.3195,2,   3.7671,2
49UP20210920_1,   P03,    84,  1,     20,     829,2,20211003,0114, 302, 24.2610, 175.1463, 5126,   1142.0,    3.3124,  34.4739,2,     51.3,2,     -999,9,    50.65,2,   128.88,2,    42.02,2,     0.00,2,    2.980,2,     -999,9,     -999,9,     -999,9,     -999,9,     -999,9,     -999,     -999,9,     -999,9,     -999,9,     -999,9,   3.2309,2,  27.4437,2,   3.3121,2
49UP20210920_1,   P03,    84,  1,     19,     828,2,20211003,0114, 256, 24.2610, 175.1463, 5126,   1345.2,    2.7769,  34.5290,2,     62.2,2,     -999,9,    62.01,2,   140.54,2,    41.57,2,     0.00,2,    2.940,2,     -999,9,     -999,9,     -999,9,     -999,9,     -999,9,     -999,     -999,9,     -999,9,     -999,9,     -999,9,   2.6842,2,  27.5374,2,   2.7768,2
49UP20210920_1,   P03,    84,  1,     18,     752,2,20211003,0114, 251, 24.2610, 175.1463, 5126,   1547.1,    2.4317,  34.5674,2,     75.2,2,     -999,9,    75.17,2,   146.91,2,    40.95,2,     0.00,2,    2.880,2,     -999,9,     -999,9,     -999,9,     -999,9,     -999,9,     -999,     -999,9,     -999,9,     -999,9,     -999,9,   2.3267,2,  27.5986,2,   2.4317,2
49UP20210920_1,   P03,    84,  1,     17,     751,2,20211003,0114, 246, 24.2610, 175.1463, 5126,   1748.9,    2.1947,  34.5965,2,     87.5,2,     -999,9,    87.54,2,   149.91,2,    40.27,2,     0.00,2,    2.820,2,     -999,9,     -999,9,     -999,9,     -999,9,     -999,9,     -999,     -999,9,     -999,9,     -999,9,     -999,9,   2.0764,2,  27.6423,2,   2.1946,2
49UP20210920_1,   P03,    84,  1,     16,     328,2,20211003,0114, 241, 24.2610, 175.1463, 5126,   1954.0,    1.9887,  34.6180,2,     97.5,2,     -999,9,    97.40,2,   153.23,2,    39.71,2,     0.00,2,    2.780,2,     -999,9,     -999,9,     -999,9,     -999,9,     -999,9,     -999,     -999,9,     -999,9,     -999,9,     -999,9,   1.8563,2,  27.6769,2,   1.9893,2
49UP20210920_1,   P03,    84,  1,     15,     822,2,20211003,0114, 236, 24.2610, 175.1463, 5126,   2156.3,    1.8433,  34.6317,2,    105.4,2,     -999,9,   105.43,2,   155.37,2,    39.23,2,     0.00,2,    2.730,2,     -999,9,     -999,9,     -999,9,     -999,9,     -999,9,     -999,     -999,9,     -999,9,     -999,9,     -999,9,   1.6961,2,  27.7000,2,   1.8431,2
49UP20210920_1,   P03,    84,  1,     14,     326,3,20211003,0114, 231, 24.2610, 175.1463, 5126,   2358.1,    1.7306,  34.6440,2,    114.5,2,     -999,9,   114.77,6,   155.55,6,    38.63,6,     0.00,6,    2.700,6,     -999,9,     -999,9,     -999,9,     -999,9,     -999,9,     -999,     -999,9,     -999,9,     -999,9,     -999,9,   1.5679,2,  27.7195,2,   1.7307,2
49UP20210920_1,   P03,    84,  1,     13,     325,2,20211003,0114, 225, 24.2610, 175.1463, 5126,   2563.6,    1.6472,  34.6533,2,    121.6,2,     -999,9,   121.80,2,   155.63,2,    38.17,2,     0.00,2,    2.650,2,     -999,9,     -999,9,     -999,9,     -999,9,     -999,9,     -999,     -999,9,     -999,9,     -999,9,     -999,9,   1.4678,2,  27.7343,2,   1.6471,2
49UP20210920_1,   P03,    84,  1,     12,     324,2,20211003,0114, 220, 24.2610, 175.1463, 5126,   2765.2,    1.6033,  34.6591,2,    126.5,2,     -999,9,   126.51,2,   155.19,2,    37.89,2,     0.00,2,    2.620,2,     -999,9,     -999,9,     -999,9,     -999,9,     -999,9,     -999,     -999,9,     -999,9,     -999,9,     -999,9,   1.4064,2,  27.7434,2,   1.6034,2
49UP20210920_1,   P03,    84,  1,     11,     323,2,20211003,0114, 215, 24.2610, 175.1463, 5126,   2969.7,    1.5653,  34.6644,2,    131.5,2,     -999,9,   131.53,2,   154.80,2,    37.58,2,     0.00,2,    2.600,2,     -999,9,     -999,9,     -999,9,     -999,9,     -999,9,     -999,     -999,9,     -999,9,     -999,9,     -999,9,   1.3500,2,  27.7517,2,   1.5653,2
49UP20210920_1,   P03,    84,  1,     10,     322,2,20211003,0114, 209, 24.2610, 175.1463, 5126,   3215.2,    1.5154,  34.6714,2,    138.4,2,     -999,9,   138.56,2,   153.43,2,    37.13,2,     0.00,2,    2.560,2,     -999,9,     -999,9,     -999,9,     -999,9,     -999,9,     -999,     -999,9,     -999,9,     -999,9,     -999,9,   1.2775,2,  27.7624,2,   1.5156,2
49UP20210920_1,   P03,    84,  1,      9,     750,2,20211003,0114, 203, 24.2610, 175.1463, 5126,   3469.4,    1.4945,  34.6753,2,    143.2,2,     -999,9,   143.19,2,   152.28,2,    36.81,2,     0.00,2,    2.540,2,     -999,9,     -999,9,     -999,9,     -999,9,     -999,9,     -999,     -999,9,     -999,9,     -999,9,     -999,9,   1.2316,2,  27.7687,2,   1.4943,2
49UP20210920_1,   P03,    84,  1,      8,     320,2,20211003,0114, 157, 24.2610, 175.1463, 5126,   3726.1,    1.4745,  34.6794,2,    148.6,2,     -999,9,   148.64,2,   150.39,2,    36.47,2,     0.00,2,    2.510,2,     -999,9,     -999,9,     -999,9,     -999,9,     -999,9,     -999,     -999,9,     -999,9,     -999,9,     -999,9,   1.1856,2,  27.7752,2,   1.4744,2
49UP20210920_1,   P03,    84,  1,      7,     319,2,20211003,0114, 151, 24.2610, 175.1463, 5126,   3981.8,    1.4554,  34.6836,2,    153.9,2,     -999,9,   154.18,2,   148.31,2,    36.05,2,     0.00,2,    2.480,2,     -999,9,     -999,9,     -999,9,     -999,9,     -999,9,     -999,     -999,9,     -999,9,     -999,9,     -999,9,   1.1398,2,  27.7817,2,   1.4555,2
49UP20210920_1,   P03,    84,  1,      6,     318,2,20211003,0114, 145, 24.2610, 175.1463, 5126,   4238.5,    1.4433,  34.6872,2,    159.8,2,     -999,9,   160.18,2,   144.59,2,    35.60,2,     0.00,2,    2.450,2,     -999,9,     -999,9,     -999,9,     -999,9,     -999,9,     -999,     -999,9,     -999,9,     -999,9,     -999,9,   1.0998,2,  27.7873,2,   1.4433,2
49UP20210920_1,   P03,    84,  1,      5,     317,2,20211003,0114, 139, 24.2610, 175.1463, 5126,   4496.3,    1.4292,  34.6907,2,    165.9,2,     -999,9,   166.14,6,   140.95,6,    35.18,6,     0.00,6,    2.430,6,     -999,9,     -999,9,     -999,9,     -999,9,     -999,9,     -999,     -999,9,     -999,9,     -999,9,     -999,9,   1.0568,2,  27.7930,2,   1.4291,2
49UP20210920_1,   P03,    84,  1,      4,     316,2,20211003,0114, 133, 24.2610, 175.1463, 5126,   4752.0,    1.4247,  34.6937,2,    170.9,2,     -999,9,   171.14,2,   137.88,2,    34.82,2,     0.00,2,    2.390,2,     -999,9,     -999,9,     -999,9,     -999,9,     -999,9,     -999,     -999,9,     -999,9,     -999,9,     -999,9,   1.0226,2,  27.7977,2,   1.4247,2
49UP20210920_1,   P03,    84,  1,      3,     315,2,20211003,0114, 127, 24.2610, 175.1463, 5126,   5008.4,    1.4301,  34.6957,2,    174.5,2,     -999,9,   174.54,2,   135.67,2,    34.54,2,     0.00,2,    2.370,2,     -999,9,     -999,9,     -999,9,     -999,9,     -999,9,     -999,     -999,9,     -999,9,     -999,9,     -999,9,   0.9971,2,  27.8010,2,   1.4301,2
49UP20210920_1,   P03,    84,  1,      2,     314,2,20211003,0114, 121, 24.2610, 175.1463, 5126,   5267.8,    1.4448,  34.6971,2,    176.9,2,     -999,9,   177.12,2,   133.97,2,    34.26,2,     0.00,2,    2.350,2,     -999,9,     -999,9,     -999,9,     -999,9,     -999,9,     -999,     -999,9,     -999,9,     -999,9,     -999,9,   0.9794,2,  27.8033,2,   1.4448,2
49UP20210920_1,   P03,    84,  1,      1,     811,2,20211003,0114, 115, 24.2610, 175.1463, 5126,   5487.5,    1.4646,  34.6974,2,    178.2,2,     -999,9,   178.15,2,   133.69,2,    34.26,2,     0.00,2,    2.350,2,     -999,9,     -999,9,     -999,9,     -999,9,     -999,9,     -999,     -999,9,     -999,9,     -999,9,     -999,9,   0.9709,2,  27.8042,2,   1.4645,2