BOTTLE,20230808CCHSIOADS
EXPOCODE,SECT_ID,STNNBR,CASTNO,SAMPNO,BTLNBR,BTLNBR_FLAG_W,DATE,TIME,BTL_TIME,LATITUDE,LONGITUDE,DEPTH,CTDPRS,CTDTMP,CTDSAL,CTDSAL_FLAG_W,CTDOXY,CTDOXY_FLAG_W,SALNTY,SALNTY_FLAG_W,OXYGEN,OXYGEN_FLAG_W,SILCAT,SILCAT_FLAG_W,NO2+NO3,NO2+NO3_FLAG_W,NITRIT,NITRIT_FLAG_W,PHSPHT,PHSPHT_FLAG_W,CFC-11,CFC-11_FLAG_W,CFC-12,CFC-12_FLAG_W,TCARBN,TCARBN_FLAG_W,ALKALI,ALKALI_FLAG_W,PH_TOT,PH_TOT_FLAG_W,PH_TMP,CFC113,CFC113_FLAG_W,SF6,SF6_FLAG_W,CHLORA,CHLORA_FLAG_W,PPHYTN,PPHYTN_FLAG_W,THETA,THETA_FLAG_W,SIG0,SIG0_FLAG_W,SBE35,SBE35_FLAG_W
,,,,,,,,,,,,METERS,DBAR,ITS-90,PSS-78,,UMOL/KG,,PSS78,,UMOL/KG,,UMOL/KG,,UMOL/KG,,UMOL/KG,,UMOL/KG,,PMOL/KG,,PMOL/KG,,UMOL/KG,,UMOL/KG,,,,DEG C,PMOL/KG,,FMOL/KG,,UG/KG,,UG/KG,,ITS-90,,KG/M^3,,ITS-90,
49UP20210920_1,   P03,    77,  1,      0,     BUC,2,20210930,1222,1437, 24.2605, 169.5013, 6065,      0.0,   28.8864,  35.1794,2,    197.8,2,  35.1833,2,   197.10,2,     1.06,2,     0.00,2,     0.00,2,    0.020,2,     -999,9,     -999,9,   1977.6,2,   2311.2,2,   8.1022,2,    25.00,     -999,9,     -999,9,     0.05,2,     0.02,2,  28.8858,2,  22.2369,2,     -999,9
49UP20210920_1,   P03,    77,  1,     36,     757,2,20210930,1222,1505, 24.2605, 169.5013, 6065,      9.2,   28.8884,  35.1785,2,    197.6,2,  35.1782,2,   197.20,2,     1.11,2,     0.00,2,     0.00,2,    0.010,2,    1.059,2,    0.793,2,   1978.6,2,   2311.3,2,   8.1003,2,    25.00,    0.080,2,    1.513,2,     0.04,2,     0.02,2,  28.8861,2,  22.2362,2,  28.8877,2
49UP20210920_1,   P03,    77,  1,     35,     756,2,20210930,1222,1500, 24.2605, 169.5013, 6065,     50.5,   28.8468,  35.2058,2,    197.7,2,  35.2097,2,   197.95,2,     1.07,2,     0.00,2,     0.00,2,    0.010,2,    1.064,2,    0.796,2,   1979.2,2,   2313.6,2,   8.1024,2,    25.00,    0.076,2,    1.538,2,     0.04,2,     0.02,2,  28.8346,2,  22.2738,2,  28.8334,2
49UP20210920_1,   P03,    77,  1,     34,     843,2,20210930,1222,1458, 24.2605, 169.5013, 6065,     97.6,   23.4606,  35.2146,2,    214.4,2,  35.2055,4,   213.38,2,     1.67,2,     0.00,2,     0.00,2,    0.030,2,    1.525,2,    1.009,2,   2019.3,2,   2313.9,2,   8.0346,2,    25.00,    0.093,2,    1.711,2,     0.16,2,     0.15,2,  23.4404,2,  23.9685,2,  23.4658,2
49UP20210920_1,   P03,    77,  1,     33,     842,2,20210930,1222,1456, 24.2605, 169.5013, 6065,    149.5,   19.5543,  34.9312,2,    197.6,2,  34.9175,4,   196.15,2,     2.87,2,     1.82,2,     0.03,2,    0.190,2,     -999,9,     -999,9,   2053.2,2,   2292.7,2,   7.9462,2,    25.00,     -999,9,     -999,9,     0.06,2,     0.22,2,  19.5271,2,  24.8329,2,  19.5521,2
49UP20210920_1,   P03,    77,  1,     32,     841,2,20210930,1222,1454, 24.2605, 169.5013, 6065,    202.1,   17.4330,  34.7556,2,    194.6,2,  34.7536,2,   194.37,2,     4.58,2,     4.70,2,     0.01,2,    0.370,2,    2.034,2,    1.214,2,   2063.9,2,   2284.4,2,   7.9102,2,    25.00,    0.014,2,    1.843,2,     0.01,2,     0.02,2,  17.3991,2,  25.2312,2,  17.4339,2
49UP20210920_1,   P03,    77,  1,     31,     840,2,20210930,1222,1452, 24.2605, 169.5013, 6065,    250.8,   16.1547,  34.6503,2,    200.6,2,  34.6467,6,   200.45,2,     6.06,2,     6.28,2,     0.00,2,    0.450,2,     -999,9,     -999,9,   2066.8,2,   2276.9,2,   7.8954,2,    25.00,     -999,9,     -999,9,     -999,9,     -999,9,  16.1148,2,  25.4524,2,  16.1536,2
49UP20210920_1,   P03,    77,  1,     30,     839,2,20210930,1222,1450, 24.2605, 169.5013, 6065,    301.5,   14.6505,  34.5138,2,    201.2,2,  34.5190,2,   201.63,6,     8.30,6,     8.21,6,     0.00,6,    0.580,6,    2.374,2,    1.336,2,   2077.5,2,   2274.0,2,   7.8607,2,    25.00,    0.018,2,    1.908,2,     -999,9,     -999,9,  14.6056,2,  25.6827,2,  14.6532,2
49UP20210920_1,   P03,    77,  1,     29,     838,2,20210930,1222,1447, 24.2605, 169.5013, 6065,    403.0,   11.9139,  34.2909,2,    198.8,2,  34.2900,2,   198.69,2,    15.59,2,    13.32,2,     0.00,2,    0.940,2,     -999,9,     -999,9,   2107.3,2,   2267.5,2,   7.7820,2,    25.00,     -999,9,     -999,9,     -999,9,     -999,9,  11.8615,2,  26.0645,2,  11.9150,2
49UP20210920_1,   P03,    77,  1,     28,     755,2,20210930,1222,1444, 24.2605, 169.5013, 6065,    505.2,    9.2684,  34.1263,2,    166.5,2,  34.1261,2,   166.42,2,    30.06,2,    21.23,2,     0.00,2,    1.510,2,    2.687,2,    1.289,2,   2159.4,2,   2269.9,2,   7.6600,2,    25.00,    0.057,2,    1.363,2,     -999,9,     -999,9,   9.2122,2,  26.3999,2,   9.2712,2
49UP20210920_1,   P03,    77,  1,     27,     754,2,20210930,1222,1441, 24.2605, 169.5013, 6065,    604.5,    7.2641,  34.0861,2,    118.7,2,  34.0855,2,   117.84,2,    51.09,2,    29.53,2,     0.00,2,    2.120,2,     -999,9,     -999,9,   2220.0,2,   2284.9,2,   7.5289,6,    25.00,     -999,9,     -999,9,     -999,9,     -999,9,   7.2055,2,  26.6704,2,   7.2644,2
49UP20210920_1,   P03,    77,  1,     26,     835,2,20210930,1222,1438, 24.2605, 169.5013, 6065,    705.7,    5.6151,  34.1215,2,     75.9,2,  34.1221,2,    75.19,2,    75.98,2,    36.24,2,     0.00,2,    2.620,2,     -999,9,     -999,9,   2275.6,6,   2307.6,6,   7.4287,2,    25.00,     -999,9,     -999,9,     -999,9,     -999,9,   5.5549,2,  26.9134,2,   5.6146,2
49UP20210920_1,   P03,    77,  1,     25,     834,2,20210930,1222,1435, 24.2605, 169.5013, 6065,    806.5,    4.7532,  34.2198,2,     48.7,2,  34.2192,2,    49.24,2,    94.60,2,    39.97,2,     0.00,2,    2.890,2,    0.425,2,    0.183,2,   2312.3,2,   2330.1,2,   7.3831,2,    25.00,    0.007,2,    0.118,2,     -999,9,     -999,9,   4.6890,2,  27.0918,2,   4.7537,2
49UP20210920_1,   P03,    77,  1,     24,     753,2,20210930,1222,1431, 24.2605, 169.5013, 6065,    907.0,    4.2012,  34.3133,2,     40.4,2,  34.3137,2,    40.29,2,   108.39,2,    41.46,2,     0.00,2,    3.000,2,     -999,9,     -999,9,   2335.2,2,   2349.6,2,   7.3739,2,    25.00,     -999,9,     -999,9,     -999,9,     -999,9,   4.1321,2,  27.2262,2,   4.2011,2
49UP20210920_1,   P03,    77,  1,     23,     832,2,20210930,1222,1428, 24.2605, 169.5013, 6065,   1009.3,    3.8711,  34.4063,2,     45.0,2,  34.4057,2,    45.00,2,   116.04,2,    41.62,2,     0.00,2,    2.990,2,    0.096,2,    0.019,2,   2340.9,2,   2363.4,2,   7.3891,2,    25.00,    0.001,2,   -0.025,2,     -999,9,     -999,9,   3.7958,2,  27.3347,2,   3.8705,2
49UP20210920_1,   P03,    77,  1,     22,     831,2,20210930,1222,1423, 24.2605, 169.5013, 6065,   1210.4,    3.3513,  34.5008,2,     62.5,2,  34.5009,6,    62.64,2,   125.83,2,    40.90,2,     0.00,2,    2.930,2,     -999,9,     -999,9,   2345.6,2,   2378.9,2,   7.4286,2,    25.00,     -999,9,     -999,9,     -999,9,     -999,9,   3.2639,2,  27.4621,2,   3.3512,2
49UP20210920_1,   P03,    77,  1,     21,     830,2,20210930,1222,1418, 24.2605, 169.5013, 6065,   1413.6,    2.8601,  34.5411,2,     71.8,2,  34.5410,2,    71.82,6,   136.31,6,    40.62,6,     0.00,6,    2.900,6,    0.002,2,    0.000,2,   2350.8,2,   2392.4,2,   7.4443,2,    25.00,    0.001,2,   -0.020,2,     -999,9,     -999,9,   2.7610,2,  27.5403,2,   2.8601,2
49UP20210920_1,   P03,    77,  1,     20,     829,2,20210930,1222,1413, 24.2605, 169.5013, 6065,   1616.1,    2.4975,  34.5698,2,     79.7,2,  34.5700,2,    79.80,2,   144.10,2,    40.36,2,     0.00,2,    2.870,2,     -999,9,     -999,9,   2354.9,2,   2401.6,2,   7.4543,2,    25.00,     -999,9,     -999,9,     -999,9,     -999,9,   2.3861,2,  27.5956,2,   2.4974,2
49UP20210920_1,   P03,    77,  1,     19,     828,2,20210930,1222,1408, 24.2605, 169.5013, 6065,   1818.6,    2.2105,  34.5942,2,     88.1,2,  34.5947,2,    88.43,2,   149.68,2,    39.92,2,     0.00,2,    2.830,2,     -999,9,     -999,9,   2357.0,2,   2406.0,2,   7.4692,2,    25.00,     -999,9,     -999,9,     -999,9,     -999,9,   2.0863,2,  27.6397,2,   2.2106,2
49UP20210920_1,   P03,    77,  1,     18,     752,2,20210930,1222,1402, 24.2605, 169.5013, 6065,   2025.8,    1.9976,  34.6158,2,     98.1,2,  34.6164,2,    98.10,2,   152.93,2,    39.37,2,     0.00,2,    2.780,2,    0.000,2,    0.000,2,   2355.1,2,   2412.2,2,   7.4916,2,    25.00,    0.022,2,   -0.008,2,     -999,9,     -999,9,   1.8591,2,  27.6749,2,   1.9977,2
49UP20210920_1,   P03,    77,  1,     17,     751,2,20210930,1222,1356, 24.2605, 169.5013, 6065,   2226.1,    1.8573,  34.6309,2,    106.9,2,  34.6315,2,   106.98,2,   154.54,2,    38.87,2,     0.00,2,    2.740,2,     -999,9,     -999,9,   2352.4,2,   2415.2,2,   7.5055,2,    25.00,     -999,9,     -999,9,     -999,9,     -999,9,   1.7039,2,  27.6989,2,   1.8574,2
49UP20210920_1,   P03,    77,  1,     16,     328,2,20210930,1222,1351, 24.2605, 169.5013, 6065,   2429.2,    1.7540,  34.6432,2,    115.2,2,  34.6436,2,   115.77,2,   154.87,2,    38.33,2,     0.00,2,    2.700,2,     -999,9,     -999,9,   2348.9,6,   2416.5,6,   7.5182,2,    25.00,     -999,9,     -999,9,     -999,9,     -999,9,   1.5846,2,  27.7176,2,   1.7540,2
49UP20210920_1,   P03,    77,  1,     15,     822,2,20210930,1222,1346, 24.2605, 169.5013, 6065,   2633.8,    1.6853,  34.6516,2,    121.3,2,  34.6516,2,   121.15,2,   154.59,2,    37.95,2,     0.00,2,    2.660,2,     -999,9,     -999,9,   2343.9,2,   2419.3,2,   7.5323,2,    25.00,     -999,9,     -999,9,     -999,9,     -999,9,   1.4989,2,  27.7307,2,   1.6853,2
49UP20210920_1,   P03,    77,  1,     14,     326,2,20210930,1222,1341, 24.2605, 169.5013, 6065,   2837.1,    1.6375,  34.6593,2,    127.5,2,  34.6588,2,   127.55,2,   154.05,2,    37.52,2,     0.00,2,    2.630,2,     -999,9,     -999,9,   2341.9,2,   2419.3,2,   7.5432,2,    25.00,     -999,9,     -999,9,     -999,9,     -999,9,   1.4332,2,  27.7416,2,   1.6377,2
49UP20210920_1,   P03,    77,  1,     13,     325,2,20210930,1222,1335, 24.2605, 169.5013, 6065,   3042.4,    1.5943,  34.6654,2,    132.9,2,  34.6651,6,   133.21,2,   153.21,2,    37.18,2,     0.00,2,    2.600,2,     -999,9,     -999,9,   2338.7,2,   2416.6,2,   7.5524,2,    25.00,     -999,9,     -999,9,     -999,9,     -999,9,   1.3714,2,  27.7509,2,   1.5944,2
49UP20210920_1,   P03,    77,  1,     12,     324,2,20210930,1222,1330, 24.2605, 169.5013, 6065,   3295.6,    1.5581,  34.6705,2,    138.1,2,  34.6703,2,   138.14,6,   152.28,6,    36.86,6,     0.00,6,    2.580,6,     -999,9,     -999,9,   2335.9,2,   2418.4,2,   7.5626,2,    25.00,     -999,9,     -999,9,     -999,9,     -999,9,   1.3112,2,  27.7593,2,   1.5581,2
49UP20210920_1,   P03,    77,  1,     11,     323,2,20210930,1222,1324, 24.2605, 169.5013, 6065,   3551.8,    1.5323,  34.6748,2,    142.7,2,  34.6748,2,   142.82,2,   151.34,2,    36.54,2,     0.00,2,    2.550,2,     -999,9,     -999,9,   2335.8,2,   2416.8,2,   7.5675,6,    25.00,     -999,9,     -999,9,     -999,9,     -999,9,   1.2601,2,  27.7663,2,   1.5324,2
49UP20210920_1,   P03,    77,  1,     10,     322,2,20210930,1222,1318, 24.2605, 169.5013, 6065,   3807.3,    1.5110,  34.6785,2,    147.4,2,  34.6781,2,   147.45,2,   149.81,2,    36.26,2,     0.00,2,    2.520,2,     -999,9,     -999,9,   2329.4,6,   2415.4,6,   7.5765,3,    25.00,     -999,9,     -999,9,     -999,9,     -999,9,   1.2125,2,  27.7726,2,   1.5111,2
49UP20210920_1,   P03,    77,  1,      9,     750,2,20210930,1222,1312, 24.2605, 169.5013, 6065,   4065.3,    1.4956,  34.6821,2,    152.3,2,  34.6816,2,   152.02,2,   147.71,2,    35.89,2,     0.00,2,    2.500,2,     -999,9,     -999,9,   2326.1,2,   2414.2,2,   7.5817,2,    25.00,     -999,9,     -999,9,     -999,9,     -999,9,   1.1697,2,  27.7784,2,   1.4958,2
49UP20210920_1,   P03,    77,  1,      8,     320,2,20210930,1222,1306, 24.2605, 169.5013, 6065,   4320.9,    1.4828,  34.6853,2,    157.2,2,  34.6851,2,   157.37,2,   145.67,2,    35.52,2,     0.00,2,    2.470,2,     -999,9,     -999,9,   2322.9,2,   2413.1,2,   7.5876,2,    25.00,     -999,9,     -999,9,     -999,9,     -999,9,   1.1288,2,  27.7838,2,   1.4827,2
49UP20210920_1,   P03,    77,  1,      7,     319,2,20210930,1222,1259, 24.2605, 169.5013, 6065,   4578.0,    1.4722,  34.6884,2,    162.2,2,  34.6881,2,   162.28,2,   143.04,2,    35.21,2,     0.00,2,    2.450,2,     -999,9,     -999,9,   2316.1,2,   2408.1,2,   7.5934,2,    25.00,     -999,9,     -999,9,     -999,9,     -999,9,   1.0890,2,  27.7890,2,   1.4722,2
49UP20210920_1,   P03,    77,  1,      6,     318,3,20210930,1222,1253, 24.2605, 169.5013, 6065,   4835.1,    1.4659,  34.6913,2,    167.3,2,  34.6906,2,   166.61,2,   140.27,2,    34.92,2,     0.00,2,    2.420,2,     -999,9,     -999,9,   2310.1,2,   2404.9,2,   7.5968,3,    25.00,     -999,9,     -999,9,     -999,9,     -999,9,   1.0526,2,  27.7938,2,   1.4659,2
49UP20210920_1,   P03,    77,  1,      5,     317,2,20210930,1222,1247, 24.2605, 169.5013, 6065,   5092.1,    1.4696,  34.6934,2,    171.1,2,  34.6932,2,   170.96,2,   137.94,2,    34.60,2,     0.00,2,    2.400,2,   -0.000,2,    0.000,2,   2305.5,2,   2403.9,2,   7.6007,3,    25.00,    0.003,2,   -0.002,2,     -999,9,     -999,9,   1.0252,2,  27.7973,2,   1.4697,2
49UP20210920_1,   P03,    77,  1,      4,     316,2,20210930,1222,1241, 24.2605, 169.5013, 6065,   5349.3,    1.4742,  34.6955,2,    174.8,2,  34.6955,2,   174.62,2,   135.84,2,    34.36,2,     0.00,2,    2.380,2,    0.004,2,    0.001,2,   2304.6,2,   2399.6,2,   7.6045,2,    25.00,    0.001,2,   -0.018,2,     -999,9,     -999,9,   0.9977,2,  27.8008,2,   1.4743,2
49UP20210920_1,   P03,    77,  1,      3,     315,2,20210930,1222,1235, 24.2605, 169.5013, 6065,   5607.3,    1.4878,  34.6969,2,    177.4,2,  34.6968,2,   177.42,6,   134.27,6,    34.16,6,     0.00,6,    2.370,6,    0.000,2,   -0.000,2,   2300.1,2,   2399.2,2,   7.6084,2,    25.00,    0.000,2,   -0.019,2,     -999,9,     -999,9,   0.9779,2,  27.8032,2,   1.4878,2
49UP20210920_1,   P03,    77,  1,      2,     314,2,20210930,1222,1229, 24.2605, 169.5013, 6065,   5865.7,    1.5067,  34.6979,2,    179.3,2,  34.6982,6,   179.41,2,   133.03,2,    33.98,2,     0.00,2,    2.350,2,    0.005,2,    0.001,2,   2297.6,2,   2396.4,2,   7.6101,2,    25.00,    0.000,2,   -0.022,2,     -999,9,     -999,9,   0.9624,2,  27.8051,2,   1.5069,2
49UP20210920_1,   P03,    77,  1,      1,     811,2,20210930,1222,1222, 24.2605, 169.5013, 6065,   6126.8,    1.5353,  34.6984,2,    180.3,2,  34.6989,2,   180.48,2,   132.33,2,    33.96,2,     0.00,2,    2.350,2,    0.007,2,    0.000,2,   2297.8,2,   2395.8,2,   7.6105,2,    25.00,    0.000,2,   -0.031,2,     -999,9,     -999,9,   0.9550,2,  27.8060,2,   1.5352,2