BOTTLE,20230808CCHSIOADS
EXPOCODE,SECT_ID,STNNBR,CASTNO,SAMPNO,BTLNBR,BTLNBR_FLAG_W,DATE,TIME,BTL_TIME,LATITUDE,LONGITUDE,DEPTH,CTDPRS,CTDTMP,CTDSAL,CTDSAL_FLAG_W,CTDOXY,CTDOXY_FLAG_W,SALNTY,SALNTY_FLAG_W,OXYGEN,OXYGEN_FLAG_W,SILCAT,SILCAT_FLAG_W,NO2+NO3,NO2+NO3_FLAG_W,NITRIT,NITRIT_FLAG_W,PHSPHT,PHSPHT_FLAG_W,CFC-11,CFC-11_FLAG_W,CFC-12,CFC-12_FLAG_W,TCARBN,TCARBN_FLAG_W,ALKALI,ALKALI_FLAG_W,PH_TOT,PH_TOT_FLAG_W,PH_TMP,CFC113,CFC113_FLAG_W,SF6,SF6_FLAG_W,CHLORA,CHLORA_FLAG_W,PPHYTN,PPHYTN_FLAG_W,THETA,THETA_FLAG_W,SIG0,SIG0_FLAG_W,SBE35,SBE35_FLAG_W
,,,,,,,,,,,,METERS,DBAR,ITS-90,PSS-78,,UMOL/KG,,PSS78,,UMOL/KG,,UMOL/KG,,UMOL/KG,,UMOL/KG,,UMOL/KG,,PMOL/KG,,PMOL/KG,,UMOL/KG,,UMOL/KG,,,,DEG C,PMOL/KG,,FMOL/KG,,UG/KG,,UG/KG,,ITS-90,,KG/M^3,,ITS-90,
49UP20210920_1,   P03,    85,  1,      0,     BUC,2,20211003,0943,1146, 24.2637, 175.9965, 5736,      0.0,   28.4811,  34.9908,2,    199.3,2,  34.9977,2,   199.01,2,     1.08,2,     0.03,2,     0.00,2,    0.050,2,     -999,9,     -999,9,   1973.2,2,   2296.9,2,   8.0981,2,    25.00,     -999,9,     -999,9,     0.04,2,     0.02,2,  28.4805,2,  22.2298,2,     -999,9
49UP20210920_1,   P03,    85,  1,     36,     757,2,20211003,0943,1218, 24.2637, 175.9965, 5736,      9.7,   28.4910,  34.9905,2,    199.1,2,  34.9887,2,   198.79,2,     1.04,2,     0.01,2,     0.00,2,    0.020,2,     -999,9,     -999,9,   1972.7,2,   2298.5,2,   8.1006,2,    25.00,     -999,9,     -999,9,     0.04,2,     0.02,2,  28.4887,2,  22.2268,2,  28.4885,2
49UP20210920_1,   P03,    85,  1,     35,     756,2,20211003,0943,1214, 24.2637, 175.9965, 5736,     49.3,   28.3894,  34.9986,2,    199.5,2,  34.9995,2,   199.61,2,     1.00,2,     0.00,2,     0.00,2,    0.020,2,     -999,9,     -999,9,   1976.1,2,   2299.6,2,   8.0954,2,    25.00,     -999,9,     -999,9,     0.06,2,     0.03,2,  28.3777,2,  22.2696,2,  28.3855,2
49UP20210920_1,   P03,    85,  1,     34,     843,2,20211003,0943,1212, 24.2637, 175.9965, 5736,    100.9,   24.3845,  35.2310,2,    214.5,2,  35.2303,2,   213.54,2,     1.40,2,     0.00,2,     0.00,2,    0.030,2,     -999,9,     -999,9,   2010.0,2,   2314.3,2,   8.0561,2,    25.00,     -999,9,     -999,9,     0.13,2,     0.10,2,  24.3630,2,  23.7081,2,  24.3880,2
49UP20210920_1,   P03,    85,  1,     33,     842,2,20211003,0943,1210, 24.2637, 175.9965, 5736,    127.7,   23.0237,  35.1857,2,    202.9,2,  35.1844,2,   202.79,2,     1.54,2,     0.00,2,     0.00,2,    0.050,2,     -999,9,     -999,9,   2027.7,2,   2310.6,2,   8.0207,2,    25.00,     -999,9,     -999,9,     0.14,2,     0.35,2,  22.9975,2,  24.0751,2,  23.0391,2
49UP20210920_1,   P03,    85,  1,     32,     841,2,20211003,0943,1208, 24.2637, 175.9965, 5736,    150.2,   21.2103,  35.0762,2,    192.4,2,  35.0778,6,   192.85,2,     2.24,2,     0.66,2,     0.16,2,    0.140,2,     -999,9,     -999,9,   2049.9,2,   2305.5,2,   7.9729,2,    25.00,     -999,9,     -999,9,     0.09,2,     0.30,2,  21.1814,2,  24.5025,2,  21.2115,2
49UP20210920_1,   P03,    85,  1,     31,     840,2,20211003,0943,1206, 24.2637, 175.9965, 5736,    205.0,   18.2534,  34.8327,2,    195.9,2,  34.8355,2,   196.16,6,     3.59,6,     3.22,6,     0.01,6,    0.280,6,     -999,9,     -999,9,   2058.9,2,   2286.6,2,   7.9278,2,    25.00,     -999,9,     -999,9,     0.02,2,     0.07,2,  18.2179,2,  25.0901,2,  18.2789,2
49UP20210920_1,   P03,    85,  1,     30,     839,2,20211003,0943,1204, 24.2637, 175.9965, 5736,    251.4,   16.4443,  34.6727,2,    199.7,2,  34.6722,2,   199.81,2,     5.42,2,     5.69,2,     0.00,2,    0.420,2,     -999,9,     -999,9,   2066.7,2,   2278.8,2,   7.8973,2,    25.00,     -999,9,     -999,9,     -999,9,     -999,9,  16.4038,2,  25.4029,2,  16.4379,2
49UP20210920_1,   P03,    85,  1,     29,     838,2,20211003,0943,1201, 24.2637, 175.9965, 5736,    334.1,   13.5456,  34.4096,2,    203.7,2,  34.4089,2,   203.82,2,    10.29,2,     9.78,2,     0.00,2,    0.690,2,     -999,9,     -999,9,   2087.6,2,   2267.0,2,   7.8321,2,    25.00,     -999,9,     -999,9,     -999,9,     -999,9,  13.4984,2,  25.8347,2,  13.5410,2
49UP20210920_1,   P03,    85,  1,     28,     755,2,20211003,0943,1158, 24.2637, 175.9965, 5736,    433.8,   10.3449,  34.1764,2,    184.8,2,  34.1758,2,   185.42,2,    22.21,2,    17.35,2,     0.00,2,    1.240,2,     -999,9,     -999,9,   2132.8,2,   2265.4,2,   7.7189,2,    25.00,     -999,9,     -999,9,     -999,9,     -999,9,  10.2934,2,  26.2586,2,  10.3378,2
49UP20210920_1,   P03,    85,  1,     27,     754,2,20211003,0943,1154, 24.2637, 175.9965, 5736,    533.9,    7.8752,  34.0817,2,    137.5,2,  34.0816,2,   137.05,2,    43.12,2,    26.51,2,     0.00,2,    1.910,2,     -999,9,     -999,9,   2197.8,2,   2275.8,2,   7.5750,2,    25.00,     -999,9,     -999,9,     -999,9,     -999,9,   7.8213,2,  26.5790,2,   7.8747,2
49UP20210920_1,   P03,    85,  1,     26,     835,2,20211003,0943,1151, 24.2637, 175.9965, 5736,    634.2,    6.2781,  34.0896,2,     94.1,2,  34.0890,2,    93.48,2,    64.58,2,    33.37,2,     0.00,2,    2.410,2,     -999,9,     -999,9,   2252.1,2,   2294.2,2,   7.4715,2,    25.00,     -999,9,     -999,9,     -999,9,     -999,9,   6.2212,2,  26.8051,2,   6.2815,2
49UP20210920_1,   P03,    85,  1,     25,     834,2,20211003,0943,1148, 24.2637, 175.9965, 5736,    734.7,    5.1101,  34.1595,2,     59.5,2,  34.1590,2,    59.55,2,    86.57,2,    38.37,2,     0.00,2,    2.780,2,     -999,9,     -999,9,   2297.8,2,   2317.1,2,   7.3937,6,    25.00,     -999,9,     -999,9,     -999,9,     -999,9,   5.0501,2,  27.0032,2,   5.1087,2
49UP20210920_1,   P03,    85,  1,     24,     753,2,20211003,0943,1145, 24.2637, 175.9965, 5736,    836.5,    4.3986,  34.2565,2,     41.3,2,  34.2564,2,    41.25,2,   103.57,2,    41.03,2,     0.00,2,    2.970,2,     -999,9,     -999,9,   2327.5,6,   2338.3,6,   7.3663,2,    25.00,     -999,9,     -999,9,     -999,9,     -999,9,   4.3341,2,  27.1596,2,   4.3986,2
49UP20210920_1,   P03,    85,  1,     23,     832,2,20211003,0943,1142, 24.2637, 175.9965, 5736,    938.6,    3.9512,  34.3378,2,     36.5,2,  34.3372,6,    36.54,2,   114.75,2,    42.00,2,     0.00,2,    3.030,2,     -999,9,     -999,9,   2341.8,2,   2354.7,2,   7.3634,2,    25.00,     -999,9,     -999,9,     -999,9,     -999,9,   3.8813,2,  27.2715,2,   3.9510,2
49UP20210920_1,   P03,    85,  1,     22,     831,2,20211003,0943,1137, 24.2637, 175.9965, 5736,   1079.8,    3.4616,  34.4308,2,     42.2,2,  34.4302,2,    42.01,6,   126.81,6,    42.22,6,     0.00,6,    3.040,6,     -999,9,     -999,9,   2354.3,2,   2372.2,2,   7.3807,2,    25.00,     -999,9,     -999,9,     -999,9,     -999,9,   3.3839,2,  27.3948,2,   3.4618,2
49UP20210920_1,   P03,    85,  1,     21,     830,2,20211003,0943,1133, 24.2637, 175.9965, 5736,   1283.3,    3.0298,  34.5155,2,     62.0,2,  34.5143,2,    61.89,2,   134.14,2,    41.16,2,     0.00,2,    2.940,2,     -999,9,     -999,9,   2352.0,2,   2385.9,2,   7.4237,2,    25.00,     -999,9,     -999,9,     -999,9,     -999,9,   2.9395,2,  27.5038,2,   3.0299,2
49UP20210920_1,   P03,    85,  1,     20,     829,2,20211003,0943,1128, 24.2637, 175.9965, 5736,   1485.8,    2.6563,  34.5569,2,     74.3,2,  34.5567,2,    74.38,2,   141.12,2,    40.61,2,     0.00,2,    2.900,2,     -999,9,     -999,9,   2354.4,2,   2394.9,2,   7.4469,2,    25.00,     -999,9,     -999,9,     -999,9,     -999,9,   2.5536,2,  27.5710,2,   2.6563,2
49UP20210920_1,   P03,    85,  1,     19,     828,2,20211003,0943,1122, 24.2637, 175.9965, 5736,   1688.8,    2.3724,  34.5856,2,     84.4,2,  34.5851,2,    84.54,2,   146.29,2,    40.15,2,     0.00,2,    2.850,2,     -999,9,     -999,9,   2355.3,2,   2402.0,2,   7.4678,2,    25.00,     -999,9,     -999,9,     -999,9,     -999,9,   2.2566,2,  27.6190,2,   2.3724,2
49UP20210920_1,   P03,    85,  1,     18,     752,2,20211003,0943,1117, 24.2637, 175.9965, 5736,   1890.6,    2.1181,  34.6099,2,     95.4,2,  34.6100,2,    95.30,2,   150.33,2,    39.56,2,     0.00,2,    2.790,2,     -999,9,     -999,9,   2353.3,2,   2407.2,2,   7.4884,6,    25.00,     -999,9,     -999,9,     -999,9,     -999,9,   1.9891,2,  27.6600,2,   2.1180,2
49UP20210920_1,   P03,    85,  1,     17,     751,2,20211003,0943,1112, 24.2637, 175.9965, 5736,   2094.7,    1.9393,  34.6257,2,    103.1,2,  34.6259,2,   103.00,2,   153.68,2,    39.10,2,     0.00,2,    2.760,2,     -999,9,     -999,9,   2352.2,6,   2410.8,6,   7.4974,2,    25.00,     -999,9,     -999,9,     -999,9,     -999,9,   1.7959,2,  27.6877,2,   1.9394,2
49UP20210920_1,   P03,    85,  1,     16,     328,2,20211003,0943,1107, 24.2637, 175.9965, 5736,   2296.8,    1.8120,  34.6366,2,    109.2,2,  34.6367,2,   109.09,2,   155.91,2,    38.76,2,     0.00,2,    2.730,2,     -999,9,     -999,9,   2352.4,2,   2414.9,2,   7.5071,2,    25.00,     -999,9,     -999,9,     -999,9,     -999,9,   1.6532,2,  27.7072,2,   1.8105,2
49UP20210920_1,   P03,    85,  1,     15,     822,2,20211003,0943,1102, 24.2637, 175.9965, 5736,   2500.6,    1.7196,  34.6462,2,    115.7,2,  34.6462,2,   115.44,2,   156.38,2,    38.39,2,     0.00,2,    2.690,2,     -999,9,     -999,9,   2347.5,2,   2418.1,2,   7.5227,2,    25.00,     -999,9,     -999,9,     -999,9,     -999,9,   1.5445,2,  27.7230,2,   1.7193,2
49UP20210920_1,   P03,    85,  1,     14,     326,2,20211003,0943,1057, 24.2637, 175.9965, 5736,   2705.2,    1.6481,  34.6547,2,    122.7,2,  34.6542,6,   122.12,2,   156.03,2,    37.94,2,     0.00,2,    2.660,2,     -999,9,     -999,9,   2344.2,2,   2417.7,2,   7.5333,2,    25.00,     -999,9,     -999,9,     -999,9,     -999,9,   1.4558,2,  27.7362,2,   1.6481,2
49UP20210920_1,   P03,    85,  1,     13,     325,2,20211003,0943,1052, 24.2637, 175.9965, 5736,   2908.6,    1.6062,  34.6602,2,    127.8,2,  34.6603,2,   127.49,6,   155.32,6,    37.62,6,     0.00,6,    2.630,6,     -999,9,     -999,9,   2342.3,2,   2416.3,2,   7.5403,2,    25.00,     -999,9,     -999,9,     -999,9,     -999,9,   1.3958,2,  27.7450,2,   1.6060,2
49UP20210920_1,   P03,    85,  1,     12,     324,2,20211003,0943,1047, 24.2637, 175.9965, 5736,   3123.0,    1.5542,  34.6668,2,    133.6,2,  34.6664,2,   133.57,2,   154.89,2,    37.23,2,     0.00,2,    2.600,2,     -999,9,     -999,9,   2338.8,2,   2416.6,2,   7.5542,2,    25.00,     -999,9,     -999,9,     -999,9,     -999,9,   1.3244,2,  27.7554,2,   1.5540,2
49UP20210920_1,   P03,    85,  1,     11,     323,2,20211003,0943,1041, 24.2637, 175.9965, 5736,   3377.9,    1.5147,  34.6726,2,    139.8,2,  34.6725,2,   139.65,2,   153.93,2,    36.80,2,     0.00,2,    2.570,2,     -999,9,     -999,9,   2333.1,2,   2417.8,2,   7.5588,2,    25.00,     -999,9,     -999,9,     -999,9,     -999,9,   1.2607,2,  27.7645,2,   1.5148,2
49UP20210920_1,   P03,    85,  1,     10,     322,2,20211003,0943,1035, 24.2637, 175.9965, 5736,   3634.3,    1.4833,  34.6774,2,    145.6,2,  34.6777,2,   145.54,2,   152.62,2,    36.44,2,     0.00,2,    2.540,2,     -999,9,     -999,9,   2335.3,2,   2416.5,2,   7.5774,4,    25.00,     -999,9,     -999,9,     -999,9,     -999,9,   1.2038,2,  27.7723,2,   1.4831,2
49UP20210920_1,   P03,    85,  1,      9,     750,2,20211003,0943,1029, 24.2637, 175.9965, 5736,   3889.3,    1.4637,  34.6819,2,    151.0,2,  34.6817,2,   150.77,2,   150.66,2,    36.08,2,     0.00,2,    2.510,2,     -999,9,     -999,9,   2326.3,2,   2412.1,2,   7.5776,6,    25.00,     -999,9,     -999,9,     -999,9,     -999,9,   1.1577,2,  27.7791,2,   1.4636,2
49UP20210920_1,   P03,    85,  1,      8,     320,2,20211003,0943,1023, 24.2637, 175.9965, 5736,   4146.2,    1.4541,  34.6852,2,    155.6,2,  34.6849,2,   155.73,2,   148.48,2,    35.73,2,     0.00,2,    2.490,2,     -999,9,     -999,9,   2322.1,6,   2412.8,6,   7.5839,2,    25.00,     -999,9,     -999,9,     -999,9,     -999,9,   1.1205,2,  27.7843,2,   1.4543,2
49UP20210920_1,   P03,    85,  1,      7,     319,2,20211003,0943,1017, 24.2637, 175.9965, 5736,   4400.4,    1.4467,  34.6884,2,    160.9,2,  34.6879,2,   161.05,2,   145.33,2,    35.39,2,     0.00,2,    2.460,2,     -999,9,     -999,9,   2316.6,2,   2409.9,2,   7.5929,2,    25.00,     -999,9,     -999,9,     -999,9,     -999,9,   1.0847,2,  27.7893,2,   1.4467,2
49UP20210920_1,   P03,    85,  1,      6,     318,3,20211003,0943,1011, 24.2637, 175.9965, 5736,   4657.9,    1.4430,  34.6912,2,    166.1,2,  34.6906,2,   165.73,2,   141.83,2,    34.99,2,     0.00,2,    2.430,2,     -999,9,     -999,9,   2312.0,2,   2405.0,2,   7.5983,3,    25.00,     -999,9,     -999,9,     -999,9,     -999,9,   1.0514,2,  27.7937,2,   1.4429,2
49UP20210920_1,   P03,    85,  1,      5,     317,2,20211003,0943,1006, 24.2637, 175.9965, 5736,   4915.5,    1.4440,  34.6937,2,    170.9,2,  34.6930,2,   170.58,2,   138.53,2,    34.66,2,     0.00,2,    2.400,2,     -999,9,     -999,9,   2307.1,2,   2402.8,2,   7.5986,2,    25.00,     -999,9,     -999,9,     -999,9,     -999,9,   1.0219,2,  27.7978,2,   1.4443,2
49UP20210920_1,   P03,    85,  1,      4,     316,2,20211003,0943,1000, 24.2637, 175.9965, 5736,   5173.5,    1.4494,  34.6958,2,    174.7,2,  34.6952,2,   174.62,6,   135.97,6,    34.36,6,     0.00,6,    2.380,6,     -999,9,     -999,9,   2302.3,2,   2400.6,2,   7.6062,2,    25.00,     -999,9,     -999,9,     -999,9,     -999,9,   0.9956,2,  27.8012,2,   1.4495,2
49UP20210920_1,   P03,    85,  1,      3,     315,2,20211003,0943, 954, 24.2637, 175.9965, 5736,   5430.3,    1.4676,  34.6968,2,    176.8,2,  34.6964,2,   176.61,2,   134.58,2,    34.18,2,     0.00,2,    2.370,2,     -999,9,     -999,9,   2299.3,2,   2398.0,2,   7.6089,2,    25.00,     -999,9,     -999,9,     -999,9,     -999,9,   0.9810,2,  27.8030,2,   1.4677,2
49UP20210920_1,   P03,    85,  1,      2,     314,2,20211003,0943, 949, 24.2637, 175.9965, 5736,   5690.8,    1.4924,  34.6976,2,    178.1,2,  34.6974,2,   178.16,2,   134.00,2,    34.07,2,     0.00,2,    2.360,2,     -999,9,     -999,9,   2297.8,2,   2396.4,2,   7.6075,2,    25.00,     -999,9,     -999,9,     -999,9,     -999,9,   0.9715,2,  27.8042,2,   1.4924,2
49UP20210920_1,   P03,    85,  1,      1,     811,2,20211003,0943, 944, 24.2637, 175.9965, 5736,   5886.0,    1.5150,  34.6978,2,    178.7,2,  34.6975,2,   178.65,2,   133.53,2,    34.08,2,     0.00,2,    2.360,2,     -999,9,     -999,9,   2297.6,2,   2397.5,2,   7.6117,2,    25.00,     -999,9,     -999,9,     -999,9,     -999,9,   0.9677,2,  27.8046,2,   1.5149,2