BOTTLE,20230808CCHSIOADS
EXPOCODE,SECT_ID,STNNBR,CASTNO,SAMPNO,BTLNBR,BTLNBR_FLAG_W,DATE,TIME,BTL_TIME,LATITUDE,LONGITUDE,DEPTH,CTDPRS,CTDTMP,CTDSAL,CTDSAL_FLAG_W,CTDOXY,CTDOXY_FLAG_W,SALNTY,SALNTY_FLAG_W,OXYGEN,OXYGEN_FLAG_W,SILCAT,SILCAT_FLAG_W,NO2+NO3,NO2+NO3_FLAG_W,NITRIT,NITRIT_FLAG_W,PHSPHT,PHSPHT_FLAG_W,CFC-11,CFC-11_FLAG_W,CFC-12,CFC-12_FLAG_W,TCARBN,TCARBN_FLAG_W,ALKALI,ALKALI_FLAG_W,PH_TOT,PH_TOT_FLAG_W,PH_TMP,CFC113,CFC113_FLAG_W,SF6,SF6_FLAG_W,CHLORA,CHLORA_FLAG_W,PPHYTN,PPHYTN_FLAG_W,THETA,THETA_FLAG_W,SIG0,SIG0_FLAG_W,SBE35,SBE35_FLAG_W
,,,,,,,,,,,,METERS,DBAR,ITS-90,PSS-78,,UMOL/KG,,PSS78,,UMOL/KG,,UMOL/KG,,UMOL/KG,,UMOL/KG,,UMOL/KG,,PMOL/KG,,PMOL/KG,,UMOL/KG,,UMOL/KG,,,,DEG C,PMOL/KG,,FMOL/KG,,UG/KG,,UG/KG,,ITS-90,,KG/M^3,,ITS-90,
49UP20210827_1,   P03,    59,  1,      0,     BUC,2,20210905,2123,2330, 24.2387, 156.0522, 5613,      0.0,   29.4605,  35.1139,2,    195.0,2,     -999,9,   195.27,2,     1.23,2,     0.00,2,     0.00,2,    0.030,2,     -999,9,     -999,9,     -999,9,     -999,9,     -999,9,     -999,     -999,9,     -999,9,     -999,9,     -999,9,  29.4599,2,  21.9950,2,     -999,9
49UP20210827_1,   P03,    59,  1,     36,     757,2,20210905,2123,2355, 24.2387, 156.0522, 5613,     10.0,   29.4526,  35.1167,2,    195.1,2,     -999,9,   195.66,2,     1.27,2,     0.02,2,     0.00,2,    0.010,2,     -999,9,     -999,9,     -999,9,     -999,9,     -999,9,     -999,     -999,9,     -999,9,     -999,9,     -999,9,  29.4502,2,  22.0005,2,  29.4533,2
49UP20210827_1,   P03,    59,  1,     35,     756,2,20210905,2123,2351, 24.2387, 156.0522, 5613,     49.8,   25.7171,  35.2618,2,    227.0,2,     -999,9,   226.23,2,     1.45,2,     0.04,2,     0.00,2,    0.010,2,     -999,9,     -999,9,     -999,9,     -999,9,     -999,9,     -999,     -999,9,     -999,9,     -999,9,     -999,9,  25.7061,2,  23.3222,2,  25.7203,2
49UP20210827_1,   P03,    59,  1,     34,     843,2,20210905,2123,2348, 24.2387, 156.0522, 5613,    100.7,   21.1238,  35.0022,2,    230.6,2,     -999,9,   230.70,6,     1.87,6,     0.01,6,     0.00,6,    0.010,6,     -999,9,     -999,9,     -999,9,     -999,9,     -999,9,     -999,     -999,9,     -999,9,     -999,9,     -999,9,  21.1045,2,  24.4671,2,  21.1292,2
49UP20210827_1,   P03,    59,  1,     33,     842,2,20210905,2123,2347, 24.2387, 156.0522, 5613,    127.9,   19.7135,  34.9105,2,    217.6,2,     -999,9,   218.21,2,     2.25,2,     0.00,2,     0.00,2,    0.030,2,     -999,9,     -999,9,     -999,9,     -999,9,     -999,9,     -999,     -999,9,     -999,9,     -999,9,     -999,9,  19.6902,2,  24.7747,2,  19.7080,2
49UP20210827_1,   P03,    59,  1,     32,     841,2,20210905,2123,2345, 24.2387, 156.0522, 5613,    150.4,   18.6294,  34.8126,2,    206.6,2,     -999,9,   206.91,2,     2.96,2,     1.18,2,     0.06,2,    0.130,2,     -999,9,     -999,9,     -999,9,     -999,9,     -999,9,     -999,     -999,9,     -999,9,     -999,9,     -999,9,  18.6030,2,  24.9784,2,  18.6300,2
49UP20210827_1,   P03,    59,  1,     31,     840,2,20210905,2123,2343, 24.2387, 156.0522, 5613,    204.3,   17.4182,  34.7488,2,    205.5,2,     -999,9,   205.83,2,     4.13,2,     4.39,2,     0.01,2,    0.290,2,     -999,9,     -999,9,     -999,9,     -999,9,     -999,9,     -999,     -999,9,     -999,9,     -999,9,     -999,9,  17.3840,2,  25.2297,2,  17.4183,2
49UP20210827_1,   P03,    59,  1,     30,     839,2,20210905,2123,2341, 24.2387, 156.0522, 5613,    252.2,   16.7267,  34.7131,2,    201.2,2,     -999,9,   201.14,2,     5.57,2,     5.97,2,     0.00,2,    0.400,2,     -999,9,     -999,9,     -999,9,     -999,9,     -999,9,     -999,     -999,9,     -999,9,     -999,9,     -999,9,  16.6856,2,  25.3682,2,  16.7263,2
49UP20210827_1,   P03,    59,  1,     29,     838,2,20210905,2123,2339, 24.2387, 156.0522, 5613,    282.0,   16.1701,  34.6693,2,    198.4,2,     -999,9,   198.28,2,     6.85,2,     6.99,2,     0.00,2,    0.470,2,     -999,9,     -999,9,     -999,9,     -999,9,     -999,9,     -999,     -999,9,     -999,9,     -999,9,     -999,9,  16.1251,2,  25.4646,2,  16.1703,2
49UP20210827_1,   P03,    59,  1,     28,     755,2,20210905,2123,2336, 24.2387, 156.0522, 5613,    374.0,   13.6786,  34.4678,2,    194.0,2,     -999,9,   193.87,2,    13.03,2,    11.26,2,     0.00,2,    0.780,2,     -999,9,     -999,9,     -999,9,     -999,9,     -999,9,     -999,     -999,9,     -999,9,     -999,9,     -999,9,  13.6253,2,  25.8536,2,  13.6791,2
49UP20210827_1,   P03,    59,  1,     27,     754,2,20210905,2123,2333, 24.2387, 156.0522, 5613,    475.3,   10.3158,  34.2034,2,    192.7,2,     -999,9,   193.11,2,    23.66,2,    16.93,2,     0.00,2,    1.190,2,     -999,9,     -999,9,     -999,9,     -999,9,     -999,9,     -999,     -999,9,     -999,9,     -999,9,     -999,9,  10.2593,2,  26.2856,2,  10.3181,2
49UP20210827_1,   P03,    59,  1,     26,     835,2,20210905,2123,2330, 24.2387, 156.0522, 5613,    573.3,    7.3635,  34.0355,2,    152.3,2,     -999,9,   152.53,2,    46.23,2,    26.01,2,     0.00,2,    1.870,2,     -999,9,     -999,9,     -999,9,     -999,9,     -999,9,     -999,     -999,9,     -999,9,     -999,9,     -999,9,   7.3076,2,  26.6162,2,   7.3638,2
49UP20210827_1,   P03,    59,  1,     25,     834,2,20210905,2123,2327, 24.2387, 156.0522, 5613,    675.3,    5.5628,  34.0606,2,     98.9,2,     -999,9,    99.20,6,    72.99,6,    34.14,6,     0.00,6,    2.470,6,     -999,9,     -999,9,     -999,9,     -999,9,     -999,9,     -999,     -999,9,     -999,9,     -999,9,     -999,9,   5.5057,2,  26.8712,2,   5.5627,2
49UP20210827_1,   P03,    59,  1,     24,     753,2,20210905,2123,2324, 24.2387, 156.0522, 5613,    775.7,    4.7023,  34.1861,2,     57.8,2,     -999,9,    57.99,2,    94.31,2,    39.15,2,     0.00,2,    2.820,2,     -999,9,     -999,9,     -999,9,     -999,9,     -999,9,     -999,     -999,9,     -999,9,     -999,9,     -999,9,   4.6411,2,  27.0704,2,   4.7018,2
49UP20210827_1,   P03,    59,  1,     23,     832,2,20210905,2123,2321, 24.2387, 156.0522, 5613,    877.2,    4.1888,  34.2949,2,     45.2,2,     -999,9,    45.89,2,   107.65,2,    40.93,2,     0.00,2,    2.950,2,     -999,9,     -999,9,     -999,9,     -999,9,     -999,9,     -999,     -999,9,     -999,9,     -999,9,     -999,9,   4.1223,2,  27.2126,2,   4.1887,2
49UP20210827_1,   P03,    59,  1,     22,     831,2,20210905,2123,2318, 24.2387, 156.0522, 5613,    977.2,    3.7963,  34.3793,2,     45.9,2,     -999,9,    45.63,2,   117.81,2,    41.49,2,     0.00,2,    2.980,2,     -999,9,     -999,9,     -999,9,     -999,9,     -999,9,     -999,     -999,9,     -999,9,     -999,9,     -999,9,   3.7242,2,  27.3204,2,   3.7960,2
49UP20210827_1,   P03,    59,  1,     21,     830,2,20210905,2123,2314, 24.2387, 156.0522, 5613,   1140.2,    3.3022,  34.4579,2,     54.7,2,     -999,9,    54.71,2,   128.28,2,    41.30,2,     0.00,2,    2.950,2,     -999,9,     -999,9,     -999,9,     -999,9,     -999,9,     -999,     -999,9,     -999,9,     -999,9,     -999,9,   3.2209,2,  27.4318,2,   3.3011,2
49UP20210827_1,   P03,    59,  1,     20,     829,2,20210905,2123,2309, 24.2387, 156.0522, 5613,   1342.2,    2.8649,  34.5098,2,     65.5,2,     -999,9,    66.28,2,   137.32,2,    40.84,2,     0.00,2,    2.900,2,     -999,9,     -999,9,     -999,9,     -999,9,     -999,9,     -999,     -999,9,     -999,9,     -999,9,     -999,9,   2.7716,2,  27.5143,2,   2.8648,2
49UP20210827_1,   P03,    59,  1,     19,     828,2,20210905,2123,2304, 24.2387, 156.0522, 5613,   1544.8,    2.4882,  34.5565,2,     81.0,2,     -999,9,    80.94,2,   142.83,2,    40.09,2,     0.00,2,    2.850,2,     -999,9,     -999,9,     -999,9,     -999,9,     -999,9,     -999,     -999,9,     -999,9,     -999,9,     -999,9,   2.3827,2,  27.5852,2,   2.4877,2
49UP20210827_1,   P03,    59,  1,     18,     752,2,20210905,2123,2259, 24.2387, 156.0522, 5613,   1747.2,    2.2637,  34.5811,2,     89.8,2,     -999,9,    89.92,2,   146.49,2,    39.67,2,     0.00,2,    2.800,2,     -999,9,     -999,9,     -999,9,     -999,9,     -999,9,     -999,     -999,9,     -999,9,     -999,9,     -999,9,   2.1446,2,  27.6245,2,   2.2637,2
49UP20210827_1,   P03,    59,  1,     17,     751,2,20210905,2123,2254, 24.2387, 156.0522, 5613,   1951.9,    2.0142,  34.6035,2,     96.8,2,     -999,9,    96.66,2,   151.65,2,    39.39,2,     0.00,2,    2.780,2,     -999,9,     -999,9,     -999,9,     -999,9,     -999,9,     -999,     -999,9,     -999,9,     -999,9,     -999,9,   1.8816,2,  27.6633,2,   2.0145,2
49UP20210827_1,   P03,    59,  1,     16,     328,2,20210905,2123,2249, 24.2387, 156.0522, 5613,   2154.4,    1.8672,  34.6216,2,    105.5,2,     -999,9,   105.81,6,   152.82,6,    38.90,6,     0.00,6,    2.730,6,     -999,9,     -999,9,     -999,9,     -999,9,     -999,9,     -999,     -999,9,     -999,9,     -999,9,     -999,9,   1.7199,2,  27.6902,2,   1.8673,2
49UP20210827_1,   P03,    59,  1,     15,     822,2,20210905,2123,2244, 24.2387, 156.0522, 5613,   2356.5,    1.7640,  34.6358,2,    113.9,2,     -999,9,   114.09,2,   153.07,2,    38.39,2,     0.00,2,    2.690,2,     -999,9,     -999,9,     -999,9,     -999,9,     -999,9,     -999,     -999,9,     -999,9,     -999,9,     -999,9,   1.6009,2,  27.7105,2,   1.7638,2
49UP20210827_1,   P03,    59,  1,     14,     326,3,20210905,2123,2239, 24.2387, 156.0522, 5613,   2562.3,    1.6706,  34.6483,2,    122.0,2,     -999,9,   121.67,2,   152.54,2,    37.90,2,     0.00,2,    2.650,2,     -999,9,     -999,9,     -999,9,     -999,9,     -999,9,     -999,     -999,9,     -999,9,     -999,9,     -999,9,   1.4909,2,  27.7286,2,   1.6707,2
49UP20210827_1,   P03,    59,  1,     13,     325,2,20210905,2123,2234, 24.2387, 156.0522, 5613,   2765.6,    1.6136,  34.6564,2,    127.6,2,     -999,9,   127.95,2,   153.08,2,    37.57,2,     0.00,2,    2.630,2,     -999,9,     -999,9,     -999,9,     -999,9,     -999,9,     -999,     -999,9,     -999,9,     -999,9,     -999,9,   1.4165,2,  27.7405,2,   1.6135,2
49UP20210827_1,   P03,    59,  1,     12,     324,2,20210905,2123,2229, 24.2387, 156.0522, 5613,   2969.7,    1.5593,  34.6640,2,    134.0,2,     -999,9,   134.18,2,   151.69,2,    37.14,2,     0.00,2,    2.590,2,     -999,9,     -999,9,     -999,9,     -999,9,     -999,9,     -999,     -999,9,     -999,9,     -999,9,     -999,9,   1.3441,2,  27.7517,2,   1.5593,2
49UP20210827_1,   P03,    59,  1,     11,     323,2,20210905,2123,2223, 24.2387, 156.0522, 5613,   3212.5,    1.5236,  34.6699,2,    139.3,2,     -999,9,   140.01,2,   151.18,2,    36.82,2,     0.00,2,    2.560,2,     -999,9,     -999,9,     -999,9,     -999,9,     -999,9,     -999,     -999,9,     -999,9,     -999,9,     -999,9,   1.2857,2,  27.7606,2,   1.5237,2
49UP20210827_1,   P03,    59,  1,     10,     322,2,20210905,2123,2217, 24.2387, 156.0522, 5613,   3468.8,    1.4978,  34.6748,2,    144.7,2,     -999,9,   144.75,2,   149.80,2,    36.46,2,     0.00,2,    2.540,2,     -999,9,     -999,9,     -999,9,     -999,9,     -999,9,     -999,     -999,9,     -999,9,     -999,9,     -999,9,   1.2349,2,  27.7681,2,   1.4977,2
49UP20210827_1,   P03,    59,  1,      9,     750,2,20210905,2123,2211, 24.2387, 156.0522, 5613,   3725.8,    1.4783,  34.6789,2,    149.2,2,     -999,9,   149.23,2,   148.85,2,    36.20,2,     0.00,2,    2.510,2,     -999,9,     -999,9,     -999,9,     -999,9,     -999,9,     -999,     -999,9,     -999,9,     -999,9,     -999,9,   1.1893,2,  27.7745,2,   1.4781,2
49UP20210827_1,   P03,    59,  1,      8,     320,2,20210905,2123,2205, 24.2387, 156.0522, 5613,   3982.3,    1.4633,  34.6829,2,    153.9,2,     -999,9,   154.37,2,   147.16,2,    35.88,2,     0.00,2,    2.490,2,     -999,9,     -999,9,     -999,9,     -999,9,     -999,9,     -999,     -999,9,     -999,9,     -999,9,     -999,9,   1.1473,2,  27.7806,2,   1.4631,2
49UP20210827_1,   P03,    59,  1,      7,     319,2,20210905,2123,2159, 24.2387, 156.0522, 5613,   4239.5,    1.4605,  34.6859,2,    157.7,2,     -999,9,   158.07,6,   145.51,6,    35.60,6,     0.00,6,    2.470,6,     -999,9,     -999,9,     -999,9,     -999,9,     -999,9,     -999,     -999,9,     -999,9,     -999,9,     -999,9,   1.1163,2,  27.7851,2,   1.4605,2
49UP20210827_1,   P03,    59,  1,      6,     318,3,20210905,2123,2153, 24.2387, 156.0522, 5613,   4495.5,    1.4629,  34.6883,2,    161.4,2,     -999,9,   160.65,2,   143.34,2,    35.31,2,     0.00,2,    2.440,2,     -999,9,     -999,9,     -999,9,     -999,9,     -999,9,     -999,     -999,9,     -999,9,     -999,9,     -999,9,   1.0896,2,  27.7889,2,   1.4629,2
49UP20210827_1,   P03,    59,  1,      5,     317,2,20210905,2123,2147, 24.2387, 156.0522, 5613,   4752.2,    1.4753,  34.6901,2,    163.9,2,     -999,9,   163.82,2,   142.33,2,    35.15,2,     0.00,2,    2.440,2,     -999,9,     -999,9,     -999,9,     -999,9,     -999,9,     -999,     -999,9,     -999,9,     -999,9,     -999,9,   1.0716,2,  27.7916,2,   1.4754,2
49UP20210827_1,   P03,    59,  1,      4,     316,2,20210905,2123,2141, 24.2387, 156.0522, 5613,   5011.7,    1.4888,  34.6917,2,    166.9,2,     -999,9,   167.05,2,   140.64,2,    34.97,2,     0.00,2,    2.420,2,     -999,9,     -999,9,     -999,9,     -999,9,     -999,9,     -999,     -999,9,     -999,9,     -999,9,     -999,9,   1.0535,2,  27.7940,2,   1.4887,2
49UP20210827_1,   P03,    59,  1,      3,     315,2,20210905,2123,2135, 24.2387, 156.0522, 5613,   5262.9,    1.5058,  34.6931,2,    169.4,2,     -999,9,   169.35,2,   138.55,2,    34.79,2,     0.00,2,    2.420,2,     -999,9,     -999,9,     -999,9,     -999,9,     -999,9,     -999,     -999,9,     -999,9,     -999,9,     -999,9,   1.0390,2,  27.7962,2,   1.5061,2
49UP20210827_1,   P03,    59,  1,      2,     314,2,20210905,2123,2129, 24.2387, 156.0522, 5613,   5524.3,    1.5292,  34.6938,2,    171.1,2,     -999,9,   171.17,2,   137.09,2,    34.66,2,     0.00,2,    2.390,2,     -999,9,     -999,9,     -999,9,     -999,9,     -999,9,     -999,     -999,9,     -999,9,     -999,9,     -999,9,   1.0284,2,  27.7974,2,   1.5292,2
49UP20210827_1,   P03,    59,  1,      1,     811,2,20210905,2123,2124, 24.2387, 156.0522, 5613,   5754.6,    1.5579,  34.6942,2,    171.7,2,     -999,9,   171.59,2,   137.02,2,    34.64,2,     0.00,2,    2.390,2,     -999,9,     -999,9,     -999,9,     -999,9,     -999,9,     -999,     -999,9,     -999,9,     -999,9,     -999,9,   1.0262,2,  27.7979,2,   1.5578,2