BOTTLE,20230808CCHSIOADS
EXPOCODE,SECT_ID,STNNBR,CASTNO,SAMPNO,BTLNBR,BTLNBR_FLAG_W,DATE,TIME,BTL_TIME,LATITUDE,LONGITUDE,DEPTH,CTDPRS,CTDTMP,CTDSAL,CTDSAL_FLAG_W,CTDOXY,CTDOXY_FLAG_W,SALNTY,SALNTY_FLAG_W,OXYGEN,OXYGEN_FLAG_W,SILCAT,SILCAT_FLAG_W,NO2+NO3,NO2+NO3_FLAG_W,NITRIT,NITRIT_FLAG_W,PHSPHT,PHSPHT_FLAG_W,CFC-11,CFC-11_FLAG_W,CFC-12,CFC-12_FLAG_W,TCARBN,TCARBN_FLAG_W,ALKALI,ALKALI_FLAG_W,PH_TOT,PH_TOT_FLAG_W,PH_TMP,CFC113,CFC113_FLAG_W,SF6,SF6_FLAG_W,CHLORA,CHLORA_FLAG_W,PPHYTN,PPHYTN_FLAG_W,THETA,THETA_FLAG_W,SIG0,SIG0_FLAG_W,SBE35,SBE35_FLAG_W
,,,,,,,,,,,,METERS,DBAR,ITS-90,PSS-78,,UMOL/KG,,PSS78,,UMOL/KG,,UMOL/KG,,UMOL/KG,,UMOL/KG,,UMOL/KG,,PMOL/KG,,PMOL/KG,,UMOL/KG,,UMOL/KG,,,,DEG C,PMOL/KG,,FMOL/KG,,UG/KG,,UG/KG,,ITS-90,,KG/M^3,,ITS-90,
49UP20210719_2,   P03,    25,  1,      0,     BUC,2,20210808,1740,1910, 24.2633, 136.1852, 4274,      0.0,   28.3985,  34.5346,2,    198.2,2,     -999,9,   198.01,2,     1.14,2,     0.00,2,     0.00,2,    0.020,2,     -999,9,     -999,9,     -999,9,     -999,9,     -999,9,     -999,     -999,9,     -999,9,     -999,9,     -999,9,  28.3979,2,  21.9142,2,     -999,9
49UP20210719_2,   P03,    25,  1,     36,     757,2,20210808,1740,1943, 24.2633, 136.1852, 4274,     11.1,   28.4026,  34.5382,2,    198.4,2,     -999,9,   197.69,2,     1.14,2,     0.00,2,     0.00,2,    0.000,2,     -999,9,     -999,9,     -999,9,     -999,9,     -999,9,     -999,     -999,9,     -999,9,     -999,9,     -999,9,  28.4000,2,  21.9163,2,  28.4031,2
49UP20210719_2,   P03,    25,  1,     35,     756,2,20210808,1740,1942, 24.2633, 136.1852, 4274,     25.4,   28.2703,  34.6491,2,    198.6,2,     -999,9,   198.33,2,     1.15,2,     0.00,2,     0.00,2,    0.000,2,     -999,9,     -999,9,     -999,9,     -999,9,     -999,9,     -999,     -999,9,     -999,9,     -999,9,     -999,9,  28.2642,2,  22.0443,2,  28.2705,2
49UP20210719_2,   P03,    25,  1,     34,     843,2,20210808,1740,1940, 24.2633, 136.1852, 4274,     51.8,   24.8456,  34.8306,2,    220.8,2,     -999,9,   218.97,2,     1.26,2,     0.00,2,     0.00,2,    0.000,2,     -999,9,     -999,9,     -999,9,     -999,9,     -999,9,     -999,     -999,9,     -999,9,     -999,9,     -999,9,  24.8344,2,  23.2634,2,  24.8525,2
49UP20210719_2,   P03,    25,  1,     33,     842,2,20210808,1740,1938, 24.2633, 136.1852, 4274,     74.8,   22.5490,  34.8547,2,    223.5,2,     -999,9,   221.19,2,     1.50,2,     0.00,2,     0.00,2,    0.010,2,     -999,9,     -999,9,     -999,9,     -999,9,     -999,9,     -999,     -999,9,     -999,9,     -999,9,     -999,9,  22.5340,2,  23.9568,2,  22.5483,2
49UP20210719_2,   P03,    25,  1,     32,     841,2,20210808,1740,1935, 24.2633, 136.1852, 4274,     99.5,   21.5389,  34.8497,2,    218.0,2,     -999,9,   217.52,2,     1.62,2,     0.00,2,     0.00,2,    0.020,2,     -999,9,     -999,9,     -999,9,     -999,9,     -999,9,     -999,     -999,9,     -999,9,     -999,9,     -999,9,  21.5195,2,  24.2372,2,  21.5392,2
49UP20210719_2,   P03,    25,  1,     31,     840,2,20210808,1740,1933, 24.2633, 136.1852, 4274,    126.5,   20.1971,  34.8394,2,    218.4,2,     -999,9,   218.02,2,     1.78,2,     0.15,2,     0.15,2,    0.030,2,     -999,9,     -999,9,     -999,9,     -999,9,     -999,9,     -999,     -999,9,     -999,9,     -999,9,     -999,9,  20.1736,2,  24.5934,2,  20.2309,2
49UP20210719_2,   P03,    25,  1,     30,     839,2,20210808,1740,1931, 24.2633, 136.1852, 4274,    151.1,   19.5515,  34.8303,2,    208.9,2,     -999,9,   208.47,6,     2.27,6,     1.41,6,     0.04,6,    0.110,6,     -999,9,     -999,9,     -999,9,     -999,9,     -999,9,     -999,     -999,9,     -999,9,     -999,9,     -999,9,  19.5241,2,  24.7567,2,  19.5509,2
49UP20210719_2,   P03,    25,  1,     29,     838,2,20210808,1740,1929, 24.2633, 136.1852, 4274,    202.4,   18.3015,  34.7988,2,    197.0,2,     -999,9,   196.82,2,     3.68,2,     3.90,2,     0.01,2,    0.280,2,     -999,9,     -999,9,     -999,9,     -999,9,     -999,9,     -999,     -999,9,     -999,9,     -999,9,     -999,9,  18.2664,2,  25.0521,2,  18.3009,2
49UP20210719_2,   P03,    25,  1,     28,     755,2,20210808,1740,1929, 24.2633, 136.1852, 4274,    203.4,   18.2923,  34.7987,2,    197.0,2,     -999,9,   196.90,2,     3.65,2,     3.93,2,     0.01,2,    0.270,2,     -999,9,     -999,9,     -999,9,     -999,9,     -999,9,     -999,     -999,9,     -999,9,     -999,9,     -999,9,  18.2570,2,  25.0543,2,  18.2923,2
49UP20210719_2,   P03,    25,  1,     27,     754,3,20210808,1740,1927, 24.2633, 136.1852, 4274,    252.8,   17.3888,  34.7556,2,    202.0,2,     -999,9,   201.88,2,     4.31,2,     4.74,2,     0.00,2,    0.320,2,     -999,9,     -999,9,     -999,9,     -999,9,     -999,9,     -999,     -999,9,     -999,9,     -999,9,     -999,9,  17.3464,2,  25.2439,2,  17.3918,2
49UP20210719_2,   P03,    25,  1,     26,     835,2,20210808,1740,1925, 24.2633, 136.1852, 4274,    303.6,   16.6731,  34.7109,2,    196.9,2,     -999,9,   197.02,2,     6.02,2,     6.33,2,     0.00,2,    0.430,2,     -999,9,     -999,9,     -999,9,     -999,9,     -999,9,     -999,     -999,9,     -999,9,     -999,9,     -999,9,  16.6237,2,  25.3810,2,  16.6748,2
49UP20210719_2,   P03,    25,  1,     25,     834,2,20210808,1740,1922, 24.2633, 136.1852, 4274,    403.4,   13.9872,  34.4869,2,    192.0,2,     -999,9,   192.23,2,    11.88,2,    10.73,2,     0.00,2,    0.750,2,     -999,9,     -999,9,     -999,9,     -999,9,     -999,9,     -999,     -999,9,     -999,9,     -999,9,     -999,9,  13.9288,2,  25.8055,2,  13.9991,2
49UP20210719_2,   P03,    25,  1,     24,     753,2,20210808,1740,1919, 24.2633, 136.1852, 4274,    504.8,   10.7912,  34.2536,2,    172.1,2,     -999,9,   172.29,2,    24.82,2,    17.99,2,     0.00,2,    1.280,2,     -999,9,     -999,9,     -999,9,     -999,9,     -999,9,     -999,     -999,9,     -999,9,     -999,9,     -999,9,  10.7294,2,  26.2426,2,  10.7912,2
49UP20210719_2,   P03,    25,  1,     23,     832,2,20210808,1740,1916, 24.2633, 136.1852, 4274,    605.3,    7.9660,  34.1524,2,    135.3,2,     -999,9,   134.87,2,    49.69,2,    26.54,2,     0.00,2,    1.900,2,     -999,9,     -999,9,     -999,9,     -999,9,     -999,9,     -999,     -999,9,     -999,9,     -999,9,     -999,9,   7.9041,2,  26.6224,2,   7.9630,2
49UP20210719_2,   P03,    25,  1,     22,     831,2,20210808,1740,1913, 24.2633, 136.1852, 4274,    706.3,    6.1112,  34.1450,2,     99.7,2,     -999,9,    99.52,6,    72.72,6,    33.01,6,     0.00,6,    2.370,6,     -999,9,     -999,9,     -999,9,     -999,9,     -999,9,     -999,     -999,9,     -999,9,     -999,9,     -999,9,   6.0483,2,  26.8709,2,   6.1100,2
49UP20210719_2,   P03,    25,  1,     21,     830,2,20210808,1740,1910, 24.2633, 136.1852, 4274,    808.2,    5.0119,  34.2110,2,     73.1,2,     -999,9,    72.98,2,    92.28,2,    37.14,2,     0.00,2,    2.670,2,     -999,9,     -999,9,     -999,9,     -999,9,     -999,9,     -999,     -999,9,     -999,9,     -999,9,     -999,9,   4.9460,2,  27.0559,2,   5.0110,2
49UP20210719_2,   P03,    25,  1,     20,     829,2,20210808,1740,1907, 24.2633, 136.1852, 4274,    910.3,    4.3949,  34.2916,2,     60.8,2,     -999,9,    61.23,2,   105.33,2,    39.19,2,     0.00,2,    2.810,2,     -999,9,     -999,9,     -999,9,     -999,9,     -999,9,     -999,     -999,9,     -999,9,     -999,9,     -999,9,   4.3242,2,  27.1886,2,   4.3949,2
49UP20210719_2,   P03,    25,  1,     19,     828,2,20210808,1740,1903, 24.2633, 136.1852, 4274,   1010.5,    3.9636,  34.3530,2,     57.5,2,     -999,9,    57.91,2,   114.80,2,    40.09,2,     0.00,2,    2.870,2,     -999,9,     -999,9,     -999,9,     -999,9,     -999,9,     -999,     -999,9,     -999,9,     -999,9,     -999,9,   3.8876,2,  27.2830,2,   3.9636,2
49UP20210719_2,   P03,    25,  1,     18,     752,2,20210808,1740,1858, 24.2633, 136.1852, 4274,   1213.0,    3.2320,  34.4582,2,     65.0,2,     -999,9,    64.26,2,   130.40,2,    40.44,2,     0.00,2,    2.880,2,     -999,9,     -999,9,     -999,9,     -999,9,     -999,9,     -999,     -999,9,     -999,9,     -999,9,     -999,9,   3.1455,2,  27.4391,2,   3.2349,2
49UP20210719_2,   P03,    25,  1,     17,     751,2,20210808,1740,1853, 24.2633, 136.1852, 4274,   1414.1,    2.7965,  34.5213,2,     80.4,2,     -999,9,    79.86,2,   137.52,2,    39.71,2,     0.00,2,    2.820,2,     -999,9,     -999,9,     -999,9,     -999,9,     -999,9,     -999,     -999,9,     -999,9,     -999,9,     -999,9,   2.6981,2,  27.5300,2,   2.7965,2
49UP20210719_2,   P03,    25,  1,     16,     328,2,20210808,1740,1845, 24.2633, 136.1852, 4274,   1618.1,    2.5032,  34.5580,2,     92.5,2,     -999,9,    91.89,2,   140.97,2,    39.17,2,     0.00,2,    2.770,2,     -999,9,     -999,9,     -999,9,     -999,9,     -999,9,     -999,     -999,9,     -999,9,     -999,9,     -999,9,   2.3916,2,  27.5857,2,   2.5032,2
49UP20210719_2,   P03,    25,  1,     15,     822,2,20210808,1740,1840, 24.2633, 136.1852, 4274,   1821.0,    2.2603,  34.5873,2,    103.4,2,     -999,9,   102.86,2,   143.15,2,    38.63,2,     0.00,2,    2.720,2,     -999,9,     -999,9,     -999,9,     -999,9,     -999,9,     -999,     -999,9,     -999,9,     -999,9,     -999,9,   2.1351,2,  27.6302,2,   2.2603,2
49UP20210719_2,   P03,    25,  1,     14,     326,2,20210808,1740,1835, 24.2633, 136.1852, 4274,   2027.7,    2.0492,  34.6088,2,    112.3,2,     -999,9,   111.97,2,   144.49,2,    38.20,2,     0.00,2,    2.680,2,     -999,9,     -999,9,     -999,9,     -999,9,     -999,9,     -999,     -999,9,     -999,9,     -999,9,     -999,9,   1.9097,2,  27.6654,2,   2.0493,2
49UP20210719_2,   P03,    25,  1,     13,     325,2,20210808,1740,1829, 24.2633, 136.1852, 4274,   2224.8,    1.9288,  34.6235,2,    119.3,2,     -999,9,   118.72,6,   144.85,6,    37.83,6,     0.00,6,    2.650,6,     -999,9,     -999,9,     -999,9,     -999,9,     -999,9,     -999,     -999,9,     -999,9,     -999,9,     -999,9,   1.7744,2,  27.6876,2,   1.9291,2
49UP20210719_2,   P03,    25,  1,     11,     323,2,20210808,1740,1823, 24.2633, 136.1852, 4274,   2428.1,    1.8396,  34.6331,2,    124.6,2,     -999,9,   124.00,2,   145.25,2,    37.54,2,     0.00,2,    2.630,2,     -999,9,     -999,9,     -999,9,     -999,9,     -999,9,     -999,     -999,9,     -999,9,     -999,9,     -999,9,   1.6688,2,  27.7032,2,   1.8397,2
49UP20210719_2,   P03,    25,  1,     12,     324,2,20210808,1740,1824, 24.2633, 136.1852, 4274,   2428.5,    1.8395,  34.6330,2,    124.6,2,     -999,9,   124.31,2,   145.53,2,    37.53,2,     0.00,2,    2.630,2,     -999,9,     -999,9,     -999,9,     -999,9,     -999,9,     -999,     -999,9,     -999,9,     -999,9,     -999,9,   1.6687,2,  27.7031,2,   1.8395,2
49UP20210719_2,   P03,    25,  1,     10,     322,2,20210808,1740,1819, 24.2633, 136.1852, 4274,   2633.2,    1.7695,  34.6424,2,    129.8,2,     -999,9,   129.53,2,   145.14,2,    37.26,2,     0.00,2,    2.610,2,     -999,9,     -999,9,     -999,9,     -999,9,     -999,9,     -999,     -999,9,     -999,9,     -999,9,     -999,9,   1.5814,2,  27.7172,2,   1.7695,2
49UP20210719_2,   P03,    25,  1,      9,     750,2,20210808,1740,1813, 24.2633, 136.1852, 4274,   2835.6,    1.6999,  34.6529,2,    135.7,2,     -999,9,   135.27,2,   145.09,2,    36.93,2,     0.00,2,    2.580,2,     -999,9,     -999,9,     -999,9,     -999,9,     -999,9,     -999,     -999,9,     -999,9,     -999,9,     -999,9,   1.4944,2,  27.7320,2,   1.7000,2
49UP20210719_2,   P03,    25,  1,      8,     320,2,20210808,1740,1808, 24.2633, 136.1852, 4274,   3039.6,    1.6594,  34.6589,2,    139.4,2,     -999,9,   139.89,2,   144.96,2,    36.69,2,     0.00,2,    2.560,2,     -999,9,     -999,9,     -999,9,     -999,9,     -999,9,     -999,     -999,9,     -999,9,     -999,9,     -999,9,   1.4354,2,  27.7411,2,   1.6599,2
49UP20210719_2,   P03,    25,  1,      7,     319,2,20210808,1740,1803, 24.2633, 136.1852, 4274,   3297.9,    1.5971,  34.6676,2,    145.2,2,     -999,9,   145.03,2,   144.34,2,    36.34,2,     0.00,2,    2.530,2,     -999,9,     -999,9,     -999,9,     -999,9,     -999,9,     -999,     -999,9,     -999,9,     -999,9,     -999,9,   1.3491,2,  27.7543,2,   1.5974,2
49UP20210719_2,   P03,    25,  1,      6,     318,2,20210808,1740,1757, 24.2633, 136.1852, 4274,   3550.9,    1.5651,  34.6734,2,    149.3,2,     -999,9,   149.14,2,   143.99,2,    36.05,2,     0.00,2,    2.510,2,     -999,9,     -999,9,     -999,9,     -999,9,     -999,9,     -999,     -999,9,     -999,9,     -999,9,     -999,9,   1.2922,2,  27.7629,2,   1.5653,2
49UP20210719_2,   P03,    25,  1,      5,     317,2,20210808,1740,1751, 24.2633, 136.1852, 4274,   3806.7,    1.5477,  34.6777,2,    152.6,2,     -999,9,   152.83,6,   143.26,6,    35.86,6,     0.00,6,    2.490,6,     -999,9,     -999,9,     -999,9,     -999,9,     -999,9,     -999,     -999,9,     -999,9,     -999,9,     -999,9,   1.2483,2,  27.7695,2,   1.5477,2
49UP20210719_2,   P03,    25,  1,      3,     315,2,20210808,1740,1745, 24.2633, 136.1852, 4274,   4064.4,    1.5507,  34.6800,2,    154.7,2,     -999,9,   156.28,3,   142.46,2,    35.76,2,     0.00,2,    2.480,2,     -999,9,     -999,9,     -999,9,     -999,9,     -999,9,     -999,     -999,9,     -999,9,     -999,9,     -999,9,   1.2234,2,  27.7731,2,   1.5507,2
49UP20210719_2,   P03,    25,  1,      4,     316,2,20210808,1740,1745, 24.2633, 136.1852, 4274,   4064.8,    1.5509,  34.6800,2,    154.7,2,     -999,9,   155.20,2,   143.01,2,    35.76,2,     0.00,2,    2.480,2,     -999,9,     -999,9,     -999,9,     -999,9,     -999,9,     -999,     -999,9,     -999,9,     -999,9,     -999,9,   1.2235,2,  27.7730,2,   1.5509,2
49UP20210719_2,   P03,    25,  1,      2,     314,2,20210808,1740,1740, 24.2633, 136.1852, 4274,   4267.7,    1.5608,  34.6810,2,    155.9,2,     -999,9,   156.07,2,   142.56,2,    35.68,2,     0.00,2,    2.470,2,     -999,9,     -999,9,     -999,9,     -999,9,     -999,9,     -999,     -999,9,     -999,9,     -999,9,     -999,9,   1.2106,2,  27.7747,2,   1.5608,2