BOTTLE,20230808CCHSIOADS
EXPOCODE,SECT_ID,STNNBR,CASTNO,SAMPNO,BTLNBR,BTLNBR_FLAG_W,DATE,TIME,BTL_TIME,LATITUDE,LONGITUDE,DEPTH,CTDPRS,CTDTMP,CTDSAL,CTDSAL_FLAG_W,CTDOXY,CTDOXY_FLAG_W,SALNTY,SALNTY_FLAG_W,OXYGEN,OXYGEN_FLAG_W,SILCAT,SILCAT_FLAG_W,NO2+NO3,NO2+NO3_FLAG_W,NITRIT,NITRIT_FLAG_W,PHSPHT,PHSPHT_FLAG_W,CFC-11,CFC-11_FLAG_W,CFC-12,CFC-12_FLAG_W,TCARBN,TCARBN_FLAG_W,ALKALI,ALKALI_FLAG_W,PH_TOT,PH_TOT_FLAG_W,PH_TMP,CFC113,CFC113_FLAG_W,SF6,SF6_FLAG_W,CHLORA,CHLORA_FLAG_W,PPHYTN,PPHYTN_FLAG_W,THETA,THETA_FLAG_W,SIG0,SIG0_FLAG_W,SBE35,SBE35_FLAG_W
,,,,,,,,,,,,METERS,DBAR,ITS-90,PSS-78,,UMOL/KG,,PSS78,,UMOL/KG,,UMOL/KG,,UMOL/KG,,UMOL/KG,,UMOL/KG,,PMOL/KG,,PMOL/KG,,UMOL/KG,,UMOL/KG,,,,DEG C,PMOL/KG,,FMOL/KG,,UG/KG,,UG/KG,,ITS-90,,KG/M^3,,ITS-90,
49UP20210719_2,   P03,    20,  1,      0,     BUC,2,20210805,0149, 332, 24.2580, 133.3663, 4621,      0.0,   28.3801,  34.1627,2,    197.7,2,     -999,9,   198.47,2,     1.36,2,     0.08,2,     0.00,2,    0.020,2,     -999,9,     -999,9,     -999,9,     -999,9,     -999,9,     -999,     -999,9,     -999,9,     -999,9,     -999,9,  28.3796,2,  21.6409,2,     -999,9
49UP20210719_2,   P03,    20,  1,     36,     757,2,20210805,0149, 402, 24.2580, 133.3663, 4621,      8.5,   28.3549,  34.1998,2,    197.6,2,     -999,9,   198.42,2,     1.27,2,     0.02,2,     0.00,2,    0.000,2,     -999,9,     -999,9,     -999,9,     -999,9,     -999,9,     -999,     -999,9,     -999,9,     -999,9,     -999,9,  28.3529,2,  21.6776,2,  28.3534,2
49UP20210719_2,   P03,    20,  1,     35,     756,2,20210805,0149, 400, 24.2580, 133.3663, 4621,     26.3,   26.8175,  34.2887,2,    205.7,2,     -999,9,   206.30,2,     1.34,2,     0.02,2,     0.00,2,    0.000,2,     -999,9,     -999,9,     -999,9,     -999,9,     -999,9,     -999,     -999,9,     -999,9,     -999,9,     -999,9,  26.8115,2,  22.2420,2,  26.7707,2
49UP20210719_2,   P03,    20,  1,     34,     843,3,20210805,0149, 356, 24.2580, 133.3663, 4621,     49.6,   23.3204,  34.8158,2,    221.1,2,     -999,9,   219.22,2,     1.61,2,     0.02,2,     0.00,2,    0.010,2,     -999,9,     -999,9,     -999,9,     -999,9,     -999,9,     -999,     -999,9,     -999,9,     -999,9,     -999,9,  23.3102,2,  23.7042,2,  23.3208,2
49UP20210719_2,   P03,    20,  1,     33,     842,2,20210805,0149, 354, 24.2580, 133.3663, 4621,     75.6,   21.9363,  34.8608,2,    220.9,2,     -999,9,   220.53,2,     1.78,2,     0.03,2,     0.00,2,    0.020,2,     -999,9,     -999,9,     -999,9,     -999,9,     -999,9,     -999,     -999,9,     -999,9,     -999,9,     -999,9,  21.9214,2,  24.1341,2,  21.9339,2
49UP20210719_2,   P03,    20,  1,     32,     841,2,20210805,0149, 352, 24.2580, 133.3663, 4621,    100.1,   21.0416,  34.8599,2,    211.7,2,     -999,9,   212.47,2,     1.87,2,     0.08,2,     0.00,2,    0.030,2,     -999,9,     -999,9,     -999,9,     -999,9,     -999,9,     -999,     -999,9,     -999,9,     -999,9,     -999,9,  21.0225,2,  24.3811,2,  21.0384,2
49UP20210719_2,   P03,    20,  1,     31,     840,2,20210805,0149, 350, 24.2580, 133.3663, 4621,    124.7,   20.0544,  34.8470,2,    195.1,2,     -999,9,   193.83,2,     2.70,2,     2.39,2,     0.04,2,    0.170,2,     -999,9,     -999,9,     -999,9,     -999,9,     -999,9,     -999,     -999,9,     -999,9,     -999,9,     -999,9,  20.0314,2,  24.6368,2,  20.0770,2
49UP20210719_2,   P03,    20,  1,     30,     839,2,20210805,0149, 348, 24.2580, 133.3663, 4621,    150.3,   19.4454,  34.8474,2,    188.1,2,     -999,9,   188.18,2,     3.34,2,     3.55,2,     0.02,2,    0.250,2,     -999,9,     -999,9,     -999,9,     -999,9,     -999,9,     -999,     -999,9,     -999,9,     -999,9,     -999,9,  19.4182,2,  24.7972,2,  19.4446,2
49UP20210719_2,   P03,    20,  1,     29,     838,2,20210805,0149, 346, 24.2580, 133.3663, 4621,    202.0,   17.9750,  34.7807,2,    199.0,2,     -999,9,   199.59,2,     4.01,2,     4.37,2,     0.01,2,    0.290,2,     -999,9,     -999,9,     -999,9,     -999,9,     -999,9,     -999,     -999,9,     -999,9,     -999,9,     -999,9,  17.9404,2,  25.1187,2,  17.9741,2
49UP20210719_2,   P03,    20,  1,     28,     755,2,20210805,0149, 344, 24.2580, 133.3663, 4621,    251.7,   17.1643,  34.7464,2,    198.0,2,     -999,9,   198.12,2,     5.44,2,     5.64,2,     0.00,2,    0.370,2,     -999,9,     -999,9,     -999,9,     -999,9,     -999,9,     -999,     -999,9,     -999,9,     -999,9,     -999,9,  17.1225,2,  25.2904,2,  17.1652,2
49UP20210719_2,   P03,    20,  1,     27,     754,2,20210805,0149, 342, 24.2580, 133.3663, 4621,    281.2,   16.2800,  34.6843,2,    193.1,2,     -999,9,   193.77,6,     7.17,6,     7.39,6,     0.00,6,    0.490,6,     -999,9,     -999,9,     -999,9,     -999,9,     -999,9,     -999,     -999,9,     -999,9,     -999,9,     -999,9,  16.2350,2,  25.4509,2,  16.2717,2
49UP20210719_2,   P03,    20,  1,     26,     835,2,20210805,0149, 339, 24.2580, 133.3663, 4621,    372.3,   13.4677,  34.4588,2,    183.4,2,     -999,9,   183.15,2,    15.46,2,    12.68,2,     0.00,2,    0.870,2,     -999,9,     -999,9,     -999,9,     -999,9,     -999,9,     -999,     -999,9,     -999,9,     -999,9,     -999,9,  13.4152,2,  25.8897,2,  13.4669,2
49UP20210719_2,   P03,    20,  1,     25,     834,2,20210805,0149, 336, 24.2580, 133.3663, 4621,    472.0,   10.5663,  34.2609,2,    167.6,2,     -999,9,   167.77,2,    28.75,2,    19.04,2,     0.00,2,    1.330,2,     -999,9,     -999,9,     -999,9,     -999,9,     -999,9,     -999,     -999,9,     -999,9,     -999,9,     -999,9,  10.5093,2,  26.2870,2,  10.5634,2
49UP20210719_2,   P03,    20,  1,     24,     753,2,20210805,0149, 333, 24.2580, 133.3663, 4621,    574.6,    7.5630,  34.1396,2,    129.6,2,     -999,9,   128.85,2,    53.66,2,    27.86,2,     0.00,2,    1.990,2,     -999,9,     -999,9,     -999,9,     -999,9,     -999,9,     -999,     -999,9,     -999,9,     -999,9,     -999,9,   7.5060,2,  26.6701,2,   7.5689,2
49UP20210719_2,   P03,    20,  1,     23,     832,2,20210805,0149, 330, 24.2580, 133.3663, 4621,    673.5,    5.8755,  34.1762,2,     92.0,2,     -999,9,    91.79,2,    78.41,2,    34.20,2,     0.00,2,    2.440,2,     -999,9,     -999,9,     -999,9,     -999,9,     -999,9,     -999,     -999,9,     -999,9,     -999,9,     -999,9,   5.8168,2,  26.9246,2,   5.8730,2
49UP20210719_2,   P03,    20,  1,     22,     831,3,20210805,0149, 327, 24.2580, 133.3663, 4621,    776.1,    4.7072,  34.2360,2,     66.3,2,     -999,9,    66.31,2,    98.62,2,    38.26,2,     0.00,2,    2.730,2,     -999,9,     -999,9,     -999,9,     -999,9,     -999,9,     -999,     -999,9,     -999,9,     -999,9,     -999,9,   4.6459,2,  27.1094,2,   4.7071,2
49UP20210719_2,   P03,    20,  1,     21,     830,2,20210805,0149, 324, 24.2580, 133.3663, 4621,    878.3,    4.1957,  34.3035,2,     59.8,2,     -999,9,    59.38,2,   110.52,2,    39.60,2,     0.00,2,    2.820,2,     -999,9,     -999,9,     -999,9,     -999,9,     -999,9,     -999,     -999,9,     -999,9,     -999,9,     -999,9,   4.1290,2,  27.2187,2,   4.1956,2
49UP20210719_2,   P03,    20,  1,     20,     829,2,20210805,0149, 321, 24.2580, 133.3663, 4621,    979.7,    3.7117,  34.3680,2,     58.0,2,     -999,9,    57.59,6,   121.52,6,    40.35,6,     0.00,6,    2.870,6,     -999,9,     -999,9,     -999,9,     -999,9,     -999,9,     -999,     -999,9,     -999,9,     -999,9,     -999,9,   3.6401,2,  27.3198,2,   3.7121,2
49UP20210719_2,   P03,    20,  1,     19,     828,3,20210805,0149, 315, 24.2580, 133.3663, 4621,   1141.3,    3.1244,  34.4483,2,     63.5,2,     -999,9,    63.20,2,   133.86,2,    40.65,2,     0.00,2,    2.880,2,     -999,9,     -999,9,     -999,9,     -999,9,     -999,9,     -999,     -999,9,     -999,9,     -999,9,     -999,9,   3.0447,2,  27.4406,2,   3.1251,2
49UP20210719_2,   P03,    20,  1,     18,     752,2,20210805,0149, 315, 24.2580, 133.3663, 4621,   1141.3,    3.1252,  34.4484,2,     63.5,2,     -999,9,    62.95,2,   134.14,2,    40.78,2,     0.00,2,    2.880,2,     -999,9,     -999,9,     -999,9,     -999,9,     -999,9,     -999,     -999,9,     -999,9,     -999,9,     -999,9,   3.0455,2,  27.4406,2,   3.1262,2
49UP20210719_2,   P03,    20,  1,     17,     751,2,20210805,0149, 310, 24.2580, 133.3663, 4621,   1344.3,    2.7511,  34.5021,2,     73.1,2,     -999,9,    72.87,2,   140.77,2,    40.41,2,     0.00,2,    2.870,2,     -999,9,     -999,9,     -999,9,     -999,9,     -999,9,     -999,     -999,9,     -999,9,     -999,9,     -999,9,   2.6589,2,  27.5181,2,   2.7511,2
49UP20210719_2,   P03,    20,  1,     16,     328,2,20210805,0149, 305, 24.2580, 133.3663, 4621,   1545.2,    2.3404,  34.5538,2,     87.6,2,     -999,9,    87.40,2,   146.09,2,    39.75,2,     0.00,2,    2.800,2,     -999,9,     -999,9,     -999,9,     -999,9,     -999,9,     -999,     -999,9,     -999,9,     -999,9,     -999,9,   2.2367,2,  27.5951,2,   2.3404,2
49UP20210719_2,   P03,    20,  1,     15,     822,2,20210805,0149, 259, 24.2580, 133.3663, 4621,   1749.1,    2.1349,  34.5839,2,     99.8,2,     -999,9,    99.51,2,   146.85,2,    39.06,2,     0.00,2,    2.740,2,     -999,9,     -999,9,     -999,9,     -999,9,     -999,9,     -999,     -999,9,     -999,9,     -999,9,     -999,9,   2.0174,2,  27.6369,2,   2.1345,2
49UP20210719_2,   P03,    20,  1,     14,     326,3,20210805,0149, 254, 24.2580, 133.3663, 4621,   1953.1,    1.9635,  34.6117,2,    113.1,2,     -999,9,   112.93,2,   145.97,2,    38.30,2,     0.00,2,    2.680,2,     -999,9,     -999,9,     -999,9,     -999,9,     -999,9,     -999,     -999,9,     -999,9,     -999,9,     -999,9,   1.8316,2,  27.6737,2,   1.9636,2
49UP20210719_2,   P03,    20,  1,     13,     325,2,20210805,0149, 249, 24.2580, 133.3663, 4621,   2155.3,    1.8192,  34.6312,2,    123.1,2,     -999,9,   122.91,2,   146.09,2,    37.72,2,     0.00,2,    2.630,2,     -999,9,     -999,9,     -999,9,     -999,9,     -999,9,     -999,     -999,9,     -999,9,     -999,9,     -999,9,   1.6726,2,  27.7015,2,   1.8194,2
49UP20210719_2,   P03,    20,  1,     12,     324,2,20210805,0149, 244, 24.2580, 133.3663, 4621,   2358.1,    1.7026,  34.6466,2,    131.8,2,     -999,9,   131.52,2,   145.79,2,    37.27,2,     0.00,2,    2.600,2,     -999,9,     -999,9,     -999,9,     -999,9,     -999,9,     -999,     -999,9,     -999,9,     -999,9,     -999,9,   1.5404,2,  27.7236,2,   1.7024,2
49UP20210719_2,   P03,    20,  1,     11,     323,2,20210805,0149, 239, 24.2580, 133.3663, 4621,   2562.4,    1.6439,  34.6550,2,    136.7,2,     -999,9,   136.53,2,   145.35,2,    36.90,2,     0.00,2,    2.570,2,     -999,9,     -999,9,     -999,9,     -999,9,     -999,9,     -999,     -999,9,     -999,9,     -999,9,     -999,9,   1.4647,2,  27.7359,2,   1.6438,2
49UP20210719_2,   P03,    20,  1,     10,     322,2,20210805,0149, 235, 24.2580, 133.3663, 4621,   2764.2,    1.5995,  34.6617,2,    141.0,2,     -999,9,   140.56,6,   145.16,6,    36.69,6,     0.00,6,    2.550,6,     -999,9,     -999,9,     -999,9,     -999,9,     -999,9,     -999,     -999,9,     -999,9,     -999,9,     -999,9,   1.4028,2,  27.7457,2,   1.5995,2
49UP20210719_2,   P03,    20,  1,      9,     750,2,20210805,0149, 230, 24.2580, 133.3663, 4621,   2968.9,    1.5583,  34.6679,2,    145.2,2,     -999,9,   145.17,2,   144.81,2,    36.46,2,     0.00,2,    2.530,2,     -999,9,     -999,9,     -999,9,     -999,9,     -999,9,     -999,     -999,9,     -999,9,     -999,9,     -999,9,   1.3432,2,  27.7549,2,   1.5582,2
49UP20210719_2,   P03,    20,  1,      8,     320,2,20210805,0149, 230, 24.2580, 133.3663, 4621,   2970.1,    1.5580,  34.6681,2,    145.2,2,     -999,9,   144.83,2,   144.66,2,    36.44,2,     0.00,2,    2.530,2,     -999,9,     -999,9,     -999,9,     -999,9,     -999,9,     -999,     -999,9,     -999,9,     -999,9,     -999,9,   1.3428,2,  27.7551,2,   1.5583,2
49UP20210719_2,   P03,    20,  1,      7,     319,2,20210805,0149, 224, 24.2580, 133.3663, 4621,   3216.0,    1.5393,  34.6726,2,    148.3,2,     -999,9,   148.31,2,   144.35,2,    36.40,2,     0.00,2,    2.510,2,     -999,9,     -999,9,     -999,9,     -999,9,     -999,9,     -999,     -999,9,     -999,9,     -999,9,     -999,9,   1.3007,2,  27.7617,2,   1.5394,2
49UP20210719_2,   P03,    20,  1,      6,     318,3,20210805,0149, 218, 24.2580, 133.3663, 4621,   3470.1,    1.5294,  34.6763,2,    151.0,2,     -999,9,   150.90,2,   143.36,2,    36.04,2,     0.00,2,    2.500,2,     -999,9,     -999,9,     -999,9,     -999,9,     -999,9,     -999,     -999,9,     -999,9,     -999,9,     -999,9,   1.2656,2,  27.7671,2,   1.5295,2
49UP20210719_2,   P03,    20,  1,      5,     317,2,20210805,0149, 212, 24.2580, 133.3663, 4621,   3726.6,    1.5299,  34.6786,2,    153.0,2,     -999,9,   153.12,2,   143.32,2,    35.95,2,     0.00,2,    2.490,2,     -999,9,     -999,9,     -999,9,     -999,9,     -999,9,     -999,     -999,9,     -999,9,     -999,9,     -999,9,   1.2395,2,  27.7708,2,   1.5298,2
49UP20210719_2,   P03,    20,  1,      4,     316,2,20210805,0149, 207, 24.2580, 133.3663, 4621,   3981.7,    1.5392,  34.6803,2,    154.5,2,     -999,9,   154.49,2,   143.07,2,    35.89,2,     0.00,2,    2.480,2,     -999,9,     -999,9,     -999,9,     -999,9,     -999,9,     -999,     -999,9,     -999,9,     -999,9,     -999,9,   1.2212,2,  27.7735,2,   1.5391,2
49UP20210719_2,   P03,    20,  1,      3,     315,2,20210805,0149, 201, 24.2580, 133.3663, 4621,   4238.6,    1.5605,  34.6810,2,    155.2,2,     -999,9,   154.94,2,   142.70,2,    35.91,2,     0.00,2,    2.480,2,     -999,9,     -999,9,     -999,9,     -999,9,     -999,9,     -999,     -999,9,     -999,9,     -999,9,     -999,9,   1.2135,2,  27.7745,2,   1.5605,2
49UP20210719_2,   P03,    20,  1,      2,     314,2,20210805,0149, 155, 24.2580, 133.3663, 4621,   4495.1,    1.5844,  34.6816,2,    155.7,2,     -999,9,   155.76,6,   142.55,6,    35.91,6,     0.00,6,    2.480,6,     -999,9,     -999,9,     -999,9,     -999,9,     -999,9,     -999,     -999,9,     -999,9,     -999,9,     -999,9,   1.2074,2,  27.7754,2,   1.5843,2
49UP20210719_2,   P03,    20,  1,      1,     811,2,20210805,0149, 150, 24.2580, 133.3663, 4621,   4700.5,    1.6053,  34.6819,2,    156.2,2,     -999,9,   156.45,2,   142.46,2,    35.85,2,     0.00,2,    2.470,2,     -999,9,     -999,9,     -999,9,     -999,9,     -999,9,     -999,     -999,9,     -999,9,     -999,9,     -999,9,   1.2036,2,  27.7760,2,   1.6051,2